BOTTLE,20240211CCHSIOCBG
EXPOCODE,SECT_ID,STNNBR,CASTNO,SAMPNO,BTLNBR,BTLNBR_FLAG_W,DATE,TIME,LATITUDE,LONGITUDE,DEPTH,CTDPRS,CTDTMP,CTDSAL,CTDSAL_FLAG_W,SALNTY,SALNTY_FLAG_W,CTDOXY,CTDOXY_FLAG_W,OXYGEN,OXYGEN_FLAG_W,SILCAT,SILCAT_FLAG_W,NITRAT,NITRAT_FLAG_W,NITRIT,NITRIT_FLAG_W,PHSPHT,PHSPHT_FLAG_W,CFC-11,CFC-11_FLAG_W,CFC-12,CFC-12_FLAG_W,SF6,SF6_FLAG_W,TCARBN,TCARBN_FLAG_W,ALKALI,ALKALI_FLAG_W,PH_TOT,PH_TOT_FLAG_W,PH_TMP,DELC13,DELC13_FLAG_W,DELC14,DELC14_FLAG_W,C14ERR,DOC,DOC_FLAG_W,TDN,TDN_FLAG_W,TON,TON_FLAG_W,D15N_NO3,D15N_NO3_FLAG_W,BTL_DATE,BTL_TIME,BTL_LAT,BTL_LON,CTDRINKO,CTDRINKO_FLAG_W,CTDFLUOR,CTDFLUOR_FLAG_W,CTDXMISS,CTDXMISS_FLAG_W,CTDBACKSCATTER,CTDBACKSCATTER_FLAG_W,D18O_NO3,D18O_NO3_FLAG_W,DOP,DOP_FLAG_W,CELLCOUNT,CELLCOUNT_FLAG_W,TDP,TDP_FLAG_W,POP,POP_FLAG_W,DATP,DATP_FLAG_W,PATP,PATP_FLAG_W,HPLC,HPLC_FLAG_W,POC,POC_FLAG_W,BEAMAP,BEAMAP_FLAG_W,DOC_NASA,DOC_NASA_FLAG_W,REFTMP,REFTMP_FLAG_W,DOC_NASA_ERROR,TDN_NASA,TDN_NASA_FLAG_W,TDN_NASA_ERROR
,,,,,,,,,,,METERS,DBAR,ITS-90,PSS-78,,PSS-78,,UMOL/KG,,UMOL/KG,,UMOL/KG,,UMOL/KG,,UMOL/KG,,UMOL/KG,,PMOL/KG,,PMOL/KG,,FMOL/KG,,UMOL/KG,,UMOL/KG,,,,DEG C,/MILLE,,/MILLE,,/MILLE,UMOL/KG,,UMOL/KG,,UMOL/KG,,/MILLE,,,,,,VOLTS,,VOLTS,,VOLTS,,VOLTS,,/MILLE,,UMOL/KG,,/LITER,,UMOL/KG,,UMOL/L,,PMOL/L,,PMOL/L,,,,UG/L,,/METER,,UMOL/L,,ITS-90,,UMOL/L,UMOL/L,,UMOL/L
320620170820,        P06,     145,          1,          1,          1,2,20170825,       0930,   -32.4997,  -148.1799,       4623,  4702.3,   1.2713,  34.7045,2,  34.7068,3, 194.7134,3, 196.2827,2,   119.7,2,   32.67,2,    0.00,2,    2.25,2,   0.040,2,   0.038,2,   0.0000,2,  2272.1,6,  2377.9,2,   7.6066,6,    25.00, -999.00,9, -999.00,9, -999.00,  -999.0,9, -999.00,9,     -999.0,9,  -999.0,9, 20170825,      930, -32.5003,-148.1794,        0.0,1,      0.060,1,      4.697,1,      0.123,1,     -999.0,9,     -999.0,9,     -999.0,9,     -999.0,9,     -999.0,9,     -999.0,9,     -999.0,9,     -999.0,9,     -999.0,9,     -999.0,9,     -999.0,9,     1.2716,2,     -999.0,     -999.0,9,     -999.0
320620170820,        P06,     145,          1,          2,          2,2,20170825,       0930,   -32.4997,  -148.1799,       4623,  4529.1,   1.2591,  34.7047,2,  34.7054,3, 194.7134,3, 195.7861,2,   119.9,2,   32.69,2,    0.00,2,    2.27,2,   0.038,2,   0.038,2,   0.0000,2,  -999.0,9,  -999.0,9,-999.0000,9,  -999.00, -999.00,9, -999.00,9, -999.00,  -999.0,9, -999.00,9,     -999.0,9,  -999.0,9, 20170825,      935, -32.5004,-148.1793,        0.0,1,      0.061,1,      4.698,1,      0.123,1,     -999.0,9,     -999.0,9,     -999.0,9,     -999.0,9,     -999.0,9,     -999.0,9,     -999.0,9,     -999.0,9,     -999.0,9,     -999.0,9,     -999.0,9,     1.2592,2,     -999.0,     -999.0,9,     -999.0
320620170820,        P06,     145,          1,          3,          3,2,20170825,       0930,   -32.4997,  -148.1799,       4623,  4371.9,   1.2627,  34.7037,2,  34.7052,3, 194.8523,3, 193.5723,2,   119.9,2,   32.72,2,    0.00,2,    2.26,2,   0.037,2,   0.036,2,   0.0000,2,  2272.8,2,  2379.7,6,   7.6057,2,    25.00, -999.00,9, -999.00,9, -999.00,  -999.0,9, -999.00,9,     -999.0,9,  -999.0,9, 20170825,      939, -32.5001,-148.1794,        0.0,1,      0.061,1,      4.698,1,      0.122,1,     -999.0,9,     -999.0,9,     -999.0,9,     -999.0,9,     -999.0,9,     -999.0,9,     -999.0,9,     -999.0,9,     -999.0,9,     -999.0,9,     -999.0,9,     1.2625,2,     -999.0,     -999.0,9,     -999.0
320620170820,        P06,     145,          1,          4,          4,2,20170825,       0930,   -32.4997,  -148.1799,       4623,  4064.2,   1.3050,  34.7016,2,  34.7019,3, 190.4458,2, 189.5019,2,   120.6,2,   33.04,2,    0.00,2,    2.28,2,   0.036,2,   0.034,2,   0.0000,2,  -999.0,9,  -999.0,9,-999.0000,9,  -999.00, -999.00,9, -999.00,9, -999.00,  -999.0,9, -999.00,9,     -999.0,9,  -999.0,9, 20170825,      945, -32.4999,-148.1796,        0.0,1,      0.061,1,      4.699,1,      0.125,1,     -999.0,9,     -999.0,9,     -999.0,9,     -999.0,9,     -999.0,9,     -999.0,9,     -999.0,9,     -999.0,9,     -999.0,9,     -999.0,9,     -999.0,9,     1.3070,2,     -999.0,     -999.0,9,     -999.0
320620170820,        P06,     145,          1,          5,          5,2,20170825,       0930,   -32.4997,  -148.1799,       4623,  3758.8,   1.3971,  34.6977,2,  34.6995,3,  183.582,2, 184.0262,2,   121.5,2,   33.40,2,    0.00,2,    2.31,2,   0.036,2,   0.035,2,   0.0000,2,  2281.7,2,  2386.3,2,   7.5993,2,    25.00, -999.00,9, -999.00,9, -999.00,  -999.0,9, -999.00,9,     -999.0,9,  -999.0,9, 20170825,      953, -32.5001,-148.1795,        0.0,1,      0.061,1,      4.699,1,      0.124,1,     -999.0,9,     -999.0,9,     -999.0,9,     -999.0,9,     -999.0,9,     -999.0,9,     -999.0,9,     -999.0,9,     -999.0,9,     -999.0,9,     -999.0,9,     1.3847,2,     -999.0,     -999.0,9,     -999.0
320620170820,        P06,     145,          1,          6,          6,2,20170825,       0930,   -32.4997,  -148.1799,       4623,  3452.8,   1.5218,  34.6901,2,  34.6908,3,  173.844,2, 173.1521,2,   123.9,2,   34.09,2,    0.00,2,    2.35,2,   0.034,2,   0.035,2,   0.0000,2,  -999.0,9,  -999.0,9,-999.0000,9,  -999.00, -999.00,9, -999.00,9, -999.00,  -999.0,9, -999.00,9,     -999.0,9,  -999.0,9, 20170825,     1001, -32.5001,-148.1795,        0.0,1,      0.061,1,      4.699,1,      0.125,1,     -999.0,9,     -999.0,9,     -999.0,9,     -999.0,9,     -999.0,9,     -999.0,9,     -999.0,9,     -999.0,9,     -999.0,9,     -999.0,9,     -999.0,9,     1.5177,2,     -999.0,     -999.0,9,     -999.0
320620170820,        P06,     145,          1,          7,          7,2,20170825,       0930,   -32.4997,  -148.1799,       4623,  3145.4,   1.6453,  34.6788,2,  34.6806,2,  164.308,3, 163.0857,2,   126.4,2,   34.87,2,    0.00,2,    2.40,2,   0.032,2,   0.030,2,   0.0000,2,  2302.9,2,  2400.4,2,   7.5840,2,    25.00, -999.00,9, -999.00,9, -999.00,  -999.0,9, -999.00,9,     -999.0,9,  -999.0,9, 20170825,     1009, -32.5001,-148.1795,        0.0,1,      0.061,1,      4.699,1,      0.124,1,     -999.0,9,     -999.0,9,     -999.0,9,     -999.0,9,     -999.0,9,     -999.0,9,     -999.0,9,     -999.0,9,     -999.0,9,     -999.0,9,     -999.0,9,     1.6340,2,     -999.0,     -999.0,9,     -999.0
320620170820,        P06,     145,          1,          8,          8,2,20170825,       0930,   -32.4997,  -148.1799,       4623,  2873.7,   1.7360,  34.6706,2,  34.6720,2, 158.0019,3, 156.7202,2,   127.6,2,   35.33,2,    0.00,2,    2.44,2,   0.031,2,   0.029,2,   0.0000,2,  -999.0,9,  -999.0,9,-999.0000,9,  -999.00, -999.00,9, -999.00,9, -999.00,  -999.0,9, -999.00,9,     -999.0,9,  -999.0,9, 20170825,     1016, -32.5008,-148.1793,        0.0,1,      0.061,1,      4.699,1,      0.129,1,     -999.0,9,     -999.0,9,     -999.0,9,     -999.0,9,     -999.0,9,     -999.0,9,     -999.0,9,     -999.0,9,     -999.0,9,     -999.0,9,     -999.0,9,     1.7216,2,     -999.0,     -999.0,9,     -999.0
320620170820,        P06,     145,          1,          9,          9,2,20170825,       0930,   -32.4997,  -148.1799,       4623,  2617.5,   1.8264,  34.6630,2,  34.6633,2, 153.0692,2,  152.502,2,   126.2,2,   35.63,2,    0.00,2,    2.46,2,   0.029,2,   0.029,2,   0.0000,2,  2309.9,2,  2404.3,2,   7.5735,2,    25.00, -999.00,9, -999.00,9, -999.00,  -999.0,9, -999.00,9,     -999.0,9,  -999.0,9, 20170825,     1024, -32.5005,-148.1794,        0.0,1,      0.061,1,      4.700,1,      0.127,1,     -999.0,9,     -999.0,9,     -999.0,9,     -999.0,9,     -999.0,9,     -999.0,9,     -999.0,9,     -999.0,9,     -999.0,9,     -999.0,9,     -999.0,9,     1.8250,2,     -999.0,     -999.0,9,     -999.0
320620170820,        P06,     145,          1,         10,         10,2,20170825,       0930,   -32.4997,  -148.1799,       4623,  2366.2,   1.9448,  34.6529,2,  34.6592,2, 150.7507,2, 150.9098,2,   121.3,2,   35.66,2,    0.00,2,    2.48,2,   0.031,2,   0.027,2,   0.0000,2,  -999.0,9,  -999.0,9,-999.0000,9,  -999.00, -999.00,9, -999.00,9, -999.00,  -999.0,9, -999.00,9,     -999.0,9,  -999.0,9, 20170825,     1030, -32.5005,-148.1793,        0.0,1,      0.061,1,      4.700,1,      0.129,1,     -999.0,9,     -999.0,9,     -999.0,9,     -999.0,9,     -999.0,9,     -999.0,9,     -999.0,9,     -999.0,9,     -999.0,9,     -999.0,9,     -999.0,9,     1.9550,2,     -999.0,     -999.0,9,     -999.0
320620170820,        P06,     145,          1,         11,         11,2,20170825,       0930,   -32.4997,  -148.1799,       4623,  2108.2,   2.1046,  34.6374,2,  34.6398,2, 151.0236,2, 152.2118,2,   114.4,2,   35.51,2,    0.00,2,    2.46,2,   0.032,2,   0.029,2,   0.0000,2,  2300.3,6,  2392.3,2,   7.5702,2,    25.00, -999.00,9, -999.00,9, -999.00,  -999.0,9, -999.00,9,     -999.0,9,  -999.0,9, 20170825,     1037, -32.5007,-148.1793,        0.0,1,      0.061,1,      4.700,1,      0.127,1,     -999.0,9,     -999.0,9,     -999.0,9,     -999.0,9,     -999.0,9,     -999.0,9,     -999.0,9,     -999.0,9,     -999.0,9,     -999.0,9,     -999.0,9,     2.0992,2,     -999.0,     -999.0,9,     -999.0
320620170820,        P06,     145,          1,         12,         12,2,20170825,       0930,   -32.4997,  -148.1799,       4623,  1886.2,   2.2957,  34.6150,2,  34.6179,2, 152.8663,2, 153.7639,2,   105.4,2,   35.27,2,    0.00,2,    2.45,2,   0.033,2,   0.027,2,   0.0000,2,  -999.0,9,  -999.0,9,-999.0000,9,  -999.00, -999.00,9, -999.00,9, -999.00,  -999.0,9, -999.00,9,     -999.0,9,  -999.0,9, 20170825,     1043, -32.5003,-148.1795,        0.0,1,      0.061,1,      4.699,1,      0.129,1,     -999.0,9,     -999.0,9,     -999.0,9,     -999.0,9,     -999.0,9,     -999.0,9,     -999.0,9,     -999.0,9,     -999.0,9,     -999.0,9,     -999.0,9,     2.2758,2,     -999.0,     -999.0,9,     -999.0
320620170820,        P06,     145,          1,         13,         13,2,20170825,       0930,   -32.4997,  -148.1799,       4623,  1682.8,   2.5259,  34.5758,2,  34.5763,2,  157.641,2, 158.8314,2,    91.1,2,   34.96,2,    0.00,2,    2.42,2,   0.044,2,   0.035,2,   0.0000,2,  2273.1,2,  2365.4,2,   7.5697,2,    25.00, -999.00,9, -999.00,9, -999.00,  -999.0,9, -999.00,9,     -999.0,9,  -999.0,9, 20170825,     1049, -32.5003,-148.1795,        0.0,1,      0.061,1,      4.700,1,      0.130,1,     -999.0,9,     -999.0,9,     -999.0,9,     -999.0,9,     -999.0,9,     -999.0,9,     -999.0,9,     -999.0,9,     -999.0,9,     -999.0,9,     -999.0,9,     2.5247,2,     -999.0,     -999.0,9,     -999.0
320620170820,        P06,     145,          1,         14,         14,2,20170825,       0930,   -32.4997,  -148.1799,       4623,  1552.4,   2.6831,  34.5444,2,  34.5400,2, 162.1448,2, 162.8679,2,    81.4,2,   34.77,2,    0.00,2,    2.41,2,   0.064,2,   0.046,2,   0.0000,2,  -999.0,9,  -999.0,9,-999.0000,9,  -999.00, -999.00,9, -999.00,9, -999.00,  -999.0,9, -999.00,9,     -999.0,9,  -999.0,9, 20170825,     1054, -32.5006,-148.1793,        0.0,1,      0.061,1,      4.700,1,      0.131,1,     -999.0,9,     -999.0,9,     -999.0,9,     -999.0,9,     -999.0,9,     -999.0,9,     -999.0,9,     -999.0,9,     -999.0,9,     -999.0,9,     -999.0,9,     2.7066,2,     -999.0,     -999.0,9,     -999.0
320620170820,        P06,     145,          1,         15,         15,2,20170825,       0930,   -32.4997,  -148.1799,       4623,  1450.8,   2.9168,  34.4967,2,  34.5040,2, 166.1731,2, 166.8676,2,    73.1,2,   34.57,2,    0.00,2,    2.39,2,   0.104,2,   0.070,2,   0.0000,2,  2253.2,2,  2343.4,2,   7.5709,2,    25.00, -999.00,9, -999.00,9, -999.00,  -999.0,9, -999.00,9,     -999.0,9,  -999.0,9, 20170825,     1059, -32.5006,-148.1794,        0.0,1,      0.060,1,      4.700,1,      0.130,1,     -999.0,9,     -999.0,9,     -999.0,9,     -999.0,9,     -999.0,9,     -999.0,9,     -999.0,9,     -999.0,9,     -999.0,9,     -999.0,9,     -999.0,9,     2.8801,2,     -999.0,     -999.0,9,     -999.0
320620170820,        P06,     145,          1,         16,         16,2,20170825,       0930,   -32.4997,  -148.1799,       4623,  1347.8,   3.1545,  34.4485,2,  34.4585,2, 172.2462,2, 172.6977,2,    63.2,2,   34.24,2,    0.00,2,    2.37,2,   0.205,2,   0.125,2,   0.0000,2,  -999.0,9,  -999.0,9,-999.0000,9,  -999.00, -999.00,9, -999.00,9, -999.00,  -999.0,9, -999.00,9,     -999.0,9,  -999.0,9, 20170825,     1103, -32.5001,-148.1796,        0.0,1,      0.060,1,      4.700,1,      0.131,1,     -999.0,9,     -999.0,9,     -999.0,9,     -999.0,9,     -999.0,9,     -999.0,9,     -999.0,9,     -999.0,9,     -999.0,9,     -999.0,9,     -999.0,9,     3.0961,2,     -999.0,     -999.0,9,     -999.0
320620170820,        P06,     145,          1,         17,         17,2,20170825,       0930,   -32.4997,  -148.1799,       4623,  1248.3,   3.4429,  34.4031,2,  34.4019,2, 181.0823,2, 182.1375,2,    51.4,2,   33.55,2,    0.00,2,    2.31,2,   0.474,2,   0.257,2,   0.0000,2,  2224.6,2,  2320.0,2,   7.5835,2,    25.00, -999.00,9, -999.00,9, -999.00,  -999.0,9, -999.00,9,     -999.0,9,  -999.0,9, 20170825,     1107, -32.4999,-148.1797,        0.0,1,      0.061,1,      4.700,1,      0.130,1,     -999.0,9,     -999.0,9,     -999.0,9,     -999.0,9,     -999.0,9,     -999.0,9,     -999.0,9,     -999.0,9,     -999.0,9,     -999.0,9,     -999.0,9,     3.4348,2,     -999.0,     -999.0,9,     -999.0
320620170820,        P06,     145,          1,         18,         18,2,20170825,       0930,   -32.4997,  -148.1799,       4623,  1146.6,   3.9466,  34.3526,2,  34.3539,2, 192.4838,2, 192.3475,2,    39.6,2,   32.28,2,    0.00,2,    2.21,2,   0.750,2,   0.435,2,   0.0000,2,  -999.0,9,  -999.0,9,-999.0000,9,  -999.00, -999.00,9, -999.00,9, -999.00,  -999.0,9, -999.00,9,     -999.0,9,  -999.0,9, 20170825,     1112, -32.5000,-148.1797,        0.0,1,      0.059,1,      4.700,1,      0.130,1,     -999.0,9,     -999.0,9,     -999.0,9,     -999.0,9,     -999.0,9,     -999.0,9,     -999.0,9,     -999.0,9,     -999.0,9,     -999.0,9,     -999.0,9,     3.9509,2,     -999.0,     -999.0,9,     -999.0
320620170820,        P06,     145,          1,         19,         19,2,20170825,       0930,   -32.4997,  -148.1799,       4623,  1045.2,   4.4697,  34.3260,2,  34.3290,3, 200.4692,2, 199.2553,2,    32.1,2,   31.12,2,    0.00,2,    2.13,2,   1.127,2,   0.569,2,   0.1571,2,  2196.1,2,  2302.5,2,   7.6175,2,    25.00, -999.00,9, -999.00,9, -999.00,  -999.0,9, -999.00,9,     -999.0,9,  -999.0,9, 20170825,     1117, -32.5001,-148.1796,        0.0,1,      0.059,1,      4.699,1,      0.131,1,     -999.0,9,     -999.0,9,     -999.0,9,     -999.0,9,     -999.0,9,     -999.0,9,     -999.0,9,     -999.0,9,     -999.0,9,     -999.0,9,     -999.0,9,     4.3929,2,     -999.0,     -999.0,9,     -999.0
320620170820,        P06,     145,          1,         20,         20,2,20170825,       0930,   -32.4997,  -148.1799,       4623,   943.2,   5.0413,  34.3087,2,  34.3097,2, 211.1943,2, 209.9966,2,    23.3,2,   29.25,2,    0.00,2,    1.98,2,   1.593,2,   0.828,2,   0.1981,2,  -999.0,9,  -999.0,9,-999.0000,9,  -999.00, -999.00,9, -999.00,9, -999.00,  -999.0,9, -999.00,9,     -999.0,9,  -999.0,9, 20170825,     1121, -32.5001,-148.1796,        0.0,1,      0.060,1,      4.699,1,      0.130,1,     -999.0,9,     -999.0,9,     -999.0,9,     -999.0,9,     -999.0,9,     -999.0,9,     -999.0,9,     -999.0,9,     -999.0,9,     -999.0,9,     -999.0,9,     4.9690,2,     -999.0,     -999.0,9,     -999.0
320620170820,        P06,     145,          1,         21,         21,2,20170825,       0930,   -32.4997,  -148.1799,       4623,   843.1,   5.5643,  34.3047,2,  34.3038,2, 224.6643,2, 223.5208,2,    15.5,2,   26.89,2,    0.00,2,    1.84,2,   2.250,2,   1.169,2,   0.3931,2,  2163.3,2,  2287.2,2,   7.6696,2,    25.00, -999.00,9, -999.00,9, -999.00,  -999.0,9, -999.00,9,     -999.0,9,  -999.0,9, 20170825,     1126, -32.5002,-148.1795,        0.0,1,      0.058,1,      4.698,1,      0.132,1,     -999.0,9,     -999.0,9,     -999.0,9,     -999.0,9,     -999.0,9,     -999.0,9,     -999.0,9,     -999.0,9,     -999.0,9,     -999.0,9,     -999.0,9,     5.6110,2,     -999.0,     -999.0,9,     -999.0
320620170820,        P06,     145,          1,         22,         22,2,20170825,       0930,   -32.4997,  -148.1799,       4623,   742.4,   6.2103,  34.3207,2,  34.3182,2, 236.1004,2, 235.9388,2,    10.2,2,   24.53,2,    0.00,2,    1.66,2,   2.940,2,   1.559,2,   0.6811,2,  -999.0,9,  -999.0,9,-999.0000,9,  -999.00, -999.00,9, -999.00,9, -999.00,  -999.0,9, -999.00,9,     -999.0,9,  -999.0,9, 20170825,     1130, -32.4999,-148.1796,        0.0,1,      0.059,1,      4.698,1,      0.131,1,     -999.0,9,     -999.0,9,     -999.0,9,     -999.0,9,     -999.0,9,     -999.0,9,     -999.0,9,     -999.0,9,     -999.0,9,     -999.0,9,     -999.0,9,     6.1960,2,     -999.0,     -999.0,9,     -999.0
320620170820,        P06,     145,          1,         23,         23,2,20170825,       0930,   -32.4997,  -148.1799,       4623,   639.3,   6.8470,  34.3595,2,  34.3470,2, 241.4942,2, 241.8424,2,     7.6,2,   22.80,2,    0.00,2,    1.53,2,   3.386,2,   1.832,2,   0.9751,2,  2146.4,2,  2284.6,2,   7.7072,2,    25.00, -999.00,9, -999.00,9, -999.00,  -999.0,9, -999.00,9,     -999.0,9,  -999.0,9, 20170825,     1135, -32.4998,-148.1798,        0.0,1,      0.059,1,      4.697,1,      0.134,1,     -999.0,9,     -999.0,9,     -999.0,9,     -999.0,9,     -999.0,9,     -999.0,9,     -999.0,9,     -999.0,9,     -999.0,9,     -999.0,9,     -999.0,9,     6.6954,2,     -999.0,     -999.0,9,     -999.0
320620170820,        P06,     145,          1,         24,         24,2,20170825,       0930,   -32.4997,  -148.1799,       4623,   538.4,   7.3339,  34.3977,2,  34.3839,2,   243.72,2, 243.8482,2,     6.0,2,   21.23,2,    0.00,2,    1.45,2,   3.562,2,   1.971,2,   1.2741,2,  -999.0,9,  -999.0,9,-999.0000,9,  -999.00, -999.00,9, -999.00,9, -999.00,  -999.0,9, -999.00,9,     -999.0,9,  -999.0,9, 20170825,     1139, -32.5004,-148.1796,        0.0,1,      0.060,1,      4.696,1,      0.135,1,     -999.0,9,     -999.0,9,     -999.0,9,     -999.0,9,     -999.0,9,     -999.0,9,     -999.0,9,     -999.0,9,     -999.0,9,     -999.0,9,     -999.0,9,     7.1875,2,     -999.0,     -999.0,9,     -999.0
320620170820,        P06,     145,          1,         25,         25,2,20170825,       0930,   -32.4997,  -148.1799,       4623,   470.3,   7.7818,  34.4329,2,  34.4161,2, 243.8844,2, 244.2674,2,     4.8,2,   19.88,2,    0.00,2,    1.36,2,   3.590,2,   2.010,2,   1.3301,2,  2139.3,2,  2284.9,2,   7.7251,2,    25.00, -999.00,9, -999.00,9, -999.00,  -999.0,9, -999.00,9,     -999.0,9,  -999.0,9, 20170825,     1144, -32.5002,-148.1797,        0.0,1,      0.059,1,      4.696,1,      0.135,1,     -999.0,9,     -999.0,9,     -999.0,9,     -999.0,9,     -999.0,9,     -999.0,9,     -999.0,9,     -999.0,9,     -999.0,9,     -999.0,9,     -999.0,9,     7.5941,2,     -999.0,     -999.0,9,     -999.0
320620170820,        P06,     145,          1,         26,         26,2,20170825,       0930,   -32.4997,  -148.1799,       4623,   416.3,   8.2982,  34.4732,2,  34.4463,2, 240.5238,2, 240.7276,2,     4.2,2,   18.86,2,    0.00,2,    1.30,2,   3.492,2,   1.974,2,   1.2611,2,  2137.5,2,  2284.5,2,   7.7298,6,    25.00, -999.00,9, -999.00,9, -999.00,  -999.0,9, -999.00,9,     -999.0,9,  -999.0,9, 20170825,     1146, -32.5000,-148.1797,        0.0,1,      0.059,1,      4.695,1,      0.135,1,     -999.0,9,     -999.0,9,     -999.0,9,     -999.0,9,     -999.0,9,     -999.0,9,     -999.0,9,     -999.0,9,     -999.0,9,     -999.0,9,     -999.0,9,     7.9738,2,     -999.0,     -999.0,9,     -999.0