BOTTLE,20240211CCHSIOCBG
EXPOCODE,SECT_ID,STNNBR,CASTNO,SAMPNO,BTLNBR,BTLNBR_FLAG_W,DATE,TIME,LATITUDE,LONGITUDE,DEPTH,CTDPRS,CTDTMP,CTDSAL,CTDSAL_FLAG_W,SALNTY,SALNTY_FLAG_W,CTDOXY,CTDOXY_FLAG_W,OXYGEN,OXYGEN_FLAG_W,SILCAT,SILCAT_FLAG_W,NITRAT,NITRAT_FLAG_W,NITRIT,NITRIT_FLAG_W,PHSPHT,PHSPHT_FLAG_W,CFC-11,CFC-11_FLAG_W,CFC-12,CFC-12_FLAG_W,SF6,SF6_FLAG_W,TCARBN,TCARBN_FLAG_W,ALKALI,ALKALI_FLAG_W,PH_TOT,PH_TOT_FLAG_W,PH_TMP,DELC13,DELC13_FLAG_W,DELC14,DELC14_FLAG_W,C14ERR,DOC,DOC_FLAG_W,TDN,TDN_FLAG_W,TON,TON_FLAG_W,D15N_NO3,D15N_NO3_FLAG_W,BTL_DATE,BTL_TIME,BTL_LAT,BTL_LON,CTDRINKO,CTDRINKO_FLAG_W,CTDFLUOR,CTDFLUOR_FLAG_W,CTDXMISS,CTDXMISS_FLAG_W,CTDBACKSCATTER,CTDBACKSCATTER_FLAG_W,D18O_NO3,D18O_NO3_FLAG_W,DOP,DOP_FLAG_W,CELLCOUNT,CELLCOUNT_FLAG_W,TDP,TDP_FLAG_W,POP,POP_FLAG_W,DATP,DATP_FLAG_W,PATP,PATP_FLAG_W,HPLC,HPLC_FLAG_W,POC,POC_FLAG_W,BEAMAP,BEAMAP_FLAG_W,DOC_NASA,DOC_NASA_FLAG_W,REFTMP,REFTMP_FLAG_W,DOC_NASA_ERROR,TDN_NASA,TDN_NASA_FLAG_W,TDN_NASA_ERROR
,,,,,,,,,,,METERS,DBAR,ITS-90,PSS-78,,PSS-78,,UMOL/KG,,UMOL/KG,,UMOL/KG,,UMOL/KG,,UMOL/KG,,UMOL/KG,,PMOL/KG,,PMOL/KG,,FMOL/KG,,UMOL/KG,,UMOL/KG,,,,DEG C,/MILLE,,/MILLE,,/MILLE,UMOL/KG,,UMOL/KG,,UMOL/KG,,/MILLE,,,,,,VOLTS,,VOLTS,,VOLTS,,VOLTS,,/MILLE,,UMOL/KG,,/LITER,,UMOL/KG,,UMOL/L,,PMOL/L,,PMOL/L,,,,UG/L,,/METER,,UMOL/L,,ITS-90,,UMOL/L,UMOL/L,,UMOL/L
320620170820,        P06,     196,          1,          1,          1,2,20170913,       0625,   -32.5004,  -106.8758,       3287,  3327.5,   1.7925,  34.6874,2,  34.6881,2, 166.5326,2, 166.9089,2,   116.9,2,   34.32,2,    0.00,2,    2.37,2,   0.027,2,   0.018,2,   0.0000,2,  2296.1,6,  2389.8,2,   7.5914,2,    25.00, -999.00,9, -999.00,9, -999.00,    37.0,2, -999.00,9,     -999.0,1,  -999.0,9, 20170913,      625, -32.5003,-106.8755,        0.0,1,      0.061,1,      4.687,1,      0.129,1,     -999.0,9,     -999.0,9,     -999.0,9,     -999.0,9,     -999.0,9,     -999.0,9,     -999.0,9,     -999.0,9,     -999.0,9,     -999.0,9,     -999.0,9,     1.7930,2,     -999.0,     -999.0,9,     -999.0
320620170820,        P06,     196,          1,          2,          2,2,20170913,       0625,   -32.5004,  -106.8758,       3287,  3215.8,   1.7819,  34.6871,2,  34.6885,2, 166.5326,2, 167.0577,2,   116.9,2,   34.43,2,    0.00,2,    2.38,2,   0.024,2,   0.020,2,   0.0000,2,  -999.0,9,  -999.0,9,-999.0000,9,  -999.00, -999.00,9, -999.00,9, -999.00,  -999.0,9, -999.00,9,     -999.0,9,  -999.0,9, 20170913,      629, -32.5003,-106.8756,        0.0,1,      0.060,1,      4.688,1,      0.131,1,     -999.0,9,     -999.0,9,     -999.0,9,     -999.0,9,     -999.0,9,     -999.0,9,     -999.0,9,     -999.0,9,     -999.0,9,     -999.0,9,     -999.0,9,     1.7821,2,     -999.0,     -999.0,9,     -999.0
320620170820,        P06,     196,          1,          3,          3,2,20170913,       0625,   -32.5004,  -106.8758,       3287,  3108.4,   1.7736,  34.6866,2,  34.6859,2, 166.5326,2, 166.4192,2,   117.0,2,   34.45,2,    0.00,2,    2.36,2,   0.023,2,   0.019,2,   0.0000,2,  2296.5,2,  2392.2,2,   7.5908,2,    25.00, -999.00,9, -999.00,9, -999.00,    36.7,2, -999.00,9,     -999.0,1,  -999.0,9, 20170913,      633, -32.5002,-106.8760,        0.0,1,      0.060,1,      4.689,1,      0.131,1,     -999.0,9,     -999.0,9,     -999.0,9,     -999.0,9,     -999.0,9,     -999.0,9,     -999.0,9,     -999.0,9,     -999.0,9,     -999.0,9,     -999.0,9,     1.7737,2,     -999.0,     -999.0,9,     -999.0
320620170820,        P06,     196,          1,          4,          4,2,20170913,       0625,   -32.5004,  -106.8758,       3287,  2905.0,   1.7594,  34.6850,2,  34.6865,2, 166.3745,2, 166.0567,2,   117.4,2,   34.44,2,    0.00,2,    2.37,2,-999.000,9,-999.000,9,-999.0000,9,  -999.0,9,  -999.0,9,-999.0000,9,  -999.00, -999.00,9, -999.00,9, -999.00,  -999.0,9, -999.00,9,     -999.0,9,  -999.0,9, 20170913,      638, -32.5000,-106.8764,        0.0,1,      0.061,1,      4.689,1,      0.128,1,     -999.0,9,     -999.0,9,     -999.0,9,     -999.0,9,     -999.0,9,     -999.0,9,     -999.0,9,     -999.0,9,     -999.0,9,     -999.0,9,     -999.0,9,     1.7595,2,     -999.0,     -999.0,9,     -999.0
320620170820,        P06,     196,          1,          5,          5,2,20170913,       0625,   -32.5004,  -106.8758,       3287,  2699.2,   1.7587,  34.6812,2,  34.6830,2, 165.9399,2, 165.4358,2,   117.5,2,   34.53,2,    0.00,2,    2.38,2,   0.026,2,   0.019,2,   0.0000,2,  2297.6,2,  2389.9,2,   7.5866,2,    25.00, -999.00,9, -999.00,9, -999.00,    35.4,2, -999.00,9,     -999.0,1,  -999.0,9, 20170913,      643, -32.5000,-106.8764,        0.0,1,      0.061,1,      4.690,1,      0.128,1,     -999.0,9,     -999.0,9,     -999.0,9,     -999.0,9,     -999.0,9,     -999.0,9,     -999.0,9,     -999.0,9,     -999.0,9,     -999.0,9,     -999.0,9,     1.7592,2,     -999.0,     -999.0,9,     -999.0
320620170820,        P06,     196,          1,          6,          6,2,20170913,       0625,   -32.5004,  -106.8758,       3287,  2495.0,   1.7910,  34.6774,2,  34.6791,2, 164.1069,2,  163.846,2,   116.1,2,   34.54,2,    0.00,2,    2.38,2,-999.000,9,-999.000,9,-999.0000,9,  -999.0,9,  -999.0,9,-999.0000,9,  -999.00, -999.00,9, -999.00,9, -999.00,  -999.0,9, -999.00,9,     -999.0,1,  -999.0,9, 20170913,      648, -32.5001,-106.8762,        0.0,1,      0.060,1,      4.690,1,      0.127,1,     -999.0,9,     -999.0,9,     -999.0,9,     -999.0,9,     -999.0,9,     -999.0,9,     -999.0,9,     -999.0,9,     -999.0,9,     -999.0,9,     -999.0,9,     1.7900,2,     -999.0,     -999.0,9,     -999.0
320620170820,        P06,     196,          1,          7,          7,2,20170913,       0625,   -32.5004,  -106.8758,       3287,  2290.6,   1.8859,  34.6689,2,  34.6706,2,  161.481,2, 161.5527,2,   112.8,2,   34.66,2,    0.00,2,    2.39,2,   0.029,2,   0.022,2,   0.0000,2,  2292.3,2,  2383.1,2,   7.5789,2,    25.00, -999.00,9, -999.00,9, -999.00,    37.5,2, -999.00,9,     -999.0,1,  -999.0,9, 20170913,      652, -32.5001,-106.8762,        0.0,1,      0.061,1,      4.690,1,      0.127,1,     -999.0,9,     -999.0,9,     -999.0,9,     -999.0,9,     -999.0,9,     -999.0,9,     -999.0,9,     -999.0,9,     -999.0,9,     -999.0,9,     -999.0,9,     1.8826,2,     -999.0,     -999.0,9,     -999.0
320620170820,        P06,     196,          1,          8,          8,2,20170913,       0625,   -32.5004,  -106.8758,       3287,  2087.4,   2.0436,  34.6515,2,  34.6535,2, 157.2188,2, 157.3851,2,   108.3,2,   34.98,2,    0.00,2,    2.42,2,   0.034,2,   0.029,2,   0.0000,2,  -999.0,9,  -999.0,9,-999.0000,9,  -999.00, -999.00,9, -999.00,9, -999.00,  -999.0,9, -999.00,9,     -999.0,9,  -999.0,9, 20170913,      657, -32.5001,-106.8761,        0.0,1,      0.062,1,      4.690,1,      0.128,1,     -999.0,9,     -999.0,9,     -999.0,9,     -999.0,9,     -999.0,9,     -999.0,9,     -999.0,9,     -999.0,9,     -999.0,9,     -999.0,9,     -999.0,9,     2.0290,2,     -999.0,     -999.0,9,     -999.0
320620170820,        P06,     196,          1,          9,          9,2,20170913,       0625,   -32.5004,  -106.8758,       3287,  1884.5,   2.2810,  34.6194,2,  34.6242,2, 151.1469,2, 151.6212,2,   102.3,2,   35.55,2,    0.00,2,    2.46,2,   0.032,2,   0.028,2,   0.0000,2,  2289.5,2,  2373.1,2,   7.5617,2,    25.00, -999.00,9, -999.00,9, -999.00,    37.2,2, -999.00,9,     -999.0,1,  -999.0,9, 20170913,      702, -32.5003,-106.8759,        0.0,1,      0.061,1,      4.690,1,      0.127,1,     -999.0,9,     -999.0,9,     -999.0,9,     -999.0,9,     -999.0,9,     -999.0,9,     -999.0,9,     -999.0,9,     -999.0,9,     -999.0,9,     -999.0,9,     2.2569,2,     -999.0,     -999.0,9,     -999.0
320620170820,        P06,     196,          1,         10,         10,2,20170913,       0625,   -32.5004,  -106.8758,       3287,  1752.4,   2.4423,  34.5989,2,  34.6020,2, 147.0277,2, 147.0936,2,    98.1,2,   36.01,2,    0.00,2,    2.50,2,   0.029,2,   0.025,2,   0.0000,2,  -999.0,9,  -999.0,9,-999.0000,9,  -999.00, -999.00,9, -999.00,9, -999.00,  -999.0,9, -999.00,9,     -999.0,9,  -999.0,9, 20170913,      706, -32.5002,-106.8760,        0.0,1,      0.061,1,      4.690,1,      0.129,1,     -999.0,9,     -999.0,9,     -999.0,9,     -999.0,9,     -999.0,9,     -999.0,9,     -999.0,9,     -999.0,9,     -999.0,9,     -999.0,9,     -999.0,9,     2.4229,2,     -999.0,     -999.0,9,     -999.0
320620170820,        P06,     196,          1,         11,         11,2,20170913,       0625,   -32.5004,  -106.8758,       3287,  1651.1,   2.6266,  34.5831,2,  34.5879,3, 137.3902,2, 137.3708,2,    97.1,2,   36.88,2,    0.00,2,    2.57,2,   0.027,2,   0.025,2,   0.0000,2,  2293.5,2,  2367.8,2,   7.5383,2,    25.00, -999.00,9, -999.00,9, -999.00,    37.9,2, -999.00,9,     -999.0,1,  -999.0,9, 20170913,      709, -32.5001,-106.8762,        0.0,1,      0.061,1,      4.690,1,      0.130,1,     -999.0,9,     -999.0,9,     -999.0,9,     -999.0,9,     -999.0,9,     -999.0,9,     -999.0,9,     -999.0,9,     -999.0,9,     -999.0,9,     -999.0,9,     2.6013,2,     -999.0,     -999.0,9,     -999.0
320620170820,        P06,     196,          1,         12,         12,2,20170913,       0625,   -32.5004,  -106.8758,       3287,  1549.5,   2.7904,  34.5668,2,  34.5702,2, 132.4643,2, 131.8508,2,    93.2,2,   37.38,2,    0.00,2,    2.60,2,   0.028,2,   0.026,2,   0.0000,2,  -999.0,9,  -999.0,9,-999.0000,9,  -999.00, -999.00,9, -999.00,9, -999.00,  -999.0,9, -999.00,9,     -999.0,9,  -999.0,9, 20170913,      712, -32.5001,-106.8762,        0.0,1,      0.061,1,      4.690,1,      0.129,1,     -999.0,9,     -999.0,9,     -999.0,9,     -999.0,9,     -999.0,9,     -999.0,9,     -999.0,9,     -999.0,9,     -999.0,9,     -999.0,9,     -999.0,9,     2.7669,2,     -999.0,     -999.0,9,     -999.0
320620170820,        P06,     196,          1,         13,         13,2,20170913,       0625,   -32.5004,  -106.8758,       3287,  1447.4,   3.0124,  34.5468,2,  34.5512,2,  125.988,2, 125.5861,2,    89.0,2,   38.00,2,    0.00,2,    2.64,2,   0.027,2,   0.025,2,   0.0000,2,  2290.2,2,  2358.8,2,   7.5156,6,    25.00, -999.00,9, -999.00,9, -999.00,    37.8,2, -999.00,9,     -999.0,1,  -999.0,9, 20170913,      715, -32.5002,-106.8760,        0.0,1,      0.061,1,      4.690,1,      0.130,1,     -999.0,9,     -999.0,9,     -999.0,9,     -999.0,9,     -999.0,9,     -999.0,9,     -999.0,9,     -999.0,9,     -999.0,9,     -999.0,9,     -999.0,9,     2.9785,2,     -999.0,     -999.0,9,     -999.0
320620170820,        P06,     196,          1,         14,         14,2,20170913,       0625,   -32.5004,  -106.8758,       3287,  1346.9,   3.2001,  34.5195,2,  34.5231,2, 122.0285,2, 122.3494,2,    81.7,2,   38.35,2,    0.00,2,    2.67,2,   0.033,2,   0.032,2,   0.0000,2,  2287.5,6,  2349.2,2,   7.5066,2,    25.00, -999.00,9, -999.00,9, -999.00,  -999.0,5, -999.00,9,     -999.0,1,  -999.0,9, 20170913,      718, -32.5003,-106.8758,        0.0,1,      0.061,1,      4.689,1,      0.134,1,     -999.0,9,     -999.0,9,     -999.0,9,     -999.0,9,     -999.0,9,     -999.0,9,     -999.0,9,     -999.0,9,     -999.0,9,     -999.0,9,     -999.0,9,     3.1839,2,     -999.0,     -999.0,9,     -999.0
320620170820,        P06,     196,          1,         15,         15,2,20170913,       0625,   -32.5004,  -106.8758,       3287,  1211.5,   3.3926,  34.4549,2,  34.4577,2, 135.0785,2, 135.1748,2,    66.2,2,   37.63,2,    0.00,2,    2.61,2,   0.070,2,   0.052,2,   0.0000,2,  2265.8,2,  2332.2,6,   7.5158,2,    25.00, -999.00,9, -999.00,9, -999.00,  -999.0,9, -999.00,9,     -999.0,1,  -999.0,9, 20170913,      722, -32.5003,-106.8758,        0.0,1,      0.061,1,      4.689,1,      0.132,1,     -999.0,9,     -999.0,9,     -999.0,9,     -999.0,9,     -999.0,9,     -999.0,9,     -999.0,9,     -999.0,9,     -999.0,9,     -999.0,9,     -999.0,9,     3.3891,2,     -999.0,     -999.0,9,     -999.0
320620170820,        P06,     196,          1,         16,         16,2,20170913,       0625,   -32.5004,  -106.8758,       3287,  1145.1,   3.5166,  34.4140,2,  34.4175,2, 146.8096,2, 147.5053,2,    57.5,2,   36.72,2,    0.00,2,    2.52,2,   0.142,2,   0.095,2,   0.0000,2,  -999.0,9,  -999.0,9,-999.0000,9,  -999.00, -999.00,9, -999.00,9, -999.00,  -999.0,9, -999.00,9,     -999.0,9,  -999.0,9, 20170913,      724, -32.5003,-106.8759,        0.0,1,      0.060,1,      4.689,1,      0.131,1,     -999.0,9,     -999.0,9,     -999.0,9,     -999.0,9,     -999.0,9,     -999.0,9,     -999.0,9,     -999.0,9,     -999.0,9,     -999.0,9,     -999.0,9,     3.5012,2,     -999.0,     -999.0,9,     -999.0
320620170820,        P06,     196,          1,         17,         17,2,20170913,       0625,   -32.5004,  -106.8758,       3287,  1043.7,   3.8044,  34.3555,2,  34.3531,3, 172.2951,2, 172.0788,2,    42.8,2,   34.65,2,    0.00,2,    2.36,2,   0.443,2,   0.237,2,   0.0000,2,  2225.0,2,  2307.3,2,   7.5661,2,    25.00, -999.00,9, -999.00,9, -999.00,    44.6,2, -999.00,9,     -999.0,1,  -999.0,9, 20170913,      728, -32.5003,-106.8759,        0.0,1,      0.060,1,      4.689,1,      0.132,1,     -999.0,9,     -999.0,9,     -999.0,9,     -999.0,9,     -999.0,9,     -999.0,9,     -999.0,9,     -999.0,9,     -999.0,9,     -999.0,9,     -999.0,9,     3.8242,2,     -999.0,     -999.0,9,     -999.0
320620170820,        P06,     196,          1,         18,         18,2,20170913,       0625,   -32.5004,  -106.8758,       3287,   943.5,   4.2894,  34.3035,2,  34.3066,2, 192.8564,2, 192.4271,2,    31.2,2,   32.48,2,    0.00,2,    2.19,2,   1.023,2,   0.503,2,   0.2480,2,  -999.0,9,  -999.0,9,-999.0000,9,  -999.00, -999.00,9, -999.00,9, -999.00,  -999.0,9, -999.00,9,     -999.0,9,  -999.0,9, 20170913,      731, -32.5002,-106.8760,        0.0,1,      0.061,1,      4.690,1,      0.132,1,     -999.0,9,     -999.0,9,     -999.0,9,     -999.0,9,     -999.0,9,     -999.0,9,     -999.0,9,     -999.0,9,     -999.0,9,     -999.0,9,     -999.0,9,     4.2454,2,     -999.0,     -999.0,9,     -999.0
320620170820,        P06,     196,          1,         19,         19,2,20170913,       0625,   -32.5004,  -106.8758,       3287,   841.0,   4.8157,  34.2727,2,  34.2730,2, 213.9106,2, 214.5037,2,    20.2,2,   29.66,2,    0.00,2,    1.99,2,   1.897,2,   0.930,2,   0.4130,2,  2179.5,2,  2286.2,2,   7.6393,2,    25.00, -999.00,9, -999.00,9, -999.00,    42.4,2, -999.00,9,     -999.0,1,  -999.0,9, 20170913,      734, -32.5002,-106.8761,        0.0,1,      0.060,1,      4.690,1,      0.130,1,     -999.0,9,     -999.0,9,     -999.0,9,     -999.0,9,     -999.0,9,     -999.0,9,     -999.0,9,     -999.0,9,     -999.0,9,     -999.0,9,     -999.0,9,     4.7892,2,     -999.0,     -999.0,9,     -999.0
320620170820,        P06,     196,          1,         20,         20,2,20170913,       0625,   -32.5004,  -106.8758,       3287,   740.0,   5.2816,  34.2587,2,  34.2579,2, 231.6891,2, 231.5034,2,    13.2,2,   27.27,2,    0.00,2,    1.82,2,   2.940,2,   1.459,2,   0.6710,2,  -999.0,9,  -999.0,9,-999.0000,9,  -999.00, -999.00,9, -999.00,9, -999.00,  -999.0,9, -999.00,9,     -999.0,9,  -999.0,9, 20170913,      737, -32.5001,-106.8762,        0.0,1,      0.060,1,      4.690,1,      0.132,1,     -999.0,9,     -999.0,9,     -999.0,9,     -999.0,9,     -999.0,9,     -999.0,9,     -999.0,9,     -999.0,9,     -999.0,9,     -999.0,9,     -999.0,9,     5.3174,2,     -999.0,     -999.0,9,     -999.0
320620170820,        P06,     196,          1,         21,         21,2,20170913,       0625,   -32.5004,  -106.8758,       3287,   638.8,   5.7326,  34.2654,2,  34.2660,2, 240.2412,2, 240.3063,2,    10.0,2,   25.54,2,    0.00,2,    1.70,2,   3.576,2,   1.808,2,   0.8330,2,  2156.4,2,  2276.8,2,   7.6812,2,    25.00, -999.00,9, -999.00,9, -999.00,    44.2,2, -999.00,9,     -999.0,1,  -999.0,9, 20170913,      740, -32.5001,-106.8762,        0.0,1,      0.059,1,      4.689,1,      0.132,1,     -999.0,9,     -999.0,9,     -999.0,9,     -999.0,9,     -999.0,9,     -999.0,9,     -999.0,9,     -999.0,9,     -999.0,9,     -999.0,9,     -999.0,9,     5.7382,2,     -999.0,     -999.0,9,     -999.0
320620170820,        P06,     196,          1,         22,         22,2,20170913,       0625,   -32.5004,  -106.8758,       3287,   537.7,   6.0819,  34.2799,2,  34.2825,2, 238.2209,2, 237.4903,2,     8.4,2,   24.76,2,    0.00,2,    1.66,2,   3.773,2,   1.962,2,   1.1370,2,  -999.0,9,  -999.0,9,-999.0000,9,  -999.00, -999.00,9, -999.00,9, -999.00,  -999.0,5, -999.00,9,     -999.0,1,  -999.0,9, 20170913,      743, -32.5001,-106.8762,        0.0,1,      0.060,1,      4.688,1,      0.135,1,     -999.0,9,     -999.0,9,     -999.0,9,     -999.0,9,     -999.0,9,     -999.0,9,     -999.0,9,     -999.0,9,     -999.0,9,     -999.0,9,     -999.0,9,     6.1692,2,     -999.0,     -999.0,9,     -999.0
320620170820,        P06,     196,          1,         23,         23,2,20170913,       0625,   -32.5004,  -106.8758,       3287,   467.9,   6.4546,  34.2941,2,  34.2952,2, 217.3055,2, 219.6407,2,     8.5,2,   25.28,2,    0.00,2,    1.71,2,   3.642,2,   1.914,2,   1.1640,2,  2161.8,2,  2274.0,2,   7.6545,2,    25.00, -999.00,9, -999.00,9, -999.00,    44.5,2, -999.00,9,     -999.0,1,  -999.0,9, 20170913,      746, -32.5001,-106.8762,        0.0,1,      0.061,1,      4.687,1,      0.135,1,     -999.0,9,     -999.0,9,     -999.0,9,     -999.0,9,     -999.0,9,     -999.0,9,     -999.0,9,     -999.0,9,     -999.0,9,     -999.0,9,     -999.0,9,     6.5596,2,     -999.0,     -999.0,9,     -999.0
320620170820,        P06,     196,          1,         24,         24,2,20170913,       0625,   -32.5004,  -106.8758,       3287,   416.8,   6.8973,  34.2995,2,  34.2958,2, 186.3527,2, 192.7009,2,     9.2,2,   26.35,2,    0.00,2,    1.82,2,-999.000,9,-999.000,9,-999.0000,9,  -999.0,9,  -999.0,9,-999.0000,9,  -999.00, -999.00,9, -999.00,9, -999.00,  -999.0,9, -999.00,9,     -999.0,9,  -999.0,9, 20170913,      748, -32.5002,-106.8761,        0.0,1,      0.062,1,      4.685,1,      0.135,1,     -999.0,9,     -999.0,9,     -999.0,9,     -999.0,9,     -999.0,9,     -999.0,9,     -999.0,9,     -999.0,9,     -999.0,9,     -999.0,9,     -999.0,9,     7.0313,2,     -999.0,     -999.0,9,     -999.0
320620170820,        P06,     196,          1,         25,         25,2,20170913,       0625,   -32.5004,  -106.8758,       3287,   366.2,   7.5964,  34.2966,2,  34.2868,2, 189.2614,2, 188.6212,2,     8.0,2,   24.84,2,    0.00,2,    1.74,2,   3.340,2,   1.783,2,   1.2950,2,  2171.1,2,  2271.9,2,   7.6228,3,    25.00, -999.00,9, -999.00,9, -999.00,    42.3,2, -999.00,9,     -999.0,1,  -999.0,9, 20170913,      750, -32.5003,-106.8759,        0.0,1,      0.060,1,      4.685,1,      0.134,1,     -999.0,9,     -999.0,9,     -999.0,9,     -999.0,9,     -999.0,9,     -999.0,9,     -999.0,9,     -999.0,9,     -999.0,9,     -999.0,9,     -999.0,9,     7.6987,2,     -999.0,     -999.0,9,     -999.0
320620170820,        P06,     196,          1,         26,         26,2,20170913,       0625,   -32.5004,  -106.8758,       3287,   316.0,   8.5711,  34.2692,2,  34.2676,2, 221.8809,2,  220.993,2,     3.1,2,   19.41,2,    0.00,2,    1.34,2,-999.000,9,-999.000,9,-999.0000,9,  -999.0,9,  -999.0,9,-999.0000,9,  -999.00, -999.00,9, -999.00,9, -999.00,  -999.0,9, -999.00,9,     -999.0,9,  -999.0,9, 20170913,      753, -32.5004,-106.8758,        0.0,1,      0.060,1,      4.685,1,      0.133,1,     -999.0,9,     -999.0,9,     -999.0,9,     -999.0,9,     -999.0,9,     -999.0,9,     -999.0,9,     -999.0,9,     -999.0,9,     -999.0,9,     -999.0,9,     8.7324,2,     -999.0,     -999.0,9,     -999.0