BOTTLE,20240211CCHSIOCBG
EXPOCODE,SECT_ID,STNNBR,CASTNO,SAMPNO,BTLNBR,BTLNBR_FLAG_W,DATE,TIME,LATITUDE,LONGITUDE,DEPTH,CTDPRS,CTDTMP,CTDSAL,CTDSAL_FLAG_W,SALNTY,SALNTY_FLAG_W,CTDOXY,CTDOXY_FLAG_W,OXYGEN,OXYGEN_FLAG_W,SILCAT,SILCAT_FLAG_W,NITRAT,NITRAT_FLAG_W,NITRIT,NITRIT_FLAG_W,PHSPHT,PHSPHT_FLAG_W,CFC-11,CFC-11_FLAG_W,CFC-12,CFC-12_FLAG_W,SF6,SF6_FLAG_W,TCARBN,TCARBN_FLAG_W,ALKALI,ALKALI_FLAG_W,PH_TOT,PH_TOT_FLAG_W,PH_TMP,DELC13,DELC13_FLAG_W,DELC14,DELC14_FLAG_W,C14ERR,DOC,DOC_FLAG_W,TDN,TDN_FLAG_W,TON,TON_FLAG_W,D15N_NO3,D15N_NO3_FLAG_W,BTL_DATE,BTL_TIME,BTL_LAT,BTL_LON,CTDRINKO,CTDRINKO_FLAG_W,CTDFLUOR,CTDFLUOR_FLAG_W,CTDXMISS,CTDXMISS_FLAG_W,CTDBACKSCATTER,CTDBACKSCATTER_FLAG_W,D18O_NO3,D18O_NO3_FLAG_W,DOP,DOP_FLAG_W,CELLCOUNT,CELLCOUNT_FLAG_W,TDP,TDP_FLAG_W,POP,POP_FLAG_W,DATP,DATP_FLAG_W,PATP,PATP_FLAG_W,HPLC,HPLC_FLAG_W,POC,POC_FLAG_W,BEAMAP,BEAMAP_FLAG_W,DOC_NASA,DOC_NASA_FLAG_W,REFTMP,REFTMP_FLAG_W,DOC_NASA_ERROR,TDN_NASA,TDN_NASA_FLAG_W,TDN_NASA_ERROR
,,,,,,,,,,,METERS,DBAR,ITS-90,PSS-78,,PSS-78,,UMOL/KG,,UMOL/KG,,UMOL/KG,,UMOL/KG,,UMOL/KG,,UMOL/KG,,PMOL/KG,,PMOL/KG,,FMOL/KG,,UMOL/KG,,UMOL/KG,,,,DEG C,/MILLE,,/MILLE,,/MILLE,UMOL/KG,,UMOL/KG,,UMOL/KG,,/MILLE,,,,,,VOLTS,,VOLTS,,VOLTS,,VOLTS,,/MILLE,,UMOL/KG,,/LITER,,UMOL/KG,,UMOL/L,,PMOL/L,,PMOL/L,,,,UG/L,,/METER,,UMOL/L,,ITS-90,,UMOL/L,UMOL/L,,UMOL/L
320620170820,        P06,     186,          1,          1,          1,2,20170910,       1025,   -32.5003,  -113.9154,       2975,  3008.5,   1.7894,  34.6695,2,  34.6684,2, 162.2068,2, 162.5339,2,   121.9,2,   34.96,2,    0.00,2,    2.42,2,   0.036,2,   0.018,2,   0.0000,2,  2302.1,6,  2394.9,2,   7.5871,2,    25.00, -999.00,9, -999.00,9, -999.00,    38.2,2, -999.00,9,     -999.0,1,  -999.0,1, 20170910,     1025, -32.5004,-113.9161,        0.0,1,      0.061,1,      4.689,1,      0.130,1,     -999.0,1,     -999.0,9,     -999.0,9,     -999.0,9,     -999.0,9,     -999.0,9,     -999.0,9,     -999.0,9,     -999.0,9,     -999.0,9,     -999.0,9,     1.7894,2,     -999.0,     -999.0,9,     -999.0
320620170820,        P06,     186,          1,          2,          2,2,20170910,       1025,   -32.5003,  -113.9154,       2975,  2815.9,   1.7723,  34.6695,2,  34.6724,2, 162.2068,2, 162.3484,2,   122.2,2,   34.94,2,    0.00,2,    2.41,2,   0.033,2,   0.022,2,   0.0000,2,  -999.0,9,  -999.0,9,-999.0000,9,  -999.00, -999.00,9, -999.00,9, -999.00,  -999.0,9, -999.00,9,     -999.0,9,  -999.0,1, 20170910,     1031, -32.5004,-113.9161,        0.0,1,      0.061,1,      4.690,1,      0.129,1,     -999.0,1,     -999.0,9,     -999.0,9,     -999.0,9,     -999.0,9,     -999.0,9,     -999.0,9,     -999.0,9,     -999.0,9,     -999.0,9,     -999.0,9,     1.7725,2,     -999.0,     -999.0,9,     -999.0
320620170820,        P06,     186,          1,          3,          3,2,20170910,       1025,   -32.5003,  -113.9154,       2975,  2633.5,   1.7635,  34.6693,2,  34.6700,2, 161.9923,2, 162.0558,2,   122.0,2,   34.95,2,    0.00,2,    2.42,2,   0.032,2,   0.021,2,   0.0000,2,  2300.5,2,  2395.3,6,   7.5863,2,    25.00, -999.00,9, -999.00,9, -999.00,    37.1,2, -999.00,9,     -999.0,1,  -999.0,1, 20170910,     1036, -32.5006,-113.9159,        0.0,1,      0.062,1,      4.691,1,      0.128,1,     -999.0,1,     -999.0,9,     -999.0,9,     -999.0,9,     -999.0,9,     -999.0,9,     -999.0,9,     -999.0,9,     -999.0,9,     -999.0,9,     -999.0,9,     1.7635,2,     -999.0,     -999.0,9,     -999.0
320620170820,        P06,     186,          1,          4,          4,2,20170910,       1025,   -32.5003,  -113.9154,       2975,  2429.6,   1.7851,  34.6656,2,  34.6686,2, 162.0601,2, 161.2032,2,   121.0,2,   35.02,2,    0.00,2,    2.41,2,   0.033,2,   0.021,2,   0.0000,2,  -999.0,9,  -999.0,9,-999.0000,9,  -999.00, -999.00,9, -999.00,9, -999.00,  -999.0,9, -999.00,9,     -999.0,9,  -999.0,1, 20170910,     1041, -32.5007,-113.9158,        0.0,1,      0.061,1,      4.692,1,      0.127,1,     -999.0,1,     -999.0,9,     -999.0,9,     -999.0,9,     -999.0,9,     -999.0,9,     -999.0,9,     -999.0,9,     -999.0,9,     -999.0,9,     -999.0,9,     1.7842,2,     -999.0,     -999.0,9,     -999.0
320620170820,        P06,     186,          1,          5,          5,2,20170910,       1025,   -32.5003,  -113.9154,       2975,  2225.7,   1.8738,  34.6577,2,  34.6586,2, 159.6344,2, 159.6408,2,   118.5,2,   35.12,2,    0.00,2,    2.44,2,   0.032,2,   0.022,2,   0.0000,2,  2299.1,2,  2390.6,2,   7.5798,6,    25.00, -999.00,9, -999.00,9, -999.00,    35.8,2, -999.00,9,     -999.0,1,  -999.0,1, 20170910,     1046, -32.5006,-113.9159,        0.0,1,      0.062,1,      4.692,1,      0.127,1,     -999.0,1,     -999.0,9,     -999.0,9,     -999.0,9,     -999.0,9,     -999.0,9,     -999.0,9,     -999.0,9,     -999.0,9,     -999.0,9,     -999.0,9,     1.8654,2,     -999.0,     -999.0,9,     -999.0
320620170820,        P06,     186,          1,          6,          6,2,20170910,       1025,   -32.5003,  -113.9154,       2975,  2022.9,   2.0491,  34.6447,2,  34.6462,2, 157.2025,2, 157.5091,2,   111.3,2,   35.08,2,    0.00,2,    2.43,2,   0.040,2,   0.028,2,   0.0000,2,  -999.0,9,  -999.0,9,-999.0000,9,  -999.00, -999.00,9, -999.00,9, -999.00,  -999.0,9, -999.00,9,     -999.0,9,  -999.0,1, 20170910,     1051, -32.5005,-113.9160,        0.0,1,      0.061,1,      4.691,1,      0.130,1,     -999.0,1,     -999.0,9,     -999.0,9,     -999.0,9,     -999.0,9,     -999.0,9,     -999.0,9,     -999.0,9,     -999.0,9,     -999.0,9,     -999.0,9,     2.0386,2,     -999.0,     -999.0,9,     -999.0
320620170820,        P06,     186,          1,          7,          7,2,20170910,       1025,   -32.5003,  -113.9154,       2975,  1921.5,   2.1357,  34.6341,2,  34.6378,2, 157.4421,2, 157.6054,2,   107.1,2,   35.07,2,    0.00,2,    2.43,2,   0.043,2,   0.028,2,   0.0000,2,  2291.5,2,  2379.2,2,   7.5720,2,    25.00, -999.00,9, -999.00,9, -999.00,    36.3,2, -999.00,9,     -999.0,1,  -999.0,1, 20170910,     1054, -32.5005,-113.9160,        0.0,1,      0.061,1,      4.692,1,      0.129,1,     -999.0,1,     -999.0,9,     -999.0,9,     -999.0,9,     -999.0,9,     -999.0,9,     -999.0,9,     -999.0,9,     -999.0,9,     -999.0,9,     -999.0,9,     2.1313,2,     -999.0,     -999.0,9,     -999.0
320620170820,        P06,     186,          1,          8,          8,2,20170910,       1025,   -32.5003,  -113.9154,       2975,  1820.9,   2.2331,  34.6219,2,  34.6250,2, 157.7899,2, 158.2566,2,   101.1,2,   34.98,2,    0.00,2,    2.42,2,   0.049,2,   0.034,2,   0.0000,2,  -999.0,9,  -999.0,9,-999.0000,9,  -999.00, -999.00,9, -999.00,9, -999.00,  -999.0,9, -999.00,9,     -999.0,9,  -999.0,1, 20170910,     1056, -32.5006,-113.9159,        0.0,1,      0.061,1,      4.692,1,      0.127,1,     -999.0,1,     -999.0,9,     -999.0,9,     -999.0,9,     -999.0,9,     -999.0,9,     -999.0,9,     -999.0,9,     -999.0,9,     -999.0,9,     -999.0,9,     2.2313,2,     -999.0,     -999.0,9,     -999.0
320620170820,        P06,     186,          1,          9,          9,2,20170910,       1025,   -32.5003,  -113.9154,       2975,  1717.0,   2.3582,  34.6045,2,  34.6060,2, 160.3346,2, 160.5926,2,    92.6,2,   34.72,2,    0.00,2,    2.39,2,   0.079,2,   0.051,2,   0.0000,2,  2275.6,2,  2361.6,2,   7.5673,2,    25.00, -999.00,9, -999.00,9, -999.00,    37.0,2, -999.00,9,     -999.0,1,  -999.0,1, 20170910,     1059, -32.5006,-113.9159,        0.0,1,      0.061,1,      4.692,1,      0.130,1,     -999.0,1,     -999.0,9,     -999.0,9,     -999.0,9,     -999.0,9,     -999.0,9,     -999.0,9,     -999.0,9,     -999.0,9,     -999.0,9,     -999.0,9,     2.3625,2,     -999.0,     -999.0,9,     -999.0
320620170820,        P06,     186,          1,         10,         10,2,20170910,       1025,   -32.5003,  -113.9154,       2975,  1617.3,   2.5145,  34.5747,2,  34.5783,2, 161.3134,2, 161.0682,2,    85.4,2,   35.06,2,    0.00,2,    2.40,2,   0.102,2,   0.059,2,   0.0000,2,  -999.0,9,  -999.0,9,-999.0000,9,  -999.00, -999.00,9, -999.00,9, -999.00,  -999.0,9, -999.00,9,     -999.0,9,  -999.0,1, 20170910,     1102, -32.5006,-113.9159,        0.0,1,      0.061,1,      4.692,1,      0.129,1,     -999.0,1,     -999.0,9,     -999.0,9,     -999.0,9,     -999.0,9,     -999.0,9,     -999.0,9,     -999.0,9,     -999.0,9,     -999.0,9,     -999.0,9,     2.5106,2,     -999.0,     -999.0,9,     -999.0
320620170820,        P06,     186,          1,         11,         11,2,20170910,       1025,   -32.5003,  -113.9154,       2975,  1516.0,   2.6762,  34.5435,2,  34.5490,2, 160.9186,2, 160.4942,2,    79.7,2,   35.27,2,    0.00,2,    2.41,2,   0.119,2,   0.074,2,   0.0000,2,  2264.6,2,  2347.0,2,   7.5584,2,    25.00, -999.00,9, -999.00,9, -999.00,    37.9,2, -999.00,9,     -999.0,1,  -999.0,1, 20170910,     1105, -32.5006,-113.9159,        0.0,1,      0.061,1,      4.692,1,      0.129,1,     -999.0,1,     -999.0,9,     -999.0,9,     -999.0,9,     -999.0,9,     -999.0,9,     -999.0,9,     -999.0,9,     -999.0,9,     -999.0,9,     -999.0,9,     2.6602,2,     -999.0,     -999.0,9,     -999.0
320620170820,        P06,     186,          1,         12,         12,2,20170910,       1025,   -32.5003,  -113.9154,       2975,  1414.7,   2.9272,  34.5014,2,  34.5046,2, 157.5876,2, 157.4213,2,    72.4,2,   35.73,2,    0.00,2,    2.45,2,   0.163,2,   0.094,2,   0.0000,2,  2259.7,2,  2338.6,2,   7.5503,2,    25.00, -999.00,9, -999.00,9, -999.00,    36.7,2, -999.00,9,     -999.0,1,  -999.0,1, 20170910,     1108, -32.5005,-113.9159,        0.0,1,      0.061,1,      4.692,1,      0.129,1,     -999.0,1,     -999.0,9,     -999.0,9,     -999.0,9,     -999.0,9,     -999.0,9,     -999.0,9,     -999.0,9,     -999.0,9,     -999.0,9,     -999.0,9,     2.9236,2,     -999.0,     -999.0,9,     -999.0
320620170820,        P06,     186,          1,         13,         13,2,20170910,       1025,   -32.5003,  -113.9154,       2975,  1312.9,   3.1881,  34.4585,2,  34.4624,2, 155.9653,2, 155.4356,2,    65.5,2,   35.94,2,    0.00,2,    2.47,2,   0.182,2,   0.111,2,   0.0000,2,  2257.0,6,  2330.9,2,   7.5463,2,    25.00, -999.00,9, -999.00,9, -999.00,    37.6,2, -999.00,9,     -999.0,1,  -999.0,1, 20170910,     1110, -32.5005,-113.9159,        0.0,1,      0.060,1,      4.692,1,      0.128,1,     -999.0,1,     -999.0,9,     -999.0,9,     -999.0,9,     -999.0,9,     -999.0,9,     -999.0,9,     -999.0,9,     -999.0,9,     -999.0,9,     -999.0,9,     3.1851,2,     -999.0,     -999.0,9,     -999.0
320620170820,        P06,     186,          1,         14,         14,2,20170910,       1025,   -32.5003,  -113.9154,       2975,  1211.4,   3.5002,  34.4095,2,  34.4135,2, 162.2389,2, 162.7429,2,    55.3,2,   35.45,2,    0.00,2,    2.42,2,   0.269,2,   0.158,2,   0.0000,2,  -999.0,9,  -999.0,9,-999.0000,9,  -999.00, -999.00,9, -999.00,9, -999.00,  -999.0,9, -999.00,9,     -999.0,9,  -999.0,1, 20170910,     1113, -32.5005,-113.9158,        0.0,1,      0.061,1,      4.692,1,      0.131,1,     -999.0,1,     -999.0,9,     -999.0,9,     -999.0,9,     -999.0,9,     -999.0,9,     -999.0,9,     -999.0,9,     -999.0,9,     -999.0,9,     -999.0,9,     3.4767,2,     -999.0,     -999.0,9,     -999.0
320620170820,        P06,     186,          1,         15,         15,2,20170910,       1025,   -32.5003,  -113.9154,       2975,  1111.0,   3.9147,  34.3470,2,  34.4608,2, 178.8109,2, 178.3483,2,    41.2,2,   33.92,2,    0.00,2,    2.32,2,   0.477,2,   0.263,2,   0.0680,2,  2219.3,2,  2307.1,2,   7.5793,2,    25.00, -999.00,9, -999.00,9, -999.00,    40.6,2, -999.00,9,     -999.0,1,  -999.0,1, 20170910,     1116, -32.5004,-113.9158,        0.0,1,      0.061,1,      4.692,1,      0.129,1,     -999.0,1,     -999.0,9,     -999.0,9,     -999.0,9,     -999.0,9,     -999.0,9,     -999.0,9,     -999.0,9,     -999.0,9,     -999.0,9,     -999.0,9,     3.9076,2,     -999.0,     -999.0,9,     -999.0
320620170820,        P06,     186,          1,         16,         16,2,20170910,       1025,   -32.5003,  -113.9154,       2975,  1008.0,   4.3153,  34.3087,2,  34.3068,2, 198.2679,2, 198.1895,2,    29.6,2,   31.70,2,    0.00,2,    2.13,2,   0.999,2,   0.512,2,   0.0950,2,  -999.0,9,  -999.0,9,-999.0000,9,  -999.00, -999.00,9, -999.00,9, -999.00,  -999.0,9, -999.00,9,     -999.0,9,  -999.0,1, 20170910,     1119, -32.5003,-113.9160,        0.0,1,      0.060,1,      4.692,1,      0.130,1,     -999.0,1,     -999.0,9,     -999.0,9,     -999.0,9,     -999.0,9,     -999.0,9,     -999.0,9,     -999.0,9,     -999.0,9,     -999.0,9,     -999.0,9,     4.3615,2,     -999.0,     -999.0,9,     -999.0
320620170820,        P06,     186,          1,         17,         17,2,20170910,       1025,   -32.5003,  -113.9154,       2975,   906.8,   5.0255,  34.2818,2,  34.2844,2, 216.3524,2,  216.463,2,    19.7,2,   29.08,2,    0.00,2,    1.96,2,   1.804,2,   0.881,2,   0.2590,2,  2175.7,2,  2286.4,2,   7.6474,2,    25.00, -999.00,9, -999.00,9, -999.00,    43.7,2, -999.00,9,     -999.0,1,  -999.0,1, 20170910,     1122, -32.5003,-113.9159,        0.0,1,      0.059,1,      4.692,1,      0.128,1,     -999.0,1,     -999.0,9,     -999.0,9,     -999.0,9,     -999.0,9,     -999.0,9,     -999.0,9,     -999.0,9,     -999.0,9,     -999.0,9,     -999.0,9,     4.9682,2,     -999.0,     -999.0,9,     -999.0
320620170820,        P06,     186,          1,         18,         18,2,20170910,       1025,   -32.5003,  -113.9154,       2975,   808.0,   5.4882,  34.2775,2,  34.2774,2, 229.9684,2,  230.365,2,    13.8,2,   27.00,2,    0.00,2,    1.80,2,   2.418,2,   1.238,2,   0.3230,2,  -999.0,9,  -999.0,9,-999.0000,9,  -999.00, -999.00,9, -999.00,9, -999.00,  -999.0,9, -999.00,9,     -999.0,9,  -999.0,1, 20170910,     1124, -32.5004,-113.9157,        0.0,1,      0.059,1,      4.692,1,      0.129,1,     -999.0,1,     -999.0,9,     -999.0,9,     -999.0,9,     -999.0,9,     -999.0,9,     -999.0,9,     -999.0,9,     -999.0,9,     -999.0,9,     -999.0,9,     5.4104,2,     -999.0,     -999.0,9,     -999.0
320620170820,        P06,     186,          1,         19,         19,2,20170910,       1025,   -32.5003,  -113.9154,       2975,   706.3,   6.0128,  34.2936,2,  34.2891,2, 240.3036,2, 240.5198,2,    10.2,2,   25.02,2,    0.00,2,    1.66,2,   3.089,6,   1.596,6,   0.6980,6,  2152.9,2,  2279.3,2,   7.6917,2,    25.00, -999.00,9, -999.00,9, -999.00,    43.9,2, -999.00,9,     -999.0,1,  -999.0,1, 20170910,     1127, -32.5004,-113.9156,        0.0,1,      0.059,1,      4.691,1,      0.131,1,     -999.0,1,     -999.0,9,     -999.0,9,     -999.0,9,     -999.0,9,     -999.0,9,     -999.0,9,     -999.0,9,     -999.0,9,     -999.0,9,     -999.0,9,     5.8812,2,     -999.0,     -999.0,9,     -999.0
320620170820,        P06,     186,          1,         20,         20,2,20170910,       1025,   -32.5003,  -113.9154,       2975,   606.4,   6.4398,  34.3185,2,  34.3121,2, 245.3849,2, 245.3768,2,     8.1,2,   23.57,2,    0.00,2,    1.56,2,   3.439,2,   1.805,2,   0.8780,2,  -999.0,9,  -999.0,9,-999.0000,9,  -999.00, -999.00,9, -999.00,9, -999.00,    46.1,3, -999.00,9,     -999.0,1,  -999.0,1, 20170910,     1130, -32.5003,-113.9158,        0.0,1,      0.058,1,      4.690,1,      0.133,1,     -999.0,1,     -999.0,9,     -999.0,9,     -999.0,9,     -999.0,9,     -999.0,9,     -999.0,9,     -999.0,9,     -999.0,9,     -999.0,9,     -999.0,9,     6.2929,2,     -999.0,     -999.0,9,     -999.0
320620170820,        P06,     186,          1,         21,         21,2,20170910,       1025,   -32.5003,  -113.9154,       2975,   503.2,   7.0230,  34.3507,2,  34.3419,2, 247.3396,2,   247.23,2,     6.2,2,   21.90,2,    0.00,2,    1.47,2,   3.574,2,   1.952,2,   1.2740,2,  2145.0,2,  2278.2,2,   7.7115,2,    25.00, -999.00,9, -999.00,9, -999.00,    42.0,2, -999.00,9,     -999.0,1,  -999.0,1, 20170910,     1133, -32.5000,-113.9160,        0.0,1,      0.059,1,      4.689,1,      0.132,1,     -999.0,1,     -999.0,9,     -999.0,9,     -999.0,9,     -999.0,9,     -999.0,9,     -999.0,9,     -999.0,9,     -999.0,9,     -999.0,9,     -999.0,9,     6.8444,2,     -999.0,     -999.0,9,     -999.0
320620170820,        P06,     186,          1,         22,         22,2,20170910,       1025,   -32.5003,  -113.9154,       2975,   454.2,   7.3387,  34.3545,2,  34.3545,2,  246.467,2, 246.5453,2,     5.2,2,   20.97,2,    0.00,2,    1.41,2,   3.576,2,   1.987,2,   1.2180,2,  -999.0,9,  -999.0,9,-999.0000,9,  -999.00, -999.00,9, -999.00,9, -999.00,  -999.0,9, -999.00,9,     -999.0,9,  -999.0,1, 20170910,     1135, -32.5000,-113.9160,        0.0,1,      0.060,1,      4.689,1,      0.133,1,     -999.0,1,     -999.0,9,     -999.0,9,     -999.0,9,     -999.0,9,     -999.0,9,     -999.0,9,     -999.0,9,     -999.0,9,     -999.0,9,     -999.0,9,     7.1994,2,     -999.0,     -999.0,9,     -999.0
320620170820,        P06,     186,          1,         23,         23,2,20170910,       1025,   -32.5003,  -113.9154,       2975,   404.2,   7.6866,  34.3516,2,  34.3482,2, 239.0806,2, 238.2951,2,     4.5,2,   20.48,2,    0.00,2,    1.39,2,   3.500,2,   1.956,2,   1.2690,2,  2143.9,2,  2276.7,2,   7.7144,2,    25.00, -999.00,9, -999.00,9, -999.00,    43.0,2, -999.00,9,     -999.0,1,  -999.0,1, 20170910,     1137, -32.5000,-113.9160,        0.0,1,      0.059,1,      4.688,1,      0.133,1,     -999.0,1,     -999.0,9,     -999.0,9,     -999.0,9,     -999.0,9,     -999.0,9,     -999.0,9,     -999.0,9,     -999.0,9,     -999.0,9,     -999.0,9,     7.6146,2,     -999.0,     -999.0,9,     -999.0
320620170820,        P06,     186,          1,         24,         24,2,20170910,       1025,   -32.5003,  -113.9154,       2975,   351.8,   8.4860,  34.3607,2,  34.3594,2, 227.9308,2, 228.1303,2,     3.5,2,   18.90,2,    0.00,2,    1.28,2,   3.405,2,   1.877,2,   1.3080,2,  -999.0,9,  -999.0,9,-999.0000,9,  -999.00, -999.00,9, -999.00,9, -999.00,    43.5,2, -999.00,9,     -999.0,1,  -999.0,1, 20170910,     1139, -32.5002,-113.9159,        0.0,1,      0.059,1,      4.687,1,      0.132,1,     -999.0,1,     -999.0,9,     -999.0,9,     -999.0,9,     -999.0,9,     -999.0,9,     -999.0,9,     -999.0,9,     -999.0,9,     -999.0,9,     -999.0,9,     8.5115,2,     -999.0,     -999.0,9,     -999.0
320620170820,        P06,     186,          1,         25,         25,2,20170910,       1025,   -32.5003,  -113.9154,       2975,   301.6,  10.0183,  34.4386,2,  34.4316,2, 221.4795,2, 222.1781,2,     2.1,2,   15.42,2,    0.00,2,    1.07,2,   3.201,2,   1.801,2,   1.2390,2,  2125.2,2,  2276.1,2,   7.7562,2,    25.00, -999.00,9, -999.00,9, -999.00,    47.9,2, -999.00,9,     -999.0,1,  -999.0,1, 20170910,     1141, -32.5002,-113.9157,        0.0,1,      0.059,1,      4.685,1,      0.133,1,     -999.0,1,     -999.0,9,     -999.0,9,     -999.0,9,     -999.0,9,     -999.0,9,     -999.0,9,     -999.0,9,     -999.0,9,     -999.0,9,     -999.0,9,     9.9900,2,     -999.0,     -999.0,9,     -999.0
320620170820,        P06,     186,          1,         26,         26,2,20170910,       1025,   -32.5003,  -113.9154,       2975,   253.3,  11.5116,  34.5120,2,  34.5070,2, 221.8786,2, 224.3694,2,     0.9,2,   11.02,2,    0.00,2,    0.80,2,   2.971,2,   1.720,2,   1.5480,2,  -999.0,9,  -999.0,9,-999.0000,9,  -999.00, -999.00,9, -999.00,9, -999.00,    52.6,2,   13.00,2,     -999.0,1,  -999.0,1, 20170910,     1143, -32.5003,-113.9156,        0.0,1,      0.061,1,      4.682,1,      0.132,1,     -999.0,1,     -999.0,9,     -999.0,9,     -999.0,9,     -999.0,9,     -999.0,9,     -999.0,9,     -999.0,9,     -999.0,9,     -999.0,9,     -999.0,9,    11.5547,2,     -999.0,     -999.0,9,     -999.0