BOTTLE,20240211CCHSIOCBG
EXPOCODE,SECT_ID,STNNBR,CASTNO,SAMPNO,BTLNBR,BTLNBR_FLAG_W,DATE,TIME,LATITUDE,LONGITUDE,DEPTH,CTDPRS,CTDTMP,CTDSAL,CTDSAL_FLAG_W,SALNTY,SALNTY_FLAG_W,CTDOXY,CTDOXY_FLAG_W,OXYGEN,OXYGEN_FLAG_W,SILCAT,SILCAT_FLAG_W,NITRAT,NITRAT_FLAG_W,NITRIT,NITRIT_FLAG_W,PHSPHT,PHSPHT_FLAG_W,CFC-11,CFC-11_FLAG_W,CFC-12,CFC-12_FLAG_W,SF6,SF6_FLAG_W,TCARBN,TCARBN_FLAG_W,ALKALI,ALKALI_FLAG_W,PH_TOT,PH_TOT_FLAG_W,PH_TMP,DELC13,DELC13_FLAG_W,DELC14,DELC14_FLAG_W,C14ERR,DOC,DOC_FLAG_W,TDN,TDN_FLAG_W,TON,TON_FLAG_W,D15N_NO3,D15N_NO3_FLAG_W,BTL_DATE,BTL_TIME,BTL_LAT,BTL_LON,CTDRINKO,CTDRINKO_FLAG_W,CTDFLUOR,CTDFLUOR_FLAG_W,CTDXMISS,CTDXMISS_FLAG_W,CTDBACKSCATTER,CTDBACKSCATTER_FLAG_W,D18O_NO3,D18O_NO3_FLAG_W,DOP,DOP_FLAG_W,CELLCOUNT,CELLCOUNT_FLAG_W,TDP,TDP_FLAG_W,POP,POP_FLAG_W,DATP,DATP_FLAG_W,PATP,PATP_FLAG_W,HPLC,HPLC_FLAG_W,POC,POC_FLAG_W,BEAMAP,BEAMAP_FLAG_W,DOC_NASA,DOC_NASA_FLAG_W,REFTMP,REFTMP_FLAG_W,DOC_NASA_ERROR,TDN_NASA,TDN_NASA_FLAG_W,TDN_NASA_ERROR
,,,,,,,,,,,METERS,DBAR,ITS-90,PSS-78,,PSS-78,,UMOL/KG,,UMOL/KG,,UMOL/KG,,UMOL/KG,,UMOL/KG,,UMOL/KG,,PMOL/KG,,PMOL/KG,,FMOL/KG,,UMOL/KG,,UMOL/KG,,,,DEG C,/MILLE,,/MILLE,,/MILLE,UMOL/KG,,UMOL/KG,,UMOL/KG,,/MILLE,,,,,,VOLTS,,VOLTS,,VOLTS,,VOLTS,,/MILLE,,UMOL/KG,,/LITER,,UMOL/KG,,UMOL/L,,PMOL/L,,PMOL/L,,,,UG/L,,/METER,,UMOL/L,,ITS-90,,UMOL/L,UMOL/L,,UMOL/L
320620170820,        P06,     208,          1,          1,          1,2,20170916,       2146,   -32.4999,   -97.9953,       2748,  2776.5,   1.7710,  34.6836,2,  34.6863,2, 165.0691,2,   165.71,2,   118.5,2,   34.30,2,    0.00,2,    2.38,2,   0.036,2,   0.020,2,   0.0000,2,  2295.7,6,  2392.6,2,   7.5895,2,    25.00, -999.00,9, -999.00,9, -999.00,    35.1,2, -999.00,9,     -999.0,1,  -999.0,9, 20170916,     2146, -32.4998, -97.9955,        0.0,1,      0.061,1,      4.689,1,      0.126,1,     -999.0,9,     -999.0,9,     -999.0,9,     -999.0,9,     -999.0,9,     -999.0,9,     -999.0,9,     -999.0,9,     -999.0,9,     -999.0,9,     -999.0,9,     1.7715,2,     -999.0,     -999.0,9,     -999.0
320620170820,        P06,     208,          1,          2,          2,2,20170916,       2146,   -32.4999,   -97.9953,       2748,  2533.6,   1.7913,  34.6780,2,  34.6779,2, 164.6525,2, 163.8508,2,   118.1,2,   34.40,2,    0.00,2,    2.39,2,   0.037,2,   0.023,2,   0.0000,2,  2295.7,2,  2390.3,2,   7.5864,2,    25.00, -999.00,9, -999.00,9, -999.00,  -999.0,9, -999.00,9,     -999.0,9,  -999.0,9, 20170916,     2151, -32.4997, -97.9957,        0.0,1,      0.061,1,      4.689,1,      0.127,1,     -999.0,9,     -999.0,9,     -999.0,9,     -999.0,9,     -999.0,9,     -999.0,9,     -999.0,9,     -999.0,9,     -999.0,9,     -999.0,9,     -999.0,9,     1.7914,2,     -999.0,     -999.0,9,     -999.0
320620170820,        P06,     208,          1,          3,          3,2,20170916,       2146,   -32.4999,   -97.9953,       2748,  2293.1,   1.8828,  34.6677,2,  34.6679,2, 161.5215,2, 161.2627,2,   114.9,2,   34.60,2,    0.00,2,    2.42,2,   0.039,2,   0.025,2,   0.0000,2,  2293.2,2,  2387.9,2,   7.5778,6,    25.00, -999.00,9, -999.00,9, -999.00,    35.5,2, -999.00,9,     -999.0,1,  -999.0,9, 20170916,     2156, -32.5000, -97.9954,        0.0,1,      0.061,1,      4.689,1,      0.127,1,     -999.0,9,     -999.0,9,     -999.0,9,     -999.0,9,     -999.0,9,     -999.0,9,     -999.0,9,     -999.0,9,     -999.0,9,     -999.0,9,     -999.0,9,     1.8836,2,     -999.0,     -999.0,9,     -999.0
320620170820,        P06,     208,          1,          4,          4,2,20170916,       2146,   -32.4999,   -97.9953,       2748,  2090.3,   2.0578,  34.6477,2,  34.6490,2, 157.4252,2, 158.0306,2,   109.8,2,   34.90,2,    0.00,2,    2.43,2,   0.041,2,   0.025,2,   0.0000,2,  2291.1,2,  2381.1,2,   7.5714,2,    25.00, -999.00,9, -999.00,9, -999.00,    36.2,2, -999.00,9,     -999.0,1,  -999.0,9, 20170916,     2201, -32.4999, -97.9954,        0.0,1,      0.061,1,      4.689,1,      0.128,1,     -999.0,9,     -999.0,9,     -999.0,9,     -999.0,9,     -999.0,9,     -999.0,9,     -999.0,9,     -999.0,9,     -999.0,9,     -999.0,9,     -999.0,9,     2.0488,2,     -999.0,     -999.0,9,     -999.0
320620170820,        P06,     208,          1,          5,          5,2,20170916,       2146,   -32.4999,   -97.9953,       2748,  1957.4,   2.2106,  34.6277,2,  34.6297,2, 154.0565,2, 154.6725,2,   105.7,2,   35.19,2,    0.00,2,    2.45,2,   0.041,2,   0.026,2,   0.0000,2,  2287.9,2,  2377.1,2,   7.5647,2,    25.00, -999.00,9, -999.00,9, -999.00,    38.0,2, -999.00,9,     -999.0,1,  -999.0,9, 20170916,     2204, -32.4999, -97.9954,        0.0,1,      0.060,1,      4.689,1,      0.128,1,     -999.0,9,     -999.0,9,     -999.0,9,     -999.0,9,     -999.0,9,     -999.0,9,     -999.0,9,     -999.0,9,     -999.0,9,     -999.0,9,     -999.0,9,     2.1880,2,     -999.0,     -999.0,9,     -999.0
320620170820,        P06,     208,          1,          6,          6,2,20170916,       2146,   -32.4999,   -97.9953,       2748,  1857.3,   2.3225,  34.6135,2,  34.6121,2, 151.1177,2, 150.4956,2,   102.5,2,   35.57,2,    0.00,2,    2.48,2,   0.039,2,   0.023,2,   0.0000,2,  2289.3,2,  2372.2,2,   7.5583,2,    25.00, -999.00,9, -999.00,9, -999.00,  -999.0,9, -999.00,9,     -999.0,9,  -999.0,9, 20170916,     2207, -32.5000, -97.9953,        0.0,1,      0.061,1,      4.689,1,      0.131,1,     -999.0,9,     -999.0,9,     -999.0,9,     -999.0,9,     -999.0,9,     -999.0,9,     -999.0,9,     -999.0,9,     -999.0,9,     -999.0,9,     -999.0,9,     2.3192,2,     -999.0,     -999.0,9,     -999.0
320620170820,        P06,     208,          1,          7,          7,2,20170916,       2146,   -32.4999,   -97.9953,       2748,  1754.0,   2.4616,  34.5969,2,  34.5961,2, 146.5326,2, 146.7575,2,    98.9,2,   35.88,2,    0.00,2,    2.51,2,   0.037,2,   0.023,2,   0.0000,2,  2289.5,2,  2368.5,2,   7.5517,2,    25.00, -999.00,9, -999.00,9, -999.00,    35.8,2, -999.00,9,     -999.0,1,  -999.0,9, 20170916,     2210, -32.4999, -97.9954,        0.0,1,      0.061,1,      4.689,1,      0.129,1,     -999.0,9,     -999.0,9,     -999.0,9,     -999.0,9,     -999.0,9,     -999.0,9,     -999.0,9,     -999.0,9,     -999.0,9,     -999.0,9,     -999.0,9,     2.4629,2,     -999.0,     -999.0,9,     -999.0
320620170820,        P06,     208,          1,          8,          8,2,20170916,       2146,   -32.4999,   -97.9953,       2748,  1653.7,   2.6206,  34.5816,2,  34.5865,2, 140.5674,2,  140.111,2,    95.6,2,   36.43,2,    0.00,2,    2.56,2,   0.042,2,   0.026,2,   0.0000,2,  2288.8,2,  2366.6,2,   7.5408,2,    25.00, -999.00,9, -999.00,9, -999.00,  -999.0,9, -999.00,9,     -999.0,9,  -999.0,9, 20170916,     2213, -32.5000, -97.9954,        0.0,1,      0.061,1,      4.689,1,      0.131,1,     -999.0,9,     -999.0,9,     -999.0,9,     -999.0,9,     -999.0,9,     -999.0,9,     -999.0,9,     -999.0,9,     -999.0,9,     -999.0,9,     -999.0,9,     2.6420,2,     -999.0,     -999.0,9,     -999.0
320620170820,        P06,     208,          1,          9,          9,2,20170916,       2146,   -32.4999,   -97.9953,       2748,  1552.0,   2.8151,  34.5648,2,  34.5626,2, 134.7106,2, 134.5232,2,    92.6,2,   37.03,2,    0.00,2,    2.60,2,   0.039,2,   0.026,2,   0.0000,2,  2288.2,2,  2360.8,2,   7.5303,2,    25.00, -999.00,9, -999.00,9, -999.00,    35.3,2, -999.00,9,     -999.0,1,  -999.0,9, 20170916,     2215, -32.5000, -97.9954,        0.0,1,      0.062,1,      4.688,1,      0.131,1,     -999.0,9,     -999.0,9,     -999.0,9,     -999.0,9,     -999.0,9,     -999.0,9,     -999.0,9,     -999.0,9,     -999.0,9,     -999.0,9,     -999.0,9,     2.8299,2,     -999.0,     -999.0,9,     -999.0
320620170820,        P06,     208,          1,         10,         10,2,20170916,       2146,   -32.4999,   -97.9953,       2748,  1450.4,   3.0040,  34.5494,2,  34.5463,2, 127.3611,2,  127.398,2,    88.8,2,   37.59,2,    0.00,2,    2.64,2,   0.043,2,   0.027,2,   0.0000,2,  2289.9,2,  2356.5,2,   7.5186,2,    25.00, -999.00,9, -999.00,9, -999.00,  -999.0,9, -999.00,9,     -999.0,9,  -999.0,9, 20170916,     2218, -32.4999, -97.9955,        0.0,1,      0.061,1,      4.688,1,      0.133,1,     -999.0,9,     -999.0,9,     -999.0,9,     -999.0,9,     -999.0,9,     -999.0,9,     -999.0,9,     -999.0,9,     -999.0,9,     -999.0,9,     -999.0,9,     3.0237,2,     -999.0,     -999.0,9,     -999.0
320620170820,        P06,     208,          1,         11,         11,2,20170916,       2146,   -32.4999,   -97.9953,       2748,  1349.2,   3.2344,  34.5239,2,  34.5231,2,  122.386,2, 122.8398,2,    82.7,2,   38.09,2,    0.00,2,    2.68,2,   0.043,2,   0.029,2,   0.0000,2,  2285.9,6,  2350.0,2,   7.5087,2,    25.00, -999.00,9, -999.00,9, -999.00,    37.4,2, -999.00,9,     -999.0,1,  -999.0,9, 20170916,     2221, -32.5000, -97.9954,        0.0,1,      0.061,1,      4.687,1,      0.132,1,     -999.0,9,     -999.0,9,     -999.0,9,     -999.0,9,     -999.0,9,     -999.0,9,     -999.0,9,     -999.0,9,     -999.0,9,     -999.0,9,     -999.0,9,     3.2328,2,     -999.0,     -999.0,9,     -999.0
320620170820,        P06,     208,          1,         12,         12,2,20170916,       2146,   -32.4999,   -97.9953,       2748,  1248.6,   3.4238,  34.4792,2,  34.4797,2, 126.2125,2, 125.8267,2,    72.4,2,   38.12,2,    0.00,2,    2.66,2,   0.058,2,   0.036,2,   0.0000,2,  2275.1,2,  2336.2,2,   7.5049,2,    25.00, -999.00,9, -999.00,9, -999.00,  -999.0,9, -999.00,9,     -999.0,9,  -999.0,9, 20170916,     2224, -32.5000, -97.9953,        0.0,1,      0.062,1,      4.687,1,      0.133,1,     -999.0,9,     -999.0,9,     -999.0,9,     -999.0,9,     -999.0,9,     -999.0,9,     -999.0,9,     -999.0,9,     -999.0,9,     -999.0,9,     -999.0,9,     3.4167,2,     -999.0,     -999.0,9,     -999.0
320620170820,        P06,     208,          1,         13,         13,2,20170916,       2146,   -32.4999,   -97.9953,       2748,  1147.4,   3.6045,  34.4164,2,  34.4175,2, 142.9815,2, 143.7581,2,    58.0,2,   36.87,2,    0.00,2,    2.55,2,   0.141,2,   0.084,2,   0.0000,2,  2251.8,2,  2320.4,2,   7.5242,2,    25.00, -999.00,9, -999.00,9, -999.00,  -999.0,9, -999.00,9,     -999.0,1,  -999.0,9, 20170916,     2226, -32.4999, -97.9955,        0.0,1,      0.061,1,      4.687,1,      0.134,1,     -999.0,9,     -999.0,9,     -999.0,9,     -999.0,9,     -999.0,9,     -999.0,9,     -999.0,9,     -999.0,9,     -999.0,9,     -999.0,9,     -999.0,9,     3.5885,2,     -999.0,     -999.0,9,     -999.0
320620170820,        P06,     208,          1,         14,         14,2,20170916,       2146,   -32.4999,   -97.9953,       2748,  1045.2,   3.9018,  34.3526,2,  34.3535,3, 169.3984,2, 168.0654,2,    43.4,2,   34.81,2,    0.00,2,    2.39,2,   0.432,2,   0.230,2,   0.0480,2,  2227.0,2,  2305.5,2,   7.5597,2,    25.00, -999.00,9, -999.00,9, -999.00,    39.7,2, -999.00,9,     -999.0,1,  -999.0,9, 20170916,     2229, -32.5000, -97.9952,        0.0,1,      0.061,1,      4.687,1,      0.132,1,     -999.0,9,     -999.0,9,     -999.0,9,     -999.0,9,     -999.0,9,     -999.0,9,     -999.0,9,     -999.0,9,     -999.0,9,     -999.0,9,     -999.0,9,     3.9042,2,     -999.0,     -999.0,9,     -999.0
320620170820,        P06,     208,          1,         15,         15,2,20170916,       2146,   -32.4999,   -97.9953,       2748,   944.4,   4.2798,  34.3020,2,  34.2978,2, 198.0778,2, 197.9747,2,    29.5,2,   31.74,2,    0.00,2,    2.17,2,   1.225,2,   0.596,2,   0.1750,2,  2198.4,2,  2292.1,2,   7.6054,2,    25.00, -999.00,9, -999.00,9, -999.00,  -999.0,9, -999.00,9,     -999.0,9,  -999.0,9, 20170916,     2232, -32.5001, -97.9952,        0.0,1,      0.060,1,      4.689,1,      0.132,1,     -999.0,9,     -999.0,9,     -999.0,9,     -999.0,9,     -999.0,9,     -999.0,9,     -999.0,9,     -999.0,9,     -999.0,9,     -999.0,9,     -999.0,9,     4.3241,2,     -999.0,     -999.0,9,     -999.0
320620170820,        P06,     208,          1,         16,         16,2,20170916,       2146,   -32.4999,   -97.9953,       2748,   842.7,   4.8869,  34.2707,2,  34.2693,2, 212.4352,2, 213.0402,2,    19.8,2,   29.59,2,    0.00,2,    2.01,2,   2.095,2,   1.024,2,   0.2700,2,  2179.6,2,  2283.8,6,   7.6324,2,    25.00, -999.00,9, -999.00,9, -999.00,    39.5,2, -999.00,9,     -999.0,1,  -999.0,9, 20170916,     2235, -32.5000, -97.9953,        0.0,1,      0.060,1,      4.688,1,      0.132,1,     -999.0,9,     -999.0,9,     -999.0,9,     -999.0,9,     -999.0,9,     -999.0,9,     -999.0,9,     -999.0,9,     -999.0,9,     -999.0,9,     -999.0,9,     4.8882,2,     -999.0,     -999.0,9,     -999.0
320620170820,        P06,     208,          1,         17,         17,2,20170916,       2146,   -32.4999,   -97.9953,       2748,   740.8,   5.3641,  34.2608,2,  34.2583,2, 229.7383,2,  230.357,2,    13.3,2,   27.21,2,    0.00,2,    1.84,2,   3.017,6,   1.472,6,   0.4985,6,  2164.0,2,  2279.1,2,   7.6623,2,    25.00, -999.00,9, -999.00,9, -999.00,    40.9,2, -999.00,9,     -999.0,1,  -999.0,9, 20170916,     2239, -32.4999, -97.9953,        0.0,1,      0.058,1,      4.688,1,      0.132,1,     -999.0,9,     -999.0,9,     -999.0,9,     -999.0,9,     -999.0,9,     -999.0,9,     -999.0,9,     -999.0,9,     -999.0,9,     -999.0,9,     -999.0,9,     5.3637,2,     -999.0,     -999.0,9,     -999.0
320620170820,        P06,     208,          1,         18,         18,2,20170916,       2146,   -32.4999,   -97.9953,       2748,   641.2,   5.7838,  34.2686,2,  34.2676,2, 238.5997,2,   238.94,2,    10.0,2,   25.49,2,    0.00,2,    1.71,2,   3.510,2,   1.762,2,   0.7730,2,  2154.6,6,  2275.3,2,   7.6785,2,    25.00, -999.00,9, -999.00,9, -999.00,    40.8,2, -999.00,9,     -999.0,1,  -999.0,9, 20170916,     2242, -32.5001, -97.9952,        0.0,1,      0.060,1,      4.687,1,      0.133,1,     -999.0,9,     -999.0,9,     -999.0,9,     -999.0,9,     -999.0,9,     -999.0,9,     -999.0,9,     -999.0,9,     -999.0,9,     -999.0,9,     -999.0,9,     5.7664,2,     -999.0,     -999.0,9,     -999.0
320620170820,        P06,     208,          1,         19,         19,2,20170916,       2146,   -32.4999,   -97.9953,       2748,   539.2,   6.2342,  34.2909,2,  34.2895,2, 239.9836,2,  238.407,2,     8.3,2,   24.38,2,    0.00,2,    1.65,2,   3.676,2,   1.917,2,   0.8570,2,  2153.4,2,  2273.3,2,   7.6830,2,    25.00, -999.00,9, -999.00,9, -999.00,    40.7,2, -999.00,9,     -999.0,1,  -999.0,9, 20170916,     2244, -32.5001, -97.9951,        0.0,1,      0.059,1,      4.686,1,      0.132,1,     -999.0,9,     -999.0,9,     -999.0,9,     -999.0,9,     -999.0,9,     -999.0,9,     -999.0,9,     -999.0,9,     -999.0,9,     -999.0,9,     -999.0,9,     6.2450,2,     -999.0,     -999.0,9,     -999.0
320620170820,        P06,     208,          1,         20,         20,2,20170916,       2146,   -32.4999,   -97.9953,       2748,   469.4,   6.6175,  34.2961,2,  34.2915,2, 226.7075,2, 227.2025,2,     7.7,2,   24.36,2,    0.00,2,    1.67,2,   3.628,2,   1.922,2,   1.0580,2,  2158.3,2,  2273.7,2,   7.6665,2,    25.00, -999.00,9, -999.00,9, -999.00,  -999.0,9, -999.00,9,     -999.0,9,  -999.0,9, 20170916,     2247, -32.5002, -97.9950,        0.0,1,      0.060,1,      4.685,1,      0.132,1,     -999.0,9,     -999.0,9,     -999.0,9,     -999.0,9,     -999.0,9,     -999.0,9,     -999.0,9,     -999.0,9,     -999.0,9,     -999.0,9,     -999.0,9,     6.6447,2,     -999.0,     -999.0,9,     -999.0
320620170820,        P06,     208,          1,         21,         21,2,20170916,       2146,   -32.4999,   -97.9953,       2748,   419.6,   7.0303,  34.2683,2,  34.2693,2, 221.5783,2, 221.3928,2,     6.8,2,   23.89,2,    0.00,2,    1.65,2,   3.634,2,   1.952,2,   1.2060,2,  2157.0,2,  2272.3,2,   7.6614,2,    25.00, -999.00,9, -999.00,9, -999.00,    44.0,2, -999.00,5,     -999.0,1,  -999.0,9, 20170916,     2249, -32.5002, -97.9951,        0.0,1,      0.059,1,      4.684,1,      0.132,1,     -999.0,9,     -999.0,9,     -999.0,9,     -999.0,9,     -999.0,9,     -999.0,9,     -999.0,9,     -999.0,9,     -999.0,9,     -999.0,9,     -999.0,9,     7.0117,2,     -999.0,     -999.0,9,     -999.0
320620170820,        P06,     208,          1,         22,         22,2,20170916,       2146,   -32.4999,   -97.9953,       2748,   365.5,   7.8923,  34.2556,2,  34.2526,2, 212.1955,2, 212.2298,2,     5.5,2,   22.52,2,    0.00,2,    1.59,2,   3.536,2,   1.910,2,   1.2240,2,  2153.8,2,  2267.8,2,   7.6662,2,    25.00, -999.00,9, -999.00,9, -999.00,    43.0,2,   24.20,2,     -999.0,1,  -999.0,9, 20170916,     2251, -32.5001, -97.9951,        0.0,1,      0.060,1,      4.683,1,      0.133,1,     -999.0,9,     -999.0,9,     -999.0,9,     -999.0,9,     -999.0,9,     -999.0,9,     -999.0,9,     -999.0,9,     -999.0,9,     -999.0,9,     -999.0,9,     7.8323,2,     -999.0,     -999.0,9,     -999.0
320620170820,        P06,     208,          1,         23,         23,2,20170916,       2146,   -32.4999,   -97.9953,       2748,   318.7,   8.8698,  34.2324,2,  34.2346,2, 221.0473,2, 222.2575,2,     2.7,2,   19.16,2,    0.00,2,    1.36,2,   3.471,2,   1.911,2,   1.4090,2,  2134.3,2,  2264.5,2,   7.7110,2,    25.00, -999.00,9, -999.00,9, -999.00,    44.5,2,   21.20,2,     -999.0,1,  -999.0,9, 20170916,     2253, -32.5001, -97.9951,        0.0,1,      0.060,1,      4.682,1,      0.130,1,     -999.0,9,     -999.0,9,     -999.0,9,     -999.0,9,     -999.0,9,     -999.0,9,     -999.0,9,     -999.0,9,     -999.0,9,     -999.0,9,     -999.0,9,     8.8896,2,     -999.0,     -999.0,9,     -999.0
320620170820,        P06,     208,          1,         24,         24,2,20170916,       2146,   -32.4999,   -97.9953,       2748,   268.2,  10.2775,  34.2393,2,  34.2413,2, 217.5577,2, 217.5458,2,     1.1,2,   15.67,2,    0.00,2,    1.12,2,-999.000,9,-999.000,9,-999.0000,9,  2117.9,2,  2261.8,2,   7.7501,2,    25.00, -999.00,9, -999.00,9, -999.00,    43.5,2,   17.90,2,     -999.0,1,  -999.0,9, 20170916,     2255, -32.5002, -97.9951,        0.0,1,      0.060,1,      4.679,1,      0.136,1,     -999.0,9,     -999.0,9,     -999.0,9,     -999.0,9,     -999.0,9,     -999.0,9,     -999.0,9,     -999.0,9,     -999.0,9,     -999.0,9,     -999.0,9,    10.6091,2,     -999.0,     -999.0,9,     -999.0
320620170820,        P06,     208,          1,         25,         25,2,20170916,       2146,   -32.4999,   -97.9953,       2748,   236.0,  11.7002,  34.2733,2,  34.2458,3, 216.3329,2, 215.7546,2,     0.7,2,   14.18,2,    0.00,2,    1.03,2,   3.136,2,   1.773,2,   1.4450,2,  2111.6,2,  2264.6,2,   7.7673,6,    25.00, -999.00,9, -999.00,9, -999.00,  -999.0,9, -999.00,9,     -999.0,9,  -999.0,9, 20170916,     2257, -32.5001, -97.9951,        0.0,1,      0.062,1,      4.676,1,      0.133,1,     -999.0,9,     -999.0,9,     -999.0,9,     -999.0,9,     -999.0,9,     -999.0,9,     -999.0,9,     -999.0,9,     -999.0,9,     -999.0,9,     -999.0,9,    11.4511,2,     -999.0,     -999.0,9,     -999.0
320620170820,        P06,     208,          1,         26,         26,2,20170916,       2146,   -32.4999,   -97.9953,       2748,   212.4,  12.9605,  34.4291,2,  34.4218,2, 217.8383,2, 216.7066,2,     0.3,2,    9.62,2,    0.02,2,    0.73,2,-999.000,9,-999.000,9,-999.0000,9,  2095.5,2,  2270.6,2,   7.8170,2,    25.00, -999.00,9, -999.00,9, -999.00,    47.2,2,   11.80,2,     -999.0,1,  -999.0,9, 20170916,     2259, -32.5000, -97.9952,        0.0,1,      0.069,1,      4.674,1,      0.137,1,     -999.0,9,     -999.0,9,     -999.0,9,     -999.0,9,     -999.0,9,     -999.0,9,     -999.0,9,     -999.0,9,     -999.0,9,     -999.0,9,     -999.0,9,    12.9498,2,     -999.0,     -999.0,9,     -999.0