BOTTLE,20240211CCHSIOCBG
EXPOCODE,SECT_ID,STNNBR,CASTNO,SAMPNO,BTLNBR,BTLNBR_FLAG_W,DATE,TIME,LATITUDE,LONGITUDE,DEPTH,CTDPRS,CTDTMP,CTDSAL,CTDSAL_FLAG_W,SALNTY,SALNTY_FLAG_W,CTDOXY,CTDOXY_FLAG_W,OXYGEN,OXYGEN_FLAG_W,SILCAT,SILCAT_FLAG_W,NITRAT,NITRAT_FLAG_W,NITRIT,NITRIT_FLAG_W,PHSPHT,PHSPHT_FLAG_W,CFC-11,CFC-11_FLAG_W,CFC-12,CFC-12_FLAG_W,SF6,SF6_FLAG_W,TCARBN,TCARBN_FLAG_W,ALKALI,ALKALI_FLAG_W,PH_TOT,PH_TOT_FLAG_W,PH_TMP,DELC13,DELC13_FLAG_W,DELC14,DELC14_FLAG_W,C14ERR,DOC,DOC_FLAG_W,TDN,TDN_FLAG_W,TON,TON_FLAG_W,D15N_NO3,D15N_NO3_FLAG_W,BTL_DATE,BTL_TIME,BTL_LAT,BTL_LON,CTDRINKO,CTDRINKO_FLAG_W,CTDFLUOR,CTDFLUOR_FLAG_W,CTDXMISS,CTDXMISS_FLAG_W,CTDBACKSCATTER,CTDBACKSCATTER_FLAG_W,D18O_NO3,D18O_NO3_FLAG_W,DOP,DOP_FLAG_W,CELLCOUNT,CELLCOUNT_FLAG_W,TDP,TDP_FLAG_W,POP,POP_FLAG_W,DATP,DATP_FLAG_W,PATP,PATP_FLAG_W,HPLC,HPLC_FLAG_W,POC,POC_FLAG_W,BEAMAP,BEAMAP_FLAG_W,DOC_NASA,DOC_NASA_FLAG_W,REFTMP,REFTMP_FLAG_W,DOC_NASA_ERROR,TDN_NASA,TDN_NASA_FLAG_W,TDN_NASA_ERROR
,,,,,,,,,,,METERS,DBAR,ITS-90,PSS-78,,PSS-78,,UMOL/KG,,UMOL/KG,,UMOL/KG,,UMOL/KG,,UMOL/KG,,UMOL/KG,,PMOL/KG,,PMOL/KG,,FMOL/KG,,UMOL/KG,,UMOL/KG,,,,DEG C,/MILLE,,/MILLE,,/MILLE,UMOL/KG,,UMOL/KG,,UMOL/KG,,/MILLE,,,,,,VOLTS,,VOLTS,,VOLTS,,VOLTS,,/MILLE,,UMOL/KG,,/LITER,,UMOL/KG,,UMOL/L,,PMOL/L,,PMOL/L,,,,UG/L,,/METER,,UMOL/L,,ITS-90,,UMOL/L,UMOL/L,,UMOL/L
320620170820,        P06,     168,          1,         27,         27,2,20170904,       1804,   -32.5003,  -127.9686,       4094,   150.3,  15.8428,  34.9616,2,  35.0614,2, 234.0095,2, 234.2609,2,    -0.1,2,    0.48,2,    0.12,2,    0.14,2,   2.364,2,   1.413,2,   1.7260,2,  2061.3,2,  2304.2,2,   7.9360,2,    25.00, -999.00,9, -999.00,9, -999.00,    60.4,2,    4.30,2,     -999.0,1,  -999.0,1, 20170904,     1938, -32.5003,-127.9686,        0.0,1,      0.148,1,      4.658,1,      0.160,1,     -999.0,1,     -999.0,1,     -999.0,9,       0.46,2,     -999.0,9,     -999.0,9,     -999.0,9,     -999.0,9,     -999.0,9,     -999.0,9,     -999.0,9,    16.2981,2,     -999.0,     -999.0,9,     -999.0
320620170820,        P06,     168,          1,         30,         30,2,20170904,       1804,   -32.5003,  -127.9686,       4094,   124.4,  17.1353,  35.2156,2,-999.0000,9, 231.1355,2,-999.0000,9,  -999.0,9, -999.00,9, -999.00,9, -999.00,9,-999.000,9,-999.000,9,-999.0000,9,  -999.0,9,  -999.0,9,-999.0000,9,  -999.00, -999.00,9, -999.00,9, -999.00,    58.2,2, -999.00,9,     -999.0,9,  -999.0,9, 20170904,     1940, -32.5003,-127.9686,        0.0,1,      0.164,1,      4.648,1,      0.171,1,     -999.0,9,     -999.0,9,     -999.0,9,     -999.0,9,     -999.0,9,     -999.0,9,     -999.0,9,     -999.0,1,     -999.0,1,     -999.0,1,67.66773987,2,    16.9749,2,-83.18068276,47.42114703,2,     -999.0
320620170820,        P06,     168,          1,         28,         28,2,20170904,       1804,   -32.5003,  -127.9686,       4094,   123.4,  17.2023,  35.2349,2,  35.1756,2, 240.7831,2, 238.1193,2,    -0.2,2,   -0.02,2,    0.00,2,    0.08,2,   2.251,6,   1.337,6,   1.6335,6,  2053.9,2,  2309.4,6,   7.9629,2,    25.00, -999.00,9, -999.00,9, -999.00,  -999.0,9, -999.00,9,     -999.0,1,  -999.0,1, 20170904,     1939, -32.5003,-127.9686,        0.0,1,      0.165,1,      4.648,1,      0.170,1,     -999.0,1,     -999.0,1,     -999.0,9,     -999.0,9,     -999.0,9,     -999.0,9,     -999.0,9,     -999.0,9,     -999.0,9,     -999.0,9,     -999.0,9,    16.9864,2,     -999.0,     -999.0,9,     -999.0
320620170820,        P06,     168,          1,         29,         29,2,20170904,       1804,   -32.5003,  -127.9686,       4094,   123.3,  17.2023,  35.2349,2,-999.0000,9,  231.114,2,-999.0000,9,  -999.0,9, -999.00,9, -999.00,9, -999.00,9,-999.000,9,-999.000,9,-999.0000,9,  -999.0,9,  -999.0,9,-999.0000,9,  -999.00, -999.00,9, -999.00,9, -999.00,  -999.0,9, -999.00,9,     -999.0,9,  -999.0,9, 20170904,     1940, -32.5003,-127.9686,        0.0,1,      0.165,1,      4.648,1,      0.170,1,     -999.0,9,     -999.0,9,     -999.0,9,     -999.0,9,     -999.0,9,     -999.0,9,     -999.0,9,     -999.0,1,     -999.0,1,     -999.0,1,67.66773987,2,     -999.0,5,-83.18068276,47.42114703,2,     -999.0
320620170820,        P06,     168,          1,         31,         31,2,20170904,       1804,   -32.5003,  -127.9686,       4094,    99.7,  17.3886,  35.2748,2,  35.2723,2,   241.87,2, 237.1198,2,    -0.2,2,   -0.03,2,    0.00,2,    0.07,2,   2.135,2,   1.311,2,   1.6680,2,  2054.2,2,  2314.8,2,   7.9718,6,    25.00, -999.00,9, -999.00,9, -999.00,    62.2,2,    3.60,2,     -999.0,1,  -999.0,1, 20170904,     1941, -32.5002,-127.9685,        0.0,1,      0.111,1,      4.647,1,      0.176,1,     -999.0,1,     -999.0,1,     -999.0,9,       0.41,2,     -999.0,9,     -999.0,9,     -999.0,9,     -999.0,9,     -999.0,9,     -999.0,9,     -999.0,9,    17.4070,2,     -999.0,     -999.0,9,     -999.0
320620170820,        P06,     168,          1,         32,         32,2,20170904,       1804,   -32.5003,  -127.9686,       4094,    74.5,  17.2016,  35.1734,2,  35.1270,2, 243.2547,2, 239.6532,2,    -0.3,2,   -0.03,2,    0.00,2,    0.06,2,   2.258,2,   1.341,2,   1.6190,2,  2051.8,2,  2306.9,2,   7.9639,2,    25.00, -999.00,9, -999.00,9, -999.00,    66.6,2,    4.10,2,     -999.0,1,  -999.0,1, 20170904,     1943, -32.5002,-127.9685,        0.0,1,      0.084,1,      4.646,1,      0.174,1,     -999.0,1,     -999.0,1,     -999.0,9,       0.44,2,     -999.0,9,     -999.0,9,     -999.0,9,     -999.0,9,     -999.0,9,     -999.0,9,     -999.0,9,    17.1276,2,     -999.0,     -999.0,9,     -999.0
320620170820,        P06,     168,          1,         34,         34,2,20170904,       1804,   -32.5003,  -127.9686,       4094,    60.9,  17.0347,  35.0961,2,-999.0000,9, 232.9154,2,-999.0000,9,  -999.0,9, -999.00,9, -999.00,9, -999.00,9,-999.000,9,-999.000,9,-999.0000,9,  -999.0,9,  -999.0,9,-999.0000,9,  -999.00, -999.00,9, -999.00,9, -999.00,    62.2,2, -999.00,9,     -999.0,9,  -999.0,9, 20170904,     1944, -32.5002,-127.9686,        0.0,1,      0.079,1,      4.647,1,      0.173,1,     -999.0,9,     -999.0,9,     -999.0,9,     -999.0,9,     -999.0,9,     -999.0,9,     -999.0,9,     -999.0,1,     -999.0,1,     -999.0,1,70.28530719,2,     -999.0,5,-83.18068276,56.34542193,2,     -999.0
320620170820,        P06,     168,          1,         33,         33,2,20170904,       1804,   -32.5003,  -127.9686,       4094,    60.6,  17.0347,  35.0961,2,  35.1221,2, 243.7353,2, 239.7414,2,    -0.3,2,   -0.03,2,    0.00,2,    0.09,2,   2.261,2,   1.329,2,   1.6100,2,  2051.6,2,  2305.6,2,   7.9627,2,    25.00, -999.00,9, -999.00,9, -999.00,  -999.0,9, -999.00,9,     -999.0,1,  -999.0,1, 20170904,     1944, -32.5002,-127.9686,        0.0,1,      0.079,1,      4.647,1,      0.173,1,     -999.0,1,     -999.0,1,     -999.0,9,     -999.0,9,     -999.0,9,     -999.0,9,     -999.0,9,     -999.0,9,     -999.0,9,     -999.0,9,     -999.0,9,    17.1201,2,     -999.0,     -999.0,9,     -999.0
320620170820,        P06,     168,          1,         35,         35,2,20170904,       1804,   -32.5003,  -127.9686,       4094,    23.4,  17.2308,  35.1547,2,  35.1713,2, 243.7149,2, 238.9701,2,    -0.2,2,   -0.02,2,    0.00,2,    0.07,2,   2.260,2,   1.310,2,   1.6880,2,  2052.0,2,  2309.0,2,   7.9684,2,    25.00, -999.00,9, -999.00,9, -999.00,    65.9,2,    3.80,2,     -999.0,1,  -999.0,1, 20170904,     1946, -32.5003,-127.9686,        0.0,1,      0.074,1,      4.652,1,      0.162,1,     -999.0,1,     -999.0,1,     -999.0,9,       0.42,2,     -999.0,9,     -999.0,9,     -999.0,9,     -999.0,9,     -999.0,9,     -999.0,9,     -999.0,9,    17.2787,2,     -999.0,     -999.0,9,     -999.0
320620170820,        P06,     168,          1,         36,         36,2,20170904,       1804,   -32.5003,  -127.9686,       4094,     4.5,  17.3462,  35.1874,2,  35.2613,2, 240.5143,2, 236.8986,2,    -0.2,2,   -0.02,2,    0.00,2,    0.09,2,   2.223,2,   1.264,2,   1.5990,2,  2051.2,6,  2313.0,2,   7.9776,2,    25.00,    0.78,2,   53.66,2,    4.39,    68.3,2,    4.00,2,     -999.0,1,  -999.0,1, 20170904,     1948, -32.5003,-127.9686,        0.0,1,      0.070,1,      4.654,1,      0.157,1,     -999.0,1,     -999.0,1,     -999.0,9,       0.41,2,     -999.0,9,     -999.0,9,     -999.0,9,     -999.0,9,     -999.0,9,     -999.0,9,     -999.0,9,    17.7274,2,     -999.0,     -999.0,9,     -999.0