BOTTLE,20240211CCHSIOCBG
EXPOCODE,SECT_ID,STNNBR,CASTNO,SAMPNO,BTLNBR,BTLNBR_FLAG_W,DATE,TIME,LATITUDE,LONGITUDE,DEPTH,CTDPRS,CTDTMP,CTDSAL,CTDSAL_FLAG_W,SALNTY,SALNTY_FLAG_W,CTDOXY,CTDOXY_FLAG_W,OXYGEN,OXYGEN_FLAG_W,SILCAT,SILCAT_FLAG_W,NITRAT,NITRAT_FLAG_W,NITRIT,NITRIT_FLAG_W,PHSPHT,PHSPHT_FLAG_W,CFC-11,CFC-11_FLAG_W,CFC-12,CFC-12_FLAG_W,SF6,SF6_FLAG_W,TCARBN,TCARBN_FLAG_W,ALKALI,ALKALI_FLAG_W,PH_TOT,PH_TOT_FLAG_W,PH_TMP,DELC13,DELC13_FLAG_W,DELC14,DELC14_FLAG_W,C14ERR,DOC,DOC_FLAG_W,TDN,TDN_FLAG_W,TON,TON_FLAG_W,D15N_NO3,D15N_NO3_FLAG_W,BTL_DATE,BTL_TIME,BTL_LAT,BTL_LON,CTDRINKO,CTDRINKO_FLAG_W,CTDFLUOR,CTDFLUOR_FLAG_W,CTDXMISS,CTDXMISS_FLAG_W,CTDBACKSCATTER,CTDBACKSCATTER_FLAG_W,D18O_NO3,D18O_NO3_FLAG_W,DOP,DOP_FLAG_W,CELLCOUNT,CELLCOUNT_FLAG_W,TDP,TDP_FLAG_W,POP,POP_FLAG_W,DATP,DATP_FLAG_W,PATP,PATP_FLAG_W,HPLC,HPLC_FLAG_W,POC,POC_FLAG_W,BEAMAP,BEAMAP_FLAG_W,DOC_NASA,DOC_NASA_FLAG_W,REFTMP,REFTMP_FLAG_W,DOC_NASA_ERROR,TDN_NASA,TDN_NASA_FLAG_W,TDN_NASA_ERROR
,,,,,,,,,,,METERS,DBAR,ITS-90,PSS-78,,PSS-78,,UMOL/KG,,UMOL/KG,,UMOL/KG,,UMOL/KG,,UMOL/KG,,UMOL/KG,,PMOL/KG,,PMOL/KG,,FMOL/KG,,UMOL/KG,,UMOL/KG,,,,DEG C,/MILLE,,/MILLE,,/MILLE,UMOL/KG,,UMOL/KG,,UMOL/KG,,/MILLE,,,,,,VOLTS,,VOLTS,,VOLTS,,VOLTS,,/MILLE,,UMOL/KG,,/LITER,,UMOL/KG,,UMOL/L,,PMOL/L,,PMOL/L,,,,UG/L,,/METER,,UMOL/L,,ITS-90,,UMOL/L,UMOL/L,,UMOL/L
320620170820,        P06,     223,          1,          1,          1,2,20170922,       0127,   -32.4996,   -84.6453,       3921,  3977.0,   1.6705,  34.6946,2,  34.6944,2, 164.7197,2, 164.7079,2,   122.9,2,   34.64,2,    0.00,2,    2.40,2,   0.024,2,   0.019,2,   0.0000,4,  2307.4,6,  2403.6,2,   7.5888,2,    25.00, -999.00,9, -999.00,9, -999.00,  -999.0,9, -999.00,9,     -999.0,9,  -999.0,9, 20170922,      127, -32.4997, -84.6453,        0.0,1,      0.061,1,      4.678,1,      0.146,1,     -999.0,9,     -999.0,9,     -999.0,9,     -999.0,9,     -999.0,9,     -999.0,9,     -999.0,9,     -999.0,9,     -999.0,9,     -999.0,9,     -999.0,9,     1.6707,2,     -999.0,     -999.0,9,     -999.0
320620170820,        P06,     223,          1,          2,          2,2,20170922,       0127,   -32.4996,   -84.6453,       3921,  3860.7,   1.6583,  34.6947,2,  34.6948,2, 164.7197,2, 164.5867,2,   122.9,2,   34.60,2,    0.00,2,    2.40,2,   0.022,2,   0.018,2,   0.0000,4,  2306.2,2,  2401.7,6,   7.5893,2,    25.00, -999.00,9, -999.00,9, -999.00,  -999.0,9, -999.00,9,     -999.0,9,  -999.0,9, 20170922,      130, -32.4997, -84.6453,        0.0,1,      0.062,1,      4.679,1,      0.142,1,     -999.0,9,     -999.0,9,     -999.0,9,     -999.0,9,     -999.0,9,     -999.0,9,     -999.0,9,     -999.0,9,     -999.0,9,     -999.0,9,     -999.0,9,     1.6585,2,     -999.0,     -999.0,9,     -999.0
320620170820,        P06,     223,          1,          3,          3,2,20170922,       0127,   -32.4996,   -84.6453,       3921,  3757.4,   1.6494,  34.6946,2,  34.6950,2, 164.7197,2,  164.698,2,   122.7,2,   34.58,2,    0.00,2,    2.41,2,   0.018,2,   0.017,2,   0.0000,4,  2307.1,2,  2403.6,2,   7.5891,2,    25.00, -999.00,9, -999.00,9, -999.00,  -999.0,9, -999.00,9,     -999.0,9,  -999.0,9, 20170922,      133, -32.4997, -84.6453,        0.0,1,      0.061,1,      4.681,1,      0.133,1,     -999.0,9,     -999.0,9,     -999.0,9,     -999.0,9,     -999.0,9,     -999.0,9,     -999.0,9,     -999.0,9,     -999.0,9,     -999.0,9,     -999.0,9,     1.6495,2,     -999.0,     -999.0,9,     -999.0
320620170820,        P06,     223,          1,          4,          4,2,20170922,       0127,   -32.4996,   -84.6453,       3921,  3450.9,   1.6674,  34.6926,2,  34.6922,2, 164.5901,2, 165.0262,2,   121.9,2,   34.51,2,    0.00,2,    2.39,2,   0.023,2,   0.020,2,   0.0000,4,  2303.2,2,  2396.3,2,   7.5861,2,    25.00, -999.00,9, -999.00,9, -999.00,  -999.0,9, -999.00,9,     -999.0,9,  -999.0,9, 20170922,      139, -32.4997, -84.6453,        0.0,1,      0.061,1,      4.684,1,      0.130,1,     -999.0,9,     -999.0,9,     -999.0,9,     -999.0,9,     -999.0,9,     -999.0,9,     -999.0,9,     -999.0,9,     -999.0,9,     -999.0,9,     -999.0,9,     1.6679,2,     -999.0,     -999.0,9,     -999.0
320620170820,        P06,     223,          1,          5,          5,2,20170922,       0127,   -32.4996,   -84.6453,       3921,  3145.1,   1.7569,  34.6855,2,  34.6855,2, 161.3686,2, 160.5019,2,   121.7,2,   34.76,2,    0.00,2,    2.42,2,   0.016,2,   0.018,2,   0.0000,4,  2303.3,2,  2397.1,2,   7.5803,2,    25.00, -999.00,9, -999.00,9, -999.00,  -999.0,9, -999.00,9,     -999.0,9,  -999.0,9, 20170922,      145, -32.4998, -84.6452,        0.0,1,      0.061,1,      4.684,1,      0.130,1,     -999.0,9,     -999.0,9,     -999.0,9,     -999.0,9,     -999.0,9,     -999.0,9,     -999.0,9,     -999.0,9,     -999.0,9,     -999.0,9,     -999.0,9,     1.7559,2,     -999.0,     -999.0,9,     -999.0
320620170820,        P06,     223,          1,          6,          6,2,20170922,       0127,   -32.4996,   -84.6453,       3921,  2874.1,   1.8226,  34.6781,2,  34.6777,2, 156.5539,2,  156.582,2,   120.8,2,   35.02,2,    0.00,2,    2.44,2,   0.021,2,   0.020,2,   0.0000,4,  2305.3,2,  2396.0,2,   7.5756,2,    25.00, -999.00,9, -999.00,9, -999.00,  -999.0,9, -999.00,9,     -999.0,9,  -999.0,9, 20170922,      151, -32.4999, -84.6451,        0.0,1,      0.061,1,      4.684,1,      0.132,1,     -999.0,9,     -999.0,9,     -999.0,9,     -999.0,9,     -999.0,9,     -999.0,9,     -999.0,9,     -999.0,9,     -999.0,9,     -999.0,9,     -999.0,9,     1.8209,2,     -999.0,     -999.0,9,     -999.0
320620170820,        P06,     223,          1,          7,          7,2,20170922,       0127,   -32.4996,   -84.6453,       3921,  2568.2,   1.9049,  34.6672,2,  34.6665,2, 151.2718,2, 151.5544,2,   120.1,2,   35.45,2,    0.00,2,    2.48,2,   0.023,2,   0.020,2,   0.0000,4,  2308.7,2,  2395.1,2,   7.5661,6,    25.00, -999.00,9, -999.00,9, -999.00,  -999.0,9, -999.00,9,     -999.0,9,  -999.0,9, 20170922,      157, -32.5001, -84.6449,        0.0,1,      0.061,1,      4.684,1,      0.133,1,     -999.0,9,     -999.0,9,     -999.0,9,     -999.0,9,     -999.0,9,     -999.0,9,     -999.0,9,     -999.0,9,     -999.0,9,     -999.0,9,     -999.0,9,     1.9094,2,     -999.0,     -999.0,9,     -999.0
320620170820,        P06,     223,          1,          8,          8,2,20170922,       0127,   -32.4996,   -84.6453,       3921,  2361.4,   1.9952,  34.6568,2,  34.6563,2,  146.947,2, 147.5502,2,   118.3,2,   35.73,2,    0.00,2,    2.52,2,   0.022,2,   0.023,2,   0.0000,4,  2307.4,2,  2392.5,2,   7.5597,2,    25.00, -999.00,9, -999.00,9, -999.00,  -999.0,9, -999.00,9,     -999.0,9,  -999.0,9, 20170922,      201, -32.5000, -84.6450,        0.0,1,      0.061,1,      4.684,1,      0.134,1,     -999.0,9,     -999.0,9,     -999.0,9,     -999.0,9,     -999.0,9,     -999.0,9,     -999.0,9,     -999.0,9,     -999.0,9,     -999.0,9,     -999.0,9,     1.9936,2,     -999.0,     -999.0,9,     -999.0
320620170820,        P06,     223,          1,          9,          9,2,20170922,       0127,   -32.4996,   -84.6453,       3921,  2108.7,   2.1721,  34.6391,2,  34.6392,2, 140.5726,2, 140.3331,2,   114.8,2,   36.33,2,    0.00,2,    2.56,2,   0.020,2,   0.024,2,   0.0000,4,  2308.6,2,  2387.9,2,   7.5470,2,    25.00, -999.00,9, -999.00,9, -999.00,  -999.0,9, -999.00,9,     -999.0,9,  -999.0,9, 20170922,      207, -32.4997, -84.6452,        0.0,1,      0.062,1,      4.683,1,      0.133,1,     -999.0,9,     -999.0,9,     -999.0,9,     -999.0,9,     -999.0,9,     -999.0,9,     -999.0,9,     -999.0,9,     -999.0,9,     -999.0,9,     -999.0,9,     2.1630,2,     -999.0,     -999.0,9,     -999.0
320620170820,        P06,     223,          1,         10,         10,2,20170922,       0127,   -32.4996,   -84.6453,       3921,  1885.8,   2.3488,  34.6228,2,  34.6229,2,  133.427,2, 133.8509,2,   111.2,2,   36.94,2,    0.00,2,    2.62,2,   0.022,2,   0.026,2,   0.0000,4,  2309.2,2,  2384.4,2,   7.5339,2,    25.00, -999.00,9, -999.00,9, -999.00,  -999.0,9, -999.00,9,     -999.0,9,  -999.0,9, 20170922,      211, -32.4996, -84.6454,        0.0,1,      0.062,1,      4.684,1,      0.135,1,     -999.0,9,     -999.0,9,     -999.0,9,     -999.0,9,     -999.0,9,     -999.0,9,     -999.0,9,     -999.0,9,     -999.0,9,     -999.0,9,     -999.0,9,     2.3341,2,     -999.0,     -999.0,9,     -999.0
320620170820,        P06,     223,          1,         11,         11,2,20170922,       0127,   -32.4996,   -84.6453,       3921,  1754.3,   2.5061,  34.6087,2,  34.6073,2, 127.8923,2, 128.1701,2,   107.2,2,   37.43,2,    0.00,2,    2.64,2,   0.023,2,   0.024,2,   0.0000,4,  2306.5,2,  2380.5,2,   7.5229,2,    25.00, -999.00,9, -999.00,9, -999.00,  -999.0,9, -999.00,9,     -999.0,9,  -999.0,9, 20170922,      215, -32.4996, -84.6454,        0.0,1,      0.062,1,      4.683,1,      0.135,1,     -999.0,9,     -999.0,9,     -999.0,9,     -999.0,9,     -999.0,9,     -999.0,9,     -999.0,9,     -999.0,9,     -999.0,9,     -999.0,9,     -999.0,9,     2.5094,2,     -999.0,     -999.0,9,     -999.0
320620170820,        P06,     223,          1,         12,         12,2,20170922,       0127,   -32.4996,   -84.6453,       3921,  1652.6,   2.6229,  34.5979,2,  34.5961,2, 125.4151,2, 125.5826,2,   103.9,2,   37.69,2,    0.00,2,    2.68,2,   0.023,2,   0.025,2,   0.0000,4,  2305.4,2,  2375.8,2,   7.5174,2,    25.00, -999.00,9, -999.00,9, -999.00,  -999.0,9, -999.00,9,     -999.0,9,  -999.0,9, 20170922,      217, -32.4995, -84.6454,        0.0,1,      0.063,1,      4.684,1,      0.134,1,     -999.0,9,     -999.0,9,     -999.0,9,     -999.0,9,     -999.0,9,     -999.0,9,     -999.0,9,     -999.0,9,     -999.0,9,     -999.0,9,     -999.0,9,     2.6356,2,     -999.0,     -999.0,9,     -999.0
320620170820,        P06,     223,          1,         13,         13,2,20170922,       0127,   -32.4996,   -84.6453,       3921,  1449.1,   2.9472,  34.5678,2,  34.5702,2, 117.9204,2, 117.8405,2,    96.0,2,   38.38,2,    0.00,2,    2.72,2,   0.021,2,   0.026,2,   0.0000,4,  2305.7,2,  2366.4,2,   7.5022,2,    25.00, -999.00,9, -999.00,9, -999.00,  -999.0,9, -999.00,9,     -999.0,9,  -999.0,9, 20170922,      222, -32.4995, -84.6455,        0.0,1,      0.064,1,      4.683,1,      0.137,1,     -999.0,9,     -999.0,9,     -999.0,9,     -999.0,9,     -999.0,9,     -999.0,9,     -999.0,9,     -999.0,9,     -999.0,9,     -999.0,9,     -999.0,9,     2.9212,2,     -999.0,     -999.0,9,     -999.0
320620170820,        P06,     223,          1,         14,         14,2,20170922,       0127,   -32.4996,   -84.6453,       3921,  1246.6,   3.2534,  34.5213,2,  34.5203,2,    115.4,2, 114.7674,2,    82.6,2,   38.83,2,    0.00,2,    2.74,2,   0.034,2,   0.035,2,   0.0000,4,  2291.3,6,  2352.9,2,   7.4890,2,    25.00, -999.00,9, -999.00,9, -999.00,  -999.0,9, -999.00,9,     -999.0,9,  -999.0,9, 20170922,      227, -32.4995, -84.6455,        0.0,1,      0.061,1,      4.683,1,      0.136,1,     -999.0,9,     -999.0,9,     -999.0,9,     -999.0,9,     -999.0,9,     -999.0,9,     -999.0,9,     -999.0,9,     -999.0,9,     -999.0,9,     -999.0,9,     3.2495,2,     -999.0,     -999.0,9,     -999.0
320620170820,        P06,     223,          1,         15,         15,2,20170922,       0127,   -32.4996,   -84.6453,       3921,  1143.9,   3.4460,  34.4852,2,  34.4895,2, 117.5391,2, 116.7845,2,    74.6,2,   38.75,2,    0.00,2,    2.72,2,   0.044,2,   0.039,2,   0.0000,4,  2284.4,2,  2342.5,2,   7.4890,2,    25.00, -999.00,9, -999.00,9, -999.00,  -999.0,9, -999.00,9,     -999.0,9,  -999.0,9, 20170922,      229, -32.4995, -84.6455,        0.0,1,      0.062,1,      4.682,1,      0.138,1,     -999.0,9,     -999.0,9,     -999.0,9,     -999.0,9,     -999.0,9,     -999.0,9,     -999.0,9,     -999.0,9,     -999.0,9,     -999.0,9,     -999.0,9,     3.4174,2,     -999.0,     -999.0,9,     -999.0
320620170820,        P06,     223,          1,         16,         16,2,20170922,       0127,   -32.4996,   -84.6453,       3921,  1043.4,   3.6385,  34.4395,2,  34.4400,2, 129.4039,2, 128.1691,2,    62.7,2,   38.01,2,    0.00,2,    2.65,2,   0.120,2,   0.075,2,   0.0000,4,  2267.7,2,  2326.8,2,   7.5000,2,    25.00, -999.00,9, -999.00,9, -999.00,  -999.0,9, -999.00,9,     -999.0,9,  -999.0,9, 20170922,      232, -32.4995, -84.6455,        0.0,1,      0.061,1,      4.682,1,      0.139,1,     -999.0,9,     -999.0,9,     -999.0,9,     -999.0,9,     -999.0,9,     -999.0,9,     -999.0,9,     -999.0,9,     -999.0,9,     -999.0,9,     -999.0,9,     3.6278,2,     -999.0,     -999.0,9,     -999.0
320620170820,        P06,     223,          1,         17,         17,2,20170922,       0127,   -32.4996,   -84.6453,       3921,   942.8,   3.9413,  34.3797,2,  34.3796,2, 148.6021,2, 149.0825,2,    48.3,2,   36.33,2,    0.00,2,    2.49,2,   0.372,2,   0.190,2,   0.0000,4,  2242.7,2,  2311.6,2,   7.5272,2,    25.00, -999.00,9, -999.00,9, -999.00,  -999.0,9, -999.00,9,     -999.0,9,  -999.0,9, 20170922,      235, -32.4995, -84.6455,        0.0,1,      0.060,1,      4.683,1,      0.139,1,     -999.0,9,     -999.0,9,     -999.0,9,     -999.0,9,     -999.0,9,     -999.0,9,     -999.0,9,     -999.0,9,     -999.0,9,     -999.0,9,     -999.0,9,     3.9317,2,     -999.0,     -999.0,9,     -999.0
320620170820,        P06,     223,          1,         18,         18,2,20170922,       0127,   -32.4996,   -84.6453,       3921,   842.1,   4.3334,  34.3302,2,  34.3252,2, 171.4255,2, 171.5111,2,    34.6,2,   34.04,2,    0.00,2,    2.32,2,   1.060,2,   0.521,2,   0.1560,4,  2216.3,2,  2297.2,2,   7.5603,2,    25.00, -999.00,9, -999.00,9, -999.00,  -999.0,9, -999.00,9,     -999.0,9,  -999.0,9, 20170922,      238, -32.4995, -84.6454,        0.0,1,      0.061,1,      4.683,1,      0.139,1,     -999.0,9,     -999.0,9,     -999.0,9,     -999.0,9,     -999.0,9,     -999.0,9,     -999.0,9,     -999.0,9,     -999.0,9,     -999.0,9,     -999.0,9,     4.3773,2,     -999.0,     -999.0,9,     -999.0
320620170820,        P06,     223,          1,         19,         19,2,20170922,       0127,   -32.4996,   -84.6453,       3921,   740.8,   4.8966,  34.2839,2,  34.2817,2, 195.1363,2, 195.7962,2,    22.4,2,   31.17,2,    0.00,2,    2.10,2,   2.049,2,   1.020,2,   0.3800,4,  2192.2,2,  2285.1,2,   7.5988,2,    25.00, -999.00,9, -999.00,9, -999.00,  -999.0,9, -999.00,9,     -999.0,9,  -999.0,9, 20170922,      240, -32.4996, -84.6454,        0.0,1,      0.061,1,      4.683,1,      0.140,1,     -999.0,9,     -999.0,9,     -999.0,9,     -999.0,9,     -999.0,9,     -999.0,9,     -999.0,9,     -999.0,9,     -999.0,9,     -999.0,9,     -999.0,9,     4.9146,2,     -999.0,     -999.0,9,     -999.0
320620170820,        P06,     223,          1,         20,         20,2,20170922,       0127,   -32.4996,   -84.6453,       3921,   639.7,   5.4087,  34.2598,2,  34.2575,2, 217.2276,2, 218.2232,2,    14.4,2,   28.35,2,    0.00,2,    1.94,2,   3.181,2,   1.562,2,   0.8440,4,  2172.7,6,  2277.2,2,   7.6338,2,    25.00, -999.00,9, -999.00,9, -999.00,  -999.0,9, -999.00,9,     -999.0,9,  -999.0,9, 20170922,      243, -32.4996, -84.6453,        0.0,1,      0.060,1,      4.681,1,      0.140,1,     -999.0,9,     -999.0,9,     -999.0,9,     -999.0,9,     -999.0,9,     -999.0,9,     -999.0,9,     -999.0,9,     -999.0,9,     -999.0,9,     -999.0,9,     5.3808,2,     -999.0,     -999.0,9,     -999.0
320620170820,        P06,     223,          1,         21,         21,2,20170922,       0127,   -32.4996,   -84.6453,       3921,   539.1,   5.9625,  34.2791,2,  34.2787,2, 211.5492,2, 209.9924,2,    11.6,2,   27.72,2,    0.00,2,    1.91,2,   3.381,2,   1.739,2,   0.9190,4,  2172.6,2,  2275.6,6,   7.6242,2,    25.00, -999.00,9, -999.00,9, -999.00,  -999.0,9, -999.00,9,     -999.0,9,  -999.0,9, 20170922,      246, -32.4996, -84.6453,        0.0,1,      0.059,1,      4.680,1,      0.145,1,     -999.0,9,     -999.0,9,     -999.0,9,     -999.0,9,     -999.0,9,     -999.0,9,     -999.0,9,     -999.0,9,     -999.0,9,     -999.0,9,     -999.0,9,     5.9891,2,     -999.0,     -999.0,9,     -999.0
320620170820,        P06,     223,          1,         22,         22,2,20170922,       0127,   -32.4996,   -84.6453,       3921,   468.0,   6.5375,  34.3064,2,  34.3058,2, 172.7193,3, 178.9125,2,    12.4,2,   29.10,2,    0.00,2,    2.01,2,   3.227,2,   1.645,2,   0.9720,4,  2189.9,2,  2274.9,2,   7.5773,2,    25.00, -999.00,9, -999.00,9, -999.00,  -999.0,9, -999.00,9,     -999.0,9,  -999.0,9, 20170922,      248, -32.4996, -84.6453,        0.0,1,      0.061,1,      4.678,1,      0.141,1,     -999.0,9,     -999.0,9,     -999.0,9,     -999.0,9,     -999.0,9,     -999.0,9,     -999.0,9,     -999.0,9,     -999.0,9,     -999.0,9,     -999.0,9,     6.5516,2,     -999.0,     -999.0,9,     -999.0
320620170820,        P06,     223,          1,         23,         23,2,20170922,       0127,   -32.4996,   -84.6453,       3921,   418.0,   7.3213,  34.3331,2,  34.3262,2,  143.068,2, 143.3293,2,    13.5,2,   30.01,2,    0.00,2,    2.15,2,   2.925,2,   1.503,2,   0.9690,4,  2208.5,2,  2273.9,2,   7.5234,2,    25.00, -999.00,9, -999.00,9, -999.00,  -999.0,9, -999.00,9,     -999.0,9,  -999.0,9, 20170922,      250, -32.4996, -84.6452,        0.0,1,      0.061,1,      4.675,1,      0.146,1,     -999.0,9,     -999.0,9,     -999.0,9,     -999.0,9,     -999.0,9,     -999.0,9,     -999.0,9,     -999.0,9,     -999.0,9,     -999.0,9,     -999.0,9,     7.3045,2,     -999.0,     -999.0,9,     -999.0
320620170820,        P06,     223,          1,         24,         24,2,20170922,       0127,   -32.4996,   -84.6453,       3921,   316.1,   8.8534,  34.3139,2,  34.4473,2, 106.1002,4,  59.1992,2,    18.8,2,   28.10,2,    0.00,2,    2.52,2,   1.983,2,   1.155,2,   0.9600,4,  2250.7,2,  2276.9,2,   7.3982,2,    25.00, -999.00,9, -999.00,9, -999.00,  -999.0,9, -999.00,9,     -999.0,9,  -999.0,9, 20170922,      253, -32.4996, -84.6452,        0.0,1,      0.063,1,      4.673,1,      0.144,1,     -999.0,9,     -999.0,9,     -999.0,9,     -999.0,9,     -999.0,9,     -999.0,9,     -999.0,9,     -999.0,9,     -999.0,9,     -999.0,9,     -999.0,9,     9.6730,2,     -999.0,     -999.0,9,     -999.0
320620170820,        P06,     223,          1,         25,         25,2,20170922,       0127,   -32.4996,   -84.6453,       3921,   265.8,  10.0834,  34.2248,2,  34.2024,2, 182.9418,2,  189.512,2,     4.5,2,   20.30,2,    0.00,2,    1.52,2,   3.202,2,   1.772,2,   1.4860,4,  2147.3,2,  2264.1,2,   7.6634,6,    25.00, -999.00,9, -999.00,9, -999.00,  -999.0,9, -999.00,9,     -999.0,9,  -999.0,9, 20170922,      255, -32.4997, -84.6452,        0.0,1,      0.061,1,      4.673,1,      0.144,1,     -999.0,9,     -999.0,9,     -999.0,9,     -999.0,9,     -999.0,9,     -999.0,9,     -999.0,9,     -999.0,9,     -999.0,9,     -999.0,9,     -999.0,9,     9.7500,2,     -999.0,     -999.0,9,     -999.0
320620170820,        P06,     223,          1,         26,         26,2,20170922,       0127,   -32.4996,   -84.6453,       3921,   216.1,  11.6566,  34.1795,2,  34.1744,2, 204.4019,2,  205.491,2,     1.6,2,   16.01,2,    0.02,2,    1.16,2,   3.109,2,   1.733,2,   1.7850,4,  2118.2,2,  2261.5,2,   7.7394,2,    25.00, -999.00,9, -999.00,9, -999.00,  -999.0,9, -999.00,9,     -999.0,9,  -999.0,9, 20170922,      257, -32.4997, -84.6451,        0.0,1,      0.062,1,      4.670,1,      0.148,1,     -999.0,9,     -999.0,9,     -999.0,9,     -999.0,9,     -999.0,9,     -999.0,9,     -999.0,9,     -999.0,9,     -999.0,9,     -999.0,9,     -999.0,9,    11.4294,2,     -999.0,     -999.0,9,     -999.0