BOTTLE,20240211CCHSIOCBG
EXPOCODE,SECT_ID,STNNBR,CASTNO,SAMPNO,BTLNBR,BTLNBR_FLAG_W,DATE,TIME,LATITUDE,LONGITUDE,DEPTH,CTDPRS,CTDTMP,CTDSAL,CTDSAL_FLAG_W,SALNTY,SALNTY_FLAG_W,CTDOXY,CTDOXY_FLAG_W,OXYGEN,OXYGEN_FLAG_W,SILCAT,SILCAT_FLAG_W,NITRAT,NITRAT_FLAG_W,NITRIT,NITRIT_FLAG_W,PHSPHT,PHSPHT_FLAG_W,CFC-11,CFC-11_FLAG_W,CFC-12,CFC-12_FLAG_W,SF6,SF6_FLAG_W,TCARBN,TCARBN_FLAG_W,ALKALI,ALKALI_FLAG_W,PH_TOT,PH_TOT_FLAG_W,PH_TMP,DELC13,DELC13_FLAG_W,DELC14,DELC14_FLAG_W,C14ERR,DOC,DOC_FLAG_W,TDN,TDN_FLAG_W,TON,TON_FLAG_W,D15N_NO3,D15N_NO3_FLAG_W,BTL_DATE,BTL_TIME,BTL_LAT,BTL_LON,CTDRINKO,CTDRINKO_FLAG_W,CTDFLUOR,CTDFLUOR_FLAG_W,CTDXMISS,CTDXMISS_FLAG_W,CTDBACKSCATTER,CTDBACKSCATTER_FLAG_W,D18O_NO3,D18O_NO3_FLAG_W,DOP,DOP_FLAG_W,CELLCOUNT,CELLCOUNT_FLAG_W,TDP,TDP_FLAG_W,POP,POP_FLAG_W,DATP,DATP_FLAG_W,PATP,PATP_FLAG_W,HPLC,HPLC_FLAG_W,POC,POC_FLAG_W,BEAMAP,BEAMAP_FLAG_W,DOC_NASA,DOC_NASA_FLAG_W,REFTMP,REFTMP_FLAG_W,DOC_NASA_ERROR,TDN_NASA,TDN_NASA_FLAG_W,TDN_NASA_ERROR
,,,,,,,,,,,METERS,DBAR,ITS-90,PSS-78,,PSS-78,,UMOL/KG,,UMOL/KG,,UMOL/KG,,UMOL/KG,,UMOL/KG,,UMOL/KG,,PMOL/KG,,PMOL/KG,,FMOL/KG,,UMOL/KG,,UMOL/KG,,,,DEG C,/MILLE,,/MILLE,,/MILLE,UMOL/KG,,UMOL/KG,,UMOL/KG,,/MILLE,,,,,,VOLTS,,VOLTS,,VOLTS,,VOLTS,,/MILLE,,UMOL/KG,,/LITER,,UMOL/KG,,UMOL/L,,PMOL/L,,PMOL/L,,,,UG/L,,/METER,,UMOL/L,,ITS-90,,UMOL/L,UMOL/L,,UMOL/L
320620170820,        P06,     183,          1,         27,         27,2,20170909,       1131,   -32.5001,  -116.4051,       3125,   226.5,  14.4237,  34.7989,2,  34.7925,2, 217.6144,2, 218.2081,2,     0.1,2,    4.86,2,    0.00,2,    0.43,2,   2.591,2,   1.525,2,   1.5330,2,  2084.4,2,  2290.3,2,   7.8700,2,    25.00, -999.00,9, -999.00,9, -999.00,  -999.0,9, -999.00,9,     -999.0,9,  -999.0,9, 20170909,     1248, -32.5000,-116.4054,        0.0,1,      0.068,1,      4.678,1,      0.134,1,     -999.0,9,     -999.0,9,     -999.0,9,     -999.0,9,     -999.0,9,     -999.0,9,     -999.0,9,     -999.0,9,     -999.0,9,     -999.0,9,     -999.0,9,    14.4609,2,     -999.0,     -999.0,9,     -999.0
320620170820,        P06,     183,          1,         28,         28,2,20170909,       1131,   -32.5001,  -116.4051,       3125,   202.4,  15.3124,  34.9290,2,  34.9315,2, 219.0348,2, 219.6976,2,     0.0,2,    2.72,2,    0.04,2,    0.30,2,   2.467,2,   1.469,2,   1.5560,2,  2080.4,2,  2296.6,3,   7.8965,2,    25.00, -999.00,9, -999.00,9, -999.00,  -999.0,9, -999.00,9,     -999.0,9,  -999.0,9, 20170909,     1249, -32.5000,-116.4053,        0.0,1,      0.083,1,      4.674,1,      0.140,1,     -999.0,9,     -999.0,9,     -999.0,9,     -999.0,9,     -999.0,9,     -999.0,9,     -999.0,9,     -999.0,9,     -999.0,9,     -999.0,9,     -999.0,9,    15.4754,2,     -999.0,     -999.0,9,     -999.0
320620170820,        P06,     183,          1,         29,         29,2,20170909,       1131,   -32.5001,  -116.4051,       3125,   176.9,  16.1997,  35.0111,2,  34.9900,2, 223.3798,2, 224.2319,2,     0.0,2,    1.05,2,    0.17,2,    0.21,2,   2.420,2,   1.385,2,   1.5670,2,  2068.9,2,  2301.8,3,   7.9184,2,    25.00, -999.00,9, -999.00,9, -999.00,  -999.0,9, -999.00,9,     -999.0,9,  -999.0,9, 20170909,     1251, -32.5001,-116.4052,        0.0,1,      0.121,1,      4.666,1,      0.145,1,     -999.0,9,     -999.0,9,     -999.0,9,     -999.0,9,     -999.0,9,     -999.0,9,     -999.0,9,     -999.0,9,     -999.0,9,     -999.0,9,     -999.0,9,    16.1708,2,     -999.0,     -999.0,9,     -999.0
320620170820,        P06,     183,          1,         30,         30,2,20170909,       1131,   -32.5001,  -116.4051,       3125,   150.9,  16.9130,  35.0326,2,  35.0199,2, 231.1342,2,  230.981,2,     0.0,2,    0.17,2,    0.12,2,    0.14,2,   2.308,2,   1.358,2,   1.5490,2,  2063.6,2,  2303.2,3,   7.9418,2,    25.00, -999.00,9, -999.00,9, -999.00,  -999.0,9, -999.00,9,     -999.0,9,  -999.0,9, 20170909,     1253, -32.5002,-116.4050,        0.0,1,      0.161,1,      4.655,1,      0.153,1,     -999.0,9,     -999.0,9,     -999.0,9,     -999.0,9,     -999.0,9,     -999.0,9,     -999.0,9,     -999.0,9,     -999.0,9,     -999.0,9,     -999.0,9,    17.0669,2,     -999.0,     -999.0,9,     -999.0
320620170820,        P06,     183,          1,         31,         31,2,20170909,       1131,   -32.5001,  -116.4051,       3125,   125.3,  18.0371,  35.1421,2,  35.1358,2, 234.9484,2, 234.8558,2,     0.0,2,    0.00,2,    0.00,2,    0.07,2,   2.169,2,   1.272,2,   1.5100,2,  2049.3,2,  2307.8,2,   7.9750,2,    25.00, -999.00,9, -999.00,9, -999.00,  -999.0,9, -999.00,9,     -999.0,9,  -999.0,9, 20170909,     1254, -32.5002,-116.4049,        0.0,1,      0.103,1,      4.657,1,      0.157,1,     -999.0,9,     -999.0,9,     -999.0,9,     -999.0,9,     -999.0,9,     -999.0,9,     -999.0,9,     -999.0,9,     -999.0,9,     -999.0,9,     -999.0,9,    18.0093,2,     -999.0,     -999.0,9,     -999.0
320620170820,        P06,     183,          1,         32,         32,2,20170909,       1131,   -32.5001,  -116.4051,       3125,   101.3,  18.2612,  35.1805,2,  35.1886,2, 234.4614,2, 233.9627,2,     0.0,2,    0.00,2,    0.00,2,    0.08,2,   2.058,2,   1.263,2,   1.6530,2,  2047.6,2,  2310.9,6,   7.9790,2,    25.00, -999.00,9, -999.00,9, -999.00,  -999.0,9, -999.00,9,     -999.0,9,  -999.0,9, 20170909,     1256, -32.5002,-116.4049,        0.0,1,      0.089,1,      4.653,1,      0.153,1,     -999.0,9,     -999.0,9,     -999.0,9,     -999.0,9,     -999.0,9,     -999.0,9,     -999.0,9,     -999.0,9,     -999.0,9,     -999.0,9,     -999.0,9,    18.3180,2,     -999.0,     -999.0,9,     -999.0
320620170820,        P06,     183,          1,         33,         33,2,20170909,       1131,   -32.5001,  -116.4051,       3125,    75.3,  18.5881,  35.2426,2,  35.2310,2, 233.4003,2, 233.2028,2,     0.0,2,    0.00,2,    0.00,2,    0.07,2,   2.111,2,   1.219,2,   1.4290,2,  2047.9,2,  2314.3,2,   7.9839,6,    25.00, -999.00,9, -999.00,9, -999.00,  -999.0,9, -999.00,9,     -999.0,9,  -999.0,9, 20170909,     1258, -32.5002,-116.4050,        0.0,1,      0.077,1,      4.654,1,      0.158,1,     -999.0,9,     -999.0,9,     -999.0,9,     -999.0,9,     -999.0,9,     -999.0,9,     -999.0,9,     -999.0,9,     -999.0,9,     -999.0,9,     -999.0,9,    18.6760,2,     -999.0,     -999.0,9,     -999.0
320620170820,        P06,     183,          1,         34,         34,2,20170909,       1131,   -32.5001,  -116.4051,       3125,    50.8,  18.8021,  35.2540,2,  35.2591,2, 233.0919,2, 233.0031,2,     0.0,2,    0.00,2,    0.00,2,    0.09,2,   2.087,2,   1.225,2,   1.4930,2,  2046.5,2,  2315.6,2,   7.9850,2,    25.00, -999.00,9, -999.00,9, -999.00,  -999.0,9, -999.00,9,     -999.0,9,  -999.0,9, 20170909,     1259, -32.5002,-116.4050,        0.0,1,      0.066,1,      4.659,1,      0.149,1,     -999.0,9,     -999.0,9,     -999.0,9,     -999.0,9,     -999.0,9,     -999.0,9,     -999.0,9,     -999.0,9,     -999.0,9,     -999.0,9,     -999.0,9,    18.8264,2,     -999.0,     -999.0,9,     -999.0
320620170820,        P06,     183,          1,         35,         35,2,20170909,       1131,   -32.5001,  -116.4051,       3125,    25.1,  18.8199,  35.2583,2,  35.2591,2, 233.2221,2, 233.1477,2,     0.0,2,    0.00,2,    0.00,2,    0.08,2,   2.098,2,   1.226,2,   1.5840,2,  2049.6,2,  2316.2,2,   7.9850,2,    25.00, -999.00,9, -999.00,9, -999.00,  -999.0,9, -999.00,9,     -999.0,9,  -999.0,9, 20170909,     1301, -32.5001,-116.4051,        0.0,1,      0.066,1,      4.659,1,      0.148,1,     -999.0,9,     -999.0,9,     -999.0,9,     -999.0,9,     -999.0,9,     -999.0,9,     -999.0,9,     -999.0,9,     -999.0,9,     -999.0,9,     -999.0,9,    18.8214,2,     -999.0,     -999.0,9,     -999.0
320620170820,        P06,     183,          1,         36,         36,2,20170909,       1131,   -32.5001,  -116.4051,       3125,     9.2,  18.8148,  35.2584,2,  35.2578,2, 233.3244,2,  233.034,2,     0.0,2,    0.00,2,    0.00,2,    0.10,2,   2.088,2,   1.230,2,   1.4940,2,  2047.0,6,  2317.0,2,   7.9834,2,    25.00,    0.79,6,   46.50,6,    4.28,  -999.0,9, -999.00,9,     -999.0,9,  -999.0,9, 20170909,     1303, -32.5001,-116.4051,        0.0,1,      0.066,1,      4.659,1,      0.149,1,     -999.0,9,     -999.0,9,     -999.0,9,     -999.0,9,     -999.0,9,     -999.0,9,     -999.0,9,     -999.0,9,     -999.0,9,     -999.0,9,     -999.0,9,    18.8356,2,     -999.0,     -999.0,9,     -999.0