BOTTLE,20240211CCHSIOCBG
EXPOCODE,SECT_ID,STNNBR,CASTNO,SAMPNO,BTLNBR,BTLNBR_FLAG_W,DATE,TIME,LATITUDE,LONGITUDE,DEPTH,CTDPRS,CTDTMP,CTDSAL,CTDSAL_FLAG_W,SALNTY,SALNTY_FLAG_W,CTDOXY,CTDOXY_FLAG_W,OXYGEN,OXYGEN_FLAG_W,SILCAT,SILCAT_FLAG_W,NITRAT,NITRAT_FLAG_W,NITRIT,NITRIT_FLAG_W,PHSPHT,PHSPHT_FLAG_W,CFC-11,CFC-11_FLAG_W,CFC-12,CFC-12_FLAG_W,SF6,SF6_FLAG_W,TCARBN,TCARBN_FLAG_W,ALKALI,ALKALI_FLAG_W,PH_TOT,PH_TOT_FLAG_W,PH_TMP,DELC13,DELC13_FLAG_W,DELC14,DELC14_FLAG_W,C14ERR,DOC,DOC_FLAG_W,TDN,TDN_FLAG_W,TON,TON_FLAG_W,D15N_NO3,D15N_NO3_FLAG_W,BTL_DATE,BTL_TIME,BTL_LAT,BTL_LON,CTDRINKO,CTDRINKO_FLAG_W,CTDFLUOR,CTDFLUOR_FLAG_W,CTDXMISS,CTDXMISS_FLAG_W,CTDBACKSCATTER,CTDBACKSCATTER_FLAG_W,D18O_NO3,D18O_NO3_FLAG_W,DOP,DOP_FLAG_W,CELLCOUNT,CELLCOUNT_FLAG_W,TDP,TDP_FLAG_W,POP,POP_FLAG_W,DATP,DATP_FLAG_W,PATP,PATP_FLAG_W,HPLC,HPLC_FLAG_W,POC,POC_FLAG_W,BEAMAP,BEAMAP_FLAG_W,DOC_NASA,DOC_NASA_FLAG_W,REFTMP,REFTMP_FLAG_W,DOC_NASA_ERROR,TDN_NASA,TDN_NASA_FLAG_W,TDN_NASA_ERROR
,,,,,,,,,,,METERS,DBAR,ITS-90,PSS-78,,PSS-78,,UMOL/KG,,UMOL/KG,,UMOL/KG,,UMOL/KG,,UMOL/KG,,UMOL/KG,,PMOL/KG,,PMOL/KG,,FMOL/KG,,UMOL/KG,,UMOL/KG,,,,DEG C,/MILLE,,/MILLE,,/MILLE,UMOL/KG,,UMOL/KG,,UMOL/KG,,/MILLE,,,,,,VOLTS,,VOLTS,,VOLTS,,VOLTS,,/MILLE,,UMOL/KG,,/LITER,,UMOL/KG,,UMOL/L,,PMOL/L,,PMOL/L,,,,UG/L,,/METER,,UMOL/L,,ITS-90,,UMOL/L,UMOL/L,,UMOL/L
320620170820,        P06,     212,          1,          1,          1,2,20170918,       0602,   -32.5003,   -94.4335,       3866,  3920.0,   1.7814,  34.6919,2,  34.6920,2, 165.4937,2, 165.1639,2,   119.6,2,   34.40,2,    0.00,2,    2.38,2,   0.036,2,   0.020,2,   0.0000,2,  2303.3,6,  2397.4,2,   7.5901,2,    25.00, -999.00,9, -999.00,9, -999.00,    37.0,2, -999.00,9,     -999.0,1,  -999.0,9, 20170918,      602, -32.5001, -94.4342,        0.0,1,      0.061,1,      4.683,1,      0.134,1,     -999.0,9,     -999.0,9,     -999.0,9,     -999.0,9,     -999.0,9,     -999.0,9,     -999.0,9,     -999.0,9,     -999.0,9,     -999.0,9,     -999.0,9,     1.7819,2,     -999.0,     -999.0,9,     -999.0
320620170820,        P06,     212,          1,          2,          2,2,20170918,       0602,   -32.5003,   -94.4335,       3866,  3726.4,   1.7640,  34.6917,2,  34.6914,2, 165.4937,2, 165.4778,2,   119.2,2,   34.45,2,    0.00,2,    2.37,2,   0.033,2,   0.021,2,   0.0000,2,  2300.5,2,  2396.3,2,   7.5891,2,    25.00, -999.00,9, -999.00,9, -999.00,  -999.0,9, -999.00,9,     -999.0,9,  -999.0,9, 20170918,      607, -32.5001, -94.4341,        0.0,1,      0.060,1,      4.684,1,      0.130,1,     -999.0,9,     -999.0,9,     -999.0,9,     -999.0,9,     -999.0,9,     -999.0,9,     -999.0,9,     -999.0,9,     -999.0,9,     -999.0,9,     -999.0,9,     1.7643,2,     -999.0,     -999.0,9,     -999.0
320620170820,        P06,     212,          1,          3,          3,2,20170918,       0602,   -32.5003,   -94.4335,       3866,  3554.6,   1.7559,  34.6913,2,  34.6922,2, 165.4937,2, 165.4425,2,   119.2,2,   34.44,2,    0.00,2,    2.38,2,   0.032,2,   0.019,2,   0.0000,2,  2300.8,2,  2397.1,2,   7.5888,2,    25.00, -999.00,9, -999.00,9, -999.00,    35.0,2, -999.00,9,     -999.0,1,  -999.0,9, 20170918,      612, -32.5000, -94.4343,        0.0,1,      0.061,1,      4.685,1,      0.128,1,     -999.0,9,     -999.0,9,     -999.0,9,     -999.0,9,     -999.0,9,     -999.0,9,     -999.0,9,     -999.0,9,     -999.0,9,     -999.0,9,     -999.0,9,     1.7559,2,     -999.0,     -999.0,9,     -999.0
320620170820,        P06,     212,          1,          4,          4,2,20170918,       0602,   -32.5003,   -94.4335,       3866,  3246.2,   1.7515,  34.6899,2,  34.6908,2, 165.3171,2, 165.7039,2,   118.6,2,   34.39,2,    0.00,2,    2.37,2,   0.032,2,   0.020,2,   0.0000,2,  2299.9,2,  2392.7,2,   7.5890,2,    25.00, -999.00,9, -999.00,9, -999.00,  -999.0,9, -999.00,9,     -999.0,9,  -999.0,9, 20170918,      619, -32.5000, -94.4343,        0.0,1,      0.061,1,      4.687,1,      0.128,1,     -999.0,9,     -999.0,9,     -999.0,9,     -999.0,9,     -999.0,9,     -999.0,9,     -999.0,9,     -999.0,9,     -999.0,9,     -999.0,9,     -999.0,9,     1.7515,2,     -999.0,     -999.0,9,     -999.0
320620170820,        P06,     212,          1,          5,          5,2,20170918,       0602,   -32.5003,   -94.4335,       3866,  2953.7,   1.7622,  34.6869,2,  34.6879,2, 165.6224,2, 165.7699,2,   117.9,2,   34.36,2,    0.00,2,    2.37,2,   0.032,2,   0.020,2,   0.0000,2,  2298.1,2,  2389.7,2,   7.5882,2,    25.00, -999.00,9, -999.00,9, -999.00,    35.5,2, -999.00,9,     -999.0,1,  -999.0,9, 20170918,      625, -32.5001, -94.4342,        0.0,1,      0.061,1,      4.688,1,      0.127,1,     -999.0,9,     -999.0,9,     -999.0,9,     -999.0,9,     -999.0,9,     -999.0,9,     -999.0,9,     -999.0,9,     -999.0,9,     -999.0,9,     -999.0,9,     1.7618,2,     -999.0,     -999.0,9,     -999.0
320620170820,        P06,     212,          1,          6,          6,2,20170918,       0602,   -32.5003,   -94.4335,       3866,  2699.0,   1.7793,  34.6827,2,  34.6826,2, 165.5456,2, 165.4531,2,   116.9,2,   34.40,2,    0.00,2,    2.37,2,   0.074,2,   0.051,2,   0.0000,2,  2297.0,2,  2389.4,2,   7.5859,2,    25.00, -999.00,9, -999.00,9, -999.00,    36.6,2, -999.00,9,     -999.0,1,  -999.0,9, 20170918,      631, -32.5001, -94.4341,        0.0,1,      0.060,1,      4.688,1,      0.127,1,     -999.0,9,     -999.0,9,     -999.0,9,     -999.0,9,     -999.0,9,     -999.0,9,     -999.0,9,     -999.0,9,     -999.0,9,     -999.0,9,     -999.0,9,     1.7776,2,     -999.0,     -999.0,9,     -999.0
320620170820,        P06,     212,          1,          7,          7,2,20170918,       0602,   -32.5003,   -94.4335,       3866,  2443.8,   1.8560,  34.6727,2,  34.6737,2, 162.6003,2, 162.1804,2,   115.2,2,   34.58,2,    0.00,2,    2.40,2,   0.034,2,   0.020,2,   0.0000,2,  2297.0,2,  2383.1,2,   7.5800,2,    25.00, -999.00,9, -999.00,9, -999.00,    35.6,2, -999.00,9,     -999.0,1,  -999.0,9, 20170918,      637, -32.5001, -94.4341,        0.0,1,      0.061,1,      4.688,1,      0.128,1,     -999.0,9,     -999.0,9,     -999.0,9,     -999.0,9,     -999.0,9,     -999.0,9,     -999.0,9,     -999.0,9,     -999.0,9,     -999.0,9,     -999.0,9,     1.8519,2,     -999.0,     -999.0,9,     -999.0
320620170820,        P06,     212,          1,          8,          8,2,20170918,       0602,   -32.5003,   -94.4335,       3866,  2191.5,   2.0094,  34.6541,2,  34.6563,2, 157.8456,2, 158.0297,2,   111.2,2,   34.87,2,    0.00,2,    2.43,2,   0.035,2,   0.022,2,   0.0000,2,  2295.0,2,  2379.8,2,   7.5720,2,    25.00, -999.00,9, -999.00,9, -999.00,  -999.0,9, -999.00,9,     -999.0,9,  -999.0,9, 20170918,      642, -32.5001, -94.4342,        0.0,1,      0.061,1,      4.688,1,      0.132,1,     -999.0,9,     -999.0,9,     -999.0,9,     -999.0,9,     -999.0,9,     -999.0,9,     -999.0,9,     -999.0,9,     -999.0,9,     -999.0,9,     -999.0,9,     1.9941,2,     -999.0,     -999.0,9,     -999.0
320620170820,        P06,     212,          1,          9,          9,2,20170918,       0602,   -32.5003,   -94.4335,       3866,  1957.4,   2.2251,  34.6263,2,  34.6266,2, 152.2098,2,  152.463,2,   104.8,2,   35.38,2,    0.00,2,    2.47,2,   0.034,2,   0.020,2,   0.0000,2,  2292.4,2,  2374.2,2,   7.5618,2,    25.00, -999.00,9, -999.00,9, -999.00,    35.3,2, -999.00,9,     -999.0,1,  -999.0,9, 20170918,      648, -32.5001, -94.4342,        0.0,1,      0.061,1,      4.687,1,      0.132,1,     -999.0,9,     -999.0,9,     -999.0,9,     -999.0,9,     -999.0,9,     -999.0,9,     -999.0,9,     -999.0,9,     -999.0,9,     -999.0,9,     -999.0,9,     2.2187,2,     -999.0,     -999.0,9,     -999.0
320620170820,        P06,     212,          1,         10,         10,2,20170918,       0602,   -32.5003,   -94.4335,       3866,  1785.1,   2.4625,  34.5976,2,  34.6003,2, 147.6645,2, 148.1135,2,    99.0,2,   35.80,2,    0.00,2,    2.52,2,   0.035,2,   0.023,2,   0.0000,2,  2288.7,2,  2367.6,2,   7.5534,2,    25.00, -999.00,9, -999.00,9, -999.00,  -999.0,9, -999.00,9,     -999.0,9,  -999.0,9, 20170918,      652, -32.5001, -94.4341,        0.0,1,      0.061,1,      4.688,1,      0.129,1,     -999.0,9,     -999.0,9,     -999.0,9,     -999.0,9,     -999.0,9,     -999.0,9,     -999.0,9,     -999.0,9,     -999.0,9,     -999.0,9,     -999.0,9,     2.4347,2,     -999.0,     -999.0,9,     -999.0
320620170820,        P06,     212,          1,         11,         11,2,20170918,       0602,   -32.5003,   -94.4335,       3866,  1684.3,   2.6057,  34.5849,2,  34.5871,2,  142.946,2, 142.9744,2,    96.7,2,   36.29,2,    0.00,2,    2.54,2,   0.035,2,   0.022,2,   0.0000,2,  2292.0,2,  2363.9,2,   7.5453,2,    25.00, -999.00,9, -999.00,9, -999.00,    37.2,2, -999.00,9,     -999.0,1,  -999.0,9, 20170918,      655, -32.5001, -94.4342,        0.0,1,      0.061,1,      4.688,1,      0.131,1,     -999.0,9,     -999.0,9,     -999.0,9,     -999.0,9,     -999.0,9,     -999.0,9,     -999.0,9,     -999.0,9,     -999.0,9,     -999.0,9,     -999.0,9,     2.5766,2,     -999.0,     -999.0,9,     -999.0
320620170820,        P06,     212,          1,         12,         12,2,20170918,       0602,   -32.5003,   -94.4335,       3866,  1580.1,   2.8046,  34.5683,2,  34.5720,2, 136.0818,2, 135.7345,2,    93.2,2,   36.84,2,    0.00,2,    2.59,2,   0.035,2,   0.021,2,   0.0000,2,  2291.4,2,  2360.8,2,   7.5344,2,    25.00, -999.00,9, -999.00,9, -999.00,  -999.0,9, -999.00,9,     -999.0,9,  -999.0,9, 20170918,      658, -32.5002, -94.4340,        0.0,1,      0.061,1,      4.687,1,      0.132,1,     -999.0,9,     -999.0,9,     -999.0,9,     -999.0,9,     -999.0,9,     -999.0,9,     -999.0,9,     -999.0,9,     -999.0,9,     -999.0,9,     -999.0,9,     2.7689,2,     -999.0,     -999.0,9,     -999.0
320620170820,        P06,     212,          1,         13,         13,2,20170918,       0602,   -32.5003,   -94.4335,       3866,  1479.8,   2.9863,  34.5551,2,  34.5539,2, 128.4878,2, 128.3985,2,    89.7,2,   37.46,2,    0.00,2,    2.64,2,   0.034,2,   0.022,2,   0.0000,2,  2290.6,2,  2357.4,6,   7.5226,2,    25.00, -999.00,9, -999.00,9, -999.00,    37.4,2, -999.00,9,     -999.0,1,  -999.0,9, 20170918,      701, -32.5003, -94.4339,        0.0,1,      0.061,1,      4.687,1,      0.132,1,     -999.0,9,     -999.0,9,     -999.0,9,     -999.0,9,     -999.0,9,     -999.0,9,     -999.0,9,     -999.0,9,     -999.0,9,     -999.0,9,     -999.0,9,     3.0026,2,     -999.0,     -999.0,9,     -999.0
320620170820,        P06,     212,          1,         14,         14,2,20170918,       0602,   -32.5003,   -94.4335,       3866,  1378.0,   3.2043,  34.5383,2,  34.5246,2,  123.018,2, 122.5724,2,    85.6,2,   37.94,2,    0.00,2,    2.68,2,   0.038,2,   0.024,2,   0.0000,2,  2292.7,2,  2351.8,2,   7.5117,6,    25.00, -999.00,9, -999.00,9, -999.00,  -999.0,9, -999.00,9,     -999.0,9,  -999.0,9, 20170918,      704, -32.5002, -94.4340,        0.0,1,      0.062,1,      4.686,1,      0.132,1,     -999.0,9,     -999.0,9,     -999.0,9,     -999.0,9,     -999.0,9,     -999.0,9,     -999.0,9,     -999.0,9,     -999.0,9,     -999.0,9,     -999.0,9,     3.2052,2,     -999.0,     -999.0,9,     -999.0
320620170820,        P06,     212,          1,         15,         15,2,20170918,       0602,   -32.5003,   -94.4335,       3866,  1277.5,   3.4065,  34.5153,2,  34.5152,2, 119.2154,2,  119.243,2,    79.3,2,   38.28,2,    0.00,2,    2.70,2,   0.037,2,   0.022,2,   0.0000,2,  2285.6,6,  2345.1,2,   7.5032,2,    25.00, -999.00,9, -999.00,9, -999.00,    38.3,2, -999.00,9,     -999.0,1,  -999.0,9, 20170918,      707, -32.5001, -94.4340,        0.0,1,      0.061,1,      4.686,1,      0.134,1,     -999.0,9,     -999.0,9,     -999.0,9,     -999.0,9,     -999.0,9,     -999.0,9,     -999.0,9,     -999.0,9,     -999.0,9,     -999.0,9,     -999.0,9,     3.4043,2,     -999.0,     -999.0,9,     -999.0
320620170820,        P06,     212,          1,         16,         16,2,20170918,       0602,   -32.5003,   -94.4335,       3866,  1176.4,   3.5921,  34.4707,2,  34.4748,2,  123.191,2, 123.3725,2,    69.7,2,   38.06,2,    0.00,2,    2.68,2,   0.054,2,   0.032,2,   0.0000,2,  2275.7,2,  2333.6,2,   7.5030,2,    25.00, -999.00,9, -999.00,9, -999.00,    37.1,2, -999.00,9,     -999.0,1,  -999.0,9, 20170918,      710, -32.5003, -94.4338,        0.0,1,      0.061,1,      4.686,1,      0.134,1,     -999.0,9,     -999.0,9,     -999.0,9,     -999.0,9,     -999.0,9,     -999.0,9,     -999.0,9,     -999.0,9,     -999.0,9,     -999.0,9,     -999.0,9,     3.5691,2,     -999.0,     -999.0,9,     -999.0
320620170820,        P06,     212,          1,         17,         17,2,20170918,       0602,   -32.5003,   -94.4335,       3866,  1075.7,   3.7321,  34.4019,2,  34.3974,2, 146.4334,2,  147.412,2,    52.8,2,   36.42,2,    0.00,2,    2.54,2,   0.207,2,   0.122,2,   0.0000,2,  2249.6,2,  2313.9,2,   7.5274,2,    25.00, -999.00,9, -999.00,9, -999.00,  -999.0,9, -999.00,9,     -999.0,9,  -999.0,9, 20170918,      714, -32.5003, -94.4338,        0.0,1,      0.061,1,      4.686,1,      0.135,1,     -999.0,9,     -999.0,9,     -999.0,9,     -999.0,9,     -999.0,9,     -999.0,9,     -999.0,9,     -999.0,9,     -999.0,9,     -999.0,9,     -999.0,9,     3.7416,2,     -999.0,     -999.0,9,     -999.0
320620170820,        P06,     212,          1,         18,         18,2,20170918,       0602,   -32.5003,   -94.4335,       3866,   973.9,   4.0520,  34.3401,2,  34.3415,2, 171.1403,2, 170.2347,2,    39.9,2,   34.35,2,    0.00,2,    2.36,2,   0.617,2,   0.305,2,   0.0090,2,  2221.8,2,  2301.0,2,   7.5611,2,    25.00, -999.00,9, -999.00,9, -999.00,    39.8,2, -999.00,9,     -999.0,1,  -999.0,9, 20170918,      717, -32.5003, -94.4338,        0.0,1,      0.060,1,      4.686,1,      0.135,1,     -999.0,9,     -999.0,9,     -999.0,9,     -999.0,9,     -999.0,9,     -999.0,9,     -999.0,9,     -999.0,9,     -999.0,9,     -999.0,9,     -999.0,9,     4.0294,2,     -999.0,     -999.0,9,     -999.0
320620170820,        P06,     212,          1,         19,         19,2,20170918,       0602,   -32.5003,   -94.4335,       3866,   871.8,   4.6149,  34.2874,2,  34.2874,2, 198.2439,2, 198.0569,2,    26.0,2,   31.38,2,    0.00,2,    2.15,2,   1.600,2,   0.781,2,   0.2860,2,  2193.2,2,  2288.0,2,   7.6048,2,    25.00, -999.00,9, -999.00,9, -999.00,  -999.0,9, -999.00,9,     -999.0,9,  -999.0,9, 20170918,      720, -32.5003, -94.4338,        0.0,1,      0.062,1,      4.686,1,      0.135,1,     -999.0,9,     -999.0,9,     -999.0,9,     -999.0,9,     -999.0,9,     -999.0,9,     -999.0,9,     -999.0,9,     -999.0,9,     -999.0,9,     -999.0,9,     4.5593,2,     -999.0,     -999.0,9,     -999.0
320620170820,        P06,     212,          1,         20,         20,2,20170918,       0602,   -32.5003,   -94.4335,       3866,   770.2,   5.1243,  34.2597,2,  34.2603,2, 217.8766,2, 217.6016,2,    17.2,2,   28.88,2,    0.00,2,    1.97,2,   2.583,2,   1.288,2,   0.4820,2,  2175.2,2,  2280.8,2,   7.6379,2,    25.00, -999.00,9, -999.00,9, -999.00,    42.2,2, -999.00,9,     -999.0,1,  -999.0,9, 20170918,      723, -32.5002, -94.4340,        0.0,1,      0.060,1,      4.686,1,      0.132,1,     -999.0,9,     -999.0,9,     -999.0,9,     -999.0,9,     -999.0,9,     -999.0,9,     -999.0,9,     -999.0,9,     -999.0,9,     -999.0,9,     -999.0,9,     5.0645,2,     -999.0,     -999.0,9,     -999.0
320620170820,        P06,     212,          1,         21,         21,2,20170918,       0602,   -32.5003,   -94.4335,       3866,   669.9,   5.5372,  34.2535,2,  34.2513,2,  236.828,2, 237.0865,2,    11.6,2,   26.31,2,    0.00,2,    1.78,2,   3.467,2,   1.739,2,   0.7200,2,  2159.9,2,  2275.9,2,   7.6701,2,    25.00, -999.00,9, -999.00,9, -999.00,  -999.0,9, -999.00,9,     -999.0,9,  -999.0,9, 20170918,      726, -32.5001, -94.4341,        0.0,1,      0.060,1,      4.686,1,      0.135,1,     -999.0,9,     -999.0,9,     -999.0,9,     -999.0,9,     -999.0,9,     -999.0,9,     -999.0,9,     -999.0,9,     -999.0,9,     -999.0,9,     -999.0,9,     5.5014,2,     -999.0,     -999.0,9,     -999.0
320620170820,        P06,     212,          1,         22,         22,2,20170918,       0602,   -32.5003,   -94.4335,       3866,   570.0,   5.9294,  34.2673,2,  34.2626,2, 238.6329,2, 238.8605,2,     9.5,2,   25.30,2,    0.00,2,    1.71,2,   3.704,2,   1.907,2,   0.8440,2,  2156.5,6,  2275.2,2,   7.6730,2,    25.00, -999.00,9, -999.00,9, -999.00,    41.9,2, -999.00,9,     -999.0,1,  -999.0,9, 20170918,      729, -32.5000, -94.4342,        0.0,1,      0.059,1,      4.685,1,      0.136,1,     -999.0,9,     -999.0,9,     -999.0,9,     -999.0,9,     -999.0,9,     -999.0,9,     -999.0,9,     -999.0,9,     -999.0,9,     -999.0,9,     -999.0,9,     5.8784,2,     -999.0,     -999.0,9,     -999.0
320620170820,        P06,     212,          1,         23,         23,2,20170918,       0602,   -32.5003,   -94.4335,       3866,   487.8,   6.3128,  34.2848,2,  34.2817,2, 230.5648,2, 230.8673,2,     8.7,2,   24.91,2,    0.00,2,    1.70,2,   3.704,2,   1.931,2,   0.9310,2,  2156.7,2,  2272.9,2,   7.6647,2,    25.00, -999.00,9, -999.00,9, -999.00,    42.5,2,   27.50,2,     -999.0,1,  -999.0,9, 20170918,      732, -32.5000, -94.4343,        0.0,1,      0.059,1,      4.684,1,      0.136,1,     -999.0,9,     -999.0,9,     -999.0,9,     -999.0,9,     -999.0,9,     -999.0,9,     -999.0,9,     -999.0,9,     -999.0,9,     -999.0,9,     -999.0,9,     6.2847,2,     -999.0,     -999.0,9,     -999.0
320620170820,        P06,     212,          1,         24,         24,2,20170918,       0602,   -32.5003,   -94.4335,       3866,   438.5,   6.7405,  34.2785,2,  34.2805,2, 214.1895,2, 214.6875,2,     8.4,2,   25.18,2,    0.00,2,    1.74,2,   3.609,2,   1.894,2,   1.0290,2,  2164.7,2,  2271.8,2,   7.6424,2,    25.00, -999.00,9, -999.00,9, -999.00,    47.3,3,   27.80,2,     -999.0,1,  -999.0,9, 20170918,      734, -32.4999, -94.4344,        0.0,1,      0.060,1,      4.684,1,      0.133,1,     -999.0,9,     -999.0,9,     -999.0,9,     -999.0,9,     -999.0,9,     -999.0,9,     -999.0,9,     -999.0,9,     -999.0,9,     -999.0,9,     -999.0,9,     6.7063,2,     -999.0,     -999.0,9,     -999.0
320620170820,        P06,     212,          1,         25,         25,2,20170918,       0602,   -32.5003,   -94.4335,       3866,   387.6,   7.2389,  34.2574,2,  34.2619,2, 209.2914,2, 209.1067,2,     7.5,2,   24.44,2,    0.00,2,    1.72,2,   3.587,2,   1.915,2,   1.1240,2,  2163.4,2,  2268.8,2,   7.6408,2,    25.00, -999.00,9, -999.00,9, -999.00,    42.9,2,   25.80,2,     -999.0,1,  -999.0,9, 20170918,      736, -32.4998, -94.4346,        0.0,1,      0.060,1,      4.683,1,      0.133,1,     -999.0,9,     -999.0,9,     -999.0,9,     -999.0,9,     -999.0,9,     -999.0,9,     -999.0,9,     -999.0,9,     -999.0,9,     -999.0,9,     -999.0,9,     7.1470,2,     -999.0,     -999.0,9,     -999.0
320620170820,        P06,     212,          1,         26,         26,2,20170918,       0602,   -32.5003,   -94.4335,       3866,   335.2,   8.2087,  34.2314,2,  34.2291,2, 211.4466,2, 210.2141,2,     5.0,2,   21.89,2,    0.00,2,    1.55,2,   3.530,2,   1.883,2,   1.1760,2,  2151.7,2,  2265.7,6,   7.6664,2,    25.00, -999.00,9, -999.00,9, -999.00,    47.6,2,   23.70,2,     -999.0,1,  -999.0,9, 20170918,      739, -32.4998, -94.4348,        0.0,1,      0.060,1,      4.681,1,      0.134,1,     -999.0,9,     -999.0,9,     -999.0,9,     -999.0,9,     -999.0,9,     -999.0,9,     -999.0,9,     -999.0,9,     -999.0,9,     -999.0,9,     -999.0,9,     8.1486,2,     -999.0,     -999.0,9,     -999.0