BOTTLE,20240211CCHSIOCBG
EXPOCODE,SECT_ID,STNNBR,CASTNO,SAMPNO,BTLNBR,BTLNBR_FLAG_W,DATE,TIME,LATITUDE,LONGITUDE,DEPTH,CTDPRS,CTDTMP,CTDSAL,CTDSAL_FLAG_W,SALNTY,SALNTY_FLAG_W,CTDOXY,CTDOXY_FLAG_W,OXYGEN,OXYGEN_FLAG_W,SILCAT,SILCAT_FLAG_W,NITRAT,NITRAT_FLAG_W,NITRIT,NITRIT_FLAG_W,PHSPHT,PHSPHT_FLAG_W,CFC-11,CFC-11_FLAG_W,CFC-12,CFC-12_FLAG_W,SF6,SF6_FLAG_W,TCARBN,TCARBN_FLAG_W,ALKALI,ALKALI_FLAG_W,PH_TOT,PH_TOT_FLAG_W,PH_TMP,DELC13,DELC13_FLAG_W,DELC14,DELC14_FLAG_W,C14ERR,DOC,DOC_FLAG_W,TDN,TDN_FLAG_W,TON,TON_FLAG_W,D15N_NO3,D15N_NO3_FLAG_W,BTL_DATE,BTL_TIME,BTL_LAT,BTL_LON,CTDRINKO,CTDRINKO_FLAG_W,CTDFLUOR,CTDFLUOR_FLAG_W,CTDXMISS,CTDXMISS_FLAG_W,CTDBACKSCATTER,CTDBACKSCATTER_FLAG_W,D18O_NO3,D18O_NO3_FLAG_W,DOP,DOP_FLAG_W,CELLCOUNT,CELLCOUNT_FLAG_W,TDP,TDP_FLAG_W,POP,POP_FLAG_W,DATP,DATP_FLAG_W,PATP,PATP_FLAG_W,HPLC,HPLC_FLAG_W,POC,POC_FLAG_W,BEAMAP,BEAMAP_FLAG_W,DOC_NASA,DOC_NASA_FLAG_W,REFTMP,REFTMP_FLAG_W,DOC_NASA_ERROR,TDN_NASA,TDN_NASA_FLAG_W,TDN_NASA_ERROR
,,,,,,,,,,,METERS,DBAR,ITS-90,PSS-78,,PSS-78,,UMOL/KG,,UMOL/KG,,UMOL/KG,,UMOL/KG,,UMOL/KG,,UMOL/KG,,PMOL/KG,,PMOL/KG,,FMOL/KG,,UMOL/KG,,UMOL/KG,,,,DEG C,/MILLE,,/MILLE,,/MILLE,UMOL/KG,,UMOL/KG,,UMOL/KG,,/MILLE,,,,,,VOLTS,,VOLTS,,VOLTS,,VOLTS,,/MILLE,,UMOL/KG,,/LITER,,UMOL/KG,,UMOL/L,,PMOL/L,,PMOL/L,,,,UG/L,,/METER,,UMOL/L,,ITS-90,,UMOL/L,UMOL/L,,UMOL/L
320620170820,        P06,     173,          1,         27,         27,2,20170906,       0631,   -32.5000,  -124.4203,       3067,   216.0,  14.3897,  34.8456,2,  34.8465,2,   218.22,2,  219.676,2,     0.5,2,    4.37,2,    0.02,2,    0.40,2,   2.529,2,   1.513,2,   1.5680,2,  2086.2,2,  2292.3,2,   7.8734,2,    25.00, -999.00,9, -999.00,9, -999.00,  -999.0,9, -999.00,9,     -999.0,9,  -999.0,9, 20170906,      751, -32.5001,-124.4202,        0.0,1,      0.076,1,      4.679,1,      0.139,1,     -999.0,9,     -999.0,9,     -999.0,9,     -999.0,9,     -999.0,9,     -999.0,9,     -999.0,9,     -999.0,9,     -999.0,9,     -999.0,9,     -999.0,9,    14.4209,2,     -999.0,     -999.0,9,     -999.0
320620170820,        P06,     173,          1,         28,         28,2,20170906,       0631,   -32.5000,  -124.4203,       3067,   191.3,  14.9037,  34.8705,2,  34.8764,2, 220.9756,2, 223.2929,2,     0.3,2,    2.96,2,    0.06,2,    0.32,2,   2.366,2,   1.462,2,   1.5800,2,  2080.9,2,  2294.0,2,   7.8895,2,    25.00, -999.00,9, -999.00,9, -999.00,  -999.0,9, -999.00,9,     -999.0,9,  -999.0,9, 20170906,      753, -32.5002,-124.4203,        0.0,1,      0.096,1,      4.674,1,      0.141,1,     -999.0,9,     -999.0,9,     -999.0,9,     -999.0,9,     -999.0,9,     -999.0,9,     -999.0,9,     -999.0,9,     -999.0,9,     -999.0,9,     -999.0,9,    14.8756,2,     -999.0,     -999.0,9,     -999.0
320620170820,        P06,     173,          1,         29,         29,2,20170906,       0631,   -32.5000,  -124.4203,       3067,   164.5,  15.5017,  34.9083,2,  34.9024,2, 232.2872,2, 233.8889,2,     0.0,2,    0.48,2,    0.18,2,    0.20,2,   2.415,2,   1.429,2,   1.6140,2,  2067.9,2,  2296.4,6,   7.9169,2,    25.00, -999.00,9, -999.00,9, -999.00,  -999.0,9, -999.00,9,     -999.0,9,  -999.0,9, 20170906,      755, -32.5003,-124.4203,        0.0,1,      0.135,1,      4.665,1,      0.144,1,     -999.0,9,     -999.0,9,     -999.0,9,     -999.0,9,     -999.0,9,     -999.0,9,     -999.0,9,     -999.0,9,     -999.0,9,     -999.0,9,     -999.0,9,    15.6339,2,     -999.0,     -999.0,9,     -999.0
320620170820,        P06,     173,          1,         30,         30,2,20170906,       0631,   -32.5000,  -124.4203,       3067,   138.7,  16.2239,  34.9537,2,  35.0144,3, 237.5964,2, 239.0222,2,     0.0,2,    0.00,2,    0.00,2,    0.10,2,   2.262,2,   1.379,2,   1.6830,2,  2058.2,2,  2301.4,2,   7.9484,2,    25.00, -999.00,9, -999.00,9, -999.00,  -999.0,9, -999.00,9,     -999.0,9,  -999.0,9, 20170906,      757, -32.5004,-124.4204,        0.0,1,      0.183,1,      4.649,1,      0.157,1,     -999.0,9,     -999.0,9,     -999.0,9,     -999.0,9,     -999.0,9,     -999.0,9,     -999.0,9,     -999.0,9,     -999.0,9,     -999.0,9,     -999.0,9,    17.0893,2,     -999.0,     -999.0,9,     -999.0
320620170820,        P06,     173,          1,         31,         31,2,20170906,       0631,   -32.5000,  -124.4203,       3067,   114.4,  18.2661,  35.2127,2,  35.2213,2, 235.9875,2, 234.3618,2,     0.0,2,    0.00,2,    0.00,2,    0.07,2,   2.132,2,   1.246,2,   1.6520,2,  2047.3,2,  2314.4,2,   7.9812,2,    25.00, -999.00,9, -999.00,9, -999.00,  -999.0,9, -999.00,9,     -999.0,9,  -999.0,9, 20170906,      759, -32.5006,-124.4204,        0.0,1,      0.104,1,      4.657,1,      0.154,1,     -999.0,9,     -999.0,9,     -999.0,9,     -999.0,9,     -999.0,9,     -999.0,9,     -999.0,9,     -999.0,9,     -999.0,9,     -999.0,9,     -999.0,9,    18.4038,2,     -999.0,     -999.0,9,     -999.0
320620170820,        P06,     173,          1,         32,         32,2,20170906,       0631,   -32.5000,  -124.4203,       3067,    90.2,  18.3971,  35.2193,2,  35.2213,2, 235.9777,2, 234.1537,2,     0.0,2,    0.00,2,    0.00,2,    0.08,2,   2.142,2,   1.236,2,   1.6540,2,  2048.9,2,  2313.1,2,   7.9814,2,    25.00, -999.00,9, -999.00,9, -999.00,  -999.0,9, -999.00,9,     -999.0,9,  -999.0,9, 20170906,      801, -32.5005,-124.4204,        0.0,1,      0.078,1,      4.659,1,      0.149,1,     -999.0,9,     -999.0,9,     -999.0,9,     -999.0,9,     -999.0,9,     -999.0,9,     -999.0,9,     -999.0,9,     -999.0,9,     -999.0,9,     -999.0,9,    18.4005,2,     -999.0,     -999.0,9,     -999.0
320620170820,        P06,     173,          1,         33,         33,2,20170906,       0631,   -32.5000,  -124.4203,       3067,    63.4,  18.3938,  35.2209,2,  35.2205,2, 235.9379,2, 234.1102,2,     0.0,2,    0.00,2,    0.00,2,    0.08,2,   2.134,2,   1.240,2,   1.7560,2,  2047.7,2,  2313.8,2,   7.9813,2,    25.00, -999.00,9, -999.00,9, -999.00,  -999.0,9, -999.00,9,     -999.0,9,  -999.0,9, 20170906,      803, -32.5004,-124.4204,        0.0,1,      0.076,1,      4.659,1,      0.150,1,     -999.0,9,     -999.0,9,     -999.0,9,     -999.0,9,     -999.0,9,     -999.0,9,     -999.0,9,     -999.0,9,     -999.0,9,     -999.0,9,     -999.0,9,    18.3968,2,     -999.0,     -999.0,9,     -999.0
320620170820,        P06,     173,          1,         34,         34,2,20170906,       0631,   -32.5000,  -124.4203,       3067,    39.0,  18.3903,  35.2199,2,  35.2203,2, 235.9055,2, 235.0929,2,     0.0,2,    0.00,2,    0.00,2,    0.08,2,   2.045,2,   1.246,2,   1.6470,2,  2045.6,2,  2313.6,2,   7.9815,2,    25.00, -999.00,9, -999.00,9, -999.00,  -999.0,9, -999.00,9,     -999.0,9,  -999.0,9, 20170906,      805, -32.5002,-124.4203,        0.0,1,      0.074,1,      4.659,1,      0.149,1,     -999.0,9,     -999.0,9,     -999.0,9,     -999.0,9,     -999.0,9,     -999.0,9,     -999.0,9,     -999.0,9,     -999.0,9,     -999.0,9,     -999.0,9,    18.3910,2,     -999.0,     -999.0,9,     -999.0
320620170820,        P06,     173,          1,         35,         35,2,20170906,       0631,   -32.5000,  -124.4203,       3067,    19.1,  18.3875,  35.2197,2,  35.2199,2, 235.8322,2, 234.3712,2,     0.1,2,    0.00,2,    0.00,2,    0.09,2,   2.130,2,   1.248,2,   1.6510,2,  2047.0,2,  2313.3,2,   7.9800,2,    25.00, -999.00,9, -999.00,9, -999.00,  -999.0,9, -999.00,9,     -999.0,9,  -999.0,9, 20170906,      806, -32.5001,-124.4203,        0.0,1,      0.077,1,      4.659,1,      0.150,1,     -999.0,9,     -999.0,9,     -999.0,9,     -999.0,9,     -999.0,9,     -999.0,9,     -999.0,9,     -999.0,9,     -999.0,9,     -999.0,9,     -999.0,9,    18.3873,2,     -999.0,     -999.0,9,     -999.0
320620170820,        P06,     173,          1,         36,         36,4,20170906,       0631,   -32.5000,  -124.4203,       3067,     7.2,  18.3848,  35.2197,3,-999.0000,9, 227.9107,2,-999.0000,9,  -999.0,9, -999.00,9, -999.00,9, -999.00,9,-999.000,9,-999.000,9,-999.0000,9,  -999.0,9,  -999.0,9,-999.0000,9,  -999.00, -999.00,9, -999.00,9, -999.00,  -999.0,9, -999.00,9,     -999.0,9,  -999.0,9, 20170906,      808, -32.5000,-124.4203,        0.0,1,      0.075,1,      4.651,1,      0.148,1,     -999.0,9,     -999.0,9,     -999.0,9,     -999.0,9,     -999.0,9,     -999.0,9,     -999.0,9,     -999.0,9,     -999.0,9,     -999.0,9,     -999.0,9,    18.3892,3,     -999.0,     -999.0,9,     -999.0