BOTTLE,20240211CCHSIOCBG
EXPOCODE,SECT_ID,STNNBR,CASTNO,SAMPNO,BTLNBR,BTLNBR_FLAG_W,DATE,TIME,LATITUDE,LONGITUDE,DEPTH,CTDPRS,CTDTMP,CTDSAL,CTDSAL_FLAG_W,SALNTY,SALNTY_FLAG_W,CTDOXY,CTDOXY_FLAG_W,OXYGEN,OXYGEN_FLAG_W,SILCAT,SILCAT_FLAG_W,NITRAT,NITRAT_FLAG_W,NITRIT,NITRIT_FLAG_W,PHSPHT,PHSPHT_FLAG_W,CFC-11,CFC-11_FLAG_W,CFC-12,CFC-12_FLAG_W,SF6,SF6_FLAG_W,TCARBN,TCARBN_FLAG_W,ALKALI,ALKALI_FLAG_W,PH_TOT,PH_TOT_FLAG_W,PH_TMP,DELC13,DELC13_FLAG_W,DELC14,DELC14_FLAG_W,C14ERR,DOC,DOC_FLAG_W,TDN,TDN_FLAG_W,TON,TON_FLAG_W,D15N_NO3,D15N_NO3_FLAG_W,BTL_DATE,BTL_TIME,BTL_LAT,BTL_LON,CTDRINKO,CTDRINKO_FLAG_W,CTDFLUOR,CTDFLUOR_FLAG_W,CTDXMISS,CTDXMISS_FLAG_W,CTDBACKSCATTER,CTDBACKSCATTER_FLAG_W,D18O_NO3,D18O_NO3_FLAG_W,DOP,DOP_FLAG_W,CELLCOUNT,CELLCOUNT_FLAG_W,TDP,TDP_FLAG_W,POP,POP_FLAG_W,DATP,DATP_FLAG_W,PATP,PATP_FLAG_W,HPLC,HPLC_FLAG_W,POC,POC_FLAG_W,BEAMAP,BEAMAP_FLAG_W,DOC_NASA,DOC_NASA_FLAG_W,REFTMP,REFTMP_FLAG_W,DOC_NASA_ERROR,TDN_NASA,TDN_NASA_FLAG_W,TDN_NASA_ERROR
,,,,,,,,,,,METERS,DBAR,ITS-90,PSS-78,,PSS-78,,UMOL/KG,,UMOL/KG,,UMOL/KG,,UMOL/KG,,UMOL/KG,,UMOL/KG,,PMOL/KG,,PMOL/KG,,FMOL/KG,,UMOL/KG,,UMOL/KG,,,,DEG C,/MILLE,,/MILLE,,/MILLE,UMOL/KG,,UMOL/KG,,UMOL/KG,,/MILLE,,,,,,VOLTS,,VOLTS,,VOLTS,,VOLTS,,/MILLE,,UMOL/KG,,/LITER,,UMOL/KG,,UMOL/L,,PMOL/L,,PMOL/L,,,,UG/L,,/METER,,UMOL/L,,ITS-90,,UMOL/L,UMOL/L,,UMOL/L
320620170820,        P06,     163,          1,         27,         27,2,20170903,       0012,   -32.5000,  -132.3581,       4307,   316.7,  11.2419,  34.6480,2,  34.6877,2, 215.7286,2, 214.9814,2,     1.2,2,   10.44,2,    0.00,2,    0.76,2,   2.661,2,   1.679,2,   1.3120,2,  2113.1,2,  2285.2,2,   7.8091,2,    25.00, -999.00,9, -999.00,9, -999.00,  -999.0,9, -999.00,9,     -999.0,9,  -999.0,1, 20170903,      151, -32.5000,-132.3584,        0.0,1,      0.060,1,      4.687,1,      0.135,1,     -999.0,1,     -999.0,1,     -999.0,9,     -999.0,9,     -999.0,9,     -999.0,9,     -999.0,9,     -999.0,9,     -999.0,9,     -999.0,9,     -999.0,9,    12.0416,2,     -999.0,     -999.0,9,     -999.0
320620170820,        P06,     163,          1,         28,         28,2,20170903,       0012,   -32.5000,  -132.3581,       4307,   266.3,  12.6589,  34.7674,2,  34.7938,2, 216.8809,2, 216.4703,2,     0.6,2,    7.35,2,    0.00,2,    0.58,2,   2.682,2,   1.613,2,   1.4280,2,  2101.2,2,  2290.3,2,   7.8417,2,    25.00, -999.00,9, -999.00,9, -999.00,  -999.0,9, -999.00,9,     -999.0,9,  -999.0,1, 20170903,      153, -32.5000,-132.3583,        0.0,1,      0.061,1,      4.685,1,      0.134,1,     -999.0,1,     -999.0,1,     -999.0,9,        0.8,2,     -999.0,9,     -999.0,9,     -999.0,9,     -999.0,9,     -999.0,9,     -999.0,9,     -999.0,9,    13.2587,2,     -999.0,     -999.0,9,     -999.0
320620170820,        P06,     163,          1,         29,         29,2,20170903,       0012,   -32.5000,  -132.3581,       4307,   216.6,  13.9644,  34.8426,2,  34.9764,3, 222.8859,2, 222.6483,2,     0.1,2,    3.61,2,    0.03,2,    0.34,2,   2.475,2,   1.513,2,   1.4420,2,  2089.5,2,  2300.1,6,   7.8843,2,    25.00, -999.00,9, -999.00,9, -999.00,  -999.0,9, -999.00,9,     -999.0,9,  -999.0,1, 20170903,      155, -32.5000,-132.3582,        0.0,1,      0.063,1,      4.683,1,      0.132,1,     -999.0,1,     -999.0,1,     -999.0,9,     -999.0,9,     -999.0,9,     -999.0,9,     -999.0,9,     -999.0,9,     -999.0,9,     -999.0,9,     -999.0,9,    14.6692,2,     -999.0,     -999.0,9,     -999.0
320620170820,        P06,     163,          1,         30,         30,2,20170903,       0012,   -32.5000,  -132.3581,       4307,   165.3,  16.2545,  35.0800,2,  35.0817,2, 241.5428,2, 240.6136,2,     0.0,2,    0.09,2,    0.02,2,    0.09,2,   2.296,2,   1.391,2,   1.6280,2,  2059.4,2,  2306.2,2,   7.9510,2,    25.00, -999.00,9, -999.00,9, -999.00,  -999.0,9, -999.00,9,     -999.0,9,  -999.0,1, 20170903,      157, -32.5000,-132.3582,        0.0,1,      0.136,1,      4.656,1,      0.166,1,     -999.0,1,     -999.0,1,     -999.0,9,       0.39,2,     -999.0,9,     -999.0,9,     -999.0,9,     -999.0,9,     -999.0,9,     -999.0,9,     -999.0,9,    16.2815,2,     -999.0,     -999.0,9,     -999.0
320620170820,        P06,     163,          1,         31,         31,2,20170903,       0012,   -32.5000,  -132.3581,       4307,   136.4,  16.3798,  35.0919,2,  35.1012,2, 240.4005,2, 240.3525,2,     0.0,2,    0.05,2,    0.02,2,    0.09,2,   2.240,2,   1.381,2,   1.7230,2,  2058.8,2,  2306.6,2,   7.9532,2,    25.00, -999.00,9, -999.00,9, -999.00,  -999.0,9, -999.00,9,     -999.0,9,  -999.0,1, 20170903,      159, -32.5000,-132.3582,        0.0,1,      0.130,1,      4.656,1,      0.161,1,     -999.0,1,     -999.0,1,     -999.0,9,     -999.0,9,     -999.0,9,     -999.0,9,     -999.0,9,     -999.0,9,     -999.0,9,     -999.0,9,     -999.0,9,    16.4361,2,     -999.0,     -999.0,9,     -999.0
320620170820,        P06,     163,          1,         32,         32,2,20170903,       0012,   -32.5000,  -132.3581,       4307,   111.8,  16.4385,  35.0900,2,  35.0590,2, 241.0252,2,  241.204,2,     0.0,2,    0.02,2,    0.02,2,    0.09,2,   2.324,2,   1.371,2,   1.6900,2,  2055.5,2,  2304.7,2,   7.9511,2,    25.00, -999.00,9, -999.00,9, -999.00,  -999.0,9, -999.00,9,     -999.0,9,  -999.0,1, 20170903,      201, -32.5000,-132.3582,        0.0,1,      0.122,1,      4.659,1,      0.156,1,     -999.0,1,     -999.0,1,     -999.0,9,       0.42,2,     -999.0,9,     -999.0,9,     -999.0,9,     -999.0,9,     -999.0,9,     -999.0,9,     -999.0,9,    16.3689,2,     -999.0,     -999.0,9,     -999.0
320620170820,        P06,     163,          1,         33,         33,2,20170903,       0012,   -32.5000,  -132.3581,       4307,    86.0,  16.3507,  35.0526,2,  35.0793,2, 240.9987,2, 241.6956,2,     0.0,2,    0.00,2,    0.00,2,    0.08,2,   2.295,2,   1.382,2,   1.6660,2,  2055.7,2,  2303.9,2,   7.9548,2,    25.00, -999.00,9, -999.00,9, -999.00,  -999.0,9, -999.00,9,     -999.0,9,  -999.0,1, 20170903,      203, -32.5000,-132.3582,        0.0,1,      0.118,1,      4.654,1,      0.159,1,     -999.0,1,     -999.0,1,     -999.0,9,     -999.0,9,     -999.0,9,     -999.0,9,     -999.0,9,     -999.0,9,     -999.0,9,     -999.0,9,     -999.0,9,    16.4811,2,     -999.0,     -999.0,9,     -999.0
320620170820,        P06,     163,          1,         34,         34,2,20170903,       0012,   -32.5000,  -132.3581,       4307,    35.6,  16.6190,  35.0836,2,  35.0943,2, 241.0396,2, 242.1673,2,     0.0,2,    0.00,2,    0.00,2,    0.09,2,   2.288,2,   1.368,2,   1.6810,2,  2056.2,2,  2306.0,2,   7.9560,2,    25.00, -999.00,9, -999.00,9, -999.00,  -999.0,9, -999.00,9,     -999.0,9,  -999.0,1, 20170903,      206, -32.5000,-132.3581,        0.0,1,      0.081,1,      4.641,1,      0.170,1,     -999.0,1,     -999.0,1,     -999.0,9,       0.38,2,     -999.0,9,     -999.0,9,     -999.0,9,     -999.0,9,     -999.0,9,     -999.0,9,     -999.0,9,    16.6095,2,     -999.0,     -999.0,9,     -999.0
320620170820,        P06,     163,          1,         35,         35,2,20170903,       0012,   -32.5000,  -132.3581,       4307,     4.6,  16.6384,  35.0837,2,  35.0961,2, 241.0473,2, 241.0579,2,     0.0,2,    0.00,2,    0.00,2,    0.10,2,   2.298,2,   1.365,2,   1.5930,2,  2053.9,2,  2306.6,2,   7.9559,2,    25.00, -999.00,9, -999.00,9, -999.00,  -999.0,9, -999.00,9,     -999.0,9,  -999.0,1, 20170903,      209, -32.5000,-132.3581,        0.0,1,      0.066,1,      4.630,1,      0.170,1,     -999.0,1,     -999.0,1,     -999.0,9,     -999.0,9,     -999.0,9,     -999.0,9,     -999.0,9,     -999.0,9,     -999.0,9,     -999.0,9,     -999.0,9,    16.6073,2,     -999.0,     -999.0,9,     -999.0
320620170820,        P06,     163,          1,         36,         36,2,20170903,       0012,   -32.5000,  -132.3581,       4307,     4.4,  16.6384,  35.0837,2,  35.0961,2, 241.0399,2, 241.6394,2,     0.0,2,    0.00,2,    0.00,2,    0.10,2,   2.305,2,   1.362,2,   1.7870,2,  2054.6,6,  2304.7,2,   7.9560,6,    25.00, -999.00,9, -999.00,9, -999.00,  -999.0,9, -999.00,9,     -999.0,9,  -999.0,1, 20170903,      209, -32.5000,-132.3581,        0.0,1,      0.066,1,      4.630,1,      0.170,1,     -999.0,1,     -999.0,1,     -999.0,9,        0.4,2,     -999.0,9,     -999.0,9,     -999.0,9,     -999.0,9,     -999.0,9,     -999.0,9,     -999.0,9,    16.6097,2,     -999.0,     -999.0,9,     -999.0