BOTTLE,20240211CCHSIOCBG
EXPOCODE,SECT_ID,STNNBR,CASTNO,SAMPNO,BTLNBR,BTLNBR_FLAG_W,DATE,TIME,LATITUDE,LONGITUDE,DEPTH,CTDPRS,CTDTMP,CTDSAL,CTDSAL_FLAG_W,SALNTY,SALNTY_FLAG_W,CTDOXY,CTDOXY_FLAG_W,OXYGEN,OXYGEN_FLAG_W,SILCAT,SILCAT_FLAG_W,NITRAT,NITRAT_FLAG_W,NITRIT,NITRIT_FLAG_W,PHSPHT,PHSPHT_FLAG_W,CFC-11,CFC-11_FLAG_W,CFC-12,CFC-12_FLAG_W,SF6,SF6_FLAG_W,TCARBN,TCARBN_FLAG_W,ALKALI,ALKALI_FLAG_W,PH_TOT,PH_TOT_FLAG_W,PH_TMP,DELC13,DELC13_FLAG_W,DELC14,DELC14_FLAG_W,C14ERR,DOC,DOC_FLAG_W,TDN,TDN_FLAG_W,TON,TON_FLAG_W,D15N_NO3,D15N_NO3_FLAG_W,BTL_DATE,BTL_TIME,BTL_LAT,BTL_LON,CTDRINKO,CTDRINKO_FLAG_W,CTDFLUOR,CTDFLUOR_FLAG_W,CTDXMISS,CTDXMISS_FLAG_W,CTDBACKSCATTER,CTDBACKSCATTER_FLAG_W,D18O_NO3,D18O_NO3_FLAG_W,DOP,DOP_FLAG_W,CELLCOUNT,CELLCOUNT_FLAG_W,TDP,TDP_FLAG_W,POP,POP_FLAG_W,DATP,DATP_FLAG_W,PATP,PATP_FLAG_W,HPLC,HPLC_FLAG_W,POC,POC_FLAG_W,BEAMAP,BEAMAP_FLAG_W,DOC_NASA,DOC_NASA_FLAG_W,REFTMP,REFTMP_FLAG_W,DOC_NASA_ERROR,TDN_NASA,TDN_NASA_FLAG_W,TDN_NASA_ERROR
,,,,,,,,,,,METERS,DBAR,ITS-90,PSS-78,,PSS-78,,UMOL/KG,,UMOL/KG,,UMOL/KG,,UMOL/KG,,UMOL/KG,,UMOL/KG,,PMOL/KG,,PMOL/KG,,FMOL/KG,,UMOL/KG,,UMOL/KG,,,,DEG C,/MILLE,,/MILLE,,/MILLE,UMOL/KG,,UMOL/KG,,UMOL/KG,,/MILLE,,,,,,VOLTS,,VOLTS,,VOLTS,,VOLTS,,/MILLE,,UMOL/KG,,/LITER,,UMOL/KG,,UMOL/L,,PMOL/L,,PMOL/L,,,,UG/L,,/METER,,UMOL/L,,ITS-90,,UMOL/L,UMOL/L,,UMOL/L
320620170820,        P06,     230,          1,         27,         27,2,20170924,       1003,   -32.5000,   -78.4153,       4136,   286.9,   9.7545,  34.4780,2,  34.4981,2,  44.5495,2,  46.6472,2,    20.0,2,   29.18,2,    0.00,2,    2.59,2,   1.661,2,   0.898,2,   0.5350,4,  2258.8,2,  2279.4,2,   7.3854,2,    25.00, -999.00,9, -999.00,9, -999.00,    43.1,2,   32.40,2,     -999.0,1,  -999.0,9, 20170924,     1136, -32.5000, -78.4154,        0.0,1,      0.064,1,      4.662,1,      0.169,1,     -999.0,9,     -999.0,9,     -999.0,9,     -999.0,9,     -999.0,9,     -999.0,9,     -999.0,9,     -999.0,9,     -999.0,9,     -999.0,9,     -999.0,9,     9.7060,2,     -999.0,     -999.0,9,     -999.0
320620170820,        P06,     230,          1,         28,         28,2,20170924,       1003,   -32.5000,   -78.4153,       4136,   235.0,  10.0527,  34.2744,2,  34.3040,2, 121.7642,2, 124.7535,2,    10.8,2,   24.30,2,    0.00,2,    2.06,2,   2.698,2,   1.415,2,   1.1420,4,  -999.0,9,  -999.0,9,-999.0000,9,  -999.00, -999.00,9, -999.00,9, -999.00,    44.7,2,   26.20,2,     -999.0,1,  -999.0,9, 20170924,     1138, -32.5000, -78.4155,        0.0,1,      0.062,1,      4.662,1,      0.170,1,     -999.0,9,     -999.0,9,     -999.0,9,     -999.0,9,     -999.0,9,     -999.0,9,     -999.0,9,     -999.0,9,     -999.0,9,     -999.0,9,     -999.0,9,     9.8633,2,     -999.0,     -999.0,9,     -999.0
320620170820,        P06,     230,          1,         29,         29,2,20170924,       1003,   -32.5000,   -78.4153,       4136,   185.1,  11.2415,  34.1002,2,  34.1568,2, 169.5272,2, 171.6852,2,     4.8,2,   20.86,2,    0.02,2,    1.64,2,   3.006,2,   1.583,2,   1.1590,4,  2154.3,2,  2258.7,2,   7.6355,2,    25.00, -999.00,9, -999.00,9, -999.00,    45.5,2,   22.60,2,     -999.0,1,  -999.0,9, 20170924,     1140, -32.5000, -78.4155,        0.0,1,      0.061,1,      4.662,1,      0.167,1,     -999.0,9,     -999.0,9,     -999.0,9,     -999.0,9,     -999.0,9,     -999.0,9,     -999.0,9,     -999.0,9,     -999.0,9,     -999.0,9,     -999.0,9,    10.8912,2,     -999.0,     -999.0,9,     -999.0
320620170820,        P06,     230,          1,         30,         30,2,20170924,       1003,   -32.5000,   -78.4153,       4136,   141.1,  13.9166,  34.2522,2,  34.1781,2, 241.1716,2,   233.93,2,     0.2,2,    7.94,2,    0.15,2,    0.73,2,   2.700,2,   1.425,2,   1.2840,4,  2079.3,2,  2266.9,2,   7.8531,2,    25.00, -999.00,9, -999.00,9, -999.00,    54.2,2,   11.20,2,     -999.0,1,  -999.0,9, 20170924,     1142, -32.5000, -78.4154,        0.0,1,      0.086,1,      4.648,1,      0.177,1,     -999.0,9,     -999.0,9,     -999.0,9,     -999.0,9,     -999.0,9,     -999.0,9,     -999.0,9,     -999.0,9,     -999.0,9,     -999.0,9,     -999.0,9,    13.4774,2,     -999.0,     -999.0,9,     -999.0
320620170820,        P06,     230,          1,         31,         31,2,20170924,       1003,   -32.5000,   -78.4153,       4136,   115.3,  14.4743,  34.3577,2,  34.3354,2, 240.3667,2, 249.7242,2,     0.0,2,    2.67,2,    0.11,2,    0.47,2,   2.604,2,   1.367,2,   1.4520,4,  2060.2,2,  2280.3,6,   7.9101,2,    25.00, -999.00,9, -999.00,9, -999.00,    55.9,2,    6.80,2,     -999.0,1,  -999.0,9, 20170924,     1143, -32.5000, -78.4154,        0.0,1,      0.202,1,      4.596,1,      0.212,1,     -999.0,9,     -999.0,9,     -999.0,9,     -999.0,9,     -999.0,9,     -999.0,9,     -999.0,9,     -999.0,9,     -999.0,9,     -999.0,9,     -999.0,9,    14.4522,2,     -999.0,     -999.0,9,     -999.0
320620170820,        P06,     230,          1,         32,         32,2,20170924,       1003,   -32.5000,   -78.4153,       4136,    90.5,  14.5690,  34.3576,2,  34.3641,2, 253.0197,2,  250.028,2,     0.0,2,    2.28,2,    0.09,2,    0.44,2,   2.570,2,   1.359,2,   1.3840,4,  2058.3,2,  2282.1,2,   7.9145,6,    25.00, -999.00,9, -999.00,9, -999.00,    56.4,2,    6.40,2,     -999.0,1,  -999.0,9, 20170924,     1144, -32.5000, -78.4153,        0.0,1,      0.092,1,      4.649,1,      0.164,1,     -999.0,9,     -999.0,9,     -999.0,9,     -999.0,9,     -999.0,9,     -999.0,9,     -999.0,9,     -999.0,9,     -999.0,9,     -999.0,9,     -999.0,9,    14.6068,2,     -999.0,     -999.0,9,     -999.0
320620170820,        P06,     230,          1,         33,         33,2,20170924,       1003,   -32.5000,   -78.4153,       4136,    65.8,  14.7175,  34.3803,2,  34.3864,2, 254.7361,2, 253.7383,2,     0.0,2,    2.06,2,    0.09,2,    0.43,2,   2.420,2,   1.348,2,   1.1970,4,  -999.0,9,  -999.0,9,-999.0000,9,  -999.00, -999.00,9, -999.00,9, -999.00,  -999.0,9, -999.00,9,     -999.0,9,  -999.0,9, 20170924,     1146, -32.5000, -78.4153,        0.0,1,      0.158,1,      4.626,1,      0.181,1,     -999.0,9,     -999.0,9,     -999.0,9,     -999.0,9,     -999.0,9,     -999.0,9,     -999.0,9,     -999.0,9,     -999.0,9,     -999.0,9,     -999.0,9,    14.7489,2,     -999.0,     -999.0,9,     -999.0
320620170820,        P06,     230,          1,         34,         34,2,20170924,       1003,   -32.5000,   -78.4153,       4136,    39.4,  14.7682,  34.3850,2,  34.3868,2, 251.8601,2, 253.9853,2,     0.0,2,    1.91,2,    0.08,2,    0.40,2,   2.572,2,   1.346,2,   1.3750,4,  2053.9,2,  2282.6,2,   7.9217,2,    25.00, -999.00,9, -999.00,9, -999.00,    58.3,2,    6.40,2,     -999.0,1,  -999.0,9, 20170924,     1148, -32.5000, -78.4154,        0.0,1,      0.240,1,      4.586,1,      0.216,1,     -999.0,9,     -999.0,9,     -999.0,9,     -999.0,9,     -999.0,9,     -999.0,9,     -999.0,9,     -999.0,9,     -999.0,9,     -999.0,9,     -999.0,9,    14.7747,2,     -999.0,     -999.0,9,     -999.0
320620170820,        P06,     230,          1,         35,         35,2,20170924,       1003,   -32.5000,   -78.4153,       4136,    18.9,  14.7785,  34.3860,2,  34.3866,2, 256.9443,2,  254.073,2,     0.0,2,    1.90,2,    0.08,2,    0.41,2,   2.562,2,   1.333,2,   1.4250,4,  2055.9,2,  2282.8,2,   7.9221,2,    25.00, -999.00,9, -999.00,9, -999.00,    58.4,2,    5.90,2,     -999.0,1,  -999.0,9, 20170924,     1149, -32.5000, -78.4154,        0.0,1,      0.231,1,      4.588,1,      0.216,1,     -999.0,9,     -999.0,9,     -999.0,9,     -999.0,9,     -999.0,9,     -999.0,9,     -999.0,9,     -999.0,9,     -999.0,9,     -999.0,9,     -999.0,9,    14.7762,2,     -999.0,     -999.0,9,     -999.0
320620170820,        P06,     230,          1,         36,         36,2,20170924,       1003,   -32.5000,   -78.4153,       4136,     4.8,  14.7800,  34.3866,2,  34.3868,2, 255.8651,2, 254.2367,2,     0.0,2,    1.89,2,    0.08,2,    0.41,2,   2.571,2,   1.343,2,   1.4760,4,  2055.4,6,  2283.1,2,   7.9210,2,    25.00, -999.00,9, -999.00,9, -999.00,    63.4,2,    6.00,2,     -999.0,1,  -999.0,9, 20170924,     1151, -32.5000, -78.4153,        0.0,1,      0.226,1,      4.591,1,      0.204,1,     -999.0,9,     -999.0,9,     -999.0,9,     -999.0,9,     -999.0,9,     -999.0,9,     -999.0,9,     -999.0,9,     -999.0,9,     -999.0,9,     -999.0,9,    14.7706,2,     -999.0,     -999.0,9,     -999.0