BOTTLE,20240211CCHSIOCBG
EXPOCODE,SECT_ID,STNNBR,CASTNO,SAMPNO,BTLNBR,BTLNBR_FLAG_W,DATE,TIME,LATITUDE,LONGITUDE,DEPTH,CTDPRS,CTDTMP,CTDSAL,CTDSAL_FLAG_W,SALNTY,SALNTY_FLAG_W,CTDOXY,CTDOXY_FLAG_W,OXYGEN,OXYGEN_FLAG_W,SILCAT,SILCAT_FLAG_W,NITRAT,NITRAT_FLAG_W,NITRIT,NITRIT_FLAG_W,PHSPHT,PHSPHT_FLAG_W,CFC-11,CFC-11_FLAG_W,CFC-12,CFC-12_FLAG_W,SF6,SF6_FLAG_W,TCARBN,TCARBN_FLAG_W,ALKALI,ALKALI_FLAG_W,PH_TOT,PH_TOT_FLAG_W,PH_TMP,DELC13,DELC13_FLAG_W,DELC14,DELC14_FLAG_W,C14ERR,DOC,DOC_FLAG_W,TDN,TDN_FLAG_W,TON,TON_FLAG_W,D15N_NO3,D15N_NO3_FLAG_W,BTL_DATE,BTL_TIME,BTL_LAT,BTL_LON,CTDRINKO,CTDRINKO_FLAG_W,CTDFLUOR,CTDFLUOR_FLAG_W,CTDXMISS,CTDXMISS_FLAG_W,CTDBACKSCATTER,CTDBACKSCATTER_FLAG_W,D18O_NO3,D18O_NO3_FLAG_W,DOP,DOP_FLAG_W,CELLCOUNT,CELLCOUNT_FLAG_W,TDP,TDP_FLAG_W,POP,POP_FLAG_W,DATP,DATP_FLAG_W,PATP,PATP_FLAG_W,HPLC,HPLC_FLAG_W,POC,POC_FLAG_W,BEAMAP,BEAMAP_FLAG_W,DOC_NASA,DOC_NASA_FLAG_W,REFTMP,REFTMP_FLAG_W,DOC_NASA_ERROR,TDN_NASA,TDN_NASA_FLAG_W,TDN_NASA_ERROR
,,,,,,,,,,,METERS,DBAR,ITS-90,PSS-78,,PSS-78,,UMOL/KG,,UMOL/KG,,UMOL/KG,,UMOL/KG,,UMOL/KG,,UMOL/KG,,PMOL/KG,,PMOL/KG,,FMOL/KG,,UMOL/KG,,UMOL/KG,,,,DEG C,/MILLE,,/MILLE,,/MILLE,UMOL/KG,,UMOL/KG,,UMOL/KG,,/MILLE,,,,,,VOLTS,,VOLTS,,VOLTS,,VOLTS,,/MILLE,,UMOL/KG,,/LITER,,UMOL/KG,,UMOL/L,,PMOL/L,,PMOL/L,,,,UG/L,,/METER,,UMOL/L,,ITS-90,,UMOL/L,UMOL/L,,UMOL/L
320620170820,        P06,     174,          1,         27,         27,2,20170906,       1314,   -32.5007,  -123.7434,       3439,   303.3,  11.5706,  34.5767,2,  34.6067,2,  214.233,2, 215.2856,2,     1.4,2,   10.49,2,    0.00,2,    0.78,2,   2.960,2,   1.674,2,   1.3020,2,  2108.1,2,  2280.3,2,   7.8063,2,    25.00, -999.00,9, -999.00,9, -999.00,    46.6,2, -999.00,9,     -999.0,1,  -999.0,1, 20170906,     1435, -32.5012,-123.7431,        0.0,1,      0.058,1,      4.685,1,      0.132,1,     -999.0,1,     -999.0,1,     -999.0,9,     -999.0,9,     -999.0,9,     -999.0,9,     -999.0,9,     -999.0,9,     -999.0,9,     -999.0,9,     -999.0,9,    12.0829,2,     -999.0,     -999.0,9,     -999.0
320620170820,        P06,     174,          1,         28,         28,2,20170906,       1314,   -32.5007,  -123.7434,       3439,   251.7,  13.9300,  34.8183,2,  34.7992,3, 210.4595,2,  215.324,2,     0.7,2,    6.40,2,    0.00,2,    0.52,2,   2.668,2,   1.557,2,   1.4400,2,  2096.1,2,  2289.5,2,   7.8512,2,    25.00, -999.00,9, -999.00,9, -999.00,    49.1,2,    8.70,2,     -999.0,1,  -999.0,1, 20170906,     1436, -32.5011,-123.7432,        0.0,1,      0.067,1,      4.681,1,      0.130,1,     -999.0,1,     -999.0,1,     -999.0,9,     -999.0,9,     -999.0,9,     -999.0,9,     -999.0,9,     -999.0,9,     -999.0,9,     -999.0,9,     -999.0,9,    13.7470,2,     -999.0,     -999.0,9,     -999.0
320620170820,        P06,     174,          1,         29,         29,2,20170906,       1314,   -32.5007,  -123.7434,       3439,   202.2,  15.6665,  34.9836,2,  34.9132,2,  220.661,2, 224.4474,2,     0.2,2,    2.30,2,    0.11,2,    0.28,2,   2.416,2,   1.455,2,   1.4390,2,  2075.8,2,  2294.2,2,   7.8979,2,    25.00, -999.00,9, -999.00,9, -999.00,    56.5,2,    5.80,2,     -999.0,1,  -999.0,1, 20170906,     1438, -32.5011,-123.7432,        0.0,1,      0.117,1,      4.669,1,      0.148,1,     -999.0,1,     -999.0,1,     -999.0,9,     -999.0,9,     -999.0,9,     -999.0,9,     -999.0,9,     -999.0,9,     -999.0,9,     -999.0,9,     -999.0,9,    15.1515,2,     -999.0,     -999.0,9,     -999.0
320620170820,        P06,     174,          1,         30,         30,2,20170906,       1314,   -32.5007,  -123.7434,       3439,   151.5,  17.9158,  35.1593,2,  35.0504,2,  233.631,2,  233.285,2,     0.1,2,    0.11,2,    0.04,2,    0.13,2,   2.375,2,   1.400,2,   1.5790,2,  2062.5,2,  2302.4,6,   7.9380,2,    25.00, -999.00,9, -999.00,9, -999.00,    56.1,2,    3.70,2,     -999.0,1,  -999.0,1, 20170906,     1440, -32.5010,-123.7432,        0.0,1,      0.119,1,      4.656,1,      0.155,1,     -999.0,1,     -999.0,1,     -999.0,9,     -999.0,9,     -999.0,9,     -999.0,9,     -999.0,9,     -999.0,9,     -999.0,9,     -999.0,9,     -999.0,9,    16.6947,2,     -999.0,     -999.0,9,     -999.0
320620170820,        P06,     174,          1,         31,         31,2,20170906,       1314,   -32.5007,  -123.7434,       3439,   126.1,  18.0056,  35.1156,2,  35.1098,2, 236.6444,2, 236.1513,2,     0.1,2,    0.00,2,    0.00,2,    0.07,2,   2.177,2,   1.293,2,   1.5700,2,  2045.4,2,  2304.3,2,   7.9747,6,    25.00, -999.00,9, -999.00,9, -999.00,    60.6,2,    3.80,2,     -999.0,1,  -999.0,1, 20170906,     1442, -32.5010,-123.7432,        0.0,1,      0.090,1,      4.659,1,      0.152,1,     -999.0,1,     -999.0,1,     -999.0,9,     -999.0,9,     -999.0,9,     -999.0,9,     -999.0,9,     -999.0,9,     -999.0,9,     -999.0,9,     -999.0,9,    18.0015,2,     -999.0,     -999.0,9,     -999.0
320620170820,        P06,     174,          1,         32,         32,4,20170906,       1314,   -32.5007,  -123.7434,       3439,   101.7,  18.4160,  35.2185,3,  34.3188,3, 227.5331,4, 196.8877,2,    31.7,3,   31.43,3,    0.00,3,    2.12,3,-999.000,5,-999.000,5,-999.0000,5,  -999.0,9,  -999.0,9,-999.0000,9,  -999.00, -999.00,9, -999.00,9, -999.00,  -999.0,9, -999.00,9,     -999.0,9,  -999.0,1, 20170906,     1444, -32.5009,-123.7433,        0.0,1,      0.083,1,      4.657,1,      0.152,1,     -999.0,1,     -999.0,9,     -999.0,9,     -999.0,9,     -999.0,9,     -999.0,9,     -999.0,9,     -999.0,9,     -999.0,9,     -999.0,9,     -999.0,9,    18.4663,3,     -999.0,     -999.0,9,     -999.0
320620170820,        P06,     174,          1,         33,         33,2,20170906,       1314,   -32.5007,  -123.7434,       3439,    77.4,  18.5648,  35.2319,2,  35.2341,2, 238.3001,2, 233.4987,2,     0.0,2,    0.00,2,    0.00,2,    0.07,2,   1.919,2,   1.238,2,   1.4690,2,  2048.2,2,  2312.8,2,   7.9838,2,    25.00, -999.00,9, -999.00,9, -999.00,    62.7,2,    3.80,2,     -999.0,1,  -999.0,1, 20170906,     1445, -32.5009,-123.7433,        0.0,1,      0.070,1,      4.659,1,      0.149,1,     -999.0,1,     -999.0,1,     -999.0,9,     -999.0,9,     -999.0,9,     -999.0,9,     -999.0,9,     -999.0,9,     -999.0,9,     -999.0,9,     -999.0,9,    18.5801,2,     -999.0,     -999.0,9,     -999.0
320620170820,        P06,     174,          1,         34,         34,2,20170906,       1314,   -32.5007,  -123.7434,       3439,    51.9,  18.5622,  35.2322,2,  35.2357,2, 236.4805,2, 233.6876,2,     0.0,2,    0.00,2,    0.00,2,    0.07,2,   2.121,2,   1.253,2,   1.5580,2,  2047.8,2,  2312.8,2,   7.9840,2,    25.00, -999.00,9, -999.00,9, -999.00,    67.2,3,    4.60,2,     -999.0,1,  -999.0,1, 20170906,     1447, -32.5008,-123.7433,        0.0,1,      0.070,1,      4.659,1,      0.149,1,     -999.0,1,     -999.0,1,     -999.0,9,     -999.0,9,     -999.0,9,     -999.0,9,     -999.0,9,     -999.0,9,     -999.0,9,     -999.0,9,     -999.0,9,    18.5776,2,     -999.0,     -999.0,9,     -999.0
320620170820,        P06,     174,          1,         35,         35,2,20170906,       1314,   -32.5007,  -123.7434,       3439,    25.8,  18.5628,  35.2340,2,  35.2428,2, 238.0229,2, 233.4478,2,     0.1,2,    0.00,2,    0.00,2,    0.07,2,   2.106,2,   1.248,2,   1.5450,2,  2048.3,2,  2313.8,2,   7.9846,2,    25.00, -999.00,9, -999.00,9, -999.00,    63.9,2,    4.30,2,     -999.0,1,  -999.0,1, 20170906,     1449, -32.5008,-123.7433,        0.0,1,      0.069,1,      4.659,1,      0.147,1,     -999.0,1,     -999.0,1,     -999.0,9,     -999.0,9,     -999.0,9,     -999.0,9,     -999.0,9,     -999.0,9,     -999.0,9,     -999.0,9,     -999.0,9,    18.6014,2,     -999.0,     -999.0,9,     -999.0
320620170820,        P06,     174,          1,         36,         36,2,20170906,       1314,   -32.5007,  -123.7434,       3439,     5.6,  18.5653,  35.2324,2,  35.2318,2, 236.8195,2, 233.9235,2,     0.2,2,    0.00,2,    0.00,2,    0.08,2,   2.079,6,   1.247,6,   1.4945,6,  2046.7,6,  2313.2,2,   7.9830,2,    25.00,    0.81,2,   44.63,2,    4.99,    62.0,2,    4.20,2,     -999.0,1,  -999.0,1, 20170906,     1451, -32.5007,-123.7434,        0.0,1,      0.071,1,      4.650,1,      0.150,1,     -999.0,1,     -999.0,1,     -999.0,9,     -999.0,9,     -999.0,9,     -999.0,9,     -999.0,9,     -999.0,9,     -999.0,9,     -999.0,9,     -999.0,9,    18.5780,2,     -999.0,     -999.0,9,     -999.0