BOTTLE,20240211CCHSIOCBG
EXPOCODE,SECT_ID,STNNBR,CASTNO,SAMPNO,BTLNBR,BTLNBR_FLAG_W,DATE,TIME,LATITUDE,LONGITUDE,DEPTH,CTDPRS,CTDTMP,CTDSAL,CTDSAL_FLAG_W,SALNTY,SALNTY_FLAG_W,CTDOXY,CTDOXY_FLAG_W,OXYGEN,OXYGEN_FLAG_W,SILCAT,SILCAT_FLAG_W,NITRAT,NITRAT_FLAG_W,NITRIT,NITRIT_FLAG_W,PHSPHT,PHSPHT_FLAG_W,CFC-11,CFC-11_FLAG_W,CFC-12,CFC-12_FLAG_W,SF6,SF6_FLAG_W,TCARBN,TCARBN_FLAG_W,ALKALI,ALKALI_FLAG_W,PH_TOT,PH_TOT_FLAG_W,PH_TMP,DELC13,DELC13_FLAG_W,DELC14,DELC14_FLAG_W,C14ERR,DOC,DOC_FLAG_W,TDN,TDN_FLAG_W,TON,TON_FLAG_W,D15N_NO3,D15N_NO3_FLAG_W,BTL_DATE,BTL_TIME,BTL_LAT,BTL_LON,CTDRINKO,CTDRINKO_FLAG_W,CTDFLUOR,CTDFLUOR_FLAG_W,CTDXMISS,CTDXMISS_FLAG_W,CTDBACKSCATTER,CTDBACKSCATTER_FLAG_W,D18O_NO3,D18O_NO3_FLAG_W,DOP,DOP_FLAG_W,CELLCOUNT,CELLCOUNT_FLAG_W,TDP,TDP_FLAG_W,POP,POP_FLAG_W,DATP,DATP_FLAG_W,PATP,PATP_FLAG_W,HPLC,HPLC_FLAG_W,POC,POC_FLAG_W,BEAMAP,BEAMAP_FLAG_W,DOC_NASA,DOC_NASA_FLAG_W,REFTMP,REFTMP_FLAG_W,DOC_NASA_ERROR,TDN_NASA,TDN_NASA_FLAG_W,TDN_NASA_ERROR
,,,,,,,,,,,METERS,DBAR,ITS-90,PSS-78,,PSS-78,,UMOL/KG,,UMOL/KG,,UMOL/KG,,UMOL/KG,,UMOL/KG,,UMOL/KG,,PMOL/KG,,PMOL/KG,,FMOL/KG,,UMOL/KG,,UMOL/KG,,,,DEG C,/MILLE,,/MILLE,,/MILLE,UMOL/KG,,UMOL/KG,,UMOL/KG,,/MILLE,,,,,,VOLTS,,VOLTS,,VOLTS,,VOLTS,,/MILLE,,UMOL/KG,,/LITER,,UMOL/KG,,UMOL/L,,PMOL/L,,PMOL/L,,,,UG/L,,/METER,,UMOL/L,,ITS-90,,UMOL/L,UMOL/L,,UMOL/L
320620170820,        P06,     152,          3,         27,         27,2,20170828,       2100,   -32.5051,  -142.2516,       5091,   185.5,  13.9856,  34.9236,2,  34.9650,2, 220.7142,2, 227.3473,2,     0.5,2,    3.07,2,    0.05,2,    0.32,2,   2.539,2,   1.513,2,   1.6630,2,  2084.6,2,  2301.6,2,   7.8845,2,    25.00, -999.00,9, -999.00,9, -999.00,    51.9,2,    6.20,2,     -999.0,1,  -999.0,1, 20170828,     2321, -32.5052,-142.2516,        0.0,1,      0.080,1,      4.679,1,      0.138,1,     -999.0,1,     -999.0,1,     -999.0,9,     -999.0,9,     -999.0,9,     -999.0,9,     -999.0,9,     -999.0,9,     -999.0,9,     -999.0,9,     -999.0,9,    14.4756,2,     -999.0,     -999.0,9,     -999.0
320620170820,        P06,     152,          3,         30,         30,2,20170828,       2100,   -32.5051,  -142.2516,       5091,   130.8,  15.4175,  35.0495,2,-999.0000,9, 230.6923,2,-999.0000,9,  -999.0,9, -999.00,9, -999.00,9, -999.00,9,-999.000,9,-999.000,9,-999.0000,9,  -999.0,9,  -999.0,9,-999.0000,9,  -999.00, -999.00,9, -999.00,9, -999.00,    58.8,2, -999.00,9,     -999.0,9,  -999.0,9, 20170828,     2324, -32.5051,-142.2516,        0.0,1,      0.155,1,      4.659,1,      0.158,1,     -999.0,9,     -999.0,9,     -999.0,9,     -999.0,9,     -999.0,9,     -999.0,9,     -999.0,9,     -999.0,1,     -999.0,1,     -999.0,1,66.41906271,6,    17.0547,2,0.425613263,45.07633755,6, 2.26432549
320620170820,        P06,     152,          3,         29,         29,2,20170828,       2100,   -32.5051,  -142.2516,       5091,   130.2,  15.4175,  35.0495,2,-999.0000,9, 230.6513,2,-999.0000,9,  -999.0,9, -999.00,9, -999.00,9, -999.00,9,-999.000,9,-999.000,9,-999.0000,9,  -999.0,9,  -999.0,9,-999.0000,9,  -999.00, -999.00,9, -999.00,9, -999.00,  -999.0,9, -999.00,9,     -999.0,9,  -999.0,9, 20170828,     2324, -32.5051,-142.2516,        0.0,1,      0.155,1,      4.659,1,      0.158,1,     -999.0,9,     -999.0,9,     -999.0,9,     -999.0,9,     -999.0,9,     -999.0,9,     -999.0,9,     -999.0,1,     -999.0,1,     -999.0,1,66.41906271,6,     -999.0,5,0.425613263,45.07633755,6, 2.26432549
320620170820,        P06,     152,          3,         28,         28,2,20170828,       2100,   -32.5051,  -142.2516,       5091,   130.2,  15.4175,  35.0495,2,  35.3429,2, 241.3045,2, 237.5038,2,     0.3,2,    0.00,2,    0.00,2,    0.08,2,   2.252,2,   1.335,2,   1.6210,2,  2057.5,2,  2320.2,6,   7.9677,2,    25.00, -999.00,9, -999.00,9, -999.00,  -999.0,9, -999.00,9,     -999.0,1,  -999.0,1, 20170828,     2324, -32.5051,-142.2516,        0.0,1,      0.155,1,      4.659,1,      0.158,1,     -999.0,1,     -999.0,1,     -999.0,9,     -999.0,9,     -999.0,9,     -999.0,9,     -999.0,9,     -999.0,9,     -999.0,9,     -999.0,9,66.41906271,6,    17.0525,2,0.425613263,45.07633755,6, 2.26432549
320620170820,        P06,     152,          3,         31,         31,2,20170828,       2100,   -32.5051,  -142.2516,       5091,    87.3,  16.4130,  35.1185,2,  35.1727,2, 246.4231,2, 241.3098,2,     0.3,2,   -0.01,2,    0.00,2,    0.09,2,   2.291,2,   1.339,2,   1.7190,2,  2056.6,2,  2308.3,2,   7.9577,2,    25.00, -999.00,9, -999.00,9, -999.00,    60.7,2,    4.00,2,     -999.0,1,  -999.0,1, 20170828,     2327, -32.5051,-142.2516,        0.0,1,      0.107,1,      4.650,1,      0.164,1,     -999.0,1,     -999.0,1,     -999.0,9,       0.27,2,     -999.0,9,     -999.0,9,     -999.0,9,     -999.0,9,     -999.0,9,     -999.0,9,     -999.0,9,    16.5631,2,     -999.0,     -999.0,9,     -999.0
320620170820,        P06,     152,          3,         32,         32,2,20170828,       2100,   -32.5051,  -142.2516,       5091,    48.9,  16.3867,  35.1100,2,  35.1368,2, 246.5194,2, 241.6423,2,     0.2,2,   -0.01,2,    0.00,2,    0.09,2,   2.295,6,   1.358,6,   1.7860,6,  2058.3,2,  2308.6,2,   7.9547,2,    25.00, -999.00,9, -999.00,9, -999.00,    59.1,2,    3.90,2,     -999.0,1,  -999.0,1, 20170828,     2329, -32.5050,-142.2516,        0.0,1,      0.092,1,      4.649,1,      0.161,1,     -999.0,1,     -999.0,1,     -999.0,9,     -999.0,9,     -999.0,9,     -999.0,9,     -999.0,9,     -999.0,9,     -999.0,9,     -999.0,9,68.12446885,2,    16.4523,2,-83.18068276,52.58322761,2,     -999.0
320620170820,        P06,     152,          3,         33,         33,2,20170828,       2100,   -32.5051,  -142.2516,       5091,    47.5,  16.3863,  35.1095,2,-999.0000,9, 234.9927,2,-999.0000,9,  -999.0,9, -999.00,9, -999.00,9, -999.00,9,-999.000,9,-999.000,9,-999.0000,9,  -999.0,9,  -999.0,9,-999.0000,9,  -999.00, -999.00,9, -999.00,9, -999.00,  -999.0,9, -999.00,9,     -999.0,9,  -999.0,9, 20170828,     2329, -32.5050,-142.2516,        0.0,1,      0.091,1,      4.649,1,      0.165,1,     -999.0,9,     -999.0,9,     -999.0,9,     -999.0,9,     -999.0,9,     -999.0,9,     -999.0,9,     -999.0,1,     -999.0,1,     -999.0,1,68.12446885,2,     -999.0,5,-83.18068276,52.58322761,2,     -999.0
320620170820,        P06,     152,          3,         34,         34,2,20170828,       2100,   -32.5051,  -142.2516,       5091,    38.8,  16.3881,  35.1103,2,  35.1339,2, 248.4156,2,   241.79,2,     0.2,2,   -0.01,2,    0.00,2,    0.09,2,   2.311,2,   1.355,2,   1.7420,2,  2055.7,2,  2306.6,2,   7.9544,6,    25.00, -999.00,9, -999.00,9, -999.00,    60.2,2,    3.50,2,     -999.0,1,  -999.0,1, 20170828,     2331, -32.5050,-142.2516,        0.0,1,      0.084,1,      4.650,1,      0.164,1,     -999.0,1,     -999.0,1,     -999.0,9,       0.27,2,     -999.0,9,     -999.0,9,     -999.0,9,     -999.0,9,     -999.0,9,     -999.0,9,     -999.0,9,    16.4397,2,     -999.0,     -999.0,9,     -999.0
320620170820,        P06,     152,          3,         35,         35,2,20170828,       2100,   -32.5051,  -142.2516,       5091,    18.1,  16.3918,  35.1085,2,  35.1215,2, 248.0351,2, 241.8511,2,     0.2,2,   -0.01,2,    0.00,2,    0.09,2,   2.317,2,   1.329,2,   1.8310,2,  2056.5,2,  2307.1,2,   7.9538,2,    25.00, -999.00,9, -999.00,9, -999.00,    59.8,2,    4.20,2,     -999.0,1,  -999.0,1, 20170828,     2333, -32.5050,-142.2516,        0.0,1,      0.072,1,      4.651,1,      0.162,1,     -999.0,1,     -999.0,1,     -999.0,9,     -999.0,9,     -999.0,9,     -999.0,9,     -999.0,9,     -999.0,9,     -999.0,9,     -999.0,9,     -999.0,9,    16.4232,2,     -999.0,     -999.0,9,     -999.0
320620170820,        P06,     152,          3,         36,         36,2,20170828,       2100,   -32.5051,  -142.2516,       5091,     5.1,  16.3978,  35.1098,2,  35.1169,2, 248.0773,2, 242.1416,2,     0.3,2,   -0.01,2,    0.00,2,    0.10,2,   2.325,2,   1.345,2,   1.6510,2,  2055.6,6,  2305.4,2,   7.9531,2,    25.00, -999.00,9, -999.00,9, -999.00,    60.8,2,    4.00,2,     -999.0,1,  -999.0,1, 20170828,     2334, -32.5051,-142.2516,        0.0,1,      0.068,1,      4.650,1,      0.161,1,     -999.0,1,     -999.0,1,     -999.0,9,       0.29,2,     -999.0,9,     -999.0,9,     -999.0,9,     -999.0,9,     -999.0,9,     -999.0,9,     -999.0,9,    16.4835,2,     -999.0,     -999.0,9,     -999.0