BOTTLE,20240211CCHSIOCBG
EXPOCODE,SECT_ID,STNNBR,CASTNO,SAMPNO,BTLNBR,BTLNBR_FLAG_W,DATE,TIME,LATITUDE,LONGITUDE,DEPTH,CTDPRS,CTDTMP,CTDSAL,CTDSAL_FLAG_W,SALNTY,SALNTY_FLAG_W,CTDOXY,CTDOXY_FLAG_W,OXYGEN,OXYGEN_FLAG_W,SILCAT,SILCAT_FLAG_W,NITRAT,NITRAT_FLAG_W,NITRIT,NITRIT_FLAG_W,PHSPHT,PHSPHT_FLAG_W,CFC-11,CFC-11_FLAG_W,CFC-12,CFC-12_FLAG_W,SF6,SF6_FLAG_W,TCARBN,TCARBN_FLAG_W,ALKALI,ALKALI_FLAG_W,PH_TOT,PH_TOT_FLAG_W,PH_TMP,DELC13,DELC13_FLAG_W,DELC14,DELC14_FLAG_W,C14ERR,DOC,DOC_FLAG_W,TDN,TDN_FLAG_W,TON,TON_FLAG_W,D15N_NO3,D15N_NO3_FLAG_W,BTL_DATE,BTL_TIME,BTL_LAT,BTL_LON,CTDRINKO,CTDRINKO_FLAG_W,CTDFLUOR,CTDFLUOR_FLAG_W,CTDXMISS,CTDXMISS_FLAG_W,CTDBACKSCATTER,CTDBACKSCATTER_FLAG_W,D18O_NO3,D18O_NO3_FLAG_W,DOP,DOP_FLAG_W,CELLCOUNT,CELLCOUNT_FLAG_W,TDP,TDP_FLAG_W,POP,POP_FLAG_W,DATP,DATP_FLAG_W,PATP,PATP_FLAG_W,HPLC,HPLC_FLAG_W,POC,POC_FLAG_W,BEAMAP,BEAMAP_FLAG_W,DOC_NASA,DOC_NASA_FLAG_W,REFTMP,REFTMP_FLAG_W,DOC_NASA_ERROR,TDN_NASA,TDN_NASA_FLAG_W,TDN_NASA_ERROR
,,,,,,,,,,,METERS,DBAR,ITS-90,PSS-78,,PSS-78,,UMOL/KG,,UMOL/KG,,UMOL/KG,,UMOL/KG,,UMOL/KG,,UMOL/KG,,PMOL/KG,,PMOL/KG,,FMOL/KG,,UMOL/KG,,UMOL/KG,,,,DEG C,/MILLE,,/MILLE,,/MILLE,UMOL/KG,,UMOL/KG,,UMOL/KG,,/MILLE,,,,,,VOLTS,,VOLTS,,VOLTS,,VOLTS,,/MILLE,,UMOL/KG,,/LITER,,UMOL/KG,,UMOL/L,,PMOL/L,,PMOL/L,,,,UG/L,,/METER,,UMOL/L,,ITS-90,,UMOL/L,UMOL/L,,UMOL/L
320620170820,        P06,     241,          3,          1,          1,2,20170927,       1832,   -32.4997,   -72.5580,       4821,  4902.3,   1.7654,  34.6946,2,  34.6948,2, 162.0568,2, 162.3806,2,   126.4,2,   34.65,2,    0.00,2,    2.41,2,   0.030,2,   0.024,2,   0.0000,2,  2310.6,2,  2402.9,2,   7.5873,2,    25.00, -999.00,9, -999.00,9, -999.00,    36.3,2, -999.00,9,     -999.0,1,  -999.0,9, 20170927,     1832, -32.4997, -72.5577,        0.0,1,      0.061,1,      4.663,1,      0.149,1,     -999.0,9,     -999.0,9,     -999.0,9,     -999.0,9,     -999.0,9,     -999.0,9,     -999.0,9,     -999.0,9,     -999.0,9,     -999.0,9,     -999.0,9,     1.7660,2,     -999.0,     -999.0,9,     -999.0
320620170820,        P06,     241,          3,          2,          2,2,20170927,       1832,   -32.4997,   -72.5580,       4821,  4791.0,   1.7595,  34.6945,2,  34.6936,3, 162.0568,2, 162.4162,2,   126.1,2,   34.64,2,    0.00,2,    2.43,2,-999.000,9,-999.000,9,-999.0000,9,  -999.0,9,  -999.0,9,-999.0000,9,  -999.00, -999.00,9, -999.00,9, -999.00,    35.2,2, -999.00,9,     -999.0,1,  -999.0,9, 20170927,     1838, -32.4997, -72.5576,        0.0,1,      0.061,1,      4.669,1,      0.139,1,     -999.0,9,     -999.0,9,     -999.0,9,     -999.0,9,     -999.0,9,     -999.0,9,     -999.0,9,     -999.0,9,     -999.0,9,     -999.0,9,     -999.0,9,     1.7599,2,     -999.0,     -999.0,9,     -999.0
320620170820,        P06,     241,          3,          3,          3,2,20170927,       1832,   -32.4997,   -72.5580,       4821,  4681.2,   1.7527,  34.6943,2,  34.6936,2, 162.0568,2, 162.3667,2,   125.7,2,   34.63,2,    0.00,2,    2.42,2,   0.027,2,   0.027,2,   0.0000,2,  -999.0,9,  -999.0,9,-999.0000,9,  -999.00, -999.00,9, -999.00,9, -999.00,    36.2,2, -999.00,9,     -999.0,1,  -999.0,9, 20170927,     1843, -32.4997, -72.5577,        0.0,1,      0.062,1,      4.671,1,      0.134,1,     -999.0,9,     -999.0,9,     -999.0,9,     -999.0,9,     -999.0,9,     -999.0,9,     -999.0,9,     -999.0,9,     -999.0,9,     -999.0,9,     -999.0,9,     1.7523,2,     -999.0,     -999.0,9,     -999.0
320620170820,        P06,     241,          3,          4,          4,2,20170927,       1832,   -32.4997,   -72.5580,       4821,  4374.6,   1.7380,  34.6933,2,  34.6920,2, 161.7596,2, 162.0131,2,   125.2,2,   34.69,2,    0.00,2,    2.42,2,   0.025,2,   0.030,2,   0.0000,2,  -999.0,9,  -999.0,9,-999.0000,9,  -999.00, -999.00,9, -999.00,9, -999.00,    35.1,2, -999.00,9,     -999.0,1,  -999.0,9, 20170927,     1852, -32.4997, -72.5577,        0.0,1,      0.061,1,      4.673,1,      0.135,1,     -999.0,9,     -999.0,9,     -999.0,9,     -999.0,9,     -999.0,9,     -999.0,9,     -999.0,9,     -999.0,9,     -999.0,9,     -999.0,9,     -999.0,9,     1.7370,2,     -999.0,     -999.0,9,     -999.0
320620170820,        P06,     241,          3,          5,          5,2,20170927,       1832,   -32.4997,   -72.5580,       4821,  4066.4,   1.7456,  34.6916,2,  34.6908,2, 161.1361,2, 161.1665,2,   125.0,2,   34.82,2,    0.00,2,    2.42,2,   0.019,2,   0.026,2,   0.0000,2,  -999.0,9,  -999.0,9,-999.0000,9,  -999.00, -999.00,9, -999.00,9, -999.00,    34.0,2, -999.00,9,     -999.0,1,  -999.0,9, 20170927,     1858, -32.4996, -72.5578,        0.0,1,      0.061,1,      4.674,1,      0.132,1,     -999.0,9,     -999.0,9,     -999.0,9,     -999.0,9,     -999.0,9,     -999.0,9,     -999.0,9,     -999.0,9,     -999.0,9,     -999.0,9,     -999.0,9,     1.7474,2,     -999.0,     -999.0,9,     -999.0
320620170820,        P06,     241,          3,          6,          6,2,20170927,       1832,   -32.4997,   -72.5580,       4821,  3758.1,   1.7626,  34.6891,2,  34.6881,2,  158.908,2, 157.9714,2,   125.9,2,   35.01,2,    0.00,2,    2.43,2,   0.019,2,   0.027,2,   0.0000,2,  2312.0,2,  2406.2,2,   7.5820,2,    25.00, -999.00,9, -999.00,9, -999.00,    37.5,2, -999.00,9,     -999.0,1,  -999.0,9, 20170927,     1904, -32.4998, -72.5577,        0.0,1,      0.061,1,      4.674,1,      0.133,1,     -999.0,9,     -999.0,9,     -999.0,9,     -999.0,9,     -999.0,9,     -999.0,9,     -999.0,9,     -999.0,9,     -999.0,9,     -999.0,9,     -999.0,9,     1.7641,2,     -999.0,     -999.0,9,     -999.0
320620170820,        P06,     241,          3,          7,          7,2,20170927,       1832,   -32.4997,   -72.5580,       4821,  3452.5,   1.7813,  34.6858,2,  34.6844,2, 155.2795,3, 152.3064,2,   129.2,2,   35.42,2,    0.00,2,    2.46,2,   0.022,2,   0.035,2,   0.0000,2,  -999.0,9,  -999.0,9,-999.0000,9,  -999.00, -999.00,9, -999.00,9, -999.00,    35.7,2, -999.00,9,     -999.0,1,  -999.0,9, 20170927,     1911, -32.4999, -72.5576,        0.0,1,      0.061,1,      4.674,1,      0.134,1,     -999.0,9,     -999.0,9,     -999.0,9,     -999.0,9,     -999.0,9,     -999.0,9,     -999.0,9,     -999.0,9,     -999.0,9,     -999.0,9,     -999.0,9,     1.7832,2,     -999.0,     -999.0,9,     -999.0
320620170820,        P06,     241,          3,          8,          8,2,20170927,       1832,   -32.4997,   -72.5580,       4821,  3144.0,   1.7944,  34.6825,2,  34.6818,2, 150.2684,3, 148.6816,2,   129.6,2,   35.63,2,    0.00,2,    2.47,2,   0.023,2,   0.036,2,   0.0000,2,  2318.3,2,  2408.4,2,   7.5720,2,    25.00, -999.00,9, -999.00,9, -999.00,    34.8,2, -999.00,9,     -999.0,1,  -999.0,9, 20170927,     1917, -32.4997, -72.5579,        0.0,1,      0.061,1,      4.674,1,      0.134,1,     -999.0,9,     -999.0,9,     -999.0,9,     -999.0,9,     -999.0,9,     -999.0,9,     -999.0,9,     -999.0,9,     -999.0,9,     -999.0,9,     -999.0,9,     1.7937,2,     -999.0,     -999.0,9,     -999.0
320620170820,        P06,     241,          3,          9,          9,2,20170927,       1832,   -32.4997,   -72.5580,       4821,  2874.5,   1.8173,  34.6788,2,  34.6775,2, 145.7102,3, 148.2028,2,   128.0,2,   35.66,2,    0.00,2,    2.49,2,   0.022,2,   0.035,2,   0.0000,2,  -999.0,9,  -999.0,9,-999.0000,9,  -999.00, -999.00,9, -999.00,9, -999.00,    36.1,2, -999.00,9,     -999.0,1,  -999.0,9, 20170927,     1922, -32.4997, -72.5578,        0.0,1,      0.061,1,      4.672,1,      0.141,1,     -999.0,9,     -999.0,9,     -999.0,9,     -999.0,9,     -999.0,9,     -999.0,9,     -999.0,9,     -999.0,9,     -999.0,9,     -999.0,9,     -999.0,9,     1.8195,2,     -999.0,     -999.0,9,     -999.0
320620170820,        P06,     241,          3,         10,         10,2,20170927,       1832,   -32.4997,   -72.5580,       4821,  2617.9,   1.8842,  34.6712,2,  34.6694,2, 145.2177,2, 147.6406,2,   124.7,2,   35.72,2,    0.00,2,    2.50,2,   0.022,2,   0.036,2,   0.0000,2,  2313.2,2,  2401.0,2,   7.5640,2,    25.00, -999.00,9, -999.00,9, -999.00,    36.1,2, -999.00,9,     -999.0,1,  -999.0,9, 20170927,     1928, -32.4997, -72.5579,        0.0,1,      0.062,1,      4.672,1,      0.143,1,     -999.0,9,     -999.0,9,     -999.0,9,     -999.0,9,     -999.0,9,     -999.0,9,     -999.0,9,     -999.0,9,     -999.0,9,     -999.0,9,     -999.0,9,     1.8807,2,     -999.0,     -999.0,9,     -999.0
320620170820,        P06,     241,          3,         11,         11,2,20170927,       1832,   -32.4997,   -72.5580,       4821,  2364.2,   1.9768,  34.6613,2,  34.6586,2, 141.2216,2, 142.7061,2,   122.3,2,   36.09,2,    0.00,2,    2.54,2,   0.022,2,   0.035,2,   0.0000,2,  -999.0,9,  -999.0,9,-999.0000,9,  -999.00, -999.00,9, -999.00,9, -999.00,    38.6,2, -999.00,9,     -999.0,1,  -999.0,9, 20170927,     1933, -32.4998, -72.5576,        0.0,1,      0.062,1,      4.674,1,      0.138,1,     -999.0,9,     -999.0,9,     -999.0,9,     -999.0,9,     -999.0,9,     -999.0,9,     -999.0,9,     -999.0,9,     -999.0,9,     -999.0,9,     -999.0,9,     1.9865,2,     -999.0,     -999.0,9,     -999.0
320620170820,        P06,     241,          3,         12,         12,2,20170927,       1832,   -32.4997,   -72.5580,       4821,  2109.1,   2.1388,  34.6460,2,  34.6445,2,  134.276,2, 134.7583,2,   119.7,2,   36.76,2,    0.00,2,    2.60,2,   0.024,2,   0.043,2,   0.0000,2,  -999.0,9,  -999.0,9,-999.0000,9,  -999.00, -999.00,9, -999.00,9, -999.00,    36.2,2, -999.00,9,     -999.0,1,  -999.0,9, 20170927,     1938, -32.4999, -72.5575,        0.0,1,      0.062,1,      4.674,1,      0.139,1,     -999.0,9,     -999.0,9,     -999.0,9,     -999.0,9,     -999.0,9,     -999.0,9,     -999.0,9,     -999.0,9,     -999.0,9,     -999.0,9,     -999.0,9,     2.1421,2,     -999.0,     -999.0,9,     -999.0
320620170820,        P06,     241,          3,         13,         13,2,20170927,       1832,   -32.4997,   -72.5580,       4821,  1884.9,   2.3238,  34.6285,2,  34.6246,2,  127.579,2, 127.8984,2,   114.2,2,   37.35,2,    0.00,2,    2.64,2,   0.023,2,   0.041,2,   0.0000,2,  2315.8,2,  2386.1,2,   7.5262,2,    25.00, -999.00,9, -999.00,9, -999.00,    40.9,3, -999.00,9,     -999.0,1,  -999.0,9, 20170927,     1943, -32.4998, -72.5577,        0.0,1,      0.064,1,      4.674,1,      0.138,1,     -999.0,9,     -999.0,9,     -999.0,9,     -999.0,9,     -999.0,9,     -999.0,9,     -999.0,9,     -999.0,9,     -999.0,9,     -999.0,9,     -999.0,9,     2.3451,2,     -999.0,     -999.0,9,     -999.0
320620170820,        P06,     241,          3,         14,         14,2,20170927,       1832,   -32.4997,   -72.5580,       4821,  1682.5,   2.5780,  34.6049,2,  34.6016,2, 121.3934,2, 121.5934,2,   107.6,2,   37.93,2,    0.00,2,    2.68,2,-999.000,9,-999.000,9,-999.0000,9,  -999.0,9,  -999.0,9,-999.0000,9,  -999.00, -999.00,9, -999.00,9, -999.00,    35.1,2, -999.00,9,     -999.0,1,  -999.0,9, 20170927,     1947, -32.4997, -72.5578,        0.0,1,      0.062,1,      4.674,1,      0.141,1,     -999.0,9,     -999.0,9,     -999.0,9,     -999.0,9,     -999.0,9,     -999.0,9,     -999.0,9,     -999.0,9,     -999.0,9,     -999.0,9,     -999.0,9,     2.5648,2,     -999.0,     -999.0,9,     -999.0
320620170820,        P06,     241,          3,         15,         15,2,20170927,       1832,   -32.4997,   -72.5580,       4821,  1450.6,   2.8878,  34.5738,2,  34.5718,2, 115.1883,2, 113.7523,2,    97.9,2,   38.62,2,    0.00,2,    2.74,2,   0.025,2,   0.044,2,   0.0000,2,  -999.0,9,  -999.0,9,-999.0000,9,  -999.00, -999.00,9, -999.00,9, -999.00,    39.6,2, -999.00,9,     -999.0,1,  -999.0,9, 20170927,     1952, -32.4998, -72.5577,        0.0,1,      0.063,1,      4.674,1,      0.139,1,     -999.0,9,     -999.0,9,     -999.0,9,     -999.0,9,     -999.0,9,     -999.0,9,     -999.0,9,     -999.0,9,     -999.0,9,     -999.0,9,     -999.0,9,     2.8877,2,     -999.0,     -999.0,9,     -999.0
320620170820,        P06,     241,          3,         16,         16,2,20170927,       1832,   -32.4997,   -72.5580,       4821,  1246.4,   3.2932,  34.5383,2,  34.5370,2, 108.4896,2, 106.4417,2,    87.3,2,   39.33,2,    0.00,2,    2.77,2,   0.025,2,   0.046,2,   0.0000,2,  -999.0,9,  -999.0,9,-999.0000,9,  -999.00, -999.00,9, -999.00,9, -999.00,    38.6,2, -999.00,9,     -999.0,1,  -999.0,9, 20170927,     1957, -32.4997, -72.5577,        0.0,1,      0.064,1,      4.674,1,      0.181,1,     -999.0,9,     -999.0,9,     -999.0,9,     -999.0,9,     -999.0,9,     -999.0,9,     -999.0,9,     -999.0,9,     -999.0,9,     -999.0,9,     -999.0,9,     3.2784,2,     -999.0,     -999.0,9,     -999.0
320620170820,        P06,     241,          3,         17,         17,2,20170927,       1832,   -32.4997,   -72.5580,       4821,  1145.0,   3.5091,  34.5170,2,  34.5144,2, 105.9335,2,  104.792,2,    80.4,2,   39.54,2,    0.00,2,    2.79,2,   0.031,2,   0.046,2,   0.0000,2,  2294.9,2,  2347.0,2,   7.4741,2,    25.00, -999.00,9, -999.00,9, -999.00,    36.4,2, -999.00,9,     -999.0,1,  -999.0,9, 20170927,     2000, -32.4998, -72.5578,        0.0,1,      0.062,1,      4.674,1,      0.150,1,     -999.0,9,     -999.0,9,     -999.0,9,     -999.0,9,     -999.0,9,     -999.0,9,     -999.0,9,     -999.0,9,     -999.0,9,     -999.0,9,     -999.0,9,     3.5056,2,     -999.0,     -999.0,9,     -999.0
320620170820,        P06,     241,          3,         18,         18,2,20170927,       1832,   -32.4997,   -72.5580,       4821,  1043.9,   3.6645,  34.4845,2,  34.4773,2, 111.5476,2, 109.6951,2,    70.5,2,   39.21,2,    0.00,2,    2.75,2,-999.000,9,-999.000,9,-999.0000,9,  -999.0,9,  -999.0,9,-999.0000,9,  -999.00, -999.00,9, -999.00,9, -999.00,    38.8,2, -999.00,9,     -999.0,1,  -999.0,9, 20170927,     2002, -32.4998, -72.5577,        0.0,1,      0.063,1,      4.674,1,      0.144,1,     -999.0,9,     -999.0,9,     -999.0,9,     -999.0,9,     -999.0,9,     -999.0,9,     -999.0,9,     -999.0,9,     -999.0,9,     -999.0,9,     -999.0,9,     3.6970,2,     -999.0,     -999.0,9,     -999.0
320620170820,        P06,     241,          3,         19,         19,2,20170927,       1832,   -32.4997,   -72.5580,       4821,   943.6,   3.9090,  34.4483,2,  34.4438,2, 116.7885,2, 116.0642,2,    61.4,2,   38.88,2,    0.00,2,    2.72,2,   0.117,2,   0.088,2,   0.0000,2,  -999.0,9,  -999.0,9,-999.0000,9,  -999.00, -999.00,9, -999.00,9, -999.00,    37.3,2, -999.00,9,     -999.0,1,  -999.0,9, 20170927,     2005, -32.4999, -72.5576,        0.0,1,      0.062,1,      4.673,1,      0.148,1,     -999.0,9,     -999.0,9,     -999.0,9,     -999.0,9,     -999.0,9,     -999.0,9,     -999.0,9,     -999.0,9,     -999.0,9,     -999.0,9,     -999.0,9,     3.9214,2,     -999.0,     -999.0,9,     -999.0
320620170820,        P06,     241,          3,         20,         20,2,20170927,       1832,   -32.4997,   -72.5580,       4821,   841.7,   4.2646,  34.3998,2,  34.3957,2, 129.4649,2, 130.1086,2,    48.7,2,   37.55,2,    0.00,2,    2.61,2,   0.371,2,   0.209,2,   0.0000,2,  2252.3,2,  2311.7,2,   7.5012,2,    25.00, -999.00,9, -999.00,9, -999.00,    39.7,2, -999.00,9,     -999.0,1,  -999.0,9, 20170927,     2008, -32.4999, -72.5577,        0.0,1,      0.061,1,      4.673,1,      0.145,1,     -999.0,9,     -999.0,9,     -999.0,9,     -999.0,9,     -999.0,9,     -999.0,9,     -999.0,9,     -999.0,9,     -999.0,9,     -999.0,9,     -999.0,9,     4.2621,2,     -999.0,     -999.0,9,     -999.0
320620170820,        P06,     241,          3,         21,         21,2,20170927,       1832,   -32.4997,   -72.5580,       4821,   742.2,   4.6548,  34.3366,2,  34.3288,2, 162.6354,2, 162.6218,2,    31.8,2,   34.31,2,    0.00,2,    2.37,2,   1.187,2,   0.570,2,   0.1360,2,  -999.0,9,  -999.0,9,-999.0000,9,  -999.00, -999.00,9, -999.00,9, -999.00,    38.8,2, -999.00,9,     -999.0,1,  -999.0,9, 20170927,     2011, -32.4998, -72.5578,        0.0,1,      0.061,1,      4.673,1,      0.150,1,     -999.0,9,     -999.0,9,     -999.0,9,     -999.0,9,     -999.0,9,     -999.0,9,     -999.0,9,     -999.0,9,     -999.0,9,     -999.0,9,     -999.0,9,     4.7228,2,     -999.0,     -999.0,9,     -999.0
320620170820,        P06,     241,          3,         22,         22,2,20170927,       1832,   -32.4997,   -72.5580,       4821,   640.7,   5.1758,  34.3124,2,  34.3023,2, 174.3968,3, 178.6351,2,    22.3,2,   32.10,2,    0.00,2,    2.21,2,   2.059,2,   1.051,2,   0.2530,2,  -999.0,9,  -999.0,9,-999.0000,9,  -999.00, -999.00,9, -999.00,9, -999.00,    43.3,2, -999.00,9,     -999.0,1,  -999.0,9, 20170927,     2013, -32.4997, -72.5579,        0.0,1,      0.062,1,      4.671,1,      0.147,1,     -999.0,9,     -999.0,9,     -999.0,9,     -999.0,9,     -999.0,9,     -999.0,9,     -999.0,9,     -999.0,9,     -999.0,9,     -999.0,9,     -999.0,9,     5.2455,2,     -999.0,     -999.0,9,     -999.0
320620170820,        P06,     241,          3,         23,         23,2,20170927,       1832,   -32.4997,   -72.5580,       4821,   539.9,   5.7807,  34.3040,2,  34.3040,2, 180.3912,2, 180.1074,2,    16.6,2,   30.79,2,    0.00,2,    2.12,2,   2.527,2,   1.347,2,   0.4330,2,  2194.4,6,  2279.9,6,   7.5781,2,    25.00, -999.00,9, -999.00,9, -999.00,    44.4,2, -999.00,9,     -999.0,1,  -999.0,9, 20170927,     2016, -32.4997, -72.5579,        0.0,1,      0.061,1,      4.669,1,      0.151,1,     -999.0,9,     -999.0,9,     -999.0,9,     -999.0,9,     -999.0,9,     -999.0,9,     -999.0,9,     -999.0,9,     -999.0,9,     -999.0,9,     -999.0,9,     5.8723,2,     -999.0,     -999.0,9,     -999.0
320620170820,        P06,     241,          3,         24,         24,2,20170927,       1832,   -32.4997,   -72.5580,       4821,   438.3,   6.5396,  34.3401,2,  34.3914,2, 102.7002,2, 111.9643,2,    20.4,2,   34.43,2,    0.00,2,    2.44,2,   2.013,2,   1.022,2,   0.3540,2,  -999.0,9,  -999.0,9,-999.0000,9,  -999.00, -999.00,9, -999.00,9, -999.00,    44.3,2, -999.00,9,     -999.0,1,  -999.0,9, 20170927,     2019, -32.4998, -72.5578,        0.0,1,      0.062,1,      4.665,1,      0.165,1,     -999.0,9,     -999.0,9,     -999.0,9,     -999.0,9,     -999.0,9,     -999.0,9,     -999.0,9,     -999.0,9,     -999.0,9,     -999.0,9,     -999.0,9,     6.9831,2,     -999.0,     -999.0,9,     -999.0
320620170820,        P06,     241,          3,         25,         25,2,20170927,       1832,   -32.4997,   -72.5580,       4821,   316.8,   8.8835,  34.5318,2,  34.5317,2,  32.0145,2,  28.3981,2,    24.6,2,   34.73,2,    0.02,2,    2.77,2,   1.256,2,   0.660,2,   0.4270,2,  2275.7,2,  2286.6,2,   7.3497,2,    25.00, -999.00,9, -999.00,9, -999.00,    44.3,2, -999.00,9,     -999.0,1,  -999.0,9, 20170927,     2022, -32.4998, -72.5578,        0.0,1,      0.067,1,      4.643,1,      0.179,1,     -999.0,9,     -999.0,9,     -999.0,9,     -999.0,9,     -999.0,9,     -999.0,9,     -999.0,9,     -999.0,9,     -999.0,9,     -999.0,9,     -999.0,9,     8.8439,2,     -999.0,     -999.0,9,     -999.0
320620170820,        P06,     241,          3,         26,         26,2,20170927,       1832,   -32.4997,   -72.5580,       4821,   267.1,   9.6026,  34.5732,2,  34.5669,2,  22.2159,2,  20.2265,2,    24.4,2,   31.81,2,    0.02,2,    2.76,2,   1.245,2,   0.674,2,   0.3700,2,  -999.0,9,  -999.0,9,-999.0000,9,  -999.00, -999.00,9, -999.00,9, -999.00,    43.4,2,   33.50,2,     -999.0,1,  -999.0,9, 20170927,     2024, -32.4998, -72.5578,        0.0,1,      0.067,1,      4.639,1,      0.195,1,     -999.0,9,     -999.0,9,     -999.0,9,     -999.0,9,     -999.0,9,     -999.0,9,     -999.0,9,     -999.0,9,     -999.0,9,     -999.0,9,     -999.0,9,     9.5749,2,     -999.0,     -999.0,9,     -999.0