BOTTLE,20240211CCHSIOCBG
EXPOCODE,SECT_ID,STNNBR,CASTNO,SAMPNO,BTLNBR,BTLNBR_FLAG_W,DATE,TIME,LATITUDE,LONGITUDE,DEPTH,CTDPRS,CTDTMP,CTDSAL,CTDSAL_FLAG_W,SALNTY,SALNTY_FLAG_W,CTDOXY,CTDOXY_FLAG_W,OXYGEN,OXYGEN_FLAG_W,SILCAT,SILCAT_FLAG_W,NITRAT,NITRAT_FLAG_W,NITRIT,NITRIT_FLAG_W,PHSPHT,PHSPHT_FLAG_W,CFC-11,CFC-11_FLAG_W,CFC-12,CFC-12_FLAG_W,SF6,SF6_FLAG_W,TCARBN,TCARBN_FLAG_W,ALKALI,ALKALI_FLAG_W,PH_TOT,PH_TOT_FLAG_W,PH_TMP,DELC13,DELC13_FLAG_W,DELC14,DELC14_FLAG_W,C14ERR,DOC,DOC_FLAG_W,TDN,TDN_FLAG_W,TON,TON_FLAG_W,D15N_NO3,D15N_NO3_FLAG_W,BTL_DATE,BTL_TIME,BTL_LAT,BTL_LON,CTDRINKO,CTDRINKO_FLAG_W,CTDFLUOR,CTDFLUOR_FLAG_W,CTDXMISS,CTDXMISS_FLAG_W,CTDBACKSCATTER,CTDBACKSCATTER_FLAG_W,D18O_NO3,D18O_NO3_FLAG_W,DOP,DOP_FLAG_W,CELLCOUNT,CELLCOUNT_FLAG_W,TDP,TDP_FLAG_W,POP,POP_FLAG_W,DATP,DATP_FLAG_W,PATP,PATP_FLAG_W,HPLC,HPLC_FLAG_W,POC,POC_FLAG_W,BEAMAP,BEAMAP_FLAG_W,DOC_NASA,DOC_NASA_FLAG_W,REFTMP,REFTMP_FLAG_W,DOC_NASA_ERROR,TDN_NASA,TDN_NASA_FLAG_W,TDN_NASA_ERROR
,,,,,,,,,,,METERS,DBAR,ITS-90,PSS-78,,PSS-78,,UMOL/KG,,UMOL/KG,,UMOL/KG,,UMOL/KG,,UMOL/KG,,UMOL/KG,,PMOL/KG,,PMOL/KG,,FMOL/KG,,UMOL/KG,,UMOL/KG,,,,DEG C,/MILLE,,/MILLE,,/MILLE,UMOL/KG,,UMOL/KG,,UMOL/KG,,/MILLE,,,,,,VOLTS,,VOLTS,,VOLTS,,VOLTS,,/MILLE,,UMOL/KG,,/LITER,,UMOL/KG,,UMOL/L,,PMOL/L,,PMOL/L,,,,UG/L,,/METER,,UMOL/L,,ITS-90,,UMOL/L,UMOL/L,,UMOL/L
320620170820,        P06,     227,          1,         27,         27,2,20170923,       0957,   -32.4998,   -81.0854,       3992,   287.4,   9.6814,  34.4730,2,  34.4787,2,  57.8828,2,  59.1062,2,    19.0,2,   28.31,2,    0.00,2,    2.53,2,   1.920,2,   0.965,2,   0.4940,4,  2251.4,2,  2278.8,2,   7.3997,2,    25.00, -999.00,9, -999.00,9, -999.00,  -999.0,9, -999.00,9,     -999.0,9,  -999.0,9, 20170923,     1126, -32.5001, -81.0854,        0.0,1,      0.064,1,      4.665,1,      0.157,1,     -999.0,9,     -999.0,9,     -999.0,9,     -999.0,9,     -999.0,9,     -999.0,9,     -999.0,9,     -999.0,9,     -999.0,9,     -999.0,9,     -999.0,9,     9.7112,2,     -999.0,     -999.0,9,     -999.0
320620170820,        P06,     227,          1,         28,         28,2,20170923,       0957,   -32.4998,   -81.0854,       3992,   237.4,  10.2986,  34.3151,2,  34.3264,2, 114.8626,2, 112.2699,2,    11.7,2,   24.05,2,    0.00,2,    2.09,2,   2.821,2,   1.370,2,   0.7680,4,  2205.9,2,  2269.7,2,   7.5087,2,    25.00, -999.00,9, -999.00,9, -999.00,  -999.0,9, -999.00,9,     -999.0,9,  -999.0,9, 20170923,     1128, -32.5001, -81.0854,        0.0,1,      0.061,1,      4.666,1,      0.159,1,     -999.0,9,     -999.0,9,     -999.0,9,     -999.0,9,     -999.0,9,     -999.0,9,     -999.0,9,     -999.0,9,     -999.0,9,     -999.0,9,     -999.0,9,    10.2954,2,     -999.0,     -999.0,9,     -999.0
320620170820,        P06,     227,          1,         29,         29,2,20170923,       0957,   -32.4998,   -81.0854,       3992,   185.8,  11.2292,  34.1451,2,  34.1264,3, 179.4228,2, 181.0814,2,     3.6,2,   19.53,2,    0.00,2,    1.49,2,   3.171,2,   1.554,2,   1.1220,4,  2141.2,2,  2258.8,2,   7.6670,2,    25.00, -999.00,9, -999.00,9, -999.00,  -999.0,9, -999.00,9,     -999.0,9,  -999.0,9, 20170923,     1130, -32.5001, -81.0854,        0.0,1,      0.061,1,      4.663,1,      0.162,1,     -999.0,9,     -999.0,9,     -999.0,9,     -999.0,9,     -999.0,9,     -999.0,9,     -999.0,9,     -999.0,9,     -999.0,9,     -999.0,9,     -999.0,9,    11.2078,2,     -999.0,     -999.0,9,     -999.0
320620170820,        P06,     227,          1,         30,         30,2,20170923,       0957,   -32.4998,   -81.0854,       3992,   141.5,  14.6183,  34.3457,2,  34.1479,2, 215.0598,2, 218.9431,2,     0.6,2,   10.61,2,    0.08,2,    0.87,2,   2.954,2,   1.439,2,   1.4340,4,  2089.5,2,  2265.1,2,   7.8138,2,    25.00, -999.00,9, -999.00,9, -999.00,  -999.0,9, -999.00,9,     -999.0,9,  -999.0,9, 20170923,     1131, -32.5000, -81.0854,        0.0,1,      0.088,1,      4.648,1,      0.172,1,     -999.0,9,     -999.0,9,     -999.0,9,     -999.0,9,     -999.0,9,     -999.0,9,     -999.0,9,     -999.0,9,     -999.0,9,     -999.0,9,     -999.0,9,    13.3323,2,     -999.0,     -999.0,9,     -999.0
320620170820,        P06,     227,          1,         31,         31,2,20170923,       0957,   -32.4998,   -81.0854,       3992,   115.0,  14.9904,  34.4146,2,  34.4159,2, 248.9996,2, 248.2635,2,     0.0,2,    1.93,2,    0.09,2,    0.37,2,   2.576,2,   1.358,2,   1.4600,4,  2058.0,2,  2284.4,2,   7.9204,2,    25.00, -999.00,9, -999.00,9, -999.00,  -999.0,9, -999.00,9,     -999.0,9,  -999.0,9, 20170923,     1133, -32.5000, -81.0854,        0.0,1,      0.138,1,      4.637,1,      0.185,1,     -999.0,9,     -999.0,9,     -999.0,9,     -999.0,9,     -999.0,9,     -999.0,9,     -999.0,9,     -999.0,9,     -999.0,9,     -999.0,9,     -999.0,9,    15.0053,2,     -999.0,     -999.0,9,     -999.0
320620170820,        P06,     227,          1,         32,         32,2,20170923,       0957,   -32.4998,   -81.0854,       3992,    90.7,  15.0066,  34.4152,2,  34.4336,2, 249.1155,2, 247.5561,2,     0.0,2,    1.94,2,    0.09,2,    0.39,2,   2.579,2,   1.423,2,   1.5370,4,  2056.2,2,  2285.5,2,   7.9197,2,    25.00, -999.00,9, -999.00,9, -999.00,  -999.0,9, -999.00,9,     -999.0,9,  -999.0,9, 20170923,     1134, -32.4999, -81.0854,        0.0,1,      0.146,1,      4.632,1,      0.186,1,     -999.0,9,     -999.0,9,     -999.0,9,     -999.0,9,     -999.0,9,     -999.0,9,     -999.0,9,     -999.0,9,     -999.0,9,     -999.0,9,     -999.0,9,    15.0796,2,     -999.0,     -999.0,9,     -999.0
320620170820,        P06,     227,          1,         33,         33,2,20170923,       0957,   -32.4998,   -81.0854,       3992,    65.1,  15.0745,  34.4261,2,  34.4334,2, 250.3698,2, 250.3431,2,     0.0,2,    1.78,2,    0.08,2,    0.38,2,   2.655,2,   1.410,2,   1.3450,4,  2055.7,2,  2287.3,2,   7.9219,2,    25.00, -999.00,9, -999.00,9, -999.00,  -999.0,9, -999.00,9,     -999.0,9,  -999.0,9, 20170923,     1136, -32.4998, -81.0854,        0.0,1,      0.260,1,      4.575,1,      0.236,1,     -999.0,9,     -999.0,9,     -999.0,9,     -999.0,9,     -999.0,9,     -999.0,9,     -999.0,9,     -999.0,9,     -999.0,9,     -999.0,9,     -999.0,9,    15.0966,2,     -999.0,     -999.0,9,     -999.0
320620170820,        P06,     227,          1,         34,         34,2,20170923,       0957,   -32.4998,   -81.0854,       3992,    40.7,  15.0737,  34.4260,2,  34.4320,2, 249.6856,2, 251.2104,2,     0.0,2,    1.75,2,    0.07,2,    0.39,2,   2.804,2,   1.416,2,   1.3920,4,  2054.4,2,  2285.9,6,   7.9238,2,    25.00, -999.00,9, -999.00,9, -999.00,  -999.0,9, -999.00,9,     -999.0,9,  -999.0,9, 20170923,     1137, -32.4998, -81.0854,        0.0,1,      0.264,1,      4.571,1,      0.235,1,     -999.0,9,     -999.0,9,     -999.0,9,     -999.0,9,     -999.0,9,     -999.0,9,     -999.0,9,     -999.0,9,     -999.0,9,     -999.0,9,     -999.0,9,    15.0931,2,     -999.0,     -999.0,9,     -999.0
320620170820,        P06,     227,          1,         35,         35,2,20170923,       0957,   -32.4998,   -81.0854,       3992,    18.9,  15.1194,  34.4336,2,  34.4392,2, 251.9109,2, 251.6307,2,     0.0,2,    1.69,2,    0.07,2,    0.39,2,   2.755,2,   1.414,2,   1.4080,4,  2056.5,2,  2286.4,2,   7.9263,6,    25.00, -999.00,9, -999.00,9, -999.00,  -999.0,9, -999.00,9,     -999.0,9,  -999.0,9, 20170923,     1139, -32.4998, -81.0855,        0.0,1,      0.267,1,      4.560,1,      0.238,1,     -999.0,9,     -999.0,9,     -999.0,9,     -999.0,9,     -999.0,9,     -999.0,9,     -999.0,9,     -999.0,9,     -999.0,9,     -999.0,9,     -999.0,9,    15.1330,2,     -999.0,     -999.0,9,     -999.0
320620170820,        P06,     227,          1,         36,         36,2,20170923,       0957,   -32.4998,   -81.0854,       3992,     4.2,  15.1236,  34.4350,2,  34.4412,2, 249.4391,2, 251.6675,2,     0.0,2,    1.67,2,    0.07,2,    0.40,2,   2.793,2,   1.401,2,   1.1620,4,  2054.4,6,  2288.7,2,   7.9285,2,    25.00, -999.00,9, -999.00,9, -999.00,  -999.0,9, -999.00,9,     -999.0,9,  -999.0,9, 20170923,     1140, -32.4998, -81.0854,        0.0,1,      0.259,1,      4.561,1,      0.225,1,     -999.0,9,     -999.0,9,     -999.0,9,     -999.0,9,     -999.0,9,     -999.0,9,     -999.0,9,     -999.0,9,     -999.0,9,     -999.0,9,     -999.0,9,    15.1244,2,     -999.0,     -999.0,9,     -999.0