BOTTLE,20240211CCHSIOCBG
EXPOCODE,SECT_ID,STNNBR,CASTNO,SAMPNO,BTLNBR,BTLNBR_FLAG_W,DATE,TIME,LATITUDE,LONGITUDE,DEPTH,CTDPRS,CTDTMP,CTDSAL,CTDSAL_FLAG_W,SALNTY,SALNTY_FLAG_W,CTDOXY,CTDOXY_FLAG_W,OXYGEN,OXYGEN_FLAG_W,SILCAT,SILCAT_FLAG_W,NITRAT,NITRAT_FLAG_W,NITRIT,NITRIT_FLAG_W,PHSPHT,PHSPHT_FLAG_W,CFC-11,CFC-11_FLAG_W,CFC-12,CFC-12_FLAG_W,SF6,SF6_FLAG_W,TCARBN,TCARBN_FLAG_W,ALKALI,ALKALI_FLAG_W,PH_TOT,PH_TOT_FLAG_W,PH_TMP,DELC13,DELC13_FLAG_W,DELC14,DELC14_FLAG_W,C14ERR,DOC,DOC_FLAG_W,TDN,TDN_FLAG_W,TON,TON_FLAG_W,D15N_NO3,D15N_NO3_FLAG_W,BTL_DATE,BTL_TIME,BTL_LAT,BTL_LON,CTDRINKO,CTDRINKO_FLAG_W,CTDFLUOR,CTDFLUOR_FLAG_W,CTDXMISS,CTDXMISS_FLAG_W,CTDBACKSCATTER,CTDBACKSCATTER_FLAG_W,D18O_NO3,D18O_NO3_FLAG_W,DOP,DOP_FLAG_W,CELLCOUNT,CELLCOUNT_FLAG_W,TDP,TDP_FLAG_W,POP,POP_FLAG_W,DATP,DATP_FLAG_W,PATP,PATP_FLAG_W,HPLC,HPLC_FLAG_W,POC,POC_FLAG_W,BEAMAP,BEAMAP_FLAG_W,DOC_NASA,DOC_NASA_FLAG_W,REFTMP,REFTMP_FLAG_W,DOC_NASA_ERROR,TDN_NASA,TDN_NASA_FLAG_W,TDN_NASA_ERROR
,,,,,,,,,,,METERS,DBAR,ITS-90,PSS-78,,PSS-78,,UMOL/KG,,UMOL/KG,,UMOL/KG,,UMOL/KG,,UMOL/KG,,UMOL/KG,,PMOL/KG,,PMOL/KG,,FMOL/KG,,UMOL/KG,,UMOL/KG,,,,DEG C,/MILLE,,/MILLE,,/MILLE,UMOL/KG,,UMOL/KG,,UMOL/KG,,/MILLE,,,,,,VOLTS,,VOLTS,,VOLTS,,VOLTS,,/MILLE,,UMOL/KG,,/LITER,,UMOL/KG,,UMOL/L,,PMOL/L,,PMOL/L,,,,UG/L,,/METER,,UMOL/L,,ITS-90,,UMOL/L,UMOL/L,,UMOL/L
320620170820,        P06,     179,          1,          1,          1,2,20170908,       0436,   -32.5003,  -119.7258,       3476,  3520.6,   1.6973,  34.6786,2,  34.8458,2, 167.4657,2, 167.8212,2,   122.5,2,   34.71,2,    0.00,2,    2.38,2,   0.038,2,   0.022,2,   0.0000,2,  2298.7,6,  2395.4,2,   7.5911,2,    25.00, -999.00,9, -999.00,9, -999.00,  -999.0,9, -999.00,9,     -999.0,9,  -999.0,9, 20170908,      436, -32.5001,-119.7259,        0.0,1,      0.061,1,      4.691,1,      0.126,1,     -999.0,9,     -999.0,9,     -999.0,9,     -999.0,9,     -999.0,9,     -999.0,9,     -999.0,9,     -999.0,9,     -999.0,9,     -999.0,9,     -999.0,9,     1.6977,2,     -999.0,     -999.0,9,     -999.0
320620170820,        P06,     179,          1,          2,          2,2,20170908,       0436,   -32.5003,  -119.7258,       3476,  3417.4,   1.6973,  34.6778,2,  34.6785,2, 167.4657,2, 167.6327,2,   122.6,2,   34.78,2,    0.00,2,    2.37,2,   0.041,2,   0.030,2,   0.0000,2,  -999.0,9,  -999.0,9,-999.0000,9,  -999.00, -999.00,9, -999.00,9, -999.00,  -999.0,9, -999.00,9,     -999.0,9,  -999.0,9, 20170908,      439, -32.5002,-119.7258,        0.0,1,      0.062,1,      4.691,1,      0.126,1,     -999.0,9,     -999.0,9,     -999.0,9,     -999.0,9,     -999.0,9,     -999.0,9,     -999.0,9,     -999.0,9,     -999.0,9,     -999.0,9,     -999.0,9,     1.6976,2,     -999.0,     -999.0,9,     -999.0
320620170820,        P06,     179,          1,          3,          3,2,20170908,       0436,   -32.5003,  -119.7258,       3476,  3247.6,   1.6890,  34.6773,2,  34.6781,2, 167.0593,2, 167.5203,2,   122.8,2,   34.83,2,    0.00,2,    2.38,2,   0.037,2,   0.024,2,   0.0000,2,  2298.7,2,  2397.3,2,   7.5911,2,    25.00, -999.00,9, -999.00,9, -999.00,  -999.0,9, -999.00,9,     -999.0,9,  -999.0,9, 20170908,      443, -32.5002,-119.7258,        0.0,1,      0.061,1,      4.692,1,      0.126,1,     -999.0,9,     -999.0,9,     -999.0,9,     -999.0,9,     -999.0,9,     -999.0,9,     -999.0,9,     -999.0,9,     -999.0,9,     -999.0,9,     -999.0,9,     1.6891,2,     -999.0,     -999.0,9,     -999.0
320620170820,        P06,     179,          1,          4,          4,2,20170908,       0436,   -32.5003,  -119.7258,       3476,  2978.4,   1.7033,  34.6741,2,  34.6757,2, 166.5354,3, 165.2263,2,   122.4,2,   34.93,2,    0.00,2,    2.40,2,   0.036,2,   0.023,2,   0.0000,2,  -999.0,9,  -999.0,9,-999.0000,9,  -999.00, -999.00,9, -999.00,9, -999.00,  -999.0,9, -999.00,9,     -999.0,9,  -999.0,9, 20170908,      449, -32.5001,-119.7259,        0.0,1,      0.061,1,      4.692,1,      0.126,1,     -999.0,9,     -999.0,9,     -999.0,9,     -999.0,9,     -999.0,9,     -999.0,9,     -999.0,9,     -999.0,9,     -999.0,9,     -999.0,9,     -999.0,9,     1.7032,2,     -999.0,     -999.0,9,     -999.0
320620170820,        P06,     179,          1,          5,          5,2,20170908,       0436,   -32.5003,  -119.7258,       3476,  2771.1,   1.7382,  34.6695,2,  34.6704,2, 163.4397,2, 163.5838,2,   122.0,2,   35.04,2,    0.00,2,    2.41,2,   0.036,2,   0.024,2,   0.0000,2,  2297.0,3,  2395.7,2,   7.5854,2,    25.00, -999.00,9, -999.00,9, -999.00,  -999.0,9, -999.00,9,     -999.0,9,  -999.0,9, 20170908,      453, -32.5001,-119.7259,        0.0,1,      0.061,1,      4.694,1,      0.125,1,     -999.0,9,     -999.0,9,     -999.0,9,     -999.0,9,     -999.0,9,     -999.0,9,     -999.0,9,     -999.0,9,     -999.0,9,     -999.0,9,     -999.0,9,     1.7375,2,     -999.0,     -999.0,9,     -999.0
320620170820,        P06,     179,          1,          6,          6,2,20170908,       0436,   -32.5003,  -119.7258,       3476,  2568.1,   1.7906,  34.6638,2,  34.6663,2, 161.3786,2, 161.2613,2,   121.2,2,   35.20,2,    0.00,2,    2.42,2,   0.037,2,   0.021,2,   0.0000,2,  -999.0,9,  -999.0,9,-999.0000,9,  -999.00, -999.00,9, -999.00,9, -999.00,  -999.0,9, -999.00,9,     -999.0,9,  -999.0,9, 20170908,      457, -32.5001,-119.7258,        0.0,1,      0.061,1,      4.694,1,      0.124,1,     -999.0,9,     -999.0,9,     -999.0,9,     -999.0,9,     -999.0,9,     -999.0,9,     -999.0,9,     -999.0,9,     -999.0,9,     -999.0,9,     -999.0,9,     1.7848,2,     -999.0,     -999.0,9,     -999.0
320620170820,        P06,     179,          1,          7,          7,2,20170908,       0436,   -32.5003,  -119.7258,       3476,  2359.7,   1.8815,  34.6552,2,  34.6565,2, 158.4544,2, 158.3321,2,   119.3,2,   35.35,2,    0.00,2,    2.44,2,   0.038,2,   0.026,2,   0.0000,2,  2301.6,6,  2391.6,2,   7.5799,2,    25.00, -999.00,9, -999.00,9, -999.00,  -999.0,9, -999.00,9,     -999.0,9,  -999.0,9, 20170908,      502, -32.5002,-119.7258,        0.0,1,      0.061,1,      4.694,1,      0.126,1,     -999.0,9,     -999.0,9,     -999.0,9,     -999.0,9,     -999.0,9,     -999.0,9,     -999.0,9,     -999.0,9,     -999.0,9,     -999.0,9,     -999.0,9,     1.8811,2,     -999.0,     -999.0,9,     -999.0
320620170820,        P06,     179,          1,          8,          8,2,20170908,       0436,   -32.5003,  -119.7258,       3476,  2159.1,   1.9904,  34.6450,2,  34.6451,2, 156.0575,2, 157.3369,2,   115.4,2,   35.29,2,    0.00,2,    2.44,2,   0.038,2,   0.024,2,   0.0000,2,  -999.0,9,  -999.0,9,-999.0000,9,  -999.00, -999.00,9, -999.00,9, -999.00,  -999.0,9, -999.00,9,     -999.0,9,  -999.0,9, 20170908,      506, -32.5004,-119.7256,        0.0,1,      0.061,1,      4.694,1,      0.127,1,     -999.0,9,     -999.0,9,     -999.0,9,     -999.0,9,     -999.0,9,     -999.0,9,     -999.0,9,     -999.0,9,     -999.0,9,     -999.0,9,     -999.0,9,     1.9980,2,     -999.0,     -999.0,9,     -999.0
320620170820,        P06,     179,          1,          9,          9,2,20170908,       0436,   -32.5003,  -119.7258,       3476,  1960.0,   2.1303,  34.6303,2,  34.6293,2, 155.9922,2, 155.7303,2,   108.8,2,   35.33,2,    0.00,2,    2.43,2,   0.045,2,   0.029,2,   0.0000,2,  2292.5,2,  2380.3,2,   7.5714,2,    25.00, -999.00,9, -999.00,9, -999.00,  -999.0,9, -999.00,9,     -999.0,9,  -999.0,9, 20170908,      510, -32.5005,-119.7256,        0.0,1,      0.061,1,      4.694,1,      0.127,1,     -999.0,9,     -999.0,9,     -999.0,9,     -999.0,9,     -999.0,9,     -999.0,9,     -999.0,9,     -999.0,9,     -999.0,9,     -999.0,9,     -999.0,9,     2.1468,2,     -999.0,     -999.0,9,     -999.0
320620170820,        P06,     179,          1,         10,         10,2,20170908,       0436,   -32.5003,  -119.7258,       3476,  1785.5,   2.2827,  34.6094,2,  34.6067,2, 157.2105,2,  157.704,2,   100.7,2,   35.21,2,    0.00,2,    2.43,2,   0.054,2,   0.034,2,   0.0000,2,  -999.0,9,  -999.0,9,-999.0000,9,  -999.00, -999.00,9, -999.00,9, -999.00,  -999.0,9, -999.00,9,     -999.0,9,  -999.0,9, 20170908,      514, -32.5004,-119.7256,        0.0,1,      0.060,1,      4.694,1,      0.127,1,     -999.0,9,     -999.0,9,     -999.0,9,     -999.0,9,     -999.0,9,     -999.0,9,     -999.0,9,     -999.0,9,     -999.0,9,     -999.0,9,     -999.0,9,     2.3083,2,     -999.0,     -999.0,9,     -999.0
320620170820,        P06,     179,          1,         11,         11,2,20170908,       0436,   -32.5003,  -119.7258,       3476,  1680.5,   2.3936,  34.5923,2,  34.5902,2, 158.7488,2, 158.9784,2,    94.8,2,   35.12,2,    0.00,2,    2.42,2,   0.058,2,   0.036,2,   0.0000,2,  2277.7,2,  2365.0,2,   7.5685,2,    25.00, -999.00,9, -999.00,9, -999.00,  -999.0,9, -999.00,9,     -999.0,9,  -999.0,9, 20170908,      517, -32.5004,-119.7257,        0.0,1,      0.061,1,      4.694,1,      0.129,1,     -999.0,9,     -999.0,9,     -999.0,9,     -999.0,9,     -999.0,9,     -999.0,9,     -999.0,9,     -999.0,9,     -999.0,9,     -999.0,9,     -999.0,9,     2.4076,2,     -999.0,     -999.0,9,     -999.0
320620170820,        P06,     179,          1,         12,         12,2,20170908,       0436,   -32.5003,  -119.7258,       3476,  1580.5,   2.5153,  34.5700,2,  34.5665,2,  161.352,2, 161.3963,2,    87.0,2,   34.99,2,    0.00,2,    2.40,2,   0.083,2,   0.050,2,   0.0000,2,  -999.0,9,  -999.0,9,-999.0000,9,  -999.00, -999.00,9, -999.00,9, -999.00,  -999.0,9, -999.00,9,     -999.0,9,  -999.0,9, 20170908,      520, -32.5003,-119.7258,        0.0,1,      0.061,1,      4.694,1,      0.128,1,     -999.0,9,     -999.0,9,     -999.0,9,     -999.0,9,     -999.0,9,     -999.0,9,     -999.0,9,     -999.0,9,     -999.0,9,     -999.0,9,     -999.0,9,     2.5318,2,     -999.0,     -999.0,9,     -999.0
320620170820,        P06,     179,          1,         13,         13,2,20170908,       0436,   -32.5003,  -119.7258,       3476,  1480.6,   2.6933,  34.5357,2,  34.5341,2, 163.7409,2, 163.2269,2,    78.9,2,   34.97,2,    0.00,2,    2.36,2,   0.109,2,   0.061,2,   0.0000,2,  2263.6,2,  2345.5,6,   7.5644,2,    25.00, -999.00,9, -999.00,9, -999.00,  -999.0,9, -999.00,9,     -999.0,9,  -999.0,9, 20170908,      522, -32.5001,-119.7259,        0.0,1,      0.060,1,      4.694,1,      0.129,1,     -999.0,9,     -999.0,9,     -999.0,9,     -999.0,9,     -999.0,9,     -999.0,9,     -999.0,9,     -999.0,9,     -999.0,9,     -999.0,9,     -999.0,9,     2.7094,2,     -999.0,     -999.0,9,     -999.0
320620170820,        P06,     179,          1,         14,         14,2,20170908,       0436,   -32.5003,  -119.7258,       3476,  1376.8,   2.9171,  34.4918,2,  34.4885,2, 167.1343,2, 164.9746,2,    69.5,2,   34.96,2,    0.00,2,    2.37,2,   0.174,2,   0.101,2,   0.0000,2,  -999.0,9,  -999.0,9,-999.0000,9,  -999.00, -999.00,9, -999.00,9, -999.00,  -999.0,9, -999.00,9,     -999.0,9,  -999.0,9, 20170908,      525, -32.5001,-119.7260,        0.0,1,      0.060,1,      4.694,1,      0.128,1,     -999.0,9,     -999.0,9,     -999.0,9,     -999.0,9,     -999.0,9,     -999.0,9,     -999.0,9,     -999.0,9,     -999.0,9,     -999.0,9,     -999.0,9,     2.9512,2,     -999.0,     -999.0,9,     -999.0
320620170820,        P06,     179,          1,         15,         15,2,20170908,       0436,   -32.5003,  -119.7258,       3476,  1276.7,   3.2096,  34.4408,2,  34.4390,2, 171.5963,2, 170.4745,2,    59.7,2,   34.61,2,    0.00,2,    2.36,2,   0.319,2,   0.170,2,   0.0000,2,  2239.5,2,  2323.2,2,   7.5666,2,    25.00, -999.00,9, -999.00,9, -999.00,  -999.0,9, -999.00,9,     -999.0,9,  -999.0,9, 20170908,      528, -32.5001,-119.7260,        0.0,1,      0.060,1,      4.694,1,      0.129,1,     -999.0,9,     -999.0,9,     -999.0,9,     -999.0,9,     -999.0,9,     -999.0,9,     -999.0,9,     -999.0,9,     -999.0,9,     -999.0,9,     -999.0,9,     3.2139,2,     -999.0,     -999.0,9,     -999.0
320620170820,        P06,     179,          1,         16,         16,2,20170908,       0436,   -32.5003,  -119.7258,       3476,  1178.4,   3.5029,  34.3978,2,  34.3982,2, 176.3742,2, 176.4103,2,    51.3,2,   33.91,2,    0.00,2,    2.33,2,   0.467,2,   0.240,2,   0.1100,2,  -999.0,9,  -999.0,9,-999.0000,9,  -999.00, -999.00,9, -999.00,9, -999.00,  -999.0,9, -999.00,9,     -999.0,9,  -999.0,9, 20170908,      530, -32.5001,-119.7259,        0.0,1,      0.061,1,      4.694,1,      0.128,1,     -999.0,9,     -999.0,9,     -999.0,9,     -999.0,9,     -999.0,9,     -999.0,9,     -999.0,9,     -999.0,9,     -999.0,9,     -999.0,9,     -999.0,9,     3.4932,2,     -999.0,     -999.0,9,     -999.0
320620170820,        P06,     179,          1,         17,         17,2,20170908,       0436,   -32.5003,  -119.7258,       3476,  1075.6,   3.9688,  34.3470,2,  34.3509,2, 189.6096,2, 190.4367,2,    40.2,2,   32.58,2,    0.00,2,    2.20,2,   0.832,2,   0.412,2,   0.1350,2,  2212.1,2,  2305.8,2,   7.5961,6,    25.00, -999.00,9, -999.00,9, -999.00,  -999.0,9, -999.00,9,     -999.0,9,  -999.0,9, 20170908,      533, -32.5001,-119.7260,        0.0,1,      0.061,1,      4.694,1,      0.128,1,     -999.0,9,     -999.0,9,     -999.0,9,     -999.0,9,     -999.0,9,     -999.0,9,     -999.0,9,     -999.0,9,     -999.0,9,     -999.0,9,     -999.0,9,     3.9310,2,     -999.0,     -999.0,9,     -999.0
320620170820,        P06,     179,          1,         18,         18,2,20170908,       0436,   -32.5003,  -119.7258,       3476,   974.9,   4.5252,  34.3125,2,  34.3138,2, 203.0135,2, 205.0844,2,    29.2,2,   30.64,2,    0.00,2,    2.05,2,   1.326,2,   0.637,2,   0.2720,2,  -999.0,9,  -999.0,9,-999.0000,9,  -999.00, -999.00,9, -999.00,9, -999.00,  -999.0,9, -999.00,9,     -999.0,9,  -999.0,9, 20170908,      535, -32.5001,-119.7259,        0.0,1,      0.060,1,      4.694,1,      0.129,1,     -999.0,9,     -999.0,9,     -999.0,9,     -999.0,9,     -999.0,9,     -999.0,9,     -999.0,9,     -999.0,9,     -999.0,9,     -999.0,9,     -999.0,9,     4.4807,2,     -999.0,     -999.0,9,     -999.0
320620170820,        P06,     179,          1,         19,         19,2,20170908,       0436,   -32.5003,  -119.7258,       3476,   873.6,   5.1891,  34.2929,2,  34.2934,2, 218.5001,2, 218.7413,2,    19.5,2,   28.29,2,    0.00,2,    1.89,2,   2.008,2,   0.971,2,   0.4270,2,  2174.1,2,  2286.2,2,   7.6531,2,    25.00, -999.00,9, -999.00,9, -999.00,  -999.0,9, -999.00,9,     -999.0,9,  -999.0,9, 20170908,      538, -32.5001,-119.7259,        0.0,1,      0.059,1,      4.693,1,      0.128,1,     -999.0,9,     -999.0,9,     -999.0,9,     -999.0,9,     -999.0,9,     -999.0,9,     -999.0,9,     -999.0,9,     -999.0,9,     -999.0,9,     -999.0,9,     5.1317,2,     -999.0,     -999.0,9,     -999.0
320620170820,        P06,     179,          1,         20,         20,2,20170908,       0436,   -32.5003,  -119.7258,       3476,   768.9,   5.6840,  34.2921,2,  34.2911,2, 232.3957,2, 232.5743,2,    13.0,2,   26.00,2,    0.00,2,    1.72,2,   2.685,2,   1.304,2,   0.5820,2,  -999.0,9,  -999.0,9,-999.0000,9,  -999.00, -999.00,9, -999.00,9, -999.00,  -999.0,9, -999.00,9,     -999.0,9,  -999.0,9, 20170908,      541, -32.5001,-119.7259,        0.0,1,      0.060,1,      4.693,1,      0.130,1,     -999.0,9,     -999.0,9,     -999.0,9,     -999.0,9,     -999.0,9,     -999.0,9,     -999.0,9,     -999.0,9,     -999.0,9,     -999.0,9,     -999.0,9,     5.6728,2,     -999.0,     -999.0,9,     -999.0
320620170820,        P06,     179,          1,         21,         21,2,20170908,       0436,   -32.5003,  -119.7258,       3476,   670.0,   6.1636,  34.3069,2,  34.3058,2, 241.3909,2, 241.7376,2,     9.5,2,   24.17,2,    0.00,2,    1.62,2,   3.231,2,   1.585,2,   0.7750,2,  2149.9,2,  2277.6,2,   7.6976,2,    25.00, -999.00,9, -999.00,9, -999.00,  -999.0,9, -999.00,9,     -999.0,9,  -999.0,9, 20170908,      543, -32.5001,-119.7259,        0.0,1,      0.060,1,      4.692,1,      0.129,1,     -999.0,9,     -999.0,9,     -999.0,9,     -999.0,9,     -999.0,9,     -999.0,9,     -999.0,9,     -999.0,9,     -999.0,9,     -999.0,9,     -999.0,9,     6.1435,2,     -999.0,     -999.0,9,     -999.0
320620170820,        P06,     179,          1,         22,         22,2,20170908,       0436,   -32.5003,  -119.7258,       3476,   569.3,   6.6103,  34.3323,2,  34.3305,2, 246.2229,2, 246.1377,2,     7.3,2,   22.60,2,    0.00,2,    1.51,2,   3.537,2,   1.782,2,   1.1590,2,  -999.0,9,  -999.0,9,-999.0000,9,  -999.00, -999.00,9, -999.00,9, -999.00,  -999.0,9, -999.00,9,     -999.0,9,  -999.0,9, 20170908,      546, -32.5001,-119.7259,        0.0,1,      0.059,1,      4.691,1,      0.136,1,     -999.0,9,     -999.0,9,     -999.0,9,     -999.0,9,     -999.0,9,     -999.0,9,     -999.0,9,     -999.0,9,     -999.0,9,     -999.0,9,     -999.0,9,     6.6035,2,     -999.0,     -999.0,9,     -999.0
320620170820,        P06,     179,          1,         23,         23,2,20170908,       0436,   -32.5003,  -119.7258,       3476,   489.7,   7.0190,  34.3535,2,  34.3513,2, 248.1984,2, 247.0345,2,     6.1,2,   21.40,2,    0.00,2,    1.44,2,   3.628,2,   1.866,2,   1.2710,2,  2141.5,2,  2277.0,2,   7.7146,2,    25.00, -999.00,9, -999.00,9, -999.00,  -999.0,9, -999.00,9,     -999.0,9,  -999.0,9, 20170908,      548, -32.5001,-119.7259,        0.0,1,      0.059,1,      4.691,1,      0.132,1,     -999.0,9,     -999.0,9,     -999.0,9,     -999.0,9,     -999.0,9,     -999.0,9,     -999.0,9,     -999.0,9,     -999.0,9,     -999.0,9,     -999.0,9,     7.0223,2,     -999.0,     -999.0,9,     -999.0
320620170820,        P06,     179,          1,         24,         24,2,20170908,       0436,   -32.5003,  -119.7258,       3476,   440.8,   7.3298,  34.3647,2,  34.3637,2, 246.1578,2, 245.1053,2,     5.2,2,   20.49,2,    0.00,2,    1.37,2,   3.609,2,   1.874,2,   1.2820,2,  -999.0,9,  -999.0,9,-999.0000,9,  -999.00, -999.00,9, -999.00,9, -999.00,  -999.0,9, -999.00,9,     -999.0,9,  -999.0,9, 20170908,      550, -32.5000,-119.7260,        0.0,1,      0.057,1,      4.690,1,      0.133,1,     -999.0,9,     -999.0,9,     -999.0,9,     -999.0,9,     -999.0,9,     -999.0,9,     -999.0,9,     -999.0,9,     -999.0,9,     -999.0,9,     -999.0,9,     7.3787,2,     -999.0,     -999.0,9,     -999.0
320620170820,        P06,     179,          1,         25,         25,2,20170908,       0436,   -32.5003,  -119.7258,       3476,   388.1,   7.9821,  34.3837,2,  34.3810,2, 240.4783,2,  238.929,2,     4.2,2,   19.26,2,    0.00,2,    1.31,2,   3.599,2,   1.857,2,   1.4640,2,  2137.0,2,  2276.9,6,   7.7243,2,    25.00, -999.00,9, -999.00,9, -999.00,  -999.0,9, -999.00,9,     -999.0,9,  -999.0,9, 20170908,      552, -32.5000,-119.7260,        0.0,1,      0.059,1,      4.689,1,      0.132,1,     -999.0,9,     -999.0,9,     -999.0,9,     -999.0,9,     -999.0,9,     -999.0,9,     -999.0,9,     -999.0,9,     -999.0,9,     -999.0,9,     -999.0,9,     7.9897,2,     -999.0,     -999.0,9,     -999.0
320620170820,        P06,     179,          1,         26,         26,2,20170908,       0436,   -32.5003,  -119.7258,       3476,   337.9,   9.0046,  34.4220,2,  34.4155,3, 230.4118,2, 229.9874,2,     3.1,2,   17.18,2,    0.00,2,    1.19,2,   3.423,2,   1.772,2,   1.3700,2,  2131.3,2,  2275.5,2,   7.7414,2,    25.00, -999.00,9, -999.00,9, -999.00,  -999.0,9, -999.00,9,     -999.0,9,  -999.0,9, 20170908,      554, -32.5001,-119.7260,        0.0,1,      0.059,1,      4.688,1,      0.132,1,     -999.0,9,     -999.0,9,     -999.0,9,     -999.0,9,     -999.0,9,     -999.0,9,     -999.0,9,     -999.0,9,     -999.0,9,     -999.0,9,     -999.0,9,     9.0530,2,     -999.0,     -999.0,9,     -999.0