BOTTLE,20240211CCHSIOCBG
EXPOCODE,SECT_ID,STNNBR,CASTNO,SAMPNO,BTLNBR,BTLNBR_FLAG_W,DATE,TIME,LATITUDE,LONGITUDE,DEPTH,CTDPRS,CTDTMP,CTDSAL,CTDSAL_FLAG_W,SALNTY,SALNTY_FLAG_W,CTDOXY,CTDOXY_FLAG_W,OXYGEN,OXYGEN_FLAG_W,SILCAT,SILCAT_FLAG_W,NITRAT,NITRAT_FLAG_W,NITRIT,NITRIT_FLAG_W,PHSPHT,PHSPHT_FLAG_W,CFC-11,CFC-11_FLAG_W,CFC-12,CFC-12_FLAG_W,SF6,SF6_FLAG_W,TCARBN,TCARBN_FLAG_W,ALKALI,ALKALI_FLAG_W,PH_TOT,PH_TOT_FLAG_W,PH_TMP,DELC13,DELC13_FLAG_W,DELC14,DELC14_FLAG_W,C14ERR,DOC,DOC_FLAG_W,TDN,TDN_FLAG_W,TON,TON_FLAG_W,D15N_NO3,D15N_NO3_FLAG_W,BTL_DATE,BTL_TIME,BTL_LAT,BTL_LON,CTDRINKO,CTDRINKO_FLAG_W,CTDFLUOR,CTDFLUOR_FLAG_W,CTDXMISS,CTDXMISS_FLAG_W,CTDBACKSCATTER,CTDBACKSCATTER_FLAG_W,D18O_NO3,D18O_NO3_FLAG_W,DOP,DOP_FLAG_W,CELLCOUNT,CELLCOUNT_FLAG_W,TDP,TDP_FLAG_W,POP,POP_FLAG_W,DATP,DATP_FLAG_W,PATP,PATP_FLAG_W,HPLC,HPLC_FLAG_W,POC,POC_FLAG_W,BEAMAP,BEAMAP_FLAG_W,DOC_NASA,DOC_NASA_FLAG_W,REFTMP,REFTMP_FLAG_W,DOC_NASA_ERROR,TDN_NASA,TDN_NASA_FLAG_W,TDN_NASA_ERROR
,,,,,,,,,,,METERS,DBAR,ITS-90,PSS-78,,PSS-78,,UMOL/KG,,UMOL/KG,,UMOL/KG,,UMOL/KG,,UMOL/KG,,UMOL/KG,,PMOL/KG,,PMOL/KG,,FMOL/KG,,UMOL/KG,,UMOL/KG,,,,DEG C,/MILLE,,/MILLE,,/MILLE,UMOL/KG,,UMOL/KG,,UMOL/KG,,/MILLE,,,,,,VOLTS,,VOLTS,,VOLTS,,VOLTS,,/MILLE,,UMOL/KG,,/LITER,,UMOL/KG,,UMOL/L,,PMOL/L,,PMOL/L,,,,UG/L,,/METER,,UMOL/L,,ITS-90,,UMOL/L,UMOL/L,,UMOL/L
320620170820,        P06,     180,          1,          1,          1,2,20170908,       1206,   -32.5001,  -118.8953,       3492,  3536.1,   1.7155,  34.6776,2,  34.6769,2, 166.5311,2, 166.8856,2,   122.5,2,   34.73,2,    0.00,2,    2.38,2,   0.039,2,   0.019,2,   0.0000,2,  2300.7,6,  2393.0,2,   7.5905,2,    25.00, -999.00,9, -999.00,9, -999.00,    37.1,2, -999.00,9,     -999.0,1,  -999.0,9, 20170908,     1206, -32.5001,-118.8955,        0.0,1,      0.061,1,      4.691,1,      0.127,1,     -999.0,9,     -999.0,9,     -999.0,9,     -999.0,9,     -999.0,9,     -999.0,9,     -999.0,9,     -999.0,9,     -999.0,9,     -999.0,9,     -999.0,9,     1.7157,2,     -999.0,     -999.0,9,     -999.0
320620170820,        P06,     180,          1,          2,          2,2,20170908,       1206,   -32.5001,  -118.8953,       3492,  3349.9,   1.6990,  34.6776,2,  34.6763,2, 166.5311,2, 166.9115,2,   122.2,2,   34.54,2,    0.00,2,    2.38,2,   0.037,2,   0.024,2,   0.0000,2,  2299.9,2,  2393.4,2,   7.5901,2,    25.00, -999.00,9, -999.00,9, -999.00,  -999.0,9, -999.00,9,     -999.0,9,  -999.0,9, 20170908,     1210, -32.5001,-118.8955,        0.0,1,      0.061,1,      4.691,1,      0.126,1,     -999.0,9,     -999.0,9,     -999.0,9,     -999.0,9,     -999.0,9,     -999.0,9,     -999.0,9,     -999.0,9,     -999.0,9,     -999.0,9,     -999.0,9,     1.7001,2,     -999.0,     -999.0,9,     -999.0
320620170820,        P06,     180,          1,          3,          3,2,20170908,       1206,   -32.5001,  -118.8953,       3492,  3247.6,   1.6911,  34.6774,2,  34.6769,2, 166.5311,2, 166.7084,2,   122.4,2,   34.57,2,    0.00,2,    2.39,2,   0.036,2,   0.021,2,   0.0000,2,  2300.4,2,  2395.5,2,   7.5907,2,    25.00, -999.00,9, -999.00,9, -999.00,    36.4,2, -999.00,9,     -999.0,1,  -999.0,9, 20170908,     1213, -32.5001,-118.8956,        0.0,1,      0.061,1,      4.691,1,      0.125,1,     -999.0,9,     -999.0,9,     -999.0,9,     -999.0,9,     -999.0,9,     -999.0,9,     -999.0,9,     -999.0,9,     -999.0,9,     -999.0,9,     -999.0,9,     1.6914,2,     -999.0,     -999.0,9,     -999.0
320620170820,        P06,     180,          1,          4,          4,2,20170908,       1206,   -32.5001,  -118.8953,       3492,  3045.2,   1.6877,  34.6760,2,  34.6755,2, 166.2141,2, 165.7925,2,   122.5,2,   34.61,2,    0.00,2,    2.38,2,   0.044,2,   0.031,2,   0.0000,2,  2299.5,2,  2393.8,2,   7.5884,2,    25.00, -999.00,9, -999.00,9, -999.00,  -999.0,9, -999.00,9,     -999.0,9,  -999.0,9, 20170908,     1218, -32.5001,-118.8957,        0.0,1,      0.061,1,      4.692,1,      0.127,1,     -999.0,9,     -999.0,9,     -999.0,9,     -999.0,9,     -999.0,9,     -999.0,9,     -999.0,9,     -999.0,9,     -999.0,9,     -999.0,9,     -999.0,9,     1.6879,2,     -999.0,     -999.0,9,     -999.0
320620170820,        P06,     180,          1,          5,          5,2,20170908,       1206,   -32.5001,  -118.8953,       3492,  2837.8,   1.7077,  34.6726,2,  34.6720,2, 165.0421,2, 164.5615,2,   122.9,2,   34.69,2,    0.00,2,    2.38,2,   0.036,2,   0.023,2,   0.0000,2,  2299.3,2,  2393.9,2,   7.5884,2,    25.00, -999.00,9, -999.00,9, -999.00,    37.5,2, -999.00,9,     -999.0,1,  -999.0,9, 20170908,     1222, -32.5001,-118.8957,        0.0,1,      0.061,1,      4.693,1,      0.125,1,     -999.0,9,     -999.0,9,     -999.0,9,     -999.0,9,     -999.0,9,     -999.0,9,     -999.0,9,     -999.0,9,     -999.0,9,     -999.0,9,     -999.0,9,     1.7072,2,     -999.0,     -999.0,9,     -999.0
320620170820,        P06,     180,          1,          6,          6,2,20170908,       1206,   -32.5001,  -118.8953,       3492,  2635.1,   1.7534,  34.6677,2,  34.6673,2, 162.6837,2, 162.2103,2,   121.9,2,   34.85,2,    0.00,2,    2.39,2,   0.038,2,   0.027,2,   0.0000,2,  2299.0,2,  2393.9,2,   7.5839,2,    25.00, -999.00,9, -999.00,9, -999.00,    40.3,2, -999.00,9,     -999.0,1,  -999.0,9, 20170908,     1227, -32.5000,-118.8958,        0.0,1,      0.061,1,      4.694,1,      0.125,1,     -999.0,9,     -999.0,9,     -999.0,9,     -999.0,9,     -999.0,9,     -999.0,9,     -999.0,9,     -999.0,9,     -999.0,9,     -999.0,9,     -999.0,9,     1.7508,2,     -999.0,     -999.0,9,     -999.0
320620170820,        P06,     180,          1,          7,          7,2,20170908,       1206,   -32.5001,  -118.8953,       3492,  2431.9,   1.8282,  34.6606,2,  34.6602,2, 159.8598,2, 159.7856,2,   120.6,2,   35.00,2,    0.00,2,    2.43,2,   0.036,2,   0.022,2,   0.0000,2,  2301.1,2,  2392.5,2,   7.5804,2,    25.00, -999.00,9, -999.00,9, -999.00,    38.2,2, -999.00,9,     -999.0,1,  -999.0,9, 20170908,     1231, -32.5000,-118.8959,        0.0,1,      0.061,1,      4.694,1,      0.126,1,     -999.0,9,     -999.0,9,     -999.0,9,     -999.0,9,     -999.0,9,     -999.0,9,     -999.0,9,     -999.0,9,     -999.0,9,     -999.0,9,     -999.0,9,     1.8226,2,     -999.0,     -999.0,9,     -999.0
320620170820,        P06,     180,          1,          8,          8,2,20170908,       1206,   -32.5001,  -118.8953,       3492,  2229.8,   1.9329,  34.6507,2,  34.6494,2, 157.1444,2, 156.7285,2,   117.9,2,   35.17,2,    0.00,2,    2.43,2,   0.043,2,   0.027,2,   0.0000,2,  2301.2,2,  2389.6,2,   7.5775,2,    25.00, -999.00,9, -999.00,9, -999.00,  -999.0,9, -999.00,9,     -999.0,9,  -999.0,9, 20170908,     1235, -32.5000,-118.8959,        0.0,1,      0.061,1,      4.694,1,      0.126,1,     -999.0,9,     -999.0,9,     -999.0,9,     -999.0,9,     -999.0,9,     -999.0,9,     -999.0,9,     -999.0,9,     -999.0,9,     -999.0,9,     -999.0,9,     1.9305,2,     -999.0,     -999.0,9,     -999.0
320620170820,        P06,     180,          1,          9,          9,2,20170908,       1206,   -32.5001,  -118.8953,       3492,  2026.2,   2.0806,  34.6365,2,  34.6350,2, 155.9816,2, 156.8117,2,   111.7,2,   35.23,2,    0.00,2,    2.42,2,   0.040,2,   0.025,2,   0.0000,2,  2292.8,6,  2383.3,2,   7.5741,2,    25.00, -999.00,9, -999.00,9, -999.00,    37.1,2, -999.00,9,     -999.0,1,  -999.0,9, 20170908,     1240, -32.5000,-118.8958,        0.0,1,      0.061,1,      4.694,1,      0.125,1,     -999.0,9,     -999.0,9,     -999.0,9,     -999.0,9,     -999.0,9,     -999.0,9,     -999.0,9,     -999.0,9,     -999.0,9,     -999.0,9,     -999.0,9,     2.0782,2,     -999.0,     -999.0,9,     -999.0
320620170820,        P06,     180,          1,         10,         10,2,20170908,       1206,   -32.5001,  -118.8953,       3492,  1821.5,   2.2529,  34.6152,2,  34.6140,2, 157.1902,2, 157.3465,2,   102.3,2,   35.02,2,    0.00,2,    2.40,2,   0.054,2,   0.034,2,   0.0000,2,  2288.1,2,  2373.3,2,   7.5704,2,    25.00, -999.00,9, -999.00,9, -999.00,  -999.0,9, -999.00,9,     -999.0,9,  -999.0,9, 20170908,     1244, -32.5000,-118.8955,        0.0,1,      0.061,1,      4.693,1,      0.127,1,     -999.0,9,     -999.0,9,     -999.0,9,     -999.0,9,     -999.0,9,     -999.0,9,     -999.0,9,     -999.0,9,     -999.0,9,     -999.0,9,     -999.0,9,     2.2508,2,     -999.0,     -999.0,9,     -999.0
320620170820,        P06,     180,          1,         11,         11,2,20170908,       1206,   -32.5001,  -118.8953,       3492,  1717.5,   2.3592,  34.5989,2,  34.5963,2, 158.6566,2, 158.9572,2,    95.6,2,   34.91,2,    0.00,2,    2.40,2,   0.065,2,   0.041,2,   0.0000,2,  2279.7,2,  2366.1,2,   7.5693,2,    25.00, -999.00,9, -999.00,9, -999.00,    37.0,2, -999.00,9,     -999.0,1,  -999.0,9, 20170908,     1247, -32.5000,-118.8956,        0.0,1,      0.062,1,      4.694,1,      0.128,1,     -999.0,9,     -999.0,9,     -999.0,9,     -999.0,9,     -999.0,9,     -999.0,9,     -999.0,9,     -999.0,9,     -999.0,9,     -999.0,9,     -999.0,9,     2.3638,2,     -999.0,     -999.0,9,     -999.0
320620170820,        P06,     180,          1,         12,         12,2,20170908,       1206,   -32.5001,  -118.8953,       3492,  1618.3,   2.4982,  34.5735,2,  34.5724,2, 160.9041,2, 161.4216,2,    88.6,2,   34.85,2,    0.00,2,    2.40,2,   0.082,2,   0.047,2,   0.0000,2,  2270.6,2,  2357.4,2,   7.5672,2,    25.00, -999.00,9, -999.00,9, -999.00,  -999.0,9, -999.00,9,     -999.0,9,  -999.0,9, 20170908,     1250, -32.5000,-118.8955,        0.0,1,      0.062,1,      4.694,1,      0.129,1,     -999.0,9,     -999.0,9,     -999.0,9,     -999.0,9,     -999.0,9,     -999.0,9,     -999.0,9,     -999.0,9,     -999.0,9,     -999.0,9,     -999.0,9,     2.5030,2,     -999.0,     -999.0,9,     -999.0
320620170820,        P06,     180,          1,         13,         13,2,20170908,       1206,   -32.5001,  -118.8953,       3492,  1516.3,   2.6469,  34.5442,2,  34.5386,2, 163.5356,2,  163.544,2,    79.6,2,   34.83,2,    0.00,2,    2.38,2,   0.117,2,   0.072,2,   0.0000,2,  2262.4,2,  2345.7,6,   7.5645,2,    25.00, -999.00,9, -999.00,9, -999.00,    36.9,2, -999.00,9,     -999.0,1,  -999.0,9, 20170908,     1252, -32.5000,-118.8955,        0.0,1,      0.061,1,      4.694,1,      0.129,1,     -999.0,9,     -999.0,9,     -999.0,9,     -999.0,9,     -999.0,9,     -999.0,9,     -999.0,9,     -999.0,9,     -999.0,9,     -999.0,9,     -999.0,9,     2.6695,2,     -999.0,     -999.0,9,     -999.0
320620170820,        P06,     180,          1,         14,         14,2,20170908,       1206,   -32.5001,  -118.8953,       3492,  1413.0,   2.8979,  34.4963,2,  34.4946,2, 165.8651,2, 165.5745,2,    70.3,2,   34.82,2,    0.00,2,    2.37,2,   0.181,2,   0.107,2,   0.0000,2,  2254.8,2,  2336.0,2,   7.5620,6,    25.00, -999.00,9, -999.00,9, -999.00,  -999.0,9, -999.00,9,     -999.0,9,  -999.0,9, 20170908,     1255, -32.5000,-118.8955,        0.0,1,      0.060,1,      4.694,1,      0.128,1,     -999.0,9,     -999.0,9,     -999.0,9,     -999.0,9,     -999.0,9,     -999.0,9,     -999.0,9,     -999.0,9,     -999.0,9,     -999.0,9,     -999.0,9,     2.8913,2,     -999.0,     -999.0,9,     -999.0
320620170820,        P06,     180,          1,         15,         15,2,20170908,       1206,   -32.5001,  -118.8953,       3492,  1315.1,   3.1888,  34.4468,2,  34.4532,2, 167.5978,2, 167.5761,2,    61.5,2,   34.84,2,    0.00,2,    2.38,2,   0.257,2,   0.139,2,   0.0000,2,  2245.7,2,  2325.8,2,   7.5625,2,    25.00, -999.00,9, -999.00,9, -999.00,    39.1,2, -999.00,9,     -999.0,1,  -999.0,9, 20170908,     1258, -32.5000,-118.8956,        0.0,1,      0.061,1,      4.694,1,      0.128,1,     -999.0,9,     -999.0,9,     -999.0,9,     -999.0,9,     -999.0,9,     -999.0,9,     -999.0,9,     -999.0,9,     -999.0,9,     -999.0,9,     -999.0,9,     3.1742,2,     -999.0,     -999.0,9,     -999.0
320620170820,        P06,     180,          1,         16,         16,2,20170908,       1206,   -32.5001,  -118.8953,       3492,  1213.5,   3.5552,  34.3963,2,  34.4029,2, 172.7897,2, 172.0809,2,    52.8,2,   34.42,2,    0.00,2,    2.34,2,   0.365,2,   0.205,2,   0.0000,2,  2232.9,2,  2317.0,2,   7.5703,2,    25.00, -999.00,9, -999.00,9, -999.00,  -999.0,9, -999.00,9,     -999.0,9,  -999.0,9, 20170908,     1301, -32.5000,-118.8956,        0.0,1,      0.061,1,      4.694,1,      0.128,1,     -999.0,9,     -999.0,9,     -999.0,9,     -999.0,9,     -999.0,9,     -999.0,9,     -999.0,9,     -999.0,9,     -999.0,9,     -999.0,9,     -999.0,9,     3.4857,2,     -999.0,     -999.0,9,     -999.0
320620170820,        P06,     180,          1,         17,         17,2,20170908,       1206,   -32.5001,  -118.8953,       3492,  1109.9,   3.9386,  34.3497,2,  34.3535,2, 183.3632,2,  183.178,2,    41.4,2,   33.25,2,    0.00,2,    2.26,2,   0.596,2,   0.316,2,   0.0880,2,  2215.4,2,  2305.3,2,   7.5867,2,    25.00, -999.00,9, -999.00,9, -999.00,    39.7,2, -999.00,9,     -999.0,1,  -999.0,9, 20170908,     1303, -32.5000,-118.8956,        0.0,1,      0.060,1,      4.694,1,      0.129,1,     -999.0,9,     -999.0,9,     -999.0,9,     -999.0,9,     -999.0,9,     -999.0,9,     -999.0,9,     -999.0,9,     -999.0,9,     -999.0,9,     -999.0,9,     3.9035,2,     -999.0,     -999.0,9,     -999.0
320620170820,        P06,     180,          1,         18,         18,2,20170908,       1206,   -32.5001,  -118.8953,       3492,  1011.0,   4.3883,  34.3145,2,  34.3105,2, 200.5192,2, 200.0633,2,    29.9,2,   31.17,2,    0.00,2,    2.10,2,   1.150,2,   0.580,2,   0.2360,2,  2195.5,2,  2294.0,2,   7.6173,2,    25.00, -999.00,9, -999.00,9, -999.00,  -999.0,9, -999.00,9,     -999.0,9,  -999.0,9, 20170908,     1306, -32.5000,-118.8956,        0.0,1,      0.060,1,      4.694,1,      0.129,1,     -999.0,9,     -999.0,9,     -999.0,9,     -999.0,9,     -999.0,9,     -999.0,9,     -999.0,9,     -999.0,9,     -999.0,9,     -999.0,9,     -999.0,9,     4.4223,2,     -999.0,     -999.0,9,     -999.0
320620170820,        P06,     180,          1,         19,         19,2,20170908,       1206,   -32.5001,  -118.8953,       3492,   909.8,   4.9526,  34.2909,2,  34.2883,2, 214.6279,2, 215.6545,2,    20.9,2,   29.03,2,    0.00,2,    1.95,2,   1.784,2,   0.880,2,   0.2260,2,  2177.5,2,  2286.1,2,   7.6461,2,    25.00, -999.00,9, -999.00,9, -999.00,    42.8,2, -999.00,9,     -999.0,1,  -999.0,9, 20170908,     1309, -32.4999,-118.8957,        0.0,1,      0.060,1,      4.693,1,      0.129,1,     -999.0,9,     -999.0,9,     -999.0,9,     -999.0,9,     -999.0,9,     -999.0,9,     -999.0,9,     -999.0,9,     -999.0,9,     -999.0,9,     -999.0,9,     4.9502,2,     -999.0,     -999.0,9,     -999.0
320620170820,        P06,     180,          1,         20,         20,2,20170908,       1206,   -32.5001,  -118.8953,       3492,   807.6,   5.5701,  34.2879,2,  34.2856,2,  229.874,2, 230.1546,2,    14.2,2,   26.62,2,    0.00,2,    1.78,2,   2.546,2,   1.311,2,   0.6060,2,  2161.5,2,  2280.8,2,   7.6746,2,    25.00, -999.00,9, -999.00,9, -999.00,  -999.0,9, -999.00,9,     -999.0,9,  -999.0,9, 20170908,     1312, -32.4999,-118.8957,        0.0,1,      0.059,1,      4.692,1,      0.130,1,     -999.0,9,     -999.0,9,     -999.0,9,     -999.0,9,     -999.0,9,     -999.0,9,     -999.0,9,     -999.0,9,     -999.0,9,     -999.0,9,     -999.0,9,     5.5266,2,     -999.0,     -999.0,9,     -999.0
320620170820,        P06,     180,          1,         21,         21,2,20170908,       1206,   -32.5001,  -118.8953,       3492,   707.5,   6.1174,  34.3025,2,  34.2980,2, 241.9037,2, 242.2064,2,     9.4,2,   24.35,2,    0.00,2,    1.62,2,   3.316,2,   1.705,2,   0.7440,2,  2152.9,2,  2279.7,2,   7.6969,2,    25.00, -999.00,9, -999.00,9, -999.00,    43.4,2, -999.00,9,     -999.0,1,  -999.0,9, 20170908,     1315, -32.5000,-118.8956,        0.0,1,      0.060,1,      4.692,1,      0.132,1,     -999.0,9,     -999.0,9,     -999.0,9,     -999.0,9,     -999.0,9,     -999.0,9,     -999.0,9,     -999.0,9,     -999.0,9,     -999.0,9,     -999.0,9,     6.0801,2,     -999.0,     -999.0,9,     -999.0
320620170820,        P06,     180,          1,         22,         22,2,20170908,       1206,   -32.5001,  -118.8953,       3492,   603.3,   6.5784,  34.3275,2,  34.3244,2, 246.7469,2, 246.9115,2,     7.3,2,   22.67,2,    0.00,2,    1.51,2,   3.655,2,   1.926,2,   1.1030,2,  2147.5,2,  2278.6,2,   7.7083,2,    25.00, -999.00,9, -999.00,9, -999.00,    43.0,2, -999.00,9,     -999.0,1,  -999.0,9, 20170908,     1318, -32.5000,-118.8954,        0.0,1,      0.059,1,      4.691,1,      0.132,1,     -999.0,9,     -999.0,9,     -999.0,9,     -999.0,9,     -999.0,9,     -999.0,9,     -999.0,9,     -999.0,9,     -999.0,9,     -999.0,9,     -999.0,9,     6.5761,2,     -999.0,     -999.0,9,     -999.0
320620170820,        P06,     180,          1,         23,         23,2,20170908,       1206,   -32.5001,  -118.8953,       3492,   502.8,   7.0044,  34.3511,2,  34.3472,2, 249.0076,2, 248.5654,2,     6.0,2,   21.40,2,    0.00,2,    1.45,2,   3.763,2,   2.016,2,   1.4090,2,  2143.5,6,  2278.8,2,   7.7136,2,    25.00, -999.00,9, -999.00,9, -999.00,    47.9,3, -999.00,9,     -999.0,1,  -999.0,9, 20170908,     1320, -32.5000,-118.8954,        0.0,1,      0.059,1,      4.690,1,      0.132,1,     -999.0,9,     -999.0,9,     -999.0,9,     -999.0,9,     -999.0,9,     -999.0,9,     -999.0,9,     -999.0,9,     -999.0,9,     -999.0,9,     -999.0,9,     6.9764,2,     -999.0,     -999.0,9,     -999.0
320620170820,        P06,     180,          1,         24,         24,2,20170908,       1206,   -32.5001,  -118.8953,       3492,   454.6,   7.2641,  34.3601,2,  34.3572,2, 247.8094,2, 247.2117,2,     5.2,2,   20.83,2,    0.00,2,    1.40,2,   3.727,2,   2.029,2,   1.4610,2,  2142.6,2,  2277.8,2,   7.7160,2,    25.00, -999.00,9, -999.00,9, -999.00,    44.7,2, -999.00,9,     -999.0,1,  -999.0,9, 20170908,     1322, -32.5000,-118.8955,        0.0,1,      0.060,1,      4.689,1,      0.130,1,     -999.0,9,     -999.0,9,     -999.0,9,     -999.0,9,     -999.0,9,     -999.0,9,     -999.0,9,     -999.0,9,     -999.0,9,     -999.0,9,     -999.0,9,     7.2381,2,     -999.0,     -999.0,9,     -999.0
320620170820,        P06,     180,          1,         25,         25,2,20170908,       1206,   -32.5001,  -118.8953,       3492,   403.8,   7.6461,  34.3642,2,  34.3613,2, 242.6033,2, 242.4851,2,     4.5,2,   19.99,2,    0.00,2,    1.34,2,   3.674,2,   2.000,2,   1.3880,2,  2138.4,2,  2276.3,2,   7.7192,2,    25.00, -999.00,9, -999.00,9, -999.00,    45.0,2, -999.00,9,     -999.0,1,  -999.0,9, 20170908,     1324, -32.4999,-118.8956,        0.0,1,      0.058,1,      4.689,1,      0.136,1,     -999.0,9,     -999.0,9,     -999.0,9,     -999.0,9,     -999.0,9,     -999.0,9,     -999.0,9,     -999.0,9,     -999.0,9,     -999.0,9,     -999.0,9,     7.6735,2,     -999.0,     -999.0,9,     -999.0
320620170820,        P06,     180,          1,         26,         26,2,20170908,       1206,   -32.5001,  -118.8953,       3492,   353.1,   8.3926,  34.3790,2,  34.3731,2, 235.6759,2, 235.2602,2,     3.7,2,   18.84,2,    0.00,2,    1.28,2,   3.547,2,   1.939,2,   1.4600,2,  2133.9,2,  2275.9,2,   7.7250,2,    25.00, -999.00,9, -999.00,9, -999.00,  -999.0,9, -999.00,9,     -999.0,9,  -999.0,9, 20170908,     1326, -32.4999,-118.8956,        0.0,1,      0.060,1,      4.688,1,      0.133,1,     -999.0,9,     -999.0,9,     -999.0,9,     -999.0,9,     -999.0,9,     -999.0,9,     -999.0,9,     -999.0,9,     -999.0,9,     -999.0,9,     -999.0,9,     8.2777,2,     -999.0,     -999.0,9,     -999.0