BOTTLE,20240211CCHSIOCBG
EXPOCODE,SECT_ID,STNNBR,CASTNO,SAMPNO,BTLNBR,BTLNBR_FLAG_W,DATE,TIME,LATITUDE,LONGITUDE,DEPTH,CTDPRS,CTDTMP,CTDSAL,CTDSAL_FLAG_W,SALNTY,SALNTY_FLAG_W,CTDOXY,CTDOXY_FLAG_W,OXYGEN,OXYGEN_FLAG_W,SILCAT,SILCAT_FLAG_W,NITRAT,NITRAT_FLAG_W,NITRIT,NITRIT_FLAG_W,PHSPHT,PHSPHT_FLAG_W,CFC-11,CFC-11_FLAG_W,CFC-12,CFC-12_FLAG_W,SF6,SF6_FLAG_W,TCARBN,TCARBN_FLAG_W,ALKALI,ALKALI_FLAG_W,PH_TOT,PH_TOT_FLAG_W,PH_TMP,DELC13,DELC13_FLAG_W,DELC14,DELC14_FLAG_W,C14ERR,DOC,DOC_FLAG_W,TDN,TDN_FLAG_W,TON,TON_FLAG_W,D15N_NO3,D15N_NO3_FLAG_W,BTL_DATE,BTL_TIME,BTL_LAT,BTL_LON,CTDRINKO,CTDRINKO_FLAG_W,CTDFLUOR,CTDFLUOR_FLAG_W,CTDXMISS,CTDXMISS_FLAG_W,CTDBACKSCATTER,CTDBACKSCATTER_FLAG_W,D18O_NO3,D18O_NO3_FLAG_W,DOP,DOP_FLAG_W,CELLCOUNT,CELLCOUNT_FLAG_W,TDP,TDP_FLAG_W,POP,POP_FLAG_W,DATP,DATP_FLAG_W,PATP,PATP_FLAG_W,HPLC,HPLC_FLAG_W,POC,POC_FLAG_W,BEAMAP,BEAMAP_FLAG_W,DOC_NASA,DOC_NASA_FLAG_W,REFTMP,REFTMP_FLAG_W,DOC_NASA_ERROR,TDN_NASA,TDN_NASA_FLAG_W,TDN_NASA_ERROR
,,,,,,,,,,,METERS,DBAR,ITS-90,PSS-78,,PSS-78,,UMOL/KG,,UMOL/KG,,UMOL/KG,,UMOL/KG,,UMOL/KG,,UMOL/KG,,PMOL/KG,,PMOL/KG,,FMOL/KG,,UMOL/KG,,UMOL/KG,,,,DEG C,/MILLE,,/MILLE,,/MILLE,UMOL/KG,,UMOL/KG,,UMOL/KG,,/MILLE,,,,,,VOLTS,,VOLTS,,VOLTS,,VOLTS,,/MILLE,,UMOL/KG,,/LITER,,UMOL/KG,,UMOL/L,,PMOL/L,,PMOL/L,,,,UG/L,,/METER,,UMOL/L,,ITS-90,,UMOL/L,UMOL/L,,UMOL/L
320620170820,        P06,     187,          1,         25,         25,2,20170910,       1730,   -32.5001,  -113.0855,       2485,   125.0,  15.9558,  34.8364,2,  34.7117,2, 244.2581,2, 243.7486,2,     0.0,2,    0.28,2,    0.05,2,    0.14,2,   2.365,2,   1.416,2,   1.6010,2,  2049.1,2,  2285.5,3,   7.9333,2,    25.00, -999.00,9, -999.00,9, -999.00,  -999.0,9, -999.00,9,     -999.0,9,  -999.0,9, 20170910,     1835, -32.5001,-113.0855,        0.0,1,      0.203,1,      4.636,1,      0.175,1,     -999.0,9,     -999.0,9,     -999.0,1,     -999.0,1,     -999.0,1,     -999.0,1,     -999.0,1,     -999.0,9,     -999.0,9,     -999.0,9,     -999.0,9,    15.6390,2,     -999.0,     -999.0,9,     -999.0
320620170820,        P06,     187,          1,         28,         28,2,20170910,       1730,   -32.5001,  -113.0855,       2485,   107.8,  16.6098,  34.8042,2,  34.5798,2, 243.1993,2, 248.3558,2,     0.0,2,    0.25,2,    0.02,2,    0.14,2,   2.320,2,   1.410,2,   1.6470,2,  2042.1,2,  2278.4,4,   7.9382,2,    25.00, -999.00,9, -999.00,9, -999.00,  -999.0,9, -999.00,9,     -999.0,9,  -999.0,9, 20170910,     1837, -32.5001,-113.0855,        0.0,1,      0.179,1,      4.628,1,      0.186,1,     -999.0,9,     -999.0,9,     -999.0,1,     -999.0,1,     -999.0,1,     -999.0,1,     -999.0,1,     -999.0,9,     -999.0,9,     -999.0,9,     -999.0,9,    15.7649,2,     -999.0,     -999.0,9,     -999.0
320620170820,        P06,     187,          1,         29,         29,2,20170910,       1730,   -32.5001,  -113.0855,       2485,    84.6,  16.5560,  34.7793,2,  34.8794,2, 234.9677,2, 241.9227,2,     0.0,2,    0.00,2,    0.00,2,    0.08,2,   2.265,2,   1.351,2,   1.6380,2,  2045.6,2,  2293.2,2,   7.9566,2,    25.00, -999.00,9, -999.00,9, -999.00,  -999.0,9, -999.00,9,     -999.0,9,  -999.0,9, 20170910,     1838, -32.5001,-113.0855,        0.0,1,      0.169,1,      4.614,1,      0.198,1,     -999.0,9,     -999.0,9,     -999.0,1,     -999.0,1,     -999.0,1,     -999.0,1,     -999.0,1,     -999.0,9,     -999.0,9,     -999.0,9,     -999.0,9,    16.8629,2,     -999.0,     -999.0,9,     -999.0
320620170820,        P06,     187,          1,         31,         31,2,20170910,       1730,   -32.5001,  -113.0855,       2485,    49.3,  17.1318,  34.9065,2,-999.0000,9,  237.039,2,-999.0000,9,  -999.0,9, -999.00,9, -999.00,9, -999.00,9,-999.000,9,-999.000,9,-999.0000,9,  -999.0,9,  -999.0,9,-999.0000,9,  -999.00, -999.00,9, -999.00,9, -999.00,  -999.0,9, -999.00,9,     -999.0,9,  -999.0,9, 20170910,     1841, -32.5001,-113.0856,        0.0,1,      0.074,1,      4.640,1,      0.170,1,     -999.0,9,     -999.0,9,     -999.0,9,     -999.0,9,     -999.0,9,     -999.0,9,     -999.0,9,     -999.0,1,     -999.0,1,     -999.0,1,68.76457416,2,     -999.0,5,-83.18068276,55.94464602,2,     -999.0
320620170820,        P06,     187,          1,         30,         30,2,20170910,       1730,   -32.5001,  -113.0855,       2485,    48.9,  17.1318,  34.9065,2,  34.8314,2, 236.8486,2, 243.9957,2,     0.0,2,    0.00,2,    0.00,2,    0.09,2,   2.322,2,   1.354,2,   1.7280,2,  2046.0,2,  2290.1,2,   7.9537,2,    25.00, -999.00,9, -999.00,9, -999.00,  -999.0,9, -999.00,9,     -999.0,9,  -999.0,9, 20170910,     1840, -32.5001,-113.0856,        0.0,1,      0.074,1,      4.640,1,      0.170,1,     -999.0,9,     -999.0,9,     -999.0,9,     -999.0,9,     -999.0,9,     -999.0,9,     -999.0,9,     -999.0,9,     -999.0,9,     -999.0,9,     -999.0,9,    17.0247,2,     -999.0,     -999.0,9,     -999.0
320620170820,        P06,     187,          1,         32,         32,2,20170910,       1730,   -32.5001,  -113.0855,       2485,    33.2,  17.1856,  34.8369,2,  34.8220,2, 236.6345,2, 243.8898,2,     0.0,2,    0.00,2,    0.00,2,    0.09,2,   2.316,2,   1.361,2,   1.7310,2,  2045.1,2,  2289.8,2,   7.9512,2,    25.00, -999.00,9, -999.00,9, -999.00,  -999.0,9, -999.00,9,     -999.0,9,  -999.0,9, 20170910,     1842, -32.5001,-113.0855,        0.0,1,      0.068,1,      4.641,1,      0.166,1,     -999.0,9,     -999.0,9,     -999.0,1,     -999.0,1,     -999.0,1,     -999.0,1,     -999.0,1,     -999.0,9,     -999.0,9,     -999.0,9,     -999.0,9,    17.0940,2,     -999.0,     -999.0,9,     -999.0
320620170820,        P06,     187,          1,         33,         33,2,20170910,       1730,   -32.5001,  -113.0855,       2485,     4.2,  17.1990,  34.8371,2,  34.8271,2, 236.7803,2, 243.9493,2,     0.0,2,    0.00,2,    0.00,2,    0.10,2,   2.323,2,   1.359,2,   1.5720,2,  2045.2,6,  2290.3,2,   7.9506,2,    25.00, -999.00,9, -999.00,9, -999.00,  -999.0,9, -999.00,9,     -999.0,9,  -999.0,9, 20170910,     1844, -32.5001,-113.0855,        0.0,1,      0.062,1,      4.641,1,      0.164,1,     -999.0,9,     -999.0,9,     -999.0,9,     -999.0,9,     -999.0,9,     -999.0,9,     -999.0,9,     -999.0,9,     -999.0,9,     -999.0,9,     -999.0,9,    17.1956,2,     -999.0,     -999.0,9,     -999.0