BOTTLE,20240211CCHSIOCBG
EXPOCODE,SECT_ID,STNNBR,CASTNO,SAMPNO,BTLNBR,BTLNBR_FLAG_W,DATE,TIME,LATITUDE,LONGITUDE,DEPTH,CTDPRS,CTDTMP,CTDSAL,CTDSAL_FLAG_W,SALNTY,SALNTY_FLAG_W,CTDOXY,CTDOXY_FLAG_W,OXYGEN,OXYGEN_FLAG_W,SILCAT,SILCAT_FLAG_W,NITRAT,NITRAT_FLAG_W,NITRIT,NITRIT_FLAG_W,PHSPHT,PHSPHT_FLAG_W,CFC-11,CFC-11_FLAG_W,CFC-12,CFC-12_FLAG_W,SF6,SF6_FLAG_W,TCARBN,TCARBN_FLAG_W,ALKALI,ALKALI_FLAG_W,PH_TOT,PH_TOT_FLAG_W,PH_TMP,DELC13,DELC13_FLAG_W,DELC14,DELC14_FLAG_W,C14ERR,DOC,DOC_FLAG_W,TDN,TDN_FLAG_W,TON,TON_FLAG_W,D15N_NO3,D15N_NO3_FLAG_W,BTL_DATE,BTL_TIME,BTL_LAT,BTL_LON,CTDRINKO,CTDRINKO_FLAG_W,CTDFLUOR,CTDFLUOR_FLAG_W,CTDXMISS,CTDXMISS_FLAG_W,CTDBACKSCATTER,CTDBACKSCATTER_FLAG_W,D18O_NO3,D18O_NO3_FLAG_W,DOP,DOP_FLAG_W,CELLCOUNT,CELLCOUNT_FLAG_W,TDP,TDP_FLAG_W,POP,POP_FLAG_W,DATP,DATP_FLAG_W,PATP,PATP_FLAG_W,HPLC,HPLC_FLAG_W,POC,POC_FLAG_W,BEAMAP,BEAMAP_FLAG_W,DOC_NASA,DOC_NASA_FLAG_W,REFTMP,REFTMP_FLAG_W,DOC_NASA_ERROR,TDN_NASA,TDN_NASA_FLAG_W,TDN_NASA_ERROR
,,,,,,,,,,,METERS,DBAR,ITS-90,PSS-78,,PSS-78,,UMOL/KG,,UMOL/KG,,UMOL/KG,,UMOL/KG,,UMOL/KG,,UMOL/KG,,PMOL/KG,,PMOL/KG,,FMOL/KG,,UMOL/KG,,UMOL/KG,,,,DEG C,/MILLE,,/MILLE,,/MILLE,UMOL/KG,,UMOL/KG,,UMOL/KG,,/MILLE,,,,,,VOLTS,,VOLTS,,VOLTS,,VOLTS,,/MILLE,,UMOL/KG,,/LITER,,UMOL/KG,,UMOL/L,,PMOL/L,,PMOL/L,,,,UG/L,,/METER,,UMOL/L,,ITS-90,,UMOL/L,UMOL/L,,UMOL/L
320620170820,        P06,     146,          1,         27,         27,2,20170825,       1818,   -32.4997,  -147.3894,       4585,   185.3,  15.0477,  35.1871,2,  35.1666,2,  212.121,2, 218.4979,2,     0.6,2,    3.81,2,    0.02,2,    0.35,2,   2.517,2,   1.493,2,   1.6017,2,  2091.3,2,  2314.7,2,   7.8870,2,    25.00, -999.00,9, -999.00,9, -999.00,  -999.0,9, -999.00,9,     -999.0,1,  -999.0,9, 20170825,     2003, -32.5000,-147.3896,        0.0,1,      0.073,1,      4.681,1,      0.140,1,     -999.0,9,     -999.0,9,     -999.0,9,     -999.0,9,     -999.0,9,     -999.0,9,     -999.0,9,     -999.0,9,     -999.0,9,     -999.0,9,     -999.0,9,    14.8938,2,     -999.0,     -999.0,9,     -999.0
320620170820,        P06,     146,          1,         28,         28,2,20170825,       1818,   -32.4997,  -147.3894,       4585,   136.5,  16.3960,  35.3988,2,  35.3896,2, 233.6415,2, 240.5895,2,     0.1,2,    0.06,2,    0.02,2,    0.10,2,   2.346,6,   1.373,6,   1.7117,6,  2068.3,2,  2325.4,2,   7.9571,2,    25.00, -999.00,9, -999.00,9, -999.00,  -999.0,9, -999.00,9,     -999.0,1,  -999.0,9, 20170825,     2005, -32.5001,-147.3896,        0.0,1,      0.164,1,      4.651,1,      0.182,1,     -999.0,9,     -999.0,9,     -999.0,9,     -999.0,9,     -999.0,9,     -999.0,9,     -999.0,9,     -999.0,9,     -999.0,9,     -999.0,9,     -999.0,9,    16.3834,2,     -999.0,     -999.0,9,     -999.0
320620170820,        P06,     146,          1,         29,         29,2,20170825,       1818,   -32.4997,  -147.3894,       4585,   102.2,  16.4909,  35.3734,2,-999.0000,9, 230.8417,2,-999.0000,9,  -999.0,9, -999.00,9, -999.00,9, -999.00,9,-999.000,9,-999.000,9,-999.0000,9,  -999.0,9,  -999.0,9,-999.0000,9,  -999.00, -999.00,9, -999.00,9, -999.00,  -999.0,9, -999.00,9,     -999.0,9,  -999.0,9, 20170825,     2007, -32.5001,-147.3896,        0.0,1,      0.196,1,      4.641,1,      0.188,1,     -999.0,9,     -999.0,9,     -999.0,9,     -999.0,9,     -999.0,9,     -999.0,9,     -999.0,9,     -999.0,1,     -999.0,1,     -999.0,1,69.80616769,6,    16.7964,2,0.414785449,57.85467431,6,7.083750509
320620170820,        P06,     146,          1,         30,         30,2,20170825,       1818,   -32.4997,  -147.3894,       4585,    99.7,  16.4641,  35.3656,2,-999.0000,9, 230.5071,2,-999.0000,9,  -999.0,9, -999.00,9, -999.00,9, -999.00,9,-999.000,9,-999.000,9,-999.0000,9,  -999.0,9,  -999.0,9,-999.0000,9,  -999.00, -999.00,9, -999.00,9, -999.00,  -999.0,9, -999.00,9,     -999.0,9,  -999.0,9, 20170825,     2007, -32.5001,-147.3896,        0.0,1,      0.172,1,      4.651,1,      0.172,1,     -999.0,9,     -999.0,9,     -999.0,9,     -999.0,9,     -999.0,9,     -999.0,9,     -999.0,9,     -999.0,1,     -999.0,1,     -999.0,1,69.80616769,6,     -999.0,5,0.414785449,57.85467431,6,7.083750509
320620170820,        P06,     146,          1,         31,         31,2,20170825,       1818,   -32.4997,  -147.3894,       4585,    89.0,  16.0995,  35.2465,2,  35.4699,2, 230.9468,2, 237.6382,2,     0.1,2,    0.02,2,    0.02,2,    0.09,2,   2.224,2,   1.321,2,   1.5567,2,  2063.2,2,  2329.1,2,   7.9684,6,    25.00, -999.00,9, -999.00,9, -999.00,  -999.0,9, -999.00,9,     -999.0,1,  -999.0,9, 20170825,     2008, -32.4998,-147.3896,        0.0,1,      0.156,1,      4.652,1,      0.176,1,     -999.0,9,     -999.0,9,     -999.0,9,     -999.0,9,     -999.0,9,     -999.0,9,     -999.0,9,     -999.0,9,     -999.0,9,     -999.0,9,     -999.0,9,    16.9755,2,     -999.0,     -999.0,9,     -999.0
320620170820,        P06,     146,          1,         32,         32,2,20170825,       1818,   -32.4997,  -147.3894,       4585,    65.3,  16.3897,  35.2873,2,  35.4336,2,  232.116,2, 238.6526,2,     0.1,2,    0.00,2,    0.00,2,    0.08,2,   2.224,2,   1.325,2,   1.6197,2,  2064.0,2,  2323.7,2,   7.9688,2,    25.00, -999.00,9, -999.00,9, -999.00,  -999.0,9, -999.00,9,     -999.0,1,  -999.0,9, 20170825,     2010, -32.4994,-147.3896,        0.0,1,      0.156,1,      4.637,1,      0.194,1,     -999.0,9,     -999.0,9,     -999.0,9,     -999.0,9,     -999.0,9,     -999.0,9,     -999.0,9,     -999.0,9,     -999.0,9,     -999.0,9,     -999.0,9,    16.9487,2,     -999.0,     -999.0,9,     -999.0
320620170820,        P06,     146,          1,         33,         33,2,20170825,       1818,   -32.4997,  -147.3894,       4585,    49.0,  16.3642,  35.2578,2,-999.0000,9, 231.7264,2,-999.0000,9,  -999.0,9, -999.00,9, -999.00,9, -999.00,9,-999.000,9,-999.000,9,-999.0000,9,  -999.0,9,  -999.0,9,-999.0000,9,  -999.00, -999.00,9, -999.00,9, -999.00,  -999.0,9, -999.00,9,     -999.0,9,  -999.0,9, 20170825,     2011, -32.4994,-147.3896,        0.0,1,      0.130,1,      4.635,1,      0.193,1,     -999.0,9,     -999.0,9,     -999.0,9,     -999.0,9,     -999.0,9,     -999.0,9,     -999.0,9,     -999.0,1,     -999.0,1,     -999.0,1,97.23799437,6,    16.9813,2,1.287096487,59.30559809,6,0.372059169
320620170820,        P06,     146,          1,         34,         34,2,20170825,       1818,   -32.4997,  -147.3894,       4585,    38.7,  16.3628,  35.2580,2,  35.4513,2,  230.435,2,   237.08,2,     0.1,2,    0.05,2,    0.00,2,    0.09,2,   2.248,2,   1.327,2,   1.6867,2,  2063.9,2,  2329.6,6,   7.9707,2,    25.00, -999.00,9, -999.00,9, -999.00,  -999.0,9, -999.00,9,     -999.0,1,  -999.0,9, 20170825,     2012, -32.4993,-147.3896,        0.0,1,      0.128,1,      4.636,1,      0.192,1,     -999.0,9,     -999.0,9,     -999.0,9,     -999.0,9,     -999.0,9,     -999.0,9,     -999.0,9,     -999.0,9,     -999.0,9,     -999.0,9,     -999.0,9,    17.0547,2,     -999.0,     -999.0,9,     -999.0
320620170820,        P06,     146,          1,         35,         35,2,20170825,       1818,   -32.4997,  -147.3894,       4585,    19.9,  16.3597,  35.2586,2,  35.4770,2, 244.5514,2, 235.6941,2,     0.1,2,    0.07,2,    0.00,2,    0.10,2,   2.173,2,   1.330,2,   1.5137,2,  2060.9,2,  2328.7,2,   7.9726,2,    25.00, -999.00,9, -999.00,9, -999.00,  -999.0,9, -999.00,9,     -999.0,1,  -999.0,9, 20170825,     2014, -32.4994,-147.3895,        0.0,1,      0.124,1,      4.635,1,      0.193,1,     -999.0,9,     -999.0,9,     -999.0,9,     -999.0,9,     -999.0,9,     -999.0,9,     -999.0,9,     -999.0,9,     -999.0,9,     -999.0,9,     -999.0,9,    17.2311,2,     -999.0,     -999.0,9,     -999.0
320620170820,        P06,     146,          1,         36,         36,2,20170825,       1818,   -32.4997,  -147.3894,       4585,     3.0,  16.3762,  35.2611,2,  35.4855,2, 244.5514,2, 235.6406,2,     0.2,2,    0.07,2,    0.00,2,    0.10,2,   2.259,2,   1.315,2,   1.5097,2,  2062.2,6,  2330.4,2,   7.9738,2,    25.00,    0.76,2,   55.83,2,    2.35,  -999.0,9, -999.00,9,     -999.0,1,  -999.0,9, 20170825,     2015, -32.4997,-147.3894,        0.0,1,      0.122,1,      4.632,1,      0.195,1,     -999.0,9,     -999.0,9,     -999.0,9,     -999.0,9,     -999.0,9,     -999.0,9,     -999.0,9,     -999.0,9,     -999.0,9,     -999.0,9,     -999.0,9,    17.3025,2,     -999.0,     -999.0,9,     -999.0