BOTTLE,20240211CCHSIOCBG
EXPOCODE,SECT_ID,STNNBR,CASTNO,SAMPNO,BTLNBR,BTLNBR_FLAG_W,DATE,TIME,LATITUDE,LONGITUDE,DEPTH,CTDPRS,CTDTMP,CTDSAL,CTDSAL_FLAG_W,SALNTY,SALNTY_FLAG_W,CTDOXY,CTDOXY_FLAG_W,OXYGEN,OXYGEN_FLAG_W,SILCAT,SILCAT_FLAG_W,NITRAT,NITRAT_FLAG_W,NITRIT,NITRIT_FLAG_W,PHSPHT,PHSPHT_FLAG_W,CFC-11,CFC-11_FLAG_W,CFC-12,CFC-12_FLAG_W,SF6,SF6_FLAG_W,TCARBN,TCARBN_FLAG_W,ALKALI,ALKALI_FLAG_W,PH_TOT,PH_TOT_FLAG_W,PH_TMP,DELC13,DELC13_FLAG_W,DELC14,DELC14_FLAG_W,C14ERR,DOC,DOC_FLAG_W,TDN,TDN_FLAG_W,TON,TON_FLAG_W,D15N_NO3,D15N_NO3_FLAG_W,BTL_DATE,BTL_TIME,BTL_LAT,BTL_LON,CTDRINKO,CTDRINKO_FLAG_W,CTDFLUOR,CTDFLUOR_FLAG_W,CTDXMISS,CTDXMISS_FLAG_W,CTDBACKSCATTER,CTDBACKSCATTER_FLAG_W,D18O_NO3,D18O_NO3_FLAG_W,DOP,DOP_FLAG_W,CELLCOUNT,CELLCOUNT_FLAG_W,TDP,TDP_FLAG_W,POP,POP_FLAG_W,DATP,DATP_FLAG_W,PATP,PATP_FLAG_W,HPLC,HPLC_FLAG_W,POC,POC_FLAG_W,BEAMAP,BEAMAP_FLAG_W,DOC_NASA,DOC_NASA_FLAG_W,REFTMP,REFTMP_FLAG_W,DOC_NASA_ERROR,TDN_NASA,TDN_NASA_FLAG_W,TDN_NASA_ERROR
,,,,,,,,,,,METERS,DBAR,ITS-90,PSS-78,,PSS-78,,UMOL/KG,,UMOL/KG,,UMOL/KG,,UMOL/KG,,UMOL/KG,,UMOL/KG,,PMOL/KG,,PMOL/KG,,FMOL/KG,,UMOL/KG,,UMOL/KG,,,,DEG C,/MILLE,,/MILLE,,/MILLE,UMOL/KG,,UMOL/KG,,UMOL/KG,,/MILLE,,,,,,VOLTS,,VOLTS,,VOLTS,,VOLTS,,/MILLE,,UMOL/KG,,/LITER,,UMOL/KG,,UMOL/L,,PMOL/L,,PMOL/L,,,,UG/L,,/METER,,UMOL/L,,ITS-90,,UMOL/L,UMOL/L,,UMOL/L
320620170820,        P06,     217,          1,          1,          1,2,20170919,       2357,   -32.5000,   -89.9851,       3726,  3777.6,   1.7172,  34.6938,2,  34.6936,2, 165.4557,2, 165.1663,2,   120.7,2,   34.56,2,    0.00,2,    2.37,2,-999.000,9,-999.000,9,-999.0000,9,  2303.2,6,  2398.0,2,   7.5893,2,    25.00, -999.00,9, -999.00,9, -999.00,    40.5,2, -999.00,9,     -999.0,1,  -999.0,9, 20170919,     2357, -32.5000, -89.9853,        0.0,1,      0.061,1,      4.681,1,      0.135,1,     -999.0,9,     -999.0,9,     -999.0,9,     -999.0,9,     -999.0,9,     -999.0,9,     -999.0,9,     -999.0,9,     -999.0,9,     -999.0,9,     -999.0,9,     1.7178,2,     -999.0,     -999.0,9,     -999.0
320620170820,        P06,     217,          1,          2,          2,2,20170919,       2357,   -32.5000,   -89.9851,       3726,  3615.0,   1.7057,  34.6937,2,  34.6910,2, 165.4557,2,  165.351,2,   120.6,2,   34.57,2,    0.00,2,    2.36,2,-999.000,9,-999.000,9,-999.0000,9,  2304.4,2,  2396.9,6,   7.5881,2,    25.00, -999.00,9, -999.00,9, -999.00,    39.3,2, -999.00,9,     -999.0,1,  -999.0,9, 20170920,        1, -32.5001, -89.9851,        0.0,1,      0.061,1,      4.683,1,      0.134,1,     -999.0,9,     -999.0,9,     -999.0,9,     -999.0,9,     -999.0,9,     -999.0,9,     -999.0,9,     -999.0,9,     -999.0,9,     -999.0,9,     -999.0,9,     1.7062,2,     -999.0,     -999.0,9,     -999.0
320620170820,        P06,     217,          1,          3,          3,2,20170919,       2357,   -32.5000,   -89.9851,       3726,  3451.9,   1.7217,  34.6924,2,  34.6893,2, 165.3381,2, 165.4772,2,   119.9,2,   34.53,2,    0.00,2,    2.36,2,-999.000,9,-999.000,9,-999.0000,9,  -999.0,9,  -999.0,9,-999.0000,9,  -999.00, -999.00,9, -999.00,9, -999.00,  -999.0,9, -999.00,9,     -999.0,9,  -999.0,9, 20170920,        5, -32.5001, -89.9852,        0.0,1,      0.060,1,      4.685,1,      0.128,1,     -999.0,9,     -999.0,9,     -999.0,9,     -999.0,9,     -999.0,9,     -999.0,9,     -999.0,9,     -999.0,9,     -999.0,9,     -999.0,9,     -999.0,9,     1.7228,2,     -999.0,     -999.0,9,     -999.0
320620170820,        P06,     217,          1,          4,          4,2,20170919,       2357,   -32.5000,   -89.9851,       3726,  3144.6,   1.7520,  34.6889,2,  34.6948,2, 165.4422,2, 165.8469,2,   118.5,2,   34.47,2,    0.00,2,    2.37,2,-999.000,9,-999.000,9,-999.0000,9,  2294.9,2,  2393.2,2,   7.5864,2,    25.00, -999.00,9, -999.00,9, -999.00,    41.1,2, -999.00,9,     -999.0,1,  -999.0,9, 20170920,       11, -32.5000, -89.9853,        0.0,1,      0.061,1,      4.686,1,      0.128,1,     -999.0,9,     -999.0,9,     -999.0,9,     -999.0,9,     -999.0,9,     -999.0,9,     -999.0,9,     -999.0,9,     -999.0,9,     -999.0,9,     -999.0,9,     1.7529,2,     -999.0,     -999.0,9,     -999.0
320620170820,        P06,     217,          1,          5,          5,2,20170919,       2357,   -32.5000,   -89.9851,       3726,  2903.1,   1.7744,  34.6854,2,  34.6824,2, 165.4477,2, 165.7236,2,   117.7,2,   34.47,2,    0.00,2,    2.37,2,-999.000,9,-999.000,9,-999.0000,9,  -999.0,9,  -999.0,9,-999.0000,9,  -999.00, -999.00,9, -999.00,9, -999.00,  -999.0,9, -999.00,9,     -999.0,9,  -999.0,9, 20170920,       16, -32.4999, -89.9854,        0.0,1,      0.061,1,      4.687,1,      0.128,1,     -999.0,9,     -999.0,9,     -999.0,9,     -999.0,9,     -999.0,9,     -999.0,9,     -999.0,9,     -999.0,9,     -999.0,9,     -999.0,9,     -999.0,9,     1.7746,2,     -999.0,     -999.0,9,     -999.0
320620170820,        P06,     217,          1,          6,          6,2,20170919,       2357,   -32.5000,   -89.9851,       3726,  2701.5,   1.8043,  34.6804,2,  34.6765,2, 164.6633,2,  164.306,2,   116.9,2,   34.55,2,    0.00,2,    2.38,2,-999.000,9,-999.000,9,-999.0000,9,  2298.4,2,  2389.6,2,   7.5841,6,    25.00, -999.00,9, -999.00,9, -999.00,    36.2,2, -999.00,9,     -999.0,1,  -999.0,9, 20170920,       21, -32.4999, -89.9855,        0.0,1,      0.061,1,      4.687,1,      0.130,1,     -999.0,9,     -999.0,9,     -999.0,9,     -999.0,9,     -999.0,9,     -999.0,9,     -999.0,9,     -999.0,9,     -999.0,9,     -999.0,9,     -999.0,9,     1.8099,2,     -999.0,     -999.0,9,     -999.0
320620170820,        P06,     217,          1,          7,          7,2,20170919,       2357,   -32.5000,   -89.9851,       3726,  2496.2,   1.8662,  34.6717,2,  34.6679,2, 161.7908,2, 161.1709,2,   115.6,2,   34.85,2,    0.00,2,    2.39,2,-999.000,9,-999.000,9,-999.0000,9,  -999.0,9,  -999.0,9,-999.0000,9,  -999.00, -999.00,9, -999.00,9, -999.00,  -999.0,9, -999.00,9,     -999.0,9,  -999.0,9, 20170920,       26, -32.4999, -89.9855,        0.0,1,      0.061,1,      4.687,1,      0.132,1,     -999.0,9,     -999.0,9,     -999.0,9,     -999.0,9,     -999.0,9,     -999.0,9,     -999.0,9,     -999.0,9,     -999.0,9,     -999.0,9,     -999.0,9,     1.8771,2,     -999.0,     -999.0,9,     -999.0
320620170820,        P06,     217,          1,          8,          8,2,20170919,       2357,   -32.5000,   -89.9851,       3726,  2293.4,   1.9831,  34.6569,2,  34.6539,2, 157.3665,2, 158.2358,2,   112.5,2,   35.07,2,    0.00,2,    2.42,2,-999.000,9,-999.000,9,-999.0000,9,  2294.3,2,  2385.0,2,   7.5732,2,    25.00, -999.00,9, -999.00,9, -999.00,    37.2,2, -999.00,9,     -999.0,1,  -999.0,9, 20170920,       31, -32.5000, -89.9853,        0.0,1,      0.061,1,      4.687,1,      0.130,1,     -999.0,9,     -999.0,9,     -999.0,9,     -999.0,9,     -999.0,9,     -999.0,9,     -999.0,9,     -999.0,9,     -999.0,9,     -999.0,9,     -999.0,9,     1.9821,2,     -999.0,     -999.0,9,     -999.0
320620170820,        P06,     217,          1,          9,          9,2,20170919,       2357,   -32.5000,   -89.9851,       3726,  2089.7,   2.1258,  34.6396,2,  34.6358,2, 152.4161,2, 151.8974,2,   110.1,2,   35.61,2,    0.00,2,    2.46,2,-999.000,9,-999.000,9,-999.0000,9,  -999.0,9,  -999.0,9,-999.0000,9,  -999.00, -999.00,9, -999.00,9, -999.00,    37.5,2, -999.00,9,     -999.0,1,  -999.0,9, 20170920,       35, -32.5000, -89.9853,        0.0,1,      0.061,1,      4.686,1,      0.135,1,     -999.0,9,     -999.0,9,     -999.0,9,     -999.0,9,     -999.0,9,     -999.0,9,     -999.0,9,     -999.0,9,     -999.0,9,     -999.0,9,     -999.0,9,     2.1304,2,     -999.0,     -999.0,9,     -999.0
320620170820,        P06,     217,          1,         10,         10,2,20170919,       2357,   -32.5000,   -89.9851,       3726,  1887.6,   2.3316,  34.6178,2,  34.6134,2, 145.2205,2,  145.088,2,   105.8,2,   36.27,2,    0.00,2,    2.53,2,-999.000,9,-999.000,9,-999.0000,9,  2296.8,2,  2377.8,2,   7.5515,2,    25.00, -999.00,9, -999.00,9, -999.00,  -999.0,9, -999.00,9,     -999.0,1,  -999.0,9, 20170920,       40, -32.5000, -89.9854,        0.0,1,      0.061,1,      4.686,1,      0.132,1,     -999.0,9,     -999.0,9,     -999.0,9,     -999.0,9,     -999.0,9,     -999.0,9,     -999.0,9,     -999.0,9,     -999.0,9,     -999.0,9,     -999.0,9,     2.3411,2,     -999.0,     -999.0,9,     -999.0
320620170820,        P06,     217,          1,         11,         11,2,20170919,       2357,   -32.5000,   -89.9851,       3726,  1755.0,   2.4714,  34.6039,2,  34.5985,2, 140.5122,2, 140.5146,2,   102.3,2,   36.64,2,    0.00,2,    2.54,2,-999.000,9,-999.000,9,-999.0000,9,  -999.0,9,  -999.0,9,-999.0000,9,  -999.00, -999.00,9, -999.00,9, -999.00,  -999.0,9, -999.00,9,     -999.0,9,  -999.0,9, 20170920,       43, -32.4999, -89.9855,        0.0,1,      0.062,1,      4.686,1,      0.131,1,     -999.0,9,     -999.0,9,     -999.0,9,     -999.0,9,     -999.0,9,     -999.0,9,     -999.0,9,     -999.0,9,     -999.0,9,     -999.0,9,     -999.0,9,     2.4893,2,     -999.0,     -999.0,9,     -999.0
320620170820,        P06,     217,          1,         12,         12,2,20170919,       2357,   -32.5000,   -89.9851,       3726,  1653.3,   2.6380,  34.5901,2,  34.5865,2, 133.5837,2, 134.7864,2,    99.7,2,   37.10,2,    0.00,2,    2.58,2,-999.000,9,-999.000,9,-999.0000,9,  2296.9,2,  2370.5,2,   7.5323,2,    25.00, -999.00,9, -999.00,9, -999.00,    37.2,2, -999.00,9,     -999.0,1,  -999.0,9, 20170920,       46, -32.4998, -89.9857,        0.0,1,      0.061,1,      4.686,1,      0.133,1,     -999.0,9,     -999.0,9,     -999.0,9,     -999.0,9,     -999.0,9,     -999.0,9,     -999.0,9,     -999.0,9,     -999.0,9,     -999.0,9,     -999.0,9,     2.6361,2,     -999.0,     -999.0,9,     -999.0
320620170820,        P06,     217,          1,         13,         13,2,20170919,       2357,   -32.5000,   -89.9851,       3726,  1552.1,   2.8212,  34.5767,2,  34.5747,2,  126.907,2, 126.5007,2,    97.1,2,   37.75,2,    0.00,2,    2.64,2,-999.000,9,-999.000,9,-999.0000,9,  -999.0,9,  -999.0,9,-999.0000,9,  -999.00, -999.00,9, -999.00,9, -999.00,  -999.0,9, -999.00,9,     -999.0,9,  -999.0,9, 20170920,       49, -32.4999, -89.9857,        0.0,1,      0.062,1,      4.686,1,      0.134,1,     -999.0,9,     -999.0,9,     -999.0,9,     -999.0,9,     -999.0,9,     -999.0,9,     -999.0,9,     -999.0,9,     -999.0,9,     -999.0,9,     -999.0,9,     2.8094,2,     -999.0,     -999.0,9,     -999.0
320620170820,        P06,     217,          1,         14,         14,2,20170919,       2357,   -32.5000,   -89.9851,       3726,  1449.5,   3.0027,  34.5607,2,  34.5567,2, 121.2519,2, 120.9123,2,    92.8,2,   38.23,2,    0.00,2,    2.70,2,-999.000,9,-999.000,9,-999.0000,9,  2296.1,2,  2362.6,2,   7.5083,2,    25.00, -999.00,9, -999.00,9, -999.00,    37.0,2, -999.00,9,     -999.0,1,  -999.0,9, 20170920,       52, -32.4999, -89.9856,        0.0,1,      0.061,1,      4.685,1,      0.135,1,     -999.0,9,     -999.0,9,     -999.0,9,     -999.0,9,     -999.0,9,     -999.0,9,     -999.0,9,     -999.0,9,     -999.0,9,     -999.0,9,     -999.0,9,     3.0024,2,     -999.0,     -999.0,9,     -999.0
320620170820,        P06,     217,          1,         15,         15,2,20170919,       2357,   -32.5000,   -89.9851,       3726,  1347.4,   3.1810,  34.5380,2,  34.5368,2, 117.8197,2, 117.8175,2,    86.8,2,   38.58,2,    0.00,2,    2.71,2,-999.000,9,-999.000,9,-999.0000,9,  -999.0,9,  -999.0,9,-999.0000,9,  -999.00, -999.00,9, -999.00,9, -999.00,  -999.0,9, -999.00,9,     -999.0,9,  -999.0,9, 20170920,       55, -32.4999, -89.9856,        0.0,1,      0.062,1,      4.685,1,      0.135,1,     -999.0,9,     -999.0,9,     -999.0,9,     -999.0,9,     -999.0,9,     -999.0,9,     -999.0,9,     -999.0,9,     -999.0,9,     -999.0,9,     -999.0,9,     3.1645,2,     -999.0,     -999.0,9,     -999.0
320620170820,        P06,     217,          1,         16,         16,2,20170919,       2357,   -32.5000,   -89.9851,       3726,  1246.2,   3.3585,  34.5065,2,  34.5023,2, 117.3436,2, 117.4107,2,    78.2,2,   38.72,2,    0.00,2,    2.70,2,-999.000,9,-999.000,9,-999.0000,9,  2285.8,6,  2346.8,2,   7.4938,2,    25.00, -999.00,9, -999.00,9, -999.00,    37.5,2, -999.00,9,     -999.0,1,  -999.0,9, 20170920,       58, -32.4999, -89.9855,        0.0,1,      0.062,1,      4.684,1,      0.137,1,     -999.0,9,     -999.0,9,     -999.0,9,     -999.0,9,     -999.0,9,     -999.0,9,     -999.0,9,     -999.0,9,     -999.0,9,     -999.0,9,     -999.0,9,     3.3534,2,     -999.0,     -999.0,9,     -999.0
320620170820,        P06,     217,          1,         17,         17,2,20170919,       2357,   -32.5000,   -89.9851,       3726,  1145.3,   3.5424,  34.4473,2,  34.4514,2, 128.6833,2,  128.736,2,    65.8,2,   38.04,2,    0.00,2,    2.64,2,-999.000,9,-999.000,9,-999.0000,9,  -999.0,9,  -999.0,9,-999.0000,9,  -999.00, -999.00,9, -999.00,9, -999.00,  -999.0,9, -999.00,9,     -999.0,9,  -999.0,9, 20170920,      100, -32.5000, -89.9853,        0.0,1,      0.062,1,      4.684,1,      0.138,1,     -999.0,9,     -999.0,9,     -999.0,9,     -999.0,9,     -999.0,9,     -999.0,9,     -999.0,9,     -999.0,9,     -999.0,9,     -999.0,9,     -999.0,9,     3.5063,2,     -999.0,     -999.0,9,     -999.0
320620170820,        P06,     217,          1,         18,         18,2,20170919,       2357,   -32.5000,   -89.9851,       3726,  1043.6,   3.7662,  34.3886,2,  34.3839,2, 151.5159,2, 150.8142,2,    50.5,2,   36.28,2,    0.00,2,    2.50,2,-999.000,9,-999.000,9,-999.0000,9,  2243.3,2,  2314.4,2,   7.5313,2,    25.00, -999.00,9, -999.00,9, -999.00,    39.1,2, -999.00,9,     -999.0,1,  -999.0,9, 20170920,      103, -32.5000, -89.9851,        0.0,1,      0.061,1,      4.684,1,      0.133,1,     -999.0,9,     -999.0,9,     -999.0,9,     -999.0,9,     -999.0,9,     -999.0,9,     -999.0,9,     -999.0,9,     -999.0,9,     -999.0,9,     -999.0,9,     3.7672,2,     -999.0,     -999.0,9,     -999.0
320620170820,        P06,     217,          1,         19,         19,2,20170919,       2357,   -32.5000,   -89.9851,       3726,   942.4,   4.0351,  34.3293,2,  34.3156,2, 183.4351,2,  183.166,2,    34.8,2,   33.31,2,    0.00,2,    2.27,2,-999.000,9,-999.000,9,-999.0000,9,  -999.0,9,  -999.0,9,-999.0000,9,  -999.00, -999.00,9, -999.00,9, -999.00,  -999.0,9, -999.00,9,     -999.0,9,  -999.0,9, 20170920,      106, -32.5001, -89.9849,        0.0,1,      0.061,1,      4.686,1,      0.134,1,     -999.0,9,     -999.0,9,     -999.0,9,     -999.0,9,     -999.0,9,     -999.0,9,     -999.0,9,     -999.0,9,     -999.0,9,     -999.0,9,     -999.0,9,     4.1607,2,     -999.0,     -999.0,9,     -999.0
320620170820,        P06,     217,          1,         20,         20,2,20170919,       2357,   -32.5000,   -89.9851,       3726,   842.5,   4.5818,  34.2838,2,  34.2746,2, 203.3791,2, 203.7129,2,    24.1,2,   30.91,2,    0.00,2,    2.09,2,-999.000,9,-999.000,9,-999.0000,9,  2192.0,2,  2288.9,2,   7.6116,2,    25.00, -999.00,9, -999.00,9, -999.00,    42.0,2, -999.00,9,     -999.0,1,  -999.0,9, 20170920,      108, -32.5002, -89.9848,        0.0,1,      0.059,1,      4.686,1,      0.135,1,     -999.0,9,     -999.0,9,     -999.0,9,     -999.0,9,     -999.0,9,     -999.0,9,     -999.0,9,     -999.0,9,     -999.0,9,     -999.0,9,     -999.0,9,     4.6300,2,     -999.0,     -999.0,9,     -999.0
320620170820,        P06,     217,          1,         21,         21,2,20170919,       2357,   -32.5000,   -89.9851,       3726,   740.7,   5.1177,  34.2495,2,  34.2444,2, 229.6772,2, 229.8035,2,    15.0,2,   27.79,2,    0.00,2,    1.86,2,-999.000,9,-999.000,9,-999.0000,9,  -999.0,9,  -999.0,9,-999.0000,9,  -999.00, -999.00,9, -999.00,9, -999.00,  -999.0,9, -999.00,9,     -999.0,9,  -999.0,9, 20170920,      111, -32.5002, -89.9848,        0.0,1,      0.060,1,      4.686,1,      0.132,1,     -999.0,9,     -999.0,9,     -999.0,9,     -999.0,9,     -999.0,9,     -999.0,9,     -999.0,9,     -999.0,9,     -999.0,9,     -999.0,9,     -999.0,9,     5.1296,2,     -999.0,     -999.0,9,     -999.0
320620170820,        P06,     217,          1,         22,         22,2,20170919,       2357,   -32.5000,   -89.9851,       3726,   639.1,   5.5782,  34.2485,2,  34.2438,2, 244.3013,2, 244.3483,2,    10.5,2,   25.61,2,    0.00,2,    1.71,2,-999.000,9,-999.000,9,-999.0000,9,  2155.5,2,  2276.9,2,   7.6779,2,    25.00, -999.00,9, -999.00,9, -999.00,    44.7,2, -999.00,9,     -999.0,1,  -999.0,9, 20170920,      114, -32.5002, -89.9847,        0.0,1,      0.059,1,      4.685,1,      0.133,1,     -999.0,9,     -999.0,9,     -999.0,9,     -999.0,9,     -999.0,9,     -999.0,9,     -999.0,9,     -999.0,9,     -999.0,9,     -999.0,9,     -999.0,9,     5.5705,2,     -999.0,     -999.0,9,     -999.0
320620170820,        P06,     217,          1,         23,         23,2,20170919,       2357,   -32.5000,   -89.9851,       3726,   536.6,   5.9690,  34.2635,2,  34.2583,2, 247.0904,2,  246.958,2,     8.6,2,   24.41,2,    0.00,2,    1.64,2,-999.000,9,-999.000,9,-999.0000,9,  -999.0,9,  -999.0,9,-999.0000,9,  -999.00, -999.00,9, -999.00,9, -999.00,  -999.0,9, -999.00,9,     -999.0,9,  -999.0,9, 20170920,      116, -32.5002, -89.9847,        0.0,1,      0.058,1,      4.684,1,      0.134,1,     -999.0,9,     -999.0,9,     -999.0,9,     -999.0,9,     -999.0,9,     -999.0,9,     -999.0,9,     -999.0,9,     -999.0,9,     -999.0,9,     -999.0,9,     5.9494,2,     -999.0,     -999.0,9,     -999.0
320620170820,        P06,     217,          1,         24,         24,2,20170919,       2357,   -32.5000,   -89.9851,       3726,   468.5,   6.2639,  34.2751,2,  34.2699,2, 243.8707,2, 244.4004,2,     7.5,2,   23.77,2,    0.00,2,    1.61,2,-999.000,9,-999.000,9,-999.0000,9,  2152.3,2,  2270.2,2,   7.6851,2,    25.00, -999.00,9, -999.00,9, -999.00,    43.3,2, -999.00,9,     -999.0,1,  -999.0,9, 20170920,      119, -32.5003, -89.9846,        0.0,1,      0.058,1,      4.684,1,      0.135,1,     -999.0,9,     -999.0,9,     -999.0,9,     -999.0,9,     -999.0,9,     -999.0,9,     -999.0,9,     -999.0,9,     -999.0,9,     -999.0,9,     -999.0,9,     6.3085,2,     -999.0,     -999.0,9,     -999.0
320620170820,        P06,     217,          1,         25,         25,2,20170919,       2357,   -32.5000,   -89.9851,       3726,   418.5,   6.4632,  34.2721,2,  34.2654,2, 238.7627,2, 238.8947,2,     7.1,2,   23.76,2,    0.00,2,    1.61,2,-999.000,9,-999.000,9,-999.0000,9,  2154.3,2,  2272.1,2,   7.6784,2,    25.00, -999.00,9, -999.00,9, -999.00,    42.6,2, -999.00,9,     -999.0,1,  -999.0,9, 20170920,      121, -32.5003, -89.9846,        0.0,1,      0.059,1,      4.683,1,      0.136,1,     -999.0,9,     -999.0,9,     -999.0,9,     -999.0,9,     -999.0,9,     -999.0,9,     -999.0,9,     -999.0,9,     -999.0,9,     -999.0,9,     -999.0,9,     6.4910,2,     -999.0,     -999.0,9,     -999.0
320620170820,        P06,     217,          1,         26,         26,2,20170919,       2357,   -32.5000,   -89.9851,       3726,   365.9,   7.1918,  34.2500,2,  34.2428,3, 204.4488,2, 209.8409,2,     7.1,2,   24.53,2,    0.00,2,    1.72,2,-999.000,9,-999.000,9,-999.0000,9,  2164.2,2,  2268.9,6,   7.6396,2,    25.00, -999.00,9, -999.00,9, -999.00,    48.8,2, -999.00,9,     -999.0,1,  -999.0,9, 20170920,      123, -32.5002, -89.9847,        0.0,1,      0.060,1,      4.681,1,      0.134,1,     -999.0,9,     -999.0,9,     -999.0,9,     -999.0,9,     -999.0,9,     -999.0,9,     -999.0,9,     -999.0,9,     -999.0,9,     -999.0,9,     -999.0,9,     7.2451,2,     -999.0,     -999.0,9,     -999.0