BOTTLE,20240211CCHSIOCBG
EXPOCODE,SECT_ID,STNNBR,CASTNO,SAMPNO,BTLNBR,BTLNBR_FLAG_W,DATE,TIME,LATITUDE,LONGITUDE,DEPTH,CTDPRS,CTDTMP,CTDSAL,CTDSAL_FLAG_W,SALNTY,SALNTY_FLAG_W,CTDOXY,CTDOXY_FLAG_W,OXYGEN,OXYGEN_FLAG_W,SILCAT,SILCAT_FLAG_W,NITRAT,NITRAT_FLAG_W,NITRIT,NITRIT_FLAG_W,PHSPHT,PHSPHT_FLAG_W,CFC-11,CFC-11_FLAG_W,CFC-12,CFC-12_FLAG_W,SF6,SF6_FLAG_W,TCARBN,TCARBN_FLAG_W,ALKALI,ALKALI_FLAG_W,PH_TOT,PH_TOT_FLAG_W,PH_TMP,DELC13,DELC13_FLAG_W,DELC14,DELC14_FLAG_W,C14ERR,DOC,DOC_FLAG_W,TDN,TDN_FLAG_W,TON,TON_FLAG_W,D15N_NO3,D15N_NO3_FLAG_W,BTL_DATE,BTL_TIME,BTL_LAT,BTL_LON,CTDRINKO,CTDRINKO_FLAG_W,CTDFLUOR,CTDFLUOR_FLAG_W,CTDXMISS,CTDXMISS_FLAG_W,CTDBACKSCATTER,CTDBACKSCATTER_FLAG_W,D18O_NO3,D18O_NO3_FLAG_W,DOP,DOP_FLAG_W,CELLCOUNT,CELLCOUNT_FLAG_W,TDP,TDP_FLAG_W,POP,POP_FLAG_W,DATP,DATP_FLAG_W,PATP,PATP_FLAG_W,HPLC,HPLC_FLAG_W,POC,POC_FLAG_W,BEAMAP,BEAMAP_FLAG_W,DOC_NASA,DOC_NASA_FLAG_W,REFTMP,REFTMP_FLAG_W,DOC_NASA_ERROR,TDN_NASA,TDN_NASA_FLAG_W,TDN_NASA_ERROR
,,,,,,,,,,,METERS,DBAR,ITS-90,PSS-78,,PSS-78,,UMOL/KG,,UMOL/KG,,UMOL/KG,,UMOL/KG,,UMOL/KG,,UMOL/KG,,PMOL/KG,,PMOL/KG,,FMOL/KG,,UMOL/KG,,UMOL/KG,,,,DEG C,/MILLE,,/MILLE,,/MILLE,UMOL/KG,,UMOL/KG,,UMOL/KG,,/MILLE,,,,,,VOLTS,,VOLTS,,VOLTS,,VOLTS,,/MILLE,,UMOL/KG,,/LITER,,UMOL/KG,,UMOL/L,,PMOL/L,,PMOL/L,,,,UG/L,,/METER,,UMOL/L,,ITS-90,,UMOL/L,UMOL/L,,UMOL/L
320620170820,        P06,     218,          1,          1,          1,2,20170920,       0736,   -32.4998,   -89.0951,       3374,  3418.5,   1.7026,  34.6928,2,  34.6906,2, 165.1478,2, 164.8855,2,   119.6,2,   34.42,2,    0.00,2,    2.39,2,-999.000,9,-999.000,9,-999.0000,9,  2302.2,6,  2395.1,2,   7.5884,2,    25.00, -999.00,9, -999.00,9, -999.00,    38.0,2, -999.00,9,     -999.0,1,  -999.0,9, 20170920,      736, -32.4998, -89.0958,        0.0,1,      0.061,1,      4.683,1,      0.134,1,     -999.0,9,     -999.0,9,     -999.0,9,     -999.0,9,     -999.0,9,     -999.0,9,     -999.0,9,     -999.0,9,     -999.0,9,     -999.0,9,     -999.0,9,     1.7028,2,     -999.0,     -999.0,9,     -999.0
320620170820,        P06,     218,          1,          2,          2,2,20170920,       0736,   -32.4998,   -89.0951,       3374,  3298.0,   1.6992,  34.6925,2,  34.6893,2, 165.1478,2, 165.2611,2,   119.4,2,   34.40,2,    0.00,2,    2.40,2,-999.000,9,-999.000,9,-999.0000,9,  2300.6,2,  2393.6,2,   7.5892,2,    25.00, -999.00,9, -999.00,9, -999.00,  -999.0,9, -999.00,9,     -999.0,9,  -999.0,9, 20170920,      740, -32.4998, -89.0959,        0.0,1,      0.061,1,      4.684,1,      0.132,1,     -999.0,9,     -999.0,9,     -999.0,9,     -999.0,9,     -999.0,9,     -999.0,9,     -999.0,9,     -999.0,9,     -999.0,9,     -999.0,9,     -999.0,9,     1.6992,2,     -999.0,     -999.0,9,     -999.0
320620170820,        P06,     218,          1,          3,          3,2,20170920,       0736,   -32.4998,   -89.0951,       3374,  3179.1,   1.7189,  34.6910,2,  34.6895,2, 164.9552,2, 165.3648,2,   118.5,2,   34.29,2,    0.00,2,    2.39,2,-999.000,9,-999.000,9,-999.0000,9,  2299.9,2,  2392.7,2,   7.5877,2,    25.00, -999.00,9, -999.00,9, -999.00,    35.9,2, -999.00,9,     -999.0,1,  -999.0,9, 20170920,      744, -32.4998, -89.0960,        0.0,1,      0.061,1,      4.686,1,      0.130,1,     -999.0,9,     -999.0,9,     -999.0,9,     -999.0,9,     -999.0,9,     -999.0,9,     -999.0,9,     -999.0,9,     -999.0,9,     -999.0,9,     -999.0,9,     1.7179,2,     -999.0,     -999.0,9,     -999.0
320620170820,        P06,     218,          1,          4,          4,2,20170920,       0736,   -32.4998,   -89.0951,       3374,  2976.2,   1.7468,  34.6881,2,  34.6855,2, 165.2595,2, 165.4396,2,   117.8,2,   34.26,2,    0.00,2,    2.39,2,-999.000,9,-999.000,9,-999.0000,9,  2298.4,2,  2390.0,2,   7.5875,2,    25.00, -999.00,9, -999.00,9, -999.00,  -999.0,9, -999.00,9,     -999.0,9,  -999.0,9, 20170920,      749, -32.4998, -89.0959,        0.0,1,      0.061,1,      4.686,1,      0.130,1,     -999.0,9,     -999.0,9,     -999.0,9,     -999.0,9,     -999.0,9,     -999.0,9,     -999.0,9,     -999.0,9,     -999.0,9,     -999.0,9,     -999.0,9,     1.7475,2,     -999.0,     -999.0,9,     -999.0
320620170820,        P06,     218,          1,          5,          5,2,20170920,       0736,   -32.4998,   -89.0951,       3374,  2771.8,   1.7768,  34.6841,2,  34.6812,2, 164.5343,2, 163.8149,2,   117.2,2,   34.36,2,    0.00,2,    2.39,2,-999.000,9,-999.000,9,-999.0000,9,  2298.0,2,  2389.9,2,   7.5852,2,    25.00, -999.00,9, -999.00,9, -999.00,    39.0,2, -999.00,9,     -999.0,1,  -999.0,9, 20170920,      753, -32.5000, -89.0988,        0.0,1,      0.061,1,      4.686,1,      0.130,1,     -999.0,9,     -999.0,9,     -999.0,9,     -999.0,9,     -999.0,9,     -999.0,9,     -999.0,9,     -999.0,9,     -999.0,9,     -999.0,9,     -999.0,9,     1.7762,2,     -999.0,     -999.0,9,     -999.0
320620170820,        P06,     218,          1,          6,          6,2,20170920,       0736,   -32.4998,   -89.0951,       3374,  2567.2,   1.8391,  34.6760,2,  34.6720,2, 162.4125,2, 162.1421,2,   115.6,2,   34.40,2,    0.00,2,    2.41,2,-999.000,9,-999.000,9,-999.0000,9,  2297.3,2,  2388.9,2,   7.5804,2,    25.00, -999.00,9, -999.00,9, -999.00,    36.3,2, -999.00,9,     -999.0,1,  -999.0,9, 20170920,      758, -32.5000, -89.0963,        0.0,1,      0.060,1,      4.686,1,      0.130,1,     -999.0,9,     -999.0,9,     -999.0,9,     -999.0,9,     -999.0,9,     -999.0,9,     -999.0,9,     -999.0,9,     -999.0,9,     -999.0,9,     -999.0,9,     1.8400,2,     -999.0,     -999.0,9,     -999.0
320620170820,        P06,     218,          1,          7,          7,2,20170920,       0736,   -32.4998,   -89.0951,       3374,  2364.0,   1.9256,  34.6638,2,  34.6610,2, 157.4442,2,  157.215,2,   114.7,2,   34.79,2,    0.00,2,    2.45,2,-999.000,9,-999.000,9,-999.0000,9,  2300.2,2,  2386.9,2,   7.5734,2,    25.00, -999.00,9, -999.00,9, -999.00,    37.3,2, -999.00,9,     -999.0,1,  -999.0,9, 20170920,      802, -32.5000, -89.0963,        0.0,1,      0.061,1,      4.686,1,      0.131,1,     -999.0,9,     -999.0,9,     -999.0,9,     -999.0,9,     -999.0,9,     -999.0,9,     -999.0,9,     -999.0,9,     -999.0,9,     -999.0,9,     -999.0,9,     1.9263,2,     -999.0,     -999.0,9,     -999.0
320620170820,        P06,     218,          1,          8,          8,2,20170920,       0736,   -32.4998,   -89.0951,       3374,  2160.3,   2.0607,  34.6475,2,  34.6458,2, 153.2068,2, 153.2268,2,   111.6,2,   35.28,2,    0.00,2,    2.47,2,-999.000,9,-999.000,9,-999.0000,9,  2298.9,2,  2384.8,2,   7.5678,2,    25.00, -999.00,9, -999.00,9, -999.00,  -999.0,9, -999.00,9,     -999.0,9,  -999.0,9, 20170920,      807, -32.5000, -89.0963,        0.0,1,      0.061,1,      4.686,1,      0.132,1,     -999.0,9,     -999.0,9,     -999.0,9,     -999.0,9,     -999.0,9,     -999.0,9,     -999.0,9,     -999.0,9,     -999.0,9,     -999.0,9,     -999.0,9,     2.0532,2,     -999.0,     -999.0,9,     -999.0
320620170820,        P06,     218,          1,          9,          9,2,20170920,       0736,   -32.4998,   -89.0951,       3374,  1956.6,   2.2704,  34.6262,2,  34.6252,2, 144.0019,2, 146.0749,2,   108.9,2,   36.56,2,    0.00,2,    2.54,2,-999.000,9,-999.000,9,-999.0000,9,  2302.5,2,  2381.6,2,   7.5514,2,    25.00, -999.00,9, -999.00,9, -999.00,    38.8,2, -999.00,9,     -999.0,1,  -999.0,9, 20170920,      812, -32.5000, -89.0963,        0.0,1,      0.062,1,      4.686,1,      0.133,1,     -999.0,9,     -999.0,9,     -999.0,9,     -999.0,9,     -999.0,9,     -999.0,9,     -999.0,9,     -999.0,9,     -999.0,9,     -999.0,9,     -999.0,9,     2.2509,2,     -999.0,     -999.0,9,     -999.0
320620170820,        P06,     218,          1,         10,         10,2,20170920,       0736,   -32.4998,   -89.0951,       3374,  1782.9,   2.4444,  34.6105,2,  34.6087,2, 136.0804,2, 136.0622,2,   105.8,2,   37.22,2,    0.00,2,    2.58,2,-999.000,9,-999.000,9,-999.0000,9,  2303.0,2,  2378.0,2,   7.5382,2,    25.00, -999.00,9, -999.00,9, -999.00,  -999.0,9, -999.00,9,     -999.0,9,  -999.0,9, 20170920,      816, -32.5000, -89.0963,        0.0,1,      0.062,1,      4.685,1,      0.135,1,     -999.0,9,     -999.0,9,     -999.0,9,     -999.0,9,     -999.0,9,     -999.0,9,     -999.0,9,     -999.0,9,     -999.0,9,     -999.0,9,     -999.0,9,     2.4381,2,     -999.0,     -999.0,9,     -999.0
320620170820,        P06,     218,          1,         11,         11,2,20170920,       0736,   -32.4998,   -89.0951,       3374,  1682.2,   2.5897,  34.5991,2,  34.5963,2, 131.3097,2, 131.2797,2,   102.5,2,   37.68,2,    0.00,2,    2.63,2,-999.000,9,-999.000,9,-999.0000,9,  2303.0,2,  2374.4,2,   7.5297,2,    25.00, -999.00,9, -999.00,9, -999.00,    35.9,2, -999.00,9,     -999.0,1,  -999.0,9, 20170920,      819, -32.5000, -89.0963,        0.0,1,      0.063,1,      4.685,1,      0.135,1,     -999.0,9,     -999.0,9,     -999.0,9,     -999.0,9,     -999.0,9,     -999.0,9,     -999.0,9,     -999.0,9,     -999.0,9,     -999.0,9,     -999.0,9,     2.5807,2,     -999.0,     -999.0,9,     -999.0
320620170820,        P06,     218,          1,         12,         12,2,20170920,       0736,   -32.4998,   -89.0951,       3374,  1579.8,   2.7415,  34.5846,2,  34.5824,2, 126.7645,2, 126.5323,2,    98.7,2,   37.90,2,    0.00,2,    2.67,2,-999.000,9,-999.000,9,-999.0000,9,  2301.5,2,  2368.4,2,   7.5221,2,    25.00, -999.00,9, -999.00,9, -999.00,  -999.0,9, -999.00,9,     -999.0,9,  -999.0,9, 20170920,      822, -32.5000, -89.0963,        0.0,1,      0.062,1,      4.685,1,      0.135,1,     -999.0,9,     -999.0,9,     -999.0,9,     -999.0,9,     -999.0,9,     -999.0,9,     -999.0,9,     -999.0,9,     -999.0,9,     -999.0,9,     -999.0,9,     2.7277,2,     -999.0,     -999.0,9,     -999.0
320620170820,        P06,     218,          1,         13,         13,2,20170920,       0736,   -32.4998,   -89.0951,       3374,  1478.9,   2.9216,  34.5677,2,  34.5671,2, 122.7441,2, 122.5769,2,    94.3,2,   38.32,2,    0.00,2,    2.68,2,-999.000,9,-999.000,9,-999.0000,9,  2299.1,2,  2366.0,6,   7.5138,2,    25.00, -999.00,9, -999.00,9, -999.00,    37.7,2, -999.00,9,     -999.0,1,  -999.0,9, 20170920,      825, -32.5000, -89.0963,        0.0,1,      0.061,1,      4.685,1,      0.134,1,     -999.0,9,     -999.0,9,     -999.0,9,     -999.0,9,     -999.0,9,     -999.0,9,     -999.0,9,     -999.0,9,     -999.0,9,     -999.0,9,     -999.0,9,     2.9010,2,     -999.0,     -999.0,9,     -999.0
320620170820,        P06,     218,          1,         14,         14,2,20170920,       0736,   -32.4998,   -89.0951,       3374,  1379.5,   3.0704,  34.5520,2,  34.5500,2, 120.0839,2, 118.9179,2,    89.9,2,   38.74,2,    0.00,2,    2.71,2,-999.000,9,-999.000,9,-999.0000,9,  2293.5,2,  2359.9,2,   7.5057,6,    25.00, -999.00,9, -999.00,9, -999.00,  -999.0,9, -999.00,9,     -999.0,9,  -999.0,9, 20170920,      828, -32.5000, -89.0963,        0.0,1,      0.061,1,      4.684,1,      0.137,1,     -999.0,9,     -999.0,9,     -999.0,9,     -999.0,9,     -999.0,9,     -999.0,9,     -999.0,9,     -999.0,9,     -999.0,9,     -999.0,9,     -999.0,9,     3.0595,2,     -999.0,     -999.0,9,     -999.0
320620170820,        P06,     218,          1,         15,         15,2,20170920,       0736,   -32.4998,   -89.0951,       3374,  1270.7,   3.2625,  34.5254,2,  34.5190,2, 116.2424,2, 116.1454,2,    81.7,2,   39.06,2,    0.00,2,    2.73,2,-999.000,9,-999.000,9,-999.0000,9,  2289.5,6,  2349.5,2,   7.4955,2,    25.00, -999.00,9, -999.00,9, -999.00,    38.0,2, -999.00,9,     -999.0,1,  -999.0,9, 20170920,      830, -32.5000, -89.0963,        0.0,1,      0.061,1,      4.684,1,      0.135,1,     -999.0,9,     -999.0,9,     -999.0,9,     -999.0,9,     -999.0,9,     -999.0,9,     -999.0,9,     -999.0,9,     -999.0,9,     -999.0,9,     -999.0,9,     3.2780,2,     -999.0,     -999.0,9,     -999.0
320620170820,        P06,     218,          1,         16,         16,2,20170920,       0736,   -32.4998,   -89.0951,       3374,  1174.7,   3.4170,  34.4870,2,  34.4763,2, 121.9835,2, 121.6526,2,    71.1,2,   38.76,2,    0.00,2,    2.69,2,-999.000,9,-999.000,9,-999.0000,9,  2276.8,2,  2338.5,2,   7.4960,2,    25.00, -999.00,9, -999.00,9, -999.00,    38.8,2, -999.00,9,     -999.0,1,  -999.0,9, 20170920,      833, -32.5000, -89.0963,        0.0,1,      0.061,1,      4.684,1,      0.137,1,     -999.0,9,     -999.0,9,     -999.0,9,     -999.0,9,     -999.0,9,     -999.0,9,     -999.0,9,     -999.0,9,     -999.0,9,     -999.0,9,     -999.0,9,     3.4391,2,     -999.0,     -999.0,9,     -999.0
320620170820,        P06,     218,          1,         17,         17,2,20170920,       0736,   -32.4998,   -89.0951,       3374,  1074.3,   3.5581,  34.4340,2,  34.4210,2, 138.2824,2, 137.7958,2,    58.4,2,   37.64,2,    0.00,2,    2.61,2,-999.000,9,-999.000,9,-999.0000,9,  2255.9,2,  2324.3,2,   7.5132,2,    25.00, -999.00,9, -999.00,9, -999.00,  -999.0,9, -999.00,9,     -999.0,9,  -999.0,9, 20170920,      836, -32.5000, -89.0963,        0.0,1,      0.061,1,      4.685,1,      0.135,1,     -999.0,9,     -999.0,9,     -999.0,9,     -999.0,9,     -999.0,9,     -999.0,9,     -999.0,9,     -999.0,9,     -999.0,9,     -999.0,9,     -999.0,9,     3.6092,2,     -999.0,     -999.0,9,     -999.0
320620170820,        P06,     218,          1,         18,         18,2,20170920,       0736,   -32.4998,   -89.0951,       3374,   973.5,   3.8491,  34.3685,2,  34.3623,2, 159.3679,2, 160.1089,2,    45.2,2,   35.74,2,    0.00,2,    2.45,2,-999.000,9,-999.000,9,-999.0000,9,  2231.8,2,  2308.6,2,   7.5454,2,    25.00, -999.00,9, -999.00,9, -999.00,    39.7,2, -999.00,9,     -999.0,1,  -999.0,9, 20170920,      839, -32.4998, -89.0957,        0.0,1,      0.061,1,      4.685,1,      0.137,1,     -999.0,9,     -999.0,9,     -999.0,9,     -999.0,9,     -999.0,9,     -999.0,9,     -999.0,9,     -999.0,9,     -999.0,9,     -999.0,9,     -999.0,9,     3.8752,2,     -999.0,     -999.0,9,     -999.0
320620170820,        P06,     218,          1,         19,         19,2,20170920,       0736,   -32.4998,   -89.0951,       3374,   872.9,   4.2663,  34.3171,2,  34.3099,2, 182.2707,2, 182.7875,2,    32.3,2,   33.39,2,    0.00,2,    2.28,2,-999.000,9,-999.000,9,-999.0000,9,  2206.6,2,  2297.1,2,   7.5784,2,    25.00, -999.00,9, -999.00,9, -999.00,  -999.0,9, -999.00,9,     -999.0,9,  -999.0,9, 20170920,      842, -32.4998, -89.0957,        0.0,1,      0.060,1,      4.685,1,      0.136,1,     -999.0,9,     -999.0,9,     -999.0,9,     -999.0,9,     -999.0,9,     -999.0,9,     -999.0,9,     -999.0,9,     -999.0,9,     -999.0,9,     -999.0,9,     4.3060,2,     -999.0,     -999.0,9,     -999.0
320620170820,        P06,     218,          1,         20,         20,2,20170920,       0736,   -32.4998,   -89.0951,       3374,   770.9,   4.7895,  34.2718,2,  34.2697,2, 206.0335,2, 205.7972,2,    21.8,2,   30.69,2,    0.00,2,    2.08,2,-999.000,9,-999.000,9,-999.0000,9,  2185.3,2,  2286.7,2,   7.6160,2,    25.00, -999.00,9, -999.00,9, -999.00,    42.0,2, -999.00,9,     -999.0,1,  -999.0,9, 20170920,      845, -32.4998, -89.0956,        0.0,1,      0.059,1,      4.685,1,      0.135,1,     -999.0,9,     -999.0,9,     -999.0,9,     -999.0,9,     -999.0,9,     -999.0,9,     -999.0,9,     -999.0,9,     -999.0,9,     -999.0,9,     -999.0,9,     4.7682,2,     -999.0,     -999.0,9,     -999.0
320620170820,        P06,     218,          1,         21,         21,2,20170920,       0736,   -32.4998,   -89.0951,       3374,   668.8,   5.3118,  34.2540,2,  34.2519,2, 222.1931,2, 221.3452,2,    15.0,2,   28.59,2,    0.00,2,    1.92,2,-999.000,9,-999.000,9,-999.0000,9,  2170.3,2,  2280.7,2,   7.6415,2,    25.00, -999.00,9, -999.00,9, -999.00,  -999.0,9, -999.00,9,     -999.0,9,  -999.0,9, 20170920,      848, -32.4998, -89.0955,        0.0,1,      0.061,1,      4.684,1,      0.138,1,     -999.0,9,     -999.0,9,     -999.0,9,     -999.0,9,     -999.0,9,     -999.0,9,     -999.0,9,     -999.0,9,     -999.0,9,     -999.0,9,     -999.0,9,     5.2197,2,     -999.0,     -999.0,9,     -999.0
320620170820,        P06,     218,          1,         22,         22,2,20170920,       0736,   -32.4998,   -89.0951,       3374,   570.5,   5.7130,  34.2647,2,  34.2558,2, 223.1492,2, 224.7275,2,    11.7,2,   27.40,2,    0.00,2,    1.87,2,-999.000,9,-999.000,9,-999.0000,9,  2164.6,2,  2276.8,2,   7.6492,2,    25.00, -999.00,9, -999.00,9, -999.00,    42.5,2, -999.00,9,     -999.0,1,  -999.0,9, 20170920,      850, -32.4998, -89.0954,        0.0,1,      0.060,1,      4.683,1,      0.141,1,     -999.0,9,     -999.0,9,     -999.0,9,     -999.0,9,     -999.0,9,     -999.0,9,     -999.0,9,     -999.0,9,     -999.0,9,     -999.0,9,     -999.0,9,     5.6202,2,     -999.0,     -999.0,9,     -999.0
320620170820,        P06,     218,          1,         23,         23,2,20170920,       0736,   -32.4998,   -89.0951,       3374,   487.9,   6.0422,  34.2779,2,  34.2674,2,  228.314,2, 226.2373,2,    10.1,2,   26.37,2,    0.00,2,    1.78,2,-999.000,9,-999.000,9,-999.0000,9,  2162.6,6,  2276.4,2,   7.6535,2,    25.00, -999.00,9, -999.00,9, -999.00,    45.8,2, -999.00,9,     -999.0,1,  -999.0,9, 20170920,      853, -32.4998, -89.0953,        0.0,1,      0.060,1,      4.682,1,      0.139,1,     -999.0,9,     -999.0,9,     -999.0,9,     -999.0,9,     -999.0,9,     -999.0,9,     -999.0,9,     -999.0,9,     -999.0,9,     -999.0,9,     -999.0,9,     5.9959,2,     -999.0,     -999.0,9,     -999.0
320620170820,        P06,     218,          1,         24,         24,2,20170920,       0736,   -32.4998,   -89.0951,       3374,   438.6,   6.3614,  34.2981,2,  34.2954,2, 193.8184,2, 195.0212,2,    11.2,2,   28.08,2,    0.00,2,    1.91,2,-999.000,9,-999.000,9,-999.0000,9,  2179.4,2,  2275.6,2,   7.6049,2,    25.00, -999.00,9, -999.00,9, -999.00,    44.4,2, -999.00,9,     -999.0,1,  -999.0,9, 20170920,      855, -32.4998, -89.0953,        0.0,1,      0.061,1,      4.680,1,      0.141,1,     -999.0,9,     -999.0,9,     -999.0,9,     -999.0,9,     -999.0,9,     -999.0,9,     -999.0,9,     -999.0,9,     -999.0,9,     -999.0,9,     -999.0,9,     6.4270,2,     -999.0,     -999.0,9,     -999.0
320620170820,        P06,     218,          1,         25,         25,2,20170920,       0736,   -32.4998,   -89.0951,       3374,   387.5,   6.8061,  34.3069,2,  34.2991,2,  176.936,2, 176.9019,2,    11.2,2,   28.40,2,    0.00,2,    1.97,2,-999.000,9,-999.000,9,-999.0000,9,  2186.8,2,  2274.1,2,   7.5791,2,    25.00, -999.00,9, -999.00,9, -999.00,    42.6,2, -999.00,9,     -999.0,1,  -999.0,9, 20170920,      857, -32.4998, -89.0952,        0.0,1,      0.060,1,      4.680,1,      0.139,1,     -999.0,9,     -999.0,9,     -999.0,9,     -999.0,9,     -999.0,9,     -999.0,9,     -999.0,9,     -999.0,9,     -999.0,9,     -999.0,9,     -999.0,9,     6.8702,2,     -999.0,     -999.0,9,     -999.0
320620170820,        P06,     218,          1,         26,         26,2,20170920,       0736,   -32.4998,   -89.0951,       3374,   338.2,   7.4886,  34.3064,2,  34.2958,2, 154.7504,2, 160.7485,2,    10.9,2,   27.92,2,    0.00,2,    2.00,2,-999.000,9,-999.000,9,-999.0000,9,  2192.7,2,  2273.0,6,   7.5595,2,    25.00, -999.00,9, -999.00,9, -999.00,    43.9,2, -999.00,9,     -999.0,1,  -999.0,9, 20170920,      859, -32.4998, -89.0952,        0.0,1,      0.061,1,      4.679,1,      0.139,1,     -999.0,9,     -999.0,9,     -999.0,9,     -999.0,9,     -999.0,9,     -999.0,9,     -999.0,9,     -999.0,9,     -999.0,9,     -999.0,9,     -999.0,9,     7.5460,2,     -999.0,     -999.0,9,     -999.0