BOTTLE,20240211CCHSIOCBG
EXPOCODE,SECT_ID,STNNBR,CASTNO,SAMPNO,BTLNBR,BTLNBR_FLAG_W,DATE,TIME,LATITUDE,LONGITUDE,DEPTH,CTDPRS,CTDTMP,CTDSAL,CTDSAL_FLAG_W,SALNTY,SALNTY_FLAG_W,CTDOXY,CTDOXY_FLAG_W,OXYGEN,OXYGEN_FLAG_W,SILCAT,SILCAT_FLAG_W,NITRAT,NITRAT_FLAG_W,NITRIT,NITRIT_FLAG_W,PHSPHT,PHSPHT_FLAG_W,CFC-11,CFC-11_FLAG_W,CFC-12,CFC-12_FLAG_W,SF6,SF6_FLAG_W,TCARBN,TCARBN_FLAG_W,ALKALI,ALKALI_FLAG_W,PH_TOT,PH_TOT_FLAG_W,PH_TMP,DELC13,DELC13_FLAG_W,DELC14,DELC14_FLAG_W,C14ERR,DOC,DOC_FLAG_W,TDN,TDN_FLAG_W,TON,TON_FLAG_W,D15N_NO3,D15N_NO3_FLAG_W,BTL_DATE,BTL_TIME,BTL_LAT,BTL_LON,CTDRINKO,CTDRINKO_FLAG_W,CTDFLUOR,CTDFLUOR_FLAG_W,CTDXMISS,CTDXMISS_FLAG_W,CTDBACKSCATTER,CTDBACKSCATTER_FLAG_W,D18O_NO3,D18O_NO3_FLAG_W,DOP,DOP_FLAG_W,CELLCOUNT,CELLCOUNT_FLAG_W,TDP,TDP_FLAG_W,POP,POP_FLAG_W,DATP,DATP_FLAG_W,PATP,PATP_FLAG_W,HPLC,HPLC_FLAG_W,POC,POC_FLAG_W,BEAMAP,BEAMAP_FLAG_W,DOC_NASA,DOC_NASA_FLAG_W,REFTMP,REFTMP_FLAG_W,DOC_NASA_ERROR,TDN_NASA,TDN_NASA_FLAG_W,TDN_NASA_ERROR
,,,,,,,,,,,METERS,DBAR,ITS-90,PSS-78,,PSS-78,,UMOL/KG,,UMOL/KG,,UMOL/KG,,UMOL/KG,,UMOL/KG,,UMOL/KG,,PMOL/KG,,PMOL/KG,,FMOL/KG,,UMOL/KG,,UMOL/KG,,,,DEG C,/MILLE,,/MILLE,,/MILLE,UMOL/KG,,UMOL/KG,,UMOL/KG,,/MILLE,,,,,,VOLTS,,VOLTS,,VOLTS,,VOLTS,,/MILLE,,UMOL/KG,,/LITER,,UMOL/KG,,UMOL/L,,PMOL/L,,PMOL/L,,,,UG/L,,/METER,,UMOL/L,,ITS-90,,UMOL/L,UMOL/L,,UMOL/L
320620170820,        P06,     238,          1,         27,         27,2,20170926,       2343,   -32.4999,   -72.9543,       4672,   366.3,   7.3406,  34.3986,2,  34.3933,2, 101.3951,2,  99.3755,2,    19.2,2,   34.52,2,    0.00,2,    2.46,2,   2.172,2,   1.128,2,   0.5540,2,  2238.2,2,  2281.3,2,   7.4481,2,    25.00, -999.00,9, -999.00,9, -999.00,    44.0,2, -999.00,9,     -999.0,1,  -999.0,9, 20170927,      124, -32.4999, -72.9545,        0.0,1,      0.065,1,      4.662,1,      0.162,1,     -999.0,9,     -999.0,9,     -999.0,9,     -999.0,9,     -999.0,9,     -999.0,9,     -999.0,9,     -999.0,9,     -999.0,9,     -999.0,9,     -999.0,9,     7.2869,2,     -999.0,     -999.0,9,     -999.0
320620170820,        P06,     238,          1,         28,         28,2,20170926,       2343,   -32.4999,   -72.9543,       4672,   316.6,   8.0976,  34.4314,2,  34.4078,2,  75.3979,2,  79.8456,2,    18.9,2,   34.08,2,    0.00,2,    2.54,2,   2.100,2,   1.115,2,   0.3940,2,  -999.0,9,  -999.0,9,-999.0000,9,  -999.00, -999.00,9, -999.00,9, -999.00,    43.3,2, -999.00,9,     -999.0,1,  -999.0,9, 20170927,      126, -32.4999, -72.9544,        0.0,1,      0.065,1,      4.659,1,      0.158,1,     -999.0,9,     -999.0,9,     -999.0,9,     -999.0,9,     -999.0,9,     -999.0,9,     -999.0,9,     -999.0,9,     -999.0,9,     -999.0,9,     -999.0,9,     7.8992,2,     -999.0,     -999.0,9,     -999.0
320620170820,        P06,     238,          1,         29,         29,2,20170926,       2343,   -32.4999,   -72.9543,       4672,   266.9,   8.8386,  34.4770,2,  34.4722,2,  51.0194,2,   48.656,2,    20.8,2,   32.83,2,    0.00,2,    2.64,2,   1.754,2,   0.939,2,   0.4830,2,  -999.0,9,  -999.0,9,-999.0000,9,  -999.00, -999.00,9, -999.00,9, -999.00,    43.3,2,   35.20,2,     -999.0,1,  -999.0,9, 20170927,      128, -32.4999, -72.9545,        0.0,1,      0.066,1,      4.656,1,      0.168,1,     -999.0,9,     -999.0,9,     -999.0,9,     -999.0,9,     -999.0,9,     -999.0,9,     -999.0,9,     -999.0,9,     -999.0,9,     -999.0,9,     -999.0,9,     8.8747,2,     -999.0,     -999.0,9,     -999.0
320620170820,        P06,     238,          1,         30,         30,2,20170926,       2343,   -32.4999,   -72.9543,       4672,   216.8,   9.8148,  34.5445,2,  34.5398,2,  28.4876,2,  29.0511,2,    22.5,2,   29.95,2,    0.00,2,    2.71,2,   1.536,2,   0.846,2,   0.4460,2,  2272.0,2,  2285.5,2,   7.3535,6,    25.00, -999.00,9, -999.00,9, -999.00,    44.6,2,   31.10,2,     -999.0,1,  -999.0,9, 20170927,      130, -32.4999, -72.9545,        0.0,1,      0.066,1,      4.647,1,      0.189,1,     -999.0,9,     -999.0,9,     -999.0,9,     -999.0,9,     -999.0,9,     -999.0,9,     -999.0,9,     -999.0,9,     -999.0,9,     -999.0,9,     -999.0,9,     9.8284,2,     -999.0,     -999.0,9,     -999.0
320620170820,        P06,     238,          1,         31,         31,2,20170926,       2343,   -32.4999,   -72.9543,       4672,   164.9,  10.3595,  34.4750,2,  34.4738,2,  53.8082,2,  53.9728,2,    18.4,2,   26.28,2,    0.01,2,    2.52,2,   2.027,2,   1.141,2,   0.5140,2,  -999.0,9,  -999.0,9,-999.0000,9,  -999.00, -999.00,9, -999.00,9, -999.00,    44.4,2,   28.10,2,     -999.0,1,  -999.0,9, 20170927,      132, -32.4998, -72.9547,        0.0,1,      0.065,1,      4.649,1,      0.177,1,     -999.0,9,     -999.0,9,     -999.0,9,     -999.0,9,     -999.0,9,     -999.0,9,     -999.0,9,     -999.0,9,     -999.0,9,     -999.0,9,     -999.0,9,    10.3493,2,     -999.0,     -999.0,9,     -999.0
320620170820,        P06,     238,          1,         32,         32,2,20170926,       2343,   -32.4999,   -72.9543,       4672,   115.9,  11.2707,  34.3884,2,  34.3813,2,  79.6282,2,  85.0488,2,    13.6,2,   24.59,2,    0.03,2,    2.31,2,   2.361,2,   1.372,2,   0.7840,2,  -999.0,9,  -999.0,9,-999.0000,9,  -999.00, -999.00,9, -999.00,9, -999.00,    45.9,2,   27.20,2,     -999.0,1,  -999.0,9, 20170927,      134, -32.4998, -72.9547,        0.0,1,      0.079,1,      4.623,1,      0.221,1,     -999.0,9,     -999.0,9,     -999.0,9,     -999.0,9,     -999.0,9,     -999.0,9,     -999.0,9,     -999.0,9,     -999.0,9,     -999.0,9,     -999.0,9,    11.0779,2,     -999.0,     -999.0,9,     -999.0
320620170820,        P06,     238,          1,         33,         33,2,20170926,       2343,   -32.4999,   -72.9543,       4672,    84.1,  12.2363,  34.2536,2,  34.3007,2, 186.7057,2, 178.3174,2,     8.1,2,   18.21,2,    0.39,2,    1.80,2,   2.516,2,   1.483,2,   1.3040,2,  2176.7,2,  2276.1,2,   7.6160,2,    25.00, -999.00,9, -999.00,9, -999.00,    48.4,2,   21.10,2,     -999.0,1,  -999.0,9, 20170927,      136, -32.4998, -72.9546,        0.0,1,      0.162,1,      4.553,1,      0.257,1,     -999.0,9,     -999.0,9,     -999.0,9,     -999.0,9,     -999.0,9,     -999.0,9,     -999.0,9,     -999.0,9,     -999.0,9,     -999.0,9,     -999.0,9,    11.9575,2,     -999.0,     -999.0,9,     -999.0
320620170820,        P06,     238,          1,         34,         34,2,20170926,       2343,   -32.4999,   -72.9543,       4672,    60.5,  13.0138,  34.1487,2,  34.1560,2, 252.1952,2, 251.4025,2,     2.2,2,    8.82,2,    0.24,2,    1.03,2,-999.000,9,-999.000,9,-999.0000,9,  -999.0,9,  -999.0,9,-999.0000,9,  -999.00, -999.00,9, -999.00,9, -999.00,    55.2,2,   12.50,2,     -999.0,1,  -999.0,9, 20170927,      137, -32.4999, -72.9545,        0.0,1,      0.288,1,      4.511,1,      0.293,1,     -999.0,9,     -999.0,9,     -999.0,9,     -999.0,9,     -999.0,9,     -999.0,9,     -999.0,9,     -999.0,9,     -999.0,9,     -999.0,9,     -999.0,9,    12.9675,2,     -999.0,     -999.0,9,     -999.0
320620170820,        P06,     238,          1,         35,         35,2,20170926,       2343,   -32.4999,   -72.9543,       4672,    33.8,  13.0518,  34.1412,2,  34.1403,2, 257.2102,2, 258.4705,2,     1.4,2,    7.72,2,    0.22,2,    0.92,2,   2.625,2,   1.516,2,   1.4710,2,  -999.0,9,  -999.0,9,-999.0000,9,  -999.00, -999.00,9, -999.00,9, -999.00,    56.5,2,   11.50,2,     -999.0,1,  -999.0,9, 20170927,      139, -32.4999, -72.9544,        0.0,1,      0.334,1,      4.456,1,      0.314,1,     -999.0,9,     -999.0,9,     -999.0,9,     -999.0,9,     -999.0,9,     -999.0,9,     -999.0,9,     -999.0,9,     -999.0,9,     -999.0,9,     -999.0,9,    13.0349,2,     -999.0,     -999.0,9,     -999.0
320620170820,        P06,     238,          1,         36,         36,2,20170926,       2343,   -32.4999,   -72.9543,       4672,     4.1,  13.0523,  34.1404,2,  34.1417,2, 258.8857,2, 260.5086,2,     1.4,2,    7.67,2,    0.22,2,    0.92,2,   2.761,2,   1.525,2,   1.4310,2,  2087.7,2,  2273.4,2,   7.8389,2,    25.00,    0.95,2,    5.90,2,    4.04,    56.2,2,   12.20,2,     -999.0,1,  -999.0,9, 20170927,      140, -32.4999, -72.9543,        0.0,1,      0.335,1,      4.446,1,      0.284,1,     -999.0,9,     -999.0,9,     -999.0,9,     -999.0,9,     -999.0,9,     -999.0,9,     -999.0,9,     -999.0,9,     -999.0,9,     -999.0,9,     -999.0,9,    12.9608,2,     -999.0,     -999.0,9,     -999.0