BOTTLE,20240211CCHSIOCBG
EXPOCODE,SECT_ID,STNNBR,CASTNO,SAMPNO,BTLNBR,BTLNBR_FLAG_W,DATE,TIME,LATITUDE,LONGITUDE,DEPTH,CTDPRS,CTDTMP,CTDSAL,CTDSAL_FLAG_W,SALNTY,SALNTY_FLAG_W,CTDOXY,CTDOXY_FLAG_W,OXYGEN,OXYGEN_FLAG_W,SILCAT,SILCAT_FLAG_W,NITRAT,NITRAT_FLAG_W,NITRIT,NITRIT_FLAG_W,PHSPHT,PHSPHT_FLAG_W,CFC-11,CFC-11_FLAG_W,CFC-12,CFC-12_FLAG_W,SF6,SF6_FLAG_W,TCARBN,TCARBN_FLAG_W,ALKALI,ALKALI_FLAG_W,PH_TOT,PH_TOT_FLAG_W,PH_TMP,DELC13,DELC13_FLAG_W,DELC14,DELC14_FLAG_W,C14ERR,DOC,DOC_FLAG_W,TDN,TDN_FLAG_W,TON,TON_FLAG_W,D15N_NO3,D15N_NO3_FLAG_W,BTL_DATE,BTL_TIME,BTL_LAT,BTL_LON,CTDRINKO,CTDRINKO_FLAG_W,CTDFLUOR,CTDFLUOR_FLAG_W,CTDXMISS,CTDXMISS_FLAG_W,CTDBACKSCATTER,CTDBACKSCATTER_FLAG_W,D18O_NO3,D18O_NO3_FLAG_W,DOP,DOP_FLAG_W,CELLCOUNT,CELLCOUNT_FLAG_W,TDP,TDP_FLAG_W,POP,POP_FLAG_W,DATP,DATP_FLAG_W,PATP,PATP_FLAG_W,HPLC,HPLC_FLAG_W,POC,POC_FLAG_W,BEAMAP,BEAMAP_FLAG_W,DOC_NASA,DOC_NASA_FLAG_W,REFTMP,REFTMP_FLAG_W,DOC_NASA_ERROR,TDN_NASA,TDN_NASA_FLAG_W,TDN_NASA_ERROR
,,,,,,,,,,,METERS,DBAR,ITS-90,PSS-78,,PSS-78,,UMOL/KG,,UMOL/KG,,UMOL/KG,,UMOL/KG,,UMOL/KG,,UMOL/KG,,PMOL/KG,,PMOL/KG,,FMOL/KG,,UMOL/KG,,UMOL/KG,,,,DEG C,/MILLE,,/MILLE,,/MILLE,UMOL/KG,,UMOL/KG,,UMOL/KG,,/MILLE,,,,,,VOLTS,,VOLTS,,VOLTS,,VOLTS,,/MILLE,,UMOL/KG,,/LITER,,UMOL/KG,,UMOL/L,,PMOL/L,,PMOL/L,,,,UG/L,,/METER,,UMOL/L,,ITS-90,,UMOL/L,UMOL/L,,UMOL/L
320620170820,        P06,     228,          3,          1,          1,2,20170923,       1837,   -32.5003,   -80.1931,       3944,  4002.0,   1.6546,  34.6950,2,  34.6950,2, 164.5693,2, 164.8267,2,   123.9,2,   34.72,2,    0.00,2,    2.41,2,   0.019,2,   0.024,2,-999.0000,5,  2305.0,6,  2401.9,2,   7.5909,2,    25.00, -999.00,9, -999.00,9, -999.00,    36.5,2, -999.00,9,     -999.0,1,  -999.0,1, 20170923,     1837, -32.5008, -80.1938,        0.0,1,      0.061,1,      4.673,1,      0.148,1,     -999.0,1,     -999.0,9,     -999.0,9,     -999.0,9,     -999.0,9,     -999.0,9,     -999.0,9,     -999.0,9,     -999.0,9,     -999.0,9,     -999.0,9,     1.6551,2,     -999.0,     -999.0,9,     -999.0
320620170820,        P06,     228,          3,          2,          2,2,20170923,       1837,   -32.5003,   -80.1931,       3944,  3835.4,   1.6426,  34.6945,2,  34.6950,2, 164.5693,2, 164.8336,2,   124.2,2,   34.72,2,    0.00,2,    2.40,2,   0.015,2,   0.022,2,-999.0000,5,  2304.9,2,  2399.8,2,   7.5903,6,    25.00, -999.00,9, -999.00,9, -999.00,    36.0,2, -999.00,9,     -999.0,1,  -999.0,1, 20170923,     1842, -32.5009, -80.1938,        0.0,1,      0.061,1,      4.679,1,      0.134,1,     -999.0,1,     -999.0,9,     -999.0,9,     -999.0,9,     -999.0,9,     -999.0,9,     -999.0,9,     -999.0,9,     -999.0,9,     -999.0,9,     -999.0,9,     1.6424,2,     -999.0,     -999.0,9,     -999.0
320620170820,        P06,     228,          3,          3,          3,2,20170923,       1837,   -32.5003,   -80.1931,       3944,  3655.7,   1.6552,  34.6931,2,  34.6940,2, 164.3989,2, 164.1613,2,   124.2,2,   34.76,2,    0.00,2,    2.41,2,   0.013,2,   0.019,2,-999.0000,5,  -999.0,9,  -999.0,9,-999.0000,9,  -999.00, -999.00,9, -999.00,9, -999.00,  -999.0,9, -999.00,9,     -999.0,9,  -999.0,1, 20170923,     1847, -32.5008, -80.1938,        0.0,1,      0.061,1,      4.681,1,      0.132,1,     -999.0,1,     -999.0,9,     -999.0,9,     -999.0,9,     -999.0,9,     -999.0,9,     -999.0,9,     -999.0,9,     -999.0,9,     -999.0,9,     -999.0,9,     1.6527,2,     -999.0,     -999.0,9,     -999.0
320620170820,        P06,     228,          3,          4,          4,2,20170923,       1837,   -32.5003,   -80.1931,       3944,  3349.3,   1.7277,  34.6876,2,  34.6877,2, 160.3566,3, 159.1598,2,   124.3,2,   35.06,2,    0.00,2,    2.45,2,   0.013,2,   0.028,2,-999.0000,5,  2306.2,2,  2400.7,2,   7.5819,2,    25.00, -999.00,9, -999.00,9, -999.00,    37.6,2, -999.00,9,     -999.0,1,  -999.0,1, 20170923,     1854, -32.5004, -80.1938,        0.0,1,      0.061,1,      4.682,1,      0.132,1,     -999.0,1,     -999.0,9,     -999.0,9,     -999.0,9,     -999.0,9,     -999.0,9,     -999.0,9,     -999.0,9,     -999.0,9,     -999.0,9,     -999.0,9,     1.7296,2,     -999.0,     -999.0,9,     -999.0
320620170820,        P06,     228,          3,          5,          5,2,20170923,       1837,   -32.5003,   -80.1931,       3944,  3042.1,   1.8027,  34.6801,2,  34.6730,2, 155.0142,2, 155.4012,2,   124.0,2,   35.36,2,    0.00,2,    2.48,2,   0.016,2,   0.024,2,-999.0000,5,  -999.0,9,  -999.0,9,-999.0000,9,  -999.00, -999.00,9, -999.00,9, -999.00,  -999.0,9, -999.00,9,     -999.0,9,  -999.0,1, 20170923,     1901, -32.5003, -80.1936,        0.0,1,      0.061,1,      4.682,1,      0.131,1,     -999.0,1,     -999.0,9,     -999.0,9,     -999.0,9,     -999.0,9,     -999.0,9,     -999.0,9,     -999.0,9,     -999.0,9,     -999.0,9,     -999.0,9,     1.8017,2,     -999.0,     -999.0,9,     -999.0
320620170820,        P06,     228,          3,          6,          6,2,20170923,       1837,   -32.5003,   -80.1931,       3944,  2788.0,   1.8557,  34.6736,2,  34.6732,2, 152.1007,2, 152.2571,2,   122.6,2,   35.55,2,    0.00,2,    2.50,2,   0.012,2,   0.020,2,-999.0000,5,  2308.2,2,  2396.9,6,   7.5695,2,    25.00, -999.00,9, -999.00,9, -999.00,    37.0,2, -999.00,9,     -999.0,1,  -999.0,1, 20170923,     1906, -32.5007, -80.1931,        0.0,1,      0.062,1,      4.682,1,      0.134,1,     -999.0,1,     -999.0,9,     -999.0,9,     -999.0,9,     -999.0,9,     -999.0,9,     -999.0,9,     -999.0,9,     -999.0,9,     -999.0,9,     -999.0,9,     1.8530,2,     -999.0,     -999.0,9,     -999.0
320620170820,        P06,     228,          3,          7,          7,2,20170923,       1837,   -32.5003,   -80.1931,       3944,  2532.0,   1.9357,  34.6644,2,  34.6631,2,    147.1,2, 147.9592,2,   121.3,2,   35.90,2,    0.00,2,    2.53,2,   0.017,2,   0.024,2,-999.0000,5,  -999.0,9,  -999.0,9,-999.0000,9,  -999.00, -999.00,9, -999.00,9, -999.00,    41.0,3, -999.00,9,     -999.0,1,  -999.0,1, 20170923,     1912, -32.5008, -80.1931,        0.0,1,      0.061,1,      4.681,1,      0.135,1,     -999.0,1,     -999.0,9,     -999.0,9,     -999.0,9,     -999.0,9,     -999.0,9,     -999.0,9,     -999.0,9,     -999.0,9,     -999.0,9,     -999.0,9,     1.9364,2,     -999.0,     -999.0,9,     -999.0
320620170820,        P06,     228,          3,          8,          8,2,20170923,       1837,   -32.5003,   -80.1931,       3944,  2277.2,   2.0526,  34.6521,2,  34.6492,2,  141.259,2, 141.7067,2,   118.7,2,   36.42,2,    0.00,2,    2.57,2,   0.024,2,   0.029,2,-999.0000,5,  2310.1,2,  2392.6,2,   7.5504,2,    25.00, -999.00,9, -999.00,9, -999.00,    38.4,2, -999.00,9,     -999.0,1,  -999.0,1, 20170923,     1918, -32.5008, -80.1931,        0.0,1,      0.062,1,      4.682,1,      0.136,1,     -999.0,1,     -999.0,9,     -999.0,9,     -999.0,9,     -999.0,9,     -999.0,9,     -999.0,9,     -999.0,9,     -999.0,9,     -999.0,9,     -999.0,9,     2.0665,2,     -999.0,     -999.0,9,     -999.0
320620170820,        P06,     228,          3,          9,          9,2,20170923,       1837,   -32.5003,   -80.1931,       3944,  2024.0,   2.2508,  34.6337,2,  34.6299,2, 131.9804,2, 132.1742,2,   114.6,2,   37.19,2,    0.00,2,    2.63,2,   0.015,2,   0.022,2,-999.0000,5,  -999.0,9,  -999.0,9,-999.0000,9,  -999.00, -999.00,9, -999.00,9, -999.00,  -999.0,9, -999.00,9,     -999.0,9,  -999.0,1, 20170923,     1924, -32.5009, -80.1931,        0.0,1,      0.063,1,      4.681,1,      0.136,1,     -999.0,1,     -999.0,9,     -999.0,9,     -999.0,9,     -999.0,9,     -999.0,9,     -999.0,9,     -999.0,9,     -999.0,9,     -999.0,9,     -999.0,9,     2.2802,2,     -999.0,     -999.0,9,     -999.0
320620170820,        P06,     228,          3,         10,         10,2,20170923,       1837,   -32.5003,   -80.1931,       3944,  1819.3,   2.4836,  34.6128,2,  34.6097,2, 125.2098,2,  125.023,2,   109.0,2,   37.82,2,    0.00,2,    2.68,2,   0.015,2,   0.022,2,-999.0000,5,  2312.2,2,  2379.5,2,   7.5208,2,    25.00, -999.00,9, -999.00,9, -999.00,    40.2,3, -999.00,9,     -999.0,1,  -999.0,1, 20170923,     1929, -32.5011, -80.1931,        0.0,1,      0.063,1,      4.681,1,      0.137,1,     -999.0,1,     -999.0,9,     -999.0,9,     -999.0,9,     -999.0,9,     -999.0,9,     -999.0,9,     -999.0,9,     -999.0,9,     -999.0,9,     -999.0,9,     2.5017,2,     -999.0,     -999.0,9,     -999.0
320620170820,        P06,     228,          3,         11,         11,2,20170923,       1837,   -32.5003,   -80.1931,       3944,  1617.3,   2.7518,  34.5883,2,  34.5863,2, 118.1491,2, 118.1381,2,   102.0,2,   38.47,2,    0.00,2,    2.72,2,   0.018,2,   0.024,2,-999.0000,5,  -999.0,9,  -999.0,9,-999.0000,9,  -999.00, -999.00,9, -999.00,9, -999.00,  -999.0,9, -999.00,9,     -999.0,9,  -999.0,1, 20170923,     1935, -32.5012, -80.1931,        0.0,1,      0.061,1,      4.680,1,      0.140,1,     -999.0,1,     -999.0,9,     -999.0,9,     -999.0,9,     -999.0,9,     -999.0,9,     -999.0,9,     -999.0,9,     -999.0,9,     -999.0,9,     -999.0,9,     2.7531,2,     -999.0,     -999.0,9,     -999.0
320620170820,        P06,     228,          3,         12,         12,2,20170923,       1837,   -32.5003,   -80.1931,       3944,  1515.5,   2.8870,  34.5760,2,  34.5739,2, 115.9878,2, 115.4267,2,    98.4,2,   38.70,2,    0.00,2,    2.74,2,   0.018,2,   0.024,2,-999.0000,5,  2304.8,2,  2367.5,2,   7.4991,2,    25.00, -999.00,9, -999.00,9, -999.00,    36.1,2, -999.00,9,     -999.0,1,  -999.0,1, 20170923,     1938, -32.5011, -80.1931,        0.0,1,      0.063,1,      4.680,1,      0.138,1,     -999.0,1,     -999.0,9,     -999.0,9,     -999.0,9,     -999.0,9,     -999.0,9,     -999.0,9,     -999.0,9,     -999.0,9,     -999.0,9,     -999.0,9,     2.8912,2,     -999.0,     -999.0,9,     -999.0
320620170820,        P06,     228,          3,         13,         13,2,20170923,       1837,   -32.5003,   -80.1931,       3944,  1413.8,   3.0506,  34.5602,2,  34.5582,2, 112.9027,2, 112.4721,2,    93.6,2,   38.95,2,    0.00,2,    2.75,2,   0.016,2,   0.021,2,-999.0000,5,  2302.8,2,  2362.3,2,   7.4925,2,    25.00, -999.00,9, -999.00,9, -999.00,  -999.0,5, -999.00,9,     -999.0,1,  -999.0,1, 20170923,     1941, -32.5010, -80.1931,        0.0,1,      0.062,1,      4.681,1,      0.141,1,     -999.0,1,     -999.0,9,     -999.0,9,     -999.0,9,     -999.0,9,     -999.0,9,     -999.0,9,     -999.0,9,     -999.0,9,     -999.0,9,     -999.0,9,     3.0470,2,     -999.0,     -999.0,9,     -999.0
320620170820,        P06,     228,          3,         14,         14,2,20170923,       1837,   -32.5003,   -80.1931,       3944,  1210.2,   3.3953,  34.5180,2,  34.5162,2,  110.007,2, 109.0582,2,    81.4,2,   39.31,2,    0.00,2,    2.78,2,   0.028,2,   0.026,2,-999.0000,5,  2292.8,6,  2346.9,2,   7.4823,2,    25.00, -999.00,9, -999.00,9, -999.00,    38.7,2, -999.00,9,     -999.0,1,  -999.0,1, 20170923,     1947, -32.5009, -80.1931,        0.0,1,      0.062,1,      4.680,1,      0.141,1,     -999.0,1,     -999.0,9,     -999.0,9,     -999.0,9,     -999.0,9,     -999.0,9,     -999.0,9,     -999.0,9,     -999.0,9,     -999.0,9,     -999.0,9,     3.3827,2,     -999.0,     -999.0,9,     -999.0
320620170820,        P06,     228,          3,         15,         15,2,20170923,       1837,   -32.5003,   -80.1931,       3944,  1109.4,   3.5999,  34.4808,2,  34.4789,2, 113.8417,2, 113.8325,2,    72.0,2,   39.12,2,    0.00,2,    2.75,2,   0.050,2,   0.037,2,-999.0000,5,  2281.3,2,  2337.1,2,   7.4833,2,    25.00, -999.00,9, -999.00,9, -999.00,    41.0,2, -999.00,9,     -999.0,1,  -999.0,1, 20170923,     1950, -32.5008, -80.1931,        0.0,1,      0.062,1,      4.680,1,      0.141,1,     -999.0,1,     -999.0,9,     -999.0,9,     -999.0,9,     -999.0,9,     -999.0,9,     -999.0,9,     -999.0,9,     -999.0,9,     -999.0,9,     -999.0,9,     3.5799,2,     -999.0,     -999.0,9,     -999.0
320620170820,        P06,     228,          3,         16,         16,2,20170923,       1837,   -32.5003,   -80.1931,       3944,  1009.5,   3.8190,  34.4340,2,  34.4355,2, 123.6541,2, 123.4662,2,    61.2,2,   38.39,2,    0.00,2,    2.69,2,   0.132,2,   0.076,2,-999.0000,5,  2267.2,2,  2325.0,2,   7.4932,2,    25.00, -999.00,9, -999.00,9, -999.00,    41.8,2, -999.00,9,     -999.0,1,  -999.0,1, 20170923,     1953, -32.5007, -80.1931,        0.0,1,      0.062,1,      4.679,1,      0.142,1,     -999.0,1,     -999.0,9,     -999.0,9,     -999.0,9,     -999.0,9,     -999.0,9,     -999.0,9,     -999.0,9,     -999.0,9,     -999.0,9,     -999.0,9,     3.7910,2,     -999.0,     -999.0,9,     -999.0
320620170820,        P06,     228,          3,         17,         17,2,20170923,       1837,   -32.5003,   -80.1931,       3944,   910.5,   4.1491,  34.3851,2,  34.3876,2, 139.1539,2, 138.1552,2,    48.8,2,   37.07,2,    0.00,2,    2.58,2,   0.374,2,   0.181,2,-999.0000,5,  -999.0,9,  -999.0,9,-999.0000,9,  -999.00, -999.00,9, -999.00,9, -999.00,  -999.0,9, -999.00,9,     -999.0,9,  -999.0,1, 20170923,     1956, -32.5005, -80.1931,        0.0,1,      0.060,1,      4.679,1,      0.142,1,     -999.0,1,     -999.0,9,     -999.0,9,     -999.0,9,     -999.0,9,     -999.0,9,     -999.0,9,     -999.0,9,     -999.0,9,     -999.0,9,     -999.0,9,     4.1049,2,     -999.0,     -999.0,9,     -999.0
320620170820,        P06,     228,          3,         18,         18,2,20170923,       1837,   -32.5003,   -80.1931,       3944,   807.4,   4.5269,  34.3344,2,  34.3358,2,  163.217,2, 161.3315,2,    35.8,2,   34.78,2,    0.00,2,    2.40,2,   0.968,2,   0.447,2,-999.0000,5,  2222.0,2,  2297.9,2,   7.5468,2,    25.00, -999.00,9, -999.00,9, -999.00,  -999.0,5, -999.00,9,     -999.0,1,  -999.0,1, 20170923,     1959, -32.5004, -80.1931,        0.0,1,      0.060,1,      4.679,1,      0.144,1,     -999.0,1,     -999.0,9,     -999.0,9,     -999.0,9,     -999.0,9,     -999.0,9,     -999.0,9,     -999.0,9,     -999.0,9,     -999.0,9,     -999.0,9,     4.4715,2,     -999.0,     -999.0,9,     -999.0
320620170820,        P06,     228,          3,         19,         19,2,20170923,       1837,   -32.5003,   -80.1931,       3944,   706.3,   5.0434,  34.2902,2,  34.2850,2, 188.8967,3, 191.6585,2,    22.7,2,   31.54,2,    0.00,2,    2.16,2,   1.966,2,   0.952,2,-999.0000,5,  -999.0,9,  -999.0,9,-999.0000,9,  -999.00, -999.00,9, -999.00,9, -999.00,  -999.0,9, -999.00,9,     -999.0,9,  -999.0,1, 20170923,     2001, -32.5004, -80.1931,        0.0,1,      0.061,1,      4.679,1,      0.143,1,     -999.0,1,     -999.0,9,     -999.0,9,     -999.0,9,     -999.0,9,     -999.0,9,     -999.0,9,     -999.0,9,     -999.0,9,     -999.0,9,     -999.0,9,     4.9460,2,     -999.0,     -999.0,9,     -999.0
320620170820,        P06,     228,          3,         20,         20,2,20170923,       1837,   -32.5003,   -80.1931,       3944,   604.1,   5.6001,  34.2706,2,  34.2742,2,  202.423,2, 202.4262,2,    15.3,2,   29.47,2,    0.00,2,    2.03,2,   3.094,2,   1.407,2,-999.0000,5,  2183.6,2,  2278.6,6,   7.6114,2,    25.00, -999.00,9, -999.00,9, -999.00,    41.3,2, -999.00,9,     -999.0,1,  -999.0,1, 20170923,     2004, -32.5003, -80.1931,        0.0,1,      0.061,1,      4.678,1,      0.149,1,     -999.0,1,     -999.0,9,     -999.0,9,     -999.0,9,     -999.0,9,     -999.0,9,     -999.0,9,     -999.0,9,     -999.0,9,     -999.0,9,     -999.0,9,     5.5477,2,     -999.0,     -999.0,9,     -999.0
320620170820,        P06,     228,          3,         21,         21,2,20170923,       1837,   -32.5003,   -80.1931,       3944,   503.3,   6.3897,  34.3206,2,  34.3017,2, 182.4947,2, 183.5548,2,    14.0,2,   29.76,2,    0.00,2,    2.05,2,   3.180,2,   1.492,2,-999.0000,5,  -999.0,9,  -999.0,9,-999.0000,9,  -999.00, -999.00,9, -999.00,9, -999.00,  -999.0,9, -999.00,9,     -999.0,9,  -999.0,1, 20170923,     2007, -32.5003, -80.1931,        0.0,1,      0.060,1,      4.674,1,      0.152,1,     -999.0,1,     -999.0,9,     -999.0,9,     -999.0,9,     -999.0,9,     -999.0,9,     -999.0,9,     -999.0,9,     -999.0,9,     -999.0,9,     -999.0,9,     6.1689,2,     -999.0,     -999.0,9,     -999.0
320620170820,        P06,     228,          3,         22,         22,2,20170923,       1837,   -32.5003,   -80.1931,       3944,   452.8,   6.8984,  34.3511,2,  34.3317,2,  152.941,2, 151.7553,2,    15.0,2,   31.35,2,    0.00,2,    2.19,2,   2.899,2,   1.363,2,-999.0000,5,  2206.7,2,  2276.1,2,   7.5332,2,    25.00, -999.00,9, -999.00,9, -999.00,    44.2,2, -999.00,9,     -999.0,1,  -999.0,1, 20170923,     2009, -32.5003, -80.1931,        0.0,1,      0.062,1,      4.673,1,      0.151,1,     -999.0,1,     -999.0,9,     -999.0,9,     -999.0,9,     -999.0,9,     -999.0,9,     -999.0,9,     -999.0,9,     -999.0,9,     -999.0,9,     -999.0,9,     6.6839,2,     -999.0,     -999.0,9,     -999.0
320620170820,        P06,     228,          3,         23,         23,2,20170923,       1837,   -32.5003,   -80.1931,       3944,   402.6,   7.7045,  34.4043,2,  34.3855,2,  98.5612,2,   99.907,2,    17.9,2,   33.68,2,    0.00,2,    2.42,2,   2.240,2,   1.124,2,-999.0000,5,  -999.0,9,  -999.0,9,-999.0000,9,  -999.00, -999.00,9, -999.00,9, -999.00,    42.5,2, -999.00,9,     -999.0,1,  -999.0,1, 20170923,     2011, -32.5003, -80.1931,        0.0,1,      0.064,1,      4.669,1,      0.158,1,     -999.0,1,     -999.0,9,     -999.0,9,     -999.0,9,     -999.0,9,     -999.0,9,     -999.0,9,     -999.0,9,     -999.0,9,     -999.0,9,     -999.0,9,     7.4825,2,     -999.0,     -999.0,9,     -999.0
320620170820,        P06,     228,          3,         24,         24,2,20170923,       1837,   -32.5003,   -80.1931,       3944,   329.2,   8.8897,  34.4517,2,  34.4451,2,  60.6681,2,  63.4819,2,    19.1,2,   31.51,2,    0.00,2,    2.52,2,   1.872,2,   1.000,2,-999.0000,5,  2252.6,2,  2277.7,2,   7.4006,2,    25.00, -999.00,9, -999.00,9, -999.00,    44.6,2, -999.00,9,     -999.0,1,  -999.0,1, 20170923,     2014, -32.5003, -80.1931,        0.0,1,      0.064,1,      4.665,1,      0.160,1,     -999.0,1,     -999.0,1,     -999.0,9,     -999.0,9,     -999.0,9,     -999.0,9,     -999.0,9,     -999.0,9,     -999.0,9,     -999.0,9,     -999.0,9,     8.8457,2,     -999.0,     -999.0,9,     -999.0
320620170820,        P06,     228,          3,         25,         25,2,20170923,       1837,   -32.5003,   -80.1931,       3944,   251.0,  10.0459,  34.3724,2,  34.3851,2,  88.2995,2,  91.9057,2,    14.6,2,   25.35,2,    0.00,2,    2.27,2,   2.391,2,   1.269,2,-999.0000,5,  2227.0,2,  2273.8,2,   7.4677,6,    25.00, -999.00,9, -999.00,9, -999.00,    43.6,2,   27.30,2,     -999.0,1,  -999.0,1, 20170923,     2016, -32.5003, -80.1931,        0.0,1,      0.062,1,      4.664,1,      0.163,1,     -999.0,1,     -999.0,1,     -999.0,9,     -999.0,9,     -999.0,9,     -999.0,9,     -999.0,9,     -999.0,9,     -999.0,9,     -999.0,9,     -999.0,9,    10.0128,2,     -999.0,     -999.0,9,     -999.0
320620170820,        P06,     228,          3,         26,         26,2,20170923,       1837,   -32.5003,   -80.1931,       3944,   201.3,  10.8744,  34.1433,2,  34.1615,2, 176.9258,2, 173.6106,2,     4.8,2,   20.72,2,    0.00,2,    1.59,2,   3.071,2,   1.617,2,-999.0000,5,  2154.4,2,  2260.0,2,   7.6414,2,    25.00, -999.00,9, -999.00,9, -999.00,    46.6,2,   22.20,2,     -999.0,1,  -999.0,1, 20170923,     2018, -32.5003, -80.1931,        0.0,1,      0.062,1,      4.666,1,      0.159,1,     -999.0,1,     -999.0,1,     -999.0,1,     -999.0,1,     -999.0,1,     -999.0,1,     -999.0,1,     -999.0,9,     -999.0,9,     -999.0,9,     -999.0,9,    10.8069,2,     -999.0,     -999.0,9,     -999.0