BOTTLE,20240211CCHSIOCBG
EXPOCODE,SECT_ID,STNNBR,CASTNO,SAMPNO,BTLNBR,BTLNBR_FLAG_W,DATE,TIME,LATITUDE,LONGITUDE,DEPTH,CTDPRS,CTDTMP,CTDSAL,CTDSAL_FLAG_W,SALNTY,SALNTY_FLAG_W,CTDOXY,CTDOXY_FLAG_W,OXYGEN,OXYGEN_FLAG_W,SILCAT,SILCAT_FLAG_W,NITRAT,NITRAT_FLAG_W,NITRIT,NITRIT_FLAG_W,PHSPHT,PHSPHT_FLAG_W,CFC-11,CFC-11_FLAG_W,CFC-12,CFC-12_FLAG_W,SF6,SF6_FLAG_W,TCARBN,TCARBN_FLAG_W,ALKALI,ALKALI_FLAG_W,PH_TOT,PH_TOT_FLAG_W,PH_TMP,DELC13,DELC13_FLAG_W,DELC14,DELC14_FLAG_W,C14ERR,DOC,DOC_FLAG_W,TDN,TDN_FLAG_W,TON,TON_FLAG_W,D15N_NO3,D15N_NO3_FLAG_W,BTL_DATE,BTL_TIME,BTL_LAT,BTL_LON,CTDRINKO,CTDRINKO_FLAG_W,CTDFLUOR,CTDFLUOR_FLAG_W,CTDXMISS,CTDXMISS_FLAG_W,CTDBACKSCATTER,CTDBACKSCATTER_FLAG_W,D18O_NO3,D18O_NO3_FLAG_W,DOP,DOP_FLAG_W,CELLCOUNT,CELLCOUNT_FLAG_W,TDP,TDP_FLAG_W,POP,POP_FLAG_W,DATP,DATP_FLAG_W,PATP,PATP_FLAG_W,HPLC,HPLC_FLAG_W,POC,POC_FLAG_W,BEAMAP,BEAMAP_FLAG_W,DOC_NASA,DOC_NASA_FLAG_W,REFTMP,REFTMP_FLAG_W,DOC_NASA_ERROR,TDN_NASA,TDN_NASA_FLAG_W,TDN_NASA_ERROR
,,,,,,,,,,,METERS,DBAR,ITS-90,PSS-78,,PSS-78,,UMOL/KG,,UMOL/KG,,UMOL/KG,,UMOL/KG,,UMOL/KG,,UMOL/KG,,PMOL/KG,,PMOL/KG,,FMOL/KG,,UMOL/KG,,UMOL/KG,,,,DEG C,/MILLE,,/MILLE,,/MILLE,UMOL/KG,,UMOL/KG,,UMOL/KG,,/MILLE,,,,,,VOLTS,,VOLTS,,VOLTS,,VOLTS,,/MILLE,,UMOL/KG,,/LITER,,UMOL/KG,,UMOL/L,,PMOL/L,,PMOL/L,,,,UG/L,,/METER,,UMOL/L,,ITS-90,,UMOL/L,UMOL/L,,UMOL/L
320620170820,        P06,     226,          1,          1,          1,2,20170923,       0211,   -32.4995,   -81.9755,       3940,  3996.3,   1.6594,  34.6949,2,  34.6952,2, 164.4679,2, 164.6285,2,   123.8,2,   34.67,2,    0.00,2,    2.40,2,   0.016,2,   0.015,2,   0.0000,4,  2304.1,6,  2401.7,2,   7.5898,2,    25.00, -999.00,9, -999.00,9, -999.00,    37.2,2, -999.00,9,     -999.0,1,  -999.0,9, 20170923,      211, -32.5001, -81.9763,        0.0,1,      0.061,1,      4.674,1,      0.144,1,     -999.0,9,     -999.0,9,     -999.0,9,     -999.0,9,     -999.0,9,     -999.0,9,     -999.0,9,     -999.0,9,     -999.0,9,     -999.0,9,     -999.0,9,     1.6597,2,     -999.0,     -999.0,9,     -999.0
320620170820,        P06,     226,          1,          2,          2,2,20170923,       0211,   -32.4995,   -81.9755,       3940,  3876.5,   1.6473,  34.6951,2,  34.6944,2, 164.4679,2, 164.6579,2,   123.4,2,   34.68,2,    0.00,2,    2.41,2,   0.014,2,   0.015,2,   0.0000,4,  2303.7,2,  2402.6,2,   7.5908,2,    25.00, -999.00,9, -999.00,9, -999.00,    36.1,2, -999.00,9,     -999.0,1,  -999.0,9, 20170923,      214, -32.5001, -81.9763,        0.0,1,      0.062,1,      4.679,1,      0.136,1,     -999.0,9,     -999.0,9,     -999.0,9,     -999.0,9,     -999.0,9,     -999.0,9,     -999.0,9,     -999.0,9,     -999.0,9,     -999.0,9,     -999.0,9,     1.6475,2,     -999.0,     -999.0,9,     -999.0
320620170820,        P06,     226,          1,          3,          3,2,20170923,       0211,   -32.4995,   -81.9755,       3940,  3759.1,   1.6433,  34.6946,2,  34.6940,2, 164.5448,2, 164.8837,2,   123.5,2,   34.70,2,    0.00,2,    2.40,2,   0.014,2,   0.018,2,   0.0000,4,  -999.0,9,  -999.0,9,-999.0000,9,  -999.00, -999.00,9, -999.00,9, -999.00,  -999.0,9, -999.00,9,     -999.0,9,  -999.0,9, 20170923,      217, -32.5001, -81.9763,        0.0,1,      0.061,1,      4.681,1,      0.131,1,     -999.0,9,     -999.0,9,     -999.0,9,     -999.0,9,     -999.0,9,     -999.0,9,     -999.0,9,     -999.0,9,     -999.0,9,     -999.0,9,     -999.0,9,     1.6442,2,     -999.0,     -999.0,9,     -999.0
320620170820,        P06,     226,          1,          4,          4,2,20170923,       0211,   -32.4995,   -81.9755,       3940,  3452.0,   1.6836,  34.6910,2,  34.6903,2, 163.2947,2, 162.4181,2,   123.2,2,   34.86,2,    0.00,2,    2.43,2,   0.015,2,   0.020,2,   0.0000,4,  2303.7,2,  2400.0,2,   7.5851,6,    25.00, -999.00,9, -999.00,9, -999.00,    34.3,2, -999.00,9,     -999.0,1,  -999.0,9, 20170923,      223, -32.5002, -81.9763,        0.0,1,      0.061,1,      4.683,1,      0.130,1,     -999.0,9,     -999.0,9,     -999.0,9,     -999.0,9,     -999.0,9,     -999.0,9,     -999.0,9,     -999.0,9,     -999.0,9,     -999.0,9,     -999.0,9,     1.6858,2,     -999.0,     -999.0,9,     -999.0
320620170820,        P06,     226,          1,          5,          5,2,20170923,       0211,   -32.4995,   -81.9755,       3940,  3145.4,   1.7742,  34.6832,2,  34.6824,2, 156.8396,2, 156.1778,2,   124.1,2,   35.28,2,    0.00,2,    2.47,2,   0.013,2,   0.016,2,   0.0000,4,  -999.0,9,  -999.0,9,-999.0000,9,  -999.00, -999.00,9, -999.00,9, -999.00,  -999.0,9, -999.00,9,     -999.0,9,  -999.0,9, 20170923,      229, -32.5003, -81.9764,        0.0,1,      0.061,1,      4.683,1,      0.131,1,     -999.0,9,     -999.0,9,     -999.0,9,     -999.0,9,     -999.0,9,     -999.0,9,     -999.0,9,     -999.0,9,     -999.0,9,     -999.0,9,     -999.0,9,     1.7784,2,     -999.0,     -999.0,9,     -999.0
320620170820,        P06,     226,          1,          6,          6,2,20170923,       0211,   -32.4995,   -81.9755,       3940,  2874.3,   1.8349,  34.6763,2,  34.6747,2, 152.7096,2, 153.0172,2,   122.7,2,   35.46,2,    0.00,2,    2.48,2,   0.015,2,   0.018,2,   0.0000,4,  2307.2,2,  2398.4,2,   7.5720,2,    25.00, -999.00,9, -999.00,9, -999.00,    37.4,2, -999.00,9,     -999.0,1,  -999.0,9, 20170923,      235, -32.5005, -81.9765,        0.0,1,      0.061,1,      4.682,1,      0.132,1,     -999.0,9,     -999.0,9,     -999.0,9,     -999.0,9,     -999.0,9,     -999.0,9,     -999.0,9,     -999.0,9,     -999.0,9,     -999.0,9,     -999.0,9,     1.8397,2,     -999.0,     -999.0,9,     -999.0
320620170820,        P06,     226,          1,          7,          7,2,20170923,       0211,   -32.4995,   -81.9755,       3940,  2618.7,   1.8956,  34.6687,2,  34.6671,2, 149.9064,2, 150.5398,2,   121.5,2,   35.66,2,    0.00,2,    2.52,2,   0.014,2,   0.019,2,   0.0000,4,  -999.0,9,  -999.0,9,-999.0000,9,  -999.00, -999.00,9, -999.00,9, -999.00,  -999.0,9, -999.00,9,     -999.0,9,  -999.0,9, 20170923,      241, -32.5006, -81.9765,        0.0,1,      0.061,1,      4.682,1,      0.134,1,     -999.0,9,     -999.0,9,     -999.0,9,     -999.0,9,     -999.0,9,     -999.0,9,     -999.0,9,     -999.0,9,     -999.0,9,     -999.0,9,     -999.0,9,     1.8981,2,     -999.0,     -999.0,9,     -999.0
320620170820,        P06,     226,          1,          8,          8,2,20170923,       0211,   -32.4995,   -81.9755,       3940,  2363.6,   2.0114,  34.6562,2,  34.6553,2, 144.5142,2,  144.474,2,   119.3,2,   36.06,2,    0.00,2,    2.55,2,   0.013,2,   0.017,2,   0.0000,4,  2308.0,2,  2394.6,2,   7.5574,2,    25.00, -999.00,9, -999.00,9, -999.00,    33.0,2, -999.00,9,     -999.0,1,  -999.0,9, 20170923,      246, -32.5006, -81.9765,        0.0,1,      0.063,1,      4.682,1,      0.135,1,     -999.0,9,     -999.0,9,     -999.0,9,     -999.0,9,     -999.0,9,     -999.0,9,     -999.0,9,     -999.0,9,     -999.0,9,     -999.0,9,     -999.0,9,     2.0086,2,     -999.0,     -999.0,9,     -999.0
320620170820,        P06,     226,          1,          9,          9,2,20170923,       0211,   -32.4995,   -81.9755,       3940,  2112.3,   2.1883,  34.6393,2,  34.6372,2, 135.9988,2, 136.5669,2,   115.7,2,   36.74,2,    0.00,2,    2.60,2,   0.014,2,   0.020,2,   0.0000,4,  -999.0,9,  -999.0,9,-999.0000,9,  -999.00, -999.00,9, -999.00,9, -999.00,  -999.0,9, -999.00,9,     -999.0,9,  -999.0,9, 20170923,      252, -32.5007, -81.9765,        0.0,1,      0.062,1,      4.682,1,      0.137,1,     -999.0,9,     -999.0,9,     -999.0,9,     -999.0,9,     -999.0,9,     -999.0,9,     -999.0,9,     -999.0,9,     -999.0,9,     -999.0,9,     -999.0,9,     2.1929,2,     -999.0,     -999.0,9,     -999.0
320620170820,        P06,     226,          1,         10,         10,2,20170923,       0211,   -32.4995,   -81.9755,       3940,  1885.9,   2.3923,  34.6199,2,  34.6193,2, 129.2392,2, 129.7036,2,   111.1,2,   37.35,2,    0.00,2,    2.66,2,   0.014,2,   0.021,2,   0.0000,4,  2310.3,2,  2384.5,6,   7.5291,2,    25.00, -999.00,9, -999.00,9, -999.00,    37.2,2, -999.00,9,     -999.0,1,  -999.0,9, 20170923,      257, -32.5008, -81.9764,        0.0,1,      0.061,1,      4.682,1,      0.137,1,     -999.0,9,     -999.0,9,     -999.0,9,     -999.0,9,     -999.0,9,     -999.0,9,     -999.0,9,     -999.0,9,     -999.0,9,     -999.0,9,     -999.0,9,     2.3830,2,     -999.0,     -999.0,9,     -999.0
320620170820,        P06,     226,          1,         11,         11,2,20170923,       0211,   -32.4995,   -81.9755,       3940,  1754.6,   2.5448,  34.6067,2,  34.6050,2, 124.7398,2, 124.2811,2,   106.7,2,   37.79,2,    0.00,2,    2.69,2,   0.014,2,   0.022,2,   0.0000,4,  -999.0,9,  -999.0,9,-999.0000,9,  -999.00, -999.00,9, -999.00,9, -999.00,  -999.0,9, -999.00,9,     -999.0,9,  -999.0,9, 20170923,      300, -32.5008, -81.9764,        0.0,1,      0.062,1,      4.681,1,      0.137,1,     -999.0,9,     -999.0,9,     -999.0,9,     -999.0,9,     -999.0,9,     -999.0,9,     -999.0,9,     -999.0,9,     -999.0,9,     -999.0,9,     -999.0,9,     2.5189,2,     -999.0,     -999.0,9,     -999.0
320620170820,        P06,     226,          1,         12,         12,2,20170923,       0211,   -32.4995,   -81.9755,       3940,  1652.8,   2.6746,  34.5940,2,  34.5965,2, 122.0051,2, 122.2156,2,   104.0,2,   37.99,2,    0.00,2,    2.70,2,   0.015,2,   0.021,2,   0.0000,4,  2306.8,2,  2375.3,2,   7.5147,2,    25.00, -999.00,9, -999.00,9, -999.00,    37.0,2, -999.00,9,     -999.0,1,  -999.0,9, 20170923,      303, -32.5008, -81.9764,        0.0,1,      0.063,1,      4.681,1,      0.136,1,     -999.0,9,     -999.0,9,     -999.0,9,     -999.0,9,     -999.0,9,     -999.0,9,     -999.0,9,     -999.0,9,     -999.0,9,     -999.0,9,     -999.0,9,     2.6497,2,     -999.0,     -999.0,9,     -999.0
320620170820,        P06,     226,          1,         13,         13,2,20170923,       0211,   -32.4995,   -81.9755,       3940,  1551.6,   2.8232,  34.5812,2,  34.5828,2, 118.9052,2, 118.7533,2,   100.3,2,   38.30,2,    0.00,2,    2.73,2,   0.013,2,   0.019,2,   0.0000,4,  -999.0,9,  -999.0,9,-999.0000,9,  -999.00, -999.00,9, -999.00,9, -999.00,  -999.0,9, -999.00,9,     -999.0,9,  -999.0,9, 20170923,      305, -32.5008, -81.9763,        0.0,1,      0.063,1,      4.681,1,      0.141,1,     -999.0,9,     -999.0,9,     -999.0,9,     -999.0,9,     -999.0,9,     -999.0,9,     -999.0,9,     -999.0,9,     -999.0,9,     -999.0,9,     -999.0,9,     2.8014,2,     -999.0,     -999.0,9,     -999.0
320620170820,        P06,     226,          1,         14,         14,2,20170923,       0211,   -32.4995,   -81.9755,       3940,  1448.8,   2.9832,  34.5658,2,  34.5655,2, 113.7533,2, 113.5625,2,    95.4,2,   38.74,2,    0.00,2,    2.76,2,   0.016,2,   0.021,2,   0.0000,4,  -999.0,9,  -999.0,9,-999.0000,9,  -999.00, -999.00,9, -999.00,9, -999.00,  -999.0,9, -999.00,9,     -999.0,9,  -999.0,9, 20170923,      308, -32.5008, -81.9763,        0.0,1,      0.063,1,      4.681,1,      0.139,1,     -999.0,9,     -999.0,9,     -999.0,9,     -999.0,9,     -999.0,9,     -999.0,9,     -999.0,9,     -999.0,9,     -999.0,9,     -999.0,9,     -999.0,9,     2.9718,2,     -999.0,     -999.0,9,     -999.0
320620170820,        P06,     226,          1,         15,         15,2,20170923,       0211,   -32.4995,   -81.9755,       3940,  1348.0,   3.1528,  34.5452,2,  34.5445,2, 111.5616,2, 111.3472,2,    89.4,2,   38.97,2,    0.00,2,    2.77,2,   0.017,2,   0.021,2,   0.0000,4,  2299.0,2,  2358.9,2,   7.4906,2,    25.00, -999.00,9, -999.00,9, -999.00,    37.2,2, -999.00,9,     -999.0,1,  -999.0,9, 20170923,      311, -32.5008, -81.9763,        0.0,1,      0.062,1,      4.680,1,      0.142,1,     -999.0,9,     -999.0,9,     -999.0,9,     -999.0,9,     -999.0,9,     -999.0,9,     -999.0,9,     -999.0,9,     -999.0,9,     -999.0,9,     -999.0,9,     3.1509,2,     -999.0,     -999.0,9,     -999.0
320620170820,        P06,     226,          1,         16,         16,2,20170923,       0211,   -32.4995,   -81.9755,       3940,  1247.2,   3.3416,  34.5207,2,  34.5231,2, 110.8468,2, 110.7298,2,    83.1,2,   39.14,2,    0.00,2,    2.78,2,   0.025,2,   0.028,2,   0.0000,4,  2294.4,6,  2351.5,2,   7.4840,2,    25.00, -999.00,9, -999.00,9, -999.00,    37.3,2, -999.00,9,     -999.0,1,  -999.0,9, 20170923,      314, -32.5008, -81.9762,        0.0,1,      0.062,1,      4.680,1,      0.144,1,     -999.0,9,     -999.0,9,     -999.0,9,     -999.0,9,     -999.0,9,     -999.0,9,     -999.0,9,     -999.0,9,     -999.0,9,     -999.0,9,     -999.0,9,     3.3169,2,     -999.0,     -999.0,9,     -999.0
320620170820,        P06,     226,          1,         17,         17,2,20170923,       0211,   -32.4995,   -81.9755,       3940,  1145.1,   3.5298,  34.4836,2,  34.4856,2, 114.4231,2, 113.9911,2,    73.2,2,   38.99,2,    0.00,2,    2.76,2,   0.047,2,   0.037,2,   0.0000,4,  2284.3,2,  2340.2,2,   7.4857,2,    25.00, -999.00,9, -999.00,9, -999.00,    36.3,2, -999.00,9,     -999.0,1,  -999.0,9, 20170923,      316, -32.5006, -81.9760,        0.0,1,      0.063,1,      4.680,1,      0.141,1,     -999.0,9,     -999.0,9,     -999.0,9,     -999.0,9,     -999.0,9,     -999.0,9,     -999.0,9,     -999.0,9,     -999.0,9,     -999.0,9,     -999.0,9,     3.5141,2,     -999.0,     -999.0,9,     -999.0
320620170820,        P06,     226,          1,         18,         18,2,20170923,       0211,   -32.4995,   -81.9755,       3940,  1044.0,   3.7636,  34.4433,2,  34.4459,2, 122.2683,2,  121.243,2,    63.1,2,   38.47,2,    0.00,2,    2.71,2,   0.126,2,   0.072,2,   0.0000,4,  -999.0,9,  -999.0,9,-999.0000,9,  -999.00, -999.00,9, -999.00,9, -999.00,  -999.0,9, -999.00,9,     -999.0,9,  -999.0,9, 20170923,      319, -32.5006, -81.9760,        0.0,1,      0.062,1,      4.679,1,      0.143,1,     -999.0,9,     -999.0,9,     -999.0,9,     -999.0,9,     -999.0,9,     -999.0,9,     -999.0,9,     -999.0,9,     -999.0,9,     -999.0,9,     -999.0,9,     3.7516,2,     -999.0,     -999.0,9,     -999.0
320620170820,        P06,     226,          1,         19,         19,2,20170923,       0211,   -32.4995,   -81.9755,       3940,   942.6,   4.0668,  34.3905,2,  34.3894,2, 140.2197,2, 139.7307,2,    48.6,2,   36.89,2,    0.00,2,    2.59,2,   0.397,2,   0.196,2,   0.0000,4,  2246.1,2,  2312.6,2,   7.5150,2,    25.00, -999.00,9, -999.00,9, -999.00,    38.8,2, -999.00,9,     -999.0,1,  -999.0,9, 20170923,      322, -32.5005, -81.9760,        0.0,1,      0.061,1,      4.680,1,      0.142,1,     -999.0,9,     -999.0,9,     -999.0,9,     -999.0,9,     -999.0,9,     -999.0,9,     -999.0,9,     -999.0,9,     -999.0,9,     -999.0,9,     -999.0,9,     4.0756,2,     -999.0,     -999.0,9,     -999.0
320620170820,        P06,     226,          1,         20,         20,2,20170923,       0211,   -32.4995,   -81.9755,       3940,   841.2,   4.5378,  34.3461,2,  34.3464,2, 155.7256,2, 155.7649,2,    37.2,2,   35.21,2,    0.00,2,    2.45,2,   0.897,2,   0.375,2,   0.2200,4,  2225.5,2,  2300.9,2,   7.5393,2,    25.00, -999.00,9, -999.00,9, -999.00,    45.9,3, -999.00,9,     -999.0,1,  -999.0,9, 20170923,      325, -32.5004, -81.9761,        0.0,1,      0.061,1,      4.679,1,      0.144,1,     -999.0,9,     -999.0,9,     -999.0,9,     -999.0,9,     -999.0,9,     -999.0,9,     -999.0,9,     -999.0,9,     -999.0,9,     -999.0,9,     -999.0,9,     4.4720,2,     -999.0,     -999.0,9,     -999.0
320620170820,        P06,     226,          1,         21,         21,2,20170923,       0211,   -32.4995,   -81.9755,       3940,   740.5,   4.9198,  34.2853,2,  34.2846,2, 190.7286,2, 191.8234,2,    22.9,2,   31.50,2,    0.00,2,    2.17,2,   2.135,2,   0.995,2,   0.4440,4,  -999.0,9,  -999.0,9,-999.0000,9,  -999.00, -999.00,9, -999.00,9, -999.00,  -999.0,9, -999.00,9,     -999.0,9,  -999.0,9, 20170923,      328, -32.5004, -81.9761,        0.0,1,      0.061,1,      4.675,1,      0.142,1,     -999.0,9,     -999.0,9,     -999.0,9,     -999.0,9,     -999.0,9,     -999.0,9,     -999.0,9,     -999.0,9,     -999.0,9,     -999.0,9,     -999.0,9,     4.9513,2,     -999.0,     -999.0,9,     -999.0
320620170820,        P06,     226,          1,         22,         22,2,20170923,       0211,   -32.4995,   -81.9755,       3940,   639.5,   5.3485,  34.2485,2,  34.2468,2, 216.7756,3,  225.877,2,    13.5,2,   27.85,2,    0.00,2,    1.90,2,   3.459,2,   1.642,2,   0.6690,4,  2170.6,2,  2280.1,6,   7.6442,2,    25.00, -999.00,9, -999.00,9, -999.00,    41.2,2, -999.00,9,     -999.0,1,  -999.0,9, 20170923,      330, -32.5003, -81.9761,        0.0,1,      0.060,1,      4.681,1,      0.151,1,     -999.0,9,     -999.0,9,     -999.0,9,     -999.0,9,     -999.0,9,     -999.0,9,     -999.0,9,     -999.0,9,     -999.0,9,     -999.0,9,     -999.0,9,     5.3253,2,     -999.0,     -999.0,9,     -999.0
320620170820,        P06,     226,          1,         23,         23,2,20170923,       0211,   -32.4995,   -81.9755,       3940,   539.0,   5.8178,  34.2598,2,  34.2632,2, 219.7084,3, 228.4283,2,    10.4,2,   26.47,2,    0.00,2,    1.81,2,   3.732,6,   1.854,6,   0.7750,4,  -999.0,9,  -999.0,9,-999.0000,9,  -999.00, -999.00,9, -999.00,9, -999.00,  -999.0,9, -999.00,9,     -999.0,9,  -999.0,9, 20170923,      333, -32.5001, -81.9761,        0.0,1,      0.060,1,      4.679,1,      0.145,1,     -999.0,9,     -999.0,9,     -999.0,9,     -999.0,9,     -999.0,9,     -999.0,9,     -999.0,9,     -999.0,9,     -999.0,9,     -999.0,9,     -999.0,9,     5.8528,2,     -999.0,     -999.0,9,     -999.0
320620170820,        P06,     226,          1,         24,         24,2,20170923,       0211,   -32.4995,   -81.9755,       3940,   467.6,   6.2632,  34.2873,2,  34.2809,2, 193.9637,3, 204.1604,2,    10.8,2,   27.51,2,    0.00,2,    1.91,2,   3.590,2,   1.750,2,   0.8280,4,  2177.9,2,  2274.0,2,   7.6155,2,    25.00, -999.00,9, -999.00,9, -999.00,    42.7,2, -999.00,9,     -999.0,1,  -999.0,9, 20170923,      335, -32.5000, -81.9761,        0.0,1,      0.061,1,      4.678,1,      0.146,1,     -999.0,9,     -999.0,9,     -999.0,9,     -999.0,9,     -999.0,9,     -999.0,9,     -999.0,9,     -999.0,9,     -999.0,9,     -999.0,9,     -999.0,9,     6.3026,2,     -999.0,     -999.0,9,     -999.0
320620170820,        P06,     226,          1,         25,         25,2,20170923,       0211,   -32.4995,   -81.9755,       3940,   417.0,   6.8760,  34.3166,2,  34.3046,2, 166.1961,2, 165.8401,2,    12.4,2,   29.33,2,    0.00,2,    2.07,2,   3.312,2,   1.586,2,   0.8240,4,  2196.3,2,  2274.7,2,   7.5562,2,    25.00, -999.00,9, -999.00,9, -999.00,    42.9,2, -999.00,9,     -999.0,1,  -999.0,9, 20170923,      337, -32.4999, -81.9761,        0.0,1,      0.061,1,      4.675,1,      0.150,1,     -999.0,9,     -999.0,9,     -999.0,9,     -999.0,9,     -999.0,9,     -999.0,9,     -999.0,9,     -999.0,9,     -999.0,9,     -999.0,9,     -999.0,9,     6.8980,2,     -999.0,     -999.0,9,     -999.0
320620170820,        P06,     226,          1,         26,         26,2,20170923,       0211,   -32.4995,   -81.9755,       3940,   366.7,   8.2867,  34.4567,2,  34.4475,2,  57.0899,2,  58.2565,2,    20.6,2,   34.69,2,    0.00,2,    2.63,2,   1.808,2,   0.876,2,   0.3660,4,  2259.2,2,  2282.0,2,   7.3872,2,    25.00, -999.00,9, -999.00,9, -999.00,    42.9,2, -999.00,9,     -999.0,1,  -999.0,9, 20170923,      339, -32.4998, -81.9759,        0.0,1,      0.065,1,      4.664,1,      0.178,1,     -999.0,9,     -999.0,9,     -999.0,9,     -999.0,9,     -999.0,9,     -999.0,9,     -999.0,9,     -999.0,9,     -999.0,9,     -999.0,9,     -999.0,9,     8.2520,2,     -999.0,     -999.0,9,     -999.0