BOTTLE,20240211CCHSIOCBG
EXPOCODE,SECT_ID,STNNBR,CASTNO,SAMPNO,BTLNBR,BTLNBR_FLAG_W,DATE,TIME,LATITUDE,LONGITUDE,DEPTH,CTDPRS,CTDTMP,CTDSAL,CTDSAL_FLAG_W,SALNTY,SALNTY_FLAG_W,CTDOXY,CTDOXY_FLAG_W,OXYGEN,OXYGEN_FLAG_W,SILCAT,SILCAT_FLAG_W,NITRAT,NITRAT_FLAG_W,NITRIT,NITRIT_FLAG_W,PHSPHT,PHSPHT_FLAG_W,CFC-11,CFC-11_FLAG_W,CFC-12,CFC-12_FLAG_W,SF6,SF6_FLAG_W,TCARBN,TCARBN_FLAG_W,ALKALI,ALKALI_FLAG_W,PH_TOT,PH_TOT_FLAG_W,PH_TMP,DELC13,DELC13_FLAG_W,DELC14,DELC14_FLAG_W,C14ERR,DOC,DOC_FLAG_W,TDN,TDN_FLAG_W,TON,TON_FLAG_W,D15N_NO3,D15N_NO3_FLAG_W,BTL_DATE,BTL_TIME,BTL_LAT,BTL_LON,CTDRINKO,CTDRINKO_FLAG_W,CTDFLUOR,CTDFLUOR_FLAG_W,CTDXMISS,CTDXMISS_FLAG_W,CTDBACKSCATTER,CTDBACKSCATTER_FLAG_W,D18O_NO3,D18O_NO3_FLAG_W,DOP,DOP_FLAG_W,CELLCOUNT,CELLCOUNT_FLAG_W,TDP,TDP_FLAG_W,POP,POP_FLAG_W,DATP,DATP_FLAG_W,PATP,PATP_FLAG_W,HPLC,HPLC_FLAG_W,POC,POC_FLAG_W,BEAMAP,BEAMAP_FLAG_W,DOC_NASA,DOC_NASA_FLAG_W,REFTMP,REFTMP_FLAG_W,DOC_NASA_ERROR,TDN_NASA,TDN_NASA_FLAG_W,TDN_NASA_ERROR
,,,,,,,,,,,METERS,DBAR,ITS-90,PSS-78,,PSS-78,,UMOL/KG,,UMOL/KG,,UMOL/KG,,UMOL/KG,,UMOL/KG,,UMOL/KG,,PMOL/KG,,PMOL/KG,,FMOL/KG,,UMOL/KG,,UMOL/KG,,,,DEG C,/MILLE,,/MILLE,,/MILLE,UMOL/KG,,UMOL/KG,,UMOL/KG,,/MILLE,,,,,,VOLTS,,VOLTS,,VOLTS,,VOLTS,,/MILLE,,UMOL/KG,,/LITER,,UMOL/KG,,UMOL/L,,PMOL/L,,PMOL/L,,,,UG/L,,/METER,,UMOL/L,,ITS-90,,UMOL/L,UMOL/L,,UMOL/L
320620170820,        P06,     152,          3,          1,          1,2,20170828,       2100,   -32.5051,  -142.2516,       5091,  5179.9,   1.3400,  34.7063,2,  34.7076,3, 195.6966,2, 196.6792,2,   120.0,2,   32.62,2,    0.00,2,    2.25,2,   0.030,2,   0.018,2,   0.0000,2,  2273.3,6,  2377.4,2,   7.6091,2,    25.00, -999.00,9, -999.00,9, -999.00,    40.5,2, -999.00,9,     -999.0,1,  -999.0,1, 20170828,     2100, -32.5055,-142.2520,        0.0,1,      0.061,1,      4.693,1,      0.121,1,     -999.0,1,     -999.0,9,     -999.0,9,     -999.0,9,     -999.0,9,     -999.0,9,     -999.0,9,     -999.0,9,     -999.0,9,     -999.0,9,     -999.0,9,     1.3407,2,     -999.0,     -999.0,9,     -999.0
320620170820,        P06,     152,          3,          2,          2,2,20170828,       2100,   -32.5051,  -142.2516,       5091,  4991.2,   1.3171,  34.7067,2,  34.7076,3, 195.6966,2, 195.7523,2,   120.2,2,   32.64,2,    0.00,2,    2.26,2,   0.034,2,   0.024,2,   0.0000,2,  2272.4,2,  2379.5,2,   7.6083,2,    25.00, -999.00,9, -999.00,9, -999.00,  -999.0,9, -999.00,9,     -999.0,9,  -999.0,1, 20170828,     2108, -32.5056,-142.2520,        0.0,1,      0.061,1,      4.694,1,      0.123,1,     -999.0,1,     -999.0,9,     -999.0,9,     -999.0,9,     -999.0,9,     -999.0,9,     -999.0,9,     -999.0,9,     -999.0,9,     -999.0,9,     -999.0,9,     1.3180,2,     -999.0,     -999.0,9,     -999.0
320620170820,        P06,     152,          3,          3,          3,2,20170828,       2100,   -32.5051,  -142.2516,       5091,  4786.7,   1.2988,  34.7062,2,  34.7076,3, 195.6966,2, 195.6625,2,   120.1,2,   32.67,2,    0.00,2,    2.25,2,   0.028,2,   0.021,2,   0.0000,2,  2273.9,2,  2379.8,2,   7.6089,2,    25.00, -999.00,9, -999.00,9, -999.00,    39.0,2, -999.00,9,     -999.0,1,  -999.0,1, 20170828,     2117, -32.5055,-142.2520,        0.0,1,      0.061,1,      4.694,1,      0.123,1,     -999.0,1,     -999.0,9,     -999.0,9,     -999.0,9,     -999.0,9,     -999.0,9,     -999.0,9,     -999.0,9,     -999.0,9,     -999.0,9,     -999.0,9,     1.2997,2,     -999.0,     -999.0,9,     -999.0
320620170820,        P06,     152,          3,          4,          4,2,20170828,       2100,   -32.5051,  -142.2516,       5091,  4476.6,   1.2934,  34.7051,2,  34.7056,3, 194.6421,2, 193.8605,2,   120.5,2,   32.76,2,    0.00,2,    2.28,2,   0.033,2,   0.024,2,   0.0000,2,  2273.9,2,  2378.2,2,   7.6072,2,    25.00, -999.00,9, -999.00,9, -999.00,    36.7,2, -999.00,9,     -999.0,1,  -999.0,1, 20170828,     2129, -32.5053,-142.2521,        0.0,1,      0.061,1,      4.695,1,      0.123,1,     -999.0,1,     -999.0,9,     -999.0,9,     -999.0,9,     -999.0,9,     -999.0,9,     -999.0,9,     -999.0,9,     -999.0,9,     -999.0,9,     -999.0,9,     1.2936,2,     -999.0,     -999.0,9,     -999.0
320620170820,        P06,     152,          3,          5,          5,2,20170828,       2100,   -32.5051,  -142.2516,       5091,  4169.0,   1.3344,  34.7018,2,  34.7030,3, 189.6254,2, 189.6727,2,   120.7,2,   32.90,2,    0.00,2,    2.30,2,   0.032,2,   0.023,2,   0.0000,2,  2278.4,2,  2384.5,2,   7.6038,2,    25.00, -999.00,9, -999.00,9, -999.00,  -999.0,9, -999.00,9,     -999.0,9,  -999.0,1, 20170828,     2138, -32.5052,-142.2522,        0.0,1,      0.060,1,      4.695,1,      0.123,1,     -999.0,1,     -999.0,9,     -999.0,9,     -999.0,9,     -999.0,9,     -999.0,9,     -999.0,9,     -999.0,9,     -999.0,9,     -999.0,9,     -999.0,9,     1.3288,2,     -999.0,     -999.0,9,     -999.0
320620170820,        P06,     152,          3,          6,          6,2,20170828,       2100,   -32.5051,  -142.2516,       5091,  3860.5,   1.4249,  34.6953,2,  34.6963,3, 182.2309,2,  182.819,2,   122.9,2,   33.52,2,    0.00,2,    2.32,2,   0.035,2,   0.022,2,   0.0000,2,  2285.7,2,  2386.9,2,   7.5993,2,    25.00, -999.00,9, -999.00,9, -999.00,    41.5,3, -999.00,9,     -999.0,1,  -999.0,1, 20170828,     2145, -32.5052,-142.2521,        0.0,1,      0.061,1,      4.696,1,      0.124,1,     -999.0,1,     -999.0,9,     -999.0,9,     -999.0,9,     -999.0,9,     -999.0,9,     -999.0,9,     -999.0,9,     -999.0,9,     -999.0,9,     -999.0,9,     1.4166,2,     -999.0,     -999.0,9,     -999.0
320620170820,        P06,     152,          3,          7,          7,2,20170828,       2100,   -32.5051,  -142.2516,       5091,  3553.0,   1.5172,  34.6881,2,  34.6881,2, 174.5308,2, 173.9265,2,   124.7,2,   34.15,2,    0.00,2,    2.37,2,   0.032,2,   0.021,2,   0.0000,2,  2293.0,2,  2391.7,6,   7.5933,2,    25.00, -999.00,9, -999.00,9, -999.00,    37.5,2, -999.00,9,     -999.0,1,  -999.0,1, 20170828,     2152, -32.5052,-142.2521,        0.0,1,      0.061,1,      4.696,1,      0.123,1,     -999.0,1,     -999.0,9,     -999.0,9,     -999.0,9,     -999.0,9,     -999.0,9,     -999.0,9,     -999.0,9,     -999.0,9,     -999.0,9,     -999.0,9,     1.5160,2,     -999.0,     -999.0,9,     -999.0
320620170820,        P06,     152,          3,          8,          8,2,20170828,       2100,   -32.5051,  -142.2516,       5091,  3248.8,   1.6026,  34.6810,2,  34.6810,2, 168.1522,3, 166.7641,2,   126.6,2,   34.65,2,    0.00,2,    2.41,2,   0.031,2,   0.021,2,   0.0000,2,  2301.7,2,  2397.8,2,   7.5855,2,    25.00, -999.00,9, -999.00,9, -999.00,  -999.0,9, -999.00,9,     -999.0,9,  -999.0,1, 20170828,     2159, -32.5052,-142.2521,        0.0,1,      0.061,1,      4.696,1,      0.126,1,     -999.0,1,     -999.0,9,     -999.0,9,     -999.0,9,     -999.0,9,     -999.0,9,     -999.0,9,     -999.0,9,     -999.0,9,     -999.0,9,     -999.0,9,     1.6017,2,     -999.0,     -999.0,9,     -999.0
320620170820,        P06,     152,          3,          9,          9,2,20170828,       2100,   -32.5051,  -142.2516,       5091,  2951.4,   1.6882,  34.6737,2,  34.6734,2, 160.1929,3, 159.0363,2,   127.8,2,   35.13,2,    0.00,2,    2.45,2,   0.036,2,   0.026,2,   0.0000,2,  2307.5,2,  2402.7,2,   7.5804,2,    25.00, -999.00,9, -999.00,9, -999.00,    38.8,2, -999.00,9,     -999.0,1,  -999.0,1, 20170828,     2206, -32.5051,-142.2522,        0.0,1,      0.061,1,      4.696,1,      0.126,1,     -999.0,1,     -999.0,9,     -999.0,9,     -999.0,9,     -999.0,9,     -999.0,9,     -999.0,9,     -999.0,9,     -999.0,9,     -999.0,9,     -999.0,9,     1.7017,2,     -999.0,     -999.0,9,     -999.0
320620170820,        P06,     152,          3,         10,         10,2,20170828,       2100,   -32.5051,  -142.2516,       5091,  2699.4,   1.7720,  34.6666,2,  34.6659,2, 155.6646,2, 156.0435,2,   127.0,2,   35.45,2,    0.00,2,    2.47,2,   0.035,2,   0.024,2,   0.0000,2,  2307.3,2,  2401.0,2,   7.5755,2,    25.00, -999.00,9, -999.00,9, -999.00,  -999.0,9, -999.00,9,     -999.0,9,  -999.0,1, 20170828,     2211, -32.5050,-142.2523,        0.0,1,      0.061,1,      4.696,1,      0.128,1,     -999.0,1,     -999.0,9,     -999.0,9,     -999.0,9,     -999.0,9,     -999.0,9,     -999.0,9,     -999.0,9,     -999.0,9,     -999.0,9,     -999.0,9,     1.7827,2,     -999.0,     -999.0,9,     -999.0
320620170820,        P06,     152,          3,         11,         11,2,20170828,       2100,   -32.5051,  -142.2516,       5091,  2445.5,   1.8633,  34.6589,2,  34.6570,2, 152.9715,2, 153.0636,2,   123.2,2,   35.42,2,    0.00,2,    2.48,2,   0.034,2,   0.022,2,   0.0000,2,  2307.0,2,  2399.4,2,   7.5734,2,    25.00, -999.00,9, -999.00,9, -999.00,    36.4,2, -999.00,9,     -999.0,1,  -999.0,1, 20170828,     2217, -32.5050,-142.2523,        0.0,1,      0.061,1,      4.696,1,      0.127,1,     -999.0,1,     -999.0,9,     -999.0,9,     -999.0,9,     -999.0,9,     -999.0,9,     -999.0,9,     -999.0,9,     -999.0,9,     -999.0,9,     -999.0,9,     1.8900,2,     -999.0,     -999.0,9,     -999.0
320620170820,        P06,     152,          3,         12,         12,2,20170828,       2100,   -32.5051,  -142.2516,       5091,  2190.1,   1.9898,  34.6484,2,  34.6449,2, 151.9535,2, 153.1189,2,   116.8,2,   35.30,2,    0.00,2,    2.46,2,   0.041,2,   0.028,2,   0.0000,2,  2302.0,6,  2393.4,2,   7.5716,2,    25.00, -999.00,9, -999.00,9, -999.00,    36.7,2, -999.00,9,     -999.0,1,  -999.0,1, 20170828,     2224, -32.5054,-142.2519,        0.0,1,      0.061,1,      4.696,1,      0.129,1,     -999.0,1,     -999.0,9,     -999.0,9,     -999.0,9,     -999.0,9,     -999.0,9,     -999.0,9,     -999.0,9,     -999.0,9,     -999.0,9,     -999.0,9,     2.0353,2,     -999.0,     -999.0,9,     -999.0
320620170820,        P06,     152,          3,         13,         13,2,20170828,       2100,   -32.5051,  -142.2516,       5091,  1955.9,   2.1559,  34.6304,2,  34.6256,2, 153.5444,2, 154.7906,2,   108.6,2,   35.23,2,    0.00,2,    2.45,2,   0.030,2,   0.023,2,   0.0000,2,  2294.8,2,  2384.7,2,   7.5706,2,    25.00, -999.00,9, -999.00,9, -999.00,    38.8,2, -999.00,9,     -999.0,1,  -999.0,1, 20170828,     2229, -32.5060,-142.2513,        0.0,1,      0.061,1,      4.696,1,      0.128,1,     -999.0,1,     -999.0,9,     -999.0,9,     -999.0,9,     -999.0,9,     -999.0,9,     -999.0,9,     -999.0,9,     -999.0,9,     -999.0,9,     -999.0,9,     2.1909,2,     -999.0,     -999.0,9,     -999.0
320620170820,        P06,     152,          3,         14,         14,2,20170828,       2100,   -32.5051,  -142.2516,       5091,  1754.0,   2.3506,  34.6022,2,  34.6003,2, 156.1514,2,  157.708,2,    98.9,2,   35.05,2,    0.00,2,    2.43,2,   0.040,2,   0.027,2,   0.0000,2,  2283.0,2,  2370.1,2,   7.5696,6,    25.00, -999.00,9, -999.00,9, -999.00,  -999.0,9, -999.00,9,     -999.0,9,  -999.0,1, 20170828,     2234, -32.5062,-142.2512,        0.0,1,      0.061,1,      4.697,1,      0.130,1,     -999.0,1,     -999.0,9,     -999.0,9,     -999.0,9,     -999.0,9,     -999.0,9,     -999.0,9,     -999.0,9,     -999.0,9,     -999.0,9,     -999.0,9,     2.3633,2,     -999.0,     -999.0,9,     -999.0
320620170820,        P06,     152,          3,         15,         15,2,20170828,       2100,   -32.5051,  -142.2516,       5091,  1552.1,   2.6748,  34.5401,2,  34.5443,2, 162.9404,2, 163.5382,2,    82.4,2,   34.77,2,    0.00,2,    2.40,2,   0.069,2,   0.047,2,   0.0000,2,  2265.6,2,  2348.7,2,   7.5671,2,    25.00, -999.00,9, -999.00,9, -999.00,    43.6,2, -999.00,9,     -999.0,1,  -999.0,1, 20170828,     2239, -32.5060,-142.2513,        0.0,1,      0.061,1,      4.696,1,      0.129,1,     -999.0,1,     -999.0,9,     -999.0,9,     -999.0,9,     -999.0,9,     -999.0,9,     -999.0,9,     -999.0,9,     -999.0,9,     -999.0,9,     -999.0,9,     2.6582,2,     -999.0,     -999.0,9,     -999.0
320620170820,        P06,     152,          3,         16,         16,2,20170828,       2100,   -32.5051,  -142.2516,       5091,  1375.6,   3.0225,  34.4713,2,  34.4763,2, 169.6446,2, 170.0523,2,    67.0,2,   34.43,2,    0.00,2,    2.36,2,   0.163,2,   0.103,2,   0.0000,2,  2248.3,2,  2334.1,2,   7.5706,2,    25.00, -999.00,9, -999.00,9, -999.00,  -999.0,9, -999.00,9,     -999.0,9,  -999.0,1, 20170828,     2243, -32.5058,-142.2513,        0.0,1,      0.060,1,      4.697,1,      0.131,1,     -999.0,1,     -999.0,9,     -999.0,9,     -999.0,9,     -999.0,9,     -999.0,9,     -999.0,9,     -999.0,9,     -999.0,9,     -999.0,9,     -999.0,9,     2.9985,2,     -999.0,     -999.0,9,     -999.0
320620170820,        P06,     152,          3,         17,         17,2,20170828,       2100,   -32.5051,  -142.2516,       5091,  1177.0,   3.6885,  34.3767,2,  34.3733,2, 185.2267,2, 185.4906,2,    45.3,2,   32.94,2,    0.00,2,    2.26,2,   0.574,2,   0.297,2,   0.0830,2,  2219.8,2,  2312.0,2,   7.5905,2,    25.00, -999.00,9, -999.00,9, -999.00,    42.3,2, -999.00,9,     -999.0,1,  -999.0,1, 20170828,     2248, -32.5056,-142.2514,        0.0,1,      0.061,1,      4.696,1,      0.131,1,     -999.0,1,     -999.0,9,     -999.0,9,     -999.0,9,     -999.0,9,     -999.0,9,     -999.0,9,     -999.0,9,     -999.0,9,     -999.0,9,     -999.0,9,     3.7112,2,     -999.0,     -999.0,9,     -999.0
320620170820,        P06,     152,          3,         18,         18,2,20170828,       2100,   -32.5051,  -142.2516,       5091,   973.2,   4.8569,  34.3063,2,  34.3064,2, 208.9956,2, 209.3485,2,    24.5,2,   29.58,2,    0.00,2,    2.00,2,   1.448,2,   0.763,2,   0.2790,2,  2186.7,2,  2289.4,2,   7.6369,2,    25.00, -999.00,9, -999.00,9, -999.00,  -999.0,9, -999.00,9,     -999.0,9,  -999.0,1, 20170828,     2253, -32.5055,-142.2514,        0.0,1,      0.059,1,      4.696,1,      0.131,1,     -999.0,1,     -999.0,9,     -999.0,9,     -999.0,9,     -999.0,9,     -999.0,9,     -999.0,9,     -999.0,9,     -999.0,9,     -999.0,9,     -999.0,9,     4.8326,2,     -999.0,     -999.0,9,     -999.0
320620170820,        P06,     152,          3,         19,         19,2,20170828,       2100,   -32.5051,  -142.2516,       5091,   872.8,   5.5547,  34.2966,2,  34.2970,2, 225.1389,2, 223.2114,2,    16.6,2,   27.28,2,    0.00,2,    1.85,2,   2.149,2,   1.112,2,   0.5070,2,  2168.8,2,  2286.2,2,   7.6659,2,    25.00, -999.00,9, -999.00,9, -999.00,    40.6,2, -999.00,9,     -999.0,1,  -999.0,1, 20170828,     2256, -32.5054,-142.2515,        0.0,1,      0.060,1,      4.696,1,      0.132,1,     -999.0,1,     -999.0,9,     -999.0,9,     -999.0,9,     -999.0,9,     -999.0,9,     -999.0,9,     -999.0,9,     -999.0,9,     -999.0,9,     -999.0,9,     5.4316,2,     -999.0,     -999.0,9,     -999.0
320620170820,        P06,     152,          3,         20,         20,2,20170828,       2100,   -32.5051,  -142.2516,       5091,   771.8,   6.1017,  34.3125,2,  34.3034,2, 233.5917,2, 232.9549,2,    12.3,2,   25.57,2,    0.00,2,    1.72,2,   2.660,2,   1.401,2,   0.6690,2,  2156.6,2,  2281.9,2,   7.6856,2,    25.00, -999.00,9, -999.00,9, -999.00,    41.1,2, -999.00,9,     -999.0,1,  -999.0,1, 20170828,     2300, -32.5053,-142.2515,        0.0,1,      0.057,1,      4.695,1,      0.134,1,     -999.0,1,     -999.0,9,     -999.0,9,     -999.0,9,     -999.0,9,     -999.0,9,     -999.0,9,     -999.0,9,     -999.0,9,     -999.0,9,     -999.0,9,     5.8943,2,     -999.0,     -999.0,9,     -999.0
320620170820,        P06,     152,          3,         21,         21,2,20170828,       2100,   -32.5051,  -142.2516,       5091,   669.3,   6.5635,  34.3365,2,  34.3290,2, 243.9071,2, 242.1816,2,     8.6,2,   23.43,2,    0.00,2,    1.58,2,   3.291,2,   1.751,2,   0.8470,2,  2148.3,2,  2280.9,2,   7.7039,2,    25.00, -999.00,9, -999.00,9, -999.00,    41.2,2, -999.00,9,     -999.0,1,  -999.0,1, 20170828,     2303, -32.5052,-142.2515,        0.0,1,      0.059,1,      4.694,1,      0.134,1,     -999.0,1,     -999.0,9,     -999.0,9,     -999.0,9,     -999.0,9,     -999.0,9,     -999.0,9,     -999.0,9,     -999.0,9,     -999.0,9,     -999.0,9,     6.4553,2,     -999.0,     -999.0,9,     -999.0
320620170820,        P06,     152,          3,         22,         22,2,20170828,       2100,   -32.5051,  -142.2516,       5091,   569.8,   7.0698,  34.3728,2,  34.3694,2, 246.1618,2, 245.5382,2,     6.4,2,   21.54,2,    0.00,2,    1.47,2,   3.544,2,   1.943,2,   1.2400,2,  2144.3,6,  2281.8,2,   7.7156,2,    25.00, -999.00,9, -999.00,9, -999.00,    42.1,2, -999.00,9,     -999.0,1,  -999.0,1, 20170828,     2307, -32.5052,-142.2515,        0.0,1,      0.059,1,      4.694,1,      0.131,1,     -999.0,1,     -999.0,9,     -999.0,9,     -999.0,9,     -999.0,9,     -999.0,9,     -999.0,9,     -999.0,9,     -999.0,9,     -999.0,9,     -999.0,9,     7.0319,2,     -999.0,     -999.0,9,     -999.0
320620170820,        P06,     152,          3,         23,         23,2,20170828,       2100,   -32.5051,  -142.2516,       5091,   468.0,   7.6764,  34.4194,2,  34.4214,2, 248.0268,2, 246.5017,2,     4.5,2,   19.19,2,    0.00,2,    1.31,2,   3.500,2,   1.981,2,   1.5790,2,  2138.5,2,  2282.9,2,   7.7285,2,    25.00, -999.00,9, -999.00,9, -999.00,    44.4,2,   22.00,2,     -999.0,1,  -999.0,1, 20170828,     2310, -32.5051,-142.2516,        0.0,1,      0.058,1,      4.691,1,      0.135,1,     -999.0,1,     -999.0,9,     -999.0,9,     -999.0,9,     -999.0,9,     -999.0,9,     -999.0,9,     -999.0,9,     -999.0,9,     -999.0,9,     -999.0,9,     7.7496,2,     -999.0,     -999.0,9,     -999.0
320620170820,        P06,     152,          3,         24,         24,2,20170828,       2100,   -32.5051,  -142.2516,       5091,   368.1,   8.6266,  34.4609,2,  34.4679,2, 226.1213,2, 229.7431,2,     3.4,2,   17.41,2,    0.00,2,    1.20,2,   3.299,2,   1.859,2,   1.3330,2,  2134.8,2,  2280.6,2,   7.7375,2,    25.00, -999.00,9, -999.00,9, -999.00,    44.5,2,   19.60,2,     -999.0,1,  -999.0,1, 20170828,     2314, -32.5051,-142.2516,        0.0,1,      0.059,1,      4.689,1,      0.133,1,     -999.0,1,     -999.0,1,     -999.0,9,       1.27,2,     -999.0,9,     -999.0,9,     -999.0,9,     -999.0,9,     -999.0,9,     -999.0,9,     -999.0,9,     8.8691,2,     -999.0,     -999.0,9,     -999.0
320620170820,        P06,     152,          3,         25,         25,2,20170828,       2100,   -32.5051,  -142.2516,       5091,   285.7,  10.8941,  34.6272,2,  34.6749,3, 206.6014,2, 213.1753,2,     2.0,2,   11.87,2,    0.00,2,    0.87,2,   2.920,2,   1.676,2,   1.3540,2,  2118.1,2,  2288.9,2,   7.7900,2,    25.00, -999.00,9, -999.00,9, -999.00,    47.3,2,   15.00,2,     -999.0,1,  -999.0,1, 20170828,     2317, -32.5051,-142.2516,        0.0,1,      0.060,1,      4.687,1,      0.133,1,     -999.0,1,     -999.0,1,     -999.0,9,     -999.0,9,     -999.0,9,     -999.0,9,     -999.0,9,     -999.0,9,     -999.0,9,     -999.0,9,     -999.0,9,    11.3829,2,     -999.0,     -999.0,9,     -999.0
320620170820,        P06,     152,          3,         26,         26,2,20170828,       2100,   -32.5051,  -142.2516,       5091,   236.3,  12.2811,  34.7624,2,  34.8228,2,   209.69,2,  215.363,2,     1.1,2,    7.66,2,    0.00,2,    0.60,2,   2.706,2,   1.599,2,   1.5020,2,  2103.1,2,  2292.0,2,   7.8350,2,    25.00, -999.00,9, -999.00,9, -999.00,    47.2,2,    9.90,2,     -999.0,1,  -999.0,1, 20170828,     2319, -32.5052,-142.2516,        0.0,1,      0.061,1,      4.686,1,      0.134,1,     -999.0,1,     -999.0,1,     -999.0,9,        0.7,2,     -999.0,9,     -999.0,9,     -999.0,9,     -999.0,9,     -999.0,9,     -999.0,9,     -999.0,9,    13.0111,2,     -999.0,     -999.0,9,     -999.0