BOTTLE,20240211CCHSIOCBG
EXPOCODE,SECT_ID,STNNBR,CASTNO,SAMPNO,BTLNBR,BTLNBR_FLAG_W,DATE,TIME,LATITUDE,LONGITUDE,DEPTH,CTDPRS,CTDTMP,CTDSAL,CTDSAL_FLAG_W,SALNTY,SALNTY_FLAG_W,CTDOXY,CTDOXY_FLAG_W,OXYGEN,OXYGEN_FLAG_W,SILCAT,SILCAT_FLAG_W,NITRAT,NITRAT_FLAG_W,NITRIT,NITRIT_FLAG_W,PHSPHT,PHSPHT_FLAG_W,CFC-11,CFC-11_FLAG_W,CFC-12,CFC-12_FLAG_W,SF6,SF6_FLAG_W,TCARBN,TCARBN_FLAG_W,ALKALI,ALKALI_FLAG_W,PH_TOT,PH_TOT_FLAG_W,PH_TMP,DELC13,DELC13_FLAG_W,DELC14,DELC14_FLAG_W,C14ERR,DOC,DOC_FLAG_W,TDN,TDN_FLAG_W,TON,TON_FLAG_W,D15N_NO3,D15N_NO3_FLAG_W,BTL_DATE,BTL_TIME,BTL_LAT,BTL_LON,CTDRINKO,CTDRINKO_FLAG_W,CTDFLUOR,CTDFLUOR_FLAG_W,CTDXMISS,CTDXMISS_FLAG_W,CTDBACKSCATTER,CTDBACKSCATTER_FLAG_W,D18O_NO3,D18O_NO3_FLAG_W,DOP,DOP_FLAG_W,CELLCOUNT,CELLCOUNT_FLAG_W,TDP,TDP_FLAG_W,POP,POP_FLAG_W,DATP,DATP_FLAG_W,PATP,PATP_FLAG_W,HPLC,HPLC_FLAG_W,POC,POC_FLAG_W,BEAMAP,BEAMAP_FLAG_W,DOC_NASA,DOC_NASA_FLAG_W,REFTMP,REFTMP_FLAG_W,DOC_NASA_ERROR,TDN_NASA,TDN_NASA_FLAG_W,TDN_NASA_ERROR
,,,,,,,,,,,METERS,DBAR,ITS-90,PSS-78,,PSS-78,,UMOL/KG,,UMOL/KG,,UMOL/KG,,UMOL/KG,,UMOL/KG,,UMOL/KG,,PMOL/KG,,PMOL/KG,,FMOL/KG,,UMOL/KG,,UMOL/KG,,,,DEG C,/MILLE,,/MILLE,,/MILLE,UMOL/KG,,UMOL/KG,,UMOL/KG,,/MILLE,,,,,,VOLTS,,VOLTS,,VOLTS,,VOLTS,,/MILLE,,UMOL/KG,,/LITER,,UMOL/KG,,UMOL/L,,PMOL/L,,PMOL/L,,,,UG/L,,/METER,,UMOL/L,,ITS-90,,UMOL/L,UMOL/L,,UMOL/L
320620170820,        P06,     182,          1,         27,         27,2,20170909,       0414,   -32.5001,  -117.2357,       3193,   235.2,  13.6539,  34.6824,2,  34.6649,2, 227.5081,2, 227.5688,2,     0.5,2,    5.66,2,    0.02,2,    0.47,2,   2.776,2,   1.610,2,   1.5350,2,  2087.1,2,  2283.5,6,   7.8544,2,    25.00, -999.00,9, -999.00,9, -999.00,    52.1,2,    9.50,2,     -999.0,1,  -999.0,9, 20170909,      534, -32.5001,-117.2358,        0.0,1,      0.078,1,      4.676,1,      0.137,1,     -999.0,9,     -999.0,9,     -999.0,9,     -999.0,9,     -999.0,9,     -999.0,9,     -999.0,9,     -999.0,9,     -999.0,9,     -999.0,9,     -999.0,9,    13.2667,2,     -999.0,     -999.0,9,     -999.0
320620170820,        P06,     182,          1,         28,         28,2,20170909,       0414,   -32.5001,  -117.2357,       3193,   190.3,  15.4983,  34.8739,2,  34.7528,2, 232.8138,2, 234.5815,2,     0.1,2,    1.99,2,    0.30,2,    0.27,2,   2.586,2,   1.505,2,   1.5050,2,  2070.3,2,  2286.3,2,   7.8964,2,    25.00, -999.00,9, -999.00,9, -999.00,    52.3,2,    5.60,2,     -999.0,1,  -999.0,9, 20170909,      536, -32.5001,-117.2357,        0.0,1,      0.138,1,      4.662,1,      0.151,1,     -999.0,9,     -999.0,9,     -999.0,9,     -999.0,9,     -999.0,9,     -999.0,9,     -999.0,9,     -999.0,9,     -999.0,9,     -999.0,9,     -999.0,9,    14.7640,2,     -999.0,     -999.0,9,     -999.0
320620170820,        P06,     182,          1,         29,         29,2,20170909,       0414,   -32.5001,  -117.2357,       3193,   165.4,  16.1736,  34.9015,2,  34.8906,2, 235.7244,2, 235.0986,2,     0.1,2,    0.49,2,    0.20,2,    0.16,2,   2.443,2,   1.422,2,   1.4360,2,  2059.9,2,  2294.1,2,   7.9247,2,    25.00, -999.00,9, -999.00,9, -999.00,  -999.0,9, -999.00,9,     -999.0,9,  -999.0,9, 20170909,      537, -32.5001,-117.2357,        0.0,1,      0.181,1,      4.651,1,      0.161,1,     -999.0,9,     -999.0,9,     -999.0,9,     -999.0,9,     -999.0,9,     -999.0,9,     -999.0,9,     -999.0,9,     -999.0,9,     -999.0,9,     -999.0,9,    16.0632,2,     -999.0,     -999.0,9,     -999.0
320620170820,        P06,     182,          1,         30,         30,2,20170909,       0414,   -32.5001,  -117.2357,       3193,   141.0,  16.6543,  34.8663,2,  34.9034,2, 239.4873,2, 239.4511,2,     0.1,2,    0.00,2,    0.03,2,    0.11,2,   2.369,2,   1.394,2,   1.5380,2,  2050.9,2,  2294.8,2,   7.9453,2,    25.00, -999.00,9, -999.00,9, -999.00,    57.2,2,    3.80,2,     -999.0,1,  -999.0,9, 20170909,      538, -32.5001,-117.2357,        0.0,1,      0.184,1,      4.637,1,      0.173,1,     -999.0,9,     -999.0,9,     -999.0,9,     -999.0,9,     -999.0,9,     -999.0,9,     -999.0,9,     -999.0,9,     -999.0,9,     -999.0,9,     -999.0,9,    16.5653,2,     -999.0,     -999.0,9,     -999.0
320620170820,        P06,     182,          1,         31,         31,2,20170909,       0414,   -32.5001,  -117.2357,       3193,   115.7,  17.3487,  34.9814,2,  34.9604,2, 240.3074,2, 239.7136,2,     0.0,2,    0.00,2,    0.00,2,    0.08,2,   2.280,2,   1.321,2,   1.5170,2,  2044.9,2,  2299.4,2,   7.9618,2,    25.00, -999.00,9, -999.00,9, -999.00,    64.6,2,    3.80,2,     -999.0,1,  -999.0,9, 20170909,      540, -32.5001,-117.2357,        0.0,1,      0.108,1,      4.647,1,      0.164,1,     -999.0,9,     -999.0,9,     -999.0,9,     -999.0,9,     -999.0,9,     -999.0,9,     -999.0,9,     -999.0,9,     -999.0,9,     -999.0,9,     -999.0,9,    17.2127,2,     -999.0,     -999.0,9,     -999.0
320620170820,        P06,     182,          1,         32,         32,2,20170909,       0414,   -32.5001,  -117.2357,       3193,    89.8,  17.7438,  35.0426,2,  35.0305,2, 239.0704,2, 238.7113,2,     0.1,2,    0.00,2,    0.00,2,    0.06,2,   2.272,2,   1.301,2,   1.4760,2,  2043.8,2,  2301.2,2,   7.9694,2,    25.00, -999.00,9, -999.00,9, -999.00,    61.0,2,    3.60,2,     -999.0,1,  -999.0,9, 20170909,      542, -32.5001,-117.2358,        0.0,1,      0.079,1,      4.650,1,      0.157,1,     -999.0,9,     -999.0,9,     -999.0,9,     -999.0,9,     -999.0,9,     -999.0,9,     -999.0,9,     -999.0,9,     -999.0,9,     -999.0,9,     -999.0,9,    17.6072,2,     -999.0,     -999.0,9,     -999.0
320620170820,        P06,     182,          1,         33,         33,2,20170909,       0414,   -32.5001,  -117.2357,       3193,    63.4,  18.0183,  35.0754,2,  35.0886,2, 237.9562,2, 236.7718,2,     0.1,2,    0.00,2,    0.00,2,    0.08,2,   2.218,2,   1.285,2,   1.5640,2,  2046.2,2,  2305.2,2,   7.9742,2,    25.00, -999.00,9, -999.00,9, -999.00,    66.1,3,    3.80,2,     -999.0,1,  -999.0,9, 20170909,      543, -32.5001,-117.2358,        0.0,1,      0.076,1,      4.652,1,      0.152,1,     -999.0,9,     -999.0,9,     -999.0,9,     -999.0,9,     -999.0,9,     -999.0,9,     -999.0,9,     -999.0,9,     -999.0,9,     -999.0,9,     -999.0,9,    18.0974,2,     -999.0,     -999.0,9,     -999.0
320620170820,        P06,     182,          1,         34,         34,2,20170909,       0414,   -32.5001,  -117.2357,       3193,    39.7,  18.2555,  35.1193,2,  35.1175,2,  237.787,2, 236.5347,2,     0.1,2,    0.00,2,    0.00,2,    0.06,2,   2.199,2,   1.281,2,   1.4040,2,  2044.2,2,  2307.3,2,   7.9777,2,    25.00, -999.00,9, -999.00,9, -999.00,    62.2,2,    3.60,2,     -999.0,1,  -999.0,9, 20170909,      545, -32.5001,-117.2358,        0.0,1,      0.069,1,      4.655,1,      0.149,1,     -999.0,9,     -999.0,9,     -999.0,9,     -999.0,9,     -999.0,9,     -999.0,9,     -999.0,9,     -999.0,9,     -999.0,9,     -999.0,9,     -999.0,9,    18.2413,2,     -999.0,     -999.0,9,     -999.0
320620170820,        P06,     182,          1,         35,         35,2,20170909,       0414,   -32.5001,  -117.2357,       3193,    19.5,  18.2673,  35.1228,2,  35.1173,2,  237.784,2, 236.7826,2,     0.1,2,    0.00,2,    0.00,2,    0.09,2,   2.192,2,   1.272,2,   1.4840,2,  2043.6,2,  2307.0,2,   7.9770,2,    25.00, -999.00,9, -999.00,9, -999.00,    64.1,2,    4.10,2,     -999.0,1,  -999.0,9, 20170909,      547, -32.5001,-117.2358,        0.0,1,      0.070,1,      4.655,1,      0.148,1,     -999.0,9,     -999.0,9,     -999.0,9,     -999.0,9,     -999.0,9,     -999.0,9,     -999.0,9,     -999.0,9,     -999.0,9,     -999.0,9,     -999.0,9,    18.2389,2,     -999.0,     -999.0,9,     -999.0
320620170820,        P06,     182,          1,         36,         36,2,20170909,       0414,   -32.5001,  -117.2357,       3193,     4.7,  18.2672,  35.1227,2,  35.1171,2, 238.0837,2, 236.2279,2,     0.1,2,    0.00,2,    0.00,2,    0.09,2,   2.204,2,   1.272,2,   1.5400,2,  2043.6,6,  2308.6,2,   7.9769,2,    25.00, -999.00,9, -999.00,9, -999.00,    64.8,2,    3.90,2,     -999.0,1,  -999.0,9, 20170909,      548, -32.5001,-117.2357,        0.0,1,      0.068,1,      4.655,1,      0.147,1,     -999.0,9,     -999.0,9,     -999.0,9,     -999.0,9,     -999.0,9,     -999.0,9,     -999.0,9,     -999.0,9,     -999.0,9,     -999.0,9,     -999.0,9,    18.2345,2,     -999.0,     -999.0,9,     -999.0