BOTTLE,20240211CCHSIOCBG
EXPOCODE,SECT_ID,STNNBR,CASTNO,SAMPNO,BTLNBR,BTLNBR_FLAG_W,DATE,TIME,LATITUDE,LONGITUDE,DEPTH,CTDPRS,CTDTMP,CTDSAL,CTDSAL_FLAG_W,SALNTY,SALNTY_FLAG_W,CTDOXY,CTDOXY_FLAG_W,OXYGEN,OXYGEN_FLAG_W,SILCAT,SILCAT_FLAG_W,NITRAT,NITRAT_FLAG_W,NITRIT,NITRIT_FLAG_W,PHSPHT,PHSPHT_FLAG_W,CFC-11,CFC-11_FLAG_W,CFC-12,CFC-12_FLAG_W,SF6,SF6_FLAG_W,TCARBN,TCARBN_FLAG_W,ALKALI,ALKALI_FLAG_W,PH_TOT,PH_TOT_FLAG_W,PH_TMP,DELC13,DELC13_FLAG_W,DELC14,DELC14_FLAG_W,C14ERR,DOC,DOC_FLAG_W,TDN,TDN_FLAG_W,TON,TON_FLAG_W,D15N_NO3,D15N_NO3_FLAG_W,BTL_DATE,BTL_TIME,BTL_LAT,BTL_LON,CTDRINKO,CTDRINKO_FLAG_W,CTDFLUOR,CTDFLUOR_FLAG_W,CTDXMISS,CTDXMISS_FLAG_W,CTDBACKSCATTER,CTDBACKSCATTER_FLAG_W,D18O_NO3,D18O_NO3_FLAG_W,DOP,DOP_FLAG_W,CELLCOUNT,CELLCOUNT_FLAG_W,TDP,TDP_FLAG_W,POP,POP_FLAG_W,DATP,DATP_FLAG_W,PATP,PATP_FLAG_W,HPLC,HPLC_FLAG_W,POC,POC_FLAG_W,BEAMAP,BEAMAP_FLAG_W,DOC_NASA,DOC_NASA_FLAG_W,REFTMP,REFTMP_FLAG_W,DOC_NASA_ERROR,TDN_NASA,TDN_NASA_FLAG_W,TDN_NASA_ERROR
,,,,,,,,,,,METERS,DBAR,ITS-90,PSS-78,,PSS-78,,UMOL/KG,,UMOL/KG,,UMOL/KG,,UMOL/KG,,UMOL/KG,,UMOL/KG,,PMOL/KG,,PMOL/KG,,FMOL/KG,,UMOL/KG,,UMOL/KG,,,,DEG C,/MILLE,,/MILLE,,/MILLE,UMOL/KG,,UMOL/KG,,UMOL/KG,,/MILLE,,,,,,VOLTS,,VOLTS,,VOLTS,,VOLTS,,/MILLE,,UMOL/KG,,/LITER,,UMOL/KG,,UMOL/L,,PMOL/L,,PMOL/L,,,,UG/L,,/METER,,UMOL/L,,ITS-90,,UMOL/L,UMOL/L,,UMOL/L
320620170820,        P06,     165,          1,         27,         27,2,20170903,       1655,   -32.4997,  -130.5783,       4311,   152.9,  14.8769,  35.0107,2,  34.9313,2, 222.5049,2, 224.5246,2,     0.3,2,    3.79,2,    0.04,2,    0.37,2,   2.403,2,   1.525,2,   1.6090,2,  2087.9,2,  2296.8,2,   7.8770,2,    25.00, -999.00,9, -999.00,9, -999.00,  -999.0,9, -999.00,9,     -999.0,9,  -999.0,1, 20170903,     1832, -32.4997,-130.5779,        0.0,1,      0.107,1,      4.669,1,      0.146,1,     -999.0,1,     -999.0,1,     -999.0,9,     -999.0,9,     -999.0,9,     -999.0,9,     -999.0,9,     -999.0,9,     -999.0,9,     -999.0,9,     -999.0,9,    14.2287,2,     -999.0,     -999.0,9,     -999.0
320620170820,        P06,     165,          1,         28,         28,2,20170903,       1655,   -32.4997,  -130.5783,       4311,   124.1,  15.4030,  34.9317,2,  35.0402,2, 226.0024,2, 226.8875,2,     0.1,2,    1.88,2,    0.02,2,    0.24,2,   2.463,2,   1.461,2,   1.5500,2,  2083.5,2,  2303.6,2,   7.9023,2,    25.00, -999.00,9, -999.00,9, -999.00,  -999.0,9, -999.00,9,     -999.0,9,  -999.0,1, 20170903,     1833, -32.4997,-130.5780,        0.0,1,      0.123,1,      4.654,1,      0.162,1,     -999.0,1,     -999.0,1,     -999.0,9,     -999.0,9,     -999.0,9,     -999.0,9,     -999.0,9,     -999.0,9,     -999.0,9,     -999.0,9,     -999.0,9,    15.1480,2,     -999.0,     -999.0,9,     -999.0
320620170820,        P06,     165,          1,         29,         29,2,20170903,       1655,   -32.4997,  -130.5783,       4311,    88.2,  15.8721,  34.9611,2,  34.9663,2, 246.0061,2, 243.0819,2,     0.0,2,    0.10,2,    0.03,2,    0.12,2,   2.348,2,   1.385,2,   1.5850,2,  2056.1,2,  2299.9,2,   7.9436,2,    25.00, -999.00,9, -999.00,9, -999.00,  -999.0,9, -999.00,9,     -999.0,9,  -999.0,1, 20170903,     1835, -32.4997,-130.5780,        0.0,1,      0.180,1,      4.637,1,      0.186,1,     -999.0,1,     -999.0,1,     -999.0,9,     -999.0,9,     -999.0,9,     -999.0,9,     -999.0,9,     -999.0,9,     -999.0,9,     -999.0,9,     -999.0,9,    15.8810,2,     -999.0,     -999.0,9,     -999.0
320620170820,        P06,     165,          1,         31,         31,2,20170903,       1655,   -32.4997,  -130.5783,       4311,    88.1,  15.8721,  34.9611,2,-999.0000,9, 236.1486,2,-999.0000,9,  -999.0,9, -999.00,9, -999.00,9, -999.00,9,-999.000,9,-999.000,9,-999.0000,9,  -999.0,9,  -999.0,9,-999.0000,9,  -999.00, -999.00,9, -999.00,9, -999.00,  -999.0,9, -999.00,9,     -999.0,9,  -999.0,9, 20170903,     1835, -32.4997,-130.5781,        0.0,1,      0.180,1,      4.637,1,      0.186,1,     -999.0,9,     -999.0,9,     -999.0,9,     -999.0,9,     -999.0,9,     -999.0,9,     -999.0,9,     -999.0,1,     -999.0,1,     -999.0,1,64.28309088,2,    15.8798,2,-83.18068276,50.04593377,2,     -999.0
320620170820,        P06,     165,          1,         30,         30,2,20170903,       1655,   -32.4997,  -130.5783,       4311,    87.5,  15.9986,  34.9884,2,-999.0000,9, 236.2892,2,-999.0000,9,  -999.0,9, -999.00,9, -999.00,9, -999.00,9,-999.000,9,-999.000,9,-999.0000,9,  -999.0,9,  -999.0,9,-999.0000,9,  -999.00, -999.00,9, -999.00,9, -999.00,  -999.0,9, -999.00,9,     -999.0,9,  -999.0,9, 20170903,     1835, -32.4997,-130.5780,        0.0,1,      0.183,1,      4.634,1,      0.191,1,     -999.0,9,     -999.0,9,     -999.0,9,     -999.0,9,     -999.0,9,     -999.0,9,     -999.0,9,     -999.0,1,     -999.0,1,     -999.0,1,64.28309088,2,     -999.0,5,-83.18068276,50.04593377,2,     -999.0
320620170820,        P06,     165,          1,         32,         32,2,20170903,       1655,   -32.4997,  -130.5783,       4311,    74.2,  15.6984,  34.8702,2,  34.9207,2, 248.1632,2, 244.7647,2,     0.0,2,    0.13,2,    0.03,2,    0.12,2,   2.297,2,   1.391,2,   1.7270,2,  2052.5,2,  2297.3,3,   7.9425,2,    25.00, -999.00,9, -999.00,9, -999.00,  -999.0,9, -999.00,9,     -999.0,9,  -999.0,1, 20170903,     1837, -32.4997,-130.5781,        0.0,1,      0.167,1,      4.624,1,      0.197,1,     -999.0,1,     -999.0,1,     -999.0,9,     -999.0,9,     -999.0,9,     -999.0,9,     -999.0,9,     -999.0,9,     -999.0,9,     -999.0,9,     -999.0,9,    15.7700,2,     -999.0,     -999.0,9,     -999.0
320620170820,        P06,     165,          1,         34,         34,2,20170903,       1655,   -32.4997,  -130.5783,       4311,    48.9,  15.6094,  34.8248,2,-999.0000,9, 240.9792,2,-999.0000,9,  -999.0,9, -999.00,9, -999.00,9, -999.00,9,-999.000,9,-999.000,9,-999.0000,9,  -999.0,9,  -999.0,9,-999.0000,9,  -999.00, -999.00,9, -999.00,9, -999.00,  -999.0,9, -999.00,9,     -999.0,9,  -999.0,9, 20170903,     1839, -32.4997,-130.5782,        0.0,1,      0.159,1,      4.618,1,      0.201,1,     -999.0,9,     -999.0,9,     -999.0,9,     -999.0,9,     -999.0,9,     -999.0,9,     -999.0,9,     -999.0,1,     -999.0,1,     -999.0,1,78.94463112,2,    15.6111,2,-83.18068276,52.88945273,2,     -999.0
320620170820,        P06,     165,          1,         33,         33,2,20170903,       1655,   -32.4997,  -130.5783,       4311,    48.8,  15.6094,  34.8248,2,  34.8247,2, 248.7859,2, 247.9267,2,     0.0,2,    0.09,2,    0.02,2,    0.13,2,   2.413,2,   1.416,2,   1.6940,2,  2055.9,2,  2293.1,3,   7.9385,6,    25.00, -999.00,9, -999.00,9, -999.00,  -999.0,9, -999.00,9,     -999.0,9,  -999.0,1, 20170903,     1838, -32.4997,-130.5782,        0.0,1,      0.159,1,      4.618,1,      0.201,1,     -999.0,1,     -999.0,1,     -999.0,9,     -999.0,9,     -999.0,9,     -999.0,9,     -999.0,9,     -999.0,9,     -999.0,9,     -999.0,9,     -999.0,9,    15.6105,2,     -999.0,     -999.0,9,     -999.0
320620170820,        P06,     165,          1,         35,         35,2,20170903,       1655,   -32.4997,  -130.5783,       4311,    24.2,  15.5972,  34.8202,2,  34.8198,2, 248.6437,2, 248.1626,2,     0.0,2,    0.09,2,    0.02,2,    0.13,2,   2.410,2,   1.415,2,   1.6860,2,  2056.8,2,  2291.0,3,   7.9385,2,    25.00, -999.00,9, -999.00,9, -999.00,  -999.0,9, -999.00,9,     -999.0,9,  -999.0,1, 20170903,     1840, -32.4997,-130.5783,        0.0,1,      0.155,1,      4.618,1,      0.199,1,     -999.0,1,     -999.0,1,     -999.0,9,     -999.0,9,     -999.0,9,     -999.0,9,     -999.0,9,     -999.0,9,     -999.0,9,     -999.0,9,     -999.0,9,    15.6045,2,     -999.0,     -999.0,9,     -999.0
320620170820,        P06,     165,          1,         36,         36,2,20170903,       1655,   -32.4997,  -130.5783,       4311,     4.6,  15.5944,  34.8203,2,  34.8216,2, 250.0817,2, 247.9329,2,     0.0,2,    0.09,2,    0.02,2,    0.16,2,   2.420,2,   1.402,2,   1.7490,2,  2052.4,6,  2291.0,3,   7.9382,2,    25.00,    1.01,2,   42.97,2,    4.28,  -999.0,9, -999.00,9,     -999.0,9,  -999.0,1, 20170903,     1841, -32.4997,-130.5783,        0.0,1,      0.152,1,      4.618,1,      0.190,1,     -999.0,1,     -999.0,1,     -999.0,9,     -999.0,9,     -999.0,9,     -999.0,9,     -999.0,9,     -999.0,9,     -999.0,9,     -999.0,9,     -999.0,9,    15.6128,2,     -999.0,     -999.0,9,     -999.0