BOTTLE,20240211CCHSIOCBG
EXPOCODE,SECT_ID,STNNBR,CASTNO,SAMPNO,BTLNBR,BTLNBR_FLAG_W,DATE,TIME,LATITUDE,LONGITUDE,DEPTH,CTDPRS,CTDTMP,CTDSAL,CTDSAL_FLAG_W,SALNTY,SALNTY_FLAG_W,CTDOXY,CTDOXY_FLAG_W,OXYGEN,OXYGEN_FLAG_W,SILCAT,SILCAT_FLAG_W,NITRAT,NITRAT_FLAG_W,NITRIT,NITRIT_FLAG_W,PHSPHT,PHSPHT_FLAG_W,CFC-11,CFC-11_FLAG_W,CFC-12,CFC-12_FLAG_W,SF6,SF6_FLAG_W,TCARBN,TCARBN_FLAG_W,ALKALI,ALKALI_FLAG_W,PH_TOT,PH_TOT_FLAG_W,PH_TMP,DELC13,DELC13_FLAG_W,DELC14,DELC14_FLAG_W,C14ERR,DOC,DOC_FLAG_W,TDN,TDN_FLAG_W,TON,TON_FLAG_W,D15N_NO3,D15N_NO3_FLAG_W,BTL_DATE,BTL_TIME,BTL_LAT,BTL_LON,CTDRINKO,CTDRINKO_FLAG_W,CTDFLUOR,CTDFLUOR_FLAG_W,CTDXMISS,CTDXMISS_FLAG_W,CTDBACKSCATTER,CTDBACKSCATTER_FLAG_W,D18O_NO3,D18O_NO3_FLAG_W,DOP,DOP_FLAG_W,CELLCOUNT,CELLCOUNT_FLAG_W,TDP,TDP_FLAG_W,POP,POP_FLAG_W,DATP,DATP_FLAG_W,PATP,PATP_FLAG_W,HPLC,HPLC_FLAG_W,POC,POC_FLAG_W,BEAMAP,BEAMAP_FLAG_W,DOC_NASA,DOC_NASA_FLAG_W,REFTMP,REFTMP_FLAG_W,DOC_NASA_ERROR,TDN_NASA,TDN_NASA_FLAG_W,TDN_NASA_ERROR
,,,,,,,,,,,METERS,DBAR,ITS-90,PSS-78,,PSS-78,,UMOL/KG,,UMOL/KG,,UMOL/KG,,UMOL/KG,,UMOL/KG,,UMOL/KG,,PMOL/KG,,PMOL/KG,,FMOL/KG,,UMOL/KG,,UMOL/KG,,,,DEG C,/MILLE,,/MILLE,,/MILLE,UMOL/KG,,UMOL/KG,,UMOL/KG,,/MILLE,,,,,,VOLTS,,VOLTS,,VOLTS,,VOLTS,,/MILLE,,UMOL/KG,,/LITER,,UMOL/KG,,UMOL/L,,PMOL/L,,PMOL/L,,,,UG/L,,/METER,,UMOL/L,,ITS-90,,UMOL/L,UMOL/L,,UMOL/L
320620170820,        P06,     181,          3,         27,         27,2,20170908,       2036,   -32.5007,  -118.0656,       3437,   165.2,  15.7254,  34.8551,2,  34.8355,2, 225.2215,2, 227.7698,2,     0.1,2,    1.67,2,    0.21,2,    0.26,2,   2.506,6,   1.477,6,   1.5040,6,  2072.5,2,  2290.3,2,   7.9035,2,    25.00, -999.00,9, -999.00,9, -999.00,  -999.0,9, -999.00,9,     -999.0,9,  -999.0,1, 20170908,     2214, -32.5011,-118.0653,        0.0,1,      0.142,1,      4.663,1,      0.147,1,     -999.0,1,     -999.0,1,     -999.0,9,     -999.0,9,     -999.0,9,     -999.0,9,     -999.0,9,     -999.0,9,     -999.0,9,     -999.0,9,     -999.0,9,    15.4068,2,     -999.0,     -999.0,9,     -999.0
320620170820,        P06,     181,          3,         29,         29,2,20170908,       2036,   -32.5007,  -118.0656,       3437,   140.1,  16.6065,  34.9408,2,-999.0000,9, 226.1762,2,-999.0000,9,  -999.0,9, -999.00,9, -999.00,9, -999.00,9,-999.000,9,-999.000,9,-999.0000,9,  -999.0,9,  -999.0,9,-999.0000,9,  -999.00, -999.00,9, -999.00,9, -999.00,  -999.0,9, -999.00,9,     -999.0,9,  -999.0,9, 20170908,     2217, -32.5012,-118.0653,        0.0,1,      0.180,1,      4.649,1,      0.159,1,     -999.0,9,     -999.0,9,     -999.0,9,     -999.0,9,     -999.0,9,     -999.0,9,     -999.0,9,     -999.0,1,     -999.0,1,     -999.0,1,63.34277917,6,    16.5167,2,0.660894074,49.64235474,6,3.698063417
320620170820,        P06,     181,          3,         28,         28,2,20170908,       2036,   -32.5007,  -118.0656,       3437,   139.7,  16.7064,  34.9435,2,-999.0000,9, 225.9886,2,-999.0000,9,  -999.0,9, -999.00,9, -999.00,9, -999.00,9,-999.000,9,-999.000,9,-999.0000,9,  -999.0,9,  -999.0,9,-999.0000,9,  -999.00, -999.00,9, -999.00,9, -999.00,  -999.0,9, -999.00,9,     -999.0,9,  -999.0,9, 20170908,     2216, -32.5011,-118.0653,        0.0,1,      0.179,1,      4.648,1,      0.160,1,     -999.0,9,     -999.0,9,     -999.0,9,     -999.0,9,     -999.0,9,     -999.0,9,     -999.0,9,     -999.0,1,     -999.0,1,     -999.0,1,63.34277917,6,    16.4252,2,0.660894074,49.64235474,6,3.698063417
320620170820,        P06,     181,          3,         30,         30,2,20170908,       2036,   -32.5007,  -118.0656,       3437,   138.5,  16.7064,  34.9435,2,  34.9359,2,  232.089,2, 233.9819,2,     0.0,2,    0.21,2,    0.09,2,    0.15,2,   2.397,2,   1.393,2,   1.3610,2,  2060.1,2,  2296.3,2,   7.9359,2,    25.00, -999.00,9, -999.00,9, -999.00,  -999.0,9, -999.00,9,     -999.0,9,  -999.0,1, 20170908,     2218, -32.5012,-118.0653,        0.0,1,      0.179,1,      4.648,1,      0.160,1,     -999.0,1,     -999.0,1,     -999.0,9,     -999.0,9,     -999.0,9,     -999.0,9,     -999.0,9,     -999.0,9,     -999.0,9,     -999.0,9,     -999.0,9,    16.5187,2,     -999.0,     -999.0,9,     -999.0
320620170820,        P06,     181,          3,         31,         31,2,20170908,       2036,   -32.5007,  -118.0656,       3437,    99.9,  18.4692,  35.1722,2,-999.0000,9, 227.4519,2,-999.0000,9,  -999.0,9, -999.00,9, -999.00,9, -999.00,9,-999.000,9,-999.000,9,-999.0000,9,  -999.0,9,  -999.0,9,-999.0000,9,  -999.00, -999.00,9, -999.00,9, -999.00,  -999.0,9, -999.00,9,     -999.0,9,  -999.0,9, 20170908,     2220, -32.5011,-118.0653,        0.0,1,      0.082,1,      4.654,1,      0.150,1,     -999.0,9,     -999.0,9,     -999.0,9,     -999.0,9,     -999.0,9,     -999.0,9,     -999.0,9,     -999.0,1,     -999.0,1,     -999.0,1,64.76548244,2,    18.4066,2,-83.18068276,53.76438164,2,     -999.0
320620170820,        P06,     181,          3,         32,         32,2,20170908,       2036,   -32.5007,  -118.0656,       3437,    99.9,  18.4692,  35.1722,2,  35.1648,2, 236.4905,2, 234.1823,2,     0.0,2,    0.00,2,    0.00,2,    0.08,2,   2.185,2,   1.270,2,   1.4180,2,  2048.8,2,  2309.4,2,   7.9799,2,    25.00, -999.00,9, -999.00,9, -999.00,  -999.0,9, -999.00,9,     -999.0,9,  -999.0,1, 20170908,     2221, -32.5011,-118.0653,        0.0,1,      0.082,1,      4.654,1,      0.150,1,     -999.0,1,     -999.0,1,     -999.0,9,     -999.0,9,     -999.0,9,     -999.0,9,     -999.0,9,     -999.0,9,     -999.0,9,     -999.0,9,     -999.0,9,    18.4092,2,     -999.0,     -999.0,9,     -999.0
320620170820,        P06,     181,          3,         33,         33,2,20170908,       2036,   -32.5007,  -118.0656,       3437,    78.5,  18.6094,  35.1702,2,  35.1705,2,  236.669,2, 234.3966,2,     0.0,2,    0.00,2,    0.00,2,    0.07,2,   2.166,2,   1.258,2,   1.4110,2,  2045.4,2,  2309.0,6,   7.9821,2,    25.00, -999.00,9, -999.00,9, -999.00,  -999.0,9, -999.00,9,     -999.0,9,  -999.0,1, 20170908,     2223, -32.5011,-118.0653,        0.0,1,      0.069,1,      4.658,1,      0.146,1,     -999.0,1,     -999.0,1,     -999.0,9,     -999.0,9,     -999.0,9,     -999.0,9,     -999.0,9,     -999.0,9,     -999.0,9,     -999.0,9,     -999.0,9,    18.5779,2,     -999.0,     -999.0,9,     -999.0
320620170820,        P06,     181,          3,         34,         34,2,20170908,       2036,   -32.5007,  -118.0656,       3437,    64.8,  18.6095,  35.1676,2,  35.1681,2, 237.9228,2, 234.2707,2,     0.0,2,    0.00,2,    0.00,2,    0.08,2,   2.171,2,   1.249,2,   1.3570,2,  2046.5,2,  2307.5,2,   7.9821,2,    25.00, -999.00,9, -999.00,9, -999.00,  -999.0,9, -999.00,9,     -999.0,9,  -999.0,1, 20170908,     2225, -32.5010,-118.0654,        0.0,1,      0.066,1,      4.658,1,      0.149,1,     -999.0,1,     -999.0,1,     -999.0,9,     -999.0,9,     -999.0,9,     -999.0,9,     -999.0,9,     -999.0,9,     -999.0,9,     -999.0,9,     -999.0,9,    18.6072,2,     -999.0,     -999.0,9,     -999.0
320620170820,        P06,     181,          3,         35,         35,2,20170908,       2036,   -32.5007,  -118.0656,       3437,    33.7,  18.6081,  35.1673,2,  35.1675,2, 237.6013,2, 234.3759,2,     0.0,2,    0.00,2,    0.00,2,    0.08,2,   2.176,2,   1.270,2,   1.4100,2,  2047.0,2,  2308.6,2,   7.9824,6,    25.00, -999.00,9, -999.00,9, -999.00,  -999.0,9, -999.00,9,     -999.0,9,  -999.0,1, 20170908,     2227, -32.5008,-118.0655,        0.0,1,      0.065,1,      4.658,1,      0.146,1,     -999.0,1,     -999.0,1,     -999.0,9,     -999.0,9,     -999.0,9,     -999.0,9,     -999.0,9,     -999.0,9,     -999.0,9,     -999.0,9,     -999.0,9,    18.6097,2,     -999.0,     -999.0,9,     -999.0
320620170820,        P06,     181,          3,         36,         36,2,20170908,       2036,   -32.5007,  -118.0656,       3437,     4.6,  18.6121,  35.1678,2,  35.1699,2,  238.204,2, 234.4136,2,     0.0,2,    0.00,2,    0.00,2,    0.08,2,   2.105,2,   1.271,2,   1.4470,2,  2045.9,6,  2309.2,2,   7.9817,2,    25.00, -999.00,9, -999.00,9, -999.00,  -999.0,9, -999.00,9,     -999.0,9,  -999.0,1, 20170908,     2229, -32.5007,-118.0656,        0.0,1,      0.061,1,      4.658,1,      0.146,1,     -999.0,1,     -999.0,1,     -999.0,9,     -999.0,9,     -999.0,9,     -999.0,9,     -999.0,9,     -999.0,9,     -999.0,9,     -999.0,9,     -999.0,9,    18.6622,2,     -999.0,     -999.0,9,     -999.0