BOTTLE,20240211CCHSIOCBG
EXPOCODE,SECT_ID,STNNBR,CASTNO,SAMPNO,BTLNBR,BTLNBR_FLAG_W,DATE,TIME,LATITUDE,LONGITUDE,DEPTH,CTDPRS,CTDTMP,CTDSAL,CTDSAL_FLAG_W,SALNTY,SALNTY_FLAG_W,CTDOXY,CTDOXY_FLAG_W,OXYGEN,OXYGEN_FLAG_W,SILCAT,SILCAT_FLAG_W,NITRAT,NITRAT_FLAG_W,NITRIT,NITRIT_FLAG_W,PHSPHT,PHSPHT_FLAG_W,CFC-11,CFC-11_FLAG_W,CFC-12,CFC-12_FLAG_W,SF6,SF6_FLAG_W,TCARBN,TCARBN_FLAG_W,ALKALI,ALKALI_FLAG_W,PH_TOT,PH_TOT_FLAG_W,PH_TMP,DELC13,DELC13_FLAG_W,DELC14,DELC14_FLAG_W,C14ERR,DOC,DOC_FLAG_W,TDN,TDN_FLAG_W,TON,TON_FLAG_W,D15N_NO3,D15N_NO3_FLAG_W,BTL_DATE,BTL_TIME,BTL_LAT,BTL_LON,CTDRINKO,CTDRINKO_FLAG_W,CTDFLUOR,CTDFLUOR_FLAG_W,CTDXMISS,CTDXMISS_FLAG_W,CTDBACKSCATTER,CTDBACKSCATTER_FLAG_W,D18O_NO3,D18O_NO3_FLAG_W,DOP,DOP_FLAG_W,CELLCOUNT,CELLCOUNT_FLAG_W,TDP,TDP_FLAG_W,POP,POP_FLAG_W,DATP,DATP_FLAG_W,PATP,PATP_FLAG_W,HPLC,HPLC_FLAG_W,POC,POC_FLAG_W,BEAMAP,BEAMAP_FLAG_W,DOC_NASA,DOC_NASA_FLAG_W,REFTMP,REFTMP_FLAG_W,DOC_NASA_ERROR,TDN_NASA,TDN_NASA_FLAG_W,TDN_NASA_ERROR
,,,,,,,,,,,METERS,DBAR,ITS-90,PSS-78,,PSS-78,,UMOL/KG,,UMOL/KG,,UMOL/KG,,UMOL/KG,,UMOL/KG,,UMOL/KG,,PMOL/KG,,PMOL/KG,,FMOL/KG,,UMOL/KG,,UMOL/KG,,,,DEG C,/MILLE,,/MILLE,,/MILLE,UMOL/KG,,UMOL/KG,,UMOL/KG,,/MILLE,,,,,,VOLTS,,VOLTS,,VOLTS,,VOLTS,,/MILLE,,UMOL/KG,,/LITER,,UMOL/KG,,UMOL/L,,PMOL/L,,PMOL/L,,,,UG/L,,/METER,,UMOL/L,,ITS-90,,UMOL/L,UMOL/L,,UMOL/L
320620170820,        P06,     154,          1,         27,         27,2,20170829,       1522,   -32.4999,  -140.3707,       4785,   366.5,   9.4321,  34.5339,2,  34.5557,2, 217.9941,2, 220.3853,2,     3.0,2,   15.66,2,    0.00,2,    1.07,2,   3.213,2,   1.787,2,   1.2950,2,  2129.7,2,  2282.4,6,   7.7540,2,    25.00, -999.00,9, -999.00,9, -999.00,    45.4,2,   18.60,2,     -999.0,1,  -999.0,9, 20170829,     1709, -32.4999,-140.3703,        0.0,1,      0.059,1,      4.690,1,      0.135,1,     -999.0,9,     -999.0,9,     -999.0,9,     -999.0,9,     -999.0,9,     -999.0,9,     -999.0,9,     -999.0,9,     -999.0,9,     -999.0,9,     -999.0,9,     9.8246,2,     -999.0,     -999.0,9,     -999.0
320620170820,        P06,     154,          1,         28,         28,2,20170829,       1522,   -32.4999,  -140.3707,       4785,   317.1,  11.2086,  34.6906,2,  34.6747,2, 216.5389,2, 214.0626,2,     2.1,2,   12.66,2,    0.00,2,    0.89,2,   2.841,2,   1.710,2,   1.2980,2,  2122.2,2,  2289.8,2,   7.7833,2,    25.00, -999.00,9, -999.00,9, -999.00,  -999.0,5,   14.70,2,     -999.0,1,  -999.0,9, 20170829,     1711, -32.4999,-140.3704,        0.0,1,      0.060,1,      4.689,1,      0.135,1,     -999.0,9,     -999.0,9,     -999.0,9,     -999.0,9,     -999.0,9,     -999.0,9,     -999.0,9,     -999.0,9,     -999.0,9,     -999.0,9,     -999.0,9,    11.2096,2,     -999.0,     -999.0,9,     -999.0
320620170820,        P06,     154,          1,         29,         29,2,20170829,       1522,   -32.4999,  -140.3707,       4785,   265.9,  12.9959,  34.8952,2,  34.8920,2,  204.566,2, 210.9502,2,     1.5,2,    8.53,2,    0.00,2,    0.63,2,   2.456,2,   1.595,2,   1.3470,2,  2108.3,2,  2297.4,2,   7.8303,2,    25.00, -999.00,9, -999.00,9, -999.00,    51.3,2,   10.70,2,     -999.0,1,  -999.0,9, 20170829,     1712, -32.4999,-140.3704,        0.0,1,      0.059,1,      4.687,1,      0.135,1,     -999.0,9,     -999.0,9,     -999.0,9,     -999.0,9,     -999.0,9,     -999.0,9,     -999.0,9,     -999.0,9,     -999.0,9,     -999.0,9,     -999.0,9,    13.1114,2,     -999.0,     -999.0,9,     -999.0
320620170820,        P06,     154,          1,         30,         30,2,20170829,       1522,   -32.4999,  -140.3707,       4785,   215.6,  14.0299,  34.9463,2,  34.9313,2, 214.6534,2, 221.2752,2,     0.6,2,    4.76,2,    0.02,2,    0.41,2,   2.507,2,   1.546,2,   1.6420,2,  2091.9,2,  2297.0,2,   7.8657,2,    25.00, -999.00,9, -999.00,9, -999.00,    49.3,2,    8.40,2,     -999.0,1,  -999.0,9, 20170829,     1714, -32.4999,-140.3705,        0.0,1,      0.072,1,      4.682,1,      0.135,1,     -999.0,9,     -999.0,9,     -999.0,9,     -999.0,9,     -999.0,9,     -999.0,9,     -999.0,9,     -999.0,9,     -999.0,9,     -999.0,9,     -999.0,9,    14.0559,2,     -999.0,     -999.0,9,     -999.0
320620170820,        P06,     154,          1,         31,         31,2,20170829,       1522,   -32.4999,  -140.3707,       4785,   165.9,  15.1607,  35.0339,2,  35.0134,3, 223.9415,2, 231.2563,2,     0.3,2,    1.57,2,    0.22,2,    0.24,2,   2.440,2,   1.486,2,   1.5830,2,  2078.6,2,  2304.0,2,   7.9021,2,    25.00, -999.00,9, -999.00,9, -999.00,    52.5,2,    5.10,2,     -999.0,1,  -999.0,9, 20170829,     1716, -32.4999,-140.3704,        0.0,1,      0.118,1,      4.670,1,      0.146,1,     -999.0,9,     -999.0,9,     -999.0,9,     -999.0,9,     -999.0,9,     -999.0,9,     -999.0,9,     -999.0,9,     -999.0,9,     -999.0,9,     -999.0,9,    15.0743,2,     -999.0,     -999.0,9,     -999.0
320620170820,        P06,     154,          1,         32,         32,2,20170829,       1522,   -32.4999,  -140.3707,       4785,   114.0,  16.8685,  35.2469,2,  35.3618,2, 217.9288,2, 224.6277,2,     0.4,2,    0.94,2,    0.06,2,    0.15,2,   2.205,2,   1.340,2,   1.5660,2,  2071.0,2,  2322.5,2,   7.9468,2,    25.00, -999.00,9, -999.00,9, -999.00,    57.8,2,    5.60,2,     -999.0,1,  -999.0,9, 20170829,     1718, -32.4999,-140.3704,        0.0,1,      0.126,1,      4.655,1,      0.167,1,     -999.0,9,     -999.0,9,     -999.0,9,     -999.0,9,     -999.0,9,     -999.0,9,     -999.0,9,     -999.0,9,     -999.0,9,     -999.0,9,     -999.0,9,    17.1146,2,     -999.0,     -999.0,9,     -999.0
320620170820,        P06,     154,          1,         33,         33,2,20170829,       1522,   -32.4999,  -140.3707,       4785,    82.7,  16.8643,  35.2379,2,  35.3800,2, 214.0996,2, 221.7971,2,     0.4,2,    0.93,2,    0.03,2,    0.16,2,   2.215,2,   1.332,2,   1.5330,2,  2068.5,2,  2323.8,2,   7.9510,2,    25.00, -999.00,9, -999.00,9, -999.00,    58.6,2,    4.30,2,     -999.0,1,  -999.0,9, 20170829,     1719, -32.4999,-140.3704,        0.0,1,      0.138,1,      4.651,1,      0.171,1,     -999.0,9,     -999.0,9,     -999.0,9,     -999.0,9,     -999.0,9,     -999.0,9,     -999.0,9,     -999.0,9,     -999.0,9,     -999.0,9,     -999.0,9,    17.3961,2,     -999.0,     -999.0,9,     -999.0
320620170820,        P06,     154,          1,         34,         34,2,20170829,       1522,   -32.4999,  -140.3707,       4785,    58.3,  17.2071,  35.3312,2,  35.4318,2, 226.7831,2, 233.4949,2,     0.3,2,    0.07,2,    0.00,2,    0.08,2,   2.096,2,   1.296,2,   1.5460,2,  2059.7,2,  2327.7,2,   7.9764,2,    25.00, -999.00,9, -999.00,9, -999.00,    60.2,2,    4.10,2,     -999.0,1,  -999.0,9, 20170829,     1721, -32.4999,-140.3705,        0.0,1,      0.147,1,      4.647,1,      0.176,1,     -999.0,9,     -999.0,9,     -999.0,9,     -999.0,9,     -999.0,9,     -999.0,9,     -999.0,9,     -999.0,9,     -999.0,9,     -999.0,9,     -999.0,9,    17.6646,2,     -999.0,     -999.0,9,     -999.0
320620170820,        P06,     154,          1,         35,         35,2,20170829,       1522,   -32.4999,  -140.3707,       4785,    33.5,  17.6275,  35.4276,2,  35.4391,2, 225.9683,2, 234.2639,2,     0.3,2,    0.01,2,    0.00,2,    0.08,2,   2.349,2,   1.284,2,   1.5890,2,  2058.3,2,  2328.7,2,   7.9780,6,    25.00, -999.00,9, -999.00,9, -999.00,    61.2,2,    3.90,2,     -999.0,1,  -999.0,9, 20170829,     1722, -32.4999,-140.3706,        0.0,1,      0.143,1,      4.629,1,      0.183,1,     -999.0,9,     -999.0,9,     -999.0,9,     -999.0,9,     -999.0,9,     -999.0,9,     -999.0,9,     -999.0,9,     -999.0,9,     -999.0,9,     -999.0,9,    17.6831,2,     -999.0,     -999.0,9,     -999.0
320620170820,        P06,     154,          1,         36,         36,2,20170829,       1522,   -32.4999,  -140.3707,       4785,     3.6,  17.6207,  35.4270,2,  35.4399,2,  226.494,2, 234.2827,2,     0.3,2,    0.01,2,    0.00,2,    0.09,2,   2.193,2,   1.291,2,   1.5940,2,  2057.4,6,  2337.5,3,   7.9776,2,    25.00, -999.00,9, -999.00,9, -999.00,    65.2,2,    4.60,2,     -999.0,1,  -999.0,9, 20170829,     1724, -32.4999,-140.3707,        0.0,1,      0.149,1,      4.630,1,      0.180,1,     -999.0,9,     -999.0,9,     -999.0,9,     -999.0,9,     -999.0,9,     -999.0,9,     -999.0,9,     -999.0,9,     -999.0,9,     -999.0,9,     -999.0,9,    17.6809,2,     -999.0,     -999.0,9,     -999.0