BOTTLE,20240211CCHSIOCBG
EXPOCODE,SECT_ID,STNNBR,CASTNO,SAMPNO,BTLNBR,BTLNBR_FLAG_W,DATE,TIME,LATITUDE,LONGITUDE,DEPTH,CTDPRS,CTDTMP,CTDSAL,CTDSAL_FLAG_W,SALNTY,SALNTY_FLAG_W,CTDOXY,CTDOXY_FLAG_W,OXYGEN,OXYGEN_FLAG_W,SILCAT,SILCAT_FLAG_W,NITRAT,NITRAT_FLAG_W,NITRIT,NITRIT_FLAG_W,PHSPHT,PHSPHT_FLAG_W,CFC-11,CFC-11_FLAG_W,CFC-12,CFC-12_FLAG_W,SF6,SF6_FLAG_W,TCARBN,TCARBN_FLAG_W,ALKALI,ALKALI_FLAG_W,PH_TOT,PH_TOT_FLAG_W,PH_TMP,DELC13,DELC13_FLAG_W,DELC14,DELC14_FLAG_W,C14ERR,DOC,DOC_FLAG_W,TDN,TDN_FLAG_W,TON,TON_FLAG_W,D15N_NO3,D15N_NO3_FLAG_W,BTL_DATE,BTL_TIME,BTL_LAT,BTL_LON,CTDRINKO,CTDRINKO_FLAG_W,CTDFLUOR,CTDFLUOR_FLAG_W,CTDXMISS,CTDXMISS_FLAG_W,CTDBACKSCATTER,CTDBACKSCATTER_FLAG_W,D18O_NO3,D18O_NO3_FLAG_W,DOP,DOP_FLAG_W,CELLCOUNT,CELLCOUNT_FLAG_W,TDP,TDP_FLAG_W,POP,POP_FLAG_W,DATP,DATP_FLAG_W,PATP,PATP_FLAG_W,HPLC,HPLC_FLAG_W,POC,POC_FLAG_W,BEAMAP,BEAMAP_FLAG_W,DOC_NASA,DOC_NASA_FLAG_W,REFTMP,REFTMP_FLAG_W,DOC_NASA_ERROR,TDN_NASA,TDN_NASA_FLAG_W,TDN_NASA_ERROR
,,,,,,,,,,,METERS,DBAR,ITS-90,PSS-78,,PSS-78,,UMOL/KG,,UMOL/KG,,UMOL/KG,,UMOL/KG,,UMOL/KG,,UMOL/KG,,PMOL/KG,,PMOL/KG,,FMOL/KG,,UMOL/KG,,UMOL/KG,,,,DEG C,/MILLE,,/MILLE,,/MILLE,UMOL/KG,,UMOL/KG,,UMOL/KG,,/MILLE,,,,,,VOLTS,,VOLTS,,VOLTS,,VOLTS,,/MILLE,,UMOL/KG,,/LITER,,UMOL/KG,,UMOL/L,,PMOL/L,,PMOL/L,,,,UG/L,,/METER,,UMOL/L,,ITS-90,,UMOL/L,UMOL/L,,UMOL/L
320620170820,        P06,     234,          1,         27,         27,2,20170925,       1958,   -32.5000,   -74.8558,       4182,   302.0,   8.7531,  34.4723,2,  34.4642,2,  50.0733,2,  52.3478,2,    20.8,2,   33.00,2,    0.00,2,    2.61,2,   1.681,6,   1.092,6,   0.9310,6,  2260.3,2,  2278.8,2,   7.3789,2,    25.00, -999.00,9, -999.00,9, -999.00,    42.2,2,   34.90,2,     -999.0,1,  -999.0,9, 20170925,     2132, -32.5000, -74.8556,        0.0,1,      0.065,1,      4.658,1,      0.178,1,     -999.0,9,     -999.0,9,     -999.0,9,     -999.0,9,     -999.0,9,     -999.0,9,     -999.0,9,     -999.0,9,     -999.0,9,     -999.0,9,     -999.0,9,     8.7673,2,     -999.0,     -999.0,9,     -999.0
320620170820,        P06,     234,          1,         28,         28,2,20170925,       1958,   -32.5000,   -74.8558,       4182,   251.9,   9.6549,  34.4846,2,  34.4813,2,  51.9038,2,  50.8264,2,    19.8,2,   29.01,2,    0.00,2,    2.57,2,   1.765,2,   1.203,2,   0.6080,4,  2254.2,2,  2278.3,2,   7.3862,2,    25.00, -999.00,9, -999.00,9, -999.00,  -999.0,9, -999.00,9,     -999.0,9,  -999.0,9, 20170925,     2134, -32.5000, -74.8558,        0.0,1,      0.065,1,      4.659,1,      0.160,1,     -999.0,9,     -999.0,9,     -999.0,9,     -999.0,9,     -999.0,9,     -999.0,9,     -999.0,9,     -999.0,9,     -999.0,9,     -999.0,9,     -999.0,9,     9.6250,2,     -999.0,     -999.0,9,     -999.0
320620170820,        P06,     234,          1,         29,         29,2,20170925,       1958,   -32.5000,   -74.8558,       4182,   202.7,  10.2814,  34.4672,2,  34.4604,2,  54.9828,2,   57.067,2,    18.4,2,   26.68,2,    0.02,2,    2.50,2,   1.951,2,   1.294,2,   1.1500,4,  2248.6,2,  2278.0,2,   7.4016,2,    25.00, -999.00,9, -999.00,9, -999.00,    44.3,2,   29.30,2,     -999.0,1,  -999.0,9, 20170925,     2136, -32.5000, -74.8558,        0.0,1,      0.065,1,      4.652,1,      0.166,1,     -999.0,9,     -999.0,9,     -999.0,9,     -999.0,9,     -999.0,9,     -999.0,9,     -999.0,9,     -999.0,9,     -999.0,9,     -999.0,9,     -999.0,9,    10.2145,2,     -999.0,     -999.0,9,     -999.0
320620170820,        P06,     234,          1,         30,         30,2,20170925,       1958,   -32.5000,   -74.8558,       4182,   149.5,  11.2017,  34.3993,2,  34.4194,2,  74.0192,2,  74.6806,2,    15.1,2,   24.38,2,    0.02,2,    2.34,2,   2.225,2,   1.443,2,   0.8620,4,  2237.1,2,  2273.9,2,   7.4404,2,    25.00, -999.00,9, -999.00,9, -999.00,    45.8,2,   27.10,2,     -999.0,1,  -999.0,9, 20170925,     2138, -32.4999, -74.8555,        0.0,1,      0.065,1,      4.635,1,      0.180,1,     -999.0,9,     -999.0,9,     -999.0,9,     -999.0,9,     -999.0,9,     -999.0,9,     -999.0,9,     -999.0,9,     -999.0,9,     -999.0,9,     -999.0,9,    11.1060,2,     -999.0,     -999.0,9,     -999.0
320620170820,        P06,     234,          1,         31,         31,2,20170925,       1958,   -32.5000,   -74.8558,       4182,   126.1,  11.2029,  34.1803,2,  34.3176,2, 114.5532,2,  115.659,2,    11.1,2,   23.44,2,    0.03,2,    2.10,2,   2.595,2,   1.560,2,   1.4070,4,  2205.8,2,  2268.2,6,   7.5094,2,    25.00, -999.00,9, -999.00,9, -999.00,    46.8,2,   26.50,2,     -999.0,1,  -999.0,9, 20170925,     2140, -32.4999, -74.8553,        0.0,1,      0.069,1,      4.639,1,      0.178,1,     -999.0,9,     -999.0,9,     -999.0,9,     -999.0,9,     -999.0,9,     -999.0,9,     -999.0,9,     -999.0,9,     -999.0,9,     -999.0,9,     -999.0,9,    11.3177,2,     -999.0,     -999.0,9,     -999.0
320620170820,        P06,     234,          1,         32,         32,2,20170925,       1958,   -32.5000,   -74.8558,       4182,   100.8,  12.9908,  34.1040,2,  34.0919,3, 235.5591,2, 231.5087,2,     1.6,2,   10.09,2,    0.22,2,    0.98,2,   2.879,2,   1.698,2,   1.2130,4,  2091.3,2,  2261.9,2,   7.8069,2,    25.00, -999.00,9, -999.00,9, -999.00,    55.5,2,   13.90,2,     -999.0,1,  -999.0,9, 20170925,     2142, -32.5000, -74.8554,        0.0,1,      0.128,1,      4.608,1,      0.209,1,     -999.0,9,     -999.0,9,     -999.0,9,     -999.0,9,     -999.0,9,     -999.0,9,     -999.0,9,     -999.0,9,     -999.0,9,     -999.0,9,     -999.0,9,    12.5319,2,     -999.0,     -999.0,9,     -999.0
320620170820,        P06,     234,          1,         33,         33,2,20170925,       1958,   -32.5000,   -74.8558,       4182,    76.2,  13.3604,  34.1662,2,  34.1544,2, 263.9449,2, 262.1818,2,     0.6,2,    4.68,2,    0.23,2,    0.67,2,   2.794,2,   1.659,2,   1.4460,4,  2066.0,2,  2271.4,2,   7.8794,2,    25.00, -999.00,9, -999.00,9, -999.00,    61.4,2,    9.50,2,     -999.0,1,  -999.0,9, 20170925,     2144, -32.5000, -74.8557,        0.0,1,      0.247,1,      4.541,1,      0.267,1,     -999.0,9,     -999.0,9,     -999.0,9,     -999.0,9,     -999.0,9,     -999.0,9,     -999.0,9,     -999.0,9,     -999.0,9,     -999.0,9,     -999.0,9,    13.2888,2,     -999.0,     -999.0,9,     -999.0
320620170820,        P06,     234,          1,         34,         34,2,20170925,       1958,   -32.5000,   -74.8558,       4182,    52.1,  13.4327,  34.1789,2,  34.1824,2, 266.6569,2, 264.2124,2,     0.6,2,    4.55,2,    0.21,2,    0.66,2,   2.743,2,   1.649,2,   1.4690,4,  2064.4,2,  2272.0,2,   7.8842,2,    25.00, -999.00,9, -999.00,9, -999.00,    57.6,2,    9.70,2,     -999.0,1,  -999.0,9, 20170925,     2145, -32.5000, -74.8558,        0.0,1,      0.265,1,      4.516,1,      0.270,1,     -999.0,9,     -999.0,9,     -999.0,9,     -999.0,9,     -999.0,9,     -999.0,9,     -999.0,9,     -999.0,9,     -999.0,9,     -999.0,9,     -999.0,9,    13.4795,2,     -999.0,     -999.0,9,     -999.0
320620170820,        P06,     234,          1,         35,         35,2,20170925,       1958,   -32.5000,   -74.8558,       4182,    23.9,  13.4950,  34.1837,2,  34.1940,2, 267.1185,2, 265.2259,2,     0.6,2,    4.43,2,    0.20,2,    0.66,2,   2.743,2,   1.614,2,   1.2850,4,  -999.0,9,  -999.0,9,-999.0000,9,  -999.00, -999.00,9, -999.00,9, -999.00,    61.0,2,    8.80,2,     -999.0,1,  -999.0,9, 20170925,     2147, -32.5000, -74.8558,        0.0,1,      0.229,1,      4.505,1,      0.270,1,     -999.0,9,     -999.0,9,     -999.0,9,     -999.0,9,     -999.0,9,     -999.0,9,     -999.0,9,     -999.0,9,     -999.0,9,     -999.0,9,     -999.0,9,    13.5654,2,     -999.0,     -999.0,9,     -999.0
320620170820,        P06,     234,          1,         36,         36,2,20170925,       1958,   -32.5000,   -74.8558,       4182,     4.2,  13.5016,  34.1842,2,  34.1952,2, 267.4461,2, 264.7605,2,     0.7,2,    4.43,2,    0.20,2,    0.66,2,   2.715,2,   1.644,2,   1.4460,4,  2064.0,6,  2272.6,2,   7.8878,2,    25.00,    1.34,2,   16.63,2,    4.21,    57.7,2,    8.40,2,     -999.0,1,  -999.0,9, 20170925,     2148, -32.5000, -74.8558,        0.0,1,      0.132,1,      4.506,1,      0.300,1,     -999.0,9,     -999.0,9,     -999.0,9,     -999.0,9,     -999.0,9,     -999.0,9,     -999.0,9,     -999.0,9,     -999.0,9,     -999.0,9,     -999.0,9,    13.3029,2,     -999.0,     -999.0,9,     -999.0