BOTTLE,20240211CCHSIOCBG
EXPOCODE,SECT_ID,STNNBR,CASTNO,SAMPNO,BTLNBR,BTLNBR_FLAG_W,DATE,TIME,LATITUDE,LONGITUDE,DEPTH,CTDPRS,CTDTMP,CTDSAL,CTDSAL_FLAG_W,SALNTY,SALNTY_FLAG_W,CTDOXY,CTDOXY_FLAG_W,OXYGEN,OXYGEN_FLAG_W,SILCAT,SILCAT_FLAG_W,NITRAT,NITRAT_FLAG_W,NITRIT,NITRIT_FLAG_W,PHSPHT,PHSPHT_FLAG_W,CFC-11,CFC-11_FLAG_W,CFC-12,CFC-12_FLAG_W,SF6,SF6_FLAG_W,TCARBN,TCARBN_FLAG_W,ALKALI,ALKALI_FLAG_W,PH_TOT,PH_TOT_FLAG_W,PH_TMP,DELC13,DELC13_FLAG_W,DELC14,DELC14_FLAG_W,C14ERR,DOC,DOC_FLAG_W,TDN,TDN_FLAG_W,TON,TON_FLAG_W,D15N_NO3,D15N_NO3_FLAG_W,BTL_DATE,BTL_TIME,BTL_LAT,BTL_LON,CTDRINKO,CTDRINKO_FLAG_W,CTDFLUOR,CTDFLUOR_FLAG_W,CTDXMISS,CTDXMISS_FLAG_W,CTDBACKSCATTER,CTDBACKSCATTER_FLAG_W,D18O_NO3,D18O_NO3_FLAG_W,DOP,DOP_FLAG_W,CELLCOUNT,CELLCOUNT_FLAG_W,TDP,TDP_FLAG_W,POP,POP_FLAG_W,DATP,DATP_FLAG_W,PATP,PATP_FLAG_W,HPLC,HPLC_FLAG_W,POC,POC_FLAG_W,BEAMAP,BEAMAP_FLAG_W,DOC_NASA,DOC_NASA_FLAG_W,REFTMP,REFTMP_FLAG_W,DOC_NASA_ERROR,TDN_NASA,TDN_NASA_FLAG_W,TDN_NASA_ERROR
,,,,,,,,,,,METERS,DBAR,ITS-90,PSS-78,,PSS-78,,UMOL/KG,,UMOL/KG,,UMOL/KG,,UMOL/KG,,UMOL/KG,,UMOL/KG,,PMOL/KG,,PMOL/KG,,FMOL/KG,,UMOL/KG,,UMOL/KG,,,,DEG C,/MILLE,,/MILLE,,/MILLE,UMOL/KG,,UMOL/KG,,UMOL/KG,,/MILLE,,,,,,VOLTS,,VOLTS,,VOLTS,,VOLTS,,/MILLE,,UMOL/KG,,/LITER,,UMOL/KG,,UMOL/L,,PMOL/L,,PMOL/L,,,,UG/L,,/METER,,UMOL/L,,ITS-90,,UMOL/L,UMOL/L,,UMOL/L
320620170820,        P06,     225,          3,         27,         27,2,20170922,       1802,   -32.4996,   -82.8657,       3783,   151.4,  11.5133,  34.1055,2,  34.0952,2, 192.2491,2, 191.1785,2,     2.9,2,   18.18,2,    0.02,2,    1.40,2,   3.150,2,   1.703,2,   1.4710,4,  2131.1,2,  2255.8,2,   7.6949,2,    25.00, -999.00,9, -999.00,9, -999.00,  -999.0,9, -999.00,9,     -999.0,9,  -999.0,1, 20170922,     1948, -32.4997, -82.8664,        0.0,1,      0.068,1,      4.657,1,      0.176,1,     -999.0,1,     -999.0,1,     -999.0,9,       1.51,2,     -999.0,9,     -999.0,9,     -999.0,9,     -999.0,9,     -999.0,9,     -999.0,9,     -999.0,9,    11.5987,2,     -999.0,     -999.0,9,     -999.0
320620170820,        P06,     225,          3,         28,         28,2,20170922,       1802,   -32.4996,   -82.8657,       3783,   124.0,  12.6590,  34.1095,2,  34.1297,2, 237.6456,2, 228.7197,2,     0.7,2,    9.87,2,    0.10,2,    0.82,2,   2.981,2,   1.634,2,   1.4580,4,  2083.1,2,  2262.8,2,   7.8288,2,    25.00, -999.00,9, -999.00,9, -999.00,  -999.0,9, -999.00,9,     -999.0,9,  -999.0,1, 20170922,     1950, -32.4997, -82.8664,        0.0,1,      0.075,1,      4.651,1,      0.177,1,     -999.0,1,     -999.0,1,     -999.0,9,     -999.0,9,     -999.0,9,     -999.0,9,     -999.0,9,     -999.0,9,     -999.0,9,     -999.0,9,     -999.0,9,    13.1257,2,     -999.0,     -999.0,9,     -999.0
320620170820,        P06,     225,          3,         29,         29,2,20170922,       1802,   -32.4996,   -82.8657,       3783,   100.4,  14.0075,  34.2824,2,  34.2881,2, 252.1301,2,  252.519,2,     0.1,2,    3.61,2,    0.13,2,    0.48,2,   2.856,2,   1.516,2,   1.4840,4,  2058.5,2,  2274.9,2,   7.9032,2,    25.00, -999.00,9, -999.00,9, -999.00,  -999.0,9, -999.00,9,     -999.0,9,  -999.0,1, 20170922,     1952, -32.4996, -82.8663,        0.0,1,      0.126,1,      4.636,1,      0.211,1,     -999.0,1,     -999.0,1,     -999.0,9,       0.63,2,     -999.0,9,     -999.0,9,     -999.0,9,     -999.0,9,     -999.0,9,     -999.0,9,     -999.0,9,    14.1010,2,     -999.0,     -999.0,9,     -999.0
320620170820,        P06,     225,          3,         30,         30,2,20170922,       1802,   -32.4996,   -82.8657,       3783,    75.7,  14.1826,  34.3132,2,  34.3082,2, 253.8975,2, 253.9353,2,     0.2,2,    3.08,2,    0.11,2,    0.45,2,   2.753,2,   1.522,2,   1.5080,4,  2056.9,2,  2276.2,2,   7.9075,2,    25.00, -999.00,9, -999.00,9, -999.00,  -999.0,9, -999.00,9,     -999.0,9,  -999.0,1, 20170922,     1954, -32.4996, -82.8662,        0.0,1,      0.203,1,      4.612,1,      0.209,1,     -999.0,1,     -999.0,1,     -999.0,9,       0.62,2,     -999.0,9,     -999.0,9,     -999.0,9,     -999.0,9,     -999.0,9,     -999.0,9,     -999.0,9,    14.1744,2,     -999.0,     -999.0,9,     -999.0
320620170820,        P06,     225,          3,         33,         33,2,20170922,       1802,   -32.4996,   -82.8657,       3783,    51.4,  14.2894,  34.3287,2,  34.3246,2, 254.8998,2, 255.1948,2,     0.2,2,    2.83,2,    0.10,2,    0.44,2,   2.731,2,   1.492,2,   1.3530,4,  2056.8,2,  2278.7,6,   7.9119,2,    25.00, -999.00,9, -999.00,9, -999.00,  -999.0,9, -999.00,9,     -999.0,9,  -999.0,1, 20170922,     1957, -32.4996, -82.8660,        0.0,1,      0.274,1,      4.584,1,      0.226,1,     -999.0,1,     -999.0,1,     -999.0,9,        0.6,2,     -999.0,9,     -999.0,9,     -999.0,9,     -999.0,9,     -999.0,9,     -999.0,9,     -999.0,9,    14.2701,2,     -999.0,     -999.0,9,     -999.0
320620170820,        P06,     225,          3,         32,         32,2,20170922,       1802,   -32.4996,   -82.8657,       3783,    50.8,  14.2894,  34.3287,2,-999.0000,9,  247.011,2,-999.0000,9,  -999.0,9, -999.00,9, -999.00,9, -999.00,9,-999.000,9,-999.000,9,-999.0000,9,  -999.0,9,  -999.0,9,-999.0000,9,  -999.00, -999.00,9, -999.00,9, -999.00,  -999.0,9, -999.00,9,     -999.0,9,  -999.0,9, 20170922,     1956, -32.4996, -82.8660,        0.0,1,      0.274,1,      4.584,1,      0.226,1,     -999.0,9,     -999.0,9,     -999.0,9,     -999.0,9,     -999.0,9,     -999.0,9,     -999.0,9,     -999.0,1,     -999.0,1,     -999.0,1,66.94043433,6,    14.2795,2,3.773480946, 121.372492,6,4.194526995
320620170820,        P06,     225,          3,         31,         31,2,20170922,       1802,   -32.4996,   -82.8657,       3783,    50.6,  14.2894,  34.3287,2,-999.0000,9, 247.0726,2,-999.0000,9,  -999.0,9, -999.00,9, -999.00,9, -999.00,9,-999.000,9,-999.000,9,-999.0000,9,  -999.0,9,  -999.0,9,-999.0000,9,  -999.00, -999.00,9, -999.00,9, -999.00,  -999.0,9, -999.00,9,     -999.0,9,  -999.0,9, 20170922,     1956, -32.4996, -82.8660,        0.0,1,      0.274,1,      4.584,1,      0.226,1,     -999.0,9,     -999.0,9,     -999.0,9,     -999.0,9,     -999.0,9,     -999.0,9,     -999.0,9,     -999.0,1,     -999.0,1,     -999.0,1,66.94043433,6,    14.2827,2,3.773480946, 121.372492,6,4.194526995
320620170820,        P06,     225,          3,         35,         35,2,20170922,       1802,   -32.4996,   -82.8657,       3783,    30.5,  14.3372,  34.3347,2,  34.3366,2, 258.3698,2, 258.4112,2,     0.2,2,    2.56,2,    0.08,2,    0.42,2,   2.886,2,   1.474,2,   1.4160,4,  2055.1,2,  2279.4,2,   7.9163,2,    25.00, -999.00,9, -999.00,9, -999.00,  -999.0,9, -999.00,9,     -999.0,9,  -999.0,1, 20170922,     2000, -32.4995, -82.8658,        0.0,1,      0.255,1,      4.565,1,      0.228,1,     -999.0,1,     -999.0,1,     -999.0,9,       0.57,2,     -999.0,9,     -999.0,9,     -999.0,9,     -999.0,9,     -999.0,9,     -999.0,9,     -999.0,9,    14.3833,2,     -999.0,     -999.0,9,     -999.0
320620170820,        P06,     225,          3,         34,         34,2,20170922,       1802,   -32.4996,   -82.8657,       3783,    30.2,  14.3372,  34.3347,2,-999.0000,9, 250.2908,2,-999.0000,9,  -999.0,9, -999.00,9, -999.00,9, -999.00,9,-999.000,9,-999.000,9,-999.0000,9,  -999.0,9,  -999.0,9,-999.0000,9,  -999.00, -999.00,9, -999.00,9, -999.00,  -999.0,9, -999.00,9,     -999.0,9,  -999.0,9, 20170922,     1959, -32.4996, -82.8659,        0.0,1,      0.255,1,      4.565,1,      0.228,1,     -999.0,9,     -999.0,9,     -999.0,9,     -999.0,9,     -999.0,9,     -999.0,9,     -999.0,9,     -999.0,1,     -999.0,1,     -999.0,1,73.58943475,2,    14.3818,2,-83.18068276,102.9950567,2,     -999.0
320620170820,        P06,     225,          3,         36,         36,2,20170922,       1802,   -32.4996,   -82.8657,       3783,     2.9,  14.3958,  34.3360,2,  34.3395,2, 259.3708,2, 258.9884,2,     0.3,2,    2.50,2,    0.08,2,    0.44,2,   2.888,2,   1.478,2,   1.6680,4,  2055.7,6,  2280.0,2,   7.9178,2,    25.00, -999.00,9, -999.00,9, -999.00,  -999.0,9, -999.00,9,     -999.0,9,  -999.0,1, 20170922,     2002, -32.4996, -82.8657,        0.0,1,      0.146,1,      4.559,1,      0.209,1,     -999.0,1,     -999.0,1,     -999.0,9,       0.65,2,     -999.0,9,     -999.0,9,     -999.0,9,     -999.0,9,     -999.0,9,     -999.0,9,     -999.0,9,    14.4582,2,     -999.0,     -999.0,9,     -999.0