BOTTLE,20240211CCHSIOCBG
EXPOCODE,SECT_ID,STNNBR,CASTNO,SAMPNO,BTLNBR,BTLNBR_FLAG_W,DATE,TIME,LATITUDE,LONGITUDE,DEPTH,CTDPRS,CTDTMP,CTDSAL,CTDSAL_FLAG_W,SALNTY,SALNTY_FLAG_W,CTDOXY,CTDOXY_FLAG_W,OXYGEN,OXYGEN_FLAG_W,SILCAT,SILCAT_FLAG_W,NITRAT,NITRAT_FLAG_W,NITRIT,NITRIT_FLAG_W,PHSPHT,PHSPHT_FLAG_W,CFC-11,CFC-11_FLAG_W,CFC-12,CFC-12_FLAG_W,SF6,SF6_FLAG_W,TCARBN,TCARBN_FLAG_W,ALKALI,ALKALI_FLAG_W,PH_TOT,PH_TOT_FLAG_W,PH_TMP,DELC13,DELC13_FLAG_W,DELC14,DELC14_FLAG_W,C14ERR,DOC,DOC_FLAG_W,TDN,TDN_FLAG_W,TON,TON_FLAG_W,D15N_NO3,D15N_NO3_FLAG_W,BTL_DATE,BTL_TIME,BTL_LAT,BTL_LON,CTDRINKO,CTDRINKO_FLAG_W,CTDFLUOR,CTDFLUOR_FLAG_W,CTDXMISS,CTDXMISS_FLAG_W,CTDBACKSCATTER,CTDBACKSCATTER_FLAG_W,D18O_NO3,D18O_NO3_FLAG_W,DOP,DOP_FLAG_W,CELLCOUNT,CELLCOUNT_FLAG_W,TDP,TDP_FLAG_W,POP,POP_FLAG_W,DATP,DATP_FLAG_W,PATP,PATP_FLAG_W,HPLC,HPLC_FLAG_W,POC,POC_FLAG_W,BEAMAP,BEAMAP_FLAG_W,DOC_NASA,DOC_NASA_FLAG_W,REFTMP,REFTMP_FLAG_W,DOC_NASA_ERROR,TDN_NASA,TDN_NASA_FLAG_W,TDN_NASA_ERROR
,,,,,,,,,,,METERS,DBAR,ITS-90,PSS-78,,PSS-78,,UMOL/KG,,UMOL/KG,,UMOL/KG,,UMOL/KG,,UMOL/KG,,UMOL/KG,,PMOL/KG,,PMOL/KG,,FMOL/KG,,UMOL/KG,,UMOL/KG,,,,DEG C,/MILLE,,/MILLE,,/MILLE,UMOL/KG,,UMOL/KG,,UMOL/KG,,/MILLE,,,,,,VOLTS,,VOLTS,,VOLTS,,VOLTS,,/MILLE,,UMOL/KG,,/LITER,,UMOL/KG,,UMOL/L,,PMOL/L,,PMOL/L,,,,UG/L,,/METER,,UMOL/L,,ITS-90,,UMOL/L,UMOL/L,,UMOL/L
320620170820,        P06,     249,          1,          1,          1,2,20170929,       0800,   -32.4999,   -71.6583,        462,   455.7,   6.3484,  34.3477,2,  34.3443,2, 138.3871,3, 145.3705,2,    19.3,2,   32.64,2,    0.00,2,    2.32,2,   2.371,2,   1.124,2,   0.3900,2,  2214.3,2,  2282.3,2,   7.5262,2,    25.00, -999.00,9, -999.00,9, -999.00,  -999.0,9, -999.00,9,     -999.0,9,  -999.0,9, 20170929,      800, -32.5000, -71.6590,        0.0,1,      0.062,1,      4.643,1,      0.202,1,     -999.0,9,     -999.0,9,     -999.0,9,     -999.0,9,     -999.0,9,     -999.0,9,     -999.0,9,     -999.0,9,     -999.0,9,     -999.0,9,     -999.0,9,     6.3406,2,     -999.0,     -999.0,9,     -999.0
320620170820,        P06,     249,          1,          2,          2,2,20170929,       0800,   -32.4999,   -71.6583,        462,   404.0,   6.9238,  34.3880,2,  34.3796,2, 107.8879,2, 116.7703,2,    19.6,2,   33.90,2,    0.00,2,    2.43,2,   2.213,2,   1.070,2,   0.3380,2,  2230.9,2,  2281.5,2,   7.4796,2,    25.00, -999.00,9, -999.00,9, -999.00,  -999.0,9, -999.00,9,     -999.0,9,  -999.0,9, 20170929,      803, -32.5000, -71.6589,        0.0,1,      0.064,1,      4.649,1,      0.179,1,     -999.0,9,     -999.0,9,     -999.0,9,     -999.0,9,     -999.0,9,     -999.0,9,     -999.0,9,     -999.0,9,     -999.0,9,     -999.0,9,     -999.0,9,     6.9102,2,     -999.0,     -999.0,9,     -999.0
320620170820,        P06,     249,          1,          3,          3,2,20170929,       0800,   -32.4999,   -71.6583,        462,   352.3,   8.0255,  34.4773,2,  34.4730,2,  51.6644,2,  55.2644,2,    23.2,2,   35.69,2,    0.00,2,    2.70,2,   1.532,2,   0.713,2,   0.3740,2,  2263.2,2,  2286.9,2,   7.3892,6,    25.00, -999.00,9, -999.00,9, -999.00,  -999.0,9, -999.00,9,     -999.0,9,  -999.0,9, 20170929,      804, -32.5000, -71.6588,        0.0,1,      0.066,1,      4.636,1,      0.201,1,     -999.0,9,     -999.0,9,     -999.0,9,     -999.0,9,     -999.0,9,     -999.0,9,     -999.0,9,     -999.0,9,     -999.0,9,     -999.0,9,     -999.0,9,     8.0410,2,     -999.0,     -999.0,9,     -999.0
320620170820,        P06,     249,          1,          4,          4,2,20170929,       0800,   -32.4999,   -71.6583,        462,   303.9,   8.5848,  34.5220,2,  34.5084,2,  33.8502,2,  37.3762,2,    24.2,2,   35.44,2,    0.02,2,    2.76,2,   1.339,2,   0.662,2,   0.3280,2,  2272.5,6,  2287.5,2,   7.3648,2,    25.00, -999.00,9, -999.00,9, -999.00,  -999.0,9, -999.00,9,     -999.0,9,  -999.0,9, 20170929,      806, -32.5000, -71.6588,        0.0,1,      0.066,1,      4.637,1,      0.202,1,     -999.0,9,     -999.0,9,     -999.0,9,     -999.0,9,     -999.0,9,     -999.0,9,     -999.0,9,     -999.0,9,     -999.0,9,     -999.0,9,     -999.0,9,     8.5053,2,     -999.0,     -999.0,9,     -999.0
320620170820,        P06,     249,          1,          5,          5,2,20170929,       0800,   -32.4999,   -71.6583,        462,   256.9,   9.1582,  34.5682,2,  34.5594,2,  17.6668,2,  20.3932,2,    25.1,2,   33.83,2,    0.02,2,    2.82,2,   1.158,2,   0.574,2,   0.1780,2,  2280.6,2,  2288.2,2,   7.3457,2,    25.00, -999.00,9, -999.00,9, -999.00,  -999.0,9, -999.00,9,     -999.0,9,  -999.0,9, 20170929,      808, -32.5000, -71.6587,        0.0,1,      0.067,1,      4.630,1,      0.212,1,     -999.0,9,     -999.0,9,     -999.0,9,     -999.0,9,     -999.0,9,     -999.0,9,     -999.0,9,     -999.0,9,     -999.0,9,     -999.0,9,     -999.0,9,     9.1635,2,     -999.0,     -999.0,9,     -999.0
320620170820,        P06,     249,          1,          6,          6,2,20170929,       0800,   -32.4999,   -71.6583,        462,   226.8,   9.6989,  34.5938,2,  34.5922,2,  14.0437,2,  14.9609,2,    25.2,2,   31.39,2,    0.03,2,    2.82,2,   1.145,2,   0.580,2,   0.2210,2,  -999.0,9,  2290.1,2,   7.3420,2,    25.00, -999.00,9, -999.00,9, -999.00,  -999.0,9, -999.00,9,     -999.0,9,  -999.0,9, 20170929,      810, -32.5000, -71.6586,        0.0,1,      0.067,1,      4.625,1,      0.220,1,     -999.0,9,     -999.0,9,     -999.0,9,     -999.0,9,     -999.0,9,     -999.0,9,     -999.0,9,     -999.0,9,     -999.0,9,     -999.0,9,     -999.0,9,     9.7099,2,     -999.0,     -999.0,9,     -999.0
320620170820,        P06,     249,          1,          7,          7,2,20170929,       0800,   -32.4999,   -71.6583,        462,   202.6,  10.0123,  34.6112,2,  34.6060,2,  12.1098,2,  13.8065,2,    25.2,2,   29.61,2,    0.03,2,    2.81,2,   1.183,2,   0.598,2,   0.2750,2,  2281.4,2,  2289.1,2,   7.3427,2,    25.00, -999.00,9, -999.00,9, -999.00,  -999.0,9, -999.00,9,     -999.0,9,  -999.0,9, 20170929,      812, -32.5000, -71.6586,        0.0,1,      0.067,1,      4.602,1,      0.262,1,     -999.0,9,     -999.0,9,     -999.0,9,     -999.0,9,     -999.0,9,     -999.0,9,     -999.0,9,     -999.0,9,     -999.0,9,     -999.0,9,     -999.0,9,    10.0112,2,     -999.0,     -999.0,9,     -999.0
320620170820,        P06,     249,          1,          8,          8,2,20170929,       0800,   -32.4999,   -71.6583,        462,   177.4,  10.4605,  34.6346,2,  34.6288,2,    9.777,2,  11.7389,2,    25.1,2,   27.46,2,    0.02,2,    2.80,2,   1.207,2,   0.633,2,   0.3280,2,  2283.1,2,  2287.9,2,   7.3444,2,    25.00, -999.00,9, -999.00,9, -999.00,  -999.0,9, -999.00,9,     -999.0,9,  -999.0,9, 20170929,      813, -32.5000, -71.6585,        0.0,1,      0.069,1,      4.580,1,      0.301,1,     -999.0,9,     -999.0,9,     -999.0,9,     -999.0,9,     -999.0,9,     -999.0,9,     -999.0,9,     -999.0,9,     -999.0,9,     -999.0,9,     -999.0,9,    10.4573,2,     -999.0,     -999.0,9,     -999.0
320620170820,        P06,     249,          1,          9,          9,2,20170929,       0800,   -32.4999,   -71.6583,        462,   151.1,  10.5137,  34.6226,2,  34.6185,2,  10.9149,2,  12.5918,2,    24.6,2,   27.20,2,    0.02,2,    2.80,2,   1.298,2,   0.689,2,   0.3320,2,  2282.8,2,  2289.0,2,   7.3411,2,    25.00, -999.00,9, -999.00,9, -999.00,  -999.0,9, -999.00,9,     -999.0,9,  -999.0,9, 20170929,      815, -32.4999, -71.6585,        0.0,1,      0.072,1,      4.552,1,      0.336,1,     -999.0,9,     -999.0,9,     -999.0,9,     -999.0,9,     -999.0,9,     -999.0,9,     -999.0,9,     -999.0,9,     -999.0,9,     -999.0,9,     -999.0,9,    10.5063,2,     -999.0,     -999.0,9,     -999.0
320620170820,        P06,     249,          1,         10,         10,2,20170929,       0800,   -32.4999,   -71.6583,        462,   125.8,  10.5806,  34.6229,2,  34.6176,2,  11.4829,2,  12.9801,2,    24.4,2,   26.90,2,    0.02,2,    2.78,2,   1.309,2,   0.692,2,   0.3830,2,  -999.0,9,  2288.2,2,   7.3433,2,    25.00, -999.00,9, -999.00,9, -999.00,  -999.0,9, -999.00,9,     -999.0,9,  -999.0,9, 20170929,      816, -32.4999, -71.6585,        0.0,1,      0.073,1,      4.553,1,      0.351,1,     -999.0,9,     -999.0,9,     -999.0,9,     -999.0,9,     -999.0,9,     -999.0,9,     -999.0,9,     -999.0,9,     -999.0,9,     -999.0,9,     -999.0,9,    10.5619,2,     -999.0,     -999.0,9,     -999.0
320620170820,        P06,     249,          1,         11,         11,2,20170929,       0800,   -32.4999,   -71.6583,        462,   101.2,  10.6716,  34.6221,2,  34.6189,2,  12.3209,2,  13.9324,2,    24.2,2,   26.34,2,    0.03,2,    2.77,2,   1.358,2,   0.717,2,   0.3070,2,  2280.9,2,  2288.4,2,   7.3449,2,    25.00, -999.00,9, -999.00,9, -999.00,  -999.0,9, -999.00,9,     -999.0,9,  -999.0,9, 20170929,      818, -32.4999, -71.6584,        0.0,1,      0.075,1,      4.557,1,      0.322,1,     -999.0,9,     -999.0,9,     -999.0,9,     -999.0,9,     -999.0,9,     -999.0,9,     -999.0,9,     -999.0,9,     -999.0,9,     -999.0,9,     -999.0,9,    10.6516,2,     -999.0,     -999.0,9,     -999.0
320620170820,        P06,     249,          1,         12,         12,2,20170929,       0800,   -32.4999,   -71.6583,        462,    75.2,  10.8161,  34.6228,2,  34.6183,2,  14.0157,2,  14.5077,2,    24.1,2,   25.61,2,    0.03,2,    2.75,2,   1.407,2,   0.758,2,   0.4160,2,  2279.2,2,  2287.7,2,   7.3480,2,    25.00, -999.00,9, -999.00,9, -999.00,  -999.0,9, -999.00,9,     -999.0,9,  -999.0,9, 20170929,      820, -32.4999, -71.6584,        0.0,1,      0.084,1,      4.530,1,      0.392,1,     -999.0,9,     -999.0,9,     -999.0,9,     -999.0,9,     -999.0,9,     -999.0,9,     -999.0,9,     -999.0,9,     -999.0,9,     -999.0,9,     -999.0,9,    10.8026,2,     -999.0,     -999.0,9,     -999.0
320620170820,        P06,     249,          1,         13,         13,2,20170929,       0800,   -32.4999,   -71.6583,        462,    50.8,  10.9646,  34.6082,2,  34.6081,2,  16.6821,2,   17.151,2,    23.1,2,   24.80,2,    0.10,2,    2.73,2,   1.513,2,   0.819,2,   0.4030,2,  2278.5,2,  2286.7,2,   7.3492,2,    25.00, -999.00,9, -999.00,9, -999.00,  -999.0,9, -999.00,9,     -999.0,9,  -999.0,9, 20170929,      821, -32.4999, -71.6583,        0.0,1,      0.123,1,      4.522,1,      0.399,1,     -999.0,9,     -999.0,9,     -999.0,9,     -999.0,9,     -999.0,9,     -999.0,9,     -999.0,9,     -999.0,9,     -999.0,9,     -999.0,9,     -999.0,9,    10.9858,2,     -999.0,     -999.0,9,     -999.0
320620170820,        P06,     249,          1,         14,         14,2,20170929,       0800,   -32.4999,   -71.6583,        462,    25.5,  11.2312,  34.5865,2,  34.5612,2, 121.6159,4,  67.3179,2,    17.2,2,   20.56,2,    0.31,2,    2.23,2,   1.879,2,   1.010,2,   0.7650,2,  2250.1,2,  2287.8,2,   7.4367,2,    25.00, -999.00,9, -999.00,9, -999.00,  -999.0,9, -999.00,9,     -999.0,9,  -999.0,9, 20170929,      823, -32.4999, -71.6583,        0.0,1,      0.223,1,      4.436,1,      0.514,1,     -999.0,9,     -999.0,9,     -999.0,9,     -999.0,9,     -999.0,9,     -999.0,9,     -999.0,9,     -999.0,9,     -999.0,9,     -999.0,9,     -999.0,9,    11.4486,2,     -999.0,     -999.0,9,     -999.0
320620170820,        P06,     249,          1,         15,         15,2,20170929,       0800,   -32.4999,   -71.6583,        462,     5.1,  12.0196,  34.5064,2,  34.4960,2, 186.7476,4, 248.2214,2,     3.8,2,    7.29,2,    0.28,2,    0.92,2,   2.400,2,   1.207,2,   1.0160,2,  2148.3,2,  2295.6,6,   7.7382,2,    25.00,    0.10,2,    2.32,2,    4.07,  -999.0,9, -999.00,9,     -999.0,9,  -999.0,9, 20170929,      824, -32.4999, -71.6583,        0.0,1,      1.345,1,      3.956,1,      0.728,1,     -999.0,9,     -999.0,9,     -999.0,9,     -999.0,9,     -999.0,9,     -999.0,9,     -999.0,9,     -999.0,9,     -999.0,9,     -999.0,9,     -999.0,9,    12.2554,2,     -999.0,     -999.0,9,     -999.0