BOTTLE,20240211CCHSIOCBG
EXPOCODE,SECT_ID,STNNBR,CASTNO,SAMPNO,BTLNBR,BTLNBR_FLAG_W,DATE,TIME,LATITUDE,LONGITUDE,DEPTH,CTDPRS,CTDTMP,CTDSAL,CTDSAL_FLAG_W,SALNTY,SALNTY_FLAG_W,CTDOXY,CTDOXY_FLAG_W,OXYGEN,OXYGEN_FLAG_W,SILCAT,SILCAT_FLAG_W,NITRAT,NITRAT_FLAG_W,NITRIT,NITRIT_FLAG_W,PHSPHT,PHSPHT_FLAG_W,CFC-11,CFC-11_FLAG_W,CFC-12,CFC-12_FLAG_W,SF6,SF6_FLAG_W,TCARBN,TCARBN_FLAG_W,ALKALI,ALKALI_FLAG_W,PH_TOT,PH_TOT_FLAG_W,PH_TMP,DELC13,DELC13_FLAG_W,DELC14,DELC14_FLAG_W,C14ERR,DOC,DOC_FLAG_W,TDN,TDN_FLAG_W,TON,TON_FLAG_W,D15N_NO3,D15N_NO3_FLAG_W,BTL_DATE,BTL_TIME,BTL_LAT,BTL_LON,CTDRINKO,CTDRINKO_FLAG_W,CTDFLUOR,CTDFLUOR_FLAG_W,CTDXMISS,CTDXMISS_FLAG_W,CTDBACKSCATTER,CTDBACKSCATTER_FLAG_W,D18O_NO3,D18O_NO3_FLAG_W,DOP,DOP_FLAG_W,CELLCOUNT,CELLCOUNT_FLAG_W,TDP,TDP_FLAG_W,POP,POP_FLAG_W,DATP,DATP_FLAG_W,PATP,PATP_FLAG_W,HPLC,HPLC_FLAG_W,POC,POC_FLAG_W,BEAMAP,BEAMAP_FLAG_W,DOC_NASA,DOC_NASA_FLAG_W,REFTMP,REFTMP_FLAG_W,DOC_NASA_ERROR,TDN_NASA,TDN_NASA_FLAG_W,TDN_NASA_ERROR
,,,,,,,,,,,METERS,DBAR,ITS-90,PSS-78,,PSS-78,,UMOL/KG,,UMOL/KG,,UMOL/KG,,UMOL/KG,,UMOL/KG,,UMOL/KG,,PMOL/KG,,PMOL/KG,,FMOL/KG,,UMOL/KG,,UMOL/KG,,,,DEG C,/MILLE,,/MILLE,,/MILLE,UMOL/KG,,UMOL/KG,,UMOL/KG,,/MILLE,,,,,,VOLTS,,VOLTS,,VOLTS,,VOLTS,,/MILLE,,UMOL/KG,,/LITER,,UMOL/KG,,UMOL/L,,PMOL/L,,PMOL/L,,,,UG/L,,/METER,,UMOL/L,,ITS-90,,UMOL/L,UMOL/L,,UMOL/L
320620170820,        P06,     219,          1,         27,         27,2,20170920,       1523,   -32.4999,   -88.2049,       3693,   149.3,  13.9809,  34.2610,2,  34.2589,3,  247.619,2, 243.0667,2,     0.0,2,    5.09,2,    0.18,2,    0.51,2,   2.583,2,   1.444,2,-999.0000,5,  2062.7,2,  2269.2,2,   7.8839,2,    25.00, -999.00,9, -999.00,9, -999.00,  -999.0,9, -999.00,9,     -999.0,9,  -999.0,1, 20170920,     1659, -32.4998, -88.2051,        0.0,1,      0.097,1,      4.650,1,      0.180,1,     -999.0,1,     -999.0,1,     -999.0,9,       0.71,2,     -999.0,9,     -999.0,9,     -999.0,9,     -999.0,9,     -999.0,9,     -999.0,9,     -999.0,9,    14.0945,2,     -999.0,     -999.0,9,     -999.0
320620170820,        P06,     219,          1,         28,         28,2,20170920,       1523,   -32.4999,   -88.2049,       3693,   124.5,  14.4472,  34.3244,2,  34.3817,2,  251.824,2, 252.0347,2,     0.0,2,    2.28,2,    0.13,2,    0.34,2,-999.000,9,-999.000,9,-999.0000,9,  2052.8,2,  2276.8,2,   7.9174,2,    25.00, -999.00,9, -999.00,9, -999.00,  -999.0,9, -999.00,9,     -999.0,9,  -999.0,1, 20170920,     1701, -32.4998, -88.2051,        0.0,1,      0.131,1,      4.635,1,      0.208,1,     -999.0,1,     -999.0,1,     -999.0,9,     -999.0,9,     -999.0,9,     -999.0,9,     -999.0,9,     -999.0,9,     -999.0,9,     -999.0,9,     -999.0,9,    14.7956,2,     -999.0,     -999.0,9,     -999.0
320620170820,        P06,     219,          1,         29,         29,2,20170920,       1523,   -32.4999,   -88.2049,       3693,   100.2,  14.8044,  34.3995,2,  34.4129,2, 252.2551,2, 252.2125,2,     0.0,2,    2.04,2,    0.12,2,    0.31,2,   2.409,2,   1.360,2,-999.0000,5,  2049.8,2,  2277.0,2,   7.9218,2,    25.00, -999.00,9, -999.00,9, -999.00,  -999.0,9, -999.00,9,     -999.0,9,  -999.0,1, 20170920,     1703, -32.4999, -88.2050,        0.0,1,      0.176,1,      4.605,1,      0.242,1,     -999.0,1,     -999.0,1,     -999.0,9,       0.54,2,     -999.0,9,     -999.0,9,     -999.0,9,     -999.0,9,     -999.0,9,     -999.0,9,     -999.0,9,    14.8699,2,     -999.0,     -999.0,9,     -999.0
320620170820,        P06,     219,          1,         30,         30,2,20170920,       1523,   -32.4999,   -88.2049,       3693,    74.9,  14.8319,  34.3979,2,  34.4389,2, 251.1249,2, 250.7598,2,     0.0,2,    1.92,2,    0.12,2,    0.31,2,-999.000,9,-999.000,9,-999.0000,9,  2053.4,2,  2279.1,2,   7.9220,2,    25.00, -999.00,9, -999.00,9, -999.00,  -999.0,9, -999.00,9,     -999.0,9,  -999.0,1, 20170920,     1706, -32.4998, -88.2050,        0.0,1,      0.151,1,      4.615,1,      0.232,1,     -999.0,1,     -999.0,1,     -999.0,9,     -999.0,9,     -999.0,9,     -999.0,9,     -999.0,9,     -999.0,9,     -999.0,9,     -999.0,9,     -999.0,9,    14.9923,2,     -999.0,     -999.0,9,     -999.0
320620170820,        P06,     219,          1,         32,         32,2,20170920,       1523,   -32.4999,   -88.2049,       3693,    49.7,  14.9673,  34.4320,2,-999.0000,9, 243.4707,2,-999.0000,9,  -999.0,9, -999.00,9, -999.00,9, -999.00,9,-999.000,9,-999.000,9,-999.0000,9,  -999.0,9,  -999.0,9,-999.0000,9,  -999.00, -999.00,9, -999.00,9, -999.00,  -999.0,9, -999.00,9,     -999.0,9,  -999.0,9, 20170920,     1709, -32.4999, -88.2050,        0.0,1,      0.182,1,      4.593,1,      0.252,1,     -999.0,9,     -999.0,9,     -999.0,9,     -999.0,9,     -999.0,9,     -999.0,9,     -999.0,9,     -999.0,1,     -999.0,1,     -999.0,1,73.55408987,6,    14.9734,2,8.894184495,91.70137569,6,13.58655367
320620170820,        P06,     219,          1,         33,         33,2,20170920,       1523,   -32.4999,   -88.2049,       3693,    49.4,  14.9673,  34.4320,2,-999.0000,9, 243.2883,2,-999.0000,9,  -999.0,9, -999.00,9, -999.00,9, -999.00,9,-999.000,9,-999.000,9,-999.0000,9,  -999.0,9,  -999.0,9,-999.0000,9,  -999.00, -999.00,9, -999.00,9, -999.00,  -999.0,9, -999.00,9,     -999.0,9,  -999.0,9, 20170920,     1709, -32.4999, -88.2050,        0.0,1,      0.182,1,      4.593,1,      0.252,1,     -999.0,9,     -999.0,9,     -999.0,9,     -999.0,9,     -999.0,9,     -999.0,9,     -999.0,9,     -999.0,1,     -999.0,1,     -999.0,1,73.55408987,6,    14.9729,2,8.894184495,91.70137569,6,13.58655367
320620170820,        P06,     219,          1,         31,         31,2,20170920,       1523,   -32.4999,   -88.2049,       3693,    49.1,  14.9673,  34.4320,2,  34.4318,2, 251.2329,2, 251.2587,2,     0.0,2,    1.95,2,    0.12,2,    0.32,2,   2.437,2,   1.379,2,-999.0000,5,  2050.1,2,  2278.8,6,   7.9217,2,    25.00, -999.00,9, -999.00,9, -999.00,  -999.0,9, -999.00,9,     -999.0,9,  -999.0,1, 20170920,     1708, -32.4999, -88.2050,        0.0,1,      0.182,1,      4.593,1,      0.252,1,     -999.0,1,     -999.0,1,     -999.0,9,     -999.0,9,     -999.0,9,     -999.0,9,     -999.0,9,     -999.0,9,     -999.0,9,     -999.0,9,     -999.0,9,    14.9728,2,     -999.0,     -999.0,9,     -999.0
320620170820,        P06,     219,          1,         35,         35,2,20170920,       1523,   -32.4999,   -88.2049,       3693,    23.8,  14.9928,  34.4361,2,-999.0000,9, 243.9628,2,-999.0000,9,  -999.0,9, -999.00,9, -999.00,9, -999.00,9,-999.000,9,-999.000,9,-999.0000,9,  -999.0,9,  -999.0,9,-999.0000,9,  -999.00, -999.00,9, -999.00,9, -999.00,  -999.0,9, -999.00,9,     -999.0,9,  -999.0,9, 20170920,     1712, -32.4999, -88.2050,        0.0,1,      0.142,1,      4.589,1,      0.235,1,     -999.0,9,     -999.0,9,     -999.0,9,     -999.0,9,     -999.0,9,     -999.0,9,     -999.0,9,     -999.0,1,     -999.0,1,     -999.0,1,72.47165269,6,    15.0130,2,1.376810615,101.0468159,6, 6.37403612
320620170820,        P06,     219,          1,         34,         34,2,20170920,       1523,   -32.4999,   -88.2049,       3693,    23.6,  14.9928,  34.4361,2,  34.4361,2, 250.9112,2, 251.9157,2,     0.0,2,    1.91,2,    0.11,2,    0.32,2,   2.425,2,   1.364,2,-999.0000,5,  2049.7,2,  2278.8,2,   7.9234,2,    25.00, -999.00,9, -999.00,9, -999.00,  -999.0,9, -999.00,9,     -999.0,9,  -999.0,1, 20170920,     1711, -32.4999, -88.2050,        0.0,1,      0.142,1,      4.589,1,      0.235,1,     -999.0,1,     -999.0,1,     -999.0,9,     -999.0,9,     -999.0,9,     -999.0,9,     -999.0,9,     -999.0,9,     -999.0,9,     -999.0,9,     -999.0,9,    15.0133,2,     -999.0,     -999.0,9,     -999.0
320620170820,        P06,     219,          1,         36,         36,2,20170920,       1523,   -32.4999,   -88.2049,       3693,     3.2,  14.9943,  34.4359,2,  34.4408,3, 251.3975,2, 251.9848,2,     0.0,2,    1.91,2,    0.11,2,    0.31,2,   2.424,2,   1.368,2,-999.0000,5,  2051.4,6,  2280.1,2,   7.9226,2,    25.00, -999.00,9, -999.00,9, -999.00,  -999.0,9, -999.00,9,     -999.0,9,  -999.0,1, 20170920,     1714, -32.4999, -88.2049,        0.0,1,      0.100,1,      4.589,1,      0.226,1,     -999.0,1,     -999.0,1,     -999.0,9,       0.51,2,     -999.0,9,     -999.0,9,     -999.0,9,     -999.0,9,     -999.0,9,     -999.0,9,     -999.0,9,    15.4513,2,     -999.0,     -999.0,9,     -999.0