BOTTLE,20240211CCHSIOCBG
EXPOCODE,SECT_ID,STNNBR,CASTNO,SAMPNO,BTLNBR,BTLNBR_FLAG_W,DATE,TIME,LATITUDE,LONGITUDE,DEPTH,CTDPRS,CTDTMP,CTDSAL,CTDSAL_FLAG_W,SALNTY,SALNTY_FLAG_W,CTDOXY,CTDOXY_FLAG_W,OXYGEN,OXYGEN_FLAG_W,SILCAT,SILCAT_FLAG_W,NITRAT,NITRAT_FLAG_W,NITRIT,NITRIT_FLAG_W,PHSPHT,PHSPHT_FLAG_W,CFC-11,CFC-11_FLAG_W,CFC-12,CFC-12_FLAG_W,SF6,SF6_FLAG_W,TCARBN,TCARBN_FLAG_W,ALKALI,ALKALI_FLAG_W,PH_TOT,PH_TOT_FLAG_W,PH_TMP,DELC13,DELC13_FLAG_W,DELC14,DELC14_FLAG_W,C14ERR,DOC,DOC_FLAG_W,TDN,TDN_FLAG_W,TON,TON_FLAG_W,D15N_NO3,D15N_NO3_FLAG_W,BTL_DATE,BTL_TIME,BTL_LAT,BTL_LON,CTDRINKO,CTDRINKO_FLAG_W,CTDFLUOR,CTDFLUOR_FLAG_W,CTDXMISS,CTDXMISS_FLAG_W,CTDBACKSCATTER,CTDBACKSCATTER_FLAG_W,D18O_NO3,D18O_NO3_FLAG_W,DOP,DOP_FLAG_W,CELLCOUNT,CELLCOUNT_FLAG_W,TDP,TDP_FLAG_W,POP,POP_FLAG_W,DATP,DATP_FLAG_W,PATP,PATP_FLAG_W,HPLC,HPLC_FLAG_W,POC,POC_FLAG_W,BEAMAP,BEAMAP_FLAG_W,DOC_NASA,DOC_NASA_FLAG_W,REFTMP,REFTMP_FLAG_W,DOC_NASA_ERROR,TDN_NASA,TDN_NASA_FLAG_W,TDN_NASA_ERROR
,,,,,,,,,,,METERS,DBAR,ITS-90,PSS-78,,PSS-78,,UMOL/KG,,UMOL/KG,,UMOL/KG,,UMOL/KG,,UMOL/KG,,UMOL/KG,,PMOL/KG,,PMOL/KG,,FMOL/KG,,UMOL/KG,,UMOL/KG,,,,DEG C,/MILLE,,/MILLE,,/MILLE,UMOL/KG,,UMOL/KG,,UMOL/KG,,/MILLE,,,,,,VOLTS,,VOLTS,,VOLTS,,VOLTS,,/MILLE,,UMOL/KG,,/LITER,,UMOL/KG,,UMOL/L,,PMOL/L,,PMOL/L,,,,UG/L,,/METER,,UMOL/L,,ITS-90,,UMOL/L,UMOL/L,,UMOL/L
320620170820,        P06,     197,          1,          1,          1,2,20170913,       1312,   -32.5001,  -106.1851,       3324,  3364.4,   1.7928,  34.6878,2,  34.6899,2, 166.8076,2, 166.9091,2,   119.2,2,   34.37,2,    0.00,2,    2.37,2,   0.032,2,   0.018,2,   0.0000,2,  2297.6,2,  2391.1,2,   7.5894,2,    25.00, -999.00,9, -999.00,9, -999.00,  -999.0,9, -999.00,9,     -999.0,9,  -999.0,9, 20170913,     1312, -32.5000,-106.1853,        0.0,1,      0.061,1,      4.687,1,      0.129,1,     -999.0,9,     -999.0,9,     -999.0,9,     -999.0,9,     -999.0,9,     -999.0,9,     -999.0,9,     -999.0,9,     -999.0,9,     -999.0,9,     -999.0,9,     1.7932,2,     -999.0,     -999.0,9,     -999.0
320620170820,        P06,     197,          1,          2,          2,2,20170913,       1312,   -32.5001,  -106.1851,       3324,  3274.9,   1.7839,  34.6881,2,  34.6899,2, 166.8076,2, 166.7964,2,   119.3,2,   34.36,2,    0.00,2,    2.37,2,-999.000,9,-999.000,9,-999.0000,9,  2296.2,2,  2389.7,2,   7.5911,2,    25.00, -999.00,9, -999.00,9, -999.00,  -999.0,9, -999.00,9,     -999.0,9,  -999.0,9, 20170913,     1315, -32.4999,-106.1854,        0.0,1,      0.061,1,      4.687,1,      0.129,1,     -999.0,9,     -999.0,9,     -999.0,9,     -999.0,9,     -999.0,9,     -999.0,9,     -999.0,9,     -999.0,9,     -999.0,9,     -999.0,9,     -999.0,9,     1.7841,2,     -999.0,     -999.0,9,     -999.0
320620170820,        P06,     197,          1,          3,          3,2,20170913,       1312,   -32.5001,  -106.1851,       3324,  3180.7,   1.7771,  34.6874,2,  34.6893,2, 166.8076,2, 167.0834,2,   119.2,2,   34.37,2,    0.00,2,    2.36,2,   0.032,2,   0.021,2,   0.0000,2,  -999.0,9,  -999.0,9,-999.0000,9,  -999.00, -999.00,9, -999.00,9, -999.00,  -999.0,9, -999.00,9,     -999.0,9,  -999.0,9, 20170913,     1318, -32.4999,-106.1854,        0.0,1,      0.061,1,      4.688,1,      0.128,1,     -999.0,9,     -999.0,9,     -999.0,9,     -999.0,9,     -999.0,9,     -999.0,9,     -999.0,9,     -999.0,9,     -999.0,9,     -999.0,9,     -999.0,9,     1.7773,2,     -999.0,     -999.0,9,     -999.0
320620170820,        P06,     197,          1,          4,          4,2,20170913,       1312,   -32.5001,  -106.1851,       3324,  2976.1,   1.7630,  34.6864,2,  34.6883,2, 166.8076,2, 166.6307,2,   119.3,2,   34.39,2,    0.00,2,    2.38,2,-999.000,9,-999.000,9,-999.0000,9,  2297.7,2,  2389.1,2,   7.5899,2,    25.00, -999.00,9, -999.00,9, -999.00,  -999.0,9, -999.00,9,     -999.0,9,  -999.0,9, 20170913,     1322, -32.5000,-106.1853,        0.0,1,      0.060,1,      4.689,1,      0.128,1,     -999.0,9,     -999.0,9,     -999.0,9,     -999.0,9,     -999.0,9,     -999.0,9,     -999.0,9,     -999.0,9,     -999.0,9,     -999.0,9,     -999.0,9,     1.7638,2,     -999.0,     -999.0,9,     -999.0
320620170820,        P06,     197,          1,          5,          5,2,20170913,       1312,   -32.5001,  -106.1851,       3324,  2773.2,   1.7595,  34.6838,2,  34.6859,2, 166.5814,2, 166.4294,2,   119.0,2,   34.42,2,    0.00,2,    2.38,2,   0.035,2,   0.024,2,   0.0000,2,  2296.5,2,  2387.4,2,   7.5892,2,    25.00, -999.00,9, -999.00,9, -999.00,  -999.0,9, -999.00,9,     -999.0,9,  -999.0,9, 20170913,     1327, -32.5000,-106.1852,        0.0,1,      0.060,1,      4.690,1,      0.127,1,     -999.0,9,     -999.0,9,     -999.0,9,     -999.0,9,     -999.0,9,     -999.0,9,     -999.0,9,     -999.0,9,     -999.0,9,     -999.0,9,     -999.0,9,     1.7591,2,     -999.0,     -999.0,9,     -999.0
320620170820,        P06,     197,          1,          6,          6,2,20170913,       1312,   -32.5001,  -106.1851,       3324,  2568.4,   1.7804,  34.6807,2,  34.6816,2, 165.4047,2, 165.1979,2,   117.9,2,   34.41,2,    0.00,2,    2.39,2,-999.000,9,-999.000,9,-999.0000,9,  -999.0,9,  -999.0,9,-999.0000,9,  -999.00, -999.00,9, -999.00,9, -999.00,  -999.0,9, -999.00,9,     -999.0,9,  -999.0,9, 20170913,     1331, -32.5001,-106.1850,        0.0,1,      0.061,1,      4.690,1,      0.127,1,     -999.0,9,     -999.0,9,     -999.0,9,     -999.0,9,     -999.0,9,     -999.0,9,     -999.0,9,     -999.0,9,     -999.0,9,     -999.0,9,     -999.0,9,     1.7842,2,     -999.0,     -999.0,9,     -999.0
320620170820,        P06,     197,          1,          7,          7,2,20170913,       1312,   -32.5001,  -106.1851,       3324,  2364.8,   1.8467,  34.6740,2,  34.6745,2, 163.0579,2,  163.089,2,   115.6,2,   34.57,2,    0.00,2,    2.40,2,   0.039,2,   0.029,2,   0.0000,2,  2297.1,2,  2383.0,2,   7.5807,2,    25.00, -999.00,9, -999.00,9, -999.00,  -999.0,9, -999.00,9,     -999.0,9,  -999.0,9, 20170913,     1336, -32.4999,-106.1855,        0.0,1,      0.061,1,      4.690,1,      0.128,1,     -999.0,9,     -999.0,9,     -999.0,9,     -999.0,9,     -999.0,9,     -999.0,9,     -999.0,9,     -999.0,9,     -999.0,9,     -999.0,9,     -999.0,9,     1.8566,2,     -999.0,     -999.0,9,     -999.0
320620170820,        P06,     197,          1,          8,          8,2,20170913,       1312,   -32.5001,  -106.1851,       3324,  2161.4,   1.9980,  34.6569,2,  34.6570,2, 158.4607,2, 159.0416,2,   110.9,2,   34.85,2,    0.00,2,    2.40,2,   0.041,2,   0.032,2,   0.0000,2,  -999.0,9,  -999.0,9,-999.0000,9,  -999.00, -999.00,9, -999.00,9, -999.00,  -999.0,9, -999.00,9,     -999.0,9,  -999.0,9, 20170913,     1340, -32.4998,-106.1856,        0.0,1,      0.061,1,      4.690,1,      0.128,1,     -999.0,9,     -999.0,9,     -999.0,9,     -999.0,9,     -999.0,9,     -999.0,9,     -999.0,9,     -999.0,9,     -999.0,9,     -999.0,9,     -999.0,9,     2.0034,2,     -999.0,     -999.0,9,     -999.0
320620170820,        P06,     197,          1,          9,          9,2,20170913,       1312,   -32.5001,  -106.1851,       3324,  1957.5,   2.2017,  34.6294,2,  34.6313,2, 154.2728,2, 154.0908,2,   105.6,2,   35.28,2,    0.00,2,    2.44,2,   0.038,2,   0.029,2,   0.0000,2,  2291.0,2,  2373.4,6,   7.5626,2,    25.00, -999.00,9, -999.00,9, -999.00,  -999.0,9, -999.00,9,     -999.0,9,  -999.0,9, 20170913,     1344, -32.5000,-106.1854,        0.0,1,      0.061,1,      4.690,1,      0.129,1,     -999.0,9,     -999.0,9,     -999.0,9,     -999.0,9,     -999.0,9,     -999.0,9,     -999.0,9,     -999.0,9,     -999.0,9,     -999.0,9,     -999.0,9,     2.1912,2,     -999.0,     -999.0,9,     -999.0
320620170820,        P06,     197,          1,         10,         10,2,20170913,       1312,   -32.5001,  -106.1851,       3324,  1785.4,   2.4072,  34.6048,2,  34.6060,2, 144.9584,2, 144.6823,2,   102.3,2,   36.18,2,    0.00,2,    2.53,2,   0.038,2,   0.033,2,   0.0000,2,  2292.2,2,  2370.1,2,   7.5490,6,    25.00, -999.00,9, -999.00,9, -999.00,  -999.0,9, -999.00,9,     -999.0,9,  -999.0,9, 20170913,     1349, -32.5000,-106.1853,        0.0,1,      0.061,1,      4.690,1,      0.129,1,     -999.0,9,     -999.0,9,     -999.0,9,     -999.0,9,     -999.0,9,     -999.0,9,     -999.0,9,     -999.0,9,     -999.0,9,     -999.0,9,     -999.0,9,     2.4022,2,     -999.0,     -999.0,9,     -999.0
320620170820,        P06,     197,          1,         11,         11,2,20170913,       1312,   -32.5001,  -106.1851,       3324,  1682.3,   2.5542,  34.5909,2,  34.5916,2, 139.7712,2, 139.5692,2,    99.6,2,   36.69,2,    0.00,2,    2.56,2,   0.037,2,   0.032,2,   0.0000,2,  2295.0,2,  2368.5,2,   7.5397,2,    25.00, -999.00,9, -999.00,9, -999.00,  -999.0,9, -999.00,9,     -999.0,9,  -999.0,9, 20170913,     1351, -32.4998,-106.1856,        0.0,1,      0.061,1,      4.690,1,      0.131,1,     -999.0,9,     -999.0,9,     -999.0,9,     -999.0,9,     -999.0,9,     -999.0,9,     -999.0,9,     -999.0,9,     -999.0,9,     -999.0,9,     -999.0,9,     2.5557,2,     -999.0,     -999.0,9,     -999.0
320620170820,        P06,     197,          1,         12,         12,4,20170913,       1312,   -32.5001,  -106.1851,       3324,  1581.7,   2.7521,  34.5736,3,  34.6026,3, 125.0994,3, 141.4701,2,   100.6,3,   36.48,3,    0.00,3,    2.54,3,   0.037,3,   0.031,3,   0.0000,3,  2294.6,3,  2369.5,4,   7.5425,4,    25.00, -999.00,9, -999.00,9, -999.00,  -999.0,9, -999.00,9,     -999.0,9,  -999.0,9, 20170913,     1354, -32.4998,-106.1856,        0.0,1,      0.062,1,      4.689,1,      0.132,1,     -999.0,9,     -999.0,9,     -999.0,9,     -999.0,9,     -999.0,9,     -999.0,9,     -999.0,9,     -999.0,9,     -999.0,9,     -999.0,9,     -999.0,9,     2.7470,3,     -999.0,     -999.0,9,     -999.0
320620170820,        P06,     197,          1,         13,         13,2,20170913,       1312,   -32.5001,  -106.1851,       3324,  1480.2,   2.9749,  34.5520,2,  34.5547,2, 126.1763,2, 126.3158,2,    91.0,2,   37.88,2,    0.00,2,    2.66,2,   0.036,2,   0.030,2,   0.0000,2,  2292.0,2,  2358.0,2,   7.5159,2,    25.00, -999.00,9, -999.00,9, -999.00,  -999.0,9, -999.00,9,     -999.0,9,  -999.0,9, 20170913,     1357, -32.4999,-106.1855,        0.0,1,      0.062,1,      4.689,1,      0.131,1,     -999.0,9,     -999.0,9,     -999.0,9,     -999.0,9,     -999.0,9,     -999.0,9,     -999.0,9,     -999.0,9,     -999.0,9,     -999.0,9,     -999.0,9,     2.9588,2,     -999.0,     -999.0,9,     -999.0
320620170820,        P06,     197,          1,         14,         14,2,20170913,       1312,   -32.5001,  -106.1851,       3324,  1378.8,   3.1256,  34.5328,2,  34.5345,2, 122.8148,2, 122.6276,2,    85.6,2,   38.22,2,    0.00,2,    2.67,2,   0.036,2,   0.031,2,   0.0000,2,  2290.2,6,  2351.5,2,   7.5078,2,    25.00, -999.00,9, -999.00,9, -999.00,  -999.0,9, -999.00,9,     -999.0,9,  -999.0,9, 20170913,     1400, -32.5000,-106.1854,        0.0,1,      0.062,1,      4.689,1,      0.131,1,     -999.0,9,     -999.0,9,     -999.0,9,     -999.0,9,     -999.0,9,     -999.0,9,     -999.0,9,     -999.0,9,     -999.0,9,     -999.0,9,     -999.0,9,     3.1193,2,     -999.0,     -999.0,9,     -999.0
320620170820,        P06,     197,          1,         15,         15,2,20170913,       1312,   -32.5001,  -106.1851,       3324,  1277.6,   3.2828,  34.4999,2,  34.5042,2, 123.5255,2, 123.9623,2,    78.0,2,   38.29,2,    0.00,2,    2.67,2,   0.086,2,   0.071,2,   0.0150,2,  2281.4,2,  2342.4,2,   7.5050,2,    25.00, -999.00,9, -999.00,9, -999.00,  -999.0,9, -999.00,9,     -999.0,9,  -999.0,9, 20170913,     1402, -32.5000,-106.1853,        0.0,1,      0.062,1,      4.689,1,      0.131,1,     -999.0,9,     -999.0,9,     -999.0,9,     -999.0,9,     -999.0,9,     -999.0,9,     -999.0,9,     -999.0,9,     -999.0,9,     -999.0,9,     -999.0,9,     3.2716,2,     -999.0,     -999.0,9,     -999.0
320620170820,        P06,     197,          1,         16,         16,2,20170913,       1312,   -32.5001,  -106.1851,       3324,  1176.5,   3.4292,  34.4489,2,  34.4459,2,  137.567,2, 137.8227,2,    64.1,2,   37.29,2,    0.00,2,    2.60,2,   0.086,2,   0.065,2,   0.0260,2,  2262.2,2,  2327.2,2,   7.5189,2,    25.00, -999.00,9, -999.00,9, -999.00,  -999.0,9, -999.00,9,     -999.0,9,  -999.0,9, 20170913,     1405, -32.4999,-106.1854,        0.0,1,      0.061,1,      4.690,1,      0.132,1,     -999.0,9,     -999.0,9,     -999.0,9,     -999.0,9,     -999.0,9,     -999.0,9,     -999.0,9,     -999.0,9,     -999.0,9,     -999.0,9,     -999.0,9,     3.4427,2,     -999.0,     -999.0,9,     -999.0
320620170820,        P06,     197,          1,         17,         17,2,20170913,       1312,   -32.5001,  -106.1851,       3324,  1074.3,   3.7181,  34.3719,2,  34.3707,2, 165.8126,2, 165.2557,2,    47.4,2,   35.16,2,    0.00,2,    2.40,2,   0.285,2,   0.176,2,   0.0300,2,  2231.5,2,  2308.9,2,   7.5548,2,    25.00, -999.00,9, -999.00,9, -999.00,  -999.0,9, -999.00,9,     -999.0,9,  -999.0,9, 20170913,     1408, -32.4999,-106.1855,        0.0,1,      0.061,1,      4.690,1,      0.132,1,     -999.0,9,     -999.0,9,     -999.0,9,     -999.0,9,     -999.0,9,     -999.0,9,     -999.0,9,     -999.0,9,     -999.0,9,     -999.0,9,     -999.0,9,     3.7312,2,     -999.0,     -999.0,9,     -999.0
320620170820,        P06,     197,          1,         18,         18,2,20170913,       1312,   -32.5001,  -106.1851,       3324,   973.3,   4.0647,  34.3236,2,  34.3231,2, 186.2999,2, 186.0551,2,    35.7,2,   33.07,2,    0.00,2,    2.24,2,   0.636,2,   0.344,2,   0.1250,2,  2207.6,2,  2296.4,2,   7.5896,2,    25.00, -999.00,9, -999.00,9, -999.00,  -999.0,9, -999.00,9,     -999.0,9,  -999.0,9, 20170913,     1411, -32.4999,-106.1854,        0.0,1,      0.061,1,      4.690,1,      0.132,1,     -999.0,9,     -999.0,9,     -999.0,9,     -999.0,9,     -999.0,9,     -999.0,9,     -999.0,9,     -999.0,9,     -999.0,9,     -999.0,9,     -999.0,9,     4.0777,2,     -999.0,     -999.0,9,     -999.0
320620170820,        P06,     197,          1,         19,         19,2,20170913,       1312,   -32.5001,  -106.1851,       3324,   871.8,   4.6904,  34.2835,2,  34.2827,2, 197.7796,3, 207.0152,2,    23.5,2,   30.52,2,    0.00,2,    2.07,2,   1.503,2,   0.764,2,   0.2380,2,  2185.8,2,  2286.4,2,   7.6256,2,    25.00, -999.00,9, -999.00,9, -999.00,  -999.0,9, -999.00,9,     -999.0,9,  -999.0,9, 20170913,     1413, -32.5000,-106.1854,        0.0,1,      0.060,1,      4.690,1,      0.132,1,     -999.0,9,     -999.0,9,     -999.0,9,     -999.0,9,     -999.0,9,     -999.0,9,     -999.0,9,     -999.0,9,     -999.0,9,     -999.0,9,     -999.0,9,     4.6745,2,     -999.0,     -999.0,9,     -999.0
320620170820,        P06,     197,          1,         20,         20,2,20170913,       1312,   -32.5001,  -106.1851,       3324,   770.3,   5.2172,  34.2670,2,  34.2666,2, 221.0994,2, 221.1457,2,    15.8,2,   28.38,2,    0.00,2,    1.89,2,   2.424,2,   1.238,2,   0.4900,2,  2170.1,2,  2279.8,2,   7.6497,2,    25.00, -999.00,9, -999.00,9, -999.00,  -999.0,9, -999.00,9,     -999.0,9,  -999.0,9, 20170913,     1416, -32.5000,-106.1852,        0.0,1,      0.060,1,      4.690,1,      0.131,1,     -999.0,9,     -999.0,9,     -999.0,9,     -999.0,9,     -999.0,9,     -999.0,9,     -999.0,9,     -999.0,9,     -999.0,9,     -999.0,9,     -999.0,9,     5.2154,2,     -999.0,     -999.0,9,     -999.0
320620170820,        P06,     197,          1,         21,         21,2,20170913,       1312,   -32.5001,  -106.1851,       3324,   670.0,   5.6735,  34.2689,2,  34.2687,2, 238.5899,2, 238.2954,2,    10.9,2,   25.89,2,    0.00,2,    1.73,2,   3.096,2,   1.636,2,   0.7140,2,  2157.3,2,  2276.8,2,   7.6803,2,    25.00, -999.00,9, -999.00,9, -999.00,  -999.0,9, -999.00,9,     -999.0,9,  -999.0,9, 20170913,     1419, -32.5001,-106.1851,        0.0,1,      0.058,1,      4.689,1,      0.132,1,     -999.0,9,     -999.0,9,     -999.0,9,     -999.0,9,     -999.0,9,     -999.0,9,     -999.0,9,     -999.0,9,     -999.0,9,     -999.0,9,     -999.0,9,     5.6490,2,     -999.0,     -999.0,9,     -999.0
320620170820,        P06,     197,          1,         22,         22,2,20170913,       1312,   -32.5001,  -106.1851,       3324,   569.1,   6.0348,  34.2784,2,  34.2785,2, 246.7429,2, 247.6881,2,     8.4,2,   24.08,2,    0.00,2,    1.61,2,   3.703,2,   1.956,2,   1.1500,2,  2149.4,6,  2273.5,2,   7.6952,2,    25.00, -999.00,9, -999.00,9, -999.00,  -999.0,9, -999.00,9,     -999.0,9,  -999.0,9, 20170913,     1421, -32.5002,-106.1851,        0.0,1,      0.059,1,      4.689,1,      0.132,1,     -999.0,9,     -999.0,9,     -999.0,9,     -999.0,9,     -999.0,9,     -999.0,9,     -999.0,9,     -999.0,9,     -999.0,9,     -999.0,9,     -999.0,9,     6.0447,2,     -999.0,     -999.0,9,     -999.0
320620170820,        P06,     197,          1,         23,         23,2,20170913,       1312,   -32.5001,  -106.1851,       3324,   488.1,   6.4143,  34.2969,2,  34.3009,2, 238.0501,2,  239.192,2,     7.6,2,   23.79,2,    0.00,2,    1.59,2,   3.751,2,   1.939,2,   1.1380,2,  2150.3,2,  2274.6,2,   7.6865,2,    25.00, -999.00,9, -999.00,9, -999.00,  -999.0,9, -999.00,9,     -999.0,9,  -999.0,9, 20170913,     1424, -32.5002,-106.1851,        0.0,1,      0.059,1,      4.687,1,      0.135,1,     -999.0,9,     -999.0,9,     -999.0,9,     -999.0,9,     -999.0,9,     -999.0,9,     -999.0,9,     -999.0,9,     -999.0,9,     -999.0,9,     -999.0,9,     6.4691,2,     -999.0,     -999.0,9,     -999.0
320620170820,        P06,     197,          1,         24,         24,2,20170913,       1312,   -32.5001,  -106.1851,       3324,   437.4,   6.8073,  34.2883,2,  34.2907,2, 231.6842,2, 231.0765,2,     7.0,2,   23.72,2,    0.00,2,    1.57,2,-999.000,9,-999.000,9,-999.0000,9,  2153.5,2,  2273.8,2,   7.6768,2,    25.00, -999.00,9, -999.00,9, -999.00,  -999.0,9, -999.00,9,     -999.0,9,  -999.0,9, 20170913,     1425, -32.5002,-106.1850,        0.0,1,      0.059,1,      4.686,1,      0.135,1,     -999.0,9,     -999.0,9,     -999.0,9,     -999.0,9,     -999.0,9,     -999.0,9,     -999.0,9,     -999.0,9,     -999.0,9,     -999.0,9,     -999.0,9,     6.7648,2,     -999.0,     -999.0,9,     -999.0
320620170820,        P06,     197,          1,         25,         25,2,20170913,       1312,   -32.5001,  -106.1851,       3324,   386.5,   7.4800,  34.3050,2,  34.2823,2, 201.5909,2, 211.3882,2,     6.9,2,   23.78,2,    0.00,2,    1.64,2,   3.514,2,   1.893,2,   1.3390,2,  2160.5,2,  2270.4,2,   7.6558,2,    25.00, -999.00,9, -999.00,9, -999.00,  -999.0,9, -999.00,9,     -999.0,9,  -999.0,9, 20170913,     1427, -32.5002,-106.1850,        0.0,1,      0.060,1,      4.685,1,      0.134,1,     -999.0,9,     -999.0,9,     -999.0,9,     -999.0,9,     -999.0,9,     -999.0,9,     -999.0,9,     -999.0,9,     -999.0,9,     -999.0,9,     -999.0,9,     7.3790,2,     -999.0,     -999.0,9,     -999.0
320620170820,        P06,     197,          1,         26,         26,2,20170913,       1312,   -32.5001,  -106.1851,       3324,   336.0,   8.3418,  34.2939,2,  34.2883,2, 216.6561,2, 226.0186,2,     3.7,2,   19.81,2,    0.00,2,    1.36,2,-999.000,9,-999.000,9,-999.0000,9,  2138.4,2,  2269.8,2,   7.7101,2,    25.00, -999.00,9, -999.00,9, -999.00,  -999.0,9, -999.00,9,     -999.0,9,  -999.0,9, 20170913,     1429, -32.5002,-106.1850,        0.0,1,      0.059,1,      4.684,1,      0.133,1,     -999.0,9,     -999.0,9,     -999.0,9,     -999.0,9,     -999.0,9,     -999.0,9,     -999.0,9,     -999.0,9,     -999.0,9,     -999.0,9,     -999.0,9,     8.3758,2,     -999.0,     -999.0,9,     -999.0