BOTTLE,20240211CCHSIOCBG
EXPOCODE,SECT_ID,STNNBR,CASTNO,SAMPNO,BTLNBR,BTLNBR_FLAG_W,DATE,TIME,LATITUDE,LONGITUDE,DEPTH,CTDPRS,CTDTMP,CTDSAL,CTDSAL_FLAG_W,SALNTY,SALNTY_FLAG_W,CTDOXY,CTDOXY_FLAG_W,OXYGEN,OXYGEN_FLAG_W,SILCAT,SILCAT_FLAG_W,NITRAT,NITRAT_FLAG_W,NITRIT,NITRIT_FLAG_W,PHSPHT,PHSPHT_FLAG_W,CFC-11,CFC-11_FLAG_W,CFC-12,CFC-12_FLAG_W,SF6,SF6_FLAG_W,TCARBN,TCARBN_FLAG_W,ALKALI,ALKALI_FLAG_W,PH_TOT,PH_TOT_FLAG_W,PH_TMP,DELC13,DELC13_FLAG_W,DELC14,DELC14_FLAG_W,C14ERR,DOC,DOC_FLAG_W,TDN,TDN_FLAG_W,TON,TON_FLAG_W,D15N_NO3,D15N_NO3_FLAG_W,BTL_DATE,BTL_TIME,BTL_LAT,BTL_LON,CTDRINKO,CTDRINKO_FLAG_W,CTDFLUOR,CTDFLUOR_FLAG_W,CTDXMISS,CTDXMISS_FLAG_W,CTDBACKSCATTER,CTDBACKSCATTER_FLAG_W,D18O_NO3,D18O_NO3_FLAG_W,DOP,DOP_FLAG_W,CELLCOUNT,CELLCOUNT_FLAG_W,TDP,TDP_FLAG_W,POP,POP_FLAG_W,DATP,DATP_FLAG_W,PATP,PATP_FLAG_W,HPLC,HPLC_FLAG_W,POC,POC_FLAG_W,BEAMAP,BEAMAP_FLAG_W,DOC_NASA,DOC_NASA_FLAG_W,REFTMP,REFTMP_FLAG_W,DOC_NASA_ERROR,TDN_NASA,TDN_NASA_FLAG_W,TDN_NASA_ERROR
,,,,,,,,,,,METERS,DBAR,ITS-90,PSS-78,,PSS-78,,UMOL/KG,,UMOL/KG,,UMOL/KG,,UMOL/KG,,UMOL/KG,,UMOL/KG,,PMOL/KG,,PMOL/KG,,FMOL/KG,,UMOL/KG,,UMOL/KG,,,,DEG C,/MILLE,,/MILLE,,/MILLE,UMOL/KG,,UMOL/KG,,UMOL/KG,,/MILLE,,,,,,VOLTS,,VOLTS,,VOLTS,,VOLTS,,/MILLE,,UMOL/KG,,/LITER,,UMOL/KG,,UMOL/L,,PMOL/L,,PMOL/L,,,,UG/L,,/METER,,UMOL/L,,ITS-90,,UMOL/L,UMOL/L,,UMOL/L
320620170820,        P06,     163,          1,          1,          1,2,20170903,       0012,   -32.5000,  -132.3581,       4307,  4368.9,   1.3592,  34.7040,2,  34.7013,3, 187.8361,3, 189.7148,2,   119.3,2,   32.99,2,    0.00,2,    2.27,2,   0.035,2,   0.021,2,   0.0000,2,  2281.1,6,  2383.7,2,   7.6065,2,    25.00, -999.00,9, -999.00,9, -999.00,  -999.0,9, -999.00,9,     -999.0,9,  -999.0,1, 20170903,       12, -32.4998,-132.3585,        0.0,1,      0.061,1,      4.693,1,      0.124,1,     -999.0,1,     -999.0,9,     -999.0,9,     -999.0,9,     -999.0,9,     -999.0,9,     -999.0,9,     -999.0,9,     -999.0,9,     -999.0,9,     -999.0,9,     1.3600,2,     -999.0,     -999.0,9,     -999.0
320620170820,        P06,     163,          1,          2,          2,2,20170903,       0012,   -32.5000,  -132.3581,       4307,  4221.6,   1.3687,  34.7028,2,  34.7024,2, 187.6411,2, 188.5488,2,   119.5,2,   33.09,2,    0.00,2,    2.28,2,   0.036,2,   0.023,2,   0.0000,2,  -999.0,9,  -999.0,9,-999.0000,9,  -999.00, -999.00,9, -999.00,9, -999.00,  -999.0,9, -999.00,9,     -999.0,9,  -999.0,1, 20170903,       16, -32.4999,-132.3584,        0.0,1,      0.061,1,      4.694,1,      0.124,1,     -999.0,1,     -999.0,9,     -999.0,9,     -999.0,9,     -999.0,9,     -999.0,9,     -999.0,9,     -999.0,9,     -999.0,9,     -999.0,9,     -999.0,9,     1.3690,2,     -999.0,     -999.0,9,     -999.0
320620170820,        P06,     163,          1,          3,          3,2,20170903,       0012,   -32.5000,  -132.3581,       4307,  4066.2,   1.3935,  34.7004,2,  34.6979,2, 187.4398,3, 185.9226,2,   119.9,2,   33.24,2,    0.00,2,    2.31,2,   0.035,2,   0.021,2,   0.0000,2,  2282.7,2,  2387.8,2,   7.6043,6,    25.00, -999.00,9, -999.00,9, -999.00,  -999.0,9, -999.00,9,     -999.0,9,  -999.0,1, 20170903,       20, -32.4999,-132.3584,        0.0,1,      0.060,1,      4.694,1,      0.123,1,     -999.0,1,     -999.0,9,     -999.0,9,     -999.0,9,     -999.0,9,     -999.0,9,     -999.0,9,     -999.0,9,     -999.0,9,     -999.0,9,     -999.0,9,     1.3912,2,     -999.0,     -999.0,9,     -999.0
320620170820,        P06,     163,          1,          4,          4,2,20170903,       0012,   -32.5000,  -132.3581,       4307,  3759.8,   1.5133,  34.6905,2,  34.6903,2, 178.4577,2, 177.5962,2,   121.7,2,   33.85,2,    0.00,2,    2.36,2,   0.036,2,   0.024,2,   0.0000,2,  -999.0,9,  -999.0,9,-999.0000,9,  -999.00, -999.00,9, -999.00,9, -999.00,  -999.0,9, -999.00,9,     -999.0,9,  -999.0,1, 20170903,       27, -32.4999,-132.3586,        0.0,1,      0.061,1,      4.695,1,      0.123,1,     -999.0,1,     -999.0,9,     -999.0,9,     -999.0,9,     -999.0,9,     -999.0,9,     -999.0,9,     -999.0,9,     -999.0,9,     -999.0,9,     -999.0,9,     1.5080,2,     -999.0,     -999.0,9,     -999.0
320620170820,        P06,     163,          1,          5,          5,2,20170903,       0012,   -32.5000,  -132.3581,       4307,  3452.1,   1.5814,  34.6836,2,  34.6826,2, 172.7547,2, 172.0288,2,   122.6,2,   34.32,2,    0.00,2,    2.39,2,   0.035,2,   0.023,2,   0.0000,2,  2296.2,2,  2396.2,2,   7.5930,2,    25.00, -999.00,9, -999.00,9, -999.00,  -999.0,9, -999.00,9,     -999.0,9,  -999.0,1, 20170903,       33, -32.5000,-132.3580,        0.0,1,      0.061,1,      4.695,1,      0.124,1,     -999.0,1,     -999.0,9,     -999.0,9,     -999.0,9,     -999.0,9,     -999.0,9,     -999.0,9,     -999.0,9,     -999.0,9,     -999.0,9,     -999.0,9,     1.5794,2,     -999.0,     -999.0,9,     -999.0
320620170820,        P06,     163,          1,          6,          6,2,20170903,       0012,   -32.5000,  -132.3581,       4307,  3142.9,   1.6480,  34.6769,2,  34.6759,2, 167.8135,2, 167.2333,2,   122.9,2,   34.56,2,    0.00,2,    2.41,2,   0.037,2,   0.026,2,   0.0000,2,  -999.0,9,  -999.0,9,-999.0000,9,  -999.00, -999.00,9, -999.00,9, -999.00,  -999.0,9, -999.00,9,     -999.0,9,  -999.0,1, 20170903,       39, -32.5000,-132.3581,        0.0,1,      0.060,1,      4.695,1,      0.125,1,     -999.0,1,     -999.0,9,     -999.0,9,     -999.0,9,     -999.0,9,     -999.0,9,     -999.0,9,     -999.0,9,     -999.0,9,     -999.0,9,     -999.0,9,     1.6418,2,     -999.0,     -999.0,9,     -999.0
320620170820,        P06,     163,          1,          7,          7,2,20170903,       0012,   -32.5000,  -132.3581,       4307,  2875.2,   1.7059,  34.6711,2,  34.6716,2, 164.3596,2, 163.4617,2,   123.0,2,   34.78,2,    0.00,2,    2.42,2,   0.034,2,   0.024,2,   0.0000,2,  2301.2,2,  2397.4,6,   7.5840,2,    25.00, -999.00,9, -999.00,9, -999.00,  -999.0,9, -999.00,9,     -999.0,9,  -999.0,1, 20170903,       45, -32.5000,-132.3581,        0.0,1,      0.060,1,      4.696,1,      0.127,1,     -999.0,1,     -999.0,9,     -999.0,9,     -999.0,9,     -999.0,9,     -999.0,9,     -999.0,9,     -999.0,9,     -999.0,9,     -999.0,9,     -999.0,9,     1.6969,2,     -999.0,     -999.0,9,     -999.0
320620170820,        P06,     163,          1,          8,          8,2,20170903,       0012,   -32.5000,  -132.3581,       4307,  2617.9,   1.7862,  34.6639,2,  34.6631,2, 159.7584,2, 160.0171,2,   121.4,2,   35.00,2,    0.00,2,    2.46,2,   0.035,2,   0.024,2,   0.0000,2,  -999.0,9,  -999.0,9,-999.0000,9,  -999.00, -999.00,9, -999.00,9, -999.00,  -999.0,9, -999.00,9,     -999.0,9,  -999.0,1, 20170903,       50, -32.5001,-132.3580,        0.0,1,      0.062,1,      4.696,1,      0.126,1,     -999.0,1,     -999.0,9,     -999.0,9,     -999.0,9,     -999.0,9,     -999.0,9,     -999.0,9,     -999.0,9,     -999.0,9,     -999.0,9,     -999.0,9,     1.7796,2,     -999.0,     -999.0,9,     -999.0
320620170820,        P06,     163,          1,          9,          9,2,20170903,       0012,   -32.5000,  -132.3581,       4307,  2363.9,   1.8992,  34.6539,2,  34.6531,2,    156.6,2, 156.8651,2,   118.7,2,   35.17,2,    0.00,2,    2.46,2,   0.036,2,   0.025,2,   0.0000,2,  2303.2,6,  2391.9,2,   7.5770,2,    25.00, -999.00,9, -999.00,9, -999.00,  -999.0,9, -999.00,9,     -999.0,9,  -999.0,1, 20170903,       56, -32.5000,-132.3584,        0.0,1,      0.061,1,      4.696,1,      0.128,1,     -999.0,1,     -999.0,9,     -999.0,9,     -999.0,9,     -999.0,9,     -999.0,9,     -999.0,9,     -999.0,9,     -999.0,9,     -999.0,9,     -999.0,9,     1.8935,2,     -999.0,     -999.0,9,     -999.0
320620170820,        P06,     163,          1,         10,         10,2,20170903,       0012,   -32.5000,  -132.3581,       4307,  2108.7,   2.0437,  34.6409,2,  34.6384,2, 155.2131,2, 155.7951,2,   112.7,2,   35.24,2,    0.00,2,    2.45,2,   0.039,2,   0.025,2,   0.0000,2,  -999.0,9,  -999.0,9,-999.0000,9,  -999.00, -999.00,9, -999.00,9, -999.00,  -999.0,9, -999.00,9,     -999.0,9,  -999.0,1, 20170903,      101, -32.5001,-132.3580,        0.0,1,      0.061,1,      4.696,1,      0.128,1,     -999.0,1,     -999.0,9,     -999.0,9,     -999.0,9,     -999.0,9,     -999.0,9,     -999.0,9,     -999.0,9,     -999.0,9,     -999.0,9,     -999.0,9,     2.0416,2,     -999.0,     -999.0,9,     -999.0
320620170820,        P06,     163,          1,         11,         11,2,20170903,       0012,   -32.5000,  -132.3581,       4307,  1886.4,   2.2417,  34.6170,2,  34.6152,2, 155.9264,2, 156.5686,2,   103.3,2,   35.14,2,    0.00,2,    2.44,2,   0.045,2,   0.030,2,   0.0000,2,  2288.6,2,  2377.4,2,   7.5702,2,    25.00, -999.00,9, -999.00,9, -999.00,  -999.0,9, -999.00,9,     -999.0,9,  -999.0,1, 20170903,      106, -32.5000,-132.3586,        0.0,1,      0.061,1,      4.696,1,      0.128,1,     -999.0,1,     -999.0,9,     -999.0,9,     -999.0,9,     -999.0,9,     -999.0,9,     -999.0,9,     -999.0,9,     -999.0,9,     -999.0,9,     -999.0,9,     2.2382,2,     -999.0,     -999.0,9,     -999.0
320620170820,        P06,     163,          1,         12,         12,2,20170903,       0012,   -32.5000,  -132.3581,       4307,  1684.6,   2.4756,  34.5782,2,  34.5818,2, 159.3625,2,  160.515,2,    92.0,2,   34.93,2,    0.00,2,    2.41,2,   0.063,2,   0.043,2,   0.0000,2,  -999.0,9,  -999.0,9,-999.0000,9,  -999.00, -999.00,9, -999.00,9, -999.00,  -999.0,9, -999.00,9,     -999.0,9,  -999.0,1, 20170903,      111, -32.5000,-132.3584,        0.0,1,      0.061,1,      4.696,1,      0.128,1,     -999.0,1,     -999.0,9,     -999.0,9,     -999.0,9,     -999.0,9,     -999.0,9,     -999.0,9,     -999.0,9,     -999.0,9,     -999.0,9,     -999.0,9,     2.4454,2,     -999.0,     -999.0,9,     -999.0
320620170820,        P06,     163,          1,         13,         13,2,20170903,       0012,   -32.5000,  -132.3581,       4307,  1550.9,   2.6790,  34.5368,2,  34.5411,2,  163.657,2, 163.4965,2,    81.0,2,   34.69,2,    0.00,2,    2.40,2,   0.097,2,   0.063,2,   0.0000,2,  2264.4,2,  2349.4,2,   7.5676,2,    25.00, -999.00,9, -999.00,9, -999.00,  -999.0,9, -999.00,9,     -999.0,9,  -999.0,1, 20170903,      114, -32.5000,-132.3581,        0.0,1,      0.061,1,      4.696,1,      0.127,1,     -999.0,1,     -999.0,9,     -999.0,9,     -999.0,9,     -999.0,9,     -999.0,9,     -999.0,9,     -999.0,9,     -999.0,9,     -999.0,9,     -999.0,9,     2.6515,2,     -999.0,     -999.0,9,     -999.0
320620170820,        P06,     163,          1,         14,         14,2,20170903,       0012,   -32.5000,  -132.3581,       4307,  1449.6,   2.8746,  34.4957,2,  34.4997,2, 168.0299,2, 168.2838,2,    71.1,2,   34.50,2,    0.00,2,    2.38,2,   0.172,2,   0.107,6,   0.0000,6,  -999.0,9,  -999.0,9,-999.0000,9,  -999.00, -999.00,9, -999.00,9, -999.00,  -999.0,9, -999.00,9,     -999.0,9,  -999.0,1, 20170903,      117, -32.5000,-132.3583,        0.0,1,      0.061,1,      4.696,1,      0.131,1,     -999.0,1,     -999.0,9,     -999.0,9,     -999.0,9,     -999.0,9,     -999.0,9,     -999.0,9,     -999.0,9,     -999.0,9,     -999.0,9,     -999.0,9,     2.8468,2,     -999.0,     -999.0,9,     -999.0
320620170820,        P06,     163,          1,         15,         15,2,20170903,       0012,   -32.5000,  -132.3581,       4307,  1349.0,   3.1404,  34.4458,2,  34.4495,2, 173.8156,2, 173.7967,2,    61.3,2,   34.18,2,    0.00,2,    2.35,2,   0.299,2,   0.173,2,   0.0000,2,  2241.8,2,  2327.4,2,   7.5711,2,    25.00, -999.00,9, -999.00,9, -999.00,  -999.0,9, -999.00,9,     -999.0,9,  -999.0,1, 20170903,      120, -32.5000,-132.3584,        0.0,1,      0.061,1,      4.696,1,      0.130,1,     -999.0,1,     -999.0,9,     -999.0,9,     -999.0,9,     -999.0,9,     -999.0,9,     -999.0,9,     -999.0,9,     -999.0,9,     -999.0,9,     -999.0,9,     3.1012,2,     -999.0,     -999.0,9,     -999.0
320620170820,        P06,     163,          1,         16,         16,2,20170903,       0012,   -32.5000,  -132.3581,       4307,  1246.9,   3.5323,  34.3910,2,  34.3874,2, 182.9433,2,  182.561,2,    48.8,2,   33.43,2,    0.00,2,    2.31,2,   0.536,2,   0.297,2,   0.0520,2,  -999.0,9,  -999.0,9,-999.0000,9,  -999.00, -999.00,9, -999.00,9, -999.00,  -999.0,9, -999.00,9,     -999.0,9,  -999.0,1, 20170903,      123, -32.5000,-132.3583,        0.0,1,      0.061,1,      4.696,1,      0.129,1,     -999.0,1,     -999.0,9,     -999.0,9,     -999.0,9,     -999.0,9,     -999.0,9,     -999.0,9,     -999.0,9,     -999.0,9,     -999.0,9,     -999.0,9,     3.5477,2,     -999.0,     -999.0,9,     -999.0
320620170820,        P06,     163,          1,         17,         17,2,20170903,       0012,   -32.5000,  -132.3581,       4307,  1144.8,   3.9659,  34.3482,2,  34.3478,2, 192.2298,2, 192.2331,2,    38.7,2,   32.20,2,    0.00,2,    2.22,2,   0.879,2,   0.469,2,   0.0670,2,  2209.7,2,  2302.8,2,   7.6002,2,    25.00, -999.00,9, -999.00,9, -999.00,  -999.0,9, -999.00,9,     -999.0,9,  -999.0,1, 20170903,      125, -32.5000,-132.3581,        0.0,1,      0.060,1,      4.696,1,      0.128,1,     -999.0,1,     -999.0,9,     -999.0,9,     -999.0,9,     -999.0,9,     -999.0,9,     -999.0,9,     -999.0,9,     -999.0,9,     -999.0,9,     -999.0,9,     3.9767,2,     -999.0,     -999.0,9,     -999.0
320620170820,        P06,     163,          1,         18,         18,2,20170903,       0012,   -32.5000,  -132.3581,       4307,  1042.1,   4.5616,  34.3160,2,  34.3140,2, 204.2766,2, 204.0281,2,    28.3,2,   30.47,2,    0.00,2,    2.10,2,   1.445,2,   0.711,2,   0.2270,2,  -999.0,9,  -999.0,9,-999.0000,9,  -999.00, -999.00,9, -999.00,9, -999.00,  -999.0,9, -999.00,9,     -999.0,9,  -999.0,1, 20170903,      128, -32.5000,-132.3581,        0.0,1,      0.060,1,      4.696,1,      0.128,1,     -999.0,1,     -999.0,9,     -999.0,9,     -999.0,9,     -999.0,9,     -999.0,9,     -999.0,9,     -999.0,9,     -999.0,9,     -999.0,9,     -999.0,9,     4.5621,2,     -999.0,     -999.0,9,     -999.0
320620170820,        P06,     163,          1,         19,         19,2,20170903,       0012,   -32.5000,  -132.3581,       4307,   944.8,   5.1453,  34.2979,2,  34.2944,2, 218.8283,2, 219.0805,2,    18.8,2,   28.10,2,    0.00,2,    1.91,2,   1.995,2,   1.011,2,   0.2780,2,  2175.4,2,  2285.2,2,   7.6548,2,    25.00, -999.00,9, -999.00,9, -999.00,  -999.0,9, -999.00,9,     -999.0,9,  -999.0,1, 20170903,      131, -32.5000,-132.3582,        0.0,1,      0.060,1,      4.696,1,      0.129,1,     -999.0,1,     -999.0,9,     -999.0,9,     -999.0,9,     -999.0,9,     -999.0,9,     -999.0,9,     -999.0,9,     -999.0,9,     -999.0,9,     -999.0,9,     5.2380,2,     -999.0,     -999.0,9,     -999.0
320620170820,        P06,     163,          1,         20,         20,2,20170903,       0012,   -32.5000,  -132.3581,       4307,   843.0,   5.5760,  34.2944,2,  34.2940,2,  233.082,2, 232.4837,2,    12.3,2,   25.82,2,    0.00,2,    1.74,2,   2.605,2,   1.389,2,   0.5110,2,  -999.0,9,  -999.0,9,-999.0000,9,  -999.00, -999.00,9, -999.00,9, -999.00,  -999.0,9, -999.00,9,     -999.0,9,  -999.0,1, 20170903,      134, -32.5000,-132.3584,        0.0,1,      0.060,1,      4.696,1,      0.130,1,     -999.0,1,     -999.0,9,     -999.0,9,     -999.0,9,     -999.0,9,     -999.0,9,     -999.0,9,     -999.0,9,     -999.0,9,     -999.0,9,     -999.0,9,     5.7606,2,     -999.0,     -999.0,9,     -999.0
320620170820,        P06,     163,          1,         21,         21,2,20170903,       0012,   -32.5000,  -132.3581,       4307,   742.6,   6.2399,  34.3131,2,  34.3133,2, 242.1156,2, 241.7624,2,     8.5,2,   23.84,2,    0.00,2,    1.60,2,   3.228,2,   1.736,2,   0.7950,2,  2151.7,2,  2279.2,2,   7.6989,2,    25.00, -999.00,9, -999.00,9, -999.00,  -999.0,9, -999.00,9,     -999.0,9,  -999.0,1, 20170903,      137, -32.5000,-132.3584,        0.0,1,      0.060,1,      4.695,1,      0.130,1,     -999.0,1,     -999.0,9,     -999.0,9,     -999.0,9,     -999.0,9,     -999.0,9,     -999.0,9,     -999.0,9,     -999.0,9,     -999.0,9,     -999.0,9,     6.3068,2,     -999.0,     -999.0,9,     -999.0
320620170820,        P06,     163,          1,         22,         22,2,20170903,       0012,   -32.5000,  -132.3581,       4307,   641.5,   6.6869,  34.3399,2,  34.3395,2, 246.2306,2, 246.3083,2,     6.6,2,   22.44,2,    0.00,2,    1.50,2,   3.481,2,   1.915,2,   1.0300,2,  -999.0,9,  -999.0,9,-999.0000,9,  -999.00, -999.00,9, -999.00,9, -999.00,  -999.0,9, -999.00,9,     -999.0,9,  -999.0,1, 20170903,      140, -32.5000,-132.3583,        0.0,1,      0.059,1,      4.694,1,      0.132,1,     -999.0,1,     -999.0,9,     -999.0,9,     -999.0,9,     -999.0,9,     -999.0,9,     -999.0,9,     -999.0,9,     -999.0,9,     -999.0,9,     -999.0,9,     6.7391,2,     -999.0,     -999.0,9,     -999.0
320620170820,        P06,     163,          1,         23,         23,2,20170903,       0012,   -32.5000,  -132.3581,       4307,   538.6,   7.1720,  34.3712,2,  34.3758,2, 247.4974,2, 247.2116,2,     4.9,2,   20.59,2,    0.00,2,    1.40,2,   3.527,2,   1.978,2,   1.2350,2,  2141.3,2,  2279.4,2,   7.7208,2,    25.00, -999.00,9, -999.00,9, -999.00,  -999.0,9, -999.00,9,     -999.0,9,  -999.0,1, 20170903,      143, -32.5000,-132.3584,        0.0,1,      0.059,1,      4.692,1,      0.133,1,     -999.0,1,     -999.0,9,     -999.0,9,     -999.0,9,     -999.0,9,     -999.0,9,     -999.0,9,     -999.0,9,     -999.0,9,     -999.0,9,     -999.0,9,     7.3259,2,     -999.0,     -999.0,9,     -999.0
320620170820,        P06,     163,          1,         24,         24,2,20170903,       0012,   -32.5000,  -132.3581,       4307,   468.0,   7.6660,  34.3935,2,  34.4053,2, 238.8712,2,  239.446,2,     3.9,2,   19.33,2,    0.00,2,    1.31,2,   3.449,2,   1.926,2,   1.2540,2,  -999.0,9,  -999.0,9,-999.0000,9,  -999.00, -999.00,9, -999.00,9, -999.00,  -999.0,9, -999.00,9,     -999.0,9,  -999.0,1, 20170903,      145, -32.5000,-132.3583,        0.0,1,      0.060,1,      4.691,1,      0.134,1,     -999.0,1,     -999.0,9,     -999.0,9,     -999.0,9,     -999.0,9,     -999.0,9,     -999.0,9,     -999.0,9,     -999.0,9,     -999.0,9,     -999.0,9,     7.9383,2,     -999.0,     -999.0,9,     -999.0
320620170820,        P06,     163,          1,         25,         25,2,20170903,       0012,   -32.5000,  -132.3581,       4307,   419.2,   8.2674,  34.4208,2,  34.4308,2, 230.6048,2, 230.7527,2,     3.4,2,   18.33,2,    0.00,2,    1.26,2,   3.274,2,   1.860,2,   1.3100,2,  2137.2,2,  2280.1,2,   7.7309,2,    25.00, -999.00,9, -999.00,9, -999.00,  -999.0,9, -999.00,9,     -999.0,9,  -999.0,1, 20170903,      147, -32.5000,-132.3584,        0.0,1,      0.058,1,      4.690,1,      0.132,1,     -999.0,1,     -999.0,9,     -999.0,9,     -999.0,9,     -999.0,9,     -999.0,9,     -999.0,9,     -999.0,9,     -999.0,9,     -999.0,9,     -999.0,9,     8.5279,2,     -999.0,     -999.0,9,     -999.0
320620170820,        P06,     163,          1,         26,         26,2,20170903,       0012,   -32.5000,  -132.3581,       4307,   366.6,   9.3831,  34.4944,2,  34.5313,2,  218.455,2, 219.9176,2,     2.2,2,   15.10,2,    0.00,2,    1.06,2,   3.096,2,   1.784,2,   1.1890,2,  2130.1,2,  2283.3,2,   7.7597,2,    25.00, -999.00,9, -999.00,9, -999.00,  -999.0,9, -999.00,9,     -999.0,9,  -999.0,1, 20170903,      149, -32.5000,-132.3585,        0.0,1,      0.059,1,      4.688,1,      0.135,1,     -999.0,1,     -999.0,9,     -999.0,9,     -999.0,9,     -999.0,9,     -999.0,9,     -999.0,9,     -999.0,9,     -999.0,9,     -999.0,9,     -999.0,9,    10.0076,2,     -999.0,     -999.0,9,     -999.0