BOTTLE,20240211CCHSIOCBG
EXPOCODE,SECT_ID,STNNBR,CASTNO,SAMPNO,BTLNBR,BTLNBR_FLAG_W,DATE,TIME,LATITUDE,LONGITUDE,DEPTH,CTDPRS,CTDTMP,CTDSAL,CTDSAL_FLAG_W,SALNTY,SALNTY_FLAG_W,CTDOXY,CTDOXY_FLAG_W,OXYGEN,OXYGEN_FLAG_W,SILCAT,SILCAT_FLAG_W,NITRAT,NITRAT_FLAG_W,NITRIT,NITRIT_FLAG_W,PHSPHT,PHSPHT_FLAG_W,CFC-11,CFC-11_FLAG_W,CFC-12,CFC-12_FLAG_W,SF6,SF6_FLAG_W,TCARBN,TCARBN_FLAG_W,ALKALI,ALKALI_FLAG_W,PH_TOT,PH_TOT_FLAG_W,PH_TMP,DELC13,DELC13_FLAG_W,DELC14,DELC14_FLAG_W,C14ERR,DOC,DOC_FLAG_W,TDN,TDN_FLAG_W,TON,TON_FLAG_W,D15N_NO3,D15N_NO3_FLAG_W,BTL_DATE,BTL_TIME,BTL_LAT,BTL_LON,CTDRINKO,CTDRINKO_FLAG_W,CTDFLUOR,CTDFLUOR_FLAG_W,CTDXMISS,CTDXMISS_FLAG_W,CTDBACKSCATTER,CTDBACKSCATTER_FLAG_W,D18O_NO3,D18O_NO3_FLAG_W,DOP,DOP_FLAG_W,CELLCOUNT,CELLCOUNT_FLAG_W,TDP,TDP_FLAG_W,POP,POP_FLAG_W,DATP,DATP_FLAG_W,PATP,PATP_FLAG_W,HPLC,HPLC_FLAG_W,POC,POC_FLAG_W,BEAMAP,BEAMAP_FLAG_W,DOC_NASA,DOC_NASA_FLAG_W,REFTMP,REFTMP_FLAG_W,DOC_NASA_ERROR,TDN_NASA,TDN_NASA_FLAG_W,TDN_NASA_ERROR
,,,,,,,,,,,METERS,DBAR,ITS-90,PSS-78,,PSS-78,,UMOL/KG,,UMOL/KG,,UMOL/KG,,UMOL/KG,,UMOL/KG,,UMOL/KG,,PMOL/KG,,PMOL/KG,,FMOL/KG,,UMOL/KG,,UMOL/KG,,,,DEG C,/MILLE,,/MILLE,,/MILLE,UMOL/KG,,UMOL/KG,,UMOL/KG,,/MILLE,,,,,,VOLTS,,VOLTS,,VOLTS,,VOLTS,,/MILLE,,UMOL/KG,,/LITER,,UMOL/KG,,UMOL/L,,PMOL/L,,PMOL/L,,,,UG/L,,/METER,,UMOL/L,,ITS-90,,UMOL/L,UMOL/L,,UMOL/L
320620170820,        P06,     178,          3,         27,         27,2,20170907,       2053,   -32.5013,  -120.5546,       3396,   165.3,  13.9007,  34.7291,2,  34.7252,2, 220.3721,2, 227.4999,2,     0.4,2,    4.32,2,    0.07,2,    0.40,2,   2.630,2,   1.561,2,   1.6491,2,  2080.3,2,  2284.6,2,   7.8694,2,    25.00, -999.00,9, -999.00,9, -999.00,    51.8,2, -999.00,5,     -999.0,1,  -999.0,1, 20170907,     2230, -32.5011,-120.5548,        0.0,1,      0.085,1,      4.676,1,      0.138,1,     -999.0,1,     -999.0,1,     -999.0,1,     -999.0,1,     -999.0,1,     -999.0,1,     -999.0,1,     -999.0,9,     -999.0,9,     -999.0,9,     -999.0,9,    13.9727,2,     -999.0,     -999.0,9,     -999.0
320620170820,        P06,     178,          3,         28,         28,2,20170907,       2053,   -32.5013,  -120.5546,       3396,   133.8,  15.0368,  34.7576,2,  34.7592,2, 237.0145,2, 236.5529,2,     0.2,2,    1.73,2,    0.31,2,    0.25,2,   2.536,2,   1.499,2,   1.8274,2,  2070.7,2,  2286.3,2,   7.8995,2,    25.00, -999.00,9, -999.00,9, -999.00,    56.9,2,    5.30,2,     -999.0,1,  -999.0,1, 20170907,     2232, -32.5011,-120.5548,        0.0,1,      0.150,1,      4.657,1,      0.158,1,     -999.0,1,     -999.0,1,     -999.0,9,     -999.0,9,     -999.0,9,     -999.0,9,     -999.0,9,     -999.0,9,     -999.0,9,     -999.0,9,     -999.0,9,    14.7506,2,     -999.0,     -999.0,9,     -999.0
320620170820,        P06,     178,          3,         29,         29,2,20170907,       2053,   -32.5013,  -120.5546,       3396,   110.2,  15.8880,  34.8291,2,-999.0000,9, 235.6596,2,-999.0000,9,  -999.0,9, -999.00,9, -999.00,9, -999.00,9,-999.000,9,-999.000,9,-999.0000,9,  -999.0,9,  -999.0,9,-999.0000,9,  -999.00, -999.00,9, -999.00,9, -999.00,  -999.0,9, -999.00,9,     -999.0,9,  -999.0,9, 20170907,     2235, -32.5012,-120.5547,        0.0,1,      0.191,1,      4.630,1,      0.180,1,     -999.0,9,     -999.0,9,     -999.0,9,     -999.0,9,     -999.0,9,     -999.0,9,     -999.0,9,     -999.0,1,     -999.0,1,     -999.0,1,64.33844729,2,    15.5317,2,-83.18068276,49.91469443,2,     -999.0
320620170820,        P06,     178,          3,         30,         30,2,20170907,       2053,   -32.5013,  -120.5546,       3396,   109.3,  15.9080,  34.8328,2,-999.0000,9, 235.9621,2,-999.0000,9,  -999.0,9, -999.00,9, -999.00,9, -999.00,9,-999.000,9,-999.000,9,-999.0000,9,  -999.0,9,  -999.0,9,-999.0000,9,  -999.00, -999.00,9, -999.00,9, -999.00,  -999.0,9, -999.00,9,     -999.0,9,  -999.0,9, 20170907,     2236, -32.5012,-120.5547,        0.0,1,      0.192,1,      4.628,1,      0.188,1,     -999.0,9,     -999.0,9,     -999.0,9,     -999.0,9,     -999.0,9,     -999.0,9,     -999.0,9,     -999.0,1,     -999.0,1,     -999.0,1,64.33844729,2,    15.5707,2,-83.18068276,49.91469443,2,     -999.0
320620170820,        P06,     178,          3,         31,         31,2,20170907,       2053,   -32.5013,  -120.5546,       3396,   108.6,  15.9080,  34.8328,2,  34.7819,2, 235.8218,2, 243.3377,2,     0.1,2,    0.32,2,    0.11,2,    0.15,2,   2.413,2,   1.435,2,   1.7373,2,  2050.8,2,  2287.7,2,   7.9320,2,    25.00, -999.00,9, -999.00,9, -999.00,    58.2,2,    4.40,2,     -999.0,1,  -999.0,1, 20170907,     2236, -32.5012,-120.5547,        0.0,1,      0.192,1,      4.628,1,      0.188,1,     -999.0,1,     -999.0,1,     -999.0,1,     -999.0,1,     -999.0,1,     -999.0,1,     -999.0,1,     -999.0,9,     -999.0,9,     -999.0,9,     -999.0,9,    15.6173,2,     -999.0,     -999.0,9,     -999.0
320620170820,        P06,     178,          3,         32,         32,2,20170907,       2053,   -32.5013,  -120.5546,       3396,    86.4,  16.3096,  34.8724,2,  34.8338,2, 237.5627,2, 245.2262,2,     0.1,2,    0.02,2,    0.00,2,    0.09,2,   2.302,2,   1.395,2,   1.7569,2,  2049.4,2,  2287.1,2,   7.9462,2,    25.00, -999.00,9, -999.00,9, -999.00,    62.8,2,    4.10,2,     -999.0,1,  -999.0,1, 20170907,     2238, -32.5012,-120.5547,        0.0,1,      0.107,1,      4.630,1,      0.178,1,     -999.0,1,     -999.0,1,     -999.0,1,     -999.0,1,     -999.0,1,     -999.0,1,     -999.0,1,     -999.0,9,     -999.0,9,     -999.0,9,     -999.0,9,    16.0382,2,     -999.0,     -999.0,9,     -999.0
320620170820,        P06,     178,          3,         34,         34,2,20170907,       2053,   -32.5013,  -120.5546,       3396,    49.5,  16.5400,  34.8868,2,  34.8814,2, 235.9297,2, 243.2739,2,     0.1,2,    0.00,2,    0.00,2,    0.08,2,   2.307,2,   1.365,2,   1.8009,2,  2047.1,2,  2291.4,2,   7.9548,2,    25.00, -999.00,9, -999.00,9, -999.00,    62.6,2,    4.50,2,     -999.0,1,  -999.0,1, 20170907,     2241, -32.5013,-120.5547,        0.0,1,      0.074,1,      4.636,1,      0.173,1,     -999.0,1,     -999.0,1,     -999.0,1,     -999.0,1,     -999.0,1,     -999.0,1,     -999.0,1,     -999.0,9,     -999.0,9,     -999.0,9,     -999.0,9,    16.7296,2,     -999.0,     -999.0,9,     -999.0
320620170820,        P06,     178,          3,         33,         33,2,20170907,       2053,   -32.5013,  -120.5546,       3396,    49.3,  16.5400,  34.8868,2,-999.0000,9, 236.2208,2,-999.0000,9,  -999.0,9, -999.00,9, -999.00,9, -999.00,9,-999.000,9,-999.000,9,-999.0000,9,  -999.0,9,  -999.0,9,-999.0000,9,  -999.00, -999.00,9, -999.00,9, -999.00,  -999.0,9, -999.00,9,     -999.0,9,  -999.0,9, 20170907,     2241, -32.5013,-120.5547,        0.0,1,      0.074,1,      4.636,1,      0.173,1,     -999.0,9,     -999.0,9,     -999.0,9,     -999.0,9,     -999.0,9,     -999.0,9,     -999.0,9,     -999.0,1,     -999.0,1,     -999.0,1,68.44272959,2,    16.7349,2,-83.18068276,48.07734372,2,     -999.0
320620170820,        P06,     178,          3,         35,         35,2,20170907,       2053,   -32.5013,  -120.5546,       3396,    33.4,  16.8943,  34.9098,2,  34.8869,2, 236.0122,2, 243.2618,2,     0.1,2,    0.00,2,    0.00,2,    0.09,2,   2.277,2,   1.356,2,   1.7813,2,  2045.7,2,  2292.0,2,   7.9552,2,    25.00, -999.00,9, -999.00,9, -999.00,    59.7,2,    4.00,2,     -999.0,1,  -999.0,1, 20170907,     2243, -32.5013,-120.5547,        0.0,1,      0.068,1,      4.641,1,      0.165,1,     -999.0,1,     -999.0,1,     -999.0,1,     -999.0,1,     -999.0,1,     -999.0,1,     -999.0,1,     -999.0,9,     -999.0,9,     -999.0,9,     -999.0,9,    16.8917,2,     -999.0,     -999.0,9,     -999.0
320620170820,        P06,     178,          3,         36,         36,2,20170907,       2053,   -32.5013,  -120.5546,       3396,     8.0,  17.4067,  34.9625,2,  34.8930,2, 246.1691,2,  243.058,2,     0.2,2,    0.01,2,    0.00,2,    0.10,2,   2.275,2,   1.364,2,   1.7030,2,  2045.1,6,  2291.2,2,   7.9542,2,    25.00, -999.00,9, -999.00,9, -999.00,    67.7,3,    3.90,2,     -999.0,1,  -999.0,1, 20170907,     2245, -32.5013,-120.5546,        0.0,1,      0.062,1,      4.652,1,      0.156,1,     -999.0,1,     -999.0,1,     -999.0,9,     -999.0,9,     -999.0,9,     -999.0,9,     -999.0,9,     -999.0,9,     -999.0,9,     -999.0,9,     -999.0,9,    17.1241,2,     -999.0,     -999.0,9,     -999.0