BOTTLE,20240211CCHSIOCBG
EXPOCODE,SECT_ID,STNNBR,CASTNO,SAMPNO,BTLNBR,BTLNBR_FLAG_W,DATE,TIME,LATITUDE,LONGITUDE,DEPTH,CTDPRS,CTDTMP,CTDSAL,CTDSAL_FLAG_W,SALNTY,SALNTY_FLAG_W,CTDOXY,CTDOXY_FLAG_W,OXYGEN,OXYGEN_FLAG_W,SILCAT,SILCAT_FLAG_W,NITRAT,NITRAT_FLAG_W,NITRIT,NITRIT_FLAG_W,PHSPHT,PHSPHT_FLAG_W,CFC-11,CFC-11_FLAG_W,CFC-12,CFC-12_FLAG_W,SF6,SF6_FLAG_W,TCARBN,TCARBN_FLAG_W,ALKALI,ALKALI_FLAG_W,PH_TOT,PH_TOT_FLAG_W,PH_TMP,DELC13,DELC13_FLAG_W,DELC14,DELC14_FLAG_W,C14ERR,DOC,DOC_FLAG_W,TDN,TDN_FLAG_W,TON,TON_FLAG_W,D15N_NO3,D15N_NO3_FLAG_W,BTL_DATE,BTL_TIME,BTL_LAT,BTL_LON,CTDRINKO,CTDRINKO_FLAG_W,CTDFLUOR,CTDFLUOR_FLAG_W,CTDXMISS,CTDXMISS_FLAG_W,CTDBACKSCATTER,CTDBACKSCATTER_FLAG_W,D18O_NO3,D18O_NO3_FLAG_W,DOP,DOP_FLAG_W,CELLCOUNT,CELLCOUNT_FLAG_W,TDP,TDP_FLAG_W,POP,POP_FLAG_W,DATP,DATP_FLAG_W,PATP,PATP_FLAG_W,HPLC,HPLC_FLAG_W,POC,POC_FLAG_W,BEAMAP,BEAMAP_FLAG_W,DOC_NASA,DOC_NASA_FLAG_W,REFTMP,REFTMP_FLAG_W,DOC_NASA_ERROR,TDN_NASA,TDN_NASA_FLAG_W,TDN_NASA_ERROR
,,,,,,,,,,,METERS,DBAR,ITS-90,PSS-78,,PSS-78,,UMOL/KG,,UMOL/KG,,UMOL/KG,,UMOL/KG,,UMOL/KG,,UMOL/KG,,PMOL/KG,,PMOL/KG,,FMOL/KG,,UMOL/KG,,UMOL/KG,,,,DEG C,/MILLE,,/MILLE,,/MILLE,UMOL/KG,,UMOL/KG,,UMOL/KG,,/MILLE,,,,,,VOLTS,,VOLTS,,VOLTS,,VOLTS,,/MILLE,,UMOL/KG,,/LITER,,UMOL/KG,,UMOL/L,,PMOL/L,,PMOL/L,,,,UG/L,,/METER,,UMOL/L,,ITS-90,,UMOL/L,UMOL/L,,UMOL/L
320620170820,        P06,     171,          1,         27,         27,2,20170905,       1514,   -32.5010,  -125.8766,       4272,   149.7,  16.3066,  35.0156,2,  34.9624,3, 231.0407,2, 232.8147,2,     0.2,2,    0.74,2,    0.23,2,    0.18,2,   2.377,2,   1.431,2,   1.6330,2,  2070.9,2,  2299.1,6,   7.9175,2,    25.00, -999.00,9, -999.00,9, -999.00,  -999.0,9, -999.00,9,     -999.0,9,  -999.0,1, 20170905,     1653, -32.5005,-125.8765,        0.0,1,      0.145,1,      4.659,1,      0.156,1,     -999.0,1,     -999.0,1,     -999.0,9,     -999.0,9,     -999.0,9,     -999.0,9,     -999.0,9,     -999.0,9,     -999.0,9,     -999.0,9,     -999.0,9,    15.6825,2,     -999.0,     -999.0,9,     -999.0
320620170820,        P06,     171,          1,         29,         29,2,20170905,       1514,   -32.5010,  -125.8766,       4272,   131.4,  17.0395,  35.1174,2,-999.0000,9, 226.7272,2,-999.0000,9,  -999.0,9, -999.00,9, -999.00,9, -999.00,9,-999.000,9,-999.000,9,-999.0000,9,  -999.0,9,  -999.0,9,-999.0000,9,  -999.00, -999.00,9, -999.00,9, -999.00,  -999.0,9, -999.00,9,     -999.0,9,  -999.0,9, 20170905,     1655, -32.5006,-125.8766,        0.0,1,      0.156,1,      4.649,1,      0.168,1,     -999.0,9,     -999.0,9,     -999.0,9,     -999.0,9,     -999.0,9,     -999.0,9,     -999.0,9,     -999.0,1,     -999.0,1,     -999.0,1,61.50838076,6,     -999.0,5,0.792601335,50.88041341,6,3.336145185
320620170820,        P06,     171,          1,         30,         30,2,20170905,       1514,   -32.5010,  -125.8766,       4272,   131.0,  17.0395,  35.1174,2,-999.0000,9, 226.8652,2,-999.0000,9,  -999.0,9, -999.00,9, -999.00,9, -999.00,9,-999.000,9,-999.000,9,-999.0000,9,  -999.0,9,  -999.0,9,-999.0000,9,  -999.00, -999.00,9, -999.00,9, -999.00,  -999.0,9, -999.00,9,     -999.0,9,  -999.0,9, 20170905,     1655, -32.5006,-125.8766,        0.0,1,      0.156,1,      4.649,1,      0.168,1,     -999.0,9,     -999.0,9,     -999.0,9,     -999.0,9,     -999.0,9,     -999.0,9,     -999.0,9,     -999.0,1,     -999.0,1,     -999.0,1,61.50838076,6,    16.4469,2,0.792601335,50.88041341,6,3.336145185
320620170820,        P06,     171,          1,         28,         28,2,20170905,       1514,   -32.5010,  -125.8766,       4272,   128.3,  17.0698,  35.1231,2,  35.0274,2,  233.792,2, 233.7792,2,     0.1,2,    0.33,2,    0.14,2,    0.13,2,   2.294,2,   1.377,2,   1.6490,2,  2062.7,2,  2302.5,2,   7.9368,2,    25.00, -999.00,9, -999.00,9, -999.00,  -999.0,9, -999.00,9,     -999.0,9,  -999.0,1, 20170905,     1655, -32.5006,-125.8766,        0.0,1,      0.155,1,      4.649,1,      0.168,1,     -999.0,1,     -999.0,1,     -999.0,9,     -999.0,9,     -999.0,9,     -999.0,9,     -999.0,9,     -999.0,9,     -999.0,9,     -999.0,9,     -999.0,9,    16.4150,2,     -999.0,     -999.0,9,     -999.0
320620170820,        P06,     171,          1,         31,         31,2,20170905,       1514,   -32.5010,  -125.8766,       4272,   101.8,  17.3361,  35.1625,2,  35.1500,2, 238.1368,2, 237.0638,2,     0.1,2,    0.00,2,    0.00,2,    0.07,2,   2.143,2,   1.300,2,   1.5920,2,  2052.5,2,  2308.6,2,   7.9653,6,    25.00, -999.00,9, -999.00,9, -999.00,  -999.0,9, -999.00,9,     -999.0,9,  -999.0,1, 20170905,     1657, -32.5007,-125.8766,        0.0,1,      0.101,1,      4.646,1,      0.168,1,     -999.0,1,     -999.0,1,     -999.0,9,     -999.0,9,     -999.0,9,     -999.0,9,     -999.0,9,     -999.0,9,     -999.0,9,     -999.0,9,     -999.0,9,    17.2484,2,     -999.0,     -999.0,9,     -999.0
320620170820,        P06,     171,          1,         33,         33,2,20170905,       1514,   -32.5010,  -125.8766,       4272,    74.2,  17.3115,  35.1146,2,-999.0000,9, 231.3535,2,-999.0000,9,  -999.0,9, -999.00,9, -999.00,9, -999.00,9,-999.000,9,-999.000,9,-999.0000,9,  -999.0,9,  -999.0,9,-999.0000,9,  -999.00, -999.00,9, -999.00,9, -999.00,  -999.0,9, -999.00,9,     -999.0,9,  -999.0,9, 20170905,     1659, -32.5009,-125.8766,        0.0,1,      0.077,1,      4.652,1,      0.161,1,     -999.0,9,     -999.0,9,     -999.0,9,     -999.0,9,     -999.0,9,     -999.0,9,     -999.0,9,     -999.0,1,     -999.0,1,     -999.0,1,69.51774702,6,    17.3402,2,4.530068497,48.47131376,6,6.372638554
320620170820,        P06,     171,          1,         32,         32,2,20170905,       1514,   -32.5010,  -125.8766,       4272,    73.8,  17.3110,  35.1146,2,  35.1441,2, 238.8559,2,  238.236,2,     0.1,2,    0.00,2,    0.00,2,    0.06,2,   2.183,2,   1.311,2,   1.6730,2,  2050.6,2,  2308.4,2,   7.9681,2,    25.00, -999.00,9, -999.00,9, -999.00,  -999.0,9, -999.00,9,     -999.0,9,  -999.0,1, 20170905,     1659, -32.5009,-125.8766,        0.0,1,      0.076,1,      4.652,1,      0.160,1,     -999.0,1,     -999.0,1,     -999.0,9,     -999.0,9,     -999.0,9,     -999.0,9,     -999.0,9,     -999.0,9,     -999.0,9,     -999.0,9,     -999.0,9,    17.3381,2,     -999.0,     -999.0,9,     -999.0
320620170820,        P06,     171,          1,         34,         34,2,20170905,       1514,   -32.5010,  -125.8766,       4272,    48.7,  17.3050,  35.1149,2,  35.1266,2, 239.1607,2, 238.5517,2,     0.0,2,    0.00,2,    0.00,2,    0.07,2,   2.128,2,   1.290,2,   1.6280,2,  2050.1,2,  2306.8,2,   7.9684,2,    25.00, -999.00,9, -999.00,9, -999.00,  -999.0,9, -999.00,9,     -999.0,9,  -999.0,1, 20170905,     1701, -32.5009,-125.8766,        0.0,1,      0.077,1,      4.653,1,      0.160,1,     -999.0,1,     -999.0,1,     -999.0,9,     -999.0,9,     -999.0,9,     -999.0,9,     -999.0,9,     -999.0,9,     -999.0,9,     -999.0,9,     -999.0,9,    17.3306,2,     -999.0,     -999.0,9,     -999.0
320620170820,        P06,     171,          1,         35,         35,2,20170905,       1514,   -32.5010,  -125.8766,       4272,    22.0,  17.2973,  35.1155,2,  35.1252,2, 239.1421,2, 238.2769,2,     0.1,2,    0.00,2,    0.00,2,    0.07,2,   2.154,2,   1.294,2,   1.6360,2,  2049.8,2,  2306.6,2,   7.9691,2,    25.00, -999.00,9, -999.00,9, -999.00,  -999.0,9, -999.00,9,     -999.0,9,  -999.0,1, 20170905,     1702, -32.5010,-125.8766,        0.0,1,      0.078,1,      4.653,1,      0.159,1,     -999.0,1,     -999.0,1,     -999.0,9,     -999.0,9,     -999.0,9,     -999.0,9,     -999.0,9,     -999.0,9,     -999.0,9,     -999.0,9,     -999.0,9,    17.3259,2,     -999.0,     -999.0,9,     -999.0
320620170820,        P06,     171,          1,         36,         36,2,20170905,       1514,   -32.5010,  -125.8766,       4272,     5.3,  17.2954,  35.1152,2,  35.1242,2, 239.0936,2, 239.5169,2,     0.1,2,    0.00,2,    0.00,2,    0.08,2,   2.179,2,   1.312,2,   1.4930,2,  2050.1,6,  2306.8,2,   7.9681,2,    25.00,    0.82,2,   44.29,2,    4.23,  -999.0,9, -999.00,9,     -999.0,9,  -999.0,1, 20170905,     1703, -32.5010,-125.8766,        0.0,1,      0.077,1,      4.651,1,      0.158,1,     -999.0,1,     -999.0,1,     -999.0,9,     -999.0,9,     -999.0,9,     -999.0,9,     -999.0,9,     -999.0,9,     -999.0,9,     -999.0,9,     -999.0,9,    17.3251,2,     -999.0,     -999.0,9,     -999.0