BOTTLE,20240211CCHSIOCBG
EXPOCODE,SECT_ID,STNNBR,CASTNO,SAMPNO,BTLNBR,BTLNBR_FLAG_W,DATE,TIME,LATITUDE,LONGITUDE,DEPTH,CTDPRS,CTDTMP,CTDSAL,CTDSAL_FLAG_W,SALNTY,SALNTY_FLAG_W,CTDOXY,CTDOXY_FLAG_W,OXYGEN,OXYGEN_FLAG_W,SILCAT,SILCAT_FLAG_W,NITRAT,NITRAT_FLAG_W,NITRIT,NITRIT_FLAG_W,PHSPHT,PHSPHT_FLAG_W,CFC-11,CFC-11_FLAG_W,CFC-12,CFC-12_FLAG_W,SF6,SF6_FLAG_W,TCARBN,TCARBN_FLAG_W,ALKALI,ALKALI_FLAG_W,PH_TOT,PH_TOT_FLAG_W,PH_TMP,DELC13,DELC13_FLAG_W,DELC14,DELC14_FLAG_W,C14ERR,DOC,DOC_FLAG_W,TDN,TDN_FLAG_W,TON,TON_FLAG_W,D15N_NO3,D15N_NO3_FLAG_W,BTL_DATE,BTL_TIME,BTL_LAT,BTL_LON,CTDRINKO,CTDRINKO_FLAG_W,CTDFLUOR,CTDFLUOR_FLAG_W,CTDXMISS,CTDXMISS_FLAG_W,CTDBACKSCATTER,CTDBACKSCATTER_FLAG_W,D18O_NO3,D18O_NO3_FLAG_W,DOP,DOP_FLAG_W,CELLCOUNT,CELLCOUNT_FLAG_W,TDP,TDP_FLAG_W,POP,POP_FLAG_W,DATP,DATP_FLAG_W,PATP,PATP_FLAG_W,HPLC,HPLC_FLAG_W,POC,POC_FLAG_W,BEAMAP,BEAMAP_FLAG_W,DOC_NASA,DOC_NASA_FLAG_W,REFTMP,REFTMP_FLAG_W,DOC_NASA_ERROR,TDN_NASA,TDN_NASA_FLAG_W,TDN_NASA_ERROR
,,,,,,,,,,,METERS,DBAR,ITS-90,PSS-78,,PSS-78,,UMOL/KG,,UMOL/KG,,UMOL/KG,,UMOL/KG,,UMOL/KG,,UMOL/KG,,PMOL/KG,,PMOL/KG,,FMOL/KG,,UMOL/KG,,UMOL/KG,,,,DEG C,/MILLE,,/MILLE,,/MILLE,UMOL/KG,,UMOL/KG,,UMOL/KG,,/MILLE,,,,,,VOLTS,,VOLTS,,VOLTS,,VOLTS,,/MILLE,,UMOL/KG,,/LITER,,UMOL/KG,,UMOL/L,,PMOL/L,,PMOL/L,,,,UG/L,,/METER,,UMOL/L,,ITS-90,,UMOL/L,UMOL/L,,UMOL/L
320620170820,        P06,     211,          1,         27,         27,2,20170917,       2205,   -32.4999,   -95.3254,       3748,   315.8,   8.6666,  34.2196,2,  34.2187,3, 215.3606,2, 215.3619,2,     4.2,2,   21.07,2,    0.00,2,    1.48,2,   3.552,2,   1.917,2,   1.3680,2,  2144.9,2,  2266.1,2,   7.6816,2,    25.00, -999.00,9, -999.00,9, -999.00,  -999.0,9, -999.00,9,     -999.0,9,  -999.0,9, 20170917,     2332, -32.5000, -95.3253,        0.0,1,      0.060,1,      4.681,1,      0.135,1,     -999.0,9,     -999.0,9,     -999.0,9,     -999.0,9,     -999.0,9,     -999.0,9,     -999.0,9,     -999.0,9,     -999.0,9,     -999.0,9,     -999.0,9,     8.3705,2,     -999.0,     -999.0,9,     -999.0
320620170820,        P06,     211,          1,         28,         28,2,20170917,       2205,   -32.4999,   -95.3254,       3748,   267.7,  10.2380,  34.2332,2,  34.2193,2, 221.6224,2, 220.6787,2,     1.6,2,   16.76,2,    0.00,2,    1.18,2,   3.379,2,   1.866,2,   1.4530,2,  2123.2,2,  2264.3,2,   7.7375,2,    25.00, -999.00,9, -999.00,9, -999.00,  -999.0,9, -999.00,9,     -999.0,9,  -999.0,9, 20170917,     2334, -32.5000, -95.3254,        0.0,1,      0.061,1,      4.678,1,      0.133,1,     -999.0,9,     -999.0,9,     -999.0,9,     -999.0,9,     -999.0,9,     -999.0,9,     -999.0,9,     -999.0,9,     -999.0,9,     -999.0,9,     -999.0,9,    10.0346,2,     -999.0,     -999.0,9,     -999.0
320620170820,        P06,     211,          1,         29,         29,2,20170917,       2205,   -32.4999,   -95.3254,       3748,   217.0,  12.1905,  34.3272,2,  34.3180,3, 217.2212,2, 218.2804,2,     0.5,2,   11.61,2,    0.02,2,    0.85,2,   2.982,2,   1.705,2,   1.5190,2,  2100.5,2,  2268.1,2,   7.7940,2,    25.00, -999.00,9, -999.00,9, -999.00,  -999.0,9, -999.00,9,     -999.0,9,  -999.0,9, 20170917,     2336, -32.5000, -95.3254,        0.0,1,      0.066,1,      4.675,1,      0.137,1,     -999.0,9,     -999.0,9,     -999.0,9,     -999.0,9,     -999.0,9,     -999.0,9,     -999.0,9,     -999.0,9,     -999.0,9,     -999.0,9,     -999.0,9,    12.2208,2,     -999.0,     -999.0,9,     -999.0
320620170820,        P06,     211,          1,         30,         30,2,20170917,       2205,   -32.4999,   -95.3254,       3748,   166.8,  14.2019,  34.3884,2,  34.3770,2, 231.1727,2, 229.0701,2,     0.1,2,    5.73,2,    0.15,2,    0.53,2,   2.647,2,   1.544,2,   1.5380,2,  2072.1,2,  2272.6,2,   7.8666,2,    25.00, -999.00,9, -999.00,9, -999.00,  -999.0,9, -999.00,9,     -999.0,9,  -999.0,9, 20170917,     2338, -32.5000, -95.3254,        0.0,1,      0.089,1,      4.663,1,      0.154,1,     -999.0,9,     -999.0,9,     -999.0,9,     -999.0,9,     -999.0,9,     -999.0,9,     -999.0,9,     -999.0,9,     -999.0,9,     -999.0,9,     -999.0,9,    14.1072,2,     -999.0,     -999.0,9,     -999.0
320620170820,        P06,     211,          1,         31,         31,2,20170917,       2205,   -32.4999,   -95.3254,       3748,   135.4,  15.3720,  34.5307,2,  34.4836,2, 246.8043,2, 248.0037,2,     0.0,2,    1.31,2,    0.11,2,    0.27,2,   2.440,2,   1.440,2,   1.5740,2,  2049.9,2,  2278.7,2,   7.9256,6,    25.00, -999.00,9, -999.00,9, -999.00,  -999.0,9, -999.00,9,     -999.0,9,  -999.0,9, 20170917,     2340, -32.5000, -95.3254,        0.0,1,      0.118,1,      4.650,1,      0.177,1,     -999.0,9,     -999.0,9,     -999.0,9,     -999.0,9,     -999.0,9,     -999.0,9,     -999.0,9,     -999.0,9,     -999.0,9,     -999.0,9,     -999.0,9,    15.2310,2,     -999.0,     -999.0,9,     -999.0
320620170820,        P06,     211,          1,         32,         32,2,20170917,       2205,   -32.4999,   -95.3254,       3748,   110.0,  15.5550,  34.5656,2,  34.5429,2,  248.486,2, 247.7991,2,     0.0,2,    1.01,2,    0.09,2,    0.24,2,   2.417,2,   1.428,2,   1.6260,2,  2050.5,2,  2280.9,2,   7.9322,2,    25.00, -999.00,9, -999.00,9, -999.00,  -999.0,9, -999.00,9,     -999.0,9,  -999.0,9, 20170917,     2341, -32.5001, -95.3253,        0.0,1,      0.158,1,      4.635,1,      0.204,1,     -999.0,9,     -999.0,9,     -999.0,9,     -999.0,9,     -999.0,9,     -999.0,9,     -999.0,9,     -999.0,9,     -999.0,9,     -999.0,9,     -999.0,9,    15.4834,2,     -999.0,     -999.0,9,     -999.0
320620170820,        P06,     211,          1,         33,         33,2,20170917,       2205,   -32.4999,   -95.3254,       3748,    87.4,  15.4551,  34.5329,2,  34.5457,2, 247.6996,2, 249.3992,2,     0.0,2,    0.88,2,    0.09,2,    0.23,2,   2.418,2,   1.421,2,   1.7020,2,  2047.6,2,  2282.8,2,   7.9343,2,    25.00, -999.00,9, -999.00,9, -999.00,  -999.0,9, -999.00,9,     -999.0,9,  -999.0,9, 20170917,     2343, -32.5001, -95.3251,        0.0,1,      0.191,1,      4.613,1,      0.214,1,     -999.0,9,     -999.0,9,     -999.0,9,     -999.0,9,     -999.0,9,     -999.0,9,     -999.0,9,     -999.0,9,     -999.0,9,     -999.0,9,     -999.0,9,    15.5108,2,     -999.0,     -999.0,9,     -999.0
320620170820,        P06,     211,          1,         34,         34,2,20170917,       2205,   -32.4999,   -95.3254,       3748,    61.4,  15.5858,  34.5546,2,  34.5712,2,  250.973,2, 249.7723,2,     0.0,2,    0.74,2,    0.08,2,    0.22,2,   2.419,2,   1.422,2,   1.6580,2,  2047.3,2,  2283.1,2,   7.9377,2,    25.00, -999.00,9, -999.00,9, -999.00,  -999.0,9, -999.00,9,     -999.0,9,  -999.0,9, 20170917,     2345, -32.5002, -95.3251,        0.0,1,      0.193,1,      4.592,1,      0.230,1,     -999.0,9,     -999.0,9,     -999.0,9,     -999.0,9,     -999.0,9,     -999.0,9,     -999.0,9,     -999.0,9,     -999.0,9,     -999.0,9,     -999.0,9,    15.6404,2,     -999.0,     -999.0,9,     -999.0
320620170820,        P06,     211,          1,         35,         35,2,20170917,       2205,   -32.4999,   -95.3254,       3748,    35.5,  15.6364,  34.5661,2,  34.5759,2, 249.6344,2, 249.4289,2,     0.0,2,    0.70,2,    0.08,2,    0.21,2,   2.414,2,   1.398,2,   1.5550,2,  -999.0,9,  -999.0,9,-999.0000,9,  -999.00, -999.00,9, -999.00,9, -999.00,  -999.0,9, -999.00,9,     -999.0,9,  -999.0,9, 20170917,     2347, -32.5002, -95.3251,        0.0,1,      0.164,1,      4.586,1,      0.234,1,     -999.0,9,     -999.0,9,     -999.0,9,     -999.0,9,     -999.0,9,     -999.0,9,     -999.0,9,     -999.0,9,     -999.0,9,     -999.0,9,     -999.0,9,    15.7039,2,     -999.0,     -999.0,9,     -999.0
320620170820,        P06,     211,          1,         36,         36,2,20170917,       2205,   -32.4999,   -95.3254,       3748,     3.9,  15.7312,  34.5793,2,  34.5749,2, 249.2154,2, 249.2128,2,     0.0,2,    0.69,2,    0.08,2,    0.23,2,   2.428,2,   1.413,2,   1.5850,2,  2047.6,6,  2286.6,2,   7.9369,2,    25.00,    1.16,2,   41.73,2,    4.27,  -999.0,9, -999.00,9,     -999.0,9,  -999.0,9, 20170917,     2350, -32.4999, -95.3254,        0.0,1,      0.085,1,      4.596,1,      0.209,1,     -999.0,9,     -999.0,9,     -999.0,9,     -999.0,9,     -999.0,9,     -999.0,9,     -999.0,9,     -999.0,9,     -999.0,9,     -999.0,9,     -999.0,9,    15.6923,2,     -999.0,     -999.0,9,     -999.0