BOTTLE,20240211CCHSIOCBG
EXPOCODE,SECT_ID,STNNBR,CASTNO,SAMPNO,BTLNBR,BTLNBR_FLAG_W,DATE,TIME,LATITUDE,LONGITUDE,DEPTH,CTDPRS,CTDTMP,CTDSAL,CTDSAL_FLAG_W,SALNTY,SALNTY_FLAG_W,CTDOXY,CTDOXY_FLAG_W,OXYGEN,OXYGEN_FLAG_W,SILCAT,SILCAT_FLAG_W,NITRAT,NITRAT_FLAG_W,NITRIT,NITRIT_FLAG_W,PHSPHT,PHSPHT_FLAG_W,CFC-11,CFC-11_FLAG_W,CFC-12,CFC-12_FLAG_W,SF6,SF6_FLAG_W,TCARBN,TCARBN_FLAG_W,ALKALI,ALKALI_FLAG_W,PH_TOT,PH_TOT_FLAG_W,PH_TMP,DELC13,DELC13_FLAG_W,DELC14,DELC14_FLAG_W,C14ERR,DOC,DOC_FLAG_W,TDN,TDN_FLAG_W,TON,TON_FLAG_W,D15N_NO3,D15N_NO3_FLAG_W,BTL_DATE,BTL_TIME,BTL_LAT,BTL_LON,CTDRINKO,CTDRINKO_FLAG_W,CTDFLUOR,CTDFLUOR_FLAG_W,CTDXMISS,CTDXMISS_FLAG_W,CTDBACKSCATTER,CTDBACKSCATTER_FLAG_W,D18O_NO3,D18O_NO3_FLAG_W,DOP,DOP_FLAG_W,CELLCOUNT,CELLCOUNT_FLAG_W,TDP,TDP_FLAG_W,POP,POP_FLAG_W,DATP,DATP_FLAG_W,PATP,PATP_FLAG_W,HPLC,HPLC_FLAG_W,POC,POC_FLAG_W,BEAMAP,BEAMAP_FLAG_W,DOC_NASA,DOC_NASA_FLAG_W,REFTMP,REFTMP_FLAG_W,DOC_NASA_ERROR,TDN_NASA,TDN_NASA_FLAG_W,TDN_NASA_ERROR
,,,,,,,,,,,METERS,DBAR,ITS-90,PSS-78,,PSS-78,,UMOL/KG,,UMOL/KG,,UMOL/KG,,UMOL/KG,,UMOL/KG,,UMOL/KG,,PMOL/KG,,PMOL/KG,,FMOL/KG,,UMOL/KG,,UMOL/KG,,,,DEG C,/MILLE,,/MILLE,,/MILLE,UMOL/KG,,UMOL/KG,,UMOL/KG,,/MILLE,,,,,,VOLTS,,VOLTS,,VOLTS,,VOLTS,,/MILLE,,UMOL/KG,,/LITER,,UMOL/KG,,UMOL/L,,PMOL/L,,PMOL/L,,,,UG/L,,/METER,,UMOL/L,,ITS-90,,UMOL/L,UMOL/L,,UMOL/L
320620170820,        P06,     203,          1,         27,         27,2,20170915,       0728,   -32.5005,  -102.0462,       3566,   286.5,   9.3721,  34.2562,2,  34.2542,3, 219.8885,2, 220.2225,2,     2.1,2,   17.71,2,    0.00,2,    1.25,2,   3.395,2,   1.884,2,   1.2450,2,  2127.1,2,  2269.2,2,   7.7276,2,    25.00, -999.00,9, -999.00,9, -999.00,  -999.0,9, -999.00,9,     -999.0,9,  -999.0,9, 20170915,      900, -32.5005,-102.0461,        0.0,1,      0.060,1,      4.681,1,      0.132,1,     -999.0,9,     -999.0,9,     -999.0,9,     -999.0,9,     -999.0,9,     -999.0,9,     -999.0,9,     -999.0,9,     -999.0,9,     -999.0,9,     -999.0,9,     9.5053,2,     -999.0,     -999.0,9,     -999.0
320620170820,        P06,     203,          1,         28,         28,2,20170915,       0728,   -32.5005,  -102.0462,       3566,   235.3,  11.6331,  34.3493,2,  34.3421,3, 215.1209,2, 215.0918,2,     0.6,2,   12.77,2,    0.00,2,    0.92,2,   3.050,2,   1.749,2,   1.4200,2,  2109.7,2,  2269.7,2,   7.7804,2,    25.00, -999.00,9, -999.00,9, -999.00,  -999.0,9, -999.00,9,     -999.0,9,  -999.0,9, 20170915,      902, -32.5005,-102.0460,        0.0,1,      0.061,1,      4.677,1,      0.135,1,     -999.0,9,     -999.0,9,     -999.0,9,     -999.0,9,     -999.0,9,     -999.0,9,     -999.0,9,     -999.0,9,     -999.0,9,     -999.0,9,     -999.0,9,    11.8100,2,     -999.0,     -999.0,9,     -999.0
320620170820,        P06,     203,          1,         29,         29,2,20170915,       0728,   -32.5005,  -102.0462,       3566,   185.4,  13.8224,  34.4463,2,  34.3886,3, 212.3054,2, 218.9435,2,     0.0,2,    8.52,2,    0.03,2,    0.67,2,   2.789,2,   1.642,2,   1.4260,2,  2088.0,2,  2272.1,2,   7.8302,2,    25.00, -999.00,9, -999.00,9, -999.00,  -999.0,9, -999.00,9,     -999.0,9,  -999.0,9, 20170915,      905, -32.5005,-102.0460,        0.0,1,      0.085,1,      4.669,1,      0.142,1,     -999.0,9,     -999.0,9,     -999.0,9,     -999.0,9,     -999.0,9,     -999.0,9,     -999.0,9,     -999.0,9,     -999.0,9,     -999.0,9,     -999.0,9,    13.4103,2,     -999.0,     -999.0,9,     -999.0
320620170820,        P06,     203,          1,         30,         30,2,20170915,       0728,   -32.5005,  -102.0462,       3566,   140.0,  15.8992,  34.5608,2,  34.4803,2, 241.5983,2, 237.9363,2,     0.0,2,    2.08,2,    0.24,2,    0.30,2,   2.434,2,   1.466,2,   1.5150,2,  2054.1,2,  2278.1,2,   7.9117,2,    25.00, -999.00,9, -999.00,9, -999.00,  -999.0,9, -999.00,9,     -999.0,9,  -999.0,9, 20170915,      907, -32.5005,-102.0459,        0.0,1,      0.140,1,      4.648,1,      0.171,1,     -999.0,9,     -999.0,9,     -999.0,9,     -999.0,9,     -999.0,9,     -999.0,9,     -999.0,9,     -999.0,9,     -999.0,9,     -999.0,9,     -999.0,9,    15.2094,2,     -999.0,     -999.0,9,     -999.0
320620170820,        P06,     203,          1,         31,         31,2,20170915,       0728,   -32.5005,  -102.0462,       3566,   114.6,  16.1258,  34.6183,2,  34.5816,2, 245.5858,2, 245.1622,2,     0.0,2,    0.52,2,    0.07,2,    0.19,2,   2.369,2,   1.408,2,   1.5180,2,  -999.0,9,  -999.0,9,-999.0000,9,  -999.00, -999.00,9, -999.00,9, -999.00,  -999.0,9, -999.00,9,     -999.0,9,  -999.0,9, 20170915,      909, -32.5005,-102.0458,        0.0,1,      0.193,1,      4.621,1,      0.199,1,     -999.0,9,     -999.0,9,     -999.0,9,     -999.0,9,     -999.0,9,     -999.0,9,     -999.0,9,     -999.0,9,     -999.0,9,     -999.0,9,     -999.0,9,    15.9794,2,     -999.0,     -999.0,9,     -999.0
320620170820,        P06,     203,          1,         32,         32,2,20170915,       0728,   -32.5005,  -102.0462,       3566,    90.1,  16.1839,  34.6330,2,  34.6282,2, 246.7295,2, 246.8581,2,     0.0,2,    0.31,2,    0.04,2,    0.17,2,   2.362,2,   1.392,2,   1.5780,2,  2046.4,2,  2284.7,2,   7.9461,2,    25.00, -999.00,9, -999.00,9, -999.00,  -999.0,9, -999.00,9,     -999.0,9,  -999.0,9, 20170915,      911, -32.5005,-102.0458,        0.0,1,      0.222,1,      4.601,1,      0.224,1,     -999.0,9,     -999.0,9,     -999.0,9,     -999.0,9,     -999.0,9,     -999.0,9,     -999.0,9,     -999.0,9,     -999.0,9,     -999.0,9,     -999.0,9,    16.1709,2,     -999.0,     -999.0,9,     -999.0
320620170820,        P06,     203,          1,         33,         33,2,20170915,       0728,   -32.5005,  -102.0462,       3566,    65.0,  16.1421,  34.6206,2,  34.5908,2, 249.0538,2, 248.2496,2,     0.0,2,    0.41,2,    0.05,2,    0.19,2,   2.392,2,   1.401,2,   1.5680,2,  2043.4,2,  2282.8,6,   7.9430,2,    25.00, -999.00,9, -999.00,9, -999.00,  -999.0,9, -999.00,9,     -999.0,9,  -999.0,9, 20170915,      913, -32.5005,-102.0459,        0.0,1,      0.228,1,      4.597,1,      0.214,1,     -999.0,9,     -999.0,9,     -999.0,9,     -999.0,9,     -999.0,9,     -999.0,9,     -999.0,9,     -999.0,9,     -999.0,9,     -999.0,9,     -999.0,9,    16.0205,2,     -999.0,     -999.0,9,     -999.0
320620170820,        P06,     203,          1,         34,         34,2,20170915,       0728,   -32.5005,  -102.0462,       3566,    39.1,  16.0254,  34.5781,2,  34.5415,2, 248.3209,2, 249.3723,2,     0.0,2,    0.58,2,    0.05,2,    0.20,2,   2.348,2,   1.412,2,   1.5030,2,  -999.0,9,  -999.0,9,-999.0000,9,  -999.00, -999.00,9, -999.00,9, -999.00,  -999.0,9, -999.00,9,     -999.0,9,  -999.0,9, 20170915,      915, -32.5005,-102.0460,        0.0,1,      0.222,1,      4.590,1,      0.214,1,     -999.0,9,     -999.0,9,     -999.0,9,     -999.0,9,     -999.0,9,     -999.0,9,     -999.0,9,     -999.0,9,     -999.0,9,     -999.0,9,     -999.0,9,    15.8924,2,     -999.0,     -999.0,9,     -999.0
320620170820,        P06,     203,          1,         35,         35,2,20170915,       0728,   -32.5005,  -102.0462,       3566,    19.6,  15.9678,  34.5613,2,  34.5323,2, 249.4091,2, 249.0812,2,     0.0,2,    0.61,2,    0.05,2,    0.21,2,   2.361,2,   1.422,2,   1.5710,2,  2042.0,2,  2279.6,2,   7.9398,6,    25.00, -999.00,9, -999.00,9, -999.00,  -999.0,9, -999.00,9,     -999.0,9,  -999.0,9, 20170915,      916, -32.5005,-102.0461,        0.0,1,      0.220,1,      4.589,1,      0.216,1,     -999.0,9,     -999.0,9,     -999.0,9,     -999.0,9,     -999.0,9,     -999.0,9,     -999.0,9,     -999.0,9,     -999.0,9,     -999.0,9,     -999.0,9,    15.8626,2,     -999.0,     -999.0,9,     -999.0
320620170820,        P06,     203,          1,         36,         36,2,20170915,       0728,   -32.5005,  -102.0462,       3566,     8.0,  15.9729,  34.5613,2,  34.5309,2, 249.3421,2, 250.2576,2,     0.0,2,    0.60,2,    0.05,2,    0.21,2,   2.373,2,   1.419,2,   1.5000,2,  2044.3,6,  2279.5,2,   7.9401,2,    25.00, -999.00,9, -999.00,9, -999.00,  -999.0,9, -999.00,9,     -999.0,9,  -999.0,9, 20170915,      918, -32.5005,-102.0462,        0.0,1,      0.228,1,      4.587,1,      0.208,1,     -999.0,9,     -999.0,9,     -999.0,9,     -999.0,9,     -999.0,9,     -999.0,9,     -999.0,9,     -999.0,9,     -999.0,9,     -999.0,9,     -999.0,9,    15.8660,2,     -999.0,     -999.0,9,     -999.0