BOTTLE,20240211CCHSIOCBG
EXPOCODE,SECT_ID,STNNBR,CASTNO,SAMPNO,BTLNBR,BTLNBR_FLAG_W,DATE,TIME,LATITUDE,LONGITUDE,DEPTH,CTDPRS,CTDTMP,CTDSAL,CTDSAL_FLAG_W,SALNTY,SALNTY_FLAG_W,CTDOXY,CTDOXY_FLAG_W,OXYGEN,OXYGEN_FLAG_W,SILCAT,SILCAT_FLAG_W,NITRAT,NITRAT_FLAG_W,NITRIT,NITRIT_FLAG_W,PHSPHT,PHSPHT_FLAG_W,CFC-11,CFC-11_FLAG_W,CFC-12,CFC-12_FLAG_W,SF6,SF6_FLAG_W,TCARBN,TCARBN_FLAG_W,ALKALI,ALKALI_FLAG_W,PH_TOT,PH_TOT_FLAG_W,PH_TMP,DELC13,DELC13_FLAG_W,DELC14,DELC14_FLAG_W,C14ERR,DOC,DOC_FLAG_W,TDN,TDN_FLAG_W,TON,TON_FLAG_W,D15N_NO3,D15N_NO3_FLAG_W,BTL_DATE,BTL_TIME,BTL_LAT,BTL_LON,CTDRINKO,CTDRINKO_FLAG_W,CTDFLUOR,CTDFLUOR_FLAG_W,CTDXMISS,CTDXMISS_FLAG_W,CTDBACKSCATTER,CTDBACKSCATTER_FLAG_W,D18O_NO3,D18O_NO3_FLAG_W,DOP,DOP_FLAG_W,CELLCOUNT,CELLCOUNT_FLAG_W,TDP,TDP_FLAG_W,POP,POP_FLAG_W,DATP,DATP_FLAG_W,PATP,PATP_FLAG_W,HPLC,HPLC_FLAG_W,POC,POC_FLAG_W,BEAMAP,BEAMAP_FLAG_W,DOC_NASA,DOC_NASA_FLAG_W,REFTMP,REFTMP_FLAG_W,DOC_NASA_ERROR,TDN_NASA,TDN_NASA_FLAG_W,TDN_NASA_ERROR
,,,,,,,,,,,METERS,DBAR,ITS-90,PSS-78,,PSS-78,,UMOL/KG,,UMOL/KG,,UMOL/KG,,UMOL/KG,,UMOL/KG,,UMOL/KG,,PMOL/KG,,PMOL/KG,,FMOL/KG,,UMOL/KG,,UMOL/KG,,,,DEG C,/MILLE,,/MILLE,,/MILLE,UMOL/KG,,UMOL/KG,,UMOL/KG,,/MILLE,,,,,,VOLTS,,VOLTS,,VOLTS,,VOLTS,,/MILLE,,UMOL/KG,,/LITER,,UMOL/KG,,UMOL/L,,PMOL/L,,PMOL/L,,,,UG/L,,/METER,,UMOL/L,,ITS-90,,UMOL/L,UMOL/L,,UMOL/L
320620170820,        P06,     149,          1,         27,         27,2,20170827,       0359,   -32.4992,  -144.8195,       5262,   337.2,  10.1188,  34.5883,2,  34.5999,2, 208.9452,2, 216.2928,2,     2.7,2,   14.51,2,    0.00,2,    1.03,2,   3.060,2,   1.719,2,   1.3410,2,  2126.9,2,  2285.0,2,   7.7650,2,    25.00, -999.00,9, -999.00,9, -999.00,  -999.0,9, -999.00,9,     -999.0,9,  -999.0,9, 20170827,      608, -32.4999,-144.8200,        0.0,1,      0.059,1,      4.692,1,      0.135,1,     -999.0,9,     -999.0,9,     -999.0,9,     -999.0,9,     -999.0,9,     -999.0,9,     -999.0,9,     -999.0,9,     -999.0,9,     -999.0,9,     -999.0,9,    10.3226,2,     -999.0,     -999.0,9,     -999.0
320620170820,        P06,     149,          1,         28,         28,2,20170827,       0359,   -32.4992,  -144.8195,       5262,   288.3,  11.5833,  34.7310,2,  34.8298,2,  206.828,2, 213.4158,2,     1.5,2,    9.10,2,    0.00,2,    0.69,2,   2.758,2,   1.617,2,   1.4230,2,  2109.8,2,  2296.8,2,   7.8189,2,    25.00, -999.00,9, -999.00,9, -999.00,  -999.0,9, -999.00,9,     -999.0,9,  -999.0,9, 20170827,      610, -32.4999,-144.8200,        0.0,1,      0.060,1,      4.690,1,      0.134,1,     -999.0,9,     -999.0,9,     -999.0,9,     -999.0,9,     -999.0,9,     -999.0,9,     -999.0,9,     -999.0,9,     -999.0,9,     -999.0,9,     -999.0,9,    12.4445,2,     -999.0,     -999.0,9,     -999.0
320620170820,        P06,     149,          1,         29,         29,2,20170827,       0359,   -32.4992,  -144.8195,       5262,   235.9,  13.7862,  34.9976,2,  35.0264,2, 207.9083,2, 216.2785,2,     1.0,2,    5.63,2,    0.02,2,    0.47,2,   2.518,2,   1.527,2,   1.4950,2,  2100.6,2,  2306.6,2,   7.8616,2,    25.00, -999.00,9, -999.00,9, -999.00,  -999.0,9, -999.00,9,     -999.0,9,  -999.0,9, 20170827,      612, -32.4998,-144.8200,        0.0,1,      0.061,1,      4.687,1,      0.137,1,     -999.0,9,     -999.0,9,     -999.0,9,     -999.0,9,     -999.0,9,     -999.0,9,     -999.0,9,     -999.0,9,     -999.0,9,     -999.0,9,     -999.0,9,    14.0613,2,     -999.0,     -999.0,9,     -999.0
320620170820,        P06,     149,          1,         30,         30,2,20170827,       0359,   -32.4992,  -144.8195,       5262,   184.5,  15.5771,  35.2248,2,  35.1788,2,  213.222,2,  220.347,2,     0.6,2,    3.13,2,    0.03,2,    0.31,2,   2.389,2,   1.468,2,   1.5140,2,  2090.3,2,  2312.8,2,   7.8940,6,    25.00, -999.00,9, -999.00,9, -999.00,  -999.0,9, -999.00,9,     -999.0,9,  -999.0,9, 20170827,      615, -32.5001,-144.8200,        0.0,1,      0.095,1,      4.675,1,      0.146,1,     -999.0,9,     -999.0,9,     -999.0,9,     -999.0,9,     -999.0,9,     -999.0,9,     -999.0,9,     -999.0,9,     -999.0,9,     -999.0,9,     -999.0,9,    15.1836,2,     -999.0,     -999.0,9,     -999.0
320620170820,        P06,     149,          1,         31,         31,2,20170827,       0359,   -32.4992,  -144.8195,       5262,   136.4,  16.7995,  35.3144,2,  35.3192,2, 227.8399,2, 236.8997,2,     0.2,2,    0.15,2,    0.04,2,    0.11,2,   2.245,6,   1.348,6,   1.6435,6,  2065.1,2,  2321.3,2,   7.9550,2,    25.00, -999.00,9, -999.00,9, -999.00,  -999.0,9, -999.00,9,     -999.0,9,  -999.0,9, 20170827,      617, -32.5003,-144.8201,        0.0,1,      0.139,1,      4.638,1,      0.182,1,     -999.0,9,     -999.0,9,     -999.0,9,     -999.0,9,     -999.0,9,     -999.0,9,     -999.0,9,     -999.0,9,     -999.0,9,     -999.0,9,     -999.0,9,    16.5178,2,     -999.0,     -999.0,9,     -999.0
320620170820,        P06,     149,          1,         32,         32,2,20170827,       0359,   -32.4992,  -144.8195,       5262,    89.7,  16.7954,  35.3147,2,  35.3157,2, 247.4387,2, 239.4678,2,     0.2,2,    0.00,2,    0.00,2,    0.10,2,   2.263,2,   1.322,2,   1.6290,2,  2058.9,2,  2323.5,2,   7.9627,2,    25.00, -999.00,9, -999.00,9, -999.00,  -999.0,9, -999.00,9,     -999.0,9,  -999.0,9, 20170827,      620, -32.5000,-144.8199,        0.0,1,      0.136,1,      4.635,1,      0.178,1,     -999.0,9,     -999.0,9,     -999.0,9,     -999.0,9,     -999.0,9,     -999.0,9,     -999.0,9,     -999.0,9,     -999.0,9,     -999.0,9,     -999.0,9,    16.7848,2,     -999.0,     -999.0,9,     -999.0
320620170820,        P06,     149,          1,         33,         33,2,20170827,       0359,   -32.4992,  -144.8195,       5262,    64.7,  16.7886,  35.3148,2,  35.3165,2, 240.4015,2, 239.2955,2,     0.3,2,    0.00,2,    0.00,2,    0.10,2,   2.228,2,   1.347,2,   1.5970,2,  2060.0,2,  2321.9,2,   7.9624,2,    25.00, -999.00,9, -999.00,9, -999.00,  -999.0,9, -999.00,9,     -999.0,9,  -999.0,9, 20170827,      621, -32.4997,-144.8197,        0.0,1,      0.134,1,      4.634,1,      0.180,1,     -999.0,9,     -999.0,9,     -999.0,9,     -999.0,9,     -999.0,9,     -999.0,9,     -999.0,9,     -999.0,9,     -999.0,9,     -999.0,9,     -999.0,9,    16.7750,2,     -999.0,     -999.0,9,     -999.0
320620170820,        P06,     149,          1,         34,         34,2,20170827,       0359,   -32.4992,  -144.8195,       5262,    40.4,  16.7852,  35.3147,2,  35.3161,2, 239.1314,2, 239.2368,2,     0.3,2,    0.00,2,    0.00,2,    0.10,2,   2.241,2,   1.337,2,   1.5570,2,  2059.2,2,  2321.8,6,   7.9634,2,    25.00, -999.00,9, -999.00,9, -999.00,  -999.0,9, -999.00,9,     -999.0,9,  -999.0,9, 20170827,      623, -32.4995,-144.8196,        0.0,1,      0.130,1,      4.635,1,      0.182,1,     -999.0,9,     -999.0,9,     -999.0,9,     -999.0,9,     -999.0,9,     -999.0,9,     -999.0,9,     -999.0,9,     -999.0,9,     -999.0,9,     -999.0,9,    16.7710,2,     -999.0,     -999.0,9,     -999.0
320620170820,        P06,     149,          1,         35,         35,2,20170827,       0359,   -32.4992,  -144.8195,       5262,    20.4,  16.7798,  35.3151,2,  35.3210,2, 247.4638,2,  238.861,2,     0.2,2,    0.00,2,    0.00,2,    0.11,2,   2.266,2,   1.322,2,   1.6180,2,  2060.6,2,  2321.2,2,   7.9624,2,    25.00, -999.00,9, -999.00,9, -999.00,  -999.0,9, -999.00,9,     -999.0,9,  -999.0,9, 20170827,      625, -32.4994,-144.8195,        0.0,1,      0.114,1,      4.635,1,      0.180,1,     -999.0,9,     -999.0,9,     -999.0,9,     -999.0,9,     -999.0,9,     -999.0,9,     -999.0,9,     -999.0,9,     -999.0,9,     -999.0,9,     -999.0,9,    16.7670,2,     -999.0,     -999.0,9,     -999.0
320620170820,        P06,     149,          1,         36,         36,2,20170827,       0359,   -32.4992,  -144.8195,       5262,    11.5,  16.7957,  35.3152,2,  35.3163,2, 241.9127,2, 239.2123,2,     0.2,2,    0.00,2,    0.00,2,    0.11,2,   2.147,2,   1.293,2,   1.6310,2,  2058.9,2,  2324.5,2,   7.9623,2,    25.00, -999.00,9, -999.00,9, -999.00,  -999.0,9, -999.00,9,     -999.0,9,  -999.0,9, 20170827,      626, -32.4992,-144.8195,        0.0,1,      0.098,1,      4.634,1,      0.183,1,     -999.0,9,     -999.0,9,     -999.0,9,     -999.0,9,     -999.0,9,     -999.0,9,     -999.0,9,     -999.0,9,     -999.0,9,     -999.0,9,     -999.0,9,    16.7659,2,     -999.0,     -999.0,9,     -999.0