BOTTLE,20240211CCHSIOCBG
EXPOCODE,SECT_ID,STNNBR,CASTNO,SAMPNO,BTLNBR,BTLNBR_FLAG_W,DATE,TIME,LATITUDE,LONGITUDE,DEPTH,CTDPRS,CTDTMP,CTDSAL,CTDSAL_FLAG_W,SALNTY,SALNTY_FLAG_W,CTDOXY,CTDOXY_FLAG_W,OXYGEN,OXYGEN_FLAG_W,SILCAT,SILCAT_FLAG_W,NITRAT,NITRAT_FLAG_W,NITRIT,NITRIT_FLAG_W,PHSPHT,PHSPHT_FLAG_W,CFC-11,CFC-11_FLAG_W,CFC-12,CFC-12_FLAG_W,SF6,SF6_FLAG_W,TCARBN,TCARBN_FLAG_W,ALKALI,ALKALI_FLAG_W,PH_TOT,PH_TOT_FLAG_W,PH_TMP,DELC13,DELC13_FLAG_W,DELC14,DELC14_FLAG_W,C14ERR,DOC,DOC_FLAG_W,TDN,TDN_FLAG_W,TON,TON_FLAG_W,D15N_NO3,D15N_NO3_FLAG_W,BTL_DATE,BTL_TIME,BTL_LAT,BTL_LON,CTDRINKO,CTDRINKO_FLAG_W,CTDFLUOR,CTDFLUOR_FLAG_W,CTDXMISS,CTDXMISS_FLAG_W,CTDBACKSCATTER,CTDBACKSCATTER_FLAG_W,D18O_NO3,D18O_NO3_FLAG_W,DOP,DOP_FLAG_W,CELLCOUNT,CELLCOUNT_FLAG_W,TDP,TDP_FLAG_W,POP,POP_FLAG_W,DATP,DATP_FLAG_W,PATP,PATP_FLAG_W,HPLC,HPLC_FLAG_W,POC,POC_FLAG_W,BEAMAP,BEAMAP_FLAG_W,DOC_NASA,DOC_NASA_FLAG_W,REFTMP,REFTMP_FLAG_W,DOC_NASA_ERROR,TDN_NASA,TDN_NASA_FLAG_W,TDN_NASA_ERROR
,,,,,,,,,,,METERS,DBAR,ITS-90,PSS-78,,PSS-78,,UMOL/KG,,UMOL/KG,,UMOL/KG,,UMOL/KG,,UMOL/KG,,UMOL/KG,,PMOL/KG,,PMOL/KG,,FMOL/KG,,UMOL/KG,,UMOL/KG,,,,DEG C,/MILLE,,/MILLE,,/MILLE,UMOL/KG,,UMOL/KG,,UMOL/KG,,/MILLE,,,,,,VOLTS,,VOLTS,,VOLTS,,VOLTS,,/MILLE,,UMOL/KG,,/LITER,,UMOL/KG,,UMOL/L,,PMOL/L,,PMOL/L,,,,UG/L,,/METER,,UMOL/L,,ITS-90,,UMOL/L,UMOL/L,,UMOL/L
320620170820,        P06,     207,          1,          1,          1,2,20170916,       1340,   -32.5003,   -98.8856,       3820,  3871.6,   1.7984,  34.6913,2,  34.6922,2, 166.9035,2, 166.6816,2,   119.7,2,   34.17,2,    0.00,2,    2.35,2,   0.034,2,   0.019,2,   0.0000,2,  2295.4,6,  2393.1,2,   7.5905,2,    25.00, -999.00,9, -999.00,9, -999.00,  -999.0,9, -999.00,9,     -999.0,9,  -999.0,1, 20170916,     1340, -32.5001, -98.8851,        0.0,1,      0.061,1,      4.684,1,      0.132,1,     -999.0,1,     -999.0,9,     -999.0,9,     -999.0,9,     -999.0,9,     -999.0,9,     -999.0,9,     -999.0,9,     -999.0,9,     -999.0,9,     -999.0,9,     1.7988,2,     -999.0,     -999.0,9,     -999.0
320620170820,        P06,     207,          1,          2,          2,2,20170916,       1340,   -32.5003,   -98.8856,       3820,  3707.8,   1.7802,  34.6914,2,  34.6914,2, 166.9035,2, 166.6354,2,   120.0,2,   34.20,2,    0.00,2,    2.37,2,   0.034,2,   0.021,2,   0.0000,2,  2294.2,2,  2390.5,2,   7.5919,2,    25.00, -999.00,9, -999.00,9, -999.00,  -999.0,9, -999.00,9,     -999.0,9,  -999.0,1, 20170916,     1344, -32.5000, -98.8850,        0.0,1,      0.061,1,      4.684,1,      0.130,1,     -999.0,1,     -999.0,9,     -999.0,9,     -999.0,9,     -999.0,9,     -999.0,9,     -999.0,9,     -999.0,9,     -999.0,9,     -999.0,9,     -999.0,9,     1.7804,2,     -999.0,     -999.0,9,     -999.0
320620170820,        P06,     207,          1,          3,          3,2,20170916,       1340,   -32.5003,   -98.8856,       3820,  3552.3,   1.7659,  34.6913,2,  34.6920,2, 166.9035,2, 166.7517,2,   119.8,2,   34.16,2,    0.00,2,    2.37,2,   0.030,2,   0.020,2,   0.0000,2,  -999.0,9,  -999.0,9,-999.0000,9,  -999.00, -999.00,9, -999.00,9, -999.00,  -999.0,9, -999.00,9,     -999.0,9,  -999.0,1, 20170916,     1347, -32.5000, -98.8849,        0.0,1,      0.061,1,      4.686,1,      0.127,1,     -999.0,1,     -999.0,9,     -999.0,9,     -999.0,9,     -999.0,9,     -999.0,9,     -999.0,9,     -999.0,9,     -999.0,9,     -999.0,9,     -999.0,9,     1.7663,2,     -999.0,     -999.0,9,     -999.0
320620170820,        P06,     207,          1,          4,          4,2,20170916,       1340,   -32.5003,   -98.8856,       3820,  3298.0,   1.7473,  34.6910,2,  34.6910,2, 166.9035,2, 166.9068,2,   119.7,2,   34.15,2,    0.00,2,    2.36,2,   0.031,2,   0.020,2,   0.0000,2,  2295.1,2,  2390.6,2,   7.5920,2,    25.00, -999.00,9, -999.00,9, -999.00,  -999.0,9, -999.00,9,     -999.0,9,  -999.0,1, 20170916,     1353, -32.5001, -98.8851,        0.0,1,      0.061,1,      4.687,1,      0.128,1,     -999.0,1,     -999.0,9,     -999.0,9,     -999.0,9,     -999.0,9,     -999.0,9,     -999.0,9,     -999.0,9,     -999.0,9,     -999.0,9,     -999.0,9,     1.7469,2,     -999.0,     -999.0,9,     -999.0
320620170820,        P06,     207,          1,          5,          5,2,20170916,       1340,   -32.5003,   -98.8856,       3820,  3041.9,   1.7399,  34.6898,2,  34.6897,2, 166.7433,2, 167.5429,2,   119.4,2,   34.12,2,    0.00,2,    2.37,2,   0.028,2,   0.016,2,   0.0000,2,  -999.0,9,  -999.0,9,-999.0000,9,  -999.00, -999.00,9, -999.00,9, -999.00,  -999.0,9, -999.00,9,     -999.0,9,  -999.0,1, 20170916,     1358, -32.5001, -98.8853,        0.0,1,      0.061,1,      4.689,1,      0.126,1,     -999.0,1,     -999.0,9,     -999.0,9,     -999.0,9,     -999.0,9,     -999.0,9,     -999.0,9,     -999.0,9,     -999.0,9,     -999.0,9,     -999.0,9,     1.7399,2,     -999.0,     -999.0,9,     -999.0
320620170820,        P06,     207,          1,          6,          6,2,20170916,       1340,   -32.5003,   -98.8856,       3820,  2787.6,   1.7517,  34.6867,2,  34.6871,2, 166.4308,2, 166.1396,2,   118.8,2,   34.14,2,    0.00,2,    2.38,2,   0.033,2,   0.022,2,   0.0000,2,  2291.7,2,  2388.7,2,   7.5887,2,    25.00, -999.00,9, -999.00,9, -999.00,  -999.0,9, -999.00,9,     -999.0,9,  -999.0,1, 20170916,     1403, -32.5001, -98.8853,        0.0,1,      0.060,1,      4.689,1,      0.128,1,     -999.0,1,     -999.0,9,     -999.0,9,     -999.0,9,     -999.0,9,     -999.0,9,     -999.0,9,     -999.0,9,     -999.0,9,     -999.0,9,     -999.0,9,     1.7512,2,     -999.0,     -999.0,9,     -999.0
320620170820,        P06,     207,          1,          7,          7,2,20170916,       1340,   -32.5003,   -98.8856,       3820,  2532.1,   1.8037,  34.6795,2,  34.6798,2, 163.9136,2, 163.4214,2,   117.8,2,   34.38,2,    0.00,2,    2.40,2,   0.033,2,   0.022,2,   0.0000,2,  -999.0,9,  -999.0,9,-999.0000,9,  -999.00, -999.00,9, -999.00,9, -999.00,  -999.0,9, -999.00,9,     -999.0,9,  -999.0,1, 20170916,     1408, -32.5001, -98.8851,        0.0,1,      0.062,1,      4.689,1,      0.127,1,     -999.0,1,     -999.0,9,     -999.0,9,     -999.0,9,     -999.0,9,     -999.0,9,     -999.0,9,     -999.0,9,     -999.0,9,     -999.0,9,     -999.0,9,     1.8017,2,     -999.0,     -999.0,9,     -999.0
320620170820,        P06,     207,          1,          8,          8,2,20170916,       1340,   -32.5003,   -98.8856,       3820,  2277.3,   1.9433,  34.6627,2,  34.6629,2,  157.669,2, 158.3196,2,   114.5,2,   34.77,2,    0.00,2,    2.42,2,   0.034,2,   0.023,2,   0.0000,2,  2294.3,2,  2383.4,2,   7.5747,2,    25.00, -999.00,9, -999.00,9, -999.00,  -999.0,9, -999.00,9,     -999.0,9,  -999.0,1, 20170916,     1413, -32.5000, -98.8848,        0.0,1,      0.061,1,      4.689,1,      0.129,1,     -999.0,1,     -999.0,9,     -999.0,9,     -999.0,9,     -999.0,9,     -999.0,9,     -999.0,9,     -999.0,9,     -999.0,9,     -999.0,9,     -999.0,9,     1.9336,2,     -999.0,     -999.0,9,     -999.0
320620170820,        P06,     207,          1,          9,          9,2,20170916,       1340,   -32.5003,   -98.8856,       3820,  2022.9,   2.1491,  34.6364,2,  34.6366,2, 152.6293,2, 153.0299,2,   108.2,2,   35.18,2,    0.00,2,    2.45,2,   0.031,2,   0.020,2,   0.0000,2,  -999.0,9,  -999.0,9,-999.0000,9,  -999.00, -999.00,9, -999.00,9, -999.00,  -999.0,9, -999.00,9,     -999.0,9,  -999.0,1, 20170916,     1419, -32.5001, -98.8850,        0.0,1,      0.062,1,      4.689,1,      0.129,1,     -999.0,1,     -999.0,9,     -999.0,9,     -999.0,9,     -999.0,9,     -999.0,9,     -999.0,9,     -999.0,9,     -999.0,9,     -999.0,9,     -999.0,9,     2.1436,2,     -999.0,     -999.0,9,     -999.0
320620170820,        P06,     207,          1,         10,         10,2,20170916,       1340,   -32.5003,   -98.8856,       3820,  1819.3,   2.4089,  34.6047,2,  34.6038,2, 146.1181,2,   146.09,2,   101.5,2,   35.87,2,    0.00,2,    2.52,2,   0.033,2,   0.023,2,   0.0000,2,  2289.4,2,  2370.0,6,   7.5535,2,    25.00, -999.00,9, -999.00,9, -999.00,  -999.0,9, -999.00,9,     -999.0,9,  -999.0,1, 20170916,     1423, -32.5001, -98.8853,        0.0,1,      0.061,1,      4.689,1,      0.130,1,     -999.0,1,     -999.0,9,     -999.0,9,     -999.0,9,     -999.0,9,     -999.0,9,     -999.0,9,     -999.0,9,     -999.0,9,     -999.0,9,     -999.0,9,     2.4092,2,     -999.0,     -999.0,9,     -999.0
320620170820,        P06,     207,          1,         11,         11,2,20170916,       1340,   -32.5003,   -98.8856,       3820,  1718.8,   2.5701,  34.5879,2,  34.5877,2, 140.6091,2, 141.2278,2,    98.1,2,   36.33,2,    0.00,2,    2.56,2,   0.033,2,   0.023,2,   0.0000,2,  2286.2,2,  2364.6,2,   7.5423,6,    25.00, -999.00,9, -999.00,9, -999.00,  -999.0,9, -999.00,9,     -999.0,9,  -999.0,1, 20170916,     1426, -32.5002, -98.8854,        0.0,1,      0.061,1,      4.689,1,      0.130,1,     -999.0,1,     -999.0,9,     -999.0,9,     -999.0,9,     -999.0,9,     -999.0,9,     -999.0,9,     -999.0,9,     -999.0,9,     -999.0,9,     -999.0,9,     2.5663,2,     -999.0,     -999.0,9,     -999.0
320620170820,        P06,     207,          1,         12,         12,2,20170916,       1340,   -32.5003,   -98.8856,       3820,  1616.9,   2.7628,  34.5709,2,  34.5712,2, 135.8711,2, 135.5914,2,    94.6,2,   36.92,2,    0.00,2,    2.60,2,   0.039,2,   0.029,2,   0.0000,2,  -999.0,9,  -999.0,9,-999.0000,9,  -999.00, -999.00,9, -999.00,9, -999.00,  -999.0,9, -999.00,9,     -999.0,9,  -999.0,1, 20170916,     1428, -32.5001, -98.8852,        0.0,1,      0.061,1,      4.688,1,      0.131,1,     -999.0,1,     -999.0,9,     -999.0,9,     -999.0,9,     -999.0,9,     -999.0,9,     -999.0,9,     -999.0,9,     -999.0,9,     -999.0,9,     -999.0,9,     2.7554,2,     -999.0,     -999.0,9,     -999.0
320620170820,        P06,     207,          1,         13,         13,2,20170916,       1340,   -32.5003,   -98.8856,       3820,  1515.9,   2.9439,  34.5539,2,  34.5549,2, 131.4158,2, 131.1576,2,    90.7,2,   37.28,2,    0.00,2,    2.62,2,   0.035,2,   0.025,2,   0.0000,2,  2285.4,2,  2358.8,2,   7.5264,2,    25.00, -999.00,9, -999.00,9, -999.00,  -999.0,9, -999.00,9,     -999.0,9,  -999.0,1, 20170916,     1431, -32.5001, -98.8851,        0.0,1,      0.062,1,      4.688,1,      0.132,1,     -999.0,1,     -999.0,9,     -999.0,9,     -999.0,9,     -999.0,9,     -999.0,9,     -999.0,9,     -999.0,9,     -999.0,9,     -999.0,9,     -999.0,9,     2.9261,2,     -999.0,     -999.0,9,     -999.0
320620170820,        P06,     207,          1,         14,         14,2,20170916,       1340,   -32.5003,   -98.8856,       3820,  1414.0,   3.1563,  34.5330,2,  34.5323,2, 124.4232,2, 123.9754,2,    85.6,2,   37.88,2,    0.00,2,    2.66,2,   0.042,2,   0.032,2,   0.0000,2,  2284.9,6,  2351.5,2,   7.5111,2,    25.00, -999.00,9, -999.00,9, -999.00,  -999.0,9, -999.00,9,     -999.0,9,  -999.0,1, 20170916,     1434, -32.5001, -98.8850,        0.0,1,      0.062,1,      4.688,1,      0.133,1,     -999.0,1,     -999.0,9,     -999.0,9,     -999.0,9,     -999.0,9,     -999.0,9,     -999.0,9,     -999.0,9,     -999.0,9,     -999.0,9,     -999.0,9,     3.1414,2,     -999.0,     -999.0,9,     -999.0
320620170820,        P06,     207,          1,         15,         15,2,20170916,       1340,   -32.5003,   -98.8856,       3820,  1210.7,   3.4720,  34.4477,2,  34.4467,2, 135.2782,2, 135.3755,2,    65.1,2,   37.36,2,    0.00,2,    2.60,2,   0.081,2,   0.053,2,   0.0000,2,  2260.9,2,  2328.2,2,   7.5162,2,    25.00, -999.00,9, -999.00,9, -999.00,  -999.0,9, -999.00,9,     -999.0,9,  -999.0,1, 20170916,     1438, -32.5001, -98.8852,        0.0,1,      0.061,1,      4.688,1,      0.131,1,     -999.0,1,     -999.0,9,     -999.0,9,     -999.0,9,     -999.0,9,     -999.0,9,     -999.0,9,     -999.0,9,     -999.0,9,     -999.0,9,     -999.0,9,     3.4670,2,     -999.0,     -999.0,9,     -999.0
320620170820,        P06,     207,          1,         16,         16,2,20170916,       1340,   -32.5003,   -98.8856,       3820,  1009.2,   4.0304,  34.3308,2,  34.3274,2, 182.1242,2, 181.3328,2,    37.3,2,   33.42,2,    0.00,2,    2.30,2,   0.665,2,   0.343,2,   0.0440,2,  -999.0,9,  -999.0,9,-999.0000,9,  -999.00, -999.00,9, -999.00,9, -999.00,  -999.0,9, -999.00,9,     -999.0,9,  -999.0,1, 20170916,     1443, -32.5002, -98.8853,        0.0,1,      0.061,1,      4.688,1,      0.133,1,     -999.0,1,     -999.0,9,     -999.0,9,     -999.0,9,     -999.0,9,     -999.0,9,     -999.0,9,     -999.0,9,     -999.0,9,     -999.0,9,     -999.0,9,     4.0399,2,     -999.0,     -999.0,9,     -999.0
320620170820,        P06,     207,          1,         17,         17,2,20170916,       1340,   -32.5003,   -98.8856,       3820,   907.3,   4.5855,  34.2945,2,  34.2919,2, 196.7904,2,  196.671,2,    26.3,2,   31.44,2,    0.00,2,    2.15,2,   1.385,2,   0.680,2,   0.2690,2,  2192.8,2,  2289.5,2,   7.6074,2,    25.00, -999.00,9, -999.00,9, -999.00,  -999.0,9, -999.00,9,     -999.0,9,  -999.0,1, 20170916,     1445, -32.5001, -98.8850,        0.0,1,      0.060,1,      4.689,1,      0.132,1,     -999.0,1,     -999.0,9,     -999.0,9,     -999.0,9,     -999.0,9,     -999.0,9,     -999.0,9,     -999.0,9,     -999.0,9,     -999.0,9,     -999.0,9,     4.5863,2,     -999.0,     -999.0,9,     -999.0
320620170820,        P06,     207,          1,         18,         18,2,20170916,       1340,   -32.5003,   -98.8856,       3820,   806.8,   5.1391,  34.2703,2,  34.2693,2,  215.634,2, 215.5866,2,    17.1,2,   28.86,2,    0.00,2,    1.96,2,   2.384,2,   1.176,2,   0.2940,2,  -999.0,9,  -999.0,9,-999.0000,9,  -999.00, -999.00,9, -999.00,9, -999.00,  -999.0,9, -999.00,9,     -999.0,9,  -999.0,1, 20170916,     1448, -32.5000, -98.8848,        0.0,1,      0.060,1,      4.688,1,      0.133,1,     -999.0,1,     -999.0,9,     -999.0,9,     -999.0,9,     -999.0,9,     -999.0,9,     -999.0,9,     -999.0,9,     -999.0,9,     -999.0,9,     -999.0,9,     5.1338,2,     -999.0,     -999.0,9,     -999.0
320620170820,        P06,     207,          1,         19,         19,2,20170916,       1340,   -32.5003,   -98.8856,       3820,   705.6,   5.5577,  34.2616,2,  34.2609,2, 233.3234,2, 233.7175,2,    11.5,2,   26.41,2,    0.00,2,    1.80,2,   3.341,2,   1.650,2,   0.6180,2,  2157.3,2,  2276.1,2,   7.6691,2,    25.00, -999.00,9, -999.00,9, -999.00,  -999.0,9, -999.00,9,     -999.0,9,  -999.0,1, 20170916,     1451, -32.5000, -98.8848,        0.0,1,      0.059,1,      4.688,1,      0.133,1,     -999.0,1,     -999.0,9,     -999.0,9,     -999.0,9,     -999.0,9,     -999.0,9,     -999.0,9,     -999.0,9,     -999.0,9,     -999.0,9,     -999.0,9,     5.5596,2,     -999.0,     -999.0,9,     -999.0
320620170820,        P06,     207,          1,         20,         20,2,20170916,       1340,   -32.5003,   -98.8856,       3820,   604.8,   5.8676,  34.2710,2,  34.2705,2,   239.48,2, 239.3894,2,     9.3,2,   25.01,2,    0.00,2,    1.70,2,   3.662,2,   1.866,2,   0.7710,2,  2152.7,2,  2274.2,2,   7.6806,2,    25.00, -999.00,9, -999.00,9, -999.00,  -999.0,9, -999.00,9,     -999.0,9,  -999.0,1, 20170916,     1453, -32.5000, -98.8849,        0.0,1,      0.060,1,      4.687,1,      0.132,1,     -999.0,1,     -999.0,9,     -999.0,9,     -999.0,9,     -999.0,9,     -999.0,9,     -999.0,9,     -999.0,9,     -999.0,9,     -999.0,9,     -999.0,9,     5.9124,2,     -999.0,     -999.0,9,     -999.0
320620170820,        P06,     207,          1,         21,         21,2,20170916,       1340,   -32.5003,   -98.8856,       3820,   503.3,   6.3949,  34.2972,2,  34.2942,2, 228.9547,2, 228.5731,2,     8.1,2,   24.57,2,    0.00,2,    1.67,2,   3.676,2,   1.947,2,   0.9660,2,  2153.0,2,  2273.2,2,   7.6683,2,    25.00, -999.00,9, -999.00,9, -999.00,  -999.0,9, -999.00,9,     -999.0,9,  -999.0,1, 20170916,     1456, -32.5001, -98.8851,        0.0,1,      0.060,1,      4.686,1,      0.133,1,     -999.0,1,     -999.0,9,     -999.0,9,     -999.0,9,     -999.0,9,     -999.0,9,     -999.0,9,     -999.0,9,     -999.0,9,     -999.0,9,     -999.0,9,     6.4812,2,     -999.0,     -999.0,9,     -999.0
320620170820,        P06,     207,          1,         22,         22,2,20170916,       1340,   -32.5003,   -98.8856,       3820,   453.4,   6.7123,  34.2887,2,  34.2860,2, 216.7012,2, 216.7522,2,     7.9,2,   24.72,2,    0.00,2,    1.69,2,   3.623,2,   1.916,2,   1.0210,2,  -999.0,9,  -999.0,9,-999.0000,9,  -999.00, -999.00,9, -999.00,9, -999.00,  -999.0,9, -999.00,9,     -999.0,9,  -999.0,1, 20170916,     1458, -32.5002, -98.8852,        0.0,1,      0.059,1,      4.685,1,      0.134,1,     -999.0,1,     -999.0,9,     -999.0,9,     -999.0,9,     -999.0,9,     -999.0,9,     -999.0,9,     -999.0,9,     -999.0,9,     -999.0,9,     -999.0,9,     6.8044,2,     -999.0,     -999.0,9,     -999.0
320620170820,        P06,     207,          1,         23,         23,2,20170916,       1340,   -32.5003,   -98.8856,       3820,   402.6,   7.3553,  34.2705,2,  34.2658,2, 204.9463,2, 206.4384,2,     7.1,2,   24.22,2,    0.00,2,    1.69,2,   3.556,2,   1.884,2,   1.1340,2,  2161.2,2,  2269.1,6,   7.6447,2,    25.00, -999.00,9, -999.00,9, -999.00,  -999.0,9, -999.00,9,     -999.0,9,  -999.0,1, 20170916,     1459, -32.5001, -98.8852,        0.0,1,      0.059,1,      4.684,1,      0.134,1,     -999.0,1,     -999.0,9,     -999.0,9,     -999.0,9,     -999.0,9,     -999.0,9,     -999.0,9,     -999.0,9,     -999.0,9,     -999.0,9,     -999.0,9,     7.3797,2,     -999.0,     -999.0,9,     -999.0
320620170820,        P06,     207,          1,         24,         24,2,20170916,       1340,   -32.5003,   -98.8856,       3820,   301.1,   9.9820,  34.2712,2,  34.2683,2, 219.7647,2, 219.7993,2,     1.7,2,   16.61,2,    0.00,2,    1.17,2,   3.396,2,   1.881,2,   1.4400,2,  2122.0,2,  2266.3,2,   7.7389,6,    25.00, -999.00,9, -999.00,9, -999.00,  -999.0,9, -999.00,9,     -999.0,9,  -999.0,1, 20170916,     1502, -32.5002, -98.8852,        0.0,1,      0.059,1,      4.680,1,      0.132,1,     -999.0,1,     -999.0,1,     -999.0,9,       1.29,2,     -999.0,9,     -999.0,9,     -999.0,9,     -999.0,9,     -999.0,9,     -999.0,9,     -999.0,9,     9.9130,2,     -999.0,     -999.0,9,     -999.0
320620170820,        P06,     207,          1,         25,         25,2,20170916,       1340,   -32.5003,   -98.8856,       3820,   250.5,  12.4022,  34.4954,2,  34.4803,2, 215.1556,2, 215.0899,2,     0.6,2,   10.42,2,    0.00,2,    0.78,2,   3.030,2,   1.709,2,   1.4240,2,  -999.0,9,  -999.0,9,-999.0000,9,  -999.00, -999.00,9, -999.00,9, -999.00,  -999.0,9, -999.00,9,     -999.0,9,  -999.0,1, 20170916,     1504, -32.5002, -98.8854,        0.0,1,      0.062,1,      4.678,1,      0.134,1,     -999.0,1,     -999.0,1,     -999.0,9,       0.92,2,     -999.0,9,     -999.0,9,     -999.0,9,     -999.0,9,     -999.0,9,     -999.0,9,     -999.0,9,    12.3701,2,     -999.0,     -999.0,9,     -999.0
320620170820,        P06,     207,          1,         26,         26,2,20170916,       1340,   -32.5003,   -98.8856,       3820,   200.3,  14.2124,  34.5924,2,  34.5950,3, 226.5535,2, 225.8888,2,     0.0,2,    4.16,2,    0.12,2,    0.42,2,   2.638,2,   1.540,2,   1.5870,2,  2074.6,2,  2280.1,2,   7.8738,2,    25.00, -999.00,9, -999.00,9, -999.00,  -999.0,9, -999.00,9,     -999.0,9,  -999.0,1, 20170916,     1506, -32.5002, -98.8853,        0.0,1,      0.089,1,      4.669,1,      0.141,1,     -999.0,1,     -999.0,1,     -999.0,1,       0.56,2,     -999.0,1,     -999.0,1,     -999.0,1,     -999.0,9,     -999.0,9,     -999.0,9,     -999.0,9,    14.4599,2,     -999.0,     -999.0,9,     -999.0