BOTTLE,20240211CCHSIOCBG
EXPOCODE,SECT_ID,STNNBR,CASTNO,SAMPNO,BTLNBR,BTLNBR_FLAG_W,DATE,TIME,LATITUDE,LONGITUDE,DEPTH,CTDPRS,CTDTMP,CTDSAL,CTDSAL_FLAG_W,SALNTY,SALNTY_FLAG_W,CTDOXY,CTDOXY_FLAG_W,OXYGEN,OXYGEN_FLAG_W,SILCAT,SILCAT_FLAG_W,NITRAT,NITRAT_FLAG_W,NITRIT,NITRIT_FLAG_W,PHSPHT,PHSPHT_FLAG_W,CFC-11,CFC-11_FLAG_W,CFC-12,CFC-12_FLAG_W,SF6,SF6_FLAG_W,TCARBN,TCARBN_FLAG_W,ALKALI,ALKALI_FLAG_W,PH_TOT,PH_TOT_FLAG_W,PH_TMP,DELC13,DELC13_FLAG_W,DELC14,DELC14_FLAG_W,C14ERR,DOC,DOC_FLAG_W,TDN,TDN_FLAG_W,TON,TON_FLAG_W,D15N_NO3,D15N_NO3_FLAG_W,BTL_DATE,BTL_TIME,BTL_LAT,BTL_LON,CTDRINKO,CTDRINKO_FLAG_W,CTDFLUOR,CTDFLUOR_FLAG_W,CTDXMISS,CTDXMISS_FLAG_W,CTDBACKSCATTER,CTDBACKSCATTER_FLAG_W,D18O_NO3,D18O_NO3_FLAG_W,DOP,DOP_FLAG_W,CELLCOUNT,CELLCOUNT_FLAG_W,TDP,TDP_FLAG_W,POP,POP_FLAG_W,DATP,DATP_FLAG_W,PATP,PATP_FLAG_W,HPLC,HPLC_FLAG_W,POC,POC_FLAG_W,BEAMAP,BEAMAP_FLAG_W,DOC_NASA,DOC_NASA_FLAG_W,REFTMP,REFTMP_FLAG_W,DOC_NASA_ERROR,TDN_NASA,TDN_NASA_FLAG_W,TDN_NASA_ERROR
,,,,,,,,,,,METERS,DBAR,ITS-90,PSS-78,,PSS-78,,UMOL/KG,,UMOL/KG,,UMOL/KG,,UMOL/KG,,UMOL/KG,,UMOL/KG,,PMOL/KG,,PMOL/KG,,FMOL/KG,,UMOL/KG,,UMOL/KG,,,,DEG C,/MILLE,,/MILLE,,/MILLE,UMOL/KG,,UMOL/KG,,UMOL/KG,,/MILLE,,,,,,VOLTS,,VOLTS,,VOLTS,,VOLTS,,/MILLE,,UMOL/KG,,/LITER,,UMOL/KG,,UMOL/L,,PMOL/L,,PMOL/L,,,,UG/L,,/METER,,UMOL/L,,ITS-90,,UMOL/L,UMOL/L,,UMOL/L
320620170820,        P06,     210,          1,         27,         27,2,20170917,       1315,   -32.4998,   -96.2149,       3940,   150.4,  15.2146,  34.4931,2,  34.4355,2, 246.7278,2, 239.3349,2,     0.0,2,    3.05,2,    0.16,2,    0.36,2,   2.469,2,   1.510,2,   1.7170,2,  2060.5,2,  2275.7,6,   7.9015,2,    25.00, -999.00,9, -999.00,9, -999.00,    54.4,2,    6.90,2,     -999.0,1,  -999.0,1, 20170917,     1445, -32.4995, -96.2151,        0.0,1,      0.138,1,      4.644,1,      0.190,1,     -999.0,1,     -999.0,1,     -999.0,9,     -999.0,9,     -999.0,9,     -999.0,9,     -999.0,9,     -999.0,9,     -999.0,9,     -999.0,9,     -999.0,9,    15.0894,2,     -999.0,     -999.0,9,     -999.0
320620170820,        P06,     210,          1,         28,         28,2,20170917,       1315,   -32.4998,   -96.2149,       3940,   124.5,  15.2111,  34.4881,2,  34.4771,2, 249.4304,2,  249.833,2,     0.0,2,    1.25,2,    0.11,2,    0.25,2,   2.415,2,   1.478,2,   1.6070,2,  2049.5,2,  2280.4,2,   7.9272,6,    25.00, -999.00,9, -999.00,9, -999.00,    55.9,2,    5.10,2,     -999.0,1,  -999.0,1, 20170917,     1447, -32.4994, -96.2151,        0.0,1,      0.150,1,      4.635,1,      0.196,1,     -999.0,1,     -999.0,1,     -999.0,9,     -999.0,9,     -999.0,9,     -999.0,9,     -999.0,9,     -999.0,9,     -999.0,9,     -999.0,9,     -999.0,9,    15.1909,2,     -999.0,     -999.0,9,     -999.0
320620170820,        P06,     210,          1,         29,         29,2,20170917,       1315,   -32.4998,   -96.2149,       3940,   100.0,  15.2212,  34.4904,2,  34.4787,2, 250.1927,2, 250.2168,2,     0.0,2,    1.25,2,    0.11,2,    0.25,2,   2.429,2,   1.463,2,   1.6800,2,  -999.0,9,  -999.0,9,-999.0000,9,  -999.00, -999.00,9, -999.00,9, -999.00,  -999.0,9, -999.00,9,     -999.0,9,  -999.0,1, 20170917,     1448, -32.4994, -96.2151,        0.0,1,      0.177,1,      4.627,1,      0.204,1,     -999.0,1,     -999.0,1,     -999.0,9,     -999.0,9,     -999.0,9,     -999.0,9,     -999.0,9,     -999.0,9,     -999.0,9,     -999.0,9,     -999.0,9,    15.1919,2,     -999.0,     -999.0,9,     -999.0
320620170820,        P06,     210,          1,         30,         30,2,20170917,       1315,   -32.4998,   -96.2149,       3940,    74.5,  15.2204,  34.4903,2,  34.5021,2, 250.9702,2, 249.8754,2,     0.0,2,    1.07,2,    0.09,2,    0.23,2,   2.409,2,   1.453,2,   1.7560,2,  2048.5,2,  2279.9,2,   7.9308,2,    25.00, -999.00,9, -999.00,9, -999.00,    58.4,2,    5.70,2,     -999.0,1,  -999.0,1, 20170917,     1450, -32.4994, -96.2151,        0.0,1,      0.183,1,      4.620,1,      0.214,1,     -999.0,1,     -999.0,1,     -999.0,9,     -999.0,9,     -999.0,9,     -999.0,9,     -999.0,9,     -999.0,9,     -999.0,9,     -999.0,9,     -999.0,9,    15.3635,2,     -999.0,     -999.0,9,     -999.0
320620170820,        P06,     210,          1,         32,         32,2,20170917,       1315,   -32.4998,   -96.2149,       3940,    49.8,  15.2396,  34.4916,2,-999.0000,9, 242.3328,2,-999.0000,9,  -999.0,9, -999.00,9, -999.00,9, -999.00,9,-999.000,9,-999.000,9,-999.0000,9,  -999.0,9,  -999.0,9,-999.0000,9,  -999.00, -999.00,9, -999.00,9, -999.00,  -999.0,9, -999.00,9,     -999.0,9,  -999.0,9, 20170917,     1451, -32.4995, -96.2151,        0.0,1,      0.200,1,      4.608,1,      0.219,1,     -999.0,9,     -999.0,9,     -999.0,9,     -999.0,9,     -999.0,9,     -999.0,9,     -999.0,9,     -999.0,1,     -999.0,1,     -999.0,1,67.66926973,6,     -999.0,5, 0.58481357,59.68425106,6,1.391644715
320620170820,        P06,     210,          1,         31,         31,2,20170917,       1315,   -32.4998,   -96.2149,       3940,    49.5,  15.2396,  34.4916,2,  34.5162,2, 251.1761,2, 249.9016,2,     0.0,2,    0.96,2,    0.09,2,    0.24,2,   2.379,2,   1.453,2,   1.6420,2,  2048.7,2,  2281.3,2,   7.9316,2,    25.00, -999.00,9, -999.00,9, -999.00,    57.2,2,    4.70,2,     -999.0,1,  -999.0,1, 20170917,     1451, -32.4995, -96.2151,        0.0,1,      0.200,1,      4.608,1,      0.219,1,     -999.0,1,     -999.0,1,     -999.0,9,     -999.0,9,     -999.0,9,     -999.0,9,     -999.0,9,     -999.0,9,     -999.0,9,     -999.0,9,     -999.0,9,    15.3920,2,     -999.0,     -999.0,9,     -999.0
320620170820,        P06,     210,          1,         33,         33,2,20170917,       1315,   -32.4998,   -96.2149,       3940,    49.3,  15.2396,  34.4916,2,-999.0000,9, 242.5516,2,-999.0000,9,  -999.0,9, -999.00,9, -999.00,9, -999.00,9,-999.000,9,-999.000,9,-999.0000,9,  -999.0,9,  -999.0,9,-999.0000,9,  -999.00, -999.00,9, -999.00,9, -999.00,  -999.0,9, -999.00,9,     -999.0,9,  -999.0,9, 20170917,     1451, -32.4995, -96.2151,        0.0,1,      0.200,1,      4.608,1,      0.219,1,     -999.0,9,     -999.0,9,     -999.0,9,     -999.0,9,     -999.0,9,     -999.0,9,     -999.0,9,     -999.0,1,     -999.0,1,     -999.0,1,67.66926973,6,    15.3942,2, 0.58481357,59.68425106,6,1.391644715
320620170820,        P06,     210,          1,         34,         34,2,20170917,       1315,   -32.4998,   -96.2149,       3940,    24.8,  15.3846,  34.5150,2,  34.5164,2, 251.0984,2, 250.0251,2,     0.0,2,    0.96,2,    0.09,2,    0.23,2,   2.393,2,   1.455,2,   1.6460,2,  2048.1,2,  2282.0,2,   7.9320,2,    25.00, -999.00,9, -999.00,9, -999.00,    56.5,2,    5.80,2,     -999.0,1,  -999.0,1, 20170917,     1453, -32.4996, -96.2150,        0.0,1,      0.186,1,      4.603,1,      0.226,1,     -999.0,1,     -999.0,1,     -999.0,9,     -999.0,9,     -999.0,9,     -999.0,9,     -999.0,9,     -999.0,9,     -999.0,9,     -999.0,9,     -999.0,9,    15.3900,2,     -999.0,     -999.0,9,     -999.0
320620170820,        P06,     210,          1,         35,         35,2,20170917,       1315,   -32.4998,   -96.2149,       3940,    23.9,  15.3899,  34.5163,2,-999.0000,9, 242.6499,2,-999.0000,9,  -999.0,9, -999.00,9, -999.00,9, -999.00,9,-999.000,9,-999.000,9,-999.0000,9,  -999.0,9,  -999.0,9,-999.0000,9,  -999.00, -999.00,9, -999.00,9, -999.00,  -999.0,9, -999.00,9,     -999.0,9,  -999.0,9, 20170917,     1453, -32.4996, -96.2150,        0.0,1,      0.183,1,      4.603,1,      0.221,1,     -999.0,9,     -999.0,9,     -999.0,9,     -999.0,9,     -999.0,9,     -999.0,9,     -999.0,9,     -999.0,1,     -999.0,1,     -999.0,1, 72.6502047,2,     -999.0,5,-83.18068276,78.12433149,2,     -999.0
320620170820,        P06,     210,          1,         36,         36,2,20170917,       1315,   -32.4998,   -96.2149,       3940,     4.6,  15.4048,  34.5207,2,  34.5166,2, 251.0984,2, 249.8222,2,     0.0,2,    0.96,2,    0.09,2,    0.25,2,   2.411,2,   1.456,2,   1.6050,2,  2050.1,6,  2283.4,2,   7.9320,2,    25.00, -999.00,9, -999.00,9, -999.00,    62.0,2,    5.00,2,     -999.0,1,  -999.0,1, 20170917,     1455, -32.4998, -96.2149,        0.0,1,      0.178,1,      4.603,1,      0.208,1,     -999.0,1,     -999.0,1,     -999.0,9,     -999.0,9,     -999.0,9,     -999.0,9,     -999.0,9,     -999.0,9,     -999.0,9,     -999.0,9,     -999.0,9,    15.3871,2,     -999.0,     -999.0,9,     -999.0