BOTTLE,20240211CCHSIOCBG
EXPOCODE,SECT_ID,STNNBR,CASTNO,SAMPNO,BTLNBR,BTLNBR_FLAG_W,DATE,TIME,LATITUDE,LONGITUDE,DEPTH,CTDPRS,CTDTMP,CTDSAL,CTDSAL_FLAG_W,SALNTY,SALNTY_FLAG_W,CTDOXY,CTDOXY_FLAG_W,OXYGEN,OXYGEN_FLAG_W,SILCAT,SILCAT_FLAG_W,NITRAT,NITRAT_FLAG_W,NITRIT,NITRIT_FLAG_W,PHSPHT,PHSPHT_FLAG_W,CFC-11,CFC-11_FLAG_W,CFC-12,CFC-12_FLAG_W,SF6,SF6_FLAG_W,TCARBN,TCARBN_FLAG_W,ALKALI,ALKALI_FLAG_W,PH_TOT,PH_TOT_FLAG_W,PH_TMP,DELC13,DELC13_FLAG_W,DELC14,DELC14_FLAG_W,C14ERR,DOC,DOC_FLAG_W,TDN,TDN_FLAG_W,TON,TON_FLAG_W,D15N_NO3,D15N_NO3_FLAG_W,BTL_DATE,BTL_TIME,BTL_LAT,BTL_LON,CTDRINKO,CTDRINKO_FLAG_W,CTDFLUOR,CTDFLUOR_FLAG_W,CTDXMISS,CTDXMISS_FLAG_W,CTDBACKSCATTER,CTDBACKSCATTER_FLAG_W,D18O_NO3,D18O_NO3_FLAG_W,DOP,DOP_FLAG_W,CELLCOUNT,CELLCOUNT_FLAG_W,TDP,TDP_FLAG_W,POP,POP_FLAG_W,DATP,DATP_FLAG_W,PATP,PATP_FLAG_W,HPLC,HPLC_FLAG_W,POC,POC_FLAG_W,BEAMAP,BEAMAP_FLAG_W,DOC_NASA,DOC_NASA_FLAG_W,REFTMP,REFTMP_FLAG_W,DOC_NASA_ERROR,TDN_NASA,TDN_NASA_FLAG_W,TDN_NASA_ERROR
,,,,,,,,,,,METERS,DBAR,ITS-90,PSS-78,,PSS-78,,UMOL/KG,,UMOL/KG,,UMOL/KG,,UMOL/KG,,UMOL/KG,,UMOL/KG,,PMOL/KG,,PMOL/KG,,FMOL/KG,,UMOL/KG,,UMOL/KG,,,,DEG C,/MILLE,,/MILLE,,/MILLE,UMOL/KG,,UMOL/KG,,UMOL/KG,,/MILLE,,,,,,VOLTS,,VOLTS,,VOLTS,,VOLTS,,/MILLE,,UMOL/KG,,/LITER,,UMOL/KG,,UMOL/L,,PMOL/L,,PMOL/L,,,,UG/L,,/METER,,UMOL/L,,ITS-90,,UMOL/L,UMOL/L,,UMOL/L
320620170820,        P06,     215,          1,          1,          1,2,20170919,       0705,   -32.4999,   -91.7654,       3444,  3488.2,   1.7302,  34.6920,2,  34.6910,2, 165.5966,2, 165.0712,2,   119.2,2,   34.53,2,    0.00,2,    2.38,2,-999.000,5,-999.000,5,-999.0000,5,  2298.2,6,  2396.0,2,   7.5895,2,    25.00, -999.00,9, -999.00,9, -999.00,  -999.0,9, -999.00,9,     -999.0,9,  -999.0,9, 20170919,      705, -32.4999, -91.7656,        0.0,1,      0.061,1,      4.684,1,      0.130,1,     -999.0,9,     -999.0,9,     -999.0,9,     -999.0,9,     -999.0,9,     -999.0,9,     -999.0,9,     -999.0,9,     -999.0,9,     -999.0,9,     -999.0,9,     1.7304,2,     -999.0,     -999.0,9,     -999.0
320620170820,        P06,     215,          1,          2,          2,2,20170919,       0705,   -32.4999,   -91.7654,       3444,  3332.9,   1.7339,  34.6913,2,  34.6893,2, 165.5966,2, 165.9641,2,   118.8,2,   34.45,2,    0.00,2,    2.38,2,-999.000,5,-999.000,5,-999.0000,5,  2299.1,2,  2394.1,2,   7.5882,2,    25.00, -999.00,9, -999.00,9, -999.00,  -999.0,9, -999.00,9,     -999.0,9,  -999.0,9, 20170919,      710, -32.4999, -91.7655,        0.0,1,      0.061,1,      4.686,1,      0.128,1,     -999.0,9,     -999.0,9,     -999.0,9,     -999.0,9,     -999.0,9,     -999.0,9,     -999.0,9,     -999.0,9,     -999.0,9,     -999.0,9,     -999.0,9,     1.7329,2,     -999.0,     -999.0,9,     -999.0
320620170820,        P06,     215,          1,          3,          3,2,20170919,       0705,   -32.4999,   -91.7654,       3444,  3178.4,   1.7432,  34.6898,2,  34.6889,2,  165.577,2, 165.8029,2,   118.2,2,   34.41,2,    0.00,2,    2.36,2,-999.000,5,-999.000,5,-999.0000,5,  -999.0,9,  -999.0,9,-999.0000,9,  -999.00, -999.00,9, -999.00,9, -999.00,  -999.0,9, -999.00,9,     -999.0,9,  -999.0,9, 20170919,      715, -32.4999, -91.7654,        0.0,1,      0.061,1,      4.686,1,      0.128,1,     -999.0,9,     -999.0,9,     -999.0,9,     -999.0,9,     -999.0,9,     -999.0,9,     -999.0,9,     -999.0,9,     -999.0,9,     -999.0,9,     -999.0,9,     1.7429,2,     -999.0,     -999.0,9,     -999.0
320620170820,        P06,     215,          1,          4,          4,2,20170919,       0705,   -32.4999,   -91.7654,       3444,  2975.5,   1.7552,  34.6876,2,  34.6873,2,  165.975,2, 165.7839,2,   117.6,2,   34.39,2,    0.00,2,    2.37,2,-999.000,5,-999.000,5,-999.0000,5,  2295.6,2,  2391.6,2,   7.5884,2,    25.00, -999.00,9, -999.00,9, -999.00,  -999.0,9, -999.00,9,     -999.0,9,  -999.0,9, 20170919,      720, -32.5000, -91.7653,        0.0,1,      0.061,1,      4.687,1,      0.128,1,     -999.0,9,     -999.0,9,     -999.0,9,     -999.0,9,     -999.0,9,     -999.0,9,     -999.0,9,     -999.0,9,     -999.0,9,     -999.0,9,     -999.0,9,     1.7539,2,     -999.0,     -999.0,9,     -999.0
320620170820,        P06,     215,          1,          5,          5,2,20170919,       0705,   -32.4999,   -91.7654,       3444,  2770.3,   1.7756,  34.6841,2,  34.6834,2, 165.8207,2, 166.2171,2,   117.0,2,   34.44,2,    0.00,2,    2.39,2,-999.000,5,-999.000,5,-999.0000,5,  -999.0,9,  -999.0,9,-999.0000,9,  -999.00, -999.00,9, -999.00,9, -999.00,  -999.0,9, -999.00,9,     -999.0,9,  -999.0,9, 20170919,      725, -32.4999, -91.7653,        0.0,1,      0.061,1,      4.687,1,      0.128,1,     -999.0,9,     -999.0,9,     -999.0,9,     -999.0,9,     -999.0,9,     -999.0,9,     -999.0,9,     -999.0,9,     -999.0,9,     -999.0,9,     -999.0,9,     1.7751,2,     -999.0,     -999.0,9,     -999.0
320620170820,        P06,     215,          1,          6,          6,2,20170919,       0705,   -32.4999,   -91.7654,       3444,  2568.7,   1.8112,  34.6784,2,  34.6771,2, 164.4865,2, 163.9662,2,   115.9,2,   34.54,2,    0.00,2,    2.39,2,-999.000,5,-999.000,5,-999.0000,5,  2294.2,2,  2389.3,2,   7.5830,2,    25.00, -999.00,9, -999.00,9, -999.00,  -999.0,9, -999.00,9,     -999.0,9,  -999.0,9, 20170919,      730, -32.4999, -91.7653,        0.0,1,      0.062,1,      4.688,1,      0.127,1,     -999.0,9,     -999.0,9,     -999.0,9,     -999.0,9,     -999.0,9,     -999.0,9,     -999.0,9,     -999.0,9,     -999.0,9,     -999.0,9,     -999.0,9,     1.8106,2,     -999.0,     -999.0,9,     -999.0
320620170820,        P06,     215,          1,          7,          7,2,20170919,       0705,   -32.4999,   -91.7654,       3444,  2362.7,   1.9022,  34.6670,2,  34.6669,2, 161.1936,2, 161.1261,2,   113.7,2,   34.76,2,    0.00,2,    2.41,2,-999.000,5,-999.000,5,-999.0000,5,  -999.0,9,  -999.0,9,-999.0000,9,  -999.00, -999.00,9, -999.00,9, -999.00,  -999.0,9, -999.00,9,     -999.0,9,  -999.0,9, 20170919,      735, -32.5000, -91.7651,        0.0,1,      0.060,1,      4.687,1,      0.128,1,     -999.0,9,     -999.0,9,     -999.0,9,     -999.0,9,     -999.0,9,     -999.0,9,     -999.0,9,     -999.0,9,     -999.0,9,     -999.0,9,     -999.0,9,     1.8943,2,     -999.0,     -999.0,9,     -999.0
320620170820,        P06,     215,          1,          8,          8,2,20170919,       0705,   -32.4999,   -91.7654,       3444,  2160.2,   2.0363,  34.6505,2,  34.6500,2, 156.8922,2, 157.0757,2,   109.7,2,   35.09,2,    0.00,2,    2.43,2,-999.000,5,-999.000,5,-999.0000,5,  2292.4,2,  2381.4,2,   7.5705,2,    25.00, -999.00,9, -999.00,9, -999.00,  -999.0,9, -999.00,9,     -999.0,9,  -999.0,9, 20170919,      739, -32.5000, -91.7652,        0.0,1,      0.061,1,      4.687,1,      0.130,1,     -999.0,9,     -999.0,9,     -999.0,9,     -999.0,9,     -999.0,9,     -999.0,9,     -999.0,9,     -999.0,9,     -999.0,9,     -999.0,9,     -999.0,9,     2.0296,2,     -999.0,     -999.0,9,     -999.0
320620170820,        P06,     215,          1,          9,          9,2,20170919,       0705,   -32.4999,   -91.7654,       3444,  1956.4,   2.2417,  34.6241,2,  34.6234,2, 152.4095,2, 152.9272,2,   103.8,2,   35.46,2,    0.00,2,    2.47,2,-999.000,5,-999.000,5,-999.0000,5,  -999.0,9,  -999.0,9,-999.0000,9,  -999.00, -999.00,9, -999.00,9, -999.00,  -999.0,9, -999.00,9,     -999.0,9,  -999.0,9, 20170919,      744, -32.5000, -91.7651,        0.0,1,      0.061,1,      4.687,1,      0.130,1,     -999.0,9,     -999.0,9,     -999.0,9,     -999.0,9,     -999.0,9,     -999.0,9,     -999.0,9,     -999.0,9,     -999.0,9,     -999.0,9,     -999.0,9,     2.2301,2,     -999.0,     -999.0,9,     -999.0
320620170820,        P06,     215,          1,         10,         10,2,20170919,       0705,   -32.4999,   -91.7654,       3444,  1783.4,   2.4940,  34.5984,2,  34.5967,2, 142.4919,2, 142.2769,2,    99.7,2,   36.44,2,    0.00,2,    2.53,2,-999.000,5,-999.000,5,-999.0000,5,  2290.7,2,  2371.6,6,   7.5463,2,    25.00, -999.00,9, -999.00,9, -999.00,  -999.0,9, -999.00,9,     -999.0,9,  -999.0,9, 20170919,      748, -32.5000, -91.7651,        0.0,1,      0.061,1,      4.686,1,      0.134,1,     -999.0,9,     -999.0,9,     -999.0,9,     -999.0,9,     -999.0,9,     -999.0,9,     -999.0,9,     -999.0,9,     -999.0,9,     -999.0,9,     -999.0,9,     2.4971,2,     -999.0,     -999.0,9,     -999.0
320620170820,        P06,     215,          1,         11,         11,2,20170919,       0705,   -32.4999,   -91.7654,       3444,  1683.4,   2.6716,  34.5830,2,  34.5806,2, 135.5145,2, 136.6323,2,    96.4,2,   36.95,2,    0.00,2,    2.57,2,-999.000,5,-999.000,5,-999.0000,5,  -999.0,9,  -999.0,9,-999.0000,9,  -999.00, -999.00,9, -999.00,9, -999.00,  -999.0,9, -999.00,9,     -999.0,9,  -999.0,9, 20170919,      751, -32.5000, -91.7651,        0.0,1,      0.061,1,      4.686,1,      0.131,1,     -999.0,9,     -999.0,9,     -999.0,9,     -999.0,9,     -999.0,9,     -999.0,9,     -999.0,9,     -999.0,9,     -999.0,9,     -999.0,9,     -999.0,9,     2.6722,2,     -999.0,     -999.0,9,     -999.0
320620170820,        P06,     215,          1,         12,         12,2,20170919,       0705,   -32.4999,   -91.7654,       3444,  1579.7,   2.8140,  34.5723,2,  34.5700,2,  130.617,2, 128.9651,2,    94.6,2,   37.60,2,    0.00,2,    2.62,2,-999.000,5,-999.000,5,-999.0000,5,  2294.3,2,  2366.1,2,   7.5233,2,    25.00, -999.00,9, -999.00,9, -999.00,  -999.0,9, -999.00,9,     -999.0,9,  -999.0,9, 20170919,      754, -32.4999, -91.7653,        0.0,1,      0.061,1,      4.686,1,      0.133,1,     -999.0,9,     -999.0,9,     -999.0,9,     -999.0,9,     -999.0,9,     -999.0,9,     -999.0,9,     -999.0,9,     -999.0,9,     -999.0,9,     -999.0,9,     2.8214,2,     -999.0,     -999.0,9,     -999.0
320620170820,        P06,     215,          1,         13,         13,2,20170919,       0705,   -32.4999,   -91.7654,       3444,  1478.6,   3.0410,  34.5548,2,  34.5523,2, 123.8986,2, 124.2991,2,    89.9,2,   37.98,2,    0.00,2,    2.66,2,-999.000,5,-999.000,5,-999.0000,5,  -999.0,9,  -999.0,9,-999.0000,9,  -999.00, -999.00,9, -999.00,9, -999.00,  -999.0,9, -999.00,9,     -999.0,9,  -999.0,9, 20170919,      758, -32.4999, -91.7654,        0.0,1,      0.061,1,      4.686,1,      0.134,1,     -999.0,9,     -999.0,9,     -999.0,9,     -999.0,9,     -999.0,9,     -999.0,9,     -999.0,9,     -999.0,9,     -999.0,9,     -999.0,9,     -999.0,9,     3.0517,2,     -999.0,     -999.0,9,     -999.0
320620170820,        P06,     215,          1,         14,         14,2,20170919,       0705,   -32.4999,   -91.7654,       3444,  1377.9,   3.2308,  34.5373,2,  34.5335,2, 119.8305,2, 119.9188,2,    85.0,2,   38.35,2,    0.00,2,    2.68,2,-999.000,5,-999.000,5,-999.0000,5,  2287.3,2,  2354.2,2,   7.5071,6,    25.00, -999.00,9, -999.00,9, -999.00,  -999.0,9, -999.00,9,     -999.0,9,  -999.0,9, 20170919,      801, -32.4999, -91.7654,        0.0,1,      0.062,1,      4.685,1,      0.132,1,     -999.0,9,     -999.0,9,     -999.0,9,     -999.0,9,     -999.0,9,     -999.0,9,     -999.0,9,     -999.0,9,     -999.0,9,     -999.0,9,     -999.0,9,     3.2350,2,     -999.0,     -999.0,9,     -999.0
320620170820,        P06,     215,          1,         15,         15,2,20170919,       0705,   -32.4999,   -91.7654,       3444,  1276.4,   3.4088,  34.5155,2,  34.5137,2, 117.8128,2, 117.6773,2,    79.6,2,   38.64,2,    0.00,2,    2.72,2,-999.000,5,-999.000,5,-999.0000,5,  2284.9,6,  2348.3,2,   7.4998,2,    25.00, -999.00,9, -999.00,9, -999.00,  -999.0,9, -999.00,9,     -999.0,9,  -999.0,9, 20170919,      804, -32.4999, -91.7655,        0.0,1,      0.061,1,      4.686,1,      0.134,1,     -999.0,9,     -999.0,9,     -999.0,9,     -999.0,9,     -999.0,9,     -999.0,9,     -999.0,9,     -999.0,9,     -999.0,9,     -999.0,9,     -999.0,9,     3.4062,2,     -999.0,     -999.0,9,     -999.0
320620170820,        P06,     215,          1,         16,         16,2,20170919,       0705,   -32.4999,   -91.7654,       3444,  1175.2,   3.5650,  34.4745,2,  34.4740,2, 120.8363,2, 121.4734,2,    70.1,2,   38.50,2,    0.00,2,    2.69,2,-999.000,5,-999.000,5,-999.0000,5,  2274.7,2,  2336.0,2,   7.4983,2,    25.00, -999.00,9, -999.00,9, -999.00,  -999.0,9, -999.00,9,     -999.0,9,  -999.0,9, 20170919,      807, -32.4999, -91.7653,        0.0,1,      0.063,1,      4.685,1,      0.135,1,     -999.0,9,     -999.0,9,     -999.0,9,     -999.0,9,     -999.0,9,     -999.0,9,     -999.0,9,     -999.0,9,     -999.0,9,     -999.0,9,     -999.0,9,     3.5463,2,     -999.0,     -999.0,9,     -999.0
320620170820,        P06,     215,          1,         17,         17,2,20170919,       0705,   -32.4999,   -91.7654,       3444,  1073.9,   3.7401,  34.4144,2,  34.4065,2, 142.8356,2, 141.5021,2,    54.5,2,   37.03,2,    0.00,2,    2.57,2,-999.000,5,-999.000,5,-999.0000,5,  -999.0,9,  -999.0,9,-999.0000,9,  -999.00, -999.00,9, -999.00,9, -999.00,  -999.0,9, -999.00,9,     -999.0,9,  -999.0,9, 20170919,      810, -32.5000, -91.7651,        0.0,1,      0.061,1,      4.685,1,      0.134,1,     -999.0,9,     -999.0,9,     -999.0,9,     -999.0,9,     -999.0,9,     -999.0,9,     -999.0,9,     -999.0,9,     -999.0,9,     -999.0,9,     -999.0,9,     3.7833,2,     -999.0,     -999.0,9,     -999.0
320620170820,        P06,     215,          1,         18,         18,2,20170919,       0705,   -32.4999,   -91.7654,       3444,   972.0,   4.1022,  34.3411,2,  34.3339,2, 173.4616,2, 173.3744,2,    37.9,2,   34.29,2,    0.00,2,    2.36,2,-999.000,5,-999.000,5,-999.0000,5,  2219.7,2,  2302.1,2,   7.5647,2,    25.00, -999.00,9, -999.00,9, -999.00,  -999.0,9, -999.00,9,     -999.0,9,  -999.0,9, 20170919,      813, -32.5001, -91.7648,        0.0,1,      0.060,1,      4.686,1,      0.139,1,     -999.0,9,     -999.0,9,     -999.0,9,     -999.0,9,     -999.0,9,     -999.0,9,     -999.0,9,     -999.0,9,     -999.0,9,     -999.0,9,     -999.0,9,     4.1324,2,     -999.0,     -999.0,9,     -999.0
320620170820,        P06,     215,          1,         19,         19,2,20170919,       0705,   -32.4999,   -91.7654,       3444,   872.1,   4.5439,  34.2994,2,  34.2932,2, 191.6667,2, 192.3882,2,    26.8,2,   32.01,2,    0.00,2,    2.19,2,-999.000,5,-999.000,5,-999.0000,5,  2195.9,2,  2289.9,2,   7.5974,2,    25.00, -999.00,9, -999.00,9, -999.00,  -999.0,9, -999.00,9,     -999.0,9,  -999.0,9, 20170919,      816, -32.5002, -91.7646,        0.0,1,      0.060,1,      4.686,1,      0.134,1,     -999.0,9,     -999.0,9,     -999.0,9,     -999.0,9,     -999.0,9,     -999.0,9,     -999.0,9,     -999.0,9,     -999.0,9,     -999.0,9,     -999.0,9,     4.5790,2,     -999.0,     -999.0,9,     -999.0
320620170820,        P06,     215,          1,         20,         20,2,20170919,       0705,   -32.4999,   -91.7654,       3444,   771.5,   5.0684,  34.2618,2,  34.2597,2, 216.5005,2, 215.7608,2,    17.1,2,   29.15,2,    0.00,2,    1.97,2,-999.000,5,-999.000,5,-999.0000,5,  -999.0,9,  -999.0,9,-999.0000,9,  -999.00, -999.00,9, -999.00,9, -999.00,  -999.0,9, -999.00,9,     -999.0,9,  -999.0,9, 20170919,      819, -32.5002, -91.7647,        0.0,1,      0.060,1,      4.686,1,      0.135,1,     -999.0,9,     -999.0,9,     -999.0,9,     -999.0,9,     -999.0,9,     -999.0,9,     -999.0,9,     -999.0,9,     -999.0,9,     -999.0,9,     -999.0,9,     5.0775,2,     -999.0,     -999.0,9,     -999.0
320620170820,        P06,     215,          1,         21,         21,2,20170919,       0705,   -32.4999,   -91.7654,       3444,   670.5,   5.5221,  34.2576,2,  34.2560,2, 230.6476,2, 231.8226,2,    11.1,2,   26.63,2,    0.00,2,    1.79,2,-999.000,5,-999.000,5,-999.0000,5,  2162.0,2,  2278.0,2,   7.6602,2,    25.00, -999.00,9, -999.00,9, -999.00,  -999.0,9, -999.00,9,     -999.0,9,  -999.0,9, 20170919,      822, -32.5001, -91.7648,        0.0,1,      0.060,1,      4.685,1,      0.134,1,     -999.0,9,     -999.0,9,     -999.0,9,     -999.0,9,     -999.0,9,     -999.0,9,     -999.0,9,     -999.0,9,     -999.0,9,     -999.0,9,     -999.0,9,     5.5980,2,     -999.0,     -999.0,9,     -999.0
320620170820,        P06,     215,          1,         22,         22,2,20170919,       0705,   -32.4999,   -91.7654,       3444,   569.5,   5.8931,  34.2641,2,  34.2628,2, 240.2817,2, 239.5904,2,     9.1,2,   25.14,2,    0.00,2,    1.71,2,-999.000,5,-999.000,5,-999.0000,5,  2156.2,2,  2275.3,2,   7.6749,2,    25.00, -999.00,9, -999.00,9, -999.00,  -999.0,9, -999.00,9,     -999.0,9,  -999.0,9, 20170919,      825, -32.5000, -91.7650,        0.0,1,      0.059,1,      4.685,1,      0.135,1,     -999.0,9,     -999.0,9,     -999.0,9,     -999.0,9,     -999.0,9,     -999.0,9,     -999.0,9,     -999.0,9,     -999.0,9,     -999.0,9,     -999.0,9,     5.9130,2,     -999.0,     -999.0,9,     -999.0
320620170820,        P06,     215,          1,         23,         23,2,20170919,       0705,   -32.4999,   -91.7654,       3444,   488.5,   6.4979,  34.2962,2,  34.2938,2, 208.2999,2, 208.2777,2,     9.8,2,   26.42,2,    0.00,2,    1.81,2,-999.000,5,-999.000,5,-999.0000,5,  -999.0,9,  -999.0,9,-999.0000,9,  -999.00, -999.00,9, -999.00,9, -999.00,  -999.0,9, -999.00,9,     -999.0,9,  -999.0,9, 20170919,      828, -32.4999, -91.7653,        0.0,1,      0.060,1,      4.683,1,      0.138,1,     -999.0,9,     -999.0,9,     -999.0,9,     -999.0,9,     -999.0,9,     -999.0,9,     -999.0,9,     -999.0,9,     -999.0,9,     -999.0,9,     -999.0,9,     6.5158,2,     -999.0,     -999.0,9,     -999.0
320620170820,        P06,     215,          1,         24,         24,2,20170919,       0705,   -32.4999,   -91.7654,       3444,   436.7,   7.1207,  34.3279,2,  34.3276,2, 153.3527,2, 156.2127,2,    12.4,2,   29.01,2,    0.00,2,    2.07,2,-999.000,5,-999.000,5,-999.0000,5,  2199.1,2,  2275.0,2,   7.5532,2,    25.00, -999.00,9, -999.00,9, -999.00,  -999.0,9, -999.00,9,     -999.0,9,  -999.0,9, 20170919,      830, -32.4999, -91.7655,        0.0,1,      0.061,1,      4.681,1,      0.138,1,     -999.0,9,     -999.0,9,     -999.0,9,     -999.0,9,     -999.0,9,     -999.0,9,     -999.0,9,     -999.0,9,     -999.0,9,     -999.0,9,     -999.0,9,     7.2241,2,     -999.0,     -999.0,9,     -999.0
320620170820,        P06,     215,          1,         25,         25,2,20170919,       0705,   -32.4999,   -91.7654,       3444,   387.8,   7.8650,  34.3386,2,  34.3321,2, 135.0407,2, 139.8659,2,    12.1,2,   28.03,2,    0.00,2,    2.08,2,-999.000,5,-999.000,5,-999.0000,5,  2202.3,2,  2273.4,2,   7.5353,2,    25.00, -999.00,9, -999.00,9, -999.00,  -999.0,9, -999.00,9,     -999.0,9,  -999.0,9, 20170919,      832, -32.4999, -91.7655,        0.0,1,      0.061,1,      4.679,1,      0.137,1,     -999.0,9,     -999.0,9,     -999.0,9,     -999.0,9,     -999.0,9,     -999.0,9,     -999.0,9,     -999.0,9,     -999.0,9,     -999.0,9,     -999.0,9,     8.0543,2,     -999.0,     -999.0,9,     -999.0
320620170820,        P06,     215,          1,         26,         26,2,20170919,       0705,   -32.4999,   -91.7654,       3444,   337.0,   8.6598,  34.2493,2,  34.2521,2, 176.3339,2,  177.619,2,     7.3,2,   23.43,2,    0.00,2,    1.75,2,-999.000,5,-999.000,5,-999.0000,5,  2170.7,2,  2270.3,2,   7.6166,2,    25.00, -999.00,9, -999.00,9, -999.00,  -999.0,9, -999.00,9,     -999.0,9,  -999.0,9, 20170919,      834, -32.4999, -91.7654,        0.0,1,      0.060,1,      4.679,1,      0.135,1,     -999.0,9,     -999.0,9,     -999.0,9,     -999.0,9,     -999.0,9,     -999.0,9,     -999.0,9,     -999.0,9,     -999.0,9,     -999.0,9,     -999.0,9,     8.6043,2,     -999.0,     -999.0,9,     -999.0