BOTTLE,20240211CCHSIOCBG
EXPOCODE,SECT_ID,STNNBR,CASTNO,SAMPNO,BTLNBR,BTLNBR_FLAG_W,DATE,TIME,LATITUDE,LONGITUDE,DEPTH,CTDPRS,CTDTMP,CTDSAL,CTDSAL_FLAG_W,SALNTY,SALNTY_FLAG_W,CTDOXY,CTDOXY_FLAG_W,OXYGEN,OXYGEN_FLAG_W,SILCAT,SILCAT_FLAG_W,NITRAT,NITRAT_FLAG_W,NITRIT,NITRIT_FLAG_W,PHSPHT,PHSPHT_FLAG_W,CFC-11,CFC-11_FLAG_W,CFC-12,CFC-12_FLAG_W,SF6,SF6_FLAG_W,TCARBN,TCARBN_FLAG_W,ALKALI,ALKALI_FLAG_W,PH_TOT,PH_TOT_FLAG_W,PH_TMP,DELC13,DELC13_FLAG_W,DELC14,DELC14_FLAG_W,C14ERR,DOC,DOC_FLAG_W,TDN,TDN_FLAG_W,TON,TON_FLAG_W,D15N_NO3,D15N_NO3_FLAG_W,BTL_DATE,BTL_TIME,BTL_LAT,BTL_LON,CTDRINKO,CTDRINKO_FLAG_W,CTDFLUOR,CTDFLUOR_FLAG_W,CTDXMISS,CTDXMISS_FLAG_W,CTDBACKSCATTER,CTDBACKSCATTER_FLAG_W,D18O_NO3,D18O_NO3_FLAG_W,DOP,DOP_FLAG_W,CELLCOUNT,CELLCOUNT_FLAG_W,TDP,TDP_FLAG_W,POP,POP_FLAG_W,DATP,DATP_FLAG_W,PATP,PATP_FLAG_W,HPLC,HPLC_FLAG_W,POC,POC_FLAG_W,BEAMAP,BEAMAP_FLAG_W,DOC_NASA,DOC_NASA_FLAG_W,REFTMP,REFTMP_FLAG_W,DOC_NASA_ERROR,TDN_NASA,TDN_NASA_FLAG_W,TDN_NASA_ERROR
,,,,,,,,,,,METERS,DBAR,ITS-90,PSS-78,,PSS-78,,UMOL/KG,,UMOL/KG,,UMOL/KG,,UMOL/KG,,UMOL/KG,,UMOL/KG,,PMOL/KG,,PMOL/KG,,FMOL/KG,,UMOL/KG,,UMOL/KG,,,,DEG C,/MILLE,,/MILLE,,/MILLE,UMOL/KG,,UMOL/KG,,UMOL/KG,,/MILLE,,,,,,VOLTS,,VOLTS,,VOLTS,,VOLTS,,/MILLE,,UMOL/KG,,/LITER,,UMOL/KG,,UMOL/L,,PMOL/L,,PMOL/L,,,,UG/L,,/METER,,UMOL/L,,ITS-90,,UMOL/L,UMOL/L,,UMOL/L
320620170820,        P06,     211,          1,          1,          1,2,20170917,       2205,   -32.4999,   -95.3254,       3748,  3797.5,   1.7681,  34.6923,2,  34.6938,2, 166.0689,2, 165.9072,2,   118.8,2,   34.44,2,    0.00,2,    2.40,2,   0.033,2,   0.018,2,   0.0000,2,  2298.2,6,  2395.9,2,   7.5889,2,    25.00, -999.00,9, -999.00,9, -999.00,  -999.0,9, -999.00,9,     -999.0,9,  -999.0,9, 20170917,     2205, -32.5000, -95.3254,        0.0,1,      0.061,1,      4.683,1,      0.133,1,     -999.0,9,     -999.0,9,     -999.0,9,     -999.0,9,     -999.0,9,     -999.0,9,     -999.0,9,     -999.0,9,     -999.0,9,     -999.0,9,     -999.0,9,     1.7691,2,     -999.0,     -999.0,9,     -999.0
320620170820,        P06,     211,          1,          2,          2,2,20170917,       2205,   -32.4999,   -95.3254,       3748,  3627.8,   1.7669,  34.6912,2,  34.6914,2, 166.0689,2, 165.8707,2,   118.0,2,   34.44,2,    0.00,2,    2.40,2,   0.038,2,   0.026,2,   0.0000,2,  2299.2,2,  2393.2,2,   7.5892,2,    25.00, -999.00,9, -999.00,9, -999.00,  -999.0,9, -999.00,9,     -999.0,9,  -999.0,9, 20170917,     2209, -32.4999, -95.3254,        0.0,1,      0.061,1,      4.686,1,      0.128,1,     -999.0,9,     -999.0,9,     -999.0,9,     -999.0,9,     -999.0,9,     -999.0,9,     -999.0,9,     -999.0,9,     -999.0,9,     -999.0,9,     -999.0,9,     1.7670,2,     -999.0,     -999.0,9,     -999.0
320620170820,        P06,     211,          1,          3,          3,2,20170917,       2205,   -32.4999,   -95.3254,       3748,  3452.4,   1.7637,  34.6907,2,  34.6910,2, 165.8811,2, 166.0137,2,   117.7,2,   34.44,2,    0.00,2,    2.39,2,   0.037,2,   0.024,2,   0.0000,2,  -999.0,9,  -999.0,9,-999.0000,9,  -999.00, -999.00,9, -999.00,9, -999.00,  -999.0,9, -999.00,9,     -999.0,9,  -999.0,9, 20170917,     2213, -32.5000, -95.3253,        0.0,1,      0.061,1,      4.687,1,      0.126,1,     -999.0,9,     -999.0,9,     -999.0,9,     -999.0,9,     -999.0,9,     -999.0,9,     -999.0,9,     -999.0,9,     -999.0,9,     -999.0,9,     -999.0,9,     1.7645,2,     -999.0,     -999.0,9,     -999.0
320620170820,        P06,     211,          1,          4,          4,2,20170917,       2205,   -32.4999,   -95.3254,       3748,  3145.5,   1.7653,  34.6886,2,  34.6883,2, 165.9512,2,  166.452,2,   116.9,2,   34.37,2,    0.00,2,    2.39,2,   0.040,2,   0.029,2,   0.0000,2,  2295.0,2,  2391.9,6,   7.5881,2,    25.00, -999.00,9, -999.00,9, -999.00,  -999.0,9, -999.00,9,     -999.0,9,  -999.0,9, 20170917,     2220, -32.5002, -95.3252,        0.0,1,      0.061,1,      4.688,1,      0.130,1,     -999.0,9,     -999.0,9,     -999.0,9,     -999.0,9,     -999.0,9,     -999.0,9,     -999.0,9,     -999.0,9,     -999.0,9,     -999.0,9,     -999.0,9,     1.7665,2,     -999.0,     -999.0,9,     -999.0
320620170820,        P06,     211,          1,          5,          5,2,20170917,       2205,   -32.4999,   -95.3254,       3748,  2905.9,   1.7737,  34.6853,2,  34.6851,2, 166.1267,2, 165.9313,2,   116.8,2,   34.43,2,    0.00,2,    2.40,2,   0.036,2,   0.025,2,   0.0000,2,  -999.0,9,  -999.0,9,-999.0000,9,  -999.00, -999.00,9, -999.00,9, -999.00,  -999.0,9, -999.00,9,     -999.0,9,  -999.0,9, 20170917,     2225, -32.4999, -95.3254,        0.0,1,      0.061,1,      4.689,1,      0.127,1,     -999.0,9,     -999.0,9,     -999.0,9,     -999.0,9,     -999.0,9,     -999.0,9,     -999.0,9,     -999.0,9,     -999.0,9,     -999.0,9,     -999.0,9,     1.7741,2,     -999.0,     -999.0,9,     -999.0
320620170820,        P06,     211,          1,          6,          6,2,20170917,       2205,   -32.4999,   -95.3254,       3748,  2699.1,   1.7865,  34.6810,2,  34.6810,2, 165.0049,2, 164.6495,2,   116.6,2,   34.54,2,    0.00,2,    2.41,2,   0.040,2,   0.027,2,   0.0000,2,  2295.8,2,  2389.3,2,   7.5855,2,    25.00, -999.00,9, -999.00,9, -999.00,  -999.0,9, -999.00,9,     -999.0,9,  -999.0,9, 20170917,     2229, -32.5001, -95.3251,        0.0,1,      0.060,1,      4.689,1,      0.125,1,     -999.0,9,     -999.0,9,     -999.0,9,     -999.0,9,     -999.0,9,     -999.0,9,     -999.0,9,     -999.0,9,     -999.0,9,     -999.0,9,     -999.0,9,     1.7893,2,     -999.0,     -999.0,9,     -999.0
320620170820,        P06,     211,          1,          7,          7,2,20170917,       2205,   -32.4999,   -95.3254,       3748,  2496.4,   1.8283,  34.6737,2,  34.6722,2, 162.7327,2,   162.53,2,   115.7,2,   34.75,2,    0.00,2,    2.42,2,   0.037,2,   0.024,2,   0.0000,2,  -999.0,9,  -999.0,9,-999.0000,9,  -999.00, -999.00,9, -999.00,9, -999.00,  -999.0,9, -999.00,9,     -999.0,9,  -999.0,9, 20170917,     2234, -32.5000, -95.3254,        0.0,1,      0.060,1,      4.689,1,      0.127,1,     -999.0,9,     -999.0,9,     -999.0,9,     -999.0,9,     -999.0,9,     -999.0,9,     -999.0,9,     -999.0,9,     -999.0,9,     -999.0,9,     -999.0,9,     1.8334,2,     -999.0,     -999.0,9,     -999.0
320620170820,        P06,     211,          1,          8,          8,2,20170917,       2205,   -32.4999,   -95.3254,       3748,  2293.0,   1.9193,  34.6636,2,  34.6625,2, 159.8277,2, 160.2429,2,   112.7,2,   34.89,2,    0.00,2,    2.43,2,   0.046,2,   0.033,2,   0.0000,2,  2291.7,2,  2383.6,2,   7.5762,6,    25.00, -999.00,9, -999.00,9, -999.00,  -999.0,9, -999.00,9,     -999.0,9,  -999.0,9, 20170917,     2238, -32.5000, -95.3253,        0.0,1,      0.060,1,      4.689,1,      0.128,1,     -999.0,9,     -999.0,9,     -999.0,9,     -999.0,9,     -999.0,9,     -999.0,9,     -999.0,9,     -999.0,9,     -999.0,9,     -999.0,9,     -999.0,9,     1.9272,2,     -999.0,     -999.0,9,     -999.0
320620170820,        P06,     211,          1,          9,          9,2,20170917,       2205,   -32.4999,   -95.3254,       3748,  2088.8,   2.0613,  34.6470,2,  34.6458,2, 156.8635,2, 157.4167,2,   107.8,2,   35.11,2,    0.00,2,    2.44,2,   0.041,2,   0.029,2,   0.0000,2,  -999.0,9,  -999.0,9,-999.0000,9,  -999.00, -999.00,9, -999.00,9, -999.00,  -999.0,9, -999.00,9,     -999.0,9,  -999.0,9, 20170917,     2243, -32.5000, -95.3253,        0.0,1,      0.061,1,      4.689,1,      0.129,1,     -999.0,9,     -999.0,9,     -999.0,9,     -999.0,9,     -999.0,9,     -999.0,9,     -999.0,9,     -999.0,9,     -999.0,9,     -999.0,9,     -999.0,9,     2.0635,2,     -999.0,     -999.0,9,     -999.0
320620170820,        P06,     211,          1,         10,         10,2,20170917,       2205,   -32.4999,   -95.3254,       3748,  1884.0,   2.2941,  34.6167,2,  34.6176,2, 152.0641,2, 152.1632,2,   102.0,2,   35.67,2,    0.00,2,    2.49,2,   0.040,2,   0.026,2,   0.0000,2,  2288.0,2,  2372.2,2,   7.5603,2,    25.00, -999.00,9, -999.00,9, -999.00,  -999.0,9, -999.00,9,     -999.0,9,  -999.0,9, 20170917,     2247, -32.5000, -95.3252,        0.0,1,      0.061,1,      4.689,1,      0.131,1,     -999.0,9,     -999.0,9,     -999.0,9,     -999.0,9,     -999.0,9,     -999.0,9,     -999.0,9,     -999.0,9,     -999.0,9,     -999.0,9,     -999.0,9,     2.2803,2,     -999.0,     -999.0,9,     -999.0
320620170820,        P06,     211,          1,         11,         11,2,20170917,       2205,   -32.4999,   -95.3254,       3748,  1755.6,   2.4806,  34.5949,2,  34.5942,2, 146.5655,2, 146.8082,2,    97.1,2,   36.20,2,    0.00,2,    2.51,2,   0.038,2,   0.028,2,   0.0000,2,  -999.0,9,  -999.0,9,-999.0000,9,  -999.00, -999.00,9, -999.00,9, -999.00,  -999.0,9, -999.00,9,     -999.0,9,  -999.0,9, 20170917,     2251, -32.4999, -95.3255,        0.0,1,      0.061,1,      4.689,1,      0.130,1,     -999.0,9,     -999.0,9,     -999.0,9,     -999.0,9,     -999.0,9,     -999.0,9,     -999.0,9,     -999.0,9,     -999.0,9,     -999.0,9,     -999.0,9,     2.4802,2,     -999.0,     -999.0,9,     -999.0
320620170820,        P06,     211,          1,         12,         12,2,20170917,       2205,   -32.4999,   -95.3254,       3748,  1653.1,   2.6459,  34.5807,2,  34.5820,2, 142.6457,2,  140.967,2,    95.4,2,   36.72,2,    0.00,2,    2.57,2,   0.038,2,   0.026,2,   0.0000,2,  2288.3,2,  2365.6,2,   7.5427,2,    25.00, -999.00,9, -999.00,9, -999.00,  -999.0,9, -999.00,9,     -999.0,9,  -999.0,9, 20170917,     2254, -32.5000, -95.3253,        0.0,1,      0.061,1,      4.687,1,      0.131,1,     -999.0,9,     -999.0,9,     -999.0,9,     -999.0,9,     -999.0,9,     -999.0,9,     -999.0,9,     -999.0,9,     -999.0,9,     -999.0,9,     -999.0,9,     2.6253,2,     -999.0,     -999.0,9,     -999.0
320620170820,        P06,     211,          1,         13,         13,2,20170917,       2205,   -32.4999,   -95.3254,       3748,  1551.5,   2.8404,  34.5634,2,  34.5633,2, 133.7535,2, 134.6803,2,    91.6,2,   37.24,2,    0.00,2,    2.61,2,   0.041,2,   0.028,2,   0.0000,2,  -999.0,9,  -999.0,9,-999.0000,9,  -999.00, -999.00,9, -999.00,9, -999.00,  -999.0,9, -999.00,9,     -999.0,9,  -999.0,9, 20170917,     2256, -32.5001, -95.3252,        0.0,1,      0.061,1,      4.688,1,      0.131,1,     -999.0,9,     -999.0,9,     -999.0,9,     -999.0,9,     -999.0,9,     -999.0,9,     -999.0,9,     -999.0,9,     -999.0,9,     -999.0,9,     -999.0,9,     2.8259,2,     -999.0,     -999.0,9,     -999.0
320620170820,        P06,     211,          1,         14,         14,2,20170917,       2205,   -32.4999,   -95.3254,       3748,  1451.2,   3.0435,  34.5481,2,  34.5470,2, 126.8961,2, 127.2485,2,    87.9,2,   37.88,2,    0.00,2,    2.66,2,   0.038,2,   0.025,2,   0.0000,2,  2288.1,2,  2357.4,2,   7.5171,2,    25.00, -999.00,9, -999.00,9, -999.00,  -999.0,9, -999.00,9,     -999.0,9,  -999.0,9, 20170917,     2259, -32.5001, -95.3251,        0.0,1,      0.061,1,      4.687,1,      0.133,1,     -999.0,9,     -999.0,9,     -999.0,9,     -999.0,9,     -999.0,9,     -999.0,9,     -999.0,9,     -999.0,9,     -999.0,9,     -999.0,9,     -999.0,9,     3.0403,2,     -999.0,     -999.0,9,     -999.0
320620170820,        P06,     211,          1,         15,         15,2,20170917,       2205,   -32.4999,   -95.3254,       3748,  1347.7,   3.2662,  34.5247,2,  34.5250,2, 120.2168,2, 119.5422,2,    82.6,2,   38.55,2,    0.00,2,    2.71,2,   0.047,2,   0.032,2,   0.0000,2,  2288.4,6,  2349.3,2,   7.5018,2,    25.00, -999.00,9, -999.00,9, -999.00,  -999.0,9, -999.00,9,     -999.0,9,  -999.0,9, 20170917,     2302, -32.5001, -95.3251,        0.0,1,      0.061,1,      4.686,1,      0.134,1,     -999.0,9,     -999.0,9,     -999.0,9,     -999.0,9,     -999.0,9,     -999.0,9,     -999.0,9,     -999.0,9,     -999.0,9,     -999.0,9,     -999.0,9,     3.2500,2,     -999.0,     -999.0,9,     -999.0
320620170820,        P06,     211,          1,         16,         16,2,20170917,       2205,   -32.4999,   -95.3254,       3748,  1247.8,   3.4501,  34.4994,2,  34.4976,2, 122.4987,2, 122.3561,2,    74.9,2,   38.26,2,    0.00,2,    2.68,2,   0.047,2,   0.032,2,   0.0000,2,  2278.2,2,  2339.3,2,   7.5039,2,    25.00, -999.00,9, -999.00,9, -999.00,  -999.0,9, -999.00,9,     -999.0,9,  -999.0,9, 20170917,     2305, -32.5000, -95.3253,        0.0,1,      0.062,1,      4.687,1,      0.131,1,     -999.0,9,     -999.0,9,     -999.0,9,     -999.0,9,     -999.0,9,     -999.0,9,     -999.0,9,     -999.0,9,     -999.0,9,     -999.0,9,     -999.0,9,     3.4512,2,     -999.0,     -999.0,9,     -999.0
320620170820,        P06,     211,          1,         17,         17,2,20170917,       2205,   -32.4999,   -95.3254,       3748,  1145.9,   3.6378,  34.4552,2,  34.4459,2, 131.2952,2, 131.4657,2,    62.8,2,   37.72,2,    0.00,2,    2.62,2,   0.083,2,   0.054,2,   0.0000,2,  -999.0,9,  -999.0,9,-999.0000,9,  -999.00, -999.00,9, -999.00,9, -999.00,  -999.0,9, -999.00,9,     -999.0,9,  -999.0,9, 20170917,     2308, -32.4999, -95.3253,        0.0,1,      0.061,1,      4.687,1,      0.133,1,     -999.0,9,     -999.0,9,     -999.0,9,     -999.0,9,     -999.0,9,     -999.0,9,     -999.0,9,     -999.0,9,     -999.0,9,     -999.0,9,     -999.0,9,     3.6529,2,     -999.0,     -999.0,9,     -999.0
320620170820,        P06,     211,          1,         18,         18,2,20170917,       2205,   -32.4999,   -95.3254,       3748,  1045.8,   3.7932,  34.3870,2,  34.3766,2, 156.9483,2, 157.5144,2,    47.9,2,   35.75,2,    0.00,2,    2.46,2,   0.302,2,   0.162,2,   0.0000,2,  2236.6,2,  2309.8,2,   7.5422,2,    25.00, -999.00,9, -999.00,9, -999.00,  -999.0,9, -999.00,9,     -999.0,9,  -999.0,9, 20170917,     2310, -32.4999, -95.3253,        0.0,1,      0.060,1,      4.687,1,      0.135,1,     -999.0,9,     -999.0,9,     -999.0,9,     -999.0,9,     -999.0,9,     -999.0,9,     -999.0,9,     -999.0,9,     -999.0,9,     -999.0,9,     -999.0,9,     3.7965,2,     -999.0,     -999.0,9,     -999.0
320620170820,        P06,     211,          1,         19,         19,2,20170917,       2205,   -32.4999,   -95.3254,       3748,   945.0,   4.1049,  34.3281,2,  34.3170,2,  182.853,2, 183.2468,2,    34.1,2,   33.31,2,    0.00,2,    2.29,2,   0.886,2,   0.430,2,   0.1130,2,  -999.0,9,  -999.0,9,-999.0000,9,  -999.00, -999.00,9, -999.00,9, -999.00,  -999.0,9, -999.00,9,     -999.0,9,  -999.0,9, 20170917,     2313, -32.4999, -95.3253,        0.0,1,      0.061,1,      4.687,1,      0.136,1,     -999.0,9,     -999.0,9,     -999.0,9,     -999.0,9,     -999.0,9,     -999.0,9,     -999.0,9,     -999.0,9,     -999.0,9,     -999.0,9,     -999.0,9,     4.1853,2,     -999.0,     -999.0,9,     -999.0
320620170820,        P06,     211,          1,         20,         20,2,20170917,       2205,   -32.4999,   -95.3254,       3748,   841.2,   4.6781,  34.2758,2,  34.2750,2, 208.4341,2, 206.6746,2,    23.1,2,   30.58,2,    0.00,2,    2.08,2,   1.909,2,   0.928,2,   0.1940,2,  2185.9,2,  2284.2,2,   7.6188,2,    25.00, -999.00,9, -999.00,9, -999.00,  -999.0,9, -999.00,9,     -999.0,9,  -999.0,9, 20170917,     2316, -32.5000, -95.3253,        0.0,1,      0.061,1,      4.687,1,      0.133,1,     -999.0,9,     -999.0,9,     -999.0,9,     -999.0,9,     -999.0,9,     -999.0,9,     -999.0,9,     -999.0,9,     -999.0,9,     -999.0,9,     -999.0,9,     4.6749,2,     -999.0,     -999.0,9,     -999.0
320620170820,        P06,     211,          1,         21,         21,2,20170917,       2205,   -32.4999,   -95.3254,       3748,   740.7,   5.1361,  34.2542,2,  34.2511,2, 229.0525,2, 229.2221,2,    14.8,2,   27.77,2,    0.00,2,    1.88,2,   2.959,2,   1.443,2,   0.4560,2,  -999.0,9,  -999.0,9,-999.0000,9,  -999.00, -999.00,9, -999.00,9, -999.00,  -999.0,9, -999.00,9,     -999.0,9,  -999.0,9, 20170917,     2318, -32.5000, -95.3254,        0.0,1,      0.059,1,      4.687,1,      0.133,1,     -999.0,9,     -999.0,9,     -999.0,9,     -999.0,9,     -999.0,9,     -999.0,9,     -999.0,9,     -999.0,9,     -999.0,9,     -999.0,9,     -999.0,9,     5.1651,2,     -999.0,     -999.0,9,     -999.0
320620170820,        P06,     211,          1,         22,         22,2,20170917,       2205,   -32.4999,   -95.3254,       3748,   639.8,   5.6396,  34.2547,2,  34.2517,2,  243.045,2, 242.9286,2,    10.6,2,   25.69,2,    0.00,2,    1.73,2,   3.660,2,   1.834,2,   0.7900,2,  2157.4,2,  2275.3,2,   7.6775,2,    25.00, -999.00,9, -999.00,9, -999.00,  -999.0,9, -999.00,9,     -999.0,9,  -999.0,9, 20170917,     2321, -32.4999, -95.3255,        0.0,1,      0.059,1,      4.686,1,      0.133,1,     -999.0,9,     -999.0,9,     -999.0,9,     -999.0,9,     -999.0,9,     -999.0,9,     -999.0,9,     -999.0,9,     -999.0,9,     -999.0,9,     -999.0,9,     5.5915,2,     -999.0,     -999.0,9,     -999.0
320620170820,        P06,     211,          1,         23,         23,2,20170917,       2205,   -32.4999,   -95.3254,       3748,   538.8,   6.0615,  34.2736,2,  34.2711,2, 246.2871,2, 246.8949,2,     8.7,2,   24.38,2,    0.00,2,    1.65,2,   3.837,2,   1.989,2,   1.0630,2,  -999.0,9,  -999.0,9,-999.0000,9,  -999.00, -999.00,9, -999.00,9, -999.00,  -999.0,9, -999.00,9,     -999.0,9,  -999.0,9, 20170917,     2324, -32.4999, -95.3254,        0.0,1,      0.059,1,      4.685,1,      0.134,1,     -999.0,9,     -999.0,9,     -999.0,9,     -999.0,9,     -999.0,9,     -999.0,9,     -999.0,9,     -999.0,9,     -999.0,9,     -999.0,9,     -999.0,9,     5.9790,2,     -999.0,     -999.0,9,     -999.0
320620170820,        P06,     211,          1,         24,         24,2,20170917,       2205,   -32.4999,   -95.3254,       3748,   468.0,   6.4526,  34.2839,2,  34.2803,2, 240.4886,2, 241.1279,2,     7.8,2,   24.03,2,    0.00,2,    1.63,2,   3.847,2,   1.985,2,   1.1150,2,  2152.0,2,  2274.6,2,   7.6808,2,    25.00, -999.00,9, -999.00,9, -999.00,  -999.0,9, -999.00,9,     -999.0,9,  -999.0,9, 20170917,     2326, -32.5000, -95.3253,        0.0,1,      0.060,1,      4.685,1,      0.134,1,     -999.0,9,     -999.0,9,     -999.0,9,     -999.0,9,     -999.0,9,     -999.0,9,     -999.0,9,     -999.0,9,     -999.0,9,     -999.0,9,     -999.0,9,     6.3249,2,     -999.0,     -999.0,9,     -999.0
320620170820,        P06,     211,          1,         25,         25,2,20170917,       2205,   -32.4999,   -95.3254,       3748,   417.7,   6.8549,  34.2737,2,  34.2750,2, 220.8405,2, 220.5567,2,     7.7,2,   24.77,2,    0.00,2,    1.71,2,   3.725,2,   1.923,2,   1.1200,2,  2160.6,2,  2270.1,2,   7.6529,2,    25.00, -999.00,9, -999.00,9, -999.00,  -999.0,9, -999.00,9,     -999.0,9,  -999.0,9, 20170917,     2328, -32.5001, -95.3253,        0.0,1,      0.059,1,      4.683,1,      0.136,1,     -999.0,9,     -999.0,9,     -999.0,9,     -999.0,9,     -999.0,9,     -999.0,9,     -999.0,9,     -999.0,9,     -999.0,9,     -999.0,9,     -999.0,9,     6.7387,2,     -999.0,     -999.0,9,     -999.0
320620170820,        P06,     211,          1,         26,         26,2,20170917,       2205,   -32.4999,   -95.3254,       3748,   367.5,   7.5719,  34.2484,2,  34.2475,2, 209.4604,2, 210.3578,2,     6.6,2,   23.98,2,    0.00,2,    1.67,2,   3.609,2,   1.908,2,   1.2580,2,  2159.7,2,  2269.8,6,   7.6474,2,    25.00, -999.00,9, -999.00,9, -999.00,  -999.0,9, -999.00,9,     -999.0,9,  -999.0,9, 20170917,     2330, -32.5001, -95.3252,        0.0,1,      0.059,1,      4.683,1,      0.134,1,     -999.0,9,     -999.0,9,     -999.0,9,     -999.0,9,     -999.0,9,     -999.0,9,     -999.0,9,     -999.0,9,     -999.0,9,     -999.0,9,     -999.0,9,     7.3852,2,     -999.0,     -999.0,9,     -999.0