BOTTLE,20240211CCHSIOCBG
EXPOCODE,SECT_ID,STNNBR,CASTNO,SAMPNO,BTLNBR,BTLNBR_FLAG_W,DATE,TIME,LATITUDE,LONGITUDE,DEPTH,CTDPRS,CTDTMP,CTDSAL,CTDSAL_FLAG_W,SALNTY,SALNTY_FLAG_W,CTDOXY,CTDOXY_FLAG_W,OXYGEN,OXYGEN_FLAG_W,SILCAT,SILCAT_FLAG_W,NITRAT,NITRAT_FLAG_W,NITRIT,NITRIT_FLAG_W,PHSPHT,PHSPHT_FLAG_W,CFC-11,CFC-11_FLAG_W,CFC-12,CFC-12_FLAG_W,SF6,SF6_FLAG_W,TCARBN,TCARBN_FLAG_W,ALKALI,ALKALI_FLAG_W,PH_TOT,PH_TOT_FLAG_W,PH_TMP,DELC13,DELC13_FLAG_W,DELC14,DELC14_FLAG_W,C14ERR,DOC,DOC_FLAG_W,TDN,TDN_FLAG_W,TON,TON_FLAG_W,D15N_NO3,D15N_NO3_FLAG_W,BTL_DATE,BTL_TIME,BTL_LAT,BTL_LON,CTDRINKO,CTDRINKO_FLAG_W,CTDFLUOR,CTDFLUOR_FLAG_W,CTDXMISS,CTDXMISS_FLAG_W,CTDBACKSCATTER,CTDBACKSCATTER_FLAG_W,D18O_NO3,D18O_NO3_FLAG_W,DOP,DOP_FLAG_W,CELLCOUNT,CELLCOUNT_FLAG_W,TDP,TDP_FLAG_W,POP,POP_FLAG_W,DATP,DATP_FLAG_W,PATP,PATP_FLAG_W,HPLC,HPLC_FLAG_W,POC,POC_FLAG_W,BEAMAP,BEAMAP_FLAG_W,DOC_NASA,DOC_NASA_FLAG_W,REFTMP,REFTMP_FLAG_W,DOC_NASA_ERROR,TDN_NASA,TDN_NASA_FLAG_W,TDN_NASA_ERROR
,,,,,,,,,,,METERS,DBAR,ITS-90,PSS-78,,PSS-78,,UMOL/KG,,UMOL/KG,,UMOL/KG,,UMOL/KG,,UMOL/KG,,UMOL/KG,,PMOL/KG,,PMOL/KG,,FMOL/KG,,UMOL/KG,,UMOL/KG,,,,DEG C,/MILLE,,/MILLE,,/MILLE,UMOL/KG,,UMOL/KG,,UMOL/KG,,/MILLE,,,,,,VOLTS,,VOLTS,,VOLTS,,VOLTS,,/MILLE,,UMOL/KG,,/LITER,,UMOL/KG,,UMOL/L,,PMOL/L,,PMOL/L,,,,UG/L,,/METER,,UMOL/L,,ITS-90,,UMOL/L,UMOL/L,,UMOL/L
320620170820,        P06,     151,          1,         27,         27,2,20170828,       1128,   -32.4997,  -143.0404,       5102,   365.5,   9.0945,  34.4779,2,  34.4536,2, 219.4315,2, 228.4212,2,     3.7,2,   17.84,2,    0.00,2,    1.28,2,   3.290,2,   1.825,2,   1.3170,2,  2134.8,2,  2284.7,2,   7.7338,2,    25.00, -999.00,9, -999.00,9, -999.00,  -999.0,9, -999.00,9,     -999.0,9,  -999.0,9, 20170828,     1340, -32.4999,-143.0404,        0.0,1,      0.060,1,      4.688,1,      0.133,1,     -999.0,9,     -999.0,9,     -999.0,9,     -999.0,9,     -999.0,9,     -999.0,9,     -999.0,9,     -999.0,9,     -999.0,9,     -999.0,9,     -999.0,9,     8.8103,2,     -999.0,     -999.0,9,     -999.0
320620170820,        P06,     151,          1,         28,         28,2,20170828,       1128,   -32.4997,  -143.0404,       5102,   319.4,  10.0567,  34.5547,2,  34.5498,2, 219.8492,2, 217.9193,2,     2.7,2,   15.02,2,    0.00,2,    1.08,2,   3.090,2,   1.749,2,   1.3540,2,  2127.0,2,  2285.8,2,   7.7594,2,    25.00, -999.00,9, -999.00,9, -999.00,  -999.0,9, -999.00,9,     -999.0,9,  -999.0,9, 20170828,     1343, -32.4999,-143.0404,        0.0,1,      0.059,1,      4.686,1,      0.133,1,     -999.0,9,     -999.0,9,     -999.0,9,     -999.0,9,     -999.0,9,     -999.0,9,     -999.0,9,     -999.0,9,     -999.0,9,     -999.0,9,     -999.0,9,    10.1734,2,     -999.0,     -999.0,9,     -999.0
320620170820,        P06,     151,          1,         29,         29,2,20170828,       1128,   -32.4997,  -143.0404,       5102,   267.2,  12.1434,  34.7606,2,  34.6946,2, 206.7753,2, 213.5562,2,     1.7,2,   11.08,2,    0.00,2,    0.83,2,   2.853,2,   1.659,2,   1.4410,2,  2117.2,2,  2290.8,2,   7.7984,2,    25.00, -999.00,9, -999.00,9, -999.00,  -999.0,9, -999.00,9,     -999.0,9,  -999.0,9, 20170828,     1345, -32.4999,-143.0404,        0.0,1,      0.060,1,      4.684,1,      0.133,1,     -999.0,9,     -999.0,9,     -999.0,9,     -999.0,9,     -999.0,9,     -999.0,9,     -999.0,9,     -999.0,9,     -999.0,9,     -999.0,9,     -999.0,9,    11.7406,2,     -999.0,     -999.0,9,     -999.0
320620170820,        P06,     151,          1,         30,         30,2,20170828,       1128,   -32.4997,  -143.0404,       5102,   216.8,  13.7292,  34.9362,2,  34.8605,2,  209.663,2, 216.0996,2,     0.9,2,    6.96,2,    0.00,2,    0.57,2,   2.454,2,   1.572,2,   1.5620,2,  2102.5,2,  2299.2,2,   7.8430,6,    25.00, -999.00,9, -999.00,9, -999.00,  -999.0,9, -999.00,9,     -999.0,9,  -999.0,9, 20170828,     1347, -32.4999,-143.0404,        0.0,1,      0.065,1,      4.681,1,      0.133,1,     -999.0,9,     -999.0,9,     -999.0,9,     -999.0,9,     -999.0,9,     -999.0,9,     -999.0,9,     -999.0,9,     -999.0,9,     -999.0,9,     -999.0,9,    13.2578,2,     -999.0,     -999.0,9,     -999.0
320620170820,        P06,     151,          1,         31,         31,2,20170828,       1128,   -32.4997,  -143.0404,       5102,   164.8,  14.6342,  35.0071,2,  35.0108,3, 217.4477,2, 224.8104,2,     0.4,2,    3.18,2,    0.03,2,    0.33,2,   2.487,2,   1.492,2,   1.5270,2,  2086.2,2,  2305.1,2,   7.8855,2,    25.00, -999.00,9, -999.00,9, -999.00,  -999.0,9, -999.00,9,     -999.0,9,  -999.0,9, 20170828,     1349, -32.5000,-143.0404,        0.0,1,      0.106,1,      4.670,1,      0.145,1,     -999.0,9,     -999.0,9,     -999.0,9,     -999.0,9,     -999.0,9,     -999.0,9,     -999.0,9,     -999.0,9,     -999.0,9,     -999.0,9,     -999.0,9,    14.4663,2,     -999.0,     -999.0,9,     -999.0
320620170820,        P06,     151,          1,         32,         32,2,20170828,       1128,   -32.4997,  -143.0404,       5102,   114.1,  16.4998,  35.1916,2,  35.1766,2, 233.8165,2, 240.9461,2,     0.2,2,    0.02,2,    0.00,2,    0.10,2,   2.288,2,   1.362,2,   1.7000,2,  2058.2,2,  2310.6,2,   7.9541,2,    25.00, -999.00,9, -999.00,9, -999.00,  -999.0,9, -999.00,9,     -999.0,9,  -999.0,9, 20170828,     1351, -32.5000,-143.0404,        0.0,1,      0.133,1,      4.642,1,      0.170,1,     -999.0,9,     -999.0,9,     -999.0,9,     -999.0,9,     -999.0,9,     -999.0,9,     -999.0,9,     -999.0,9,     -999.0,9,     -999.0,9,     -999.0,9,    16.4279,2,     -999.0,     -999.0,9,     -999.0
320620170820,        P06,     151,          1,         33,         33,2,20170828,       1128,   -32.4997,  -143.0404,       5102,    85.2,  16.5438,  35.2045,2,  35.1837,2, 233.9445,2, 240.9127,2,     0.2,2,    0.00,2,    0.00,2,    0.10,2,   2.463,2,   1.314,2,   1.6530,2,  2060.3,2,  2314.7,6,   7.9553,2,    25.00, -999.00,9, -999.00,9, -999.00,  -999.0,9, -999.00,9,     -999.0,9,  -999.0,9, 20170828,     1353, -32.4999,-143.0404,        0.0,1,      0.132,1,      4.641,1,      0.174,1,     -999.0,9,     -999.0,9,     -999.0,9,     -999.0,9,     -999.0,9,     -999.0,9,     -999.0,9,     -999.0,9,     -999.0,9,     -999.0,9,     -999.0,9,    16.4642,2,     -999.0,     -999.0,9,     -999.0
320620170820,        P06,     151,          1,         34,         34,2,20170828,       1128,   -32.4997,  -143.0404,       5102,    59.2,  16.5470,  35.2067,2,  35.1863,2, 243.1098,2, 239.9217,2,     0.2,2,    0.00,2,    0.00,2,    0.09,2,   2.289,2,   1.351,2,   1.6930,2,  2057.2,2,  2314.2,2,   7.9562,2,    25.00, -999.00,9, -999.00,9, -999.00,  -999.0,9, -999.00,9,     -999.0,9,  -999.0,9, 20170828,     1354, -32.4999,-143.0404,        0.0,1,      0.131,1,      4.640,1,      0.175,1,     -999.0,9,     -999.0,9,     -999.0,9,     -999.0,9,     -999.0,9,     -999.0,9,     -999.0,9,     -999.0,9,     -999.0,9,     -999.0,9,     -999.0,9,    16.4712,2,     -999.0,     -999.0,9,     -999.0
320620170820,        P06,     151,          1,         35,         35,2,20170828,       1128,   -32.4997,  -143.0404,       5102,    33.8,  16.5569,  35.2100,2,  35.1922,2, 234.2578,2, 240.5973,2,     0.2,2,    0.01,2,    0.00,2,    0.10,2,   2.319,2,   1.361,2,   1.7070,2,  2057.6,2,  2314.7,2,   7.9555,2,    25.00, -999.00,9, -999.00,9, -999.00,  -999.0,9, -999.00,9,     -999.0,9,  -999.0,9, 20170828,     1356, -32.4999,-143.0404,        0.0,1,      0.137,1,      4.641,1,      0.173,1,     -999.0,9,     -999.0,9,     -999.0,9,     -999.0,9,     -999.0,9,     -999.0,9,     -999.0,9,     -999.0,9,     -999.0,9,     -999.0,9,     -999.0,9,    16.4854,2,     -999.0,     -999.0,9,     -999.0
320620170820,        P06,     151,          1,         36,         36,2,20170828,       1128,   -32.4997,  -143.0404,       5102,     5.6,  16.5475,  35.2117,2,  35.1943,2, 234.5861,2, 240.7032,2,     0.2,2,    0.01,2,    0.00,2,    0.11,2,   2.313,2,   1.359,2,   1.7690,2,  2058.4,6,  2311.4,2,   7.9559,2,    25.00, -999.00,9, -999.00,9, -999.00,  -999.0,9, -999.00,9,     -999.0,9,  -999.0,9, 20170828,     1358, -32.4997,-143.0404,        0.0,1,      0.134,1,      4.640,1,      0.168,1,     -999.0,9,     -999.0,9,     -999.0,9,     -999.0,9,     -999.0,9,     -999.0,9,     -999.0,9,     -999.0,9,     -999.0,9,     -999.0,9,     -999.0,9,    16.4769,2,     -999.0,     -999.0,9,     -999.0