BOTTLE,20240211CCHSIOCBG
EXPOCODE,SECT_ID,STNNBR,CASTNO,SAMPNO,BTLNBR,BTLNBR_FLAG_W,DATE,TIME,LATITUDE,LONGITUDE,DEPTH,CTDPRS,CTDTMP,CTDSAL,CTDSAL_FLAG_W,SALNTY,SALNTY_FLAG_W,CTDOXY,CTDOXY_FLAG_W,OXYGEN,OXYGEN_FLAG_W,SILCAT,SILCAT_FLAG_W,NITRAT,NITRAT_FLAG_W,NITRIT,NITRIT_FLAG_W,PHSPHT,PHSPHT_FLAG_W,CFC-11,CFC-11_FLAG_W,CFC-12,CFC-12_FLAG_W,SF6,SF6_FLAG_W,TCARBN,TCARBN_FLAG_W,ALKALI,ALKALI_FLAG_W,PH_TOT,PH_TOT_FLAG_W,PH_TMP,DELC13,DELC13_FLAG_W,DELC14,DELC14_FLAG_W,C14ERR,DOC,DOC_FLAG_W,TDN,TDN_FLAG_W,TON,TON_FLAG_W,D15N_NO3,D15N_NO3_FLAG_W,BTL_DATE,BTL_TIME,BTL_LAT,BTL_LON,CTDRINKO,CTDRINKO_FLAG_W,CTDFLUOR,CTDFLUOR_FLAG_W,CTDXMISS,CTDXMISS_FLAG_W,CTDBACKSCATTER,CTDBACKSCATTER_FLAG_W,D18O_NO3,D18O_NO3_FLAG_W,DOP,DOP_FLAG_W,CELLCOUNT,CELLCOUNT_FLAG_W,TDP,TDP_FLAG_W,POP,POP_FLAG_W,DATP,DATP_FLAG_W,PATP,PATP_FLAG_W,HPLC,HPLC_FLAG_W,POC,POC_FLAG_W,BEAMAP,BEAMAP_FLAG_W,DOC_NASA,DOC_NASA_FLAG_W,REFTMP,REFTMP_FLAG_W,DOC_NASA_ERROR,TDN_NASA,TDN_NASA_FLAG_W,TDN_NASA_ERROR
,,,,,,,,,,,METERS,DBAR,ITS-90,PSS-78,,PSS-78,,UMOL/KG,,UMOL/KG,,UMOL/KG,,UMOL/KG,,UMOL/KG,,UMOL/KG,,PMOL/KG,,PMOL/KG,,FMOL/KG,,UMOL/KG,,UMOL/KG,,,,DEG C,/MILLE,,/MILLE,,/MILLE,UMOL/KG,,UMOL/KG,,UMOL/KG,,/MILLE,,,,,,VOLTS,,VOLTS,,VOLTS,,VOLTS,,/MILLE,,UMOL/KG,,/LITER,,UMOL/KG,,UMOL/L,,PMOL/L,,PMOL/L,,,,UG/L,,/METER,,UMOL/L,,ITS-90,,UMOL/L,UMOL/L,,UMOL/L
320620170820,        P06,     232,          1,         27,         27,2,20170925,       0302,   -32.4998,   -76.6361,       4101,   317.2,   9.0995,  34.4659,2,  34.4549,2,  55.7926,2,  61.2297,2,    19.1,2,   30.47,2,    0.00,2,    2.53,2,   1.866,2,   1.058,2,   0.6510,4,  2254.6,2,  2279.4,6,   7.4005,2,    25.00, -999.00,9, -999.00,9, -999.00,    47.6,2, -999.00,9,     -999.0,1,  -999.0,9, 20170925,      441, -32.4997, -76.6357,        0.0,1,      0.065,1,      4.661,1,      0.160,1,     -999.0,9,     -999.0,9,     -999.0,9,     -999.0,9,     -999.0,9,     -999.0,9,     -999.0,9,     -999.0,9,     -999.0,9,     -999.0,9,     -999.0,9,     9.0749,2,     -999.0,     -999.0,9,     -999.0
320620170820,        P06,     232,          1,         28,         28,2,20170925,       0302,   -32.4998,   -76.6361,       4101,   265.3,  10.1367,  34.5315,2,  34.5333,2,  31.6582,2,  32.3413,2,    21.2,2,   27.85,2,    0.00,2,    2.66,2,   1.652,2,   0.994,2,   0.6530,4,  2269.8,2,  2282.6,2,   7.3621,2,    25.00, -999.00,9, -999.00,9, -999.00,    48.1,2, -999.00,9,     -999.0,1,  -999.0,9, 20170925,      444, -32.4997, -76.6358,        0.0,1,      0.066,1,      4.660,1,      0.162,1,     -999.0,9,     -999.0,9,     -999.0,9,     -999.0,9,     -999.0,9,     -999.0,9,     -999.0,9,     -999.0,9,     -999.0,9,     -999.0,9,     -999.0,9,    10.1882,2,     -999.0,     -999.0,9,     -999.0
320620170820,        P06,     232,          1,         29,         29,2,20170925,       0302,   -32.4998,   -76.6361,       4101,   215.9,  10.1185,  34.2922,2,  34.3133,2, 121.0675,2, 118.8467,2,    10.9,2,   24.07,2,    0.00,2,    2.07,2,   2.745,2,   1.490,2,   0.9510,4,  2205.8,2,  2269.8,2,   7.5202,6,    25.00, -999.00,9, -999.00,9, -999.00,    46.2,2,   26.20,2,     -999.0,1,  -999.0,9, 20170925,      446, -32.4997, -76.6357,        0.0,1,      0.062,1,      4.664,1,      0.163,1,     -999.0,9,     -999.0,9,     -999.0,9,     -999.0,9,     -999.0,9,     -999.0,9,     -999.0,9,     -999.0,9,     -999.0,9,     -999.0,9,     -999.0,9,    10.1338,2,     -999.0,     -999.0,9,     -999.0
320620170820,        P06,     232,          1,         30,         30,2,20170925,       0302,   -32.4998,   -76.6361,       4101,   164.8,  11.3370,  34.1094,2,  34.1164,3, 183.1409,2, 188.9697,2,     2.8,2,   18.74,2,    0.02,2,    1.43,2,   3.132,2,   1.680,2,   1.3960,4,  -999.0,9,  -999.0,9,-999.0000,9,  -999.00, -999.00,9, -999.00,9, -999.00,    46.1,2,   19.90,2,     -999.0,1,  -999.0,9, 20170925,      448, -32.4997, -76.6357,        0.0,1,      0.064,1,      4.660,1,      0.166,1,     -999.0,9,     -999.0,9,     -999.0,9,     -999.0,9,     -999.0,9,     -999.0,9,     -999.0,9,     -999.0,9,     -999.0,9,     -999.0,9,     -999.0,9,    11.3760,2,     -999.0,     -999.0,9,     -999.0
320620170820,        P06,     232,          1,         31,         31,2,20170925,       0302,   -32.4998,   -76.6361,       4101,   134.1,  12.8369,  34.1229,2,  34.1830,2, 236.4611,2, 230.7046,2,     0.2,2,    8.54,2,    0.12,2,    0.76,2,   2.817,2,   1.575,2,   1.6060,4,  2083.4,2,  2268.9,2,   7.8419,2,    25.00, -999.00,9, -999.00,9, -999.00,    57.3,2,   10.70,2,     -999.0,1,  -999.0,9, 20170925,      450, -32.4997, -76.6359,        0.0,1,      0.079,1,      4.654,1,      0.163,1,     -999.0,9,     -999.0,9,     -999.0,9,     -999.0,9,     -999.0,9,     -999.0,9,     -999.0,9,     -999.0,9,     -999.0,9,     -999.0,9,     -999.0,9,    13.5835,2,     -999.0,     -999.0,9,     -999.0
320620170820,        P06,     232,          1,         32,         32,2,20170925,       0302,   -32.4998,   -76.6361,       4101,   109.0,  14.3581,  34.3282,2,  34.3148,2, 252.7175,2,   253.48,2,     0.0,2,    2.74,2,    0.10,2,    0.46,2,   2.710,2,   1.473,2,   1.5970,4,  2061.4,2,  2280.0,2,   7.9100,2,    25.00, -999.00,9, -999.00,9, -999.00,    58.6,2,    7.60,2,     -999.0,1,  -999.0,9, 20170925,      452, -32.4997, -76.6359,        0.0,1,      0.156,1,      4.629,1,      0.178,1,     -999.0,9,     -999.0,9,     -999.0,9,     -999.0,9,     -999.0,9,     -999.0,9,     -999.0,9,     -999.0,9,     -999.0,9,     -999.0,9,     -999.0,9,    14.3156,2,     -999.0,     -999.0,9,     -999.0
320620170820,        P06,     232,          1,         33,         33,2,20170925,       0302,   -32.4998,   -76.6361,       4101,    84.5,  14.3829,  34.3322,2,  34.3325,2, 253.2378,2, 253.6378,2,     0.0,2,    2.63,2,    0.09,2,    0.45,2,   2.695,2,   1.472,2,   1.4670,4,  -999.0,9,  -999.0,9,-999.0000,9,  -999.00, -999.00,9, -999.00,9, -999.00,    58.9,2,    6.70,2,     -999.0,1,  -999.0,9, 20170925,      454, -32.4998, -76.6360,        0.0,1,      0.190,1,      4.619,1,      0.189,1,     -999.0,9,     -999.0,9,     -999.0,9,     -999.0,9,     -999.0,9,     -999.0,9,     -999.0,9,     -999.0,9,     -999.0,9,     -999.0,9,     -999.0,9,    14.3754,2,     -999.0,     -999.0,9,     -999.0
320620170820,        P06,     232,          1,         34,         34,2,20170925,       0302,   -32.4998,   -76.6361,       4101,    59.8,  14.4154,  34.3390,2,  34.3215,2, 253.9558,2, 256.0211,2,     0.0,2,    2.54,2,    0.09,2,    0.44,2,   2.704,2,   1.465,2,   1.3360,4,  2059.7,2,  2280.1,2,   7.9145,2,    25.00, -999.00,9, -999.00,9, -999.00,    62.7,2,    6.30,2,     -999.0,1,  -999.0,9, 20170925,      456, -32.4998, -76.6361,        0.0,1,      0.209,1,      4.612,1,      0.193,1,     -999.0,9,     -999.0,9,     -999.0,9,     -999.0,9,     -999.0,9,     -999.0,9,     -999.0,9,     -999.0,9,     -999.0,9,     -999.0,9,     -999.0,9,    14.3676,2,     -999.0,     -999.0,9,     -999.0
320620170820,        P06,     232,          1,         35,         35,2,20170925,       0302,   -32.4998,   -76.6361,       4101,    33.9,  14.4242,  34.3251,2,  34.3307,2, 256.4679,2, 256.5592,2,     0.0,2,    2.48,2,    0.09,2,    0.46,2,   2.715,2,   1.446,2,   1.3590,4,  2058.3,2,  2281.3,2,   7.9159,2,    25.00, -999.00,9, -999.00,9, -999.00,    63.6,2,    6.30,2,     -999.0,1,  -999.0,9, 20170925,      457, -32.4998, -76.6363,        0.0,1,      0.214,1,      4.583,1,      0.212,1,     -999.0,9,     -999.0,9,     -999.0,9,     -999.0,9,     -999.0,9,     -999.0,9,     -999.0,9,     -999.0,9,     -999.0,9,     -999.0,9,     -999.0,9,    14.4358,2,     -999.0,     -999.0,9,     -999.0
320620170820,        P06,     232,          1,         36,         36,2,20170925,       0302,   -32.4998,   -76.6361,       4101,     3.6,  14.4863,  34.3316,2,  34.3272,2,  257.063,2, 256.5302,2,     0.0,2,    2.47,2,    0.09,2,    0.46,2,   2.723,2,   1.466,2,   1.3310,4,  2059.6,6,  2283.5,2,   7.9157,2,    25.00,    1.39,6,   26.32,6,    5.81,    64.9,2,    6.30,2,     -999.0,1,  -999.0,9, 20170925,      459, -32.4998, -76.6361,        0.0,1,      0.195,1,      4.581,1,      0.202,1,     -999.0,9,     -999.0,9,     -999.0,9,     -999.0,9,     -999.0,9,     -999.0,9,     -999.0,9,     -999.0,9,     -999.0,9,     -999.0,9,     -999.0,9,    14.2966,2,     -999.0,     -999.0,9,     -999.0