BOTTLE,20240211CCHSIOCBG
EXPOCODE,SECT_ID,STNNBR,CASTNO,SAMPNO,BTLNBR,BTLNBR_FLAG_W,DATE,TIME,LATITUDE,LONGITUDE,DEPTH,CTDPRS,CTDTMP,CTDSAL,CTDSAL_FLAG_W,SALNTY,SALNTY_FLAG_W,CTDOXY,CTDOXY_FLAG_W,OXYGEN,OXYGEN_FLAG_W,SILCAT,SILCAT_FLAG_W,NITRAT,NITRAT_FLAG_W,NITRIT,NITRIT_FLAG_W,PHSPHT,PHSPHT_FLAG_W,CFC-11,CFC-11_FLAG_W,CFC-12,CFC-12_FLAG_W,SF6,SF6_FLAG_W,TCARBN,TCARBN_FLAG_W,ALKALI,ALKALI_FLAG_W,PH_TOT,PH_TOT_FLAG_W,PH_TMP,DELC13,DELC13_FLAG_W,DELC14,DELC14_FLAG_W,C14ERR,DOC,DOC_FLAG_W,TDN,TDN_FLAG_W,TON,TON_FLAG_W,D15N_NO3,D15N_NO3_FLAG_W,BTL_DATE,BTL_TIME,BTL_LAT,BTL_LON,CTDRINKO,CTDRINKO_FLAG_W,CTDFLUOR,CTDFLUOR_FLAG_W,CTDXMISS,CTDXMISS_FLAG_W,CTDBACKSCATTER,CTDBACKSCATTER_FLAG_W,D18O_NO3,D18O_NO3_FLAG_W,DOP,DOP_FLAG_W,CELLCOUNT,CELLCOUNT_FLAG_W,TDP,TDP_FLAG_W,POP,POP_FLAG_W,DATP,DATP_FLAG_W,PATP,PATP_FLAG_W,HPLC,HPLC_FLAG_W,POC,POC_FLAG_W,BEAMAP,BEAMAP_FLAG_W,DOC_NASA,DOC_NASA_FLAG_W,REFTMP,REFTMP_FLAG_W,DOC_NASA_ERROR,TDN_NASA,TDN_NASA_FLAG_W,TDN_NASA_ERROR
,,,,,,,,,,,METERS,DBAR,ITS-90,PSS-78,,PSS-78,,UMOL/KG,,UMOL/KG,,UMOL/KG,,UMOL/KG,,UMOL/KG,,UMOL/KG,,PMOL/KG,,PMOL/KG,,FMOL/KG,,UMOL/KG,,UMOL/KG,,,,DEG C,/MILLE,,/MILLE,,/MILLE,UMOL/KG,,UMOL/KG,,UMOL/KG,,/MILLE,,,,,,VOLTS,,VOLTS,,VOLTS,,VOLTS,,/MILLE,,UMOL/KG,,/LITER,,UMOL/KG,,UMOL/L,,PMOL/L,,PMOL/L,,,,UG/L,,/METER,,UMOL/L,,ITS-90,,UMOL/L,UMOL/L,,UMOL/L
320620170820,        P06,     246,          1,         27,         27,2,20170928,       2011,   -32.5001,   -72.0243,       2449,   125.0,  11.1238,  34.5682,2,  34.5588,2,  31.3303,2,  31.6939,2,    20.7,2,   24.54,2,    0.03,2,    2.65,2,   1.759,2,   1.093,2,   0.4820,2,  -999.0,9,  -999.0,9,-999.0000,9,  -999.00, -999.00,9, -999.00,9, -999.00,    47.9,2, -999.00,5,     -999.0,1,  -999.0,9, 20170928,     2120, -32.5000, -72.0244,        0.0,1,      0.092,1,      4.570,1,      0.283,1,     -999.0,9,     -999.0,9,     -999.0,9,     -999.0,9,     -999.0,9,     -999.0,9,     -999.0,9,     -999.0,9,     -999.0,9,     -999.0,9,     -999.0,9,    11.1358,2,     -999.0,     -999.0,9,     -999.0
320620170820,        P06,     246,          1,         28,         28,2,20170928,       2011,   -32.5001,   -72.0243,       2449,   100.0,  11.4606,  34.5299,2,  34.5305,2, 100.2986,2, 100.8888,2,    18.3,2,   22.89,2,    0.17,2,    2.48,2,   2.071,2,   1.241,2,   0.8390,2,  2246.0,2,  2284.0,2,   7.4337,2,    25.00, -999.00,9, -999.00,9, -999.00,    47.4,2,   25.80,2,     -999.0,1,  -999.0,9, 20170928,     2122, -32.5000, -72.0244,        0.0,1,      0.242,1,      4.507,1,      0.319,1,     -999.0,9,     -999.0,9,     -999.0,9,     -999.0,9,     -999.0,9,     -999.0,9,     -999.0,9,     -999.0,9,     -999.0,9,     -999.0,9,     -999.0,9,    11.4646,2,     -999.0,     -999.0,9,     -999.0
320620170820,        P06,     246,          1,         29,         29,2,20170928,       2011,   -32.5001,   -72.0243,       2449,    76.3,  11.4307,  34.4469,2,  34.3982,2, 103.5858,2, 102.1467,2,    14.8,2,   23.79,2,    0.14,2,    2.32,2,   2.306,2,   1.345,2,   0.8790,2,  -999.0,9,  -999.0,9,-999.0000,9,  -999.00, -999.00,9, -999.00,9, -999.00,    51.2,2, -999.00,5,     -999.0,1,  -999.0,9, 20170928,     2123, -32.5000, -72.0244,        0.0,1,      0.146,1,      4.569,1,      0.257,1,     -999.0,9,     -999.0,9,     -999.0,9,     -999.0,9,     -999.0,9,     -999.0,9,     -999.0,9,     -999.0,9,     -999.0,9,     -999.0,9,     -999.0,9,    11.2787,2,     -999.0,     -999.0,9,     -999.0
320620170820,        P06,     246,          1,         30,         30,2,20170928,       2011,   -32.5001,   -72.0243,       2449,    50.9,  11.6122,  34.2228,2,  34.2354,2, 160.4755,2, 165.2747,2,     7.1,2,   20.26,2,    0.13,2,    1.78,2,   2.540,2,   1.624,2,   1.1910,2,  -999.0,9,  -999.0,9,-999.0000,9,  -999.00, -999.00,9, -999.00,9, -999.00,    50.8,2,   22.40,2,     -999.0,1,  -999.0,9, 20170928,     2125, -32.5000, -72.0243,        0.0,1,      0.132,1,      4.586,1,      0.235,1,     -999.0,9,     -999.0,9,     -999.0,9,     -999.0,9,     -999.0,9,     -999.0,9,     -999.0,9,     -999.0,9,     -999.0,9,     -999.0,9,     -999.0,9,    11.9176,2,     -999.0,     -999.0,9,     -999.0
320620170820,        P06,     246,          1,         31,         31,2,20170928,       2011,   -32.5001,   -72.0243,       2449,    24.3,  12.8826,  34.0784,2,  34.0748,2, 255.9579,3, 266.2897,2,     0.3,2,    6.26,2,    0.22,2,    0.81,2,   2.554,2,   1.584,2,   1.5220,2,  -999.0,9,  -999.0,9,-999.0000,9,  -999.00, -999.00,9, -999.00,9, -999.00,    59.2,2,   11.20,2,     -999.0,1,  -999.0,9, 20170928,     2126, -32.5000, -72.0243,        0.0,1,      0.484,1,      4.421,1,      0.316,1,     -999.0,9,     -999.0,9,     -999.0,9,     -999.0,9,     -999.0,9,     -999.0,9,     -999.0,9,     -999.0,9,     -999.0,9,     -999.0,9,     -999.0,9,    12.8714,2,     -999.0,     -999.0,9,     -999.0
320620170820,        P06,     246,          1,         32,         32,2,20170928,       2011,   -32.5001,   -72.0243,       2449,     4.4,  13.1558,  34.0357,2,  34.0474,2, 290.3801,3, 277.7863,2,     0.1,2,    4.71,2,    0.20,2,    0.71,2,   2.570,2,   1.552,2,   1.4710,2,  2058.3,2,  2269.2,2,   7.8924,2,    25.00, -999.00,9, -999.00,9, -999.00,    59.0,2,   10.10,2,     -999.0,1,  -999.0,9, 20170928,     2128, -32.5001, -72.0243,        0.0,1,      0.199,1,      4.430,1,      0.296,1,     -999.0,9,     -999.0,9,     -999.0,9,     -999.0,9,     -999.0,9,     -999.0,9,     -999.0,9,     -999.0,9,     -999.0,9,     -999.0,9,     -999.0,9,    13.7409,2,     -999.0,     -999.0,9,     -999.0