BOTTLE,20240211CCHSIOCBG
EXPOCODE,SECT_ID,STNNBR,CASTNO,SAMPNO,BTLNBR,BTLNBR_FLAG_W,DATE,TIME,LATITUDE,LONGITUDE,DEPTH,CTDPRS,CTDTMP,CTDSAL,CTDSAL_FLAG_W,SALNTY,SALNTY_FLAG_W,CTDOXY,CTDOXY_FLAG_W,OXYGEN,OXYGEN_FLAG_W,SILCAT,SILCAT_FLAG_W,NITRAT,NITRAT_FLAG_W,NITRIT,NITRIT_FLAG_W,PHSPHT,PHSPHT_FLAG_W,CFC-11,CFC-11_FLAG_W,CFC-12,CFC-12_FLAG_W,SF6,SF6_FLAG_W,TCARBN,TCARBN_FLAG_W,ALKALI,ALKALI_FLAG_W,PH_TOT,PH_TOT_FLAG_W,PH_TMP,DELC13,DELC13_FLAG_W,DELC14,DELC14_FLAG_W,C14ERR,DOC,DOC_FLAG_W,TDN,TDN_FLAG_W,TON,TON_FLAG_W,D15N_NO3,D15N_NO3_FLAG_W,BTL_DATE,BTL_TIME,BTL_LAT,BTL_LON,CTDRINKO,CTDRINKO_FLAG_W,CTDFLUOR,CTDFLUOR_FLAG_W,CTDXMISS,CTDXMISS_FLAG_W,CTDBACKSCATTER,CTDBACKSCATTER_FLAG_W,D18O_NO3,D18O_NO3_FLAG_W,DOP,DOP_FLAG_W,CELLCOUNT,CELLCOUNT_FLAG_W,TDP,TDP_FLAG_W,POP,POP_FLAG_W,DATP,DATP_FLAG_W,PATP,PATP_FLAG_W,HPLC,HPLC_FLAG_W,POC,POC_FLAG_W,BEAMAP,BEAMAP_FLAG_W,DOC_NASA,DOC_NASA_FLAG_W,REFTMP,REFTMP_FLAG_W,DOC_NASA_ERROR,TDN_NASA,TDN_NASA_FLAG_W,TDN_NASA_ERROR
,,,,,,,,,,,METERS,DBAR,ITS-90,PSS-78,,PSS-78,,UMOL/KG,,UMOL/KG,,UMOL/KG,,UMOL/KG,,UMOL/KG,,UMOL/KG,,PMOL/KG,,PMOL/KG,,FMOL/KG,,UMOL/KG,,UMOL/KG,,,,DEG C,/MILLE,,/MILLE,,/MILLE,UMOL/KG,,UMOL/KG,,UMOL/KG,,/MILLE,,,,,,VOLTS,,VOLTS,,VOLTS,,VOLTS,,/MILLE,,UMOL/KG,,/LITER,,UMOL/KG,,UMOL/L,,PMOL/L,,PMOL/L,,,,UG/L,,/METER,,UMOL/L,,ITS-90,,UMOL/L,UMOL/L,,UMOL/L
320620170820,        P06,     213,          1,         27,         27,2,20170918,       1414,   -32.4998,   -93.5440,       3746,   149.4,  14.9221,  34.4189,2,  34.4347,2,  250.699,2, 250.7793,2,     0.0,2,    0.06,2,    0.12,2,    0.31,2,   2.480,2,   1.463,2,   1.5040,2,  2052.0,2,  2277.2,2,   7.9217,2,    25.00, -999.00,9, -999.00,9, -999.00,  -999.0,9, -999.00,9,     -999.0,9,  -999.0,1, 20170918,     1538, -32.5000, -93.5438,        0.0,1,      0.142,1,      4.642,1,      0.186,1,     -999.0,1,     -999.0,1,     -999.0,9,     -999.0,9,     -999.0,9,     -999.0,9,     -999.0,9,     -999.0,9,     -999.0,9,     -999.0,9,     -999.0,9,    14.9809,2,     -999.0,     -999.0,9,     -999.0
320620170820,        P06,     213,          1,         28,         28,2,20170918,       1414,   -32.4998,   -93.5440,       3746,   125.7,  14.9701,  34.4284,2,  34.4363,2, 250.9078,2, 251.0033,2,     0.0,2,    0.06,2,    0.12,2,    0.32,2,   2.520,2,   1.475,2,   1.6160,2,  -999.0,9,  -999.0,9,-999.0000,9,  -999.00, -999.00,9, -999.00,9, -999.00,  -999.0,9, -999.00,9,     -999.0,9,  -999.0,1, 20170918,     1539, -32.4999, -93.5439,        0.0,1,      0.172,1,      4.622,1,      0.201,1,     -999.0,1,     -999.0,1,     -999.0,9,     -999.0,9,     -999.0,9,     -999.0,9,     -999.0,9,     -999.0,9,     -999.0,9,     -999.0,9,     -999.0,9,    14.9871,2,     -999.0,     -999.0,9,     -999.0
320620170820,        P06,     213,          1,         29,         29,2,20170918,       1414,   -32.4998,   -93.5440,       3746,   100.4,  14.9755,  34.4302,2,  34.4398,2, 251.0563,2, 251.1687,2,     0.0,2,    0.06,2,    0.11,2,    0.31,2,   2.515,2,   1.470,2,   1.6020,2,  2050.9,2,  2278.1,2,   7.9215,2,    25.00, -999.00,9, -999.00,9, -999.00,  -999.0,9, -999.00,9,     -999.0,9,  -999.0,1, 20170918,     1541, -32.4998, -93.5440,        0.0,1,      0.176,1,      4.618,1,      0.208,1,     -999.0,1,     -999.0,1,     -999.0,9,     -999.0,9,     -999.0,9,     -999.0,9,     -999.0,9,     -999.0,9,     -999.0,9,     -999.0,9,     -999.0,9,    14.9998,2,     -999.0,     -999.0,9,     -999.0
320620170820,        P06,     213,          1,         32,         32,2,20170918,       1414,   -32.4998,   -93.5440,       3746,    74.0,  14.9743,  34.4309,2,-999.0000,9, 243.4611,2,-999.0000,9,  -999.0,9, -999.00,9, -999.00,9, -999.00,9,-999.000,9,-999.000,9,-999.0000,9,  -999.0,9,  -999.0,9,-999.0000,9,  -999.00, -999.00,9, -999.00,9, -999.00,  -999.0,9, -999.00,9,     -999.0,9,  -999.0,9, 20170918,     1543, -32.4998, -93.5442,        0.0,1,      0.175,1,      4.617,1,      0.209,1,     -999.0,9,     -999.0,9,     -999.0,9,     -999.0,9,     -999.0,9,     -999.0,9,     -999.0,9,     -999.0,1,     -999.0,1,     -999.0,1,68.12224368,6,    14.9994,2,5.082023884,71.95935003,6,6.771010348
320620170820,        P06,     213,          1,         31,         31,2,20170918,       1414,   -32.4998,   -93.5440,       3746,    73.9,  14.9749,  34.4309,2,-999.0000,9, 243.4737,2,-999.0000,9,  -999.0,9, -999.00,9, -999.00,9, -999.00,9,-999.000,9,-999.000,9,-999.0000,9,  -999.0,9,  -999.0,9,-999.0000,9,  -999.00, -999.00,9, -999.00,9, -999.00,  -999.0,9, -999.00,9,     -999.0,9,  -999.0,9, 20170918,     1543, -32.4998, -93.5441,        0.0,1,      0.174,1,      4.618,1,      0.200,1,     -999.0,9,     -999.0,9,     -999.0,9,     -999.0,9,     -999.0,9,     -999.0,9,     -999.0,9,     -999.0,1,     -999.0,1,     -999.0,1,68.12224368,6,     -999.0,5,5.082023884,71.95935003,6,6.771010348
320620170820,        P06,     213,          1,         30,         30,2,20170918,       1414,   -32.4998,   -93.5440,       3746,    73.8,  14.9749,  34.4309,2,  34.4404,2,  250.964,2,  251.117,2,     0.0,2,    0.06,2,    0.11,2,    0.31,2,   2.512,2,   1.469,2,   1.5830,2,  2053.2,2,  2276.4,2,   7.9240,2,    25.00, -999.00,9, -999.00,9, -999.00,  -999.0,9, -999.00,9,     -999.0,9,  -999.0,1, 20170918,     1543, -32.4998, -93.5441,        0.0,1,      0.174,1,      4.618,1,      0.200,1,     -999.0,1,     -999.0,1,     -999.0,9,     -999.0,9,     -999.0,9,     -999.0,9,     -999.0,9,     -999.0,9,     -999.0,9,     -999.0,9,     -999.0,9,    14.9989,2,     -999.0,     -999.0,9,     -999.0
320620170820,        P06,     213,          1,         33,         33,2,20170918,       1414,   -32.4998,   -93.5440,       3746,    49.2,  14.9794,  34.4328,2,  34.4412,2, 250.9542,2, 251.1548,2,     0.0,2,    0.06,2,    0.11,2,    0.30,2,   2.497,2,   1.455,2,   1.6250,2,  2050.2,2,  2277.9,2,   7.9236,2,    25.00, -999.00,9, -999.00,9, -999.00,  -999.0,9, -999.00,9,     -999.0,9,  -999.0,1, 20170918,     1545, -32.4998, -93.5442,        0.0,1,      0.173,1,      4.615,1,      0.208,1,     -999.0,1,     -999.0,1,     -999.0,9,        0.5,2,     -999.0,9,     -999.0,9,     -999.0,9,     -999.0,9,     -999.0,9,     -999.0,9,     -999.0,9,    14.9992,2,     -999.0,     -999.0,9,     -999.0
320620170820,        P06,     213,          1,         35,         35,2,20170918,       1414,   -32.4998,   -93.5440,       3746,    29.8,  14.9859,  34.4354,2,-999.0000,9, 243.7471,2,-999.0000,9,  -999.0,9, -999.00,9, -999.00,9, -999.00,9,-999.000,9,-999.000,9,-999.0000,9,  -999.0,9,  -999.0,9,-999.0000,9,  -999.00, -999.00,9, -999.00,9, -999.00,  -999.0,9, -999.00,9,     -999.0,9,  -999.0,9, 20170918,     1546, -32.4998, -93.5441,        0.0,1,      0.164,1,      4.612,1,      0.209,1,     -999.0,9,     -999.0,9,     -999.0,9,     -999.0,9,     -999.0,9,     -999.0,9,     -999.0,9,     -999.0,1,     -999.0,1,     -999.0,1,71.90511346,2,     -999.0,5,-83.18068276,79.45064818,2,     -999.0
320620170820,        P06,     213,          1,         34,         34,2,20170918,       1414,   -32.4998,   -93.5440,       3746,    28.8,  14.9859,  34.4354,2,  34.4408,2, 251.0126,2, 251.3193,2,     0.0,2,    0.06,2,    0.11,2,    0.32,2,   2.463,2,   1.456,2,   1.5770,2,  2050.8,2,  2277.5,2,   7.9235,2,    25.00, -999.00,9, -999.00,9, -999.00,  -999.0,9, -999.00,9,     -999.0,9,  -999.0,1, 20170918,     1546, -32.4998, -93.5442,        0.0,1,      0.164,1,      4.612,1,      0.209,1,     -999.0,1,     -999.0,1,     -999.0,9,     -999.0,9,     -999.0,9,     -999.0,9,     -999.0,9,     -999.0,9,     -999.0,9,     -999.0,9,     -999.0,9,    14.9961,2,     -999.0,     -999.0,9,     -999.0
320620170820,        P06,     213,          1,         36,         36,2,20170918,       1414,   -32.4998,   -93.5440,       3746,     5.8,  14.9835,  34.4345,2,  34.4406,2, 251.7457,2, 251.2688,2,     0.0,2,    0.06,2,    0.11,2,    0.30,2,   2.521,2,   1.469,2,   1.6790,2,  2051.9,6,  2279.9,2,   7.9230,2,    25.00, -999.00,9, -999.00,9, -999.00,  -999.0,9, -999.00,9,     -999.0,9,  -999.0,1, 20170918,     1548, -32.4998, -93.5440,        0.0,1,      0.172,1,      4.613,1,      0.196,1,     -999.0,1,     -999.0,1,     -999.0,9,     -999.0,9,     -999.0,9,     -999.0,9,     -999.0,9,     -999.0,9,     -999.0,9,     -999.0,9,     -999.0,9,    14.9305,2,     -999.0,     -999.0,9,     -999.0