BOTTLE,20240211CCHSIOCBG
EXPOCODE,SECT_ID,STNNBR,CASTNO,SAMPNO,BTLNBR,BTLNBR_FLAG_W,DATE,TIME,LATITUDE,LONGITUDE,DEPTH,CTDPRS,CTDTMP,CTDSAL,CTDSAL_FLAG_W,SALNTY,SALNTY_FLAG_W,CTDOXY,CTDOXY_FLAG_W,OXYGEN,OXYGEN_FLAG_W,SILCAT,SILCAT_FLAG_W,NITRAT,NITRAT_FLAG_W,NITRIT,NITRIT_FLAG_W,PHSPHT,PHSPHT_FLAG_W,CFC-11,CFC-11_FLAG_W,CFC-12,CFC-12_FLAG_W,SF6,SF6_FLAG_W,TCARBN,TCARBN_FLAG_W,ALKALI,ALKALI_FLAG_W,PH_TOT,PH_TOT_FLAG_W,PH_TMP,DELC13,DELC13_FLAG_W,DELC14,DELC14_FLAG_W,C14ERR,DOC,DOC_FLAG_W,TDN,TDN_FLAG_W,TON,TON_FLAG_W,D15N_NO3,D15N_NO3_FLAG_W,BTL_DATE,BTL_TIME,BTL_LAT,BTL_LON,CTDRINKO,CTDRINKO_FLAG_W,CTDFLUOR,CTDFLUOR_FLAG_W,CTDXMISS,CTDXMISS_FLAG_W,CTDBACKSCATTER,CTDBACKSCATTER_FLAG_W,D18O_NO3,D18O_NO3_FLAG_W,DOP,DOP_FLAG_W,CELLCOUNT,CELLCOUNT_FLAG_W,TDP,TDP_FLAG_W,POP,POP_FLAG_W,DATP,DATP_FLAG_W,PATP,PATP_FLAG_W,HPLC,HPLC_FLAG_W,POC,POC_FLAG_W,BEAMAP,BEAMAP_FLAG_W,DOC_NASA,DOC_NASA_FLAG_W,REFTMP,REFTMP_FLAG_W,DOC_NASA_ERROR,TDN_NASA,TDN_NASA_FLAG_W,TDN_NASA_ERROR
,,,,,,,,,,,METERS,DBAR,ITS-90,PSS-78,,PSS-78,,UMOL/KG,,UMOL/KG,,UMOL/KG,,UMOL/KG,,UMOL/KG,,UMOL/KG,,PMOL/KG,,PMOL/KG,,FMOL/KG,,UMOL/KG,,UMOL/KG,,,,DEG C,/MILLE,,/MILLE,,/MILLE,UMOL/KG,,UMOL/KG,,UMOL/KG,,/MILLE,,,,,,VOLTS,,VOLTS,,VOLTS,,VOLTS,,/MILLE,,UMOL/KG,,/LITER,,UMOL/KG,,UMOL/L,,PMOL/L,,PMOL/L,,,,UG/L,,/METER,,UMOL/L,,ITS-90,,UMOL/L,UMOL/L,,UMOL/L
320620170820,        P06,     153,          1,          1,          1,2,20170829,       0630,   -32.5002,  -141.2593,       5006,  5086.5,   1.3371,  34.7062,2,  34.7076,3, 195.2254,2, 195.3074,2,   120.4,2,   32.73,2,    0.00,2,    2.25,2,   0.038,2,   0.028,2,   0.0000,2,  2273.7,6,  2377.8,2,   7.6092,2,    25.00, -999.00,9, -999.00,9, -999.00,  -999.0,9, -999.00,9,     -999.0,9,  -999.0,9, 20170829,      630, -32.4998,-141.2599,        0.0,1,      0.061,1,      4.693,1,      0.121,1,     -999.0,9,     -999.0,9,     -999.0,9,     -999.0,9,     -999.0,9,     -999.0,9,     -999.0,9,     -999.0,9,     -999.0,9,     -999.0,9,     -999.0,9,     1.3373,2,     -999.0,     -999.0,9,     -999.0
320620170820,        P06,     153,          1,          2,          2,2,20170829,       0630,   -32.5002,  -141.2593,       5006,  4992.9,   1.3266,  34.7064,2,  34.7070,3, 195.2254,2, 195.3881,2,   120.2,2,   32.66,2,    0.00,2,    2.25,2,   0.040,2,   0.031,2,   0.0000,2,  -999.0,9,  -999.0,9,-999.0000,9,  -999.00, -999.00,9, -999.00,9, -999.00,  -999.0,9, -999.00,9,     -999.0,9,  -999.0,9, 20170829,      633, -32.4999,-141.2598,        0.0,1,      0.061,1,      4.694,1,      0.121,1,     -999.0,9,     -999.0,9,     -999.0,9,     -999.0,9,     -999.0,9,     -999.0,9,     -999.0,9,     -999.0,9,     -999.0,9,     -999.0,9,     -999.0,9,     1.3268,2,     -999.0,     -999.0,9,     -999.0
320620170820,        P06,     153,          1,          3,          3,2,20170829,       0630,   -32.5002,  -141.2593,       5006,  4887.1,   1.3185,  34.7060,2,  34.7066,3, 195.2254,2,  195.075,2,   119.9,2,   32.72,2,    0.00,2,    2.28,2,   0.037,2,   0.028,2,   0.0000,2,  2272.8,2,  2376.6,2,   7.6082,2,    25.00, -999.00,9, -999.00,9, -999.00,  -999.0,9, -999.00,9,     -999.0,9,  -999.0,9, 20170829,      636, -32.4999,-141.2598,        0.0,1,      0.060,1,      4.694,1,      0.122,1,     -999.0,9,     -999.0,9,     -999.0,9,     -999.0,9,     -999.0,9,     -999.0,9,     -999.0,9,     -999.0,9,     -999.0,9,     -999.0,9,     -999.0,9,     1.3186,2,     -999.0,     -999.0,9,     -999.0
320620170820,        P06,     153,          1,          4,          4,2,20170829,       0630,   -32.5002,  -141.2593,       5006,  4580.3,   1.3058,  34.7053,2,  34.7060,3, 193.5304,2, 193.7315,2,   120.8,2,   32.83,2,    0.00,2,    2.24,2,   0.038,2,   0.031,2,   0.0000,2,  -999.0,9,  -999.0,9,-999.0000,9,  -999.00, -999.00,9, -999.00,9, -999.00,  -999.0,9, -999.00,9,     -999.0,9,  -999.0,9, 20170829,      643, -32.5000,-141.2597,        0.0,1,      0.061,1,      4.694,1,      0.122,1,     -999.0,9,     -999.0,9,     -999.0,9,     -999.0,9,     -999.0,9,     -999.0,9,     -999.0,9,     -999.0,9,     -999.0,9,     -999.0,9,     -999.0,9,     1.3042,2,     -999.0,     -999.0,9,     -999.0
320620170820,        P06,     153,          1,          5,          5,2,20170829,       0630,   -32.5002,  -141.2593,       5006,  4271.6,   1.3263,  34.7028,2,  34.7036,3, 191.2644,2, 190.9329,2,   121.7,2,   33.08,2,    0.00,2,    2.26,2,   0.040,2,   0.032,2,   0.0000,2,  2275.3,2,  2381.8,2,   7.6051,6,    25.00, -999.00,9, -999.00,9, -999.00,  -999.0,9, -999.00,9,     -999.0,9,  -999.0,9, 20170829,      649, -32.5001,-141.2597,        0.0,1,      0.062,1,      4.695,1,      0.123,1,     -999.0,9,     -999.0,9,     -999.0,9,     -999.0,9,     -999.0,9,     -999.0,9,     -999.0,9,     -999.0,9,     -999.0,9,     -999.0,9,     -999.0,9,     1.3253,2,     -999.0,     -999.0,9,     -999.0
320620170820,        P06,     153,          1,          6,          6,2,20170829,       0630,   -32.5002,  -141.2593,       5006,  3963.3,   1.3964,  34.6975,2,  34.6979,3,  184.166,2, 184.6663,2,   122.9,2,   33.49,2,    0.00,2,    2.29,2,   0.035,2,   0.036,2,   0.0000,2,  -999.0,9,  -999.0,9,-999.0000,9,  -999.00, -999.00,9, -999.00,9, -999.00,  -999.0,9, -999.00,9,     -999.0,9,  -999.0,9, 20170829,      656, -32.5000,-141.2597,        0.0,1,      0.061,1,      4.695,1,      0.126,1,     -999.0,9,     -999.0,9,     -999.0,9,     -999.0,9,     -999.0,9,     -999.0,9,     -999.0,9,     -999.0,9,     -999.0,9,     -999.0,9,     -999.0,9,     1.3963,2,     -999.0,     -999.0,9,     -999.0
320620170820,        P06,     153,          1,          7,          7,2,20170829,       0630,   -32.5002,  -141.2593,       5006,  3657.3,   1.4998,  34.6896,2,  34.6906,2, 176.9833,2, 176.8576,2,   124.7,2,   34.05,2,    0.00,2,    2.33,2,   0.037,2,   0.033,2,   0.0000,2,  2289.0,2,  2389.0,2,   7.5933,2,    25.00, -999.00,9, -999.00,9, -999.00,  -999.0,9, -999.00,9,     -999.0,9,  -999.0,9, 20170829,      702, -32.5000,-141.2597,        0.0,1,      0.061,1,      4.695,1,      0.124,1,     -999.0,9,     -999.0,9,     -999.0,9,     -999.0,9,     -999.0,9,     -999.0,9,     -999.0,9,     -999.0,9,     -999.0,9,     -999.0,9,     -999.0,9,     1.4906,2,     -999.0,     -999.0,9,     -999.0
320620170820,        P06,     153,          1,          8,          8,2,20170829,       0630,   -32.5002,  -141.2593,       5006,  3348.0,   1.5880,  34.6823,2,  34.6828,2, 169.4347,2, 168.7835,2,   126.2,2,   34.51,2,    0.00,2,    2.37,2,   0.041,2,   0.038,2,   0.0000,2,  -999.0,9,  -999.0,9,-999.0000,9,  -999.00, -999.00,9, -999.00,9, -999.00,  -999.0,9, -999.00,9,     -999.0,9,  -999.0,9, 20170829,      708, -32.5000,-141.2597,        0.0,1,      0.061,1,      4.696,1,      0.126,1,     -999.0,9,     -999.0,9,     -999.0,9,     -999.0,9,     -999.0,9,     -999.0,9,     -999.0,9,     -999.0,9,     -999.0,9,     -999.0,9,     -999.0,9,     1.5830,2,     -999.0,     -999.0,9,     -999.0
320620170820,        P06,     153,          1,          9,          9,2,20170829,       0630,   -32.5002,  -141.2593,       5006,  3042.4,   1.6572,  34.6760,2,  34.6779,2, 164.1259,2, 163.2871,2,   127.2,2,   34.98,2,    0.00,2,    2.40,2,   0.034,2,   0.036,2,   0.0000,2,  2302.3,2,  2400.1,2,   7.5833,2,    25.00, -999.00,9, -999.00,9, -999.00,  -999.0,9, -999.00,9,     -999.0,9,  -999.0,9, 20170829,      714, -32.5000,-141.2597,        0.0,1,      0.061,1,      4.696,1,      0.126,1,     -999.0,9,     -999.0,9,     -999.0,9,     -999.0,9,     -999.0,9,     -999.0,9,     -999.0,9,     -999.0,9,     -999.0,9,     -999.0,9,     -999.0,9,     1.6520,2,     -999.0,     -999.0,9,     -999.0
320620170820,        P06,     153,          1,         10,         10,2,20170829,       0630,   -32.5002,  -141.2593,       5006,  2785.9,   1.6989,  34.6716,2,  34.6718,2, 160.2894,2,  160.452,2,   126.6,2,   35.16,2,    0.00,2,    2.42,2,   0.042,2,   0.041,2,   0.0000,2,  -999.0,9,  -999.0,9,-999.0000,9,  -999.00, -999.00,9, -999.00,9, -999.00,  -999.0,9, -999.00,9,     -999.0,9,  -999.0,9, 20170829,      719, -32.4999,-141.2597,        0.0,1,      0.061,1,      4.696,1,      0.126,1,     -999.0,9,     -999.0,9,     -999.0,9,     -999.0,9,     -999.0,9,     -999.0,9,     -999.0,9,     -999.0,9,     -999.0,9,     -999.0,9,     -999.0,9,     1.6971,2,     -999.0,     -999.0,9,     -999.0
320620170820,        P06,     153,          1,         11,         11,2,20170829,       0630,   -32.5002,  -141.2593,       5006,  2531.6,   1.8047,  34.6628,2,  34.6627,2, 156.1926,2,  156.345,2,   124.0,2,   35.31,2,    0.00,2,    2.45,2,   0.033,2,   0.025,2,   0.0000,2,  2303.1,2,  2400.6,2,   7.5761,2,    25.00, -999.00,9, -999.00,9, -999.00,  -999.0,9, -999.00,9,     -999.0,9,  -999.0,9, 20170829,      725, -32.4999,-141.2598,        0.0,1,      0.061,1,      4.696,1,      0.128,1,     -999.0,9,     -999.0,9,     -999.0,9,     -999.0,9,     -999.0,9,     -999.0,9,     -999.0,9,     -999.0,9,     -999.0,9,     -999.0,9,     -999.0,9,     1.8120,2,     -999.0,     -999.0,9,     -999.0
320620170820,        P06,     153,          1,         12,         12,2,20170829,       0630,   -32.5002,  -141.2593,       5006,  2276.4,   1.9601,  34.6502,2,  34.6506,2,  153.615,2, 153.7844,2,   119.7,2,   35.47,2,    0.00,2,    2.46,2,   0.032,2,   0.026,2,   0.0000,2,  -999.0,9,  -999.0,9,-999.0000,9,  -999.00, -999.00,9, -999.00,9, -999.00,  -999.0,9, -999.00,9,     -999.0,9,  -999.0,9, 20170829,      730, -32.4998,-141.2599,        0.0,1,      0.061,1,      4.696,1,      0.128,1,     -999.0,9,     -999.0,9,     -999.0,9,     -999.0,9,     -999.0,9,     -999.0,9,     -999.0,9,     -999.0,9,     -999.0,9,     -999.0,9,     -999.0,9,     1.9551,2,     -999.0,     -999.0,9,     -999.0
320620170820,        P06,     153,          1,         13,         13,2,20170829,       0630,   -32.5002,  -141.2593,       5006,  2024.8,   2.1248,  34.6343,2,  34.6346,2, 153.2482,2, 153.9075,2,   112.0,2,   35.31,2,    0.00,2,    2.45,2,   0.032,2,   0.024,2,   0.0000,2,  2295.7,6,  2388.9,6,   7.5707,2,    25.00, -999.00,9, -999.00,9, -999.00,  -999.0,9, -999.00,9,     -999.0,9,  -999.0,9, 20170829,      735, -32.4997,-141.2599,        0.0,1,      0.061,1,      4.696,1,      0.128,1,     -999.0,9,     -999.0,9,     -999.0,9,     -999.0,9,     -999.0,9,     -999.0,9,     -999.0,9,     -999.0,9,     -999.0,9,     -999.0,9,     -999.0,9,     2.1260,2,     -999.0,     -999.0,9,     -999.0
320620170820,        P06,     153,          1,         14,         14,2,20170829,       0630,   -32.5002,  -141.2593,       5006,  1820.0,   2.3048,  34.6118,2,  34.6101,2, 155.1552,2, 156.2026,2,   102.4,2,   35.25,2,    0.00,2,    2.43,2,   0.034,2,   0.026,2,   0.0000,2,  -999.0,9,  -999.0,9,-999.0000,9,  -999.00, -999.00,9, -999.00,9, -999.00,  -999.0,9, -999.00,9,     -999.0,9,  -999.0,9, 20170829,      740, -32.4998,-141.2599,        0.0,1,      0.061,1,      4.696,1,      0.129,1,     -999.0,9,     -999.0,9,     -999.0,9,     -999.0,9,     -999.0,9,     -999.0,9,     -999.0,9,     -999.0,9,     -999.0,9,     -999.0,9,     -999.0,9,     2.3152,2,     -999.0,     -999.0,9,     -999.0
320620170820,        P06,     153,          1,         15,         15,2,20170829,       0630,   -32.5002,  -141.2593,       5006,  1616.8,   2.4896,  34.5767,2,  34.5608,2, 160.5957,2, 161.6673,2,    85.9,2,   34.83,2,    0.00,2,    2.41,2,   0.063,2,   0.045,2,   0.0000,2,  2268.3,2,  2360.9,2,   7.5688,2,    25.00, -999.00,9, -999.00,9, -999.00,  -999.0,9, -999.00,9,     -999.0,9,  -999.0,9, 20170829,      744, -32.4999,-141.2598,        0.0,1,      0.061,1,      4.697,1,      0.129,1,     -999.0,9,     -999.0,9,     -999.0,9,     -999.0,9,     -999.0,9,     -999.0,9,     -999.0,9,     -999.0,9,     -999.0,9,     -999.0,9,     -999.0,9,     2.5773,2,     -999.0,     -999.0,9,     -999.0
320620170820,        P06,     153,          1,         16,         16,2,20170829,       0630,   -32.5002,  -141.2593,       5006,  1414.3,   2.8876,  34.4960,2,  34.4816,2,  169.305,2, 169.7015,2,    68.4,2,   34.51,2,    0.00,2,    2.37,2,   0.148,2,   0.093,2,   0.0000,2,  -999.0,9,  -999.0,9,-999.0000,9,  -999.00, -999.00,9, -999.00,9, -999.00,  -999.0,9, -999.00,9,     -999.0,9,  -999.0,9, 20170829,      748, -32.4999,-141.2597,        0.0,1,      0.061,1,      4.697,1,      0.130,1,     -999.0,9,     -999.0,9,     -999.0,9,     -999.0,9,     -999.0,9,     -999.0,9,     -999.0,9,     -999.0,9,     -999.0,9,     -999.0,9,     -999.0,9,     2.9683,2,     -999.0,     -999.0,9,     -999.0
320620170820,        P06,     153,          1,         17,         17,2,20170829,       0630,   -32.5002,  -141.2593,       5006,  1312.8,   3.1773,  34.4434,2,  34.4304,2,  176.338,2, 176.0611,2,    57.8,2,   34.18,2,    0.00,2,    2.34,2,   0.267,2,   0.162,2,   0.0000,2,  2235.4,2,  2326.5,2,   7.5762,2,    25.00, -999.00,9, -999.00,9, -999.00,  -999.0,9, -999.00,9,     -999.0,9,  -999.0,9, 20170829,      751, -32.4999,-141.2597,        0.0,1,      0.060,1,      4.696,1,      0.130,1,     -999.0,9,     -999.0,9,     -999.0,9,     -999.0,9,     -999.0,9,     -999.0,9,     -999.0,9,     -999.0,9,     -999.0,9,     -999.0,9,     -999.0,9,     3.2559,2,     -999.0,     -999.0,9,     -999.0
320620170820,        P06,     153,          1,         18,         18,2,20170829,       0630,   -32.5002,  -141.2593,       5006,  1211.3,   3.5712,  34.3904,2,  34.3921,2, 182.3524,2, 181.3117,2,    49.9,2,   33.59,2,    0.00,2,    2.30,2,   0.436,2,   0.237,2,   0.0000,2,  -999.0,9,  -999.0,9,-999.0000,9,  -999.00, -999.00,9, -999.00,9, -999.00,  -999.0,9, -999.00,9,     -999.0,9,  -999.0,9, 20170829,      754, -32.5000,-141.2595,        0.0,1,      0.060,1,      4.696,1,      0.131,1,     -999.0,9,     -999.0,9,     -999.0,9,     -999.0,9,     -999.0,9,     -999.0,9,     -999.0,9,     -999.0,9,     -999.0,9,     -999.0,9,     -999.0,9,     3.5580,2,     -999.0,     -999.0,9,     -999.0
320620170820,        P06,     153,          1,         19,         19,2,20170829,       0630,   -32.5002,  -141.2593,       5006,  1110.9,   3.9886,  34.3520,2,  34.3474,2, 192.0262,2, 191.3665,2,    38.4,2,   32.26,2,    0.00,2,    2.19,2,   0.750,2,   0.387,2,   0.1210,2,  2209.2,2,  2303.9,2,   7.6021,2,    25.00, -999.00,9, -999.00,9, -999.00,  -999.0,9, -999.00,9,     -999.0,9,  -999.0,9, 20170829,      757, -32.5001,-141.2595,        0.0,1,      0.060,1,      4.696,1,      0.130,1,     -999.0,9,     -999.0,9,     -999.0,9,     -999.0,9,     -999.0,9,     -999.0,9,     -999.0,9,     -999.0,9,     -999.0,9,     -999.0,9,     -999.0,9,     4.0526,2,     -999.0,     -999.0,9,     -999.0
320620170820,        P06,     153,          1,         20,         20,2,20170829,       0630,   -32.5002,  -141.2593,       5006,  1008.0,   4.5437,  34.3196,2,  34.3160,2, 203.8062,2, 203.2959,2,    28.1,2,   30.50,2,    0.00,2,    2.06,2,   1.133,2,   0.608,2,   0.1520,2,  -999.0,9,  -999.0,9,-999.0000,9,  -999.00, -999.00,9, -999.00,9, -999.00,  -999.0,9, -999.00,9,     -999.0,9,  -999.0,9, 20170829,      800, -32.5002,-141.2594,        0.0,1,      0.059,1,      4.696,1,      0.132,1,     -999.0,9,     -999.0,9,     -999.0,9,     -999.0,9,     -999.0,9,     -999.0,9,     -999.0,9,     -999.0,9,     -999.0,9,     -999.0,9,     -999.0,9,     4.6232,2,     -999.0,     -999.0,9,     -999.0
320620170820,        P06,     153,          1,         21,         21,2,20170829,       0630,   -32.5002,  -141.2593,       5006,   907.5,   5.2509,  34.3035,2,  34.3034,2, 215.8975,2, 215.2965,2,    19.7,2,   28.44,2,    0.00,2,    1.91,2,   1.683,2,   0.838,2,   0.2440,2,  2174.7,2,  2290.2,2,   7.6531,2,    25.00, -999.00,9, -999.00,9, -999.00,  -999.0,9, -999.00,9,     -999.0,9,  -999.0,9, 20170829,      802, -32.5001,-141.2594,        0.0,1,      0.060,1,      4.696,1,      0.133,1,     -999.0,9,     -999.0,9,     -999.0,9,     -999.0,9,     -999.0,9,     -999.0,9,     -999.0,9,     -999.0,9,     -999.0,9,     -999.0,9,     -999.0,9,     5.1896,2,     -999.0,     -999.0,9,     -999.0
320620170820,        P06,     153,          1,         22,         22,2,20170829,       0630,   -32.5002,  -141.2593,       5006,   805.5,   5.7343,  34.3031,2,  34.3029,2, 228.2391,2, 228.1465,2,    13.6,2,   26.31,2,    0.00,2,    1.77,2,   2.365,2,   1.200,2,   0.4450,2,  -999.0,9,  -999.0,9,-999.0000,9,  -999.00, -999.00,9, -999.00,9, -999.00,  -999.0,9, -999.00,9,     -999.0,9,  -999.0,9, 20170829,      805, -32.5002,-141.2594,        0.0,1,      0.059,1,      4.696,1,      0.133,1,     -999.0,9,     -999.0,9,     -999.0,9,     -999.0,9,     -999.0,9,     -999.0,9,     -999.0,9,     -999.0,9,     -999.0,9,     -999.0,9,     -999.0,9,     5.7361,2,     -999.0,     -999.0,9,     -999.0
320620170820,        P06,     153,          1,         23,         23,2,20170829,       0630,   -32.5002,  -141.2593,       5006,   704.9,   6.1963,  34.3186,2,  34.3242,2, 236.6387,2,  237.267,2,     9.6,2,   24.27,2,    0.00,2,    1.62,2,   3.096,2,   1.532,2,   0.6420,2,  2152.2,2,  2283.4,2,   7.6974,2,    25.00, -999.00,9, -999.00,9, -999.00,  -999.0,9, -999.00,9,     -999.0,9,  -999.0,9, 20170829,      808, -32.5002,-141.2594,        0.0,1,      0.058,1,      4.695,1,      0.131,1,     -999.0,9,     -999.0,9,     -999.0,9,     -999.0,9,     -999.0,9,     -999.0,9,     -999.0,9,     -999.0,9,     -999.0,9,     -999.0,9,     -999.0,9,     6.2748,2,     -999.0,     -999.0,9,     -999.0
320620170820,        P06,     153,          1,         24,         24,2,20170829,       0630,   -32.5002,  -141.2593,       5006,   603.9,   6.6890,  34.3462,2,  34.3480,2, 239.3813,2, 240.5128,2,     7.5,2,   22.75,2,    0.00,2,    1.51,2,   3.416,2,   1.774,2,   0.9050,2,  -999.0,9,  -999.0,9,-999.0000,9,  -999.00, -999.00,9, -999.00,9, -999.00,  -999.0,9, -999.00,9,     -999.0,9,  -999.0,9, 20170829,      811, -32.5003,-141.2593,        0.0,1,      0.059,1,      4.695,1,      0.133,1,     -999.0,9,     -999.0,9,     -999.0,9,     -999.0,9,     -999.0,9,     -999.0,9,     -999.0,9,     -999.0,9,     -999.0,9,     -999.0,9,     -999.0,9,     6.7327,2,     -999.0,     -999.0,9,     -999.0
320620170820,        P06,     153,          1,         25,         25,2,20170829,       0630,   -32.5002,  -141.2593,       5006,   503.0,   7.4090,  34.3871,2,  34.3888,2, 230.1681,3, 238.6004,2,     5.9,2,   21.04,2,    0.00,2,    1.43,2,   3.541,2,   1.864,2,   0.9980,2,  2143.9,2,  2282.9,2,   7.7151,2,    25.00, -999.00,9, -999.00,9, -999.00,  -999.0,9, -999.00,9,     -999.0,9,  -999.0,9, 20170829,      814, -32.5003,-141.2593,        0.0,1,      0.060,1,      4.694,1,      0.135,1,     -999.0,9,     -999.0,9,     -999.0,9,     -999.0,9,     -999.0,9,     -999.0,9,     -999.0,9,     -999.0,9,     -999.0,9,     -999.0,9,     -999.0,9,     7.3853,2,     -999.0,     -999.0,9,     -999.0
320620170820,        P06,     153,          1,         26,         26,2,20170829,       0630,   -32.5002,  -141.2593,       5006,   403.1,   8.7906,  34.4848,2,  34.4569,2, 220.1919,2, 227.3903,2,     4.4,2,   18.70,2,    0.00,2,    1.28,2,   3.395,2,   1.801,2,   1.0650,2,  2137.5,2,  2282.7,6,   7.7302,2,    25.00, -999.00,9, -999.00,9, -999.00,  -999.0,9, -999.00,9,     -999.0,9,  -999.0,9, 20170829,      816, -32.5003,-141.2593,        0.0,1,      0.058,1,      4.691,1,      0.134,1,     -999.0,9,     -999.0,9,     -999.0,9,     -999.0,9,     -999.0,9,     -999.0,9,     -999.0,9,     -999.0,9,     -999.0,9,     -999.0,9,     -999.0,9,     8.5064,2,     -999.0,     -999.0,9,     -999.0