BOTTLE,20240211CCHSIOCBG
EXPOCODE,SECT_ID,STNNBR,CASTNO,SAMPNO,BTLNBR,BTLNBR_FLAG_W,DATE,TIME,LATITUDE,LONGITUDE,DEPTH,CTDPRS,CTDTMP,CTDSAL,CTDSAL_FLAG_W,SALNTY,SALNTY_FLAG_W,CTDOXY,CTDOXY_FLAG_W,OXYGEN,OXYGEN_FLAG_W,SILCAT,SILCAT_FLAG_W,NITRAT,NITRAT_FLAG_W,NITRIT,NITRIT_FLAG_W,PHSPHT,PHSPHT_FLAG_W,CFC-11,CFC-11_FLAG_W,CFC-12,CFC-12_FLAG_W,SF6,SF6_FLAG_W,TCARBN,TCARBN_FLAG_W,ALKALI,ALKALI_FLAG_W,PH_TOT,PH_TOT_FLAG_W,PH_TMP,DELC13,DELC13_FLAG_W,DELC14,DELC14_FLAG_W,C14ERR,DOC,DOC_FLAG_W,TDN,TDN_FLAG_W,TON,TON_FLAG_W,D15N_NO3,D15N_NO3_FLAG_W,BTL_DATE,BTL_TIME,BTL_LAT,BTL_LON,CTDRINKO,CTDRINKO_FLAG_W,CTDFLUOR,CTDFLUOR_FLAG_W,CTDXMISS,CTDXMISS_FLAG_W,CTDBACKSCATTER,CTDBACKSCATTER_FLAG_W,D18O_NO3,D18O_NO3_FLAG_W,DOP,DOP_FLAG_W,CELLCOUNT,CELLCOUNT_FLAG_W,TDP,TDP_FLAG_W,POP,POP_FLAG_W,DATP,DATP_FLAG_W,PATP,PATP_FLAG_W,HPLC,HPLC_FLAG_W,POC,POC_FLAG_W,BEAMAP,BEAMAP_FLAG_W,DOC_NASA,DOC_NASA_FLAG_W,REFTMP,REFTMP_FLAG_W,DOC_NASA_ERROR,TDN_NASA,TDN_NASA_FLAG_W,TDN_NASA_ERROR
,,,,,,,,,,,METERS,DBAR,ITS-90,PSS-78,,PSS-78,,UMOL/KG,,UMOL/KG,,UMOL/KG,,UMOL/KG,,UMOL/KG,,UMOL/KG,,PMOL/KG,,PMOL/KG,,FMOL/KG,,UMOL/KG,,UMOL/KG,,,,DEG C,/MILLE,,/MILLE,,/MILLE,UMOL/KG,,UMOL/KG,,UMOL/KG,,/MILLE,,,,,,VOLTS,,VOLTS,,VOLTS,,VOLTS,,/MILLE,,UMOL/KG,,/LITER,,UMOL/KG,,UMOL/L,,PMOL/L,,PMOL/L,,,,UG/L,,/METER,,UMOL/L,,ITS-90,,UMOL/L,UMOL/L,,UMOL/L
320620170820,        P06,     228,          3,         27,         27,2,20170923,       1837,   -32.5003,   -80.1931,       3944,   151.0,  13.5864,  34.1996,2,  34.1413,2, 235.7284,2, 231.8623,2,     0.3,2,    9.09,2,    0.11,2,    0.77,2,   2.782,2,   1.480,2,   1.5340,4,  2079.6,2,  2264.7,2,   7.8405,2,    25.00, -999.00,9, -999.00,9, -999.00,    54.6,2,   12.80,2,     -999.0,1,  -999.0,1, 20170923,     2020, -32.5004, -80.1931,        0.0,1,      0.112,1,      4.636,1,      0.186,1,     -999.0,1,     -999.0,1,     -999.0,1,     -999.0,1,     -999.0,1,     -999.0,1,     -999.0,1,     -999.0,9,     -999.0,9,     -999.0,9,     -999.0,9,    13.2804,2,     -999.0,     -999.0,9,     -999.0
320620170820,        P06,     228,          3,         28,         28,2,20170923,       1837,   -32.5003,   -80.1931,       3944,   126.2,  14.1802,  34.3109,2,  34.2827,2, 249.1393,2, 249.9129,2,     0.0,2,    3.91,2,    0.14,2,    0.50,2,   2.714,2,   1.401,2,   1.5200,4,  2060.4,2,  2276.4,2,   7.8991,2,    25.00, -999.00,9, -999.00,9, -999.00,    59.2,2,    7.80,2,     -999.0,1,  -999.0,1, 20170923,     2021, -32.5003, -80.1931,        0.0,1,      0.156,1,      4.629,1,      0.218,1,     -999.0,1,     -999.0,1,     -999.0,1,     -999.0,1,     -999.0,1,     -999.0,1,     -999.0,1,     -999.0,9,     -999.0,9,     -999.0,9,     -999.0,9,    14.1164,2,     -999.0,     -999.0,9,     -999.0
320620170820,        P06,     228,          3,         29,         29,2,20170923,       1837,   -32.5003,   -80.1931,       3944,    98.1,  14.3589,  34.3231,2,  34.3138,2, 244.9329,2, 247.5113,2,     0.0,2,    3.41,2,    0.13,2,    0.48,2,   2.559,2,   1.382,2,   1.3070,4,  2061.1,2,  2278.9,2,   7.9040,2,    25.00, -999.00,9, -999.00,9, -999.00,    59.8,2,    7.10,2,     -999.0,1,  -999.0,1, 20170923,     2023, -32.5003, -80.1931,        0.0,1,      0.090,1,      4.650,1,      0.168,1,     -999.0,1,     -999.0,1,     -999.0,1,     -999.0,1,     -999.0,1,     -999.0,1,     -999.0,1,     -999.0,9,     -999.0,9,     -999.0,9,     -999.0,9,    14.3758,2,     -999.0,     -999.0,9,     -999.0
320620170820,        P06,     228,          3,         30,         30,2,20170923,       1837,   -32.5003,   -80.1931,       3944,    75.3,  14.7400,  34.3778,2,  34.3896,2, 247.3545,2, 248.6318,2,     0.0,2,    2.28,2,    0.10,2,    0.43,2,   2.482,2,   1.349,2,   1.3490,4,  2059.8,2,  2283.1,2,   7.9158,2,    25.00, -999.00,9, -999.00,9, -999.00,    65.2,2,    6.30,2,     -999.0,1,  -999.0,1, 20170923,     2024, -32.5003, -80.1931,        0.0,1,      0.113,1,      4.639,1,      0.179,1,     -999.0,1,     -999.0,1,     -999.0,9,     -999.0,9,     -999.0,9,     -999.0,9,     -999.0,9,     -999.0,9,     -999.0,9,     -999.0,9,     -999.0,9,    14.8152,2,     -999.0,     -999.0,9,     -999.0
320620170820,        P06,     228,          3,         31,         31,2,20170923,       1837,   -32.5003,   -80.1931,       3944,    55.0,  14.9893,  34.4214,2,-999.0000,9, 244.2285,2,-999.0000,9,  -999.0,9, -999.00,9, -999.00,9, -999.00,9,-999.000,9,-999.000,9,-999.0000,9,  -999.0,9,  -999.0,9,-999.0000,9,  -999.00, -999.00,9, -999.00,9, -999.00,  -999.0,9, -999.00,9,     -999.0,9,  -999.0,9, 20170923,     2026, -32.5003, -80.1931,        0.0,1,      0.235,1,      4.585,1,      0.222,1,     -999.0,9,     -999.0,9,     -999.0,9,     -999.0,9,     -999.0,9,     -999.0,9,     -999.0,9,     -999.0,1,     -999.0,1,     -999.0,1,71.20384447,6,    14.9488,2,2.735225555, 92.8316514,6,1.911408597
320620170820,        P06,     228,          3,         33,         33,2,20170923,       1837,   -32.5003,   -80.1931,       3944,    55.0,  14.9893,  34.4214,2,  34.4118,2, 251.2789,2, 252.2841,2,     0.0,2,    1.87,2,    0.08,2,    0.39,2,   2.474,2,   1.336,2,   1.4150,4,  2059.1,2,  2283.7,2,   7.9236,2,    25.00, -999.00,9, -999.00,9, -999.00,    66.7,2,    5.90,2,     -999.0,1,  -999.0,1, 20170923,     2028, -32.5003, -80.1931,        0.0,1,      0.235,1,      4.585,1,      0.222,1,     -999.0,1,     -999.0,1,     -999.0,1,     -999.0,1,     -999.0,1,     -999.0,1,     -999.0,1,     -999.0,9,     -999.0,9,     -999.0,9,     -999.0,9,    14.9480,2,     -999.0,     -999.0,9,     -999.0
320620170820,        P06,     228,          3,         32,         32,2,20170923,       1837,   -32.5003,   -80.1931,       3944,    54.7,  14.9893,  34.4214,2,-999.0000,9, 244.1979,2,-999.0000,9,  -999.0,9, -999.00,9, -999.00,9, -999.00,9,-999.000,9,-999.000,9,-999.0000,9,  -999.0,9,  -999.0,9,-999.0000,9,  -999.00, -999.00,9, -999.00,9, -999.00,  -999.0,9, -999.00,9,     -999.0,9,  -999.0,9, 20170923,     2027, -32.5003, -80.1931,        0.0,1,      0.235,1,      4.585,1,      0.222,1,     -999.0,9,     -999.0,9,     -999.0,9,     -999.0,9,     -999.0,9,     -999.0,9,     -999.0,9,     -999.0,1,     -999.0,1,     -999.0,1,71.20384447,6,    14.9477,2,2.735225555, 92.8316514,6,1.911408597
320620170820,        P06,     228,          3,         34,         34,2,20170923,       1837,   -32.5003,   -80.1931,       3944,    24.1,  15.0071,  34.4242,2,-999.0000,9, 244.4378,2,-999.0000,9,  -999.0,9, -999.00,9, -999.00,9, -999.00,9,-999.000,9,-999.000,9,-999.0000,9,  -999.0,9,  -999.0,9,-999.0000,9,  -999.00, -999.00,9, -999.00,9, -999.00,  -999.0,9, -999.00,9,     -999.0,9,  -999.0,9, 20170923,     2029, -32.5003, -80.1931,        0.0,1,      0.140,1,      4.576,1,      0.211,1,     -999.0,9,     -999.0,9,     -999.0,9,     -999.0,9,     -999.0,9,     -999.0,9,     -999.0,9,     -999.0,1,     -999.0,1,     -999.0,1, 74.1909778,6,    15.0028,2,5.134121139, 99.8980413,6,5.860262479
320620170820,        P06,     228,          3,         35,         35,2,20170923,       1837,   -32.5003,   -80.1931,       3944,    24.0,  15.0071,  34.4242,2,  34.4194,2, 252.9764,2, 252.2053,2,     0.0,2,    1.85,2,    0.08,2,    0.40,2,   2.453,2,   1.334,2,   1.1270,4,  2056.9,2,  2284.5,2,   7.9241,2,    25.00, -999.00,9, -999.00,9, -999.00,    60.8,2,    5.80,2,     -999.0,1,  -999.0,1, 20170923,     2030, -32.5003, -80.1931,        0.0,1,      0.140,1,      4.576,1,      0.211,1,     -999.0,1,     -999.0,1,     -999.0,1,     -999.0,1,     -999.0,1,     -999.0,1,     -999.0,1,     -999.0,9,     -999.0,9,     -999.0,9,     -999.0,9,    15.0020,2,     -999.0,     -999.0,9,     -999.0
320620170820,        P06,     228,          3,         36,         36,2,20170923,       1837,   -32.5003,   -80.1931,       3944,     5.1,  15.0440,  34.4262,2,  34.4245,2, 254.6191,2, 252.1903,2,     0.0,2,    1.83,2,    0.07,2,    0.41,2,   2.359,2,   1.311,2,   1.4600,4,  2055.5,6,  2285.8,2,   7.9238,2,    25.00, -999.00,9, -999.00,9, -999.00,    59.3,2,    6.00,2,     -999.0,1,  -999.0,1, 20170923,     2032, -32.5003, -80.1931,        0.0,1,      0.091,1,      4.573,1,      0.204,1,     -999.0,1,     -999.0,1,     -999.0,9,     -999.0,9,     -999.0,9,     -999.0,9,     -999.0,9,     -999.0,9,     -999.0,9,     -999.0,9,     -999.0,9,    15.1245,2,     -999.0,     -999.0,9,     -999.0