BOTTLE,20240211CCHSIOCBG
EXPOCODE,SECT_ID,STNNBR,CASTNO,SAMPNO,BTLNBR,BTLNBR_FLAG_W,DATE,TIME,LATITUDE,LONGITUDE,DEPTH,CTDPRS,CTDTMP,CTDSAL,CTDSAL_FLAG_W,SALNTY,SALNTY_FLAG_W,CTDOXY,CTDOXY_FLAG_W,OXYGEN,OXYGEN_FLAG_W,SILCAT,SILCAT_FLAG_W,NITRAT,NITRAT_FLAG_W,NITRIT,NITRIT_FLAG_W,PHSPHT,PHSPHT_FLAG_W,CFC-11,CFC-11_FLAG_W,CFC-12,CFC-12_FLAG_W,SF6,SF6_FLAG_W,TCARBN,TCARBN_FLAG_W,ALKALI,ALKALI_FLAG_W,PH_TOT,PH_TOT_FLAG_W,PH_TMP,DELC13,DELC13_FLAG_W,DELC14,DELC14_FLAG_W,C14ERR,DOC,DOC_FLAG_W,TDN,TDN_FLAG_W,TON,TON_FLAG_W,D15N_NO3,D15N_NO3_FLAG_W,BTL_DATE,BTL_TIME,BTL_LAT,BTL_LON,CTDRINKO,CTDRINKO_FLAG_W,CTDFLUOR,CTDFLUOR_FLAG_W,CTDXMISS,CTDXMISS_FLAG_W,CTDBACKSCATTER,CTDBACKSCATTER_FLAG_W,D18O_NO3,D18O_NO3_FLAG_W,DOP,DOP_FLAG_W,CELLCOUNT,CELLCOUNT_FLAG_W,TDP,TDP_FLAG_W,POP,POP_FLAG_W,DATP,DATP_FLAG_W,PATP,PATP_FLAG_W,HPLC,HPLC_FLAG_W,POC,POC_FLAG_W,BEAMAP,BEAMAP_FLAG_W,DOC_NASA,DOC_NASA_FLAG_W,REFTMP,REFTMP_FLAG_W,DOC_NASA_ERROR,TDN_NASA,TDN_NASA_FLAG_W,TDN_NASA_ERROR
,,,,,,,,,,,METERS,DBAR,ITS-90,PSS-78,,PSS-78,,UMOL/KG,,UMOL/KG,,UMOL/KG,,UMOL/KG,,UMOL/KG,,UMOL/KG,,PMOL/KG,,PMOL/KG,,FMOL/KG,,UMOL/KG,,UMOL/KG,,,,DEG C,/MILLE,,/MILLE,,/MILLE,UMOL/KG,,UMOL/KG,,UMOL/KG,,/MILLE,,,,,,VOLTS,,VOLTS,,VOLTS,,VOLTS,,/MILLE,,UMOL/KG,,/LITER,,UMOL/KG,,UMOL/L,,PMOL/L,,PMOL/L,,,,UG/L,,/METER,,UMOL/L,,ITS-90,,UMOL/L,UMOL/L,,UMOL/L
320620170820,        P06,     229,          1,         27,         27,2,20170924,       0221,   -32.4998,   -79.3048,       3797,   316.5,   8.9248,  34.4208,2,  34.4518,2,  67.5302,2,   63.647,2,    18.5,2,   29.49,2,    0.00,2,    2.53,2,   1.972,2,   1.024,2,   0.4430,4,  2251.7,2,  2277.5,2,   7.4079,6,    25.00, -999.00,9, -999.00,9, -999.00,  -999.0,9, -999.00,9,     -999.0,9,  -999.0,9, 20170924,      352, -32.4996, -79.3056,        0.0,1,      0.065,1,      4.668,1,      0.156,1,     -999.0,9,     -999.0,9,     -999.0,9,     -999.0,9,     -999.0,9,     -999.0,9,     -999.0,9,     -999.0,9,     -999.0,9,     -999.0,9,     -999.0,9,     9.3328,2,     -999.0,     -999.0,9,     -999.0
320620170820,        P06,     229,          1,         28,         28,2,20170924,       0221,   -32.4998,   -79.3048,       3797,   265.8,   9.9822,  34.4535,2,  34.4173,2,  82.3053,2,   78.001,2,    16.1,2,   25.93,2,    0.00,2,    2.37,2,   2.300,2,   1.187,2,   0.6020,4,  2235.6,2,  2274.9,2,   7.4441,2,    25.00, -999.00,9, -999.00,9, -999.00,  -999.0,9, -999.00,9,     -999.0,9,  -999.0,9, 20170924,      354, -32.4996, -79.3056,        0.0,1,      0.064,1,      4.667,1,      0.158,1,     -999.0,9,     -999.0,9,     -999.0,9,     -999.0,9,     -999.0,9,     -999.0,9,     -999.0,9,     -999.0,9,     -999.0,9,     -999.0,9,     -999.0,9,    10.0417,2,     -999.0,     -999.0,9,     -999.0
320620170820,        P06,     229,          1,         29,         29,2,20170924,       0221,   -32.4998,   -79.3048,       3797,   215.7,  10.6377,  34.2620,2,  34.2281,3, 142.2593,2, 142.0398,2,     7.5,2,   22.79,2,    0.00,2,    1.89,2,   3.046,2,   1.502,2,   0.9940,4,  2180.3,2,  2263.9,2,   7.5708,2,    25.00, -999.00,9, -999.00,9, -999.00,  -999.0,9, -999.00,9,     -999.0,9,  -999.0,9, 20170924,      357, -32.4996, -79.3056,        0.0,1,      0.061,1,      4.664,1,      0.165,1,     -999.0,9,     -999.0,9,     -999.0,9,     -999.0,9,     -999.0,9,     -999.0,9,     -999.0,9,     -999.0,9,     -999.0,9,     -999.0,9,     -999.0,9,    10.9150,2,     -999.0,     -999.0,9,     -999.0
320620170820,        P06,     229,          1,         30,         30,2,20170924,       0221,   -32.4998,   -79.3048,       3797,   165.7,  12.1034,  34.0734,2,  34.0772,2, 206.7925,2, 211.0737,2,     1.1,2,   14.04,2,    0.03,2,    1.08,2,-999.000,9,-999.000,9,-999.0000,9,  2102.0,2,  2258.8,2,   7.7701,2,    25.00, -999.00,9, -999.00,9, -999.00,  -999.0,9, -999.00,9,     -999.0,9,  -999.0,9, 20170924,      359, -32.4996, -79.3055,        0.0,1,      0.067,1,      4.660,1,      0.163,1,     -999.0,9,     -999.0,9,     -999.0,9,     -999.0,9,     -999.0,9,     -999.0,9,     -999.0,9,     -999.0,9,     -999.0,9,     -999.0,9,     -999.0,9,    12.4623,2,     -999.0,     -999.0,9,     -999.0
320620170820,        P06,     229,          1,         31,         31,2,20170924,       0221,   -32.4998,   -79.3048,       3797,   135.1,  13.1026,  34.1230,2,  34.3580,2, 248.9794,2, 247.2588,2,     0.1,2,    2.77,2,    0.12,2,    0.48,2,   2.753,2,   1.367,2,   1.1110,4,  2059.6,2,  2282.3,3,   7.9095,2,    25.00, -999.00,9, -999.00,9, -999.00,  -999.0,9, -999.00,9,     -999.0,9,  -999.0,9, 20170924,      401, -32.4996, -79.3054,        0.0,1,      0.071,1,      4.656,1,      0.164,1,     -999.0,9,     -999.0,9,     -999.0,9,     -999.0,9,     -999.0,9,     -999.0,9,     -999.0,9,     -999.0,9,     -999.0,9,     -999.0,9,     -999.0,9,    14.7028,2,     -999.0,     -999.0,9,     -999.0
320620170820,        P06,     229,          1,         32,         32,2,20170924,       0221,   -32.4998,   -79.3048,       3797,   109.3,  14.6893,  34.3627,2,  34.3737,2, 248.8791,2, 249.2973,2,     0.0,2,    2.26,2,    0.11,2,    0.45,2,-999.000,9,-999.000,9,-999.0000,9,  2058.3,2,  2283.2,2,   7.9111,2,    25.00, -999.00,9, -999.00,9, -999.00,  -999.0,9, -999.00,9,     -999.0,9,  -999.0,9, 20170924,      403, -32.4997, -79.3053,        0.0,1,      0.123,1,      4.640,1,      0.182,1,     -999.0,9,     -999.0,9,     -999.0,9,     -999.0,9,     -999.0,9,     -999.0,9,     -999.0,9,     -999.0,9,     -999.0,9,     -999.0,9,     -999.0,9,    14.7515,2,     -999.0,     -999.0,9,     -999.0
320620170820,        P06,     229,          1,         33,         33,2,20170924,       0221,   -32.4998,   -79.3048,       3797,    84.7,  14.7285,  34.3710,2,  34.3831,2, 249.7184,2, 249.7723,2,     0.0,2,    2.15,2,    0.10,2,    0.43,2,   2.749,2,   1.350,2,   1.2310,4,  2056.1,2,  2283.9,2,   7.9165,2,    25.00, -999.00,9, -999.00,9, -999.00,  -999.0,9, -999.00,9,     -999.0,9,  -999.0,9, 20170924,      405, -32.4997, -79.3052,        0.0,1,      0.150,1,      4.631,1,      0.190,1,     -999.0,9,     -999.0,9,     -999.0,9,     -999.0,9,     -999.0,9,     -999.0,9,     -999.0,9,     -999.0,9,     -999.0,9,     -999.0,9,     -999.0,9,    14.7998,2,     -999.0,     -999.0,9,     -999.0
320620170820,        P06,     229,          1,         34,         34,2,20170924,       0221,   -32.4998,   -79.3048,       3797,    60.1,  14.7851,  34.3779,2,  34.3864,2, 251.5658,2, 251.9642,2,     0.0,2,    2.02,2,    0.09,2,    0.42,2,-999.000,9,-999.000,9,-999.0000,9,  2053.7,2,  2285.4,2,   7.9196,2,    25.00, -999.00,9, -999.00,9, -999.00,  -999.0,9, -999.00,9,     -999.0,9,  -999.0,9, 20170924,      407, -32.4998, -79.3050,        0.0,1,      0.252,1,      4.593,1,      0.226,1,     -999.0,9,     -999.0,9,     -999.0,9,     -999.0,9,     -999.0,9,     -999.0,9,     -999.0,9,     -999.0,9,     -999.0,9,     -999.0,9,     -999.0,9,    14.8202,2,     -999.0,     -999.0,9,     -999.0
320620170820,        P06,     229,          1,         35,         35,2,20170924,       0221,   -32.4998,   -79.3048,       3797,    34.0,  14.8623,  34.3863,2,  34.3874,2, 254.1979,2, 254.1917,2,     0.0,2,    1.91,2,    0.08,2,    0.41,2,   2.787,2,   1.347,2,   1.1810,4,  2053.5,2,  2285.0,2,   7.9224,2,    25.00, -999.00,9, -999.00,9, -999.00,  -999.0,9, -999.00,9,     -999.0,9,  -999.0,9, 20170924,      409, -32.4998, -79.3049,        0.0,1,      0.262,1,      4.565,1,      0.250,1,     -999.0,9,     -999.0,9,     -999.0,9,     -999.0,9,     -999.0,9,     -999.0,9,     -999.0,9,     -999.0,9,     -999.0,9,     -999.0,9,     -999.0,9,    14.8456,2,     -999.0,     -999.0,9,     -999.0
320620170820,        P06,     229,          1,         36,         36,2,20170924,       0221,   -32.4998,   -79.3048,       3797,     3.6,  14.9175,  34.3899,2,  34.3866,2, 255.0193,2, 254.1372,2,     0.0,2,    1.90,2,    0.08,2,    0.41,2,   2.804,2,   1.339,2,   1.1680,4,  2053.3,6,  2286.6,2,   7.9241,2,    25.00,    1.54,2,   24.01,2,    4.83,  -999.0,9, -999.00,9,     -999.0,9,  -999.0,9, 20170924,      411, -32.4998, -79.3048,        0.0,1,      0.227,1,      4.579,1,      0.240,1,     -999.0,9,     -999.0,9,     -999.0,9,     -999.0,9,     -999.0,9,     -999.0,9,     -999.0,9,     -999.0,9,     -999.0,9,     -999.0,9,     -999.0,9,    14.8615,2,     -999.0,     -999.0,9,     -999.0