BOTTLE,20240211CCHSIOCBG
EXPOCODE,SECT_ID,STNNBR,CASTNO,SAMPNO,BTLNBR,BTLNBR_FLAG_W,DATE,TIME,LATITUDE,LONGITUDE,DEPTH,CTDPRS,CTDTMP,CTDSAL,CTDSAL_FLAG_W,SALNTY,SALNTY_FLAG_W,CTDOXY,CTDOXY_FLAG_W,OXYGEN,OXYGEN_FLAG_W,SILCAT,SILCAT_FLAG_W,NITRAT,NITRAT_FLAG_W,NITRIT,NITRIT_FLAG_W,PHSPHT,PHSPHT_FLAG_W,CFC-11,CFC-11_FLAG_W,CFC-12,CFC-12_FLAG_W,SF6,SF6_FLAG_W,TCARBN,TCARBN_FLAG_W,ALKALI,ALKALI_FLAG_W,PH_TOT,PH_TOT_FLAG_W,PH_TMP,DELC13,DELC13_FLAG_W,DELC14,DELC14_FLAG_W,C14ERR,DOC,DOC_FLAG_W,TDN,TDN_FLAG_W,TON,TON_FLAG_W,D15N_NO3,D15N_NO3_FLAG_W,BTL_DATE,BTL_TIME,BTL_LAT,BTL_LON,CTDRINKO,CTDRINKO_FLAG_W,CTDFLUOR,CTDFLUOR_FLAG_W,CTDXMISS,CTDXMISS_FLAG_W,CTDBACKSCATTER,CTDBACKSCATTER_FLAG_W,D18O_NO3,D18O_NO3_FLAG_W,DOP,DOP_FLAG_W,CELLCOUNT,CELLCOUNT_FLAG_W,TDP,TDP_FLAG_W,POP,POP_FLAG_W,DATP,DATP_FLAG_W,PATP,PATP_FLAG_W,HPLC,HPLC_FLAG_W,POC,POC_FLAG_W,BEAMAP,BEAMAP_FLAG_W,DOC_NASA,DOC_NASA_FLAG_W,REFTMP,REFTMP_FLAG_W,DOC_NASA_ERROR,TDN_NASA,TDN_NASA_FLAG_W,TDN_NASA_ERROR
,,,,,,,,,,,METERS,DBAR,ITS-90,PSS-78,,PSS-78,,UMOL/KG,,UMOL/KG,,UMOL/KG,,UMOL/KG,,UMOL/KG,,UMOL/KG,,PMOL/KG,,PMOL/KG,,FMOL/KG,,UMOL/KG,,UMOL/KG,,,,DEG C,/MILLE,,/MILLE,,/MILLE,UMOL/KG,,UMOL/KG,,UMOL/KG,,/MILLE,,,,,,VOLTS,,VOLTS,,VOLTS,,VOLTS,,/MILLE,,UMOL/KG,,/LITER,,UMOL/KG,,UMOL/L,,PMOL/L,,PMOL/L,,,,UG/L,,/METER,,UMOL/L,,ITS-90,,UMOL/L,UMOL/L,,UMOL/L
320620170820,        P06,     217,          1,         27,         27,2,20170919,       2357,   -32.5000,   -89.9851,       3726,   316.0,   8.2674,  34.2213,2,  34.2099,3, 191.4114,2, 197.7641,2,     5.8,2,   22.51,2,    0.00,2,    1.64,2,-999.000,9,-999.000,9,-999.0000,9,  2161.0,2,  2265.0,2,   7.6473,2,    25.00, -999.00,9, -999.00,9, -999.00,    48.0,2, -999.00,9,     -999.0,1,  -999.0,9, 20170920,      125, -32.5002, -89.9847,        0.0,1,      0.060,1,      4.679,1,      0.134,1,     -999.0,9,     -999.0,9,     -999.0,9,     -999.0,9,     -999.0,9,     -999.0,9,     -999.0,9,     -999.0,9,     -999.0,9,     -999.0,9,     -999.0,9,     8.5161,2,     -999.0,     -999.0,9,     -999.0
320620170820,        P06,     217,          1,         28,         28,2,20170919,       2357,   -32.5000,   -89.9851,       3726,   265.9,   9.8378,  34.1879,2,  34.1748,2, 212.2372,2, 211.4325,2,     2.4,2,   18.70,2,    0.00,2,    1.33,2,-999.000,9,-999.000,9,-999.0000,9,  2132.4,2,  2261.3,2,   7.7079,2,    25.00, -999.00,9, -999.00,9, -999.00,    44.6,2,   20.70,2,     -999.0,1,  -999.0,9, 20170920,      126, -32.5002, -89.9847,        0.0,1,      0.060,1,      4.676,1,      0.135,1,     -999.0,9,     -999.0,9,     -999.0,9,     -999.0,9,     -999.0,9,     -999.0,9,     -999.0,9,     -999.0,9,     -999.0,9,     -999.0,9,     -999.0,9,     9.8109,2,     -999.0,     -999.0,9,     -999.0
320620170820,        P06,     217,          1,         29,         29,2,20170919,       2357,   -32.5000,   -89.9851,       3726,   215.5,  11.8852,  34.1933,2,  34.1815,2, 209.3273,2, 216.7996,2,     0.7,2,   14.30,2,    0.00,2,    1.02,2,-999.000,9,-999.000,9,-999.0000,9,  2105.8,2,  2259.6,2,   7.7702,2,    25.00, -999.00,9, -999.00,9, -999.00,    47.1,2,   16.60,2,     -999.0,1,  -999.0,9, 20170920,      128, -32.5002, -89.9848,        0.0,1,      0.064,1,      4.671,1,      0.144,1,     -999.0,9,     -999.0,9,     -999.0,9,     -999.0,9,     -999.0,9,     -999.0,9,     -999.0,9,     -999.0,9,     -999.0,9,     -999.0,9,     -999.0,9,    11.5283,2,     -999.0,     -999.0,9,     -999.0
320620170820,        P06,     217,          1,         30,         30,2,20170919,       2357,   -32.5000,   -89.9851,       3726,   165.5,  14.7776,  34.4184,2,  34.3935,2, 250.2174,2, 249.6304,2,     0.0,2,    2.64,2,    0.14,2,    0.36,2,-999.000,9,-999.000,9,-999.0000,9,  2053.3,2,  2276.8,2,   7.9138,2,    25.00, -999.00,9, -999.00,9, -999.00,    58.9,2,    6.30,2,     -999.0,1,  -999.0,9, 20170920,      130, -32.5002, -89.9848,        0.0,1,      0.159,1,      4.623,1,      0.224,1,     -999.0,9,     -999.0,9,     -999.0,9,     -999.0,9,     -999.0,9,     -999.0,9,     -999.0,9,     -999.0,9,     -999.0,9,     -999.0,9,     -999.0,9,    14.6888,2,     -999.0,     -999.0,9,     -999.0
320620170820,        P06,     217,          1,         31,         31,2,20170919,       2357,   -32.5000,   -89.9851,       3726,   135.0,  14.8128,  34.4254,2,  34.4220,2, 250.6971,2, 251.0223,2,     0.0,2,    2.22,2,    0.13,2,    0.34,2,-999.000,9,-999.000,9,-999.0000,9,  2051.3,2,  2278.1,2,   7.9194,2,    25.00, -999.00,9, -999.00,9, -999.00,    60.5,2,    5.70,2,     -999.0,1,  -999.0,9, 20170920,      132, -32.5001, -89.9849,        0.0,1,      0.182,1,      4.615,1,      0.233,1,     -999.0,9,     -999.0,9,     -999.0,9,     -999.0,9,     -999.0,9,     -999.0,9,     -999.0,9,     -999.0,9,     -999.0,9,     -999.0,9,     -999.0,9,    14.8097,2,     -999.0,     -999.0,9,     -999.0
320620170820,        P06,     217,          1,         32,         32,2,20170919,       2357,   -32.5000,   -89.9851,       3726,   110.3,  14.8101,  34.4254,2,  34.4230,2, 251.2295,2, 250.8475,2,     0.0,2,    2.21,2,    0.13,2,    0.34,2,-999.000,9,-999.000,9,-999.0000,9,  2053.6,2,  2278.4,2,   7.9198,2,    25.00, -999.00,9, -999.00,9, -999.00,    55.6,3,    6.30,2,     -999.0,1,  -999.0,9, 20170920,      133, -32.5001, -89.9849,        0.0,1,      0.177,1,      4.612,1,      0.226,1,     -999.0,9,     -999.0,9,     -999.0,9,     -999.0,9,     -999.0,9,     -999.0,9,     -999.0,9,     -999.0,9,     -999.0,9,     -999.0,9,     -999.0,9,    14.8096,2,     -999.0,     -999.0,9,     -999.0
320620170820,        P06,     217,          1,         33,         33,2,20170919,       2357,   -32.5000,   -89.9851,       3726,    85.2,  14.8094,  34.4257,2,  34.4220,2, 251.2059,2, 250.8449,2,     0.0,2,    2.21,2,    0.13,2,    0.33,2,-999.000,9,-999.000,9,-999.0000,9,  2052.9,2,  2278.3,2,   7.9204,6,    25.00, -999.00,9, -999.00,9, -999.00,    60.1,2,    6.90,2,     -999.0,1,  -999.0,9, 20170920,      135, -32.5001, -89.9850,        0.0,1,      0.186,1,      4.609,1,      0.222,1,     -999.0,9,     -999.0,9,     -999.0,9,     -999.0,9,     -999.0,9,     -999.0,9,     -999.0,9,     -999.0,9,     -999.0,9,     -999.0,9,     -999.0,9,    14.8043,2,     -999.0,     -999.0,9,     -999.0
320620170820,        P06,     217,          1,         34,         34,2,20170919,       2357,   -32.5000,   -89.9851,       3726,    59.9,  14.8068,  34.4259,2,  34.4216,2, 250.8675,2, 251.6178,2,     0.0,2,    2.21,2,    0.13,2,    0.35,2,-999.000,9,-999.000,9,-999.0000,9,  2052.5,2,  2279.2,2,   7.9200,2,    25.00, -999.00,9, -999.00,9, -999.00,    64.4,3,    6.00,2,     -999.0,1,  -999.0,9, 20170920,      137, -32.5001, -89.9850,        0.0,1,      0.184,1,      4.606,1,      0.224,1,     -999.0,9,     -999.0,9,     -999.0,9,     -999.0,9,     -999.0,9,     -999.0,9,     -999.0,9,     -999.0,9,     -999.0,9,     -999.0,9,     -999.0,9,    14.8025,2,     -999.0,     -999.0,9,     -999.0
320620170820,        P06,     217,          1,         35,         35,2,20170919,       2357,   -32.5000,   -89.9851,       3726,    34.5,  14.8175,  34.4265,2,  34.4228,2, 251.0649,2, 251.6318,2,     0.0,2,    2.20,2,    0.13,2,    0.35,2,-999.000,9,-999.000,9,-999.0000,9,  2048.7,2,  2278.8,2,   7.9205,2,    25.00, -999.00,9, -999.00,9, -999.00,    61.2,2,    6.30,2,     -999.0,1,  -999.0,9, 20170920,      138, -32.5000, -89.9851,        0.0,1,      0.164,1,      4.600,1,      0.220,1,     -999.0,9,     -999.0,9,     -999.0,9,     -999.0,9,     -999.0,9,     -999.0,9,     -999.0,9,     -999.0,9,     -999.0,9,     -999.0,9,     -999.0,9,    14.8069,2,     -999.0,     -999.0,9,     -999.0
320620170820,        P06,     217,          1,         36,         36,2,20170919,       2357,   -32.5000,   -89.9851,       3726,     3.7,  14.8630,  34.4263,2,  34.4228,2, 251.7068,2, 251.4873,2,     0.0,2,    2.19,2,    0.13,2,    0.34,2,-999.000,9,-999.000,9,-999.0000,9,  2053.6,6,  2278.0,2,   7.9196,2,    25.00,    1.23,2,   46.25,2,    4.61,    61.9,2,    6.10,2,     -999.0,1,  -999.0,9, 20170920,      141, -32.5000, -89.9851,        0.0,1,      0.126,1,      4.603,1,      0.206,1,     -999.0,9,     -999.0,9,     -999.0,9,     -999.0,9,     -999.0,9,     -999.0,9,     -999.0,9,     -999.0,9,     -999.0,9,     -999.0,9,     -999.0,9,    14.8524,2,     -999.0,     -999.0,9,     -999.0