BOTTLE,20240211CCHSIOCBG
EXPOCODE,SECT_ID,STNNBR,CASTNO,SAMPNO,BTLNBR,BTLNBR_FLAG_W,DATE,TIME,LATITUDE,LONGITUDE,DEPTH,CTDPRS,CTDTMP,CTDSAL,CTDSAL_FLAG_W,SALNTY,SALNTY_FLAG_W,CTDOXY,CTDOXY_FLAG_W,OXYGEN,OXYGEN_FLAG_W,SILCAT,SILCAT_FLAG_W,NITRAT,NITRAT_FLAG_W,NITRIT,NITRIT_FLAG_W,PHSPHT,PHSPHT_FLAG_W,CFC-11,CFC-11_FLAG_W,CFC-12,CFC-12_FLAG_W,SF6,SF6_FLAG_W,TCARBN,TCARBN_FLAG_W,ALKALI,ALKALI_FLAG_W,PH_TOT,PH_TOT_FLAG_W,PH_TMP,DELC13,DELC13_FLAG_W,DELC14,DELC14_FLAG_W,C14ERR,DOC,DOC_FLAG_W,TDN,TDN_FLAG_W,TON,TON_FLAG_W,D15N_NO3,D15N_NO3_FLAG_W,BTL_DATE,BTL_TIME,BTL_LAT,BTL_LON,CTDRINKO,CTDRINKO_FLAG_W,CTDFLUOR,CTDFLUOR_FLAG_W,CTDXMISS,CTDXMISS_FLAG_W,CTDBACKSCATTER,CTDBACKSCATTER_FLAG_W,D18O_NO3,D18O_NO3_FLAG_W,DOP,DOP_FLAG_W,CELLCOUNT,CELLCOUNT_FLAG_W,TDP,TDP_FLAG_W,POP,POP_FLAG_W,DATP,DATP_FLAG_W,PATP,PATP_FLAG_W,HPLC,HPLC_FLAG_W,POC,POC_FLAG_W,BEAMAP,BEAMAP_FLAG_W,DOC_NASA,DOC_NASA_FLAG_W,REFTMP,REFTMP_FLAG_W,DOC_NASA_ERROR,TDN_NASA,TDN_NASA_FLAG_W,TDN_NASA_ERROR
,,,,,,,,,,,METERS,DBAR,ITS-90,PSS-78,,PSS-78,,UMOL/KG,,UMOL/KG,,UMOL/KG,,UMOL/KG,,UMOL/KG,,UMOL/KG,,PMOL/KG,,PMOL/KG,,FMOL/KG,,UMOL/KG,,UMOL/KG,,,,DEG C,/MILLE,,/MILLE,,/MILLE,UMOL/KG,,UMOL/KG,,UMOL/KG,,/MILLE,,,,,,VOLTS,,VOLTS,,VOLTS,,VOLTS,,/MILLE,,UMOL/KG,,/LITER,,UMOL/KG,,UMOL/L,,PMOL/L,,PMOL/L,,,,UG/L,,/METER,,UMOL/L,,ITS-90,,UMOL/L,UMOL/L,,UMOL/L
320620170820,        P06,     172,          1,          1,          1,2,20170905,       2308,   -32.4998,  -125.1713,       3695,  3767.9,   1.6077,  34.6847,2,  34.6814,2,  171.244,3, 172.7402,2,   121.1,2,   34.23,2,    0.00,2,    2.39,2,   0.033,2,   0.019,2,   0.0000,2,  2297.6,6,  2395.6,2,   7.5965,2,    25.00, -999.00,9, -999.00,9, -999.00,    35.9,2, -999.00,9,     -999.0,1,  -999.0,9, 20170905,     2308, -32.4999,-125.1712,        0.0,1,      0.061,1,      4.692,1,      0.126,1,     -999.0,9,     -999.0,9,     -999.0,9,     -999.0,9,     -999.0,9,     -999.0,9,     -999.0,9,     -999.0,9,     -999.0,9,     -999.0,9,     -999.0,9,     1.6086,2,     -999.0,     -999.0,9,     -999.0
320620170820,        P06,     172,          1,          2,          2,2,20170905,       2308,   -32.4998,  -125.1713,       3695,  3601.6,   1.6190,  34.6828,2,  34.6832,2, 171.1719,2, 171.3335,2,   121.0,2,   34.30,2,    0.00,2,    2.40,2,   0.037,2,   0.025,2,   0.0000,2,  2297.4,2,  2394.0,2,   7.5933,2,    25.00, -999.00,9, -999.00,9, -999.00,  -999.0,9, -999.00,9,     -999.0,9,  -999.0,9, 20170905,     2314, -32.5002,-125.1713,        0.0,1,      0.060,1,      4.692,1,      0.125,1,     -999.0,9,     -999.0,9,     -999.0,9,     -999.0,9,     -999.0,9,     -999.0,9,     -999.0,9,     -999.0,9,     -999.0,9,     -999.0,9,     -999.0,9,     1.6200,2,     -999.0,     -999.0,9,     -999.0
320620170820,        P06,     172,          1,          3,          3,2,20170905,       2308,   -32.4998,  -125.1713,       3695,  3452.1,   1.6323,  34.6810,2,  34.6818,2, 170.9788,3, 169.9519,2,   121.1,2,   34.38,2,    0.00,2,    2.39,2,   0.034,2,   0.022,2,   0.0000,2,  2296.9,2,  2393.1,2,   7.5917,6,    25.00, -999.00,9, -999.00,9, -999.00,    40.1,2, -999.00,9,     -999.0,1,  -999.0,9, 20170905,     2318, -32.5000,-125.1712,        0.0,1,      0.061,1,      4.693,1,      0.126,1,     -999.0,9,     -999.0,9,     -999.0,9,     -999.0,9,     -999.0,9,     -999.0,9,     -999.0,9,     -999.0,9,     -999.0,9,     -999.0,9,     -999.0,9,     1.6317,2,     -999.0,     -999.0,9,     -999.0
320620170820,        P06,     172,          1,          4,          4,2,20170905,       2308,   -32.4998,  -125.1713,       3695,  3144.8,   1.6552,  34.6774,2,  34.6787,2, 168.1077,2, 167.7915,2,   121.1,2,   34.56,2,    0.00,2,    2.41,2,   0.041,2,   0.029,2,   0.0000,2,  2298.4,2,  2395.4,2,   7.5893,2,    25.00, -999.00,9, -999.00,9, -999.00,  -999.0,9, -999.00,9,     -999.0,9,  -999.0,9, 20170905,     2325, -32.4999,-125.1712,        0.0,1,      0.060,1,      4.693,1,      0.127,1,     -999.0,9,     -999.0,9,     -999.0,9,     -999.0,9,     -999.0,9,     -999.0,9,     -999.0,9,     -999.0,9,     -999.0,9,     -999.0,9,     -999.0,9,     1.6541,2,     -999.0,     -999.0,9,     -999.0
320620170820,        P06,     172,          1,          5,          5,2,20170905,       2308,   -32.4998,  -125.1713,       3695,  2903.7,   1.6876,  34.6735,2,  34.6751,2, 165.6933,2, 165.3705,2,   120.9,2,   34.70,2,    0.00,2,    2.41,2,   0.037,2,   0.024,2,   0.0000,2,  2299.9,2,  2390.8,2,   7.5868,2,    25.00, -999.00,9, -999.00,9, -999.00,    40.4,2, -999.00,9,     -999.0,1,  -999.0,9, 20170905,     2330, -32.5002,-125.1713,        0.0,1,      0.061,1,      4.694,1,      0.126,1,     -999.0,9,     -999.0,9,     -999.0,9,     -999.0,9,     -999.0,9,     -999.0,9,     -999.0,9,     -999.0,9,     -999.0,9,     -999.0,9,     -999.0,9,     1.6865,2,     -999.0,     -999.0,9,     -999.0
320620170820,        P06,     172,          1,          6,          6,2,20170905,       2308,   -32.4998,  -125.1713,       3695,  2698.9,   1.7329,  34.6697,2,  34.6688,2, 163.4847,2,  162.867,2,   120.3,2,   34.87,2,    0.00,2,    2.43,2,   0.041,2,   0.028,2,   0.0000,2,  2301.2,2,  2393.7,6,   7.5836,2,    25.00, -999.00,9, -999.00,9, -999.00,    40.2,2, -999.00,9,     -999.0,1,  -999.0,9, 20170905,     2335, -32.5000,-125.1713,        0.0,1,      0.061,1,      4.694,1,      0.126,1,     -999.0,9,     -999.0,9,     -999.0,9,     -999.0,9,     -999.0,9,     -999.0,9,     -999.0,9,     -999.0,9,     -999.0,9,     -999.0,9,     -999.0,9,     1.7317,2,     -999.0,     -999.0,9,     -999.0
320620170820,        P06,     172,          1,          7,          7,2,20170905,       2308,   -32.4998,  -125.1713,       3695,  2493.4,   1.7726,  34.6654,2,  34.6661,2, 161.4038,2,  161.204,2,   119.5,2,   34.95,2,    0.00,2,    2.44,2,   0.036,2,   0.024,2,   0.0000,2,  2299.9,2,  2391.4,2,   7.5812,2,    25.00, -999.00,9, -999.00,9, -999.00,    39.6,2, -999.00,9,     -999.0,1,  -999.0,9, 20170905,     2341, -32.5002,-125.1713,        0.0,1,      0.061,1,      4.694,1,      0.127,1,     -999.0,9,     -999.0,9,     -999.0,9,     -999.0,9,     -999.0,9,     -999.0,9,     -999.0,9,     -999.0,9,     -999.0,9,     -999.0,9,     -999.0,9,     1.7736,2,     -999.0,     -999.0,9,     -999.0
320620170820,        P06,     172,          1,          8,          8,2,20170905,       2308,   -32.4998,  -125.1713,       3695,  2293.7,   1.8583,  34.6582,2,  34.6592,2, 158.8286,2, 158.8864,2,   117.4,2,   35.13,2,    0.00,2,    2.46,2,   0.042,2,   0.029,2,   0.0000,2,  2300.5,2,  2390.6,2,   7.5778,2,    25.00, -999.00,9, -999.00,9, -999.00,  -999.0,9, -999.00,9,     -999.0,9,  -999.0,9, 20170905,     2345, -32.5004,-125.1713,        0.0,1,      0.061,1,      4.694,1,      0.127,1,     -999.0,9,     -999.0,9,     -999.0,9,     -999.0,9,     -999.0,9,     -999.0,9,     -999.0,9,     -999.0,9,     -999.0,9,     -999.0,9,     -999.0,9,     1.8591,2,     -999.0,     -999.0,9,     -999.0
320620170820,        P06,     172,          1,          9,          9,2,20170905,       2308,   -32.4998,  -125.1713,       3695,  2091.6,   2.0172,  34.6442,2,  34.6472,2, 156.4757,2, 156.6633,2,   112.8,2,   35.28,2,    0.00,2,    2.46,2,   0.041,2,   0.028,2,   0.0000,2,  2298.6,6,  2386.2,2,   7.5758,2,    25.00, -999.00,9, -999.00,9, -999.00,    35.8,2, -999.00,9,     -999.0,1,  -999.0,9, 20170905,     2350, -32.5003,-125.1713,        0.0,1,      0.061,1,      4.694,1,      0.129,1,     -999.0,9,     -999.0,9,     -999.0,9,     -999.0,9,     -999.0,9,     -999.0,9,     -999.0,9,     -999.0,9,     -999.0,9,     -999.0,9,     -999.0,9,     1.9915,2,     -999.0,     -999.0,9,     -999.0
320620170820,        P06,     172,          1,         10,         10,2,20170905,       2308,   -32.4998,  -125.1713,       3695,  1884.2,   2.1911,  34.6261,2,  34.6289,2, 155.9218,2, 156.3366,2,   105.1,2,   35.07,2,    0.00,2,    2.46,2,   0.051,2,   0.035,2,   0.0000,2,  2290.6,2,  2376.4,2,   7.5696,2,    25.00, -999.00,9, -999.00,9, -999.00,  -999.0,9, -999.00,9,     -999.0,9,  -999.0,9, 20170905,     2355, -32.5003,-125.1713,        0.0,1,      0.061,1,      4.694,1,      0.129,1,     -999.0,9,     -999.0,9,     -999.0,9,     -999.0,9,     -999.0,9,     -999.0,9,     -999.0,9,     -999.0,9,     -999.0,9,     -999.0,9,     -999.0,9,     2.1729,2,     -999.0,     -999.0,9,     -999.0
320620170820,        P06,     172,          1,         11,         11,2,20170905,       2308,   -32.4998,  -125.1713,       3695,  1753.9,   2.3284,  34.6058,2,  34.6081,2, 157.6961,2, 158.0973,2,    97.4,2,   34.95,2,    0.00,2,    2.44,2,   0.064,2,   0.041,2,   0.0000,2,  2280.5,2,  2368.8,2,   7.5687,2,    25.00, -999.00,9, -999.00,9, -999.00,    38.7,2, -999.00,9,     -999.0,1,  -999.0,9, 20170905,     2358, -32.5003,-125.1713,        0.0,1,      0.061,1,      4.694,1,      0.129,1,     -999.0,9,     -999.0,9,     -999.0,9,     -999.0,9,     -999.0,9,     -999.0,9,     -999.0,9,     -999.0,9,     -999.0,9,     -999.0,9,     -999.0,9,     2.3124,2,     -999.0,     -999.0,9,     -999.0
320620170820,        P06,     172,          1,         12,         12,2,20170905,       2308,   -32.4998,  -125.1713,       3695,  1653.9,   2.4521,  34.5850,2,  34.5869,2, 160.3257,2, 160.6519,2,    89.5,2,   34.79,2,    0.00,2,    2.40,2,   0.076,2,   0.053,2,   0.0000,2,  2274.1,2,  2359.4,2,   7.5671,2,    25.00, -999.00,9, -999.00,9, -999.00,  -999.0,9, -999.00,9,     -999.0,9,  -999.0,9, 20170906,        1, -32.5001,-125.1713,        0.0,1,      0.062,1,      4.694,1,      0.129,1,     -999.0,9,     -999.0,9,     -999.0,9,     -999.0,9,     -999.0,9,     -999.0,9,     -999.0,9,     -999.0,9,     -999.0,9,     -999.0,9,     -999.0,9,     2.4455,2,     -999.0,     -999.0,9,     -999.0
320620170820,        P06,     172,          1,         13,         13,2,20170905,       2308,   -32.4998,  -125.1713,       3695,  1554.0,   2.5701,  34.5589,2,  34.5578,2, 162.7891,2, 163.2174,2,    82.3,2,   34.72,2,    0.00,2,    2.39,2,   0.118,2,   0.074,2,   0.0000,2,  2265.6,2,  2349.1,2,   7.5669,2,    25.00, -999.00,9, -999.00,9, -999.00,    38.4,2, -999.00,9,     -999.0,1,  -999.0,9, 20170906,        4, -32.5000,-125.1713,        0.0,1,      0.061,1,      4.694,1,      0.128,1,     -999.0,9,     -999.0,9,     -999.0,9,     -999.0,9,     -999.0,9,     -999.0,9,     -999.0,9,     -999.0,9,     -999.0,9,     -999.0,9,     -999.0,9,     2.5758,2,     -999.0,     -999.0,9,     -999.0
320620170820,        P06,     172,          1,         14,         14,2,20170905,       2308,   -32.4998,  -125.1713,       3695,  1449.7,   2.7861,  34.5121,2,  34.5203,2, 166.8133,2,  166.795,2,    73.9,2,   34.65,2,    0.00,2,    2.38,2,   0.175,2,   0.103,2,   0.0000,2,  2255.4,2,  2340.1,2,   7.5660,2,    25.00, -999.00,9, -999.00,9, -999.00,  -999.0,9, -999.00,9,     -999.0,1,  -999.0,9, 20170906,        7, -32.5000,-125.1713,        0.0,1,      0.061,1,      4.695,1,      0.130,1,     -999.0,9,     -999.0,9,     -999.0,9,     -999.0,9,     -999.0,9,     -999.0,9,     -999.0,9,     -999.0,9,     -999.0,9,     -999.0,9,     -999.0,9,     2.7525,2,     -999.0,     -999.0,9,     -999.0
320620170820,        P06,     172,          1,         15,         15,2,20170905,       2308,   -32.4998,  -125.1713,       3695,  1349.0,   3.0265,  34.4686,2,  34.4752,2, 170.1446,2, 169.4755,2,    65.3,2,   34.54,2,    0.00,2,    2.38,2,   0.254,2,   0.144,2,   0.0000,2,  2247.3,2,  2332.3,2,   7.5667,2,    25.00, -999.00,9, -999.00,9, -999.00,    40.7,2, -999.00,9,     -999.0,9,  -999.0,9, 20170906,       10, -32.5001,-125.1713,        0.0,1,      0.060,1,      4.695,1,      0.128,1,     -999.0,9,     -999.0,9,     -999.0,9,     -999.0,9,     -999.0,9,     -999.0,9,     -999.0,9,     -999.0,9,     -999.0,9,     -999.0,9,     -999.0,9,     2.9981,2,     -999.0,     -999.0,9,     -999.0
320620170820,        P06,     172,          1,         16,         16,2,20170905,       2308,   -32.4998,  -125.1713,       3695,  1247.3,   3.3834,  34.4144,2,  34.4251,2, 173.5949,2, 173.3762,2,    56.3,2,   34.30,2,    0.00,2,    2.36,2,   0.366,2,   0.198,2,   0.0140,2,  2236.7,2,  2320.5,2,   7.5699,2,    25.00, -999.00,9, -999.00,9, -999.00,    41.8,2, -999.00,9,     -999.0,1,  -999.0,9, 20170906,       13, -32.5002,-125.1713,        0.0,1,      0.061,1,      4.695,1,      0.129,1,     -999.0,9,     -999.0,9,     -999.0,9,     -999.0,9,     -999.0,9,     -999.0,9,     -999.0,9,     -999.0,9,     -999.0,9,     -999.0,9,     -999.0,9,     3.3062,2,     -999.0,     -999.0,9,     -999.0
320620170820,        P06,     172,          1,         17,         17,2,20170905,       2308,   -32.4998,  -125.1713,       3695,  1146.7,   3.7978,  34.3653,2,  34.3696,2, 182.9907,2, 182.8828,2,    44.4,2,   33.32,2,    0.00,2,    2.27,2,   0.608,2,   0.318,2,   0.0230,2,  2221.0,2,  2309.1,2,   7.5848,2,    25.00, -999.00,9, -999.00,9, -999.00,  -999.0,9, -999.00,9,     -999.0,9,  -999.0,9, 20170906,       16, -32.5001,-125.1713,        0.0,1,      0.060,1,      4.694,1,      0.130,1,     -999.0,9,     -999.0,9,     -999.0,9,     -999.0,9,     -999.0,9,     -999.0,9,     -999.0,9,     -999.0,9,     -999.0,9,     -999.0,9,     -999.0,9,     3.7553,2,     -999.0,     -999.0,9,     -999.0
320620170820,        P06,     172,          1,         18,         18,2,20170905,       2308,   -32.4998,  -125.1713,       3695,  1044.0,   4.2588,  34.3264,2,  34.3272,2, 195.3178,2, 194.8147,2,    33.4,2,   31.82,2,    0.00,2,    2.17,2,   1.060,2,   0.479,2,   0.1050,2,  2201.7,2,  2296.1,2,   7.6078,2,    25.00, -999.00,9, -999.00,9, -999.00,    41.4,2, -999.00,9,     -999.0,1,  -999.0,9, 20170906,       19, -32.5000,-125.1713,        0.0,1,      0.060,1,      4.695,1,      0.128,1,     -999.0,9,     -999.0,9,     -999.0,9,     -999.0,9,     -999.0,9,     -999.0,9,     -999.0,9,     -999.0,9,     -999.0,9,     -999.0,9,     -999.0,9,     4.2404,2,     -999.0,     -999.0,9,     -999.0
320620170820,        P06,     172,          1,         19,         19,2,20170905,       2308,   -32.4998,  -125.1713,       3695,   944.3,   4.7937,  34.2962,2,  34.2932,2, 211.8097,2, 212.4925,2,    22.3,2,   29.42,2,    0.00,2,    1.99,2,   1.599,2,   0.795,2,   0.2580,2,  2181.3,2,  2286.3,2,   7.6404,2,    25.00, -999.00,9, -999.00,9, -999.00,  -999.0,9, -999.00,9,     -999.0,9,  -999.0,9, 20170906,       22, -32.4999,-125.1713,        0.0,1,      0.060,1,      4.695,1,      0.130,1,     -999.0,9,     -999.0,9,     -999.0,9,     -999.0,9,     -999.0,9,     -999.0,9,     -999.0,9,     -999.0,9,     -999.0,9,     -999.0,9,     -999.0,9,     4.8506,2,     -999.0,     -999.0,9,     -999.0
320620170820,        P06,     172,          1,         20,         20,2,20170905,       2308,   -32.4998,  -125.1713,       3695,   844.1,   5.3348,  34.2839,2,  34.2840,2, 227.9205,2,   227.95,2,    14.8,2,   26.99,2,    0.00,2,    1.84,2,   2.522,2,   1.181,2,   0.3930,2,  2165.2,2,  2280.9,2,   7.6698,2,    25.00, -999.00,9, -999.00,9, -999.00,    44.8,3, -999.00,9,     -999.0,1,  -999.0,9, 20170906,       24, -32.5001,-125.1713,        0.0,1,      0.059,1,      4.694,1,      0.129,1,     -999.0,9,     -999.0,9,     -999.0,9,     -999.0,9,     -999.0,9,     -999.0,9,     -999.0,9,     -999.0,9,     -999.0,9,     -999.0,9,     -999.0,9,     5.4153,2,     -999.0,     -999.0,9,     -999.0
320620170820,        P06,     172,          1,         21,         21,2,20170905,       2308,   -32.4998,  -125.1713,       3695,   740.0,   5.8106,  34.2877,2,  34.2917,2, 239.8728,2, 240.8727,2,    10.0,2,   24.79,2,    0.00,2,    1.68,2,   3.113,2,   1.583,2,   0.6690,2,  2153.9,2,  2278.5,2,   7.6931,2,    25.00, -999.00,9, -999.00,9, -999.00,  -999.0,9, -999.00,9,     -999.0,9,  -999.0,9, 20170906,       27, -32.5002,-125.1713,        0.0,1,      0.059,1,      4.694,1,      0.130,1,     -999.0,9,     -999.0,9,     -999.0,9,     -999.0,9,     -999.0,9,     -999.0,9,     -999.0,9,     -999.0,9,     -999.0,9,     -999.0,9,     -999.0,9,     5.9353,2,     -999.0,     -999.0,9,     -999.0
320620170820,        P06,     172,          1,         22,         22,2,20170905,       2308,   -32.4998,  -125.1713,       3695,   638.4,   6.3403,  34.3154,2,  34.3172,2, 244.6814,2, 244.3139,2,     8.3,2,   23.40,2,    0.00,2,    1.59,2,   3.418,2,   1.783,2,   0.8780,2,  2148.7,2,  2276.2,2,   7.7029,2,    25.00, -999.00,9, -999.00,9, -999.00,    41.0,2, -999.00,9,     -999.0,1,  -999.0,9, 20170906,       30, -32.5002,-125.1713,        0.0,1,      0.059,1,      4.692,1,      0.130,1,     -999.0,9,     -999.0,9,     -999.0,9,     -999.0,9,     -999.0,9,     -999.0,9,     -999.0,9,     -999.0,9,     -999.0,9,     -999.0,9,     -999.0,9,     6.3835,2,     -999.0,     -999.0,9,     -999.0
320620170820,        P06,     172,          1,         23,         23,2,20170905,       2308,   -32.4998,  -125.1713,       3695,   538.9,   6.9119,  34.3408,2,  34.3382,2, 246.1516,2,  246.348,2,     6.4,2,   21.98,2,    0.00,2,    1.49,2,   3.618,2,   1.943,2,   1.1480,2,  2143.4,6,  2277.4,2,   7.7103,2,    25.00, -999.00,9, -999.00,9, -999.00,    40.5,2, -999.00,9,     -999.0,1,  -999.0,9, 20170906,       33, -32.5001,-125.1713,        0.0,1,      0.059,1,      4.691,1,      0.133,1,     -999.0,9,     -999.0,9,     -999.0,9,     -999.0,9,     -999.0,9,     -999.0,9,     -999.0,9,     -999.0,9,     -999.0,9,     -999.0,9,     -999.0,9,     6.8408,2,     -999.0,     -999.0,9,     -999.0
320620170820,        P06,     172,          1,         24,         24,2,20170905,       2308,   -32.4998,  -125.1713,       3695,   468.6,   7.4023,  34.3532,2,  34.3468,2, 242.2374,2, 241.6063,2,     5.5,2,   21.27,2,    0.00,2,    1.46,2,   3.612,2,   1.938,2,   1.2680,2,  2144.9,2,  2272.8,2,   7.7100,2,    25.00, -999.00,9, -999.00,9, -999.00,  -999.0,5, -999.00,9,     -999.0,1,  -999.0,9, 20170906,       35, -32.5001,-125.1713,        0.0,1,      0.059,1,      4.691,1,      0.130,1,     -999.0,9,     -999.0,9,     -999.0,9,     -999.0,9,     -999.0,9,     -999.0,9,     -999.0,9,     -999.0,9,     -999.0,9,     -999.0,9,     -999.0,9,     7.2501,2,     -999.0,     -999.0,9,     -999.0
320620170820,        P06,     172,          1,         25,         25,2,20170905,       2308,   -32.4998,  -125.1713,       3695,   419.6,   8.0462,  34.3644,2,  34.3613,2, 239.0335,2, 238.1774,2,     4.6,2,   20.10,2,    0.00,2,    1.39,2,   3.535,2,   1.936,2,   1.1690,2,  2141.7,2,  2274.3,2,   7.7169,2,    25.00, -999.00,9, -999.00,9, -999.00,    47.6,2, -999.00,9,     -999.0,1,  -999.0,9, 20170906,       37, -32.5000,-125.1713,        0.0,1,      0.059,1,      4.690,1,      0.132,1,     -999.0,9,     -999.0,9,     -999.0,9,     -999.0,9,     -999.0,9,     -999.0,9,     -999.0,9,     -999.0,9,     -999.0,9,     -999.0,9,     -999.0,9,     7.7615,2,     -999.0,     -999.0,9,     -999.0
320620170820,        P06,     172,          1,         26,         26,2,20170905,       2308,   -32.4998,  -125.1713,       3695,   368.1,   9.0296,  34.4135,2,  34.4008,2, 229.0365,2,  228.598,2,     3.5,2,   18.08,2,    0.00,2,    1.25,2,   3.378,2,   1.838,2,   1.1930,2,  2134.5,2,  2274.4,2,   7.7321,2,    25.00, -999.00,9, -999.00,9, -999.00,    46.3,2, -999.00,9,     -999.0,1,  -999.0,9, 20170906,       40, -32.5000,-125.1714,        0.0,1,      0.060,1,      4.689,1,      0.132,1,     -999.0,9,     -999.0,9,     -999.0,9,     -999.0,9,     -999.0,9,     -999.0,9,     -999.0,9,     -999.0,9,     -999.0,9,     -999.0,9,     -999.0,9,     8.7432,2,     -999.0,     -999.0,9,     -999.0