BOTTLE,20240211CCHSIOCBG
EXPOCODE,SECT_ID,STNNBR,CASTNO,SAMPNO,BTLNBR,BTLNBR_FLAG_W,DATE,TIME,LATITUDE,LONGITUDE,DEPTH,CTDPRS,CTDTMP,CTDSAL,CTDSAL_FLAG_W,SALNTY,SALNTY_FLAG_W,CTDOXY,CTDOXY_FLAG_W,OXYGEN,OXYGEN_FLAG_W,SILCAT,SILCAT_FLAG_W,NITRAT,NITRAT_FLAG_W,NITRIT,NITRIT_FLAG_W,PHSPHT,PHSPHT_FLAG_W,CFC-11,CFC-11_FLAG_W,CFC-12,CFC-12_FLAG_W,SF6,SF6_FLAG_W,TCARBN,TCARBN_FLAG_W,ALKALI,ALKALI_FLAG_W,PH_TOT,PH_TOT_FLAG_W,PH_TMP,DELC13,DELC13_FLAG_W,DELC14,DELC14_FLAG_W,C14ERR,DOC,DOC_FLAG_W,TDN,TDN_FLAG_W,TON,TON_FLAG_W,D15N_NO3,D15N_NO3_FLAG_W,BTL_DATE,BTL_TIME,BTL_LAT,BTL_LON,CTDRINKO,CTDRINKO_FLAG_W,CTDFLUOR,CTDFLUOR_FLAG_W,CTDXMISS,CTDXMISS_FLAG_W,CTDBACKSCATTER,CTDBACKSCATTER_FLAG_W,D18O_NO3,D18O_NO3_FLAG_W,DOP,DOP_FLAG_W,CELLCOUNT,CELLCOUNT_FLAG_W,TDP,TDP_FLAG_W,POP,POP_FLAG_W,DATP,DATP_FLAG_W,PATP,PATP_FLAG_W,HPLC,HPLC_FLAG_W,POC,POC_FLAG_W,BEAMAP,BEAMAP_FLAG_W,DOC_NASA,DOC_NASA_FLAG_W,REFTMP,REFTMP_FLAG_W,DOC_NASA_ERROR,TDN_NASA,TDN_NASA_FLAG_W,TDN_NASA_ERROR
,,,,,,,,,,,METERS,DBAR,ITS-90,PSS-78,,PSS-78,,UMOL/KG,,UMOL/KG,,UMOL/KG,,UMOL/KG,,UMOL/KG,,UMOL/KG,,PMOL/KG,,PMOL/KG,,FMOL/KG,,UMOL/KG,,UMOL/KG,,,,DEG C,/MILLE,,/MILLE,,/MILLE,UMOL/KG,,UMOL/KG,,UMOL/KG,,/MILLE,,,,,,VOLTS,,VOLTS,,VOLTS,,VOLTS,,/MILLE,,UMOL/KG,,/LITER,,UMOL/KG,,UMOL/L,,PMOL/L,,PMOL/L,,,,UG/L,,/METER,,UMOL/L,,ITS-90,,UMOL/L,UMOL/L,,UMOL/L
320620170820,        P06,     212,          1,         27,         27,2,20170918,       0602,   -32.5003,   -94.4335,       3866,   284.5,   9.7647,  34.2211,2,  34.2415,2, 218.7765,2, 219.1473,2,     2.3,2,   18.16,2,    0.00,2,    1.30,2,   3.456,2,   1.911,2,   1.4810,2,  2129.8,2,  2262.4,2,   7.7198,6,    25.00, -999.00,9, -999.00,9, -999.00,  -999.0,9, -999.00,9,     -999.0,9,  -999.0,9, 20170918,      741, -32.4997, -94.4350,        0.0,1,      0.059,1,      4.679,1,      0.133,1,     -999.0,9,     -999.0,9,     -999.0,9,     -999.0,9,     -999.0,9,     -999.0,9,     -999.0,9,     -999.0,9,     -999.0,9,     -999.0,9,     -999.0,9,     9.4750,2,     -999.0,     -999.0,9,     -999.0
320620170820,        P06,     212,          1,         28,         28,2,20170918,       0602,   -32.5003,   -94.4335,       3866,   234.0,  11.6917,  34.3252,2,  34.3372,2,  214.022,2, 214.8234,2,     0.8,2,   12.39,2,    0.00,2,    0.92,2,   3.102,2,   1.749,2,   1.4570,2,  2107.3,2,  2266.4,2,   7.7834,2,    25.00, -999.00,9, -999.00,9, -999.00,    46.2,2,   14.40,2,     -999.0,1,  -999.0,9, 20170918,      743, -32.4997, -94.4347,        0.0,1,      0.061,1,      4.676,1,      0.136,1,     -999.0,9,     -999.0,9,     -999.0,9,     -999.0,9,     -999.0,9,     -999.0,9,     -999.0,9,     -999.0,9,     -999.0,9,     -999.0,9,     -999.0,9,    11.7865,2,     -999.0,     -999.0,9,     -999.0
320620170820,        P06,     212,          1,         29,         29,2,20170918,       0602,   -32.5003,   -94.4335,       3866,   183.7,  13.8828,  34.4787,2,  34.4765,2, 221.3796,2, 220.2657,2,     0.2,2,    6.28,2,    0.04,2,    0.56,2,   2.632,2,   1.560,2,   1.4370,2,  2080.6,2,  2275.0,2,   7.8566,2,    25.00, -999.00,9, -999.00,9, -999.00,    49.6,2,    9.00,2,     -999.0,1,  -999.0,9, 20170918,      745, -32.4999, -94.4340,        0.0,1,      0.080,1,      4.668,1,      0.144,1,     -999.0,9,     -999.0,9,     -999.0,9,     -999.0,9,     -999.0,9,     -999.0,9,     -999.0,9,     -999.0,9,     -999.0,9,     -999.0,9,     -999.0,9,    14.0998,2,     -999.0,     -999.0,9,     -999.0
320620170820,        P06,     212,          1,         30,         30,2,20170918,       0602,   -32.5003,   -94.4335,       3866,   140.4,  15.8512,  34.6438,2,  34.6396,2, 244.7576,2, 245.9321,2,     0.0,2,    0.70,2,    0.08,2,    0.21,2,   2.368,2,   1.411,2,   1.6590,2,  2050.5,2,  2286.4,2,   7.9377,2,    25.00, -999.00,9, -999.00,9, -999.00,    59.0,2,    5.10,2,     -999.0,1,  -999.0,9, 20170918,      748, -32.5001, -94.4337,        0.0,1,      0.159,1,      4.630,1,      0.208,1,     -999.0,9,     -999.0,9,     -999.0,9,     -999.0,9,     -999.0,9,     -999.0,9,     -999.0,9,     -999.0,9,     -999.0,9,     -999.0,9,     -999.0,9,    15.8274,2,     -999.0,     -999.0,9,     -999.0
320620170820,        P06,     212,          1,         31,         31,2,20170918,       0602,   -32.5003,   -94.4335,       3866,   115.5,  15.8889,  34.6533,2,  34.6138,2, 247.2779,2,  246.338,2,     0.0,2,    0.76,2,    0.08,2,    0.23,2,   2.376,2,   1.407,2,   1.5520,2,  2050.0,2,  2285.7,2,   7.9355,2,    25.00, -999.00,9, -999.00,9, -999.00,    57.9,2,    4.60,2,     -999.0,1,  -999.0,9, 20170918,      750, -32.5002, -94.4336,        0.0,1,      0.180,1,      4.618,1,      0.206,1,     -999.0,9,     -999.0,9,     -999.0,9,     -999.0,9,     -999.0,9,     -999.0,9,     -999.0,9,     -999.0,9,     -999.0,9,     -999.0,9,     -999.0,9,    15.7701,2,     -999.0,     -999.0,9,     -999.0
320620170820,        P06,     212,          1,         32,         32,2,20170918,       0602,   -32.5003,   -94.4335,       3866,    91.2,  15.9132,  34.6587,2,  34.6535,2, 246.5944,2, 246.4285,2,     0.0,2,    0.63,2,    0.07,2,    0.21,2,   2.415,2,   1.404,2,   1.5520,2,  2048.4,2,  2287.9,2,   7.9398,2,    25.00, -999.00,9, -999.00,9, -999.00,    63.0,2,    4.60,2,     -999.0,1,  -999.0,9, 20170918,      751, -32.5002, -94.4336,        0.0,1,      0.225,1,      4.597,1,      0.226,1,     -999.0,9,     -999.0,9,     -999.0,9,     -999.0,9,     -999.0,9,     -999.0,9,     -999.0,9,     -999.0,9,     -999.0,9,     -999.0,9,     -999.0,9,    15.8727,2,     -999.0,     -999.0,9,     -999.0
320620170820,        P06,     212,          1,         33,         33,2,20170918,       0602,   -32.5003,   -94.4335,       3866,    63.6,  15.9004,  34.6562,2,  34.6506,2, 246.2361,2, 246.4061,2,     0.0,2,    0.62,2,    0.07,2,    0.22,2,   2.425,2,   1.409,2,   1.6170,2,  2049.2,2,  2287.6,2,   7.9378,2,    25.00, -999.00,9, -999.00,9, -999.00,    59.5,2,    4.70,2,     -999.0,1,  -999.0,9, 20170918,      753, -32.5002, -94.4336,        0.0,1,      0.229,1,      4.597,1,      0.229,1,     -999.0,9,     -999.0,9,     -999.0,9,     -999.0,9,     -999.0,9,     -999.0,9,     -999.0,9,     -999.0,9,     -999.0,9,     -999.0,9,     -999.0,9,    15.8568,2,     -999.0,     -999.0,9,     -999.0
320620170820,        P06,     212,          1,         34,         34,2,20170918,       0602,   -32.5003,   -94.4335,       3866,    39.6,  15.8773,  34.6505,2,  34.6537,2, 246.5701,2, 246.6733,2,     0.0,2,    0.62,2,    0.07,2,    0.21,2,   2.420,2,   1.411,2,   1.5750,2,  2050.4,2,  2289.1,2,   7.9398,2,    25.00, -999.00,9, -999.00,9, -999.00,    59.6,2,    4.20,2,     -999.0,1,  -999.0,9, 20170918,      755, -32.5002, -94.4336,        0.0,1,      0.236,1,      4.597,1,      0.228,1,     -999.0,9,     -999.0,9,     -999.0,9,     -999.0,9,     -999.0,9,     -999.0,9,     -999.0,9,     -999.0,9,     -999.0,9,     -999.0,9,     -999.0,9,    15.8707,2,     -999.0,     -999.0,9,     -999.0
320620170820,        P06,     212,          1,         35,         35,2,20170918,       0602,   -32.5003,   -94.4335,       3866,    19.1,  15.8700,  34.6496,2,  34.6521,2, 246.9746,2, 246.2078,2,     0.0,2,    0.62,2,    0.07,2,    0.22,2,   2.439,2,   1.412,2,   1.6570,2,  2051.0,2,  2289.1,2,   7.9395,2,    25.00, -999.00,9, -999.00,9, -999.00,    60.4,2,    4.40,2,     -999.0,1,  -999.0,9, 20170918,      757, -32.5003, -94.4335,        0.0,1,      0.232,1,      4.597,1,      0.227,1,     -999.0,9,     -999.0,9,     -999.0,9,     -999.0,9,     -999.0,9,     -999.0,9,     -999.0,9,     -999.0,9,     -999.0,9,     -999.0,9,     -999.0,9,    15.8617,2,     -999.0,     -999.0,9,     -999.0
320620170820,        P06,     212,          1,         36,         36,2,20170918,       0602,   -32.5003,   -94.4335,       3866,     8.6,  15.8653,  34.6461,2,  34.6521,2, 246.5484,2,  247.451,2,     0.0,2,    0.61,2,    0.07,2,    0.23,2,   2.443,2,   1.411,2,   1.5760,2,  2050.0,6,  2290.3,2,   7.9389,2,    25.00, -999.00,9, -999.00,9, -999.00,    59.2,2,    4.70,2,     -999.0,1,  -999.0,9, 20170918,      759, -32.5003, -94.4335,        0.0,1,      0.232,1,      4.597,1,      0.217,1,     -999.0,9,     -999.0,9,     -999.0,9,     -999.0,9,     -999.0,9,     -999.0,9,     -999.0,9,     -999.0,9,     -999.0,9,     -999.0,9,     -999.0,9,    15.8699,2,     -999.0,     -999.0,9,     -999.0