BOTTLE,20240211CCHSIOCBG
EXPOCODE,SECT_ID,STNNBR,CASTNO,SAMPNO,BTLNBR,BTLNBR_FLAG_W,DATE,TIME,LATITUDE,LONGITUDE,DEPTH,CTDPRS,CTDTMP,CTDSAL,CTDSAL_FLAG_W,SALNTY,SALNTY_FLAG_W,CTDOXY,CTDOXY_FLAG_W,OXYGEN,OXYGEN_FLAG_W,SILCAT,SILCAT_FLAG_W,NITRAT,NITRAT_FLAG_W,NITRIT,NITRIT_FLAG_W,PHSPHT,PHSPHT_FLAG_W,CFC-11,CFC-11_FLAG_W,CFC-12,CFC-12_FLAG_W,SF6,SF6_FLAG_W,TCARBN,TCARBN_FLAG_W,ALKALI,ALKALI_FLAG_W,PH_TOT,PH_TOT_FLAG_W,PH_TMP,DELC13,DELC13_FLAG_W,DELC14,DELC14_FLAG_W,C14ERR,DOC,DOC_FLAG_W,TDN,TDN_FLAG_W,TON,TON_FLAG_W,D15N_NO3,D15N_NO3_FLAG_W,BTL_DATE,BTL_TIME,BTL_LAT,BTL_LON,CTDRINKO,CTDRINKO_FLAG_W,CTDFLUOR,CTDFLUOR_FLAG_W,CTDXMISS,CTDXMISS_FLAG_W,CTDBACKSCATTER,CTDBACKSCATTER_FLAG_W,D18O_NO3,D18O_NO3_FLAG_W,DOP,DOP_FLAG_W,CELLCOUNT,CELLCOUNT_FLAG_W,TDP,TDP_FLAG_W,POP,POP_FLAG_W,DATP,DATP_FLAG_W,PATP,PATP_FLAG_W,HPLC,HPLC_FLAG_W,POC,POC_FLAG_W,BEAMAP,BEAMAP_FLAG_W,DOC_NASA,DOC_NASA_FLAG_W,REFTMP,REFTMP_FLAG_W,DOC_NASA_ERROR,TDN_NASA,TDN_NASA_FLAG_W,TDN_NASA_ERROR
,,,,,,,,,,,METERS,DBAR,ITS-90,PSS-78,,PSS-78,,UMOL/KG,,UMOL/KG,,UMOL/KG,,UMOL/KG,,UMOL/KG,,UMOL/KG,,PMOL/KG,,PMOL/KG,,FMOL/KG,,UMOL/KG,,UMOL/KG,,,,DEG C,/MILLE,,/MILLE,,/MILLE,UMOL/KG,,UMOL/KG,,UMOL/KG,,/MILLE,,,,,,VOLTS,,VOLTS,,VOLTS,,VOLTS,,/MILLE,,UMOL/KG,,/LITER,,UMOL/KG,,UMOL/L,,PMOL/L,,PMOL/L,,,,UG/L,,/METER,,UMOL/L,,ITS-90,,UMOL/L,UMOL/L,,UMOL/L
320620170820,        P06,     181,          3,          1,          1,2,20170908,       2036,   -32.5007,  -118.0656,       3437,  3475.6,   1.7239,  34.6766,2,  34.6763,2, 166.4871,3, 168.7617,2,   122.5,2,   34.48,2,    0.00,2,    2.38,2,   0.031,2,   0.018,2,   0.0000,2,  2300.9,6,  2393.7,2,   7.5911,2,    25.00, -999.00,9, -999.00,9, -999.00,  -999.0,9, -999.00,9,     -999.0,9,  -999.0,1, 20170908,     2036, -32.5010,-118.0654,        0.0,1,      0.061,1,      4.691,1,      0.127,1,     -999.0,1,     -999.0,9,     -999.0,9,     -999.0,9,     -999.0,9,     -999.0,9,     -999.0,9,     -999.0,9,     -999.0,9,     -999.0,9,     -999.0,9,     1.7246,2,     -999.0,     -999.0,9,     -999.0
320620170820,        P06,     181,          3,          2,          2,2,20170908,       2036,   -32.5007,  -118.0656,       3437,  3399.3,   1.7159,  34.6767,2,  34.6777,2, 166.0582,2, 166.8303,2,   122.5,2,   34.49,2,    0.00,2,    2.40,2,   0.030,2,   0.021,2,   0.0000,2,  -999.0,9,  -999.0,9,-999.0000,9,  -999.00, -999.00,9, -999.00,9, -999.00,  -999.0,9, -999.00,9,     -999.0,9,  -999.0,1, 20170908,     2040, -32.5009,-118.0655,        0.0,1,      0.061,1,      4.691,1,      0.125,1,     -999.0,1,     -999.0,9,     -999.0,9,     -999.0,9,     -999.0,9,     -999.0,9,     -999.0,9,     -999.0,9,     -999.0,9,     -999.0,9,     -999.0,9,     1.7165,2,     -999.0,     -999.0,9,     -999.0
320620170820,        P06,     181,          3,          3,          3,2,20170908,       2036,   -32.5007,  -118.0656,       3437,  3311.1,   1.7081,  34.6767,2,  34.6773,2, 166.0582,2, 166.2705,2,   122.7,2,   34.49,2,    0.00,2,    2.39,2,   0.031,2,   0.020,2,   0.0000,2,  2300.9,2,  2394.7,2,   7.5898,2,    25.00, -999.00,9, -999.00,9, -999.00,  -999.0,9, -999.00,9,     -999.0,9,  -999.0,1, 20170908,     2044, -32.5007,-118.0657,        0.0,1,      0.061,1,      4.691,1,      0.125,1,     -999.0,1,     -999.0,9,     -999.0,9,     -999.0,9,     -999.0,9,     -999.0,9,     -999.0,9,     -999.0,9,     -999.0,9,     -999.0,9,     -999.0,9,     1.7087,2,     -999.0,     -999.0,9,     -999.0
320620170820,        P06,     181,          3,          4,          4,2,20170908,       2036,   -32.5007,  -118.0656,       3437,  3106.8,   1.6964,  34.6759,2,  34.6769,2, 166.0582,2, 165.9823,2,   123.1,2,   34.54,2,    0.00,2,    2.38,2,   0.032,2,   0.021,2,   0.0000,2,  -999.0,9,  -999.0,9,-999.0000,9,  -999.00, -999.00,9, -999.00,9, -999.00,  -999.0,9, -999.00,9,     -999.0,9,  -999.0,1, 20170908,     2049, -32.5005,-118.0658,        0.0,1,      0.061,1,      4.691,1,      0.125,1,     -999.0,1,     -999.0,9,     -999.0,9,     -999.0,9,     -999.0,9,     -999.0,9,     -999.0,9,     -999.0,9,     -999.0,9,     -999.0,9,     -999.0,9,     1.6961,2,     -999.0,     -999.0,9,     -999.0
320620170820,        P06,     181,          3,          5,          5,2,20170908,       2036,   -32.5007,  -118.0656,       3437,  2902.5,   1.7079,  34.6731,2,  34.6737,2, 165.6305,2, 164.8249,2,   121.9,2,   34.54,2,    0.00,2,    2.39,2,   0.031,2,   0.022,2,   0.0000,2,  2300.4,2,  2393.5,2,   7.5885,2,    25.00, -999.00,9, -999.00,9, -999.00,  -999.0,9, -999.00,9,     -999.0,9,  -999.0,1, 20170908,     2054, -32.5009,-118.0656,        0.0,1,      0.061,1,      4.692,1,      0.125,1,     -999.0,1,     -999.0,9,     -999.0,9,     -999.0,9,     -999.0,9,     -999.0,9,     -999.0,9,     -999.0,9,     -999.0,9,     -999.0,9,     -999.0,9,     1.7081,2,     -999.0,     -999.0,9,     -999.0
320620170820,        P06,     181,          3,          6,          6,2,20170908,       2036,   -32.5007,  -118.0656,       3437,  2699.9,   1.7455,  34.6687,2,  34.6690,2, 162.8876,2, 162.5955,2,   121.4,2,   34.77,2,    0.00,2,    2.41,2,   0.037,2,   0.023,2,   0.0000,2,  -999.0,9,  -999.0,9,-999.0000,9,  -999.00, -999.00,9, -999.00,9, -999.00,  -999.0,9, -999.00,9,     -999.0,9,  -999.0,1, 20170908,     2059, -32.5011,-118.0654,        0.0,1,      0.061,1,      4.693,1,      0.125,1,     -999.0,1,     -999.0,9,     -999.0,9,     -999.0,9,     -999.0,9,     -999.0,9,     -999.0,9,     -999.0,9,     -999.0,9,     -999.0,9,     -999.0,9,     1.7490,2,     -999.0,     -999.0,9,     -999.0
320620170820,        P06,     181,          3,          7,          7,2,20170908,       2036,   -32.5007,  -118.0656,       3437,  2492.7,   1.8106,  34.6623,2,  34.6620,2, 160.3527,2, 160.3094,2,   120.4,2,   34.90,2,    0.00,2,    2.41,2,   0.030,2,   0.021,2,   0.0000,2,  2301.8,2,  2392.6,2,   7.5810,6,    25.00, -999.00,9, -999.00,9, -999.00,  -999.0,9, -999.00,9,     -999.0,9,  -999.0,1, 20170908,     2104, -32.5011,-118.0654,        0.0,1,      0.060,1,      4.693,1,      0.126,1,     -999.0,1,     -999.0,9,     -999.0,9,     -999.0,9,     -999.0,9,     -999.0,9,     -999.0,9,     -999.0,9,     -999.0,9,     -999.0,9,     -999.0,9,     1.8146,2,     -999.0,     -999.0,9,     -999.0
320620170820,        P06,     181,          3,          8,          8,2,20170908,       2036,   -32.5007,  -118.0656,       3437,  2294.3,   1.9077,  34.6541,2,  34.6537,2,  157.809,2, 157.6166,2,   117.3,2,   35.02,2,    0.00,2,    2.42,2,   0.040,2,   0.027,2,   0.0000,2,  -999.0,9,  -999.0,9,-999.0000,9,  -999.00, -999.00,9, -999.00,9, -999.00,  -999.0,9, -999.00,9,     -999.0,9,  -999.0,1, 20170908,     2109, -32.5009,-118.0656,        0.0,1,      0.061,1,      4.693,1,      0.126,1,     -999.0,1,     -999.0,9,     -999.0,9,     -999.0,9,     -999.0,9,     -999.0,9,     -999.0,9,     -999.0,9,     -999.0,9,     -999.0,9,     -999.0,9,     1.9139,2,     -999.0,     -999.0,9,     -999.0
320620170820,        P06,     181,          3,          9,          9,2,20170908,       2036,   -32.5007,  -118.0656,       3437,  2089.1,   2.0309,  34.6413,2,  34.6409,2, 156.1912,2, 156.4084,2,   112.7,2,   35.06,2,    0.00,2,    2.43,2,   0.039,2,   0.026,2,   0.0000,2,  2298.5,6,  2384.3,2,   7.5743,2,    25.00, -999.00,9, -999.00,9, -999.00,  -999.0,9, -999.00,9,     -999.0,9,  -999.0,1, 20170908,     2114, -32.5009,-118.0656,        0.0,1,      0.061,1,      4.693,1,      0.126,1,     -999.0,1,     -999.0,9,     -999.0,9,     -999.0,9,     -999.0,9,     -999.0,9,     -999.0,9,     -999.0,9,     -999.0,9,     -999.0,9,     -999.0,9,     2.0357,2,     -999.0,     -999.0,9,     -999.0
320620170820,        P06,     181,          3,         10,         10,2,20170908,       2036,   -32.5007,  -118.0656,       3437,  1883.7,   2.1983,  34.6225,2,  34.6229,2,  156.585,2, 157.0716,2,   103.9,2,   34.97,2,    0.00,2,    2.40,2,   0.042,2,   0.030,2,   0.0000,2,  -999.0,9,  -999.0,9,-999.0000,9,  -999.00, -999.00,9, -999.00,9, -999.00,  -999.0,9, -999.00,9,     -999.0,9,  -999.0,1, 20170908,     2119, -32.5008,-118.0657,        0.0,1,      0.061,1,      4.693,1,      0.128,1,     -999.0,1,     -999.0,9,     -999.0,9,     -999.0,9,     -999.0,9,     -999.0,9,     -999.0,9,     -999.0,9,     -999.0,9,     -999.0,9,     -999.0,9,     2.2120,2,     -999.0,     -999.0,9,     -999.0
320620170820,        P06,     181,          3,         11,         11,2,20170908,       2036,   -32.5007,  -118.0656,       3437,  1753.4,   2.3185,  34.6050,2,  34.6030,2, 158.1791,2,  158.944,2,    97.7,2,   34.93,2,    0.00,2,    2.40,2,   0.050,2,   0.032,2,   0.0000,2,  2283.5,2,  2366.1,6,   7.5686,2,    25.00, -999.00,9, -999.00,9, -999.00,  -999.0,9, -999.00,9,     -999.0,9,  -999.0,1, 20170908,     2123, -32.5007,-118.0657,        0.0,1,      0.061,1,      4.693,1,      0.127,1,     -999.0,1,     -999.0,9,     -999.0,9,     -999.0,9,     -999.0,9,     -999.0,9,     -999.0,9,     -999.0,9,     -999.0,9,     -999.0,9,     -999.0,9,     2.3308,2,     -999.0,     -999.0,9,     -999.0
320620170820,        P06,     181,          3,         12,         12,2,20170908,       2036,   -32.5007,  -118.0656,       3437,  1651.2,   2.4433,  34.5842,2,  34.5810,2, 159.9556,2, 159.9854,2,    90.4,2,   34.83,2,    0.00,2,    2.40,2,   0.064,2,   0.041,2,   0.0000,2,  -999.0,9,  -999.0,9,-999.0000,9,  -999.00, -999.00,9, -999.00,9, -999.00,  -999.0,9, -999.00,9,     -999.0,9,  -999.0,1, 20170908,     2126, -32.5005,-118.0658,        0.0,1,      0.061,1,      4.693,1,      0.126,1,     -999.0,1,     -999.0,9,     -999.0,9,     -999.0,9,     -999.0,9,     -999.0,9,     -999.0,9,     -999.0,9,     -999.0,9,     -999.0,9,     -999.0,9,     2.4621,2,     -999.0,     -999.0,9,     -999.0
320620170820,        P06,     181,          3,         13,         13,2,20170908,       2036,   -32.5007,  -118.0656,       3437,  1550.8,   2.5994,  34.5552,2,  34.5525,2, 161.9113,2, 161.1699,2,    82.4,2,   34.82,2,    0.00,2,    2.39,2,   0.085,2,   0.050,2,   0.0000,2,  2267.6,2,  2348.5,2,   7.5631,2,    25.00, -999.00,9, -999.00,9, -999.00,  -999.0,9, -999.00,9,     -999.0,9,  -999.0,1, 20170908,     2129, -32.5006,-118.0658,        0.0,1,      0.062,1,      4.694,1,      0.127,1,     -999.0,1,     -999.0,9,     -999.0,9,     -999.0,9,     -999.0,9,     -999.0,9,     -999.0,9,     -999.0,9,     -999.0,9,     -999.0,9,     -999.0,9,     2.6126,2,     -999.0,     -999.0,9,     -999.0
320620170820,        P06,     181,          3,         14,         14,2,20170908,       2036,   -32.5007,  -118.0656,       3437,  1447.5,   2.8225,  34.5144,2,  34.5174,2, 162.7951,2, 162.1335,2,    75.0,2,   34.91,2,    0.00,2,    2.40,2,   0.121,2,   0.073,2,   0.0000,2,  -999.0,9,  -999.0,9,-999.0000,9,  -999.00, -999.00,9, -999.00,9, -999.00,  -999.0,9, -999.00,9,     -999.0,9,  -999.0,1, 20170908,     2132, -32.5009,-118.0657,        0.0,1,      0.061,1,      4.694,1,      0.129,1,     -999.0,1,     -999.0,9,     -999.0,9,     -999.0,9,     -999.0,9,     -999.0,9,     -999.0,9,     -999.0,9,     -999.0,9,     -999.0,9,     -999.0,9,     2.7986,2,     -999.0,     -999.0,9,     -999.0
320620170820,        P06,     181,          3,         15,         15,2,20170908,       2036,   -32.5007,  -118.0656,       3437,  1248.2,   3.3846,  34.4247,2,  34.4224,2, 165.9411,2, 165.7248,2,    57.0,2,   34.81,2,    0.00,2,    2.38,2,   0.257,2,   0.147,2,   0.0000,2,  2241.8,2,  2320.1,2,   7.5593,2,    25.00, -999.00,9, -999.00,9, -999.00,  -999.0,9, -999.00,9,     -999.0,9,  -999.0,1, 20170908,     2137, -32.5012,-118.0654,        0.0,1,      0.060,1,      4.693,1,      0.127,1,     -999.0,1,     -999.0,9,     -999.0,9,     -999.0,9,     -999.0,9,     -999.0,9,     -999.0,9,     -999.0,9,     -999.0,9,     -999.0,9,     -999.0,9,     3.3906,2,     -999.0,     -999.0,9,     -999.0
320620170820,        P06,     181,          3,         16,         16,2,20170908,       2036,   -32.5007,  -118.0656,       3437,  1042.3,   4.2222,  34.3255,2,  34.3239,2,  192.186,2, 192.6475,2,    33.7,2,   31.99,2,    0.00,2,    2.19,2,   0.843,2,   0.414,2,   0.1540,2,  -999.0,9,  -999.0,9,-999.0000,9,  -999.00, -999.00,9, -999.00,9, -999.00,  -999.0,9, -999.00,9,     -999.0,9,  -999.0,1, 20170908,     2142, -32.5010,-118.0655,        0.0,1,      0.060,1,      4.693,1,      0.129,1,     -999.0,1,     -999.0,9,     -999.0,9,     -999.0,9,     -999.0,9,     -999.0,9,     -999.0,9,     -999.0,9,     -999.0,9,     -999.0,9,     -999.0,9,     4.2255,2,     -999.0,     -999.0,9,     -999.0
320620170820,        P06,     181,          3,         17,         17,2,20170908,       2036,   -32.5007,  -118.0656,       3437,   941.1,   4.7420,  34.2971,2,  34.2974,2, 207.1626,2, 207.8686,2,    24.8,2,   30.01,2,    0.00,2,    2.02,2,   1.391,2,   0.675,2,   0.1510,2,  2186.3,2,  2288.3,2,   7.6308,2,    25.00, -999.00,9, -999.00,9, -999.00,  -999.0,9, -999.00,9,     -999.0,9,  -999.0,1, 20170908,     2145, -32.5008,-118.0657,        0.0,1,      0.059,1,      4.693,1,      0.128,1,     -999.0,1,     -999.0,9,     -999.0,9,     -999.0,9,     -999.0,9,     -999.0,9,     -999.0,9,     -999.0,9,     -999.0,9,     -999.0,9,     -999.0,9,     4.7009,2,     -999.0,     -999.0,9,     -999.0
320620170820,        P06,     181,          3,         18,         18,2,20170908,       2036,   -32.5007,  -118.0656,       3437,   842.0,   5.2169,  34.2832,2,  34.2807,3,  223.739,2, 224.3809,2,    16.3,2,   27.66,2,    0.00,2,    1.86,2,   2.133,2,   1.058,2,   0.3320,2,  -999.0,9,  -999.0,9,-999.0000,9,  -999.00, -999.00,9, -999.00,9, -999.00,  -999.0,9, -999.00,9,     -999.0,9,  -999.0,1, 20170908,     2148, -32.5006,-118.0657,        0.0,1,      0.059,1,      4.692,1,      0.129,1,     -999.0,1,     -999.0,9,     -999.0,9,     -999.0,9,     -999.0,9,     -999.0,9,     -999.0,9,     -999.0,9,     -999.0,9,     -999.0,9,     -999.0,9,     5.2618,2,     -999.0,     -999.0,9,     -999.0
320620170820,        P06,     181,          3,         19,         19,2,20170908,       2036,   -32.5007,  -118.0656,       3437,   740.5,   5.7625,  34.2858,2,  34.2844,2, 237.6257,2, 237.9016,2,    10.9,2,   25.37,2,    0.00,2,    1.70,2,   3.015,2,   1.441,2,   0.5600,2,  2157.6,2,  2277.0,2,   7.6875,2,    25.00, -999.00,9, -999.00,9, -999.00,  -999.0,9, -999.00,9,     -999.0,9,  -999.0,1, 20170908,     2152, -32.5006,-118.0656,        0.0,1,      0.060,1,      4.692,1,      0.130,1,     -999.0,1,     -999.0,9,     -999.0,9,     -999.0,9,     -999.0,9,     -999.0,9,     -999.0,9,     -999.0,9,     -999.0,9,     -999.0,9,     -999.0,9,     5.7717,2,     -999.0,     -999.0,9,     -999.0
320620170820,        P06,     181,          3,         20,         20,2,20170908,       2036,   -32.5007,  -118.0656,       3437,   640.2,   6.2834,  34.3087,2,  34.3060,2, 243.5801,2, 243.1213,2,     8.3,2,   23.80,2,    0.00,2,    1.59,2,   3.438,2,   1.733,2,   0.7650,2,  -999.0,9,  -999.0,9,-999.0000,9,  -999.00, -999.00,9, -999.00,9, -999.00,  -999.0,9, -999.00,9,     -999.0,9,  -999.0,1, 20170908,     2155, -32.5007,-118.0656,        0.0,1,      0.059,1,      4.692,1,      0.129,1,     -999.0,1,     -999.0,9,     -999.0,9,     -999.0,9,     -999.0,9,     -999.0,9,     -999.0,9,     -999.0,9,     -999.0,9,     -999.0,9,     -999.0,9,     6.2629,2,     -999.0,     -999.0,9,     -999.0
320620170820,        P06,     181,          3,         21,         21,2,20170908,       2036,   -32.5007,  -118.0656,       3437,   538.1,   6.7704,  34.3297,2,  34.3272,2, 241.6656,2, 240.5066,2,     6.7,2,   22.67,2,    0.00,2,    1.51,2,   3.598,2,   1.884,2,   0.9760,2,  2148.5,2,  2274.5,2,   7.7002,2,    25.00, -999.00,9, -999.00,9, -999.00,  -999.0,9, -999.00,9,     -999.0,9,  -999.0,1, 20170908,     2159, -32.5008,-118.0655,        0.0,1,      0.059,1,      4.691,1,      0.131,1,     -999.0,1,     -999.0,9,     -999.0,9,     -999.0,9,     -999.0,9,     -999.0,9,     -999.0,9,     -999.0,9,     -999.0,9,     -999.0,9,     -999.0,9,     6.7502,2,     -999.0,     -999.0,9,     -999.0
320620170820,        P06,     181,          3,         22,         22,2,20170908,       2036,   -32.5007,  -118.0656,       3437,   466.1,   7.4921,  34.3516,2,  34.3464,3, 238.8986,2, 237.6978,2,     5.3,2,   21.06,2,    0.00,2,    1.43,2,   3.573,2,   1.915,2,   1.1900,2,  -999.0,9,  -999.0,9,-999.0000,9,  -999.00, -999.00,9, -999.00,9, -999.00,  -999.0,9, -999.00,9,     -999.0,9,  -999.0,1, 20170908,     2202, -32.5009,-118.0655,        0.0,1,      0.059,1,      4.689,1,      0.133,1,     -999.0,1,     -999.0,9,     -999.0,9,     -999.0,9,     -999.0,9,     -999.0,9,     -999.0,9,     -999.0,9,     -999.0,9,     -999.0,9,     -999.0,9,     7.4507,2,     -999.0,     -999.0,9,     -999.0
320620170820,        P06,     181,          3,         23,         23,2,20170908,       2036,   -32.5007,  -118.0656,       3437,   415.9,   8.1920,  34.3651,2,  34.3629,2, 233.1845,2, 231.2909,2,     4.0,2,   19.38,2,    0.00,2,    1.32,2,   3.490,2,   1.887,2,   1.1650,2,  2140.6,2,  2273.0,2,   7.7184,2,    25.00, -999.00,9, -999.00,9, -999.00,  -999.0,9, -999.00,9,     -999.0,9,  -999.0,1, 20170908,     2204, -32.5009,-118.0654,        0.0,1,      0.059,1,      4.689,1,      0.132,1,     -999.0,1,     -999.0,9,     -999.0,9,     -999.0,9,     -999.0,9,     -999.0,9,     -999.0,9,     -999.0,9,     -999.0,9,     -999.0,9,     -999.0,9,     8.1491,2,     -999.0,     -999.0,9,     -999.0
320620170820,        P06,     181,          3,         24,         24,2,20170908,       2036,   -32.5007,  -118.0656,       3437,   314.3,  10.7236,  34.5087,2,  34.5015,2, 222.2477,2, 222.4178,2,     1.8,2,   13.47,2,    0.00,2,    0.96,2,   3.257,2,   1.767,2,   1.2440,2,  -999.0,9,  -999.0,9,-999.0000,9,  -999.00, -999.00,9, -999.00,9, -999.00,  -999.0,9, -999.00,9,     -999.0,9,  -999.0,1, 20170908,     2207, -32.5009,-118.0654,        0.0,1,      0.059,1,      4.685,1,      0.132,1,     -999.0,1,     -999.0,1,     -999.0,9,     -999.0,9,     -999.0,9,     -999.0,9,     -999.0,9,     -999.0,9,     -999.0,9,     -999.0,9,     -999.0,9,    10.5310,2,     -999.0,     -999.0,9,     -999.0
320620170820,        P06,     181,          3,         25,         25,2,20170908,       2036,   -32.5007,  -118.0656,       3437,   264.6,  12.1774,  34.5824,2,  34.5745,2, 225.2218,2, 227.2394,2,     0.8,2,    8.52,2,    0.00,2,    0.64,2,   2.955,2,   1.661,2,   1.4470,2,  2103.8,2,  2279.9,2,   7.8221,2,    25.00, -999.00,9, -999.00,9, -999.00,  -999.0,9, -999.00,9,     -999.0,9,  -999.0,1, 20170908,     2210, -32.5009,-118.0654,        0.0,1,      0.064,1,      4.681,1,      0.132,1,     -999.0,1,     -999.0,1,     -999.0,9,     -999.0,9,     -999.0,9,     -999.0,9,     -999.0,9,     -999.0,9,     -999.0,9,     -999.0,9,     -999.0,9,    12.1296,2,     -999.0,     -999.0,9,     -999.0
320620170820,        P06,     181,          3,         26,         26,2,20170908,       2036,   -32.5007,  -118.0656,       3437,   215.6,  13.8052,  34.6707,2,  34.6498,3, 231.5548,2, 232.8299,2,     0.2,2,    4.52,2,    0.11,2,    0.44,2,   2.740,2,   1.577,2,   1.5020,2,  2083.6,2,  2281.7,2,   7.8638,2,    25.00, -999.00,9, -999.00,9, -999.00,  -999.0,9, -999.00,9,     -999.0,9,  -999.0,1, 20170908,     2212, -32.5010,-118.0654,        0.0,1,      0.083,1,      4.674,1,      0.139,1,     -999.0,1,     -999.0,1,     -999.0,9,     -999.0,9,     -999.0,9,     -999.0,9,     -999.0,9,     -999.0,9,     -999.0,9,     -999.0,9,     -999.0,9,    13.5010,2,     -999.0,     -999.0,9,     -999.0