BOTTLE,20240211CCHSIOCBG
EXPOCODE,SECT_ID,STNNBR,CASTNO,SAMPNO,BTLNBR,BTLNBR_FLAG_W,DATE,TIME,LATITUDE,LONGITUDE,DEPTH,CTDPRS,CTDTMP,CTDSAL,CTDSAL_FLAG_W,SALNTY,SALNTY_FLAG_W,CTDOXY,CTDOXY_FLAG_W,OXYGEN,OXYGEN_FLAG_W,SILCAT,SILCAT_FLAG_W,NITRAT,NITRAT_FLAG_W,NITRIT,NITRIT_FLAG_W,PHSPHT,PHSPHT_FLAG_W,CFC-11,CFC-11_FLAG_W,CFC-12,CFC-12_FLAG_W,SF6,SF6_FLAG_W,TCARBN,TCARBN_FLAG_W,ALKALI,ALKALI_FLAG_W,PH_TOT,PH_TOT_FLAG_W,PH_TMP,DELC13,DELC13_FLAG_W,DELC14,DELC14_FLAG_W,C14ERR,DOC,DOC_FLAG_W,TDN,TDN_FLAG_W,TON,TON_FLAG_W,D15N_NO3,D15N_NO3_FLAG_W,BTL_DATE,BTL_TIME,BTL_LAT,BTL_LON,CTDRINKO,CTDRINKO_FLAG_W,CTDFLUOR,CTDFLUOR_FLAG_W,CTDXMISS,CTDXMISS_FLAG_W,CTDBACKSCATTER,CTDBACKSCATTER_FLAG_W,D18O_NO3,D18O_NO3_FLAG_W,DOP,DOP_FLAG_W,CELLCOUNT,CELLCOUNT_FLAG_W,TDP,TDP_FLAG_W,POP,POP_FLAG_W,DATP,DATP_FLAG_W,PATP,PATP_FLAG_W,HPLC,HPLC_FLAG_W,POC,POC_FLAG_W,BEAMAP,BEAMAP_FLAG_W,DOC_NASA,DOC_NASA_FLAG_W,REFTMP,REFTMP_FLAG_W,DOC_NASA_ERROR,TDN_NASA,TDN_NASA_FLAG_W,TDN_NASA_ERROR
,,,,,,,,,,,METERS,DBAR,ITS-90,PSS-78,,PSS-78,,UMOL/KG,,UMOL/KG,,UMOL/KG,,UMOL/KG,,UMOL/KG,,UMOL/KG,,PMOL/KG,,PMOL/KG,,FMOL/KG,,UMOL/KG,,UMOL/KG,,,,DEG C,/MILLE,,/MILLE,,/MILLE,UMOL/KG,,UMOL/KG,,UMOL/KG,,/MILLE,,,,,,VOLTS,,VOLTS,,VOLTS,,VOLTS,,/MILLE,,UMOL/KG,,/LITER,,UMOL/KG,,UMOL/L,,PMOL/L,,PMOL/L,,,,UG/L,,/METER,,UMOL/L,,ITS-90,,UMOL/L,UMOL/L,,UMOL/L
320620170820,        P06,     245,          1,         27,         27,2,20170928,       1503,   -32.5000,   -72.1955,       2189,    89.4,  11.0724,  34.2402,2,  34.1971,2, 135.6132,2, 142.4445,2,     7.0,2,   22.83,2,    0.04,2,    1.87,2,   2.572,2,   1.558,2,   1.0420,2,  -999.0,9,  -999.0,9,-999.0000,9,  -999.00, -999.00,9, -999.00,9, -999.00,  -999.0,9, -999.00,9,     -999.0,9,  -999.0,9, 20170928,     1623, -32.5000, -72.1954,        0.0,1,      0.073,1,      4.631,1,      0.187,1,     -999.0,9,     -999.0,9,     -999.0,1,     -999.0,1,     -999.0,1,     -999.0,1,     -999.0,1,     -999.0,9,     -999.0,9,     -999.0,9,     -999.0,9,    11.2153,2,     -999.0,     -999.0,9,     -999.0
320620170820,        P06,     245,          1,         28,         28,2,20170928,       1503,   -32.5000,   -72.1955,       2189,    64.2,  13.1711,  34.1752,2,  34.1736,2, 255.6343,2, 258.9172,2,     0.8,2,    6.31,2,    0.21,2,    0.83,2,   2.610,2,   1.471,2,   1.3180,2,  2080.2,2,  2273.9,2,   7.8565,2,    25.00, -999.00,9, -999.00,9, -999.00,  -999.0,9, -999.00,9,     -999.0,9,  -999.0,9, 20170928,     1625, -32.5000, -72.1954,        0.0,1,      0.247,1,      4.546,1,      0.237,1,     -999.0,9,     -999.0,9,     -999.0,1,     -999.0,1,     -999.0,1,     -999.0,1,     -999.0,1,     -999.0,9,     -999.0,9,     -999.0,9,     -999.0,9,    13.2607,2,     -999.0,     -999.0,9,     -999.0
320620170820,        P06,     245,          1,         29,         29,2,20170928,       1503,   -32.5000,   -72.1955,       2189,    29.2,  13.2715,  34.1396,2,-999.0000,9,  260.173,2,-999.0000,9,  -999.0,9, -999.00,9, -999.00,9, -999.00,9,-999.000,9,-999.000,9,-999.0000,9,  -999.0,9,  -999.0,9,-999.0000,9,  -999.00, -999.00,9, -999.00,9, -999.00,  -999.0,9, -999.00,9,     -999.0,9,  -999.0,9, 20170928,     1627, -32.5000, -72.1955,        0.0,1,      0.378,1,      4.496,1,      0.328,1,     -999.0,9,     -999.0,9,     -999.0,9,     -999.0,9,     -999.0,9,     -999.0,9,     -999.0,9,     -999.0,1,     -999.0,1,     -999.0,1,     -999.0,1,    13.2903,2,     -999.0,     -999.0,9,     -999.0
320620170820,        P06,     245,          1,         31,         31,2,20170928,       1503,   -32.5000,   -72.1955,       2189,    29.2,  13.2715,  34.1396,2,  34.1413,2, 266.1552,2, 271.4574,2,    -0.1,2,    4.49,2,    0.19,2,    0.68,2,   2.646,2,   1.464,2,   1.2730,2,  -999.0,9,  -999.0,9,-999.0000,9,  -999.00, -999.00,9, -999.00,9, -999.00,  -999.0,9, -999.00,9,     -999.0,9,  -999.0,9, 20170928,     1629, -32.5000, -72.1955,        0.0,1,      0.378,1,      4.496,1,      0.328,1,     -999.0,9,     -999.0,9,     -999.0,1,     -999.0,1,     -999.0,1,     -999.0,1,     -999.0,1,     -999.0,9,     -999.0,9,     -999.0,9,     -999.0,9,    13.2905,2,     -999.0,     -999.0,9,     -999.0
320620170820,        P06,     245,          1,         30,         30,2,20170928,       1503,   -32.5000,   -72.1955,       2189,    29.0,  13.2715,  34.1396,2,-999.0000,9, 260.7672,2,-999.0000,9,  -999.0,9, -999.00,9, -999.00,9, -999.00,9,-999.000,9,-999.000,9,-999.0000,9,  -999.0,9,  -999.0,9,-999.0000,9,  -999.00, -999.00,9, -999.00,9, -999.00,  -999.0,9, -999.00,9,     -999.0,9,  -999.0,9, 20170928,     1628, -32.5000, -72.1955,        0.0,1,      0.378,1,      4.496,1,      0.328,1,     -999.0,9,     -999.0,9,     -999.0,9,     -999.0,9,     -999.0,9,     -999.0,9,     -999.0,9,     -999.0,1,     -999.0,1,     -999.0,1,     -999.0,1,    13.2904,2,     -999.0,     -999.0,9,     -999.0
320620170820,        P06,     245,          1,         32,         32,2,20170928,       1503,   -32.5000,   -72.1955,       2189,    13.9,  13.3275,  34.1408,2,  34.1283,2, 261.4063,3, 272.2327,2,     0.0,2,    4.45,2,    0.20,2,    0.70,2,   2.521,2,   1.452,2,   1.2720,2,  -999.0,9,  -999.0,9,-999.0000,9,  -999.00, -999.00,9, -999.00,9, -999.00,  -999.0,9, -999.00,9,     -999.0,9,  -999.0,9, 20170928,     1631, -32.5000, -72.1955,        0.0,1,      0.251,1,      4.490,1,      0.262,1,     -999.0,9,     -999.0,9,     -999.0,1,     -999.0,1,     -999.0,1,     -999.0,1,     -999.0,1,     -999.0,9,     -999.0,9,     -999.0,9,     -999.0,9,    13.3826,2,     -999.0,     -999.0,9,     -999.0
320620170820,        P06,     245,          1,         33,         33,2,20170928,       1503,   -32.5000,   -72.1955,       2189,     4.1,  13.3458,  34.1020,2,-999.0000,9, 264.2844,2,-999.0000,9,  -999.0,9, -999.00,9, -999.00,9, -999.00,9,-999.000,9,-999.000,9,-999.0000,9,  -999.0,9,  -999.0,9,-999.0000,9,  -999.00, -999.00,9, -999.00,9, -999.00,  -999.0,9, -999.00,9,     -999.0,9,  -999.0,9, 20170928,     1632, -32.5000, -72.1955,        0.0,1,      0.228,1,      4.498,1,      0.254,1,     -999.0,9,     -999.0,9,     -999.0,9,     -999.0,9,     -999.0,9,     -999.0,9,     -999.0,9,     -999.0,1,     -999.0,1,     -999.0,1,     -999.0,1,    13.4533,2,     -999.0,     -999.0,9,     -999.0
320620170820,        P06,     245,          1,         34,         34,2,20170928,       1503,   -32.5000,   -72.1955,       2189,     4.0,  13.3458,  34.1020,2,  34.1311,2, 264.4005,2, 274.2705,2,     0.0,2,    4.33,2,    0.19,2,    0.66,2,   2.648,2,   1.430,2,   1.1980,2,  2060.0,2,  2272.2,2,   7.8977,2,    25.00, -999.00,9, -999.00,9, -999.00,  -999.0,9, -999.00,9,     -999.0,9,  -999.0,9, 20170928,     1633, -32.5000, -72.1955,        0.0,1,      0.228,1,      4.498,1,      0.254,1,     -999.0,9,     -999.0,9,     -999.0,9,     -999.0,9,     -999.0,9,     -999.0,9,     -999.0,9,     -999.0,9,     -999.0,9,     -999.0,9,     -999.0,9,    13.4564,2,     -999.0,     -999.0,9,     -999.0