BOTTLE,20240211CCHSIOCBG
EXPOCODE,SECT_ID,STNNBR,CASTNO,SAMPNO,BTLNBR,BTLNBR_FLAG_W,DATE,TIME,LATITUDE,LONGITUDE,DEPTH,CTDPRS,CTDTMP,CTDSAL,CTDSAL_FLAG_W,SALNTY,SALNTY_FLAG_W,CTDOXY,CTDOXY_FLAG_W,OXYGEN,OXYGEN_FLAG_W,SILCAT,SILCAT_FLAG_W,NITRAT,NITRAT_FLAG_W,NITRIT,NITRIT_FLAG_W,PHSPHT,PHSPHT_FLAG_W,CFC-11,CFC-11_FLAG_W,CFC-12,CFC-12_FLAG_W,SF6,SF6_FLAG_W,TCARBN,TCARBN_FLAG_W,ALKALI,ALKALI_FLAG_W,PH_TOT,PH_TOT_FLAG_W,PH_TMP,DELC13,DELC13_FLAG_W,DELC14,DELC14_FLAG_W,C14ERR,DOC,DOC_FLAG_W,TDN,TDN_FLAG_W,TON,TON_FLAG_W,D15N_NO3,D15N_NO3_FLAG_W,BTL_DATE,BTL_TIME,BTL_LAT,BTL_LON,CTDRINKO,CTDRINKO_FLAG_W,CTDFLUOR,CTDFLUOR_FLAG_W,CTDXMISS,CTDXMISS_FLAG_W,CTDBACKSCATTER,CTDBACKSCATTER_FLAG_W,D18O_NO3,D18O_NO3_FLAG_W,DOP,DOP_FLAG_W,CELLCOUNT,CELLCOUNT_FLAG_W,TDP,TDP_FLAG_W,POP,POP_FLAG_W,DATP,DATP_FLAG_W,PATP,PATP_FLAG_W,HPLC,HPLC_FLAG_W,POC,POC_FLAG_W,BEAMAP,BEAMAP_FLAG_W,DOC_NASA,DOC_NASA_FLAG_W,REFTMP,REFTMP_FLAG_W,DOC_NASA_ERROR,TDN_NASA,TDN_NASA_FLAG_W,TDN_NASA_ERROR
,,,,,,,,,,,METERS,DBAR,ITS-90,PSS-78,,PSS-78,,UMOL/KG,,UMOL/KG,,UMOL/KG,,UMOL/KG,,UMOL/KG,,UMOL/KG,,PMOL/KG,,PMOL/KG,,FMOL/KG,,UMOL/KG,,UMOL/KG,,,,DEG C,/MILLE,,/MILLE,,/MILLE,UMOL/KG,,UMOL/KG,,UMOL/KG,,/MILLE,,,,,,VOLTS,,VOLTS,,VOLTS,,VOLTS,,/MILLE,,UMOL/KG,,/LITER,,UMOL/KG,,UMOL/L,,PMOL/L,,PMOL/L,,,,UG/L,,/METER,,UMOL/L,,ITS-90,,UMOL/L,UMOL/L,,UMOL/L
320620170820,        P06,     184,          1,         27,         27,2,20170909,       1840,   -32.4995,  -115.5757,       3247,   160.0,  15.5839,  34.8402,2,  34.8456,2, 237.1252,2, 234.1692,2,     0.0,2,    0.72,2,    0.21,2,    0.20,2,   2.385,2,   1.445,2,   1.6760,2,  2063.2,2,  2291.7,2,   7.9185,2,    25.00, -999.00,9, -999.00,9, -999.00,    58.3,2,    4.70,2,     -999.0,1,  -999.0,1, 20170909,     2011, -32.4998,-115.5755,        0.0,1,      0.151,1,      4.659,1,      0.151,1,     -999.0,1,     -999.0,1,     -999.0,9,       0.49,2,     -999.0,9,     -999.0,9,     -999.0,9,     -999.0,9,     -999.0,9,     -999.0,9,     -999.0,9,    15.7459,2,     -999.0,     -999.0,9,     -999.0
320620170820,        P06,     184,          1,         30,         30,2,20170909,       1840,   -32.4995,  -115.5757,       3247,   130.6,  16.4076,  34.8400,2,-999.0000,9, 236.0591,2,-999.0000,9,  -999.0,9, -999.00,9, -999.00,9, -999.00,9,-999.000,9,-999.000,9,-999.0000,9,  -999.0,9,  -999.0,9,-999.0000,9,  -999.00, -999.00,9, -999.00,9, -999.00,  -999.0,9, -999.00,9,     -999.0,9,  -999.0,9, 20170909,     2015, -32.4996,-115.5756,        0.0,1,      0.197,1,      4.629,1,      0.180,1,     -999.0,9,     -999.0,9,     -999.0,9,     -999.0,9,     -999.0,9,     -999.0,9,     -999.0,9,     -999.0,1,     -999.0,1,     -999.0,1,69.37158669,6,    16.5123,2,1.906337532,48.41404485,6, 2.88897316
320620170820,        P06,     184,          1,         29,         29,2,20170909,       1840,   -32.4995,  -115.5757,       3247,   130.3,  16.4076,  34.8400,2,-999.0000,9, 236.2265,2,-999.0000,9,  -999.0,9, -999.00,9, -999.00,9, -999.00,9,-999.000,9,-999.000,9,-999.0000,9,  -999.0,9,  -999.0,9,-999.0000,9,  -999.00, -999.00,9, -999.00,9, -999.00,  -999.0,9, -999.00,9,     -999.0,9,  -999.0,9, 20170909,     2014, -32.4997,-115.5755,        0.0,1,      0.197,1,      4.629,1,      0.180,1,     -999.0,9,     -999.0,9,     -999.0,9,     -999.0,9,     -999.0,9,     -999.0,9,     -999.0,9,     -999.0,1,     -999.0,1,     -999.0,1,69.37158669,6,    16.5134,2,1.906337532,48.41404485,6, 2.88897316
320620170820,        P06,     184,          1,         28,         28,2,20170909,       1840,   -32.4995,  -115.5757,       3247,   130.0,  16.4076,  34.8400,2,  34.8275,2, 242.8893,2, 243.0994,2,     0.0,2,    0.00,2,    0.00,2,    0.09,2,   2.294,2,   1.371,2,   1.7850,2,  2046.0,2,  2289.3,3,   7.9499,3,    25.00, -999.00,9, -999.00,9, -999.00,    63.2,2,    4.10,2,     -999.0,1,  -999.0,1, 20170909,     2013, -32.4997,-115.5755,        0.0,1,      0.197,1,      4.629,1,      0.180,1,     -999.0,1,     -999.0,1,     -999.0,9,     -999.0,9,     -999.0,9,     -999.0,9,     -999.0,9,     -999.0,9,     -999.0,9,     -999.0,9,     -999.0,9,    16.5147,2,     -999.0,     -999.0,9,     -999.0
320620170820,        P06,     184,          1,         31,         31,2,20170909,       1840,   -32.4995,  -115.5757,       3247,   108.9,  16.7463,  34.8656,2,  34.8381,2, 243.4801,2, 243.4111,2,     0.0,2,    0.00,2,    0.00,2,    0.09,2,   2.303,2,   1.372,2,   1.7970,2,  2044.7,2,  2291.9,3,   7.9539,3,    25.00, -999.00,9, -999.00,9, -999.00,    60.2,2,    4.70,2,     -999.0,1,  -999.0,1, 20170909,     2017, -32.4996,-115.5756,        0.0,1,      0.113,1,      4.637,1,      0.172,1,     -999.0,1,     -999.0,1,     -999.0,9,       0.42,2,     -999.0,9,     -999.0,9,     -999.0,9,     -999.0,9,     -999.0,9,     -999.0,9,     -999.0,9,    16.6762,2,     -999.0,     -999.0,9,     -999.0
320620170820,        P06,     184,          1,         33,         33,2,20170909,       1840,   -32.4995,  -115.5757,       3247,    89.6,  16.5155,  34.7407,2,-999.0000,9,   238.81,2,-999.0000,9,  -999.0,9, -999.00,9, -999.00,9, -999.00,9,-999.000,9,-999.000,9,-999.0000,9,  -999.0,9,  -999.0,9,-999.0000,9,  -999.00, -999.00,9, -999.00,9, -999.00,  -999.0,9, -999.00,9,     -999.0,9,  -999.0,9, 20170909,     2019, -32.4995,-115.5756,        0.0,1,      0.110,1,      4.622,1,      0.189,1,     -999.0,9,     -999.0,9,     -999.0,9,     -999.0,9,     -999.0,9,     -999.0,9,     -999.0,9,     -999.0,1,     -999.0,1,     -999.0,1,66.09291303,6,    16.2920,2,1.273351441,52.01410669,6, 5.31995633
320620170820,        P06,     184,          1,         32,         32,2,20170909,       1840,   -32.4995,  -115.5757,       3247,    88.7,  16.5155,  34.7407,2,  34.6602,2, 245.7559,2, 246.1071,2,     0.0,2,    0.00,2,    0.00,2,    0.10,2,   2.330,2,   1.387,2,   1.7990,2,  2041.2,2,  2282.8,3,   7.9468,3,    25.00, -999.00,9, -999.00,9, -999.00,    62.2,2,    4.70,2,     -999.0,1,  -999.0,1, 20170909,     2019, -32.4996,-115.5756,        0.0,1,      0.110,1,      4.622,1,      0.189,1,     -999.0,1,     -999.0,1,     -999.0,9,     -999.0,9,     -999.0,9,     -999.0,9,     -999.0,9,     -999.0,9,     -999.0,9,     -999.0,9,     -999.0,9,    16.2830,2,     -999.0,     -999.0,9,     -999.0
320620170820,        P06,     184,          1,         34,         34,2,20170909,       1840,   -32.4995,  -115.5757,       3247,    58.4,  17.6783,  35.0132,2,  35.0216,2, 232.1566,2,  239.469,2,     0.0,2,    0.00,2,    0.00,2,    0.08,2,   2.186,2,   1.313,2,   1.5920,2,  2045.9,2,  2301.7,2,   7.9664,2,    25.00, -999.00,9, -999.00,9, -999.00,    66.8,2,    4.10,2,     -999.0,1,  -999.0,1, 20170909,     2022, -32.4994,-115.5757,        0.0,1,      0.069,1,      4.651,1,      0.158,1,     -999.0,1,     -999.0,1,     -999.0,9,       0.39,2,     -999.0,9,     -999.0,9,     -999.0,9,     -999.0,9,     -999.0,9,     -999.0,9,     -999.0,9,    17.6929,2,     -999.0,     -999.0,9,     -999.0
320620170820,        P06,     184,          1,         35,         35,2,20170909,       1840,   -32.4995,  -115.5757,       3247,    33.9,  18.4146,  35.1749,2,  35.1892,2, 228.2654,2, 234.9138,2,     0.0,2,    0.00,2,    0.00,2,    0.08,2,   2.034,2,   1.265,2,   1.5950,2,  2044.7,2,  2311.1,2,   7.9817,2,    25.00, -999.00,9, -999.00,9, -999.00,    63.9,2,    4.80,2,     -999.0,1,  -999.0,1, 20170909,     2024, -32.4995,-115.5757,        0.0,1,      0.064,1,      4.658,1,      0.146,1,     -999.0,1,     -999.0,1,     -999.0,9,       0.39,2,     -999.0,9,     -999.0,9,     -999.0,9,     -999.0,9,     -999.0,9,     -999.0,9,     -999.0,9,    18.5034,2,     -999.0,     -999.0,9,     -999.0
320620170820,        P06,     184,          1,         36,         36,2,20170909,       1840,   -32.4995,  -115.5757,       3247,     8.9,  18.4570,  35.1829,2,  35.1955,2, 228.1563,2, 234.8161,2,     0.0,2,    0.00,2,    0.00,2,    0.08,2,   2.120,2,   1.264,2,   1.5380,2,  2046.1,6,  2311.9,2,   7.9824,2,    25.00, -999.00,9, -999.00,9, -999.00,    64.6,2,    4.00,2,     -999.0,1,  -999.0,1, 20170909,     2026, -32.4995,-115.5757,        0.0,1,      0.060,1,      4.658,1,      0.146,1,     -999.0,1,     -999.0,1,     -999.0,9,       0.45,2,     -999.0,9,     -999.0,9,     -999.0,9,     -999.0,9,     -999.0,9,     -999.0,9,     -999.0,9,    18.5648,2,     -999.0,     -999.0,9,     -999.0