BOTTLE,20240211CCHSIOCBG
EXPOCODE,SECT_ID,STNNBR,CASTNO,SAMPNO,BTLNBR,BTLNBR_FLAG_W,DATE,TIME,LATITUDE,LONGITUDE,DEPTH,CTDPRS,CTDTMP,CTDSAL,CTDSAL_FLAG_W,SALNTY,SALNTY_FLAG_W,CTDOXY,CTDOXY_FLAG_W,OXYGEN,OXYGEN_FLAG_W,SILCAT,SILCAT_FLAG_W,NITRAT,NITRAT_FLAG_W,NITRIT,NITRIT_FLAG_W,PHSPHT,PHSPHT_FLAG_W,CFC-11,CFC-11_FLAG_W,CFC-12,CFC-12_FLAG_W,SF6,SF6_FLAG_W,TCARBN,TCARBN_FLAG_W,ALKALI,ALKALI_FLAG_W,PH_TOT,PH_TOT_FLAG_W,PH_TMP,DELC13,DELC13_FLAG_W,DELC14,DELC14_FLAG_W,C14ERR,DOC,DOC_FLAG_W,TDN,TDN_FLAG_W,TON,TON_FLAG_W,D15N_NO3,D15N_NO3_FLAG_W,BTL_DATE,BTL_TIME,BTL_LAT,BTL_LON,CTDRINKO,CTDRINKO_FLAG_W,CTDFLUOR,CTDFLUOR_FLAG_W,CTDXMISS,CTDXMISS_FLAG_W,CTDBACKSCATTER,CTDBACKSCATTER_FLAG_W,D18O_NO3,D18O_NO3_FLAG_W,DOP,DOP_FLAG_W,CELLCOUNT,CELLCOUNT_FLAG_W,TDP,TDP_FLAG_W,POP,POP_FLAG_W,DATP,DATP_FLAG_W,PATP,PATP_FLAG_W,HPLC,HPLC_FLAG_W,POC,POC_FLAG_W,BEAMAP,BEAMAP_FLAG_W,DOC_NASA,DOC_NASA_FLAG_W,REFTMP,REFTMP_FLAG_W,DOC_NASA_ERROR,TDN_NASA,TDN_NASA_FLAG_W,TDN_NASA_ERROR
,,,,,,,,,,,METERS,DBAR,ITS-90,PSS-78,,PSS-78,,UMOL/KG,,UMOL/KG,,UMOL/KG,,UMOL/KG,,UMOL/KG,,UMOL/KG,,PMOL/KG,,PMOL/KG,,FMOL/KG,,UMOL/KG,,UMOL/KG,,,,DEG C,/MILLE,,/MILLE,,/MILLE,UMOL/KG,,UMOL/KG,,UMOL/KG,,/MILLE,,,,,,VOLTS,,VOLTS,,VOLTS,,VOLTS,,/MILLE,,UMOL/KG,,/LITER,,UMOL/KG,,UMOL/L,,PMOL/L,,PMOL/L,,,,UG/L,,/METER,,UMOL/L,,ITS-90,,UMOL/L,UMOL/L,,UMOL/L
320620170820,        P06,     157,          1,         27,         27,2,20170830,       1812,   -32.5004,  -137.6988,       4650,   216.0,  14.5275,  35.0868,2,  35.0734,2, 213.7966,2, 215.4846,2,     0.5,2,    4.94,2,    0.00,2,    0.43,2,   2.663,2,   1.525,2,   1.5190,2,  2096.7,2,  2303.3,2,   7.8720,2,    25.00, -999.00,9, -999.00,9, -999.00,  -999.0,9, -999.00,9,     -999.0,9,  -999.0,1, 20170830,     1956, -32.5003,-137.6988,        0.0,1,      0.064,1,      4.684,1,      0.133,1,     -999.0,1,     -999.0,1,     -999.0,1,     -999.0,1,     -999.0,1,     -999.0,1,     -999.0,1,     -999.0,9,     -999.0,9,     -999.0,9,     -999.0,9,    14.4916,2,     -999.0,     -999.0,9,     -999.0
320620170820,        P06,     157,          1,         28,         28,2,20170830,       1812,   -32.5004,  -137.6988,       4650,   166.2,  15.7960,  35.2450,2,  35.2162,2, 214.7059,2, 216.4289,2,     0.2,2,    3.12,2,    0.02,2,    0.30,2,   2.367,2,   1.455,2,   1.5240,2,  2090.1,2,  2310.5,2,   7.8994,2,    25.00, -999.00,9, -999.00,9, -999.00,  -999.0,9, -999.00,9,     -999.0,9,  -999.0,1, 20170830,     1958, -32.5003,-137.6988,        0.0,1,      0.102,1,      4.672,1,      0.150,1,     -999.0,1,     -999.0,1,     -999.0,1,     -999.0,1,     -999.0,1,     -999.0,1,     -999.0,1,     -999.0,9,     -999.0,9,     -999.0,9,     -999.0,9,    15.5643,2,     -999.0,     -999.0,9,     -999.0
320620170820,        P06,     157,          1,         29,         29,2,20170830,       1812,   -32.5004,  -137.6988,       4650,   114.9,  17.0682,  35.2948,2,  35.3131,2, 238.5171,2, 238.1743,2,    -0.4,2,   -0.01,2,    0.00,2,    0.07,2,   2.224,2,   1.328,2,   1.6150,2,  2059.3,2,  2318.6,2,   7.9674,2,    25.00, -999.00,9, -999.00,9, -999.00,  -999.0,9, -999.00,9,     -999.0,9,  -999.0,1, 20170830,     2000, -32.5003,-137.6988,        0.0,1,      0.143,1,      4.640,1,      0.177,1,     -999.0,1,     -999.0,1,     -999.0,1,     -999.0,1,     -999.0,1,     -999.0,1,     -999.0,1,     -999.0,9,     -999.0,9,     -999.0,9,     -999.0,9,    17.1119,2,     -999.0,     -999.0,9,     -999.0
320620170820,        P06,     157,          1,         30,         30,2,20170830,       1812,   -32.5004,  -137.6988,       4650,    85.2,  17.0496,  35.2888,2,  35.3094,2, 238.7736,2, 237.3723,2,    -0.3,2,   -0.02,2,    0.00,2,    0.07,2,   2.153,2,   1.337,2,   1.5610,2,  2059.5,2,  2317.9,2,   7.9672,2,    25.00, -999.00,9, -999.00,9, -999.00,  -999.0,9, -999.00,9,     -999.0,9,  -999.0,1, 20170830,     2002, -32.5003,-137.6988,        0.0,1,      0.142,1,      4.639,1,      0.176,1,     -999.0,1,     -999.0,1,     -999.0,1,     -999.0,1,     -999.0,1,     -999.0,1,     -999.0,1,     -999.0,9,     -999.0,9,     -999.0,9,     -999.0,9,    17.1017,2,     -999.0,     -999.0,9,     -999.0
320620170820,        P06,     157,          1,         33,         33,2,20170830,       1812,   -32.5004,  -137.6988,       4650,    70.2,  17.0442,  35.2876,2,-999.0000,9, 231.2453,2,-999.0000,9,  -999.0,9, -999.00,9, -999.00,9, -999.00,9,-999.000,9,-999.000,9,-999.0000,9,  -999.0,9,  -999.0,9,-999.0000,9,  -999.00, -999.00,9, -999.00,9, -999.00,  -999.0,9, -999.00,9,     -999.0,9,  -999.0,9, 20170830,     2004, -32.5003,-137.6988,        0.0,1,      0.143,1,      4.639,1,      0.176,1,     -999.0,9,     -999.0,9,     -999.0,9,     -999.0,9,     -999.0,9,     -999.0,9,     -999.0,9,     -999.0,1,     -999.0,1,     -999.0,1,66.86394425,6,    17.0968,2, 2.75872407,44.07708392,6,9.431097469
320620170820,        P06,     157,          1,         31,         31,2,20170830,       1812,   -32.5004,  -137.6988,       4650,    69.9,  17.0422,  35.2870,2,  35.3072,2, 238.8533,2, 237.4543,2,    -0.1,2,   -0.01,2,    0.00,2,    0.07,2,   2.258,2,   1.348,2,   1.6520,2,  2058.7,2,  2317.5,2,   7.9670,2,    25.00, -999.00,9, -999.00,9, -999.00,  -999.0,9, -999.00,9,     -999.0,9,  -999.0,1, 20170830,     2003, -32.5003,-137.6988,        0.0,1,      0.141,1,      4.639,1,      0.178,1,     -999.0,1,     -999.0,1,     -999.0,1,     -999.0,1,     -999.0,1,     -999.0,1,     -999.0,1,     -999.0,9,     -999.0,9,     -999.0,9,     -999.0,9,    17.0963,2,     -999.0,     -999.0,9,     -999.0
320620170820,        P06,     157,          1,         32,         32,2,20170830,       1812,   -32.5004,  -137.6988,       4650,    68.7,  17.0422,  35.2870,2,-999.0000,9, 230.9804,2,-999.0000,9,  -999.0,9, -999.00,9, -999.00,9, -999.00,9,-999.000,9,-999.000,9,-999.0000,9,  -999.0,9,  -999.0,9,-999.0000,9,  -999.00, -999.00,9, -999.00,9, -999.00,  -999.0,9, -999.00,9,     -999.0,9,  -999.0,9, 20170830,     2004, -32.5003,-137.6988,        0.0,1,      0.141,1,      4.639,1,      0.178,1,     -999.0,9,     -999.0,9,     -999.0,9,     -999.0,9,     -999.0,9,     -999.0,9,     -999.0,9,     -999.0,1,     -999.0,1,     -999.0,1,66.86394425,6,     -999.0,5, 2.75872407,44.07708392,6,9.431097469
320620170820,        P06,     157,          1,         35,         35,2,20170830,       1812,   -32.5004,  -137.6988,       4650,    29.3,  17.0131,  35.2748,2,-999.0000,9, 232.2403,2,-999.0000,9,  -999.0,9, -999.00,9, -999.00,9, -999.00,9,-999.000,9,-999.000,9,-999.0000,9,  -999.0,9,  -999.0,9,-999.0000,9,  -999.00, -999.00,9, -999.00,9, -999.00,  -999.0,9, -999.00,9,     -999.0,9,  -999.0,9, 20170830,     2006, -32.5003,-137.6988,        0.0,1,      0.136,1,      4.639,1,      0.180,1,     -999.0,9,     -999.0,9,     -999.0,9,     -999.0,9,     -999.0,9,     -999.0,9,     -999.0,9,     -999.0,1,     -999.0,1,     -999.0,1,66.57957153,6,     -999.0,5,2.423158176,48.23045628,6,3.681075592
320620170820,        P06,     157,          1,         34,         34,2,20170830,       1812,   -32.5004,  -137.6988,       4650,    29.1,  17.0131,  35.2748,2,  35.2775,2, 238.5841,2,  238.299,2,    -0.1,2,   -0.01,2,    0.00,2,    0.08,2,   2.149,2,   1.343,2,   1.7780,2,  2057.8,2,  2315.3,2,   7.9649,2,    25.00, -999.00,9, -999.00,9, -999.00,  -999.0,9, -999.00,9,     -999.0,9,  -999.0,1, 20170830,     2006, -32.5003,-137.6988,        0.0,1,      0.136,1,      4.639,1,      0.180,1,     -999.0,1,     -999.0,1,     -999.0,1,     -999.0,1,     -999.0,1,     -999.0,1,     -999.0,1,     -999.0,9,     -999.0,9,     -999.0,9,     -999.0,9,    17.0158,2,     -999.0,     -999.0,9,     -999.0
320620170820,        P06,     157,          1,         36,         36,2,20170830,       1812,   -32.5004,  -137.6988,       4650,     3.5,  16.9836,  35.2273,2,  35.2278,2, 238.2395,2, 239.0114,2,     0.0,2,   -0.02,2,    0.00,2,    0.10,2,   2.240,2,   1.352,2,   1.6390,2,  2055.3,6,  2312.4,2,   7.9642,2,    25.00, -999.00,9, -999.00,9, -999.00,  -999.0,9, -999.00,9,     -999.0,9,  -999.0,1, 20170830,     2008, -32.5004,-137.6988,        0.0,1,      0.133,1,      4.639,1,      0.171,1,     -999.0,1,     -999.0,1,     -999.0,9,     -999.0,9,     -999.0,9,     -999.0,9,     -999.0,9,     -999.0,9,     -999.0,9,     -999.0,9,     -999.0,9,    16.8373,2,     -999.0,     -999.0,9,     -999.0