BOTTLE,20240211CCHSIOCBG
EXPOCODE,SECT_ID,STNNBR,CASTNO,SAMPNO,BTLNBR,BTLNBR_FLAG_W,DATE,TIME,LATITUDE,LONGITUDE,DEPTH,CTDPRS,CTDTMP,CTDSAL,CTDSAL_FLAG_W,SALNTY,SALNTY_FLAG_W,CTDOXY,CTDOXY_FLAG_W,OXYGEN,OXYGEN_FLAG_W,SILCAT,SILCAT_FLAG_W,NITRAT,NITRAT_FLAG_W,NITRIT,NITRIT_FLAG_W,PHSPHT,PHSPHT_FLAG_W,CFC-11,CFC-11_FLAG_W,CFC-12,CFC-12_FLAG_W,SF6,SF6_FLAG_W,TCARBN,TCARBN_FLAG_W,ALKALI,ALKALI_FLAG_W,PH_TOT,PH_TOT_FLAG_W,PH_TMP,DELC13,DELC13_FLAG_W,DELC14,DELC14_FLAG_W,C14ERR,DOC,DOC_FLAG_W,TDN,TDN_FLAG_W,TON,TON_FLAG_W,D15N_NO3,D15N_NO3_FLAG_W,BTL_DATE,BTL_TIME,BTL_LAT,BTL_LON,CTDRINKO,CTDRINKO_FLAG_W,CTDFLUOR,CTDFLUOR_FLAG_W,CTDXMISS,CTDXMISS_FLAG_W,CTDBACKSCATTER,CTDBACKSCATTER_FLAG_W,D18O_NO3,D18O_NO3_FLAG_W,DOP,DOP_FLAG_W,CELLCOUNT,CELLCOUNT_FLAG_W,TDP,TDP_FLAG_W,POP,POP_FLAG_W,DATP,DATP_FLAG_W,PATP,PATP_FLAG_W,HPLC,HPLC_FLAG_W,POC,POC_FLAG_W,BEAMAP,BEAMAP_FLAG_W,DOC_NASA,DOC_NASA_FLAG_W,REFTMP,REFTMP_FLAG_W,DOC_NASA_ERROR,TDN_NASA,TDN_NASA_FLAG_W,TDN_NASA_ERROR
,,,,,,,,,,,METERS,DBAR,ITS-90,PSS-78,,PSS-78,,UMOL/KG,,UMOL/KG,,UMOL/KG,,UMOL/KG,,UMOL/KG,,UMOL/KG,,PMOL/KG,,PMOL/KG,,FMOL/KG,,UMOL/KG,,UMOL/KG,,,,DEG C,/MILLE,,/MILLE,,/MILLE,UMOL/KG,,UMOL/KG,,UMOL/KG,,/MILLE,,,,,,VOLTS,,VOLTS,,VOLTS,,VOLTS,,/MILLE,,UMOL/KG,,/LITER,,UMOL/KG,,UMOL/L,,PMOL/L,,PMOL/L,,,,UG/L,,/METER,,UMOL/L,,ITS-90,,UMOL/L,UMOL/L,,UMOL/L
320620170820,        P06,     198,          2,         27,         27,2,20170913,       2030,   -32.4999,  -105.4964,       3277,   152.2,  16.3403,  34.8908,2,  34.9225,2, 226.4364,2, 232.5912,2,     0.2,2,    0.59,2,    0.21,2,    0.19,2,   2.296,2,   1.366,2,   1.3900,2,  2059.4,2,  2297.9,2,   7.9383,2,    25.00, -999.00,9, -999.00,9, -999.00,    57.8,2,    4.50,2,     -999.0,1,  -999.0,1, 20170913,     2205, -32.5002,-105.4961,        0.0,1,      0.121,1,      4.661,1,      0.146,1,     -999.0,1,     -999.0,1,     -999.0,9,     -999.0,9,     -999.0,9,     -999.0,9,     -999.0,9,     -999.0,9,     -999.0,9,     -999.0,9,     -999.0,9,    16.8214,2,     -999.0,     -999.0,9,     -999.0
320620170820,        P06,     198,          2,         30,         30,2,20170913,       2030,   -32.4999,  -105.4964,       3277,   121.0,  18.6556,  35.3786,2,  35.3638,2, 233.4516,2, 231.4245,2,     0.1,2,    0.02,2,    0.02,2,    0.10,2,   2.064,2,   1.246,2,   1.3230,2,  2062.1,2,  2325.7,2,   7.9792,6,    25.00, -999.00,9, -999.00,9, -999.00,    61.3,2,    4.10,2,     -999.0,1,  -999.0,1, 20170913,     2209, -32.5002,-105.4960,        0.0,1,      0.145,1,      4.646,1,      0.166,1,     -999.0,1,     -999.0,1,     -999.0,9,     -999.0,9,     -999.0,9,     -999.0,9,     -999.0,9,     -999.0,9,     -999.0,9,     -999.0,9,     -999.0,9,    18.6295,2,     -999.0,     -999.0,9,     -999.0
320620170820,        P06,     198,          2,         29,         29,2,20170913,       2030,   -32.4999,  -105.4964,       3277,   120.4,  18.6556,  35.3786,2,-999.0000,9, 223.7473,2,-999.0000,9,  -999.0,9, -999.00,9, -999.00,9, -999.00,9,-999.000,9,-999.000,9,-999.0000,9,  -999.0,9,  -999.0,9,-999.0000,9,  -999.00, -999.00,9, -999.00,9, -999.00,  -999.0,9, -999.00,9,     -999.0,9,  -999.0,9, 20170913,     2208, -32.5002,-105.4961,        0.0,1,      0.145,1,      4.646,1,      0.166,1,     -999.0,9,     -999.0,9,     -999.0,9,     -999.0,9,     -999.0,9,     -999.0,9,     -999.0,9,     -999.0,9,     -999.0,9,     -999.0,9,67.36848689,6,    18.6173,2,1.041796278,53.41358051,6,1.909843759
320620170820,        P06,     198,          2,         28,         28,2,20170913,       2030,   -32.4999,  -105.4964,       3277,   120.0,  18.6556,  35.3786,2,-999.0000,9, 223.7733,2,-999.0000,9,  -999.0,9, -999.00,9, -999.00,9, -999.00,9,-999.000,9,-999.000,9,-999.0000,9,  -999.0,9,  -999.0,9,-999.0000,9,  -999.00, -999.00,9, -999.00,9, -999.00,  -999.0,9, -999.00,9,     -999.0,9,  -999.0,9, 20170913,     2207, -32.5002,-105.4961,        0.0,1,      0.145,1,      4.646,1,      0.166,1,     -999.0,9,     -999.0,9,     -999.0,9,     -999.0,9,     -999.0,9,     -999.0,9,     -999.0,9,     -999.0,9,     -999.0,9,     -999.0,9,67.36848689,6,    18.6198,2,1.041796278,53.41358051,6,1.909843759
320620170820,        P06,     198,          2,         31,         31,2,20170913,       2030,   -32.4999,  -105.4964,       3277,   101.1,  18.5905,  35.3470,2,  35.3372,2, 234.5504,2, 233.0864,2,     0.1,2,    0.01,2,    0.00,2,    0.09,2,   2.074,2,   1.248,2,   1.4200,2,  2055.4,2,  2323.3,2,   7.9805,2,    25.00, -999.00,9, -999.00,9, -999.00,    65.4,2,    4.20,2,     -999.0,1,  -999.0,1, 20170913,     2210, -32.5002,-105.4960,        0.0,1,      0.115,1,      4.641,1,      0.172,1,     -999.0,1,     -999.0,1,     -999.0,9,     -999.0,9,     -999.0,9,     -999.0,9,     -999.0,9,     -999.0,9,     -999.0,9,     -999.0,9,     -999.0,9,    18.5760,2,     -999.0,     -999.0,9,     -999.0
320620170820,        P06,     198,          2,         33,         33,2,20170913,       2030,   -32.4999,  -105.4964,       3277,    75.9,  18.4172,  35.2610,2,  35.1819,2, 235.2011,2, 235.9121,2,     0.0,2,    0.01,2,    0.00,2,    0.10,2,   2.113,2,   1.260,2,   1.3550,2,  2054.1,2,  2314.7,2,   7.9750,2,    25.00, -999.00,9, -999.00,9, -999.00,    65.7,2,    4.10,2,     -999.0,1,  -999.0,1, 20170913,     2213, -32.5001,-105.4961,        0.0,1,      0.118,1,      4.636,1,      0.173,1,     -999.0,1,     -999.0,1,     -999.0,9,     -999.0,9,     -999.0,9,     -999.0,9,     -999.0,9,     -999.0,9,     -999.0,9,     -999.0,9,     -999.0,9,    18.1879,2,     -999.0,     -999.0,9,     -999.0
320620170820,        P06,     198,          2,         32,         32,2,20170913,       2030,   -32.4999,  -105.4964,       3277,    75.9,  18.4172,  35.2610,2,-999.0000,9,  228.441,2,-999.0000,9,  -999.0,9, -999.00,9, -999.00,9, -999.00,9,-999.000,9,-999.000,9,-999.0000,9,  -999.0,9,  -999.0,9,-999.0000,9,  -999.00, -999.00,9, -999.00,9, -999.00,  -999.0,9, -999.00,9,     -999.0,9,  -999.0,9, 20170913,     2212, -32.5001,-105.4960,        0.0,1,      0.118,1,      4.636,1,      0.173,1,     -999.0,9,     -999.0,9,     -999.0,9,     -999.0,9,     -999.0,9,     -999.0,9,     -999.0,9,     -999.0,9,     -999.0,9,     -999.0,9,69.01761212,6,    18.1981,2,0.051121387,55.41726437,6,11.60511931
320620170820,        P06,     198,          2,         34,         34,2,20170913,       2030,   -32.4999,  -105.4964,       3277,    50.1,  17.9116,  35.0719,2,  35.0374,2, 236.3017,2, 238.8947,2,     0.0,2,    0.00,2,    0.00,2,    0.11,2,   2.150,2,   1.288,2,   1.4100,2,  2051.0,2,  2308.3,6,   7.9698,2,    25.00, -999.00,9, -999.00,9, -999.00,    68.3,2,    4.10,2,     -999.0,1,  -999.0,1, 20170913,     2215, -32.5000,-105.4963,        0.0,1,      0.078,1,      4.637,1,      0.174,1,     -999.0,1,     -999.0,1,     -999.0,9,     -999.0,9,     -999.0,9,     -999.0,9,     -999.0,9,     -999.0,9,     -999.0,9,     -999.0,9,     -999.0,9,    17.7999,2,     -999.0,     -999.0,9,     -999.0
320620170820,        P06,     198,          2,         35,         35,2,20170913,       2030,   -32.4999,  -105.4964,       3277,    24.6,  17.8810,  35.0593,2,  35.0364,2, 236.8136,2, 239.0588,2,     0.0,2,    0.00,2,    0.00,2,    0.11,2,   2.143,2,   1.285,2,   1.3870,2,  -999.0,9,  -999.0,9,-999.0000,9,  -999.00, -999.00,9, -999.00,9, -999.00,    65.5,2,    5.20,2,     -999.0,1,  -999.0,1, 20170913,     2217, -32.4999,-105.4965,        0.0,1,      0.070,1,      4.638,1,      0.172,1,     -999.0,1,     -999.0,1,     -999.0,9,     -999.0,9,     -999.0,9,     -999.0,9,     -999.0,9,     -999.0,9,     -999.0,9,     -999.0,9,     -999.0,9,    17.8382,2,     -999.0,     -999.0,9,     -999.0
320620170820,        P06,     198,          2,         36,         36,2,20170913,       2030,   -32.4999,  -105.4964,       3277,     4.2,  17.9049,  35.0569,2,  35.0348,2, 236.4193,2, 239.3706,2,     0.0,2,    0.00,2,    0.00,2,    0.12,2,   2.155,2,   1.281,2,   1.4300,2,  2047.8,6,  2306.1,2,   7.9691,2,    25.00, -999.00,9, -999.00,9, -999.00,    68.2,2,    4.60,2,     -999.0,1,  -999.0,1, 20170913,     2219, -32.4999,-105.4964,        0.0,1,      0.063,1,      4.639,1,      0.169,1,     -999.0,1,     -999.0,1,     -999.0,9,     -999.0,9,     -999.0,9,     -999.0,9,     -999.0,9,     -999.0,9,     -999.0,9,     -999.0,9,     -999.0,9,    17.8388,2,     -999.0,     -999.0,9,     -999.0