BOTTLE,20240211CCHSIOCBG
EXPOCODE,SECT_ID,STNNBR,CASTNO,SAMPNO,BTLNBR,BTLNBR_FLAG_W,DATE,TIME,LATITUDE,LONGITUDE,DEPTH,CTDPRS,CTDTMP,CTDSAL,CTDSAL_FLAG_W,SALNTY,SALNTY_FLAG_W,CTDOXY,CTDOXY_FLAG_W,OXYGEN,OXYGEN_FLAG_W,SILCAT,SILCAT_FLAG_W,NITRAT,NITRAT_FLAG_W,NITRIT,NITRIT_FLAG_W,PHSPHT,PHSPHT_FLAG_W,CFC-11,CFC-11_FLAG_W,CFC-12,CFC-12_FLAG_W,SF6,SF6_FLAG_W,TCARBN,TCARBN_FLAG_W,ALKALI,ALKALI_FLAG_W,PH_TOT,PH_TOT_FLAG_W,PH_TMP,DELC13,DELC13_FLAG_W,DELC14,DELC14_FLAG_W,C14ERR,DOC,DOC_FLAG_W,TDN,TDN_FLAG_W,TON,TON_FLAG_W,D15N_NO3,D15N_NO3_FLAG_W,BTL_DATE,BTL_TIME,BTL_LAT,BTL_LON,CTDRINKO,CTDRINKO_FLAG_W,CTDFLUOR,CTDFLUOR_FLAG_W,CTDXMISS,CTDXMISS_FLAG_W,CTDBACKSCATTER,CTDBACKSCATTER_FLAG_W,D18O_NO3,D18O_NO3_FLAG_W,DOP,DOP_FLAG_W,CELLCOUNT,CELLCOUNT_FLAG_W,TDP,TDP_FLAG_W,POP,POP_FLAG_W,DATP,DATP_FLAG_W,PATP,PATP_FLAG_W,HPLC,HPLC_FLAG_W,POC,POC_FLAG_W,BEAMAP,BEAMAP_FLAG_W,DOC_NASA,DOC_NASA_FLAG_W,REFTMP,REFTMP_FLAG_W,DOC_NASA_ERROR,TDN_NASA,TDN_NASA_FLAG_W,TDN_NASA_ERROR
,,,,,,,,,,,METERS,DBAR,ITS-90,PSS-78,,PSS-78,,UMOL/KG,,UMOL/KG,,UMOL/KG,,UMOL/KG,,UMOL/KG,,UMOL/KG,,PMOL/KG,,PMOL/KG,,FMOL/KG,,UMOL/KG,,UMOL/KG,,,,DEG C,/MILLE,,/MILLE,,/MILLE,UMOL/KG,,UMOL/KG,,UMOL/KG,,/MILLE,,,,,,VOLTS,,VOLTS,,VOLTS,,VOLTS,,/MILLE,,UMOL/KG,,/LITER,,UMOL/KG,,UMOL/L,,PMOL/L,,PMOL/L,,,,UG/L,,/METER,,UMOL/L,,ITS-90,,UMOL/L,UMOL/L,,UMOL/L
320620170820,        P06,     215,          1,         27,         27,2,20170919,       0705,   -32.4999,   -91.7654,       3444,   286.9,  10.2879,  34.2289,2,  34.2375,2, 210.0539,2, 208.9198,2,     1.8,2,   16.51,2,    0.00,2,    1.18,2,-999.000,5,-999.000,5,-999.0000,5,  2120.5,2,  2265.3,6,   7.7330,2,    25.00, -999.00,9, -999.00,9, -999.00,  -999.0,9, -999.00,9,     -999.0,9,  -999.0,9, 20170919,      837, -32.4999, -91.7655,        0.0,1,      0.060,1,      4.677,1,      0.134,1,     -999.0,9,     -999.0,9,     -999.0,9,     -999.0,9,     -999.0,9,     -999.0,9,     -999.0,9,     -999.0,9,     -999.0,9,     -999.0,9,     -999.0,9,    10.5662,2,     -999.0,     -999.0,9,     -999.0
320620170820,        P06,     215,          1,         28,         28,2,20170919,       0705,   -32.4999,   -91.7654,       3444,   235.1,  12.5612,  34.3409,2,  34.3297,2, 214.8947,2, 214.9324,2,     0.3,2,   10.80,2,    0.02,2,    0.82,2,-999.000,5,-999.000,5,-999.0000,5,  -999.0,9,  -999.0,9,-999.0000,9,  -999.00, -999.00,9, -999.00,9, -999.00,  -999.0,9, -999.00,9,     -999.0,9,  -999.0,9, 20170919,      839, -32.4999, -91.7655,        0.0,1,      0.067,1,      4.672,1,      0.140,1,     -999.0,9,     -999.0,9,     -999.0,9,     -999.0,9,     -999.0,9,     -999.0,9,     -999.0,9,     -999.0,9,     -999.0,9,     -999.0,9,     -999.0,9,    12.7820,2,     -999.0,     -999.0,9,     -999.0
320620170820,        P06,     215,          1,         29,         29,2,20170919,       0705,   -32.4999,   -91.7654,       3444,   185.1,  16.1646,  34.7754,2,  34.7811,2, 243.0436,2, 242.9135,2,     0.0,2,    0.80,2,    0.05,2,    0.23,2,-999.000,5,-999.000,5,-999.0000,5,  2054.7,2,  2300.3,2,   7.9408,6,    25.00, -999.00,9, -999.00,9, -999.00,  -999.0,9, -999.00,9,     -999.0,9,  -999.0,9, 20170919,      841, -32.4998, -91.7655,        0.0,1,      0.155,1,      4.628,1,      0.206,1,     -999.0,9,     -999.0,9,     -999.0,9,     -999.0,9,     -999.0,9,     -999.0,9,     -999.0,9,     -999.0,9,     -999.0,9,     -999.0,9,     -999.0,9,    16.1854,2,     -999.0,     -999.0,9,     -999.0
320620170820,        P06,     215,          1,         30,         30,2,20170919,       0705,   -32.4999,   -91.7654,       3444,   139.3,  16.1674,  34.7771,2,  34.7842,2, 242.9916,2, 242.9702,2,     0.0,2,    0.77,2,    0.05,2,    0.23,2,   2.384,4,   1.205,4,-999.0000,5,  -999.0,9,  -999.0,9,-999.0000,9,  -999.00, -999.00,9, -999.00,9, -999.00,  -999.0,9, -999.00,9,     -999.0,9,  -999.0,9, 20170919,      843, -32.4998, -91.7655,        0.0,1,      0.159,1,      4.627,1,      0.206,1,     -999.0,9,     -999.0,9,     -999.0,9,     -999.0,9,     -999.0,9,     -999.0,9,     -999.0,9,     -999.0,9,     -999.0,9,     -999.0,9,     -999.0,9,    16.1883,2,     -999.0,     -999.0,9,     -999.0
320620170820,        P06,     215,          1,         31,         31,2,20170919,       0705,   -32.4999,   -91.7654,       3444,   114.8,  16.1306,  34.7672,2,  34.7836,2, 242.9616,2, 242.9706,2,     0.0,2,    0.77,2,    0.05,2,    0.23,2,   2.381,4,   1.178,4,-999.0000,5,  2057.7,2,  2298.2,2,   7.9400,2,    25.00, -999.00,9, -999.00,9, -999.00,  -999.0,9, -999.00,9,     -999.0,9,  -999.0,9, 20170919,      844, -32.4998, -91.7656,        0.0,1,      0.180,1,      4.618,1,      0.210,1,     -999.0,9,     -999.0,9,     -999.0,9,     -999.0,9,     -999.0,9,     -999.0,9,     -999.0,9,     -999.0,9,     -999.0,9,     -999.0,9,     -999.0,9,    16.1802,2,     -999.0,     -999.0,9,     -999.0
320620170820,        P06,     215,          1,         32,         32,2,20170919,       0705,   -32.4999,   -91.7654,       3444,    89.1,  16.1340,  34.7692,2,  34.7860,2, 242.9783,2, 242.8655,2,     0.0,2,    0.76,2,    0.06,2,    0.23,2,   2.375,4,   1.173,4,-999.0000,5,  -999.0,9,  -999.0,9,-999.0000,9,  -999.00, -999.00,9, -999.00,9, -999.00,  -999.0,9, -999.00,9,     -999.0,9,  -999.0,9, 20170919,      846, -32.4998, -91.7656,        0.0,1,      0.180,1,      4.619,1,      0.208,1,     -999.0,9,     -999.0,9,     -999.0,9,     -999.0,9,     -999.0,9,     -999.0,9,     -999.0,9,     -999.0,9,     -999.0,9,     -999.0,9,     -999.0,9,    16.1917,2,     -999.0,     -999.0,9,     -999.0
320620170820,        P06,     215,          1,         33,         33,2,20170919,       0705,   -32.4999,   -91.7654,       3444,    64.8,  16.1268,  34.7682,2,  34.7860,2, 242.9812,2, 242.8379,2,     0.0,2,    0.75,2,    0.06,2,    0.24,2,   2.368,4,   1.195,4,-999.0000,5,  2057.1,2,  2298.0,2,   7.9403,2,    25.00, -999.00,9, -999.00,9, -999.00,  -999.0,9, -999.00,9,     -999.0,9,  -999.0,9, 20170919,      847, -32.4998, -91.7657,        0.0,1,      0.169,1,      4.619,1,      0.217,1,     -999.0,9,     -999.0,9,     -999.0,9,     -999.0,9,     -999.0,9,     -999.0,9,     -999.0,9,     -999.0,9,     -999.0,9,     -999.0,9,     -999.0,9,    16.1870,2,     -999.0,     -999.0,9,     -999.0
320620170820,        P06,     215,          1,         34,         34,2,20170919,       0705,   -32.4999,   -91.7654,       3444,    40.7,  16.1112,  34.7655,2,  34.7846,2, 242.9783,2, 242.9682,2,     0.0,2,    0.77,2,    0.05,2,    0.23,2,   2.387,4,   1.217,4,-999.0000,5,  2059.1,2,  2299.0,2,   7.9407,2,    25.00, -999.00,9, -999.00,9, -999.00,  -999.0,9, -999.00,9,     -999.0,9,  -999.0,9, 20170919,      849, -32.4998, -91.7656,        0.0,1,      0.172,1,      4.618,1,      0.206,1,     -999.0,9,     -999.0,9,     -999.0,9,     -999.0,9,     -999.0,9,     -999.0,9,     -999.0,9,     -999.0,9,     -999.0,9,     -999.0,9,     -999.0,9,    16.1778,2,     -999.0,     -999.0,9,     -999.0
320620170820,        P06,     215,          1,         35,         35,2,20170919,       0705,   -32.4999,   -91.7654,       3444,    20.6,  16.1039,  34.7657,2,  34.7858,2, 242.9911,2, 242.6714,2,     0.0,2,    0.75,2,    0.06,2,    0.23,2,   2.413,4,   1.212,4,-999.0000,5,  2060.2,2,  2298.9,2,   7.9408,2,    25.00, -999.00,9, -999.00,9, -999.00,  -999.0,9, -999.00,9,     -999.0,9,  -999.0,9, 20170919,      851, -32.4998, -91.7655,        0.0,1,      0.176,1,      4.618,1,      0.208,1,     -999.0,9,     -999.0,9,     -999.0,9,     -999.0,9,     -999.0,9,     -999.0,9,     -999.0,9,     -999.0,9,     -999.0,9,     -999.0,9,     -999.0,9,    16.1766,2,     -999.0,     -999.0,9,     -999.0
320620170820,        P06,     215,          1,         36,         36,2,20170919,       0705,   -32.4999,   -91.7654,       3444,     6.9,  16.0990,  34.7659,2,  34.7850,2, 242.9916,2, 243.8406,2,     0.0,2,    0.76,2,    0.06,2,    0.23,2,   2.386,4,   1.214,4,-999.0000,5,  2055.6,6,  2301.2,2,   7.9393,2,    25.00, -999.00,9, -999.00,9, -999.00,  -999.0,9, -999.00,9,     -999.0,9,  -999.0,9, 20170919,      852, -32.4999, -91.7654,        0.0,1,      0.174,1,      4.616,1,      0.203,1,     -999.0,9,     -999.0,9,     -999.0,9,     -999.0,9,     -999.0,9,     -999.0,9,     -999.0,9,     -999.0,9,     -999.0,9,     -999.0,9,     -999.0,9,    16.1683,2,     -999.0,     -999.0,9,     -999.0