BOTTLE,20240211CCHSIOCBG
EXPOCODE,SECT_ID,STNNBR,CASTNO,SAMPNO,BTLNBR,BTLNBR_FLAG_W,DATE,TIME,LATITUDE,LONGITUDE,DEPTH,CTDPRS,CTDTMP,CTDSAL,CTDSAL_FLAG_W,SALNTY,SALNTY_FLAG_W,CTDOXY,CTDOXY_FLAG_W,OXYGEN,OXYGEN_FLAG_W,SILCAT,SILCAT_FLAG_W,NITRAT,NITRAT_FLAG_W,NITRIT,NITRIT_FLAG_W,PHSPHT,PHSPHT_FLAG_W,CFC-11,CFC-11_FLAG_W,CFC-12,CFC-12_FLAG_W,SF6,SF6_FLAG_W,TCARBN,TCARBN_FLAG_W,ALKALI,ALKALI_FLAG_W,PH_TOT,PH_TOT_FLAG_W,PH_TMP,DELC13,DELC13_FLAG_W,DELC14,DELC14_FLAG_W,C14ERR,DOC,DOC_FLAG_W,TDN,TDN_FLAG_W,TON,TON_FLAG_W,D15N_NO3,D15N_NO3_FLAG_W,BTL_DATE,BTL_TIME,BTL_LAT,BTL_LON,CTDRINKO,CTDRINKO_FLAG_W,CTDFLUOR,CTDFLUOR_FLAG_W,CTDXMISS,CTDXMISS_FLAG_W,CTDBACKSCATTER,CTDBACKSCATTER_FLAG_W,D18O_NO3,D18O_NO3_FLAG_W,DOP,DOP_FLAG_W,CELLCOUNT,CELLCOUNT_FLAG_W,TDP,TDP_FLAG_W,POP,POP_FLAG_W,DATP,DATP_FLAG_W,PATP,PATP_FLAG_W,HPLC,HPLC_FLAG_W,POC,POC_FLAG_W,BEAMAP,BEAMAP_FLAG_W,DOC_NASA,DOC_NASA_FLAG_W,REFTMP,REFTMP_FLAG_W,DOC_NASA_ERROR,TDN_NASA,TDN_NASA_FLAG_W,TDN_NASA_ERROR
,,,,,,,,,,,METERS,DBAR,ITS-90,PSS-78,,PSS-78,,UMOL/KG,,UMOL/KG,,UMOL/KG,,UMOL/KG,,UMOL/KG,,UMOL/KG,,PMOL/KG,,PMOL/KG,,FMOL/KG,,UMOL/KG,,UMOL/KG,,,,DEG C,/MILLE,,/MILLE,,/MILLE,UMOL/KG,,UMOL/KG,,UMOL/KG,,/MILLE,,,,,,VOLTS,,VOLTS,,VOLTS,,VOLTS,,/MILLE,,UMOL/KG,,/LITER,,UMOL/KG,,UMOL/L,,PMOL/L,,PMOL/L,,,,UG/L,,/METER,,UMOL/L,,ITS-90,,UMOL/L,UMOL/L,,UMOL/L
320620170820,        P06,     201,          1,          1,          1,2,20170914,       1656,   -32.5001,  -103.4260,       3562,  3607.9,   1.7943,  34.6898,2,  34.6903,2, 166.8824,2, 166.6592,2,   117.7,2,   34.35,2,    0.00,2,    2.36,2,   0.033,2,   0.018,2,   0.0000,2,  2297.0,6,  2390.0,2,   7.5922,2,    25.00, -999.00,9, -999.00,9, -999.00,  -999.0,9, -999.00,9,     -999.0,9,  -999.0,1, 20170914,     1656, -32.4999,-103.4257,        0.0,1,      0.061,1,      4.686,1,      0.131,1,     -999.0,1,     -999.0,9,     -999.0,9,     -999.0,9,     -999.0,9,     -999.0,9,     -999.0,9,     -999.0,9,     -999.0,9,     -999.0,9,     -999.0,9,     1.7946,2,     -999.0,     -999.0,9,     -999.0
320620170820,        P06,     201,          1,          2,          2,2,20170914,       1656,   -32.5001,  -103.4260,       3562,  3474.5,   1.7803,  34.6900,2,  34.6901,2, 166.8824,2, 166.4283,2,   117.9,2,   34.36,2,    0.00,2,    2.36,2,   0.037,2,   0.024,2,   0.0000,2,  2295.6,2,  2390.0,2,   7.5927,2,    25.00, -999.00,9, -999.00,9, -999.00,  -999.0,9, -999.00,9,     -999.0,9,  -999.0,1, 20170914,     1659, -32.5000,-103.4256,        0.0,1,      0.061,1,      4.686,1,      0.132,1,     -999.0,1,     -999.0,9,     -999.0,9,     -999.0,9,     -999.0,9,     -999.0,9,     -999.0,9,     -999.0,9,     -999.0,9,     -999.0,9,     -999.0,9,     1.7807,2,     -999.0,     -999.0,9,     -999.0
320620170820,        P06,     201,          1,          3,          3,2,20170914,       1656,   -32.5001,  -103.4260,       3562,  3348.9,   1.7691,  34.6900,2,  34.6901,2, 166.8824,2, 167.3041,2,   117.6,2,   34.31,2,    0.00,2,    2.36,2,   0.032,2,   0.020,2,   0.0000,2,  -999.0,9,  -999.0,9,-999.0000,9,  -999.00, -999.00,9, -999.00,9, -999.00,  -999.0,9, -999.00,9,     -999.0,9,  -999.0,1, 20170914,     1703, -32.5000,-103.4256,        0.0,1,      0.061,1,      4.687,1,      0.129,1,     -999.0,1,     -999.0,9,     -999.0,9,     -999.0,9,     -999.0,9,     -999.0,9,     -999.0,9,     -999.0,9,     -999.0,9,     -999.0,9,     -999.0,9,     1.7692,2,     -999.0,     -999.0,9,     -999.0
320620170820,        P06,     201,          1,          4,          4,2,20170914,       1656,   -32.5001,  -103.4260,       3562,  3041.9,   1.7494,  34.6890,2,  34.6889,2, 166.8824,2, 167.1228,2,   117.6,2,   34.36,2,    0.00,2,    2.37,2,   0.043,2,   0.031,2,   0.0000,2,  -999.0,9,  -999.0,9,-999.0000,9,  -999.00, -999.00,9, -999.00,9, -999.00,  -999.0,9, -999.00,9,     -999.0,9,  -999.0,1, 20170914,     1709, -32.4999,-103.4257,        0.0,1,      0.061,1,      4.689,1,      0.126,1,     -999.0,1,     -999.0,9,     -999.0,9,     -999.0,9,     -999.0,9,     -999.0,9,     -999.0,9,     -999.0,9,     -999.0,9,     -999.0,9,     -999.0,9,     1.7493,2,     -999.0,     -999.0,9,     -999.0
320620170820,        P06,     201,          1,          5,          5,2,20170914,       1656,   -32.5001,  -103.4260,       3562,  2838.2,   1.7504,  34.6868,2,  34.6865,2,  166.807,2, 166.9385,2,   117.1,2,   34.39,2,    0.00,2,    2.35,2,   0.034,2,   0.021,2,   0.0000,2,  2292.9,2,  2388.3,2,   7.5903,2,    25.00, -999.00,9, -999.00,9, -999.00,  -999.0,9, -999.00,9,     -999.0,9,  -999.0,1, 20170914,     1713, -32.4998,-103.4259,        0.0,1,      0.061,1,      4.689,1,      0.127,1,     -999.0,1,     -999.0,9,     -999.0,9,     -999.0,9,     -999.0,9,     -999.0,9,     -999.0,9,     -999.0,9,     -999.0,9,     -999.0,9,     -999.0,9,     1.7505,2,     -999.0,     -999.0,9,     -999.0
320620170820,        P06,     201,          1,          6,          6,2,20170914,       1656,   -32.5001,  -103.4260,       3562,  2634.6,   1.7757,  34.6835,2,  34.6826,2, 166.2945,2, 165.8545,2,   116.2,2,   34.44,2,    0.00,2,    2.37,2,   0.039,2,   0.027,2,   0.0000,2,  -999.0,9,  -999.0,9,-999.0000,9,  -999.00, -999.00,9, -999.00,9, -999.00,  -999.0,9, -999.00,9,     -999.0,9,  -999.0,1, 20170914,     1717, -32.4998,-103.4259,        0.0,1,      0.061,1,      4.689,1,      0.128,1,     -999.0,1,     -999.0,9,     -999.0,9,     -999.0,9,     -999.0,9,     -999.0,9,     -999.0,9,     -999.0,9,     -999.0,9,     -999.0,9,     -999.0,9,     1.7748,2,     -999.0,     -999.0,9,     -999.0
320620170820,        P06,     201,          1,          7,          7,2,20170914,       1656,   -32.5001,  -103.4260,       3562,  2430.0,   1.8401,  34.6762,2,  34.6755,2, 163.8676,2, 163.6313,2,   114.3,2,   34.60,2,    0.00,2,    2.39,2,   0.037,2,   0.024,2,   0.0000,2,  2293.7,2,  2385.8,2,   7.5825,2,    25.00, -999.00,9, -999.00,9, -999.00,  -999.0,9, -999.00,9,     -999.0,9,  -999.0,1, 20170914,     1722, -32.4999,-103.4256,        0.0,1,      0.060,1,      4.689,1,      0.128,1,     -999.0,1,     -999.0,9,     -999.0,9,     -999.0,9,     -999.0,9,     -999.0,9,     -999.0,9,     -999.0,9,     -999.0,9,     -999.0,9,     -999.0,9,     1.8438,2,     -999.0,     -999.0,9,     -999.0
320620170820,        P06,     201,          1,          8,          8,2,20170914,       1656,   -32.5001,  -103.4260,       3562,  2226.7,   1.9522,  34.6618,2,  34.6602,2, 158.3123,2,   158.33,2,   111.9,2,   35.02,2,    0.00,2,    2.40,2,   0.036,2,   0.025,2,   0.0000,2,  -999.0,9,  -999.0,9,-999.0000,9,  -999.00, -999.00,9, -999.00,9, -999.00,  -999.0,9, -999.00,9,     -999.0,9,  -999.0,1, 20170914,     1726, -32.4999,-103.4258,        0.0,1,      0.061,1,      4.689,1,      0.129,1,     -999.0,1,     -999.0,9,     -999.0,9,     -999.0,9,     -999.0,9,     -999.0,9,     -999.0,9,     -999.0,9,     -999.0,9,     -999.0,9,     -999.0,9,     1.9622,2,     -999.0,     -999.0,9,     -999.0
320620170820,        P06,     201,          1,          9,          9,2,20170914,       1656,   -32.5001,  -103.4260,       3562,  2022.5,   2.1331,  34.6383,2,  34.6374,2, 151.3586,2, 153.2164,2,   107.5,2,   35.51,2,    0.00,2,    2.46,2,   0.039,2,   0.027,2,   0.0000,2,  -999.0,9,  -999.0,9,-999.0000,9,  -999.00, -999.00,9, -999.00,9, -999.00,  -999.0,9, -999.00,9,     -999.0,9,  -999.0,1, 20170914,     1731, -32.4998,-103.4259,        0.0,1,      0.061,1,      4.689,1,      0.129,1,     -999.0,1,     -999.0,9,     -999.0,9,     -999.0,9,     -999.0,9,     -999.0,9,     -999.0,9,     -999.0,9,     -999.0,9,     -999.0,9,     -999.0,9,     2.1356,2,     -999.0,     -999.0,9,     -999.0
320620170820,        P06,     201,          1,         10,         10,2,20170914,       1656,   -32.5001,  -103.4260,       3562,  1819.8,   2.3587,  34.6102,2,  34.6087,2,  147.636,2, 146.9892,2,   101.5,2,   36.07,2,    0.00,2,    2.50,2,   0.042,2,   0.029,2,   0.0000,2,  2293.5,2,  2372.9,2,   7.5530,2,    25.00, -999.00,9, -999.00,9, -999.00,  -999.0,9, -999.00,9,     -999.0,9,  -999.0,1, 20170914,     1735, -32.4998,-103.4259,        0.0,1,      0.062,1,      4.689,1,      0.129,1,     -999.0,1,     -999.0,9,     -999.0,9,     -999.0,9,     -999.0,9,     -999.0,9,     -999.0,9,     -999.0,9,     -999.0,9,     -999.0,9,     -999.0,9,     2.3627,2,     -999.0,     -999.0,9,     -999.0
320620170820,        P06,     201,          1,         11,         11,2,20170914,       1656,   -32.5001,  -103.4260,       3562,  1717.2,   2.5045,  34.5926,2,  34.5904,2, 143.7752,2, 143.8278,2,    97.3,2,   36.36,2,    0.00,2,    2.52,2,   0.037,2,   0.025,2,   0.0000,2,  2290.7,2,  2366.1,6,   7.5474,2,    25.00, -999.00,9, -999.00,9, -999.00,  -999.0,9, -999.00,9,     -999.0,9,  -999.0,1, 20170914,     1738, -32.4998,-103.4259,        0.0,1,      0.061,1,      4.689,1,      0.129,1,     -999.0,1,     -999.0,9,     -999.0,9,     -999.0,9,     -999.0,9,     -999.0,9,     -999.0,9,     -999.0,9,     -999.0,9,     -999.0,9,     -999.0,9,     2.5186,2,     -999.0,     -999.0,9,     -999.0
320620170820,        P06,     201,          1,         12,         12,2,20170914,       1656,   -32.5001,  -103.4260,       3562,  1616.3,   2.6940,  34.5767,2,  34.5749,2, 135.9365,2, 135.7501,2,    94.9,2,   37.07,2,    0.00,2,    2.58,2,   0.036,2,   0.026,2,   0.0000,2,  -999.0,9,  -999.0,9,-999.0000,9,  -999.00, -999.00,9, -999.00,9, -999.00,  -999.0,9, -999.00,9,     -999.0,9,  -999.0,1, 20170914,     1741, -32.4997,-103.4261,        0.0,1,      0.061,1,      4.689,1,      0.131,1,     -999.0,1,     -999.0,9,     -999.0,9,     -999.0,9,     -999.0,9,     -999.0,9,     -999.0,9,     -999.0,9,     -999.0,9,     -999.0,9,     -999.0,9,     2.7060,2,     -999.0,     -999.0,9,     -999.0
320620170820,        P06,     201,          1,         13,         13,2,20170914,       1656,   -32.5001,  -103.4260,       3562,  1514.1,   2.8733,  34.5610,2,  34.5592,2, 129.3162,2, 128.8305,2,    91.6,2,   37.66,2,    0.00,2,    2.62,2,   0.034,2,   0.021,2,   0.0000,2,  2294.4,2,  2359.6,2,   7.5217,6,    25.00, -999.00,9, -999.00,9, -999.00,  -999.0,9, -999.00,9,     -999.0,9,  -999.0,1, 20170914,     1743, -32.4994,-103.4269,        0.0,1,      0.062,1,      4.689,1,      0.132,1,     -999.0,1,     -999.0,9,     -999.0,9,     -999.0,9,     -999.0,9,     -999.0,9,     -999.0,9,     -999.0,9,     -999.0,9,     -999.0,9,     -999.0,9,     2.8850,2,     -999.0,     -999.0,9,     -999.0
320620170820,        P06,     201,          1,         14,         14,2,20170914,       1656,   -32.5001,  -103.4260,       3562,  1413.2,   3.0930,  34.5372,2,  34.5362,2, 122.8813,2, 122.8327,2,    86.0,2,   38.20,2,    0.00,2,    2.66,2,   0.040,2,   0.026,2,   0.0000,2,  2291.3,6,  2355.3,2,   7.5091,2,    25.00, -999.00,9, -999.00,9, -999.00,  -999.0,9, -999.00,9,     -999.0,9,  -999.0,1, 20170914,     1746, -32.4992,-103.4274,        0.0,1,      0.061,1,      4.688,1,      0.132,1,     -999.0,1,     -999.0,9,     -999.0,9,     -999.0,9,     -999.0,9,     -999.0,9,     -999.0,9,     -999.0,9,     -999.0,9,     -999.0,9,     -999.0,9,     3.0907,2,     -999.0,     -999.0,9,     -999.0
320620170820,        P06,     201,          1,         15,         15,2,20170914,       1656,   -32.5001,  -103.4260,       3562,  1212.0,   3.4435,  34.4520,2,  34.4599,2,  131.893,2, 132.0282,2,    67.6,2,   37.83,2,    0.00,2,    2.61,2,   0.071,2,   0.046,2,   0.0000,2,  2270.0,2,  2331.7,2,   7.5103,2,    25.00, -999.00,9, -999.00,9, -999.00,  -999.0,9, -999.00,9,     -999.0,9,  -999.0,1, 20170914,     1751, -32.4992,-103.4274,        0.0,1,      0.062,1,      4.689,1,      0.132,1,     -999.0,1,     -999.0,9,     -999.0,9,     -999.0,9,     -999.0,9,     -999.0,9,     -999.0,9,     -999.0,9,     -999.0,9,     -999.0,9,     -999.0,9,     3.4066,2,     -999.0,     -999.0,9,     -999.0
320620170820,        P06,     201,          1,         16,         16,2,20170914,       1656,   -32.5001,  -103.4260,       3562,  1009.5,   3.9733,  34.3308,2,  34.3386,2,  178.156,2, 176.7543,2,    40.3,2,   34.13,2,    0.00,2,    2.33,2,   0.560,2,   0.296,2,   0.0330,2,  -999.0,9,  -999.0,9,-999.0000,9,  -999.00, -999.00,9, -999.00,9, -999.00,  -999.0,9, -999.00,9,     -999.0,9,  -999.0,1, 20170914,     1755, -32.4995,-103.4270,        0.0,1,      0.061,1,      4.689,1,      0.132,1,     -999.0,1,     -999.0,9,     -999.0,9,     -999.0,9,     -999.0,9,     -999.0,9,     -999.0,9,     -999.0,9,     -999.0,9,     -999.0,9,     -999.0,9,     3.9247,2,     -999.0,     -999.0,9,     -999.0
320620170820,        P06,     201,          1,         17,         17,2,20170914,       1656,   -32.5001,  -103.4260,       3562,   907.2,   4.4847,  34.2901,2,  34.2883,2, 198.8102,2,  198.426,2,    27.0,2,   31.66,2,    0.00,2,    2.15,2,   1.452,2,   0.728,2,   0.1520,2,  2197.3,2,  2288.5,2,   7.6074,2,    25.00, -999.00,9, -999.00,9, -999.00,  -999.0,9, -999.00,9,     -999.0,9,  -999.0,1, 20170914,     1758, -32.4996,-103.4269,        0.0,1,      0.061,1,      4.689,1,      0.133,1,     -999.0,1,     -999.0,9,     -999.0,9,     -999.0,9,     -999.0,9,     -999.0,9,     -999.0,9,     -999.0,9,     -999.0,9,     -999.0,9,     -999.0,9,     4.4914,2,     -999.0,     -999.0,9,     -999.0
320620170820,        P06,     201,          1,         18,         18,2,20170914,       1656,   -32.5001,  -103.4260,       3562,   805.5,   5.0024,  34.2721,2,  34.2687,2, 213.4785,2, 214.1723,2,    18.4,2,   29.37,2,    0.00,2,    1.98,2,   2.193,2,   1.092,2,   0.2900,2,  -999.0,9,  -999.0,9,-999.0000,9,  -999.00, -999.00,9, -999.00,9, -999.00,  -999.0,9, -999.00,9,     -999.0,9,  -999.0,1, 20170914,     1802, -32.4996,-103.4267,        0.0,1,      0.060,1,      4.689,1,      0.133,1,     -999.0,1,     -999.0,9,     -999.0,9,     -999.0,9,     -999.0,9,     -999.0,9,     -999.0,9,     -999.0,9,     -999.0,9,     -999.0,9,     -999.0,9,     5.0179,2,     -999.0,     -999.0,9,     -999.0
320620170820,        P06,     201,          1,         19,         19,2,20170914,       1656,   -32.5001,  -103.4260,       3562,   704.4,   5.5031,  34.2615,2,  34.2583,2, 231.3982,2, 233.3828,2,    12.0,2,   26.75,2,    0.00,2,    1.79,2,   3.211,2,   1.621,2,   0.6700,2,  2163.1,2,  2277.5,2,   7.6666,2,    25.00, -999.00,9, -999.00,9, -999.00,  -999.0,9, -999.00,9,     -999.0,9,  -999.0,1, 20170914,     1805, -32.4998,-103.4266,        0.0,1,      0.060,1,      4.688,1,      0.132,1,     -999.0,1,     -999.0,9,     -999.0,9,     -999.0,9,     -999.0,9,     -999.0,9,     -999.0,9,     -999.0,9,     -999.0,9,     -999.0,9,     -999.0,9,     5.5044,2,     -999.0,     -999.0,9,     -999.0
320620170820,        P06,     201,          1,         20,         20,2,20170914,       1656,   -32.5001,  -103.4260,       3562,   603.1,   5.9220,  34.2731,2,  34.2691,2, 238.2127,2, 237.9293,2,     9.7,2,   25.41,2,    0.00,2,    1.70,2,   3.557,2,   1.849,2,   0.8190,2,  2155.7,2,  2274.8,2,   7.6771,2,    25.00, -999.00,9, -999.00,9, -999.00,  -999.0,9, -999.00,9,     -999.0,9,  -999.0,1, 20170914,     1808, -32.4998,-103.4265,        0.0,1,      0.060,1,      4.687,1,      0.135,1,     -999.0,1,     -999.0,9,     -999.0,9,     -999.0,9,     -999.0,9,     -999.0,9,     -999.0,9,     -999.0,9,     -999.0,9,     -999.0,9,     -999.0,9,     5.9009,2,     -999.0,     -999.0,9,     -999.0
320620170820,        P06,     201,          1,         21,         21,2,20170914,       1656,   -32.5001,  -103.4260,       3562,   502.5,   6.4167,  34.2985,2,  34.2972,2, 217.9164,2, 217.1331,2,     9.6,2,   25.88,2,    0.00,2,    1.74,2,   3.462,2,   1.829,2,   0.9400,2,  2164.4,2,  2274.7,2,   7.6493,2,    25.00, -999.00,9, -999.00,9, -999.00,  -999.0,9, -999.00,9,     -999.0,9,  -999.0,1, 20170914,     1811, -32.4999,-103.4264,        0.0,1,      0.060,1,      4.686,1,      0.135,1,     -999.0,1,     -999.0,9,     -999.0,9,     -999.0,9,     -999.0,9,     -999.0,9,     -999.0,9,     -999.0,9,     -999.0,9,     -999.0,9,     -999.0,9,     6.4437,2,     -999.0,     -999.0,9,     -999.0
320620170820,        P06,     201,          1,         22,         22,2,20170914,       1656,   -32.5001,  -103.4260,       3562,   453.8,   6.9377,  34.3151,2,  34.3066,2, 193.1362,3, 197.6127,2,     9.9,2,   26.55,2,    0.00,2,    1.82,2,   3.286,2,   1.751,2,   0.9050,2,  -999.0,9,  -999.0,9,-999.0000,9,  -999.00, -999.00,9, -999.00,9, -999.00,  -999.0,9, -999.00,9,     -999.0,9,  -999.0,1, 20170914,     1814, -32.4999,-103.4263,        0.0,1,      0.060,1,      4.685,1,      0.135,1,     -999.0,1,     -999.0,9,     -999.0,9,     -999.0,9,     -999.0,9,     -999.0,9,     -999.0,9,     -999.0,9,     -999.0,9,     -999.0,9,     -999.0,9,     6.8721,2,     -999.0,     -999.0,9,     -999.0
320620170820,        P06,     201,          1,         23,         23,2,20170914,       1656,   -32.5001,  -103.4260,       3562,   402.7,   7.4335,  34.2783,2,  34.2838,2, 202.7684,2,  201.532,2,     7.7,2,   24.70,2,    0.00,2,    1.70,2,   3.373,6,   1.822,6,   1.0665,6,  2169.6,2,  2270.6,2,   7.6382,2,    25.00, -999.00,9, -999.00,9, -999.00,  -999.0,9, -999.00,9,     -999.0,9,  -999.0,1, 20170914,     1816, -32.4999,-103.4263,        0.0,1,      0.060,1,      4.684,1,      0.134,1,     -999.0,1,     -999.0,9,     -999.0,9,     -999.0,9,     -999.0,9,     -999.0,9,     -999.0,9,     -999.0,9,     -999.0,9,     -999.0,9,     -999.0,9,     7.3635,2,     -999.0,     -999.0,9,     -999.0
320620170820,        P06,     201,          1,         24,         24,2,20170914,       1656,   -32.5001,  -103.4260,       3562,   302.0,   9.9194,  34.2565,2,  34.2440,2,  217.228,2, 218.0918,2,     2.2,2,   17.83,2,    0.00,2,    1.24,2,   3.329,2,   1.884,2,   1.4570,2,  2131.1,2,  2263.9,2,   7.7266,2,    25.00, -999.00,9, -999.00,9, -999.00,  -999.0,9, -999.00,9,     -999.0,9,  -999.0,1, 20170914,     1820, -32.4999,-103.4263,        0.0,1,      0.059,1,      4.681,1,      0.137,1,     -999.0,1,     -999.0,1,     -999.0,9,       1.61,2,     -999.0,9,     -999.0,9,     -999.0,9,     -999.0,9,     -999.0,9,     -999.0,9,     -999.0,9,     9.7337,2,     -999.0,     -999.0,9,     -999.0
320620170820,        P06,     201,          1,         25,         25,2,20170914,       1656,   -32.5001,  -103.4260,       3562,   251.4,  12.1001,  34.3580,2,  34.3484,2, 214.9951,2, 215.4594,2,     0.6,2,   11.93,2,    0.00,2,    0.86,2,   2.963,2,   1.721,2,   1.4090,2,  2104.9,2,  2267.0,2,   7.7914,2,    25.00, -999.00,9, -999.00,9, -999.00,  -999.0,9, -999.00,9,     -999.0,9,  -999.0,1, 20170914,     1822, -32.4999,-103.4264,        0.0,1,      0.063,1,      4.676,1,      0.135,1,     -999.0,1,     -999.0,1,     -999.0,9,     -999.0,9,     -999.0,9,     -999.0,9,     -999.0,9,     -999.0,9,     -999.0,9,     -999.0,9,     -999.0,9,    12.0078,2,     -999.0,     -999.0,9,     -999.0
320620170820,        P06,     201,          1,         26,         26,2,20170914,       1656,   -32.5001,  -103.4260,       3562,   200.6,  14.1066,  34.4908,2,  34.5250,2, 234.1021,2, 231.6582,2,     0.1,2,    3.99,2,    0.34,2,    0.42,2,   2.596,2,   1.547,2,   1.6030,2,  2073.7,2,  2276.8,2,   7.8744,2,    25.00, -999.00,9, -999.00,9, -999.00,  -999.0,9, -999.00,9,     -999.0,9,  -999.0,1, 20170914,     1825, -32.4999,-103.4264,        0.0,1,      0.090,1,      4.668,1,      0.144,1,     -999.0,1,     -999.0,1,     -999.0,9,       0.71,2,     -999.0,9,     -999.0,9,     -999.0,9,     -999.0,9,     -999.0,9,     -999.0,9,     -999.0,9,    14.2333,2,     -999.0,     -999.0,9,     -999.0