BOTTLE,20240211CCHSIOCBG
EXPOCODE,SECT_ID,STNNBR,CASTNO,SAMPNO,BTLNBR,BTLNBR_FLAG_W,DATE,TIME,LATITUDE,LONGITUDE,DEPTH,CTDPRS,CTDTMP,CTDSAL,CTDSAL_FLAG_W,SALNTY,SALNTY_FLAG_W,CTDOXY,CTDOXY_FLAG_W,OXYGEN,OXYGEN_FLAG_W,SILCAT,SILCAT_FLAG_W,NITRAT,NITRAT_FLAG_W,NITRIT,NITRIT_FLAG_W,PHSPHT,PHSPHT_FLAG_W,CFC-11,CFC-11_FLAG_W,CFC-12,CFC-12_FLAG_W,SF6,SF6_FLAG_W,TCARBN,TCARBN_FLAG_W,ALKALI,ALKALI_FLAG_W,PH_TOT,PH_TOT_FLAG_W,PH_TMP,DELC13,DELC13_FLAG_W,DELC14,DELC14_FLAG_W,C14ERR,DOC,DOC_FLAG_W,TDN,TDN_FLAG_W,TON,TON_FLAG_W,D15N_NO3,D15N_NO3_FLAG_W,BTL_DATE,BTL_TIME,BTL_LAT,BTL_LON,CTDRINKO,CTDRINKO_FLAG_W,CTDFLUOR,CTDFLUOR_FLAG_W,CTDXMISS,CTDXMISS_FLAG_W,CTDBACKSCATTER,CTDBACKSCATTER_FLAG_W,D18O_NO3,D18O_NO3_FLAG_W,DOP,DOP_FLAG_W,CELLCOUNT,CELLCOUNT_FLAG_W,TDP,TDP_FLAG_W,POP,POP_FLAG_W,DATP,DATP_FLAG_W,PATP,PATP_FLAG_W,HPLC,HPLC_FLAG_W,POC,POC_FLAG_W,BEAMAP,BEAMAP_FLAG_W,DOC_NASA,DOC_NASA_FLAG_W,REFTMP,REFTMP_FLAG_W,DOC_NASA_ERROR,TDN_NASA,TDN_NASA_FLAG_W,TDN_NASA_ERROR
,,,,,,,,,,,METERS,DBAR,ITS-90,PSS-78,,PSS-78,,UMOL/KG,,UMOL/KG,,UMOL/KG,,UMOL/KG,,UMOL/KG,,UMOL/KG,,PMOL/KG,,PMOL/KG,,FMOL/KG,,UMOL/KG,,UMOL/KG,,,,DEG C,/MILLE,,/MILLE,,/MILLE,UMOL/KG,,UMOL/KG,,UMOL/KG,,/MILLE,,,,,,VOLTS,,VOLTS,,VOLTS,,VOLTS,,/MILLE,,UMOL/KG,,/LITER,,UMOL/KG,,UMOL/L,,PMOL/L,,PMOL/L,,,,UG/L,,/METER,,UMOL/L,,ITS-90,,UMOL/L,UMOL/L,,UMOL/L
320620170820,        P06,     144,          2,         13,         13,2,20170825,       0045,   -32.4997,  -148.9698,       5217,  2023.3,   2.1625,  34.6340,2,  34.6376,2, 150.7232,2, 151.0005,2,   113.6,2,   35.51,2,    0.00,2,    2.45,2,   0.038,2,   0.083,2,   0.0000,2,  2302.1,2,  2389.1,2,   7.5700,2,    25.00, -999.00,9, -999.00,9, -999.00,    39.2,2, -999.00,9,     -999.0,1,  -999.0,1, 20170825,      222, -32.4997,-148.9693,        0.0,1,      0.061,1,      4.701,1,      0.129,1,     -999.0,1,     -999.0,9,     -999.0,9,     -999.0,9,     -999.0,9,     -999.0,9,     -999.0,9,     -999.0,9,     -999.0,9,     -999.0,9,     -999.0,9,     2.1510,2,     -999.0,     -999.0,9,     -999.0
320620170820,        P06,     144,          2,         14,         14,2,20170825,       0045,   -32.4997,  -148.9698,       5217,  1820.4,   2.3363,  34.6118,2,  34.6124,2, 153.7986,2, 154.5149,2,   102.0,2,   35.17,2,    0.00,2,    2.43,2,   0.042,2,   0.084,2,   0.0000,2,  2288.5,2,  2377.0,2,   7.5697,2,    25.00, -999.00,9, -999.00,9, -999.00,  -999.0,9, -999.00,9,     -999.0,9,  -999.0,1, 20170825,      228, -32.4998,-148.9693,        0.0,1,      0.061,1,      4.701,1,      0.129,1,     -999.0,1,     -999.0,9,     -999.0,9,     -999.0,9,     -999.0,9,     -999.0,9,     -999.0,9,     -999.0,9,     -999.0,9,     -999.0,9,     -999.0,9,     2.3475,2,     -999.0,     -999.0,9,     -999.0
320620170820,        P06,     144,          2,         15,         15,2,20170825,       0045,   -32.4997,  -148.9698,       5217,  1616.1,   2.5835,  34.5645,2,  34.5645,2, 159.4178,2, 160.0953,2,    87.6,2,   34.90,2,    0.00,2,    2.39,2,   0.059,2,   0.082,2,   0.0000,2,  2271.6,2,  2359.6,2,   7.5679,2,    25.00, -999.00,9, -999.00,9, -999.00,    37.5,2, -999.00,9,     -999.0,1,  -999.0,1, 20170825,      233, -32.4995,-148.9694,        0.0,1,      0.061,1,      4.702,1,      0.130,1,     -999.0,1,     -999.0,9,     -999.0,9,     -999.0,9,     -999.0,9,     -999.0,9,     -999.0,9,     -999.0,9,     -999.0,9,     -999.0,9,     -999.0,9,     2.5949,2,     -999.0,     -999.0,9,     -999.0
320620170820,        P06,     144,          2,         16,         16,2,20170825,       0045,   -32.4997,  -148.9698,       5217,  1412.7,   2.9816,  34.4781,2,  34.4883,2, 168.7353,2, 169.2916,2,    69.1,2,   34.45,2,    0.00,2,    2.37,2,   0.158,2,   0.144,2,   0.0000,2,  2251.2,2,  2336.6,2,   7.5697,2,    25.00, -999.00,9, -999.00,9, -999.00,  -999.0,9, -999.00,9,     -999.0,9,  -999.0,1, 20170825,      238, -32.4998,-148.9694,        0.0,1,      0.061,1,      4.701,1,      0.131,1,     -999.0,1,     -999.0,9,     -999.0,9,     -999.0,9,     -999.0,9,     -999.0,9,     -999.0,9,     -999.0,9,     -999.0,9,     -999.0,9,     -999.0,9,     2.9338,2,     -999.0,     -999.0,9,     -999.0
320620170820,        P06,     144,          2,         17,         17,2,20170825,       0045,   -32.4997,  -148.9698,       5217,  1211.8,   3.6004,  34.3814,2,  34.3868,2, 184.6127,2, 184.5414,2,    48.2,2,   33.25,2,    0.00,2,    2.26,2,   0.586,2,   0.342,2,   0.0399,2,  2224.3,2,  2315.3,2,   7.5877,2,    25.00, -999.00,9, -999.00,9, -999.00,    39.2,2, -999.00,9,     -999.0,1,  -999.0,1, 20170825,      243, -32.4998,-148.9694,        0.0,1,      0.060,1,      4.701,1,      0.128,1,     -999.0,1,     -999.0,9,     -999.0,9,     -999.0,9,     -999.0,9,     -999.0,9,     -999.0,9,     -999.0,9,     -999.0,9,     -999.0,9,     -999.0,9,     3.5644,2,     -999.0,     -999.0,9,     -999.0
320620170820,        P06,     144,          2,         18,         18,2,20170825,       0045,   -32.4997,  -148.9698,       5217,  1008.2,   4.6918,  34.3180,2,  34.3189,2, 204.1951,2, 205.3386,2,    27.9,2,   30.30,2,    0.00,2,    2.05,2,   1.409,2,   0.759,2,   0.2129,2,  2190.7,2,  2295.6,2,   7.6275,2,    25.00, -999.00,9, -999.00,9, -999.00,    38.3,2, -999.00,9,     -999.0,1,  -999.0,1, 20170825,      249, -32.4999,-148.9694,        0.0,1,      0.060,1,      4.700,1,      0.130,1,     -999.0,1,     -999.0,9,     -999.0,9,     -999.0,9,     -999.0,9,     -999.0,9,     -999.0,9,     -999.0,9,     -999.0,9,     -999.0,9,     -999.0,9,     4.6497,2,     -999.0,     -999.0,9,     -999.0
320620170820,        P06,     144,          2,         19,         19,2,20170825,       0045,   -32.4997,  -148.9698,       5217,   906.4,   5.4507,  34.3041,2,  34.3064,2, 218.0952,2, 217.1628,2,    19.0,2,   28.04,2,    0.00,2,    1.90,2,   2.008,2,   1.056,2,   0.3739,2,  2174.5,2,  2287.6,2,   7.6557,2,    25.00, -999.00,9, -999.00,9, -999.00,    38.7,2, -999.00,9,     -999.0,1,  -999.0,1, 20170825,      252, -32.4998,-148.9694,        0.0,1,      0.060,1,      4.700,1,      0.130,1,     -999.0,1,     -999.0,9,     -999.0,9,     -999.0,9,     -999.0,9,     -999.0,9,     -999.0,9,     -999.0,9,     -999.0,9,     -999.0,9,     -999.0,9,     5.2870,2,     -999.0,     -999.0,9,     -999.0
320620170820,        P06,     144,          2,         20,         20,2,20170825,       0045,   -32.4997,  -148.9698,       5217,   807.0,   6.0108,  34.3107,2,  34.3095,2, 231.8484,2, 230.8503,2,    12.4,2,   25.64,2,    0.00,2,    1.74,2,   2.686,2,   1.452,2,   0.5629,2,  2160.4,2,  2283.8,2,   7.6838,2,    25.00, -999.00,9, -999.00,9, -999.00,    40.2,2, -999.00,9,     -999.0,1,  -999.0,1, 20170825,      255, -32.4996,-148.9694,        0.0,1,      0.058,1,      4.700,1,      0.131,1,     -999.0,1,     -999.0,9,     -999.0,9,     -999.0,9,     -999.0,9,     -999.0,9,     -999.0,9,     -999.0,9,     -999.0,9,     -999.0,9,     -999.0,9,     5.8959,2,     -999.0,     -999.0,9,     -999.0
320620170820,        P06,     144,          2,         21,         21,2,20170825,       0045,   -32.4997,  -148.9698,       5217,   705.9,   6.4824,  34.3336,2,  34.3335,2, 240.6924,2, 239.4909,2,     8.7,2,   23.54,2,    0.00,2,    1.60,2,   3.266,2,   1.764,2,   0.7459,2,  2152.4,2,  2281.9,2,   7.7021,2,    25.00, -999.00,9, -999.00,9, -999.00,    42.4,2, -999.00,9,     -999.0,1,  -999.0,1, 20170825,      258, -32.4998,-148.9694,        0.0,1,      0.059,1,      4.699,1,      0.133,1,     -999.0,1,     -999.0,9,     -999.0,9,     -999.0,9,     -999.0,9,     -999.0,9,     -999.0,9,     -999.0,9,     -999.0,9,     -999.0,9,     -999.0,9,     6.4615,2,     -999.0,     -999.0,9,     -999.0
320620170820,        P06,     144,          2,         22,         22,2,20170825,       0045,   -32.4997,  -148.9698,       5217,   605.6,   7.0073,  34.3718,2,  34.3601,2, 243.5206,2, 242.6505,2,     7.1,2,   22.30,2,    0.00,2,    1.52,2,   3.498,2,   1.960,2,   1.1189,2,  2146.7,2,  2280.5,2,   7.7096,6,    25.00, -999.00,9, -999.00,9, -999.00,    44.1,2, -999.00,9,     -999.0,1,  -999.0,1, 20170825,      302, -32.4999,-148.9694,        0.0,1,      0.060,1,      4.698,1,      0.132,1,     -999.0,1,     -999.0,9,     -999.0,9,     -999.0,9,     -999.0,9,     -999.0,9,     -999.0,9,     -999.0,9,     -999.0,9,     -999.0,9,     -999.0,9,     6.8460,2,     -999.0,     -999.0,9,     -999.0
320620170820,        P06,     144,          2,         23,         23,2,20170825,       0045,   -32.4997,  -148.9698,       5217,   504.4,   7.6023,  34.4212,2,  34.4082,2, 243.8655,2,  243.215,2,     5.3,2,   20.42,2,    0.00,2,    1.40,2,   3.561,6,   2.045,6,   1.1479,6,  2143.3,6,  2283.0,2,   7.7212,2,    25.00, -999.00,9, -999.00,9, -999.00,    47.1,3, -999.00,9,     -999.0,1,  -999.0,1, 20170825,      306, -32.4996,-148.9695,        0.0,1,      0.058,1,      4.697,1,      0.135,1,     -999.0,1,     -999.0,9,     -999.0,9,     -999.0,9,     -999.0,9,     -999.0,9,     -999.0,9,     -999.0,9,     -999.0,9,     -999.0,9,     -999.0,9,     7.4439,2,     -999.0,     -999.0,9,     -999.0
320620170820,        P06,     144,          2,         24,         24,2,20170825,       0045,   -32.4997,  -148.9698,       5217,   402.4,   8.3064,  34.4738,2,  34.4777,2, 235.8651,2, 236.4693,2,     3.8,2,   18.01,2,    0.00,2,    1.24,2,   3.435,2,   2.010,2,   1.2479,2,  2140.0,2,  2285.7,2,   7.7337,2,    25.00, -999.00,9, -999.00,9, -999.00,    44.0,3,   19.00,2,     -999.0,1,  -999.0,1, 20170825,      309, -32.4996,-148.9696,        0.0,1,      0.058,1,      4.696,1,      0.135,1,     -999.0,1,     -999.0,1,     -999.0,9,     -999.0,9,     -999.0,9,     -999.0,9,     -999.0,9,     -999.0,9,     -999.0,9,     -999.0,9,     -999.0,9,     8.3622,2,     -999.0,     -999.0,9,     -999.0
320620170820,        P06,     144,          2,         25,         25,2,20170825,       0045,   -32.4997,  -148.9698,       5217,   300.8,  10.4644,  34.6422,2,  34.6262,2, 213.0526,2, 216.6849,2,     2.5,2,   14.21,2,    0.00,2,    1.02,2,   3.078,2,   1.822,2,   1.1599,2,  2128.4,2,  2290.9,2,   7.7652,2,    25.00, -999.00,9, -999.00,9, -999.00,    45.6,2,   16.60,2,     -999.0,1,  -999.0,1, 20170825,      312, -32.4999,-148.9695,        0.0,1,      0.059,1,      4.694,1,      0.134,1,     -999.0,1,     -999.0,1,     -999.0,9,     -999.0,9,     -999.0,9,     -999.0,9,     -999.0,9,     -999.0,9,     -999.0,9,     -999.0,9,     -999.0,9,    10.3072,2,     -999.0,     -999.0,9,     -999.0
320620170820,        P06,     144,          2,         26,         26,2,20170825,       0045,   -32.4997,  -148.9698,       5217,   251.2,  12.3228,  34.8532,2,  34.8379,2, 211.8218,2, 215.9901,2,     1.4,2,    9.17,2,    0.00,2,    0.70,2,   2.865,2,   1.733,2,   1.4439,2,  2115.6,2,  2299.4,2,   7.8154,2,    25.00, -999.00,9, -999.00,9, -999.00,    52.3,3,   11.00,2,     -999.0,1,  -999.0,1, 20170825,      315, -32.4998,-148.9696,        0.0,1,      0.062,1,      4.692,1,      0.131,1,     -999.0,1,     -999.0,1,     -999.0,9,     -999.0,9,     -999.0,9,     -999.0,9,     -999.0,9,     -999.0,9,     -999.0,9,     -999.0,9,     -999.0,9,    12.1532,2,     -999.0,     -999.0,9,     -999.0
320620170820,        P06,     144,          2,         27,         27,2,20170825,       0045,   -32.4997,  -148.9698,       5217,   201.8,  13.8462,  35.0765,2,  35.1059,2, 213.4055,2, 219.4529,2,     0.8,2,    4.97,2,    0.02,2,    0.44,2,   2.453,2,   1.599,2,   1.4109,2,  2100.8,2,  2311.5,2,   7.8671,2,    25.00, -999.00,9, -999.00,9, -999.00,    50.4,2,    7.60,2,     -999.0,1,  -999.0,1, 20170825,      317, -32.4996,-148.9698,        0.0,1,      0.063,1,      4.689,1,      0.134,1,     -999.0,1,     -999.0,1,     -999.0,9,     -999.0,9,     -999.0,9,     -999.0,9,     -999.0,9,     -999.0,9,     -999.0,9,     -999.0,9,     -999.0,9,    14.0637,2,     -999.0,     -999.0,9,     -999.0
320620170820,        P06,     144,          2,         28,         28,2,20170825,       0045,   -32.4997,  -148.9698,       5217,   151.2,  15.9330,  35.3116,2,  35.3265,2, 240.5765,2, 236.6354,2,     0.1,2,    0.51,2,    0.08,2,    0.17,2,   2.298,2,   1.480,2,   1.4429,2,  2074.0,2,  2324.5,2,   7.9415,2,    25.00, -999.00,9, -999.00,9, -999.00,    57.6,2,    5.20,2,     -999.0,1,  -999.0,1, 20170825,      320, -32.4995,-148.9698,        0.0,1,      0.116,1,      4.667,1,      0.167,1,     -999.0,1,     -999.0,1,     -999.0,9,     -999.0,9,     -999.0,9,     -999.0,9,     -999.0,9,     -999.0,9,     -999.0,9,     -999.0,9,     -999.0,9,    16.0202,2,     -999.0,     -999.0,9,     -999.0
320620170820,        P06,     144,          2,         29,         29,2,20170825,       0045,   -32.4997,  -148.9698,       5217,   101.6,  16.4432,  35.4092,2,  35.4395,2, 243.3635,2, 237.8794,2,     0.1,2,    0.15,2,    0.03,2,    0.11,2,   2.244,2,   1.436,2,   1.4609,2,  2068.3,2,  2329.9,2,   7.9589,2,    25.00, -999.00,9, -999.00,9, -999.00,    63.4,2,    4.60,2,     -999.0,1,  -999.0,1, 20170825,      322, -32.4996,-148.9697,        0.0,1,      0.188,1,      4.640,1,      0.199,1,     -999.0,1,     -999.0,1,     -999.0,9,     -999.0,9,     -999.0,9,     -999.0,9,     -999.0,9,     -999.0,9,     -999.0,9,     -999.0,9,     -999.0,9,    16.5704,2,     -999.0,     -999.0,9,     -999.0
320620170820,        P06,     144,          2,         31,         31,2,20170825,       0045,   -32.4997,  -148.9698,       5217,    85.2,  16.5389,  35.4318,2,-999.0000,9, 232.7196,2,-999.0000,9,  -999.0,9, -999.00,9, -999.00,9, -999.00,9,-999.000,9,-999.000,9,-999.0000,9,  -999.0,9,  -999.0,9,-999.0000,9,  -999.00, -999.00,9, -999.00,9, -999.00,  -999.0,9, -999.00,9,     -999.0,9,  -999.0,9, 20170825,      325, -32.4997,-148.9697,        0.0,1,      0.201,1,      4.633,1,      0.201,1,     -999.0,9,     -999.0,9,     -999.0,9,     -999.0,9,     -999.0,9,     -999.0,9,     -999.0,9,     -999.0,1,     -999.0,1,     -999.0,1,67.18351647,2,    16.5815,2,-83.18068276,47.33365414,2,     -999.0
320620170820,        P06,     144,          2,         30,         30,2,20170825,       0045,   -32.4997,  -148.9698,       5217,    84.4,  16.5389,  35.4318,2,-999.0000,9, 232.7817,2,-999.0000,9,  -999.0,9, -999.00,9, -999.00,9, -999.00,9,-999.000,9,-999.000,9,-999.0000,9,  -999.0,9,  -999.0,9,-999.0000,9,  -999.00, -999.00,9, -999.00,9, -999.00,  -999.0,9, -999.00,9,     -999.0,9,  -999.0,9, 20170825,      324, -32.4997,-148.9697,        0.0,1,      0.201,1,      4.633,1,      0.201,1,     -999.0,9,     -999.0,9,     -999.0,9,     -999.0,9,     -999.0,9,     -999.0,9,     -999.0,9,     -999.0,1,     -999.0,1,     -999.0,1,67.18351647,2,    16.5870,2,-83.18068276,47.33365414,2,     -999.0
320620170820,        P06,     144,          2,         32,         32,2,20170825,       0045,   -32.4997,  -148.9698,       5217,    74.0,  16.6461,  35.4613,2,  35.4687,2, 243.2907,2,  237.644,2,     0.1,2,    0.12,2,    0.03,2,    0.11,2,   2.263,2,   1.460,2,   1.4449,2,  2068.7,2,  2334.4,2,   7.9615,2,    25.00, -999.00,9, -999.00,9, -999.00,    59.9,2,    4.80,2,     -999.0,1,  -999.0,1, 20170825,      326, -32.5000,-148.9696,        0.0,1,      0.194,1,      4.636,1,      0.191,1,     -999.0,1,     -999.0,1,     -999.0,9,     -999.0,9,     -999.0,9,     -999.0,9,     -999.0,9,     -999.0,9,     -999.0,9,     -999.0,9,     -999.0,9,    16.6597,2,     -999.0,     -999.0,9,     -999.0
320620170820,        P06,     144,          2,         33,         33,2,20170825,       0045,   -32.4997,  -148.9698,       5217,    50.5,  16.6033,  35.4348,2,  35.4387,3, 245.9284,2, 239.6506,2,     0.1,2,    0.03,2,    0.02,2,    0.11,2,   2.374,2,   1.437,2,   1.4339,2,  2065.3,2,  2331.7,6,   7.9648,2,    25.00, -999.00,9, -999.00,9, -999.00,    59.2,2,    3.70,2,     -999.0,1,  -999.0,1, 20170825,      328, -32.5001,-148.9696,        0.0,1,      0.167,1,      4.627,1,      0.200,1,     -999.0,1,     -999.0,1,     -999.0,9,     -999.0,9,     -999.0,9,     -999.0,9,     -999.0,9,     -999.0,9,     -999.0,9,     -999.0,9,     -999.0,9,    16.7789,2,     -999.0,     -999.0,9,     -999.0
320620170820,        P06,     144,          2,         34,         34,2,20170825,       0045,   -32.4997,  -148.9698,       5217,    39.4,  16.8625,  35.4424,2,-999.0000,9, 233.1698,2,-999.0000,9,  -999.0,9, -999.00,9, -999.00,9, -999.00,9,-999.000,9,-999.000,9,-999.0000,9,  -999.0,9,  -999.0,9,-999.0000,9,  -999.00, -999.00,9, -999.00,9, -999.00,  -999.0,9, -999.00,9,     -999.0,9,  -999.0,9, 20170825,      330, -32.5001,-148.9696,        0.0,1,      0.141,1,      4.610,1,      0.226,1,     -999.0,9,     -999.0,9,     -999.0,9,     -999.0,9,     -999.0,9,     -999.0,9,     -999.0,9,     -999.0,1,     -999.0,1,     -999.0,1,67.59563723,2,    16.9204,2,-83.18068276,53.54564942,2,     -999.0
320620170820,        P06,     144,          2,         35,         35,2,20170825,       0045,   -32.4997,  -148.9698,       5217,    24.7,  17.0798,  35.4619,2,  35.4642,2,  247.209,2, 238.8957,2,     0.1,2,    0.00,2,    0.00,2,    0.11,2,   2.242,2,   1.415,2,   1.5659,2,  2063.0,2,  2328.5,2,   7.9720,2,    25.00, -999.00,9, -999.00,9, -999.00,    61.9,2,    3.80,2,     -999.0,1,  -999.0,1, 20170825,      332, -32.4998,-148.9697,        0.0,1,      0.113,1,      4.605,1,      0.221,1,     -999.0,1,     -999.0,1,     -999.0,9,     -999.0,9,     -999.0,9,     -999.0,9,     -999.0,9,     -999.0,9,     -999.0,9,     -999.0,9,     -999.0,9,    17.0383,2,     -999.0,     -999.0,9,     -999.0
320620170820,        P06,     144,          2,         36,         36,2,20170825,       0045,   -32.4997,  -148.9698,       5217,     5.4,  17.1089,  35.4638,2,  35.4614,2, 247.0536,2, 238.7762,2,     0.1,2,    0.00,2,    0.00,2,    0.11,2,   2.244,2,   1.423,2,   1.4519,2,  2063.4,6,  2329.0,2,   7.9709,2,    25.00, -999.00,9, -999.00,9, -999.00,    59.7,2,    3.80,2,     -999.0,1,  -999.0,1, 20170825,      334, -32.4997,-148.9698,        0.0,1,      0.081,1,      4.603,1,      0.215,1,     -999.0,1,     -999.0,1,     -999.0,9,     -999.0,9,     -999.0,9,     -999.0,9,     -999.0,9,     -999.0,9,     -999.0,9,     -999.0,9,     -999.0,9,    17.0260,2,     -999.0,     -999.0,9,     -999.0