BOTTLE,20240211CCHSIOCBG
EXPOCODE,SECT_ID,STNNBR,CASTNO,SAMPNO,BTLNBR,BTLNBR_FLAG_W,DATE,TIME,LATITUDE,LONGITUDE,DEPTH,CTDPRS,CTDTMP,CTDSAL,CTDSAL_FLAG_W,SALNTY,SALNTY_FLAG_W,CTDOXY,CTDOXY_FLAG_W,OXYGEN,OXYGEN_FLAG_W,SILCAT,SILCAT_FLAG_W,NITRAT,NITRAT_FLAG_W,NITRIT,NITRIT_FLAG_W,PHSPHT,PHSPHT_FLAG_W,CFC-11,CFC-11_FLAG_W,CFC-12,CFC-12_FLAG_W,SF6,SF6_FLAG_W,TCARBN,TCARBN_FLAG_W,ALKALI,ALKALI_FLAG_W,PH_TOT,PH_TOT_FLAG_W,PH_TMP,DELC13,DELC13_FLAG_W,DELC14,DELC14_FLAG_W,C14ERR,DOC,DOC_FLAG_W,TDN,TDN_FLAG_W,TON,TON_FLAG_W,D15N_NO3,D15N_NO3_FLAG_W,BTL_DATE,BTL_TIME,BTL_LAT,BTL_LON,CTDRINKO,CTDRINKO_FLAG_W,CTDFLUOR,CTDFLUOR_FLAG_W,CTDXMISS,CTDXMISS_FLAG_W,CTDBACKSCATTER,CTDBACKSCATTER_FLAG_W,D18O_NO3,D18O_NO3_FLAG_W,DOP,DOP_FLAG_W,CELLCOUNT,CELLCOUNT_FLAG_W,TDP,TDP_FLAG_W,POP,POP_FLAG_W,DATP,DATP_FLAG_W,PATP,PATP_FLAG_W,HPLC,HPLC_FLAG_W,POC,POC_FLAG_W,BEAMAP,BEAMAP_FLAG_W,DOC_NASA,DOC_NASA_FLAG_W,REFTMP,REFTMP_FLAG_W,DOC_NASA_ERROR,TDN_NASA,TDN_NASA_FLAG_W,TDN_NASA_ERROR
,,,,,,,,,,,METERS,DBAR,ITS-90,PSS-78,,PSS-78,,UMOL/KG,,UMOL/KG,,UMOL/KG,,UMOL/KG,,UMOL/KG,,UMOL/KG,,PMOL/KG,,PMOL/KG,,FMOL/KG,,UMOL/KG,,UMOL/KG,,,,DEG C,/MILLE,,/MILLE,,/MILLE,UMOL/KG,,UMOL/KG,,UMOL/KG,,/MILLE,,,,,,VOLTS,,VOLTS,,VOLTS,,VOLTS,,/MILLE,,UMOL/KG,,/LITER,,UMOL/KG,,UMOL/L,,PMOL/L,,PMOL/L,,,,UG/L,,/METER,,UMOL/L,,ITS-90,,UMOL/L,UMOL/L,,UMOL/L
320620170820,        P06,     243,          1,         27,         27,2,20170928,       0509,   -32.4994,   -72.4048,       3457,   300.8,   9.0831,  34.5457,2,  34.5368,2,  29.0419,2,  24.1418,2,    24.1,2,   34.17,2,    0.00,2,    2.79,2,-999.000,9,-999.000,9,-999.0000,9,  -999.0,9,  -999.0,9,-999.0000,9,  -999.00, -999.00,9, -999.00,9, -999.00,  -999.0,9, -999.00,9,     -999.0,9,  -999.0,9, 20170928,      642, -32.4995, -72.4043,        0.0,1,      0.067,1,      4.642,1,      0.216,1,     -999.0,9,     -999.0,9,     -999.0,9,     -999.0,9,     -999.0,9,     -999.0,9,     -999.0,9,     -999.0,9,     -999.0,9,     -999.0,9,     -999.0,9,     9.1295,2,     -999.0,     -999.0,9,     -999.0
320620170820,        P06,     243,          1,         28,         28,2,20170928,       0509,   -32.4994,   -72.4048,       3457,   250.8,   9.6804,  34.5771,2,  34.5806,2,  23.9293,2,  17.8303,2,    24.2,2,   30.85,2,    0.00,2,    2.80,2,-999.000,9,-999.000,9,-999.0000,9,  -999.0,9,  -999.0,9,-999.0000,9,  -999.00, -999.00,9, -999.00,9, -999.00,  -999.0,9, -999.00,9,     -999.0,9,  -999.0,9, 20170928,      644, -32.4995, -72.4043,        0.0,1,      0.066,1,      4.640,1,      0.193,1,     -999.0,9,     -999.0,9,     -999.0,9,     -999.0,9,     -999.0,9,     -999.0,9,     -999.0,9,     -999.0,9,     -999.0,9,     -999.0,9,     -999.0,9,     9.8158,2,     -999.0,     -999.0,9,     -999.0
320620170820,        P06,     243,          1,         29,         29,2,20170928,       0509,   -32.4994,   -72.4048,       3457,   200.8,  10.4439,  34.5982,2,  34.5950,2,  22.9573,2,  18.3731,2,    23.3,2,   27.51,2,    0.02,2,    2.79,2,-999.000,9,-999.000,9,-999.0000,9,  2277.0,2,  2287.0,2,   7.3496,6,    25.00, -999.00,9, -999.00,9, -999.00,  -999.0,9, -999.00,9,     -999.0,9,  -999.0,9, 20170928,      647, -32.4996, -72.4043,        0.0,1,      0.067,1,      4.627,1,      0.217,1,     -999.0,9,     -999.0,9,     -999.0,9,     -999.0,9,     -999.0,9,     -999.0,9,     -999.0,9,     -999.0,9,     -999.0,9,     -999.0,9,     -999.0,9,    10.4244,2,     -999.0,     -999.0,9,     -999.0
320620170820,        P06,     243,          1,         30,         30,2,20170928,       0509,   -32.4994,   -72.4048,       3457,   150.6,  10.9894,  34.5417,2,  34.5284,2,  43.0107,2,  36.2454,2,    19.7,2,   25.33,2,    0.02,2,    2.65,2,-999.000,9,-999.000,9,-999.0000,9,  -999.0,9,  -999.0,9,-999.0000,9,  -999.00, -999.00,9, -999.00,9, -999.00,  -999.0,9, -999.00,9,     -999.0,9,  -999.0,9, 20170928,      649, -32.4995, -72.4043,        0.0,1,      0.066,1,      4.628,1,      0.206,1,     -999.0,9,     -999.0,9,     -999.0,9,     -999.0,9,     -999.0,9,     -999.0,9,     -999.0,9,     -999.0,9,     -999.0,9,     -999.0,9,     -999.0,9,    10.9045,2,     -999.0,     -999.0,9,     -999.0
320620170820,        P06,     243,          1,         31,         31,2,20170928,       0509,   -32.4994,   -72.4048,       3457,   125.3,  11.3084,  34.4855,2,  34.4950,2,  65.4401,2,  55.6837,2,    17.4,2,   24.26,2,    0.03,2,    2.53,2,-999.000,9,-999.000,9,-999.0000,9,  -999.0,9,  -999.0,9,-999.0000,9,  -999.00, -999.00,9, -999.00,9, -999.00,  -999.0,9, -999.00,9,     -999.0,9,  -999.0,9, 20170928,      650, -32.4995, -72.4044,        0.0,1,      0.070,1,      4.624,1,      0.216,1,     -999.0,9,     -999.0,9,     -999.0,9,     -999.0,9,     -999.0,9,     -999.0,9,     -999.0,9,     -999.0,9,     -999.0,9,     -999.0,9,     -999.0,9,    11.2846,2,     -999.0,     -999.0,9,     -999.0
320620170820,        P06,     243,          1,         32,         32,2,20170928,       0509,   -32.4994,   -72.4048,       3457,   100.9,  11.4021,  34.3971,2,  34.3935,2,  92.0722,2,  97.1036,2,    13.0,2,   23.70,2,    0.03,2,    2.30,2,-999.000,9,-999.000,9,-999.0000,9,  2224.1,2,  2274.2,2,   7.4764,2,    25.00, -999.00,9, -999.00,9, -999.00,  -999.0,9, -999.00,9,     -999.0,9,  -999.0,9, 20170928,      652, -32.4994, -72.4046,        0.0,1,      0.077,1,      4.627,1,      0.201,1,     -999.0,9,     -999.0,9,     -999.0,9,     -999.0,9,     -999.0,9,     -999.0,9,     -999.0,9,     -999.0,9,     -999.0,9,     -999.0,9,     -999.0,9,    11.4526,2,     -999.0,     -999.0,9,     -999.0
320620170820,        P06,     243,          1,         33,         33,2,20170928,       0509,   -32.4994,   -72.4048,       3457,    76.0,  12.5657,  34.2237,2,  34.2160,2, 214.5667,3, 204.0912,2,     4.0,2,   13.90,2,    0.17,2,    1.36,2,-999.000,9,-999.000,9,-999.0000,9,  -999.0,9,  -999.0,9,-999.0000,9,  -999.00, -999.00,9, -999.00,9, -999.00,  -999.0,9, -999.00,9,     -999.0,9,  -999.0,9, 20170928,      654, -32.4994, -72.4047,        0.0,1,      0.115,1,      4.624,1,      0.182,1,     -999.0,9,     -999.0,9,     -999.0,9,     -999.0,9,     -999.0,9,     -999.0,9,     -999.0,9,     -999.0,9,     -999.0,9,     -999.0,9,     -999.0,9,    12.6238,2,     -999.0,     -999.0,9,     -999.0
320620170820,        P06,     243,          1,         34,         34,2,20170928,       0509,   -32.4994,   -72.4048,       3457,    49.3,  13.2673,  34.2087,2,  34.2052,2, 248.3928,2, 254.8449,2,     1.2,2,    7.23,2,    0.21,2,    0.91,2,-999.000,9,-999.000,9,-999.0000,9,  2085.4,2,  2275.2,2,   7.8423,2,    25.00, -999.00,9, -999.00,9, -999.00,  -999.0,9, -999.00,9,     -999.0,9,  -999.0,9, 20170928,      655, -32.4994, -72.4047,        0.0,1,      0.182,1,      4.576,1,      0.211,1,     -999.0,9,     -999.0,9,     -999.0,9,     -999.0,9,     -999.0,9,     -999.0,9,     -999.0,9,     -999.0,9,     -999.0,9,     -999.0,9,     -999.0,9,    13.2638,2,     -999.0,     -999.0,9,     -999.0
320620170820,        P06,     243,          1,         35,         35,2,20170928,       0509,   -32.4994,   -72.4048,       3457,    24.8,  13.2823,  34.2085,2,  34.2036,2, 250.1256,2, 255.0195,2,     1.1,2,    7.14,2,    0.21,2,    0.90,2,-999.000,9,-999.000,9,-999.0000,9,  -999.0,9,  -999.0,9,-999.0000,9,  -999.00, -999.00,9, -999.00,9, -999.00,  -999.0,9, -999.00,9,     -999.0,9,  -999.0,9, 20170928,      657, -32.4994, -72.4047,        0.0,1,      0.234,1,      4.537,1,      0.298,1,     -999.0,9,     -999.0,9,     -999.0,9,     -999.0,9,     -999.0,9,     -999.0,9,     -999.0,9,     -999.0,9,     -999.0,9,     -999.0,9,     -999.0,9,    13.2809,2,     -999.0,     -999.0,9,     -999.0
320620170820,        P06,     243,          1,         36,         36,2,20170928,       0509,   -32.4994,   -72.4048,       3457,     5.5,  13.4592,  34.2047,2,  34.2032,2, 255.2211,2, 262.6573,2,     0.6,2,    6.53,2,    0.22,2,    0.86,2,-999.000,9,-999.000,9,-999.0000,9,  2076.2,2,  2274.9,2,   7.8596,2,    25.00, -999.00,9, -999.00,9, -999.00,  -999.0,9, -999.00,9,     -999.0,9,  -999.0,9, 20170928,      659, -32.4994, -72.4048,        0.0,1,      0.307,1,      4.500,1,      0.255,1,     -999.0,9,     -999.0,9,     -999.0,9,     -999.0,9,     -999.0,9,     -999.0,9,     -999.0,9,     -999.0,9,     -999.0,9,     -999.0,9,     -999.0,9,    13.4376,2,     -999.0,     -999.0,9,     -999.0