BOTTLE,20240211CCHSIOCBG
EXPOCODE,SECT_ID,STNNBR,CASTNO,SAMPNO,BTLNBR,BTLNBR_FLAG_W,DATE,TIME,LATITUDE,LONGITUDE,DEPTH,CTDPRS,CTDTMP,CTDSAL,CTDSAL_FLAG_W,SALNTY,SALNTY_FLAG_W,CTDOXY,CTDOXY_FLAG_W,OXYGEN,OXYGEN_FLAG_W,SILCAT,SILCAT_FLAG_W,NITRAT,NITRAT_FLAG_W,NITRIT,NITRIT_FLAG_W,PHSPHT,PHSPHT_FLAG_W,CFC-11,CFC-11_FLAG_W,CFC-12,CFC-12_FLAG_W,SF6,SF6_FLAG_W,TCARBN,TCARBN_FLAG_W,ALKALI,ALKALI_FLAG_W,PH_TOT,PH_TOT_FLAG_W,PH_TMP,DELC13,DELC13_FLAG_W,DELC14,DELC14_FLAG_W,C14ERR,DOC,DOC_FLAG_W,TDN,TDN_FLAG_W,TON,TON_FLAG_W,D15N_NO3,D15N_NO3_FLAG_W,BTL_DATE,BTL_TIME,BTL_LAT,BTL_LON,CTDRINKO,CTDRINKO_FLAG_W,CTDFLUOR,CTDFLUOR_FLAG_W,CTDXMISS,CTDXMISS_FLAG_W,CTDBACKSCATTER,CTDBACKSCATTER_FLAG_W,D18O_NO3,D18O_NO3_FLAG_W,DOP,DOP_FLAG_W,CELLCOUNT,CELLCOUNT_FLAG_W,TDP,TDP_FLAG_W,POP,POP_FLAG_W,DATP,DATP_FLAG_W,PATP,PATP_FLAG_W,HPLC,HPLC_FLAG_W,POC,POC_FLAG_W,BEAMAP,BEAMAP_FLAG_W,DOC_NASA,DOC_NASA_FLAG_W,REFTMP,REFTMP_FLAG_W,DOC_NASA_ERROR,TDN_NASA,TDN_NASA_FLAG_W,TDN_NASA_ERROR
,,,,,,,,,,,METERS,DBAR,ITS-90,PSS-78,,PSS-78,,UMOL/KG,,UMOL/KG,,UMOL/KG,,UMOL/KG,,UMOL/KG,,UMOL/KG,,PMOL/KG,,PMOL/KG,,FMOL/KG,,UMOL/KG,,UMOL/KG,,,,DEG C,/MILLE,,/MILLE,,/MILLE,UMOL/KG,,UMOL/KG,,UMOL/KG,,/MILLE,,,,,,VOLTS,,VOLTS,,VOLTS,,VOLTS,,/MILLE,,UMOL/KG,,/LITER,,UMOL/KG,,UMOL/L,,PMOL/L,,PMOL/L,,,,UG/L,,/METER,,UMOL/L,,ITS-90,,UMOL/L,UMOL/L,,UMOL/L
320620170820,        P06,     242,          1,          1,          1,2,20170928,       0014,   -32.4997,   -72.4756,       4379,  4447.3,   1.7489,  34.6935,2,  34.6946,2, 160.6061,3,  162.174,2,   125.6,2,   34.79,2,    0.00,2,    2.41,2,-999.000,9,-999.000,9,-999.0000,9,  2309.5,2,  2405.3,2,   7.5876,2,    25.00, -999.00,9, -999.00,9, -999.00,    39.0,2, -999.00,9,     -999.0,1,  -999.0,9, 20170928,       14, -32.4996, -72.4759,        0.0,1,      0.061,1,      4.673,1,      0.134,1,     -999.0,9,     -999.0,9,     -999.0,9,     -999.0,9,     -999.0,9,     -999.0,9,     -999.0,9,     -999.0,9,     -999.0,9,     -999.0,9,     -999.0,9,     1.7494,2,     -999.0,     -999.0,9,     -999.0
320620170820,        P06,     242,          1,          2,          2,2,20170928,       0014,   -32.4997,   -72.4756,       4379,  4254.7,   1.7408,  34.6930,2,  34.6924,2, 160.6061,3, 162.0069,2,   125.3,2,   34.81,2,    0.00,2,    2.42,2,-999.000,9,-999.000,9,-999.0000,9,  2308.7,2,  2404.4,2,   7.5873,2,    25.00, -999.00,9, -999.00,9, -999.00,    39.9,2, -999.00,9,     -999.0,1,  -999.0,9, 20170928,       18, -32.4997, -72.4759,        0.0,1,      0.061,1,      4.674,1,      0.141,1,     -999.0,9,     -999.0,9,     -999.0,9,     -999.0,9,     -999.0,9,     -999.0,9,     -999.0,9,     -999.0,9,     -999.0,9,     -999.0,9,     -999.0,9,     1.7407,2,     -999.0,     -999.0,9,     -999.0
320620170820,        P06,     242,          1,          3,          3,2,20170928,       0014,   -32.4997,   -72.4756,       4379,  4065.3,   1.7616,  34.6912,2,  34.6899,2,  160.411,2, 159.8885,2,   125.3,2,   34.94,2,    0.00,2,    2.43,2,-999.000,9,-999.000,9,-999.0000,9,  -999.0,9,  -999.0,9,-999.0000,9,  -999.00, -999.00,9, -999.00,9, -999.00,    34.6,2, -999.00,9,     -999.0,1,  -999.0,9, 20170928,       22, -32.4997, -72.4758,        0.0,1,      0.061,1,      4.674,1,      0.136,1,     -999.0,9,     -999.0,9,     -999.0,9,     -999.0,9,     -999.0,9,     -999.0,9,     -999.0,9,     -999.0,9,     -999.0,9,     -999.0,9,     -999.0,9,     1.7623,2,     -999.0,     -999.0,9,     -999.0
320620170820,        P06,     242,          1,          4,          4,2,20170928,       0014,   -32.4997,   -72.4756,       4379,  3759.0,   1.7644,  34.6892,2,  34.6889,2, 159.0183,2, 158.2651,2,   125.7,2,   35.08,2,    0.00,2,    2.44,2,-999.000,9,-999.000,9,-999.0000,9,  2312.7,2,  2405.0,2,   7.5824,2,    25.00, -999.00,9, -999.00,9, -999.00,    36.8,2, -999.00,9,     -999.0,1,  -999.0,9, 20170928,       28, -32.4998, -72.4755,        0.0,1,      0.061,1,      4.675,1,      0.134,1,     -999.0,9,     -999.0,9,     -999.0,9,     -999.0,9,     -999.0,9,     -999.0,9,     -999.0,9,     -999.0,9,     -999.0,9,     -999.0,9,     -999.0,9,     1.7649,2,     -999.0,     -999.0,9,     -999.0
320620170820,        P06,     242,          1,          5,          5,2,20170928,       0014,   -32.4997,   -72.4756,       4379,  3453.1,   1.7768,  34.6864,2,  34.6855,2, 156.3819,3, 152.5004,2,   128.8,2,   35.43,2,    0.00,2,    2.48,2,-999.000,9,-999.000,9,-999.0000,9,  2315.6,2,  2410.0,2,   7.5768,6,    25.00, -999.00,9, -999.00,9, -999.00,    36.2,2, -999.00,9,     -999.0,1,  -999.0,9, 20170928,       35, -32.4999, -72.4753,        0.0,1,      0.061,1,      4.675,1,      0.133,1,     -999.0,9,     -999.0,9,     -999.0,9,     -999.0,9,     -999.0,9,     -999.0,9,     -999.0,9,     -999.0,9,     -999.0,9,     -999.0,9,     -999.0,9,     1.7769,2,     -999.0,     -999.0,9,     -999.0
320620170820,        P06,     242,          1,          6,          6,2,20170928,       0014,   -32.4997,   -72.4756,       4379,  3145.6,   1.7930,  34.6829,2,  34.6810,2, 150.2003,3,  148.054,2,   131.1,2,   35.81,2,    0.00,2,    2.50,2,-999.000,9,-999.000,9,-999.0000,9,  -999.0,9,  -999.0,9,-999.0000,9,  -999.00, -999.00,9, -999.00,9, -999.00,    36.6,2, -999.00,9,     -999.0,1,  -999.0,9, 20170928,       41, -32.4999, -72.4753,        0.0,1,      0.062,1,      4.675,1,      0.135,1,     -999.0,9,     -999.0,9,     -999.0,9,     -999.0,9,     -999.0,9,     -999.0,9,     -999.0,9,     -999.0,9,     -999.0,9,     -999.0,9,     -999.0,9,     1.7933,2,     -999.0,     -999.0,9,     -999.0
320620170820,        P06,     242,          1,          7,          7,2,20170928,       0014,   -32.4997,   -72.4756,       4379,  2874.3,   1.8105,  34.6795,2,  34.6785,2, 145.6954,3, 148.4827,2,   128.6,2,   35.76,2,    0.00,2,    2.49,2,-999.000,9,-999.000,9,-999.0000,9,  2318.2,2,  2406.7,2,   7.5700,2,    25.00, -999.00,9, -999.00,9, -999.00,    36.1,2, -999.00,9,     -999.0,1,  -999.0,9, 20170928,       46, -32.4999, -72.4752,        0.0,1,      0.062,1,      4.674,1,      0.141,1,     -999.0,9,     -999.0,9,     -999.0,9,     -999.0,9,     -999.0,9,     -999.0,9,     -999.0,9,     -999.0,9,     -999.0,9,     -999.0,9,     -999.0,9,     1.8107,2,     -999.0,     -999.0,9,     -999.0
320620170820,        P06,     242,          1,          8,          8,2,20170928,       0014,   -32.4997,   -72.4756,       4379,  2619.0,   1.8574,  34.6739,2,  34.6720,2, 145.6521,2, 147.6522,2,   126.2,2,   35.77,2,    0.00,2,    2.50,2,-999.000,9,-999.000,9,-999.0000,9,  -999.0,9,  -999.0,9,-999.0000,9,  -999.00, -999.00,9, -999.00,9, -999.00,    35.3,2, -999.00,9,     -999.0,1,  -999.0,9, 20170928,       52, -32.4999, -72.4752,        0.0,1,      0.061,1,      4.673,1,      0.143,1,     -999.0,9,     -999.0,9,     -999.0,9,     -999.0,9,     -999.0,9,     -999.0,9,     -999.0,9,     -999.0,9,     -999.0,9,     -999.0,9,     -999.0,9,     1.8520,2,     -999.0,     -999.0,9,     -999.0
320620170820,        P06,     242,          1,          9,          9,2,20170928,       0014,   -32.4997,   -72.4756,       4379,  2364.1,   1.9812,  34.6612,2,  34.6600,2, 141.6789,2, 142.8214,2,   122.6,2,   36.14,2,    0.00,2,    2.53,2,-999.000,9,-999.000,9,-999.0000,9,  -999.0,9,  -999.0,9,-999.0000,9,  -999.00, -999.00,9, -999.00,9, -999.00,    38.5,2, -999.00,9,     -999.0,1,  -999.0,9, 20170928,       57, -32.4998, -72.4754,        0.0,1,      0.061,1,      4.674,1,      0.144,1,     -999.0,9,     -999.0,9,     -999.0,9,     -999.0,9,     -999.0,9,     -999.0,9,     -999.0,9,     -999.0,9,     -999.0,9,     -999.0,9,     -999.0,9,     1.9840,2,     -999.0,     -999.0,9,     -999.0
320620170820,        P06,     242,          1,         10,         10,2,20170928,       0014,   -32.4997,   -72.4756,       4379,  2108.1,   2.1642,  34.6444,2,  34.6437,2, 134.0437,2, 134.2934,2,   119.6,2,   36.84,2,    0.00,2,    2.59,2,-999.000,9,-999.000,9,-999.0000,9,  -999.0,9,  -999.0,9,-999.0000,9,  -999.00, -999.00,9, -999.00,9, -999.00,    35.2,2, -999.00,9,     -999.0,1,  -999.0,9, 20170928,      102, -32.4998, -72.4755,        0.0,1,      0.062,1,      4.675,1,      0.142,1,     -999.0,9,     -999.0,9,     -999.0,9,     -999.0,9,     -999.0,9,     -999.0,9,     -999.0,9,     -999.0,9,     -999.0,9,     -999.0,9,     -999.0,9,     2.1493,2,     -999.0,     -999.0,9,     -999.0
320620170820,        P06,     242,          1,         11,         11,2,20170928,       0014,   -32.4997,   -72.4756,       4379,  1884.8,   2.3632,  34.6266,2,  34.6250,2, 126.1678,2, 126.1109,2,   114.4,2,   37.52,2,    0.00,2,    2.66,2,-999.000,9,-999.000,9,-999.0000,9,  -999.0,9,  -999.0,9,-999.0000,9,  -999.00, -999.00,9, -999.00,9, -999.00,    36.3,2, -999.00,9,     -999.0,1,  -999.0,9, 20170928,      107, -32.4998, -72.4755,        0.0,1,      0.063,1,      4.675,1,      0.141,1,     -999.0,9,     -999.0,9,     -999.0,9,     -999.0,9,     -999.0,9,     -999.0,9,     -999.0,9,     -999.0,9,     -999.0,9,     -999.0,9,     -999.0,9,     2.3623,2,     -999.0,     -999.0,9,     -999.0
320620170820,        P06,     242,          1,         12,         12,2,20170928,       0014,   -32.4997,   -72.4756,       4379,  1683.5,   2.5910,  34.6059,2,  34.6062,2, 120.1855,2, 120.7486,2,   108.3,2,   38.08,2,    0.00,2,    2.70,2,-999.000,9,-999.000,9,-999.0000,9,  2312.0,2,  2380.2,6,   7.5110,2,    25.00, -999.00,9, -999.00,9, -999.00,    35.8,2, -999.00,9,     -999.0,1,  -999.0,9, 20170928,      111, -32.4998, -72.4755,        0.0,1,      0.063,1,      4.675,1,      0.143,1,     -999.0,9,     -999.0,9,     -999.0,9,     -999.0,9,     -999.0,9,     -999.0,9,     -999.0,9,     -999.0,9,     -999.0,9,     -999.0,9,     -999.0,9,     2.5732,2,     -999.0,     -999.0,9,     -999.0
320620170820,        P06,     242,          1,         13,         13,2,20170928,       0014,   -32.4997,   -72.4756,       4379,  1550.1,   2.7446,  34.5883,2,  34.5855,2, 117.1861,2,  116.154,2,   101.6,2,   38.46,2,    0.00,2,    2.72,2,-999.000,9,-999.000,9,-999.0000,9,  -999.0,9,  -999.0,9,-999.0000,9,  -999.00, -999.00,9, -999.00,9, -999.00,    37.5,2, -999.00,9,     -999.0,1,  -999.0,9, 20170928,      115, -32.4997, -72.4757,        0.0,1,      0.062,1,      4.676,1,      0.139,1,     -999.0,9,     -999.0,9,     -999.0,9,     -999.0,9,     -999.0,9,     -999.0,9,     -999.0,9,     -999.0,9,     -999.0,9,     -999.0,9,     -999.0,9,     2.7651,2,     -999.0,     -999.0,9,     -999.0
320620170820,        P06,     242,          1,         14,         14,2,20170928,       0014,   -32.4997,   -72.4756,       4379,  1449.0,   2.9060,  34.5744,2,  34.5732,2, 113.3795,2, 112.8649,2,    98.3,2,   38.77,2,    0.00,2,    2.75,2,-999.000,9,-999.000,9,-999.0000,9,  -999.0,9,  -999.0,9,-999.0000,9,  -999.00, -999.00,9, -999.00,9, -999.00,    36.6,2, -999.00,9,     -999.0,1,  -999.0,9, 20170928,      118, -32.4996, -72.4759,        0.0,1,      0.063,1,      4.675,1,      0.142,1,     -999.0,9,     -999.0,9,     -999.0,9,     -999.0,9,     -999.0,9,     -999.0,9,     -999.0,9,     -999.0,9,     -999.0,9,     -999.0,9,     -999.0,9,     2.8972,2,     -999.0,     -999.0,9,     -999.0
320620170820,        P06,     242,          1,         15,         15,2,20170928,       0014,   -32.4997,   -72.4756,       4379,  1348.2,   3.1067,  34.5548,2,  34.5527,2, 110.2742,2, 110.0931,2,    92.3,2,   39.12,2,    0.00,2,    2.77,2,-999.000,9,-999.000,9,-999.0000,9,  -999.0,9,  -999.0,9,-999.0000,9,  -999.00, -999.00,9, -999.00,9, -999.00,    39.7,2, -999.00,9,     -999.0,1,  -999.0,9, 20170928,      120, -32.4996, -72.4759,        0.0,1,      0.063,1,      4.675,1,      0.140,1,     -999.0,9,     -999.0,9,     -999.0,9,     -999.0,9,     -999.0,9,     -999.0,9,     -999.0,9,     -999.0,9,     -999.0,9,     -999.0,9,     -999.0,9,     3.0981,2,     -999.0,     -999.0,9,     -999.0
320620170820,        P06,     242,          1,         16,         16,2,20170928,       0014,   -32.4997,   -72.4756,       4379,  1246.4,   3.2917,  34.5344,2,  34.5321,2, 108.4973,2, 107.0564,2,    86.2,2,   39.31,2,    0.00,2,    2.78,2,-999.000,9,-999.000,9,-999.0000,9,  -999.0,9,  -999.0,9,-999.0000,9,  -999.00, -999.00,9, -999.00,9, -999.00,    42.8,2, -999.00,9,     -999.0,1,  -999.0,9, 20170928,      123, -32.4997, -72.4758,        0.0,1,      0.063,1,      4.675,1,      0.142,1,     -999.0,9,     -999.0,9,     -999.0,9,     -999.0,9,     -999.0,9,     -999.0,9,     -999.0,9,     -999.0,9,     -999.0,9,     -999.0,9,     -999.0,9,     3.2878,2,     -999.0,     -999.0,9,     -999.0
320620170820,        P06,     242,          1,         17,         17,2,20170928,       0014,   -32.4997,   -72.4756,       4379,  1145.7,   3.5276,  34.5110,2,  34.5093,2, 106.4593,2, 106.2453,2,    79.5,2,   39.48,2,    0.00,2,    2.79,2,-999.000,9,-999.000,9,-999.0000,9,  2294.8,6,  2345.2,2,   7.4763,2,    25.00, -999.00,9, -999.00,9, -999.00,    41.9,2, -999.00,9,     -999.0,1,  -999.0,9, 20170928,      126, -32.4997, -72.4758,        0.0,1,      0.063,1,      4.674,1,      0.146,1,     -999.0,9,     -999.0,9,     -999.0,9,     -999.0,9,     -999.0,9,     -999.0,9,     -999.0,9,     -999.0,9,     -999.0,9,     -999.0,9,     -999.0,9,     3.4877,2,     -999.0,     -999.0,9,     -999.0
320620170820,        P06,     242,          1,         18,         18,2,20170928,       0014,   -32.4997,   -72.4756,       4379,  1043.5,   3.7521,  34.4714,2,  34.4748,2,   110.01,2, 109.4699,2,    69.9,2,   39.32,2,    0.00,2,    2.78,2,-999.000,9,-999.000,9,-999.0000,9,  -999.0,9,  -999.0,9,-999.0000,9,  -999.00, -999.00,9, -999.00,9, -999.00,    39.2,2, -999.00,9,     -999.0,1,  -999.0,9, 20170928,      129, -32.4997, -72.4758,        0.0,1,      0.063,1,      4.674,1,      0.145,1,     -999.0,9,     -999.0,9,     -999.0,9,     -999.0,9,     -999.0,9,     -999.0,9,     -999.0,9,     -999.0,9,     -999.0,9,     -999.0,9,     -999.0,9,     3.7188,2,     -999.0,     -999.0,9,     -999.0
320620170820,        P06,     242,          1,         19,         19,2,20170928,       0014,   -32.4997,   -72.4756,       4379,   942.7,   3.9673,  34.4319,2,  34.4312,2, 120.4683,2, 121.0118,2,    59.0,2,   38.43,2,    0.00,2,    2.71,2,-999.000,9,-999.000,9,-999.0000,9,  -999.0,9,  -999.0,9,-999.0000,9,  -999.00, -999.00,9, -999.00,9, -999.00,    39.0,2, -999.00,9,     -999.0,1,  -999.0,9, 20170928,      132, -32.4997, -72.4758,        0.0,1,      0.063,1,      4.674,1,      0.145,1,     -999.0,9,     -999.0,9,     -999.0,9,     -999.0,9,     -999.0,9,     -999.0,9,     -999.0,9,     -999.0,9,     -999.0,9,     -999.0,9,     -999.0,9,     3.9311,2,     -999.0,     -999.0,9,     -999.0
320620170820,        P06,     242,          1,         20,         20,2,20170928,       0014,   -32.4997,   -72.4756,       4379,   842.3,   4.2749,  34.3848,2,  34.3849,2, 136.3301,2, 135.9597,2,    46.5,2,   37.06,2,    0.00,2,    2.59,2,-999.000,9,-999.000,9,-999.0000,9,  -999.0,9,  -999.0,9,-999.0000,9,  -999.00, -999.00,9, -999.00,9, -999.00,    38.1,2, -999.00,9,     -999.0,1,  -999.0,9, 20170928,      135, -32.4996, -72.4760,        0.0,1,      0.062,1,      4.673,1,      0.145,1,     -999.0,9,     -999.0,9,     -999.0,9,     -999.0,9,     -999.0,9,     -999.0,9,     -999.0,9,     -999.0,9,     -999.0,9,     -999.0,9,     -999.0,9,     4.2741,2,     -999.0,     -999.0,9,     -999.0
320620170820,        P06,     242,          1,         21,         21,2,20170928,       0014,   -32.4997,   -72.4756,       4379,   740.7,   4.7272,  34.3402,2,  34.3378,2, 156.4129,2, 157.7873,2,    34.0,2,   34.79,2,    0.00,2,    2.43,2,-999.000,9,-999.000,9,-999.0000,9,  -999.0,9,  -999.0,9,-999.0000,9,  -999.00, -999.00,9, -999.00,9, -999.00,    38.2,2, -999.00,9,     -999.0,1,  -999.0,9, 20170928,      138, -32.4996, -72.4760,        0.0,1,      0.062,1,      4.673,1,      0.147,1,     -999.0,9,     -999.0,9,     -999.0,9,     -999.0,9,     -999.0,9,     -999.0,9,     -999.0,9,     -999.0,9,     -999.0,9,     -999.0,9,     -999.0,9,     4.6700,2,     -999.0,     -999.0,9,     -999.0
320620170820,        P06,     242,          1,         22,         22,2,20170928,       0014,   -32.4997,   -72.4756,       4379,   640.3,   5.2944,  34.3107,2,  34.3066,2,  174.204,2, 174.6115,2,    22.4,2,   32.38,2,    0.00,2,    2.26,2,-999.000,9,-999.000,9,-999.0000,9,  -999.0,9,  -999.0,9,-999.0000,9,  -999.00, -999.00,9, -999.00,9, -999.00,    45.0,3, -999.00,9,     -999.0,1,  -999.0,9, 20170928,      140, -32.4996, -72.4759,        0.0,1,      0.061,1,      4.672,1,      0.148,1,     -999.0,9,     -999.0,9,     -999.0,9,     -999.0,9,     -999.0,9,     -999.0,9,     -999.0,9,     -999.0,9,     -999.0,9,     -999.0,9,     -999.0,9,     5.3218,2,     -999.0,     -999.0,9,     -999.0
320620170820,        P06,     242,          1,         23,         23,2,20170928,       0014,   -32.4997,   -72.4756,       4379,   538.6,   5.8681,  34.3093,2,  34.3060,2, 177.5138,2, 179.6108,2,    16.5,2,   30.86,2,    0.00,2,    2.14,2,-999.000,9,-999.000,9,-999.0000,9,  2198.0,2,  2279.9,2,   7.5779,2,    25.00, -999.00,9, -999.00,9, -999.00,    42.4,2, -999.00,9,     -999.0,1,  -999.0,9, 20170928,      143, -32.4996, -72.4759,        0.0,1,      0.061,1,      4.669,1,      0.154,1,     -999.0,9,     -999.0,9,     -999.0,9,     -999.0,9,     -999.0,9,     -999.0,9,     -999.0,9,     -999.0,9,     -999.0,9,     -999.0,9,     -999.0,9,     5.8693,2,     -999.0,     -999.0,9,     -999.0
320620170820,        P06,     242,          1,         24,         24,2,20170928,       0014,   -32.4997,   -72.4756,       4379,   468.5,   6.3875,  34.3381,2,  34.3358,2,  155.248,2, 154.2193,2,    16.6,2,   31.81,2,    0.00,2,    2.23,2,-999.000,9,-999.000,9,-999.0000,9,  -999.0,9,  -999.0,9,-999.0000,9,  -999.00, -999.00,9, -999.00,9, -999.00,    43.1,2, -999.00,9,     -999.0,1,  -999.0,9, 20170928,      145, -32.4996, -72.4759,        0.0,1,      0.062,1,      4.667,1,      0.155,1,     -999.0,9,     -999.0,9,     -999.0,9,     -999.0,9,     -999.0,9,     -999.0,9,     -999.0,9,     -999.0,9,     -999.0,9,     -999.0,9,     -999.0,9,     6.4192,2,     -999.0,     -999.0,9,     -999.0
320620170820,        P06,     242,          1,         25,         25,2,20170928,       0014,   -32.4997,   -72.4756,       4379,   417.6,   6.8361,  34.3593,2,  34.3623,2, 125.1778,2,      124,2,    17.2,2,   33.08,2,    0.00,2,    2.34,2,-999.000,9,-999.000,9,-999.0000,9,  -999.0,9,  -999.0,9,-999.0000,9,  -999.00, -999.00,9, -999.00,9, -999.00,    42.1,2, -999.00,9,     -999.0,1,  -999.0,9, 20170928,      147, -32.4996, -72.4759,        0.0,1,      0.064,1,      4.663,1,      0.171,1,     -999.0,9,     -999.0,9,     -999.0,9,     -999.0,9,     -999.0,9,     -999.0,9,     -999.0,9,     -999.0,9,     -999.0,9,     -999.0,9,     -999.0,9,     6.9522,2,     -999.0,     -999.0,9,     -999.0
320620170820,        P06,     242,          1,         26,         26,2,20170928,       0014,   -32.4997,   -72.4756,       4379,   365.4,   7.8905,  34.4537,2,  34.4445,2,  53.0205,3,  63.6021,2,    21.2,2,   35.41,2,    0.00,2,    2.64,2,-999.000,9,-999.000,9,-999.0000,9,  2258.2,2,  2281.4,2,   7.3940,2,    25.00, -999.00,9, -999.00,9, -999.00,    41.0,2, -999.00,9,     -999.0,1,  -999.0,9, 20170928,      149, -32.4996, -72.4758,        0.0,1,      0.065,1,      4.650,1,      0.175,1,     -999.0,9,     -999.0,9,     -999.0,9,     -999.0,9,     -999.0,9,     -999.0,9,     -999.0,9,     -999.0,9,     -999.0,9,     -999.0,9,     -999.0,9,     7.9680,2,     -999.0,     -999.0,9,     -999.0