BOTTLE,20240211CCHSIOCBG
EXPOCODE,SECT_ID,STNNBR,CASTNO,SAMPNO,BTLNBR,BTLNBR_FLAG_W,DATE,TIME,LATITUDE,LONGITUDE,DEPTH,CTDPRS,CTDTMP,CTDSAL,CTDSAL_FLAG_W,SALNTY,SALNTY_FLAG_W,CTDOXY,CTDOXY_FLAG_W,OXYGEN,OXYGEN_FLAG_W,SILCAT,SILCAT_FLAG_W,NITRAT,NITRAT_FLAG_W,NITRIT,NITRIT_FLAG_W,PHSPHT,PHSPHT_FLAG_W,CFC-11,CFC-11_FLAG_W,CFC-12,CFC-12_FLAG_W,SF6,SF6_FLAG_W,TCARBN,TCARBN_FLAG_W,ALKALI,ALKALI_FLAG_W,PH_TOT,PH_TOT_FLAG_W,PH_TMP,DELC13,DELC13_FLAG_W,DELC14,DELC14_FLAG_W,C14ERR,DOC,DOC_FLAG_W,TDN,TDN_FLAG_W,TON,TON_FLAG_W,D15N_NO3,D15N_NO3_FLAG_W,BTL_DATE,BTL_TIME,BTL_LAT,BTL_LON,CTDRINKO,CTDRINKO_FLAG_W,CTDFLUOR,CTDFLUOR_FLAG_W,CTDXMISS,CTDXMISS_FLAG_W,CTDBACKSCATTER,CTDBACKSCATTER_FLAG_W,D18O_NO3,D18O_NO3_FLAG_W,DOP,DOP_FLAG_W,CELLCOUNT,CELLCOUNT_FLAG_W,TDP,TDP_FLAG_W,POP,POP_FLAG_W,DATP,DATP_FLAG_W,PATP,PATP_FLAG_W,HPLC,HPLC_FLAG_W,POC,POC_FLAG_W,BEAMAP,BEAMAP_FLAG_W,DOC_NASA,DOC_NASA_FLAG_W,REFTMP,REFTMP_FLAG_W,DOC_NASA_ERROR,TDN_NASA,TDN_NASA_FLAG_W,TDN_NASA_ERROR
,,,,,,,,,,,METERS,DBAR,ITS-90,PSS-78,,PSS-78,,UMOL/KG,,UMOL/KG,,UMOL/KG,,UMOL/KG,,UMOL/KG,,UMOL/KG,,PMOL/KG,,PMOL/KG,,FMOL/KG,,UMOL/KG,,UMOL/KG,,,,DEG C,/MILLE,,/MILLE,,/MILLE,UMOL/KG,,UMOL/KG,,UMOL/KG,,/MILLE,,,,,,VOLTS,,VOLTS,,VOLTS,,VOLTS,,/MILLE,,UMOL/KG,,/LITER,,UMOL/KG,,UMOL/L,,PMOL/L,,PMOL/L,,,,UG/L,,/METER,,UMOL/L,,ITS-90,,UMOL/L,UMOL/L,,UMOL/L
320620170820,        P06,     234,          1,          1,          1,2,20170925,       1958,   -32.5000,   -74.8558,       4182,  4244.2,   1.6571,  34.6961,2,  34.6963,2, 165.6053,2, 166.3202,2,   124.3,2,   34.53,2,    0.00,2,    2.40,2,   0.018,2,   0.034,2,   0.0000,4,  2302.5,6,  2401.1,2,   7.5918,2,    25.00, -999.00,9, -999.00,9, -999.00,    38.0,2, -999.00,9,     -999.0,1,  -999.0,9, 20170925,     1958, -32.5000, -74.8556,        0.0,1,      0.061,1,      4.672,1,      0.145,1,     -999.0,9,     -999.0,9,     -999.0,9,     -999.0,9,     -999.0,9,     -999.0,9,     -999.0,9,     -999.0,9,     -999.0,9,     -999.0,9,     -999.0,9,     1.6573,2,     -999.0,     -999.0,9,     -999.0
320620170820,        P06,     234,          1,          2,          2,2,20170925,       1958,   -32.5000,   -74.8558,       4182,  4102.1,   1.6483,  34.6958,2,  34.6948,2, 165.6053,2, 165.7141,2,   124.3,2,   34.50,2,    0.00,2,    2.40,2,   0.018,2,   0.037,2,   0.0000,4,  2303.1,2,  2398.6,2,   7.5906,2,    25.00, -999.00,9, -999.00,9, -999.00,    38.0,2, -999.00,9,     -999.0,1,  -999.0,9, 20170925,     2001, -32.5000, -74.8556,        0.0,1,      0.060,1,      4.676,1,      0.134,1,     -999.0,9,     -999.0,9,     -999.0,9,     -999.0,9,     -999.0,9,     -999.0,9,     -999.0,9,     -999.0,9,     -999.0,9,     -999.0,9,     -999.0,9,     1.6485,2,     -999.0,     -999.0,9,     -999.0
320620170820,        P06,     234,          1,          3,          3,2,20170925,       1958,   -32.5000,   -74.8558,       4182,  3964.1,   1.6501,  34.6951,2,  34.6944,2, 165.2702,2, 165.2241,2,   124.6,2,   34.61,2,    0.00,2,    2.41,2,   0.016,2,   0.036,2,   0.0000,4,  -999.0,9,  -999.0,9,-999.0000,9,  -999.00, -999.00,9, -999.00,9, -999.00,  -999.0,9, -999.00,9,     -999.0,9,  -999.0,9, 20170925,     2004, -32.5000, -74.8557,        0.0,1,      0.061,1,      4.678,1,      0.136,1,     -999.0,9,     -999.0,9,     -999.0,9,     -999.0,9,     -999.0,9,     -999.0,9,     -999.0,9,     -999.0,9,     -999.0,9,     -999.0,9,     -999.0,9,     1.6504,2,     -999.0,     -999.0,9,     -999.0
320620170820,        P06,     234,          1,          4,          4,2,20170925,       1958,   -32.5000,   -74.8558,       4182,  3655.8,   1.6901,  34.6917,2,  34.6906,2,  163.203,3,  162.107,2,   124.7,2,   34.85,2,    0.00,2,    2.43,2,   0.016,2,   0.043,2,   0.0000,4,  2304.5,2,  2400.5,2,   7.5864,6,    25.00, -999.00,9, -999.00,9, -999.00,    36.6,2, -999.00,9,     -999.0,1,  -999.0,9, 20170925,     2011, -32.5000, -74.8556,        0.0,1,      0.061,1,      4.679,1,      0.132,1,     -999.0,9,     -999.0,9,     -999.0,9,     -999.0,9,     -999.0,9,     -999.0,9,     -999.0,9,     -999.0,9,     -999.0,9,     -999.0,9,     -999.0,9,     1.6878,2,     -999.0,     -999.0,9,     -999.0
320620170820,        P06,     234,          1,          5,          5,2,20170925,       1958,   -32.5000,   -74.8558,       4182,  3348.8,   1.7628,  34.6859,2,  34.6853,2, 157.5431,2, 157.0398,2,   125.0,2,   35.19,2,    0.00,2,    2.45,2,   0.016,2,   0.048,2,   0.0000,4,  -999.0,9,  -999.0,9,-999.0000,9,  -999.00, -999.00,9, -999.00,9, -999.00,    35.7,2, -999.00,9,     -999.0,1,  -999.0,9, 20170925,     2017, -32.5000, -74.8554,        0.0,1,      0.061,1,      4.680,1,      0.133,1,     -999.0,9,     -999.0,9,     -999.0,9,     -999.0,9,     -999.0,9,     -999.0,9,     -999.0,9,     -999.0,9,     -999.0,9,     -999.0,9,     -999.0,9,     1.7627,2,     -999.0,     -999.0,9,     -999.0
320620170820,        P06,     234,          1,          6,          6,2,20170925,       1958,   -32.5000,   -74.8558,       4182,  3044.6,   1.8095,  34.6803,2,  34.6789,2, 153.2035,2, 153.5165,2,   124.6,2,   35.41,2,    0.00,2,    2.47,2,   0.018,2,   0.057,2,   0.0000,4,  2309.2,2,  2399.6,2,   7.5742,2,    25.00, -999.00,9, -999.00,9, -999.00,    39.4,2, -999.00,9,     -999.0,1,  -999.0,9, 20170925,     2023, -32.5000, -74.8555,        0.0,1,      0.061,1,      4.679,1,      0.133,1,     -999.0,9,     -999.0,9,     -999.0,9,     -999.0,9,     -999.0,9,     -999.0,9,     -999.0,9,     -999.0,9,     -999.0,9,     -999.0,9,     -999.0,9,     1.8134,2,     -999.0,     -999.0,9,     -999.0
320620170820,        P06,     234,          1,          7,          7,2,20170925,       1958,   -32.5000,   -74.8558,       4182,  2737.3,   1.8838,  34.6715,2,  34.6696,2, 149.2937,2, 149.9819,2,   123.4,2,   35.70,2,    0.00,2,    2.51,2,   0.010,2,   0.054,2,   0.0000,4,  -999.0,9,  -999.0,9,-999.0000,9,  -999.00, -999.00,9, -999.00,9, -999.00,  -999.0,9, -999.00,9,     -999.0,9,  -999.0,9, 20170925,     2029, -32.5000, -74.8557,        0.0,1,      0.061,1,      4.679,1,      0.134,1,     -999.0,9,     -999.0,9,     -999.0,9,     -999.0,9,     -999.0,9,     -999.0,9,     -999.0,9,     -999.0,9,     -999.0,9,     -999.0,9,     -999.0,9,     1.8832,2,     -999.0,     -999.0,9,     -999.0
320620170820,        P06,     234,          1,          8,          8,2,20170925,       1958,   -32.5000,   -74.8558,       4182,  2530.6,   1.9363,  34.6653,2,  34.6637,2, 146.2014,2, 146.2171,2,   122.6,2,   35.97,2,    0.00,2,    2.53,2,   0.019,2,   0.066,2,   0.0000,4,  2313.1,2,  2396.7,2,   7.5608,2,    25.00, -999.00,9, -999.00,9, -999.00,    37.4,2, -999.00,9,     -999.0,1,  -999.0,9, 20170925,     2034, -32.5000, -74.8555,        0.0,1,      0.061,1,      4.679,1,      0.143,1,     -999.0,9,     -999.0,9,     -999.0,9,     -999.0,9,     -999.0,9,     -999.0,9,     -999.0,9,     -999.0,9,     -999.0,9,     -999.0,9,     -999.0,9,     1.9369,2,     -999.0,     -999.0,9,     -999.0
320620170820,        P06,     234,          1,          9,          9,2,20170925,       1958,   -32.5000,   -74.8558,       4182,  2277.9,   2.0458,  34.6542,2,  34.6527,2, 139.8844,2, 139.7685,2,   120.5,2,   36.39,2,    0.00,2,    2.58,2,   0.021,2,   0.075,2,   0.0000,4,  -999.0,9,  -999.0,9,-999.0000,9,  -999.00, -999.00,9, -999.00,9, -999.00,  -999.0,9, -999.00,9,     -999.0,9,  -999.0,9, 20170925,     2039, -32.5000, -74.8554,        0.0,1,      0.062,1,      4.679,1,      0.136,1,     -999.0,9,     -999.0,9,     -999.0,9,     -999.0,9,     -999.0,9,     -999.0,9,     -999.0,9,     -999.0,9,     -999.0,9,     -999.0,9,     -999.0,9,     2.0540,2,     -999.0,     -999.0,9,     -999.0
320620170820,        P06,     234,          1,         10,         10,2,20170925,       1958,   -32.5000,   -74.8558,       4182,  2023.5,   2.2202,  34.6385,2,  34.6364,2, 131.2503,2, 132.0088,2,   117.7,2,   37.16,2,    0.00,2,    2.65,2,   0.021,2,   0.083,2,   0.0000,4,  2314.3,2,  2390.8,6,   7.5335,2,    25.00, -999.00,9, -999.00,9, -999.00,    35.6,2, -999.00,9,     -999.0,1,  -999.0,9, 20170925,     2045, -32.5000, -74.8555,        0.0,1,      0.061,1,      4.679,1,      0.138,1,     -999.0,9,     -999.0,9,     -999.0,9,     -999.0,9,     -999.0,9,     -999.0,9,     -999.0,9,     -999.0,9,     -999.0,9,     -999.0,9,     -999.0,9,     2.2249,2,     -999.0,     -999.0,9,     -999.0
320620170820,        P06,     234,          1,         11,         11,2,20170925,       1958,   -32.5000,   -74.8558,       4182,  1821.4,   2.3976,  34.6207,2,  34.6172,2, 126.2064,2, 126.8458,2,   111.3,2,   37.62,2,    0.00,2,    2.69,2,   0.018,2,   0.072,2,   0.0000,4,  -999.0,9,  -999.0,9,-999.0000,9,  -999.00, -999.00,9, -999.00,9, -999.00,  -999.0,9, -999.00,9,     -999.0,9,  -999.0,9, 20170925,     2049, -32.5000, -74.8559,        0.0,1,      0.062,1,      4.679,1,      0.137,1,     -999.0,9,     -999.0,9,     -999.0,9,     -999.0,9,     -999.0,9,     -999.0,9,     -999.0,9,     -999.0,9,     -999.0,9,     -999.0,9,     -999.0,9,     2.4201,2,     -999.0,     -999.0,9,     -999.0
320620170820,        P06,     234,          1,         12,         12,2,20170925,       1958,   -32.5000,   -74.8558,       4182,  1619.3,   2.6534,  34.5958,2,  34.5932,2, 121.1849,2,  120.828,2,   103.8,2,   38.13,2,    0.00,2,    2.72,2,   0.022,2,   0.093,2,   0.0000,4,  2307.7,2,  2374.1,2,   7.5105,2,    25.00, -999.00,9, -999.00,9, -999.00,    34.6,2, -999.00,9,     -999.0,1,  -999.0,9, 20170925,     2054, -32.5000, -74.8557,        0.0,1,      0.062,1,      4.679,1,      0.137,1,     -999.0,9,     -999.0,9,     -999.0,9,     -999.0,9,     -999.0,9,     -999.0,9,     -999.0,9,     -999.0,9,     -999.0,9,     -999.0,9,     -999.0,9,     2.6672,2,     -999.0,     -999.0,9,     -999.0
320620170820,        P06,     234,          1,         13,         13,2,20170925,       1958,   -32.5000,   -74.8558,       4182,  1515.9,   2.8123,  34.5794,2,  34.5777,2, 117.9168,2, 117.3364,2,    99.1,2,   38.46,2,    0.00,2,    2.72,2,   0.017,2,   0.081,2,   0.0000,4,  -999.0,9,  -999.0,9,-999.0000,9,  -999.00, -999.00,9, -999.00,9, -999.00,  -999.0,9, -999.00,9,     -999.0,9,  -999.0,9, 20170925,     2056, -32.5000, -74.8557,        0.0,1,      0.062,1,      4.679,1,      0.141,1,     -999.0,9,     -999.0,9,     -999.0,9,     -999.0,9,     -999.0,9,     -999.0,9,     -999.0,9,     -999.0,9,     -999.0,9,     -999.0,9,     -999.0,9,     2.8099,2,     -999.0,     -999.0,9,     -999.0
320620170820,        P06,     234,          1,         14,         14,2,20170925,       1958,   -32.5000,   -74.8558,       4182,  1415.7,   2.9943,  34.5587,2,  34.5594,2, 114.9297,2, 114.2709,2,    93.9,2,   38.78,2,    0.00,2,    2.74,2,   0.021,2,   0.094,2,   0.0000,4,  2299.0,2,  2362.6,2,   7.4936,2,    25.00, -999.00,9, -999.00,9, -999.00,    36.1,2, -999.00,9,     -999.0,1,  -999.0,9, 20170925,     2059, -32.5000, -74.8557,        0.0,1,      0.063,1,      4.679,1,      0.140,1,     -999.0,9,     -999.0,9,     -999.0,9,     -999.0,9,     -999.0,9,     -999.0,9,     -999.0,9,     -999.0,9,     -999.0,9,     -999.0,9,     -999.0,9,     2.9794,2,     -999.0,     -999.0,9,     -999.0
320620170820,        P06,     234,          1,         15,         15,2,20170925,       1958,   -32.5000,   -74.8558,       4182,  1311.8,   3.1550,  34.5387,2,  34.5415,2, 113.0629,2, 112.6657,2,    89.0,2,   38.99,2,    0.00,2,    2.76,2,   0.021,2,   0.089,2,   0.0000,4,  -999.0,9,  -999.0,9,-999.0000,9,  -999.00, -999.00,9, -999.00,9, -999.00,  -999.0,9, -999.00,9,     -999.0,9,  -999.0,9, 20170925,     2102, -32.4999, -74.8554,        0.0,1,      0.063,1,      4.679,1,      0.139,1,     -999.0,9,     -999.0,9,     -999.0,9,     -999.0,9,     -999.0,9,     -999.0,9,     -999.0,9,     -999.0,9,     -999.0,9,     -999.0,9,     -999.0,9,     3.1216,2,     -999.0,     -999.0,9,     -999.0
320620170820,        P06,     234,          1,         16,         16,2,20170925,       1958,   -32.5000,   -74.8558,       4182,  1211.2,   3.3573,  34.5115,2,  34.5125,2, 112.8869,2, 112.0966,2,    81.0,2,   39.12,2,    0.00,2,    2.76,2,   0.034,2,   0.134,2,   0.0000,4,  2292.3,2,  2346.2,2,   7.4834,2,    25.00, -999.00,9, -999.00,9, -999.00,    36.9,2, -999.00,9,     -999.0,1,  -999.0,9, 20170925,     2104, -32.5000, -74.8553,        0.0,1,      0.063,1,      4.678,1,      0.140,1,     -999.0,9,     -999.0,9,     -999.0,9,     -999.0,9,     -999.0,9,     -999.0,9,     -999.0,9,     -999.0,9,     -999.0,9,     -999.0,9,     -999.0,9,     3.3418,2,     -999.0,     -999.0,9,     -999.0
320620170820,        P06,     234,          1,         17,         17,2,20170925,       1958,   -32.5000,   -74.8558,       4182,  1109.2,   3.6191,  34.4884,2,  34.4885,2, 109.5937,2, 109.3691,2,    73.8,2,   39.36,2,    0.00,2,    2.77,2,   0.045,2,   0.138,2,   0.0000,4,  2285.0,6,  2338.6,2,   7.4782,2,    25.00, -999.00,9, -999.00,9, -999.00,    35.7,2, -999.00,9,     -999.0,1,  -999.0,9, 20170925,     2107, -32.5000, -74.8556,        0.0,1,      0.064,1,      4.678,1,      0.142,1,     -999.0,9,     -999.0,9,     -999.0,9,     -999.0,9,     -999.0,9,     -999.0,9,     -999.0,9,     -999.0,9,     -999.0,9,     -999.0,9,     -999.0,9,     3.5921,2,     -999.0,     -999.0,9,     -999.0
320620170820,        P06,     234,          1,         18,         18,2,20170925,       1958,   -32.5000,   -74.8558,       4182,  1011.0,   3.7834,  34.4463,2,  34.4418,2, 120.0381,2, 120.2914,2,    62.0,2,   38.55,2,    0.00,2,    2.71,2,   0.146,2,   0.248,2,   0.0000,4,  2266.3,2,  2324.8,2,   7.4892,2,    25.00, -999.00,9, -999.00,9, -999.00,    43.9,2, -999.00,9,     -999.0,1,  -999.0,9, 20170925,     2110, -32.5000, -74.8558,        0.0,1,      0.063,1,      4.678,1,      0.141,1,     -999.0,9,     -999.0,9,     -999.0,9,     -999.0,9,     -999.0,9,     -999.0,9,     -999.0,9,     -999.0,9,     -999.0,9,     -999.0,9,     -999.0,9,     3.8190,2,     -999.0,     -999.0,9,     -999.0
320620170820,        P06,     234,          1,         19,         19,2,20170925,       1958,   -32.5000,   -74.8558,       4182,   908.4,   4.0725,  34.3977,2,  34.3864,2, 139.3193,2,  140.548,2,    48.5,2,   36.89,2,    0.00,2,    2.57,2,   0.440,2,   0.341,2,   0.0000,4,  -999.0,9,  -999.0,9,-999.0000,9,  -999.00, -999.00,9, -999.00,9, -999.00,  -999.0,9, -999.00,9,     -999.0,9,  -999.0,9, 20170925,     2113, -32.5000, -74.8555,        0.0,1,      0.061,1,      4.677,1,      0.142,1,     -999.0,9,     -999.0,9,     -999.0,9,     -999.0,9,     -999.0,9,     -999.0,9,     -999.0,9,     -999.0,9,     -999.0,9,     -999.0,9,     -999.0,9,     4.0892,2,     -999.0,     -999.0,9,     -999.0
320620170820,        P06,     234,          1,         20,         20,2,20170925,       1958,   -32.5000,   -74.8558,       4182,   807.5,   4.4812,  34.3322,2,  34.3360,2, 162.7564,2, 161.4648,2,    35.6,2,   34.76,2,    0.00,2,    2.40,2,   1.012,2,   0.613,2,   0.1840,4,  2222.3,2,  2297.9,2,   7.5466,2,    25.00, -999.00,9, -999.00,9, -999.00,    42.8,2, -999.00,9,     -999.0,1,  -999.0,9, 20170925,     2116, -32.5000, -74.8556,        0.0,1,      0.061,1,      4.677,1,      0.143,1,     -999.0,9,     -999.0,9,     -999.0,9,     -999.0,9,     -999.0,9,     -999.0,9,     -999.0,9,     -999.0,9,     -999.0,9,     -999.0,9,     -999.0,9,     4.4904,2,     -999.0,     -999.0,9,     -999.0
320620170820,        P06,     234,          1,         21,         21,2,20170925,       1958,   -32.5000,   -74.8558,       4182,   707.4,   4.9852,  34.2974,2,  34.2907,2, 185.4127,2,  186.969,2,    22.9,2,   31.76,2,    0.00,2,    2.21,2,   1.998,2,   1.147,2,   0.4020,4,  -999.0,9,  -999.0,9,-999.0000,9,  -999.00, -999.00,9, -999.00,9, -999.00,  -999.0,9, -999.00,9,     -999.0,9,  -999.0,9, 20170925,     2119, -32.5000, -74.8560,        0.0,1,      0.061,1,      4.677,1,      0.151,1,     -999.0,9,     -999.0,9,     -999.0,9,     -999.0,9,     -999.0,9,     -999.0,9,     -999.0,9,     -999.0,9,     -999.0,9,     -999.0,9,     -999.0,9,     5.0330,2,     -999.0,     -999.0,9,     -999.0
320620170820,        P06,     234,          1,         22,         22,2,20170925,       1958,   -32.5000,   -74.8558,       4182,   603.9,   5.4420,  34.2805,2,  34.2793,2, 196.4205,2, 195.7865,2,    16.9,2,   30.19,2,    0.00,2,    2.08,2,   2.901,2,   1.513,2,   0.7490,4,  2186.0,2,  2278.0,2,   7.5984,2,    25.00, -999.00,9, -999.00,9, -999.00,  -999.0,5, -999.00,9,     -999.0,1,  -999.0,9, 20170925,     2122, -32.5000, -74.8558,        0.0,1,      0.060,1,      4.676,1,      0.143,1,     -999.0,9,     -999.0,9,     -999.0,9,     -999.0,9,     -999.0,9,     -999.0,9,     -999.0,9,     -999.0,9,     -999.0,9,     -999.0,9,     -999.0,9,     5.4936,2,     -999.0,     -999.0,9,     -999.0
320620170820,        P06,     234,          1,         23,         23,2,20170925,       1958,   -32.5000,   -74.8558,       4182,   504.2,   6.0487,  34.2972,2,  34.2938,2, 189.5677,2, 188.8775,2,    14.1,2,   29.57,2,    0.00,2,    2.03,2,   3.295,2,   1.709,2,   0.8460,4,  -999.0,9,  -999.0,9,-999.0000,9,  -999.00, -999.00,9, -999.00,9, -999.00,    40.7,2, -999.00,9,     -999.0,1,  -999.0,9, 20170925,     2124, -32.5000, -74.8557,        0.0,1,      0.061,1,      4.673,1,      0.147,1,     -999.0,9,     -999.0,9,     -999.0,9,     -999.0,9,     -999.0,9,     -999.0,9,     -999.0,9,     -999.0,9,     -999.0,9,     -999.0,9,     -999.0,9,     6.0566,2,     -999.0,     -999.0,9,     -999.0
320620170820,        P06,     234,          1,         24,         24,2,20170925,       1958,   -32.5000,   -74.8558,       4182,   453.6,   6.5789,  34.3410,2,  34.3342,2, 147.6782,2, 149.4881,2,    16.2,2,   31.88,2,    0.00,2,    2.23,2,   2.838,2,   1.532,2,   0.4450,4,  2208.6,2,  2279.8,2,   7.5265,2,    25.00, -999.00,9, -999.00,9, -999.00,    40.7,2, -999.00,9,     -999.0,1,  -999.0,9, 20170925,     2126, -32.5000, -74.8556,        0.0,1,      0.061,1,      4.669,1,      0.155,1,     -999.0,9,     -999.0,9,     -999.0,9,     -999.0,9,     -999.0,9,     -999.0,9,     -999.0,9,     -999.0,9,     -999.0,9,     -999.0,9,     -999.0,9,     6.5770,2,     -999.0,     -999.0,9,     -999.0
320620170820,        P06,     234,          1,         25,         25,2,20170925,       1958,   -32.5000,   -74.8558,       4182,   402.8,   7.2530,  34.3865,2,  34.3827,2, 107.2547,2, 104.9981,2,    18.5,2,   34.02,2,    0.00,2,    2.42,2,   2.218,2,   1.273,2,   0.6510,4,  -999.0,9,  -999.0,9,-999.0000,9,  -999.00, -999.00,9, -999.00,9, -999.00,  -999.0,9, -999.00,9,     -999.0,9,  -999.0,9, 20170925,     2128, -32.5000, -74.8556,        0.0,1,      0.064,1,      4.666,1,      0.154,1,     -999.0,9,     -999.0,9,     -999.0,9,     -999.0,9,     -999.0,9,     -999.0,9,     -999.0,9,     -999.0,9,     -999.0,9,     -999.0,9,     -999.0,9,     7.2200,2,     -999.0,     -999.0,9,     -999.0
320620170820,        P06,     234,          1,         26,         26,2,20170925,       1958,   -32.5000,   -74.8558,       4182,   354.1,   7.8703,  34.4231,2,  34.4167,2,  78.4984,2,  79.4711,2,    19.4,2,   34.05,2,    0.00,2,    2.51,2,   1.942,2,   1.207,2,   0.6280,4,  2247.1,2,  2277.4,2,   7.4154,6,    25.00, -999.00,9, -999.00,9, -999.00,    41.8,2, -999.00,9,     -999.0,1,  -999.0,9, 20170925,     2130, -32.5000, -74.8556,        0.0,1,      0.064,1,      4.663,1,      0.158,1,     -999.0,9,     -999.0,9,     -999.0,9,     -999.0,9,     -999.0,9,     -999.0,9,     -999.0,9,     -999.0,9,     -999.0,9,     -999.0,9,     -999.0,9,     7.8761,2,     -999.0,     -999.0,9,     -999.0