BOTTLE,20240211CCHSIOCBG
EXPOCODE,SECT_ID,STNNBR,CASTNO,SAMPNO,BTLNBR,BTLNBR_FLAG_W,DATE,TIME,LATITUDE,LONGITUDE,DEPTH,CTDPRS,CTDTMP,CTDSAL,CTDSAL_FLAG_W,SALNTY,SALNTY_FLAG_W,CTDOXY,CTDOXY_FLAG_W,OXYGEN,OXYGEN_FLAG_W,SILCAT,SILCAT_FLAG_W,NITRAT,NITRAT_FLAG_W,NITRIT,NITRIT_FLAG_W,PHSPHT,PHSPHT_FLAG_W,CFC-11,CFC-11_FLAG_W,CFC-12,CFC-12_FLAG_W,SF6,SF6_FLAG_W,TCARBN,TCARBN_FLAG_W,ALKALI,ALKALI_FLAG_W,PH_TOT,PH_TOT_FLAG_W,PH_TMP,DELC13,DELC13_FLAG_W,DELC14,DELC14_FLAG_W,C14ERR,DOC,DOC_FLAG_W,TDN,TDN_FLAG_W,TON,TON_FLAG_W,D15N_NO3,D15N_NO3_FLAG_W,BTL_DATE,BTL_TIME,BTL_LAT,BTL_LON,CTDRINKO,CTDRINKO_FLAG_W,CTDFLUOR,CTDFLUOR_FLAG_W,CTDXMISS,CTDXMISS_FLAG_W,CTDBACKSCATTER,CTDBACKSCATTER_FLAG_W,D18O_NO3,D18O_NO3_FLAG_W,DOP,DOP_FLAG_W,CELLCOUNT,CELLCOUNT_FLAG_W,TDP,TDP_FLAG_W,POP,POP_FLAG_W,DATP,DATP_FLAG_W,PATP,PATP_FLAG_W,HPLC,HPLC_FLAG_W,POC,POC_FLAG_W,BEAMAP,BEAMAP_FLAG_W,DOC_NASA,DOC_NASA_FLAG_W,REFTMP,REFTMP_FLAG_W,DOC_NASA_ERROR,TDN_NASA,TDN_NASA_FLAG_W,TDN_NASA_ERROR
,,,,,,,,,,,METERS,DBAR,ITS-90,PSS-78,,PSS-78,,UMOL/KG,,UMOL/KG,,UMOL/KG,,UMOL/KG,,UMOL/KG,,UMOL/KG,,PMOL/KG,,PMOL/KG,,FMOL/KG,,UMOL/KG,,UMOL/KG,,,,DEG C,/MILLE,,/MILLE,,/MILLE,UMOL/KG,,UMOL/KG,,UMOL/KG,,/MILLE,,,,,,VOLTS,,VOLTS,,VOLTS,,VOLTS,,/MILLE,,UMOL/KG,,/LITER,,UMOL/KG,,UMOL/L,,PMOL/L,,PMOL/L,,,,UG/L,,/METER,,UMOL/L,,ITS-90,,UMOL/L,UMOL/L,,UMOL/L
320620170820,        P06,     178,          3,          1,          1,2,20170907,       2053,   -32.5013,  -120.5546,       3396,  3433.8,   1.6587,  34.6805,2,  34.6846,2, 168.3255,2, 168.5477,2,   121.7,2,   34.44,2,    0.00,2,    2.38,2,   0.033,2,   0.019,2,   0.0000,2,  2296.5,6,  2393.5,2,   7.5894,2,    25.00, -999.00,9, -999.00,9, -999.00,    38.7,2, -999.00,9,     -999.0,1,  -999.0,1, 20170907,     2053, -32.5012,-120.5547,        0.0,1,      0.061,1,      4.691,1,      0.127,1,     -999.0,1,     -999.0,9,     -999.0,9,     -999.0,9,     -999.0,9,     -999.0,9,     -999.0,9,     -999.0,9,     -999.0,9,     -999.0,9,     -999.0,9,     1.6589,2,     -999.0,     -999.0,9,     -999.0
320620170820,        P06,     178,          3,          2,          2,2,20170907,       2053,   -32.5013,  -120.5546,       3396,  3363.2,   1.6528,  34.6804,2,  34.6832,2, 168.3255,2, 168.6196,2,   122.1,2,   34.44,2,    0.00,2,    2.36,2,   0.036,2,   0.024,2,   0.0000,2,  -999.0,9,  -999.0,9,-999.0000,9,  -999.00, -999.00,9, -999.00,9, -999.00,  -999.0,9, -999.00,9,     -999.0,9,  -999.0,1, 20170907,     2058, -32.5013,-120.5547,        0.0,1,      0.061,1,      4.692,1,      0.127,1,     -999.0,1,     -999.0,9,     -999.0,9,     -999.0,9,     -999.0,9,     -999.0,9,     -999.0,9,     -999.0,9,     -999.0,9,     -999.0,9,     -999.0,9,     1.6531,2,     -999.0,     -999.0,9,     -999.0
320620170820,        P06,     178,          3,          3,          3,2,20170907,       2053,   -32.5013,  -120.5546,       3396,  3313.1,   1.6527,  34.6801,2,  34.6812,2, 168.3255,2, 168.0469,2,   121.9,2,   34.37,2,    0.00,2,    2.38,2,   0.033,2,   0.022,2,   0.0000,2,  2295.1,3,  2394.0,6,   7.5899,2,    25.00, -999.00,9, -999.00,9, -999.00,    38.4,2, -999.00,9,     -999.0,1,  -999.0,1, 20170907,     2100, -32.5013,-120.5547,        0.0,1,      0.061,1,      4.692,1,      0.125,1,     -999.0,1,     -999.0,9,     -999.0,9,     -999.0,9,     -999.0,9,     -999.0,9,     -999.0,9,     -999.0,9,     -999.0,9,     -999.0,9,     -999.0,9,     1.6528,2,     -999.0,     -999.0,9,     -999.0
320620170820,        P06,     178,          3,          4,          4,2,20170907,       2053,   -32.5013,  -120.5546,       3396,  3106.1,   1.6573,  34.6782,2,  34.6785,2,  167.698,2, 167.5051,2,   121.9,2,   34.48,2,    0.00,2,    2.39,2,   0.038,2,   0.023,2,   0.0000,2,  -999.0,9,  -999.0,9,-999.0000,9,  -999.00, -999.00,9, -999.00,9, -999.00,    35.2,2, -999.00,9,     -999.0,1,  -999.0,1, 20170907,     2105, -32.5012,-120.5548,        0.0,1,      0.061,1,      4.692,1,      0.126,1,     -999.0,1,     -999.0,9,     -999.0,9,     -999.0,9,     -999.0,9,     -999.0,9,     -999.0,9,     -999.0,9,     -999.0,9,     -999.0,9,     -999.0,9,     1.6598,2,     -999.0,     -999.0,9,     -999.0
320620170820,        P06,     178,          3,          5,          5,2,20170907,       2053,   -32.5013,  -120.5546,       3396,  2903.8,   1.6905,  34.6743,2,  34.6751,2, 165.1999,2, 165.1348,2,   121.9,2,   34.60,2,    0.00,2,    2.39,2,   0.034,2,   0.023,2,   0.0000,2,  2299.5,2,  2393.8,2,   7.5875,2,    25.00, -999.00,9, -999.00,9, -999.00,    37.5,2, -999.00,9,     -999.0,1,  -999.0,1, 20170907,     2110, -32.5011,-120.5548,        0.0,1,      0.061,1,      4.693,1,      0.127,1,     -999.0,1,     -999.0,9,     -999.0,9,     -999.0,9,     -999.0,9,     -999.0,9,     -999.0,9,     -999.0,9,     -999.0,9,     -999.0,9,     -999.0,9,     1.6923,2,     -999.0,     -999.0,9,     -999.0
320620170820,        P06,     178,          3,          6,          6,2,20170907,       2053,   -32.5013,  -120.5546,       3396,  2698.5,   1.7358,  34.6698,2,  34.6696,2, 162.9938,2, 162.8844,2,   121.2,2,   34.72,2,    0.00,2,    2.41,2,   0.035,2,   0.021,2,   0.0000,2,  -999.0,9,  -999.0,9,-999.0000,9,  -999.00, -999.00,9, -999.00,9, -999.00,  -999.0,9, -999.00,9,     -999.0,9,  -999.0,1, 20170907,     2115, -32.5011,-120.5548,        0.0,1,      0.061,1,      4.693,1,      0.126,1,     -999.0,1,     -999.0,9,     -999.0,9,     -999.0,9,     -999.0,9,     -999.0,9,     -999.0,9,     -999.0,9,     -999.0,9,     -999.0,9,     -999.0,9,     1.7409,2,     -999.0,     -999.0,9,     -999.0
320620170820,        P06,     178,          3,          7,          7,2,20170907,       2053,   -32.5013,  -120.5546,       3396,  2496.8,   1.8080,  34.6638,2,  34.6639,2, 160.2709,2, 160.2482,2,   119.7,2,   34.88,2,    0.00,2,    2.42,2,   0.034,2,   0.019,2,   0.0000,2,  2295.6,3,  2390.9,2,   7.5809,2,    25.00, -999.00,9, -999.00,9, -999.00,    37.3,2, -999.00,9,     -999.0,1,  -999.0,1, 20170907,     2120, -32.5011,-120.5548,        0.0,1,      0.061,1,      4.693,1,      0.128,1,     -999.0,1,     -999.0,9,     -999.0,9,     -999.0,9,     -999.0,9,     -999.0,9,     -999.0,9,     -999.0,9,     -999.0,9,     -999.0,9,     -999.0,9,     1.8101,2,     -999.0,     -999.0,9,     -999.0
320620170820,        P06,     178,          3,          8,          8,2,20170907,       2053,   -32.5013,  -120.5546,       3396,  2290.2,   1.9106,  34.6551,2,  34.6561,2, 158.0962,2, 158.2825,2,   117.1,2,   35.15,2,    0.00,2,    2.42,2,   0.044,2,   0.028,2,   0.0000,2,  -999.0,9,  -999.0,9,-999.0000,9,  -999.00, -999.00,9, -999.00,9, -999.00,    38.8,2, -999.00,9,     -999.0,1,  -999.0,1, 20170907,     2125, -32.5012,-120.5547,        0.0,1,      0.061,1,      4.693,1,      0.126,1,     -999.0,1,     -999.0,9,     -999.0,9,     -999.0,9,     -999.0,9,     -999.0,9,     -999.0,9,     -999.0,9,     -999.0,9,     -999.0,9,     -999.0,9,     1.9058,2,     -999.0,     -999.0,9,     -999.0
320620170820,        P06,     178,          3,          9,          9,2,20170907,       2053,   -32.5013,  -120.5546,       3396,  2089.2,   2.0458,  34.6425,2,  34.6427,2, 156.8689,2,  157.025,2,   112.2,2,   35.15,2,    0.00,2,    2.42,2,   0.039,2,   0.024,2,   0.0000,2,  2293.0,6,  2384.6,2,   7.5726,2,    25.00, -999.00,9, -999.00,9, -999.00,    36.2,2, -999.00,9,     -999.0,1,  -999.0,1, 20170907,     2130, -32.5014,-120.5546,        0.0,1,      0.061,1,      4.694,1,      0.131,1,     -999.0,1,     -999.0,9,     -999.0,9,     -999.0,9,     -999.0,9,     -999.0,9,     -999.0,9,     -999.0,9,     -999.0,9,     -999.0,9,     -999.0,9,     2.0422,2,     -999.0,     -999.0,9,     -999.0
320620170820,        P06,     178,          3,         10,         10,2,20170907,       2053,   -32.5013,  -120.5546,       3396,  1884.2,   2.1778,  34.6264,2,  34.6266,2, 157.2752,2, 157.2198,2,   105.7,2,   35.02,2,    0.00,2,    2.42,2,   0.058,2,   0.038,2,   0.0000,2,  -999.0,9,  -999.0,9,-999.0000,9,  -999.00, -999.00,9, -999.00,9, -999.00,  -999.0,9, -999.00,9,     -999.0,9,  -999.0,1, 20170907,     2135, -32.5013,-120.5547,        0.0,1,      0.061,1,      4.694,1,      0.128,1,     -999.0,1,     -999.0,9,     -999.0,9,     -999.0,9,     -999.0,9,     -999.0,9,     -999.0,9,     -999.0,9,     -999.0,9,     -999.0,9,     -999.0,9,     2.1700,2,     -999.0,     -999.0,9,     -999.0
320620170820,        P06,     178,          3,         11,         11,2,20170907,       2053,   -32.5013,  -120.5546,       3396,  1752.9,   2.3094,  34.6059,2,  34.6081,2, 158.2825,2, 158.2587,2,    99.4,2,   34.96,2,    0.00,2,    2.40,2,   0.056,2,   0.036,2,   0.0000,2,  2281.1,2,  2368.4,2,   7.5690,6,    25.00, -999.00,9, -999.00,9, -999.00,    37.2,2, -999.00,9,     -999.0,1,  -999.0,1, 20170907,     2138, -32.5012,-120.5547,        0.0,1,      0.061,1,      4.694,1,      0.129,1,     -999.0,1,     -999.0,9,     -999.0,9,     -999.0,9,     -999.0,9,     -999.0,9,     -999.0,9,     -999.0,9,     -999.0,9,     -999.0,9,     -999.0,9,     2.2946,2,     -999.0,     -999.0,9,     -999.0
320620170820,        P06,     178,          3,         12,         12,2,20170907,       2053,   -32.5013,  -120.5546,       3396,  1653.4,   2.4499,  34.5822,2,  34.5838,2, 160.6742,2, 160.8973,2,    91.6,2,   34.80,2,    0.00,2,    2.39,2,   0.084,2,   0.052,2,   0.0000,2,  -999.0,9,  -999.0,9,-999.0000,9,  -999.00, -999.00,9, -999.00,9, -999.00,  -999.0,9, -999.00,9,     -999.0,9,  -999.0,1, 20170907,     2142, -32.5012,-120.5547,        0.0,1,      0.061,1,      4.694,1,      0.128,1,     -999.0,1,     -999.0,9,     -999.0,9,     -999.0,9,     -999.0,9,     -999.0,9,     -999.0,9,     -999.0,9,     -999.0,9,     -999.0,9,     -999.0,9,     2.4333,2,     -999.0,     -999.0,9,     -999.0
320620170820,        P06,     178,          3,         13,         13,2,20170907,       2053,   -32.5013,  -120.5546,       3396,  1550.2,   2.6269,  34.5479,2,  34.5539,2, 162.7982,2, 162.9867,2,    83.3,2,   34.70,2,    0.00,2,    2.38,2,   0.102,2,   0.062,2,   0.0000,2,  2266.1,2,  2347.3,2,   7.5650,2,    25.00, -999.00,9, -999.00,9, -999.00,    36.1,2, -999.00,9,     -999.0,1,  -999.0,1, 20170907,     2145, -32.5012,-120.5548,        0.0,1,      0.061,1,      4.694,1,      0.128,1,     -999.0,1,     -999.0,9,     -999.0,9,     -999.0,9,     -999.0,9,     -999.0,9,     -999.0,9,     -999.0,9,     -999.0,9,     -999.0,9,     -999.0,9,     2.5912,2,     -999.0,     -999.0,9,     -999.0
320620170820,        P06,     178,          3,         14,         14,2,20170907,       2053,   -32.5013,  -120.5546,       3396,  1448.7,   2.8231,  34.5076,2,  34.5125,2, 167.0762,2, 166.2018,2,    73.5,2,   34.53,2,    0.00,2,    2.36,2,   0.184,2,   0.107,2,   0.0000,2,  -999.0,9,  -999.0,9,-999.0000,9,  -999.00, -999.00,9, -999.00,9, -999.00,  -999.0,9, -999.00,9,     -999.0,9,  -999.0,1, 20170907,     2148, -32.5012,-120.5548,        0.0,1,      0.061,1,      4.694,1,      0.129,1,     -999.0,1,     -999.0,9,     -999.0,9,     -999.0,9,     -999.0,9,     -999.0,9,     -999.0,9,     -999.0,9,     -999.0,9,     -999.0,9,     -999.0,9,     2.7952,2,     -999.0,     -999.0,9,     -999.0
320620170820,        P06,     178,          3,         15,         15,2,20170907,       2053,   -32.5013,  -120.5546,       3396,  1244.1,   3.3464,  34.4205,2,  34.4257,2, 172.5604,2, 172.9682,2,    56.6,2,   34.21,2,    0.00,2,    2.34,2,   0.366,6,   0.197,6,   0.0054,6,  2234.6,2,  2319.6,2,   7.5686,2,    25.00, -999.00,9, -999.00,9, -999.00,    39.6,2, -999.00,9,     -999.0,1,  -999.0,1, 20170907,     2153, -32.5014,-120.5546,        0.0,1,      0.060,1,      4.694,1,      0.129,1,     -999.0,1,     -999.0,9,     -999.0,9,     -999.0,9,     -999.0,9,     -999.0,9,     -999.0,9,     -999.0,9,     -999.0,9,     -999.0,9,     -999.0,9,     3.3043,2,     -999.0,     -999.0,9,     -999.0
320620170820,        P06,     178,          3,         16,         16,2,20170907,       2053,   -32.5013,  -120.5546,       3396,  1042.9,   4.2024,  34.3287,2,  34.3252,2, 197.5289,2, 196.9926,2,    33.5,2,   31.62,2,    0.00,2,    2.14,2,   1.048,2,   0.527,2,   0.1332,2,  -999.0,9,  -999.0,9,-999.0000,9,  -999.00, -999.00,9, -999.00,9, -999.00,  -999.0,9, -999.00,9,     -999.0,9,  -999.0,1, 20170907,     2158, -32.5014,-120.5547,        0.0,1,      0.060,1,      4.694,1,      0.129,1,     -999.0,1,     -999.0,9,     -999.0,9,     -999.0,9,     -999.0,9,     -999.0,9,     -999.0,9,     -999.0,9,     -999.0,9,     -999.0,9,     -999.0,9,     4.2423,2,     -999.0,     -999.0,9,     -999.0
320620170820,        P06,     178,          3,         17,         17,2,20170907,       2053,   -32.5013,  -120.5546,       3396,   941.7,   4.7024,  34.3021,2,  34.2999,2, 209.5904,2, 209.5518,2,    24.6,2,   29.76,2,    0.00,2,    2.00,2,   1.533,2,   0.763,2,   0.2781,2,  2184.4,2,  2288.2,2,   7.6343,2,    25.00, -999.00,9, -999.00,9, -999.00,    41.0,2, -999.00,9,     -999.0,1,  -999.0,1, 20170907,     2201, -32.5012,-120.5548,        0.0,1,      0.061,1,      4.694,1,      0.129,1,     -999.0,1,     -999.0,9,     -999.0,9,     -999.0,9,     -999.0,9,     -999.0,9,     -999.0,9,     -999.0,9,     -999.0,9,     -999.0,9,     -999.0,9,     4.7491,2,     -999.0,     -999.0,9,     -999.0
320620170820,        P06,     178,          3,         18,         18,2,20170907,       2053,   -32.5013,  -120.5546,       3396,   840.4,   5.2631,  34.2877,2,  34.2852,2, 225.0661,2, 224.9586,2,    16.4,2,   27.43,2,    0.00,2,    1.84,2,   2.272,2,   1.125,2,   0.3741,2,  -999.0,9,  -999.0,9,-999.0000,9,  -999.00, -999.00,9, -999.00,9, -999.00,  -999.0,9, -999.00,9,     -999.0,9,  -999.0,1, 20170907,     2205, -32.5011,-120.5549,        0.0,1,      0.059,1,      4.693,1,      0.130,1,     -999.0,1,     -999.0,9,     -999.0,9,     -999.0,9,     -999.0,9,     -999.0,9,     -999.0,9,     -999.0,9,     -999.0,9,     -999.0,9,     -999.0,9,     5.3124,2,     -999.0,     -999.0,9,     -999.0
320620170820,        P06,     178,          3,         19,         19,2,20170907,       2053,   -32.5013,  -120.5546,       3396,   740.3,   5.8358,  34.2919,2,  34.2895,2,  236.436,2, 237.9973,2,    11.3,2,   25.30,2,    0.00,2,    1.69,2,   2.987,2,   1.498,2,   0.5984,2,  2153.5,2,  2276.8,2,   7.6877,2,    25.00, -999.00,9, -999.00,9, -999.00,    40.3,2, -999.00,9,     -999.0,1,  -999.0,1, 20170907,     2208, -32.5010,-120.5548,        0.0,1,      0.060,1,      4.692,1,      0.132,1,     -999.0,1,     -999.0,9,     -999.0,9,     -999.0,9,     -999.0,9,     -999.0,9,     -999.0,9,     -999.0,9,     -999.0,9,     -999.0,9,     -999.0,9,     5.8170,2,     -999.0,     -999.0,9,     -999.0
320620170820,        P06,     178,          3,         20,         20,2,20170907,       2053,   -32.5013,  -120.5546,       3396,   638.1,   6.3129,  34.3121,2,  34.3060,2, 243.5952,2,  244.132,2,     8.9,2,   23.85,2,    0.00,2,    1.58,2,   3.441,2,   1.740,2,   0.7639,2,  -999.0,9,  -999.0,9,-999.0000,9,  -999.00, -999.00,9, -999.00,9, -999.00,    46.7,2, -999.00,9,     -999.0,1,  -999.0,1, 20170907,     2211, -32.5011,-120.5548,        0.0,1,      0.059,1,      4.692,1,      0.130,1,     -999.0,1,     -999.0,9,     -999.0,9,     -999.0,9,     -999.0,9,     -999.0,9,     -999.0,9,     -999.0,9,     -999.0,9,     -999.0,9,     -999.0,9,     6.2250,2,     -999.0,     -999.0,9,     -999.0
320620170820,        P06,     178,          3,         21,         21,2,20170907,       2053,   -32.5013,  -120.5546,       3396,   536.4,   6.7339,  34.3367,2,  34.3339,2, 247.4998,2, 247.1161,2,     6.9,2,   22.35,2,    0.00,2,    1.48,2,   3.613,2,   1.905,2,   1.0684,2,  2144.1,6,  2276.0,2,   7.7097,2,    25.00, -999.00,9, -999.00,9, -999.00,    46.2,2, -999.00,9,     -999.0,1,  -999.0,1, 20170907,     2214, -32.5013,-120.5547,        0.0,1,      0.059,1,      4.691,1,      0.133,1,     -999.0,1,     -999.0,9,     -999.0,9,     -999.0,9,     -999.0,9,     -999.0,9,     -999.0,9,     -999.0,9,     -999.0,9,     -999.0,9,     -999.0,9,     6.6906,2,     -999.0,     -999.0,9,     -999.0
320620170820,        P06,     178,          3,         22,         22,2,20170907,       2053,   -32.5013,  -120.5546,       3396,   467.1,   7.0537,  34.3503,2,  34.3474,2,  248.306,2, 247.4218,2,     6.1,2,   21.54,2,    0.00,2,    1.44,2,   3.655,2,   1.968,2,   1.2339,2,  2143.2,2,  2275.4,2,   7.7130,2,    25.00, -999.00,9, -999.00,9, -999.00,    48.3,3, -999.00,9,     -999.0,1,  -999.0,1, 20170907,     2217, -32.5013,-120.5546,        0.0,1,      0.058,1,      4.691,1,      0.132,1,     -999.0,1,     -999.0,9,     -999.0,9,     -999.0,9,     -999.0,9,     -999.0,9,     -999.0,9,     -999.0,9,     -999.0,9,     -999.0,9,     -999.0,9,     6.9788,2,     -999.0,     -999.0,9,     -999.0
320620170820,        P06,     178,          3,         23,         23,2,20170907,       2053,   -32.5013,  -120.5546,       3396,   416.9,   7.5621,  34.3701,2,  34.3584,2, 245.4882,2, 243.9626,2,     5.2,2,   20.69,2,    0.00,2,    1.38,2,   3.651,2,   1.966,2,   1.2564,2,  2142.4,2,  2275.8,6,   7.7151,2,    25.00, -999.00,9, -999.00,9, -999.00,    46.8,2, -999.00,9,     -999.0,1,  -999.0,1, 20170907,     2220, -32.5013,-120.5547,        0.0,1,      0.059,1,      4.690,1,      0.135,1,     -999.0,1,     -999.0,9,     -999.0,9,     -999.0,9,     -999.0,9,     -999.0,9,     -999.0,9,     -999.0,9,     -999.0,9,     -999.0,9,     -999.0,9,     7.3178,2,     -999.0,     -999.0,9,     -999.0
320620170820,        P06,     178,          3,         24,         24,2,20170907,       2053,   -32.5013,  -120.5546,       3396,   316.5,   9.0647,  34.4077,2,  34.4092,2,  233.581,2, 232.7637,2,     2.8,2,   16.72,2,    0.00,2,    1.14,2,   3.499,2,   1.872,2,   1.4866,2,  2129.7,2,  2273.5,2,   7.7430,2,    25.00, -999.00,9, -999.00,9, -999.00,    44.7,2, -999.00,9,     -999.0,1,  -999.0,1, 20170907,     2223, -32.5012,-120.5547,        0.0,1,      0.061,1,      4.687,1,      0.134,1,     -999.0,1,     -999.0,1,     -999.0,9,     -999.0,9,     -999.0,9,     -999.0,9,     -999.0,9,     -999.0,9,     -999.0,9,     -999.0,9,     -999.0,9,     9.0364,2,     -999.0,     -999.0,9,     -999.0
320620170820,        P06,     178,          3,         25,         25,2,20170907,       2053,   -32.5013,  -120.5546,       3396,   265.8,  10.8030,  34.5182,2,  34.4871,2, 224.3129,2,  225.857,2,     1.9,2,   13.11,2,    0.00,2,    0.93,2,   3.185,2,   1.793,2,   1.6139,2,  2114.6,2,  2275.4,2,   7.7768,6,    25.00, -999.00,9, -999.00,9, -999.00,    52.3,2,   16.30,2,     -999.0,1,  -999.0,1, 20170907,     2225, -32.5012,-120.5547,        0.0,1,      0.060,1,      4.685,1,      0.131,1,     -999.0,1,     -999.0,1,     -999.0,9,     -999.0,9,     -999.0,9,     -999.0,9,     -999.0,9,     -999.0,9,     -999.0,9,     -999.0,9,     -999.0,9,    10.6577,2,     -999.0,     -999.0,9,     -999.0
320620170820,        P06,     178,          3,         26,         26,2,20170907,       2053,   -32.5013,  -120.5546,       3396,   214.8,  12.2480,  34.6163,2,  34.6512,2, 223.5093,2, 223.6401,2,     0.9,2,    7.71,2,    0.02,2,    0.61,2,   2.856,2,   1.647,2,   1.4709,2,  2096.5,2,  2281.2,2,   7.8320,2,    25.00, -999.00,9, -999.00,9, -999.00,    54.6,3,   10.90,2,     -999.0,1,  -999.0,1, 20170907,     2228, -32.5011,-120.5548,        0.0,1,      0.066,1,      4.682,1,      0.134,1,     -999.0,1,     -999.0,1,     -999.0,1,     -999.0,1,     -999.0,1,     -999.0,1,     -999.0,1,     -999.0,9,     -999.0,9,     -999.0,9,     -999.0,9,    12.7666,2,     -999.0,     -999.0,9,     -999.0