BOTTLE,20240211CCHSIOCBG
EXPOCODE,SECT_ID,STNNBR,CASTNO,SAMPNO,BTLNBR,BTLNBR_FLAG_W,DATE,TIME,LATITUDE,LONGITUDE,DEPTH,CTDPRS,CTDTMP,CTDSAL,CTDSAL_FLAG_W,SALNTY,SALNTY_FLAG_W,CTDOXY,CTDOXY_FLAG_W,OXYGEN,OXYGEN_FLAG_W,SILCAT,SILCAT_FLAG_W,NITRAT,NITRAT_FLAG_W,NITRIT,NITRIT_FLAG_W,PHSPHT,PHSPHT_FLAG_W,CFC-11,CFC-11_FLAG_W,CFC-12,CFC-12_FLAG_W,SF6,SF6_FLAG_W,TCARBN,TCARBN_FLAG_W,ALKALI,ALKALI_FLAG_W,PH_TOT,PH_TOT_FLAG_W,PH_TMP,DELC13,DELC13_FLAG_W,DELC14,DELC14_FLAG_W,C14ERR,DOC,DOC_FLAG_W,TDN,TDN_FLAG_W,TON,TON_FLAG_W,D15N_NO3,D15N_NO3_FLAG_W,BTL_DATE,BTL_TIME,BTL_LAT,BTL_LON,CTDRINKO,CTDRINKO_FLAG_W,CTDFLUOR,CTDFLUOR_FLAG_W,CTDXMISS,CTDXMISS_FLAG_W,CTDBACKSCATTER,CTDBACKSCATTER_FLAG_W,D18O_NO3,D18O_NO3_FLAG_W,DOP,DOP_FLAG_W,CELLCOUNT,CELLCOUNT_FLAG_W,TDP,TDP_FLAG_W,POP,POP_FLAG_W,DATP,DATP_FLAG_W,PATP,PATP_FLAG_W,HPLC,HPLC_FLAG_W,POC,POC_FLAG_W,BEAMAP,BEAMAP_FLAG_W,DOC_NASA,DOC_NASA_FLAG_W,REFTMP,REFTMP_FLAG_W,DOC_NASA_ERROR,TDN_NASA,TDN_NASA_FLAG_W,TDN_NASA_ERROR
,,,,,,,,,,,METERS,DBAR,ITS-90,PSS-78,,PSS-78,,UMOL/KG,,UMOL/KG,,UMOL/KG,,UMOL/KG,,UMOL/KG,,UMOL/KG,,PMOL/KG,,PMOL/KG,,FMOL/KG,,UMOL/KG,,UMOL/KG,,,,DEG C,/MILLE,,/MILLE,,/MILLE,UMOL/KG,,UMOL/KG,,UMOL/KG,,/MILLE,,,,,,VOLTS,,VOLTS,,VOLTS,,VOLTS,,/MILLE,,UMOL/KG,,/LITER,,UMOL/KG,,UMOL/L,,PMOL/L,,PMOL/L,,,,UG/L,,/METER,,UMOL/L,,ITS-90,,UMOL/L,UMOL/L,,UMOL/L
320620170820,        P06,     222,          3,         27,         27,2,20170921,       1731,   -32.4995,   -85.5358,       3645,   149.8,  14.2251,  34.3324,2,  34.3578,2, 251.7326,2, 252.4088,2,     0.1,2,    3.31,2,    0.15,2,    0.41,2,-999.000,9,-999.000,9,-999.0000,9,  2056.4,2,  2276.9,2,   7.9093,2,    25.00, -999.00,9, -999.00,9, -999.00,    57.1,2,    7.70,2,     -999.0,1,  -999.0,1, 20170921,     1914, -32.4995, -85.5359,        0.0,1,      0.117,1,      4.644,1,      0.183,1,     -999.0,1,     -999.0,1,     -999.0,1,     -999.0,1,     -999.0,1,     -999.0,1,     -999.0,1,     -999.0,9,     -999.0,9,     -999.0,9,     -999.0,9,    14.3118,2,     -999.0,     -999.0,9,     -999.0
320620170820,        P06,     222,          3,         28,         28,2,20170921,       1731,   -32.4995,   -85.5358,       3645,   124.4,  14.5658,  34.4158,2,  34.4265,2, 253.1791,2, 251.9349,2,     0.0,2,    2.81,2,    0.12,2,    0.38,2,-999.000,9,-999.000,9,-999.0000,9,  2058.7,2,  2280.1,2,   7.9142,2,    25.00, -999.00,9, -999.00,9, -999.00,    55.6,2,    7.10,2,     -999.0,1,  -999.0,1, 20170921,     1916, -32.4995, -85.5359,        0.0,1,      0.155,1,      4.631,1,      0.200,1,     -999.0,1,     -999.0,1,     -999.0,9,     -999.0,9,     -999.0,9,     -999.0,9,     -999.0,9,     -999.0,9,     -999.0,9,     -999.0,9,     -999.0,9,    14.6131,2,     -999.0,     -999.0,9,     -999.0
320620170820,        P06,     222,          3,         29,         29,2,20170921,       1731,   -32.4995,   -85.5358,       3645,   100.5,  14.5929,  34.4229,2,  34.4430,2, 252.5952,2,  252.933,2,     0.0,2,    2.71,2,    0.12,2,    0.38,2,-999.000,9,-999.000,9,-999.0000,9,  2058.2,2,  2281.1,2,   7.9167,2,    25.00, -999.00,9, -999.00,9, -999.00,    57.0,2,    6.70,2,     -999.0,1,  -999.0,1, 20170921,     1919, -32.4995, -85.5359,        0.0,1,      0.195,1,      4.620,1,      0.220,1,     -999.0,1,     -999.0,1,     -999.0,1,     -999.0,1,     -999.0,1,     -999.0,1,     -999.0,1,     -999.0,9,     -999.0,9,     -999.0,9,     -999.0,9,    14.6692,2,     -999.0,     -999.0,9,     -999.0
320620170820,        P06,     222,          3,         30,         30,2,20170921,       1731,   -32.4995,   -85.5358,       3645,    74.2,  14.6512,  34.4391,2,-999.0000,9, 244.5958,2,-999.0000,9,  -999.0,9, -999.00,9, -999.00,9, -999.00,9,-999.000,9,-999.000,9,-999.0000,9,  -999.0,9,  -999.0,9,-999.0000,9,  -999.00, -999.00,9, -999.00,9, -999.00,  -999.0,9, -999.00,9,     -999.0,9,  -999.0,9, 20170921,     1921, -32.4995, -85.5359,        0.0,1,      0.192,1,      4.616,1,      0.210,1,     -999.0,9,     -999.0,9,     -999.0,9,     -999.0,9,     -999.0,9,     -999.0,9,     -999.0,9,     -999.0,1,     -999.0,1,     -999.0,1,71.08653851,6,    14.6866,2,4.017530679,97.17239832,6,10.61960565
320620170820,        P06,     222,          3,         31,         31,2,20170921,       1731,   -32.4995,   -85.5358,       3645,    74.2,  14.6512,  34.4391,2,-999.0000,9, 244.8127,2,-999.0000,9,  -999.0,9, -999.00,9, -999.00,9, -999.00,9,-999.000,9,-999.000,9,-999.0000,9,  -999.0,9,  -999.0,9,-999.0000,9,  -999.00, -999.00,9, -999.00,9, -999.00,  -999.0,9, -999.00,9,     -999.0,9,  -999.0,9, 20170921,     1922, -32.4995, -85.5359,        0.0,1,      0.192,1,      4.616,1,      0.210,1,     -999.0,9,     -999.0,9,     -999.0,9,     -999.0,9,     -999.0,9,     -999.0,9,     -999.0,9,     -999.0,1,     -999.0,1,     -999.0,1,71.08653851,6,    14.6890,2,4.017530679,97.17239832,6,10.61960565
320620170820,        P06,     222,          3,         32,         32,2,20170921,       1731,   -32.4995,   -85.5358,       3645,    74.2,  14.6512,  34.4391,2,  34.4483,2, 252.5472,2, 252.5627,2,     0.0,2,    2.67,2,    0.11,2,    0.37,2,-999.000,9,-999.000,9,-999.0000,9,  2056.7,2,  2280.1,2,   7.9165,2,    25.00, -999.00,9, -999.00,9, -999.00,    57.2,2,    7.30,2,     -999.0,1,  -999.0,1, 20170921,     1922, -32.4995, -85.5359,        0.0,1,      0.192,1,      4.616,1,      0.210,1,     -999.0,1,     -999.0,1,     -999.0,1,     -999.0,1,     -999.0,1,     -999.0,1,     -999.0,1,     -999.0,9,     -999.0,9,     -999.0,9,     -999.0,9,    14.6929,2,     -999.0,     -999.0,9,     -999.0
320620170820,        P06,     222,          3,         33,         33,2,20170921,       1731,   -32.4995,   -85.5358,       3645,    49.2,  14.6630,  34.4411,2,  34.4432,2, 253.2231,2, 253.4922,2,     0.0,2,    2.67,2,    0.12,2,    0.37,2,-999.000,9,-999.000,9,-999.0000,9,  2055.9,2,  2281.0,2,   7.9173,2,    25.00, -999.00,9, -999.00,9, -999.00,    57.6,2,    7.00,2,     -999.0,1,  -999.0,1, 20170921,     1925, -32.4995, -85.5358,        0.0,1,      0.183,1,      4.604,1,      0.213,1,     -999.0,1,     -999.0,1,     -999.0,1,     -999.0,1,     -999.0,1,     -999.0,1,     -999.0,1,     -999.0,9,     -999.0,9,     -999.0,9,     -999.0,9,    14.6832,2,     -999.0,     -999.0,9,     -999.0
320620170820,        P06,     222,          3,         35,         35,2,20170921,       1731,   -32.4995,   -85.5358,       3645,    29.3,  14.6530,  34.4369,2,  34.4418,2, 253.9682,2, 254.0917,2,     0.0,2,    2.65,2,    0.12,2,    0.38,2,-999.000,9,-999.000,9,-999.0000,9,  2057.8,2,  2281.4,2,   7.9170,2,    25.00, -999.00,9, -999.00,9, -999.00,    61.8,2,    7.30,2,     -999.0,1,  -999.0,1, 20170921,     1928, -32.4995, -85.5358,        0.0,1,      0.162,1,      4.596,1,      0.215,1,     -999.0,1,     -999.0,1,     -999.0,1,     -999.0,1,     -999.0,1,     -999.0,1,     -999.0,1,     -999.0,9,     -999.0,9,     -999.0,9,     -999.0,9,    14.6937,2,     -999.0,     -999.0,9,     -999.0
320620170820,        P06,     222,          3,         34,         34,2,20170921,       1731,   -32.4995,   -85.5358,       3645,    29.0,  14.6530,  34.4369,2,-999.0000,9, 245.8551,2,-999.0000,9,  -999.0,9, -999.00,9, -999.00,9, -999.00,9,-999.000,9,-999.000,9,-999.0000,9,  -999.0,9,  -999.0,9,-999.0000,9,  -999.00, -999.00,9, -999.00,9, -999.00,  -999.0,9, -999.00,9,     -999.0,9,  -999.0,9, 20170921,     1927, -32.4995, -85.5358,        0.0,1,      0.162,1,      4.596,1,      0.215,1,     -999.0,9,     -999.0,9,     -999.0,9,     -999.0,9,     -999.0,9,     -999.0,9,     -999.0,9,     -999.0,1,     -999.0,1,     -999.0,1,67.62552657,6,    14.6897,2,0.530327052,103.8383251,6,1.686035361
320620170820,        P06,     222,          3,         36,         36,2,20170921,       1731,   -32.4995,   -85.5358,       3645,     2.5,  14.8170,  34.4603,2,  34.4528,2, 254.2012,2,  253.073,2,     0.0,2,    2.60,2,    0.11,2,    0.37,2,-999.000,9,-999.000,9,-999.0000,9,  2056.6,6,  2281.0,2,   7.9184,2,    25.00, -999.00,9, -999.00,9, -999.00,    56.3,2,    7.10,2,     -999.0,1,  -999.0,1, 20170921,     1930, -32.4995, -85.5358,        0.0,1,      0.106,1,      4.592,1,      0.208,1,     -999.0,1,     -999.0,1,     -999.0,9,     -999.0,9,     -999.0,9,     -999.0,9,     -999.0,9,     -999.0,9,     -999.0,9,     -999.0,9,     -999.0,9,    14.7668,2,     -999.0,     -999.0,9,     -999.0