BOTTLE,20240211CCHSIOCBG
EXPOCODE,SECT_ID,STNNBR,CASTNO,SAMPNO,BTLNBR,BTLNBR_FLAG_W,DATE,TIME,LATITUDE,LONGITUDE,DEPTH,CTDPRS,CTDTMP,CTDSAL,CTDSAL_FLAG_W,SALNTY,SALNTY_FLAG_W,CTDOXY,CTDOXY_FLAG_W,OXYGEN,OXYGEN_FLAG_W,SILCAT,SILCAT_FLAG_W,NITRAT,NITRAT_FLAG_W,NITRIT,NITRIT_FLAG_W,PHSPHT,PHSPHT_FLAG_W,CFC-11,CFC-11_FLAG_W,CFC-12,CFC-12_FLAG_W,SF6,SF6_FLAG_W,TCARBN,TCARBN_FLAG_W,ALKALI,ALKALI_FLAG_W,PH_TOT,PH_TOT_FLAG_W,PH_TMP,DELC13,DELC13_FLAG_W,DELC14,DELC14_FLAG_W,C14ERR,DOC,DOC_FLAG_W,TDN,TDN_FLAG_W,TON,TON_FLAG_W,D15N_NO3,D15N_NO3_FLAG_W,BTL_DATE,BTL_TIME,BTL_LAT,BTL_LON,CTDRINKO,CTDRINKO_FLAG_W,CTDFLUOR,CTDFLUOR_FLAG_W,CTDXMISS,CTDXMISS_FLAG_W,CTDBACKSCATTER,CTDBACKSCATTER_FLAG_W,D18O_NO3,D18O_NO3_FLAG_W,DOP,DOP_FLAG_W,CELLCOUNT,CELLCOUNT_FLAG_W,TDP,TDP_FLAG_W,POP,POP_FLAG_W,DATP,DATP_FLAG_W,PATP,PATP_FLAG_W,HPLC,HPLC_FLAG_W,POC,POC_FLAG_W,BEAMAP,BEAMAP_FLAG_W,DOC_NASA,DOC_NASA_FLAG_W,REFTMP,REFTMP_FLAG_W,DOC_NASA_ERROR,TDN_NASA,TDN_NASA_FLAG_W,TDN_NASA_ERROR
,,,,,,,,,,,METERS,DBAR,ITS-90,PSS-78,,PSS-78,,UMOL/KG,,UMOL/KG,,UMOL/KG,,UMOL/KG,,UMOL/KG,,UMOL/KG,,PMOL/KG,,PMOL/KG,,FMOL/KG,,UMOL/KG,,UMOL/KG,,,,DEG C,/MILLE,,/MILLE,,/MILLE,UMOL/KG,,UMOL/KG,,UMOL/KG,,/MILLE,,,,,,VOLTS,,VOLTS,,VOLTS,,VOLTS,,/MILLE,,UMOL/KG,,/LITER,,UMOL/KG,,UMOL/L,,PMOL/L,,PMOL/L,,,,UG/L,,/METER,,UMOL/L,,ITS-90,,UMOL/L,UMOL/L,,UMOL/L
320620170820,        P06,     155,          2,         27,         27,2,20170830,       0027,   -32.5006,  -139.4809,       4726,   188.4,  16.0228,  35.2084,2,  35.2274,2, 212.9432,2, 219.2923,2,     0.6,2,    1.93,2,    0.05,2,    0.24,2,   2.203,2,   1.412,2,   1.4990,2,  2081.3,2,  2313.4,2,   7.9146,2,    25.00, -999.00,9, -999.00,9, -999.00,  -999.0,9, -999.00,9,     -999.0,9,  -999.0,1, 20170830,      224, -32.4994,-139.4799,        0.0,1,      0.089,1,      4.674,1,      0.142,1,     -999.0,1,     -999.0,1,     -999.0,9,     -999.0,9,     -999.0,9,     -999.0,9,     -999.0,9,     -999.0,9,     -999.0,9,     -999.0,9,     -999.0,9,    16.1935,2,     -999.0,     -999.0,9,     -999.0
320620170820,        P06,     155,          2,         28,         28,2,20170830,       0027,   -32.5006,  -139.4809,       4726,   131.5,  17.8380,  35.4668,2,  35.4515,2, 236.4487,2,  234.529,2,     0.3,2,    0.00,2,    0.00,2,    0.06,2,   2.178,2,   1.276,2,   1.7740,2,  2059.2,2,  2327.2,2,   7.9820,6,    25.00, -999.00,9, -999.00,9, -999.00,  -999.0,9, -999.00,9,     -999.0,9,  -999.0,1, 20170830,      226, -32.4996,-139.4802,        0.0,1,      0.129,1,      4.643,1,      0.173,1,     -999.0,1,     -999.0,1,     -999.0,9,     -999.0,9,     -999.0,9,     -999.0,9,     -999.0,9,     -999.0,9,     -999.0,9,     -999.0,9,     -999.0,9,    17.7658,2,     -999.0,     -999.0,9,     -999.0
320620170820,        P06,     155,          2,         31,         31,2,20170830,       0027,   -32.5006,  -139.4809,       4726,   103.2,  17.8294,  35.4650,2,  35.4557,2, 234.0679,2, 234.4059,2,     0.3,2,    0.00,2,    0.00,2,    0.07,2,   2.172,2,   1.272,2,   1.5880,2,  2056.9,2,  2325.6,2,   7.9832,2,    25.00, -999.00,9, -999.00,9, -999.00,  -999.0,9, -999.00,9,     -999.0,9,  -999.0,1, 20170830,      229, -32.4999,-139.4807,        0.0,1,      0.129,1,      4.643,1,      0.173,1,     -999.0,1,     -999.0,1,     -999.0,9,     -999.0,9,     -999.0,9,     -999.0,9,     -999.0,9,     -999.0,9,     -999.0,9,     -999.0,9,     -999.0,9,    17.7730,2,     -999.0,     -999.0,9,     -999.0
320620170820,        P06,     155,          2,         30,         30,2,20170830,       0027,   -32.5006,  -139.4809,       4726,   102.8,  17.8294,  35.4650,2,-999.0000,9, 227.4315,2,-999.0000,9,  -999.0,9, -999.00,9, -999.00,9, -999.00,9,-999.000,9,-999.000,9,-999.0000,9,  -999.0,9,  -999.0,9,-999.0000,9,  -999.00, -999.00,9, -999.00,9, -999.00,  -999.0,9, -999.00,9,     -999.0,9,  -999.0,9, 20170830,      229, -32.4999,-139.4806,        0.0,1,      0.129,1,      4.643,1,      0.173,1,     -999.0,9,     -999.0,9,     -999.0,9,     -999.0,9,     -999.0,9,     -999.0,9,     -999.0,9,     -999.0,1,     -999.0,1,     -999.0,1,64.51413082,6,    17.7738,2,1.360392301,25.07108797,6,20.79343708
320620170820,        P06,     155,          2,         29,         29,2,20170830,       0027,   -32.5006,  -139.4809,       4726,   102.7,  17.8294,  35.4650,2,-999.0000,9,  227.384,2,-999.0000,9,  -999.0,9, -999.00,9, -999.00,9, -999.00,9,-999.000,9,-999.000,9,-999.0000,9,  -999.0,9,  -999.0,9,-999.0000,9,  -999.00, -999.00,9, -999.00,9, -999.00,  -999.0,9, -999.00,9,     -999.0,9,  -999.0,9, 20170830,      228, -32.4998,-139.4805,        0.0,1,      0.129,1,      4.643,1,      0.173,1,     -999.0,9,     -999.0,9,     -999.0,9,     -999.0,9,     -999.0,9,     -999.0,9,     -999.0,9,     -999.0,1,     -999.0,1,     -999.0,1,64.51413082,6,    17.7592,2,1.360392301,25.07108797,6,20.79343708
320620170820,        P06,     155,          2,         32,         32,2,20170830,       0027,   -32.5006,  -139.4809,       4726,    64.9,  17.8275,  35.4659,2,  35.4614,2, 236.8957,2, 234.6334,2,     0.3,2,    0.00,2,    0.00,2,    0.06,2,   2.166,2,   1.274,2,   1.6090,2,  2054.9,2,  2326.8,2,   7.9835,2,    25.00, -999.00,9, -999.00,9, -999.00,  -999.0,9, -999.00,9,     -999.0,9,  -999.0,1, 20170830,      232, -32.5002,-139.4808,        0.0,1,      0.132,1,      4.642,1,      0.176,1,     -999.0,1,     -999.0,1,     -999.0,9,     -999.0,9,     -999.0,9,     -999.0,9,     -999.0,9,     -999.0,9,     -999.0,9,     -999.0,9,     -999.0,9,    17.7745,2,     -999.0,     -999.0,9,     -999.0
320620170820,        P06,     155,          2,         33,         33,2,20170830,       0027,   -32.5006,  -139.4809,       4726,    40.6,  17.8300,  35.4671,2,  35.4626,2,    233.6,2,  234.623,2,     0.4,2,    0.00,2,    0.00,2,    0.07,2,   2.199,2,   1.258,2,   1.6800,2,  2057.7,2,  2327.2,6,   7.9834,2,    25.00, -999.00,9, -999.00,9, -999.00,  -999.0,9, -999.00,9,     -999.0,9,  -999.0,1, 20170830,      233, -32.5004,-139.4809,        0.0,1,      0.130,1,      4.638,1,      0.172,1,     -999.0,1,     -999.0,1,     -999.0,9,     -999.0,9,     -999.0,9,     -999.0,9,     -999.0,9,     -999.0,9,     -999.0,9,     -999.0,9,     -999.0,9,    17.7862,2,     -999.0,     -999.0,9,     -999.0
320620170820,        P06,     155,          2,         35,         35,2,20170830,       0027,   -32.5006,  -139.4809,       4726,    27.2,  17.8320,  35.4677,2,  35.4598,2, 232.1879,2,  234.654,2,     0.3,2,    0.00,2,    0.00,2,    0.07,2,   2.159,2,   1.260,2,   1.6220,2,  2056.8,2,  2327.0,2,   7.9834,2,    25.00, -999.00,9, -999.00,9, -999.00,  -999.0,9, -999.00,9,     -999.0,9,  -999.0,1, 20170830,      236, -32.5005,-139.4809,        0.0,1,      0.122,1,      4.634,1,      0.172,1,     -999.0,1,     -999.0,1,     -999.0,9,     -999.0,9,     -999.0,9,     -999.0,9,     -999.0,9,     -999.0,9,     -999.0,9,     -999.0,9,     -999.0,9,    17.7734,2,     -999.0,     -999.0,9,     -999.0
320620170820,        P06,     155,          2,         34,         34,2,20170830,       0027,   -32.5006,  -139.4809,       4726,    26.8,  17.8320,  35.4677,2,-999.0000,9, 227.8221,2,-999.0000,9,  -999.0,9, -999.00,9, -999.00,9, -999.00,9,-999.000,9,-999.000,9,-999.0000,9,  -999.0,9,  -999.0,9,-999.0000,9,  -999.00, -999.00,9, -999.00,9, -999.00,  -999.0,9, -999.00,9,     -999.0,9,  -999.0,9, 20170830,      235, -32.5005,-139.4809,        0.0,1,      0.122,1,      4.634,1,      0.172,1,     -999.0,9,     -999.0,9,     -999.0,9,     -999.0,9,     -999.0,9,     -999.0,9,     -999.0,9,     -999.0,1,     -999.0,1,     -999.0,1,67.59478977,2,    17.7765,2,-83.18068276,42.04908351,2,     -999.0
320620170820,        P06,     155,          2,         36,         36,2,20170830,       0027,   -32.5006,  -139.4809,       4726,     4.6,  17.8304,  35.4681,2,  35.4588,2, 228.0891,2, 234.4236,2,     0.4,2,    0.00,2,    0.00,2,    0.09,2,   2.159,2,   1.260,2,   1.6670,2,  2055.2,6,  2334.2,3,   7.9833,2,    25.00, -999.00,9, -999.00,9, -999.00,  -999.0,9, -999.00,9,     -999.0,9,  -999.0,1, 20170830,      237, -32.5006,-139.4809,        0.0,1,      0.093,1,      4.634,1,      0.171,1,     -999.0,1,     -999.0,1,     -999.0,9,     -999.0,9,     -999.0,9,     -999.0,9,     -999.0,9,     -999.0,9,     -999.0,9,     -999.0,9,     -999.0,9,    17.7660,2,     -999.0,     -999.0,9,     -999.0