BOTTLE,20240211CCHSIOCBG
EXPOCODE,SECT_ID,STNNBR,CASTNO,SAMPNO,BTLNBR,BTLNBR_FLAG_W,DATE,TIME,LATITUDE,LONGITUDE,DEPTH,CTDPRS,CTDTMP,CTDSAL,CTDSAL_FLAG_W,SALNTY,SALNTY_FLAG_W,CTDOXY,CTDOXY_FLAG_W,OXYGEN,OXYGEN_FLAG_W,SILCAT,SILCAT_FLAG_W,NITRAT,NITRAT_FLAG_W,NITRIT,NITRIT_FLAG_W,PHSPHT,PHSPHT_FLAG_W,CFC-11,CFC-11_FLAG_W,CFC-12,CFC-12_FLAG_W,SF6,SF6_FLAG_W,TCARBN,TCARBN_FLAG_W,ALKALI,ALKALI_FLAG_W,PH_TOT,PH_TOT_FLAG_W,PH_TMP,DELC13,DELC13_FLAG_W,DELC14,DELC14_FLAG_W,C14ERR,DOC,DOC_FLAG_W,TDN,TDN_FLAG_W,TON,TON_FLAG_W,D15N_NO3,D15N_NO3_FLAG_W,BTL_DATE,BTL_TIME,BTL_LAT,BTL_LON,CTDRINKO,CTDRINKO_FLAG_W,CTDFLUOR,CTDFLUOR_FLAG_W,CTDXMISS,CTDXMISS_FLAG_W,CTDBACKSCATTER,CTDBACKSCATTER_FLAG_W,D18O_NO3,D18O_NO3_FLAG_W,DOP,DOP_FLAG_W,CELLCOUNT,CELLCOUNT_FLAG_W,TDP,TDP_FLAG_W,POP,POP_FLAG_W,DATP,DATP_FLAG_W,PATP,PATP_FLAG_W,HPLC,HPLC_FLAG_W,POC,POC_FLAG_W,BEAMAP,BEAMAP_FLAG_W,DOC_NASA,DOC_NASA_FLAG_W,REFTMP,REFTMP_FLAG_W,DOC_NASA_ERROR,TDN_NASA,TDN_NASA_FLAG_W,TDN_NASA_ERROR
,,,,,,,,,,,METERS,DBAR,ITS-90,PSS-78,,PSS-78,,UMOL/KG,,UMOL/KG,,UMOL/KG,,UMOL/KG,,UMOL/KG,,UMOL/KG,,PMOL/KG,,PMOL/KG,,FMOL/KG,,UMOL/KG,,UMOL/KG,,,,DEG C,/MILLE,,/MILLE,,/MILLE,UMOL/KG,,UMOL/KG,,UMOL/KG,,/MILLE,,,,,,VOLTS,,VOLTS,,VOLTS,,VOLTS,,/MILLE,,UMOL/KG,,/LITER,,UMOL/KG,,UMOL/L,,PMOL/L,,PMOL/L,,,,UG/L,,/METER,,UMOL/L,,ITS-90,,UMOL/L,UMOL/L,,UMOL/L
320620170820,        P06,     153,          1,         27,         27,2,20170829,       0630,   -32.5002,  -141.2593,       5006,   351.2,  10.1296,  34.5941,2,  34.5604,2, 211.7544,2, 218.5897,2,     3.2,2,   15.87,2,    0.00,2,    1.10,2,   3.217,2,   1.760,2,   1.1300,2,  2131.0,2,  2286.0,2,   7.7528,2,    25.00, -999.00,9, -999.00,9, -999.00,  -999.0,9, -999.00,9,     -999.0,9,  -999.0,9, 20170829,      818, -32.5002,-141.2593,        0.0,1,      0.059,1,      4.689,1,      0.134,1,     -999.0,9,     -999.0,9,     -999.0,9,     -999.0,9,     -999.0,9,     -999.0,9,     -999.0,9,     -999.0,9,     -999.0,9,     -999.0,9,     -999.0,9,     9.7769,2,     -999.0,     -999.0,9,     -999.0
320620170820,        P06,     153,          1,         28,         28,2,20170829,       0630,   -32.5002,  -141.2593,       5006,   302.0,  11.2553,  34.6842,2,  34.6627,2, 207.2322,2, 214.4048,2,     2.2,2,   13.05,2,    0.00,2,    0.93,2,   2.931,2,   1.708,2,   1.1510,2,  2124.3,2,  2289.5,2,   7.7784,2,    25.00, -999.00,9, -999.00,9, -999.00,  -999.0,9, -999.00,9,     -999.0,9,  -999.0,9, 20170829,      820, -32.5002,-141.2593,        0.0,1,      0.060,1,      4.688,1,      0.135,1,     -999.0,9,     -999.0,9,     -999.0,9,     -999.0,9,     -999.0,9,     -999.0,9,     -999.0,9,     -999.0,9,     -999.0,9,     -999.0,9,     -999.0,9,    11.0397,2,     -999.0,     -999.0,9,     -999.0
320620170820,        P06,     153,          1,         29,         29,2,20170829,       0630,   -32.5002,  -141.2593,       5006,   251.4,  12.9056,  34.8821,2,  34.9296,2, 202.3671,2, 209.2771,2,     1.5,2,    8.41,2,    0.00,2,    0.63,2,   2.662,2,   1.552,2,   1.2200,2,  2108.1,2,  2300.4,2,   7.8357,2,    25.00, -999.00,9, -999.00,9, -999.00,  -999.0,9, -999.00,9,     -999.0,9,  -999.0,9, 20170829,      822, -32.5002,-141.2593,        0.0,1,      0.060,1,      4.687,1,      0.135,1,     -999.0,9,     -999.0,9,     -999.0,9,     -999.0,9,     -999.0,9,     -999.0,9,     -999.0,9,     -999.0,9,     -999.0,9,     -999.0,9,     -999.0,9,    13.3129,2,     -999.0,     -999.0,9,     -999.0
320620170820,        P06,     153,          1,         30,         30,2,20170829,       0630,   -32.5002,  -141.2593,       5006,   199.4,  13.9000,  34.9082,2,  34.9225,2, 219.8118,2,    222.6,2,     0.5,2,    4.43,2,    0.02,2,    0.39,2,   2.546,2,   1.526,2,   1.5300,2,  2092.2,2,  2300.2,2,   7.8700,2,    25.00, -999.00,9, -999.00,9, -999.00,  -999.0,9, -999.00,9,     -999.0,9,  -999.0,9, 20170829,      824, -32.5003,-141.2593,        0.0,1,      0.078,1,      4.680,1,      0.135,1,     -999.0,9,     -999.0,9,     -999.0,9,     -999.0,9,     -999.0,9,     -999.0,9,     -999.0,9,     -999.0,9,     -999.0,9,     -999.0,9,     -999.0,9,    14.1109,2,     -999.0,     -999.0,9,     -999.0
320620170820,        P06,     153,          1,         31,         31,2,20170829,       0630,   -32.5002,  -141.2593,       5006,   150.1,  16.0786,  35.1217,2,  35.1098,3,  229.782,2, 236.8381,2,     0.2,2,    0.32,2,    0.10,2,    0.13,2,   2.407,2,   1.405,2,   1.6070,2,  2067.2,2,  2311.7,2,   7.9356,2,    25.00, -999.00,9, -999.00,9, -999.00,  -999.0,9, -999.00,9,     -999.0,9,  -999.0,9, 20170829,      826, -32.5003,-141.2593,        0.0,1,      0.140,1,      4.656,1,      0.161,1,     -999.0,9,     -999.0,9,     -999.0,9,     -999.0,9,     -999.0,9,     -999.0,9,     -999.0,9,     -999.0,9,     -999.0,9,     -999.0,9,     -999.0,9,    16.1096,2,     -999.0,     -999.0,9,     -999.0
320620170820,        P06,     153,          1,         32,         32,2,20170829,       0630,   -32.5002,  -141.2593,       5006,    99.4,  16.6618,  35.1900,2,  35.1764,2, 239.2219,2, 240.4058,2,     0.2,2,    0.00,2,    0.00,2,    0.09,2,   2.217,2,   1.354,2,   1.6250,2,  2056.5,2,  2313.0,2,   7.9562,2,    25.00, -999.00,9, -999.00,9, -999.00,  -999.0,9, -999.00,9,     -999.0,9,  -999.0,9, 20170829,      828, -32.5003,-141.2593,        0.0,1,      0.141,1,      4.643,1,      0.169,1,     -999.0,9,     -999.0,9,     -999.0,9,     -999.0,9,     -999.0,9,     -999.0,9,     -999.0,9,     -999.0,9,     -999.0,9,     -999.0,9,     -999.0,9,    16.6236,2,     -999.0,     -999.0,9,     -999.0
320620170820,        P06,     153,          1,         33,         33,2,20170829,       0630,   -32.5002,  -141.2593,       5006,    74.6,  16.6167,  35.1733,2,  35.1740,2, 241.3196,2, 240.6343,2,     0.2,2,    0.00,2,    0.00,2,    0.07,2,   2.320,6,   1.358,6,   1.6350,6,  2055.9,2,  2312.3,2,   7.9572,6,    25.00, -999.00,9, -999.00,9, -999.00,  -999.0,9, -999.00,9,     -999.0,9,  -999.0,9, 20170829,      830, -32.5003,-141.2593,        0.0,1,      0.131,1,      4.642,1,      0.166,1,     -999.0,9,     -999.0,9,     -999.0,9,     -999.0,9,     -999.0,9,     -999.0,9,     -999.0,9,     -999.0,9,     -999.0,9,     -999.0,9,     -999.0,9,    16.6122,2,     -999.0,     -999.0,9,     -999.0
320620170820,        P06,     153,          1,         34,         34,2,20170829,       0630,   -32.5002,  -141.2593,       5006,    49.6,  16.5954,  35.1673,2,  35.1699,2, 241.3125,2, 240.6671,2,     0.2,2,    0.00,2,    0.00,2,    0.08,2,   2.321,2,   1.356,2,   1.6350,2,  2055.3,2,  2312.2,2,   7.9558,2,    25.00, -999.00,9, -999.00,9, -999.00,  -999.0,9, -999.00,9,     -999.0,9,  -999.0,9, 20170829,      831, -32.5002,-141.2593,        0.0,1,      0.122,1,      4.642,1,      0.169,1,     -999.0,9,     -999.0,9,     -999.0,9,     -999.0,9,     -999.0,9,     -999.0,9,     -999.0,9,     -999.0,9,     -999.0,9,     -999.0,9,     -999.0,9,    16.6003,2,     -999.0,     -999.0,9,     -999.0
320620170820,        P06,     153,          1,         35,         35,2,20170829,       0630,   -32.5002,  -141.2593,       5006,    23.4,  16.5976,  35.1545,2,  35.1699,2, 241.4225,2, 240.3436,2,     0.2,2,    0.00,2,    0.00,2,    0.08,2,   2.333,2,   1.351,2,   1.6290,2,  2056.4,2,  2310.5,2,   7.9576,2,    25.00, -999.00,9, -999.00,9, -999.00,  -999.0,9, -999.00,9,     -999.0,9,  -999.0,9, 20170829,      833, -32.5002,-141.2593,        0.0,1,      0.110,1,      4.646,1,      0.167,1,     -999.0,9,     -999.0,9,     -999.0,9,     -999.0,9,     -999.0,9,     -999.0,9,     -999.0,9,     -999.0,9,     -999.0,9,     -999.0,9,     -999.0,9,    16.6054,2,     -999.0,     -999.0,9,     -999.0
320620170820,        P06,     153,          1,         36,         36,2,20170829,       0630,   -32.5002,  -141.2593,       5006,     5.3,  16.6093,  35.1551,2,  35.1792,2, 240.9473,2, 241.4135,2,     0.3,2,    0.00,2,    0.00,2,    0.10,2,   2.197,2,   1.356,2,   1.4560,2,  2056.8,6,  2320.5,3,   7.9568,2,    25.00,    0.82,2,   52.28,2,    2.22,  -999.0,9, -999.00,9,     -999.0,9,  -999.0,9, 20170829,      835, -32.5002,-141.2593,        0.0,1,      0.112,1,      4.646,1,      0.162,1,     -999.0,9,     -999.0,9,     -999.0,9,     -999.0,9,     -999.0,9,     -999.0,9,     -999.0,9,     -999.0,9,     -999.0,9,     -999.0,9,     -999.0,9,    16.6588,2,     -999.0,     -999.0,9,     -999.0