BOTTLE,20240211CCHSIOCBG
EXPOCODE,SECT_ID,STNNBR,CASTNO,SAMPNO,BTLNBR,BTLNBR_FLAG_W,DATE,TIME,LATITUDE,LONGITUDE,DEPTH,CTDPRS,CTDTMP,CTDSAL,CTDSAL_FLAG_W,SALNTY,SALNTY_FLAG_W,CTDOXY,CTDOXY_FLAG_W,OXYGEN,OXYGEN_FLAG_W,SILCAT,SILCAT_FLAG_W,NITRAT,NITRAT_FLAG_W,NITRIT,NITRIT_FLAG_W,PHSPHT,PHSPHT_FLAG_W,CFC-11,CFC-11_FLAG_W,CFC-12,CFC-12_FLAG_W,SF6,SF6_FLAG_W,TCARBN,TCARBN_FLAG_W,ALKALI,ALKALI_FLAG_W,PH_TOT,PH_TOT_FLAG_W,PH_TMP,DELC13,DELC13_FLAG_W,DELC14,DELC14_FLAG_W,C14ERR,DOC,DOC_FLAG_W,TDN,TDN_FLAG_W,TON,TON_FLAG_W,D15N_NO3,D15N_NO3_FLAG_W,BTL_DATE,BTL_TIME,BTL_LAT,BTL_LON,CTDRINKO,CTDRINKO_FLAG_W,CTDFLUOR,CTDFLUOR_FLAG_W,CTDXMISS,CTDXMISS_FLAG_W,CTDBACKSCATTER,CTDBACKSCATTER_FLAG_W,D18O_NO3,D18O_NO3_FLAG_W,DOP,DOP_FLAG_W,CELLCOUNT,CELLCOUNT_FLAG_W,TDP,TDP_FLAG_W,POP,POP_FLAG_W,DATP,DATP_FLAG_W,PATP,PATP_FLAG_W,HPLC,HPLC_FLAG_W,POC,POC_FLAG_W,BEAMAP,BEAMAP_FLAG_W,DOC_NASA,DOC_NASA_FLAG_W,REFTMP,REFTMP_FLAG_W,DOC_NASA_ERROR,TDN_NASA,TDN_NASA_FLAG_W,TDN_NASA_ERROR
,,,,,,,,,,,METERS,DBAR,ITS-90,PSS-78,,PSS-78,,UMOL/KG,,UMOL/KG,,UMOL/KG,,UMOL/KG,,UMOL/KG,,UMOL/KG,,PMOL/KG,,PMOL/KG,,FMOL/KG,,UMOL/KG,,UMOL/KG,,,,DEG C,/MILLE,,/MILLE,,/MILLE,UMOL/KG,,UMOL/KG,,UMOL/KG,,/MILLE,,,,,,VOLTS,,VOLTS,,VOLTS,,VOLTS,,/MILLE,,UMOL/KG,,/LITER,,UMOL/KG,,UMOL/L,,PMOL/L,,PMOL/L,,,,UG/L,,/METER,,UMOL/L,,ITS-90,,UMOL/L,UMOL/L,,UMOL/L
320620170820,        P06,     176,          1,          1,          1,2,20170907,       0501,   -32.4999,  -122.2160,       3882,  3931.5,   1.6740,  34.6830,2,  34.6826,2, 169.7041,2, 169.8975,2,   122.3,2,   34.32,2,    0.00,2,    2.37,2,   0.037,2,   0.022,2,   0.0000,2,  2298.6,6,  2393.5,2,   7.5923,2,    25.00, -999.00,9, -999.00,9, -999.00,    34.7,2, -999.00,9,     -999.0,1,  -999.0,1, 20170907,      501, -32.5002,-122.2158,        0.0,1,      0.061,1,      4.691,1,      0.127,1,     -999.0,1,     -999.0,9,     -999.0,9,     -999.0,9,     -999.0,9,     -999.0,9,     -999.0,9,     -999.0,9,     -999.0,9,     -999.0,9,     -999.0,9,     1.6748,2,     -999.0,     -999.0,9,     -999.0
320620170820,        P06,     176,          1,          2,          2,2,20170907,       0501,   -32.4999,  -122.2160,       3882,  3758.1,   1.6554,  34.6830,2,  34.6822,2, 169.7041,2, 169.9364,2,   122.4,2,   34.37,2,    0.00,2,    2.36,2,   0.040,2,   0.025,2,   0.0000,2,  2298.0,2,  2393.3,2,   7.5923,2,    25.00, -999.00,9, -999.00,9, -999.00,  -999.0,9, -999.00,9,     -999.0,9,  -999.0,1, 20170907,      506, -32.5000,-122.2159,        0.0,1,      0.061,1,      4.691,1,      0.126,1,     -999.0,1,     -999.0,9,     -999.0,9,     -999.0,9,     -999.0,9,     -999.0,9,     -999.0,9,     -999.0,9,     -999.0,9,     -999.0,9,     -999.0,9,     1.6553,2,     -999.0,     -999.0,9,     -999.0
320620170820,        P06,     176,          1,          3,          3,2,20170907,       0501,   -32.4999,  -122.2160,       3882,  3554.3,   1.6370,  34.6828,2,  34.6830,2, 169.4601,2, 169.7324,2,   122.5,2,   34.36,2,    0.00,2,    2.36,2,   0.035,2,   0.024,2,   0.0000,2,  2297.2,2,  2393.1,2,   7.5931,2,    25.00, -999.00,9, -999.00,9, -999.00,    38.9,2, -999.00,9,     -999.0,1,  -999.0,1, 20170907,      510, -32.4999,-122.2159,        0.0,1,      0.061,1,      4.692,1,      0.124,1,     -999.0,1,     -999.0,9,     -999.0,9,     -999.0,9,     -999.0,9,     -999.0,9,     -999.0,9,     -999.0,9,     -999.0,9,     -999.0,9,     -999.0,9,     1.6372,2,     -999.0,     -999.0,9,     -999.0
320620170820,        P06,     176,          1,          4,          4,2,20170907,       0501,   -32.4999,  -122.2160,       3882,  3245.0,   1.6673,  34.6784,2,  34.6777,2, 167.8186,2, 166.9227,2,   122.3,2,   34.49,2,    0.00,2,    2.38,2,   0.043,2,   0.030,2,   0.0000,2,  2297.6,2,  2396.3,2,   7.5908,2,    25.00, -999.00,9, -999.00,9, -999.00,  -999.0,9, -999.00,9,     -999.0,9,  -999.0,1, 20170907,      516, -32.4999,-122.2159,        0.0,1,      0.061,1,      4.693,1,      0.126,1,     -999.0,1,     -999.0,9,     -999.0,9,     -999.0,9,     -999.0,9,     -999.0,9,     -999.0,9,     -999.0,9,     -999.0,9,     -999.0,9,     -999.0,9,     1.6695,2,     -999.0,     -999.0,9,     -999.0
320620170820,        P06,     176,          1,          5,          5,2,20170907,       0501,   -32.4999,  -122.2160,       3882,  2953.5,   1.7124,  34.6731,2,  34.6728,2, 164.5878,2, 164.4712,2,   121.6,2,   34.68,2,    0.00,2,    2.40,2,   0.036,2,   0.024,2,   0.0000,2,  2299.3,2,  2392.8,2,   7.5857,2,    25.00, -999.00,9, -999.00,9, -999.00,    34.2,2, -999.00,9,     -999.0,1,  -999.0,1, 20170907,      522, -32.5001,-122.2158,        0.0,1,      0.061,1,      4.694,1,      0.127,1,     -999.0,1,     -999.0,9,     -999.0,9,     -999.0,9,     -999.0,9,     -999.0,9,     -999.0,9,     -999.0,9,     -999.0,9,     -999.0,9,     -999.0,9,     1.7215,2,     -999.0,     -999.0,9,     -999.0
320620170820,        P06,     176,          1,          6,          6,2,20170907,       0501,   -32.4999,  -122.2160,       3882,  2699.5,   1.7725,  34.6673,2,  34.6659,2, 161.7103,2, 161.3342,2,   120.4,2,   34.87,2,    0.00,2,    2.42,2,   0.037,2,   0.024,2,   0.0000,2,  2300.6,2,  2391.7,2,   7.5819,2,    25.00, -999.00,9, -999.00,9, -999.00,    36.7,2, -999.00,9,     -999.0,1,  -999.0,1, 20170907,      528, -32.5001,-122.2158,        0.0,1,      0.061,1,      4.693,1,      0.127,1,     -999.0,1,     -999.0,9,     -999.0,9,     -999.0,9,     -999.0,9,     -999.0,9,     -999.0,9,     -999.0,9,     -999.0,9,     -999.0,9,     -999.0,9,     1.7852,2,     -999.0,     -999.0,9,     -999.0
320620170820,        P06,     176,          1,          7,          7,2,20170907,       0501,   -32.4999,  -122.2160,       3882,  2446.2,   1.8742,  34.6583,2,  34.6574,2, 158.9575,2, 158.8677,2,   117.5,2,   35.04,2,    0.00,2,    2.42,2,   0.039,2,   0.026,2,   0.0000,2,  2299.4,2,  2391.0,2,   7.5776,2,    25.00, -999.00,9, -999.00,9, -999.00,    36.9,2, -999.00,9,     -999.0,1,  -999.0,1, 20170907,      533, -32.5001,-122.2159,        0.0,1,      0.061,1,      4.694,1,      0.127,1,     -999.0,1,     -999.0,9,     -999.0,9,     -999.0,9,     -999.0,9,     -999.0,9,     -999.0,9,     -999.0,9,     -999.0,9,     -999.0,9,     -999.0,9,     1.8783,2,     -999.0,     -999.0,9,     -999.0
320620170820,        P06,     176,          1,          8,          8,2,20170907,       0501,   -32.4999,  -122.2160,       3882,  2193.1,   1.9936,  34.6462,2,  34.6451,2, 156.8803,2, 157.4116,2,   113.2,2,   35.15,2,    0.00,2,    2.43,2,   0.042,2,   0.026,2,   0.0000,2,  2294.6,6,  2383.8,2,   7.5745,2,    25.00, -999.00,9, -999.00,9, -999.00,  -999.0,9, -999.00,9,     -999.0,9,  -999.0,1, 20170907,      538, -32.5001,-122.2158,        0.0,1,      0.061,1,      4.694,1,      0.129,1,     -999.0,1,     -999.0,9,     -999.0,9,     -999.0,9,     -999.0,9,     -999.0,9,     -999.0,9,     -999.0,9,     -999.0,9,     -999.0,9,     -999.0,9,     2.0038,2,     -999.0,     -999.0,9,     -999.0
320620170820,        P06,     176,          1,          9,          9,2,20170907,       0501,   -32.4999,  -122.2160,       3882,  1956.4,   2.1674,  34.6270,2,  34.6254,2, 156.7268,2, 157.1115,2,   105.9,2,   35.08,2,    0.00,2,    2.42,2,   0.048,6,   0.031,6,   0.0000,6,  2291.0,2,  2376.3,2,   7.5720,2,    25.00, -999.00,9, -999.00,9, -999.00,    40.4,2, -999.00,9,     -999.0,1,  -999.0,1, 20170907,      543, -32.4998,-122.2160,        0.0,1,      0.061,1,      4.694,1,      0.128,1,     -999.0,1,     -999.0,9,     -999.0,9,     -999.0,9,     -999.0,9,     -999.0,9,     -999.0,9,     -999.0,9,     -999.0,9,     -999.0,9,     -999.0,9,     2.1740,2,     -999.0,     -999.0,9,     -999.0
320620170820,        P06,     176,          1,         10,         10,2,20170907,       0501,   -32.4999,  -122.2160,       3882,  1785.0,   2.3254,  34.6037,2,  34.6005,2, 158.5141,2, 158.9667,2,    96.6,2,   34.92,2,    0.00,2,    2.41,2,   0.064,2,   0.040,2,   0.0000,2,  2281.4,2,  2366.5,2,   7.5685,2,    25.00, -999.00,9, -999.00,9, -999.00,  -999.0,9, -999.00,9,     -999.0,9,  -999.0,1, 20170907,      547, -32.4997,-122.2160,        0.0,1,      0.061,1,      4.694,1,      0.128,1,     -999.0,1,     -999.0,9,     -999.0,9,     -999.0,9,     -999.0,9,     -999.0,9,     -999.0,9,     -999.0,9,     -999.0,9,     -999.0,9,     -999.0,9,     2.3411,2,     -999.0,     -999.0,9,     -999.0
320620170820,        P06,     176,          1,         11,         11,2,20170907,       0501,   -32.4999,  -122.2160,       3882,  1685.2,   2.4318,  34.5853,2,  34.5814,2, 160.1994,2, 160.4674,2,    90.9,2,   34.81,2,    0.00,2,    2.40,2,   0.085,2,   0.056,2,   0.0000,2,  2276.9,2,  2361.8,2,   7.5675,2,    25.00, -999.00,9, -999.00,9, -999.00,    41.1,2, -999.00,9,     -999.0,1,  -999.0,1, 20170907,      550, -32.4997,-122.2160,        0.0,1,      0.061,1,      4.694,1,      0.128,1,     -999.0,1,     -999.0,9,     -999.0,9,     -999.0,9,     -999.0,9,     -999.0,9,     -999.0,9,     -999.0,9,     -999.0,9,     -999.0,9,     -999.0,9,     2.4483,2,     -999.0,     -999.0,9,     -999.0
320620170820,        P06,     176,          1,         12,         12,2,20170907,       0501,   -32.4999,  -122.2160,       3882,  1581.7,   2.5546,  34.5607,2,  34.5539,2, 162.4257,2, 162.7066,2,    83.5,2,   34.78,2,    0.00,2,    2.39,2,   0.115,2,   0.069,2,   0.0000,2,  2267.7,2,  2350.8,6,   7.5668,2,    25.00, -999.00,9, -999.00,9, -999.00,  -999.0,9, -999.00,9,     -999.0,9,  -999.0,1, 20170907,      553, -32.4998,-122.2160,        0.0,1,      0.061,1,      4.694,1,      0.127,1,     -999.0,1,     -999.0,9,     -999.0,9,     -999.0,9,     -999.0,9,     -999.0,9,     -999.0,9,     -999.0,9,     -999.0,9,     -999.0,9,     -999.0,9,     2.5897,2,     -999.0,     -999.0,9,     -999.0
320620170820,        P06,     176,          1,         13,         13,2,20170907,       0501,   -32.4999,  -122.2160,       3882,  1479.4,   2.7435,  34.5240,2,  34.5107,2, 165.9888,2, 165.9282,2,    73.7,2,   34.72,2,    0.00,2,    2.37,2,   0.177,2,   0.101,2,   0.0000,2,  2258.4,2,  2338.8,2,   7.5656,2,    25.00, -999.00,9, -999.00,9, -999.00,    36.5,2, -999.00,9,     -999.0,1,  -999.0,1, 20170907,      555, -32.4999,-122.2160,        0.0,1,      0.061,1,      4.694,1,      0.130,1,     -999.0,1,     -999.0,9,     -999.0,9,     -999.0,9,     -999.0,9,     -999.0,9,     -999.0,9,     -999.0,9,     -999.0,9,     -999.0,9,     -999.0,9,     2.8066,2,     -999.0,     -999.0,9,     -999.0
320620170820,        P06,     176,          1,         14,         14,2,20170907,       0501,   -32.4999,  -122.2160,       3882,  1378.7,   2.9827,  34.4794,2,  34.4771,2, 167.7069,2, 167.3429,2,    66.8,2,   34.79,2,    0.00,2,    2.37,2,   0.230,2,   0.130,2,   0.0000,2,  2250.6,2,  2330.5,2,   7.5639,2,    25.00, -999.00,9, -999.00,9, -999.00,  -999.0,9, -999.00,9,     -999.0,9,  -999.0,1, 20170907,      558, -32.4999,-122.2160,        0.0,1,      0.061,1,      4.694,1,      0.129,1,     -999.0,1,     -999.0,9,     -999.0,9,     -999.0,9,     -999.0,9,     -999.0,9,     -999.0,9,     -999.0,9,     -999.0,9,     -999.0,9,     -999.0,9,     2.9870,2,     -999.0,     -999.0,9,     -999.0
320620170820,        P06,     176,          1,         15,         15,2,20170907,       0501,   -32.4999,  -122.2160,       3882,  1275.5,   3.3615,  34.4198,2,  34.4153,2, 173.1339,2, 172.5195,2,    54.9,2,   34.40,2,    0.00,2,    2.34,2,   0.347,2,   0.202,2,   0.1240,2,  2237.3,2,  2319.4,2,   7.5692,2,    25.00, -999.00,9, -999.00,9, -999.00,    40.3,2, -999.00,9,     -999.0,1,  -999.0,1, 20170907,      601, -32.4998,-122.2160,        0.0,1,      0.061,1,      4.694,1,      0.128,1,     -999.0,1,     -999.0,9,     -999.0,9,     -999.0,9,     -999.0,9,     -999.0,9,     -999.0,9,     -999.0,9,     -999.0,9,     -999.0,9,     -999.0,9,     3.3862,2,     -999.0,     -999.0,9,     -999.0
320620170820,        P06,     176,          1,         16,         16,2,20170907,       0501,   -32.4999,  -122.2160,       3882,  1177.9,   3.7153,  34.3769,2,  34.3739,2, 179.2763,2, 178.9006,2,    46.1,2,   33.68,2,    0.00,2,    2.29,2,   0.515,2,   0.272,2,   0.1120,2,  2224.2,2,  2309.4,2,   7.5803,2,    25.00, -999.00,9, -999.00,9, -999.00,  -999.0,9, -999.00,9,     -999.0,9,  -999.0,1, 20170907,      604, -32.4999,-122.2159,        0.0,1,      0.060,1,      4.694,1,      0.130,1,     -999.0,1,     -999.0,9,     -999.0,9,     -999.0,9,     -999.0,9,     -999.0,9,     -999.0,9,     -999.0,9,     -999.0,9,     -999.0,9,     -999.0,9,     3.7178,2,     -999.0,     -999.0,9,     -999.0
320620170820,        P06,     176,          1,         17,         17,2,20170907,       0501,   -32.4999,  -122.2160,       3882,  1074.2,   4.1828,  34.3309,2,  34.3264,2, 193.6312,2, 193.0834,2,    33.9,2,   31.98,2,    0.00,2,    2.18,2,   0.864,2,   0.442,2,   0.1430,2,  2206.0,2,  2297.1,2,   7.6054,6,    25.00, -999.00,9, -999.00,9, -999.00,    38.1,2, -999.00,9,     -999.0,1,  -999.0,1, 20170907,      607, -32.4999,-122.2159,        0.0,1,      0.060,1,      4.694,1,      0.128,1,     -999.0,1,     -999.0,9,     -999.0,9,     -999.0,9,     -999.0,9,     -999.0,9,     -999.0,9,     -999.0,9,     -999.0,9,     -999.0,9,     -999.0,9,     4.2461,2,     -999.0,     -999.0,9,     -999.0
320620170820,        P06,     176,          1,         18,         18,2,20170907,       0501,   -32.4999,  -122.2160,       3882,   974.4,   4.6870,  34.3000,2,  34.2950,2, 208.8724,2,  209.082,2,    23.5,2,   29.83,2,    0.00,2,    2.02,2,   1.471,2,   0.718,2,   0.2210,2,  2185.0,2,  2287.5,2,   7.6342,2,    25.00, -999.00,9, -999.00,9, -999.00,  -999.0,9, -999.00,9,     -999.0,9,  -999.0,1, 20170907,      610, -32.4999,-122.2159,        0.0,1,      0.060,1,      4.695,1,      0.127,1,     -999.0,1,     -999.0,9,     -999.0,9,     -999.0,9,     -999.0,9,     -999.0,9,     -999.0,9,     -999.0,9,     -999.0,9,     -999.0,9,     -999.0,9,     4.7895,2,     -999.0,     -999.0,9,     -999.0
320620170820,        P06,     176,          1,         19,         19,2,20170907,       0501,   -32.4999,  -122.2160,       3882,   871.8,   5.3245,  34.2847,2,  34.2832,2, 224.4497,2, 224.6686,2,    16.0,2,   27.53,2,    0.00,2,    1.86,2,   2.171,2,   1.089,2,   0.3450,2,  2168.3,2,  2282.1,2,   7.6646,2,    25.00, -999.00,9, -999.00,9, -999.00,    41.0,2, -999.00,9,     -999.0,1,  -999.0,1, 20170907,      612, -32.4998,-122.2160,        0.0,1,      0.060,1,      4.694,1,      0.128,1,     -999.0,1,     -999.0,9,     -999.0,9,     -999.0,9,     -999.0,9,     -999.0,9,     -999.0,9,     -999.0,9,     -999.0,9,     -999.0,9,     -999.0,9,     5.3276,2,     -999.0,     -999.0,9,     -999.0
320620170820,        P06,     176,          1,         20,         20,2,20170907,       0501,   -32.4999,  -122.2160,       3882,   772.1,   5.7957,  34.2896,2,  34.2876,2, 235.5085,2, 236.3719,2,    11.1,2,   25.55,2,    0.00,2,    1.71,2,   2.865,2,   1.454,2,   0.4810,2,  2156.7,2,  2278.1,2,   7.6874,2,    25.00, -999.00,9, -999.00,9, -999.00,  -999.0,9, -999.00,9,     -999.0,9,  -999.0,1, 20170907,      615, -32.4998,-122.2160,        0.0,1,      0.059,1,      4.694,1,      0.130,1,     -999.0,1,     -999.0,9,     -999.0,9,     -999.0,9,     -999.0,9,     -999.0,9,     -999.0,9,     -999.0,9,     -999.0,9,     -999.0,9,     -999.0,9,     5.7970,2,     -999.0,     -999.0,9,     -999.0
320620170820,        P06,     176,          1,         21,         21,2,20170907,       0501,   -32.4999,  -122.2160,       3882,   669.4,   6.1941,  34.3050,2,  34.3076,2, 241.5961,2,  242.093,2,     8.3,2,   23.85,2,    0.00,2,    1.60,2,   3.338,2,   1.730,2,   0.7690,2,  2149.4,2,  2277.7,6,   7.7005,2,    25.00, -999.00,9, -999.00,9, -999.00,    43.1,2, -999.00,9,     -999.0,1,  -999.0,1, 20170907,      618, -32.4998,-122.2160,        0.0,1,      0.059,1,      4.693,1,      0.129,1,     -999.0,1,     -999.0,9,     -999.0,9,     -999.0,9,     -999.0,9,     -999.0,9,     -999.0,9,     -999.0,9,     -999.0,9,     -999.0,9,     -999.0,9,     6.2898,2,     -999.0,     -999.0,9,     -999.0
320620170820,        P06,     176,          1,         22,         22,2,20170907,       0501,   -32.4999,  -122.2160,       3882,   566.9,   6.6973,  34.3330,2,  34.3331,2, 244.9569,2, 245.1698,2,     6.7,2,   22.43,2,    0.00,2,    1.49,2,   3.575,2,   1.896,2,   1.0060,2,  2146.6,6,  2276.9,2,   7.7071,2,    25.00, -999.00,9, -999.00,9, -999.00,    43.9,2, -999.00,9,     -999.0,1,  -999.0,1, 20170907,      621, -32.4998,-122.2160,        0.0,1,      0.060,1,      4.692,1,      0.130,1,     -999.0,1,     -999.0,9,     -999.0,9,     -999.0,9,     -999.0,9,     -999.0,9,     -999.0,9,     -999.0,9,     -999.0,9,     -999.0,9,     -999.0,9,     6.7399,2,     -999.0,     -999.0,9,     -999.0
320620170820,        P06,     176,          1,         23,         23,2,20170907,       0501,   -32.4999,  -122.2160,       3882,   486.4,   7.2351,  34.3511,2,  34.3494,2, 240.0527,2, 239.3804,2,     5.4,2,   21.22,2,    0.00,2,    1.44,2,   3.588,2,   1.912,2,   1.0530,2,  2144.7,2,  2275.3,2,   7.7110,2,    25.00, -999.00,9, -999.00,9, -999.00,    47.5,2,   22.90,2,     -999.0,1,  -999.0,1, 20170907,      623, -32.4998,-122.2160,        0.0,1,      0.059,1,      4.691,1,      0.132,1,     -999.0,1,     -999.0,9,     -999.0,9,     -999.0,9,     -999.0,9,     -999.0,9,     -999.0,9,     -999.0,9,     -999.0,9,     -999.0,9,     -999.0,9,     7.3103,2,     -999.0,     -999.0,9,     -999.0
320620170820,        P06,     176,          1,         24,         24,2,20170907,       0501,   -32.4999,  -122.2160,       3882,   439.6,   7.8184,  34.3625,2,  34.3582,2,  233.652,2,   233.08,2,     4.7,2,   20.27,2,    0.00,2,    1.38,2,   3.495,2,   1.886,2,   1.1890,2,  2143.4,2,  2274.4,2,   7.7139,2,    25.00, -999.00,9, -999.00,9, -999.00,    47.4,2,   22.00,2,     -999.0,1,  -999.0,1, 20170907,      625, -32.4998,-122.2160,        0.0,1,      0.059,1,      4.690,1,      0.132,1,     -999.0,1,     -999.0,9,     -999.0,9,     -999.0,9,     -999.0,9,     -999.0,9,     -999.0,9,     -999.0,9,     -999.0,9,     -999.0,9,     -999.0,9,     7.8320,2,     -999.0,     -999.0,9,     -999.0
320620170820,        P06,     176,          1,         25,         25,2,20170907,       0501,   -32.4999,  -122.2160,       3882,   388.9,   8.6850,  34.3828,2,  34.3902,3,  225.275,2, 224.7241,2,     3.4,2,   17.95,2,    0.00,2,    1.25,2,   3.393,2,   1.831,2,   1.3040,2,  2136.2,2,  2274.6,2,   7.7317,2,    25.00, -999.00,9, -999.00,9, -999.00,    41.3,2,   20.60,2,     -999.0,1,  -999.0,1, 20170907,      627, -32.4997,-122.2160,        0.0,1,      0.059,1,      4.689,1,      0.132,1,     -999.0,1,     -999.0,9,     -999.0,9,     -999.0,9,     -999.0,9,     -999.0,9,     -999.0,9,     -999.0,9,     -999.0,9,     -999.0,9,     -999.0,9,     8.9817,2,     -999.0,     -999.0,9,     -999.0
320620170820,        P06,     176,          1,         26,         26,2,20170907,       0501,   -32.4999,  -122.2160,       3882,   335.8,  10.2758,  34.4819,2,  34.4763,2, 219.6024,2, 219.0902,2,     2.2,2,   14.59,2,    0.00,2,    1.04,2,   3.176,2,   1.747,2,   1.2620,2,  2124.7,2,  2276.2,2,   7.7639,2,    25.00, -999.00,9, -999.00,9, -999.00,    41.7,2,   17.20,2,     -999.0,1,  -999.0,1, 20170907,      629, -32.4997,-122.2160,        0.0,1,      0.058,1,      4.688,1,      0.133,1,     -999.0,1,     -999.0,9,     -999.0,9,     -999.0,9,     -999.0,9,     -999.0,9,     -999.0,9,     -999.0,9,     -999.0,9,     -999.0,9,     -999.0,9,    10.2815,2,     -999.0,     -999.0,9,     -999.0