BOTTLE,20240211CCHSIOCBG
EXPOCODE,SECT_ID,STNNBR,CASTNO,SAMPNO,BTLNBR,BTLNBR_FLAG_W,DATE,TIME,LATITUDE,LONGITUDE,DEPTH,CTDPRS,CTDTMP,CTDSAL,CTDSAL_FLAG_W,SALNTY,SALNTY_FLAG_W,CTDOXY,CTDOXY_FLAG_W,OXYGEN,OXYGEN_FLAG_W,SILCAT,SILCAT_FLAG_W,NITRAT,NITRAT_FLAG_W,NITRIT,NITRIT_FLAG_W,PHSPHT,PHSPHT_FLAG_W,CFC-11,CFC-11_FLAG_W,CFC-12,CFC-12_FLAG_W,SF6,SF6_FLAG_W,TCARBN,TCARBN_FLAG_W,ALKALI,ALKALI_FLAG_W,PH_TOT,PH_TOT_FLAG_W,PH_TMP,DELC13,DELC13_FLAG_W,DELC14,DELC14_FLAG_W,C14ERR,DOC,DOC_FLAG_W,TDN,TDN_FLAG_W,TON,TON_FLAG_W,D15N_NO3,D15N_NO3_FLAG_W,BTL_DATE,BTL_TIME,BTL_LAT,BTL_LON,CTDRINKO,CTDRINKO_FLAG_W,CTDFLUOR,CTDFLUOR_FLAG_W,CTDXMISS,CTDXMISS_FLAG_W,CTDBACKSCATTER,CTDBACKSCATTER_FLAG_W,D18O_NO3,D18O_NO3_FLAG_W,DOP,DOP_FLAG_W,CELLCOUNT,CELLCOUNT_FLAG_W,TDP,TDP_FLAG_W,POP,POP_FLAG_W,DATP,DATP_FLAG_W,PATP,PATP_FLAG_W,HPLC,HPLC_FLAG_W,POC,POC_FLAG_W,BEAMAP,BEAMAP_FLAG_W,DOC_NASA,DOC_NASA_FLAG_W,REFTMP,REFTMP_FLAG_W,DOC_NASA_ERROR,TDN_NASA,TDN_NASA_FLAG_W,TDN_NASA_ERROR
,,,,,,,,,,,METERS,DBAR,ITS-90,PSS-78,,PSS-78,,UMOL/KG,,UMOL/KG,,UMOL/KG,,UMOL/KG,,UMOL/KG,,UMOL/KG,,PMOL/KG,,PMOL/KG,,FMOL/KG,,UMOL/KG,,UMOL/KG,,,,DEG C,/MILLE,,/MILLE,,/MILLE,UMOL/KG,,UMOL/KG,,UMOL/KG,,/MILLE,,,,,,VOLTS,,VOLTS,,VOLTS,,VOLTS,,/MILLE,,UMOL/KG,,/LITER,,UMOL/KG,,UMOL/L,,PMOL/L,,PMOL/L,,,,UG/L,,/METER,,UMOL/L,,ITS-90,,UMOL/L,UMOL/L,,UMOL/L
320620170820,        P06,     188,          1,          1,          1,2,20170911,       0025,   -32.5001,  -112.3954,       2414,  2435.4,   1.8123,  34.6667,2,  34.6643,2, 160.2828,2, 160.1181,2,   121.3,2,   34.89,2,    0.00,2,    2.40,2,   0.038,2,   0.021,2,   0.0000,2,  2300.3,6,  2392.9,2,   7.5856,2,    25.00, -999.00,9, -999.00,9, -999.00,    34.4,2, -999.00,9,     -999.0,1,  -999.0,9, 20170911,       25, -32.5000,-112.3954,        0.0,1,      0.061,1,      4.691,1,      0.133,1,     -999.0,9,     -999.0,9,     -999.0,9,     -999.0,9,     -999.0,9,     -999.0,9,     -999.0,9,     -999.0,9,     -999.0,9,     -999.0,9,     -999.0,9,     1.8123,2,     -999.0,     -999.0,9,     -999.0
320620170820,        P06,     188,          1,          2,          2,2,20170911,       0025,   -32.5001,  -112.3954,       2414,  2365.6,   1.8187,  34.6661,2,  34.6659,2, 160.1586,2, 160.2269,2,   121.2,2,   34.86,2,    0.00,2,    2.42,2,   0.040,2,   0.028,2,   0.0000,2,  -999.0,9,  -999.0,9,-999.0000,9,  -999.00, -999.00,9, -999.00,9, -999.00,  -999.0,9, -999.00,9,     -999.0,9,  -999.0,9, 20170911,       28, -32.4999,-112.3955,        0.0,1,      0.061,1,      4.690,1,      0.135,1,     -999.0,9,     -999.0,9,     -999.0,9,     -999.0,9,     -999.0,9,     -999.0,9,     -999.0,9,     -999.0,9,     -999.0,9,     -999.0,9,     -999.0,9,     1.8187,2,     -999.0,     -999.0,9,     -999.0
320620170820,        P06,     188,          1,          3,          3,2,20170911,       0025,   -32.5001,  -112.3954,       2414,  2160.5,   1.9127,  34.6568,2,  34.6565,2, 159.4337,2, 158.9816,2,   115.8,2,   34.93,2,    0.00,2,    2.40,2,   0.043,2,   0.027,2,   0.0000,2,  -999.0,9,  2388.5,2,   7.5771,6,    25.00, -999.00,9, -999.00,9, -999.00,    35.9,2, -999.00,9,     -999.0,1,  -999.0,9, 20170911,       32, -32.4998,-112.3955,        0.0,1,      0.061,1,      4.691,1,      0.133,1,     -999.0,9,     -999.0,9,     -999.0,9,     -999.0,9,     -999.0,9,     -999.0,9,     -999.0,9,     -999.0,9,     -999.0,9,     -999.0,9,     -999.0,9,     1.9155,2,     -999.0,     -999.0,9,     -999.0
320620170820,        P06,     188,          1,          4,          4,2,20170911,       0025,   -32.5001,  -112.3954,       2414,  1956.5,   2.0939,  34.6422,2,  34.6423,2, 158.4376,2, 159.1948,2,   108.1,2,   34.86,2,    0.00,2,    2.39,2,   0.055,2,   0.036,2,   0.0000,2,  -999.0,9,  -999.0,9,-999.0000,9,  -999.00, -999.00,9, -999.00,9, -999.00,    35.4,2, -999.00,9,     -999.0,1,  -999.0,9, 20170911,       37, -32.5000,-112.3953,        0.0,1,      0.060,1,      4.692,1,      0.128,1,     -999.0,9,     -999.0,9,     -999.0,9,     -999.0,9,     -999.0,9,     -999.0,9,     -999.0,9,     -999.0,9,     -999.0,9,     -999.0,9,     -999.0,9,     2.0776,2,     -999.0,     -999.0,9,     -999.0
320620170820,        P06,     188,          1,          5,          5,2,20170911,       0025,   -32.5001,  -112.3954,       2414,  1784.9,   2.2488,  34.6219,2,  34.6223,2, 159.2507,2, 159.5763,2,   100.4,2,   34.84,2,    0.00,2,    2.39,2,   0.059,2,   0.038,2,   0.0000,2,  2282.2,6,  2368.4,6,   7.5702,2,    25.00, -999.00,9, -999.00,9, -999.00,    36.0,2, -999.00,9,     -999.0,1,  -999.0,9, 20170911,       41, -32.5000,-112.3953,        0.0,1,      0.061,1,      4.692,1,      0.129,1,     -999.0,9,     -999.0,9,     -999.0,9,     -999.0,9,     -999.0,9,     -999.0,9,     -999.0,9,     -999.0,9,     -999.0,9,     -999.0,9,     -999.0,9,     2.2343,2,     -999.0,     -999.0,9,     -999.0
320620170820,        P06,     188,          1,          6,          6,2,20170911,       0025,   -32.5001,  -112.3954,       2414,  1683.7,   2.3990,  34.5973,2,  34.5995,2, 161.8034,2, 161.9402,2,    91.3,2,   34.69,2,    0.00,2,    2.37,2,   0.099,2,   0.063,2,   0.0000,2,  -999.0,9,  -999.0,9,-999.0000,9,  -999.00, -999.00,9, -999.00,9, -999.00,  -999.0,9, -999.00,9,     -999.0,9,  -999.0,9, 20170911,       44, -32.4999,-112.3955,        0.0,1,      0.061,1,      4.692,1,      0.129,1,     -999.0,9,     -999.0,9,     -999.0,9,     -999.0,9,     -999.0,9,     -999.0,9,     -999.0,9,     -999.0,9,     -999.0,9,     -999.0,9,     -999.0,9,     2.3783,2,     -999.0,     -999.0,9,     -999.0
320620170820,        P06,     188,          1,          7,          7,2,20170911,       0025,   -32.5001,  -112.3954,       2414,  1581.2,   2.5565,  34.5658,2,  34.5726,2, 162.7517,2, 163.0683,2,    84.0,2,   34.70,2,    0.00,2,    2.40,2,   0.128,2,   0.077,2,   0.0000,2,  -999.0,9,  2347.4,2,   7.5626,2,    25.00, -999.00,9, -999.00,9, -999.00,    38.2,2, -999.00,9,     -999.0,1,  -999.0,9, 20170911,       47, -32.4999,-112.3955,        0.0,1,      0.061,1,      4.692,1,      0.130,1,     -999.0,9,     -999.0,9,     -999.0,9,     -999.0,9,     -999.0,9,     -999.0,9,     -999.0,9,     -999.0,9,     -999.0,9,     -999.0,9,     -999.0,9,     2.5142,2,     -999.0,     -999.0,9,     -999.0
320620170820,        P06,     188,          1,          8,          8,2,20170911,       0025,   -32.5001,  -112.3954,       2414,  1479.0,   2.7655,  34.5248,2,  34.5325,2, 161.3052,2, 161.5272,2,    77.1,2,   35.14,2,    0.00,2,    2.41,2,   0.162,2,   0.095,2,   0.0000,2,  -999.0,9,  -999.0,9,-999.0000,9,  -999.00, -999.00,9, -999.00,9, -999.00,    38.2,2, -999.00,9,     -999.0,1,  -999.0,9, 20170911,       50, -32.5000,-112.3954,        0.0,1,      0.061,1,      4.692,1,      0.130,1,     -999.0,9,     -999.0,9,     -999.0,9,     -999.0,9,     -999.0,9,     -999.0,9,     -999.0,9,     -999.0,9,     -999.0,9,     -999.0,9,     -999.0,9,     2.7203,2,     -999.0,     -999.0,9,     -999.0
320620170820,        P06,     188,          1,          9,          9,2,20170911,       0025,   -32.5001,  -112.3954,       2414,  1376.6,   3.0306,  34.4833,2,  34.4848,2, 159.5196,2, 158.9565,2,    69.4,2,   35.56,2,    0.00,2,    2.42,2,   0.199,2,   0.116,2,   0.0000,2,  2256.7,2,  2331.4,2,   7.5512,2,    25.00, -999.00,9, -999.00,9, -999.00,    36.6,2, -999.00,9,     -999.0,1,  -999.0,9, 20170911,       54, -32.5000,-112.3954,        0.0,1,      0.061,1,      4.692,1,      0.128,1,     -999.0,9,     -999.0,9,     -999.0,9,     -999.0,9,     -999.0,9,     -999.0,9,     -999.0,9,     -999.0,9,     -999.0,9,     -999.0,9,     -999.0,9,     3.0008,2,     -999.0,     -999.0,9,     -999.0
320620170820,        P06,     188,          1,         10,         10,2,20170911,       0025,   -32.5001,  -112.3954,       2414,  1276.1,   3.2723,  34.4423,2,  34.4414,2, 160.9052,2, 159.1813,2,    61.6,2,   35.63,2,    0.00,2,    2.42,2,   0.234,2,   0.136,2,   0.0000,2,  -999.0,9,  -999.0,9,-999.0000,9,  -999.00, -999.00,9, -999.00,9, -999.00,  -999.0,9, -999.00,9,     -999.0,9,  -999.0,9, 20170911,       57, -32.4999,-112.3955,        0.0,1,      0.061,1,      4.692,1,      0.129,1,     -999.0,9,     -999.0,9,     -999.0,9,     -999.0,9,     -999.0,9,     -999.0,9,     -999.0,9,     -999.0,9,     -999.0,9,     -999.0,9,     -999.0,9,     3.2810,2,     -999.0,     -999.0,9,     -999.0
320620170820,        P06,     188,          1,         11,         11,2,20170911,       0025,   -32.5001,  -112.3954,       2414,  1175.0,   3.6047,  34.3912,2,  34.3884,2, 167.2239,2, 168.7355,2,    50.3,2,   34.81,2,    0.00,2,    2.35,2,   0.333,2,   0.190,2,   0.0210,2,  2230.6,2,  2312.2,2,   7.5625,2,    25.00, -999.00,9, -999.00,9, -999.00,    37.9,2, -999.00,9,     -999.0,1,  -999.0,9, 20170911,      101, -32.5000,-112.3954,        0.0,1,      0.060,1,      4.692,1,      0.128,1,     -999.0,9,     -999.0,9,     -999.0,9,     -999.0,9,     -999.0,9,     -999.0,9,     -999.0,9,     -999.0,9,     -999.0,9,     -999.0,9,     -999.0,9,     3.6102,2,     -999.0,     -999.0,9,     -999.0
320620170820,        P06,     188,          1,         12,         12,2,20170911,       0025,   -32.5001,  -112.3954,       2414,  1075.7,   4.0138,  34.3379,2,  34.3305,2, 191.8701,2, 190.5119,2,    36.5,2,   32.62,2,    0.00,2,    2.19,2,   0.820,2,   0.427,2,   0.0800,2,  -999.0,9,  -999.0,9,-999.0000,9,  -999.00, -999.00,9, -999.00,9, -999.00,    39.2,2, -999.00,9,     -999.0,1,  -999.0,9, 20170911,      104, -32.5001,-112.3953,        0.0,1,      0.059,1,      4.692,1,      0.129,1,     -999.0,9,     -999.0,9,     -999.0,9,     -999.0,9,     -999.0,9,     -999.0,9,     -999.0,9,     -999.0,9,     -999.0,9,     -999.0,9,     -999.0,9,     4.0750,2,     -999.0,     -999.0,9,     -999.0
320620170820,        P06,     188,          1,         13,         13,2,20170911,       0025,   -32.5001,  -112.3954,       2414,   974.4,   4.5365,  34.2980,2,  34.2962,2, 205.2585,2, 205.6969,2,    26.5,2,   30.59,2,    0.00,2,    2.06,2,   1.350,2,   0.681,2,   0.1280,2,  2190.1,2,  2289.7,2,   7.6234,2,    25.00, -999.00,9, -999.00,9, -999.00,    42.1,2, -999.00,9,     -999.0,1,  -999.0,9, 20170911,      106, -32.5001,-112.3953,        0.0,1,      0.059,1,      4.692,1,      0.129,1,     -999.0,9,     -999.0,9,     -999.0,9,     -999.0,9,     -999.0,9,     -999.0,9,     -999.0,9,     -999.0,9,     -999.0,9,     -999.0,9,     -999.0,9,     4.5495,2,     -999.0,     -999.0,9,     -999.0
320620170820,        P06,     188,          1,         14,         14,2,20170911,       0025,   -32.5001,  -112.3954,       2414,   872.8,   5.1283,  34.2804,2,  34.2787,2, 222.6436,2, 222.4848,2,    17.8,2,   28.14,2,    0.00,2,    1.88,2,   2.123,2,   1.077,2,   0.3130,2,  -999.0,9,  -999.0,9,-999.0000,9,  -999.00, -999.00,9, -999.00,9, -999.00,  -999.0,9, -999.00,9,     -999.0,9,  -999.0,9, 20170911,      109, -32.4999,-112.3955,        0.0,1,      0.059,1,      4.691,1,      0.128,1,     -999.0,9,     -999.0,9,     -999.0,9,     -999.0,9,     -999.0,9,     -999.0,9,     -999.0,9,     -999.0,9,     -999.0,9,     -999.0,9,     -999.0,9,     5.1363,2,     -999.0,     -999.0,9,     -999.0
320620170820,        P06,     188,          1,         15,         15,2,20170911,       0025,   -32.5001,  -112.3954,       2414,   772.8,   5.5664,  34.2773,2,  34.2752,2, 235.8389,2, 235.6974,2,    12.4,2,   26.08,2,    0.00,2,    1.74,2,   2.824,2,   1.446,2,   0.5360,2,  2158.1,2,  2279.0,2,   7.6800,2,    25.00, -999.00,9, -999.00,9, -999.00,    39.8,2, -999.00,9,     -999.0,1,  -999.0,9, 20170911,      112, -32.4999,-112.3955,        0.0,1,      0.059,1,      4.691,1,      0.130,1,     -999.0,9,     -999.0,9,     -999.0,9,     -999.0,9,     -999.0,9,     -999.0,9,     -999.0,9,     -999.0,9,     -999.0,9,     -999.0,9,     -999.0,9,     5.5837,2,     -999.0,     -999.0,9,     -999.0
320620170820,        P06,     188,          1,         16,         16,2,20170911,       0025,   -32.5001,  -112.3954,       2414,   669.8,   6.0790,  34.2932,2,  34.2923,2, 247.0305,2, 247.0041,2,     8.6,2,   23.88,2,    0.00,2,    1.60,2,   3.462,2,   1.819,2,   0.9410,2,  -999.0,9,  -999.0,9,-999.0000,9,  -999.00, -999.00,9, -999.00,9, -999.00,  -999.0,9, -999.00,9,     -999.0,9,  -999.0,9, 20170911,      115, -32.5001,-112.3953,        0.0,1,      0.058,1,      4.690,1,      0.130,1,     -999.0,9,     -999.0,9,     -999.0,9,     -999.0,9,     -999.0,9,     -999.0,9,     -999.0,9,     -999.0,9,     -999.0,9,     -999.0,9,     -999.0,9,     6.1294,2,     -999.0,     -999.0,9,     -999.0
320620170820,        P06,     188,          1,         17,         17,2,20170911,       0025,   -32.5001,  -112.3954,       2414,   568.5,   6.5069,  34.3168,2,  34.3148,2, 247.9937,2, 247.9048,2,     7.1,2,   22.85,2,    0.00,2,    1.50,2,   3.573,6,   1.942,6,   1.0715,6,  2146.1,2,  2275.5,2,   7.7050,2,    25.00, -999.00,9, -999.00,9, -999.00,    40.6,2, -999.00,9,     -999.0,1,  -999.0,9, 20170911,      118, -32.5001,-112.3952,        0.0,1,      0.060,1,      4.689,1,      0.133,1,     -999.0,9,     -999.0,9,     -999.0,9,     -999.0,9,     -999.0,9,     -999.0,9,     -999.0,9,     -999.0,9,     -999.0,9,     -999.0,9,     -999.0,9,     6.5101,2,     -999.0,     -999.0,9,     -999.0
320620170820,        P06,     188,          1,         18,         18,2,20170911,       0025,   -32.5001,  -112.3954,       2414,   489.3,   6.8085,  34.3244,2,  34.3225,2,  247.047,2, 247.1737,2,     6.0,2,   22.00,2,    0.00,2,    1.49,2,   3.613,2,   2.000,2,   1.4770,2,  -999.0,9,  -999.0,9,-999.0000,9,  -999.00, -999.00,9, -999.00,9, -999.00,    42.1,2, -999.00,9,     -999.0,1,  -999.0,9, 20170911,      120, -32.5000,-112.3954,        0.0,1,      0.059,1,      4.689,1,      0.130,1,     -999.0,9,     -999.0,9,     -999.0,9,     -999.0,9,     -999.0,9,     -999.0,9,     -999.0,9,     -999.0,9,     -999.0,9,     -999.0,9,     -999.0,9,     6.8174,2,     -999.0,     -999.0,9,     -999.0
320620170820,        P06,     188,          1,         19,         19,2,20170911,       0025,   -32.5001,  -112.3954,       2414,   437.9,   7.1593,  34.3088,2,  34.3113,2, 242.8277,2, 243.3171,2,     5.2,2,   21.60,2,    0.00,2,    1.45,2,   3.599,2,   2.010,2,   1.4290,2,  2145.2,2,  2272.8,2,   7.7034,2,    25.00, -999.00,9, -999.00,9, -999.00,    42.3,2, -999.00,9,     -999.0,1,  -999.0,9, 20170911,      122, -32.4999,-112.3955,        0.0,1,      0.060,1,      4.688,1,      0.129,1,     -999.0,9,     -999.0,9,     -999.0,9,     -999.0,9,     -999.0,9,     -999.0,9,     -999.0,9,     -999.0,9,     -999.0,9,     -999.0,9,     -999.0,9,     7.1079,2,     -999.0,     -999.0,9,     -999.0
320620170820,        P06,     188,          1,         20,         20,2,20170911,       0025,   -32.5001,  -112.3954,       2414,   388.8,   7.7917,  34.3327,2,  34.3282,2, 233.8169,2, 234.4316,2,     4.3,2,   20.47,2,    0.00,2,    1.39,2,   3.465,2,   1.931,2,   1.4090,2,  -999.0,9,  -999.0,9,-999.0000,9,  -999.00, -999.00,9, -999.00,9, -999.00,  -999.0,9, -999.00,9,     -999.0,9,  -999.0,9, 20170911,      124, -32.5000,-112.3955,        0.0,1,      0.060,1,      4.687,1,      0.132,1,     -999.0,9,     -999.0,9,     -999.0,9,     -999.0,9,     -999.0,9,     -999.0,9,     -999.0,9,     -999.0,9,     -999.0,9,     -999.0,9,     -999.0,9,     7.8123,2,     -999.0,     -999.0,9,     -999.0
320620170820,        P06,     188,          1,         21,         21,2,20170911,       0025,   -32.5001,  -112.3954,       2414,   337.3,   9.0181,  34.3778,2,  34.3680,2, 225.2073,2, 226.4488,2,     3.0,2,   17.89,2,    0.00,2,    1.23,2,   3.354,2,   1.877,2,   1.3550,2,  2131.9,2,  2273.7,2,   7.7332,2,    25.00, -999.00,9, -999.00,9, -999.00,    41.2,2, -999.00,9,     -999.0,1,  -999.0,9, 20170911,      126, -32.5001,-112.3954,        0.0,1,      0.059,1,      4.686,1,      0.132,1,     -999.0,9,     -999.0,9,     -999.0,9,     -999.0,9,     -999.0,9,     -999.0,9,     -999.0,9,     -999.0,9,     -999.0,9,     -999.0,9,     -999.0,9,     8.9291,2,     -999.0,     -999.0,9,     -999.0
320620170820,        P06,     188,          1,         22,         22,2,20170911,       0025,   -32.5001,  -112.3954,       2414,   287.2,  10.3090,  34.4647,2,  34.4671,2, 219.2722,2, 219.4314,2,     1.9,2,   14.12,2,    0.00,2,    0.99,2,   3.087,2,   1.754,2,   1.4070,2,  -999.0,9,  -999.0,9,-999.0000,9,  -999.00, -999.00,9, -999.00,9, -999.00,    43.0,2, -999.00,9,     -999.0,1,  -999.0,9, 20170911,      128, -32.5000,-112.3954,        0.0,1,      0.059,1,      4.685,1,      0.131,1,     -999.0,9,     -999.0,9,     -999.0,9,     -999.0,9,     -999.0,9,     -999.0,9,     -999.0,9,     -999.0,9,     -999.0,9,     -999.0,9,     -999.0,9,    10.4730,2,     -999.0,     -999.0,9,     -999.0
320620170820,        P06,     188,          1,         23,         23,2,20170911,       0025,   -32.5001,  -112.3954,       2414,   242.9,  11.8638,  34.5659,2,  34.5739,2, 220.6222,2, 218.7699,2,     0.9,2,    9.93,2,    0.00,2,    0.72,2,   2.847,2,   1.683,2,   1.5140,2,  2105.5,2,  2279.8,2,   7.8095,2,    25.00, -999.00,9, -999.00,9, -999.00,    45.3,2,   11.30,2,     -999.0,1,  -999.0,9, 20170911,      130, -32.4999,-112.3956,        0.0,1,      0.061,1,      4.681,1,      0.131,1,     -999.0,9,     -999.0,9,     -999.0,9,     -999.0,9,     -999.0,9,     -999.0,9,     -999.0,9,     -999.0,9,     -999.0,9,     -999.0,9,     -999.0,9,    12.0875,2,     -999.0,     -999.0,9,     -999.0
320620170820,        P06,     188,          1,         24,         24,2,20170911,       0025,   -32.5001,  -112.3954,       2414,   216.4,  12.9968,  34.6637,2,  34.6614,2, 221.3763,2,  221.593,2,     0.4,2,    6.80,2,    0.00,2,    0.53,2,   2.667,2,   1.609,2,   1.6000,2,  -999.0,9,  -999.0,9,-999.0000,9,  -999.00, -999.00,9, -999.00,9, -999.00,  -999.0,9, -999.00,9,     -999.0,9,  -999.0,9, 20170911,      132, -32.4999,-112.3956,        0.0,1,      0.063,1,      4.680,1,      0.131,1,     -999.0,9,     -999.0,9,     -999.0,9,     -999.0,9,     -999.0,9,     -999.0,9,     -999.0,9,     -999.0,9,     -999.0,9,     -999.0,9,     -999.0,9,    13.1387,2,     -999.0,     -999.0,9,     -999.0
320620170820,        P06,     188,          1,         25,         25,2,20170911,       0025,   -32.5001,  -112.3954,       2414,   192.7,  13.8501,  34.6976,2,  34.6529,2, 228.1507,2, 228.3959,2,     0.1,2,    4.77,2,    0.03,2,    0.42,2,   2.597,2,   1.582,2,   1.6910,2,  2081.9,2,  2281.4,2,   7.8634,2,    25.00, -999.00,9, -999.00,9, -999.00,    49.6,2,    7.60,2,     -999.0,1,  -999.0,9, 20170911,      133, -32.4999,-112.3956,        0.0,1,      0.078,1,      4.675,1,      0.138,1,     -999.0,9,     -999.0,9,     -999.0,9,     -999.0,9,     -999.0,9,     -999.0,9,     -999.0,9,     -999.0,9,     -999.0,9,     -999.0,9,     -999.0,9,    13.6523,2,     -999.0,     -999.0,9,     -999.0
320620170820,        P06,     188,          1,         26,         26,2,20170911,       0025,   -32.5001,  -112.3954,       2414,   165.9,  14.6226,  34.7391,2,  34.7642,2, 231.2955,2, 231.2498,2,     0.0,2,    2.36,2,    0.25,2,    0.29,2,   2.457,2,   1.514,2,   1.6860,2,  -999.0,9,  -999.0,9,-999.0000,9,  -999.00, -999.00,9, -999.00,9, -999.00,    50.8,2,    5.60,2,     -999.0,1,  -999.0,9, 20170911,      135, -32.5000,-112.3955,        0.0,1,      0.119,1,      4.665,1,      0.144,1,     -999.0,9,     -999.0,9,     -999.0,9,     -999.0,9,     -999.0,9,     -999.0,9,     -999.0,9,     -999.0,9,     -999.0,9,     -999.0,9,     -999.0,9,    14.6529,2,     -999.0,     -999.0,9,     -999.0