BOTTLE,20240211CCHSIOCBG
EXPOCODE,SECT_ID,STNNBR,CASTNO,SAMPNO,BTLNBR,BTLNBR_FLAG_W,DATE,TIME,LATITUDE,LONGITUDE,DEPTH,CTDPRS,CTDTMP,CTDSAL,CTDSAL_FLAG_W,SALNTY,SALNTY_FLAG_W,CTDOXY,CTDOXY_FLAG_W,OXYGEN,OXYGEN_FLAG_W,SILCAT,SILCAT_FLAG_W,NITRAT,NITRAT_FLAG_W,NITRIT,NITRIT_FLAG_W,PHSPHT,PHSPHT_FLAG_W,CFC-11,CFC-11_FLAG_W,CFC-12,CFC-12_FLAG_W,SF6,SF6_FLAG_W,TCARBN,TCARBN_FLAG_W,ALKALI,ALKALI_FLAG_W,PH_TOT,PH_TOT_FLAG_W,PH_TMP,DELC13,DELC13_FLAG_W,DELC14,DELC14_FLAG_W,C14ERR,DOC,DOC_FLAG_W,TDN,TDN_FLAG_W,TON,TON_FLAG_W,D15N_NO3,D15N_NO3_FLAG_W,BTL_DATE,BTL_TIME,BTL_LAT,BTL_LON,CTDRINKO,CTDRINKO_FLAG_W,CTDFLUOR,CTDFLUOR_FLAG_W,CTDXMISS,CTDXMISS_FLAG_W,CTDBACKSCATTER,CTDBACKSCATTER_FLAG_W,D18O_NO3,D18O_NO3_FLAG_W,DOP,DOP_FLAG_W,CELLCOUNT,CELLCOUNT_FLAG_W,TDP,TDP_FLAG_W,POP,POP_FLAG_W,DATP,DATP_FLAG_W,PATP,PATP_FLAG_W,HPLC,HPLC_FLAG_W,POC,POC_FLAG_W,BEAMAP,BEAMAP_FLAG_W,DOC_NASA,DOC_NASA_FLAG_W,REFTMP,REFTMP_FLAG_W,DOC_NASA_ERROR,TDN_NASA,TDN_NASA_FLAG_W,TDN_NASA_ERROR
,,,,,,,,,,,METERS,DBAR,ITS-90,PSS-78,,PSS-78,,UMOL/KG,,UMOL/KG,,UMOL/KG,,UMOL/KG,,UMOL/KG,,UMOL/KG,,PMOL/KG,,PMOL/KG,,FMOL/KG,,UMOL/KG,,UMOL/KG,,,,DEG C,/MILLE,,/MILLE,,/MILLE,UMOL/KG,,UMOL/KG,,UMOL/KG,,/MILLE,,,,,,VOLTS,,VOLTS,,VOLTS,,VOLTS,,/MILLE,,UMOL/KG,,/LITER,,UMOL/KG,,UMOL/L,,PMOL/L,,PMOL/L,,,,UG/L,,/METER,,UMOL/L,,ITS-90,,UMOL/L,UMOL/L,,UMOL/L
320620170820,        P06,     237,          2,         27,         27,2,20170926,       1758,   -32.5002,   -73.0828,       4545,   203.8,  10.0030,  34.5520,2,  34.5425,2,   31.713,2,  29.5167,2,    22.3,2,   29.10,2,    0.00,2,    2.68,2,   1.599,2,   0.914,2,   0.6090,2,  2270.7,2,  2283.8,2,   7.3566,2,    25.00, -999.00,9, -999.00,9, -999.00,  -999.0,9, -999.00,9,     -999.0,9,  -999.0,9, 20170926,     1948, -32.5003, -73.0824,        0.0,1,      0.067,1,      4.647,1,      0.166,1,     -999.0,9,     -999.0,9,     -999.0,9,     -999.0,9,     -999.0,9,     -999.0,9,     -999.0,9,     -999.0,9,     -999.0,9,     -999.0,9,     -999.0,9,     9.9454,2,     -999.0,     -999.0,9,     -999.0
320620170820,        P06,     237,          2,         28,         28,2,20170926,       1758,   -32.5002,   -73.0828,       4545,   152.1,  10.2337,  34.3997,2,  34.4096,2,  84.3793,2,  78.8378,2,    15.4,2,   25.70,2,    0.00,2,    2.34,2,   2.286,2,   1.322,2,   0.6950,2,  -999.0,9,  -999.0,9,-999.0000,9,  -999.00, -999.00,9, -999.00,9, -999.00,  -999.0,9, -999.00,9,     -999.0,9,  -999.0,9, 20170926,     1950, -32.5003, -73.0826,        0.0,1,      0.064,1,      4.656,1,      0.165,1,     -999.0,9,     -999.0,9,     -999.0,9,     -999.0,9,     -999.0,9,     -999.0,9,     -999.0,9,     -999.0,9,     -999.0,9,     -999.0,9,     -999.0,9,    10.1859,2,     -999.0,     -999.0,9,     -999.0
320620170820,        P06,     237,          2,         29,         29,2,20170926,       1758,   -32.5002,   -73.0828,       4545,   102.9,  10.9816,  34.2138,2,  34.2275,2, 126.6615,2, 129.7678,2,     8.7,2,   23.89,2,    0.00,2,    1.99,2,   2.688,2,   1.602,2,   0.9350,2,  2191.6,2,  2264.5,2,   7.5393,2,    25.00, -999.00,9, -999.00,9, -999.00,  -999.0,9, -999.00,9,     -999.0,9,  -999.0,9, 20170926,     1952, -32.5002, -73.0828,        0.0,1,      0.067,1,      4.645,1,      0.175,1,     -999.0,9,     -999.0,9,     -999.0,9,     -999.0,9,     -999.0,9,     -999.0,9,     -999.0,9,     -999.0,9,     -999.0,9,     -999.0,9,     -999.0,9,    10.8774,2,     -999.0,     -999.0,9,     -999.0
320620170820,        P06,     237,          2,         30,         30,2,20170926,       1758,   -32.5002,   -73.0828,       4545,    77.5,  12.9870,  34.1917,2,  34.1603,2, 227.9276,4, 211.1163,2,     3.4,2,   14.20,2,    0.13,2,    1.28,2,   2.655,2,   1.596,2,   2.7410,4,  -999.0,9,  -999.0,9,-999.0000,9,  -999.00, -999.00,9, -999.00,9, -999.00,  -999.0,9, -999.00,9,     -999.0,9,  -999.0,9, 20170926,     1954, -32.5002, -73.0829,        0.0,1,      0.171,1,      4.560,1,      0.251,1,     -999.0,9,     -999.0,9,     -999.0,9,     -999.0,9,     -999.0,9,     -999.0,9,     -999.0,9,     -999.0,9,     -999.0,9,     -999.0,9,     -999.0,9,    12.6621,2,     -999.0,     -999.0,9,     -999.0
320620170820,        P06,     237,          2,         33,         33,2,20170926,       1758,   -32.5002,   -73.0828,       4545,    51.5,  13.2488,  34.2130,2,  34.2124,2, 254.9957,2, 255.0647,2,     2.1,2,    7.92,2,    0.24,2,    0.93,2,   2.617,2,   1.495,2,   1.2990,2,  2087.7,2,  2273.5,2,   7.8360,2,    25.00, -999.00,9, -999.00,9, -999.00,  -999.0,9, -999.00,9,     -999.0,9,  -999.0,9, 20170926,     1957, -32.5002, -73.0830,        0.0,1,      0.203,1,      4.526,1,      0.265,1,     -999.0,9,     -999.0,9,     -999.0,9,     -999.0,9,     -999.0,9,     -999.0,9,     -999.0,9,     -999.0,9,     -999.0,9,     -999.0,9,     -999.0,9,    13.2792,2,     -999.0,     -999.0,9,     -999.0
320620170820,        P06,     237,          2,         32,         32,2,20170926,       1758,   -32.5002,   -73.0828,       4545,    51.1,  13.2488,  34.2130,2,-999.0000,9, 245.3997,2,-999.0000,9,  -999.0,9, -999.00,9, -999.00,9, -999.00,9,-999.000,9,-999.000,9,-999.0000,9,  -999.0,9,  -999.0,9,-999.0000,9,  -999.00, -999.00,9, -999.00,9, -999.00,  -999.0,9, -999.00,9,     -999.0,9,  -999.0,9, 20170926,     1957, -32.5002, -73.0830,        0.0,1,      0.203,1,      4.526,1,      0.265,1,     -999.0,9,     -999.0,9,     -999.0,9,     -999.0,9,     -999.0,9,     -999.0,9,     -999.0,9,     -999.0,1,     -999.0,1,     -999.0,1,     -999.0,1,    13.2811,2,     -999.0,     -999.0,9,     -999.0
320620170820,        P06,     237,          2,         31,         31,2,20170926,       1758,   -32.5002,   -73.0828,       4545,    50.1,  13.2488,  34.2130,2,-999.0000,9, 245.2579,2,-999.0000,9,  -999.0,9, -999.00,9, -999.00,9, -999.00,9,-999.000,9,-999.000,9,-999.0000,9,  -999.0,9,  -999.0,9,-999.0000,9,  -999.00, -999.00,9, -999.00,9, -999.00,  -999.0,9, -999.00,9,     -999.0,9,  -999.0,9, 20170926,     1956, -32.5002, -73.0830,        0.0,1,      0.203,1,      4.526,1,      0.265,1,     -999.0,9,     -999.0,9,     -999.0,9,     -999.0,9,     -999.0,9,     -999.0,9,     -999.0,9,     -999.0,1,     -999.0,1,     -999.0,1,     -999.0,1,    13.2808,2,     -999.0,     -999.0,9,     -999.0
320620170820,        P06,     237,          2,         34,         34,2,20170926,       1758,   -32.5002,   -73.0828,       4545,    26.6,  13.2704,  34.2134,2,-999.0000,9, 247.0275,2,-999.0000,9,  -999.0,9, -999.00,9, -999.00,9, -999.00,9,-999.000,9,-999.000,9,-999.0000,9,  -999.0,9,  -999.0,9,-999.0000,9,  -999.00, -999.00,9, -999.00,9, -999.00,  -999.0,9, -999.00,9,     -999.0,9,  -999.0,9, 20170926,     1959, -32.5002, -73.0829,        0.0,1,      0.195,1,      4.521,1,      0.275,1,     -999.0,9,     -999.0,9,     -999.0,9,     -999.0,9,     -999.0,9,     -999.0,9,     -999.0,9,     -999.0,1,     -999.0,1,     -999.0,1,     -999.0,1,    13.3062,2,     -999.0,     -999.0,9,     -999.0
320620170820,        P06,     237,          2,         35,         35,2,20170926,       1758,   -32.5002,   -73.0828,       4545,    26.3,  13.2704,  34.2134,2,  34.2134,2, 254.5762,2,  255.829,2,     2.1,2,    7.86,2,    0.24,2,    0.93,2,   2.547,2,   1.478,2,   1.2860,2,  2086.2,2,  2274.8,2,   7.8363,2,    25.00, -999.00,9, -999.00,9, -999.00,  -999.0,9, -999.00,9,     -999.0,9,  -999.0,9, 20170926,     2000, -32.5002, -73.0829,        0.0,1,      0.195,1,      4.521,1,      0.275,1,     -999.0,9,     -999.0,9,     -999.0,9,     -999.0,9,     -999.0,9,     -999.0,9,     -999.0,9,     -999.0,9,     -999.0,9,     -999.0,9,     -999.0,9,    13.3079,2,     -999.0,     -999.0,9,     -999.0
320620170820,        P06,     237,          2,         36,         36,2,20170926,       1758,   -32.5002,   -73.0828,       4545,     5.2,  13.2877,  34.2133,2,  34.2134,2, 254.9676,2, 256.1935,2,     2.1,2,    7.83,2,    0.24,2,    0.94,2,   2.651,2,   1.532,2,   1.4820,2,  2087.2,6,  2272.6,2,   7.8392,2,    25.00, -999.00,9, -999.00,9, -999.00,  -999.0,9, -999.00,9,     -999.0,9,  -999.0,9, 20170926,     2001, -32.5002, -73.0828,        0.0,1,      0.123,1,      4.516,1,      0.256,1,     -999.0,9,     -999.0,9,     -999.0,9,     -999.0,9,     -999.0,9,     -999.0,9,     -999.0,9,     -999.0,9,     -999.0,9,     -999.0,9,     -999.0,9,    13.3146,2,     -999.0,     -999.0,9,     -999.0