BOTTLE,20240211CCHSIOCBG
EXPOCODE,SECT_ID,STNNBR,CASTNO,SAMPNO,BTLNBR,BTLNBR_FLAG_W,DATE,TIME,LATITUDE,LONGITUDE,DEPTH,CTDPRS,CTDTMP,CTDSAL,CTDSAL_FLAG_W,SALNTY,SALNTY_FLAG_W,CTDOXY,CTDOXY_FLAG_W,OXYGEN,OXYGEN_FLAG_W,SILCAT,SILCAT_FLAG_W,NITRAT,NITRAT_FLAG_W,NITRIT,NITRIT_FLAG_W,PHSPHT,PHSPHT_FLAG_W,CFC-11,CFC-11_FLAG_W,CFC-12,CFC-12_FLAG_W,SF6,SF6_FLAG_W,TCARBN,TCARBN_FLAG_W,ALKALI,ALKALI_FLAG_W,PH_TOT,PH_TOT_FLAG_W,PH_TMP,DELC13,DELC13_FLAG_W,DELC14,DELC14_FLAG_W,C14ERR,DOC,DOC_FLAG_W,TDN,TDN_FLAG_W,TON,TON_FLAG_W,D15N_NO3,D15N_NO3_FLAG_W,BTL_DATE,BTL_TIME,BTL_LAT,BTL_LON,CTDRINKO,CTDRINKO_FLAG_W,CTDFLUOR,CTDFLUOR_FLAG_W,CTDXMISS,CTDXMISS_FLAG_W,CTDBACKSCATTER,CTDBACKSCATTER_FLAG_W,D18O_NO3,D18O_NO3_FLAG_W,DOP,DOP_FLAG_W,CELLCOUNT,CELLCOUNT_FLAG_W,TDP,TDP_FLAG_W,POP,POP_FLAG_W,DATP,DATP_FLAG_W,PATP,PATP_FLAG_W,HPLC,HPLC_FLAG_W,POC,POC_FLAG_W,BEAMAP,BEAMAP_FLAG_W,DOC_NASA,DOC_NASA_FLAG_W,REFTMP,REFTMP_FLAG_W,DOC_NASA_ERROR,TDN_NASA,TDN_NASA_FLAG_W,TDN_NASA_ERROR
,,,,,,,,,,,METERS,DBAR,ITS-90,PSS-78,,PSS-78,,UMOL/KG,,UMOL/KG,,UMOL/KG,,UMOL/KG,,UMOL/KG,,UMOL/KG,,PMOL/KG,,PMOL/KG,,FMOL/KG,,UMOL/KG,,UMOL/KG,,,,DEG C,/MILLE,,/MILLE,,/MILLE,UMOL/KG,,UMOL/KG,,UMOL/KG,,/MILLE,,,,,,VOLTS,,VOLTS,,VOLTS,,VOLTS,,/MILLE,,UMOL/KG,,/LITER,,UMOL/KG,,UMOL/L,,PMOL/L,,PMOL/L,,,,UG/L,,/METER,,UMOL/L,,ITS-90,,UMOL/L,UMOL/L,,UMOL/L
320620170820,        P06,     150,          1,         27,         27,2,20170828,       0229,   -32.5000,  -143.9300,       4472,   303.3,  10.0554,  34.5580,2,  34.5842,2, 219.9198,2, 216.5456,2,     2.3,2,   14.04,2,    0.00,2,    1.03,2,   3.033,2,   1.740,2,   1.3540,2,  2124.5,2,  2282.0,2,   7.7686,2,    25.00, -999.00,9, -999.00,9, -999.00,    48.3,2, -999.00,9,     -999.0,1,  -999.0,1, 20170828,      416, -32.4999,-143.9300,        0.0,1,      0.058,1,      4.692,1,      0.134,1,     -999.0,1,     -999.0,1,     -999.0,9,     -999.0,9,     -999.0,9,     -999.0,9,     -999.0,9,     -999.0,9,     -999.0,9,     -999.0,9,     -999.0,9,    10.4938,2,     -999.0,     -999.0,9,     -999.0
320620170820,        P06,     150,          1,         28,         28,2,20170828,       0229,   -32.5000,  -143.9300,       4472,   251.4,  11.7330,  34.6987,2,  34.7152,2, 220.9045,2, 213.1538,2,     1.5,2,   10.61,2,    0.00,2,    0.80,2,   2.913,2,   1.670,2,   1.3900,2,  2112.6,6,  2289.7,2,   7.8040,2,    25.00, -999.00,9, -999.00,9, -999.00,    46.2,2,   12.10,2,     -999.0,1,  -999.0,1, 20170828,      418, -32.4999,-143.9300,        0.0,1,      0.060,1,      4.690,1,      0.134,1,     -999.0,1,     -999.0,1,     -999.0,9,     -999.0,9,     -999.0,9,     -999.0,9,     -999.0,9,     -999.0,9,     -999.0,9,     -999.0,9,     -999.0,9,    11.9364,2,     -999.0,     -999.0,9,     -999.0
320620170820,        P06,     150,          1,         29,         29,2,20170828,       0229,   -32.5000,  -143.9300,       4472,   202.9,  13.9054,  34.9344,2,  34.9032,3, 224.3422,2, 219.0057,2,     0.6,2,    5.54,2,    0.02,2,    0.49,2,   2.636,2,   1.561,2,   1.5450,2,  2095.0,2,  2298.1,2,   7.8578,2,    25.00, -999.00,9, -999.00,9, -999.00,    49.4,2,    8.00,2,     -999.0,1,  -999.0,1, 20170828,      420, -32.4999,-143.9300,        0.0,1,      0.069,1,      4.685,1,      0.132,1,     -999.0,1,     -999.0,1,     -999.0,9,     -999.0,9,     -999.0,9,     -999.0,9,     -999.0,9,     -999.0,9,     -999.0,9,     -999.0,9,     -999.0,9,    13.7729,2,     -999.0,     -999.0,9,     -999.0
320620170820,        P06,     150,          1,         30,         30,2,20170828,       0229,   -32.5000,  -143.9300,       4472,   151.7,  15.2813,  35.0743,2,  35.0394,2, 236.3013,2, 228.4613,2,     0.2,2,    1.98,2,    0.12,2,    0.27,2,   2.522,2,   1.425,2,   1.6540,2,  2080.1,2,  2303.3,2,   7.9005,2,    25.00, -999.00,9, -999.00,9, -999.00,    53.8,2,    5.40,2,     -999.0,1,  -999.0,1, 20170828,      423, -32.4998,-143.9300,        0.0,1,      0.124,1,      4.669,1,      0.149,1,     -999.0,1,     -999.0,1,     -999.0,9,     -999.0,9,     -999.0,9,     -999.0,9,     -999.0,9,     -999.0,9,     -999.0,9,     -999.0,9,     -999.0,9,    15.0035,2,     -999.0,     -999.0,9,     -999.0
320620170820,        P06,     150,          1,         31,         31,2,20170828,       0229,   -32.5000,  -143.9300,       4472,   125.9,  16.5046,  35.2164,2,  35.2046,2, 237.1857,2, 240.7368,2,     0.1,2,    0.01,2,    0.02,2,    0.10,2,   2.320,2,   1.355,2,   1.8430,2,  2058.8,2,  2311.9,2,   7.9545,2,    25.00, -999.00,9, -999.00,9, -999.00,  -999.0,9, -999.00,9,     -999.0,9,  -999.0,1, 20170828,      424, -32.4998,-143.9300,        0.0,1,      0.135,1,      4.648,1,      0.172,1,     -999.0,1,     -999.0,1,     -999.0,9,     -999.0,9,     -999.0,9,     -999.0,9,     -999.0,9,     -999.0,9,     -999.0,9,     -999.0,9,     -999.0,9,    16.4485,2,     -999.0,     -999.0,9,     -999.0
320620170820,        P06,     150,          1,         32,         32,2,20170828,       0229,   -32.5000,  -143.9300,       4472,   100.0,  16.5117,  35.2159,2,  35.2034,2, 235.2363,2, 240.6288,2,     0.1,2,    0.00,2,    0.02,2,    0.10,2,   2.245,2,   1.353,2,   1.8020,2,  2059.4,2,  2313.3,2,   7.9549,2,    25.00, -999.00,9, -999.00,9, -999.00,    61.9,2,    3.60,2,     -999.0,1,  -999.0,1, 20170828,      426, -32.4999,-143.9300,        0.0,1,      0.139,1,      4.645,1,      0.171,1,     -999.0,1,     -999.0,1,     -999.0,9,     -999.0,9,     -999.0,9,     -999.0,9,     -999.0,9,     -999.0,9,     -999.0,9,     -999.0,9,     -999.0,9,    16.4730,2,     -999.0,     -999.0,9,     -999.0
320620170820,        P06,     150,          1,         33,         33,2,20170828,       0229,   -32.5000,  -143.9300,       4472,    75.8,  16.5021,  35.2139,2,  35.2032,2,  240.372,2, 240.7729,2,     0.1,2,    0.00,2,    0.02,2,    0.10,2,   2.256,2,   1.345,2,   1.8380,2,  2058.4,2,  2313.4,2,   7.9545,2,    25.00, -999.00,9, -999.00,9, -999.00,    59.9,2,    3.70,2,     -999.0,1,  -999.0,1, 20170828,      428, -32.5001,-143.9300,        0.0,1,      0.131,1,      4.643,1,      0.177,1,     -999.0,1,     -999.0,1,     -999.0,9,     -999.0,9,     -999.0,9,     -999.0,9,     -999.0,9,     -999.0,9,     -999.0,9,     -999.0,9,     -999.0,9,    16.4703,2,     -999.0,     -999.0,9,     -999.0
320620170820,        P06,     150,          1,         34,         34,2,20170828,       0229,   -32.5000,  -143.9300,       4472,    50.4,  16.4766,  35.2062,2,  35.2010,2,  246.136,3, 260.4145,2,     0.1,2,    0.00,2,    0.02,2,    0.11,2,   2.124,2,   1.354,2,   1.8410,2,  2058.6,2,  2311.2,2,   7.9542,2,    25.00, -999.00,9, -999.00,9, -999.00,    59.9,2,    3.90,2,     -999.0,1,  -999.0,1, 20170828,      429, -32.5002,-143.9300,        0.0,1,      0.122,1,      4.640,1,      0.174,1,     -999.0,1,     -999.0,1,     -999.0,9,     -999.0,9,     -999.0,9,     -999.0,9,     -999.0,9,     -999.0,9,     -999.0,9,     -999.0,9,     -999.0,9,    16.4609,2,     -999.0,     -999.0,9,     -999.0
320620170820,        P06,     150,          1,         35,         35,2,20170828,       0229,   -32.5000,  -143.9300,       4472,    25.1,  16.4852,  35.2089,2,  35.2050,2, 237.4636,2, 240.4886,2,     0.1,2,    0.00,2,    0.02,2,    0.10,2,   2.312,2,   1.359,2,   1.8610,2,  2058.7,2,  2312.1,2,   7.9557,2,    25.00, -999.00,9, -999.00,9, -999.00,    62.5,2,    3.80,2,     -999.0,1,  -999.0,1, 20170828,      431, -32.5002,-143.9301,        0.0,1,      0.101,1,      4.641,1,      0.169,1,     -999.0,1,     -999.0,1,     -999.0,9,     -999.0,9,     -999.0,9,     -999.0,9,     -999.0,9,     -999.0,9,     -999.0,9,     -999.0,9,     -999.0,9,    16.4682,2,     -999.0,     -999.0,9,     -999.0
320620170820,        P06,     150,          1,         36,         36,2,20170828,       0229,   -32.5000,  -143.9300,       4472,    13.3,  16.5006,  35.2113,2,  35.2036,2, 234.6342,2, 241.8283,2,     0.2,2,    0.00,2,    0.02,2,    0.10,2,   2.068,2,   1.353,2,   1.9100,2,  2058.7,6,  2309.5,2,   7.9548,2,    25.00,    0.86,2,   49.23,2,    2.71,    61.9,2,    4.10,2,     -999.0,1,  -999.0,1, 20170828,      432, -32.5000,-143.9300,        0.0,1,      0.084,1,      4.641,1,      0.168,1,     -999.0,1,     -999.0,1,     -999.0,9,     -999.0,9,     -999.0,9,     -999.0,9,     -999.0,9,     -999.0,1,     -999.0,9,     -999.0,9,     -999.0,9,    16.4685,2,     -999.0,     -999.0,9,     -999.0