BOTTLE,20240211CCHSIOCBG
EXPOCODE,SECT_ID,STNNBR,CASTNO,SAMPNO,BTLNBR,BTLNBR_FLAG_W,DATE,TIME,LATITUDE,LONGITUDE,DEPTH,CTDPRS,CTDTMP,CTDSAL,CTDSAL_FLAG_W,SALNTY,SALNTY_FLAG_W,CTDOXY,CTDOXY_FLAG_W,OXYGEN,OXYGEN_FLAG_W,SILCAT,SILCAT_FLAG_W,NITRAT,NITRAT_FLAG_W,NITRIT,NITRIT_FLAG_W,PHSPHT,PHSPHT_FLAG_W,CFC-11,CFC-11_FLAG_W,CFC-12,CFC-12_FLAG_W,SF6,SF6_FLAG_W,TCARBN,TCARBN_FLAG_W,ALKALI,ALKALI_FLAG_W,PH_TOT,PH_TOT_FLAG_W,PH_TMP,DELC13,DELC13_FLAG_W,DELC14,DELC14_FLAG_W,C14ERR,DOC,DOC_FLAG_W,TDN,TDN_FLAG_W,TON,TON_FLAG_W,D15N_NO3,D15N_NO3_FLAG_W,BTL_DATE,BTL_TIME,BTL_LAT,BTL_LON,CTDRINKO,CTDRINKO_FLAG_W,CTDFLUOR,CTDFLUOR_FLAG_W,CTDXMISS,CTDXMISS_FLAG_W,CTDBACKSCATTER,CTDBACKSCATTER_FLAG_W,D18O_NO3,D18O_NO3_FLAG_W,DOP,DOP_FLAG_W,CELLCOUNT,CELLCOUNT_FLAG_W,TDP,TDP_FLAG_W,POP,POP_FLAG_W,DATP,DATP_FLAG_W,PATP,PATP_FLAG_W,HPLC,HPLC_FLAG_W,POC,POC_FLAG_W,BEAMAP,BEAMAP_FLAG_W,DOC_NASA,DOC_NASA_FLAG_W,REFTMP,REFTMP_FLAG_W,DOC_NASA_ERROR,TDN_NASA,TDN_NASA_FLAG_W,TDN_NASA_ERROR
,,,,,,,,,,,METERS,DBAR,ITS-90,PSS-78,,PSS-78,,UMOL/KG,,UMOL/KG,,UMOL/KG,,UMOL/KG,,UMOL/KG,,UMOL/KG,,PMOL/KG,,PMOL/KG,,FMOL/KG,,UMOL/KG,,UMOL/KG,,,,DEG C,/MILLE,,/MILLE,,/MILLE,UMOL/KG,,UMOL/KG,,UMOL/KG,,/MILLE,,,,,,VOLTS,,VOLTS,,VOLTS,,VOLTS,,/MILLE,,UMOL/KG,,/LITER,,UMOL/KG,,UMOL/L,,PMOL/L,,PMOL/L,,,,UG/L,,/METER,,UMOL/L,,ITS-90,,UMOL/L,UMOL/L,,UMOL/L
320620170820,        P06,     235,          1,          1,          1,2,20170926,       0432,   -32.4999,   -73.9654,       4085,  4143.1,   1.6600,  34.6961,2,  34.6946,2, 163.8357,3, 165.0676,2,   124.8,2,   34.65,2,    0.00,2,    2.41,2,   0.014,2,   0.024,2,   0.0000,4,  2307.1,6,  2401.8,2,   7.5912,2,    25.00, -999.00,9, -999.00,9, -999.00,  -999.0,9, -999.00,9,     -999.0,9,  -999.0,1, 20170926,      432, -32.4999, -73.9653,        0.0,1,      0.061,1,      4.672,1,      0.144,1,     -999.0,1,     -999.0,9,     -999.0,9,     -999.0,9,     -999.0,9,     -999.0,9,     -999.0,9,     -999.0,9,     -999.0,9,     -999.0,9,     -999.0,9,     1.6605,2,     -999.0,     -999.0,9,     -999.0
320620170820,        P06,     235,          1,          2,          2,2,20170926,       0432,   -32.4999,   -73.9654,       4085,  3955.2,   1.6619,  34.6952,2,  34.6936,2, 163.8357,2, 164.3273,2,   124.8,2,   34.68,2,    0.00,2,    2.42,2,   0.016,2,   0.039,2,   0.0000,4,  2306.8,2,  2400.8,2,   7.5885,2,    25.00, -999.00,9, -999.00,9, -999.00,  -999.0,9, -999.00,9,     -999.0,9,  -999.0,1, 20170926,      438, -32.4999, -73.9656,        0.0,1,      0.061,1,      4.676,1,      0.136,1,     -999.0,1,     -999.0,9,     -999.0,9,     -999.0,9,     -999.0,9,     -999.0,9,     -999.0,9,     -999.0,9,     -999.0,9,     -999.0,9,     -999.0,9,     1.6610,2,     -999.0,     -999.0,9,     -999.0
320620170820,        P06,     235,          1,          3,          3,2,20170926,       0432,   -32.4999,   -73.9654,       4085,  3759.5,   1.6729,  34.6935,2,  34.6924,2, 163.8936,3, 162.5196,2,   124.9,2,   34.72,2,    0.00,2,    2.43,2,   0.012,2,   0.039,2,   0.0000,4,  2308.1,2,  2403.6,2,   7.5877,2,    25.00, -999.00,9, -999.00,9, -999.00,  -999.0,9, -999.00,9,     -999.0,9,  -999.0,1, 20170926,      443, -32.4999, -73.9654,        0.0,1,      0.061,1,      4.678,1,      0.133,1,     -999.0,1,     -999.0,9,     -999.0,9,     -999.0,9,     -999.0,9,     -999.0,9,     -999.0,9,     -999.0,9,     -999.0,9,     -999.0,9,     -999.0,9,     1.6721,2,     -999.0,     -999.0,9,     -999.0
320620170820,        P06,     235,          1,          4,          4,2,20170926,       0432,   -32.4999,   -73.9654,       4085,  3450.1,   1.7202,  34.6896,2,  34.6889,2,  159.684,2, 159.3665,2,   124.7,2,   34.97,2,    0.00,2,    2.44,2,   0.010,2,   0.057,2,   0.0000,4,  2308.5,2,  2400.6,2,   7.5834,2,    25.00, -999.00,9, -999.00,9, -999.00,  -999.0,9, -999.00,9,     -999.0,9,  -999.0,1, 20170926,      450, -32.4999, -73.9653,        0.0,1,      0.061,1,      4.679,1,      0.132,1,     -999.0,1,     -999.0,9,     -999.0,9,     -999.0,9,     -999.0,9,     -999.0,9,     -999.0,9,     -999.0,9,     -999.0,9,     -999.0,9,     -999.0,9,     1.7199,2,     -999.0,     -999.0,9,     -999.0
320620170820,        P06,     235,          1,          5,          5,2,20170926,       0432,   -32.4999,   -73.9654,       4085,  3141.9,   1.7814,  34.6837,2,  34.6822,2, 155.6319,3, 154.6121,2,   125.7,2,   35.26,2,    0.00,2,    2.47,2,   0.010,2,   0.053,2,   0.0000,4,  2310.5,2,  2403.8,2,   7.5752,2,    25.00, -999.00,9, -999.00,9, -999.00,  -999.0,9, -999.00,9,     -999.0,9,  -999.0,1, 20170926,      457, -32.4995, -73.9640,        0.0,1,      0.061,1,      4.680,1,      0.133,1,     -999.0,1,     -999.0,9,     -999.0,9,     -999.0,9,     -999.0,9,     -999.0,9,     -999.0,9,     -999.0,9,     -999.0,9,     -999.0,9,     -999.0,9,     1.7802,2,     -999.0,     -999.0,9,     -999.0
320620170820,        P06,     235,          1,          6,          6,2,20170926,       0432,   -32.4999,   -73.9654,       4085,  2875.5,   1.8315,  34.6777,2,  34.6761,2, 151.4261,2, 152.3098,2,   124.7,2,   35.42,2,    0.00,2,    2.49,2,   0.012,2,   0.057,2,   0.0000,4,  2311.5,2,  2401.3,2,   7.5724,2,    25.00, -999.00,9, -999.00,9, -999.00,  -999.0,9, -999.00,9,     -999.0,9,  -999.0,1, 20170926,      503, -32.4996, -73.9644,        0.0,1,      0.061,1,      4.679,1,      0.135,1,     -999.0,1,     -999.0,9,     -999.0,9,     -999.0,9,     -999.0,9,     -999.0,9,     -999.0,9,     -999.0,9,     -999.0,9,     -999.0,9,     -999.0,9,     1.8300,2,     -999.0,     -999.0,9,     -999.0
320620170820,        P06,     235,          1,          7,          7,2,20170926,       0432,   -32.4999,   -73.9654,       4085,  2613.7,   1.8901,  34.6708,2,  34.6692,2, 148.2554,2, 148.3926,2,   123.3,2,   35.69,2,    0.00,2,    2.53,2,   0.015,2,   0.080,2,   0.0000,4,  2312.0,2,  2400.0,2,   7.5645,2,    25.00, -999.00,9, -999.00,9, -999.00,  -999.0,9, -999.00,9,     -999.0,9,  -999.0,1, 20170926,      508, -32.4997, -73.9642,        0.0,1,      0.061,1,      4.678,1,      0.137,1,     -999.0,1,     -999.0,9,     -999.0,9,     -999.0,9,     -999.0,9,     -999.0,9,     -999.0,9,     -999.0,9,     -999.0,9,     -999.0,9,     -999.0,9,     1.8907,2,     -999.0,     -999.0,9,     -999.0
320620170820,        P06,     235,          1,          8,          8,2,20170926,       0432,   -32.4999,   -73.9654,       4085,  2363.5,   1.9800,  34.6610,2,  34.6586,2,  142.969,2, 143.0321,2,   122.3,2,   36.12,2,    0.00,2,    2.55,2,   0.013,2,   0.086,2,   0.0000,4,  2312.4,2,  2395.8,6,   7.5550,2,    25.00, -999.00,9, -999.00,9, -999.00,  -999.0,9, -999.00,9,     -999.0,9,  -999.0,1, 20170926,      514, -32.4998, -73.9641,        0.0,1,      0.062,1,      4.678,1,      0.141,1,     -999.0,1,     -999.0,9,     -999.0,9,     -999.0,9,     -999.0,9,     -999.0,9,     -999.0,9,     -999.0,9,     -999.0,9,     -999.0,9,     -999.0,9,     1.9853,2,     -999.0,     -999.0,9,     -999.0
320620170820,        P06,     235,          1,          9,          9,2,20170926,       0432,   -32.4999,   -73.9654,       4085,  2109.3,   2.1298,  34.6469,2,  34.6458,2, 135.4851,2,  135.213,2,   119.1,2,   36.75,2,    0.00,2,    2.59,2,   0.012,2,   0.068,2,   0.0000,4,  2315.5,2,  2393.5,2,   7.5418,6,    25.00, -999.00,9, -999.00,9, -999.00,  -999.0,9, -999.00,9,     -999.0,9,  -999.0,1, 20170926,      520, -32.4998, -73.9643,        0.0,1,      0.062,1,      4.678,1,      0.138,1,     -999.0,1,     -999.0,9,     -999.0,9,     -999.0,9,     -999.0,9,     -999.0,9,     -999.0,9,     -999.0,9,     -999.0,9,     -999.0,9,     -999.0,9,     2.1348,2,     -999.0,     -999.0,9,     -999.0
320620170820,        P06,     235,          1,         10,         10,2,20170926,       0432,   -32.4999,   -73.9654,       4085,  1885.8,   2.3136,  34.6295,2,  34.6288,2, 128.6917,2, 128.8261,2,   114.7,2,   37.32,2,    0.00,2,    2.64,2,   0.011,2,   0.071,2,   0.0000,4,  2313.8,2,  2389.6,2,   7.5271,2,    25.00, -999.00,9, -999.00,9, -999.00,  -999.0,9, -999.00,9,     -999.0,9,  -999.0,1, 20170926,      526, -32.4998, -73.9642,        0.0,1,      0.063,1,      4.677,1,      0.139,1,     -999.0,1,     -999.0,9,     -999.0,9,     -999.0,9,     -999.0,9,     -999.0,9,     -999.0,9,     -999.0,9,     -999.0,9,     -999.0,9,     -999.0,9,     2.3096,2,     -999.0,     -999.0,9,     -999.0
320620170820,        P06,     235,          1,         11,         11,2,20170926,       0432,   -32.4999,   -73.9654,       4085,  1756.2,   2.4530,  34.6163,2,  34.6154,2, 124.3715,2, 124.3586,2,   110.8,2,   37.79,2,    0.00,2,    2.67,2,   0.013,2,   0.082,2,   0.0000,4,  2313.3,2,  2384.2,2,   7.5182,2,    25.00, -999.00,9, -999.00,9, -999.00,  -999.0,9, -999.00,9,     -999.0,9,  -999.0,1, 20170926,      529, -32.4998, -73.9645,        0.0,1,      0.062,1,      4.676,1,      0.139,1,     -999.0,1,     -999.0,9,     -999.0,9,     -999.0,9,     -999.0,9,     -999.0,9,     -999.0,9,     -999.0,9,     -999.0,9,     -999.0,9,     -999.0,9,     2.4501,2,     -999.0,     -999.0,9,     -999.0
320620170820,        P06,     235,          1,         12,         12,2,20170926,       0432,   -32.4999,   -73.9654,       4085,  1653.3,   2.5861,  34.6037,2,  34.6042,2, 121.6573,2, 124.1517,2,   107.4,2,   38.08,2,    0.00,2,    2.71,2,   0.011,2,   0.093,2,   0.0000,4,  2312.2,2,  2379.6,2,   7.5113,2,    25.00, -999.00,9, -999.00,9, -999.00,  -999.0,9, -999.00,9,     -999.0,9,  -999.0,1, 20170926,      533, -32.4998, -73.9643,        0.0,1,      0.063,1,      4.677,1,      0.139,1,     -999.0,1,     -999.0,9,     -999.0,9,     -999.0,9,     -999.0,9,     -999.0,9,     -999.0,9,     -999.0,9,     -999.0,9,     -999.0,9,     -999.0,9,     2.5647,2,     -999.0,     -999.0,9,     -999.0
320620170820,        P06,     235,          1,         13,         13,2,20170926,       0432,   -32.4999,   -73.9654,       4085,  1551.4,   2.7184,  34.5909,2,  34.5899,2, 117.9632,2, 117.3312,2,   103.1,2,   38.44,2,    0.00,2,    2.73,2,   0.014,2,   0.105,2,   0.0000,4,  2310.2,2,  2374.9,2,   7.5024,2,    25.00, -999.00,9, -999.00,9, -999.00,  -999.0,9, -999.00,9,     -999.0,9,  -999.0,1, 20170926,      536, -32.4998, -73.9644,        0.0,1,      0.063,1,      4.677,1,      0.140,1,     -999.0,1,     -999.0,9,     -999.0,9,     -999.0,9,     -999.0,9,     -999.0,9,     -999.0,9,     -999.0,9,     -999.0,9,     -999.0,9,     -999.0,9,     2.7120,2,     -999.0,     -999.0,9,     -999.0
320620170820,        P06,     235,          1,         14,         14,2,20170926,       0432,   -32.4999,   -73.9654,       4085,  1448.1,   2.8650,  34.5775,2,  34.5781,2, 114.9006,2, 113.8503,2,    99.4,2,   38.75,2,    0.00,2,    2.74,2,   0.012,2,   0.103,2,   0.0000,4,  2308.8,2,  2370.3,2,   7.4985,2,    25.00, -999.00,9, -999.00,9, -999.00,  -999.0,9, -999.00,9,     -999.0,9,  -999.0,1, 20170926,      539, -32.4998, -73.9646,        0.0,1,      0.063,1,      4.677,1,      0.144,1,     -999.0,1,     -999.0,9,     -999.0,9,     -999.0,9,     -999.0,9,     -999.0,9,     -999.0,9,     -999.0,9,     -999.0,9,     -999.0,9,     -999.0,9,     2.8446,2,     -999.0,     -999.0,9,     -999.0
320620170820,        P06,     235,          1,         15,         15,2,20170926,       0432,   -32.4999,   -73.9654,       4085,  1348.0,   3.0620,  34.5597,2,  34.5576,2, 110.6132,2, 109.6627,2,    93.6,2,   39.14,2,    0.00,2,    2.77,2,   0.012,2,   0.115,2,   0.0000,4,  2303.6,2,  2363.6,2,   7.4870,2,    25.00, -999.00,9, -999.00,9, -999.00,  -999.0,9, -999.00,9,     -999.0,9,  -999.0,1, 20170926,      542, -32.4998, -73.9645,        0.0,1,      0.063,1,      4.677,1,      0.139,1,     -999.0,1,     -999.0,9,     -999.0,9,     -999.0,9,     -999.0,9,     -999.0,9,     -999.0,9,     -999.0,9,     -999.0,9,     -999.0,9,     -999.0,9,     3.0663,2,     -999.0,     -999.0,9,     -999.0
320620170820,        P06,     235,          1,         16,         16,2,20170926,       0432,   -32.4999,   -73.9654,       4085,  1249.2,   3.2363,  34.5406,2,  34.5366,2, 108.6539,2, 107.3036,2,    87.4,2,   39.41,2,    0.00,2,    2.80,2,   0.019,2,   0.129,2,   0.0000,4,  2300.7,6,  2355.3,2,   7.4819,2,    25.00, -999.00,9, -999.00,9, -999.00,  -999.0,9, -999.00,9,     -999.0,9,  -999.0,1, 20170926,      545, -32.4998, -73.9647,        0.0,1,      0.062,1,      4.676,1,      0.142,1,     -999.0,1,     -999.0,9,     -999.0,9,     -999.0,9,     -999.0,9,     -999.0,9,     -999.0,9,     -999.0,9,     -999.0,9,     -999.0,9,     -999.0,9,     3.2595,2,     -999.0,     -999.0,9,     -999.0
320620170820,        P06,     235,          1,         17,         17,2,20170926,       0432,   -32.4999,   -73.9654,       4085,  1143.8,   3.4219,  34.5099,2,  34.5087,2,  109.781,2, 109.3901,2,    79.3,2,   39.28,2,    0.00,2,    2.78,2,   0.028,2,   0.125,2,   0.0000,4,  2291.9,2,  2345.5,2,   7.4799,2,    25.00, -999.00,9, -999.00,9, -999.00,  -999.0,9, -999.00,9,     -999.0,9,  -999.0,1, 20170926,      548, -32.4998, -73.9649,        0.0,1,      0.062,1,      4.677,1,      0.142,1,     -999.0,1,     -999.0,9,     -999.0,9,     -999.0,9,     -999.0,9,     -999.0,9,     -999.0,9,     -999.0,9,     -999.0,9,     -999.0,9,     -999.0,9,     3.4280,2,     -999.0,     -999.0,9,     -999.0
320620170820,        P06,     235,          1,         18,         18,2,20170926,       0432,   -32.4999,   -73.9654,       4085,  1045.0,   3.6442,  34.4737,2,  34.4712,2, 114.6679,2, 113.8129,2,    69.5,2,   39.08,2,    0.00,2,    2.76,2,   0.069,2,   0.160,2,   0.0000,4,  2280.3,2,  2335.0,2,   7.4813,2,    25.00, -999.00,9, -999.00,9, -999.00,  -999.0,9, -999.00,9,     -999.0,9,  -999.0,1, 20170926,      551, -32.4998, -73.9650,        0.0,1,      0.062,1,      4.677,1,      0.142,1,     -999.0,1,     -999.0,9,     -999.0,9,     -999.0,9,     -999.0,9,     -999.0,9,     -999.0,9,     -999.0,9,     -999.0,9,     -999.0,9,     -999.0,9,     3.6629,2,     -999.0,     -999.0,9,     -999.0
320620170820,        P06,     235,          1,         19,         19,2,20170926,       0432,   -32.4999,   -73.9654,       4085,   942.1,   3.9161,  34.4321,2,  34.4216,2, 125.6378,2, 125.4341,2,    57.0,2,   38.14,2,    0.00,2,    2.69,2,   0.226,2,   0.223,2,   0.0000,4,  2263.5,2,  2321.5,2,   7.4951,2,    25.00, -999.00,9, -999.00,9, -999.00,  -999.0,9, -999.00,9,     -999.0,9,  -999.0,1, 20170926,      555, -32.4998, -73.9652,        0.0,1,      0.064,1,      4.676,1,      0.142,1,     -999.0,1,     -999.0,9,     -999.0,9,     -999.0,9,     -999.0,9,     -999.0,9,     -999.0,9,     -999.0,9,     -999.0,9,     -999.0,9,     -999.0,9,     3.9372,2,     -999.0,     -999.0,9,     -999.0
320620170820,        P06,     235,          1,         20,         20,2,20170926,       0432,   -32.4999,   -73.9654,       4085,   791.0,   4.5129,  34.3790,2,  34.3735,2, 133.4612,3, 139.6566,2,    42.9,2,   36.64,2,    0.00,2,    2.57,2,   0.597,2,   0.381,2,   0.1390,4,  2239.8,2,  2304.7,2,   7.5155,2,    25.00, -999.00,9, -999.00,9, -999.00,  -999.0,9, -999.00,9,     -999.0,9,  -999.0,1, 20170926,      603, -32.4998, -73.9653,        0.0,1,      0.062,1,      4.674,1,      0.145,1,     -999.0,1,     -999.0,9,     -999.0,9,     -999.0,9,     -999.0,9,     -999.0,9,     -999.0,9,     -999.0,9,     -999.0,9,     -999.0,9,     -999.0,9,     4.4253,2,     -999.0,     -999.0,9,     -999.0
320620170820,        P06,     235,          1,         21,         21,2,20170926,       0432,   -32.4999,   -73.9654,       4085,   638.5,   5.2309,  34.3037,2,  34.3125,2, 172.3869,2, 172.1972,2,    23.5,2,   32.68,2,    0.00,2,    2.28,2,   1.829,2,   1.017,2,   0.4410,4,  2206.0,2,  2286.1,2,   7.5644,2,    25.00, -999.00,9, -999.00,9, -999.00,  -999.0,9, -999.00,9,     -999.0,9,  -999.0,1, 20170926,      609, -32.4998, -73.9651,        0.0,1,      0.061,1,      4.675,1,      0.142,1,     -999.0,1,     -999.0,9,     -999.0,9,     -999.0,9,     -999.0,9,     -999.0,9,     -999.0,9,     -999.0,9,     -999.0,9,     -999.0,9,     -999.0,9,     5.2552,2,     -999.0,     -999.0,9,     -999.0
320620170820,        P06,     235,          1,         22,         22,2,20170926,       0432,   -32.4999,   -73.9654,       4085,   488.6,   5.9814,  34.2980,2,  34.3091,2, 182.9792,3,  176.144,2,    16.1,2,   30.72,2,    0.00,2,    2.15,2,   3.029,2,   1.511,2,   0.6330,4,  2197.4,2,  2277.8,2,   7.5699,2,    25.00, -999.00,9, -999.00,9, -999.00,  -999.0,9, -999.00,9,     -999.0,9,  -999.0,1, 20170926,      613, -32.4998, -73.9652,        0.0,1,      0.062,1,      4.672,1,      0.147,1,     -999.0,1,     -999.0,9,     -999.0,9,     -999.0,9,     -999.0,9,     -999.0,9,     -999.0,9,     -999.0,9,     -999.0,9,     -999.0,9,     -999.0,9,     6.0660,2,     -999.0,     -999.0,9,     -999.0
320620170820,        P06,     235,          1,         23,         23,2,20170926,       0432,   -32.4999,   -73.9654,       4085,   417.6,   7.0345,  34.3860,2,  34.3735,2, 114.0182,2, 119.0725,2,    18.8,2,   33.73,2,    0.00,2,    2.40,2,   2.338,2,   1.314,2,   0.4610,4,  2226.7,6,  2279.1,2,   7.4802,2,    25.00, -999.00,9, -999.00,9, -999.00,  -999.0,9, -999.00,9,     -999.0,9,  -999.0,1, 20170926,      615, -32.4998, -73.9654,        0.0,1,      0.064,1,      4.665,1,      0.157,1,     -999.0,1,     -999.0,9,     -999.0,9,     -999.0,9,     -999.0,9,     -999.0,9,     -999.0,9,     -999.0,9,     -999.0,9,     -999.0,9,     -999.0,9,     6.9270,2,     -999.0,     -999.0,9,     -999.0
320620170820,        P06,     235,          1,         24,         24,2,20170926,       0432,   -32.4999,   -73.9654,       4085,   367.8,   7.8804,  34.4509,2,  34.4402,2,   57.754,2,  66.2571,2,    21.7,2,   35.78,2,    0.00,2,    2.64,2,   1.715,2,   1.014,2,   0.3570,4,  2256.7,2,  2281.9,2,   7.3970,2,    25.00, -999.00,9, -999.00,9, -999.00,  -999.0,9, -999.00,9,     -999.0,9,  -999.0,1, 20170926,      618, -32.4998, -73.9656,        0.0,1,      0.064,1,      4.656,1,      0.175,1,     -999.0,1,     -999.0,1,     -999.0,9,     -999.0,9,     -999.0,9,     -999.0,9,     -999.0,9,     -999.0,9,     -999.0,9,     -999.0,9,     -999.0,9,     7.8072,2,     -999.0,     -999.0,9,     -999.0
320620170820,        P06,     235,          1,         25,         25,2,20170926,       0432,   -32.4999,   -73.9654,       4085,   318.5,   8.6336,  34.5007,2,  34.4934,2,  39.0811,2,  36.8399,2,    23.2,2,   35.49,2,    0.00,2,    2.74,2,   1.448,2,   0.892,2,   0.6930,4,  2273.4,2,  2282.7,2,   7.3545,2,    25.00, -999.00,9, -999.00,9, -999.00,  -999.0,9, -999.00,9,     -999.0,9,  -999.0,1, 20170926,      620, -32.4998, -73.9653,        0.0,1,      0.066,1,      4.651,1,      0.175,1,     -999.0,1,     -999.0,1,     -999.0,9,     -999.0,9,     -999.0,9,     -999.0,9,     -999.0,9,     -999.0,9,     -999.0,9,     -999.0,9,     -999.0,9,     8.5218,2,     -999.0,     -999.0,9,     -999.0
320620170820,        P06,     235,          1,         26,         26,2,20170926,       0432,   -32.4999,   -73.9654,       4085,   266.2,   9.3622,  34.5182,2,  34.5396,2,  35.4841,2,  26.9868,2,    23.2,2,   31.95,2,    0.00,2,    2.73,2,   1.395,6,   0.890,6,   0.5500,6,  2274.4,2,  2285.4,2,   7.3508,2,    25.00, -999.00,9, -999.00,9, -999.00,  -999.0,9, -999.00,9,     -999.0,9,  -999.0,1, 20170926,      622, -32.4998, -73.9652,        0.0,1,      0.066,1,      4.651,1,      0.183,1,     -999.0,1,     -999.0,1,     -999.0,9,     -999.0,9,     -999.0,9,     -999.0,9,     -999.0,9,     -999.0,9,     -999.0,9,     -999.0,9,     -999.0,9,     9.4474,2,     -999.0,     -999.0,9,     -999.0