BOTTLE,20240211CCHSIOCBG
EXPOCODE,SECT_ID,STNNBR,CASTNO,SAMPNO,BTLNBR,BTLNBR_FLAG_W,DATE,TIME,LATITUDE,LONGITUDE,DEPTH,CTDPRS,CTDTMP,CTDSAL,CTDSAL_FLAG_W,SALNTY,SALNTY_FLAG_W,CTDOXY,CTDOXY_FLAG_W,OXYGEN,OXYGEN_FLAG_W,SILCAT,SILCAT_FLAG_W,NITRAT,NITRAT_FLAG_W,NITRIT,NITRIT_FLAG_W,PHSPHT,PHSPHT_FLAG_W,CFC-11,CFC-11_FLAG_W,CFC-12,CFC-12_FLAG_W,SF6,SF6_FLAG_W,TCARBN,TCARBN_FLAG_W,ALKALI,ALKALI_FLAG_W,PH_TOT,PH_TOT_FLAG_W,PH_TMP,DELC13,DELC13_FLAG_W,DELC14,DELC14_FLAG_W,C14ERR,DOC,DOC_FLAG_W,TDN,TDN_FLAG_W,TON,TON_FLAG_W,D15N_NO3,D15N_NO3_FLAG_W,BTL_DATE,BTL_TIME,BTL_LAT,BTL_LON,CTDRINKO,CTDRINKO_FLAG_W,CTDFLUOR,CTDFLUOR_FLAG_W,CTDXMISS,CTDXMISS_FLAG_W,CTDBACKSCATTER,CTDBACKSCATTER_FLAG_W,D18O_NO3,D18O_NO3_FLAG_W,DOP,DOP_FLAG_W,CELLCOUNT,CELLCOUNT_FLAG_W,TDP,TDP_FLAG_W,POP,POP_FLAG_W,DATP,DATP_FLAG_W,PATP,PATP_FLAG_W,HPLC,HPLC_FLAG_W,POC,POC_FLAG_W,BEAMAP,BEAMAP_FLAG_W,DOC_NASA,DOC_NASA_FLAG_W,REFTMP,REFTMP_FLAG_W,DOC_NASA_ERROR,TDN_NASA,TDN_NASA_FLAG_W,TDN_NASA_ERROR
,,,,,,,,,,,METERS,DBAR,ITS-90,PSS-78,,PSS-78,,UMOL/KG,,UMOL/KG,,UMOL/KG,,UMOL/KG,,UMOL/KG,,UMOL/KG,,PMOL/KG,,PMOL/KG,,FMOL/KG,,UMOL/KG,,UMOL/KG,,,,DEG C,/MILLE,,/MILLE,,/MILLE,UMOL/KG,,UMOL/KG,,UMOL/KG,,/MILLE,,,,,,VOLTS,,VOLTS,,VOLTS,,VOLTS,,/MILLE,,UMOL/KG,,/LITER,,UMOL/KG,,UMOL/L,,PMOL/L,,PMOL/L,,,,UG/L,,/METER,,UMOL/L,,ITS-90,,UMOL/L,UMOL/L,,UMOL/L
320620170820,        P06,     145,          1,         27,         27,2,20170825,       0930,   -32.4997,  -148.1799,       4623,   368.1,   8.9086,  34.5165,2,  34.4889,2, 234.9578,2, 235.1493,2,     3.5,2,   17.51,2,    0.00,2,    1.21,2,   3.325,2,   1.902,2,   1.4451,2,  2136.3,2,  2284.5,2,   7.7364,2,    25.00, -999.00,9, -999.00,9, -999.00,  -999.0,9, -999.00,9,     -999.0,9,  -999.0,9, 20170825,     1149, -32.4998,-148.1798,        0.0,1,      0.059,1,      4.694,1,      0.133,1,     -999.0,9,     -999.0,9,     -999.0,9,     -999.0,9,     -999.0,9,     -999.0,9,     -999.0,9,     -999.0,9,     -999.0,9,     -999.0,9,     -999.0,9,     8.5513,2,     -999.0,     -999.0,9,     -999.0
320620170820,        P06,     145,          1,         28,         28,2,20170825,       0930,   -32.4997,  -148.1799,       4623,   318.1,  10.1043,  34.6058,2,  34.5657,2, 221.1339,2, 220.8228,2,     2.6,2,   15.29,2,    0.00,2,    1.07,2,   3.163,2,   1.821,2,   1.3381,2,  2131.8,2,  2286.7,2,   7.7535,2,    25.00, -999.00,9, -999.00,9, -999.00,  -999.0,9, -999.00,9,     -999.0,9,  -999.0,9, 20170825,     1152, -32.4998,-148.1798,        0.0,1,      0.060,1,      4.692,1,      0.134,1,     -999.0,9,     -999.0,9,     -999.0,9,     -999.0,9,     -999.0,9,     -999.0,9,     -999.0,9,     -999.0,9,     -999.0,9,     -999.0,9,     -999.0,9,     9.7064,2,     -999.0,     -999.0,9,     -999.0
320620170820,        P06,     145,          1,         29,         29,2,20170825,       0930,   -32.4997,  -148.1799,       4623,   265.8,  11.9368,  34.7827,2,  34.7172,2, 214.3465,2,  214.586,2,     2.0,2,   11.89,2,    0.00,2,    0.87,2,   2.976,2,   1.695,2,   1.4471,2,  2121.7,2,  2291.5,2,   7.7876,2,    25.00, -999.00,9, -999.00,9, -999.00,  -999.0,9, -999.00,9,     -999.0,9,  -999.0,9, 20170825,     1154, -32.4998,-148.1799,        0.0,1,      0.060,1,      4.690,1,      0.135,1,     -999.0,9,     -999.0,9,     -999.0,9,     -999.0,9,     -999.0,9,     -999.0,9,     -999.0,9,     -999.0,9,     -999.0,9,     -999.0,9,     -999.0,9,    11.3291,2,     -999.0,     -999.0,9,     -999.0
320620170820,        P06,     145,          1,         30,         30,2,20170825,       0930,   -32.4997,  -148.1799,       4623,   217.2,  13.3762,  34.9551,2,  34.9044,2, 213.4886,2, 214.8424,2,     1.1,2,    7.83,2,    0.00,2,    0.61,2,   2.736,2,   1.605,2,   1.4511,2,  2107.4,2,  2299.9,2,   7.8323,2,    25.00, -999.00,9, -999.00,9, -999.00,  -999.0,9, -999.00,9,     -999.0,9,  -999.0,9, 20170825,     1157, -32.4998,-148.1799,        0.0,1,      0.062,1,      4.689,1,      0.132,1,     -999.0,9,     -999.0,9,     -999.0,9,     -999.0,9,     -999.0,9,     -999.0,9,     -999.0,9,     -999.0,9,     -999.0,9,     -999.0,9,     -999.0,9,    12.8504,2,     -999.0,     -999.0,9,     -999.0
320620170820,        P06,     145,          1,         31,         31,2,20170825,       0930,   -32.4997,  -148.1799,       4623,   166.0,  14.6784,  35.1423,2,  35.1112,2, 218.8286,2, 218.6977,2,     0.6,2,    4.46,2,    0.00,2,    0.39,2,   2.502,2,   1.513,2,   1.5501,2,  2095.9,2,  2310.9,2,   7.8760,2,    25.00, -999.00,9, -999.00,9, -999.00,  -999.0,9, -999.00,9,     -999.0,9,  -999.0,9, 20170825,     1159, -32.4996,-148.1799,        0.0,1,      0.075,1,      4.683,1,      0.137,1,     -999.0,9,     -999.0,9,     -999.0,9,     -999.0,9,     -999.0,9,     -999.0,9,     -999.0,9,     -999.0,9,     -999.0,9,     -999.0,9,     -999.0,9,    14.4375,2,     -999.0,     -999.0,9,     -999.0
320620170820,        P06,     145,          1,         32,         32,2,20170825,       0930,   -32.4997,  -148.1799,       4623,   114.6,  15.5484,  35.2433,2,  35.2694,2,  233.051,2,   232.26,2,     0.1,2,    1.15,2,    0.12,2,    0.19,2,   2.362,2,   1.438,2,   1.7231,2,  2077.3,2,  2320.4,2,   7.9271,2,    25.00, -999.00,9, -999.00,9, -999.00,  -999.0,9, -999.00,9,     -999.0,9,  -999.0,9, 20170825,     1203, -32.4994,-148.1800,        0.0,1,      0.094,1,      4.676,1,      0.147,1,     -999.0,9,     -999.0,9,     -999.0,9,     -999.0,9,     -999.0,9,     -999.0,9,     -999.0,9,     -999.0,9,     -999.0,9,     -999.0,9,     -999.0,9,    15.7530,2,     -999.0,     -999.0,9,     -999.0
320620170820,        P06,     145,          1,         33,         33,2,20170825,       0930,   -32.4997,  -148.1799,       4623,    86.0,  15.9691,  35.3085,2,  35.2980,2, 230.1491,2, 230.1169,2,     0.1,2,    1.17,2,    0.07,2,    0.19,2,   2.340,2,   1.405,2,   1.6821,2,  2077.7,2,  2320.5,2,   7.9304,2,    25.00, -999.00,9, -999.00,9, -999.00,  -999.0,9, -999.00,9,     -999.0,9,  -999.0,9, 20170825,     1205, -32.4994,-148.1801,        0.0,1,      0.130,1,      4.665,1,      0.152,1,     -999.0,9,     -999.0,9,     -999.0,9,     -999.0,9,     -999.0,9,     -999.0,9,     -999.0,9,     -999.0,9,     -999.0,9,     -999.0,9,     -999.0,9,    16.0300,2,     -999.0,     -999.0,9,     -999.0
320620170820,        P06,     145,          1,         34,         34,2,20170825,       0930,   -32.4997,  -148.1799,       4623,    60.9,  15.9636,  35.2389,2,  35.1985,2, 237.7192,2, 237.8955,2,     0.0,2,    0.09,2,    0.01,2,    0.09,2,   2.376,2,   1.420,2,   1.7031,2,  2071.8,2,  2313.5,3,   7.9330,3,    25.00, -999.00,9, -999.00,9, -999.00,  -999.0,9, -999.00,9,     -999.0,9,  -999.0,9, 20170825,     1207, -32.4994,-148.1801,        0.0,1,      0.166,1,      4.653,1,      0.171,1,     -999.0,9,     -999.0,9,     -999.0,9,     -999.0,9,     -999.0,9,     -999.0,9,     -999.0,9,     -999.0,9,     -999.0,9,     -999.0,9,     -999.0,9,    15.7742,2,     -999.0,     -999.0,9,     -999.0
320620170820,        P06,     145,          1,         35,         35,2,20170825,       0930,   -32.4997,  -148.1799,       4623,    34.7,  16.7402,  35.4025,2,  35.3928,2,  240.244,2, 240.2213,2,     0.0,2,    0.09,2,    0.01,2,    0.11,2,   2.336,2,   1.352,2,   1.7561,2,  2065.1,2,  2324.3,6,   7.9603,2,    25.00, -999.00,9, -999.00,9, -999.00,  -999.0,9, -999.00,9,     -999.0,9,  -999.0,9, 20170825,     1209, -32.4995,-148.1800,        0.0,1,      0.193,1,      4.611,1,      0.210,1,     -999.0,9,     -999.0,9,     -999.0,9,     -999.0,9,     -999.0,9,     -999.0,9,     -999.0,9,     -999.0,9,     -999.0,9,     -999.0,9,     -999.0,9,    16.6871,2,     -999.0,     -999.0,9,     -999.0
320620170820,        P06,     145,          1,         36,         36,2,20170825,       0930,   -32.4997,  -148.1799,       4623,     5.5,  16.7385,  35.4054,2,  35.3973,2, 240.2218,2, 239.0885,2,     0.0,2,    0.09,2,    0.01,2,    0.10,2,   2.328,2,   1.362,2,   1.7261,2,  2065.2,6,  2324.3,2,   7.9588,2,    25.00, -999.00,9, -999.00,9, -999.00,  -999.0,9, -999.00,9,     -999.0,9,  -999.0,9, 20170825,     1211, -32.4997,-148.1799,        0.0,1,      0.198,1,      4.608,1,      0.215,1,     -999.0,9,     -999.0,9,     -999.0,9,     -999.0,9,     -999.0,9,     -999.0,9,     -999.0,9,     -999.0,9,     -999.0,9,     -999.0,9,     -999.0,9,    16.6752,2,     -999.0,     -999.0,9,     -999.0