BOTTLE,20240211CCHSIOCBG
EXPOCODE,SECT_ID,STNNBR,CASTNO,SAMPNO,BTLNBR,BTLNBR_FLAG_W,DATE,TIME,LATITUDE,LONGITUDE,DEPTH,CTDPRS,CTDTMP,CTDSAL,CTDSAL_FLAG_W,SALNTY,SALNTY_FLAG_W,CTDOXY,CTDOXY_FLAG_W,OXYGEN,OXYGEN_FLAG_W,SILCAT,SILCAT_FLAG_W,NITRAT,NITRAT_FLAG_W,NITRIT,NITRIT_FLAG_W,PHSPHT,PHSPHT_FLAG_W,CFC-11,CFC-11_FLAG_W,CFC-12,CFC-12_FLAG_W,SF6,SF6_FLAG_W,TCARBN,TCARBN_FLAG_W,ALKALI,ALKALI_FLAG_W,PH_TOT,PH_TOT_FLAG_W,PH_TMP,DELC13,DELC13_FLAG_W,DELC14,DELC14_FLAG_W,C14ERR,DOC,DOC_FLAG_W,TDN,TDN_FLAG_W,TON,TON_FLAG_W,D15N_NO3,D15N_NO3_FLAG_W,BTL_DATE,BTL_TIME,BTL_LAT,BTL_LON,CTDRINKO,CTDRINKO_FLAG_W,CTDFLUOR,CTDFLUOR_FLAG_W,CTDXMISS,CTDXMISS_FLAG_W,CTDBACKSCATTER,CTDBACKSCATTER_FLAG_W,D18O_NO3,D18O_NO3_FLAG_W,DOP,DOP_FLAG_W,CELLCOUNT,CELLCOUNT_FLAG_W,TDP,TDP_FLAG_W,POP,POP_FLAG_W,DATP,DATP_FLAG_W,PATP,PATP_FLAG_W,HPLC,HPLC_FLAG_W,POC,POC_FLAG_W,BEAMAP,BEAMAP_FLAG_W,DOC_NASA,DOC_NASA_FLAG_W,REFTMP,REFTMP_FLAG_W,DOC_NASA_ERROR,TDN_NASA,TDN_NASA_FLAG_W,TDN_NASA_ERROR
,,,,,,,,,,,METERS,DBAR,ITS-90,PSS-78,,PSS-78,,UMOL/KG,,UMOL/KG,,UMOL/KG,,UMOL/KG,,UMOL/KG,,UMOL/KG,,PMOL/KG,,PMOL/KG,,FMOL/KG,,UMOL/KG,,UMOL/KG,,,,DEG C,/MILLE,,/MILLE,,/MILLE,UMOL/KG,,UMOL/KG,,UMOL/KG,,/MILLE,,,,,,VOLTS,,VOLTS,,VOLTS,,VOLTS,,/MILLE,,UMOL/KG,,/LITER,,UMOL/KG,,UMOL/L,,PMOL/L,,PMOL/L,,,,UG/L,,/METER,,UMOL/L,,ITS-90,,UMOL/L,UMOL/L,,UMOL/L
320620170820,        P06,     248,          1,          1,          1,2,20170929,       0431,   -32.5004,   -71.7483,       1329,  1333.3,   3.2750,  34.5395,2,  34.5339,2, 106.3296,2,   105.88,2,    87.3,2,   39.52,2,    0.00,2,    2.81,2,   0.025,2,   0.047,2,   0.0000,2,  2300.4,6,  2357.0,2,   7.4817,2,    25.00, -999.00,9, -999.00,9, -999.00,    36.8,2, -999.00,9,     -999.0,1,  -999.0,9, 20170929,      431, -32.4999, -71.7491,        0.0,1,      0.062,1,      4.663,1,      0.156,1,     -999.0,9,     -999.0,9,     -999.0,9,     -999.0,9,     -999.0,9,     -999.0,9,     -999.0,9,     -999.0,9,     -999.0,9,     -999.0,9,     -999.0,9,     3.2810,2,     -999.0,     -999.0,9,     -999.0
320620170820,        P06,     248,          1,          2,          2,2,20170929,       0431,   -32.5004,   -71.7483,       1329,  1251.5,   3.3794,  34.5292,2,  34.5243,2, 105.5385,2, 105.2619,2,    84.4,2,   39.62,2,    0.00,2,    2.81,2,-999.000,9,-999.000,9,-999.0000,9,  2299.6,2,  2352.9,2,   7.4758,2,    25.00, -999.00,9, -999.00,9, -999.00,    36.7,2, -999.00,9,     -999.0,1,  -999.0,9, 20170929,      434, -32.4999, -71.7491,        0.0,1,      0.063,1,      4.663,1,      0.158,1,     -999.0,9,     -999.0,9,     -999.0,9,     -999.0,9,     -999.0,9,     -999.0,9,     -999.0,9,     -999.0,9,     -999.0,9,     -999.0,9,     -999.0,9,     3.3795,2,     -999.0,     -999.0,9,     -999.0
320620170820,        P06,     248,          1,          3,          3,2,20170929,       0431,   -32.5004,   -71.7483,       1329,  1175.3,   3.5703,  34.5094,2,  34.5054,2,  104.191,2, 104.3571,2,    78.4,2,   39.78,2,    0.00,2,    2.82,2,   0.031,2,   0.046,2,   0.0000,2,  2295.1,2,  2347.4,2,   7.4744,2,    25.00, -999.00,9, -999.00,9, -999.00,    38.7,2, -999.00,9,     -999.0,1,  -999.0,9, 20170929,      437, -32.4999, -71.7492,        0.0,1,      0.062,1,      4.663,1,      0.160,1,     -999.0,9,     -999.0,9,     -999.0,9,     -999.0,9,     -999.0,9,     -999.0,9,     -999.0,9,     -999.0,9,     -999.0,9,     -999.0,9,     -999.0,9,     3.5643,2,     -999.0,     -999.0,9,     -999.0
320620170820,        P06,     248,          1,          4,          4,2,20170929,       0431,   -32.5004,   -71.7483,       1329,  1073.6,   3.7648,  34.4864,2,  34.4820,2, 104.8801,2, 104.9214,2,    71.6,2,   39.70,2,    0.00,2,    2.81,2,-999.000,9,-999.000,9,-999.0000,9,  -999.0,9,  2338.0,2,   7.4701,2,    25.00, -999.00,9, -999.00,9, -999.00,    38.7,2, -999.00,9,     -999.0,1,  -999.0,9, 20170929,      440, -32.4999, -71.7492,        0.0,1,      0.062,1,      4.662,1,      0.163,1,     -999.0,9,     -999.0,9,     -999.0,9,     -999.0,9,     -999.0,9,     -999.0,9,     -999.0,9,     -999.0,9,     -999.0,9,     -999.0,9,     -999.0,9,     3.7669,2,     -999.0,     -999.0,9,     -999.0
320620170820,        P06,     248,          1,          5,          5,2,20170929,       0431,   -32.5004,   -71.7483,       1329,   973.0,   3.9726,  34.4651,2,  34.4589,2, 105.6377,2, 106.4821,2,    64.8,2,   39.63,2,    0.00,2,    2.80,2,   0.083,2,   0.078,2,   0.0000,2,  2280.8,2,  2330.5,2,   7.4709,2,    25.00, -999.00,9, -999.00,9, -999.00,    38.2,2, -999.00,9,     -999.0,1,  -999.0,9, 20170929,      444, -32.4999, -71.7492,        0.0,1,      0.062,1,      4.665,1,      0.155,1,     -999.0,9,     -999.0,9,     -999.0,9,     -999.0,9,     -999.0,9,     -999.0,9,     -999.0,9,     -999.0,9,     -999.0,9,     -999.0,9,     -999.0,9,     3.9777,2,     -999.0,     -999.0,9,     -999.0
320620170820,        P06,     248,          1,          6,          6,2,20170929,       0431,   -32.5004,   -71.7483,       1329,   872.4,   4.2271,  34.4297,2,  34.4228,2, 114.7854,2, 115.2666,2,    54.9,2,   38.85,2,    0.00,2,    2.74,2,-999.000,9,-999.000,9,-999.0000,9,  -999.0,9,  2320.4,2,   7.4813,2,    25.00, -999.00,9, -999.00,9, -999.00,    38.0,2, -999.00,9,     -999.0,1,  -999.0,9, 20170929,      447, -32.4999, -71.7491,        0.0,1,      0.062,1,      4.666,1,      0.158,1,     -999.0,9,     -999.0,9,     -999.0,9,     -999.0,9,     -999.0,9,     -999.0,9,     -999.0,9,     -999.0,9,     -999.0,9,     -999.0,9,     -999.0,9,     4.2352,2,     -999.0,     -999.0,9,     -999.0
320620170820,        P06,     248,          1,          7,          7,2,20170929,       0431,   -32.5004,   -71.7483,       1329,   770.6,   4.5000,  34.3999,2,  34.3945,2, 124.3328,2, 124.9042,2,    46.7,2,   37.81,2,    0.00,2,    2.67,2,   0.431,2,   0.237,2,   0.0000,2,  2249.0,2,  2312.6,6,   7.4945,2,    25.00, -999.00,9, -999.00,9, -999.00,    38.5,2, -999.00,9,     -999.0,1,  -999.0,9, 20170929,      450, -32.4999, -71.7491,        0.0,1,      0.062,1,      4.664,1,      0.156,1,     -999.0,9,     -999.0,9,     -999.0,9,     -999.0,9,     -999.0,9,     -999.0,9,     -999.0,9,     -999.0,9,     -999.0,9,     -999.0,9,     -999.0,9,     4.4944,2,     -999.0,     -999.0,9,     -999.0
320620170820,        P06,     248,          1,          8,          8,2,20170929,       0431,   -32.5004,   -71.7483,       1329,   670.0,   4.8012,  34.3541,2,  34.3501,2, 146.9545,2, 147.7072,2,    35.3,2,   35.53,2,    0.00,2,    2.49,2,-999.000,9,-999.000,9,-999.0000,9,  -999.0,9,  2298.4,2,   7.5290,2,    25.00, -999.00,9, -999.00,9, -999.00,    40.7,2, -999.00,9,     -999.0,1,  -999.0,9, 20170929,      453, -32.5000, -71.7491,        0.0,1,      0.062,1,      4.663,1,      0.157,1,     -999.0,9,     -999.0,9,     -999.0,9,     -999.0,9,     -999.0,9,     -999.0,9,     -999.0,9,     -999.0,9,     -999.0,9,     -999.0,9,     -999.0,9,     4.7942,2,     -999.0,     -999.0,9,     -999.0
320620170820,        P06,     248,          1,          9,          9,2,20170929,       0431,   -32.5004,   -71.7483,       1329,   589.5,   5.2892,  34.3281,2,  34.3252,2, 163.2264,2, 161.8908,2,    26.8,2,   33.62,2,    0.00,2,    2.34,2,   1.634,2,   0.798,2,   0.2120,2,  2212.0,2,  2292.0,2,   7.5504,2,    25.00, -999.00,9, -999.00,9, -999.00,  -999.0,5, -999.00,9,     -999.0,1,  -999.0,9, 20170929,      456, -32.5000, -71.7491,        0.0,1,      0.062,1,      4.660,1,      0.175,1,     -999.0,9,     -999.0,9,     -999.0,9,     -999.0,9,     -999.0,9,     -999.0,9,     -999.0,9,     -999.0,9,     -999.0,9,     -999.0,9,     -999.0,9,     5.2188,2,     -999.0,     -999.0,9,     -999.0
320620170820,        P06,     248,          1,         10,         10,2,20170929,       0431,   -32.5004,   -71.7483,       1329,   538.2,   5.7852,  34.3197,2,  34.3184,2, 170.2702,3, 166.6088,2,    20.9,2,   32.38,2,    0.00,2,    2.26,2,-999.000,9,-999.000,9,-999.0000,9,  2205.7,2,  2283.8,2,   7.5573,2,    25.00, -999.00,9, -999.00,9, -999.00,    40.3,2, -999.00,9,     -999.0,1,  -999.0,9, 20170929,      459, -32.5000, -71.7490,        0.0,1,      0.061,1,      4.659,1,      0.167,1,     -999.0,9,     -999.0,9,     -999.0,9,     -999.0,9,     -999.0,9,     -999.0,9,     -999.0,9,     -999.0,9,     -999.0,9,     -999.0,9,     -999.0,9,     5.6979,2,     -999.0,     -999.0,9,     -999.0
320620170820,        P06,     248,          1,         11,         11,2,20170929,       0431,   -32.5004,   -71.7483,       1329,   487.7,   6.0445,  34.3307,2,  34.3217,2,  162.305,3, 165.3091,2,    18.0,2,   31.75,2,    0.00,2,    2.23,2,   2.458,2,   1.276,2,   0.5630,2,  2203.7,2,  2281.6,2,   7.5543,2,    25.00, -999.00,9, -999.00,9, -999.00,    43.0,2,   33.20,2,     -999.0,1,  -999.0,9, 20170929,      501, -32.5000, -71.7490,        0.0,1,      0.062,1,      4.655,1,      0.168,1,     -999.0,9,     -999.0,9,     -999.0,9,     -999.0,9,     -999.0,9,     -999.0,9,     -999.0,9,     -999.0,9,     -999.0,9,     -999.0,9,     -999.0,9,     6.0520,2,     -999.0,     -999.0,9,     -999.0
320620170820,        P06,     248,          1,         12,         12,2,20170929,       0431,   -32.5004,   -71.7483,       1329,   437.2,   6.7118,  34.3693,2,  34.3578,2,  133.502,2,  134.004,2,    18.6,2,   33.11,2,    0.00,2,    2.34,2,-999.000,9,-999.000,9,-999.0000,9,  -999.0,9,  -999.0,9,-999.0000,9,  -999.00, -999.00,9, -999.00,9, -999.00,    45.6,2,   35.70,2,     -999.0,1,  -999.0,9, 20170929,      503, -32.5000, -71.7490,        0.0,1,      0.064,1,      4.652,1,      0.176,1,     -999.0,9,     -999.0,9,     -999.0,9,     -999.0,9,     -999.0,9,     -999.0,9,     -999.0,9,     -999.0,9,     -999.0,9,     -999.0,9,     -999.0,9,     6.6448,2,     -999.0,     -999.0,9,     -999.0
320620170820,        P06,     248,          1,         13,         13,2,20170929,       0431,   -32.5004,   -71.7483,       1329,   387.0,   7.2678,  34.4148,2,  34.4035,2,  97.1521,2,  97.4235,2,    20.5,2,   34.73,2,    0.00,2,    2.51,2,   2.016,2,   1.024,2,   0.2910,2,  2239.6,2,  2283.1,6,   7.4484,2,    25.00, -999.00,9, -999.00,9, -999.00,    42.0,2,   36.80,2,     -999.0,1,  -999.0,9, 20170929,      505, -32.5000, -71.7489,        0.0,1,      0.065,1,      4.648,1,      0.189,1,     -999.0,9,     -999.0,9,     -999.0,9,     -999.0,9,     -999.0,9,     -999.0,9,     -999.0,9,     -999.0,9,     -999.0,9,     -999.0,9,     -999.0,9,     7.2174,2,     -999.0,     -999.0,9,     -999.0
320620170820,        P06,     248,          1,         14,         14,2,20170929,       0431,   -32.5004,   -71.7483,       1329,   337.0,   8.3020,  34.4993,2,  34.4871,2,  44.9538,2,  45.1052,2,    23.6,2,   36.11,2,    0.02,2,    2.75,2,-999.000,9,-999.000,9,-999.0000,9,  -999.0,9,  -999.0,9,-999.0000,9,  -999.00, -999.00,9, -999.00,9, -999.00,    44.0,2, -999.00,5,     -999.0,1,  -999.0,9, 20170929,      507, -32.5000, -71.7489,        0.0,1,      0.065,1,      4.639,1,      0.209,1,     -999.0,9,     -999.0,9,     -999.0,9,     -999.0,9,     -999.0,9,     -999.0,9,     -999.0,9,     -999.0,9,     -999.0,9,     -999.0,9,     -999.0,9,     8.2169,2,     -999.0,     -999.0,9,     -999.0
320620170820,        P06,     248,          1,         15,         15,2,20170929,       0431,   -32.5004,   -71.7483,       1329,   286.4,   8.8409,  34.5399,2,  34.5360,2,  28.3394,2,  28.2534,2,    24.7,2,   34.54,2,    0.03,2,    2.78,2,   1.241,2,   0.647,2,   0.2160,2,  2273.9,2,  2287.6,2,   7.3512,6,    25.00, -999.00,9, -999.00,9, -999.00,    41.9,2, -999.00,5,     -999.0,1,  -999.0,9, 20170929,      510, -32.5001, -71.7489,        0.0,1,      0.066,1,      4.631,1,      0.209,1,     -999.0,9,     -999.0,9,     -999.0,9,     -999.0,9,     -999.0,9,     -999.0,9,     -999.0,9,     -999.0,9,     -999.0,9,     -999.0,9,     -999.0,9,     8.8825,2,     -999.0,     -999.0,9,     -999.0
320620170820,        P06,     248,          1,         16,         16,2,20170929,       0431,   -32.5004,   -71.7483,       1329,   240.9,   9.7368,  34.6053,2,  34.6005,2,  13.4932,2,  13.5983,2,    25.4,2,   31.14,2,    0.03,2,    2.80,2,   1.108,2,   0.602,2,   0.1570,2,  -999.0,9,  -999.0,9,-999.0000,9,  -999.00, -999.00,9, -999.00,9, -999.00,    43.2,2,   34.60,2,     -999.0,1,  -999.0,9, 20170929,      512, -32.5001, -71.7488,        0.0,1,      0.067,1,      4.628,1,      0.223,1,     -999.0,9,     -999.0,9,     -999.0,9,     -999.0,9,     -999.0,9,     -999.0,9,     -999.0,9,     -999.0,9,     -999.0,9,     -999.0,9,     -999.0,9,     9.7676,2,     -999.0,     -999.0,9,     -999.0
320620170820,        P06,     248,          1,         17,         17,2,20170929,       0431,   -32.5004,   -71.7483,       1329,   216.0,   9.9316,  34.6147,2,  34.6146,2,  12.8508,2,  13.1894,2,    25.6,2,   29.68,2,    0.04,2,    2.80,2,-999.000,9,-999.000,9,-999.0000,9,  2283.0,2,  2291.4,2,   7.3414,2,    25.00, -999.00,9, -999.00,9, -999.00,    47.6,3,   32.90,2,     -999.0,1,  -999.0,9, 20170929,      514, -32.5001, -71.7487,        0.0,1,      0.068,1,      4.628,1,      0.227,1,     -999.0,9,     -999.0,9,     -999.0,9,     -999.0,9,     -999.0,9,     -999.0,9,     -999.0,9,     -999.0,9,     -999.0,9,     -999.0,9,     -999.0,9,    10.0289,2,     -999.0,     -999.0,9,     -999.0
320620170820,        P06,     248,          1,         18,         18,2,20170929,       0431,   -32.5004,   -71.7483,       1329,   190.7,  10.1836,  34.6298,2,  34.6286,2,  12.2966,2,  11.5177,2,    25.5,2,   28.58,2,    0.03,2,    2.80,2,   1.088,2,   0.614,2,   0.2150,2,  2284.4,2,  2289.4,2,   7.3420,2,    25.00, -999.00,9, -999.00,9, -999.00,    43.1,2,   32.40,2,     -999.0,1,  -999.0,9, 20170929,      516, -32.5002, -71.7487,        0.0,1,      0.068,1,      4.603,1,      0.262,1,     -999.0,9,     -999.0,9,     -999.0,9,     -999.0,9,     -999.0,9,     -999.0,9,     -999.0,9,     -999.0,9,     -999.0,9,     -999.0,9,     -999.0,9,    10.2421,2,     -999.0,     -999.0,9,     -999.0
320620170820,        P06,     248,          1,         19,         19,2,20170929,       0431,   -32.5004,   -71.7483,       1329,   165.5,  10.3624,  34.6382,2,  34.6360,2,  11.7123,2,  10.8151,2,    25.7,2,   27.91,2,    0.03,2,    2.79,2,-999.000,9,-999.000,9,-999.0000,9,  2283.6,2,  2291.1,2,   7.3437,2,    25.00, -999.00,9, -999.00,9, -999.00,    44.2,2,   31.80,2,     -999.0,1,  -999.0,9, 20170929,      518, -32.5002, -71.7486,        0.0,1,      0.068,1,      4.619,1,      0.252,1,     -999.0,9,     -999.0,9,     -999.0,9,     -999.0,9,     -999.0,9,     -999.0,9,     -999.0,9,     -999.0,9,     -999.0,9,     -999.0,9,     -999.0,9,    10.3610,2,     -999.0,     -999.0,9,     -999.0
320620170820,        P06,     248,          1,         20,         20,2,20170929,       0431,   -32.5004,   -71.7483,       1329,   139.8,  10.5127,  34.6244,2,  34.6199,2,  13.1116,2,  12.2066,2,    24.7,2,   27.12,2,    0.02,2,    2.78,2,   1.296,2,   0.746,2,   0.2880,2,  2282.8,2,  2289.2,2,   7.3410,2,    25.00, -999.00,9, -999.00,9, -999.00,    44.2,2,   29.80,2,     -999.0,1,  -999.0,9, 20170929,      520, -32.5002, -71.7486,        0.0,1,      0.073,1,      4.547,1,      0.350,1,     -999.0,9,     -999.0,9,     -999.0,9,     -999.0,9,     -999.0,9,     -999.0,9,     -999.0,9,     -999.0,9,     -999.0,9,     -999.0,9,     -999.0,9,    10.5058,2,     -999.0,     -999.0,9,     -999.0
320620170820,        P06,     248,          1,         21,         21,2,20170929,       0431,   -32.5004,   -71.7483,       1329,   114.7,  10.6414,  34.6249,2,  34.6179,2,  15.8671,2,  14.0042,2,    24.2,2,   26.19,2,    0.02,2,    2.75,2,-999.000,9,-999.000,9,-999.0000,9,  2281.0,2,  2288.9,2,   7.3456,2,    25.00, -999.00,9, -999.00,9, -999.00,    43.8,2,   29.80,2,     -999.0,1,  -999.0,9, 20170929,      522, -32.5002, -71.7486,        0.0,1,      0.080,1,      4.554,1,      0.349,1,     -999.0,9,     -999.0,9,     -999.0,9,     -999.0,9,     -999.0,9,     -999.0,9,     -999.0,9,     -999.0,9,     -999.0,9,     -999.0,9,     -999.0,9,    10.6980,2,     -999.0,     -999.0,9,     -999.0
320620170820,        P06,     248,          1,         22,         22,2,20170929,       0431,   -32.5004,   -71.7483,       1329,    90.2,  10.9859,  34.6100,2,  34.6030,2,  24.1163,2,  20.9328,2,    22.9,2,   24.59,2,    0.02,2,    2.71,2,   1.552,2,   0.901,2,   0.4440,2,  2275.8,2,  2288.1,2,   7.3582,2,    25.00, -999.00,9, -999.00,9, -999.00,    44.7,2,   28.50,2,     -999.0,1,  -999.0,9, 20170929,      524, -32.5003, -71.7485,        0.0,1,      0.076,1,      4.557,1,      0.329,1,     -999.0,9,     -999.0,9,     -999.0,9,     -999.0,9,     -999.0,9,     -999.0,9,     -999.0,9,     -999.0,9,     -999.0,9,     -999.0,9,     -999.0,9,    11.0067,2,     -999.0,     -999.0,9,     -999.0
320620170820,        P06,     248,          1,         23,         23,2,20170929,       0431,   -32.5004,   -71.7483,       1329,    63.8,  11.2239,  34.5672,2,  34.5492,2,  51.1265,2,  55.6675,2,    19.9,2,   23.75,2,    0.08,2,    2.59,2,-999.000,9,-999.000,9,-999.0000,9,  2262.7,2,  2284.8,2,   7.3976,2,    25.00, -999.00,9, -999.00,9, -999.00,    44.4,2,   26.70,2,     -999.0,1,  -999.0,9, 20170929,      526, -32.5003, -71.7484,        0.0,1,      0.096,1,      4.558,1,      0.300,1,     -999.0,9,     -999.0,9,     -999.0,9,     -999.0,9,     -999.0,9,     -999.0,9,     -999.0,9,     -999.0,9,     -999.0,9,     -999.0,9,     -999.0,9,    11.3174,2,     -999.0,     -999.0,9,     -999.0
320620170820,        P06,     248,          1,         24,         24,2,20170929,       0431,   -32.5004,   -71.7483,       1329,    39.3,  11.7595,  34.4686,2,  34.4606,3,  154.079,2, 150.0446,2,    14.8,2,   21.19,2,    0.29,2,    2.26,2,   2.301,2,   1.326,2,   0.9220,2,  2222.7,2,  2284.2,2,   7.5074,2,    25.00, -999.00,9, -999.00,9, -999.00,    49.0,2,   24.90,2,     -999.0,1,  -999.0,9, 20170929,      528, -32.5003, -71.7484,        0.0,1,      0.300,1,      4.491,1,      0.326,1,     -999.0,9,     -999.0,9,     -999.0,9,     -999.0,9,     -999.0,9,     -999.0,9,     -999.0,9,     -999.0,9,     -999.0,9,     -999.0,9,     -999.0,9,    11.7662,2,     -999.0,     -999.0,9,     -999.0
320620170820,        P06,     248,          1,         25,         25,2,20170929,       0431,   -32.5004,   -71.7483,       1329,    19.0,  11.9317,  34.3832,2,  34.3576,2, 183.5113,2, 176.3156,2,    10.6,2,   19.53,2,    0.28,2,    1.98,2,-999.000,9,-999.000,9,-999.0000,9,  2197.9,2,  2278.3,2,   7.5735,2,    25.00, -999.00,9, -999.00,9, -999.00,    50.6,2,   23.40,2,     -999.0,1,  -999.0,9, 20170929,      530, -32.5003, -71.7484,        0.0,1,      0.339,1,      4.481,1,      0.309,1,     -999.0,9,     -999.0,9,     -999.0,9,     -999.0,9,     -999.0,9,     -999.0,9,     -999.0,9,     -999.0,9,     -999.0,9,     -999.0,9,     -999.0,9,    11.9066,2,     -999.0,     -999.0,9,     -999.0
320620170820,        P06,     248,          1,         26,         26,2,20170929,       0431,   -32.5004,   -71.7483,       1329,     4.5,  11.9045,  34.3670,2,  34.2942,2, 185.0479,2, 192.5261,2,     7.6,2,   17.81,2,    0.23,2,    1.75,2,   2.495,2,   1.473,2,   1.1860,2,  2172.6,6,  2275.5,2,   7.6324,2,    25.00, -999.00,9, -999.00,9, -999.00,    55.6,2,   21.70,2,     -999.0,1,  -999.0,9, 20170929,      531, -32.5004, -71.7483,        0.0,1,      0.289,1,      4.488,1,      0.281,1,     -999.0,9,     -999.0,9,     -999.0,9,     -999.0,9,     -999.0,9,     -999.0,9,     -999.0,9,     -999.0,9,     -999.0,9,     -999.0,9,     -999.0,9,    11.9924,2,     -999.0,     -999.0,9,     -999.0