BOTTLE,20240211CCHSIOCBG
EXPOCODE,SECT_ID,STNNBR,CASTNO,SAMPNO,BTLNBR,BTLNBR_FLAG_W,DATE,TIME,LATITUDE,LONGITUDE,DEPTH,CTDPRS,CTDTMP,CTDSAL,CTDSAL_FLAG_W,SALNTY,SALNTY_FLAG_W,CTDOXY,CTDOXY_FLAG_W,OXYGEN,OXYGEN_FLAG_W,SILCAT,SILCAT_FLAG_W,NITRAT,NITRAT_FLAG_W,NITRIT,NITRIT_FLAG_W,PHSPHT,PHSPHT_FLAG_W,CFC-11,CFC-11_FLAG_W,CFC-12,CFC-12_FLAG_W,SF6,SF6_FLAG_W,TCARBN,TCARBN_FLAG_W,ALKALI,ALKALI_FLAG_W,PH_TOT,PH_TOT_FLAG_W,PH_TMP,DELC13,DELC13_FLAG_W,DELC14,DELC14_FLAG_W,C14ERR,DOC,DOC_FLAG_W,TDN,TDN_FLAG_W,TON,TON_FLAG_W,D15N_NO3,D15N_NO3_FLAG_W,BTL_DATE,BTL_TIME,BTL_LAT,BTL_LON,CTDRINKO,CTDRINKO_FLAG_W,CTDFLUOR,CTDFLUOR_FLAG_W,CTDXMISS,CTDXMISS_FLAG_W,CTDBACKSCATTER,CTDBACKSCATTER_FLAG_W,D18O_NO3,D18O_NO3_FLAG_W,DOP,DOP_FLAG_W,CELLCOUNT,CELLCOUNT_FLAG_W,TDP,TDP_FLAG_W,POP,POP_FLAG_W,DATP,DATP_FLAG_W,PATP,PATP_FLAG_W,HPLC,HPLC_FLAG_W,POC,POC_FLAG_W,BEAMAP,BEAMAP_FLAG_W,DOC_NASA,DOC_NASA_FLAG_W,REFTMP,REFTMP_FLAG_W,DOC_NASA_ERROR,TDN_NASA,TDN_NASA_FLAG_W,TDN_NASA_ERROR
,,,,,,,,,,,METERS,DBAR,ITS-90,PSS-78,,PSS-78,,UMOL/KG,,UMOL/KG,,UMOL/KG,,UMOL/KG,,UMOL/KG,,UMOL/KG,,PMOL/KG,,PMOL/KG,,FMOL/KG,,UMOL/KG,,UMOL/KG,,,,DEG C,/MILLE,,/MILLE,,/MILLE,UMOL/KG,,UMOL/KG,,UMOL/KG,,/MILLE,,,,,,VOLTS,,VOLTS,,VOLTS,,VOLTS,,/MILLE,,UMOL/KG,,/LITER,,UMOL/KG,,UMOL/L,,PMOL/L,,PMOL/L,,,,UG/L,,/METER,,UMOL/L,,ITS-90,,UMOL/L,UMOL/L,,UMOL/L
320620170820,        P06,     179,          1,         27,         27,2,20170908,       0436,   -32.5003,  -119.7258,       3476,   285.6,  10.4427,  34.4974,2,  34.4940,2, 221.3783,2, 221.8332,2,     2.1,2,   13.82,2,    0.00,2,    0.96,2,   3.195,6,   1.694,6,   1.4375,6,  2120.5,2,  2277.7,2,   7.7717,2,    25.00, -999.00,9, -999.00,9, -999.00,  -999.0,9, -999.00,9,     -999.0,9,  -999.0,9, 20170908,      556, -32.5001,-119.7259,        0.0,1,      0.060,1,      4.686,1,      0.132,1,     -999.0,9,     -999.0,9,     -999.0,9,     -999.0,9,     -999.0,9,     -999.0,9,     -999.0,9,     -999.0,9,     -999.0,9,     -999.0,9,     -999.0,9,    10.4350,2,     -999.0,     -999.0,9,     -999.0
320620170820,        P06,     179,          1,         28,         28,2,20170908,       0436,   -32.5003,  -119.7258,       3476,   236.3,  11.9886,  34.6007,2,  34.6134,2, 218.7454,2, 220.3086,2,     1.1,2,    9.38,2,    0.00,2,    0.68,2,   2.894,2,   1.588,2,   1.4520,2,  2105.0,2,  2283.5,2,   7.8163,2,    25.00, -999.00,9, -999.00,9, -999.00,  -999.0,9, -999.00,9,     -999.0,9,  -999.0,9, 20170908,      558, -32.5002,-119.7259,        0.0,1,      0.061,1,      4.684,1,      0.131,1,     -999.0,9,     -999.0,9,     -999.0,9,     -999.0,9,     -999.0,9,     -999.0,9,     -999.0,9,     -999.0,9,     -999.0,9,     -999.0,9,     -999.0,9,    12.1857,2,     -999.0,     -999.0,9,     -999.0
320620170820,        P06,     179,          1,         29,         29,2,20170908,       0436,   -32.5003,  -119.7258,       3476,   185.2,  13.5413,  34.6898,2,  34.6525,2, 232.4268,2, 234.1611,2,     0.3,2,    4.00,2,    0.26,2,    0.41,2,   2.441,2,   1.497,2,   1.7640,2,  2078.6,2,  2284.1,2,   7.8691,6,    25.00, -999.00,9, -999.00,9, -999.00,  -999.0,9, -999.00,9,     -999.0,9,  -999.0,9, 20170908,      600, -32.5003,-119.7258,        0.0,1,      0.080,1,      4.676,1,      0.138,1,     -999.0,9,     -999.0,9,     -999.0,9,     -999.0,9,     -999.0,9,     -999.0,9,     -999.0,9,     -999.0,9,     -999.0,9,     -999.0,9,     -999.0,9,    13.6625,2,     -999.0,     -999.0,9,     -999.0
320620170820,        P06,     179,          1,         30,         30,2,20170908,       0436,   -32.5003,  -119.7258,       3476,   139.3,  15.2066,  34.7623,2,  34.7695,2,  240.609,2,  239.683,2,     0.1,2,    0.86,2,    0.22,2,    0.19,2,   2.430,2,   1.397,2,   1.8490,2,  2060.9,2,  2288.4,2,   7.9156,2,    25.00, -999.00,9, -999.00,9, -999.00,  -999.0,9, -999.00,9,     -999.0,9,  -999.0,9, 20170908,      601, -32.5004,-119.7257,        0.0,1,      0.171,1,      4.653,1,      0.162,1,     -999.0,9,     -999.0,9,     -999.0,9,     -999.0,9,     -999.0,9,     -999.0,9,     -999.0,9,     -999.0,9,     -999.0,9,     -999.0,9,     -999.0,9,    15.2454,2,     -999.0,     -999.0,9,     -999.0
320620170820,        P06,     179,          1,         31,         31,2,20170908,       0436,   -32.5003,  -119.7258,       3476,   116.3,  15.5523,  34.7661,2,  34.7897,2,   247.01,2, 245.4841,2,     0.1,2,    0.07,2,    0.03,2,    0.10,2,   2.346,2,   1.342,2,   1.7270,2,  2048.7,2,  2289.7,2,   7.9410,2,    25.00, -999.00,9, -999.00,9, -999.00,  -999.0,9, -999.00,9,     -999.0,9,  -999.0,9, 20170908,      603, -32.5004,-119.7256,        0.0,1,      0.205,1,      4.640,1,      0.179,1,     -999.0,9,     -999.0,9,     -999.0,9,     -999.0,9,     -999.0,9,     -999.0,9,     -999.0,9,     -999.0,9,     -999.0,9,     -999.0,9,     -999.0,9,    15.7801,2,     -999.0,     -999.0,9,     -999.0
320620170820,        P06,     179,          1,         32,         32,2,20170908,       0436,   -32.5003,  -119.7258,       3476,    90.2,  15.8415,  34.7856,2,  34.7714,2, 240.3802,2, 247.7324,2,     0.1,2,    0.00,2,    0.00,2,    0.12,2,   2.330,2,   1.327,2,   1.8350,2,  2043.0,2,  2288.7,2,   7.9457,2,    25.00, -999.00,9, -999.00,9, -999.00,  -999.0,9, -999.00,9,     -999.0,9,  -999.0,9, 20170908,      604, -32.5004,-119.7256,        0.0,1,      0.232,1,      4.610,1,      0.206,1,     -999.0,9,     -999.0,9,     -999.0,9,     -999.0,9,     -999.0,9,     -999.0,9,     -999.0,9,     -999.0,9,     -999.0,9,     -999.0,9,     -999.0,9,    15.8862,2,     -999.0,     -999.0,9,     -999.0
320620170820,        P06,     179,          1,         33,         33,2,20170908,       0436,   -32.5003,  -119.7258,       3476,    63.9,  16.0955,  34.8097,2,  34.7744,2, 240.8161,2, 247.2503,2,     0.1,2,    0.00,2,    0.00,2,    0.09,2,   2.317,2,   1.330,2,   1.8010,2,  2046.3,2,  2289.2,2,   7.9471,2,    25.00, -999.00,9, -999.00,9, -999.00,  -999.0,9, -999.00,9,     -999.0,9,  -999.0,9, 20170908,      606, -32.5004,-119.7256,        0.0,1,      0.118,1,      4.616,1,      0.198,1,     -999.0,9,     -999.0,9,     -999.0,9,     -999.0,9,     -999.0,9,     -999.0,9,     -999.0,9,     -999.0,9,     -999.0,9,     -999.0,9,     -999.0,9,    16.0754,2,     -999.0,     -999.0,9,     -999.0
320620170820,        P06,     179,          1,         34,         34,2,20170908,       0436,   -32.5003,  -119.7258,       3476,    37.8,  16.7310,  34.8333,2,  34.8202,2, 237.9046,2,   244.54,2,     0.1,2,    0.00,2,    0.00,2,    0.12,2,   2.294,2,   1.319,2,   1.8990,2,  2045.5,2,  2291.5,2,   7.9469,2,    25.00, -999.00,9, -999.00,9, -999.00,  -999.0,9, -999.00,9,     -999.0,9,  -999.0,9, 20170908,      607, -32.5004,-119.7257,        0.0,1,      0.083,1,      4.638,1,      0.169,1,     -999.0,9,     -999.0,9,     -999.0,9,     -999.0,9,     -999.0,9,     -999.0,9,     -999.0,9,     -999.0,9,     -999.0,9,     -999.0,9,     -999.0,9,    16.6368,2,     -999.0,     -999.0,9,     -999.0
320620170820,        P06,     179,          1,         35,         35,2,20170908,       0436,   -32.5003,  -119.7258,       3476,    18.5,  16.8138,  34.8406,2,  34.8414,2, 237.3881,2, 244.0758,2,     0.1,2,    0.00,2,    0.00,2,    0.11,2,   2.283,2,   1.325,2,   1.8060,2,  2046.5,2,  2292.5,2,   7.9499,2,    25.00, -999.00,9, -999.00,9, -999.00,  -999.0,9, -999.00,9,     -999.0,9,  -999.0,9, 20170908,      609, -32.5004,-119.7257,        0.0,1,      0.078,1,      4.640,1,      0.168,1,     -999.0,9,     -999.0,9,     -999.0,9,     -999.0,9,     -999.0,9,     -999.0,9,     -999.0,9,     -999.0,9,     -999.0,9,     -999.0,9,     -999.0,9,    16.8275,2,     -999.0,     -999.0,9,     -999.0
320620170820,        P06,     179,          1,         36,         36,2,20170908,       0436,   -32.5003,  -119.7258,       3476,     5.1,  16.8873,  34.8436,2,-999.0000,1, 246.7376,2, 244.0732,2,     0.2,2,    0.00,2,    0.00,2,    0.10,2,   2.288,2,   1.314,2,   1.9340,2,  2046.2,6,  2294.7,2,   7.9494,2,    25.00, -999.00,9, -999.00,9, -999.00,  -999.0,9, -999.00,9,     -999.0,9,  -999.0,9, 20170908,      610, -32.5003,-119.7258,        0.0,1,      0.076,1,      4.642,1,      0.165,1,     -999.0,9,     -999.0,9,     -999.0,9,     -999.0,9,     -999.0,9,     -999.0,9,     -999.0,9,     -999.0,9,     -999.0,9,     -999.0,9,     -999.0,9,    16.8555,2,     -999.0,     -999.0,9,     -999.0