BOTTLE,20240211CCHSIOCBG
EXPOCODE,SECT_ID,STNNBR,CASTNO,SAMPNO,BTLNBR,BTLNBR_FLAG_W,DATE,TIME,LATITUDE,LONGITUDE,DEPTH,CTDPRS,CTDTMP,CTDSAL,CTDSAL_FLAG_W,SALNTY,SALNTY_FLAG_W,CTDOXY,CTDOXY_FLAG_W,OXYGEN,OXYGEN_FLAG_W,SILCAT,SILCAT_FLAG_W,NITRAT,NITRAT_FLAG_W,NITRIT,NITRIT_FLAG_W,PHSPHT,PHSPHT_FLAG_W,CFC-11,CFC-11_FLAG_W,CFC-12,CFC-12_FLAG_W,SF6,SF6_FLAG_W,TCARBN,TCARBN_FLAG_W,ALKALI,ALKALI_FLAG_W,PH_TOT,PH_TOT_FLAG_W,PH_TMP,DELC13,DELC13_FLAG_W,DELC14,DELC14_FLAG_W,C14ERR,DOC,DOC_FLAG_W,TDN,TDN_FLAG_W,TON,TON_FLAG_W,D15N_NO3,D15N_NO3_FLAG_W,BTL_DATE,BTL_TIME,BTL_LAT,BTL_LON,CTDRINKO,CTDRINKO_FLAG_W,CTDFLUOR,CTDFLUOR_FLAG_W,CTDXMISS,CTDXMISS_FLAG_W,CTDBACKSCATTER,CTDBACKSCATTER_FLAG_W,D18O_NO3,D18O_NO3_FLAG_W,DOP,DOP_FLAG_W,CELLCOUNT,CELLCOUNT_FLAG_W,TDP,TDP_FLAG_W,POP,POP_FLAG_W,DATP,DATP_FLAG_W,PATP,PATP_FLAG_W,HPLC,HPLC_FLAG_W,POC,POC_FLAG_W,BEAMAP,BEAMAP_FLAG_W,DOC_NASA,DOC_NASA_FLAG_W,REFTMP,REFTMP_FLAG_W,DOC_NASA_ERROR,TDN_NASA,TDN_NASA_FLAG_W,TDN_NASA_ERROR
,,,,,,,,,,,METERS,DBAR,ITS-90,PSS-78,,PSS-78,,UMOL/KG,,UMOL/KG,,UMOL/KG,,UMOL/KG,,UMOL/KG,,UMOL/KG,,PMOL/KG,,PMOL/KG,,FMOL/KG,,UMOL/KG,,UMOL/KG,,,,DEG C,/MILLE,,/MILLE,,/MILLE,UMOL/KG,,UMOL/KG,,UMOL/KG,,/MILLE,,,,,,VOLTS,,VOLTS,,VOLTS,,VOLTS,,/MILLE,,UMOL/KG,,/LITER,,UMOL/KG,,UMOL/L,,PMOL/L,,PMOL/L,,,,UG/L,,/METER,,UMOL/L,,ITS-90,,UMOL/L,UMOL/L,,UMOL/L
320620170820,        P06,     237,          2,          1,          1,2,20170926,       1758,   -32.5002,   -73.0828,       4545,  4616.8,   1.7394,  34.6945,2,  34.6958,2, 162.0759,2, 162.6593,2,   124.6,2,   34.70,2,    0.00,2,    2.41,2,   0.018,2,   0.022,2,   0.0000,4,  2307.9,6,  2401.2,2,   7.5863,2,    25.00, -999.00,9, -999.00,9, -999.00,  -999.0,9, -999.00,9,     -999.0,9,  -999.0,9, 20170926,     1758, -32.5003, -73.0823,        0.0,1,      0.061,1,      4.671,1,      0.139,1,     -999.0,9,     -999.0,9,     -999.0,9,     -999.0,9,     -999.0,9,     -999.0,9,     -999.0,9,     -999.0,9,     -999.0,9,     -999.0,9,     -999.0,9,     1.7398,2,     -999.0,     -999.0,9,     -999.0
320620170820,        P06,     237,          2,          2,          2,2,20170926,       1758,   -32.5002,   -73.0828,       4545,  4441.0,   1.7257,  34.6942,2,  34.6952,2, 162.0759,2, 162.7778,2,   124.7,2,   34.80,2,    0.00,2,    2.42,2,   0.020,2,   0.026,2,   0.0000,4,  2307.5,2,  2402.0,2,   7.5864,2,    25.00, -999.00,9, -999.00,9, -999.00,  -999.0,9, -999.00,9,     -999.0,9,  -999.0,9, 20170926,     1804, -32.5003, -73.0822,        0.0,1,      0.061,1,      4.673,1,      0.137,1,     -999.0,9,     -999.0,9,     -999.0,9,     -999.0,9,     -999.0,9,     -999.0,9,     -999.0,9,     -999.0,9,     -999.0,9,     -999.0,9,     -999.0,9,     1.7262,2,     -999.0,     -999.0,9,     -999.0
320620170820,        P06,     237,          2,          3,          3,2,20170926,       1758,   -32.5002,   -73.0828,       4545,  4271.9,   1.7200,  34.6937,2,  34.6948,2, 162.0759,2,  162.121,2,   124.6,2,   34.89,2,    0.00,2,    2.42,2,   0.014,2,   0.022,2,   0.0000,4,  -999.0,9,  -999.0,9,-999.0000,9,  -999.00, -999.00,9, -999.00,9, -999.00,  -999.0,9, -999.00,9,     -999.0,9,  -999.0,9, 20170926,     1808, -32.5003, -73.0823,        0.0,1,      0.061,1,      4.674,1,      0.138,1,     -999.0,9,     -999.0,9,     -999.0,9,     -999.0,9,     -999.0,9,     -999.0,9,     -999.0,9,     -999.0,9,     -999.0,9,     -999.0,9,     -999.0,9,     1.7194,2,     -999.0,     -999.0,9,     -999.0
320620170820,        P06,     237,          2,          4,          4,2,20170926,       1758,   -32.5002,   -73.0828,       4545,  3964.0,   1.7118,  34.6928,2,  34.6930,2, 161.7518,2, 161.0136,2,   124.7,2,   34.94,2,    0.00,2,    2.42,2,   0.027,2,   0.047,2,   0.0000,4,  2309.1,2,  2403.5,2,   7.5862,2,    25.00, -999.00,9, -999.00,9, -999.00,  -999.0,9, -999.00,9,     -999.0,9,  -999.0,9, 20170926,     1815, -32.5003, -73.0820,        0.0,1,      0.061,1,      4.674,1,      0.137,1,     -999.0,9,     -999.0,9,     -999.0,9,     -999.0,9,     -999.0,9,     -999.0,9,     -999.0,9,     -999.0,9,     -999.0,9,     -999.0,9,     -999.0,9,     1.7105,2,     -999.0,     -999.0,9,     -999.0
320620170820,        P06,     237,          2,          5,          5,2,20170926,       1758,   -32.5002,   -73.0828,       4545,  3655.8,   1.7371,  34.6897,2,  34.6905,2, 159.2493,2, 159.1561,2,   124.6,2,   35.09,2,    0.00,2,    2.45,2,   0.017,2,   0.033,2,   0.0000,4,  -999.0,9,  -999.0,9,-999.0000,9,  -999.00, -999.00,9, -999.00,9, -999.00,  -999.0,9, -999.00,9,     -999.0,9,  -999.0,9, 20170926,     1823, -32.5003, -73.0816,        0.0,1,      0.061,1,      4.676,1,      0.132,1,     -999.0,9,     -999.0,9,     -999.0,9,     -999.0,9,     -999.0,9,     -999.0,9,     -999.0,9,     -999.0,9,     -999.0,9,     -999.0,9,     -999.0,9,     1.7340,2,     -999.0,     -999.0,9,     -999.0
320620170820,        P06,     237,          2,          6,          6,2,20170926,       1758,   -32.5002,   -73.0828,       4545,  3350.0,   1.7727,  34.6858,2,  34.6859,2,  156.016,3, 152.5339,2,   127.7,2,   35.48,2,    0.00,2,    2.48,2,   0.016,2,   0.040,2,   0.0000,4,  2314.8,2,  2406.6,6,   7.5770,2,    25.00, -999.00,9, -999.00,9, -999.00,  -999.0,9, -999.00,9,     -999.0,9,  -999.0,9, 20170926,     1829, -32.5004, -73.0809,        0.0,1,      0.061,1,      4.677,1,      0.133,1,     -999.0,9,     -999.0,9,     -999.0,9,     -999.0,9,     -999.0,9,     -999.0,9,     -999.0,9,     -999.0,9,     -999.0,9,     -999.0,9,     -999.0,9,     1.7705,2,     -999.0,     -999.0,9,     -999.0
320620170820,        P06,     237,          2,          7,          7,2,20170926,       1758,   -32.5002,   -73.0828,       4545,  3043.3,   1.8012,  34.6813,2,  34.6812,2, 149.9381,3, 151.7647,2,   126.3,2,   35.58,2,    0.00,2,    2.48,2,   0.025,2,   0.038,2,   0.0000,2,  -999.0,9,  -999.0,9,-999.0000,9,  -999.00, -999.00,9, -999.00,9, -999.00,  -999.0,9, -999.00,9,     -999.0,9,  -999.0,9, 20170926,     1836, -32.5003, -73.0814,        0.0,1,      0.061,1,      4.677,1,      0.138,1,     -999.0,9,     -999.0,9,     -999.0,9,     -999.0,9,     -999.0,9,     -999.0,9,     -999.0,9,     -999.0,9,     -999.0,9,     -999.0,9,     -999.0,9,     1.7989,2,     -999.0,     -999.0,9,     -999.0
320620170820,        P06,     237,          2,          8,          8,2,20170926,       1758,   -32.5002,   -73.0828,       4545,  2785.6,   1.8398,  34.6763,2,  34.6759,2, 148.9398,2, 149.7799,2,   125.0,2,   35.71,2,    0.00,2,    2.48,2,   0.023,2,   0.037,2,   0.0000,2,  2312.0,2,  2401.6,2,   7.5692,2,    25.00, -999.00,9, -999.00,9, -999.00,  -999.0,9, -999.00,9,     -999.0,9,  -999.0,9, 20170926,     1842, -32.5003, -73.0817,        0.0,1,      0.061,1,      4.677,1,      0.135,1,     -999.0,9,     -999.0,9,     -999.0,9,     -999.0,9,     -999.0,9,     -999.0,9,     -999.0,9,     -999.0,9,     -999.0,9,     -999.0,9,     -999.0,9,     1.8364,2,     -999.0,     -999.0,9,     -999.0
320620170820,        P06,     237,          2,          9,          9,2,20170926,       1758,   -32.5002,   -73.0828,       4545,  2532.9,   1.9059,  34.6685,2,  34.6686,2, 146.1799,2, 147.2173,2,   123.2,2,   35.89,2,    0.00,2,    2.52,2,   0.023,2,   0.042,2,   0.0000,2,  -999.0,9,  -999.0,9,-999.0000,9,  -999.00, -999.00,9, -999.00,9, -999.00,  -999.0,9, -999.00,9,     -999.0,9,  -999.0,9, 20170926,     1848, -32.5003, -73.0818,        0.0,1,      0.062,1,      4.678,1,      0.141,1,     -999.0,9,     -999.0,9,     -999.0,9,     -999.0,9,     -999.0,9,     -999.0,9,     -999.0,9,     -999.0,9,     -999.0,9,     -999.0,9,     -999.0,9,     1.9027,2,     -999.0,     -999.0,9,     -999.0
320620170820,        P06,     237,          2,         10,         10,2,20170926,       1758,   -32.5002,   -73.0828,       4545,  2278.3,   2.0203,  34.6569,2,  34.6561,2,  139.905,2, 140.3492,2,   120.9,2,   36.48,2,    0.00,2,    2.57,2,   0.023,2,   0.044,2,   0.0000,2,  2312.6,2,  2394.8,2,   7.5504,2,    25.00, -999.00,9, -999.00,9, -999.00,  -999.0,9, -999.00,9,     -999.0,9,  -999.0,9, 20170926,     1854, -32.5002, -73.0825,        0.0,1,      0.063,1,      4.676,1,      0.137,1,     -999.0,9,     -999.0,9,     -999.0,9,     -999.0,9,     -999.0,9,     -999.0,9,     -999.0,9,     -999.0,9,     -999.0,9,     -999.0,9,     -999.0,9,     2.0316,2,     -999.0,     -999.0,9,     -999.0
320620170820,        P06,     237,          2,         11,         11,2,20170926,       1758,   -32.5002,   -73.0828,       4545,  2024.2,   2.1976,  34.6399,2,  34.6390,2, 132.7234,2,  132.858,2,   117.0,2,   37.13,2,    0.00,2,    2.62,2,   0.024,2,   0.047,2,   0.0000,2,  -999.0,9,  -999.0,9,-999.0000,9,  -999.00, -999.00,9, -999.00,9, -999.00,  -999.0,9, -999.00,9,     -999.0,9,  -999.0,9, 20170926,     1859, -32.5002, -73.0824,        0.0,1,      0.062,1,      4.676,1,      0.138,1,     -999.0,9,     -999.0,9,     -999.0,9,     -999.0,9,     -999.0,9,     -999.0,9,     -999.0,9,     -999.0,9,     -999.0,9,     -999.0,9,     -999.0,9,     2.2027,2,     -999.0,     -999.0,9,     -999.0
320620170820,        P06,     237,          2,         12,         12,2,20170926,       1758,   -32.5002,   -73.0828,       4545,  1819.5,   2.4099,  34.6198,2,  34.6185,2, 125.6519,2, 125.7527,2,   110.7,2,   37.73,2,    0.00,2,    2.68,2,   0.022,2,   0.038,2,   0.0000,2,  2313.1,2,  2383.9,2,   7.5216,2,    25.00, -999.00,9, -999.00,9, -999.00,  -999.0,9, -999.00,9,     -999.0,9,  -999.0,9, 20170926,     1904, -32.5002, -73.0827,        0.0,1,      0.063,1,      4.676,1,      0.141,1,     -999.0,9,     -999.0,9,     -999.0,9,     -999.0,9,     -999.0,9,     -999.0,9,     -999.0,9,     -999.0,9,     -999.0,9,     -999.0,9,     -999.0,9,     2.4240,2,     -999.0,     -999.0,9,     -999.0
320620170820,        P06,     237,          2,         13,         13,2,20170926,       1758,   -32.5002,   -73.0828,       4545,  1617.1,   2.6630,  34.5969,2,  34.5975,2, 119.3091,2, 119.3774,2,   104.8,2,   38.25,2,    0.00,2,    2.71,2,   0.023,2,   0.041,2,   0.0000,2,  -999.0,9,  -999.0,9,-999.0000,9,  -999.00, -999.00,9, -999.00,9, -999.00,  -999.0,9, -999.00,9,     -999.0,9,  -999.0,9, 20170926,     1909, -32.5002, -73.0827,        0.0,1,      0.062,1,      4.676,1,      0.140,1,     -999.0,9,     -999.0,9,     -999.0,9,     -999.0,9,     -999.0,9,     -999.0,9,     -999.0,9,     -999.0,9,     -999.0,9,     -999.0,9,     -999.0,9,     2.6414,2,     -999.0,     -999.0,9,     -999.0
320620170820,        P06,     237,          2,         14,         14,2,20170926,       1758,   -32.5002,   -73.0828,       4545,  1413.3,   2.9619,  34.5672,2,  34.5671,2, 113.0859,2, 111.8435,2,    95.6,2,   38.95,2,    0.00,2,    2.75,2,   0.026,2,   0.050,2,   0.0000,2,  2304.8,2,  2364.3,2,   7.4929,2,    25.00, -999.00,9, -999.00,9, -999.00,  -999.0,9, -999.00,9,     -999.0,9,  -999.0,9, 20170926,     1913, -32.5002, -73.0830,        0.0,1,      0.062,1,      4.676,1,      0.141,1,     -999.0,9,     -999.0,9,     -999.0,9,     -999.0,9,     -999.0,9,     -999.0,9,     -999.0,9,     -999.0,9,     -999.0,9,     -999.0,9,     -999.0,9,     2.9618,2,     -999.0,     -999.0,9,     -999.0
320620170820,        P06,     237,          2,         15,         15,2,20170926,       1758,   -32.5002,   -73.0828,       4545,  1213.2,   3.3232,  34.5290,2,  34.5264,2, 108.2271,2, 106.9624,2,    83.8,2,   39.38,2,    0.00,2,    2.78,2,   0.030,2,   0.052,2,   0.0000,2,  -999.0,9,  -999.0,9,-999.0000,9,  -999.00, -999.00,9, -999.00,9, -999.00,  -999.0,9, -999.00,9,     -999.0,9,  -999.0,9, 20170926,     1918, -32.5002, -73.0824,        0.0,1,      0.062,1,      4.675,1,      0.141,1,     -999.0,9,     -999.0,9,     -999.0,9,     -999.0,9,     -999.0,9,     -999.0,9,     -999.0,9,     -999.0,9,     -999.0,9,     -999.0,9,     -999.0,9,     3.3313,2,     -999.0,     -999.0,9,     -999.0
320620170820,        P06,     237,          2,         16,         16,2,20170926,       1758,   -32.5002,   -73.0828,       4545,  1108.7,   3.5526,  34.4986,2,  34.4979,2, 108.7837,2, 107.7512,2,    75.8,2,   39.46,2,    0.00,2,    2.78,2,   0.049,2,   0.082,2,   0.0000,2,  2288.8,2,  2343.1,2,   7.4761,2,    25.00, -999.00,9, -999.00,9, -999.00,  -999.0,9, -999.00,9,     -999.0,9,  -999.0,9, 20170926,     1920, -32.5003, -73.0826,        0.0,1,      0.063,1,      4.676,1,      0.143,1,     -999.0,9,     -999.0,9,     -999.0,9,     -999.0,9,     -999.0,9,     -999.0,9,     -999.0,9,     -999.0,9,     -999.0,9,     -999.0,9,     -999.0,9,     3.5435,2,     -999.0,     -999.0,9,     -999.0
320620170820,        P06,     237,          2,         17,         17,2,20170926,       1758,   -32.5002,   -73.0828,       4545,  1010.6,   3.7897,  34.4629,2,  34.4661,2, 112.2956,2, 111.6498,2,    67.4,2,   39.20,2,    0.00,2,    2.76,2,   0.080,2,   0.072,2,   0.0000,2,  2277.7,2,  2320.4,3,   7.4776,2,    25.00, -999.00,9, -999.00,9, -999.00,  -999.0,9, -999.00,9,     -999.0,9,  -999.0,9, 20170926,     1923, -32.5003, -73.0826,        0.0,1,      0.062,1,      4.675,1,      0.142,1,     -999.0,9,     -999.0,9,     -999.0,9,     -999.0,9,     -999.0,9,     -999.0,9,     -999.0,9,     -999.0,9,     -999.0,9,     -999.0,9,     -999.0,9,     3.7649,2,     -999.0,     -999.0,9,     -999.0
320620170820,        P06,     237,          2,         18,         18,2,20170926,       1758,   -32.5002,   -73.0828,       4545,   908.2,   4.0822,  34.4216,2,  34.4251,2, 120.6122,2, 120.9241,2,    56.5,2,   38.44,2,    0.00,2,    2.69,2,   0.215,2,   0.122,2,   0.0000,2,  -999.0,9,  -999.0,9,-999.0000,9,  -999.00, -999.00,9, -999.00,9, -999.00,  -999.0,9, -999.00,9,     -999.0,9,  -999.0,9, 20170926,     1926, -32.5003, -73.0824,        0.0,1,      0.062,1,      4.674,1,      0.141,1,     -999.0,9,     -999.0,9,     -999.0,9,     -999.0,9,     -999.0,9,     -999.0,9,     -999.0,9,     -999.0,9,     -999.0,9,     -999.0,9,     -999.0,9,     4.0506,2,     -999.0,     -999.0,9,     -999.0
320620170820,        P06,     237,          2,         19,         19,2,20170926,       1758,   -32.5002,   -73.0828,       4545,   806.8,   4.4216,  34.3679,2,  34.3786,2, 136.3269,2, 136.6088,2,    44.1,2,   36.93,2,    0.00,2,    2.58,2,   0.562,2,   0.306,2,   0.0000,2,  2242.0,2,  2306.2,2,   7.5102,2,    25.00, -999.00,9, -999.00,9, -999.00,  -999.0,9, -999.00,9,     -999.0,9,  -999.0,9, 20170926,     1929, -32.5003, -73.0824,        0.0,1,      0.060,1,      4.675,1,      0.146,1,     -999.0,9,     -999.0,9,     -999.0,9,     -999.0,9,     -999.0,9,     -999.0,9,     -999.0,9,     -999.0,9,     -999.0,9,     -999.0,9,     -999.0,9,     4.4080,2,     -999.0,     -999.0,9,     -999.0
320620170820,        P06,     237,          2,         20,         20,2,20170926,       1758,   -32.5002,   -73.0828,       4545,   706.7,   4.8443,  34.3201,2,  34.3239,2, 165.7577,2, 166.2389,2,    30.3,2,   33.89,2,    0.00,2,    2.34,2,   1.374,2,   0.675,2,   0.2320,2,  -999.0,9,  -999.0,9,-999.0000,9,  -999.00, -999.00,9, -999.00,9, -999.00,  -999.0,9, -999.00,9,     -999.0,9,  -999.0,9, 20170926,     1932, -32.5003, -73.0824,        0.0,1,      0.061,1,      4.675,1,      0.147,1,     -999.0,9,     -999.0,9,     -999.0,9,     -999.0,9,     -999.0,9,     -999.0,9,     -999.0,9,     -999.0,9,     -999.0,9,     -999.0,9,     -999.0,9,     4.7842,2,     -999.0,     -999.0,9,     -999.0
320620170820,        P06,     237,          2,         21,         21,2,20170926,       1758,   -32.5002,   -73.0828,       4545,   607.3,   5.2434,  34.2873,2,  34.2856,2, 189.8153,3, 192.3948,2,    19.4,2,   30.85,2,    0.00,2,    2.12,2,   2.522,2,   1.265,2,   0.4850,2,  2192.2,2,  2283.7,2,   7.5951,6,    25.00, -999.00,9, -999.00,9, -999.00,  -999.0,9, -999.00,9,     -999.0,9,  -999.0,9, 20170926,     1935, -32.5003, -73.0823,        0.0,1,      0.061,1,      4.674,1,      0.153,1,     -999.0,9,     -999.0,9,     -999.0,9,     -999.0,9,     -999.0,9,     -999.0,9,     -999.0,9,     -999.0,9,     -999.0,9,     -999.0,9,     -999.0,9,     5.2627,2,     -999.0,     -999.0,9,     -999.0
320620170820,        P06,     237,          2,         22,         22,2,20170926,       1758,   -32.5002,   -73.0828,       4545,   503.6,   5.7344,  34.2852,2,  34.2874,2, 196.9711,2, 194.5984,2,    14.9,2,   29.56,2,    0.00,2,    2.03,2,   2.753,2,   1.475,2,   0.7420,2,  2186.3,2,  2278.7,2,   7.5982,2,    25.00, -999.00,9, -999.00,9, -999.00,  -999.0,9, -999.00,9,     -999.0,9,  -999.0,9, 20170926,     1937, -32.5003, -73.0824,        0.0,1,      0.061,1,      4.674,1,      0.149,1,     -999.0,9,     -999.0,9,     -999.0,9,     -999.0,9,     -999.0,9,     -999.0,9,     -999.0,9,     -999.0,9,     -999.0,9,     -999.0,9,     -999.0,9,     5.8249,2,     -999.0,     -999.0,9,     -999.0
320620170820,        P06,     237,          2,         23,         23,2,20170926,       1758,   -32.5002,   -73.0828,       4545,   454.3,   6.2303,  34.3209,2,  34.3221,2, 168.6187,2, 166.3446,2,    16.0,2,   31.09,2,    0.00,2,    2.15,2,   2.681,2,   1.499,2,   0.4840,2,  -999.0,9,  -999.0,9,-999.0000,9,  -999.00, -999.00,9, -999.00,9, -999.00,  -999.0,9, -999.00,9,     -999.0,9,  -999.0,9, 20170926,     1939, -32.5003, -73.0824,        0.0,1,      0.062,1,      4.670,1,      0.152,1,     -999.0,9,     -999.0,9,     -999.0,9,     -999.0,9,     -999.0,9,     -999.0,9,     -999.0,9,     -999.0,9,     -999.0,9,     -999.0,9,     -999.0,9,     6.2730,2,     -999.0,     -999.0,9,     -999.0
320620170820,        P06,     237,          2,         24,         24,2,20170926,       1758,   -32.5002,   -73.0828,       4545,   401.3,   6.8856,  34.3594,2,  34.3429,2, 136.3728,2, 141.6421,2,    16.3,2,   32.11,2,    0.00,2,    2.24,2,   2.612,2,   1.409,2,   0.4160,2,  2215.3,2,  2281.2,2,   7.5128,2,    25.00, -999.00,9, -999.00,9, -999.00,  -999.0,9, -999.00,9,     -999.0,9,  -999.0,9, 20170926,     1941, -32.5003, -73.0826,        0.0,1,      0.063,1,      4.665,1,      0.151,1,     -999.0,9,     -999.0,9,     -999.0,9,     -999.0,9,     -999.0,9,     -999.0,9,     -999.0,9,     -999.0,9,     -999.0,9,     -999.0,9,     -999.0,9,     6.7470,2,     -999.0,     -999.0,9,     -999.0
320620170820,        P06,     237,          2,         25,         25,2,20170926,       1758,   -32.5002,   -73.0828,       4545,   329.3,   7.9389,  34.4188,2,  34.4059,2,  80.5419,2,  82.5011,2,    19.1,2,   34.17,2,    0.00,2,    2.50,2,   2.151,2,   1.132,2,   0.3690,2,  -999.0,9,  -999.0,9,-999.0000,9,  -999.00, -999.00,9, -999.00,9, -999.00,  -999.0,9, -999.00,9,     -999.0,9,  -999.0,9, 20170926,     1944, -32.5002, -73.0828,        0.0,1,      0.064,1,      4.659,1,      0.158,1,     -999.0,9,     -999.0,9,     -999.0,9,     -999.0,9,     -999.0,9,     -999.0,9,     -999.0,9,     -999.0,9,     -999.0,9,     -999.0,9,     -999.0,9,     7.7526,2,     -999.0,     -999.0,9,     -999.0
320620170820,        P06,     237,          2,         26,         26,2,20170926,       1758,   -32.5002,   -73.0828,       4545,   250.7,   9.2729,  34.5135,2,  34.5070,2,  41.1642,2,   35.325,2,    22.1,2,   32.39,2,    0.00,2,    2.69,2,   1.614,2,   0.863,2,   0.2800,2,  2268.5,2,  2283.1,2,   7.3561,2,    25.00, -999.00,9, -999.00,9, -999.00,  -999.0,9, -999.00,9,     -999.0,9,  -999.0,9, 20170926,     1946, -32.5003, -73.0826,        0.0,1,      0.065,1,      4.652,1,      0.165,1,     -999.0,9,     -999.0,9,     -999.0,9,     -999.0,9,     -999.0,9,     -999.0,9,     -999.0,9,     -999.0,9,     -999.0,9,     -999.0,9,     -999.0,9,     9.1665,2,     -999.0,     -999.0,9,     -999.0