BOTTLE,20240211CCHSIOCBG
EXPOCODE,SECT_ID,STNNBR,CASTNO,SAMPNO,BTLNBR,BTLNBR_FLAG_W,DATE,TIME,LATITUDE,LONGITUDE,DEPTH,CTDPRS,CTDTMP,CTDSAL,CTDSAL_FLAG_W,SALNTY,SALNTY_FLAG_W,CTDOXY,CTDOXY_FLAG_W,OXYGEN,OXYGEN_FLAG_W,SILCAT,SILCAT_FLAG_W,NITRAT,NITRAT_FLAG_W,NITRIT,NITRIT_FLAG_W,PHSPHT,PHSPHT_FLAG_W,CFC-11,CFC-11_FLAG_W,CFC-12,CFC-12_FLAG_W,SF6,SF6_FLAG_W,TCARBN,TCARBN_FLAG_W,ALKALI,ALKALI_FLAG_W,PH_TOT,PH_TOT_FLAG_W,PH_TMP,DELC13,DELC13_FLAG_W,DELC14,DELC14_FLAG_W,C14ERR,DOC,DOC_FLAG_W,TDN,TDN_FLAG_W,TON,TON_FLAG_W,D15N_NO3,D15N_NO3_FLAG_W,BTL_DATE,BTL_TIME,BTL_LAT,BTL_LON,CTDRINKO,CTDRINKO_FLAG_W,CTDFLUOR,CTDFLUOR_FLAG_W,CTDXMISS,CTDXMISS_FLAG_W,CTDBACKSCATTER,CTDBACKSCATTER_FLAG_W,D18O_NO3,D18O_NO3_FLAG_W,DOP,DOP_FLAG_W,CELLCOUNT,CELLCOUNT_FLAG_W,TDP,TDP_FLAG_W,POP,POP_FLAG_W,DATP,DATP_FLAG_W,PATP,PATP_FLAG_W,HPLC,HPLC_FLAG_W,POC,POC_FLAG_W,BEAMAP,BEAMAP_FLAG_W,DOC_NASA,DOC_NASA_FLAG_W,REFTMP,REFTMP_FLAG_W,DOC_NASA_ERROR,TDN_NASA,TDN_NASA_FLAG_W,TDN_NASA_ERROR
,,,,,,,,,,,METERS,DBAR,ITS-90,PSS-78,,PSS-78,,UMOL/KG,,UMOL/KG,,UMOL/KG,,UMOL/KG,,UMOL/KG,,UMOL/KG,,PMOL/KG,,PMOL/KG,,FMOL/KG,,UMOL/KG,,UMOL/KG,,,,DEG C,/MILLE,,/MILLE,,/MILLE,UMOL/KG,,UMOL/KG,,UMOL/KG,,/MILLE,,,,,,VOLTS,,VOLTS,,VOLTS,,VOLTS,,/MILLE,,UMOL/KG,,/LITER,,UMOL/KG,,UMOL/L,,PMOL/L,,PMOL/L,,,,UG/L,,/METER,,UMOL/L,,ITS-90,,UMOL/L,UMOL/L,,UMOL/L
320620170820,        P06,     156,          1,         27,         27,2,20170830,       0855,   -32.4989,  -138.5881,       4572,   352.2,  10.4686,  34.6242,2,  34.5390,2, 211.4695,2, 219.1386,2,     2.7,2,   15.65,2,    0.00,2,    1.09,2,   3.266,2,   1.756,2,   1.3990,2,  2131.8,2,  2281.9,2,   7.7534,6,    25.00, -999.00,9, -999.00,9, -999.00,  -999.0,9, -999.00,9,     -999.0,9,  -999.0,9, 20170830,     1114, -32.4993,-138.5884,        0.0,1,      0.061,1,      4.689,1,      0.135,1,     -999.0,9,     -999.0,9,     -999.0,9,     -999.0,9,     -999.0,9,     -999.0,9,     -999.0,9,     -999.0,9,     -999.0,9,     -999.0,9,     -999.0,9,     9.9580,2,     -999.0,     -999.0,9,     -999.0
320620170820,        P06,     156,          1,         28,         28,2,20170830,       0855,   -32.4989,  -138.5881,       4572,   301.5,  12.2194,  34.8019,2,  34.7496,3, 211.8633,2, 210.8296,2,     1.7,2,   11.40,2,    0.00,2,    0.83,2,   3.130,6,   1.665,6,   1.3790,6,  2116.5,2,  2290.8,2,   7.7981,2,    25.00, -999.00,9, -999.00,9, -999.00,    53.2,2, -999.00,9,     -999.0,1,  -999.0,9, 20170830,     1117, -32.4993,-138.5884,        0.0,1,      0.059,1,      4.686,1,      0.135,1,     -999.0,9,     -999.0,9,     -999.0,9,     -999.0,9,     -999.0,9,     -999.0,9,     -999.0,9,     -999.0,9,     -999.0,9,     -999.0,9,     -999.0,9,    11.7313,2,     -999.0,     -999.0,9,     -999.0
320620170820,        P06,     156,          1,         29,         29,2,20170830,       0855,   -32.4989,  -138.5881,       4572,   251.7,  13.6569,  34.9601,2,  34.8900,2, 207.7145,2, 214.3623,2,     0.9,2,    7.36,2,    0.00,2,    0.57,2,   2.836,2,   1.617,2,   1.5070,2,  2102.0,2,  2296.6,6,   7.8389,2,    25.00, -999.00,9, -999.00,9, -999.00,    56.3,2,   10.10,2,     -999.0,1,  -999.0,9, 20170830,     1119, -32.4992,-138.5883,        0.0,1,      0.061,1,      4.685,1,      0.133,1,     -999.0,9,     -999.0,9,     -999.0,9,     -999.0,9,     -999.0,9,     -999.0,9,     -999.0,9,     -999.0,9,     -999.0,9,     -999.0,9,     -999.0,9,    13.1865,2,     -999.0,     -999.0,9,     -999.0
320620170820,        P06,     156,          1,         30,         30,2,20170830,       0855,   -32.4989,  -138.5881,       4572,   200.8,  14.6840,  35.0350,2,  35.1016,2, 212.4803,2, 219.3194,2,     0.3,2,    3.75,2,    0.02,2,    0.35,2,   2.595,2,   1.500,2,   1.7140,2,  2088.4,2,  2307.1,2,   7.8840,2,    25.00, -999.00,9, -999.00,9, -999.00,    53.6,2,    6.20,2,     -999.0,1,  -999.0,9, 20170830,     1122, -32.4990,-138.5882,        0.0,1,      0.082,1,      4.678,1,      0.139,1,     -999.0,9,     -999.0,9,     -999.0,9,     -999.0,9,     -999.0,9,     -999.0,9,     -999.0,9,     -999.0,9,     -999.0,9,     -999.0,9,     -999.0,9,    14.8055,2,     -999.0,     -999.0,9,     -999.0
320620170820,        P06,     156,          1,         31,         31,2,20170830,       0855,   -32.4989,  -138.5881,       4572,   151.1,  15.7164,  35.0383,2,  35.0419,2, 239.3555,2, 243.6823,2,     0.0,2,    0.06,2,    0.03,2,    0.11,2,   2.457,2,   1.415,2,   1.7560,2,  2058.1,2,  2304.9,2,   7.9387,2,    25.00, -999.00,9, -999.00,9, -999.00,  -999.0,5,    3.80,2,     -999.0,1,  -999.0,9, 20170830,     1125, -32.4991,-138.5883,        0.0,1,      0.115,1,      4.663,1,      0.159,1,     -999.0,9,     -999.0,9,     -999.0,9,     -999.0,9,     -999.0,9,     -999.0,9,     -999.0,9,     -999.0,9,     -999.0,9,     -999.0,9,     -999.0,9,    15.6990,2,     -999.0,     -999.0,9,     -999.0
320620170820,        P06,     156,          1,         32,         32,2,20170830,       0855,   -32.4989,  -138.5881,       4572,    99.8,  17.0210,  35.3049,2,  35.2755,2,  232.025,2, 238.8789,2,     0.0,2,    0.00,2,    0.00,2,    0.07,2,   2.264,2,   1.329,2,   1.7920,2,  2055.2,2,  2316.5,2,   7.9643,2,    25.00, -999.00,9, -999.00,9, -999.00,    60.0,2,    4.20,2,     -999.0,1,  -999.0,9, 20170830,     1128, -32.4993,-138.5884,        0.0,1,      0.150,1,      4.637,1,      0.181,1,     -999.0,9,     -999.0,9,     -999.0,9,     -999.0,9,     -999.0,9,     -999.0,9,     -999.0,9,     -999.0,9,     -999.0,9,     -999.0,9,     -999.0,9,    16.9354,2,     -999.0,     -999.0,9,     -999.0
320620170820,        P06,     156,          1,         33,         33,2,20170830,       0855,   -32.4989,  -138.5881,       4572,    75.0,  17.0334,  35.3056,2,  35.2901,2, 231.7615,2, 240.8788,2,     0.0,2,    0.00,2,    0.00,2,    0.07,2,   2.275,2,   1.330,2,   1.7800,2,  2055.3,2,  2317.4,2,   7.9671,2,    25.00, -999.00,9, -999.00,9, -999.00,    60.8,2,    3.70,2,     -999.0,1,  -999.0,9, 20170830,     1130, -32.4991,-138.5883,        0.0,1,      0.141,1,      4.635,1,      0.179,1,     -999.0,9,     -999.0,9,     -999.0,9,     -999.0,9,     -999.0,9,     -999.0,9,     -999.0,9,     -999.0,9,     -999.0,9,     -999.0,9,     -999.0,9,    17.0004,2,     -999.0,     -999.0,9,     -999.0
320620170820,        P06,     156,          1,         34,         34,2,20170830,       0855,   -32.4989,  -138.5881,       4572,    49.6,  17.2254,  35.3561,2,  35.2921,2,   231.98,2, 239.2975,2,     0.0,2,    0.00,2,    0.00,2,    0.08,2,   2.291,2,   1.333,2,   1.7440,2,  2055.0,2,  2318.1,2,   7.9664,2,    25.00, -999.00,9, -999.00,9, -999.00,    63.1,2,    4.30,2,     -999.0,1,  -999.0,9, 20170830,     1132, -32.4988,-138.5880,        0.0,1,      0.153,1,      4.624,1,      0.182,1,     -999.0,9,     -999.0,9,     -999.0,9,     -999.0,9,     -999.0,9,     -999.0,9,     -999.0,9,     -999.0,9,     -999.0,9,     -999.0,9,     -999.0,9,    16.9921,2,     -999.0,     -999.0,9,     -999.0
320620170820,        P06,     156,          1,         35,         35,2,20170830,       0855,   -32.4989,  -138.5881,       4572,    24.5,  17.2629,  35.3700,2,  35.3328,2, 231.2734,2, 237.9765,2,     0.0,2,    0.00,2,    0.00,2,    0.08,2,   2.370,2,   1.339,2,   1.7280,2,  2055.9,2,  2320.8,2,   7.9699,2,    25.00, -999.00,9, -999.00,9, -999.00,    62.8,2,    4.40,2,     -999.0,1,  -999.0,9, 20170830,     1134, -32.4988,-138.5879,        0.0,1,      0.159,1,      4.622,1,      0.183,1,     -999.0,9,     -999.0,9,     -999.0,9,     -999.0,9,     -999.0,9,     -999.0,9,     -999.0,9,     -999.0,9,     -999.0,9,     -999.0,9,     -999.0,9,    17.1237,2,     -999.0,     -999.0,9,     -999.0
320620170820,        P06,     156,          1,         36,         36,2,20170830,       0855,   -32.4989,  -138.5881,       4572,     3.4,  17.2530,  35.3677,2,  35.3309,2, 231.0152,2, 237.6762,2,     0.1,2,    0.00,2,    0.00,2,    0.09,2,   2.292,2,   1.330,2,   1.8900,2,  2054.3,6,  2325.8,3,   7.9697,2,    25.00,    0.79,2,   53.85,2,    2.32,    62.4,2,    4.50,2,     -999.0,1,  -999.0,9, 20170830,     1136, -32.4989,-138.5881,        0.0,1,      0.170,1,      4.623,1,      0.182,1,     -999.0,9,     -999.0,9,     -999.0,9,     -999.0,9,     -999.0,9,     -999.0,9,     -999.0,9,     -999.0,9,     -999.0,9,     -999.0,9,     -999.0,9,    17.1703,2,     -999.0,     -999.0,9,     -999.0