BOTTLE,20240211CCHSIOCBG
EXPOCODE,SECT_ID,STNNBR,CASTNO,SAMPNO,BTLNBR,BTLNBR_FLAG_W,DATE,TIME,LATITUDE,LONGITUDE,DEPTH,CTDPRS,CTDTMP,CTDSAL,CTDSAL_FLAG_W,SALNTY,SALNTY_FLAG_W,CTDOXY,CTDOXY_FLAG_W,OXYGEN,OXYGEN_FLAG_W,SILCAT,SILCAT_FLAG_W,NITRAT,NITRAT_FLAG_W,NITRIT,NITRIT_FLAG_W,PHSPHT,PHSPHT_FLAG_W,CFC-11,CFC-11_FLAG_W,CFC-12,CFC-12_FLAG_W,SF6,SF6_FLAG_W,TCARBN,TCARBN_FLAG_W,ALKALI,ALKALI_FLAG_W,PH_TOT,PH_TOT_FLAG_W,PH_TMP,DELC13,DELC13_FLAG_W,DELC14,DELC14_FLAG_W,C14ERR,DOC,DOC_FLAG_W,TDN,TDN_FLAG_W,TON,TON_FLAG_W,D15N_NO3,D15N_NO3_FLAG_W,BTL_DATE,BTL_TIME,BTL_LAT,BTL_LON,CTDRINKO,CTDRINKO_FLAG_W,CTDFLUOR,CTDFLUOR_FLAG_W,CTDXMISS,CTDXMISS_FLAG_W,CTDBACKSCATTER,CTDBACKSCATTER_FLAG_W,D18O_NO3,D18O_NO3_FLAG_W,DOP,DOP_FLAG_W,CELLCOUNT,CELLCOUNT_FLAG_W,TDP,TDP_FLAG_W,POP,POP_FLAG_W,DATP,DATP_FLAG_W,PATP,PATP_FLAG_W,HPLC,HPLC_FLAG_W,POC,POC_FLAG_W,BEAMAP,BEAMAP_FLAG_W,DOC_NASA,DOC_NASA_FLAG_W,REFTMP,REFTMP_FLAG_W,DOC_NASA_ERROR,TDN_NASA,TDN_NASA_FLAG_W,TDN_NASA_ERROR
,,,,,,,,,,,METERS,DBAR,ITS-90,PSS-78,,PSS-78,,UMOL/KG,,UMOL/KG,,UMOL/KG,,UMOL/KG,,UMOL/KG,,UMOL/KG,,PMOL/KG,,PMOL/KG,,FMOL/KG,,UMOL/KG,,UMOL/KG,,,,DEG C,/MILLE,,/MILLE,,/MILLE,UMOL/KG,,UMOL/KG,,UMOL/KG,,/MILLE,,,,,,VOLTS,,VOLTS,,VOLTS,,VOLTS,,/MILLE,,UMOL/KG,,/LITER,,UMOL/KG,,UMOL/L,,PMOL/L,,PMOL/L,,,,UG/L,,/METER,,UMOL/L,,ITS-90,,UMOL/L,UMOL/L,,UMOL/L
320620170820,        P06,     236,          1,         27,         27,2,20170926,       1235,   -32.4995,   -73.1964,       3813,   286.6,   8.5527,  34.4514,2,  34.4493,2,  59.6098,2,  59.4589,2,    20.2,2,   33.57,2,    0.00,2,    2.61,2,   1.780,2,   1.085,2,   0.5470,4,  2254.3,2,  2279.8,2,   7.3870,2,    25.00, -999.00,9, -999.00,9, -999.00,    42.4,2,   37.50,2,     -999.0,1,  -999.0,9, 20170926,     1400, -32.4995, -73.1962,        0.0,1,      0.055,1,      4.659,1,      0.071,1,     -999.0,9,     -999.0,9,     -999.0,9,     -999.0,9,     -999.0,9,     -999.0,9,     -999.0,9,     -999.0,9,     -999.0,9,     -999.0,9,     -999.0,9,     8.4769,2,     -999.0,     -999.0,9,     -999.0
320620170820,        P06,     236,          1,         28,         28,2,20170926,       1235,   -32.4995,   -73.1964,       3813,   236.2,   9.3670,  34.5155,2,  34.5162,2,   34.017,2,  35.4811,2,    21.8,2,   30.87,2,    0.00,2,    2.69,2,   1.560,2,   1.006,2,   0.4120,4,  2267.6,2,  2281.2,2,   7.3598,2,    25.00, -999.00,9, -999.00,9, -999.00,    43.7,2,   34.80,2,     -999.0,1,  -999.0,9, 20170926,     1402, -32.4995, -73.1964,        0.0,1,      0.057,1,      4.655,1,      0.070,1,     -999.0,9,     -999.0,9,     -999.0,9,     -999.0,9,     -999.0,9,     -999.0,9,     -999.0,9,     -999.0,9,     -999.0,9,     -999.0,9,     -999.0,9,     9.5131,2,     -999.0,     -999.0,9,     -999.0
320620170820,        P06,     236,          1,         29,         29,2,20170926,       1235,   -32.4995,   -73.1964,       3813,   186.8,   9.9580,  34.5000,2,  34.4832,2,  47.0954,2,  48.7156,2,    19.2,2,   27.72,2,    0.00,2,    2.58,2,   1.847,2,   1.179,2,   0.5510,4,  -999.0,9,  -999.0,9,-999.0000,9,  -999.00, -999.00,9, -999.00,9, -999.00,    43.8,2,   29.80,2,     -999.0,1,  -999.0,9, 20170926,     1404, -32.4994, -73.1966,        0.0,1,      0.056,1,      4.654,1,      0.070,1,     -999.0,9,     -999.0,9,     -999.0,9,     -999.0,9,     -999.0,9,     -999.0,9,     -999.0,9,     -999.0,9,     -999.0,9,     -999.0,9,     -999.0,9,    10.0478,2,     -999.0,     -999.0,9,     -999.0
320620170820,        P06,     236,          1,         30,         30,2,20170926,       1235,   -32.4995,   -73.1964,       3813,   141.8,  10.3104,  34.3716,2,  34.3552,2,  89.3359,2,  94.3962,2,    13.4,2,   25.02,2,    0.02,2,    2.25,2,   2.516,2,   1.512,2,   0.7730,4,  2220.1,2,  2271.1,6,   7.4699,2,    25.00, -999.00,9, -999.00,9, -999.00,    44.7,2,   27.40,2,     -999.0,1,  -999.0,9, 20170926,     1406, -32.4994, -73.1967,        0.0,1,      0.057,1,      4.655,1,      0.071,1,     -999.0,9,     -999.0,9,     -999.0,9,     -999.0,9,     -999.0,9,     -999.0,9,     -999.0,9,     -999.0,9,     -999.0,9,     -999.0,9,     -999.0,9,    10.3746,2,     -999.0,     -999.0,9,     -999.0
320620170820,        P06,     236,          1,         31,         31,2,20170926,       1235,   -32.4995,   -73.1964,       3813,   114.1,  10.7793,  34.2173,2,  34.2338,2, 127.5533,2, 132.8823,2,     8.6,2,   23.57,2,    0.02,2,    1.96,2,   2.929,2,   1.703,2,   0.9560,4,  -999.0,9,  -999.0,9,-999.0000,9,  -999.00, -999.00,9, -999.00,9, -999.00,    45.0,2,   26.60,2,     -999.0,1,  -999.0,9, 20170926,     1408, -32.4995, -73.1966,        0.0,1,      0.055,1,      4.649,1,      0.071,1,     -999.0,9,     -999.0,9,     -999.0,9,     -999.0,9,     -999.0,9,     -999.0,9,     -999.0,9,     -999.0,9,     -999.0,9,     -999.0,9,     -999.0,9,    10.6929,2,     -999.0,     -999.0,9,     -999.0
320620170820,        P06,     236,          1,         32,         32,2,20170926,       1235,   -32.4995,   -73.1964,       3813,    90.3,  11.6908,  34.1576,2,  34.1636,2, 144.2226,2, 150.7416,2,     6.4,2,   22.52,2,    0.03,2,    1.83,2,   2.989,2,   1.728,2,   1.1050,4,  2173.7,2,  2260.6,2,   7.5865,6,    25.00, -999.00,9, -999.00,9, -999.00,    46.7,2,   25.20,2,     -999.0,1,  -999.0,9, 20170926,     1410, -32.4994, -73.1965,        0.0,1,      0.056,1,      4.633,1,      0.071,1,     -999.0,9,     -999.0,9,     -999.0,9,     -999.0,9,     -999.0,9,     -999.0,9,     -999.0,9,     -999.0,9,     -999.0,9,     -999.0,9,     -999.0,9,    11.0649,2,     -999.0,     -999.0,9,     -999.0
320620170820,        P06,     236,          1,         33,         33,2,20170926,       1235,   -32.4995,   -73.1964,       3813,    64.0,  13.3886,  34.2136,2,  34.1862,3, 252.7624,4, 230.8589,2,     2.2,2,   10.69,2,    0.15,2,    1.07,2,-999.000,9,-999.000,9,-999.0000,9,  -999.0,9,  -999.0,9,-999.0000,9,  -999.00, -999.00,9, -999.00,9, -999.00,    59.9,2,   14.30,2,     -999.0,1,  -999.0,9, 20170926,     1411, -32.4994, -73.1966,        0.0,1,      0.055,1,      4.521,1,      0.070,1,     -999.0,9,     -999.0,9,     -999.0,9,     -999.0,9,     -999.0,9,     -999.0,9,     -999.0,9,     -999.0,9,     -999.0,9,     -999.0,9,     -999.0,9,    13.2186,2,     -999.0,     -999.0,9,     -999.0
320620170820,        P06,     236,          1,         34,         34,2,20170926,       1235,   -32.4995,   -73.1964,       3813,    40.8,  13.3884,  34.2136,2,  34.2124,2, 259.1117,2, 259.0503,2,     1.0,2,    6.62,2,    0.19,2,    0.81,2,   2.910,2,   1.614,2,   1.5440,4,  -999.0,9,  -999.0,9,-999.0000,9,  -999.00, -999.00,9, -999.00,9, -999.00,    57.1,2,   10.00,2,     -999.0,1,  -999.0,9, 20170926,     1413, -32.4995, -73.1966,        0.0,1,      0.056,1,      4.518,1,      0.071,1,     -999.0,9,     -999.0,9,     -999.0,9,     -999.0,9,     -999.0,9,     -999.0,9,     -999.0,9,     -999.0,9,     -999.0,9,     -999.0,9,     -999.0,9,    13.3819,2,     -999.0,     -999.0,9,     -999.0
320620170820,        P06,     236,          1,         35,         35,2,20170926,       1235,   -32.4995,   -73.1964,       3813,    20.0,  13.3813,  34.2136,2,  34.2119,2, 259.1117,2, 258.4984,2,     1.0,2,    6.62,2,    0.19,2,    0.82,2,-999.000,9,-999.000,9,-999.0000,9,  2076.7,2,  2272.8,2,   7.8592,2,    25.00, -999.00,9, -999.00,9, -999.00,    56.8,2,   11.10,2,     -999.0,1,  -999.0,9, 20170926,     1414, -32.4995, -73.1965,        0.0,1,      0.056,1,      4.520,1,      0.070,1,     -999.0,9,     -999.0,9,     -999.0,9,     -999.0,9,     -999.0,9,     -999.0,9,     -999.0,9,     -999.0,9,     -999.0,9,     -999.0,9,     -999.0,9,    13.3823,2,     -999.0,     -999.0,9,     -999.0
320620170820,        P06,     236,          1,         36,         36,2,20170926,       1235,   -32.4995,   -73.1964,       3813,     5.5,  13.3843,  34.2138,2,  34.2132,2, 259.1117,2, 259.9279,2,     1.0,2,    6.61,2,    0.19,2,    0.81,2,   2.887,2,   1.638,2,   1.1180,4,  2076.7,6,  2272.0,2,   7.8601,2,    25.00,    1.10,2,   11.16,2,    4.38,    57.1,2,   10.10,2,     -999.0,1,  -999.0,9, 20170926,     1415, -32.4995, -73.1964,        0.0,1,      0.057,1,      4.519,1,      0.071,1,     -999.0,9,     -999.0,9,     -999.0,9,     -999.0,9,     -999.0,9,     -999.0,9,     -999.0,9,     -999.0,9,     -999.0,9,     -999.0,9,     -999.0,9,    13.3679,2,     -999.0,     -999.0,9,     -999.0