BOTTLE,20240211CCHSIOCBG
EXPOCODE,SECT_ID,STNNBR,CASTNO,SAMPNO,BTLNBR,BTLNBR_FLAG_W,DATE,TIME,LATITUDE,LONGITUDE,DEPTH,CTDPRS,CTDTMP,CTDSAL,CTDSAL_FLAG_W,SALNTY,SALNTY_FLAG_W,CTDOXY,CTDOXY_FLAG_W,OXYGEN,OXYGEN_FLAG_W,SILCAT,SILCAT_FLAG_W,NITRAT,NITRAT_FLAG_W,NITRIT,NITRIT_FLAG_W,PHSPHT,PHSPHT_FLAG_W,CFC-11,CFC-11_FLAG_W,CFC-12,CFC-12_FLAG_W,SF6,SF6_FLAG_W,TCARBN,TCARBN_FLAG_W,ALKALI,ALKALI_FLAG_W,PH_TOT,PH_TOT_FLAG_W,PH_TMP,DELC13,DELC13_FLAG_W,DELC14,DELC14_FLAG_W,C14ERR,DOC,DOC_FLAG_W,TDN,TDN_FLAG_W,TON,TON_FLAG_W,D15N_NO3,D15N_NO3_FLAG_W,BTL_DATE,BTL_TIME,BTL_LAT,BTL_LON,CTDRINKO,CTDRINKO_FLAG_W,CTDFLUOR,CTDFLUOR_FLAG_W,CTDXMISS,CTDXMISS_FLAG_W,CTDBACKSCATTER,CTDBACKSCATTER_FLAG_W,D18O_NO3,D18O_NO3_FLAG_W,DOP,DOP_FLAG_W,CELLCOUNT,CELLCOUNT_FLAG_W,TDP,TDP_FLAG_W,POP,POP_FLAG_W,DATP,DATP_FLAG_W,PATP,PATP_FLAG_W,HPLC,HPLC_FLAG_W,POC,POC_FLAG_W,BEAMAP,BEAMAP_FLAG_W,DOC_NASA,DOC_NASA_FLAG_W,REFTMP,REFTMP_FLAG_W,DOC_NASA_ERROR,TDN_NASA,TDN_NASA_FLAG_W,TDN_NASA_ERROR
,,,,,,,,,,,METERS,DBAR,ITS-90,PSS-78,,PSS-78,,UMOL/KG,,UMOL/KG,,UMOL/KG,,UMOL/KG,,UMOL/KG,,UMOL/KG,,PMOL/KG,,PMOL/KG,,FMOL/KG,,UMOL/KG,,UMOL/KG,,,,DEG C,/MILLE,,/MILLE,,/MILLE,UMOL/KG,,UMOL/KG,,UMOL/KG,,/MILLE,,,,,,VOLTS,,VOLTS,,VOLTS,,VOLTS,,/MILLE,,UMOL/KG,,/LITER,,UMOL/KG,,UMOL/L,,PMOL/L,,PMOL/L,,,,UG/L,,/METER,,UMOL/L,,ITS-90,,UMOL/L,UMOL/L,,UMOL/L
320620170820,        P06,     221,          1,          1,          1,2,20170921,       0823,   -32.5003,   -86.4250,       3965,  4020.6,   1.6858,  34.6951,2,  34.6934,2, 164.9127,2, 164.8188,2,   122.2,2,   34.66,2,    0.00,2,    2.41,2,   0.026,2,   0.024,2,   0.0000,4,  2305.0,6,  2400.6,2,   7.5875,2,    25.00, -999.00,9, -999.00,9, -999.00,  -999.0,9, -999.00,9,     -999.0,9,  -999.0,9, 20170921,      823, -32.5003, -86.4254,        0.0,1,      0.061,1,      4.679,1,      0.140,1,     -999.0,9,     -999.0,9,     -999.0,9,     -999.0,9,     -999.0,9,     -999.0,9,     -999.0,9,     -999.0,9,     -999.0,9,     -999.0,9,     -999.0,9,     1.6859,2,     -999.0,     -999.0,9,     -999.0
320620170820,        P06,     221,          1,          2,          2,2,20170921,       0823,   -32.5003,   -86.4250,       3965,  3784.7,   1.6620,  34.6950,2,  34.6940,2, 164.9127,2, 164.8452,2,   122.1,2,   34.67,2,    0.00,2,    2.40,2,   0.017,2,   0.017,2,   0.0000,4,  2304.2,2,  2401.4,2,   7.5898,2,    25.00, -999.00,9, -999.00,9, -999.00,  -999.0,9, -999.00,9,     -999.0,9,  -999.0,9, 20170921,      829, -32.5003, -86.4253,        0.0,1,      0.061,1,      4.682,1,      0.130,1,     -999.0,9,     -999.0,9,     -999.0,9,     -999.0,9,     -999.0,9,     -999.0,9,     -999.0,9,     -999.0,9,     -999.0,9,     -999.0,9,     -999.0,9,     1.6620,2,     -999.0,     -999.0,9,     -999.0
320620170820,        P06,     221,          1,          3,          3,2,20170921,       0823,   -32.5003,   -86.4250,       3965,  3554.5,   1.6576,  34.6942,2,  34.6936,2, 164.7762,2, 164.9805,2,   121.9,2,   34.64,2,    0.00,2,    2.42,2,   0.017,2,   0.018,2,   0.0000,4,  2304.0,2,  2398.6,2,   7.5888,2,    25.00, -999.00,9, -999.00,9, -999.00,  -999.0,9, -999.00,9,     -999.0,9,  -999.0,9, 20170921,      833, -32.5003, -86.4253,        0.0,1,      0.061,1,      4.685,1,      0.128,1,     -999.0,9,     -999.0,9,     -999.0,9,     -999.0,9,     -999.0,9,     -999.0,9,     -999.0,9,     -999.0,9,     -999.0,9,     -999.0,9,     -999.0,9,     1.6569,2,     -999.0,     -999.0,9,     -999.0
320620170820,        P06,     221,          1,          4,          4,2,20170921,       0823,   -32.5003,   -86.4250,       3965,  3247.2,   1.7241,  34.6904,2,  34.6889,2, 164.5372,2,  165.107,2,   119.6,2,   34.50,2,    0.00,2,    2.41,2,   0.022,2,   0.020,2,   0.0000,4,  2296.7,2,  2392.7,2,   7.5854,2,    25.00, -999.00,9, -999.00,9, -999.00,  -999.0,9, -999.00,9,     -999.0,9,  -999.0,9, 20170921,      839, -32.5004, -86.4252,        0.0,1,      0.061,1,      4.685,1,      0.128,1,     -999.0,9,     -999.0,9,     -999.0,9,     -999.0,9,     -999.0,9,     -999.0,9,     -999.0,9,     -999.0,9,     -999.0,9,     -999.0,9,     -999.0,9,     1.7258,2,     -999.0,     -999.0,9,     -999.0
320620170820,        P06,     221,          1,          5,          5,2,20170921,       0823,   -32.5003,   -86.4250,       3965,  2955.6,   1.7929,  34.6822,2,  34.6808,2, 161.5655,3, 160.0372,2,   119.8,2,   34.90,2,    0.00,2,    2.45,2,   0.017,2,   0.019,2,   0.0000,4,  2301.3,2,  2393.6,2,   7.5805,2,    25.00, -999.00,9, -999.00,9, -999.00,  -999.0,9, -999.00,9,     -999.0,9,  -999.0,9, 20170921,      845, -32.5006, -86.4252,        0.0,1,      0.061,1,      4.685,1,      0.131,1,     -999.0,9,     -999.0,9,     -999.0,9,     -999.0,9,     -999.0,9,     -999.0,9,     -999.0,9,     -999.0,9,     -999.0,9,     -999.0,9,     -999.0,9,     1.7956,2,     -999.0,     -999.0,9,     -999.0
320620170820,        P06,     221,          1,          6,          6,2,20170921,       0823,   -32.5003,   -86.4250,       3965,  2701.0,   1.8475,  34.6749,2,  34.6739,2, 157.3536,2, 158.1891,2,   118.4,2,   35.00,2,    0.00,2,    2.44,2,   0.017,2,   0.016,2,   0.0000,4,  2300.6,2,  2393.7,2,   7.5759,2,    25.00, -999.00,9, -999.00,9, -999.00,  -999.0,9, -999.00,9,     -999.0,9,  -999.0,9, 20170921,      850, -32.5003, -86.4253,        0.0,1,      0.061,1,      4.685,1,      0.132,1,     -999.0,9,     -999.0,9,     -999.0,9,     -999.0,9,     -999.0,9,     -999.0,9,     -999.0,9,     -999.0,9,     -999.0,9,     -999.0,9,     -999.0,9,     1.8518,2,     -999.0,     -999.0,9,     -999.0
320620170820,        P06,     221,          1,          7,          7,2,20170921,       0823,   -32.5003,   -86.4250,       3965,  2447.0,   1.9329,  34.6630,2,  34.6631,2, 152.7768,2, 152.5646,2,   118.3,2,   35.48,2,    0.00,2,    2.50,2,   0.012,2,   0.011,2,   0.0000,4,  2302.9,2,  2392.6,2,   7.5693,2,    25.00, -999.00,9, -999.00,9, -999.00,  -999.0,9, -999.00,9,     -999.0,9,  -999.0,9, 20170921,      855, -32.5000, -86.4254,        0.0,1,      0.061,1,      4.685,1,      0.144,1,     -999.0,9,     -999.0,9,     -999.0,9,     -999.0,9,     -999.0,9,     -999.0,9,     -999.0,9,     -999.0,9,     -999.0,9,     -999.0,9,     -999.0,9,     1.9261,2,     -999.0,     -999.0,9,     -999.0
320620170820,        P06,     221,          1,          8,          8,2,20170921,       0823,   -32.5003,   -86.4250,       3965,  2192.0,   2.0626,  34.6483,2,  34.6458,2,  147.574,2, 147.4669,2,   114.8,2,   35.92,2,    0.00,2,    2.53,2,   0.018,2,   0.017,2,   0.0000,4,  2302.8,2,  2389.7,6,   7.5593,2,    25.00, -999.00,9, -999.00,9, -999.00,  -999.0,9, -999.00,9,     -999.0,9,  -999.0,9, 20170921,      900, -32.5000, -86.4257,        0.0,1,      0.061,1,      4.684,1,      0.134,1,     -999.0,9,     -999.0,9,     -999.0,9,     -999.0,9,     -999.0,9,     -999.0,9,     -999.0,9,     -999.0,9,     -999.0,9,     -999.0,9,     -999.0,9,     2.0690,2,     -999.0,     -999.0,9,     -999.0
320620170820,        P06,     221,          1,          9,          9,2,20170921,       0823,   -32.5003,   -86.4250,       3965,  1958.2,   2.2812,  34.6263,2,  34.6258,2, 140.8177,2, 141.7711,2,   110.0,2,   36.42,2,    0.00,2,    2.57,2,   0.016,2,   0.018,2,   0.0000,4,  2302.6,2,  2383.2,2,   7.5489,6,    25.00, -999.00,9, -999.00,9, -999.00,  -999.0,9, -999.00,9,     -999.0,9,  -999.0,9, 20170921,      905, -32.5000, -86.4256,        0.0,1,      0.062,1,      4.685,1,      0.134,1,     -999.0,9,     -999.0,9,     -999.0,9,     -999.0,9,     -999.0,9,     -999.0,9,     -999.0,9,     -999.0,9,     -999.0,9,     -999.0,9,     -999.0,9,     2.2727,2,     -999.0,     -999.0,9,     -999.0
320620170820,        P06,     221,          1,         10,         10,2,20170921,       0823,   -32.5003,   -86.4250,       3965,  1783.8,   2.4898,  34.6084,2,  34.6077,2, 132.7294,2, 132.8644,2,   106.2,2,   37.15,2,    0.00,2,    2.64,2,   0.018,2,   0.016,2,   0.0000,4,  2303.3,2,  2379.8,2,   7.5327,2,    25.00, -999.00,9, -999.00,9, -999.00,  -999.0,9, -999.00,9,     -999.0,9,  -999.0,9, 20170921,      909, -32.5000, -86.4255,        0.0,1,      0.061,1,      4.685,1,      0.134,1,     -999.0,9,     -999.0,9,     -999.0,9,     -999.0,9,     -999.0,9,     -999.0,9,     -999.0,9,     -999.0,9,     -999.0,9,     -999.0,9,     -999.0,9,     2.4832,2,     -999.0,     -999.0,9,     -999.0
320620170820,        P06,     221,          1,         11,         11,2,20170921,       0823,   -32.5003,   -86.4250,       3965,  1683.9,   2.6127,  34.5980,2,  34.5967,2, 128.6119,2, 128.5591,2,   103.1,2,   37.52,2,    0.00,2,    2.66,2,-999.000,9,-999.000,9,-999.0000,9,  2301.6,2,  2375.6,2,   7.5268,2,    25.00, -999.00,9, -999.00,9, -999.00,  -999.0,9, -999.00,9,     -999.0,9,  -999.0,9, 20170921,      911, -32.5000, -86.4254,        0.0,1,      0.062,1,      4.685,1,      0.138,1,     -999.0,9,     -999.0,9,     -999.0,9,     -999.0,9,     -999.0,9,     -999.0,9,     -999.0,9,     -999.0,9,     -999.0,9,     -999.0,9,     -999.0,9,     2.6105,2,     -999.0,     -999.0,9,     -999.0
320620170820,        P06,     221,          1,         12,         12,2,20170921,       0823,   -32.5003,   -86.4250,       3965,  1580.9,   2.7418,  34.5863,2,  34.5859,2, 124.4505,2, 124.1722,2,    99.9,2,   37.92,2,    0.00,2,    2.70,2,   0.015,2,   0.015,2,   0.0000,4,  2301.7,2,  2371.7,2,   7.5175,2,    25.00, -999.00,9, -999.00,9, -999.00,  -999.0,9, -999.00,9,     -999.0,9,  -999.0,9, 20170921,      914, -32.5001, -86.4253,        0.0,1,      0.062,1,      4.684,1,      0.133,1,     -999.0,9,     -999.0,9,     -999.0,9,     -999.0,9,     -999.0,9,     -999.0,9,     -999.0,9,     -999.0,9,     -999.0,9,     -999.0,9,     -999.0,9,     2.7424,2,     -999.0,     -999.0,9,     -999.0
320620170820,        P06,     221,          1,         13,         13,2,20170921,       0823,   -32.5003,   -86.4250,       3965,  1480.1,   2.8896,  34.5737,2,  34.5714,2, 120.1995,2,  120.385,2,    96.1,2,   38.27,2,    0.00,2,    2.71,2,-999.000,9,-999.000,9,-999.0000,9,  2302.8,2,  2365.8,2,   7.5097,2,    25.00, -999.00,9, -999.00,9, -999.00,  -999.0,9, -999.00,9,     -999.0,9,  -999.0,9, 20170921,      916, -32.5001, -86.4252,        0.0,1,      0.061,1,      4.684,1,      0.134,1,     -999.0,9,     -999.0,9,     -999.0,9,     -999.0,9,     -999.0,9,     -999.0,9,     -999.0,9,     -999.0,9,     -999.0,9,     -999.0,9,     -999.0,9,     2.8941,2,     -999.0,     -999.0,9,     -999.0
320620170820,        P06,     221,          1,         14,         14,2,20170921,       0823,   -32.5003,   -86.4250,       3965,  1378.0,   3.0770,  34.5570,2,  34.5569,2,  116.744,2, 116.1832,2,    92.0,2,   38.60,2,    0.00,2,    2.74,2,   0.017,2,   0.014,2,   0.0000,4,  2297.3,2,  2358.3,2,   7.5024,2,    25.00, -999.00,9, -999.00,9, -999.00,  -999.0,9, -999.00,9,     -999.0,9,  -999.0,9, 20170921,      919, -32.5002, -86.4251,        0.0,1,      0.063,1,      4.684,1,      0.137,1,     -999.0,9,     -999.0,9,     -999.0,9,     -999.0,9,     -999.0,9,     -999.0,9,     -999.0,9,     -999.0,9,     -999.0,9,     -999.0,9,     -999.0,9,     3.0646,2,     -999.0,     -999.0,9,     -999.0
320620170820,        P06,     221,          1,         15,         15,2,20170921,       0823,   -32.5003,   -86.4250,       3965,  1278.0,   3.2555,  34.5333,2,  34.5337,2, 114.5308,2, 114.7657,2,    85.4,2,   38.84,2,    0.00,2,    2.74,2,   0.022,2,   0.022,2,   0.0000,4,  2294.9,6,  2352.5,2,   7.4949,2,    25.00, -999.00,9, -999.00,9, -999.00,  -999.0,9, -999.00,9,     -999.0,9,  -999.0,9, 20170921,      922, -32.5002, -86.4251,        0.0,1,      0.062,1,      4.684,1,      0.138,1,     -999.0,9,     -999.0,9,     -999.0,9,     -999.0,9,     -999.0,9,     -999.0,9,     -999.0,9,     -999.0,9,     -999.0,9,     -999.0,9,     -999.0,9,     3.2356,2,     -999.0,     -999.0,9,     -999.0
320620170820,        P06,     221,          1,         16,         16,2,20170921,       0823,   -32.5003,   -86.4250,       3965,  1175.7,   3.4133,  34.4966,2,  34.4962,2, 117.0182,2, 116.8164,2,    75.8,2,   38.76,2,    0.00,2,    2.72,2,   0.040,2,   0.027,2,   0.0000,4,  2284.0,2,  2342.1,2,   7.4915,2,    25.00, -999.00,9, -999.00,9, -999.00,  -999.0,9, -999.00,9,     -999.0,9,  -999.0,9, 20170921,      924, -32.5002, -86.4251,        0.0,1,      0.063,1,      4.683,1,      0.138,1,     -999.0,9,     -999.0,9,     -999.0,9,     -999.0,9,     -999.0,9,     -999.0,9,     -999.0,9,     -999.0,9,     -999.0,9,     -999.0,9,     -999.0,9,     3.4089,2,     -999.0,     -999.0,9,     -999.0
320620170820,        P06,     221,          1,         17,         17,2,20170921,       0823,   -32.5003,   -86.4250,       3965,  1074.2,   3.5671,  34.4438,2,  34.4375,2, 132.0345,2, 131.7802,2,    62.2,2,   37.79,2,    0.00,2,    2.65,2,   0.134,2,   0.069,2,   0.0000,4,  2261.6,2,  2325.7,2,   7.5054,2,    25.00, -999.00,9, -999.00,9, -999.00,  -999.0,9, -999.00,9,     -999.0,9,  -999.0,9, 20170921,      927, -32.5002, -86.4251,        0.0,1,      0.061,1,      4.683,1,      0.137,1,     -999.0,9,     -999.0,9,     -999.0,9,     -999.0,9,     -999.0,9,     -999.0,9,     -999.0,9,     -999.0,9,     -999.0,9,     -999.0,9,     -999.0,9,     3.5834,2,     -999.0,     -999.0,9,     -999.0
320620170820,        P06,     221,          1,         18,         18,2,20170921,       0823,   -32.5003,   -86.4250,       3965,   973.9,   3.8583,  34.3822,2,  34.3782,2, 152.0159,2, 151.4507,2,    48.5,2,   36.17,2,    0.00,2,    2.51,2,   0.381,2,   0.182,2,   0.0000,4,  2241.1,2,  2311.8,2,   7.5312,2,    25.00, -999.00,9, -999.00,9, -999.00,  -999.0,9, -999.00,9,     -999.0,9,  -999.0,9, 20170921,      929, -32.5002, -86.4251,        0.0,1,      0.061,1,      4.683,1,      0.138,1,     -999.0,9,     -999.0,9,     -999.0,9,     -999.0,9,     -999.0,9,     -999.0,9,     -999.0,9,     -999.0,9,     -999.0,9,     -999.0,9,     -999.0,9,     3.8696,2,     -999.0,     -999.0,9,     -999.0
320620170820,        P06,     221,          1,         19,         19,2,20170921,       0823,   -32.5003,   -86.4250,       3965,   872.1,   4.2975,  34.3275,2,  34.3260,2, 172.0518,2, 172.7569,2,    35.5,2,   34.05,2,    0.00,2,    2.35,2,   0.948,2,   0.439,2,   0.1010,4,  2218.4,2,  2296.7,2,   7.5648,2,    25.00, -999.00,9, -999.00,9, -999.00,  -999.0,9, -999.00,9,     -999.0,9,  -999.0,9, 20170921,      932, -32.5001, -86.4252,        0.0,1,      0.060,1,      4.683,1,      0.141,1,     -999.0,9,     -999.0,9,     -999.0,9,     -999.0,9,     -999.0,9,     -999.0,9,     -999.0,9,     -999.0,9,     -999.0,9,     -999.0,9,     -999.0,9,     4.2748,2,     -999.0,     -999.0,9,     -999.0
320620170820,        P06,     221,          1,         20,         20,2,20170921,       0823,   -32.5003,   -86.4250,       3965,   772.6,   4.7490,  34.2785,2,  34.2789,2, 199.5772,2, 199.1762,2,    23.5,2,   31.15,2,    0.00,2,    2.14,2,   1.894,2,   0.945,2,   0.4170,4,  2191.9,2,  2286.4,2,   7.6043,2,    25.00, -999.00,9, -999.00,9, -999.00,  -999.0,9, -999.00,9,     -999.0,9,  -999.0,9, 20170921,      935, -32.5001, -86.4252,        0.0,1,      0.060,1,      4.683,1,      0.137,1,     -999.0,9,     -999.0,9,     -999.0,9,     -999.0,9,     -999.0,9,     -999.0,9,     -999.0,9,     -999.0,9,     -999.0,9,     -999.0,9,     -999.0,9,     4.7415,2,     -999.0,     -999.0,9,     -999.0
320620170820,        P06,     221,          1,         21,         21,2,20170921,       0823,   -32.5003,   -86.4250,       3965,   670.2,   5.2712,  34.2603,2,  34.2583,2, 215.8928,2, 216.4646,2,    15.2,2,   28.76,2,    0.00,2,    1.97,2,   3.014,2,   1.409,2,   0.6400,4,  2173.7,2,  2278.1,2,   7.6329,2,    25.00, -999.00,9, -999.00,9, -999.00,  -999.0,9, -999.00,9,     -999.0,9,  -999.0,9, 20170921,      937, -32.5000, -86.4253,        0.0,1,      0.059,1,      4.683,1,      0.139,1,     -999.0,9,     -999.0,9,     -999.0,9,     -999.0,9,     -999.0,9,     -999.0,9,     -999.0,9,     -999.0,9,     -999.0,9,     -999.0,9,     -999.0,9,     5.2917,2,     -999.0,     -999.0,9,     -999.0
320620170820,        P06,     221,          1,         22,         22,2,20170921,       0823,   -32.5003,   -86.4250,       3965,   566.6,   5.7609,  34.2655,2,  34.2613,2, 223.6487,2,  224.181,2,    11.4,2,   27.12,2,    0.00,2,    1.86,2,   3.394,2,   1.700,2,   1.0000,4,  2164.3,2,  2275.4,2,   7.6458,2,    25.00, -999.00,9, -999.00,9, -999.00,  -999.0,9, -999.00,9,     -999.0,9,  -999.0,9, 20170921,      940, -32.5000, -86.4253,        0.0,1,      0.060,1,      4.681,1,      0.141,1,     -999.0,9,     -999.0,9,     -999.0,9,     -999.0,9,     -999.0,9,     -999.0,9,     -999.0,9,     -999.0,9,     -999.0,9,     -999.0,9,     -999.0,9,     5.7361,2,     -999.0,     -999.0,9,     -999.0
320620170820,        P06,     221,          1,         23,         23,2,20170921,       0823,   -32.5003,   -86.4250,       3965,   489.4,   6.2538,  34.2950,2,  34.2931,2, 197.5433,2, 196.6682,2,    11.9,2,   28.32,2,    0.00,2,    1.96,2,   3.307,2,   1.674,2,   1.0170,4,  2180.2,2,  2274.5,2,   7.6048,2,    25.00, -999.00,9, -999.00,9, -999.00,  -999.0,9, -999.00,9,     -999.0,9,  -999.0,9, 20170921,      942, -32.5000, -86.4254,        0.0,1,      0.060,1,      4.679,1,      0.143,1,     -999.0,9,     -999.0,9,     -999.0,9,     -999.0,9,     -999.0,9,     -999.0,9,     -999.0,9,     -999.0,9,     -999.0,9,     -999.0,9,     -999.0,9,     6.2803,2,     -999.0,     -999.0,9,     -999.0
320620170820,        P06,     221,          1,         24,         24,2,20170921,       0823,   -32.5003,   -86.4250,       3965,   437.9,   6.8408,  34.3256,2,  34.3176,2,  160.334,2, 160.8687,2,    13.2,2,   29.98,2,    0.00,2,    2.11,2,   3.055,2,   1.506,2,   0.9000,4,  2199.4,2,  2274.6,2,   7.5496,2,    25.00, -999.00,9, -999.00,9, -999.00,  -999.0,9, -999.00,9,     -999.0,9,  -999.0,9, 20170921,      944, -32.5000, -86.4253,        0.0,1,      0.061,1,      4.678,1,      0.142,1,     -999.0,9,     -999.0,9,     -999.0,9,     -999.0,9,     -999.0,9,     -999.0,9,     -999.0,9,     -999.0,9,     -999.0,9,     -999.0,9,     -999.0,9,     6.8275,2,     -999.0,     -999.0,9,     -999.0
320620170820,        P06,     221,          1,         25,         25,2,20170921,       0823,   -32.5003,   -86.4250,       3965,   388.0,   7.5217,  34.3417,2,  34.3344,2, 135.1596,2, 134.4856,2,    13.8,2,   30.25,2,    0.00,2,    2.21,2,   2.803,2,   1.409,2,   0.7990,4,  2211.7,2,  2273.9,2,   7.5114,2,    25.00, -999.00,9, -999.00,9, -999.00,  -999.0,9, -999.00,9,     -999.0,9,  -999.0,9, 20170921,      946, -32.5000, -86.4253,        0.0,1,      0.062,1,      4.675,1,      0.146,1,     -999.0,9,     -999.0,9,     -999.0,9,     -999.0,9,     -999.0,9,     -999.0,9,     -999.0,9,     -999.0,9,     -999.0,9,     -999.0,9,     -999.0,9,     7.4737,2,     -999.0,     -999.0,9,     -999.0
320620170820,        P06,     221,          1,         26,         26,2,20170921,       0823,   -32.5003,   -86.4250,       3965,   338.0,   8.4673,  34.3495,2,  34.3460,2, 118.9416,2, 118.1595,2,    13.8,2,   28.79,2,    0.00,2,    2.23,2,   2.644,2,   1.347,2,   1.0880,4,  2216.1,6,  2273.0,2,   7.4969,2,    25.00, -999.00,9, -999.00,9, -999.00,  -999.0,9, -999.00,9,     -999.0,9,  -999.0,9, 20170921,      948, -32.5000, -86.4253,        0.0,1,      0.063,1,      4.673,1,      0.149,1,     -999.0,9,     -999.0,9,     -999.0,9,     -999.0,9,     -999.0,9,     -999.0,9,     -999.0,9,     -999.0,9,     -999.0,9,     -999.0,9,     -999.0,9,     8.3604,2,     -999.0,     -999.0,9,     -999.0