BOTTLE,20240211CCHSIOCBG
EXPOCODE,SECT_ID,STNNBR,CASTNO,SAMPNO,BTLNBR,BTLNBR_FLAG_W,DATE,TIME,LATITUDE,LONGITUDE,DEPTH,CTDPRS,CTDTMP,CTDSAL,CTDSAL_FLAG_W,SALNTY,SALNTY_FLAG_W,CTDOXY,CTDOXY_FLAG_W,OXYGEN,OXYGEN_FLAG_W,SILCAT,SILCAT_FLAG_W,NITRAT,NITRAT_FLAG_W,NITRIT,NITRIT_FLAG_W,PHSPHT,PHSPHT_FLAG_W,CFC-11,CFC-11_FLAG_W,CFC-12,CFC-12_FLAG_W,SF6,SF6_FLAG_W,TCARBN,TCARBN_FLAG_W,ALKALI,ALKALI_FLAG_W,PH_TOT,PH_TOT_FLAG_W,PH_TMP,DELC13,DELC13_FLAG_W,DELC14,DELC14_FLAG_W,C14ERR,DOC,DOC_FLAG_W,TDN,TDN_FLAG_W,TON,TON_FLAG_W,D15N_NO3,D15N_NO3_FLAG_W,BTL_DATE,BTL_TIME,BTL_LAT,BTL_LON,CTDRINKO,CTDRINKO_FLAG_W,CTDFLUOR,CTDFLUOR_FLAG_W,CTDXMISS,CTDXMISS_FLAG_W,CTDBACKSCATTER,CTDBACKSCATTER_FLAG_W,D18O_NO3,D18O_NO3_FLAG_W,DOP,DOP_FLAG_W,CELLCOUNT,CELLCOUNT_FLAG_W,TDP,TDP_FLAG_W,POP,POP_FLAG_W,DATP,DATP_FLAG_W,PATP,PATP_FLAG_W,HPLC,HPLC_FLAG_W,POC,POC_FLAG_W,BEAMAP,BEAMAP_FLAG_W,DOC_NASA,DOC_NASA_FLAG_W,REFTMP,REFTMP_FLAG_W,DOC_NASA_ERROR,TDN_NASA,TDN_NASA_FLAG_W,TDN_NASA_ERROR
,,,,,,,,,,,METERS,DBAR,ITS-90,PSS-78,,PSS-78,,UMOL/KG,,UMOL/KG,,UMOL/KG,,UMOL/KG,,UMOL/KG,,UMOL/KG,,PMOL/KG,,PMOL/KG,,FMOL/KG,,UMOL/KG,,UMOL/KG,,,,DEG C,/MILLE,,/MILLE,,/MILLE,UMOL/KG,,UMOL/KG,,UMOL/KG,,/MILLE,,,,,,VOLTS,,VOLTS,,VOLTS,,VOLTS,,/MILLE,,UMOL/KG,,/LITER,,UMOL/KG,,UMOL/L,,PMOL/L,,PMOL/L,,,,UG/L,,/METER,,UMOL/L,,ITS-90,,UMOL/L,UMOL/L,,UMOL/L
320620170820,        P06,     186,          1,         27,         27,4,20170910,       1025,   -32.5003,  -113.9154,       2975,   226.7,  12.7287,  34.5896,3,-999.0000,9, 216.5472,2,-999.0000,9,  -999.0,9, -999.00,9, -999.00,9, -999.00,9,-999.000,9,-999.000,9,-999.0000,9,  -999.0,9,  -999.0,9,-999.0000,9,  -999.00, -999.00,9, -999.00,9, -999.00,  -999.0,9, -999.00,9,     -999.0,9,  -999.0,9, 20170910,     1144, -32.5003,-113.9155,        0.0,1,      0.066,1,      4.679,1,      0.134,1,     -999.0,9,     -999.0,9,     -999.0,9,     -999.0,9,     -999.0,9,     -999.0,9,     -999.0,9,     -999.0,9,     -999.0,9,     -999.0,9,     -999.0,9,    12.7589,3,     -999.0,     -999.0,9,     -999.0
320620170820,        P06,     186,          1,         28,         28,2,20170910,       1025,   -32.5003,  -113.9154,       2975,   202.0,  13.4507,  34.6483,2,  34.6504,2, 226.8126,2, 226.3583,2,     0.1,2,    5.25,2,    0.03,2,    0.45,2,   2.642,2,   1.571,2,   1.5320,2,  2086.3,2,  2283.3,2,   7.8573,2,    25.00, -999.00,9, -999.00,9, -999.00,    50.0,2,    8.20,2,     -999.0,1,  -999.0,1, 20170910,     1146, -32.5003,-113.9155,        0.0,1,      0.072,1,      4.676,1,      0.134,1,     -999.0,1,     -999.0,1,     -999.0,9,     -999.0,9,     -999.0,9,     -999.0,9,     -999.0,9,     -999.0,9,     -999.0,9,     -999.0,9,     -999.0,9,    13.4482,2,     -999.0,     -999.0,9,     -999.0
320620170820,        P06,     186,          1,         29,         29,2,20170910,       1025,   -32.5003,  -113.9154,       2975,   175.9,  14.0711,  34.6548,2,  34.6877,2, 236.1416,2, 234.7928,2,     0.0,2,    2.22,2,    0.41,2,    0.30,2,   2.543,2,   1.529,2,   1.6430,2,  2073.8,2,  2285.0,2,   7.8883,2,    25.00, -999.00,9, -999.00,9, -999.00,    51.0,2,    6.50,2,     -999.0,1,  -999.0,1, 20170910,     1148, -32.5002,-113.9156,        0.0,1,      0.102,1,      4.669,1,      0.142,1,     -999.0,1,     -999.0,1,     -999.0,9,     -999.0,9,     -999.0,9,     -999.0,9,     -999.0,9,     -999.0,9,     -999.0,9,     -999.0,9,     -999.0,9,    14.4010,2,     -999.0,     -999.0,9,     -999.0
320620170820,        P06,     186,          1,         30,         30,2,20170910,       1025,   -32.5003,  -113.9154,       2975,   150.1,  15.0889,  34.7688,2,  34.8066,2, 240.0442,2, 239.6057,2,     0.0,2,    0.27,2,    0.15,2,    0.17,2,   2.341,2,   1.441,2,   1.6120,2,  2060.4,2,  2291.1,2,   7.9266,2,    25.00, -999.00,9, -999.00,9, -999.00,    55.6,2,    4.20,2,     -999.0,1,  -999.0,1, 20170910,     1150, -32.5001,-113.9157,        0.0,1,      0.150,1,      4.656,1,      0.154,1,     -999.0,1,     -999.0,1,     -999.0,9,     -999.0,9,     -999.0,9,     -999.0,9,     -999.0,9,     -999.0,9,     -999.0,9,     -999.0,9,     -999.0,9,    15.8597,2,     -999.0,     -999.0,9,     -999.0
320620170820,        P06,     186,          1,         31,         31,2,20170910,       1025,   -32.5003,  -113.9154,       2975,   125.1,  16.7441,  34.8670,2,  34.8896,2, 239.1863,2, 240.1278,2,     0.0,2,    0.00,2,    0.00,2,    0.09,2,   2.175,2,   1.349,2,   1.5930,2,  2048.5,2,  2296.4,6,   7.9549,2,    25.00, -999.00,9, -999.00,9, -999.00,    60.5,2,    3.80,2,     -999.0,1,  -999.0,1, 20170910,     1151, -32.5000,-113.9158,        0.0,1,      0.185,1,      4.640,1,      0.171,1,     -999.0,1,     -999.0,1,     -999.0,9,     -999.0,9,     -999.0,9,     -999.0,9,     -999.0,9,     -999.0,9,     -999.0,9,     -999.0,9,     -999.0,9,    16.8941,2,     -999.0,     -999.0,9,     -999.0
320620170820,        P06,     186,          1,         32,         32,2,20170910,       1025,   -32.5003,  -113.9154,       2975,   102.1,  16.9100,  34.8878,2,  34.8888,2, 239.9078,2, 240.4218,2,     0.0,2,    0.00,2,    0.00,2,    0.08,2,   2.165,2,   1.333,2,   1.5520,2,  2045.4,2,  2295.0,2,   7.9565,6,    25.00, -999.00,9, -999.00,9, -999.00,    60.8,2,    4.40,2,     -999.0,1,  -999.0,1, 20170910,     1153, -32.5000,-113.9157,        0.0,1,      0.146,1,      4.636,1,      0.179,1,     -999.0,1,     -999.0,1,     -999.0,9,     -999.0,9,     -999.0,9,     -999.0,9,     -999.0,9,     -999.0,9,     -999.0,9,     -999.0,9,     -999.0,9,    16.9209,2,     -999.0,     -999.0,9,     -999.0
320620170820,        P06,     186,          1,         33,         33,2,20170910,       1025,   -32.5003,  -113.9154,       2975,    75.0,  16.8710,  34.8667,2,  34.8833,2, 240.5676,2, 241.2388,2,     0.0,2,    0.00,2,    0.00,2,    0.08,2,   2.244,2,   1.342,2,   1.6440,2,  2046.5,2,  2295.2,2,   7.9577,2,    25.00, -999.00,9, -999.00,9, -999.00,    60.1,2,    3.60,2,     -999.0,1,  -999.0,1, 20170910,     1155, -32.5001,-113.9156,        0.0,1,      0.121,1,      4.632,1,      0.181,1,     -999.0,1,     -999.0,1,     -999.0,9,     -999.0,9,     -999.0,9,     -999.0,9,     -999.0,9,     -999.0,9,     -999.0,9,     -999.0,9,     -999.0,9,    16.9349,2,     -999.0,     -999.0,9,     -999.0
320620170820,        P06,     186,          1,         34,         34,2,20170910,       1025,   -32.5003,  -113.9154,       2975,    51.2,  16.9977,  34.8765,2,  34.8690,2,  240.945,2, 242.0564,2,     0.0,2,    0.00,2,    0.00,2,    0.10,2,   2.235,2,   1.341,2,   1.5790,2,  2046.5,2,  2294.6,2,   7.9568,2,    25.00, -999.00,9, -999.00,9, -999.00,    60.6,2,    3.70,2,     -999.0,1,  -999.0,1, 20170910,     1157, -32.5002,-113.9155,        0.0,1,      0.086,1,      4.635,1,      0.177,1,     -999.0,1,     -999.0,1,     -999.0,9,     -999.0,9,     -999.0,9,     -999.0,9,     -999.0,9,     -999.0,9,     -999.0,9,     -999.0,9,     -999.0,9,    17.0628,2,     -999.0,     -999.0,9,     -999.0
320620170820,        P06,     186,          1,         35,         35,2,20170910,       1025,   -32.5003,  -113.9154,       2975,    25.2,  17.1692,  34.8557,2,  34.8576,2, 241.2018,2,  242.368,2,     0.0,2,    0.00,2,    0.00,2,    0.08,2,   2.248,2,   1.347,2,   1.5790,2,  2046.4,2,  2293.0,2,   7.9541,2,    25.00, -999.00,9, -999.00,9, -999.00,    61.7,2,    4.00,2,     -999.0,1,  -999.0,1, 20170910,     1158, -32.5003,-113.9154,        0.0,1,      0.074,1,      4.642,1,      0.166,1,     -999.0,1,     -999.0,1,     -999.0,9,     -999.0,9,     -999.0,9,     -999.0,9,     -999.0,9,     -999.0,9,     -999.0,9,     -999.0,9,     -999.0,9,    17.1613,2,     -999.0,     -999.0,9,     -999.0
320620170820,        P06,     186,          1,         36,         36,2,20170910,       1025,   -32.5003,  -113.9154,       2975,     7.3,  17.1686,  34.8561,2,  34.8576,2, 241.1637,2,  242.347,2,     0.0,2,    0.00,2,    0.00,2,    0.10,2,   2.258,2,   1.346,2,   1.5830,2,  2047.7,6,  2295.6,2,   7.9532,2,    25.00,    0.78,2,   41.21,2,    4.29,    60.5,2,    4.10,2,     -999.0,1,  -999.0,1, 20170910,     1200, -32.5003,-113.9154,        0.0,1,      0.076,1,      4.620,1,      0.163,1,     -999.0,1,     -999.0,1,     -999.0,9,     -999.0,9,     -999.0,9,     -999.0,9,     -999.0,9,     -999.0,9,     -999.0,9,     -999.0,9,     -999.0,9,    17.1651,2,     -999.0,     -999.0,9,     -999.0