BOTTLE,20240211CCHSIOCBG
EXPOCODE,SECT_ID,STNNBR,CASTNO,SAMPNO,BTLNBR,BTLNBR_FLAG_W,DATE,TIME,LATITUDE,LONGITUDE,DEPTH,CTDPRS,CTDTMP,CTDSAL,CTDSAL_FLAG_W,SALNTY,SALNTY_FLAG_W,CTDOXY,CTDOXY_FLAG_W,OXYGEN,OXYGEN_FLAG_W,SILCAT,SILCAT_FLAG_W,NITRAT,NITRAT_FLAG_W,NITRIT,NITRIT_FLAG_W,PHSPHT,PHSPHT_FLAG_W,CFC-11,CFC-11_FLAG_W,CFC-12,CFC-12_FLAG_W,SF6,SF6_FLAG_W,TCARBN,TCARBN_FLAG_W,ALKALI,ALKALI_FLAG_W,PH_TOT,PH_TOT_FLAG_W,PH_TMP,DELC13,DELC13_FLAG_W,DELC14,DELC14_FLAG_W,C14ERR,DOC,DOC_FLAG_W,TDN,TDN_FLAG_W,TON,TON_FLAG_W,D15N_NO3,D15N_NO3_FLAG_W,BTL_DATE,BTL_TIME,BTL_LAT,BTL_LON,CTDRINKO,CTDRINKO_FLAG_W,CTDFLUOR,CTDFLUOR_FLAG_W,CTDXMISS,CTDXMISS_FLAG_W,CTDBACKSCATTER,CTDBACKSCATTER_FLAG_W,D18O_NO3,D18O_NO3_FLAG_W,DOP,DOP_FLAG_W,CELLCOUNT,CELLCOUNT_FLAG_W,TDP,TDP_FLAG_W,POP,POP_FLAG_W,DATP,DATP_FLAG_W,PATP,PATP_FLAG_W,HPLC,HPLC_FLAG_W,POC,POC_FLAG_W,BEAMAP,BEAMAP_FLAG_W,DOC_NASA,DOC_NASA_FLAG_W,REFTMP,REFTMP_FLAG_W,DOC_NASA_ERROR,TDN_NASA,TDN_NASA_FLAG_W,TDN_NASA_ERROR
,,,,,,,,,,,METERS,DBAR,ITS-90,PSS-78,,PSS-78,,UMOL/KG,,UMOL/KG,,UMOL/KG,,UMOL/KG,,UMOL/KG,,UMOL/KG,,PMOL/KG,,PMOL/KG,,FMOL/KG,,UMOL/KG,,UMOL/KG,,,,DEG C,/MILLE,,/MILLE,,/MILLE,UMOL/KG,,UMOL/KG,,UMOL/KG,,/MILLE,,,,,,VOLTS,,VOLTS,,VOLTS,,VOLTS,,/MILLE,,UMOL/KG,,/LITER,,UMOL/KG,,UMOL/L,,PMOL/L,,PMOL/L,,,,UG/L,,/METER,,UMOL/L,,ITS-90,,UMOL/L,UMOL/L,,UMOL/L
320620170820,        P06,     171,          1,          1,          1,2,20170905,       1514,   -32.5010,  -125.8766,       4272,  4336.7,   1.6852,  34.6837,2,  34.6869,3, 171.7617,2, 172.2861,2,   122.2,2,   34.26,2,    0.00,2,    2.37,2,   0.029,2,   0.016,2,   0.0000,2,  2296.0,6,  2391.1,2,   7.5968,2,    25.00, -999.00,9, -999.00,9, -999.00,  -999.0,9, -999.00,9,     -999.0,9,  -999.0,1, 20170905,     1514, -32.5010,-125.8764,        0.0,1,      0.061,1,      4.691,1,      0.124,1,     -999.0,1,     -999.0,9,     -999.0,9,     -999.0,9,     -999.0,9,     -999.0,9,     -999.0,9,     -999.0,9,     -999.0,9,     -999.0,9,     -999.0,9,     1.6857,2,     -999.0,     -999.0,9,     -999.0
320620170820,        P06,     171,          1,          2,          2,2,20170905,       1514,   -32.5010,  -125.8766,       4272,  4147.4,   1.6636,  34.6839,2,  34.6838,2, 171.7617,2, 172.2896,2,   122.2,2,   34.27,2,    0.00,2,    2.36,2,   0.035,2,   0.019,2,   0.0000,2,  -999.0,9,  -999.0,9,-999.0000,9,  -999.00, -999.00,9, -999.00,9, -999.00,  -999.0,9, -999.00,9,     -999.0,9,  -999.0,1, 20170905,     1518, -32.5006,-125.8764,        0.0,1,      0.061,1,      4.691,1,      0.124,1,     -999.0,1,     -999.0,9,     -999.0,9,     -999.0,9,     -999.0,9,     -999.0,9,     -999.0,9,     -999.0,9,     -999.0,9,     -999.0,9,     -999.0,9,     1.6641,2,     -999.0,     -999.0,9,     -999.0
320620170820,        P06,     171,          1,          3,          3,2,20170905,       1514,   -32.5010,  -125.8766,       4272,  3964.8,   1.6444,  34.6840,2,  34.6838,2, 171.7617,2, 172.1759,2,   122.1,2,   34.27,2,    0.00,2,    2.37,2,   0.035,2,   0.023,2,   0.0000,2,  2295.4,2,  2391.5,2,   7.5955,2,    25.00, -999.00,9, -999.00,9, -999.00,  -999.0,9, -999.00,9,     -999.0,9,  -999.0,1, 20170905,     1522, -32.5005,-125.8763,        0.0,1,      0.061,1,      4.692,1,      0.125,1,     -999.0,1,     -999.0,9,     -999.0,9,     -999.0,9,     -999.0,9,     -999.0,9,     -999.0,9,     -999.0,9,     -999.0,9,     -999.0,9,     -999.0,9,     1.6445,2,     -999.0,     -999.0,9,     -999.0
320620170820,        P06,     171,          1,          4,          4,2,20170905,       1514,   -32.5010,  -125.8766,       4272,  3659.1,   1.6218,  34.6832,2,  34.6826,2, 171.7617,2, 171.5874,2,   122.4,2,   34.30,2,    0.00,2,    2.37,2,   0.034,2,   0.024,2,   0.0000,2,  -999.0,9,  -999.0,9,-999.0000,9,  -999.00, -999.00,9, -999.00,9, -999.00,  -999.0,9, -999.00,9,     -999.0,9,  -999.0,1, 20170905,     1529, -32.5008,-125.8764,        0.0,1,      0.061,1,      4.692,1,      0.125,1,     -999.0,1,     -999.0,9,     -999.0,9,     -999.0,9,     -999.0,9,     -999.0,9,     -999.0,9,     -999.0,9,     -999.0,9,     -999.0,9,     -999.0,9,     1.6220,2,     -999.0,     -999.0,9,     -999.0
320620170820,        P06,     171,          1,          5,          5,2,20170905,       1514,   -32.5010,  -125.8766,       4272,  3348.7,   1.6241,  34.6810,2,  34.6804,2, 171.4391,3, 170.3041,2,   122.5,2,   34.38,2,    0.00,2,    2.39,2,   0.036,2,   0.022,2,   0.0000,2,  2296.7,2,  2391.2,2,   7.5931,2,    25.00, -999.00,9, -999.00,9, -999.00,  -999.0,9, -999.00,9,     -999.0,9,  -999.0,1, 20170905,     1535, -32.5004,-125.8763,        0.0,1,      0.061,1,      4.692,1,      0.126,1,     -999.0,1,     -999.0,9,     -999.0,9,     -999.0,9,     -999.0,9,     -999.0,9,     -999.0,9,     -999.0,9,     -999.0,9,     -999.0,9,     -999.0,9,     1.6231,2,     -999.0,     -999.0,9,     -999.0
320620170820,        P06,     171,          1,          6,          6,2,20170905,       1514,   -32.5010,  -125.8766,       4272,  3043.2,   1.6619,  34.6764,2,  34.6808,2,  167.324,2, 167.1286,2,   122.4,2,   34.57,2,    0.00,2,    2.38,2,   0.037,2,   0.026,2,   0.0000,2,  -999.0,9,  -999.0,9,-999.0000,9,  -999.00, -999.00,9, -999.00,9, -999.00,  -999.0,9, -999.00,9,     -999.0,9,  -999.0,1, 20170905,     1542, -32.5007,-125.8764,        0.0,1,      0.061,1,      4.693,1,      0.124,1,     -999.0,1,     -999.0,9,     -999.0,9,     -999.0,9,     -999.0,9,     -999.0,9,     -999.0,9,     -999.0,9,     -999.0,9,     -999.0,9,     -999.0,9,     1.6592,2,     -999.0,     -999.0,9,     -999.0
320620170820,        P06,     171,          1,          7,          7,2,20170905,       1514,   -32.5010,  -125.8766,       4272,  2789.3,   1.7192,  34.6711,2,  34.6714,2, 164.4888,2, 164.3319,2,   121.7,2,   34.73,2,    0.00,2,    2.40,2,   0.032,2,   0.022,2,   0.0000,2,  2299.2,2,  2392.3,2,   7.5861,2,    25.00, -999.00,9, -999.00,9, -999.00,  -999.0,9, -999.00,9,     -999.0,9,  -999.0,1, 20170905,     1547, -32.5008,-125.8764,        0.0,1,      0.061,1,      4.694,1,      0.127,1,     -999.0,1,     -999.0,9,     -999.0,9,     -999.0,9,     -999.0,9,     -999.0,9,     -999.0,9,     -999.0,9,     -999.0,9,     -999.0,9,     -999.0,9,     1.7070,2,     -999.0,     -999.0,9,     -999.0
320620170820,        P06,     171,          1,          8,          8,2,20170905,       1514,   -32.5010,  -125.8766,       4272,  2534.6,   1.7978,  34.6642,2,  34.6641,2, 160.9379,2, 160.8522,2,   120.4,2,   34.92,2,    0.00,2,    2.41,2,   0.043,2,   0.030,2,   0.0000,2,  -999.0,9,  -999.0,9,-999.0000,9,  -999.00, -999.00,9, -999.00,9, -999.00,  -999.0,9, -999.00,9,     -999.0,9,  -999.0,1, 20170905,     1553, -32.5007,-125.8764,        0.0,1,      0.061,1,      4.694,1,      0.127,1,     -999.0,1,     -999.0,9,     -999.0,9,     -999.0,9,     -999.0,9,     -999.0,9,     -999.0,9,     -999.0,9,     -999.0,9,     -999.0,9,     -999.0,9,     1.7894,2,     -999.0,     -999.0,9,     -999.0
320620170820,        P06,     171,          1,          9,          9,2,20170905,       1514,   -32.5010,  -125.8766,       4272,  2277.4,   1.9029,  34.6556,2,  34.6551,2, 158.0553,2, 157.9438,2,   117.5,2,   35.07,2,    0.00,2,    2.42,2,   0.042,2,   0.027,2,   0.0000,2,  2299.6,2,  2389.3,6,   7.5771,2,    25.00, -999.00,9, -999.00,9, -999.00,  -999.0,9, -999.00,9,     -999.0,9,  -999.0,1, 20170905,     1558, -32.5006,-125.8764,        0.0,1,      0.061,1,      4.694,1,      0.128,1,     -999.0,1,     -999.0,9,     -999.0,9,     -999.0,9,     -999.0,9,     -999.0,9,     -999.0,9,     -999.0,9,     -999.0,9,     -999.0,9,     -999.0,9,     1.8982,2,     -999.0,     -999.0,9,     -999.0
320620170820,        P06,     171,          1,         10,         10,2,20170905,       1514,   -32.5010,  -125.8766,       4272,  2024.2,   2.0750,  34.6397,2,  34.6388,2, 156.1522,2, 156.1719,2,   111.0,2,   35.08,2,    0.00,2,    2.42,2,   0.039,2,   0.026,2,   0.0000,2,  -999.0,9,  -999.0,9,-999.0000,9,  -999.00, -999.00,9, -999.00,9, -999.00,  -999.0,9, -999.00,9,     -999.0,9,  -999.0,1, 20170905,     1604, -32.5008,-125.8765,        0.0,1,      0.061,1,      4.694,1,      0.128,1,     -999.0,1,     -999.0,9,     -999.0,9,     -999.0,9,     -999.0,9,     -999.0,9,     -999.0,9,     -999.0,9,     -999.0,9,     -999.0,9,     -999.0,9,     2.0729,2,     -999.0,     -999.0,9,     -999.0
320620170820,        P06,     171,          1,         11,         11,2,20170905,       1514,   -32.5010,  -125.8766,       4272,  1816.7,   2.2585,  34.6160,2,  34.6156,2, 157.3119,2, 157.6005,2,   101.8,2,   34.95,2,    0.00,2,    2.41,2,   0.050,2,   0.032,2,   0.0000,2,  2286.2,6,  2371.7,2,   7.5699,6,    25.00, -999.00,9, -999.00,9, -999.00,  -999.0,9, -999.00,9,     -999.0,9,  -999.0,1, 20170905,     1608, -32.5010,-125.8765,        0.0,1,      0.061,1,      4.694,1,      0.130,1,     -999.0,1,     -999.0,9,     -999.0,9,     -999.0,9,     -999.0,9,     -999.0,9,     -999.0,9,     -999.0,9,     -999.0,9,     -999.0,9,     -999.0,9,     2.2559,2,     -999.0,     -999.0,9,     -999.0
320620170820,        P06,     171,          1,         12,         12,2,20170905,       1514,   -32.5010,  -125.8766,       4272,  1617.3,   2.4911,  34.5747,2,  34.5743,2, 160.9254,2, 161.1959,2,    88.6,2,   34.78,2,    0.00,2,    2.41,2,   0.092,2,   0.060,2,   0.0000,2,  -999.0,9,  -999.0,9,-999.0000,9,  -999.00, -999.00,9, -999.00,9, -999.00,  -999.0,9, -999.00,9,     -999.0,9,  -999.0,1, 20170905,     1613, -32.5009,-125.8765,        0.0,1,      0.061,1,      4.694,1,      0.129,1,     -999.0,1,     -999.0,9,     -999.0,9,     -999.0,9,     -999.0,9,     -999.0,9,     -999.0,9,     -999.0,9,     -999.0,9,     -999.0,9,     -999.0,9,     2.4865,2,     -999.0,     -999.0,9,     -999.0
320620170820,        P06,     171,          1,         13,         13,2,20170905,       1514,   -32.5010,  -125.8766,       4272,  1517.0,   2.6919,  34.5335,2,  34.5300,2, 165.3218,2, 165.3268,2,    77.5,2,   34.63,2,    0.00,2,    2.39,2,   0.138,2,   0.085,2,   0.0000,2,  2258.2,2,  2343.5,2,   7.5662,2,    25.00, -999.00,9, -999.00,9, -999.00,  -999.0,9, -999.00,9,     -999.0,9,  -999.0,1, 20170905,     1615, -32.5007,-125.8765,        0.0,1,      0.061,1,      4.694,1,      0.128,1,     -999.0,1,     -999.0,9,     -999.0,9,     -999.0,9,     -999.0,9,     -999.0,9,     -999.0,9,     -999.0,9,     -999.0,9,     -999.0,9,     -999.0,9,     2.7070,2,     -999.0,     -999.0,9,     -999.0
320620170820,        P06,     171,          1,         14,         14,2,20170905,       1514,   -32.5010,  -125.8766,       4272,  1415.2,   2.8879,  34.4919,2,  34.4869,2, 169.7706,2, 169.3518,2,    68.6,2,   34.47,2,    0.00,2,    2.35,2,   0.236,2,   0.137,2,   0.0000,2,  -999.0,9,  -999.0,9,-999.0000,9,  -999.00, -999.00,9, -999.00,9, -999.00,  -999.0,9, -999.00,9,     -999.0,9,  -999.0,1, 20170905,     1618, -32.5006,-125.8765,        0.0,1,      0.061,1,      4.695,1,      0.130,1,     -999.0,1,     -999.0,9,     -999.0,9,     -999.0,9,     -999.0,9,     -999.0,9,     -999.0,9,     -999.0,9,     -999.0,9,     -999.0,9,     -999.0,9,     2.9140,2,     -999.0,     -999.0,9,     -999.0
320620170820,        P06,     171,          1,         15,         15,2,20170905,       1514,   -32.5010,  -125.8766,       4272,  1213.8,   3.4924,  34.3917,2,  34.3862,2, 182.6377,2,  183.351,2,    48.7,2,   33.40,2,    0.00,2,    2.28,2,   0.632,2,   0.332,2,   0.0000,2,  2225.8,2,  2311.5,2,   7.5843,2,    25.00, -999.00,9, -999.00,9, -999.00,  -999.0,9, -999.00,9,     -999.0,9,  -999.0,1, 20170905,     1623, -32.5006,-125.8765,        0.0,1,      0.061,1,      4.694,1,      0.129,1,     -999.0,1,     -999.0,9,     -999.0,9,     -999.0,9,     -999.0,9,     -999.0,9,     -999.0,9,     -999.0,9,     -999.0,9,     -999.0,9,     -999.0,9,     3.5194,2,     -999.0,     -999.0,9,     -999.0
320620170820,        P06,     171,          1,         16,         16,2,20170905,       1514,   -32.5010,  -125.8766,       4272,  1007.5,   4.5593,  34.3118,2,  34.3101,2, 204.5794,2, 204.0998,2,    28.2,2,   30.47,2,    0.00,2,    2.05,2,   1.378,2,   0.690,2,   0.1710,2,  -999.0,9,  -999.0,9,-999.0000,9,  -999.00, -999.00,9, -999.00,9, -999.00,  -999.0,9, -999.00,9,     -999.0,9,  -999.0,1, 20170905,     1627, -32.5008,-125.8765,        0.0,1,      0.060,1,      4.694,1,      0.129,1,     -999.0,1,     -999.0,9,     -999.0,9,     -999.0,9,     -999.0,9,     -999.0,9,     -999.0,9,     -999.0,9,     -999.0,9,     -999.0,9,     -999.0,9,     4.5666,2,     -999.0,     -999.0,9,     -999.0
320620170820,        P06,     171,          1,         17,         17,2,20170905,       1514,   -32.5010,  -125.8766,       4272,   909.6,   5.0944,  34.2945,2,  34.2921,2, 218.5998,2, 218.5783,2,    19.5,2,   28.27,2,    0.00,2,    1.90,2,   1.969,2,   0.999,2,   0.3100,2,  2175.0,2,  2285.8,2,   7.6535,2,    25.00, -999.00,9, -999.00,9, -999.00,  -999.0,9, -999.00,9,     -999.0,9,  -999.0,1, 20170905,     1630, -32.5009,-125.8765,        0.0,1,      0.059,1,      4.694,1,      0.131,1,     -999.0,1,     -999.0,9,     -999.0,9,     -999.0,9,     -999.0,9,     -999.0,9,     -999.0,9,     -999.0,9,     -999.0,9,     -999.0,9,     -999.0,9,     5.1336,2,     -999.0,     -999.0,9,     -999.0
320620170820,        P06,     171,          1,         18,         18,2,20170905,       1514,   -32.5010,  -125.8766,       4272,   805.6,   5.6516,  34.2927,2,  34.2909,2, 231.4934,2, 231.9652,2,    13.3,2,   26.05,2,    0.00,2,    1.74,2,   2.490,2,   1.347,2,   0.6170,2,  -999.0,9,  -999.0,9,-999.0000,9,  -999.00, -999.00,9, -999.00,9, -999.00,  -999.0,9, -999.00,9,     -999.0,9,  -999.0,1, 20170905,     1633, -32.5010,-125.8765,        0.0,1,      0.059,1,      4.694,1,      0.133,1,     -999.0,1,     -999.0,9,     -999.0,9,     -999.0,9,     -999.0,9,     -999.0,9,     -999.0,9,     -999.0,9,     -999.0,9,     -999.0,9,     -999.0,9,     5.6660,2,     -999.0,     -999.0,9,     -999.0
320620170820,        P06,     171,          1,         19,         19,2,20170905,       1514,   -32.5010,  -125.8766,       4272,   703.9,   6.2099,  34.3090,2,  34.3038,2, 241.2409,2, 241.8314,2,     9.6,2,   24.19,2,    0.00,2,    1.62,2,   3.214,6,   1.661,6,   0.7085,6,  2151.4,2,  2278.0,2,   7.6964,2,    25.00, -999.00,9, -999.00,9, -999.00,  -999.0,9, -999.00,9,     -999.0,9,  -999.0,1, 20170905,     1635, -32.5009,-125.8765,        0.0,1,      0.060,1,      4.692,1,      0.130,1,     -999.0,1,     -999.0,9,     -999.0,9,     -999.0,9,     -999.0,9,     -999.0,9,     -999.0,9,     -999.0,9,     -999.0,9,     -999.0,9,     -999.0,9,     6.1303,2,     -999.0,     -999.0,9,     -999.0
320620170820,        P06,     171,          1,         20,         20,2,20170905,       1514,   -32.5010,  -125.8766,       4272,   604.7,   6.6638,  34.3349,2,  34.3313,2, 245.2716,2, 245.6803,2,     7.2,2,   22.56,2,    0.00,2,    1.50,2,   3.536,2,   1.858,2,   0.8380,2,  -999.0,9,  -999.0,9,-999.0000,9,  -999.00, -999.00,9, -999.00,9, -999.00,  -999.0,9, -999.00,9,     -999.0,9,  -999.0,1, 20170905,     1638, -32.5008,-125.8765,        0.0,1,      0.059,1,      4.692,1,      0.130,1,     -999.0,1,     -999.0,9,     -999.0,9,     -999.0,9,     -999.0,9,     -999.0,9,     -999.0,9,     -999.0,9,     -999.0,9,     -999.0,9,     -999.0,9,     6.6442,2,     -999.0,     -999.0,9,     -999.0
320620170820,        P06,     171,          1,         21,         21,2,20170905,       1514,   -32.5010,  -125.8766,       4272,   505.8,   7.2901,  34.3723,2,  34.3690,2, 247.8044,2, 246.9931,2,     5.3,2,   20.57,2,    0.00,2,    1.38,2,   3.614,2,   1.972,2,   1.2430,2,  2142.6,2,  2277.0,2,   7.7192,2,    25.00, -999.00,9, -999.00,9, -999.00,  -999.0,9, -999.00,9,     -999.0,9,  -999.0,1, 20170905,     1641, -32.5007,-125.8765,        0.0,1,      0.060,1,      4.691,1,      0.133,1,     -999.0,1,     -999.0,9,     -999.0,9,     -999.0,9,     -999.0,9,     -999.0,9,     -999.0,9,     -999.0,9,     -999.0,9,     -999.0,9,     -999.0,9,     7.2920,2,     -999.0,     -999.0,9,     -999.0
320620170820,        P06,     171,          1,         22,         22,2,20170905,       1514,   -32.5010,  -125.8766,       4272,   454.9,   7.6627,  34.3842,2,  34.3806,2, 242.7416,2, 242.0847,2,     4.5,2,   19.70,2,    0.00,2,    1.34,2,   3.531,2,   1.931,2,   1.3080,2,  -999.0,9,  -999.0,9,-999.0000,9,  -999.00, -999.00,9, -999.00,9, -999.00,  -999.0,9, -999.00,9,     -999.0,9,  -999.0,1, 20170905,     1643, -32.5006,-125.8765,        0.0,1,      0.059,1,      4.690,1,      0.132,1,     -999.0,1,     -999.0,9,     -999.0,9,     -999.0,9,     -999.0,9,     -999.0,9,     -999.0,9,     -999.0,9,     -999.0,9,     -999.0,9,     -999.0,9,     7.7142,2,     -999.0,     -999.0,9,     -999.0
320620170820,        P06,     171,          1,         23,         23,2,20170905,       1514,   -32.5010,  -125.8766,       4272,   403.8,   8.4520,  34.4057,2,  34.3982,2, 234.7457,2, 233.5132,2,     3.7,2,   18.46,2,    0.00,2,    1.24,2,   3.431,2,   1.892,2,   1.2120,2,  2137.8,2,  2277.1,2,   7.7295,2,    25.00, -999.00,9, -999.00,9, -999.00,  -999.0,9, -999.00,9,     -999.0,9,  -999.0,1, 20170905,     1645, -32.5005,-125.8765,        0.0,1,      0.060,1,      4.689,1,      0.133,1,     -999.0,1,     -999.0,9,     -999.0,9,     -999.0,9,     -999.0,9,     -999.0,9,     -999.0,9,     -999.0,9,     -999.0,9,     -999.0,9,     -999.0,9,     8.3949,2,     -999.0,     -999.0,9,     -999.0
320620170820,        P06,     171,          1,         24,         24,2,20170905,       1514,   -32.5010,  -125.8766,       4272,   301.5,  11.5431,  34.6199,2,  34.5846,2, 216.6467,2, 217.2883,2,     1.8,2,   12.21,2,    0.00,2,    0.87,2,   3.027,2,   1.710,2,   1.3020,2,  -999.0,9,  -999.0,9,-999.0000,9,  -999.00, -999.00,9, -999.00,9, -999.00,  -999.0,9, -999.00,9,     -999.0,9,  -999.0,1, 20170905,     1647, -32.5003,-125.8765,        0.0,1,      0.060,1,      4.685,1,      0.135,1,     -999.0,1,     -999.0,1,     -999.0,9,     -999.0,9,     -999.0,9,     -999.0,9,     -999.0,9,     -999.0,9,     -999.0,9,     -999.0,9,     -999.0,9,    11.1716,2,     -999.0,     -999.0,9,     -999.0
320620170820,        P06,     171,          1,         25,         25,2,20170905,       1514,   -32.5010,  -125.8766,       4272,   252.7,  13.4172,  34.7909,2,  34.7323,2, 217.6745,2, 216.5824,2,     1.0,2,    8.14,2,    0.00,2,    0.62,2,   2.976,2,   1.606,2,   1.4890,2,  2102.1,2,  2286.3,2,   7.8299,2,    25.00, -999.00,9, -999.00,9, -999.00,  -999.0,9, -999.00,9,     -999.0,9,  -999.0,1, 20170905,     1649, -32.5003,-125.8765,        0.0,1,      0.062,1,      4.683,1,      0.133,1,     -999.0,1,     -999.0,1,     -999.0,9,     -999.0,9,     -999.0,9,     -999.0,9,     -999.0,9,     -999.0,9,     -999.0,9,     -999.0,9,     -999.0,9,    12.7738,2,     -999.0,     -999.0,9,     -999.0
320620170820,        P06,     171,          1,         26,         26,2,20170905,       1514,   -32.5010,  -125.8766,       4272,   200.3,  14.8394,  34.9062,2,  34.8509,2, 221.3033,2, 223.0482,2,     0.4,2,    4.22,2,    0.02,2,    0.37,2,   2.531,2,   1.519,2,   1.4880,2,  2087.6,2,  2292.1,2,   7.8732,2,    25.00, -999.00,9, -999.00,9, -999.00,  -999.0,9, -999.00,9,     -999.0,9,  -999.0,1, 20170905,     1651, -32.5004,-125.8765,        0.0,1,      0.082,1,      4.675,1,      0.138,1,     -999.0,1,     -999.0,1,     -999.0,9,     -999.0,9,     -999.0,9,     -999.0,9,     -999.0,9,     -999.0,9,     -999.0,9,     -999.0,9,     -999.0,9,    14.1592,2,     -999.0,     -999.0,9,     -999.0