BOTTLE,20240211CCHSIOCBG
EXPOCODE,SECT_ID,STNNBR,CASTNO,SAMPNO,BTLNBR,BTLNBR_FLAG_W,DATE,TIME,LATITUDE,LONGITUDE,DEPTH,CTDPRS,CTDTMP,CTDSAL,CTDSAL_FLAG_W,SALNTY,SALNTY_FLAG_W,CTDOXY,CTDOXY_FLAG_W,OXYGEN,OXYGEN_FLAG_W,SILCAT,SILCAT_FLAG_W,NITRAT,NITRAT_FLAG_W,NITRIT,NITRIT_FLAG_W,PHSPHT,PHSPHT_FLAG_W,CFC-11,CFC-11_FLAG_W,CFC-12,CFC-12_FLAG_W,SF6,SF6_FLAG_W,TCARBN,TCARBN_FLAG_W,ALKALI,ALKALI_FLAG_W,PH_TOT,PH_TOT_FLAG_W,PH_TMP,DELC13,DELC13_FLAG_W,DELC14,DELC14_FLAG_W,C14ERR,DOC,DOC_FLAG_W,TDN,TDN_FLAG_W,TON,TON_FLAG_W,D15N_NO3,D15N_NO3_FLAG_W,BTL_DATE,BTL_TIME,BTL_LAT,BTL_LON,CTDRINKO,CTDRINKO_FLAG_W,CTDFLUOR,CTDFLUOR_FLAG_W,CTDXMISS,CTDXMISS_FLAG_W,CTDBACKSCATTER,CTDBACKSCATTER_FLAG_W,D18O_NO3,D18O_NO3_FLAG_W,DOP,DOP_FLAG_W,CELLCOUNT,CELLCOUNT_FLAG_W,TDP,TDP_FLAG_W,POP,POP_FLAG_W,DATP,DATP_FLAG_W,PATP,PATP_FLAG_W,HPLC,HPLC_FLAG_W,POC,POC_FLAG_W,BEAMAP,BEAMAP_FLAG_W,DOC_NASA,DOC_NASA_FLAG_W,REFTMP,REFTMP_FLAG_W,DOC_NASA_ERROR,TDN_NASA,TDN_NASA_FLAG_W,TDN_NASA_ERROR
,,,,,,,,,,,METERS,DBAR,ITS-90,PSS-78,,PSS-78,,UMOL/KG,,UMOL/KG,,UMOL/KG,,UMOL/KG,,UMOL/KG,,UMOL/KG,,PMOL/KG,,PMOL/KG,,FMOL/KG,,UMOL/KG,,UMOL/KG,,,,DEG C,/MILLE,,/MILLE,,/MILLE,UMOL/KG,,UMOL/KG,,UMOL/KG,,/MILLE,,,,,,VOLTS,,VOLTS,,VOLTS,,VOLTS,,/MILLE,,UMOL/KG,,/LITER,,UMOL/KG,,UMOL/L,,PMOL/L,,PMOL/L,,,,UG/L,,/METER,,UMOL/L,,ITS-90,,UMOL/L,UMOL/L,,UMOL/L
320620170820,        P06,     902,          2,          2,          2,2,20170823,       2234,   -28.9597,  -148.9671,       4755,  2026.2,   2.1923,  34.6279,2,  34.6309,2,    148.9,1,    151.2,2,   111.4,2,   35.42,2,    0.00,2,    2.45,2,-999.000,9,-999.000,9,-999.0000,9,  -999.0,9,  -999.0,9,-999.0000,9,  -999.00, -999.00,9, -999.00,9, -999.00,  -999.0,9, -999.00,9,     -999.0,9,  -999.0,9, 20170823,     2234, -28.9603,-148.9669,        0.0,1,      0.061,1,      4.691,1,      0.129,1,     -999.0,9,     -999.0,9,     -999.0,9,     -999.0,9,     -999.0,9,     -999.0,9,     -999.0,9,     -999.0,9,     -999.0,9,     -999.0,9,     -999.0,9,     -999.0,5,     -999.0,     -999.0,9,     -999.0
320620170820,        P06,     902,          2,          1,          1,2,20170823,       2234,   -28.9597,  -148.9671,       4755,  2025.3,   2.1919,  34.6280,2,-999.0000,9,    149.1,1,-999.0000,9,  -999.0,9, -999.00,9, -999.00,9, -999.00,9,-999.000,9,-999.000,9,-999.0000,9,  -999.0,9,  -999.0,9,-999.0000,9,  -999.00, -999.00,9, -999.00,9, -999.00,  -999.0,9, -999.00,9,     -999.0,9,  -999.0,9, 20170823,     2234, -28.9603,-148.9669,        0.0,1,      0.061,1,      4.696,1,      0.129,1,     -999.0,9,     -999.0,9,     -999.0,9,     -999.0,9,     -999.0,9,     -999.0,9,     -999.0,9,     -999.0,9,     -999.0,9,     -999.0,9,     -999.0,9,     2.1931,2,     -999.0,     -999.0,9,     -999.0
320620170820,        P06,     902,          2,          3,          3,2,20170823,       2234,   -28.9597,  -148.9671,       4755,  1785.0,   2.4493,  34.5905,2,-999.0000,9,    154.5,1,-999.0000,9,  -999.0,9, -999.00,9, -999.00,9, -999.00,9,-999.000,9,-999.000,9,-999.0000,9,  -999.0,9,  -999.0,9,-999.0000,9,  -999.00, -999.00,9, -999.00,9, -999.00,  -999.0,9, -999.00,9,     -999.0,9,  -999.0,9, 20170823,     2242, -28.9603,-148.9669,        0.0,1,      0.061,1,      4.697,1,      0.130,1,     -999.0,9,     -999.0,9,     -999.0,9,     -999.0,9,     -999.0,9,     -999.0,9,     -999.0,9,     -999.0,9,     -999.0,9,     -999.0,9,     -999.0,9,     2.4508,2,     -999.0,     -999.0,9,     -999.0
320620170820,        P06,     902,          2,          4,          4,2,20170823,       2234,   -28.9597,  -148.9671,       4755,  1784.5,   2.4493,  34.5905,2,-999.0000,9,    154.5,1,-999.0000,9,  -999.0,9, -999.00,9, -999.00,9, -999.00,9,-999.000,9,-999.000,9,-999.0000,9,  -999.0,9,  -999.0,9,-999.0000,9,  -999.00, -999.00,9, -999.00,9, -999.00,  -999.0,9, -999.00,9,     -999.0,9,  -999.0,9, 20170823,     2242, -28.9603,-148.9669,        0.0,1,      0.061,1,      4.697,1,      0.130,1,     -999.0,9,     -999.0,9,     -999.0,9,     -999.0,9,     -999.0,9,     -999.0,9,     -999.0,9,     -999.0,9,     -999.0,9,     -999.0,9,     -999.0,9,     -999.0,5,     -999.0,     -999.0,9,     -999.0
320620170820,        P06,     902,          2,          6,          6,2,20170823,       2234,   -28.9597,  -148.9671,       4755,  1550.7,   2.7706,  34.5375,2,-999.0000,9,    158.6,1,-999.0000,9,  -999.0,9, -999.00,9, -999.00,9, -999.00,9,-999.000,9,-999.000,9,-999.0000,9,  -999.0,9,  -999.0,9,-999.0000,9,  -999.00, -999.00,9, -999.00,9, -999.00,  -999.0,9, -999.00,9,     -999.0,9,  -999.0,9, 20170823,     2249, -28.9603,-148.9669,        0.0,1,      0.061,1,      4.692,1,      0.130,1,     -999.0,9,     -999.0,9,     -999.0,9,     -999.0,9,     -999.0,9,     -999.0,9,     -999.0,9,     -999.0,9,     -999.0,9,     -999.0,9,     -999.0,9,     2.7744,2,     -999.0,     -999.0,9,     -999.0
320620170820,        P06,     902,          2,          5,          5,2,20170823,       2234,   -28.9597,  -148.9671,       4755,  1549.9,   2.7755,  34.5367,2,-999.0000,9,    158.6,1,-999.0000,9,  -999.0,9, -999.00,9, -999.00,9, -999.00,9,-999.000,9,-999.000,9,-999.0000,9,  -999.0,9,  -999.0,9,-999.0000,9,  -999.00, -999.00,9, -999.00,9, -999.00,  -999.0,9, -999.00,9,     -999.0,9,  -999.0,9, 20170823,     2249, -28.9603,-148.9669,        0.0,1,      0.061,1,      4.694,1,      0.129,1,     -999.0,9,     -999.0,9,     -999.0,9,     -999.0,9,     -999.0,9,     -999.0,9,     -999.0,9,     -999.0,9,     -999.0,9,     -999.0,9,     -999.0,9,     2.7740,2,     -999.0,     -999.0,9,     -999.0
320620170820,        P06,     902,          2,          8,          8,2,20170823,       2234,   -28.9597,  -148.9671,       4755,  1353.9,   3.3191,  34.4518,2,-999.0000,9,    168.6,1,-999.0000,9,  -999.0,9, -999.00,9, -999.00,9, -999.00,9,-999.000,9,-999.000,9,-999.0000,9,  -999.0,9,  -999.0,9,-999.0000,9,  -999.00, -999.00,9, -999.00,9, -999.00,  -999.0,9, -999.00,9,     -999.0,9,  -999.0,9, 20170823,     2255, -28.9602,-148.9669,        0.0,1,      0.061,1,      4.701,1,      0.131,1,     -999.0,9,     -999.0,9,     -999.0,9,     -999.0,9,     -999.0,9,     -999.0,9,     -999.0,9,     -999.0,9,     -999.0,9,     -999.0,9,     -999.0,9,     3.3187,2,     -999.0,     -999.0,9,     -999.0
320620170820,        P06,     902,          2,          7,          7,2,20170823,       2234,   -28.9597,  -148.9671,       4755,  1353.7,   3.3191,  34.4518,2,-999.0000,9,    168.6,1,-999.0000,9,  -999.0,9, -999.00,9, -999.00,9, -999.00,9,-999.000,9,-999.000,9,-999.0000,9,  -999.0,9,  -999.0,9,-999.0000,9,  -999.00, -999.00,9, -999.00,9, -999.00,  -999.0,9, -999.00,9,     -999.0,9,  -999.0,9, 20170823,     2255, -28.9603,-148.9669,        0.0,1,      0.061,1,      4.701,1,      0.131,1,     -999.0,9,     -999.0,9,     -999.0,9,     -999.0,9,     -999.0,9,     -999.0,9,     -999.0,9,     -999.0,9,     -999.0,9,     -999.0,9,     -999.0,9,     3.3187,2,     -999.0,     -999.0,9,     -999.0
320620170820,        P06,     902,          2,         10,         10,2,20170823,       2234,   -28.9597,  -148.9671,       4755,  1176.7,   3.9968,  34.3769,2,  34.3760,2,      181,1,-999.0000,9,    43.8,2,   32.92,2,    0.00,2,    2.26,2,-999.000,9,-999.000,9,-999.0000,9,  -999.0,9,  -999.0,9,-999.0000,9,  -999.00, -999.00,9, -999.00,9, -999.00,  -999.0,9, -999.00,9,     -999.0,9,  -999.0,9, 20170823,     2300, -28.9602,-148.9669,        0.0,1,      0.060,1,      4.693,1,      0.132,1,     -999.0,9,     -999.0,9,     -999.0,9,     -999.0,9,     -999.0,9,     -999.0,9,     -999.0,9,     -999.0,9,     -999.0,9,     -999.0,9,     -999.0,9,     4.0169,2,     -999.0,     -999.0,9,     -999.0
320620170820,        P06,     902,          2,          9,          9,2,20170823,       2234,   -28.9597,  -148.9671,       4755,  1175.8,   4.0092,  34.3759,2,-999.0000,9,    181.4,1,    182.3,2,  -999.0,9, -999.00,9, -999.00,9, -999.00,9,-999.000,9,-999.000,9,-999.0000,9,  -999.0,9,  -999.0,9,-999.0000,9,  -999.00, -999.00,9, -999.00,9, -999.00,  -999.0,9, -999.00,9,     -999.0,9,  -999.0,9, 20170823,     2300, -28.9602,-148.9669,        0.0,1,      0.060,1,      4.691,1,      0.131,1,     -999.0,9,     -999.0,9,     -999.0,9,     -999.0,9,     -999.0,9,     -999.0,9,     -999.0,9,     -999.0,9,     -999.0,9,     -999.0,9,     -999.0,9,     4.0184,2,     -999.0,     -999.0,9,     -999.0
320620170820,        P06,     902,          2,         11,         11,2,20170823,       2234,   -28.9597,  -148.9671,       4755,   973.7,   4.9639,  34.3157,2,-999.0000,9,    201.9,1,-999.0000,9,  -999.0,9, -999.00,9, -999.00,9, -999.00,9,-999.000,9,-999.000,9,-999.0000,9,  -999.0,9,  -999.0,9,-999.0000,9,  -999.00, -999.00,9, -999.00,9, -999.00,  -999.0,9, -999.00,9,     -999.0,9,  -999.0,9, 20170823,     2306, -28.9603,-148.9668,        0.0,1,      0.061,1,      4.701,1,      0.130,1,     -999.0,9,     -999.0,9,     -999.0,9,     -999.0,9,     -999.0,9,     -999.0,9,     -999.0,9,     -999.0,9,     -999.0,9,     -999.0,9,     -999.0,9,     4.9967,2,     -999.0,     -999.0,9,     -999.0
320620170820,        P06,     902,          2,         12,         12,2,20170823,       2234,   -28.9597,  -148.9671,       4755,   973.2,   4.9639,  34.3157,2,-999.0000,9,    201.9,1,-999.0000,9,  -999.0,9, -999.00,9, -999.00,9, -999.00,9,-999.000,9,-999.000,9,-999.0000,9,  -999.0,9,  -999.0,9,-999.0000,9,  -999.00, -999.00,9, -999.00,9, -999.00,  -999.0,9, -999.00,9,     -999.0,9,  -999.0,9, 20170823,     2306, -28.9603,-148.9668,        0.0,1,      0.061,1,      4.701,1,      0.130,1,     -999.0,9,     -999.0,9,     -999.0,9,     -999.0,9,     -999.0,9,     -999.0,9,     -999.0,9,     -999.0,9,     -999.0,9,     -999.0,9,     -999.0,9,     4.9973,2,     -999.0,     -999.0,9,     -999.0
320620170820,        P06,     902,          2,         14,         14,2,20170823,       2234,   -28.9597,  -148.9671,       4755,   770.6,   5.9766,  34.3079,2,-999.0000,9,    222.3,1,-999.0000,9,  -999.0,9, -999.00,9, -999.00,9, -999.00,9,-999.000,9,-999.000,9,-999.0000,9,  -999.0,9,  -999.0,9,-999.0000,9,  -999.00, -999.00,9, -999.00,9, -999.00,  -999.0,9, -999.00,9,     -999.0,9,  -999.0,9, 20170823,     2312, -28.9605,-148.9667,        0.0,1,      0.059,1,      4.701,1,      0.133,1,     -999.0,9,     -999.0,9,     -999.0,9,     -999.0,9,     -999.0,9,     -999.0,9,     -999.0,9,     -999.0,9,     -999.0,9,     -999.0,9,     -999.0,9,     -999.0,5,     -999.0,     -999.0,9,     -999.0
320620170820,        P06,     902,          2,         13,         13,2,20170823,       2234,   -28.9597,  -148.9671,       4755,   769.8,   5.9962,  34.3084,2,-999.0000,9,    222.5,1,-999.0000,9,  -999.0,9, -999.00,9, -999.00,9, -999.00,9,-999.000,9,-999.000,9,-999.0000,9,  -999.0,9,  -999.0,9,-999.0000,9,  -999.00, -999.00,9, -999.00,9, -999.00,  -999.0,9, -999.00,9,     -999.0,9,  -999.0,9, 20170823,     2311, -28.9605,-148.9667,        0.0,1,      0.060,1,      4.701,1,      0.134,1,     -999.0,9,     -999.0,9,     -999.0,9,     -999.0,9,     -999.0,9,     -999.0,9,     -999.0,9,     -999.0,9,     -999.0,9,     -999.0,9,     -999.0,9,     5.9623,2,     -999.0,     -999.0,9,     -999.0
320620170820,        P06,     902,          2,         15,         15,2,20170823,       2234,   -28.9597,  -148.9671,       4755,   569.3,   7.7304,  34.3966,2,-999.0000,9,    221.8,1,-999.0000,9,  -999.0,9, -999.00,9, -999.00,9, -999.00,9,-999.000,9,-999.000,9,-999.0000,9,  -999.0,9,  -999.0,9,-999.0000,9,  -999.00, -999.00,9, -999.00,9, -999.00,  -999.0,9, -999.00,9,     -999.0,9,  -999.0,9, 20170823,     2318, -28.9603,-148.9668,        0.0,1,      0.059,1,      4.698,1,      0.135,1,     -999.0,9,     -999.0,9,     -999.0,9,     -999.0,9,     -999.0,9,     -999.0,9,     -999.0,9,     -999.0,9,     -999.0,9,     -999.0,9,     -999.0,9,     7.6092,2,     -999.0,     -999.0,9,     -999.0
320620170820,        P06,     902,          2,         16,         16,2,20170823,       2234,   -28.9597,  -148.9671,       4755,   569.1,   7.7304,  34.3966,2,-999.0000,9,    221.8,1,-999.0000,9,  -999.0,9, -999.00,9, -999.00,9, -999.00,9,-999.000,9,-999.000,9,-999.0000,9,  -999.0,9,  -999.0,9,-999.0000,9,  -999.00, -999.00,9, -999.00,9, -999.00,  -999.0,9, -999.00,9,     -999.0,9,  -999.0,9, 20170823,     2318, -28.9603,-148.9668,        0.0,1,      0.059,1,      4.698,1,      0.135,1,     -999.0,9,     -999.0,9,     -999.0,9,     -999.0,9,     -999.0,9,     -999.0,9,     -999.0,9,     -999.0,9,     -999.0,9,     -999.0,9,     -999.0,9,     7.6089,2,     -999.0,     -999.0,9,     -999.0
320620170820,        P06,     902,          2,         18,         18,2,20170823,       2234,   -28.9597,  -148.9671,       4755,   467.9,   9.9724,  34.6018,2,-999.0000,9,    205.5,1,-999.0000,9,  -999.0,9, -999.00,9, -999.00,9, -999.00,9,-999.000,9,-999.000,9,-999.0000,9,  -999.0,9,  -999.0,9,-999.0000,9,  -999.00, -999.00,9, -999.00,9, -999.00,  -999.0,9, -999.00,9,     -999.0,9,  -999.0,9, 20170823,     2322, -28.9601,-148.9669,        0.0,1,      0.059,1,      4.696,1,      0.135,1,     -999.0,9,     -999.0,9,     -999.0,9,     -999.0,9,     -999.0,9,     -999.0,9,     -999.0,9,     -999.0,9,     -999.0,9,     -999.0,9,     -999.0,9,     9.9104,2,     -999.0,     -999.0,9,     -999.0
320620170820,        P06,     902,          2,         17,         17,2,20170823,       2234,   -28.9597,  -148.9671,       4755,   467.8,   9.9724,  34.6018,2,-999.0000,9,    205.5,1,-999.0000,9,  -999.0,9, -999.00,9, -999.00,9, -999.00,9,-999.000,9,-999.000,9,-999.0000,9,  -999.0,9,  -999.0,9,-999.0000,9,  -999.00, -999.00,9, -999.00,9, -999.00,  -999.0,9, -999.00,9,     -999.0,9,  -999.0,9, 20170823,     2322, -28.9601,-148.9669,        0.0,1,      0.059,1,      4.696,1,      0.135,1,     -999.0,9,     -999.0,9,     -999.0,9,     -999.0,9,     -999.0,9,     -999.0,9,     -999.0,9,     -999.0,9,     -999.0,9,     -999.0,9,     -999.0,9,     9.9085,2,     -999.0,     -999.0,9,     -999.0
320620170820,        P06,     902,          2,         20,         20,2,20170823,       2234,   -28.9597,  -148.9671,       4755,   367.0,  13.2967,  35.0221,2,-999.0000,9,    194.6,1,-999.0000,9,  -999.0,9, -999.00,9, -999.00,9, -999.00,9,-999.000,9,-999.000,9,-999.0000,9,  -999.0,9,  -999.0,9,-999.0000,9,  -999.00, -999.00,9, -999.00,9, -999.00,  -999.0,9, -999.00,9,     -999.0,9,  -999.0,9, 20170823,     2326, -28.9600,-148.9669,        0.0,1,      0.059,1,      4.694,1,      0.135,1,     -999.0,9,     -999.0,9,     -999.0,9,     -999.0,9,     -999.0,9,     -999.0,9,     -999.0,9,     -999.0,9,     -999.0,9,     -999.0,9,     -999.0,9,    13.1322,2,     -999.0,     -999.0,9,     -999.0
320620170820,        P06,     902,          2,         19,         19,2,20170823,       2234,   -28.9597,  -148.9671,       4755,   365.7,  13.4151,  35.0323,2,-999.0000,9,    194.8,1,-999.0000,9,  -999.0,9, -999.00,9, -999.00,9, -999.00,9,-999.000,9,-999.000,9,-999.0000,9,  -999.0,9,  -999.0,9,-999.0000,9,  -999.00, -999.00,9, -999.00,9, -999.00,  -999.0,9, -999.00,9,     -999.0,9,  -999.0,9, 20170823,     2326, -28.9600,-148.9669,        0.0,1,      0.058,1,      4.694,1,      0.134,1,     -999.0,9,     -999.0,9,     -999.0,9,     -999.0,9,     -999.0,9,     -999.0,9,     -999.0,9,     -999.0,9,     -999.0,9,     -999.0,9,     -999.0,9,    13.1344,2,     -999.0,     -999.0,9,     -999.0
320620170820,        P06,     902,          2,         21,         21,2,20170823,       2234,   -28.9597,  -148.9671,       4755,   289.0,  15.3344,  35.2511,2,  35.2349,2,    195.1,1,    209.1,2,     0.9,2,    4.91,2,    0.02,2,    0.43,2,-999.000,9,-999.000,9,-999.0000,9,  -999.0,9,  -999.0,9,-999.0000,9,  -999.00, -999.00,9, -999.00,9, -999.00,  -999.0,9, -999.00,9,     -999.0,9,  -999.0,9, 20170823,     2329, -28.9600,-148.9670,        0.0,1,      0.061,1,      4.691,1,      0.132,1,     -999.0,9,     -999.0,9,     -999.0,9,     -999.0,9,     -999.0,9,     -999.0,9,     -999.0,9,     -999.0,9,     -999.0,9,     -999.0,9,     -999.0,9,    15.3482,2,     -999.0,     -999.0,9,     -999.0
320620170820,        P06,     902,          2,         22,         22,2,20170823,       2234,   -28.9597,  -148.9671,       4755,   285.3,  15.3587,  35.2448,2,-999.0000,9,    194.1,1,-999.0000,9,  -999.0,9, -999.00,9, -999.00,9, -999.00,9,-999.000,9,-999.000,9,-999.0000,9,  -999.0,9,  -999.0,9,-999.0000,9,  -999.00, -999.00,9, -999.00,9, -999.00,  -999.0,9, -999.00,9,     -999.0,9,  -999.0,9, 20170823,     2331, -28.9599,-148.9670,        0.0,1,      0.061,1,      4.692,1,      0.135,1,     -999.0,9,     -999.0,9,     -999.0,9,     -999.0,9,     -999.0,9,     -999.0,9,     -999.0,9,     -999.0,9,     -999.0,9,     -999.0,9,     -999.0,9,    15.4227,2,     -999.0,     -999.0,9,     -999.0
320620170820,        P06,     902,          2,         23,         23,2,20170823,       2234,   -28.9597,  -148.9671,       4755,   236.2,  16.7434,  35.4342,2,-999.0000,9,    198.8,1,-999.0000,9,  -999.0,9, -999.00,9, -999.00,9, -999.00,9,-999.000,9,-999.000,9,-999.0000,9,  -999.0,9,  -999.0,9,-999.0000,9,  -999.00, -999.00,9, -999.00,9, -999.00,  -999.0,9, -999.00,9,     -999.0,9,  -999.0,9, 20170823,     2334, -28.9599,-148.9670,        0.0,1,      0.084,1,      4.682,1,      0.148,1,     -999.0,9,     -999.0,9,     -999.0,9,     -999.0,9,     -999.0,9,     -999.0,9,     -999.0,9,     -999.0,9,     -999.0,9,     -999.0,9,     -999.0,9,    16.7729,2,     -999.0,     -999.0,9,     -999.0
320620170820,        P06,     902,          2,         24,         24,2,20170823,       2234,   -28.9597,  -148.9671,       4755,   236.2,  16.7434,  35.4342,2,-999.0000,9,    198.8,1,-999.0000,9,  -999.0,9, -999.00,9, -999.00,9, -999.00,9,-999.000,9,-999.000,9,-999.0000,9,  -999.0,9,  -999.0,9,-999.0000,9,  -999.00, -999.00,9, -999.00,9, -999.00,  -999.0,9, -999.00,9,     -999.0,9,  -999.0,9, 20170823,     2334, -28.9598,-148.9671,        0.0,1,      0.084,1,      4.682,1,      0.148,1,     -999.0,9,     -999.0,9,     -999.0,9,     -999.0,9,     -999.0,9,     -999.0,9,     -999.0,9,     -999.0,9,     -999.0,9,     -999.0,9,     -999.0,9,     -999.0,5,     -999.0,     -999.0,9,     -999.0
320620170820,        P06,     902,          2,         26,         26,2,20170823,       2234,   -28.9597,  -148.9671,       4755,   186.1,  17.9150,  35.5626,2,-999.0000,9,    212.7,1,-999.0000,9,  -999.0,9, -999.00,9, -999.00,9, -999.00,9,-999.000,9,-999.000,9,-999.0000,9,  -999.0,9,  -999.0,9,-999.0000,9,  -999.00, -999.00,9, -999.00,9, -999.00,  -999.0,9, -999.00,9,     -999.0,9,  -999.0,9, 20170823,     2337, -28.9598,-148.9671,        0.0,1,      0.161,1,      4.651,1,      0.178,1,     -999.0,9,     -999.0,9,     -999.0,9,     -999.0,9,     -999.0,9,     -999.0,9,     -999.0,9,     -999.0,9,     -999.0,9,     -999.0,9,     -999.0,9,    17.8891,2,     -999.0,     -999.0,9,     -999.0
320620170820,        P06,     902,          2,         25,         25,2,20170823,       2234,   -28.9597,  -148.9671,       4755,   186.1,  17.9150,  35.5626,2,-999.0000,9,    212.7,1,-999.0000,9,  -999.0,9, -999.00,9, -999.00,9, -999.00,9,-999.000,9,-999.000,9,-999.0000,9,  -999.0,9,  -999.0,9,-999.0000,9,  -999.00, -999.00,9, -999.00,9, -999.00,  -999.0,9, -999.00,9,     -999.0,9,  -999.0,9, 20170823,     2336, -28.9598,-148.9671,        0.0,1,      0.161,1,      4.651,1,      0.178,1,     -999.0,9,     -999.0,9,     -999.0,9,     -999.0,9,     -999.0,9,     -999.0,9,     -999.0,9,     -999.0,9,     -999.0,9,     -999.0,9,     -999.0,9,    17.8889,2,     -999.0,     -999.0,9,     -999.0