BOTTLE,20240211CCHSIOCBG
EXPOCODE,SECT_ID,STNNBR,CASTNO,SAMPNO,BTLNBR,BTLNBR_FLAG_W,DATE,TIME,LATITUDE,LONGITUDE,DEPTH,CTDPRS,CTDTMP,CTDSAL,CTDSAL_FLAG_W,SALNTY,SALNTY_FLAG_W,CTDOXY,CTDOXY_FLAG_W,OXYGEN,OXYGEN_FLAG_W,SILCAT,SILCAT_FLAG_W,NITRAT,NITRAT_FLAG_W,NITRIT,NITRIT_FLAG_W,PHSPHT,PHSPHT_FLAG_W,CFC-11,CFC-11_FLAG_W,CFC-12,CFC-12_FLAG_W,SF6,SF6_FLAG_W,TCARBN,TCARBN_FLAG_W,ALKALI,ALKALI_FLAG_W,PH_TOT,PH_TOT_FLAG_W,PH_TMP,DELC13,DELC13_FLAG_W,DELC14,DELC14_FLAG_W,C14ERR,DOC,DOC_FLAG_W,TDN,TDN_FLAG_W,TON,TON_FLAG_W,D15N_NO3,D15N_NO3_FLAG_W,BTL_DATE,BTL_TIME,BTL_LAT,BTL_LON,CTDRINKO,CTDRINKO_FLAG_W,CTDFLUOR,CTDFLUOR_FLAG_W,CTDXMISS,CTDXMISS_FLAG_W,CTDBACKSCATTER,CTDBACKSCATTER_FLAG_W,D18O_NO3,D18O_NO3_FLAG_W,DOP,DOP_FLAG_W,CELLCOUNT,CELLCOUNT_FLAG_W,TDP,TDP_FLAG_W,POP,POP_FLAG_W,DATP,DATP_FLAG_W,PATP,PATP_FLAG_W,HPLC,HPLC_FLAG_W,POC,POC_FLAG_W,BEAMAP,BEAMAP_FLAG_W,DOC_NASA,DOC_NASA_FLAG_W,REFTMP,REFTMP_FLAG_W,DOC_NASA_ERROR,TDN_NASA,TDN_NASA_FLAG_W,TDN_NASA_ERROR
,,,,,,,,,,,METERS,DBAR,ITS-90,PSS-78,,PSS-78,,UMOL/KG,,UMOL/KG,,UMOL/KG,,UMOL/KG,,UMOL/KG,,UMOL/KG,,PMOL/KG,,PMOL/KG,,FMOL/KG,,UMOL/KG,,UMOL/KG,,,,DEG C,/MILLE,,/MILLE,,/MILLE,UMOL/KG,,UMOL/KG,,UMOL/KG,,/MILLE,,,,,,VOLTS,,VOLTS,,VOLTS,,VOLTS,,/MILLE,,UMOL/KG,,/LITER,,UMOL/KG,,UMOL/L,,PMOL/L,,PMOL/L,,,,UG/L,,/METER,,UMOL/L,,ITS-90,,UMOL/L,UMOL/L,,UMOL/L
320620170820,        P06,     166,          1,         27,         27,2,20170904,       0133,   -32.4998,  -129.6881,       3745,   318.5,   9.6086,  34.4865,2,  34.4495,2, 221.6049,2, 227.3635,2,     2.5,2,   15.52,2,    0.00,2,    1.09,2,   3.287,2,   1.791,2,   1.4600,2,  2128.1,2,  2278.0,2,   7.7521,6,    25.00, -999.00,9, -999.00,9, -999.00,    48.8,2,   17.60,2,     -999.0,1,  -999.0,9, 20170904,      304, -32.5000,-129.6885,        0.0,1,      0.059,1,      4.687,1,      0.134,1,     -999.0,9,     -999.0,9,     -999.0,9,     -999.0,9,     -999.0,9,     -999.0,9,     -999.0,9,     -999.0,9,     -999.0,9,     -999.0,9,     -999.0,9,     9.5712,2,     -999.0,     -999.0,9,     -999.0
320620170820,        P06,     166,          1,         28,         28,2,20170904,       0133,   -32.4998,  -129.6881,       3745,   266.1,  11.5684,  34.6325,2,  34.5736,2, 213.1678,2, 219.8457,2,     1.8,2,   12.31,2,    0.00,2,    0.89,2,   3.055,6,   1.710,6,   1.3800,6,  2116.0,2,  2283.5,2,   7.7831,2,    25.00, -999.00,9, -999.00,9, -999.00,    48.0,2,   15.30,2,     -999.0,1,  -999.0,9, 20170904,      307, -32.5000,-129.6887,        0.0,1,      0.061,1,      4.685,1,      0.134,1,     -999.0,9,     -999.0,9,     -999.0,9,     -999.0,9,     -999.0,9,     -999.0,9,     -999.0,9,     -999.0,9,     -999.0,9,     -999.0,9,     -999.0,9,    11.0388,2,     -999.0,     -999.0,9,     -999.0
320620170820,        P06,     166,          1,         29,         29,2,20170904,       0133,   -32.4998,  -129.6881,       3745,   215.7,  13.4026,  34.8284,2,  34.7421,2, 210.2925,2, 216.6538,2,     1.1,2,    8.47,2,    0.00,2,    0.64,2,   2.773,2,   1.605,2,   1.3580,2,  2102.0,2,  2291.4,3,   7.8252,2,    25.00, -999.00,9, -999.00,9, -999.00,    48.4,2,   10.30,2,     -999.0,1,  -999.0,9, 20170904,      309, -32.5001,-129.6887,        0.0,1,      0.064,1,      4.682,1,      0.136,1,     -999.0,9,     -999.0,9,     -999.0,1,     -999.0,1,     -999.0,1,     -999.0,1,     -999.0,1,     -999.0,9,     -999.0,9,     -999.0,9,     -999.0,9,    12.6640,2,     -999.0,     -999.0,9,     -999.0
320620170820,        P06,     166,          1,         30,         30,2,20170904,       0133,   -32.4998,  -129.6881,       3745,   165.2,  14.9767,  35.0661,2,  35.0077,2, 210.9352,2,  217.367,2,     0.6,2,    4.28,2,    0.00,2,    0.39,2,   2.506,2,   1.490,2,   1.4340,2,  2088.1,2,  2303.5,3,   7.8771,2,    25.00, -999.00,9, -999.00,9, -999.00,    50.5,2,    6.80,2,     -999.0,1,  -999.0,9, 20170904,      311, -32.5000,-129.6886,        0.0,1,      0.081,1,      4.678,1,      0.145,1,     -999.0,9,     -999.0,9,     -999.0,1,     -999.0,1,     -999.0,1,     -999.0,1,     -999.0,1,     -999.0,9,     -999.0,9,     -999.0,9,     -999.0,9,    14.5484,2,     -999.0,     -999.0,9,     -999.0
320620170820,        P06,     166,          1,         31,         31,2,20170904,       0133,   -32.4998,  -129.6881,       3745,   137.2,  15.5722,  35.1267,2,  35.1242,2, 211.9675,2, 218.8029,2,     0.4,2,    2.53,2,    0.03,2,    0.26,2,   2.398,2,   1.424,2,   1.5570,2,  2079.9,2,  2308.3,3,   7.9039,2,    25.00, -999.00,9, -999.00,9, -999.00,  -999.0,9, -999.00,9,     -999.0,9,  -999.0,9, 20170904,      313, -32.5000,-129.6885,        0.0,1,      0.107,1,      4.670,1,      0.154,1,     -999.0,9,     -999.0,9,     -999.0,9,     -999.0,9,     -999.0,9,     -999.0,9,     -999.0,9,     -999.0,9,     -999.0,9,     -999.0,9,     -999.0,9,    15.6050,2,     -999.0,     -999.0,9,     -999.0
320620170820,        P06,     166,          1,         32,         32,2,20170904,       0133,   -32.4998,  -129.6881,       3745,   109.8,  16.3722,  35.1853,2,  35.0463,2, 223.2245,2, 227.4868,2,     0.2,2,    1.49,2,    0.15,2,    0.22,2,   2.414,2,   1.422,2,   1.5350,2,  2074.2,2,  2304.4,2,   7.9112,2,    25.00, -999.00,9, -999.00,9, -999.00,    53.5,2,    5.10,2,     -999.0,1,  -999.0,9, 20170904,      314, -32.4999,-129.6885,        0.0,1,      0.158,1,      4.654,1,      0.160,1,     -999.0,9,     -999.0,9,     -999.0,1,     -999.0,1,     -999.0,1,     -999.0,1,     -999.0,1,     -999.0,9,     -999.0,9,     -999.0,9,     -999.0,9,    15.5780,2,     -999.0,     -999.0,9,     -999.0
320620170820,        P06,     166,          1,         33,         33,2,20170904,       0133,   -32.4998,  -129.6881,       3745,    87.1,  16.7103,  35.1385,2,  35.1205,2, 232.4678,2, 239.4469,2,     0.1,2,    0.04,2,    0.02,2,    0.09,2,   2.267,2,   1.341,2,   1.6470,2,  2054.9,2,  2307.1,2,   7.9558,2,    25.00, -999.00,9, -999.00,9, -999.00,    63.5,2,    3.60,2,     -999.0,1,  -999.0,9, 20170904,      316, -32.4999,-129.6884,        0.0,1,      0.152,1,      4.639,1,      0.178,1,     -999.0,9,     -999.0,9,     -999.0,1,     -999.0,1,     -999.0,1,     -999.0,1,     -999.0,1,     -999.0,9,     -999.0,9,     -999.0,9,     -999.0,9,    16.5779,2,     -999.0,     -999.0,9,     -999.0
320620170820,        P06,     166,          1,         34,         34,2,20170904,       0133,   -32.4998,  -129.6881,       3745,    59.3,  17.0383,  35.1834,2,  35.1150,2, 233.6783,2, 240.3726,2,     0.1,2,    0.00,2,    0.00,2,    0.08,2,   2.252,2,   1.323,2,   1.6550,2,  2051.6,2,  2308.6,2,   7.9610,2,    25.00, -999.00,9, -999.00,9, -999.00,    63.6,2,    4.10,2,     -999.0,1,  -999.0,9, 20170904,      318, -32.4999,-129.6884,        0.0,1,      0.124,1,      4.640,1,      0.170,1,     -999.0,9,     -999.0,9,     -999.0,1,     -999.0,1,     -999.0,1,     -999.0,1,     -999.0,1,     -999.0,9,     -999.0,9,     -999.0,9,     -999.0,9,    16.8318,2,     -999.0,     -999.0,9,     -999.0
320620170820,        P06,     166,          1,         35,         35,2,20170904,       0133,   -32.4998,  -129.6881,       3745,    34.5,  17.0683,  35.1781,2,  35.1238,2, 233.7498,2, 239.8034,2,     0.2,2,    0.00,2,    0.00,2,    0.09,2,   2.239,2,   1.327,2,   1.6280,2,  2050.9,2,  2309.4,2,   7.9631,2,    25.00, -999.00,9, -999.00,9, -999.00,    62.9,2,    3.70,2,     -999.0,1,  -999.0,9, 20170904,      319, -32.4998,-129.6882,        0.0,1,      0.099,1,      4.641,1,      0.171,1,     -999.0,9,     -999.0,9,     -999.0,1,     -999.0,1,     -999.0,1,     -999.0,1,     -999.0,1,     -999.0,9,     -999.0,9,     -999.0,9,     -999.0,9,    17.0035,2,     -999.0,     -999.0,9,     -999.0
320620170820,        P06,     166,          1,         36,         36,2,20170904,       0133,   -32.4998,  -129.6881,       3745,     4.2,  17.2656,  35.1993,2,  35.1268,2, 244.1113,2, 239.9284,2,     0.2,2,    0.00,2,    0.00,2,    0.11,2,   2.254,2,   1.326,2,   1.6500,2,  2049.1,6,  2309.7,2,   7.9636,2,    25.00, -999.00,9, -999.00,9, -999.00,    63.2,2,    4.00,2,     -999.0,1,  -999.0,9, 20170904,      322, -32.4998,-129.6881,        0.0,1,      0.067,1,      4.644,1,      0.175,1,     -999.0,9,     -999.0,9,     -999.0,9,     -999.0,9,     -999.0,9,     -999.0,9,     -999.0,9,     -999.0,9,     -999.0,9,     -999.0,9,     -999.0,9,    17.0302,2,     -999.0,     -999.0,9,     -999.0