BOTTLE,20240211CCHSIOCBG
EXPOCODE,SECT_ID,STNNBR,CASTNO,SAMPNO,BTLNBR,BTLNBR_FLAG_W,DATE,TIME,LATITUDE,LONGITUDE,DEPTH,CTDPRS,CTDTMP,CTDSAL,CTDSAL_FLAG_W,SALNTY,SALNTY_FLAG_W,CTDOXY,CTDOXY_FLAG_W,OXYGEN,OXYGEN_FLAG_W,SILCAT,SILCAT_FLAG_W,NITRAT,NITRAT_FLAG_W,NITRIT,NITRIT_FLAG_W,PHSPHT,PHSPHT_FLAG_W,CFC-11,CFC-11_FLAG_W,CFC-12,CFC-12_FLAG_W,SF6,SF6_FLAG_W,TCARBN,TCARBN_FLAG_W,ALKALI,ALKALI_FLAG_W,PH_TOT,PH_TOT_FLAG_W,PH_TMP,DELC13,DELC13_FLAG_W,DELC14,DELC14_FLAG_W,C14ERR,DOC,DOC_FLAG_W,TDN,TDN_FLAG_W,TON,TON_FLAG_W,D15N_NO3,D15N_NO3_FLAG_W,BTL_DATE,BTL_TIME,BTL_LAT,BTL_LON,CTDRINKO,CTDRINKO_FLAG_W,CTDFLUOR,CTDFLUOR_FLAG_W,CTDXMISS,CTDXMISS_FLAG_W,CTDBACKSCATTER,CTDBACKSCATTER_FLAG_W,D18O_NO3,D18O_NO3_FLAG_W,DOP,DOP_FLAG_W,CELLCOUNT,CELLCOUNT_FLAG_W,TDP,TDP_FLAG_W,POP,POP_FLAG_W,DATP,DATP_FLAG_W,PATP,PATP_FLAG_W,HPLC,HPLC_FLAG_W,POC,POC_FLAG_W,BEAMAP,BEAMAP_FLAG_W,DOC_NASA,DOC_NASA_FLAG_W,REFTMP,REFTMP_FLAG_W,DOC_NASA_ERROR,TDN_NASA,TDN_NASA_FLAG_W,TDN_NASA_ERROR
,,,,,,,,,,,METERS,DBAR,ITS-90,PSS-78,,PSS-78,,UMOL/KG,,UMOL/KG,,UMOL/KG,,UMOL/KG,,UMOL/KG,,UMOL/KG,,PMOL/KG,,PMOL/KG,,FMOL/KG,,UMOL/KG,,UMOL/KG,,,,DEG C,/MILLE,,/MILLE,,/MILLE,UMOL/KG,,UMOL/KG,,UMOL/KG,,/MILLE,,,,,,VOLTS,,VOLTS,,VOLTS,,VOLTS,,/MILLE,,UMOL/KG,,/LITER,,UMOL/KG,,UMOL/L,,PMOL/L,,PMOL/L,,,,UG/L,,/METER,,UMOL/L,,ITS-90,,UMOL/L,UMOL/L,,UMOL/L
320620170820,        P06,     195,          1,          1,          1,2,20170912,       2343,   -32.4998,  -107.5659,       3276,  3316.8,   1.7987,  34.6850,2,  34.6875,2, 165.8663,2, 166.4646,2,   118.0,2,   34.40,2,    0.00,2,    2.38,2,   0.039,2,   0.022,2,   0.0000,2,  2297.3,6,  2392.0,2,   7.5899,2,    25.00, -999.00,9, -999.00,9, -999.00,  -999.0,9, -999.00,9,     -999.0,9,  -999.0,1, 20170912,     2343, -32.5002,-107.5655,        0.0,1,      0.061,1,      4.687,1,      0.131,1,     -999.0,1,     -999.0,9,     -999.0,9,     -999.0,9,     -999.0,9,     -999.0,9,     -999.0,9,     -999.0,9,     -999.0,9,     -999.0,9,     -999.0,9,     1.7988,2,     -999.0,     -999.0,9,     -999.0
320620170820,        P06,     195,          1,          2,          2,2,20170912,       2343,   -32.4998,  -107.5659,       3276,  3196.4,   1.7882,  34.6846,2,  34.6869,2, 165.8663,2, 166.3599,2,   118.3,2,   34.43,2,    0.00,2,    2.39,2,   0.044,2,   0.030,2,   0.0000,2,  -999.0,9,  2391.2,2,   7.5890,2,    25.00, -999.00,9, -999.00,9, -999.00,  -999.0,9, -999.00,9,     -999.0,9,  -999.0,1, 20170912,     2347, -32.5001,-107.5657,        0.0,1,      0.061,1,      4.688,1,      0.133,1,     -999.0,1,     -999.0,9,     -999.0,9,     -999.0,9,     -999.0,9,     -999.0,9,     -999.0,9,     -999.0,9,     -999.0,9,     -999.0,9,     -999.0,9,     1.7884,2,     -999.0,     -999.0,9,     -999.0
320620170820,        P06,     195,          1,          3,          3,2,20170912,       2343,   -32.4998,  -107.5659,       3276,  3043.3,   1.7803,  34.6827,2,  34.6848,2, 165.8663,2, 165.5995,2,   118.5,2,   34.43,2,    0.00,2,    2.40,2,   0.042,2,   0.027,2,   0.0000,2,  2299.4,2,  2392.2,2,   7.5892,2,    25.00, -999.00,9, -999.00,9, -999.00,  -999.0,9, -999.00,9,     -999.0,9,  -999.0,1, 20170912,     2351, -32.5001,-107.5656,        0.0,1,      0.061,1,      4.689,1,      0.130,1,     -999.0,1,     -999.0,9,     -999.0,9,     -999.0,9,     -999.0,9,     -999.0,9,     -999.0,9,     -999.0,9,     -999.0,9,     -999.0,9,     -999.0,9,     1.7803,2,     -999.0,     -999.0,9,     -999.0
320620170820,        P06,     195,          1,          4,          4,2,20170912,       2343,   -32.4998,  -107.5659,       3276,  2837.8,   1.7714,  34.6798,2,  34.6822,2, 165.7375,2,  165.184,2,   118.6,2,   34.49,2,    0.00,2,    2.41,2,-999.000,9,-999.000,9,-999.0000,9,  -999.0,9,  2388.8,2,   7.5877,2,    25.00, -999.00,9, -999.00,9, -999.00,  -999.0,9, -999.00,9,     -999.0,9,  -999.0,1, 20170912,     2355, -32.5001,-107.5654,        0.0,1,      0.061,1,      4.690,1,      0.128,1,     -999.0,1,     -999.0,9,     -999.0,9,     -999.0,9,     -999.0,9,     -999.0,9,     -999.0,9,     -999.0,9,     -999.0,9,     -999.0,9,     -999.0,9,     1.7702,2,     -999.0,     -999.0,9,     -999.0
320620170820,        P06,     195,          1,          5,          5,2,20170912,       2343,   -32.4998,  -107.5659,       3276,  2635.9,   1.7788,  34.6768,2,  34.6787,2, 164.7575,2, 164.1431,2,   118.2,2,   34.57,2,    0.00,2,    2.40,2,   0.037,2,   0.025,2,   0.0000,2,  2298.2,2,  2389.0,2,   7.5862,2,    25.00, -999.00,9, -999.00,9, -999.00,  -999.0,9, -999.00,9,     -999.0,9,  -999.0,1, 20170913,        0, -32.5000,-107.5658,        0.0,1,      0.060,1,      4.690,1,      0.129,1,     -999.0,1,     -999.0,9,     -999.0,9,     -999.0,9,     -999.0,9,     -999.0,9,     -999.0,9,     -999.0,9,     -999.0,9,     -999.0,9,     -999.0,9,     1.7772,2,     -999.0,     -999.0,9,     -999.0
320620170820,        P06,     195,          1,          6,          6,2,20170912,       2343,   -32.4998,  -107.5659,       3276,  2429.7,   1.8263,  34.6719,2,  34.6737,2,  163.058,2, 163.0483,2,   116.8,2,   34.65,2,    0.00,2,    2.42,2,   0.042,2,   0.029,2,   0.0000,2,  -999.0,9,  2386.2,2,   7.5825,2,    25.00, -999.00,9, -999.00,9, -999.00,  -999.0,9, -999.00,9,     -999.0,9,  -999.0,1, 20170913,        4, -32.4999,-107.5660,        0.0,1,      0.060,1,      4.690,1,      0.129,1,     -999.0,1,     -999.0,9,     -999.0,9,     -999.0,9,     -999.0,9,     -999.0,9,     -999.0,9,     -999.0,9,     -999.0,9,     -999.0,9,     -999.0,9,     1.8230,2,     -999.0,     -999.0,9,     -999.0
320620170820,        P06,     195,          1,          7,          7,2,20170912,       2343,   -32.4998,  -107.5659,       3276,  2228.4,   1.9477,  34.6618,2,  34.6643,2, 160.7036,2, 161.3416,2,   112.0,2,   34.67,2,    0.00,2,    2.40,2,   0.044,2,   0.032,2,   0.0000,2,  2293.4,2,  2380.7,2,   7.5773,2,    25.00, -999.00,9, -999.00,9, -999.00,  -999.0,9, -999.00,9,     -999.0,9,  -999.0,1, 20170913,        9, -32.4999,-107.5660,        0.0,1,      0.061,1,      4.690,1,      0.128,1,     -999.0,1,     -999.0,9,     -999.0,9,     -999.0,9,     -999.0,9,     -999.0,9,     -999.0,9,     -999.0,9,     -999.0,9,     -999.0,9,     -999.0,9,     1.9356,2,     -999.0,     -999.0,9,     -999.0
320620170820,        P06,     195,          1,          8,          8,2,20170912,       2343,   -32.4998,  -107.5659,       3276,  2023.7,   2.1386,  34.6400,2,  34.6433,2, 157.6424,2, 157.8984,2,   105.2,2,   34.91,2,    0.00,2,    2.43,2,-999.000,9,-999.000,9,-999.0000,9,  -999.0,9,  2375.4,6,   7.5699,2,    25.00, -999.00,9, -999.00,9, -999.00,  -999.0,9, -999.00,9,     -999.0,9,  -999.0,1, 20170913,       13, -32.4998,-107.5661,        0.0,1,      0.061,1,      4.690,1,      0.129,1,     -999.0,1,     -999.0,9,     -999.0,9,     -999.0,9,     -999.0,9,     -999.0,9,     -999.0,9,     -999.0,9,     -999.0,9,     -999.0,9,     -999.0,9,     2.1288,2,     -999.0,     -999.0,9,     -999.0
320620170820,        P06,     195,          1,          9,          9,2,20170912,       2343,   -32.4998,  -107.5659,       3276,  1819.6,   2.3761,  34.6057,2,  34.6075,2,  152.897,2, 152.7753,2,    98.0,2,   35.38,2,    0.00,2,    2.47,2,   0.044,2,   0.032,2,   0.0000,2,  2285.7,2,  2367.2,2,   7.5586,6,    25.00, -999.00,9, -999.00,9, -999.00,  -999.0,9, -999.00,9,     -999.0,9,  -999.0,1, 20170913,       18, -32.4999,-107.5660,        0.0,1,      0.061,1,      4.691,1,      0.128,1,     -999.0,1,     -999.0,9,     -999.0,9,     -999.0,9,     -999.0,9,     -999.0,9,     -999.0,9,     -999.0,9,     -999.0,9,     -999.0,9,     -999.0,9,     2.3696,2,     -999.0,     -999.0,9,     -999.0
320620170820,        P06,     195,          1,         10,         10,2,20170912,       2343,   -32.4998,  -107.5659,       3276,  1720.2,   2.5105,  34.5910,2,  34.5916,2, 146.3119,2,  145.494,2,    96.6,2,   36.17,2,    0.00,2,    2.52,2,-999.000,9,-999.000,9,-999.0000,9,  -999.0,9,  2364.8,2,   7.5487,2,    25.00, -999.00,9, -999.00,9, -999.00,  -999.0,9, -999.00,9,     -999.0,9,  -999.0,1, 20170913,       21, -32.5000,-107.5659,        0.0,1,      0.061,1,      4.691,1,      0.129,1,     -999.0,1,     -999.0,9,     -999.0,9,     -999.0,9,     -999.0,9,     -999.0,9,     -999.0,9,     -999.0,9,     -999.0,9,     -999.0,9,     -999.0,9,     2.5084,2,     -999.0,     -999.0,9,     -999.0
320620170820,        P06,     195,          1,         11,         11,2,20170912,       2343,   -32.4998,  -107.5659,       3276,  1616.7,   2.7138,  34.5721,2,  34.5741,2, 137.9727,2, 137.6659,2,    93.6,2,   36.87,2,    0.00,2,    2.59,2,   0.037,2,   0.026,2,   0.0000,2,  2291.0,2,  2361.9,2,   7.5361,2,    25.00, -999.00,9, -999.00,9, -999.00,  -999.0,9, -999.00,9,     -999.0,9,  -999.0,1, 20170913,       24, -32.5000,-107.5657,        0.0,1,      0.061,1,      4.690,1,      0.128,1,     -999.0,1,     -999.0,9,     -999.0,9,     -999.0,9,     -999.0,9,     -999.0,9,     -999.0,9,     -999.0,9,     -999.0,9,     -999.0,9,     -999.0,9,     2.6994,2,     -999.0,     -999.0,9,     -999.0
320620170820,        P06,     195,          1,         12,         12,2,20170912,       2343,   -32.4998,  -107.5659,       3276,  1516.0,   2.9222,  34.5499,2,  34.5541,2, 132.1928,2, 132.7251,2,    89.1,2,   37.39,2,    0.00,2,    2.63,2,-999.000,9,-999.000,9,-999.0000,9,  -999.0,9,  2356.6,2,   7.5258,2,    25.00, -999.00,9, -999.00,9, -999.00,  -999.0,9, -999.00,9,     -999.0,9,  -999.0,1, 20170913,       27, -32.5000,-107.5657,        0.0,1,      0.062,1,      4.690,1,      0.129,1,     -999.0,1,     -999.0,9,     -999.0,9,     -999.0,9,     -999.0,9,     -999.0,9,     -999.0,9,     -999.0,9,     -999.0,9,     -999.0,9,     -999.0,9,     2.8938,2,     -999.0,     -999.0,9,     -999.0
320620170820,        P06,     195,          1,         13,         13,2,20170912,       2343,   -32.4998,  -107.5659,       3276,  1414.6,   3.0874,  34.5236,2,  34.5292,2, 133.7819,2, 133.9083,2,    82.3,2,   37.38,2,    0.00,2,    2.62,2,   0.038,2,   0.028,2,   0.0000,2,  2282.3,2,  2347.7,2,   7.5243,2,    25.00, -999.00,9, -999.00,9, -999.00,  -999.0,9, -999.00,9,     -999.0,9,  -999.0,1, 20170913,       30, -32.4999,-107.5658,        0.0,1,      0.061,1,      4.691,1,      0.131,1,     -999.0,1,     -999.0,9,     -999.0,9,     -999.0,9,     -999.0,9,     -999.0,9,     -999.0,9,     -999.0,9,     -999.0,9,     -999.0,9,     -999.0,9,     3.0627,2,     -999.0,     -999.0,9,     -999.0
320620170820,        P06,     195,          1,         14,         14,2,20170912,       2343,   -32.4998,  -107.5659,       3276,  1314.5,   3.3178,  34.4910,2,  34.4921,2, 131.2527,2, 131.3884,2,    74.0,2,   37.66,2,    0.00,2,    2.62,2,   0.043,2,   0.031,2,   0.0000,2,  2275.1,6,  2336.2,2,   7.5163,2,    25.00, -999.00,9, -999.00,9, -999.00,  -999.0,9, -999.00,9,     -999.0,9,  -999.0,1, 20170913,       33, -32.4998,-107.5659,        0.0,1,      0.062,1,      4.691,1,      0.130,1,     -999.0,1,     -999.0,9,     -999.0,9,     -999.0,9,     -999.0,9,     -999.0,9,     -999.0,9,     -999.0,9,     -999.0,9,     -999.0,9,     -999.0,9,     3.3181,2,     -999.0,     -999.0,9,     -999.0
320620170820,        P06,     195,          1,         15,         15,2,20170912,       2343,   -32.4998,  -107.5659,       3276,  1213.5,   3.4965,  34.4372,2,  34.4371,2, 144.3408,2,  143.558,2,    61.1,2,   36.82,2,    0.00,2,    2.58,2,   0.089,2,   0.062,2,   0.0000,2,  2260.1,2,  2325.8,2,   7.5283,2,    25.00, -999.00,9, -999.00,9, -999.00,  -999.0,9, -999.00,9,     -999.0,9,  -999.0,1, 20170913,       36, -32.4998,-107.5659,        0.0,1,      0.061,1,      4.690,1,      0.130,1,     -999.0,1,     -999.0,9,     -999.0,9,     -999.0,9,     -999.0,9,     -999.0,9,     -999.0,9,     -999.0,9,     -999.0,9,     -999.0,9,     -999.0,9,     3.4981,2,     -999.0,     -999.0,9,     -999.0
320620170820,        P06,     195,          1,         16,         16,2,20170912,       2343,   -32.4998,  -107.5659,       3276,  1111.7,   3.7573,  34.3741,2,  34.3751,2,  162.796,2, 164.2257,2,    47.5,2,   35.20,2,    0.00,2,    2.41,2,   0.245,2,   0.147,2,   0.0440,2,  -999.0,9,  2309.2,2,   7.5559,2,    25.00, -999.00,9, -999.00,9, -999.00,  -999.0,9, -999.00,9,     -999.0,9,  -999.0,1, 20170913,       39, -32.4998,-107.5659,        0.0,1,      0.061,1,      4.690,1,      0.130,1,     -999.0,1,     -999.0,9,     -999.0,9,     -999.0,9,     -999.0,9,     -999.0,9,     -999.0,9,     -999.0,9,     -999.0,9,     -999.0,9,     -999.0,9,     3.7449,2,     -999.0,     -999.0,9,     -999.0
320620170820,        P06,     195,          1,         17,         17,2,20170912,       2343,   -32.4998,  -107.5659,       3276,  1009.7,   4.1491,  34.3234,2,  34.3239,2, 187.1466,2, 186.8262,2,    34.7,2,   32.90,2,    0.00,2,    2.26,2,   0.634,2,   0.342,2,   0.1030,2,  2208.7,2,  2296.0,2,   7.5930,2,    25.00, -999.00,9, -999.00,9, -999.00,  -999.0,9, -999.00,9,     -999.0,9,  -999.0,1, 20170913,       42, -32.4998,-107.5659,        0.0,1,      0.060,1,      4.691,1,      0.129,1,     -999.0,1,     -999.0,9,     -999.0,9,     -999.0,9,     -999.0,9,     -999.0,9,     -999.0,9,     -999.0,9,     -999.0,9,     -999.0,9,     -999.0,9,     4.1514,2,     -999.0,     -999.0,9,     -999.0
320620170820,        P06,     195,          1,         18,         18,2,20170912,       2343,   -32.4998,  -107.5659,       3276,   908.5,   4.6871,  34.2858,2,  34.2883,2, 207.2503,2, 206.7554,2,    23.9,2,   30.54,2,    0.00,2,    2.06,2,   1.324,2,   0.673,2,   0.2000,2,  -999.0,9,  2289.6,2,   7.6273,2,    25.00, -999.00,9, -999.00,9, -999.00,  -999.0,9, -999.00,9,     -999.0,9,  -999.0,1, 20170913,       44, -32.4998,-107.5659,        0.0,1,      0.059,1,      4.691,1,      0.130,1,     -999.0,1,     -999.0,9,     -999.0,9,     -999.0,9,     -999.0,9,     -999.0,9,     -999.0,9,     -999.0,9,     -999.0,9,     -999.0,9,     -999.0,9,     4.6430,2,     -999.0,     -999.0,9,     -999.0
320620170820,        P06,     195,          1,         19,         19,2,20170912,       2343,   -32.4998,  -107.5659,       3276,   807.8,   5.2068,  34.2670,2,  34.2674,2, 226.7325,2, 226.3656,2,    15.3,2,   27.95,2,    0.00,2,    1.88,2,   2.318,2,   1.177,2,   0.4560,2,  2168.9,2,  2277.2,2,   7.6595,2,    25.00, -999.00,9, -999.00,9, -999.00,  -999.0,9, -999.00,9,     -999.0,9,  -999.0,1, 20170913,       48, -32.4998,-107.5659,        0.0,1,      0.059,1,      4.690,1,      0.130,1,     -999.0,1,     -999.0,9,     -999.0,9,     -999.0,9,     -999.0,9,     -999.0,9,     -999.0,9,     -999.0,9,     -999.0,9,     -999.0,9,     -999.0,9,     5.1835,2,     -999.0,     -999.0,9,     -999.0
320620170820,        P06,     195,          1,         20,         20,2,20170912,       2343,   -32.4998,  -107.5659,       3276,   707.1,   5.7144,  34.2769,2,  34.2766,2, 240.0846,2, 240.2636,2,    10.5,2,   25.52,2,    0.00,2,    1.71,2,-999.000,9,-999.000,9,-999.0000,9,  -999.0,9,  2274.8,2,   7.6874,2,    25.00, -999.00,9, -999.00,9, -999.00,  -999.0,9, -999.00,9,     -999.0,9,  -999.0,1, 20170913,       51, -32.4997,-107.5660,        0.0,1,      0.059,1,      4.690,1,      0.133,1,     -999.0,1,     -999.0,9,     -999.0,9,     -999.0,9,     -999.0,9,     -999.0,9,     -999.0,9,     -999.0,9,     -999.0,9,     -999.0,9,     -999.0,9,     5.7215,2,     -999.0,     -999.0,9,     -999.0
320620170820,        P06,     195,          1,         21,         21,2,20170912,       2343,   -32.4998,  -107.5659,       3276,   606.2,   6.1209,  34.2942,2,  34.2950,2, 245.2327,2,  245.583,2,     8.3,2,   24.11,2,    0.00,2,    1.60,2,   3.493,2,   1.811,2,   0.9520,2,  2149.6,6,  2273.8,2,   7.6990,2,    25.00, -999.00,9, -999.00,9, -999.00,  -999.0,9, -999.00,9,     -999.0,9,  -999.0,1, 20170913,       53, -32.4997,-107.5660,        0.0,1,      0.059,1,      4.689,1,      0.132,1,     -999.0,1,     -999.0,9,     -999.0,9,     -999.0,9,     -999.0,9,     -999.0,9,     -999.0,9,     -999.0,9,     -999.0,9,     -999.0,9,     -999.0,9,     6.1261,2,     -999.0,     -999.0,9,     -999.0
320620170820,        P06,     195,          1,         22,         22,2,20170912,       2343,   -32.4998,  -107.5659,       3276,   504.1,   6.6177,  34.3178,2,  34.3184,2, 244.0791,2, 244.2409,2,     6.7,2,   22.89,2,    0.00,2,    1.52,2,   3.705,2,   1.961,2,   1.1630,2,  -999.0,9,  2272.5,2,   7.7001,2,    25.00, -999.00,9, -999.00,9, -999.00,  -999.0,9, -999.00,9,     -999.0,9,  -999.0,1, 20170913,       57, -32.4998,-107.5659,        0.0,1,      0.060,1,      4.689,1,      0.134,1,     -999.0,1,     -999.0,9,     -999.0,9,     -999.0,9,     -999.0,9,     -999.0,9,     -999.0,9,     -999.0,9,     -999.0,9,     -999.0,9,     -999.0,9,     6.6211,2,     -999.0,     -999.0,9,     -999.0
320620170820,        P06,     195,          1,         23,         23,2,20170912,       2343,   -32.4998,  -107.5659,       3276,   452.0,   6.9887,  34.3254,2,  34.3248,2, 241.1841,2, 241.2327,2,     5.8,2,   22.17,2,    0.00,2,    1.49,2,   3.683,2,   1.984,2,   1.2570,2,  2146.4,2,  2271.0,2,   7.7031,6,    25.00, -999.00,9, -999.00,9, -999.00,  -999.0,9, -999.00,9,     -999.0,9,  -999.0,1, 20170913,       59, -32.4999,-107.5658,        0.0,1,      0.060,1,      4.688,1,      0.133,1,     -999.0,1,     -999.0,9,     -999.0,9,     -999.0,9,     -999.0,9,     -999.0,9,     -999.0,9,     -999.0,9,     -999.0,9,     -999.0,9,     -999.0,9,     6.9716,2,     -999.0,     -999.0,9,     -999.0
320620170820,        P06,     195,          1,         24,         24,2,20170912,       2343,   -32.4998,  -107.5659,       3276,   400.4,   7.5360,  34.3179,2,  34.3168,2, 232.4397,2, 232.3044,2,     4.9,2,   21.40,2,    0.00,2,    1.45,2,   3.562,2,   1.942,2,   1.3380,2,  -999.0,9,  2270.3,2,   7.7021,2,    25.00, -999.00,9, -999.00,9, -999.00,  -999.0,9, -999.00,9,     -999.0,9,  -999.0,1, 20170913,      102, -32.4999,-107.5658,        0.0,1,      0.059,1,      4.687,1,      0.133,1,     -999.0,1,     -999.0,9,     -999.0,9,     -999.0,9,     -999.0,9,     -999.0,9,     -999.0,9,     -999.0,9,     -999.0,9,     -999.0,9,     -999.0,9,     7.5219,2,     -999.0,     -999.0,9,     -999.0
320620170820,        P06,     195,          1,         25,         25,2,20170912,       2343,   -32.4998,  -107.5659,       3276,   351.5,   8.4768,  34.3229,2,  34.3184,2, 229.1438,2, 229.5979,2,     3.4,2,   19.42,2,    0.00,2,    1.30,2,   3.519,2,   1.940,2,   1.3800,2,  2136.4,2,  2266.7,2,   7.7191,2,    25.00, -999.00,9, -999.00,9, -999.00,  -999.0,9, -999.00,9,     -999.0,9,  -999.0,1, 20170913,      104, -32.4999,-107.5657,        0.0,1,      0.060,1,      4.685,1,      0.133,1,     -999.0,1,     -999.0,9,     -999.0,9,     -999.0,9,     -999.0,9,     -999.0,9,     -999.0,9,     -999.0,9,     -999.0,9,     -999.0,9,     -999.0,9,     8.3831,2,     -999.0,     -999.0,9,     -999.0
320620170820,        P06,     195,          1,         26,         26,2,20170912,       2343,   -32.4998,  -107.5659,       3276,   301.3,   9.7485,  34.3750,2,  34.3723,2, 226.0817,2, 226.2085,2,     1.9,2,   15.83,2,    0.00,2,    1.08,2,   3.340,2,   1.843,2,   1.5750,2,  2124.3,2,  2270.3,6,   7.7535,2,    25.00, -999.00,9, -999.00,9, -999.00,  -999.0,9, -999.00,9,     -999.0,9,  -999.0,1, 20170913,      107, -32.5000,-107.5657,        0.0,1,      0.060,1,      4.684,1,      0.131,1,     -999.0,1,     -999.0,9,     -999.0,9,     -999.0,9,     -999.0,9,     -999.0,9,     -999.0,9,     -999.0,9,     -999.0,9,     -999.0,9,     -999.0,9,     9.8056,2,     -999.0,     -999.0,9,     -999.0