BOTTLE,20240211CCHSIOCBG
EXPOCODE,SECT_ID,STNNBR,CASTNO,SAMPNO,BTLNBR,BTLNBR_FLAG_W,DATE,TIME,LATITUDE,LONGITUDE,DEPTH,CTDPRS,CTDTMP,CTDSAL,CTDSAL_FLAG_W,SALNTY,SALNTY_FLAG_W,CTDOXY,CTDOXY_FLAG_W,OXYGEN,OXYGEN_FLAG_W,SILCAT,SILCAT_FLAG_W,NITRAT,NITRAT_FLAG_W,NITRIT,NITRIT_FLAG_W,PHSPHT,PHSPHT_FLAG_W,CFC-11,CFC-11_FLAG_W,CFC-12,CFC-12_FLAG_W,SF6,SF6_FLAG_W,TCARBN,TCARBN_FLAG_W,ALKALI,ALKALI_FLAG_W,PH_TOT,PH_TOT_FLAG_W,PH_TMP,DELC13,DELC13_FLAG_W,DELC14,DELC14_FLAG_W,C14ERR,DOC,DOC_FLAG_W,TDN,TDN_FLAG_W,TON,TON_FLAG_W,D15N_NO3,D15N_NO3_FLAG_W,BTL_DATE,BTL_TIME,BTL_LAT,BTL_LON,CTDRINKO,CTDRINKO_FLAG_W,CTDFLUOR,CTDFLUOR_FLAG_W,CTDXMISS,CTDXMISS_FLAG_W,CTDBACKSCATTER,CTDBACKSCATTER_FLAG_W,D18O_NO3,D18O_NO3_FLAG_W,DOP,DOP_FLAG_W,CELLCOUNT,CELLCOUNT_FLAG_W,TDP,TDP_FLAG_W,POP,POP_FLAG_W,DATP,DATP_FLAG_W,PATP,PATP_FLAG_W,HPLC,HPLC_FLAG_W,POC,POC_FLAG_W,BEAMAP,BEAMAP_FLAG_W,DOC_NASA,DOC_NASA_FLAG_W,REFTMP,REFTMP_FLAG_W,DOC_NASA_ERROR,TDN_NASA,TDN_NASA_FLAG_W,TDN_NASA_ERROR
,,,,,,,,,,,METERS,DBAR,ITS-90,PSS-78,,PSS-78,,UMOL/KG,,UMOL/KG,,UMOL/KG,,UMOL/KG,,UMOL/KG,,UMOL/KG,,PMOL/KG,,PMOL/KG,,FMOL/KG,,UMOL/KG,,UMOL/KG,,,,DEG C,/MILLE,,/MILLE,,/MILLE,UMOL/KG,,UMOL/KG,,UMOL/KG,,/MILLE,,,,,,VOLTS,,VOLTS,,VOLTS,,VOLTS,,/MILLE,,UMOL/KG,,/LITER,,UMOL/KG,,UMOL/L,,PMOL/L,,PMOL/L,,,,UG/L,,/METER,,UMOL/L,,ITS-90,,UMOL/L,UMOL/L,,UMOL/L
320620170820,        P06,     159,          1,          1,          1,2,20170831,       1220,   -32.5002,  -135.9181,       4334,  4410.1,   1.3286,  34.7057,2,  34.7056,3, 189.6398,3, 191.1174,2,   119.3,2,   32.83,2,    0.00,2,    2.29,2,   0.032,2,   0.018,2,   0.0000,2,  2279.5,6,  2382.2,2,   7.6093,2,    25.00, -999.00,9, -999.00,9, -999.00,  -999.0,9, -999.00,9,     -999.0,9,  -999.0,1, 20170831,     1220, -32.5003,-135.9183,        0.0,1,      0.061,1,      4.693,1,      0.131,1,     -999.0,1,     -999.0,9,     -999.0,9,     -999.0,9,     -999.0,9,     -999.0,9,     -999.0,9,     -999.0,9,     -999.0,9,     -999.0,9,     -999.0,9,     1.3290,2,     -999.0,     -999.0,9,     -999.0
320620170820,        P06,     159,          1,          2,          2,2,20170831,       1220,   -32.5002,  -135.9181,       4334,  4175.8,   1.3415,  34.7039,2,  34.7030,2, 189.9066,2,  189.779,2,   119.7,2,   33.01,2,    0.00,2,    2.30,2,   0.029,2,   0.018,2,   0.0000,2,  -999.0,9,  -999.0,9,-999.0000,9,  -999.00, -999.00,9, -999.00,9, -999.00,  -999.0,9, -999.00,9,     -999.0,9,  -999.0,1, 20170831,     1229, -32.5003,-135.9180,        0.0,1,      0.061,1,      4.694,1,      0.124,1,     -999.0,1,     -999.0,9,     -999.0,9,     -999.0,9,     -999.0,9,     -999.0,9,     -999.0,9,     -999.0,9,     -999.0,9,     -999.0,9,     -999.0,9,     1.3404,2,     -999.0,     -999.0,9,     -999.0
320620170820,        P06,     159,          1,          3,          3,2,20170831,       1220,   -32.5002,  -135.9181,       4334,  3962.7,   1.4195,  34.6987,2,  34.6973,3, 184.3847,3, 183.2329,2,   121.1,2,   33.53,2,    0.00,2,    2.32,2,   0.027,2,   0.016,2,   0.0000,2,  2283.9,2,  2385.6,2,   7.6010,2,    25.00, -999.00,9, -999.00,9, -999.00,  -999.0,9, -999.00,9,     -999.0,9,  -999.0,1, 20170831,     1235, -32.4998,-135.9172,        0.0,1,      0.062,1,      4.695,1,      0.124,1,     -999.0,1,     -999.0,9,     -999.0,9,     -999.0,9,     -999.0,9,     -999.0,9,     -999.0,9,     -999.0,9,     -999.0,9,     -999.0,9,     -999.0,9,     1.4153,2,     -999.0,     -999.0,9,     -999.0
320620170820,        P06,     159,          1,          4,          4,2,20170831,       1220,   -32.5002,  -135.9181,       4334,  3657.2,   1.5388,  34.6882,2,  34.6879,2, 174.8202,2, 174.0866,2,   122.7,2,   34.07,2,    0.00,2,    2.38,2,   0.029,2,   0.021,2,   0.0000,2,  -999.0,9,  -999.0,9,-999.0000,9,  -999.00, -999.00,9, -999.00,9, -999.00,  -999.0,9, -999.00,9,     -999.0,9,  -999.0,1, 20170831,     1242, -32.5001,-135.9178,        0.0,1,      0.061,1,      4.695,1,      0.124,1,     -999.0,1,     -999.0,9,     -999.0,9,     -999.0,9,     -999.0,9,     -999.0,9,     -999.0,9,     -999.0,9,     -999.0,9,     -999.0,9,     -999.0,9,     1.5395,2,     -999.0,     -999.0,9,     -999.0
320620170820,        P06,     159,          1,          5,          5,2,20170831,       1220,   -32.5002,  -135.9181,       4334,  3347.7,   1.6123,  34.6811,2,  34.6812,2, 170.0094,2,  169.605,2,   123.1,2,   34.52,2,    0.00,2,    2.40,2,   0.028,2,   0.018,2,   0.0000,2,  2298.1,2,  2393.3,2,   7.5918,2,    25.00, -999.00,9, -999.00,9, -999.00,  -999.0,9, -999.00,9,     -999.0,9,  -999.0,1, 20170831,     1250, -32.5002,-135.9181,        0.0,1,      0.060,1,      4.695,1,      0.125,1,     -999.0,1,     -999.0,9,     -999.0,9,     -999.0,9,     -999.0,9,     -999.0,9,     -999.0,9,     -999.0,9,     -999.0,9,     -999.0,9,     -999.0,9,     1.6080,2,     -999.0,     -999.0,9,     -999.0
320620170820,        P06,     159,          1,          6,          6,2,20170831,       1220,   -32.5002,  -135.9181,       4334,  3045.3,   1.6687,  34.6753,2,  34.6751,2,  165.883,2, 165.5772,2,   123.0,2,   34.78,2,    0.00,2,    2.44,2,   0.028,2,   0.018,2,   0.0000,2,  -999.0,9,  -999.0,9,-999.0000,9,  -999.00, -999.00,9, -999.00,9, -999.00,  -999.0,9, -999.00,9,     -999.0,9,  -999.0,1, 20170831,     1256, -32.5002,-135.9181,        0.0,1,      0.061,1,      4.696,1,      0.126,1,     -999.0,1,     -999.0,9,     -999.0,9,     -999.0,9,     -999.0,9,     -999.0,9,     -999.0,9,     -999.0,9,     -999.0,9,     -999.0,9,     -999.0,9,     1.6652,2,     -999.0,     -999.0,9,     -999.0
320620170820,        P06,     159,          1,          7,          7,2,20170831,       1220,   -32.5002,  -135.9181,       4334,  2788.4,   1.7257,  34.6696,2,  34.6690,2, 162.0309,2, 161.9105,2,   122.9,2,   35.08,2,    0.00,2,    2.45,2,   0.030,2,   0.020,2,   0.0000,2,  2302.3,2,  2395.0,2,   7.5834,6,    25.00, -999.00,9, -999.00,9, -999.00,  -999.0,9, -999.00,9,     -999.0,9,  -999.0,1, 20170831,     1302, -32.5001,-135.9179,        0.0,1,      0.061,1,      4.696,1,      0.127,1,     -999.0,1,     -999.0,9,     -999.0,9,     -999.0,9,     -999.0,9,     -999.0,9,     -999.0,9,     -999.0,9,     -999.0,9,     -999.0,9,     -999.0,9,     1.7269,2,     -999.0,     -999.0,9,     -999.0
320620170820,        P06,     159,          1,          8,          8,2,20170831,       1220,   -32.5002,  -135.9181,       4334,  2534.4,   1.8167,  34.6618,2,  34.6600,2, 157.7896,2, 158.0754,2,   121.4,2,   35.33,2,    0.00,2,    2.45,2,   0.034,2,   0.022,2,   0.0000,2,  -999.0,9,  -999.0,9,-999.0000,9,  -999.00, -999.00,9, -999.00,9, -999.00,  -999.0,9, -999.00,9,     -999.0,9,  -999.0,1, 20170831,     1307, -32.5000,-135.9177,        0.0,1,      0.060,1,      4.696,1,      0.127,1,     -999.0,1,     -999.0,9,     -999.0,9,     -999.0,9,     -999.0,9,     -999.0,9,     -999.0,9,     -999.0,9,     -999.0,9,     -999.0,9,     -999.0,9,     1.8192,2,     -999.0,     -999.0,9,     -999.0
320620170820,        P06,     159,          1,          9,          9,2,20170831,       1220,   -32.5002,  -135.9181,       4334,  2278.7,   1.9474,  34.6507,2,  34.6494,2, 154.7625,2,  155.804,2,   117.0,2,   35.40,2,    0.00,2,    2.47,2,   0.031,2,   0.022,2,   0.0000,2,  2301.6,2,  2390.4,2,   7.5747,2,    25.00, -999.00,9, -999.00,9, -999.00,  -999.0,9, -999.00,9,     -999.0,9,  -999.0,1, 20170831,     1313, -32.4999,-135.9176,        0.0,1,      0.061,1,      4.696,1,      0.129,1,     -999.0,1,     -999.0,9,     -999.0,9,     -999.0,9,     -999.0,9,     -999.0,9,     -999.0,9,     -999.0,9,     -999.0,9,     -999.0,9,     -999.0,9,     1.9517,2,     -999.0,     -999.0,9,     -999.0
320620170820,        P06,     159,          1,         10,         10,2,20170831,       1220,   -32.5002,  -135.9181,       4334,  2024.6,   2.1077,  34.6329,2,  34.6288,2, 153.3812,2, 154.6443,2,   109.6,2,   35.37,2,    0.00,2,    2.46,2,   0.038,2,   0.027,2,   0.0000,2,  -999.0,9,  -999.0,9,-999.0000,9,  -999.00, -999.00,9, -999.00,9, -999.00,  -999.0,9, -999.00,9,     -999.0,9,  -999.0,1, 20170831,     1318, -32.4998,-135.9176,        0.0,1,      0.061,1,      4.696,1,      0.128,1,     -999.0,1,     -999.0,9,     -999.0,9,     -999.0,9,     -999.0,9,     -999.0,9,     -999.0,9,     -999.0,9,     -999.0,9,     -999.0,9,     -999.0,9,     2.1366,2,     -999.0,     -999.0,9,     -999.0
320620170820,        P06,     159,          1,         11,         11,2,20170831,       1220,   -32.5002,  -135.9181,       4334,  1823.8,   2.2977,  34.6075,2,  34.6050,2,    156.2,3, 162.3057,2,   101.6,2,   35.26,2,    0.00,2,    2.45,2,   0.028,2,   0.022,2,   0.0000,2,  2285.3,6,  2376.1,2,   7.5695,2,    25.00, -999.00,9, -999.00,9, -999.00,  -999.0,9, -999.00,9,     -999.0,9,  -999.0,1, 20170831,     1323, -32.4998,-135.9177,        0.0,1,      0.061,1,      4.696,1,      0.127,1,     -999.0,1,     -999.0,9,     -999.0,9,     -999.0,9,     -999.0,9,     -999.0,9,     -999.0,9,     -999.0,9,     -999.0,9,     -999.0,9,     -999.0,9,     2.3068,2,     -999.0,     -999.0,9,     -999.0
320620170820,        P06,     159,          1,         12,         12,2,20170831,       1220,   -32.5002,  -135.9181,       4334,  1618.7,   2.5305,  34.5687,2,  34.5655,2, 159.4797,2, 159.7368,2,    89.0,2,   35.10,2,    0.00,2,    2.43,2,   0.048,2,   0.032,2,   0.0000,2,  -999.0,9,  -999.0,9,-999.0000,9,  -999.00, -999.00,9, -999.00,9, -999.00,  -999.0,9, -999.00,9,     -999.0,9,  -999.0,1, 20170831,     1328, -32.4998,-135.9178,        0.0,1,      0.061,1,      4.696,1,      0.129,1,     -999.0,1,     -999.0,9,     -999.0,9,     -999.0,9,     -999.0,9,     -999.0,9,     -999.0,9,     -999.0,9,     -999.0,9,     -999.0,9,     -999.0,9,     2.5406,2,     -999.0,     -999.0,9,     -999.0
320620170820,        P06,     159,          1,         13,         13,2,20170831,       1220,   -32.5002,  -135.9181,       4334,  1515.1,   2.7130,  34.5351,2,  34.5353,2, 162.3003,2, 162.7312,2,    81.1,2,   34.97,2,    0.00,2,    2.41,2,   0.067,2,   0.046,2,   0.0000,2,  2264.4,2,  2350.6,6,   7.5689,2,    25.00, -999.00,9, -999.00,9, -999.00,  -999.0,9, -999.00,9,     -999.0,9,  -999.0,1, 20170831,     1331, -32.4998,-135.9178,        0.0,1,      0.061,1,      4.696,1,      0.135,1,     -999.0,1,     -999.0,9,     -999.0,9,     -999.0,9,     -999.0,9,     -999.0,9,     -999.0,9,     -999.0,9,     -999.0,9,     -999.0,9,     -999.0,9,     2.7007,2,     -999.0,     -999.0,9,     -999.0
320620170820,        P06,     159,          1,         14,         14,2,20170831,       1220,   -32.5002,  -135.9181,       4334,  1416.9,   2.9093,  34.4976,2,  34.4934,2, 165.9397,2, 166.6228,2,    70.8,2,   34.69,2,    0.00,2,    2.39,2,   0.111,2,   0.068,2,   0.0000,2,  -999.0,9,  -999.0,9,-999.0000,9,  -999.00, -999.00,9, -999.00,9, -999.00,  -999.0,9, -999.00,9,     -999.0,9,  -999.0,1, 20170831,     1334, -32.4999,-135.9178,        0.0,1,      0.061,1,      4.696,1,      0.129,1,     -999.0,1,     -999.0,9,     -999.0,9,     -999.0,9,     -999.0,9,     -999.0,9,     -999.0,9,     -999.0,9,     -999.0,9,     -999.0,9,     -999.0,9,     2.9230,2,     -999.0,     -999.0,9,     -999.0
320620170820,        P06,     159,          1,         15,         15,2,20170831,       1220,   -32.5002,  -135.9181,       4334,  1313.1,   3.1727,  34.4516,2,  34.4463,2, 172.1992,2,  171.643,2,    61.0,2,   34.42,2,    0.00,2,    2.35,2,   0.193,2,   0.117,2,   0.0000,2,  2239.2,2,  2328.9,2,   7.5721,2,    25.00, -999.00,9, -999.00,9, -999.00,  -999.0,9, -999.00,9,     -999.0,9,  -999.0,1, 20170831,     1336, -32.4997,-135.9177,        0.0,1,      0.060,1,      4.696,1,      0.129,1,     -999.0,1,     -999.0,9,     -999.0,9,     -999.0,9,     -999.0,9,     -999.0,9,     -999.0,9,     -999.0,9,     -999.0,9,     -999.0,9,     -999.0,9,     3.1952,2,     -999.0,     -999.0,9,     -999.0
320620170820,        P06,     159,          1,         16,         16,2,20170831,       1220,   -32.5002,  -135.9181,       4334,  1212.4,   3.5307,  34.3977,2,  34.3906,2, 181.0657,2, 180.7895,2,    49.1,2,   33.63,2,    0.00,2,    2.30,2,   0.433,2,   0.236,2,   0.0000,2,  -999.0,9,  -999.0,9,-999.0000,9,  -999.00, -999.00,9, -999.00,9, -999.00,  -999.0,9, -999.00,9,     -999.0,9,  -999.0,1, 20170831,     1339, -32.4995,-135.9177,        0.0,1,      0.060,1,      4.696,1,      0.130,1,     -999.0,1,     -999.0,9,     -999.0,9,     -999.0,9,     -999.0,9,     -999.0,9,     -999.0,9,     -999.0,9,     -999.0,9,     -999.0,9,     -999.0,9,     3.5638,2,     -999.0,     -999.0,9,     -999.0
320620170820,        P06,     159,          1,         17,         17,2,20170831,       1220,   -32.5002,  -135.9181,       4334,  1112.5,   3.8902,  34.3570,2,  34.3429,2, 193.1958,2, 191.9031,2,    37.8,2,   32.17,2,    0.00,2,    2.20,2,   0.802,2,   0.410,2,   0.1250,2,  2208.5,2,  2305.8,2,   7.6025,2,    25.00, -999.00,9, -999.00,9, -999.00,  -999.0,9, -999.00,9,     -999.0,9,  -999.0,1, 20170831,     1342, -32.4997,-135.9177,        0.0,1,      0.060,1,      4.696,1,      0.129,1,     -999.0,1,     -999.0,9,     -999.0,9,     -999.0,9,     -999.0,9,     -999.0,9,     -999.0,9,     -999.0,9,     -999.0,9,     -999.0,9,     -999.0,9,     4.0372,2,     -999.0,     -999.0,9,     -999.0
320620170820,        P06,     159,          1,         18,         18,2,20170831,       1220,   -32.5002,  -135.9181,       4334,  1010.7,   4.4173,  34.3230,2,  34.3123,2, 204.5475,2, 203.4077,2,    27.6,2,   30.53,2,    0.00,2,    2.07,2,   1.210,2,   0.619,2,   0.2410,2,  -999.0,9,  -999.0,9,-999.0000,9,  -999.00, -999.00,9, -999.00,9, -999.00,  -999.0,9, -999.00,9,     -999.0,9,  -999.0,1, 20170831,     1345, -32.4999,-135.9179,        0.0,1,      0.060,1,      4.696,1,      0.130,1,     -999.0,1,     -999.0,9,     -999.0,9,     -999.0,9,     -999.0,9,     -999.0,9,     -999.0,9,     -999.0,9,     -999.0,9,     -999.0,9,     -999.0,9,     4.5938,2,     -999.0,     -999.0,9,     -999.0
320620170820,        P06,     159,          1,         19,         19,2,20170831,       1220,   -32.5002,  -135.9181,       4334,   907.2,   5.0622,  34.3006,2,  34.2982,2, 205.3817,2,-999.0000,9,    20.4,2,   28.80,2,    0.00,2,    1.94,2,   1.670,2,   0.830,2,   0.3110,2,  2175.6,2,  2291.9,2,   7.6491,2,    25.00, -999.00,9, -999.00,9, -999.00,  -999.0,9, -999.00,9,     -999.0,9,  -999.0,1, 20170831,     1348, -32.5000,-135.9179,        0.0,1,      0.059,1,      4.696,1,      0.131,1,     -999.0,1,     -999.0,9,     -999.0,9,     -999.0,9,     -999.0,9,     -999.0,9,     -999.0,9,     -999.0,9,     -999.0,9,     -999.0,9,     -999.0,9,     5.0706,2,     -999.0,     -999.0,9,     -999.0
320620170820,        P06,     159,          1,         20,         20,2,20170831,       1220,   -32.5002,  -135.9181,       4334,   805.7,   5.6232,  34.2984,2,  34.2962,2, 226.7336,2, 226.5225,2,    14.2,2,   26.72,2,    0.00,2,    1.80,2,   2.319,2,   1.168,2,   0.4150,2,  -999.0,9,  -999.0,9,-999.0000,9,  -999.00, -999.00,9, -999.00,9, -999.00,  -999.0,9, -999.00,9,     -999.0,9,  -999.0,1, 20170831,     1351, -32.5000,-135.9180,        0.0,1,      0.058,1,      4.696,1,      0.131,1,     -999.0,1,     -999.0,9,     -999.0,9,     -999.0,9,     -999.0,9,     -999.0,9,     -999.0,9,     -999.0,9,     -999.0,9,     -999.0,9,     -999.0,9,     5.5924,2,     -999.0,     -999.0,9,     -999.0
320620170820,        P06,     159,          1,         21,         21,2,20170831,       1220,   -32.5002,  -135.9181,       4334,   707.0,   6.0638,  34.3093,2,  34.3085,2, 236.7587,2, 236.7046,2,    10.0,2,   24.76,2,    0.00,2,    1.67,2,   2.934,2,   1.490,2,   0.7190,2,  2153.9,2,  2284.2,2,   7.6926,2,    25.00, -999.00,9, -999.00,9, -999.00,  -999.0,9, -999.00,9,     -999.0,9,  -999.0,1, 20170831,     1354, -32.5000,-135.9180,        0.0,1,      0.059,1,      4.695,1,      0.132,1,     -999.0,1,     -999.0,9,     -999.0,9,     -999.0,9,     -999.0,9,     -999.0,9,     -999.0,9,     -999.0,9,     -999.0,9,     -999.0,9,     -999.0,9,     6.0917,2,     -999.0,     -999.0,9,     -999.0
320620170820,        P06,     159,          1,         22,         22,2,20170831,       1220,   -32.5002,  -135.9181,       4334,   606.4,   6.6208,  34.3361,2,  34.3319,2, 238.8013,2, 239.2242,2,     7.5,2,   23.26,2,    0.00,2,    1.56,2,   3.269,2,   1.697,2,   0.8190,2,  -999.0,9,  -999.0,9,-999.0000,9,  -999.00, -999.00,9, -999.00,9, -999.00,  -999.0,9, -999.00,9,     -999.0,9,  -999.0,1, 20170831,     1357, -32.5000,-135.9180,        0.0,1,      0.060,1,      4.695,1,      0.134,1,     -999.0,1,     -999.0,9,     -999.0,9,     -999.0,9,     -999.0,9,     -999.0,9,     -999.0,9,     -999.0,9,     -999.0,9,     -999.0,9,     -999.0,9,     6.5847,2,     -999.0,     -999.0,9,     -999.0
320620170820,        P06,     159,          1,         23,         23,2,20170831,       1220,   -32.5002,  -135.9181,       4334,   504.9,   7.3075,  34.3732,2,  34.3705,2, 235.1498,3, 237.8341,2,     5.7,2,   21.41,2,    0.00,2,    1.46,2,   3.289,2,   1.844,2,   1.1330,2,  2146.0,2,  2281.6,2,   7.7112,2,    25.00, -999.00,9, -999.00,9, -999.00,  -999.0,9, -999.00,9,     -999.0,9,  -999.0,1, 20170831,     1400, -32.5000,-135.9180,        0.0,1,      0.060,1,      4.693,1,      0.135,1,     -999.0,1,     -999.0,9,     -999.0,9,     -999.0,9,     -999.0,9,     -999.0,9,     -999.0,9,     -999.0,9,     -999.0,9,     -999.0,9,     -999.0,9,     7.2933,2,     -999.0,     -999.0,9,     -999.0
320620170820,        P06,     159,          1,         24,         24,2,20170831,       1220,   -32.5002,  -135.9181,       4334,   453.8,   7.8606,  34.4089,2,  34.4065,2, 236.6078,2, 238.4381,2,     4.3,2,   19.66,2,    0.00,2,    1.36,2,   3.200,6,   1.871,6,   1.2525,6,  -999.0,9,  -999.0,9,-999.0000,9,  -999.00, -999.00,9, -999.00,9, -999.00,  -999.0,9, -999.00,9,     -999.0,9,  -999.0,1, 20170831,     1403, -32.5000,-135.9180,        0.0,1,      0.059,1,      4.692,1,      0.132,1,     -999.0,1,     -999.0,9,     -999.0,9,     -999.0,9,     -999.0,9,     -999.0,9,     -999.0,9,     -999.0,9,     -999.0,9,     -999.0,9,     -999.0,9,     7.8352,2,     -999.0,     -999.0,9,     -999.0
320620170820,        P06,     159,          1,         25,         25,2,20170831,       1220,   -32.5002,  -135.9181,       4334,   404.7,   8.4145,  34.4378,2,  34.4365,2, 229.8105,2, 229.6186,2,     3.7,2,   18.52,2,    0.00,2,    1.28,2,   3.299,2,   1.821,2,   1.3050,2,  2138.3,2,  2279.6,2,   7.7300,2,    25.00, -999.00,9, -999.00,9, -999.00,  -999.0,9, -999.00,9,     -999.0,9,  -999.0,1, 20170831,     1405, -32.5000,-135.9180,        0.0,1,      0.059,1,      4.691,1,      0.132,1,     -999.0,1,     -999.0,9,     -999.0,9,     -999.0,9,     -999.0,9,     -999.0,9,     -999.0,9,     -999.0,9,     -999.0,9,     -999.0,9,     -999.0,9,     8.4688,2,     -999.0,     -999.0,9,     -999.0
320620170820,        P06,     159,          1,         26,         26,2,20170831,       1220,   -32.5002,  -135.9181,       4334,   353.0,   9.5128,  34.5118,2,  34.4985,2,  222.913,2, 222.1903,2,     2.9,2,   16.54,2,    0.00,2,    1.15,2,   3.182,2,   1.766,2,   1.1810,2,  2132.9,2,  2281.6,2,   7.7454,2,    25.00, -999.00,9, -999.00,9, -999.00,  -999.0,9, -999.00,9,     -999.0,9,  -999.0,1, 20170831,     1407, -32.5000,-135.9180,        0.0,1,      0.059,1,      4.690,1,      0.133,1,     -999.0,1,     -999.0,9,     -999.0,9,     -999.0,9,     -999.0,9,     -999.0,9,     -999.0,9,     -999.0,9,     -999.0,9,     -999.0,9,     -999.0,9,     9.4445,2,     -999.0,     -999.0,9,     -999.0