BOTTLE,20240211CCHSIOCBG
EXPOCODE,SECT_ID,STNNBR,CASTNO,SAMPNO,BTLNBR,BTLNBR_FLAG_W,DATE,TIME,LATITUDE,LONGITUDE,DEPTH,CTDPRS,CTDTMP,CTDSAL,CTDSAL_FLAG_W,SALNTY,SALNTY_FLAG_W,CTDOXY,CTDOXY_FLAG_W,OXYGEN,OXYGEN_FLAG_W,SILCAT,SILCAT_FLAG_W,NITRAT,NITRAT_FLAG_W,NITRIT,NITRIT_FLAG_W,PHSPHT,PHSPHT_FLAG_W,CFC-11,CFC-11_FLAG_W,CFC-12,CFC-12_FLAG_W,SF6,SF6_FLAG_W,TCARBN,TCARBN_FLAG_W,ALKALI,ALKALI_FLAG_W,PH_TOT,PH_TOT_FLAG_W,PH_TMP,DELC13,DELC13_FLAG_W,DELC14,DELC14_FLAG_W,C14ERR,DOC,DOC_FLAG_W,TDN,TDN_FLAG_W,TON,TON_FLAG_W,D15N_NO3,D15N_NO3_FLAG_W,BTL_DATE,BTL_TIME,BTL_LAT,BTL_LON,CTDRINKO,CTDRINKO_FLAG_W,CTDFLUOR,CTDFLUOR_FLAG_W,CTDXMISS,CTDXMISS_FLAG_W,CTDBACKSCATTER,CTDBACKSCATTER_FLAG_W,D18O_NO3,D18O_NO3_FLAG_W,DOP,DOP_FLAG_W,CELLCOUNT,CELLCOUNT_FLAG_W,TDP,TDP_FLAG_W,POP,POP_FLAG_W,DATP,DATP_FLAG_W,PATP,PATP_FLAG_W,HPLC,HPLC_FLAG_W,POC,POC_FLAG_W,BEAMAP,BEAMAP_FLAG_W,DOC_NASA,DOC_NASA_FLAG_W,REFTMP,REFTMP_FLAG_W,DOC_NASA_ERROR,TDN_NASA,TDN_NASA_FLAG_W,TDN_NASA_ERROR
,,,,,,,,,,,METERS,DBAR,ITS-90,PSS-78,,PSS-78,,UMOL/KG,,UMOL/KG,,UMOL/KG,,UMOL/KG,,UMOL/KG,,UMOL/KG,,PMOL/KG,,PMOL/KG,,FMOL/KG,,UMOL/KG,,UMOL/KG,,,,DEG C,/MILLE,,/MILLE,,/MILLE,UMOL/KG,,UMOL/KG,,UMOL/KG,,/MILLE,,,,,,VOLTS,,VOLTS,,VOLTS,,VOLTS,,/MILLE,,UMOL/KG,,/LITER,,UMOL/KG,,UMOL/L,,PMOL/L,,PMOL/L,,,,UG/L,,/METER,,UMOL/L,,ITS-90,,UMOL/L,UMOL/L,,UMOL/L
320620170820,        P06,     184,          1,          1,          1,2,20170909,       1840,   -32.4995,  -115.5757,       3247,  3284.2,   1.7522,  34.6736,2,  34.6714,2, 165.0965,2, 165.1362,2,   121.7,2,   34.56,2,    0.00,2,    2.39,2,   0.041,2,   0.024,2,   0.0000,2,  2300.8,6,  2393.5,2,   7.5884,2,    25.00, -999.00,9, -999.00,9, -999.00,    41.0,2, -999.00,9,     -999.0,1,  -999.0,1, 20170909,     1840, -32.4995,-115.5755,        0.0,1,      0.061,1,      4.690,1,      0.128,1,     -999.0,1,     -999.0,9,     -999.0,9,     -999.0,9,     -999.0,9,     -999.0,9,     -999.0,9,     -999.0,9,     -999.0,9,     -999.0,9,     -999.0,9,     1.7528,2,     -999.0,     -999.0,9,     -999.0
320620170820,        P06,     184,          1,          2,          2,2,20170909,       1840,   -32.4995,  -115.5757,       3247,  3211.1,   1.7512,  34.6733,2,  34.6724,2, 165.0965,2, 165.6022,2,   122.0,2,   34.58,2,    0.00,2,    2.40,2,   0.040,2,   0.027,2,   0.0000,2,  -999.0,9,  -999.0,9,-999.0000,9,  -999.00, -999.00,9, -999.00,9, -999.00,  -999.0,9, -999.00,9,     -999.0,9,  -999.0,1, 20170909,     1842, -32.4994,-115.5755,        0.0,1,      0.061,1,      4.690,1,      0.130,1,     -999.0,1,     -999.0,9,     -999.0,9,     -999.0,9,     -999.0,9,     -999.0,9,     -999.0,9,     -999.0,9,     -999.0,9,     -999.0,9,     -999.0,9,     1.7508,2,     -999.0,     -999.0,9,     -999.0
320620170820,        P06,     184,          1,          3,          3,2,20170909,       1840,   -32.4995,  -115.5757,       3247,  3108.7,   1.7508,  34.6725,2,  34.6724,2, 165.0965,2,  165.047,2,   121.8,2,   34.60,2,    0.00,2,    2.41,2,   0.037,2,   0.026,2,   0.0000,2,  2300.1,2,  2393.1,2,   7.5883,2,    25.00, -999.00,9, -999.00,9, -999.00,    36.2,2, -999.00,9,     -999.0,1,  -999.0,1, 20170909,     1845, -32.4995,-115.5754,        0.0,1,      0.061,1,      4.690,1,      0.140,1,     -999.0,1,     -999.0,9,     -999.0,9,     -999.0,9,     -999.0,9,     -999.0,9,     -999.0,9,     -999.0,9,     -999.0,9,     -999.0,9,     -999.0,9,     1.7510,2,     -999.0,     -999.0,9,     -999.0
320620170820,        P06,     184,          1,          4,          4,2,20170909,       1840,   -32.4995,  -115.5757,       3247,  2904.2,   1.7417,  34.6717,2,  34.6716,2, 165.0965,2, 164.6391,2,   121.6,2,   34.62,2,    0.00,2,    2.40,2,   0.040,2,   0.030,2,   0.0000,2,  -999.0,9,  -999.0,9,-999.0000,9,  -999.00, -999.00,9, -999.00,9, -999.00,  -999.0,9, -999.00,9,     -999.0,9,  -999.0,1, 20170909,     1850, -32.4997,-115.5753,        0.0,1,      0.061,1,      4.691,1,      0.128,1,     -999.0,1,     -999.0,9,     -999.0,9,     -999.0,9,     -999.0,9,     -999.0,9,     -999.0,9,     -999.0,9,     -999.0,9,     -999.0,9,     -999.0,9,     1.7417,2,     -999.0,     -999.0,9,     -999.0
320620170820,        P06,     184,          1,          5,          5,2,20170909,       1840,   -32.4995,  -115.5757,       3247,  2699.9,   1.7396,  34.6705,2,  34.6706,2, 164.7792,2, 164.7949,2,   121.1,2,   34.60,2,    0.00,2,    2.39,2,   0.040,2,   0.028,2,   0.0000,2,  2301.3,2,  2390.8,2,   7.5865,6,    25.00, -999.00,9, -999.00,9, -999.00,    41.9,2, -999.00,9,     -999.0,1,  -999.0,1, 20170909,     1854, -32.4997,-115.5753,        0.0,1,      0.061,1,      4.692,1,      0.127,1,     -999.0,1,     -999.0,9,     -999.0,9,     -999.0,9,     -999.0,9,     -999.0,9,     -999.0,9,     -999.0,9,     -999.0,9,     -999.0,9,     -999.0,9,     1.7392,2,     -999.0,     -999.0,9,     -999.0
320620170820,        P06,     184,          1,          6,          6,2,20170909,       1840,   -32.4995,  -115.5757,       3247,  2494.1,   1.7653,  34.6667,2,  34.6659,2, 163.0196,2,  162.804,2,   120.5,2,   34.73,2,    0.00,2,    2.40,2,   0.038,2,   0.028,2,   0.0000,2,  -999.0,9,  -999.0,9,-999.0000,9,  -999.00, -999.00,9, -999.00,9, -999.00,    39.1,2, -999.00,9,     -999.0,1,  -999.0,1, 20170909,     1859, -32.4995,-115.5755,        0.0,1,      0.061,1,      4.692,1,      0.127,1,     -999.0,1,     -999.0,9,     -999.0,9,     -999.0,9,     -999.0,9,     -999.0,9,     -999.0,9,     -999.0,9,     -999.0,9,     -999.0,9,     -999.0,9,     1.7649,2,     -999.0,     -999.0,9,     -999.0
320620170820,        P06,     184,          1,          7,          7,2,20170909,       1840,   -32.4995,  -115.5757,       3247,  2291.1,   1.8495,  34.6587,2,  34.6580,2,  160.102,2, 159.9422,2,   118.7,2,   34.87,2,    0.00,2,    2.42,2,   0.038,2,   0.026,2,   0.0000,2,  2300.1,6,  2388.5,2,   7.5800,2,    25.00, -999.00,9, -999.00,9, -999.00,    38.0,2, -999.00,9,     -999.0,1,  -999.0,1, 20170909,     1904, -32.4995,-115.5755,        0.0,1,      0.061,1,      4.692,1,      0.126,1,     -999.0,1,     -999.0,9,     -999.0,9,     -999.0,9,     -999.0,9,     -999.0,9,     -999.0,9,     -999.0,9,     -999.0,9,     -999.0,9,     -999.0,9,     1.8547,2,     -999.0,     -999.0,9,     -999.0
320620170820,        P06,     184,          1,          8,          8,2,20170909,       1840,   -32.4995,  -115.5757,       3247,  2088.3,   1.9917,  34.6467,2,  34.6455,2, 157.7403,2, 158.0277,2,   114.0,2,   34.93,2,    0.00,2,    2.43,2,   0.040,2,   0.030,2,   0.0000,2,  -999.0,9,  -999.0,9,-999.0000,9,  -999.00, -999.00,9, -999.00,9, -999.00,  -999.0,9, -999.00,9,     -999.0,9,  -999.0,1, 20170909,     1909, -32.4995,-115.5755,        0.0,1,      0.061,1,      4.692,1,      0.128,1,     -999.0,1,     -999.0,9,     -999.0,9,     -999.0,9,     -999.0,9,     -999.0,9,     -999.0,9,     -999.0,9,     -999.0,9,     -999.0,9,     -999.0,9,     1.9818,2,     -999.0,     -999.0,9,     -999.0
320620170820,        P06,     184,          1,          9,          9,2,20170909,       1840,   -32.4995,  -115.5757,       3247,  1884.9,   2.1808,  34.6270,2,  34.6284,2, 157.2829,2, 157.5663,2,   105.7,2,   34.88,2,    0.00,2,    2.41,2,   0.046,2,   0.036,2,   0.0000,2,  2291.2,2,  2376.5,6,   7.5731,2,    25.00, -999.00,9, -999.00,9, -999.00,    35.6,2, -999.00,9,     -999.0,1,  -999.0,1, 20170909,     1915, -32.4997,-115.5753,        0.0,1,      0.061,1,      4.692,1,      0.127,1,     -999.0,1,     -999.0,9,     -999.0,9,     -999.0,9,     -999.0,9,     -999.0,9,     -999.0,9,     -999.0,9,     -999.0,9,     -999.0,9,     -999.0,9,     2.1592,2,     -999.0,     -999.0,9,     -999.0
320620170820,        P06,     184,          1,         10,         10,2,20170909,       1840,   -32.4995,  -115.5757,       3247,  1752.7,   2.3456,  34.6049,2,  34.6079,2, 159.1949,2,   159.67,2,    96.2,2,   34.70,2,    0.00,2,    2.39,2,   0.063,2,   0.043,2,   0.0000,2,  -999.0,9,  -999.0,9,-999.0000,9,  -999.00, -999.00,9, -999.00,9, -999.00,  -999.0,9, -999.00,9,     -999.0,9,  -999.0,1, 20170909,     1918, -32.4996,-115.5754,        0.0,1,      0.061,1,      4.692,1,      0.129,1,     -999.0,1,     -999.0,9,     -999.0,9,     -999.0,9,     -999.0,9,     -999.0,9,     -999.0,9,     -999.0,9,     -999.0,9,     -999.0,9,     -999.0,9,     2.3185,2,     -999.0,     -999.0,9,     -999.0
320620170820,        P06,     184,          1,         11,         11,2,20170909,       1840,   -32.4995,  -115.5757,       3247,  1652.2,   2.4806,  34.5796,2,  34.5830,2, 161.4695,2, 161.4714,2,    87.8,2,   34.63,2,    0.00,2,    2.38,2,   0.087,2,   0.060,2,   0.0000,2,  2272.8,2,  2353.8,2,   7.5650,2,    25.00, -999.00,9, -999.00,9, -999.00,    39.5,2, -999.00,9,     -999.0,1,  -999.0,1, 20170909,     1922, -32.4995,-115.5755,        0.0,1,      0.060,1,      4.692,1,      0.129,1,     -999.0,1,     -999.0,9,     -999.0,9,     -999.0,9,     -999.0,9,     -999.0,9,     -999.0,9,     -999.0,9,     -999.0,9,     -999.0,9,     -999.0,9,     2.4616,2,     -999.0,     -999.0,9,     -999.0
320620170820,        P06,     184,          1,         12,         12,2,20170909,       1840,   -32.4995,  -115.5757,       3247,  1548.5,   2.6316,  34.5491,2,  34.5545,2, 162.6148,2, 162.3691,2,    81.9,2,   34.68,2,    0.00,2,    2.38,2,   0.105,2,   0.070,2,   0.0000,2,  -999.0,9,  -999.0,9,-999.0000,9,  -999.00, -999.00,9, -999.00,9, -999.00,  -999.0,9, -999.00,9,     -999.0,9,  -999.0,1, 20170909,     1925, -32.4994,-115.5756,        0.0,1,      0.061,1,      4.693,1,      0.128,1,     -999.0,1,     -999.0,9,     -999.0,9,     -999.0,9,     -999.0,9,     -999.0,9,     -999.0,9,     -999.0,9,     -999.0,9,     -999.0,9,     -999.0,9,     2.5949,2,     -999.0,     -999.0,9,     -999.0
320620170820,        P06,     184,          1,         13,         13,2,20170909,       1840,   -32.4995,  -115.5757,       3247,  1447.6,   2.8271,  34.5115,2,  34.5154,2, 162.9992,2,  162.421,2,    74.1,2,   34.80,2,    0.00,2,    2.38,2,   0.141,6,   0.091,6,   0.0000,6,  2257.6,2,  2335.5,2,   7.5592,2,    25.00, -999.00,9, -999.00,9, -999.00,    40.1,2, -999.00,9,     -999.0,1,  -999.0,1, 20170909,     1929, -32.4993,-115.5757,        0.0,1,      0.061,1,      4.693,1,      0.128,1,     -999.0,1,     -999.0,9,     -999.0,9,     -999.0,9,     -999.0,9,     -999.0,9,     -999.0,9,     -999.0,9,     -999.0,9,     -999.0,9,     -999.0,9,     2.8032,2,     -999.0,     -999.0,9,     -999.0
320620170820,        P06,     184,          1,         14,         14,2,20170909,       1840,   -32.4995,  -115.5757,       3247,  1246.8,   3.3710,  34.4163,2,  34.4145,2, 170.3989,2, 170.2254,2,    55.2,2,   34.51,2,    0.00,2,    2.35,2,   0.343,2,   0.195,2,   0.0000,2,  -999.0,9,  -999.0,9,-999.0000,9,  -999.00, -999.00,9, -999.00,9, -999.00,    41.6,2, -999.00,9,     -999.0,1,  -999.0,1, 20170909,     1934, -32.4991,-115.5758,        0.0,1,      0.061,1,      4.693,1,      0.129,1,     -999.0,1,     -999.0,9,     -999.0,9,     -999.0,9,     -999.0,9,     -999.0,9,     -999.0,9,     -999.0,9,     -999.0,9,     -999.0,9,     -999.0,9,     3.3738,2,     -999.0,     -999.0,9,     -999.0
320620170820,        P06,     184,          1,         15,         15,2,20170909,       1840,   -32.4995,  -115.5757,       3247,  1043.4,   4.2590,  34.3225,2,  34.3233,2, 196.2869,2,  196.134,2,    33.2,2,   31.71,2,    0.00,2,    2.14,2,   1.002,2,   0.514,2,   0.1180,2,  2202.6,2,  2294.8,2,   7.6084,2,    25.00, -999.00,9, -999.00,9, -999.00,    40.4,2, -999.00,9,     -999.0,1,  -999.0,1, 20170909,     1939, -32.4995,-115.5756,        0.0,1,      0.060,1,      4.692,1,      0.130,1,     -999.0,1,     -999.0,9,     -999.0,9,     -999.0,9,     -999.0,9,     -999.0,9,     -999.0,9,     -999.0,9,     -999.0,9,     -999.0,9,     -999.0,9,     4.2315,2,     -999.0,     -999.0,9,     -999.0
320620170820,        P06,     184,          1,         16,         16,2,20170909,       1840,   -32.4995,  -115.5757,       3247,   942.7,   4.7290,  34.2982,2,  34.2944,2, 211.4269,2, 210.8435,2,    23.5,2,   29.64,2,    0.00,2,    1.99,2,   1.550,2,   0.791,2,   0.1750,2,  -999.0,9,  -999.0,9,-999.0000,9,  -999.00, -999.00,9, -999.00,9, -999.00,  -999.0,9, -999.00,9,     -999.0,9,  -999.0,1, 20170909,     1942, -32.4997,-115.5755,        0.0,1,      0.061,1,      4.692,1,      0.129,1,     -999.0,1,     -999.0,9,     -999.0,9,     -999.0,9,     -999.0,9,     -999.0,9,     -999.0,9,     -999.0,9,     -999.0,9,     -999.0,9,     -999.0,9,     4.7817,2,     -999.0,     -999.0,9,     -999.0
320620170820,        P06,     184,          1,         17,         17,2,20170909,       1840,   -32.4995,  -115.5757,       3247,   841.8,   5.2754,  34.2846,2,  34.2830,2,  224.699,2, 225.6241,2,    15.9,2,   27.38,2,    0.00,2,    1.83,2,   2.241,2,   1.156,2,   0.4190,2,  2165.4,2,  2284.1,2,   7.6654,2,    25.00, -999.00,9, -999.00,9, -999.00,    43.7,2, -999.00,9,     -999.0,1,  -999.0,1, 20170909,     1945, -32.4999,-115.5754,        0.0,1,      0.058,1,      4.692,1,      0.130,1,     -999.0,1,     -999.0,9,     -999.0,9,     -999.0,9,     -999.0,9,     -999.0,9,     -999.0,9,     -999.0,9,     -999.0,9,     -999.0,9,     -999.0,9,     5.3183,2,     -999.0,     -999.0,9,     -999.0
320620170820,        P06,     184,          1,         18,         18,2,20170909,       1840,   -32.4995,  -115.5757,       3247,   739.7,   5.8936,  34.2899,2,  34.2866,2, 238.5158,2, 238.6097,2,    10.8,2,   25.12,2,    0.00,2,    1.69,2,   3.025,2,   1.524,2,   0.6700,2,  -999.0,9,  -999.0,9,-999.0000,9,  -999.00, -999.00,9, -999.00,9, -999.00,    45.1,2, -999.00,9,     -999.0,1,  -999.0,1, 20170909,     1949, -32.4998,-115.5754,        0.0,1,      0.059,1,      4.691,1,      0.131,1,     -999.0,1,     -999.0,9,     -999.0,9,     -999.0,9,     -999.0,9,     -999.0,9,     -999.0,9,     -999.0,9,     -999.0,9,     -999.0,9,     -999.0,9,     5.8219,2,     -999.0,     -999.0,9,     -999.0
320620170820,        P06,     184,          1,         19,         19,2,20170909,       1840,   -32.4995,  -115.5757,       3247,   639.3,   6.3050,  34.3100,2,  34.3056,2, 245.1184,2, 245.9164,2,     8.0,2,   23.56,2,    0.00,2,    1.57,2,   3.422,2,   1.806,2,   0.8810,2,  2150.1,2,  2274.6,2,   7.7020,2,    25.00, -999.00,9, -999.00,9, -999.00,    44.9,2, -999.00,9,     -999.0,1,  -999.0,1, 20170909,     1952, -32.4998,-115.5754,        0.0,1,      0.059,1,      4.691,1,      0.132,1,     -999.0,1,     -999.0,9,     -999.0,9,     -999.0,9,     -999.0,9,     -999.0,9,     -999.0,9,     -999.0,9,     -999.0,9,     -999.0,9,     -999.0,9,     6.2739,2,     -999.0,     -999.0,9,     -999.0
320620170820,        P06,     184,          1,         20,         20,2,20170909,       1840,   -32.4995,  -115.5757,       3247,   538.5,   6.8006,  34.3330,2,  34.3311,2, 247.1055,2, 246.9773,2,     6.3,2,   22.09,2,    0.00,2,    1.48,2,   3.566,2,   2.025,2,   1.2820,2,  -999.0,9,  -999.0,9,-999.0000,9,  -999.00, -999.00,9, -999.00,9, -999.00,  -999.0,9, -999.00,9,     -999.0,1,  -999.0,1, 20170909,     1955, -32.4998,-115.5755,        0.0,1,      0.059,1,      4.690,1,      0.131,1,     -999.0,1,     -999.0,9,     -999.0,9,     -999.0,9,     -999.0,9,     -999.0,9,     -999.0,9,     -999.0,9,     -999.0,9,     -999.0,9,     -999.0,9,     6.7864,2,     -999.0,     -999.0,9,     -999.0
320620170820,        P06,     184,          1,         21,         21,2,20170909,       1840,   -32.4995,  -115.5757,       3247,   466.8,   7.2042,  34.3414,2,  34.3344,2, 243.4741,2, 243.2323,2,     5.3,2,   21.31,2,    0.00,2,    1.43,2,   3.582,2,   1.986,2,   1.3140,2,  2143.3,2,  2274.3,2,   7.7095,2,    25.00, -999.00,9, -999.00,9, -999.00,    49.8,3, -999.00,9,     -999.0,1,  -999.0,1, 20170909,     1957, -32.4997,-115.5755,        0.0,1,      0.059,1,      4.689,1,      0.133,1,     -999.0,1,     -999.0,9,     -999.0,9,     -999.0,9,     -999.0,9,     -999.0,9,     -999.0,9,     -999.0,9,     -999.0,9,     -999.0,9,     -999.0,9,     7.1567,2,     -999.0,     -999.0,9,     -999.0
320620170820,        P06,     184,          1,         22,         22,2,20170909,       1840,   -32.4995,  -115.5757,       3247,   416.8,   7.7201,  34.3374,2,  34.3362,2, 237.0106,2, 235.9517,2,     4.4,2,   20.41,2,    0.00,2,    1.37,2,   3.512,2,   1.943,2,   1.3550,2,  -999.0,9,  -999.0,9,-999.0000,9,  -999.00, -999.00,9, -999.00,9, -999.00,    42.6,2, -999.00,9,     -999.0,1,  -999.0,1, 20170909,     2000, -32.4997,-115.5755,        0.0,1,      0.060,1,      4.688,1,      0.134,1,     -999.0,1,     -999.0,9,     -999.0,9,     -999.0,9,     -999.0,9,     -999.0,9,     -999.0,9,     -999.0,9,     -999.0,9,     -999.0,9,     -999.0,9,     7.7069,2,     -999.0,     -999.0,9,     -999.0
320620170820,        P06,     184,          1,         23,         23,2,20170909,       1840,   -32.4995,  -115.5757,       3247,   315.6,  10.3245,  34.4433,2,  34.4218,2, 225.3678,2, 225.7183,2,     1.7,2,   14.53,2,    0.00,2,    1.02,2,   3.202,2,   1.821,2,   1.4610,2,  2119.7,2,  2272.9,2,   7.7634,6,    25.00, -999.00,9, -999.00,9, -999.00,    46.3,2, -999.00,9,     -999.0,1,  -999.0,1, 20170909,     2003, -32.4997,-115.5755,        0.0,1,      0.059,1,      4.685,1,      0.131,1,     -999.0,1,     -999.0,9,     -999.0,9,     -999.0,9,     -999.0,9,     -999.0,9,     -999.0,9,     -999.0,9,     -999.0,9,     -999.0,9,     -999.0,9,    10.2009,2,     -999.0,     -999.0,9,     -999.0
320620170820,        P06,     184,          1,         24,         24,2,20170909,       1840,   -32.4995,  -115.5757,       3247,   265.5,  12.3597,  34.6355,2,  34.6476,2, 221.0317,2, 219.7519,2,     0.7,2,    8.45,2,    0.00,2,    0.64,2,   2.817,2,   1.663,2,   1.4690,2,  -999.0,9,  -999.0,9,-999.0000,9,  -999.00, -999.00,9, -999.00,9, -999.00,  -999.0,9, -999.00,9,     -999.0,9,  -999.0,1, 20170909,     2005, -32.4997,-115.5755,        0.0,1,      0.061,1,      4.683,1,      0.131,1,     -999.0,1,     -999.0,1,     -999.0,9,       0.82,2,     -999.0,9,     -999.0,9,     -999.0,9,     -999.0,9,     -999.0,9,     -999.0,9,     -999.0,9,    12.5606,2,     -999.0,     -999.0,9,     -999.0
320620170820,        P06,     184,          1,         25,         25,2,20170909,       1840,   -32.4995,  -115.5757,       3247,   214.8,  13.9731,  34.7542,2,  34.7744,2, 216.7611,2, 217.6706,2,     0.1,2,    4.90,2,    0.02,2,    0.42,2,   2.528,2,   1.535,2,   1.4430,2,  2085.9,2,  2287.7,6,   7.8670,2,    25.00, -999.00,9, -999.00,9, -999.00,    49.8,2,    8.00,2,     -999.0,1,  -999.0,1, 20170909,     2008, -32.4998,-115.5755,        0.0,1,      0.070,1,      4.678,1,      0.136,1,     -999.0,1,     -999.0,1,     -999.0,9,       0.67,2,     -999.0,9,     -999.0,9,     -999.0,9,     -999.0,9,     -999.0,9,     -999.0,9,     -999.0,9,    14.4004,2,     -999.0,     -999.0,9,     -999.0
320620170820,        P06,     184,          1,         26,         26,2,20170909,       1840,   -32.4995,  -115.5757,       3247,   184.8,  14.9736,  34.7919,2,  34.7822,2, 216.7495,2, 224.5234,2,     0.0,2,    2.95,2,    0.09,2,    0.32,2,   2.455,2,   1.501,2,   1.5720,2,  2075.1,2,  2288.0,2,   7.8898,2,    25.00, -999.00,9, -999.00,9, -999.00,    60.9,2,    6.70,2,     -999.0,1,  -999.0,1, 20170909,     2009, -32.4998,-115.5754,        0.0,1,      0.099,1,      4.670,1,      0.143,1,     -999.0,1,     -999.0,1,     -999.0,9,     -999.0,9,     -999.0,9,     -999.0,9,     -999.0,9,     -999.0,9,     -999.0,9,     -999.0,9,     -999.0,9,    14.9764,2,     -999.0,     -999.0,9,     -999.0