BOTTLE,20240211CCHSIOCBG
EXPOCODE,SECT_ID,STNNBR,CASTNO,SAMPNO,BTLNBR,BTLNBR_FLAG_W,DATE,TIME,LATITUDE,LONGITUDE,DEPTH,CTDPRS,CTDTMP,CTDSAL,CTDSAL_FLAG_W,SALNTY,SALNTY_FLAG_W,CTDOXY,CTDOXY_FLAG_W,OXYGEN,OXYGEN_FLAG_W,SILCAT,SILCAT_FLAG_W,NITRAT,NITRAT_FLAG_W,NITRIT,NITRIT_FLAG_W,PHSPHT,PHSPHT_FLAG_W,CFC-11,CFC-11_FLAG_W,CFC-12,CFC-12_FLAG_W,SF6,SF6_FLAG_W,TCARBN,TCARBN_FLAG_W,ALKALI,ALKALI_FLAG_W,PH_TOT,PH_TOT_FLAG_W,PH_TMP,DELC13,DELC13_FLAG_W,DELC14,DELC14_FLAG_W,C14ERR,DOC,DOC_FLAG_W,TDN,TDN_FLAG_W,TON,TON_FLAG_W,D15N_NO3,D15N_NO3_FLAG_W,BTL_DATE,BTL_TIME,BTL_LAT,BTL_LON,CTDRINKO,CTDRINKO_FLAG_W,CTDFLUOR,CTDFLUOR_FLAG_W,CTDXMISS,CTDXMISS_FLAG_W,CTDBACKSCATTER,CTDBACKSCATTER_FLAG_W,D18O_NO3,D18O_NO3_FLAG_W,DOP,DOP_FLAG_W,CELLCOUNT,CELLCOUNT_FLAG_W,TDP,TDP_FLAG_W,POP,POP_FLAG_W,DATP,DATP_FLAG_W,PATP,PATP_FLAG_W,HPLC,HPLC_FLAG_W,POC,POC_FLAG_W,BEAMAP,BEAMAP_FLAG_W,DOC_NASA,DOC_NASA_FLAG_W,REFTMP,REFTMP_FLAG_W,DOC_NASA_ERROR,TDN_NASA,TDN_NASA_FLAG_W,TDN_NASA_ERROR
,,,,,,,,,,,METERS,DBAR,ITS-90,PSS-78,,PSS-78,,UMOL/KG,,UMOL/KG,,UMOL/KG,,UMOL/KG,,UMOL/KG,,UMOL/KG,,PMOL/KG,,PMOL/KG,,FMOL/KG,,UMOL/KG,,UMOL/KG,,,,DEG C,/MILLE,,/MILLE,,/MILLE,UMOL/KG,,UMOL/KG,,UMOL/KG,,/MILLE,,,,,,VOLTS,,VOLTS,,VOLTS,,VOLTS,,/MILLE,,UMOL/KG,,/LITER,,UMOL/KG,,UMOL/L,,PMOL/L,,PMOL/L,,,,UG/L,,/METER,,UMOL/L,,ITS-90,,UMOL/L,UMOL/L,,UMOL/L
320620170820,        P06,     238,          1,          1,          1,2,20170926,       2343,   -32.4999,   -72.9543,       4672,  4749.6,   1.7424,  34.6945,2,  34.6942,2, 162.5984,2,  162.698,2,   126.0,2,   34.57,2,    0.00,2,    2.43,2,   0.028,2,   0.030,2,   0.0000,2,  2307.8,6,  2410.0,3,   7.5878,2,    25.00, -999.00,9, -999.00,9, -999.00,    40.2,2, -999.00,9,     -999.0,1,  -999.0,9, 20170926,     2343, -32.4998, -72.9552,        0.0,1,      0.061,1,      4.666,1,      0.145,1,     -999.0,9,     -999.0,9,     -999.0,9,     -999.0,9,     -999.0,9,     -999.0,9,     -999.0,9,     -999.0,9,     -999.0,9,     -999.0,9,     -999.0,9,     1.7428,2,     -999.0,     -999.0,9,     -999.0
320620170820,        P06,     238,          1,          2,          2,2,20170926,       2343,   -32.4999,   -72.9543,       4672,  4558.4,   1.7267,  34.6946,2,  34.6942,2, 162.5984,2, 163.3419,2,   125.8,2,   34.60,2,    0.00,2,    2.45,2,   0.029,2,   0.037,2,   0.0000,2,  -999.0,9,  -999.0,9,-999.0000,9,  -999.00, -999.00,9, -999.00,9, -999.00,  -999.0,9, -999.00,9,     -999.0,9,  -999.0,9, 20170926,     2347, -32.4997, -72.9554,        0.0,1,      0.063,1,      4.670,1,      0.153,1,     -999.0,9,     -999.0,9,     -999.0,9,     -999.0,9,     -999.0,9,     -999.0,9,     -999.0,9,     -999.0,9,     -999.0,9,     -999.0,9,     -999.0,9,     1.7269,2,     -999.0,     -999.0,9,     -999.0
320620170820,        P06,     238,          1,          3,          3,2,20170926,       2343,   -32.4999,   -72.9543,       4672,  4373.7,   1.7166,  34.6941,2,  34.6928,2, 162.5984,2, 162.8567,2,   125.8,2,   34.69,2,    0.00,2,    2.44,2,   0.031,2,   0.039,2,   0.0000,2,  -999.0,9,  -999.0,9,-999.0000,9,  -999.00, -999.00,9, -999.00,9, -999.00,    37.8,2, -999.00,9,     -999.0,1,  -999.0,9, 20170926,     2352, -32.4997, -72.9554,        0.0,1,      0.061,1,      4.673,1,      0.137,1,     -999.0,9,     -999.0,9,     -999.0,9,     -999.0,9,     -999.0,9,     -999.0,9,     -999.0,9,     -999.0,9,     -999.0,9,     -999.0,9,     -999.0,9,     1.7166,2,     -999.0,     -999.0,9,     -999.0
320620170820,        P06,     238,          1,          4,          4,2,20170926,       2343,   -32.4999,   -72.9543,       4672,  4067.9,   1.7223,  34.6926,2,  34.6918,2, 162.1172,2, 161.6027,2,   125.3,2,   34.85,2,    0.00,2,    2.43,2,   0.030,2,   0.051,2,   0.0000,2,  -999.0,9,  -999.0,9,-999.0000,9,  -999.00, -999.00,9, -999.00,9, -999.00,  -999.0,9, -999.00,9,     -999.0,9,  -999.0,9, 20170926,     2358, -32.4998, -72.9548,        0.0,1,      0.062,1,      4.675,1,      0.134,1,     -999.0,9,     -999.0,9,     -999.0,9,     -999.0,9,     -999.0,9,     -999.0,9,     -999.0,9,     -999.0,9,     -999.0,9,     -999.0,9,     -999.0,9,     1.7192,2,     -999.0,     -999.0,9,     -999.0
320620170820,        P06,     238,          1,          5,          5,2,20170926,       2343,   -32.4999,   -72.9543,       4672,  3758.1,   1.7537,  34.6895,2,  34.6885,2, 159.5055,2, 159.8962,2,   125.4,2,   35.07,2,    0.00,2,    2.44,2,   0.027,2,   0.047,2,   0.0000,2,  2309.3,2,  2403.6,2,   7.5833,2,    25.00, -999.00,9, -999.00,9, -999.00,    39.8,2, -999.00,9,     -999.0,1,  -999.0,9, 20170927,        4, -32.4998, -72.9547,        0.0,1,      0.061,1,      4.676,1,      0.133,1,     -999.0,9,     -999.0,9,     -999.0,9,     -999.0,9,     -999.0,9,     -999.0,9,     -999.0,9,     -999.0,9,     -999.0,9,     -999.0,9,     -999.0,9,     1.7499,2,     -999.0,     -999.0,9,     -999.0
320620170820,        P06,     238,          1,          6,          6,2,20170926,       2343,   -32.4999,   -72.9543,       4672,  3453.6,   1.7786,  34.6861,2,  34.6846,2, 156.6881,3, 154.8541,2,   127.2,2,   35.30,2,    0.00,2,    2.47,2,-999.000,9,-999.000,9,-999.0000,9,  -999.0,9,  -999.0,9,-999.0000,9,  -999.00, -999.00,9, -999.00,9, -999.00,  -999.0,9, -999.00,9,     -999.0,9,  -999.0,9, 20170927,       10, -32.4998, -72.9547,        0.0,1,      0.061,1,      4.677,1,      0.132,1,     -999.0,9,     -999.0,9,     -999.0,9,     -999.0,9,     -999.0,9,     -999.0,9,     -999.0,9,     -999.0,9,     -999.0,9,     -999.0,9,     -999.0,9,     1.7746,2,     -999.0,     -999.0,9,     -999.0
320620170820,        P06,     238,          1,          7,          7,2,20170926,       2343,   -32.4999,   -72.9543,       4672,  3145.5,   1.8040,  34.6818,2,  34.6798,2, 151.6639,3, 149.1852,2,   129.3,2,   35.75,2,    0.00,2,    2.52,2,   0.027,2,   0.058,2,   0.0000,2,  2318.3,2,  2410.2,2,   7.5706,2,    25.00, -999.00,9, -999.00,9, -999.00,    36.7,2, -999.00,9,     -999.0,1,  -999.0,9, 20170927,       16, -32.4999, -72.9545,        0.0,1,      0.061,1,      4.675,1,      0.134,1,     -999.0,9,     -999.0,9,     -999.0,9,     -999.0,9,     -999.0,9,     -999.0,9,     -999.0,9,     -999.0,9,     -999.0,9,     -999.0,9,     -999.0,9,     1.8030,2,     -999.0,     -999.0,9,     -999.0
320620170820,        P06,     238,          1,          8,          8,2,20170926,       2343,   -32.4999,   -72.9543,       4672,  2873.4,   1.8332,  34.6775,2,  34.6751,2, 146.4267,3, 149.0249,2,   127.2,2,   35.72,2,    0.00,2,    2.49,2,   0.028,2,   0.077,2,   0.0000,2,  -999.0,9,  -999.0,9,-999.0000,9,  -999.00, -999.00,9, -999.00,9, -999.00,  -999.0,9, -999.00,9,     -999.0,9,  -999.0,9, 20170927,       22, -32.4998, -72.9547,        0.0,1,      0.062,1,      4.676,1,      0.136,1,     -999.0,9,     -999.0,9,     -999.0,9,     -999.0,9,     -999.0,9,     -999.0,9,     -999.0,9,     -999.0,9,     -999.0,9,     -999.0,9,     -999.0,9,     1.8327,2,     -999.0,     -999.0,9,     -999.0
320620170820,        P06,     238,          1,          9,          9,2,20170926,       2343,   -32.4999,   -72.9543,       4672,  2618.6,   1.8900,  34.6708,2,  34.6663,2, 145.6302,2, 147.0148,2,   125.0,2,   35.91,2,    0.00,2,    2.51,2,   0.029,2,   0.092,2,   0.0000,2,  2314.2,2,  2404.4,2,   7.5642,2,    25.00, -999.00,9, -999.00,9, -999.00,    39.5,2, -999.00,9,     -999.0,1,  -999.0,9, 20170927,       27, -32.4998, -72.9547,        0.0,1,      0.061,1,      4.675,1,      0.140,1,     -999.0,9,     -999.0,9,     -999.0,9,     -999.0,9,     -999.0,9,     -999.0,9,     -999.0,9,     -999.0,9,     -999.0,9,     -999.0,9,     -999.0,9,     1.8893,2,     -999.0,     -999.0,9,     -999.0
320620170820,        P06,     238,          1,         10,         10,2,20170926,       2343,   -32.4999,   -72.9543,       4672,  2365.3,   1.9949,  34.6598,2,  34.6588,2, 141.9412,2, 142.4222,2,   122.7,2,   36.29,2,    0.00,2,    2.55,2,-999.000,9,-999.000,9,-999.0000,9,  -999.0,9,  -999.0,9,-999.0000,9,  -999.00, -999.00,9, -999.00,9, -999.00,  -999.0,9, -999.00,9,     -999.0,9,  -999.0,9, 20170927,       33, -32.4998, -72.9548,        0.0,1,      0.061,1,      4.675,1,      0.139,1,     -999.0,9,     -999.0,9,     -999.0,9,     -999.0,9,     -999.0,9,     -999.0,9,     -999.0,9,     -999.0,9,     -999.0,9,     -999.0,9,     -999.0,9,     1.9838,2,     -999.0,     -999.0,9,     -999.0
320620170820,        P06,     238,          1,         11,         11,2,20170926,       2343,   -32.4999,   -72.9543,       4672,  2111.4,   2.1516,  34.6455,2,  34.6433,3, 134.2762,2, 134.3391,2,   120.8,2,   36.98,2,    0.00,2,    2.60,2,   0.030,2,   0.091,2,   0.0000,2,  -999.0,9,  -999.0,9,-999.0000,9,  -999.00, -999.00,9, -999.00,9, -999.00,    37.8,2, -999.00,9,     -999.0,1,  -999.0,9, 20170927,       38, -32.4998, -72.9548,        0.0,1,      0.062,1,      4.676,1,      0.139,1,     -999.0,9,     -999.0,9,     -999.0,9,     -999.0,9,     -999.0,9,     -999.0,9,     -999.0,9,     -999.0,9,     -999.0,9,     -999.0,9,     -999.0,9,     2.1483,2,     -999.0,     -999.0,9,     -999.0
320620170820,        P06,     238,          1,         12,         12,2,20170926,       2343,   -32.4999,   -72.9543,       4672,  1887.5,   2.3427,  34.6272,2,  34.6236,2, 127.0224,2, 126.9108,2,   114.4,2,   37.60,2,    0.00,2,    2.66,2,   0.030,2,   0.085,2,   0.0000,2,  -999.0,9,  -999.0,9,-999.0000,9,  -999.00, -999.00,9, -999.00,9, -999.00,  -999.0,9, -999.00,9,     -999.0,9,  -999.0,9, 20170927,       43, -32.4998, -72.9550,        0.0,1,      0.062,1,      4.676,1,      0.138,1,     -999.0,9,     -999.0,9,     -999.0,9,     -999.0,9,     -999.0,9,     -999.0,9,     -999.0,9,     -999.0,9,     -999.0,9,     -999.0,9,     -999.0,9,     2.3548,2,     -999.0,     -999.0,9,     -999.0
320620170820,        P06,     238,          1,         13,         13,2,20170926,       2343,   -32.4999,   -72.9543,       4672,  1682.3,   2.5745,  34.6061,2,  34.6018,2, 120.3881,2,  120.952,2,   107.8,2,   38.20,2,    0.00,2,    2.70,2,   0.024,2,   0.068,2,   0.0000,2,  2313.7,2,  2378.4,2,   7.5108,2,    25.00, -999.00,9, -999.00,9, -999.00,    37.8,2, -999.00,9,     -999.0,1,  -999.0,9, 20170927,       48, -32.4998, -72.9549,        0.0,1,      0.064,1,      4.676,1,      0.139,1,     -999.0,9,     -999.0,9,     -999.0,9,     -999.0,9,     -999.0,9,     -999.0,9,     -999.0,9,     -999.0,9,     -999.0,9,     -999.0,9,     -999.0,9,     2.5849,2,     -999.0,     -999.0,9,     -999.0
320620170820,        P06,     238,          1,         14,         14,2,20170926,       2343,   -32.4999,   -72.9543,       4672,  1552.1,   2.7617,  34.5887,2,  34.5867,2, 116.2341,2, 115.5263,2,   103.4,2,   38.57,2,    0.00,2,    2.74,2,-999.000,9,-999.000,9,-999.0000,9,  -999.0,9,  -999.0,9,-999.0000,9,  -999.00, -999.00,9, -999.00,9, -999.00,  -999.0,9, -999.00,9,     -999.0,9,  -999.0,9, 20170927,       51, -32.4998, -72.9548,        0.0,1,      0.062,1,      4.676,1,      0.143,1,     -999.0,9,     -999.0,9,     -999.0,9,     -999.0,9,     -999.0,9,     -999.0,9,     -999.0,9,     -999.0,9,     -999.0,9,     -999.0,9,     -999.0,9,     2.7486,2,     -999.0,     -999.0,9,     -999.0
320620170820,        P06,     238,          1,         15,         15,2,20170926,       2343,   -32.4999,   -72.9543,       4672,  1451.3,   2.9096,  34.5726,2,  34.5712,2, 113.3623,2, 113.5989,2,    98.7,2,   38.83,2,    0.00,2,    2.77,2,   0.028,2,   0.077,2,   0.0000,2,  -999.0,9,  -999.0,9,-999.0000,9,  -999.00, -999.00,9, -999.00,9, -999.00,    37.0,2, -999.00,9,     -999.0,1,  -999.0,9, 20170927,       54, -32.4998, -72.9548,        0.0,1,      0.062,1,      4.676,1,      0.141,1,     -999.0,9,     -999.0,9,     -999.0,9,     -999.0,9,     -999.0,9,     -999.0,9,     -999.0,9,     -999.0,9,     -999.0,9,     -999.0,9,     -999.0,9,     2.8913,2,     -999.0,     -999.0,9,     -999.0
320620170820,        P06,     238,          1,         16,         16,2,20170926,       2343,   -32.4999,   -72.9543,       4672,  1348.1,   3.0938,  34.5569,2,  34.5551,3,  109.868,2, 109.0628,2,    93.7,2,   39.19,2,    0.00,2,    2.78,2,   0.030,2,   0.077,2,   0.0000,2,  -999.0,9,  -999.0,9,-999.0000,9,  -999.00, -999.00,9, -999.00,9, -999.00,    37.7,2, -999.00,9,     -999.0,1,  -999.0,9, 20170927,       56, -32.4998, -72.9546,        0.0,1,      0.063,1,      4.676,1,      0.141,1,     -999.0,9,     -999.0,9,     -999.0,9,     -999.0,9,     -999.0,9,     -999.0,9,     -999.0,9,     -999.0,9,     -999.0,9,     -999.0,9,     -999.0,9,     3.0880,2,     -999.0,     -999.0,9,     -999.0
320620170820,        P06,     238,          1,         17,         17,2,20170926,       2343,   -32.4999,   -72.9543,       4672,  1246.9,   3.2944,  34.5371,2,  34.5368,2, 107.4103,2,  106.534,2,    87.9,2,   39.47,2,    0.00,2,    2.82,2,   0.030,2,   0.075,2,   0.0000,2,  -999.0,9,  -999.0,9,-999.0000,9,  -999.00, -999.00,9, -999.00,9, -999.00,  -999.0,9, -999.00,9,     -999.0,9,  -999.0,9, 20170927,       59, -32.4998, -72.9545,        0.0,1,      0.063,1,      4.675,1,      0.142,1,     -999.0,9,     -999.0,9,     -999.0,9,     -999.0,9,     -999.0,9,     -999.0,9,     -999.0,9,     -999.0,9,     -999.0,9,     -999.0,9,     -999.0,9,     3.2633,2,     -999.0,     -999.0,9,     -999.0
320620170820,        P06,     238,          1,         18,         18,2,20170926,       2343,   -32.4999,   -72.9543,       4672,  1146.1,   3.4923,  34.5129,2,  34.5156,2, 106.2396,2, 105.3453,2,    81.7,2,   39.61,2,    0.00,2,    2.81,2,   0.035,2,   0.085,2,   0.0000,2,  2295.9,2,  2349.8,6,   7.4757,2,    25.00, -999.00,9, -999.00,9, -999.00,    36.0,2, -999.00,9,     -999.0,1,  -999.0,9, 20170927,      102, -32.4999, -72.9544,        0.0,1,      0.062,1,      4.676,1,      0.141,1,     -999.0,9,     -999.0,9,     -999.0,9,     -999.0,9,     -999.0,9,     -999.0,9,     -999.0,9,     -999.0,9,     -999.0,9,     -999.0,9,     -999.0,9,     3.4475,2,     -999.0,     -999.0,9,     -999.0
320620170820,        P06,     238,          1,         19,         19,2,20170926,       2343,   -32.4999,   -72.9543,       4672,  1046.1,   3.7085,  34.4853,2,  34.4858,2, 106.7914,2, 106.3899,2,    73.1,2,   39.61,2,    0.00,2,    2.80,2,   0.052,2,   0.082,2,   0.0000,2,  -999.0,9,  -999.0,9,-999.0000,9,  -999.00, -999.00,9, -999.00,9, -999.00,  -999.0,9, -999.00,9,     -999.0,9,  -999.0,9, 20170927,      105, -32.4999, -72.9545,        0.0,1,      0.064,1,      4.675,1,      0.142,1,     -999.0,9,     -999.0,9,     -999.0,9,     -999.0,9,     -999.0,9,     -999.0,9,     -999.0,9,     -999.0,9,     -999.0,9,     -999.0,9,     -999.0,9,     3.6951,2,     -999.0,     -999.0,9,     -999.0
320620170820,        P06,     238,          1,         20,         20,2,20170926,       2343,   -32.4999,   -72.9543,       4672,   943.7,   3.9348,  34.4457,2,  34.4455,2, 114.3098,2, 114.8476,2,    62.5,2,   38.96,2,    0.00,2,    2.75,2,   0.118,2,   0.120,2,   0.0000,2,  -999.0,9,  -999.0,9,-999.0000,9,  -999.00, -999.00,9, -999.00,9, -999.00,    39.4,2, -999.00,9,     -999.0,1,  -999.0,9, 20170927,      107, -32.4998, -72.9547,        0.0,1,      0.061,1,      4.675,1,      0.143,1,     -999.0,9,     -999.0,9,     -999.0,9,     -999.0,9,     -999.0,9,     -999.0,9,     -999.0,9,     -999.0,9,     -999.0,9,     -999.0,9,     -999.0,9,     3.8996,2,     -999.0,     -999.0,9,     -999.0
320620170820,        P06,     238,          1,         21,         21,2,20170926,       2343,   -32.4999,   -72.9543,       4672,   841.1,   4.2570,  34.3940,2,  34.3935,2, 131.0158,2, 131.3354,2,    49.6,2,   37.53,2,    0.00,2,    2.64,2,   0.390,2,   0.234,2,   0.0000,2,  2250.5,2,  2313.4,2,   7.5036,2,    25.00, -999.00,9, -999.00,9, -999.00,    39.8,2, -999.00,9,     -999.0,1,  -999.0,9, 20170927,      110, -32.4998, -72.9548,        0.0,1,      0.062,1,      4.675,1,      0.139,1,     -999.0,9,     -999.0,9,     -999.0,9,     -999.0,9,     -999.0,9,     -999.0,9,     -999.0,9,     -999.0,9,     -999.0,9,     -999.0,9,     -999.0,9,     4.2372,2,     -999.0,     -999.0,9,     -999.0
320620170820,        P06,     238,          1,         22,         22,2,20170926,       2343,   -32.4999,   -72.9543,       4672,   741.7,   4.7726,  34.3401,2,  34.3515,2, 146.2905,2, 146.8488,2,    36.3,2,   35.73,2,    0.00,2,    2.48,2,   0.904,2,   0.465,2,   0.0740,2,  -999.0,9,  -999.0,9,-999.0000,9,  -999.00, -999.00,9, -999.00,9, -999.00,  -999.0,5, -999.00,9,     -999.0,1,  -999.0,9, 20170927,      113, -32.4998, -72.9548,        0.0,1,      0.061,1,      4.675,1,      0.145,1,     -999.0,9,     -999.0,9,     -999.0,9,     -999.0,9,     -999.0,9,     -999.0,9,     -999.0,9,     -999.0,9,     -999.0,9,     -999.0,9,     -999.0,9,     4.7177,2,     -999.0,     -999.0,9,     -999.0
320620170820,        P06,     238,          1,         23,         23,2,20170926,       2343,   -32.4999,   -72.9543,       4672,   640.7,   5.2175,  34.3001,2,  34.3013,2, 169.3363,3,  178.666,2,    23.5,2,   32.37,2,    0.00,2,    2.24,2,   1.985,2,   0.981,2,   0.2480,2,  -999.0,9,  -999.0,9,-999.0000,9,  -999.00, -999.00,9, -999.00,9, -999.00,    41.7,2, -999.00,9,     -999.0,1,  -999.0,9, 20170927,      116, -32.4998, -72.9547,        0.0,1,      0.061,1,      4.674,1,      0.142,1,     -999.0,9,     -999.0,9,     -999.0,9,     -999.0,9,     -999.0,9,     -999.0,9,     -999.0,9,     -999.0,9,     -999.0,9,     -999.0,9,     -999.0,9,     5.1234,2,     -999.0,     -999.0,9,     -999.0
320620170820,        P06,     238,          1,         24,         24,2,20170926,       2343,   -32.4999,   -72.9543,       4672,   539.5,   5.6150,  34.2792,2,  34.2750,2, 199.6928,2, 201.1397,2,    15.4,2,   29.58,2,    0.00,2,    2.03,2,   2.711,2,   1.521,2,   0.4100,2,  2182.8,2,  2280.6,2,   7.6077,2,    25.00, -999.00,9, -999.00,9, -999.00,    41.8,2, -999.00,9,     -999.0,1,  -999.0,9, 20170927,      118, -32.4999, -72.9545,        0.0,1,      0.061,1,      4.674,1,      0.146,1,     -999.0,9,     -999.0,9,     -999.0,9,     -999.0,9,     -999.0,9,     -999.0,9,     -999.0,9,     -999.0,9,     -999.0,9,     -999.0,9,     -999.0,9,     5.5638,2,     -999.0,     -999.0,9,     -999.0
320620170820,        P06,     238,          1,         25,         25,2,20170926,       2343,   -32.4999,   -72.9543,       4672,   468.9,   6.2245,  34.3205,2,  34.3056,2, 177.6247,2, 177.1573,2,    15.5,2,   30.63,2,    0.00,2,    2.11,2,   2.669,2,   1.507,2,   0.5750,2,  -999.0,9,  -999.0,9,-999.0000,9,  -999.00, -999.00,9, -999.00,9, -999.00,    44.3,2, -999.00,9,     -999.0,1,  -999.0,9, 20170927,      121, -32.4999, -72.9545,        0.0,1,      0.062,1,      4.670,1,      0.146,1,     -999.0,9,     -999.0,9,     -999.0,9,     -999.0,9,     -999.0,9,     -999.0,9,     -999.0,9,     -999.0,9,     -999.0,9,     -999.0,9,     -999.0,9,     6.1028,2,     -999.0,     -999.0,9,     -999.0
320620170820,        P06,     238,          1,         26,         26,2,20170926,       2343,   -32.4999,   -72.9543,       4672,   418.4,   6.7626,  34.3580,2,  34.3456,2, 141.9003,2, 142.6818,2,    17.0,2,   32.46,2,    0.00,2,    2.28,2,-999.000,9,-999.000,9,-999.0000,9,  -999.0,9,  -999.0,9,-999.0000,9,  -999.00, -999.00,9, -999.00,9, -999.00,  -999.0,9, -999.00,9,     -999.0,9,  -999.0,9, 20170927,      122, -32.4999, -72.9545,        0.0,1,      0.064,1,      4.667,1,      0.158,1,     -999.0,9,     -999.0,9,     -999.0,9,     -999.0,9,     -999.0,9,     -999.0,9,     -999.0,9,     -999.0,9,     -999.0,9,     -999.0,9,     -999.0,9,     6.6106,2,     -999.0,     -999.0,9,     -999.0