BOTTLE,20240211CCHSIOCBG
EXPOCODE,SECT_ID,STNNBR,CASTNO,SAMPNO,BTLNBR,BTLNBR_FLAG_W,DATE,TIME,LATITUDE,LONGITUDE,DEPTH,CTDPRS,CTDTMP,CTDSAL,CTDSAL_FLAG_W,SALNTY,SALNTY_FLAG_W,CTDOXY,CTDOXY_FLAG_W,OXYGEN,OXYGEN_FLAG_W,SILCAT,SILCAT_FLAG_W,NITRAT,NITRAT_FLAG_W,NITRIT,NITRIT_FLAG_W,PHSPHT,PHSPHT_FLAG_W,CFC-11,CFC-11_FLAG_W,CFC-12,CFC-12_FLAG_W,SF6,SF6_FLAG_W,TCARBN,TCARBN_FLAG_W,ALKALI,ALKALI_FLAG_W,PH_TOT,PH_TOT_FLAG_W,PH_TMP,DELC13,DELC13_FLAG_W,DELC14,DELC14_FLAG_W,C14ERR,DOC,DOC_FLAG_W,TDN,TDN_FLAG_W,TON,TON_FLAG_W,D15N_NO3,D15N_NO3_FLAG_W,BTL_DATE,BTL_TIME,BTL_LAT,BTL_LON,CTDRINKO,CTDRINKO_FLAG_W,CTDFLUOR,CTDFLUOR_FLAG_W,CTDXMISS,CTDXMISS_FLAG_W,CTDBACKSCATTER,CTDBACKSCATTER_FLAG_W,D18O_NO3,D18O_NO3_FLAG_W,DOP,DOP_FLAG_W,CELLCOUNT,CELLCOUNT_FLAG_W,TDP,TDP_FLAG_W,POP,POP_FLAG_W,DATP,DATP_FLAG_W,PATP,PATP_FLAG_W,HPLC,HPLC_FLAG_W,POC,POC_FLAG_W,BEAMAP,BEAMAP_FLAG_W,DOC_NASA,DOC_NASA_FLAG_W,REFTMP,REFTMP_FLAG_W,DOC_NASA_ERROR,TDN_NASA,TDN_NASA_FLAG_W,TDN_NASA_ERROR
,,,,,,,,,,,METERS,DBAR,ITS-90,PSS-78,,PSS-78,,UMOL/KG,,UMOL/KG,,UMOL/KG,,UMOL/KG,,UMOL/KG,,UMOL/KG,,PMOL/KG,,PMOL/KG,,FMOL/KG,,UMOL/KG,,UMOL/KG,,,,DEG C,/MILLE,,/MILLE,,/MILLE,UMOL/KG,,UMOL/KG,,UMOL/KG,,/MILLE,,,,,,VOLTS,,VOLTS,,VOLTS,,VOLTS,,/MILLE,,UMOL/KG,,/LITER,,UMOL/KG,,UMOL/L,,PMOL/L,,PMOL/L,,,,UG/L,,/METER,,UMOL/L,,ITS-90,,UMOL/L,UMOL/L,,UMOL/L
320620170820,        P06,     247,          1,          1,          1,2,20170929,       0028,   -32.4999,   -71.8674,       2150,  2196.0,   2.0131,  34.6570,2,  34.6551,2, 138.7079,2, 139.1421,2,   121.0,2,   36.50,2,    0.00,2,    2.58,2,   0.023,2,   0.039,2,   0.0000,2,  2315.9,2,  2397.8,2,   7.5487,2,    25.00, -999.00,9, -999.00,9, -999.00,  -999.0,9, -999.00,9,     -999.0,9,  -999.0,9, 20170929,       28, -32.5000, -71.8681,        0.0,1,      0.062,1,      4.659,1,      0.172,1,     -999.0,9,     -999.0,9,     -999.0,9,     -999.0,9,     -999.0,9,     -999.0,9,     -999.0,9,     -999.0,9,     -999.0,9,     -999.0,9,     -999.0,9,     2.0143,2,     -999.0,     -999.0,9,     -999.0
320620170820,        P06,     247,          1,          2,          2,2,20170929,       0028,   -32.4999,   -71.8674,       2150,  2073.8,   2.1395,  34.6455,2,  34.6443,2, 135.6267,2,  135.162,2,   118.4,2,   36.86,2,    0.00,2,    2.60,2,   0.022,2,   0.039,2,   0.0000,2,  -999.0,9,  -999.0,9,-999.0000,9,  -999.00, -999.00,9, -999.00,9, -999.00,  -999.0,9, -999.00,9,     -999.0,9,  -999.0,9, 20170929,       31, -32.4999, -71.8680,        0.0,1,      0.062,1,      4.667,1,      0.155,1,     -999.0,9,     -999.0,9,     -999.0,9,     -999.0,9,     -999.0,9,     -999.0,9,     -999.0,9,     -999.0,9,     -999.0,9,     -999.0,9,     -999.0,9,     2.1360,2,     -999.0,     -999.0,9,     -999.0
320620170820,        P06,     247,          1,          3,          3,2,20170929,       0028,   -32.4999,   -71.8674,       2150,  1958.1,   2.2284,  34.6372,2,  34.6354,2, 131.6775,2, 131.6534,2,   116.0,2,   37.15,2,    0.00,2,    2.62,2,-999.000,9,-999.000,9,-999.0000,9,  -999.0,9,  -999.0,9,-999.0000,9,  -999.00, -999.00,9, -999.00,9, -999.00,  -999.0,9, -999.00,9,     -999.0,9,  -999.0,9, 20170929,       35, -32.4999, -71.8680,        0.0,1,      0.063,1,      4.669,1,      0.147,1,     -999.0,9,     -999.0,9,     -999.0,9,     -999.0,9,     -999.0,9,     -999.0,9,     -999.0,9,     -999.0,9,     -999.0,9,     -999.0,9,     -999.0,9,     2.2257,2,     -999.0,     -999.0,9,     -999.0
320620170820,        P06,     247,          1,          4,          4,2,20170929,       0028,   -32.4999,   -71.8674,       2150,  1855.1,   2.3163,  34.6290,2,  34.6270,2, 128.8308,2, 128.5158,2,   113.9,2,   37.46,2,    0.00,2,    2.65,2,   0.022,2,   0.046,2,   0.0000,2,  2315.3,2,  2388.9,6,   7.5275,2,    25.00, -999.00,9, -999.00,9, -999.00,  -999.0,9, -999.00,9,     -999.0,9,  -999.0,9, 20170929,       38, -32.4999, -71.8679,        0.0,1,      0.063,1,      4.671,1,      0.149,1,     -999.0,9,     -999.0,9,     -999.0,9,     -999.0,9,     -999.0,9,     -999.0,9,     -999.0,9,     -999.0,9,     -999.0,9,     -999.0,9,     -999.0,9,     2.3164,2,     -999.0,     -999.0,9,     -999.0
320620170820,        P06,     247,          1,          5,          5,2,20170929,       0028,   -32.4999,   -71.8674,       2150,  1752.1,   2.4524,  34.6161,2,  34.6148,2, 124.2037,2,  124.387,2,   110.1,2,   37.85,2,    0.00,2,    2.66,2,-999.000,9,-999.000,9,-999.0000,9,  -999.0,9,  -999.0,9,-999.0000,9,  -999.00, -999.00,9, -999.00,9, -999.00,  -999.0,9, -999.00,9,     -999.0,9,  -999.0,9, 20170929,       41, -32.4999, -71.8678,        0.0,1,      0.063,1,      4.672,1,      0.142,1,     -999.0,9,     -999.0,9,     -999.0,9,     -999.0,9,     -999.0,9,     -999.0,9,     -999.0,9,     -999.0,9,     -999.0,9,     -999.0,9,     -999.0,9,     2.4524,2,     -999.0,     -999.0,9,     -999.0
320620170820,        P06,     247,          1,          6,          6,2,20170929,       0028,   -32.4999,   -71.8674,       2150,  1652.0,   2.5866,  34.6035,2,  34.6012,2, 120.7691,2, 120.9621,2,   106.3,2,   38.18,2,    0.00,2,    2.71,2,   0.025,2,   0.058,2,   0.0000,2,  -999.0,9,  -999.0,9,-999.0000,9,  -999.00, -999.00,9, -999.00,9, -999.00,  -999.0,9, -999.00,9,     -999.0,9,  -999.0,9, 20170929,       43, -32.4999, -71.8677,        0.0,1,      0.062,1,      4.672,1,      0.142,1,     -999.0,9,     -999.0,9,     -999.0,9,     -999.0,9,     -999.0,9,     -999.0,9,     -999.0,9,     -999.0,9,     -999.0,9,     -999.0,9,     -999.0,9,     2.5861,2,     -999.0,     -999.0,9,     -999.0
320620170820,        P06,     247,          1,          7,          7,2,20170929,       0028,   -32.4999,   -71.8674,       2150,  1551.2,   2.7425,  34.5882,2,  34.5867,2,  116.701,2, 116.7541,2,   102.0,2,   38.57,2,    0.00,2,    2.73,2,-999.000,9,-999.000,9,-999.0000,9,  -999.0,9,  -999.0,9,-999.0000,9,  -999.00, -999.00,9, -999.00,9, -999.00,  -999.0,9, -999.00,9,     -999.0,9,  -999.0,9, 20170929,       46, -32.4999, -71.8676,        0.0,1,      0.062,1,      4.672,1,      0.143,1,     -999.0,9,     -999.0,9,     -999.0,9,     -999.0,9,     -999.0,9,     -999.0,9,     -999.0,9,     -999.0,9,     -999.0,9,     -999.0,9,     -999.0,9,     2.7358,2,     -999.0,     -999.0,9,     -999.0
320620170820,        P06,     247,          1,          8,          8,2,20170929,       0028,   -32.4999,   -71.8674,       2150,  1448.7,   2.9178,  34.5715,2,  34.5692,2, 112.7276,2, 112.8576,2,    97.0,2,   39.02,2,    0.00,2,    2.75,2,   0.026,2,   0.083,2,   0.0000,2,  2308.2,2,  2368.1,2,   7.4919,2,    25.00, -999.00,9, -999.00,9, -999.00,  -999.0,9, -999.00,9,     -999.0,9,  -999.0,9, 20170929,       49, -32.4999, -71.8675,        0.0,1,      0.063,1,      4.672,1,      0.143,1,     -999.0,9,     -999.0,9,     -999.0,9,     -999.0,9,     -999.0,9,     -999.0,9,     -999.0,9,     -999.0,9,     -999.0,9,     -999.0,9,     -999.0,9,     2.9134,2,     -999.0,     -999.0,9,     -999.0
320620170820,        P06,     247,          1,          9,          9,2,20170929,       0028,   -32.4999,   -71.8674,       2150,  1347.5,   3.1510,  34.5511,2,  34.5498,2, 108.7497,2, 108.6947,2,    90.9,2,   39.43,2,    0.00,2,    2.80,2,-999.000,9,-999.000,9,-999.0000,9,  -999.0,9,  -999.0,9,-999.0000,9,  -999.00, -999.00,9, -999.00,9, -999.00,  -999.0,9, -999.00,9,     -999.0,9,  -999.0,9, 20170929,       52, -32.4999, -71.8675,        0.0,1,      0.062,1,      4.672,1,      0.146,1,     -999.0,9,     -999.0,9,     -999.0,9,     -999.0,9,     -999.0,9,     -999.0,9,     -999.0,9,     -999.0,9,     -999.0,9,     -999.0,9,     -999.0,9,     3.1354,2,     -999.0,     -999.0,9,     -999.0
320620170820,        P06,     247,          1,         10,         10,2,20170929,       0028,   -32.4999,   -71.8674,       2150,  1245.5,   3.3849,  34.5289,2,  34.5276,2, 105.3516,2, 105.1237,2,    84.3,2,   39.74,2,    0.00,2,    2.82,2,   0.031,2,   0.101,2,   0.0000,2,  -999.0,9,  -999.0,9,-999.0000,9,  -999.00, -999.00,9, -999.00,9, -999.00,  -999.0,9, -999.00,9,     -999.0,9,  -999.0,9, 20170929,       54, -32.4999, -71.8676,        0.0,1,      0.062,1,      4.671,1,      0.146,1,     -999.0,9,     -999.0,9,     -999.0,9,     -999.0,9,     -999.0,9,     -999.0,9,     -999.0,9,     -999.0,9,     -999.0,9,     -999.0,9,     -999.0,9,     3.3801,2,     -999.0,     -999.0,9,     -999.0
320620170820,        P06,     247,          1,         11,         11,2,20170929,       0028,   -32.4999,   -71.8674,       2150,  1145.6,   3.5690,  34.5099,2,  34.5138,2, 104.2314,2, 104.0632,2,    78.1,2,   39.86,2,    0.00,2,    2.83,2,   0.038,2,   0.100,2,   0.0000,2,  2293.4,2,  2347.1,2,   7.4720,2,    25.00, -999.00,9, -999.00,9, -999.00,  -999.0,9, -999.00,9,     -999.0,9,  -999.0,9, 20170929,       57, -32.4999, -71.8676,        0.0,1,      0.064,1,      4.670,1,      0.150,1,     -999.0,9,     -999.0,9,     -999.0,9,     -999.0,9,     -999.0,9,     -999.0,9,     -999.0,9,     -999.0,9,     -999.0,9,     -999.0,9,     -999.0,9,     3.5698,2,     -999.0,     -999.0,9,     -999.0
320620170820,        P06,     247,          1,         12,         12,2,20170929,       0028,   -32.4999,   -71.8674,       2150,  1044.3,   3.7521,  34.4890,2,  34.4868,2,  104.522,2, 105.0027,2,    72.2,2,   39.78,2,    0.00,2,    2.83,2,   0.056,2,   0.115,2,   0.0000,2,  -999.0,9,  -999.0,9,-999.0000,9,  -999.00, -999.00,9, -999.00,9, -999.00,  -999.0,9, -999.00,9,     -999.0,9,  -999.0,9, 20170929,      100, -32.4999, -71.8677,        0.0,1,      0.064,1,      4.669,1,      0.162,1,     -999.0,9,     -999.0,9,     -999.0,9,     -999.0,9,     -999.0,9,     -999.0,9,     -999.0,9,     -999.0,9,     -999.0,9,     -999.0,9,     -999.0,9,     3.7443,2,     -999.0,     -999.0,9,     -999.0
320620170820,        P06,     247,          1,         13,         13,2,20170929,       0028,   -32.4999,   -71.8674,       2150,   942.6,   4.0180,  34.4582,2,  34.4551,2, 108.3531,2, 108.1475,2,    63.0,2,   39.50,2,    0.00,2,    2.79,2,   0.099,2,   0.134,2,   0.0000,2,  -999.0,9,  -999.0,9,-999.0000,9,  -999.00, -999.00,9, -999.00,9, -999.00,  -999.0,9, -999.00,9,     -999.0,9,  -999.0,9, 20170929,      103, -32.4999, -71.8677,        0.0,1,      0.063,1,      4.670,1,      0.150,1,     -999.0,9,     -999.0,9,     -999.0,9,     -999.0,9,     -999.0,9,     -999.0,9,     -999.0,9,     -999.0,9,     -999.0,9,     -999.0,9,     -999.0,9,     3.9966,2,     -999.0,     -999.0,9,     -999.0
320620170820,        P06,     247,          1,         14,         14,2,20170929,       0028,   -32.4999,   -71.8674,       2150,   841.1,   4.3157,  34.4173,2,  34.4161,2, 118.3699,2, 117.9284,2,    52.4,2,   38.56,2,    0.00,2,    2.72,2,   0.258,2,   0.211,2,   0.1000,2,  2261.3,2,  2316.5,2,   7.4852,2,    25.00, -999.00,9, -999.00,9, -999.00,  -999.0,9, -999.00,9,     -999.0,9,  -999.0,9, 20170929,      105, -32.4999, -71.8677,        0.0,1,      0.062,1,      4.668,1,      0.153,1,     -999.0,9,     -999.0,9,     -999.0,9,     -999.0,9,     -999.0,9,     -999.0,9,     -999.0,9,     -999.0,9,     -999.0,9,     -999.0,9,     -999.0,9,     4.2951,2,     -999.0,     -999.0,9,     -999.0
320620170820,        P06,     247,          1,         15,         15,2,20170929,       0028,   -32.4999,   -71.8674,       2150,   740.0,   4.7152,  34.3652,2,  34.3617,2, 140.2332,2,  141.201,2,    38.2,2,   36.14,2,    0.00,2,    2.53,2,   0.800,2,   0.447,2,   0.1430,2,  -999.0,9,  -999.0,9,-999.0000,9,  -999.00, -999.00,9, -999.00,9, -999.00,  -999.0,9, -999.00,9,     -999.0,9,  -999.0,9, 20170929,      108, -32.4999, -71.8677,        0.0,1,      0.062,1,      4.665,1,      0.160,1,     -999.0,9,     -999.0,9,     -999.0,9,     -999.0,9,     -999.0,9,     -999.0,9,     -999.0,9,     -999.0,9,     -999.0,9,     -999.0,9,     -999.0,9,     4.6906,2,     -999.0,     -999.0,9,     -999.0
320620170820,        P06,     247,          1,         16,         16,2,20170929,       0028,   -32.4999,   -71.8674,       2150,   639.4,   5.0633,  34.3326,2,  34.3305,2, 159.1914,2, 159.0479,2,    28.8,2,   34.12,2,    0.00,2,    2.37,2,   1.418,2,   0.756,2,   0.1980,2,  -999.0,9,  -999.0,9,-999.0000,9,  -999.00, -999.00,9, -999.00,9, -999.00,  -999.0,9, -999.00,9,     -999.0,9,  -999.0,9, 20170929,      111, -32.4999, -71.8677,        0.0,1,      0.062,1,      4.665,1,      0.162,1,     -999.0,9,     -999.0,9,     -999.0,9,     -999.0,9,     -999.0,9,     -999.0,9,     -999.0,9,     -999.0,9,     -999.0,9,     -999.0,9,     -999.0,9,     5.0594,2,     -999.0,     -999.0,9,     -999.0
320620170820,        P06,     247,          1,         17,         17,2,20170929,       0028,   -32.4999,   -71.8674,       2150,   538.2,   5.6126,  34.3158,2,  34.3119,2, 172.8557,2, 172.4585,2,    19.8,2,   31.96,2,    0.00,2,    2.22,2,   2.308,2,   1.218,2,   0.4140,2,  2202.3,2,  2283.1,2,   7.5665,2,    25.00, -999.00,9, -999.00,9, -999.00,  -999.0,9, -999.00,9,     -999.0,9,  -999.0,9, 20170929,      113, -32.4999, -71.8677,        0.0,1,      0.061,1,      4.662,1,      0.162,1,     -999.0,9,     -999.0,9,     -999.0,9,     -999.0,9,     -999.0,9,     -999.0,9,     -999.0,9,     -999.0,9,     -999.0,9,     -999.0,9,     -999.0,9,     5.6481,2,     -999.0,     -999.0,9,     -999.0
320620170820,        P06,     247,          1,         18,         18,2,20170929,       0028,   -32.4999,   -71.8674,       2150,   468.6,   6.0735,  34.3278,2,  34.3280,2,   161.45,2, 160.7565,2,    17.7,2,   31.88,2,    0.00,2,    2.22,2,-999.000,9,-999.000,9,-999.0000,9,  -999.0,9,  -999.0,9,-999.0000,9,  -999.00, -999.00,9, -999.00,9, -999.00,  -999.0,9, -999.00,9,     -999.0,9,  -999.0,9, 20170929,      115, -32.4999, -71.8678,        0.0,1,      0.061,1,      4.660,1,      0.192,1,     -999.0,9,     -999.0,9,     -999.0,9,     -999.0,9,     -999.0,9,     -999.0,9,     -999.0,9,     -999.0,9,     -999.0,9,     -999.0,9,     -999.0,9,     6.1528,2,     -999.0,     -999.0,9,     -999.0
320620170820,        P06,     247,          1,         19,         19,2,20170929,       0028,   -32.4999,   -71.8674,       2150,   417.8,   6.5549,  34.3583,2,  34.3611,2, 132.0753,2, 132.4725,2,    18.6,2,   33.24,2,    0.00,2,    2.35,2,   2.300,2,   1.244,2,   0.4530,2,  -999.0,9,  -999.0,9,-999.0000,9,  -999.00, -999.00,9, -999.00,9, -999.00,  -999.0,9, -999.00,9,     -999.0,9,  -999.0,9, 20170929,      117, -32.4999, -71.8678,        0.0,1,      0.062,1,      4.656,1,      0.197,1,     -999.0,9,     -999.0,9,     -999.0,9,     -999.0,9,     -999.0,9,     -999.0,9,     -999.0,9,     -999.0,9,     -999.0,9,     -999.0,9,     -999.0,9,     6.6686,2,     -999.0,     -999.0,9,     -999.0
320620170820,        P06,     247,          1,         20,         20,2,20170929,       0028,   -32.4999,   -71.8674,       2150,   366.3,   7.6997,  34.4524,2,  34.4573,2,  61.8833,2,  63.2404,2,    22.4,2,   35.80,2,    0.00,2,    2.68,2,   1.630,2,   0.895,2,   0.3520,2,  2257.3,2,  2283.5,2,   7.3952,2,    25.00, -999.00,9, -999.00,9, -999.00,  -999.0,9, -999.00,9,     -999.0,9,  -999.0,9, 20170929,      119, -32.4999, -71.8678,        0.0,1,      0.066,1,      4.645,1,      0.198,1,     -999.0,9,     -999.0,9,     -999.0,9,     -999.0,9,     -999.0,9,     -999.0,9,     -999.0,9,     -999.0,9,     -999.0,9,     -999.0,9,     -999.0,9,     7.8540,2,     -999.0,     -999.0,9,     -999.0
320620170820,        P06,     247,          1,         21,         21,2,20170929,       0028,   -32.4999,   -71.8674,       2150,   316.5,   8.4472,  34.5098,2,  34.5174,2,  34.9264,2,  34.4592,2,    24.0,2,   35.20,2,    0.00,2,    2.78,2,-999.000,9,-999.000,9,-999.0000,9,  -999.0,9,  -999.0,9,-999.0000,9,  -999.00, -999.00,9, -999.00,9, -999.00,  -999.0,9, -999.00,9,     -999.0,9,  -999.0,9, 20170929,      121, -32.4999, -71.8678,        0.0,1,      0.066,1,      4.637,1,      0.201,1,     -999.0,9,     -999.0,9,     -999.0,9,     -999.0,9,     -999.0,9,     -999.0,9,     -999.0,9,     -999.0,9,     -999.0,9,     -999.0,9,     -999.0,9,     8.6350,2,     -999.0,     -999.0,9,     -999.0
320620170820,        P06,     247,          1,         22,         22,2,20170929,       0028,   -32.4999,   -71.8674,       2150,   265.3,   9.2701,  34.5734,2,  34.5647,2,   21.063,2,  21.0544,2,    25.0,2,   33.45,2,    0.02,2,    2.81,2,   1.162,2,   0.682,2,   0.2000,2,  2279.1,2,  2288.3,2,   7.3435,2,    25.00, -999.00,9, -999.00,9, -999.00,  -999.0,9, -999.00,9,     -999.0,9,  -999.0,9, 20170929,      123, -32.4999, -71.8677,        0.0,1,      0.067,1,      4.630,1,      0.337,1,     -999.0,9,     -999.0,9,     -999.0,9,     -999.0,9,     -999.0,9,     -999.0,9,     -999.0,9,     -999.0,9,     -999.0,9,     -999.0,9,     -999.0,9,     9.2543,2,     -999.0,     -999.0,9,     -999.0
320620170820,        P06,     247,          1,         23,         23,2,20170929,       0028,   -32.4999,   -71.8674,       2150,   235.8,   9.5315,  34.5930,2,  34.5842,2,  18.3147,2,  16.9358,2,    25.1,2,   32.37,2,    0.02,2,    2.82,2,-999.000,9,-999.000,9,-999.0000,9,  -999.0,9,  -999.0,9,-999.0000,9,  -999.00, -999.00,9, -999.00,9, -999.00,  -999.0,9, -999.00,9,     -999.0,9,  -999.0,9, 20170929,      124, -32.4999, -71.8677,        0.0,1,      0.068,1,      4.631,1,      0.209,1,     -999.0,9,     -999.0,9,     -999.0,9,     -999.0,9,     -999.0,9,     -999.0,9,     -999.0,9,     -999.0,9,     -999.0,9,     -999.0,9,     -999.0,9,     9.4954,2,     -999.0,     -999.0,9,     -999.0
320620170820,        P06,     247,          1,         24,         24,2,20170929,       0028,   -32.4999,   -71.8674,       2150,   209.7,   9.9976,  34.6151,2,  34.5981,2,  15.4531,2,  15.3389,2,    24.7,2,   30.63,2,    0.01,2,    2.79,2,   1.174,2,   0.693,2,   0.3830,2,  2282.2,6,  2287.9,2,   7.3392,2,    25.00, -999.00,9, -999.00,9, -999.00,  -999.0,9, -999.00,9,     -999.0,9,  -999.0,9, 20170929,      126, -32.4999, -71.8677,        0.0,1,      0.069,1,      4.638,1,      0.236,1,     -999.0,9,     -999.0,9,     -999.0,9,     -999.0,9,     -999.0,9,     -999.0,9,     -999.0,9,     -999.0,9,     -999.0,9,     -999.0,9,     -999.0,9,     9.8959,2,     -999.0,     -999.0,9,     -999.0
320620170820,        P06,     247,          1,         25,         25,2,20170929,       0028,   -32.4999,   -71.8674,       2150,   184.8,  10.2131,  34.6182,2,  34.6187,2,    13.53,2,  13.3373,2,    24.7,2,   29.05,2,    0.01,2,    2.78,2,-999.000,9,-999.000,9,-999.0000,9,  -999.0,9,  -999.0,9,-999.0000,9,  -999.00, -999.00,9, -999.00,9, -999.00,  -999.0,9, -999.00,9,     -999.0,9,  -999.0,9, 20170929,      127, -32.4999, -71.8676,        0.0,1,      0.068,1,      4.639,1,      0.191,1,     -999.0,9,     -999.0,9,     -999.0,9,     -999.0,9,     -999.0,9,     -999.0,9,     -999.0,9,     -999.0,9,     -999.0,9,     -999.0,9,     -999.0,9,    10.2193,2,     -999.0,     -999.0,9,     -999.0
320620170820,        P06,     247,          1,         26,         26,2,20170929,       0028,   -32.4999,   -71.8674,       2150,   159.8,  10.4825,  34.6007,2,  34.6291,2,  11.2249,2,  13.8277,2,    24.3,2,   26.94,2,    0.01,2,    2.76,2,   1.261,2,   0.771,2,   0.2740,2,  2280.8,2,  2288.4,2,   7.3445,2,    25.00, -999.00,9, -999.00,9, -999.00,  -999.0,9, -999.00,9,     -999.0,9,  -999.0,9, 20170929,      129, -32.4999, -71.8676,        0.0,1,      0.069,1,      4.632,1,      0.200,1,     -999.0,9,     -999.0,9,     -999.0,9,     -999.0,9,     -999.0,9,     -999.0,9,     -999.0,9,     -999.0,9,     -999.0,9,     -999.0,9,     -999.0,9,    10.5763,2,     -999.0,     -999.0,9,     -999.0