BOTTLE,20240211CCHSIOCBG
EXPOCODE,SECT_ID,STNNBR,CASTNO,SAMPNO,BTLNBR,BTLNBR_FLAG_W,DATE,TIME,LATITUDE,LONGITUDE,DEPTH,CTDPRS,CTDTMP,CTDSAL,CTDSAL_FLAG_W,SALNTY,SALNTY_FLAG_W,CTDOXY,CTDOXY_FLAG_W,OXYGEN,OXYGEN_FLAG_W,SILCAT,SILCAT_FLAG_W,NITRAT,NITRAT_FLAG_W,NITRIT,NITRIT_FLAG_W,PHSPHT,PHSPHT_FLAG_W,CFC-11,CFC-11_FLAG_W,CFC-12,CFC-12_FLAG_W,SF6,SF6_FLAG_W,TCARBN,TCARBN_FLAG_W,ALKALI,ALKALI_FLAG_W,PH_TOT,PH_TOT_FLAG_W,PH_TMP,DELC13,DELC13_FLAG_W,DELC14,DELC14_FLAG_W,C14ERR,DOC,DOC_FLAG_W,TDN,TDN_FLAG_W,TON,TON_FLAG_W,D15N_NO3,D15N_NO3_FLAG_W,BTL_DATE,BTL_TIME,BTL_LAT,BTL_LON,CTDRINKO,CTDRINKO_FLAG_W,CTDFLUOR,CTDFLUOR_FLAG_W,CTDXMISS,CTDXMISS_FLAG_W,CTDBACKSCATTER,CTDBACKSCATTER_FLAG_W,D18O_NO3,D18O_NO3_FLAG_W,DOP,DOP_FLAG_W,CELLCOUNT,CELLCOUNT_FLAG_W,TDP,TDP_FLAG_W,POP,POP_FLAG_W,DATP,DATP_FLAG_W,PATP,PATP_FLAG_W,HPLC,HPLC_FLAG_W,POC,POC_FLAG_W,BEAMAP,BEAMAP_FLAG_W,DOC_NASA,DOC_NASA_FLAG_W,REFTMP,REFTMP_FLAG_W,DOC_NASA_ERROR,TDN_NASA,TDN_NASA_FLAG_W,TDN_NASA_ERROR
,,,,,,,,,,,METERS,DBAR,ITS-90,PSS-78,,PSS-78,,UMOL/KG,,UMOL/KG,,UMOL/KG,,UMOL/KG,,UMOL/KG,,UMOL/KG,,PMOL/KG,,PMOL/KG,,FMOL/KG,,UMOL/KG,,UMOL/KG,,,,DEG C,/MILLE,,/MILLE,,/MILLE,UMOL/KG,,UMOL/KG,,UMOL/KG,,/MILLE,,,,,,VOLTS,,VOLTS,,VOLTS,,VOLTS,,/MILLE,,UMOL/KG,,/LITER,,UMOL/KG,,UMOL/L,,PMOL/L,,PMOL/L,,,,UG/L,,/METER,,UMOL/L,,ITS-90,,UMOL/L,UMOL/L,,UMOL/L
320620170820,        P06,     197,          1,         27,         27,2,20170913,       1312,   -32.5001,  -106.1851,       3324,   286.6,   9.3886,  34.2843,2,  34.2764,2, 223.6461,2, 221.9928,2,     2.2,2,   17.58,2,    0.00,2,    1.21,2,   3.378,2,   1.895,2,   1.6990,2,  2127.5,2,  2266.9,6,   7.7298,2,    25.00, -999.00,9, -999.00,9, -999.00,  -999.0,9, -999.00,9,     -999.0,9,  -999.0,9, 20170913,     1431, -32.5002,-106.1850,        0.0,1,      0.059,1,      4.683,1,      0.132,1,     -999.0,9,     -999.0,9,     -999.0,9,     -999.0,9,     -999.0,9,     -999.0,9,     -999.0,9,     -999.0,9,     -999.0,9,     -999.0,9,     -999.0,9,     9.4792,2,     -999.0,     -999.0,9,     -999.0
320620170820,        P06,     197,          1,         28,         28,2,20170913,       1312,   -32.5001,  -106.1851,       3324,   236.2,  11.5552,  34.4014,2,  34.3943,2, 218.6672,2, 218.8876,2,     0.8,2,   12.24,2,    0.00,2,    0.86,2,-999.000,9,-999.000,9,-999.0000,9,  2107.7,2,  2270.6,2,   7.7860,6,    25.00, -999.00,9, -999.00,9, -999.00,  -999.0,9, -999.00,9,     -999.0,9,  -999.0,9, 20170913,     1432, -32.5002,-106.1850,        0.0,1,      0.062,1,      4.679,1,      0.134,1,     -999.0,9,     -999.0,9,     -999.0,9,     -999.0,9,     -999.0,9,     -999.0,9,     -999.0,9,     -999.0,9,     -999.0,9,     -999.0,9,     -999.0,9,    11.5684,2,     -999.0,     -999.0,9,     -999.0
320620170820,        P06,     197,          1,         29,         29,2,20170913,       1312,   -32.5001,  -106.1851,       3324,   185.4,  13.2408,  34.4370,2,  34.4591,2, 219.9827,2, 226.0496,2,     0.2,2,    7.15,2,    0.02,2,    0.56,2,   2.724,2,   1.627,2,   1.8630,2,  2084.2,2,  2273.8,2,   7.8427,2,    25.00, -999.00,9, -999.00,9, -999.00,  -999.0,9, -999.00,9,     -999.0,9,  -999.0,9, 20170913,     1434, -32.5002,-106.1850,        0.0,1,      0.087,1,      4.673,1,      0.136,1,     -999.0,9,     -999.0,9,     -999.0,1,     -999.0,1,     -999.0,1,     -999.0,1,     -999.0,1,     -999.0,9,     -999.0,9,     -999.0,9,     -999.0,9,    13.2754,2,     -999.0,     -999.0,9,     -999.0
320620170820,        P06,     197,          1,         30,         30,2,20170913,       1312,   -32.5001,  -106.1851,       3324,   139.8,  15.9479,  34.7834,2,  34.7400,2, 234.5006,2, 234.1461,2,     0.0,2,    1.19,2,    0.31,2,    0.23,2,   2.423,2,   1.464,2,   1.9190,2,  2064.0,2,  2288.2,2,   7.9160,2,    25.00, -999.00,9, -999.00,9, -999.00,  -999.0,9, -999.00,9,     -999.0,9,  -999.0,9, 20170913,     1436, -32.5002,-106.1850,        0.0,1,      0.180,1,      4.652,1,      0.160,1,     -999.0,9,     -999.0,9,     -999.0,1,     -999.0,1,     -999.0,1,     -999.0,1,     -999.0,1,     -999.0,9,     -999.0,9,     -999.0,9,     -999.0,9,    15.7160,2,     -999.0,     -999.0,9,     -999.0
320620170820,        P06,     197,          1,         31,         31,2,20170913,       1312,   -32.5001,  -106.1851,       3324,   114.7,  17.0028,  34.9019,2,  34.9892,3, 236.7053,2, 236.0053,2,     0.0,2,    0.20,2,    0.08,2,    0.12,2,-999.000,9,-999.000,9,-999.0000,9,  2054.1,2,  2304.1,2,   7.9591,2,    25.00, -999.00,9, -999.00,9, -999.00,  -999.0,9, -999.00,9,     -999.0,9,  -999.0,9, 20170913,     1437, -32.5002,-106.1850,        0.0,1,      0.201,1,      4.639,1,      0.179,1,     -999.0,9,     -999.0,9,     -999.0,1,     -999.0,1,     -999.0,1,     -999.0,1,     -999.0,1,     -999.0,9,     -999.0,9,     -999.0,9,     -999.0,9,    17.3597,2,     -999.0,     -999.0,9,     -999.0
320620170820,        P06,     197,          1,         32,         32,2,20170913,       1312,   -32.5001,  -106.1851,       3324,    89.4,  17.5866,  34.9665,2,  34.9183,2, 239.8667,2, 240.4034,2,     0.0,2,    0.00,2,    0.00,2,    0.11,2,   2.237,2,   1.332,2,   1.7790,2,  2046.7,2,  2298.1,2,   7.9634,2,    25.00, -999.00,9, -999.00,9, -999.00,  -999.0,9, -999.00,9,     -999.0,9,  -999.0,9, 20170913,     1439, -32.5002,-106.1850,        0.0,1,      0.135,1,      4.629,1,      0.194,1,     -999.0,9,     -999.0,9,     -999.0,1,     -999.0,1,     -999.0,1,     -999.0,1,     -999.0,1,     -999.0,9,     -999.0,9,     -999.0,9,     -999.0,9,    17.4732,2,     -999.0,     -999.0,9,     -999.0
320620170820,        P06,     197,          1,         33,         33,2,20170913,       1312,   -32.5001,  -106.1851,       3324,    64.7,  17.4796,  34.9176,2,  34.8920,2, 239.7401,2, 240.6345,2,     0.0,2,    0.00,2,    0.00,2,    0.12,2,-999.000,9,-999.000,9,-999.0000,9,  -999.0,9,  -999.0,9,-999.0000,9,  -999.00, -999.00,9, -999.00,9, -999.00,  -999.0,9, -999.00,9,     -999.0,9,  -999.0,9, 20170913,     1440, -32.5001,-106.1851,        0.0,1,      0.103,1,      4.632,1,      0.191,1,     -999.0,9,     -999.0,9,     -999.0,1,     -999.0,1,     -999.0,1,     -999.0,1,     -999.0,1,     -999.0,9,     -999.0,9,     -999.0,9,     -999.0,9,    17.4282,2,     -999.0,     -999.0,9,     -999.0
320620170820,        P06,     197,          1,         34,         34,2,20170913,       1312,   -32.5001,  -106.1851,       3324,    38.6,  17.4230,  34.8872,2,  34.8849,2, 239.8209,2, 241.1516,2,     0.0,2,    0.00,2,    0.00,2,    0.09,2,   2.215,2,   1.328,2,   1.7900,2,  2046.1,2,  2297.4,2,   7.9636,2,    25.00, -999.00,9, -999.00,9, -999.00,  -999.0,9, -999.00,9,     -999.0,9,  -999.0,9, 20170913,     1442, -32.5001,-106.1851,        0.0,1,      0.095,1,      4.632,1,      0.187,1,     -999.0,9,     -999.0,9,     -999.0,9,     -999.0,9,     -999.0,9,     -999.0,9,     -999.0,9,     -999.0,9,     -999.0,9,     -999.0,9,     -999.0,9,    17.4187,2,     -999.0,     -999.0,9,     -999.0
320620170820,        P06,     197,          1,         35,         35,2,20170913,       1312,   -32.5001,  -106.1851,       3324,    18.5,  17.4075,  34.8848,2,  34.8851,2, 239.7674,2, 241.0738,2,     0.0,2,    0.00,2,    0.00,2,    0.11,2,-999.000,9,-999.000,9,-999.0000,9,  2046.8,2,  2298.0,2,   7.9631,2,    25.00, -999.00,9, -999.00,9, -999.00,  -999.0,9, -999.00,9,     -999.0,9,  -999.0,9, 20170913,     1443, -32.5001,-106.1851,        0.0,1,      0.096,1,      4.632,1,      0.187,1,     -999.0,9,     -999.0,9,     -999.0,1,     -999.0,1,     -999.0,1,     -999.0,1,     -999.0,1,     -999.0,9,     -999.0,9,     -999.0,9,     -999.0,9,    17.4169,2,     -999.0,     -999.0,9,     -999.0
320620170820,        P06,     197,          1,         36,         36,2,20170913,       1312,   -32.5001,  -106.1851,       3324,     5.5,  17.4088,  34.8834,2,  34.8849,2, 240.0105,2, 240.9705,2,     0.0,2,    0.00,2,    0.00,2,    0.13,2,   2.247,2,   1.336,2,   1.8040,2,  2046.5,6,  2298.5,2,   7.9628,2,    25.00, -999.00,9, -999.00,9, -999.00,  -999.0,9, -999.00,9,     -999.0,9,  -999.0,9, 20170913,     1444, -32.5001,-106.1851,        0.0,1,      0.096,1,      4.632,1,      0.178,1,     -999.0,9,     -999.0,9,     -999.0,9,     -999.0,9,     -999.0,9,     -999.0,9,     -999.0,9,     -999.0,9,     -999.0,9,     -999.0,9,     -999.0,9,    17.4140,2,     -999.0,     -999.0,9,     -999.0