BOTTLE,20240211CCHSIOCBG
EXPOCODE,SECT_ID,STNNBR,CASTNO,SAMPNO,BTLNBR,BTLNBR_FLAG_W,DATE,TIME,LATITUDE,LONGITUDE,DEPTH,CTDPRS,CTDTMP,CTDSAL,CTDSAL_FLAG_W,SALNTY,SALNTY_FLAG_W,CTDOXY,CTDOXY_FLAG_W,OXYGEN,OXYGEN_FLAG_W,SILCAT,SILCAT_FLAG_W,NITRAT,NITRAT_FLAG_W,NITRIT,NITRIT_FLAG_W,PHSPHT,PHSPHT_FLAG_W,CFC-11,CFC-11_FLAG_W,CFC-12,CFC-12_FLAG_W,SF6,SF6_FLAG_W,TCARBN,TCARBN_FLAG_W,ALKALI,ALKALI_FLAG_W,PH_TOT,PH_TOT_FLAG_W,PH_TMP,DELC13,DELC13_FLAG_W,DELC14,DELC14_FLAG_W,C14ERR,DOC,DOC_FLAG_W,TDN,TDN_FLAG_W,TON,TON_FLAG_W,D15N_NO3,D15N_NO3_FLAG_W,BTL_DATE,BTL_TIME,BTL_LAT,BTL_LON,CTDRINKO,CTDRINKO_FLAG_W,CTDFLUOR,CTDFLUOR_FLAG_W,CTDXMISS,CTDXMISS_FLAG_W,CTDBACKSCATTER,CTDBACKSCATTER_FLAG_W,D18O_NO3,D18O_NO3_FLAG_W,DOP,DOP_FLAG_W,CELLCOUNT,CELLCOUNT_FLAG_W,TDP,TDP_FLAG_W,POP,POP_FLAG_W,DATP,DATP_FLAG_W,PATP,PATP_FLAG_W,HPLC,HPLC_FLAG_W,POC,POC_FLAG_W,BEAMAP,BEAMAP_FLAG_W,DOC_NASA,DOC_NASA_FLAG_W,REFTMP,REFTMP_FLAG_W,DOC_NASA_ERROR,TDN_NASA,TDN_NASA_FLAG_W,TDN_NASA_ERROR
,,,,,,,,,,,METERS,DBAR,ITS-90,PSS-78,,PSS-78,,UMOL/KG,,UMOL/KG,,UMOL/KG,,UMOL/KG,,UMOL/KG,,UMOL/KG,,PMOL/KG,,PMOL/KG,,FMOL/KG,,UMOL/KG,,UMOL/KG,,,,DEG C,/MILLE,,/MILLE,,/MILLE,UMOL/KG,,UMOL/KG,,UMOL/KG,,/MILLE,,,,,,VOLTS,,VOLTS,,VOLTS,,VOLTS,,/MILLE,,UMOL/KG,,/LITER,,UMOL/KG,,UMOL/L,,PMOL/L,,PMOL/L,,,,UG/L,,/METER,,UMOL/L,,ITS-90,,UMOL/L,UMOL/L,,UMOL/L
320620170820,        P06,     162,          1,          1,          1,2,20170902,       1528,   -32.4998,  -133.2440,       4356,  4425.7,   1.3608,  34.7045,2,  34.7060,3, 188.3429,3, 189.6186,2,   118.8,2,   33.03,2,    0.00,2,    2.28,2,   0.036,2,   0.017,2,   0.0000,2,  2280.6,6,  2381.9,2,   7.6068,2,    25.00, -999.00,9, -999.00,9, -999.00,    39.4,2, -999.00,9,     -999.0,1,  -999.0,9, 20170902,     1528, -32.4999,-133.2462,        0.0,1,      0.061,1,      4.694,1,      0.125,1,     -999.0,9,     -999.0,9,     -999.0,9,     -999.0,9,     -999.0,9,     -999.0,9,     -999.0,9,     -999.0,9,     -999.0,9,     -999.0,9,     -999.0,9,     1.3619,2,     -999.0,     -999.0,9,     -999.0
320620170820,        P06,     162,          1,          2,          2,2,20170902,       1528,   -32.4998,  -133.2440,       4356,  4195.3,   1.3538,  34.7036,2,  34.7028,3, 188.5647,2, 188.7227,2,   119.1,2,   33.06,2,    0.00,2,    2.28,2,   0.037,2,   0.022,2,   0.0000,2,  2279.6,2,  2384.7,2,   7.6056,2,    25.00, -999.00,9, -999.00,9, -999.00,  -999.0,9, -999.00,9,     -999.0,9,  -999.0,9, 20170902,     1534, -32.4999,-133.2466,        0.0,1,      0.061,1,      4.694,1,      0.124,1,     -999.0,9,     -999.0,9,     -999.0,9,     -999.0,9,     -999.0,9,     -999.0,9,     -999.0,9,     -999.0,9,     -999.0,9,     -999.0,9,     -999.0,9,     1.3540,2,     -999.0,     -999.0,9,     -999.0
320620170820,        P06,     162,          1,          3,          3,2,20170902,       1528,   -32.4998,  -133.2440,       4356,  3965.6,   1.4311,  34.6976,2,  34.6975,3, 183.4763,2, 182.7864,2,   120.0,2,   33.46,2,    0.00,2,    2.31,2,   0.032,2,   0.019,2,   0.0000,2,  2285.6,2,  2387.3,2,   7.6008,2,    25.00, -999.00,9, -999.00,9, -999.00,    38.4,2, -999.00,9,     -999.0,1,  -999.0,9, 20170902,     1539, -32.5001,-133.2461,        0.0,1,      0.060,1,      4.695,1,      0.123,1,     -999.0,9,     -999.0,9,     -999.0,9,     -999.0,9,     -999.0,9,     -999.0,9,     -999.0,9,     -999.0,9,     -999.0,9,     -999.0,9,     -999.0,9,     1.4351,2,     -999.0,     -999.0,9,     -999.0
320620170820,        P06,     162,          1,          4,          4,2,20170902,       1528,   -32.4998,  -133.2440,       4356,  3657.9,   1.5444,  34.6877,2,  34.6877,2, 175.7891,3, 174.7342,2,   121.6,2,   34.03,2,    0.00,2,    2.35,2,   0.037,2,   0.022,2,   0.0000,2,  2293.1,2,  2392.8,2,   7.5953,2,    25.00, -999.00,9, -999.00,9, -999.00,  -999.0,9, -999.00,9,     -999.0,9,  -999.0,9, 20170902,     1546, -32.4999,-133.2465,        0.0,1,      0.061,1,      4.695,1,      0.124,1,     -999.0,9,     -999.0,9,     -999.0,9,     -999.0,9,     -999.0,9,     -999.0,9,     -999.0,9,     -999.0,9,     -999.0,9,     -999.0,9,     -999.0,9,     1.5496,2,     -999.0,     -999.0,9,     -999.0
320620170820,        P06,     162,          1,          5,          5,2,20170902,       1528,   -32.4998,  -133.2440,       4356,  3348.7,   1.6059,  34.6814,2,  34.6808,2, 170.9581,3,  169.824,2,   122.4,2,   34.42,2,    0.00,2,    2.37,2,   0.036,2,   0.020,2,   0.0000,2,  2298.0,2,  2393.6,6,   7.5909,2,    25.00, -999.00,9, -999.00,9, -999.00,    36.9,2, -999.00,9,     -999.0,1,  -999.0,9, 20170902,     1552, -32.5000,-133.2468,        0.0,1,      0.061,1,      4.696,1,      0.124,1,     -999.0,9,     -999.0,9,     -999.0,9,     -999.0,9,     -999.0,9,     -999.0,9,     -999.0,9,     -999.0,9,     -999.0,9,     -999.0,9,     -999.0,9,     1.6104,2,     -999.0,     -999.0,9,     -999.0
320620170820,        P06,     162,          1,          6,          6,2,20170902,       1528,   -32.4998,  -133.2440,       4356,  3041.1,   1.6605,  34.6755,2,  34.6753,2, 166.4969,2, 165.9729,2,   122.1,2,   34.66,2,    0.00,2,    2.42,2,   0.036,2,   0.021,2,   0.0000,2,  2299.7,2,  2395.6,2,   7.5873,2,    25.00, -999.00,9, -999.00,9, -999.00,    42.5,3, -999.00,9,     -999.0,1,  -999.0,9, 20170902,     1558, -32.5000,-133.2462,        0.0,1,      0.062,1,      4.696,1,      0.141,1,     -999.0,9,     -999.0,9,     -999.0,9,     -999.0,9,     -999.0,9,     -999.0,9,     -999.0,9,     -999.0,9,     -999.0,9,     -999.0,9,     -999.0,9,     1.6637,2,     -999.0,     -999.0,9,     -999.0
320620170820,        P06,     162,          1,          7,          7,2,20170902,       1528,   -32.4998,  -133.2440,       4356,  2785.3,   1.7200,  34.6701,2,  34.6694,2, 162.4015,2, 162.6132,2,   122.2,2,   34.90,2,    0.00,2,    2.41,2,   0.039,2,   0.024,2,   0.0000,2,  2302.3,2,  2397.2,2,   7.5825,6,    25.00, -999.00,9, -999.00,9, -999.00,    37.2,2, -999.00,9,     -999.0,1,  -999.0,9, 20170902,     1604, -32.5000,-133.2458,        0.0,1,      0.061,1,      4.696,1,      0.126,1,     -999.0,9,     -999.0,9,     -999.0,9,     -999.0,9,     -999.0,9,     -999.0,9,     -999.0,9,     -999.0,9,     -999.0,9,     -999.0,9,     -999.0,9,     1.7231,2,     -999.0,     -999.0,9,     -999.0
320620170820,        P06,     162,          1,          8,          8,2,20170902,       1528,   -32.4998,  -133.2440,       4356,  2530.6,   1.8141,  34.6621,2,  34.6614,2, 158.2894,2, 158.6645,2,   120.2,2,   35.19,2,    0.00,2,    2.43,2,   0.041,2,   0.024,2,   0.0000,2,  2302.3,2,  2394.8,2,   7.5791,2,    25.00, -999.00,9, -999.00,9, -999.00,  -999.0,9, -999.00,9,     -999.0,9,  -999.0,9, 20170902,     1609, -32.5000,-133.2456,        0.0,1,      0.061,1,      4.696,1,      0.127,1,     -999.0,9,     -999.0,9,     -999.0,9,     -999.0,9,     -999.0,9,     -999.0,9,     -999.0,9,     -999.0,9,     -999.0,9,     -999.0,9,     -999.0,9,     1.8258,2,     -999.0,     -999.0,9,     -999.0
320620170820,        P06,     162,          1,          9,          9,2,20170902,       1528,   -32.4998,  -133.2440,       4356,  2279.5,   1.9502,  34.6502,2,  34.6492,2, 155.0883,2,   156.23,2,   115.9,2,   35.28,2,    0.00,2,    2.43,2,   0.040,2,   0.023,2,   0.0000,2,  2300.6,2,  2389.5,2,   7.5743,2,    25.00, -999.00,9, -999.00,9, -999.00,    38.3,2, -999.00,9,     -999.0,1,  -999.0,9, 20170902,     1614, -32.5000,-133.2454,        0.0,1,      0.061,1,      4.696,1,      0.128,1,     -999.0,9,     -999.0,9,     -999.0,9,     -999.0,9,     -999.0,9,     -999.0,9,     -999.0,9,     -999.0,9,     -999.0,9,     -999.0,9,     -999.0,9,     1.9613,2,     -999.0,     -999.0,9,     -999.0
320620170820,        P06,     162,          1,         10,         10,2,20170902,       1528,   -32.4998,  -133.2440,       4356,  2023.6,   2.1237,  34.6322,2,  34.6327,2, 154.0391,2, 155.2245,2,   109.6,2,   35.25,2,    0.00,2,    2.42,2,   0.042,2,   0.026,2,   0.0000,2,  2296.4,6,  2385.4,2,   7.5709,2,    25.00, -999.00,9, -999.00,9, -999.00,    38.8,2, -999.00,9,     -999.0,1,  -999.0,9, 20170902,     1620, -32.5000,-133.2456,        0.0,1,      0.061,1,      4.696,1,      0.129,1,     -999.0,9,     -999.0,9,     -999.0,9,     -999.0,9,     -999.0,9,     -999.0,9,     -999.0,9,     -999.0,9,     -999.0,9,     -999.0,9,     -999.0,9,     2.1095,2,     -999.0,     -999.0,9,     -999.0
320620170820,        P06,     162,          1,         11,         11,2,20170902,       1528,   -32.4998,  -133.2440,       4356,  1819.0,   2.3269,  34.6045,2,  34.6071,2, 156.3343,2, 157.1387,2,   100.0,2,   35.12,2,    0.00,2,    2.40,2,   0.049,2,   0.029,2,   0.0000,2,  2284.9,2,  2372.5,2,   7.5690,2,    25.00, -999.00,9, -999.00,9, -999.00,    39.1,2, -999.00,9,     -999.0,1,  -999.0,9, 20170902,     1624, -32.5000,-133.2457,        0.0,1,      0.061,1,      4.696,1,      0.129,1,     -999.0,9,     -999.0,9,     -999.0,9,     -999.0,9,     -999.0,9,     -999.0,9,     -999.0,9,     -999.0,9,     -999.0,9,     -999.0,9,     -999.0,9,     2.2995,2,     -999.0,     -999.0,9,     -999.0
320620170820,        P06,     162,          1,         12,         12,2,20170902,       1528,   -32.4998,  -133.2440,       4356,  1617.5,   2.6005,  34.5542,2,  34.5565,2, 161.8141,2, 162.0792,2,    84.5,2,   34.86,2,    0.00,2,    2.38,2,   0.084,2,   0.050,2,   0.0000,2,  2269.8,2,  2355.0,2,   7.5666,2,    25.00, -999.00,9, -999.00,9, -999.00,  -999.0,9, -999.00,9,     -999.0,9,  -999.0,9, 20170902,     1628, -32.5000,-133.2460,        0.0,1,      0.061,1,      4.697,1,      0.131,1,     -999.0,9,     -999.0,9,     -999.0,9,     -999.0,9,     -999.0,9,     -999.0,9,     -999.0,9,     -999.0,9,     -999.0,9,     -999.0,9,     -999.0,9,     2.5848,2,     -999.0,     -999.0,9,     -999.0
320620170820,        P06,     162,          1,         13,         13,2,20170902,       1528,   -32.4998,  -133.2440,       4356,  1515.4,   2.7741,  34.5170,2,  34.5296,2, 164.8408,2, 165.1606,2,    77.6,2,   34.66,2,    0.00,2,    2.35,2,   0.114,2,   0.067,2,   0.0000,2,  2260.3,2,  2346.0,2,   7.5663,2,    25.00, -999.00,9, -999.00,9, -999.00,    42.7,2, -999.00,9,     -999.0,1,  -999.0,9, 20170902,     1631, -32.5000,-133.2457,        0.0,1,      0.061,1,      4.696,1,      0.131,1,     -999.0,9,     -999.0,9,     -999.0,9,     -999.0,9,     -999.0,9,     -999.0,9,     -999.0,9,     -999.0,9,     -999.0,9,     -999.0,9,     -999.0,9,     2.7135,2,     -999.0,     -999.0,9,     -999.0
320620170820,        P06,     162,          1,         14,         14,2,20170902,       1528,   -32.4998,  -133.2440,       4356,  1413.5,   2.9961,  34.4707,2,  34.4775,2, 170.8412,2, 171.0268,2,    66.2,2,   34.41,2,    0.00,2,    2.33,2,   0.233,2,   0.132,2,   0.0000,2,  2247.4,2,  2333.2,2,   7.5689,2,    25.00, -999.00,9, -999.00,9, -999.00,    40.1,2, -999.00,9,     -999.0,1,  -999.0,9, 20170902,     1634, -32.5000,-133.2452,        0.0,1,      0.060,1,      4.696,1,      0.128,1,     -999.0,9,     -999.0,9,     -999.0,9,     -999.0,9,     -999.0,9,     -999.0,9,     -999.0,9,     -999.0,9,     -999.0,9,     -999.0,9,     -999.0,9,     2.9559,2,     -999.0,     -999.0,9,     -999.0
320620170820,        P06,     162,          1,         15,         15,2,20170902,       1528,   -32.4998,  -133.2440,       4356,  1211.5,   3.6798,  34.3750,2,  34.3743,2, 186.8541,2, 185.9716,2,    45.1,2,   33.07,2,    0.00,2,    2.23,2,   0.664,2,   0.344,2,   0.1010,2,  2220.7,2,  2312.1,2,   7.5882,2,    25.00, -999.00,9, -999.00,9, -999.00,    38.2,2, -999.00,9,     -999.0,1,  -999.0,9, 20170902,     1638, -32.5000,-133.2454,        0.0,1,      0.061,1,      4.696,1,      0.127,1,     -999.0,9,     -999.0,9,     -999.0,9,     -999.0,9,     -999.0,9,     -999.0,9,     -999.0,9,     -999.0,9,     -999.0,9,     -999.0,9,     -999.0,9,     3.6805,2,     -999.0,     -999.0,9,     -999.0
320620170820,        P06,     162,          1,         16,         16,2,20170902,       1528,   -32.4998,  -133.2440,       4356,  1009.3,   4.7708,  34.3097,2,  34.3080,2, 209.1098,2, 208.2561,2,    24.6,2,   29.70,2,    0.00,2,    1.97,2,   1.590,6,   0.795,6,   0.2500,6,  2186.4,2,  2291.8,2,   7.6354,2,    25.00, -999.00,9, -999.00,9, -999.00,    41.6,2, -999.00,9,     -999.0,1,  -999.0,9, 20170902,     1643, -32.4999,-133.2456,        0.0,1,      0.060,1,      4.696,1,      0.129,1,     -999.0,9,     -999.0,9,     -999.0,9,     -999.0,9,     -999.0,9,     -999.0,9,     -999.0,9,     -999.0,9,     -999.0,9,     -999.0,9,     -999.0,9,     4.7857,2,     -999.0,     -999.0,9,     -999.0
320620170820,        P06,     162,          1,         17,         17,2,20170902,       1528,   -32.4998,  -133.2440,       4356,   908.0,   5.3709,  34.2958,2,  34.2938,2, 223.1071,2,  222.934,2,    16.4,2,   27.50,2,    0.00,2,    1.83,2,   2.081,2,   1.048,2,   0.4410,2,  2169.6,2,  2285.0,2,   7.6634,2,    25.00, -999.00,9, -999.00,9, -999.00,  -999.0,9, -999.00,9,     -999.0,9,  -999.0,9, 20170902,     1646, -32.5000,-133.2457,        0.0,1,      0.059,1,      4.696,1,      0.130,1,     -999.0,9,     -999.0,9,     -999.0,9,     -999.0,9,     -999.0,9,     -999.0,9,     -999.0,9,     -999.0,9,     -999.0,9,     -999.0,9,     -999.0,9,     5.3775,2,     -999.0,     -999.0,9,     -999.0
320620170820,        P06,     162,          1,         18,         18,2,20170902,       1528,   -32.4998,  -133.2440,       4356,   807.1,   5.8872,  34.3023,2,  34.3017,2, 233.6631,2, 233.0577,2,    11.5,2,   25.50,2,    0.00,2,    1.70,2,   2.821,2,   1.364,2,   0.5890,2,  2158.6,2,  2280.0,2,   7.6850,2,    25.00, -999.00,9, -999.00,9, -999.00,    43.1,2, -999.00,9,     -999.0,1,  -999.0,9, 20170902,     1648, -32.5000,-133.2457,        0.0,1,      0.060,1,      4.695,1,      0.129,1,     -999.0,9,     -999.0,9,     -999.0,9,     -999.0,9,     -999.0,9,     -999.0,9,     -999.0,9,     -999.0,9,     -999.0,9,     -999.0,9,     -999.0,9,     5.8692,2,     -999.0,     -999.0,9,     -999.0
320620170820,        P06,     162,          1,         19,         19,2,20170902,       1528,   -32.4998,  -133.2440,       4356,   705.6,   6.3785,  34.3242,2,  34.3221,2, 240.0655,2, 240.5249,2,     8.4,2,   23.81,2,    0.00,2,    1.56,2,   3.231,2,   1.664,2,   0.7600,2,  2149.8,2,  2281.6,2,   7.7005,2,    25.00, -999.00,9, -999.00,9, -999.00,  -999.0,9, -999.00,9,     -999.0,9,  -999.0,9, 20170902,     1651, -32.4999,-133.2455,        0.0,1,      0.058,1,      4.695,1,      0.132,1,     -999.0,9,     -999.0,9,     -999.0,9,     -999.0,9,     -999.0,9,     -999.0,9,     -999.0,9,     -999.0,9,     -999.0,9,     -999.0,9,     -999.0,9,     6.3662,2,     -999.0,     -999.0,9,     -999.0
320620170820,        P06,     162,          1,         20,         20,2,20170902,       1528,   -32.4998,  -133.2440,       4356,   603.4,   6.9033,  34.3563,2,  34.3568,2, 243.2258,2, 243.2895,2,     6.4,2,   22.07,2,    0.00,2,    1.47,2,   3.518,2,   1.870,2,   1.0290,2,  2146.0,2,  2279.1,2,   7.7111,2,    25.00, -999.00,9, -999.00,9, -999.00,    44.5,2, -999.00,9,     -999.0,1,  -999.0,9, 20170902,     1654, -32.4998,-133.2449,        0.0,1,      0.059,1,      4.694,1,      0.134,1,     -999.0,9,     -999.0,9,     -999.0,9,     -999.0,9,     -999.0,9,     -999.0,9,     -999.0,9,     -999.0,9,     -999.0,9,     -999.0,9,     -999.0,9,     6.9121,2,     -999.0,     -999.0,9,     -999.0
320620170820,        P06,     162,          1,         21,         21,2,20170902,       1528,   -32.4998,  -133.2440,       4356,   504.0,   7.5909,  34.4031,2,  34.4031,2, 243.9081,2, 244.4775,2,     4.4,2,   19.77,2,    0.00,2,    1.32,2,   3.604,2,   1.950,2,   1.4280,2,  2138.3,6,  2278.8,2,   7.7232,2,    25.00, -999.00,9, -999.00,9, -999.00,    42.9,2, -999.00,9,     -999.0,1,  -999.0,9, 20170902,     1656, -32.4998,-133.2445,        0.0,1,      0.059,1,      4.692,1,      0.135,1,     -999.0,9,     -999.0,9,     -999.0,9,     -999.0,9,     -999.0,9,     -999.0,9,     -999.0,9,     -999.0,9,     -999.0,9,     -999.0,9,     -999.0,9,     7.6141,2,     -999.0,     -999.0,9,     -999.0
320620170820,        P06,     162,          1,         22,         22,2,20170902,       1528,   -32.4998,  -133.2440,       4356,   452.7,   8.0664,  34.4222,2,  34.4218,2, 238.0271,2, 238.2873,2,     3.6,2,   18.75,2,    0.00,2,    1.26,2,   3.519,2,   1.932,2,   1.3630,2,  2139.3,2,  2278.2,2,   7.7291,2,    25.00, -999.00,9, -999.00,9, -999.00,  -999.0,9, -999.00,9,     -999.0,9,  -999.0,9, 20170902,     1659, -32.4998,-133.2443,        0.0,1,      0.059,1,      4.691,1,      0.135,1,     -999.0,9,     -999.0,9,     -999.0,9,     -999.0,9,     -999.0,9,     -999.0,9,     -999.0,9,     -999.0,9,     -999.0,9,     -999.0,9,     -999.0,9,     8.1241,2,     -999.0,     -999.0,9,     -999.0
320620170820,        P06,     162,          1,         23,         23,2,20170902,       1528,   -32.4998,  -133.2440,       4356,   403.2,   8.8128,  34.4520,2,  34.4718,2, 225.5209,2, 225.9363,2,     2.8,2,   16.88,2,    0.00,2,    1.15,2,   3.386,2,   1.854,2,   1.3680,2,  2134.8,2,  2280.1,2,   7.7422,2,    25.00, -999.00,9, -999.00,9, -999.00,    48.5,3, -999.00,9,     -999.0,1,  -999.0,9, 20170902,     1700, -32.4998,-133.2441,        0.0,1,      0.059,1,      4.690,1,      0.135,1,     -999.0,9,     -999.0,9,     -999.0,9,     -999.0,9,     -999.0,9,     -999.0,9,     -999.0,9,     -999.0,9,     -999.0,9,     -999.0,9,     -999.0,9,     9.1309,2,     -999.0,     -999.0,9,     -999.0
320620170820,        P06,     162,          1,         24,         24,2,20170902,       1528,   -32.4998,  -133.2440,       4356,   301.8,  11.9839,  34.7266,2,  34.7899,2, 209.7721,2,  209.604,2,     1.2,2,    9.71,2,    0.00,2,    0.70,2,   2.841,6,   1.612,6,   1.2870,6,  2109.4,2,  2291.5,2,   7.8190,2,    25.00, -999.00,9, -999.00,9, -999.00,    45.1,2, -999.00,9,     -999.0,1,  -999.0,9, 20170902,     1703, -32.4998,-133.2440,        0.0,1,      0.059,1,      4.689,1,      0.135,1,     -999.0,9,     -999.0,9,     -999.0,9,     -999.0,9,     -999.0,9,     -999.0,9,     -999.0,9,     -999.0,9,     -999.0,9,     -999.0,9,     -999.0,9,    12.5547,2,     -999.0,     -999.0,9,     -999.0
320620170820,        P06,     162,          1,         25,         25,2,20170902,       1528,   -32.4998,  -133.2440,       4356,   253.7,  13.7919,  34.9372,2,  34.9561,2, 209.5702,2, 210.7823,2,     0.6,2,    6.37,2,    0.00,2,    0.49,2,   2.588,2,   1.529,2,   1.3980,2,  2099.9,2,  2299.2,6,   7.8565,2,    25.00, -999.00,9, -999.00,9, -999.00,    49.7,2,    9.00,2,     -999.0,1,  -999.0,9, 20170902,     1705, -32.4997,-133.2441,        0.0,1,      0.059,1,      4.687,1,      0.130,1,     -999.0,9,     -999.0,9,     -999.0,9,     -999.0,9,     -999.0,9,     -999.0,9,     -999.0,9,     -999.0,9,     -999.0,9,     -999.0,9,     -999.0,9,    14.0347,2,     -999.0,     -999.0,9,     -999.0
320620170820,        P06,     162,          1,         26,         26,2,20170902,       1528,   -32.4998,  -133.2440,       4356,   200.1,  15.0902,  35.0825,2,  35.0878,2, 214.0641,2, 214.2923,2,     0.1,2,    3.76,2,    0.02,2,    0.31,2,   2.429,2,   1.453,2,   1.5210,2,  2089.3,2,  2302.8,2,   7.8916,2,    25.00, -999.00,9, -999.00,9, -999.00,    49.4,2,    6.70,2,     -999.0,1,  -999.0,9, 20170902,     1707, -32.4997,-133.2440,        0.0,1,      0.066,1,      4.684,1,      0.135,1,     -999.0,9,     -999.0,9,     -999.0,9,     -999.0,9,     -999.0,9,     -999.0,9,     -999.0,9,     -999.0,9,     -999.0,9,     -999.0,9,     -999.0,9,    15.2599,2,     -999.0,     -999.0,9,     -999.0