BOTTLE,20240211CCHSIOCBG
EXPOCODE,SECT_ID,STNNBR,CASTNO,SAMPNO,BTLNBR,BTLNBR_FLAG_W,DATE,TIME,LATITUDE,LONGITUDE,DEPTH,CTDPRS,CTDTMP,CTDSAL,CTDSAL_FLAG_W,SALNTY,SALNTY_FLAG_W,CTDOXY,CTDOXY_FLAG_W,OXYGEN,OXYGEN_FLAG_W,SILCAT,SILCAT_FLAG_W,NITRAT,NITRAT_FLAG_W,NITRIT,NITRIT_FLAG_W,PHSPHT,PHSPHT_FLAG_W,CFC-11,CFC-11_FLAG_W,CFC-12,CFC-12_FLAG_W,SF6,SF6_FLAG_W,TCARBN,TCARBN_FLAG_W,ALKALI,ALKALI_FLAG_W,PH_TOT,PH_TOT_FLAG_W,PH_TMP,DELC13,DELC13_FLAG_W,DELC14,DELC14_FLAG_W,C14ERR,DOC,DOC_FLAG_W,TDN,TDN_FLAG_W,TON,TON_FLAG_W,D15N_NO3,D15N_NO3_FLAG_W,BTL_DATE,BTL_TIME,BTL_LAT,BTL_LON,CTDRINKO,CTDRINKO_FLAG_W,CTDFLUOR,CTDFLUOR_FLAG_W,CTDXMISS,CTDXMISS_FLAG_W,CTDBACKSCATTER,CTDBACKSCATTER_FLAG_W,D18O_NO3,D18O_NO3_FLAG_W,DOP,DOP_FLAG_W,CELLCOUNT,CELLCOUNT_FLAG_W,TDP,TDP_FLAG_W,POP,POP_FLAG_W,DATP,DATP_FLAG_W,PATP,PATP_FLAG_W,HPLC,HPLC_FLAG_W,POC,POC_FLAG_W,BEAMAP,BEAMAP_FLAG_W,DOC_NASA,DOC_NASA_FLAG_W,REFTMP,REFTMP_FLAG_W,DOC_NASA_ERROR,TDN_NASA,TDN_NASA_FLAG_W,TDN_NASA_ERROR
,,,,,,,,,,,METERS,DBAR,ITS-90,PSS-78,,PSS-78,,UMOL/KG,,UMOL/KG,,UMOL/KG,,UMOL/KG,,UMOL/KG,,UMOL/KG,,PMOL/KG,,PMOL/KG,,FMOL/KG,,UMOL/KG,,UMOL/KG,,,,DEG C,/MILLE,,/MILLE,,/MILLE,UMOL/KG,,UMOL/KG,,UMOL/KG,,/MILLE,,,,,,VOLTS,,VOLTS,,VOLTS,,VOLTS,,/MILLE,,UMOL/KG,,/LITER,,UMOL/KG,,UMOL/L,,PMOL/L,,PMOL/L,,,,UG/L,,/METER,,UMOL/L,,ITS-90,,UMOL/L,UMOL/L,,UMOL/L
320620170820,        P06,     174,          1,          1,          1,2,20170906,       1314,   -32.5007,  -123.7434,       3439,  3478.7,   1.6533,  34.6806,2,  34.6810,2, 168.0099,2, 168.8768,2,   122.3,2,   34.52,2,    0.00,2,    2.38,2,   0.031,2,   0.018,2,   0.0000,2,  2298.8,6,  2393.5,2,   7.5920,2,    25.00, -999.00,9, -999.00,9, -999.00,    41.9,3, -999.00,9,     -999.0,1,  -999.0,1, 20170906,     1314, -32.5006,-123.7429,        0.0,1,      0.061,1,      4.692,1,      0.125,1,     -999.0,1,     -999.0,9,     -999.0,9,     -999.0,9,     -999.0,9,     -999.0,9,     -999.0,9,     -999.0,9,     -999.0,9,     -999.0,9,     -999.0,9,     1.6539,2,     -999.0,     -999.0,9,     -999.0
320620170820,        P06,     174,          1,          2,          2,2,20170906,       1314,   -32.5007,  -123.7434,       3439,  3364.9,   1.6605,  34.6791,2,  34.6789,2, 168.0099,2, 168.2471,2,   122.7,2,   34.50,2,    0.00,2,    2.38,2,   0.031,2,   0.021,2,   0.0000,2,  2298.8,2,  2393.1,2,   7.5912,2,    25.00, -999.00,9, -999.00,9, -999.00,  -999.0,9, -999.00,9,     -999.0,9,  -999.0,1, 20170906,     1318, -32.5003,-123.7430,        0.0,1,      0.061,1,      4.692,1,      0.126,1,     -999.0,1,     -999.0,9,     -999.0,9,     -999.0,9,     -999.0,9,     -999.0,9,     -999.0,9,     -999.0,9,     -999.0,9,     -999.0,9,     -999.0,9,     1.6609,2,     -999.0,     -999.0,9,     -999.0
320620170820,        P06,     174,          1,          3,          3,2,20170906,       1314,   -32.5007,  -123.7434,       3439,  3247.5,   1.6684,  34.6778,2,  34.6781,2, 167.6533,2, 167.3403,2,   122.4,2,   34.57,2,    0.00,2,    2.38,2,   0.031,2,   0.026,2,   0.0000,2,  2299.6,2,  2391.7,2,   7.5897,2,    25.00, -999.00,9, -999.00,9, -999.00,    38.0,2, -999.00,9,     -999.0,1,  -999.0,1, 20170906,     1321, -32.5002,-123.7430,        0.0,1,      0.061,1,      4.693,1,      0.125,1,     -999.0,1,     -999.0,9,     -999.0,9,     -999.0,9,     -999.0,9,     -999.0,9,     -999.0,9,     -999.0,9,     -999.0,9,     -999.0,9,     -999.0,9,     1.6669,2,     -999.0,     -999.0,9,     -999.0
320620170820,        P06,     174,          1,          4,          4,2,20170906,       1314,   -32.5007,  -123.7434,       3439,  3046.8,   1.6780,  34.6759,2,  34.6755,2, 166.7922,2,   165.93,2,   122.1,2,   34.65,2,    0.00,2,    2.38,2,   0.035,2,   0.024,2,   0.0000,2,  -999.0,9,  -999.0,9,-999.0000,9,  -999.00, -999.00,9, -999.00,9, -999.00,  -999.0,9, -999.00,9,     -999.0,9,  -999.0,1, 20170906,     1325, -32.5001,-123.7430,        0.0,1,      0.061,1,      4.693,1,      0.126,1,     -999.0,1,     -999.0,9,     -999.0,9,     -999.0,9,     -999.0,9,     -999.0,9,     -999.0,9,     -999.0,9,     -999.0,9,     -999.0,9,     -999.0,9,     1.6793,2,     -999.0,     -999.0,9,     -999.0
320620170820,        P06,     174,          1,          5,          5,2,20170906,       1314,   -32.5007,  -123.7434,       3439,  2841.1,   1.7114,  34.6722,2,  34.6720,2, 164.3351,2, 164.2028,2,   121.9,2,   34.81,2,    0.00,2,    2.39,2,   0.032,2,   0.022,2,   0.0000,2,  2299.8,2,  2389.9,2,   7.5859,2,    25.00, -999.00,9, -999.00,9, -999.00,    37.5,2, -999.00,9,     -999.0,1,  -999.0,1, 20170906,     1330, -32.5002,-123.7430,        0.0,1,      0.061,1,      4.694,1,      0.128,1,     -999.0,1,     -999.0,9,     -999.0,9,     -999.0,9,     -999.0,9,     -999.0,9,     -999.0,9,     -999.0,9,     -999.0,9,     -999.0,9,     -999.0,9,     1.7126,2,     -999.0,     -999.0,9,     -999.0
320620170820,        P06,     174,          1,          6,          6,2,20170906,       1314,   -32.5007,  -123.7434,       3439,  2633.1,   1.7835,  34.6660,2,  34.6645,2, 161.4814,2, 161.4553,2,   120.6,2,   34.91,2,    0.00,2,    2.42,2,   0.040,2,   0.028,2,   0.0000,2,  -999.0,9,  -999.0,9,-999.0000,9,  -999.00, -999.00,9, -999.00,9, -999.00,  -999.0,9, -999.00,9,     -999.0,9,  -999.0,1, 20170906,     1334, -32.5002,-123.7430,        0.0,1,      0.061,1,      4.694,1,      0.126,1,     -999.0,1,     -999.0,9,     -999.0,9,     -999.0,9,     -999.0,9,     -999.0,9,     -999.0,9,     -999.0,9,     -999.0,9,     -999.0,9,     -999.0,9,     1.7804,2,     -999.0,     -999.0,9,     -999.0
320620170820,        P06,     174,          1,          7,          7,2,20170906,       1314,   -32.5007,  -123.7434,       3439,  2432.4,   1.8697,  34.6581,2,  34.6578,2, 158.9957,2, 158.9463,2,   118.2,2,   35.06,2,    0.00,2,    2.41,2,   0.034,2,   0.023,2,   0.0000,2,  2299.4,2,  2387.1,2,   7.5791,2,    25.00, -999.00,9, -999.00,9, -999.00,    38.1,2, -999.00,9,     -999.0,1,  -999.0,1, 20170906,     1339, -32.5002,-123.7430,        0.0,1,      0.060,1,      4.692,1,      0.128,1,     -999.0,1,     -999.0,9,     -999.0,9,     -999.0,9,     -999.0,9,     -999.0,9,     -999.0,9,     -999.0,9,     -999.0,9,     -999.0,9,     -999.0,9,     1.8719,2,     -999.0,     -999.0,9,     -999.0
320620170820,        P06,     174,          1,          8,          8,2,20170906,       1314,   -32.5007,  -123.7434,       3439,  2227.5,   1.9414,  34.6511,2,  34.6500,2, 157.5815,2, 157.5285,2,   115.4,2,   35.09,2,    0.00,2,    2.43,2,   0.032,2,   0.026,2,   0.0000,2,  -999.0,9,  -999.0,9,-999.0000,9,  -999.00, -999.00,9, -999.00,9, -999.00,  -999.0,9, -999.00,9,     -999.0,9,  -999.0,1, 20170906,     1343, -32.5004,-123.7430,        0.0,1,      0.061,1,      4.689,1,      0.128,1,     -999.0,1,     -999.0,9,     -999.0,9,     -999.0,9,     -999.0,9,     -999.0,9,     -999.0,9,     -999.0,9,     -999.0,9,     -999.0,9,     -999.0,9,     1.9474,2,     -999.0,     -999.0,9,     -999.0
320620170820,        P06,     174,          1,          9,          9,2,20170906,       1314,   -32.5007,  -123.7434,       3439,  2022.9,   2.1030,  34.6342,2,  34.6325,2, 156.4161,2, 156.8748,2,   108.6,2,   35.12,2,    0.00,2,    2.43,2,   0.045,2,   0.031,2,   0.0000,2,  2292.5,6,  2378.2,2,   7.5726,2,    25.00, -999.00,9, -999.00,9, -999.00,    42.6,2, -999.00,9,     -999.0,1,  -999.0,1, 20170906,     1347, -32.5003,-123.7430,        0.0,1,      0.062,1,      4.694,1,      0.128,1,     -999.0,1,     -999.0,9,     -999.0,9,     -999.0,9,     -999.0,9,     -999.0,9,     -999.0,9,     -999.0,9,     -999.0,9,     -999.0,9,     -999.0,9,     2.1133,2,     -999.0,     -999.0,9,     -999.0
320620170820,        P06,     174,          1,         10,         10,2,20170906,       1314,   -32.5007,  -123.7434,       3439,  1819.1,   2.2837,  34.6100,2,  34.6103,2, 157.6765,2, 157.9558,2,   100.5,2,   35.00,2,    0.00,2,    2.41,2,   0.061,2,   0.042,2,   0.0000,2,  -999.0,9,  -999.0,9,-999.0000,9,  -999.00, -999.00,9, -999.00,9, -999.00,  -999.0,9, -999.00,9,     -999.0,9,  -999.0,1, 20170906,     1352, -32.5001,-123.7430,        0.0,1,      0.061,1,      4.693,1,      0.129,1,     -999.0,1,     -999.0,9,     -999.0,9,     -999.0,9,     -999.0,9,     -999.0,9,     -999.0,9,     -999.0,9,     -999.0,9,     -999.0,9,     -999.0,9,     2.2721,2,     -999.0,     -999.0,9,     -999.0
320620170820,        P06,     174,          1,         11,         11,2,20170906,       1314,   -32.5007,  -123.7434,       3439,  1720.2,   2.3720,  34.5958,2,  34.5952,2, 158.8742,2, 159.1622,2,    95.5,2,   34.94,2,    0.00,2,    2.41,2,   0.066,2,   0.041,2,   0.0000,2,  2279.3,2,  2362.7,2,   7.5693,2,    25.00, -999.00,9, -999.00,9, -999.00,    48.4,3, -999.00,9,     -999.0,1,  -999.0,1, 20170906,     1354, -32.5001,-123.7430,        0.0,1,      0.061,1,      4.694,1,      0.129,1,     -999.0,1,     -999.0,9,     -999.0,9,     -999.0,9,     -999.0,9,     -999.0,9,     -999.0,9,     -999.0,9,     -999.0,9,     -999.0,9,     -999.0,9,     2.3675,2,     -999.0,     -999.0,9,     -999.0
320620170820,        P06,     174,          1,         12,         12,2,20170906,       1314,   -32.5007,  -123.7434,       3439,  1618.5,   2.4838,  34.5755,2,  34.5753,3, 161.4143,2, 160.8072,2,    89.5,2,   34.84,2,    0.00,2,    2.40,2,   0.085,2,   0.051,2,   0.0000,2,  -999.0,9,  -999.0,9,-999.0000,9,  -999.00, -999.00,9, -999.00,9, -999.00,  -999.0,9, -999.00,9,     -999.0,9,  -999.0,1, 20170906,     1357, -32.5004,-123.7431,        0.0,1,      0.061,1,      4.694,1,      0.129,1,     -999.0,1,     -999.0,9,     -999.0,9,     -999.0,9,     -999.0,9,     -999.0,9,     -999.0,9,     -999.0,9,     -999.0,9,     -999.0,9,     -999.0,9,     2.5021,2,     -999.0,     -999.0,9,     -999.0
320620170820,        P06,     174,          1,         13,         13,2,20170906,       1314,   -32.5007,  -123.7434,       3439,  1514.6,   2.6891,  34.5345,2,  34.5329,2, 164.4436,2, 164.5531,2,    78.6,2,   34.77,2,    0.00,2,    2.39,2,   0.137,2,   0.082,2,   0.0680,2,  2262.2,2,  2345.0,6,   7.5662,2,    25.00, -999.00,9, -999.00,9, -999.00,    39.4,2, -999.00,9,     -999.0,1,  -999.0,1, 20170906,     1400, -32.5008,-123.7430,        0.0,1,      0.060,1,      4.694,1,      0.129,1,     -999.0,1,     -999.0,9,     -999.0,9,     -999.0,9,     -999.0,9,     -999.0,9,     -999.0,9,     -999.0,9,     -999.0,9,     -999.0,9,     -999.0,9,     2.6933,2,     -999.0,     -999.0,9,     -999.0
320620170820,        P06,     174,          1,         14,         14,2,20170906,       1314,   -32.5007,  -123.7434,       3439,  1417.8,   2.9156,  34.4915,2,  34.4903,2, 167.2247,2,  166.997,2,    69.8,2,   34.70,2,    0.00,2,    2.37,2,   0.199,2,   0.115,2,   0.0880,2,  -999.0,9,  -999.0,9,-999.0000,9,  -999.00, -999.00,9, -999.00,9, -999.00,  -999.0,9, -999.00,9,     -999.0,9,  -999.0,1, 20170906,     1402, -32.5010,-123.7428,        0.0,1,      0.061,1,      4.694,1,      0.129,1,     -999.0,1,     -999.0,9,     -999.0,9,     -999.0,9,     -999.0,9,     -999.0,9,     -999.0,9,     -999.0,9,     -999.0,9,     -999.0,9,     -999.0,9,     2.9169,2,     -999.0,     -999.0,9,     -999.0
320620170820,        P06,     174,          1,         15,         15,2,20170906,       1314,   -32.5007,  -123.7434,       3439,  1315.1,   3.2104,  34.4433,2,  34.4373,2, 170.5271,2, 170.3545,2,    59.7,2,   34.55,2,    0.00,2,    2.35,2,   0.296,2,   0.162,2,   0.0380,2,  2241.9,2,  2322.5,2,   7.5670,6,    25.00, -999.00,9, -999.00,9, -999.00,    38.3,2, -999.00,9,     -999.0,1,  -999.0,1, 20170906,     1405, -32.5008,-123.7430,        0.0,1,      0.061,1,      4.694,1,      0.129,1,     -999.0,1,     -999.0,9,     -999.0,9,     -999.0,9,     -999.0,9,     -999.0,9,     -999.0,9,     -999.0,9,     -999.0,9,     -999.0,9,     -999.0,9,     3.2373,2,     -999.0,     -999.0,9,     -999.0
320620170820,        P06,     174,          1,         16,         16,2,20170906,       1314,   -32.5007,  -123.7434,       3439,  1213.4,   3.5763,  34.3908,2,  34.3859,2, 177.8682,2, 177.4411,2,    49.0,2,   33.86,2,    0.00,2,    2.31,2,   0.484,2,   0.255,2,   0.0970,2,  -999.0,9,  -999.0,9,-999.0000,9,  -999.00, -999.00,9, -999.00,9, -999.00,  -999.0,9, -999.00,9,     -999.0,9,  -999.0,1, 20170906,     1408, -32.5005,-123.7433,        0.0,1,      0.060,1,      4.694,1,      0.127,1,     -999.0,1,     -999.0,9,     -999.0,9,     -999.0,9,     -999.0,9,     -999.0,9,     -999.0,9,     -999.0,9,     -999.0,9,     -999.0,9,     -999.0,9,     3.6075,2,     -999.0,     -999.0,9,     -999.0
320620170820,        P06,     174,          1,         17,         17,2,20170906,       1314,   -32.5007,  -123.7434,       3439,  1110.6,   4.0863,  34.3403,2,  34.3382,2, 187.7937,2,   188.48,2,    37.8,2,   32.63,2,    0.00,2,    2.20,2,   0.759,2,   0.382,2,   0.0780,2,  2209.3,2,  2300.4,2,   7.5964,2,    25.00, -999.00,9, -999.00,9, -999.00,    49.6,3, -999.00,9,     -999.0,1,  -999.0,1, 20170906,     1410, -32.5003,-123.7433,        0.0,1,      0.060,1,      4.694,1,      0.128,1,     -999.0,1,     -999.0,9,     -999.0,9,     -999.0,9,     -999.0,9,     -999.0,9,     -999.0,9,     -999.0,9,     -999.0,9,     -999.0,9,     -999.0,9,     4.0569,2,     -999.0,     -999.0,9,     -999.0
320620170820,        P06,     174,          1,         18,         18,2,20170906,       1314,   -32.5007,  -123.7434,       3439,  1011.2,   4.5034,  34.3115,2,  34.3070,2, 199.7503,2, 199.9874,2,    28.2,2,   30.99,2,    0.00,2,    2.10,2,   1.112,2,   0.539,2,   0.1970,2,  -999.0,9,  -999.0,9,-999.0000,9,  -999.00, -999.00,9, -999.00,9, -999.00,  -999.0,9, -999.00,9,     -999.0,9,  -999.0,1, 20170906,     1413, -32.5004,-123.7433,        0.0,1,      0.060,1,      4.694,1,      0.129,1,     -999.0,1,     -999.0,9,     -999.0,9,     -999.0,9,     -999.0,9,     -999.0,9,     -999.0,9,     -999.0,9,     -999.0,9,     -999.0,9,     -999.0,9,     4.5479,2,     -999.0,     -999.0,9,     -999.0
320620170820,        P06,     174,          1,         19,         19,2,20170906,       1314,   -32.5007,  -123.7434,       3439,   909.2,   5.0824,  34.2880,2,  34.2836,2, 219.2967,2, 220.2259,2,    18.0,2,   28.24,2,    0.00,2,    1.89,2,   1.999,2,   0.963,2,   0.2650,2,  2171.6,2,  2282.6,2,   7.6568,2,    25.00, -999.00,9, -999.00,9, -999.00,    41.5,2, -999.00,9,     -999.0,1,  -999.0,1, 20170906,     1416, -32.5006,-123.7432,        0.0,1,      0.059,1,      4.694,1,      0.128,1,     -999.0,1,     -999.0,9,     -999.0,9,     -999.0,9,     -999.0,9,     -999.0,9,     -999.0,9,     -999.0,9,     -999.0,9,     -999.0,9,     -999.0,9,     5.1826,2,     -999.0,     -999.0,9,     -999.0
320620170820,        P06,     174,          1,         20,         20,2,20170906,       1314,   -32.5007,  -123.7434,       3439,   806.8,   5.5299,  34.2816,2,  34.2813,2, 232.2593,2, 233.1981,2,    12.2,2,   26.16,2,    0.00,2,    1.75,2,   2.485,2,   1.334,2,   0.4880,2,  -999.0,9,  -999.0,9,-999.0000,9,  -999.00, -999.00,9, -999.00,9, -999.00,    43.1,2, -999.00,9,     -999.0,1,  -999.0,1, 20170906,     1419, -32.5005,-123.7433,        0.0,1,      0.060,1,      4.694,1,      0.129,1,     -999.0,1,     -999.0,9,     -999.0,9,     -999.0,9,     -999.0,9,     -999.0,9,     -999.0,9,     -999.0,9,     -999.0,9,     -999.0,9,     -999.0,9,     5.6400,2,     -999.0,     -999.0,9,     -999.0
320620170820,        P06,     174,          1,         21,         21,2,20170906,       1314,   -32.5007,  -123.7434,       3439,   708.0,   5.9795,  34.2929,2,  34.2927,2, 240.1581,2, 240.3477,2,     9.3,2,   24.64,2,    0.00,2,    1.63,2,   3.245,2,   1.632,2,   0.8300,2,  2151.9,2,  2276.1,2,   7.6938,2,    25.00, -999.00,9, -999.00,9, -999.00,    40.5,2, -999.00,9,     -999.0,1,  -999.0,1, 20170906,     1421, -32.5003,-123.7434,        0.0,1,      0.059,1,      4.694,1,      0.132,1,     -999.0,1,     -999.0,9,     -999.0,9,     -999.0,9,     -999.0,9,     -999.0,9,     -999.0,9,     -999.0,9,     -999.0,9,     -999.0,9,     -999.0,9,     6.0327,2,     -999.0,     -999.0,9,     -999.0
320620170820,        P06,     174,          1,         22,         22,2,20170906,       1314,   -32.5007,  -123.7434,       3439,   606.5,   6.5189,  34.3201,2,  34.3150,2, 242.7987,2, 241.7854,2,     7.6,2,   23.38,2,    0.00,2,    1.56,2,   3.593,2,   1.828,2,   0.9340,2,  2149.9,6,  2276.9,2,   7.6999,2,    25.00, -999.00,9, -999.00,9, -999.00,    41.5,2, -999.00,9,     -999.0,1,  -999.0,1, 20170906,     1424, -32.5000,-123.7435,        0.0,1,      0.060,1,      4.692,1,      0.132,1,     -999.0,1,     -999.0,9,     -999.0,9,     -999.0,9,     -999.0,9,     -999.0,9,     -999.0,9,     -999.0,9,     -999.0,9,     -999.0,9,     -999.0,9,     6.4924,2,     -999.0,     -999.0,9,     -999.0
320620170820,        P06,     174,          1,         23,         23,2,20170906,       1314,   -32.5007,  -123.7434,       3439,   504.5,   7.1662,  34.3424,2,  34.3431,2,  238.555,2, 236.8537,2,     6.1,2,   21.95,2,    0.00,2,    1.49,2,   3.609,2,   1.899,2,   1.0510,2,  2146.6,2,  2276.6,2,   7.7016,2,    25.00, -999.00,9, -999.00,9, -999.00,    43.0,2, -999.00,9,     -999.0,1,  -999.0,1, 20170906,     1427, -32.5002,-123.7435,        0.0,1,      0.059,1,      4.691,1,      0.132,1,     -999.0,1,     -999.0,9,     -999.0,9,     -999.0,9,     -999.0,9,     -999.0,9,     -999.0,9,     -999.0,9,     -999.0,9,     -999.0,9,     -999.0,9,     7.1301,2,     -999.0,     -999.0,9,     -999.0
320620170820,        P06,     174,          1,         24,         24,2,20170906,       1314,   -32.5007,  -123.7434,       3439,   452.5,   7.6934,  34.3475,2,  34.3454,2, 234.4897,3,  231.904,2,     5.3,2,   21.00,2,    0.00,2,    1.44,2,   3.239,2,   1.891,2,   1.1200,2,  2144.1,2,  2274.3,2,   7.7061,2,    25.00, -999.00,9, -999.00,9, -999.00,    44.0,2, -999.00,9,     -999.0,1,  -999.0,1, 20170906,     1429, -32.5006,-123.7434,        0.0,1,      0.059,1,      4.690,1,      0.130,1,     -999.0,1,     -999.0,9,     -999.0,9,     -999.0,9,     -999.0,9,     -999.0,9,     -999.0,9,     -999.0,9,     -999.0,9,     -999.0,9,     -999.0,9,     7.6075,2,     -999.0,     -999.0,9,     -999.0
320620170820,        P06,     174,          1,         25,         25,2,20170906,       1314,   -32.5007,  -123.7434,       3439,   404.1,   8.5243,  34.3674,2,  34.3674,2, 225.3964,2, 223.3004,2,     3.9,2,   18.84,2,    0.00,2,    1.30,2,   3.385,2,   1.845,2,   1.2410,2,  2137.6,2,  2274.7,2,   7.7227,2,    25.00, -999.00,9, -999.00,9, -999.00,    42.2,2, -999.00,9,     -999.0,1,  -999.0,1, 20170906,     1431, -32.5009,-123.7433,        0.0,1,      0.058,1,      4.689,1,      0.132,1,     -999.0,1,     -999.0,9,     -999.0,9,     -999.0,9,     -999.0,9,     -999.0,9,     -999.0,9,     -999.0,9,     -999.0,9,     -999.0,9,     -999.0,9,     8.6407,2,     -999.0,     -999.0,9,     -999.0
320620170820,        P06,     174,          1,         26,         26,2,20170906,       1314,   -32.5007,  -123.7434,       3439,   352.6,   9.8975,  34.4543,2,  34.4687,2, 219.2852,2,  218.803,2,     2.5,2,   15.05,2,    0.00,2,    1.06,2,   3.200,2,   1.762,2,   1.1810,2,  2125.3,2,  2275.3,2,   7.7598,2,    25.00, -999.00,9, -999.00,9, -999.00,  -999.0,5, -999.00,9,     -999.0,9,  -999.0,1, 20170906,     1433, -32.5011,-123.7432,        0.0,1,      0.060,1,      4.687,1,      0.132,1,     -999.0,1,     -999.0,9,     -999.0,9,     -999.0,9,     -999.0,9,     -999.0,9,     -999.0,9,     -999.0,9,     -999.0,9,     -999.0,9,     -999.0,9,    10.1657,2,     -999.0,     -999.0,9,     -999.0