BOTTLE,20240211CCHSIOCBG
EXPOCODE,SECT_ID,STNNBR,CASTNO,SAMPNO,BTLNBR,BTLNBR_FLAG_W,DATE,TIME,LATITUDE,LONGITUDE,DEPTH,CTDPRS,CTDTMP,CTDSAL,CTDSAL_FLAG_W,SALNTY,SALNTY_FLAG_W,CTDOXY,CTDOXY_FLAG_W,OXYGEN,OXYGEN_FLAG_W,SILCAT,SILCAT_FLAG_W,NITRAT,NITRAT_FLAG_W,NITRIT,NITRIT_FLAG_W,PHSPHT,PHSPHT_FLAG_W,CFC-11,CFC-11_FLAG_W,CFC-12,CFC-12_FLAG_W,SF6,SF6_FLAG_W,TCARBN,TCARBN_FLAG_W,ALKALI,ALKALI_FLAG_W,PH_TOT,PH_TOT_FLAG_W,PH_TMP,DELC13,DELC13_FLAG_W,DELC14,DELC14_FLAG_W,C14ERR,DOC,DOC_FLAG_W,TDN,TDN_FLAG_W,TON,TON_FLAG_W,D15N_NO3,D15N_NO3_FLAG_W,BTL_DATE,BTL_TIME,BTL_LAT,BTL_LON,CTDRINKO,CTDRINKO_FLAG_W,CTDFLUOR,CTDFLUOR_FLAG_W,CTDXMISS,CTDXMISS_FLAG_W,CTDBACKSCATTER,CTDBACKSCATTER_FLAG_W,D18O_NO3,D18O_NO3_FLAG_W,DOP,DOP_FLAG_W,CELLCOUNT,CELLCOUNT_FLAG_W,TDP,TDP_FLAG_W,POP,POP_FLAG_W,DATP,DATP_FLAG_W,PATP,PATP_FLAG_W,HPLC,HPLC_FLAG_W,POC,POC_FLAG_W,BEAMAP,BEAMAP_FLAG_W,DOC_NASA,DOC_NASA_FLAG_W,REFTMP,REFTMP_FLAG_W,DOC_NASA_ERROR,TDN_NASA,TDN_NASA_FLAG_W,TDN_NASA_ERROR
,,,,,,,,,,,METERS,DBAR,ITS-90,PSS-78,,PSS-78,,UMOL/KG,,UMOL/KG,,UMOL/KG,,UMOL/KG,,UMOL/KG,,UMOL/KG,,PMOL/KG,,PMOL/KG,,FMOL/KG,,UMOL/KG,,UMOL/KG,,,,DEG C,/MILLE,,/MILLE,,/MILLE,UMOL/KG,,UMOL/KG,,UMOL/KG,,/MILLE,,,,,,VOLTS,,VOLTS,,VOLTS,,VOLTS,,/MILLE,,UMOL/KG,,/LITER,,UMOL/KG,,UMOL/L,,PMOL/L,,PMOL/L,,,,UG/L,,/METER,,UMOL/L,,ITS-90,,UMOL/L,UMOL/L,,UMOL/L
320620170820,        P06,     148,          1,         27,         27,2,20170826,       1810,   -32.5008,  -145.7093,       5018,   214.5,  13.7045,  35.0050,2,  35.0091,2, 212.9768,2,  217.395,2,     0.9,2,    5.80,2,    0.02,2,    0.50,2,   2.602,2,   1.562,2,   1.6370,2,  2101.5,2,  2304.4,2,   7.8568,2,    25.00, -999.00,9, -999.00,9, -999.00,    50.1,2,    8.40,2,     -999.0,1,  -999.0,1, 20170826,     2002, -32.5006,-145.7093,        0.0,1,      0.061,1,      4.688,1,      0.134,1,     -999.0,1,     -999.0,1,     -999.0,1,     -999.0,1,     -999.0,1,     -999.0,1,     -999.0,1,     -999.0,9,     -999.0,9,     -999.0,9,     -999.0,9,     -999.0,5,     -999.0,     -999.0,9,     -999.0
320620170820,        P06,     148,          1,         28,         28,2,20170826,       1810,   -32.5008,  -145.7093,       5018,   165.9,  14.7688,  35.1311,2,  35.1790,2, 215.0366,2,  217.813,2,     0.5,2,    3.54,2,    0.03,2,    0.34,2,   2.454,2,   1.471,2,   1.5290,2,  2087.8,2,  2311.6,2,   7.8916,2,    25.00, -999.00,9, -999.00,9, -999.00,    51.6,2,    7.40,2,     -999.0,1,  -999.0,1, 20170826,     2004, -32.5005,-145.7093,        0.0,1,      0.078,1,      4.681,1,      0.141,1,     -999.0,1,     -999.0,1,     -999.0,1,       0.48,2,     -999.0,1,     -999.0,1,     -999.0,1,     -999.0,9,     -999.0,9,     -999.0,9,     -999.0,9,     -999.0,5,     -999.0,     -999.0,9,     -999.0
320620170820,        P06,     148,          1,         30,         30,2,20170826,       1810,   -32.5008,  -145.7093,       5018,   101.9,  16.6553,  35.3673,2,-999.0000,9, 231.8743,2,-999.0000,9,  -999.0,9, -999.00,9, -999.00,9, -999.00,9,-999.000,9,-999.000,9,-999.0000,9,  -999.0,9,  -999.0,9,-999.0000,9,  -999.00, -999.00,9, -999.00,9, -999.00,  -999.0,9, -999.00,9,     -999.0,9,  -999.0,9, 20170826,     2007, -32.5002,-145.7093,        0.0,1,      0.177,1,      4.622,1,      0.211,1,     -999.0,9,     -999.0,9,     -999.0,9,     -999.0,9,     -999.0,9,     -999.0,9,     -999.0,9,     -999.0,9,     -999.0,9,     -999.0,9,63.59884338,2,     -999.0,5,-83.18068276,37.34196597,2,     -999.0
320620170820,        P06,     148,          1,         29,         29,2,20170826,       1810,   -32.5008,  -145.7093,       5018,   100.5,  16.6553,  35.3673,2,  35.3660,2, 244.9184,2, 238.5437,2,     0.1,2,    0.06,2,    0.02,2,    0.11,2,   2.270,2,   1.347,2,   1.6150,2,  -999.0,5,  2324.2,2,   7.9584,2,    25.00, -999.00,9, -999.00,9, -999.00,    60.5,2,    4.00,2,     -999.0,1,  -999.0,1, 20170826,     2007, -32.5002,-145.7093,        0.0,1,      0.177,1,      4.622,1,      0.211,1,     -999.0,1,     -999.0,1,     -999.0,1,     -999.0,1,     -999.0,1,     -999.0,1,     -999.0,1,     -999.0,9,     -999.0,9,     -999.0,9,63.59884338,2,     -999.0,5,-83.18068276,37.34196597,2,     -999.0
320620170820,        P06,     148,          1,         31,         31,2,20170826,       1810,   -32.5008,  -145.7093,       5018,    99.7,  16.6554,  35.3674,2,-999.0000,9, 231.9633,2,-999.0000,9,  -999.0,9, -999.00,9, -999.00,9, -999.00,9,-999.000,9,-999.000,9,-999.0000,9,  -999.0,9,  -999.0,9,-999.0000,9,  -999.00, -999.00,9, -999.00,9, -999.00,  -999.0,9, -999.00,9,     -999.0,9,  -999.0,9, 20170826,     2007, -32.5002,-145.7093,        0.0,1,      0.178,1,      4.621,1,      0.239,1,     -999.0,9,     -999.0,9,     -999.0,9,     -999.0,9,     -999.0,9,     -999.0,9,     -999.0,9,     -999.0,9,     -999.0,9,     -999.0,9,63.59884338,2,     -999.0,5,-83.18068276,37.34196597,2,     -999.0
320620170820,        P06,     148,          1,         32,         32,2,20170826,       1810,   -32.5008,  -145.7093,       5018,    85.6,  16.6495,  35.3655,2,  35.3417,2, 246.0038,2, 239.2557,2,     0.2,2,    0.03,2,    0.02,2,    0.10,2,   2.272,2,   1.344,2,   1.5920,2,  -999.0,5,  2321.4,2,   7.9578,2,    25.00, -999.00,9, -999.00,9, -999.00,    59.6,2,    4.40,2,     -999.0,1,  -999.0,1, 20170826,     2009, -32.5002,-145.7092,        0.0,1,      0.174,1,      4.622,1,      0.212,1,     -999.0,1,     -999.0,1,     -999.0,1,       0.26,2,     -999.0,1,     -999.0,1,     -999.0,1,     -999.0,9,     -999.0,9,     -999.0,9,     -999.0,9,     -999.0,5,     -999.0,     -999.0,9,     -999.0
320620170820,        P06,     148,          1,         33,         33,2,20170826,       1810,   -32.5008,  -145.7093,       5018,    59.5,  16.6048,  35.3468,2,  35.3350,2, 246.0062,2, 239.3479,2,     0.2,2,    0.03,2,    0.02,2,    0.11,2,   2.255,2,   1.349,2,   1.6990,2,  -999.0,5,  2320.5,2,   7.9571,2,    25.00, -999.00,9, -999.00,9, -999.00,    58.8,2,    4.10,2,     -999.0,1,  -999.0,1, 20170826,     2010, -32.5004,-145.7092,        0.0,1,      0.165,1,      4.627,1,      0.208,1,     -999.0,1,     -999.0,1,     -999.0,1,       0.27,2,     -999.0,1,     -999.0,1,     -999.0,1,     -999.0,9,     -999.0,9,     -999.0,9,67.04779121,6,     -999.0,5,2.612222076, 58.1390262,6,9.341889318
320620170820,        P06,     148,          1,         34,         34,2,20170826,       1810,   -32.5008,  -145.7093,       5018,    58.6,  16.6048,  35.3468,2,-999.0000,9,  233.062,2,-999.0000,9,  -999.0,9, -999.00,9, -999.00,9, -999.00,9,-999.000,9,-999.000,9,-999.0000,9,  -999.0,9,  -999.0,9,-999.0000,9,  -999.00, -999.00,9, -999.00,9, -999.00,  -999.0,9, -999.00,9,     -999.0,9,  -999.0,9, 20170826,     2011, -32.5004,-145.7092,        0.0,1,      0.165,1,      4.627,1,      0.208,1,     -999.0,9,     -999.0,9,     -999.0,9,     -999.0,9,     -999.0,9,     -999.0,9,     -999.0,9,     -999.0,9,     -999.0,9,     -999.0,9,67.04779121,6,     -999.0,5,2.612222076, 58.1390262,6,9.341889318
320620170820,        P06,     148,          1,         35,         35,2,20170826,       1810,   -32.5008,  -145.7093,       5018,    34.9,  16.5717,  35.3384,2,  35.3350,2, 246.2653,2, 239.2327,2,     0.2,2,    0.04,2,    0.02,2,    0.12,2,   2.276,2,   1.335,2,   1.8090,2,  -999.0,5,  2319.0,2,   7.9580,2,    25.00, -999.00,9, -999.00,9, -999.00,    60.5,2,    3.70,2,     -999.0,1,  -999.0,1, 20170826,     2012, -32.5006,-145.7092,        0.0,1,      0.158,1,      4.629,1,      0.196,1,     -999.0,1,     -999.0,1,     -999.0,1,     -999.0,1,     -999.0,1,     -999.0,1,     -999.0,1,     -999.0,9,     -999.0,9,     -999.0,9,     -999.0,9,    16.5711,2,     -999.0,     -999.0,9,     -999.0
320620170820,        P06,     148,          1,         36,         36,2,20170826,       1810,   -32.5008,  -145.7093,       5018,     3.7,  16.5556,  35.3343,2,  35.3311,2,  245.925,2, 239.2438,2,     0.2,2,    0.03,2,    0.02,2,    0.12,2,   2.245,2,   1.344,2,   1.6750,2,  2066.1,2,  2322.5,6,   7.9577,2,    25.00, -999.00,9, -999.00,9, -999.00,    61.0,2,    3.70,2,     -999.0,1,  -999.0,1, 20170826,     2015, -32.5008,-145.7093,        0.0,1,      0.160,1,      4.629,1,      0.192,1,     -999.0,1,     -999.0,1,     -999.0,9,       0.28,2,     -999.0,9,     -999.0,9,     -999.0,9,     -999.0,9,     -999.0,9,     -999.0,9,     -999.0,9,    16.5659,2,     -999.0,     -999.0,9,     -999.0