BOTTLE,20240211CCHSIOCBG
EXPOCODE,SECT_ID,STNNBR,CASTNO,SAMPNO,BTLNBR,BTLNBR_FLAG_W,DATE,TIME,LATITUDE,LONGITUDE,DEPTH,CTDPRS,CTDTMP,CTDSAL,CTDSAL_FLAG_W,SALNTY,SALNTY_FLAG_W,CTDOXY,CTDOXY_FLAG_W,OXYGEN,OXYGEN_FLAG_W,SILCAT,SILCAT_FLAG_W,NITRAT,NITRAT_FLAG_W,NITRIT,NITRIT_FLAG_W,PHSPHT,PHSPHT_FLAG_W,CFC-11,CFC-11_FLAG_W,CFC-12,CFC-12_FLAG_W,SF6,SF6_FLAG_W,TCARBN,TCARBN_FLAG_W,ALKALI,ALKALI_FLAG_W,PH_TOT,PH_TOT_FLAG_W,PH_TMP,DELC13,DELC13_FLAG_W,DELC14,DELC14_FLAG_W,C14ERR,DOC,DOC_FLAG_W,TDN,TDN_FLAG_W,TON,TON_FLAG_W,D15N_NO3,D15N_NO3_FLAG_W,BTL_DATE,BTL_TIME,BTL_LAT,BTL_LON,CTDRINKO,CTDRINKO_FLAG_W,CTDFLUOR,CTDFLUOR_FLAG_W,CTDXMISS,CTDXMISS_FLAG_W,CTDBACKSCATTER,CTDBACKSCATTER_FLAG_W,D18O_NO3,D18O_NO3_FLAG_W,DOP,DOP_FLAG_W,CELLCOUNT,CELLCOUNT_FLAG_W,TDP,TDP_FLAG_W,POP,POP_FLAG_W,DATP,DATP_FLAG_W,PATP,PATP_FLAG_W,HPLC,HPLC_FLAG_W,POC,POC_FLAG_W,BEAMAP,BEAMAP_FLAG_W,DOC_NASA,DOC_NASA_FLAG_W,REFTMP,REFTMP_FLAG_W,DOC_NASA_ERROR,TDN_NASA,TDN_NASA_FLAG_W,TDN_NASA_ERROR
,,,,,,,,,,,METERS,DBAR,ITS-90,PSS-78,,PSS-78,,UMOL/KG,,UMOL/KG,,UMOL/KG,,UMOL/KG,,UMOL/KG,,UMOL/KG,,PMOL/KG,,PMOL/KG,,FMOL/KG,,UMOL/KG,,UMOL/KG,,,,DEG C,/MILLE,,/MILLE,,/MILLE,UMOL/KG,,UMOL/KG,,UMOL/KG,,/MILLE,,,,,,VOLTS,,VOLTS,,VOLTS,,VOLTS,,/MILLE,,UMOL/KG,,/LITER,,UMOL/KG,,UMOL/L,,PMOL/L,,PMOL/L,,,,UG/L,,/METER,,UMOL/L,,ITS-90,,UMOL/L,UMOL/L,,UMOL/L
320620170820,        P06,     160,          2,          1,          1,2,20170831,       2113,   -32.5004,  -135.0280,       4383,  4448.8,   1.3566,  34.7044,2,  34.7024,3, 188.5428,3, 189.9833,2,   119.4,2,   33.01,2,    0.00,2,    2.29,2,   0.031,2,   0.021,2,   0.0000,2,  2279.5,6,  2381.2,2,   7.6080,2,    25.00, -999.00,9, -999.00,9, -999.00,    35.0,2, -999.00,9,     -999.0,1,  -999.0,9, 20170831,     2113, -32.5001,-135.0275,        0.0,1,      0.060,1,      4.692,1,      0.124,1,     -999.0,9,     -999.0,9,     -999.0,9,     -999.0,9,     -999.0,9,     -999.0,9,     -999.0,9,     -999.0,9,     -999.0,9,     -999.0,9,     -999.0,9,     1.3573,2,     -999.0,     -999.0,9,     -999.0
320620170820,        P06,     160,          2,          2,          2,2,20170831,       2113,   -32.5004,  -135.0280,       4383,  4273.7,   1.3508,  34.7039,2,  34.7036,2, 188.5428,2, 189.3433,2,   119.6,2,   33.07,2,    0.00,2,    2.30,2,   0.030,2,   0.024,2,   0.0000,2,  2277.6,2,  2381.3,2,   7.6076,2,    25.00, -999.00,9, -999.00,9, -999.00,  -999.0,9, -999.00,9,     -999.0,9,  -999.0,9, 20170831,     2120, -32.5002,-135.0278,        0.0,1,      0.061,1,      4.693,1,      0.124,1,     -999.0,9,     -999.0,9,     -999.0,9,     -999.0,9,     -999.0,9,     -999.0,9,     -999.0,9,     -999.0,9,     -999.0,9,     -999.0,9,     -999.0,9,     1.3511,2,     -999.0,     -999.0,9,     -999.0
320620170820,        P06,     160,          2,          3,          3,2,20170831,       2113,   -32.5004,  -135.0280,       4383,  4066.7,   1.3608,  34.7022,2,  34.7020,2, 188.2475,3, 187.1661,2,   119.9,2,   33.21,2,    0.00,2,    2.31,2,   0.030,2,   0.024,2,   0.0000,2,  2279.6,2,  2383.2,2,   7.6061,2,    25.00, -999.00,9, -999.00,9, -999.00,    38.2,2, -999.00,9,     -999.0,1,  -999.0,9, 20170831,     2128, -32.5002,-135.0277,        0.0,1,      0.061,1,      4.694,1,      0.124,1,     -999.0,9,     -999.0,9,     -999.0,9,     -999.0,9,     -999.0,9,     -999.0,9,     -999.0,9,     -999.0,9,     -999.0,9,     -999.0,9,     -999.0,9,     1.3593,2,     -999.0,     -999.0,9,     -999.0
320620170820,        P06,     160,          2,          4,          4,2,20170831,       2113,   -32.5004,  -135.0280,       4383,  3759.7,   1.5185,  34.6899,2,  34.6906,2, 177.8567,2, 177.0501,2,   122.4,2,   34.00,2,    0.00,2,    2.37,2,   0.039,2,   0.036,2,   0.0000,2,  2290.8,2,  2391.4,6,   7.5983,2,    25.00, -999.00,9, -999.00,9, -999.00,  -999.0,9, -999.00,9,     -999.0,9,  -999.0,9, 20170831,     2135, -32.5001,-135.0276,        0.0,1,      0.061,1,      4.694,1,      0.124,1,     -999.0,9,     -999.0,9,     -999.0,9,     -999.0,9,     -999.0,9,     -999.0,9,     -999.0,9,     -999.0,9,     -999.0,9,     -999.0,9,     -999.0,9,     1.5153,2,     -999.0,     -999.0,9,     -999.0
320620170820,        P06,     160,          2,          5,          5,2,20170831,       2113,   -32.5004,  -135.0280,       4383,  3452.8,   1.5806,  34.6839,2,  34.6840,2, 172.2152,2, 171.5313,2,   123.2,2,   34.39,2,    0.00,2,    2.38,2,   0.032,2,   0.029,2,   0.0000,2,  2295.8,2,  2391.9,2,   7.5945,2,    25.00, -999.00,9, -999.00,9, -999.00,    36.1,2, -999.00,9,     -999.0,1,  -999.0,9, 20170831,     2142, -32.5002,-135.0276,        0.0,1,      0.061,1,      4.695,1,      0.124,1,     -999.0,9,     -999.0,9,     -999.0,9,     -999.0,9,     -999.0,9,     -999.0,9,     -999.0,9,     -999.0,9,     -999.0,9,     -999.0,9,     -999.0,9,     1.5802,2,     -999.0,     -999.0,9,     -999.0
320620170820,        P06,     160,          2,          6,          6,2,20170831,       2113,   -32.5004,  -135.0280,       4383,  3143.9,   1.6503,  34.6767,2,  34.6755,2,  166.987,2,  166.258,2,   123.8,2,   34.70,2,    0.00,2,    2.42,2,   0.037,2,   0.037,2,   0.0000,2,  2299.2,2,  2395.5,2,   7.5888,2,    25.00, -999.00,9, -999.00,9, -999.00,  -999.0,9, -999.00,9,     -999.0,9,  -999.0,9, 20170831,     2150, -32.5000,-135.0273,        0.0,1,      0.061,1,      4.695,1,      0.123,1,     -999.0,9,     -999.0,9,     -999.0,9,     -999.0,9,     -999.0,9,     -999.0,9,     -999.0,9,     -999.0,9,     -999.0,9,     -999.0,9,     -999.0,9,     1.6536,2,     -999.0,     -999.0,9,     -999.0
320620170820,        P06,     160,          2,          7,          7,2,20170831,       2113,   -32.5004,  -135.0280,       4383,  2872.7,   1.7066,  34.6713,2,  34.6712,2,  163.141,2, 162.5522,2,   123.1,2,   34.80,2,    0.00,2,    2.44,2,   0.033,2,   0.033,2,   0.0000,2,  2302.1,2,  2392.8,2,   7.5846,2,    25.00, -999.00,9, -999.00,9, -999.00,    35.6,2, -999.00,9,     -999.0,1,  -999.0,9, 20170831,     2156, -32.5001,-135.0275,        0.0,1,      0.061,1,      4.695,1,      0.125,1,     -999.0,9,     -999.0,9,     -999.0,9,     -999.0,9,     -999.0,9,     -999.0,9,     -999.0,9,     -999.0,9,     -999.0,9,     -999.0,9,     -999.0,9,     1.7143,2,     -999.0,     -999.0,9,     -999.0
320620170820,        P06,     160,          2,          8,          8,2,20170831,       2113,   -32.5004,  -135.0280,       4383,  2614.7,   1.7940,  34.6637,2,  34.6631,2, 158.9044,2, 158.9977,2,   122.2,2,   35.14,2,    0.00,2,    2.46,2,   0.039,2,   0.042,2,   0.0000,2,  2303.0,2,  2396.3,2,   7.5804,2,    25.00, -999.00,9, -999.00,9, -999.00,    37.4,2, -999.00,9,     -999.0,1,  -999.0,9, 20170831,     2202, -32.5003,-135.0277,        0.0,1,      0.060,1,      4.695,1,      0.127,1,     -999.0,9,     -999.0,9,     -999.0,9,     -999.0,9,     -999.0,9,     -999.0,9,     -999.0,9,     -999.0,9,     -999.0,9,     -999.0,9,     -999.0,9,     1.7948,2,     -999.0,     -999.0,9,     -999.0
320620170820,        P06,     160,          2,          9,          9,2,20170831,       2113,   -32.5004,  -135.0280,       4383,  2365.1,   1.8956,  34.6549,2,  34.6543,2, 155.8749,2, 156.1769,2,   118.8,2,   35.24,2,    0.00,2,    2.47,2,   0.033,2,   0.034,2,   0.0000,2,  2302.9,2,  2393.9,2,   7.5774,2,    25.00, -999.00,9, -999.00,9, -999.00,    37.3,2, -999.00,9,     -999.0,1,  -999.0,9, 20170831,     2208, -32.5002,-135.0276,        0.0,1,      0.061,1,      4.695,1,      0.128,1,     -999.0,9,     -999.0,9,     -999.0,9,     -999.0,9,     -999.0,9,     -999.0,9,     -999.0,9,     -999.0,9,     -999.0,9,     -999.0,9,     -999.0,9,     1.8994,2,     -999.0,     -999.0,9,     -999.0
320620170820,        P06,     160,          2,         10,         10,2,20170831,       2113,   -32.5004,  -135.0280,       4383,  2108.8,   2.0431,  34.6404,2,  34.6403,2, 153.7017,2,  154.686,2,   114.1,2,   35.31,2,    0.00,2,    2.48,2,   0.036,2,   0.039,2,   0.0000,2,  2298.2,6,  2390.2,2,   7.5725,2,    25.00, -999.00,9, -999.00,9, -999.00,    37.1,2, -999.00,9,     -999.0,1,  -999.0,9, 20170831,     2215, -32.5001,-135.0274,        0.0,1,      0.061,1,      4.695,1,      0.129,1,     -999.0,9,     -999.0,9,     -999.0,9,     -999.0,9,     -999.0,9,     -999.0,9,     -999.0,9,     -999.0,9,     -999.0,9,     -999.0,9,     -999.0,9,     2.0356,2,     -999.0,     -999.0,9,     -999.0
320620170820,        P06,     160,          2,         11,         11,2,20170831,       2113,   -32.5004,  -135.0280,       4383,  1886.6,   2.2536,  34.6162,2,  34.6187,2, 155.0539,2, 155.7008,2,   104.5,2,   35.20,2,    0.00,2,    2.44,2,   0.039,2,   0.038,2,   0.0000,2,  2289.1,2,  2376.4,2,   7.5702,2,    25.00, -999.00,9, -999.00,9, -999.00,    38.1,2, -999.00,9,     -999.0,1,  -999.0,9, 20170831,     2220, -32.5002,-135.0275,        0.0,1,      0.061,1,      4.695,1,      0.129,1,     -999.0,9,     -999.0,9,     -999.0,9,     -999.0,9,     -999.0,9,     -999.0,9,     -999.0,9,     -999.0,9,     -999.0,9,     -999.0,9,     -999.0,9,     2.2260,2,     -999.0,     -999.0,9,     -999.0
320620170820,        P06,     160,          2,         12,         12,2,20170831,       2113,   -32.5004,  -135.0280,       4383,  1684.7,   2.5138,  34.5719,2,  34.5812,2, 160.0902,2, 160.5416,2,    90.7,2,   34.84,2,    0.00,2,    2.43,2,   0.065,2,   0.053,2,   0.0000,2,  2273.9,2,  2362.1,2,   7.5678,6,    25.00, -999.00,9, -999.00,9, -999.00,    34.8,2, -999.00,9,     -999.0,1,  -999.0,9, 20170831,     2225, -32.5002,-135.0276,        0.0,1,      0.061,1,      4.695,1,      0.130,1,     -999.0,9,     -999.0,9,     -999.0,9,     -999.0,9,     -999.0,9,     -999.0,9,     -999.0,9,     -999.0,9,     -999.0,9,     -999.0,9,     -999.0,9,     2.4640,2,     -999.0,     -999.0,9,     -999.0
320620170820,        P06,     160,          2,         13,         13,2,20170831,       2113,   -32.5004,  -135.0280,       4383,  1551.1,   2.7394,  34.5294,2,  34.5351,2, 163.3097,2, 163.1195,2,    80.2,2,   34.73,2,    0.00,2,    2.41,2,   0.083,2,   0.062,2,   0.0000,2,  -999.0,9,  -999.0,9,-999.0000,9,  -999.00, -999.00,9, -999.00,9, -999.00,  -999.0,9, -999.00,9,     -999.0,9,  -999.0,9, 20170831,     2230, -32.5000,-135.0274,        0.0,1,      0.061,1,      4.695,1,      0.131,1,     -999.0,9,     -999.0,9,     -999.0,9,     -999.0,9,     -999.0,9,     -999.0,9,     -999.0,9,     -999.0,9,     -999.0,9,     -999.0,9,     -999.0,9,     2.7015,2,     -999.0,     -999.0,9,     -999.0
320620170820,        P06,     160,          2,         14,         14,2,20170831,       2113,   -32.5004,  -135.0280,       4383,  1450.4,   2.9325,  34.4929,2,  34.5015,2, 166.5706,2, 166.3754,2,    72.3,2,   34.69,2,    0.00,2,    2.39,2,   0.121,2,   0.081,2,   0.0000,2,  2254.2,2,  2339.3,2,   7.5690,2,    25.00, -999.00,9, -999.00,9, -999.00,  -999.0,9, -999.00,9,     -999.0,9,  -999.0,9, 20170831,     2233, -32.5002,-135.0276,        0.0,1,      0.061,1,      4.695,1,      0.130,1,     -999.0,9,     -999.0,9,     -999.0,9,     -999.0,9,     -999.0,9,     -999.0,9,     -999.0,9,     -999.0,9,     -999.0,9,     -999.0,9,     -999.0,9,     2.8857,2,     -999.0,     -999.0,9,     -999.0
320620170820,        P06,     160,          2,         15,         15,2,20170831,       2113,   -32.5004,  -135.0280,       4383,  1247.4,   3.5067,  34.4033,2,  34.4096,2, 176.1986,2, 176.5719,2,    53.1,2,   33.87,2,    0.00,2,    2.34,2,   0.342,2,   0.192,2,   0.0000,2,  2230.9,2,  2318.6,2,   7.5792,2,    25.00, -999.00,9, -999.00,9, -999.00,    37.3,2, -999.00,9,     -999.0,1,  -999.0,9, 20170831,     2238, -32.5003,-135.0278,        0.0,1,      0.060,1,      4.695,1,      0.130,1,     -999.0,9,     -999.0,9,     -999.0,9,     -999.0,9,     -999.0,9,     -999.0,9,     -999.0,9,     -999.0,9,     -999.0,9,     -999.0,9,     -999.0,9,     3.4490,2,     -999.0,     -999.0,9,     -999.0
320620170820,        P06,     160,          2,         16,         16,2,20170831,       2113,   -32.5004,  -135.0280,       4383,  1044.9,   4.5681,  34.3158,2,  34.3199,2, 198.8879,2, 198.8809,2,    30.4,2,   31.10,2,    0.00,2,    2.12,2,   0.970,2,   0.540,2,   0.1870,2,  2195.6,2,  2297.6,2,   7.6187,2,    25.00, -999.00,9, -999.00,9, -999.00,  -999.0,9, -999.00,9,     -999.0,9,  -999.0,9, 20170831,     2244, -32.5003,-135.0277,        0.0,1,      0.059,1,      4.695,1,      0.130,1,     -999.0,9,     -999.0,9,     -999.0,9,     -999.0,9,     -999.0,9,     -999.0,9,     -999.0,9,     -999.0,9,     -999.0,9,     -999.0,9,     -999.0,9,     4.4548,2,     -999.0,     -999.0,9,     -999.0
320620170820,        P06,     160,          2,         17,         17,2,20170831,       2113,   -32.5004,  -135.0280,       4383,   942.9,   5.1238,  34.2989,2,  34.2999,2, 214.6451,2, 215.0937,2,    20.4,2,   28.74,2,    0.00,2,    1.95,2,   1.844,2,   0.911,2,   0.3800,2,  2176.2,2,  2287.4,2,   7.6497,2,    25.00, -999.00,9, -999.00,9, -999.00,    39.3,2, -999.00,9,     -999.0,1,  -999.0,9, 20170831,     2247, -32.5003,-135.0279,        0.0,1,      0.059,1,      4.695,1,      0.131,1,     -999.0,9,     -999.0,9,     -999.0,9,     -999.0,9,     -999.0,9,     -999.0,9,     -999.0,9,     -999.0,9,     -999.0,9,     -999.0,9,     -999.0,9,     5.0817,2,     -999.0,     -999.0,9,     -999.0
320620170820,        P06,     160,          2,         18,         18,2,20170831,       2113,   -32.5004,  -135.0280,       4383,   843.2,   5.6453,  34.2965,2,  34.2948,2, 229.4146,2, 228.8209,2,    13.4,2,   26.39,2,    0.00,2,    1.80,2,   2.544,2,   1.261,2,   0.4010,2,  2161.1,2,  2282.7,2,   7.6776,2,    25.00, -999.00,9, -999.00,9, -999.00,  -999.0,9, -999.00,9,     -999.0,9,  -999.0,9, 20170831,     2251, -32.5003,-135.0279,        0.0,1,      0.061,1,      4.695,1,      0.130,1,     -999.0,9,     -999.0,9,     -999.0,9,     -999.0,9,     -999.0,9,     -999.0,9,     -999.0,9,     -999.0,9,     -999.0,9,     -999.0,9,     -999.0,9,     5.6668,2,     -999.0,     -999.0,9,     -999.0
320620170820,        P06,     160,          2,         19,         19,2,20170831,       2113,   -32.5004,  -135.0280,       4383,   741.1,   6.0956,  34.3082,2,  34.3080,2, 238.7238,2, 238.2758,2,     9.7,2,   24.54,2,    0.00,2,    1.65,2,   3.262,2,   1.605,2,   0.6510,2,  2152.6,2,  2281.5,2,   7.6948,2,    25.00, -999.00,9, -999.00,9, -999.00,    39.8,2, -999.00,9,     -999.0,1,  -999.0,9, 20170831,     2254, -32.5003,-135.0278,        0.0,1,      0.058,1,      4.694,1,      0.132,1,     -999.0,9,     -999.0,9,     -999.0,9,     -999.0,9,     -999.0,9,     -999.0,9,     -999.0,9,     -999.0,9,     -999.0,9,     -999.0,9,     -999.0,9,     6.1494,2,     -999.0,     -999.0,9,     -999.0
320620170820,        P06,     160,          2,         20,         20,2,20170831,       2113,   -32.5004,  -135.0280,       4383,   639.9,   6.5847,  34.3349,2,  34.3372,2, 244.2635,2, 243.7387,2,     7.3,2,   22.88,2,    0.00,2,    1.53,2,   3.661,2,   1.903,2,   0.9240,2,  2146.2,6,  2279.4,2,   7.7071,2,    25.00, -999.00,9, -999.00,9, -999.00,    40.6,2, -999.00,9,     -999.0,1,  -999.0,9, 20170831,     2258, -32.5002,-135.0277,        0.0,1,      0.059,1,      4.694,1,      0.132,1,     -999.0,9,     -999.0,9,     -999.0,9,     -999.0,9,     -999.0,9,     -999.0,9,     -999.0,9,     -999.0,9,     -999.0,9,     -999.0,9,     -999.0,9,     6.6384,2,     -999.0,     -999.0,9,     -999.0
320620170820,        P06,     160,          2,         21,         21,2,20170831,       2113,   -32.5004,  -135.0280,       4383,   536.2,   7.2449,  34.3795,2,  34.3776,2, 243.1326,2, 243.2006,2,     5.6,2,   21.00,2,    0.00,2,    1.42,2,   3.715,2,   1.988,2,   1.3320,2,  2142.5,2,  2280.0,6,   7.7173,2,    25.00, -999.00,9, -999.00,9, -999.00,    42.0,2, -999.00,9,     -999.0,1,  -999.0,9, 20170831,     2302, -32.5002,-135.0277,        0.0,1,      0.058,1,      4.692,1,      0.134,1,     -999.0,9,     -999.0,9,     -999.0,9,     -999.0,9,     -999.0,9,     -999.0,9,     -999.0,9,     -999.0,9,     -999.0,9,     -999.0,9,     -999.0,9,     7.2782,2,     -999.0,     -999.0,9,     -999.0
320620170820,        P06,     160,          2,         22,         22,2,20170831,       2113,   -32.5004,  -135.0280,       4383,   467.8,   7.9693,  34.4239,2,  34.4122,2, 239.5383,2, 239.1116,2,     4.6,2,   19.60,2,    0.00,2,    1.32,2,   3.509,2,   1.926,2,   1.4240,2,  2138.9,2,  2279.1,2,   7.7243,2,    25.00, -999.00,9, -999.00,9, -999.00,    44.7,2,   21.70,2,     -999.0,1,  -999.0,9, 20170831,     2304, -32.5002,-135.0276,        0.0,1,      0.059,1,      4.691,1,      0.134,1,     -999.0,9,     -999.0,9,     -999.0,9,     -999.0,9,     -999.0,9,     -999.0,9,     -999.0,9,     -999.0,9,     -999.0,9,     -999.0,9,     -999.0,9,     7.8560,2,     -999.0,     -999.0,9,     -999.0
320620170820,        P06,     160,          2,         23,         23,2,20170831,       2113,   -32.5004,  -135.0280,       4383,   413.9,   8.9439,  34.4831,2,  34.4634,2, 225.2918,2, 226.2374,2,     3.8,2,   18.00,2,    0.00,2,    1.22,2,   3.458,2,   1.833,2,   1.1470,2,  2136.5,2,  2280.0,2,   7.7348,2,    25.00, -999.00,9, -999.00,9, -999.00,    44.2,2,   21.10,2,     -999.0,1,  -999.0,9, 20170831,     2306, -32.5002,-135.0276,        0.0,1,      0.059,1,      4.690,1,      0.133,1,     -999.0,9,     -999.0,9,     -999.0,9,     -999.0,9,     -999.0,9,     -999.0,9,     -999.0,9,     -999.0,9,     -999.0,9,     -999.0,9,     -999.0,9,     8.7310,2,     -999.0,     -999.0,9,     -999.0
320620170820,        P06,     160,          2,         24,         24,2,20170831,       2113,   -32.5004,  -135.0280,       4383,   316.1,  11.7519,  34.7265,2,  34.7062,2, 209.1166,2, 210.5253,2,     2.0,2,   11.92,2,    0.00,2,    0.86,2,   3.059,2,   1.681,2,   1.2550,2,  2118.2,2,  2288.3,2,   7.7937,2,    25.00, -999.00,9, -999.00,9, -999.00,    49.8,3,   14.50,2,     -999.0,1,  -999.0,9, 20170831,     2310, -32.5003,-135.0278,        0.0,1,      0.059,1,      4.687,1,      0.135,1,     -999.0,9,     -999.0,9,     -999.0,9,     -999.0,9,     -999.0,9,     -999.0,9,     -999.0,9,     -999.0,9,     -999.0,9,     -999.0,9,     -999.0,9,    11.5976,2,     -999.0,     -999.0,9,     -999.0
320620170820,        P06,     160,          2,         25,         25,2,20170831,       2113,   -32.5004,  -135.0280,       4383,   265.4,  12.7134,  34.7831,2,  34.8231,2,  210.131,2, 211.0023,2,     1.2,2,    8.49,2,    0.00,2,    0.64,2,   3.028,2,   1.613,2,   1.2600,2,  2103.7,2,  2290.3,2,   7.8314,2,    25.00, -999.00,9, -999.00,9, -999.00,    45.2,2,   10.70,2,     -999.0,1,  -999.0,9, 20170831,     2312, -32.5003,-135.0278,        0.0,1,      0.059,1,      4.686,1,      0.132,1,     -999.0,9,     -999.0,9,     -999.0,9,     -999.0,9,     -999.0,9,     -999.0,9,     -999.0,9,     -999.0,9,     -999.0,9,     -999.0,9,     -999.0,9,    12.9875,2,     -999.0,     -999.0,9,     -999.0
320620170820,        P06,     160,          2,         26,         26,2,20170831,       2113,   -32.5004,  -135.0280,       4383,   216.4,  14.7340,  35.0690,2,  35.0728,2, 220.2889,2, 219.1747,2,     0.4,2,    3.88,2,    0.02,2,    0.35,2,   2.750,2,   1.490,2,   1.5310,2,  2090.2,2,  2305.0,2,   7.8839,2,    25.00, -999.00,9, -999.00,9, -999.00,    46.8,2,    7.10,2,     -999.0,1,  -999.0,9, 20170831,     2314, -32.5002,-135.0276,        0.0,1,      0.072,1,      4.681,1,      0.135,1,     -999.0,9,     -999.0,9,     -999.0,9,     -999.0,9,     -999.0,9,     -999.0,9,     -999.0,9,     -999.0,9,     -999.0,9,     -999.0,9,     -999.0,9,    14.7749,2,     -999.0,     -999.0,9,     -999.0