BOTTLE,20240211CCHSIOCBG
EXPOCODE,SECT_ID,STNNBR,CASTNO,SAMPNO,BTLNBR,BTLNBR_FLAG_W,DATE,TIME,LATITUDE,LONGITUDE,DEPTH,CTDPRS,CTDTMP,CTDSAL,CTDSAL_FLAG_W,SALNTY,SALNTY_FLAG_W,CTDOXY,CTDOXY_FLAG_W,OXYGEN,OXYGEN_FLAG_W,SILCAT,SILCAT_FLAG_W,NITRAT,NITRAT_FLAG_W,NITRIT,NITRIT_FLAG_W,PHSPHT,PHSPHT_FLAG_W,CFC-11,CFC-11_FLAG_W,CFC-12,CFC-12_FLAG_W,SF6,SF6_FLAG_W,TCARBN,TCARBN_FLAG_W,ALKALI,ALKALI_FLAG_W,PH_TOT,PH_TOT_FLAG_W,PH_TMP,DELC13,DELC13_FLAG_W,DELC14,DELC14_FLAG_W,C14ERR,DOC,DOC_FLAG_W,TDN,TDN_FLAG_W,TON,TON_FLAG_W,D15N_NO3,D15N_NO3_FLAG_W,BTL_DATE,BTL_TIME,BTL_LAT,BTL_LON,CTDRINKO,CTDRINKO_FLAG_W,CTDFLUOR,CTDFLUOR_FLAG_W,CTDXMISS,CTDXMISS_FLAG_W,CTDBACKSCATTER,CTDBACKSCATTER_FLAG_W,D18O_NO3,D18O_NO3_FLAG_W,DOP,DOP_FLAG_W,CELLCOUNT,CELLCOUNT_FLAG_W,TDP,TDP_FLAG_W,POP,POP_FLAG_W,DATP,DATP_FLAG_W,PATP,PATP_FLAG_W,HPLC,HPLC_FLAG_W,POC,POC_FLAG_W,BEAMAP,BEAMAP_FLAG_W,DOC_NASA,DOC_NASA_FLAG_W,REFTMP,REFTMP_FLAG_W,DOC_NASA_ERROR,TDN_NASA,TDN_NASA_FLAG_W,TDN_NASA_ERROR
,,,,,,,,,,,METERS,DBAR,ITS-90,PSS-78,,PSS-78,,UMOL/KG,,UMOL/KG,,UMOL/KG,,UMOL/KG,,UMOL/KG,,UMOL/KG,,PMOL/KG,,PMOL/KG,,FMOL/KG,,UMOL/KG,,UMOL/KG,,,,DEG C,/MILLE,,/MILLE,,/MILLE,UMOL/KG,,UMOL/KG,,UMOL/KG,,/MILLE,,,,,,VOLTS,,VOLTS,,VOLTS,,VOLTS,,/MILLE,,UMOL/KG,,/LITER,,UMOL/KG,,UMOL/L,,PMOL/L,,PMOL/L,,,,UG/L,,/METER,,UMOL/L,,ITS-90,,UMOL/L,UMOL/L,,UMOL/L
320620170820,        P06,     220,          1,         27,         27,2,20170921,       0015,   -32.4998,   -87.3154,       3879,   316.0,   8.6347,  34.2605,2,  34.2921,2, 156.0832,2, 149.3295,2,    10.6,2,   26.11,2,    0.00,2,    1.98,2,-999.000,9,-999.000,9,-999.0000,9,  2194.6,2,  2270.9,2,   7.5545,2,    25.00, -999.00,9, -999.00,9, -999.00,    46.7,2,   28.80,2,     -999.0,1,  -999.0,9, 20170921,      143, -32.5000, -87.3152,        0.0,1,      0.061,1,      4.675,1,      0.141,1,     -999.0,9,     -999.0,9,     -999.0,9,     -999.0,9,     -999.0,9,     -999.0,9,     -999.0,9,     -999.0,9,     -999.0,9,     -999.0,9,     -999.0,9,     8.4338,2,     -999.0,     -999.0,9,     -999.0
320620170820,        P06,     220,          1,         28,         28,2,20170921,       0015,   -32.4998,   -87.3154,       3879,   265.8,   9.8866,  34.1904,2,  34.1862,2, 195.1182,2, 201.9095,2,     3.2,2,   19.46,2,    0.00,2,    1.42,2,-999.000,9,-999.000,9,-999.0000,9,  2142.1,2,  2264.1,2,   7.6895,2,    25.00, -999.00,9, -999.00,9, -999.00,    43.7,2,   21.70,2,     -999.0,1,  -999.0,9, 20170921,      144, -32.5000, -87.3152,        0.0,1,      0.061,1,      4.674,1,      0.144,1,     -999.0,9,     -999.0,9,     -999.0,9,     -999.0,9,     -999.0,9,     -999.0,9,     -999.0,9,     -999.0,9,     -999.0,9,     -999.0,9,     -999.0,9,     9.7904,2,     -999.0,     -999.0,9,     -999.0
320620170820,        P06,     220,          1,         29,         29,2,20170921,       0015,   -32.4998,   -87.3154,       3879,   215.0,  11.2137,  34.1513,2,  34.1479,2, 207.1716,2, 212.1585,2,     1.2,2,   15.71,2,    0.02,2,    1.13,2,-999.000,9,-999.000,9,-999.0000,9,  2114.6,2,  2260.8,2,   7.7510,2,    25.00, -999.00,9, -999.00,9, -999.00,    44.9,2,   17.60,2,     -999.0,1,  -999.0,9, 20170921,      146, -32.5000, -87.3153,        0.0,1,      0.062,1,      4.670,1,      0.151,1,     -999.0,9,     -999.0,9,     -999.0,9,     -999.0,9,     -999.0,9,     -999.0,9,     -999.0,9,     -999.0,9,     -999.0,9,     -999.0,9,     -999.0,9,    11.2864,2,     -999.0,     -999.0,9,     -999.0
320620170820,        P06,     220,          1,         30,         30,2,20170921,       0015,   -32.4998,   -87.3154,       3879,   164.0,  13.9016,  34.3437,2,  34.3237,3, 220.9344,2, 228.2117,2,     0.1,2,    7.45,2,    0.12,2,    0.65,2,-999.000,9,-999.000,9,-999.0000,9,  2079.5,2,  2271.7,2,   7.8566,2,    25.00, -999.00,9, -999.00,9, -999.00,    49.5,2,   10.80,2,     -999.0,1,  -999.0,9, 20170921,      148, -32.4999, -87.3153,        0.0,1,      0.080,1,      4.654,1,      0.174,1,     -999.0,9,     -999.0,9,     -999.0,9,     -999.0,9,     -999.0,9,     -999.0,9,     -999.0,9,     -999.0,9,     -999.0,9,     -999.0,9,     -999.0,9,    13.8878,2,     -999.0,     -999.0,9,     -999.0
320620170820,        P06,     220,          1,         31,         31,2,20170921,       0015,   -32.4998,   -87.3154,       3879,   134.7,  14.9611,  34.5057,2,  34.5050,2, 249.6092,2, 249.4182,2,     0.0,2,    2.19,2,    0.10,2,    0.35,2,-999.000,9,-999.000,9,-999.0000,9,  2055.0,2,  2284.6,2,   7.9218,6,    25.00, -999.00,9, -999.00,9, -999.00,    59.7,2,    7.10,2,     -999.0,1,  -999.0,9, 20170921,      150, -32.4999, -87.3153,        0.0,1,      0.181,1,      4.617,1,      0.225,1,     -999.0,9,     -999.0,9,     -999.0,9,     -999.0,9,     -999.0,9,     -999.0,9,     -999.0,9,     -999.0,9,     -999.0,9,     -999.0,9,     -999.0,9,    14.9572,2,     -999.0,     -999.0,9,     -999.0
320620170820,        P06,     220,          1,         32,         32,2,20170921,       0015,   -32.4998,   -87.3154,       3879,   111.1,  14.9742,  34.5079,2,  34.5062,2, 249.5354,2, 249.4637,2,     0.0,2,    2.16,2,    0.10,2,    0.34,2,-999.000,9,-999.000,9,-999.0000,9,  2056.7,2,  2284.6,2,   7.9215,2,    25.00, -999.00,9, -999.00,9, -999.00,    57.2,2,    6.10,2,     -999.0,1,  -999.0,9, 20170921,      151, -32.4999, -87.3153,        0.0,1,      0.207,1,      4.603,1,      0.234,1,     -999.0,9,     -999.0,9,     -999.0,9,     -999.0,9,     -999.0,9,     -999.0,9,     -999.0,9,     -999.0,9,     -999.0,9,     -999.0,9,     -999.0,9,    14.9710,2,     -999.0,     -999.0,9,     -999.0
320620170820,        P06,     220,          1,         33,         33,2,20170921,       0015,   -32.4998,   -87.3154,       3879,    85.2,  14.9806,  34.5094,2,  34.5064,2, 249.4899,2,  249.697,2,     0.0,2,    2.13,2,    0.10,2,    0.34,2,-999.000,9,-999.000,9,-999.0000,9,  2056.7,2,  2285.2,6,   7.9212,2,    25.00, -999.00,9, -999.00,9, -999.00,    58.6,2,    7.00,2,     -999.0,1,  -999.0,9, 20170921,      153, -32.4999, -87.3153,        0.0,1,      0.184,1,      4.612,1,      0.229,1,     -999.0,9,     -999.0,9,     -999.0,9,     -999.0,9,     -999.0,9,     -999.0,9,     -999.0,9,     -999.0,9,     -999.0,9,     -999.0,9,     -999.0,9,    14.9720,2,     -999.0,     -999.0,9,     -999.0
320620170820,        P06,     220,          1,         34,         34,2,20170921,       0015,   -32.4998,   -87.3154,       3879,    60.2,  14.9873,  34.5111,2,  34.5082,2, 249.9485,2,  249.813,2,     0.0,2,    2.12,2,    0.10,2,    0.33,2,-999.000,9,-999.000,9,-999.0000,9,  2055.4,2,  2284.8,2,   7.9224,2,    25.00, -999.00,9, -999.00,9, -999.00,    58.1,2,    6.40,2,     -999.0,1,  -999.0,9, 20170921,      154, -32.4999, -87.3153,        0.0,1,      0.215,1,      4.595,1,      0.227,1,     -999.0,9,     -999.0,9,     -999.0,9,     -999.0,9,     -999.0,9,     -999.0,9,     -999.0,9,     -999.0,9,     -999.0,9,     -999.0,9,     -999.0,9,    14.9821,2,     -999.0,     -999.0,9,     -999.0
320620170820,        P06,     220,          1,         35,         35,2,20170921,       0015,   -32.4998,   -87.3154,       3879,     3.1,  15.0889,  34.5135,2,  34.5140,2, 250.7421,2, 251.4529,2,     0.0,2,    2.08,2,    0.09,2,    0.33,2,-999.000,9,-999.000,9,-999.0000,9,  2057.5,6,  2283.9,2,   7.9236,2,    25.00,    1.21,2,   36.54,2,    4.21,    59.6,2,    6.00,2,     -999.0,1,  -999.0,9, 20170921,      158, -32.4998, -87.3154,        0.0,1,      0.170,1,      4.569,1,      0.234,1,     -999.0,9,     -999.0,9,     -999.0,9,     -999.0,9,     -999.0,9,     -999.0,9,     -999.0,9,     -999.0,9,     -999.0,9,     -999.0,9,     -999.0,9,    15.2499,2,     -999.0,     -999.0,9,     -999.0