BOTTLE,20240211CCHSIOCBG
EXPOCODE,SECT_ID,STNNBR,CASTNO,SAMPNO,BTLNBR,BTLNBR_FLAG_W,DATE,TIME,LATITUDE,LONGITUDE,DEPTH,CTDPRS,CTDTMP,CTDSAL,CTDSAL_FLAG_W,SALNTY,SALNTY_FLAG_W,CTDOXY,CTDOXY_FLAG_W,OXYGEN,OXYGEN_FLAG_W,SILCAT,SILCAT_FLAG_W,NITRAT,NITRAT_FLAG_W,NITRIT,NITRIT_FLAG_W,PHSPHT,PHSPHT_FLAG_W,CFC-11,CFC-11_FLAG_W,CFC-12,CFC-12_FLAG_W,SF6,SF6_FLAG_W,TCARBN,TCARBN_FLAG_W,ALKALI,ALKALI_FLAG_W,PH_TOT,PH_TOT_FLAG_W,PH_TMP,DELC13,DELC13_FLAG_W,DELC14,DELC14_FLAG_W,C14ERR,DOC,DOC_FLAG_W,TDN,TDN_FLAG_W,TON,TON_FLAG_W,D15N_NO3,D15N_NO3_FLAG_W,BTL_DATE,BTL_TIME,BTL_LAT,BTL_LON,CTDRINKO,CTDRINKO_FLAG_W,CTDFLUOR,CTDFLUOR_FLAG_W,CTDXMISS,CTDXMISS_FLAG_W,CTDBACKSCATTER,CTDBACKSCATTER_FLAG_W,D18O_NO3,D18O_NO3_FLAG_W,DOP,DOP_FLAG_W,CELLCOUNT,CELLCOUNT_FLAG_W,TDP,TDP_FLAG_W,POP,POP_FLAG_W,DATP,DATP_FLAG_W,PATP,PATP_FLAG_W,HPLC,HPLC_FLAG_W,POC,POC_FLAG_W,BEAMAP,BEAMAP_FLAG_W,DOC_NASA,DOC_NASA_FLAG_W,REFTMP,REFTMP_FLAG_W,DOC_NASA_ERROR,TDN_NASA,TDN_NASA_FLAG_W,TDN_NASA_ERROR
,,,,,,,,,,,METERS,DBAR,ITS-90,PSS-78,,PSS-78,,UMOL/KG,,UMOL/KG,,UMOL/KG,,UMOL/KG,,UMOL/KG,,UMOL/KG,,PMOL/KG,,PMOL/KG,,FMOL/KG,,UMOL/KG,,UMOL/KG,,,,DEG C,/MILLE,,/MILLE,,/MILLE,UMOL/KG,,UMOL/KG,,UMOL/KG,,/MILLE,,,,,,VOLTS,,VOLTS,,VOLTS,,VOLTS,,/MILLE,,UMOL/KG,,/LITER,,UMOL/KG,,UMOL/L,,PMOL/L,,PMOL/L,,,,UG/L,,/METER,,UMOL/L,,ITS-90,,UMOL/L,UMOL/L,,UMOL/L
320620170820,        P06,     159,          1,         27,         27,2,20170831,       1220,   -32.5002,  -135.9181,       4334,   303.6,  10.9303,  34.6237,2,  34.5859,2, 217.0801,2, 216.0852,2,     2.0,2,   13.78,2,    0.00,2,    0.97,2,-999.000,5,-999.000,5,-999.0000,5,  2124.1,2,  2285.3,2,   7.7715,2,    25.00, -999.00,9, -999.00,9, -999.00,  -999.0,9, -999.00,9,     -999.0,9,  -999.0,1, 20170831,     1409, -32.5001,-135.9180,        0.0,1,      0.060,1,      4.689,1,      0.136,1,     -999.0,1,     -999.0,1,     -999.0,9,     -999.0,9,     -999.0,9,     -999.0,9,     -999.0,9,     -999.0,9,     -999.0,9,     -999.0,9,     -999.0,9,    10.6303,2,     -999.0,     -999.0,9,     -999.0
320620170820,        P06,     159,          1,         28,         28,2,20170831,       1220,   -32.5002,  -135.9181,       4334,   252.5,  12.6449,  34.8027,2,  34.7567,2, 215.4133,2, 213.4478,2,     1.1,2,    9.61,2,    0.00,2,    0.70,2,   2.769,2,   1.610,2,   1.4430,2,  2110.7,2,  2291.8,2,   7.8133,2,    25.00, -999.00,9, -999.00,9, -999.00,  -999.0,9, -999.00,9,     -999.0,9,  -999.0,1, 20170831,     1412, -32.5001,-135.9180,        0.0,1,      0.062,1,      4.687,1,      0.133,1,     -999.0,1,     -999.0,1,     -999.0,9,        0.9,2,     -999.0,9,     -999.0,9,     -999.0,9,     -999.0,9,     -999.0,9,     -999.0,9,     -999.0,9,    12.3002,2,     -999.0,     -999.0,9,     -999.0
320620170820,        P06,     159,          1,         29,         29,2,20170831,       1220,   -32.5002,  -135.9181,       4334,   202.0,  14.0450,  34.9410,2,  34.9541,2, 226.9206,2, 223.9454,2,     0.2,2,    3.87,2,    0.02,2,    0.35,2,   2.537,2,   1.510,2,   1.6250,2,  2090.4,2,  2300.5,2,   7.8755,6,    25.00, -999.00,9, -999.00,9, -999.00,  -999.0,9, -999.00,9,     -999.0,9,  -999.0,1, 20170831,     1414, -32.5000,-135.9180,        0.0,1,      0.077,1,      4.681,1,      0.137,1,     -999.0,1,     -999.0,1,     -999.0,9,     -999.0,9,     -999.0,9,     -999.0,9,     -999.0,9,     -999.0,9,     -999.0,9,     -999.0,9,     -999.0,9,    14.2887,2,     -999.0,     -999.0,9,     -999.0
320620170820,        P06,     159,          1,         30,         30,2,20170831,       1220,   -32.5002,  -135.9181,       4334,   151.1,  15.4020,  35.1254,2,  35.1634,2, 230.9505,2, 234.4715,2,     0.0,2,    0.46,2,    0.07,2,    0.12,2,   2.259,2,   1.369,2,   1.5920,2,  2066.3,2,  2313.7,2,   7.9426,2,    25.00, -999.00,9, -999.00,9, -999.00,  -999.0,9, -999.00,9,     -999.0,9,  -999.0,1, 20170831,     1416, -32.5000,-135.9179,        0.0,1,      0.083,1,      4.677,1,      0.141,1,     -999.0,1,     -999.0,1,     -999.0,9,        0.4,2,     -999.0,9,     -999.0,9,     -999.0,9,     -999.0,9,     -999.0,9,     -999.0,9,     -999.0,9,    16.2875,2,     -999.0,     -999.0,9,     -999.0
320620170820,        P06,     159,          1,         31,         31,2,20170831,       1220,   -32.5002,  -135.9181,       4334,   125.9,  16.4178,  35.1925,2,  35.1855,2, 239.0273,2, 239.4817,2,     0.0,2,    0.00,2,    0.02,2,    0.07,2,   2.153,2,   1.325,2,   1.6960,2,  2059.9,2,  2313.2,2,   7.9576,2,    25.00, -999.00,9, -999.00,9, -999.00,  -999.0,9, -999.00,9,     -999.0,9,  -999.0,1, 20170831,     1418, -32.5000,-135.9179,        0.0,1,      0.117,1,      4.665,1,      0.152,1,     -999.0,1,     -999.0,1,     -999.0,9,     -999.0,9,     -999.0,9,     -999.0,9,     -999.0,9,     -999.0,9,     -999.0,9,     -999.0,9,     -999.0,9,    16.5852,2,     -999.0,     -999.0,9,     -999.0
320620170820,        P06,     159,          1,         32,         32,2,20170831,       1220,   -32.5002,  -135.9181,       4334,   102.4,  16.5593,  35.1807,2,  35.1786,2, 239.4075,2, 240.2718,2,     0.0,2,    0.00,2,    0.00,2,    0.07,2,   2.154,2,   1.330,2,   1.5820,2,  2056.6,2,  2312.4,2,   7.9591,2,    25.00, -999.00,9, -999.00,9, -999.00,  -999.0,9, -999.00,9,     -999.0,9,  -999.0,1, 20170831,     1420, -32.5000,-135.9179,        0.0,1,      0.146,1,      4.652,1,      0.167,1,     -999.0,1,     -999.0,1,     -999.0,9,        0.4,2,     -999.0,9,     -999.0,9,     -999.0,9,     -999.0,9,     -999.0,9,     -999.0,9,     -999.0,9,    16.6212,2,     -999.0,     -999.0,9,     -999.0
320620170820,        P06,     159,          1,         33,         33,2,20170831,       1220,   -32.5002,  -135.9181,       4334,    76.5,  16.7403,  35.2046,2,  35.2365,2, 232.7039,3, 244.6005,2,     0.0,2,    0.00,2,    0.00,2,    0.07,2,   2.193,2,   1.304,2,   1.5630,2,  2055.5,2,  2316.6,6,   7.9665,2,    25.00, -999.00,9, -999.00,9, -999.00,  -999.0,9, -999.00,9,     -999.0,9,  -999.0,1, 20170831,     1422, -32.5000,-135.9180,        0.0,1,      0.122,1,      4.643,1,      0.180,1,     -999.0,1,     -999.0,1,     -999.0,9,     -999.0,9,     -999.0,9,     -999.0,9,     -999.0,9,     -999.0,9,     -999.0,9,     -999.0,9,     -999.0,9,    16.9130,2,     -999.0,     -999.0,9,     -999.0
320620170820,        P06,     159,          1,         34,         34,2,20170831,       1220,   -32.5002,  -135.9181,       4334,    51.5,  17.0327,  35.2731,2,  35.2808,2, 236.1587,2, 238.7804,2,     0.0,2,    0.00,2,    0.00,2,    0.07,2,   2.218,2,   1.305,2,   1.7780,2,  2056.6,2,  2318.2,2,   7.9692,2,    25.00, -999.00,9, -999.00,9, -999.00,  -999.0,9, -999.00,9,     -999.0,9,  -999.0,1, 20170831,     1424, -32.5001,-135.9180,        0.0,1,      0.129,1,      4.642,1,      0.178,1,     -999.0,1,     -999.0,1,     -999.0,9,       0.35,2,     -999.0,9,     -999.0,9,     -999.0,9,     -999.0,9,     -999.0,9,     -999.0,9,     -999.0,9,    17.0718,2,     -999.0,     -999.0,9,     -999.0
320620170820,        P06,     159,          1,         35,         35,2,20170831,       1220,   -32.5002,  -135.9181,       4334,    25.5,  17.1688,  35.3045,2,  35.2873,2, 236.5901,2, 238.1251,2,     0.0,2,    0.00,2,    0.00,2,    0.07,2,   2.231,2,   1.303,2,   1.6600,2,  2054.9,2,  2317.7,2,   7.9703,2,    25.00, -999.00,9, -999.00,9, -999.00,  -999.0,9, -999.00,9,     -999.0,9,  -999.0,1, 20170831,     1426, -32.5002,-135.9181,        0.0,1,      0.134,1,      4.643,1,      0.173,1,     -999.0,1,     -999.0,1,     -999.0,9,       0.33,2,     -999.0,9,     -999.0,9,     -999.0,9,     -999.0,9,     -999.0,9,     -999.0,9,     -999.0,9,    17.0967,2,     -999.0,     -999.0,9,     -999.0
320620170820,        P06,     159,          1,         36,         36,2,20170831,       1220,   -32.5002,  -135.9181,       4334,    10.5,  17.1711,  35.3061,2,  35.2836,2,  235.795,2, 238.0214,2,     0.0,2,    0.00,2,    0.00,2,    0.09,2,   2.163,2,   1.300,2,   1.7150,2,  2056.4,6,  2320.6,2,   7.9698,2,    25.00,    0.80,2,   56.12,2,    2.05,  -999.0,9, -999.00,9,     -999.0,9,  -999.0,1, 20170831,     1428, -32.5002,-135.9181,        0.0,1,      0.133,1,      4.642,1,      0.176,1,     -999.0,1,     -999.0,1,     -999.0,9,        0.3,2,     -999.0,9,     -999.0,9,     -999.0,9,     -999.0,9,     -999.0,9,     -999.0,9,     -999.0,9,    17.0918,2,     -999.0,     -999.0,9,     -999.0