BOTTLE,20240211CCHSIOCBG
EXPOCODE,SECT_ID,STNNBR,CASTNO,SAMPNO,BTLNBR,BTLNBR_FLAG_W,DATE,TIME,LATITUDE,LONGITUDE,DEPTH,CTDPRS,CTDTMP,CTDSAL,CTDSAL_FLAG_W,SALNTY,SALNTY_FLAG_W,CTDOXY,CTDOXY_FLAG_W,OXYGEN,OXYGEN_FLAG_W,SILCAT,SILCAT_FLAG_W,NITRAT,NITRAT_FLAG_W,NITRIT,NITRIT_FLAG_W,PHSPHT,PHSPHT_FLAG_W,CFC-11,CFC-11_FLAG_W,CFC-12,CFC-12_FLAG_W,SF6,SF6_FLAG_W,TCARBN,TCARBN_FLAG_W,ALKALI,ALKALI_FLAG_W,PH_TOT,PH_TOT_FLAG_W,PH_TMP,DELC13,DELC13_FLAG_W,DELC14,DELC14_FLAG_W,C14ERR,DOC,DOC_FLAG_W,TDN,TDN_FLAG_W,TON,TON_FLAG_W,D15N_NO3,D15N_NO3_FLAG_W,BTL_DATE,BTL_TIME,BTL_LAT,BTL_LON,CTDRINKO,CTDRINKO_FLAG_W,CTDFLUOR,CTDFLUOR_FLAG_W,CTDXMISS,CTDXMISS_FLAG_W,CTDBACKSCATTER,CTDBACKSCATTER_FLAG_W,D18O_NO3,D18O_NO3_FLAG_W,DOP,DOP_FLAG_W,CELLCOUNT,CELLCOUNT_FLAG_W,TDP,TDP_FLAG_W,POP,POP_FLAG_W,DATP,DATP_FLAG_W,PATP,PATP_FLAG_W,HPLC,HPLC_FLAG_W,POC,POC_FLAG_W,BEAMAP,BEAMAP_FLAG_W,DOC_NASA,DOC_NASA_FLAG_W,REFTMP,REFTMP_FLAG_W,DOC_NASA_ERROR,TDN_NASA,TDN_NASA_FLAG_W,TDN_NASA_ERROR
,,,,,,,,,,,METERS,DBAR,ITS-90,PSS-78,,PSS-78,,UMOL/KG,,UMOL/KG,,UMOL/KG,,UMOL/KG,,UMOL/KG,,UMOL/KG,,PMOL/KG,,PMOL/KG,,FMOL/KG,,UMOL/KG,,UMOL/KG,,,,DEG C,/MILLE,,/MILLE,,/MILLE,UMOL/KG,,UMOL/KG,,UMOL/KG,,/MILLE,,,,,,VOLTS,,VOLTS,,VOLTS,,VOLTS,,/MILLE,,UMOL/KG,,/LITER,,UMOL/KG,,UMOL/L,,PMOL/L,,PMOL/L,,,,UG/L,,/METER,,UMOL/L,,ITS-90,,UMOL/L,UMOL/L,,UMOL/L
320620170820,        P06,     162,          1,         27,         27,2,20170902,       1528,   -32.4998,  -133.2440,       4356,   150.6,  16.0470,  35.1622,2,  35.1585,2, 215.9094,2, 215.9376,2,     0.1,2,    2.48,2,    0.04,2,    0.23,2,   2.379,2,   1.429,2,   1.5100,2,  2080.3,2,  2309.7,2,   7.9092,6,    25.00, -999.00,9, -999.00,9, -999.00,    50.6,2,    5.50,2,     -999.0,1,  -999.0,9, 20170902,     1709, -32.4998,-133.2438,        0.0,1,      0.098,1,      4.674,1,      0.145,1,     -999.0,9,     -999.0,9,     -999.0,9,     -999.0,9,     -999.0,9,     -999.0,9,     -999.0,9,     -999.0,9,     -999.0,9,     -999.0,9,     -999.0,9,    16.0352,2,     -999.0,     -999.0,9,     -999.0
320620170820,        P06,     162,          1,         28,         28,2,20170902,       1528,   -32.4998,  -133.2440,       4356,   124.9,  16.6442,  35.2320,2,  35.2229,2, 220.0468,2, 218.5475,2,     0.0,2,    1.62,2,    0.05,2,    0.18,2,   2.257,2,   1.394,2,   1.4970,2,  2076.3,2,  2312.8,2,   7.9238,2,    25.00, -999.00,9, -999.00,9, -999.00,    55.6,2,    5.00,2,     -999.0,1,  -999.0,9, 20170902,     1711, -32.4998,-133.2438,        0.0,1,      0.115,1,      4.668,1,      0.148,1,     -999.0,9,     -999.0,9,     -999.0,9,     -999.0,9,     -999.0,9,     -999.0,9,     -999.0,9,     -999.0,9,     -999.0,9,     -999.0,9,     -999.0,9,    16.5339,2,     -999.0,     -999.0,9,     -999.0
320620170820,        P06,     162,          1,         30,         30,2,20170902,       1528,   -32.4998,  -133.2440,       4356,   101.2,  16.9792,  35.2510,2,-999.0000,9, 224.5951,2,-999.0000,9,  -999.0,9, -999.00,9, -999.00,9, -999.00,9,-999.000,9,-999.000,9,-999.0000,9,  -999.0,9,  -999.0,9,-999.0000,9,  -999.00, -999.00,9, -999.00,9, -999.00,  -999.0,9, -999.00,9,     -999.0,9,  -999.0,9, 20170902,     1712, -32.4998,-133.2439,        0.0,1,      0.150,1,      4.656,1,      0.158,1,     -999.0,9,     -999.0,9,     -999.0,9,     -999.0,9,     -999.0,9,     -999.0,9,     -999.0,9,     -999.0,1,     -999.0,1,     -999.0,1,67.89173107,2,     -999.0,5,-83.18068276,43.45334442,2,     -999.0
320620170820,        P06,     162,          1,         29,         29,2,20170902,       1528,   -32.4998,  -133.2440,       4356,   100.0,  16.9792,  35.2510,2,  35.2649,2, 233.9053,2, 230.1505,2,     0.0,2,    0.35,2,    0.04,2,    0.08,2,   2.206,2,   1.347,2,   1.6610,2,  2061.4,2,  2315.6,2,   7.9549,2,    25.00, -999.00,9, -999.00,9, -999.00,    64.4,2,    4.50,2,     -999.0,1,  -999.0,9, 20170902,     1712, -32.4997,-133.2439,        0.0,1,      0.150,1,      4.656,1,      0.158,1,     -999.0,9,     -999.0,9,     -999.0,9,     -999.0,9,     -999.0,9,     -999.0,9,     -999.0,9,     -999.0,9,     -999.0,9,     -999.0,9,     -999.0,9,    17.2815,2,     -999.0,     -999.0,9,     -999.0
320620170820,        P06,     162,          1,         31,         31,2,20170902,       1528,   -32.4998,  -133.2440,       4356,    99.8,  17.0029,  35.2505,2,-999.0000,9,  224.884,2,-999.0000,9,  -999.0,9, -999.00,9, -999.00,9, -999.00,9,-999.000,9,-999.000,9,-999.0000,9,  -999.0,9,  -999.0,9,-999.0000,9,  -999.00, -999.00,9, -999.00,9, -999.00,  -999.0,9, -999.00,9,     -999.0,9,  -999.0,9, 20170902,     1713, -32.4998,-133.2439,        0.0,1,      0.152,1,      4.656,1,      0.162,1,     -999.0,9,     -999.0,9,     -999.0,9,     -999.0,9,     -999.0,9,     -999.0,9,     -999.0,9,     -999.0,1,     -999.0,1,     -999.0,1,67.89173107,2,    17.2889,2,-83.18068276,43.45334442,2,     -999.0
320620170820,        P06,     162,          1,         32,         32,2,20170902,       1528,   -32.4998,  -133.2440,       4356,    76.0,  17.4605,  35.2726,2,  35.2714,2, 236.7736,2, 236.0965,2,     0.0,2,    0.00,2,    0.00,2,    0.05,2,   2.209,2,   1.323,2,   1.6670,2,  2051.5,2,  2314.0,2,   7.9738,2,    25.00, -999.00,9, -999.00,9, -999.00,    64.5,2,    4.30,2,     -999.0,1,  -999.0,9, 20170902,     1714, -32.4998,-133.2439,        0.0,1,      0.099,1,      4.649,1,      0.166,1,     -999.0,9,     -999.0,9,     -999.0,9,     -999.0,9,     -999.0,9,     -999.0,9,     -999.0,9,     -999.0,9,     -999.0,9,     -999.0,9,     -999.0,9,    17.4351,2,     -999.0,     -999.0,9,     -999.0
320620170820,        P06,     162,          1,         34,         34,2,20170902,       1528,   -32.4998,  -133.2440,       4356,    49.5,  17.4545,  35.2722,2,-999.0000,9, 229.7597,2,-999.0000,9,  -999.0,9, -999.00,9, -999.00,9, -999.00,9,-999.000,9,-999.000,9,-999.0000,9,  -999.0,9,  -999.0,9,-999.0000,9,  -999.00, -999.00,9, -999.00,9, -999.00,  -999.0,9, -999.00,9,     -999.0,9,  -999.0,9, 20170902,     1716, -32.4998,-133.2441,        0.0,1,      0.100,1,      4.650,1,      0.166,1,     -999.0,9,     -999.0,9,     -999.0,9,     -999.0,9,     -999.0,9,     -999.0,9,     -999.0,9,     -999.0,1,     -999.0,1,     -999.0,1,70.09070181,2,     -999.0,5,-83.18068276,46.50247167,2,     -999.0
320620170820,        P06,     162,          1,         33,         33,2,20170902,       1528,   -32.4998,  -133.2440,       4356,    49.2,  17.4545,  35.2722,2,  35.2708,2, 236.7739,2, 235.8789,2,     0.0,2,    0.00,2,    0.00,2,    0.05,2,   2.244,2,   1.328,2,   1.6790,2,  2050.8,2,  2314.4,2,   7.9737,2,    25.00, -999.00,9, -999.00,9, -999.00,    65.6,2,    3.60,2,     -999.0,1,  -999.0,9, 20170902,     1716, -32.4998,-133.2441,        0.0,1,      0.100,1,      4.650,1,      0.166,1,     -999.0,9,     -999.0,9,     -999.0,9,     -999.0,9,     -999.0,9,     -999.0,9,     -999.0,9,     -999.0,9,     -999.0,9,     -999.0,9,     -999.0,9,    17.4366,2,     -999.0,     -999.0,9,     -999.0
320620170820,        P06,     162,          1,         35,         35,2,20170902,       1528,   -32.4998,  -133.2440,       4356,    25.2,  17.4574,  35.2732,2,  35.2708,2, 236.7652,2, 236.2684,2,     0.0,2,    0.00,2,    0.00,2,    0.06,2,   2.219,2,   1.311,2,   1.7250,2,  2051.2,2,  2316.3,2,   7.9739,2,    25.00, -999.00,9, -999.00,9, -999.00,    60.6,2,    4.20,2,     -999.0,1,  -999.0,9, 20170902,     1718, -32.4998,-133.2440,        0.0,1,      0.099,1,      4.649,1,      0.167,1,     -999.0,9,     -999.0,9,     -999.0,9,     -999.0,9,     -999.0,9,     -999.0,9,     -999.0,9,     -999.0,9,     -999.0,9,     -999.0,9,     -999.0,9,    17.4326,2,     -999.0,     -999.0,9,     -999.0
320620170820,        P06,     162,          1,         36,         36,2,20170902,       1528,   -32.4998,  -133.2440,       4356,     8.2,  17.4572,  35.2732,2,  35.2708,2, 236.7652,2, 236.0646,2,     0.0,2,    0.00,2,    0.00,2,    0.06,2,   2.253,2,   1.323,2,   1.6630,2,  2053.2,6,  2313.6,2,   7.9726,2,    25.00,    0.73,2,   79.22,4,    5.28,    61.9,2,    4.00,2,     -999.0,1,  -999.0,9, 20170902,     1719, -32.4998,-133.2440,        0.0,1,      0.099,1,      4.642,1,      0.166,1,     -999.0,9,     -999.0,9,     -999.0,9,     -999.0,9,     -999.0,9,     -999.0,9,     -999.0,9,     -999.0,9,     -999.0,9,     -999.0,9,     -999.0,9,    17.4318,2,     -999.0,     -999.0,9,     -999.0