BOTTLE,20240211CCHSIOCBG
EXPOCODE,SECT_ID,STNNBR,CASTNO,SAMPNO,BTLNBR,BTLNBR_FLAG_W,DATE,TIME,LATITUDE,LONGITUDE,DEPTH,CTDPRS,CTDTMP,CTDSAL,CTDSAL_FLAG_W,SALNTY,SALNTY_FLAG_W,CTDOXY,CTDOXY_FLAG_W,OXYGEN,OXYGEN_FLAG_W,SILCAT,SILCAT_FLAG_W,NITRAT,NITRAT_FLAG_W,NITRIT,NITRIT_FLAG_W,PHSPHT,PHSPHT_FLAG_W,CFC-11,CFC-11_FLAG_W,CFC-12,CFC-12_FLAG_W,SF6,SF6_FLAG_W,TCARBN,TCARBN_FLAG_W,ALKALI,ALKALI_FLAG_W,PH_TOT,PH_TOT_FLAG_W,PH_TMP,DELC13,DELC13_FLAG_W,DELC14,DELC14_FLAG_W,C14ERR,DOC,DOC_FLAG_W,TDN,TDN_FLAG_W,TON,TON_FLAG_W,D15N_NO3,D15N_NO3_FLAG_W,BTL_DATE,BTL_TIME,BTL_LAT,BTL_LON,CTDRINKO,CTDRINKO_FLAG_W,CTDFLUOR,CTDFLUOR_FLAG_W,CTDXMISS,CTDXMISS_FLAG_W,CTDBACKSCATTER,CTDBACKSCATTER_FLAG_W,D18O_NO3,D18O_NO3_FLAG_W,DOP,DOP_FLAG_W,CELLCOUNT,CELLCOUNT_FLAG_W,TDP,TDP_FLAG_W,POP,POP_FLAG_W,DATP,DATP_FLAG_W,PATP,PATP_FLAG_W,HPLC,HPLC_FLAG_W,POC,POC_FLAG_W,BEAMAP,BEAMAP_FLAG_W,DOC_NASA,DOC_NASA_FLAG_W,REFTMP,REFTMP_FLAG_W,DOC_NASA_ERROR,TDN_NASA,TDN_NASA_FLAG_W,TDN_NASA_ERROR
,,,,,,,,,,,METERS,DBAR,ITS-90,PSS-78,,PSS-78,,UMOL/KG,,UMOL/KG,,UMOL/KG,,UMOL/KG,,UMOL/KG,,UMOL/KG,,PMOL/KG,,PMOL/KG,,FMOL/KG,,UMOL/KG,,UMOL/KG,,,,DEG C,/MILLE,,/MILLE,,/MILLE,UMOL/KG,,UMOL/KG,,UMOL/KG,,/MILLE,,,,,,VOLTS,,VOLTS,,VOLTS,,VOLTS,,/MILLE,,UMOL/KG,,/LITER,,UMOL/KG,,UMOL/L,,PMOL/L,,PMOL/L,,,,UG/L,,/METER,,UMOL/L,,ITS-90,,UMOL/L,UMOL/L,,UMOL/L
320620170820,        P06,     227,          1,          1,          1,2,20170923,       0957,   -32.4998,   -81.0854,       3992,  4048.0,   1.6638,  34.6950,2,  34.6950,2, 164.4709,2,   165.07,2,   123.6,2,   34.58,2,    0.00,2,    2.41,2,   0.020,2,   0.018,2,   0.0000,4,  2305.1,6,  2401.3,2,   7.5905,2,    25.00, -999.00,9, -999.00,9, -999.00,  -999.0,9, -999.00,9,     -999.0,9,  -999.0,9, 20170923,      957, -32.5000, -81.0854,        0.0,1,      0.061,1,      4.674,1,      0.147,1,     -999.0,9,     -999.0,9,     -999.0,9,     -999.0,9,     -999.0,9,     -999.0,9,     -999.0,9,     -999.0,9,     -999.0,9,     -999.0,9,     -999.0,9,     1.6643,2,     -999.0,     -999.0,9,     -999.0
320620170820,        P06,     227,          1,          2,          2,2,20170923,       0957,   -32.4998,   -81.0854,       3992,  3799.3,   1.6463,  34.6945,2,  34.6944,2, 164.0192,2, 164.2817,2,   123.6,2,   34.51,2,    0.00,2,    2.42,2,   0.015,2,   0.017,2,   0.0000,4,  -999.0,9,  -999.0,9,-999.0000,9,  -999.00, -999.00,9, -999.00,9, -999.00,  -999.0,9, -999.00,9,     -999.0,9,  -999.0,9, 20170923,     1003, -32.4999, -81.0854,        0.0,1,      0.063,1,      4.681,1,      0.130,1,     -999.0,9,     -999.0,9,     -999.0,9,     -999.0,9,     -999.0,9,     -999.0,9,     -999.0,9,     -999.0,9,     -999.0,9,     -999.0,9,     -999.0,9,     1.6457,2,     -999.0,     -999.0,9,     -999.0
320620170820,        P06,     227,          1,          3,          3,2,20170923,       0957,   -32.4998,   -81.0854,       3992,  3555.5,   1.6748,  34.6918,2,  34.6914,2, 163.8615,2, 163.0742,2,   123.4,2,   34.65,2,    0.00,2,    2.42,2,   0.019,2,   0.018,2,   0.0000,4,  2304.8,2,  2398.8,2,   7.5869,2,    25.00, -999.00,9, -999.00,9, -999.00,  -999.0,9, -999.00,9,     -999.0,9,  -999.0,9, 20170923,     1008, -32.4996, -81.0856,        0.0,1,      0.061,1,      4.683,1,      0.130,1,     -999.0,9,     -999.0,9,     -999.0,9,     -999.0,9,     -999.0,9,     -999.0,9,     -999.0,9,     -999.0,9,     -999.0,9,     -999.0,9,     -999.0,9,     1.6743,2,     -999.0,     -999.0,9,     -999.0
320620170820,        P06,     227,          1,          4,          4,2,20170923,       0957,   -32.4998,   -81.0854,       3992,  3248.0,   1.7584,  34.6850,2,  34.6849,2, 157.9934,2, 157.3756,2,   124.0,2,   35.04,2,    0.00,2,    2.46,2,   0.022,2,   0.022,2,   0.0000,4,  -999.0,9,  -999.0,9,-999.0000,9,  -999.00, -999.00,9, -999.00,9, -999.00,  -999.0,9, -999.00,9,     -999.0,9,  -999.0,9, 20170923,     1014, -32.4998, -81.0854,        0.0,1,      0.061,1,      4.682,1,      0.131,1,     -999.0,9,     -999.0,9,     -999.0,9,     -999.0,9,     -999.0,9,     -999.0,9,     -999.0,9,     -999.0,9,     -999.0,9,     -999.0,9,     -999.0,9,     1.7597,2,     -999.0,     -999.0,9,     -999.0
320620170820,        P06,     227,          1,          5,          5,2,20170923,       0957,   -32.4998,   -81.0854,       3992,  2956.3,   1.8284,  34.6773,2,  34.6773,2, 153.2206,2, 153.2853,2,   123.5,2,   35.29,2,    0.00,2,    2.47,2,   0.012,2,   0.015,2,   0.0000,4,  2309.1,2,  2399.0,2,   7.5739,2,    25.00, -999.00,9, -999.00,9, -999.00,  -999.0,9, -999.00,9,     -999.0,9,  -999.0,9, 20170923,     1019, -32.5003, -81.0853,        0.0,1,      0.061,1,      4.682,1,      0.133,1,     -999.0,9,     -999.0,9,     -999.0,9,     -999.0,9,     -999.0,9,     -999.0,9,     -999.0,9,     -999.0,9,     -999.0,9,     -999.0,9,     -999.0,9,     1.8260,2,     -999.0,     -999.0,9,     -999.0
320620170820,        P06,     227,          1,          6,          6,2,20170923,       0957,   -32.4998,   -81.0854,       3992,  2700.1,   1.8841,  34.6704,2,  34.6698,2, 150.2793,2, 150.4333,2,   122.0,2,   35.47,2,    0.00,2,    2.51,2,   0.015,2,   0.017,2,   0.0000,4,  -999.0,9,  -999.0,9,-999.0000,9,  -999.00, -999.00,9, -999.00,9, -999.00,  -999.0,9, -999.00,9,     -999.0,9,  -999.0,9, 20170923,     1024, -32.5003, -81.0854,        0.0,1,      0.062,1,      4.682,1,      0.135,1,     -999.0,9,     -999.0,9,     -999.0,9,     -999.0,9,     -999.0,9,     -999.0,9,     -999.0,9,     -999.0,9,     -999.0,9,     -999.0,9,     -999.0,9,     1.8861,2,     -999.0,     -999.0,9,     -999.0
320620170820,        P06,     227,          1,          7,          7,2,20170923,       0957,   -32.4998,   -81.0854,       3992,  2445.2,   1.9674,  34.6609,2,  34.6598,2,  145.464,2, 145.9202,2,   120.4,2,   35.83,2,    0.00,2,    2.53,2,   0.013,2,   0.017,2,   0.0000,4,  2307.7,2,  2394.8,2,   7.5598,2,    25.00, -999.00,9, -999.00,9, -999.00,  -999.0,9, -999.00,9,     -999.0,9,  -999.0,9, 20170923,     1030, -32.5000, -81.0854,        0.0,1,      0.061,1,      4.682,1,      0.136,1,     -999.0,9,     -999.0,9,     -999.0,9,     -999.0,9,     -999.0,9,     -999.0,9,     -999.0,9,     -999.0,9,     -999.0,9,     -999.0,9,     -999.0,9,     1.9744,2,     -999.0,     -999.0,9,     -999.0
320620170820,        P06,     227,          1,          8,          8,2,20170923,       0957,   -32.4998,   -81.0854,       3992,  2193.0,   2.1040,  34.6473,2,  34.6456,2,  138.634,2, 138.6046,2,   118.1,2,   36.40,2,    0.00,2,    2.59,2,   0.017,2,   0.017,2,   0.0000,4,  -999.0,9,  -999.0,9,-999.0000,9,  -999.00, -999.00,9, -999.00,9, -999.00,  -999.0,9, -999.00,9,     -999.0,9,  -999.0,9, 20170923,     1035, -32.4997, -81.0855,        0.0,1,      0.061,1,      4.682,1,      0.133,1,     -999.0,9,     -999.0,9,     -999.0,9,     -999.0,9,     -999.0,9,     -999.0,9,     -999.0,9,     -999.0,9,     -999.0,9,     -999.0,9,     -999.0,9,     2.1156,2,     -999.0,     -999.0,9,     -999.0
320620170820,        P06,     227,          1,          9,          9,2,20170923,       0957,   -32.4998,   -81.0854,       3992,  1958.1,   2.2868,  34.6306,2,  34.6297,2, 131.1307,2,  131.694,2,   114.6,2,   36.98,2,    0.00,2,    2.63,2,   0.017,2,   0.018,2,   0.0000,4,  2311.5,2,  2386.2,2,   7.5338,2,    25.00, -999.00,9, -999.00,9, -999.00,  -999.0,9, -999.00,9,     -999.0,9,  -999.0,9, 20170923,     1040, -32.4998, -81.0855,        0.0,1,      0.062,1,      4.681,1,      0.155,1,     -999.0,9,     -999.0,9,     -999.0,9,     -999.0,9,     -999.0,9,     -999.0,9,     -999.0,9,     -999.0,9,     -999.0,9,     -999.0,9,     -999.0,9,     2.2839,2,     -999.0,     -999.0,9,     -999.0
320620170820,        P06,     227,          1,         10,         10,2,20170923,       0957,   -32.4998,   -81.0854,       3992,  1784.3,   2.4727,  34.6134,2,  34.6134,2, 125.9262,2, 126.2648,2,   110.2,2,   37.46,2,    0.00,2,    2.66,2,   0.016,2,   0.021,2,   0.0000,4,  -999.0,9,  -999.0,9,-999.0000,9,  -999.00, -999.00,9, -999.00,9, -999.00,  -999.0,9, -999.00,9,     -999.0,9,  -999.0,9, 20170923,     1044, -32.5000, -81.0854,        0.0,1,      0.063,1,      4.681,1,      0.137,1,     -999.0,9,     -999.0,9,     -999.0,9,     -999.0,9,     -999.0,9,     -999.0,9,     -999.0,9,     -999.0,9,     -999.0,9,     -999.0,9,     -999.0,9,     2.4610,2,     -999.0,     -999.0,9,     -999.0
320620170820,        P06,     227,          1,         11,         11,2,20170923,       0957,   -32.4998,   -81.0854,       3992,  1683.0,   2.5967,  34.6026,2,  34.6018,2, 122.3681,2, 122.2397,2,   106.4,2,   37.89,2,    0.00,2,    2.67,2,   0.017,2,   0.021,2,   0.0000,4,  2308.5,2,  2377.9,2,   7.5154,2,    25.00, -999.00,9, -999.00,9, -999.00,  -999.0,9, -999.00,9,     -999.0,9,  -999.0,9, 20170923,     1046, -32.4999, -81.0854,        0.0,1,      0.062,1,      4.681,1,      0.137,1,     -999.0,9,     -999.0,9,     -999.0,9,     -999.0,9,     -999.0,9,     -999.0,9,     -999.0,9,     -999.0,9,     -999.0,9,     -999.0,9,     -999.0,9,     2.5962,2,     -999.0,     -999.0,9,     -999.0
320620170820,        P06,     227,          1,         12,         12,2,20170923,       0957,   -32.4998,   -81.0854,       3992,  1581.4,   2.7417,  34.5893,2,  34.5895,2, 118.6912,2, 118.8014,2,   102.7,2,   38.28,2,    0.00,2,    2.70,2,   0.015,2,   0.019,2,   0.0000,4,  2305.8,2,  2373.4,2,   7.5082,2,    25.00, -999.00,9, -999.00,9, -999.00,  -999.0,9, -999.00,9,     -999.0,9,  -999.0,9, 20170923,     1049, -32.4998, -81.0855,        0.0,1,      0.062,1,      4.681,1,      0.139,1,     -999.0,9,     -999.0,9,     -999.0,9,     -999.0,9,     -999.0,9,     -999.0,9,     -999.0,9,     -999.0,9,     -999.0,9,     -999.0,9,     -999.0,9,     2.7310,2,     -999.0,     -999.0,9,     -999.0
320620170820,        P06,     227,          1,         13,         13,2,20170923,       0957,   -32.4998,   -81.0854,       3992,  1478.5,   2.9133,  34.5740,2,  34.5753,2, 115.5555,2, 115.4563,2,    98.6,2,   38.58,2,    0.00,2,    2.73,2,   0.016,2,   0.015,2,   0.0000,4,  2303.7,2,  2368.5,6,   7.5028,2,    25.00, -999.00,9, -999.00,9, -999.00,  -999.0,9, -999.00,9,     -999.0,9,  -999.0,9, 20170923,     1052, -32.4997, -81.0855,        0.0,1,      0.063,1,      4.681,1,      0.141,1,     -999.0,9,     -999.0,9,     -999.0,9,     -999.0,9,     -999.0,9,     -999.0,9,     -999.0,9,     -999.0,9,     -999.0,9,     -999.0,9,     -999.0,9,     2.8922,2,     -999.0,     -999.0,9,     -999.0
320620170820,        P06,     227,          1,         14,         14,2,20170923,       0957,   -32.4998,   -81.0854,       3992,  1379.7,   3.0814,  34.5565,2,  34.5547,2, 112.8413,2, 111.8173,2,    93.4,2,   38.90,2,    0.00,2,    2.76,2,   0.015,2,   0.019,2,   0.0000,4,  2300.7,2,  2361.7,2,   7.4934,6,    25.00, -999.00,9, -999.00,9, -999.00,  -999.0,9, -999.00,9,     -999.0,9,  -999.0,9, 20170923,     1054, -32.4998, -81.0855,        0.0,1,      0.062,1,      4.680,1,      0.139,1,     -999.0,9,     -999.0,9,     -999.0,9,     -999.0,9,     -999.0,9,     -999.0,9,     -999.0,9,     -999.0,9,     -999.0,9,     -999.0,9,     -999.0,9,     3.0571,2,     -999.0,     -999.0,9,     -999.0
320620170820,        P06,     227,          1,         15,         15,2,20170923,       0957,   -32.4998,   -81.0854,       3992,  1277.0,   3.2636,  34.5366,2,  34.5360,2, 110.0429,2, 109.4221,2,    86.6,2,   39.19,2,    0.00,2,    2.77,2,   0.011,2,   0.019,2,   0.0000,4,  2297.6,6,  2356.4,2,   7.4864,2,    25.00, -999.00,9, -999.00,9, -999.00,  -999.0,9, -999.00,9,     -999.0,9,  -999.0,9, 20170923,     1057, -32.5000, -81.0854,        0.0,1,      0.063,1,      4.680,1,      0.140,1,     -999.0,9,     -999.0,9,     -999.0,9,     -999.0,9,     -999.0,9,     -999.0,9,     -999.0,9,     -999.0,9,     -999.0,9,     -999.0,9,     -999.0,9,     3.2609,2,     -999.0,     -999.0,9,     -999.0
320620170820,        P06,     227,          1,         16,         16,2,20170923,       0957,   -32.4998,   -81.0854,       3992,  1175.0,   3.4599,  34.5066,2,  34.5113,2, 109.8092,2, 109.0532,2,    79.6,2,   39.26,2,    0.00,2,    2.77,2,   0.032,2,   0.029,2,   0.0000,4,  2288.8,2,  2348.8,2,   7.4817,2,    25.00, -999.00,9, -999.00,9, -999.00,  -999.0,9, -999.00,9,     -999.0,9,  -999.0,9, 20170923,     1100, -32.5000, -81.0854,        0.0,1,      0.062,1,      4.680,1,      0.142,1,     -999.0,9,     -999.0,9,     -999.0,9,     -999.0,9,     -999.0,9,     -999.0,9,     -999.0,9,     -999.0,9,     -999.0,9,     -999.0,9,     -999.0,9,     3.4322,2,     -999.0,     -999.0,9,     -999.0
320620170820,        P06,     227,          1,         17,         17,2,20170923,       0957,   -32.4998,   -81.0854,       3992,  1074.5,   3.6414,  34.4677,2,  34.4714,2, 114.8699,2,  115.474,2,    69.5,2,   38.92,2,    0.00,2,    2.75,2,   0.061,2,   0.038,2,   0.0000,4,  2278.6,2,  2335.1,2,   7.4856,2,    25.00, -999.00,9, -999.00,9, -999.00,  -999.0,9, -999.00,9,     -999.0,9,  -999.0,9, 20170923,     1102, -32.5000, -81.0854,        0.0,1,      0.062,1,      4.680,1,      0.141,1,     -999.0,9,     -999.0,9,     -999.0,9,     -999.0,9,     -999.0,9,     -999.0,9,     -999.0,9,     -999.0,9,     -999.0,9,     -999.0,9,     -999.0,9,     3.6225,2,     -999.0,     -999.0,9,     -999.0
320620170820,        P06,     227,          1,         18,         18,2,20170923,       0957,   -32.4998,   -81.0854,       3992,   974.3,   3.8662,  34.4179,2,  34.4153,2, 130.5196,2, 131.0537,2,    55.9,2,   37.74,2,    0.00,2,    2.64,2,   0.222,2,   0.104,2,   0.0000,4,  2256.6,2,  2320.0,2,   7.5036,2,    25.00, -999.00,9, -999.00,9, -999.00,  -999.0,9, -999.00,9,     -999.0,9,  -999.0,9, 20170923,     1105, -32.5001, -81.0854,        0.0,1,      0.062,1,      4.680,1,      0.144,1,     -999.0,9,     -999.0,9,     -999.0,9,     -999.0,9,     -999.0,9,     -999.0,9,     -999.0,9,     -999.0,9,     -999.0,9,     -999.0,9,     -999.0,9,     3.8700,2,     -999.0,     -999.0,9,     -999.0
320620170820,        P06,     227,          1,         19,         19,2,20170923,       0957,   -32.4998,   -81.0854,       3992,   872.8,   4.1947,  34.3676,2,  34.3682,2, 147.9346,2, 148.1447,2,    43.9,2,   36.17,2,    0.00,2,    2.52,2,   0.572,2,   0.220,2,   0.0000,4,  2237.7,2,  2306.3,2,   7.5277,2,    25.00, -999.00,9, -999.00,9, -999.00,  -999.0,9, -999.00,9,     -999.0,9,  -999.0,9, 20170923,     1108, -32.5001, -81.0855,        0.0,1,      0.062,1,      4.679,1,      0.143,1,     -999.0,9,     -999.0,9,     -999.0,9,     -999.0,9,     -999.0,9,     -999.0,9,     -999.0,9,     -999.0,9,     -999.0,9,     -999.0,9,     -999.0,9,     4.1896,2,     -999.0,     -999.0,9,     -999.0
320620170820,        P06,     227,          1,         20,         20,2,20170923,       0957,   -32.4998,   -81.0854,       3992,   770.6,   4.6652,  34.3252,2,  34.3276,2, 164.7728,2, 165.0934,2,    32.6,2,   34.27,2,    0.00,2,    2.37,2,   1.153,2,   0.487,2,   0.0000,4,  2217.3,2,  2294.2,2,   7.5526,2,    25.00, -999.00,9, -999.00,9, -999.00,  -999.0,9, -999.00,9,     -999.0,9,  -999.0,9, 20170923,     1111, -32.5000, -81.0854,        0.0,1,      0.061,1,      4.680,1,      0.147,1,     -999.0,9,     -999.0,9,     -999.0,9,     -999.0,9,     -999.0,9,     -999.0,9,     -999.0,9,     -999.0,9,     -999.0,9,     -999.0,9,     -999.0,9,     4.6187,2,     -999.0,     -999.0,9,     -999.0
320620170820,        P06,     227,          1,         21,         21,2,20170923,       0957,   -32.4998,   -81.0854,       3992,   671.0,   5.1558,  34.2898,2,  34.2895,3, 189.0736,2, 188.3295,2,    21.3,2,   31.50,2,    0.00,2,    2.17,2,   2.144,2,   0.955,2,   0.2210,4,  2192.1,2,  2284.2,2,   7.5901,2,    25.00, -999.00,9, -999.00,9, -999.00,  -999.0,9, -999.00,9,     -999.0,9,  -999.0,9, 20170923,     1113, -32.4998, -81.0854,        0.0,1,      0.060,1,      4.680,1,      0.154,1,     -999.0,9,     -999.0,9,     -999.0,9,     -999.0,9,     -999.0,9,     -999.0,9,     -999.0,9,     -999.0,9,     -999.0,9,     -999.0,9,     -999.0,9,     5.1397,2,     -999.0,     -999.0,9,     -999.0
320620170820,        P06,     227,          1,         22,         22,2,20170923,       0957,   -32.4998,   -81.0854,       3992,   568.2,   5.7148,  34.2818,2,  34.2746,2,  205.017,2, 204.6351,2,    14.5,2,   29.14,2,    0.00,2,    1.98,2,   3.235,2,   1.411,2,   0.4790,4,  2178.0,2,  2277.8,2,   7.6158,2,    25.00, -999.00,9, -999.00,9, -999.00,  -999.0,9, -999.00,9,     -999.0,9,  -999.0,9, 20170923,     1116, -32.4997, -81.0855,        0.0,1,      0.060,1,      4.677,1,      0.150,1,     -999.0,9,     -999.0,9,     -999.0,9,     -999.0,9,     -999.0,9,     -999.0,9,     -999.0,9,     -999.0,9,     -999.0,9,     -999.0,9,     -999.0,9,     5.6257,2,     -999.0,     -999.0,9,     -999.0
320620170820,        P06,     227,          1,         23,         23,2,20170923,       0957,   -32.4998,   -81.0854,       3992,   489.1,   6.3493,  34.3168,2,  34.3013,2,  182.992,2, 183.1165,2,    13.8,2,   29.78,2,    0.00,2,    2.07,2,   3.322,2,   1.442,2,   0.6810,4,  2188.2,2,  2276.4,2,   7.5824,2,    25.00, -999.00,9, -999.00,9, -999.00,  -999.0,9, -999.00,9,     -999.0,9,  -999.0,9, 20170923,     1119, -32.4996, -81.0855,        0.0,1,      0.061,1,      4.674,1,      0.152,1,     -999.0,9,     -999.0,9,     -999.0,9,     -999.0,9,     -999.0,9,     -999.0,9,     -999.0,9,     -999.0,9,     -999.0,9,     -999.0,9,     -999.0,9,     6.2190,2,     -999.0,     -999.0,9,     -999.0
320620170820,        P06,     227,          1,         24,         24,2,20170923,       0957,   -32.4998,   -81.0854,       3992,   438.7,   6.8739,  34.3389,2,  34.3207,2, 157.9779,2, 160.9034,2,    13.8,2,   30.38,2,    0.00,2,    2.12,2,   3.193,2,   1.416,2,   0.6670,4,  2199.0,2,  2275.0,2,   7.5478,2,    25.00, -999.00,9, -999.00,9, -999.00,  -999.0,9, -999.00,9,     -999.0,9,  -999.0,9, 20170923,     1121, -32.4997, -81.0855,        0.0,1,      0.061,1,      4.673,1,      0.158,1,     -999.0,9,     -999.0,9,     -999.0,9,     -999.0,9,     -999.0,9,     -999.0,9,     -999.0,9,     -999.0,9,     -999.0,9,     -999.0,9,     -999.0,9,     6.6809,2,     -999.0,     -999.0,9,     -999.0
320620170820,        P06,     227,          1,         25,         25,2,20170923,       0957,   -32.4998,   -81.0854,       3992,   387.0,   7.3699,  34.3354,2,  34.3256,2, 140.6634,2, 142.5543,2,    13.7,2,   30.43,2,    0.00,2,    2.18,2,   3.070,2,   1.382,2,   0.6020,4,  2206.4,2,  2273.7,2,   7.5197,2,    25.00, -999.00,9, -999.00,9, -999.00,  -999.0,9, -999.00,9,     -999.0,9,  -999.0,9, 20170923,     1122, -32.4999, -81.0854,        0.0,1,      0.063,1,      4.673,1,      0.151,1,     -999.0,9,     -999.0,9,     -999.0,9,     -999.0,9,     -999.0,9,     -999.0,9,     -999.0,9,     -999.0,9,     -999.0,9,     -999.0,9,     -999.0,9,     7.2762,2,     -999.0,     -999.0,9,     -999.0
320620170820,        P06,     227,          1,         26,         26,2,20170923,       0957,   -32.4998,   -81.0854,       3992,   336.7,   8.1949,  34.3324,2,  34.3654,2, 122.3479,3, 108.8413,2,    14.9,2,   29.44,2,    0.00,2,    2.29,2,   2.586,2,   1.224,2,   0.6910,4,  2222.3,2,  2274.9,2,   7.4788,2,    25.00, -999.00,9, -999.00,9, -999.00,  -999.0,9, -999.00,9,     -999.0,9,  -999.0,9, 20170923,     1124, -32.5001, -81.0854,        0.0,1,      0.062,1,      4.671,1,      0.153,1,     -999.0,9,     -999.0,9,     -999.0,9,     -999.0,9,     -999.0,9,     -999.0,9,     -999.0,9,     -999.0,9,     -999.0,9,     -999.0,9,     -999.0,9,     8.2669,2,     -999.0,     -999.0,9,     -999.0