BOTTLE,20240211CCHSIOCBG
EXPOCODE,SECT_ID,STNNBR,CASTNO,SAMPNO,BTLNBR,BTLNBR_FLAG_W,DATE,TIME,LATITUDE,LONGITUDE,DEPTH,CTDPRS,CTDTMP,CTDSAL,CTDSAL_FLAG_W,SALNTY,SALNTY_FLAG_W,CTDOXY,CTDOXY_FLAG_W,OXYGEN,OXYGEN_FLAG_W,SILCAT,SILCAT_FLAG_W,NITRAT,NITRAT_FLAG_W,NITRIT,NITRIT_FLAG_W,PHSPHT,PHSPHT_FLAG_W,CFC-11,CFC-11_FLAG_W,CFC-12,CFC-12_FLAG_W,SF6,SF6_FLAG_W,TCARBN,TCARBN_FLAG_W,ALKALI,ALKALI_FLAG_W,PH_TOT,PH_TOT_FLAG_W,PH_TMP,DELC13,DELC13_FLAG_W,DELC14,DELC14_FLAG_W,C14ERR,DOC,DOC_FLAG_W,TDN,TDN_FLAG_W,TON,TON_FLAG_W,D15N_NO3,D15N_NO3_FLAG_W,BTL_DATE,BTL_TIME,BTL_LAT,BTL_LON,CTDRINKO,CTDRINKO_FLAG_W,CTDFLUOR,CTDFLUOR_FLAG_W,CTDXMISS,CTDXMISS_FLAG_W,CTDBACKSCATTER,CTDBACKSCATTER_FLAG_W,D18O_NO3,D18O_NO3_FLAG_W,DOP,DOP_FLAG_W,CELLCOUNT,CELLCOUNT_FLAG_W,TDP,TDP_FLAG_W,POP,POP_FLAG_W,DATP,DATP_FLAG_W,PATP,PATP_FLAG_W,HPLC,HPLC_FLAG_W,POC,POC_FLAG_W,BEAMAP,BEAMAP_FLAG_W,DOC_NASA,DOC_NASA_FLAG_W,REFTMP,REFTMP_FLAG_W,DOC_NASA_ERROR,TDN_NASA,TDN_NASA_FLAG_W,TDN_NASA_ERROR
,,,,,,,,,,,METERS,DBAR,ITS-90,PSS-78,,PSS-78,,UMOL/KG,,UMOL/KG,,UMOL/KG,,UMOL/KG,,UMOL/KG,,UMOL/KG,,PMOL/KG,,PMOL/KG,,FMOL/KG,,UMOL/KG,,UMOL/KG,,,,DEG C,/MILLE,,/MILLE,,/MILLE,UMOL/KG,,UMOL/KG,,UMOL/KG,,/MILLE,,,,,,VOLTS,,VOLTS,,VOLTS,,VOLTS,,/MILLE,,UMOL/KG,,/LITER,,UMOL/KG,,UMOL/L,,PMOL/L,,PMOL/L,,,,UG/L,,/METER,,UMOL/L,,ITS-90,,UMOL/L,UMOL/L,,UMOL/L
320620170820,        P06,     175,          3,          1,          1,2,20170906,       2120,   -32.4998,  -122.9993,       3378,  3415.9,   1.6602,  34.6794,2,  34.6783,2, 167.2771,2, 168.0888,2,   123.1,2,   34.50,2,    0.00,2,    2.41,2,   0.029,2,   0.018,2,   0.0000,2,  2298.3,6,  2394.3,2,   7.5912,2,    25.00, -999.00,9, -999.00,9, -999.00,  -999.0,9, -999.00,9,     -999.0,9,  -999.0,9, 20170906,     2120, -32.5003,-122.9988,        0.0,1,      0.061,1,      4.692,1,      0.125,1,     -999.0,9,     -999.0,9,     -999.0,9,     -999.0,9,     -999.0,9,     -999.0,9,     -999.0,9,     -999.0,9,     -999.0,9,     -999.0,9,     -999.0,9,     1.6604,2,     -999.0,     -999.0,9,     -999.0
320620170820,        P06,     175,          3,          2,          2,2,20170906,       2120,   -32.4998,  -122.9993,       3378,  3261.2,   1.6549,  34.6790,2,  34.6794,2, 167.2771,2, 167.8701,2,   123.0,2,   34.55,2,    0.00,2,    2.41,2,   0.035,2,   0.026,2,   0.0000,2,  -999.0,9,  -999.0,9,-999.0000,9,  -999.00, -999.00,9, -999.00,9, -999.00,  -999.0,9, -999.00,9,     -999.0,9,  -999.0,9, 20170906,     2125, -32.5001,-122.9989,        0.0,1,      0.061,1,      4.692,1,      0.125,1,     -999.0,9,     -999.0,9,     -999.0,9,     -999.0,9,     -999.0,9,     -999.0,9,     -999.0,9,     -999.0,9,     -999.0,9,     -999.0,9,     -999.0,9,     1.6558,2,     -999.0,     -999.0,9,     -999.0
320620170820,        P06,     175,          3,          3,          3,2,20170906,       2120,   -32.4998,  -122.9993,       3378,  3108.7,   1.6689,  34.6770,2,  34.6781,2, 167.0996,2, 166.5707,2,   122.8,2,   35.11,2,    0.00,2,    2.41,2,   0.031,2,   0.020,2,   0.0000,2,  2299.1,2,  2394.2,2,   7.5889,2,    25.00, -999.00,9, -999.00,9, -999.00,  -999.0,9, -999.00,9,     -999.0,9,  -999.0,9, 20170906,     2129, -32.5002,-122.9989,        0.0,1,      0.061,1,      4.693,1,      0.125,1,     -999.0,9,     -999.0,9,     -999.0,9,     -999.0,9,     -999.0,9,     -999.0,9,     -999.0,9,     -999.0,9,     -999.0,9,     -999.0,9,     -999.0,9,     1.6661,2,     -999.0,     -999.0,9,     -999.0
320620170820,        P06,     175,          3,          4,          4,2,20170906,       2120,   -32.4998,  -122.9993,       3378,  2905.3,   1.7101,  34.6726,2,  34.6734,2, 165.0474,2,  164.655,2,   122.5,2,   35.24,2,    0.00,2,    2.42,2,   0.035,2,   0.022,2,   0.0000,2,  -999.0,9,  -999.0,9,-999.0000,9,  -999.00, -999.00,9, -999.00,9, -999.00,  -999.0,9, -999.00,9,     -999.0,9,  -999.0,9, 20170906,     2135, -32.5004,-122.9987,        0.0,1,      0.061,1,      4.693,1,      0.126,1,     -999.0,9,     -999.0,9,     -999.0,9,     -999.0,9,     -999.0,9,     -999.0,9,     -999.0,9,     -999.0,9,     -999.0,9,     -999.0,9,     -999.0,9,     1.7048,2,     -999.0,     -999.0,9,     -999.0
320620170820,        P06,     175,          3,          5,          5,2,20170906,       2120,   -32.4998,  -122.9993,       3378,  2701.2,   1.7667,  34.6679,2,  34.6694,2, 162.6702,2, 161.8067,2,   121.4,2,   35.42,2,    0.00,2,    2.44,2,   0.030,2,   0.018,2,   0.0000,2,  2301.3,2,  2392.7,2,   7.5820,6,    25.00, -999.00,9, -999.00,9, -999.00,  -999.0,9, -999.00,9,     -999.0,9,  -999.0,9, 20170906,     2139, -32.5004,-122.9987,        0.0,1,      0.062,1,      4.693,1,      0.127,1,     -999.0,9,     -999.0,9,     -999.0,9,     -999.0,9,     -999.0,9,     -999.0,9,     -999.0,9,     -999.0,9,     -999.0,9,     -999.0,9,     -999.0,9,     1.7558,2,     -999.0,     -999.0,9,     -999.0
320620170820,        P06,     175,          3,          6,          6,2,20170906,       2120,   -32.4998,  -122.9993,       3378,  2496.4,   1.8438,  34.6611,2,  34.6622,2, 159.6734,2, 159.0488,2,   120.0,2,   35.54,2,    0.00,2,    2.46,2,   0.036,2,   0.021,2,   0.0000,2,  -999.0,9,  -999.0,9,-999.0000,9,  -999.00, -999.00,9, -999.00,9, -999.00,  -999.0,9, -999.00,9,     -999.0,9,  -999.0,9, 20170906,     2144, -32.5003,-122.9988,        0.0,1,      0.061,1,      4.694,1,      0.128,1,     -999.0,9,     -999.0,9,     -999.0,9,     -999.0,9,     -999.0,9,     -999.0,9,     -999.0,9,     -999.0,9,     -999.0,9,     -999.0,9,     -999.0,9,     1.8306,2,     -999.0,     -999.0,9,     -999.0
320620170820,        P06,     175,          3,          7,          7,2,20170906,       2120,   -32.4998,  -122.9993,       3378,  2292.4,   1.9393,  34.6518,2,  34.6527,2, 157.4616,2, 157.6231,2,   116.6,2,   35.61,2,    0.00,2,    2.46,2,   0.035,2,   0.022,2,   0.0000,2,  2298.4,6,  2388.6,6,   7.5759,2,    25.00, -999.00,9, -999.00,9, -999.00,  -999.0,9, -999.00,9,     -999.0,9,  -999.0,9, 20170906,     2149, -32.5003,-122.9988,        0.0,1,      0.061,1,      4.694,1,      0.127,1,     -999.0,9,     -999.0,9,     -999.0,9,     -999.0,9,     -999.0,9,     -999.0,9,     -999.0,9,     -999.0,9,     -999.0,9,     -999.0,9,     -999.0,9,     1.9349,2,     -999.0,     -999.0,9,     -999.0
320620170820,        P06,     175,          3,          8,          8,2,20170906,       2120,   -32.4998,  -122.9993,       3378,  2086.6,   2.0734,  34.6384,2,  34.6366,2, 156.3989,2, 156.5265,2,   110.4,2,   35.56,2,    0.00,2,    2.47,2,   0.040,2,   0.025,2,   0.0000,2,  -999.0,9,  -999.0,9,-999.0000,9,  -999.00, -999.00,9, -999.00,9, -999.00,  -999.0,9, -999.00,9,     -999.0,9,  -999.0,9, 20170906,     2154, -32.5003,-122.9988,        0.0,1,      0.061,1,      4.694,1,      0.128,1,     -999.0,9,     -999.0,9,     -999.0,9,     -999.0,9,     -999.0,9,     -999.0,9,     -999.0,9,     -999.0,9,     -999.0,9,     -999.0,9,     -999.0,9,     2.0852,2,     -999.0,     -999.0,9,     -999.0
320620170820,        P06,     175,          3,          9,          9,2,20170906,       2120,   -32.4998,  -122.9993,       3378,  1885.4,   2.2513,  34.6171,2,  34.6178,2, 156.9813,2, 157.1176,2,   102.7,2,   35.41,2,    0.00,2,    2.45,2,   0.052,2,   0.032,2,   0.0000,2,  2288.0,2,  2373.8,2,   7.5710,2,    25.00, -999.00,9, -999.00,9, -999.00,  -999.0,9, -999.00,9,     -999.0,9,  -999.0,9, 20170906,     2159, -32.5003,-122.9988,        0.0,1,      0.061,1,      4.694,1,      0.128,1,     -999.0,9,     -999.0,9,     -999.0,9,     -999.0,9,     -999.0,9,     -999.0,9,     -999.0,9,     -999.0,9,     -999.0,9,     -999.0,9,     -999.0,9,     2.2474,2,     -999.0,     -999.0,9,     -999.0
320620170820,        P06,     175,          3,         10,         10,2,20170906,       2120,   -32.4998,  -122.9993,       3378,  1752.5,   2.3868,  34.5936,2,  34.5920,2, 159.2413,2, 159.8007,2,    94.7,2,   35.30,2,    0.00,2,    2.44,2,   0.064,2,   0.050,2,   0.0000,2,  -999.0,9,  -999.0,9,-999.0000,9,  -999.00, -999.00,9, -999.00,9, -999.00,  -999.0,9, -999.00,9,     -999.0,9,  -999.0,9, 20170906,     2203, -32.5004,-122.9987,        0.0,1,      0.061,1,      4.694,1,      0.128,1,     -999.0,9,     -999.0,9,     -999.0,9,     -999.0,9,     -999.0,9,     -999.0,9,     -999.0,9,     -999.0,9,     -999.0,9,     -999.0,9,     -999.0,9,     2.3919,2,     -999.0,     -999.0,9,     -999.0
320620170820,        P06,     175,          3,         11,         11,2,20170906,       2120,   -32.4998,  -122.9993,       3378,  1652.6,   2.5004,  34.5733,2,  34.5714,2, 161.1063,2, 161.7958,2,    87.7,2,   35.18,2,    0.00,2,    2.43,2,   0.087,2,   0.054,2,   0.0000,2,  2271.6,2,  2356.0,2,   7.5676,2,    25.00, -999.00,9, -999.00,9, -999.00,  -999.0,9, -999.00,9,     -999.0,9,  -999.0,9, 20170906,     2206, -32.5006,-122.9986,        0.0,1,      0.061,1,      4.694,1,      0.126,1,     -999.0,9,     -999.0,9,     -999.0,9,     -999.0,9,     -999.0,9,     -999.0,9,     -999.0,9,     -999.0,9,     -999.0,9,     -999.0,9,     -999.0,9,     2.5085,2,     -999.0,     -999.0,9,     -999.0
320620170820,        P06,     175,          3,         12,         12,2,20170906,       2120,   -32.4998,  -122.9993,       3378,  1548.2,   2.6834,  34.5363,2,  34.5368,2, 164.0185,2, 163.9297,2,    79.7,2,   35.08,2,    0.00,2,    2.42,2,   0.132,2,   0.081,2,   0.0000,2,  -999.0,9,  -999.0,9,-999.0000,9,  -999.00, -999.00,9, -999.00,9, -999.00,  -999.0,9, -999.00,9,     -999.0,9,  -999.0,9, 20170906,     2210, -32.5006,-122.9986,        0.0,1,      0.061,1,      4.694,1,      0.129,1,     -999.0,9,     -999.0,9,     -999.0,9,     -999.0,9,     -999.0,9,     -999.0,9,     -999.0,9,     -999.0,9,     -999.0,9,     -999.0,9,     -999.0,9,     2.6802,2,     -999.0,     -999.0,9,     -999.0
320620170820,        P06,     175,          3,         13,         13,2,20170906,       2120,   -32.4998,  -122.9993,       3378,  1448.5,   2.8418,  34.5052,2,  34.5062,2,  166.182,2, 166.1781,2,    72.5,2,   35.05,2,    0.00,2,    2.40,2,   0.176,2,   0.104,2,   0.0000,2,  2257.2,2,  2337.4,2,   7.5666,2,    25.00, -999.00,9, -999.00,9, -999.00,  -999.0,9, -999.00,9,     -999.0,9,  -999.0,9, 20170906,     2213, -32.5006,-122.9986,        0.0,1,      0.061,1,      4.694,1,      0.129,1,     -999.0,9,     -999.0,9,     -999.0,9,     -999.0,9,     -999.0,9,     -999.0,9,     -999.0,9,     -999.0,9,     -999.0,9,     -999.0,9,     -999.0,9,     2.8394,2,     -999.0,     -999.0,9,     -999.0
320620170820,        P06,     175,          3,         14,         14,2,20170906,       2120,   -32.4998,  -122.9993,       3378,  1245.3,   3.3472,  34.4209,2,  34.4149,2, 173.2357,2, 173.0787,2,    54.6,2,   34.64,2,    0.00,2,    2.37,2,   0.350,2,   0.208,2,   0.0000,2,  -999.0,9,  -999.0,9,-999.0000,9,  -999.00, -999.00,9, -999.00,9, -999.00,  -999.0,9, -999.00,9,     -999.0,9,  -999.0,9, 20170906,     2218, -32.5004,-122.9988,        0.0,1,      0.060,1,      4.695,1,      0.130,1,     -999.0,9,     -999.0,9,     -999.0,9,     -999.0,9,     -999.0,9,     -999.0,9,     -999.0,9,     -999.0,9,     -999.0,9,     -999.0,9,     -999.0,9,     3.3870,2,     -999.0,     -999.0,9,     -999.0
320620170820,        P06,     175,          3,         15,         15,2,20170906,       2120,   -32.4998,  -122.9993,       3378,  1044.5,   4.3318,  34.3225,2,  34.3211,2, 195.4598,2, 194.7101,2,    32.2,2,   32.04,2,    0.00,2,    2.17,2,   0.914,2,   0.467,2,   0.1154,2,  2201.0,2,  2296.8,2,   7.6100,2,    25.00, -999.00,9, -999.00,9, -999.00,  -999.0,9, -999.00,9,     -999.0,9,  -999.0,9, 20170906,     2223, -32.5002,-122.9990,        0.0,1,      0.060,1,      4.695,1,      0.129,1,     -999.0,9,     -999.0,9,     -999.0,9,     -999.0,9,     -999.0,9,     -999.0,9,     -999.0,9,     -999.0,9,     -999.0,9,     -999.0,9,     -999.0,9,     4.3309,2,     -999.0,     -999.0,9,     -999.0
320620170820,        P06,     175,          3,         16,         16,2,20170906,       2120,   -32.4998,  -122.9993,       3378,   941.6,   4.9502,  34.2921,2,  34.2907,2, 213.8721,2, 214.3509,2,    21.0,2,   29.34,2,    0.00,2,    1.99,2,   1.672,2,   0.854,2,   0.2247,2,  -999.0,9,  -999.0,9,-999.0000,9,  -999.00, -999.00,9, -999.00,9, -999.00,  -999.0,9, -999.00,9,     -999.0,9,  -999.0,9, 20170906,     2226, -32.5001,-122.9991,        0.0,1,      0.060,1,      4.694,1,      0.130,1,     -999.0,9,     -999.0,9,     -999.0,9,     -999.0,9,     -999.0,9,     -999.0,9,     -999.0,9,     -999.0,9,     -999.0,9,     -999.0,9,     -999.0,9,     4.9556,2,     -999.0,     -999.0,9,     -999.0
320620170820,        P06,     175,          3,         17,         17,2,20170906,       2120,   -32.4998,  -122.9993,       3378,   842.3,   5.4675,  34.2842,2,  34.2872,2, 229.9124,2, 230.3832,2,    13.8,2,   26.92,2,    0.00,2,    1.80,2,   2.446,2,   1.246,2,   0.5006,2,  2162.4,2,  2280.5,2,   7.6745,2,    25.00, -999.00,9, -999.00,9, -999.00,  -999.0,9, -999.00,9,     -999.0,9,  -999.0,9, 20170906,     2229, -32.5001,-122.9991,        0.0,1,      0.059,1,      4.694,1,      0.129,1,     -999.0,9,     -999.0,9,     -999.0,9,     -999.0,9,     -999.0,9,     -999.0,9,     -999.0,9,     -999.0,9,     -999.0,9,     -999.0,9,     -999.0,9,     5.5135,2,     -999.0,     -999.0,9,     -999.0
320620170820,        P06,     175,          3,         18,         18,2,20170906,       2120,   -32.4998,  -122.9993,       3378,   740.2,   6.0523,  34.2987,2,  34.2982,2, 239.9177,2, 240.0447,2,     9.7,2,   24.87,2,    0.00,2,    1.66,2,   3.177,2,   1.574,2,   0.7423,2,  -999.0,9,  -999.0,9,-999.0000,9,  -999.00, -999.00,9, -999.00,9, -999.00,  -999.0,9, -999.00,9,     -999.0,9,  -999.0,9, 20170906,     2233, -32.5000,-122.9991,        0.0,1,      0.058,1,      4.694,1,      0.129,1,     -999.0,9,     -999.0,9,     -999.0,9,     -999.0,9,     -999.0,9,     -999.0,9,     -999.0,9,     -999.0,9,     -999.0,9,     -999.0,9,     -999.0,9,     6.0476,2,     -999.0,     -999.0,9,     -999.0
320620170820,        P06,     175,          3,         19,         19,2,20170906,       2120,   -32.4998,  -122.9993,       3378,   639.6,   6.4489,  34.3193,2,  34.3197,2, 243.2952,2, 243.3442,2,     7.9,2,   23.51,2,    0.00,2,    1.57,2,   3.520,2,   1.794,2,   1.0112,2,  2147.0,2,  2277.7,2,   7.7025,2,    25.00, -999.00,9, -999.00,9, -999.00,  -999.0,9, -999.00,9,     -999.0,9,  -999.0,9, 20170906,     2236, -32.5000,-122.9991,        0.0,1,      0.059,1,      4.692,1,      0.131,1,     -999.0,9,     -999.0,9,     -999.0,9,     -999.0,9,     -999.0,9,     -999.0,9,     -999.0,9,     -999.0,9,     -999.0,9,     -999.0,9,     -999.0,9,     6.4680,2,     -999.0,     -999.0,9,     -999.0
320620170820,        P06,     175,          3,         20,         20,2,20170906,       2120,   -32.4998,  -122.9993,       3378,   537.9,   6.9977,  34.3440,2,  34.3454,2, 241.8822,2, 241.1957,2,     6.2,2,   22.00,2,    0.00,2,    1.50,2,   3.559,2,   1.921,2,   1.2038,2,  -999.0,9,  -999.0,9,-999.0000,9,  -999.00, -999.00,9, -999.00,9, -999.00,  -999.0,9, -999.00,9,     -999.0,9,  -999.0,9, 20170906,     2240, -32.5000,-122.9991,        0.0,1,      0.059,1,      4.691,1,      0.131,1,     -999.0,9,     -999.0,9,     -999.0,9,     -999.0,9,     -999.0,9,     -999.0,9,     -999.0,9,     -999.0,9,     -999.0,9,     -999.0,9,     -999.0,9,     7.0691,2,     -999.0,     -999.0,9,     -999.0
320620170820,        P06,     175,          3,         21,         21,2,20170906,       2120,   -32.4998,  -122.9993,       3378,   467.9,   7.7653,  34.3600,2,  34.3590,2, 232.8502,2,   232.87,2,     4.8,2,   20.47,2,    0.00,2,    1.40,2,   3.482,2,   1.889,2,   1.1927,2,  2140.9,2,  -999.0,9,   7.7135,2,    25.00, -999.00,9, -999.00,9, -999.00,  -999.0,9, -999.00,9,     -999.0,9,  -999.0,9, 20170906,     2243, -32.5000,-122.9991,        0.0,1,      0.059,1,      4.690,1,      0.129,1,     -999.0,9,     -999.0,9,     -999.0,9,     -999.0,9,     -999.0,9,     -999.0,9,     -999.0,9,     -999.0,9,     -999.0,9,     -999.0,9,     -999.0,9,     7.8396,2,     -999.0,     -999.0,9,     -999.0
320620170820,        P06,     175,          3,         22,         22,2,20170906,       2120,   -32.4998,  -122.9993,       3378,   416.1,   8.7545,  34.3949,2,  34.3837,2, 228.2238,2,  227.457,2,     3.9,2,   18.88,2,    0.00,2,    1.29,2,   3.349,2,   1.841,2,   1.1987,2,  -999.0,9,  -999.0,9,-999.0000,9,  -999.00, -999.00,9, -999.00,9, -999.00,  -999.0,9, -999.00,9,     -999.0,9,  -999.0,9, 20170906,     2245, -32.5000,-122.9991,        0.0,1,      0.060,1,      4.689,1,      0.130,1,     -999.0,9,     -999.0,9,     -999.0,9,     -999.0,9,     -999.0,9,     -999.0,9,     -999.0,9,     -999.0,9,     -999.0,9,     -999.0,9,     -999.0,9,     8.5410,2,     -999.0,     -999.0,9,     -999.0
320620170820,        P06,     175,          3,         23,         23,2,20170906,       2120,   -32.4998,  -122.9993,       3378,   315.3,  11.6562,  34.6053,2,  34.6030,2, 215.4356,2, 215.2934,2,     1.7,2,   11.45,2,    0.00,2,    0.84,2,   2.933,2,   1.682,2,   1.2790,2,  2111.3,2,  2283.4,2,   7.7993,2,    25.00, -999.00,9, -999.00,9, -999.00,  -999.0,9, -999.00,9,     -999.0,9,  -999.0,9, 20170906,     2249, -32.4999,-122.9992,        0.0,1,      0.059,1,      4.686,1,      0.133,1,     -999.0,9,     -999.0,9,     -999.0,9,     -999.0,9,     -999.0,9,     -999.0,9,     -999.0,9,     -999.0,9,     -999.0,9,     -999.0,9,     -999.0,9,    11.7428,2,     -999.0,     -999.0,9,     -999.0
320620170820,        P06,     175,          3,         24,         24,2,20170906,       2120,   -32.4998,  -122.9993,       3378,   265.3,  13.6405,  34.7970,2,  34.8007,2, 214.1078,2,  214.636,2,     0.9,2,    6.67,2,    0.00,2,    0.53,2,   2.611,2,   1.560,2,   1.4214,2,  -999.0,9,  -999.0,9,-999.0000,9,  -999.00, -999.00,9, -999.00,9, -999.00,  -999.0,9, -999.00,9,     -999.0,9,  -999.0,9, 20170906,     2251, -32.4999,-122.9992,        0.0,1,      0.063,1,      4.684,1,      0.131,1,     -999.0,9,     -999.0,9,     -999.0,9,     -999.0,9,     -999.0,9,     -999.0,9,     -999.0,9,     -999.0,9,     -999.0,9,     -999.0,9,     -999.0,9,    13.6880,2,     -999.0,     -999.0,9,     -999.0
320620170820,        P06,     175,          3,         25,         25,2,20170906,       2120,   -32.4998,  -122.9993,       3378,   212.7,  14.8497,  34.8758,2,  34.8888,2, 223.3253,2, 223.5731,2,     0.3,2,    2.53,2,    0.10,2,    0.30,2,   2.330,2,   1.474,2,   1.6271,2,  2077.7,2,  2294.9,2,   7.8954,2,    25.00, -999.00,9, -999.00,9, -999.00,  -999.0,9, -999.00,9,     -999.0,9,  -999.0,9, 20170906,     2254, -32.4998,-122.9993,        0.0,1,      0.081,1,      4.678,1,      0.138,1,     -999.0,9,     -999.0,9,     -999.0,9,     -999.0,9,     -999.0,9,     -999.0,9,     -999.0,9,     -999.0,9,     -999.0,9,     -999.0,9,     -999.0,9,    15.1765,2,     -999.0,     -999.0,9,     -999.0
320620170820,        P06,     175,          3,         26,         26,2,20170906,       2120,   -32.4998,  -122.9993,       3378,   183.2,  15.6010,  34.9257,2,  34.9752,2, 229.3151,2, 230.4209,2,     0.1,2,    0.53,2,    0.18,2,    0.18,2,   2.356,6,   1.425,6,   1.5639,6,  2065.5,2,  2301.7,2,   7.9260,2,    25.00, -999.00,9, -999.00,9, -999.00,  -999.0,9, -999.00,9,     -999.0,9,  -999.0,9, 20170906,     2256, -32.4998,-122.9993,        0.0,1,      0.119,1,      4.669,1,      0.142,1,     -999.0,9,     -999.0,9,     -999.0,9,     -999.0,9,     -999.0,9,     -999.0,9,     -999.0,9,     -999.0,9,     -999.0,9,     -999.0,9,     -999.0,9,    16.1923,2,     -999.0,     -999.0,9,     -999.0