BOTTLE,20240211CCHSIOCBG
EXPOCODE,SECT_ID,STNNBR,CASTNO,SAMPNO,BTLNBR,BTLNBR_FLAG_W,DATE,TIME,LATITUDE,LONGITUDE,DEPTH,CTDPRS,CTDTMP,CTDSAL,CTDSAL_FLAG_W,SALNTY,SALNTY_FLAG_W,CTDOXY,CTDOXY_FLAG_W,OXYGEN,OXYGEN_FLAG_W,SILCAT,SILCAT_FLAG_W,NITRAT,NITRAT_FLAG_W,NITRIT,NITRIT_FLAG_W,PHSPHT,PHSPHT_FLAG_W,CFC-11,CFC-11_FLAG_W,CFC-12,CFC-12_FLAG_W,SF6,SF6_FLAG_W,TCARBN,TCARBN_FLAG_W,ALKALI,ALKALI_FLAG_W,PH_TOT,PH_TOT_FLAG_W,PH_TMP,DELC13,DELC13_FLAG_W,DELC14,DELC14_FLAG_W,C14ERR,DOC,DOC_FLAG_W,TDN,TDN_FLAG_W,TON,TON_FLAG_W,D15N_NO3,D15N_NO3_FLAG_W,BTL_DATE,BTL_TIME,BTL_LAT,BTL_LON,CTDRINKO,CTDRINKO_FLAG_W,CTDFLUOR,CTDFLUOR_FLAG_W,CTDXMISS,CTDXMISS_FLAG_W,CTDBACKSCATTER,CTDBACKSCATTER_FLAG_W,D18O_NO3,D18O_NO3_FLAG_W,DOP,DOP_FLAG_W,CELLCOUNT,CELLCOUNT_FLAG_W,TDP,TDP_FLAG_W,POP,POP_FLAG_W,DATP,DATP_FLAG_W,PATP,PATP_FLAG_W,HPLC,HPLC_FLAG_W,POC,POC_FLAG_W,BEAMAP,BEAMAP_FLAG_W,DOC_NASA,DOC_NASA_FLAG_W,REFTMP,REFTMP_FLAG_W,DOC_NASA_ERROR,TDN_NASA,TDN_NASA_FLAG_W,TDN_NASA_ERROR
,,,,,,,,,,,METERS,DBAR,ITS-90,PSS-78,,PSS-78,,UMOL/KG,,UMOL/KG,,UMOL/KG,,UMOL/KG,,UMOL/KG,,UMOL/KG,,PMOL/KG,,PMOL/KG,,FMOL/KG,,UMOL/KG,,UMOL/KG,,,,DEG C,/MILLE,,/MILLE,,/MILLE,UMOL/KG,,UMOL/KG,,UMOL/KG,,/MILLE,,,,,,VOLTS,,VOLTS,,VOLTS,,VOLTS,,/MILLE,,UMOL/KG,,/LITER,,UMOL/KG,,UMOL/L,,PMOL/L,,PMOL/L,,,,UG/L,,/METER,,UMOL/L,,ITS-90,,UMOL/L,UMOL/L,,UMOL/L
320620170820,        P06,     189,          1,         27,         27,2,20170911,       0631,   -32.5006,  -111.7047,       2484,   149.7,  15.8991,  34.7991,2,  34.8928,2, 237.2437,2, 237.1287,2,     0.0,2,    0.08,2,    0.07,2,    0.10,2,   2.323,2,   1.397,2,   1.6110,2,  2054.5,2,  2295.5,2,   7.9423,2,    25.00, -999.00,9, -999.00,9, -999.00,  -999.0,9, -999.00,9,     -999.0,9,  -999.0,1, 20170911,      749, -32.5006,-111.7047,        0.0,1,      0.147,1,      4.657,1,      0.147,1,     -999.0,1,     -999.0,1,     -999.0,9,       0.36,2,     -999.0,9,     -999.0,9,     -999.0,9,     -999.0,9,     -999.0,9,     -999.0,9,     -999.0,9,    16.7385,2,     -999.0,     -999.0,9,     -999.0
320620170820,        P06,     189,          1,         28,         28,2,20170911,       0631,   -32.5006,  -111.7047,       2484,   124.9,  17.2395,  34.9564,2,  34.9551,2, 237.8366,2, 239.3379,2,     0.0,2,    0.00,2,    0.00,2,    0.06,2,-999.000,9,-999.000,9,-999.0000,9,  2045.5,2,  2299.4,2,   7.9624,2,    25.00, -999.00,9, -999.00,9, -999.00,  -999.0,9, -999.00,9,     -999.0,9,  -999.0,1, 20170911,      751, -32.5006,-111.7047,        0.0,1,      0.117,1,      4.646,1,      0.167,1,     -999.0,1,     -999.0,1,     -999.0,9,     -999.0,9,     -999.0,9,     -999.0,9,     -999.0,9,     -999.0,9,     -999.0,9,     -999.0,9,     -999.0,9,    17.2695,2,     -999.0,     -999.0,9,     -999.0
320620170820,        P06,     189,          1,         29,         29,2,20170911,       0631,   -32.5006,  -111.7047,       2484,    99.0,  17.3983,  34.9860,2,  34.9549,2, 237.2364,2, 239.7428,2,     0.0,2,    0.00,2,    0.00,2,    0.06,2,   2.142,2,   1.326,2,   1.6710,2,  2045.7,2,  2299.6,2,   7.9647,2,    25.00, -999.00,9, -999.00,9, -999.00,  -999.0,9, -999.00,9,     -999.0,9,  -999.0,1, 20170911,      753, -32.5006,-111.7047,        0.0,1,      0.094,1,      4.643,1,      0.163,1,     -999.0,1,     -999.0,1,     -999.0,9,       0.35,2,     -999.0,9,     -999.0,9,     -999.0,9,     -999.0,9,     -999.0,9,     -999.0,9,     -999.0,9,    17.3298,2,     -999.0,     -999.0,9,     -999.0
320620170820,        P06,     189,          1,         30,         30,2,20170911,       0631,   -32.5006,  -111.7047,       2484,    74.1,  17.3711,  34.9500,2,  34.9390,2, 236.9743,2, 239.9136,2,     0.0,2,    0.00,2,    0.00,2,    0.06,2,-999.000,9,-999.000,9,-999.0000,9,  2045.3,2,  2297.5,6,   7.9655,2,    25.00, -999.00,9, -999.00,9, -999.00,  -999.0,9, -999.00,9,     -999.0,9,  -999.0,1, 20170911,      755, -32.5006,-111.7047,        0.0,1,      0.078,1,      4.642,1,      0.162,1,     -999.0,1,     -999.0,1,     -999.0,9,     -999.0,9,     -999.0,9,     -999.0,9,     -999.0,9,     -999.0,9,     -999.0,9,     -999.0,9,     -999.0,9,    17.5393,2,     -999.0,     -999.0,9,     -999.0
320620170820,        P06,     189,          1,         31,         31,2,20170911,       0631,   -32.5006,  -111.7047,       2484,    49.2,  18.3792,  35.1242,2,  35.1219,2, 229.6482,2, 236.3916,2,     0.0,2,    0.00,2,    0.00,2,    0.06,2,   2.151,2,   1.288,2,   1.5880,2,  2048.5,2,  2309.6,2,   7.9758,6,    25.00, -999.00,9, -999.00,9, -999.00,  -999.0,9, -999.00,9,     -999.0,9,  -999.0,1, 20170911,      756, -32.5006,-111.7047,        0.0,1,      0.065,1,      4.655,1,      0.148,1,     -999.0,1,     -999.0,1,     -999.0,9,       0.37,2,     -999.0,9,     -999.0,9,     -999.0,9,     -999.0,9,     -999.0,9,     -999.0,9,     -999.0,9,    18.3945,2,     -999.0,     -999.0,9,     -999.0
320620170820,        P06,     189,          1,         32,         32,2,20170911,       0631,   -32.5006,  -111.7047,       2484,     6.6,  18.3789,  35.1261,2,  35.1252,2, 229.5683,2, 236.4214,2,     0.0,2,    0.00,2,    0.00,2,    0.06,2,   2.152,2,   1.284,2,   1.6240,2,  2047.9,6,  2311.0,2,   7.9745,2,    25.00,    0.91,2,   46.74,2,    4.62,  -999.0,9, -999.00,9,     -999.0,9,  -999.0,1, 20170911,      759, -32.5006,-111.7047,        0.0,1,      0.066,1,      4.655,1,      0.148,1,     -999.0,1,     -999.0,1,     -999.0,9,       0.39,2,     -999.0,9,     -999.0,9,     -999.0,9,     -999.0,9,     -999.0,9,     -999.0,9,     -999.0,9,    18.3997,2,     -999.0,     -999.0,9,     -999.0