BOTTLE,20240211CCHSIOCBG
EXPOCODE,SECT_ID,STNNBR,CASTNO,SAMPNO,BTLNBR,BTLNBR_FLAG_W,DATE,TIME,LATITUDE,LONGITUDE,DEPTH,CTDPRS,CTDTMP,CTDSAL,CTDSAL_FLAG_W,SALNTY,SALNTY_FLAG_W,CTDOXY,CTDOXY_FLAG_W,OXYGEN,OXYGEN_FLAG_W,SILCAT,SILCAT_FLAG_W,NITRAT,NITRAT_FLAG_W,NITRIT,NITRIT_FLAG_W,PHSPHT,PHSPHT_FLAG_W,CFC-11,CFC-11_FLAG_W,CFC-12,CFC-12_FLAG_W,SF6,SF6_FLAG_W,TCARBN,TCARBN_FLAG_W,ALKALI,ALKALI_FLAG_W,PH_TOT,PH_TOT_FLAG_W,PH_TMP,DELC13,DELC13_FLAG_W,DELC14,DELC14_FLAG_W,C14ERR,DOC,DOC_FLAG_W,TDN,TDN_FLAG_W,TON,TON_FLAG_W,D15N_NO3,D15N_NO3_FLAG_W,BTL_DATE,BTL_TIME,BTL_LAT,BTL_LON,CTDRINKO,CTDRINKO_FLAG_W,CTDFLUOR,CTDFLUOR_FLAG_W,CTDXMISS,CTDXMISS_FLAG_W,CTDBACKSCATTER,CTDBACKSCATTER_FLAG_W,D18O_NO3,D18O_NO3_FLAG_W,DOP,DOP_FLAG_W,CELLCOUNT,CELLCOUNT_FLAG_W,TDP,TDP_FLAG_W,POP,POP_FLAG_W,DATP,DATP_FLAG_W,PATP,PATP_FLAG_W,HPLC,HPLC_FLAG_W,POC,POC_FLAG_W,BEAMAP,BEAMAP_FLAG_W,DOC_NASA,DOC_NASA_FLAG_W,REFTMP,REFTMP_FLAG_W,DOC_NASA_ERROR,TDN_NASA,TDN_NASA_FLAG_W,TDN_NASA_ERROR
,,,,,,,,,,,METERS,DBAR,ITS-90,PSS-78,,PSS-78,,UMOL/KG,,UMOL/KG,,UMOL/KG,,UMOL/KG,,UMOL/KG,,UMOL/KG,,PMOL/KG,,PMOL/KG,,FMOL/KG,,UMOL/KG,,UMOL/KG,,,,DEG C,/MILLE,,/MILLE,,/MILLE,UMOL/KG,,UMOL/KG,,UMOL/KG,,/MILLE,,,,,,VOLTS,,VOLTS,,VOLTS,,VOLTS,,/MILLE,,UMOL/KG,,/LITER,,UMOL/KG,,UMOL/L,,PMOL/L,,PMOL/L,,,,UG/L,,/METER,,UMOL/L,,ITS-90,,UMOL/L,UMOL/L,,UMOL/L
320620170820,        P06,     231,          3,         27,         27,2,20170924,       1848,   -32.5002,   -77.5253,       4233,   152.8,  12.1038,  34.0816,2,  34.0709,2, 207.6806,2, 208.4738,2,     1.4,2,   14.84,2,    0.03,2,    1.14,2,   2.836,2,   1.619,2,   1.3540,4,  2110.3,2,  2258.5,2,   7.7582,2,    25.00, -999.00,9, -999.00,9, -999.00,  -999.0,9, -999.00,9,     -999.0,9,  -999.0,1, 20170924,     2031, -32.5002, -77.5253,        0.0,1,      0.070,1,      4.655,1,      0.172,1,     -999.0,1,     -999.0,1,     -999.0,9,       1.23,2,     -999.0,9,     -999.0,9,     -999.0,9,     -999.0,9,     -999.0,9,     -999.0,9,     -999.0,9,    12.1770,2,     -999.0,     -999.0,9,     -999.0
320620170820,        P06,     231,          3,         28,         28,2,20170924,       1848,   -32.5002,   -77.5253,       4233,   126.7,  14.6460,  34.3742,2,  34.3743,2, 252.8705,2, 252.7432,2,     0.0,2,    2.19,2,    0.08,2,    0.42,2,   2.424,2,   1.422,2,   1.3830,4,  2059.4,2,  2282.6,2,   7.9177,2,    25.00, -999.00,9, -999.00,9, -999.00,  -999.0,9, -999.00,9,     -999.0,9,  -999.0,1, 20170924,     2033, -32.5002, -77.5254,        0.0,1,      0.145,1,      4.630,1,      0.177,1,     -999.0,1,     -999.0,1,     -999.0,9,       0.56,2,     -999.0,9,     -999.0,9,     -999.0,9,     -999.0,9,     -999.0,9,     -999.0,9,     -999.0,9,    14.6393,2,     -999.0,     -999.0,9,     -999.0
320620170820,        P06,     231,          3,         29,         29,2,20170924,       1848,   -32.5002,   -77.5253,       4233,   100.6,  14.6608,  34.3752,2,  34.3755,2, 253.5848,2, 253.6278,2,     0.0,2,    2.14,2,    0.08,2,    0.42,2,   2.529,2,   1.403,2,   1.5030,4,  2058.2,2,  2282.2,2,   7.9188,2,    25.00, -999.00,9, -999.00,9, -999.00,  -999.0,9, -999.00,9,     -999.0,9,  -999.0,1, 20170924,     2035, -32.5002, -77.5255,        0.0,1,      0.179,1,      4.618,1,      0.197,1,     -999.0,1,     -999.0,1,     -999.0,9,       0.61,2,     -999.0,9,     -999.0,9,     -999.0,9,     -999.0,9,     -999.0,9,     -999.0,9,     -999.0,9,    14.6553,2,     -999.0,     -999.0,9,     -999.0
320620170820,        P06,     231,          3,         31,         31,2,20170924,       1848,   -32.5002,   -77.5253,       4233,    74.4,  14.6647,  34.3750,2,-999.0000,9, 245.4205,2,-999.0000,9,  -999.0,9, -999.00,9, -999.00,9, -999.00,9,-999.000,9,-999.000,9,-999.0000,9,  -999.0,9,  -999.0,9,-999.0000,9,  -999.00, -999.00,9, -999.00,9, -999.00,  -999.0,9, -999.00,9,     -999.0,9,  -999.0,9, 20170924,     2037, -32.5002, -77.5255,        0.0,1,      0.219,1,      4.600,1,      0.199,1,     -999.0,9,     -999.0,9,     -999.0,9,     -999.0,9,     -999.0,9,     -999.0,9,     -999.0,9,     -999.0,1,     -999.0,1,     -999.0,1,75.49993376,2,    14.6794,2,-83.18068276,71.83805088,2,     -999.0
320620170820,        P06,     231,          3,         32,         32,2,20170924,       1848,   -32.5002,   -77.5253,       4233,    74.2,  14.6647,  34.3750,2,  34.3778,2, 253.6468,2, 253.9701,2,     0.0,2,    2.13,2,    0.08,2,    0.41,2,   2.427,2,   1.437,2,   1.4810,4,  2058.0,2,  2283.1,2,   7.9207,2,    25.00, -999.00,9, -999.00,9, -999.00,  -999.0,9, -999.00,9,     -999.0,9,  -999.0,1, 20170924,     2038, -32.5002, -77.5255,        0.0,1,      0.219,1,      4.600,1,      0.199,1,     -999.0,1,     -999.0,1,     -999.0,9,       0.54,2,     -999.0,9,     -999.0,9,     -999.0,9,     -999.0,9,     -999.0,9,     -999.0,9,     -999.0,9,    14.6817,2,     -999.0,     -999.0,9,     -999.0
320620170820,        P06,     231,          3,         30,         30,2,20170924,       1848,   -32.5002,   -77.5253,       4233,    74.2,  14.6647,  34.3750,2,-999.0000,9, 245.3533,2,-999.0000,9,  -999.0,9, -999.00,9, -999.00,9, -999.00,9,-999.000,9,-999.000,9,-999.0000,9,  -999.0,9,  -999.0,9,-999.0000,9,  -999.00, -999.00,9, -999.00,9, -999.00,  -999.0,9, -999.00,9,     -999.0,9,  -999.0,9, 20170924,     2036, -32.5002, -77.5255,        0.0,1,      0.219,1,      4.600,1,      0.199,1,     -999.0,9,     -999.0,9,     -999.0,9,     -999.0,9,     -999.0,9,     -999.0,9,     -999.0,9,     -999.0,1,     -999.0,1,     -999.0,1,75.49993376,2,    14.6784,2,-83.18068276,71.83805088,2,     -999.0
320620170820,        P06,     231,          3,         33,         33,2,20170924,       1848,   -32.5002,   -77.5253,       4233,    49.7,  14.6818,  34.3771,2,  34.3802,2, 254.6105,2, 254.4474,2,     0.0,2,    2.11,2,    0.08,2,    0.43,2,   2.439,2,   1.407,2,   1.6510,4,  2055.9,2,  2280.9,2,   7.9208,6,    25.00, -999.00,9, -999.00,9, -999.00,  -999.0,9, -999.00,9,     -999.0,9,  -999.0,1, 20170924,     2039, -32.5002, -77.5254,        0.0,1,      0.187,1,      4.591,1,      0.192,1,     -999.0,1,     -999.0,1,     -999.0,9,       0.53,2,     -999.0,9,     -999.0,9,     -999.0,9,     -999.0,9,     -999.0,9,     -999.0,9,     -999.0,9,    14.6889,2,     -999.0,     -999.0,9,     -999.0
320620170820,        P06,     231,          3,         35,         35,2,20170924,       1848,   -32.5002,   -77.5253,       4233,    25.6,  14.6928,  34.3781,2,  34.3790,2, 255.6673,2, 254.2395,2,     0.0,2,    2.11,2,    0.08,2,    0.43,2,   2.329,2,   1.400,2,   1.4590,4,  2057.0,2,  2282.1,2,   7.9214,2,    25.00, -999.00,9, -999.00,9, -999.00,  -999.0,9, -999.00,9,     -999.0,9,  -999.0,1, 20170924,     2042, -32.5002, -77.5253,        0.0,1,      0.127,1,      4.589,1,      0.191,1,     -999.0,1,     -999.0,1,     -999.0,9,       0.53,2,     -999.0,9,     -999.0,9,     -999.0,9,     -999.0,9,     -999.0,9,     -999.0,9,     -999.0,9,    14.7211,2,     -999.0,     -999.0,9,     -999.0
320620170820,        P06,     231,          3,         34,         34,2,20170924,       1848,   -32.5002,   -77.5253,       4233,    24.8,  14.6928,  34.3781,2,-999.0000,9, 246.3537,2,-999.0000,9,  -999.0,9, -999.00,9, -999.00,9, -999.00,9,-999.000,9,-999.000,9,-999.0000,9,  -999.0,9,  -999.0,9,-999.0000,9,  -999.00, -999.00,9, -999.00,9, -999.00,  -999.0,9, -999.00,9,     -999.0,9,  -999.0,9, 20170924,     2041, -32.5002, -77.5253,        0.0,1,      0.127,1,      4.589,1,      0.191,1,     -999.0,9,     -999.0,9,     -999.0,9,     -999.0,9,     -999.0,9,     -999.0,9,     -999.0,9,     -999.0,1,     -999.0,1,     -999.0,1,71.01435916,6,    14.7369,2,4.755022773,93.63430073,6,19.42369039
320620170820,        P06,     231,          3,         36,         36,2,20170924,       1848,   -32.5002,   -77.5253,       4233,     5.7,  14.7317,  34.3778,2,  34.3798,2, 255.9529,2, 254.2973,2,     0.0,2,    2.10,2,    0.08,2,    0.45,2,   2.440,2,   1.424,2,   1.6090,4,  2058.2,6,  2282.3,2,   7.9214,2,    25.00, -999.00,9, -999.00,9, -999.00,  -999.0,9, -999.00,9,     -999.0,9,  -999.0,1, 20170924,     2043, -32.5002, -77.5253,        0.0,1,      0.092,1,      4.591,1,      0.185,1,     -999.0,1,     -999.0,1,     -999.0,9,       0.54,2,     -999.0,9,     -999.0,9,     -999.0,9,     -999.0,9,     -999.0,9,     -999.0,9,     -999.0,9,    14.7428,2,     -999.0,     -999.0,9,     -999.0