BOTTLE,20240211CCHSIOCBG
EXPOCODE,SECT_ID,STNNBR,CASTNO,SAMPNO,BTLNBR,BTLNBR_FLAG_W,DATE,TIME,LATITUDE,LONGITUDE,DEPTH,CTDPRS,CTDTMP,CTDSAL,CTDSAL_FLAG_W,SALNTY,SALNTY_FLAG_W,CTDOXY,CTDOXY_FLAG_W,OXYGEN,OXYGEN_FLAG_W,SILCAT,SILCAT_FLAG_W,NITRAT,NITRAT_FLAG_W,NITRIT,NITRIT_FLAG_W,PHSPHT,PHSPHT_FLAG_W,CFC-11,CFC-11_FLAG_W,CFC-12,CFC-12_FLAG_W,SF6,SF6_FLAG_W,TCARBN,TCARBN_FLAG_W,ALKALI,ALKALI_FLAG_W,PH_TOT,PH_TOT_FLAG_W,PH_TMP,DELC13,DELC13_FLAG_W,DELC14,DELC14_FLAG_W,C14ERR,DOC,DOC_FLAG_W,TDN,TDN_FLAG_W,TON,TON_FLAG_W,D15N_NO3,D15N_NO3_FLAG_W,BTL_DATE,BTL_TIME,BTL_LAT,BTL_LON,CTDRINKO,CTDRINKO_FLAG_W,CTDFLUOR,CTDFLUOR_FLAG_W,CTDXMISS,CTDXMISS_FLAG_W,CTDBACKSCATTER,CTDBACKSCATTER_FLAG_W,D18O_NO3,D18O_NO3_FLAG_W,DOP,DOP_FLAG_W,CELLCOUNT,CELLCOUNT_FLAG_W,TDP,TDP_FLAG_W,POP,POP_FLAG_W,DATP,DATP_FLAG_W,PATP,PATP_FLAG_W,HPLC,HPLC_FLAG_W,POC,POC_FLAG_W,BEAMAP,BEAMAP_FLAG_W,DOC_NASA,DOC_NASA_FLAG_W,REFTMP,REFTMP_FLAG_W,DOC_NASA_ERROR,TDN_NASA,TDN_NASA_FLAG_W,TDN_NASA_ERROR
,,,,,,,,,,,METERS,DBAR,ITS-90,PSS-78,,PSS-78,,UMOL/KG,,UMOL/KG,,UMOL/KG,,UMOL/KG,,UMOL/KG,,UMOL/KG,,PMOL/KG,,PMOL/KG,,FMOL/KG,,UMOL/KG,,UMOL/KG,,,,DEG C,/MILLE,,/MILLE,,/MILLE,UMOL/KG,,UMOL/KG,,UMOL/KG,,/MILLE,,,,,,VOLTS,,VOLTS,,VOLTS,,VOLTS,,/MILLE,,UMOL/KG,,/LITER,,UMOL/KG,,UMOL/L,,PMOL/L,,PMOL/L,,,,UG/L,,/METER,,UMOL/L,,ITS-90,,UMOL/L,UMOL/L,,UMOL/L
320620170820,        P06,     229,          1,          1,          1,2,20170924,       0221,   -32.4998,   -79.3048,       3797,  3850.6,   1.6445,  34.6948,2,  34.6942,2, 163.5709,2, 164.5033,2,   123.9,2,   34.79,2,    0.00,2,    2.42,2,   0.016,2,   0.016,2,   0.0000,4,  2306.0,6,  2401.5,2,   7.5905,2,    25.00, -999.00,9, -999.00,9, -999.00,  -999.0,9, -999.00,9,     -999.0,9,  -999.0,9, 20170924,      221, -32.4999, -79.3054,        0.0,1,      0.065,1,      4.677,1,      1.988,1,     -999.0,9,     -999.0,9,     -999.0,9,     -999.0,9,     -999.0,9,     -999.0,9,     -999.0,9,     -999.0,9,     -999.0,9,     -999.0,9,     -999.0,9,     1.6448,2,     -999.0,     -999.0,9,     -999.0
320620170820,        P06,     229,          1,          2,          2,2,20170924,       0221,   -32.4998,   -79.3048,       3797,  3749.2,   1.6398,  34.6947,2,  34.6942,2, 163.5709,2, 164.0199,2,   123.7,2,   34.78,2,    0.00,2,    2.44,2,-999.000,9,-999.000,9,-999.0000,9,  2305.7,2,  2401.0,2,   7.5896,2,    25.00, -999.00,9, -999.00,9, -999.00,  -999.0,9, -999.00,9,     -999.0,9,  -999.0,9, 20170924,      226, -32.5000, -79.3054,        0.0,1,      0.061,1,      4.681,1,      0.130,1,     -999.0,9,     -999.0,9,     -999.0,9,     -999.0,9,     -999.0,9,     -999.0,9,     -999.0,9,     -999.0,9,     -999.0,9,     -999.0,9,     -999.0,9,     1.6399,2,     -999.0,     -999.0,9,     -999.0
320620170820,        P06,     229,          1,          3,          3,2,20170924,       0221,   -32.4998,   -79.3048,       3797,  3640.7,   1.6472,  34.6938,2,  34.6932,2, 163.3453,2, 163.9894,2,   124.0,2,   34.83,2,    0.00,2,    2.45,2,   0.012,2,   0.017,2,   0.0000,4,  2305.4,2,  2400.3,6,   7.5893,2,    25.00, -999.00,9, -999.00,9, -999.00,  -999.0,9, -999.00,9,     -999.0,9,  -999.0,9, 20170924,      228, -32.5000, -79.3054,        0.0,1,      0.061,1,      4.682,1,      0.127,1,     -999.0,9,     -999.0,9,     -999.0,9,     -999.0,9,     -999.0,9,     -999.0,9,     -999.0,9,     -999.0,9,     -999.0,9,     -999.0,9,     -999.0,9,     1.6457,2,     -999.0,     -999.0,9,     -999.0
320620170820,        P06,     229,          1,          4,          4,2,20170924,       0221,   -32.4998,   -79.3048,       3797,  3383.7,   1.7121,  34.6889,2,  34.6887,2, 162.0845,3, 160.1395,2,   123.8,2,   35.00,2,    0.00,2,    2.47,2,-999.000,9,-999.000,9,-999.0000,9,  2308.1,2,  2398.4,2,   7.5828,2,    25.00, -999.00,9, -999.00,9, -999.00,  -999.0,9, -999.00,9,     -999.0,9,  -999.0,9, 20170924,      234, -32.4999, -79.3054,        0.0,1,      0.061,1,      4.682,1,      0.131,1,     -999.0,9,     -999.0,9,     -999.0,9,     -999.0,9,     -999.0,9,     -999.0,9,     -999.0,9,     -999.0,9,     -999.0,9,     -999.0,9,     -999.0,9,     1.7130,2,     -999.0,     -999.0,9,     -999.0
320620170820,        P06,     229,          1,          5,          5,2,20170924,       0221,   -32.4998,   -79.3048,       3797,  3124.1,   1.7913,  34.6820,2,  34.6816,2,  157.027,3, 155.4394,2,   124.3,2,   35.38,2,    0.00,2,    2.49,2,   0.011,2,   0.017,2,   0.0000,4,  2310.0,2,  2398.8,2,   7.5778,2,    25.00, -999.00,9, -999.00,9, -999.00,  -999.0,9, -999.00,9,     -999.0,9,  -999.0,9, 20170924,      239, -32.4998, -79.3055,        0.0,1,      0.061,1,      4.681,1,      0.132,1,     -999.0,9,     -999.0,9,     -999.0,9,     -999.0,9,     -999.0,9,     -999.0,9,     -999.0,9,     -999.0,9,     -999.0,9,     -999.0,9,     -999.0,9,     1.7905,2,     -999.0,     -999.0,9,     -999.0
320620170820,        P06,     229,          1,          6,          6,2,20170924,       0221,   -32.4998,   -79.3048,       3797,  2873.8,   1.8428,  34.6758,2,  34.6745,2, 153.6823,3, 152.0393,2,   123.2,2,   35.58,2,    0.00,2,    2.51,2,-999.000,9,-999.000,9,-999.0000,9,  2309.5,2,  2396.8,2,   7.5722,2,    25.00, -999.00,9, -999.00,9, -999.00,  -999.0,9, -999.00,9,     -999.0,9,  -999.0,9, 20170924,      244, -32.4997, -79.3055,        0.0,1,      0.061,1,      4.681,1,      0.134,1,     -999.0,9,     -999.0,9,     -999.0,9,     -999.0,9,     -999.0,9,     -999.0,9,     -999.0,9,     -999.0,9,     -999.0,9,     -999.0,9,     -999.0,9,     1.8456,2,     -999.0,     -999.0,9,     -999.0
320620170820,        P06,     229,          1,          7,          7,2,20170924,       0221,   -32.4998,   -79.3048,       3797,  2618.8,   1.8823,  34.6703,2,  34.6702,2, 151.2932,3, 155.4827,2,   122.1,2,   35.72,2,    0.00,2,    2.55,2,   0.010,2,   0.017,2,   0.0000,4,  2310.8,2,  2397.7,2,   7.5672,2,    25.00, -999.00,9, -999.00,9, -999.00,  -999.0,9, -999.00,9,     -999.0,9,  -999.0,9, 20170924,      250, -32.4994, -79.3059,        0.0,1,      0.061,1,      4.682,1,      0.134,1,     -999.0,9,     -999.0,9,     -999.0,9,     -999.0,9,     -999.0,9,     -999.0,9,     -999.0,9,     -999.0,9,     -999.0,9,     -999.0,9,     -999.0,9,     1.8844,2,     -999.0,     -999.0,9,     -999.0
320620170820,        P06,     229,          1,          8,          8,2,20170924,       0221,   -32.4998,   -79.3048,       3797,  2363.9,   1.9912,  34.6584,2,  34.6576,2, 147.2524,2, 145.2984,2,   120.0,2,   36.08,2,    0.00,2,    2.54,2,-999.000,9,-999.000,9,-999.0000,9,  2311.6,2,  2392.2,2,   7.5577,2,    25.00, -999.00,9, -999.00,9, -999.00,  -999.0,9, -999.00,9,     -999.0,9,  -999.0,9, 20170924,      255, -32.4996, -79.3057,        0.0,1,      0.062,1,      4.681,1,      0.134,1,     -999.0,9,     -999.0,9,     -999.0,9,     -999.0,9,     -999.0,9,     -999.0,9,     -999.0,9,     -999.0,9,     -999.0,9,     -999.0,9,     -999.0,9,     1.9827,2,     -999.0,     -999.0,9,     -999.0
320620170820,        P06,     229,          1,          9,          9,2,20170924,       0221,   -32.4998,   -79.3048,       3797,  2109.7,   2.1733,  34.6408,2,  34.6415,2, 139.5109,2,  138.138,2,   116.6,2,   36.67,2,    0.00,2,    2.61,2,   0.013,2,   0.021,2,   0.0000,4,  2312.4,2,  2387.3,2,   7.5442,6,    25.00, -999.00,9, -999.00,9, -999.00,  -999.0,9, -999.00,9,     -999.0,9,  -999.0,9, 20170924,      301, -32.4995, -79.3058,        0.0,1,      0.062,1,      4.681,1,      0.136,1,     -999.0,9,     -999.0,9,     -999.0,9,     -999.0,9,     -999.0,9,     -999.0,9,     -999.0,9,     -999.0,9,     -999.0,9,     -999.0,9,     -999.0,9,     2.1554,2,     -999.0,     -999.0,9,     -999.0
320620170820,        P06,     229,          1,         10,         10,2,20170924,       0221,   -32.4998,   -79.3048,       3797,  1885.2,   2.3731,  34.6229,2,  34.6225,2, 130.7339,3, 134.5155,2,   112.4,2,   37.44,2,    0.00,2,    2.66,2,-999.000,9,-999.000,9,-999.0000,9,  2312.8,2,  2382.8,2,   7.5288,2,    25.00, -999.00,9, -999.00,9, -999.00,  -999.0,9, -999.00,9,     -999.0,9,  -999.0,9, 20170924,      306, -32.4995, -79.3057,        0.0,1,      0.061,1,      4.681,1,      0.138,1,     -999.0,9,     -999.0,9,     -999.0,9,     -999.0,9,     -999.0,9,     -999.0,9,     -999.0,9,     -999.0,9,     -999.0,9,     -999.0,9,     -999.0,9,     2.3665,2,     -999.0,     -999.0,9,     -999.0
320620170820,        P06,     229,          1,         11,         11,2,20170924,       0221,   -32.4998,   -79.3048,       3797,  1754.1,   2.5383,  34.6078,2,  34.6091,2, 126.1381,2, 124.9316,2,   108.5,2,   37.82,2,    0.00,2,    2.69,2,   0.012,2,   0.019,2,   0.0000,4,  2312.4,2,  2381.7,2,   7.5198,2,    25.00, -999.00,9, -999.00,9, -999.00,  -999.0,9, -999.00,9,     -999.0,9,  -999.0,9, 20170924,      309, -32.4997, -79.3054,        0.0,1,      0.061,1,      4.681,1,      0.138,1,     -999.0,9,     -999.0,9,     -999.0,9,     -999.0,9,     -999.0,9,     -999.0,9,     -999.0,9,     -999.0,9,     -999.0,9,     -999.0,9,     -999.0,9,     2.5150,2,     -999.0,     -999.0,9,     -999.0
320620170820,        P06,     229,          1,         12,         12,2,20170924,       0221,   -32.4998,   -79.3048,       3797,  1652.9,   2.6698,  34.5960,2,  34.5971,2, 122.4304,3, 126.1488,2,   104.8,2,   38.16,2,    0.00,2,    2.73,2,-999.000,9,-999.000,9,-999.0000,9,  2311.8,2,  2375.2,2,   7.5125,2,    25.00, -999.00,9, -999.00,9, -999.00,  -999.0,9, -999.00,9,     -999.0,9,  -999.0,9, 20170924,      312, -32.4997, -79.3054,        0.0,1,      0.062,1,      4.681,1,      0.137,1,     -999.0,9,     -999.0,9,     -999.0,9,     -999.0,9,     -999.0,9,     -999.0,9,     -999.0,9,     -999.0,9,     -999.0,9,     -999.0,9,     -999.0,9,     2.6460,2,     -999.0,     -999.0,9,     -999.0
320620170820,        P06,     229,          1,         13,         13,2,20170924,       0221,   -32.4998,   -79.3048,       3797,  1550.3,   2.8137,  34.5829,2,  34.5834,2, 118.6394,2, 117.4405,2,   101.1,2,   38.51,2,    0.00,2,    2.74,2,   0.012,2,   0.019,2,   0.0000,4,  2309.2,2,  2370.7,2,   7.5063,2,    25.00, -999.00,9, -999.00,9, -999.00,  -999.0,9, -999.00,9,     -999.0,9,  -999.0,9, 20170924,      315, -32.4997, -79.3054,        0.0,1,      0.062,1,      4.680,1,      0.138,1,     -999.0,9,     -999.0,9,     -999.0,9,     -999.0,9,     -999.0,9,     -999.0,9,     -999.0,9,     -999.0,9,     -999.0,9,     -999.0,9,     -999.0,9,     2.7999,2,     -999.0,     -999.0,9,     -999.0
320620170820,        P06,     229,          1,         14,         14,2,20170924,       0221,   -32.4998,   -79.3048,       3797,  1449.9,   2.9793,  34.5670,2,  34.5681,2,  114.721,2, 113.5415,2,    96.3,2,   38.85,2,    0.00,2,    2.76,2,-999.000,9,-999.000,9,-999.0000,9,  2305.8,2,  2363.4,2,   7.4960,2,    25.00, -999.00,9, -999.00,9, -999.00,  -999.0,9, -999.00,9,     -999.0,9,  -999.0,9, 20170924,      317, -32.4996, -79.3055,        0.0,1,      0.062,1,      4.680,1,      0.138,1,     -999.0,9,     -999.0,9,     -999.0,9,     -999.0,9,     -999.0,9,     -999.0,9,     -999.0,9,     -999.0,9,     -999.0,9,     -999.0,9,     -999.0,9,     2.9638,2,     -999.0,     -999.0,9,     -999.0
320620170820,        P06,     229,          1,         15,         15,2,20170924,       0221,   -32.4998,   -79.3048,       3797,  1347.8,   3.1543,  34.5488,2,  34.5488,2, 111.4994,2, 110.2765,2,    90.6,2,   39.17,2,    0.00,2,    2.78,2,   0.017,2,   0.021,2,   0.0000,4,  2302.0,2,  2358.3,2,   7.4887,2,    25.00, -999.00,9, -999.00,9, -999.00,  -999.0,9, -999.00,9,     -999.0,9,  -999.0,9, 20170924,      320, -32.4996, -79.3055,        0.0,1,      0.063,1,      4.680,1,      0.141,1,     -999.0,9,     -999.0,9,     -999.0,9,     -999.0,9,     -999.0,9,     -999.0,9,     -999.0,9,     -999.0,9,     -999.0,9,     -999.0,9,     -999.0,9,     3.1400,2,     -999.0,     -999.0,9,     -999.0
320620170820,        P06,     229,          1,         16,         16,2,20170924,       0221,   -32.4998,   -79.3048,       3797,  1247.5,   3.3665,  34.5266,2,  34.5246,2, 109.4523,2, 108.0035,2,    83.6,2,   39.41,2,    0.00,2,    2.79,2,   0.009,2,   0.023,2,   0.0000,4,  2295.1,6,  2350.4,2,   7.4831,2,    25.00, -999.00,9, -999.00,9, -999.00,  -999.0,9, -999.00,9,     -999.0,9,  -999.0,9, 20170924,      323, -32.4995, -79.3057,        0.0,1,      0.062,1,      4.680,1,      0.142,1,     -999.0,9,     -999.0,9,     -999.0,9,     -999.0,9,     -999.0,9,     -999.0,9,     -999.0,9,     -999.0,9,     -999.0,9,     -999.0,9,     -999.0,9,     3.3729,2,     -999.0,     -999.0,9,     -999.0
320620170820,        P06,     229,          1,         17,         17,2,20170924,       0221,   -32.4998,   -79.3048,       3797,  1145.7,   3.5562,  34.4931,2,  34.4915,2, 111.5234,2, 111.0807,2,    74.4,2,   39.32,2,    0.00,2,    2.77,2,   0.032,2,   0.029,2,   0.0000,4,  2287.9,2,  2340.6,2,   7.4832,2,    25.00, -999.00,9, -999.00,9, -999.00,  -999.0,9, -999.00,9,     -999.0,9,  -999.0,9, 20170924,      326, -32.4996, -79.3056,        0.0,1,      0.062,1,      4.680,1,      0.142,1,     -999.0,9,     -999.0,9,     -999.0,9,     -999.0,9,     -999.0,9,     -999.0,9,     -999.0,9,     -999.0,9,     -999.0,9,     -999.0,9,     -999.0,9,     3.5589,2,     -999.0,     -999.0,9,     -999.0
320620170820,        P06,     229,          1,         18,         18,2,20170924,       0221,   -32.4998,   -79.3048,       3797,  1043.7,   3.7652,  34.4509,2,  34.4536,2, 118.5754,2, 119.0346,2,    64.8,2,   38.80,2,    0.00,2,    2.72,2,   0.072,2,   0.051,2,   0.0000,4,  2275.1,2,  2329.5,2,   7.4881,2,    25.00, -999.00,9, -999.00,9, -999.00,  -999.0,9, -999.00,9,     -999.0,9,  -999.0,9, 20170924,      329, -32.4996, -79.3056,        0.0,1,      0.062,1,      4.679,1,      0.142,1,     -999.0,9,     -999.0,9,     -999.0,9,     -999.0,9,     -999.0,9,     -999.0,9,     -999.0,9,     -999.0,9,     -999.0,9,     -999.0,9,     -999.0,9,     3.7531,2,     -999.0,     -999.0,9,     -999.0
320620170820,        P06,     229,          1,         19,         19,2,20170924,       0221,   -32.4998,   -79.3048,       3797,   942.5,   4.0184,  34.3979,2,  34.3994,2, 134.9696,2, 135.8616,2,    51.8,2,   37.42,2,    0.00,2,    2.61,2,   0.292,2,   0.143,2,   0.0000,4,  2252.8,2,  2314.6,2,   7.5099,2,    25.00, -999.00,9, -999.00,9, -999.00,  -999.0,9, -999.00,9,     -999.0,9,  -999.0,9, 20170924,      332, -32.4996, -79.3056,        0.0,1,      0.061,1,      4.679,1,      0.143,1,     -999.0,9,     -999.0,9,     -999.0,9,     -999.0,9,     -999.0,9,     -999.0,9,     -999.0,9,     -999.0,9,     -999.0,9,     -999.0,9,     -999.0,9,     3.9986,2,     -999.0,     -999.0,9,     -999.0
320620170820,        P06,     229,          1,         20,         20,2,20170924,       0221,   -32.4998,   -79.3048,       3797,   841.8,   4.3603,  34.3505,2,  34.3478,2, 156.4323,2, 158.0318,2,    38.7,2,   35.38,2,    0.00,2,    2.45,2,   0.780,2,   0.358,2,   0.0880,4,  2229.9,2,  2300.7,2,   7.5399,2,    25.00, -999.00,9, -999.00,9, -999.00,  -999.0,9, -999.00,9,     -999.0,9,  -999.0,9, 20170924,      334, -32.4996, -79.3056,        0.0,1,      0.061,1,      4.679,1,      0.145,1,     -999.0,9,     -999.0,9,     -999.0,9,     -999.0,9,     -999.0,9,     -999.0,9,     -999.0,9,     -999.0,9,     -999.0,9,     -999.0,9,     -999.0,9,     4.3537,2,     -999.0,     -999.0,9,     -999.0
320620170820,        P06,     229,          1,         21,         21,2,20170924,       0221,   -32.4998,   -79.3048,       3797,   741.6,   4.8952,  34.3124,2,  34.3082,2, 176.4792,2, 176.6791,2,    26.1,2,   32.95,2,    0.00,2,    2.29,2,   1.494,2,   0.716,2,   0.1280,4,  2205.6,2,  2288.6,2,   7.5732,2,    25.00, -999.00,9, -999.00,9, -999.00,  -999.0,9, -999.00,9,     -999.0,9,  -999.0,9, 20170924,      337, -32.4996, -79.3055,        0.0,1,      0.061,1,      4.680,1,      0.148,1,     -999.0,9,     -999.0,9,     -999.0,9,     -999.0,9,     -999.0,9,     -999.0,9,     -999.0,9,     -999.0,9,     -999.0,9,     -999.0,9,     -999.0,9,     4.9171,2,     -999.0,     -999.0,9,     -999.0
320620170820,        P06,     229,          1,         22,         22,2,20170924,       0221,   -32.4998,   -79.3048,       3797,   639.7,   5.3986,  34.2838,2,  34.2825,2, 197.0779,2, 195.9039,2,    17.5,2,   30.48,2,    0.00,2,    2.11,2,   2.550,2,   1.151,2,   0.5000,4,  2189.2,6,  2280.6,2,   7.6039,2,    25.00, -999.00,9, -999.00,9, -999.00,  -999.0,9, -999.00,9,     -999.0,9,  -999.0,9, 20170924,      340, -32.4996, -79.3054,        0.0,1,      0.059,1,      4.678,1,      0.150,1,     -999.0,9,     -999.0,9,     -999.0,9,     -999.0,9,     -999.0,9,     -999.0,9,     -999.0,9,     -999.0,9,     -999.0,9,     -999.0,9,     -999.0,9,     5.3800,2,     -999.0,     -999.0,9,     -999.0
320620170820,        P06,     229,          1,         23,         23,2,20170924,       0221,   -32.4998,   -79.3048,       3797,   538.2,   5.9409,  34.2975,2,  34.2903,2, 197.3682,3, 193.5501,2,    14.4,2,   29.67,2,    0.00,2,    2.04,2,   3.119,2,   1.431,2,   0.4040,4,  2186.5,2,  2279.6,2,   7.5994,2,    25.00, -999.00,9, -999.00,9, -999.00,  -999.0,9, -999.00,9,     -999.0,9,  -999.0,9, 20170924,      343, -32.4997, -79.3053,        0.0,1,      0.061,1,      4.675,1,      0.150,1,     -999.0,9,     -999.0,9,     -999.0,9,     -999.0,9,     -999.0,9,     -999.0,9,     -999.0,9,     -999.0,9,     -999.0,9,     -999.0,9,     -999.0,9,     5.8714,2,     -999.0,     -999.0,9,     -999.0
320620170820,        P06,     229,          1,         24,         24,2,20170924,       0221,   -32.4998,   -79.3048,       3797,   467.2,   6.6542,  34.3452,2,  34.3348,2, 147.3577,3, 152.4479,2,    15.6,2,   31.74,2,    0.00,2,    2.22,2,   2.828,2,   1.295,2,   0.5570,4,  2208.6,2,  2276.6,2,   7.5352,2,    25.00, -999.00,9, -999.00,9, -999.00,  -999.0,9, -999.00,9,     -999.0,9,  -999.0,9, 20170924,      345, -32.4997, -79.3053,        0.0,1,      0.062,1,      4.673,1,      0.152,1,     -999.0,9,     -999.0,9,     -999.0,9,     -999.0,9,     -999.0,9,     -999.0,9,     -999.0,9,     -999.0,9,     -999.0,9,     -999.0,9,     -999.0,9,     6.6277,2,     -999.0,     -999.0,9,     -999.0
320620170820,        P06,     229,          1,         25,         25,2,20170924,       0221,   -32.4998,   -79.3048,       3797,   417.7,   7.2550,  34.3727,2,  34.3729,2, 109.2261,2, 110.2225,2,    16.9,2,   33.12,2,    0.00,2,    2.38,2,   2.445,2,   1.179,2,   0.4520,4,  2230.3,2,  2277.1,6,   7.4673,2,    25.00, -999.00,9, -999.00,9, -999.00,  -999.0,9, -999.00,9,     -999.0,9,  -999.0,9, 20170924,      347, -32.4996, -79.3054,        0.0,1,      0.063,1,      4.671,1,      0.155,1,     -999.0,9,     -999.0,9,     -999.0,9,     -999.0,9,     -999.0,9,     -999.0,9,     -999.0,9,     -999.0,9,     -999.0,9,     -999.0,9,     -999.0,9,     7.4127,2,     -999.0,     -999.0,9,     -999.0
320620170820,        P06,     229,          1,         26,         26,2,20170924,       0221,   -32.4998,   -79.3048,       3797,   366.8,   7.9426,  34.3972,2,  34.4090,2,  80.6827,2,  81.6246,2,    17.6,2,   32.14,2,    0.00,2,    2.47,2,   2.129,2,   1.075,2,   0.4860,4,  2242.9,2,  2276.6,2,   7.4276,2,    25.00, -999.00,9, -999.00,9, -999.00,  -999.0,9, -999.00,9,     -999.0,9,  -999.0,9, 20170924,      350, -32.4996, -79.3055,        0.0,1,      0.062,1,      4.670,1,      0.155,1,     -999.0,9,     -999.0,9,     -999.0,9,     -999.0,9,     -999.0,9,     -999.0,9,     -999.0,9,     -999.0,9,     -999.0,9,     -999.0,9,     -999.0,9,     8.3120,2,     -999.0,     -999.0,9,     -999.0