BOTTLE,20240211CCHSIOCBG
EXPOCODE,SECT_ID,STNNBR,CASTNO,SAMPNO,BTLNBR,BTLNBR_FLAG_W,DATE,TIME,LATITUDE,LONGITUDE,DEPTH,CTDPRS,CTDTMP,CTDSAL,CTDSAL_FLAG_W,SALNTY,SALNTY_FLAG_W,CTDOXY,CTDOXY_FLAG_W,OXYGEN,OXYGEN_FLAG_W,SILCAT,SILCAT_FLAG_W,NITRAT,NITRAT_FLAG_W,NITRIT,NITRIT_FLAG_W,PHSPHT,PHSPHT_FLAG_W,CFC-11,CFC-11_FLAG_W,CFC-12,CFC-12_FLAG_W,SF6,SF6_FLAG_W,TCARBN,TCARBN_FLAG_W,ALKALI,ALKALI_FLAG_W,PH_TOT,PH_TOT_FLAG_W,PH_TMP,DELC13,DELC13_FLAG_W,DELC14,DELC14_FLAG_W,C14ERR,DOC,DOC_FLAG_W,TDN,TDN_FLAG_W,TON,TON_FLAG_W,D15N_NO3,D15N_NO3_FLAG_W,BTL_DATE,BTL_TIME,BTL_LAT,BTL_LON,CTDRINKO,CTDRINKO_FLAG_W,CTDFLUOR,CTDFLUOR_FLAG_W,CTDXMISS,CTDXMISS_FLAG_W,CTDBACKSCATTER,CTDBACKSCATTER_FLAG_W,D18O_NO3,D18O_NO3_FLAG_W,DOP,DOP_FLAG_W,CELLCOUNT,CELLCOUNT_FLAG_W,TDP,TDP_FLAG_W,POP,POP_FLAG_W,DATP,DATP_FLAG_W,PATP,PATP_FLAG_W,HPLC,HPLC_FLAG_W,POC,POC_FLAG_W,BEAMAP,BEAMAP_FLAG_W,DOC_NASA,DOC_NASA_FLAG_W,REFTMP,REFTMP_FLAG_W,DOC_NASA_ERROR,TDN_NASA,TDN_NASA_FLAG_W,TDN_NASA_ERROR
,,,,,,,,,,,METERS,DBAR,ITS-90,PSS-78,,PSS-78,,UMOL/KG,,UMOL/KG,,UMOL/KG,,UMOL/KG,,UMOL/KG,,UMOL/KG,,PMOL/KG,,PMOL/KG,,FMOL/KG,,UMOL/KG,,UMOL/KG,,,,DEG C,/MILLE,,/MILLE,,/MILLE,UMOL/KG,,UMOL/KG,,UMOL/KG,,/MILLE,,,,,,VOLTS,,VOLTS,,VOLTS,,VOLTS,,/MILLE,,UMOL/KG,,/LITER,,UMOL/KG,,UMOL/L,,PMOL/L,,PMOL/L,,,,UG/L,,/METER,,UMOL/L,,ITS-90,,UMOL/L,UMOL/L,,UMOL/L
320620170820,        P06,     226,          1,         27,         27,2,20170923,       0211,   -32.4995,   -81.9755,       3940,   315.9,   9.2682,  34.5011,2,  34.4791,2,  44.7232,2,   45.162,2,    20.8,2,   32.45,2,    0.00,2,    2.64,2,   1.746,2,   0.901,2,   0.5400,4,  2263.2,2,  2280.5,2,   7.3739,6,    25.00, -999.00,9, -999.00,9, -999.00,    42.9,2, -999.00,9,     -999.0,1,  -999.0,9, 20170923,      341, -32.4997, -81.9758,        0.0,1,      0.067,1,      4.662,1,      0.161,1,     -999.0,9,     -999.0,9,     -999.0,9,     -999.0,9,     -999.0,9,     -999.0,9,     -999.0,9,     -999.0,9,     -999.0,9,     -999.0,9,     -999.0,9,     8.9965,2,     -999.0,     -999.0,9,     -999.0
320620170820,        P06,     226,          1,         28,         28,2,20170923,       0211,   -32.4995,   -81.9755,       3940,   266.2,   9.4112,  34.3908,2,  34.4188,2,  92.6995,3,  81.1018,2,    16.8,2,   28.15,2,    0.00,2,    2.40,2,   2.234,2,   1.134,2,   0.6540,4,  2236.4,2,  2277.6,2,   7.4412,2,    25.00, -999.00,9, -999.00,9, -999.00,    44.1,2,   30.00,2,     -999.0,1,  -999.0,9, 20170923,      343, -32.4996, -81.9757,        0.0,1,      0.063,1,      4.670,1,      0.149,1,     -999.0,9,     -999.0,9,     -999.0,9,     -999.0,9,     -999.0,9,     -999.0,9,     -999.0,9,     -999.0,9,     -999.0,9,     -999.0,9,     -999.0,9,     9.2479,2,     -999.0,     -999.0,9,     -999.0
320620170820,        P06,     226,          1,         29,         29,2,20170923,       0211,   -32.4995,   -81.9755,       3940,   216.6,   9.8741,  34.1865,2,  34.1915,2, 177.3985,2,  177.558,2,     5.6,2,   21.23,2,    0.02,2,    1.65,2,   3.271,2,   1.658,2,   1.0280,4,  2159.6,2,  2263.2,2,   7.6355,2,    25.00, -999.00,9, -999.00,9, -999.00,    43.4,2,   22.70,2,     -999.0,1,  -999.0,9, 20170923,      345, -32.4995, -81.9756,        0.0,1,      0.061,1,      4.670,1,      0.152,1,     -999.0,9,     -999.0,9,     -999.0,9,     -999.0,9,     -999.0,9,     -999.0,9,     -999.0,9,     -999.0,9,     -999.0,9,     -999.0,9,     -999.0,9,     9.8810,2,     -999.0,     -999.0,9,     -999.0
320620170820,        P06,     226,          1,         30,         30,2,20170923,       0211,   -32.4995,   -81.9755,       3940,   165.8,  11.4822,  34.0976,2,  34.0725,2, 202.1445,2, 202.7173,2,     1.8,2,   16.30,2,    0.03,2,    1.25,2,   3.159,2,   1.635,2,   1.3880,4,  2118.5,2,  2258.9,2,   7.7337,2,    25.00, -999.00,9, -999.00,9, -999.00,    49.1,2,   17.90,2,     -999.0,1,  -999.0,9, 20170923,      347, -32.4995, -81.9755,        0.0,1,      0.065,1,      4.659,1,      0.167,1,     -999.0,9,     -999.0,9,     -999.0,9,     -999.0,9,     -999.0,9,     -999.0,9,     -999.0,9,     -999.0,9,     -999.0,9,     -999.0,9,     -999.0,9,    11.8592,2,     -999.0,     -999.0,9,     -999.0
320620170820,        P06,     226,          1,         31,         31,2,20170923,       0211,   -32.4995,   -81.9755,       3940,   133.2,  13.4694,  34.2020,2,  34.2650,2, 254.2951,2, 253.6338,2,     0.0,2,    3.88,2,    0.16,2,    0.50,2,   2.794,2,   1.435,2,   1.3690,4,  2058.1,2,  2275.1,3,   7.9013,2,    25.00, -999.00,9, -999.00,9, -999.00,    59.5,2,    8.20,2,     -999.0,1,  -999.0,9, 20170923,      349, -32.4995, -81.9755,        0.0,1,      0.100,1,      4.645,1,      0.180,1,     -999.0,9,     -999.0,9,     -999.0,9,     -999.0,9,     -999.0,9,     -999.0,9,     -999.0,9,     -999.0,9,     -999.0,9,     -999.0,9,     -999.0,9,    13.9079,2,     -999.0,     -999.0,9,     -999.0
320620170820,        P06,     226,          1,         32,         32,2,20170923,       0211,   -32.4995,   -81.9755,       3940,   110.1,  13.8282,  34.2608,2,  34.2789,2, 254.4182,2, 254.1099,2,     0.0,2,    3.67,2,    0.15,2,    0.49,2,   2.879,2,   1.439,2,   1.3360,4,  2058.7,2,  2275.9,2,   7.9035,2,    25.00, -999.00,9, -999.00,9, -999.00,    57.0,2,    8.00,2,     -999.0,1,  -999.0,9, 20170923,      351, -32.4995, -81.9755,        0.0,1,      0.121,1,      4.642,1,      0.175,1,     -999.0,9,     -999.0,9,     -999.0,9,     -999.0,9,     -999.0,9,     -999.0,9,     -999.0,9,     -999.0,9,     -999.0,9,     -999.0,9,     -999.0,9,    13.9387,2,     -999.0,     -999.0,9,     -999.0
320620170820,        P06,     226,          1,         33,         33,2,20170923,       0211,   -32.4995,   -81.9755,       3940,    84.5,  13.9468,  34.2737,2,  34.2858,2, 255.4673,2,  254.756,2,     0.0,2,    3.58,2,    0.14,2,    0.47,2,   2.718,2,   1.433,2,   1.4290,4,  2057.5,2,  2275.0,2,   7.9050,2,    25.00, -999.00,9, -999.00,9, -999.00,    57.0,2,    7.30,2,     -999.0,1,  -999.0,9, 20170923,      353, -32.4995, -81.9755,        0.0,1,      0.203,1,      4.617,1,      0.197,1,     -999.0,9,     -999.0,9,     -999.0,9,     -999.0,9,     -999.0,9,     -999.0,9,     -999.0,9,     -999.0,9,     -999.0,9,     -999.0,9,     -999.0,9,    13.9837,2,     -999.0,     -999.0,9,     -999.0
320620170820,        P06,     226,          1,         34,         34,2,20170923,       0211,   -32.4995,   -81.9755,       3940,    59.8,  14.2754,  34.3290,2,  34.2830,2, 258.8745,2, 259.3512,2,     0.0,2,    3.36,2,    0.12,2,    0.46,2,   2.758,2,   1.431,2,   1.3190,4,  -999.0,9,  -999.0,9,-999.0000,9,  -999.00, -999.00,9, -999.00,9, -999.00,    57.8,2,    7.40,2,     -999.0,1,  -999.0,9, 20170923,      356, -32.4995, -81.9755,        0.0,1,      0.230,1,      4.605,1,      0.195,1,     -999.0,9,     -999.0,9,     -999.0,9,     -999.0,9,     -999.0,9,     -999.0,9,     -999.0,9,     -999.0,9,     -999.0,9,     -999.0,9,     -999.0,9,    14.0096,2,     -999.0,     -999.0,9,     -999.0
320620170820,        P06,     226,          1,         35,         35,2,20170923,       0211,   -32.4995,   -81.9755,       3940,    34.3,  14.4585,  34.3524,2,  34.3403,2, 248.3347,2, 256.6142,2,     0.0,2,    2.62,2,    0.09,2,    0.45,2,   2.897,2,   1.393,2,   1.2470,4,  2054.8,2,  2281.2,2,   7.9160,2,    25.00, -999.00,9, -999.00,9, -999.00,    66.0,3,    6.60,2,     -999.0,1,  -999.0,9, 20170923,      358, -32.4995, -81.9755,        0.0,1,      0.298,1,      4.558,1,      0.221,1,     -999.0,9,     -999.0,9,     -999.0,9,     -999.0,9,     -999.0,9,     -999.0,9,     -999.0,9,     -999.0,9,     -999.0,9,     -999.0,9,     -999.0,9,    14.3950,2,     -999.0,     -999.0,9,     -999.0
320620170820,        P06,     226,          1,         36,         36,2,20170923,       0211,   -32.4995,   -81.9755,       3940,     1.6,  14.5133,  34.3537,2,  34.3505,2, 205.1964,4, 257.5262,2,     0.0,2,    2.43,2,    0.08,2,    0.45,2,   2.872,2,   1.393,2,   1.5070,4,  2054.7,6,  2285.6,2,   7.9183,2,    25.00,    1.38,2,   22.00,2,    4.78,    59.6,2,    6.30,2,     -999.0,1,  -999.0,9, 20170923,      401, -32.4995, -81.9755,        0.0,1,      0.260,1,      4.539,1,      0.209,1,     -999.0,9,     -999.0,9,     -999.0,9,     -999.0,9,     -999.0,9,     -999.0,9,     -999.0,9,     -999.0,9,     -999.0,9,     -999.0,9,     -999.0,9,    14.5112,2,     -999.0,     -999.0,9,     -999.0