BOTTLE,20240211CCHSIOCBG
EXPOCODE,SECT_ID,STNNBR,CASTNO,SAMPNO,BTLNBR,BTLNBR_FLAG_W,DATE,TIME,LATITUDE,LONGITUDE,DEPTH,CTDPRS,CTDTMP,CTDSAL,CTDSAL_FLAG_W,SALNTY,SALNTY_FLAG_W,CTDOXY,CTDOXY_FLAG_W,OXYGEN,OXYGEN_FLAG_W,SILCAT,SILCAT_FLAG_W,NITRAT,NITRAT_FLAG_W,NITRIT,NITRIT_FLAG_W,PHSPHT,PHSPHT_FLAG_W,CFC-11,CFC-11_FLAG_W,CFC-12,CFC-12_FLAG_W,SF6,SF6_FLAG_W,TCARBN,TCARBN_FLAG_W,ALKALI,ALKALI_FLAG_W,PH_TOT,PH_TOT_FLAG_W,PH_TMP,DELC13,DELC13_FLAG_W,DELC14,DELC14_FLAG_W,C14ERR,DOC,DOC_FLAG_W,TDN,TDN_FLAG_W,TON,TON_FLAG_W,D15N_NO3,D15N_NO3_FLAG_W,BTL_DATE,BTL_TIME,BTL_LAT,BTL_LON,CTDRINKO,CTDRINKO_FLAG_W,CTDFLUOR,CTDFLUOR_FLAG_W,CTDXMISS,CTDXMISS_FLAG_W,CTDBACKSCATTER,CTDBACKSCATTER_FLAG_W,D18O_NO3,D18O_NO3_FLAG_W,DOP,DOP_FLAG_W,CELLCOUNT,CELLCOUNT_FLAG_W,TDP,TDP_FLAG_W,POP,POP_FLAG_W,DATP,DATP_FLAG_W,PATP,PATP_FLAG_W,HPLC,HPLC_FLAG_W,POC,POC_FLAG_W,BEAMAP,BEAMAP_FLAG_W,DOC_NASA,DOC_NASA_FLAG_W,REFTMP,REFTMP_FLAG_W,DOC_NASA_ERROR,TDN_NASA,TDN_NASA_FLAG_W,TDN_NASA_ERROR
,,,,,,,,,,,METERS,DBAR,ITS-90,PSS-78,,PSS-78,,UMOL/KG,,UMOL/KG,,UMOL/KG,,UMOL/KG,,UMOL/KG,,UMOL/KG,,PMOL/KG,,PMOL/KG,,FMOL/KG,,UMOL/KG,,UMOL/KG,,,,DEG C,/MILLE,,/MILLE,,/MILLE,UMOL/KG,,UMOL/KG,,UMOL/KG,,/MILLE,,,,,,VOLTS,,VOLTS,,VOLTS,,VOLTS,,/MILLE,,UMOL/KG,,/LITER,,UMOL/KG,,UMOL/L,,PMOL/L,,PMOL/L,,,,UG/L,,/METER,,UMOL/L,,ITS-90,,UMOL/L,UMOL/L,,UMOL/L
320620170820,        P06,     170,          1,         27,         27,2,20170905,       0918,   -32.4984,  -126.3087,       3064,   213.7,  13.7862,  34.8316,2,  34.7822,2, 218.5312,2, 221.2084,2,     0.6,2,    5.99,2,    0.00,2,    0.50,2,   2.595,2,   1.571,2,   1.3790,2,  2093.8,2,  2290.1,2,   7.8532,2,    25.00, -999.00,9, -999.00,9, -999.00,  -999.0,9, -999.00,9,     -999.0,9,  -999.0,9, 20170905,     1045, -32.4982,-126.3086,        0.0,1,      0.066,1,      4.681,1,      0.134,1,     -999.0,9,     -999.0,9,     -999.0,9,     -999.0,9,     -999.0,9,     -999.0,9,     -999.0,9,     -999.0,9,     -999.0,9,     -999.0,9,     -999.0,9,    13.4887,2,     -999.0,     -999.0,9,     -999.0
320620170820,        P06,     170,          1,         28,         28,2,20170905,       0918,   -32.4984,  -126.3087,       3064,   190.2,  14.4246,  34.8935,2,  34.9020,2, 222.6306,2, 220.1569,2,     0.3,2,    4.19,2,    0.02,2,    0.39,2,   2.473,2,   1.509,2,   1.4030,2,  2089.0,2,  2296.5,2,   7.8769,2,    25.00, -999.00,9, -999.00,9, -999.00,    59.5,3,    7.50,2,     -999.0,1,  -999.0,9, 20170905,     1046, -32.4982,-126.3086,        0.0,1,      0.077,1,      4.677,1,      0.138,1,     -999.0,9,     -999.0,9,     -999.0,9,     -999.0,9,     -999.0,9,     -999.0,9,     -999.0,9,     -999.0,9,     -999.0,9,     -999.0,9,     -999.0,9,    14.4443,2,     -999.0,     -999.0,9,     -999.0
320620170820,        P06,     170,          1,         29,         29,2,20170905,       0918,   -32.4984,  -126.3087,       3064,   166.7,  14.9513,  34.9513,2,  34.9006,2, 221.8541,2, 224.4385,2,     0.2,2,    3.13,2,    0.07,2,    0.33,2,   2.431,2,   1.496,2,   1.4080,2,  2081.2,2,  2297.5,2,   7.8870,2,    25.00, -999.00,9, -999.00,9, -999.00,    56.2,2,    6.00,2,     -999.0,1,  -999.0,9, 20170905,     1048, -32.4981,-126.3086,        0.0,1,      0.093,1,      4.673,1,      0.145,1,     -999.0,9,     -999.0,9,     -999.0,9,     -999.0,9,     -999.0,9,     -999.0,9,     -999.0,9,     -999.0,9,     -999.0,9,     -999.0,9,     -999.0,9,    14.7431,2,     -999.0,     -999.0,9,     -999.0
320620170820,        P06,     170,          1,         30,         30,2,20170905,       0918,   -32.4984,  -126.3087,       3064,   141.3,  16.1287,  35.0687,2,  35.0419,3, 227.0713,2, 228.2113,2,     0.1,2,    1.07,2,    0.16,2,    0.21,2,   2.328,2,   1.417,2,   1.4770,2,  2072.9,2,  2306.3,2,   7.9196,2,    25.00, -999.00,9, -999.00,9, -999.00,    57.0,2,    4.70,2,     -999.0,1,  -999.0,9, 20170905,     1050, -32.4981,-126.3085,        0.0,1,      0.141,1,      4.661,1,      0.149,1,     -999.0,9,     -999.0,9,     -999.0,9,     -999.0,9,     -999.0,9,     -999.0,9,     -999.0,9,     -999.0,9,     -999.0,9,     -999.0,9,     -999.0,9,    15.9152,2,     -999.0,     -999.0,9,     -999.0
320620170820,        P06,     170,          1,         31,         31,2,20170905,       0918,   -32.4984,  -126.3087,       3064,   116.6,  16.8168,  35.0775,2,  35.0484,2, 239.3887,2, 236.7895,2,     0.0,2,    0.15,2,    0.06,2,    0.13,2,   2.216,6,   1.370,6,   1.5770,6,  2056.4,2,  2305.2,2,   7.9482,2,    25.00, -999.00,9, -999.00,9, -999.00,    58.7,2,    3.90,2,     -999.0,1,  -999.0,9, 20170905,     1052, -32.4981,-126.3086,        0.0,1,      0.175,1,      4.642,1,      0.171,1,     -999.0,9,     -999.0,9,     -999.0,9,     -999.0,9,     -999.0,9,     -999.0,9,     -999.0,9,     -999.0,9,     -999.0,9,     -999.0,9,     -999.0,9,    16.6628,2,     -999.0,     -999.0,9,     -999.0
320620170820,        P06,     170,          1,         32,         32,2,20170905,       0918,   -32.4984,  -126.3087,       3064,    89.4,  17.0051,  35.1036,2,  35.1014,2, 239.3819,2, 239.2748,2,     0.0,2,    0.00,2,    0.00,2,    0.08,2,   2.163,2,   1.333,2,   1.6140,2,  2052.6,2,  2308.4,2,   7.9623,2,    25.00, -999.00,9, -999.00,9, -999.00,    65.5,3,    3.90,2,     -999.0,1,  -999.0,9, 20170905,     1054, -32.4982,-126.3086,        0.0,1,      0.150,1,      4.644,1,      0.169,1,     -999.0,9,     -999.0,9,     -999.0,9,     -999.0,9,     -999.0,9,     -999.0,9,     -999.0,9,     -999.0,9,     -999.0,9,     -999.0,9,     -999.0,9,    16.9903,2,     -999.0,     -999.0,9,     -999.0
320620170820,        P06,     170,          1,         33,         33,2,20170905,       0918,   -32.4984,  -126.3087,       3064,    63.5,  17.1513,  35.0956,2,  35.0929,2, 239.3036,2, 239.7157,2,     0.0,2,    0.00,2,    0.00,2,    0.08,2,   2.163,2,   1.330,2,   1.6260,2,  2050.4,2,  2305.6,2,   7.9640,2,    25.00, -999.00,9, -999.00,9, -999.00,    62.1,2,    3.90,2,     -999.0,1,  -999.0,9, 20170905,     1055, -32.4983,-126.3086,        0.0,1,      0.085,1,      4.649,1,      0.163,1,     -999.0,9,     -999.0,9,     -999.0,9,     -999.0,9,     -999.0,9,     -999.0,9,     -999.0,9,     -999.0,9,     -999.0,9,     -999.0,9,     -999.0,9,    17.1330,2,     -999.0,     -999.0,9,     -999.0
320620170820,        P06,     170,          1,         34,         34,2,20170905,       0918,   -32.4984,  -126.3087,       3064,    38.4,  17.1508,  35.0956,2,  35.0951,2, 239.8099,2, 240.7413,2,     0.0,2,    0.00,2,    0.00,2,    0.07,2,   2.148,2,   1.321,2,   1.4430,2,  2050.7,2,  2305.9,2,   7.9631,2,    25.00, -999.00,9, -999.00,9, -999.00,    60.9,2,    4.30,2,     -999.0,1,  -999.0,9, 20170905,     1057, -32.4983,-126.3086,        0.0,1,      0.084,1,      4.649,1,      0.160,1,     -999.0,9,     -999.0,9,     -999.0,9,     -999.0,9,     -999.0,9,     -999.0,9,     -999.0,9,     -999.0,9,     -999.0,9,     -999.0,9,     -999.0,9,    17.1296,2,     -999.0,     -999.0,9,     -999.0
320620170820,        P06,     170,          1,         35,         35,2,20170905,       0918,   -32.4984,  -126.3087,       3064,    18.9,  17.1455,  35.0953,2,  35.0935,2, 239.9676,2, 239.6611,2,     0.1,2,    0.00,2,    0.00,2,    0.08,2,   2.206,2,   1.327,2,   1.5960,2,  2051.0,2,  2306.7,2,   7.9632,2,    25.00, -999.00,9, -999.00,9, -999.00,    60.3,2,    4.10,2,     -999.0,1,  -999.0,9, 20170905,     1059, -32.4983,-126.3086,        0.0,1,      0.083,1,      4.649,1,      0.161,1,     -999.0,9,     -999.0,9,     -999.0,9,     -999.0,9,     -999.0,9,     -999.0,9,     -999.0,9,     -999.0,9,     -999.0,9,     -999.0,9,     -999.0,9,    17.1269,2,     -999.0,     -999.0,9,     -999.0
320620170820,        P06,     170,          1,         36,         36,2,20170905,       0918,   -32.4984,  -126.3087,       3064,     7.4,  17.1407,  35.0955,2,  35.0902,2, 240.2002,2, 239.9989,2,     0.0,2,    0.00,2,    0.00,2,    0.09,2,   2.176,2,   1.313,2,   1.6020,2,  2050.7,6,  2306.9,2,   7.9636,2,    25.00, -999.00,9, -999.00,9, -999.00,    64.2,2,    3.40,2,     -999.0,1,  -999.0,9, 20170905,     1100, -32.4984,-126.3087,        0.0,1,      0.082,1,      4.649,1,      0.158,1,     -999.0,9,     -999.0,9,     -999.0,9,     -999.0,9,     -999.0,9,     -999.0,9,     -999.0,9,     -999.0,9,     -999.0,9,     -999.0,9,     -999.0,9,    17.1254,2,     -999.0,     -999.0,9,     -999.0