BOTTLE,20240211CCHSIOCBG
EXPOCODE,SECT_ID,STNNBR,CASTNO,SAMPNO,BTLNBR,BTLNBR_FLAG_W,DATE,TIME,LATITUDE,LONGITUDE,DEPTH,CTDPRS,CTDTMP,CTDSAL,CTDSAL_FLAG_W,SALNTY,SALNTY_FLAG_W,CTDOXY,CTDOXY_FLAG_W,OXYGEN,OXYGEN_FLAG_W,SILCAT,SILCAT_FLAG_W,NITRAT,NITRAT_FLAG_W,NITRIT,NITRIT_FLAG_W,PHSPHT,PHSPHT_FLAG_W,CFC-11,CFC-11_FLAG_W,CFC-12,CFC-12_FLAG_W,SF6,SF6_FLAG_W,TCARBN,TCARBN_FLAG_W,ALKALI,ALKALI_FLAG_W,PH_TOT,PH_TOT_FLAG_W,PH_TMP,DELC13,DELC13_FLAG_W,DELC14,DELC14_FLAG_W,C14ERR,DOC,DOC_FLAG_W,TDN,TDN_FLAG_W,TON,TON_FLAG_W,D15N_NO3,D15N_NO3_FLAG_W,BTL_DATE,BTL_TIME,BTL_LAT,BTL_LON,CTDRINKO,CTDRINKO_FLAG_W,CTDFLUOR,CTDFLUOR_FLAG_W,CTDXMISS,CTDXMISS_FLAG_W,CTDBACKSCATTER,CTDBACKSCATTER_FLAG_W,D18O_NO3,D18O_NO3_FLAG_W,DOP,DOP_FLAG_W,CELLCOUNT,CELLCOUNT_FLAG_W,TDP,TDP_FLAG_W,POP,POP_FLAG_W,DATP,DATP_FLAG_W,PATP,PATP_FLAG_W,HPLC,HPLC_FLAG_W,POC,POC_FLAG_W,BEAMAP,BEAMAP_FLAG_W,DOC_NASA,DOC_NASA_FLAG_W,REFTMP,REFTMP_FLAG_W,DOC_NASA_ERROR,TDN_NASA,TDN_NASA_FLAG_W,TDN_NASA_ERROR
,,,,,,,,,,,METERS,DBAR,ITS-90,PSS-78,,PSS-78,,UMOL/KG,,UMOL/KG,,UMOL/KG,,UMOL/KG,,UMOL/KG,,UMOL/KG,,PMOL/KG,,PMOL/KG,,FMOL/KG,,UMOL/KG,,UMOL/KG,,,,DEG C,/MILLE,,/MILLE,,/MILLE,UMOL/KG,,UMOL/KG,,UMOL/KG,,/MILLE,,,,,,VOLTS,,VOLTS,,VOLTS,,VOLTS,,/MILLE,,UMOL/KG,,/LITER,,UMOL/KG,,UMOL/L,,PMOL/L,,PMOL/L,,,,UG/L,,/METER,,UMOL/L,,ITS-90,,UMOL/L,UMOL/L,,UMOL/L
320620170820,        P06,     244,          1,         27,         27,2,20170928,       0945,   -32.4999,   -72.3354,       2896,   236.3,   9.9570,  34.5781,2,  34.5712,2,  21.2083,2,  21.2923,2,    23.4,2,   29.74,2,    0.00,2,    2.74,2,   1.387,2,   0.811,2,   0.2540,2,  2277.3,2,  2286.5,2,   7.3458,2,    25.00, -999.00,9, -999.00,9, -999.00,    43.9,2,   31.80,2,     -999.0,1,  -999.0,9, 20170928,     1056, -32.5000, -72.3359,        0.0,1,      0.067,1,      4.644,1,      0.189,1,     -999.0,9,     -999.0,9,     -999.0,9,     -999.0,9,     -999.0,9,     -999.0,9,     -999.0,9,     -999.0,9,     -999.0,9,     -999.0,9,     -999.0,9,     9.9760,2,     -999.0,     -999.0,9,     -999.0
320620170820,        P06,     244,          1,         28,         28,2,20170928,       0945,   -32.4999,   -72.3354,       2896,   210.0,  10.3465,  34.5955,2,  34.5732,2,  22.8532,2,  22.4564,2,    22.7,2,   28.11,2,    0.02,2,    2.71,2,   1.472,2,   0.874,2,   0.2990,2,  -999.0,9,  -999.0,9,-999.0000,9,  -999.00, -999.00,9, -999.00,9, -999.00,    43.2,2,   31.00,2,     -999.0,1,  -999.0,9, 20170928,     1057, -32.5000, -72.3358,        0.0,1,      0.067,1,      4.641,1,      0.187,1,     -999.0,9,     -999.0,9,     -999.0,9,     -999.0,9,     -999.0,9,     -999.0,9,     -999.0,9,     -999.0,9,     -999.0,9,     -999.0,9,     -999.0,9,    10.2139,2,     -999.0,     -999.0,9,     -999.0
320620170820,        P06,     244,          1,         29,         29,2,20170928,       0945,   -32.4999,   -72.3354,       2896,   184.6,  10.4044,  34.5423,2,  34.5726,2,  26.5322,2,  25.1167,2,    22.2,2,   26.77,2,    0.01,2,    2.69,2,   1.580,2,   0.903,2,   0.4500,2,  -999.0,9,  -999.0,9,-999.0000,9,  -999.00, -999.00,9, -999.00,9, -999.00,    42.5,2,   29.60,2,     -999.0,1,  -999.0,9, 20170928,     1058, -32.5000, -72.3358,        0.0,1,      0.065,1,      4.637,1,      0.194,1,     -999.0,9,     -999.0,9,     -999.0,9,     -999.0,9,     -999.0,9,     -999.0,9,     -999.0,9,     -999.0,9,     -999.0,9,     -999.0,9,     -999.0,9,    10.4529,2,     -999.0,     -999.0,9,     -999.0
320620170820,        P06,     244,          1,         30,         30,2,20170928,       0945,   -32.4999,   -72.3354,       2896,   160.9,  11.0430,  34.6012,2,  34.5959,2,  23.0239,2,  23.4137,2,    22.3,2,   24.78,2,    0.01,2,    2.69,2,   1.608,2,   0.957,2,   0.4210,2,  2272.8,2,  2288.4,2,   7.3605,2,    25.00, -999.00,9, -999.00,9, -999.00,    47.0,3,   28.30,2,     -999.0,1,  -999.0,9, 20170928,     1100, -32.5000, -72.3358,        0.0,1,      0.067,1,      4.614,1,      0.225,1,     -999.0,9,     -999.0,9,     -999.0,9,     -999.0,9,     -999.0,9,     -999.0,9,     -999.0,9,     -999.0,9,     -999.0,9,     -999.0,9,     -999.0,9,    11.0510,2,     -999.0,     -999.0,9,     -999.0
320620170820,        P06,     244,          1,         31,         31,2,20170928,       0945,   -32.4999,   -72.3354,       2896,   135.0,  11.2428,  34.5373,2,  34.4756,2,  40.5318,3,  51.4647,2,    17.5,2,   25.39,2,    0.02,2,    2.49,2,   2.075,2,   1.220,2,   0.6280,2,  -999.0,9,  -999.0,9,-999.0000,9,  -999.00, -999.00,9, -999.00,9, -999.00,  -999.0,9, -999.00,9,     -999.0,9,  -999.0,9, 20170928,     1101, -32.4999, -72.3357,        0.0,1,      0.067,1,      4.622,1,      0.208,1,     -999.0,9,     -999.0,9,     -999.0,9,     -999.0,9,     -999.0,9,     -999.0,9,     -999.0,9,     -999.0,9,     -999.0,9,     -999.0,9,     -999.0,9,    10.9644,2,     -999.0,     -999.0,9,     -999.0
320620170820,        P06,     244,          1,         32,         32,2,20170928,       0945,   -32.4999,   -72.3354,       2896,   109.4,  11.3127,  34.3644,2,  34.3796,2,  88.9453,2,  90.8594,2,    13.0,2,   24.40,2,    0.03,2,    2.25,2,   2.376,2,   1.432,2,   0.8040,2,  -999.0,9,  -999.0,9,-999.0000,9,  -999.00, -999.00,9, -999.00,9, -999.00,    43.9,3,   27.00,2,     -999.0,1,  -999.0,9, 20170928,     1103, -32.4999, -72.3356,        0.0,1,      0.080,1,      4.620,1,      0.227,1,     -999.0,9,     -999.0,9,     -999.0,9,     -999.0,9,     -999.0,9,     -999.0,9,     -999.0,9,     -999.0,9,     -999.0,9,     -999.0,9,     -999.0,9,    11.2423,2,     -999.0,     -999.0,9,     -999.0
320620170820,        P06,     244,          1,         33,         33,2,20170928,       0945,   -32.4999,   -72.3354,       2896,    83.7,  11.9115,  34.3072,2,  34.2727,2, 164.9804,2, 155.8813,2,     8.6,2,   20.85,2,    0.22,2,    1.86,2,   2.541,2,   1.566,2,   1.2500,2,  -999.0,9,  -999.0,9,-999.0000,9,  -999.00, -999.00,9, -999.00,9, -999.00,    48.0,2,   24.10,2,     -999.0,1,  -999.0,9, 20170928,     1105, -32.4999, -72.3355,        0.0,1,      0.096,1,      4.612,1,      0.208,1,     -999.0,9,     -999.0,9,     -999.0,9,     -999.0,9,     -999.0,9,     -999.0,9,     -999.0,9,     -999.0,9,     -999.0,9,     -999.0,9,     -999.0,9,    11.7746,2,     -999.0,     -999.0,9,     -999.0
320620170820,        P06,     244,          1,         34,         34,2,20170928,       0945,   -32.4999,   -72.3354,       2896,    60.1,  13.2548,  34.1886,2,  34.1773,2, 259.5525,2, 258.6153,2,     0.8,2,    6.75,2,    0.23,2,    0.83,2,   2.667,2,   1.563,2,   1.2900,2,  2082.8,2,  2273.6,2,   7.8514,2,    25.00, -999.00,9, -999.00,9, -999.00,    59.2,3,   11.20,2,     -999.0,1,  -999.0,9, 20170928,     1106, -32.5000, -72.3354,        0.0,1,      0.295,1,      4.524,1,      0.243,1,     -999.0,9,     -999.0,9,     -999.0,9,     -999.0,9,     -999.0,9,     -999.0,9,     -999.0,9,     -999.0,9,     -999.0,9,     -999.0,9,     -999.0,9,    13.2162,2,     -999.0,     -999.0,9,     -999.0
320620170820,        P06,     244,          1,         35,         35,2,20170928,       0945,   -32.4999,   -72.3354,       2896,    34.4,  13.2783,  34.1875,2,  34.1868,2, 260.2725,2, 260.8058,2,     0.6,2,    6.65,2,    0.22,2,    0.83,2,   2.665,2,   1.565,2,   1.3010,2,  -999.0,9,  -999.0,9,-999.0000,9,  -999.00, -999.00,9, -999.00,9, -999.00,    56.4,3,   10.80,2,     -999.0,1,  -999.0,9, 20170928,     1108, -32.5000, -72.3354,        0.0,1,      0.393,1,      4.499,1,      0.268,1,     -999.0,9,     -999.0,9,     -999.0,9,     -999.0,9,     -999.0,9,     -999.0,9,     -999.0,9,     -999.0,9,     -999.0,9,     -999.0,9,     -999.0,9,    13.2720,2,     -999.0,     -999.0,9,     -999.0
320620170820,        P06,     244,          1,         36,         36,2,20170928,       0945,   -32.4999,   -72.3354,       2896,     4.5,  13.4101,  34.1658,2,  34.1777,2, 262.3217,2, 271.1287,2,     0.0,2,    5.46,2,    0.22,2,    0.73,2,   2.628,2,   1.536,2,   1.3080,2,  2071.7,2,  2274.9,2,   7.8776,2,    25.00,    1.07,2,   15.25,2,    4.95,    59.0,2,    9.70,2,     -999.0,1,  -999.0,9, 20170928,     1109, -32.4999, -72.3354,        0.0,1,      0.696,1,      4.341,1,      0.343,1,     -999.0,9,     -999.0,9,     -999.0,9,     -999.0,9,     -999.0,9,     -999.0,9,     -999.0,9,     -999.0,9,     -999.0,9,     -999.0,9,     -999.0,9,    13.3876,2,     -999.0,     -999.0,9,     -999.0