BOTTLE,20240211CCHSIOCBG
EXPOCODE,SECT_ID,STNNBR,CASTNO,SAMPNO,BTLNBR,BTLNBR_FLAG_W,DATE,TIME,LATITUDE,LONGITUDE,DEPTH,CTDPRS,CTDTMP,CTDSAL,CTDSAL_FLAG_W,SALNTY,SALNTY_FLAG_W,CTDOXY,CTDOXY_FLAG_W,OXYGEN,OXYGEN_FLAG_W,SILCAT,SILCAT_FLAG_W,NITRAT,NITRAT_FLAG_W,NITRIT,NITRIT_FLAG_W,PHSPHT,PHSPHT_FLAG_W,CFC-11,CFC-11_FLAG_W,CFC-12,CFC-12_FLAG_W,SF6,SF6_FLAG_W,TCARBN,TCARBN_FLAG_W,ALKALI,ALKALI_FLAG_W,PH_TOT,PH_TOT_FLAG_W,PH_TMP,DELC13,DELC13_FLAG_W,DELC14,DELC14_FLAG_W,C14ERR,DOC,DOC_FLAG_W,TDN,TDN_FLAG_W,TON,TON_FLAG_W,D15N_NO3,D15N_NO3_FLAG_W,BTL_DATE,BTL_TIME,BTL_LAT,BTL_LON,CTDRINKO,CTDRINKO_FLAG_W,CTDFLUOR,CTDFLUOR_FLAG_W,CTDXMISS,CTDXMISS_FLAG_W,CTDBACKSCATTER,CTDBACKSCATTER_FLAG_W,D18O_NO3,D18O_NO3_FLAG_W,DOP,DOP_FLAG_W,CELLCOUNT,CELLCOUNT_FLAG_W,TDP,TDP_FLAG_W,POP,POP_FLAG_W,DATP,DATP_FLAG_W,PATP,PATP_FLAG_W,HPLC,HPLC_FLAG_W,POC,POC_FLAG_W,BEAMAP,BEAMAP_FLAG_W,DOC_NASA,DOC_NASA_FLAG_W,REFTMP,REFTMP_FLAG_W,DOC_NASA_ERROR,TDN_NASA,TDN_NASA_FLAG_W,TDN_NASA_ERROR
,,,,,,,,,,,METERS,DBAR,ITS-90,PSS-78,,PSS-78,,UMOL/KG,,UMOL/KG,,UMOL/KG,,UMOL/KG,,UMOL/KG,,UMOL/KG,,PMOL/KG,,PMOL/KG,,FMOL/KG,,UMOL/KG,,UMOL/KG,,,,DEG C,/MILLE,,/MILLE,,/MILLE,UMOL/KG,,UMOL/KG,,UMOL/KG,,/MILLE,,,,,,VOLTS,,VOLTS,,VOLTS,,VOLTS,,/MILLE,,UMOL/KG,,/LITER,,UMOL/KG,,UMOL/L,,PMOL/L,,PMOL/L,,,,UG/L,,/METER,,UMOL/L,,ITS-90,,UMOL/L,UMOL/L,,UMOL/L
320620170820,        P06,     148,          1,          1,          1,2,20170826,       1810,   -32.5008,  -145.7093,       5018,  5101.8,   1.2491,  34.7079,2,  34.7044,3, 198.7816,2, 199.4678,2,   119.9,2,   32.43,2,    0.00,2,    2.23,2,   0.040,2,   0.024,2,   0.0000,2,  2269.1,2,  2373.8,2,   7.6103,2,    25.00, -999.00,9, -999.00,9, -999.00,    39.8,2, -999.00,9,     -999.0,1,  -999.0,1, 20170826,     1810, -32.5012,-145.7095,        0.0,1,      0.061,1,      4.696,1,      0.123,1,     -999.0,1,     -999.0,9,     -999.0,9,     -999.0,9,     -999.0,9,     -999.0,9,     -999.0,9,     -999.0,9,     -999.0,9,     -999.0,9,     -999.0,9,     -999.0,5,     -999.0,     -999.0,9,     -999.0
320620170820,        P06,     148,          1,          2,          2,2,20170826,       1810,   -32.5008,  -145.7093,       5018,  4888.1,   1.2363,  34.7076,2,  34.7042,3, 198.7816,2, 199.2959,2,   119.9,2,   32.43,2,    0.00,2,    2.23,2,   0.040,2,   0.024,2,   0.0000,2,  2269.7,2,  2374.7,2,   7.6083,2,    25.00, -999.00,9, -999.00,9, -999.00,  -999.0,9, -999.00,9,     -999.0,9,  -999.0,1, 20170826,     1816, -32.5013,-145.7095,        0.0,1,      0.061,1,      4.696,1,      0.124,1,     -999.0,1,     -999.0,9,     -999.0,9,     -999.0,9,     -999.0,9,     -999.0,9,     -999.0,9,     -999.0,9,     -999.0,9,     -999.0,9,     -999.0,9,     -999.0,5,     -999.0,     -999.0,9,     -999.0
320620170820,        P06,     148,          1,          3,          3,2,20170826,       1810,   -32.5008,  -145.7093,       5018,  4681.4,   1.2393,  34.7072,2,  34.7058,3, 198.1489,2, 197.6438,2,   120.1,2,   32.50,2,    0.00,2,    2.23,2,   0.038,2,   0.024,2,   0.0000,2,  2270.0,2,  2373.1,2,   7.6078,2,    25.00, -999.00,9, -999.00,9, -999.00,    39.5,2, -999.00,9,     -999.0,1,  -999.0,1, 20170826,     1821, -32.5013,-145.7095,        0.0,1,      0.061,1,      4.697,1,      0.123,1,     -999.0,1,     -999.0,9,     -999.0,9,     -999.0,9,     -999.0,9,     -999.0,9,     -999.0,9,     -999.0,9,     -999.0,9,     -999.0,9,     -999.0,9,     -999.0,5,     -999.0,     -999.0,9,     -999.0
320620170820,        P06,     148,          1,          4,          4,2,20170826,       1810,   -32.5008,  -145.7093,       5018,  4373.7,   1.2744,  34.7047,2,  34.7042,3,  194.584,2,   193.98,2,   120.5,2,   32.70,2,    0.00,2,    2.26,2,   0.039,2,   0.025,2,   0.0000,2,  2274.4,2,  2377.0,2,   7.6054,2,    25.00, -999.00,9, -999.00,9, -999.00,    38.3,2, -999.00,9,     -999.0,1,  -999.0,1, 20170826,     1828, -32.5012,-145.7095,        0.0,1,      0.061,1,      4.697,1,      0.123,1,     -999.0,1,     -999.0,9,     -999.0,9,     -999.0,9,     -999.0,9,     -999.0,9,     -999.0,9,     -999.0,9,     -999.0,9,     -999.0,9,     -999.0,9,     -999.0,5,     -999.0,     -999.0,9,     -999.0
320620170820,        P06,     148,          1,          5,          5,2,20170826,       1810,   -32.5008,  -145.7093,       5018,  4067.1,   1.3541,  34.7010,2,  34.6983,3, 186.9659,2, 187.6368,2,   121.4,2,   33.12,2,    0.00,2,    2.29,2,   0.032,2,   0.021,2,   0.0000,2,  2280.4,2,  2383.0,2,   7.6018,2,    25.00, -999.00,9, -999.00,9, -999.00,    39.4,2, -999.00,9,     -999.0,1,  -999.0,1, 20170826,     1834, -32.5016,-145.7095,        0.0,1,      0.061,1,      4.697,1,      0.123,1,     -999.0,1,     -999.0,9,     -999.0,9,     -999.0,9,     -999.0,9,     -999.0,9,     -999.0,9,     -999.0,9,     -999.0,9,     -999.0,9,     -999.0,9,     -999.0,5,     -999.0,     -999.0,9,     -999.0
320620170820,        P06,     148,          1,          6,          6,2,20170826,       1810,   -32.5008,  -145.7093,       5018,  3759.0,   1.4627,  34.6947,2,  34.6954,3, 179.3762,2, 179.2893,2,   123.2,2,   33.67,2,    0.00,2,    2.34,2,   0.045,2,   0.030,2,   0.0000,2,  2287.0,2,  2388.7,2,   7.5964,2,    25.00, -999.00,9, -999.00,9, -999.00,  -999.0,9, -999.00,9,     -999.0,9,  -999.0,1, 20170826,     1840, -32.5012,-145.7095,        0.0,1,      0.061,1,      4.697,1,      0.124,1,     -999.0,1,     -999.0,9,     -999.0,9,     -999.0,9,     -999.0,9,     -999.0,9,     -999.0,9,     -999.0,9,     -999.0,9,     -999.0,9,     -999.0,9,     -999.0,5,     -999.0,     -999.0,9,     -999.0
320620170820,        P06,     148,          1,          7,          7,2,20170826,       1810,   -32.5008,  -145.7093,       5018,  3452.6,   1.5564,  34.6864,2,  34.6883,2, 171.6005,3, 170.5346,2,   125.7,2,   34.32,2,    0.00,2,    2.39,2,   0.032,2,   0.020,2,   0.0000,2,  2295.8,2,  2393.8,2,   7.5900,2,    25.00, -999.00,9, -999.00,9, -999.00,    37.0,2, -999.00,9,     -999.0,1,  -999.0,1, 20170826,     1846, -32.5009,-145.7094,        0.0,1,      0.060,1,      4.698,1,      0.126,1,     -999.0,1,     -999.0,9,     -999.0,9,     -999.0,9,     -999.0,9,     -999.0,9,     -999.0,9,     -999.0,9,     -999.0,9,     -999.0,9,     -999.0,9,     -999.0,5,     -999.0,     -999.0,9,     -999.0
320620170820,        P06,     148,          1,          8,          8,2,20170826,       1810,   -32.5008,  -145.7093,       5018,  3144.7,   1.6587,  34.6771,2,  34.6737,2, 162.9113,3, 161.0208,2,   128.2,2,   35.01,2,    0.00,2,    2.43,2,   0.037,2,   0.024,2,   0.0000,2,  2305.5,2,  2400.2,2,   7.5815,6,    25.00, -999.00,9, -999.00,9, -999.00,  -999.0,9, -999.00,9,     -999.0,9,  -999.0,1, 20170826,     1853, -32.5003,-145.7095,        0.0,1,      0.061,1,      4.698,1,      0.127,1,     -999.0,1,     -999.0,9,     -999.0,9,     -999.0,9,     -999.0,9,     -999.0,9,     -999.0,9,     -999.0,9,     -999.0,9,     -999.0,9,     -999.0,9,     -999.0,5,     -999.0,     -999.0,9,     -999.0
320620170820,        P06,     148,          1,          9,          9,2,20170826,       1810,   -32.5008,  -145.7093,       5018,  2873.7,   1.7334,  34.6703,2,  34.6696,2, 156.7754,2, 155.9527,2,   128.6,2,   35.40,2,    0.00,2,    2.47,2,   0.033,2,   0.020,2,   0.0000,2,  2308.8,2,  2402.8,2,   7.5767,2,    25.00, -999.00,9, -999.00,9, -999.00,    36.0,2, -999.00,9,     -999.0,1,  -999.0,1, 20170826,     1858, -32.5005,-145.7095,        0.0,1,      0.061,1,      4.698,1,      0.126,1,     -999.0,1,     -999.0,9,     -999.0,9,     -999.0,9,     -999.0,9,     -999.0,9,     -999.0,9,     -999.0,9,     -999.0,9,     -999.0,9,     -999.0,9,     -999.0,5,     -999.0,     -999.0,9,     -999.0
320620170820,        P06,     148,          1,         10,         10,2,20170826,       1810,   -32.5008,  -145.7093,       5018,  2620.0,   1.8265,  34.6627,2,  34.6606,2, 152.5028,2,  151.977,2,   127.0,2,   35.72,2,    0.00,2,    2.48,2,   0.035,2,   0.020,2,   0.0000,2,  2311.4,2,  2402.8,2,   7.5728,2,    25.00, -999.00,9, -999.00,9, -999.00,  -999.0,9, -999.00,9,     -999.0,9,  -999.0,1, 20170826,     1903, -32.5008,-145.7094,        0.0,1,      0.061,1,      4.698,1,      0.127,1,     -999.0,1,     -999.0,9,     -999.0,9,     -999.0,9,     -999.0,9,     -999.0,9,     -999.0,9,     -999.0,9,     -999.0,9,     -999.0,9,     -999.0,9,     -999.0,5,     -999.0,     -999.0,9,     -999.0
320620170820,        P06,     148,          1,         11,         11,2,20170826,       1810,   -32.5008,  -145.7093,       5018,  2363.5,   1.9287,  34.6535,2,  34.6515,2, 149.9832,3, 152.7797,2,   123.2,2,   35.65,2,    0.00,2,    2.47,2,   0.035,2,   0.020,2,   0.0000,2,  2309.7,6,  2399.8,2,   7.5704,2,    25.00, -999.00,9, -999.00,9, -999.00,    37.8,2, -999.00,9,     -999.0,1,  -999.0,1, 20170826,     1909, -32.5013,-145.7094,        0.0,1,      0.061,1,      4.698,1,      0.128,1,     -999.0,1,     -999.0,9,     -999.0,9,     -999.0,9,     -999.0,9,     -999.0,9,     -999.0,9,     -999.0,9,     -999.0,9,     -999.0,9,     -999.0,9,     -999.0,5,     -999.0,     -999.0,9,     -999.0
320620170820,        P06,     148,          1,         12,         12,2,20170826,       1810,   -32.5008,  -145.7093,       5018,  2107.5,   2.0813,  34.6394,2,  34.6431,2, 150.3231,2, 151.0258,2,   116.8,2,   35.55,2,    0.00,2,    2.48,2,   0.035,2,   0.020,2,   0.0000,2,  2302.1,2,  2392.6,2,   7.5699,2,    25.00, -999.00,9, -999.00,9, -999.00,  -999.0,9, -999.00,9,     -999.0,9,  -999.0,1, 20170826,     1914, -32.5009,-145.7094,        0.0,1,      0.061,1,      4.699,1,      0.129,1,     -999.0,1,     -999.0,9,     -999.0,9,     -999.0,9,     -999.0,9,     -999.0,9,     -999.0,9,     -999.0,9,     -999.0,9,     -999.0,9,     -999.0,9,     -999.0,5,     -999.0,     -999.0,9,     -999.0
320620170820,        P06,     148,          1,         13,         13,2,20170826,       1810,   -32.5008,  -145.7093,       5018,  1886.3,   2.2624,  34.6180,2,  34.6231,2, 152.1526,2, 153.5393,2,   107.9,2,   35.27,2,    0.00,2,    2.44,2,   0.031,2,   0.019,2,   0.0000,2,  2293.0,2,  2383.8,2,   7.5698,2,    25.00, -999.00,9, -999.00,9, -999.00,    37.0,2, -999.00,9,     -999.0,1,  -999.0,1, 20170826,     1919, -32.5012,-145.7094,        0.0,1,      0.061,1,      4.698,1,      0.129,1,     -999.0,1,     -999.0,9,     -999.0,9,     -999.0,9,     -999.0,9,     -999.0,9,     -999.0,9,     -999.0,9,     -999.0,9,     -999.0,9,     -999.0,9,     -999.0,5,     -999.0,     -999.0,9,     -999.0
320620170820,        P06,     148,          1,         14,         14,2,20170826,       1810,   -32.5008,  -145.7093,       5018,  1684.4,   2.4856,  34.5817,2,  34.5981,2, 155.8677,2, 157.2402,2,    96.4,2,   35.01,2,    0.00,2,    2.42,2,   0.043,2,   0.028,2,   0.0000,2,  2280.7,2,  2370.1,2,   7.5693,2,    25.00, -999.00,9, -999.00,9, -999.00,  -999.0,9, -999.00,9,     -999.0,9,  -999.0,1, 20170826,     1923, -32.5011,-145.7094,        0.0,1,      0.061,1,      4.698,1,      0.131,1,     -999.0,1,     -999.0,9,     -999.0,9,     -999.0,9,     -999.0,9,     -999.0,9,     -999.0,9,     -999.0,9,     -999.0,9,     -999.0,9,     -999.0,9,     -999.0,5,     -999.0,     -999.0,9,     -999.0
320620170820,        P06,     148,          1,         15,         15,2,20170826,       1810,   -32.5008,  -145.7093,       5018,  1551.2,   2.6874,  34.5401,2,  34.5529,2, 160.4395,2, 161.4299,2,    85.5,2,   34.79,2,    0.00,2,    2.40,2,   0.058,2,   0.035,2,   0.0000,2,  2267.4,2,  2357.2,2,   7.5675,2,    25.00, -999.00,9, -999.00,9, -999.00,    38.1,2, -999.00,9,     -999.0,1,  -999.0,1, 20170826,     1926, -32.5013,-145.7094,        0.0,1,      0.061,1,      4.698,1,      0.130,1,     -999.0,1,     -999.0,9,     -999.0,9,     -999.0,9,     -999.0,9,     -999.0,9,     -999.0,9,     -999.0,9,     -999.0,9,     -999.0,9,     -999.0,9,     -999.0,5,     -999.0,     -999.0,9,     -999.0
320620170820,        P06,     148,          1,         16,         16,2,20170826,       1810,   -32.5008,  -145.7093,       5018,  1450.7,   2.8868,  34.4956,2,  34.5115,2, 165.4742,2, 166.5174,2,    74.6,2,   34.56,2,    0.00,2,    2.38,2,   0.109,2,   0.068,2,   0.0000,2,  2256.1,2,  2342.6,2,   7.5678,2,    25.00, -999.00,9, -999.00,9, -999.00,  -999.0,9, -999.00,9,     -999.0,9,  -999.0,1, 20170826,     1929, -32.5014,-145.7094,        0.0,1,      0.061,1,      4.698,1,      0.130,1,     -999.0,1,     -999.0,9,     -999.0,9,     -999.0,9,     -999.0,9,     -999.0,9,     -999.0,9,     -999.0,9,     -999.0,9,     -999.0,9,     -999.0,9,     -999.0,5,     -999.0,     -999.0,9,     -999.0
320620170820,        P06,     148,          1,         17,         17,2,20170826,       1810,   -32.5008,  -145.7093,       5018,  1247.2,   3.3860,  34.4110,2,  34.4106,2,  179.526,2,  179.135,2,    53.8,2,   33.71,2,    0.00,2,    2.32,2,   0.336,2,   0.201,2,   0.0000,2,  2230.7,2,  2321.7,2,   7.5795,2,    25.00, -999.00,9, -999.00,9, -999.00,    40.4,2, -999.00,9,     -999.0,1,  -999.0,1, 20170826,     1934, -32.5013,-145.7094,        0.0,1,      0.061,1,      4.699,1,      0.131,1,     -999.0,1,     -999.0,9,     -999.0,9,     -999.0,9,     -999.0,9,     -999.0,9,     -999.0,9,     -999.0,9,     -999.0,9,     -999.0,9,     -999.0,9,     -999.0,5,     -999.0,     -999.0,9,     -999.0
320620170820,        P06,     148,          1,         18,         18,2,20170826,       1810,   -32.5008,  -145.7093,       5018,  1043.9,   4.4072,  34.3288,2,  34.3217,2, 201.3148,2, 200.7235,2,    30.6,2,   30.90,2,    0.00,2,    2.10,2,-999.000,5,-999.000,5,-999.0000,5,  2194.1,2,  2297.8,2,   7.6198,2,    25.00, -999.00,9, -999.00,9, -999.00,    41.2,2, -999.00,9,     -999.0,1,  -999.0,1, 20170826,     1938, -32.5012,-145.7094,        0.0,1,      0.061,1,      4.699,1,      0.131,1,     -999.0,1,     -999.0,9,     -999.0,9,     -999.0,9,     -999.0,9,     -999.0,9,     -999.0,9,     -999.0,9,     -999.0,9,     -999.0,9,     -999.0,9,     -999.0,5,     -999.0,     -999.0,9,     -999.0
320620170820,        P06,     148,          1,         19,         19,2,20170826,       1810,   -32.5008,  -145.7093,       5018,   945.0,   4.9855,  34.3070,2,  34.3036,2, 214.8344,2,   212.88,2,    21.6,2,   28.87,2,    0.00,2,    1.95,2,   1.708,2,   0.860,2,   0.0000,2,  2178.5,2,  2287.5,2,   7.6470,2,    25.00, -999.00,9, -999.00,9, -999.00,    44.2,2, -999.00,9,     -999.0,1,  -999.0,1, 20170826,     1941, -32.5012,-145.7094,        0.0,1,      0.059,1,      4.698,1,      0.131,1,     -999.0,1,     -999.0,9,     -999.0,9,     -999.0,9,     -999.0,9,     -999.0,9,     -999.0,9,     -999.0,9,     -999.0,9,     -999.0,9,     -999.0,9,     -999.0,5,     -999.0,     -999.0,9,     -999.0
320620170820,        P06,     148,          1,         20,         20,2,20170826,       1810,   -32.5008,  -145.7093,       5018,   840.4,   5.5991,  34.3022,2,  34.2999,2, 227.5713,2, 227.7887,2,    13.8,2,   26.26,2,    0.00,2,    1.78,2,   2.542,2,   1.251,2,   0.4650,2,  2162.2,2,  2284.7,2,   7.6773,2,    25.00, -999.00,9, -999.00,9, -999.00,    42.4,2, -999.00,9,     -999.0,1,  -999.0,1, 20170826,     1944, -32.5011,-145.7094,        0.0,1,      0.060,1,      4.698,1,      0.130,1,     -999.0,1,     -999.0,9,     -999.0,9,     -999.0,9,     -999.0,9,     -999.0,9,     -999.0,9,     -999.0,9,     -999.0,9,     -999.0,9,     -999.0,9,     -999.0,5,     -999.0,     -999.0,9,     -999.0
320620170820,        P06,     148,          1,         21,         21,2,20170826,       1810,   -32.5008,  -145.7093,       5018,   740.0,   6.2341,  34.3186,2,  34.3138,2, 238.4216,2, 237.0598,2,    10.0,2,   24.46,2,    0.00,2,    1.65,2,   3.031,2,   1.579,2,   0.8680,2,  2152.1,2,  2281.6,2,   7.6961,2,    25.00, -999.00,9, -999.00,9, -999.00,    41.6,2, -999.00,9,     -999.0,1,  -999.0,1, 20170826,     1946, -32.5011,-145.7094,        0.0,1,      0.059,1,      4.697,1,      0.132,1,     -999.0,1,     -999.0,9,     -999.0,9,     -999.0,9,     -999.0,9,     -999.0,9,     -999.0,9,     -999.0,9,     -999.0,9,     -999.0,9,     -999.0,9,     -999.0,5,     -999.0,     -999.0,9,     -999.0
320620170820,        P06,     148,          1,         22,         22,2,20170826,       1810,   -32.5008,  -145.7093,       5018,   641.6,   6.7614,  34.3512,2,  34.3354,2, 242.5042,2, 241.4028,2,     7.9,2,   23.09,2,    0.00,2,    1.56,2,   3.358,2,   1.792,2,   0.9370,2,  2148.0,2,  2280.7,2,   7.7060,2,    25.00, -999.00,9, -999.00,9, -999.00,    42.6,2, -999.00,9,     -999.0,1,  -999.0,1, 20170826,     1949, -32.5010,-145.7094,        0.0,1,      0.059,1,      4.697,1,      0.134,1,     -999.0,1,     -999.0,9,     -999.0,9,     -999.0,9,     -999.0,9,     -999.0,9,     -999.0,9,     -999.0,9,     -999.0,9,     -999.0,9,     -999.0,9,     -999.0,5,     -999.0,     -999.0,9,     -999.0
320620170820,        P06,     148,          1,         23,         23,2,20170826,       1810,   -32.5008,  -145.7093,       5018,   536.7,   7.3203,  34.3911,2,  34.3802,2, 244.2969,2, 243.6696,2,     6.0,2,   21.17,2,    0.00,2,    1.44,2,   3.576,2,   1.970,2,   1.2010,2,  2143.1,6,  2283.0,2,   7.7173,2,    25.00, -999.00,9, -999.00,9, -999.00,    43.7,2, -999.00,9,     -999.0,1,  -999.0,1, 20170826,     1952, -32.5009,-145.7094,        0.0,1,      0.059,1,      4.696,1,      0.134,1,     -999.0,1,     -999.0,9,     -999.0,9,     -999.0,9,     -999.0,9,     -999.0,9,     -999.0,9,     -999.0,9,     -999.0,9,     -999.0,9,     -999.0,9,     -999.0,5,     -999.0,     -999.0,9,     -999.0
320620170820,        P06,     148,          1,         24,         24,2,20170826,       1810,   -32.5008,  -145.7093,       5018,   436.8,   8.0855,  34.4394,2,  34.4304,2, 236.5081,2, 236.7969,2,     4.4,2,   19.13,2,    0.00,2,    1.32,2,   3.483,2,   1.914,2,   1.3300,2,  2139.8,2,  2282.6,2,   7.7269,2,    25.00, -999.00,9, -999.00,9, -999.00,    43.8,2, -999.00,9,     -999.0,1,  -999.0,1, 20170826,     1955, -32.5007,-145.7093,        0.0,1,      0.059,1,      4.695,1,      0.137,1,     -999.0,1,     -999.0,1,     -999.0,9,       1.39,2,     -999.0,9,     -999.0,9,     -999.0,9,     -999.0,9,     -999.0,9,     -999.0,9,     -999.0,9,     -999.0,5,     -999.0,     -999.0,9,     -999.0
320620170820,        P06,     148,          1,         25,         25,2,20170826,       1810,   -32.5008,  -145.7093,       5018,   317.9,  10.3306,  34.6122,2,  34.6005,2,  212.823,2, 216.8743,2,     2.5,2,   14.51,2,    0.00,2,    1.05,2,   3.138,2,   1.763,2,   1.2170,2,  2126.0,2,  2285.5,2,   7.7640,6,    25.00, -999.00,9, -999.00,9, -999.00,    45.1,2, -999.00,9,     -999.0,1,  -999.0,1, 20170826,     1958, -32.5007,-145.7093,        0.0,1,      0.059,1,      4.692,1,      0.134,1,     -999.0,1,     -999.0,1,     -999.0,9,     -999.0,9,     -999.0,9,     -999.0,9,     -999.0,9,     -999.0,9,     -999.0,9,     -999.0,9,     -999.0,9,     -999.0,5,     -999.0,     -999.0,9,     -999.0
320620170820,        P06,     148,          1,         26,         26,2,20170826,       1810,   -32.5008,  -145.7093,       5018,   264.3,  12.3975,  34.8545,2,  34.8627,3, 203.4711,2, 211.1562,2,     1.6,2,    9.60,2,    0.00,2,    0.73,2,   2.567,6,   1.601,6,   1.5065,6,  2113.2,2,  2294.6,2,   7.8159,2,    25.00, -999.00,9, -999.00,9, -999.00,    46.8,2,   13.30,2,     -999.0,1,  -999.0,1, 20170826,     2000, -32.5006,-145.7093,        0.0,1,      0.058,1,      4.689,1,      0.135,1,     -999.0,1,     -999.0,1,     -999.0,9,       0.83,2,     -999.0,9,     -999.0,9,     -999.0,9,     -999.0,9,     -999.0,9,     -999.0,9,     -999.0,9,     -999.0,5,     -999.0,     -999.0,9,     -999.0