BOTTLE,20240211CCHSIOCBG
EXPOCODE,SECT_ID,STNNBR,CASTNO,SAMPNO,BTLNBR,BTLNBR_FLAG_W,DATE,TIME,LATITUDE,LONGITUDE,DEPTH,CTDPRS,CTDTMP,CTDSAL,CTDSAL_FLAG_W,SALNTY,SALNTY_FLAG_W,CTDOXY,CTDOXY_FLAG_W,OXYGEN,OXYGEN_FLAG_W,SILCAT,SILCAT_FLAG_W,NITRAT,NITRAT_FLAG_W,NITRIT,NITRIT_FLAG_W,PHSPHT,PHSPHT_FLAG_W,CFC-11,CFC-11_FLAG_W,CFC-12,CFC-12_FLAG_W,SF6,SF6_FLAG_W,TCARBN,TCARBN_FLAG_W,ALKALI,ALKALI_FLAG_W,PH_TOT,PH_TOT_FLAG_W,PH_TMP,DELC13,DELC13_FLAG_W,DELC14,DELC14_FLAG_W,C14ERR,DOC,DOC_FLAG_W,TDN,TDN_FLAG_W,TON,TON_FLAG_W,D15N_NO3,D15N_NO3_FLAG_W,BTL_DATE,BTL_TIME,BTL_LAT,BTL_LON,CTDRINKO,CTDRINKO_FLAG_W,CTDFLUOR,CTDFLUOR_FLAG_W,CTDXMISS,CTDXMISS_FLAG_W,CTDBACKSCATTER,CTDBACKSCATTER_FLAG_W,D18O_NO3,D18O_NO3_FLAG_W,DOP,DOP_FLAG_W,CELLCOUNT,CELLCOUNT_FLAG_W,TDP,TDP_FLAG_W,POP,POP_FLAG_W,DATP,DATP_FLAG_W,PATP,PATP_FLAG_W,HPLC,HPLC_FLAG_W,POC,POC_FLAG_W,BEAMAP,BEAMAP_FLAG_W,DOC_NASA,DOC_NASA_FLAG_W,REFTMP,REFTMP_FLAG_W,DOC_NASA_ERROR,TDN_NASA,TDN_NASA_FLAG_W,TDN_NASA_ERROR
,,,,,,,,,,,METERS,DBAR,ITS-90,PSS-78,,PSS-78,,UMOL/KG,,UMOL/KG,,UMOL/KG,,UMOL/KG,,UMOL/KG,,UMOL/KG,,PMOL/KG,,PMOL/KG,,FMOL/KG,,UMOL/KG,,UMOL/KG,,,,DEG C,/MILLE,,/MILLE,,/MILLE,UMOL/KG,,UMOL/KG,,UMOL/KG,,/MILLE,,,,,,VOLTS,,VOLTS,,VOLTS,,VOLTS,,/MILLE,,UMOL/KG,,/LITER,,UMOL/KG,,UMOL/L,,PMOL/L,,PMOL/L,,,,UG/L,,/METER,,UMOL/L,,ITS-90,,UMOL/L,UMOL/L,,UMOL/L
320620170820,        P06,     158,          1,         27,         27,2,20170831,       0337,   -32.5002,  -136.8080,       4427,   337.2,  10.4744,  34.6069,2,  34.6077,3, 207.2738,2, 213.9231,2,     2.6,2,   14.23,2,    0.00,2,    1.03,2,   3.048,2,   1.665,2,   1.3930,2,  2127.0,2,  2283.7,2,   7.7688,2,    25.00, -999.00,9, -999.00,9, -999.00,  -999.0,9, -999.00,9,     -999.0,9,  -999.0,9, 20170831,      520, -32.4997,-136.8082,        0.0,1,      0.059,1,      4.689,1,      0.135,1,     -999.0,9,     -999.0,9,     -999.0,9,     -999.0,9,     -999.0,9,     -999.0,9,     -999.0,9,     -999.0,9,     -999.0,9,     -999.0,9,     -999.0,9,    10.6181,2,     -999.0,     -999.0,9,     -999.0
320620170820,        P06,     158,          1,         28,         28,2,20170831,       0337,   -32.5002,  -136.8080,       4427,   287.9,  12.0688,  34.7929,2,  34.8302,2, 209.9227,2, 209.6821,2,     1.7,2,    9.72,2,    0.00,2,    0.74,2,   2.838,2,   1.616,2,   1.3620,2,  2111.6,2,  2293.7,2,   7.8161,2,    25.00, -999.00,9, -999.00,9, -999.00,    48.8,2, -999.00,9,     -999.0,1,  -999.0,9, 20170831,      523, -32.4998,-136.8082,        0.0,1,      0.058,1,      4.688,1,      0.132,1,     -999.0,9,     -999.0,9,     -999.0,9,     -999.0,9,     -999.0,9,     -999.0,9,     -999.0,9,     -999.0,9,     -999.0,9,     -999.0,9,     -999.0,9,    12.5122,2,     -999.0,     -999.0,9,     -999.0
320620170820,        P06,     158,          1,         29,         29,2,20170831,       0337,   -32.5002,  -136.8080,       4427,   236.5,  13.8518,  34.9653,2,  34.9927,2, 212.8556,2, 218.9386,2,     0.7,2,    4.87,2,    0.02,2,    0.43,2,   2.615,2,   1.542,2,   1.7040,2,  2094.3,2,  2299.9,2,   7.8679,2,    25.00, -999.00,9, -999.00,9, -999.00,    55.8,3,    7.40,2,     -999.0,1,  -999.0,9, 20170831,      525, -32.4998,-136.8082,        0.0,1,      0.063,1,      4.684,1,      0.133,1,     -999.0,9,     -999.0,9,     -999.0,9,     -999.0,9,     -999.0,9,     -999.0,9,     -999.0,9,     -999.0,9,     -999.0,9,     -999.0,9,     -999.0,9,    14.1016,2,     -999.0,     -999.0,9,     -999.0
320620170820,        P06,     158,          1,         30,         30,2,20170831,       0337,   -32.5002,  -136.8080,       4427,   185.1,  15.2448,  35.1455,2,  35.1996,2, 221.8819,2, 218.1222,2,     0.4,2,    2.92,2,    0.03,2,    0.29,2,   2.402,2,   1.437,2,   1.5260,2,  2085.5,2,  2311.9,2,   7.9008,2,    25.00, -999.00,9, -999.00,9, -999.00,    50.0,2,    6.40,2,     -999.0,1,  -999.0,9, 20170831,      527, -32.4998,-136.8082,        0.0,1,      0.081,1,      4.677,1,      0.140,1,     -999.0,9,     -999.0,9,     -999.0,9,     -999.0,9,     -999.0,9,     -999.0,9,     -999.0,9,     -999.0,9,     -999.0,9,     -999.0,9,     -999.0,9,    15.5596,2,     -999.0,     -999.0,9,     -999.0
320620170820,        P06,     158,          1,         31,         31,2,20170831,       0337,   -32.5002,  -136.8080,       4427,   135.2,  15.9924,  35.0483,2,  35.0699,2, 235.4956,2, 242.2656,2,     0.1,2,    0.00,2,    0.02,2,    0.11,2,   2.304,6,   1.395,6,   1.8960,6,  2056.9,2,  2304.8,2,   7.9464,2,    25.00, -999.00,9, -999.00,9, -999.00,    61.6,2,    4.10,2,     -999.0,1,  -999.0,9, 20170831,      529, -32.4998,-136.8082,        0.0,1,      0.144,1,      4.650,1,      0.171,1,     -999.0,9,     -999.0,9,     -999.0,9,     -999.0,9,     -999.0,9,     -999.0,9,     -999.0,9,     -999.0,9,     -999.0,9,     -999.0,9,     -999.0,9,    16.0739,2,     -999.0,     -999.0,9,     -999.0
320620170820,        P06,     158,          1,         32,         32,2,20170831,       0337,   -32.5002,  -136.8080,       4427,    89.7,  16.7114,  35.2486,2,  35.2562,2, 232.3784,2, 239.4894,2,     0.1,2,    0.00,2,    0.00,2,    0.11,2,   2.219,2,   1.345,2,   1.8080,2,  2057.3,2,  2314.1,2,   7.9617,2,    25.00, -999.00,9, -999.00,9, -999.00,    59.0,2,    4.40,2,     -999.0,1,  -999.0,9, 20170831,      531, -32.4999,-136.8081,        0.0,1,      0.155,1,      4.637,1,      0.183,1,     -999.0,9,     -999.0,9,     -999.0,9,     -999.0,9,     -999.0,9,     -999.0,9,     -999.0,9,     -999.0,9,     -999.0,9,     -999.0,9,     -999.0,9,    16.7486,2,     -999.0,     -999.0,9,     -999.0
320620170820,        P06,     158,          1,         33,         33,2,20170831,       0337,   -32.5002,  -136.8080,       4427,    63.9,  16.7875,  35.2720,2,  35.2753,2, 232.8394,2, 239.0743,2,     0.1,2,    0.00,2,    0.00,2,    0.08,2,   2.282,2,   1.322,2,   1.8880,2,  2057.6,2,  2317.0,2,   7.9632,2,    25.00, -999.00,9, -999.00,9, -999.00,    59.8,2,    4.20,2,     -999.0,1,  -999.0,9, 20170831,      533, -32.5000,-136.8081,        0.0,1,      0.161,1,      4.633,1,      0.185,1,     -999.0,9,     -999.0,9,     -999.0,9,     -999.0,9,     -999.0,9,     -999.0,9,     -999.0,9,     -999.0,9,     -999.0,9,     -999.0,9,     -999.0,9,    16.8136,2,     -999.0,     -999.0,9,     -999.0
320620170820,        P06,     158,          1,         34,         34,2,20170831,       0337,   -32.5002,  -136.8080,       4427,    38.5,  16.8176,  35.2814,2,  35.2454,2, 233.3015,2, 239.8485,2,     0.1,2,    0.00,2,    0.00,2,    0.09,2,   2.213,2,   1.340,2,   1.8330,2,  2057.5,2,  2311.8,2,   7.9630,6,    25.00, -999.00,9, -999.00,9, -999.00,    60.2,2,    3.30,2,     -999.0,1,  -999.0,9, 20170831,      534, -32.5001,-136.8080,        0.0,1,      0.165,1,      4.628,1,      0.189,1,     -999.0,9,     -999.0,9,     -999.0,9,     -999.0,9,     -999.0,9,     -999.0,9,     -999.0,9,     -999.0,9,     -999.0,9,     -999.0,9,     -999.0,9,    16.7987,2,     -999.0,     -999.0,9,     -999.0
320620170820,        P06,     158,          1,         35,         35,2,20170831,       0337,   -32.5002,  -136.8080,       4427,    19.4,  16.7679,  35.2397,2,  35.2461,2, 233.3613,2, 239.7827,2,     0.1,2,    0.00,2,    0.00,2,    0.09,2,   2.221,2,   1.347,2,   1.7470,2,  2056.5,2,  2314.2,2,   7.9632,2,    25.00, -999.00,9, -999.00,9, -999.00,    57.8,2,    4.00,2,     -999.0,1,  -999.0,9, 20170831,      536, -32.5002,-136.8080,        0.0,1,      0.151,1,      4.622,1,      0.184,1,     -999.0,9,     -999.0,9,     -999.0,9,     -999.0,9,     -999.0,9,     -999.0,9,     -999.0,9,     -999.0,9,     -999.0,9,     -999.0,9,     -999.0,9,    16.7750,2,     -999.0,     -999.0,9,     -999.0
320620170820,        P06,     158,          1,         36,         36,2,20170831,       0337,   -32.5002,  -136.8080,       4427,     3.6,  16.7630,  35.2375,2,  35.2434,2, 233.5101,2, 239.7236,2,     0.2,2,    0.01,2,    0.00,2,    0.10,2,   2.013,2,   1.321,2,   1.9420,2,  2056.3,6,  2312.0,2,   7.9628,2,    25.00, -999.00,9, -999.00,9, -999.00,    59.7,2,    3.70,2,     -999.0,1,  -999.0,9, 20170831,      537, -32.5002,-136.8080,        0.0,1,      0.151,1,      4.622,1,      0.181,1,     -999.0,9,     -999.0,9,     -999.0,9,     -999.0,9,     -999.0,9,     -999.0,9,     -999.0,9,     -999.0,9,     -999.0,9,     -999.0,9,     -999.0,9,    16.7701,2,     -999.0,     -999.0,9,     -999.0