BOTTLE,20240211CCHSIOCBG
EXPOCODE,SECT_ID,STNNBR,CASTNO,SAMPNO,BTLNBR,BTLNBR_FLAG_W,DATE,TIME,LATITUDE,LONGITUDE,DEPTH,CTDPRS,CTDTMP,CTDSAL,CTDSAL_FLAG_W,SALNTY,SALNTY_FLAG_W,CTDOXY,CTDOXY_FLAG_W,OXYGEN,OXYGEN_FLAG_W,SILCAT,SILCAT_FLAG_W,NITRAT,NITRAT_FLAG_W,NITRIT,NITRIT_FLAG_W,PHSPHT,PHSPHT_FLAG_W,CFC-11,CFC-11_FLAG_W,CFC-12,CFC-12_FLAG_W,SF6,SF6_FLAG_W,TCARBN,TCARBN_FLAG_W,ALKALI,ALKALI_FLAG_W,PH_TOT,PH_TOT_FLAG_W,PH_TMP,DELC13,DELC13_FLAG_W,DELC14,DELC14_FLAG_W,C14ERR,DOC,DOC_FLAG_W,TDN,TDN_FLAG_W,TON,TON_FLAG_W,D15N_NO3,D15N_NO3_FLAG_W,BTL_DATE,BTL_TIME,BTL_LAT,BTL_LON,CTDRINKO,CTDRINKO_FLAG_W,CTDFLUOR,CTDFLUOR_FLAG_W,CTDXMISS,CTDXMISS_FLAG_W,CTDBACKSCATTER,CTDBACKSCATTER_FLAG_W,D18O_NO3,D18O_NO3_FLAG_W,DOP,DOP_FLAG_W,CELLCOUNT,CELLCOUNT_FLAG_W,TDP,TDP_FLAG_W,POP,POP_FLAG_W,DATP,DATP_FLAG_W,PATP,PATP_FLAG_W,HPLC,HPLC_FLAG_W,POC,POC_FLAG_W,BEAMAP,BEAMAP_FLAG_W,DOC_NASA,DOC_NASA_FLAG_W,REFTMP,REFTMP_FLAG_W,DOC_NASA_ERROR,TDN_NASA,TDN_NASA_FLAG_W,TDN_NASA_ERROR
,,,,,,,,,,,METERS,DBAR,ITS-90,PSS-78,,PSS-78,,UMOL/KG,,UMOL/KG,,UMOL/KG,,UMOL/KG,,UMOL/KG,,UMOL/KG,,PMOL/KG,,PMOL/KG,,FMOL/KG,,UMOL/KG,,UMOL/KG,,,,DEG C,/MILLE,,/MILLE,,/MILLE,UMOL/KG,,UMOL/KG,,UMOL/KG,,/MILLE,,,,,,VOLTS,,VOLTS,,VOLTS,,VOLTS,,/MILLE,,UMOL/KG,,/LITER,,UMOL/KG,,UMOL/L,,PMOL/L,,PMOL/L,,,,UG/L,,/METER,,UMOL/L,,ITS-90,,UMOL/L,UMOL/L,,UMOL/L
320620170820,        P06,     205,          3,         27,         27,2,20170915,       2157,   -32.4999,  -100.6651,       3532,   166.4,  14.1614,  34.4825,2,  34.4604,2, 231.8742,2, 231.6797,2,     0.1,2,    4.76,2,    0.30,2,    0.48,2,   2.682,2,   1.565,2,   1.4760,2,  2073.5,2,  2272.6,2,   7.8657,2,    25.00, -999.00,9, -999.00,9, -999.00,  -999.0,9, -999.00,9,     -999.0,9,  -999.0,9, 20170915,     2325, -32.4999,-100.6651,        0.0,1,      0.109,1,      4.664,1,      0.151,1,     -999.0,9,     -999.0,9,     -999.0,9,     -999.0,9,     -999.0,9,     -999.0,9,     -999.0,9,     -999.0,9,     -999.0,9,     -999.0,9,     -999.0,9,    13.8155,2,     -999.0,     -999.0,9,     -999.0
320620170820,        P06,     205,          3,         28,         28,2,20170915,       2157,   -32.4999,  -100.6651,       3532,   136.4,  16.8602,  34.8619,2,  34.8015,2, 242.6526,2, 241.4644,2,     0.0,2,    0.31,2,    0.10,2,    0.18,2,   2.287,2,   1.370,2,   1.3970,2,  2047.6,2,  2292.7,2,   7.9489,2,    25.00, -999.00,9, -999.00,9, -999.00,  -999.0,9, -999.00,9,     -999.0,9,  -999.0,9, 20170915,     2327, -32.4999,-100.6650,        0.0,1,      0.163,1,      4.618,1,      0.208,1,     -999.0,9,     -999.0,9,     -999.0,9,     -999.0,9,     -999.0,9,     -999.0,9,     -999.0,9,     -999.0,9,     -999.0,9,     -999.0,9,     -999.0,9,    16.7536,2,     -999.0,     -999.0,9,     -999.0
320620170820,        P06,     205,          3,         29,         29,2,20170915,       2157,   -32.4999,  -100.6651,       3532,   110.4,  16.8626,  34.8600,2,  34.8558,2, 242.0545,2, 243.0502,2,     0.0,2,    0.03,2,    0.01,2,    0.12,2,   2.219,2,   1.350,2,   1.5810,2,  2048.8,2,  2295.2,6,   7.9580,2,    25.00, -999.00,9, -999.00,9, -999.00,  -999.0,9, -999.00,9,     -999.0,9,  -999.0,9, 20170915,     2329, -32.4999,-100.6650,        0.0,1,      0.157,1,      4.611,1,      0.207,1,     -999.0,9,     -999.0,9,     -999.0,9,     -999.0,9,     -999.0,9,     -999.0,9,     -999.0,9,     -999.0,9,     -999.0,9,     -999.0,9,     -999.0,9,    16.8495,2,     -999.0,     -999.0,9,     -999.0
320620170820,        P06,     205,          3,         30,         30,2,20170915,       2157,   -32.4999,  -100.6651,       3532,    75.4,  16.8379,  34.8509,2,-999.0000,9, 235.7657,2,-999.0000,9,  -999.0,9, -999.00,9, -999.00,9, -999.00,9,-999.000,9,-999.000,9,-999.0000,9,  -999.0,9,  -999.0,9,-999.0000,9,  -999.00, -999.00,9, -999.00,9, -999.00,  -999.0,9, -999.00,9,     -999.0,9,  -999.0,9, 20170915,     2331, -32.4999,-100.6651,        0.0,1,      0.149,1,      4.607,1,      0.209,1,     -999.0,9,     -999.0,9,     -999.0,9,     -999.0,9,     -999.0,9,     -999.0,9,     -999.0,9,     -999.0,1,     -999.0,1,     -999.0,1,61.51109058,2,    16.7764,2,-83.18068276,49.41599281,2,     -999.0
320620170820,        P06,     205,          3,         32,         32,2,20170915,       2157,   -32.4999,  -100.6651,       3532,    75.3,  16.8379,  34.8509,2,  34.8271,2, 242.6323,2, 243.3291,2,     0.0,2,    0.02,2,    0.02,2,    0.14,2,   2.235,2,   1.355,2,   1.6060,2,  2046.5,2,  2294.6,2,   7.9561,2,    25.00, -999.00,9, -999.00,9, -999.00,  -999.0,9, -999.00,9,     -999.0,9,  -999.0,9, 20170915,     2332, -32.5000,-100.6652,        0.0,1,      0.149,1,      4.607,1,      0.209,1,     -999.0,9,     -999.0,9,     -999.0,9,     -999.0,9,     -999.0,9,     -999.0,9,     -999.0,9,     -999.0,9,     -999.0,9,     -999.0,9,     -999.0,9,    16.7781,2,     -999.0,     -999.0,9,     -999.0
320620170820,        P06,     205,          3,         31,         31,2,20170915,       2157,   -32.4999,  -100.6651,       3532,    74.9,  16.8379,  34.8509,2,-999.0000,9, 235.6563,2,-999.0000,9,  -999.0,9, -999.00,9, -999.00,9, -999.00,9,-999.000,9,-999.000,9,-999.0000,9,  -999.0,9,  -999.0,9,-999.0000,9,  -999.00, -999.00,9, -999.00,9, -999.00,  -999.0,9, -999.00,9,     -999.0,9,  -999.0,9, 20170915,     2332, -32.5000,-100.6652,        0.0,1,      0.149,1,      4.607,1,      0.209,1,     -999.0,9,     -999.0,9,     -999.0,9,     -999.0,9,     -999.0,9,     -999.0,9,     -999.0,9,     -999.0,1,     -999.0,1,     -999.0,1,61.51109058,2,    16.7755,2,-83.18068276,49.41599281,2,     -999.0
320620170820,        P06,     205,          3,         33,         33,2,20170915,       2157,   -32.4999,  -100.6651,       3532,    55.5,  16.8065,  34.8390,2,  34.8172,2, 243.0274,2, 243.3892,2,     0.0,2,    0.03,2,    0.02,2,    0.13,2,   2.236,2,   1.347,2,   1.5700,2,  2047.1,2,  2293.7,2,   7.9558,6,    25.00, -999.00,9, -999.00,9, -999.00,  -999.0,9, -999.00,9,     -999.0,9,  -999.0,9, 20170915,     2334, -32.5000,-100.6652,        0.0,1,      0.145,1,      4.606,1,      0.209,1,     -999.0,9,     -999.0,9,     -999.0,9,     -999.0,9,     -999.0,9,     -999.0,9,     -999.0,9,     -999.0,9,     -999.0,9,     -999.0,9,     -999.0,9,    16.7448,2,     -999.0,     -999.0,9,     -999.0
320620170820,        P06,     205,          3,         35,         35,2,20170915,       2157,   -32.4999,  -100.6651,       3532,    29.5,  16.7971,  34.8289,2,  34.8169,2, 242.9804,2, 243.6095,2,     0.0,2,    0.02,2,    0.02,2,    0.14,2,   2.252,2,   1.351,2,   1.5880,2,  2047.9,2,  2293.7,2,   7.9570,2,    25.00, -999.00,9, -999.00,9, -999.00,  -999.0,9, -999.00,9,     -999.0,9,  -999.0,9, 20170915,     2337, -32.5000,-100.6651,        0.0,1,      0.130,1,      4.607,1,      0.206,1,     -999.0,9,     -999.0,9,     -999.0,9,     -999.0,9,     -999.0,9,     -999.0,9,     -999.0,9,     -999.0,9,     -999.0,9,     -999.0,9,     -999.0,9,    16.7706,2,     -999.0,     -999.0,9,     -999.0
320620170820,        P06,     205,          3,         34,         34,2,20170915,       2157,   -32.4999,  -100.6651,       3532,    28.9,  16.7971,  34.8289,2,-999.0000,9, 236.1562,2,-999.0000,9,  -999.0,9, -999.00,9, -999.00,9, -999.00,9,-999.000,9,-999.000,9,-999.0000,9,  -999.0,9,  -999.0,9,-999.0000,9,  -999.00, -999.00,9, -999.00,9, -999.00,  -999.0,9, -999.00,9,     -999.0,9,  -999.0,9, 20170915,     2336, -32.5000,-100.6651,        0.0,1,      0.130,1,      4.607,1,      0.206,1,     -999.0,9,     -999.0,9,     -999.0,9,     -999.0,9,     -999.0,9,     -999.0,9,     -999.0,9,     -999.0,1,     -999.0,1,     -999.0,1,70.17277631,6,    16.7681,2,4.978818235,51.79052753,6,4.870756504
320620170820,        P06,     205,          3,         36,         36,2,20170915,       2157,   -32.4999,  -100.6651,       3532,     3.8,  16.8124,  34.8243,2,  34.8157,2, 243.0098,2, 243.5192,2,     0.0,2,    0.02,2,    0.02,2,    0.14,2,   2.281,2,   1.352,2,   1.5580,2,  2044.5,6,  2294.9,2,   7.9566,2,    25.00,    0.98,2,   43.73,2,    4.29,  -999.0,9, -999.00,9,     -999.0,9,  -999.0,9, 20170915,     2339, -32.4999,-100.6651,        0.0,1,      0.100,1,      4.609,1,      0.190,1,     -999.0,9,     -999.0,9,     -999.0,9,     -999.0,9,     -999.0,9,     -999.0,9,     -999.0,9,     -999.0,9,     -999.0,9,     -999.0,9,     -999.0,9,    16.7778,2,     -999.0,     -999.0,9,     -999.0