BOTTLE,20240211CCHSIOCBG
EXPOCODE,SECT_ID,STNNBR,CASTNO,SAMPNO,BTLNBR,BTLNBR_FLAG_W,DATE,TIME,LATITUDE,LONGITUDE,DEPTH,CTDPRS,CTDTMP,CTDSAL,CTDSAL_FLAG_W,SALNTY,SALNTY_FLAG_W,CTDOXY,CTDOXY_FLAG_W,OXYGEN,OXYGEN_FLAG_W,SILCAT,SILCAT_FLAG_W,NITRAT,NITRAT_FLAG_W,NITRIT,NITRIT_FLAG_W,PHSPHT,PHSPHT_FLAG_W,CFC-11,CFC-11_FLAG_W,CFC-12,CFC-12_FLAG_W,SF6,SF6_FLAG_W,TCARBN,TCARBN_FLAG_W,ALKALI,ALKALI_FLAG_W,PH_TOT,PH_TOT_FLAG_W,PH_TMP,DELC13,DELC13_FLAG_W,DELC14,DELC14_FLAG_W,C14ERR,DOC,DOC_FLAG_W,TDN,TDN_FLAG_W,TON,TON_FLAG_W,D15N_NO3,D15N_NO3_FLAG_W,BTL_DATE,BTL_TIME,BTL_LAT,BTL_LON,CTDRINKO,CTDRINKO_FLAG_W,CTDFLUOR,CTDFLUOR_FLAG_W,CTDXMISS,CTDXMISS_FLAG_W,CTDBACKSCATTER,CTDBACKSCATTER_FLAG_W,D18O_NO3,D18O_NO3_FLAG_W,DOP,DOP_FLAG_W,CELLCOUNT,CELLCOUNT_FLAG_W,TDP,TDP_FLAG_W,POP,POP_FLAG_W,DATP,DATP_FLAG_W,PATP,PATP_FLAG_W,HPLC,HPLC_FLAG_W,POC,POC_FLAG_W,BEAMAP,BEAMAP_FLAG_W,DOC_NASA,DOC_NASA_FLAG_W,REFTMP,REFTMP_FLAG_W,DOC_NASA_ERROR,TDN_NASA,TDN_NASA_FLAG_W,TDN_NASA_ERROR
,,,,,,,,,,,METERS,DBAR,ITS-90,PSS-78,,PSS-78,,UMOL/KG,,UMOL/KG,,UMOL/KG,,UMOL/KG,,UMOL/KG,,UMOL/KG,,PMOL/KG,,PMOL/KG,,FMOL/KG,,UMOL/KG,,UMOL/KG,,,,DEG C,/MILLE,,/MILLE,,/MILLE,UMOL/KG,,UMOL/KG,,UMOL/KG,,/MILLE,,,,,,VOLTS,,VOLTS,,VOLTS,,VOLTS,,/MILLE,,UMOL/KG,,/LITER,,UMOL/KG,,UMOL/L,,PMOL/L,,PMOL/L,,,,UG/L,,/METER,,UMOL/L,,ITS-90,,UMOL/L,UMOL/L,,UMOL/L
320620170820,        P06,     170,          1,          1,          1,2,20170905,       0918,   -32.4984,  -126.3087,       3064,  3141.4,   1.6418,  34.6782,2,  34.6773,2,  166.857,3, 168.2082,2,   122.6,2,   34.48,2,    0.00,2,    2.40,2,   0.034,2,   0.020,2,   0.0000,2,  2298.9,2,  2392.4,2,   7.5913,2,    25.00, -999.00,9, -999.00,9, -999.00,    39.0,2, -999.00,9,     -999.0,1,  -999.0,9, 20170905,      918, -32.4994,-126.3089,        0.0,1,      0.061,1,      4.694,1,      0.125,1,     -999.0,9,     -999.0,9,     -999.0,9,     -999.0,9,     -999.0,9,     -999.0,9,     -999.0,9,     -999.0,9,     -999.0,9,     -999.0,9,     -999.0,9,     1.6422,2,     -999.0,     -999.0,9,     -999.0
320620170820,        P06,     170,          1,          2,          2,2,20170905,       0918,   -32.4984,  -126.3087,       3064,  2953.5,   1.6879,  34.6740,2,  34.6736,2, 166.3922,2,  165.651,2,   122.2,2,   34.71,2,    0.00,2,    2.42,2,   0.029,2,   0.021,2,   0.0000,2,  -999.0,9,  -999.0,9,-999.0000,9,  -999.00, -999.00,9, -999.00,9, -999.00,  -999.0,9, -999.00,9,     -999.0,9,  -999.0,9, 20170905,      923, -32.4997,-126.3091,        0.0,1,      0.061,1,      4.694,1,      0.127,1,     -999.0,9,     -999.0,9,     -999.0,9,     -999.0,9,     -999.0,9,     -999.0,9,     -999.0,9,     -999.0,9,     -999.0,9,     -999.0,9,     -999.0,9,     1.6906,2,     -999.0,     -999.0,9,     -999.0
320620170820,        P06,     170,          1,          3,          3,2,20170905,       0918,   -32.4984,  -126.3087,       3064,  2770.8,   1.7214,  34.6707,2,  34.6698,2,  164.829,2, 164.2517,2,   122.0,2,   34.84,2,    0.00,2,    2.44,2,   0.032,2,   0.022,2,   0.0000,2,  2301.7,2,  2390.9,6,   7.5862,2,    25.00, -999.00,9, -999.00,9, -999.00,    40.7,2, -999.00,9,     -999.0,1,  -999.0,9, 20170905,      928, -32.4996,-126.3090,        0.0,1,      0.061,1,      4.694,1,      0.126,1,     -999.0,9,     -999.0,9,     -999.0,9,     -999.0,9,     -999.0,9,     -999.0,9,     -999.0,9,     -999.0,9,     -999.0,9,     -999.0,9,     -999.0,9,     1.7145,2,     -999.0,     -999.0,9,     -999.0
320620170820,        P06,     170,          1,          4,          4,2,20170905,       0918,   -32.4984,  -126.3087,       3064,  2565.4,   1.7694,  34.6660,2,  34.6665,2, 162.4772,2, 162.0414,2,   120.8,2,   34.91,2,    0.00,2,    2.44,2,   0.033,2,   0.021,2,   0.0000,2,  -999.0,9,  -999.0,9,-999.0000,9,  -999.00, -999.00,9, -999.00,9, -999.00,    40.0,2, -999.00,9,     -999.0,1,  -999.0,9, 20170905,      933, -32.4993,-126.3089,        0.0,1,      0.062,1,      4.694,1,      0.127,1,     -999.0,9,     -999.0,9,     -999.0,9,     -999.0,9,     -999.0,9,     -999.0,9,     -999.0,9,     -999.0,9,     -999.0,9,     -999.0,9,     -999.0,9,     1.7626,2,     -999.0,     -999.0,9,     -999.0
320620170820,        P06,     170,          1,          5,          5,2,20170905,       0918,   -32.4984,  -126.3087,       3064,  2362.9,   1.8456,  34.6592,2,  34.6590,2, 159.9867,2,  159.861,2,   119.2,2,   35.06,2,    0.00,2,    2.45,2,   0.033,2,   0.021,2,   0.0000,2,  2301.4,2,  2388.5,2,   7.5796,6,    25.00, -999.00,9, -999.00,9, -999.00,  -999.0,9, -999.00,9,     -999.0,9,  -999.0,9, 20170905,      938, -32.4991,-126.3089,        0.0,1,      0.061,1,      4.695,1,      0.126,1,     -999.0,9,     -999.0,9,     -999.0,9,     -999.0,9,     -999.0,9,     -999.0,9,     -999.0,9,     -999.0,9,     -999.0,9,     -999.0,9,     -999.0,9,     1.8413,2,     -999.0,     -999.0,9,     -999.0
320620170820,        P06,     170,          1,          6,          6,2,20170905,       0918,   -32.4984,  -126.3087,       3064,  2161.8,   1.9665,  34.6489,2,  34.6480,2, 157.1221,2, 157.2411,2,   115.5,2,   35.14,2,    0.00,2,    2.45,2,   0.033,2,   0.024,2,   0.0000,2,  -999.0,9,  -999.0,9,-999.0000,9,  -999.00, -999.00,9, -999.00,9, -999.00,    42.4,2, -999.00,9,     -999.0,1,  -999.0,9, 20170905,      943, -32.4990,-126.3089,        0.0,1,      0.061,1,      4.695,1,      0.128,1,     -999.0,9,     -999.0,9,     -999.0,9,     -999.0,9,     -999.0,9,     -999.0,9,     -999.0,9,     -999.0,9,     -999.0,9,     -999.0,9,     -999.0,9,     1.9627,2,     -999.0,     -999.0,9,     -999.0
320620170820,        P06,     170,          1,          7,          7,2,20170905,       0918,   -32.4984,  -126.3087,       3064,  1961.8,   2.1277,  34.6322,2,  34.6313,2, 156.0962,2, 156.9276,2,   108.6,2,   35.13,2,    0.00,2,    2.45,2,   0.036,2,   0.026,2,   0.0000,2,  2292.7,6,  2378.2,2,   7.5721,2,    25.00, -999.00,9, -999.00,9, -999.00,    44.3,3, -999.00,9,     -999.0,1,  -999.0,9, 20170905,      947, -32.4988,-126.3088,        0.0,1,      0.062,1,      4.694,1,      0.129,1,     -999.0,9,     -999.0,9,     -999.0,9,     -999.0,9,     -999.0,9,     -999.0,9,     -999.0,9,     -999.0,9,     -999.0,9,     -999.0,9,     -999.0,9,     2.1288,2,     -999.0,     -999.0,9,     -999.0
320620170820,        P06,     170,          1,          8,          8,2,20170905,       0918,   -32.4984,  -126.3087,       3064,  1783.7,   2.2963,  34.6083,2,  34.6071,2, 157.6924,2, 157.6969,2,    99.8,2,   35.00,2,    0.00,2,    2.43,2,   0.047,2,   0.032,2,   0.0000,2,  2283.9,2,  2369.4,2,   7.5695,2,    25.00, -999.00,9, -999.00,9, -999.00,  -999.0,9, -999.00,9,     -999.0,9,  -999.0,9, 20170905,      952, -32.4987,-126.3088,        0.0,1,      0.061,1,      4.695,1,      0.130,1,     -999.0,9,     -999.0,9,     -999.0,9,     -999.0,9,     -999.0,9,     -999.0,9,     -999.0,9,     -999.0,9,     -999.0,9,     -999.0,9,     -999.0,9,     2.2979,2,     -999.0,     -999.0,9,     -999.0
320620170820,        P06,     170,          1,          9,          9,2,20170905,       0918,   -32.4984,  -126.3087,       3064,  1683.8,   2.3884,  34.5930,2,  34.5883,2, 159.5657,2, 159.6166,2,    93.2,2,   34.90,2,    0.00,2,    2.43,2,   0.061,2,   0.042,2,   0.0000,2,  2277.4,2,  2359.4,2,   7.5682,2,    25.00, -999.00,9, -999.00,9, -999.00,    40.2,2, -999.00,9,     -999.0,1,  -999.0,9, 20170905,      955, -32.4986,-126.3087,        0.0,1,      0.061,1,      4.695,1,      0.129,1,     -999.0,9,     -999.0,9,     -999.0,9,     -999.0,9,     -999.0,9,     -999.0,9,     -999.0,9,     -999.0,9,     -999.0,9,     -999.0,9,     -999.0,9,     2.4128,2,     -999.0,     -999.0,9,     -999.0
320620170820,        P06,     170,          1,         10,         10,2,20170905,       0918,   -32.4984,  -126.3087,       3064,  1582.1,   2.5526,  34.5620,2,  34.5569,2, 162.5494,2, 162.3729,2,    84.5,2,   34.78,2,    0.00,2,    2.41,2,   0.095,2,   0.064,2,   0.0000,2,  2268.7,2,  2351.4,2,   7.5674,2,    25.00, -999.00,9, -999.00,9, -999.00,  -999.0,9, -999.00,9,     -999.0,9,  -999.0,9, 20170905,      958, -32.4984,-126.3087,        0.0,1,      0.061,1,      4.695,1,      0.129,1,     -999.0,9,     -999.0,9,     -999.0,9,     -999.0,9,     -999.0,9,     -999.0,9,     -999.0,9,     -999.0,9,     -999.0,9,     -999.0,9,     -999.0,9,     2.5762,2,     -999.0,     -999.0,9,     -999.0
320620170820,        P06,     170,          1,         11,         11,2,20170905,       0918,   -32.4984,  -126.3087,       3064,  1480.3,   2.7644,  34.5172,2,  34.5182,2, 167.1051,2, 167.1404,2,    74.8,2,   34.59,2,    0.00,2,    2.40,2,   0.163,2,   0.101,2,   0.0240,2,  2260.7,2,  2339.8,2,   7.5670,2,    25.00, -999.00,9, -999.00,9, -999.00,    43.4,2, -999.00,9,     -999.0,1,  -999.0,9, 20170905,     1001, -32.4983,-126.3086,        0.0,1,      0.061,1,      4.695,1,      0.130,1,     -999.0,9,     -999.0,9,     -999.0,9,     -999.0,9,     -999.0,9,     -999.0,9,     -999.0,9,     -999.0,9,     -999.0,9,     -999.0,9,     -999.0,9,     2.7547,2,     -999.0,     -999.0,9,     -999.0
320620170820,        P06,     170,          1,         12,         12,2,20170905,       0918,   -32.4984,  -126.3087,       3064,  1376.9,   2.9970,  34.4703,2,  34.4707,2, 171.4518,2, 171.6104,2,    65.4,2,   34.36,2,    0.00,2,    2.37,2,   0.264,2,   0.157,2,   0.0490,2,  2247.0,2,  2329.2,2,   7.5684,2,    25.00, -999.00,9, -999.00,9, -999.00,  -999.0,9, -999.00,9,     -999.0,9,  -999.0,9, 20170905,     1004, -32.4982,-126.3086,        0.0,1,      0.060,1,      4.695,1,      0.129,1,     -999.0,9,     -999.0,9,     -999.0,9,     -999.0,9,     -999.0,9,     -999.0,9,     -999.0,9,     -999.0,9,     -999.0,9,     -999.0,9,     -999.0,9,     2.9899,2,     -999.0,     -999.0,9,     -999.0
320620170820,        P06,     170,          1,         13,         13,2,20170905,       0918,   -32.4984,  -126.3087,       3064,  1279.8,   3.3184,  34.4144,2,  34.4080,2, 180.7936,2, 180.1529,2,    53.1,2,   33.72,2,    0.00,2,    2.32,2,   0.510,2,   0.280,2,   0.0350,2,  2230.5,2,  2316.4,2,   7.5781,2,    25.00, -999.00,9, -999.00,9, -999.00,    43.9,2, -999.00,9,     -999.0,1,  -999.0,9, 20170905,     1007, -32.4981,-126.3086,        0.0,1,      0.061,1,      4.695,1,      0.130,1,     -999.0,9,     -999.0,9,     -999.0,9,     -999.0,9,     -999.0,9,     -999.0,9,     -999.0,9,     -999.0,9,     -999.0,9,     -999.0,9,     -999.0,9,     3.3683,2,     -999.0,     -999.0,9,     -999.0
320620170820,        P06,     170,          1,         14,         14,2,20170905,       0918,   -32.4984,  -126.3087,       3064,  1176.4,   3.6539,  34.3762,2,  34.3654,2, 187.8095,2, 187.5466,2,    43.9,2,   32.86,2,    0.00,2,    2.27,2,   0.736,2,   0.391,2,   0.0620,2,  2218.5,2,  2308.4,2,   7.5915,2,    25.00, -999.00,9, -999.00,9, -999.00,  -999.0,9, -999.00,9,     -999.0,9,  -999.0,9, 20170905,     1010, -32.4980,-126.3085,        0.0,1,      0.061,1,      4.695,1,      0.128,1,     -999.0,9,     -999.0,9,     -999.0,9,     -999.0,9,     -999.0,9,     -999.0,9,     -999.0,9,     -999.0,9,     -999.0,9,     -999.0,9,     -999.0,9,     3.7331,2,     -999.0,     -999.0,9,     -999.0
320620170820,        P06,     170,          1,         15,         15,2,20170905,       0918,   -32.4984,  -126.3087,       3064,  1072.4,   4.1798,  34.3343,2,  34.3299,2, 196.2817,2, 196.5695,2,    34.8,2,   31.62,2,    0.00,2,    2.16,2,   1.011,6,   0.540,6,   0.1490,6,  2203.9,2,  2298.6,2,   7.6095,2,    25.00, -999.00,9, -999.00,9, -999.00,    44.1,2, -999.00,9,     -999.0,1,  -999.0,9, 20170905,     1014, -32.4980,-126.3085,        0.0,1,      0.060,1,      4.695,1,      0.129,1,     -999.0,9,     -999.0,9,     -999.0,9,     -999.0,9,     -999.0,9,     -999.0,9,     -999.0,9,     -999.0,9,     -999.0,9,     -999.0,9,     -999.0,9,     4.1896,2,     -999.0,     -999.0,9,     -999.0
320620170820,        P06,     170,          1,         16,         16,2,20170905,       0918,   -32.4984,  -126.3087,       3064,   971.9,   4.8823,  34.3031,2,  34.3023,2, 211.9489,2,  211.417,2,    23.5,2,   29.35,2,    0.00,2,    1.99,2,   1.501,2,   0.844,2,   0.3240,2,  2183.0,2,  2290.2,2,   7.6397,2,    25.00, -999.00,9, -999.00,9, -999.00,  -999.0,9, -999.00,9,     -999.0,9,  -999.0,9, 20170905,     1017, -32.4980,-126.3085,        0.0,1,      0.060,1,      4.694,1,      0.131,1,     -999.0,9,     -999.0,9,     -999.0,9,     -999.0,9,     -999.0,9,     -999.0,9,     -999.0,9,     -999.0,9,     -999.0,9,     -999.0,9,     -999.0,9,     4.8681,2,     -999.0,     -999.0,9,     -999.0
320620170820,        P06,     170,          1,         17,         17,2,20170905,       0918,   -32.4984,  -126.3087,       3064,   873.2,   5.5540,  34.2913,2,  34.2887,2, 227.8339,2, 228.0017,2,    14.8,2,   26.78,2,    0.00,2,    1.81,2,   2.331,2,   1.218,2,   0.4320,2,  2164.2,2,  2283.0,2,   7.6711,2,    25.00, -999.00,9, -999.00,9, -999.00,    41.8,3, -999.00,9,     -999.0,1,  -999.0,9, 20170905,     1020, -32.4980,-126.3085,        0.0,1,      0.060,1,      4.693,1,      0.131,1,     -999.0,9,     -999.0,9,     -999.0,9,     -999.0,9,     -999.0,9,     -999.0,9,     -999.0,9,     -999.0,9,     -999.0,9,     -999.0,9,     -999.0,9,     5.5026,2,     -999.0,     -999.0,9,     -999.0
320620170820,        P06,     170,          1,         18,         18,2,20170905,       0918,   -32.4984,  -126.3087,       3064,   769.8,   6.0181,  34.3002,2,  34.2991,2, 238.4745,2, 239.4211,2,    10.3,2,   24.73,2,    0.00,2,    1.66,2,   2.993,2,   1.577,2,   0.6290,2,  2152.3,2,  2279.9,2,   7.6928,2,    25.00, -999.00,9, -999.00,9, -999.00,    46.9,2, -999.00,9,     -999.0,1,  -999.0,9, 20170905,     1023, -32.4980,-126.3085,        0.0,1,      0.060,1,      4.694,1,      0.130,1,     -999.0,9,     -999.0,9,     -999.0,9,     -999.0,9,     -999.0,9,     -999.0,9,     -999.0,9,     -999.0,9,     -999.0,9,     -999.0,9,     -999.0,9,     6.0152,2,     -999.0,     -999.0,9,     -999.0
320620170820,        P06,     170,          1,         19,         19,2,20170905,       0918,   -32.4984,  -126.3087,       3064,   669.5,   6.3963,  34.3201,2,  34.3201,2, 244.7513,2, 244.1869,2,     8.2,2,   23.32,2,    0.00,2,    1.56,2,   3.315,2,   1.812,2,   0.7360,2,  2147.9,2,  2281.3,2,   7.7041,2,    25.00, -999.00,9, -999.00,9, -999.00,  -999.0,9, -999.00,9,     -999.0,9,  -999.0,9, 20170905,     1026, -32.4980,-126.3085,        0.0,1,      0.059,1,      4.693,1,      0.132,1,     -999.0,9,     -999.0,9,     -999.0,9,     -999.0,9,     -999.0,9,     -999.0,9,     -999.0,9,     -999.0,9,     -999.0,9,     -999.0,9,     -999.0,9,     6.4147,2,     -999.0,     -999.0,9,     -999.0
320620170820,        P06,     170,          1,         20,         20,2,20170905,       0918,   -32.4984,  -126.3087,       3064,   569.5,   6.8883,  34.3487,2,  34.3488,2, 247.1426,2, 246.4242,2,     6.4,2,   21.82,2,    0.00,2,    1.47,2,   3.538,2,   1.952,2,   1.1160,2,  2144.5,2,  2278.4,2,   7.7122,2,    25.00, -999.00,9, -999.00,9, -999.00,    52.2,3, -999.00,9,     -999.0,1,  -999.0,9, 20170905,     1029, -32.4980,-126.3085,        0.0,1,      0.058,1,      4.692,1,      0.133,1,     -999.0,9,     -999.0,9,     -999.0,9,     -999.0,9,     -999.0,9,     -999.0,9,     -999.0,9,     -999.0,9,     -999.0,9,     -999.0,9,     -999.0,9,     6.8865,2,     -999.0,     -999.0,9,     -999.0
320620170820,        P06,     170,          1,         21,         21,2,20170905,       0918,   -32.4984,  -126.3087,       3064,   487.1,   7.2656,  34.3678,2,  34.3666,2, 246.5545,3, 249.2543,2,     5.2,2,   20.72,2,    0.00,2,    1.40,2,   3.533,2,   1.975,2,   1.2300,2,  2141.1,2,  2278.6,2,   7.7181,2,    25.00, -999.00,9, -999.00,9, -999.00,    48.5,2,   22.80,2,     -999.0,1,  -999.0,9, 20170905,     1032, -32.4980,-126.3085,        0.0,1,      0.059,1,      4.691,1,      0.135,1,     -999.0,9,     -999.0,9,     -999.0,9,     -999.0,9,     -999.0,9,     -999.0,9,     -999.0,9,     -999.0,9,     -999.0,9,     -999.0,9,     -999.0,9,     7.2826,2,     -999.0,     -999.0,9,     -999.0
320620170820,        P06,     170,          1,         22,         22,2,20170905,       0918,   -32.4984,  -126.3087,       3064,   437.2,   7.5984,  34.3801,2,  34.3792,2, 242.8564,2, 242.9136,2,     4.5,2,   19.85,2,    0.00,2,    1.35,2,   3.227,2,   1.960,2,   1.2730,2,  2140.6,2,  2278.6,2,   7.7216,2,    25.00, -999.00,9, -999.00,9, -999.00,  -999.0,9, -999.00,9,     -999.0,9,  -999.0,9, 20170905,     1034, -32.4982,-126.3086,        0.0,1,      0.059,1,      4.691,1,      0.134,1,     -999.0,9,     -999.0,9,     -999.0,9,     -999.0,9,     -999.0,9,     -999.0,9,     -999.0,9,     -999.0,9,     -999.0,9,     -999.0,9,     -999.0,9,     7.6692,2,     -999.0,     -999.0,9,     -999.0
320620170820,        P06,     170,          1,         23,         23,2,20170905,       0918,   -32.4984,  -126.3087,       3064,   388.8,   8.4106,  34.4057,2,  34.4023,3, 236.0464,2, 233.8046,2,     3.5,2,   18.36,2,    0.00,2,    1.27,2,   3.349,2,   1.883,2,   1.3210,2,  2135.9,2,  2276.0,2,   7.7311,2,    25.00, -999.00,9, -999.00,9, -999.00,    47.5,2,   19.90,2,     -999.0,1,  -999.0,9, 20170905,     1036, -32.4983,-126.3086,        0.0,1,      0.058,1,      4.690,1,      0.133,1,     -999.0,9,     -999.0,9,     -999.0,9,     -999.0,9,     -999.0,9,     -999.0,9,     -999.0,9,     -999.0,9,     -999.0,9,     -999.0,9,     -999.0,9,     8.4127,2,     -999.0,     -999.0,9,     -999.0
320620170820,        P06,     170,          1,         24,         24,2,20170905,       0918,   -32.4984,  -126.3087,       3064,   337.7,   9.4659,  34.4552,2,  34.4465,2, 224.3869,2, 224.5881,2,     2.8,2,   16.36,2,    0.00,2,    1.14,2,   3.226,2,   1.810,2,   1.2510,2,  2130.2,2,  2279.8,6,   7.7474,2,    25.00, -999.00,9, -999.00,9, -999.00,    48.2,2,   18.20,2,     -999.0,1,  -999.0,9, 20170905,     1038, -32.4983,-126.3086,        0.0,1,      0.059,1,      4.688,1,      0.133,1,     -999.0,9,     -999.0,9,     -999.0,9,     -999.0,9,     -999.0,9,     -999.0,9,     -999.0,9,     -999.0,9,     -999.0,9,     -999.0,9,     -999.0,9,     9.4084,2,     -999.0,     -999.0,9,     -999.0
320620170820,        P06,     170,          1,         25,         25,2,20170905,       0918,   -32.4984,  -126.3087,       3064,   285.5,  11.2190,  34.5822,2,  34.5739,2, 218.6844,2, 217.9849,2,     1.8,2,   12.49,2,    0.00,2,    0.91,2,   2.975,2,   1.719,2,   1.2760,2,  2118.7,2,  2282.8,2,   7.7847,6,    25.00, -999.00,9, -999.00,9, -999.00,    47.2,2,   14.60,2,     -999.0,1,  -999.0,9, 20170905,     1040, -32.4983,-126.3086,        0.0,1,      0.060,1,      4.685,1,      0.133,1,     -999.0,9,     -999.0,9,     -999.0,9,     -999.0,9,     -999.0,9,     -999.0,9,     -999.0,9,     -999.0,9,     -999.0,9,     -999.0,9,     -999.0,9,    11.1374,2,     -999.0,     -999.0,9,     -999.0
320620170820,        P06,     170,          1,         26,         26,2,20170905,       0918,   -32.4984,  -126.3087,       3064,   240.9,  13.0144,  34.7371,2,  34.6639,2, 221.5289,2, 220.3511,2,     0.8,2,    8.47,2,    0.00,2,    0.65,2,   2.738,2,   1.631,2,   1.4440,2,  2101.0,2,  2286.7,2,   7.8256,2,    25.00, -999.00,9, -999.00,9, -999.00,    53.3,2,   11.50,2,     -999.0,1,  -999.0,9, 20170905,     1043, -32.4982,-126.3086,        0.0,1,      0.061,1,      4.683,1,      0.133,1,     -999.0,9,     -999.0,9,     -999.0,9,     -999.0,9,     -999.0,9,     -999.0,9,     -999.0,9,     -999.0,9,     -999.0,9,     -999.0,9,     -999.0,9,    12.5498,2,     -999.0,     -999.0,9,     -999.0