BOTTLE,20240211CCHSIOCBG
EXPOCODE,SECT_ID,STNNBR,CASTNO,SAMPNO,BTLNBR,BTLNBR_FLAG_W,DATE,TIME,LATITUDE,LONGITUDE,DEPTH,CTDPRS,CTDTMP,CTDSAL,CTDSAL_FLAG_W,SALNTY,SALNTY_FLAG_W,CTDOXY,CTDOXY_FLAG_W,OXYGEN,OXYGEN_FLAG_W,SILCAT,SILCAT_FLAG_W,NITRAT,NITRAT_FLAG_W,NITRIT,NITRIT_FLAG_W,PHSPHT,PHSPHT_FLAG_W,CFC-11,CFC-11_FLAG_W,CFC-12,CFC-12_FLAG_W,SF6,SF6_FLAG_W,TCARBN,TCARBN_FLAG_W,ALKALI,ALKALI_FLAG_W,PH_TOT,PH_TOT_FLAG_W,PH_TMP,DELC13,DELC13_FLAG_W,DELC14,DELC14_FLAG_W,C14ERR,DOC,DOC_FLAG_W,TDN,TDN_FLAG_W,TON,TON_FLAG_W,D15N_NO3,D15N_NO3_FLAG_W,BTL_DATE,BTL_TIME,BTL_LAT,BTL_LON,CTDRINKO,CTDRINKO_FLAG_W,CTDFLUOR,CTDFLUOR_FLAG_W,CTDXMISS,CTDXMISS_FLAG_W,CTDBACKSCATTER,CTDBACKSCATTER_FLAG_W,D18O_NO3,D18O_NO3_FLAG_W,DOP,DOP_FLAG_W,CELLCOUNT,CELLCOUNT_FLAG_W,TDP,TDP_FLAG_W,POP,POP_FLAG_W,DATP,DATP_FLAG_W,PATP,PATP_FLAG_W,HPLC,HPLC_FLAG_W,POC,POC_FLAG_W,BEAMAP,BEAMAP_FLAG_W,DOC_NASA,DOC_NASA_FLAG_W,REFTMP,REFTMP_FLAG_W,DOC_NASA_ERROR,TDN_NASA,TDN_NASA_FLAG_W,TDN_NASA_ERROR
,,,,,,,,,,,METERS,DBAR,ITS-90,PSS-78,,PSS-78,,UMOL/KG,,UMOL/KG,,UMOL/KG,,UMOL/KG,,UMOL/KG,,UMOL/KG,,PMOL/KG,,PMOL/KG,,FMOL/KG,,UMOL/KG,,UMOL/KG,,,,DEG C,/MILLE,,/MILLE,,/MILLE,UMOL/KG,,UMOL/KG,,UMOL/KG,,/MILLE,,,,,,VOLTS,,VOLTS,,VOLTS,,VOLTS,,/MILLE,,UMOL/KG,,/LITER,,UMOL/KG,,UMOL/L,,PMOL/L,,PMOL/L,,,,UG/L,,/METER,,UMOL/L,,ITS-90,,UMOL/L,UMOL/L,,UMOL/L
320620170820,        P06,     169,          1,         27,         27,2,20170905,       0151,   -32.4990,  -127.1384,       1669,   225.8,  14.1624,  34.8786,2,  34.8273,2, 216.9908,2, 207.3849,2,     0.2,2,    4.55,2,    0.02,2,    0.42,2,   2.524,2,   1.527,2,   1.6640,2,  2088.3,2,  2291.5,2,   7.8691,2,    25.00, -999.00,9, -999.00,9, -999.00,  -999.0,9, -999.00,9,     -999.0,9,  -999.0,9, 20170905,      253, -32.4994,-127.1384,        0.0,1,      0.067,1,      4.680,1,      0.134,1,     -999.0,9,     -999.0,9,     -999.0,9,     -999.0,9,     -999.0,9,     -999.0,9,     -999.0,9,     -999.0,9,     -999.0,9,     -999.0,9,     -999.0,9,    14.0499,2,     -999.0,     -999.0,9,     -999.0
320620170820,        P06,     169,          1,         28,         28,2,20170905,       0151,   -32.4990,  -127.1384,       1669,   197.6,  15.3457,  35.0591,2,  35.0852,2, 221.1542,2, 220.1881,2,     0.0,2,    2.38,2,    0.05,2,    0.27,2,   2.414,2,   1.447,2,   1.5380,2,  2082.7,2,  2302.3,2,   7.9037,2,    25.00, -999.00,9, -999.00,9, -999.00,  -999.0,9, -999.00,9,     -999.0,9,  -999.0,9, 20170905,      254, -32.4986,-127.1391,        0.0,1,      0.086,1,      4.674,1,      0.146,1,     -999.0,9,     -999.0,9,     -999.0,9,     -999.0,9,     -999.0,9,     -999.0,9,     -999.0,9,     -999.0,9,     -999.0,9,     -999.0,9,     -999.0,9,    15.4823,2,     -999.0,     -999.0,9,     -999.0
320620170820,        P06,     169,          1,         29,         29,2,20170905,       0151,   -32.4990,  -127.1384,       1669,   175.5,  15.9179,  35.1085,2,  35.0892,2, 221.5614,2, 218.8772,2,    -0.1,2,    1.64,2,    0.08,2,    0.23,2,   2.399,2,   1.439,2,   1.5910,2,  2077.7,2,  2304.3,2,   7.9131,2,    25.00, -999.00,9, -999.00,9, -999.00,  -999.0,9, -999.00,9,     -999.0,9,  -999.0,9, 20170905,      257, -32.4988,-127.1391,        0.0,1,      0.096,1,      4.671,1,      0.145,1,     -999.0,9,     -999.0,9,     -999.0,9,     -999.0,9,     -999.0,9,     -999.0,9,     -999.0,9,     -999.0,9,     -999.0,9,     -999.0,9,     -999.0,9,    15.8760,2,     -999.0,     -999.0,9,     -999.0
320620170820,        P06,     169,          1,         30,         30,2,20170905,       0151,   -32.4990,  -127.1384,       1669,   151.1,  16.6007,  35.1182,2,  35.0951,2, 233.5303,2, 234.6137,2,    -0.1,2,    0.26,2,    0.07,2,    0.13,2,   2.320,6,   1.373,6,   1.6720,6,  2058.6,2,  2304.5,2,   7.9456,2,    25.00, -999.00,9, -999.00,9, -999.00,  -999.0,9, -999.00,9,     -999.0,9,  -999.0,9, 20170905,      258, -32.4988,-127.1389,        0.0,1,      0.132,1,      4.659,1,      0.157,1,     -999.0,9,     -999.0,9,     -999.0,9,     -999.0,9,     -999.0,9,     -999.0,9,     -999.0,9,     -999.0,9,     -999.0,9,     -999.0,9,     -999.0,9,    16.6283,2,     -999.0,     -999.0,9,     -999.0
320620170820,        P06,     169,          1,         31,         31,2,20170905,       0151,   -32.4990,  -127.1384,       1669,   125.9,  16.9188,  35.1237,2,  35.1500,2, 234.4886,2, 238.4968,2,    -0.1,2,   -0.02,2,    0.00,2,    0.09,2,   2.274,2,   1.343,2,   1.7090,2,  2056.1,2,  -999.0,9,   7.9636,2,    25.00, -999.00,9, -999.00,9, -999.00,  -999.0,9, -999.00,9,     -999.0,9,  -999.0,9, 20170905,      300, -32.4989,-127.1385,        0.0,1,      0.154,1,      4.649,1,      0.165,1,     -999.0,9,     -999.0,9,     -999.0,9,     -999.0,9,     -999.0,9,     -999.0,9,     -999.0,9,     -999.0,9,     -999.0,9,     -999.0,9,     -999.0,9,    17.0630,2,     -999.0,     -999.0,9,     -999.0
320620170820,        P06,     169,          1,         32,         32,2,20170905,       0151,   -32.4990,  -127.1384,       1669,   102.5,  17.1305,  35.1112,2,  35.1449,2,  235.434,2,  238.551,2,    -0.2,2,   -0.03,2,    0.00,2,    0.09,2,   2.246,2,   1.319,2,   1.7240,2,  2051.1,2,  2307.1,2,   7.9661,2,    25.00, -999.00,9, -999.00,9, -999.00,  -999.0,9, -999.00,9,     -999.0,9,  -999.0,9, 20170905,      302, -32.4989,-127.1385,        0.0,1,      0.122,1,      4.642,1,      0.169,1,     -999.0,9,     -999.0,9,     -999.0,9,     -999.0,9,     -999.0,9,     -999.0,9,     -999.0,9,     -999.0,9,     -999.0,9,     -999.0,9,     -999.0,9,    17.3023,2,     -999.0,     -999.0,9,     -999.0
320620170820,        P06,     169,          1,         33,         33,2,20170905,       0151,   -32.4990,  -127.1384,       1669,    75.3,  17.2759,  35.1381,2,  35.1423,2, 234.9889,2, 231.8252,2,    -0.1,2,   -0.03,2,    0.00,2,    0.08,2,   2.267,2,   1.318,2,   1.6580,2,  2055.2,2,  2306.5,6,   7.9678,2,    25.00, -999.00,9, -999.00,9, -999.00,  -999.0,9, -999.00,9,     -999.0,9,  -999.0,9, 20170905,      304, -32.4990,-127.1386,        0.0,1,      0.106,1,      4.643,1,      0.164,1,     -999.0,9,     -999.0,9,     -999.0,9,     -999.0,9,     -999.0,9,     -999.0,9,     -999.0,9,     -999.0,9,     -999.0,9,     -999.0,9,     -999.0,9,    17.3087,2,     -999.0,     -999.0,9,     -999.0
320620170820,        P06,     169,          1,         34,         34,2,20170905,       0151,   -32.4990,  -127.1384,       1669,    50.4,  17.3262,  35.1468,2,  35.1451,2, 235.1677,2, 237.4381,2,    -0.1,2,   -0.03,2,    0.00,2,    0.07,2,   2.051,2,   1.309,2,   1.6790,2,  2054.5,2,  2306.8,2,   7.9681,2,    25.00, -999.00,9, -999.00,9, -999.00,  -999.0,9, -999.00,9,     -999.0,9,  -999.0,9, 20170905,      306, -32.4990,-127.1385,        0.0,1,      0.083,1,      4.645,1,      0.162,1,     -999.0,9,     -999.0,9,     -999.0,9,     -999.0,9,     -999.0,9,     -999.0,9,     -999.0,9,     -999.0,9,     -999.0,9,     -999.0,9,     -999.0,9,    17.3311,2,     -999.0,     -999.0,9,     -999.0
320620170820,        P06,     169,          1,         35,         35,2,20170905,       0151,   -32.4990,  -127.1384,       1669,    25.0,  17.3254,  35.1428,2,  35.1469,2, 235.0796,3, 223.9626,2,    -0.1,2,   -0.02,2,    0.00,2,    0.10,2,   2.244,2,   1.331,2,   1.7980,2,  2053.4,2,  2307.5,2,   7.9675,2,    25.00, -999.00,9, -999.00,9, -999.00,  -999.0,9, -999.00,9,     -999.0,9,  -999.0,9, 20170905,      308, -32.4991,-127.1385,        0.0,1,      0.079,1,      4.645,1,      0.160,1,     -999.0,9,     -999.0,9,     -999.0,9,     -999.0,9,     -999.0,9,     -999.0,9,     -999.0,9,     -999.0,9,     -999.0,9,     -999.0,9,     -999.0,9,    17.3369,2,     -999.0,     -999.0,9,     -999.0
320620170820,        P06,     169,          1,         36,         36,2,20170905,       0151,   -32.4990,  -127.1384,       1669,     5.1,  17.3062,  35.1429,2,  35.1463,2, 234.9147,2, 239.4852,2,    -0.1,2,   -0.02,2,    0.00,2,    0.11,2,   2.251,2,   1.324,2,   1.6420,2,  2054.7,6,  2307.6,2,   7.9663,2,    25.00, -999.00,9, -999.00,9, -999.00,  -999.0,9, -999.00,9,     -999.0,9,  -999.0,9, 20170905,      310, -32.4990,-127.1384,        0.0,1,      0.075,1,      4.647,1,      0.160,1,     -999.0,9,     -999.0,9,     -999.0,9,     -999.0,9,     -999.0,9,     -999.0,9,     -999.0,9,     -999.0,9,     -999.0,9,     -999.0,9,     -999.0,9,    17.3227,2,     -999.0,     -999.0,9,     -999.0