BOTTLE,20240211CCHSIOCBG
EXPOCODE,SECT_ID,STNNBR,CASTNO,SAMPNO,BTLNBR,BTLNBR_FLAG_W,DATE,TIME,LATITUDE,LONGITUDE,DEPTH,CTDPRS,CTDTMP,CTDSAL,CTDSAL_FLAG_W,SALNTY,SALNTY_FLAG_W,CTDOXY,CTDOXY_FLAG_W,OXYGEN,OXYGEN_FLAG_W,SILCAT,SILCAT_FLAG_W,NITRAT,NITRAT_FLAG_W,NITRIT,NITRIT_FLAG_W,PHSPHT,PHSPHT_FLAG_W,CFC-11,CFC-11_FLAG_W,CFC-12,CFC-12_FLAG_W,SF6,SF6_FLAG_W,TCARBN,TCARBN_FLAG_W,ALKALI,ALKALI_FLAG_W,PH_TOT,PH_TOT_FLAG_W,PH_TMP,DELC13,DELC13_FLAG_W,DELC14,DELC14_FLAG_W,C14ERR,DOC,DOC_FLAG_W,TDN,TDN_FLAG_W,TON,TON_FLAG_W,D15N_NO3,D15N_NO3_FLAG_W,BTL_DATE,BTL_TIME,BTL_LAT,BTL_LON,CTDRINKO,CTDRINKO_FLAG_W,CTDFLUOR,CTDFLUOR_FLAG_W,CTDXMISS,CTDXMISS_FLAG_W,CTDBACKSCATTER,CTDBACKSCATTER_FLAG_W,D18O_NO3,D18O_NO3_FLAG_W,DOP,DOP_FLAG_W,CELLCOUNT,CELLCOUNT_FLAG_W,TDP,TDP_FLAG_W,POP,POP_FLAG_W,DATP,DATP_FLAG_W,PATP,PATP_FLAG_W,HPLC,HPLC_FLAG_W,POC,POC_FLAG_W,BEAMAP,BEAMAP_FLAG_W,DOC_NASA,DOC_NASA_FLAG_W,REFTMP,REFTMP_FLAG_W,DOC_NASA_ERROR,TDN_NASA,TDN_NASA_FLAG_W,TDN_NASA_ERROR
,,,,,,,,,,,METERS,DBAR,ITS-90,PSS-78,,PSS-78,,UMOL/KG,,UMOL/KG,,UMOL/KG,,UMOL/KG,,UMOL/KG,,UMOL/KG,,PMOL/KG,,PMOL/KG,,FMOL/KG,,UMOL/KG,,UMOL/KG,,,,DEG C,/MILLE,,/MILLE,,/MILLE,UMOL/KG,,UMOL/KG,,UMOL/KG,,/MILLE,,,,,,VOLTS,,VOLTS,,VOLTS,,VOLTS,,/MILLE,,UMOL/KG,,/LITER,,UMOL/KG,,UMOL/L,,PMOL/L,,PMOL/L,,,,UG/L,,/METER,,UMOL/L,,ITS-90,,UMOL/L,UMOL/L,,UMOL/L
320620170820,        P06,     192,          1,          1,          1,2,20170912,       0329,   -32.5004,  -109.5899,       2804,  2829.9,   1.8329,  34.6678,2,  34.6688,2, 160.7586,2, 161.0172,2,   120.0,2,   34.94,2,    0.00,2,    2.40,2,   0.035,2,   0.019,2,   0.0000,2,  2301.2,6,  2394.7,2,   7.5841,2,    25.00, -999.00,9, -999.00,9, -999.00,    36.2,2, -999.00,9,     -999.0,1,  -999.0,1, 20170912,      329, -32.5003,-109.5903,        0.0,1,      0.061,1,      4.689,1,      0.741,1,     -999.0,1,     -999.0,9,     -999.0,9,     -999.0,9,     -999.0,9,     -999.0,9,     -999.0,9,     -999.0,9,     -999.0,9,     -999.0,9,     -999.0,9,     1.8339,2,     -999.0,     -999.0,9,     -999.0
320620170820,        P06,     192,          1,          2,          2,2,20170912,       0329,   -32.5004,  -109.5899,       2804,  2736.1,   1.8323,  34.6674,2,  34.6688,2, 160.7586,2, 161.0639,2,   120.1,2,   34.96,2,    0.00,2,    2.41,2,   0.039,2,   0.023,2,   0.0000,2,  -999.0,9,  -999.0,9,-999.0000,9,  -999.00, -999.00,9, -999.00,9, -999.00,  -999.0,9, -999.00,9,     -999.0,9,  -999.0,1, 20170912,      332, -32.5004,-109.5902,        0.0,1,      0.062,1,      4.689,1,      0.741,1,     -999.0,1,     -999.0,9,     -999.0,9,     -999.0,9,     -999.0,9,     -999.0,9,     -999.0,9,     -999.0,9,     -999.0,9,     -999.0,9,     -999.0,9,     1.8323,2,     -999.0,     -999.0,9,     -999.0
320620170820,        P06,     192,          1,          3,          3,2,20170912,       0329,   -32.5004,  -109.5899,       2804,  2634.5,   1.8305,  34.6671,2,  34.6690,2, 160.6572,2, 160.4592,2,   119.8,2,   34.90,2,    0.00,2,    2.41,2,   0.039,2,   0.024,2,   0.0000,2,  -999.0,9,  2392.0,2,   7.5839,2,    25.00, -999.00,9, -999.00,9, -999.00,    36.8,2, -999.00,9,     -999.0,1,  -999.0,1, 20170912,      335, -32.5004,-109.5901,        0.0,1,      0.062,1,      4.689,1,      0.741,1,     -999.0,1,     -999.0,9,     -999.0,9,     -999.0,9,     -999.0,9,     -999.0,9,     -999.0,9,     -999.0,9,     -999.0,9,     -999.0,9,     -999.0,9,     1.8302,2,     -999.0,     -999.0,9,     -999.0
320620170820,        P06,     192,          1,          4,          4,2,20170912,       0329,   -32.5004,  -109.5899,       2804,  2429.7,   1.8509,  34.6636,2,  34.6661,2, 160.5637,2, 160.1191,2,   119.0,2,   34.94,2,    0.00,2,    2.43,2,-999.000,9,-999.000,9,-999.0000,9,  -999.0,9,  -999.0,9,-999.0000,9,  -999.00, -999.00,9, -999.00,9, -999.00,    36.7,2, -999.00,9,     -999.0,1,  -999.0,1, 20170912,      340, -32.5003,-109.5902,        0.0,1,      0.061,1,      4.690,1,      0.738,1,     -999.0,1,     -999.0,9,     -999.0,9,     -999.0,9,     -999.0,9,     -999.0,9,     -999.0,9,     -999.0,9,     -999.0,9,     -999.0,9,     -999.0,9,     1.8487,2,     -999.0,     -999.0,9,     -999.0
320620170820,        P06,     192,          1,          5,          5,2,20170912,       0329,   -32.5004,  -109.5899,       2804,  2226.5,   1.8908,  34.6586,2,  34.6614,2, 159.5087,2,  159.478,2,   117.1,2,   35.00,2,    0.00,2,    2.42,2,   0.041,2,   0.026,2,   0.0000,2,  2297.4,2,  2390.2,2,   7.5811,2,    25.00, -999.00,9, -999.00,9, -999.00,    36.4,2, -999.00,9,     -999.0,1,  -999.0,1, 20170912,      344, -32.5003,-109.5903,        0.0,1,      0.061,1,      4.690,1,      0.736,1,     -999.0,1,     -999.0,9,     -999.0,9,     -999.0,9,     -999.0,9,     -999.0,9,     -999.0,9,     -999.0,9,     -999.0,9,     -999.0,9,     -999.0,9,     1.8885,2,     -999.0,     -999.0,9,     -999.0
320620170820,        P06,     192,          1,          6,          6,2,20170912,       0329,   -32.5004,  -109.5899,       2804,  2022.0,   1.9936,  34.6481,2,  34.6508,2, 158.4622,2, 158.7359,2,   112.8,2,   35.06,2,    0.00,2,    2.44,2,-999.000,9,-999.000,9,-999.0000,9,  -999.0,9,  -999.0,9,-999.0000,9,  -999.00, -999.00,9, -999.00,9, -999.00,  -999.0,9, -999.00,9,     -999.0,9,  -999.0,1, 20170912,      349, -32.5003,-109.5903,        0.0,1,      0.063,1,      4.691,1,      0.730,1,     -999.0,1,     -999.0,9,     -999.0,9,     -999.0,9,     -999.0,9,     -999.0,9,     -999.0,9,     -999.0,9,     -999.0,9,     -999.0,9,     -999.0,9,     1.9870,2,     -999.0,     -999.0,9,     -999.0
320620170820,        P06,     192,          1,          7,          7,2,20170912,       0329,   -32.5004,  -109.5899,       2804,  1921.7,   2.1294,  34.6339,2,  34.6370,2, 158.1684,2, 158.3029,2,   107.1,2,   35.04,2,    0.00,2,    2.43,2,   0.047,2,   0.030,2,   0.0000,2,  2290.5,2,  2378.8,2,   7.5730,2,    25.00, -999.00,9, -999.00,9, -999.00,    35.8,2, -999.00,9,     -999.0,1,  -999.0,1, 20170912,      352, -32.5003,-109.5903,        0.0,1,      0.061,1,      4.691,1,      0.728,1,     -999.0,1,     -999.0,9,     -999.0,9,     -999.0,9,     -999.0,9,     -999.0,9,     -999.0,9,     -999.0,9,     -999.0,9,     -999.0,9,     -999.0,9,     2.1092,2,     -999.0,     -999.0,9,     -999.0
320620170820,        P06,     192,          1,          8,          8,2,20170912,       0329,   -32.5004,  -109.5899,       2804,  1819.6,   2.2734,  34.6153,2,  34.6170,2, 158.6678,2, 158.3327,2,    99.2,2,   35.06,2,    0.00,2,    2.41,2,-999.000,9,-999.000,9,-999.0000,9,  -999.0,9,  -999.0,9,-999.0000,9,  -999.00, -999.00,9, -999.00,9, -999.00,  -999.0,9, -999.00,9,     -999.0,9,  -999.0,1, 20170912,      355, -32.5003,-109.5902,        0.0,1,      0.062,1,      4.691,1,      0.727,1,     -999.0,1,     -999.0,9,     -999.0,9,     -999.0,9,     -999.0,9,     -999.0,9,     -999.0,9,     -999.0,9,     -999.0,9,     -999.0,9,     -999.0,9,     2.2672,2,     -999.0,     -999.0,9,     -999.0
320620170820,        P06,     192,          1,          9,          9,2,20170912,       0329,   -32.5004,  -109.5899,       2804,  1718.8,   2.3680,  34.6015,2,  34.6036,2, 158.8772,2, 158.9535,2,    94.2,2,   35.08,2,    0.00,2,    2.41,2,   0.073,2,   0.043,2,   0.0000,2,  2277.3,2,  2360.9,2,   7.5668,2,    25.00, -999.00,9, -999.00,9, -999.00,    35.5,2, -999.00,9,     -999.0,1,  -999.0,1, 20170912,      357, -32.5003,-109.5903,        0.0,1,      0.062,1,      4.692,1,      0.724,1,     -999.0,1,     -999.0,9,     -999.0,9,     -999.0,9,     -999.0,9,     -999.0,9,     -999.0,9,     -999.0,9,     -999.0,9,     -999.0,9,     -999.0,9,     2.3672,2,     -999.0,     -999.0,9,     -999.0
320620170820,        P06,     192,          1,         10,         10,2,20170912,       0329,   -32.5004,  -109.5899,       2804,  1615.8,   2.5357,  34.5727,2,  34.5802,2, 159.2242,2,  159.062,2,    87.9,2,   35.12,2,    0.00,2,    2.41,2,-999.000,9,-999.000,9,-999.0000,9,  -999.0,9,  -999.0,9,-999.0000,9,  -999.00, -999.00,9, -999.00,9, -999.00,  -999.0,9, -999.00,9,     -999.0,9,  -999.0,1, 20170912,      400, -32.5002,-109.5904,        0.0,1,      0.062,1,      4.691,1,      0.724,1,     -999.0,1,     -999.0,9,     -999.0,9,     -999.0,9,     -999.0,9,     -999.0,9,     -999.0,9,     -999.0,9,     -999.0,9,     -999.0,9,     -999.0,9,     2.4953,2,     -999.0,     -999.0,9,     -999.0
320620170820,        P06,     192,          1,         11,         11,2,20170912,       0329,   -32.5004,  -109.5899,       2804,  1516.4,   2.7087,  34.5415,2,  34.5474,2, 158.4266,2, 158.6607,2,    80.8,2,   35.34,2,    0.00,2,    2.43,2,   0.123,2,   0.074,2,   0.0000,2,  2266.5,2,  2346.2,2,   7.5564,2,    25.00, -999.00,9, -999.00,9, -999.00,    36.3,2, -999.00,9,     -999.0,1,  -999.0,1, 20170912,      403, -32.5002,-109.5905,        0.0,1,      0.062,1,      4.691,1,      0.722,1,     -999.0,1,     -999.0,9,     -999.0,9,     -999.0,9,     -999.0,9,     -999.0,9,     -999.0,9,     -999.0,9,     -999.0,9,     -999.0,9,     -999.0,9,     2.6793,2,     -999.0,     -999.0,9,     -999.0
320620170820,        P06,     192,          1,         12,         12,2,20170912,       0329,   -32.5004,  -109.5899,       2804,  1413.2,   2.9582,  34.5049,2,  34.5146,2, 154.7149,2, 154.2868,2,    74.7,2,   35.88,2,    0.00,2,    2.47,2,   0.128,2,   0.079,2,   0.0000,2,  -999.0,9,  -999.0,9,-999.0000,9,  -999.00, -999.00,9, -999.00,9, -999.00,  -999.0,9, -999.00,9,     -999.0,9,  -999.0,1, 20170912,      406, -32.5002,-109.5905,        0.0,1,      0.062,1,      4.691,1,      0.717,1,     -999.0,1,     -999.0,9,     -999.0,9,     -999.0,9,     -999.0,9,     -999.0,9,     -999.0,9,     -999.0,9,     -999.0,9,     -999.0,9,     -999.0,9,     2.9177,2,     -999.0,     -999.0,9,     -999.0
320620170820,        P06,     192,          1,         13,         13,2,20170912,       0329,   -32.5004,  -109.5899,       2804,  1312.1,   3.2296,  34.4697,2,  34.4726,3, 149.4902,2, 149.5427,2,    68.2,2,   36.33,2,    0.00,2,    2.50,2,   0.129,2,   0.079,2,   0.0000,2,  2258.5,6,  2334.3,2,   7.5403,6,    25.00, -999.00,9, -999.00,9, -999.00,    36.8,2, -999.00,9,     -999.0,1,  -999.0,1, 20170912,      409, -32.5001,-109.5906,        0.0,1,      0.062,1,      4.691,1,      0.715,1,     -999.0,1,     -999.0,9,     -999.0,9,     -999.0,9,     -999.0,9,     -999.0,9,     -999.0,9,     -999.0,9,     -999.0,9,     -999.0,9,     -999.0,9,     3.2184,2,     -999.0,     -999.0,9,     -999.0
320620170820,        P06,     192,          1,         14,         14,2,20170912,       0329,   -32.5004,  -109.5899,       2804,  1211.2,   3.5151,  34.4119,2,  34.4188,2, 158.8457,2, 159.1172,2,    56.7,2,   35.59,2,    0.00,2,    2.43,2,   0.216,2,   0.123,2,   0.0000,2,  -999.0,9,  -999.0,9,-999.0000,9,  -999.00, -999.00,9, -999.00,9, -999.00,  -999.0,9, -999.00,9,     -999.0,9,  -999.0,1, 20170912,      412, -32.5001,-109.5906,        0.0,1,      0.061,1,      4.691,1,      0.713,1,     -999.0,1,     -999.0,9,     -999.0,9,     -999.0,9,     -999.0,9,     -999.0,9,     -999.0,9,     -999.0,9,     -999.0,9,     -999.0,9,     -999.0,9,     3.4821,2,     -999.0,     -999.0,9,     -999.0
320620170820,        P06,     192,          1,         15,         15,2,20170912,       0329,   -32.5004,  -109.5899,       2804,  1110.1,   3.8242,  34.3641,2,  34.3666,3, 172.6001,2, 172.8414,2,    45.1,2,   34.32,2,    0.00,2,    2.33,2,   0.374,2,   0.205,2,   0.0000,2,  2226.6,2,  2308.5,2,   7.5709,2,    25.00, -999.00,9, -999.00,9, -999.00,    38.5,2, -999.00,9,     -999.0,1,  -999.0,1, 20170912,      415, -32.5001,-109.5906,        0.0,1,      0.061,1,      4.691,1,      0.711,1,     -999.0,1,     -999.0,9,     -999.0,9,     -999.0,9,     -999.0,9,     -999.0,9,     -999.0,9,     -999.0,9,     -999.0,9,     -999.0,9,     -999.0,9,     3.7972,2,     -999.0,     -999.0,9,     -999.0
320620170820,        P06,     192,          1,         16,         16,2,20170912,       0329,   -32.5004,  -109.5899,       2804,  1008.3,   4.2779,  34.3139,2,  34.3117,2, 194.4389,2, 194.1963,2,    31.4,2,   32.04,2,    0.00,2,    2.18,2,   0.884,2,   0.447,2,   0.0830,2,  -999.0,9,  -999.0,9,-999.0000,9,  -999.00, -999.00,9, -999.00,9, -999.00,  -999.0,9, -999.00,9,     -999.0,9,  -999.0,1, 20170912,      418, -32.5001,-109.5906,        0.0,1,      0.061,1,      4.691,1,      0.705,1,     -999.0,1,     -999.0,9,     -999.0,9,     -999.0,9,     -999.0,9,     -999.0,9,     -999.0,9,     -999.0,9,     -999.0,9,     -999.0,9,     -999.0,9,     4.3032,2,     -999.0,     -999.0,9,     -999.0
320620170820,        P06,     192,          1,         17,         17,2,20170912,       0329,   -32.5004,  -109.5899,       2804,   906.2,   4.7604,  34.2866,2,  34.2811,2, 214.2814,2, 214.2219,2,    20.5,2,   29.44,2,    0.00,2,    1.99,2,   1.745,2,   0.858,2,   0.1910,2,  2179.6,2,  2286.4,6,   7.6409,2,    25.00, -999.00,9, -999.00,9, -999.00,    43.1,2, -999.00,9,     -999.0,1,  -999.0,1, 20170912,      420, -32.5002,-109.5906,        0.0,1,      0.060,1,      4.691,1,      0.703,1,     -999.0,1,     -999.0,9,     -999.0,9,     -999.0,9,     -999.0,9,     -999.0,9,     -999.0,9,     -999.0,9,     -999.0,9,     -999.0,9,     -999.0,9,     4.8733,2,     -999.0,     -999.0,9,     -999.0
320620170820,        P06,     192,          1,         18,         18,2,20170912,       0329,   -32.5004,  -109.5899,       2804,   805.1,   5.3513,  34.2706,2,  34.2701,2, 227.5069,2, 227.4908,2,    14.1,2,   27.39,2,    0.00,2,    1.84,2,   2.537,2,   1.266,2,   0.3950,2,  -999.0,9,  -999.0,9,-999.0000,9,  -999.00, -999.00,9, -999.00,9, -999.00,  -999.0,9, -999.00,9,     -999.0,9,  -999.0,1, 20170912,      423, -32.5002,-109.5906,        0.0,1,      0.061,1,      4.691,1,      0.698,1,     -999.0,1,     -999.0,9,     -999.0,9,     -999.0,9,     -999.0,9,     -999.0,9,     -999.0,9,     -999.0,9,     -999.0,9,     -999.0,9,     -999.0,9,     5.3604,2,     -999.0,     -999.0,9,     -999.0
320620170820,        P06,     192,          1,         19,         19,2,20170912,       0329,   -32.5004,  -109.5899,       2804,   704.9,   5.7597,  34.2777,2,  34.2797,2,  240.574,2, 242.7763,2,     9.9,2,   25.04,2,    0.00,2,    1.67,2,   3.288,2,   1.639,2,   0.6150,2,  2151.1,2,  2278.5,2,   7.6915,2,    25.00, -999.00,9, -999.00,9, -999.00,    43.5,2, -999.00,9,     -999.0,1,  -999.0,1, 20170912,      426, -32.5002,-109.5906,        0.0,1,      0.061,1,      4.690,1,      0.696,1,     -999.0,1,     -999.0,9,     -999.0,9,     -999.0,9,     -999.0,9,     -999.0,9,     -999.0,9,     -999.0,9,     -999.0,9,     -999.0,9,     -999.0,9,     5.8442,2,     -999.0,     -999.0,9,     -999.0
320620170820,        P06,     192,          1,         20,         20,2,20170912,       0329,   -32.5004,  -109.5899,       2804,   605.5,   6.2256,  34.3002,2,  34.2997,2, 244.6656,2,  245.013,2,     8.1,2,   23.86,2,    0.00,2,    1.58,2,   3.552,2,   1.826,2,   0.7730,2,  -999.0,9,  -999.0,9,-999.0000,9,  -999.00, -999.00,9, -999.00,9, -999.00,  -999.0,9, -999.00,9,     -999.0,9,  -999.0,1, 20170912,      429, -32.5002,-109.5906,        0.0,1,      0.060,1,      4.690,1,      0.690,1,     -999.0,1,     -999.0,9,     -999.0,9,     -999.0,9,     -999.0,9,     -999.0,9,     -999.0,9,     -999.0,9,     -999.0,9,     -999.0,9,     -999.0,9,     6.2242,2,     -999.0,     -999.0,9,     -999.0
320620170820,        P06,     192,          1,         21,         21,2,20170912,       0329,   -32.5004,  -109.5899,       2804,   503.1,   6.8331,  34.3283,2,  34.3272,2, 245.5634,2, 245.5458,2,     6.2,2,   22.23,2,    0.00,2,    1.49,2,   3.682,2,   1.991,2,   1.1510,2,  2144.9,2,  2277.3,2,   7.7058,2,    25.00, -999.00,9, -999.00,9, -999.00,    51.4,3, -999.00,9,     -999.0,1,  -999.0,1, 20170912,      432, -32.5001,-109.5907,        0.0,1,      0.060,1,      4.688,1,      0.686,1,     -999.0,1,     -999.0,9,     -999.0,9,     -999.0,9,     -999.0,9,     -999.0,9,     -999.0,9,     -999.0,9,     -999.0,9,     -999.0,9,     -999.0,9,     6.8193,2,     -999.0,     -999.0,9,     -999.0
320620170820,        P06,     192,          1,         22,         22,2,20170912,       0329,   -32.5004,  -109.5899,       2804,   452.8,   7.1425,  34.3209,2,  34.3195,2, 239.4379,2, 239.0688,2,     5.4,2,   21.77,2,    0.00,2,    1.47,2,-999.000,9,-999.000,9,-999.0000,9,  -999.0,9,  -999.0,9,-999.0000,9,  -999.00, -999.00,9, -999.00,9, -999.00,    51.5,3, -999.00,9,     -999.0,1,  -999.0,1, 20170912,      434, -32.5001,-109.5907,        0.0,1,      0.061,1,      4.687,1,      0.684,1,     -999.0,1,     -999.0,9,     -999.0,9,     -999.0,9,     -999.0,9,     -999.0,9,     -999.0,9,     -999.0,9,     -999.0,9,     -999.0,9,     -999.0,9,     7.1821,2,     -999.0,     -999.0,9,     -999.0
320620170820,        P06,     192,          1,         23,         23,2,20170912,       0329,   -32.5004,  -109.5899,       2804,   397.3,   7.9281,  34.3179,2,  34.3154,2, 232.2651,2, 233.0093,2,     4.1,2,   20.30,2,    0.00,2,    1.38,2,   3.575,2,   1.946,2,   1.3310,2,  2140.3,2,  2273.3,2,   7.7117,2,    25.00, -999.00,9, -999.00,9, -999.00,    45.5,2, -999.00,9,     -999.0,1,  -999.0,1, 20170912,      435, -32.5001,-109.5907,        0.0,1,      0.061,1,      4.686,1,      0.681,1,     -999.0,1,     -999.0,9,     -999.0,9,     -999.0,9,     -999.0,9,     -999.0,9,     -999.0,9,     -999.0,9,     -999.0,9,     -999.0,9,     -999.0,9,     7.9189,2,     -999.0,     -999.0,9,     -999.0
320620170820,        P06,     192,          1,         24,         24,2,20170912,       0329,   -32.5004,  -109.5899,       2804,   352.1,   9.0249,  34.3473,2,  34.3460,2, 228.7591,2, 228.0367,2,     2.7,2,   17.61,2,    0.00,2,    1.20,2,-999.000,9,-999.000,9,-999.0000,9,  -999.0,9,  -999.0,9,-999.0000,9,  -999.00, -999.00,9, -999.00,9, -999.00,  -999.0,9, -999.00,9,     -999.0,9,  -999.0,1, 20170912,      437, -32.5001,-109.5906,        0.0,1,      0.061,1,      4.684,1,      0.677,1,     -999.0,1,     -999.0,9,     -999.0,9,     -999.0,9,     -999.0,9,     -999.0,9,     -999.0,9,     -999.0,9,     -999.0,9,     -999.0,9,     -999.0,9,     9.0421,2,     -999.0,     -999.0,9,     -999.0
320620170820,        P06,     192,          1,         25,         25,2,20170912,       0329,   -32.5004,  -109.5899,       2804,   301.1,  11.1176,  34.5014,2,  34.4522,2,  220.672,2,  220.424,2,     1.8,2,   13.72,2,    0.00,2,    0.97,2,   3.155,2,   1.774,2,   1.4730,2,  2115.6,2,  2276.2,2,   7.7730,2,    25.00, -999.00,9, -999.00,9, -999.00,    48.0,2, -999.00,9,     -999.0,1,  -999.0,1, 20170912,      439, -32.5002,-109.5906,        0.0,1,      0.059,1,      4.683,1,      0.678,1,     -999.0,1,     -999.0,9,     -999.0,9,     -999.0,9,     -999.0,9,     -999.0,9,     -999.0,9,     -999.0,9,     -999.0,9,     -999.0,9,     -999.0,9,    10.6792,2,     -999.0,     -999.0,9,     -999.0
320620170820,        P06,     192,          1,         26,         26,2,20170912,       0329,   -32.5004,  -109.5899,       2804,   251.7,  12.9184,  34.6587,2,  34.6291,2, 217.9956,2, 218.4265,2,     0.9,2,    8.66,2,    0.00,2,    0.65,2,   2.835,2,   1.637,2,   1.4880,2,  -999.0,9,  -999.0,9,-999.0000,9,  -999.00, -999.00,9, -999.00,9, -999.00,    46.0,2,   10.70,2,     -999.0,1,  -999.0,1, 20170912,      441, -32.5002,-109.5906,        0.0,1,      0.064,1,      4.680,1,      0.674,1,     -999.0,1,     -999.0,9,     -999.0,9,     -999.0,9,     -999.0,9,     -999.0,9,     -999.0,9,     -999.0,9,     -999.0,9,     -999.0,9,     -999.0,9,    12.6484,2,     -999.0,     -999.0,9,     -999.0