BOTTLE,20240211CCHSIOCBG
EXPOCODE,SECT_ID,STNNBR,CASTNO,SAMPNO,BTLNBR,BTLNBR_FLAG_W,DATE,TIME,LATITUDE,LONGITUDE,DEPTH,CTDPRS,CTDTMP,CTDSAL,CTDSAL_FLAG_W,SALNTY,SALNTY_FLAG_W,CTDOXY,CTDOXY_FLAG_W,OXYGEN,OXYGEN_FLAG_W,SILCAT,SILCAT_FLAG_W,NITRAT,NITRAT_FLAG_W,NITRIT,NITRIT_FLAG_W,PHSPHT,PHSPHT_FLAG_W,CFC-11,CFC-11_FLAG_W,CFC-12,CFC-12_FLAG_W,SF6,SF6_FLAG_W,TCARBN,TCARBN_FLAG_W,ALKALI,ALKALI_FLAG_W,PH_TOT,PH_TOT_FLAG_W,PH_TMP,DELC13,DELC13_FLAG_W,DELC14,DELC14_FLAG_W,C14ERR,DOC,DOC_FLAG_W,TDN,TDN_FLAG_W,TON,TON_FLAG_W,D15N_NO3,D15N_NO3_FLAG_W,BTL_DATE,BTL_TIME,BTL_LAT,BTL_LON,CTDRINKO,CTDRINKO_FLAG_W,CTDFLUOR,CTDFLUOR_FLAG_W,CTDXMISS,CTDXMISS_FLAG_W,CTDBACKSCATTER,CTDBACKSCATTER_FLAG_W,D18O_NO3,D18O_NO3_FLAG_W,DOP,DOP_FLAG_W,CELLCOUNT,CELLCOUNT_FLAG_W,TDP,TDP_FLAG_W,POP,POP_FLAG_W,DATP,DATP_FLAG_W,PATP,PATP_FLAG_W,HPLC,HPLC_FLAG_W,POC,POC_FLAG_W,BEAMAP,BEAMAP_FLAG_W,DOC_NASA,DOC_NASA_FLAG_W,REFTMP,REFTMP_FLAG_W,DOC_NASA_ERROR,TDN_NASA,TDN_NASA_FLAG_W,TDN_NASA_ERROR
,,,,,,,,,,,METERS,DBAR,ITS-90,PSS-78,,PSS-78,,UMOL/KG,,UMOL/KG,,UMOL/KG,,UMOL/KG,,UMOL/KG,,UMOL/KG,,PMOL/KG,,PMOL/KG,,FMOL/KG,,UMOL/KG,,UMOL/KG,,,,DEG C,/MILLE,,/MILLE,,/MILLE,UMOL/KG,,UMOL/KG,,UMOL/KG,,/MILLE,,,,,,VOLTS,,VOLTS,,VOLTS,,VOLTS,,/MILLE,,UMOL/KG,,/LITER,,UMOL/KG,,UMOL/L,,PMOL/L,,PMOL/L,,,,UG/L,,/METER,,UMOL/L,,ITS-90,,UMOL/L,UMOL/L,,UMOL/L
320620170820,        P06,     183,          1,          1,          1,2,20170909,       1131,   -32.5001,  -116.4051,       3125,  3161.9,   1.7127,  34.6752,2,  34.6765,2, 164.7529,2, 165.1327,2,   121.7,2,   34.70,2,    0.00,2,    2.40,2,   0.036,2,   0.021,2,   0.0000,2,  2300.3,2,  2393.3,2,   7.5895,2,    25.00, -999.00,9, -999.00,9, -999.00,  -999.0,9, -999.00,9,     -999.0,9,  -999.0,9, 20170909,     1131, -32.5001,-116.4055,        0.0,1,      0.061,1,      4.691,1,      0.129,1,     -999.0,9,     -999.0,9,     -999.0,9,     -999.0,9,     -999.0,9,     -999.0,9,     -999.0,9,     -999.0,9,     -999.0,9,     -999.0,9,     -999.0,9,     1.7135,2,     -999.0,     -999.0,9,     -999.0
320620170820,        P06,     183,          1,          2,          2,2,20170909,       1131,   -32.5001,  -116.4051,       3125,  2993.8,   1.7130,  34.6741,2,  34.6747,2, 164.7529,2, 165.0698,2,   122.0,2,   34.73,2,    0.00,2,    2.40,2,   0.032,2,   0.021,2,   0.0000,2,  -999.0,9,  -999.0,9,-999.0000,9,  -999.00, -999.00,9, -999.00,9, -999.00,  -999.0,9, -999.00,9,     -999.0,9,  -999.0,9, 20170909,     1135, -32.5001,-116.4055,        0.0,1,      0.061,1,      4.692,1,      0.127,1,     -999.0,9,     -999.0,9,     -999.0,9,     -999.0,9,     -999.0,9,     -999.0,9,     -999.0,9,     -999.0,9,     -999.0,9,     -999.0,9,     -999.0,9,     1.7123,2,     -999.0,     -999.0,9,     -999.0
320620170820,        P06,     183,          1,          3,          3,2,20170909,       1131,   -32.5001,  -116.4051,       3125,  2840.4,   1.7241,  34.6721,2,  34.6726,2, 164.5912,2, 164.3533,2,   121.5,2,   34.82,2,    0.00,2,    2.41,2,   0.032,2,   0.020,2,   0.0000,2,  2300.0,2,  2396.7,2,   7.5879,2,    25.00, -999.00,9, -999.00,9, -999.00,  -999.0,9, -999.00,9,     -999.0,9,  -999.0,9, 20170909,     1139, -32.5001,-116.4055,        0.0,1,      0.061,1,      4.692,1,      0.127,1,     -999.0,9,     -999.0,9,     -999.0,9,     -999.0,9,     -999.0,9,     -999.0,9,     -999.0,9,     -999.0,9,     -999.0,9,     -999.0,9,     -999.0,9,     1.7230,2,     -999.0,     -999.0,9,     -999.0
320620170820,        P06,     183,          1,          4,          4,2,20170909,       1131,   -32.5001,  -116.4051,       3125,  2635.6,   1.7470,  34.6690,2,  34.6690,2, 163.5857,2, 163.0419,2,   120.9,2,   34.91,2,    0.00,2,    2.42,2,   0.034,2,   0.024,2,   0.0000,2,  -999.0,9,  -999.0,9,-999.0000,9,  -999.00, -999.00,9, -999.00,9, -999.00,  -999.0,9, -999.00,9,     -999.0,9,  -999.0,9, 20170909,     1143, -32.5001,-116.4055,        0.0,1,      0.061,1,      4.692,1,      0.126,1,     -999.0,9,     -999.0,9,     -999.0,9,     -999.0,9,     -999.0,9,     -999.0,9,     -999.0,9,     -999.0,9,     -999.0,9,     -999.0,9,     -999.0,9,     1.7462,2,     -999.0,     -999.0,9,     -999.0
320620170820,        P06,     183,          1,          5,          5,2,20170909,       1131,   -32.5001,  -116.4051,       3125,  2432.8,   1.8048,  34.6633,2,  34.6635,2, 161.2278,2,  160.939,2,   120.0,2,   35.06,2,    0.00,2,    2.44,2,   0.034,2,   0.023,2,   0.0000,2,  2300.9,2,  2392.3,2,   7.5822,2,    25.00, -999.00,9, -999.00,9, -999.00,  -999.0,9, -999.00,9,     -999.0,9,  -999.0,9, 20170909,     1148, -32.5001,-116.4054,        0.0,1,      0.061,1,      4.692,1,      0.126,1,     -999.0,9,     -999.0,9,     -999.0,9,     -999.0,9,     -999.0,9,     -999.0,9,     -999.0,9,     -999.0,9,     -999.0,9,     -999.0,9,     -999.0,9,     1.8040,2,     -999.0,     -999.0,9,     -999.0
320620170820,        P06,     183,          1,          6,          6,2,20170909,       1131,   -32.5001,  -116.4051,       3125,  2226.3,   1.9085,  34.6546,2,  34.6541,2, 158.4803,2, 158.3072,2,   116.9,2,   35.20,2,    0.00,2,    2.45,2,   0.034,2,   0.021,2,   0.0000,2,  -999.0,9,  -999.0,9,-999.0000,9,  -999.00, -999.00,9, -999.00,9, -999.00,  -999.0,9, -999.00,9,     -999.0,9,  -999.0,9, 20170909,     1152, -32.5001,-116.4054,        0.0,1,      0.060,1,      4.693,1,      0.127,1,     -999.0,9,     -999.0,9,     -999.0,9,     -999.0,9,     -999.0,9,     -999.0,9,     -999.0,9,     -999.0,9,     -999.0,9,     -999.0,9,     -999.0,9,     1.9062,2,     -999.0,     -999.0,9,     -999.0
320620170820,        P06,     183,          1,          7,          7,2,20170909,       1131,   -32.5001,  -116.4051,       3125,  2022.3,   2.0710,  34.6396,2,  34.6400,2, 156.4809,2, 156.9361,2,   110.3,2,   35.19,2,    0.00,2,    2.45,2,   0.038,2,   0.023,2,   0.0000,2,  2294.3,6,  2383.9,2,   7.5740,2,    25.00, -999.00,9, -999.00,9, -999.00,  -999.0,9, -999.00,9,     -999.0,9,  -999.0,9, 20170909,     1157, -32.5001,-116.4055,        0.0,1,      0.061,1,      4.692,1,      0.128,1,     -999.0,9,     -999.0,9,     -999.0,9,     -999.0,9,     -999.0,9,     -999.0,9,     -999.0,9,     -999.0,9,     -999.0,9,     -999.0,9,     -999.0,9,     2.0682,2,     -999.0,     -999.0,9,     -999.0
320620170820,        P06,     183,          1,          8,          8,2,20170909,       1131,   -32.5001,  -116.4051,       3125,  1820.2,   2.2618,  34.6159,2,  34.6170,2, 157.6187,2, 157.5394,2,   101.2,2,   35.09,2,    0.00,2,    2.43,2,   0.046,2,   0.030,2,   0.0000,2,  -999.0,9,  -999.0,9,-999.0000,9,  -999.00, -999.00,9, -999.00,9, -999.00,  -999.0,9, -999.00,9,     -999.0,9,  -999.0,9, 20170909,     1201, -32.5001,-116.4054,        0.0,1,      0.061,1,      4.693,1,      0.127,1,     -999.0,9,     -999.0,9,     -999.0,9,     -999.0,9,     -999.0,9,     -999.0,9,     -999.0,9,     -999.0,9,     -999.0,9,     -999.0,9,     -999.0,9,     2.2480,2,     -999.0,     -999.0,9,     -999.0
320620170820,        P06,     183,          1,          9,          9,2,20170909,       1131,   -32.5001,  -116.4051,       3125,  1717.8,   2.3935,  34.5948,2,  34.5991,2, 159.2011,2, 159.6279,2,    94.7,2,   35.00,2,    0.00,2,    2.41,2,   0.058,2,   0.037,2,   0.0000,2,  2279.5,2,  2364.4,2,   7.5697,2,    25.00, -999.00,9, -999.00,9, -999.00,  -999.0,9, -999.00,9,     -999.0,9,  -999.0,9, 20170909,     1204, -32.5001,-116.4054,        0.0,1,      0.061,1,      4.693,1,      0.129,1,     -999.0,9,     -999.0,9,     -999.0,9,     -999.0,9,     -999.0,9,     -999.0,9,     -999.0,9,     -999.0,9,     -999.0,9,     -999.0,9,     -999.0,9,     2.3630,2,     -999.0,     -999.0,9,     -999.0
320620170820,        P06,     183,          1,         10,         10,2,20170909,       1131,   -32.5001,  -116.4051,       3125,  1616.1,   2.5329,  34.5680,2,  34.5714,2, 161.5646,2, 161.8674,2,    86.4,2,   34.93,2,    0.00,2,    2.41,2,   0.084,2,   0.052,2,   0.0000,2,  -999.0,9,  -999.0,9,-999.0000,9,  -999.00, -999.00,9, -999.00,9, -999.00,  -999.0,9, -999.00,9,     -999.0,9,  -999.0,9, 20170909,     1206, -32.5001,-116.4053,        0.0,1,      0.061,1,      4.693,1,      0.128,1,     -999.0,9,     -999.0,9,     -999.0,9,     -999.0,9,     -999.0,9,     -999.0,9,     -999.0,9,     -999.0,9,     -999.0,9,     -999.0,9,     -999.0,9,     2.5111,2,     -999.0,     -999.0,9,     -999.0
320620170820,        P06,     183,          1,         11,         11,2,20170909,       1131,   -32.5001,  -116.4051,       3125,  1515.2,   2.7304,  34.5262,2,  34.5347,2, 163.7561,2, 163.9278,2,    77.6,2,   34.92,2,    0.00,2,    2.41,2,   0.128,2,   0.078,2,   0.0000,2,  2263.3,2,  2344.2,6,   7.5630,2,    25.00, -999.00,9, -999.00,9, -999.00,  -999.0,9, -999.00,9,     -999.0,9,  -999.0,9, 20170909,     1209, -32.5001,-116.4053,        0.0,1,      0.061,1,      4.693,1,      0.128,1,     -999.0,9,     -999.0,9,     -999.0,9,     -999.0,9,     -999.0,9,     -999.0,9,     -999.0,9,     -999.0,9,     -999.0,9,     -999.0,9,     -999.0,9,     2.6913,2,     -999.0,     -999.0,9,     -999.0
320620170820,        P06,     183,          1,         12,         12,2,20170909,       1131,   -32.5001,  -116.4051,       3125,  1414.7,   2.9205,  34.4879,2,  34.4915,2, 166.4388,2, 165.8896,2,    69.0,2,   34.89,2,    0.00,2,    2.41,2,   0.197,2,   0.114,2,   0.0000,2,  -999.0,9,  -999.0,9,-999.0000,9,  -999.00, -999.00,9, -999.00,9, -999.00,  -999.0,9, -999.00,9,     -999.0,9,  -999.0,9, 20170909,     1212, -32.5001,-116.4054,        0.0,1,      0.061,1,      4.694,1,      0.128,1,     -999.0,9,     -999.0,9,     -999.0,9,     -999.0,9,     -999.0,9,     -999.0,9,     -999.0,9,     -999.0,9,     -999.0,9,     -999.0,9,     -999.0,9,     2.8955,2,     -999.0,     -999.0,9,     -999.0
320620170820,        P06,     183,          1,         13,         13,2,20170909,       1131,   -32.5001,  -116.4051,       3125,  1313.6,   3.1896,  34.4432,2,  34.4418,2, 168.1846,2, 167.9591,2,    60.2,2,   34.86,2,    0.00,2,    2.40,2,   0.286,2,   0.161,2,   0.0000,2,  2246.3,2,  2326.0,2,   7.5620,6,    25.00, -999.00,9, -999.00,9, -999.00,  -999.0,9, -999.00,9,     -999.0,9,  -999.0,9, 20170909,     1214, -32.4999,-116.4055,        0.0,1,      0.061,1,      4.693,1,      0.129,1,     -999.0,9,     -999.0,9,     -999.0,9,     -999.0,9,     -999.0,9,     -999.0,9,     -999.0,9,     -999.0,9,     -999.0,9,     -999.0,9,     -999.0,9,     3.1946,2,     -999.0,     -999.0,9,     -999.0
320620170820,        P06,     183,          1,         14,         14,2,20170909,       1131,   -32.5001,  -116.4051,       3125,  1212.5,   3.4968,  34.3999,2,  34.3915,2, 174.2073,2, 174.5433,2,    50.0,2,   34.25,2,    0.00,2,    2.34,2,   0.437,2,   0.234,2,   0.0000,2,  -999.0,9,  -999.0,9,-999.0000,9,  -999.00, -999.00,9, -999.00,9, -999.00,  -999.0,9, -999.00,9,     -999.0,9,  -999.0,9, 20170909,     1217, -32.4999,-116.4055,        0.0,1,      0.059,1,      4.693,1,      0.130,1,     -999.0,9,     -999.0,9,     -999.0,9,     -999.0,9,     -999.0,9,     -999.0,9,     -999.0,9,     -999.0,9,     -999.0,9,     -999.0,9,     -999.0,9,     3.5376,2,     -999.0,     -999.0,9,     -999.0
320620170820,        P06,     183,          1,         15,         15,2,20170909,       1131,   -32.5001,  -116.4051,       3125,  1109.9,   3.9706,  34.3441,2,  34.3370,2, 189.3749,2, 188.5908,2,    37.2,2,   32.70,2,    0.00,2,    2.24,2,   0.751,2,   0.378,2,   0.0240,2,  2212.2,2,  2300.9,2,   7.5952,2,    25.00, -999.00,9, -999.00,9, -999.00,  -999.0,9, -999.00,9,     -999.0,9,  -999.0,9, 20170909,     1220, -32.4999,-116.4055,        0.0,1,      0.060,1,      4.693,1,      0.129,1,     -999.0,9,     -999.0,9,     -999.0,9,     -999.0,9,     -999.0,9,     -999.0,9,     -999.0,9,     -999.0,9,     -999.0,9,     -999.0,9,     -999.0,9,     4.0478,2,     -999.0,     -999.0,9,     -999.0
320620170820,        P06,     183,          1,         16,         16,2,20170909,       1131,   -32.5001,  -116.4051,       3125,  1008.6,   4.4360,  34.3095,2,  34.3074,3, 199.0147,2, 199.1012,2,    28.6,2,   31.26,2,    0.00,2,    2.10,2,   1.070,2,   0.536,2,   0.0520,2,  -999.0,9,  -999.0,9,-999.0000,9,  -999.00, -999.00,9, -999.00,9, -999.00,  -999.0,9, -999.00,9,     -999.0,9,  -999.0,9, 20170909,     1222, -32.5000,-116.4054,        0.0,1,      0.061,1,      4.694,1,      0.128,1,     -999.0,9,     -999.0,9,     -999.0,9,     -999.0,9,     -999.0,9,     -999.0,9,     -999.0,9,     -999.0,9,     -999.0,9,     -999.0,9,     -999.0,9,     4.4513,2,     -999.0,     -999.0,9,     -999.0
320620170820,        P06,     183,          1,         17,         17,2,20170909,       1131,   -32.5001,  -116.4051,       3125,   907.3,   4.9084,  34.2869,2,  34.2825,2, 216.2753,2, 216.5554,2,    19.3,2,   28.93,2,    0.00,2,    1.94,2,   1.767,6,   0.873,6,   0.2400,6,  2176.4,2,  2285.4,2,   7.6485,2,    25.00, -999.00,9, -999.00,9, -999.00,  -999.0,9, -999.00,9,     -999.0,9,  -999.0,9, 20170909,     1225, -32.5001,-116.4053,        0.0,1,      0.059,1,      4.694,1,      0.129,1,     -999.0,9,     -999.0,9,     -999.0,9,     -999.0,9,     -999.0,9,     -999.0,9,     -999.0,9,     -999.0,9,     -999.0,9,     -999.0,9,     -999.0,9,     4.9854,2,     -999.0,     -999.0,9,     -999.0
320620170820,        P06,     183,          1,         18,         18,2,20170909,       1131,   -32.5001,  -116.4051,       3125,   807.4,   5.4431,  34.2783,2,  34.2768,2, 229.9276,2, 230.4035,2,    13.6,2,   26.86,2,    0.00,2,    1.80,2,   2.464,2,   1.239,2,   0.3560,2,  -999.0,9,  -999.0,9,-999.0000,9,  -999.00, -999.00,9, -999.00,9, -999.00,  -999.0,9, -999.00,9,     -999.0,9,  -999.0,9, 20170909,     1228, -32.5000,-116.4053,        0.0,1,      0.059,1,      4.693,1,      0.129,1,     -999.0,9,     -999.0,9,     -999.0,9,     -999.0,9,     -999.0,9,     -999.0,9,     -999.0,9,     -999.0,9,     -999.0,9,     -999.0,9,     -999.0,9,     5.4376,2,     -999.0,     -999.0,9,     -999.0
320620170820,        P06,     183,          1,         19,         19,2,20170909,       1131,   -32.5001,  -116.4051,       3125,   707.6,   5.9588,  34.2914,2,  34.2878,2, 239.8697,2, 239.5663,2,     9.8,2,   25.04,2,    0.00,2,    1.65,2,   3.198,2,   1.572,2,   0.6250,2,  2154.4,2,  2276.6,2,   7.6926,2,    25.00, -999.00,9, -999.00,9, -999.00,  -999.0,9, -999.00,9,     -999.0,9,  -999.0,9, 20170909,     1231, -32.5000,-116.4054,        0.0,1,      0.058,1,      4.692,1,      0.130,1,     -999.0,9,     -999.0,9,     -999.0,9,     -999.0,9,     -999.0,9,     -999.0,9,     -999.0,9,     -999.0,9,     -999.0,9,     -999.0,9,     -999.0,9,     5.8924,2,     -999.0,     -999.0,9,     -999.0
320620170820,        P06,     183,          1,         20,         20,2,20170909,       1131,   -32.5001,  -116.4051,       3125,   606.0,   6.4200,  34.3109,2,  34.3066,2, 241.5477,2, 241.8825,2,     7.7,2,   23.71,2,    0.00,2,    1.57,2,   3.564,2,   1.821,2,   0.8240,2,  -999.0,9,  -999.0,9,-999.0000,9,  -999.00, -999.00,9, -999.00,9, -999.00,  -999.0,9, -999.00,9,     -999.0,9,  -999.0,9, 20170909,     1233, -32.4999,-116.4054,        0.0,1,      0.059,1,      4.691,1,      0.130,1,     -999.0,9,     -999.0,9,     -999.0,9,     -999.0,9,     -999.0,9,     -999.0,9,     -999.0,9,     -999.0,9,     -999.0,9,     -999.0,9,     -999.0,9,     6.3462,2,     -999.0,     -999.0,9,     -999.0
320620170820,        P06,     183,          1,         21,         21,2,20170909,       1131,   -32.5001,  -116.4051,       3125,   504.7,   7.0430,  34.3234,2,  34.3209,2, 232.7474,2,  232.856,2,     6.3,2,   22.79,2,    0.00,2,    1.52,2,   3.569,2,   1.879,2,   0.9390,2,  2152.0,2,  2274.7,2,   7.6926,2,    25.00, -999.00,9, -999.00,9, -999.00,  -999.0,9, -999.00,9,     -999.0,9,  -999.0,9, 20170909,     1236, -32.4999,-116.4054,        0.0,1,      0.059,1,      4.690,1,      0.133,1,     -999.0,9,     -999.0,9,     -999.0,9,     -999.0,9,     -999.0,9,     -999.0,9,     -999.0,9,     -999.0,9,     -999.0,9,     -999.0,9,     -999.0,9,     7.0039,2,     -999.0,     -999.0,9,     -999.0
320620170820,        P06,     183,          1,         22,         22,2,20170909,       1131,   -32.5001,  -116.4051,       3125,   454.6,   7.6336,  34.3166,2,  34.3133,2, 226.7419,2, 226.1746,2,     5.3,2,   22.01,2,    0.00,2,    1.49,2,   3.536,2,   1.892,2,   1.1190,2,  -999.0,9,  -999.0,9,-999.0000,9,  -999.00, -999.00,9, -999.00,9, -999.00,  -999.0,9, -999.00,9,     -999.0,9,  -999.0,9, 20170909,     1238, -32.5000,-116.4054,        0.0,1,      0.059,1,      4.689,1,      0.133,1,     -999.0,9,     -999.0,9,     -999.0,9,     -999.0,9,     -999.0,9,     -999.0,9,     -999.0,9,     -999.0,9,     -999.0,9,     -999.0,9,     -999.0,9,     7.4660,2,     -999.0,     -999.0,9,     -999.0
320620170820,        P06,     183,          1,         23,         23,2,20170909,       1131,   -32.5001,  -116.4051,       3125,   404.0,   8.5509,  34.3400,2,  34.3319,3, 224.9244,2, 224.8456,2,     3.7,2,   19.65,2,    0.00,2,    1.34,2,   3.483,2,   1.846,2,   1.2360,2,  2140.7,2,  2272.3,2,   7.7141,2,    25.00, -999.00,9, -999.00,9, -999.00,  -999.0,9, -999.00,9,     -999.0,9,  -999.0,9, 20170909,     1240, -32.5000,-116.4054,        0.0,1,      0.059,1,      4.688,1,      0.131,1,     -999.0,9,     -999.0,9,     -999.0,9,     -999.0,9,     -999.0,9,     -999.0,9,     -999.0,9,     -999.0,9,     -999.0,9,     -999.0,9,     -999.0,9,     8.4675,2,     -999.0,     -999.0,9,     -999.0
320620170820,        P06,     183,          1,         24,         24,2,20170909,       1131,   -32.5001,  -116.4051,       3125,   353.1,  10.0200,  34.4215,2,  34.4135,2, 220.3274,2, 220.4109,2,     2.1,2,   15.57,2,    0.00,2,    1.08,2,   3.252,2,   1.777,2,   1.3450,2,  -999.0,9,  -999.0,9,-999.0000,9,  -999.00, -999.00,9, -999.00,9, -999.00,  -999.0,9, -999.00,9,     -999.0,9,  -999.0,9, 20170909,     1242, -32.5000,-116.4054,        0.0,1,      0.059,1,      4.687,1,      0.134,1,     -999.0,9,     -999.0,9,     -999.0,9,     -999.0,9,     -999.0,9,     -999.0,9,     -999.0,9,     -999.0,9,     -999.0,9,     -999.0,9,     -999.0,9,     9.9725,2,     -999.0,     -999.0,9,     -999.0
320620170820,        P06,     183,          1,         25,         25,2,20170909,       1131,   -32.5001,  -116.4051,       3125,   301.3,  11.6284,  34.5311,2,  34.5362,3, 216.3316,2, 216.0579,2,     0.9,2,   11.26,2,    0.00,2,    0.82,2,   3.018,2,   1.698,2,   1.3430,2,  2111.7,2,  2278.5,2,   7.7991,2,    25.00, -999.00,9, -999.00,9, -999.00,  -999.0,9, -999.00,9,     -999.0,9,  -999.0,9, 20170909,     1244, -32.5000,-116.4053,        0.0,1,      0.060,1,      4.684,1,      0.131,1,     -999.0,9,     -999.0,9,     -999.0,9,     -999.0,9,     -999.0,9,     -999.0,9,     -999.0,9,     -999.0,9,     -999.0,9,     -999.0,9,     -999.0,9,    11.7612,2,     -999.0,     -999.0,9,     -999.0
320620170820,        P06,     183,          1,         26,         26,2,20170909,       1131,   -32.5001,  -116.4051,       3125,   250.5,  13.6148,  34.7284,2,  34.7335,2, 216.3096,2, 215.2884,2,     0.2,2,    6.70,2,    0.00,2,    0.54,2,   2.703,2,   1.568,2,   1.4680,2,  2094.5,2,  2288.4,2,   7.8485,2,    25.00, -999.00,9, -999.00,9, -999.00,  -999.0,9, -999.00,9,     -999.0,9,  -999.0,9, 20170909,     1246, -32.5000,-116.4054,        0.0,1,      0.068,1,      4.681,1,      0.131,1,     -999.0,9,     -999.0,9,     -999.0,9,     -999.0,9,     -999.0,9,     -999.0,9,     -999.0,9,     -999.0,9,     -999.0,9,     -999.0,9,     -999.0,9,    13.7306,2,     -999.0,     -999.0,9,     -999.0