BOTTLE,20240211CCHSIOCBG
EXPOCODE,SECT_ID,STNNBR,CASTNO,SAMPNO,BTLNBR,BTLNBR_FLAG_W,DATE,TIME,LATITUDE,LONGITUDE,DEPTH,CTDPRS,CTDTMP,CTDSAL,CTDSAL_FLAG_W,SALNTY,SALNTY_FLAG_W,CTDOXY,CTDOXY_FLAG_W,OXYGEN,OXYGEN_FLAG_W,SILCAT,SILCAT_FLAG_W,NITRAT,NITRAT_FLAG_W,NITRIT,NITRIT_FLAG_W,PHSPHT,PHSPHT_FLAG_W,CFC-11,CFC-11_FLAG_W,CFC-12,CFC-12_FLAG_W,SF6,SF6_FLAG_W,TCARBN,TCARBN_FLAG_W,ALKALI,ALKALI_FLAG_W,PH_TOT,PH_TOT_FLAG_W,PH_TMP,DELC13,DELC13_FLAG_W,DELC14,DELC14_FLAG_W,C14ERR,DOC,DOC_FLAG_W,TDN,TDN_FLAG_W,TON,TON_FLAG_W,D15N_NO3,D15N_NO3_FLAG_W,BTL_DATE,BTL_TIME,BTL_LAT,BTL_LON,CTDRINKO,CTDRINKO_FLAG_W,CTDFLUOR,CTDFLUOR_FLAG_W,CTDXMISS,CTDXMISS_FLAG_W,CTDBACKSCATTER,CTDBACKSCATTER_FLAG_W,D18O_NO3,D18O_NO3_FLAG_W,DOP,DOP_FLAG_W,CELLCOUNT,CELLCOUNT_FLAG_W,TDP,TDP_FLAG_W,POP,POP_FLAG_W,DATP,DATP_FLAG_W,PATP,PATP_FLAG_W,HPLC,HPLC_FLAG_W,POC,POC_FLAG_W,BEAMAP,BEAMAP_FLAG_W,DOC_NASA,DOC_NASA_FLAG_W,REFTMP,REFTMP_FLAG_W,DOC_NASA_ERROR,TDN_NASA,TDN_NASA_FLAG_W,TDN_NASA_ERROR
,,,,,,,,,,,METERS,DBAR,ITS-90,PSS-78,,PSS-78,,UMOL/KG,,UMOL/KG,,UMOL/KG,,UMOL/KG,,UMOL/KG,,UMOL/KG,,PMOL/KG,,PMOL/KG,,FMOL/KG,,UMOL/KG,,UMOL/KG,,,,DEG C,/MILLE,,/MILLE,,/MILLE,UMOL/KG,,UMOL/KG,,UMOL/KG,,/MILLE,,,,,,VOLTS,,VOLTS,,VOLTS,,VOLTS,,/MILLE,,UMOL/KG,,/LITER,,UMOL/KG,,UMOL/L,,PMOL/L,,PMOL/L,,,,UG/L,,/METER,,UMOL/L,,ITS-90,,UMOL/L,UMOL/L,,UMOL/L
320620170820,        P06,     154,          1,          1,          1,2,20170829,       1522,   -32.4999,  -140.3707,       4785,  4863.7,   1.3487,  34.7053,2,  34.7076,3, 192.9037,2, 192.9366,2,   119.5,2,   32.86,2,    0.00,2,    2.26,2,   0.032,6,   0.022,6,   0.0000,6,  2276.4,6,  2379.7,2,   7.6084,2,    25.00, -999.00,9, -999.00,9, -999.00,    40.3,2, -999.00,9,     -999.0,1,  -999.0,9, 20170829,     1522, -32.5001,-140.3699,        0.0,1,      0.060,1,      4.694,1,      0.123,1,     -999.0,9,     -999.0,9,     -999.0,9,     -999.0,9,     -999.0,9,     -999.0,9,     -999.0,9,     -999.0,9,     -999.0,9,     -999.0,9,     -999.0,9,     1.3491,2,     -999.0,     -999.0,9,     -999.0
320620170820,        P06,     154,          1,          2,          2,2,20170829,       1522,   -32.4999,  -140.3707,       4785,  4785.2,   1.3396,  34.7054,2,  34.7109,3, 192.9037,2, 193.2837,2,   119.7,2,   32.75,2,    0.00,2,    2.28,2,   0.029,2,   0.023,2,   0.0000,2,  2277.2,2,  2379.5,2,   7.6075,2,    25.00, -999.00,9, -999.00,9, -999.00,  -999.0,9, -999.00,9,     -999.0,9,  -999.0,9, 20170829,     1525, -32.5001,-140.3698,        0.0,1,      0.060,1,      4.694,1,      0.123,1,     -999.0,9,     -999.0,9,     -999.0,9,     -999.0,9,     -999.0,9,     -999.0,9,     -999.0,9,     -999.0,9,     -999.0,9,     -999.0,9,     -999.0,9,     1.3399,2,     -999.0,     -999.0,9,     -999.0
320620170820,        P06,     154,          1,          3,          3,2,20170829,       1522,   -32.4999,  -140.3707,       4785,  4684.0,   1.3316,  34.7053,2,  34.7066,3, 192.9037,2, 193.0396,2,   119.6,2,   32.75,2,    0.00,2,    2.28,2,   0.033,2,   0.022,2,   0.0000,2,  2277.0,2,  2380.9,2,   7.6085,2,    25.00, -999.00,9, -999.00,9, -999.00,    40.7,2, -999.00,9,     -999.0,1,  -999.0,9, 20170829,     1529, -32.5002,-140.3698,        0.0,1,      0.062,1,      4.694,1,      0.122,1,     -999.0,9,     -999.0,9,     -999.0,9,     -999.0,9,     -999.0,9,     -999.0,9,     -999.0,9,     -999.0,9,     -999.0,9,     -999.0,9,     -999.0,9,     1.3318,2,     -999.0,     -999.0,9,     -999.0
320620170820,        P06,     154,          1,          4,          4,2,20170829,       1522,   -32.4999,  -140.3707,       4785,  4373.8,   1.3173,  34.7044,2,  34.7058,3, 191.7014,2, 191.3161,2,   119.8,2,   32.85,2,    0.00,2,    2.28,2,   0.036,2,   0.026,2,   0.0000,2,  2280.0,2,  2380.7,2,   7.6069,2,    25.00, -999.00,9, -999.00,9, -999.00,  -999.0,9, -999.00,9,     -999.0,9,  -999.0,9, 20170829,     1535, -32.5002,-140.3698,        0.0,1,      0.061,1,      4.695,1,      0.123,1,     -999.0,9,     -999.0,9,     -999.0,9,     -999.0,9,     -999.0,9,     -999.0,9,     -999.0,9,     -999.0,9,     -999.0,9,     -999.0,9,     -999.0,9,     1.3157,2,     -999.0,     -999.0,9,     -999.0
320620170820,        P06,     154,          1,          5,          5,2,20170829,       1522,   -32.4999,  -140.3707,       4785,  4065.3,   1.3521,  34.7008,2,  34.7020,3, 187.5826,2, 188.0261,2,   121.0,2,   33.10,2,    0.00,2,    2.30,2,   0.035,2,   0.025,2,   0.0000,2,  2281.1,2,  2380.7,2,   7.6030,2,    25.00, -999.00,9, -999.00,9, -999.00,    39.8,2, -999.00,9,     -999.0,1,  -999.0,9, 20170829,     1541, -32.5001,-140.3699,        0.0,1,      0.060,1,      4.695,1,      0.124,1,     -999.0,9,     -999.0,9,     -999.0,9,     -999.0,9,     -999.0,9,     -999.0,9,     -999.0,9,     -999.0,9,     -999.0,9,     -999.0,9,     -999.0,9,     1.3453,2,     -999.0,     -999.0,9,     -999.0
320620170820,        P06,     154,          1,          6,          6,2,20170829,       1522,   -32.4999,  -140.3707,       4785,  3759.2,   1.4620,  34.6927,2,  34.6934,3, 179.3788,2, 179.0038,2,   122.5,2,   33.64,2,    0.00,2,    2.33,2,   0.037,2,   0.026,2,   0.0000,2,  2287.8,2,  2388.7,2,   7.5969,2,    25.00, -999.00,9, -999.00,9, -999.00,  -999.0,5, -999.00,9,     -999.0,1,  -999.0,9, 20170829,     1548, -32.5000,-140.3699,        0.0,1,      0.061,1,      4.695,1,      0.124,1,     -999.0,9,     -999.0,9,     -999.0,9,     -999.0,9,     -999.0,9,     -999.0,9,     -999.0,9,     -999.0,9,     -999.0,9,     -999.0,9,     -999.0,9,     1.4605,2,     -999.0,     -999.0,9,     -999.0
320620170820,        P06,     154,          1,          7,          7,2,20170829,       1522,   -32.4999,  -140.3707,       4785,  3452.4,   1.5653,  34.6843,2,  34.6853,2, 171.8718,2, 170.9474,2,   124.6,2,   34.24,2,    0.00,2,    2.37,2,   0.029,2,   0.022,2,   0.0000,2,  2296.6,2,  2393.5,6,   7.5902,2,    25.00, -999.00,9, -999.00,9, -999.00,  -999.0,9, -999.00,9,     -999.0,9,  -999.0,9, 20170829,     1554, -32.5000,-140.3701,        0.0,1,      0.061,1,      4.696,1,      0.124,1,     -999.0,9,     -999.0,9,     -999.0,9,     -999.0,9,     -999.0,9,     -999.0,9,     -999.0,9,     -999.0,9,     -999.0,9,     -999.0,9,     -999.0,9,     1.5609,2,     -999.0,     -999.0,9,     -999.0
320620170820,        P06,     154,          1,          8,          8,2,20170829,       1522,   -32.4999,  -140.3707,       4785,  3146.0,   1.6499,  34.6766,2,  34.6789,2, 165.9443,2, 165.9161,2,   124.8,2,   34.65,2,    0.00,2,    2.40,2,   0.035,2,   0.025,2,   0.0000,2,  2300.8,2,  2395.3,2,   7.5859,2,    25.00, -999.00,9, -999.00,9, -999.00,    37.0,2, -999.00,9,     -999.0,1,  -999.0,9, 20170829,     1601, -32.5000,-140.3702,        0.0,1,      0.061,1,      4.696,1,      0.126,1,     -999.0,9,     -999.0,9,     -999.0,9,     -999.0,9,     -999.0,9,     -999.0,9,     -999.0,9,     -999.0,9,     -999.0,9,     -999.0,9,     -999.0,9,     1.6413,2,     -999.0,     -999.0,9,     -999.0
320620170820,        P06,     154,          1,          9,          9,2,20170829,       1522,   -32.4999,  -140.3707,       4785,  2873.8,   1.7193,  34.6702,2,  34.6724,2, 162.5116,2, 162.1677,2,   124.6,2,   34.86,2,    0.00,2,    2.44,2,   0.031,2,   0.021,2,   0.0000,2,  2304.3,2,  2394.0,2,   7.5821,2,    25.00, -999.00,9, -999.00,9, -999.00,  -999.0,9, -999.00,9,     -999.0,9,  -999.0,9, 20170829,     1606, -32.5000,-140.3701,        0.0,1,      0.062,1,      4.696,1,      0.126,1,     -999.0,9,     -999.0,9,     -999.0,9,     -999.0,9,     -999.0,9,     -999.0,9,     -999.0,9,     -999.0,9,     -999.0,9,     -999.0,9,     -999.0,9,     1.7049,2,     -999.0,     -999.0,9,     -999.0
320620170820,        P06,     154,          1,         10,         10,2,20170829,       1522,   -32.4999,  -140.3707,       4785,  2621.2,   1.8027,  34.6631,2,  34.6651,2, 158.2718,2, 157.9111,2,   123.9,2,   35.29,2,    0.00,2,    2.45,2,   0.035,2,   0.023,2,   0.0000,2,  2304.5,2,  2397.9,2,   7.5778,2,    25.00, -999.00,9, -999.00,9, -999.00,    38.2,2, -999.00,9,     -999.0,1,  -999.0,9, 20170829,     1612, -32.5000,-140.3700,        0.0,1,      0.061,1,      4.696,1,      0.127,1,     -999.0,9,     -999.0,9,     -999.0,9,     -999.0,9,     -999.0,9,     -999.0,9,     -999.0,9,     -999.0,9,     -999.0,9,     -999.0,9,     -999.0,9,     1.7901,2,     -999.0,     -999.0,9,     -999.0
320620170820,        P06,     154,          1,         11,         11,2,20170829,       1522,   -32.4999,  -140.3707,       4785,  2364.4,   1.9143,  34.6532,2,  34.6533,2, 154.4556,2, 155.1069,2,   120.4,2,   35.49,2,    0.00,2,    2.46,2,   0.033,2,   0.024,2,   0.0000,2,  2303.8,2,  2394.1,2,   7.5736,2,    25.00, -999.00,9, -999.00,9, -999.00,  -999.0,9, -999.00,9,     -999.0,9,  -999.0,9, 20170829,     1617, -32.5000,-140.3699,        0.0,1,      0.061,1,      4.696,1,      0.128,1,     -999.0,9,     -999.0,9,     -999.0,9,     -999.0,9,     -999.0,9,     -999.0,9,     -999.0,9,     -999.0,9,     -999.0,9,     -999.0,9,     -999.0,9,     1.9214,2,     -999.0,     -999.0,9,     -999.0
320620170820,        P06,     154,          1,         12,         12,2,20170829,       1522,   -32.4999,  -140.3707,       4785,  2110.5,   2.0711,  34.6386,2,  34.6419,2, 153.4585,2, 154.3085,2,   114.2,2,   35.48,2,    0.00,2,    2.46,2,   0.035,2,   0.024,2,   0.0000,2,  2299.1,6,  2388.8,2,   7.5708,2,    25.00, -999.00,9, -999.00,9, -999.00,    39.4,2, -999.00,9,     -999.0,1,  -999.0,9, 20170829,     1623, -32.5000,-140.3699,        0.0,1,      0.061,1,      4.696,1,      0.128,1,     -999.0,9,     -999.0,9,     -999.0,9,     -999.0,9,     -999.0,9,     -999.0,9,     -999.0,9,     -999.0,9,     -999.0,9,     -999.0,9,     -999.0,9,     2.0720,2,     -999.0,     -999.0,9,     -999.0
320620170820,        P06,     154,          1,         13,         13,2,20170829,       1522,   -32.4999,  -140.3707,       4785,  1885.8,   2.2542,  34.6161,2,  34.6156,2, 154.8771,2, 155.5209,2,   104.4,2,   35.23,2,    0.00,2,    2.44,2,   0.035,2,   0.023,2,   0.0000,2,  2287.9,2,  2377.9,2,   7.5697,2,    25.00, -999.00,9, -999.00,9, -999.00,  -999.0,9, -999.00,9,     -999.0,9,  -999.0,9, 20170829,     1628, -32.5000,-140.3699,        0.0,1,      0.061,1,      4.696,1,      0.129,1,     -999.0,9,     -999.0,9,     -999.0,9,     -999.0,9,     -999.0,9,     -999.0,9,     -999.0,9,     -999.0,9,     -999.0,9,     -999.0,9,     -999.0,9,     2.2600,2,     -999.0,     -999.0,9,     -999.0
320620170820,        P06,     154,          1,         14,         14,2,20170829,       1522,   -32.4999,  -140.3707,       4785,  1684.2,   2.4751,  34.5799,2,  34.5804,2, 158.6967,2, 159.4367,2,    92.8,2,   35.10,2,    0.00,2,    2.42,2,   0.046,2,   0.032,2,   0.0000,2,  2276.1,2,  2365.3,2,   7.5677,2,    25.00, -999.00,9, -999.00,9, -999.00,    39.0,2, -999.00,9,     -999.0,1,  -999.0,9, 20170829,     1633, -32.5000,-140.3702,        0.0,1,      0.061,1,      4.696,1,      0.129,1,     -999.0,9,     -999.0,9,     -999.0,9,     -999.0,9,     -999.0,9,     -999.0,9,     -999.0,9,     -999.0,9,     -999.0,9,     -999.0,9,     -999.0,9,     2.4752,2,     -999.0,     -999.0,9,     -999.0
320620170820,        P06,     154,          1,         15,         15,2,20170829,       1522,   -32.4999,  -140.3707,       4785,  1552.1,   2.6661,  34.5424,2,  34.5409,2, 163.0975,2, 163.7626,2,    81.1,2,   34.80,2,    0.00,2,    2.41,2,   0.069,2,   0.051,2,   0.0000,2,  2263.7,2,  2348.4,2,   7.5672,6,    25.00, -999.00,9, -999.00,9, -999.00,  -999.0,9, -999.00,9,     -999.0,9,  -999.0,9, 20170829,     1636, -32.5000,-140.3703,        0.0,1,      0.061,1,      4.696,1,      0.130,1,     -999.0,9,     -999.0,9,     -999.0,9,     -999.0,9,     -999.0,9,     -999.0,9,     -999.0,9,     -999.0,9,     -999.0,9,     -999.0,9,     -999.0,9,     2.6805,2,     -999.0,     -999.0,9,     -999.0
320620170820,        P06,     154,          1,         16,         16,2,20170829,       1522,   -32.4999,  -140.3707,       4785,  1449.8,   2.8902,  34.4953,2,  34.4985,2, 168.0623,2, 168.0708,2,    71.4,2,   34.66,2,    0.00,2,    2.38,2,   0.126,2,   0.080,2,   0.0000,2,  2251.4,2,  2338.8,2,   7.5676,2,    25.00, -999.00,9, -999.00,9, -999.00,    39.2,2, -999.00,9,     -999.0,1,  -999.0,9, 20170829,     1639, -32.5000,-140.3703,        0.0,1,      0.061,1,      4.696,1,      0.131,1,     -999.0,9,     -999.0,9,     -999.0,9,     -999.0,9,     -999.0,9,     -999.0,9,     -999.0,9,     -999.0,9,     -999.0,9,     -999.0,9,     -999.0,9,     2.8840,2,     -999.0,     -999.0,9,     -999.0
320620170820,        P06,     154,          1,         17,         17,2,20170829,       1522,   -32.4999,  -140.3707,       4785,  1346.2,   3.1233,  34.4515,2,  34.4477,2, 173.8382,2, 174.0523,2,    61.0,2,   34.26,2,    0.00,2,    2.36,2,   0.225,2,   0.135,2,   0.0720,2,  2239.8,2,  2327.2,2,   7.5721,2,    25.00, -999.00,9, -999.00,9, -999.00,  -999.0,9, -999.00,9,     -999.0,9,  -999.0,9, 20170829,     1642, -32.5000,-140.3701,        0.0,1,      0.060,1,      4.696,1,      0.130,1,     -999.0,9,     -999.0,9,     -999.0,9,     -999.0,9,     -999.0,9,     -999.0,9,     -999.0,9,     -999.0,9,     -999.0,9,     -999.0,9,     -999.0,9,     3.1523,2,     -999.0,     -999.0,9,     -999.0
320620170820,        P06,     154,          1,         18,         18,2,20170829,       1522,   -32.4999,  -140.3707,       4785,  1247.2,   3.4794,  34.4035,2,  34.4018,2,   180.01,2, 180.7159,2,    51.3,2,   33.63,2,    0.00,2,    2.32,2,   0.371,2,   0.213,2,   0.0880,2,  2225.7,2,  2315.3,2,   7.5819,2,    25.00, -999.00,9, -999.00,9, -999.00,    41.2,2, -999.00,9,     -999.0,1,  -999.0,9, 20170829,     1645, -32.5000,-140.3701,        0.0,1,      0.061,1,      4.696,1,      0.131,1,     -999.0,9,     -999.0,9,     -999.0,9,     -999.0,9,     -999.0,9,     -999.0,9,     -999.0,9,     -999.0,9,     -999.0,9,     -999.0,9,     -999.0,9,     3.5114,2,     -999.0,     -999.0,9,     -999.0
320620170820,        P06,     154,          1,         19,         19,2,20170829,       1522,   -32.4999,  -140.3707,       4785,  1148.8,   3.9279,  34.3566,2,  34.3499,2, 193.2228,2, 191.7219,2,    39.1,2,   32.27,2,    0.00,2,    2.21,2,   0.690,2,   0.396,2,   0.1470,2,  2209.3,2,  2304.1,2,   7.6009,2,    25.00, -999.00,9, -999.00,9, -999.00,  -999.0,9, -999.00,9,     -999.0,9,  -999.0,9, 20170829,     1648, -32.4999,-140.3698,        0.0,1,      0.060,1,      4.696,1,      0.129,1,     -999.0,9,     -999.0,9,     -999.0,9,     -999.0,9,     -999.0,9,     -999.0,9,     -999.0,9,     -999.0,9,     -999.0,9,     -999.0,9,     -999.0,9,     4.0119,2,     -999.0,     -999.0,9,     -999.0
320620170820,        P06,     154,          1,         20,         20,2,20170829,       1522,   -32.4999,  -140.3707,       4785,  1045.5,   4.4766,  34.3240,2,  34.3186,2,  204.346,2, 202.5281,2,    28.3,2,   30.55,2,    0.00,2,    2.08,2,   1.118,2,   0.584,2,   0.2870,2,  2190.9,2,  2295.6,2,   7.6250,2,    25.00, -999.00,9, -999.00,9, -999.00,    44.9,3, -999.00,9,     -999.0,1,  -999.0,9, 20170829,     1651, -32.5000,-140.3695,        0.0,1,      0.061,1,      4.696,1,      0.131,1,     -999.0,9,     -999.0,9,     -999.0,9,     -999.0,9,     -999.0,9,     -999.0,9,     -999.0,9,     -999.0,9,     -999.0,9,     -999.0,9,     -999.0,9,     4.6271,2,     -999.0,     -999.0,9,     -999.0
320620170820,        P06,     154,          1,         21,         21,2,20170829,       1522,   -32.4999,  -140.3707,       4785,   943.2,   5.1134,  34.3045,2,  34.3025,2, 215.0658,2,  214.553,2,    20.4,2,   28.68,2,    0.00,2,    1.93,2,   1.594,2,   0.818,2,   0.2410,2,  2175.2,2,  2286.9,2,   7.6512,2,    25.00, -999.00,9, -999.00,9, -999.00,  -999.0,9, -999.00,9,     -999.0,9,  -999.0,9, 20170829,     1654, -32.5000,-140.3695,        0.0,1,      0.059,1,      4.696,1,      0.132,1,     -999.0,9,     -999.0,9,     -999.0,9,     -999.0,9,     -999.0,9,     -999.0,9,     -999.0,9,     -999.0,9,     -999.0,9,     -999.0,9,     -999.0,9,     5.1626,2,     -999.0,     -999.0,9,     -999.0
320620170820,        P06,     154,          1,         22,         22,2,20170829,       1522,   -32.4999,  -140.3707,       4785,   840.9,   5.5866,  34.3005,2,  34.3007,2, 228.0116,2, 227.7471,2,    13.8,2,   26.37,2,    0.00,2,    1.77,2,   2.255,2,   1.174,2,   0.4570,2,  2161.2,2,  2279.8,2,   7.6759,2,    25.00, -999.00,9, -999.00,9, -999.00,    41.6,2, -999.00,9,     -999.0,1,  -999.0,9, 20170829,     1656, -32.5000,-140.3695,        0.0,1,      0.057,1,      4.696,1,      0.130,1,     -999.0,9,     -999.0,9,     -999.0,9,     -999.0,9,     -999.0,9,     -999.0,9,     -999.0,9,     -999.0,9,     -999.0,9,     -999.0,9,     -999.0,9,     5.7047,2,     -999.0,     -999.0,9,     -999.0
320620170820,        P06,     154,          1,         23,         23,2,20170829,       1522,   -32.4999,  -140.3707,       4785,   737.9,   6.1815,  34.3166,2,  34.3172,3, 235.8365,2, 236.6927,2,    10.0,2,   24.46,2,    0.00,2,    1.64,2,   2.871,2,   1.505,2,   0.6490,2,  2151.5,2,  2279.1,2,   7.6945,2,    25.00, -999.00,9, -999.00,9, -999.00,    44.9,2, -999.00,9,     -999.0,1,  -999.0,9, 20170829,     1659, -32.5000,-140.3696,        0.0,1,      0.058,1,      4.695,1,      0.132,1,     -999.0,9,     -999.0,9,     -999.0,9,     -999.0,9,     -999.0,9,     -999.0,9,     -999.0,9,     -999.0,9,     -999.0,9,     -999.0,9,     -999.0,9,     6.2102,2,     -999.0,     -999.0,9,     -999.0
320620170820,        P06,     154,          1,         24,         24,2,20170829,       1522,   -32.4999,  -140.3707,       4785,   638.8,   6.6503,  34.3427,2,  34.3478,2, 239.2899,2, 239.9601,2,     7.7,2,   22.89,2,    0.00,2,    1.52,2,   3.317,2,   1.755,2,   0.8310,2,  2147.3,6,  2279.8,2,   7.7058,2,    25.00, -999.00,9, -999.00,9, -999.00,  -999.0,5, -999.00,9,     -999.0,1,  -999.0,9, 20170829,     1702, -32.5000,-140.3697,        0.0,1,      0.059,1,      4.695,1,      0.132,1,     -999.0,9,     -999.0,9,     -999.0,9,     -999.0,9,     -999.0,9,     -999.0,9,     -999.0,9,     -999.0,9,     -999.0,9,     -999.0,9,     -999.0,9,     6.6840,2,     -999.0,     -999.0,9,     -999.0
320620170820,        P06,     154,          1,         25,         25,2,20170829,       1522,   -32.4999,  -140.3707,       4785,   537.9,   7.1864,  34.3787,2,  34.3947,2, 238.9526,2, 239.8861,2,     5.9,2,   21.05,2,    0.00,2,    1.41,2,   3.438,2,   1.866,2,   1.1060,2,  2143.7,2,  2276.3,2,   7.7168,2,    25.00, -999.00,9, -999.00,9, -999.00,    45.7,2, -999.00,9,     -999.0,1,  -999.0,9, 20170829,     1704, -32.4999,-140.3700,        0.0,1,      0.058,1,      4.694,1,      0.133,1,     -999.0,9,     -999.0,9,     -999.0,9,     -999.0,9,     -999.0,9,     -999.0,9,     -999.0,9,     -999.0,9,     -999.0,9,     -999.0,9,     -999.0,9,     7.3470,2,     -999.0,     -999.0,9,     -999.0
320620170820,        P06,     154,          1,         26,         26,2,20170829,       1522,   -32.4999,  -140.3707,       4785,   437.5,   8.1697,  34.4332,2,  34.4498,2, 222.8986,2, 230.9771,2,     4.5,2,   18.87,2,    0.00,2,    1.28,2,   3.370,2,   1.835,2,   1.2120,2,  2137.8,2,  2278.7,2,   7.7276,2,    25.00, -999.00,9, -999.00,9, -999.00,    45.6,2,   20.50,2,     -999.0,1,  -999.0,9, 20170829,     1707, -32.4999,-140.3702,        0.0,1,      0.059,1,      4.692,1,      0.136,1,     -999.0,9,     -999.0,9,     -999.0,9,     -999.0,9,     -999.0,9,     -999.0,9,     -999.0,9,     -999.0,9,     -999.0,9,     -999.0,9,     -999.0,9,     8.3395,2,     -999.0,     -999.0,9,     -999.0