BOTTLE,20240211CCHSIOCBG
EXPOCODE,SECT_ID,STNNBR,CASTNO,SAMPNO,BTLNBR,BTLNBR_FLAG_W,DATE,TIME,LATITUDE,LONGITUDE,DEPTH,CTDPRS,CTDTMP,CTDSAL,CTDSAL_FLAG_W,SALNTY,SALNTY_FLAG_W,CTDOXY,CTDOXY_FLAG_W,OXYGEN,OXYGEN_FLAG_W,SILCAT,SILCAT_FLAG_W,NITRAT,NITRAT_FLAG_W,NITRIT,NITRIT_FLAG_W,PHSPHT,PHSPHT_FLAG_W,CFC-11,CFC-11_FLAG_W,CFC-12,CFC-12_FLAG_W,SF6,SF6_FLAG_W,TCARBN,TCARBN_FLAG_W,ALKALI,ALKALI_FLAG_W,PH_TOT,PH_TOT_FLAG_W,PH_TMP,DELC13,DELC13_FLAG_W,DELC14,DELC14_FLAG_W,C14ERR,DOC,DOC_FLAG_W,TDN,TDN_FLAG_W,TON,TON_FLAG_W,D15N_NO3,D15N_NO3_FLAG_W,BTL_DATE,BTL_TIME,BTL_LAT,BTL_LON,CTDRINKO,CTDRINKO_FLAG_W,CTDFLUOR,CTDFLUOR_FLAG_W,CTDXMISS,CTDXMISS_FLAG_W,CTDBACKSCATTER,CTDBACKSCATTER_FLAG_W,D18O_NO3,D18O_NO3_FLAG_W,DOP,DOP_FLAG_W,CELLCOUNT,CELLCOUNT_FLAG_W,TDP,TDP_FLAG_W,POP,POP_FLAG_W,DATP,DATP_FLAG_W,PATP,PATP_FLAG_W,HPLC,HPLC_FLAG_W,POC,POC_FLAG_W,BEAMAP,BEAMAP_FLAG_W,DOC_NASA,DOC_NASA_FLAG_W,REFTMP,REFTMP_FLAG_W,DOC_NASA_ERROR,TDN_NASA,TDN_NASA_FLAG_W,TDN_NASA_ERROR
,,,,,,,,,,,METERS,DBAR,ITS-90,PSS-78,,PSS-78,,UMOL/KG,,UMOL/KG,,UMOL/KG,,UMOL/KG,,UMOL/KG,,UMOL/KG,,PMOL/KG,,PMOL/KG,,FMOL/KG,,UMOL/KG,,UMOL/KG,,,,DEG C,/MILLE,,/MILLE,,/MILLE,UMOL/KG,,UMOL/KG,,UMOL/KG,,/MILLE,,,,,,VOLTS,,VOLTS,,VOLTS,,VOLTS,,/MILLE,,UMOL/KG,,/LITER,,UMOL/KG,,UMOL/L,,PMOL/L,,PMOL/L,,,,UG/L,,/METER,,UMOL/L,,ITS-90,,UMOL/L,UMOL/L,,UMOL/L
320620170820,        P06,     235,          1,         27,         27,2,20170926,       0432,   -32.4999,   -73.9654,       4085,   216.4,  10.1468,  34.5850,2,  34.5812,2,  24.7671,2,  20.4985,2,    23.4,2,   28.80,2,    0.00,2,    2.73,2,   1.361,2,   0.864,2,   0.6530,4,  2276.6,2,  2285.9,2,   7.3488,2,    25.00, -999.00,9, -999.00,9, -999.00,  -999.0,9, -999.00,9,     -999.0,9,  -999.0,1, 20170926,      624, -32.4998, -73.9651,        0.0,1,      0.066,1,      4.645,1,      0.186,1,     -999.0,1,     -999.0,1,     -999.0,9,     -999.0,9,     -999.0,9,     -999.0,9,     -999.0,9,     -999.0,9,     -999.0,9,     -999.0,9,     -999.0,9,    10.1833,2,     -999.0,     -999.0,9,     -999.0
320620170820,        P06,     235,          1,         28,         28,2,20170926,       0432,   -32.4999,   -73.9654,       4085,   166.4,  10.8769,  34.5482,2,  34.4691,3,  50.2438,2,  54.8786,2,    18.1,2,   25.74,2,    0.03,2,    2.52,2,   1.988,2,   1.237,2,   0.7940,4,  2252.0,2,  2277.4,2,   7.4021,2,    25.00, -999.00,9, -999.00,9, -999.00,  -999.0,9, -999.00,9,     -999.0,9,  -999.0,1, 20170926,      626, -32.4998, -73.9651,        0.0,1,      0.066,1,      4.644,1,      0.178,1,     -999.0,1,     -999.0,1,     -999.0,9,     -999.0,9,     -999.0,9,     -999.0,9,     -999.0,9,     -999.0,9,     -999.0,9,     -999.0,9,     -999.0,9,    10.5440,2,     -999.0,     -999.0,9,     -999.0
320620170820,        P06,     235,          1,         29,         29,2,20170926,       0432,   -32.4999,   -73.9654,       4085,   136.7,  11.0579,  34.4338,2,  34.3635,2,  94.5544,2,  86.3287,2,    13.1,2,   24.97,2,    0.02,2,    2.29,2,   2.471,2,   1.481,2,   1.0630,4,  2225.4,2,  2271.6,6,   7.4583,2,    25.00, -999.00,9, -999.00,9, -999.00,  -999.0,9, -999.00,9,     -999.0,9,  -999.0,1, 20170926,      628, -32.4998, -73.9654,        0.0,1,      0.065,1,      4.640,1,      0.206,1,     -999.0,1,     -999.0,1,     -999.0,9,     -999.0,9,     -999.0,9,     -999.0,9,     -999.0,9,     -999.0,9,     -999.0,9,     -999.0,9,     -999.0,9,    11.0086,2,     -999.0,     -999.0,9,     -999.0
320620170820,        P06,     235,          1,         30,         30,2,20170926,       0432,   -32.4999,   -73.9654,       4085,   104.7,  11.4258,  34.1502,2,  34.1507,2, 158.9093,2, 164.2118,2,     5.4,2,   20.83,2,    0.04,2,    1.69,2,   2.945,2,   1.678,2,   1.2530,4,  2159.3,2,  2261.2,2,   7.6244,6,    25.00, -999.00,9, -999.00,9, -999.00,  -999.0,9, -999.00,9,     -999.0,9,  -999.0,1, 20170926,      631, -32.4998, -73.9653,        0.0,1,      0.072,1,      4.640,1,      0.175,1,     -999.0,1,     -999.0,1,     -999.0,9,     -999.0,9,     -999.0,9,     -999.0,9,     -999.0,9,     -999.0,9,     -999.0,9,     -999.0,9,     -999.0,9,    11.3766,2,     -999.0,     -999.0,9,     -999.0
320620170820,        P06,     235,          1,         32,         32,2,20170926,       0432,   -32.4999,   -73.9654,       4085,    69.8,  13.2819,  34.1551,2,-999.0000,9, 247.6744,2,-999.0000,9,  -999.0,9, -999.00,9, -999.00,9, -999.00,9,-999.000,9,-999.000,9,-999.0000,9,  -999.0,9,  -999.0,9,-999.0000,9,  -999.00, -999.00,9, -999.00,9, -999.00,  -999.0,9, -999.00,9,     -999.0,9,  -999.0,9, 20170926,      633, -32.4998, -73.9650,        0.0,1,      0.284,1,      4.533,1,      0.235,1,     -999.0,9,     -999.0,9,     -999.0,9,     -999.0,9,     -999.0,9,     -999.0,9,     -999.0,9,     -999.0,1,     -999.0,1,     -999.0,9,     -999.0,9,     -999.0,5,     -999.0,     -999.0,9,     -999.0
320620170820,        P06,     235,          1,         31,         31,2,20170926,       0432,   -32.4999,   -73.9654,       4085,    69.2,  13.2819,  34.1551,2,  34.1795,2, 258.7422,2, 257.9796,2,     1.0,2,    5.59,2,    0.21,2,    0.74,2,   2.799,2,   1.589,2,   1.6680,4,  2070.6,2,  2273.6,2,   7.8683,2,    25.00, -999.00,9, -999.00,9, -999.00,  -999.0,9, -999.00,9,     -999.0,9,  -999.0,1, 20170926,      633, -32.4998, -73.9650,        0.0,1,      0.284,1,      4.533,1,      0.235,1,     -999.0,1,     -999.0,1,     -999.0,9,     -999.0,9,     -999.0,9,     -999.0,9,     -999.0,9,     -999.0,9,     -999.0,9,     -999.0,9,     -999.0,9,    13.3410,2,     -999.0,     -999.0,9,     -999.0
320620170820,        P06,     235,          1,         33,         33,2,20170926,       0432,   -32.4999,   -73.9654,       4085,    69.0,  13.2819,  34.1551,2,-999.0000,9, 247.8718,2,-999.0000,9,  -999.0,9, -999.00,9, -999.00,9, -999.00,9,-999.000,9,-999.000,9,-999.0000,9,  -999.0,9,  -999.0,9,-999.0000,9,  -999.00, -999.00,9, -999.00,9, -999.00,  -999.0,9, -999.00,9,     -999.0,9,  -999.0,9, 20170926,      634, -32.4997, -73.9650,        0.0,1,      0.284,1,      4.533,1,      0.235,1,     -999.0,9,     -999.0,9,     -999.0,9,     -999.0,9,     -999.0,9,     -999.0,9,     -999.0,9,     -999.0,1,     -999.0,1,     -999.0,9,     -999.0,9,    13.3651,2,     -999.0,     -999.0,9,     -999.0
320620170820,        P06,     235,          1,         35,         35,2,20170926,       0432,   -32.4999,   -73.9654,       4085,    24.9,  13.4921,  34.1931,2,-999.0000,9, 251.2181,2,-999.0000,9,  -999.0,9, -999.00,9, -999.00,9, -999.00,9,-999.000,9,-999.000,9,-999.0000,9,  -999.0,9,  -999.0,9,-999.0000,9,  -999.00, -999.00,9, -999.00,9, -999.00,  -999.0,9, -999.00,9,     -999.0,9,  -999.0,9, 20170926,      637, -32.4998, -73.9653,        0.0,1,      0.279,1,      4.505,1,      0.248,1,     -999.0,9,     -999.0,9,     -999.0,9,     -999.0,9,     -999.0,9,     -999.0,9,     -999.0,9,     -999.0,1,     -999.0,1,     -999.0,9,     -999.0,9,     -999.0,5,     -999.0,     -999.0,9,     -999.0
320620170820,        P06,     235,          1,         34,         34,2,20170926,       0432,   -32.4999,   -73.9654,       4085,    23.7,  13.4913,  34.1931,2,  34.2022,2, 259.8649,2, 260.4413,2,     0.9,2,    5.18,2,    0.19,2,    0.70,2,   2.914,2,   1.582,2,   1.4580,4,  2067.8,2,  2274.5,2,   7.8758,2,    25.00, -999.00,9, -999.00,9, -999.00,  -999.0,9, -999.00,9,     -999.0,9,  -999.0,1, 20170926,      637, -32.4998, -73.9653,        0.0,1,      0.275,1,      4.505,1,      0.241,1,     -999.0,1,     -999.0,1,     -999.0,9,     -999.0,9,     -999.0,9,     -999.0,9,     -999.0,9,     -999.0,9,     -999.0,9,     -999.0,9,     -999.0,9,    13.5101,2,     -999.0,     -999.0,9,     -999.0
320620170820,        P06,     235,          1,         36,         36,2,20170926,       0432,   -32.4999,   -73.9654,       4085,     5.6,  13.4917,  34.1929,2,  34.2011,2, 259.9869,2, 259.7741,2,     0.9,2,    5.16,2,    0.20,2,    0.71,2,   2.912,2,   1.606,2,   1.3350,4,  2069.1,6,  2275.3,2,   7.8749,2,    25.00, -999.00,9, -999.00,9, -999.00,  -999.0,9, -999.00,9,     -999.0,9,  -999.0,1, 20170926,      639, -32.4999, -73.9654,        0.0,1,      0.279,1,      4.505,1,      0.248,1,     -999.0,1,     -999.0,1,     -999.0,9,     -999.0,9,     -999.0,9,     -999.0,9,     -999.0,9,     -999.0,9,     -999.0,9,     -999.0,9,     -999.0,9,    13.5054,2,     -999.0,     -999.0,9,     -999.0