BOTTLE,20240211CCHSIOCBG
EXPOCODE,SECT_ID,STNNBR,CASTNO,SAMPNO,BTLNBR,BTLNBR_FLAG_W,DATE,TIME,LATITUDE,LONGITUDE,DEPTH,CTDPRS,CTDTMP,CTDSAL,CTDSAL_FLAG_W,SALNTY,SALNTY_FLAG_W,CTDOXY,CTDOXY_FLAG_W,OXYGEN,OXYGEN_FLAG_W,SILCAT,SILCAT_FLAG_W,NITRAT,NITRAT_FLAG_W,NITRIT,NITRIT_FLAG_W,PHSPHT,PHSPHT_FLAG_W,CFC-11,CFC-11_FLAG_W,CFC-12,CFC-12_FLAG_W,SF6,SF6_FLAG_W,TCARBN,TCARBN_FLAG_W,ALKALI,ALKALI_FLAG_W,PH_TOT,PH_TOT_FLAG_W,PH_TMP,DELC13,DELC13_FLAG_W,DELC14,DELC14_FLAG_W,C14ERR,DOC,DOC_FLAG_W,TDN,TDN_FLAG_W,TON,TON_FLAG_W,D15N_NO3,D15N_NO3_FLAG_W,BTL_DATE,BTL_TIME,BTL_LAT,BTL_LON,CTDRINKO,CTDRINKO_FLAG_W,CTDFLUOR,CTDFLUOR_FLAG_W,CTDXMISS,CTDXMISS_FLAG_W,CTDBACKSCATTER,CTDBACKSCATTER_FLAG_W,D18O_NO3,D18O_NO3_FLAG_W,DOP,DOP_FLAG_W,CELLCOUNT,CELLCOUNT_FLAG_W,TDP,TDP_FLAG_W,POP,POP_FLAG_W,DATP,DATP_FLAG_W,PATP,PATP_FLAG_W,HPLC,HPLC_FLAG_W,POC,POC_FLAG_W,BEAMAP,BEAMAP_FLAG_W,DOC_NASA,DOC_NASA_FLAG_W,REFTMP,REFTMP_FLAG_W,DOC_NASA_ERROR,TDN_NASA,TDN_NASA_FLAG_W,TDN_NASA_ERROR
,,,,,,,,,,,METERS,DBAR,ITS-90,PSS-78,,PSS-78,,UMOL/KG,,UMOL/KG,,UMOL/KG,,UMOL/KG,,UMOL/KG,,UMOL/KG,,PMOL/KG,,PMOL/KG,,FMOL/KG,,UMOL/KG,,UMOL/KG,,,,DEG C,/MILLE,,/MILLE,,/MILLE,UMOL/KG,,UMOL/KG,,UMOL/KG,,/MILLE,,,,,,VOLTS,,VOLTS,,VOLTS,,VOLTS,,/MILLE,,UMOL/KG,,/LITER,,UMOL/KG,,UMOL/L,,PMOL/L,,PMOL/L,,,,UG/L,,/METER,,UMOL/L,,ITS-90,,UMOL/L,UMOL/L,,UMOL/L
320620170820,        P06,     247,          1,         27,         27,2,20170929,       0028,   -32.4999,   -71.8674,       2150,   133.8,  10.8020,  34.6026,2,  34.5993,2,  20.7222,2,  20.3732,2,    23.0,2,   26.27,2,    0.03,2,    2.72,2,   1.462,2,   0.900,2,   0.4280,2,  -999.0,9,  -999.0,9,-999.0000,9,  -999.00, -999.00,9, -999.00,9, -999.00,  -999.0,9, -999.00,9,     -999.0,9,  -999.0,9, 20170929,      130, -32.4999, -71.8676,        0.0,1,      0.068,1,      4.606,1,      0.245,1,     -999.0,9,     -999.0,9,     -999.0,9,     -999.0,9,     -999.0,9,     -999.0,9,     -999.0,9,     -999.0,9,     -999.0,9,     -999.0,9,     -999.0,9,    10.6413,2,     -999.0,     -999.0,9,     -999.0
320620170820,        P06,     247,          1,         28,         28,2,20170929,       0028,   -32.4999,   -71.8674,       2150,   110.2,  11.1417,  34.5909,2,  34.5814,2,  24.3533,2,  24.8933,2,    21.9,2,   25.27,2,    0.03,2,    2.71,2,   1.613,2,   0.963,2,   0.4860,2,  -999.0,9,  -999.0,9,-999.0000,9,  -999.00, -999.00,9, -999.00,9, -999.00,  -999.0,9, -999.00,9,     -999.0,9,  -999.0,9, 20170929,      132, -32.4999, -71.8675,        0.0,1,      0.071,1,      4.535,1,      0.365,1,     -999.0,9,     -999.0,9,     -999.0,9,     -999.0,9,     -999.0,9,     -999.0,9,     -999.0,9,     -999.0,9,     -999.0,9,     -999.0,9,     -999.0,9,    10.9010,2,     -999.0,     -999.0,9,     -999.0
320620170820,        P06,     247,          1,         29,         29,2,20170929,       0028,   -32.4999,   -71.8674,       2150,    84.9,  11.3031,  34.5686,2,  34.5686,2,  27.2706,2,  31.0341,2,    21.0,2,   24.42,2,    0.04,2,    2.65,2,   1.764,2,   1.054,2,   0.7140,2,  2267.7,2,  2285.9,2,   7.3710,6,    25.00, -999.00,9, -999.00,9, -999.00,  -999.0,9, -999.00,9,     -999.0,9,  -999.0,9, 20170929,      133, -32.4999, -71.8675,        0.0,1,      0.099,1,      4.547,1,      0.421,1,     -999.0,9,     -999.0,9,     -999.0,9,     -999.0,9,     -999.0,9,     -999.0,9,     -999.0,9,     -999.0,9,     -999.0,9,     -999.0,9,     -999.0,9,    11.1424,2,     -999.0,     -999.0,9,     -999.0
320620170820,        P06,     247,          1,         30,         30,2,20170929,       0028,   -32.4999,   -71.8674,       2150,    58.9,  11.5335,  34.4807,2,  34.5278,2,  48.0612,2,  51.6074,2,    18.8,2,   24.04,2,    0.15,2,    2.59,2,   1.939,2,   1.165,2,   0.6810,2,  -999.0,9,  -999.0,9,-999.0000,9,  -999.00, -999.00,9, -999.00,9, -999.00,  -999.0,9, -999.00,9,     -999.0,9,  -999.0,9, 20170929,      135, -32.4999, -71.8674,        0.0,1,      0.175,1,      4.550,1,      0.321,1,     -999.0,9,     -999.0,9,     -999.0,9,     -999.0,9,     -999.0,9,     -999.0,9,     -999.0,9,     -999.0,9,     -999.0,9,     -999.0,9,     -999.0,9,    11.4053,2,     -999.0,     -999.0,9,     -999.0
320620170820,        P06,     247,          1,         31,         31,2,20170929,       0028,   -32.4999,   -71.8674,       2150,    32.9,  11.6081,  34.4115,2,  34.4602,2, 129.1296,2, 136.7553,2,    15.9,2,   22.40,2,    0.21,2,    2.37,2,   2.273,2,   1.362,2,   1.0490,2,  -999.0,9,  -999.0,9,-999.0000,9,  -999.00, -999.00,9, -999.00,9, -999.00,  -999.0,9, -999.00,9,     -999.0,9,  -999.0,9, 20170929,      136, -32.4999, -71.8674,        0.0,1,      0.204,1,      4.547,1,      0.266,1,     -999.0,9,     -999.0,9,     -999.0,9,     -999.0,9,     -999.0,9,     -999.0,9,     -999.0,9,     -999.0,9,     -999.0,9,     -999.0,9,     -999.0,9,    11.6039,2,     -999.0,     -999.0,9,     -999.0
320620170820,        P06,     247,          1,         32,         32,2,20170929,       0028,   -32.4999,   -71.8674,       2150,     3.7,  12.7294,  34.1817,2,  34.3639,2,  193.346,2, 184.3309,2,    11.8,2,   18.59,2,    0.26,2,    1.99,2,   2.420,2,   1.435,2,   1.3110,2,  2188.2,2,  2277.7,2,   7.5956,2,    25.00, -999.00,9, -999.00,9, -999.00,  -999.0,9, -999.00,9,     -999.0,9,  -999.0,9, 20170929,      138, -32.4999, -71.8674,        0.0,1,      0.244,1,      4.506,1,      0.273,1,     -999.0,9,     -999.0,9,     -999.0,9,     -999.0,9,     -999.0,9,     -999.0,9,     -999.0,9,     -999.0,9,     -999.0,9,     -999.0,9,     -999.0,9,    12.0160,2,     -999.0,     -999.0,9,     -999.0