BOTTLE,20240211CCHSIOCBG
EXPOCODE,SECT_ID,STNNBR,CASTNO,SAMPNO,BTLNBR,BTLNBR_FLAG_W,DATE,TIME,LATITUDE,LONGITUDE,DEPTH,CTDPRS,CTDTMP,CTDSAL,CTDSAL_FLAG_W,SALNTY,SALNTY_FLAG_W,CTDOXY,CTDOXY_FLAG_W,OXYGEN,OXYGEN_FLAG_W,SILCAT,SILCAT_FLAG_W,NITRAT,NITRAT_FLAG_W,NITRIT,NITRIT_FLAG_W,PHSPHT,PHSPHT_FLAG_W,CFC-11,CFC-11_FLAG_W,CFC-12,CFC-12_FLAG_W,SF6,SF6_FLAG_W,TCARBN,TCARBN_FLAG_W,ALKALI,ALKALI_FLAG_W,PH_TOT,PH_TOT_FLAG_W,PH_TMP,DELC13,DELC13_FLAG_W,DELC14,DELC14_FLAG_W,C14ERR,DOC,DOC_FLAG_W,TDN,TDN_FLAG_W,TON,TON_FLAG_W,D15N_NO3,D15N_NO3_FLAG_W,BTL_DATE,BTL_TIME,BTL_LAT,BTL_LON,CTDRINKO,CTDRINKO_FLAG_W,CTDFLUOR,CTDFLUOR_FLAG_W,CTDXMISS,CTDXMISS_FLAG_W,CTDBACKSCATTER,CTDBACKSCATTER_FLAG_W,D18O_NO3,D18O_NO3_FLAG_W,DOP,DOP_FLAG_W,CELLCOUNT,CELLCOUNT_FLAG_W,TDP,TDP_FLAG_W,POP,POP_FLAG_W,DATP,DATP_FLAG_W,PATP,PATP_FLAG_W,HPLC,HPLC_FLAG_W,POC,POC_FLAG_W,BEAMAP,BEAMAP_FLAG_W,DOC_NASA,DOC_NASA_FLAG_W,REFTMP,REFTMP_FLAG_W,DOC_NASA_ERROR,TDN_NASA,TDN_NASA_FLAG_W,TDN_NASA_ERROR
,,,,,,,,,,,METERS,DBAR,ITS-90,PSS-78,,PSS-78,,UMOL/KG,,UMOL/KG,,UMOL/KG,,UMOL/KG,,UMOL/KG,,UMOL/KG,,PMOL/KG,,PMOL/KG,,FMOL/KG,,UMOL/KG,,UMOL/KG,,,,DEG C,/MILLE,,/MILLE,,/MILLE,UMOL/KG,,UMOL/KG,,UMOL/KG,,/MILLE,,,,,,VOLTS,,VOLTS,,VOLTS,,VOLTS,,/MILLE,,UMOL/KG,,/LITER,,UMOL/KG,,UMOL/L,,PMOL/L,,PMOL/L,,,,UG/L,,/METER,,UMOL/L,,ITS-90,,UMOL/L,UMOL/L,,UMOL/L
320620170820,        P06,     194,          1,         27,         27,2,20170912,       1626,   -32.5000,  -108.2558,       3154,   142.5,  17.4706,  34.9791,2,-999.0000,9, 229.6422,2,-999.0000,9,  -999.0,9, -999.00,9, -999.00,9, -999.00,9,-999.000,9,-999.000,9,-999.0000,9,  -999.0,9,  -999.0,9,-999.0000,9,  -999.00, -999.00,9, -999.00,9, -999.00,  -999.0,9, -999.00,9,     -999.0,9,  -999.0,9, 20170912,     1742, -32.4999,-108.2560,        0.0,1,      0.159,1,      4.644,1,      0.170,1,     -999.0,9,     -999.0,9,     -999.0,9,     -999.0,9,     -999.0,9,     -999.0,9,     -999.0,9,     -999.0,1,     -999.0,1,     -999.0,1,68.75396456,6,    17.4747,2,1.855374177,43.65008605,6,0.740201382
320620170820,        P06,     194,          1,         29,         29,2,20170912,       1626,   -32.5000,  -108.2558,       3154,   142.4,  17.4706,  34.9791,2,  34.9831,2, 235.8543,2, 237.1802,2,     0.0,2,    0.01,2,    0.00,2,    0.05,2,   2.198,2,   1.314,2,   1.6860,2,  2050.2,2,  2301.9,2,   7.9649,2,    25.00, -999.00,9, -999.00,9, -999.00,    64.1,2,    4.30,2,     -999.0,1,  -999.0,9, 20170912,     1743, -32.5000,-108.2559,        0.0,1,      0.159,1,      4.644,1,      0.170,1,     -999.0,9,     -999.0,9,     -999.0,9,     -999.0,9,     -999.0,9,     -999.0,9,     -999.0,9,     -999.0,9,     -999.0,9,     -999.0,9,     -999.0,9,    17.4757,2,     -999.0,     -999.0,9,     -999.0
320620170820,        P06,     194,          1,         28,         28,2,20170912,       1626,   -32.5000,  -108.2558,       3154,   142.3,  17.4706,  34.9791,2,-999.0000,9, 229.9833,2,-999.0000,9,  -999.0,9, -999.00,9, -999.00,9, -999.00,9,-999.000,9,-999.000,9,-999.0000,9,  -999.0,9,  -999.0,9,-999.0000,9,  -999.00, -999.00,9, -999.00,9, -999.00,  -999.0,9, -999.00,9,     -999.0,9,  -999.0,9, 20170912,     1742, -32.4999,-108.2559,        0.0,1,      0.159,1,      4.644,1,      0.170,1,     -999.0,9,     -999.0,9,     -999.0,9,     -999.0,9,     -999.0,9,     -999.0,9,     -999.0,9,     -999.0,1,     -999.0,1,     -999.0,1,68.75396456,6,     -999.0,5,1.855374177,43.65008605,6,0.740201382
320620170820,        P06,     194,          1,         30,         30,2,20170912,       1626,   -32.5000,  -108.2558,       3154,   115.3,  17.4590,  34.9615,2,  34.9721,2,  236.762,2, 237.9048,2,     0.0,2,    0.00,2,    0.00,2,    0.05,2,   2.190,2,   1.317,2,   1.6840,2,  2049.0,2,  2301.3,2,   7.9644,2,    25.00, -999.00,9, -999.00,9, -999.00,    66.7,2,    3.70,2,     -999.0,1,  -999.0,9, 20170912,     1744, -32.5000,-108.2559,        0.0,1,      0.125,1,      4.639,1,      0.174,1,     -999.0,9,     -999.0,9,     -999.0,9,     -999.0,9,     -999.0,9,     -999.0,9,     -999.0,9,     -999.0,9,     -999.0,9,     -999.0,9,     -999.0,9,    17.4726,2,     -999.0,     -999.0,9,     -999.0
320620170820,        P06,     194,          1,         31,         31,2,20170912,       1626,   -32.5000,  -108.2558,       3154,    90.5,  17.3951,  34.9140,2,  34.9136,2, 238.7235,2, 239.4156,2,     0.0,2,    0.00,2,    0.00,2,    0.05,2,   2.227,2,   1.329,2,   1.7990,2,  2045.0,2,  2298.4,2,   7.9633,2,    25.00, -999.00,9, -999.00,9, -999.00,    61.4,3,    3.90,2,     -999.0,1,  -999.0,9, 20170912,     1746, -32.5000,-108.2559,        0.0,1,      0.102,1,      4.639,1,      0.170,1,     -999.0,9,     -999.0,9,     -999.0,9,     -999.0,9,     -999.0,9,     -999.0,9,     -999.0,9,     -999.0,9,     -999.0,9,     -999.0,9,     -999.0,9,    17.3787,2,     -999.0,     -999.0,9,     -999.0
320620170820,        P06,     194,          1,         32,         32,2,20170912,       1626,   -32.5000,  -108.2558,       3154,    64.7,  17.7951,  34.9642,2,-999.0000,9,  232.088,2,-999.0000,9,  -999.0,9, -999.00,9, -999.00,9, -999.00,9,-999.000,9,-999.000,9,-999.0000,9,  -999.0,9,  -999.0,9,-999.0000,9,  -999.00, -999.00,9, -999.00,9, -999.00,  -999.0,9, -999.00,9,     -999.0,9,  -999.0,9, 20170912,     1747, -32.5000,-108.2558,        0.0,1,      0.077,1,      4.646,1,      0.159,1,     -999.0,9,     -999.0,9,     -999.0,9,     -999.0,9,     -999.0,9,     -999.0,9,     -999.0,9,     -999.0,1,     -999.0,1,     -999.0,1,71.90840183,6,    17.7744,2,1.786670386,57.09196012,6,0.217194357
320620170820,        P06,     194,          1,         33,         33,2,20170912,       1626,   -32.5000,  -108.2558,       3154,    64.7,  17.7951,  34.9642,2,  34.9585,2, 237.6541,2, 239.0709,2,     0.0,2,    0.00,2,    0.00,2,    0.05,2,   2.220,2,   1.290,2,   1.6570,2,  2045.2,2,  2300.1,2,   7.9666,2,    25.00, -999.00,9, -999.00,9, -999.00,    67.7,3,    4.10,2,     -999.0,1,  -999.0,9, 20170912,     1748, -32.5001,-108.2558,        0.0,1,      0.077,1,      4.646,1,      0.159,1,     -999.0,9,     -999.0,9,     -999.0,9,     -999.0,9,     -999.0,9,     -999.0,9,     -999.0,9,     -999.0,9,     -999.0,9,     -999.0,9,     -999.0,9,     -999.0,5,     -999.0,     -999.0,9,     -999.0
320620170820,        P06,     194,          1,         34,         34,2,20170912,       1626,   -32.5000,  -108.2558,       3154,    40.4,  17.7737,  34.9540,2,  34.9563,2, 237.8304,2, 239.9054,2,     0.0,2,    0.00,2,    0.00,2,    0.05,2,   2.219,2,   1.312,2,   1.6460,2,  2045.3,2,  2301.4,2,   7.9688,2,    25.00, -999.00,9, -999.00,9, -999.00,    63.2,2,    4.10,2,     -999.0,1,  -999.0,9, 20170912,     1749, -32.5001,-108.2558,        0.0,1,      0.071,1,      4.647,1,      0.158,1,     -999.0,9,     -999.0,9,     -999.0,9,     -999.0,9,     -999.0,9,     -999.0,9,     -999.0,9,     -999.0,9,     -999.0,9,     -999.0,9,     -999.0,9,    17.7702,2,     -999.0,     -999.0,9,     -999.0
320620170820,        P06,     194,          1,         35,         35,2,20170912,       1626,   -32.5000,  -108.2558,       3154,    19.1,  17.7823,  34.9579,2,  34.9571,2, 237.2613,2,  239.418,2,     0.0,2,    0.00,2,    0.00,2,    0.07,2,   2.227,2,   1.316,2,   1.8130,2,  2046.8,2,  2299.7,2,   7.9671,2,    25.00, -999.00,9, -999.00,9, -999.00,    62.3,2,    4.70,2,     -999.0,1,  -999.0,9, 20170912,     1750, -32.5001,-108.2558,        0.0,1,      0.065,1,      4.647,1,      0.159,1,     -999.0,9,     -999.0,9,     -999.0,9,     -999.0,9,     -999.0,9,     -999.0,9,     -999.0,9,     -999.0,9,     -999.0,9,     -999.0,9,     -999.0,9,    17.7770,2,     -999.0,     -999.0,9,     -999.0
320620170820,        P06,     194,          1,         36,         36,2,20170912,       1626,   -32.5000,  -108.2558,       3154,     5.6,  17.7803,  34.9571,2,  34.9587,2, 237.8109,2, 239.1521,2,     0.0,2,    0.00,2,    0.00,2,    0.06,2,   2.200,2,   1.297,2,   1.6750,2,  2045.8,6,  2300.2,2,   7.9671,2,    25.00, -999.00,9, -999.00,9, -999.00,    61.6,2,    4.50,2,     -999.0,1,  -999.0,9, 20170912,     1752, -32.5000,-108.2558,        0.0,1,      0.064,1,      4.647,1,      0.156,1,     -999.0,9,     -999.0,9,     -999.0,9,     -999.0,9,     -999.0,9,     -999.0,9,     -999.0,9,     -999.0,9,     -999.0,9,     -999.0,9,     -999.0,9,    17.8017,2,     -999.0,     -999.0,9,     -999.0