BOTTLE,20240211CCHSIOCBG
EXPOCODE,SECT_ID,STNNBR,CASTNO,SAMPNO,BTLNBR,BTLNBR_FLAG_W,DATE,TIME,LATITUDE,LONGITUDE,DEPTH,CTDPRS,CTDTMP,CTDSAL,CTDSAL_FLAG_W,SALNTY,SALNTY_FLAG_W,CTDOXY,CTDOXY_FLAG_W,OXYGEN,OXYGEN_FLAG_W,SILCAT,SILCAT_FLAG_W,NITRAT,NITRAT_FLAG_W,NITRIT,NITRIT_FLAG_W,PHSPHT,PHSPHT_FLAG_W,CFC-11,CFC-11_FLAG_W,CFC-12,CFC-12_FLAG_W,SF6,SF6_FLAG_W,TCARBN,TCARBN_FLAG_W,ALKALI,ALKALI_FLAG_W,PH_TOT,PH_TOT_FLAG_W,PH_TMP,DELC13,DELC13_FLAG_W,DELC14,DELC14_FLAG_W,C14ERR,DOC,DOC_FLAG_W,TDN,TDN_FLAG_W,TON,TON_FLAG_W,D15N_NO3,D15N_NO3_FLAG_W,BTL_DATE,BTL_TIME,BTL_LAT,BTL_LON,CTDRINKO,CTDRINKO_FLAG_W,CTDFLUOR,CTDFLUOR_FLAG_W,CTDXMISS,CTDXMISS_FLAG_W,CTDBACKSCATTER,CTDBACKSCATTER_FLAG_W,D18O_NO3,D18O_NO3_FLAG_W,DOP,DOP_FLAG_W,CELLCOUNT,CELLCOUNT_FLAG_W,TDP,TDP_FLAG_W,POP,POP_FLAG_W,DATP,DATP_FLAG_W,PATP,PATP_FLAG_W,HPLC,HPLC_FLAG_W,POC,POC_FLAG_W,BEAMAP,BEAMAP_FLAG_W,DOC_NASA,DOC_NASA_FLAG_W,REFTMP,REFTMP_FLAG_W,DOC_NASA_ERROR,TDN_NASA,TDN_NASA_FLAG_W,TDN_NASA_ERROR
,,,,,,,,,,,METERS,DBAR,ITS-90,PSS-78,,PSS-78,,UMOL/KG,,UMOL/KG,,UMOL/KG,,UMOL/KG,,UMOL/KG,,UMOL/KG,,PMOL/KG,,PMOL/KG,,FMOL/KG,,UMOL/KG,,UMOL/KG,,,,DEG C,/MILLE,,/MILLE,,/MILLE,UMOL/KG,,UMOL/KG,,UMOL/KG,,/MILLE,,,,,,VOLTS,,VOLTS,,VOLTS,,VOLTS,,/MILLE,,UMOL/KG,,/LITER,,UMOL/KG,,UMOL/L,,PMOL/L,,PMOL/L,,,,UG/L,,/METER,,UMOL/L,,ITS-90,,UMOL/L,UMOL/L,,UMOL/L
320620170820,        P06,     240,          1,         27,         27,2,20170927,       1208,   -32.4999,   -72.6822,       6000,   402.0,   7.3988,  34.4019,2,  34.3717,2, 115.5059,2, 115.8645,2,    18.3,2,   33.46,2,    0.00,2,    2.37,2,   2.338,2,   1.295,2,   0.3990,2,  2226.7,2,  2279.0,2,   7.4750,2,    25.00, -999.00,9, -999.00,9, -999.00,    43.0,2, -999.00,9,     -999.0,1,  -999.0,9, 20170927,     1424, -32.4997, -72.6825,        0.0,1,      0.064,1,      4.658,1,      0.162,1,     -999.0,9,     -999.0,9,     -999.0,9,     -999.0,9,     -999.0,9,     -999.0,9,     -999.0,9,     -999.0,9,     -999.0,9,     -999.0,9,     -999.0,9,     7.0392,2,     -999.0,     -999.0,9,     -999.0
320620170820,        P06,     240,          1,         28,         28,2,20170927,       1208,   -32.4999,   -72.6822,       6000,   301.3,   9.1089,  34.5431,2,  34.5178,2,  28.6579,2,  31.1357,2,    23.7,2,   34.15,2,    0.02,2,    2.77,2,   1.391,2,   0.803,2,   0.1990,2,  2272.2,2,  2284.8,2,   7.3517,2,    25.00, -999.00,9, -999.00,9, -999.00,    44.4,2,   36.70,2,     -999.0,1,  -999.0,9, 20170927,     1427, -32.4998, -72.6825,        0.0,1,      0.066,1,      4.638,1,      0.210,1,     -999.0,9,     -999.0,9,     -999.0,9,     -999.0,9,     -999.0,9,     -999.0,9,     -999.0,9,     -999.0,9,     -999.0,9,     -999.0,9,     -999.0,9,     8.9003,2,     -999.0,     -999.0,9,     -999.0
320620170820,        P06,     240,          1,         29,         29,2,20170927,       1208,   -32.4999,   -72.6822,       6000,   249.6,   9.9817,  34.5900,2,  34.5704,2,  17.9937,2,  19.6499,2,    24.0,2,   31.11,2,    0.02,2,    2.76,2,   1.322,2,   0.754,2,   0.3210,2,  2275.6,2,  2286.5,2,   7.3466,2,    25.00, -999.00,9, -999.00,9, -999.00,    44.4,2,   34.20,2,     -999.0,1,  -999.0,9, 20170927,     1428, -32.4998, -72.6824,        0.0,1,      0.068,1,      4.633,1,      0.197,1,     -999.0,9,     -999.0,9,     -999.0,9,     -999.0,9,     -999.0,9,     -999.0,9,     -999.0,9,     -999.0,9,     -999.0,9,     -999.0,9,     -999.0,9,     9.6345,2,     -999.0,     -999.0,9,     -999.0
320620170820,        P06,     240,          1,         30,         30,2,20170927,       1208,   -32.4999,   -72.6822,       6000,   201.0,  10.6426,  34.6100,2,  34.6028,2,  14.5077,2,  16.9674,2,    23.6,2,   27.42,2,    0.02,2,    2.73,2,   1.396,2,   0.808,2,   0.4040,2,  2275.7,2,  2286.0,2,   7.3455,2,    25.00, -999.00,9, -999.00,9, -999.00,    43.5,2,   29.70,2,     -999.0,1,  -999.0,9, 20170927,     1430, -32.4998, -72.6824,        0.0,1,      0.071,1,      4.626,1,      0.206,1,     -999.0,9,     -999.0,9,     -999.0,9,     -999.0,9,     -999.0,9,     -999.0,9,     -999.0,9,     -999.0,9,     -999.0,9,     -999.0,9,     -999.0,9,    10.4167,2,     -999.0,     -999.0,9,     -999.0
320620170820,        P06,     240,          1,         31,         31,2,20170927,       1208,   -32.4999,   -72.6822,       6000,   150.7,  11.2540,  34.5956,2,  34.6401,2,  17.3562,2,  18.9131,2,    23.0,2,   22.99,2,    0.04,2,    2.70,2,   1.531,2,   0.905,2,   0.4150,2,  2272.0,2,  2290.5,2,   7.3637,2,    25.00, -999.00,9, -999.00,9, -999.00,    44.4,2,   25.50,2,     -999.0,1,  -999.0,9, 20170927,     1432, -32.4998, -72.6823,        0.0,1,      0.075,1,      4.598,1,      0.241,1,     -999.0,9,     -999.0,9,     -999.0,9,     -999.0,9,     -999.0,9,     -999.0,9,     -999.0,9,     -999.0,9,     -999.0,9,     -999.0,9,     -999.0,9,    11.3322,2,     -999.0,     -999.0,9,     -999.0
320620170820,        P06,     240,          1,         32,         32,2,20170927,       1208,   -32.4999,   -72.6822,       6000,    98.6,  11.6006,  34.3572,2,  34.4182,3,  111.679,3, 126.6373,2,    11.9,2,   20.61,2,    0.49,2,    2.14,2,   2.445,2,   1.423,2,   0.9410,2,  2213.7,2,  2279.3,2,   7.5148,2,    25.00, -999.00,9, -999.00,9, -999.00,    50.7,2,   23.70,2,     -999.0,1,  -999.0,9, 20170927,     1434, -32.4999, -72.6822,        0.0,1,      0.080,1,      4.632,1,      0.184,1,     -999.0,9,     -999.0,9,     -999.0,9,     -999.0,9,     -999.0,9,     -999.0,9,     -999.0,9,     -999.0,9,     -999.0,9,     -999.0,9,     -999.0,9,    11.6927,2,     -999.0,     -999.0,9,     -999.0
320620170820,        P06,     240,          1,         33,         33,2,20170927,       1208,   -32.4999,   -72.6822,       6000,    74.0,  13.1507,  34.2150,2,  34.2266,2, 250.4649,3, 235.7751,2,     2.7,2,   10.02,2,    0.21,2,    1.07,2,-999.000,9,-999.000,9,-999.0000,9,  2105.4,2,  2274.8,2,   7.7925,2,    25.00, -999.00,9, -999.00,9, -999.00,    56.9,2,   14.00,2,     -999.0,1,  -999.0,9, 20170927,     1435, -32.4999, -72.6822,        0.0,1,      0.318,1,      4.516,1,      0.245,1,     -999.0,9,     -999.0,9,     -999.0,9,     -999.0,9,     -999.0,9,     -999.0,9,     -999.0,9,     -999.0,9,     -999.0,9,     -999.0,9,     -999.0,9,    13.1869,2,     -999.0,     -999.0,9,     -999.0
320620170820,        P06,     240,          1,         34,         34,2,20170927,       1208,   -32.4999,   -72.6822,       6000,    49.5,  13.2239,  34.1973,2,  34.2034,2, 260.4158,2, 258.9725,2,     0.9,2,    7.31,2,    0.21,2,    0.88,2,   2.676,2,   1.558,2,   1.4290,2,  2081.4,2,  2273.8,2,   7.8458,2,    25.00, -999.00,9, -999.00,9, -999.00,    57.1,2,   11.50,2,     -999.0,1,  -999.0,9, 20170927,     1437, -32.4999, -72.6821,        0.0,1,      0.459,1,      4.452,1,      0.309,1,     -999.0,9,     -999.0,9,     -999.0,9,     -999.0,9,     -999.0,9,     -999.0,9,     -999.0,9,     -999.0,9,     -999.0,9,     -999.0,9,     -999.0,9,    13.2442,2,     -999.0,     -999.0,9,     -999.0
320620170820,        P06,     240,          1,         35,         35,2,20170927,       1208,   -32.4999,   -72.6822,       6000,    24.9,  13.2203,  34.1961,2,  34.2019,2, 262.6167,2, 260.4065,2,     0.9,2,    7.19,2,    0.21,2,    0.85,2,-999.000,9,-999.000,9,-999.0000,9,  2080.8,2,  2274.7,2,   7.8480,2,    25.00, -999.00,9, -999.00,9, -999.00,    56.2,2,   11.60,2,     -999.0,1,  -999.0,9, 20170927,     1438, -32.4999, -72.6822,        0.0,1,      0.456,1,      4.449,1,      0.301,1,     -999.0,9,     -999.0,9,     -999.0,9,     -999.0,9,     -999.0,9,     -999.0,9,     -999.0,9,     -999.0,9,     -999.0,9,     -999.0,9,     -999.0,9,    13.2463,2,     -999.0,     -999.0,9,     -999.0
320620170820,        P06,     240,          1,         36,         36,2,20170927,       1208,   -32.4999,   -72.6822,       6000,     4.2,  13.2187,  34.1963,2,  34.2024,2, 263.7087,2, 261.5139,2,     0.9,2,    7.13,2,    0.21,2,    0.87,2,   2.697,2,   1.576,2,   1.3840,2,  2079.8,6,  2273.3,2,   7.8502,2,    25.00, -999.00,9, -999.00,9, -999.00,    59.3,2,   11.10,2,     -999.0,1,  -999.0,9, 20170927,     1439, -32.4999, -72.6822,        0.0,1,      0.425,1,      4.451,1,      0.273,1,     -999.0,9,     -999.0,9,     -999.0,9,     -999.0,9,     -999.0,9,     -999.0,9,     -999.0,9,     -999.0,9,     -999.0,9,     -999.0,9,     -999.0,9,    13.2587,2,     -999.0,     -999.0,9,     -999.0