BOTTLE,20240211CCHSIOCBG
EXPOCODE,SECT_ID,STNNBR,CASTNO,SAMPNO,BTLNBR,BTLNBR_FLAG_W,DATE,TIME,LATITUDE,LONGITUDE,DEPTH,CTDPRS,CTDTMP,CTDSAL,CTDSAL_FLAG_W,SALNTY,SALNTY_FLAG_W,CTDOXY,CTDOXY_FLAG_W,OXYGEN,OXYGEN_FLAG_W,SILCAT,SILCAT_FLAG_W,NITRAT,NITRAT_FLAG_W,NITRIT,NITRIT_FLAG_W,PHSPHT,PHSPHT_FLAG_W,CFC-11,CFC-11_FLAG_W,CFC-12,CFC-12_FLAG_W,SF6,SF6_FLAG_W,TCARBN,TCARBN_FLAG_W,ALKALI,ALKALI_FLAG_W,PH_TOT,PH_TOT_FLAG_W,PH_TMP,DELC13,DELC13_FLAG_W,DELC14,DELC14_FLAG_W,C14ERR,DOC,DOC_FLAG_W,TDN,TDN_FLAG_W,TON,TON_FLAG_W,D15N_NO3,D15N_NO3_FLAG_W,BTL_DATE,BTL_TIME,BTL_LAT,BTL_LON,CTDRINKO,CTDRINKO_FLAG_W,CTDFLUOR,CTDFLUOR_FLAG_W,CTDXMISS,CTDXMISS_FLAG_W,CTDBACKSCATTER,CTDBACKSCATTER_FLAG_W,D18O_NO3,D18O_NO3_FLAG_W,DOP,DOP_FLAG_W,CELLCOUNT,CELLCOUNT_FLAG_W,TDP,TDP_FLAG_W,POP,POP_FLAG_W,DATP,DATP_FLAG_W,PATP,PATP_FLAG_W,HPLC,HPLC_FLAG_W,POC,POC_FLAG_W,BEAMAP,BEAMAP_FLAG_W,DOC_NASA,DOC_NASA_FLAG_W,REFTMP,REFTMP_FLAG_W,DOC_NASA_ERROR,TDN_NASA,TDN_NASA_FLAG_W,TDN_NASA_ERROR
,,,,,,,,,,,METERS,DBAR,ITS-90,PSS-78,,PSS-78,,UMOL/KG,,UMOL/KG,,UMOL/KG,,UMOL/KG,,UMOL/KG,,UMOL/KG,,PMOL/KG,,PMOL/KG,,FMOL/KG,,UMOL/KG,,UMOL/KG,,,,DEG C,/MILLE,,/MILLE,,/MILLE,UMOL/KG,,UMOL/KG,,UMOL/KG,,/MILLE,,,,,,VOLTS,,VOLTS,,VOLTS,,VOLTS,,/MILLE,,UMOL/KG,,/LITER,,UMOL/KG,,UMOL/L,,PMOL/L,,PMOL/L,,,,UG/L,,/METER,,UMOL/L,,ITS-90,,UMOL/L,UMOL/L,,UMOL/L
320620170820,        P06,     172,          1,         27,         27,2,20170905,       2308,   -32.4998,  -125.1713,       3695,   318.5,  10.3818,  34.5059,2,  34.4612,2, 220.5831,2, 221.1905,2,     2.6,2,   15.51,2,    0.00,2,    1.10,2,   3.250,2,   1.782,2,   1.3160,2,  2128.1,2,  2272.9,2,   7.7550,2,    25.00, -999.00,9, -999.00,9, -999.00,  -999.0,9, -999.00,9,     -999.0,9,  -999.0,9, 20170906,       42, -32.5000,-125.1713,        0.0,1,      0.060,1,      4.686,1,      0.131,1,     -999.0,9,     -999.0,9,     -999.0,9,     -999.0,9,     -999.0,9,     -999.0,9,     -999.0,9,     -999.0,9,     -999.0,9,     -999.0,9,     -999.0,9,     9.9187,2,     -999.0,     -999.0,9,     -999.0
320620170820,        P06,     172,          1,         28,         28,2,20170905,       2308,   -32.4998,  -125.1713,       3695,   267.4,  12.0455,  34.6458,2,  34.5916,2, 217.7578,2, 217.2861,2,     1.5,2,   11.52,2,    0.00,2,    0.85,2,   3.030,2,   1.698,2,   1.2680,2,  2114.3,2,  2280.6,2,   7.7951,2,    25.00, -999.00,9, -999.00,9, -999.00,    45.7,2,   13.10,2,     -999.0,1,  -999.0,9, 20170906,       44, -32.5000,-125.1713,        0.0,1,      0.061,1,      4.684,1,      0.132,1,     -999.0,9,     -999.0,9,     -999.0,9,     -999.0,9,     -999.0,9,     -999.0,9,     -999.0,9,     -999.0,9,     -999.0,9,     -999.0,9,     -999.0,9,    11.4823,2,     -999.0,     -999.0,9,     -999.0
320620170820,        P06,     172,          1,         29,         29,2,20170905,       2308,   -32.4998,  -125.1713,       3695,   216.0,  13.3359,  34.6999,2,  34.6952,2, 219.7293,2, 219.3654,2,     0.6,2,    6.95,2,    0.00,2,    0.57,2,   2.760,2,   1.599,2,   1.5500,2,  2095.2,2,  2283.4,2,   7.8427,2,    25.00, -999.00,9, -999.00,9, -999.00,    52.2,2,    9.60,2,     -999.0,1,  -999.0,9, 20170906,       46, -32.5000,-125.1713,        0.0,1,      0.070,1,      4.681,1,      0.132,1,     -999.0,9,     -999.0,9,     -999.0,9,     -999.0,9,     -999.0,9,     -999.0,9,     -999.0,9,     -999.0,9,     -999.0,9,     -999.0,9,     -999.0,9,    13.2752,2,     -999.0,     -999.0,9,     -999.0
320620170820,        P06,     172,          1,         30,         30,2,20170905,       2308,   -32.4998,  -125.1713,       3695,   166.5,  14.7225,  34.7947,2,  34.7838,2, 229.4168,2, 230.1014,2,     0.2,2,    2.63,2,    0.19,2,    0.32,2,   2.656,2,   1.507,2,   1.6000,2,  2078.5,2,  2288.4,2,   7.8870,2,    25.00, -999.00,9, -999.00,9, -999.00,    48.8,2,    5.90,2,     -999.0,1,  -999.0,9, 20170906,       48, -32.5000,-125.1713,        0.0,1,      0.114,1,      4.670,1,      0.141,1,     -999.0,9,     -999.0,9,     -999.0,9,     -999.0,9,     -999.0,9,     -999.0,9,     -999.0,9,     -999.0,9,     -999.0,9,     -999.0,9,     -999.0,9,    14.5823,2,     -999.0,     -999.0,9,     -999.0
320620170820,        P06,     172,          1,         31,         31,2,20170905,       2308,   -32.4998,  -125.1713,       3695,   134.2,  15.7303,  34.8515,2,  34.8357,2, 234.9371,2, 236.1853,2,     0.1,2,    0.77,2,    0.23,2,    0.22,2,   2.486,6,   1.465,6,   1.6465,6,  2067.8,2,  2291.2,6,   7.9113,2,    25.00, -999.00,9, -999.00,9, -999.00,    57.6,2,    4.70,2,     -999.0,1,  -999.0,9, 20170906,       50, -32.5001,-125.1713,        0.0,1,      0.205,1,      4.644,1,      0.163,1,     -999.0,9,     -999.0,9,     -999.0,9,     -999.0,9,     -999.0,9,     -999.0,9,     -999.0,9,     -999.0,9,     -999.0,9,     -999.0,9,     -999.0,9,    15.3379,2,     -999.0,     -999.0,9,     -999.0
320620170820,        P06,     172,          1,         32,         32,2,20170905,       2308,   -32.4998,  -125.1713,       3695,   112.5,  17.2922,  35.0357,2,  34.8941,2, 241.0292,2, 241.6684,2,     0.0,2,    0.04,2,    0.03,2,    0.14,2,   2.416,2,   1.423,2,   1.6950,2,  2059.0,2,  2291.9,2,   7.9342,2,    25.00, -999.00,9, -999.00,9, -999.00,    60.1,2,    3.80,2,     -999.0,1,  -999.0,9, 20170906,       52, -32.5000,-125.1713,        0.0,1,      0.114,1,      4.649,1,      0.158,1,     -999.0,9,     -999.0,9,     -999.0,9,     -999.0,9,     -999.0,9,     -999.0,9,     -999.0,9,     -999.0,9,     -999.0,9,     -999.0,9,     -999.0,9,    16.1497,2,     -999.0,     -999.0,9,     -999.0
320620170820,        P06,     172,          1,         33,         33,2,20170905,       2308,   -32.4998,  -125.1713,       3695,    85.1,  17.9594,  35.1088,2,  35.0563,2,  237.471,2, 237.7626,2,     0.0,2,    0.00,2,    0.00,2,    0.09,2,   2.228,2,   1.310,2,   1.5980,2,  2047.2,2,  2302.7,2,   7.9656,6,    25.00, -999.00,9, -999.00,9, -999.00,    60.8,2,    3.60,2,     -999.0,1,  -999.0,9, 20170906,       53, -32.4999,-125.1713,        0.0,1,      0.074,1,      4.658,1,      0.152,1,     -999.0,9,     -999.0,9,     -999.0,9,     -999.0,9,     -999.0,9,     -999.0,9,     -999.0,9,     -999.0,9,     -999.0,9,     -999.0,9,     -999.0,9,    17.5814,2,     -999.0,     -999.0,9,     -999.0
320620170820,        P06,     172,          1,         34,         34,2,20170905,       2308,   -32.4998,  -125.1713,       3695,    61.5,  17.9625,  35.1089,2,  35.1104,2, 237.6896,2,  236.653,2,     0.0,2,    0.00,2,    0.00,2,    0.09,2,   2.161,2,   1.287,2,   1.7340,2,  2044.7,2,  2303.3,2,   7.9757,2,    25.00, -999.00,9, -999.00,9, -999.00,    62.9,2,    3.30,2,     -999.0,1,  -999.0,9, 20170906,       55, -32.4999,-125.1713,        0.0,1,      0.070,1,      4.657,1,      0.154,1,     -999.0,9,     -999.0,9,     -999.0,9,     -999.0,9,     -999.0,9,     -999.0,9,     -999.0,9,     -999.0,9,     -999.0,9,     -999.0,9,     -999.0,9,    17.9569,2,     -999.0,     -999.0,9,     -999.0
320620170820,        P06,     172,          1,         35,         35,2,20170905,       2308,   -32.4998,  -125.1713,       3695,    36.1,  17.9713,  35.1098,2,  35.1102,2, 237.2339,2, 236.6749,2,     0.1,2,    0.00,2,    0.00,2,    0.09,2,   2.077,2,   1.270,2,   1.7560,2,  2044.9,2,  2304.0,2,   7.9756,2,    25.00, -999.00,9, -999.00,9, -999.00,    64.1,2,    3.50,2,     -999.0,1,  -999.0,9, 20170906,       57, -32.4999,-125.1713,        0.0,1,      0.069,1,      4.659,1,      0.150,1,     -999.0,9,     -999.0,9,     -999.0,9,     -999.0,9,     -999.0,9,     -999.0,9,     -999.0,9,     -999.0,9,     -999.0,9,     -999.0,9,     -999.0,9,    17.9580,2,     -999.0,     -999.0,9,     -999.0
320620170820,        P06,     172,          1,         36,         36,2,20170905,       2308,   -32.4998,  -125.1713,       3695,     4.7,  17.9971,  35.1067,2,  35.0856,2, 237.6754,2, 237.0242,2,     0.0,2,    0.00,2,    0.00,2,    0.10,2,   2.176,2,   1.286,2,   1.6280,2,  2044.8,6,  2304.3,2,   7.9724,2,    25.00, -999.00,9, -999.00,9, -999.00,    63.4,2,    3.20,2,     -999.0,1,  -999.0,9, 20170906,       59, -32.4998,-125.1713,        0.0,1,      0.063,1,      4.660,1,      0.148,1,     -999.0,9,     -999.0,9,     -999.0,9,     -999.0,9,     -999.0,9,     -999.0,9,     -999.0,9,     -999.0,9,     -999.0,9,     -999.0,9,     -999.0,9,    17.9128,2,     -999.0,     -999.0,9,     -999.0