BOTTLE,20240211CCHSIOCBG
EXPOCODE,SECT_ID,STNNBR,CASTNO,SAMPNO,BTLNBR,BTLNBR_FLAG_W,DATE,TIME,LATITUDE,LONGITUDE,DEPTH,CTDPRS,CTDTMP,CTDSAL,CTDSAL_FLAG_W,SALNTY,SALNTY_FLAG_W,CTDOXY,CTDOXY_FLAG_W,OXYGEN,OXYGEN_FLAG_W,SILCAT,SILCAT_FLAG_W,NITRAT,NITRAT_FLAG_W,NITRIT,NITRIT_FLAG_W,PHSPHT,PHSPHT_FLAG_W,CFC-11,CFC-11_FLAG_W,CFC-12,CFC-12_FLAG_W,SF6,SF6_FLAG_W,TCARBN,TCARBN_FLAG_W,ALKALI,ALKALI_FLAG_W,PH_TOT,PH_TOT_FLAG_W,PH_TMP,DELC13,DELC13_FLAG_W,DELC14,DELC14_FLAG_W,C14ERR,DOC,DOC_FLAG_W,TDN,TDN_FLAG_W,TON,TON_FLAG_W,D15N_NO3,D15N_NO3_FLAG_W,BTL_DATE,BTL_TIME,BTL_LAT,BTL_LON,CTDRINKO,CTDRINKO_FLAG_W,CTDFLUOR,CTDFLUOR_FLAG_W,CTDXMISS,CTDXMISS_FLAG_W,CTDBACKSCATTER,CTDBACKSCATTER_FLAG_W,D18O_NO3,D18O_NO3_FLAG_W,DOP,DOP_FLAG_W,CELLCOUNT,CELLCOUNT_FLAG_W,TDP,TDP_FLAG_W,POP,POP_FLAG_W,DATP,DATP_FLAG_W,PATP,PATP_FLAG_W,HPLC,HPLC_FLAG_W,POC,POC_FLAG_W,BEAMAP,BEAMAP_FLAG_W,DOC_NASA,DOC_NASA_FLAG_W,REFTMP,REFTMP_FLAG_W,DOC_NASA_ERROR,TDN_NASA,TDN_NASA_FLAG_W,TDN_NASA_ERROR
,,,,,,,,,,,METERS,DBAR,ITS-90,PSS-78,,PSS-78,,UMOL/KG,,UMOL/KG,,UMOL/KG,,UMOL/KG,,UMOL/KG,,UMOL/KG,,PMOL/KG,,PMOL/KG,,FMOL/KG,,UMOL/KG,,UMOL/KG,,,,DEG C,/MILLE,,/MILLE,,/MILLE,UMOL/KG,,UMOL/KG,,UMOL/KG,,/MILLE,,,,,,VOLTS,,VOLTS,,VOLTS,,VOLTS,,/MILLE,,UMOL/KG,,/LITER,,UMOL/KG,,UMOL/L,,PMOL/L,,PMOL/L,,,,UG/L,,/METER,,UMOL/L,,ITS-90,,UMOL/L,UMOL/L,,UMOL/L
320620170820,        P06,     203,          1,          1,          1,2,20170915,       0728,   -32.5005,  -102.0462,       3566,  3611.9,   1.7837,  34.6907,2,  34.6901,2, 167.0486,2, 166.6004,2,   118.6,2,   34.30,2,    0.00,2,    2.38,2,   0.031,2,   0.017,2,   0.0000,2,  2297.6,6,  2388.0,2,   7.5920,2,    25.00, -999.00,9, -999.00,9, -999.00,  -999.0,9, -999.00,9,     -999.0,9,  -999.0,9, 20170915,      728, -32.5002,-102.0467,        0.0,1,      0.061,1,      4.685,1,      0.132,1,     -999.0,9,     -999.0,9,     -999.0,9,     -999.0,9,     -999.0,9,     -999.0,9,     -999.0,9,     -999.0,9,     -999.0,9,     -999.0,9,     -999.0,9,     1.7849,2,     -999.0,     -999.0,9,     -999.0
320620170820,        P06,     203,          1,          2,          2,2,20170915,       0728,   -32.5005,  -102.0462,       3566,  3424.9,   1.7680,  34.6906,2,  34.6906,2, 167.0486,2, 167.2221,2,   118.6,2,   34.30,2,    0.00,2,    2.38,2,   0.031,2,   0.021,2,   0.0000,2,  2296.7,2,  2386.7,2,   7.5918,2,    25.00, -999.00,9, -999.00,9, -999.00,  -999.0,9, -999.00,9,     -999.0,9,  -999.0,9, 20170915,      733, -32.5003,-102.0465,        0.0,1,      0.061,1,      4.686,1,      0.128,1,     -999.0,9,     -999.0,9,     -999.0,9,     -999.0,9,     -999.0,9,     -999.0,9,     -999.0,9,     -999.0,9,     -999.0,9,     -999.0,9,     -999.0,9,     1.7679,2,     -999.0,     -999.0,9,     -999.0
320620170820,        P06,     203,          1,          3,          3,2,20170915,       0728,   -32.5005,  -102.0462,       3566,  3246.4,   1.7542,  34.6902,2,  34.6899,2, 167.0486,2, 167.0601,2,   118.4,2,   34.31,2,    0.00,2,    2.37,2,   0.030,2,   0.017,2,   0.0000,2,  -999.0,9,  -999.0,9,-999.0000,9,  -999.00, -999.00,9, -999.00,9, -999.00,  -999.0,9, -999.00,9,     -999.0,9,  -999.0,9, 20170915,      738, -32.5003,-102.0465,        0.0,1,      0.061,1,      4.687,1,      0.129,1,     -999.0,9,     -999.0,9,     -999.0,9,     -999.0,9,     -999.0,9,     -999.0,9,     -999.0,9,     -999.0,9,     -999.0,9,     -999.0,9,     -999.0,9,     1.7543,2,     -999.0,     -999.0,9,     -999.0
320620170820,        P06,     203,          1,          4,          4,2,20170915,       0728,   -32.5005,  -102.0462,       3566,  2974.8,   1.7474,  34.6886,2,  34.6881,2, 166.9256,2,  167.106,2,   118.0,2,   34.31,2,    0.00,2,    2.37,2,   0.033,2,   0.022,2,   0.0000,2,  -999.0,9,  -999.0,9,-999.0000,9,  -999.00, -999.00,9, -999.00,9, -999.00,  -999.0,9, -999.00,9,     -999.0,9,  -999.0,9, 20170915,      744, -32.5003,-102.0465,        0.0,1,      0.060,1,      4.689,1,      0.127,1,     -999.0,9,     -999.0,9,     -999.0,9,     -999.0,9,     -999.0,9,     -999.0,9,     -999.0,9,     -999.0,9,     -999.0,9,     -999.0,9,     -999.0,9,     1.7471,2,     -999.0,     -999.0,9,     -999.0
320620170820,        P06,     203,          1,          5,          5,2,20170915,       0728,   -32.5005,  -102.0462,       3566,  2771.5,   1.7571,  34.6861,2,  34.6857,2, 166.8073,2, 167.1162,2,   117.5,2,   34.32,2,    0.00,2,    2.37,2,   0.035,2,   0.024,2,   0.0000,2,  2294.2,2,  2382.8,2,   7.5903,2,    25.00, -999.00,9, -999.00,9, -999.00,  -999.0,9, -999.00,9,     -999.0,9,  -999.0,9, 20170915,      749, -32.5003,-102.0464,        0.0,1,      0.061,1,      4.689,1,      0.126,1,     -999.0,9,     -999.0,9,     -999.0,9,     -999.0,9,     -999.0,9,     -999.0,9,     -999.0,9,     -999.0,9,     -999.0,9,     -999.0,9,     -999.0,9,     1.7583,2,     -999.0,     -999.0,9,     -999.0
320620170820,        P06,     203,          1,          6,          6,2,20170915,       0728,   -32.5005,  -102.0462,       3566,  2567.8,   1.7927,  34.6811,2,  34.6800,2, 165.0955,2,  164.841,2,   116.4,2,   34.43,2,    0.00,2,    2.39,2,   0.033,2,   0.020,2,   0.0000,2,  -999.0,9,  -999.0,9,-999.0000,9,  -999.00, -999.00,9, -999.00,9, -999.00,  -999.0,9, -999.00,9,     -999.0,9,  -999.0,9, 20170915,      754, -32.5002,-102.0467,        0.0,1,      0.061,1,      4.689,1,      0.129,1,     -999.0,9,     -999.0,9,     -999.0,9,     -999.0,9,     -999.0,9,     -999.0,9,     -999.0,9,     -999.0,9,     -999.0,9,     -999.0,9,     -999.0,9,     1.7974,2,     -999.0,     -999.0,9,     -999.0
320620170820,        P06,     203,          1,          7,          7,2,20170915,       0728,   -32.5005,  -102.0462,       3566,  2363.4,   1.8731,  34.6715,2,  34.6710,2, 160.0976,2, 159.9854,2,   115.1,2,   34.80,2,    0.00,2,    2.41,2,   0.031,2,   0.020,2,   0.0000,2,  2293.9,2,  2383.2,2,   7.5776,2,    25.00, -999.00,9, -999.00,9, -999.00,  -999.0,9, -999.00,9,     -999.0,9,  -999.0,9, 20170915,      759, -32.5004,-102.0462,        0.0,1,      0.061,1,      4.689,1,      0.128,1,     -999.0,9,     -999.0,9,     -999.0,9,     -999.0,9,     -999.0,9,     -999.0,9,     -999.0,9,     -999.0,9,     -999.0,9,     -999.0,9,     -999.0,9,     1.8805,2,     -999.0,     -999.0,9,     -999.0
320620170820,        P06,     203,          1,          8,          8,2,20170915,       0728,   -32.5005,  -102.0462,       3566,  2159.9,   2.0092,  34.6543,2,  34.6525,2, 154.9372,2, 154.6606,2,   112.0,2,   35.28,2,    0.00,2,    2.46,2,   0.032,2,   0.021,2,   0.0000,2,  -999.0,9,  -999.0,9,-999.0000,9,  -999.00, -999.00,9, -999.00,9, -999.00,  -999.0,9, -999.00,9,     -999.0,9,  -999.0,9, 20170915,      803, -32.5005,-102.0460,        0.0,1,      0.061,1,      4.689,1,      0.128,1,     -999.0,9,     -999.0,9,     -999.0,9,     -999.0,9,     -999.0,9,     -999.0,9,     -999.0,9,     -999.0,9,     -999.0,9,     -999.0,9,     -999.0,9,     2.0154,2,     -999.0,     -999.0,9,     -999.0
320620170820,        P06,     203,          1,          9,          9,2,20170915,       0728,   -32.5005,  -102.0462,       3566,  1957.2,   2.2081,  34.6292,2,  34.6282,2, 149.0815,2, 149.6212,2,   106.7,2,   35.74,2,    0.00,2,    2.49,2,   0.033,2,   0.021,2,   0.0000,2,  2295.3,2,  2375.8,2,   7.5584,2,    25.00, -999.00,9, -999.00,9, -999.00,  -999.0,9, -999.00,9,     -999.0,9,  -999.0,9, 20170915,      808, -32.5005,-102.0460,        0.0,1,      0.061,1,      4.689,1,      0.130,1,     -999.0,9,     -999.0,9,     -999.0,9,     -999.0,9,     -999.0,9,     -999.0,9,     -999.0,9,     -999.0,9,     -999.0,9,     -999.0,9,     -999.0,9,     2.2120,2,     -999.0,     -999.0,9,     -999.0
320620170820,        P06,     203,          1,         10,         10,2,20170915,       0728,   -32.5005,  -102.0462,       3566,  1783.6,   2.4126,  34.6045,2,  34.6044,2, 145.3326,2, 145.3658,2,   101.6,2,   36.09,2,    0.00,2,    2.52,2,   0.032,2,   0.019,2,   0.0000,2,  -999.0,9,  -999.0,9,-999.0000,9,  -999.00, -999.00,9, -999.00,9, -999.00,  -999.0,9, -999.00,9,     -999.0,9,  -999.0,9, 20170915,      812, -32.5005,-102.0460,        0.0,1,      0.061,1,      4.689,1,      0.130,1,     -999.0,9,     -999.0,9,     -999.0,9,     -999.0,9,     -999.0,9,     -999.0,9,     -999.0,9,     -999.0,9,     -999.0,9,     -999.0,9,     -999.0,9,     2.4010,2,     -999.0,     -999.0,9,     -999.0
320620170820,        P06,     203,          1,         11,         11,2,20170915,       0728,   -32.5005,  -102.0462,       3566,  1682.5,   2.5776,  34.5880,2,  34.5904,2, 141.4072,2,  141.682,2,    98.7,2,   36.40,2,    0.00,2,    2.54,2,   0.033,2,   0.021,2,   0.0000,2,  2291.1,2,  2366.1,6,   7.5450,2,    25.00, -999.00,9, -999.00,9, -999.00,  -999.0,9, -999.00,9,     -999.0,9,  -999.0,9, 20170915,      816, -32.5005,-102.0459,        0.0,1,      0.062,1,      4.689,1,      0.133,1,     -999.0,9,     -999.0,9,     -999.0,9,     -999.0,9,     -999.0,9,     -999.0,9,     -999.0,9,     -999.0,9,     -999.0,9,     -999.0,9,     -999.0,9,     2.5410,2,     -999.0,     -999.0,9,     -999.0
320620170820,        P06,     203,          1,         12,         12,2,20170915,       0728,   -32.5005,  -102.0462,       3566,  1581.1,   2.7584,  34.5727,2,  34.5753,2, 132.9015,2, 132.6603,2,    95.7,2,   37.21,2,    0.00,2,    2.62,2,   0.032,2,   0.020,2,   0.0000,2,  -999.0,9,  -999.0,9,-999.0000,9,  -999.00, -999.00,9, -999.00,9, -999.00,  -999.0,9, -999.00,9,     -999.0,9,  -999.0,9, 20170915,      819, -32.5006,-102.0456,        0.0,1,      0.061,1,      4.689,1,      0.133,1,     -999.0,9,     -999.0,9,     -999.0,9,     -999.0,9,     -999.0,9,     -999.0,9,     -999.0,9,     -999.0,9,     -999.0,9,     -999.0,9,     -999.0,9,     2.7292,2,     -999.0,     -999.0,9,     -999.0
320620170820,        P06,     203,          1,         13,         13,2,20170915,       0728,   -32.5005,  -102.0462,       3566,  1479.9,   2.9556,  34.5537,2,  34.5571,2, 126.6275,2, 126.8605,2,    91.4,2,   37.75,2,    0.00,2,    2.66,2,   0.033,2,   0.021,2,   0.0000,2,  2293.1,2,  2359.9,2,   7.5188,6,    25.00, -999.00,9, -999.00,9, -999.00,  -999.0,9, -999.00,9,     -999.0,9,  -999.0,9, 20170915,      822, -32.5005,-102.0458,        0.0,1,      0.061,1,      4.688,1,      0.132,1,     -999.0,9,     -999.0,9,     -999.0,9,     -999.0,9,     -999.0,9,     -999.0,9,     -999.0,9,     -999.0,9,     -999.0,9,     -999.0,9,     -999.0,9,     2.9159,2,     -999.0,     -999.0,9,     -999.0
320620170820,        P06,     203,          1,         14,         14,2,20170915,       0728,   -32.5005,  -102.0462,       3566,  1377.4,   3.1338,  34.5351,2,  34.5355,2, 123.7793,2, 123.4864,2,    85.6,2,   38.03,2,    0.00,2,    2.67,2,   0.034,2,   0.021,2,   0.0000,2,  2288.7,6,  2353.9,2,   7.5105,2,    25.00, -999.00,9, -999.00,9, -999.00,  -999.0,9, -999.00,9,     -999.0,9,  -999.0,9, 20170915,      825, -32.5005,-102.0459,        0.0,1,      0.062,1,      4.688,1,      0.131,1,     -999.0,9,     -999.0,9,     -999.0,9,     -999.0,9,     -999.0,9,     -999.0,9,     -999.0,9,     -999.0,9,     -999.0,9,     -999.0,9,     -999.0,9,     3.1201,2,     -999.0,     -999.0,9,     -999.0
320620170820,        P06,     203,          1,         15,         15,2,20170915,       0728,   -32.5005,  -102.0462,       3566,  1276.3,   3.3238,  34.5031,2,  34.5025,2, 122.4956,2, 122.8407,2,    77.5,2,   38.25,2,    0.00,2,    2.68,2,   0.041,2,   0.026,2,   0.0000,2,  2284.2,2,  2343.9,2,   7.5052,2,    25.00, -999.00,9, -999.00,9, -999.00,  -999.0,9, -999.00,9,     -999.0,9,  -999.0,9, 20170915,      828, -32.5005,-102.0457,        0.0,1,      0.061,1,      4.688,1,      0.132,1,     -999.0,9,     -999.0,9,     -999.0,9,     -999.0,9,     -999.0,9,     -999.0,9,     -999.0,9,     -999.0,9,     -999.0,9,     -999.0,9,     -999.0,9,     3.3143,2,     -999.0,     -999.0,9,     -999.0
320620170820,        P06,     203,          1,         16,         16,2,20170915,       0728,   -32.5005,  -102.0462,       3566,  1175.4,   3.4782,  34.4475,2,  34.4493,2, 135.3115,2, 134.7118,2,    64.8,2,   37.53,2,    0.00,2,    2.60,2,   0.083,2,   0.053,2,   0.0000,2,  -999.0,9,  -999.0,9,-999.0000,9,  -999.00, -999.00,9, -999.00,9, -999.00,  -999.0,9, -999.00,9,     -999.0,9,  -999.0,9, 20170915,      831, -32.5005,-102.0458,        0.0,1,      0.062,1,      4.688,1,      0.132,1,     -999.0,9,     -999.0,9,     -999.0,9,     -999.0,9,     -999.0,9,     -999.0,9,     -999.0,9,     -999.0,9,     -999.0,9,     -999.0,9,     -999.0,9,     3.4828,2,     -999.0,     -999.0,9,     -999.0
320620170820,        P06,     203,          1,         17,         17,2,20170915,       0728,   -32.5005,  -102.0462,       3566,  1073.6,   3.6919,  34.3806,2,  34.3780,2, 161.1128,2, 160.5987,2,    48.9,2,   35.55,2,    0.00,2,    2.44,2,   0.270,2,   0.154,2,   0.0040,2,  2236.2,2,  2312.0,2,   7.5479,2,    25.00, -999.00,9, -999.00,9, -999.00,  -999.0,9, -999.00,9,     -999.0,9,  -999.0,9, 20170915,      834, -32.5005,-102.0460,        0.0,1,      0.061,1,      4.688,1,      0.134,1,     -999.0,9,     -999.0,9,     -999.0,9,     -999.0,9,     -999.0,9,     -999.0,9,     -999.0,9,     -999.0,9,     -999.0,9,     -999.0,9,     -999.0,9,     3.7109,2,     -999.0,     -999.0,9,     -999.0
320620170820,        P06,     203,          1,         18,         18,2,20170915,       0728,   -32.5005,  -102.0462,       3566,   973.1,   4.1020,  34.3272,2,  34.3240,2, 180.8594,2, 181.0794,2,    35.9,2,   33.48,2,    0.00,2,    2.30,2,   0.749,2,   0.385,2,   0.0420,2,  -999.0,9,  -999.0,9,-999.0000,9,  -999.00, -999.00,9, -999.00,9, -999.00,  -999.0,9, -999.00,9,     -999.0,9,  -999.0,9, 20170915,      837, -32.5004,-102.0462,        0.0,1,      0.060,1,      4.688,1,      0.135,1,     -999.0,9,     -999.0,9,     -999.0,9,     -999.0,9,     -999.0,9,     -999.0,9,     -999.0,9,     -999.0,9,     -999.0,9,     -999.0,9,     -999.0,9,     4.1243,2,     -999.0,     -999.0,9,     -999.0
320620170820,        P06,     203,          1,         19,         19,2,20170915,       0728,   -32.5005,  -102.0462,       3566,   871.6,   4.5951,  34.2832,2,  34.2821,2, 202.1405,2, 202.5451,2,    24.8,2,   31.05,2,    0.00,2,    2.11,2,   1.692,2,   0.781,2,   0.2210,2,  2191.1,2,  2289.8,2,   7.6138,2,    25.00, -999.00,9, -999.00,9, -999.00,  -999.0,9, -999.00,9,     -999.0,9,  -999.0,9, 20170915,      840, -32.5005,-102.0460,        0.0,1,      0.059,1,      4.688,1,      0.134,1,     -999.0,9,     -999.0,9,     -999.0,9,     -999.0,9,     -999.0,9,     -999.0,9,     -999.0,9,     -999.0,9,     -999.0,9,     -999.0,9,     -999.0,9,     4.5861,2,     -999.0,     -999.0,9,     -999.0
320620170820,        P06,     203,          1,         20,         20,2,20170915,       0728,   -32.5005,  -102.0462,       3566,   770.6,   5.0742,  34.2577,2,  34.2560,2, 222.8766,2, 222.7861,2,    16.0,2,   28.44,2,    0.00,2,    1.93,2,   2.719,2,   1.346,2,   0.4780,2,  -999.0,9,  -999.0,9,-999.0000,9,  -999.00, -999.00,9, -999.00,9, -999.00,  -999.0,9, -999.00,9,     -999.0,9,  -999.0,9, 20170915,      843, -32.5005,-102.0458,        0.0,1,      0.059,1,      4.688,1,      0.134,1,     -999.0,9,     -999.0,9,     -999.0,9,     -999.0,9,     -999.0,9,     -999.0,9,     -999.0,9,     -999.0,9,     -999.0,9,     -999.0,9,     -999.0,9,     5.0997,2,     -999.0,     -999.0,9,     -999.0
320620170820,        P06,     203,          1,         21,         21,2,20170915,       0728,   -32.5005,  -102.0462,       3566,   670.0,   5.5381,  34.2551,2,  34.2542,2, 236.8025,2, 236.8746,2,    11.2,2,   26.29,2,    0.00,2,    1.77,2,   3.405,2,   1.738,2,   0.7530,2,  2158.1,2,  2277.7,2,   7.6717,2,    25.00, -999.00,9, -999.00,9, -999.00,  -999.0,9, -999.00,9,     -999.0,9,  -999.0,9, 20170915,      846, -32.5005,-102.0461,        0.0,1,      0.059,1,      4.687,1,      0.135,1,     -999.0,9,     -999.0,9,     -999.0,9,     -999.0,9,     -999.0,9,     -999.0,9,     -999.0,9,     -999.0,9,     -999.0,9,     -999.0,9,     -999.0,9,     5.5356,2,     -999.0,     -999.0,9,     -999.0
320620170820,        P06,     203,          1,         22,         22,2,20170915,       0728,   -32.5005,  -102.0462,       3566,   568.4,   5.9531,  34.2723,2,  34.2723,2, 240.6388,2,  240.712,2,     8.9,2,   24.88,2,    0.00,2,    1.67,2,   3.619,2,   1.931,2,   0.9210,2,  2153.6,2,  2276.3,2,   7.6812,2,    25.00, -999.00,9, -999.00,9, -999.00,  -999.0,9, -999.00,9,     -999.0,9,  -999.0,9, 20170915,      849, -32.5005,-102.0462,        0.0,1,      0.060,1,      4.686,1,      0.135,1,     -999.0,9,     -999.0,9,     -999.0,9,     -999.0,9,     -999.0,9,     -999.0,9,     -999.0,9,     -999.0,9,     -999.0,9,     -999.0,9,     -999.0,9,     5.9925,2,     -999.0,     -999.0,9,     -999.0
320620170820,        P06,     203,          1,         23,         23,2,20170915,       0728,   -32.5005,  -102.0462,       3566,   487.3,   6.3551,  34.2903,2,  34.2909,2, 227.1562,2, 226.6867,2,     8.6,2,   25.05,2,    0.00,2,    1.70,2,   3.569,2,   1.907,2,   0.9770,2,  2158.6,2,  2274.3,2,   7.6621,2,    25.00, -999.00,9, -999.00,9, -999.00,  -999.0,9, -999.00,9,     -999.0,9,  -999.0,9, 20170915,      852, -32.5005,-102.0459,        0.0,1,      0.059,1,      4.685,1,      0.136,1,     -999.0,9,     -999.0,9,     -999.0,9,     -999.0,9,     -999.0,9,     -999.0,9,     -999.0,9,     -999.0,9,     -999.0,9,     -999.0,9,     -999.0,9,     6.4095,2,     -999.0,     -999.0,9,     -999.0
320620170820,        P06,     203,          1,         24,         24,2,20170915,       0728,   -32.5005,  -102.0462,       3566,   437.4,   6.7365,  34.2979,2,  34.2999,2, 197.7447,2,  205.106,2,     9.0,2,   25.85,2,    0.00,2,    1.79,2,   3.438,2,   1.823,2,   0.9450,2,  -999.0,9,  -999.0,9,-999.0000,9,  -999.00, -999.00,9, -999.00,9, -999.00,  -999.0,9, -999.00,9,     -999.0,9,  -999.0,9, 20170915,      854, -32.5005,-102.0458,        0.0,1,      0.061,1,      4.684,1,      0.135,1,     -999.0,9,     -999.0,9,     -999.0,9,     -999.0,9,     -999.0,9,     -999.0,9,     -999.0,9,     -999.0,9,     -999.0,9,     -999.0,9,     -999.0,9,     6.8119,2,     -999.0,     -999.0,9,     -999.0
320620170820,        P06,     203,          1,         25,         25,2,20170915,       0728,   -32.5005,  -102.0462,       3566,   387.3,   7.2971,  34.2954,2,  34.2907,2,  200.042,2, 195.4101,2,     8.2,2,   25.25,2,    0.00,2,    1.76,2,   3.367,2,   1.804,2,   0.9630,2,  2170.6,2,  2272.2,2,   7.6274,2,    25.00, -999.00,9, -999.00,9, -999.00,  -999.0,9, -999.00,9,     -999.0,9,  -999.0,9, 20170915,      856, -32.5005,-102.0459,        0.0,1,      0.060,1,      4.684,1,      0.135,1,     -999.0,9,     -999.0,9,     -999.0,9,     -999.0,9,     -999.0,9,     -999.0,9,     -999.0,9,     -999.0,9,     -999.0,9,     -999.0,9,     -999.0,9,     7.3503,2,     -999.0,     -999.0,9,     -999.0
320620170820,        P06,     203,          1,         26,         26,2,20170915,       0728,   -32.5005,  -102.0462,       3566,   336.1,   8.0293,  34.2561,2,  34.2530,3, 214.9133,2, 214.9888,2,     4.8,2,   21.82,2,    0.00,2,    1.52,2,   3.497,2,   1.916,2,   1.1800,2,  2148.6,2,  2269.1,2,   7.6772,2,    25.00, -999.00,9, -999.00,9, -999.00,  -999.0,9, -999.00,9,     -999.0,9,  -999.0,9, 20170915,      858, -32.5005,-102.0460,        0.0,1,      0.060,1,      4.683,1,      0.135,1,     -999.0,9,     -999.0,9,     -999.0,9,     -999.0,9,     -999.0,9,     -999.0,9,     -999.0,9,     -999.0,9,     -999.0,9,     -999.0,9,     -999.0,9,     8.0352,2,     -999.0,     -999.0,9,     -999.0