BOTTLE,20240211CCHSIOCBG
EXPOCODE,SECT_ID,STNNBR,CASTNO,SAMPNO,BTLNBR,BTLNBR_FLAG_W,DATE,TIME,LATITUDE,LONGITUDE,DEPTH,CTDPRS,CTDTMP,CTDSAL,CTDSAL_FLAG_W,SALNTY,SALNTY_FLAG_W,CTDOXY,CTDOXY_FLAG_W,OXYGEN,OXYGEN_FLAG_W,SILCAT,SILCAT_FLAG_W,NITRAT,NITRAT_FLAG_W,NITRIT,NITRIT_FLAG_W,PHSPHT,PHSPHT_FLAG_W,CFC-11,CFC-11_FLAG_W,CFC-12,CFC-12_FLAG_W,SF6,SF6_FLAG_W,TCARBN,TCARBN_FLAG_W,ALKALI,ALKALI_FLAG_W,PH_TOT,PH_TOT_FLAG_W,PH_TMP,DELC13,DELC13_FLAG_W,DELC14,DELC14_FLAG_W,C14ERR,DOC,DOC_FLAG_W,TDN,TDN_FLAG_W,TON,TON_FLAG_W,D15N_NO3,D15N_NO3_FLAG_W,BTL_DATE,BTL_TIME,BTL_LAT,BTL_LON,CTDRINKO,CTDRINKO_FLAG_W,CTDFLUOR,CTDFLUOR_FLAG_W,CTDXMISS,CTDXMISS_FLAG_W,CTDBACKSCATTER,CTDBACKSCATTER_FLAG_W,D18O_NO3,D18O_NO3_FLAG_W,DOP,DOP_FLAG_W,CELLCOUNT,CELLCOUNT_FLAG_W,TDP,TDP_FLAG_W,POP,POP_FLAG_W,DATP,DATP_FLAG_W,PATP,PATP_FLAG_W,HPLC,HPLC_FLAG_W,POC,POC_FLAG_W,BEAMAP,BEAMAP_FLAG_W,DOC_NASA,DOC_NASA_FLAG_W,REFTMP,REFTMP_FLAG_W,DOC_NASA_ERROR,TDN_NASA,TDN_NASA_FLAG_W,TDN_NASA_ERROR
,,,,,,,,,,,METERS,DBAR,ITS-90,PSS-78,,PSS-78,,UMOL/KG,,UMOL/KG,,UMOL/KG,,UMOL/KG,,UMOL/KG,,UMOL/KG,,PMOL/KG,,PMOL/KG,,FMOL/KG,,UMOL/KG,,UMOL/KG,,,,DEG C,/MILLE,,/MILLE,,/MILLE,UMOL/KG,,UMOL/KG,,UMOL/KG,,/MILLE,,,,,,VOLTS,,VOLTS,,VOLTS,,VOLTS,,/MILLE,,UMOL/KG,,/LITER,,UMOL/KG,,UMOL/L,,PMOL/L,,PMOL/L,,,,UG/L,,/METER,,UMOL/L,,ITS-90,,UMOL/L,UMOL/L,,UMOL/L
320620170820,        P06,     188,          1,         27,         27,2,20170911,       0025,   -32.5001,  -112.3954,       2414,   140.2,  15.4507,  34.8329,2,  34.8237,2,  237.225,2, 235.8294,2,     0.0,2,    0.76,2,    0.30,2,    0.21,2,   2.401,2,   1.482,2,   1.7490,2,  2065.1,2,  2288.9,2,   7.9124,6,    25.00, -999.00,9, -999.00,9, -999.00,    53.3,2,    4.70,2,     -999.0,1,  -999.0,9, 20170911,      137, -32.5000,-112.3954,        0.0,1,      0.174,1,      4.646,1,      0.159,1,     -999.0,9,     -999.0,9,     -999.0,9,     -999.0,9,     -999.0,9,     -999.0,9,     -999.0,9,     -999.0,9,     -999.0,9,     -999.0,9,     -999.0,9,    15.3298,2,     -999.0,     -999.0,9,     -999.0
320620170820,        P06,     188,          1,         28,         28,2,20170911,       0025,   -32.5001,  -112.3954,       2414,   116.5,  16.3320,  34.9004,2,  34.9260,2, 237.5299,2, 237.6353,2,     0.0,2,    0.06,2,    0.04,2,    0.13,2,   2.259,2,   1.403,2,   1.6860,2,  -999.0,9,  -999.0,9,-999.0000,9,  -999.00, -999.00,9, -999.00,9, -999.00,    56.8,2,    4.70,2,     -999.0,1,  -999.0,9, 20170911,      139, -32.4999,-112.3955,        0.0,1,      0.203,1,      4.631,1,      0.170,1,     -999.0,9,     -999.0,9,     -999.0,9,     -999.0,9,     -999.0,9,     -999.0,9,     -999.0,9,     -999.0,9,     -999.0,9,     -999.0,9,     -999.0,9,    16.6017,2,     -999.0,     -999.0,9,     -999.0
320620170820,        P06,     188,          1,         29,         29,2,20170911,       0025,   -32.5001,  -112.3954,       2414,    91.6,  17.1302,  34.9547,2,  34.9878,2,  239.189,2, 238.6327,2,     0.0,2,    0.00,2,    0.00,2,    0.08,2,   2.159,2,   1.360,2,   1.6900,2,  2049.7,2,  2298.1,6,   7.9594,2,    25.00, -999.00,9, -999.00,9, -999.00,    59.8,2,    3.70,2,     -999.0,1,  -999.0,9, 20170911,      140, -32.4998,-112.3956,        0.0,1,      0.108,1,      4.637,1,      0.167,1,     -999.0,9,     -999.0,9,     -999.0,9,     -999.0,9,     -999.0,9,     -999.0,9,     -999.0,9,     -999.0,9,     -999.0,9,     -999.0,9,     -999.0,9,    17.2689,2,     -999.0,     -999.0,9,     -999.0
320620170820,        P06,     188,          1,         30,         30,2,20170911,       0025,   -32.5001,  -112.3954,       2414,    65.7,  17.3419,  34.9412,2,  34.9461,2, 239.2663,2, 240.0286,2,     0.0,2,    0.00,2,    0.00,2,    0.09,2,   2.155,2,   1.331,2,   1.7360,2,  -999.0,9,  -999.0,9,-999.0000,9,  -999.00, -999.00,9, -999.00,9, -999.00,    60.5,2,    3.80,2,     -999.0,1,  -999.0,9, 20170911,      142, -32.4998,-112.3956,        0.0,1,      0.076,1,      4.639,1,      0.161,1,     -999.0,9,     -999.0,9,     -999.0,9,     -999.0,9,     -999.0,9,     -999.0,9,     -999.0,9,     -999.0,9,     -999.0,9,     -999.0,9,     -999.0,9,    17.2679,2,     -999.0,     -999.0,9,     -999.0
320620170820,        P06,     188,          1,         31,         31,2,20170911,       0025,   -32.5001,  -112.3954,       2414,    40.8,  17.7429,  34.9937,2,  34.9331,2,  239.696,2,  240.256,2,     0.0,2,    0.00,2,    0.00,2,    0.08,2,   2.232,2,   1.329,2,   1.6530,2,  2044.5,2,  2295.2,2,   7.9631,2,    25.00, -999.00,9, -999.00,9, -999.00,    63.0,2,    3.60,2,     -999.0,1,  -999.0,9, 20170911,      144, -32.4998,-112.3956,        0.0,1,      0.066,1,      4.649,1,      0.153,1,     -999.0,9,     -999.0,9,     -999.0,9,     -999.0,9,     -999.0,9,     -999.0,9,     -999.0,9,     -999.0,9,     -999.0,9,     -999.0,9,     -999.0,9,    17.4636,2,     -999.0,     -999.0,9,     -999.0
320620170820,        P06,     188,          1,         32,         32,2,20170911,       0025,   -32.5001,  -112.3954,       2414,    21.0,  17.8157,  34.9937,2,  34.9902,2, 238.5109,2, 239.7252,2,     0.0,2,    0.00,2,    0.00,2,    0.09,2,   2.205,2,   1.318,2,   1.6590,2,  -999.0,9,  -999.0,9,-999.0000,9,  -999.00, -999.00,9, -999.00,9, -999.00,    61.6,2,    3.90,2,     -999.0,1,  -999.0,9, 20170911,      146, -32.4999,-112.3955,        0.0,1,      0.065,1,      4.651,1,      0.150,1,     -999.0,9,     -999.0,9,     -999.0,9,     -999.0,9,     -999.0,9,     -999.0,9,     -999.0,9,     -999.0,9,     -999.0,9,     -999.0,9,     -999.0,9,    17.7676,2,     -999.0,     -999.0,9,     -999.0
320620170820,        P06,     188,          1,         33,         33,2,20170911,       0025,   -32.5001,  -112.3954,       2414,     5.0,  17.8086,  34.9914,2,  34.9870,2, 237.8311,2, 239.7271,2,     0.0,2,    0.00,2,    0.00,2,    0.10,2,   2.203,2,   1.316,2,   1.6890,2,  2045.0,6,  2298.1,2,   7.9652,2,    25.00, -999.00,9, -999.00,9, -999.00,    63.7,2,    4.00,2,     -999.0,1,  -999.0,9, 20170911,      148, -32.5001,-112.3954,        0.0,1,      0.064,1,      4.651,1,      0.150,1,     -999.0,9,     -999.0,9,     -999.0,9,     -999.0,9,     -999.0,9,     -999.0,9,     -999.0,9,     -999.0,9,     -999.0,9,     -999.0,9,     -999.0,9,    17.7814,2,     -999.0,     -999.0,9,     -999.0