BOTTLE,20240211CCHSIOCBG
EXPOCODE,SECT_ID,STNNBR,CASTNO,SAMPNO,BTLNBR,BTLNBR_FLAG_W,DATE,TIME,LATITUDE,LONGITUDE,DEPTH,CTDPRS,CTDTMP,CTDSAL,CTDSAL_FLAG_W,SALNTY,SALNTY_FLAG_W,CTDOXY,CTDOXY_FLAG_W,OXYGEN,OXYGEN_FLAG_W,SILCAT,SILCAT_FLAG_W,NITRAT,NITRAT_FLAG_W,NITRIT,NITRIT_FLAG_W,PHSPHT,PHSPHT_FLAG_W,CFC-11,CFC-11_FLAG_W,CFC-12,CFC-12_FLAG_W,SF6,SF6_FLAG_W,TCARBN,TCARBN_FLAG_W,ALKALI,ALKALI_FLAG_W,PH_TOT,PH_TOT_FLAG_W,PH_TMP,DELC13,DELC13_FLAG_W,DELC14,DELC14_FLAG_W,C14ERR,DOC,DOC_FLAG_W,TDN,TDN_FLAG_W,TON,TON_FLAG_W,D15N_NO3,D15N_NO3_FLAG_W,BTL_DATE,BTL_TIME,BTL_LAT,BTL_LON,CTDRINKO,CTDRINKO_FLAG_W,CTDFLUOR,CTDFLUOR_FLAG_W,CTDXMISS,CTDXMISS_FLAG_W,CTDBACKSCATTER,CTDBACKSCATTER_FLAG_W,D18O_NO3,D18O_NO3_FLAG_W,DOP,DOP_FLAG_W,CELLCOUNT,CELLCOUNT_FLAG_W,TDP,TDP_FLAG_W,POP,POP_FLAG_W,DATP,DATP_FLAG_W,PATP,PATP_FLAG_W,HPLC,HPLC_FLAG_W,POC,POC_FLAG_W,BEAMAP,BEAMAP_FLAG_W,DOC_NASA,DOC_NASA_FLAG_W,REFTMP,REFTMP_FLAG_W,DOC_NASA_ERROR,TDN_NASA,TDN_NASA_FLAG_W,TDN_NASA_ERROR
,,,,,,,,,,,METERS,DBAR,ITS-90,PSS-78,,PSS-78,,UMOL/KG,,UMOL/KG,,UMOL/KG,,UMOL/KG,,UMOL/KG,,UMOL/KG,,PMOL/KG,,PMOL/KG,,FMOL/KG,,UMOL/KG,,UMOL/KG,,,,DEG C,/MILLE,,/MILLE,,/MILLE,UMOL/KG,,UMOL/KG,,UMOL/KG,,/MILLE,,,,,,VOLTS,,VOLTS,,VOLTS,,VOLTS,,/MILLE,,UMOL/KG,,/LITER,,UMOL/KG,,UMOL/L,,PMOL/L,,PMOL/L,,,,UG/L,,/METER,,UMOL/L,,ITS-90,,UMOL/L,UMOL/L,,UMOL/L
320620170820,        P06,     204,          1,          1,          1,2,20170915,       1418,   -32.5004,  -101.3555,       3640,  3688.1,   1.7923,  34.6906,2,  34.6903,2,  167.208,2, 166.9083,2,   119.1,2,   34.28,2,    0.00,2,    2.37,2,   0.033,2,   0.019,2,   0.0000,2,  2297.4,6,  2391.5,2,   7.5926,2,    25.00, -999.00,9, -999.00,9, -999.00,    35.2,3, -999.00,9,     -999.0,1,  -999.0,1, 20170915,     1418, -32.5002,-101.3571,        0.0,1,      0.061,1,      4.685,1,      0.130,1,     -999.0,1,     -999.0,9,     -999.0,9,     -999.0,9,     -999.0,9,     -999.0,9,     -999.0,9,     -999.0,9,     -999.0,9,     -999.0,9,     -999.0,9,     1.7925,2,     -999.0,     -999.0,9,     -999.0
320620170820,        P06,     204,          1,          2,          2,2,20170915,       1418,   -32.5004,  -101.3555,       3640,  3512.6,   1.7745,  34.6906,2,  34.6908,2,  167.208,2, 167.3691,2,   119.1,2,   34.28,2,    0.00,2,    2.36,2,   0.034,2,   0.020,2,   0.0000,2,  2298.5,2,  2391.4,2,   7.5920,2,    25.00, -999.00,9, -999.00,9, -999.00,    36.0,3, -999.00,9,     -999.0,1,  -999.0,1, 20170915,     1422, -32.5002,-101.3572,        0.0,1,      0.060,1,      4.685,1,      0.130,1,     -999.0,1,     -999.0,9,     -999.0,9,     -999.0,9,     -999.0,9,     -999.0,9,     -999.0,9,     -999.0,9,     -999.0,9,     -999.0,9,     -999.0,9,     1.7746,2,     -999.0,     -999.0,9,     -999.0
320620170820,        P06,     204,          1,          3,          3,2,20170915,       1418,   -32.5004,  -101.3555,       3640,  3349.4,   1.7617,  34.6906,2,  34.6910,2,  167.208,2, 167.2472,2,   119.0,2,   34.24,2,    0.00,2,    2.36,2,   0.030,2,   0.019,2,   0.0000,2,  -999.0,9,  -999.0,9,-999.0000,9,  -999.00, -999.00,9, -999.00,9, -999.00,  -999.0,9, -999.00,9,     -999.0,9,  -999.0,1, 20170915,     1426, -32.5002,-101.3569,        0.0,1,      0.061,1,      4.687,1,      0.128,1,     -999.0,1,     -999.0,9,     -999.0,9,     -999.0,9,     -999.0,9,     -999.0,9,     -999.0,9,     -999.0,9,     -999.0,9,     -999.0,9,     -999.0,9,     1.7621,2,     -999.0,     -999.0,9,     -999.0
320620170820,        P06,     204,          1,          4,          4,2,20170915,       1418,   -32.5004,  -101.3555,       3640,  3040.8,   1.7540,  34.6890,2,  34.6895,2, 167.0494,2, 167.1411,2,   118.7,2,   34.24,2,    0.00,2,    2.36,2,   0.040,2,   0.026,2,   0.0000,2,  -999.0,9,  -999.0,9,-999.0000,9,  -999.00, -999.00,9, -999.00,9, -999.00,    33.6,3, -999.00,9,     -999.0,1,  -999.0,1, 20170915,     1432, -32.5003,-101.3563,        0.0,1,      0.061,1,      4.689,1,      0.138,1,     -999.0,1,     -999.0,9,     -999.0,9,     -999.0,9,     -999.0,9,     -999.0,9,     -999.0,9,     -999.0,9,     -999.0,9,     -999.0,9,     -999.0,9,     1.7522,2,     -999.0,     -999.0,9,     -999.0
320620170820,        P06,     204,          1,          5,          5,2,20170915,       1418,   -32.5004,  -101.3555,       3640,  2838.0,   1.7546,  34.6867,2,  34.6865,2, 167.0062,2, 166.8817,2,   118.5,2,   34.21,2,    0.00,2,    2.37,2,   0.034,2,   0.020,2,   0.0000,2,  2296.2,2,  2386.9,2,   7.5910,2,    25.00, -999.00,9, -999.00,9, -999.00,  -999.0,5, -999.00,9,     -999.0,1,  -999.0,1, 20170915,     1437, -32.5003,-101.3559,        0.0,1,      0.061,1,      4.689,1,      0.127,1,     -999.0,1,     -999.0,9,     -999.0,9,     -999.0,9,     -999.0,9,     -999.0,9,     -999.0,9,     -999.0,9,     -999.0,9,     -999.0,9,     -999.0,9,     1.7516,2,     -999.0,     -999.0,9,     -999.0
320620170820,        P06,     204,          1,          6,          6,2,20170915,       1418,   -32.5004,  -101.3555,       3640,  2633.8,   1.7748,  34.6830,2,  34.6836,2, 166.5207,2, 166.9818,2,   117.6,2,   34.26,2,    0.00,2,    2.37,2,   0.037,2,   0.023,2,   0.0000,2,  -999.0,9,  -999.0,9,-999.0000,9,  -999.00, -999.00,9, -999.00,9, -999.00,  -999.0,9, -999.00,9,     -999.0,9,  -999.0,1, 20170915,     1441, -32.5004,-101.3557,        0.0,1,      0.062,1,      4.689,1,      0.126,1,     -999.0,1,     -999.0,9,     -999.0,9,     -999.0,9,     -999.0,9,     -999.0,9,     -999.0,9,     -999.0,9,     -999.0,9,     -999.0,9,     -999.0,9,     1.7699,2,     -999.0,     -999.0,9,     -999.0
320620170820,        P06,     204,          1,          7,          7,2,20170915,       1418,   -32.5004,  -101.3555,       3640,  2431.3,   1.8511,  34.6738,2,  34.6753,2, 163.7362,2, 163.5768,2,   116.1,2,   34.44,2,    0.00,2,    2.40,2,   0.036,2,   0.021,2,   0.0000,2,  2294.3,2,  2383.1,2,   7.5825,2,    25.00, -999.00,9, -999.00,9, -999.00,    34.4,2, -999.00,9,     -999.0,1,  -999.0,1, 20170915,     1446, -32.5004,-101.3556,        0.0,1,      0.061,1,      4.689,1,      0.127,1,     -999.0,1,     -999.0,9,     -999.0,9,     -999.0,9,     -999.0,9,     -999.0,9,     -999.0,9,     -999.0,9,     -999.0,9,     -999.0,9,     -999.0,9,     1.8325,2,     -999.0,     -999.0,9,     -999.0
320620170820,        P06,     204,          1,          8,          8,2,20170915,       1418,   -32.5004,  -101.3555,       3640,  2225.8,   1.9851,  34.6575,2,  34.6606,2, 157.7657,2, 157.5864,2,   112.9,2,   34.87,2,    0.00,2,    2.42,2,   0.033,2,   0.018,2,   0.0000,2,  2295.1,2,  2381.6,2,   7.5725,2,    25.00, -999.00,9, -999.00,9, -999.00,  -999.0,9, -999.00,9,     -999.0,9,  -999.0,1, 20170915,     1450, -32.5004,-101.3557,        0.0,1,      0.061,1,      4.689,1,      0.129,1,     -999.0,1,     -999.0,9,     -999.0,9,     -999.0,9,     -999.0,9,     -999.0,9,     -999.0,9,     -999.0,9,     -999.0,9,     -999.0,9,     -999.0,9,     1.9611,2,     -999.0,     -999.0,9,     -999.0
320620170820,        P06,     204,          1,          9,          9,2,20170915,       1418,   -32.5004,  -101.3555,       3640,  2023.4,   2.1764,  34.6334,2,  34.6384,2, 151.2352,2, 151.4156,2,   109.0,2,   35.41,2,    0.00,2,    2.47,2,   0.031,2,   0.017,2,   0.0000,2,  2295.6,2,  2377.1,6,   7.5619,2,    25.00, -999.00,9, -999.00,9, -999.00,    36.0,2, -999.00,9,     -999.0,1,  -999.0,1, 20170915,     1455, -32.5004,-101.3557,        0.0,1,      0.061,1,      4.689,1,      0.129,1,     -999.0,1,     -999.0,9,     -999.0,9,     -999.0,9,     -999.0,9,     -999.0,9,     -999.0,9,     -999.0,9,     -999.0,9,     -999.0,9,     -999.0,9,     2.1344,2,     -999.0,     -999.0,9,     -999.0
320620170820,        P06,     204,          1,         10,         10,2,20170915,       1418,   -32.5004,  -101.3555,       3640,  1820.5,   2.4063,  34.6049,2,  34.6052,2, 146.7068,2, 146.5616,2,   101.6,2,   35.89,2,    0.00,2,    2.50,2,   0.032,2,   0.020,2,   0.0000,2,  2290.5,2,  2368.3,2,   7.5531,6,    25.00, -999.00,9, -999.00,9, -999.00,  -999.0,9, -999.00,9,     -999.0,9,  -999.0,1, 20170915,     1459, -32.5004,-101.3554,        0.0,1,      0.061,1,      4.689,1,      0.130,1,     -999.0,1,     -999.0,9,     -999.0,9,     -999.0,9,     -999.0,9,     -999.0,9,     -999.0,9,     -999.0,9,     -999.0,9,     -999.0,9,     -999.0,9,     2.3900,2,     -999.0,     -999.0,9,     -999.0
320620170820,        P06,     204,          1,         11,         11,2,20170915,       1418,   -32.5004,  -101.3555,       3640,  1718.2,   2.5854,  34.5895,2,  34.5904,2, 140.2611,2, 139.5113,2,    99.0,2,   36.49,2,    0.00,2,    2.55,2,   0.032,2,   0.019,2,   0.0000,2,  2291.9,2,  2366.2,2,   7.5400,2,    25.00, -999.00,9, -999.00,9, -999.00,    36.0,2, -999.00,9,     -999.0,1,  -999.0,1, 20170915,     1502, -32.5004,-101.3555,        0.0,1,      0.062,1,      4.688,1,      0.130,1,     -999.0,1,     -999.0,9,     -999.0,9,     -999.0,9,     -999.0,9,     -999.0,9,     -999.0,9,     -999.0,9,     -999.0,9,     -999.0,9,     -999.0,9,     2.5615,2,     -999.0,     -999.0,9,     -999.0
320620170820,        P06,     204,          1,         12,         12,2,20170915,       1418,   -32.5004,  -101.3555,       3640,  1616.1,   2.7274,  34.5760,2,  34.5759,2, 132.1209,2, 132.1246,2,    96.1,2,   37.11,2,    0.00,2,    2.60,2,   0.031,2,   0.019,2,   0.0000,2,  2294.5,2,  2362.7,2,   7.5281,2,    25.00, -999.00,9, -999.00,9, -999.00,  -999.0,9, -999.00,9,     -999.0,9,  -999.0,1, 20170915,     1505, -32.5004,-101.3555,        0.0,1,      0.061,1,      4.688,1,      0.131,1,     -999.0,1,     -999.0,9,     -999.0,9,     -999.0,9,     -999.0,9,     -999.0,9,     -999.0,9,     -999.0,9,     -999.0,9,     -999.0,9,     -999.0,9,     2.7244,2,     -999.0,     -999.0,9,     -999.0
320620170820,        P06,     204,          1,         13,         13,2,20170915,       1418,   -32.5004,  -101.3555,       3640,  1515.2,   2.8991,  34.5592,2,  34.5584,2, 130.0709,2, 130.4341,2,    91.4,2,   37.34,2,    0.00,2,    2.62,2,   0.032,2,   0.019,2,   0.0000,2,  2290.0,2,  2357.0,2,   7.5248,2,    25.00, -999.00,9, -999.00,9, -999.00,    34.6,2, -999.00,9,     -999.0,1,  -999.0,1, 20170915,     1507, -32.5004,-101.3553,        0.0,1,      0.061,1,      4.687,1,      0.132,1,     -999.0,1,     -999.0,9,     -999.0,9,     -999.0,9,     -999.0,9,     -999.0,9,     -999.0,9,     -999.0,9,     -999.0,9,     -999.0,9,     -999.0,9,     2.9095,2,     -999.0,     -999.0,9,     -999.0
320620170820,        P06,     204,          1,         14,         14,2,20170915,       1418,   -32.5004,  -101.3555,       3640,  1413.9,   3.1043,  34.5403,2,  34.5386,2, 123.8957,2, 124.2496,2,    86.6,2,   37.93,2,    0.00,2,    2.66,2,   0.034,2,   0.021,2,   0.0000,2,  2288.6,2,  2352.3,2,   7.5123,2,    25.00, -999.00,9, -999.00,9, -999.00,  -999.0,9, -999.00,9,     -999.0,9,  -999.0,1, 20170915,     1510, -32.5004,-101.3550,        0.0,1,      0.062,1,      4.687,1,      0.132,1,     -999.0,1,     -999.0,9,     -999.0,9,     -999.0,9,     -999.0,9,     -999.0,9,     -999.0,9,     -999.0,9,     -999.0,9,     -999.0,9,     -999.0,9,     3.1157,2,     -999.0,     -999.0,9,     -999.0
320620170820,        P06,     204,          1,         15,         15,2,20170915,       1418,   -32.5004,  -101.3555,       3640,  1312.8,   3.2513,  34.5193,2,  34.5146,2, 122.3811,2, 122.3945,2,    80.4,2,   38.14,2,    0.00,2,    2.68,2,   0.036,2,   0.022,2,   0.0000,2,  2284.4,6,  2345.4,2,   7.5050,2,    25.00, -999.00,9, -999.00,9, -999.00,    35.9,2, -999.00,9,     -999.0,1,  -999.0,1, 20170915,     1513, -32.5004,-101.3548,        0.0,1,      0.062,1,      4.688,1,      0.133,1,     -999.0,1,     -999.0,9,     -999.0,9,     -999.0,9,     -999.0,9,     -999.0,9,     -999.0,9,     -999.0,9,     -999.0,9,     -999.0,9,     -999.0,9,     3.2818,2,     -999.0,     -999.0,9,     -999.0
320620170820,        P06,     204,          1,         16,         16,2,20170915,       1418,   -32.5004,  -101.3555,       3640,  1211.4,   3.4039,  34.4781,2,  34.4697,2, 128.7985,2, 129.1116,2,    69.8,2,   37.75,2,    0.00,2,    2.62,2,   0.059,2,   0.039,2,   0.0000,2,  2271.2,2,  2333.1,2,   7.5090,2,    25.00, -999.00,9, -999.00,9, -999.00,    36.0,2, -999.00,9,     -999.0,1,  -999.0,1, 20170915,     1515, -32.5004,-101.3547,        0.0,1,      0.061,1,      4.688,1,      0.133,1,     -999.0,1,     -999.0,9,     -999.0,9,     -999.0,9,     -999.0,9,     -999.0,9,     -999.0,9,     -999.0,9,     -999.0,9,     -999.0,9,     -999.0,9,     3.4262,2,     -999.0,     -999.0,9,     -999.0
320620170820,        P06,     204,          1,         17,         17,2,20170915,       1418,   -32.5004,  -101.3555,       3640,  1109.7,   3.5831,  34.4094,2,  34.3953,2, 153.6356,2, 153.3512,2,    53.1,2,   36.03,2,    0.00,2,    2.47,2,   0.214,2,   0.123,2,   0.0050,2,  -999.0,9,  -999.0,9,-999.0000,9,  -999.00, -999.00,9, -999.00,9, -999.00,  -999.0,9, -999.00,9,     -999.0,9,  -999.0,1, 20170915,     1518, -32.5004,-101.3549,        0.0,1,      0.061,1,      4.688,1,      0.133,1,     -999.0,1,     -999.0,9,     -999.0,9,     -999.0,9,     -999.0,9,     -999.0,9,     -999.0,9,     -999.0,9,     -999.0,9,     -999.0,9,     -999.0,9,     3.6379,2,     -999.0,     -999.0,9,     -999.0
320620170820,        P06,     204,          1,         18,         18,2,20170915,       1418,   -32.5004,  -101.3555,       3640,  1008.2,   3.9369,  34.3451,2,  34.3439,2, 172.0071,2, 172.3392,2,    41.2,2,   34.32,2,    0.00,2,    2.35,2,   0.570,2,   0.292,2,   0.0520,2,  2222.1,2,  2302.2,2,   7.5648,2,    25.00, -999.00,9, -999.00,9, -999.00,    37.1,2, -999.00,9,     -999.0,1,  -999.0,1, 20170915,     1521, -32.5004,-101.3549,        0.0,1,      0.061,1,      4.687,1,      0.134,1,     -999.0,1,     -999.0,9,     -999.0,9,     -999.0,9,     -999.0,9,     -999.0,9,     -999.0,9,     -999.0,9,     -999.0,9,     -999.0,9,     -999.0,9,     3.9318,2,     -999.0,     -999.0,9,     -999.0
320620170820,        P06,     204,          1,         19,         19,2,20170915,       1418,   -32.5004,  -101.3555,       3640,   907.3,   4.4261,  34.2979,2,  34.2958,2,  194.758,2, 194.3698,2,    28.6,2,   31.84,2,    0.00,2,    2.16,2,   1.333,2,   0.642,2,   0.1380,2,  2198.1,2,  2290.1,2,   7.6004,2,    25.00, -999.00,9, -999.00,9, -999.00,    39.8,2, -999.00,9,     -999.0,1,  -999.0,1, 20170915,     1524, -32.5005,-101.3547,        0.0,1,      0.060,1,      4.688,1,      0.134,1,     -999.0,1,     -999.0,9,     -999.0,9,     -999.0,9,     -999.0,9,     -999.0,9,     -999.0,9,     -999.0,9,     -999.0,9,     -999.0,9,     -999.0,9,     4.4501,2,     -999.0,     -999.0,9,     -999.0
320620170820,        P06,     204,          1,         20,         20,2,20170915,       1418,   -32.5004,  -101.3555,       3640,   806.5,   4.9584,  34.2638,2,  34.2589,2, 222.3996,2, 221.3067,2,    16.8,2,   28.52,2,    0.00,2,    1.93,2,   2.691,2,   1.292,2,   0.3880,2,  -999.0,9,  -999.0,9,-999.0000,9,  -999.00, -999.00,9, -999.00,9, -999.00,  -999.0,9, -999.00,9,     -999.0,9,  -999.0,1, 20170915,     1526, -32.5005,-101.3545,        0.0,1,      0.059,1,      4.688,1,      0.134,1,     -999.0,1,     -999.0,9,     -999.0,9,     -999.0,9,     -999.0,9,     -999.0,9,     -999.0,9,     -999.0,9,     -999.0,9,     -999.0,9,     -999.0,9,     5.0672,2,     -999.0,     -999.0,9,     -999.0
320620170820,        P06,     204,          1,         21,         21,2,20170915,       1418,   -32.5004,  -101.3555,       3640,   705.1,   5.4078,  34.2544,2,  34.2538,2, 236.1575,2, 236.7939,2,    11.8,2,   26.32,2,    0.00,2,    1.77,2,   3.389,2,   1.681,2,   0.6130,2,  2159.7,2,  2276.2,2,   7.6701,2,    25.00, -999.00,9, -999.00,9, -999.00,    39.4,2, -999.00,9,     -999.0,1,  -999.0,1, 20170915,     1529, -32.5005,-101.3547,        0.0,1,      0.060,1,      4.688,1,      0.133,1,     -999.0,1,     -999.0,9,     -999.0,9,     -999.0,9,     -999.0,9,     -999.0,9,     -999.0,9,     -999.0,9,     -999.0,9,     -999.0,9,     -999.0,9,     5.4615,2,     -999.0,     -999.0,9,     -999.0
320620170820,        P06,     204,          1,         22,         22,2,20170915,       1418,   -32.5004,  -101.3555,       3640,   603.6,   5.8119,  34.2652,2,  34.2646,2, 236.7499,2, 237.3834,2,     9.8,2,   25.41,2,    0.00,2,    1.72,2,   3.635,2,   1.868,2,   0.8150,2,  2156.6,2,  2274.2,2,   7.6713,2,    25.00, -999.00,9, -999.00,9, -999.00,  -999.0,9, -999.00,9,     -999.0,9,  -999.0,1, 20170915,     1532, -32.5004,-101.3549,        0.0,1,      0.059,1,      4.686,1,      0.135,1,     -999.0,1,     -999.0,9,     -999.0,9,     -999.0,9,     -999.0,9,     -999.0,9,     -999.0,9,     -999.0,9,     -999.0,9,     -999.0,9,     -999.0,9,     5.8353,2,     -999.0,     -999.0,9,     -999.0
320620170820,        P06,     204,          1,         23,         23,2,20170915,       1418,   -32.5004,  -101.3555,       3640,   503.2,   6.2990,  34.2881,2,  34.2866,2, 230.1157,2, 230.9792,2,     8.7,2,   24.73,2,    0.00,2,    1.66,2,   3.683,2,   1.931,2,   0.9390,2,  2158.5,2,  2272.6,2,   7.6672,2,    25.00, -999.00,9, -999.00,9, -999.00,    39.2,2, -999.00,9,     -999.0,1,  -999.0,1, 20170915,     1535, -32.5004,-101.3552,        0.0,1,      0.060,1,      4.685,1,      0.137,1,     -999.0,1,     -999.0,9,     -999.0,9,     -999.0,9,     -999.0,9,     -999.0,9,     -999.0,9,     -999.0,9,     -999.0,9,     -999.0,9,     -999.0,9,     6.3183,2,     -999.0,     -999.0,9,     -999.0
320620170820,        P06,     204,          1,         24,         24,2,20170915,       1418,   -32.5004,  -101.3555,       3640,   453.2,   6.6737,  34.2902,2,  34.2868,2,  206.717,2, 208.5742,2,     9.2,2,   25.93,2,    0.00,2,    1.77,2,   3.563,2,   1.875,2,   0.9350,2,  2169.8,2,  2270.8,2,   7.6317,2,    25.00, -999.00,9, -999.00,9, -999.00,    39.8,3, -999.00,9,     -999.0,1,  -999.0,1, 20170915,     1536, -32.5004,-101.3553,        0.0,1,      0.060,1,      4.684,1,      0.136,1,     -999.0,1,     -999.0,9,     -999.0,9,     -999.0,9,     -999.0,9,     -999.0,9,     -999.0,9,     -999.0,9,     -999.0,9,     -999.0,9,     -999.0,9,     6.6198,2,     -999.0,     -999.0,9,     -999.0
320620170820,        P06,     204,          1,         25,         25,2,20170915,       1418,   -32.5004,  -101.3555,       3640,   402.8,   7.2403,  34.2767,2,  34.2797,2, 211.2575,2, 208.8822,2,     7.7,2,   24.56,2,    0.00,2,    1.69,2,   3.557,2,   1.895,2,   1.0200,2,  2164.3,2,  2272.5,2,   7.6431,2,    25.00, -999.00,9, -999.00,9, -999.00,    42.8,3, -999.00,9,     -999.0,1,  -999.0,1, 20170915,     1538, -32.5004,-101.3553,        0.0,1,      0.061,1,      4.684,1,      0.132,1,     -999.0,1,     -999.0,9,     -999.0,9,     -999.0,9,     -999.0,9,     -999.0,9,     -999.0,9,     -999.0,9,     -999.0,9,     -999.0,9,     -999.0,9,     7.1162,2,     -999.0,     -999.0,9,     -999.0
320620170820,        P06,     204,          1,         26,         26,2,20170915,       1418,   -32.5004,  -101.3555,       3640,   352.7,   8.1170,  34.2755,2,  34.2721,2, 225.0543,2, 221.0079,2,     4.8,2,   21.27,2,    0.00,2,    1.47,2,   3.558,2,   1.919,2,   1.0640,2,  2147.0,2,  2268.0,2,   7.6873,2,    25.00, -999.00,9, -999.00,9, -999.00,  -999.0,9, -999.00,9,     -999.0,9,  -999.0,1, 20170915,     1540, -32.5004,-101.3553,        0.0,1,      0.060,1,      4.683,1,      0.133,1,     -999.0,1,     -999.0,9,     -999.0,9,     -999.0,9,     -999.0,9,     -999.0,9,     -999.0,9,     -999.0,9,     -999.0,9,     -999.0,9,     -999.0,9,     7.9872,2,     -999.0,     -999.0,9,     -999.0