BOTTLE,20240211CCHSIOCBG
EXPOCODE,SECT_ID,STNNBR,CASTNO,SAMPNO,BTLNBR,BTLNBR_FLAG_W,DATE,TIME,LATITUDE,LONGITUDE,DEPTH,CTDPRS,CTDTMP,CTDSAL,CTDSAL_FLAG_W,SALNTY,SALNTY_FLAG_W,CTDOXY,CTDOXY_FLAG_W,OXYGEN,OXYGEN_FLAG_W,SILCAT,SILCAT_FLAG_W,NITRAT,NITRAT_FLAG_W,NITRIT,NITRIT_FLAG_W,PHSPHT,PHSPHT_FLAG_W,CFC-11,CFC-11_FLAG_W,CFC-12,CFC-12_FLAG_W,SF6,SF6_FLAG_W,TCARBN,TCARBN_FLAG_W,ALKALI,ALKALI_FLAG_W,PH_TOT,PH_TOT_FLAG_W,PH_TMP,DELC13,DELC13_FLAG_W,DELC14,DELC14_FLAG_W,C14ERR,DOC,DOC_FLAG_W,TDN,TDN_FLAG_W,TON,TON_FLAG_W,D15N_NO3,D15N_NO3_FLAG_W,BTL_DATE,BTL_TIME,BTL_LAT,BTL_LON,CTDRINKO,CTDRINKO_FLAG_W,CTDFLUOR,CTDFLUOR_FLAG_W,CTDXMISS,CTDXMISS_FLAG_W,CTDBACKSCATTER,CTDBACKSCATTER_FLAG_W,D18O_NO3,D18O_NO3_FLAG_W,DOP,DOP_FLAG_W,CELLCOUNT,CELLCOUNT_FLAG_W,TDP,TDP_FLAG_W,POP,POP_FLAG_W,DATP,DATP_FLAG_W,PATP,PATP_FLAG_W,HPLC,HPLC_FLAG_W,POC,POC_FLAG_W,BEAMAP,BEAMAP_FLAG_W,DOC_NASA,DOC_NASA_FLAG_W,REFTMP,REFTMP_FLAG_W,DOC_NASA_ERROR,TDN_NASA,TDN_NASA_FLAG_W,TDN_NASA_ERROR
,,,,,,,,,,,METERS,DBAR,ITS-90,PSS-78,,PSS-78,,UMOL/KG,,UMOL/KG,,UMOL/KG,,UMOL/KG,,UMOL/KG,,UMOL/KG,,PMOL/KG,,PMOL/KG,,FMOL/KG,,UMOL/KG,,UMOL/KG,,,,DEG C,/MILLE,,/MILLE,,/MILLE,UMOL/KG,,UMOL/KG,,UMOL/KG,,/MILLE,,,,,,VOLTS,,VOLTS,,VOLTS,,VOLTS,,/MILLE,,UMOL/KG,,/LITER,,UMOL/KG,,UMOL/L,,PMOL/L,,PMOL/L,,,,UG/L,,/METER,,UMOL/L,,ITS-90,,UMOL/L,UMOL/L,,UMOL/L
320620170820,        P06,     165,          1,          1,          1,2,20170903,       1655,   -32.4997,  -130.5783,       4311,  4376.3,   1.5035,  34.6953,2,  34.6946,3,  181.165,2, 181.8126,2,   122.1,2,   33.44,2,    0.00,2,    2.32,2,   0.032,2,   0.016,2,   0.0000,2,  2287.8,6,  2389.0,2,   7.6018,2,    25.00, -999.00,9, -999.00,9, -999.00,  -999.0,9, -999.00,9,     -999.0,9,  -999.0,1, 20170903,     1655, -32.4999,-130.5782,        0.0,1,      0.061,1,      4.692,1,      0.126,1,     -999.0,1,     -999.0,9,     -999.0,9,     -999.0,9,     -999.0,9,     -999.0,9,     -999.0,9,     -999.0,9,     -999.0,9,     -999.0,9,     -999.0,9,     1.5041,2,     -999.0,     -999.0,9,     -999.0
320620170820,        P06,     165,          1,          2,          2,2,20170903,       1655,   -32.4997,  -130.5783,       4311,  4174.3,   1.5022,  34.6941,2,  34.6922,2, 180.4568,2, 180.7473,2,   122.4,2,   33.54,2,    0.00,2,    2.33,2,   0.039,2,   0.027,2,   0.0000,2,  -999.0,9,  -999.0,9,-999.0000,9,  -999.00, -999.00,9, -999.00,9, -999.00,  -999.0,9, -999.00,9,     -999.0,9,  -999.0,1, 20170903,     1659, -32.4999,-130.5784,        0.0,1,      0.061,1,      4.693,1,      0.125,1,     -999.0,1,     -999.0,9,     -999.0,9,     -999.0,9,     -999.0,9,     -999.0,9,     -999.0,9,     -999.0,9,     -999.0,9,     -999.0,9,     -999.0,9,     1.5023,2,     -999.0,     -999.0,9,     -999.0
320620170820,        P06,     165,          1,          3,          3,2,20170903,       1655,   -32.4997,  -130.5783,       4311,  3962.9,   1.5424,  34.6901,2,  34.6905,2, 178.5648,3, 177.5465,2,   122.8,2,   33.65,2,    0.00,2,    2.34,2,   0.030,2,   0.019,2,   0.0000,2,  2292.7,2,  2392.3,2,   7.5990,2,    25.00, -999.00,9, -999.00,9, -999.00,  -999.0,9, -999.00,9,     -999.0,9,  -999.0,1, 20170903,     1703, -32.4999,-130.5785,        0.0,1,      0.061,1,      4.694,1,      0.124,1,     -999.0,1,     -999.0,9,     -999.0,9,     -999.0,9,     -999.0,9,     -999.0,9,     -999.0,9,     -999.0,9,     -999.0,9,     -999.0,9,     -999.0,9,     1.5378,2,     -999.0,     -999.0,9,     -999.0
320620170820,        P06,     165,          1,          4,          4,2,20170903,       1655,   -32.4997,  -130.5783,       4311,  3656.8,   1.5615,  34.6867,2,  34.6851,2,   175.32,2, 174.5956,2,   123.2,2,   33.84,2,    0.00,2,    2.35,2,   0.035,2,   0.026,2,   0.0000,2,  -999.0,9,  -999.0,9,-999.0000,9,  -999.00, -999.00,9, -999.00,9, -999.00,  -999.0,9, -999.00,9,     -999.0,9,  -999.0,1, 20170903,     1709, -32.4999,-130.5784,        0.0,1,      0.061,1,      4.694,1,      0.124,1,     -999.0,1,     -999.0,9,     -999.0,9,     -999.0,9,     -999.0,9,     -999.0,9,     -999.0,9,     -999.0,9,     -999.0,9,     -999.0,9,     -999.0,9,     1.5599,2,     -999.0,     -999.0,9,     -999.0
320620170820,        P06,     165,          1,          5,          5,2,20170903,       1655,   -32.4997,  -130.5783,       4311,  3348.6,   1.5837,  34.6832,2,  34.6814,2, 172.0115,2, 172.5099,2,   123.3,2,   33.95,2,    0.00,2,    2.36,2,   0.032,2,   0.021,2,   0.0000,2,  2295.7,2,  2395.4,2,   7.5944,2,    25.00, -999.00,9, -999.00,9, -999.00,  -999.0,9, -999.00,9,     -999.0,9,  -999.0,1, 20170903,     1715, -32.4998,-130.5780,        0.0,1,      0.061,1,      4.695,1,      0.123,1,     -999.0,1,     -999.0,9,     -999.0,9,     -999.0,9,     -999.0,9,     -999.0,9,     -999.0,9,     -999.0,9,     -999.0,9,     -999.0,9,     -999.0,9,     1.5822,2,     -999.0,     -999.0,9,     -999.0
320620170820,        P06,     165,          1,          6,          6,2,20170903,       1655,   -32.4997,  -130.5783,       4311,  3042.3,   1.6298,  34.6779,2,  34.6763,2, 167.8612,2,  168.225,2,   123.7,2,   34.34,2,    0.00,2,    2.39,2,   0.032,2,   0.021,2,   0.0000,2,  -999.0,9,  -999.0,9,-999.0000,9,  -999.00, -999.00,9, -999.00,9, -999.00,  -999.0,9, -999.00,9,     -999.0,9,  -999.0,1, 20170903,     1721, -32.4998,-130.5781,        0.0,1,      0.061,1,      4.695,1,      0.124,1,     -999.0,1,     -999.0,9,     -999.0,9,     -999.0,9,     -999.0,9,     -999.0,9,     -999.0,9,     -999.0,9,     -999.0,9,     -999.0,9,     -999.0,9,     1.6265,2,     -999.0,     -999.0,9,     -999.0
320620170820,        P06,     165,          1,          7,          7,2,20170903,       1655,   -32.4997,  -130.5783,       4311,  2786.0,   1.6909,  34.6722,2,  34.6698,2, 164.2558,2, 164.8379,2,   122.7,2,   34.46,2,    0.00,2,    2.40,2,   0.033,2,   0.022,2,   0.0000,2,  2301.9,2,  2395.3,2,   7.5858,2,    25.00, -999.00,9, -999.00,9, -999.00,  -999.0,9, -999.00,9,     -999.0,9,  -999.0,1, 20170903,     1727, -32.4998,-130.5785,        0.0,1,      0.061,1,      4.695,1,      0.128,1,     -999.0,1,     -999.0,9,     -999.0,9,     -999.0,9,     -999.0,9,     -999.0,9,     -999.0,9,     -999.0,9,     -999.0,9,     -999.0,9,     -999.0,9,     1.6856,2,     -999.0,     -999.0,9,     -999.0
320620170820,        P06,     165,          1,          8,          8,2,20170903,       1655,   -32.4997,  -130.5783,       4311,  2533.2,   1.7768,  34.6642,2,  34.6622,2, 160.7347,2, 160.1863,2,   121.8,2,   34.78,2,    0.00,2,    2.43,2,   0.032,2,   0.024,2,   0.0000,2,  -999.0,9,  -999.0,9,-999.0000,9,  -999.00, -999.00,9, -999.00,9, -999.00,  -999.0,9, -999.00,9,     -999.0,9,  -999.0,1, 20170903,     1732, -32.4998,-130.5783,        0.0,1,      0.061,1,      4.695,1,      0.127,1,     -999.0,1,     -999.0,9,     -999.0,9,     -999.0,9,     -999.0,9,     -999.0,9,     -999.0,9,     -999.0,9,     -999.0,9,     -999.0,9,     -999.0,9,     1.7777,2,     -999.0,     -999.0,9,     -999.0
320620170820,        P06,     165,          1,          9,          9,2,20170903,       1655,   -32.4997,  -130.5783,       4311,  2279.5,   1.8927,  34.6537,2,  34.6517,2, 158.2511,3,  162.027,2,   118.8,2,   34.95,2,    0.00,2,    2.45,2,   0.033,2,   0.023,2,   0.0000,2,  2301.3,6,  2394.3,2,   7.5765,2,    25.00, -999.00,9, -999.00,9, -999.00,  -999.0,9, -999.00,9,     -999.0,9,  -999.0,1, 20170903,     1737, -32.4998,-130.5782,        0.0,1,      0.061,1,      4.696,1,      0.127,1,     -999.0,1,     -999.0,9,     -999.0,9,     -999.0,9,     -999.0,9,     -999.0,9,     -999.0,9,     -999.0,9,     -999.0,9,     -999.0,9,     -999.0,9,     1.8933,2,     -999.0,     -999.0,9,     -999.0
320620170820,        P06,     165,          1,         10,         10,2,20170903,       1655,   -32.4997,  -130.5783,       4311,  2022.5,   2.0448,  34.6401,2,  34.6390,2, 156.8438,2,  156.514,2,   112.8,2,   35.00,2,    0.00,2,    2.45,2,   0.040,2,   0.029,2,   0.0000,2,  -999.0,9,  -999.0,9,-999.0000,9,  -999.00, -999.00,9, -999.00,9, -999.00,  -999.0,9, -999.00,9,     -999.0,9,  -999.0,1, 20170903,     1743, -32.4998,-130.5778,        0.0,1,      0.061,1,      4.695,1,      0.129,1,     -999.0,1,     -999.0,9,     -999.0,9,     -999.0,9,     -999.0,9,     -999.0,9,     -999.0,9,     -999.0,9,     -999.0,9,     -999.0,9,     -999.0,9,     2.0399,2,     -999.0,     -999.0,9,     -999.0
320620170820,        P06,     165,          1,         11,         11,2,20170903,       1655,   -32.4997,  -130.5783,       4311,  1818.7,   2.2145,  34.6204,2,  34.6183,2, 157.1258,2, 157.3965,2,   104.6,2,   34.94,2,    0.00,2,    2.44,2,   0.040,2,   0.032,2,   0.0000,2,  2288.6,2,  2376.7,6,   7.5703,2,    25.00, -999.00,9, -999.00,9, -999.00,  -999.0,9, -999.00,9,     -999.0,9,  -999.0,1, 20170903,     1747, -32.4998,-130.5777,        0.0,1,      0.061,1,      4.695,1,      0.129,1,     -999.0,1,     -999.0,9,     -999.0,9,     -999.0,9,     -999.0,9,     -999.0,9,     -999.0,9,     -999.0,9,     -999.0,9,     -999.0,9,     -999.0,9,     2.2097,2,     -999.0,     -999.0,9,     -999.0
320620170820,        P06,     165,          1,         12,         12,2,20170903,       1655,   -32.4997,  -130.5783,       4311,  1618.9,   2.4700,  34.5807,2,  34.5745,2, 161.7683,2, 161.3939,2,    88.5,2,   34.71,2,    0.00,2,    2.41,2,   0.085,2,   0.057,2,   0.0000,2,  -999.0,9,  -999.0,9,-999.0000,9,  -999.00, -999.00,9, -999.00,9, -999.00,  -999.0,9, -999.00,9,     -999.0,9,  -999.0,1, 20170903,     1751, -32.4998,-130.5778,        0.0,1,      0.061,1,      4.695,1,      0.129,1,     -999.0,1,     -999.0,9,     -999.0,9,     -999.0,9,     -999.0,9,     -999.0,9,     -999.0,9,     -999.0,9,     -999.0,9,     -999.0,9,     -999.0,9,     2.4902,2,     -999.0,     -999.0,9,     -999.0
320620170820,        P06,     165,          1,         13,         13,2,20170903,       1655,   -32.4997,  -130.5783,       4311,  1515.4,   2.6067,  34.5508,2,  34.5368,2, 165.0958,2,  165.314,2,    79.1,2,   34.51,2,    0.00,2,    2.39,2,   0.139,2,   0.086,2,   0.0000,2,  2260.7,2,  2347.4,2,   7.5665,6,    25.00, -999.00,9, -999.00,9, -999.00,  -999.0,9, -999.00,9,     -999.0,9,  -999.0,1, 20170903,     1754, -32.4998,-130.5778,        0.0,1,      0.061,1,      4.695,1,      0.129,1,     -999.0,1,     -999.0,9,     -999.0,9,     -999.0,9,     -999.0,9,     -999.0,9,     -999.0,9,     -999.0,9,     -999.0,9,     -999.0,9,     -999.0,9,     2.6559,2,     -999.0,     -999.0,9,     -999.0
320620170820,        P06,     165,          1,         14,         14,2,20170903,       1655,   -32.4997,  -130.5783,       4311,  1414.5,   2.7906,  34.5082,2,  34.4952,2, 169.9135,2, 169.7536,2,    70.2,2,   34.33,2,    0.00,2,    2.39,2,   0.233,2,   0.136,2,   0.0000,2,  -999.0,9,  -999.0,9,-999.0000,9,  -999.00, -999.00,9, -999.00,9, -999.00,  -999.0,9, -999.00,9,     -999.0,9,  -999.0,1, 20170903,     1757, -32.4998,-130.5778,        0.0,1,      0.061,1,      4.695,1,      0.129,1,     -999.0,1,     -999.0,9,     -999.0,9,     -999.0,9,     -999.0,9,     -999.0,9,     -999.0,9,     -999.0,9,     -999.0,9,     -999.0,9,     -999.0,9,     2.8400,2,     -999.0,     -999.0,9,     -999.0
320620170820,        P06,     165,          1,         15,         15,2,20170903,       1655,   -32.4997,  -130.5783,       4311,  1210.4,   3.4143,  34.4055,2,  34.4051,3, 178.3865,2, 179.2321,2,    52.9,2,   33.65,2,    0.00,2,    2.31,2,   0.464,2,   0.264,2,   0.0640,2,  2231.9,2,  2317.4,2,   7.5788,2,    25.00, -999.00,9, -999.00,9, -999.00,  -999.0,9, -999.00,9,     -999.0,9,  -999.0,1, 20170903,     1801, -32.4998,-130.5780,        0.0,1,      0.060,1,      4.696,1,      0.128,1,     -999.0,1,     -999.0,9,     -999.0,9,     -999.0,9,     -999.0,9,     -999.0,9,     -999.0,9,     -999.0,9,     -999.0,9,     -999.0,9,     -999.0,9,     3.3948,2,     -999.0,     -999.0,9,     -999.0
320620170820,        P06,     165,          1,         16,         16,2,20170903,       1655,   -32.4997,  -130.5783,       4311,  1008.4,   4.4226,  34.3221,2,  34.3233,2, 200.9121,2, 200.4169,2,    32.2,2,   31.04,2,    0.00,2,    2.11,2,   1.244,2,   0.659,2,   0.1480,2,  -999.0,9,  -999.0,9,-999.0000,9,  -999.00, -999.00,9, -999.00,9, -999.00,  -999.0,9, -999.00,9,     -999.0,9,  -999.0,1, 20170903,     1806, -32.4998,-130.5784,        0.0,1,      0.060,1,      4.695,1,      0.130,1,     -999.0,1,     -999.0,9,     -999.0,9,     -999.0,9,     -999.0,9,     -999.0,9,     -999.0,9,     -999.0,9,     -999.0,9,     -999.0,9,     -999.0,9,     4.3362,2,     -999.0,     -999.0,9,     -999.0
320620170820,        P06,     165,          1,         17,         17,2,20170903,       1655,   -32.4997,  -130.5783,       4311,   908.1,   5.1075,  34.3023,2,  34.2989,2, 215.5831,2, 214.9246,2,    21.1,2,   28.54,2,    0.00,2,    1.93,2,   1.977,2,   1.010,2,   0.3170,2,  2176.5,2,  2288.8,2,   7.6459,2,    25.00, -999.00,9, -999.00,9, -999.00,  -999.0,9, -999.00,9,     -999.0,9,  -999.0,1, 20170903,     1809, -32.4998,-130.5785,        0.0,1,      0.059,1,      4.695,1,      0.130,1,     -999.0,1,     -999.0,9,     -999.0,9,     -999.0,9,     -999.0,9,     -999.0,9,     -999.0,9,     -999.0,9,     -999.0,9,     -999.0,9,     -999.0,9,     5.0758,2,     -999.0,     -999.0,9,     -999.0
320620170820,        P06,     165,          1,         18,         18,2,20170903,       1655,   -32.4997,  -130.5783,       4311,   805.5,   5.6060,  34.2980,2,  34.2954,2, 226.1944,2, 227.1499,2,    15.0,2,   26.61,2,    0.00,2,    1.79,2,   2.516,2,   1.295,2,   0.5420,2,  -999.0,9,  -999.0,9,-999.0000,9,  -999.00, -999.00,9, -999.00,9, -999.00,  -999.0,9, -999.00,9,     -999.0,9,  -999.0,1, 20170903,     1811, -32.4998,-130.5784,        0.0,1,      0.059,1,      4.694,1,      0.130,1,     -999.0,1,     -999.0,9,     -999.0,9,     -999.0,9,     -999.0,9,     -999.0,9,     -999.0,9,     -999.0,9,     -999.0,9,     -999.0,9,     -999.0,9,     5.5901,2,     -999.0,     -999.0,9,     -999.0
320620170820,        P06,     165,          1,         19,         19,2,20170903,       1655,   -32.4997,  -130.5783,       4311,   705.8,   6.1495,  34.3097,2,  34.3078,2, 239.5625,2, 240.0061,2,     9.9,2,   24.29,2,    0.00,2,    1.64,2,   3.214,2,   1.681,2,   0.8190,2,  2154.4,2,  2281.5,2,   7.6957,2,    25.00, -999.00,9, -999.00,9, -999.00,  -999.0,9, -999.00,9,     -999.0,9,  -999.0,1, 20170903,     1814, -32.4997,-130.5781,        0.0,1,      0.059,1,      4.694,1,      0.133,1,     -999.0,1,     -999.0,9,     -999.0,9,     -999.0,9,     -999.0,9,     -999.0,9,     -999.0,9,     -999.0,9,     -999.0,9,     -999.0,9,     -999.0,9,     6.1474,2,     -999.0,     -999.0,9,     -999.0
320620170820,        P06,     165,          1,         20,         20,2,20170903,       1655,   -32.4997,  -130.5783,       4311,   604.3,   6.5971,  34.3350,2,  34.3350,2, 246.1132,2, 245.7879,2,     7.2,2,   22.50,2,    0.00,2,    1.51,2,   3.570,2,   1.899,2,   1.0340,2,  -999.0,9,  -999.0,9,-999.0000,9,  -999.00, -999.00,9, -999.00,9, -999.00,  -999.0,9, -999.00,9,     -999.0,9,  -999.0,1, 20170903,     1817, -32.4998,-130.5779,        0.0,1,      0.059,1,      4.692,1,      0.131,1,     -999.0,1,     -999.0,9,     -999.0,9,     -999.0,9,     -999.0,9,     -999.0,9,     -999.0,9,     -999.0,9,     -999.0,9,     -999.0,9,     -999.0,9,     6.6536,2,     -999.0,     -999.0,9,     -999.0
320620170820,        P06,     165,          1,         21,         21,2,20170903,       1655,   -32.4997,  -130.5783,       4311,   503.7,   7.2412,  34.3793,2,  34.3649,2, 249.0843,2, 249.0601,2,     5.8,2,   21.06,2,    0.00,2,    1.44,2,   3.626,2,   1.986,2,   1.3350,2,  2144.2,2,  2280.9,2,   7.7177,2,    25.00, -999.00,9, -999.00,9, -999.00,  -999.0,9, -999.00,9,     -999.0,9,  -999.0,1, 20170903,     1820, -32.4998,-130.5777,        0.0,1,      0.059,1,      4.691,1,      0.139,1,     -999.0,1,     -999.0,9,     -999.0,9,     -999.0,9,     -999.0,9,     -999.0,9,     -999.0,9,     -999.0,9,     -999.0,9,     -999.0,9,     -999.0,9,     7.0727,2,     -999.0,     -999.0,9,     -999.0
320620170820,        P06,     165,          1,         22,         22,2,20170903,       1655,   -32.4997,  -130.5783,       4311,   452.7,   7.5599,  34.4089,2,  34.3896,2, 252.2979,2, 252.9136,2,     4.9,2,   19.97,2,    0.00,2,    1.36,2,   3.650,2,   2.006,2,   1.6150,2,  -999.0,9,  -999.0,9,-999.0000,9,  -999.00, -999.00,9, -999.00,9, -999.00,  -999.0,9, -999.00,9,     -999.0,9,  -999.0,1, 20170903,     1821, -32.4997,-130.5776,        0.0,1,      0.060,1,      4.690,1,      0.136,1,     -999.0,1,     -999.0,9,     -999.0,9,     -999.0,9,     -999.0,9,     -999.0,9,     -999.0,9,     -999.0,9,     -999.0,9,     -999.0,9,     -999.0,9,     7.4111,2,     -999.0,     -999.0,9,     -999.0
320620170820,        P06,     165,          1,         23,         23,2,20170903,       1655,   -32.4997,  -130.5783,       4311,   402.8,   7.8977,  34.4161,2,  34.4141,2, 252.4622,2, 250.2146,2,     4.2,2,   18.98,2,    0.00,2,    1.29,2,   3.430,2,   2.014,2,   1.5620,2,  2140.3,2,  2280.5,2,   7.7288,2,    25.00, -999.00,9, -999.00,9, -999.00,  -999.0,9, -999.00,9,     -999.0,9,  -999.0,1, 20170903,     1823, -32.4998,-130.5775,        0.0,1,      0.057,1,      4.690,1,      0.137,1,     -999.0,1,     -999.0,9,     -999.0,9,     -999.0,9,     -999.0,9,     -999.0,9,     -999.0,9,     -999.0,9,     -999.0,9,     -999.0,9,     -999.0,9,     7.6990,2,     -999.0,     -999.0,9,     -999.0
320620170820,        P06,     165,          1,         24,         24,2,20170903,       1655,   -32.4997,  -130.5783,       4311,   302.8,   9.3372,  34.4692,2,  34.4640,3, 226.9022,2,  224.866,2,     2.7,2,   16.30,2,    0.00,2,    1.13,2,   3.296,2,   1.822,6,   1.2985,6,  -999.0,9,  -999.0,9,-999.0000,9,  -999.00, -999.00,9, -999.00,9, -999.00,  -999.0,9, -999.00,9,     -999.0,9,  -999.0,1, 20170903,     1826, -32.4998,-130.5775,        0.0,1,      0.060,1,      4.689,1,      0.136,1,     -999.0,1,     -999.0,1,     -999.0,9,     -999.0,9,     -999.0,9,     -999.0,9,     -999.0,9,     -999.0,9,     -999.0,9,     -999.0,9,     -999.0,9,     9.5122,2,     -999.0,     -999.0,9,     -999.0
320620170820,        P06,     165,          1,         25,         25,2,20170903,       1655,   -32.4997,  -130.5783,       4311,   250.8,  10.9751,  34.5984,2,  34.5610,2, 214.9353,2, 218.2713,2,     2.0,2,   13.42,2,    0.00,2,    0.96,2,   3.082,2,   1.718,2,   1.3360,2,  2121.3,2,  2282.0,2,   7.7735,2,    25.00, -999.00,9, -999.00,9, -999.00,  -999.0,9, -999.00,9,     -999.0,9,  -999.0,1, 20170903,     1828, -32.4997,-130.5776,        0.0,1,      0.059,1,      4.686,1,      0.136,1,     -999.0,1,     -999.0,1,     -999.0,9,     -999.0,9,     -999.0,9,     -999.0,9,     -999.0,9,     -999.0,9,     -999.0,9,     -999.0,9,     -999.0,9,    10.6965,2,     -999.0,     -999.0,9,     -999.0
320620170820,        P06,     165,          1,         26,         26,2,20170903,       1655,   -32.4997,  -130.5783,       4311,   200.8,  12.3969,  34.6300,2,  34.5995,2, 231.9959,2, 233.0352,2,     0.5,2,    6.78,2,    0.24,2,    0.58,2,   2.828,2,   1.655,2,   1.6860,2,  2097.0,2,  2282.7,2,   7.8340,2,    25.00, -999.00,9, -999.00,9, -999.00,  -999.0,9, -999.00,9,     -999.0,9,  -999.0,1, 20170903,     1830, -32.4997,-130.5778,        0.0,1,      0.068,1,      4.679,1,      0.138,1,     -999.0,1,     -999.0,1,     -999.0,9,     -999.0,9,     -999.0,9,     -999.0,9,     -999.0,9,     -999.0,9,     -999.0,9,     -999.0,9,     -999.0,9,    12.1309,2,     -999.0,     -999.0,9,     -999.0