BOTTLE,20240211CCHSIOCBG
EXPOCODE,SECT_ID,STNNBR,CASTNO,SAMPNO,BTLNBR,BTLNBR_FLAG_W,DATE,TIME,LATITUDE,LONGITUDE,DEPTH,CTDPRS,CTDTMP,CTDSAL,CTDSAL_FLAG_W,SALNTY,SALNTY_FLAG_W,CTDOXY,CTDOXY_FLAG_W,OXYGEN,OXYGEN_FLAG_W,SILCAT,SILCAT_FLAG_W,NITRAT,NITRAT_FLAG_W,NITRIT,NITRIT_FLAG_W,PHSPHT,PHSPHT_FLAG_W,CFC-11,CFC-11_FLAG_W,CFC-12,CFC-12_FLAG_W,SF6,SF6_FLAG_W,TCARBN,TCARBN_FLAG_W,ALKALI,ALKALI_FLAG_W,PH_TOT,PH_TOT_FLAG_W,PH_TMP,DELC13,DELC13_FLAG_W,DELC14,DELC14_FLAG_W,C14ERR,DOC,DOC_FLAG_W,TDN,TDN_FLAG_W,TON,TON_FLAG_W,D15N_NO3,D15N_NO3_FLAG_W,BTL_DATE,BTL_TIME,BTL_LAT,BTL_LON,CTDRINKO,CTDRINKO_FLAG_W,CTDFLUOR,CTDFLUOR_FLAG_W,CTDXMISS,CTDXMISS_FLAG_W,CTDBACKSCATTER,CTDBACKSCATTER_FLAG_W,D18O_NO3,D18O_NO3_FLAG_W,DOP,DOP_FLAG_W,CELLCOUNT,CELLCOUNT_FLAG_W,TDP,TDP_FLAG_W,POP,POP_FLAG_W,DATP,DATP_FLAG_W,PATP,PATP_FLAG_W,HPLC,HPLC_FLAG_W,POC,POC_FLAG_W,BEAMAP,BEAMAP_FLAG_W,DOC_NASA,DOC_NASA_FLAG_W,REFTMP,REFTMP_FLAG_W,DOC_NASA_ERROR,TDN_NASA,TDN_NASA_FLAG_W,TDN_NASA_ERROR
,,,,,,,,,,,METERS,DBAR,ITS-90,PSS-78,,PSS-78,,UMOL/KG,,UMOL/KG,,UMOL/KG,,UMOL/KG,,UMOL/KG,,UMOL/KG,,PMOL/KG,,PMOL/KG,,FMOL/KG,,UMOL/KG,,UMOL/KG,,,,DEG C,/MILLE,,/MILLE,,/MILLE,UMOL/KG,,UMOL/KG,,UMOL/KG,,/MILLE,,,,,,VOLTS,,VOLTS,,VOLTS,,VOLTS,,/MILLE,,UMOL/KG,,/LITER,,UMOL/KG,,UMOL/L,,PMOL/L,,PMOL/L,,,,UG/L,,/METER,,UMOL/L,,ITS-90,,UMOL/L,UMOL/L,,UMOL/L
320620170820,        P06,     239,          1,          1,          1,2,20170927,       0544,   -32.4999,   -72.8240,       5391,  5489.6,   1.8322,  34.6950,2,  34.6934,3, 162.2899,2,  162.426,2,   125.9,2,   34.56,2,    0.00,2,    2.46,2,   0.022,2,   0.019,2,   0.0000,2,  2308.6,2,  2406.6,2,   7.5859,2,    25.00, -999.00,9, -999.00,9, -999.00,    35.3,2, -999.00,9,     -999.0,1,  -999.0,9, 20170927,      544, -32.4995, -72.8233,        0.0,1,      0.061,1,      4.653,1,      0.167,1,     -999.0,9,     -999.0,9,     -999.0,9,     -999.0,9,     -999.0,9,     -999.0,9,     -999.0,9,     -999.0,9,     -999.0,9,     -999.0,9,     -999.0,9,     1.8330,2,     -999.0,     -999.0,9,     -999.0
320620170820,        P06,     239,          1,          2,          2,2,20170927,       0544,   -32.4999,   -72.8240,       5391,  5290.7,   1.8068,  34.6951,2,  34.6944,3, 162.2899,2, 162.2476,2,   124.9,2,   34.60,2,    0.00,2,    2.46,2,   0.022,2,   0.025,2,   0.0000,2,  -999.0,9,  -999.0,9,-999.0000,9,  -999.00, -999.00,9, -999.00,9, -999.00,    35.4,2, -999.00,9,     -999.0,1,  -999.0,9, 20170927,      552, -32.4996, -72.8232,        0.0,1,      0.062,1,      4.654,1,      0.167,1,     -999.0,9,     -999.0,9,     -999.0,9,     -999.0,9,     -999.0,9,     -999.0,9,     -999.0,9,     -999.0,9,     -999.0,9,     -999.0,9,     -999.0,9,     1.8069,2,     -999.0,     -999.0,9,     -999.0
320620170820,        P06,     239,          1,          3,          3,2,20170927,       0544,   -32.4999,   -72.8240,       5391,  5095.0,   1.7825,  34.6952,2,  34.6932,3, 162.2899,2,  162.508,2,   124.7,2,   34.64,2,    0.00,2,    2.46,2,   0.021,2,   0.025,2,   0.0000,2,  -999.0,9,  -999.0,9,-999.0000,9,  -999.00, -999.00,9, -999.00,9, -999.00,    35.0,2, -999.00,9,     -999.0,1,  -999.0,9, 20170927,      559, -32.4996, -72.8233,        0.0,1,      0.061,1,      4.656,1,      0.166,1,     -999.0,9,     -999.0,9,     -999.0,9,     -999.0,9,     -999.0,9,     -999.0,9,     -999.0,9,     -999.0,9,     -999.0,9,     -999.0,9,     -999.0,9,     1.7827,2,     -999.0,     -999.0,9,     -999.0
320620170820,        P06,     239,          1,          4,          4,2,20170927,       0544,   -32.4999,   -72.8240,       5391,  4682.8,   1.7426,  34.6947,2,  34.6930,3, 162.2899,2, 162.5931,2,   125.1,2,   34.70,2,    0.00,2,    2.45,2,   0.024,2,   0.030,2,   0.0000,2,  2309.3,2,  2403.6,2,   7.5873,2,    25.00, -999.00,9, -999.00,9, -999.00,    34.3,2, -999.00,9,     -999.0,1,  -999.0,9, 20170927,      609, -32.4996, -72.8231,        0.0,1,      0.062,1,      4.670,1,      0.141,1,     -999.0,9,     -999.0,9,     -999.0,9,     -999.0,9,     -999.0,9,     -999.0,9,     -999.0,9,     -999.0,9,     -999.0,9,     -999.0,9,     -999.0,9,     1.7426,2,     -999.0,     -999.0,9,     -999.0
320620170820,        P06,     239,          1,          5,          5,2,20170927,       0544,   -32.4999,   -72.8240,       5391,  4271.9,   1.7252,  34.6937,2,  34.6918,2, 162.4062,2,  162.163,2,   124.4,2,   34.81,2,    0.00,2,    2.47,2,   0.020,2,   0.028,2,   0.0000,2,  -999.0,9,  -999.0,9,-999.0000,9,  -999.00, -999.00,9, -999.00,9, -999.00,    34.6,2, -999.00,9,     -999.0,1,  -999.0,9, 20170927,      617, -32.4995, -72.8233,        0.0,1,      0.061,1,      4.675,1,      0.132,1,     -999.0,9,     -999.0,9,     -999.0,9,     -999.0,9,     -999.0,9,     -999.0,9,     -999.0,9,     -999.0,9,     -999.0,9,     -999.0,9,     -999.0,9,     1.7251,2,     -999.0,     -999.0,9,     -999.0
320620170820,        P06,     239,          1,          6,          6,2,20170927,       0544,   -32.4999,   -72.8240,       5391,  3861.0,   1.7469,  34.6906,2,  34.6885,2, 159.5747,2, 159.6942,2,   123.8,2,   35.03,2,    0.00,2,    2.47,2,   0.018,2,   0.032,2,   0.0000,2,  -999.0,9,  -999.0,9,-999.0000,9,  -999.00, -999.00,9, -999.00,9, -999.00,    35.4,2, -999.00,9,     -999.0,1,  -999.0,9, 20170927,      626, -32.4996, -72.8231,        0.0,1,      0.061,1,      4.676,1,      0.132,1,     -999.0,9,     -999.0,9,     -999.0,9,     -999.0,9,     -999.0,9,     -999.0,9,     -999.0,9,     -999.0,9,     -999.0,9,     -999.0,9,     -999.0,9,     1.7468,2,     -999.0,     -999.0,9,     -999.0
320620170820,        P06,     239,          1,          7,          7,2,20170927,       0544,   -32.4999,   -72.8240,       5391,  3553.4,   1.7734,  34.6871,2,  34.6849,2, 156.9126,3, 155.0743,2,   125.7,2,   35.35,2,    0.00,2,    2.51,2,   0.017,2,   0.030,2,   0.0000,2,  2315.0,2,  2407.0,2,   7.5789,2,    25.00, -999.00,9, -999.00,9, -999.00,    33.9,2, -999.00,9,     -999.0,1,  -999.0,9, 20170927,      632, -32.4997, -72.8227,        0.0,1,      0.061,1,      4.676,1,      0.133,1,     -999.0,9,     -999.0,9,     -999.0,9,     -999.0,9,     -999.0,9,     -999.0,9,     -999.0,9,     -999.0,9,     -999.0,9,     -999.0,9,     -999.0,9,     1.7722,2,     -999.0,     -999.0,9,     -999.0
320620170820,        P06,     239,          1,          8,          8,2,20170927,       0544,   -32.4999,   -72.8240,       5391,  3248.8,   1.7952,  34.6835,2,  34.6814,2, 151.7711,3, 149.8017,2,   128.1,2,   35.71,2,    0.00,2,    2.53,2,   0.018,2,   0.039,2,   0.0000,2,  -999.0,9,  -999.0,9,-999.0000,9,  -999.00, -999.00,9, -999.00,9, -999.00,    34.7,2, -999.00,9,     -999.0,1,  -999.0,9, 20170927,      639, -32.4995, -72.8232,        0.0,1,      0.061,1,      4.676,1,      0.134,1,     -999.0,9,     -999.0,9,     -999.0,9,     -999.0,9,     -999.0,9,     -999.0,9,     -999.0,9,     -999.0,9,     -999.0,9,     -999.0,9,     -999.0,9,     1.7935,2,     -999.0,     -999.0,9,     -999.0
320620170820,        P06,     239,          1,          9,          9,2,20170927,       0544,   -32.4999,   -72.8240,       5391,  2954.9,   1.8241,  34.6788,2,  34.6769,2, 147.4991,3, 149.9403,2,   126.7,2,   35.75,2,    0.00,2,    2.54,2,   0.019,2,   0.040,2,   0.0000,2,  -999.0,9,  -999.0,9,-999.0000,9,  -999.00, -999.00,9, -999.00,9, -999.00,    34.8,2, -999.00,9,     -999.0,1,  -999.0,9, 20170927,      645, -32.4996, -72.8231,        0.0,1,      0.061,1,      4.676,1,      0.136,1,     -999.0,9,     -999.0,9,     -999.0,9,     -999.0,9,     -999.0,9,     -999.0,9,     -999.0,9,     -999.0,9,     -999.0,9,     -999.0,9,     -999.0,9,     1.8204,2,     -999.0,     -999.0,9,     -999.0
320620170820,        P06,     239,          1,         10,         10,2,20170927,       0544,   -32.4999,   -72.8240,       5391,  2699.3,   1.8689,  34.6731,2,  34.6708,2, 146.2836,2, 147.7628,2,   125.2,2,   35.90,2,    0.00,2,    2.55,2,   0.018,2,   0.041,2,   0.0000,2,  -999.0,9,  -999.0,9,-999.0000,9,  -999.00, -999.00,9, -999.00,9, -999.00,  -999.0,5, -999.00,9,     -999.0,1,  -999.0,9, 20170927,      651, -32.4996, -72.8230,        0.0,1,      0.062,1,      4.675,1,      0.142,1,     -999.0,9,     -999.0,9,     -999.0,9,     -999.0,9,     -999.0,9,     -999.0,9,     -999.0,9,     -999.0,9,     -999.0,9,     -999.0,9,     -999.0,9,     1.8677,2,     -999.0,     -999.0,9,     -999.0
320620170820,        P06,     239,          1,         11,         11,2,20170927,       0544,   -32.4999,   -72.8240,       5391,  2447.0,   1.9458,  34.6645,2,  34.6612,2, 142.9025,2, 143.6542,2,   122.5,2,   36.22,2,    0.00,2,    2.59,2,   0.018,2,   0.040,2,   0.0000,2,  2314.9,2,  2398.9,2,   7.5574,6,    25.00, -999.00,9, -999.00,9, -999.00,    34.8,2, -999.00,9,     -999.0,1,  -999.0,9, 20170927,      656, -32.4995, -72.8236,        0.0,1,      0.061,1,      4.674,1,      0.141,1,     -999.0,9,     -999.0,9,     -999.0,9,     -999.0,9,     -999.0,9,     -999.0,9,     -999.0,9,     -999.0,9,     -999.0,9,     -999.0,9,     -999.0,9,     1.9548,2,     -999.0,     -999.0,9,     -999.0
320620170820,        P06,     239,          1,         12,         12,2,20170927,       0544,   -32.4999,   -72.8240,       5391,  2191.2,   2.0758,  34.6520,2,  34.6482,2, 136.4168,2, 136.8301,2,   120.3,2,   36.73,2,    0.00,2,    2.63,2,   0.019,2,   0.041,2,   0.0000,2,  -999.0,9,  -999.0,9,-999.0000,9,  -999.00, -999.00,9, -999.00,9, -999.00,  -999.0,5, -999.00,9,     -999.0,1,  -999.0,9, 20170927,      702, -32.4996, -72.8233,        0.0,1,      0.062,1,      4.675,1,      0.140,1,     -999.0,9,     -999.0,9,     -999.0,9,     -999.0,9,     -999.0,9,     -999.0,9,     -999.0,9,     -999.0,9,     -999.0,9,     -999.0,9,     -999.0,9,     2.0889,2,     -999.0,     -999.0,9,     -999.0
320620170820,        P06,     239,          1,         13,         13,2,20170927,       0544,   -32.4999,   -72.8240,       5391,  1956.9,   2.2711,  34.6343,2,  34.6293,2, 128.2568,2,  128.526,2,   115.3,2,   37.44,2,    0.00,2,    2.69,2,   0.018,2,   0.041,2,   0.0000,2,  -999.0,9,  -999.0,9,-999.0000,9,  -999.00, -999.00,9, -999.00,9, -999.00,  -999.0,9, -999.00,9,     -999.0,1,  -999.0,9, 20170927,      706, -32.4997, -72.8237,        0.0,1,      0.062,1,      4.675,1,      0.142,1,     -999.0,9,     -999.0,9,     -999.0,9,     -999.0,9,     -999.0,9,     -999.0,9,     -999.0,9,     -999.0,9,     -999.0,9,     -999.0,9,     -999.0,9,     2.2925,2,     -999.0,     -999.0,9,     -999.0
320620170820,        P06,     239,          1,         14,         14,2,20170927,       0544,   -32.4999,   -72.8240,       5391,  1755.8,   2.4893,  34.6143,2,  34.6103,2, 122.2048,2, 122.1165,2,   110.5,2,   37.99,2,    0.00,2,    2.74,2,   0.017,2,   0.043,2,   0.0000,2,  -999.0,9,  -999.0,9,-999.0000,9,  -999.00, -999.00,9, -999.00,9, -999.00,    34.7,2, -999.00,9,     -999.0,1,  -999.0,9, 20170927,      711, -32.4998, -72.8235,        0.0,1,      0.063,1,      4.675,1,      0.141,1,     -999.0,9,     -999.0,9,     -999.0,9,     -999.0,9,     -999.0,9,     -999.0,9,     -999.0,9,     -999.0,9,     -999.0,9,     -999.0,9,     -999.0,9,     2.4915,2,     -999.0,     -999.0,9,     -999.0
320620170820,        P06,     239,          1,         15,         15,2,20170927,       0544,   -32.4999,   -72.8240,       5391,  1552.2,   2.7529,  34.5907,2,  34.5869,2, 115.0377,2,  114.691,2,   102.7,2,   38.67,2,    0.00,2,    2.78,2,   0.018,2,   0.046,2,   0.0000,2,  2312.0,2,  2374.5,2,   7.5001,2,    25.00, -999.00,9, -999.00,9, -999.00,    34.1,2, -999.00,9,     -999.0,1,  -999.0,9, 20170927,      715, -32.4999, -72.8234,        0.0,1,      0.063,1,      4.675,1,      0.141,1,     -999.0,9,     -999.0,9,     -999.0,9,     -999.0,9,     -999.0,9,     -999.0,9,     -999.0,9,     -999.0,9,     -999.0,9,     -999.0,9,     -999.0,9,     2.7598,2,     -999.0,     -999.0,9,     -999.0
320620170820,        P06,     239,          1,         16,         16,2,20170927,       0544,   -32.4999,   -72.8240,       5391,  1377.9,   3.0488,  34.5618,2,  34.5576,2, 110.2328,2, 108.9491,2,    93.9,2,   39.21,2,    0.00,2,    2.82,2,   0.019,2,   0.050,2,   0.0000,2,  -999.0,9,  -999.0,9,-999.0000,9,  -999.00, -999.00,9, -999.00,9, -999.00,    34.6,2, -999.00,9,     -999.0,1,  -999.0,9, 20170927,      719, -32.4997, -72.8238,        0.0,1,      0.062,1,      4.676,1,      0.139,1,     -999.0,9,     -999.0,9,     -999.0,9,     -999.0,9,     -999.0,9,     -999.0,9,     -999.0,9,     -999.0,9,     -999.0,9,     -999.0,9,     -999.0,9,     3.0599,2,     -999.0,     -999.0,9,     -999.0
320620170820,        P06,     239,          1,         17,         17,2,20170927,       0544,   -32.4999,   -72.8240,       5391,  1275.1,   3.2204,  34.5444,2,  34.5400,2, 107.8496,2, 106.4834,2,    88.6,2,   39.41,2,    0.00,2,    2.83,2,   0.022,2,   0.061,2,   0.0000,2,  -999.0,9,  -999.0,9,-999.0000,9,  -999.00, -999.00,9, -999.00,9, -999.00,    35.2,2, -999.00,9,     -999.0,1,  -999.0,9, 20170927,      722, -32.4998, -72.8237,        0.0,1,      0.062,1,      4.676,1,      0.146,1,     -999.0,9,     -999.0,9,     -999.0,9,     -999.0,9,     -999.0,9,     -999.0,9,     -999.0,9,     -999.0,9,     -999.0,9,     -999.0,9,     -999.0,9,     3.2362,2,     -999.0,     -999.0,9,     -999.0
320620170820,        P06,     239,          1,         18,         18,2,20170927,       0544,   -32.4999,   -72.8240,       5391,  1178.4,   3.4353,  34.5253,2,  34.5215,2, 105.5122,2, 104.5435,2,    82.4,2,   39.64,2,    0.00,2,    2.85,2,   0.022,2,   0.056,2,   0.0000,2,  2299.6,2,  2351.3,2,   7.4767,2,    25.00, -999.00,9, -999.00,9, -999.00,    35.0,2, -999.00,9,     -999.0,1,  -999.0,9, 20170927,      724, -32.4998, -72.8235,        0.0,1,      0.062,1,      4.675,1,      0.143,1,     -999.0,9,     -999.0,9,     -999.0,9,     -999.0,9,     -999.0,9,     -999.0,9,     -999.0,9,     -999.0,9,     -999.0,9,     -999.0,9,     -999.0,9,     3.4279,2,     -999.0,     -999.0,9,     -999.0
320620170820,        P06,     239,          1,         19,         19,2,20170927,       0544,   -32.4999,   -72.8240,       5391,  1076.8,   3.6276,  34.4942,2,  34.4885,2, 108.2199,2, 107.2699,2,    73.9,2,   39.54,2,    0.00,2,    2.83,2,   0.039,2,   0.061,2,   0.0000,2,  -999.0,9,  -999.0,9,-999.0000,9,  -999.00, -999.00,9, -999.00,9, -999.00,    35.0,2, -999.00,9,     -999.0,1,  -999.0,9, 20170927,      727, -32.4998, -72.8236,        0.0,1,      0.063,1,      4.675,1,      0.146,1,     -999.0,9,     -999.0,9,     -999.0,9,     -999.0,9,     -999.0,9,     -999.0,9,     -999.0,9,     -999.0,9,     -999.0,9,     -999.0,9,     -999.0,9,     3.6336,2,     -999.0,     -999.0,9,     -999.0
320620170820,        P06,     239,          1,         20,         20,2,20170927,       0544,   -32.4999,   -72.8240,       5391,   977.6,   3.8258,  34.4525,2,  34.4436,2, 116.1395,2, 116.2169,2,    61.9,2,   38.86,2,    0.00,2,    2.77,2,   0.113,2,   0.103,2,   0.0000,2,  -999.0,9,  -999.0,9,-999.0000,9,  -999.00, -999.00,9, -999.00,9, -999.00,    36.4,2, -999.00,9,     -999.0,1,  -999.0,9, 20170927,      730, -32.4998, -72.8237,        0.0,1,      0.062,1,      4.675,1,      0.142,1,     -999.0,9,     -999.0,9,     -999.0,9,     -999.0,9,     -999.0,9,     -999.0,9,     -999.0,9,     -999.0,9,     -999.0,9,     -999.0,9,     -999.0,9,     3.8803,2,     -999.0,     -999.0,9,     -999.0
320620170820,        P06,     239,          1,         21,         21,2,20170927,       0544,   -32.4999,   -72.8240,       5391,   873.5,   4.1769,  34.4166,2,  34.4071,2, 124.9466,2, 124.2626,2,    51.7,2,   38.05,2,    0.00,2,    2.70,2,   0.276,2,   0.181,2,   0.0000,2,  -999.0,9,  -999.0,9,-999.0000,9,  -999.00, -999.00,9, -999.00,9, -999.00,    36.5,2, -999.00,9,     -999.0,1,  -999.0,9, 20170927,      732, -32.4998, -72.8237,        0.0,1,      0.062,1,      4.675,1,      0.145,1,     -999.0,9,     -999.0,9,     -999.0,9,     -999.0,9,     -999.0,9,     -999.0,9,     -999.0,9,     -999.0,9,     -999.0,9,     -999.0,9,     -999.0,9,     4.2039,2,     -999.0,     -999.0,9,     -999.0
320620170820,        P06,     239,          1,         22,         22,2,20170927,       0544,   -32.4999,   -72.8240,       5391,   769.0,   4.6054,  34.3639,2,  34.3598,2, 140.3223,2, 142.7449,2,    38.7,2,   36.14,2,    0.00,2,    2.54,2,   0.751,2,   0.381,2,   0.0570,2,  2234.3,2,  2304.3,2,   7.5216,2,    25.00, -999.00,9, -999.00,9, -999.00,    38.1,2, -999.00,9,     -999.0,1,  -999.0,9, 20170927,      735, -32.4999, -72.8236,        0.0,1,      0.063,1,      4.675,1,      0.146,1,     -999.0,9,     -999.0,9,     -999.0,9,     -999.0,9,     -999.0,9,     -999.0,9,     -999.0,9,     -999.0,9,     -999.0,9,     -999.0,9,     -999.0,9,     4.5868,2,     -999.0,     -999.0,9,     -999.0
320620170820,        P06,     239,          1,         23,         23,2,20170927,       0544,   -32.4999,   -72.8240,       5391,   669.6,   5.0531,  34.3266,2,  34.3080,2, 163.0104,3, 173.2629,2,    24.7,2,   32.87,2,    0.00,2,    2.30,2,   1.809,2,   0.875,2,   0.1380,2,  -999.0,9,  -999.0,9,-999.0000,9,  -999.00, -999.00,9, -999.00,9, -999.00,    39.7,2, -999.00,9,     -999.0,1,  -999.0,9, 20170927,      738, -32.4999, -72.8235,        0.0,1,      0.061,1,      4.674,1,      0.148,1,     -999.0,9,     -999.0,9,     -999.0,9,     -999.0,9,     -999.0,9,     -999.0,9,     -999.0,9,     -999.0,9,     -999.0,9,     -999.0,9,     -999.0,9,     5.1112,2,     -999.0,     -999.0,9,     -999.0
320620170820,        P06,     239,          1,         24,         24,2,20170927,       0544,   -32.4999,   -72.8240,       5391,   569.6,   5.4944,  34.2835,2,  34.2762,2, 190.7163,3, 200.6576,2,    16.2,2,   29.81,2,    0.00,2,    2.08,2,   2.681,2,   1.438,2,   0.4270,2,  2187.2,2,  2280.4,2,   7.6072,2,    25.00, -999.00,9, -999.00,9, -999.00,    39.3,2, -999.00,9,     -999.0,1,  -999.0,9, 20170927,      740, -32.4999, -72.8238,        0.0,1,      0.060,1,      4.673,1,      0.147,1,     -999.0,9,     -999.0,9,     -999.0,9,     -999.0,9,     -999.0,9,     -999.0,9,     -999.0,9,     -999.0,9,     -999.0,9,     -999.0,9,     -999.0,9,     5.4769,2,     -999.0,     -999.0,9,     -999.0
320620170820,        P06,     239,          1,         25,         25,2,20170927,       0544,   -32.4999,   -72.8240,       5391,   468.4,   6.2389,  34.3174,2,  34.3109,2, 171.6501,2, 173.4164,2,    15.6,2,   30.74,2,    0.00,2,    2.15,2,   2.657,2,   1.465,2,   0.4770,2,  -999.0,9,  -999.0,9,-999.0000,9,  -999.00, -999.00,9, -999.00,9, -999.00,    38.8,2,   33.80,2,     -999.0,1,  -999.0,9, 20170927,      743, -32.4999, -72.8238,        0.0,1,      0.061,1,      4.669,1,      0.151,1,     -999.0,9,     -999.0,9,     -999.0,9,     -999.0,9,     -999.0,9,     -999.0,9,     -999.0,9,     -999.0,9,     -999.0,9,     -999.0,9,     -999.0,9,     6.1794,2,     -999.0,     -999.0,9,     -999.0
320620170820,        P06,     239,          1,         26,         26,2,20170927,       0544,   -32.4999,   -72.8240,       5391,   388.1,   7.2535,  34.4018,2,  34.3935,2,  95.8544,2,  96.8624,2,    19.4,2,   34.63,2,    0.00,2,    2.51,2,   2.165,2,   1.119,2,   0.4200,2,  2238.4,2,  2280.6,6,   7.4446,2,    25.00, -999.00,9, -999.00,9, -999.00,    41.3,2,   36.20,2,     -999.0,1,  -999.0,9, 20170927,      745, -32.4999, -72.8237,        0.0,1,      0.064,1,      4.661,1,      0.158,1,     -999.0,9,     -999.0,9,     -999.0,9,     -999.0,9,     -999.0,9,     -999.0,9,     -999.0,9,     -999.0,9,     -999.0,9,     -999.0,9,     -999.0,9,     7.2953,2,     -999.0,     -999.0,9,     -999.0