BOTTLE,20240211CCHSIOCBG
EXPOCODE,SECT_ID,STNNBR,CASTNO,SAMPNO,BTLNBR,BTLNBR_FLAG_W,DATE,TIME,LATITUDE,LONGITUDE,DEPTH,CTDPRS,CTDTMP,CTDSAL,CTDSAL_FLAG_W,SALNTY,SALNTY_FLAG_W,CTDOXY,CTDOXY_FLAG_W,OXYGEN,OXYGEN_FLAG_W,SILCAT,SILCAT_FLAG_W,NITRAT,NITRAT_FLAG_W,NITRIT,NITRIT_FLAG_W,PHSPHT,PHSPHT_FLAG_W,CFC-11,CFC-11_FLAG_W,CFC-12,CFC-12_FLAG_W,SF6,SF6_FLAG_W,TCARBN,TCARBN_FLAG_W,ALKALI,ALKALI_FLAG_W,PH_TOT,PH_TOT_FLAG_W,PH_TMP,DELC13,DELC13_FLAG_W,DELC14,DELC14_FLAG_W,C14ERR,DOC,DOC_FLAG_W,TDN,TDN_FLAG_W,TON,TON_FLAG_W,D15N_NO3,D15N_NO3_FLAG_W,BTL_DATE,BTL_TIME,BTL_LAT,BTL_LON,CTDRINKO,CTDRINKO_FLAG_W,CTDFLUOR,CTDFLUOR_FLAG_W,CTDXMISS,CTDXMISS_FLAG_W,CTDBACKSCATTER,CTDBACKSCATTER_FLAG_W,D18O_NO3,D18O_NO3_FLAG_W,DOP,DOP_FLAG_W,CELLCOUNT,CELLCOUNT_FLAG_W,TDP,TDP_FLAG_W,POP,POP_FLAG_W,DATP,DATP_FLAG_W,PATP,PATP_FLAG_W,HPLC,HPLC_FLAG_W,POC,POC_FLAG_W,BEAMAP,BEAMAP_FLAG_W,DOC_NASA,DOC_NASA_FLAG_W,REFTMP,REFTMP_FLAG_W,DOC_NASA_ERROR,TDN_NASA,TDN_NASA_FLAG_W,TDN_NASA_ERROR
,,,,,,,,,,,METERS,DBAR,ITS-90,PSS-78,,PSS-78,,UMOL/KG,,UMOL/KG,,UMOL/KG,,UMOL/KG,,UMOL/KG,,UMOL/KG,,PMOL/KG,,PMOL/KG,,FMOL/KG,,UMOL/KG,,UMOL/KG,,,,DEG C,/MILLE,,/MILLE,,/MILLE,UMOL/KG,,UMOL/KG,,UMOL/KG,,/MILLE,,,,,,VOLTS,,VOLTS,,VOLTS,,VOLTS,,/MILLE,,UMOL/KG,,/LITER,,UMOL/KG,,UMOL/L,,PMOL/L,,PMOL/L,,,,UG/L,,/METER,,UMOL/L,,ITS-90,,UMOL/L,UMOL/L,,UMOL/L
320620170820,        P06,     250,          1,          1,          1,2,20170929,       1108,   -32.4997,   -71.5850,        177,   169.9,   9.9754,  34.6159,2,  34.6130,2,  11.4406,2,  12.4147,2,    25.6,2,   29.67,2,    0.05,2,    2.86,2,   1.117,2,   0.572,2,   0.2430,2,  2284.1,6,  2290.3,6,   7.3410,2,    25.00, -999.00,9, -999.00,9, -999.00,  -999.0,9, -999.00,9,     -999.0,1,  -999.0,9, 20170929,     1108, -32.4999, -71.5850,        0.0,1,      0.069,1,      4.580,1,      0.344,1,     -999.0,9,     -999.0,9,     -999.0,9,     -999.0,9,     -999.0,9,     -999.0,9,     -999.0,9,     -999.0,9,     -999.0,9,     -999.0,9,     -999.0,9,     9.9648,2,     -999.0,     -999.0,9,     -999.0
320620170820,        P06,     250,          1,          2,          2,2,20170929,       1108,   -32.4997,   -71.5850,        177,   159.9,  10.0618,  34.6219,2,  34.6128,2,  11.4303,2,   12.559,2,    25.6,2,   29.62,2,    0.05,2,    2.85,2,-999.000,9,-999.000,9,-999.0000,9,  2283.1,2,  2290.8,2,   7.3413,2,    25.00, -999.00,9, -999.00,9, -999.00,  -999.0,9, -999.00,9,     -999.0,1,  -999.0,9, 20170929,     1110, -32.4999, -71.5850,        0.0,1,      0.067,1,      4.580,1,      0.317,1,     -999.0,9,     -999.0,9,     -999.0,9,     -999.0,9,     -999.0,9,     -999.0,9,     -999.0,9,     -999.0,9,     -999.0,9,     -999.0,9,     -999.0,9,    10.0621,2,     -999.0,     -999.0,9,     -999.0
320620170820,        P06,     250,          1,          3,          3,2,20170929,       1108,   -32.4997,   -71.5850,        177,   134.6,  10.5259,  34.6496,2,  34.6435,2,  10.5345,2,   11.075,2,    25.6,2,   27.06,2,    0.03,2,    2.82,2,   1.160,2,   0.605,2,   0.3020,2,  2283.0,2,  2290.8,2,   7.3435,2,    25.00, -999.00,9, -999.00,9, -999.00,  -999.0,9, -999.00,9,     -999.0,1,  -999.0,9, 20170929,     1111, -32.4999, -71.5850,        0.0,1,      0.068,1,      4.577,1,      0.308,1,     -999.0,9,     -999.0,9,     -999.0,9,     -999.0,9,     -999.0,9,     -999.0,9,     -999.0,9,     -999.0,9,     -999.0,9,     -999.0,9,     -999.0,9,    10.5291,2,     -999.0,     -999.0,9,     -999.0
320620170820,        P06,     250,          1,          4,          4,2,20170929,       1108,   -32.4997,   -71.5850,        177,   109.9,  10.7798,  34.6595,2,  34.6541,2,  11.2614,2,  10.9644,2,    25.3,2,   25.76,2,    0.02,2,    2.81,2,-999.000,9,-999.000,9,-999.0000,9,  2282.4,2,  2290.9,2,   7.3474,2,    25.00, -999.00,9, -999.00,9, -999.00,  -999.0,9, -999.00,9,     -999.0,1,  -999.0,9, 20170929,     1113, -32.4998, -71.5850,        0.0,1,      0.068,1,      4.572,1,      0.328,1,     -999.0,9,     -999.0,9,     -999.0,9,     -999.0,9,     -999.0,9,     -999.0,9,     -999.0,9,     -999.0,9,     -999.0,9,     -999.0,9,     -999.0,9,    10.7714,2,     -999.0,     -999.0,9,     -999.0
320620170820,        P06,     250,          1,          5,          5,2,20170929,       1108,   -32.4997,   -71.5850,        177,    83.1,  10.8682,  34.6490,2,  34.6443,2,  13.8675,2,  13.1922,2,    24.5,2,   25.22,2,    0.02,2,    2.78,2,   1.296,2,   0.691,2,   0.3470,2,  2281.9,2,  2291.0,2,   7.3503,2,    25.00, -999.00,9, -999.00,9, -999.00,  -999.0,9, -999.00,9,     -999.0,1,  -999.0,9, 20170929,     1115, -32.4998, -71.5850,        0.0,1,      0.070,1,      4.569,1,      0.307,1,     -999.0,9,     -999.0,9,     -999.0,9,     -999.0,9,     -999.0,9,     -999.0,9,     -999.0,9,     -999.0,9,     -999.0,9,     -999.0,9,     -999.0,9,    10.8676,2,     -999.0,     -999.0,9,     -999.0
320620170820,        P06,     250,          1,          6,          6,2,20170929,       1108,   -32.4997,   -71.5850,        177,    60.2,  10.9823,  34.6392,2,  34.6329,2,   17.751,2,  15.7924,2,    23.7,2,   24.69,2,    0.04,2,    2.77,2,-999.000,9,-999.000,9,-999.0000,9,  2278.8,2,  2289.7,2,   7.3550,2,    25.00, -999.00,9, -999.00,9, -999.00,  -999.0,9, -999.00,9,     -999.0,1,  -999.0,9, 20170929,     1116, -32.4998, -71.5850,        0.0,1,      0.070,1,      4.560,1,      0.312,1,     -999.0,9,     -999.0,9,     -999.0,9,     -999.0,9,     -999.0,9,     -999.0,9,     -999.0,9,     -999.0,9,     -999.0,9,     -999.0,9,     -999.0,9,    10.9948,2,     -999.0,     -999.0,9,     -999.0
320620170820,        P06,     250,          1,          7,          7,2,20170929,       1108,   -32.4997,   -71.5850,        177,    33.4,  11.1194,  34.5698,2,  34.5792,2,  40.8581,3,  29.3588,2,    21.5,2,   24.48,2,    0.11,2,    2.68,2,   1.685,2,   0.915,2,   0.5090,2,  2269.8,2,  2285.3,2,   7.3715,6,    25.00, -999.00,9, -999.00,9, -999.00,  -999.0,9, -999.00,9,     -999.0,1,  -999.0,9, 20170929,     1119, -32.4998, -71.5850,        0.0,1,      0.284,1,      4.422,1,      0.386,1,     -999.0,9,     -999.0,9,     -999.0,9,     -999.0,9,     -999.0,9,     -999.0,9,     -999.0,9,     -999.0,9,     -999.0,9,     -999.0,9,     -999.0,9,    11.0348,2,     -999.0,     -999.0,9,     -999.0
320620170820,        P06,     250,          1,          8,          8,2,20170929,       1108,   -32.4997,   -71.5850,        177,    14.0,  12.1132,  34.5186,2,  34.5270,2, 210.1928,4, 134.6199,2,    11.5,2,   16.89,2,    0.20,2,    1.91,2,   2.059,2,   1.107,2,   0.7490,2,  2209.2,2,  2290.8,2,   7.5559,2,    25.00, -999.00,9, -999.00,9, -999.00,  -999.0,9, -999.00,9,     -999.0,1,  -999.0,9, 20170929,     1120, -32.4998, -71.5850,        0.0,1,      3.361,1,      3.408,1,      1.462,1,     -999.0,9,     -999.0,9,     -999.0,9,     -999.0,9,     -999.0,9,     -999.0,9,     -999.0,9,     -999.0,9,     -999.0,9,     -999.0,9,     -999.0,9,    11.8734,2,     -999.0,     -999.0,9,     -999.0
320620170820,        P06,     250,          1,          9,          9,2,20170929,       1108,   -32.4997,   -71.5850,        177,    13.9,  12.2598,  34.5177,2,-999.0000,9, 183.0957,2,-999.0000,9,  -999.0,9, -999.00,9, -999.00,9, -999.00,9,-999.000,9,-999.000,9,-999.0000,9,  -999.0,9,  -999.0,9,-999.0000,9,  -999.00, -999.00,9, -999.00,9, -999.00,  -999.0,9, -999.00,9,     -999.0,9,  -999.0,9, 20170929,     1120, -32.4997, -71.5850,        0.0,1,      3.456,1,      3.449,1,      1.582,1,     -999.0,9,     -999.0,9,     -999.0,9,     -999.0,9,     -999.0,9,     -999.0,9,     -999.0,9,     -999.0,1,     -999.0,1,     -999.0,1,     -999.0,1,    11.8971,2,     -999.0,     -999.0,9,     -999.0
320620170820,        P06,     250,          1,         10,         10,2,20170929,       1108,   -32.4997,   -71.5850,        177,    13.8,  12.2598,  34.5177,2,-999.0000,9,  167.949,2,-999.0000,9,  -999.0,9, -999.00,9, -999.00,9, -999.00,9,-999.000,9,-999.000,9,-999.0000,9,  -999.0,9,  -999.0,9,-999.0000,9,  -999.00, -999.00,9, -999.00,9, -999.00,  -999.0,9, -999.00,9,     -999.0,9,  -999.0,9, 20170929,     1121, -32.4997, -71.5850,        0.0,1,      3.456,1,      3.449,1,      1.582,1,     -999.0,9,     -999.0,9,     -999.0,9,     -999.0,9,     -999.0,9,     -999.0,9,     -999.0,9,     -999.0,1,     -999.0,1,     -999.0,1,     -999.0,1,     -999.0,5,     -999.0,     -999.0,9,     -999.0
320620170820,        P06,     250,          1,         11,         11,2,20170929,       1108,   -32.4997,   -71.5850,        177,     4.8,  12.3769,  34.5192,2,-999.0000,9, 334.3525,2, 327.7577,2,     0.5,2,    0.57,2,    0.06,2,    0.29,2,-999.000,9,-999.000,9,-999.0000,9,  2066.3,2,  2303.1,3,   7.9270,2,    25.00, -999.00,9, -999.00,9, -999.00,  -999.0,9, -999.00,9,     -999.0,1,  -999.0,9, 20170929,     1122, -32.4997, -71.5850,        0.0,1,      3.318,1,      3.455,1,      1.417,1,     -999.0,9,     -999.0,9,     -999.0,9,     -999.0,9,     -999.0,9,     -999.0,9,     -999.0,9,     -999.0,9,     -999.0,9,     -999.0,9,     -999.0,9,    12.3608,2,     -999.0,     -999.0,9,     -999.0
320620170820,        P06,     250,          1,         12,         12,2,20170929,       1108,   -32.4997,   -71.5850,        177,     4.7,  12.3769,  34.5192,2,-999.0000,9, 342.1439,2,-999.0000,9,  -999.0,9, -999.00,9, -999.00,9, -999.00,9,-999.000,9,-999.000,9,-999.0000,9,  -999.0,9,  -999.0,9,-999.0000,9,  -999.00, -999.00,9, -999.00,9, -999.00,  -999.0,9, -999.00,9,     -999.0,9,  -999.0,9, 20170929,     1122, -32.4997, -71.5850,        0.0,1,      3.318,1,      3.455,1,      1.417,1,     -999.0,9,     -999.0,9,     -999.0,9,     -999.0,9,     -999.0,9,     -999.0,9,     -999.0,9,     -999.0,1,     -999.0,1,     -999.0,1,     -999.0,1,     -999.0,5,     -999.0,     -999.0,9,     -999.0