BOTTLE,20240211CCHSIOCBG
EXPOCODE,SECT_ID,STNNBR,CASTNO,SAMPNO,BTLNBR,BTLNBR_FLAG_W,DATE,TIME,LATITUDE,LONGITUDE,DEPTH,CTDPRS,CTDTMP,CTDSAL,CTDSAL_FLAG_W,SALNTY,SALNTY_FLAG_W,CTDOXY,CTDOXY_FLAG_W,OXYGEN,OXYGEN_FLAG_W,SILCAT,SILCAT_FLAG_W,NITRAT,NITRAT_FLAG_W,NITRIT,NITRIT_FLAG_W,PHSPHT,PHSPHT_FLAG_W,CFC-11,CFC-11_FLAG_W,CFC-12,CFC-12_FLAG_W,SF6,SF6_FLAG_W,TCARBN,TCARBN_FLAG_W,ALKALI,ALKALI_FLAG_W,PH_TOT,PH_TOT_FLAG_W,PH_TMP,DELC13,DELC13_FLAG_W,DELC14,DELC14_FLAG_W,C14ERR,DOC,DOC_FLAG_W,TDN,TDN_FLAG_W,TON,TON_FLAG_W,D15N_NO3,D15N_NO3_FLAG_W,BTL_DATE,BTL_TIME,BTL_LAT,BTL_LON,CTDRINKO,CTDRINKO_FLAG_W,CTDFLUOR,CTDFLUOR_FLAG_W,CTDXMISS,CTDXMISS_FLAG_W,CTDBACKSCATTER,CTDBACKSCATTER_FLAG_W,D18O_NO3,D18O_NO3_FLAG_W,DOP,DOP_FLAG_W,CELLCOUNT,CELLCOUNT_FLAG_W,TDP,TDP_FLAG_W,POP,POP_FLAG_W,DATP,DATP_FLAG_W,PATP,PATP_FLAG_W,HPLC,HPLC_FLAG_W,POC,POC_FLAG_W,BEAMAP,BEAMAP_FLAG_W,DOC_NASA,DOC_NASA_FLAG_W,REFTMP,REFTMP_FLAG_W,DOC_NASA_ERROR,TDN_NASA,TDN_NASA_FLAG_W,TDN_NASA_ERROR
,,,,,,,,,,,METERS,DBAR,ITS-90,PSS-78,,PSS-78,,UMOL/KG,,UMOL/KG,,UMOL/KG,,UMOL/KG,,UMOL/KG,,UMOL/KG,,PMOL/KG,,PMOL/KG,,FMOL/KG,,UMOL/KG,,UMOL/KG,,,,DEG C,/MILLE,,/MILLE,,/MILLE,UMOL/KG,,UMOL/KG,,UMOL/KG,,/MILLE,,,,,,VOLTS,,VOLTS,,VOLTS,,VOLTS,,/MILLE,,UMOL/KG,,/LITER,,UMOL/KG,,UMOL/L,,PMOL/L,,PMOL/L,,,,UG/L,,/METER,,UMOL/L,,ITS-90,,UMOL/L,UMOL/L,,UMOL/L
320620170820,        P06,     194,          1,          1,          1,2,20170912,       1626,   -32.5000,  -108.2558,       3154,  3193.7,   1.8043,  34.6816,2,  34.6834,2, 164.4799,2,  165.199,2,   118.2,2,   34.54,2,    0.00,2,    2.38,2,   0.038,2,   0.018,2,   0.0000,2,  2297.3,6,  2388.8,2,   7.5892,2,    25.00, -999.00,9, -999.00,9, -999.00,    35.7,2, -999.00,9,     -999.0,1,  -999.0,9, 20170912,     1626, -32.4999,-108.2559,        0.0,1,      0.060,1,      4.687,1,      0.133,1,     -999.0,9,     -999.0,9,     -999.0,9,     -999.0,9,     -999.0,9,     -999.0,9,     -999.0,9,     -999.0,9,     -999.0,9,     -999.0,9,     -999.0,9,     1.8051,2,     -999.0,     -999.0,9,     -999.0
320620170820,        P06,     194,          1,          2,          2,2,20170912,       1626,   -32.5000,  -108.2558,       3154,  2980.1,   1.7891,  34.6795,2,  34.6808,2, 164.4799,2, 164.4928,2,   118.7,2,   34.63,2,    0.00,2,    2.39,2,   0.036,2,   0.024,2,   0.0000,2,  2297.5,2,  2390.7,2,   7.5865,2,    25.00, -999.00,9, -999.00,9, -999.00,    37.3,2, -999.00,9,     -999.0,1,  -999.0,9, 20170912,     1630, -32.5001,-108.2557,        0.0,1,      0.061,1,      4.689,1,      0.131,1,     -999.0,9,     -999.0,9,     -999.0,9,     -999.0,9,     -999.0,9,     -999.0,9,     -999.0,9,     -999.0,9,     -999.0,9,     -999.0,9,     -999.0,9,     1.7891,2,     -999.0,     -999.0,9,     -999.0
320620170820,        P06,     194,          1,          3,          3,2,20170912,       1626,   -32.5000,  -108.2558,       3154,  2771.8,   1.7826,  34.6764,2,  34.6783,2, 164.3355,2, 163.7658,2,   118.7,2,   34.70,2,    0.00,2,    2.39,2,   0.034,2,   0.021,2,   0.0000,2,  -999.0,9,  -999.0,9,-999.0000,9,  -999.00, -999.00,9, -999.00,9, -999.00,    35.5,2, -999.00,9,     -999.0,1,  -999.0,9, 20170912,     1635, -32.5001,-108.2557,        0.0,1,      0.061,1,      4.689,1,      0.130,1,     -999.0,9,     -999.0,9,     -999.0,9,     -999.0,9,     -999.0,9,     -999.0,9,     -999.0,9,     -999.0,9,     -999.0,9,     -999.0,9,     -999.0,9,     1.7829,2,     -999.0,     -999.0,9,     -999.0
320620170820,        P06,     194,          1,          4,          4,2,20170912,       1626,   -32.5000,  -108.2558,       3154,  2567.8,   1.8061,  34.6725,2,  34.6737,2, 163.3255,2, 162.9074,2,   117.9,2,   34.76,2,    0.00,2,    2.40,2,   0.040,2,   0.025,2,   0.0000,2,  2298.4,2,  2389.5,2,   7.5844,2,    25.00, -999.00,9, -999.00,9, -999.00,    43.2,3, -999.00,9,     -999.0,1,  -999.0,9, 20170912,     1639, -32.5000,-108.2558,        0.0,1,      0.061,1,      4.690,1,      0.130,1,     -999.0,9,     -999.0,9,     -999.0,9,     -999.0,9,     -999.0,9,     -999.0,9,     -999.0,9,     -999.0,9,     -999.0,9,     -999.0,9,     -999.0,9,     1.8061,2,     -999.0,     -999.0,9,     -999.0
320620170820,        P06,     194,          1,          5,          5,2,20170912,       1626,   -32.5000,  -108.2558,       3154,  2362.8,   1.8732,  34.6662,2,  34.6679,2, 161.8507,2, 161.6564,2,   115.4,2,   34.80,2,    0.00,2,    2.40,2,   0.038,2,   0.023,2,   0.0000,2,  -999.0,9,  -999.0,9,-999.0000,9,  -999.00, -999.00,9, -999.00,9, -999.00,  -999.0,9, -999.00,9,     -999.0,9,  -999.0,9, 20170912,     1644, -32.4999,-108.2559,        0.0,1,      0.061,1,      4.690,1,      0.130,1,     -999.0,9,     -999.0,9,     -999.0,9,     -999.0,9,     -999.0,9,     -999.0,9,     -999.0,9,     -999.0,9,     -999.0,9,     -999.0,9,     -999.0,9,     1.8669,2,     -999.0,     -999.0,9,     -999.0
320620170820,        P06,     194,          1,          6,          6,2,20170912,       1626,   -32.5000,  -108.2558,       3154,  2159.9,   2.0032,  34.6530,2,  34.6547,2, 159.3368,2, 159.8577,2,   110.6,2,   34.86,2,    0.00,2,    2.40,2,   0.047,2,   0.028,2,   0.0000,2,  2292.8,2,  2381.1,2,   7.5763,2,    25.00, -999.00,9, -999.00,9, -999.00,    36.4,2, -999.00,9,     -999.0,1,  -999.0,9, 20170912,     1648, -32.4999,-108.2560,        0.0,1,      0.061,1,      4.690,1,      0.129,1,     -999.0,9,     -999.0,9,     -999.0,9,     -999.0,9,     -999.0,9,     -999.0,9,     -999.0,9,     -999.0,9,     -999.0,9,     -999.0,9,     -999.0,9,     1.9947,2,     -999.0,     -999.0,9,     -999.0
320620170820,        P06,     194,          1,          7,          7,2,20170912,       1626,   -32.5000,  -108.2558,       3154,  1955.8,   2.2074,  34.6283,2,  34.6317,2, 158.0169,2,  158.522,2,   102.1,2,   34.94,2,    0.00,2,    2.40,2,   0.055,2,   0.035,2,   0.0000,2,  -999.0,9,  -999.0,9,-999.0000,9,  -999.00, -999.00,9, -999.00,9, -999.00,  -999.0,9, -999.00,9,     -999.0,9,  -999.0,9, 20170912,     1652, -32.5000,-108.2559,        0.0,1,      0.061,1,      4.691,1,      0.129,1,     -999.0,9,     -999.0,9,     -999.0,9,     -999.0,9,     -999.0,9,     -999.0,9,     -999.0,9,     -999.0,9,     -999.0,9,     -999.0,9,     -999.0,9,     2.1978,2,     -999.0,     -999.0,9,     -999.0
320620170820,        P06,     194,          1,          8,          8,2,20170912,       1626,   -32.5000,  -108.2558,       3154,  1783.5,   2.4198,  34.5971,2,  34.5993,2, 155.8136,2, 155.7888,2,    93.7,2,   35.27,2,    0.00,2,    2.43,2,   0.064,2,   0.043,2,   0.0000,2,  2278.8,2,  2362.2,6,   7.5616,2,    25.00, -999.00,9, -999.00,9, -999.00,    42.4,2, -999.00,9,     -999.0,1,  -999.0,9, 20170912,     1656, -32.5000,-108.2558,        0.0,1,      0.061,1,      4.691,1,      0.127,1,     -999.0,9,     -999.0,9,     -999.0,9,     -999.0,9,     -999.0,9,     -999.0,9,     -999.0,9,     -999.0,9,     -999.0,9,     -999.0,9,     -999.0,9,     2.4113,2,     -999.0,     -999.0,9,     -999.0
320620170820,        P06,     194,          1,          9,          9,2,20170912,       1626,   -32.5000,  -108.2558,       3154,  1682.9,   2.5894,  34.5740,2,  34.5761,2, 151.9499,2, 151.8184,2,    89.8,2,   35.76,2,    0.00,2,    2.44,2,   0.060,2,   0.037,2,   0.0000,2,  -999.0,9,  -999.0,9,-999.0000,9,  -999.00, -999.00,9, -999.00,9, -999.00,  -999.0,9, -999.00,9,     -999.0,9,  -999.0,9, 20170912,     1659, -32.5000,-108.2558,        0.0,1,      0.061,1,      4.691,1,      0.129,1,     -999.0,9,     -999.0,9,     -999.0,9,     -999.0,9,     -999.0,9,     -999.0,9,     -999.0,9,     -999.0,9,     -999.0,9,     -999.0,9,     -999.0,9,     2.5671,2,     -999.0,     -999.0,9,     -999.0
320620170820,        P06,     194,          1,         10,         10,2,20170912,       1626,   -32.5000,  -108.2558,       3154,  1580.4,   2.7878,  34.5524,2,  34.5535,2,  144.301,2, 143.9329,2,    86.5,2,   36.28,2,    0.00,2,    2.52,2,   0.052,2,   0.033,2,   0.0000,2,  2278.6,2,  2354.8,2,   7.5418,6,    25.00, -999.00,9, -999.00,9, -999.00,    41.0,2, -999.00,9,     -999.0,1,  -999.0,9, 20170912,     1701, -32.5000,-108.2558,        0.0,1,      0.061,1,      4.691,1,      0.129,1,     -999.0,9,     -999.0,9,     -999.0,9,     -999.0,9,     -999.0,9,     -999.0,9,     -999.0,9,     -999.0,9,     -999.0,9,     -999.0,9,     -999.0,9,     2.7821,2,     -999.0,     -999.0,9,     -999.0
320620170820,        P06,     194,          1,         11,         11,2,20170912,       1626,   -32.5000,  -108.2558,       3154,  1480.2,   2.9995,  34.5350,2,  34.5333,2, 135.1356,2, 134.6861,2,    83.3,2,   37.20,2,    0.00,2,    2.60,2,   0.042,2,   0.027,2,   0.0000,2,  -999.0,9,  -999.0,9,-999.0000,9,  -999.00, -999.00,9, -999.00,9, -999.00,  -999.0,9, -999.00,9,     -999.0,9,  -999.0,9, 20170912,     1704, -32.5001,-108.2557,        0.0,1,      0.063,1,      4.691,1,      0.129,1,     -999.0,9,     -999.0,9,     -999.0,9,     -999.0,9,     -999.0,9,     -999.0,9,     -999.0,9,     -999.0,9,     -999.0,9,     -999.0,9,     -999.0,9,     3.0110,2,     -999.0,     -999.0,9,     -999.0
320620170820,        P06,     194,          1,         12,         12,2,20170912,       1626,   -32.5000,  -108.2558,       3154,  1378.7,   3.2192,  34.5094,2,  34.5103,2, 130.0287,2,  130.041,2,    77.9,2,   37.61,2,    0.00,2,    2.61,2,   0.046,2,   0.028,2,   0.0000,2,  2280.1,6,  2345.8,2,   7.5186,2,    25.00, -999.00,9, -999.00,9, -999.00,    39.9,2, -999.00,9,     -999.0,1,  -999.0,9, 20170912,     1707, -32.5001,-108.2557,        0.0,1,      0.061,1,      4.691,1,      0.129,1,     -999.0,9,     -999.0,9,     -999.0,9,     -999.0,9,     -999.0,9,     -999.0,9,     -999.0,9,     -999.0,9,     -999.0,9,     -999.0,9,     -999.0,9,     3.2221,2,     -999.0,     -999.0,9,     -999.0
320620170820,        P06,     194,          1,         13,         13,2,20170912,       1626,   -32.5000,  -108.2558,       3154,  1175.2,   3.6242,  34.4040,2,  34.4074,2, 150.5891,2, 151.3055,2,    54.6,2,   36.19,2,    0.00,2,    2.49,2,   0.144,2,   0.089,2,   0.0000,2,  -999.0,9,  -999.0,9,-999.0000,9,  -999.00, -999.00,9, -999.00,9, -999.00,  -999.0,9, -999.00,9,     -999.0,9,  -999.0,9, 20170912,     1711, -32.5001,-108.2557,        0.0,1,      0.061,1,      4.690,1,      0.131,1,     -999.0,9,     -999.0,9,     -999.0,9,     -999.0,9,     -999.0,9,     -999.0,9,     -999.0,9,     -999.0,9,     -999.0,9,     -999.0,9,     -999.0,9,     3.6165,2,     -999.0,     -999.0,9,     -999.0
320620170820,        P06,     194,          1,         14,         14,2,20170912,       1626,   -32.5000,  -108.2558,       3154,   973.3,   4.4342,  34.2942,2,  34.2931,2, 201.1826,2, 200.7382,2,    26.8,2,   31.33,2,    0.00,2,    2.11,2,   1.234,2,   0.637,2,   0.2970,2,  2193.4,2,  2290.8,2,   7.6147,2,    25.00, -999.00,9, -999.00,9, -999.00,    48.2,3, -999.00,9,     -999.0,1,  -999.0,9, 20170912,     1715, -32.5001,-108.2557,        0.0,1,      0.061,1,      4.690,1,      0.130,1,     -999.0,9,     -999.0,9,     -999.0,9,     -999.0,9,     -999.0,9,     -999.0,9,     -999.0,9,     -999.0,9,     -999.0,9,     -999.0,9,     -999.0,9,     4.4684,2,     -999.0,     -999.0,9,     -999.0
320620170820,        P06,     194,          1,         15,         15,2,20170912,       1626,   -32.5000,  -108.2558,       3154,   870.6,   4.9671,  34.2702,2,  34.2695,2, 220.3447,2,  219.854,2,    17.9,2,   28.80,2,    0.00,2,    1.93,2,   2.054,2,   1.028,2,   0.3710,2,  -999.0,9,  -999.0,9,-999.0000,9,  -999.00, -999.00,9, -999.00,9, -999.00,  -999.0,9, -999.00,9,     -999.0,9,  -999.0,9, 20170912,     1718, -32.5000,-108.2558,        0.0,1,      0.060,1,      4.690,1,      0.130,1,     -999.0,9,     -999.0,9,     -999.0,9,     -999.0,9,     -999.0,9,     -999.0,9,     -999.0,9,     -999.0,9,     -999.0,9,     -999.0,9,     -999.0,9,     4.9866,2,     -999.0,     -999.0,9,     -999.0
320620170820,        P06,     194,          1,         16,         16,2,20170912,       1626,   -32.5000,  -108.2558,       3154,   770.6,   5.4642,  34.2664,2,  34.2668,2, 237.3923,2, 236.6686,2,    11.6,2,   26.27,2,    0.00,2,    1.74,2,   2.906,2,   1.496,2,   0.6150,2,  2157.8,2,  2278.3,2,   7.6782,2,    25.00, -999.00,9, -999.00,9, -999.00,    45.2,2, -999.00,9,     -999.0,1,  -999.0,9, 20170912,     1720, -32.5000,-108.2558,        0.0,1,      0.059,1,      4.690,1,      0.133,1,     -999.0,9,     -999.0,9,     -999.0,9,     -999.0,9,     -999.0,9,     -999.0,9,     -999.0,9,     -999.0,9,     -999.0,9,     -999.0,9,     -999.0,9,     5.5273,2,     -999.0,     -999.0,9,     -999.0
320620170820,        P06,     194,          1,         17,         17,2,20170912,       1626,   -32.5000,  -108.2558,       3154,   670.0,   5.9170,  34.2796,2,  34.2789,2, 240.5522,2,  240.484,2,     9.3,2,   25.07,2,    0.00,2,    1.66,2,   3.378,6,   1.762,6,   0.8340,6,  -999.0,9,  -999.0,9,-999.0000,9,  -999.00, -999.00,9, -999.00,9, -999.00,    45.3,2, -999.00,9,     -999.0,1,  -999.0,9, 20170912,     1723, -32.5000,-108.2559,        0.0,1,      0.059,1,      4.690,1,      0.132,1,     -999.0,9,     -999.0,9,     -999.0,9,     -999.0,9,     -999.0,9,     -999.0,9,     -999.0,9,     -999.0,9,     -999.0,9,     -999.0,9,     -999.0,9,     5.9103,2,     -999.0,     -999.0,9,     -999.0
320620170820,        P06,     194,          1,         18,         18,2,20170912,       1626,   -32.5000,  -108.2558,       3154,   568.4,   6.3848,  34.3045,2,  34.3046,2, 240.9283,3, 237.8955,2,     7.8,2,   24.00,2,    0.00,2,    1.59,2,   3.552,2,   1.882,2,   0.9530,2,  2151.5,2,  2275.0,2,   7.6886,2,    25.00, -999.00,9, -999.00,9, -999.00,    43.8,2, -999.00,9,     -999.0,1,  -999.0,9, 20170912,     1726, -32.5000,-108.2559,        0.0,1,      0.059,1,      4.689,1,      0.132,1,     -999.0,9,     -999.0,9,     -999.0,9,     -999.0,9,     -999.0,9,     -999.0,9,     -999.0,9,     -999.0,9,     -999.0,9,     -999.0,9,     -999.0,9,     6.3976,2,     -999.0,     -999.0,9,     -999.0
320620170820,        P06,     194,          1,         19,         19,2,20170912,       1626,   -32.5000,  -108.2558,       3154,   488.0,   6.9487,  34.3237,2,  34.3195,2, 236.3079,2, 238.5442,2,     6.2,2,   22.62,2,    0.00,2,    1.49,2,   3.574,2,   1.955,2,   1.2290,2,  -999.0,9,  -999.0,9,-999.0000,9,  -999.00, -999.00,9, -999.00,9, -999.00,    43.5,2, -999.00,9,     -999.0,1,  -999.0,9, 20170912,     1728, -32.5000,-108.2559,        0.0,1,      0.059,1,      4.687,1,      0.134,1,     -999.0,9,     -999.0,9,     -999.0,9,     -999.0,9,     -999.0,9,     -999.0,9,     -999.0,9,     -999.0,9,     -999.0,9,     -999.0,9,     -999.0,9,     6.8801,2,     -999.0,     -999.0,9,     -999.0
320620170820,        P06,     194,          1,         20,         20,2,20170912,       1626,   -32.5000,  -108.2558,       3154,   437.0,   7.4537,  34.3066,2,  34.3048,2,  231.611,2,  232.603,2,     5.2,2,   21.99,2,    0.00,2,    1.46,2,   3.548,2,   1.952,2,   1.3180,2,  2146.7,2,  2273.6,2,   7.6937,2,    25.00, -999.00,9, -999.00,9, -999.00,    43.2,2, -999.00,9,     -999.0,1,  -999.0,9, 20170912,     1730, -32.4999,-108.2560,        0.0,1,      0.059,1,      4.686,1,      0.133,1,     -999.0,9,     -999.0,9,     -999.0,9,     -999.0,9,     -999.0,9,     -999.0,9,     -999.0,9,     -999.0,9,     -999.0,9,     -999.0,9,     -999.0,9,     7.3588,2,     -999.0,     -999.0,9,     -999.0
320620170820,        P06,     194,          1,         21,         21,2,20170912,       1626,   -32.5000,  -108.2558,       3154,   366.6,   9.1398,  34.3378,2,  34.3074,3, 226.8656,2, 227.8164,2,     2.7,2,   18.49,2,    0.00,2,    1.22,2,   3.392,2,   1.913,2,   1.5010,2,  -999.0,9,  -999.0,9,-999.0000,9,  -999.00, -999.00,9, -999.00,9, -999.00,  -999.0,9, -999.00,9,     -999.0,1,  -999.0,9, 20170912,     1732, -32.4999,-108.2560,        0.0,1,      0.059,1,      4.684,1,      0.133,1,     -999.0,9,     -999.0,9,     -999.0,9,     -999.0,9,     -999.0,9,     -999.0,9,     -999.0,9,     -999.0,9,     -999.0,9,     -999.0,9,     -999.0,9,     8.8548,2,     -999.0,     -999.0,9,     -999.0
320620170820,        P06,     194,          1,         22,         22,2,20170912,       1626,   -32.5000,  -108.2558,       3154,   286.3,  12.2752,  34.5683,2,  34.5390,2, 217.8563,2, 218.1097,2,     0.7,2,   10.40,2,    0.00,2,    0.73,2,   2.893,2,   1.698,2,   1.5470,2,  2108.0,2,  2278.5,2,   7.8077,2,    25.00, -999.00,9, -999.00,9, -999.00,    47.5,2, -999.00,9,     -999.0,1,  -999.0,9, 20170912,     1734, -32.4999,-108.2560,        0.0,1,      0.063,1,      4.680,1,      0.133,1,     -999.0,9,     -999.0,9,     -999.0,9,     -999.0,9,     -999.0,9,     -999.0,9,     -999.0,9,     -999.0,9,     -999.0,9,     -999.0,9,     -999.0,9,    12.0854,2,     -999.0,     -999.0,9,     -999.0
320620170820,        P06,     194,          1,         23,         23,2,20170912,       1626,   -32.5000,  -108.2558,       3154,   240.9,  13.5911,  34.6120,2,  34.6286,2, 225.6416,2, 222.6089,2,     0.1,2,    6.09,2,    0.02,2,    0.47,2,   2.607,2,   1.585,2,   1.7110,2,  -999.0,9,  -999.0,9,-999.0000,9,  -999.00, -999.00,9, -999.00,9, -999.00,  -999.0,9, -999.00,9,     -999.0,9,  -999.0,9, 20170912,     1736, -32.4999,-108.2560,        0.0,1,      0.069,1,      4.676,1,      0.134,1,     -999.0,9,     -999.0,9,     -999.0,9,     -999.0,9,     -999.0,9,     -999.0,9,     -999.0,9,     -999.0,9,     -999.0,9,     -999.0,9,     -999.0,9,    13.5359,2,     -999.0,     -999.0,9,     -999.0
320620170820,        P06,     194,          1,         24,         24,2,20170912,       1626,   -32.5000,  -108.2558,       3154,   215.4,  14.9183,  34.7476,2,  34.6999,2, 226.9913,2, 226.6304,2,     0.0,2,    3.48,2,    0.09,2,    0.31,2,   2.492,2,   1.515,2,   1.6550,2,  2075.9,2,  2286.0,6,   7.8811,2,    25.00, -999.00,9, -999.00,9, -999.00,    51.3,2,    6.40,2,     -999.0,1,  -999.0,9, 20170912,     1738, -32.4999,-108.2560,        0.0,1,      0.098,1,      4.669,1,      0.142,1,     -999.0,9,     -999.0,9,     -999.0,9,     -999.0,9,     -999.0,9,     -999.0,9,     -999.0,9,     -999.0,9,     -999.0,9,     -999.0,9,     -999.0,9,    14.5479,2,     -999.0,     -999.0,9,     -999.0
320620170820,        P06,     194,          1,         25,         25,2,20170912,       1626,   -32.5000,  -108.2558,       3154,   189.9,  15.5793,  34.7448,2,  34.6863,2,  234.826,2, 232.5396,2,     0.0,2,    1.92,2,    0.36,2,    0.26,2,   2.484,2,   1.498,2,   1.7460,2,  -999.0,9,  -999.0,9,-999.0000,9,  -999.00, -999.00,9, -999.00,9, -999.00,    51.1,2,    5.20,2,     -999.0,1,  -999.0,9, 20170912,     1739, -32.4999,-108.2560,        0.0,1,      0.114,1,      4.664,1,      0.144,1,     -999.0,9,     -999.0,9,     -999.0,9,     -999.0,9,     -999.0,9,     -999.0,9,     -999.0,9,     -999.0,9,     -999.0,9,     -999.0,9,     -999.0,9,    15.1235,2,     -999.0,     -999.0,9,     -999.0
320620170820,        P06,     194,          1,         26,         26,2,20170912,       1626,   -32.5000,  -108.2558,       3154,   165.4,  17.0647,  34.9337,2,  34.9223,2, 235.4418,2, 236.0312,2,     0.0,2,    0.11,2,    0.08,2,    0.08,2,   2.276,2,   1.364,2,   1.7480,2,  2055.0,2,  2299.2,2,   7.9504,6,    25.00, -999.00,9, -999.00,9, -999.00,    63.0,2,    4.10,2,     -999.0,1,  -999.0,9, 20170912,     1741, -32.4999,-108.2560,        0.0,1,      0.142,1,      4.654,1,      0.158,1,     -999.0,9,     -999.0,9,     -999.0,9,     -999.0,9,     -999.0,9,     -999.0,9,     -999.0,9,     -999.0,9,     -999.0,9,     -999.0,9,     -999.0,9,    17.0402,2,     -999.0,     -999.0,9,     -999.0