BOTTLE,20240211CCHSIOCBG
EXPOCODE,SECT_ID,STNNBR,CASTNO,SAMPNO,BTLNBR,BTLNBR_FLAG_W,DATE,TIME,LATITUDE,LONGITUDE,DEPTH,CTDPRS,CTDTMP,CTDSAL,CTDSAL_FLAG_W,SALNTY,SALNTY_FLAG_W,CTDOXY,CTDOXY_FLAG_W,OXYGEN,OXYGEN_FLAG_W,SILCAT,SILCAT_FLAG_W,NITRAT,NITRAT_FLAG_W,NITRIT,NITRIT_FLAG_W,PHSPHT,PHSPHT_FLAG_W,CFC-11,CFC-11_FLAG_W,CFC-12,CFC-12_FLAG_W,SF6,SF6_FLAG_W,TCARBN,TCARBN_FLAG_W,ALKALI,ALKALI_FLAG_W,PH_TOT,PH_TOT_FLAG_W,PH_TMP,DELC13,DELC13_FLAG_W,DELC14,DELC14_FLAG_W,C14ERR,DOC,DOC_FLAG_W,TDN,TDN_FLAG_W,TON,TON_FLAG_W,D15N_NO3,D15N_NO3_FLAG_W,BTL_DATE,BTL_TIME,BTL_LAT,BTL_LON,CTDRINKO,CTDRINKO_FLAG_W,CTDFLUOR,CTDFLUOR_FLAG_W,CTDXMISS,CTDXMISS_FLAG_W,CTDBACKSCATTER,CTDBACKSCATTER_FLAG_W,D18O_NO3,D18O_NO3_FLAG_W,DOP,DOP_FLAG_W,CELLCOUNT,CELLCOUNT_FLAG_W,TDP,TDP_FLAG_W,POP,POP_FLAG_W,DATP,DATP_FLAG_W,PATP,PATP_FLAG_W,HPLC,HPLC_FLAG_W,POC,POC_FLAG_W,BEAMAP,BEAMAP_FLAG_W,DOC_NASA,DOC_NASA_FLAG_W,REFTMP,REFTMP_FLAG_W,DOC_NASA_ERROR,TDN_NASA,TDN_NASA_FLAG_W,TDN_NASA_ERROR
,,,,,,,,,,,METERS,DBAR,ITS-90,PSS-78,,PSS-78,,UMOL/KG,,UMOL/KG,,UMOL/KG,,UMOL/KG,,UMOL/KG,,UMOL/KG,,PMOL/KG,,PMOL/KG,,FMOL/KG,,UMOL/KG,,UMOL/KG,,,,DEG C,/MILLE,,/MILLE,,/MILLE,UMOL/KG,,UMOL/KG,,UMOL/KG,,/MILLE,,,,,,VOLTS,,VOLTS,,VOLTS,,VOLTS,,/MILLE,,UMOL/KG,,/LITER,,UMOL/KG,,UMOL/L,,PMOL/L,,PMOL/L,,,,UG/L,,/METER,,UMOL/L,,ITS-90,,UMOL/L,UMOL/L,,UMOL/L
320620170820,        P06,     189,          1,          1,          1,2,20170911,       0631,   -32.5006,  -111.7047,       2484,  2509.3,   1.8490,  34.6644,2,  34.6657,2, 159.2726,2,  159.195,2,   119.1,2,   34.95,2,    0.00,2,    2.42,2,   0.034,2,   0.019,2,   0.0000,2,  2300.3,6,  2393.7,2,   7.5836,2,    25.00, -999.00,9, -999.00,9, -999.00,  -999.0,9, -999.00,9,     -999.0,9,  -999.0,1, 20170911,      631, -32.5006,-111.7047,        0.0,1,      0.060,1,      4.690,1,      0.134,1,     -999.0,1,     -999.0,9,     -999.0,9,     -999.0,9,     -999.0,9,     -999.0,9,     -999.0,9,     -999.0,9,     -999.0,9,     -999.0,9,     -999.0,9,     1.8497,2,     -999.0,     -999.0,9,     -999.0
320620170820,        P06,     189,          1,          2,          2,2,20170911,       0631,   -32.5006,  -111.7047,       2484,  2379.7,   1.8535,  34.6631,2,  34.6633,2,  159.251,2, 159.3917,2,   118.5,2,   34.97,2,    0.00,2,    2.40,2,-999.000,9,-999.000,9,-999.0000,9,  2299.9,2,  2393.0,2,   7.5820,2,    25.00, -999.00,9, -999.00,9, -999.00,  -999.0,9, -999.00,9,     -999.0,9,  -999.0,1, 20170911,      635, -32.5005,-111.7048,        0.0,1,      0.061,1,      4.690,1,      0.134,1,     -999.0,1,     -999.0,9,     -999.0,9,     -999.0,9,     -999.0,9,     -999.0,9,     -999.0,9,     -999.0,9,     -999.0,9,     -999.0,9,     -999.0,9,     1.8519,2,     -999.0,     -999.0,9,     -999.0
320620170820,        P06,     189,          1,          3,          3,2,20170911,       0631,   -32.5006,  -111.7047,       2484,  2225.9,   1.8839,  34.6588,2,  34.6586,2, 159.3498,2, 159.0857,2,   116.8,2,   35.05,2,    0.00,2,    2.41,2,   0.035,2,   0.023,2,   0.0000,2,  2299.5,2,  2389.8,2,   7.5805,2,    25.00, -999.00,9, -999.00,9, -999.00,  -999.0,9, -999.00,9,     -999.0,9,  -999.0,1, 20170911,      638, -32.5005,-111.7050,        0.0,1,      0.061,1,      4.691,1,      0.131,1,     -999.0,1,     -999.0,9,     -999.0,9,     -999.0,9,     -999.0,9,     -999.0,9,     -999.0,9,     -999.0,9,     -999.0,9,     -999.0,9,     -999.0,9,     1.8844,2,     -999.0,     -999.0,9,     -999.0
320620170820,        P06,     189,          1,          4,          4,2,20170911,       0631,   -32.5006,  -111.7047,       2484,  2023.4,   2.0366,  34.6464,2,  34.6455,2, 158.0862,2, 158.3426,2,   109.9,2,   35.06,2,    0.00,2,    2.39,2,-999.000,9,-999.000,9,-999.0000,9,  -999.0,9,  -999.0,9,-999.0000,9,  -999.00, -999.00,9, -999.00,9, -999.00,  -999.0,9, -999.00,9,     -999.0,9,  -999.0,1, 20170911,      643, -32.5005,-111.7049,        0.0,1,      0.061,1,      4.691,1,      0.128,1,     -999.0,1,     -999.0,9,     -999.0,9,     -999.0,9,     -999.0,9,     -999.0,9,     -999.0,9,     -999.0,9,     -999.0,9,     -999.0,9,     -999.0,9,     2.0367,2,     -999.0,     -999.0,9,     -999.0
320620170820,        P06,     189,          1,          5,          5,2,20170911,       0631,   -32.5006,  -111.7047,       2484,  1921.7,   2.1575,  34.6357,2,  34.6354,2, 159.0397,2, 159.2624,2,   103.0,2,   34.91,2,    0.00,2,    2.39,2,   0.054,2,   0.035,2,   0.0000,2,  2286.0,2,  2373.8,2,   7.5722,2,    25.00, -999.00,9, -999.00,9, -999.00,  -999.0,9, -999.00,9,     -999.0,9,  -999.0,1, 20170911,      646, -32.5005,-111.7048,        0.0,1,      0.061,1,      4.691,1,      0.129,1,     -999.0,1,     -999.0,9,     -999.0,9,     -999.0,9,     -999.0,9,     -999.0,9,     -999.0,9,     -999.0,9,     -999.0,9,     -999.0,9,     -999.0,9,     2.1567,2,     -999.0,     -999.0,9,     -999.0
320620170820,        P06,     189,          1,          6,          6,2,20170911,       0631,   -32.5006,  -111.7047,       2484,  1819.4,   2.2645,  34.6209,2,  34.6213,2, 160.1154,2, 160.1038,2,    97.3,2,   34.71,2,    0.00,2,    2.37,2,-999.000,9,-999.000,9,-999.0000,9,  -999.0,9,  -999.0,9,-999.0000,9,  -999.00, -999.00,9, -999.00,9, -999.00,  -999.0,9, -999.00,9,     -999.0,9,  -999.0,1, 20170911,      649, -32.5006,-111.7047,        0.0,1,      0.061,1,      4.692,1,      0.129,1,     -999.0,1,     -999.0,9,     -999.0,9,     -999.0,9,     -999.0,9,     -999.0,9,     -999.0,9,     -999.0,9,     -999.0,9,     -999.0,9,     -999.0,9,     2.2561,2,     -999.0,     -999.0,9,     -999.0
320620170820,        P06,     189,          1,          7,          7,2,20170911,       0631,   -32.5006,  -111.7047,       2484,  1717.0,   2.3769,  34.6004,2,  34.5999,2, 160.4807,2, 160.5215,2,    91.9,2,   34.91,2,    0.00,2,    2.37,2,   0.068,2,   0.043,2,   0.0000,2,  2274.9,2,  2361.6,6,   7.5678,2,    25.00, -999.00,9, -999.00,9, -999.00,  -999.0,9, -999.00,9,     -999.0,9,  -999.0,1, 20170911,      652, -32.5005,-111.7047,        0.0,1,      0.061,1,      4.692,1,      0.128,1,     -999.0,1,     -999.0,9,     -999.0,9,     -999.0,9,     -999.0,9,     -999.0,9,     -999.0,9,     -999.0,9,     -999.0,9,     -999.0,9,     -999.0,9,     2.3749,2,     -999.0,     -999.0,9,     -999.0
320620170820,        P06,     189,          1,          8,          8,2,20170911,       0631,   -32.5006,  -111.7047,       2484,  1615.8,   2.5232,  34.5728,2,  34.5747,2, 161.9318,2, 161.9428,2,    84.7,2,   34.89,2,    0.00,2,    2.38,2,-999.000,9,-999.000,9,-999.0000,9,  -999.0,9,  -999.0,9,-999.0000,9,  -999.00, -999.00,9, -999.00,9, -999.00,  -999.0,9, -999.00,9,     -999.0,9,  -999.0,1, 20170911,      655, -32.5005,-111.7049,        0.0,1,      0.061,1,      4.692,1,      0.129,1,     -999.0,1,     -999.0,9,     -999.0,9,     -999.0,9,     -999.0,9,     -999.0,9,     -999.0,9,     -999.0,9,     -999.0,9,     -999.0,9,     -999.0,9,     2.5090,2,     -999.0,     -999.0,9,     -999.0
320620170820,        P06,     189,          1,          9,          9,2,20170911,       0631,   -32.5006,  -111.7047,       2484,  1513.6,   2.7197,  34.5357,2,  34.5386,2, 160.8269,2, 160.5243,2,    77.7,2,   35.24,2,    0.00,2,    2.41,2,   0.137,2,   0.082,2,   0.0000,2,  2264.0,2,  2344.1,2,   7.5571,6,    25.00, -999.00,9, -999.00,9, -999.00,  -999.0,9, -999.00,9,     -999.0,9,  -999.0,1, 20170911,      658, -32.5005,-111.7050,        0.0,1,      0.061,1,      4.692,1,      0.128,1,     -999.0,1,     -999.0,9,     -999.0,9,     -999.0,9,     -999.0,9,     -999.0,9,     -999.0,9,     -999.0,9,     -999.0,9,     -999.0,9,     -999.0,9,     2.7040,2,     -999.0,     -999.0,9,     -999.0
320620170820,        P06,     189,          1,         10,         10,2,20170911,       0631,   -32.5006,  -111.7047,       2484,  1413.6,   2.9398,  34.5002,2,  34.5044,2, 157.5359,2, 157.6023,2,    72.6,2,   35.65,2,    0.00,2,    2.43,2,-999.000,9,-999.000,9,-999.0000,9,  -999.0,9,  -999.0,9,-999.0000,9,  -999.00, -999.00,9, -999.00,9, -999.00,  -999.0,9, -999.00,9,     -999.0,9,  -999.0,1, 20170911,      702, -32.5005,-111.7051,        0.0,1,      0.062,1,      4.692,1,      0.129,1,     -999.0,1,     -999.0,9,     -999.0,9,     -999.0,9,     -999.0,9,     -999.0,9,     -999.0,9,     -999.0,9,     -999.0,9,     -999.0,9,     -999.0,9,     2.9123,2,     -999.0,     -999.0,9,     -999.0
320620170820,        P06,     189,          1,         11,         11,2,20170911,       0631,   -32.5006,  -111.7047,       2484,  1311.5,   3.2700,  34.4546,2,  34.4587,2, 153.7816,2, 153.1432,2,    65.0,2,   36.10,2,    0.00,2,    2.46,2,   0.146,2,   0.089,2,   0.0000,2,  2255.3,6,  2330.2,2,   7.5440,2,    25.00, -999.00,9, -999.00,9, -999.00,  -999.0,9, -999.00,9,     -999.0,9,  -999.0,1, 20170911,      705, -32.5005,-111.7051,        0.0,1,      0.061,1,      4.692,1,      0.129,1,     -999.0,1,     -999.0,9,     -999.0,9,     -999.0,9,     -999.0,9,     -999.0,9,     -999.0,9,     -999.0,9,     -999.0,9,     -999.0,9,     -999.0,9,     3.2369,2,     -999.0,     -999.0,9,     -999.0
320620170820,        P06,     189,          1,         12,         12,2,20170911,       0631,   -32.5006,  -111.7047,       2484,  1211.5,   3.5807,  34.4028,2,  34.4129,2, 154.1554,2, 154.9715,2,    55.7,2,   35.92,2,    0.00,2,    2.44,2,   0.164,2,   0.101,2,   0.0000,2,  -999.0,9,  -999.0,9,-999.0000,9,  -999.00, -999.00,9, -999.00,9, -999.00,  -999.0,9, -999.00,9,     -999.0,9,  -999.0,1, 20170911,      708, -32.5005,-111.7050,        0.0,1,      0.060,1,      4.692,1,      0.128,1,     -999.0,1,     -999.0,9,     -999.0,9,     -999.0,9,     -999.0,9,     -999.0,9,     -999.0,9,     -999.0,9,     -999.0,9,     -999.0,9,     -999.0,9,     3.5648,2,     -999.0,     -999.0,9,     -999.0
320620170820,        P06,     189,          1,         13,         13,2,20170911,       0631,   -32.5006,  -111.7047,       2484,  1109.5,   3.9800,  34.3510,2,  34.3478,2, 172.1183,2, 171.9611,2,    41.0,2,   34.39,2,    0.00,2,    2.33,2,   0.374,2,   0.208,2,   0.0000,2,  2222.2,2,  2305.3,2,   7.5696,2,    25.00, -999.00,9, -999.00,9, -999.00,  -999.0,9, -999.00,9,     -999.0,9,  -999.0,1, 20170911,      711, -32.5005,-111.7049,        0.0,1,      0.060,1,      4.692,1,      0.128,1,     -999.0,1,     -999.0,9,     -999.0,9,     -999.0,9,     -999.0,9,     -999.0,9,     -999.0,9,     -999.0,9,     -999.0,9,     -999.0,9,     -999.0,9,     3.9842,2,     -999.0,     -999.0,9,     -999.0
320620170820,        P06,     189,          1,         14,         14,2,20170911,       0631,   -32.5006,  -111.7047,       2484,  1007.0,   4.4169,  34.3050,2,  34.2997,2, 197.3892,2, 196.8161,2,    28.3,2,   31.72,2,    0.00,2,    2.12,2,   0.985,2,   0.508,2,   0.1740,2,  -999.0,9,  -999.0,9,-999.0000,9,  -999.00, -999.00,9, -999.00,9, -999.00,  -999.0,9, -999.00,9,     -999.0,9,  -999.0,1, 20170911,      714, -32.5005,-111.7048,        0.0,1,      0.059,1,      4.692,1,      0.128,1,     -999.0,1,     -999.0,9,     -999.0,9,     -999.0,9,     -999.0,9,     -999.0,9,     -999.0,9,     -999.0,9,     -999.0,9,     -999.0,9,     -999.0,9,     4.4221,2,     -999.0,     -999.0,9,     -999.0
320620170820,        P06,     189,          1,         15,         15,2,20170911,       0631,   -32.5006,  -111.7047,       2484,   906.9,   4.9296,  34.2774,2,  34.2738,3, 218.8389,2, 218.0379,2,    18.9,2,   28.96,2,    0.00,2,    1.92,2,   1.842,2,   0.935,2,   0.3180,2,  2175.3,2,  2284.4,2,   7.6482,2,    25.00, -999.00,9, -999.00,9, -999.00,  -999.0,9, -999.00,9,     -999.0,9,  -999.0,1, 20170911,      718, -32.5005,-111.7047,        0.0,1,      0.059,1,      4.692,1,      0.132,1,     -999.0,1,     -999.0,9,     -999.0,9,     -999.0,9,     -999.0,9,     -999.0,9,     -999.0,9,     -999.0,9,     -999.0,9,     -999.0,9,     -999.0,9,     4.9759,2,     -999.0,     -999.0,9,     -999.0
320620170820,        P06,     189,          1,         16,         16,2,20170911,       0631,   -32.5006,  -111.7047,       2484,   807.0,   5.4505,  34.2711,2,  34.2697,2, 231.9036,2, 232.6525,2,    13.0,2,   26.75,2,    0.00,2,    1.77,2,   2.563,2,   1.304,2,   0.4790,2,  -999.0,9,  -999.0,9,-999.0000,9,  -999.00, -999.00,9, -999.00,9, -999.00,  -999.0,9, -999.00,9,     -999.0,9,  -999.0,1, 20170911,      721, -32.5005,-111.7047,        0.0,1,      0.059,1,      4.691,1,      0.128,1,     -999.0,1,     -999.0,9,     -999.0,9,     -999.0,9,     -999.0,9,     -999.0,9,     -999.0,9,     -999.0,9,     -999.0,9,     -999.0,9,     -999.0,9,     5.4287,2,     -999.0,     -999.0,9,     -999.0
320620170820,        P06,     189,          1,         17,         17,2,20170911,       0631,   -32.5006,  -111.7047,       2484,   704.2,   5.8724,  34.2829,2,  34.2817,2, 241.5044,2, 242.0249,2,     9.6,2,   24.89,2,    0.00,2,    1.64,2,   3.221,2,   1.649,2,   0.7320,2,  2152.2,2,  2278.7,2,   7.6923,2,    25.00, -999.00,9, -999.00,9, -999.00,  -999.0,9, -999.00,9,     -999.0,9,  -999.0,1, 20170911,      724, -32.5005,-111.7047,        0.0,1,      0.059,1,      4.691,1,      0.130,1,     -999.0,1,     -999.0,9,     -999.0,9,     -999.0,9,     -999.0,9,     -999.0,9,     -999.0,9,     -999.0,9,     -999.0,9,     -999.0,9,     -999.0,9,     5.8876,2,     -999.0,     -999.0,9,     -999.0
320620170820,        P06,     189,          1,         18,         18,2,20170911,       0631,   -32.5006,  -111.7047,       2484,   604.8,   6.3393,  34.3060,2,  34.3034,2, 245.1219,2, 244.9744,2,     7.6,2,   23.49,2,    0.00,2,    1.53,2,   3.580,2,   1.877,2,   0.9730,2,  -999.0,9,  -999.0,9,-999.0000,9,  -999.00, -999.00,9, -999.00,9, -999.00,  -999.0,9, -999.00,9,     -999.0,9,  -999.0,1, 20170911,      727, -32.5005,-111.7048,        0.0,1,      0.058,1,      4.690,1,      0.129,1,     -999.0,1,     -999.0,9,     -999.0,9,     -999.0,9,     -999.0,9,     -999.0,9,     -999.0,9,     -999.0,9,     -999.0,9,     -999.0,9,     -999.0,9,     6.3336,2,     -999.0,     -999.0,9,     -999.0
320620170820,        P06,     189,          1,         19,         19,2,20170911,       0631,   -32.5006,  -111.7047,       2484,   503.5,   6.8016,  34.3269,2,  34.3227,2, 245.3564,2, 245.6958,2,     6.3,2,   22.30,2,    0.00,2,    1.47,2,   3.684,2,   1.993,2,   1.1380,2,  2145.6,6,  2275.8,2,   7.7056,2,    25.00, -999.00,9, -999.00,9, -999.00,  -999.0,9, -999.00,9,     -999.0,9,  -999.0,1, 20170911,      731, -32.5005,-111.7048,        0.0,1,      0.059,1,      4.689,1,      0.133,1,     -999.0,1,     -999.0,9,     -999.0,9,     -999.0,9,     -999.0,9,     -999.0,9,     -999.0,9,     -999.0,9,     -999.0,9,     -999.0,9,     -999.0,9,     6.7673,2,     -999.0,     -999.0,9,     -999.0
320620170820,        P06,     189,          1,         20,         20,2,20170911,       0631,   -32.5006,  -111.7047,       2484,   451.8,   7.2676,  34.3169,2,  34.3162,2, 238.7502,2,  239.845,2,     5.1,2,   21.65,2,    0.00,2,    1.43,2,   3.634,2,   1.980,2,   1.3170,2,  -999.0,9,  -999.0,9,-999.0000,9,  -999.00, -999.00,9, -999.00,9, -999.00,  -999.0,9, -999.00,9,     -999.0,9,  -999.0,1, 20170911,      733, -32.5005,-111.7049,        0.0,1,      0.060,1,      4.688,1,      0.132,1,     -999.0,1,     -999.0,9,     -999.0,9,     -999.0,9,     -999.0,9,     -999.0,9,     -999.0,9,     -999.0,9,     -999.0,9,     -999.0,9,     -999.0,9,     7.2022,2,     -999.0,     -999.0,9,     -999.0
320620170820,        P06,     189,          1,         21,         21,2,20170911,       0631,   -32.5006,  -111.7047,       2484,   400.6,   8.0302,  34.3160,2,  34.3119,2, 233.9649,2, 234.4029,2,     4.1,2,   20.40,2,    0.00,2,    1.37,2,   3.573,2,   1.961,2,   1.3800,2,  2140.7,2,  2272.3,2,   7.7109,2,    25.00, -999.00,9, -999.00,9, -999.00,  -999.0,9, -999.00,9,     -999.0,9,  -999.0,1, 20170911,      736, -32.5004,-111.7051,        0.0,1,      0.059,1,      4.687,1,      0.132,1,     -999.0,1,     -999.0,9,     -999.0,9,     -999.0,9,     -999.0,9,     -999.0,9,     -999.0,9,     -999.0,9,     -999.0,9,     -999.0,9,     -999.0,9,     7.8640,2,     -999.0,     -999.0,9,     -999.0
320620170820,        P06,     189,          1,         22,         22,2,20170911,       0631,   -32.5006,  -111.7047,       2484,   351.5,   9.0358,  34.3191,2,  34.3074,2, 221.7765,2, 221.1503,2,     3.3,2,   18.91,2,    0.00,2,    1.28,2,   3.398,2,   1.884,2,   1.2570,2,  -999.0,9,  -999.0,9,-999.0000,9,  -999.00, -999.00,9, -999.00,9, -999.00,  -999.0,9, -999.00,9,     -999.0,9,  -999.0,1, 20170911,      738, -32.5004,-111.7051,        0.0,1,      0.059,1,      4.686,1,      0.133,1,     -999.0,1,     -999.0,9,     -999.0,9,     -999.0,9,     -999.0,9,     -999.0,9,     -999.0,9,     -999.0,9,     -999.0,9,     -999.0,9,     -999.0,9,     8.8427,2,     -999.0,     -999.0,9,     -999.0
320620170820,        P06,     189,          1,         23,         23,2,20170911,       0631,   -32.5006,  -111.7047,       2484,   300.7,  10.8642,  34.4697,2,  34.3704,2, 220.1317,2, 218.5835,2,     1.9,2,   15.29,2,    0.00,2,    1.05,2,   3.194,2,   1.824,2,   1.4040,2,  2122.1,2,  2272.0,2,   7.7556,2,    25.00, -999.00,9, -999.00,9, -999.00,  -999.0,9, -999.00,9,     -999.0,9,  -999.0,1, 20170911,      740, -32.5005,-111.7050,        0.0,1,      0.059,1,      4.685,1,      0.132,1,     -999.0,1,     -999.0,9,     -999.0,9,     -999.0,9,     -999.0,9,     -999.0,9,     -999.0,9,     -999.0,9,     -999.0,9,     -999.0,9,     -999.0,9,    10.2503,2,     -999.0,     -999.0,9,     -999.0
320620170820,        P06,     189,          1,         24,         24,2,20170911,       0631,   -32.5006,  -111.7047,       2484,   251.0,  12.8815,  34.6604,2,  34.6189,2, 218.1499,2, 218.5955,2,     0.7,2,    8.63,2,    0.00,2,    0.62,2,   2.773,2,   1.601,2,   1.5120,2,  -999.0,9,  -999.0,9,-999.0000,9,  -999.00, -999.00,9, -999.00,9, -999.00,  -999.0,9, -999.00,9,     -999.0,9,  -999.0,1, 20170911,      743, -32.5005,-111.7050,        0.0,1,      0.061,1,      4.681,1,      0.131,1,     -999.0,1,     -999.0,1,     -999.0,9,     -999.0,9,     -999.0,9,     -999.0,9,     -999.0,9,     -999.0,9,     -999.0,9,     -999.0,9,     -999.0,9,    12.6835,2,     -999.0,     -999.0,9,     -999.0
320620170820,        P06,     189,          1,         25,         25,2,20170911,       0631,   -32.5006,  -111.7047,       2484,   199.5,  14.3803,  34.7442,2,  34.7512,2, 228.9973,2, 225.5356,2,     0.1,2,    3.42,2,    0.09,2,    0.32,2,   2.484,2,   1.492,2,   1.5050,2,  2079.3,2,  2287.8,2,   7.8830,2,    25.00, -999.00,9, -999.00,9, -999.00,  -999.0,9, -999.00,9,     -999.0,9,  -999.0,1, 20170911,      745, -32.5006,-111.7048,        0.0,1,      0.076,1,      4.675,1,      0.136,1,     -999.0,1,     -999.0,1,     -999.0,9,       0.56,2,     -999.0,9,     -999.0,9,     -999.0,9,     -999.0,9,     -999.0,9,     -999.0,9,     -999.0,9,    14.5866,2,     -999.0,     -999.0,9,     -999.0
320620170820,        P06,     189,          1,         26,         26,2,20170911,       0631,   -32.5006,  -111.7047,       2484,   174.8,  15.2671,  34.8090,2,  34.8359,2,  231.088,2, 228.0885,2,     0.0,2,    1.30,2,    0.23,2,    0.22,2,-999.000,9,-999.000,9,-999.0000,9,  -999.0,9,  -999.0,9,-999.0000,9,  -999.00, -999.00,9, -999.00,9, -999.00,  -999.0,9, -999.00,9,     -999.0,9,  -999.0,1, 20170911,      747, -32.5006,-111.7048,        0.0,1,      0.114,1,      4.667,1,      0.142,1,     -999.0,1,     -999.0,1,     -999.0,9,     -999.0,9,     -999.0,9,     -999.0,9,     -999.0,9,     -999.0,9,     -999.0,9,     -999.0,9,     -999.0,9,    15.7132,2,     -999.0,     -999.0,9,     -999.0