BOTTLE,20240211CCHSIOCBG
EXPOCODE,SECT_ID,STNNBR,CASTNO,SAMPNO,BTLNBR,BTLNBR_FLAG_W,DATE,TIME,LATITUDE,LONGITUDE,DEPTH,CTDPRS,CTDTMP,CTDSAL,CTDSAL_FLAG_W,SALNTY,SALNTY_FLAG_W,CTDOXY,CTDOXY_FLAG_W,OXYGEN,OXYGEN_FLAG_W,SILCAT,SILCAT_FLAG_W,NITRAT,NITRAT_FLAG_W,NITRIT,NITRIT_FLAG_W,PHSPHT,PHSPHT_FLAG_W,CFC-11,CFC-11_FLAG_W,CFC-12,CFC-12_FLAG_W,SF6,SF6_FLAG_W,TCARBN,TCARBN_FLAG_W,ALKALI,ALKALI_FLAG_W,PH_TOT,PH_TOT_FLAG_W,PH_TMP,DELC13,DELC13_FLAG_W,DELC14,DELC14_FLAG_W,C14ERR,DOC,DOC_FLAG_W,TDN,TDN_FLAG_W,TON,TON_FLAG_W,D15N_NO3,D15N_NO3_FLAG_W,BTL_DATE,BTL_TIME,BTL_LAT,BTL_LON,CTDRINKO,CTDRINKO_FLAG_W,CTDFLUOR,CTDFLUOR_FLAG_W,CTDXMISS,CTDXMISS_FLAG_W,CTDBACKSCATTER,CTDBACKSCATTER_FLAG_W,D18O_NO3,D18O_NO3_FLAG_W,DOP,DOP_FLAG_W,CELLCOUNT,CELLCOUNT_FLAG_W,TDP,TDP_FLAG_W,POP,POP_FLAG_W,DATP,DATP_FLAG_W,PATP,PATP_FLAG_W,HPLC,HPLC_FLAG_W,POC,POC_FLAG_W,BEAMAP,BEAMAP_FLAG_W,DOC_NASA,DOC_NASA_FLAG_W,REFTMP,REFTMP_FLAG_W,DOC_NASA_ERROR,TDN_NASA,TDN_NASA_FLAG_W,TDN_NASA_ERROR
,,,,,,,,,,,METERS,DBAR,ITS-90,PSS-78,,PSS-78,,UMOL/KG,,UMOL/KG,,UMOL/KG,,UMOL/KG,,UMOL/KG,,UMOL/KG,,PMOL/KG,,PMOL/KG,,FMOL/KG,,UMOL/KG,,UMOL/KG,,,,DEG C,/MILLE,,/MILLE,,/MILLE,UMOL/KG,,UMOL/KG,,UMOL/KG,,/MILLE,,,,,,VOLTS,,VOLTS,,VOLTS,,VOLTS,,/MILLE,,UMOL/KG,,/LITER,,UMOL/KG,,UMOL/L,,PMOL/L,,PMOL/L,,,,UG/L,,/METER,,UMOL/L,,ITS-90,,UMOL/L,UMOL/L,,UMOL/L
320620170820,        P06,     221,          1,         27,         27,2,20170921,       0823,   -32.5003,   -86.4250,       3965,   286.9,   9.0818,  34.2534,2,  34.2466,2, 166.9242,2, 167.5298,2,     7.9,2,   23.41,2,    0.00,2,    1.82,2,   3.085,2,   1.611,2,   1.2990,4,  2176.2,2,  2266.3,2,   7.5992,2,    25.00, -999.00,9, -999.00,9, -999.00,  -999.0,9, -999.00,9,     -999.0,9,  -999.0,9, 20170921,      950, -32.5000, -86.4253,        0.0,1,      0.061,1,      4.673,1,      0.146,1,     -999.0,9,     -999.0,9,     -999.0,9,     -999.0,9,     -999.0,9,     -999.0,9,     -999.0,9,     -999.0,9,     -999.0,9,     -999.0,9,     -999.0,9,     9.0758,2,     -999.0,     -999.0,9,     -999.0
320620170820,        P06,     221,          1,         28,         28,2,20170921,       0823,   -32.5003,   -86.4250,       3965,   235.1,  10.5089,  34.1657,2,  34.1417,2, 203.3553,2, 211.1305,2,     1.7,2,   17.34,2,    0.00,2,    1.26,2,   3.191,2,   1.724,2,   1.5360,4,  2121.8,2,  2259.1,2,   7.7291,2,    25.00, -999.00,9, -999.00,9, -999.00,  -999.0,9, -999.00,9,     -999.0,9,  -999.0,9, 20170921,      952, -32.5001, -86.4252,        0.0,1,      0.061,1,      4.672,1,      0.148,1,     -999.0,9,     -999.0,9,     -999.0,9,     -999.0,9,     -999.0,9,     -999.0,9,     -999.0,9,     -999.0,9,     -999.0,9,     -999.0,9,     -999.0,9,    10.6253,2,     -999.0,     -999.0,9,     -999.0
320620170820,        P06,     221,          1,         29,         29,2,20170921,       0823,   -32.5003,   -86.4250,       3965,   185.7,  12.5620,  34.1818,2,  34.1389,2, 226.8297,2, 220.5423,2,     0.5,2,   12.18,2,    0.04,2,    0.92,2,   2.848,2,   1.575,2,   1.3930,4,  2091.8,2,  2260.6,6,   7.8034,2,    25.00, -999.00,9, -999.00,9, -999.00,  -999.0,9, -999.00,9,     -999.0,9,  -999.0,9, 20170921,      953, -32.5001, -86.4251,        0.0,1,      0.074,1,      4.658,1,      0.170,1,     -999.0,9,     -999.0,9,     -999.0,9,     -999.0,9,     -999.0,9,     -999.0,9,     -999.0,9,     -999.0,9,     -999.0,9,     -999.0,9,     -999.0,9,    12.4730,2,     -999.0,     -999.0,9,     -999.0
320620170820,        P06,     221,          1,         30,         30,2,20170921,       0823,   -32.5003,   -86.4250,       3965,   141.2,  14.6537,  34.4372,2,  34.4343,2, 250.9426,2, 250.4058,2,     0.1,2,    2.71,2,    0.12,2,    0.39,2,   2.503,2,   1.405,2,   2.0490,4,  2056.5,2,  2281.4,2,   7.9147,6,    25.00, -999.00,9, -999.00,9, -999.00,  -999.0,9, -999.00,9,     -999.0,9,  -999.0,9, 20170921,      955, -32.5002, -86.4251,        0.0,1,      0.150,1,      4.638,1,      0.192,1,     -999.0,9,     -999.0,9,     -999.0,9,     -999.0,9,     -999.0,9,     -999.0,9,     -999.0,9,     -999.0,9,     -999.0,9,     -999.0,9,     -999.0,9,    14.6474,2,     -999.0,     -999.0,9,     -999.0
320620170820,        P06,     221,          1,         31,         31,2,20170921,       0823,   -32.5003,   -86.4250,       3965,   115.6,  14.7286,  34.4566,2,  34.4445,2, 251.0151,2, 251.0604,2,     0.1,2,    2.65,2,    0.11,2,    0.38,2,   2.491,2,   1.387,2,   1.9150,4,  2057.3,2,  2283.3,2,   7.9154,2,    25.00, -999.00,9, -999.00,9, -999.00,  -999.0,9, -999.00,9,     -999.0,9,  -999.0,9, 20170921,      957, -32.5002, -86.4250,        0.0,1,      0.186,1,      4.625,1,      0.203,1,     -999.0,9,     -999.0,9,     -999.0,9,     -999.0,9,     -999.0,9,     -999.0,9,     -999.0,9,     -999.0,9,     -999.0,9,     -999.0,9,     -999.0,9,    14.6930,2,     -999.0,     -999.0,9,     -999.0
320620170820,        P06,     221,          1,         32,         32,2,20170921,       0823,   -32.5003,   -86.4250,       3965,    90.3,  14.7385,  34.4591,2,  34.4451,2, 250.6843,2, 250.9503,2,     0.0,2,    2.65,2,    0.11,2,    0.37,2,-999.000,9,-999.000,9,-999.0000,9,  2056.3,2,  2280.8,2,   7.9154,2,    25.00, -999.00,9, -999.00,9, -999.00,  -999.0,9, -999.00,9,     -999.0,9,  -999.0,9, 20170921,      958, -32.5003, -86.4250,        0.0,1,      0.201,1,      4.620,1,      0.212,1,     -999.0,9,     -999.0,9,     -999.0,9,     -999.0,9,     -999.0,9,     -999.0,9,     -999.0,9,     -999.0,9,     -999.0,9,     -999.0,9,     -999.0,9,    14.7114,2,     -999.0,     -999.0,9,     -999.0
320620170820,        P06,     221,          1,         33,         33,2,20170921,       0823,   -32.5003,   -86.4250,       3965,    64.4,  14.7446,  34.4605,2,  34.4544,2, 243.6214,3, 253.9939,2,     0.0,2,    2.59,2,    0.11,2,    0.38,2,   2.489,2,   1.397,2,   2.0570,4,  2056.6,2,  2281.1,2,   7.9171,2,    25.00, -999.00,9, -999.00,9, -999.00,  -999.0,9, -999.00,9,     -999.0,9,  -999.0,9, 20170921,      959, -32.5003, -86.4250,        0.0,1,      0.215,1,      4.611,1,      0.221,1,     -999.0,9,     -999.0,9,     -999.0,9,     -999.0,9,     -999.0,9,     -999.0,9,     -999.0,9,     -999.0,9,     -999.0,9,     -999.0,9,     -999.0,9,    14.7205,2,     -999.0,     -999.0,9,     -999.0
320620170820,        P06,     221,          1,         34,         34,2,20170921,       0823,   -32.5003,   -86.4250,       3965,    38.7,  14.7732,  34.4624,2,  34.4606,2, 251.5911,2, 252.9475,2,     0.1,2,    2.51,2,    0.11,2,    0.37,2,-999.000,9,-999.000,9,-999.0000,9,  2056.5,2,  2281.7,2,   7.9189,2,    25.00, -999.00,9, -999.00,9, -999.00,  -999.0,9, -999.00,9,     -999.0,9,  -999.0,9, 20170921,     1001, -32.5003, -86.4250,        0.0,1,      0.233,1,      4.594,1,      0.230,1,     -999.0,9,     -999.0,9,     -999.0,9,     -999.0,9,     -999.0,9,     -999.0,9,     -999.0,9,     -999.0,9,     -999.0,9,     -999.0,9,     -999.0,9,    14.7675,2,     -999.0,     -999.0,9,     -999.0
320620170820,        P06,     221,          1,         35,         35,2,20170921,       0823,   -32.5003,   -86.4250,       3965,    20.1,  14.8006,  34.4642,2,  34.4624,2, 251.5519,2, 252.3368,2,     0.0,2,    2.49,2,    0.10,2,    0.37,2,   2.475,2,   1.381,2,   1.7630,4,  2054.8,2,  2281.4,2,   7.9185,2,    25.00, -999.00,9, -999.00,9, -999.00,  -999.0,9, -999.00,9,     -999.0,9,  -999.0,9, 20170921,     1002, -32.5003, -86.4250,        0.0,1,      0.221,1,      4.590,1,      0.231,1,     -999.0,9,     -999.0,9,     -999.0,9,     -999.0,9,     -999.0,9,     -999.0,9,     -999.0,9,     -999.0,9,     -999.0,9,     -999.0,9,     -999.0,9,    14.7844,2,     -999.0,     -999.0,9,     -999.0
320620170820,        P06,     221,          1,         36,         36,2,20170921,       0823,   -32.5003,   -86.4250,       3965,     5.0,  14.8252,  34.4647,2,  34.4636,2, 252.1072,2, 252.2188,2,     0.0,2,    2.49,2,    0.10,2,    0.37,2,   2.493,2,   1.381,2,   1.7450,4,  2054.8,6,  2282.2,2,   7.9180,2,    25.00, -999.00,9, -999.00,9, -999.00,  -999.0,9, -999.00,9,     -999.0,9,  -999.0,9, 20170921,     1004, -32.5003, -86.4250,        0.0,1,      0.222,1,      4.593,1,      0.223,1,     -999.0,9,     -999.0,9,     -999.0,9,     -999.0,9,     -999.0,9,     -999.0,9,     -999.0,9,     -999.0,9,     -999.0,9,     -999.0,9,     -999.0,9,    14.8013,2,     -999.0,     -999.0,9,     -999.0