BOTTLE,20240211CCHSIOCBG
EXPOCODE,SECT_ID,STNNBR,CASTNO,SAMPNO,BTLNBR,BTLNBR_FLAG_W,DATE,TIME,LATITUDE,LONGITUDE,DEPTH,CTDPRS,CTDTMP,CTDSAL,CTDSAL_FLAG_W,SALNTY,SALNTY_FLAG_W,CTDOXY,CTDOXY_FLAG_W,OXYGEN,OXYGEN_FLAG_W,SILCAT,SILCAT_FLAG_W,NITRAT,NITRAT_FLAG_W,NITRIT,NITRIT_FLAG_W,PHSPHT,PHSPHT_FLAG_W,CFC-11,CFC-11_FLAG_W,CFC-12,CFC-12_FLAG_W,SF6,SF6_FLAG_W,TCARBN,TCARBN_FLAG_W,ALKALI,ALKALI_FLAG_W,PH_TOT,PH_TOT_FLAG_W,PH_TMP,DELC13,DELC13_FLAG_W,DELC14,DELC14_FLAG_W,C14ERR,DOC,DOC_FLAG_W,TDN,TDN_FLAG_W,TON,TON_FLAG_W,D15N_NO3,D15N_NO3_FLAG_W,BTL_DATE,BTL_TIME,BTL_LAT,BTL_LON,CTDRINKO,CTDRINKO_FLAG_W,CTDFLUOR,CTDFLUOR_FLAG_W,CTDXMISS,CTDXMISS_FLAG_W,CTDBACKSCATTER,CTDBACKSCATTER_FLAG_W,D18O_NO3,D18O_NO3_FLAG_W,DOP,DOP_FLAG_W,CELLCOUNT,CELLCOUNT_FLAG_W,TDP,TDP_FLAG_W,POP,POP_FLAG_W,DATP,DATP_FLAG_W,PATP,PATP_FLAG_W,HPLC,HPLC_FLAG_W,POC,POC_FLAG_W,BEAMAP,BEAMAP_FLAG_W,DOC_NASA,DOC_NASA_FLAG_W,REFTMP,REFTMP_FLAG_W,DOC_NASA_ERROR,TDN_NASA,TDN_NASA_FLAG_W,TDN_NASA_ERROR
,,,,,,,,,,,METERS,DBAR,ITS-90,PSS-78,,PSS-78,,UMOL/KG,,UMOL/KG,,UMOL/KG,,UMOL/KG,,UMOL/KG,,UMOL/KG,,PMOL/KG,,PMOL/KG,,FMOL/KG,,UMOL/KG,,UMOL/KG,,,,DEG C,/MILLE,,/MILLE,,/MILLE,UMOL/KG,,UMOL/KG,,UMOL/KG,,/MILLE,,,,,,VOLTS,,VOLTS,,VOLTS,,VOLTS,,/MILLE,,UMOL/KG,,/LITER,,UMOL/KG,,UMOL/L,,PMOL/L,,PMOL/L,,,,UG/L,,/METER,,UMOL/L,,ITS-90,,UMOL/L,UMOL/L,,UMOL/L
320620170820,        P06,     239,          1,         27,         27,2,20170927,       0544,   -32.4999,   -72.8240,       5391,   335.9,   8.1519,  34.4659,2,  34.4614,2,  54.4854,2,  51.0366,2,    22.1,2,   35.81,2,    0.00,2,    2.72,2,   1.703,2,   0.890,2,   0.3540,2,  -999.0,9,  -999.0,9,-999.0000,9,  -999.00, -999.00,9, -999.00,9, -999.00,  -999.0,9, -999.00,9,     -999.0,9,  -999.0,9, 20170927,      747, -32.4999, -72.8237,        0.0,1,      0.065,1,      4.650,1,      0.171,1,     -999.0,9,     -999.0,9,     -999.0,9,     -999.0,9,     -999.0,9,     -999.0,9,     -999.0,9,     -999.0,9,     -999.0,9,     -999.0,9,     -999.0,9,     8.1485,2,     -999.0,     -999.0,9,     -999.0
320620170820,        P06,     239,          1,         28,         28,2,20170927,       0544,   -32.4999,   -72.8240,       5391,   288.8,   8.9627,  34.5079,2,  34.4954,2,  38.2348,2,  36.5339,2,    22.5,2,   34.02,2,    0.00,2,    2.75,2,   1.586,2,   0.849,2,   0.3570,2,  -999.0,9,  -999.0,9,-999.0000,9,  -999.00, -999.00,9, -999.00,9, -999.00,    41.2,2,   37.40,2,     -999.0,1,  -999.0,9, 20170927,      749, -32.5000, -72.8237,        0.0,1,      0.067,1,      4.646,1,      0.181,1,     -999.0,9,     -999.0,9,     -999.0,9,     -999.0,9,     -999.0,9,     -999.0,9,     -999.0,9,     -999.0,9,     -999.0,9,     -999.0,9,     -999.0,9,     8.8778,2,     -999.0,     -999.0,9,     -999.0
320620170820,        P06,     239,          1,         29,         29,2,20170927,       0544,   -32.4999,   -72.8240,       5391,   237.0,   9.7600,  34.5731,2,  34.5618,2,  18.7343,2,  21.2049,2,    23.3,2,   30.71,2,    0.00,2,    2.77,2,   1.332,2,   0.756,2,   0.2990,2,  2274.8,2,  2286.3,2,   7.3451,2,    25.00, -999.00,9, -999.00,9, -999.00,    42.2,2,   34.40,2,     -999.0,1,  -999.0,9, 20170927,      751, -32.5000, -72.8236,        0.0,1,      0.067,1,      4.643,1,      0.180,1,     -999.0,9,     -999.0,9,     -999.0,9,     -999.0,9,     -999.0,9,     -999.0,9,     -999.0,9,     -999.0,9,     -999.0,9,     -999.0,9,     -999.0,9,     9.7828,2,     -999.0,     -999.0,9,     -999.0
320620170820,        P06,     239,          1,         30,         30,2,20170927,       0544,   -32.4999,   -72.8240,       5391,   186.3,  10.7833,  34.5980,2,  34.5673,2,  27.5437,2,  26.1652,2,    22.0,2,   26.29,2,    0.00,2,    2.73,2,   1.538,2,   0.905,2,   0.4090,2,  -999.0,9,  -999.0,9,-999.0000,9,  -999.00, -999.00,9, -999.00,9, -999.00,    43.1,2,   28.50,2,     -999.0,1,  -999.0,9, 20170927,      752, -32.5000, -72.8236,        0.0,1,      0.069,1,      4.622,1,      0.215,1,     -999.0,9,     -999.0,9,     -999.0,9,     -999.0,9,     -999.0,9,     -999.0,9,     -999.0,9,     -999.0,9,     -999.0,9,     -999.0,9,     -999.0,9,    10.6496,2,     -999.0,     -999.0,9,     -999.0
320620170820,        P06,     239,          1,         31,         31,2,20170927,       0544,   -32.4999,   -72.8240,       5391,   135.2,  11.1743,  34.5158,2,  34.4102,2,  69.1155,2,  75.2625,2,    14.8,2,   24.82,2,    0.06,2,    2.43,2,   2.168,2,   1.325,2,   0.9410,2,  -999.0,9,  -999.0,9,-999.0000,9,  -999.00, -999.00,9, -999.00,9, -999.00,    44.3,2,   27.90,2,     -999.0,1,  -999.0,9, 20170927,      754, -32.5000, -72.8237,        0.0,1,      0.083,1,      4.607,1,      0.241,1,     -999.0,9,     -999.0,9,     -999.0,9,     -999.0,9,     -999.0,9,     -999.0,9,     -999.0,9,     -999.0,9,     -999.0,9,     -999.0,9,     -999.0,9,    11.1278,2,     -999.0,     -999.0,9,     -999.0
320620170820,        P06,     239,          1,         32,         32,2,20170927,       0544,   -32.4999,   -72.8240,       5391,    92.1,  11.7767,  34.4123,2,  34.3058,2, 189.0149,3, 178.4229,2,     8.9,2,   17.64,2,    0.46,2,    1.85,2,   2.383,2,   1.420,2,   0.9650,2,  -999.0,9,  -999.0,9,-999.0000,9,  -999.00, -999.00,9, -999.00,9, -999.00,    49.3,2,   21.50,2,     -999.0,1,  -999.0,9, 20170927,      756, -32.4999, -72.8238,        0.0,1,      0.133,1,      4.573,1,      0.249,1,     -999.0,9,     -999.0,9,     -999.0,9,     -999.0,9,     -999.0,9,     -999.0,9,     -999.0,9,     -999.0,9,     -999.0,9,     -999.0,9,     -999.0,9,    12.0679,2,     -999.0,     -999.0,9,     -999.0
320620170820,        P06,     239,          1,         33,         33,2,20170927,       0544,   -32.4999,   -72.8240,       5391,    65.1,  13.1785,  34.2086,2,  34.2228,2, 254.1204,2,   254.12,2,     1.8,2,    7.87,2,    0.21,2,    0.96,2,   2.457,2,   1.494,2,   1.3690,2,  -999.0,9,  -999.0,9,-999.0000,9,  -999.00, -999.00,9, -999.00,9, -999.00,    54.9,2,   11.10,2,     -999.0,1,  -999.0,9, 20170927,      757, -32.4999, -72.8239,        0.0,1,      0.224,1,      4.551,1,      0.235,1,     -999.0,9,     -999.0,9,     -999.0,9,     -999.0,9,     -999.0,9,     -999.0,9,     -999.0,9,     -999.0,9,     -999.0,9,     -999.0,9,     -999.0,9,    13.2868,2,     -999.0,     -999.0,9,     -999.0
320620170820,        P06,     239,          1,         34,         34,2,20170927,       0544,   -32.4999,   -72.8240,       5391,    39.7,  13.2936,  34.2249,2,  34.2232,2, 254.3595,2, 254.1819,2,     1.8,2,    7.83,2,    0.20,2,    0.95,2,   2.473,2,   1.483,2,   1.2380,2,  -999.0,9,  -999.0,9,-999.0000,9,  -999.00, -999.00,9, -999.00,9, -999.00,    55.3,2,   11.30,2,     -999.0,1,  -999.0,9, 20170927,      759, -32.4999, -72.8240,        0.0,1,      0.236,1,      4.545,1,      0.227,1,     -999.0,9,     -999.0,9,     -999.0,9,     -999.0,9,     -999.0,9,     -999.0,9,     -999.0,9,     -999.0,9,     -999.0,9,     -999.0,9,     -999.0,9,    13.2852,2,     -999.0,     -999.0,9,     -999.0
320620170820,        P06,     239,          1,         35,         35,2,20170927,       0544,   -32.4999,   -72.8240,       5391,    18.8,  13.2870,  34.2248,2,  34.2232,2, 254.9312,2, 253.9019,2,     1.8,2,    7.81,2,    0.20,2,    0.95,2,   2.469,2,   1.491,2,   1.5630,2,  2085.3,2,  2274.5,2,   7.8369,2,    25.00, -999.00,9, -999.00,9, -999.00,    54.6,2,   11.20,2,     -999.0,1,  -999.0,9, 20170927,      800, -32.4999, -72.8241,        0.0,1,      0.241,1,      4.546,1,      0.221,1,     -999.0,9,     -999.0,9,     -999.0,9,     -999.0,9,     -999.0,9,     -999.0,9,     -999.0,9,     -999.0,9,     -999.0,9,     -999.0,9,     -999.0,9,    13.2833,2,     -999.0,     -999.0,9,     -999.0
320620170820,        P06,     239,          1,         36,         36,2,20170927,       0544,   -32.4999,   -72.8240,       5391,     4.3,  13.2886,  34.2247,2,  34.2234,2, 254.3774,2,  255.039,2,     1.8,2,    7.81,2,    0.20,2,    0.96,2,   2.604,2,   1.531,2,   1.6160,2,  2089.3,6,  2274.5,2,   7.8370,2,    25.00, -999.00,9, -999.00,1, -999.00,    56.3,2,   11.50,2,     -999.0,1,  -999.0,9, 20170927,      801, -32.4999, -72.8240,        0.0,1,      0.235,1,      4.540,1,      0.219,1,     -999.0,9,     -999.0,9,     -999.0,9,     -999.0,9,     -999.0,9,     -999.0,9,     -999.0,9,     -999.0,9,     -999.0,9,     -999.0,9,     -999.0,9,    13.2352,2,     -999.0,     -999.0,9,     -999.0