BOTTLE,20240211CCHSIOCBG
EXPOCODE,SECT_ID,STNNBR,CASTNO,SAMPNO,BTLNBR,BTLNBR_FLAG_W,DATE,TIME,LATITUDE,LONGITUDE,DEPTH,CTDPRS,CTDTMP,CTDSAL,CTDSAL_FLAG_W,SALNTY,SALNTY_FLAG_W,CTDOXY,CTDOXY_FLAG_W,OXYGEN,OXYGEN_FLAG_W,SILCAT,SILCAT_FLAG_W,NITRAT,NITRAT_FLAG_W,NITRIT,NITRIT_FLAG_W,PHSPHT,PHSPHT_FLAG_W,CFC-11,CFC-11_FLAG_W,CFC-12,CFC-12_FLAG_W,SF6,SF6_FLAG_W,TCARBN,TCARBN_FLAG_W,ALKALI,ALKALI_FLAG_W,PH_TOT,PH_TOT_FLAG_W,PH_TMP,DELC13,DELC13_FLAG_W,DELC14,DELC14_FLAG_W,C14ERR,DOC,DOC_FLAG_W,TDN,TDN_FLAG_W,TON,TON_FLAG_W,D15N_NO3,D15N_NO3_FLAG_W,BTL_DATE,BTL_TIME,BTL_LAT,BTL_LON,CTDRINKO,CTDRINKO_FLAG_W,CTDFLUOR,CTDFLUOR_FLAG_W,CTDXMISS,CTDXMISS_FLAG_W,CTDBACKSCATTER,CTDBACKSCATTER_FLAG_W,D18O_NO3,D18O_NO3_FLAG_W,DOP,DOP_FLAG_W,CELLCOUNT,CELLCOUNT_FLAG_W,TDP,TDP_FLAG_W,POP,POP_FLAG_W,DATP,DATP_FLAG_W,PATP,PATP_FLAG_W,HPLC,HPLC_FLAG_W,POC,POC_FLAG_W,BEAMAP,BEAMAP_FLAG_W,DOC_NASA,DOC_NASA_FLAG_W,REFTMP,REFTMP_FLAG_W,DOC_NASA_ERROR,TDN_NASA,TDN_NASA_FLAG_W,TDN_NASA_ERROR
,,,,,,,,,,,METERS,DBAR,ITS-90,PSS-78,,PSS-78,,UMOL/KG,,UMOL/KG,,UMOL/KG,,UMOL/KG,,UMOL/KG,,UMOL/KG,,PMOL/KG,,PMOL/KG,,FMOL/KG,,UMOL/KG,,UMOL/KG,,,,DEG C,/MILLE,,/MILLE,,/MILLE,UMOL/KG,,UMOL/KG,,UMOL/KG,,/MILLE,,,,,,VOLTS,,VOLTS,,VOLTS,,VOLTS,,/MILLE,,UMOL/KG,,/LITER,,UMOL/KG,,UMOL/L,,PMOL/L,,PMOL/L,,,,UG/L,,/METER,,UMOL/L,,ITS-90,,UMOL/L,UMOL/L,,UMOL/L
320620170820,        P06,     155,          2,          1,          1,2,20170830,       0027,   -32.5006,  -139.4809,       4726,  4798.2,   1.3473,  34.7053,2,  34.7056,3, 192.8853,2, 192.6388,2,   119.1,2,   32.83,2,    0.00,2,    2.27,2,   0.028,2,   0.018,2,   0.0000,2,  2276.2,6,  2380.9,2,   7.6082,2,    25.00, -999.00,9, -999.00,9, -999.00,  -999.0,9, -999.00,9,     -999.0,9,  -999.0,1, 20170830,       27, -32.4994,-139.4799,        0.0,1,      0.061,1,      4.693,1,      0.123,1,     -999.0,1,     -999.0,9,     -999.0,9,     -999.0,9,     -999.0,9,     -999.0,9,     -999.0,9,     -999.0,9,     -999.0,9,     -999.0,9,     -999.0,9,     1.3473,2,     -999.0,     -999.0,9,     -999.0
320620170820,        P06,     155,          2,          2,          2,2,20170830,       0027,   -32.5006,  -139.4809,       4726,  4734.1,   1.3411,  34.7054,2,  34.7062,3, 192.8853,2, 193.3196,2,   119.1,2,   32.86,2,    0.00,2,    2.27,2,   0.034,2,   0.024,2,   0.0000,2,  -999.0,9,  -999.0,9,-999.0000,9,  -999.00, -999.00,9, -999.00,9, -999.00,  -999.0,9, -999.00,9,     -999.0,9,  -999.0,1, 20170830,       30, -32.4994,-139.4799,        0.0,1,      0.061,1,      4.694,1,      0.123,1,     -999.0,1,     -999.0,9,     -999.0,9,     -999.0,9,     -999.0,9,     -999.0,9,     -999.0,9,     -999.0,9,     -999.0,9,     -999.0,9,     -999.0,9,     1.3414,2,     -999.0,     -999.0,9,     -999.0
320620170820,        P06,     155,          2,          3,          3,2,20170830,       0027,   -32.5006,  -139.4809,       4726,  4476.8,   1.3311,  34.7047,2,  34.6954,3, 191.7019,2, 191.6246,2,   119.7,2,   33.02,2,    0.00,2,    2.29,2,   0.033,2,   0.022,2,   0.0000,2,  2277.0,2,  2388.0,3,   7.6074,6,    25.00, -999.00,9, -999.00,9, -999.00,  -999.0,9, -999.00,9,     -999.0,9,  -999.0,1, 20170830,       38, -32.4996,-139.4802,        0.0,1,      0.060,1,      4.695,1,      0.122,1,     -999.0,1,     -999.0,9,     -999.0,9,     -999.0,9,     -999.0,9,     -999.0,9,     -999.0,9,     -999.0,9,     -999.0,9,     -999.0,9,     -999.0,9,     1.3316,2,     -999.0,     -999.0,9,     -999.0
320620170820,        P06,     155,          2,          4,          4,2,20170830,       0027,   -32.5006,  -139.4809,       4726,  4168.8,   1.3668,  34.7009,2,  34.7011,3, 187.4331,2, 187.3624,2,   120.7,2,   33.28,2,    0.00,2,    2.30,2,   0.034,2,   0.024,2,   0.0000,2,  -999.0,9,  -999.0,9,-999.0000,9,  -999.00, -999.00,9, -999.00,9, -999.00,  -999.0,9, -999.00,9,     -999.0,9,  -999.0,1, 20170830,       47, -32.4998,-139.4804,        0.0,1,      0.061,1,      4.695,1,      0.123,1,     -999.0,1,     -999.0,9,     -999.0,9,     -999.0,9,     -999.0,9,     -999.0,9,     -999.0,9,     -999.0,9,     -999.0,9,     -999.0,9,     -999.0,9,     1.3673,2,     -999.0,     -999.0,9,     -999.0
320620170820,        P06,     155,          2,          5,          5,2,20170830,       0027,   -32.5006,  -139.4809,       4726,  3861.0,   1.4396,  34.6949,2,  34.6958,3, 180.9909,2, 181.4892,2,   122.1,2,   33.69,2,    0.00,2,    2.33,2,   0.034,2,   0.023,2,   0.0000,2,  2285.3,2,  2383.8,2,   7.5990,2,    25.00, -999.00,9, -999.00,9, -999.00,  -999.0,9, -999.00,9,     -999.0,9,  -999.0,1, 20170830,       54, -32.4998,-139.4805,        0.0,1,      0.061,1,      4.695,1,      0.123,1,     -999.0,1,     -999.0,9,     -999.0,9,     -999.0,9,     -999.0,9,     -999.0,9,     -999.0,9,     -999.0,9,     -999.0,9,     -999.0,9,     -999.0,9,     1.4332,2,     -999.0,     -999.0,9,     -999.0
320620170820,        P06,     155,          2,          6,          6,2,20170830,       0027,   -32.5006,  -139.4809,       4726,  3555.4,   1.5323,  34.6875,2,  34.6877,2, 173.7674,2, 173.2884,2,   123.3,2,   34.17,2,    0.00,2,    2.37,2,   0.032,2,   0.025,2,   0.0000,2,  -999.0,9,  -999.0,9,-999.0000,9,  -999.00, -999.00,9, -999.00,9, -999.00,  -999.0,9, -999.00,9,     -999.0,9,  -999.0,1, 20170830,      100, -32.4995,-139.4802,        0.0,1,      0.061,1,      4.696,1,      0.124,1,     -999.0,1,     -999.0,9,     -999.0,9,     -999.0,9,     -999.0,9,     -999.0,9,     -999.0,9,     -999.0,9,     -999.0,9,     -999.0,9,     -999.0,9,     1.5353,2,     -999.0,     -999.0,9,     -999.0
320620170820,        P06,     155,          2,          7,          7,2,20170830,       0027,   -32.5006,  -139.4809,       4726,  3247.4,   1.6209,  34.6793,2,  34.6798,2,  167.777,2, 167.1069,2,   124.3,2,   34.73,2,    0.00,2,    2.41,2,   0.032,2,   0.022,2,   0.0000,2,  2297.3,2,  2396.1,2,   7.5886,2,    25.00, -999.00,9, -999.00,9, -999.00,  -999.0,9, -999.00,9,     -999.0,9,  -999.0,1, 20170830,      107, -32.5000,-139.4806,        0.0,1,      0.061,1,      4.696,1,      0.125,1,     -999.0,1,     -999.0,9,     -999.0,9,     -999.0,9,     -999.0,9,     -999.0,9,     -999.0,9,     -999.0,9,     -999.0,9,     -999.0,9,     -999.0,9,     1.6230,2,     -999.0,     -999.0,9,     -999.0
320620170820,        P06,     155,          2,          8,          8,2,20170830,       0027,   -32.5006,  -139.4809,       4726,  2955.5,   1.6838,  34.6731,2,  34.6730,2, 163.0033,2, 162.9463,2,   124.0,2,   35.01,2,    0.00,2,    2.44,2,   0.035,2,   0.023,2,   0.0000,2,  -999.0,9,  -999.0,9,-999.0000,9,  -999.00, -999.00,9, -999.00,9, -999.00,  -999.0,9, -999.00,9,     -999.0,9,  -999.0,1, 20170830,      113, -32.4998,-139.4805,        0.0,1,      0.061,1,      4.696,1,      0.126,1,     -999.0,1,     -999.0,9,     -999.0,9,     -999.0,9,     -999.0,9,     -999.0,9,     -999.0,9,     -999.0,9,     -999.0,9,     -999.0,9,     -999.0,9,     1.6910,2,     -999.0,     -999.0,9,     -999.0
320620170820,        P06,     155,          2,          9,          9,2,20170830,       0027,   -32.5006,  -139.4809,       4726,  2701.4,   1.7625,  34.6661,2,  34.6663,2, 158.7736,2, 158.6079,2,   123.6,2,   35.31,2,    0.00,2,    2.46,2,   0.029,2,   0.020,2,   0.0000,2,  2304.5,2,  2397.0,2,   7.5793,2,    25.00, -999.00,9, -999.00,9, -999.00,  -999.0,9, -999.00,9,     -999.0,9,  -999.0,1, 20170830,      118, -32.4997,-139.4803,        0.0,1,      0.061,1,      4.696,1,      0.127,1,     -999.0,1,     -999.0,9,     -999.0,9,     -999.0,9,     -999.0,9,     -999.0,9,     -999.0,9,     -999.0,9,     -999.0,9,     -999.0,9,     -999.0,9,     1.7716,2,     -999.0,     -999.0,9,     -999.0
320620170820,        P06,     155,          2,         10,         10,2,20170830,       0027,   -32.5006,  -139.4809,       4726,  2446.4,   1.8767,  34.6565,2,  34.6559,2, 154.8265,2, 155.0123,2,   120.5,2,   35.52,2,    0.00,2,    2.47,2,   0.037,2,   0.026,2,   0.0000,2,  -999.0,9,  -999.0,9,-999.0000,9,  -999.00, -999.00,9, -999.00,9, -999.00,  -999.0,9, -999.00,9,     -999.0,9,  -999.0,1, 20170830,      124, -32.4997,-139.4803,        0.0,1,      0.061,1,      4.696,1,      0.127,1,     -999.0,1,     -999.0,9,     -999.0,9,     -999.0,9,     -999.0,9,     -999.0,9,     -999.0,9,     -999.0,9,     -999.0,9,     -999.0,9,     -999.0,9,     1.8900,2,     -999.0,     -999.0,9,     -999.0
320620170820,        P06,     155,          2,         11,         11,2,20170830,       0027,   -32.5006,  -139.4809,       4726,  2193.6,   2.0189,  34.6436,2,  34.6443,2, 153.3171,2, 153.5286,2,   115.9,2,   35.61,2,    0.00,2,    2.48,2,   0.033,2,   0.021,2,   0.0000,2,  2298.6,6,  2390.6,2,   7.5723,2,    25.00, -999.00,9, -999.00,9, -999.00,  -999.0,9, -999.00,9,     -999.0,9,  -999.0,1, 20170830,      129, -32.5000,-139.4806,        0.0,1,      0.061,1,      4.696,1,      0.127,1,     -999.0,1,     -999.0,9,     -999.0,9,     -999.0,9,     -999.0,9,     -999.0,9,     -999.0,9,     -999.0,9,     -999.0,9,     -999.0,9,     -999.0,9,     2.0195,2,     -999.0,     -999.0,9,     -999.0
320620170820,        P06,     155,          2,         12,         12,2,20170830,       0027,   -32.5006,  -139.4809,       4726,  1957.1,   2.2179,  34.6215,2,  34.6209,2, 154.2805,2, 155.0813,2,   105.9,2,   35.39,2,    0.00,2,    2.45,2,   0.042,2,   0.029,2,   0.0000,2,  -999.0,9,  -999.0,9,-999.0000,9,  -999.00, -999.00,9, -999.00,9, -999.00,  -999.0,9, -999.00,9,     -999.0,9,  -999.0,1, 20170830,      134, -32.5004,-139.4806,        0.0,1,      0.062,1,      4.696,1,      0.129,1,     -999.0,1,     -999.0,9,     -999.0,9,     -999.0,9,     -999.0,9,     -999.0,9,     -999.0,9,     -999.0,9,     -999.0,9,     -999.0,9,     -999.0,9,     2.2216,2,     -999.0,     -999.0,9,     -999.0
320620170820,        P06,     155,          2,         13,         13,2,20170830,       0027,   -32.5006,  -139.4809,       4726,  1756.9,   2.4228,  34.5900,2,  34.5891,2, 157.5725,2, 158.2421,2,    94.4,2,   35.08,2,    0.00,2,    2.43,2,   0.048,2,   0.035,2,   0.0000,2,  2278.6,2,  2366.4,2,   7.5689,2,    25.00, -999.00,9, -999.00,9, -999.00,  -999.0,9, -999.00,9,     -999.0,9,  -999.0,1, 20170830,      139, -32.5000,-139.4805,        0.0,1,      0.061,1,      4.696,1,      0.129,1,     -999.0,1,     -999.0,9,     -999.0,9,     -999.0,9,     -999.0,9,     -999.0,9,     -999.0,9,     -999.0,9,     -999.0,9,     -999.0,9,     -999.0,9,     2.4317,2,     -999.0,     -999.0,9,     -999.0
320620170820,        P06,     155,          2,         14,         14,2,20170830,       0027,   -32.5006,  -139.4809,       4726,  1582.1,   2.7095,  34.5347,2,  34.5347,2, 163.8588,2, 164.0164,2,    80.1,2,   34.92,2,    0.00,2,    2.40,2,   0.079,2,   0.053,2,   0.0000,2,  -999.0,9,  -999.0,9,-999.0000,9,  -999.00, -999.00,9, -999.00,9, -999.00,  -999.0,9, -999.00,9,     -999.0,9,  -999.0,1, 20170830,      143, -32.4998,-139.4803,        0.0,1,      0.060,1,      4.696,1,      0.131,1,     -999.0,1,     -999.0,9,     -999.0,9,     -999.0,9,     -999.0,9,     -999.0,9,     -999.0,9,     -999.0,9,     -999.0,9,     -999.0,9,     -999.0,9,     2.7079,2,     -999.0,     -999.0,9,     -999.0
320620170820,        P06,     155,          2,         15,         15,2,20170830,       0027,   -32.5006,  -139.4809,       4726,  1480.0,   2.8944,  34.4968,2,  34.4970,2, 168.0117,2, 167.9319,2,    71.2,2,   34.74,2,    0.00,2,    2.38,2,   0.107,2,   0.078,2,   0.0000,2,  2252.6,2,  2339.3,2,   7.5687,2,    25.00, -999.00,9, -999.00,9, -999.00,  -999.0,9, -999.00,9,     -999.0,9,  -999.0,1, 20170830,      146, -32.4997,-139.4803,        0.0,1,      0.061,1,      4.696,1,      0.131,1,     -999.0,1,     -999.0,9,     -999.0,9,     -999.0,9,     -999.0,9,     -999.0,9,     -999.0,9,     -999.0,9,     -999.0,9,     -999.0,9,     -999.0,9,     2.8921,2,     -999.0,     -999.0,9,     -999.0
320620170820,        P06,     155,          2,         16,         16,2,20170830,       0027,   -32.5006,  -139.4809,       4726,  1381.1,   3.1250,  34.4546,2,  34.4475,2, 172.2877,2, 172.6871,2,    61.2,2,   34.36,2,    0.00,2,    2.35,2,   0.202,2,   0.129,2,   0.0000,2,  -999.0,9,  -999.0,9,-999.0000,9,  -999.00, -999.00,9, -999.00,9, -999.00,  -999.0,9, -999.00,9,     -999.0,9,  -999.0,1, 20170830,      149, -32.4998,-139.4803,        0.0,1,      0.061,1,      4.696,1,      0.129,1,     -999.0,1,     -999.0,9,     -999.0,9,     -999.0,9,     -999.0,9,     -999.0,9,     -999.0,9,     -999.0,9,     -999.0,9,     -999.0,9,     -999.0,9,     3.1859,2,     -999.0,     -999.0,9,     -999.0
320620170820,        P06,     155,          2,         17,         17,2,20170830,       0027,   -32.5006,  -139.4809,       4726,  1173.1,   4.0195,  34.3501,2,  34.3474,2, 192.6082,2, 191.9733,2,    38.1,2,   32.24,2,    0.00,2,    2.20,2,   0.754,6,   0.399,6,   0.1935,6,  2207.2,2,  2303.5,6,   7.6028,2,    25.00, -999.00,9, -999.00,9, -999.00,  -999.0,9, -999.00,9,     -999.0,9,  -999.0,1, 20170830,      154, -32.5000,-139.4805,        0.0,1,      0.060,1,      4.696,1,      0.131,1,     -999.0,1,     -999.0,9,     -999.0,9,     -999.0,9,     -999.0,9,     -999.0,9,     -999.0,9,     -999.0,9,     -999.0,9,     -999.0,9,     -999.0,9,     4.0445,2,     -999.0,     -999.0,9,     -999.0
320620170820,        P06,     155,          2,         18,         18,2,20170830,       0027,   -32.5006,  -139.4809,       4726,   975.8,   5.0440,  34.3054,2,  34.3019,2, 216.2404,2, 214.8826,2,    20.3,2,   28.68,2,    0.00,2,    1.93,2,   1.691,2,   0.829,2,   0.3420,2,  -999.0,9,  -999.0,9,-999.0000,9,  -999.00, -999.00,9, -999.00,9, -999.00,  -999.0,9, -999.00,9,     -999.0,9,  -999.0,1, 20170830,      158, -32.5001,-139.4805,        0.0,1,      0.060,1,      4.696,1,      0.132,1,     -999.0,1,     -999.0,9,     -999.0,9,     -999.0,9,     -999.0,9,     -999.0,9,     -999.0,9,     -999.0,9,     -999.0,9,     -999.0,9,     -999.0,9,     5.1448,2,     -999.0,     -999.0,9,     -999.0
320620170820,        P06,     155,          2,         19,         19,2,20170830,       0027,   -32.5006,  -139.4809,       4726,   872.8,   5.5971,  34.2979,2,  34.2982,2, 227.9002,2, 227.6799,2,    14.3,2,   26.55,2,    0.00,2,    1.80,2,   2.331,2,   1.171,2,   0.5220,2,  2161.4,2,  2284.1,2,   7.6751,2,    25.00, -999.00,9, -999.00,9, -999.00,  -999.0,9, -999.00,9,     -999.0,9,  -999.0,1, 20170830,      201, -32.4997,-139.4804,        0.0,1,      0.059,1,      4.696,1,      0.131,1,     -999.0,1,     -999.0,9,     -999.0,9,     -999.0,9,     -999.0,9,     -999.0,9,     -999.0,9,     -999.0,9,     -999.0,9,     -999.0,9,     -999.0,9,     5.6194,2,     -999.0,     -999.0,9,     -999.0
320620170820,        P06,     155,          2,         20,         20,2,20170830,       0027,   -32.5006,  -139.4809,       4726,   773.8,   6.1554,  34.3133,2,  34.3093,2,  236.538,2, 236.5862,2,    10.5,2,   24.83,2,    0.00,2,    1.67,2,   2.958,2,   1.497,2,   0.6800,2,  -999.0,9,  -999.0,9,-999.0000,9,  -999.00, -999.00,9, -999.00,9, -999.00,  -999.0,9, -999.00,9,     -999.0,9,  -999.0,1, 20170830,      204, -32.4995,-139.4800,        0.0,1,      0.059,1,      4.695,1,      0.132,1,     -999.0,1,     -999.0,9,     -999.0,9,     -999.0,9,     -999.0,9,     -999.0,9,     -999.0,9,     -999.0,9,     -999.0,9,     -999.0,9,     -999.0,9,     6.0745,2,     -999.0,     -999.0,9,     -999.0
320620170820,        P06,     155,          2,         21,         21,2,20170830,       0027,   -32.5006,  -139.4809,       4726,   671.4,   6.7094,  34.3468,2,  34.3464,2, 242.1602,2, 243.1563,2,     7.5,2,   22.71,2,    0.00,2,    1.53,2,   3.468,2,   1.826,2,   1.0260,2,  2145.8,2,  2279.1,2,   7.7092,2,    25.00, -999.00,9, -999.00,9, -999.00,  -999.0,9, -999.00,9,     -999.0,9,  -999.0,1, 20170830,      207, -32.4994,-139.4799,        0.0,1,      0.059,1,      4.695,1,      0.133,1,     -999.0,1,     -999.0,9,     -999.0,9,     -999.0,9,     -999.0,9,     -999.0,9,     -999.0,9,     -999.0,9,     -999.0,9,     -999.0,9,     -999.0,9,     6.7147,2,     -999.0,     -999.0,9,     -999.0
320620170820,        P06,     155,          2,         22,         22,2,20170830,       0027,   -32.5006,  -139.4809,       4726,   569.5,   7.3187,  34.3874,2,  34.3898,2, 243.1594,2, 243.7863,2,     5.6,2,   20.67,2,    0.00,2,    1.40,2,   3.718,2,   1.948,2,   1.3700,2,  -999.0,9,  -999.0,9,-999.0000,9,  -999.00, -999.00,9, -999.00,9, -999.00,  -999.0,9, -999.00,9,     -999.0,9,  -999.0,1, 20170830,      210, -32.4995,-139.4800,        0.0,1,      0.059,1,      4.693,1,      0.132,1,     -999.0,1,     -999.0,9,     -999.0,9,     -999.0,9,     -999.0,9,     -999.0,9,     -999.0,9,     -999.0,9,     -999.0,9,     -999.0,9,     -999.0,9,     7.3647,2,     -999.0,     -999.0,9,     -999.0
320620170820,        P06,     155,          2,         23,         23,2,20170830,       0027,   -32.5006,  -139.4809,       4726,   467.5,   8.4164,  34.4457,2,  34.4383,2, 224.8462,3, 232.4971,2,     4.3,2,   18.64,2,    0.00,2,    1.29,2,   3.360,2,   1.857,2,   1.3490,2,  2136.0,2,  2278.6,2,   7.7291,2,    25.00, -999.00,9, -999.00,9, -999.00,  -999.0,9, -999.00,9,     -999.0,9,  -999.0,1, 20170830,      213, -32.4995,-139.4801,        0.0,1,      0.059,1,      4.691,1,      0.135,1,     -999.0,1,     -999.0,9,     -999.0,9,     -999.0,9,     -999.0,9,     -999.0,9,     -999.0,9,     -999.0,9,     -999.0,9,     -999.0,9,     -999.0,9,     8.3074,2,     -999.0,     -999.0,9,     -999.0
320620170820,        P06,     155,          2,         24,         24,2,20170830,       0027,   -32.5006,  -139.4809,       4726,   367.9,  10.9507,  34.6612,2,  34.6248,3, 206.2828,2, 212.9946,2,     2.8,2,   14.12,2,    0.00,2,    1.00,2,   2.815,2,   1.684,2,   1.3120,2,  -999.0,9,  -999.0,9,-999.0000,9,  -999.00, -999.00,9, -999.00,9, -999.00,  -999.0,9, -999.00,9,     -999.0,9,  -999.0,1, 20170830,      216, -32.4995,-139.4801,        0.0,1,      0.058,1,      4.689,1,      0.135,1,     -999.0,1,     -999.0,1,     -999.0,9,     -999.0,9,     -999.0,9,     -999.0,9,     -999.0,9,     -999.0,9,     -999.0,9,     -999.0,9,     -999.0,9,    10.5967,2,     -999.0,     -999.0,9,     -999.0
320620170820,        P06,     155,          2,         25,         25,2,20170830,       0027,   -32.5006,  -139.4809,       4726,   288.3,  14.1204,  35.0334,2,  35.0152,3, 203.9552,2, 211.2126,2,     1.2,2,    6.62,2,    0.00,2,    0.54,2,   2.559,2,   1.514,2,   1.4840,2,  2102.3,2,  2303.2,2,   7.8555,2,    25.00, -999.00,9, -999.00,9, -999.00,  -999.0,9, -999.00,9,     -999.0,9,  -999.0,1, 20170830,      219, -32.4995,-139.4800,        0.0,1,      0.059,1,      4.686,1,      0.131,1,     -999.0,1,     -999.0,1,     -999.0,9,     -999.0,9,     -999.0,9,     -999.0,9,     -999.0,9,     -999.0,9,     -999.0,9,     -999.0,9,     -999.0,9,    13.9725,2,     -999.0,     -999.0,9,     -999.0
320620170820,        P06,     155,          2,         26,         26,2,20170830,       0027,   -32.5006,  -139.4809,       4726,   237.9,  15.2140,  35.1729,2,  35.1159,3, 212.3705,2, 217.7546,2,     0.7,2,    3.75,2,    0.02,2,    0.35,2,   2.495,2,   1.469,2,   1.5050,2,  2090.5,2,  2307.9,2,   7.8867,2,    25.00, -999.00,9, -999.00,9, -999.00,  -999.0,9, -999.00,9,     -999.0,9,  -999.0,1, 20170830,      221, -32.4994,-139.4799,        0.0,1,      0.062,1,      4.684,1,      0.134,1,     -999.0,1,     -999.0,1,     -999.0,9,     -999.0,9,     -999.0,9,     -999.0,9,     -999.0,9,     -999.0,9,     -999.0,9,     -999.0,9,     -999.0,9,    14.9099,2,     -999.0,     -999.0,9,     -999.0