BOTTLE,20240211CCHSIOCBG
EXPOCODE,SECT_ID,STNNBR,CASTNO,SAMPNO,BTLNBR,BTLNBR_FLAG_W,DATE,TIME,LATITUDE,LONGITUDE,DEPTH,CTDPRS,CTDTMP,CTDSAL,CTDSAL_FLAG_W,SALNTY,SALNTY_FLAG_W,CTDOXY,CTDOXY_FLAG_W,OXYGEN,OXYGEN_FLAG_W,SILCAT,SILCAT_FLAG_W,NITRAT,NITRAT_FLAG_W,NITRIT,NITRIT_FLAG_W,PHSPHT,PHSPHT_FLAG_W,CFC-11,CFC-11_FLAG_W,CFC-12,CFC-12_FLAG_W,SF6,SF6_FLAG_W,TCARBN,TCARBN_FLAG_W,ALKALI,ALKALI_FLAG_W,PH_TOT,PH_TOT_FLAG_W,PH_TMP,DELC13,DELC13_FLAG_W,DELC14,DELC14_FLAG_W,C14ERR,DOC,DOC_FLAG_W,TDN,TDN_FLAG_W,TON,TON_FLAG_W,D15N_NO3,D15N_NO3_FLAG_W,BTL_DATE,BTL_TIME,BTL_LAT,BTL_LON,CTDRINKO,CTDRINKO_FLAG_W,CTDFLUOR,CTDFLUOR_FLAG_W,CTDXMISS,CTDXMISS_FLAG_W,CTDBACKSCATTER,CTDBACKSCATTER_FLAG_W,D18O_NO3,D18O_NO3_FLAG_W,DOP,DOP_FLAG_W,CELLCOUNT,CELLCOUNT_FLAG_W,TDP,TDP_FLAG_W,POP,POP_FLAG_W,DATP,DATP_FLAG_W,PATP,PATP_FLAG_W,HPLC,HPLC_FLAG_W,POC,POC_FLAG_W,BEAMAP,BEAMAP_FLAG_W,DOC_NASA,DOC_NASA_FLAG_W,REFTMP,REFTMP_FLAG_W,DOC_NASA_ERROR,TDN_NASA,TDN_NASA_FLAG_W,TDN_NASA_ERROR
,,,,,,,,,,,METERS,DBAR,ITS-90,PSS-78,,PSS-78,,UMOL/KG,,UMOL/KG,,UMOL/KG,,UMOL/KG,,UMOL/KG,,UMOL/KG,,PMOL/KG,,PMOL/KG,,FMOL/KG,,UMOL/KG,,UMOL/KG,,,,DEG C,/MILLE,,/MILLE,,/MILLE,UMOL/KG,,UMOL/KG,,UMOL/KG,,/MILLE,,,,,,VOLTS,,VOLTS,,VOLTS,,VOLTS,,/MILLE,,UMOL/KG,,/LITER,,UMOL/KG,,UMOL/L,,PMOL/L,,PMOL/L,,,,UG/L,,/METER,,UMOL/L,,ITS-90,,UMOL/L,UMOL/L,,UMOL/L
320620170820,        P06,     240,          1,          1,          1,2,20170927,       1208,   -32.4999,   -72.6822,       6000,  6118.2,   1.9201,  34.6949,2,  34.6948,3, 162.1474,2, 162.1527,2,   124.9,2,   34.52,2,    0.00,2,    2.44,2,   0.022,2,   0.024,2,   0.0000,2,  2308.1,6,  2403.0,2,   7.5865,2,    25.00, -999.00,9, -999.00,9, -999.00,    37.0,2, -999.00,9,     -999.0,1,  -999.0,9, 20170927,     1208, -32.4999, -72.6825,        0.0,1,      0.061,1,      4.633,1,      0.194,1,     -999.0,9,     -999.0,9,     -999.0,9,     -999.0,9,     -999.0,9,     -999.0,9,     -999.0,9,     -999.0,9,     -999.0,9,     -999.0,9,     -999.0,9,     1.9206,2,     -999.0,     -999.0,9,     -999.0
320620170820,        P06,     240,          1,          2,          2,2,20170927,       1208,   -32.4999,   -72.6822,       6000,  5992.7,   1.9021,  34.6946,2,  34.6942,3, 162.1474,2, 162.3126,2,   125.0,2,   34.50,2,    0.00,2,    2.45,2,-999.000,9,-999.000,9,-999.0000,9,  2309.0,2,  2403.3,2,   7.5870,2,    25.00, -999.00,9, -999.00,9, -999.00,    37.7,2, -999.00,9,     -999.0,1,  -999.0,9, 20170927,     1213, -32.4998, -72.6826,        0.0,1,      0.061,1,      4.634,1,      0.190,1,     -999.0,9,     -999.0,9,     -999.0,9,     -999.0,9,     -999.0,9,     -999.0,9,     -999.0,9,     -999.0,9,     -999.0,9,     -999.0,9,     -999.0,9,     1.9024,2,     -999.0,     -999.0,9,     -999.0
320620170820,        P06,     240,          1,          3,          3,2,20170927,       1208,   -32.4999,   -72.6822,       6000,  5869.3,   1.8850,  34.6949,2,  34.6936,3, 162.1474,2, 161.6436,2,   125.8,2,   34.51,2,    0.00,2,    2.44,2,   0.025,2,   0.047,2,   0.0000,2,  2308.3,2,  2403.6,2,   7.5858,2,    25.00, -999.00,9, -999.00,9, -999.00,    36.4,2, -999.00,9,     -999.0,1,  -999.0,9, 20170927,     1218, -32.4998, -72.6827,        0.0,1,      0.061,1,      4.634,1,      0.191,1,     -999.0,9,     -999.0,9,     -999.0,9,     -999.0,9,     -999.0,9,     -999.0,9,     -999.0,9,     -999.0,9,     -999.0,9,     -999.0,9,     -999.0,9,     1.8852,2,     -999.0,     -999.0,9,     -999.0
320620170820,        P06,     240,          1,          4,          4,2,20170927,       1208,   -32.4999,   -72.6822,       6000,  5574.3,   1.8449,  34.6951,2,  34.6944,3, 162.1474,2, 162.1429,2,   127.6,2,   34.50,2,    0.00,2,    2.45,2,   0.028,2,   0.061,2,   0.0000,2,  2307.6,2,  2402.7,2,   7.5874,2,    25.00, -999.00,9, -999.00,9, -999.00,    35.5,2, -999.00,9,     -999.0,1,  -999.0,9, 20170927,     1229, -32.4998, -72.6827,        0.0,1,      0.061,1,      4.640,1,      0.180,1,     -999.0,9,     -999.0,9,     -999.0,9,     -999.0,9,     -999.0,9,     -999.0,9,     -999.0,9,     -999.0,9,     -999.0,9,     -999.0,9,     -999.0,9,     1.8452,2,     -999.0,     -999.0,9,     -999.0
320620170820,        P06,     240,          1,          5,          5,2,20170927,       1208,   -32.4999,   -72.6822,       6000,  5263.8,   1.8053,  34.6948,2,  34.6940,3, 162.1474,2, 162.3151,2,   124.8,2,   34.56,2,    0.00,2,    2.45,2,   0.027,2,   0.056,2,   0.0000,2,  2309.6,3,  2402.4,2,   7.5877,2,    25.00, -999.00,9, -999.00,9, -999.00,    35.7,2, -999.00,9,     -999.0,1,  -999.0,9, 20170927,     1240, -32.4999, -72.6825,        0.0,1,      0.061,1,      4.658,1,      0.152,1,     -999.0,9,     -999.0,9,     -999.0,9,     -999.0,9,     -999.0,9,     -999.0,9,     -999.0,9,     -999.0,9,     -999.0,9,     -999.0,9,     -999.0,9,     1.8055,2,     -999.0,     -999.0,9,     -999.0
320620170820,        P06,     240,          1,          6,          6,2,20170927,       1208,   -32.4999,   -72.6822,       6000,  4955.7,   1.7721,  34.6950,2,  34.6936,3, 162.1474,2, 162.4784,2,   125.3,2,   34.58,2,    0.00,2,    2.45,2,   0.030,2,   0.067,2,   0.0000,2,  2306.1,3,  2403.5,6,   7.5872,2,    25.00, -999.00,9, -999.00,9, -999.00,    38.3,2, -999.00,9,     -999.0,1,  -999.0,9, 20170927,     1249, -32.4999, -72.6823,        0.0,1,      0.062,1,      4.668,1,      0.138,1,     -999.0,9,     -999.0,9,     -999.0,9,     -999.0,9,     -999.0,9,     -999.0,9,     -999.0,9,     -999.0,9,     -999.0,9,     -999.0,9,     -999.0,9,     1.7724,2,     -999.0,     -999.0,9,     -999.0
320620170820,        P06,     240,          1,          7,          7,2,20170927,       1208,   -32.4999,   -72.6822,       6000,  4645.2,   1.7471,  34.6944,2,  34.6928,3, 162.1474,2,  162.391,2,   124.9,2,   34.61,2,    0.00,2,    2.43,2,   0.032,2,   0.069,2,   0.0000,2,  2307.7,2,  2403.6,2,   7.5872,6,    25.00, -999.00,9, -999.00,9, -999.00,    35.2,2, -999.00,9,     -999.0,1,  -999.0,9, 20170927,     1255, -32.4998, -72.6826,        0.0,1,      0.062,1,      4.672,1,      0.134,1,     -999.0,9,     -999.0,9,     -999.0,9,     -999.0,9,     -999.0,9,     -999.0,9,     -999.0,9,     -999.0,9,     -999.0,9,     -999.0,9,     -999.0,9,     1.7473,2,     -999.0,     -999.0,9,     -999.0
320620170820,        P06,     240,          1,          8,          8,2,20170927,       1208,   -32.4999,   -72.6822,       6000,  4336.9,   1.7358,  34.6933,2,  34.6922,2, 162.0782,2, 161.8481,2,   123.9,2,   34.77,2,    0.00,2,    2.44,2,   0.027,2,   0.072,2,   0.0000,2,  2307.8,2,  2403.3,2,   7.5883,2,    25.00, -999.00,9, -999.00,9, -999.00,    36.0,2, -999.00,9,     -999.0,1,  -999.0,9, 20170927,     1301, -32.4997, -72.6827,        0.0,1,      0.061,1,      4.673,1,      0.133,1,     -999.0,9,     -999.0,9,     -999.0,9,     -999.0,9,     -999.0,9,     -999.0,9,     -999.0,9,     -999.0,9,     -999.0,9,     -999.0,9,     -999.0,9,     1.7335,2,     -999.0,     -999.0,9,     -999.0
320620170820,        P06,     240,          1,          9,          9,2,20170927,       1208,   -32.4999,   -72.6822,       6000,  4029.2,   1.7409,  34.6918,2,  34.6903,2, 160.0731,2, 160.7104,2,   124.6,2,   34.90,2,    0.00,2,    2.44,2,   0.028,2,   0.098,2,   0.0000,2,  2307.7,2,  2402.8,2,   7.5869,2,    25.00, -999.00,9, -999.00,9, -999.00,    36.9,2, -999.00,9,     -999.0,1,  -999.0,9, 20170927,     1307, -32.4998, -72.6826,        0.0,1,      0.062,1,      4.674,1,      0.133,1,     -999.0,9,     -999.0,9,     -999.0,9,     -999.0,9,     -999.0,9,     -999.0,9,     -999.0,9,     -999.0,9,     -999.0,9,     -999.0,9,     -999.0,9,     1.7414,2,     -999.0,     -999.0,9,     -999.0
320620170820,        P06,     240,          1,         10,         10,4,20170927,       1208,   -32.4999,   -72.6822,       6000,  3723.3,   1.7671,  34.6885,3,-999.0000,9, 142.2807,4,-999.0000,9,  -999.0,9, -999.00,9, -999.00,9, -999.00,9,-999.000,9,-999.000,9,-999.0000,9,  -999.0,9,  -999.0,9,-999.0000,9,  -999.00, -999.00,9, -999.00,9, -999.00,  -999.0,9, -999.00,9,     -999.0,9,  -999.0,9, 20170927,     1313, -32.4998, -72.6825,        0.0,1,      0.061,1,      4.673,1,      0.133,1,     -999.0,9,     -999.0,9,     -999.0,9,     -999.0,9,     -999.0,9,     -999.0,9,     -999.0,9,     -999.0,9,     -999.0,9,     -999.0,9,     -999.0,9,     1.7696,3,     -999.0,     -999.0,9,     -999.0
320620170820,        P06,     240,          1,         11,         11,2,20170927,       1208,   -32.4999,   -72.6822,       6000,  3415.4,   1.7888,  34.6851,2,  34.6836,2, 154.1966,3, 151.1469,2,   129.2,2,   35.60,2,    0.00,2,    2.50,2,   0.024,2,   0.088,2,   0.0000,2,  2317.0,2,  2409.3,2,   7.5754,2,    25.00, -999.00,9, -999.00,9, -999.00,    35.9,2, -999.00,9,     -999.0,1,  -999.0,9, 20170927,     1319, -32.4999, -72.6824,        0.0,1,      0.061,1,      4.674,1,      0.132,1,     -999.0,9,     -999.0,9,     -999.0,9,     -999.0,9,     -999.0,9,     -999.0,9,     -999.0,9,     -999.0,9,     -999.0,9,     -999.0,9,     -999.0,9,     1.7876,2,     -999.0,     -999.0,9,     -999.0
320620170820,        P06,     240,          1,         12,         12,2,20170927,       1208,   -32.4999,   -72.6822,       6000,  3137.0,   1.7997,  34.6821,2,  34.6812,2, 150.2623,3, 148.3068,2,   128.1,2,   35.80,2,    0.00,2,    2.53,2,   0.034,2,   0.138,2,   0.0000,2,  2318.9,2,  2410.0,2,   7.5710,2,    25.00, -999.00,9, -999.00,9, -999.00,    34.8,2, -999.00,9,     -999.0,1,  -999.0,9, 20170927,     1325, -32.4998, -72.6824,        0.0,1,      0.061,1,      4.673,1,      0.139,1,     -999.0,9,     -999.0,9,     -999.0,9,     -999.0,9,     -999.0,9,     -999.0,9,     -999.0,9,     -999.0,9,     -999.0,9,     -999.0,9,     -999.0,9,     1.7948,2,     -999.0,     -999.0,9,     -999.0
320620170820,        P06,     240,          1,         13,         13,2,20170927,       1208,   -32.4999,   -72.6822,       6000,  2884.3,   1.8352,  34.6776,2,  34.6763,2, 145.7028,3, 148.3353,2,   126.3,2,   35.75,2,    0.00,2,    2.52,2,   0.024,2,   0.093,2,   0.0000,2,  2316.2,2,  2404.0,2,   7.5681,2,    25.00, -999.00,9, -999.00,9, -999.00,    36.4,2, -999.00,9,     -999.0,1,  -999.0,9, 20170927,     1330, -32.4998, -72.6826,        0.0,1,      0.062,1,      4.673,1,      0.136,1,     -999.0,9,     -999.0,9,     -999.0,9,     -999.0,9,     -999.0,9,     -999.0,9,     -999.0,9,     -999.0,9,     -999.0,9,     -999.0,9,     -999.0,9,     1.8318,2,     -999.0,     -999.0,9,     -999.0
320620170820,        P06,     240,          1,         14,         14,2,20170927,       1208,   -32.4999,   -72.6822,       6000,  2627.7,   1.8988,  34.6701,2,  34.6692,2, 144.8877,2, 147.0431,2,   125.3,2,   35.83,2,    0.00,2,    2.53,2,   0.023,2,   0.082,2,   0.0000,2,  2312.9,2,  2400.5,2,   7.5645,2,    25.00, -999.00,9, -999.00,9, -999.00,    34.1,2, -999.00,9,     -999.0,1,  -999.0,9, 20170927,     1335, -32.4998, -72.6825,        0.0,1,      0.062,1,      4.673,1,      0.139,1,     -999.0,9,     -999.0,9,     -999.0,9,     -999.0,9,     -999.0,9,     -999.0,9,     -999.0,9,     -999.0,9,     -999.0,9,     -999.0,9,     -999.0,9,     1.8879,2,     -999.0,     -999.0,9,     -999.0
320620170820,        P06,     240,          1,         15,         15,2,20170927,       1208,   -32.4999,   -72.6822,       6000,  2370.6,   1.9887,  34.6605,2,  34.6586,2, 141.2922,2, 142.4289,2,   123.3,2,   36.25,2,    0.00,2,    2.58,2,   0.022,2,   0.090,2,   0.0000,2,  2313.4,2,  2396.2,2,   7.5542,2,    25.00, -999.00,9, -999.00,9, -999.00,    35.2,2, -999.00,9,     -999.0,1,  -999.0,9, 20170927,     1340, -32.4999, -72.6822,        0.0,1,      0.062,1,      4.673,1,      0.138,1,     -999.0,9,     -999.0,9,     -999.0,9,     -999.0,9,     -999.0,9,     -999.0,9,     -999.0,9,     -999.0,9,     -999.0,9,     -999.0,9,     -999.0,9,     1.9894,2,     -999.0,     -999.0,9,     -999.0
320620170820,        P06,     240,          1,         16,         16,2,20170927,       1208,   -32.4999,   -72.6822,       6000,  2121.8,   2.1563,  34.6446,2,  34.6447,2, 134.5756,2,  135.536,2,   118.8,2,   36.73,2,    0.00,2,    2.61,2,   0.024,2,   0.098,2,   0.0000,2,  2313.7,2,  2392.6,2,   7.5420,2,    25.00, -999.00,9, -999.00,9, -999.00,    34.9,2, -999.00,9,     -999.0,1,  -999.0,9, 20170927,     1345, -32.4999, -72.6824,        0.0,1,      0.062,1,      4.673,1,      0.135,1,     -999.0,9,     -999.0,9,     -999.0,9,     -999.0,9,     -999.0,9,     -999.0,9,     -999.0,9,     -999.0,9,     -999.0,9,     -999.0,9,     -999.0,9,     2.1348,2,     -999.0,     -999.0,9,     -999.0
320620170820,        P06,     240,          1,         17,         17,2,20170927,       1208,   -32.4999,   -72.6822,       6000,  1866.2,   2.3649,  34.6252,2,  34.6229,2, 126.1812,2,  126.691,2,   113.8,2,   37.52,2,    0.00,2,    2.68,2,   0.022,2,   0.083,2,   0.0000,2,  2314.3,2,  2384.5,2,   7.5244,2,    25.00, -999.00,9, -999.00,9, -999.00,    33.8,2, -999.00,9,     -999.0,1,  -999.0,9, 20170927,     1350, -32.4998, -72.6825,        0.0,1,      0.063,1,      4.674,1,      0.139,1,     -999.0,9,     -999.0,9,     -999.0,9,     -999.0,9,     -999.0,9,     -999.0,9,     -999.0,9,     -999.0,9,     -999.0,9,     -999.0,9,     -999.0,9,     2.3671,2,     -999.0,     -999.0,9,     -999.0
320620170820,        P06,     240,          1,         18,         18,2,20170927,       1208,   -32.4999,   -72.6822,       6000,  1615.2,   2.6569,  34.5971,2,  34.5946,2, 119.0855,2, 118.6756,2,   103.8,2,   38.25,2,    0.00,2,    2.73,2,   0.028,2,   0.118,2,   0.0000,2,  2309.7,2,  2375.2,2,   7.5066,2,    25.00, -999.00,9, -999.00,9, -999.00,    36.3,2, -999.00,9,     -999.0,1,  -999.0,9, 20170927,     1355, -32.4997, -72.6827,        0.0,1,      0.062,1,      4.673,1,      0.141,1,     -999.0,9,     -999.0,9,     -999.0,9,     -999.0,9,     -999.0,9,     -999.0,9,     -999.0,9,     -999.0,9,     -999.0,9,     -999.0,9,     -999.0,9,     2.6586,2,     -999.0,     -999.0,9,     -999.0
320620170820,        P06,     240,          1,         19,         19,2,20170927,       1208,   -32.4999,   -72.6822,       6000,  1414.1,   2.9756,  34.5706,2,  34.5684,2, 111.6075,2, 110.5322,2,    97.1,2,   38.93,2,    0.00,2,    2.77,2,   0.022,2,   0.082,2,   0.0000,2,  2306.7,2,  2365.9,2,   7.4906,2,    25.00, -999.00,9, -999.00,9, -999.00,    35.6,2, -999.00,9,     -999.0,1,  -999.0,9, 20170927,     1359, -32.4997, -72.6828,        0.0,1,      0.063,1,      4.673,1,      0.142,1,     -999.0,9,     -999.0,9,     -999.0,9,     -999.0,9,     -999.0,9,     -999.0,9,     -999.0,9,     -999.0,9,     -999.0,9,     -999.0,9,     -999.0,9,     2.9720,2,     -999.0,     -999.0,9,     -999.0
320620170820,        P06,     240,          1,         20,         20,2,20170927,       1208,   -32.4999,   -72.6822,       6000,  1211.8,   3.3871,  34.5276,2,  34.5339,2, 105.8975,3, 103.2596,2,    86.3,2,   39.59,2,    0.00,2,    2.83,2,   0.027,2,   0.107,2,   0.0000,2,  2300.3,6,  2352.3,2,   7.4761,2,    25.00, -999.00,9, -999.00,9, -999.00,    36.0,2, -999.00,9,     -999.0,1,  -999.0,9, 20170927,     1404, -32.4997, -72.6826,        0.0,1,      0.062,1,      4.673,1,      0.143,1,     -999.0,9,     -999.0,9,     -999.0,9,     -999.0,9,     -999.0,9,     -999.0,9,     -999.0,9,     -999.0,9,     -999.0,9,     -999.0,9,     -999.0,9,     3.3626,2,     -999.0,     -999.0,9,     -999.0
320620170820,        P06,     240,          1,         21,         21,2,20170927,       1208,   -32.4999,   -72.6822,       6000,  1008.7,   3.7875,  34.4645,2,  34.4673,2, 112.9559,2, 111.0782,2,    69.2,2,   39.20,2,    0.00,2,    2.78,2,   0.075,2,   0.131,2,   0.0000,2,  2278.3,2,  2333.3,2,   7.4782,2,    25.00, -999.00,9, -999.00,9, -999.00,    40.6,2, -999.00,9,     -999.0,1,  -999.0,9, 20170927,     1408, -32.4997, -72.6826,        0.0,1,      0.063,1,      4.672,1,      0.140,1,     -999.0,9,     -999.0,9,     -999.0,9,     -999.0,9,     -999.0,9,     -999.0,9,     -999.0,9,     -999.0,9,     -999.0,9,     -999.0,9,     -999.0,9,     3.7562,2,     -999.0,     -999.0,9,     -999.0
320620170820,        P06,     240,          1,         22,         22,2,20170927,       1208,   -32.4999,   -72.6822,       6000,   906.4,   4.0832,  34.4213,2,  34.4255,2, 122.0385,3, 119.2771,2,    57.3,2,   38.49,2,    0.00,2,    2.72,2,   0.192,2,   0.209,2,   0.0000,2,  2263.5,2,  2318.8,2,   7.4880,2,    25.00, -999.00,9, -999.00,9, -999.00,    41.2,2, -999.00,9,     -999.0,1,  -999.0,9, 20170927,     1410, -32.4998, -72.6825,        0.0,1,      0.062,1,      4.673,1,      0.144,1,     -999.0,9,     -999.0,9,     -999.0,9,     -999.0,9,     -999.0,9,     -999.0,9,     -999.0,9,     -999.0,9,     -999.0,9,     -999.0,9,     -999.0,9,     4.0562,2,     -999.0,     -999.0,9,     -999.0
320620170820,        P06,     240,          1,         23,         23,2,20170927,       1208,   -32.4999,   -72.6822,       6000,   806.6,   4.4266,  34.3591,2,  34.3766,2, 139.9011,2,  139.905,2,    43.3,2,   36.57,2,    0.00,2,    2.57,2,   0.574,2,   0.354,2,   0.1160,2,  2239.7,2,  2304.3,2,   7.5172,2,    25.00, -999.00,9, -999.00,9, -999.00,    38.0,2, -999.00,9,     -999.0,1,  -999.0,9, 20170927,     1413, -32.4998, -72.6825,        0.0,1,      0.062,1,      4.672,1,      0.144,1,     -999.0,9,     -999.0,9,     -999.0,9,     -999.0,9,     -999.0,9,     -999.0,9,     -999.0,9,     -999.0,9,     -999.0,9,     -999.0,9,     -999.0,9,     4.3912,2,     -999.0,     -999.0,9,     -999.0
320620170820,        P06,     240,          1,         24,         24,2,20170927,       1208,   -32.4999,   -72.6822,       6000,   704.2,   4.8807,  34.3239,2,  34.3199,3, 163.6797,3, 167.2055,2,    29.3,2,   33.64,2,    0.00,2,    2.34,2,   1.413,2,   0.752,2,   0.2140,2,  2211.6,2,  2291.0,2,   7.5574,2,    25.00, -999.00,9, -999.00,9, -999.00,    38.0,2, -999.00,9,     -999.0,1,  -999.0,9, 20170927,     1416, -32.4998, -72.6824,        0.0,1,      0.061,1,      4.671,1,      0.146,1,     -999.0,9,     -999.0,9,     -999.0,9,     -999.0,9,     -999.0,9,     -999.0,9,     -999.0,9,     -999.0,9,     -999.0,9,     -999.0,9,     -999.0,9,     4.8990,2,     -999.0,     -999.0,9,     -999.0
320620170820,        P06,     240,          1,         25,         25,2,20170927,       1208,   -32.4999,   -72.6822,       6000,   604.7,   5.4621,  34.3073,2,  34.3013,2, 175.7491,2, 177.8234,2,    20.9,2,   31.75,2,    0.00,2,    2.20,2,   2.240,2,   1.166,2,   0.3830,2,  2198.9,6,  2282.5,6,   7.5760,2,    25.00, -999.00,9, -999.00,9, -999.00,    39.8,2, -999.00,9,     -999.0,1,  -999.0,9, 20170927,     1419, -32.4998, -72.6825,        0.0,1,      0.062,1,      4.670,1,      0.151,1,     -999.0,9,     -999.0,9,     -999.0,9,     -999.0,9,     -999.0,9,     -999.0,9,     -999.0,9,     -999.0,9,     -999.0,9,     -999.0,9,     -999.0,9,     5.4369,2,     -999.0,     -999.0,9,     -999.0
320620170820,        P06,     240,          1,         26,         26,2,20170927,       1208,   -32.4999,   -72.6822,       6000,   503.6,   6.1097,  34.3200,2,  34.3152,2, 172.9777,2, 172.3473,2,    16.4,2,   30.92,2,    0.00,2,    2.15,2,   2.590,2,   1.446,2,   0.4850,2,  2197.0,2,  2280.6,2,   7.5670,6,    25.00, -999.00,9, -999.00,9, -999.00,    43.7,2, -999.00,9,     -999.0,1,  -999.0,9, 20170927,     1421, -32.4998, -72.6825,        0.0,1,      0.061,1,      4.666,1,      0.156,1,     -999.0,9,     -999.0,9,     -999.0,9,     -999.0,9,     -999.0,9,     -999.0,9,     -999.0,9,     -999.0,9,     -999.0,9,     -999.0,9,     -999.0,9,     6.0951,2,     -999.0,     -999.0,9,     -999.0