BOTTLE,20240211CCHSIOCBG
EXPOCODE,SECT_ID,STNNBR,CASTNO,SAMPNO,BTLNBR,BTLNBR_FLAG_W,DATE,TIME,LATITUDE,LONGITUDE,DEPTH,CTDPRS,CTDTMP,CTDSAL,CTDSAL_FLAG_W,SALNTY,SALNTY_FLAG_W,CTDOXY,CTDOXY_FLAG_W,OXYGEN,OXYGEN_FLAG_W,SILCAT,SILCAT_FLAG_W,NITRAT,NITRAT_FLAG_W,NITRIT,NITRIT_FLAG_W,PHSPHT,PHSPHT_FLAG_W,CFC-11,CFC-11_FLAG_W,CFC-12,CFC-12_FLAG_W,SF6,SF6_FLAG_W,TCARBN,TCARBN_FLAG_W,ALKALI,ALKALI_FLAG_W,PH_TOT,PH_TOT_FLAG_W,PH_TMP,DELC13,DELC13_FLAG_W,DELC14,DELC14_FLAG_W,C14ERR,DOC,DOC_FLAG_W,TDN,TDN_FLAG_W,TON,TON_FLAG_W,D15N_NO3,D15N_NO3_FLAG_W,BTL_DATE,BTL_TIME,BTL_LAT,BTL_LON,CTDRINKO,CTDRINKO_FLAG_W,CTDFLUOR,CTDFLUOR_FLAG_W,CTDXMISS,CTDXMISS_FLAG_W,CTDBACKSCATTER,CTDBACKSCATTER_FLAG_W,D18O_NO3,D18O_NO3_FLAG_W,DOP,DOP_FLAG_W,CELLCOUNT,CELLCOUNT_FLAG_W,TDP,TDP_FLAG_W,POP,POP_FLAG_W,DATP,DATP_FLAG_W,PATP,PATP_FLAG_W,HPLC,HPLC_FLAG_W,POC,POC_FLAG_W,BEAMAP,BEAMAP_FLAG_W,DOC_NASA,DOC_NASA_FLAG_W,REFTMP,REFTMP_FLAG_W,DOC_NASA_ERROR,TDN_NASA,TDN_NASA_FLAG_W,TDN_NASA_ERROR
,,,,,,,,,,,METERS,DBAR,ITS-90,PSS-78,,PSS-78,,UMOL/KG,,UMOL/KG,,UMOL/KG,,UMOL/KG,,UMOL/KG,,UMOL/KG,,PMOL/KG,,PMOL/KG,,FMOL/KG,,UMOL/KG,,UMOL/KG,,,,DEG C,/MILLE,,/MILLE,,/MILLE,UMOL/KG,,UMOL/KG,,UMOL/KG,,/MILLE,,,,,,VOLTS,,VOLTS,,VOLTS,,VOLTS,,/MILLE,,UMOL/KG,,/LITER,,UMOL/KG,,UMOL/L,,PMOL/L,,PMOL/L,,,,UG/L,,/METER,,UMOL/L,,ITS-90,,UMOL/L,UMOL/L,,UMOL/L
320620170820,        P06,     177,          1,         27,         27,2,20170907,       1238,   -32.5004,  -121.3362,       3195,   226.5,  13.4227,  34.7174,2,  34.7050,2, 222.8435,2, 224.0126,2,     0.5,2,    5.67,2,    0.02,2,    0.49,2,   2.668,2,   1.571,2,   1.5760,2,  2090.4,2,  2285.8,2,   7.8557,2,    25.00, -999.00,9, -999.00,9, -999.00,  -999.0,9, -999.00,9,     -999.0,9,  -999.0,9, 20170907,     1356, -32.5001,-121.3363,        0.0,1,      0.067,1,      4.680,1,      0.133,1,     -999.0,9,     -999.0,9,     -999.0,9,     -999.0,9,     -999.0,9,     -999.0,9,     -999.0,9,     -999.0,9,     -999.0,9,     -999.0,9,     -999.0,9,    13.4960,2,     -999.0,     -999.0,9,     -999.0
320620170820,        P06,     177,          1,         28,         28,2,20170907,       1238,   -32.5004,  -121.3362,       3195,   202.2,  14.2544,  34.7364,2,  34.7264,2, 228.7182,2, 229.6802,2,     0.2,2,    3.35,2,    0.14,2,    0.35,2,   2.558,2,   1.515,2,   1.6820,2,  2076.4,2,  2286.3,2,   7.8809,2,    25.00, -999.00,9, -999.00,9, -999.00,  -999.0,9, -999.00,9,     -999.0,9,  -999.0,9, 20170907,     1357, -32.5001,-121.3363,        0.0,1,      0.080,1,      4.676,1,      0.138,1,     -999.0,9,     -999.0,9,     -999.0,9,     -999.0,9,     -999.0,9,     -999.0,9,     -999.0,9,     -999.0,9,     -999.0,9,     -999.0,9,     -999.0,9,    14.2972,2,     -999.0,     -999.0,9,     -999.0
320620170820,        P06,     177,          1,         29,         29,2,20170907,       1238,   -32.5004,  -121.3362,       3195,   177.0,  14.8605,  34.7571,2,  34.7589,3, 235.5998,2,   234.96,2,     0.0,2,    1.67,2,    0.29,2,    0.25,2,   2.494,2,   1.476,2,   1.7870,2,  2070.8,2,  2286.0,2,   7.9011,2,    25.00, -999.00,9, -999.00,9, -999.00,  -999.0,9, -999.00,9,     -999.0,9,  -999.0,9, 20170907,     1358, -32.5000,-121.3363,        0.0,1,      0.095,1,      4.671,1,      0.142,1,     -999.0,9,     -999.0,9,     -999.0,9,     -999.0,9,     -999.0,9,     -999.0,9,     -999.0,9,     -999.0,9,     -999.0,9,     -999.0,9,     -999.0,9,    14.9790,2,     -999.0,     -999.0,9,     -999.0
320620170820,        P06,     177,          1,         30,         30,2,20170907,       1238,   -32.5004,  -121.3362,       3195,   150.1,  15.6783,  34.7867,2,  34.7620,2, 243.0964,2, 241.2027,2,     0.0,2,    0.60,2,    0.15,2,    0.20,2,   2.342,2,   1.429,2,   1.8220,2,  2060.0,2,  2289.3,2,   7.9228,2,    25.00, -999.00,9, -999.00,9, -999.00,  -999.0,9, -999.00,9,     -999.0,9,  -999.0,9, 20170907,     1400, -32.5001,-121.3363,        0.0,1,      0.159,1,      4.653,1,      0.161,1,     -999.0,9,     -999.0,9,     -999.0,9,     -999.0,9,     -999.0,9,     -999.0,9,     -999.0,9,     -999.0,9,     -999.0,9,     -999.0,9,     -999.0,9,    15.5387,2,     -999.0,     -999.0,9,     -999.0
320620170820,        P06,     177,          1,         31,         31,2,20170907,       1238,   -32.5004,  -121.3362,       3195,   125.7,  16.1336,  34.8079,2,  34.8336,2,  235.538,2, 243.0845,2,     0.0,2,    0.03,2,    0.02,2,    0.10,2,   2.327,2,   1.369,2,   1.8280,2,  2050.4,2,  2292.1,6,   7.9466,2,    25.00, -999.00,9, -999.00,9, -999.00,  -999.0,9, -999.00,9,     -999.0,9,  -999.0,9, 20170907,     1401, -32.5001,-121.3363,        0.0,1,      0.184,1,      4.640,1,      0.176,1,     -999.0,9,     -999.0,9,     -999.0,9,     -999.0,9,     -999.0,9,     -999.0,9,     -999.0,9,     -999.0,9,     -999.0,9,     -999.0,9,     -999.0,9,    16.2350,2,     -999.0,     -999.0,9,     -999.0
320620170820,        P06,     177,          1,         32,         32,2,20170907,       1238,   -32.5004,  -121.3362,       3195,   100.3,  16.5417,  34.8623,2,  34.8532,2, 235.1637,2,   242.18,2,     0.0,2,    0.00,2,    0.00,2,    0.10,2,   2.296,2,   1.352,2,   1.7850,2,  2046.9,2,  2292.8,2,   7.9518,6,    25.00, -999.00,9, -999.00,9, -999.00,  -999.0,9, -999.00,9,     -999.0,9,  -999.0,9, 20170907,     1403, -32.5002,-121.3362,        0.0,1,      0.131,1,      4.635,1,      0.175,1,     -999.0,9,     -999.0,9,     -999.0,9,     -999.0,9,     -999.0,9,     -999.0,9,     -999.0,9,     -999.0,9,     -999.0,9,     -999.0,9,     -999.0,9,    16.4753,2,     -999.0,     -999.0,9,     -999.0
320620170820,        P06,     177,          1,         33,         33,2,20170907,       1238,   -32.5004,  -121.3362,       3195,    75.4,  16.5936,  34.8717,2,  34.8599,2, 236.0317,2, 243.1754,2,     0.0,2,    0.00,2,    0.00,2,    0.09,2,   2.310,2,   1.343,2,   1.7850,2,  2045.0,2,  2292.5,2,   7.9530,2,    25.00, -999.00,9, -999.00,9, -999.00,  -999.0,9, -999.00,9,     -999.0,9,  -999.0,9, 20170907,     1404, -32.5002,-121.3362,        0.0,1,      0.106,1,      4.636,1,      0.176,1,     -999.0,9,     -999.0,9,     -999.0,9,     -999.0,9,     -999.0,9,     -999.0,9,     -999.0,9,     -999.0,9,     -999.0,9,     -999.0,9,     -999.0,9,    16.5557,2,     -999.0,     -999.0,9,     -999.0
320620170820,        P06,     177,          1,         34,         34,2,20170907,       1238,   -32.5004,  -121.3362,       3195,    50.2,  16.9152,  34.9181,2,  34.9368,2, 235.2961,2,   241.66,2,     0.0,2,    0.00,2,    0.00,2,    0.09,2,   2.253,2,   1.324,2,   1.6950,2,  2049.0,2,  2297.0,2,   7.9592,2,    25.00, -999.00,9, -999.00,9, -999.00,  -999.0,9, -999.00,9,     -999.0,9,  -999.0,9, 20170907,     1406, -32.5003,-121.3362,        0.0,1,      0.077,1,      4.648,1,      0.163,1,     -999.0,9,     -999.0,9,     -999.0,9,     -999.0,9,     -999.0,9,     -999.0,9,     -999.0,9,     -999.0,9,     -999.0,9,     -999.0,9,     -999.0,9,    16.9704,2,     -999.0,     -999.0,9,     -999.0
320620170820,        P06,     177,          1,         35,         35,2,20170907,       1238,   -32.5004,  -121.3362,       3195,    25.1,  17.1055,  34.9409,2,  34.9532,2, 234.5885,2, 241.4775,2,     0.0,2,    0.00,2,    0.00,2,    0.09,2,   2.373,2,   1.324,2,   1.7950,2,  2047.3,2,  2297.8,2,   7.9594,2,    25.00, -999.00,9, -999.00,9, -999.00,  -999.0,9, -999.00,9,     -999.0,9,  -999.0,9, 20170907,     1408, -32.5003,-121.3362,        0.0,1,      0.072,1,      4.652,1,      0.157,1,     -999.0,9,     -999.0,9,     -999.0,9,     -999.0,9,     -999.0,9,     -999.0,9,     -999.0,9,     -999.0,9,     -999.0,9,     -999.0,9,     -999.0,9,    17.1202,2,     -999.0,     -999.0,9,     -999.0
320620170820,        P06,     177,          1,         36,         36,2,20170907,       1238,   -32.5004,  -121.3362,       3195,     9.9,  17.1479,  34.9472,2,  34.9534,2, 243.8346,2, 241.3102,2,     0.0,2,    0.00,2,    0.00,2,    0.09,2,   2.274,2,   1.328,2,   1.7770,2,  2047.2,6,  2298.1,2,   7.9585,2,    25.00,    0.90,2,   46.94,2,    4.24,  -999.0,9, -999.00,9,     -999.0,9,  -999.0,9, 20170907,     1409, -32.5004,-121.3362,        0.0,1,      0.072,1,      4.652,1,      0.156,1,     -999.0,9,     -999.0,9,     -999.0,9,     -999.0,9,     -999.0,9,     -999.0,9,     -999.0,9,     -999.0,9,     -999.0,9,     -999.0,9,     -999.0,9,    17.1576,2,     -999.0,     -999.0,9,     -999.0