BOTTLE,20240211CCHSIOCBG
EXPOCODE,SECT_ID,STNNBR,CASTNO,SAMPNO,BTLNBR,BTLNBR_FLAG_W,DATE,TIME,LATITUDE,LONGITUDE,DEPTH,CTDPRS,CTDTMP,CTDSAL,CTDSAL_FLAG_W,SALNTY,SALNTY_FLAG_W,CTDOXY,CTDOXY_FLAG_W,OXYGEN,OXYGEN_FLAG_W,SILCAT,SILCAT_FLAG_W,NITRAT,NITRAT_FLAG_W,NITRIT,NITRIT_FLAG_W,PHSPHT,PHSPHT_FLAG_W,CFC-11,CFC-11_FLAG_W,CFC-12,CFC-12_FLAG_W,SF6,SF6_FLAG_W,TCARBN,TCARBN_FLAG_W,ALKALI,ALKALI_FLAG_W,PH_TOT,PH_TOT_FLAG_W,PH_TMP,DELC13,DELC13_FLAG_W,DELC14,DELC14_FLAG_W,C14ERR,DOC,DOC_FLAG_W,TDN,TDN_FLAG_W,TON,TON_FLAG_W,D15N_NO3,D15N_NO3_FLAG_W,BTL_DATE,BTL_TIME,BTL_LAT,BTL_LON,CTDRINKO,CTDRINKO_FLAG_W,CTDFLUOR,CTDFLUOR_FLAG_W,CTDXMISS,CTDXMISS_FLAG_W,CTDBACKSCATTER,CTDBACKSCATTER_FLAG_W,D18O_NO3,D18O_NO3_FLAG_W,DOP,DOP_FLAG_W,CELLCOUNT,CELLCOUNT_FLAG_W,TDP,TDP_FLAG_W,POP,POP_FLAG_W,DATP,DATP_FLAG_W,PATP,PATP_FLAG_W,HPLC,HPLC_FLAG_W,POC,POC_FLAG_W,BEAMAP,BEAMAP_FLAG_W,DOC_NASA,DOC_NASA_FLAG_W,REFTMP,REFTMP_FLAG_W,DOC_NASA_ERROR,TDN_NASA,TDN_NASA_FLAG_W,TDN_NASA_ERROR
,,,,,,,,,,,METERS,DBAR,ITS-90,PSS-78,,PSS-78,,UMOL/KG,,UMOL/KG,,UMOL/KG,,UMOL/KG,,UMOL/KG,,UMOL/KG,,PMOL/KG,,PMOL/KG,,FMOL/KG,,UMOL/KG,,UMOL/KG,,,,DEG C,/MILLE,,/MILLE,,/MILLE,UMOL/KG,,UMOL/KG,,UMOL/KG,,/MILLE,,,,,,VOLTS,,VOLTS,,VOLTS,,VOLTS,,/MILLE,,UMOL/KG,,/LITER,,UMOL/KG,,UMOL/L,,PMOL/L,,PMOL/L,,,,UG/L,,/METER,,UMOL/L,,ITS-90,,UMOL/L,UMOL/L,,UMOL/L
320620170820,        P06,     164,          1,         27,         27,2,20170903,       0830,   -32.4996,  -131.4670,       4147,   284.9,  11.2104,  34.6367,2,  34.6028,2, 219.4476,2, 221.6821,2,     1.8,2,   12.79,2,    0.00,2,    0.91,2,   2.988,2,   1.683,2,   1.4120,2,  2119.4,2,  2283.3,2,   7.7800,2,    25.00, -999.00,9, -999.00,9, -999.00,    53.0,2, -999.00,9,     -999.0,1,  -999.0,9, 20170903,     1022, -32.4996,-131.4669,        0.0,1,      0.059,1,      4.686,1,      0.134,1,     -999.0,9,     -999.0,9,     -999.0,9,     -999.0,9,     -999.0,9,     -999.0,9,     -999.0,9,     -999.0,9,     -999.0,9,     -999.0,9,     -999.0,9,    11.0697,2,     -999.0,     -999.0,9,     -999.0
320620170820,        P06,     164,          1,         28,         28,2,20170903,       0830,   -32.4996,  -131.4670,       4147,   237.2,  12.7086,  34.7528,2,  34.6914,2,   226.55,2, 224.9748,2,     0.4,2,    7.51,2,    0.00,2,    0.60,2,   2.726,2,   1.603,2,   1.6750,2,  2096.1,2,  2286.5,2,   7.8326,2,    25.00, -999.00,9, -999.00,9, -999.00,    52.5,2,   10.70,2,     -999.0,1,  -999.0,9, 20170903,     1024, -32.4996,-131.4670,        0.0,1,      0.062,1,      4.684,1,      0.133,1,     -999.0,9,     -999.0,9,     -999.0,9,     -999.0,9,     -999.0,9,     -999.0,9,     -999.0,9,     -999.0,9,     -999.0,9,     -999.0,9,     -999.0,9,    12.5027,2,     -999.0,     -999.0,9,     -999.0
320620170820,        P06,     164,          1,         29,         29,2,20170903,       0830,   -32.4996,  -131.4670,       4147,   186.5,  14.1568,  34.9121,2,  34.9858,2, 226.7383,2,  223.241,2,     0.1,2,    3.48,2,    0.03,2,    0.32,2,   2.460,2,   1.490,2,   1.6000,2,  2084.9,2,  2301.0,6,   7.8834,2,    25.00, -999.00,9, -999.00,9, -999.00,    53.5,2,    6.10,2,     -999.0,1,  -999.0,9, 20170903,     1026, -32.4996,-131.4672,        0.0,1,      0.081,1,      4.677,1,      0.144,1,     -999.0,9,     -999.0,9,     -999.0,9,     -999.0,9,     -999.0,9,     -999.0,9,     -999.0,9,     -999.0,9,     -999.0,9,     -999.0,9,     -999.0,9,    14.5885,2,     -999.0,     -999.0,9,     -999.0
320620170820,        P06,     164,          1,         30,         30,2,20170903,       0830,   -32.4996,  -131.4670,       4147,   139.0,  15.6196,  35.0535,2,  35.0230,3, 232.9876,2,  232.115,2,     0.0,2,    1.23,2,    0.08,2,    0.18,2,   2.326,2,   1.424,2,   1.6690,2,  2067.3,2,  2302.3,2,   7.9207,2,    25.00, -999.00,9, -999.00,9, -999.00,    57.6,2,    5.50,2,     -999.0,1,  -999.0,9, 20170903,     1029, -32.4996,-131.4671,        0.0,1,      0.124,1,      4.663,1,      0.152,1,     -999.0,9,     -999.0,9,     -999.0,9,     -999.0,9,     -999.0,9,     -999.0,9,     -999.0,9,     -999.0,9,     -999.0,9,     -999.0,9,     -999.0,9,    15.6543,2,     -999.0,     -999.0,9,     -999.0
320620170820,        P06,     164,          1,         31,         31,2,20170903,       0830,   -32.4996,  -131.4670,       4147,   114.3,  15.9355,  35.0014,2,  34.9620,2, 244.0751,2, 243.5936,2,     0.0,2,    0.12,2,    0.03,2,    0.10,2,   2.120,2,   1.390,2,   1.7980,2,  2053.8,2,  2299.9,2,   7.9427,6,    25.00, -999.00,9, -999.00,9, -999.00,  -999.0,9, -999.00,9,     -999.0,9,  -999.0,9, 20170903,     1030, -32.4996,-131.4671,        0.0,1,      0.150,1,      4.651,1,      0.170,1,     -999.0,9,     -999.0,9,     -999.0,9,     -999.0,9,     -999.0,9,     -999.0,9,     -999.0,9,     -999.0,9,     -999.0,9,     -999.0,9,     -999.0,9,    15.8256,2,     -999.0,     -999.0,9,     -999.0
320620170820,        P06,     164,          1,         32,         32,2,20170903,       0830,   -32.4996,  -131.4670,       4147,    89.8,  16.0796,  35.0238,2,  35.0311,2, 242.2234,2,  242.987,2,     0.0,2,    0.05,2,    0.02,2,    0.09,2,   2.254,2,   1.377,2,   1.6450,2,  2052.9,2,  2302.8,2,   7.9487,2,    25.00, -999.00,9, -999.00,9, -999.00,    63.4,3,    4.10,2,     -999.0,1,  -999.0,9, 20170903,     1032, -32.4996,-131.4670,        0.0,1,      0.181,1,      4.639,1,      0.177,1,     -999.0,9,     -999.0,9,     -999.0,9,     -999.0,9,     -999.0,9,     -999.0,9,     -999.0,9,     -999.0,9,     -999.0,9,     -999.0,9,     -999.0,9,    16.1493,2,     -999.0,     -999.0,9,     -999.0
320620170820,        P06,     164,          1,         33,         33,2,20170903,       0830,   -32.4996,  -131.4670,       4147,    63.4,  16.2170,  35.0518,2,  35.0468,2, 242.7886,2, 247.2354,2,     0.0,2,    0.03,2,    0.00,2,    0.09,2,   2.263,2,   1.372,2,   1.7090,2,  2050.6,2,  2304.7,2,   7.9516,2,    25.00, -999.00,9, -999.00,9, -999.00,    60.5,3,    4.30,2,     -999.0,1,  -999.0,9, 20170903,     1034, -32.4996,-131.4671,        0.0,1,      0.192,1,      4.627,1,      0.183,1,     -999.0,9,     -999.0,9,     -999.0,9,     -999.0,9,     -999.0,9,     -999.0,9,     -999.0,9,     -999.0,9,     -999.0,9,     -999.0,9,     -999.0,9,    16.2043,2,     -999.0,     -999.0,9,     -999.0
320620170820,        P06,     164,          1,         34,         34,2,20170903,       0830,   -32.4996,  -131.4670,       4147,    38.2,  16.2194,  35.0451,2,  35.0490,2, 242.1925,2, 243.7297,2,     0.0,2,    0.03,2,    0.00,2,    0.09,2,   2.299,2,   1.359,2,   1.7310,2,  2052.9,2,  2303.5,2,   7.9508,2,    25.00, -999.00,9, -999.00,9, -999.00,    62.5,2,    3.40,2,     -999.0,1,  -999.0,9, 20170903,     1036, -32.4996,-131.4671,        0.0,1,      0.182,1,      4.625,1,      0.190,1,     -999.0,9,     -999.0,9,     -999.0,9,     -999.0,9,     -999.0,9,     -999.0,9,     -999.0,9,     -999.0,9,     -999.0,9,     -999.0,9,     -999.0,9,    16.2047,2,     -999.0,     -999.0,9,     -999.0
320620170820,        P06,     164,          1,         35,         35,2,20170903,       0830,   -32.4996,  -131.4670,       4147,    18.2,  16.2185,  35.0449,2,  35.0472,2, 242.5558,2,  243.351,2,     0.0,2,    0.03,2,    0.00,2,    0.09,2,   2.177,6,   1.380,6,   1.6125,6,  2053.4,2,  2303.6,2,   7.9509,2,    25.00, -999.00,9, -999.00,9, -999.00,    65.4,2,    3.60,2,     -999.0,1,  -999.0,9, 20170903,     1038, -32.4996,-131.4671,        0.0,1,      0.178,1,      4.624,1,      0.182,1,     -999.0,9,     -999.0,9,     -999.0,9,     -999.0,9,     -999.0,9,     -999.0,9,     -999.0,9,     -999.0,9,     -999.0,9,     -999.0,9,     -999.0,9,    16.1960,2,     -999.0,     -999.0,9,     -999.0
320620170820,        P06,     164,          1,         36,         36,2,20170903,       0830,   -32.4996,  -131.4670,       4147,     4.9,  16.2126,  35.0453,2,  35.0494,2, 242.4169,2, 243.3112,2,     0.0,2,    0.02,2,    0.00,2,    0.11,2,   2.269,2,   1.367,2,   1.7160,2,  2052.9,6,  2305.3,2,   7.9509,2,    25.00, -999.00,9, -999.00,9, -999.00,    66.2,2,    3.60,2,     -999.0,1,  -999.0,9, 20170903,     1040, -32.4996,-131.4670,        0.0,1,      0.171,1,      4.611,1,      0.190,1,     -999.0,9,     -999.0,9,     -999.0,9,     -999.0,9,     -999.0,9,     -999.0,9,     -999.0,9,     -999.0,9,     -999.0,9,     -999.0,9,     -999.0,9,    16.1940,2,     -999.0,     -999.0,9,     -999.0