BOTTLE,20240211CCHSIOCBG
EXPOCODE,SECT_ID,STNNBR,CASTNO,SAMPNO,BTLNBR,BTLNBR_FLAG_W,DATE,TIME,LATITUDE,LONGITUDE,DEPTH,CTDPRS,CTDTMP,CTDSAL,CTDSAL_FLAG_W,SALNTY,SALNTY_FLAG_W,CTDOXY,CTDOXY_FLAG_W,OXYGEN,OXYGEN_FLAG_W,SILCAT,SILCAT_FLAG_W,NITRAT,NITRAT_FLAG_W,NITRIT,NITRIT_FLAG_W,PHSPHT,PHSPHT_FLAG_W,CFC-11,CFC-11_FLAG_W,CFC-12,CFC-12_FLAG_W,SF6,SF6_FLAG_W,TCARBN,TCARBN_FLAG_W,ALKALI,ALKALI_FLAG_W,PH_TOT,PH_TOT_FLAG_W,PH_TMP,DELC13,DELC13_FLAG_W,DELC14,DELC14_FLAG_W,C14ERR,DOC,DOC_FLAG_W,TDN,TDN_FLAG_W,TON,TON_FLAG_W,D15N_NO3,D15N_NO3_FLAG_W,BTL_DATE,BTL_TIME,BTL_LAT,BTL_LON,CTDRINKO,CTDRINKO_FLAG_W,CTDFLUOR,CTDFLUOR_FLAG_W,CTDXMISS,CTDXMISS_FLAG_W,CTDBACKSCATTER,CTDBACKSCATTER_FLAG_W,D18O_NO3,D18O_NO3_FLAG_W,DOP,DOP_FLAG_W,CELLCOUNT,CELLCOUNT_FLAG_W,TDP,TDP_FLAG_W,POP,POP_FLAG_W,DATP,DATP_FLAG_W,PATP,PATP_FLAG_W,HPLC,HPLC_FLAG_W,POC,POC_FLAG_W,BEAMAP,BEAMAP_FLAG_W,DOC_NASA,DOC_NASA_FLAG_W,REFTMP,REFTMP_FLAG_W,DOC_NASA_ERROR,TDN_NASA,TDN_NASA_FLAG_W,TDN_NASA_ERROR
,,,,,,,,,,,METERS,DBAR,ITS-90,PSS-78,,PSS-78,,UMOL/KG,,UMOL/KG,,UMOL/KG,,UMOL/KG,,UMOL/KG,,UMOL/KG,,PMOL/KG,,PMOL/KG,,FMOL/KG,,UMOL/KG,,UMOL/KG,,,,DEG C,/MILLE,,/MILLE,,/MILLE,UMOL/KG,,UMOL/KG,,UMOL/KG,,/MILLE,,,,,,VOLTS,,VOLTS,,VOLTS,,VOLTS,,/MILLE,,UMOL/KG,,/LITER,,UMOL/KG,,UMOL/L,,PMOL/L,,PMOL/L,,,,UG/L,,/METER,,UMOL/L,,ITS-90,,UMOL/L,UMOL/L,,UMOL/L
320620170820,        P06,     149,          1,          1,          1,2,20170827,       0359,   -32.4992,  -144.8195,       5262,  5350.4,   1.2796,  34.7081,2,  34.7083,3, 198.9577,2, 199.6291,2,   119.4,2,   32.44,2,    0.00,2,    2.24,2,   0.037,2,   0.032,2,   0.0000,2,  2268.1,6,  2372.0,2,   7.6097,2,    25.00, -999.00,9, -999.00,9, -999.00,  -999.0,9, -999.00,9,     -999.0,9,  -999.0,9, 20170827,      359, -32.5001,-144.8212,        0.0,1,      0.061,1,      4.695,1,      0.122,1,     -999.0,9,     -999.0,9,     -999.0,9,     -999.0,9,     -999.0,9,     -999.0,9,     -999.0,9,     -999.0,9,     -999.0,9,     -999.0,9,     -999.0,9,     1.2803,2,     -999.0,     -999.0,9,     -999.0
320620170820,        P06,     149,          1,          2,          2,2,20170827,       0359,   -32.4992,  -144.8195,       5262,  5250.1,   1.2725,  34.7080,2,  34.7085,3, 198.9577,2, 198.3405,2,   119.4,2,   32.41,2,    0.00,2,    2.24,2,   0.042,2,   0.033,2,   0.0000,2,  -999.0,9,  -999.0,9,-999.0000,9,  -999.00, -999.00,9, -999.00,9, -999.00,  -999.0,9, -999.00,9,     -999.0,9,  -999.0,9, 20170827,      403, -32.5000,-144.8211,        0.0,1,      0.061,1,      4.695,1,      0.120,1,     -999.0,9,     -999.0,9,     -999.0,9,     -999.0,9,     -999.0,9,     -999.0,9,     -999.0,9,     -999.0,9,     -999.0,9,     -999.0,9,     -999.0,9,     1.2723,2,     -999.0,     -999.0,9,     -999.0
320620170820,        P06,     149,          1,          3,          3,2,20170827,       0359,   -32.4992,  -144.8195,       5262,  5095.9,   1.2618,  34.7078,2,  34.7079,3, 198.9577,2, 199.4189,2,   119.5,2,   32.42,2,    0.00,2,    2.24,2,   0.038,2,   0.028,2,   0.0000,2,  2271.0,2,  2374.0,2,   7.6086,2,    25.00, -999.00,9, -999.00,9, -999.00,  -999.0,9, -999.00,9,     -999.0,9,  -999.0,9, 20170827,      408, -32.5005,-144.8211,        0.0,1,      0.061,1,      4.696,1,      0.122,1,     -999.0,9,     -999.0,9,     -999.0,9,     -999.0,9,     -999.0,9,     -999.0,9,     -999.0,9,     -999.0,9,     -999.0,9,     -999.0,9,     -999.0,9,     1.2624,2,     -999.0,     -999.0,9,     -999.0
320620170820,        P06,     149,          1,          4,          4,2,20170827,       0359,   -32.4992,  -144.8195,       5262,  4680.9,   1.2598,  34.7063,2,  34.7085,3, 195.9293,2, 196.0114,2,   119.8,2,   32.60,2,    0.00,2,    2.24,2,   0.040,2,   0.032,2,   0.0000,2,  -999.0,9,  -999.0,9,-999.0000,9,  -999.00, -999.00,9, -999.00,9, -999.00,  -999.0,9, -999.00,9,     -999.0,9,  -999.0,9, 20170827,      418, -32.5001,-144.8208,        0.0,1,      0.061,1,      4.697,1,      0.122,1,     -999.0,9,     -999.0,9,     -999.0,9,     -999.0,9,     -999.0,9,     -999.0,9,     -999.0,9,     -999.0,9,     -999.0,9,     -999.0,9,     -999.0,9,     1.2613,2,     -999.0,     -999.0,9,     -999.0
320620170820,        P06,     149,          1,          5,          5,2,20170827,       0359,   -32.4992,  -144.8195,       5262,  4274.0,   1.3018,  34.7032,2,  34.7028,3, 193.6903,3, 191.6645,2,   120.3,2,   32.80,2,    0.00,2,    2.28,2,   0.036,2,   0.026,2,   0.0000,2,  2277.0,2,  2380.3,2,   7.6056,2,    25.00, -999.00,9, -999.00,9, -999.00,  -999.0,9, -999.00,9,     -999.0,9,  -999.0,9, 20170827,      427, -32.5026,-144.8193,        0.0,1,      0.061,1,      4.697,1,      0.122,1,     -999.0,9,     -999.0,9,     -999.0,9,     -999.0,9,     -999.0,9,     -999.0,9,     -999.0,9,     -999.0,9,     -999.0,9,     -999.0,9,     -999.0,9,     1.3016,2,     -999.0,     -999.0,9,     -999.0
320620170820,        P06,     149,          1,          6,          6,4,20170827,       0359,   -32.4992,  -144.8195,       5262,  3860.0,   1.4092,  34.6960,3,  34.7005,3, 185.0878,3, 189.4363,2,   121.2,3,   33.02,3,    0.00,3,    2.28,3,   0.036,3,   0.029,3,   0.0000,3,  -999.0,9,  -999.0,9,-999.0000,9,  -999.00, -999.00,9, -999.00,9, -999.00,  -999.0,9, -999.00,9,     -999.0,9,  -999.0,9, 20170827,      436, -32.5024,-144.8194,        0.0,1,      0.061,1,      4.697,1,      0.122,1,     -999.0,9,     -999.0,9,     -999.0,9,     -999.0,9,     -999.0,9,     -999.0,9,     -999.0,9,     -999.0,9,     -999.0,9,     -999.0,9,     -999.0,9,     1.4083,3,     -999.0,     -999.0,9,     -999.0
320620170820,        P06,     149,          1,          7,          7,2,20170827,       0359,   -32.4992,  -144.8195,       5262,  3554.4,   1.5160,  34.6880,2,  34.6873,2, 175.8694,3, 173.4082,2,   124.9,2,   34.16,2,    0.00,2,    2.36,2,   0.036,2,   0.029,2,   0.0000,2,  2293.1,2,  2393.0,2,   7.5920,2,    25.00, -999.00,9, -999.00,9, -999.00,  -999.0,9, -999.00,9,     -999.0,9,  -999.0,9, 20170827,      443, -32.5022,-144.8195,        0.0,1,      0.061,1,      4.697,1,      0.124,1,     -999.0,9,     -999.0,9,     -999.0,9,     -999.0,9,     -999.0,9,     -999.0,9,     -999.0,9,     -999.0,9,     -999.0,9,     -999.0,9,     -999.0,9,     1.5169,2,     -999.0,     -999.0,9,     -999.0
320620170820,        P06,     149,          1,          8,          8,2,20170827,       0359,   -32.4992,  -144.8195,       5262,  3248.2,   1.6117,  34.6803,2,  34.6796,3,  167.671,3, 165.7062,2,   126.4,2,   34.62,2,    0.00,2,    2.41,2,   0.035,2,   0.027,2,   0.0000,2,  -999.0,9,  -999.0,9,-999.0000,9,  -999.00, -999.00,9, -999.00,9, -999.00,  -999.0,9, -999.00,9,     -999.0,9,  -999.0,9, 20170827,      450, -32.5015,-144.8198,        0.0,1,      0.060,1,      4.697,1,      0.124,1,     -999.0,9,     -999.0,9,     -999.0,9,     -999.0,9,     -999.0,9,     -999.0,9,     -999.0,9,     -999.0,9,     -999.0,9,     -999.0,9,     -999.0,9,     1.6175,2,     -999.0,     -999.0,9,     -999.0
320620170820,        P06,     149,          1,          9,          9,2,20170827,       0359,   -32.4992,  -144.8195,       5262,  2956.5,   1.6997,  34.6726,2,  34.6718,2, 161.2532,3, 160.1431,2,   127.2,2,   35.16,2,    0.00,2,    2.44,2,   0.034,2,   0.024,2,   0.0000,2,  2307.1,2,  2399.7,2,   7.5807,2,    25.00, -999.00,9, -999.00,9, -999.00,  -999.0,9, -999.00,9,     -999.0,9,  -999.0,9, 20170827,      456, -32.5007,-144.8202,        0.0,1,      0.061,1,      4.697,1,      0.127,1,     -999.0,9,     -999.0,9,     -999.0,9,     -999.0,9,     -999.0,9,     -999.0,9,     -999.0,9,     -999.0,9,     -999.0,9,     -999.0,9,     -999.0,9,     1.7014,2,     -999.0,     -999.0,9,     -999.0
320620170820,        P06,     149,          1,         10,         10,2,20170827,       0359,   -32.4992,  -144.8195,       5262,  2699.1,   1.7724,  34.6662,2,  34.6649,2, 156.4384,2, 156.1614,2,   125.9,2,   35.36,2,    0.00,2,    2.46,2,   0.041,2,   0.031,2,   0.0000,2,  -999.0,9,  -999.0,9,-999.0000,9,  -999.00, -999.00,9, -999.00,9, -999.00,  -999.0,9, -999.00,9,     -999.0,9,  -999.0,9, 20170827,      502, -32.5003,-144.8202,        0.0,1,      0.061,1,      4.698,1,      0.127,1,     -999.0,9,     -999.0,9,     -999.0,9,     -999.0,9,     -999.0,9,     -999.0,9,     -999.0,9,     -999.0,9,     -999.0,9,     -999.0,9,     -999.0,9,     1.7793,2,     -999.0,     -999.0,9,     -999.0
320620170820,        P06,     149,          1,         11,         11,2,20170827,       0359,   -32.4992,  -144.8195,       5262,  2447.0,   1.8908,  34.6568,2,  34.6553,2, 152.4216,2, 153.1874,2,   122.4,2,   35.45,2,    0.00,2,    2.46,2,   0.035,2,   0.026,2,   0.0000,2,  2307.8,2,  2400.9,6,   7.5732,2,    25.00, -999.00,9, -999.00,9, -999.00,  -999.0,9, -999.00,9,     -999.0,9,  -999.0,9, 20170827,      509, -32.5004,-144.8202,        0.0,1,      0.061,1,      4.697,1,      0.128,1,     -999.0,9,     -999.0,9,     -999.0,9,     -999.0,9,     -999.0,9,     -999.0,9,     -999.0,9,     -999.0,9,     -999.0,9,     -999.0,9,     -999.0,9,     1.8919,2,     -999.0,     -999.0,9,     -999.0
320620170820,        P06,     149,          1,         12,         12,2,20170827,       0359,   -32.4992,  -144.8195,       5262,  2191.2,   2.0351,  34.6444,2,  34.6478,2, 151.8939,2, 153.0069,2,   117.4,2,   35.56,2,    0.00,2,    2.47,2,   0.035,2,   0.026,2,   0.0000,2,  -999.0,9,  -999.0,9,-999.0000,9,  -999.00, -999.00,9, -999.00,9, -999.00,  -999.0,9, -999.00,9,     -999.0,9,  -999.0,9, 20170827,      516, -32.5004,-144.8202,        0.0,1,      0.061,1,      4.697,1,      0.129,1,     -999.0,9,     -999.0,9,     -999.0,9,     -999.0,9,     -999.0,9,     -999.0,9,     -999.0,9,     -999.0,9,     -999.0,9,     -999.0,9,     -999.0,9,     2.0190,2,     -999.0,     -999.0,9,     -999.0
320620170820,        P06,     149,          1,         13,         13,2,20170827,       0359,   -32.4992,  -144.8195,       5262,  1957.0,   2.1869,  34.6281,2,  34.6301,2, 152.7939,2, 154.4339,2,   109.8,2,   35.41,2,    0.00,2,    2.46,2,   0.036,2,   0.024,2,   0.0000,2,  2293.4,6,  2385.1,2,   7.5708,2,    25.00, -999.00,9, -999.00,9, -999.00,  -999.0,9, -999.00,9,     -999.0,9,  -999.0,9, 20170827,      521, -32.5007,-144.8202,        0.0,1,      0.061,1,      4.697,1,      0.131,1,     -999.0,9,     -999.0,9,     -999.0,9,     -999.0,9,     -999.0,9,     -999.0,9,     -999.0,9,     -999.0,9,     -999.0,9,     -999.0,9,     -999.0,9,     2.1755,2,     -999.0,     -999.0,9,     -999.0
320620170820,        P06,     149,          1,         14,         14,2,20170827,       0359,   -32.4992,  -144.8195,       5262,  1753.7,   2.4019,  34.5999,2,  34.5985,2, 155.4656,2, 156.8337,2,    97.7,2,   35.15,2,    0.00,2,    2.44,2,   0.044,2,   0.029,2,   0.0000,2,  -999.0,9,  -999.0,9,-999.0000,9,  -999.00, -999.00,9, -999.00,9, -999.00,  -999.0,9, -999.00,9,     -999.0,9,  -999.0,9, 20170827,      526, -32.4999,-144.8202,        0.0,1,      0.060,1,      4.698,1,      0.130,1,     -999.0,9,     -999.0,9,     -999.0,9,     -999.0,9,     -999.0,9,     -999.0,9,     -999.0,9,     -999.0,9,     -999.0,9,     -999.0,9,     -999.0,9,     2.4052,2,     -999.0,     -999.0,9,     -999.0
320620170820,        P06,     149,          1,         15,         15,2,20170827,       0359,   -32.4992,  -144.8195,       5262,  1554.5,   2.6947,  34.5398,2,  34.5362,2, 163.0829,2, 165.0968,2,    79.5,2,   34.77,2,    0.00,2,    2.40,2,   0.098,2,   0.063,2,   0.0000,2,  -999.0,5,  2348.8,2,   7.5674,2,    25.00, -999.00,9, -999.00,9, -999.00,  -999.0,9, -999.00,9,     -999.0,9,  -999.0,9, 20170827,      531, -32.4996,-144.8202,        0.0,1,      0.061,1,      4.698,1,      0.130,1,     -999.0,9,     -999.0,9,     -999.0,9,     -999.0,9,     -999.0,9,     -999.0,9,     -999.0,9,     -999.0,9,     -999.0,9,     -999.0,9,     -999.0,9,     2.6984,2,     -999.0,     -999.0,9,     -999.0
320620170820,        P06,     149,          1,         16,         16,2,20170827,       0359,   -32.4992,  -144.8195,       5262,  1380.6,   3.0900,  34.4507,2,  34.4610,2,  173.965,2, 173.9257,2,    63.8,2,   34.35,2,    0.00,2,    2.36,2,   0.265,2,   0.153,2,   0.0000,2,  -999.0,9,  -999.0,9,-999.0000,9,  -999.00, -999.00,9, -999.00,9, -999.00,  -999.0,9, -999.00,9,     -999.0,9,  -999.0,9, 20170827,      536, -32.5000,-144.8202,        0.0,1,      0.061,1,      4.698,1,      0.129,1,     -999.0,9,     -999.0,9,     -999.0,9,     -999.0,9,     -999.0,9,     -999.0,9,     -999.0,9,     -999.0,9,     -999.0,9,     -999.0,9,     -999.0,9,     3.0300,2,     -999.0,     -999.0,9,     -999.0
320620170820,        P06,     149,          1,         17,         17,2,20170827,       0359,   -32.4992,  -144.8195,       5262,  1278.3,   3.3917,  34.4038,2,  34.4112,2, 180.8647,2, 180.9029,2,    54.0,2,   33.72,2,    0.00,2,    2.33,2,   0.449,2,   0.243,2,   0.0000,2,  -999.0,5,  2318.0,2,   7.5797,6,    25.00, -999.00,9, -999.00,9, -999.00,  -999.0,9, -999.00,9,     -999.0,9,  -999.0,9, 20170827,      539, -32.5002,-144.8202,        0.0,1,      0.061,1,      4.698,1,      0.131,1,     -999.0,9,     -999.0,9,     -999.0,9,     -999.0,9,     -999.0,9,     -999.0,9,     -999.0,9,     -999.0,9,     -999.0,9,     -999.0,9,     -999.0,9,     3.3210,2,     -999.0,     -999.0,9,     -999.0
320620170820,        P06,     149,          1,         18,         18,2,20170827,       0359,   -32.4992,  -144.8195,       5262,  1181.3,   3.7510,  34.3675,2,  34.3711,2, 187.1417,2, 187.6627,2,    45.2,2,   32.98,2,    0.00,2,    2.26,2,   0.640,2,   0.340,2,   0.1320,2,  -999.0,9,  -999.0,9,-999.0000,9,  -999.00, -999.00,9, -999.00,9, -999.00,  -999.0,9, -999.00,9,     -999.0,9,  -999.0,9, 20170827,      542, -32.5000,-144.8201,        0.0,1,      0.061,1,      4.698,1,      0.131,1,     -999.0,9,     -999.0,9,     -999.0,9,     -999.0,9,     -999.0,9,     -999.0,9,     -999.0,9,     -999.0,9,     -999.0,9,     -999.0,9,     -999.0,9,     3.6913,2,     -999.0,     -999.0,9,     -999.0
320620170820,        P06,     149,          1,         19,         19,2,20170827,       0359,   -32.4992,  -144.8195,       5262,  1076.1,   4.4114,  34.3256,2,  34.3335,2, 197.7825,2,  197.634,2,    34.7,2,   31.50,2,    0.00,2,    2.16,2,   0.992,2,   0.512,2,   0.1210,2,  -999.0,5,  2303.7,2,   7.6123,2,    25.00, -999.00,9, -999.00,9, -999.00,  -999.0,9, -999.00,9,     -999.0,9,  -999.0,9, 20170827,      545, -32.5000,-144.8202,        0.0,1,      0.060,1,      4.697,1,      0.128,1,     -999.0,9,     -999.0,9,     -999.0,9,     -999.0,9,     -999.0,9,     -999.0,9,     -999.0,9,     -999.0,9,     -999.0,9,     -999.0,9,     -999.0,9,     4.2275,2,     -999.0,     -999.0,9,     -999.0
320620170820,        P06,     149,          1,         20,         20,2,20170827,       0359,   -32.4992,  -144.8195,       5262,   973.8,   4.9767,  34.3076,2,  34.3107,2, 208.4933,2, 207.9195,2,    25.5,2,   29.70,2,    0.00,2,    2.04,2,   1.453,2,   0.738,2,   0.2970,2,  -999.0,9,  -999.0,9,-999.0000,9,  -999.00, -999.00,9, -999.00,9, -999.00,  -999.0,9, -999.00,9,     -999.0,9,  -999.0,9, 20170827,      548, -32.4999,-144.8200,        0.0,1,      0.059,1,      4.697,1,      0.131,1,     -999.0,9,     -999.0,9,     -999.0,9,     -999.0,9,     -999.0,9,     -999.0,9,     -999.0,9,     -999.0,9,     -999.0,9,     -999.0,9,     -999.0,9,     4.8024,2,     -999.0,     -999.0,9,     -999.0
320620170820,        P06,     149,          1,         21,         21,2,20170827,       0359,   -32.4992,  -144.8195,       5262,   871.5,   5.5472,  34.3030,2,  34.3013,2,  223.411,2, 221.7503,2,    16.9,2,   27.40,2,    0.00,2,    1.86,2,   2.083,2,   1.073,2,   0.3680,2,  -999.0,5,  2288.8,2,   7.6642,2,    25.00, -999.00,9, -999.00,9, -999.00,  -999.0,9, -999.00,9,     -999.0,9,  -999.0,9, 20170827,      551, -32.5001,-144.8201,        0.0,1,      0.060,1,      4.697,1,      0.132,1,     -999.0,9,     -999.0,9,     -999.0,9,     -999.0,9,     -999.0,9,     -999.0,9,     -999.0,9,     -999.0,9,     -999.0,9,     -999.0,9,     -999.0,9,     5.4578,2,     -999.0,     -999.0,9,     -999.0
320620170820,        P06,     149,          1,         22,         22,2,20170827,       0359,   -32.4992,  -144.8195,       5262,   771.0,   6.0813,  34.3119,2,  34.3095,2, 235.6472,2, 234.3043,2,    11.3,2,   25.10,2,    0.00,2,    1.69,2,   2.734,2,   1.436,2,   0.5890,2,  -999.0,9,  -999.0,9,-999.0000,9,  -999.00, -999.00,9, -999.00,9, -999.00,  -999.0,9, -999.00,9,     -999.0,9,  -999.0,9, 20170827,      554, -32.5001,-144.8201,        0.0,1,      0.059,1,      4.696,1,      0.131,1,     -999.0,9,     -999.0,9,     -999.0,9,     -999.0,9,     -999.0,9,     -999.0,9,     -999.0,9,     -999.0,9,     -999.0,9,     -999.0,9,     -999.0,9,     6.0205,2,     -999.0,     -999.0,9,     -999.0
320620170820,        P06,     149,          1,         23,         23,2,20170827,       0359,   -32.4992,  -144.8195,       5262,   670.1,   6.5595,  34.3373,2,  34.3282,2, 241.8731,2, 240.6249,2,     8.7,2,   23.58,2,    0.00,2,    1.59,2,   3.189,2,   1.690,2,   0.8590,2,  2152.0,3,  2281.7,2,   7.7026,2,    25.00, -999.00,9, -999.00,9, -999.00,  -999.0,9, -999.00,9,     -999.0,9,  -999.0,9, 20170827,      557, -32.4998,-144.8200,        0.0,1,      0.060,1,      4.696,1,      0.132,1,     -999.0,9,     -999.0,9,     -999.0,9,     -999.0,9,     -999.0,9,     -999.0,9,     -999.0,9,     -999.0,9,     -999.0,9,     -999.0,9,     -999.0,9,     6.4323,2,     -999.0,     -999.0,9,     -999.0
320620170820,        P06,     149,          1,         24,         24,2,20170827,       0359,   -32.4992,  -144.8195,       5262,   570.2,   7.0755,  34.3727,2,  34.3700,2, 245.4241,2, 244.2192,2,     6.4,2,   21.60,2,    0.00,2,    1.47,2,   3.477,2,   1.900,2,   1.2280,2,  -999.0,9,  -999.0,9,-999.0000,9,  -999.00, -999.00,9, -999.00,9, -999.00,  -999.0,9, -999.00,9,     -999.0,9,  -999.0,9, 20170827,      600, -32.4996,-144.8200,        0.0,1,      0.058,1,      4.696,1,      0.134,1,     -999.0,9,     -999.0,9,     -999.0,9,     -999.0,9,     -999.0,9,     -999.0,9,     -999.0,9,     -999.0,9,     -999.0,9,     -999.0,9,     -999.0,9,     7.0522,2,     -999.0,     -999.0,9,     -999.0
320620170820,        P06,     149,          1,         25,         25,2,20170827,       0359,   -32.4992,  -144.8195,       5262,   465.6,   7.8100,  34.4264,2,  34.4231,2, 245.2267,2, 243.9172,2,     4.7,2,   19.41,2,    0.00,2,    1.32,2,   3.543,2,   1.910,2,   1.3580,2,  2139.0,3,  2283.3,2,   7.7272,2,    25.00, -999.00,9, -999.00,9, -999.00,  -999.0,9, -999.00,9,     -999.0,9,  -999.0,9, 20170827,      603, -32.4996,-144.8200,        0.0,1,      0.060,1,      4.695,1,      0.135,1,     -999.0,9,     -999.0,9,     -999.0,9,     -999.0,9,     -999.0,9,     -999.0,9,     -999.0,9,     -999.0,9,     -999.0,9,     -999.0,9,     -999.0,9,     7.7860,2,     -999.0,     -999.0,9,     -999.0
320620170820,        P06,     149,          1,         26,         26,2,20170827,       0359,   -32.4992,  -144.8195,       5262,   386.8,   8.9187,  34.4898,2,  34.4840,2, 227.2695,2, 228.4178,2,     3.6,2,   17.41,2,    0.00,2,    1.21,2,   3.374,2,   1.773,2,   1.2810,2,  2133.5,2,  2283.2,2,   7.7385,2,    25.00, -999.00,9, -999.00,9, -999.00,  -999.0,9, -999.00,9,     -999.0,9,  -999.0,9, 20170827,      605, -32.4997,-144.8200,        0.0,1,      0.059,1,      4.693,1,      0.135,1,     -999.0,9,     -999.0,9,     -999.0,9,     -999.0,9,     -999.0,9,     -999.0,9,     -999.0,9,     -999.0,9,     -999.0,9,     -999.0,9,     -999.0,9,     8.9175,2,     -999.0,     -999.0,9,     -999.0