BOTTLE,20240211CCHSIOCBG
EXPOCODE,SECT_ID,STNNBR,CASTNO,SAMPNO,BTLNBR,BTLNBR_FLAG_W,DATE,TIME,LATITUDE,LONGITUDE,DEPTH,CTDPRS,CTDTMP,CTDSAL,CTDSAL_FLAG_W,SALNTY,SALNTY_FLAG_W,CTDOXY,CTDOXY_FLAG_W,OXYGEN,OXYGEN_FLAG_W,SILCAT,SILCAT_FLAG_W,NITRAT,NITRAT_FLAG_W,NITRIT,NITRIT_FLAG_W,PHSPHT,PHSPHT_FLAG_W,CFC-11,CFC-11_FLAG_W,CFC-12,CFC-12_FLAG_W,SF6,SF6_FLAG_W,TCARBN,TCARBN_FLAG_W,ALKALI,ALKALI_FLAG_W,PH_TOT,PH_TOT_FLAG_W,PH_TMP,DELC13,DELC13_FLAG_W,DELC14,DELC14_FLAG_W,C14ERR,DOC,DOC_FLAG_W,TDN,TDN_FLAG_W,TON,TON_FLAG_W,D15N_NO3,D15N_NO3_FLAG_W,BTL_DATE,BTL_TIME,BTL_LAT,BTL_LON,CTDRINKO,CTDRINKO_FLAG_W,CTDFLUOR,CTDFLUOR_FLAG_W,CTDXMISS,CTDXMISS_FLAG_W,CTDBACKSCATTER,CTDBACKSCATTER_FLAG_W,D18O_NO3,D18O_NO3_FLAG_W,DOP,DOP_FLAG_W,CELLCOUNT,CELLCOUNT_FLAG_W,TDP,TDP_FLAG_W,POP,POP_FLAG_W,DATP,DATP_FLAG_W,PATP,PATP_FLAG_W,HPLC,HPLC_FLAG_W,POC,POC_FLAG_W,BEAMAP,BEAMAP_FLAG_W,DOC_NASA,DOC_NASA_FLAG_W,REFTMP,REFTMP_FLAG_W,DOC_NASA_ERROR,TDN_NASA,TDN_NASA_FLAG_W,TDN_NASA_ERROR
,,,,,,,,,,,METERS,DBAR,ITS-90,PSS-78,,PSS-78,,UMOL/KG,,UMOL/KG,,UMOL/KG,,UMOL/KG,,UMOL/KG,,UMOL/KG,,PMOL/KG,,PMOL/KG,,FMOL/KG,,UMOL/KG,,UMOL/KG,,,,DEG C,/MILLE,,/MILLE,,/MILLE,UMOL/KG,,UMOL/KG,,UMOL/KG,,/MILLE,,,,,,VOLTS,,VOLTS,,VOLTS,,VOLTS,,/MILLE,,UMOL/KG,,/LITER,,UMOL/KG,,UMOL/L,,PMOL/L,,PMOL/L,,,,UG/L,,/METER,,UMOL/L,,ITS-90,,UMOL/L,UMOL/L,,UMOL/L
320620170820,        P06,     206,          1,          1,          1,2,20170916,       0544,   -32.5001,   -99.7751,       3732,  3784.0,   1.7963,  34.6910,2,  34.6924,2,  168.372,3, 176.0307,2,   118.9,2,   34.11,2,    0.00,2,    2.36,2,   0.030,2,   0.016,2,   0.0000,2,  2298.3,6,  2392.9,2,   7.5922,2,    25.00, -999.00,9, -999.00,9, -999.00,    39.0,2, -999.00,9,     -999.0,1,  -999.0,9, 20170916,      544, -32.5000, -99.7750,        0.0,1,      0.061,1,      4.684,1,      0.130,1,     -999.0,9,     -999.0,9,     -999.0,9,     -999.0,9,     -999.0,9,     -999.0,9,     -999.0,9,     -999.0,9,     -999.0,9,     -999.0,9,     -999.0,9,     1.7965,2,     -999.0,     -999.0,9,     -999.0
320620170820,        P06,     206,          1,          2,          2,2,20170916,       0544,   -32.5001,   -99.7751,       3732,  3635.3,   1.7815,  34.6910,2,  34.6910,2, 166.5218,2, 167.1661,2,   119.0,2,   34.24,2,    0.00,2,    2.35,2,   0.034,2,   0.019,2,   0.0000,2,  2297.1,2,  2392.3,2,   7.5912,2,    25.00, -999.00,9, -999.00,9, -999.00,  -999.0,9, -999.00,9,     -999.0,9,  -999.0,9, 20170916,      549, -32.5001, -99.7755,        0.0,1,      0.061,1,      4.685,1,      0.131,1,     -999.0,9,     -999.0,9,     -999.0,9,     -999.0,9,     -999.0,9,     -999.0,9,     -999.0,9,     -999.0,9,     -999.0,9,     -999.0,9,     -999.0,9,     1.7817,2,     -999.0,     -999.0,9,     -999.0
320620170820,        P06,     206,          1,          3,          3,2,20170916,       0544,   -32.5001,   -99.7751,       3732,  3466.3,   1.7667,  34.6909,2,  34.6906,2, 166.5218,2,  165.947,2,   119.0,2,   34.24,2,    0.00,2,    2.36,2,   0.029,2,   0.018,2,   0.0000,2,  -999.0,9,  -999.0,9,-999.0000,9,  -999.00, -999.00,9, -999.00,9, -999.00,    36.4,2, -999.00,9,     -999.0,1,  -999.0,9, 20170916,      553, -32.5001, -99.7754,        0.0,1,      0.061,1,      4.686,1,      0.127,1,     -999.0,9,     -999.0,9,     -999.0,9,     -999.0,9,     -999.0,9,     -999.0,9,     -999.0,9,     -999.0,9,     -999.0,9,     -999.0,9,     -999.0,9,     1.7667,2,     -999.0,     -999.0,9,     -999.0
320620170820,        P06,     206,          1,          4,          4,2,20170916,       0544,   -32.5001,   -99.7751,       3732,  3210.8,   1.7486,  34.6903,2,  34.6901,2, 166.5218,2, 166.4882,2,   118.8,2,   34.24,2,    0.00,2,    2.35,2,   0.029,2,   0.019,2,   0.0000,2,  -999.0,9,  -999.0,9,-999.0000,9,  -999.00, -999.00,9, -999.00,9, -999.00,  -999.0,9, -999.00,9,     -999.0,9,  -999.0,9, 20170916,      558, -32.5000, -99.7750,        0.0,1,      0.061,1,      4.687,1,      0.127,1,     -999.0,9,     -999.0,9,     -999.0,9,     -999.0,9,     -999.0,9,     -999.0,9,     -999.0,9,     -999.0,9,     -999.0,9,     -999.0,9,     -999.0,9,     1.7486,2,     -999.0,     -999.0,9,     -999.0
320620170820,        P06,     206,          1,          5,          5,2,20170916,       0544,   -32.5001,   -99.7751,       3732,  2954.1,   1.7479,  34.6884,2,  34.6887,2, 166.3108,2, 166.4093,2,   118.3,2,   34.24,2,    0.00,2,    2.36,2,   0.030,2,   0.019,2,   0.0000,2,  2295.2,2,  2390.7,2,   7.5897,2,    25.00, -999.00,9, -999.00,9, -999.00,    35.6,2, -999.00,9,     -999.0,1,  -999.0,9, 20170916,      604, -32.5000, -99.7751,        0.0,1,      0.060,1,      4.688,1,      0.125,1,     -999.0,9,     -999.0,9,     -999.0,9,     -999.0,9,     -999.0,9,     -999.0,9,     -999.0,9,     -999.0,9,     -999.0,9,     -999.0,9,     -999.0,9,     1.7473,2,     -999.0,     -999.0,9,     -999.0
320620170820,        P06,     206,          1,          6,          6,2,20170916,       0544,   -32.5001,   -99.7751,       3732,  2699.8,   1.7809,  34.6830,2,  34.6830,2, 165.1979,2, 164.6748,2,   117.6,2,   34.31,2,    0.00,2,    2.36,2,   0.032,2,   0.018,2,   0.0000,2,  -999.0,9,  -999.0,9,-999.0000,9,  -999.00, -999.00,9, -999.00,9, -999.00,  -999.0,9, -999.00,9,     -999.0,1,  -999.0,9, 20170916,      609, -32.5000, -99.7751,        0.0,1,      0.061,1,      4.689,1,      0.127,1,     -999.0,9,     -999.0,9,     -999.0,9,     -999.0,9,     -999.0,9,     -999.0,9,     -999.0,9,     -999.0,9,     -999.0,9,     -999.0,9,     -999.0,9,     1.7777,2,     -999.0,     -999.0,9,     -999.0
320620170820,        P06,     206,          1,          7,          7,2,20170916,       0544,   -32.5001,   -99.7751,       3732,  2445.7,   1.8628,  34.6729,2,  34.6736,2, 160.9442,2, 160.6649,2,   115.6,2,   34.65,2,    0.00,2,    2.39,2,   0.031,2,   0.021,2,   0.0000,2,  2293.7,2,  2387.5,2,   7.5798,2,    25.00, -999.00,9, -999.00,9, -999.00,    37.6,2, -999.00,9,     -999.0,1,  -999.0,9, 20170916,      616, -32.5000, -99.7750,        0.0,1,      0.061,1,      4.689,1,      0.129,1,     -999.0,9,     -999.0,9,     -999.0,9,     -999.0,9,     -999.0,9,     -999.0,9,     -999.0,9,     -999.0,9,     -999.0,9,     -999.0,9,     -999.0,9,     1.8592,2,     -999.0,     -999.0,9,     -999.0
320620170820,        P06,     206,          1,          8,          8,2,20170916,       0544,   -32.5001,   -99.7751,       3732,  2189.9,   2.0067,  34.6548,2,  34.6539,2, 155.7316,2, 156.4772,2,   111.7,2,   35.01,2,    0.00,2,    2.42,2,   0.032,2,   0.022,2,   0.0000,2,  2294.7,2,  2382.1,2,   7.5720,2,    25.00, -999.00,9, -999.00,9, -999.00,    34.8,2, -999.00,9,     -999.0,1,  -999.0,9, 20170916,      622, -32.5000, -99.7747,        0.0,1,      0.061,1,      4.689,1,      0.130,1,     -999.0,9,     -999.0,9,     -999.0,9,     -999.0,9,     -999.0,9,     -999.0,9,     -999.0,9,     -999.0,9,     -999.0,9,     -999.0,9,     -999.0,9,     2.0042,2,     -999.0,     -999.0,9,     -999.0
320620170820,        P06,     206,          1,          9,          9,2,20170916,       0544,   -32.5001,   -99.7751,       3732,  1956.9,   2.2032,  34.6297,2,  34.6284,2, 149.8388,2, 150.3498,2,   106.4,2,   35.54,2,    0.00,2,    2.46,2,   0.031,2,   0.020,2,   0.0000,2,  2294.1,2,  2377.2,2,   7.5603,2,    25.00, -999.00,9, -999.00,9, -999.00,    35.9,2, -999.00,9,     -999.0,1,  -999.0,9, 20170916,      627, -32.5000, -99.7749,        0.0,1,      0.061,1,      4.688,1,      0.130,1,     -999.0,9,     -999.0,9,     -999.0,9,     -999.0,9,     -999.0,9,     -999.0,9,     -999.0,9,     -999.0,9,     -999.0,9,     -999.0,9,     -999.0,9,     2.2036,2,     -999.0,     -999.0,9,     -999.0
320620170820,        P06,     206,          1,         10,         10,2,20170916,       0544,   -32.5001,   -99.7751,       3732,  1783.2,   2.4350,  34.6010,2,  34.6005,2, 145.7363,2,  146.132,2,    99.9,2,   35.98,2,    0.00,2,    2.51,2,   0.030,2,   0.019,2,   0.0000,2,  2290.0,2,  2369.8,2,   7.5527,2,    25.00, -999.00,9, -999.00,9, -999.00,  -999.0,9, -999.00,9,     -999.0,9,  -999.0,9, 20170916,      632, -32.5000, -99.7747,        0.0,1,      0.061,1,      4.688,1,      0.129,1,     -999.0,9,     -999.0,9,     -999.0,9,     -999.0,9,     -999.0,9,     -999.0,9,     -999.0,9,     -999.0,9,     -999.0,9,     -999.0,9,     -999.0,9,     2.4341,2,     -999.0,     -999.0,9,     -999.0
320620170820,        P06,     206,          1,         11,         11,2,20170916,       0544,   -32.5001,   -99.7751,       3732,  1683.1,   2.5874,  34.5868,2,  34.5846,2, 140.1074,2, 139.6608,2,    97.3,2,   36.55,2,    0.00,2,    2.55,2,   0.032,2,   0.020,2,   0.0000,2,  2290.1,2,  2367.1,2,   7.5413,2,    25.00, -999.00,9, -999.00,9, -999.00,    36.1,2, -999.00,9,     -999.0,1,  -999.0,9, 20170916,      635, -32.4999, -99.7745,        0.0,1,      0.061,1,      4.688,1,      0.130,1,     -999.0,9,     -999.0,9,     -999.0,9,     -999.0,9,     -999.0,9,     -999.0,9,     -999.0,9,     -999.0,9,     -999.0,9,     -999.0,9,     -999.0,9,     2.5881,2,     -999.0,     -999.0,9,     -999.0
320620170820,        P06,     206,          1,         12,         12,2,20170916,       0544,   -32.5001,   -99.7751,       3732,  1581.5,   2.7627,  34.5716,2,  34.5700,2, 132.4896,2, 132.6228,2,    94.6,2,   37.18,2,    0.00,2,    2.60,2,   0.030,2,   0.018,2,   0.0000,2,  2292.7,2,  2365.2,6,   7.5296,2,    25.00, -999.00,9, -999.00,9, -999.00,  -999.0,9, -999.00,9,     -999.0,9,  -999.0,9, 20170916,      638, -32.4999, -99.7744,        0.0,1,      0.061,1,      4.688,1,      0.132,1,     -999.0,9,     -999.0,9,     -999.0,9,     -999.0,9,     -999.0,9,     -999.0,9,     -999.0,9,     -999.0,9,     -999.0,9,     -999.0,9,     -999.0,9,     2.7663,2,     -999.0,     -999.0,9,     -999.0
320620170820,        P06,     206,          1,         13,         13,2,20170916,       0544,   -32.5001,   -99.7751,       3732,  1479.5,   2.9760,  34.5520,2,  34.5521,2, 128.5738,2,   128.23,2,    90.0,2,   37.49,2,    0.00,2,    2.63,2,   0.031,2,   0.017,2,   0.0000,2,  2288.7,2,  2358.6,2,   7.5213,6,    25.00, -999.00,9, -999.00,9, -999.00,    35.3,2, -999.00,9,     -999.0,1,  -999.0,9, 20170916,      641, -32.5001, -99.7748,        0.0,1,      0.061,1,      4.687,1,      0.132,1,     -999.0,9,     -999.0,9,     -999.0,9,     -999.0,9,     -999.0,9,     -999.0,9,     -999.0,9,     -999.0,9,     -999.0,9,     -999.0,9,     -999.0,9,     2.9519,2,     -999.0,     -999.0,9,     -999.0
320620170820,        P06,     206,          1,         14,         14,2,20170916,       0544,   -32.5001,   -99.7751,       3732,  1377.5,   3.1807,  34.5301,2,  34.5317,2,  123.717,2, 123.3905,2,    84.8,2,   37.99,2,    0.00,2,    2.67,2,   0.032,2,   0.019,2,   0.0000,2,  2287.5,6,  2352.6,2,   7.5111,2,    25.00, -999.00,9, -999.00,9, -999.00,  -999.0,9, -999.00,9,     -999.0,9,  -999.0,9, 20170916,      644, -32.5001, -99.7752,        0.0,1,      0.063,1,      4.688,1,      0.133,1,     -999.0,9,     -999.0,9,     -999.0,9,     -999.0,9,     -999.0,9,     -999.0,9,     -999.0,9,     -999.0,9,     -999.0,9,     -999.0,9,     -999.0,9,     3.1549,2,     -999.0,     -999.0,9,     -999.0
320620170820,        P06,     206,          1,         15,         15,2,20170916,       0544,   -32.5001,   -99.7751,       3732,  1277.5,   3.3646,  34.4948,2,  34.5005,2,  123.044,2, 123.0748,2,    77.2,2,   38.10,2,    0.00,2,    2.67,2,   0.036,2,   0.021,2,   0.0000,2,  2281.9,2,  2343.6,2,   7.5058,2,    25.00, -999.00,9, -999.00,9, -999.00,    35.9,2, -999.00,9,     -999.0,1,  -999.0,9, 20170916,      647, -32.5001, -99.7749,        0.0,1,      0.062,1,      4.687,1,      0.133,1,     -999.0,9,     -999.0,9,     -999.0,9,     -999.0,9,     -999.0,9,     -999.0,9,     -999.0,9,     -999.0,9,     -999.0,9,     -999.0,9,     -999.0,9,     3.3396,2,     -999.0,     -999.0,9,     -999.0
320620170820,        P06,     206,          1,         16,         16,2,20170916,       0544,   -32.5001,   -99.7751,       3732,  1176.2,   3.5265,  34.4366,2,  34.4428,2, 136.1459,2, 135.8102,2,    63.8,2,   37.45,2,    0.00,2,    2.60,2,   0.080,2,   0.050,2,   0.0000,2,  -999.0,9,  -999.0,9,-999.0000,9,  -999.00, -999.00,9, -999.00,9, -999.00,  -999.0,9, -999.00,9,     -999.0,9,  -999.0,9, 20170916,      650, -32.5001, -99.7748,        0.0,1,      0.061,1,      4.687,1,      0.132,1,     -999.0,9,     -999.0,9,     -999.0,9,     -999.0,9,     -999.0,9,     -999.0,9,     -999.0,9,     -999.0,9,     -999.0,9,     -999.0,9,     -999.0,9,     3.5101,2,     -999.0,     -999.0,9,     -999.0
320620170820,        P06,     206,          1,         17,         17,2,20170916,       0544,   -32.5001,   -99.7751,       3732,  1072.9,   3.7584,  34.3691,2,  34.3692,2, 163.3541,2, 163.0975,2,    47.3,2,   35.27,2,    0.00,2,    2.42,2,   0.302,2,   0.164,2,   0.0000,2,  2233.4,2,  2310.8,2,   7.5521,2,    25.00, -999.00,9, -999.00,9, -999.00,    37.8,2, -999.00,9,     -999.0,1,  -999.0,9, 20170916,      652, -32.5001, -99.7750,        0.0,1,      0.061,1,      4.687,1,      0.134,1,     -999.0,9,     -999.0,9,     -999.0,9,     -999.0,9,     -999.0,9,     -999.0,9,     -999.0,9,     -999.0,9,     -999.0,9,     -999.0,9,     -999.0,9,     3.7469,2,     -999.0,     -999.0,9,     -999.0
320620170820,        P06,     206,          1,         18,         18,2,20170916,       0544,   -32.5001,   -99.7751,       3732,   972.7,   4.1697,  34.3177,2,  34.3080,3, 187.7349,2, 188.1527,2,    32.4,2,   32.71,2,    0.00,2,    2.24,2,   0.985,2,   0.488,2,   0.1280,2,  -999.0,9,  -999.0,9,-999.0000,9,  -999.00, -999.00,9, -999.00,9, -999.00,  -999.0,9, -999.00,9,     -999.0,9,  -999.0,9, 20170916,      655, -32.5001, -99.7752,        0.0,1,      0.059,1,      4.687,1,      0.134,1,     -999.0,9,     -999.0,9,     -999.0,9,     -999.0,9,     -999.0,9,     -999.0,9,     -999.0,9,     -999.0,9,     -999.0,9,     -999.0,9,     -999.0,9,     4.2387,2,     -999.0,     -999.0,9,     -999.0
320620170820,        P06,     206,          1,         19,         19,2,20170916,       0544,   -32.5001,   -99.7751,       3732,   871.1,   4.7523,  34.2773,2,  34.2746,2, 207.4941,2,  207.293,2,    22.1,2,   30.31,2,    0.00,2,    2.06,2,   1.865,2,   0.914,2,   0.1990,2,  2184.1,2,  2286.2,2,   7.6233,2,    25.00, -999.00,9, -999.00,9, -999.00,    41.7,2, -999.00,9,     -999.0,1,  -999.0,9, 20170916,      658, -32.5001, -99.7751,        0.0,1,      0.059,1,      4.688,1,      0.134,1,     -999.0,9,     -999.0,9,     -999.0,9,     -999.0,9,     -999.0,9,     -999.0,9,     -999.0,9,     -999.0,9,     -999.0,9,     -999.0,9,     -999.0,9,     4.7705,2,     -999.0,     -999.0,9,     -999.0
320620170820,        P06,     206,          1,         20,         20,2,20170916,       0544,   -32.5001,   -99.7751,       3732,   771.5,   5.2354,  34.2570,2,  34.2548,2, 227.8334,2, 228.0105,2,    14.1,2,   27.61,2,    0.00,2,    1.89,2,   2.923,2,   1.450,2,   0.5240,2,  -999.0,9,  -999.0,9,-999.0000,9,  -999.00, -999.00,9, -999.00,9, -999.00,  -999.0,9, -999.00,9,     -999.0,9,  -999.0,9, 20170916,      701, -32.5001, -99.7751,        0.0,1,      0.059,1,      4.687,1,      0.132,1,     -999.0,9,     -999.0,9,     -999.0,9,     -999.0,9,     -999.0,9,     -999.0,9,     -999.0,9,     -999.0,9,     -999.0,9,     -999.0,9,     -999.0,9,     5.2618,2,     -999.0,     -999.0,9,     -999.0
320620170820,        P06,     206,          1,         21,         21,2,20170916,       0544,   -32.5001,   -99.7751,       3732,   670.7,   5.6690,  34.2625,2,  34.2615,2,  238.294,2, 238.7745,2,    10.4,2,   25.68,2,    0.00,2,    1.74,2,   3.495,2,   1.758,2,   0.7040,2,  2157.3,2,  2281.8,3,   7.6763,2,    25.00, -999.00,9, -999.00,9, -999.00,    39.2,2, -999.00,9,     -999.0,1,  -999.0,9, 20170916,      704, -32.5001, -99.7752,        0.0,1,      0.059,1,      4.687,1,      0.134,1,     -999.0,9,     -999.0,9,     -999.0,9,     -999.0,9,     -999.0,9,     -999.0,9,     -999.0,9,     -999.0,9,     -999.0,9,     -999.0,9,     -999.0,9,     5.6942,2,     -999.0,     -999.0,9,     -999.0
320620170820,        P06,     206,          1,         22,         22,2,20170916,       0544,   -32.5001,   -99.7751,       3732,   567.5,   6.1212,  34.2794,2,  34.2762,2, 239.7869,2, 239.4205,2,     8.6,2,   24.61,2,    0.00,2,    1.67,2,   3.660,2,   1.955,2,   1.0220,2,  2153.6,2,  2274.7,2,   7.6797,2,    25.00, -999.00,9, -999.00,9, -999.00,    44.6,2, -999.00,9,     -999.0,1,  -999.0,9, 20170916,      706, -32.5001, -99.7753,        0.0,1,      0.059,1,      4.686,1,      0.135,1,     -999.0,9,     -999.0,9,     -999.0,9,     -999.0,9,     -999.0,9,     -999.0,9,     -999.0,9,     -999.0,9,     -999.0,9,     -999.0,9,     -999.0,9,     6.1072,2,     -999.0,     -999.0,9,     -999.0
320620170820,        P06,     206,          1,         23,         23,2,20170916,       0544,   -32.5001,   -99.7751,       3732,   488.1,   6.5583,  34.2994,2,  34.2956,2, 235.1988,2, 233.5245,2,     7.6,2,   23.99,2,    0.00,2,    1.63,2,   3.638,2,   1.956,2,   1.0610,2,  2154.9,2,  2274.0,2,   7.6765,2,    25.00, -999.00,9, -999.00,9, -999.00,    42.7,2, -999.00,9,     -999.0,1,  -999.0,9, 20170916,      709, -32.5001, -99.7753,        0.0,1,      0.060,1,      4.685,1,      0.134,1,     -999.0,9,     -999.0,9,     -999.0,9,     -999.0,9,     -999.0,9,     -999.0,9,     -999.0,9,     -999.0,9,     -999.0,9,     -999.0,9,     -999.0,9,     6.5391,2,     -999.0,     -999.0,9,     -999.0
320620170820,        P06,     206,          1,         24,         24,2,20170916,       0544,   -32.5001,   -99.7751,       3732,   437.0,   7.0942,  34.3017,2,  34.2980,2, 203.7098,2, 204.7123,2,     8.4,2,   25.23,2,    0.00,2,    1.75,2,   3.428,2,   1.815,2,   0.9700,2,  2167.9,2,  2272.9,2,   7.6372,2,    25.00, -999.00,9, -999.00,9, -999.00,    42.5,2, -999.00,9,     -999.0,1,  -999.0,9, 20170916,      711, -32.5001, -99.7754,        0.0,1,      0.060,1,      4.684,1,      0.136,1,     -999.0,9,     -999.0,9,     -999.0,9,     -999.0,9,     -999.0,9,     -999.0,9,     -999.0,9,     -999.0,9,     -999.0,9,     -999.0,9,     -999.0,9,     7.0443,2,     -999.0,     -999.0,9,     -999.0
320620170820,        P06,     206,          1,         25,         25,2,20170916,       0544,   -32.5001,   -99.7751,       3732,   387.1,   7.6776,  34.2816,2,  34.2844,2, 202.2126,2, 206.3058,2,     6.3,2,   22.88,2,    0.00,2,    1.62,2,   3.397,2,   1.838,2,   1.0680,2,  2157.8,2,  2272.1,6,   7.6593,2,    25.00, -999.00,9, -999.00,9, -999.00,    42.8,2, -999.00,9,     -999.0,1,  -999.0,9, 20170916,      713, -32.5001, -99.7753,        0.0,1,      0.060,1,      4.684,1,      0.134,1,     -999.0,9,     -999.0,9,     -999.0,9,     -999.0,9,     -999.0,9,     -999.0,9,     -999.0,9,     -999.0,9,     -999.0,9,     -999.0,9,     -999.0,9,     7.7087,2,     -999.0,     -999.0,9,     -999.0
320620170820,        P06,     206,          1,         26,         26,2,20170916,       0544,   -32.5001,   -99.7751,       3732,   337.1,   8.6454,  34.2680,2,  34.2646,2, 221.3638,2, 222.6631,2,     2.9,2,   18.92,2,    0.00,2,    1.33,2,   3.471,2,   1.885,2,   1.1420,2,  2136.2,2,  2267.8,2,   7.7147,6,    25.00, -999.00,9, -999.00,9, -999.00,    48.9,2, -999.00,9,     -999.0,1,  -999.0,9, 20170916,      715, -32.5001, -99.7751,        0.0,1,      0.059,1,      4.683,1,      0.133,1,     -999.0,9,     -999.0,9,     -999.0,9,     -999.0,9,     -999.0,9,     -999.0,9,     -999.0,9,     -999.0,9,     -999.0,9,     -999.0,9,     -999.0,9,     8.8431,2,     -999.0,     -999.0,9,     -999.0