BOTTLE,20240211CCHSIOCBG
EXPOCODE,SECT_ID,STNNBR,CASTNO,SAMPNO,BTLNBR,BTLNBR_FLAG_W,DATE,TIME,LATITUDE,LONGITUDE,DEPTH,CTDPRS,CTDTMP,CTDSAL,CTDSAL_FLAG_W,SALNTY,SALNTY_FLAG_W,CTDOXY,CTDOXY_FLAG_W,OXYGEN,OXYGEN_FLAG_W,SILCAT,SILCAT_FLAG_W,NITRAT,NITRAT_FLAG_W,NITRIT,NITRIT_FLAG_W,PHSPHT,PHSPHT_FLAG_W,CFC-11,CFC-11_FLAG_W,CFC-12,CFC-12_FLAG_W,SF6,SF6_FLAG_W,TCARBN,TCARBN_FLAG_W,ALKALI,ALKALI_FLAG_W,PH_TOT,PH_TOT_FLAG_W,PH_TMP,DELC13,DELC13_FLAG_W,DELC14,DELC14_FLAG_W,C14ERR,DOC,DOC_FLAG_W,TDN,TDN_FLAG_W,TON,TON_FLAG_W,D15N_NO3,D15N_NO3_FLAG_W,BTL_DATE,BTL_TIME,BTL_LAT,BTL_LON,CTDRINKO,CTDRINKO_FLAG_W,CTDFLUOR,CTDFLUOR_FLAG_W,CTDXMISS,CTDXMISS_FLAG_W,CTDBACKSCATTER,CTDBACKSCATTER_FLAG_W,D18O_NO3,D18O_NO3_FLAG_W,DOP,DOP_FLAG_W,CELLCOUNT,CELLCOUNT_FLAG_W,TDP,TDP_FLAG_W,POP,POP_FLAG_W,DATP,DATP_FLAG_W,PATP,PATP_FLAG_W,HPLC,HPLC_FLAG_W,POC,POC_FLAG_W,BEAMAP,BEAMAP_FLAG_W,DOC_NASA,DOC_NASA_FLAG_W,REFTMP,REFTMP_FLAG_W,DOC_NASA_ERROR,TDN_NASA,TDN_NASA_FLAG_W,TDN_NASA_ERROR
,,,,,,,,,,,METERS,DBAR,ITS-90,PSS-78,,PSS-78,,UMOL/KG,,UMOL/KG,,UMOL/KG,,UMOL/KG,,UMOL/KG,,UMOL/KG,,PMOL/KG,,PMOL/KG,,FMOL/KG,,UMOL/KG,,UMOL/KG,,,,DEG C,/MILLE,,/MILLE,,/MILLE,UMOL/KG,,UMOL/KG,,UMOL/KG,,/MILLE,,,,,,VOLTS,,VOLTS,,VOLTS,,VOLTS,,/MILLE,,UMOL/KG,,/LITER,,UMOL/KG,,UMOL/L,,PMOL/L,,PMOL/L,,,,UG/L,,/METER,,UMOL/L,,ITS-90,,UMOL/L,UMOL/L,,UMOL/L
320620170820,        P06,     201,          1,         27,         27,2,20170914,       1656,   -32.5001,  -103.4260,       3562,   149.9,  16.5698,  34.7764,2,  34.6417,2, 242.1083,2, 242.1234,2,     0.0,2,    0.52,2,    0.09,2,    0.19,2,   2.356,2,   1.366,2,   1.6320,2,  2052.3,2,  2285.5,2,   7.9397,2,    25.00, -999.00,9, -999.00,9, -999.00,  -999.0,9, -999.00,9,     -999.0,9,  -999.0,1, 20170914,     1827, -32.4999,-103.4263,        0.0,1,      0.129,1,      4.644,1,      0.185,1,     -999.0,1,     -999.0,1,     -999.0,9,       0.46,2,     -999.0,9,     -999.0,9,     -999.0,9,     -999.0,9,     -999.0,9,     -999.0,9,     -999.0,9,    16.1034,2,     -999.0,     -999.0,9,     -999.0
320620170820,        P06,     201,          1,         28,         28,2,20170914,       1656,   -32.5001,  -103.4260,       3562,   125.0,  16.6241,  34.7850,2,  34.6431,2, 242.0581,2, 243.0354,2,     0.0,2,    0.44,2,    0.08,2,    0.18,2,   2.338,2,   1.387,2,   1.6300,2,  2049.7,2,  2285.3,2,   7.9424,2,    25.00, -999.00,9, -999.00,9, -999.00,  -999.0,9, -999.00,9,     -999.0,9,  -999.0,1, 20170914,     1829, -32.4999,-103.4262,        0.0,1,      0.157,1,      4.631,1,      0.202,1,     -999.0,1,     -999.0,1,     -999.0,9,     -999.0,9,     -999.0,9,     -999.0,9,     -999.0,9,     -999.0,9,     -999.0,9,     -999.0,9,     -999.0,9,    16.1318,2,     -999.0,     -999.0,9,     -999.0
320620170820,        P06,     201,          1,         29,         29,2,20170914,       1656,   -32.5001,  -103.4260,       3562,    99.9,  16.6445,  34.7854,2,  34.7923,2, 243.1336,2, 243.4035,2,     0.0,2,    0.08,2,    0.03,2,    0.14,2,   2.299,2,   1.360,2,   1.6480,2,  -999.0,9,  -999.0,9,-999.0000,9,  -999.00, -999.00,9, -999.00,9, -999.00,  -999.0,9, -999.00,9,     -999.0,9,  -999.0,1, 20170914,     1831, -32.5000,-103.4262,        0.0,1,      0.175,1,      4.607,1,      0.221,1,     -999.0,1,     -999.0,1,     -999.0,9,     -999.0,9,     -999.0,9,     -999.0,9,     -999.0,9,     -999.0,9,     -999.0,9,     -999.0,9,     -999.0,9,    16.6500,2,     -999.0,     -999.0,9,     -999.0
320620170820,        P06,     201,          1,         31,         31,2,20170914,       1656,   -32.5001,  -103.4260,       3562,    84.3,  16.6411,  34.7845,2,-999.0000,9, 236.6406,2,-999.0000,9,  -999.0,9, -999.00,9, -999.00,9, -999.00,9,-999.000,9,-999.000,9,-999.0000,9,  -999.0,9,  -999.0,9,-999.0000,9,  -999.00, -999.00,9, -999.00,9, -999.00,  -999.0,9, -999.00,9,     -999.0,9,  -999.0,9, 20170914,     1834, -32.5000,-103.4261,        0.0,1,      0.175,1,      4.603,1,      0.223,1,     -999.0,9,     -999.0,9,     -999.0,9,     -999.0,9,     -999.0,9,     -999.0,9,     -999.0,9,     -999.0,1,     -999.0,1,     -999.0,1,68.98436692,6,    16.6536,2,2.858692087,52.52705812,6,3.818869962
320620170820,        P06,     201,          1,         32,         32,2,20170914,       1656,   -32.5001,  -103.4260,       3562,    84.3,  16.6411,  34.7845,2,-999.0000,9, 236.9885,2,-999.0000,9,  -999.0,9, -999.00,9, -999.00,9, -999.00,9,-999.000,9,-999.000,9,-999.0000,9,  -999.0,9,  -999.0,9,-999.0000,9,  -999.00, -999.00,9, -999.00,9, -999.00,  -999.0,9, -999.00,9,     -999.0,9,  -999.0,9, 20170914,     1834, -32.5000,-103.4261,        0.0,1,      0.175,1,      4.603,1,      0.223,1,     -999.0,9,     -999.0,9,     -999.0,9,     -999.0,9,     -999.0,9,     -999.0,9,     -999.0,9,     -999.0,1,     -999.0,1,     -999.0,1,68.98436692,6,    16.6521,2,2.858692087,52.52705812,6,3.818869962
320620170820,        P06,     201,          1,         30,         30,2,20170914,       1656,   -32.5001,  -103.4260,       3562,    83.8,  16.6408,  34.7845,2,  34.7895,2, 243.6944,2,  244.328,2,     0.0,2,    0.04,2,    0.02,2,    0.13,2,   2.298,2,   1.373,2,   1.6740,2,  2049.3,2,  2291.7,6,   7.9554,2,    25.00, -999.00,9, -999.00,9, -999.00,  -999.0,9, -999.00,9,     -999.0,9,  -999.0,1, 20170914,     1833, -32.5000,-103.4262,        0.0,1,      0.176,1,      4.603,1,      0.226,1,     -999.0,1,     -999.0,1,     -999.0,9,     -999.0,9,     -999.0,9,     -999.0,9,     -999.0,9,     -999.0,9,     -999.0,9,     -999.0,9,     -999.0,9,    16.6534,2,     -999.0,     -999.0,9,     -999.0
320620170820,        P06,     201,          1,         33,         33,2,20170914,       1656,   -32.5001,  -103.4260,       3562,    48.7,  16.6363,  34.7846,2,  34.7856,2, 244.3658,2, 245.0007,2,     0.0,2,    0.03,2,    0.02,2,    0.13,2,   2.307,2,   1.374,2,   1.5450,2,  2047.8,2,  2292.6,2,   7.9550,6,    25.00, -999.00,9, -999.00,9, -999.00,  -999.0,9, -999.00,9,     -999.0,9,  -999.0,1, 20170914,     1837, -32.5001,-103.4260,        0.0,1,      0.163,1,      4.601,1,      0.225,1,     -999.0,1,     -999.0,1,     -999.0,9,       0.37,2,     -999.0,9,     -999.0,9,     -999.0,9,     -999.0,9,     -999.0,9,     -999.0,9,     -999.0,9,    16.6453,2,     -999.0,     -999.0,9,     -999.0
320620170820,        P06,     201,          1,         35,         35,2,20170914,       1656,   -32.5001,  -103.4260,       3562,    28.7,  16.6347,  34.7847,2,-999.0000,9, 237.3672,2,-999.0000,9,  -999.0,9, -999.00,9, -999.00,9, -999.00,9,-999.000,9,-999.000,9,-999.0000,9,  -999.0,9,  -999.0,9,-999.0000,9,  -999.00, -999.00,9, -999.00,9, -999.00,  -999.0,9, -999.00,9,     -999.0,9,  -999.0,9, 20170914,     1840, -32.5001,-103.4260,        0.0,1,      0.127,1,      4.599,1,      0.223,1,     -999.0,9,     -999.0,9,     -999.0,9,     -999.0,9,     -999.0,9,     -999.0,9,     -999.0,9,     -999.0,1,     -999.0,1,     -999.0,1,67.85420493,6,    16.6585,2,1.922966588, 53.5819762,2,     -999.0
320620170820,        P06,     201,          1,         34,         34,2,20170914,       1656,   -32.5001,  -103.4260,       3562,    28.6,  16.6347,  34.7847,2,  34.7868,2,  245.682,2, 244.7999,2,     0.0,2,    0.03,2,    0.02,2,    0.14,2,   2.300,2,   1.365,2,   1.5740,2,  2048.5,2,  2291.4,2,   7.9558,2,    25.00, -999.00,9, -999.00,9, -999.00,  -999.0,9, -999.00,9,     -999.0,9,  -999.0,1, 20170914,     1839, -32.5001,-103.4260,        0.0,1,      0.127,1,      4.599,1,      0.223,1,     -999.0,1,     -999.0,1,     -999.0,9,     -999.0,9,     -999.0,9,     -999.0,9,     -999.0,9,     -999.0,9,     -999.0,9,     -999.0,9,     -999.0,9,    16.6582,2,     -999.0,     -999.0,9,     -999.0
320620170820,        P06,     201,          1,         36,         36,2,20170914,       1656,   -32.5001,  -103.4260,       3562,     6.0,  16.6450,  34.7846,2,  34.7879,2, 245.8298,2, 244.6623,2,     0.0,2,    0.02,2,    0.02,2,    0.15,2,   2.299,2,   1.357,2,   1.6270,2,  2047.2,6,  2291.7,2,   7.9554,2,    25.00, -999.00,9, -999.00,9, -999.00,  -999.0,9, -999.00,9,     -999.0,9,  -999.0,1, 20170914,     1842, -32.5001,-103.4260,        0.0,1,      0.090,1,      4.598,1,      0.212,1,     -999.0,1,     -999.0,1,     -999.0,9,       0.43,2,     -999.0,9,     -999.0,9,     -999.0,9,     -999.0,9,     -999.0,9,     -999.0,9,     -999.0,9,    16.6779,2,     -999.0,     -999.0,9,     -999.0