BOTTLE,20240211CCHSIOCBG
EXPOCODE,SECT_ID,STNNBR,CASTNO,SAMPNO,BTLNBR,BTLNBR_FLAG_W,DATE,TIME,LATITUDE,LONGITUDE,DEPTH,CTDPRS,CTDTMP,CTDSAL,CTDSAL_FLAG_W,SALNTY,SALNTY_FLAG_W,CTDOXY,CTDOXY_FLAG_W,OXYGEN,OXYGEN_FLAG_W,SILCAT,SILCAT_FLAG_W,NITRAT,NITRAT_FLAG_W,NITRIT,NITRIT_FLAG_W,PHSPHT,PHSPHT_FLAG_W,CFC-11,CFC-11_FLAG_W,CFC-12,CFC-12_FLAG_W,SF6,SF6_FLAG_W,TCARBN,TCARBN_FLAG_W,ALKALI,ALKALI_FLAG_W,PH_TOT,PH_TOT_FLAG_W,PH_TMP,DELC13,DELC13_FLAG_W,DELC14,DELC14_FLAG_W,C14ERR,DOC,DOC_FLAG_W,TDN,TDN_FLAG_W,TON,TON_FLAG_W,D15N_NO3,D15N_NO3_FLAG_W,BTL_DATE,BTL_TIME,BTL_LAT,BTL_LON,CTDRINKO,CTDRINKO_FLAG_W,CTDFLUOR,CTDFLUOR_FLAG_W,CTDXMISS,CTDXMISS_FLAG_W,CTDBACKSCATTER,CTDBACKSCATTER_FLAG_W,D18O_NO3,D18O_NO3_FLAG_W,DOP,DOP_FLAG_W,CELLCOUNT,CELLCOUNT_FLAG_W,TDP,TDP_FLAG_W,POP,POP_FLAG_W,DATP,DATP_FLAG_W,PATP,PATP_FLAG_W,HPLC,HPLC_FLAG_W,POC,POC_FLAG_W,BEAMAP,BEAMAP_FLAG_W,DOC_NASA,DOC_NASA_FLAG_W,REFTMP,REFTMP_FLAG_W,DOC_NASA_ERROR,TDN_NASA,TDN_NASA_FLAG_W,TDN_NASA_ERROR
,,,,,,,,,,,METERS,DBAR,ITS-90,PSS-78,,PSS-78,,UMOL/KG,,UMOL/KG,,UMOL/KG,,UMOL/KG,,UMOL/KG,,UMOL/KG,,PMOL/KG,,PMOL/KG,,FMOL/KG,,UMOL/KG,,UMOL/KG,,,,DEG C,/MILLE,,/MILLE,,/MILLE,UMOL/KG,,UMOL/KG,,UMOL/KG,,/MILLE,,,,,,VOLTS,,VOLTS,,VOLTS,,VOLTS,,/MILLE,,UMOL/KG,,/LITER,,UMOL/KG,,UMOL/L,,PMOL/L,,PMOL/L,,,,UG/L,,/METER,,UMOL/L,,ITS-90,,UMOL/L,UMOL/L,,UMOL/L
320620170820,        P06,     167,          1,         27,         27,2,20170904,       0948,   -32.4997,  -128.8002,       4282,   335.5,   9.5547,  34.4790,2,  34.4657,2,  222.268,2, 220.2628,2,     3.1,2,   16.61,2,    0.00,2,    1.17,2,   3.216,2,   1.755,2,   1.1610,2,  2132.4,2,  2279.0,2,   7.7440,2,    25.00, -999.00,9, -999.00,9, -999.00,  -999.0,9, -999.00,9,     -999.0,9,  -999.0,9, 20170904,     1137, -32.4993,-128.7996,        0.0,1,      0.059,1,      4.689,1,      0.134,1,     -999.0,9,     -999.0,9,     -999.0,9,     -999.0,9,     -999.0,9,     -999.0,9,     -999.0,9,     -999.0,9,     -999.0,9,     -999.0,9,     -999.0,9,     9.4127,2,     -999.0,     -999.0,9,     -999.0
320620170820,        P06,     167,          1,         28,         28,2,20170904,       0948,   -32.4997,  -128.8002,       4282,   285.9,  10.9974,  34.5785,2,  34.5435,2, 215.0732,2, 216.9449,2,     2.2,2,   13.85,2,    0.00,2,    1.01,2,   3.082,2,   1.726,2,   1.2510,2,  2124.5,2,  2281.0,2,   7.7700,2,    25.00, -999.00,9, -999.00,9, -999.00,  -999.0,9, -999.00,9,     -999.0,9,  -999.0,9, 20170904,     1139, -32.4992,-128.7994,        0.0,1,      0.060,1,      4.685,1,      0.133,1,     -999.0,9,     -999.0,9,     -999.0,9,     -999.0,9,     -999.0,9,     -999.0,9,     -999.0,9,     -999.0,9,     -999.0,9,     -999.0,9,     -999.0,9,    10.5042,2,     -999.0,     -999.0,9,     -999.0
320620170820,        P06,     167,          1,         29,         29,2,20170904,       0948,   -32.4997,  -128.8002,       4282,   235.8,  12.6433,  34.6916,2,  34.6484,3, 221.9599,2, 222.0254,2,     0.9,2,    8.65,2,    0.00,2,    0.67,2,   2.815,2,   1.661,2,   1.5170,2,  2106.0,2,  2284.5,2,   7.8197,2,    25.00, -999.00,9, -999.00,9, -999.00,  -999.0,9, -999.00,9,     -999.0,9,  -999.0,9, 20170904,     1142, -32.4993,-128.7995,        0.0,1,      0.064,1,      4.683,1,      0.135,1,     -999.0,9,     -999.0,9,     -999.0,9,     -999.0,9,     -999.0,9,     -999.0,9,     -999.0,9,     -999.0,9,     -999.0,9,     -999.0,9,     -999.0,9,    12.0859,2,     -999.0,     -999.0,9,     -999.0
320620170820,        P06,     167,          1,         30,         30,2,20170904,       0948,   -32.4997,  -128.8002,       4282,   184.0,  14.3475,  34.8385,2,  34.7659,2, 224.3849,2, 225.8243,2,     0.4,2,    5.08,2,    0.02,2,    0.45,2,   2.582,2,   1.571,2,   1.5310,2,  2092.9,2,  2290.1,2,   7.8582,2,    25.00, -999.00,9, -999.00,9, -999.00,  -999.0,9, -999.00,9,     -999.0,9,  -999.0,9, 20170904,     1144, -32.4993,-128.7996,        0.0,1,      0.102,1,      4.673,1,      0.140,1,     -999.0,9,     -999.0,9,     -999.0,9,     -999.0,9,     -999.0,9,     -999.0,9,     -999.0,9,     -999.0,9,     -999.0,9,     -999.0,9,     -999.0,9,    13.4832,2,     -999.0,     -999.0,9,     -999.0
320620170820,        P06,     167,          1,         31,         31,2,20170904,       0948,   -32.4997,  -128.8002,       4282,   135.5,  16.7512,  35.2073,2,  34.8906,2, 232.0596,2, 233.2737,2,     0.1,2,    1.29,2,    0.29,2,    0.23,2,   2.462,2,   1.481,2,   1.6290,2,  2074.4,2,  2297.2,3,   7.9048,2,    25.00, -999.00,9, -999.00,9, -999.00,  -999.0,9, -999.00,9,     -999.0,9,  -999.0,9, 20170904,     1146, -32.4994,-128.7998,        0.0,1,      0.178,1,      4.653,1,      0.161,1,     -999.0,9,     -999.0,9,     -999.0,9,     -999.0,9,     -999.0,9,     -999.0,9,     -999.0,9,     -999.0,9,     -999.0,9,     -999.0,9,     -999.0,9,    15.1532,2,     -999.0,     -999.0,9,     -999.0
320620170820,        P06,     167,          1,         32,         32,2,20170904,       0948,   -32.4997,  -128.8002,       4282,    90.2,  17.2175,  35.2201,2,  35.2649,2, 239.2282,2, 236.5621,2,     0.0,2,    0.00,2,    0.00,2,    0.06,2,   2.201,2,   1.318,2,   1.7130,2,  2057.6,2,  2315.2,2,   7.9693,2,    25.00, -999.00,9, -999.00,9, -999.00,  -999.0,9, -999.00,9,     -999.0,9,  -999.0,9, 20170904,     1148, -32.4994,-128.7998,        0.0,1,      0.114,1,      4.644,1,      0.174,1,     -999.0,9,     -999.0,9,     -999.0,9,     -999.0,9,     -999.0,9,     -999.0,9,     -999.0,9,     -999.0,9,     -999.0,9,     -999.0,9,     -999.0,9,    17.2924,2,     -999.0,     -999.0,9,     -999.0
320620170820,        P06,     167,          1,         33,         33,2,20170904,       0948,   -32.4997,  -128.8002,       4282,    63.4,  16.9147,  35.0419,2,  35.0652,2, 242.1772,2, 244.5551,2,     0.0,2,    0.00,2,    0.00,2,    0.09,2,   2.228,2,   1.341,2,   1.6800,2,  2052.4,2,  2305.1,6,   7.9603,2,    25.00, -999.00,9, -999.00,9, -999.00,  -999.0,9, -999.00,9,     -999.0,9,  -999.0,9, 20170904,     1150, -32.4995,-128.8000,        0.0,1,      0.091,1,      4.643,1,      0.171,1,     -999.0,9,     -999.0,9,     -999.0,9,     -999.0,9,     -999.0,9,     -999.0,9,     -999.0,9,     -999.0,9,     -999.0,9,     -999.0,9,     -999.0,9,    16.9315,2,     -999.0,     -999.0,9,     -999.0
320620170820,        P06,     167,          1,         34,         34,2,20170904,       0948,   -32.4997,  -128.8002,       4282,    39.6,  16.8670,  35.0254,2,  35.0466,2, 241.6362,2, 241.0383,2,     0.0,2,    0.00,2,    0.00,2,    0.08,2,   2.271,2,   1.369,2,   1.6480,2,  2050.7,2,  2303.9,2,   7.9603,2,    25.00, -999.00,9, -999.00,9, -999.00,  -999.0,9, -999.00,9,     -999.0,9,  -999.0,9, 20170904,     1152, -32.4996,-128.8001,        0.0,1,      0.090,1,      4.643,1,      0.171,1,     -999.0,9,     -999.0,9,     -999.0,9,     -999.0,9,     -999.0,9,     -999.0,9,     -999.0,9,     -999.0,9,     -999.0,9,     -999.0,9,     -999.0,9,    16.9078,2,     -999.0,     -999.0,9,     -999.0
320620170820,        P06,     167,          1,         35,         35,2,20170904,       0948,   -32.4997,  -128.8002,       4282,    20.4,  16.8651,  35.0251,2,  35.0437,2, 241.6362,2, 241.1806,2,     0.0,2,    0.00,2,    0.00,2,    0.08,2,   2.267,2,   1.369,2,   1.7040,2,  2051.5,2,  2309.3,2,   7.9594,6,    25.00, -999.00,9, -999.00,9, -999.00,  -999.0,9, -999.00,9,     -999.0,9,  -999.0,9, 20170904,     1154, -32.4996,-128.8002,        0.0,1,      0.089,1,      4.643,1,      0.170,1,     -999.0,9,     -999.0,9,     -999.0,9,     -999.0,9,     -999.0,9,     -999.0,9,     -999.0,9,     -999.0,9,     -999.0,9,     -999.0,9,     -999.0,9,    16.8924,2,     -999.0,     -999.0,9,     -999.0
320620170820,        P06,     167,          1,         36,         36,2,20170904,       0948,   -32.4997,  -128.8002,       4282,     7.2,  16.8558,  35.0254,2,  35.0417,2, 241.4068,2, 241.1404,2,     0.0,2,    0.00,2,    0.00,2,    0.09,2,   2.250,6,   1.370,6,   1.6650,6,  2052.3,6,  2303.9,2,   7.9591,2,    25.00, -999.00,9, -999.00,9, -999.00,  -999.0,9, -999.00,9,     -999.0,9,  -999.0,9, 20170904,     1155, -32.4997,-128.8002,        0.0,1,      0.089,1,      4.643,1,      0.176,1,     -999.0,9,     -999.0,9,     -999.0,9,     -999.0,9,     -999.0,9,     -999.0,9,     -999.0,9,     -999.0,9,     -999.0,9,     -999.0,9,     -999.0,9,    16.8901,2,     -999.0,     -999.0,9,     -999.0