BOTTLE,20240211CCHSIOCBG
EXPOCODE,SECT_ID,STNNBR,CASTNO,SAMPNO,BTLNBR,BTLNBR_FLAG_W,DATE,TIME,LATITUDE,LONGITUDE,DEPTH,CTDPRS,CTDTMP,CTDSAL,CTDSAL_FLAG_W,SALNTY,SALNTY_FLAG_W,CTDOXY,CTDOXY_FLAG_W,OXYGEN,OXYGEN_FLAG_W,SILCAT,SILCAT_FLAG_W,NITRAT,NITRAT_FLAG_W,NITRIT,NITRIT_FLAG_W,PHSPHT,PHSPHT_FLAG_W,CFC-11,CFC-11_FLAG_W,CFC-12,CFC-12_FLAG_W,SF6,SF6_FLAG_W,TCARBN,TCARBN_FLAG_W,ALKALI,ALKALI_FLAG_W,PH_TOT,PH_TOT_FLAG_W,PH_TMP,DELC13,DELC13_FLAG_W,DELC14,DELC14_FLAG_W,C14ERR,DOC,DOC_FLAG_W,TDN,TDN_FLAG_W,TON,TON_FLAG_W,D15N_NO3,D15N_NO3_FLAG_W,BTL_DATE,BTL_TIME,BTL_LAT,BTL_LON,CTDRINKO,CTDRINKO_FLAG_W,CTDFLUOR,CTDFLUOR_FLAG_W,CTDXMISS,CTDXMISS_FLAG_W,CTDBACKSCATTER,CTDBACKSCATTER_FLAG_W,D18O_NO3,D18O_NO3_FLAG_W,DOP,DOP_FLAG_W,CELLCOUNT,CELLCOUNT_FLAG_W,TDP,TDP_FLAG_W,POP,POP_FLAG_W,DATP,DATP_FLAG_W,PATP,PATP_FLAG_W,HPLC,HPLC_FLAG_W,POC,POC_FLAG_W,BEAMAP,BEAMAP_FLAG_W,DOC_NASA,DOC_NASA_FLAG_W,REFTMP,REFTMP_FLAG_W,DOC_NASA_ERROR,TDN_NASA,TDN_NASA_FLAG_W,TDN_NASA_ERROR
,,,,,,,,,,,METERS,DBAR,ITS-90,PSS-78,,PSS-78,,UMOL/KG,,UMOL/KG,,UMOL/KG,,UMOL/KG,,UMOL/KG,,UMOL/KG,,PMOL/KG,,PMOL/KG,,FMOL/KG,,UMOL/KG,,UMOL/KG,,,,DEG C,/MILLE,,/MILLE,,/MILLE,UMOL/KG,,UMOL/KG,,UMOL/KG,,/MILLE,,,,,,VOLTS,,VOLTS,,VOLTS,,VOLTS,,/MILLE,,UMOL/KG,,/LITER,,UMOL/KG,,UMOL/L,,PMOL/L,,PMOL/L,,,,UG/L,,/METER,,UMOL/L,,ITS-90,,UMOL/L,UMOL/L,,UMOL/L
320620170820,        P06,     199,          1,          1,          1,2,20170914,       0328,   -32.5002,  -104.8060,       3445,  3490.2,   1.7974,  34.6887,2,  34.6920,2, 167.2876,2, 167.4181,2,   117.2,2,   34.30,2,    0.00,2,    2.37,2,   0.043,2,   0.023,2,   0.0000,2,  2296.3,6,  2391.9,2,   7.5925,2,    25.00, -999.00,9, -999.00,9, -999.00,  -999.0,9, -999.00,9,     -999.0,9,  -999.0,9, 20170914,      328, -32.5001,-104.8061,        0.0,1,      0.061,1,      4.686,1,      0.131,1,     -999.0,9,     -999.0,9,     -999.0,9,     -999.0,9,     -999.0,9,     -999.0,9,     -999.0,9,     -999.0,9,     -999.0,9,     -999.0,9,     -999.0,9,     1.7975,2,     -999.0,     -999.0,9,     -999.0
320620170820,        P06,     199,          1,          2,          2,2,20170914,       0328,   -32.5002,  -104.8060,       3445,  3398.5,   1.7886,  34.6887,2,  34.6912,2, 167.2876,2, 167.1961,2,   117.6,2,   34.30,2,    0.00,2,    2.38,2,   0.046,2,   0.030,2,   0.0000,2,  2296.2,2,  2392.1,2,   7.5911,2,    25.00, -999.00,9, -999.00,9, -999.00,  -999.0,9, -999.00,9,     -999.0,9,  -999.0,9, 20170914,      331, -32.5002,-104.8059,        0.0,1,      0.061,1,      4.686,1,      0.131,1,     -999.0,9,     -999.0,9,     -999.0,9,     -999.0,9,     -999.0,9,     -999.0,9,     -999.0,9,     -999.0,9,     -999.0,9,     -999.0,9,     -999.0,9,     1.7890,2,     -999.0,     -999.0,9,     -999.0
320620170820,        P06,     199,          1,          3,          3,2,20170914,       0328,   -32.5002,  -104.8060,       3445,  3312.8,   1.7808,  34.6885,2,  34.6910,2, 167.2876,2,  167.293,2,   117.7,2,   34.27,2,    0.00,2,    2.38,2,   0.040,2,   0.025,2,   0.0000,2,  -999.0,9,  -999.0,9,-999.0000,9,  -999.00, -999.00,9, -999.00,9, -999.00,  -999.0,9, -999.00,9,     -999.0,9,  -999.0,9, 20170914,      334, -32.5002,-104.8058,        0.0,1,      0.061,1,      4.687,1,      0.129,1,     -999.0,9,     -999.0,9,     -999.0,9,     -999.0,9,     -999.0,9,     -999.0,9,     -999.0,9,     -999.0,9,     -999.0,9,     -999.0,9,     -999.0,9,     1.7807,2,     -999.0,     -999.0,9,     -999.0
320620170820,        P06,     199,          1,          4,          4,2,20170914,       0328,   -32.5002,  -104.8060,       3445,  3106.5,   1.7641,  34.6874,2,  34.6914,2, 167.2876,2, 167.6821,2,   117.6,2,   34.32,2,    0.00,2,    2.36,2,   0.041,2,   0.028,2,   0.0000,2,  2294.8,2,  2389.6,2,   7.5899,6,    25.00, -999.00,9, -999.00,9, -999.00,  -999.0,9, -999.00,9,     -999.0,9,  -999.0,9, 20170914,      338, -32.5002,-104.8059,        0.0,1,      0.061,1,      4.688,1,      0.128,1,     -999.0,9,     -999.0,9,     -999.0,9,     -999.0,9,     -999.0,9,     -999.0,9,     -999.0,9,     -999.0,9,     -999.0,9,     -999.0,9,     -999.0,9,     1.7642,2,     -999.0,     -999.0,9,     -999.0
320620170820,        P06,     199,          1,          5,          5,2,20170914,       0328,   -32.5002,  -104.8060,       3445,  2904.0,   1.7542,  34.6859,2,  34.6889,2, 167.0371,2, 166.8402,2,   117.6,2,   34.32,2,    0.00,2,    2.38,2,-999.000,9,-999.000,9,-999.0000,9,  -999.0,9,  -999.0,9,-999.0000,9,  -999.00, -999.00,9, -999.00,9, -999.00,  -999.0,9, -999.00,9,     -999.0,9,  -999.0,9, 20170914,      342, -32.5002,-104.8060,        0.0,1,      0.061,1,      4.689,1,      0.128,1,     -999.0,9,     -999.0,9,     -999.0,9,     -999.0,9,     -999.0,9,     -999.0,9,     -999.0,9,     -999.0,9,     -999.0,9,     -999.0,9,     -999.0,9,     1.7534,2,     -999.0,     -999.0,9,     -999.0
320620170820,        P06,     199,          1,          6,          6,2,20170914,       0328,   -32.5002,  -104.8060,       3445,  2699.1,   1.7607,  34.6832,2,  34.6848,2, 166.8735,2, 166.4656,2,   117.0,2,   34.38,2,    0.00,2,    2.38,2,   0.042,2,   0.029,2,   0.0000,2,  2296.2,2,  2389.3,2,   7.5886,2,    25.00, -999.00,9, -999.00,9, -999.00,  -999.0,9, -999.00,9,     -999.0,9,  -999.0,9, 20170914,      347, -32.5003,-104.8058,        0.0,1,      0.061,1,      4.690,1,      0.127,1,     -999.0,9,     -999.0,9,     -999.0,9,     -999.0,9,     -999.0,9,     -999.0,9,     -999.0,9,     -999.0,9,     -999.0,9,     -999.0,9,     -999.0,9,     1.7608,2,     -999.0,     -999.0,9,     -999.0
320620170820,        P06,     199,          1,          7,          7,2,20170914,       0328,   -32.5002,  -104.8060,       3445,  2496.8,   1.8069,  34.6787,2,  34.6798,2, 164.8452,2,  164.686,2,   115.4,2,   34.46,2,    0.00,2,    2.40,2,-999.000,9,-999.000,9,-999.0000,9,  -999.0,9,  -999.0,9,-999.0000,9,  -999.00, -999.00,9, -999.00,9, -999.00,  -999.0,9, -999.00,9,     -999.0,9,  -999.0,9, 20170914,      351, -32.5003,-104.8058,        0.0,1,      0.061,1,      4.690,1,      0.128,1,     -999.0,9,     -999.0,9,     -999.0,9,     -999.0,9,     -999.0,9,     -999.0,9,     -999.0,9,     -999.0,9,     -999.0,9,     -999.0,9,     -999.0,9,     1.8097,2,     -999.0,     -999.0,9,     -999.0
320620170820,        P06,     199,          1,          8,          8,2,20170914,       0328,   -32.5002,  -104.8060,       3445,  2292.1,   1.9178,  34.6675,2,  34.6677,2, 160.5273,2, 160.6785,2,   112.1,2,   34.72,2,    0.00,2,    2.41,2,   0.045,2,   0.025,2,   0.0000,2,  2294.2,2,  2382.7,6,   7.5770,2,    25.00, -999.00,9, -999.00,9, -999.00,  -999.0,9, -999.00,9,     -999.0,9,  -999.0,9, 20170914,      356, -32.5002,-104.8058,        0.0,1,      0.061,1,      4.690,1,      0.128,1,     -999.0,9,     -999.0,9,     -999.0,9,     -999.0,9,     -999.0,9,     -999.0,9,     -999.0,9,     -999.0,9,     -999.0,9,     -999.0,9,     -999.0,9,     1.9292,2,     -999.0,     -999.0,9,     -999.0
320620170820,        P06,     199,          1,          9,          9,2,20170914,       0328,   -32.5002,  -104.8060,       3445,  2088.4,   2.0704,  34.6467,2,  34.6470,2, 155.3346,2,  156.114,2,   108.7,2,   35.19,2,    0.00,2,    2.44,2,-999.000,9,-999.000,9,-999.0000,9,  -999.0,9,  -999.0,9,-999.0000,9,  -999.00, -999.00,9, -999.00,9, -999.00,  -999.0,9, -999.00,9,     -999.0,9,  -999.0,9, 20170914,      400, -32.5002,-104.8059,        0.0,1,      0.061,1,      4.689,1,      0.128,1,     -999.0,9,     -999.0,9,     -999.0,9,     -999.0,9,     -999.0,9,     -999.0,9,     -999.0,9,     -999.0,9,     -999.0,9,     -999.0,9,     -999.0,9,     2.0794,2,     -999.0,     -999.0,9,     -999.0
320620170820,        P06,     199,          1,         10,         10,2,20170914,       0328,   -32.5002,  -104.8060,       3445,  1885.4,   2.2904,  34.6194,2,  34.6203,2, 147.1168,2, 147.0548,2,   104.2,2,   35.95,2,    0.00,2,    2.52,2,   0.044,2,   0.025,2,   0.0000,2,  2294.8,2,  2376.6,2,   7.5539,2,    25.00, -999.00,9, -999.00,9, -999.00,  -999.0,9, -999.00,9,     -999.0,9,  -999.0,9, 20170914,      405, -32.5003,-104.8058,        0.0,1,      0.061,1,      4.689,1,      0.129,1,     -999.0,9,     -999.0,9,     -999.0,9,     -999.0,9,     -999.0,9,     -999.0,9,     -999.0,9,     -999.0,9,     -999.0,9,     -999.0,9,     -999.0,9,     2.2911,2,     -999.0,     -999.0,9,     -999.0
320620170820,        P06,     199,          1,         11,         11,2,20170914,       0328,   -32.5002,  -104.8060,       3445,  1753.0,   2.4718,  34.5991,2,  34.6001,2, 142.1259,2, 141.6108,2,    99.9,2,   36.46,2,    0.00,2,    2.55,2,   0.041,2,   0.029,2,   0.0000,2,  -999.0,9,  -999.0,9,-999.0000,9,  -999.00, -999.00,9, -999.00,9, -999.00,  -999.0,9, -999.00,9,     -999.0,9,  -999.0,9, 20170914,      408, -32.5003,-104.8058,        0.0,1,      0.061,1,      4.689,1,      0.131,1,     -999.0,9,     -999.0,9,     -999.0,9,     -999.0,9,     -999.0,9,     -999.0,9,     -999.0,9,     -999.0,9,     -999.0,9,     -999.0,9,     -999.0,9,     2.4701,2,     -999.0,     -999.0,9,     -999.0
320620170820,        P06,     199,          1,         12,         12,2,20170914,       0328,   -32.5002,  -104.8060,       3445,  1652.6,   2.6376,  34.5833,2,  34.5842,2, 137.0984,2, 137.1377,2,    96.7,2,   36.93,2,    0.00,2,    2.60,2,   0.042,2,   0.027,2,   0.0000,2,  2293.2,2,  2368.6,2,   7.5358,2,    25.00, -999.00,9, -999.00,9, -999.00,  -999.0,9, -999.00,9,     -999.0,9,  -999.0,9, 20170914,      411, -32.5002,-104.8059,        0.0,1,      0.061,1,      4.689,1,      0.130,1,     -999.0,9,     -999.0,9,     -999.0,9,     -999.0,9,     -999.0,9,     -999.0,9,     -999.0,9,     -999.0,9,     -999.0,9,     -999.0,9,     -999.0,9,     2.6319,2,     -999.0,     -999.0,9,     -999.0
320620170820,        P06,     199,          1,         13,         13,2,20170914,       0328,   -32.5002,  -104.8060,       3445,  1549.6,   2.8334,  34.5660,2,  34.5653,2, 129.3508,2,  128.906,2,    92.8,2,   37.64,2,    0.00,2,    2.63,2,   0.042,2,   0.027,2,   0.0000,2,  -999.0,9,  -999.0,9,-999.0000,9,  -999.00, -999.00,9, -999.00,9, -999.00,  -999.0,9, -999.00,9,     -999.0,9,  -999.0,9, 20170914,      414, -32.5002,-104.8058,        0.0,1,      0.062,1,      4.689,1,      0.131,1,     -999.0,9,     -999.0,9,     -999.0,9,     -999.0,9,     -999.0,9,     -999.0,9,     -999.0,9,     -999.0,9,     -999.0,9,     -999.0,9,     -999.0,9,     2.8382,2,     -999.0,     -999.0,9,     -999.0
320620170820,        P06,     199,          1,         14,         14,2,20170914,       0328,   -32.5002,  -104.8060,       3445,  1448.2,   3.0221,  34.5467,2,  34.5484,2, 125.2894,2, 125.0277,2,    88.3,2,   38.01,2,    0.00,2,    2.66,2,   0.044,2,   0.028,2,   0.0000,2,  2290.9,2,  2355.5,2,   7.5139,2,    25.00, -999.00,9, -999.00,9, -999.00,  -999.0,9, -999.00,9,     -999.0,9,  -999.0,9, 20170914,      417, -32.5003,-104.8058,        0.0,1,      0.062,1,      4.689,1,      0.131,1,     -999.0,9,     -999.0,9,     -999.0,9,     -999.0,9,     -999.0,9,     -999.0,9,     -999.0,9,     -999.0,9,     -999.0,9,     -999.0,9,     -999.0,9,     3.0155,2,     -999.0,     -999.0,9,     -999.0
320620170820,        P06,     199,          1,         15,         15,2,20170914,       0328,   -32.5002,  -104.8060,       3445,  1348.0,   3.2131,  34.5199,2,  34.5195,2, 122.8611,2, 123.2277,2,    81.0,2,   38.26,2,    0.00,2,    2.69,2,   0.045,2,   0.031,2,   0.0000,2,  2287.6,6,  2347.6,2,   7.5064,2,    25.00, -999.00,9, -999.00,9, -999.00,  -999.0,9, -999.00,9,     -999.0,9,  -999.0,9, 20170914,      419, -32.5001,-104.8060,        0.0,1,      0.062,1,      4.689,1,      0.133,1,     -999.0,9,     -999.0,9,     -999.0,9,     -999.0,9,     -999.0,9,     -999.0,9,     -999.0,9,     -999.0,9,     -999.0,9,     -999.0,9,     -999.0,9,     3.2197,2,     -999.0,     -999.0,9,     -999.0
320620170820,        P06,     199,          1,         16,         16,2,20170914,       0328,   -32.5002,  -104.8060,       3445,  1246.4,   3.3721,  34.4828,2,  34.4773,2, 129.0893,2, 129.5269,2,    70.6,2,   37.86,2,    0.00,2,    2.63,2,   0.066,2,   0.040,2,   0.0000,2,  2273.7,2,  2336.0,2,   7.5096,2,    25.00, -999.00,9, -999.00,9, -999.00,  -999.0,9, -999.00,9,     -999.0,9,  -999.0,9, 20170914,      422, -32.5001,-104.8062,        0.0,1,      0.061,1,      4.689,1,      0.133,1,     -999.0,9,     -999.0,9,     -999.0,9,     -999.0,9,     -999.0,9,     -999.0,9,     -999.0,9,     -999.0,9,     -999.0,9,     -999.0,9,     -999.0,9,     3.3658,2,     -999.0,     -999.0,9,     -999.0
320620170820,        P06,     199,          1,         17,         17,2,20170914,       0328,   -32.5002,  -104.8060,       3445,  1145.6,   3.5070,  34.4168,2,  34.4192,2, 147.9069,2,  148.152,2,    57.6,2,   36.58,2,    0.00,2,    2.52,2,   0.140,2,   0.085,2,   0.0000,2,  -999.0,9,  -999.0,9,-999.0000,9,  -999.00, -999.00,9, -999.00,9, -999.00,  -999.0,9, -999.00,9,     -999.0,9,  -999.0,9, 20170914,      424, -32.5001,-104.8062,        0.0,1,      0.061,1,      4.689,1,      0.132,1,     -999.0,9,     -999.0,9,     -999.0,9,     -999.0,9,     -999.0,9,     -999.0,9,     -999.0,9,     -999.0,9,     -999.0,9,     -999.0,9,     -999.0,9,     3.5028,2,     -999.0,     -999.0,9,     -999.0
320620170820,        P06,     199,          1,         18,         18,2,20170914,       0328,   -32.5002,  -104.8060,       3445,  1044.6,   3.7923,  34.3549,2,  34.3531,2, 173.7326,2, 172.9587,2,    43.0,2,   34.46,2,    0.00,2,    2.35,2,   0.433,2,   0.234,2,   0.0260,2,  2227.7,2,  2305.2,2,   7.5648,2,    25.00, -999.00,9, -999.00,9, -999.00,  -999.0,9, -999.00,9,     -999.0,9,  -999.0,9, 20170914,      427, -32.5001,-104.8062,        0.0,1,      0.060,1,      4.689,1,      0.130,1,     -999.0,9,     -999.0,9,     -999.0,9,     -999.0,9,     -999.0,9,     -999.0,9,     -999.0,9,     -999.0,9,     -999.0,9,     -999.0,9,     -999.0,9,     3.8141,2,     -999.0,     -999.0,9,     -999.0
320620170820,        P06,     199,          1,         19,         19,2,20170914,       0328,   -32.5002,  -104.8060,       3445,   943.4,   4.2914,  34.3042,2,  34.3048,2, 191.9951,2, 192.8104,2,    30.7,2,   32.32,2,    0.00,2,    2.22,2,   1.165,2,   0.547,2,   0.0430,2,  -999.0,9,  -999.0,9,-999.0000,9,  -999.00, -999.00,9, -999.00,9, -999.00,  -999.0,9, -999.00,9,     -999.0,9,  -999.0,9, 20170914,      430, -32.5001,-104.8062,        0.0,1,      0.061,1,      4.689,1,      0.133,1,     -999.0,9,     -999.0,9,     -999.0,9,     -999.0,9,     -999.0,9,     -999.0,9,     -999.0,9,     -999.0,9,     -999.0,9,     -999.0,9,     -999.0,9,     4.2777,2,     -999.0,     -999.0,9,     -999.0
320620170820,        P06,     199,          1,         20,         20,2,20170914,       0328,   -32.5002,  -104.8060,       3445,   840.7,   4.8511,  34.2671,2,  34.2683,2, 213.4826,2,  213.087,2,    20.3,2,   29.88,2,    0.00,2,    2.04,2,   2.231,2,   1.067,2,   0.3090,2,  2184.9,2,  2284.4,2,   7.6292,2,    25.00, -999.00,9, -999.00,9, -999.00,  -999.0,9, -999.00,9,     -999.0,9,  -999.0,9, 20170914,      433, -32.5000,-104.8063,        0.0,1,      0.059,1,      4.688,1,      0.133,1,     -999.0,9,     -999.0,9,     -999.0,9,     -999.0,9,     -999.0,9,     -999.0,9,     -999.0,9,     -999.0,9,     -999.0,9,     -999.0,9,     -999.0,9,     4.8301,2,     -999.0,     -999.0,9,     -999.0
320620170820,        P06,     199,          1,         21,         21,2,20170914,       0328,   -32.5002,  -104.8060,       3445,   740.4,   5.3066,  34.2543,2,  34.2532,2, 229.5775,2, 229.7338,2,    13.5,2,   27.53,2,    0.00,2,    1.86,2,-999.000,9,-999.000,9,-999.0000,9,  -999.0,9,  -999.0,9,-999.0000,9,  -999.00, -999.00,9, -999.00,9, -999.00,  -999.0,9, -999.00,9,     -999.0,9,  -999.0,9, 20170914,      436, -32.5001,-104.8062,        0.0,1,      0.059,1,      4.688,1,      0.134,1,     -999.0,9,     -999.0,9,     -999.0,9,     -999.0,9,     -999.0,9,     -999.0,9,     -999.0,9,     -999.0,9,     -999.0,9,     -999.0,9,     -999.0,9,     5.2943,2,     -999.0,     -999.0,9,     -999.0
320620170820,        P06,     199,          1,         22,         22,2,20170914,       0328,   -32.5002,  -104.8060,       3445,   639.8,   5.7295,  34.2615,2,  34.2595,2, 238.9908,2, 238.4474,2,    10.1,2,   25.84,2,    0.00,2,    1.77,2,   3.679,2,   1.837,2,   0.8360,2,  2158.4,6,  2273.5,2,   7.6702,2,    25.00, -999.00,9, -999.00,9, -999.00,  -999.0,9, -999.00,9,     -999.0,9,  -999.0,9, 20170914,      438, -32.5001,-104.8060,        0.0,1,      0.059,1,      4.687,1,      0.135,1,     -999.0,9,     -999.0,9,     -999.0,9,     -999.0,9,     -999.0,9,     -999.0,9,     -999.0,9,     -999.0,9,     -999.0,9,     -999.0,9,     -999.0,9,     5.7289,2,     -999.0,     -999.0,9,     -999.0
320620170820,        P06,     199,          1,         23,         23,2,20170914,       0328,   -32.5002,  -104.8060,       3445,   538.5,   6.1909,  34.2859,2,  34.2872,2,  225.132,2, 225.7695,2,     9.1,2,   25.59,2,    0.00,2,    1.72,2,   3.678,2,   1.866,2,   0.8240,2,  -999.0,9,  -999.0,9,-999.0000,9,  -999.00, -999.00,9, -999.00,9, -999.00,  -999.0,9, -999.00,9,     -999.0,9,  -999.0,9, 20170914,      441, -32.5001,-104.8062,        0.0,1,      0.059,1,      4.686,1,      0.134,1,     -999.0,9,     -999.0,9,     -999.0,9,     -999.0,9,     -999.0,9,     -999.0,9,     -999.0,9,     -999.0,9,     -999.0,9,     -999.0,9,     -999.0,9,     6.2564,2,     -999.0,     -999.0,9,     -999.0
320620170820,        P06,     199,          1,         24,         24,2,20170914,       0328,   -32.5002,  -104.8060,       3445,   467.7,   6.7813,  34.2997,2,  34.2942,2, 211.9304,2, 211.7536,2,     8.2,2,   25.27,2,    0.00,2,    1.74,2,   3.568,2,   1.854,2,   0.9700,2,  2169.6,2,  2273.1,2,   7.6440,2,    25.00, -999.00,9, -999.00,9, -999.00,  -999.0,9, -999.00,9,     -999.0,9,  -999.0,9, 20170914,      444, -32.5001,-104.8062,        0.0,1,      0.060,1,      4.685,1,      0.134,1,     -999.0,9,     -999.0,9,     -999.0,9,     -999.0,9,     -999.0,9,     -999.0,9,     -999.0,9,     -999.0,9,     -999.0,9,     -999.0,9,     -999.0,9,     6.8186,2,     -999.0,     -999.0,9,     -999.0
320620170820,        P06,     199,          1,         25,         25,2,20170914,       0328,   -32.5002,  -104.8060,       3445,   417.3,   7.2885,  34.2877,2,  34.2768,2, 206.1422,2, 214.6704,2,     6.3,2,   23.56,2,    0.00,2,    1.62,2,   3.626,2,   1.896,2,   1.1770,2,  2161.5,2,  2271.6,2,   7.6600,2,    25.00, -999.00,9, -999.00,9, -999.00,  -999.0,9, -999.00,9,     -999.0,9,  -999.0,9, 20170914,      446, -32.5001,-104.8061,        0.0,1,      0.061,1,      4.685,1,      0.134,1,     -999.0,9,     -999.0,9,     -999.0,9,     -999.0,9,     -999.0,9,     -999.0,9,     -999.0,9,     -999.0,9,     -999.0,9,     -999.0,9,     -999.0,9,     7.3592,2,     -999.0,     -999.0,9,     -999.0
320620170820,        P06,     199,          1,         26,         26,2,20170914,       0328,   -32.5002,  -104.8060,       3445,   366.9,   7.9900,  34.2556,2,  34.2487,2, 211.6181,2, 219.0282,2,     4.3,2,   21.41,2,    0.00,2,    1.49,2,-999.000,9,-999.000,9,-999.0000,9,  2148.1,2,  2268.0,2,   7.6838,2,    25.00, -999.00,9, -999.00,9, -999.00,  -999.0,9, -999.00,9,     -999.0,9,  -999.0,9, 20170914,      447, -32.5001,-104.8061,        0.0,1,      0.059,1,      4.684,1,      0.134,1,     -999.0,9,     -999.0,9,     -999.0,9,     -999.0,9,     -999.0,9,     -999.0,9,     -999.0,9,     -999.0,9,     -999.0,9,     -999.0,9,     -999.0,9,     8.1093,2,     -999.0,     -999.0,9,     -999.0