BOTTLE,20240211CCHSIOCBG
EXPOCODE,SECT_ID,STNNBR,CASTNO,SAMPNO,BTLNBR,BTLNBR_FLAG_W,DATE,TIME,LATITUDE,LONGITUDE,DEPTH,CTDPRS,CTDTMP,CTDSAL,CTDSAL_FLAG_W,SALNTY,SALNTY_FLAG_W,CTDOXY,CTDOXY_FLAG_W,OXYGEN,OXYGEN_FLAG_W,SILCAT,SILCAT_FLAG_W,NITRAT,NITRAT_FLAG_W,NITRIT,NITRIT_FLAG_W,PHSPHT,PHSPHT_FLAG_W,CFC-11,CFC-11_FLAG_W,CFC-12,CFC-12_FLAG_W,SF6,SF6_FLAG_W,TCARBN,TCARBN_FLAG_W,ALKALI,ALKALI_FLAG_W,PH_TOT,PH_TOT_FLAG_W,PH_TMP,DELC13,DELC13_FLAG_W,DELC14,DELC14_FLAG_W,C14ERR,DOC,DOC_FLAG_W,TDN,TDN_FLAG_W,TON,TON_FLAG_W,D15N_NO3,D15N_NO3_FLAG_W,BTL_DATE,BTL_TIME,BTL_LAT,BTL_LON,CTDRINKO,CTDRINKO_FLAG_W,CTDFLUOR,CTDFLUOR_FLAG_W,CTDXMISS,CTDXMISS_FLAG_W,CTDBACKSCATTER,CTDBACKSCATTER_FLAG_W,D18O_NO3,D18O_NO3_FLAG_W,DOP,DOP_FLAG_W,CELLCOUNT,CELLCOUNT_FLAG_W,TDP,TDP_FLAG_W,POP,POP_FLAG_W,DATP,DATP_FLAG_W,PATP,PATP_FLAG_W,HPLC,HPLC_FLAG_W,POC,POC_FLAG_W,BEAMAP,BEAMAP_FLAG_W,DOC_NASA,DOC_NASA_FLAG_W,REFTMP,REFTMP_FLAG_W,DOC_NASA_ERROR,TDN_NASA,TDN_NASA_FLAG_W,TDN_NASA_ERROR
,,,,,,,,,,,METERS,DBAR,ITS-90,PSS-78,,PSS-78,,UMOL/KG,,UMOL/KG,,UMOL/KG,,UMOL/KG,,UMOL/KG,,UMOL/KG,,PMOL/KG,,PMOL/KG,,FMOL/KG,,UMOL/KG,,UMOL/KG,,,,DEG C,/MILLE,,/MILLE,,/MILLE,UMOL/KG,,UMOL/KG,,UMOL/KG,,/MILLE,,,,,,VOLTS,,VOLTS,,VOLTS,,VOLTS,,/MILLE,,UMOL/KG,,/LITER,,UMOL/KG,,UMOL/L,,PMOL/L,,PMOL/L,,,,UG/L,,/METER,,UMOL/L,,ITS-90,,UMOL/L,UMOL/L,,UMOL/L
320620170820,        P06,     190,          1,         27,         27,2,20170911,       1252,   -32.5000,  -111.0155,       3093,   235.6,  13.4411,  34.6420,2,  34.6358,2, 225.3446,2, 226.2749,2,     0.3,2,    6.03,2,    0.02,2,    0.51,2,   2.612,2,   1.568,2,   1.6470,2,  2088.9,2,  2281.8,2,   7.8521,2,    25.00, -999.00,9, -999.00,9, -999.00,    47.9,2,    9.80,2,     -999.0,1,  -999.0,9, 20170911,     1408, -32.5002,-111.0152,        0.0,1,      0.067,1,      4.678,1,      0.133,1,     -999.0,9,     -999.0,9,     -999.0,9,     -999.0,9,     -999.0,9,     -999.0,9,     -999.0,9,     -999.0,9,     -999.0,9,     -999.0,9,     -999.0,9,    13.4299,2,     -999.0,     -999.0,9,     -999.0
320620170820,        P06,     190,          1,         28,         28,2,20170911,       1252,   -32.5000,  -111.0155,       3093,   212.2,  13.9485,  34.6293,2,  34.6443,2, 231.0826,2, 228.6131,2,     0.1,2,    4.46,2,    0.05,2,    0.42,2,   2.594,2,   1.563,2,   1.6830,2,  2079.7,2,  2282.9,2,   7.8694,2,    25.00, -999.00,9, -999.00,9, -999.00,    48.3,2,    7.90,2,     -999.0,1,  -999.0,9, 20170911,     1410, -32.5002,-111.0152,        0.0,1,      0.076,1,      4.674,1,      0.136,1,     -999.0,9,     -999.0,9,     -999.0,9,     -999.0,9,     -999.0,9,     -999.0,9,     -999.0,9,     -999.0,9,     -999.0,9,     -999.0,9,     -999.0,9,    13.9293,2,     -999.0,     -999.0,9,     -999.0
320620170820,        P06,     190,          1,         29,         29,2,20170911,       1252,   -32.5000,  -111.0155,       3093,   188.8,  15.1322,  34.7872,2,  34.7809,2, 228.5924,2, 227.4264,2,     0.0,2,    2.35,2,    0.20,2,    0.31,2,   2.493,2,   1.501,2,   1.6470,2,  2073.5,2,  2290.2,2,   7.8953,2,    25.00, -999.00,9, -999.00,9, -999.00,    50.4,2,    6.20,2,     -999.0,1,  -999.0,9, 20170911,     1412, -32.5002,-111.0152,        0.0,1,      0.103,1,      4.669,1,      0.142,1,     -999.0,9,     -999.0,9,     -999.0,9,     -999.0,9,     -999.0,9,     -999.0,9,     -999.0,9,     -999.0,9,     -999.0,9,     -999.0,9,     -999.0,9,    15.0971,2,     -999.0,     -999.0,9,     -999.0
320620170820,        P06,     190,          1,         30,         30,2,20170911,       1252,   -32.5000,  -111.0155,       3093,   161.3,  16.1553,  34.9132,2,  34.8387,2, 230.8505,2, 231.0678,2,     0.0,2,    0.72,2,    0.27,2,    0.22,2,-999.000,9,-999.000,9,-999.0000,9,  2064.4,2,  2292.7,2,   7.9158,2,    25.00, -999.00,9, -999.00,9, -999.00,    52.6,2,    4.20,2,     -999.0,1,  -999.0,9, 20170911,     1413, -32.5002,-111.0153,        0.0,1,      0.143,1,      4.659,1,      0.149,1,     -999.0,9,     -999.0,9,     -999.0,9,     -999.0,9,     -999.0,9,     -999.0,9,     -999.0,9,     -999.0,9,     -999.0,9,     -999.0,9,     -999.0,9,    15.7350,2,     -999.0,     -999.0,9,     -999.0
320620170820,        P06,     190,          1,         31,         31,2,20170911,       1252,   -32.5000,  -111.0155,       3093,   136.1,  16.7632,  34.9054,2,  34.8269,2, 237.5833,2, 237.5096,2,     0.0,2,    0.13,2,    0.12,2,    0.14,2,   2.323,2,   1.414,2,   1.7660,2,  2054.8,2,  2292.7,2,   7.9376,2,    25.00, -999.00,9, -999.00,9, -999.00,    55.8,2,    4.10,2,     -999.0,1,  -999.0,9, 20170911,     1415, -32.5001,-111.0154,        0.0,1,      0.181,1,      4.645,1,      0.161,1,     -999.0,9,     -999.0,9,     -999.0,9,     -999.0,9,     -999.0,9,     -999.0,9,     -999.0,9,     -999.0,9,     -999.0,9,     -999.0,9,     -999.0,9,    16.4630,2,     -999.0,     -999.0,9,     -999.0
320620170820,        P06,     190,          1,         32,         32,2,20170911,       1252,   -32.5000,  -111.0155,       3093,   112.3,  17.6861,  34.9807,2,  35.0655,2, 237.1903,2, 235.6273,2,     0.0,2,    0.02,2,    0.00,2,    0.10,2,-999.000,9,-999.000,9,-999.0000,9,  2046.8,2,  2306.4,2,   7.9712,2,    25.00, -999.00,9, -999.00,9, -999.00,    59.6,2,    4.40,2,     -999.0,1,  -999.0,9, 20170911,     1417, -32.5001,-111.0155,        0.0,1,      0.089,1,      4.649,1,      0.159,1,     -999.0,9,     -999.0,9,     -999.0,9,     -999.0,9,     -999.0,9,     -999.0,9,     -999.0,9,     -999.0,9,     -999.0,9,     -999.0,9,     -999.0,9,    17.8695,2,     -999.0,     -999.0,9,     -999.0
320620170820,        P06,     190,          1,         33,         33,2,20170911,       1252,   -32.5000,  -111.0155,       3093,    85.6,  18.3594,  35.1424,2,  34.9825,2, 237.0654,2, 237.7366,2,     0.0,2,    0.02,2,    0.00,2,    0.09,2,   2.173,2,   1.304,2,   1.6680,2,  2042.0,2,  2300.8,6,   7.9703,2,    25.00, -999.00,9, -999.00,9, -999.00,    59.1,2,    4.00,2,     -999.0,1,  -999.0,9, 20170911,     1418, -32.5000,-111.0155,        0.0,1,      0.069,1,      4.656,1,      0.150,1,     -999.0,9,     -999.0,9,     -999.0,9,     -999.0,9,     -999.0,9,     -999.0,9,     -999.0,9,     -999.0,9,     -999.0,9,     -999.0,9,     -999.0,9,    17.7680,2,     -999.0,     -999.0,9,     -999.0
320620170820,        P06,     190,          1,         34,         34,2,20170911,       1252,   -32.5000,  -111.0155,       3093,    61.5,  18.4203,  35.1570,2,  35.1126,2, 235.9606,2, 237.4118,2,     0.1,2,    0.03,2,    0.00,2,    0.10,2,-999.000,9,-999.000,9,-999.0000,9,  2045.6,2,  2308.5,2,   7.9756,6,    25.00, -999.00,9, -999.00,9, -999.00,  -999.0,9, -999.00,9,     -999.0,1,  -999.0,9, 20170911,     1420, -32.5000,-111.0155,        0.0,1,      0.068,1,      4.657,1,      0.149,1,     -999.0,9,     -999.0,9,     -999.0,9,     -999.0,9,     -999.0,9,     -999.0,9,     -999.0,9,     -999.0,9,     -999.0,9,     -999.0,9,     -999.0,9,    18.2453,2,     -999.0,     -999.0,9,     -999.0
320620170820,        P06,     190,          1,         35,         35,2,20170911,       1252,   -32.5000,  -111.0155,       3093,    35.2,  18.4145,  35.1572,2,  35.1191,2, 235.9647,2, 236.5768,2,     0.0,2,    0.04,2,    0.00,2,    0.08,2,   2.115,2,   1.280,2,   1.6270,2,  2047.1,2,  2308.5,2,   7.9757,2,    25.00, -999.00,9, -999.00,9, -999.00,    60.9,2,    4.10,2,     -999.0,1,  -999.0,9, 20170911,     1422, -32.5000,-111.0155,        0.0,1,      0.067,1,      4.657,1,      0.149,1,     -999.0,9,     -999.0,9,     -999.0,9,     -999.0,9,     -999.0,9,     -999.0,9,     -999.0,9,     -999.0,9,     -999.0,9,     -999.0,9,     -999.0,9,    18.2825,2,     -999.0,     -999.0,9,     -999.0
320620170820,        P06,     190,          1,         36,         36,2,20170911,       1252,   -32.5000,  -111.0155,       3093,     7.7,  18.4064,  35.1568,2,  35.1228,2, 235.1587,2, 236.6613,2,     0.0,2,    0.04,2,    0.00,2,    0.14,2,   2.110,2,   1.271,2,   1.6530,2,  2047.7,6,  2308.7,2,   7.9753,2,    25.00, -999.00,9, -999.00,9, -999.00,    62.8,2,    4.00,2,     -999.0,1,  -999.0,9, 20170911,     1424, -32.5000,-111.0155,        0.0,1,      0.068,1,      4.656,1,      0.149,1,     -999.0,9,     -999.0,9,     -999.0,9,     -999.0,9,     -999.0,9,     -999.0,9,     -999.0,9,     -999.0,9,     -999.0,9,     -999.0,9,     -999.0,9,    18.2917,2,     -999.0,     -999.0,9,     -999.0