BOTTLE,20240211CCHSIOCBG
EXPOCODE,SECT_ID,STNNBR,CASTNO,SAMPNO,BTLNBR,BTLNBR_FLAG_W,DATE,TIME,LATITUDE,LONGITUDE,DEPTH,CTDPRS,CTDTMP,CTDSAL,CTDSAL_FLAG_W,SALNTY,SALNTY_FLAG_W,CTDOXY,CTDOXY_FLAG_W,OXYGEN,OXYGEN_FLAG_W,SILCAT,SILCAT_FLAG_W,NITRAT,NITRAT_FLAG_W,NITRIT,NITRIT_FLAG_W,PHSPHT,PHSPHT_FLAG_W,CFC-11,CFC-11_FLAG_W,CFC-12,CFC-12_FLAG_W,SF6,SF6_FLAG_W,TCARBN,TCARBN_FLAG_W,ALKALI,ALKALI_FLAG_W,PH_TOT,PH_TOT_FLAG_W,PH_TMP,DELC13,DELC13_FLAG_W,DELC14,DELC14_FLAG_W,C14ERR,DOC,DOC_FLAG_W,TDN,TDN_FLAG_W,TON,TON_FLAG_W,D15N_NO3,D15N_NO3_FLAG_W,BTL_DATE,BTL_TIME,BTL_LAT,BTL_LON,CTDRINKO,CTDRINKO_FLAG_W,CTDFLUOR,CTDFLUOR_FLAG_W,CTDXMISS,CTDXMISS_FLAG_W,CTDBACKSCATTER,CTDBACKSCATTER_FLAG_W,D18O_NO3,D18O_NO3_FLAG_W,DOP,DOP_FLAG_W,CELLCOUNT,CELLCOUNT_FLAG_W,TDP,TDP_FLAG_W,POP,POP_FLAG_W,DATP,DATP_FLAG_W,PATP,PATP_FLAG_W,HPLC,HPLC_FLAG_W,POC,POC_FLAG_W,BEAMAP,BEAMAP_FLAG_W,DOC_NASA,DOC_NASA_FLAG_W,REFTMP,REFTMP_FLAG_W,DOC_NASA_ERROR,TDN_NASA,TDN_NASA_FLAG_W,TDN_NASA_ERROR
,,,,,,,,,,,METERS,DBAR,ITS-90,PSS-78,,PSS-78,,UMOL/KG,,UMOL/KG,,UMOL/KG,,UMOL/KG,,UMOL/KG,,UMOL/KG,,PMOL/KG,,PMOL/KG,,FMOL/KG,,UMOL/KG,,UMOL/KG,,,,DEG C,/MILLE,,/MILLE,,/MILLE,UMOL/KG,,UMOL/KG,,UMOL/KG,,/MILLE,,,,,,VOLTS,,VOLTS,,VOLTS,,VOLTS,,/MILLE,,UMOL/KG,,/LITER,,UMOL/KG,,UMOL/L,,PMOL/L,,PMOL/L,,,,UG/L,,/METER,,UMOL/L,,ITS-90,,UMOL/L,UMOL/L,,UMOL/L
320620170820,        P06,     202,          1,         27,         27,2,20170915,       0030,   -32.5000,  -102.7355,       3688,   316.1,   8.8906,  34.2873,2,  34.2823,2, 230.7432,2, 231.3802,2,     2.4,2,   17.90,2,    0.00,2,    1.23,2,   3.507,2,   1.940,2,   1.3580,2,  2127.2,2,  2267.2,2,   7.7316,2,    25.00, -999.00,9, -999.00,9, -999.00,  -999.0,9, -999.00,9,     -999.0,9,  -999.0,9, 20170915,      159, -32.4998,-102.7358,        0.0,1,      0.060,1,      4.683,1,      0.131,1,     -999.0,9,     -999.0,9,     -999.0,9,     -999.0,9,     -999.0,9,     -999.0,9,     -999.0,9,     -999.0,9,     -999.0,9,     -999.0,9,     -999.0,9,     8.9735,2,     -999.0,     -999.0,9,     -999.0
320620170820,        P06,     202,          1,         28,         28,2,20170915,       0030,   -32.5000,  -102.7355,       3688,   266.7,  10.6263,  34.3318,2,  34.3290,2, 225.9353,2,  225.162,2,     1.3,2,   14.31,2,    0.00,2,    1.03,2,-999.000,9,-999.000,9,-999.0000,9,  2114.6,2,  2265.3,2,   7.7663,2,    25.00, -999.00,9, -999.00,9, -999.00,    43.9,2,   16.80,2,     -999.0,1,  -999.0,9, 20170915,      201, -32.4999,-102.7356,        0.0,1,      0.062,1,      4.680,1,      0.132,1,     -999.0,9,     -999.0,9,     -999.0,9,     -999.0,9,     -999.0,9,     -999.0,9,     -999.0,9,     -999.0,9,     -999.0,9,     -999.0,9,     -999.0,9,    10.5465,2,     -999.0,     -999.0,9,     -999.0
320620170820,        P06,     202,          1,         29,         29,2,20170915,       0030,   -32.5000,  -102.7355,       3688,   216.4,  12.3267,  34.3710,2,  34.3290,2, 230.9877,2, 230.9548,2,     0.4,2,    9.49,2,    0.05,2,    0.73,2,   3.037,2,   1.642,2,   1.7210,2,  2090.7,2,  2265.9,2,   7.8184,2,    25.00, -999.00,9, -999.00,9, -999.00,    45.3,2,   11.70,2,     -999.0,1,  -999.0,9, 20170915,      203, -32.5000,-102.7354,        0.0,1,      0.075,1,      4.673,1,      0.137,1,     -999.0,9,     -999.0,9,     -999.0,9,     -999.0,9,     -999.0,9,     -999.0,9,     -999.0,9,     -999.0,9,     -999.0,9,     -999.0,9,     -999.0,9,    12.2263,2,     -999.0,     -999.0,9,     -999.0
320620170820,        P06,     202,          1,         30,         30,2,20170915,       0030,   -32.5000,  -102.7355,       3688,   165.4,  14.2574,  34.4300,2,  34.4277,2, 246.7105,2,  240.324,2,     0.0,2,    2.49,2,    0.24,2,    0.34,2,-999.000,9,-999.000,9,-999.0000,9,  2055.5,2,  2271.6,2,   7.9052,2,    25.00, -999.00,9, -999.00,9, -999.00,    53.2,2,    7.10,2,     -999.0,1,  -999.0,9, 20170915,      205, -32.5001,-102.7353,        0.0,1,      0.118,1,      4.661,1,      0.152,1,     -999.0,9,     -999.0,9,     -999.0,9,     -999.0,9,     -999.0,9,     -999.0,9,     -999.0,9,     -999.0,9,     -999.0,9,     -999.0,9,     -999.0,9,    15.0121,2,     -999.0,     -999.0,9,     -999.0
320620170820,        P06,     202,          1,         31,         31,2,20170915,       0030,   -32.5000,  -102.7355,       3688,   135.6,  15.4806,  34.4676,2,  34.2776,2, 251.5207,2, 252.2871,2,     0.0,2,    1.80,2,    0.08,2,    0.28,2,   2.487,2,   1.478,2,   1.8390,2,  2042.8,2,  2265.0,3,   7.9191,2,    25.00, -999.00,9, -999.00,9, -999.00,    53.7,2,    6.70,2,     -999.0,1,  -999.0,9, 20170915,      206, -32.5001,-102.7352,        0.0,1,      0.148,1,      4.639,1,      0.183,1,     -999.0,9,     -999.0,9,     -999.0,9,     -999.0,9,     -999.0,9,     -999.0,9,     -999.0,9,     -999.0,9,     -999.0,9,     -999.0,9,     -999.0,9,    14.7675,2,     -999.0,     -999.0,9,     -999.0
320620170820,        P06,     202,          1,         32,         32,2,20170915,       0030,   -32.5000,  -102.7355,       3688,   110.4,  16.1432,  34.6509,2,  34.3784,2, 242.5308,2, 250.8045,2,     0.0,2,    1.38,2,    0.08,2,    0.25,2,   2.502,2,   1.459,2,   1.7500,2,  2043.0,2,  2271.0,3,   7.9252,2,    25.00, -999.00,9, -999.00,9, -999.00,    55.8,2,    6.20,2,     -999.0,1,  -999.0,9, 20170915,      208, -32.5001,-102.7352,        0.0,1,      0.171,1,      4.630,1,      0.195,1,     -999.0,9,     -999.0,9,     -999.0,9,     -999.0,9,     -999.0,9,     -999.0,9,     -999.0,9,     -999.0,9,     -999.0,9,     -999.0,9,     -999.0,9,    15.2592,2,     -999.0,     -999.0,9,     -999.0
320620170820,        P06,     202,          1,         33,         33,2,20170915,       0030,   -32.5000,  -102.7355,       3688,    84.7,  16.1273,  34.6453,2,  34.5569,2, 248.6876,2, 247.8639,2,     0.0,2,    0.65,2,    0.06,2,    0.21,2,   2.404,2,   1.407,2,   1.6380,2,  2045.4,2,  2279.3,2,   7.9376,2,    25.00, -999.00,9, -999.00,9, -999.00,    58.4,2,    5.00,2,     -999.0,1,  -999.0,9, 20170915,      210, -32.5001,-102.7353,        0.0,1,      0.182,1,      4.614,1,      0.204,1,     -999.0,9,     -999.0,9,     -999.0,9,     -999.0,9,     -999.0,9,     -999.0,9,     -999.0,9,     -999.0,9,     -999.0,9,     -999.0,9,     -999.0,9,    15.8216,2,     -999.0,     -999.0,9,     -999.0
320620170820,        P06,     202,          1,         34,         34,2,20170915,       0030,   -32.5000,  -102.7355,       3688,    59.5,  16.1043,  34.6387,2,  34.5787,2,  248.331,2, 248.1681,2,     0.0,2,    0.55,2,    0.06,2,    0.20,2,   2.404,2,   1.396,2,   1.5730,2,  2044.9,2,  2282.6,2,   7.9407,2,    25.00, -999.00,9, -999.00,9, -999.00,    56.7,2,    4.50,2,     -999.0,1,  -999.0,9, 20170915,      212, -32.5001,-102.7354,        0.0,1,      0.191,1,      4.600,1,      0.211,1,     -999.0,9,     -999.0,9,     -999.0,9,     -999.0,9,     -999.0,9,     -999.0,9,     -999.0,9,     -999.0,9,     -999.0,9,     -999.0,9,     -999.0,9,    15.9087,2,     -999.0,     -999.0,9,     -999.0
320620170820,        P06,     202,          1,         35,         35,2,20170915,       0030,   -32.5000,  -102.7355,       3688,    34.4,  16.1418,  34.6418,2,  34.6221,2, 240.4016,2, 247.6278,2,     0.0,2,    0.40,2,    0.05,2,    0.19,2,   2.390,2,   1.395,2,   1.5760,2,  2045.6,2,  2282.5,2,   7.9432,2,    25.00, -999.00,9, -999.00,9, -999.00,    56.1,2,    5.40,2,     -999.0,1,  -999.0,9, 20170915,      213, -32.5000,-102.7355,        0.0,1,      0.162,1,      4.597,1,      0.212,1,     -999.0,9,     -999.0,9,     -999.0,9,     -999.0,9,     -999.0,9,     -999.0,9,     -999.0,9,     -999.0,9,     -999.0,9,     -999.0,9,     -999.0,9,    16.0966,2,     -999.0,     -999.0,9,     -999.0
320620170820,        P06,     202,          1,         36,         36,2,20170915,       0030,   -32.5000,  -102.7355,       3688,     9.6,  16.1493,  34.6317,2,  34.6233,2, 240.1746,2, 247.5772,2,     0.0,2,    0.38,2,    0.05,2,    0.19,2,   2.327,2,   1.381,2,   1.6350,2,  2044.9,6,  2288.9,2,   7.9429,2,    25.00,    1.14,2,   41.02,2,    4.75,    57.4,2,    4.70,2,     -999.0,1,  -999.0,9, 20170915,      215, -32.5000,-102.7355,        0.0,1,      0.156,1,      4.598,1,      0.201,1,     -999.0,9,     -999.0,9,     -999.0,9,     -999.0,9,     -999.0,9,     -999.0,9,     -999.0,9,     -999.0,9,     -999.0,9,     -999.0,9,     -999.0,9,    16.1120,2,     -999.0,     -999.0,9,     -999.0