BOTTLE,20240211CCHSIOCBG
# These data are under a CC0 license. For more information on how to cite, please visit cchdo.ucsd.edu
# Merged parameters: DELC14, DELC14_FLAG_W, C14ERR, DELC13, DELC13_FLAG_W
# 20221109CCHSIOCBG
# Remerged parameters: DOC_NASA, DOC_NASA_FLAG_W, DOC_NASA_ERROR, TDN_NASA, TDN_NASA_FLAG_W, TDN_NASA_ERROR
# 20221031CCHSIOCBG
# Merged parameters: DOC_NASA, DOC_NASA_FLAG_W, DOC_NASA_ERROR, TDN_NASA, TDN_NASA_FLAG_W, TDN_NASA_ERROR
# Merged parameters: TDP, TDP_FLAG_W
# 20220817CCHSIOAMB
# Changed D15N-TDN to D15N_NO3, D18O-TDN to D18O_NO3, AP to BEAMAP, units of POC to UG/L, units of TON to UMOL/KG, documented unknown params, fixed float deployment information in header comments
#BOTTLE,20210219CCHSIOCBG
# Merged parameters: CTDOXY, OXYGEN, OXYGEN_FLAG_W
# note: further update could be expected for CTDOXY, OXYGEN, and flags
# Merged parameters: TDN, TDN_FLAG_W, DOC, DOC_FLAG_W, CTDOXY_FLAG_W
# 20181118CCHSIOCBG
# Merged parameters: TCARBN, TCARBN_FLAG_W, ALKALI, ALKALI_FLAG_W, PH_TOT, PH_TOT_FLAG_W, PH_TMP
# SF6 at station 214, cast 1, sample 28, value 99.0000 with flag 5 changed to -999.0000; PH_TMP units from DEGC to DEG C; removed decimal from DEPTH
#20171120SIO
# CTDOXY Values are non final
# DEPTH is reported as meters, corrected pressures, pressures converted to meters using the p_to_z method of the TOES-10 toolbox, the height above bottom as reported by the altimiter was then added to the calculated pressure
#BOTTLE,20180417PRINUNIVRMK
#BOTTLE,20210125PRINUNIVRMK
# 3/21/2017 Initialized README file   
# Data source: CCHDO copy of 11/20/2017  
# SHIP: N.B. Palmer  
# Cruise: P06.2017  
# Region: trans-Pacific, west to east at 32S  
# EXPOCODE: 320620170820  
# DATES: 20170820 - 20170930   
# Chief Scientist: Kevin Speer & Lena Schulze; Papeete to Valparaiso: stations 144:250  
# SOCCOM Biogeochemical floats deployed by   
# No. Sta   WMO_ID       Lat       Lon       Date      UWID      LEG
# 1   99   5905108   -32.4650 -174.7583    20170729  12380   P06W
# 2  134   5905107   -32.4150 -154.9733    20170810  12372   P06W
# 3  160   5905104   -32.5833 -134.8733    20170901  12396   P06E
# 4  185   5905109   -32.5183 -114.6967    20170910   8204   P06E
# 5  223   5905106   -32.4817  -84.5467    20170922  12369   P06E
# 6  235   5905105   -32.4883  -73.9950    20170926  12540   P06E
# Supported by NSF Award PLR-1425989 to J.L. Sarmiento et al.  
# CTD: Who - J.Swift,E.Boss; Status - final  
#       Includes: CTDSAL, CTDOXY,FLBB  
#       36 place Rosette  
# Salinty: Who - J.Swift; Status - final  
#       Notes:  
# Nutrients: Who - J.Swift; Status - final  
#       Includes: nitrate, nitrite, silicate, phosphate  
# O2: Who - J.Swift; Status - preliminary  
#       Notes:   
# TCO2: Who - R.Feely & R.Wanninkhof; Status - final  
#       Notes: Final data from Greely 4/10/18  
#       Merged and QC'ed  
# ALKALI: Who - F.Millero; Status - final  
#       Notes: data from Millero 8/28/18, merge & QC, Key  
# pH_TOT: Who - F.Millero; Status - final  
#       Notes: data from Millero 8/28/18, merge & QC, Key  
# pCO2: Who - R.Wanninkhof; Status - underway only  
#       Notes:   
# CFC: Who - R.Fine; D.Min; Status - preliminary  
#       Notes:   
# C14/C13: Who - R.Key; A.McNichol; Status - collected  
#       Notes: Surface only  
# HPLC:  Who - A.Manino; Status - whatever  
#       Notes: supported by NASA grant NNX14AP49G  
# POC: Who - A.Manino; Status - collected  
#       Notes:  
# DOC: Who - C.Carson; Status - final  
#       Notes: merged 1/30/2020 
# TDN: Who - C.Carson; Status - final  
#       Notes: rcd from Carlson 1/18/21 
#       merged with QC 1/25/21 
# Other: Who - ; Status -  
#       Notes:   
#
#| Programs and Principal Investigators
#| 
#| Chief Scientist        Kevin Speer          *FSU*         kspeer@fsu.edu          
#| ---------------------  -------------------  ------------  ------------------------
#| Co-Chief Scientist     Lena Schulze         *FSU*         lschulze@fsu.edu        
#| ---------------------  -------------------  ------------  ------------------------
#| 
#|                                           Principal 
#| Program                  Affiliation      Investigator       Email 
#| -----------------------  ----------------------------------  --------------------------
#| *CTDO* Data, Salinity,   *UCSD*, *SIO*    Susan Becker,      sbecker@ucsd.edu,         
#| Nutrients, Dissolved O2                   Jim Swift          jswift@ucsd.edu           
#| -----------------------  ----------------------------------  --------------------------
#| Total CO2 (DIC)          *PMEL*, *AOML*,  Richard Feely,     Richard.A.Feely@noaa.gov, 
#|                           *NOAA*          Rik Wanninkhof     Rik.Wanninkhof@noaa.gov   
#| -----------------------  ----------------------------------  --------------------------
#| Underway Temperature,    *AOML*, *NOAA*,  Rik Wanninkhof,    Rik.Wanninkhof@noaa.gov,  
#| Salinity, and pCO2       *ASC*            *ASC*              admin@nbp.usap.gov        
#| -----------------------  ----------------------------------  --------------------------
#| Total Alkalinity, pH     *U Miami*        Frank Millero      fmillero@rsmas.miami.edu  
#| -----------------------  ----------------------------------  --------------------------
#| ADCP                     *UH*             Eric Firing        efiring@soest.hawaii.edu  
#| -----------------------  ----------------------------------  --------------------------
#| *LADCP*                  *LDEO*           Andreas Thurnherr  ant@ldeo.columbia.edu     
#| -----------------------  ---------------  -----------------  --------------------------
#| *CFCs*, *SF6*            *U Miami*,       Rana Fine,         rfine@rsmas.miami.edu,    
#|                          *UT*             Dong-Ha Min        dongha@mail.utexas.edu    
#| -----------------------  ---------------  -----------------  --------------------------
#| *DOC*, *TDN*             *UCSB*           Craig Carlson      carlson@lifesci.ucsb.edu  
#| -----------------------  ---------------  -----------------  --------------------------
#| C13 & C14                *WHOI*,          Ann McNichol,      amcnichol@whoi.edu,       
#|                          *Princeton*      Robert Key         401 Sayre Hall
#|                                                              Princeton University
#|                                                              08544 Princeton, NJ
#| -----------------------  ---------------  -----------------  --------------------------
#| Transmissometry          *TAMU*           Wilf Gardner       wgardner@ocean.tamu.edu   
#| -----------------------  ---------------  -----------------  --------------------------
#| Fluorescence and         *U Maine*        Emmanuel Boss      emmanuel.boss@maine.edu   
#| Backscatter (*SOCCOM*)                                                                 
#| -----------------------  ---------------  -----------------  --------------------------
#| Chipod                   *OSU*            Jonathan Nash      nash@coas.oregonstate.edu 
#| -----------------------  ---------------  -----------------  --------------------------
#| Nitrate d15N and d18O    *Princeton*      Daniel Sigman      sigman@princeton.edu      
#| -----------------------  ---------------  -----------------  --------------------------
#| DON and DOP              *FSU*            Angela Knapp       anknapp@fsu.edu           
#| -----------------------  ---------------  -----------------  --------------------------
#| Cell counts, *DOP*,      *U Miami*,       Kimberly           kpopendorf@rsmas.miami.edu  
#| *DIP*, *POP*, particu-   *RSMAS*          Popendorf                                               
#| late ATP, and                                                             
#| dissolved ATP
#| -----------------------  ---------------  -----------------  --------------------------
#| Optical profilers,       *NASA*           Antonio Mannino    antonio.mannino-1@nasa.gov  
#| profiling radiometer                                                              
#| and above water radio-                                                                
#| meter, *POC*, *CDOM*,                                                                   
#| *DOC*, *TDN*, FlowCAM,                                                                  
#| Oxygen primary produc-                                                                  
#| tivity, *HPLC* pigments                                                                        
#| -----------------------  ---------------  -----------------  --------------------------
#| Argo Floats              *UW*, *UCSD*,    Steve Riser,       riser@ocean.washington.edu,  
#|                          *SIO*            Dean Roemmich,     droemmich@ucsd.edu,   
#|                                           John Gilson        jegilson@gmail.com        
#| -----------------------  ---------------  -----------------  --------------------------
#| *SOCCOM* Floats          *UW*,            Steve Riser,       riser@ocean.washington.edu,  
#|                          *UCSD*, *SIO*    Lynne Talley       ltalley@ucsd.edu      
#| -----------------------  ---------------  -----------------  --------------------------
#| Surface Drifters         *NOAA*, *AOML*   Shaun Dolk         Shaun.dolk@noaa.gov       
#| -----------------------  ---------------  -----------------  --------------------------
#| Underway Bathymetry and  *ASC*            *ASC*              admin@nbp.usap.gov        
#| Meteorological Data                                                                    
#| -----------------------  ---------------  -----------------  --------------------------
#| 
#
EXPOCODE,SECT_ID,STNNBR,CASTNO,SAMPNO,BTLNBR,BTLNBR_FLAG_W,DATE,TIME,LATITUDE,LONGITUDE,DEPTH,CTDPRS,CTDTMP,CTDSAL,CTDSAL_FLAG_W,SALNTY,SALNTY_FLAG_W,CTDOXY,CTDOXY_FLAG_W,OXYGEN,OXYGEN_FLAG_W,SILCAT,SILCAT_FLAG_W,NITRAT,NITRAT_FLAG_W,NITRIT,NITRIT_FLAG_W,PHSPHT,PHSPHT_FLAG_W,CFC-11,CFC-11_FLAG_W,CFC-12,CFC-12_FLAG_W,SF6,SF6_FLAG_W,TCARBN,TCARBN_FLAG_W,ALKALI,ALKALI_FLAG_W,PH_TOT,PH_TOT_FLAG_W,PH_TMP,DELC13,DELC13_FLAG_W,DELC14,DELC14_FLAG_W,C14ERR,DOC,DOC_FLAG_W,TDN,TDN_FLAG_W,TON,TON_FLAG_W,D15N_NO3,D15N_NO3_FLAG_W,BTL_DATE,BTL_TIME,BTL_LAT,BTL_LON,CTDRINKO,CTDRINKO_FLAG_W,CTDFLUOR,CTDFLUOR_FLAG_W,CTDXMISS,CTDXMISS_FLAG_W,CTDBACKSCATTER,CTDBACKSCATTER_FLAG_W,D18O_NO3,D18O_NO3_FLAG_W,DOP,DOP_FLAG_W,CELLCOUNT,CELLCOUNT_FLAG_W,TDP,TDP_FLAG_W,POP,POP_FLAG_W,DATP,DATP_FLAG_W,PATP,PATP_FLAG_W,HPLC,HPLC_FLAG_W,POC,POC_FLAG_W,BEAMAP,BEAMAP_FLAG_W,DOC_NASA,DOC_NASA_FLAG_W,REFTMP,REFTMP_FLAG_W,DOC_NASA_ERROR,TDN_NASA,TDN_NASA_FLAG_W,TDN_NASA_ERROR
,,,,,,,,,,,METERS,DBAR,ITS-90,PSS-78,,PSS-78,,UMOL/KG,,UMOL/KG,,UMOL/KG,,UMOL/KG,,UMOL/KG,,UMOL/KG,,PMOL/KG,,PMOL/KG,,FMOL/KG,,UMOL/KG,,UMOL/KG,,,,DEG C,/MILLE,,/MILLE,,/MILLE,UMOL/KG,,UMOL/KG,,UMOL/KG,,/MILLE,,,,,,VOLTS,,VOLTS,,VOLTS,,VOLTS,,/MILLE,,UMOL/KG,,/LITER,,UMOL/KG,,UMOL/L,,PMOL/L,,PMOL/L,,,,UG/L,,/METER,,UMOL/L,,ITS-90,,UMOL/L,UMOL/L,,UMOL/L
320620170820,        P06,     144,          2,          1,          1,2,20170825,       0045,   -32.4997,  -148.9698,       5217,  5312.1,   1.2264,  34.7076,2,  34.7095,3, 201.4388,2, 202.1133,2,   120.5,2,   32.39,2,    0.00,2,    2.22,2,   0.068,2,   0.060,2,   0.0000,2,  2268.2,6,  2369.4,2,   7.6125,2,    25.00, -999.00,9, -999.00,9, -999.00,    42.0,2, -999.00,9,     -999.0,1,  -999.0,1, 20170825,       45, -32.4993,-148.9691,        0.0,1,      0.061,1,      4.697,1,      0.123,1,     -999.0,1,     -999.0,9,     -999.0,9,     -999.0,9,     -999.0,9,     -999.0,9,     -999.0,9,     -999.0,9,     -999.0,9,     -999.0,9,     -999.0,9,     1.2266,2,     -999.0,     -999.0,9,     -999.0
320620170820,        P06,     144,          2,          2,          2,2,20170825,       0045,   -32.4997,  -148.9698,       5217,  5160.0,   1.2104,  34.7076,2,  34.7097,3, 201.4388,2, 201.5292,2,   120.3,2,   32.43,2,    0.00,2,    2.22,2,   0.056,2,   0.050,2,   0.0000,2,  2268.4,2,  2372.1,2,   7.6089,6,    25.00, -999.00,9, -999.00,9, -999.00,  -999.0,9, -999.00,9,     -999.0,9,  -999.0,1, 20170825,       52, -32.4991,-148.9691,        0.0,1,      0.061,1,      4.697,1,      0.123,1,     -999.0,1,     -999.0,9,     -999.0,9,     -999.0,9,     -999.0,9,     -999.0,9,     -999.0,9,     -999.0,9,     -999.0,9,     -999.0,9,     -999.0,9,     1.2106,2,     -999.0,     -999.0,9,     -999.0
320620170820,        P06,     144,          2,          3,          3,2,20170825,       0045,   -32.4997,  -148.9698,       5217,  4990.7,   1.1995,  34.7076,2,  34.7099,3, 200.5159,2, 201.0364,2,   120.2,2,   32.39,2,    0.00,2,    2.23,2,   0.056,2,   0.061,2,   0.0000,2,  2269.6,2,  2374.1,6,   7.6087,2,    25.00, -999.00,9, -999.00,9, -999.00,    39.8,2, -999.00,9,     -999.0,1,  -999.0,1, 20170825,       58, -32.4992,-148.9691,        0.0,1,      0.060,1,      4.698,1,      0.122,1,     -999.0,1,     -999.0,9,     -999.0,9,     -999.0,9,     -999.0,9,     -999.0,9,     -999.0,9,     -999.0,9,     -999.0,9,     -999.0,9,     -999.0,9,     1.2000,2,     -999.0,     -999.0,9,     -999.0
320620170820,        P06,     144,          2,          4,          4,2,20170825,       0045,   -32.4997,  -148.9698,       5217,  4579.0,   1.2209,  34.7064,2,  34.7083,3, 199.4463,3, 197.8024,2,   120.3,2,   32.57,2,    0.00,2,    2.24,2,   0.048,2,   0.062,2,   0.0000,2,  2271.6,2,  2374.2,2,   7.6074,2,    25.00, -999.00,9, -999.00,9, -999.00,    42.6,2, -999.00,9,     -999.0,1,  -999.0,1, 20170825,      110, -32.4991,-148.9691,        0.0,1,      0.062,1,      4.699,1,      0.123,1,     -999.0,1,     -999.0,9,     -999.0,9,     -999.0,9,     -999.0,9,     -999.0,9,     -999.0,9,     -999.0,9,     -999.0,9,     -999.0,9,     -999.0,9,     1.2258,2,     -999.0,     -999.0,9,     -999.0
320620170820,        P06,     144,          2,          5,          5,2,20170825,       0045,   -32.4997,  -148.9698,       5217,  4270.1,   1.2796,  34.7045,2,  34.7074,3,  193.022,2, 193.6775,2,   120.4,2,   32.80,2,    0.00,2,    2.26,2,   0.047,2,   0.076,2,   0.0000,2,  2275.7,2,  -999.0,9,   7.6046,2,    25.00, -999.00,9, -999.00,9, -999.00,  -999.0,9, -999.00,9,     -999.0,9,  -999.0,1, 20170825,      122, -32.4990,-148.9692,        0.0,1,      0.061,1,      4.700,1,      0.122,1,     -999.0,1,     -999.0,9,     -999.0,9,     -999.0,9,     -999.0,9,     -999.0,9,     -999.0,9,     -999.0,9,     -999.0,9,     -999.0,9,     -999.0,9,     1.2891,2,     -999.0,     -999.0,9,     -999.0
320620170820,        P06,     144,          2,          6,          6,2,20170825,       0045,   -32.4997,  -148.9698,       5217,  3965.2,   1.3583,  34.7007,2,  34.7022,3, 186.7697,2,  187.003,2,   121.7,2,   33.19,2,    0.00,2,    2.30,2,   0.049,2,   0.088,2,   0.0000,2,  2280.9,2,  2383.3,2,   7.6009,2,    25.00, -999.00,9, -999.00,9, -999.00,    38.7,2, -999.00,9,     -999.0,1,  -999.0,1, 20170825,      131, -32.4991,-148.9691,        0.0,1,      0.061,1,      4.700,1,      0.124,1,     -999.0,1,     -999.0,9,     -999.0,9,     -999.0,9,     -999.0,9,     -999.0,9,     -999.0,9,     -999.0,9,     -999.0,9,     -999.0,9,     -999.0,9,     1.3616,2,     -999.0,     -999.0,9,     -999.0
320620170820,        P06,     144,          2,          7,          7,2,20170825,       0045,   -32.4997,  -148.9698,       5217,  3655.5,   1.4643,  34.6959,2,  34.6979,2, 179.2503,2, 178.6235,2,   123.2,2,   33.72,2,    0.00,2,    2.34,2,   0.053,2,   0.098,2,   0.0000,2,  2288.2,2,  2385.7,2,   7.5952,2,    25.00, -999.00,9, -999.00,9, -999.00,    38.4,2, -999.00,9,     -999.0,1,  -999.0,1, 20170825,      140, -32.4991,-148.9691,        0.0,1,      0.062,1,      4.700,1,      0.123,1,     -999.0,1,     -999.0,9,     -999.0,9,     -999.0,9,     -999.0,9,     -999.0,9,     -999.0,9,     -999.0,9,     -999.0,9,     -999.0,9,     -999.0,9,     1.4672,2,     -999.0,     -999.0,9,     -999.0
320620170820,        P06,     144,          2,          8,          8,2,20170825,       0045,   -32.4997,  -148.9698,       5217,  3350.6,   1.5777,  34.6857,2,  34.6881,2, 169.9817,2, 170.2267,2,   126.2,2,   34.44,2,    0.00,2,    2.37,2,   0.043,2,   0.097,2,   0.0000,2,  2299.0,2,  2394.0,2,   7.5882,2,    25.00, -999.00,9, -999.00,9, -999.00,  -999.0,9, -999.00,9,     -999.0,9,  -999.0,1, 20170825,      149, -32.4997,-148.9690,        0.0,1,      0.061,1,      4.701,1,      0.125,1,     -999.0,1,     -999.0,9,     -999.0,9,     -999.0,9,     -999.0,9,     -999.0,9,     -999.0,9,     -999.0,9,     -999.0,9,     -999.0,9,     -999.0,9,     1.5653,2,     -999.0,     -999.0,9,     -999.0
320620170820,        P06,     144,          2,          9,          9,2,20170825,       0045,   -32.4997,  -148.9698,       5217,  3042.8,   1.6970,  34.6743,2,  34.6769,2, 160.9608,3, 159.4207,2,   128.5,2,   35.19,2,    0.00,2,    2.43,2,   0.042,2,   0.091,2,   0.0000,2,  2308.2,2,  2401.6,2,   7.5799,2,    25.00, -999.00,9, -999.00,9, -999.00,    36.5,2, -999.00,9,     -999.0,1,  -999.0,1, 20170825,      157, -32.4998,-148.9691,        0.0,1,      0.062,1,      4.701,1,      0.126,1,     -999.0,1,     -999.0,9,     -999.0,9,     -999.0,9,     -999.0,9,     -999.0,9,     -999.0,9,     -999.0,9,     -999.0,9,     -999.0,9,     -999.0,9,     1.6881,2,     -999.0,     -999.0,9,     -999.0
320620170820,        P06,     144,          2,         10,         10,2,20170825,       0045,   -32.4997,  -148.9698,       5217,  2787.4,   1.7758,  34.6678,2,  34.6690,2, 154.4529,3, 152.0823,2,   130.3,2,   35.69,2,    0.00,2,    2.48,2,   0.038,2,   0.081,2,   0.0000,2,  2315.2,3,  2404.6,2,   7.5725,2,    25.00, -999.00,9, -999.00,9, -999.00,  -999.0,9, -999.00,9,     -999.0,9,  -999.0,1, 20170825,      204, -32.4995,-148.9692,        0.0,1,      0.061,1,      4.701,1,      0.128,1,     -999.0,1,     -999.0,9,     -999.0,9,     -999.0,9,     -999.0,9,     -999.0,9,     -999.0,9,     -999.0,9,     -999.0,9,     -999.0,9,     -999.0,9,     1.7763,2,     -999.0,     -999.0,9,     -999.0
320620170820,        P06,     144,          2,         11,         11,2,20170825,       0045,   -32.4997,  -148.9698,       5217,  2531.1,   1.8694,  34.6600,2,  34.6629,2, 149.3749,2, 149.8884,2,   127.2,2,   35.76,2,    0.00,2,    2.48,2,   0.039,2,   0.081,2,   0.0000,2,  2314.0,2,  2404.0,2,   7.5713,2,    25.00, -999.00,9, -999.00,9, -999.00,    44.3,3, -999.00,9,     -999.0,1,  -999.0,1, 20170825,      210, -32.4996,-148.9692,        0.0,1,      0.061,1,      4.701,1,      0.128,1,     -999.0,1,     -999.0,9,     -999.0,9,     -999.0,9,     -999.0,9,     -999.0,9,     -999.0,9,     -999.0,9,     -999.0,9,     -999.0,9,     -999.0,9,     1.8631,2,     -999.0,     -999.0,9,     -999.0
320620170820,        P06,     144,          2,         12,         12,2,20170825,       0045,   -32.4997,  -148.9698,       5217,  2276.8,   1.9980,  34.6500,2,  34.6543,2,  150.719,2,  151.185,2,   121.0,2,   35.57,2,    0.00,2,    2.47,2,   0.048,2,   0.120,2,   0.0000,2,  2306.8,6,  2396.0,2,   7.5715,2,    25.00, -999.00,9, -999.00,9, -999.00,  -999.0,9, -999.00,9,     -999.0,9,  -999.0,1, 20170825,      216, -32.4998,-148.9692,        0.0,1,      0.061,1,      4.701,1,      0.128,1,     -999.0,1,     -999.0,9,     -999.0,9,     -999.0,9,     -999.0,9,     -999.0,9,     -999.0,9,     -999.0,9,     -999.0,9,     -999.0,9,     -999.0,9,     1.9641,2,     -999.0,     -999.0,9,     -999.0