BOTTLE,20240211CCHSIOCBG
EXPOCODE,SECT_ID,STNNBR,CASTNO,SAMPNO,BTLNBR,BTLNBR_FLAG_W,DATE,TIME,LATITUDE,LONGITUDE,DEPTH,CTDPRS,CTDTMP,CTDSAL,CTDSAL_FLAG_W,SALNTY,SALNTY_FLAG_W,CTDOXY,CTDOXY_FLAG_W,OXYGEN,OXYGEN_FLAG_W,SILCAT,SILCAT_FLAG_W,NITRAT,NITRAT_FLAG_W,NITRIT,NITRIT_FLAG_W,PHSPHT,PHSPHT_FLAG_W,CFC-11,CFC-11_FLAG_W,CFC-12,CFC-12_FLAG_W,SF6,SF6_FLAG_W,TCARBN,TCARBN_FLAG_W,ALKALI,ALKALI_FLAG_W,PH_TOT,PH_TOT_FLAG_W,PH_TMP,DELC13,DELC13_FLAG_W,DELC14,DELC14_FLAG_W,C14ERR,DOC,DOC_FLAG_W,TDN,TDN_FLAG_W,TON,TON_FLAG_W,D15N_NO3,D15N_NO3_FLAG_W,BTL_DATE,BTL_TIME,BTL_LAT,BTL_LON,CTDRINKO,CTDRINKO_FLAG_W,CTDFLUOR,CTDFLUOR_FLAG_W,CTDXMISS,CTDXMISS_FLAG_W,CTDBACKSCATTER,CTDBACKSCATTER_FLAG_W,D18O_NO3,D18O_NO3_FLAG_W,DOP,DOP_FLAG_W,CELLCOUNT,CELLCOUNT_FLAG_W,TDP,TDP_FLAG_W,POP,POP_FLAG_W,DATP,DATP_FLAG_W,PATP,PATP_FLAG_W,HPLC,HPLC_FLAG_W,POC,POC_FLAG_W,BEAMAP,BEAMAP_FLAG_W,DOC_NASA,DOC_NASA_FLAG_W,REFTMP,REFTMP_FLAG_W,DOC_NASA_ERROR,TDN_NASA,TDN_NASA_FLAG_W,TDN_NASA_ERROR
,,,,,,,,,,,METERS,DBAR,ITS-90,PSS-78,,PSS-78,,UMOL/KG,,UMOL/KG,,UMOL/KG,,UMOL/KG,,UMOL/KG,,UMOL/KG,,PMOL/KG,,PMOL/KG,,FMOL/KG,,UMOL/KG,,UMOL/KG,,,,DEG C,/MILLE,,/MILLE,,/MILLE,UMOL/KG,,UMOL/KG,,UMOL/KG,,/MILLE,,,,,,VOLTS,,VOLTS,,VOLTS,,VOLTS,,/MILLE,,UMOL/KG,,/LITER,,UMOL/KG,,UMOL/L,,PMOL/L,,PMOL/L,,,,UG/L,,/METER,,UMOL/L,,ITS-90,,UMOL/L,UMOL/L,,UMOL/L
320620170820,        P06,     198,          2,          1,          1,2,20170913,       2030,   -32.4999,  -105.4964,       3277,  3316.3,   1.7812,  34.6885,2,  34.6903,2, 167.0559,2, 167.3833,2,   117.7,2,   34.34,2,    0.00,2,    2.37,2,   0.035,2,   0.022,2,   0.0000,2,  2295.4,6,  2389.7,2,   7.5905,2,    25.00, -999.00,9, -999.00,9, -999.00,    39.4,2, -999.00,9,     -999.0,1,  -999.0,1, 20170913,     2030, -32.5002,-105.4962,        0.0,1,      0.060,1,      4.687,1,      0.129,1,     -999.0,1,     -999.0,9,     -999.0,9,     -999.0,9,     -999.0,9,     -999.0,9,     -999.0,9,     -999.0,9,     -999.0,9,     -999.0,9,     -999.0,9,     1.7818,2,     -999.0,     -999.0,9,     -999.0
320620170820,        P06,     198,          2,          2,          2,2,20170913,       2030,   -32.4999,  -105.4964,       3277,  3179.3,   1.7701,  34.6880,2,  34.6881,2, 167.0559,2, 167.0184,2,   117.6,2,   34.34,2,    0.00,2,    2.39,2,   0.040,2,   0.029,2,   0.0000,2,  -999.0,9,  -999.0,9,-999.0000,9,  -999.00, -999.00,9, -999.00,9, -999.00,  -999.0,9, -999.00,9,     -999.0,9,  -999.0,1, 20170913,     2034, -32.5003,-105.4962,        0.0,1,      0.061,1,      4.689,1,      0.128,1,     -999.0,1,     -999.0,9,     -999.0,9,     -999.0,9,     -999.0,9,     -999.0,9,     -999.0,9,     -999.0,9,     -999.0,9,     -999.0,9,     -999.0,9,     1.7702,2,     -999.0,     -999.0,9,     -999.0
320620170820,        P06,     198,          2,          3,          3,2,20170913,       2030,   -32.4999,  -105.4964,       3277,  3041.5,   1.7605,  34.6873,2,  34.6893,2, 167.0559,2,  166.923,2,   117.6,2,   34.32,2,    0.00,2,    2.36,2,   0.035,2,   0.026,2,   0.0000,2,  2296.8,2,  2390.4,2,   7.5903,2,    25.00, -999.00,9, -999.00,9, -999.00,    36.7,2, -999.00,9,     -999.0,1,  -999.0,1, 20170913,     2039, -32.5004,-105.4959,        0.0,1,      0.060,1,      4.689,1,      0.127,1,     -999.0,1,     -999.0,9,     -999.0,9,     -999.0,9,     -999.0,9,     -999.0,9,     -999.0,9,     -999.0,9,     -999.0,9,     -999.0,9,     -999.0,9,     1.7603,2,     -999.0,     -999.0,9,     -999.0
320620170820,        P06,     198,          2,          4,          4,2,20170913,       2030,   -32.4999,  -105.4964,       3277,  2837.7,   1.7537,  34.6859,2,  34.6932,2, 166.9096,2, 166.8234,2,   117.6,2,   34.34,2,    0.00,2,    2.39,2,   0.039,2,   0.028,2,   0.0000,2,  -999.0,9,  -999.0,9,-999.0000,9,  -999.00, -999.00,9, -999.00,9, -999.00,  -999.0,9, -999.00,9,     -999.0,9,  -999.0,1, 20170913,     2044, -32.5005,-105.4957,        0.0,1,      0.061,1,      4.690,1,      0.129,1,     -999.0,1,     -999.0,9,     -999.0,9,     -999.0,9,     -999.0,9,     -999.0,9,     -999.0,9,     -999.0,9,     -999.0,9,     -999.0,9,     -999.0,9,     1.7544,2,     -999.0,     -999.0,9,     -999.0
320620170820,        P06,     198,          2,          5,          5,2,20170913,       2030,   -32.4999,  -105.4964,       3277,  2633.0,   1.7681,  34.6830,2,  34.6836,2, 166.4114,2, 166.2938,2,   116.8,2,   34.34,2,    0.00,2,    2.37,2,   0.041,2,   0.030,2,   0.0000,2,  2295.8,2,  2385.3,2,   7.5870,2,    25.00, -999.00,9, -999.00,9, -999.00,    40.2,2, -999.00,9,     -999.0,1,  -999.0,1, 20170913,     2049, -32.5004,-105.4961,        0.0,1,      0.061,1,      4.690,1,      0.127,1,     -999.0,1,     -999.0,9,     -999.0,9,     -999.0,9,     -999.0,9,     -999.0,9,     -999.0,9,     -999.0,9,     -999.0,9,     -999.0,9,     -999.0,9,     1.7679,2,     -999.0,     -999.0,9,     -999.0
320620170820,        P06,     198,          2,          6,          6,2,20170913,       2030,   -32.4999,  -105.4964,       3277,  2428.5,   1.8339,  34.6762,2,  34.6765,2, 164.1533,2, 164.1257,2,   115.0,2,   34.51,2,    0.00,2,    2.38,2,   0.045,2,   0.035,2,   0.0000,2,  -999.0,9,  -999.0,9,-999.0000,9,  -999.00, -999.00,9, -999.00,9, -999.00,    39.2,2, -999.00,9,     -999.0,1,  -999.0,1, 20170913,     2054, -32.5004,-105.4960,        0.0,1,      0.062,1,      4.690,1,      0.128,1,     -999.0,1,     -999.0,9,     -999.0,9,     -999.0,9,     -999.0,9,     -999.0,9,     -999.0,9,     -999.0,9,     -999.0,9,     -999.0,9,     -999.0,9,     1.8305,2,     -999.0,     -999.0,9,     -999.0
320620170820,        P06,     198,          2,          7,          7,2,20170913,       2030,   -32.4999,  -105.4964,       3277,  2226.1,   1.9642,  34.6613,2,  34.6606,2, 159.5224,2, 159.4471,2,   111.6,2,   34.87,2,    0.00,2,    2.39,2,   0.040,2,   0.030,2,   0.0000,2,  2295.3,2,  2380.1,2,   7.5749,2,    25.00, -999.00,9, -999.00,9, -999.00,    37.2,2, -999.00,9,     -999.0,1,  -999.0,1, 20170913,     2100, -32.5005,-105.4958,        0.0,1,      0.062,1,      4.690,1,      0.128,1,     -999.0,1,     -999.0,9,     -999.0,9,     -999.0,9,     -999.0,9,     -999.0,9,     -999.0,9,     -999.0,9,     -999.0,9,     -999.0,9,     -999.0,9,     1.9624,2,     -999.0,     -999.0,9,     -999.0
320620170820,        P06,     198,          2,          8,          8,2,20170913,       2030,   -32.4999,  -105.4964,       3277,  2022.1,   2.1459,  34.6367,2,  34.6374,2, 152.1422,2, 152.4377,2,   107.9,2,   35.54,2,    0.00,2,    2.46,2,   0.041,2,   0.033,2,   0.0000,2,  -999.0,9,  -999.0,9,-999.0000,9,  -999.00, -999.00,9, -999.00,9, -999.00,  -999.0,9, -999.00,9,     -999.0,9,  -999.0,1, 20170913,     2105, -32.5006,-105.4956,        0.0,1,      0.061,1,      4.690,1,      0.128,1,     -999.0,1,     -999.0,9,     -999.0,9,     -999.0,9,     -999.0,9,     -999.0,9,     -999.0,9,     -999.0,9,     -999.0,9,     -999.0,9,     -999.0,9,     2.1432,2,     -999.0,     -999.0,9,     -999.0
320620170820,        P06,     198,          2,          9,          9,2,20170913,       2030,   -32.4999,  -105.4964,       3277,  1818.9,   2.4124,  34.6056,2,  34.6052,2, 142.9266,2, 142.9427,2,   101.8,2,   36.33,2,    0.00,2,    2.52,2,   0.038,2,   0.030,2,   0.0000,2,  2291.8,2,  2369.6,2,   7.5474,6,    25.00, -999.00,9, -999.00,9, -999.00,    45.3,3, -999.00,9,     -999.0,1,  -999.0,1, 20170913,     2110, -32.5006,-105.4957,        0.0,1,      0.061,1,      4.689,1,      0.131,1,     -999.0,1,     -999.0,9,     -999.0,9,     -999.0,9,     -999.0,9,     -999.0,9,     -999.0,9,     -999.0,9,     -999.0,9,     -999.0,9,     -999.0,9,     2.4155,2,     -999.0,     -999.0,9,     -999.0
320620170820,        P06,     198,          2,         10,         10,2,20170913,       2030,   -32.4999,  -105.4964,       3277,  1717.6,   2.5544,  34.5912,2,  34.5918,2,  139.156,2, 139.2691,2,    99.0,2,   36.72,2,    0.00,2,    2.56,2,   0.040,2,   0.033,2,   0.0000,2,  -999.0,9,  -999.0,9,-999.0000,9,  -999.00, -999.00,9, -999.00,9, -999.00,  -999.0,9, -999.00,9,     -999.0,9,  -999.0,1, 20170913,     2113, -32.5005,-105.4958,        0.0,1,      0.062,1,      4.690,1,      0.130,1,     -999.0,1,     -999.0,9,     -999.0,9,     -999.0,9,     -999.0,9,     -999.0,9,     -999.0,9,     -999.0,9,     -999.0,9,     -999.0,9,     -999.0,9,     2.5427,2,     -999.0,     -999.0,9,     -999.0
320620170820,        P06,     198,          2,         11,         11,2,20170913,       2030,   -32.4999,  -105.4964,       3277,  1617.3,   2.7173,  34.5756,2,  34.5759,2, 134.4581,2,   133.92,2,    96.1,2,   37.15,2,    0.00,2,    2.59,2,   0.041,2,   0.033,2,   0.0000,2,  2292.0,2,  2363.6,2,   7.5311,2,    25.00, -999.00,9, -999.00,9, -999.00,    38.6,2, -999.00,9,     -999.0,1,  -999.0,1, 20170913,     2116, -32.5005,-105.4958,        0.0,1,      0.061,1,      4.689,1,      0.130,1,     -999.0,1,     -999.0,9,     -999.0,9,     -999.0,9,     -999.0,9,     -999.0,9,     -999.0,9,     -999.0,9,     -999.0,9,     -999.0,9,     -999.0,9,     2.7013,2,     -999.0,     -999.0,9,     -999.0
320620170820,        P06,     198,          2,         12,         12,2,20170913,       2030,   -32.4999,  -105.4964,       3277,  1513.5,   2.9285,  34.5556,2,  34.5567,2, 127.9898,2, 128.0015,2,    91.2,2,   37.71,2,    0.00,2,    2.64,2,   0.041,2,   0.035,2,   0.0000,2,  2292.4,2,  2358.3,2,   7.5187,2,    25.00, -999.00,9, -999.00,9, -999.00,    39.2,2, -999.00,9,     -999.0,1,  -999.0,1, 20170913,     2120, -32.5005,-105.4959,        0.0,1,      0.061,1,      4.689,1,      0.132,1,     -999.0,1,     -999.0,9,     -999.0,9,     -999.0,9,     -999.0,9,     -999.0,9,     -999.0,9,     -999.0,9,     -999.0,9,     -999.0,9,     -999.0,9,     2.9155,2,     -999.0,     -999.0,9,     -999.0
320620170820,        P06,     198,          2,         13,         13,2,20170913,       2030,   -32.4999,  -105.4964,       3277,  1413.9,   3.1029,  34.5342,2,  34.5339,2, 124.3673,2, 124.4975,2,    85.1,2,   38.05,2,    0.00,2,    2.66,2,   0.040,2,   0.033,2,   0.0000,2,  2286.1,6,  2351.9,6,   7.5117,2,    25.00, -999.00,9, -999.00,9, -999.00,    38.6,2, -999.00,9,     -999.0,1,  -999.0,1, 20170913,     2123, -32.5005,-105.4959,        0.0,1,      0.060,1,      4.689,1,      0.132,1,     -999.0,1,     -999.0,9,     -999.0,9,     -999.0,9,     -999.0,9,     -999.0,9,     -999.0,9,     -999.0,9,     -999.0,9,     -999.0,9,     -999.0,9,     3.1105,2,     -999.0,     -999.0,9,     -999.0
320620170820,        P06,     198,          2,         14,         14,2,20170913,       2030,   -32.4999,  -105.4964,       3277,  1210.3,   3.4622,  34.4623,2,  34.4534,2,  133.016,2, 133.2685,2,    65.8,2,   37.64,2,    0.00,2,    2.61,2,   0.079,2,   0.057,2,   0.0340,2,  2265.9,2,  2329.3,2,   7.5131,2,    25.00, -999.00,9, -999.00,9, -999.00,    42.4,2, -999.00,9,     -999.0,1,  -999.0,1, 20170913,     2128, -32.5006,-105.4957,        0.0,1,      0.061,1,      4.689,1,      0.131,1,     -999.0,1,     -999.0,9,     -999.0,9,     -999.0,9,     -999.0,9,     -999.0,9,     -999.0,9,     -999.0,9,     -999.0,9,     -999.0,9,     -999.0,9,     3.4960,2,     -999.0,     -999.0,9,     -999.0
320620170820,        P06,     198,          2,         15,         15,2,20170913,       2030,   -32.4999,  -105.4964,       3277,  1007.9,   3.9275,  34.3357,2,  34.3323,2, 180.6903,2, 181.1313,2,    38.6,2,   33.67,2,    0.00,2,    2.31,2,   0.596,2,   0.321,2,   0.0150,2,  2216.3,2,  2299.9,2,   7.5798,2,    25.00, -999.00,9, -999.00,9, -999.00,    42.4,2, -999.00,9,     -999.0,1,  -999.0,1, 20170913,     2133, -32.5005,-105.4958,        0.0,1,      0.061,1,      4.690,1,      0.132,1,     -999.0,1,     -999.0,9,     -999.0,9,     -999.0,9,     -999.0,9,     -999.0,9,     -999.0,9,     -999.0,9,     -999.0,9,     -999.0,9,     -999.0,9,     3.9471,2,     -999.0,     -999.0,9,     -999.0
320620170820,        P06,     198,          2,         16,         16,2,20170913,       2030,   -32.4999,  -105.4964,       3277,   906.8,   4.4231,  34.2939,2,  34.2866,2,  202.681,2, 201.7724,2,    26.2,2,   31.19,2,    0.00,2,    2.11,2,   1.471,2,   0.745,2,   0.1320,2,  -999.0,9,  -999.0,9,-999.0000,9,  -999.00, -999.00,9, -999.00,9, -999.00,  -999.0,9, -999.00,9,     -999.0,9,  -999.0,1, 20170913,     2137, -32.5005,-105.4960,        0.0,1,      0.060,1,      4.690,1,      0.136,1,     -999.0,1,     -999.0,9,     -999.0,9,     -999.0,9,     -999.0,9,     -999.0,9,     -999.0,9,     -999.0,9,     -999.0,9,     -999.0,9,     -999.0,9,     4.5212,2,     -999.0,     -999.0,9,     -999.0
320620170820,        P06,     198,          2,         17,         17,2,20170913,       2030,   -32.4999,  -105.4964,       3277,   805.6,   5.0579,  34.2653,2,  34.2652,2, 217.1319,2,  217.303,2,    17.5,2,   28.94,2,    0.00,2,    1.95,2,   2.357,2,   1.202,2,   0.2850,2,  2175.0,2,  2280.8,2,   7.6402,2,    25.00, -999.00,9, -999.00,9, -999.00,    41.6,2, -999.00,9,     -999.0,1,  -999.0,1, 20170913,     2140, -32.5004,-105.4960,        0.0,1,      0.059,1,      4.689,1,      0.133,1,     -999.0,1,     -999.0,9,     -999.0,9,     -999.0,9,     -999.0,9,     -999.0,9,     -999.0,9,     -999.0,9,     -999.0,9,     -999.0,9,     -999.0,9,     5.0457,2,     -999.0,     -999.0,9,     -999.0
320620170820,        P06,     198,          2,         18,         18,2,20170913,       2030,   -32.4999,  -105.4964,       3277,   704.9,   5.5500,  34.2650,2,  34.2638,2, 238.2244,2, 238.8705,2,    11.4,2,   25.98,2,    0.00,2,    1.74,2,   3.151,2,   1.567,2,   0.5150,2,  -999.0,9,  -999.0,9,-999.0000,9,  -999.00, -999.00,9, -999.00,9, -999.00,  -999.0,9, -999.00,9,     -999.0,9,  -999.0,1, 20170913,     2143, -32.5004,-105.4962,        0.0,1,      0.058,1,      4.689,1,      0.130,1,     -999.0,1,     -999.0,9,     -999.0,9,     -999.0,9,     -999.0,9,     -999.0,9,     -999.0,9,     -999.0,9,     -999.0,9,     -999.0,9,     -999.0,9,     5.5521,2,     -999.0,     -999.0,9,     -999.0
320620170820,        P06,     198,          2,         19,         19,2,20170913,       2030,   -32.4999,  -105.4964,       3277,   602.8,   6.0202,  34.2818,2,  34.2813,2,  245.617,2, 245.7987,2,     8.7,2,   24.29,2,    0.00,2,    1.62,2,   3.622,6,   1.864,6,   0.8035,6,  2148.2,2,  2276.4,2,   7.6957,2,    25.00, -999.00,9, -999.00,9, -999.00,    41.5,2, -999.00,9,     -999.0,1,  -999.0,1, 20170913,     2146, -32.5003,-105.4963,        0.0,1,      0.059,1,      4.688,1,      0.132,1,     -999.0,1,     -999.0,9,     -999.0,9,     -999.0,9,     -999.0,9,     -999.0,9,     -999.0,9,     -999.0,9,     -999.0,9,     -999.0,9,     -999.0,9,     6.0144,2,     -999.0,     -999.0,9,     -999.0
320620170820,        P06,     198,          2,         20,         20,2,20170913,       2030,   -32.4999,  -105.4964,       3277,   502.1,   6.5162,  34.2965,2,  34.2952,3, 226.3819,2, 227.6473,2,     8.2,2,   24.60,2,    0.00,2,    1.66,2,   3.639,2,   1.910,2,   0.9390,2,  -999.0,9,  -999.0,9,-999.0000,9,  -999.00, -999.00,9, -999.00,9, -999.00,    44.6,2, -999.00,9,     -999.0,1,  -999.0,1, 20170913,     2150, -32.5003,-105.4963,        0.0,1,      0.060,1,      4.686,1,      0.136,1,     -999.0,1,     -999.0,9,     -999.0,9,     -999.0,9,     -999.0,9,     -999.0,9,     -999.0,9,     -999.0,9,     -999.0,9,     -999.0,9,     -999.0,9,     6.5603,2,     -999.0,     -999.0,9,     -999.0
320620170820,        P06,     198,          2,         21,         21,2,20170913,       2030,   -32.4999,  -105.4964,       3277,   453.6,   6.9083,  34.2936,2,  34.2936,2, 216.6109,3, 213.8696,2,     8.2,2,   25.00,2,    0.00,2,    1.69,2,   3.521,2,   1.865,2,   0.8540,2,  2165.6,2,  2272.1,2,   7.6487,2,    25.00, -999.00,9, -999.00,9, -999.00,    51.0,3, -999.00,9,     -999.0,1,  -999.0,1, 20170913,     2152, -32.5003,-105.4962,        0.0,1,      0.060,1,      4.685,1,      0.134,1,     -999.0,1,     -999.0,9,     -999.0,9,     -999.0,9,     -999.0,9,     -999.0,9,     -999.0,9,     -999.0,9,     -999.0,9,     -999.0,9,     -999.0,9,     6.8579,2,     -999.0,     -999.0,9,     -999.0
320620170820,        P06,     198,          2,         22,         22,2,20170913,       2030,   -32.4999,  -105.4964,       3277,   403.7,   7.4578,  34.2754,2,  34.2711,2, 218.5242,2,    210.2,2,     6.8,2,   23.76,2,    0.00,2,    1.63,2,   3.494,2,   1.877,2,   1.0700,2,  -999.0,9,  -999.0,9,-999.0000,9,  -999.00, -999.00,9, -999.00,9, -999.00,    46.7,3, -999.00,9,     -999.0,1,  -999.0,1, 20170913,     2154, -32.5004,-105.4962,        0.0,1,      0.060,1,      4.685,1,      0.134,1,     -999.0,1,     -999.0,9,     -999.0,9,     -999.0,9,     -999.0,9,     -999.0,9,     -999.0,9,     -999.0,9,     -999.0,9,     -999.0,9,     -999.0,9,     7.4136,2,     -999.0,     -999.0,9,     -999.0
320620170820,        P06,     198,          2,         23,         23,2,20170913,       2030,   -32.4999,  -105.4964,       3277,   303.2,  10.0849,  34.3506,2,  34.3609,2, 212.7031,2, 211.4246,2,     2.3,2,   15.56,2,    0.00,2,    1.09,2,   3.233,2,   1.789,2,   1.2460,2,  2126.7,2,  2269.6,2,   7.7468,2,    25.00, -999.00,9, -999.00,9, -999.00,    45.6,2, -999.00,9,     -999.0,1,  -999.0,1, 20170913,     2157, -32.5004,-105.4960,        0.0,1,      0.059,1,      4.683,1,      0.135,1,     -999.0,1,     -999.0,9,     -999.0,9,     -999.0,9,     -999.0,9,     -999.0,9,     -999.0,9,     -999.0,9,     -999.0,9,     -999.0,9,     -999.0,9,    10.3820,2,     -999.0,     -999.0,9,     -999.0
320620170820,        P06,     198,          2,         24,         24,2,20170913,       2030,   -32.4999,  -105.4964,       3277,   253.1,  12.4073,  34.5212,2,  34.5245,2, 205.2349,2, 212.5237,2,     1.0,2,   10.29,2,    0.00,2,    0.76,2,   2.957,2,   1.671,2,   1.2050,2,  -999.0,9,  -999.0,9,-999.0000,9,  -999.00, -999.00,9, -999.00,9, -999.00,  -999.0,9, -999.00,9,     -999.0,9,  -999.0,1, 20170913,     2200, -32.5005,-105.4957,        0.0,1,      0.060,1,      4.680,1,      0.134,1,     -999.0,1,     -999.0,1,     -999.0,9,     -999.0,9,     -999.0,9,     -999.0,9,     -999.0,9,     -999.0,9,     -999.0,9,     -999.0,9,     -999.0,9,    12.4369,2,     -999.0,     -999.0,9,     -999.0
320620170820,        P06,     198,          2,         25,         25,2,20170913,       2030,   -32.4999,  -105.4964,       3277,   202.3,  14.0846,  34.6247,2,  34.6453,2, 217.5201,2, 220.8438,2,     0.3,2,    5.11,2,    0.09,2,    0.46,2,   2.594,2,   1.539,2,   1.3770,2,  2080.8,2,  2282.4,2,   7.8657,2,    25.00, -999.00,9, -999.00,9, -999.00,    51.9,2,    7.60,2,     -999.0,1,  -999.0,1, 20170913,     2202, -32.5004,-105.4958,        0.0,1,      0.072,1,      4.675,1,      0.133,1,     -999.0,1,     -999.0,1,     -999.0,9,     -999.0,9,     -999.0,9,     -999.0,9,     -999.0,9,     -999.0,9,     -999.0,9,     -999.0,9,     -999.0,9,    14.3011,2,     -999.0,     -999.0,9,     -999.0
320620170820,        P06,     198,          2,         26,         26,2,20170913,       2030,   -32.4999,  -105.4964,       3277,   176.1,  15.3125,  34.7572,2,  34.7726,2, 218.5257,2, 226.1649,2,     0.1,2,    2.23,2,    0.19,2,    0.30,2,   2.439,2,   1.467,2,   1.4290,2,  2072.4,2,  2289.4,2,   7.9025,2,    25.00, -999.00,9, -999.00,9, -999.00,    54.0,2,    5.50,2,     -999.0,1,  -999.0,1, 20170913,     2203, -32.5003,-105.4960,        0.0,1,      0.086,1,      4.670,1,      0.140,1,     -999.0,1,     -999.0,1,     -999.0,9,     -999.0,9,     -999.0,9,     -999.0,9,     -999.0,9,     -999.0,9,     -999.0,9,     -999.0,9,     -999.0,9,    15.5747,2,     -999.0,     -999.0,9,     -999.0