BOTTLE,20240211CCHSIOCBG
EXPOCODE,SECT_ID,STNNBR,CASTNO,SAMPNO,BTLNBR,BTLNBR_FLAG_W,DATE,TIME,LATITUDE,LONGITUDE,DEPTH,CTDPRS,CTDTMP,CTDSAL,CTDSAL_FLAG_W,SALNTY,SALNTY_FLAG_W,CTDOXY,CTDOXY_FLAG_W,OXYGEN,OXYGEN_FLAG_W,SILCAT,SILCAT_FLAG_W,NITRAT,NITRAT_FLAG_W,NITRIT,NITRIT_FLAG_W,PHSPHT,PHSPHT_FLAG_W,CFC-11,CFC-11_FLAG_W,CFC-12,CFC-12_FLAG_W,SF6,SF6_FLAG_W,TCARBN,TCARBN_FLAG_W,ALKALI,ALKALI_FLAG_W,PH_TOT,PH_TOT_FLAG_W,PH_TMP,DELC13,DELC13_FLAG_W,DELC14,DELC14_FLAG_W,C14ERR,DOC,DOC_FLAG_W,TDN,TDN_FLAG_W,TON,TON_FLAG_W,D15N_NO3,D15N_NO3_FLAG_W,BTL_DATE,BTL_TIME,BTL_LAT,BTL_LON,CTDRINKO,CTDRINKO_FLAG_W,CTDFLUOR,CTDFLUOR_FLAG_W,CTDXMISS,CTDXMISS_FLAG_W,CTDBACKSCATTER,CTDBACKSCATTER_FLAG_W,D18O_NO3,D18O_NO3_FLAG_W,DOP,DOP_FLAG_W,CELLCOUNT,CELLCOUNT_FLAG_W,TDP,TDP_FLAG_W,POP,POP_FLAG_W,DATP,DATP_FLAG_W,PATP,PATP_FLAG_W,HPLC,HPLC_FLAG_W,POC,POC_FLAG_W,BEAMAP,BEAMAP_FLAG_W,DOC_NASA,DOC_NASA_FLAG_W,REFTMP,REFTMP_FLAG_W,DOC_NASA_ERROR,TDN_NASA,TDN_NASA_FLAG_W,TDN_NASA_ERROR
,,,,,,,,,,,METERS,DBAR,ITS-90,PSS-78,,PSS-78,,UMOL/KG,,UMOL/KG,,UMOL/KG,,UMOL/KG,,UMOL/KG,,UMOL/KG,,PMOL/KG,,PMOL/KG,,FMOL/KG,,UMOL/KG,,UMOL/KG,,,,DEG C,/MILLE,,/MILLE,,/MILLE,UMOL/KG,,UMOL/KG,,UMOL/KG,,/MILLE,,,,,,VOLTS,,VOLTS,,VOLTS,,VOLTS,,/MILLE,,UMOL/KG,,/LITER,,UMOL/KG,,UMOL/L,,PMOL/L,,PMOL/L,,,,UG/L,,/METER,,UMOL/L,,ITS-90,,UMOL/L,UMOL/L,,UMOL/L
320620170820,        P06,     204,          1,         27,         27,2,20170915,       1418,   -32.5004,  -101.3555,       3640,   301.8,   9.8559,  34.3404,2,  34.2952,2, 225.7998,2, 226.3517,2,     2.4,2,   17.46,2,    0.00,2,    1.38,2,   3.490,2,   1.907,2,   1.2300,2,  2128.8,2,  2269.8,2,   7.7315,2,    25.00, -999.00,9, -999.00,9, -999.00,    42.2,2, -999.00,9,     -999.0,1,  -999.0,1, 20170915,     1541, -32.5004,-101.3553,        0.0,1,      0.060,1,      4.681,1,      0.132,1,     -999.0,1,     -999.0,1,     -999.0,9,     -999.0,9,     -999.0,9,     -999.0,9,     -999.0,9,     -999.0,9,     -999.0,9,     -999.0,9,     -999.0,9,     9.2074,2,     -999.0,     -999.0,9,     -999.0
320620170820,        P06,     204,          1,         28,         28,2,20170915,       1418,   -32.5004,  -101.3555,       3640,   250.9,  11.6525,  34.4461,2,  34.4353,2, 220.0872,2, 219.5956,2,     1.1,2,   12.23,2,    0.00,2,    1.05,2,   3.156,2,   1.758,2,   1.3510,2,  2110.6,2,  2271.9,2,   7.7836,2,    25.00, -999.00,9, -999.00,9, -999.00,    43.7,2,   14.50,2,     -999.0,1,  -999.0,1, 20170915,     1543, -32.5004,-101.3554,        0.0,1,      0.061,1,      4.678,1,      0.133,1,     -999.0,1,     -999.0,1,     -999.0,9,     -999.0,9,     -999.0,9,     -999.0,9,     -999.0,9,     -999.0,9,     -999.0,9,     -999.0,9,     -999.0,9,    11.2958,2,     -999.0,     -999.0,9,     -999.0
320620170820,        P06,     204,          1,         29,         29,2,20170915,       1418,   -32.5004,  -101.3555,       3640,   200.2,  13.3289,  34.5027,2,  34.5245,2, 225.4913,2,  223.759,2,     0.3,2,    6.58,2,    0.02,2,    0.71,2,   2.824,2,   1.615,2,   1.4150,2,  2088.0,2,  2276.2,6,   7.8423,2,    25.00, -999.00,9, -999.00,9, -999.00,    48.2,2,   10.10,2,     -999.0,1,  -999.0,1, 20170915,     1545, -32.5004,-101.3555,        0.0,1,      0.075,1,      4.672,1,      0.137,1,     -999.0,1,     -999.0,1,     -999.0,9,     -999.0,9,     -999.0,9,     -999.0,9,     -999.0,9,     -999.0,9,     -999.0,9,     -999.0,9,     -999.0,9,    13.2806,2,     -999.0,     -999.0,9,     -999.0
320620170820,        P06,     204,          1,         30,         30,2,20170915,       1418,   -32.5004,  -101.3555,       3640,   150.0,  15.5343,  34.7304,2,  34.7250,2, 239.6711,2, 237.0707,2,     0.0,2,    0.63,2,    0.20,2,    0.34,2,   2.400,2,   1.428,2,   1.4010,2,  2056.0,2,  2287.2,2,   7.9296,6,    25.00, -999.00,9, -999.00,9, -999.00,    56.8,2,    4.50,2,     -999.0,1,  -999.0,1, 20170915,     1547, -32.5004,-101.3555,        0.0,1,      0.121,1,      4.658,1,      0.152,1,     -999.0,1,     -999.0,1,     -999.0,9,     -999.0,9,     -999.0,9,     -999.0,9,     -999.0,9,     -999.0,9,     -999.0,9,     -999.0,9,     -999.0,9,    16.2067,2,     -999.0,     -999.0,9,     -999.0
320620170820,        P06,     204,          1,         31,         31,2,20170915,       1418,   -32.5004,  -101.3555,       3640,   125.5,  16.6676,  34.8006,2,  34.7919,2,  242.783,2,  243.419,2,     0.0,2,    0.02,2,    0.03,2,    0.26,2,   2.299,2,   1.364,2,   1.5090,2,  2047.7,2,  2293.5,2,   7.9533,2,    25.00, -999.00,9, -999.00,9, -999.00,    61.3,2,    4.40,2,     -999.0,1,  -999.0,1, 20170915,     1548, -32.5004,-101.3556,        0.0,1,      0.165,1,      4.623,1,      0.208,1,     -999.0,1,     -999.0,1,     -999.0,9,     -999.0,9,     -999.0,9,     -999.0,9,     -999.0,9,     -999.0,9,     -999.0,9,     -999.0,9,     -999.0,9,    16.6472,2,     -999.0,     -999.0,9,     -999.0
320620170820,        P06,     204,          1,         32,         32,2,20170915,       1418,   -32.5004,  -101.3555,       3640,    99.7,  16.6943,  34.8009,2,  34.7813,2, 242.2056,2, 243.8322,2,     0.0,2,    0.03,2,    0.02,2,    0.15,2,   2.289,2,   1.363,2,   1.4310,2,  2046.9,2,  2293.7,2,   7.9540,2,    25.00, -999.00,9, -999.00,9, -999.00,    60.1,2,    3.60,2,     -999.0,1,  -999.0,1, 20170915,     1549, -32.5004,-101.3556,        0.0,1,      0.161,1,      4.618,1,      0.208,1,     -999.0,1,     -999.0,1,     -999.0,9,     -999.0,9,     -999.0,9,     -999.0,9,     -999.0,9,     -999.0,9,     -999.0,9,     -999.0,9,     -999.0,9,    16.5941,2,     -999.0,     -999.0,9,     -999.0
320620170820,        P06,     204,          1,         33,         33,2,20170915,       1418,   -32.5004,  -101.3555,       3640,    74.1,  16.9297,  34.8685,2,  34.8344,2, 242.0857,2, 243.1429,2,     0.0,2,    0.00,2,    0.02,2,    0.18,2,   2.287,2,   1.362,2,   1.4990,2,  -999.0,9,  -999.0,9,-999.0000,9,  -999.00, -999.00,9, -999.00,9, -999.00,    61.9,2,    4.60,2,     -999.0,1,  -999.0,1, 20170915,     1551, -32.5004,-101.3556,        0.0,1,      0.147,1,      4.618,1,      0.201,1,     -999.0,1,     -999.0,1,     -999.0,9,     -999.0,9,     -999.0,9,     -999.0,9,     -999.0,9,     -999.0,9,     -999.0,9,     -999.0,9,     -999.0,9,    16.8688,2,     -999.0,     -999.0,9,     -999.0
320620170820,        P06,     204,          1,         34,         34,2,20170915,       1418,   -32.5004,  -101.3555,       3640,    49.3,  16.9296,  34.8695,2,  34.8694,2, 241.8731,2, 242.8754,2,     0.0,2,    0.01,2,    0.00,2,    0.12,2,   2.261,2,   1.351,2,   1.4790,2,  2047.9,2,  2296.9,2,   7.9587,2,    25.00, -999.00,9, -999.00,9, -999.00,    61.1,2,    4.40,2,     -999.0,1,  -999.0,1, 20170915,     1552, -32.5004,-101.3555,        0.0,1,      0.149,1,      4.619,1,      0.201,1,     -999.0,1,     -999.0,1,     -999.0,9,     -999.0,9,     -999.0,9,     -999.0,9,     -999.0,9,     -999.0,9,     -999.0,9,     -999.0,9,     -999.0,9,    16.9170,2,     -999.0,     -999.0,9,     -999.0
320620170820,        P06,     204,          1,         35,         35,2,20170915,       1418,   -32.5004,  -101.3555,       3640,    23.1,  16.9165,  34.8670,2,  34.8849,2, 241.4773,2, 242.2346,2,     0.0,2,    0.00,2,    0.00,2,    0.12,2,   2.250,2,   1.335,2,   1.4130,2,  2048.3,2,  2298.7,2,   7.9583,2,    25.00, -999.00,9, -999.00,9, -999.00,    61.1,2,    3.60,2,     -999.0,1,  -999.0,1, 20170915,     1554, -32.5004,-101.3555,        0.0,1,      0.148,1,      4.616,1,      0.209,1,     -999.0,1,     -999.0,1,     -999.0,9,     -999.0,9,     -999.0,9,     -999.0,9,     -999.0,9,     -999.0,9,     -999.0,9,     -999.0,9,     -999.0,9,    16.9846,2,     -999.0,     -999.0,9,     -999.0
320620170820,        P06,     204,          1,         36,         36,2,20170915,       1418,   -32.5004,  -101.3555,       3640,     7.7,  16.9185,  34.8689,2,  34.8847,2, 241.2596,2, 242.5836,2,     0.0,2,    0.00,2,    0.00,2,    0.13,2,   2.312,6,   1.341,6,   1.4860,6,  2049.0,6,  2297.9,2,   7.9589,2,    25.00, -999.00,9, -999.00,9, -999.00,    63.2,2,    3.70,2,     -999.0,1,  -999.0,1, 20170915,     1555, -32.5004,-101.3555,        0.0,1,      0.150,1,      4.619,1,      0.193,1,     -999.0,1,     -999.0,1,     -999.0,9,     -999.0,9,     -999.0,9,     -999.0,9,     -999.0,9,     -999.0,9,     -999.0,9,     -999.0,9,     -999.0,9,    16.9755,2,     -999.0,     -999.0,9,     -999.0