BOTTLE,20240211CCHSIOCBG
EXPOCODE,SECT_ID,STNNBR,CASTNO,SAMPNO,BTLNBR,BTLNBR_FLAG_W,DATE,TIME,LATITUDE,LONGITUDE,DEPTH,CTDPRS,CTDTMP,CTDSAL,CTDSAL_FLAG_W,SALNTY,SALNTY_FLAG_W,CTDOXY,CTDOXY_FLAG_W,OXYGEN,OXYGEN_FLAG_W,SILCAT,SILCAT_FLAG_W,NITRAT,NITRAT_FLAG_W,NITRIT,NITRIT_FLAG_W,PHSPHT,PHSPHT_FLAG_W,CFC-11,CFC-11_FLAG_W,CFC-12,CFC-12_FLAG_W,SF6,SF6_FLAG_W,TCARBN,TCARBN_FLAG_W,ALKALI,ALKALI_FLAG_W,PH_TOT,PH_TOT_FLAG_W,PH_TMP,DELC13,DELC13_FLAG_W,DELC14,DELC14_FLAG_W,C14ERR,DOC,DOC_FLAG_W,TDN,TDN_FLAG_W,TON,TON_FLAG_W,D15N_NO3,D15N_NO3_FLAG_W,BTL_DATE,BTL_TIME,BTL_LAT,BTL_LON,CTDRINKO,CTDRINKO_FLAG_W,CTDFLUOR,CTDFLUOR_FLAG_W,CTDXMISS,CTDXMISS_FLAG_W,CTDBACKSCATTER,CTDBACKSCATTER_FLAG_W,D18O_NO3,D18O_NO3_FLAG_W,DOP,DOP_FLAG_W,CELLCOUNT,CELLCOUNT_FLAG_W,TDP,TDP_FLAG_W,POP,POP_FLAG_W,DATP,DATP_FLAG_W,PATP,PATP_FLAG_W,HPLC,HPLC_FLAG_W,POC,POC_FLAG_W,BEAMAP,BEAMAP_FLAG_W,DOC_NASA,DOC_NASA_FLAG_W,REFTMP,REFTMP_FLAG_W,DOC_NASA_ERROR,TDN_NASA,TDN_NASA_FLAG_W,TDN_NASA_ERROR
,,,,,,,,,,,METERS,DBAR,ITS-90,PSS-78,,PSS-78,,UMOL/KG,,UMOL/KG,,UMOL/KG,,UMOL/KG,,UMOL/KG,,UMOL/KG,,PMOL/KG,,PMOL/KG,,FMOL/KG,,UMOL/KG,,UMOL/KG,,,,DEG C,/MILLE,,/MILLE,,/MILLE,UMOL/KG,,UMOL/KG,,UMOL/KG,,/MILLE,,,,,,VOLTS,,VOLTS,,VOLTS,,VOLTS,,/MILLE,,UMOL/KG,,/LITER,,UMOL/KG,,UMOL/L,,PMOL/L,,PMOL/L,,,,UG/L,,/METER,,UMOL/L,,ITS-90,,UMOL/L,UMOL/L,,UMOL/L
320620170820,        P06,     205,          3,          1,          1,2,20170915,       2157,   -32.4999,  -100.6651,       3532,  3577.2,   1.7761,  34.6909,2,  34.6883,2, 167.2524,2, 166.9447,2,   118.3,2,   34.20,2,    0.00,2,    2.37,2,   0.036,2,   0.020,2,   0.0000,2,  2294.5,6,  2389.7,2,   7.5903,2,    25.00, -999.00,9, -999.00,9, -999.00,  -999.0,9, -999.00,9,     -999.0,9,  -999.0,9, 20170915,     2157, -32.5008,-100.6649,        0.0,1,      0.061,1,      4.685,1,      0.133,1,     -999.0,9,     -999.0,9,     -999.0,9,     -999.0,9,     -999.0,9,     -999.0,9,     -999.0,9,     -999.0,9,     -999.0,9,     -999.0,9,     -999.0,9,     1.7764,2,     -999.0,     -999.0,9,     -999.0
320620170820,        P06,     205,          3,          2,          2,2,20170915,       2157,   -32.4999,  -100.6651,       3532,  3452.7,   1.7632,  34.6910,2,  34.6885,2, 167.2524,2,  167.078,2,   118.4,2,   34.17,2,    0.00,2,    2.38,2,   0.033,2,   0.023,2,   0.0000,2,  -999.0,9,  -999.0,9,-999.0000,9,  -999.00, -999.00,9, -999.00,9, -999.00,  -999.0,9, -999.00,9,     -999.0,9,  -999.0,9, 20170915,     2200, -32.5007,-100.6649,        0.0,1,      0.061,1,      4.686,1,      0.131,1,     -999.0,9,     -999.0,9,     -999.0,9,     -999.0,9,     -999.0,9,     -999.0,9,     -999.0,9,     -999.0,9,     -999.0,9,     -999.0,9,     -999.0,9,     1.7631,2,     -999.0,     -999.0,9,     -999.0
320620170820,        P06,     205,          3,          3,          3,2,20170915,       2157,   -32.4999,  -100.6651,       3532,  3313.0,   1.7502,  34.6909,2,  34.6897,2, 167.2524,2,  166.979,2,   118.4,2,   34.22,2,    0.00,2,    2.38,2,   0.032,2,   0.022,2,   0.0000,2,  2294.5,2,  2390.4,2,   7.5910,2,    25.00, -999.00,9, -999.00,9, -999.00,  -999.0,9, -999.00,9,     -999.0,9,  -999.0,9, 20170915,     2204, -32.5006,-100.6651,        0.0,1,      0.062,1,      4.686,1,      0.133,1,     -999.0,9,     -999.0,9,     -999.0,9,     -999.0,9,     -999.0,9,     -999.0,9,     -999.0,9,     -999.0,9,     -999.0,9,     -999.0,9,     -999.0,9,     1.7503,2,     -999.0,     -999.0,9,     -999.0
320620170820,        P06,     205,          3,          4,          4,2,20170915,       2157,   -32.4999,  -100.6651,       3532,  3109.3,   1.7355,  34.6904,2,  34.6891,2, 167.2524,2, 167.5886,2,   118.1,2,   34.18,2,    0.00,2,    2.38,2,   0.043,2,   0.028,2,   0.0000,2,  -999.0,9,  -999.0,9,-999.0000,9,  -999.00, -999.00,9, -999.00,9, -999.00,  -999.0,9, -999.00,9,     -999.0,9,  -999.0,9, 20170915,     2208, -32.5006,-100.6652,        0.0,1,      0.061,1,      4.687,1,      0.127,1,     -999.0,9,     -999.0,9,     -999.0,9,     -999.0,9,     -999.0,9,     -999.0,9,     -999.0,9,     -999.0,9,     -999.0,9,     -999.0,9,     -999.0,9,     1.7345,2,     -999.0,     -999.0,9,     -999.0
320620170820,        P06,     205,          3,          5,          5,2,20170915,       2157,   -32.4999,  -100.6651,       3532,  2906.4,   1.7301,  34.6892,2,  34.6883,2,  167.048,2, 167.7173,2,   117.9,2,   34.14,2,    0.00,2,    2.38,2,   0.034,2,   0.024,2,   0.0000,2,  2294.1,2,  2387.8,2,   7.5891,2,    25.00, -999.00,9, -999.00,9, -999.00,  -999.0,9, -999.00,9,     -999.0,9,  -999.0,9, 20170915,     2213, -32.5005,-100.6650,        0.0,1,      0.061,1,      4.688,1,      0.127,1,     -999.0,9,     -999.0,9,     -999.0,9,     -999.0,9,     -999.0,9,     -999.0,9,     -999.0,9,     -999.0,9,     -999.0,9,     -999.0,9,     -999.0,9,     1.7296,2,     -999.0,     -999.0,9,     -999.0
320620170820,        P06,     205,          3,          6,          6,2,20170915,       2157,   -32.4999,  -100.6651,       3532,  2701.0,   1.7547,  34.6857,2,  34.6824,2, 166.5838,2, 165.8735,2,   117.0,2,   34.21,2,    0.00,2,    2.39,2,-999.000,9,-999.000,9,-999.0000,9,  -999.0,9,  -999.0,9,-999.0000,9,  -999.00, -999.00,9, -999.00,9, -999.00,  -999.0,9, -999.00,9,     -999.0,9,  -999.0,9, 20170915,     2217, -32.5004,-100.6653,        0.0,1,      0.061,1,      4.689,1,      0.126,1,     -999.0,9,     -999.0,9,     -999.0,9,     -999.0,9,     -999.0,9,     -999.0,9,     -999.0,9,     -999.0,9,     -999.0,9,     -999.0,9,     -999.0,9,     1.7540,2,     -999.0,     -999.0,9,     -999.0
320620170820,        P06,     205,          3,          7,          7,2,20170915,       2157,   -32.4999,  -100.6651,       3532,  2497.9,   1.8198,  34.6784,2,  34.6775,2, 163.2837,2, 162.5086,2,   116.1,2,   34.46,2,    0.00,2,    2.39,2,   0.031,2,   0.024,2,   0.0000,2,  2294.1,2,  2385.6,2,   7.5816,2,    25.00, -999.00,9, -999.00,9, -999.00,  -999.0,9, -999.00,9,     -999.0,9,  -999.0,9, 20170915,     2222, -32.5003,-100.6651,        0.0,1,      0.061,1,      4.689,1,      0.127,1,     -999.0,9,     -999.0,9,     -999.0,9,     -999.0,9,     -999.0,9,     -999.0,9,     -999.0,9,     -999.0,9,     -999.0,9,     -999.0,9,     -999.0,9,     1.8165,2,     -999.0,     -999.0,9,     -999.0
320620170820,        P06,     205,          3,          8,          8,2,20170915,       2157,   -32.4999,  -100.6651,       3532,  2293.8,   1.9276,  34.6644,2,  34.6641,2, 158.2844,2, 159.2998,2,   113.4,2,   34.75,2,    0.00,2,    2.42,2,-999.000,9,-999.000,9,-999.0000,9,  -999.0,9,  -999.0,9,-999.0000,9,  -999.00, -999.00,9, -999.00,9, -999.00,  -999.0,9, -999.00,9,     -999.0,9,  -999.0,9, 20170915,     2226, -32.5003,-100.6651,        0.0,1,      0.061,1,      4.689,1,      0.128,1,     -999.0,9,     -999.0,9,     -999.0,9,     -999.0,9,     -999.0,9,     -999.0,9,     -999.0,9,     -999.0,9,     -999.0,9,     -999.0,9,     -999.0,9,     1.9253,2,     -999.0,     -999.0,9,     -999.0
320620170820,        P06,     205,          3,          9,          9,2,20170915,       2157,   -32.4999,  -100.6651,       3532,  2091.2,   2.0814,  34.6453,2,  34.6443,2, 156.5099,2, 157.5075,2,   108.3,2,   34.95,2,    0.00,2,    2.43,2,   0.041,2,   0.028,2,   0.0000,2,  2290.0,2,  2376.5,2,   7.5701,2,    25.00, -999.00,9, -999.00,9, -999.00,  -999.0,9, -999.00,9,     -999.0,9,  -999.0,9, 20170915,     2231, -32.5003,-100.6650,        0.0,1,      0.061,1,      4.689,1,      0.128,1,     -999.0,9,     -999.0,9,     -999.0,9,     -999.0,9,     -999.0,9,     -999.0,9,     -999.0,9,     -999.0,9,     -999.0,9,     -999.0,9,     -999.0,9,     2.0709,2,     -999.0,     -999.0,9,     -999.0
320620170820,        P06,     205,          3,         10,         10,2,20170915,       2157,   -32.4999,  -100.6651,       3532,  1887.7,   2.3200,  34.6145,2,  34.6142,2, 149.9422,2, 150.1303,2,   102.5,2,   35.59,2,    0.00,2,    2.48,2,-999.000,9,-999.000,9,-999.0000,9,  -999.0,9,  -999.0,9,-999.0000,9,  -999.00, -999.00,9, -999.00,9, -999.00,  -999.0,9, -999.00,9,     -999.0,9,  -999.0,9, 20170915,     2236, -32.5002,-100.6649,        0.0,1,      0.060,1,      4.689,1,      0.129,1,     -999.0,9,     -999.0,9,     -999.0,9,     -999.0,9,     -999.0,9,     -999.0,9,     -999.0,9,     -999.0,9,     -999.0,9,     -999.0,9,     -999.0,9,     2.3076,2,     -999.0,     -999.0,9,     -999.0
320620170820,        P06,     205,          3,         11,         11,2,20170915,       2157,   -32.4999,  -100.6651,       3532,  1755.3,   2.5222,  34.5920,2,  34.5928,2, 143.4584,2, 143.9315,2,    98.6,2,   36.22,2,    0.00,2,    2.53,2,   0.037,2,   0.027,2,   0.0000,2,  2288.7,2,  2367.3,2,   7.5453,2,    25.00, -999.00,9, -999.00,9, -999.00,  -999.0,9, -999.00,9,     -999.0,9,  -999.0,9, 20170915,     2239, -32.5002,-100.6651,        0.0,1,      0.062,1,      4.688,1,      0.130,1,     -999.0,9,     -999.0,9,     -999.0,9,     -999.0,9,     -999.0,9,     -999.0,9,     -999.0,9,     -999.0,9,     -999.0,9,     -999.0,9,     -999.0,9,     2.5072,2,     -999.0,     -999.0,9,     -999.0
320620170820,        P06,     205,          3,         12,         12,2,20170915,       2157,   -32.4999,  -100.6651,       3532,  1652.3,   2.6970,  34.5771,2,  34.5759,2, 136.9198,2, 136.2869,2,    95.7,2,   36.80,2,    0.00,2,    2.56,2,-999.000,9,-999.000,9,-999.0000,9,  -999.0,9,  -999.0,9,-999.0000,9,  -999.00, -999.00,9, -999.00,9, -999.00,  -999.0,9, -999.00,9,     -999.0,9,  -999.0,9, 20170915,     2242, -32.5001,-100.6650,        0.0,1,      0.062,1,      4.688,1,      0.135,1,     -999.0,9,     -999.0,9,     -999.0,9,     -999.0,9,     -999.0,9,     -999.0,9,     -999.0,9,     -999.0,9,     -999.0,9,     -999.0,9,     -999.0,9,     2.6853,2,     -999.0,     -999.0,9,     -999.0
320620170820,        P06,     205,          3,         13,         13,2,20170915,       2157,   -32.4999,  -100.6651,       3532,  1551.7,   2.8878,  34.5595,2,  34.5578,2, 130.8182,2, 130.3695,2,    91.4,2,   37.36,2,    0.00,2,    2.62,2,   0.037,2,   0.023,2,   0.0000,2,  -999.0,9,  -999.0,9,-999.0000,9,  -999.00, -999.00,9, -999.00,9, -999.00,  -999.0,9, -999.00,9,     -999.0,9,  -999.0,9, 20170915,     2245, -32.5000,-100.6649,        0.0,1,      0.061,1,      4.688,1,      0.131,1,     -999.0,9,     -999.0,9,     -999.0,9,     -999.0,9,     -999.0,9,     -999.0,9,     -999.0,9,     -999.0,9,     -999.0,9,     -999.0,9,     -999.0,9,     2.8786,2,     -999.0,     -999.0,9,     -999.0
320620170820,        P06,     205,          3,         14,         14,2,20170915,       2157,   -32.4999,  -100.6651,       3532,  1449.4,   3.0607,  34.5412,2,  34.5384,2, 124.5155,2, 124.3275,2,    86.7,2,   37.87,2,    0.00,2,    2.67,2,   0.042,2,   0.025,2,   0.0000,2,  2289.6,2,  2350.6,2,   7.5114,6,    25.00, -999.00,9, -999.00,9, -999.00,  -999.0,9, -999.00,9,     -999.0,9,  -999.0,9, 20170915,     2248, -32.5000,-100.6648,        0.0,1,      0.061,1,      4.688,1,      0.131,1,     -999.0,9,     -999.0,9,     -999.0,9,     -999.0,9,     -999.0,9,     -999.0,9,     -999.0,9,     -999.0,9,     -999.0,9,     -999.0,9,     -999.0,9,     3.0689,2,     -999.0,     -999.0,9,     -999.0
320620170820,        P06,     205,          3,         15,         15,2,20170915,       2157,   -32.4999,  -100.6651,       3532,  1247.3,   3.3719,  34.4762,2,  34.4679,2, 130.3512,2, 130.3117,2,    69.7,2,   37.72,2,    0.00,2,    2.63,2,   0.062,2,   0.042,2,   0.0000,2,  2271.3,6,  2331.1,2,   7.5104,2,    25.00, -999.00,9, -999.00,9, -999.00,  -999.0,9, -999.00,9,     -999.0,9,  -999.0,9, 20170915,     2252, -32.5000,-100.6649,        0.0,1,      0.062,1,      4.687,1,      0.132,1,     -999.0,9,     -999.0,9,     -999.0,9,     -999.0,9,     -999.0,9,     -999.0,9,     -999.0,9,     -999.0,9,     -999.0,9,     -999.0,9,     -999.0,9,     3.3856,2,     -999.0,     -999.0,9,     -999.0
320620170820,        P06,     205,          3,         16,         16,2,20170915,       2157,   -32.4999,  -100.6651,       3532,  1045.2,   3.8683,  34.3487,2,  34.3445,2, 174.7252,2,  173.528,2,    41.8,2,   34.29,2,    0.00,2,    2.35,2,   0.488,2,   0.261,2,   0.1130,2,  2221.3,2,  2302.8,6,   7.5672,2,    25.00, -999.00,9, -999.00,9, -999.00,  -999.0,9, -999.00,9,     -999.0,9,  -999.0,9, 20170915,     2257, -32.5000,-100.6649,        0.0,1,      0.060,1,      4.687,1,      0.132,1,     -999.0,9,     -999.0,9,     -999.0,9,     -999.0,9,     -999.0,9,     -999.0,9,     -999.0,9,     -999.0,9,     -999.0,9,     -999.0,9,     -999.0,9,     3.8866,2,     -999.0,     -999.0,9,     -999.0
320620170820,        P06,     205,          3,         17,         17,2,20170915,       2157,   -32.4999,  -100.6651,       3532,   943.9,   4.3613,  34.3026,2,  34.3009,2, 194.3716,2, 193.7603,2,    30.3,2,   32.06,2,    0.00,2,    2.19,2,   1.066,2,   0.522,2,   0.1210,2,  -999.0,9,  -999.0,9,-999.0000,9,  -999.00, -999.00,9, -999.00,9, -999.00,  -999.0,9, -999.00,9,     -999.0,9,  -999.0,9, 20170915,     2259, -32.4999,-100.6648,        0.0,1,      0.060,1,      4.689,1,      0.132,1,     -999.0,9,     -999.0,9,     -999.0,9,     -999.0,9,     -999.0,9,     -999.0,9,     -999.0,9,     -999.0,9,     -999.0,9,     -999.0,9,     -999.0,9,     4.3330,2,     -999.0,     -999.0,9,     -999.0
320620170820,        P06,     205,          3,         18,         18,2,20170915,       2157,   -32.4999,  -100.6651,       3532,   842.5,   4.9141,  34.2731,2,  34.2699,2, 213.2877,2, 212.9402,2,    20.2,2,   29.63,2,    0.00,2,    2.00,2,   1.899,2,   0.934,2,   0.2430,2,  2177.1,2,  2282.5,2,   7.6348,2,    25.00, -999.00,9, -999.00,9, -999.00,  -999.0,9, -999.00,9,     -999.0,9,  -999.0,9, 20170915,     2302, -32.5000,-100.6649,        0.0,1,      0.060,1,      4.688,1,      0.132,1,     -999.0,9,     -999.0,9,     -999.0,9,     -999.0,9,     -999.0,9,     -999.0,9,     -999.0,9,     -999.0,9,     -999.0,9,     -999.0,9,     -999.0,9,     4.8718,2,     -999.0,     -999.0,9,     -999.0
320620170820,        P06,     205,          3,         19,         19,2,20170915,       2157,   -32.4999,  -100.6651,       3532,   741.4,   5.3973,  34.2692,2,  34.2664,2, 223.4088,2, 225.1846,2,    13.8,2,   27.54,2,    0.00,2,    1.87,2,   2.787,2,   1.369,2,   0.3730,2,  2167.7,2,  2277.2,2,   7.6580,2,    25.00, -999.00,9, -999.00,9, -999.00,  -999.0,9, -999.00,9,     -999.0,9,  -999.0,9, 20170915,     2305, -32.5000,-100.6651,        0.0,1,      0.060,1,      4.689,1,      0.131,1,     -999.0,9,     -999.0,9,     -999.0,9,     -999.0,9,     -999.0,9,     -999.0,9,     -999.0,9,     -999.0,9,     -999.0,9,     -999.0,9,     -999.0,9,     5.3968,2,     -999.0,     -999.0,9,     -999.0
320620170820,        P06,     205,          3,         20,         20,2,20170915,       2157,   -32.4999,  -100.6651,       3532,   641.4,   5.8088,  34.2752,2,  34.2813,2, 240.6062,2, 241.3445,2,    10.0,2,   25.21,2,    0.00,2,    1.71,2,   3.364,2,   1.728,2,   0.6050,2,  -999.0,9,  -999.0,9,-999.0000,9,  -999.00, -999.00,9, -999.00,9, -999.00,  -999.0,9, -999.00,9,     -999.0,9,  -999.0,9, 20170915,     2308, -32.5000,-100.6649,        0.0,1,      0.058,1,      4.688,1,      0.131,1,     -999.0,9,     -999.0,9,     -999.0,9,     -999.0,9,     -999.0,9,     -999.0,9,     -999.0,9,     -999.0,9,     -999.0,9,     -999.0,9,     -999.0,9,     5.7703,2,     -999.0,     -999.0,9,     -999.0
320620170820,        P06,     205,          3,         21,         21,2,20170915,       2157,   -32.4999,  -100.6651,       3532,   540.4,   6.2660,  34.2937,2,  34.2893,2, 245.1362,2, 244.2929,2,     7.9,2,   23.77,2,    0.00,2,    1.60,2,   3.596,2,   1.977,2,   1.0500,2,  2146.6,2,  2274.0,2,   7.6933,2,    25.00, -999.00,9, -999.00,9, -999.00,  -999.0,9, -999.00,9,     -999.0,9,  -999.0,9, 20170915,     2311, -32.4999,-100.6648,        0.0,1,      0.059,1,      4.686,1,      0.132,1,     -999.0,9,     -999.0,9,     -999.0,9,     -999.0,9,     -999.0,9,     -999.0,9,     -999.0,9,     -999.0,9,     -999.0,9,     -999.0,9,     -999.0,9,     6.2660,2,     -999.0,     -999.0,9,     -999.0
320620170820,        P06,     205,          3,         22,         22,2,20170915,       2157,   -32.4999,  -100.6651,       3532,   469.6,   6.6691,  34.3065,2,  34.3017,2, 229.2736,2, 229.7439,2,     7.5,2,   23.97,2,    0.00,2,    1.64,2,-999.000,9,-999.000,9,-999.0000,9,  -999.0,9,  -999.0,9,-999.0000,9,  -999.00, -999.00,9, -999.00,9, -999.00,  -999.0,9, -999.00,9,     -999.0,9,  -999.0,9, 20170915,     2314, -32.4999,-100.6648,        0.0,1,      0.059,1,      4.685,1,      0.134,1,     -999.0,9,     -999.0,9,     -999.0,9,     -999.0,9,     -999.0,9,     -999.0,9,     -999.0,9,     -999.0,9,     -999.0,9,     -999.0,9,     -999.0,9,     6.7036,2,     -999.0,     -999.0,9,     -999.0
320620170820,        P06,     205,          3,         23,         23,2,20170915,       2157,   -32.4999,  -100.6651,       3532,   418.2,   7.0618,  34.2984,2,  34.2931,2, 220.1909,2, 229.0927,2,     6.1,2,   22.77,2,    0.00,2,    1.55,2,   3.561,2,   1.976,2,   1.1980,2,  2150.7,2,  2272.7,2,   7.6827,2,    25.00, -999.00,9, -999.00,9, -999.00,  -999.0,9, -999.00,9,     -999.0,9,  -999.0,9, 20170915,     2316, -32.4999,-100.6648,        0.0,1,      0.058,1,      4.685,1,      0.134,1,     -999.0,9,     -999.0,9,     -999.0,9,     -999.0,9,     -999.0,9,     -999.0,9,     -999.0,9,     -999.0,9,     -999.0,9,     -999.0,9,     -999.0,9,     7.1576,2,     -999.0,     -999.0,9,     -999.0
320620170820,        P06,     205,          3,         24,         24,2,20170915,       2157,   -32.4999,  -100.6651,       3532,   316.9,   8.9644,  34.3017,2,  34.2925,2, 227.1994,2, 223.7822,2,     3.0,2,   18.53,2,    0.00,2,    1.30,2,-999.000,9,-999.000,9,-999.0000,9,  -999.0,9,  -999.0,9,-999.0000,9,  -999.00, -999.00,9, -999.00,9, -999.00,  -999.0,9, -999.00,9,     -999.0,9,  -999.0,9, 20170915,     2319, -32.5000,-100.6650,        0.0,1,      0.059,1,      4.683,1,      0.133,1,     -999.0,9,     -999.0,9,     -999.0,9,     -999.0,9,     -999.0,9,     -999.0,9,     -999.0,9,     -999.0,9,     -999.0,9,     -999.0,9,     -999.0,9,     8.9317,2,     -999.0,     -999.0,9,     -999.0
320620170820,        P06,     205,          3,         25,         25,2,20170915,       2157,   -32.4999,  -100.6651,       3532,   266.0,  10.9110,  34.4156,2,  34.3955,3, 222.0724,2, 220.9588,2,     1.3,2,   13.61,2,    0.00,2,    0.98,2,   3.154,2,   1.808,2,   1.3380,2,  2115.6,2,  2270.0,2,   7.7726,2,    25.00, -999.00,9, -999.00,9, -999.00,  -999.0,9, -999.00,9,     -999.0,9,  -999.0,9, 20170915,     2321, -32.5000,-100.6650,        0.0,1,      0.060,1,      4.680,1,      0.131,1,     -999.0,9,     -999.0,9,     -999.0,9,     -999.0,9,     -999.0,9,     -999.0,9,     -999.0,9,     -999.0,9,     -999.0,9,     -999.0,9,     -999.0,9,    10.7865,2,     -999.0,     -999.0,9,     -999.0
320620170820,        P06,     205,          3,         26,         26,2,20170915,       2157,   -32.4999,  -100.6651,       3532,   218.1,  12.7203,  34.5020,2,  34.5099,2,  218.956,2, 219.2402,2,     0.6,2,    9.59,2,    0.00,2,    0.74,2,   2.902,2,   1.688,2,   1.4710,2,  2098.6,2,  2274.2,2,   7.8134,2,    25.00, -999.00,9, -999.00,9, -999.00,  -999.0,9, -999.00,9,     -999.0,9,  -999.0,9, 20170915,     2323, -32.5000,-100.6652,        0.0,1,      0.073,1,      4.676,1,      0.134,1,     -999.0,9,     -999.0,9,     -999.0,9,     -999.0,9,     -999.0,9,     -999.0,9,     -999.0,9,     -999.0,9,     -999.0,9,     -999.0,9,     -999.0,9,    12.4321,2,     -999.0,     -999.0,9,     -999.0