BOTTLE,20240211CCHSIOCBG
EXPOCODE,SECT_ID,STNNBR,CASTNO,SAMPNO,BTLNBR,BTLNBR_FLAG_W,DATE,TIME,LATITUDE,LONGITUDE,DEPTH,CTDPRS,CTDTMP,CTDSAL,CTDSAL_FLAG_W,SALNTY,SALNTY_FLAG_W,CTDOXY,CTDOXY_FLAG_W,OXYGEN,OXYGEN_FLAG_W,SILCAT,SILCAT_FLAG_W,NITRAT,NITRAT_FLAG_W,NITRIT,NITRIT_FLAG_W,PHSPHT,PHSPHT_FLAG_W,CFC-11,CFC-11_FLAG_W,CFC-12,CFC-12_FLAG_W,SF6,SF6_FLAG_W,TCARBN,TCARBN_FLAG_W,ALKALI,ALKALI_FLAG_W,PH_TOT,PH_TOT_FLAG_W,PH_TMP,DELC13,DELC13_FLAG_W,DELC14,DELC14_FLAG_W,C14ERR,DOC,DOC_FLAG_W,TDN,TDN_FLAG_W,TON,TON_FLAG_W,D15N_NO3,D15N_NO3_FLAG_W,BTL_DATE,BTL_TIME,BTL_LAT,BTL_LON,CTDRINKO,CTDRINKO_FLAG_W,CTDFLUOR,CTDFLUOR_FLAG_W,CTDXMISS,CTDXMISS_FLAG_W,CTDBACKSCATTER,CTDBACKSCATTER_FLAG_W,D18O_NO3,D18O_NO3_FLAG_W,DOP,DOP_FLAG_W,CELLCOUNT,CELLCOUNT_FLAG_W,TDP,TDP_FLAG_W,POP,POP_FLAG_W,DATP,DATP_FLAG_W,PATP,PATP_FLAG_W,HPLC,HPLC_FLAG_W,POC,POC_FLAG_W,BEAMAP,BEAMAP_FLAG_W,DOC_NASA,DOC_NASA_FLAG_W,REFTMP,REFTMP_FLAG_W,DOC_NASA_ERROR,TDN_NASA,TDN_NASA_FLAG_W,TDN_NASA_ERROR
,,,,,,,,,,,METERS,DBAR,ITS-90,PSS-78,,PSS-78,,UMOL/KG,,UMOL/KG,,UMOL/KG,,UMOL/KG,,UMOL/KG,,UMOL/KG,,PMOL/KG,,PMOL/KG,,FMOL/KG,,UMOL/KG,,UMOL/KG,,,,DEG C,/MILLE,,/MILLE,,/MILLE,UMOL/KG,,UMOL/KG,,UMOL/KG,,/MILLE,,,,,,VOLTS,,VOLTS,,VOLTS,,VOLTS,,/MILLE,,UMOL/KG,,/LITER,,UMOL/KG,,UMOL/L,,PMOL/L,,PMOL/L,,,,UG/L,,/METER,,UMOL/L,,ITS-90,,UMOL/L,UMOL/L,,UMOL/L
320620170820,        P06,     191,          3,         29,         29,2,20170911,       2030,   -32.5014,  -110.3256,       3321,   130.4,  16.5550,  34.8461,2,  34.8066,2, 240.8884,2, 242.5857,2,     0.0,2,    0.08,2,    0.03,2,    0.11,2,   2.267,2,   1.393,2,   1.5460,2,  2048.0,2,  2289.0,2,   7.9443,2,    25.00, -999.00,9, -999.00,9, -999.00,  -999.0,9, -999.00,9,     -999.0,9,  -999.0,9, 20170911,     2205, -32.5012,-110.3257,        0.0,1,      0.197,1,      4.635,1,      0.179,1,     -999.0,9,     -999.0,9,     -999.0,9,     -999.0,9,     -999.0,9,     -999.0,9,     -999.0,9,     -999.0,9,     -999.0,9,     -999.0,9,     -999.0,9,    16.4786,2,     -999.0,     -999.0,9,     -999.0
320620170820,        P06,     191,          3,         28,         28,2,20170911,       2030,   -32.5014,  -110.3256,       3321,   129.4,  16.5680,  34.8194,2,-999.0000,9, 240.5989,2, 244.9788,2,  -999.0,9, -999.00,9, -999.00,9, -999.00,9,-999.000,9,-999.000,9,-999.0000,9,  -999.0,9,  -999.0,9,-999.0000,9,  -999.00, -999.00,9, -999.00,9, -999.00,  -999.0,9, -999.00,9,     -999.0,9,  -999.0,9, 20170911,     2204, -32.5012,-110.3257,        0.0,1,      0.187,1,      4.636,1,      0.177,1,     -999.0,9,     -999.0,9,     -999.0,9,     -999.0,9,     -999.0,9,     -999.0,9,     -999.0,9,     -999.0,1,     -999.0,1,     -999.0,1,63.74719299,2,    16.4799,2,-83.18068276,56.87283774,2,     -999.0
320620170820,        P06,     191,          3,         27,         27,2,20170911,       2030,   -32.5014,  -110.3256,       3321,   128.9,  16.5680,  34.8194,2,-999.0000,9, 241.4028,2, 241.3748,2,  -999.0,9, -999.00,9, -999.00,9, -999.00,9,-999.000,9,-999.000,9,-999.0000,9,  -999.0,9,  -999.0,9,-999.0000,9,  -999.00, -999.00,9, -999.00,9, -999.00,  -999.0,9, -999.00,9,     -999.0,9,  -999.0,9, 20170911,     2203, -32.5012,-110.3257,        0.0,1,      0.187,1,      4.636,1,      0.177,1,     -999.0,9,     -999.0,9,     -999.0,9,     -999.0,9,     -999.0,9,     -999.0,9,     -999.0,9,     -999.0,1,     -999.0,1,     -999.0,1,63.74719299,2,    16.4707,2,-83.18068276,56.87283774,2,     -999.0
320620170820,        P06,     191,          3,         30,         30,2,20170911,       2030,   -32.5014,  -110.3256,       3321,   113.5,  16.6204,  34.7315,2,  34.6645,2,  243.642,2,   240.85,2,     0.0,2,    0.12,2,    0.00,2,    0.09,2,   2.277,2,   1.376,2,   1.6270,2,  2040.5,2,  2283.8,2,   7.9488,2,    25.00, -999.00,9, -999.00,9, -999.00,  -999.0,9, -999.00,9,     -999.0,9,  -999.0,9, 20170911,     2207, -32.5013,-110.3257,        0.0,1,      0.167,1,      4.625,1,      0.183,1,     -999.0,9,     -999.0,9,     -999.0,9,     -999.0,9,     -999.0,9,     -999.0,9,     -999.0,9,     -999.0,9,     -999.0,9,     -999.0,9,     -999.0,9,    16.3152,2,     -999.0,     -999.0,9,     -999.0
320620170820,        P06,     191,          3,         31,         31,2,20170911,       2030,   -32.5014,  -110.3256,       3321,    89.7,  17.0274,  34.8290,2,  34.8139,2, 242.9456,2, 239.1313,2,     0.0,2,    0.00,2,    0.00,2,    0.08,2,   2.214,2,   1.344,2,   1.5690,2,  2042.4,2,  2286.2,2,   7.9573,2,    25.00, -999.00,9, -999.00,9, -999.00,  -999.0,9, -999.00,9,     -999.0,9,  -999.0,9, 20170911,     2209, -32.5015,-110.3255,        0.0,1,      0.097,1,      4.634,1,      0.172,1,     -999.0,9,     -999.0,9,     -999.0,9,     -999.0,9,     -999.0,9,     -999.0,9,     -999.0,9,     -999.0,9,     -999.0,9,     -999.0,9,     -999.0,9,    16.9450,2,     -999.0,     -999.0,9,     -999.0
320620170820,        P06,     191,          3,         33,         33,2,20170911,       2030,   -32.5014,  -110.3256,       3321,    74.9,  17.2635,  34.8611,2,  34.8877,2, 240.4787,2, 239.1094,2,     0.0,2,    0.00,2,    0.00,2,    0.08,2,   2.171,2,   1.330,2,   1.6000,2,  2041.9,2,  2292.5,2,   7.9632,2,    25.00, -999.00,9, -999.00,9, -999.00,  -999.0,9, -999.00,9,     -999.0,9,  -999.0,9, 20170911,     2212, -32.5016,-110.3252,        0.0,1,      0.076,1,      4.640,1,      0.167,1,     -999.0,9,     -999.0,9,     -999.0,9,     -999.0,9,     -999.0,9,     -999.0,9,     -999.0,9,     -999.0,9,     -999.0,9,     -999.0,9,     -999.0,9,    17.2238,2,     -999.0,     -999.0,9,     -999.0
320620170820,        P06,     191,          3,         32,         32,2,20170911,       2030,   -32.5014,  -110.3256,       3321,    74.7,  17.2635,  34.8611,2,-999.0000,9, 241.1168,2, 239.2036,2,  -999.0,9, -999.00,9, -999.00,9, -999.00,9,-999.000,9,-999.000,9,-999.0000,9,  -999.0,9,  -999.0,9,-999.0000,9,  -999.00, -999.00,9, -999.00,9, -999.00,  -999.0,9, -999.00,9,     -999.0,9,  -999.0,9, 20170911,     2211, -32.5016,-110.3253,        0.0,1,      0.076,1,      4.640,1,      0.167,1,     -999.0,9,     -999.0,9,     -999.0,9,     -999.0,9,     -999.0,9,     -999.0,9,     -999.0,9,     -999.0,1,     -999.0,1,     -999.0,1,67.54276232,2,    17.2861,2,-83.18068276,47.71749219,2,     -999.0
320620170820,        P06,     191,          3,         34,         34,2,20170911,       2030,   -32.5014,  -110.3256,       3321,    38.7,  17.7048,  34.9504,2,  34.9726,2, 232.5428,2,-999.0000,9,     0.0,2,    0.00,2,    0.00,2,    0.07,2,   2.139,2,   1.311,2,   1.4940,2,  2041.9,2,  2300.2,2,   7.9683,2,    25.00, -999.00,9, -999.00,9, -999.00,  -999.0,9, -999.00,9,     -999.0,9,  -999.0,9, 20170911,     2214, -32.5016,-110.3252,        0.0,1,      0.066,1,      4.649,1,      0.156,1,     -999.0,9,     -999.0,9,     -999.0,9,     -999.0,9,     -999.0,9,     -999.0,9,     -999.0,9,     -999.0,9,     -999.0,9,     -999.0,9,     -999.0,9,    17.7853,2,     -999.0,     -999.0,9,     -999.0
320620170820,        P06,     191,          3,         35,         35,2,20170911,       2030,   -32.5014,  -110.3256,       3321,    19.0,  17.7140,  34.9491,2,  34.9811,2, 232.1679,2,-999.0000,9,     0.0,2,    0.00,2,    0.00,2,    0.08,2,   2.121,2,   1.293,2,   1.5050,2,  2042.7,2,  2297.4,2,   7.9686,2,    25.00, -999.00,9, -999.00,9, -999.00,  -999.0,9, -999.00,9,     -999.0,9,  -999.0,9, 20170911,     2216, -32.5015,-110.3254,        0.0,1,      0.064,1,      4.650,1,      0.157,1,     -999.0,9,     -999.0,9,     -999.0,9,     -999.0,9,     -999.0,9,     -999.0,9,     -999.0,9,     -999.0,9,     -999.0,9,     -999.0,9,     -999.0,9,    17.8705,2,     -999.0,     -999.0,9,     -999.0
320620170820,        P06,     191,          3,         36,         36,2,20170911,       2030,   -32.5014,  -110.3256,       3321,     3.2,  17.7251,  34.9436,2,  34.9817,2, 232.1519,2,-999.0000,9,     0.1,2,    0.00,2,    0.00,2,    0.08,2,   2.135,2,   1.300,2,   1.4880,2,  2043.5,6,  2298.0,2,   7.9674,2,    25.00, -999.00,9, -999.00,9, -999.00,  -999.0,9, -999.00,9,     -999.0,9,  -999.0,9, 20170911,     2218, -32.5014,-110.3256,        0.0,1,      0.061,1,      4.650,1,      0.150,1,     -999.0,9,     -999.0,9,     -999.0,9,     -999.0,9,     -999.0,9,     -999.0,9,     -999.0,9,     -999.0,9,     -999.0,9,     -999.0,9,     -999.0,9,    17.9052,2,     -999.0,     -999.0,9,     -999.0