BOTTLE,20240211CCHSIOCBG
EXPOCODE,SECT_ID,STNNBR,CASTNO,SAMPNO,BTLNBR,BTLNBR_FLAG_W,DATE,TIME,LATITUDE,LONGITUDE,DEPTH,CTDPRS,CTDTMP,CTDSAL,CTDSAL_FLAG_W,SALNTY,SALNTY_FLAG_W,CTDOXY,CTDOXY_FLAG_W,OXYGEN,OXYGEN_FLAG_W,SILCAT,SILCAT_FLAG_W,NITRAT,NITRAT_FLAG_W,NITRIT,NITRIT_FLAG_W,PHSPHT,PHSPHT_FLAG_W,CFC-11,CFC-11_FLAG_W,CFC-12,CFC-12_FLAG_W,SF6,SF6_FLAG_W,TCARBN,TCARBN_FLAG_W,ALKALI,ALKALI_FLAG_W,PH_TOT,PH_TOT_FLAG_W,PH_TMP,DELC13,DELC13_FLAG_W,DELC14,DELC14_FLAG_W,C14ERR,DOC,DOC_FLAG_W,TDN,TDN_FLAG_W,TON,TON_FLAG_W,D15N_NO3,D15N_NO3_FLAG_W,BTL_DATE,BTL_TIME,BTL_LAT,BTL_LON,CTDRINKO,CTDRINKO_FLAG_W,CTDFLUOR,CTDFLUOR_FLAG_W,CTDXMISS,CTDXMISS_FLAG_W,CTDBACKSCATTER,CTDBACKSCATTER_FLAG_W,D18O_NO3,D18O_NO3_FLAG_W,DOP,DOP_FLAG_W,CELLCOUNT,CELLCOUNT_FLAG_W,TDP,TDP_FLAG_W,POP,POP_FLAG_W,DATP,DATP_FLAG_W,PATP,PATP_FLAG_W,HPLC,HPLC_FLAG_W,POC,POC_FLAG_W,BEAMAP,BEAMAP_FLAG_W,DOC_NASA,DOC_NASA_FLAG_W,REFTMP,REFTMP_FLAG_W,DOC_NASA_ERROR,TDN_NASA,TDN_NASA_FLAG_W,TDN_NASA_ERROR
,,,,,,,,,,,METERS,DBAR,ITS-90,PSS-78,,PSS-78,,UMOL/KG,,UMOL/KG,,UMOL/KG,,UMOL/KG,,UMOL/KG,,UMOL/KG,,PMOL/KG,,PMOL/KG,,FMOL/KG,,UMOL/KG,,UMOL/KG,,,,DEG C,/MILLE,,/MILLE,,/MILLE,UMOL/KG,,UMOL/KG,,UMOL/KG,,/MILLE,,,,,,VOLTS,,VOLTS,,VOLTS,,VOLTS,,/MILLE,,UMOL/KG,,/LITER,,UMOL/KG,,UMOL/L,,PMOL/L,,PMOL/L,,,,UG/L,,/METER,,UMOL/L,,ITS-90,,UMOL/L,UMOL/L,,UMOL/L
320620170820,        P06,     151,          1,          1,          1,2,20170828,       1128,   -32.4997,  -143.0404,       5102,  5190.1,   1.3373,  34.7061,2,  34.7034,3, 195.2558,2, 196.0511,2,   119.7,2,   32.74,2,    0.00,2,    2.24,2,   0.035,2,   0.026,2,   0.0000,2,  2272.8,6,  2377.7,2,   7.6086,2,    25.00, -999.00,9, -999.00,9, -999.00,  -999.0,9, -999.00,9,     -999.0,9,  -999.0,9, 20170828,     1128, -32.5004,-143.0406,        0.0,1,      0.061,1,      4.690,1,      0.120,1,     -999.0,9,     -999.0,9,     -999.0,9,     -999.0,9,     -999.0,9,     -999.0,9,     -999.0,9,     -999.0,9,     -999.0,9,     -999.0,9,     -999.0,9,     1.3378,2,     -999.0,     -999.0,9,     -999.0
320620170820,        P06,     151,          1,          2,          2,2,20170828,       1128,   -32.4997,  -143.0404,       5102,  4928.6,   1.3163,  34.7059,2,  34.7058,3, 195.2558,2, 195.4769,2,   119.5,2,   32.69,2,    0.00,2,    2.26,2,   0.031,2,   0.022,2,   0.0000,2,  -999.0,9,  -999.0,9,-999.0000,9,  -999.00, -999.00,9, -999.00,9, -999.00,  -999.0,9, -999.00,9,     -999.0,9,  -999.0,9, 20170828,     1135, -32.5004,-143.0406,        0.0,1,      0.061,1,      4.691,1,      0.122,1,     -999.0,9,     -999.0,9,     -999.0,9,     -999.0,9,     -999.0,9,     -999.0,9,     -999.0,9,     -999.0,9,     -999.0,9,     -999.0,9,     -999.0,9,     1.3163,2,     -999.0,     -999.0,9,     -999.0
320620170820,        P06,     151,          1,          3,          3,2,20170828,       1128,   -32.4997,  -143.0404,       5102,  4683.3,   1.2971,  34.7056,2,  34.7054,3, 195.2558,2, 194.7858,2,   119.7,2,   32.72,2,    0.00,2,    2.25,2,   0.029,2,   0.021,2,   0.0000,2,  2275.8,2,  2379.6,6,   7.6089,2,    25.00, -999.00,9, -999.00,9, -999.00,  -999.0,9, -999.00,9,     -999.0,9,  -999.0,9, 20170828,     1143, -32.5009,-143.0406,        0.0,1,      0.062,1,      4.691,1,      0.124,1,     -999.0,9,     -999.0,9,     -999.0,9,     -999.0,9,     -999.0,9,     -999.0,9,     -999.0,9,     -999.0,9,     -999.0,9,     -999.0,9,     -999.0,9,     1.2974,2,     -999.0,     -999.0,9,     -999.0
320620170820,        P06,     151,          1,          4,          4,2,20170828,       1128,   -32.4997,  -143.0404,       5102,  4375.1,   1.2908,  34.7043,2,  34.7044,3, 193.5843,2, 193.1473,2,   119.9,2,   32.85,2,    0.00,2,    2.27,2,   0.028,2,   0.022,2,   0.0000,2,  -999.0,9,  -999.0,9,-999.0000,9,  -999.00, -999.00,9, -999.00,9, -999.00,  -999.0,9, -999.00,9,     -999.0,9,  -999.0,9, 20170828,     1152, -32.5010,-143.0406,        0.0,1,      0.061,1,      4.691,1,      0.122,1,     -999.0,9,     -999.0,9,     -999.0,9,     -999.0,9,     -999.0,9,     -999.0,9,     -999.0,9,     -999.0,9,     -999.0,9,     -999.0,9,     -999.0,9,     1.2907,2,     -999.0,     -999.0,9,     -999.0
320620170820,        P06,     151,          1,          5,          5,2,20170828,       1128,   -32.4997,  -143.0404,       5102,  4067.1,   1.3305,  34.7012,2,  34.7003,3, 188.1546,2,  188.671,2,   121.1,2,   33.21,2,    0.00,2,    2.31,2,   0.031,2,   0.022,2,   0.0000,2,  2281.4,2,  2382.4,2,   7.6049,2,    25.00, -999.00,9, -999.00,9, -999.00,  -999.0,9, -999.00,9,     -999.0,9,  -999.0,9, 20170828,     1200, -32.5005,-143.0405,        0.0,1,      0.061,1,      4.692,1,      0.122,1,     -999.0,9,     -999.0,9,     -999.0,9,     -999.0,9,     -999.0,9,     -999.0,9,     -999.0,9,     -999.0,9,     -999.0,9,     -999.0,9,     -999.0,9,     1.3335,2,     -999.0,     -999.0,9,     -999.0
320620170820,        P06,     151,          1,          6,          6,2,20170828,       1128,   -32.4997,  -143.0404,       5102,  3758.9,   1.4289,  34.6944,2,  34.6944,3, 180.9306,2, 180.9847,2,   122.9,2,   33.74,2,    0.00,2,    2.34,2,   0.034,2,   0.025,2,   0.0000,2,  -999.0,9,  -999.0,9,-999.0000,9,  -999.00, -999.00,9, -999.00,9, -999.00,  -999.0,9, -999.00,9,     -999.0,9,  -999.0,9, 20170828,     1209, -32.5007,-143.0405,        0.0,1,      0.061,1,      4.692,1,      0.124,1,     -999.0,9,     -999.0,9,     -999.0,9,     -999.0,9,     -999.0,9,     -999.0,9,     -999.0,9,     -999.0,9,     -999.0,9,     -999.0,9,     -999.0,9,     1.4282,2,     -999.0,     -999.0,9,     -999.0
320620170820,        P06,     151,          1,          7,          7,2,20170828,       1128,   -32.4997,  -143.0404,       5102,  3449.1,   1.5367,  34.6863,2,  34.6859,2, 172.6449,2, 172.0326,2,   125.2,2,   34.37,2,    0.00,2,    2.39,2,   0.030,2,   0.021,2,   0.0000,2,  2294.7,2,  2394.4,2,   7.5917,2,    25.00, -999.00,9, -999.00,9, -999.00,  -999.0,9, -999.00,9,     -999.0,9,  -999.0,9, 20170828,     1217, -32.5000,-143.0404,        0.0,1,      0.061,1,      4.692,1,      0.125,1,     -999.0,9,     -999.0,9,     -999.0,9,     -999.0,9,     -999.0,9,     -999.0,9,     -999.0,9,     -999.0,9,     -999.0,9,     -999.0,9,     -999.0,9,     1.5371,2,     -999.0,     -999.0,9,     -999.0
320620170820,        P06,     151,          1,          8,          8,2,20170828,       1128,   -32.4997,  -143.0404,       5102,  3144.7,   1.6264,  34.6789,2,  34.6783,2, 166.2831,3, 164.7509,2,   126.6,2,   34.78,2,    0.00,2,    2.43,2,   0.028,2,   0.021,2,   0.0000,2,  -999.0,9,  -999.0,9,-999.0000,9,  -999.00, -999.00,9, -999.00,9, -999.00,  -999.0,9, -999.00,9,     -999.0,9,  -999.0,9, 20170828,     1226, -32.5002,-143.0404,        0.0,1,      0.062,1,      4.692,1,      0.125,1,     -999.0,9,     -999.0,9,     -999.0,9,     -999.0,9,     -999.0,9,     -999.0,9,     -999.0,9,     -999.0,9,     -999.0,9,     -999.0,9,     -999.0,9,     1.6183,2,     -999.0,     -999.0,9,     -999.0
320620170820,        P06,     151,          1,          9,          9,2,20170828,       1128,   -32.4997,  -143.0404,       5102,  2873.1,   1.7225,  34.6709,2,  34.6718,2, 159.3648,2, 158.6363,2,   126.7,2,   35.10,2,    0.00,2,    2.46,2,   0.029,2,   0.022,2,   0.0000,2,  2306.4,2,  2400.8,2,   7.5800,6,    25.00, -999.00,9, -999.00,9, -999.00,  -999.0,9, -999.00,9,     -999.0,9,  -999.0,9, 20170828,     1233, -32.5004,-143.0404,        0.0,1,      0.061,1,      4.692,1,      0.124,1,     -999.0,9,     -999.0,9,     -999.0,9,     -999.0,9,     -999.0,9,     -999.0,9,     -999.0,9,     -999.0,9,     -999.0,9,     -999.0,9,     -999.0,9,     1.7134,2,     -999.0,     -999.0,9,     -999.0
320620170820,        P06,     151,          1,         10,         10,2,20170828,       1128,   -32.4997,  -143.0404,       5102,  2621.1,   1.7977,  34.6646,2,  34.6641,2, 154.3435,2, 154.0642,2,   126.9,2,   35.53,2,    0.00,2,    2.49,2,   0.027,2,   0.021,2,   0.0000,2,  -999.0,9,  -999.0,9,-999.0000,9,  -999.00, -999.00,9, -999.00,9, -999.00,  -999.0,9, -999.00,9,     -999.0,9,  -999.0,9, 20170828,     1240, -32.5001,-143.0404,        0.0,1,      0.062,1,      4.693,1,      0.128,1,     -999.0,9,     -999.0,9,     -999.0,9,     -999.0,9,     -999.0,9,     -999.0,9,     -999.0,9,     -999.0,9,     -999.0,9,     -999.0,9,     -999.0,9,     1.7919,2,     -999.0,     -999.0,9,     -999.0
320620170820,        P06,     151,          1,         11,         11,2,20170828,       1128,   -32.4997,  -143.0404,       5102,  2365.3,   1.9073,  34.6551,2,  34.6551,2, 150.5178,2,  151.569,2,   123.3,2,   35.58,2,    0.00,2,    2.49,2,   0.030,2,   0.021,2,   0.0000,2,  2309.2,6,  2395.0,2,   7.5724,2,    25.00, -999.00,9, -999.00,9, -999.00,  -999.0,9, -999.00,9,     -999.0,9,  -999.0,9, 20170828,     1247, -32.4999,-143.0404,        0.0,1,      0.061,1,      4.693,1,      0.129,1,     -999.0,9,     -999.0,9,     -999.0,9,     -999.0,9,     -999.0,9,     -999.0,9,     -999.0,9,     -999.0,9,     -999.0,9,     -999.0,9,     -999.0,9,     1.9033,2,     -999.0,     -999.0,9,     -999.0
320620170820,        P06,     151,          1,         12,         12,2,20170828,       1128,   -32.4997,  -143.0404,       5102,  2110.2,   2.0699,  34.6406,2,  34.6417,2, 150.9301,2, 153.0504,2,   116.1,2,   35.39,2,    0.00,2,    2.48,2,   0.030,2,   0.019,2,   0.0000,2,  -999.0,9,  -999.0,9,-999.0000,9,  -999.00, -999.00,9, -999.00,9, -999.00,  -999.0,9, -999.00,9,     -999.0,9,  -999.0,9, 20170828,     1253, -32.5001,-143.0404,        0.0,1,      0.060,1,      4.692,1,      0.129,1,     -999.0,9,     -999.0,9,     -999.0,9,     -999.0,9,     -999.0,9,     -999.0,9,     -999.0,9,     -999.0,9,     -999.0,9,     -999.0,9,     -999.0,9,     2.0504,2,     -999.0,     -999.0,9,     -999.0
320620170820,        P06,     151,          1,         13,         13,2,20170828,       1128,   -32.4997,  -143.0404,       5102,  1886.1,   2.2700,  34.6208,2,  34.6217,2, 153.2268,2, 154.5499,2,   106.2,2,   35.16,2,    0.00,2,    2.46,2,   0.032,2,   0.022,2,   0.0000,2,  2289.8,2,  2381.7,2,   7.5696,2,    25.00, -999.00,9, -999.00,9, -999.00,  -999.0,9, -999.00,9,     -999.0,9,  -999.0,9, 20170828,     1258, -32.5001,-143.0404,        0.0,1,      0.061,1,      4.692,1,      0.127,1,     -999.0,9,     -999.0,9,     -999.0,9,     -999.0,9,     -999.0,9,     -999.0,9,     -999.0,9,     -999.0,9,     -999.0,9,     -999.0,9,     -999.0,9,     2.2538,2,     -999.0,     -999.0,9,     -999.0
320620170820,        P06,     151,          1,         14,         14,2,20170828,       1128,   -32.4997,  -143.0404,       5102,  1682.0,   2.4942,  34.5824,2,  34.5883,2, 157.6062,2, 158.0327,2,    93.8,2,   34.90,2,    0.00,2,    2.43,2,   0.040,2,   0.031,2,   0.0000,2,  -999.0,9,  -999.0,9,-999.0000,9,  -999.00, -999.00,9, -999.00,9, -999.00,  -999.0,9, -999.00,9,     -999.0,9,  -999.0,9, 20170828,     1303, -32.5002,-143.0404,        0.0,1,      0.061,1,      4.693,1,      0.129,1,     -999.0,9,     -999.0,9,     -999.0,9,     -999.0,9,     -999.0,9,     -999.0,9,     -999.0,9,     -999.0,9,     -999.0,9,     -999.0,9,     -999.0,9,     2.4555,2,     -999.0,     -999.0,9,     -999.0
320620170820,        P06,     151,          1,         15,         15,2,20170828,       1128,   -32.4997,  -143.0404,       5102,  1549.1,   2.6519,  34.5463,2,  34.5529,2, 162.2708,2, 162.3527,2,    83.8,2,   34.74,2,    0.00,2,    2.40,2,   0.066,2,   0.044,2,   0.0000,2,  2268.0,2,  2354.2,2,   7.5684,2,    25.00, -999.00,9, -999.00,9, -999.00,  -999.0,9, -999.00,9,     -999.0,9,  -999.0,9, 20170828,     1306, -32.4999,-143.0404,        0.0,1,      0.061,1,      4.693,1,      0.130,1,     -999.0,9,     -999.0,9,     -999.0,9,     -999.0,9,     -999.0,9,     -999.0,9,     -999.0,9,     -999.0,9,     -999.0,9,     -999.0,9,     -999.0,9,     2.6172,2,     -999.0,     -999.0,9,     -999.0
320620170820,        P06,     151,          1,         16,         16,2,20170828,       1128,   -32.4997,  -143.0404,       5102,  1450.7,   2.8168,  34.5085,2,  34.5109,2, 167.3736,2, 167.4851,2,    73.8,2,   34.51,2,    0.00,2,    2.39,2,   0.112,2,   0.074,2,   0.0000,2,  -999.0,9,  -999.0,9,-999.0000,9,  -999.00, -999.00,9, -999.00,9, -999.00,  -999.0,9, -999.00,9,     -999.0,9,  -999.0,9, 20170828,     1309, -32.4998,-143.0405,        0.0,1,      0.061,1,      4.693,1,      0.129,1,     -999.0,9,     -999.0,9,     -999.0,9,     -999.0,9,     -999.0,9,     -999.0,9,     -999.0,9,     -999.0,9,     -999.0,9,     -999.0,9,     -999.0,9,     2.7992,2,     -999.0,     -999.0,9,     -999.0
320620170820,        P06,     151,          1,         17,         17,2,20170828,       1128,   -32.4997,  -143.0404,       5102,  1346.2,   3.0444,  34.4626,2,  34.4636,2, 172.3796,2, 172.3644,2,    64.5,2,   34.30,2,    0.00,2,    2.36,2,   0.200,2,   0.120,2,   0.0000,2,  2242.9,2,  2331.2,2,   7.5712,2,    25.00, -999.00,9, -999.00,9, -999.00,  -999.0,9, -999.00,9,     -999.0,9,  -999.0,9, 20170828,     1312, -32.4999,-143.0404,        0.0,1,      0.060,1,      4.693,1,      0.131,1,     -999.0,9,     -999.0,9,     -999.0,9,     -999.0,9,     -999.0,9,     -999.0,9,     -999.0,9,     -999.0,9,     -999.0,9,     -999.0,9,     -999.0,9,     3.0235,2,     -999.0,     -999.0,9,     -999.0
320620170820,        P06,     151,          1,         18,         18,2,20170828,       1128,   -32.4997,  -143.0404,       5102,  1246.7,   3.4257,  34.4036,2,  34.4120,2, 179.4415,2, 179.2628,2,    54.2,2,   33.86,2,    0.00,2,    2.33,2,   0.368,2,   0.207,2,   0.0000,2,  -999.0,9,  -999.0,9,-999.0000,9,  -999.00, -999.00,9, -999.00,9, -999.00,  -999.0,9, -999.00,9,     -999.0,9,  -999.0,9, 20170828,     1315, -32.4999,-143.0404,        0.0,1,      0.060,1,      4.693,1,      0.130,1,     -999.0,9,     -999.0,9,     -999.0,9,     -999.0,9,     -999.0,9,     -999.0,9,     -999.0,9,     -999.0,9,     -999.0,9,     -999.0,9,     -999.0,9,     3.3494,2,     -999.0,     -999.0,9,     -999.0
320620170820,        P06,     151,          1,         19,         19,2,20170828,       1128,   -32.4997,  -143.0404,       5102,  1147.4,   3.8854,  34.3565,2,  34.3590,2, 190.5193,2, 190.1548,2,    42.7,2,   32.80,2,    0.00,2,    2.24,2,   0.652,6,   0.344,6,   0.1080,6,  2213.9,2,  2309.4,2,   7.5951,2,    25.00, -999.00,9, -999.00,9, -999.00,  -999.0,9, -999.00,9,     -999.0,9,  -999.0,9, 20170828,     1317, -32.5001,-143.0404,        0.0,1,      0.060,1,      4.693,1,      0.129,1,     -999.0,9,     -999.0,9,     -999.0,9,     -999.0,9,     -999.0,9,     -999.0,9,     -999.0,9,     -999.0,9,     -999.0,9,     -999.0,9,     -999.0,9,     3.8136,2,     -999.0,     -999.0,9,     -999.0
320620170820,        P06,     151,          1,         20,         20,2,20170828,       1128,   -32.4997,  -143.0404,       5102,  1043.7,   4.3743,  34.3270,2,  34.3239,2, 201.3733,2, 199.6116,2,    31.7,2,   31.14,2,    0.00,2,    2.13,2,   1.059,2,   0.548,2,   0.0940,2,  -999.0,9,  -999.0,9,-999.0000,9,  -999.00, -999.00,9, -999.00,9, -999.00,  -999.0,9, -999.00,9,     -999.0,9,  -999.0,9, 20170828,     1320, -32.5002,-143.0404,        0.0,1,      0.061,1,      4.692,1,      0.131,1,     -999.0,9,     -999.0,9,     -999.0,9,     -999.0,9,     -999.0,9,     -999.0,9,     -999.0,9,     -999.0,9,     -999.0,9,     -999.0,9,     -999.0,9,     4.3989,2,     -999.0,     -999.0,9,     -999.0
320620170820,        P06,     151,          1,         21,         21,2,20170828,       1128,   -32.4997,  -143.0404,       5102,   943.6,   5.0340,  34.3044,2,  34.3036,2, 213.1941,2, 212.4137,2,    22.3,2,   29.11,2,    0.00,2,    1.98,2,   1.565,2,   0.800,2,   0.3000,2,  2179.0,2,  2295.3,2,   7.6454,2,    25.00, -999.00,9, -999.00,9, -999.00,  -999.0,9, -999.00,9,     -999.0,9,  -999.0,9, 20170828,     1323, -32.5000,-143.0404,        0.0,1,      0.059,1,      4.692,1,      0.131,1,     -999.0,9,     -999.0,9,     -999.0,9,     -999.0,9,     -999.0,9,     -999.0,9,     -999.0,9,     -999.0,9,     -999.0,9,     -999.0,9,     -999.0,9,     5.0026,2,     -999.0,     -999.0,9,     -999.0
320620170820,        P06,     151,          1,         22,         22,2,20170828,       1128,   -32.4997,  -143.0404,       5102,   840.0,   5.5597,  34.2996,2,  34.2976,2, 225.5121,2, 225.2555,2,    15.1,2,   26.88,2,    0.00,2,    1.82,2,   2.178,2,   1.126,2,   0.4820,2,  -999.0,9,  -999.0,9,-999.0000,9,  -999.00, -999.00,9, -999.00,9, -999.00,  -999.0,9, -999.00,9,     -999.0,9,  -999.0,9, 20170828,     1326, -32.4998,-143.0404,        0.0,1,      0.059,1,      4.692,1,      0.131,1,     -999.0,9,     -999.0,9,     -999.0,9,     -999.0,9,     -999.0,9,     -999.0,9,     -999.0,9,     -999.0,9,     -999.0,9,     -999.0,9,     -999.0,9,     5.5666,2,     -999.0,     -999.0,9,     -999.0
320620170820,        P06,     151,          1,         23,         23,2,20170828,       1128,   -32.4997,  -143.0404,       5102,   739.7,   6.0693,  34.3104,2,  34.3113,2, 236.7906,2, 236.6946,2,    10.4,2,   24.66,2,    0.00,2,    1.67,2,   2.852,2,   1.513,2,   0.7160,2,  2152.9,2,  2284.8,2,   7.6936,2,    25.00, -999.00,9, -999.00,9, -999.00,  -999.0,9, -999.00,9,     -999.0,9,  -999.0,9, 20170828,     1329, -32.4997,-143.0405,        0.0,1,      0.059,1,      4.691,1,      0.132,1,     -999.0,9,     -999.0,9,     -999.0,9,     -999.0,9,     -999.0,9,     -999.0,9,     -999.0,9,     -999.0,9,     -999.0,9,     -999.0,9,     -999.0,9,     6.1110,2,     -999.0,     -999.0,9,     -999.0
320620170820,        P06,     151,          1,         24,         24,2,20170828,       1128,   -32.4997,  -143.0404,       5102,   638.6,   6.5716,  34.3360,2,  34.3327,2, 241.9121,2, 242.4399,2,     8.1,2,   23.16,2,    0.00,2,    1.57,2,   3.311,2,   1.756,2,   0.9050,2,  -999.0,9,  -999.0,9,-999.0000,9,  -999.00, -999.00,9, -999.00,9, -999.00,  -999.0,9, -999.00,9,     -999.0,9,  -999.0,9, 20170828,     1332, -32.4998,-143.0405,        0.0,1,      0.059,1,      4.691,1,      0.132,1,     -999.0,9,     -999.0,9,     -999.0,9,     -999.0,9,     -999.0,9,     -999.0,9,     -999.0,9,     -999.0,9,     -999.0,9,     -999.0,9,     -999.0,9,     6.5335,2,     -999.0,     -999.0,9,     -999.0
320620170820,        P06,     151,          1,         25,         25,2,20170828,       1128,   -32.4997,  -143.0404,       5102,   539.2,   7.1019,  34.3693,2,  34.3662,2, 243.1907,2, 245.5822,2,     6.2,2,   21.42,2,    0.00,2,    1.48,2,   3.519,2,   1.894,2,   1.2630,2,  2144.0,2,  2282.2,2,   7.7152,2,    25.00, -999.00,9, -999.00,9, -999.00,  -999.0,9, -999.00,9,     -999.0,9,  -999.0,9, 20170828,     1335, -32.5000,-143.0404,        0.0,1,      0.059,1,      4.690,1,      0.134,1,     -999.0,9,     -999.0,9,     -999.0,9,     -999.0,9,     -999.0,9,     -999.0,9,     -999.0,9,     -999.0,9,     -999.0,9,     -999.0,9,     -999.0,9,     7.0867,2,     -999.0,     -999.0,9,     -999.0
320620170820,        P06,     151,          1,         26,         26,2,20170828,       1128,   -32.4997,  -143.0404,       5102,   436.8,   7.9093,  34.4121,2,  34.4061,2,  239.434,2, 240.3079,2,     4.8,2,   19.75,2,    0.00,2,    1.37,2,   3.481,2,   1.901,2,   1.3550,2,  2138.7,2,  2284.6,2,   7.7231,2,    25.00, -999.00,9, -999.00,9, -999.00,  -999.0,9, -999.00,9,     -999.0,9,  -999.0,9, 20170828,     1338, -32.4999,-143.0404,        0.0,1,      0.059,1,      4.689,1,      0.133,1,     -999.0,9,     -999.0,9,     -999.0,9,     -999.0,9,     -999.0,9,     -999.0,9,     -999.0,9,     -999.0,9,     -999.0,9,     -999.0,9,     -999.0,9,     7.7591,2,     -999.0,     -999.0,9,     -999.0