BOTTLE,20240211CCHSIOCBG
EXPOCODE,SECT_ID,STNNBR,CASTNO,SAMPNO,BTLNBR,BTLNBR_FLAG_W,DATE,TIME,LATITUDE,LONGITUDE,DEPTH,CTDPRS,CTDTMP,CTDSAL,CTDSAL_FLAG_W,SALNTY,SALNTY_FLAG_W,CTDOXY,CTDOXY_FLAG_W,OXYGEN,OXYGEN_FLAG_W,SILCAT,SILCAT_FLAG_W,NITRAT,NITRAT_FLAG_W,NITRIT,NITRIT_FLAG_W,PHSPHT,PHSPHT_FLAG_W,CFC-11,CFC-11_FLAG_W,CFC-12,CFC-12_FLAG_W,SF6,SF6_FLAG_W,TCARBN,TCARBN_FLAG_W,ALKALI,ALKALI_FLAG_W,PH_TOT,PH_TOT_FLAG_W,PH_TMP,DELC13,DELC13_FLAG_W,DELC14,DELC14_FLAG_W,C14ERR,DOC,DOC_FLAG_W,TDN,TDN_FLAG_W,TON,TON_FLAG_W,D15N_NO3,D15N_NO3_FLAG_W,BTL_DATE,BTL_TIME,BTL_LAT,BTL_LON,CTDRINKO,CTDRINKO_FLAG_W,CTDFLUOR,CTDFLUOR_FLAG_W,CTDXMISS,CTDXMISS_FLAG_W,CTDBACKSCATTER,CTDBACKSCATTER_FLAG_W,D18O_NO3,D18O_NO3_FLAG_W,DOP,DOP_FLAG_W,CELLCOUNT,CELLCOUNT_FLAG_W,TDP,TDP_FLAG_W,POP,POP_FLAG_W,DATP,DATP_FLAG_W,PATP,PATP_FLAG_W,HPLC,HPLC_FLAG_W,POC,POC_FLAG_W,BEAMAP,BEAMAP_FLAG_W,DOC_NASA,DOC_NASA_FLAG_W,REFTMP,REFTMP_FLAG_W,DOC_NASA_ERROR,TDN_NASA,TDN_NASA_FLAG_W,TDN_NASA_ERROR
,,,,,,,,,,,METERS,DBAR,ITS-90,PSS-78,,PSS-78,,UMOL/KG,,UMOL/KG,,UMOL/KG,,UMOL/KG,,UMOL/KG,,UMOL/KG,,PMOL/KG,,PMOL/KG,,FMOL/KG,,UMOL/KG,,UMOL/KG,,,,DEG C,/MILLE,,/MILLE,,/MILLE,UMOL/KG,,UMOL/KG,,UMOL/KG,,/MILLE,,,,,,VOLTS,,VOLTS,,VOLTS,,VOLTS,,/MILLE,,UMOL/KG,,/LITER,,UMOL/KG,,UMOL/L,,PMOL/L,,PMOL/L,,,,UG/L,,/METER,,UMOL/L,,ITS-90,,UMOL/L,UMOL/L,,UMOL/L
320620170820,        P06,     146,          1,          1,          1,2,20170825,       1818,   -32.4997,  -147.3894,       4585,  4661.0,   1.2572,  34.7057,2,  34.7079,3, 195.0937,2, 196.0756,2,   120.8,2,   32.60,2,    0.00,2,    2.24,2,   0.033,2,   0.026,2,   0.0000,2,  2272.3,2,  2314.6,4,   7.6079,2,    25.00, -999.00,9, -999.00,9, -999.00,  -999.0,9, -999.00,9,     -999.0,1,  -999.0,9, 20170825,     1818, -32.5000,-147.3898,        0.0,1,      0.060,1,      4.697,1,      0.123,1,     -999.0,9,     -999.0,9,     -999.0,9,     -999.0,9,     -999.0,9,     -999.0,9,     -999.0,9,     -999.0,9,     -999.0,9,     -999.0,9,     -999.0,9,     1.2582,2,     -999.0,     -999.0,9,     -999.0
320620170820,        P06,     146,          1,          2,          2,2,20170825,       1818,   -32.4997,  -147.3894,       4585,  4416.4,   1.2641,  34.7041,2,  34.7044,3, 193.8422,2, 194.2636,2,   121.3,2,   32.74,2,    0.00,2,    2.26,2,   0.037,2,   0.029,2,   0.0000,2,  2275.0,2,  -999.0,9,   7.6057,2,    25.00, -999.00,9, -999.00,9, -999.00,  -999.0,9, -999.00,9,     -999.0,9,  -999.0,9, 20170825,     1824, -32.5001,-147.3898,        0.0,1,      0.060,1,      4.697,1,      0.122,1,     -999.0,9,     -999.0,9,     -999.0,9,     -999.0,9,     -999.0,9,     -999.0,9,     -999.0,9,     -999.0,9,     -999.0,9,     -999.0,9,     -999.0,9,     1.2645,2,     -999.0,     -999.0,9,     -999.0
320620170820,        P06,     146,          1,          3,          3,2,20170825,       1818,   -32.4997,  -147.3894,       4585,  4169.4,   1.2828,  34.7030,2,  34.7038,3,  192.569,3, 191.5235,2,   121.7,2,   32.92,2,    0.00,2,    2.27,2,   0.033,2,   0.027,2,   0.0000,2,  2278.5,2,  2378.9,2,   7.6036,2,    25.00, -999.00,9, -999.00,9, -999.00,  -999.0,9, -999.00,9,     -999.0,1,  -999.0,9, 20170825,     1829, -32.4997,-147.3897,        0.0,1,      0.061,1,      4.698,1,      0.125,1,     -999.0,9,     -999.0,9,     -999.0,9,     -999.0,9,     -999.0,9,     -999.0,9,     -999.0,9,     -999.0,9,     -999.0,9,     -999.0,9,     -999.0,9,     1.2885,2,     -999.0,     -999.0,9,     -999.0
320620170820,        P06,     146,          1,          4,          4,2,20170825,       1818,   -32.4997,  -147.3894,       4585,  3861.2,   1.3529,  34.6995,2,  34.6995,3, 186.1068,2, 185.4815,2,   122.6,2,   33.29,2,    0.00,2,    2.31,2,   0.032,2,   0.027,2,   0.0000,2,  2284.3,2,  2385.8,2,   7.6011,2,    25.00, -999.00,9, -999.00,9, -999.00,  -999.0,9, -999.00,9,     -999.0,9,  -999.0,9, 20170825,     1835, -32.4999,-147.3898,        0.0,1,      0.061,1,      4.698,1,      0.123,1,     -999.0,9,     -999.0,9,     -999.0,9,     -999.0,9,     -999.0,9,     -999.0,9,     -999.0,9,     -999.0,9,     -999.0,9,     -999.0,9,     -999.0,9,     1.3642,2,     -999.0,     -999.0,9,     -999.0
320620170820,        P06,     146,          1,          5,          5,2,20170825,       1818,   -32.4997,  -147.3894,       4585,  3554.6,   1.4698,  34.6938,2,  34.6932,3, 178.4745,3, 180.0377,2,   124.5,2,   33.91,2,    0.00,2,    2.34,2,   0.032,2,   0.025,2,   0.0000,2,  2291.1,2,  2387.6,2,   7.5929,2,    25.00, -999.00,9, -999.00,9, -999.00,  -999.0,9, -999.00,9,     -999.0,1,  -999.0,9, 20170825,     1841, -32.4997,-147.3897,        0.0,1,      0.061,1,      4.698,1,      0.124,1,     -999.0,9,     -999.0,9,     -999.0,9,     -999.0,9,     -999.0,9,     -999.0,9,     -999.0,9,     -999.0,9,     -999.0,9,     -999.0,9,     -999.0,9,     1.4848,2,     -999.0,     -999.0,9,     -999.0
320620170820,        P06,     146,          1,          6,          6,2,20170825,       1818,   -32.4997,  -147.3894,       4585,  3245.4,   1.5874,  34.6854,2,  34.6901,3, 169.2029,3, 166.8635,2,   127.3,2,   34.63,2,    0.00,2,    2.39,2,   0.009,2,   0.031,2,   0.0000,2,  2301.4,2,  2396.2,2,   7.5860,2,    25.00, -999.00,9, -999.00,9, -999.00,  -999.0,9, -999.00,9,     -999.0,1,  -999.0,9, 20170825,     1848, -32.4997,-147.3897,        0.0,1,      0.061,1,      4.698,1,      0.124,1,     -999.0,9,     -999.0,9,     -999.0,9,     -999.0,9,     -999.0,9,     -999.0,9,     -999.0,9,     -999.0,9,     -999.0,9,     -999.0,9,     -999.0,9,     1.5987,2,     -999.0,     -999.0,9,     -999.0
320620170820,        P06,     146,          1,          7,          7,2,20170825,       1818,   -32.4997,  -147.3894,       4585,  2953.4,   1.6906,  34.6754,2,  34.6749,2, 159.2482,3, 157.9598,2,   129.4,2,   35.22,2,    0.00,2,    2.45,2,   0.027,2,   0.025,2,   0.0000,2,  2309.7,2,  2401.2,2,   7.5783,2,    25.00, -999.00,9, -999.00,9, -999.00,  -999.0,9, -999.00,9,     -999.0,1,  -999.0,9, 20170825,     1854, -32.4996,-147.3897,        0.0,1,      0.061,1,      4.698,1,      0.128,1,     -999.0,9,     -999.0,9,     -999.0,9,     -999.0,9,     -999.0,9,     -999.0,9,     -999.0,9,     -999.0,9,     -999.0,9,     -999.0,9,     -999.0,9,     1.6977,2,     -999.0,     -999.0,9,     -999.0
320620170820,        P06,     146,          1,          8,          8,2,20170825,       1818,   -32.4997,  -147.3894,       4585,  2700.3,   1.7902,  34.6664,2,  34.6667,2, 153.2198,2, 153.2331,2,   128.4,2,   35.54,2,    0.00,2,    2.46,2,   0.035,2,   0.029,2,   0.0000,2,  2311.6,2,  2403.2,2,   7.5743,2,    25.00, -999.00,9, -999.00,9, -999.00,  -999.0,9, -999.00,9,     -999.0,9,  -999.0,9, 20170825,     1859, -32.5000,-147.3897,        0.0,1,      0.062,1,      4.698,1,      0.128,1,     -999.0,9,     -999.0,9,     -999.0,9,     -999.0,9,     -999.0,9,     -999.0,9,     -999.0,9,     -999.0,9,     -999.0,9,     -999.0,9,     -999.0,9,     1.7895,2,     -999.0,     -999.0,9,     -999.0
320620170820,        P06,     146,          1,          9,          9,2,20170825,       1818,   -32.4997,  -147.3894,       4585,  2445.3,   1.8984,  34.6579,2,  34.6592,2,  150.733,2, 151.9193,2,   123.6,2,   35.51,2,    0.00,2,    2.47,2,   0.031,2,   0.025,2,   0.0000,2,  2309.9,6,  2397.3,2,   7.5719,2,    25.00, -999.00,9, -999.00,9, -999.00,  -999.0,9, -999.00,9,     -999.0,1,  -999.0,9, 20170825,     1905, -32.4996,-147.3897,        0.0,1,      0.062,1,      4.699,1,      0.129,1,     -999.0,9,     -999.0,9,     -999.0,9,     -999.0,9,     -999.0,9,     -999.0,9,     -999.0,9,     -999.0,9,     -999.0,9,     -999.0,9,     -999.0,9,     1.9106,2,     -999.0,     -999.0,9,     -999.0
320620170820,        P06,     146,          1,         10,         10,2,20170825,       1818,   -32.4997,  -147.3894,       4585,  2190.8,   2.0544,  34.6449,2,  34.6447,2, 150.7403,2, 151.7115,2,   117.2,2,   35.48,2,    0.00,2,    2.46,2,   0.034,2,   0.031,2,   0.0000,2,  2303.3,2,  2392.0,2,   7.5699,2,    25.00, -999.00,9, -999.00,9, -999.00,  -999.0,9, -999.00,9,     -999.0,9,  -999.0,9, 20170825,     1910, -32.4997,-147.3897,        0.0,1,      0.061,1,      4.698,1,      0.129,1,     -999.0,9,     -999.0,9,     -999.0,9,     -999.0,9,     -999.0,9,     -999.0,9,     -999.0,9,     -999.0,9,     -999.0,9,     -999.0,9,     -999.0,9,     2.0542,2,     -999.0,     -999.0,9,     -999.0
320620170820,        P06,     146,          1,         11,         11,2,20170825,       1818,   -32.4997,  -147.3894,       4585,  1954.5,   2.2243,  34.6264,2,  34.6272,2, 151.9801,2, 153.3019,2,   108.6,2,   35.30,2,    0.00,2,    2.45,2,   0.034,2,   0.027,2,   0.0000,2,  2295.6,2,  2383.2,2,   7.5701,6,    25.00, -999.00,9, -999.00,9, -999.00,  -999.0,9, -999.00,9,     -999.0,1,  -999.0,9, 20170825,     1915, -32.4999,-147.3897,        0.0,1,      0.061,1,      4.699,1,      0.129,1,     -999.0,9,     -999.0,9,     -999.0,9,     -999.0,9,     -999.0,9,     -999.0,9,     -999.0,9,     -999.0,9,     -999.0,9,     -999.0,9,     -999.0,9,     2.2325,2,     -999.0,     -999.0,9,     -999.0
320620170820,        P06,     146,          1,         12,         12,2,20170825,       1818,   -32.4997,  -147.3894,       4585,  1754.3,   2.4291,  34.5942,2,  34.5942,2, 155.9107,2, 156.8052,2,    97.5,2,   35.10,2,    0.00,2,    2.42,2,   0.043,2,   0.034,2,   0.0000,2,  2283.0,2,  2369.1,2,   7.5693,2,    25.00, -999.00,9, -999.00,9, -999.00,  -999.0,9, -999.00,9,     -999.0,9,  -999.0,9, 20170825,     1919, -32.5000,-147.3897,        0.0,1,      0.061,1,      4.699,1,      0.130,1,     -999.0,9,     -999.0,9,     -999.0,9,     -999.0,9,     -999.0,9,     -999.0,9,     -999.0,9,     -999.0,9,     -999.0,9,     -999.0,9,     -999.0,9,     2.4281,2,     -999.0,     -999.0,9,     -999.0
320620170820,        P06,     146,          1,         13,         13,2,20170825,       1818,   -32.4997,  -147.3894,       4585,  1580.5,   2.6545,  34.5505,2,  34.5429,2, 161.8226,2, 162.5738,2,    83.0,2,   34.76,2,    0.00,2,    2.39,2,   0.061,2,   0.047,2,   0.0000,2,  2267.2,2,  2354.2,2,   7.5684,2,    25.00, -999.00,9, -999.00,9, -999.00,  -999.0,9, -999.00,9,     -999.0,1,  -999.0,9, 20170825,     1923, -32.4997,-147.3897,        0.0,1,      0.061,1,      4.699,1,      0.130,1,     -999.0,9,     -999.0,9,     -999.0,9,     -999.0,9,     -999.0,9,     -999.0,9,     -999.0,9,     -999.0,9,     -999.0,9,     -999.0,9,     -999.0,9,     2.6874,2,     -999.0,     -999.0,9,     -999.0
320620170820,        P06,     146,          1,         14,         14,2,20170825,       1818,   -32.4997,  -147.3894,       4585,  1479.4,   2.8596,  34.5038,2,  34.5030,2, 168.4237,2, 168.1077,2,    72.5,2,   34.56,2,    0.00,2,    2.37,2,   0.140,2,   0.100,2,   0.0000,2,  2254.1,2,  -999.0,9,   7.5691,2,    25.00, -999.00,9, -999.00,9, -999.00,  -999.0,9, -999.00,9,     -999.0,1,  -999.0,9, 20170825,     1926, -32.4996,-147.3897,        0.0,1,      0.061,1,      4.699,1,      0.131,1,     -999.0,9,     -999.0,9,     -999.0,9,     -999.0,9,     -999.0,9,     -999.0,9,     -999.0,9,     -999.0,9,     -999.0,9,     -999.0,9,     -999.0,9,     2.8673,2,     -999.0,     -999.0,9,     -999.0
320620170820,        P06,     146,          1,         15,         15,2,20170825,       1818,   -32.4997,  -147.3894,       4585,  1377.9,   3.1032,  34.4547,2,  34.4732,2, 171.1664,2, 171.2519,2,    65.9,2,   34.33,2,    0.00,2,    2.36,2,   0.169,2,   0.111,2,   0.0387,2,  2246.8,2,  2333.4,2,   7.5734,2,    25.00, -999.00,9, -999.00,9, -999.00,  -999.0,9, -999.00,9,     -999.0,9,  -999.0,9, 20170825,     1929, -32.4999,-147.3897,        0.0,1,      0.061,1,      4.698,1,      0.130,1,     -999.0,9,     -999.0,9,     -999.0,9,     -999.0,9,     -999.0,9,     -999.0,9,     -999.0,9,     -999.0,9,     -999.0,9,     -999.0,9,     -999.0,9,     3.0591,2,     -999.0,     -999.0,9,     -999.0
320620170820,        P06,     146,          1,         16,         16,2,20170825,       1818,   -32.4997,  -147.3894,       4585,  1179.0,   3.6841,  34.3730,2,  34.3719,2, 187.5938,2, 187.3829,2,    45.2,2,   32.95,2,    0.00,2,    2.26,2,   0.671,2,   0.362,2,   0.0897,2,  2219.0,2,  2312.4,2,   7.5920,2,    25.00, -999.00,9, -999.00,9, -999.00,  -999.0,9, -999.00,9,     -999.0,1,  -999.0,9, 20170825,     1934, -32.5000,-147.3897,        0.0,1,      0.060,1,      4.699,1,      0.131,1,     -999.0,9,     -999.0,9,     -999.0,9,     -999.0,9,     -999.0,9,     -999.0,9,     -999.0,9,     -999.0,9,     -999.0,9,     -999.0,9,     -999.0,9,     3.6958,2,     -999.0,     -999.0,9,     -999.0
320620170820,        P06,     146,          1,         17,         17,2,20170825,       1818,   -32.4997,  -147.3894,       4585,   973.1,   4.9387,  34.3108,2,  34.3101,2, 210.7467,2, 208.8602,2,    24.2,2,   29.49,2,    0.00,2,    2.00,2,   1.590,2,   0.807,2,   0.2047,2,  2183.9,2,  2292.0,2,   7.6381,2,    25.00, -999.00,9, -999.00,9, -999.00,  -999.0,9, -999.00,9,     -999.0,1,  -999.0,9, 20170825,     1938, -32.5000,-147.3897,        0.0,1,      0.061,1,      4.698,1,      0.131,1,     -999.0,9,     -999.0,9,     -999.0,9,     -999.0,9,     -999.0,9,     -999.0,9,     -999.0,9,     -999.0,9,     -999.0,9,     -999.0,9,     -999.0,9,     4.9101,2,     -999.0,     -999.0,9,     -999.0
320620170820,        P06,     146,          1,         18,         18,2,20170825,       1818,   -32.4997,  -147.3894,       4585,   872.8,   5.5253,  34.3040,2,  34.3033,2, 221.3045,2, 220.2022,2,    17.3,2,   27.53,2,    0.00,2,    1.87,2,   2.115,2,   1.053,2,   0.3767,2,  2170.7,2,  2286.2,2,   7.6619,2,    25.00, -999.00,9, -999.00,9, -999.00,  -999.0,9, -999.00,9,     -999.0,9,  -999.0,9, 20170825,     1941, -32.5001,-147.3897,        0.0,1,      0.060,1,      4.698,1,      0.132,1,     -999.0,9,     -999.0,9,     -999.0,9,     -999.0,9,     -999.0,9,     -999.0,9,     -999.0,9,     -999.0,9,     -999.0,9,     -999.0,9,     -999.0,9,     5.4443,2,     -999.0,     -999.0,9,     -999.0
320620170820,        P06,     146,          1,         19,         19,2,20170825,       1818,   -32.4997,  -147.3894,       4585,   770.8,   6.0428,  34.3135,2,  34.3127,2,  234.327,2, 233.4946,2,    11.3,2,   25.12,2,    0.00,2,    1.71,2,   2.877,2,   1.454,2,   0.6957,2,  2157.7,2,  2281.9,2,   7.6888,2,    25.00, -999.00,9, -999.00,9, -999.00,  -999.0,9, -999.00,9,     -999.0,1,  -999.0,9, 20170825,     1944, -32.5000,-147.3896,        0.0,1,      0.060,1,      4.697,1,      0.132,1,     -999.0,9,     -999.0,9,     -999.0,9,     -999.0,9,     -999.0,9,     -999.0,9,     -999.0,9,     -999.0,9,     -999.0,9,     -999.0,9,     -999.0,9,     6.0402,2,     -999.0,     -999.0,9,     -999.0
320620170820,        P06,     146,          1,         20,         20,2,20170825,       1818,   -32.4997,  -147.3894,       4585,   670.4,   6.5869,  34.3410,2,  34.3443,2, 242.0857,2, 241.8046,2,     7.8,2,   22.93,2,    0.00,2,    1.55,2,   3.499,2,   1.825,2,   0.7847,2,  2149.2,2,  2280.7,2,   7.7060,2,    25.00, -999.00,9, -999.00,9, -999.00,  -999.0,9, -999.00,9,     -999.0,1,  -999.0,9, 20170825,     1947, -32.5001,-147.3897,        0.0,1,      0.059,1,      4.697,1,      0.133,1,     -999.0,9,     -999.0,9,     -999.0,9,     -999.0,9,     -999.0,9,     -999.0,9,     -999.0,9,     -999.0,9,     -999.0,9,     -999.0,9,     -999.0,9,     6.6573,2,     -999.0,     -999.0,9,     -999.0
320620170820,        P06,     146,          1,         21,         21,2,20170825,       1818,   -32.4997,  -147.3894,       4585,   569.8,   7.1734,  34.3852,2,  34.3894,2, 243.2303,2, 244.3472,2,     5.9,2,   21.08,2,    0.00,2,    1.44,2,   3.402,2,   2.165,2,   1.3387,2,  2144.5,2,  2283.6,2,   7.7167,2,    25.00, -999.00,9, -999.00,9, -999.00,  -999.0,9, -999.00,9,     -999.0,1,  -999.0,9, 20170825,     1949, -32.5001,-147.3897,        0.0,1,      0.059,1,      4.696,1,      0.133,1,     -999.0,9,     -999.0,9,     -999.0,9,     -999.0,9,     -999.0,9,     -999.0,9,     -999.0,9,     -999.0,9,     -999.0,9,     -999.0,9,     -999.0,9,     7.2374,2,     -999.0,     -999.0,9,     -999.0
320620170820,        P06,     146,          1,         22,         22,2,20170825,       1818,   -32.4997,  -147.3894,       4585,   487.7,   7.7271,  34.4311,2,  34.4320,2, 241.2709,2, 242.8921,2,     4.7,2,   19.43,2,    0.00,2,    1.34,2,   3.366,2,   1.953,2,   1.5647,2,  2142.5,6,  2507.6,4,   7.7273,2,    25.00, -999.00,9, -999.00,9, -999.00,  -999.0,9, -999.00,9,     -999.0,1,  -999.0,9, 20170825,     1952, -32.4999,-147.3896,        0.0,1,      0.059,1,      4.695,1,      0.135,1,     -999.0,9,     -999.0,9,     -999.0,9,     -999.0,9,     -999.0,9,     -999.0,9,     -999.0,9,     -999.0,9,     -999.0,9,     -999.0,9,     -999.0,9,     7.7515,2,     -999.0,     -999.0,9,     -999.0
320620170820,        P06,     146,          1,         23,         23,2,20170825,       1818,   -32.4997,  -147.3894,       4585,   436.9,   8.1850,  34.4645,2,  34.4642,2,  235.889,2, 238.7155,2,     3.9,2,   18.33,2,    0.00,2,    1.26,2,   3.465,2,   1.937,2,   1.3627,2,  2137.0,2,  2281.8,2,   7.7317,2,    25.00, -999.00,9, -999.00,9, -999.00,  -999.0,9, -999.00,9,     -999.0,1,  -999.0,9, 20170825,     1954, -32.4997,-147.3896,        0.0,1,      0.059,1,      4.694,1,      0.135,1,     -999.0,9,     -999.0,9,     -999.0,9,     -999.0,9,     -999.0,9,     -999.0,9,     -999.0,9,     -999.0,9,     -999.0,9,     -999.0,9,     -999.0,9,     8.1920,2,     -999.0,     -999.0,9,     -999.0
320620170820,        P06,     146,          1,         24,         24,2,20170825,       1818,   -32.4997,  -147.3894,       4585,   368.9,   9.0146,  34.5212,2,  34.5319,2, 219.9029,2,  226.579,2,     3.1,2,   16.35,2,    0.00,2,    1.14,2,   3.297,2,   1.862,2,   1.4047,2,  2133.1,2,  2283.7,2,   7.7453,2,    25.00, -999.00,9, -999.00,9, -999.00,  -999.0,9, -999.00,9,     -999.0,1,  -999.0,9, 20170825,     1956, -32.4995,-147.3896,        0.0,1,      0.059,1,      4.693,1,      0.136,1,     -999.0,9,     -999.0,9,     -999.0,9,     -999.0,9,     -999.0,9,     -999.0,9,     -999.0,9,     -999.0,9,     -999.0,9,     -999.0,9,     -999.0,9,     9.2002,2,     -999.0,     -999.0,9,     -999.0
320620170820,        P06,     146,          1,         25,         25,2,20170825,       1818,   -32.4997,  -147.3894,       4585,   287.3,  10.9412,  34.6839,2,  34.6838,2, 211.1224,2, 217.7685,2,     1.9,2,   12.17,2,    0.00,2,    0.89,2,   3.107,2,   1.757,2,   1.3897,2,  2121.3,2,  2289.9,2,   7.7831,2,    25.00, -999.00,9, -999.00,9, -999.00,  -999.0,9, -999.00,9,     -999.0,1,  -999.0,9, 20170825,     1959, -32.4996,-147.3896,        0.0,1,      0.060,1,      4.690,1,      0.133,1,     -999.0,9,     -999.0,9,     -999.0,9,     -999.0,9,     -999.0,9,     -999.0,9,     -999.0,9,     -999.0,9,     -999.0,9,     -999.0,9,     -999.0,9,    10.9731,2,     -999.0,     -999.0,9,     -999.0
320620170820,        P06,     146,          1,         26,         26,2,20170825,       1818,   -32.4997,  -147.3894,       4585,   234.6,  13.4778,  34.9787,2,  34.9246,2, 221.2342,2,  219.336,2,     0.9,2,    6.75,2,    0.00,2,    0.55,2,   2.733,2,   1.612,2,   1.5197,2,  2104.8,2,  2301.1,2,   7.8418,2,    25.00, -999.00,9, -999.00,9, -999.00,  -999.0,9, -999.00,9,     -999.0,1,  -999.0,9, 20170825,     2001, -32.4998,-147.3896,        0.0,1,      0.061,1,      4.688,1,      0.133,1,     -999.0,9,     -999.0,9,     -999.0,9,     -999.0,9,     -999.0,9,     -999.0,9,     -999.0,9,     -999.0,9,     -999.0,9,     -999.0,9,     -999.0,9,    13.0784,2,     -999.0,     -999.0,9,     -999.0