BOTTLE,20240211CCHSIOCBG
EXPOCODE,SECT_ID,STNNBR,CASTNO,SAMPNO,BTLNBR,BTLNBR_FLAG_W,DATE,TIME,LATITUDE,LONGITUDE,DEPTH,CTDPRS,CTDTMP,CTDSAL,CTDSAL_FLAG_W,SALNTY,SALNTY_FLAG_W,CTDOXY,CTDOXY_FLAG_W,OXYGEN,OXYGEN_FLAG_W,SILCAT,SILCAT_FLAG_W,NITRAT,NITRAT_FLAG_W,NITRIT,NITRIT_FLAG_W,PHSPHT,PHSPHT_FLAG_W,CFC-11,CFC-11_FLAG_W,CFC-12,CFC-12_FLAG_W,SF6,SF6_FLAG_W,TCARBN,TCARBN_FLAG_W,ALKALI,ALKALI_FLAG_W,PH_TOT,PH_TOT_FLAG_W,PH_TMP,DELC13,DELC13_FLAG_W,DELC14,DELC14_FLAG_W,C14ERR,DOC,DOC_FLAG_W,TDN,TDN_FLAG_W,TON,TON_FLAG_W,D15N_NO3,D15N_NO3_FLAG_W,BTL_DATE,BTL_TIME,BTL_LAT,BTL_LON,CTDRINKO,CTDRINKO_FLAG_W,CTDFLUOR,CTDFLUOR_FLAG_W,CTDXMISS,CTDXMISS_FLAG_W,CTDBACKSCATTER,CTDBACKSCATTER_FLAG_W,D18O_NO3,D18O_NO3_FLAG_W,DOP,DOP_FLAG_W,CELLCOUNT,CELLCOUNT_FLAG_W,TDP,TDP_FLAG_W,POP,POP_FLAG_W,DATP,DATP_FLAG_W,PATP,PATP_FLAG_W,HPLC,HPLC_FLAG_W,POC,POC_FLAG_W,BEAMAP,BEAMAP_FLAG_W,DOC_NASA,DOC_NASA_FLAG_W,REFTMP,REFTMP_FLAG_W,DOC_NASA_ERROR,TDN_NASA,TDN_NASA_FLAG_W,TDN_NASA_ERROR
,,,,,,,,,,,METERS,DBAR,ITS-90,PSS-78,,PSS-78,,UMOL/KG,,UMOL/KG,,UMOL/KG,,UMOL/KG,,UMOL/KG,,UMOL/KG,,PMOL/KG,,PMOL/KG,,FMOL/KG,,UMOL/KG,,UMOL/KG,,,,DEG C,/MILLE,,/MILLE,,/MILLE,UMOL/KG,,UMOL/KG,,UMOL/KG,,/MILLE,,,,,,VOLTS,,VOLTS,,VOLTS,,VOLTS,,/MILLE,,UMOL/KG,,/LITER,,UMOL/KG,,UMOL/L,,PMOL/L,,PMOL/L,,,,UG/L,,/METER,,UMOL/L,,ITS-90,,UMOL/L,UMOL/L,,UMOL/L
320620170820,        P06,     182,          1,          1,          1,2,20170909,       0414,   -32.5001,  -117.2357,       3193,  3230.2,   1.7285,  34.6745,2,  34.6745,2, 165.3317,2, 165.5492,2,   122.0,2,   34.70,2,    0.00,2,    2.43,2,   0.040,2,   0.024,2,   0.0000,2,  2298.6,6,  2393.9,2,   7.5899,2,    25.00, -999.00,9, -999.00,9, -999.00,    36.4,2, -999.00,9,     -999.0,1,  -999.0,9, 20170909,      414, -32.5001,-117.2356,        0.0,1,      0.061,1,      4.691,1,      0.126,1,     -999.0,9,     -999.0,9,     -999.0,9,     -999.0,9,     -999.0,9,     -999.0,9,     -999.0,9,     -999.0,9,     -999.0,9,     -999.0,9,     -999.0,9,     1.7288,2,     -999.0,     -999.0,9,     -999.0
320620170820,        P06,     182,          1,          2,          2,2,20170909,       0414,   -32.5001,  -117.2357,       3193,  3102.6,   1.7168,  34.6748,2,  34.6747,2, 165.3317,2, 165.3963,2,   121.9,2,   34.65,2,    0.00,2,    2.41,2,   0.040,2,   0.026,2,   0.0000,2,  2298.0,2,  2392.5,2,   7.5890,2,    25.00, -999.00,9, -999.00,9, -999.00,  -999.0,9, -999.00,9,     -999.0,9,  -999.0,9, 20170909,      419, -32.5000,-117.2357,        0.0,1,      0.061,1,      4.691,1,      0.131,1,     -999.0,9,     -999.0,9,     -999.0,9,     -999.0,9,     -999.0,9,     -999.0,9,     -999.0,9,     -999.0,9,     -999.0,9,     -999.0,9,     -999.0,9,     1.7178,2,     -999.0,     -999.0,9,     -999.0
320620170820,        P06,     182,          1,          3,          3,2,20170909,       0414,   -32.5001,  -117.2357,       3193,  2974.9,   1.7158,  34.6737,2,  34.6736,2, 165.0876,2, 165.1941,2,   121.6,2,   34.57,2,    0.00,2,    2.43,2,   0.040,2,   0.026,2,   0.0000,2,  2299.7,2,  2392.8,2,   7.5884,2,    25.00, -999.00,9, -999.00,9, -999.00,    34.9,2, -999.00,9,     -999.0,1,  -999.0,9, 20170909,      422, -32.4999,-117.2357,        0.0,1,      0.061,1,      4.692,1,      0.127,1,     -999.0,9,     -999.0,9,     -999.0,9,     -999.0,9,     -999.0,9,     -999.0,9,     -999.0,9,     -999.0,9,     -999.0,9,     -999.0,9,     -999.0,9,     1.7163,2,     -999.0,     -999.0,9,     -999.0
320620170820,        P06,     182,          1,          4,          4,2,20170909,       0414,   -32.5001,  -117.2357,       3193,  2772.7,   1.7279,  34.6712,2,  34.6712,2, 165.0069,2, 164.8848,2,   121.7,2,   34.75,2,    0.00,2,    2.43,2,   0.040,2,   0.025,2,   0.0000,2,  2299.7,2,  2391.6,2,   7.5862,2,    25.00, -999.00,9, -999.00,9, -999.00,    38.3,2, -999.00,9,     -999.0,1,  -999.0,9, 20170909,      426, -32.5000,-117.2357,        0.0,1,      0.061,1,      4.692,1,      0.126,1,     -999.0,9,     -999.0,9,     -999.0,9,     -999.0,9,     -999.0,9,     -999.0,9,     -999.0,9,     -999.0,9,     -999.0,9,     -999.0,9,     -999.0,9,     1.7290,2,     -999.0,     -999.0,9,     -999.0
320620170820,        P06,     182,          1,          5,          5,2,20170909,       0414,   -32.5001,  -117.2357,       3193,  2568.4,   1.7752,  34.6664,2,  34.6669,2, 162.8051,2, 162.0433,2,   120.3,2,   34.84,2,    0.00,2,    2.44,2,   0.036,2,   0.026,2,   0.0000,2,  2298.7,2,  2392.7,2,   7.5837,2,    25.00, -999.00,9, -999.00,9, -999.00,    34.4,2, -999.00,9,     -999.0,1,  -999.0,9, 20170909,      430, -32.5004,-117.2355,        0.0,1,      0.061,1,      4.692,1,      0.129,1,     -999.0,9,     -999.0,9,     -999.0,9,     -999.0,9,     -999.0,9,     -999.0,9,     -999.0,9,     -999.0,9,     -999.0,9,     -999.0,9,     -999.0,9,     1.7742,2,     -999.0,     -999.0,9,     -999.0
320620170820,        P06,     182,          1,          6,          6,2,20170909,       0414,   -32.5001,  -117.2357,       3193,  2363.1,   1.8443,  34.6591,2,  34.6588,2, 160.1346,2, 159.9963,2,   119.2,2,   34.97,2,    0.00,2,    2.44,2,   0.041,2,   0.028,2,   0.0000,2,  2297.0,2,  2391.2,2,   7.5808,2,    25.00, -999.00,9, -999.00,9, -999.00,  -999.0,9, -999.00,9,     -999.0,9,  -999.0,9, 20170909,      435, -32.5003,-117.2355,        0.0,1,      0.061,1,      4.693,1,      0.127,1,     -999.0,9,     -999.0,9,     -999.0,9,     -999.0,9,     -999.0,9,     -999.0,9,     -999.0,9,     -999.0,9,     -999.0,9,     -999.0,9,     -999.0,9,     1.8424,2,     -999.0,     -999.0,9,     -999.0
320620170820,        P06,     182,          1,          7,          7,2,20170909,       0414,   -32.5001,  -117.2357,       3193,  2161.1,   1.9710,  34.6486,2,  34.6490,2, 157.5304,2, 157.5796,2,   115.0,2,   35.07,2,    0.00,2,    2.44,2,   0.040,2,   0.026,2,   0.0000,2,  2298.1,2,  2385.3,2,   7.5765,2,    25.00, -999.00,9, -999.00,9, -999.00,    39.4,2, -999.00,9,     -999.0,1,  -999.0,9, 20170909,      439, -32.5001,-117.2356,        0.0,1,      0.061,1,      4.693,1,      0.127,1,     -999.0,9,     -999.0,9,     -999.0,9,     -999.0,9,     -999.0,9,     -999.0,9,     -999.0,9,     -999.0,9,     -999.0,9,     -999.0,9,     -999.0,9,     1.9634,2,     -999.0,     -999.0,9,     -999.0
320620170820,        P06,     182,          1,          8,          8,2,20170909,       0414,   -32.5001,  -117.2357,       3193,  1958.0,   2.1197,  34.6341,2,  34.6331,2, 156.4949,2, 157.0052,2,   107.6,2,   35.05,2,    0.00,2,    2.43,2,   0.043,2,   0.028,2,   0.0000,2,  2290.3,6,  2383.0,2,   7.5731,2,    25.00, -999.00,9, -999.00,9, -999.00,  -999.0,9, -999.00,9,     -999.0,9,  -999.0,9, 20170909,      444, -32.5003,-117.2356,        0.0,1,      0.061,1,      4.693,1,      0.130,1,     -999.0,9,     -999.0,9,     -999.0,9,     -999.0,9,     -999.0,9,     -999.0,9,     -999.0,9,     -999.0,9,     -999.0,9,     -999.0,9,     -999.0,9,     2.1191,2,     -999.0,     -999.0,9,     -999.0
320620170820,        P06,     182,          1,          9,          9,2,20170909,       0414,   -32.5001,  -117.2357,       3193,  1785.6,   2.3027,  34.6094,2,  34.6105,2, 158.0817,2, 158.5886,2,    98.9,2,   34.90,2,    0.00,2,    2.42,2,   0.055,2,   0.040,2,   0.0000,2,  2281.7,2,  2367.6,2,   7.5694,2,    25.00, -999.00,9, -999.00,9, -999.00,    37.0,2, -999.00,9,     -999.0,1,  -999.0,9, 20170909,      448, -32.5004,-117.2354,        0.0,1,      0.061,1,      4.693,1,      0.128,1,     -999.0,9,     -999.0,9,     -999.0,9,     -999.0,9,     -999.0,9,     -999.0,9,     -999.0,9,     -999.0,9,     -999.0,9,     -999.0,9,     -999.0,9,     2.2921,2,     -999.0,     -999.0,9,     -999.0
320620170820,        P06,     182,          1,         10,         10,2,20170909,       0414,   -32.5001,  -117.2357,       3193,  1683.7,   2.4462,  34.5845,2,  34.5902,2, 159.5786,2, 160.2676,2,    92.3,2,   34.86,2,    0.00,2,    2.42,2,   0.070,2,   0.046,2,   0.0000,2,  2275.1,2,  2359.3,6,   7.5675,2,    25.00, -999.00,9, -999.00,9, -999.00,  -999.0,9, -999.00,9,     -999.0,9,  -999.0,9, 20170909,      450, -32.5005,-117.2354,        0.0,1,      0.061,1,      4.693,1,      0.129,1,     -999.0,9,     -999.0,9,     -999.0,9,     -999.0,9,     -999.0,9,     -999.0,9,     -999.0,9,     -999.0,9,     -999.0,9,     -999.0,9,     -999.0,9,     2.4063,2,     -999.0,     -999.0,9,     -999.0
320620170820,        P06,     182,          1,         11,         11,2,20170909,       0414,   -32.5001,  -117.2357,       3193,  1581.4,   2.6008,  34.5552,2,  34.5610,2, 161.5278,2, 161.2175,2,    84.5,2,   34.88,2,    0.00,2,    2.40,2,   0.087,2,   0.057,2,   0.0000,2,  2268.2,2,  2353.1,2,   7.5648,2,    25.00, -999.00,9, -999.00,9, -999.00,    39.7,2, -999.00,9,     -999.0,1,  -999.0,9, 20170909,      453, -32.5006,-117.2353,        0.0,1,      0.061,1,      4.694,1,      0.129,1,     -999.0,9,     -999.0,9,     -999.0,9,     -999.0,9,     -999.0,9,     -999.0,9,     -999.0,9,     -999.0,9,     -999.0,9,     -999.0,9,     -999.0,9,     2.5618,2,     -999.0,     -999.0,9,     -999.0
320620170820,        P06,     182,          1,         12,         12,2,20170909,       0414,   -32.5001,  -117.2357,       3193,  1478.8,   2.7955,  34.5194,2,  34.5237,2, 162.4263,2, 163.0442,2,    76.4,2,   35.00,2,    0.00,2,    2.42,2,   0.123,6,   0.077,6,   0.0000,6,  2260.0,2,  2342.1,2,   7.5607,6,    25.00, -999.00,9, -999.00,9, -999.00,  -999.0,9, -999.00,9,     -999.0,9,  -999.0,9, 20170909,      456, -32.5006,-117.2353,        0.0,1,      0.061,1,      4.694,1,      0.129,1,     -999.0,9,     -999.0,9,     -999.0,9,     -999.0,9,     -999.0,9,     -999.0,9,     -999.0,9,     -999.0,9,     -999.0,9,     -999.0,9,     -999.0,9,     2.7621,2,     -999.0,     -999.0,9,     -999.0
320620170820,        P06,     182,          1,         13,         13,2,20170909,       0414,   -32.5001,  -117.2357,       3193,  1378.1,   3.0428,  34.4811,2,  34.4830,2, 160.6198,2, 159.6032,2,    69.0,2,   35.33,2,    0.00,2,    2.44,2,   0.151,2,   0.091,2,   0.0000,2,  2255.2,2,  2334.1,2,   7.5549,2,    25.00, -999.00,9, -999.00,9, -999.00,    39.5,2, -999.00,9,     -999.0,1,  -999.0,9, 20170909,      459, -32.5004,-117.2354,        0.0,1,      0.061,1,      4.694,1,      0.131,1,     -999.0,9,     -999.0,9,     -999.0,9,     -999.0,9,     -999.0,9,     -999.0,9,     -999.0,9,     -999.0,9,     -999.0,9,     -999.0,9,     -999.0,9,     3.0311,2,     -999.0,     -999.0,9,     -999.0
320620170820,        P06,     182,          1,         14,         14,2,20170909,       0414,   -32.5001,  -117.2357,       3193,  1276.2,   3.3128,  34.4441,2,  34.4453,2, 158.9863,2, 158.2593,2,    61.7,2,   35.51,2,    0.00,2,    2.45,2,   0.179,2,   0.106,2,   0.0000,2,  2249.2,2,  2325.7,2,   7.5496,2,    25.00, -999.00,9, -999.00,9, -999.00,  -999.0,9, -999.00,9,     -999.0,9,  -999.0,9, 20170909,      501, -32.5003,-117.2356,        0.0,1,      0.061,1,      4.694,1,      0.128,1,     -999.0,9,     -999.0,9,     -999.0,9,     -999.0,9,     -999.0,9,     -999.0,9,     -999.0,9,     -999.0,9,     -999.0,9,     -999.0,9,     -999.0,9,     3.3028,2,     -999.0,     -999.0,9,     -999.0
320620170820,        P06,     182,          1,         15,         15,2,20170909,       0414,   -32.5001,  -117.2357,       3193,  1175.2,   3.6311,  34.3975,2,  34.3998,2, 163.5533,2, 163.6125,2,    52.7,2,   35.10,2,    0.00,2,    2.42,2,   0.256,2,   0.147,2,   0.0000,2,  2234.3,2,  2314.8,2,   7.5568,2,    25.00, -999.00,9, -999.00,9, -999.00,    37.9,2, -999.00,9,     -999.0,1,  -999.0,9, 20170909,      504, -32.5002,-117.2356,        0.0,1,      0.060,1,      4.693,1,      0.128,1,     -999.0,9,     -999.0,9,     -999.0,9,     -999.0,9,     -999.0,9,     -999.0,9,     -999.0,9,     -999.0,9,     -999.0,9,     -999.0,9,     -999.0,9,     3.6020,2,     -999.0,     -999.0,9,     -999.0
320620170820,        P06,     182,          1,         16,         16,2,20170909,       0414,   -32.5001,  -117.2357,       3193,  1075.3,   4.0661,  34.3435,2,  34.3421,2, 177.3196,2,  177.243,2,    39.3,2,   33.67,2,    0.00,2,    2.32,2,   0.487,2,   0.261,2,   0.0000,2,  2218.0,2,  2304.5,2,   7.5779,2,    25.00, -999.00,9, -999.00,9, -999.00,  -999.0,9, -999.00,9,     -999.0,9,  -999.0,9, 20170909,      507, -32.5001,-117.2357,        0.0,1,      0.061,1,      4.694,1,      0.128,1,     -999.0,9,     -999.0,9,     -999.0,9,     -999.0,9,     -999.0,9,     -999.0,9,     -999.0,9,     -999.0,9,     -999.0,9,     -999.0,9,     -999.0,9,     4.0700,2,     -999.0,     -999.0,9,     -999.0
320620170820,        P06,     182,          1,         17,         17,2,20170909,       0414,   -32.5001,  -117.2357,       3193,   972.7,   4.5559,  34.2973,2,  34.2931,2, 201.8412,2, 201.4447,2,    25.7,2,   30.92,2,    0.00,2,    2.10,2,   1.200,2,   0.604,2,   0.1200,2,  2188.8,2,  2289.0,2,   7.6192,2,    25.00, -999.00,9, -999.00,9, -999.00,    46.9,3, -999.00,9,     -999.0,1,  -999.0,9, 20170909,      510, -32.5000,-117.2358,        0.0,1,      0.060,1,      4.693,1,      0.129,1,     -999.0,9,     -999.0,9,     -999.0,9,     -999.0,9,     -999.0,9,     -999.0,9,     -999.0,9,     -999.0,9,     -999.0,9,     -999.0,9,     -999.0,9,     4.6111,2,     -999.0,     -999.0,9,     -999.0
320620170820,        P06,     182,          1,         18,         18,2,20170909,       0414,   -32.5001,  -117.2357,       3193,   873.2,   5.0236,  34.2785,2,  34.2766,2,  214.778,2,  215.125,2,    18.7,2,   29.05,2,    0.00,2,    1.97,2,   1.850,2,   0.904,2,   0.2150,2,  2175.4,2,  2283.7,2,   7.6443,2,    25.00, -999.00,9, -999.00,9, -999.00,  -999.0,9, -999.00,9,     -999.0,9,  -999.0,9, 20170909,      513, -32.5001,-117.2358,        0.0,1,      0.059,1,      4.693,1,      0.128,1,     -999.0,9,     -999.0,9,     -999.0,9,     -999.0,9,     -999.0,9,     -999.0,9,     -999.0,9,     -999.0,9,     -999.0,9,     -999.0,9,     -999.0,9,     5.0287,2,     -999.0,     -999.0,9,     -999.0
320620170820,        P06,     182,          1,         19,         19,2,20170909,       0414,   -32.5001,  -117.2357,       3193,   770.8,   5.5171,  34.2736,2,  34.2719,2, 232.3946,2, 232.5513,2,    12.5,2,   26.58,2,    0.00,2,    1.80,2,   3.394,2,   1.680,2,   0.5700,2,  2159.1,2,  2279.1,2,   7.6731,2,    25.00, -999.00,9, -999.00,9, -999.00,    42.0,2, -999.00,9,     -999.0,1,  -999.0,9, 20170909,      516, -32.5002,-117.2357,        0.0,1,      0.060,1,      4.693,1,      0.129,1,     -999.0,9,     -999.0,9,     -999.0,9,     -999.0,9,     -999.0,9,     -999.0,9,     -999.0,9,     -999.0,9,     -999.0,9,     -999.0,9,     -999.0,9,     5.5235,2,     -999.0,     -999.0,9,     -999.0
320620170820,        P06,     182,          1,         20,         20,2,20170909,       0414,   -32.5001,  -117.2357,       3193,   669.2,   5.9303,  34.2859,2,  34.2852,2, 241.0008,2, 241.5542,2,     9.3,2,   24.68,2,    0.00,2,    1.65,2,   3.394,2,   1.680,2,   0.5700,2,  2150.2,2,  2277.5,2,   7.6912,2,    25.00, -999.00,9, -999.00,9, -999.00,    42.3,2, -999.00,9,     -999.0,1,  -999.0,9, 20170909,      518, -32.5002,-117.2356,        0.0,1,      0.059,1,      4.692,1,      0.132,1,     -999.0,9,     -999.0,9,     -999.0,9,     -999.0,9,     -999.0,9,     -999.0,9,     -999.0,9,     -999.0,9,     -999.0,9,     -999.0,9,     -999.0,9,     5.9567,2,     -999.0,     -999.0,9,     -999.0
320620170820,        P06,     182,          1,         21,         21,2,20170909,       0414,   -32.5001,  -117.2357,       3193,   569.3,   6.4205,  34.3093,2,  34.3082,2, 241.7721,3, 238.8846,2,     7.5,2,   23.65,2,    0.00,2,    1.59,2,   3.636,2,   1.882,2,   0.8130,2,  2148.8,6,  2274.9,2,   7.6925,2,    25.00, -999.00,9, -999.00,9, -999.00,    45.1,2, -999.00,9,     -999.0,1,  -999.0,9, 20170909,      521, -32.5002,-117.2356,        0.0,1,      0.059,1,      4.691,1,      0.128,1,     -999.0,9,     -999.0,9,     -999.0,9,     -999.0,9,     -999.0,9,     -999.0,9,     -999.0,9,     -999.0,9,     -999.0,9,     -999.0,9,     -999.0,9,     6.4730,2,     -999.0,     -999.0,9,     -999.0
320620170820,        P06,     182,          1,         22,         22,2,20170909,       0414,   -32.5001,  -117.2357,       3193,   487.2,   6.9565,  34.3152,2,  34.3123,2, 230.1926,2, 230.0994,2,     6.5,2,   23.05,2,    0.00,2,    1.55,2,   3.635,2,   1.890,2,   1.0000,2,  2150.5,2,  2273.3,2,   7.6866,2,    25.00, -999.00,9, -999.00,9, -999.00,    44.9,2, -999.00,9,     -999.0,1,  -999.0,9, 20170909,      523, -32.5001,-117.2357,        0.0,1,      0.059,1,      4.690,1,      0.132,1,     -999.0,9,     -999.0,9,     -999.0,9,     -999.0,9,     -999.0,9,     -999.0,9,     -999.0,9,     -999.0,9,     -999.0,9,     -999.0,9,     -999.0,9,     6.9707,2,     -999.0,     -999.0,9,     -999.0
320620170820,        P06,     182,          1,         23,         23,2,20170909,       0414,   -32.5001,  -117.2357,       3193,   437.1,   7.6844,  34.3105,2,  34.3078,2, 226.0662,2, 225.3049,2,     4.8,2,   21.19,2,    0.00,2,    1.46,2,   3.602,2,   1.882,2,   1.0710,2,  2143.2,2,  2272.3,2,   7.6993,2,    25.00, -999.00,9, -999.00,9, -999.00,    45.0,2, -999.00,9,     -999.0,1,  -999.0,9, 20170909,      525, -32.5001,-117.2358,        0.0,1,      0.060,1,      4.689,1,      0.131,1,     -999.0,9,     -999.0,9,     -999.0,9,     -999.0,9,     -999.0,9,     -999.0,9,     -999.0,9,     -999.0,9,     -999.0,9,     -999.0,9,     -999.0,9,     7.7970,2,     -999.0,     -999.0,9,     -999.0
320620170820,        P06,     182,          1,         24,         24,2,20170909,       0414,   -32.5001,  -117.2357,       3193,   386.7,   8.9342,  34.3448,2,  34.3423,2, 224.1703,2, 223.6499,2,     3.2,2,   18.27,2,    0.00,2,    1.27,2,   3.481,2,   1.847,2,   1.2250,2,  2131.9,2,  2272.6,2,   7.7277,2,    25.00, -999.00,9, -999.00,9, -999.00,    44.5,2, -999.00,9,     -999.0,1,  -999.0,9, 20170909,      527, -32.5000,-117.2358,        0.0,1,      0.060,1,      4.688,1,      0.132,1,     -999.0,9,     -999.0,9,     -999.0,9,     -999.0,9,     -999.0,9,     -999.0,9,     -999.0,9,     -999.0,9,     -999.0,9,     -999.0,9,     -999.0,9,     8.8948,2,     -999.0,     -999.0,9,     -999.0
320620170820,        P06,     182,          1,         25,         25,2,20170909,       0414,   -32.5001,  -117.2357,       3193,   336.2,  10.1470,  34.4082,2,  34.4018,2, 221.0242,2, 220.5983,2,     2.1,2,   15.24,2,    0.00,2,    1.07,2,   3.301,2,   1.808,2,   1.1990,2,  2119.8,2,  2272.1,2,   7.7582,6,    25.00, -999.00,9, -999.00,9, -999.00,  -999.0,9, -999.00,9,     -999.0,9,  -999.0,9, 20170909,      529, -32.5000,-117.2358,        0.0,1,      0.059,1,      4.686,1,      0.129,1,     -999.0,9,     -999.0,9,     -999.0,9,     -999.0,9,     -999.0,9,     -999.0,9,     -999.0,9,     -999.0,9,     -999.0,9,     -999.0,9,     -999.0,9,    10.0877,2,     -999.0,     -999.0,9,     -999.0
320620170820,        P06,     182,          1,         26,         26,2,20170909,       0414,   -32.5001,  -117.2357,       3193,   286.3,  11.8356,  34.5420,2,  34.5087,2, 216.5992,2, 217.6365,2,     1.2,2,   11.64,2,    0.00,2,    0.84,2,   3.069,2,   1.725,2,   1.2940,2,  2107.4,2,  2277.8,2,   7.7936,2,    25.00, -999.00,9, -999.00,9, -999.00,    52.6,2,   13.80,2,     -999.0,1,  -999.0,9, 20170909,      531, -32.5000,-117.2358,        0.0,1,      0.060,1,      4.684,1,      0.134,1,     -999.0,9,     -999.0,9,     -999.0,9,     -999.0,9,     -999.0,9,     -999.0,9,     -999.0,9,     -999.0,9,     -999.0,9,     -999.0,9,     -999.0,9,    11.5922,2,     -999.0,     -999.0,9,     -999.0