BOTTLE,20240211CCHSIOCBG
EXPOCODE,SECT_ID,STNNBR,CASTNO,SAMPNO,BTLNBR,BTLNBR_FLAG_W,DATE,TIME,LATITUDE,LONGITUDE,DEPTH,CTDPRS,CTDTMP,CTDSAL,CTDSAL_FLAG_W,SALNTY,SALNTY_FLAG_W,CTDOXY,CTDOXY_FLAG_W,OXYGEN,OXYGEN_FLAG_W,SILCAT,SILCAT_FLAG_W,NITRAT,NITRAT_FLAG_W,NITRIT,NITRIT_FLAG_W,PHSPHT,PHSPHT_FLAG_W,CFC-11,CFC-11_FLAG_W,CFC-12,CFC-12_FLAG_W,SF6,SF6_FLAG_W,TCARBN,TCARBN_FLAG_W,ALKALI,ALKALI_FLAG_W,PH_TOT,PH_TOT_FLAG_W,PH_TMP,DELC13,DELC13_FLAG_W,DELC14,DELC14_FLAG_W,C14ERR,DOC,DOC_FLAG_W,TDN,TDN_FLAG_W,TON,TON_FLAG_W,D15N_NO3,D15N_NO3_FLAG_W,BTL_DATE,BTL_TIME,BTL_LAT,BTL_LON,CTDRINKO,CTDRINKO_FLAG_W,CTDFLUOR,CTDFLUOR_FLAG_W,CTDXMISS,CTDXMISS_FLAG_W,CTDBACKSCATTER,CTDBACKSCATTER_FLAG_W,D18O_NO3,D18O_NO3_FLAG_W,DOP,DOP_FLAG_W,CELLCOUNT,CELLCOUNT_FLAG_W,TDP,TDP_FLAG_W,POP,POP_FLAG_W,DATP,DATP_FLAG_W,PATP,PATP_FLAG_W,HPLC,HPLC_FLAG_W,POC,POC_FLAG_W,BEAMAP,BEAMAP_FLAG_W,DOC_NASA,DOC_NASA_FLAG_W,REFTMP,REFTMP_FLAG_W,DOC_NASA_ERROR,TDN_NASA,TDN_NASA_FLAG_W,TDN_NASA_ERROR
,,,,,,,,,,,METERS,DBAR,ITS-90,PSS-78,,PSS-78,,UMOL/KG,,UMOL/KG,,UMOL/KG,,UMOL/KG,,UMOL/KG,,UMOL/KG,,PMOL/KG,,PMOL/KG,,FMOL/KG,,UMOL/KG,,UMOL/KG,,,,DEG C,/MILLE,,/MILLE,,/MILLE,UMOL/KG,,UMOL/KG,,UMOL/KG,,/MILLE,,,,,,VOLTS,,VOLTS,,VOLTS,,VOLTS,,/MILLE,,UMOL/KG,,/LITER,,UMOL/KG,,UMOL/L,,PMOL/L,,PMOL/L,,,,UG/L,,/METER,,UMOL/L,,ITS-90,,UMOL/L,UMOL/L,,UMOL/L
320620170820,        P06,     222,          3,          1,          1,2,20170921,       1731,   -32.4995,   -85.5358,       3645,  3694.4,   1.6520,  34.6946,2,  34.6938,2, 164.9763,2, 165.2543,2,   123.5,2,   34.62,2,    0.00,2,    2.38,2,-999.000,9,-999.000,9,-999.0000,9,  2304.5,6,  2398.9,2,   7.5883,2,    25.00, -999.00,9, -999.00,9, -999.00,    39.5,2, -999.00,9,     -999.0,1,  -999.0,1, 20170921,     1731, -32.4996, -85.5357,        0.0,1,      0.061,1,      4.682,1,      0.131,1,     -999.0,1,     -999.0,9,     -999.0,9,     -999.0,9,     -999.0,9,     -999.0,9,     -999.0,9,     -999.0,9,     -999.0,9,     -999.0,9,     -999.0,9,     1.6520,2,     -999.0,     -999.0,9,     -999.0
320620170820,        P06,     222,          3,          2,          2,2,20170921,       1731,   -32.4995,   -85.5358,       3645,  3522.6,   1.6570,  34.6938,2,  34.6928,2, 164.8173,2, 165.2728,2,   123.3,2,   34.57,2,    0.00,2,    2.40,2,-999.000,9,-999.000,9,-999.0000,9,  2302.4,2,  2395.5,2,   7.5875,6,    25.00, -999.00,9, -999.00,9, -999.00,    40.4,2, -999.00,9,     -999.0,1,  -999.0,1, 20170921,     1736, -32.4996, -85.5356,        0.0,1,      0.061,1,      4.684,1,      0.127,1,     -999.0,1,     -999.0,9,     -999.0,9,     -999.0,9,     -999.0,9,     -999.0,9,     -999.0,9,     -999.0,9,     -999.0,9,     -999.0,9,     -999.0,9,     1.6564,2,     -999.0,     -999.0,9,     -999.0
320620170820,        P06,     222,          3,          3,          3,2,20170921,       1731,   -32.4995,   -85.5358,       3645,  3349.1,   1.6896,  34.6914,2,  34.6906,2, 164.8898,2, 164.6095,2,   122.6,2,   34.61,2,    0.00,2,    2.40,2,-999.000,9,-999.000,9,-999.0000,9,  -999.0,9,  -999.0,9,-999.0000,9,  -999.00, -999.00,9, -999.00,9, -999.00,  -999.0,9, -999.00,9,     -999.0,9,  -999.0,1, 20170921,     1741, -32.4996, -85.5356,        0.0,1,      0.061,1,      4.685,1,      0.129,1,     -999.0,1,     -999.0,9,     -999.0,9,     -999.0,9,     -999.0,9,     -999.0,9,     -999.0,9,     -999.0,9,     -999.0,9,     -999.0,9,     -999.0,9,     1.6917,2,     -999.0,     -999.0,9,     -999.0
320620170820,        P06,     222,          3,          4,          4,2,20170921,       1731,   -32.4995,   -85.5358,       3645,  3042.5,   1.7765,  34.6840,2,  34.6840,2, 161.7512,2, 160.8703,2,   121.5,2,   34.84,2,    0.00,2,    2.43,2,-999.000,9,-999.000,9,-999.0000,9,  2303.1,2,  2394.0,2,   7.5803,2,    25.00, -999.00,9, -999.00,9, -999.00,    41.2,2, -999.00,9,     -999.0,1,  -999.0,1, 20170921,     1747, -32.4996, -85.5357,        0.0,1,      0.061,1,      4.684,1,      0.129,1,     -999.0,1,     -999.0,9,     -999.0,9,     -999.0,9,     -999.0,9,     -999.0,9,     -999.0,9,     -999.0,9,     -999.0,9,     -999.0,9,     -999.0,9,     1.7738,2,     -999.0,     -999.0,9,     -999.0
320620170820,        P06,     222,          3,          5,          5,2,20170921,       1731,   -32.4995,   -85.5358,       3645,  2838.1,   1.8271,  34.6774,2,  34.6771,2,   157.35,2, 156.9578,2,   121.8,2,   35.12,2,    0.00,2,    2.46,2,-999.000,9,-999.000,9,-999.0000,9,  -999.0,9,  -999.0,9,-999.0000,9,  -999.00, -999.00,9, -999.00,9, -999.00,  -999.0,9, -999.00,9,     -999.0,9,  -999.0,1, 20170921,     1753, -32.4995, -85.5358,        0.0,1,      0.061,1,      4.684,1,      0.133,1,     -999.0,1,     -999.0,9,     -999.0,9,     -999.0,9,     -999.0,9,     -999.0,9,     -999.0,9,     -999.0,9,     -999.0,9,     -999.0,9,     -999.0,9,     1.8249,2,     -999.0,     -999.0,9,     -999.0
320620170820,        P06,     222,          3,          6,          6,2,20170921,       1731,   -32.4995,   -85.5358,       3645,  2634.4,   1.8860,  34.6697,2,  34.6690,2,  153.897,2, 153.9613,2,   121.0,2,   35.35,2,    0.00,2,    2.48,2,-999.000,9,-999.000,9,-999.0000,9,  2305.7,2,  2392.9,6,   7.5712,2,    25.00, -999.00,9, -999.00,9, -999.00,    38.4,2, -999.00,9,     -999.0,1,  -999.0,1, 20170921,     1758, -32.4995, -85.5359,        0.0,1,      0.061,1,      4.684,1,      0.133,1,     -999.0,1,     -999.0,9,     -999.0,9,     -999.0,9,     -999.0,9,     -999.0,9,     -999.0,9,     -999.0,9,     -999.0,9,     -999.0,9,     -999.0,9,     1.8818,2,     -999.0,     -999.0,9,     -999.0
320620170820,        P06,     222,          3,          7,          7,2,20170921,       1731,   -32.4995,   -85.5358,       3645,  2430.8,   1.9580,  34.6607,2,  34.6596,2, 150.2363,2, 150.2069,2,   119.7,2,   35.65,2,    0.00,2,    2.50,2,-999.000,9,-999.000,9,-999.0000,9,  -999.0,9,  -999.0,9,-999.0000,9,  -999.00, -999.00,9, -999.00,9, -999.00,    38.2,2, -999.00,9,     -999.0,1,  -999.0,1, 20170921,     1803, -32.4995, -85.5359,        0.0,1,      0.062,1,      4.684,1,      0.132,1,     -999.0,1,     -999.0,9,     -999.0,9,     -999.0,9,     -999.0,9,     -999.0,9,     -999.0,9,     -999.0,9,     -999.0,9,     -999.0,9,     -999.0,9,     1.9556,2,     -999.0,     -999.0,9,     -999.0
320620170820,        P06,     222,          3,          8,          8,2,20170921,       1731,   -32.4995,   -85.5358,       3645,  2227.0,   2.0615,  34.6491,2,  34.6482,2, 145.9546,2, 147.3332,2,   117.3,2,   35.94,2,    0.00,2,    2.53,2,-999.000,9,-999.000,9,-999.0000,9,  2304.9,2,  2388.0,2,   7.5571,2,    25.00, -999.00,9, -999.00,9, -999.00,    36.7,2, -999.00,9,     -999.0,1,  -999.0,1, 20170921,     1808, -32.4995, -85.5359,        0.0,1,      0.061,1,      4.684,1,      0.135,1,     -999.0,1,     -999.0,9,     -999.0,9,     -999.0,9,     -999.0,9,     -999.0,9,     -999.0,9,     -999.0,9,     -999.0,9,     -999.0,9,     -999.0,9,     2.0516,2,     -999.0,     -999.0,9,     -999.0
320620170820,        P06,     222,          3,          9,          9,2,20170921,       1731,   -32.4995,   -85.5358,       3645,  2024.2,   2.2105,  34.6343,2,  34.6315,2, 141.0662,2, 141.5015,2,   113.4,2,   36.38,2,    0.00,2,    2.57,2,-999.000,9,-999.000,9,-999.0000,9,  -999.0,9,  -999.0,9,-999.0000,9,  -999.00, -999.00,9, -999.00,9, -999.00,  -999.0,9, -999.00,9,     -999.0,9,  -999.0,1, 20170921,     1813, -32.4995, -85.5359,        0.0,1,      0.061,1,      4.684,1,      0.132,1,     -999.0,1,     -999.0,9,     -999.0,9,     -999.0,9,     -999.0,9,     -999.0,9,     -999.0,9,     -999.0,9,     -999.0,9,     -999.0,9,     -999.0,9,     2.2152,2,     -999.0,     -999.0,9,     -999.0
320620170820,        P06,     222,          3,         10,         10,2,20170921,       1731,   -32.4995,   -85.5358,       3645,  1818.9,   2.4298,  34.6146,2,  34.6134,2,  132.321,2,  131.927,2,   109.1,2,   37.17,2,    0.00,2,    2.63,2,-999.000,9,-999.000,9,-999.0000,9,  2306.3,2,  2381.4,2,   7.5301,2,    25.00, -999.00,9, -999.00,9, -999.00,    38.1,2, -999.00,9,     -999.0,1,  -999.0,1, 20170921,     1818, -32.4995, -85.5359,        0.0,1,      0.062,1,      4.684,1,      0.135,1,     -999.0,1,     -999.0,9,     -999.0,9,     -999.0,9,     -999.0,9,     -999.0,9,     -999.0,9,     -999.0,9,     -999.0,9,     -999.0,9,     -999.0,9,     2.4317,2,     -999.0,     -999.0,9,     -999.0
320620170820,        P06,     222,          3,         11,         11,2,20170921,       1731,   -32.4995,   -85.5358,       3645,  1616.6,   2.6766,  34.5922,2,  34.5897,2, 125.0985,2, 125.0953,2,   102.2,2,   37.75,2,    0.00,2,    2.68,2,-999.000,9,-999.000,9,-999.0000,9,  -999.0,9,  -999.0,9,-999.0000,9,  -999.00, -999.00,9, -999.00,9, -999.00,  -999.0,9, -999.00,9,     -999.0,9,  -999.0,1, 20170921,     1823, -32.4995, -85.5359,        0.0,1,      0.063,1,      4.684,1,      0.133,1,     -999.0,1,     -999.0,9,     -999.0,9,     -999.0,9,     -999.0,9,     -999.0,9,     -999.0,9,     -999.0,9,     -999.0,9,     -999.0,9,     -999.0,9,     2.6969,2,     -999.0,     -999.0,9,     -999.0
320620170820,        P06,     222,          3,         12,         12,2,20170921,       1731,   -32.4995,   -85.5358,       3645,  1515.5,   2.8286,  34.5781,2,  34.5765,2,  122.036,2, 121.3305,2,    98.6,2,   38.12,2,    0.00,2,    2.71,2,-999.000,9,-999.000,9,-999.0000,9,  2301.4,2,  2366.6,2,   7.5099,2,    25.00, -999.00,9, -999.00,9, -999.00,    37.4,2, -999.00,9,     -999.0,1,  -999.0,1, 20170921,     1826, -32.4995, -85.5359,        0.0,1,      0.063,1,      4.684,1,      0.134,1,     -999.0,1,     -999.0,9,     -999.0,9,     -999.0,9,     -999.0,9,     -999.0,9,     -999.0,9,     -999.0,9,     -999.0,9,     -999.0,9,     -999.0,9,     2.8303,2,     -999.0,     -999.0,9,     -999.0
320620170820,        P06,     222,          3,         13,         13,2,20170921,       1731,   -32.4995,   -85.5358,       3645,  1414.1,   2.9937,  34.5626,2,  34.5592,2, 118.8257,2, 118.0913,2,    93.6,2,   38.43,2,    0.00,2,    2.73,2,-999.000,9,-999.000,9,-999.0000,9,  2299.3,6,  2362.3,2,   7.5034,2,    25.00, -999.00,9, -999.00,9, -999.00,    39.0,2, -999.00,9,     -999.0,1,  -999.0,1, 20170921,     1830, -32.4995, -85.5359,        0.0,1,      0.062,1,      4.684,1,      0.135,1,     -999.0,1,     -999.0,9,     -999.0,9,     -999.0,9,     -999.0,9,     -999.0,9,     -999.0,9,     -999.0,9,     -999.0,9,     -999.0,9,     -999.0,9,     3.0041,2,     -999.0,     -999.0,9,     -999.0
320620170820,        P06,     222,          3,         14,         14,2,20170921,       1731,   -32.4995,   -85.5358,       3645,  1211.1,   3.3224,  34.5056,2,  34.5029,2, 116.7188,2, 116.7689,2,    78.6,2,   38.77,2,    0.00,2,    2.74,2,-999.000,9,-999.000,9,-999.0000,9,  2288.1,2,  2344.9,2,   7.4893,2,    25.00, -999.00,9, -999.00,9, -999.00,    37.3,2, -999.00,9,     -999.0,1,  -999.0,1, 20170921,     1835, -32.4995, -85.5359,        0.0,1,      0.062,1,      4.683,1,      0.136,1,     -999.0,1,     -999.0,9,     -999.0,9,     -999.0,9,     -999.0,9,     -999.0,9,     -999.0,9,     -999.0,9,     -999.0,9,     -999.0,9,     -999.0,9,     3.3252,2,     -999.0,     -999.0,9,     -999.0
320620170820,        P06,     222,          3,         15,         15,2,20170921,       1731,   -32.4995,   -85.5358,       3645,  1109.4,   3.5423,  34.4692,2,  34.4640,2, 122.4488,2, 122.9441,2,    68.5,2,   38.41,2,    0.00,2,    2.69,2,-999.000,9,-999.000,9,-999.0000,9,  -999.0,9,  -999.0,9,-999.0000,9,  -999.00, -999.00,9, -999.00,9, -999.00,  -999.0,9, -999.00,9,     -999.0,9,  -999.0,1, 20170921,     1838, -32.4995, -85.5359,        0.0,1,      0.061,1,      4.683,1,      0.137,1,     -999.0,1,     -999.0,9,     -999.0,9,     -999.0,9,     -999.0,9,     -999.0,9,     -999.0,9,     -999.0,9,     -999.0,9,     -999.0,9,     -999.0,9,     3.5473,2,     -999.0,     -999.0,9,     -999.0
320620170820,        P06,     222,          3,         16,         16,2,20170921,       1731,   -32.4995,   -85.5358,       3645,  1008.4,   3.7410,  34.4103,2,  34.4067,2, 140.2868,2, 140.6762,2,    55.4,2,   37.09,2,    0.00,2,    2.57,2,-999.000,9,-999.000,9,-999.0000,9,  2254.0,2,  2317.3,2,   7.5155,2,    25.00, -999.00,9, -999.00,9, -999.00,    46.4,3, -999.00,9,     -999.0,1,  -999.0,1, 20170921,     1842, -32.4995, -85.5359,        0.0,1,      0.061,1,      4.683,1,      0.144,1,     -999.0,1,     -999.0,9,     -999.0,9,     -999.0,9,     -999.0,9,     -999.0,9,     -999.0,9,     -999.0,9,     -999.0,9,     -999.0,9,     -999.0,9,     3.7415,2,     -999.0,     -999.0,9,     -999.0
320620170820,        P06,     222,          3,         17,         17,2,20170921,       1731,   -32.4995,   -85.5358,       3645,   907.2,   4.0529,  34.3469,2,  34.3399,2, 168.4925,2,  168.715,2,    40.0,2,   34.57,2,    0.00,2,    2.37,2,-999.000,9,-999.000,9,-999.0000,9,  -999.0,9,  2302.2,2,-999.0000,9,  -999.00, -999.00,9, -999.00,9, -999.00,  -999.0,9, -999.00,9,     -999.0,9,  -999.0,1, 20170921,     1845, -32.4995, -85.5359,        0.0,1,      0.061,1,      4.684,1,      0.137,1,     -999.0,1,     -999.0,9,     -999.0,9,     -999.0,9,     -999.0,9,     -999.0,9,     -999.0,9,     -999.0,9,     -999.0,9,     -999.0,9,     -999.0,9,     4.0828,2,     -999.0,     -999.0,9,     -999.0
320620170820,        P06,     222,          3,         18,         18,2,20170921,       1731,   -32.4995,   -85.5358,       3645,   806.2,   4.5567,  34.2977,2,  34.2938,2, 189.5147,2, 189.8218,2,    27.7,2,   32.21,2,    0.00,2,    2.21,2,-999.000,9,-999.000,9,-999.0000,9,  2199.5,2,  2289.4,2,   7.5875,2,    25.00, -999.00,9, -999.00,9, -999.00,    40.8,2, -999.00,9,     -999.0,1,  -999.0,1, 20170921,     1848, -32.4995, -85.5359,        0.0,1,      0.061,1,      4.683,1,      0.137,1,     -999.0,1,     -999.0,9,     -999.0,9,     -999.0,9,     -999.0,9,     -999.0,9,     -999.0,9,     -999.0,9,     -999.0,9,     -999.0,9,     -999.0,9,     4.5684,2,     -999.0,     -999.0,9,     -999.0
320620170820,        P06,     222,          3,         19,         19,2,20170921,       1731,   -32.4995,   -85.5358,       3645,   705.0,   5.1044,  34.2630,2,  34.2626,2, 211.0632,2, 210.3987,2,    18.4,2,   29.73,2,    0.00,2,    2.02,2,-999.000,9,-999.000,9,-999.0000,9,  -999.0,9,  -999.0,9,-999.0000,9,  -999.00, -999.00,9, -999.00,9, -999.00,  -999.0,9, -999.00,9,     -999.0,9,  -999.0,1, 20170921,     1852, -32.4995, -85.5359,        0.0,1,      0.060,1,      4.683,1,      0.138,1,     -999.0,1,     -999.0,9,     -999.0,9,     -999.0,9,     -999.0,9,     -999.0,9,     -999.0,9,     -999.0,9,     -999.0,9,     -999.0,9,     -999.0,9,     5.0523,2,     -999.0,     -999.0,9,     -999.0
320620170820,        P06,     222,          3,         20,         20,2,20170921,       1731,   -32.4995,   -85.5358,       3645,   604.1,   5.5172,  34.2533,2,  34.2517,2, 227.3829,2, 227.0265,2,    12.4,2,   27.33,2,    0.00,2,    1.86,2,-999.000,9,-999.000,9,-999.0000,9,  2167.7,2,  2276.0,2,   7.6478,2,    25.00, -999.00,9, -999.00,9, -999.00,    43.7,2, -999.00,9,     -999.0,1,  -999.0,1, 20170921,     1855, -32.4995, -85.5360,        0.0,1,      0.060,1,      4.682,1,      0.141,1,     -999.0,1,     -999.0,9,     -999.0,9,     -999.0,9,     -999.0,9,     -999.0,9,     -999.0,9,     -999.0,9,     -999.0,9,     -999.0,9,     -999.0,9,     5.4993,2,     -999.0,     -999.0,9,     -999.0
320620170820,        P06,     222,          3,         21,         21,2,20170921,       1731,   -32.4995,   -85.5358,       3645,   503.5,   6.0437,  34.2704,2,  34.2662,2, 216.1128,2,  217.159,2,    10.8,2,   27.04,2,    0.00,2,    1.85,2,-999.000,9,-999.000,9,-999.0000,9,  -999.0,9,  -999.0,9,-999.0000,9,  -999.00, -999.00,9, -999.00,9, -999.00,    44.1,2, -999.00,9,     -999.0,1,  -999.0,1, 20170921,     1858, -32.4995, -85.5359,        0.0,1,      0.061,1,      4.680,1,      0.142,1,     -999.0,1,     -999.0,9,     -999.0,9,     -999.0,9,     -999.0,9,     -999.0,9,     -999.0,9,     -999.0,9,     -999.0,9,     -999.0,9,     -999.0,9,     6.0393,2,     -999.0,     -999.0,9,     -999.0
320620170820,        P06,     222,          3,         22,         22,2,20170921,       1731,   -32.4995,   -85.5358,       3645,   452.4,   6.5532,  34.3015,2,  34.2976,2, 177.0582,3, 181.1814,2,    12.2,2,   28.88,2,    0.00,2,    1.99,2,-999.000,9,-999.000,9,-999.0000,9,  2187.8,2,  2272.8,6,   7.5779,2,    25.00, -999.00,9, -999.00,9, -999.00,    41.8,2,   31.80,2,     -999.0,1,  -999.0,1, 20170921,     1901, -32.4995, -85.5359,        0.0,1,      0.061,1,      4.679,1,      0.143,1,     -999.0,1,     -999.0,9,     -999.0,9,     -999.0,9,     -999.0,9,     -999.0,9,     -999.0,9,     -999.0,9,     -999.0,9,     -999.0,9,     -999.0,9,     6.5416,2,     -999.0,     -999.0,9,     -999.0
320620170820,        P06,     222,          3,         23,         23,2,20170921,       1731,   -32.4995,   -85.5358,       3645,   402.7,   7.1897,  34.3421,2,  34.3356,2, 125.0758,2, 129.2738,2,    15.4,2,   31.96,2,    0.00,2,    2.28,2,-999.000,9,-999.000,9,-999.0000,9,  -999.0,9,  -999.0,9,-999.0000,9,  -999.00, -999.00,9, -999.00,9, -999.00,    48.2,2, -999.00,5,     -999.0,1,  -999.0,1, 20170921,     1903, -32.4995, -85.5359,        0.0,1,      0.062,1,      4.674,1,      0.151,1,     -999.0,1,     -999.0,9,     -999.0,9,     -999.0,9,     -999.0,9,     -999.0,9,     -999.0,9,     -999.0,9,     -999.0,9,     -999.0,9,     -999.0,9,     7.1450,2,     -999.0,     -999.0,9,     -999.0
320620170820,        P06,     222,          3,         24,         24,2,20170921,       1731,   -32.4995,   -85.5358,       3645,   301.1,   8.6062,  34.2876,2,  34.2985,2, 146.1011,2, 144.6544,2,    10.9,2,   26.10,2,    0.00,2,    2.01,2,-999.000,9,-999.000,9,-999.0000,9,  2196.4,2,  2268.4,2,   7.5465,2,    25.00, -999.00,9, -999.00,9, -999.00,    45.2,2, -999.00,5,     -999.0,1,  -999.0,1, 20170921,     1907, -32.4995, -85.5359,        0.0,1,      0.061,1,      4.675,1,      0.146,1,     -999.0,1,     -999.0,1,     -999.0,9,     -999.0,9,     -999.0,9,     -999.0,9,     -999.0,9,     -999.0,9,     -999.0,9,     -999.0,9,     -999.0,9,     8.5759,2,     -999.0,     -999.0,9,     -999.0
320620170820,        P06,     222,          3,         25,         25,2,20170921,       1731,   -32.4995,   -85.5358,       3645,   251.1,   9.4480,  34.1683,2,  34.1568,2, 206.2118,2,  206.889,2,     3.2,2,   19.80,2,    0.00,2,    1.44,2,-999.000,9,-999.000,9,-999.0000,9,  2138.1,2,  2259.6,2,   7.6894,6,    25.00, -999.00,9, -999.00,9, -999.00,    45.0,2,   22.60,2,     -999.0,1,  -999.0,1, 20170921,     1909, -32.4995, -85.5360,        0.0,1,      0.061,1,      4.675,1,      0.143,1,     -999.0,1,     -999.0,1,     -999.0,9,     -999.0,9,     -999.0,9,     -999.0,9,     -999.0,9,     -999.0,9,     -999.0,9,     -999.0,9,     -999.0,9,     9.5259,2,     -999.0,     -999.0,9,     -999.0
320620170820,        P06,     222,          3,         26,         26,2,20170921,       1731,   -32.4995,   -85.5358,       3645,   200.2,  11.3054,  34.1802,2,  34.1566,2, 205.9015,2, 213.7334,2,     1.1,2,   15.37,2,    0.02,2,    1.11,2,-999.000,9,-999.000,9,-999.0000,9,  2112.8,2,  2260.7,2,   7.7553,2,    25.00, -999.00,9, -999.00,9, -999.00,    48.1,2,   18.10,2,     -999.0,1,  -999.0,1, 20170921,     1912, -32.4995, -85.5359,        0.0,1,      0.062,1,      4.670,1,      0.150,1,     -999.0,1,     -999.0,1,     -999.0,1,     -999.0,1,     -999.0,1,     -999.0,1,     -999.0,1,     -999.0,9,     -999.0,9,     -999.0,9,     -999.0,9,    11.3871,2,     -999.0,     -999.0,9,     -999.0