BOTTLE,20240211CCHSIOCBG
EXPOCODE,SECT_ID,STNNBR,CASTNO,SAMPNO,BTLNBR,BTLNBR_FLAG_W,DATE,TIME,LATITUDE,LONGITUDE,DEPTH,CTDPRS,CTDTMP,CTDSAL,CTDSAL_FLAG_W,SALNTY,SALNTY_FLAG_W,CTDOXY,CTDOXY_FLAG_W,OXYGEN,OXYGEN_FLAG_W,SILCAT,SILCAT_FLAG_W,NITRAT,NITRAT_FLAG_W,NITRIT,NITRIT_FLAG_W,PHSPHT,PHSPHT_FLAG_W,CFC-11,CFC-11_FLAG_W,CFC-12,CFC-12_FLAG_W,SF6,SF6_FLAG_W,TCARBN,TCARBN_FLAG_W,ALKALI,ALKALI_FLAG_W,PH_TOT,PH_TOT_FLAG_W,PH_TMP,DELC13,DELC13_FLAG_W,DELC14,DELC14_FLAG_W,C14ERR,DOC,DOC_FLAG_W,TDN,TDN_FLAG_W,TON,TON_FLAG_W,D15N_NO3,D15N_NO3_FLAG_W,BTL_DATE,BTL_TIME,BTL_LAT,BTL_LON,CTDRINKO,CTDRINKO_FLAG_W,CTDFLUOR,CTDFLUOR_FLAG_W,CTDXMISS,CTDXMISS_FLAG_W,CTDBACKSCATTER,CTDBACKSCATTER_FLAG_W,D18O_NO3,D18O_NO3_FLAG_W,DOP,DOP_FLAG_W,CELLCOUNT,CELLCOUNT_FLAG_W,TDP,TDP_FLAG_W,POP,POP_FLAG_W,DATP,DATP_FLAG_W,PATP,PATP_FLAG_W,HPLC,HPLC_FLAG_W,POC,POC_FLAG_W,BEAMAP,BEAMAP_FLAG_W,DOC_NASA,DOC_NASA_FLAG_W,REFTMP,REFTMP_FLAG_W,DOC_NASA_ERROR,TDN_NASA,TDN_NASA_FLAG_W,TDN_NASA_ERROR
,,,,,,,,,,,METERS,DBAR,ITS-90,PSS-78,,PSS-78,,UMOL/KG,,UMOL/KG,,UMOL/KG,,UMOL/KG,,UMOL/KG,,UMOL/KG,,PMOL/KG,,PMOL/KG,,FMOL/KG,,UMOL/KG,,UMOL/KG,,,,DEG C,/MILLE,,/MILLE,,/MILLE,UMOL/KG,,UMOL/KG,,UMOL/KG,,/MILLE,,,,,,VOLTS,,VOLTS,,VOLTS,,VOLTS,,/MILLE,,UMOL/KG,,/LITER,,UMOL/KG,,UMOL/L,,PMOL/L,,PMOL/L,,,,UG/L,,/METER,,UMOL/L,,ITS-90,,UMOL/L,UMOL/L,,UMOL/L
320620170820,        P06,     156,          1,          1,          1,2,20170830,       0855,   -32.4989,  -138.5881,       4572,  4645.7,   1.3475,  34.7051,2,  34.7050,3, 191.1176,2, 191.6847,2,   120.2,2,   32.87,2,    0.00,2,    2.27,2,   0.031,6,   0.027,6,   0.0000,6,  2278.1,6,  2379.5,2,   7.6092,2,    25.00, -999.00,9, -999.00,9, -999.00,    41.1,2, -999.00,9,     -999.0,1,  -999.0,9, 20170830,      855, -32.4994,-138.5880,        0.0,1,      0.061,1,      4.694,1,      0.125,1,     -999.0,9,     -999.0,9,     -999.0,9,     -999.0,9,     -999.0,9,     -999.0,9,     -999.0,9,     -999.0,9,     -999.0,9,     -999.0,9,     -999.0,9,     1.3482,2,     -999.0,     -999.0,9,     -999.0
320620170820,        P06,     156,          1,          2,          2,2,20170830,       0855,   -32.4989,  -138.5881,       4572,  4427.9,   1.3304,  34.7048,2,  34.7044,3, 191.1176,2, 191.2286,2,   120.1,2,   32.83,2,    0.00,2,    2.27,2,   0.029,2,   0.023,2,   0.0000,2,  2278.6,2,  2380.4,2,   7.6069,2,    25.00, -999.00,9, -999.00,9, -999.00,  -999.0,9, -999.00,9,     -999.0,9,  -999.0,9, 20170830,      902, -32.4993,-138.5879,        0.0,1,      0.061,1,      4.694,1,      0.123,1,     -999.0,9,     -999.0,9,     -999.0,9,     -999.0,9,     -999.0,9,     -999.0,9,     -999.0,9,     -999.0,9,     -999.0,9,     -999.0,9,     -999.0,9,     1.3314,2,     -999.0,     -999.0,9,     -999.0
320620170820,        P06,     156,          1,          3,          3,2,20170830,       0855,   -32.4989,  -138.5881,       4572,  4274.0,   1.3358,  34.7036,2,  34.7028,3, 190.1706,2, 189.8429,2,   120.4,2,   32.93,2,    0.00,2,    2.28,2,   0.028,2,   0.020,2,   0.0000,2,  2279.1,2,  2381.4,2,   7.6078,2,    25.00, -999.00,9, -999.00,9, -999.00,    39.8,2, -999.00,9,     -999.0,1,  -999.0,9, 20170830,      908, -32.4991,-138.5877,        0.0,1,      0.062,1,      4.694,1,      0.123,1,     -999.0,9,     -999.0,9,     -999.0,9,     -999.0,9,     -999.0,9,     -999.0,9,     -999.0,9,     -999.0,9,     -999.0,9,     -999.0,9,     -999.0,9,     1.3370,2,     -999.0,     -999.0,9,     -999.0
320620170820,        P06,     156,          1,          4,          4,2,20170830,       0855,   -32.4989,  -138.5881,       4572,  3963.7,   1.4083,  34.6979,2,  34.6948,3, 182.9979,2, 183.4019,2,   121.9,2,   33.33,2,    0.00,2,    2.31,2,   0.030,2,   0.021,2,   0.0000,2,  2284.6,2,  2384.5,2,   7.6004,2,    25.00, -999.00,9, -999.00,9, -999.00,  -999.0,9, -999.00,9,     -999.0,9,  -999.0,9, 20170830,      917, -32.4990,-138.5876,        0.0,1,      0.061,1,      4.695,1,      0.125,1,     -999.0,9,     -999.0,9,     -999.0,9,     -999.0,9,     -999.0,9,     -999.0,9,     -999.0,9,     -999.0,9,     -999.0,9,     -999.0,9,     -999.0,9,     1.4063,2,     -999.0,     -999.0,9,     -999.0
320620170820,        P06,     156,          1,          5,          5,2,20170830,       0855,   -32.4989,  -138.5881,       4572,  3656.2,   1.5111,  34.6897,2,  34.6873,2, 176.0121,2, 175.2129,2,   123.6,2,   33.91,2,    0.00,2,    2.35,2,   0.030,2,   0.019,2,   0.0000,2,  2291.7,2,  2388.7,2,   7.5947,2,    25.00, -999.00,9, -999.00,9, -999.00,    38.3,2, -999.00,9,     -999.0,1,  -999.0,9, 20170830,      925, -32.4992,-138.5879,        0.0,1,      0.061,1,      4.695,1,      0.124,1,     -999.0,9,     -999.0,9,     -999.0,9,     -999.0,9,     -999.0,9,     -999.0,9,     -999.0,9,     -999.0,9,     -999.0,9,     -999.0,9,     -999.0,9,     1.5103,2,     -999.0,     -999.0,9,     -999.0
320620170820,        P06,     156,          1,          6,          6,2,20170830,       0855,   -32.4989,  -138.5881,       4572,  3350.4,   1.6021,  34.6814,2,  34.6800,2, 170.1984,2, 169.4017,2,   124.7,2,   34.42,2,    0.00,2,    2.39,2,   0.034,2,   0.024,2,   0.0000,2,  2297.6,2,  2390.7,2,   7.5905,2,    25.00, -999.00,9, -999.00,9, -999.00,    43.4,3, -999.00,9,     -999.0,1,  -999.0,9, 20170830,      932, -32.4992,-138.5879,        0.0,1,      0.061,1,      4.695,1,      0.124,1,     -999.0,9,     -999.0,9,     -999.0,9,     -999.0,9,     -999.0,9,     -999.0,9,     -999.0,9,     -999.0,9,     -999.0,9,     -999.0,9,     -999.0,9,     1.5970,2,     -999.0,     -999.0,9,     -999.0
320620170820,        P06,     156,          1,          7,          7,2,20170830,       0855,   -32.4989,  -138.5881,       4572,  3042.6,   1.6738,  34.6745,2,  34.6722,2, 164.2725,2, 164.2809,2,   124.6,2,   34.67,2,    0.00,2,    2.41,2,   0.028,2,   0.021,2,   0.0000,2,  2300.4,2,  2392.3,2,   7.5852,6,    25.00, -999.00,9, -999.00,9, -999.00,    39.7,2, -999.00,9,     -999.0,1,  -999.0,9, 20170830,      939, -32.4996,-138.5884,        0.0,1,      0.061,1,      4.696,1,      0.127,1,     -999.0,9,     -999.0,9,     -999.0,9,     -999.0,9,     -999.0,9,     -999.0,9,     -999.0,9,     -999.0,9,     -999.0,9,     -999.0,9,     -999.0,9,     1.6772,2,     -999.0,     -999.0,9,     -999.0
320620170820,        P06,     156,          1,          8,          8,2,20170830,       0855,   -32.4989,  -138.5881,       4572,  2786.9,   1.7498,  34.6679,2,  34.6653,2, 159.9509,2, 159.6464,2,   124.5,2,   34.99,2,    0.00,2,    2.44,2,   0.030,2,   0.023,2,   0.0000,2,  2305.0,2,  2394.2,2,   7.5815,2,    25.00, -999.00,9, -999.00,9, -999.00,  -999.0,9, -999.00,9,     -999.0,9,  -999.0,9, 20170830,      946, -32.4990,-138.5878,        0.0,1,      0.061,1,      4.696,1,      0.127,1,     -999.0,9,     -999.0,9,     -999.0,9,     -999.0,9,     -999.0,9,     -999.0,9,     -999.0,9,     -999.0,9,     -999.0,9,     -999.0,9,     -999.0,9,     1.7480,2,     -999.0,     -999.0,9,     -999.0
320620170820,        P06,     156,          1,          9,          9,2,20170830,       0855,   -32.4989,  -138.5881,       4572,  2532.0,   1.8439,  34.6597,2,  34.6594,2, 155.3993,2, 155.2081,2,   123.2,2,   35.37,2,    0.00,2,    2.46,2,   0.030,2,   0.021,2,   0.0000,2,  2304.5,2,  2395.8,6,   7.5763,2,    25.00, -999.00,9, -999.00,9, -999.00,    41.1,2, -999.00,9,     -999.0,1,  -999.0,9, 20170830,      953, -32.4992,-138.5879,        0.0,1,      0.061,1,      4.696,1,      0.127,1,     -999.0,9,     -999.0,9,     -999.0,9,     -999.0,9,     -999.0,9,     -999.0,9,     -999.0,9,     -999.0,9,     -999.0,9,     -999.0,9,     -999.0,9,     1.8520,2,     -999.0,     -999.0,9,     -999.0
320620170820,        P06,     156,          1,         10,         10,2,20170830,       0855,   -32.4989,  -138.5881,       4572,  2276.4,   1.9696,  34.6485,2,  34.6464,2, 152.7613,2, 153.6346,2,   118.9,2,   35.36,2,    0.00,2,    2.47,2,   0.030,2,   0.021,2,   0.0000,2,  2304.2,2,  2394.7,2,   7.5725,2,    25.00, -999.00,9, -999.00,9, -999.00,    39.5,2, -999.00,9,     -999.0,1,  -999.0,9, 20170830,     1000, -32.4996,-138.5883,        0.0,1,      0.061,1,      4.696,1,      0.128,1,     -999.0,9,     -999.0,9,     -999.0,9,     -999.0,9,     -999.0,9,     -999.0,9,     -999.0,9,     -999.0,9,     -999.0,9,     -999.0,9,     -999.0,9,     1.9655,2,     -999.0,     -999.0,9,     -999.0
320620170820,        P06,     156,          1,         11,         11,2,20170830,       0855,   -32.4989,  -138.5881,       4572,  2023.2,   2.1786,  34.6252,2,  34.6246,2, 153.8318,2, 154.4222,2,   109.5,2,   35.25,2,    0.00,2,    2.46,2,   0.029,2,   0.023,2,   0.0000,2,  2292.9,6,  2382.7,2,   7.5716,2,    25.00, -999.00,9, -999.00,9, -999.00,    37.9,2, -999.00,9,     -999.0,1,  -999.0,9, 20170830,     1007, -32.4990,-138.5880,        0.0,1,      0.061,1,      4.696,1,      0.128,1,     -999.0,9,     -999.0,9,     -999.0,9,     -999.0,9,     -999.0,9,     -999.0,9,     -999.0,9,     -999.0,9,     -999.0,9,     -999.0,9,     -999.0,9,     2.1710,2,     -999.0,     -999.0,9,     -999.0
320620170820,        P06,     156,          1,         12,         12,2,20170830,       0855,   -32.4989,  -138.5881,       4572,  1819.4,   2.3575,  34.5995,2,  34.5979,2, 155.5843,2, 156.4458,2,   100.4,2,   35.21,2,    0.00,2,    2.44,2,   0.034,2,   0.023,2,   0.0000,2,  2284.8,2,  2372.9,2,   7.5705,2,    25.00, -999.00,9, -999.00,9, -999.00,  -999.0,9, -999.00,9,     -999.0,9,  -999.0,9, 20170830,     1013, -32.4991,-138.5880,        0.0,1,      0.061,1,      4.696,1,      0.130,1,     -999.0,9,     -999.0,9,     -999.0,9,     -999.0,9,     -999.0,9,     -999.0,9,     -999.0,9,     -999.0,9,     -999.0,9,     -999.0,9,     -999.0,9,     2.3518,2,     -999.0,     -999.0,9,     -999.0
320620170820,        P06,     156,          1,         13,         13,2,20170830,       0855,   -32.4989,  -138.5881,       4572,  1619.1,   2.6461,  34.5477,2,  34.5549,2, 160.3362,2, 161.4688,2,    85.6,2,   34.80,2,    0.00,2,    2.41,2,   0.055,2,   0.038,2,   0.0000,2,  2270.9,2,  2355.3,2,   7.5688,2,    25.00, -999.00,9, -999.00,9, -999.00,    39.5,2, -999.00,9,     -999.0,1,  -999.0,9, 20170830,     1019, -32.4992,-138.5882,        0.0,1,      0.061,1,      4.697,1,      0.129,1,     -999.0,9,     -999.0,9,     -999.0,9,     -999.0,9,     -999.0,9,     -999.0,9,     -999.0,9,     -999.0,9,     -999.0,9,     -999.0,9,     -999.0,9,     2.6000,2,     -999.0,     -999.0,9,     -999.0
320620170820,        P06,     156,          1,         14,         14,2,20170830,       0855,   -32.4989,  -138.5881,       4572,  1515.4,   2.8180,  34.5126,2,  34.5188,2, 164.9432,2, 165.3103,2,    76.7,2,   34.76,2,    0.00,2,    2.39,2,   0.091,2,   0.059,2,   0.0000,2,  2258.3,2,  2344.3,2,   7.5677,2,    25.00, -999.00,9, -999.00,9, -999.00,  -999.0,9, -999.00,9,     -999.0,9,  -999.0,9, 20170830,     1024, -32.4992,-138.5881,        0.0,1,      0.061,1,      4.696,1,      0.129,1,     -999.0,9,     -999.0,9,     -999.0,9,     -999.0,9,     -999.0,9,     -999.0,9,     -999.0,9,     -999.0,9,     -999.0,9,     -999.0,9,     -999.0,9,     2.7693,2,     -999.0,     -999.0,9,     -999.0
320620170820,        P06,     156,          1,         15,         15,2,20170830,       0855,   -32.4989,  -138.5881,       4572,  1415.4,   3.0687,  34.4659,2,  34.4644,2, 171.6531,2, 170.6763,2,    64.9,2,   34.40,2,    0.00,2,    2.36,2,   0.173,2,   0.105,2,   0.0000,2,  2245.4,2,  2331.3,2,   7.5712,2,    25.00, -999.00,9, -999.00,9, -999.00,    36.3,2, -999.00,9,     -999.0,1,  -999.0,9, 20170830,     1028, -32.4993,-138.5882,        0.0,1,      0.061,1,      4.696,1,      0.127,1,     -999.0,9,     -999.0,9,     -999.0,9,     -999.0,9,     -999.0,9,     -999.0,9,     -999.0,9,     -999.0,9,     -999.0,9,     -999.0,9,     -999.0,9,     3.0628,2,     -999.0,     -999.0,9,     -999.0
320620170820,        P06,     156,          1,         16,         16,2,20170830,       0855,   -32.4989,  -138.5881,       4572,  1313.6,   3.3257,  34.4250,2,  34.4275,2, 175.7474,2, 174.9742,2,    57.0,2,   34.04,2,    0.00,2,    2.34,2,   0.270,2,   0.155,2,   0.0000,2,  2236.1,2,  2322.4,2,   7.5756,2,    25.00, -999.00,9, -999.00,9, -999.00,  -999.0,9, -999.00,9,     -999.0,9,  -999.0,9, 20170830,     1032, -32.4993,-138.5883,        0.0,1,      0.060,1,      4.697,1,      0.131,1,     -999.0,9,     -999.0,9,     -999.0,9,     -999.0,9,     -999.0,9,     -999.0,9,     -999.0,9,     -999.0,9,     -999.0,9,     -999.0,9,     -999.0,9,     3.2871,2,     -999.0,     -999.0,9,     -999.0
320620170820,        P06,     156,          1,         17,         17,2,20170830,       0855,   -32.4989,  -138.5881,       4572,  1210.8,   3.7590,  34.3744,2,  34.3788,2, 182.2567,2, 184.2127,2,    47.0,2,   33.33,2,    0.00,2,    2.29,2,   0.460,2,   0.247,2,   0.1020,2,  2223.5,2,  2313.4,2,   7.5869,2,    25.00, -999.00,9, -999.00,9, -999.00,    39.8,2, -999.00,9,     -999.0,1,  -999.0,9, 20170830,     1036, -32.4993,-138.5883,        0.0,1,      0.061,1,      4.696,1,      0.129,1,     -999.0,9,     -999.0,9,     -999.0,9,     -999.0,9,     -999.0,9,     -999.0,9,     -999.0,9,     -999.0,9,     -999.0,9,     -999.0,9,     -999.0,9,     3.6642,2,     -999.0,     -999.0,9,     -999.0
320620170820,        P06,     156,          1,         18,         18,2,20170830,       0855,   -32.4989,  -138.5881,       4572,  1110.9,   4.2929,  34.3338,2,  34.3380,2, 194.0805,2, 193.2605,2,    36.3,2,   31.84,2,    0.00,2,    2.19,2,   0.810,2,   0.414,2,   0.1360,2,  2204.2,2,  2302.5,2,   7.6075,2,    25.00, -999.00,9, -999.00,9, -999.00,  -999.0,9, -999.00,9,     -999.0,9,  -999.0,9, 20170830,     1040, -32.4994,-138.5883,        0.0,1,      0.060,1,      4.696,1,      0.130,1,     -999.0,9,     -999.0,9,     -999.0,9,     -999.0,9,     -999.0,9,     -999.0,9,     -999.0,9,     -999.0,9,     -999.0,9,     -999.0,9,     -999.0,9,     4.1459,2,     -999.0,     -999.0,9,     -999.0
320620170820,        P06,     156,          1,         19,         19,2,20170830,       0855,   -32.4989,  -138.5881,       4572,  1009.5,   4.8046,  34.3116,2,  34.3121,2, 206.7954,2, 204.6564,2,    26.5,2,   30.09,2,    0.00,2,    2.04,2,   1.262,2,   0.612,2,   0.2320,2,  2190.7,2,  2293.9,2,   7.6300,2,    25.00, -999.00,9, -999.00,9, -999.00,    41.1,2, -999.00,9,     -999.0,1,  -999.0,9, 20170830,     1045, -32.4997,-138.5886,        0.0,1,      0.059,1,      4.696,1,      0.131,1,     -999.0,9,     -999.0,9,     -999.0,9,     -999.0,9,     -999.0,9,     -999.0,9,     -999.0,9,     -999.0,9,     -999.0,9,     -999.0,9,     -999.0,9,     4.6961,2,     -999.0,     -999.0,9,     -999.0
320620170820,        P06,     156,          1,         20,         20,2,20170830,       0855,   -32.4989,  -138.5881,       4572,   909.5,   5.2799,  34.3003,2,  34.2970,2, 221.1279,2, 220.2715,2,    17.2,2,   27.53,2,    0.00,2,    1.87,2,   1.969,2,   0.986,2,   0.4510,2,  2169.0,2,  2286.3,2,   7.6613,2,    25.00, -999.00,9, -999.00,9, -999.00,  -999.0,9, -999.00,9,     -999.0,9,  -999.0,9, 20170830,     1049, -32.4995,-138.5885,        0.0,1,      0.059,1,      4.696,1,      0.130,1,     -999.0,9,     -999.0,9,     -999.0,9,     -999.0,9,     -999.0,9,     -999.0,9,     -999.0,9,     -999.0,9,     -999.0,9,     -999.0,9,     -999.0,9,     5.3703,2,     -999.0,     -999.0,9,     -999.0
320620170820,        P06,     156,          1,         21,         21,2,20170830,       0855,   -32.4989,  -138.5881,       4572,   808.5,   5.8542,  34.3051,2,  34.3072,2, 233.3586,2, 234.2663,2,    11.0,2,   24.99,2,    0.00,2,    1.69,2,   2.635,2,   1.419,2,   0.7320,2,  2155.2,2,  2282.4,2,   7.6890,2,    25.00, -999.00,9, -999.00,9, -999.00,    45.7,2, -999.00,9,     -999.0,1,  -999.0,9, 20170830,     1053, -32.4991,-138.5882,        0.0,1,      0.059,1,      4.696,1,      0.131,1,     -999.0,9,     -999.0,9,     -999.0,9,     -999.0,9,     -999.0,9,     -999.0,9,     -999.0,9,     -999.0,9,     -999.0,9,     -999.0,9,     -999.0,9,     6.0033,2,     -999.0,     -999.0,9,     -999.0
320620170820,        P06,     156,          1,         22,         22,2,20170830,       0855,   -32.4989,  -138.5881,       4572,   705.5,   6.3774,  34.3260,2,  34.3242,2, 240.4201,2, 240.5996,2,     8.4,2,   23.51,2,    0.00,2,    1.58,2,   3.268,2,   1.692,2,   0.9140,2,  2150.2,2,  2279.6,2,   7.7011,2,    25.00, -999.00,9, -999.00,9, -999.00,    44.5,2, -999.00,9,     -999.0,1,  -999.0,9, 20170830,     1058, -32.4992,-138.5883,        0.0,1,      0.059,1,      4.680,1,      0.131,1,     -999.0,9,     -999.0,9,     -999.0,9,     -999.0,9,     -999.0,9,     -999.0,9,     -999.0,9,     -999.0,9,     -999.0,9,     -999.0,9,     -999.0,9,     6.4217,2,     -999.0,     -999.0,9,     -999.0
320620170820,        P06,     156,          1,         23,         23,2,20170830,       0855,   -32.4989,  -138.5881,       4572,   604.7,   6.9022,  34.3597,2,  34.3517,2, 242.7833,2, 243.5666,2,     6.6,2,   22.15,2,    0.00,2,    1.49,2,   3.530,2,   1.872,2,   1.0700,2,  2143.8,6,  2280.7,2,   7.7113,2,    25.00, -999.00,9, -999.00,9, -999.00,    46.4,2, -999.00,9,     -999.0,1,  -999.0,9, 20170830,     1102, -32.4995,-138.5885,        0.0,1,      0.058,1,      4.694,1,      0.132,1,     -999.0,9,     -999.0,9,     -999.0,9,     -999.0,9,     -999.0,9,     -999.0,9,     -999.0,9,     -999.0,9,     -999.0,9,     -999.0,9,     -999.0,9,     6.8569,2,     -999.0,     -999.0,9,     -999.0
320620170820,        P06,     156,          1,         24,         24,2,20170830,       0855,   -32.4989,  -138.5881,       4572,   502.5,   7.6861,  34.4126,2,  34.3980,2, 243.0904,2, 243.6792,2,     4.8,2,   20.00,2,    0.00,2,    1.36,2,   3.595,2,   1.935,2,   1.3190,2,  2140.7,2,  2279.9,2,   7.7216,2,    25.00, -999.00,9, -999.00,9, -999.00,    42.5,3, -999.00,9,     -999.0,1,  -999.0,9, 20170830,     1106, -32.4993,-138.5884,        0.0,1,      0.059,1,      4.692,1,      0.134,1,     -999.0,9,     -999.0,9,     -999.0,9,     -999.0,9,     -999.0,9,     -999.0,9,     -999.0,9,     -999.0,9,     -999.0,9,     -999.0,9,     -999.0,9,     7.5192,2,     -999.0,     -999.0,9,     -999.0
320620170820,        P06,     156,          1,         25,         25,2,20170830,       0855,   -32.4989,  -138.5881,       4572,   454.1,   8.2295,  34.4382,2,  34.4202,2,  237.781,2, 237.2004,2,     4.2,2,   19.17,2,    0.00,2,    1.31,2,   3.562,2,   1.919,2,   1.4320,2,  2139.7,2,  2279.3,2,   7.7264,2,    25.00, -999.00,9, -999.00,9, -999.00,  -999.0,9, -999.00,9,     -999.0,9,  -999.0,9, 20170830,     1109, -32.4992,-138.5884,        0.0,1,      0.058,1,      4.692,1,      0.133,1,     -999.0,9,     -999.0,9,     -999.0,9,     -999.0,9,     -999.0,9,     -999.0,9,     -999.0,9,     -999.0,9,     -999.0,9,     -999.0,9,     -999.0,9,     7.9852,2,     -999.0,     -999.0,9,     -999.0
320620170820,        P06,     156,          1,         26,         26,2,20170830,       0855,   -32.4989,  -138.5881,       4572,   402.3,   9.0593,  34.4953,2,  34.4585,2, 227.1004,2, 228.5995,2,     3.5,2,   17.94,2,    0.00,2,    1.23,2,   3.451,2,   1.863,2,   1.3960,2,  2137.7,2,  2281.1,2,   7.7338,2,    25.00, -999.00,9, -999.00,9, -999.00,    45.7,2, -999.00,9,     -999.0,1,  -999.0,9, 20170830,     1112, -32.4993,-138.5884,        0.0,1,      0.059,1,      4.691,1,      0.136,1,     -999.0,9,     -999.0,9,     -999.0,9,     -999.0,9,     -999.0,9,     -999.0,9,     -999.0,9,     -999.0,9,     -999.0,9,     -999.0,9,     -999.0,9,     8.6814,2,     -999.0,     -999.0,9,     -999.0