BOTTLE,20240211CCHSIOCBG
EXPOCODE,SECT_ID,STNNBR,CASTNO,SAMPNO,BTLNBR,BTLNBR_FLAG_W,DATE,TIME,LATITUDE,LONGITUDE,DEPTH,CTDPRS,CTDTMP,CTDSAL,CTDSAL_FLAG_W,SALNTY,SALNTY_FLAG_W,CTDOXY,CTDOXY_FLAG_W,OXYGEN,OXYGEN_FLAG_W,SILCAT,SILCAT_FLAG_W,NITRAT,NITRAT_FLAG_W,NITRIT,NITRIT_FLAG_W,PHSPHT,PHSPHT_FLAG_W,CFC-11,CFC-11_FLAG_W,CFC-12,CFC-12_FLAG_W,SF6,SF6_FLAG_W,TCARBN,TCARBN_FLAG_W,ALKALI,ALKALI_FLAG_W,PH_TOT,PH_TOT_FLAG_W,PH_TMP,DELC13,DELC13_FLAG_W,DELC14,DELC14_FLAG_W,C14ERR,DOC,DOC_FLAG_W,TDN,TDN_FLAG_W,TON,TON_FLAG_W,D15N_NO3,D15N_NO3_FLAG_W,BTL_DATE,BTL_TIME,BTL_LAT,BTL_LON,CTDRINKO,CTDRINKO_FLAG_W,CTDFLUOR,CTDFLUOR_FLAG_W,CTDXMISS,CTDXMISS_FLAG_W,CTDBACKSCATTER,CTDBACKSCATTER_FLAG_W,D18O_NO3,D18O_NO3_FLAG_W,DOP,DOP_FLAG_W,CELLCOUNT,CELLCOUNT_FLAG_W,TDP,TDP_FLAG_W,POP,POP_FLAG_W,DATP,DATP_FLAG_W,PATP,PATP_FLAG_W,HPLC,HPLC_FLAG_W,POC,POC_FLAG_W,BEAMAP,BEAMAP_FLAG_W,DOC_NASA,DOC_NASA_FLAG_W,REFTMP,REFTMP_FLAG_W,DOC_NASA_ERROR,TDN_NASA,TDN_NASA_FLAG_W,TDN_NASA_ERROR
,,,,,,,,,,,METERS,DBAR,ITS-90,PSS-78,,PSS-78,,UMOL/KG,,UMOL/KG,,UMOL/KG,,UMOL/KG,,UMOL/KG,,UMOL/KG,,PMOL/KG,,PMOL/KG,,FMOL/KG,,UMOL/KG,,UMOL/KG,,,,DEG C,/MILLE,,/MILLE,,/MILLE,UMOL/KG,,UMOL/KG,,UMOL/KG,,/MILLE,,,,,,VOLTS,,VOLTS,,VOLTS,,VOLTS,,/MILLE,,UMOL/KG,,/LITER,,UMOL/KG,,UMOL/L,,PMOL/L,,PMOL/L,,,,UG/L,,/METER,,UMOL/L,,ITS-90,,UMOL/L,UMOL/L,,UMOL/L
320620170820,        P06,     230,          1,          1,          1,2,20170924,       1003,   -32.5000,   -78.4153,       4136,  4197.7,   1.6541,  34.6958,2,  34.6993,2, 165.4842,2, 166.1451,2,   123.9,2,   34.55,2,    0.00,2,    2.40,2,   0.014,2,   0.018,2,   0.0000,4,  2304.8,6,  2398.4,2,   7.5922,2,    25.00, -999.00,9, -999.00,9, -999.00,    39.0,2, -999.00,9,     -999.0,1,  -999.0,9, 20170924,     1003, -32.5000, -78.4152,        0.0,1,      0.061,1,      4.674,1,      0.141,1,     -999.0,9,     -999.0,9,     -999.0,9,     -999.0,9,     -999.0,9,     -999.0,9,     -999.0,9,     -999.0,9,     -999.0,9,     -999.0,9,     -999.0,9,     1.6546,2,     -999.0,     -999.0,9,     -999.0
320620170820,        P06,     230,          1,          2,          2,2,20170924,       1003,   -32.5000,   -78.4153,       4136,  4025.3,   1.6415,  34.6956,2,  34.6960,2, 165.4842,2, 165.7049,2,   124.2,2,   34.58,2,    0.00,2,    2.41,2,   0.020,2,   0.023,2,   0.0000,4,  2304.2,2,  2398.2,2,   7.5898,2,    25.00, -999.00,9, -999.00,9, -999.00,    38.2,2, -999.00,9,     -999.0,1,  -999.0,9, 20170924,     1008, -32.5000, -78.4152,        0.0,1,      0.061,1,      4.678,1,      0.135,1,     -999.0,9,     -999.0,9,     -999.0,9,     -999.0,9,     -999.0,9,     -999.0,9,     -999.0,9,     -999.0,9,     -999.0,9,     -999.0,9,     -999.0,9,     1.6418,2,     -999.0,     -999.0,9,     -999.0
320620170820,        P06,     230,          1,          3,          3,2,20170924,       1003,   -32.5000,   -78.4153,       4136,  3862.1,   1.6373,  34.6951,2,  34.6956,2, 165.0051,2, 165.0662,2,   124.0,2,   34.65,2,    0.00,2,    2.40,2,   0.016,2,   0.020,2,   0.0000,4,  2305.6,2,  2399.0,2,   7.5905,2,    25.00, -999.00,9, -999.00,9, -999.00,    36.7,2, -999.00,9,     -999.0,1,  -999.0,9, 20170924,     1011, -32.5000, -78.4150,        0.0,1,      0.060,1,      4.680,1,      0.133,1,     -999.0,9,     -999.0,9,     -999.0,9,     -999.0,9,     -999.0,9,     -999.0,9,     -999.0,9,     -999.0,9,     -999.0,9,     -999.0,9,     -999.0,9,     1.6373,2,     -999.0,     -999.0,9,     -999.0
320620170820,        P06,     230,          1,          4,          4,2,20170924,       1003,   -32.5000,   -78.4153,       4136,  3555.0,   1.6736,  34.6918,2,  34.6922,2, 163.5303,3, 162.3139,2,   123.8,2,   34.78,2,    0.00,2,    2.42,2,   0.019,2,   0.024,2,   0.0000,4,  -999.0,9,  -999.0,9,-999.0000,9,  -999.00, -999.00,9, -999.00,9, -999.00,  -999.0,9, -999.00,9,     -999.0,9,  -999.0,9, 20170924,     1018, -32.5000, -78.4150,        0.0,1,      0.061,1,      4.681,1,      0.131,1,     -999.0,9,     -999.0,9,     -999.0,9,     -999.0,9,     -999.0,9,     -999.0,9,     -999.0,9,     -999.0,9,     -999.0,9,     -999.0,9,     -999.0,9,     1.6696,2,     -999.0,     -999.0,9,     -999.0
320620170820,        P06,     230,          1,          5,          5,2,20170924,       1003,   -32.5000,   -78.4153,       4136,  3247.9,   1.7530,  34.6853,2,  34.6861,2, 157.9633,2, 157.1494,2,   125.0,2,   35.17,2,    0.00,2,    2.45,2,   0.014,2,   0.019,2,   0.0000,4,  2308.2,2,  2399.8,2,   7.5793,2,    25.00, -999.00,9, -999.00,9, -999.00,    37.1,2, -999.00,9,     -999.0,1,  -999.0,9, 20170924,     1024, -32.5000, -78.4152,        0.0,1,      0.061,1,      4.680,1,      0.131,1,     -999.0,9,     -999.0,9,     -999.0,9,     -999.0,9,     -999.0,9,     -999.0,9,     -999.0,9,     -999.0,9,     -999.0,9,     -999.0,9,     -999.0,9,     1.7429,2,     -999.0,     -999.0,9,     -999.0
320620170820,        P06,     230,          1,          6,          6,2,20170924,       1003,   -32.5000,   -78.4153,       4136,  2956.1,   1.8172,  34.6784,2,  34.6787,2, 152.2171,2, 152.1056,2,   124.7,2,   35.46,2,    0.00,2,    2.47,2,   0.019,2,   0.026,2,   0.0000,4,  -999.0,9,  -999.0,9,-999.0000,9,  -999.00, -999.00,9, -999.00,9, -999.00,  -999.0,9, -999.00,9,     -999.0,9,  -999.0,9, 20170924,     1030, -32.5000, -78.4151,        0.0,1,      0.061,1,      4.680,1,      0.133,1,     -999.0,9,     -999.0,9,     -999.0,9,     -999.0,9,     -999.0,9,     -999.0,9,     -999.0,9,     -999.0,9,     -999.0,9,     -999.0,9,     -999.0,9,     1.8123,2,     -999.0,     -999.0,9,     -999.0
320620170820,        P06,     230,          1,          7,          7,2,20170924,       1003,   -32.5000,   -78.4153,       4136,  2701.4,   1.8735,  34.6717,2,  34.6720,2, 149.4198,2, 149.8475,2,   123.2,2,   35.66,2,    0.00,2,    2.49,2,   0.014,2,   0.020,2,   0.0000,4,  2310.5,2,  2397.3,2,   7.5681,2,    25.00, -999.00,9, -999.00,9, -999.00,    37.7,2, -999.00,9,     -999.0,1,  -999.0,9, 20170924,     1035, -32.5000, -78.4154,        0.0,1,      0.061,1,      4.680,1,      0.139,1,     -999.0,9,     -999.0,9,     -999.0,9,     -999.0,9,     -999.0,9,     -999.0,9,     -999.0,9,     -999.0,9,     -999.0,9,     -999.0,9,     -999.0,9,     1.8717,2,     -999.0,     -999.0,9,     -999.0
320620170820,        P06,     230,          1,          8,          8,2,20170924,       1003,   -32.5000,   -78.4153,       4136,  2447.1,   1.9587,  34.6619,2,  34.6620,2, 145.4655,2, 147.0287,2,   120.2,2,   35.83,2,    0.00,2,    2.51,2,   0.015,2,   0.022,2,   0.0000,4,  -999.0,9,  -999.0,9,-999.0000,9,  -999.00, -999.00,9, -999.00,9, -999.00,    35.6,2, -999.00,9,     -999.0,1,  -999.0,9, 20170924,     1041, -32.5000, -78.4153,        0.0,1,      0.061,1,      4.681,1,      0.134,1,     -999.0,9,     -999.0,9,     -999.0,9,     -999.0,9,     -999.0,9,     -999.0,9,     -999.0,9,     -999.0,9,     -999.0,9,     -999.0,9,     -999.0,9,     1.9544,2,     -999.0,     -999.0,9,     -999.0
320620170820,        P06,     230,          1,          9,          9,2,20170924,       1003,   -32.5000,   -78.4153,       4136,  2191.4,   2.1177,  34.6463,2,  34.6474,2, 139.4455,2, 139.7429,2,   117.8,2,   36.45,2,    0.00,2,    2.56,2,   0.019,2,   0.025,2,   0.0000,4,  2310.1,2,  2389.2,2,   7.5474,2,    25.00, -999.00,9, -999.00,9, -999.00,    36.9,2, -999.00,9,     -999.0,1,  -999.0,9, 20170924,     1046, -32.5000, -78.4153,        0.0,1,      0.062,1,      4.681,1,      0.135,1,     -999.0,9,     -999.0,9,     -999.0,9,     -999.0,9,     -999.0,9,     -999.0,9,     -999.0,9,     -999.0,9,     -999.0,9,     -999.0,9,     -999.0,9,     2.1034,2,     -999.0,     -999.0,9,     -999.0
320620170820,        P06,     230,          1,         10,         10,2,20170924,       1003,   -32.5000,   -78.4153,       4136,  1957.1,   2.3148,  34.6273,2,  34.6272,2, 132.0212,2, 132.2757,2,   112.7,2,   37.09,2,    0.00,2,    2.62,2,   0.017,2,   0.022,2,   0.0000,4,  -999.0,9,  -999.0,9,-999.0000,9,  -999.00, -999.00,9, -999.00,9, -999.00,  -999.0,9, -999.00,9,     -999.0,9,  -999.0,9, 20170924,     1051, -32.5000, -78.4153,        0.0,1,      0.062,1,      4.680,1,      0.145,1,     -999.0,9,     -999.0,9,     -999.0,9,     -999.0,9,     -999.0,9,     -999.0,9,     -999.0,9,     -999.0,9,     -999.0,9,     -999.0,9,     -999.0,9,     2.3114,2,     -999.0,     -999.0,9,     -999.0
320620170820,        P06,     230,          1,         11,         11,2,20170924,       1003,   -32.5000,   -78.4153,       4136,  1753.6,   2.5335,  34.6069,2,  34.6071,2, 125.3358,2, 125.6692,2,   107.2,2,   37.68,2,    0.00,2,    2.68,2,   0.014,2,   0.022,2,   0.0000,4,  2308.1,2,  2376.3,2,   7.5200,2,    25.00, -999.00,9, -999.00,9, -999.00,  -999.0,9, -999.00,9,     -999.0,1,  -999.0,9, 20170924,     1056, -32.5000, -78.4152,        0.0,1,      0.062,1,      4.680,1,      0.137,1,     -999.0,9,     -999.0,9,     -999.0,9,     -999.0,9,     -999.0,9,     -999.0,9,     -999.0,9,     -999.0,9,     -999.0,9,     -999.0,9,     -999.0,9,     2.5255,2,     -999.0,     -999.0,9,     -999.0
320620170820,        P06,     230,          1,         12,         12,2,20170924,       1003,   -32.5000,   -78.4153,       4136,  1581.0,   2.7832,  34.5839,2,  34.5838,2,  119.324,2, 118.5399,2,   100.2,2,   38.26,2,    0.00,2,    2.71,2,   0.014,2,   0.020,2,   0.0000,4,  -999.0,9,  -999.0,9,-999.0000,9,  -999.00, -999.00,9, -999.00,9, -999.00,  -999.0,9, -999.00,9,     -999.0,9,  -999.0,9, 20170924,     1100, -32.5000, -78.4152,        0.0,1,      0.063,1,      4.680,1,      0.140,1,     -999.0,9,     -999.0,9,     -999.0,9,     -999.0,9,     -999.0,9,     -999.0,9,     -999.0,9,     -999.0,9,     -999.0,9,     -999.0,9,     -999.0,9,     2.7776,2,     -999.0,     -999.0,9,     -999.0
320620170820,        P06,     230,          1,         13,         13,2,20170924,       1003,   -32.5000,   -78.4153,       4136,  1480.3,   2.9216,  34.5722,2,  34.5702,2, 115.1607,2, 114.7504,2,    96.4,2,   38.64,2,    0.00,2,    2.73,2,   0.016,2,   0.024,2,   0.0000,4,  2302.6,2,  2363.8,6,   7.4997,2,    25.00, -999.00,9, -999.00,9, -999.00,    37.0,2, -999.00,9,     -999.0,1,  -999.0,9, 20170924,     1102, -32.5000, -78.4153,        0.0,1,      0.063,1,      4.680,1,      0.141,1,     -999.0,9,     -999.0,9,     -999.0,9,     -999.0,9,     -999.0,9,     -999.0,9,     -999.0,9,     -999.0,9,     -999.0,9,     -999.0,9,     -999.0,9,     2.9331,2,     -999.0,     -999.0,9,     -999.0
320620170820,        P06,     230,          1,         14,         14,2,20170924,       1003,   -32.5000,   -78.4153,       4136,  1380.4,   3.1073,  34.5523,2,  34.5504,2, 111.0295,2, 110.1583,2,    90.9,2,   39.11,2,    0.00,2,    2.76,2,   0.017,2,   0.025,2,   0.0000,4,  -999.0,9,  -999.0,9,-999.0000,9,  -999.00, -999.00,9, -999.00,9, -999.00,  -999.0,9, -999.00,9,     -999.0,9,  -999.0,9, 20170924,     1105, -32.5000, -78.4154,        0.0,1,      0.062,1,      4.679,1,      0.139,1,     -999.0,9,     -999.0,9,     -999.0,9,     -999.0,9,     -999.0,9,     -999.0,9,     -999.0,9,     -999.0,9,     -999.0,9,     -999.0,9,     -999.0,9,     3.1217,2,     -999.0,     -999.0,9,     -999.0
320620170820,        P06,     230,          1,         15,         15,2,20170924,       1003,   -32.5000,   -78.4153,       4136,  1277.3,   3.2941,  34.5337,2,  34.5337,2, 109.2963,2,  108.822,2,    86.1,2,   39.32,2,    0.00,2,    2.78,2,   0.017,2,   0.020,2,   0.0000,4,  2297.9,2,  2352.9,2,   7.4838,6,    25.00, -999.00,9, -999.00,9, -999.00,    38.0,2, -999.00,9,     -999.0,1,  -999.0,9, 20170924,     1108, -32.5000, -78.4153,        0.0,1,      0.062,1,      4.679,1,      0.143,1,     -999.0,9,     -999.0,9,     -999.0,9,     -999.0,9,     -999.0,9,     -999.0,9,     -999.0,9,     -999.0,9,     -999.0,9,     -999.0,9,     -999.0,9,     3.2808,2,     -999.0,     -999.0,9,     -999.0
320620170820,        P06,     230,          1,         16,         16,2,20170924,       1003,   -32.5000,   -78.4153,       4136,  1175.5,   3.5044,  34.5074,2,  34.5052,2, 107.3506,2, 107.4171,2,    78.1,2,   39.51,2,    0.00,2,    2.78,2,   0.033,2,   0.030,2,   0.0000,4,  2289.8,6,  2342.4,2,   7.4773,2,    25.00, -999.00,9, -999.00,9, -999.00,    39.2,2, -999.00,9,     -999.0,1,  -999.0,9, 20170924,     1110, -32.5000, -78.4152,        0.0,1,      0.063,1,      4.679,1,      0.140,1,     -999.0,9,     -999.0,9,     -999.0,9,     -999.0,9,     -999.0,9,     -999.0,9,     -999.0,9,     -999.0,9,     -999.0,9,     -999.0,9,     -999.0,9,     3.5102,2,     -999.0,     -999.0,9,     -999.0
320620170820,        P06,     230,          1,         17,         17,2,20170924,       1003,   -32.5000,   -78.4153,       4136,  1074.1,   3.6962,  34.4759,2,  34.4732,2, 111.3514,2, 111.3349,2,    69.3,2,   39.29,2,    0.00,2,    2.76,2,   0.060,2,   0.047,2,   0.0000,4,  2279.3,2,  2333.3,2,   7.4805,2,    25.00, -999.00,9, -999.00,9, -999.00,    40.0,2, -999.00,9,     -999.0,1,  -999.0,9, 20170924,     1113, -32.5000, -78.4153,        0.0,1,      0.062,1,      4.678,1,      0.141,1,     -999.0,9,     -999.0,9,     -999.0,9,     -999.0,9,     -999.0,9,     -999.0,9,     -999.0,9,     -999.0,9,     -999.0,9,     -999.0,9,     -999.0,9,     3.7149,2,     -999.0,     -999.0,9,     -999.0
320620170820,        P06,     230,          1,         18,         18,2,20170924,       1003,   -32.5000,   -78.4153,       4136,   975.1,   3.9248,  34.4357,2,  34.4286,2, 122.9203,2, 121.9479,2,    57.9,2,   38.44,2,    0.00,2,    2.69,2,   0.171,2,   0.094,2,   0.0000,4,  -999.0,9,  -999.0,9,-999.0000,9,  -999.00, -999.00,9, -999.00,9, -999.00,  -999.0,9, -999.00,9,     -999.0,9,  -999.0,9, 20170924,     1116, -32.5000, -78.4155,        0.0,1,      0.062,1,      4.678,1,      0.142,1,     -999.0,9,     -999.0,9,     -999.0,9,     -999.0,9,     -999.0,9,     -999.0,9,     -999.0,9,     -999.0,9,     -999.0,9,     -999.0,9,     -999.0,9,     3.9536,2,     -999.0,     -999.0,9,     -999.0
320620170820,        P06,     230,          1,         19,         19,2,20170924,       1003,   -32.5000,   -78.4153,       4136,   874.6,   4.2501,  34.3825,2,  34.3800,2, 138.1946,2, 139.8521,2,    45.3,2,   36.86,2,    0.00,2,    2.56,2,   0.502,2,   0.232,2,   0.0000,4,  2241.0,2,  2306.6,2,   7.5172,2,    25.00, -999.00,9, -999.00,9, -999.00,    41.4,2, -999.00,9,     -999.0,1,  -999.0,9, 20170924,     1119, -32.5000, -78.4154,        0.0,1,      0.061,1,      4.678,1,      0.141,1,     -999.0,9,     -999.0,9,     -999.0,9,     -999.0,9,     -999.0,9,     -999.0,9,     -999.0,9,     -999.0,9,     -999.0,9,     -999.0,9,     -999.0,9,     4.2680,2,     -999.0,     -999.0,9,     -999.0
320620170820,        P06,     230,          1,         20,         20,2,20170924,       1003,   -32.5000,   -78.4153,       4136,   772.1,   4.6865,  34.3375,2,  34.3415,2, 156.0794,2, 155.5883,2,    34.9,2,   35.14,2,    0.00,2,    2.44,2,   0.991,2,   0.465,2,   0.1570,4,  -999.0,9,  -999.0,9,-999.0000,9,  -999.00, -999.00,9, -999.00,9, -999.00,  -999.0,9, -999.00,9,     -999.0,9,  -999.0,9, 20170924,     1121, -32.5000, -78.4153,        0.0,1,      0.061,1,      4.678,1,      0.144,1,     -999.0,9,     -999.0,9,     -999.0,9,     -999.0,9,     -999.0,9,     -999.0,9,     -999.0,9,     -999.0,9,     -999.0,9,     -999.0,9,     -999.0,9,     4.6493,2,     -999.0,     -999.0,9,     -999.0
320620170820,        P06,     230,          1,         21,         21,2,20170924,       1003,   -32.5000,   -78.4153,       4136,   670.5,   5.3350,  34.3123,2,  34.3119,2, 173.8717,2, 171.6235,2,    24.0,2,   32.91,2,    0.00,2,    2.29,2,   1.764,2,   0.867,2,   0.3610,4,  2204.8,2,  2285.0,2,   7.5648,2,    25.00, -999.00,9, -999.00,9, -999.00,    41.7,2, -999.00,9,     -999.0,1,  -999.0,9, 20170924,     1124, -32.5000, -78.4151,        0.0,1,      0.061,1,      4.674,1,      0.150,1,     -999.0,9,     -999.0,9,     -999.0,9,     -999.0,9,     -999.0,9,     -999.0,9,     -999.0,9,     -999.0,9,     -999.0,9,     -999.0,9,     -999.0,9,     5.2646,2,     -999.0,     -999.0,9,     -999.0
320620170820,        P06,     230,          1,         22,         22,2,20170924,       1003,   -32.5000,   -78.4153,       4136,   570.2,   6.1790,  34.3284,2,  34.3186,2, 166.4314,3, 169.7233,2,    16.8,2,   31.67,2,    0.00,2,    2.21,2,   2.675,2,   1.273,2,   0.4930,4,  -999.0,9,  -999.0,9,-999.0000,9,  -999.00, -999.00,9, -999.00,9, -999.00,  -999.0,9, -999.00,9,     -999.0,9,  -999.0,9, 20170924,     1127, -32.5000, -78.4151,        0.0,1,      0.061,1,      4.673,1,      0.151,1,     -999.0,9,     -999.0,9,     -999.0,9,     -999.0,9,     -999.0,9,     -999.0,9,     -999.0,9,     -999.0,9,     -999.0,9,     -999.0,9,     -999.0,9,     6.1112,2,     -999.0,     -999.0,9,     -999.0
320620170820,        P06,     230,          1,         23,         23,2,20170924,       1003,   -32.5000,   -78.4153,       4136,   489.7,   6.8919,  34.3617,2,  34.3649,2, 122.1986,2, 120.4268,2,    17.8,2,   33.60,2,    0.00,2,    2.39,2,   2.182,2,   1.170,2,   0.4600,4,  2225.6,2,  2276.1,2,   7.4797,2,    25.00, -999.00,9, -999.00,9, -999.00,    45.0,2,   35.60,2,     -999.0,1,  -999.0,9, 20170924,     1129, -32.5000, -78.4152,        0.0,1,      0.063,1,      4.670,1,      0.152,1,     -999.0,9,     -999.0,9,     -999.0,9,     -999.0,9,     -999.0,9,     -999.0,9,     -999.0,9,     -999.0,9,     -999.0,9,     -999.0,9,     -999.0,9,     6.9667,2,     -999.0,     -999.0,9,     -999.0
320620170820,        P06,     230,          1,         24,         24,2,20170924,       1003,   -32.5000,   -78.4153,       4136,   438.0,   7.5194,  34.4061,2,  34.4088,2,  83.1458,2,  83.3919,2,    19.6,2,   34.87,2,    0.00,2,    2.56,2,   1.928,2,   0.998,2,   0.4360,4,  -999.0,9,  -999.0,9,-999.0000,9,  -999.00, -999.00,9, -999.00,9, -999.00,  -999.0,9, -999.00,9,     -999.0,9,  -999.0,9, 20170924,     1131, -32.5000, -78.4153,        0.0,1,      0.064,1,      4.667,1,      0.157,1,     -999.0,9,     -999.0,9,     -999.0,9,     -999.0,9,     -999.0,9,     -999.0,9,     -999.0,9,     -999.0,9,     -999.0,9,     -999.0,9,     -999.0,9,     7.6301,2,     -999.0,     -999.0,9,     -999.0
320620170820,        P06,     230,          1,         25,         25,2,20170924,       1003,   -32.5000,   -78.4153,       4136,   387.7,   8.1126,  34.4296,2,  34.4286,2,  73.6187,2,  71.1293,2,    19.3,2,   33.97,2,    0.00,2,    2.57,2,   1.820,2,   0.973,2,   0.4670,4,  2248.2,2,  2278.1,2,   7.4087,2,    25.00, -999.00,9, -999.00,9, -999.00,    45.8,2,   36.80,2,     -999.0,1,  -999.0,9, 20170924,     1133, -32.5000, -78.4153,        0.0,1,      0.063,1,      4.666,1,      0.162,1,     -999.0,9,     -999.0,9,     -999.0,9,     -999.0,9,     -999.0,9,     -999.0,9,     -999.0,9,     -999.0,9,     -999.0,9,     -999.0,9,     -999.0,9,     8.1701,2,     -999.0,     -999.0,9,     -999.0
320620170820,        P06,     230,          1,         26,         26,2,20170924,       1003,   -32.5000,   -78.4153,       4136,   337.8,   8.9197,  34.4723,2,  34.4606,2,  52.9542,2,  60.7945,2,    19.7,2,   32.19,2,    0.00,2,    2.59,2,   1.724,2,   0.972,2,   0.4080,4,  2256.8,2,  2279.0,2,   7.3917,2,    25.00, -999.00,9, -999.00,9, -999.00,    44.5,2,   34.10,2,     -999.0,1,  -999.0,9, 20170924,     1135, -32.5000, -78.4154,        0.0,1,      0.065,1,      4.664,1,      0.164,1,     -999.0,9,     -999.0,9,     -999.0,9,     -999.0,9,     -999.0,9,     -999.0,9,     -999.0,9,     -999.0,9,     -999.0,9,     -999.0,9,     -999.0,9,     8.8490,2,     -999.0,     -999.0,9,     -999.0