BOTTLE,20240211CCHSIOCBG
EXPOCODE,SECT_ID,STNNBR,CASTNO,SAMPNO,BTLNBR,BTLNBR_FLAG_W,DATE,TIME,LATITUDE,LONGITUDE,DEPTH,CTDPRS,CTDTMP,CTDSAL,CTDSAL_FLAG_W,SALNTY,SALNTY_FLAG_W,CTDOXY,CTDOXY_FLAG_W,OXYGEN,OXYGEN_FLAG_W,SILCAT,SILCAT_FLAG_W,NITRAT,NITRAT_FLAG_W,NITRIT,NITRIT_FLAG_W,PHSPHT,PHSPHT_FLAG_W,CFC-11,CFC-11_FLAG_W,CFC-12,CFC-12_FLAG_W,SF6,SF6_FLAG_W,TCARBN,TCARBN_FLAG_W,ALKALI,ALKALI_FLAG_W,PH_TOT,PH_TOT_FLAG_W,PH_TMP,DELC13,DELC13_FLAG_W,DELC14,DELC14_FLAG_W,C14ERR,DOC,DOC_FLAG_W,TDN,TDN_FLAG_W,TON,TON_FLAG_W,D15N_NO3,D15N_NO3_FLAG_W,BTL_DATE,BTL_TIME,BTL_LAT,BTL_LON,CTDRINKO,CTDRINKO_FLAG_W,CTDFLUOR,CTDFLUOR_FLAG_W,CTDXMISS,CTDXMISS_FLAG_W,CTDBACKSCATTER,CTDBACKSCATTER_FLAG_W,D18O_NO3,D18O_NO3_FLAG_W,DOP,DOP_FLAG_W,CELLCOUNT,CELLCOUNT_FLAG_W,TDP,TDP_FLAG_W,POP,POP_FLAG_W,DATP,DATP_FLAG_W,PATP,PATP_FLAG_W,HPLC,HPLC_FLAG_W,POC,POC_FLAG_W,BEAMAP,BEAMAP_FLAG_W,DOC_NASA,DOC_NASA_FLAG_W,REFTMP,REFTMP_FLAG_W,DOC_NASA_ERROR,TDN_NASA,TDN_NASA_FLAG_W,TDN_NASA_ERROR
,,,,,,,,,,,METERS,DBAR,ITS-90,PSS-78,,PSS-78,,UMOL/KG,,UMOL/KG,,UMOL/KG,,UMOL/KG,,UMOL/KG,,UMOL/KG,,PMOL/KG,,PMOL/KG,,FMOL/KG,,UMOL/KG,,UMOL/KG,,,,DEG C,/MILLE,,/MILLE,,/MILLE,UMOL/KG,,UMOL/KG,,UMOL/KG,,/MILLE,,,,,,VOLTS,,VOLTS,,VOLTS,,VOLTS,,/MILLE,,UMOL/KG,,/LITER,,UMOL/KG,,UMOL/L,,PMOL/L,,PMOL/L,,,,UG/L,,/METER,,UMOL/L,,ITS-90,,UMOL/L,UMOL/L,,UMOL/L
320620170820,        P06,     193,          1,         27,         27,2,20170912,       0947,   -32.5006,  -108.9458,       3432,   266.8,  12.8513,  34.5902,2,  34.5679,2, 220.1371,2, 219.5235,2,     0.4,2,    8.67,2,    0.00,2,    0.61,2,   2.861,2,   1.651,2,   1.6190,2,  2096.2,2,  2280.5,2,   7.8237,2,    25.00, -999.00,9, -999.00,9, -999.00,  -999.0,9, -999.00,9,     -999.0,9,  -999.0,9, 20170912,     1116, -32.5005,-108.9462,        0.0,1,      0.063,1,      4.679,1,      0.132,1,     -999.0,9,     -999.0,9,     -999.0,9,     -999.0,9,     -999.0,9,     -999.0,9,     -999.0,9,     -999.0,9,     -999.0,9,     -999.0,9,     -999.0,9,    12.7402,2,     -999.0,     -999.0,9,     -999.0
320620170820,        P06,     193,          1,         28,         28,2,20170912,       0947,   -32.5006,  -108.9458,       3432,   216.6,  14.4416,  34.6413,2,  34.5999,2, 230.0091,2, 229.2933,2,     0.0,2,    4.27,2,    0.12,2,    0.37,2,-999.000,9,-999.000,9,-999.0000,9,  2074.7,2,  2280.6,2,   7.8715,2,    25.00, -999.00,9, -999.00,9, -999.00,  -999.0,9, -999.00,9,     -999.0,9,  -999.0,9, 20170912,     1118, -32.5004,-108.9462,        0.0,1,      0.083,1,      4.671,1,      0.139,1,     -999.0,9,     -999.0,9,     -999.0,9,     -999.0,9,     -999.0,9,     -999.0,9,     -999.0,9,     -999.0,9,     -999.0,9,     -999.0,9,     -999.0,9,    14.1089,2,     -999.0,     -999.0,9,     -999.0
320620170820,        P06,     193,          1,         29,         29,2,20170912,       0947,   -32.5006,  -108.9458,       3432,   185.9,  15.4993,  34.7076,2,  34.6582,2, 238.3538,2, 236.7901,2,     0.0,2,    1.38,2,    0.47,2,    0.23,2,   2.494,2,   1.501,2,   1.7620,2,  2063.0,2,  2283.7,6,   7.9046,2,    25.00, -999.00,9, -999.00,9, -999.00,  -999.0,9, -999.00,9,     -999.0,9,  -999.0,9, 20170912,     1119, -32.5005,-108.9462,        0.0,1,      0.125,1,      4.660,1,      0.146,1,     -999.0,9,     -999.0,9,     -999.0,9,     -999.0,9,     -999.0,9,     -999.0,9,     -999.0,9,     -999.0,9,     -999.0,9,     -999.0,9,     -999.0,9,    15.1194,2,     -999.0,     -999.0,9,     -999.0
320620170820,        P06,     193,          1,         30,         30,2,20170912,       0947,   -32.5006,  -108.9458,       3432,   161.1,  17.2887,  34.9529,2,  34.8808,2, 236.5893,2, 237.1232,2,     0.0,2,    0.13,2,    0.07,2,    0.10,2,-999.000,9,-999.000,9,-999.0000,9,  2048.6,2,  2296.6,2,   7.9497,6,    25.00, -999.00,9, -999.00,9, -999.00,  -999.0,9, -999.00,9,     -999.0,9,  -999.0,9, 20170912,     1121, -32.5005,-108.9462,        0.0,1,      0.151,1,      4.650,1,      0.163,1,     -999.0,9,     -999.0,9,     -999.0,9,     -999.0,9,     -999.0,9,     -999.0,9,     -999.0,9,     -999.0,9,     -999.0,9,     -999.0,9,     -999.0,9,    17.0629,2,     -999.0,     -999.0,9,     -999.0
320620170820,        P06,     193,          1,         31,         31,2,20170912,       0947,   -32.5006,  -108.9458,       3432,   135.2,  17.3043,  34.9136,2,  34.9396,2, 237.1073,2, 237.4905,2,     0.0,2,    0.02,2,    0.02,2,    0.07,2,   2.223,2,   1.326,2,   1.7850,2,  2047.2,2,  2300.2,2,   7.9599,2,    25.00, -999.00,9, -999.00,9, -999.00,  -999.0,9, -999.00,9,     -999.0,9,  -999.0,9, 20170912,     1122, -32.5005,-108.9461,        0.0,1,      0.173,1,      4.640,1,      0.172,1,     -999.0,9,     -999.0,9,     -999.0,9,     -999.0,9,     -999.0,9,     -999.0,9,     -999.0,9,     -999.0,9,     -999.0,9,     -999.0,9,     -999.0,9,    17.3465,2,     -999.0,     -999.0,9,     -999.0
320620170820,        P06,     193,          1,         32,         32,2,20170912,       0947,   -32.5006,  -108.9458,       3432,   111.4,  17.1955,  34.8637,2,  34.8393,2, 239.3057,2, 240.0936,2,     0.0,2,    0.03,2,    0.00,2,    0.08,2,-999.000,9,-999.000,9,-999.0000,9,  2041.2,2,  2294.0,2,   7.9588,2,    25.00, -999.00,9, -999.00,9, -999.00,  -999.0,9, -999.00,9,     -999.0,9,  -999.0,9, 20170912,     1124, -32.5006,-108.9460,        0.0,1,      0.164,1,      4.630,1,      0.182,1,     -999.0,9,     -999.0,9,     -999.0,9,     -999.0,9,     -999.0,9,     -999.0,9,     -999.0,9,     -999.0,9,     -999.0,9,     -999.0,9,     -999.0,9,    17.0561,2,     -999.0,     -999.0,9,     -999.0
320620170820,        P06,     193,          1,         33,         33,2,20170912,       0947,   -32.5006,  -108.9458,       3432,    84.8,  17.2261,  34.8555,2,  34.8442,2,  240.868,2, 240.8905,2,     0.0,2,    0.00,2,    0.00,2,    0.06,2,   2.260,2,   1.328,2,   1.7120,2,  2042.7,2,  2293.0,2,   7.9615,2,    25.00, -999.00,9, -999.00,9, -999.00,  -999.0,9, -999.00,9,     -999.0,9,  -999.0,9, 20170912,     1125, -32.5006,-108.9459,        0.0,1,      0.112,1,      4.632,1,      0.182,1,     -999.0,9,     -999.0,9,     -999.0,9,     -999.0,9,     -999.0,9,     -999.0,9,     -999.0,9,     -999.0,9,     -999.0,9,     -999.0,9,     -999.0,9,    17.1982,2,     -999.0,     -999.0,9,     -999.0
320620170820,        P06,     193,          1,         34,         34,2,20170912,       0947,   -32.5006,  -108.9458,       3432,    59.6,  17.5092,  34.8794,2,  34.8757,2, 241.3324,2, 241.2764,2,     0.0,2,    0.00,2,    0.00,2,    0.08,2,-999.000,9,-999.000,9,-999.0000,9,  2040.7,2,  2295.8,2,   7.9623,2,    25.00, -999.00,9, -999.00,9, -999.00,  -999.0,9, -999.00,9,     -999.0,9,  -999.0,9, 20170912,     1127, -32.5006,-108.9457,        0.0,1,      0.080,1,      4.640,1,      0.165,1,     -999.0,9,     -999.0,9,     -999.0,9,     -999.0,9,     -999.0,9,     -999.0,9,     -999.0,9,     -999.0,9,     -999.0,9,     -999.0,9,     -999.0,9,    17.4974,2,     -999.0,     -999.0,9,     -999.0
320620170820,        P06,     193,          1,         35,         35,2,20170912,       0947,   -32.5006,  -108.9458,       3432,    35.0,  17.5236,  34.8803,2,  34.8776,2, 241.2025,2, 241.2699,2,     0.0,2,    0.00,2,    0.00,2,    0.08,2,   2.201,2,   1.334,2,   1.7540,2,  2040.8,2,  2296.5,2,   7.9615,2,    25.00, -999.00,9, -999.00,9, -999.00,  -999.0,9, -999.00,9,     -999.0,9,  -999.0,9, 20170912,     1129, -32.5006,-108.9457,        0.0,1,      0.080,1,      4.641,1,      0.163,1,     -999.0,9,     -999.0,9,     -999.0,9,     -999.0,9,     -999.0,9,     -999.0,9,     -999.0,9,     -999.0,9,     -999.0,9,     -999.0,9,     -999.0,9,    17.5070,2,     -999.0,     -999.0,9,     -999.0
320620170820,        P06,     193,          1,         36,         36,2,20170912,       0947,   -32.5006,  -108.9458,       3432,     7.1,  17.5238,  34.8800,2,  34.8780,2, 241.6021,2, 241.3219,2,     0.0,2,    0.00,2,    0.00,2,    0.09,2,   2.254,2,   1.326,2,   1.7150,2,  2044.2,6,  2296.8,2,   7.9618,2,    25.00, -999.00,9, -999.00,9, -999.00,  -999.0,9, -999.00,9,     -999.0,9,  -999.0,9, 20170912,     1130, -32.5006,-108.9458,        0.0,1,      0.082,1,      4.638,1,      0.167,1,     -999.0,9,     -999.0,9,     -999.0,9,     -999.0,9,     -999.0,9,     -999.0,9,     -999.0,9,     -999.0,9,     -999.0,9,     -999.0,9,     -999.0,9,    17.5564,2,     -999.0,     -999.0,9,     -999.0