BOTTLE,20240211CCHSIOCBG
EXPOCODE,SECT_ID,STNNBR,CASTNO,SAMPNO,BTLNBR,BTLNBR_FLAG_W,DATE,TIME,LATITUDE,LONGITUDE,DEPTH,CTDPRS,CTDTMP,CTDSAL,CTDSAL_FLAG_W,SALNTY,SALNTY_FLAG_W,CTDOXY,CTDOXY_FLAG_W,OXYGEN,OXYGEN_FLAG_W,SILCAT,SILCAT_FLAG_W,NITRAT,NITRAT_FLAG_W,NITRIT,NITRIT_FLAG_W,PHSPHT,PHSPHT_FLAG_W,CFC-11,CFC-11_FLAG_W,CFC-12,CFC-12_FLAG_W,SF6,SF6_FLAG_W,TCARBN,TCARBN_FLAG_W,ALKALI,ALKALI_FLAG_W,PH_TOT,PH_TOT_FLAG_W,PH_TMP,DELC13,DELC13_FLAG_W,DELC14,DELC14_FLAG_W,C14ERR,DOC,DOC_FLAG_W,TDN,TDN_FLAG_W,TON,TON_FLAG_W,D15N_NO3,D15N_NO3_FLAG_W,BTL_DATE,BTL_TIME,BTL_LAT,BTL_LON,CTDRINKO,CTDRINKO_FLAG_W,CTDFLUOR,CTDFLUOR_FLAG_W,CTDXMISS,CTDXMISS_FLAG_W,CTDBACKSCATTER,CTDBACKSCATTER_FLAG_W,D18O_NO3,D18O_NO3_FLAG_W,DOP,DOP_FLAG_W,CELLCOUNT,CELLCOUNT_FLAG_W,TDP,TDP_FLAG_W,POP,POP_FLAG_W,DATP,DATP_FLAG_W,PATP,PATP_FLAG_W,HPLC,HPLC_FLAG_W,POC,POC_FLAG_W,BEAMAP,BEAMAP_FLAG_W,DOC_NASA,DOC_NASA_FLAG_W,REFTMP,REFTMP_FLAG_W,DOC_NASA_ERROR,TDN_NASA,TDN_NASA_FLAG_W,TDN_NASA_ERROR
,,,,,,,,,,,METERS,DBAR,ITS-90,PSS-78,,PSS-78,,UMOL/KG,,UMOL/KG,,UMOL/KG,,UMOL/KG,,UMOL/KG,,UMOL/KG,,PMOL/KG,,PMOL/KG,,FMOL/KG,,UMOL/KG,,UMOL/KG,,,,DEG C,/MILLE,,/MILLE,,/MILLE,UMOL/KG,,UMOL/KG,,UMOL/KG,,/MILLE,,,,,,VOLTS,,VOLTS,,VOLTS,,VOLTS,,/MILLE,,UMOL/KG,,/LITER,,UMOL/KG,,UMOL/L,,PMOL/L,,PMOL/L,,,,UG/L,,/METER,,UMOL/L,,ITS-90,,UMOL/L,UMOL/L,,UMOL/L
320620170820,        P06,     176,          1,         27,         27,2,20170907,       0501,   -32.4999,  -122.2160,       3882,   284.7,  12.1091,  34.6321,2,  34.6215,3,  216.839,2, 216.5684,2,     1.3,2,   10.16,2,    0.00,2,    0.76,2,   2.957,2,   1.663,2,   1.3700,2,  2109.5,2,  2282.0,2,   7.8093,6,    25.00, -999.00,9, -999.00,9, -999.00,  -999.0,9, -999.00,9,     -999.0,9,  -999.0,1, 20170907,      631, -32.4997,-122.2160,        0.0,1,      0.061,1,      4.685,1,      0.131,1,     -999.0,1,     -999.0,1,     -999.0,9,     -999.0,9,     -999.0,9,     -999.0,9,     -999.0,9,     -999.0,9,     -999.0,9,     -999.0,9,     -999.0,9,    12.0283,2,     -999.0,     -999.0,9,     -999.0
320620170820,        P06,     176,          1,         28,         28,2,20170907,       0501,   -32.4999,  -122.2160,       3882,   237.8,  13.7192,  34.7546,2,  34.7765,2, 219.9409,2, 221.4387,2,     0.5,2,    5.03,2,    0.02,2,    0.45,2,   2.652,2,   1.544,2,   1.5420,2,  2087.5,2,  2288.4,2,   7.8642,2,    25.00, -999.00,9, -999.00,9, -999.00,    49.8,2,    8.50,2,     -999.0,1,  -999.0,1, 20170907,      633, -32.4998,-122.2160,        0.0,1,      0.071,1,      4.681,1,      0.131,1,     -999.0,1,     -999.0,1,     -999.0,9,     -999.0,9,     -999.0,9,     -999.0,9,     -999.0,9,     -999.0,9,     -999.0,9,     -999.0,9,     -999.0,9,    13.9603,2,     -999.0,     -999.0,9,     -999.0
320620170820,        P06,     176,          1,         29,         29,2,20170907,       0501,   -32.4999,  -122.2160,       3882,   186.0,  15.4421,  34.8634,2,  34.8552,2, 231.9793,2, 232.1717,2,     0.2,2,    1.20,2,    0.26,2,    0.24,2,   2.433,2,   1.461,2,   1.5340,2,  2069.1,2,  2292.2,2,   7.9084,2,    25.00, -999.00,9, -999.00,9, -999.00,    52.0,2,    5.50,2,     -999.0,1,  -999.0,1, 20170907,      636, -32.4998,-122.2160,        0.0,1,      0.124,1,      4.667,1,      0.144,1,     -999.0,1,     -999.0,1,     -999.0,9,     -999.0,9,     -999.0,9,     -999.0,9,     -999.0,9,     -999.0,9,     -999.0,9,     -999.0,9,     -999.0,9,    15.3589,2,     -999.0,     -999.0,9,     -999.0
320620170820,        P06,     176,          1,         30,         30,2,20170907,       0501,   -32.4999,  -122.2160,       3882,   141.0,  16.8357,  34.9371,2,  34.9726,2, 238.0976,2, 238.7371,2,     0.1,2,    0.00,2,    0.00,2,    0.10,2,   2.321,2,   1.295,2,   1.6390,2,  2045.8,2,  2297.8,2,   7.9614,2,    25.00, -999.00,9, -999.00,9, -999.00,    58.2,2,    3.70,2,     -999.0,1,  -999.0,1, 20170907,      638, -32.4999,-122.2160,        0.0,1,      0.171,1,      4.649,1,      0.163,1,     -999.0,1,     -999.0,1,     -999.0,9,     -999.0,9,     -999.0,9,     -999.0,9,     -999.0,9,     -999.0,9,     -999.0,9,     -999.0,9,     -999.0,9,    17.1080,2,     -999.0,     -999.0,9,     -999.0
320620170820,        P06,     176,          1,         31,         31,2,20170907,       0501,   -32.4999,  -122.2160,       3882,   114.9,  17.1752,  34.9749,2,  35.0490,2, 237.3038,2, 237.1849,2,     0.1,2,    0.00,2,    0.00,2,    0.10,2,   2.384,2,   1.305,2,   1.7060,2,  2043.8,2,  2301.8,2,   7.9675,2,    25.00, -999.00,9, -999.00,9, -999.00,    59.7,2,    3.70,2,     -999.0,1,  -999.0,1, 20170907,      640, -32.5000,-122.2159,        0.0,1,      0.111,1,      4.649,1,      0.159,1,     -999.0,1,     -999.0,1,     -999.0,9,     -999.0,9,     -999.0,9,     -999.0,9,     -999.0,9,     -999.0,9,     -999.0,9,     -999.0,9,     -999.0,9,    17.4469,2,     -999.0,     -999.0,9,     -999.0
320620170820,        P06,     176,          1,         32,         32,2,20170907,       0501,   -32.4999,  -122.2160,       3882,    90.1,  17.5750,  35.0660,2,  35.0892,2, 237.9805,2, 237.4421,2,     0.1,2,    0.00,2,    0.00,2,    0.09,2,   2.190,2,   1.314,2,   1.7430,2,  2043.6,2,  2304.9,2,   7.9701,2,    25.00, -999.00,9, -999.00,9, -999.00,    60.5,2,    3.40,2,     -999.0,1,  -999.0,1, 20170907,      641, -32.5000,-122.2159,        0.0,1,      0.086,1,      4.653,1,      0.156,1,     -999.0,1,     -999.0,1,     -999.0,9,     -999.0,9,     -999.0,9,     -999.0,9,     -999.0,9,     -999.0,9,     -999.0,9,     -999.0,9,     -999.0,9,    17.6652,2,     -999.0,     -999.0,9,     -999.0
320620170820,        P06,     176,          1,         33,         33,2,20170907,       0501,   -32.4999,  -122.2160,       3882,    61.4,  17.6098,  35.0742,2,  35.0809,2, 237.9142,2, 237.7027,2,     0.1,2,    0.00,2,    0.00,2,    0.09,2,   2.175,2,   1.300,2,   1.6910,2,  2046.6,2,  2303.6,2,   7.9704,2,    25.00, -999.00,9, -999.00,9, -999.00,    58.5,2,    4.10,2,     -999.0,1,  -999.0,1, 20170907,      643, -32.5000,-122.2159,        0.0,1,      0.083,1,      4.652,1,      0.155,1,     -999.0,1,     -999.0,1,     -999.0,9,     -999.0,9,     -999.0,9,     -999.0,9,     -999.0,9,     -999.0,9,     -999.0,9,     -999.0,9,     -999.0,9,    17.6481,2,     -999.0,     -999.0,9,     -999.0
320620170820,        P06,     176,          1,         34,         34,2,20170907,       0501,   -32.4999,  -122.2160,       3882,    38.6,  17.5791,  35.0632,2,  35.0986,2, 238.0985,2, 237.2298,2,     0.1,2,    0.00,2,    0.00,2,    0.09,2,   2.182,2,   1.291,2,   1.7050,2,  2044.9,2,  2304.2,2,   7.9720,2,    25.00, -999.00,9, -999.00,9, -999.00,    58.8,2,    3.70,2,     -999.0,1,  -999.0,1, 20170907,      645, -32.4999,-122.2160,        0.0,1,      0.076,1,      4.654,1,      0.153,1,     -999.0,1,     -999.0,1,     -999.0,9,     -999.0,9,     -999.0,9,     -999.0,9,     -999.0,9,     -999.0,9,     -999.0,9,     -999.0,9,     -999.0,9,    17.7083,2,     -999.0,     -999.0,9,     -999.0
320620170820,        P06,     176,          1,         35,         35,2,20170907,       0501,   -32.4999,  -122.2160,       3882,    19.8,  17.7122,  35.0663,2,  35.0905,2, 238.6254,2, 237.2951,2,     0.1,2,    0.00,2,    0.00,2,    0.10,2,   2.208,2,   1.308,2,   1.5070,2,  2044.9,2,  2305.0,2,   7.9708,2,    25.00, -999.00,9, -999.00,9, -999.00,    60.5,2,    4.00,2,     -999.0,1,  -999.0,1, 20170907,      646, -32.4999,-122.2160,        0.0,1,      0.070,1,      4.657,1,      0.149,1,     -999.0,1,     -999.0,1,     -999.0,9,     -999.0,9,     -999.0,9,     -999.0,9,     -999.0,9,     -999.0,9,     -999.0,9,     -999.0,9,     -999.0,9,    17.7112,2,     -999.0,     -999.0,9,     -999.0
320620170820,        P06,     176,          1,         36,         36,2,20170907,       0501,   -32.4999,  -122.2160,       3882,     8.8,  17.7547,  35.0663,2,  35.0815,2, 238.5226,2, 237.8957,2,     0.1,2,    0.00,2,    0.00,2,    0.10,2,   2.182,2,   1.302,2,   1.5900,2,  2045.5,6,  2305.4,2,   7.9694,2,    25.00, -999.00,9, -999.00,9, -999.00,    59.3,2,    4.00,2,     -999.0,1,  -999.0,1, 20170907,      648, -32.4999,-122.2160,        0.0,1,      0.069,1,      4.656,1,      0.149,1,     -999.0,1,     -999.0,1,     -999.0,9,     -999.0,9,     -999.0,9,     -999.0,9,     -999.0,9,     -999.0,9,     -999.0,9,     -999.0,9,     -999.0,9,    17.7068,2,     -999.0,     -999.0,9,     -999.0