BOTTLE,20240211CCHSIOCBG
EXPOCODE,SECT_ID,STNNBR,CASTNO,SAMPNO,BTLNBR,BTLNBR_FLAG_W,DATE,TIME,LATITUDE,LONGITUDE,DEPTH,CTDPRS,CTDTMP,CTDSAL,CTDSAL_FLAG_W,SALNTY,SALNTY_FLAG_W,CTDOXY,CTDOXY_FLAG_W,OXYGEN,OXYGEN_FLAG_W,SILCAT,SILCAT_FLAG_W,NITRAT,NITRAT_FLAG_W,NITRIT,NITRIT_FLAG_W,PHSPHT,PHSPHT_FLAG_W,CFC-11,CFC-11_FLAG_W,CFC-12,CFC-12_FLAG_W,SF6,SF6_FLAG_W,TCARBN,TCARBN_FLAG_W,ALKALI,ALKALI_FLAG_W,PH_TOT,PH_TOT_FLAG_W,PH_TMP,DELC13,DELC13_FLAG_W,DELC14,DELC14_FLAG_W,C14ERR,DOC,DOC_FLAG_W,TDN,TDN_FLAG_W,TON,TON_FLAG_W,D15N_NO3,D15N_NO3_FLAG_W,BTL_DATE,BTL_TIME,BTL_LAT,BTL_LON,CTDRINKO,CTDRINKO_FLAG_W,CTDFLUOR,CTDFLUOR_FLAG_W,CTDXMISS,CTDXMISS_FLAG_W,CTDBACKSCATTER,CTDBACKSCATTER_FLAG_W,D18O_NO3,D18O_NO3_FLAG_W,DOP,DOP_FLAG_W,CELLCOUNT,CELLCOUNT_FLAG_W,TDP,TDP_FLAG_W,POP,POP_FLAG_W,DATP,DATP_FLAG_W,PATP,PATP_FLAG_W,HPLC,HPLC_FLAG_W,POC,POC_FLAG_W,BEAMAP,BEAMAP_FLAG_W,DOC_NASA,DOC_NASA_FLAG_W,REFTMP,REFTMP_FLAG_W,DOC_NASA_ERROR,TDN_NASA,TDN_NASA_FLAG_W,TDN_NASA_ERROR
,,,,,,,,,,,METERS,DBAR,ITS-90,PSS-78,,PSS-78,,UMOL/KG,,UMOL/KG,,UMOL/KG,,UMOL/KG,,UMOL/KG,,UMOL/KG,,PMOL/KG,,PMOL/KG,,FMOL/KG,,UMOL/KG,,UMOL/KG,,,,DEG C,/MILLE,,/MILLE,,/MILLE,UMOL/KG,,UMOL/KG,,UMOL/KG,,/MILLE,,,,,,VOLTS,,VOLTS,,VOLTS,,VOLTS,,/MILLE,,UMOL/KG,,/LITER,,UMOL/KG,,UMOL/L,,PMOL/L,,PMOL/L,,,,UG/L,,/METER,,UMOL/L,,ITS-90,,UMOL/L,UMOL/L,,UMOL/L
320620170820,        P06,     224,          1,          1,          1,2,20170922,       0910,   -32.5005,   -83.7564,       3811,  3863.6,   1.6518,  34.6949,2,  34.6956,2, 164.3803,2, 164.3915,2,   123.4,2,   34.75,2,    0.00,2,    2.49,3,   0.014,2,   0.021,2,   0.0000,4,  2306.7,6,  2399.7,2,   7.5910,2,    25.00, -999.00,9, -999.00,9, -999.00,    38.2,2, -999.00,9,     -999.0,1,  -999.0,9, 20170922,      910, -32.5001, -83.7550,        0.0,1,      0.060,1,      4.677,1,      0.140,1,     -999.0,9,     -999.0,9,     -999.0,9,     -999.0,9,     -999.0,9,     -999.0,9,     -999.0,9,     -999.0,9,     -999.0,9,     -999.0,9,     -999.0,9,     1.6520,2,     -999.0,     -999.0,9,     -999.0
320620170820,        P06,     224,          1,          2,          2,2,20170922,       0910,   -32.5005,   -83.7564,       3811,  3707.2,   1.6372,  34.6949,2,  34.6962,2, 164.3803,2, 164.7423,2,   123.2,2,   34.72,2,    0.00,2,    2.41,2,   0.014,2,   0.021,2,   0.0000,4,  2304.4,2,  2399.7,2,   7.5898,2,    25.00, -999.00,9, -999.00,9, -999.00,    37.2,2, -999.00,9,     -999.0,1,  -999.0,9, 20170922,      914, -32.5000, -83.7551,        0.0,1,      0.061,1,      4.679,1,      0.140,1,     -999.0,9,     -999.0,9,     -999.0,9,     -999.0,9,     -999.0,9,     -999.0,9,     -999.0,9,     -999.0,9,     -999.0,9,     -999.0,9,     -999.0,9,     1.6375,2,     -999.0,     -999.0,9,     -999.0
320620170820,        P06,     224,          1,          3,          3,2,20170922,       0910,   -32.5005,   -83.7564,       3811,  3554.4,   1.6342,  34.6942,2,  34.6952,2, 164.2922,2, 164.5876,2,   123.5,2,   34.72,2,    0.00,2,    2.41,2,   0.015,2,   0.023,2,   0.0000,4,  -999.0,9,  -999.0,9,-999.0000,9,  -999.00, -999.00,9, -999.00,9, -999.00,  -999.0,9, -999.00,9,     -999.0,9,  -999.0,9, 20170922,      918, -32.5000, -83.7553,        0.0,1,      0.061,1,      4.684,1,      0.129,1,     -999.0,9,     -999.0,9,     -999.0,9,     -999.0,9,     -999.0,9,     -999.0,9,     -999.0,9,     -999.0,9,     -999.0,9,     -999.0,9,     -999.0,9,     1.6340,2,     -999.0,     -999.0,9,     -999.0
320620170820,        P06,     224,          1,          4,          4,2,20170922,       0910,   -32.5005,   -83.7564,       3811,  3248.7,   1.7129,  34.6886,2,  34.6897,2, 162.5807,3, 161.1305,2,   122.7,2,   34.87,2,    0.00,2,    2.43,2,   0.015,2,   0.025,2,   0.0000,4,  2303.2,2,  2395.7,2,   7.5831,2,    25.00, -999.00,9, -999.00,9, -999.00,  -999.0,5, -999.00,9,     -999.0,1,  -999.0,9, 20170922,      924, -32.5001, -83.7551,        0.0,1,      0.061,1,      4.683,1,      0.130,1,     -999.0,9,     -999.0,9,     -999.0,9,     -999.0,9,     -999.0,9,     -999.0,9,     -999.0,9,     -999.0,9,     -999.0,9,     -999.0,9,     -999.0,9,     1.7116,2,     -999.0,     -999.0,9,     -999.0
320620170820,        P06,     224,          1,          5,          5,2,20170922,       0910,   -32.5005,   -83.7564,       3811,  2956.0,   1.7854,  34.6814,2,  34.6824,2, 157.0772,2, 156.6515,2,   122.8,2,   35.18,2,    0.00,2,    2.45,2,-999.000,9,-999.000,9,-999.0000,9,  -999.0,9,  -999.0,9,-999.0000,9,  -999.00, -999.00,9, -999.00,9, -999.00,  -999.0,9, -999.00,9,     -999.0,9,  -999.0,9, 20170922,      929, -32.5000, -83.7553,        0.0,1,      0.062,1,      4.684,1,      0.131,1,     -999.0,9,     -999.0,9,     -999.0,9,     -999.0,9,     -999.0,9,     -999.0,9,     -999.0,9,     -999.0,9,     -999.0,9,     -999.0,9,     -999.0,9,     1.7838,2,     -999.0,     -999.0,9,     -999.0
320620170820,        P06,     224,          1,          6,          6,2,20170922,       0910,   -32.5005,   -83.7564,       3811,  2702.0,   1.8480,  34.6740,2,  34.6747,2,  153.636,3, 154.7403,2,   121.4,2,   35.35,2,    0.00,2,    2.48,2,   0.017,2,   0.026,2,   0.0000,4,  2305.7,2,  2395.2,2,   7.5717,2,    25.00, -999.00,9, -999.00,9, -999.00,    36.5,2, -999.00,9,     -999.0,1,  -999.0,9, 20170922,      935, -32.5000, -83.7558,        0.0,1,      0.061,1,      4.684,1,      0.134,1,     -999.0,9,     -999.0,9,     -999.0,9,     -999.0,9,     -999.0,9,     -999.0,9,     -999.0,9,     -999.0,9,     -999.0,9,     -999.0,9,     -999.0,9,     1.8484,2,     -999.0,     -999.0,9,     -999.0
320620170820,        P06,     224,          1,          7,          7,2,20170922,       0910,   -32.5005,   -83.7564,       3811,  2446.8,   1.9343,  34.6632,2,  34.6645,2, 149.5655,2, 150.0043,2,   119.7,2,   35.68,2,    0.00,2,    2.50,2,-999.000,9,-999.000,9,-999.0000,9,  -999.0,9,  -999.0,9,-999.0000,9,  -999.00, -999.00,9, -999.00,9, -999.00,    35.7,2, -999.00,9,     -999.0,1,  -999.0,9, 20170922,      940, -32.5000, -83.7560,        0.0,1,      0.061,1,      4.684,1,      0.133,1,     -999.0,9,     -999.0,9,     -999.0,9,     -999.0,9,     -999.0,9,     -999.0,9,     -999.0,9,     -999.0,9,     -999.0,9,     -999.0,9,     -999.0,9,     1.9337,2,     -999.0,     -999.0,9,     -999.0
320620170820,        P06,     224,          1,          8,          8,2,20170922,       0910,   -32.5005,   -83.7564,       3811,  2192.5,   2.0689,  34.6490,2,  34.6500,2, 143.0992,2, 143.5245,2,   117.3,2,   36.22,2,    0.00,2,    2.54,2,   0.013,2,   0.024,2,   0.0000,4,  2307.6,2,  2390.4,2,   7.5539,2,    25.00, -999.00,9, -999.00,9, -999.00,    37.2,2, -999.00,9,     -999.0,1,  -999.0,9, 20170922,      945, -32.5000, -83.7560,        0.0,1,      0.062,1,      4.684,1,      0.134,1,     -999.0,9,     -999.0,9,     -999.0,9,     -999.0,9,     -999.0,9,     -999.0,9,     -999.0,9,     -999.0,9,     -999.0,9,     -999.0,9,     -999.0,9,     2.0694,2,     -999.0,     -999.0,9,     -999.0
320620170820,        P06,     224,          1,          9,          9,2,20170922,       0910,   -32.5005,   -83.7564,       3811,  1956.6,   2.2349,  34.6332,2,  34.6329,2, 137.1086,2, 137.2383,2,   113.2,2,   36.75,2,    0.00,2,    2.59,2,-999.000,9,-999.000,9,-999.0000,9,  -999.0,9,  -999.0,9,-999.0000,9,  -999.00, -999.00,9, -999.00,9, -999.00,  -999.0,9, -999.00,9,     -999.0,9,  -999.0,9, 20170922,      950, -32.5000, -83.7559,        0.0,1,      0.061,1,      4.684,1,      0.133,1,     -999.0,9,     -999.0,9,     -999.0,9,     -999.0,9,     -999.0,9,     -999.0,9,     -999.0,9,     -999.0,9,     -999.0,9,     -999.0,9,     -999.0,9,     2.2461,2,     -999.0,     -999.0,9,     -999.0
320620170820,        P06,     224,          1,         10,         10,2,20170922,       0910,   -32.5005,   -83.7564,       3811,  1785.9,   2.4274,  34.6161,2,  34.6154,2, 130.1839,2,  130.251,2,   109.2,2,   37.37,2,    0.00,2,    2.63,2,   0.014,2,   0.024,2,   0.0000,4,  2307.4,2,  2379.5,2,   7.5301,2,    25.00, -999.00,9, -999.00,9, -999.00,    36.2,2, -999.00,9,     -999.0,1,  -999.0,9, 20170922,      954, -32.5000, -83.7559,        0.0,1,      0.062,1,      4.683,1,      0.136,1,     -999.0,9,     -999.0,9,     -999.0,9,     -999.0,9,     -999.0,9,     -999.0,9,     -999.0,9,     -999.0,9,     -999.0,9,     -999.0,9,     -999.0,9,     2.4449,2,     -999.0,     -999.0,9,     -999.0
320620170820,        P06,     224,          1,         11,         11,2,20170922,       0910,   -32.5005,   -83.7564,       3811,  1682.5,   2.5252,  34.6075,2,  34.6056,2,   126.31,2, 126.0371,2,   106.4,2,   37.73,2,    0.00,2,    2.67,2,-999.000,9,-999.000,9,-999.0000,9,  -999.0,9,  -999.0,9,-999.0000,9,  -999.00, -999.00,9, -999.00,9, -999.00,  -999.0,9, -999.00,9,     -999.0,9,  -999.0,9, 20170922,      956, -32.5000, -83.7559,        0.0,1,      0.062,1,      4.683,1,      0.136,1,     -999.0,9,     -999.0,9,     -999.0,9,     -999.0,9,     -999.0,9,     -999.0,9,     -999.0,9,     -999.0,9,     -999.0,9,     -999.0,9,     -999.0,9,     2.5474,2,     -999.0,     -999.0,9,     -999.0
320620170820,        P06,     224,          1,         12,         12,2,20170922,       0910,   -32.5005,   -83.7564,       3811,  1582.7,   2.6630,  34.5942,2,  34.5930,2, 121.8966,2, 121.5289,2,   102.8,2,   38.14,2,    0.00,2,    2.69,2,   0.013,2,   0.030,2,   0.0000,4,  2306.9,2,  2373.6,6,   7.5129,2,    25.00, -999.00,9, -999.00,9, -999.00,    37.0,2, -999.00,9,     -999.0,1,  -999.0,9, 20170922,      959, -32.5000, -83.7559,        0.0,1,      0.061,1,      4.683,1,      0.136,1,     -999.0,9,     -999.0,9,     -999.0,9,     -999.0,9,     -999.0,9,     -999.0,9,     -999.0,9,     -999.0,9,     -999.0,9,     -999.0,9,     -999.0,9,     2.6797,2,     -999.0,     -999.0,9,     -999.0
320620170820,        P06,     224,          1,         13,         13,2,20170922,       0910,   -32.5005,   -83.7564,       3811,  1480.2,   2.8146,  34.5792,2,  34.5785,2, 117.9902,2,  117.992,2,    98.4,2,   38.45,2,    0.00,2,    2.73,2,-999.000,9,-999.000,9,-999.0000,9,  -999.0,9,  -999.0,9,-999.0000,9,  -999.00, -999.00,9, -999.00,9, -999.00,  -999.0,9, -999.00,9,     -999.0,9,  -999.0,9, 20170922,     1002, -32.5000, -83.7557,        0.0,1,      0.062,1,      4.683,1,      0.135,1,     -999.0,9,     -999.0,9,     -999.0,9,     -999.0,9,     -999.0,9,     -999.0,9,     -999.0,9,     -999.0,9,     -999.0,9,     -999.0,9,     -999.0,9,     2.8342,2,     -999.0,     -999.0,9,     -999.0
320620170820,        P06,     224,          1,         14,         14,2,20170922,       0910,   -32.5005,   -83.7564,       3811,  1378.3,   2.9970,  34.5605,2,  34.5594,2,  115.733,2, 115.3623,2,    92.8,2,   38.75,2,    0.00,2,    2.73,2,   0.015,2,   0.031,2,   0.0000,4,  2299.4,2,  2361.7,2,   7.4990,6,    25.00, -999.00,9, -999.00,9, -999.00,    34.9,2, -999.00,9,     -999.0,1,  -999.0,9, 20170922,     1005, -32.5000, -83.7556,        0.0,1,      0.062,1,      4.683,1,      0.137,1,     -999.0,9,     -999.0,9,     -999.0,9,     -999.0,9,     -999.0,9,     -999.0,9,     -999.0,9,     -999.0,9,     -999.0,9,     -999.0,9,     -999.0,9,     3.0122,2,     -999.0,     -999.0,9,     -999.0
320620170820,        P06,     224,          1,         15,         15,2,20170922,       0910,   -32.5005,   -83.7564,       3811,  1276.8,   3.1837,  34.5352,2,  34.5345,2, 113.2125,2, 113.0121,2,    86.1,2,   39.07,2,    0.00,2,    2.75,2,   0.019,2,   0.034,2,   0.0000,4,  2295.5,6,  2352.3,2,   7.4910,2,    25.00, -999.00,9, -999.00,9, -999.00,    38.4,2, -999.00,9,     -999.0,1,  -999.0,9, 20170922,     1008, -32.5000, -83.7554,        0.0,1,      0.062,1,      4.682,1,      0.137,1,     -999.0,9,     -999.0,9,     -999.0,9,     -999.0,9,     -999.0,9,     -999.0,9,     -999.0,9,     -999.0,9,     -999.0,9,     -999.0,9,     -999.0,9,     3.1829,2,     -999.0,     -999.0,9,     -999.0
320620170820,        P06,     224,          1,         16,         16,2,20170922,       0910,   -32.5005,   -83.7564,       3811,  1176.2,   3.3420,  34.5062,2,  34.5048,2, 114.7953,2, 114.3401,2,    78.2,2,   39.06,2,    0.00,2,    2.74,2,   0.033,2,   0.045,2,   0.0000,4,  2288.7,2,  2345.5,2,   7.4877,2,    25.00, -999.00,9, -999.00,9, -999.00,    37.8,2, -999.00,9,     -999.0,1,  -999.0,9, 20170922,     1010, -32.5000, -83.7554,        0.0,1,      0.061,1,      4.681,1,      0.140,1,     -999.0,9,     -999.0,9,     -999.0,9,     -999.0,9,     -999.0,9,     -999.0,9,     -999.0,9,     -999.0,9,     -999.0,9,     -999.0,9,     -999.0,9,     3.3477,2,     -999.0,     -999.0,9,     -999.0
320620170820,        P06,     224,          1,         17,         17,2,20170922,       0910,   -32.5005,   -83.7564,       3811,  1074.6,   3.5739,  34.4558,2,  34.4553,2, 124.2628,2,  123.975,2,    65.8,2,   38.44,2,    0.00,2,    2.70,2,   0.089,2,   0.070,2,   0.0000,4,  -999.0,9,  -999.0,9,-999.0000,9,  -999.00, -999.00,9, -999.00,9, -999.00,  -999.0,9, -999.00,9,     -999.0,9,  -999.0,9, 20170922,     1013, -32.5000, -83.7553,        0.0,1,      0.062,1,      4.681,1,      0.140,1,     -999.0,9,     -999.0,9,     -999.0,9,     -999.0,9,     -999.0,9,     -999.0,9,     -999.0,9,     -999.0,9,     -999.0,9,     -999.0,9,     -999.0,9,     3.5761,2,     -999.0,     -999.0,9,     -999.0
320620170820,        P06,     224,          1,         18,         18,2,20170922,       0910,   -32.5005,   -83.7564,       3811,   974.1,   3.8296,  34.4036,2,  34.4053,2, 139.8728,2, 138.7879,2,    54.0,2,   37.26,2,    0.00,2,    2.58,2,   0.281,2,   0.162,2,   0.0000,4,  2251.9,2,  2316.9,2,   7.5144,2,    25.00, -999.00,9, -999.00,9, -999.00,    40.2,2, -999.00,9,     -999.0,1,  -999.0,9, 20170922,     1016, -32.5000, -83.7553,        0.0,1,      0.061,1,      4.681,1,      0.148,1,     -999.0,9,     -999.0,9,     -999.0,9,     -999.0,9,     -999.0,9,     -999.0,9,     -999.0,9,     -999.0,9,     -999.0,9,     -999.0,9,     -999.0,9,     3.8111,2,     -999.0,     -999.0,9,     -999.0
320620170820,        P06,     224,          1,         19,         19,2,20170922,       0910,   -32.5005,   -83.7564,       3811,   872.2,   4.2684,  34.3624,2,  34.3605,2, 150.6695,2, 152.0675,2,    42.1,2,   35.89,2,    0.00,2,    2.50,2,   0.638,2,   0.327,2,   0.0000,4,  -999.0,9,  -999.0,9,-999.0000,9,  -999.00, -999.00,9, -999.00,9, -999.00,  -999.0,9, -999.00,9,     -999.0,9,  -999.0,9, 20170922,     1018, -32.5000, -83.7554,        0.0,1,      0.061,1,      4.681,1,      0.142,1,     -999.0,9,     -999.0,9,     -999.0,9,     -999.0,9,     -999.0,9,     -999.0,9,     -999.0,9,     -999.0,9,     -999.0,9,     -999.0,9,     -999.0,9,     4.2264,2,     -999.0,     -999.0,9,     -999.0
320620170820,        P06,     224,          1,         20,         20,2,20170922,       0910,   -32.5005,   -83.7564,       3811,   771.6,   4.7445,  34.3049,2,  34.3074,2, 179.8074,2, 179.5198,2,    28.6,2,   33.03,2,    0.00,2,    2.29,2,   1.411,2,   0.712,2,   0.2550,4,  2207.8,2,  2292.3,2,   7.5748,2,    25.00, -999.00,9, -999.00,9, -999.00,    37.3,2, -999.00,9,     -999.0,1,  -999.0,9, 20170922,     1021, -32.5000, -83.7554,        0.0,1,      0.061,1,      4.680,1,      0.144,1,     -999.0,9,     -999.0,9,     -999.0,9,     -999.0,9,     -999.0,9,     -999.0,9,     -999.0,9,     -999.0,9,     -999.0,9,     -999.0,9,     -999.0,9,     4.6689,2,     -999.0,     -999.0,9,     -999.0
320620170820,        P06,     224,          1,         21,         21,2,20170922,       0910,   -32.5005,   -83.7564,       3811,   671.0,   5.2837,  34.2804,2,  34.2799,2, 195.9887,2, 196.8768,2,    19.1,2,   30.66,2,    0.00,2,    2.11,2,   2.526,2,   1.222,2,   0.6060,4,  -999.0,9,  -999.0,9,-999.0000,9,  -999.00, -999.00,9, -999.00,9, -999.00,  -999.0,9, -999.00,9,     -999.0,9,  -999.0,9, 20170922,     1024, -32.5000, -83.7555,        0.0,1,      0.061,1,      4.680,1,      0.144,1,     -999.0,9,     -999.0,9,     -999.0,9,     -999.0,9,     -999.0,9,     -999.0,9,     -999.0,9,     -999.0,9,     -999.0,9,     -999.0,9,     -999.0,9,     5.2233,2,     -999.0,     -999.0,9,     -999.0
320620170820,        P06,     224,          1,         22,         22,2,20170922,       0910,   -32.5005,   -83.7564,       3811,   569.7,   5.7746,  34.2837,2,  34.2834,2, 198.9484,2, 198.5355,2,    14.7,2,   29.47,2,    0.00,2,    2.02,2,   3.054,2,   1.452,2,   0.7290,4,  2185.0,2,  2277.6,2,   7.6048,2,    25.00, -999.00,9, -999.00,9, -999.00,    42.0,2, -999.00,9,     -999.0,1,  -999.0,9, 20170922,     1027, -32.5000, -83.7555,        0.0,1,      0.061,1,      4.678,1,      0.145,1,     -999.0,9,     -999.0,9,     -999.0,9,     -999.0,9,     -999.0,9,     -999.0,9,     -999.0,9,     -999.0,9,     -999.0,9,     -999.0,9,     -999.0,9,     5.7593,2,     -999.0,     -999.0,9,     -999.0
320620170820,        P06,     224,          1,         23,         23,2,20170922,       0910,   -32.5005,   -83.7564,       3811,   487.9,   6.4547,  34.3258,2,  34.3239,2, 165.1766,2, 164.3429,2,    15.0,2,   30.92,2,    0.00,2,    2.14,2,   2.920,2,   1.410,2,   0.8530,4,  2199.3,2,  2277.3,2,   7.5536,2,    25.00, -999.00,9, -999.00,9, -999.00,    49.7,3, -999.00,9,     -999.0,1,  -999.0,9, 20170922,     1029, -32.5000, -83.7557,        0.0,1,      0.062,1,      4.675,1,      0.151,1,     -999.0,9,     -999.0,9,     -999.0,9,     -999.0,9,     -999.0,9,     -999.0,9,     -999.0,9,     -999.0,9,     -999.0,9,     -999.0,9,     -999.0,9,     6.4305,2,     -999.0,     -999.0,9,     -999.0
320620170820,        P06,     224,          1,         24,         24,2,20170922,       0910,   -32.5005,   -83.7564,       3811,   437.7,   7.1161,  34.3732,2,  34.3825,2, 104.8504,2, 106.8848,2,    18.0,2,   33.80,2,    0.00,2,    2.41,2,   2.280,2,   1.135,2,   0.6730,4,  -999.0,9,  -999.0,9,-999.0000,9,  -999.00, -999.00,9, -999.00,9, -999.00,  -999.0,9, -999.00,9,     -999.0,9,  -999.0,9, 20170922,     1031, -32.5000, -83.7558,        0.0,1,      0.062,1,      4.671,1,      0.162,1,     -999.0,9,     -999.0,9,     -999.0,9,     -999.0,9,     -999.0,9,     -999.0,9,     -999.0,9,     -999.0,9,     -999.0,9,     -999.0,9,     -999.0,9,     7.2775,2,     -999.0,     -999.0,9,     -999.0
320620170820,        P06,     224,          1,         25,         25,2,20170922,       0910,   -32.5005,   -83.7564,       3811,   388.5,   7.9294,  34.4165,2,  34.4137,2,  79.0077,2,  79.5339,2,    18.6,2,   33.48,2,    0.00,2,    2.49,2,   2.036,2,   1.038,2,   0.7350,4,  2246.7,2,  2278.8,2,   7.4197,2,    25.00, -999.00,9, -999.00,9, -999.00,    45.5,2, -999.00,9,     -999.0,1,  -999.0,9, 20170922,     1033, -32.5001, -83.7559,        0.0,1,      0.064,1,      4.668,1,      0.158,1,     -999.0,9,     -999.0,9,     -999.0,9,     -999.0,9,     -999.0,9,     -999.0,9,     -999.0,9,     -999.0,9,     -999.0,9,     -999.0,9,     -999.0,9,     8.0146,2,     -999.0,     -999.0,9,     -999.0
320620170820,        P06,     224,          1,         26,         26,2,20170922,       0910,   -32.5005,   -83.7564,       3811,   337.6,   8.5745,  34.4432,2,  34.4392,2,  69.1993,2,  68.2596,2,    19.0,2,   32.08,2,    0.00,2,    2.50,2,   1.918,2,   0.990,2,   0.6700,4,  2250.5,2,  2280.4,2,   7.4107,2,    25.00, -999.00,9, -999.00,9, -999.00,    43.7,2, -999.00,9,     -999.0,1,  -999.0,9, 20170922,     1034, -32.5001, -83.7561,        0.0,1,      0.063,1,      4.667,1,      0.158,1,     -999.0,9,     -999.0,9,     -999.0,9,     -999.0,9,     -999.0,9,     -999.0,9,     -999.0,9,     -999.0,9,     -999.0,9,     -999.0,9,     -999.0,9,     8.5686,2,     -999.0,     -999.0,9,     -999.0