BOTTLE,20240211CCHSIOCBG
EXPOCODE,SECT_ID,STNNBR,CASTNO,SAMPNO,BTLNBR,BTLNBR_FLAG_W,DATE,TIME,LATITUDE,LONGITUDE,DEPTH,CTDPRS,CTDTMP,CTDSAL,CTDSAL_FLAG_W,SALNTY,SALNTY_FLAG_W,CTDOXY,CTDOXY_FLAG_W,OXYGEN,OXYGEN_FLAG_W,SILCAT,SILCAT_FLAG_W,NITRAT,NITRAT_FLAG_W,NITRIT,NITRIT_FLAG_W,PHSPHT,PHSPHT_FLAG_W,CFC-11,CFC-11_FLAG_W,CFC-12,CFC-12_FLAG_W,SF6,SF6_FLAG_W,TCARBN,TCARBN_FLAG_W,ALKALI,ALKALI_FLAG_W,PH_TOT,PH_TOT_FLAG_W,PH_TMP,DELC13,DELC13_FLAG_W,DELC14,DELC14_FLAG_W,C14ERR,DOC,DOC_FLAG_W,TDN,TDN_FLAG_W,TON,TON_FLAG_W,D15N_NO3,D15N_NO3_FLAG_W,BTL_DATE,BTL_TIME,BTL_LAT,BTL_LON,CTDRINKO,CTDRINKO_FLAG_W,CTDFLUOR,CTDFLUOR_FLAG_W,CTDXMISS,CTDXMISS_FLAG_W,CTDBACKSCATTER,CTDBACKSCATTER_FLAG_W,D18O_NO3,D18O_NO3_FLAG_W,DOP,DOP_FLAG_W,CELLCOUNT,CELLCOUNT_FLAG_W,TDP,TDP_FLAG_W,POP,POP_FLAG_W,DATP,DATP_FLAG_W,PATP,PATP_FLAG_W,HPLC,HPLC_FLAG_W,POC,POC_FLAG_W,BEAMAP,BEAMAP_FLAG_W,DOC_NASA,DOC_NASA_FLAG_W,REFTMP,REFTMP_FLAG_W,DOC_NASA_ERROR,TDN_NASA,TDN_NASA_FLAG_W,TDN_NASA_ERROR
,,,,,,,,,,,METERS,DBAR,ITS-90,PSS-78,,PSS-78,,UMOL/KG,,UMOL/KG,,UMOL/KG,,UMOL/KG,,UMOL/KG,,UMOL/KG,,PMOL/KG,,PMOL/KG,,FMOL/KG,,UMOL/KG,,UMOL/KG,,,,DEG C,/MILLE,,/MILLE,,/MILLE,UMOL/KG,,UMOL/KG,,UMOL/KG,,/MILLE,,,,,,VOLTS,,VOLTS,,VOLTS,,VOLTS,,/MILLE,,UMOL/KG,,/LITER,,UMOL/KG,,UMOL/L,,PMOL/L,,PMOL/L,,,,UG/L,,/METER,,UMOL/L,,ITS-90,,UMOL/L,UMOL/L,,UMOL/L
320620170820,        P06,     207,          1,         27,         27,2,20170916,       1340,   -32.5003,   -98.8856,       3820,   149.8,  16.6478,  34.8789,2,  34.8617,2, 241.8166,2, 241.2441,2,     0.0,2,    0.21,2,    0.06,2,    0.16,2,   2.337,2,   1.372,2,   1.6120,2,  2050.7,2,  2297.5,2,   7.9514,2,    25.00, -999.00,9, -999.00,9, -999.00,  -999.0,9, -999.00,9,     -999.0,9,  -999.0,1, 20170916,     1508, -32.5002, -98.8852,        0.0,1,      0.156,1,      4.630,1,      0.195,1,     -999.0,1,     -999.0,1,     -999.0,1,       0.37,2,     -999.0,1,     -999.0,1,     -999.0,1,     -999.0,9,     -999.0,9,     -999.0,9,     -999.0,9,    16.5488,2,     -999.0,     -999.0,9,     -999.0
320620170820,        P06,     207,          1,         28,         28,2,20170916,       1340,   -32.5003,   -98.8856,       3820,   125.5,  16.7580,  34.9111,2,  34.8983,2, 242.1342,2, 241.0427,2,     0.0,2,    0.13,2,    0.04,2,    0.15,2,   2.332,2,   1.361,2,   1.5680,2,  -999.0,9,  -999.0,9,-999.0000,9,  -999.00, -999.00,9, -999.00,9, -999.00,  -999.0,9, -999.00,9,     -999.0,9,  -999.0,1, 20170916,     1509, -32.5002, -98.8853,        0.0,1,      0.171,1,      4.624,1,      0.204,1,     -999.0,1,     -999.0,1,     -999.0,9,     -999.0,9,     -999.0,9,     -999.0,9,     -999.0,9,     -999.0,9,     -999.0,9,     -999.0,9,     -999.0,9,    16.7028,2,     -999.0,     -999.0,9,     -999.0
320620170820,        P06,     207,          1,         30,         30,2,20170916,       1340,   -32.5003,   -98.8856,       3820,   100.1,  16.7912,  34.9202,2,-999.0000,9, 234.4053,2,-999.0000,9,  -999.0,9, -999.00,9, -999.00,9, -999.00,9,-999.000,9,-999.000,9,-999.0000,9,  -999.0,9,  -999.0,9,-999.0000,9,  -999.00, -999.00,9, -999.00,9, -999.00,  -999.0,9, -999.00,9,     -999.0,9,  -999.0,9, 20170916,     1511, -32.5002, -98.8853,        0.0,1,      0.180,1,      4.616,1,      0.206,1,     -999.0,9,     -999.0,9,     -999.0,9,     -999.0,9,     -999.0,9,     -999.0,9,     -999.0,9,     -999.0,1,     -999.0,1,     -999.0,1,78.99321136,6,     -999.0,5,8.232763332,62.64356311,6,0.070671384
320620170820,        P06,     207,          1,         31,         31,2,20170916,       1340,   -32.5003,   -98.8856,       3820,   100.0,  16.7929,  34.9203,2,-999.0000,9, 241.1335,2, 242.1569,2,  -999.0,9, -999.00,9, -999.00,9, -999.00,9,-999.000,9,-999.000,9,-999.0000,9,  -999.0,9,  -999.0,9,-999.0000,9,  -999.00, -999.00,9, -999.00,9, -999.00,  -999.0,9, -999.00,9,     -999.0,9,  -999.0,9, 20170916,     1511, -32.5002, -98.8853,        0.0,1,      0.181,1,      4.615,1,      0.204,1,     -999.0,9,     -999.0,9,     -999.0,9,     -999.0,9,     -999.0,9,     -999.0,9,     -999.0,9,     -999.0,1,     -999.0,1,     -999.0,1,78.99321136,6,    16.7578,2,8.232763332,62.64356311,6,0.070671384
320620170820,        P06,     207,          1,         29,         29,2,20170916,       1340,   -32.5003,   -98.8856,       3820,    98.9,  16.7929,  34.9203,2,  34.9124,2, 242.6741,2, 241.6829,2,     0.0,2,    0.07,2,    0.02,2,    0.14,2,   2.268,2,   1.353,2,   1.6260,2,  2047.4,2,  2299.0,2,   7.9567,2,    25.00, -999.00,9, -999.00,9, -999.00,  -999.0,9, -999.00,9,     -999.0,9,  -999.0,1, 20170916,     1511, -32.5002, -98.8853,        0.0,1,      0.181,1,      4.615,1,      0.204,1,     -999.0,1,     -999.0,1,     -999.0,1,     -999.0,1,     -999.0,1,     -999.0,1,     -999.0,1,     -999.0,9,     -999.0,9,     -999.0,9,     -999.0,9,    16.7576,2,     -999.0,     -999.0,9,     -999.0
320620170820,        P06,     207,          1,         32,         32,2,20170916,       1340,   -32.5003,   -98.8856,       3820,    75.0,  16.7472,  34.8982,2,  34.9154,2, 234.7099,2,-999.0000,9,     0.0,2,    0.06,2,    0.02,2,    0.13,2,   2.314,2,   1.355,2,   1.6010,2,  2049.0,2,  2299.4,2,   7.9569,2,    25.00, -999.00,9, -999.00,9, -999.00,  -999.0,9, -999.00,9,     -999.0,9,  -999.0,1, 20170916,     1513, -32.5002, -98.8852,        0.0,1,      0.177,1,      4.608,1,      0.207,1,     -999.0,1,     -999.0,1,     -999.0,1,     -999.0,1,     -999.0,1,     -999.0,1,     -999.0,1,     -999.0,9,     -999.0,9,     -999.0,9,     -999.0,9,    16.7806,2,     -999.0,     -999.0,9,     -999.0
320620170820,        P06,     207,          1,         34,         34,2,20170916,       1340,   -32.5003,   -98.8856,       3820,    50.4,  16.8188,  34.9173,2,-999.0000,9, 234.6328,2,-999.0000,9,  -999.0,9, -999.00,9, -999.00,9, -999.00,9,-999.000,9,-999.000,9,-999.0000,9,  -999.0,9,  -999.0,9,-999.0000,9,  -999.00, -999.00,9, -999.00,9, -999.00,  -999.0,9, -999.00,9,     -999.0,9,  -999.0,9, 20170916,     1515, -32.5002, -98.8853,        0.0,1,      0.176,1,      4.614,1,      0.209,1,     -999.0,9,     -999.0,9,     -999.0,9,     -999.0,9,     -999.0,9,     -999.0,9,     -999.0,9,     -999.0,1,     -999.0,1,     -999.0,1,70.24069402,6,     -999.0,5,3.568051429,63.11828539,6,4.643029915
320620170820,        P06,     207,          1,         33,         33,2,20170916,       1340,   -32.5003,   -98.8856,       3820,    50.0,  16.8097,  34.9127,2,  34.9160,2, 240.9787,2, 241.9288,2,     0.0,2,    0.06,2,    0.02,2,    0.14,2,   2.307,2,   1.355,2,   1.5750,2,  2047.7,2,  2299.3,2,   7.9561,2,    25.00, -999.00,9, -999.00,9, -999.00,  -999.0,9, -999.00,9,     -999.0,9,  -999.0,1, 20170916,     1514, -32.5002, -98.8853,        0.0,1,      0.169,1,      4.614,1,      0.202,1,     -999.0,1,     -999.0,1,     -999.0,1,     -999.0,1,     -999.0,1,     -999.0,1,     -999.0,1,     -999.0,9,     -999.0,9,     -999.0,9,     -999.0,9,    16.7815,2,     -999.0,     -999.0,9,     -999.0
320620170820,        P06,     207,          1,         35,         35,2,20170916,       1340,   -32.5003,   -98.8856,       3820,    24.3,  16.7435,  34.8866,2,  34.9085,2, 241.0979,2,  242.183,2,     0.0,2,    0.06,2,    0.02,2,    0.15,2,   2.265,2,   1.361,2,   1.6360,2,  2046.5,2,  2298.8,2,   7.9572,2,    25.00, -999.00,9, -999.00,9, -999.00,  -999.0,9, -999.00,9,     -999.0,9,  -999.0,1, 20170916,     1516, -32.5003, -98.8855,        0.0,1,      0.174,1,      4.609,1,      0.203,1,     -999.0,1,     -999.0,1,     -999.0,1,     -999.0,1,     -999.0,1,     -999.0,1,     -999.0,1,     -999.0,9,     -999.0,9,     -999.0,9,     -999.0,9,    16.7722,2,     -999.0,     -999.0,9,     -999.0
320620170820,        P06,     207,          1,         36,         36,2,20170916,       1340,   -32.5003,   -98.8856,       3820,    11.4,  16.7518,  34.8842,2,  34.8880,2, 241.5703,2, 242.2251,2,     0.0,2,    0.06,2,    0.02,2,    0.16,2,   2.325,2,   1.346,2,   1.6320,2,  2049.2,6,  2297.6,2,   7.9554,2,    25.00, -999.00,9, -999.00,9, -999.00,  -999.0,9, -999.00,9,     -999.0,9,  -999.0,1, 20170916,     1518, -32.5003, -98.8856,        0.0,1,      0.171,1,      4.610,1,      0.204,1,     -999.0,1,     -999.0,1,     -999.0,9,       0.43,2,     -999.0,9,     -999.0,9,     -999.0,9,     -999.0,9,     -999.0,9,     -999.0,9,     -999.0,9,    16.7362,2,     -999.0,     -999.0,9,     -999.0