BOTTLE,20240211CCHSIOCBG
EXPOCODE,SECT_ID,STNNBR,CASTNO,SAMPNO,BTLNBR,BTLNBR_FLAG_W,DATE,TIME,LATITUDE,LONGITUDE,DEPTH,CTDPRS,CTDTMP,CTDSAL,CTDSAL_FLAG_W,SALNTY,SALNTY_FLAG_W,CTDOXY,CTDOXY_FLAG_W,OXYGEN,OXYGEN_FLAG_W,SILCAT,SILCAT_FLAG_W,NITRAT,NITRAT_FLAG_W,NITRIT,NITRIT_FLAG_W,PHSPHT,PHSPHT_FLAG_W,CFC-11,CFC-11_FLAG_W,CFC-12,CFC-12_FLAG_W,SF6,SF6_FLAG_W,TCARBN,TCARBN_FLAG_W,ALKALI,ALKALI_FLAG_W,PH_TOT,PH_TOT_FLAG_W,PH_TMP,DELC13,DELC13_FLAG_W,DELC14,DELC14_FLAG_W,C14ERR,DOC,DOC_FLAG_W,TDN,TDN_FLAG_W,TON,TON_FLAG_W,D15N_NO3,D15N_NO3_FLAG_W,BTL_DATE,BTL_TIME,BTL_LAT,BTL_LON,CTDRINKO,CTDRINKO_FLAG_W,CTDFLUOR,CTDFLUOR_FLAG_W,CTDXMISS,CTDXMISS_FLAG_W,CTDBACKSCATTER,CTDBACKSCATTER_FLAG_W,D18O_NO3,D18O_NO3_FLAG_W,DOP,DOP_FLAG_W,CELLCOUNT,CELLCOUNT_FLAG_W,TDP,TDP_FLAG_W,POP,POP_FLAG_W,DATP,DATP_FLAG_W,PATP,PATP_FLAG_W,HPLC,HPLC_FLAG_W,POC,POC_FLAG_W,BEAMAP,BEAMAP_FLAG_W,DOC_NASA,DOC_NASA_FLAG_W,REFTMP,REFTMP_FLAG_W,DOC_NASA_ERROR,TDN_NASA,TDN_NASA_FLAG_W,TDN_NASA_ERROR
,,,,,,,,,,,METERS,DBAR,ITS-90,PSS-78,,PSS-78,,UMOL/KG,,UMOL/KG,,UMOL/KG,,UMOL/KG,,UMOL/KG,,UMOL/KG,,PMOL/KG,,PMOL/KG,,FMOL/KG,,UMOL/KG,,UMOL/KG,,,,DEG C,/MILLE,,/MILLE,,/MILLE,UMOL/KG,,UMOL/KG,,UMOL/KG,,/MILLE,,,,,,VOLTS,,VOLTS,,VOLTS,,VOLTS,,/MILLE,,UMOL/KG,,/LITER,,UMOL/KG,,UMOL/L,,PMOL/L,,PMOL/L,,,,UG/L,,/METER,,UMOL/L,,ITS-90,,UMOL/L,UMOL/L,,UMOL/L
320620170820,        P06,     192,          1,         27,         27,2,20170912,       0329,   -32.5004,  -109.5899,       2804,   225.1,  13.4973,  34.6403,2,  34.6364,2, 224.9955,2, 224.2438,2,     0.6,2,    6.38,2,    0.02,2,    0.51,2,   2.740,2,   1.593,2,   1.6490,2,  2089.4,2,  2282.1,2,   7.8482,2,    25.00, -999.00,9, -999.00,9, -999.00,  -999.0,5,    9.00,2,     -999.0,1,  -999.0,1, 20170912,      443, -32.5002,-109.5905,        0.0,1,      0.070,1,      4.677,1,      0.677,1,     -999.0,1,     -999.0,1,     -999.0,9,     -999.0,9,     -999.0,9,     -999.0,9,     -999.0,9,     -999.0,9,     -999.0,9,     -999.0,9,     -999.0,9,    13.2404,2,     -999.0,     -999.0,9,     -999.0
320620170820,        P06,     192,          1,         28,         28,2,20170912,       0329,   -32.5004,  -109.5899,       2804,   200.5,  13.7948,  34.6070,2,  34.5394,2, 227.7062,2, 228.7566,2,     0.3,2,    5.85,2,    0.04,2,    0.49,2,   2.725,2,   1.587,2,   1.7020,2,  2082.9,2,  2278.6,2,   7.8551,2,    25.00, -999.00,9, -999.00,9, -999.00,    46.3,2,    8.60,2,     -999.0,1,  -999.0,1, 20170912,      444, -32.5003,-109.5904,        0.0,1,      0.076,1,      4.675,1,      0.675,1,     -999.0,1,     -999.0,1,     -999.0,9,     -999.0,9,     -999.0,9,     -999.0,9,     -999.0,9,     -999.0,9,     -999.0,9,     -999.0,9,     -999.0,9,    13.4572,2,     -999.0,     -999.0,9,     -999.0
320620170820,        P06,     192,          1,         29,         29,2,20170912,       0329,   -32.5004,  -109.5899,       2804,   174.4,  14.0020,  34.5153,2,  34.5066,2, 237.7936,2, 237.3123,2,     0.1,2,    3.44,2,    0.54,2,    0.37,2,   2.629,2,   1.555,2,   1.6800,2,  2069.5,2,  2276.7,2,   7.8757,2,    25.00, -999.00,9, -999.00,9, -999.00,    57.0,3,    7.50,2,     -999.0,1,  -999.0,1, 20170912,      446, -32.5003,-109.5904,        0.0,1,      0.105,1,      4.667,1,      0.681,1,     -999.0,1,     -999.0,1,     -999.0,9,     -999.0,9,     -999.0,9,     -999.0,9,     -999.0,9,     -999.0,9,     -999.0,9,     -999.0,9,     -999.0,9,    13.8962,2,     -999.0,     -999.0,9,     -999.0
320620170820,        P06,     192,          1,         30,         30,2,20170912,       0329,   -32.5004,  -109.5899,       2804,   150.5,  14.9876,  34.6407,2,  34.6148,3, 240.2367,2, 240.3764,2,     0.0,2,    1.28,2,    0.50,2,    0.25,2,-999.000,9,-999.000,9,-999.0000,9,  2060.0,2,  2282.0,2,   7.9039,2,    25.00, -999.00,9, -999.00,9, -999.00,    52.9,2,    5.10,2,     -999.0,1,  -999.0,1, 20170912,      448, -32.5003,-109.5904,        0.0,1,      0.147,1,      4.658,1,      0.692,1,     -999.0,1,     -999.0,1,     -999.0,9,     -999.0,9,     -999.0,9,     -999.0,9,     -999.0,9,     -999.0,9,     -999.0,9,     -999.0,9,     -999.0,9,    15.0620,2,     -999.0,     -999.0,9,     -999.0
320620170820,        P06,     192,          1,         31,         31,2,20170912,       0329,   -32.5004,  -109.5899,       2804,   125.1,  16.4758,  34.8268,2,  34.8389,2, 237.2146,2, 237.5326,2,     0.1,2,    0.13,2,    0.09,2,    0.16,2,   2.337,2,   1.403,2,   1.7140,2,  2056.4,2,  2293.8,2,   7.9334,2,    25.00, -999.00,9, -999.00,9, -999.00,    54.6,2,    4.20,2,     -999.0,1,  -999.0,1, 20170912,      450, -32.5003,-109.5904,        0.0,1,      0.207,1,      4.637,1,      0.714,1,     -999.0,1,     -999.0,1,     -999.0,9,     -999.0,9,     -999.0,9,     -999.0,9,     -999.0,9,     -999.0,9,     -999.0,9,     -999.0,9,     -999.0,9,    16.2188,2,     -999.0,     -999.0,9,     -999.0
320620170820,        P06,     192,          1,         32,         32,2,20170912,       0329,   -32.5004,  -109.5899,       2804,   100.4,  17.2074,  34.8708,2,  34.9046,2,  239.925,2, 239.0101,2,     0.0,2,    0.01,2,    0.00,2,    0.09,2,   2.183,2,   1.317,2,   1.6170,2,  2048.5,2,  2297.4,2,   7.9603,2,    25.00, -999.00,9, -999.00,9, -999.00,    64.7,3,    4.00,2,     -999.0,1,  -999.0,1, 20170912,      451, -32.5003,-109.5904,        0.0,1,      0.180,1,      4.631,1,      0.721,1,     -999.0,1,     -999.0,1,     -999.0,9,     -999.0,9,     -999.0,9,     -999.0,9,     -999.0,9,     -999.0,9,     -999.0,9,     -999.0,9,     -999.0,9,    17.2413,2,     -999.0,     -999.0,9,     -999.0
320620170820,        P06,     192,          1,         33,         33,2,20170912,       0329,   -32.5004,  -109.5899,       2804,    74.5,  17.1668,  34.8307,2,  34.8017,2, 241.4623,2, 242.3154,2,     0.0,2,    0.00,2,    0.00,2,    0.10,2,-999.000,9,-999.000,9,-999.0000,9,  2040.8,2,  2290.7,2,   7.9599,6,    25.00, -999.00,9, -999.00,9, -999.00,    63.2,3,    3.50,2,     -999.0,1,  -999.0,1, 20170912,      453, -32.5003,-109.5904,        0.0,1,      0.179,1,      4.621,1,      0.726,1,     -999.0,1,     -999.0,1,     -999.0,9,     -999.0,9,     -999.0,9,     -999.0,9,     -999.0,9,     -999.0,9,     -999.0,9,     -999.0,9,     -999.0,9,    17.1042,2,     -999.0,     -999.0,9,     -999.0
320620170820,        P06,     192,          1,         34,         34,2,20170912,       0329,   -32.5004,  -109.5899,       2804,    48.3,  16.9671,  34.7177,2,  34.7427,2, 243.6554,2, 244.1521,2,     0.0,2,    0.00,2,    0.00,2,    0.10,2,   2.206,2,   1.326,2,   1.7870,2,  2041.9,2,  2289.2,2,   7.9604,2,    25.00, -999.00,9, -999.00,9, -999.00,    58.6,2,    3.50,2,     -999.0,1,  -999.0,1, 20170912,      455, -32.5004,-109.5902,        0.0,1,      0.137,1,      4.614,1,      0.739,1,     -999.0,1,     -999.0,1,     -999.0,9,     -999.0,9,     -999.0,9,     -999.0,9,     -999.0,9,     -999.0,9,     -999.0,9,     -999.0,9,     -999.0,9,    17.0701,2,     -999.0,     -999.0,9,     -999.0
320620170820,        P06,     192,          1,         35,         35,2,20170912,       0329,   -32.5004,  -109.5899,       2804,    23.9,  17.4246,  34.7444,2,  34.7376,2, 243.8883,2,  243.303,2,     0.0,2,    0.00,2,    0.00,2,    0.10,2,   2.220,2,   1.329,2,   1.7010,2,  2042.7,2,  2287.6,6,   7.9577,2,    25.00, -999.00,9, -999.00,9, -999.00,    60.8,2,    4.20,2,     -999.0,1,  -999.0,1, 20170912,      456, -32.5004,-109.5900,        0.0,1,      0.093,1,      4.631,1,      0.717,1,     -999.0,1,     -999.0,1,     -999.0,9,     -999.0,9,     -999.0,9,     -999.0,9,     -999.0,9,     -999.0,9,     -999.0,9,     -999.0,9,     -999.0,9,    17.3835,2,     -999.0,     -999.0,9,     -999.0
320620170820,        P06,     192,          1,         36,         36,2,20170912,       0329,   -32.5004,  -109.5899,       2804,     9.8,  17.4200,  34.7433,2,  34.7374,2, 242.8073,2, 243.1451,2,     0.1,2,    0.00,2,    0.00,2,    0.11,2,   2.247,2,   1.327,2,   1.6960,2,  2038.0,6,  2288.0,2,   7.9569,2,    25.00,    0.98,2,   45.05,2,    4.36,    61.6,2,    4.30,2,     -999.0,1,  -999.0,1, 20170912,      458, -32.5004,-109.5899,        0.0,1,      0.092,1,      4.631,1,      0.717,1,     -999.0,1,     -999.0,1,     -999.0,9,     -999.0,9,     -999.0,9,     -999.0,9,     -999.0,9,     -999.0,9,     -999.0,9,     -999.0,9,     -999.0,9,    17.3935,2,     -999.0,     -999.0,9,     -999.0