BOTTLE,20240211CCHSIOCBG
EXPOCODE,SECT_ID,STNNBR,CASTNO,SAMPNO,BTLNBR,BTLNBR_FLAG_W,DATE,TIME,LATITUDE,LONGITUDE,DEPTH,CTDPRS,CTDTMP,CTDSAL,CTDSAL_FLAG_W,SALNTY,SALNTY_FLAG_W,CTDOXY,CTDOXY_FLAG_W,OXYGEN,OXYGEN_FLAG_W,SILCAT,SILCAT_FLAG_W,NITRAT,NITRAT_FLAG_W,NITRIT,NITRIT_FLAG_W,PHSPHT,PHSPHT_FLAG_W,CFC-11,CFC-11_FLAG_W,CFC-12,CFC-12_FLAG_W,SF6,SF6_FLAG_W,TCARBN,TCARBN_FLAG_W,ALKALI,ALKALI_FLAG_W,PH_TOT,PH_TOT_FLAG_W,PH_TMP,DELC13,DELC13_FLAG_W,DELC14,DELC14_FLAG_W,C14ERR,DOC,DOC_FLAG_W,TDN,TDN_FLAG_W,TON,TON_FLAG_W,D15N_NO3,D15N_NO3_FLAG_W,BTL_DATE,BTL_TIME,BTL_LAT,BTL_LON,CTDRINKO,CTDRINKO_FLAG_W,CTDFLUOR,CTDFLUOR_FLAG_W,CTDXMISS,CTDXMISS_FLAG_W,CTDBACKSCATTER,CTDBACKSCATTER_FLAG_W,D18O_NO3,D18O_NO3_FLAG_W,DOP,DOP_FLAG_W,CELLCOUNT,CELLCOUNT_FLAG_W,TDP,TDP_FLAG_W,POP,POP_FLAG_W,DATP,DATP_FLAG_W,PATP,PATP_FLAG_W,HPLC,HPLC_FLAG_W,POC,POC_FLAG_W,BEAMAP,BEAMAP_FLAG_W,DOC_NASA,DOC_NASA_FLAG_W,REFTMP,REFTMP_FLAG_W,DOC_NASA_ERROR,TDN_NASA,TDN_NASA_FLAG_W,TDN_NASA_ERROR
,,,,,,,,,,,METERS,DBAR,ITS-90,PSS-78,,PSS-78,,UMOL/KG,,UMOL/KG,,UMOL/KG,,UMOL/KG,,UMOL/KG,,UMOL/KG,,PMOL/KG,,PMOL/KG,,FMOL/KG,,UMOL/KG,,UMOL/KG,,,,DEG C,/MILLE,,/MILLE,,/MILLE,UMOL/KG,,UMOL/KG,,UMOL/KG,,/MILLE,,,,,,VOLTS,,VOLTS,,VOLTS,,VOLTS,,/MILLE,,UMOL/KG,,/LITER,,UMOL/KG,,UMOL/L,,PMOL/L,,PMOL/L,,,,UG/L,,/METER,,UMOL/L,,ITS-90,,UMOL/L,UMOL/L,,UMOL/L
320620170820,        P06,     166,          1,          1,          1,2,20170904,       0133,   -32.4998,  -129.6881,       3745,  3793.8,   1.5670,  34.6873,2,  34.6834,2, 174.5342,2, 174.2409,2,   122.1,2,   33.82,2,    0.00,2,    2.35,2,   0.039,2,   0.022,2,   0.0000,2,  2293.4,6,  2392.7,2,   7.5971,2,    25.00, -999.00,9, -999.00,9, -999.00,    37.0,2, -999.00,9,     -999.0,1,  -999.0,9, 20170904,      133, -32.5000,-129.6883,        0.0,1,      0.061,1,      4.694,1,      0.124,1,     -999.0,9,     -999.0,9,     -999.0,9,     -999.0,9,     -999.0,9,     -999.0,9,     -999.0,9,     -999.0,9,     -999.0,9,     -999.0,9,     -999.0,9,     1.5681,2,     -999.0,     -999.0,9,     -999.0
320620170820,        P06,     166,          1,          2,          2,2,20170904,       0133,   -32.4998,  -129.6881,       3745,  3792.7,   1.5670,  34.6873,2,  34.6853,2, 174.5342,2,  174.969,2,   122.1,2,   33.80,2,    0.00,2,    2.36,2,   0.037,2,   0.026,2,   0.0000,2,  2292.5,2,  2392.7,6,   7.5962,2,    25.00, -999.00,9, -999.00,9, -999.00,  -999.0,9, -999.00,9,     -999.0,9,  -999.0,9, 20170904,      134, -32.5000,-129.6883,        0.0,1,      0.061,1,      4.694,1,      0.124,1,     -999.0,9,     -999.0,9,     -999.0,9,     -999.0,9,     -999.0,9,     -999.0,9,     -999.0,9,     -999.0,9,     -999.0,9,     -999.0,9,     -999.0,9,     1.5683,2,     -999.0,     -999.0,9,     -999.0
320620170820,        P06,     166,          1,          3,          3,2,20170904,       0133,   -32.4998,  -129.6881,       3745,  3641.7,   1.5682,  34.6861,2,  34.6844,2, 173.6954,2, 173.7501,2,   122.3,2,   33.87,2,    0.00,2,    2.35,2,   0.038,2,   0.025,2,   0.0000,2,  2292.8,2,  2393.6,2,   7.5965,2,    25.00, -999.00,9, -999.00,9, -999.00,    36.9,2, -999.00,9,     -999.0,1,  -999.0,9, 20170904,      138, -32.4999,-129.6881,        0.0,1,      0.061,1,      4.694,1,      0.123,1,     -999.0,9,     -999.0,9,     -999.0,9,     -999.0,9,     -999.0,9,     -999.0,9,     -999.0,9,     -999.0,9,     -999.0,9,     -999.0,9,     -999.0,9,     1.5682,2,     -999.0,     -999.0,9,     -999.0
320620170820,        P06,     166,          1,          4,          4,2,20170904,       0133,   -32.4998,  -129.6881,       3745,  3385.6,   1.6054,  34.6819,2,  34.6800,2, 171.2352,2, 170.9225,2,   122.5,2,   34.10,2,    0.00,2,    2.38,2,   0.038,2,   0.024,2,   0.0000,2,  2295.8,2,  2394.3,2,   7.5934,2,    25.00, -999.00,9, -999.00,9, -999.00,    38.7,2, -999.00,9,     -999.0,1,  -999.0,9, 20170904,      144, -32.5000,-129.6883,        0.0,1,      0.061,1,      4.694,1,      0.124,1,     -999.0,9,     -999.0,9,     -999.0,9,     -999.0,9,     -999.0,9,     -999.0,9,     -999.0,9,     -999.0,9,     -999.0,9,     -999.0,9,     -999.0,9,     1.6051,2,     -999.0,     -999.0,9,     -999.0
320620170820,        P06,     166,          1,          5,          5,2,20170904,       0133,   -32.4998,  -129.6881,       3745,  3130.2,   1.6350,  34.6781,2,  34.6767,2, 168.1471,2, 167.9706,2,   122.7,2,   34.26,2,    0.00,2,    2.39,2,   0.038,2,   0.024,2,   0.0000,2,  2297.3,2,  2395.1,2,   7.5895,2,    25.00, -999.00,9, -999.00,9, -999.00,    39.9,2, -999.00,9,     -999.0,1,  -999.0,9, 20170904,      149, -32.5000,-129.6884,        0.0,1,      0.061,1,      4.695,1,      0.124,1,     -999.0,9,     -999.0,9,     -999.0,9,     -999.0,9,     -999.0,9,     -999.0,9,     -999.0,9,     -999.0,9,     -999.0,9,     -999.0,9,     -999.0,9,     1.6368,2,     -999.0,     -999.0,9,     -999.0
320620170820,        P06,     166,          1,          6,          6,2,20170904,       0133,   -32.4998,  -129.6881,       3745,  2875.4,   1.6899,  34.6725,2,  34.6702,2, 164.3868,2, 164.5399,2,   122.7,2,   34.48,2,    0.00,2,    2.41,2,   0.042,2,   0.027,2,   0.0000,2,  2297.5,2,  2395.5,2,   7.5858,2,    25.00, -999.00,9, -999.00,9, -999.00,  -999.0,9, -999.00,9,     -999.0,9,  -999.0,9, 20170904,      154, -32.5000,-129.6883,        0.0,1,      0.061,1,      4.695,1,      0.125,1,     -999.0,9,     -999.0,9,     -999.0,9,     -999.0,9,     -999.0,9,     -999.0,9,     -999.0,9,     -999.0,9,     -999.0,9,     -999.0,9,     -999.0,9,     1.6881,2,     -999.0,     -999.0,9,     -999.0
320620170820,        P06,     166,          1,          7,          7,2,20170904,       0133,   -32.4998,  -129.6881,       3745,  2617.1,   1.7589,  34.6662,2,  34.6651,2, 161.1135,2, 161.4959,2,   121.9,2,   34.64,2,    0.00,2,    2.44,2,   0.047,2,   0.041,2,   0.0000,2,  2299.8,2,  2395.4,2,   7.5824,2,    25.00, -999.00,9, -999.00,9, -999.00,    40.6,2, -999.00,9,     -999.0,1,  -999.0,9, 20170904,      200, -32.4999,-129.6881,        0.0,1,      0.062,1,      4.695,1,      0.126,1,     -999.0,9,     -999.0,9,     -999.0,9,     -999.0,9,     -999.0,9,     -999.0,9,     -999.0,9,     -999.0,9,     -999.0,9,     -999.0,9,     -999.0,9,     1.7501,2,     -999.0,     -999.0,9,     -999.0
320620170820,        P06,     166,          1,          8,          8,2,20170904,       0133,   -32.4998,  -129.6881,       3745,  2362.5,   1.8660,  34.6566,2,  34.6549,2, 157.7058,2, 157.8551,2,   119.3,2,   34.80,2,    0.00,2,    2.44,2,   0.038,2,   0.023,2,   0.0000,2,  2300.6,2,  2392.9,2,   7.5779,2,    25.00, -999.00,9, -999.00,9, -999.00,  -999.0,9, -999.00,9,     -999.0,9,  -999.0,9, 20170904,      205, -32.4999,-129.6880,        0.0,1,      0.061,1,      4.695,1,      0.127,1,     -999.0,9,     -999.0,9,     -999.0,9,     -999.0,9,     -999.0,9,     -999.0,9,     -999.0,9,     -999.0,9,     -999.0,9,     -999.0,9,     -999.0,9,     1.8558,2,     -999.0,     -999.0,9,     -999.0
320620170820,        P06,     166,          1,          9,          9,2,20170904,       0133,   -32.4998,  -129.6881,       3745,  2109.8,   2.0111,  34.6432,2,  34.6425,2, 156.1043,2, 155.8044,2,   114.4,2,   34.92,2,    0.00,2,    2.44,2,   0.039,2,   0.024,2,   0.0000,2,  2296.5,6,  2388.9,2,   7.5743,2,    25.00, -999.00,9, -999.00,9, -999.00,  -999.0,5, -999.00,9,     -999.0,1,  -999.0,9, 20170904,      211, -32.4999,-129.6881,        0.0,1,      0.062,1,      4.695,1,      0.129,1,     -999.0,9,     -999.0,9,     -999.0,9,     -999.0,9,     -999.0,9,     -999.0,9,     -999.0,9,     -999.0,9,     -999.0,9,     -999.0,9,     -999.0,9,     2.0019,2,     -999.0,     -999.0,9,     -999.0
320620170820,        P06,     166,          1,         10,         10,2,20170904,       0133,   -32.4998,  -129.6881,       3745,  1886.3,   2.1971,  34.6219,2,  34.6201,2, 156.6905,2, 156.7835,2,   105.5,2,   34.85,2,    0.00,2,    2.43,2,   0.048,2,   0.032,2,   0.0000,2,  2288.4,2,  2378.3,2,   7.5712,2,    25.00, -999.00,9, -999.00,9, -999.00,  -999.0,9, -999.00,9,     -999.0,9,  -999.0,9, 20170904,      216, -32.4999,-129.6882,        0.0,1,      0.061,1,      4.695,1,      0.128,1,     -999.0,9,     -999.0,9,     -999.0,9,     -999.0,9,     -999.0,9,     -999.0,9,     -999.0,9,     -999.0,9,     -999.0,9,     -999.0,9,     -999.0,9,     2.1985,2,     -999.0,     -999.0,9,     -999.0
320620170820,        P06,     166,          1,         11,         11,2,20170904,       0133,   -32.4998,  -129.6881,       3745,  1752.9,   2.3209,  34.6037,2,  34.6011,2, 158.1774,2, 157.8378,2,    98.4,2,   34.77,2,    0.00,2,    2.41,2,   0.056,2,   0.035,2,   0.0000,2,  2280.8,2,  2370.3,2,   7.5700,2,    25.00, -999.00,9, -999.00,9, -999.00,    39.0,2, -999.00,9,     -999.0,1,  -999.0,9, 20170904,      220, -32.4999,-129.6882,        0.0,1,      0.061,1,      4.695,1,      0.128,1,     -999.0,9,     -999.0,9,     -999.0,9,     -999.0,9,     -999.0,9,     -999.0,9,     -999.0,9,     -999.0,9,     -999.0,9,     -999.0,9,     -999.0,9,     2.3279,2,     -999.0,     -999.0,9,     -999.0
320620170820,        P06,     166,          1,         12,         12,2,20170904,       0133,   -32.4998,  -129.6881,       3745,  1651.1,   2.4542,  34.5810,2,  34.5810,2, 160.3909,2, 160.1481,2,    91.8,2,   34.65,2,    0.00,2,    2.41,2,   0.069,2,   0.044,2,   0.0000,2,  2274.2,2,  2363.8,2,   7.5686,2,    25.00, -999.00,9, -999.00,9, -999.00,  -999.0,9, -999.00,9,     -999.0,9,  -999.0,9, 20170904,      223, -32.4999,-129.6880,        0.0,1,      0.061,1,      4.696,1,      0.129,1,     -999.0,9,     -999.0,9,     -999.0,9,     -999.0,9,     -999.0,9,     -999.0,9,     -999.0,9,     -999.0,9,     -999.0,9,     -999.0,9,     -999.0,9,     2.4451,2,     -999.0,     -999.0,9,     -999.0
320620170820,        P06,     166,          1,         13,         13,2,20170904,       0133,   -32.4998,  -129.6881,       3745,  1553.0,   2.5994,  34.5523,2,  34.5578,2, 162.5524,2, 162.5022,2,    85.2,2,   34.58,2,    0.00,2,    2.40,2,   0.094,2,   0.059,2,   0.0000,2,  2268.2,2,  2354.8,2,   7.5678,2,    25.00, -999.00,9, -999.00,9, -999.00,    38.1,2, -999.00,9,     -999.0,1,  -999.0,9, 20170904,      226, -32.5000,-129.6885,        0.0,1,      0.061,1,      4.695,1,      0.127,1,     -999.0,9,     -999.0,9,     -999.0,9,     -999.0,9,     -999.0,9,     -999.0,9,     -999.0,9,     -999.0,9,     -999.0,9,     -999.0,9,     -999.0,9,     2.5636,2,     -999.0,     -999.0,9,     -999.0
320620170820,        P06,     166,          1,         14,         14,2,20170904,       0133,   -32.4998,  -129.6881,       3745,  1449.7,   2.7666,  34.5170,2,  34.5164,2, 166.8642,2, 166.8184,2,    75.1,2,   34.43,2,    0.00,2,    2.37,2,   0.159,2,   0.096,2,   0.0290,2,  2256.4,2,  2342.8,2,   7.5673,2,    25.00, -999.00,9, -999.00,9, -999.00,  -999.0,9, -999.00,9,     -999.0,9,  -999.0,9, 20170904,      229, -32.5001,-129.6885,        0.0,1,      0.062,1,      4.695,1,      0.129,1,     -999.0,9,     -999.0,9,     -999.0,9,     -999.0,9,     -999.0,9,     -999.0,9,     -999.0,9,     -999.0,9,     -999.0,9,     -999.0,9,     -999.0,9,     2.7584,2,     -999.0,     -999.0,9,     -999.0
320620170820,        P06,     166,          1,         15,         15,2,20170904,       0133,   -32.4998,  -129.6881,       3745,  1348.5,   2.9840,  34.4727,2,  34.4763,2, 170.7277,2, 171.0771,2,    66.6,2,   34.24,2,    0.00,2,    2.35,2,   0.269,2,   0.152,2,   0.0650,2,  2246.3,2,  2331.0,2,   7.5684,6,    25.00, -999.00,9, -999.00,9, -999.00,    40.3,2, -999.00,9,     -999.0,1,  -999.0,9, 20170904,      232, -32.5000,-129.6884,        0.0,1,      0.061,1,      4.695,1,      0.129,1,     -999.0,9,     -999.0,9,     -999.0,9,     -999.0,9,     -999.0,9,     -999.0,9,     -999.0,9,     -999.0,9,     -999.0,9,     -999.0,9,     -999.0,9,     2.9586,2,     -999.0,     -999.0,9,     -999.0
320620170820,        P06,     166,          1,         16,         16,2,20170904,       0133,   -32.4998,  -129.6881,       3745,  1246.5,   3.3658,  34.4127,2,  34.4177,2, 177.4227,2,  177.605,2,    55.2,2,   33.72,2,    0.00,2,    2.33,2,   0.432,2,   0.231,2,   0.0390,2,  2232.5,2,  2320.3,2,   7.5758,2,    25.00, -999.00,9, -999.00,9, -999.00,    40.4,2, -999.00,9,     -999.0,1,  -999.0,9, 20170904,      234, -32.4999,-129.6882,        0.0,1,      0.061,1,      4.696,1,      0.129,1,     -999.0,9,     -999.0,9,     -999.0,9,     -999.0,9,     -999.0,9,     -999.0,9,     -999.0,9,     -999.0,9,     -999.0,9,     -999.0,9,     -999.0,9,     3.3220,2,     -999.0,     -999.0,9,     -999.0
320620170820,        P06,     166,          1,         17,         17,2,20170904,       0133,   -32.4998,  -129.6881,       3745,  1145.7,   3.8064,  34.3606,2,  34.3645,2, 188.9311,2, 188.6963,2,    43.6,2,   32.65,2,    0.00,2,    2.24,2,   0.808,2,   0.412,2,   0.1200,2,  2216.1,2,  2308.5,2,   7.5922,2,    25.00, -999.00,9, -999.00,9, -999.00,  -999.0,9, -999.00,9,     -999.0,9,  -999.0,9, 20170904,      238, -32.4999,-129.6881,        0.0,1,      0.061,1,      4.695,1,      0.128,1,     -999.0,9,     -999.0,9,     -999.0,9,     -999.0,9,     -999.0,9,     -999.0,9,     -999.0,9,     -999.0,9,     -999.0,9,     -999.0,9,     -999.0,9,     3.7422,2,     -999.0,     -999.0,9,     -999.0
320620170820,        P06,     166,          1,         18,         18,2,20170904,       0133,   -32.4998,  -129.6881,       3745,  1044.2,   4.3802,  34.3235,2,  34.3282,2, 197.7018,2, 197.9482,2,    33.9,2,   31.36,2,    0.00,2,    2.14,2,   1.161,2,   0.574,2,   0.1830,2,  2201.1,2,  2300.1,2,   7.6107,2,    25.00, -999.00,9, -999.00,9, -999.00,    45.3,2, -999.00,9,     -999.0,1,  -999.0,9, 20170904,      241, -32.4999,-129.6883,        0.0,1,      0.060,1,      4.695,1,      0.129,1,     -999.0,9,     -999.0,9,     -999.0,9,     -999.0,9,     -999.0,9,     -999.0,9,     -999.0,9,     -999.0,9,     -999.0,9,     -999.0,9,     -999.0,9,     4.2273,2,     -999.0,     -999.0,9,     -999.0
320620170820,        P06,     166,          1,         19,         19,2,20170904,       0133,   -32.4998,  -129.6881,       3745,   942.5,   4.9660,  34.3036,2,  34.3017,2, 212.0604,2, 212.1137,2,    22.9,2,   29.05,2,    0.00,2,    1.98,2,   1.778,2,   0.889,2,   0.3210,2,  2181.6,2,  2286.8,2,   7.6407,2,    25.00, -999.00,9, -999.00,9, -999.00,  -999.0,9, -999.00,9,     -999.0,9,  -999.0,9, 20170904,      244, -32.5000,-129.6885,        0.0,1,      0.060,1,      4.695,1,      0.131,1,     -999.0,9,     -999.0,9,     -999.0,9,     -999.0,9,     -999.0,9,     -999.0,9,     -999.0,9,     -999.0,9,     -999.0,9,     -999.0,9,     -999.0,9,     4.9302,2,     -999.0,     -999.0,9,     -999.0
320620170820,        P06,     166,          1,         20,         20,2,20170904,       0133,   -32.4998,  -129.6881,       3745,   842.1,   5.4494,  34.2939,2,  34.2915,2, 224.4523,2, 224.6431,2,    16.0,2,   27.09,2,    0.00,2,    1.84,2,   2.260,2,   1.140,2,   0.3830,2,  2166.4,2,  2282.8,2,   7.6667,2,    25.00, -999.00,9, -999.00,9, -999.00,    46.4,2, -999.00,9,     -999.0,1,  -999.0,9, 20170904,      247, -32.5000,-129.6886,        0.0,1,      0.060,1,      4.695,1,      0.129,1,     -999.0,9,     -999.0,9,     -999.0,9,     -999.0,9,     -999.0,9,     -999.0,9,     -999.0,9,     -999.0,9,     -999.0,9,     -999.0,9,     -999.0,9,     5.4280,2,     -999.0,     -999.0,9,     -999.0
320620170820,        P06,     166,          1,         21,         21,2,20170904,       0133,   -32.4998,  -129.6881,       3745,   740.3,   5.9290,  34.3007,2,  34.2985,2, 234.9986,2, 234.9306,2,    11.6,2,   25.22,2,    0.00,2,    1.70,2,   2.798,2,   1.448,2,   0.5610,2,  2156.3,2,  2279.4,2,   7.6874,2,    25.00, -999.00,9, -999.00,9, -999.00,    43.9,2, -999.00,9,     -999.0,1,  -999.0,9, 20170904,      250, -32.5000,-129.6886,        0.0,1,      0.059,1,      4.695,1,      0.131,1,     -999.0,9,     -999.0,9,     -999.0,9,     -999.0,9,     -999.0,9,     -999.0,9,     -999.0,9,     -999.0,9,     -999.0,9,     -999.0,9,     -999.0,9,     5.8717,2,     -999.0,     -999.0,9,     -999.0
320620170820,        P06,     166,          1,         22,         22,2,20170904,       0133,   -32.4998,  -129.6881,       3745,   639.8,   6.3626,  34.3193,2,  34.3166,2, 241.1459,2, 240.7373,2,     8.5,2,   23.66,2,    0.00,2,    1.60,2,   2.984,2,   1.661,2,   0.7790,2,  2149.2,2,  2278.3,2,   7.6997,2,    25.00, -999.00,9, -999.00,9, -999.00,    43.5,2, -999.00,9,     -999.0,1,  -999.0,9, 20170904,      253, -32.5000,-129.6885,        0.0,1,      0.059,1,      4.694,1,      0.130,1,     -999.0,9,     -999.0,9,     -999.0,9,     -999.0,9,     -999.0,9,     -999.0,9,     -999.0,9,     -999.0,9,     -999.0,9,     -999.0,9,     -999.0,9,     6.3457,2,     -999.0,     -999.0,9,     -999.0
320620170820,        P06,     166,          1,         23,         23,2,20170904,       0133,   -32.4998,  -129.6881,       3745,   539.2,   6.8109,  34.3472,2,  34.3458,2, 244.4395,2, 244.8723,2,     6.7,2,   21.99,2,    0.00,2,    1.49,2,   3.488,2,   1.865,2,   1.1490,2,  2144.4,6,  2278.6,2,   7.7101,2,    25.00, -999.00,9, -999.00,9, -999.00,    45.0,2, -999.00,9,     -999.0,1,  -999.0,9, 20170904,      255, -32.4999,-129.6884,        0.0,1,      0.059,1,      4.693,1,      0.132,1,     -999.0,9,     -999.0,9,     -999.0,9,     -999.0,9,     -999.0,9,     -999.0,9,     -999.0,9,     -999.0,9,     -999.0,9,     -999.0,9,     -999.0,9,     6.8480,2,     -999.0,     -999.0,9,     -999.0
320620170820,        P06,     166,          1,         24,         24,2,20170904,       0133,   -32.4998,  -129.6881,       3745,   468.6,   7.2363,  34.3709,2,  34.3654,2, 245.8628,2, 245.0842,2,     5.6,2,   20.80,2,    0.00,2,    1.42,2,   3.567,2,   1.931,2,   1.1960,2,  2142.6,2,  2279.0,2,   7.7171,2,    25.00, -999.00,9, -999.00,9, -999.00,    43.2,2,   21.80,2,     -999.0,1,  -999.0,9, 20170904,      258, -32.4999,-129.6883,        0.0,1,      0.059,1,      4.692,1,      0.132,1,     -999.0,9,     -999.0,9,     -999.0,9,     -999.0,9,     -999.0,9,     -999.0,9,     -999.0,9,     -999.0,9,     -999.0,9,     -999.0,9,     -999.0,9,     7.2322,2,     -999.0,     -999.0,9,     -999.0
320620170820,        P06,     166,          1,         25,         25,2,20170904,       0133,   -32.4998,  -129.6881,       3745,   419.0,   7.6809,  34.3869,2,  34.3831,2, 233.5657,2, 240.7651,2,     4.8,2,   19.81,2,    0.00,2,    1.35,2,   3.509,2,   1.919,2,   1.2630,2,  2140.4,2,  2278.0,6,   7.7211,2,    25.00, -999.00,9, -999.00,9, -999.00,    43.7,2,   22.10,2,     -999.0,1,  -999.0,9, 20170904,      300, -32.4999,-129.6884,        0.0,1,      0.059,1,      4.691,1,      0.134,1,     -999.0,9,     -999.0,9,     -999.0,9,     -999.0,9,     -999.0,9,     -999.0,9,     -999.0,9,     -999.0,9,     -999.0,9,     -999.0,9,     -999.0,9,     7.6676,2,     -999.0,     -999.0,9,     -999.0
320620170820,        P06,     166,          1,         26,         26,2,20170904,       0133,   -32.4998,  -129.6881,       3745,   366.6,   8.4346,  34.4182,2,  34.4127,2, 228.5984,2, 229.1524,2,     3.9,2,   18.40,2,    0.00,2,    1.27,2,   3.242,2,   1.825,2,   1.3010,2,  2136.3,2,  2278.5,2,   7.7281,2,    25.00, -999.00,9, -999.00,9, -999.00,  -999.0,9, -999.00,9,     -999.0,9,  -999.0,9, 20170904,      302, -32.4999,-129.6884,        0.0,1,      0.058,1,      4.689,1,      0.135,1,     -999.0,9,     -999.0,9,     -999.0,9,     -999.0,9,     -999.0,9,     -999.0,9,     -999.0,9,     -999.0,9,     -999.0,9,     -999.0,9,     -999.0,9,     8.4842,2,     -999.0,     -999.0,9,     -999.0