BOTTLE,20240211CCHSIOCBG
EXPOCODE,SECT_ID,STNNBR,CASTNO,SAMPNO,BTLNBR,BTLNBR_FLAG_W,DATE,TIME,LATITUDE,LONGITUDE,DEPTH,CTDPRS,CTDTMP,CTDSAL,CTDSAL_FLAG_W,SALNTY,SALNTY_FLAG_W,CTDOXY,CTDOXY_FLAG_W,OXYGEN,OXYGEN_FLAG_W,SILCAT,SILCAT_FLAG_W,NITRAT,NITRAT_FLAG_W,NITRIT,NITRIT_FLAG_W,PHSPHT,PHSPHT_FLAG_W,CFC-11,CFC-11_FLAG_W,CFC-12,CFC-12_FLAG_W,SF6,SF6_FLAG_W,TCARBN,TCARBN_FLAG_W,ALKALI,ALKALI_FLAG_W,PH_TOT,PH_TOT_FLAG_W,PH_TMP,DELC13,DELC13_FLAG_W,DELC14,DELC14_FLAG_W,C14ERR,DOC,DOC_FLAG_W,TDN,TDN_FLAG_W,TON,TON_FLAG_W,D15N_NO3,D15N_NO3_FLAG_W,BTL_DATE,BTL_TIME,BTL_LAT,BTL_LON,CTDRINKO,CTDRINKO_FLAG_W,CTDFLUOR,CTDFLUOR_FLAG_W,CTDXMISS,CTDXMISS_FLAG_W,CTDBACKSCATTER,CTDBACKSCATTER_FLAG_W,D18O_NO3,D18O_NO3_FLAG_W,DOP,DOP_FLAG_W,CELLCOUNT,CELLCOUNT_FLAG_W,TDP,TDP_FLAG_W,POP,POP_FLAG_W,DATP,DATP_FLAG_W,PATP,PATP_FLAG_W,HPLC,HPLC_FLAG_W,POC,POC_FLAG_W,BEAMAP,BEAMAP_FLAG_W,DOC_NASA,DOC_NASA_FLAG_W,REFTMP,REFTMP_FLAG_W,DOC_NASA_ERROR,TDN_NASA,TDN_NASA_FLAG_W,TDN_NASA_ERROR
,,,,,,,,,,,METERS,DBAR,ITS-90,PSS-78,,PSS-78,,UMOL/KG,,UMOL/KG,,UMOL/KG,,UMOL/KG,,UMOL/KG,,UMOL/KG,,PMOL/KG,,PMOL/KG,,FMOL/KG,,UMOL/KG,,UMOL/KG,,,,DEG C,/MILLE,,/MILLE,,/MILLE,UMOL/KG,,UMOL/KG,,UMOL/KG,,/MILLE,,,,,,VOLTS,,VOLTS,,VOLTS,,VOLTS,,/MILLE,,UMOL/KG,,/LITER,,UMOL/KG,,UMOL/L,,PMOL/L,,PMOL/L,,,,UG/L,,/METER,,UMOL/L,,ITS-90,,UMOL/L,UMOL/L,,UMOL/L
320620170820,        P06,     232,          1,          1,          1,2,20170925,       0302,   -32.4998,   -76.6361,       4101,  4154.7,   1.6583,  34.6957,2,  34.6971,2, 165.9896,2, 165.7333,2,   124.6,2,   34.60,2,    0.00,2,    2.41,2,   0.015,2,   0.025,2,   0.0000,4,  2305.9,6,  2401.5,2,   7.5908,2,    25.00, -999.00,9, -999.00,9, -999.00,    40.6,2, -999.00,9,     -999.0,1,  -999.0,9, 20170925,      302, -32.5000, -76.6361,        0.0,1,      0.061,1,      4.676,1,      0.138,1,     -999.0,9,     -999.0,9,     -999.0,9,     -999.0,9,     -999.0,9,     -999.0,9,     -999.0,9,     -999.0,9,     -999.0,9,     -999.0,9,     -999.0,9,     1.6586,2,     -999.0,     -999.0,9,     -999.0
320620170820,        P06,     232,          1,          2,          2,2,20170925,       0302,   -32.4998,   -76.6361,       4101,  3950.0,   1.6410,  34.6955,2,  34.6969,2, 165.9896,2, 165.0452,2,   124.4,2,   34.61,2,    0.00,2,    2.41,2,   0.012,2,   0.025,2,   0.0000,4,  2304.5,2,  2402.1,2,   7.5913,2,    25.00, -999.00,9, -999.00,9, -999.00,    38.8,2, -999.00,9,     -999.0,1,  -999.0,9, 20170925,      308, -32.4999, -76.6357,        0.0,1,      0.061,1,      4.678,1,      0.136,1,     -999.0,9,     -999.0,9,     -999.0,9,     -999.0,9,     -999.0,9,     -999.0,9,     -999.0,9,     -999.0,9,     -999.0,9,     -999.0,9,     -999.0,9,     1.6425,2,     -999.0,     -999.0,9,     -999.0
320620170820,        P06,     232,          1,          3,          3,2,20170925,       0302,   -32.4998,   -76.6361,       4101,  3758.4,   1.6423,  34.6944,2,  34.6952,2, 165.8144,3,  168.495,2,   124.3,2,   34.64,2,    0.00,2,    2.42,2,   0.011,2,   0.025,2,   0.0000,4,  -999.0,9,  -999.0,9,-999.0000,9,  -999.00, -999.00,9, -999.00,9, -999.00,  -999.0,9, -999.00,9,     -999.0,9,  -999.0,9, 20170925,      312, -32.4998, -76.6352,        0.0,1,      0.061,1,      4.680,1,      0.130,1,     -999.0,9,     -999.0,9,     -999.0,9,     -999.0,9,     -999.0,9,     -999.0,9,     -999.0,9,     -999.0,9,     -999.0,9,     -999.0,9,     -999.0,9,     1.6438,2,     -999.0,     -999.0,9,     -999.0
320620170820,        P06,     232,          1,          4,          4,2,20170925,       0302,   -32.4998,   -76.6361,       4101,  3450.1,   1.7118,  34.6893,2,  34.6897,2, 161.1009,3, 158.9582,2,   124.9,2,   34.99,2,    0.00,2,    2.44,2,   0.012,2,   0.031,2,   0.0000,4,  2307.6,2,  2402.2,2,   7.5822,2,    25.00, -999.00,9, -999.00,9, -999.00,    40.1,2, -999.00,9,     -999.0,1,  -999.0,9, 20170925,      319, -32.4998, -76.6356,        0.0,1,      0.061,1,      4.681,1,      0.133,1,     -999.0,9,     -999.0,9,     -999.0,9,     -999.0,9,     -999.0,9,     -999.0,9,     -999.0,9,     -999.0,9,     -999.0,9,     -999.0,9,     -999.0,9,     1.7186,2,     -999.0,     -999.0,9,     -999.0
320620170820,        P06,     232,          1,          5,          5,2,20170925,       0302,   -32.4998,   -76.6361,       4101,  3143.9,   1.7833,  34.6828,2,  34.6832,2, 155.2421,3, 153.9108,2,   125.9,2,   35.35,2,    0.00,2,    2.47,2,   0.011,2,   0.031,2,   0.0000,4,  -999.0,9,  -999.0,9,-999.0000,9,  -999.00, -999.00,9, -999.00,9, -999.00,  -999.0,9, -999.00,9,     -999.0,9,  -999.0,9, 20170925,      325, -32.4999, -76.6360,        0.0,1,      0.062,1,      4.680,1,      0.133,1,     -999.0,9,     -999.0,9,     -999.0,9,     -999.0,9,     -999.0,9,     -999.0,9,     -999.0,9,     -999.0,9,     -999.0,9,     -999.0,9,     -999.0,9,     1.7839,2,     -999.0,     -999.0,9,     -999.0
320620170820,        P06,     232,          1,          6,          6,2,20170925,       0302,   -32.4998,   -76.6361,       4101,  2873.8,   1.8315,  34.6771,2,  34.6771,2, 150.8927,2, 151.3788,2,   124.5,2,   35.53,2,    0.00,2,    2.48,2,   0.013,2,   0.033,2,   0.0000,4,  2312.0,2,  2405.3,2,   7.5716,2,    25.00, -999.00,9, -999.00,9, -999.00,    36.3,2, -999.00,9,     -999.0,1,  -999.0,9, 20170925,      331, -32.4999, -76.6361,        0.0,1,      0.061,1,      4.680,1,      0.133,1,     -999.0,9,     -999.0,9,     -999.0,9,     -999.0,9,     -999.0,9,     -999.0,9,     -999.0,9,     -999.0,9,     -999.0,9,     -999.0,9,     -999.0,9,     1.8354,2,     -999.0,     -999.0,9,     -999.0
320620170820,        P06,     232,          1,          7,          7,2,20170925,       0302,   -32.4998,   -76.6361,       4101,  2617.2,   1.8942,  34.6697,2,  34.6692,2, 147.7115,2, 148.3475,2,   122.9,2,   35.76,2,    0.00,2,    2.50,2,   0.012,2,   0.035,2,   0.0000,4,  -999.0,9,  -999.0,9,-999.0000,9,  -999.00, -999.00,9, -999.00,9, -999.00,  -999.0,9, -999.00,9,     -999.0,9,  -999.0,9, 20170925,      337, -32.4999, -76.6362,        0.0,1,      0.062,1,      4.680,1,      0.136,1,     -999.0,9,     -999.0,9,     -999.0,9,     -999.0,9,     -999.0,9,     -999.0,9,     -999.0,9,     -999.0,9,     -999.0,9,     -999.0,9,     -999.0,9,     1.9003,2,     -999.0,     -999.0,9,     -999.0
320620170820,        P06,     232,          1,          8,          8,2,20170925,       0302,   -32.4998,   -76.6361,       4101,  2363.9,   1.9959,  34.6588,2,  34.6588,2, 142.5956,2, 143.0841,2,   120.4,2,   36.18,2,    0.00,2,    2.55,2,   0.013,2,   0.038,2,   0.0000,4,  2313.8,2,  2399.1,2,   7.5555,2,    25.00, -999.00,9, -999.00,9, -999.00,    45.2,3, -999.00,9,     -999.0,1,  -999.0,9, 20170925,      342, -32.4999, -76.6360,        0.0,1,      0.062,1,      4.680,1,      0.136,1,     -999.0,9,     -999.0,9,     -999.0,9,     -999.0,9,     -999.0,9,     -999.0,9,     -999.0,9,     -999.0,9,     -999.0,9,     -999.0,9,     -999.0,9,     1.9968,2,     -999.0,     -999.0,9,     -999.0
320620170820,        P06,     232,          1,          9,          9,2,20170925,       0302,   -32.4998,   -76.6361,       4101,  2109.9,   2.1535,  34.6441,2,  34.6466,2, 135.7892,2, 137.3035,2,   119.2,2,   36.83,2,    0.00,2,    2.59,2,   0.013,2,   0.042,2,   0.0000,4,  -999.0,9,  -999.0,9,-999.0000,9,  -999.00, -999.00,9, -999.00,9, -999.00,  -999.0,9, -999.00,9,     -999.0,9,  -999.0,9, 20170925,      348, -32.4998, -76.6356,        0.0,1,      0.061,1,      4.679,1,      0.135,1,     -999.0,9,     -999.0,9,     -999.0,9,     -999.0,9,     -999.0,9,     -999.0,9,     -999.0,9,     -999.0,9,     -999.0,9,     -999.0,9,     -999.0,9,     2.1382,2,     -999.0,     -999.0,9,     -999.0
320620170820,        P06,     232,          1,         10,         10,2,20170925,       0302,   -32.4998,   -76.6361,       4101,  1886.8,   2.3520,  34.6258,2,  34.6262,2, 128.3813,2, 128.7689,2,   113.9,2,   37.49,2,    0.00,2,    2.65,2,   0.010,2,   0.044,2,   0.0000,4,  2316.9,2,  2388.5,2,   7.5265,2,    25.00, -999.00,9, -999.00,9, -999.00,    37.4,2, -999.00,9,     -999.0,1,  -999.0,9, 20170925,      353, -32.4998, -76.6354,        0.0,1,      0.062,1,      4.680,1,      0.139,1,     -999.0,9,     -999.0,9,     -999.0,9,     -999.0,9,     -999.0,9,     -999.0,9,     -999.0,9,     -999.0,9,     -999.0,9,     -999.0,9,     -999.0,9,     2.3378,2,     -999.0,     -999.0,9,     -999.0
320620170820,        P06,     232,          1,         11,         11,2,20170925,       0302,   -32.4998,   -76.6361,       4101,  1753.2,   2.5165,  34.6101,2,  34.6115,2, 123.4814,2, 123.5821,2,   109.0,2,   37.92,2,    0.00,2,    2.69,2,   0.015,2,   0.052,2,   0.0000,4,  -999.0,9,  -999.0,9,-999.0000,9,  -999.00, -999.00,9, -999.00,9, -999.00,  -999.0,9, -999.00,9,     -999.0,9,  -999.0,9, 20170925,      357, -32.4997, -76.6351,        0.0,1,      0.062,1,      4.679,1,      0.137,1,     -999.0,9,     -999.0,9,     -999.0,9,     -999.0,9,     -999.0,9,     -999.0,9,     -999.0,9,     -999.0,9,     -999.0,9,     -999.0,9,     -999.0,9,     2.5042,2,     -999.0,     -999.0,9,     -999.0
320620170820,        P06,     232,          1,         12,         12,2,20170925,       0302,   -32.4998,   -76.6361,       4101,  1652.2,   2.6568,  34.5973,2,  34.5977,2, 119.8497,2, 119.1099,2,   105.3,2,   38.28,2,    0.00,2,    2.74,2,   0.013,2,   0.045,2,   0.0000,4,  2310.0,2,  2376.9,2,   7.5089,2,    25.00, -999.00,9, -999.00,9, -999.00,    39.1,2, -999.00,9,     -999.0,1,  -999.0,9, 20170925,      400, -32.4997, -76.6351,        0.0,1,      0.062,1,      4.679,1,      0.139,1,     -999.0,9,     -999.0,9,     -999.0,9,     -999.0,9,     -999.0,9,     -999.0,9,     -999.0,9,     -999.0,9,     -999.0,9,     -999.0,9,     -999.0,9,     2.6411,2,     -999.0,     -999.0,9,     -999.0
320620170820,        P06,     232,          1,         13,         13,2,20170925,       0302,   -32.4998,   -76.6361,       4101,  1550.5,   2.7979,  34.5839,2,  34.5840,2, 118.0053,2, 117.6504,2,   100.7,2,   38.46,2,    0.00,2,    2.74,2,   0.013,2,   0.046,2,   0.0000,4,  -999.0,9,  -999.0,9,-999.0000,9,  -999.00, -999.00,9, -999.00,9, -999.00,  -999.0,9, -999.00,9,     -999.0,9,  -999.0,9, 20170925,      403, -32.4997, -76.6352,        0.0,1,      0.062,1,      4.680,1,      0.139,1,     -999.0,9,     -999.0,9,     -999.0,9,     -999.0,9,     -999.0,9,     -999.0,9,     -999.0,9,     -999.0,9,     -999.0,9,     -999.0,9,     -999.0,9,     2.7890,2,     -999.0,     -999.0,9,     -999.0
320620170820,        P06,     232,          1,         14,         14,2,20170925,       0302,   -32.4998,   -76.6361,       4101,  1448.4,   2.9595,  34.5674,2,  34.5681,2, 114.7227,2, 113.1403,2,    96.4,2,   38.82,2,    0.00,2,    2.76,2,   0.014,2,   0.047,2,   0.0000,4,  2305.6,2,  2366.8,6,   7.4964,2,    25.00, -999.00,9, -999.00,9, -999.00,    36.6,2, -999.00,9,     -999.0,1,  -999.0,9, 20170925,      406, -32.4997, -76.6355,        0.0,1,      0.062,1,      4.680,1,      0.145,1,     -999.0,9,     -999.0,9,     -999.0,9,     -999.0,9,     -999.0,9,     -999.0,9,     -999.0,9,     -999.0,9,     -999.0,9,     -999.0,9,     -999.0,9,     2.9537,2,     -999.0,     -999.0,9,     -999.0
320620170820,        P06,     232,          1,         15,         15,2,20170925,       0302,   -32.4998,   -76.6361,       4101,  1346.1,   3.1531,  34.5501,2,  34.5488,2, 111.1249,2, 109.9107,2,    90.6,2,   39.16,2,    0.00,2,    2.78,2,   0.014,2,   0.048,2,   0.0000,4,  -999.0,9,  -999.0,9,-999.0000,9,  -999.00, -999.00,9, -999.00,9, -999.00,  -999.0,9, -999.00,9,     -999.0,9,  -999.0,9, 20170925,      409, -32.4998, -76.6358,        0.0,1,      0.064,1,      4.679,1,      0.141,1,     -999.0,9,     -999.0,9,     -999.0,9,     -999.0,9,     -999.0,9,     -999.0,9,     -999.0,9,     -999.0,9,     -999.0,9,     -999.0,9,     -999.0,9,     3.1449,2,     -999.0,     -999.0,9,     -999.0
320620170820,        P06,     232,          1,         16,         16,2,20170925,       0302,   -32.4998,   -76.6361,       4101,  1247.5,   3.3602,  34.5274,2,  34.5248,2, 109.4774,3,  116.171,2,    83.3,2,   39.39,2,    0.00,2,    2.81,2,   0.019,2,   0.061,2,   0.0000,4,  2297.2,2,  2353.4,2,   7.4821,6,    25.00, -999.00,9, -999.00,9, -999.00,    39.8,2, -999.00,9,     -999.0,1,  -999.0,9, 20170925,      412, -32.4998, -76.6359,        0.0,1,      0.062,1,      4.679,1,      0.141,1,     -999.0,9,     -999.0,9,     -999.0,9,     -999.0,9,     -999.0,9,     -999.0,9,     -999.0,9,     -999.0,9,     -999.0,9,     -999.0,9,     -999.0,9,     3.3500,2,     -999.0,     -999.0,9,     -999.0
320620170820,        P06,     232,          1,         17,         17,2,20170925,       0302,   -32.4998,   -76.6361,       4101,  1144.3,   3.5871,  34.4992,2,  34.5013,2, 107.6959,2, 106.2656,2,    76.5,2,   39.58,2,    0.00,2,    2.81,2,   0.027,2,   0.063,2,   0.0000,4,  2291.0,6,  2344.4,2,   7.4761,2,    25.00, -999.00,9, -999.00,9, -999.00,    40.6,2, -999.00,9,     -999.0,1,  -999.0,9, 20170925,      415, -32.4997, -76.6357,        0.0,1,      0.062,1,      4.679,1,      0.143,1,     -999.0,9,     -999.0,9,     -999.0,9,     -999.0,9,     -999.0,9,     -999.0,9,     -999.0,9,     -999.0,9,     -999.0,9,     -999.0,9,     -999.0,9,     3.5978,2,     -999.0,     -999.0,9,     -999.0
320620170820,        P06,     232,          1,         18,         18,2,20170925,       0302,   -32.4998,   -76.6361,       4101,  1042.1,   3.7994,  34.4668,2,  34.4636,2, 115.4124,3, 111.1397,2,    66.5,2,   39.28,2,    0.00,2,    2.78,2,   0.057,2,   0.080,2,   0.0000,4,  2279.2,2,  2331.7,2,   7.4775,2,    25.00, -999.00,9, -999.00,9, -999.00,    41.8,2, -999.00,9,     -999.0,1,  -999.0,9, 20170925,      418, -32.4997, -76.6356,        0.0,1,      0.063,1,      4.678,1,      0.144,1,     -999.0,9,     -999.0,9,     -999.0,9,     -999.0,9,     -999.0,9,     -999.0,9,     -999.0,9,     -999.0,9,     -999.0,9,     -999.0,9,     -999.0,9,     3.8323,2,     -999.0,     -999.0,9,     -999.0
320620170820,        P06,     232,          1,         19,         19,2,20170925,       0302,   -32.4998,   -76.6361,       4101,   942.2,   4.0943,  34.4164,2,  34.4106,2, 125.6967,2, 126.0403,2,    52.7,2,   38.03,2,    0.00,2,    2.67,2,   0.250,2,   0.158,2,   0.0000,4,  -999.0,9,  -999.0,9,-999.0000,9,  -999.00, -999.00,9, -999.00,9, -999.00,  -999.0,9, -999.00,9,     -999.0,9,  -999.0,9, 20170925,      421, -32.4997, -76.6357,        0.0,1,      0.063,1,      4.678,1,      0.142,1,     -999.0,9,     -999.0,9,     -999.0,9,     -999.0,9,     -999.0,9,     -999.0,9,     -999.0,9,     -999.0,9,     -999.0,9,     -999.0,9,     -999.0,9,     4.1408,2,     -999.0,     -999.0,9,     -999.0
320620170820,        P06,     232,          1,         20,         20,2,20170925,       0302,   -32.4998,   -76.6361,       4101,   840.9,   4.4729,  34.3587,2,  34.3704,2, 141.5379,2, 139.5607,2,    41.3,2,   36.56,2,    0.00,2,    2.56,2,   0.605,2,   0.336,2,   0.0000,4,  2242.0,2,  2304.8,2,   7.5172,2,    25.00, -999.00,9, -999.00,9, -999.00,    41.5,2, -999.00,9,     -999.0,1,  -999.0,9, 20170925,      424, -32.4997, -76.6355,        0.0,1,      0.062,1,      4.678,1,      0.143,1,     -999.0,9,     -999.0,9,     -999.0,9,     -999.0,9,     -999.0,9,     -999.0,9,     -999.0,9,     -999.0,9,     -999.0,9,     -999.0,9,     -999.0,9,     4.5254,2,     -999.0,     -999.0,9,     -999.0
320620170820,        P06,     232,          1,         21,         21,2,20170925,       0302,   -32.4998,   -76.6361,       4101,   740.7,   4.9663,  34.2986,2,  34.3019,2, 178.5171,2,  180.834,2,    26.1,2,   32.59,2,    0.00,2,    2.26,2,   1.678,2,   0.862,2,   0.0720,4,  -999.0,9,  -999.0,9,-999.0000,9,  -999.00, -999.00,9, -999.00,9, -999.00,  -999.0,9, -999.00,9,     -999.0,9,  -999.0,9, 20170925,      427, -32.4997, -76.6357,        0.0,1,      0.061,1,      4.677,1,      0.145,1,     -999.0,9,     -999.0,9,     -999.0,9,     -999.0,9,     -999.0,9,     -999.0,9,     -999.0,9,     -999.0,9,     -999.0,9,     -999.0,9,     -999.0,9,     4.8571,2,     -999.0,     -999.0,9,     -999.0
320620170820,        P06,     232,          1,         22,         22,2,20170925,       0302,   -32.4998,   -76.6361,       4101,   638.8,   5.5013,  34.2840,2,  34.2817,2, 191.7835,3, 194.4338,2,    17.8,2,   30.48,2,    0.00,2,    2.11,2,   2.726,2,   1.325,2,   0.5520,4,  2190.7,2,  2281.6,2,   7.5982,2,    25.00, -999.00,9, -999.00,9, -999.00,    42.6,2, -999.00,9,     -999.0,1,  -999.0,9, 20170925,      430, -32.4998, -76.6360,        0.0,1,      0.061,1,      4.676,1,      0.147,1,     -999.0,9,     -999.0,9,     -999.0,9,     -999.0,9,     -999.0,9,     -999.0,9,     -999.0,9,     -999.0,9,     -999.0,9,     -999.0,9,     -999.0,9,     5.4099,2,     -999.0,     -999.0,9,     -999.0
320620170820,        P06,     232,          1,         23,         23,2,20170925,       0302,   -32.4998,   -76.6361,       4101,   538.0,   6.2116,  34.3133,2,  34.3009,2, 183.7917,2, 181.9635,2,    14.9,2,   30.23,2,    0.00,2,    2.10,2,   3.106,2,   1.495,2,   0.5650,4,  2194.8,2,  2279.1,2,   7.5784,2,    25.00, -999.00,9, -999.00,9, -999.00,    48.2,2, -999.00,9,     -999.0,1,  -999.0,9, 20170925,      433, -32.4998, -76.6360,        0.0,1,      0.061,1,      4.673,1,      0.148,1,     -999.0,9,     -999.0,9,     -999.0,9,     -999.0,9,     -999.0,9,     -999.0,9,     -999.0,9,     -999.0,9,     -999.0,9,     -999.0,9,     -999.0,9,     6.0475,2,     -999.0,     -999.0,9,     -999.0
320620170820,        P06,     232,          1,         24,         24,2,20170925,       0302,   -32.4998,   -76.6361,       4101,   466.6,   7.0133,  34.3656,2,  34.3521,2, 134.5465,3,  131.138,2,    16.6,2,   32.64,2,    0.00,2,    2.31,2,   2.607,2,   1.313,2,   0.5600,4,  2222.1,2,  2285.7,3,   7.4963,2,    25.00, -999.00,9, -999.00,9, -999.00,    49.3,2, -999.00,9,     -999.0,1,  -999.0,9, 20170925,      435, -32.4997, -76.6358,        0.0,1,      0.062,1,      4.668,1,      0.157,1,     -999.0,9,     -999.0,9,     -999.0,9,     -999.0,9,     -999.0,9,     -999.0,9,     -999.0,9,     -999.0,9,     -999.0,9,     -999.0,9,     -999.0,9,     6.8813,2,     -999.0,     -999.0,9,     -999.0
320620170820,        P06,     232,          1,         25,         25,2,20170925,       0302,   -32.4998,   -76.6361,       4101,   416.4,   7.6868,  34.4023,2,  34.3982,2,  90.2436,2,  90.6608,2,    18.8,2,   34.21,2,    0.00,2,    2.50,2,   2.081,2,   1.136,2,   0.5600,4,  -999.0,9,  -999.0,9,-999.0000,9,  -999.00, -999.00,9, -999.00,9, -999.00,  -999.0,9, -999.00,9,     -999.0,9,  -999.0,9, 20170925,      437, -32.4997, -76.6357,        0.0,1,      0.064,1,      4.664,1,      0.162,1,     -999.0,9,     -999.0,9,     -999.0,9,     -999.0,9,     -999.0,9,     -999.0,9,     -999.0,9,     -999.0,9,     -999.0,9,     -999.0,9,     -999.0,9,     7.6150,2,     -999.0,     -999.0,9,     -999.0
320620170820,        P06,     232,          1,         26,         26,2,20170925,       0302,   -32.4998,   -76.6361,       4101,   367.5,   8.3733,  34.4512,2,  34.4424,2,   64.585,2,  62.4325,2,    20.0,2,   33.58,2,    0.00,2,    2.59,2,   1.827,2,   1.032,2,   0.5370,4,  2258.0,2,  2278.8,2,   7.3936,2,    25.00, -999.00,9, -999.00,9, -999.00,    48.4,2, -999.00,9,     -999.0,1,  -999.0,9, 20170925,      439, -32.4997, -76.6357,        0.0,1,      0.065,1,      4.660,1,      0.173,1,     -999.0,9,     -999.0,9,     -999.0,9,     -999.0,9,     -999.0,9,     -999.0,9,     -999.0,9,     -999.0,9,     -999.0,9,     -999.0,9,     -999.0,9,     8.3937,2,     -999.0,     -999.0,9,     -999.0