BOTTLE,20240211CCHSIOCBG
EXPOCODE,SECT_ID,STNNBR,CASTNO,SAMPNO,BTLNBR,BTLNBR_FLAG_W,DATE,TIME,LATITUDE,LONGITUDE,DEPTH,CTDPRS,CTDTMP,CTDSAL,CTDSAL_FLAG_W,SALNTY,SALNTY_FLAG_W,CTDOXY,CTDOXY_FLAG_W,OXYGEN,OXYGEN_FLAG_W,SILCAT,SILCAT_FLAG_W,NITRAT,NITRAT_FLAG_W,NITRIT,NITRIT_FLAG_W,PHSPHT,PHSPHT_FLAG_W,CFC-11,CFC-11_FLAG_W,CFC-12,CFC-12_FLAG_W,SF6,SF6_FLAG_W,TCARBN,TCARBN_FLAG_W,ALKALI,ALKALI_FLAG_W,PH_TOT,PH_TOT_FLAG_W,PH_TMP,DELC13,DELC13_FLAG_W,DELC14,DELC14_FLAG_W,C14ERR,DOC,DOC_FLAG_W,TDN,TDN_FLAG_W,TON,TON_FLAG_W,D15N_NO3,D15N_NO3_FLAG_W,BTL_DATE,BTL_TIME,BTL_LAT,BTL_LON,CTDRINKO,CTDRINKO_FLAG_W,CTDFLUOR,CTDFLUOR_FLAG_W,CTDXMISS,CTDXMISS_FLAG_W,CTDBACKSCATTER,CTDBACKSCATTER_FLAG_W,D18O_NO3,D18O_NO3_FLAG_W,DOP,DOP_FLAG_W,CELLCOUNT,CELLCOUNT_FLAG_W,TDP,TDP_FLAG_W,POP,POP_FLAG_W,DATP,DATP_FLAG_W,PATP,PATP_FLAG_W,HPLC,HPLC_FLAG_W,POC,POC_FLAG_W,BEAMAP,BEAMAP_FLAG_W,DOC_NASA,DOC_NASA_FLAG_W,REFTMP,REFTMP_FLAG_W,DOC_NASA_ERROR,TDN_NASA,TDN_NASA_FLAG_W,TDN_NASA_ERROR
,,,,,,,,,,,METERS,DBAR,ITS-90,PSS-78,,PSS-78,,UMOL/KG,,UMOL/KG,,UMOL/KG,,UMOL/KG,,UMOL/KG,,UMOL/KG,,PMOL/KG,,PMOL/KG,,FMOL/KG,,UMOL/KG,,UMOL/KG,,,,DEG C,/MILLE,,/MILLE,,/MILLE,UMOL/KG,,UMOL/KG,,UMOL/KG,,/MILLE,,,,,,VOLTS,,VOLTS,,VOLTS,,VOLTS,,/MILLE,,UMOL/KG,,/LITER,,UMOL/KG,,UMOL/L,,PMOL/L,,PMOL/L,,,,UG/L,,/METER,,UMOL/L,,ITS-90,,UMOL/L,UMOL/L,,UMOL/L
320620170820,        P06,     200,          1,          1,          1,2,20170914,       1010,   -32.5001,  -104.1169,       3554,  3600.1,   1.8039,  34.6893,2,  34.6879,2, 167.2712,2, 167.1779,2,   118.3,2,   34.28,2,    0.00,2,    2.36,2,   0.034,2,   0.018,2,   0.0000,2,  2294.9,6,  2389.8,2,   7.5925,2,    25.00, -999.00,9, -999.00,9, -999.00,    36.0,2, -999.00,9,     -999.0,1,  -999.0,9, 20170914,     1010, -32.5003,-104.1153,        0.0,1,      0.061,1,      4.686,1,      0.132,1,     -999.0,9,     -999.0,9,     -999.0,9,     -999.0,9,     -999.0,9,     -999.0,9,     -999.0,9,     -999.0,9,     -999.0,9,     -999.0,9,     -999.0,9,     1.8042,2,     -999.0,     -999.0,9,     -999.0
320620170820,        P06,     200,          1,          2,          2,2,20170914,       1010,   -32.5001,  -104.1169,       3554,  3422.3,   1.7868,  34.6893,2,  34.6908,2, 167.2712,2, 167.1042,2,   118.2,2,   34.26,2,    0.00,2,    2.36,2,   0.035,2,   0.020,2,   0.0000,2,  2295.7,2,  2390.3,2,   7.5927,2,    25.00, -999.00,9, -999.00,9, -999.00,  -999.0,9, -999.00,9,     -999.0,9,  -999.0,9, 20170914,     1014, -32.5001,-104.1155,        0.0,1,      0.061,1,      4.687,1,      0.129,1,     -999.0,9,     -999.0,9,     -999.0,9,     -999.0,9,     -999.0,9,     -999.0,9,     -999.0,9,     -999.0,9,     -999.0,9,     -999.0,9,     -999.0,9,     1.7870,2,     -999.0,     -999.0,9,     -999.0
320620170820,        P06,     200,          1,          3,          3,2,20170914,       1010,   -32.5001,  -104.1169,       3554,  3247.5,   1.7721,  34.6888,2,  34.6885,2, 167.2712,2, 167.0354,2,   118.1,2,   34.23,2,    0.00,2,    2.37,2,   0.032,2,   0.020,2,   0.0000,2,  2293.8,2,  2389.2,2,   7.5908,2,    25.00, -999.00,9, -999.00,9, -999.00,    36.5,2, -999.00,9,     -999.0,1,  -999.0,9, 20170914,     1018, -32.5001,-104.1155,        0.0,1,      0.061,1,      4.688,1,      0.130,1,     -999.0,9,     -999.0,9,     -999.0,9,     -999.0,9,     -999.0,9,     -999.0,9,     -999.0,9,     -999.0,9,     -999.0,9,     -999.0,9,     -999.0,9,     1.7725,2,     -999.0,     -999.0,9,     -999.0
320620170820,        P06,     200,          1,          4,          4,2,20170914,       1010,   -32.5001,  -104.1169,       3554,  2976.6,   1.7540,  34.6874,2,  34.6875,2, 167.2712,2, 167.2329,2,   117.9,2,   34.23,2,    0.00,2,    2.35,2,-999.000,9,-999.000,9,-999.0000,9,  -999.0,9,  -999.0,9,-999.0000,9,  -999.00, -999.00,9, -999.00,9, -999.00,  -999.0,9, -999.00,9,     -999.0,9,  -999.0,9, 20170914,     1023, -32.5002,-104.1152,        0.0,1,      0.060,1,      4.689,1,      0.128,1,     -999.0,9,     -999.0,9,     -999.0,9,     -999.0,9,     -999.0,9,     -999.0,9,     -999.0,9,     -999.0,9,     -999.0,9,     -999.0,9,     -999.0,9,     1.7539,2,     -999.0,     -999.0,9,     -999.0
320620170820,        P06,     200,          1,          5,          5,2,20170914,       1010,   -32.5001,  -104.1169,       3554,  2772.9,   1.7550,  34.6856,2,  34.6859,2, 167.1081,2, 167.6373,2,   117.5,2,   34.25,2,    0.00,2,    2.35,2,   0.034,2,   0.020,2,   0.0000,2,  2293.3,2,  2387.4,2,   7.5882,2,    25.00, -999.00,9, -999.00,9, -999.00,    39.9,2, -999.00,9,     -999.0,1,  -999.0,9, 20170914,     1028, -32.5002,-104.1153,        0.0,1,      0.061,1,      4.689,1,      0.126,1,     -999.0,9,     -999.0,9,     -999.0,9,     -999.0,9,     -999.0,9,     -999.0,9,     -999.0,9,     -999.0,9,     -999.0,9,     -999.0,9,     -999.0,9,     1.7559,2,     -999.0,     -999.0,9,     -999.0
320620170820,        P06,     200,          1,          6,          6,2,20170914,       1010,   -32.5001,  -104.1169,       3554,  2569.2,   1.8009,  34.6809,2,  34.6806,2,  165.038,2, 164.6892,2,   115.9,2,   34.35,2,    0.00,2,    2.36,2,-999.000,9,-999.000,9,-999.0000,9,  -999.0,9,  -999.0,9,-999.0000,9,  -999.00, -999.00,9, -999.00,9, -999.00,  -999.0,9, -999.00,9,     -999.0,9,  -999.0,9, 20170914,     1032, -32.5002,-104.1151,        0.0,1,      0.061,1,      4.690,1,      0.128,1,     -999.0,9,     -999.0,9,     -999.0,9,     -999.0,9,     -999.0,9,     -999.0,9,     -999.0,9,     -999.0,9,     -999.0,9,     -999.0,9,     -999.0,9,     1.8032,2,     -999.0,     -999.0,9,     -999.0
320620170820,        P06,     200,          1,          7,          7,2,20170914,       1010,   -32.5001,  -104.1169,       3554,  2364.7,   1.8831,  34.6720,2,  34.6718,2, 161.6263,2, 162.0267,2,   114.0,2,   34.58,2,    0.00,2,    2.37,2,   0.035,2,   0.021,2,   0.0000,2,  2294.2,2,  2384.7,2,   7.5795,2,    25.00, -999.00,9, -999.00,9, -999.00,    37.5,2, -999.00,9,     -999.0,1,  -999.0,9, 20170914,     1037, -32.5001,-104.1153,        0.0,1,      0.061,1,      4.690,1,      0.128,1,     -999.0,9,     -999.0,9,     -999.0,9,     -999.0,9,     -999.0,9,     -999.0,9,     -999.0,9,     -999.0,9,     -999.0,9,     -999.0,9,     -999.0,9,     1.8860,2,     -999.0,     -999.0,9,     -999.0
320620170820,        P06,     200,          1,          8,          8,2,20170914,       1010,   -32.5001,  -104.1169,       3554,  2161.3,   2.0236,  34.6533,2,  34.6523,2, 155.7771,2, 155.9607,2,   110.6,2,   35.03,2,    0.00,2,    2.43,2,-999.000,9,-999.000,9,-999.0000,9,  -999.0,9,  -999.0,9,-999.0000,9,  -999.00, -999.00,9, -999.00,9, -999.00,  -999.0,9, -999.00,9,     -999.0,9,  -999.0,9, 20170914,     1041, -32.5002,-104.1152,        0.0,1,      0.061,1,      4.689,1,      0.130,1,     -999.0,9,     -999.0,9,     -999.0,9,     -999.0,9,     -999.0,9,     -999.0,9,     -999.0,9,     -999.0,9,     -999.0,9,     -999.0,9,     -999.0,9,     2.0255,2,     -999.0,     -999.0,9,     -999.0
320620170820,        P06,     200,          1,          9,          9,2,20170914,       1010,   -32.5001,  -104.1169,       3554,  1958.0,   2.2329,  34.6264,2,  34.6272,2,  147.743,2, 148.2464,2,   106.3,2,   35.77,2,    0.00,2,    2.48,2,   0.034,2,   0.021,2,   0.0000,2,  2295.5,2,  2376.2,2,   7.5572,2,    25.00, -999.00,9, -999.00,9, -999.00,    37.7,2, -999.00,9,     -999.0,1,  -999.0,9, 20170914,     1045, -32.5003,-104.1147,        0.0,1,      0.061,1,      4.689,1,      0.129,1,     -999.0,9,     -999.0,9,     -999.0,9,     -999.0,9,     -999.0,9,     -999.0,9,     -999.0,9,     -999.0,9,     -999.0,9,     -999.0,9,     -999.0,9,     2.2283,2,     -999.0,     -999.0,9,     -999.0
320620170820,        P06,     200,          1,         10,         10,2,20170914,       1010,   -32.5001,  -104.1169,       3554,  1784.2,   2.4236,  34.6033,2,  34.6001,2, 144.4211,2, 143.6212,2,   100.5,2,   36.21,2,    0.00,2,    2.52,2,   0.033,2,   0.021,2,   0.0000,2,  2292.1,2,  2369.7,2,   7.5482,2,    25.00, -999.00,9, -999.00,9, -999.00,  -999.0,9, -999.00,9,     -999.0,9,  -999.0,9, 20170914,     1049, -32.5003,-104.1147,        0.0,1,      0.061,1,      4.689,1,      0.131,1,     -999.0,9,     -999.0,9,     -999.0,9,     -999.0,9,     -999.0,9,     -999.0,9,     -999.0,9,     -999.0,9,     -999.0,9,     -999.0,9,     -999.0,9,     2.4391,2,     -999.0,     -999.0,9,     -999.0
320620170820,        P06,     200,          1,         11,         11,2,20170914,       1010,   -32.5001,  -104.1169,       3554,  1684.0,   2.5857,  34.5899,2,  34.5883,2,  135.939,2, 135.9598,2,    98.9,2,   36.92,2,    0.00,2,    2.57,2,   0.033,2,   0.021,2,   0.0000,2,  2295.1,2,  2368.4,2,   7.5342,2,    25.00, -999.00,9, -999.00,9, -999.00,    36.5,3, -999.00,9,     -999.0,1,  -999.0,9, 20170914,     1052, -32.5002,-104.1148,        0.0,1,      0.061,1,      4.689,1,      0.129,1,     -999.0,9,     -999.0,9,     -999.0,9,     -999.0,9,     -999.0,9,     -999.0,9,     -999.0,9,     -999.0,9,     -999.0,9,     -999.0,9,     -999.0,9,     2.5884,2,     -999.0,     -999.0,9,     -999.0
320620170820,        P06,     200,          1,         12,         12,2,20170914,       1010,   -32.5001,  -104.1169,       3554,  1582.9,   2.7674,  34.5717,2,  34.5702,2, 131.4242,2, 131.7349,2,    94.3,2,   37.30,2,    0.00,2,    2.61,2,   0.032,2,   0.018,2,   0.0000,2,  2292.6,2,  2362.4,2,   7.5270,2,    25.00, -999.00,9, -999.00,9, -999.00,  -999.0,9, -999.00,9,     -999.0,9,  -999.0,9, 20170914,     1055, -32.5002,-104.1149,        0.0,1,      0.061,1,      4.689,1,      0.132,1,     -999.0,9,     -999.0,9,     -999.0,9,     -999.0,9,     -999.0,9,     -999.0,9,     -999.0,9,     -999.0,9,     -999.0,9,     -999.0,9,     -999.0,9,     2.7805,2,     -999.0,     -999.0,9,     -999.0
320620170820,        P06,     200,          1,         13,         13,2,20170914,       1010,   -32.5001,  -104.1169,       3554,  1478.8,   2.9703,  34.5524,2,  34.5508,2, 125.4088,2, 125.2149,2,    89.8,2,   37.88,2,    0.00,2,    2.65,2,   0.035,2,   0.022,2,   0.0000,2,  2293.3,2,  2356.5,2,   7.5145,2,    25.00, -999.00,9, -999.00,9, -999.00,    40.2,2, -999.00,9,     -999.0,1,  -999.0,9, 20170914,     1057, -32.5002,-104.1149,        0.0,1,      0.063,1,      4.689,1,      0.134,1,     -999.0,9,     -999.0,9,     -999.0,9,     -999.0,9,     -999.0,9,     -999.0,9,     -999.0,9,     -999.0,9,     -999.0,9,     -999.0,9,     -999.0,9,     2.9858,2,     -999.0,     -999.0,9,     -999.0
320620170820,        P06,     200,          1,         14,         14,2,20170914,       1010,   -32.5001,  -104.1169,       3554,  1378.5,   3.1478,  34.5294,2,  34.5260,2, 122.8775,2, 122.5309,2,    84.3,2,   38.12,2,    0.00,2,    2.68,2,   0.035,2,   0.020,2,   0.0000,2,  2287.5,6,  2352.0,6,   7.5079,2,    25.00, -999.00,9, -999.00,9, -999.00,  -999.0,9, -999.00,9,     -999.0,9,  -999.0,9, 20170914,     1100, -32.5002,-104.1148,        0.0,1,      0.062,1,      4.689,1,      0.133,1,     -999.0,9,     -999.0,9,     -999.0,9,     -999.0,9,     -999.0,9,     -999.0,9,     -999.0,9,     -999.0,9,     -999.0,9,     -999.0,9,     -999.0,9,     3.1558,2,     -999.0,     -999.0,9,     -999.0
320620170820,        P06,     200,          1,         15,         15,2,20170914,       1010,   -32.5001,  -104.1169,       3554,  1278.7,   3.3239,  34.4961,2,  34.4944,2, 123.8024,2, 123.9133,2,    75.9,2,   38.13,2,    0.00,2,    2.67,2,   0.046,2,   0.029,2,   0.0000,2,  2280.7,2,  2341.6,2,   7.5050,6,    25.00, -999.00,9, -999.00,9, -999.00,    38.3,2, -999.00,9,     -999.0,1,  -999.0,9, 20170914,     1102, -32.5002,-104.1148,        0.0,1,      0.061,1,      4.689,1,      0.132,1,     -999.0,9,     -999.0,9,     -999.0,9,     -999.0,9,     -999.0,9,     -999.0,9,     -999.0,9,     -999.0,9,     -999.0,9,     -999.0,9,     -999.0,9,     3.3226,2,     -999.0,     -999.0,9,     -999.0
320620170820,        P06,     200,          1,         16,         16,2,20170914,       1010,   -32.5001,  -104.1169,       3554,  1176.6,   3.4708,  34.4334,2,  34.4383,2,  138.849,2, 139.3865,2,    62.7,2,   37.12,2,    0.00,2,    2.58,2,   0.095,2,   0.060,2,   0.0000,2,  2259.0,2,  2326.7,2,   7.5210,2,    25.00, -999.00,9, -999.00,9, -999.00,    40.0,2, -999.00,9,     -999.0,1,  -999.0,9, 20170914,     1105, -32.5001,-104.1148,        0.0,1,      0.061,1,      4.689,1,      0.133,1,     -999.0,9,     -999.0,9,     -999.0,9,     -999.0,9,     -999.0,9,     -999.0,9,     -999.0,9,     -999.0,9,     -999.0,9,     -999.0,9,     -999.0,9,     3.4579,2,     -999.0,     -999.0,9,     -999.0
320620170820,        P06,     200,          1,         17,         17,2,20170914,       1010,   -32.5001,  -104.1169,       3554,  1075.4,   3.7190,  34.3631,2,  34.3711,3,  167.369,2,  166.455,2,    47.9,2,   35.01,2,    0.00,2,    2.40,2,   0.304,2,   0.170,2,   0.0240,2,  -999.0,9,  -999.0,9,-999.0000,9,  -999.00, -999.00,9, -999.00,9, -999.00,  -999.0,9, -999.00,9,     -999.0,9,  -999.0,9, 20170914,     1108, -32.5001,-104.1150,        0.0,1,      0.060,1,      4.689,1,      0.132,1,     -999.0,9,     -999.0,9,     -999.0,9,     -999.0,9,     -999.0,9,     -999.0,9,     -999.0,9,     -999.0,9,     -999.0,9,     -999.0,9,     -999.0,9,     3.6699,2,     -999.0,     -999.0,9,     -999.0
320620170820,        P06,     200,          1,         18,         18,2,20170914,       1010,   -32.5001,  -104.1169,       3554,   974.7,   4.0792,  34.3185,2,  34.3121,2, 189.7306,2, 190.2842,2,    33.7,2,   32.64,2,    0.00,2,    2.21,2,   0.925,2,   0.458,2,   0.0670,2,  2204.8,2,  2296.7,2,   7.5940,2,    25.00, -999.00,9, -999.00,9, -999.00,    45.9,3, -999.00,9,     -999.0,1,  -999.0,9, 20170914,     1111, -32.5000,-104.1151,        0.0,1,      0.060,1,      4.689,1,      0.130,1,     -999.0,9,     -999.0,9,     -999.0,9,     -999.0,9,     -999.0,9,     -999.0,9,     -999.0,9,     -999.0,9,     -999.0,9,     -999.0,9,     -999.0,9,     4.1293,2,     -999.0,     -999.0,9,     -999.0
320620170820,        P06,     200,          1,         19,         19,2,20170914,       1010,   -32.5001,  -104.1169,       3554,   873.6,   4.7161,  34.2765,2,  34.2727,2, 209.1058,2, 208.5343,2,    21.9,2,   30.21,2,    0.00,2,    2.05,2,   1.949,2,   0.950,2,   0.2440,2,  2185.6,2,  2285.8,2,   7.6250,2,    25.00, -999.00,9, -999.00,9, -999.00,    47.4,3, -999.00,9,     -999.0,1,  -999.0,9, 20170914,     1113, -32.5000,-104.1151,        0.0,1,      0.060,1,      4.689,1,      0.133,1,     -999.0,9,     -999.0,9,     -999.0,9,     -999.0,9,     -999.0,9,     -999.0,9,     -999.0,9,     -999.0,9,     -999.0,9,     -999.0,9,     -999.0,9,     4.7752,2,     -999.0,     -999.0,9,     -999.0
320620170820,        P06,     200,          1,         20,         20,2,20170914,       1010,   -32.5001,  -104.1169,       3554,   771.3,   5.2615,  34.2611,2,  34.2605,2,  222.761,2, 223.4309,2,    15.1,2,   28.08,2,    0.00,2,    1.89,2,   2.779,2,   1.368,2,   0.3820,2,  2169.4,2,  2280.5,2,   7.6507,2,    25.00, -999.00,9, -999.00,9, -999.00,    44.0,2, -999.00,9,     -999.0,1,  -999.0,9, 20170914,     1116, -32.5000,-104.1152,        0.0,1,      0.060,1,      4.689,1,      0.133,1,     -999.0,9,     -999.0,9,     -999.0,9,     -999.0,9,     -999.0,9,     -999.0,9,     -999.0,9,     -999.0,9,     -999.0,9,     -999.0,9,     -999.0,9,     5.2519,2,     -999.0,     -999.0,9,     -999.0
320620170820,        P06,     200,          1,         21,         21,2,20170914,       1010,   -32.5001,  -104.1169,       3554,   671.4,   5.6509,  34.2622,2,  34.2607,2, 235.5886,2,   234.88,2,    11.0,2,   26.24,2,    0.00,2,    1.77,2,   3.439,2,   1.721,2,   0.7000,2,  2160.1,2,  2277.7,2,   7.6699,2,    25.00, -999.00,9, -999.00,9, -999.00,  -999.0,9, -999.00,9,     -999.0,9,  -999.0,9, 20170914,     1119, -32.5000,-104.1152,        0.0,1,      0.060,1,      4.688,1,      0.132,1,     -999.0,9,     -999.0,9,     -999.0,9,     -999.0,9,     -999.0,9,     -999.0,9,     -999.0,9,     -999.0,9,     -999.0,9,     -999.0,9,     -999.0,9,     5.6304,2,     -999.0,     -999.0,9,     -999.0
320620170820,        P06,     200,          1,         22,         22,2,20170914,       1010,   -32.5001,  -104.1169,       3554,   569.6,   6.0647,  34.2780,2,  34.2748,2, 231.3501,2, 231.2275,2,     9.4,2,   25.55,2,    0.00,2,    1.71,2,   3.674,2,   1.899,2,   0.9080,2,  2159.6,2,  2275.6,2,   7.6658,2,    25.00, -999.00,9, -999.00,9, -999.00,    45.1,2, -999.00,9,     -999.0,1,  -999.0,9, 20170914,     1122, -32.5000,-104.1151,        0.0,1,      0.060,1,      4.686,1,      0.134,1,     -999.0,9,     -999.0,9,     -999.0,9,     -999.0,9,     -999.0,9,     -999.0,9,     -999.0,9,     -999.0,9,     -999.0,9,     -999.0,9,     -999.0,9,     6.0601,2,     -999.0,     -999.0,9,     -999.0
320620170820,        P06,     200,          1,         23,         23,2,20170914,       1010,   -32.5001,  -104.1169,       3554,   490.7,   6.5779,  34.2995,2,  34.2960,2, 212.5347,2, 213.9977,2,     9.2,2,   25.83,2,    0.00,2,    1.74,2,   3.491,2,   1.816,2,   0.9380,2,  2165.3,2,  2274.2,2,   7.6451,2,    25.00, -999.00,9, -999.00,9, -999.00,    45.4,2, -999.00,9,     -999.0,1,  -999.0,9, 20170914,     1124, -32.5001,-104.1152,        0.0,1,      0.060,1,      4.685,1,      0.134,1,     -999.0,9,     -999.0,9,     -999.0,9,     -999.0,9,     -999.0,9,     -999.0,9,     -999.0,9,     -999.0,9,     -999.0,9,     -999.0,9,     -999.0,9,     6.5704,2,     -999.0,     -999.0,9,     -999.0
320620170820,        P06,     200,          1,         24,         24,2,20170914,       1010,   -32.5001,  -104.1169,       3554,   437.9,   7.0915,  34.2932,2,  34.2921,2, 202.2034,2, 202.5913,2,     8.6,2,   25.53,2,    0.00,2,    1.76,2,   3.436,2,   1.809,2,   1.0220,2,  2169.0,2,  2273.2,2,   7.6337,2,    25.00, -999.00,9, -999.00,9, -999.00,    51.8,3, -999.00,9,     -999.0,1,  -999.0,9, 20170914,     1126, -32.5003,-104.1154,        0.0,1,      0.060,1,      4.684,1,      0.135,1,     -999.0,9,     -999.0,9,     -999.0,9,     -999.0,9,     -999.0,9,     -999.0,9,     -999.0,9,     -999.0,9,     -999.0,9,     -999.0,9,     -999.0,9,     6.9958,2,     -999.0,     -999.0,9,     -999.0
320620170820,        P06,     200,          1,         25,         25,2,20170914,       1010,   -32.5001,  -104.1169,       3554,   386.9,   7.7601,  34.2751,2,  34.2725,2, 207.0383,2, 205.1019,2,     6.6,2,   23.50,2,    0.00,2,    1.64,2,   3.457,2,   1.824,2,   1.1120,2,  2160.3,2,  2270.6,6,   7.6522,2,    25.00, -999.00,9, -999.00,9, -999.00,    42.8,2, -999.00,9,     -999.0,1,  -999.0,9, 20170914,     1128, -32.5005,-104.1158,        0.0,1,      0.058,1,      4.684,1,      0.134,1,     -999.0,9,     -999.0,9,     -999.0,9,     -999.0,9,     -999.0,9,     -999.0,9,     -999.0,9,     -999.0,9,     -999.0,9,     -999.0,9,     -999.0,9,     7.6795,2,     -999.0,     -999.0,9,     -999.0
320620170820,        P06,     200,          1,         26,         26,2,20170914,       1010,   -32.5001,  -104.1169,       3554,   336.9,   8.9626,  34.2591,2,  34.2485,2,  222.666,2, 223.4128,2,     3.1,2,   19.43,2,    0.00,2,    1.36,2,   3.481,2,   1.923,2,   1.3690,2,  2134.5,2,  2267.8,2,   7.7100,6,    25.00, -999.00,9, -999.00,9, -999.00,    46.0,2, -999.00,9,     -999.0,1,  -999.0,9, 20170914,     1130, -32.5004,-104.1164,        0.0,1,      0.060,1,      4.682,1,      0.132,1,     -999.0,9,     -999.0,9,     -999.0,9,     -999.0,9,     -999.0,9,     -999.0,9,     -999.0,9,     -999.0,9,     -999.0,9,     -999.0,9,     -999.0,9,     8.6929,2,     -999.0,     -999.0,9,     -999.0