BOTTLE,20240211CCHSIOCBG
EXPOCODE,SECT_ID,STNNBR,CASTNO,SAMPNO,BTLNBR,BTLNBR_FLAG_W,DATE,TIME,LATITUDE,LONGITUDE,DEPTH,CTDPRS,CTDTMP,CTDSAL,CTDSAL_FLAG_W,SALNTY,SALNTY_FLAG_W,CTDOXY,CTDOXY_FLAG_W,OXYGEN,OXYGEN_FLAG_W,SILCAT,SILCAT_FLAG_W,NITRAT,NITRAT_FLAG_W,NITRIT,NITRIT_FLAG_W,PHSPHT,PHSPHT_FLAG_W,CFC-11,CFC-11_FLAG_W,CFC-12,CFC-12_FLAG_W,SF6,SF6_FLAG_W,TCARBN,TCARBN_FLAG_W,ALKALI,ALKALI_FLAG_W,PH_TOT,PH_TOT_FLAG_W,PH_TMP,DELC13,DELC13_FLAG_W,DELC14,DELC14_FLAG_W,C14ERR,DOC,DOC_FLAG_W,TDN,TDN_FLAG_W,TON,TON_FLAG_W,D15N_NO3,D15N_NO3_FLAG_W,BTL_DATE,BTL_TIME,BTL_LAT,BTL_LON,CTDRINKO,CTDRINKO_FLAG_W,CTDFLUOR,CTDFLUOR_FLAG_W,CTDXMISS,CTDXMISS_FLAG_W,CTDBACKSCATTER,CTDBACKSCATTER_FLAG_W,D18O_NO3,D18O_NO3_FLAG_W,DOP,DOP_FLAG_W,CELLCOUNT,CELLCOUNT_FLAG_W,TDP,TDP_FLAG_W,POP,POP_FLAG_W,DATP,DATP_FLAG_W,PATP,PATP_FLAG_W,HPLC,HPLC_FLAG_W,POC,POC_FLAG_W,BEAMAP,BEAMAP_FLAG_W,DOC_NASA,DOC_NASA_FLAG_W,REFTMP,REFTMP_FLAG_W,DOC_NASA_ERROR,TDN_NASA,TDN_NASA_FLAG_W,TDN_NASA_ERROR
,,,,,,,,,,,METERS,DBAR,ITS-90,PSS-78,,PSS-78,,UMOL/KG,,UMOL/KG,,UMOL/KG,,UMOL/KG,,UMOL/KG,,UMOL/KG,,PMOL/KG,,PMOL/KG,,FMOL/KG,,UMOL/KG,,UMOL/KG,,,,DEG C,/MILLE,,/MILLE,,/MILLE,UMOL/KG,,UMOL/KG,,UMOL/KG,,/MILLE,,,,,,VOLTS,,VOLTS,,VOLTS,,VOLTS,,/MILLE,,UMOL/KG,,/LITER,,UMOL/KG,,UMOL/L,,PMOL/L,,PMOL/L,,,,UG/L,,/METER,,UMOL/L,,ITS-90,,UMOL/L,UMOL/L,,UMOL/L
320620170820,        P06,     147,          1,         27,         27,2,20170826,       0342,   -32.4998,  -146.5986,       5187,   349.6,   9.0325,  34.5170,2,  34.5356,2, 222.5079,2, 221.3401,2,     3.5,2,   16.71,2,    0.00,2,    1.18,2,   3.267,2,   1.850,2,   1.2230,2,  2132.6,2,  2284.3,2,   7.7450,2,    25.00, -999.00,9, -999.00,9, -999.00,  -999.0,9, -999.00,9,     -999.0,9,  -999.0,9, 20170826,      546, -32.5004,-146.5982,        0.0,1,      0.056,1,      4.693,1,      0.072,1,     -999.0,9,     -999.0,9,     -999.0,9,     -999.0,9,     -999.0,9,     -999.0,9,     -999.0,9,     -999.0,9,     -999.0,9,     -999.0,9,     -999.0,9,     9.5049,2,     -999.0,     -999.0,9,     -999.0
320620170820,        P06,     147,          1,         28,         28,2,20170826,       0342,   -32.4998,  -146.5986,       5187,   296.3,  10.5213,  34.6337,2,  34.6433,2, 219.6226,2,   218.38,2,     2.1,2,   12.97,2,    0.00,2,    0.94,2,   2.727,2,   1.806,2,   1.4210,2,  2124.6,2,  2289.8,2,   7.7753,6,    25.00, -999.00,9, -999.00,9, -999.00,  -999.0,9, -999.00,9,     -999.0,9,  -999.0,9, 20170826,      547, -32.5003,-146.5982,        0.0,1,      0.057,1,      4.691,1,      0.072,1,     -999.0,9,     -999.0,9,     -999.0,9,     -999.0,9,     -999.0,9,     -999.0,9,     -999.0,9,     -999.0,9,     -999.0,9,     -999.0,9,     -999.0,9,    10.8991,2,     -999.0,     -999.0,9,     -999.0
320620170820,        P06,     147,          1,         29,         29,2,20170826,       0342,   -32.4998,  -146.5986,       5187,   246.2,  12.3636,  34.8210,2,  34.8292,3, 220.0877,2, 221.3609,2,     1.0,2,    7.76,2,    0.00,2,    0.63,2,   2.700,2,   1.684,2,   1.6630,2,  2106.7,2,  2296.8,2,   7.8272,2,    25.00, -999.00,9, -999.00,9, -999.00,  -999.0,9, -999.00,9,     -999.0,9,  -999.0,9, 20170826,      548, -32.5003,-146.5984,        0.0,1,      0.055,1,      4.688,1,      0.071,1,     -999.0,9,     -999.0,9,     -999.0,9,     -999.0,9,     -999.0,9,     -999.0,9,     -999.0,9,     -999.0,9,     -999.0,9,     -999.0,9,     -999.0,9,    12.6282,2,     -999.0,     -999.0,9,     -999.0
320620170820,        P06,     147,          1,         30,         30,2,20170826,       0342,   -32.4998,  -146.5986,       5187,   197.2,  13.7987,  34.9959,2,  34.9681,2, 222.2546,2, 224.0684,2,     0.6,2,    4.94,2,    0.02,2,    0.44,2,   2.579,2,   1.619,2,   1.5650,2,  2099.4,2,  2302.4,2,   7.8606,2,    25.00, -999.00,9, -999.00,9, -999.00,  -999.0,9, -999.00,9,     -999.0,9,  -999.0,9, 20170826,      549, -32.5001,-146.5984,        0.0,1,      0.054,1,      4.682,1,      0.071,1,     -999.0,9,     -999.0,9,     -999.0,9,     -999.0,9,     -999.0,9,     -999.0,9,     -999.0,9,     -999.0,9,     -999.0,9,     -999.0,9,     -999.0,9,    13.7942,2,     -999.0,     -999.0,9,     -999.0
320620170820,        P06,     147,          1,         31,         31,2,20170826,       0342,   -32.4998,  -146.5986,       5187,   146.5,  16.0873,  35.2841,2,  35.0587,2, 229.7934,2,  230.883,2,     0.2,2,    2.12,2,    0.19,2,    0.28,2,   2.468,2,   1.537,2,   1.6280,2,  2082.9,2,  2306.8,3,   7.8952,2,    25.00, -999.00,9, -999.00,9, -999.00,  -999.0,9, -999.00,9,     -999.0,9,  -999.0,9, 20170826,      551, -32.5001,-146.5984,        0.0,1,      0.056,1,      4.664,1,      0.072,1,     -999.0,9,     -999.0,9,     -999.0,9,     -999.0,9,     -999.0,9,     -999.0,9,     -999.0,9,     -999.0,9,     -999.0,9,     -999.0,9,     -999.0,9,    15.0364,2,     -999.0,     -999.0,9,     -999.0
320620170820,        P06,     147,          1,         32,         32,2,20170826,       0342,   -32.4998,  -146.5986,       5187,    92.8,  16.6916,  35.3593,2,  35.3017,2, 240.3773,2, 240.4577,2,     0.1,2,    0.03,2,    0.00,2,    0.11,2,   2.386,2,   1.386,2,   1.7140,2,  2065.7,2,  2320.3,2,   7.9545,2,    25.00, -999.00,9, -999.00,9, -999.00,  -999.0,9, -999.00,9,     -999.0,9,  -999.0,9, 20170826,      552, -32.4999,-146.5985,        0.0,1,      0.056,1,      4.625,1,      0.071,1,     -999.0,9,     -999.0,9,     -999.0,9,     -999.0,9,     -999.0,9,     -999.0,9,     -999.0,9,     -999.0,9,     -999.0,9,     -999.0,9,     -999.0,9,    16.4451,2,     -999.0,     -999.0,9,     -999.0
320620170820,        P06,     147,          1,         33,         33,2,20170826,       0342,   -32.4998,  -146.5986,       5187,    72.4,  16.8731,  35.3980,2,  35.3283,2, 240.9186,2, 241.0789,2,     0.0,2,    0.00,2,    0.00,2,    0.10,2,   2.310,2,   1.404,2,   1.6020,2,  2063.3,2,  2320.9,2,   7.9601,2,    25.00, -999.00,9, -999.00,9, -999.00,  -999.0,9, -999.00,9,     -999.0,9,  -999.0,9, 20170826,      552, -32.4999,-146.5986,        0.0,1,      0.057,1,      4.623,1,      0.071,1,     -999.0,9,     -999.0,9,     -999.0,9,     -999.0,9,     -999.0,9,     -999.0,9,     -999.0,9,     -999.0,9,     -999.0,9,     -999.0,9,     -999.0,9,    16.7693,2,     -999.0,     -999.0,9,     -999.0
320620170820,        P06,     147,          1,         34,         34,2,20170826,       0342,   -32.4998,  -146.5986,       5187,    45.4,  17.4709,  35.4955,2,  35.4839,2, 238.5051,2, 237.0067,2,     0.1,2,    0.00,2,    0.00,2,    0.10,2,   2.213,2,   1.340,2,   1.6050,2,  2060.3,2,  2331.6,2,   7.9777,2,    25.00, -999.00,9, -999.00,9, -999.00,  -999.0,9, -999.00,9,     -999.0,9,  -999.0,9, 20170826,      553, -32.4998,-146.5986,        0.0,1,      0.058,1,      4.615,1,      0.071,1,     -999.0,9,     -999.0,9,     -999.0,9,     -999.0,9,     -999.0,9,     -999.0,9,     -999.0,9,     -999.0,9,     -999.0,9,     -999.0,9,     -999.0,9,    17.3596,2,     -999.0,     -999.0,9,     -999.0
320620170820,        P06,     147,          1,         35,         35,2,20170826,       0342,   -32.4998,  -146.5986,       5187,    20.7,  17.4580,  35.4948,2,  35.4859,2,  238.383,2,  236.503,2,     0.1,2,    0.00,2,    0.00,2,    0.10,2,   2.245,2,   1.360,2,   1.5610,2,  2060.2,6,  2333.7,2,   7.9768,2,    25.00, -999.00,9, -999.00,9, -999.00,  -999.0,9, -999.00,9,     -999.0,9,  -999.0,9, 20170826,      553, -32.4998,-146.5986,        0.0,1,      0.056,1,      4.615,1,      0.071,1,     -999.0,9,     -999.0,9,     -999.0,9,     -999.0,9,     -999.0,9,     -999.0,9,     -999.0,9,     -999.0,9,     -999.0,9,     -999.0,9,     -999.0,9,    17.3556,2,     -999.0,     -999.0,9,     -999.0
320620170820,        P06,     147,          1,         36,         36,2,20170826,       0342,   -32.4998,  -146.5986,       5187,     1.0,  17.4618,  35.4943,2,  35.4857,2, 238.1889,2, 236.6525,2,     0.1,2,    0.00,2,    0.00,2,    0.11,2,   2.125,2,   1.364,2,   1.5350,2,  -999.0,9,  2331.0,2,   7.9767,2,    25.00, -999.00,9, -999.00,9, -999.00,  -999.0,9, -999.00,9,     -999.0,9,  -999.0,9, 20170826,      554, -32.4998,-146.5986,        0.0,1,      0.056,1,      4.612,1,      0.072,1,     -999.0,9,     -999.0,9,     -999.0,9,     -999.0,9,     -999.0,9,     -999.0,9,     -999.0,9,     -999.0,9,     -999.0,9,     -999.0,9,     -999.0,9,    15.1281,2,     -999.0,     -999.0,9,     -999.0