BOTTLE,20240211CCHSIOCBG
EXPOCODE,SECT_ID,STNNBR,CASTNO,SAMPNO,BTLNBR,BTLNBR_FLAG_W,DATE,TIME,LATITUDE,LONGITUDE,DEPTH,CTDPRS,CTDTMP,CTDSAL,CTDSAL_FLAG_W,SALNTY,SALNTY_FLAG_W,CTDOXY,CTDOXY_FLAG_W,OXYGEN,OXYGEN_FLAG_W,SILCAT,SILCAT_FLAG_W,NITRAT,NITRAT_FLAG_W,NITRIT,NITRIT_FLAG_W,PHSPHT,PHSPHT_FLAG_W,CFC-11,CFC-11_FLAG_W,CFC-12,CFC-12_FLAG_W,SF6,SF6_FLAG_W,TCARBN,TCARBN_FLAG_W,ALKALI,ALKALI_FLAG_W,PH_TOT,PH_TOT_FLAG_W,PH_TMP,DELC13,DELC13_FLAG_W,DELC14,DELC14_FLAG_W,C14ERR,DOC,DOC_FLAG_W,TDN,TDN_FLAG_W,TON,TON_FLAG_W,D15N_NO3,D15N_NO3_FLAG_W,BTL_DATE,BTL_TIME,BTL_LAT,BTL_LON,CTDRINKO,CTDRINKO_FLAG_W,CTDFLUOR,CTDFLUOR_FLAG_W,CTDXMISS,CTDXMISS_FLAG_W,CTDBACKSCATTER,CTDBACKSCATTER_FLAG_W,D18O_NO3,D18O_NO3_FLAG_W,DOP,DOP_FLAG_W,CELLCOUNT,CELLCOUNT_FLAG_W,TDP,TDP_FLAG_W,POP,POP_FLAG_W,DATP,DATP_FLAG_W,PATP,PATP_FLAG_W,HPLC,HPLC_FLAG_W,POC,POC_FLAG_W,BEAMAP,BEAMAP_FLAG_W,DOC_NASA,DOC_NASA_FLAG_W,REFTMP,REFTMP_FLAG_W,DOC_NASA_ERROR,TDN_NASA,TDN_NASA_FLAG_W,TDN_NASA_ERROR
,,,,,,,,,,,METERS,DBAR,ITS-90,PSS-78,,PSS-78,,UMOL/KG,,UMOL/KG,,UMOL/KG,,UMOL/KG,,UMOL/KG,,UMOL/KG,,PMOL/KG,,PMOL/KG,,FMOL/KG,,UMOL/KG,,UMOL/KG,,,,DEG C,/MILLE,,/MILLE,,/MILLE,UMOL/KG,,UMOL/KG,,UMOL/KG,,/MILLE,,,,,,VOLTS,,VOLTS,,VOLTS,,VOLTS,,/MILLE,,UMOL/KG,,/LITER,,UMOL/KG,,UMOL/L,,PMOL/L,,PMOL/L,,,,UG/L,,/METER,,UMOL/L,,ITS-90,,UMOL/L,UMOL/L,,UMOL/L
320620170820,        P06,     185,          1,          1,          1,2,20170910,       0307,   -32.5002,  -114.7453,       2870,  2899.7,   1.7623,  34.6707,2,  34.6720,2, 162.8452,2, 163.4258,2,   121.4,2,   34.75,2,    0.00,2,    2.40,2,   0.040,2,   0.023,2,   0.0000,2,  2299.5,6,  2395.6,2,   7.5872,2,    25.00, -999.00,9, -999.00,9, -999.00,  -999.0,9, -999.00,9,     -999.0,9,  -999.0,9, 20170910,      307, -32.4997,-114.7454,        0.0,1,      0.061,1,      4.690,1,      0.129,1,     -999.0,9,     -999.0,9,     -999.0,9,     -999.0,9,     -999.0,9,     -999.0,9,     -999.0,9,     -999.0,9,     -999.0,9,     -999.0,9,     -999.0,9,     1.7627,2,     -999.0,     -999.0,9,     -999.0
320620170820,        P06,     185,          1,          2,          2,2,20170910,       0307,   -32.5002,  -114.7453,       2870,  2736.1,   1.7678,  34.6695,2,  34.6692,2, 162.7493,2, 162.7103,2,   120.9,2,   34.78,2,    0.00,2,    2.40,2,   0.037,2,   0.025,2,   0.0000,2,  2299.5,2,  2393.3,2,-999.0000,9,  -999.00, -999.00,9, -999.00,9, -999.00,  -999.0,9, -999.00,9,     -999.0,9,  -999.0,9, 20170910,      311, -32.5000,-114.7453,        0.0,1,      0.060,1,      4.691,1,      0.128,1,     -999.0,9,     -999.0,9,     -999.0,9,     -999.0,9,     -999.0,9,     -999.0,9,     -999.0,9,     -999.0,9,     -999.0,9,     -999.0,9,     -999.0,9,     1.7673,2,     -999.0,     -999.0,9,     -999.0
320620170820,        P06,     185,          1,          3,          3,2,20170910,       0307,   -32.5002,  -114.7453,       2870,  2567.4,   1.7800,  34.6664,2,  34.6663,2, 162.6279,2, 162.1145,2,   120.5,2,   34.86,2,    0.00,2,    2.41,2,   0.040,2,   0.027,2,   0.0000,2,  2299.6,2,  2390.2,2,   7.5860,2,    25.00, -999.00,9, -999.00,9, -999.00,  -999.0,9, -999.00,9,     -999.0,9,  -999.0,9, 20170910,      315, -32.5001,-114.7452,        0.0,1,      0.061,1,      4.692,1,      0.125,1,     -999.0,9,     -999.0,9,     -999.0,9,     -999.0,9,     -999.0,9,     -999.0,9,     -999.0,9,     -999.0,9,     -999.0,9,     -999.0,9,     -999.0,9,     1.7793,2,     -999.0,     -999.0,9,     -999.0
320620170820,        P06,     185,          1,          4,          4,2,20170910,       0307,   -32.5002,  -114.7453,       2870,  2364.1,   1.8398,  34.6603,2,  34.6604,2, 160.5439,2, 160.1095,2,   118.9,2,   34.93,2,    0.00,2,    2.42,2,   0.043,2,   0.029,2,   0.0000,2,  2299.3,2,  2392.1,2,   7.5813,2,    25.00, -999.00,9, -999.00,9, -999.00,  -999.0,9, -999.00,9,     -999.0,9,  -999.0,9, 20170910,      320, -32.5001,-114.7452,        0.0,1,      0.061,1,      4.693,1,      0.125,1,     -999.0,9,     -999.0,9,     -999.0,9,     -999.0,9,     -999.0,9,     -999.0,9,     -999.0,9,     -999.0,9,     -999.0,9,     -999.0,9,     -999.0,9,     1.8383,2,     -999.0,     -999.0,9,     -999.0
320620170820,        P06,     185,          1,          5,          5,2,20170910,       0307,   -32.5002,  -114.7453,       2870,  2161.1,   1.9410,  34.6505,2,  34.6515,2, 158.1795,2, 158.0194,2,   116.0,2,   34.98,2,    0.00,2,    2.41,2,   0.038,2,   0.025,2,   0.0000,2,  2296.7,2,  2389.6,2,   7.5786,2,    25.00, -999.00,9, -999.00,9, -999.00,  -999.0,9, -999.00,9,     -999.0,9,  -999.0,9, 20170910,      324, -32.5001,-114.7453,        0.0,1,      0.061,1,      4.692,1,      0.127,1,     -999.0,9,     -999.0,9,     -999.0,9,     -999.0,9,     -999.0,9,     -999.0,9,     -999.0,9,     -999.0,9,     -999.0,9,     -999.0,9,     -999.0,9,     1.9289,2,     -999.0,     -999.0,9,     -999.0
320620170820,        P06,     185,          1,          6,          6,2,20170910,       0307,   -32.5002,  -114.7453,       2870,  1986.8,   2.0869,  34.6375,2,  34.6386,2, 156.5184,2, 156.8142,2,   109.8,2,   34.97,2,    0.00,2,    2.41,2,   0.042,2,   0.030,2,   0.0000,2,  2293.3,6,  2383.0,2,   7.5741,2,    25.00, -999.00,9, -999.00,9, -999.00,  -999.0,9, -999.00,9,     -999.0,9,  -999.0,9, 20170910,      328, -32.5001,-114.7453,        0.0,1,      0.062,1,      4.692,1,      0.129,1,     -999.0,9,     -999.0,9,     -999.0,9,     -999.0,9,     -999.0,9,     -999.0,9,     -999.0,9,     -999.0,9,     -999.0,9,     -999.0,9,     -999.0,9,     2.0732,2,     -999.0,     -999.0,9,     -999.0
320620170820,        P06,     185,          1,          7,          7,2,20170910,       0307,   -32.5002,  -114.7453,       2870,  1886.1,   2.1927,  34.6260,2,  34.6262,2, 156.9652,2, 157.4049,2,   104.3,2,   34.83,2,    0.00,2,    2.39,2,   0.048,2,   0.033,2,   0.0000,2,  2286.4,2,  2378.0,2,   7.5721,2,    25.00, -999.00,9, -999.00,9, -999.00,  -999.0,9, -999.00,9,     -999.0,9,  -999.0,9, 20170910,      331, -32.5001,-114.7452,        0.0,1,      0.061,1,      4.693,1,      0.128,1,     -999.0,9,     -999.0,9,     -999.0,9,     -999.0,9,     -999.0,9,     -999.0,9,     -999.0,9,     -999.0,9,     -999.0,9,     -999.0,9,     -999.0,9,     2.1760,2,     -999.0,     -999.0,9,     -999.0
320620170820,        P06,     185,          1,          8,          8,2,20170910,       0307,   -32.5002,  -114.7453,       2870,  1784.0,   2.2846,  34.6140,2,  34.6158,2, 158.5283,2, 159.2633,2,    98.3,2,   34.83,2,    0.00,2,    2.38,2,   0.064,2,   0.041,2,   0.0000,2,  2280.4,2,  2370.1,2,   7.5697,2,    25.00, -999.00,9, -999.00,9, -999.00,  -999.0,9, -999.00,9,     -999.0,9,  -999.0,9, 20170910,      334, -32.5001,-114.7453,        0.0,1,      0.061,1,      4.692,1,      0.129,1,     -999.0,9,     -999.0,9,     -999.0,9,     -999.0,9,     -999.0,9,     -999.0,9,     -999.0,9,     -999.0,9,     -999.0,9,     -999.0,9,     -999.0,9,     2.2674,2,     -999.0,     -999.0,9,     -999.0
320620170820,        P06,     185,          1,          9,          9,2,20170910,       0307,   -32.5002,  -114.7453,       2870,  1681.6,   2.3660,  34.6008,2,  34.6018,2, 159.7563,2, 159.8289,2,    93.0,2,   34.76,2,    0.00,2,    2.37,2,   0.072,2,   0.046,2,   0.0000,2,  2275.2,2,  2360.7,2,   7.5672,2,    25.00, -999.00,9, -999.00,9, -999.00,  -999.0,9, -999.00,9,     -999.0,9,  -999.0,9, 20170910,      337, -32.5000,-114.7453,        0.0,1,      0.062,1,      4.692,1,      0.128,1,     -999.0,9,     -999.0,9,     -999.0,9,     -999.0,9,     -999.0,9,     -999.0,9,     -999.0,9,     -999.0,9,     -999.0,9,     -999.0,9,     -999.0,9,     2.3586,2,     -999.0,     -999.0,9,     -999.0
320620170820,        P06,     185,          1,         10,         10,2,20170910,       0307,   -32.5002,  -114.7453,       2870,  1582.0,   2.5530,  34.5653,2,  34.5690,2, 161.2995,2, 161.3694,2,    84.2,2,   34.79,2,    0.00,2,    2.37,2,   0.098,2,   0.060,2,   0.0000,2,  2266.6,2,  2350.9,2,   7.5630,2,    25.00, -999.00,9, -999.00,9, -999.00,  -999.0,9, -999.00,9,     -999.0,9,  -999.0,9, 20170910,      339, -32.4999,-114.7454,        0.0,1,      0.061,1,      4.692,1,      0.129,1,     -999.0,9,     -999.0,9,     -999.0,9,     -999.0,9,     -999.0,9,     -999.0,9,     -999.0,9,     -999.0,9,     -999.0,9,     -999.0,9,     -999.0,9,     2.5415,2,     -999.0,     -999.0,9,     -999.0
320620170820,        P06,     185,          1,         11,         11,2,20170910,       0307,   -32.5002,  -114.7453,       2870,  1479.3,   2.7812,  34.5231,2,  34.5274,2, 161.3268,2, 160.4585,2,    76.2,2,   35.02,2,    0.00,2,    2.39,2,   0.129,2,   0.076,2,   0.0010,2,  2261.5,2,  2342.0,2,   7.5584,6,    25.00, -999.00,9, -999.00,9, -999.00,  -999.0,9, -999.00,9,     -999.0,9,  -999.0,9, 20170910,      342, -32.4998,-114.7454,        0.0,1,      0.061,1,      4.693,1,      0.130,1,     -999.0,9,     -999.0,9,     -999.0,9,     -999.0,9,     -999.0,9,     -999.0,9,     -999.0,9,     -999.0,9,     -999.0,9,     -999.0,9,     -999.0,9,     2.7485,2,     -999.0,     -999.0,9,     -999.0
320620170820,        P06,     185,          1,         12,         12,2,20170910,       0307,   -32.5002,  -114.7453,       2870,  1378.2,   3.0312,  34.4840,2,  34.4919,2, 158.7791,2, 158.2834,2,    70.1,2,   35.37,2,    0.00,2,    2.40,2,   0.152,2,   0.085,2,   0.0200,2,  2256.3,2,  2336.7,2,   7.5514,2,    25.00, -999.00,9, -999.00,9, -999.00,  -999.0,9, -999.00,9,     -999.0,9,  -999.0,9, 20170910,      345, -32.4999,-114.7454,        0.0,1,      0.061,1,      4.693,1,      0.130,1,     -999.0,9,     -999.0,9,     -999.0,9,     -999.0,9,     -999.0,9,     -999.0,9,     -999.0,9,     -999.0,9,     -999.0,9,     -999.0,9,     -999.0,9,     2.9671,2,     -999.0,     -999.0,9,     -999.0
320620170820,        P06,     185,          1,         13,         13,2,20170910,       0307,   -32.5002,  -114.7453,       2870,  1174.5,   3.6550,  34.3874,2,  34.3884,2, 166.7632,2,  166.826,2,    49.9,2,   34.74,2,    0.00,2,    2.37,2,   0.293,2,   0.166,2,   0.0420,2,  2232.1,2,  2314.5,2,   7.5618,2,    25.00, -999.00,9, -999.00,9, -999.00,  -999.0,9, -999.00,9,     -999.0,9,  -999.0,9, 20170910,      350, -32.5001,-114.7453,        0.0,1,      0.061,1,      4.693,1,      0.130,1,     -999.0,9,     -999.0,9,     -999.0,9,     -999.0,9,     -999.0,9,     -999.0,9,     -999.0,9,     -999.0,9,     -999.0,9,     -999.0,9,     -999.0,9,     3.6268,2,     -999.0,     -999.0,9,     -999.0
320620170820,        P06,     185,          1,         14,         14,2,20170910,       0307,   -32.5002,  -114.7453,       2870,   973.5,   4.6061,  34.3038,2,  34.3029,2,  205.758,2, 205.4493,2,    26.5,2,   30.32,2,    0.00,2,    2.04,2,   1.361,2,   0.675,2,   0.1460,2,  2188.7,2,  2291.1,2,   7.6272,2,    25.00, -999.00,9, -999.00,9, -999.00,  -999.0,9, -999.00,9,     -999.0,9,  -999.0,9, 20170910,      354, -32.5001,-114.7453,        0.0,1,      0.061,1,      4.692,1,      0.131,1,     -999.0,9,     -999.0,9,     -999.0,9,     -999.0,9,     -999.0,9,     -999.0,9,     -999.0,9,     -999.0,9,     -999.0,9,     -999.0,9,     -999.0,9,     4.5852,2,     -999.0,     -999.0,9,     -999.0
320620170820,        P06,     185,          1,         15,         15,2,20170910,       0307,   -32.5002,  -114.7453,       2870,   872.2,   5.1820,  34.2859,2,  34.2834,2, 221.4813,2, 221.4552,2,    17.9,2,   28.00,2,    0.00,2,    1.89,2,   2.068,2,   1.032,2,   0.3360,2,  2171.4,2,  2284.2,6,   7.6585,2,    25.00, -999.00,9, -999.00,9, -999.00,  -999.0,9, -999.00,9,     -999.0,9,  -999.0,9, 20170910,      357, -32.5001,-114.7453,        0.0,1,      0.059,1,      4.693,1,      0.129,1,     -999.0,9,     -999.0,9,     -999.0,9,     -999.0,9,     -999.0,9,     -999.0,9,     -999.0,9,     -999.0,9,     -999.0,9,     -999.0,9,     -999.0,9,     5.1752,2,     -999.0,     -999.0,9,     -999.0
320620170820,        P06,     185,          1,         16,         16,2,20170910,       0307,   -32.5002,  -114.7453,       2870,   769.6,   5.6545,  34.2851,2,  34.2825,2,  234.107,2, 235.0222,2,    12.1,2,   25.82,2,    0.00,2,    1.72,2,   2.808,2,   1.415,2,   0.5370,2,  2157.1,2,  2280.4,2,   7.6820,2,    25.00, -999.00,9, -999.00,9, -999.00,  -999.0,9, -999.00,9,     -999.0,9,  -999.0,9, 20170910,      400, -32.5001,-114.7453,        0.0,1,      0.060,1,      4.692,1,      0.129,1,     -999.0,9,     -999.0,9,     -999.0,9,     -999.0,9,     -999.0,9,     -999.0,9,     -999.0,9,     -999.0,9,     -999.0,9,     -999.0,9,     -999.0,9,     5.6547,2,     -999.0,     -999.0,9,     -999.0
320620170820,        P06,     185,          1,         17,         17,2,20170910,       0307,   -32.5002,  -114.7453,       2870,   670.3,   6.1025,  34.3010,2,  34.2997,2, 244.4974,2,  244.119,2,     8.9,2,   23.93,2,    0.00,2,    1.60,2,   3.410,2,   1.752,2,   0.8700,2,  2149.5,2,  2278.0,2,   7.6997,2,    25.00, -999.00,9, -999.00,9, -999.00,  -999.0,9, -999.00,9,     -999.0,9,  -999.0,9, 20170910,      403, -32.5001,-114.7453,        0.0,1,      0.059,1,      4.691,1,      0.130,1,     -999.0,9,     -999.0,9,     -999.0,9,     -999.0,9,     -999.0,9,     -999.0,9,     -999.0,9,     -999.0,9,     -999.0,9,     -999.0,9,     -999.0,9,     6.1535,2,     -999.0,     -999.0,9,     -999.0
320620170820,        P06,     185,          1,         18,         18,2,20170910,       0307,   -32.5002,  -114.7453,       2870,   568.0,   6.5825,  34.3280,2,  34.3280,2, 248.1756,2, 248.3392,2,     6.7,2,   22.32,2,    0.00,2,    1.50,2,   3.583,2,   1.932,2,   1.0440,2,  2145.6,2,  2278.0,2,   7.7097,2,    25.00, -999.00,9, -999.00,9, -999.00,  -999.0,9, -999.00,9,     -999.0,9,  -999.0,9, 20170910,      405, -32.5002,-114.7452,        0.0,1,      0.059,1,      4.690,1,      0.134,1,     -999.0,9,     -999.0,9,     -999.0,9,     -999.0,9,     -999.0,9,     -999.0,9,     -999.0,9,     -999.0,9,     -999.0,9,     -999.0,9,     -999.0,9,     6.6325,2,     -999.0,     -999.0,9,     -999.0
320620170820,        P06,     185,          1,         19,         19,2,20170910,       0307,   -32.5002,  -114.7453,       2870,   487.7,   6.9764,  34.3509,2,  34.3501,2, 250.2583,2, 250.1537,2,     5.5,2,   21.07,2,    0.00,2,    1.41,2,   3.648,2,   2.012,2,   1.3490,2,  2142.1,6,  2277.1,2,   7.7163,6,    25.00, -999.00,9, -999.00,9, -999.00,  -999.0,9, -999.00,9,     -999.0,9,  -999.0,9, 20170910,      408, -32.5003,-114.7452,        0.0,1,      0.059,1,      4.690,1,      0.134,1,     -999.0,9,     -999.0,9,     -999.0,9,     -999.0,9,     -999.0,9,     -999.0,9,     -999.0,9,     -999.0,9,     -999.0,9,     -999.0,9,     -999.0,9,     7.0269,2,     -999.0,     -999.0,9,     -999.0
320620170820,        P06,     185,          1,         20,         20,2,20170910,       0307,   -32.5002,  -114.7453,       2870,   436.3,   7.2133,  34.3565,2,  34.3552,2, 238.6186,2, 245.9388,2,     4.9,2,   20.48,2,    0.00,2,    1.38,2,   3.573,2,   1.974,2,   1.3680,2,  2140.5,2,  2277.2,2,   7.7161,2,    25.00, -999.00,9, -999.00,9, -999.00,  -999.0,9, -999.00,9,     -999.0,9,  -999.0,9, 20170910,      410, -32.5002,-114.7452,        0.0,1,      0.057,1,      4.689,1,      0.134,1,     -999.0,9,     -999.0,9,     -999.0,9,     -999.0,9,     -999.0,9,     -999.0,9,     -999.0,9,     -999.0,9,     -999.0,9,     -999.0,9,     -999.0,9,     7.3039,2,     -999.0,     -999.0,9,     -999.0
320620170820,        P06,     185,          1,         21,         21,2,20170910,       0307,   -32.5002,  -114.7453,       2870,   366.7,   8.0897,  34.3514,2,  34.3486,2, 227.6133,2, 227.6431,2,     4.0,2,   19.50,2,    0.00,2,    1.34,2,   3.476,2,   1.842,2,   1.1860,2,  2138.3,2,  2274.7,2,   7.7165,2,    25.00, -999.00,9, -999.00,9, -999.00,  -999.0,9, -999.00,9,     -999.0,9,  -999.0,9, 20170910,      412, -32.5001,-114.7453,        0.0,1,      0.060,1,      4.688,1,      0.133,1,     -999.0,9,     -999.0,9,     -999.0,9,     -999.0,9,     -999.0,9,     -999.0,9,     -999.0,9,     -999.0,9,     -999.0,9,     -999.0,9,     -999.0,9,     8.1984,2,     -999.0,     -999.0,9,     -999.0
320620170820,        P06,     185,          1,         22,         22,2,20170910,       0307,   -32.5002,  -114.7453,       2870,   286.4,  10.3659,  34.4638,2,  34.4597,2,  220.493,2, 220.2788,2,     1.8,2,   14.09,2,    0.00,2,    1.00,2,   3.139,2,   1.757,2,   1.3070,2,  2120.6,2,  2276.2,2,   7.7683,2,    25.00, -999.00,9, -999.00,9, -999.00,  -999.0,9, -999.00,9,     -999.0,9,  -999.0,9, 20170910,      415, -32.5001,-114.7453,        0.0,1,      0.059,1,      4.685,1,      0.133,1,     -999.0,9,     -999.0,9,     -999.0,9,     -999.0,9,     -999.0,9,     -999.0,9,     -999.0,9,     -999.0,9,     -999.0,9,     -999.0,9,     -999.0,9,    10.4003,2,     -999.0,     -999.0,9,     -999.0
320620170820,        P06,     185,          1,         23,         23,2,20170910,       0307,   -32.5002,  -114.7453,       2870,   240.2,  11.9960,  34.6044,2,  34.5796,2, 217.8802,2, 218.3948,2,     1.0,2,   10.60,2,    0.00,2,    0.78,2,   2.932,2,   1.680,2,   1.3580,2,  2108.9,2,  2281.8,4,   7.8036,3,    25.00, -999.00,9, -999.00,9, -999.00,  -999.0,9, -999.00,9,     -999.0,9,  -999.0,9, 20170910,      417, -32.5001,-114.7453,        0.0,1,      0.060,1,      4.683,1,      0.132,1,     -999.0,9,     -999.0,9,     -999.0,9,     -999.0,9,     -999.0,9,     -999.0,9,     -999.0,9,     -999.0,9,     -999.0,9,     -999.0,9,     -999.0,9,    11.7554,2,     -999.0,     -999.0,9,     -999.0
320620170820,        P06,     185,          1,         24,         24,2,20170910,       0307,   -32.5002,  -114.7453,       2870,   216.6,  12.5052,  34.5552,2,  34.5284,2, 225.6546,2, 225.2892,2,     0.6,2,    8.89,2,    0.00,2,    0.68,2,   2.957,2,   1.633,2,   1.5990,2,  2098.4,2,  2277.3,4,   7.8194,3,    25.00, -999.00,9, -999.00,9, -999.00,  -999.0,9, -999.00,9,     -999.0,9,  -999.0,9, 20170910,      419, -32.5002,-114.7452,        0.0,1,      0.068,1,      4.679,1,      0.133,1,     -999.0,9,     -999.0,9,     -999.0,9,     -999.0,9,     -999.0,9,     -999.0,9,     -999.0,9,     -999.0,9,     -999.0,9,     -999.0,9,     -999.0,9,    12.2125,2,     -999.0,     -999.0,9,     -999.0
320620170820,        P06,     185,          1,         25,         25,2,20170910,       0307,   -32.5002,  -114.7453,       2870,   191.0,  13.1787,  34.5687,2,  34.5512,2, 229.9027,2, 229.8284,2,     0.2,2,    6.20,2,    0.05,2,    0.53,2,   2.758,2,   1.606,2,   1.7060,2,  2086.1,2,  2278.8,4,   7.8466,3,    25.00, -999.00,9, -999.00,9, -999.00,  -999.0,9, -999.00,9,     -999.0,9,  -999.0,9, 20170910,      421, -32.5002,-114.7452,        0.0,1,      0.079,1,      4.675,1,      0.139,1,     -999.0,9,     -999.0,9,     -999.0,9,     -999.0,9,     -999.0,9,     -999.0,9,     -999.0,9,     -999.0,9,     -999.0,9,     -999.0,9,     -999.0,9,    12.8999,2,     -999.0,     -999.0,9,     -999.0
320620170820,        P06,     185,          1,         26,         26,2,20170910,       0307,   -32.5002,  -114.7453,       2870,   170.4,  13.5617,  34.5832,2,  34.5734,2, 235.2917,2, 234.0813,2,     0.0,2,    4.14,2,    0.30,2,    0.41,2,   2.648,2,   1.591,2,   1.7460,2,  2079.5,2,  2279.5,4,   7.8651,3,    25.00, -999.00,9, -999.00,9, -999.00,  -999.0,9, -999.00,9,     -999.0,9,  -999.0,9, 20170910,      422, -32.5003,-114.7452,        0.0,1,      0.094,1,      4.671,1,      0.141,1,     -999.0,9,     -999.0,9,     -999.0,9,     -999.0,9,     -999.0,9,     -999.0,9,     -999.0,9,     -999.0,9,     -999.0,9,     -999.0,9,     -999.0,9,    13.5920,2,     -999.0,     -999.0,9,     -999.0