BOTTLE,20240211CCHSIOCBG
EXPOCODE,SECT_ID,STNNBR,CASTNO,SAMPNO,BTLNBR,BTLNBR_FLAG_W,DATE,TIME,LATITUDE,LONGITUDE,DEPTH,CTDPRS,CTDTMP,CTDSAL,CTDSAL_FLAG_W,SALNTY,SALNTY_FLAG_W,CTDOXY,CTDOXY_FLAG_W,OXYGEN,OXYGEN_FLAG_W,SILCAT,SILCAT_FLAG_W,NITRAT,NITRAT_FLAG_W,NITRIT,NITRIT_FLAG_W,PHSPHT,PHSPHT_FLAG_W,CFC-11,CFC-11_FLAG_W,CFC-12,CFC-12_FLAG_W,SF6,SF6_FLAG_W,TCARBN,TCARBN_FLAG_W,ALKALI,ALKALI_FLAG_W,PH_TOT,PH_TOT_FLAG_W,PH_TMP,DELC13,DELC13_FLAG_W,DELC14,DELC14_FLAG_W,C14ERR,DOC,DOC_FLAG_W,TDN,TDN_FLAG_W,TON,TON_FLAG_W,D15N_NO3,D15N_NO3_FLAG_W,BTL_DATE,BTL_TIME,BTL_LAT,BTL_LON,CTDRINKO,CTDRINKO_FLAG_W,CTDFLUOR,CTDFLUOR_FLAG_W,CTDXMISS,CTDXMISS_FLAG_W,CTDBACKSCATTER,CTDBACKSCATTER_FLAG_W,D18O_NO3,D18O_NO3_FLAG_W,DOP,DOP_FLAG_W,CELLCOUNT,CELLCOUNT_FLAG_W,TDP,TDP_FLAG_W,POP,POP_FLAG_W,DATP,DATP_FLAG_W,PATP,PATP_FLAG_W,HPLC,HPLC_FLAG_W,POC,POC_FLAG_W,BEAMAP,BEAMAP_FLAG_W,DOC_NASA,DOC_NASA_FLAG_W,REFTMP,REFTMP_FLAG_W,DOC_NASA_ERROR,TDN_NASA,TDN_NASA_FLAG_W,TDN_NASA_ERROR
,,,,,,,,,,,METERS,DBAR,ITS-90,PSS-78,,PSS-78,,UMOL/KG,,UMOL/KG,,UMOL/KG,,UMOL/KG,,UMOL/KG,,UMOL/KG,,PMOL/KG,,PMOL/KG,,FMOL/KG,,UMOL/KG,,UMOL/KG,,,,DEG C,/MILLE,,/MILLE,,/MILLE,UMOL/KG,,UMOL/KG,,UMOL/KG,,/MILLE,,,,,,VOLTS,,VOLTS,,VOLTS,,VOLTS,,/MILLE,,UMOL/KG,,/LITER,,UMOL/KG,,UMOL/L,,PMOL/L,,PMOL/L,,,,UG/L,,/METER,,UMOL/L,,ITS-90,,UMOL/L,UMOL/L,,UMOL/L
320620170820,        P06,     219,          1,          1,          1,2,20170920,       1523,   -32.4999,   -88.2049,       3693,  3741.3,   1.6840,  34.6945,2,  34.6952,2, 165.0666,2, 164.9245,2,   121.4,2,   34.53,2,    0.00,2,    2.39,2,   0.013,2,   0.013,2,-999.0000,5,  2302.4,6,  2397.0,2,   7.5894,2,    25.00, -999.00,9, -999.00,9, -999.00,  -999.0,9, -999.00,9,     -999.0,9,  -999.0,1, 20170920,     1523, -32.5007, -88.2046,        0.0,1,      0.061,1,      4.680,1,      0.138,1,     -999.0,1,     -999.0,9,     -999.0,9,     -999.0,9,     -999.0,9,     -999.0,9,     -999.0,9,     -999.0,9,     -999.0,9,     -999.0,9,     -999.0,9,     1.6846,2,     -999.0,     -999.0,9,     -999.0
320620170820,        P06,     219,          1,          2,          2,2,20170920,       1523,   -32.4999,   -88.2049,       3693,  3540.5,   1.6701,  34.6945,2,  34.6928,2, 165.0666,2, 165.2762,2,   120.8,2,   34.51,2,    0.00,2,    2.37,2,   0.015,2,   0.017,2,-999.0000,5,  2302.0,2,  2397.3,2,   7.5881,2,    25.00, -999.00,9, -999.00,9, -999.00,  -999.0,9, -999.00,9,     -999.0,9,  -999.0,1, 20170920,     1527, -32.5006, -88.2046,        0.0,1,      0.061,1,      4.682,1,      0.134,1,     -999.0,1,     -999.0,9,     -999.0,9,     -999.0,9,     -999.0,9,     -999.0,9,     -999.0,9,     -999.0,9,     -999.0,9,     -999.0,9,     -999.0,9,     1.6701,2,     -999.0,     -999.0,9,     -999.0
320620170820,        P06,     219,          1,          3,          3,2,20170920,       1523,   -32.4999,   -88.2049,       3693,  3350.0,   1.6808,  34.6933,2,  34.6920,2, 164.9071,2, 165.0042,2,   120.4,2,   34.46,2,    0.00,2,    2.37,2,   0.017,2,   0.016,2,-999.0000,5,  2301.4,2,  2394.2,2,   7.5836,2,    25.00, -999.00,9, -999.00,9, -999.00,  -999.0,9, -999.00,9,     -999.0,9,  -999.0,1, 20170920,     1531, -32.5005, -88.2047,        0.0,1,      0.061,1,      4.685,1,      0.128,1,     -999.0,1,     -999.0,9,     -999.0,9,     -999.0,9,     -999.0,9,     -999.0,9,     -999.0,9,     -999.0,9,     -999.0,9,     -999.0,9,     -999.0,9,     1.6806,2,     -999.0,     -999.0,9,     -999.0
320620170820,        P06,     219,          1,          4,          4,2,20170920,       1523,   -32.4999,   -88.2049,       3693,  3042.4,   1.7428,  34.6880,2,  34.6865,2, 164.7321,2, 164.3185,2,   119.0,2,   34.48,2,    0.00,2,    2.38,2,-999.000,9,-999.000,9,-999.0000,9,  -999.0,9,  -999.0,9,-999.0000,9,  -999.00, -999.00,9, -999.00,9, -999.00,  -999.0,9, -999.00,9,     -999.0,9,  -999.0,1, 20170920,     1537, -32.5006, -88.2046,        0.0,1,      0.061,1,      4.686,1,      0.128,1,     -999.0,1,     -999.0,9,     -999.0,9,     -999.0,9,     -999.0,9,     -999.0,9,     -999.0,9,     -999.0,9,     -999.0,9,     -999.0,9,     -999.0,9,     1.7394,2,     -999.0,     -999.0,9,     -999.0
320620170820,        P06,     219,          1,          5,          5,2,20170920,       1523,   -32.4999,   -88.2049,       3693,  2836.6,   1.7847,  34.6833,2,  34.6816,2, 163.1632,2, 162.9787,2,   118.2,2,   34.57,2,    0.00,2,    2.39,2,   0.014,2,   0.017,2,-999.0000,5,  2296.8,2,  2389.1,2,   7.5825,2,    25.00, -999.00,9, -999.00,9, -999.00,  -999.0,9, -999.00,9,     -999.0,9,  -999.0,1, 20170920,     1542, -32.5007, -88.2045,        0.0,1,      0.061,1,      4.686,1,      0.129,1,     -999.0,1,     -999.0,9,     -999.0,9,     -999.0,9,     -999.0,9,     -999.0,9,     -999.0,9,     -999.0,9,     -999.0,9,     -999.0,9,     -999.0,9,     1.7842,2,     -999.0,     -999.0,9,     -999.0
320620170820,        P06,     219,          1,          6,          6,2,20170920,       1523,   -32.4999,   -88.2049,       3693,  2633.1,   1.8282,  34.6774,2,  34.6753,2, 161.2925,2, 161.5625,2,   116.9,2,   34.63,2,    0.00,2,    2.38,2,-999.000,9,-999.000,9,-999.0000,9,  -999.0,9,  -999.0,9,-999.0000,9,  -999.00, -999.00,9, -999.00,9, -999.00,  -999.0,9, -999.00,9,     -999.0,9,  -999.0,1, 20170920,     1546, -32.5007, -88.2046,        0.0,1,      0.061,1,      4.686,1,      0.130,1,     -999.0,1,     -999.0,9,     -999.0,9,     -999.0,9,     -999.0,9,     -999.0,9,     -999.0,9,     -999.0,9,     -999.0,9,     -999.0,9,     -999.0,9,     1.8249,2,     -999.0,     -999.0,9,     -999.0
320620170820,        P06,     219,          1,          7,          7,2,20170920,       1523,   -32.4999,   -88.2049,       3693,  2430.6,   1.9066,  34.6668,2,  34.6651,2, 158.3911,2, 158.6783,2,   115.1,2,   34.87,2,    0.00,2,    2.42,2,   0.018,2,   0.020,2,-999.0000,5,  2297.1,2,  2386.8,6,   7.5751,2,    25.00, -999.00,9, -999.00,9, -999.00,  -999.0,9, -999.00,9,     -999.0,9,  -999.0,1, 20170920,     1550, -32.5006, -88.2046,        0.0,1,      0.061,1,      4.686,1,      0.130,1,     -999.0,1,     -999.0,9,     -999.0,9,     -999.0,9,     -999.0,9,     -999.0,9,     -999.0,9,     -999.0,9,     -999.0,9,     -999.0,9,     -999.0,9,     1.9051,2,     -999.0,     -999.0,9,     -999.0
320620170820,        P06,     219,          1,          8,          8,2,20170920,       1523,   -32.4999,   -88.2049,       3693,  2226.9,   2.0412,  34.6499,2,  34.6478,2, 153.1452,2, 153.0755,2,   112.7,2,   35.36,2,    0.00,2,    2.46,2,-999.000,9,-999.000,9,-999.0000,9,  -999.0,9,  -999.0,9,-999.0000,9,  -999.00, -999.00,9, -999.00,9, -999.00,  -999.0,9, -999.00,9,     -999.0,9,  -999.0,1, 20170920,     1555, -32.5005, -88.2047,        0.0,1,      0.061,1,      4.686,1,      0.132,1,     -999.0,1,     -999.0,9,     -999.0,9,     -999.0,9,     -999.0,9,     -999.0,9,     -999.0,9,     -999.0,9,     -999.0,9,     -999.0,9,     -999.0,9,     2.0418,2,     -999.0,     -999.0,9,     -999.0
320620170820,        P06,     219,          1,          9,          9,2,20170920,       1523,   -32.4999,   -88.2049,       3693,  2022.6,   2.2162,  34.6313,2,  34.6295,2, 145.6308,2, 145.7779,2,   109.9,2,   35.97,2,    0.00,2,    2.49,2,   0.013,2,   0.017,2,-999.0000,5,  2299.0,2,  2381.7,2,   7.5561,2,    25.00, -999.00,9, -999.00,9, -999.00,  -999.0,9, -999.00,9,     -999.0,9,  -999.0,1, 20170920,     1600, -32.5004, -88.2047,        0.0,1,      0.062,1,      4.685,1,      0.133,1,     -999.0,1,     -999.0,9,     -999.0,9,     -999.0,9,     -999.0,9,     -999.0,9,     -999.0,9,     -999.0,9,     -999.0,9,     -999.0,9,     -999.0,9,     2.2159,2,     -999.0,     -999.0,9,     -999.0
320620170820,        P06,     219,          1,         10,         10,2,20170920,       1523,   -32.4999,   -88.2049,       3693,  1820.4,   2.4453,  34.6112,2,  34.6089,2, 135.9255,2, 136.0053,2,   106.0,2,   36.84,2,    0.00,2,    2.57,2,-999.000,9,-999.000,9,-999.0000,9,  -999.0,9,  -999.0,9,-999.0000,9,  -999.00, -999.00,9, -999.00,9, -999.00,  -999.0,9, -999.00,9,     -999.0,9,  -999.0,1, 20170920,     1605, -32.5003, -88.2048,        0.0,1,      0.062,1,      4.685,1,      0.132,1,     -999.0,1,     -999.0,9,     -999.0,9,     -999.0,9,     -999.0,9,     -999.0,9,     -999.0,9,     -999.0,9,     -999.0,9,     -999.0,9,     -999.0,9,     2.4495,2,     -999.0,     -999.0,9,     -999.0
320620170820,        P06,     219,          1,         11,         11,2,20170920,       1523,   -32.4999,   -88.2049,       3693,  1616.9,   2.7226,  34.5882,2,  34.5851,2,  126.169,2, 126.1817,2,   100.2,2,   37.65,2,    0.00,2,    2.63,2,   0.027,2,   0.024,2,-999.0000,5,  2299.8,2,  2371.5,2,   7.5182,2,    25.00, -999.00,9, -999.00,9, -999.00,  -999.0,9, -999.00,9,     -999.0,9,  -999.0,1, 20170920,     1610, -32.5002, -88.2048,        0.0,1,      0.062,1,      4.685,1,      0.133,1,     -999.0,1,     -999.0,9,     -999.0,9,     -999.0,9,     -999.0,9,     -999.0,9,     -999.0,9,     -999.0,9,     -999.0,9,     -999.0,9,     -999.0,9,     2.7287,2,     -999.0,     -999.0,9,     -999.0
320620170820,        P06,     219,          1,         12,         12,2,20170920,       1523,   -32.4999,   -88.2049,       3693,  1516.0,   2.8770,  34.5743,2,  34.5720,2, 122.5158,2, 122.4019,2,    96.4,2,   37.90,2,    0.00,2,    2.66,2,-999.000,9,-999.000,9,-999.0000,9,  -999.0,9,  -999.0,9,-999.0000,9,  -999.00, -999.00,9, -999.00,9, -999.00,  -999.0,9, -999.00,9,     -999.0,9,  -999.0,1, 20170920,     1614, -32.5001, -88.2049,        0.0,1,      0.062,1,      4.685,1,      0.132,1,     -999.0,1,     -999.0,9,     -999.0,9,     -999.0,9,     -999.0,9,     -999.0,9,     -999.0,9,     -999.0,9,     -999.0,9,     -999.0,9,     -999.0,9,     2.8757,2,     -999.0,     -999.0,9,     -999.0
320620170820,        P06,     219,          1,         13,         13,2,20170920,       1523,   -32.4999,   -88.2049,       3693,  1414.2,   3.0313,  34.5591,2,  34.5569,2, 119.3048,2, 118.9958,2,    92.0,2,   38.19,2,    0.00,2,    2.69,2,   0.017,2,   0.018,2,-999.0000,5,  2297.7,2,  2359.7,2,   7.5062,2,    25.00, -999.00,9, -999.00,9, -999.00,  -999.0,9, -999.00,9,     -999.0,9,  -999.0,1, 20170920,     1617, -32.5000, -88.2049,        0.0,1,      0.062,1,      4.685,1,      0.134,1,     -999.0,1,     -999.0,9,     -999.0,9,     -999.0,9,     -999.0,9,     -999.0,9,     -999.0,9,     -999.0,9,     -999.0,9,     -999.0,9,     -999.0,9,     3.0265,2,     -999.0,     -999.0,9,     -999.0
320620170820,        P06,     219,          1,         14,         14,2,20170920,       1523,   -32.4999,   -88.2049,       3693,  1210.8,   3.3933,  34.5031,2,  34.5058,2,  116.748,2, 116.7269,2,    78.1,2,   38.61,2,    0.00,2,    2.69,2,   0.034,2,   0.029,2,-999.0000,5,  2285.5,6,  2345.6,2,   7.4948,2,    25.00, -999.00,9, -999.00,9, -999.00,  -999.0,9, -999.00,9,     -999.0,9,  -999.0,1, 20170920,     1622, -32.4999, -88.2050,        0.0,1,      0.062,1,      4.684,1,      0.135,1,     -999.0,1,     -999.0,9,     -999.0,9,     -999.0,9,     -999.0,9,     -999.0,9,     -999.0,9,     -999.0,9,     -999.0,9,     -999.0,9,     -999.0,9,     3.3727,2,     -999.0,     -999.0,9,     -999.0
320620170820,        P06,     219,          1,         15,         15,2,20170920,       1523,   -32.4999,   -88.2049,       3693,  1109.5,   3.5391,  34.4525,2,  34.4587,2, 125.8727,2, 126.3685,2,    66.9,2,   38.08,2,    0.00,2,    2.65,2,   0.067,2,   0.043,2,-999.0000,5,  2271.4,2,  2331.4,2,   7.4992,2,    25.00, -999.00,9, -999.00,9, -999.00,  -999.0,9, -999.00,9,     -999.0,9,  -999.0,1, 20170920,     1625, -32.4997, -88.2051,        0.0,1,      0.061,1,      4.685,1,      0.137,1,     -999.0,1,     -999.0,9,     -999.0,9,     -999.0,9,     -999.0,9,     -999.0,9,     -999.0,9,     -999.0,9,     -999.0,9,     -999.0,9,     -999.0,9,     3.5142,2,     -999.0,     -999.0,9,     -999.0
320620170820,        P06,     219,          1,         16,         16,2,20170920,       1523,   -32.4999,   -88.2049,       3693,  1007.8,   3.8247,  34.3823,2,  34.3890,2, 149.5001,2,  148.588,2,    51.0,2,   36.34,2,    0.00,2,    2.50,2,   0.278,2,   0.140,2,-999.0000,5,  -999.0,9,  -999.0,9,-999.0000,9,  -999.00, -999.00,9, -999.00,9, -999.00,  -999.0,9, -999.00,9,     -999.0,9,  -999.0,1, 20170920,     1629, -32.4997, -88.2052,        0.0,1,      0.061,1,      4.684,1,      0.136,1,     -999.0,1,     -999.0,9,     -999.0,9,     -999.0,9,     -999.0,9,     -999.0,9,     -999.0,9,     -999.0,9,     -999.0,9,     -999.0,9,     -999.0,9,     3.7873,2,     -999.0,     -999.0,9,     -999.0
320620170820,        P06,     219,          1,         17,         17,2,20170920,       1523,   -32.4999,   -88.2049,       3693,   907.4,   4.2322,  34.3308,2,  34.3207,2, 171.5278,2, 172.2599,2,    36.4,2,   34.14,2,    0.00,2,    2.34,2,   0.792,2,   0.390,2,-999.0000,5,  2218.9,2,  2297.8,2,   7.5634,6,    25.00, -999.00,9, -999.00,9, -999.00,  -999.0,9, -999.00,9,     -999.0,9,  -999.0,1, 20170920,     1632, -32.4997, -88.2052,        0.0,1,      0.060,1,      4.685,1,      0.137,1,     -999.0,1,     -999.0,9,     -999.0,9,     -999.0,9,     -999.0,9,     -999.0,9,     -999.0,9,     -999.0,9,     -999.0,9,     -999.0,9,     -999.0,9,     4.1918,2,     -999.0,     -999.0,9,     -999.0
320620170820,        P06,     219,          1,         18,         18,2,20170920,       1523,   -32.4999,   -88.2049,       3693,   806.2,   4.6640,  34.2852,2,  34.2844,2, 198.3307,2, 197.1028,2,    25.0,2,   31.48,2,    0.00,2,    2.15,2,   1.574,2,   0.806,2,-999.0000,5,  -999.0,9,  -999.0,9,-999.0000,9,  -999.00, -999.00,9, -999.00,9, -999.00,  -999.0,9, -999.00,9,     -999.0,9,  -999.0,1, 20170920,     1635, -32.4997, -88.2052,        0.0,1,      0.060,1,      4.684,1,      0.137,1,     -999.0,1,     -999.0,9,     -999.0,9,     -999.0,9,     -999.0,9,     -999.0,9,     -999.0,9,     -999.0,9,     -999.0,9,     -999.0,9,     -999.0,9,     4.6509,2,     -999.0,     -999.0,9,     -999.0
320620170820,        P06,     219,          1,         19,         19,2,20170920,       1523,   -32.4999,   -88.2049,       3693,   705.4,   5.1023,  34.2540,2,  34.2515,2, 220.2832,2, 221.0191,2,    16.1,2,   28.65,2,    0.00,2,    1.93,2,   2.794,2,   1.290,2,-999.0000,5,  2173.6,2,  2280.4,2,   7.6393,2,    25.00, -999.00,9, -999.00,9, -999.00,  -999.0,9, -999.00,9,     -999.0,9,  -999.0,1, 20170920,     1638, -32.4997, -88.2052,        0.0,1,      0.059,1,      4.685,1,      0.135,1,     -999.0,1,     -999.0,9,     -999.0,9,     -999.0,9,     -999.0,9,     -999.0,9,     -999.0,9,     -999.0,9,     -999.0,9,     -999.0,9,     -999.0,9,     5.0851,2,     -999.0,     -999.0,9,     -999.0
320620170820,        P06,     219,          1,         20,         20,2,20170920,       1523,   -32.4999,   -88.2049,       3693,   604.3,   5.6048,  34.2526,2,  34.2493,2, 236.0266,2, 236.9974,2,    10.6,2,   26.19,2,    0.00,2,    1.74,2,   3.337,2,   1.712,2,-999.0000,5,  -999.0,9,  -999.0,9,-999.0000,9,  -999.00, -999.00,9, -999.00,9, -999.00,  -999.0,9, -999.00,9,     -999.0,9,  -999.0,1, 20170920,     1641, -32.4997, -88.2051,        0.0,1,      0.060,1,      4.684,1,      0.136,1,     -999.0,1,     -999.0,9,     -999.0,9,     -999.0,9,     -999.0,9,     -999.0,9,     -999.0,9,     -999.0,9,     -999.0,9,     -999.0,9,     -999.0,9,     5.6040,2,     -999.0,     -999.0,9,     -999.0
320620170820,        P06,     219,          1,         21,         21,2,20170920,       1523,   -32.4999,   -88.2049,       3693,   503.3,   6.0914,  34.2741,2,  34.2685,2, 233.6005,2, 233.2843,2,     9.2,2,   25.41,2,    0.00,2,    1.70,2,   3.407,2,   1.790,2,-999.0000,5,  2159.1,2,  2273.9,2,   7.6648,2,    25.00, -999.00,9, -999.00,9, -999.00,  -999.0,9, -999.00,9,     -999.0,9,  -999.0,1, 20170920,     1644, -32.4997, -88.2051,        0.0,1,      0.060,1,      4.683,1,      0.138,1,     -999.0,1,     -999.0,9,     -999.0,9,     -999.0,9,     -999.0,9,     -999.0,9,     -999.0,9,     -999.0,9,     -999.0,9,     -999.0,9,     -999.0,9,     6.0501,2,     -999.0,     -999.0,9,     -999.0
320620170820,        P06,     219,          1,         22,         22,2,20170920,       1523,   -32.4999,   -88.2049,       3693,   452.1,   6.3934,  34.2855,2,  34.2807,2, 220.6711,2, 219.4582,2,     9.0,2,   25.71,2,    0.00,2,    1.74,2,   3.322,2,   1.699,2,-999.0000,5,  -999.0,9,  -999.0,9,-999.0000,9,  -999.00, -999.00,9, -999.00,9, -999.00,  -999.0,9, -999.00,9,     -999.0,9,  -999.0,1, 20170920,     1647, -32.4997, -88.2051,        0.0,1,      0.059,1,      4.681,1,      0.139,1,     -999.0,1,     -999.0,9,     -999.0,9,     -999.0,9,     -999.0,9,     -999.0,9,     -999.0,9,     -999.0,9,     -999.0,9,     -999.0,9,     -999.0,9,     6.4034,2,     -999.0,     -999.0,9,     -999.0
320620170820,        P06,     219,          1,         23,         23,2,20170920,       1523,   -32.4999,   -88.2049,       3693,   402.4,   6.8248,  34.2897,2,  34.2848,2, 194.2119,2, 194.9631,2,     9.6,2,   26.69,2,    0.00,2,    1.83,2,   3.234,2,   1.670,2,-999.0000,5,  2179.2,2,  2271.8,2,   7.6088,6,    25.00, -999.00,9, -999.00,9, -999.00,  -999.0,9, -999.00,9,     -999.0,9,  -999.0,1, 20170920,     1649, -32.4997, -88.2051,        0.0,1,      0.060,1,      4.680,1,      0.138,1,     -999.0,1,     -999.0,9,     -999.0,9,     -999.0,9,     -999.0,9,     -999.0,9,     -999.0,9,     -999.0,9,     -999.0,9,     -999.0,9,     -999.0,9,     6.8139,2,     -999.0,     -999.0,9,     -999.0
320620170820,        P06,     219,          1,         24,         24,2,20170920,       1523,   -32.4999,   -88.2049,       3693,   301.2,   8.5015,  34.2495,2,  34.2454,2, 188.6783,2, 188.7029,2,     6.5,2,   23.04,2,    0.00,2,    1.67,2,   3.124,2,   1.662,2,-999.0000,5,  2166.9,2,  2266.4,2,   7.6329,2,    25.00, -999.00,9, -999.00,9, -999.00,  -999.0,9, -999.00,9,     -999.0,9,  -999.0,1, 20170920,     1652, -32.4998, -88.2051,        0.0,1,      0.061,1,      4.678,1,      0.138,1,     -999.0,1,     -999.0,1,     -999.0,9,       1.75,2,     -999.0,9,     -999.0,9,     -999.0,9,     -999.0,9,     -999.0,9,     -999.0,9,     -999.0,9,     8.3978,2,     -999.0,     -999.0,9,     -999.0
320620170820,        P06,     219,          1,         25,         25,2,20170920,       1523,   -32.4999,   -88.2049,       3693,   251.1,   9.8961,  34.2297,2,  34.2238,2, 202.1995,2, 208.8759,2,     2.5,2,   18.15,2,    0.00,2,    1.29,2,-999.000,9,-999.000,9,-999.0000,9,  2130.3,2,  2262.4,2,   7.7121,2,    25.00, -999.00,9, -999.00,9, -999.00,  -999.0,9, -999.00,9,     -999.0,9,  -999.0,1, 20170920,     1654, -32.4998, -88.2051,        0.0,1,      0.061,1,      4.676,1,      0.138,1,     -999.0,1,     -999.0,1,     -999.0,9,       1.41,2,     -999.0,9,     -999.0,9,     -999.0,9,     -999.0,9,     -999.0,9,     -999.0,9,     -999.0,9,     9.9317,2,     -999.0,     -999.0,9,     -999.0
320620170820,        P06,     219,          1,         26,         26,2,20170920,       1523,   -32.4999,   -88.2049,       3693,   200.8,  11.6060,  34.1819,2,  34.1756,2, 216.0922,2, 215.9723,2,     0.7,2,   14.60,2,    0.00,2,    1.05,2,   2.937,2,   1.560,2,-999.0000,5,  2107.5,2,  2261.4,2,   7.7640,2,    25.00, -999.00,9, -999.00,9, -999.00,  -999.0,9, -999.00,9,     -999.0,9,  -999.0,1, 20170920,     1657, -32.4998, -88.2051,        0.0,1,      0.064,1,      4.671,1,      0.144,1,     -999.0,1,     -999.0,1,     -999.0,9,     -999.0,9,     -999.0,9,     -999.0,9,     -999.0,9,     -999.0,9,     -999.0,9,     -999.0,9,     -999.0,9,    11.4566,2,     -999.0,     -999.0,9,     -999.0