BOTTLE,20240211CCHSIOCBG
EXPOCODE,SECT_ID,STNNBR,CASTNO,SAMPNO,BTLNBR,BTLNBR_FLAG_W,DATE,TIME,LATITUDE,LONGITUDE,DEPTH,CTDPRS,CTDTMP,CTDSAL,CTDSAL_FLAG_W,SALNTY,SALNTY_FLAG_W,CTDOXY,CTDOXY_FLAG_W,OXYGEN,OXYGEN_FLAG_W,SILCAT,SILCAT_FLAG_W,NITRAT,NITRAT_FLAG_W,NITRIT,NITRIT_FLAG_W,PHSPHT,PHSPHT_FLAG_W,CFC-11,CFC-11_FLAG_W,CFC-12,CFC-12_FLAG_W,SF6,SF6_FLAG_W,TCARBN,TCARBN_FLAG_W,ALKALI,ALKALI_FLAG_W,PH_TOT,PH_TOT_FLAG_W,PH_TMP,DELC13,DELC13_FLAG_W,DELC14,DELC14_FLAG_W,C14ERR,DOC,DOC_FLAG_W,TDN,TDN_FLAG_W,TON,TON_FLAG_W,D15N_NO3,D15N_NO3_FLAG_W,BTL_DATE,BTL_TIME,BTL_LAT,BTL_LON,CTDRINKO,CTDRINKO_FLAG_W,CTDFLUOR,CTDFLUOR_FLAG_W,CTDXMISS,CTDXMISS_FLAG_W,CTDBACKSCATTER,CTDBACKSCATTER_FLAG_W,D18O_NO3,D18O_NO3_FLAG_W,DOP,DOP_FLAG_W,CELLCOUNT,CELLCOUNT_FLAG_W,TDP,TDP_FLAG_W,POP,POP_FLAG_W,DATP,DATP_FLAG_W,PATP,PATP_FLAG_W,HPLC,HPLC_FLAG_W,POC,POC_FLAG_W,BEAMAP,BEAMAP_FLAG_W,DOC_NASA,DOC_NASA_FLAG_W,REFTMP,REFTMP_FLAG_W,DOC_NASA_ERROR,TDN_NASA,TDN_NASA_FLAG_W,TDN_NASA_ERROR
,,,,,,,,,,,METERS,DBAR,ITS-90,PSS-78,,PSS-78,,UMOL/KG,,UMOL/KG,,UMOL/KG,,UMOL/KG,,UMOL/KG,,UMOL/KG,,PMOL/KG,,PMOL/KG,,FMOL/KG,,UMOL/KG,,UMOL/KG,,,,DEG C,/MILLE,,/MILLE,,/MILLE,UMOL/KG,,UMOL/KG,,UMOL/KG,,/MILLE,,,,,,VOLTS,,VOLTS,,VOLTS,,VOLTS,,/MILLE,,UMOL/KG,,/LITER,,UMOL/KG,,UMOL/L,,PMOL/L,,PMOL/L,,,,UG/L,,/METER,,UMOL/L,,ITS-90,,UMOL/L,UMOL/L,,UMOL/L
320620170820,        P06,     223,          1,         27,         27,2,20170922,       0127,   -32.4996,   -84.6453,       3921,   165.7,  14.8453,  34.4908,2,  34.2377,3, 217.9663,2, 222.3226,2,     0.4,2,    9.91,2,    0.07,2,    0.80,2,   2.792,2,   1.569,2,   1.6740,4,  2085.5,2,  2268.0,2,   7.8276,2,    25.00, -999.00,9, -999.00,9, -999.00,  -999.0,9, -999.00,9,     -999.0,9,  -999.0,9, 20170922,      259, -32.4997, -84.6451,        0.0,1,      0.117,1,      4.646,1,      0.195,1,     -999.0,9,     -999.0,9,     -999.0,9,     -999.0,9,     -999.0,9,     -999.0,9,     -999.0,9,     -999.0,9,     -999.0,9,     -999.0,9,     -999.0,9,    13.2339,2,     -999.0,     -999.0,9,     -999.0
320620170820,        P06,     223,          1,         28,         28,2,20170922,       0127,   -32.4996,   -84.6453,       3921,   134.8,  14.8651,  34.4961,2,  34.4911,2, 249.3663,2, 249.1556,2,     0.0,2,    2.47,2,    0.09,2,    0.36,2,   2.204,2,   1.403,2,   1.7920,4,  2057.3,2,  2285.5,2,   7.9179,2,    25.00, -999.00,9, -999.00,9, -999.00,  -999.0,9, -999.00,9,     -999.0,9,  -999.0,9, 20170922,      301, -32.4997, -84.6451,        0.0,1,      0.140,1,      4.642,1,      0.191,1,     -999.0,9,     -999.0,9,     -999.0,9,     -999.0,9,     -999.0,9,     -999.0,9,     -999.0,9,     -999.0,9,     -999.0,9,     -999.0,9,     -999.0,9,    14.8446,2,     -999.0,     -999.0,9,     -999.0
320620170820,        P06,     223,          1,         29,         29,2,20170922,       0127,   -32.4996,   -84.6453,       3921,   109.9,  14.8715,  34.4974,2,  34.4958,2, 249.8414,2, 249.5003,2,     0.0,2,    2.41,2,    0.09,2,    0.37,2,   2.482,2,   1.448,2,   2.0590,4,  2057.0,2,  2286.0,2,   7.9184,2,    25.00, -999.00,9, -999.00,9, -999.00,  -999.0,9, -999.00,9,     -999.0,9,  -999.0,9, 20170922,      302, -32.4997, -84.6451,        0.0,1,      0.185,1,      4.631,1,      0.216,1,     -999.0,9,     -999.0,9,     -999.0,9,     -999.0,9,     -999.0,9,     -999.0,9,     -999.0,9,     -999.0,9,     -999.0,9,     -999.0,9,     -999.0,9,    14.8620,2,     -999.0,     -999.0,9,     -999.0
320620170820,        P06,     223,          1,         30,         30,2,20170922,       0127,   -32.4996,   -84.6453,       3921,    85.4,  14.9436,  34.5130,2,  34.4983,2, 250.1712,2, 250.0352,2,     0.0,2,    2.36,2,    0.09,2,    0.36,2,   2.514,2,   1.436,2,   1.8540,4,  2056.6,2,  2286.5,2,   7.9198,2,    25.00, -999.00,9, -999.00,9, -999.00,  -999.0,9, -999.00,9,     -999.0,9,  -999.0,9, 20170922,      304, -32.4997, -84.6451,        0.0,1,      0.222,1,      4.617,1,      0.210,1,     -999.0,9,     -999.0,9,     -999.0,9,     -999.0,9,     -999.0,9,     -999.0,9,     -999.0,9,     -999.0,9,     -999.0,9,     -999.0,9,     -999.0,9,    14.8767,2,     -999.0,     -999.0,9,     -999.0
320620170820,        P06,     223,          1,         33,         33,2,20170922,       0127,   -32.4996,   -84.6453,       3921,    59.8,  14.9919,  34.5214,2,  34.5227,2, 251.0632,2, 251.9257,2,     0.0,2,    2.13,2,    0.08,2,    0.35,2,   2.538,2,   1.447,2,   2.0870,4,  2056.5,2,  2286.4,2,   7.9238,2,    25.00, -999.00,9, -999.00,9, -999.00,  -999.0,9, -999.00,9,     -999.0,9,  -999.0,9, 20170922,      307, -32.4997, -84.6452,        0.0,1,      0.235,1,      4.598,1,      0.222,1,     -999.0,9,     -999.0,9,     -999.0,9,     -999.0,9,     -999.0,9,     -999.0,9,     -999.0,9,     -999.0,9,     -999.0,9,     -999.0,9,     -999.0,9,    15.0004,2,     -999.0,     -999.0,9,     -999.0
320620170820,        P06,     223,          1,         32,         32,2,20170922,       0127,   -32.4996,   -84.6453,       3921,    59.7,  14.9919,  34.5214,2,-999.0000,9, 243.5482,2,-999.0000,9,  -999.0,9, -999.00,9, -999.00,9, -999.00,9,-999.000,9,-999.000,9,-999.0000,9,  -999.0,9,  -999.0,9,-999.0000,9,  -999.00, -999.00,9, -999.00,9, -999.00,  -999.0,9, -999.00,9,     -999.0,9,  -999.0,9, 20170922,      306, -32.4997, -84.6451,        0.0,1,      0.235,1,      4.598,1,      0.222,1,     -999.0,9,     -999.0,9,     -999.0,9,     -999.0,9,     -999.0,9,     -999.0,9,     -999.0,9,     -999.0,1,     -999.0,1,     -999.0,9,     -999.0,9,    14.9989,2,     -999.0,     -999.0,9,     -999.0
320620170820,        P06,     223,          1,         31,         31,2,20170922,       0127,   -32.4996,   -84.6453,       3921,    59.6,  14.9919,  34.5214,2,-999.0000,9, 243.7449,2,-999.0000,9,  -999.0,9, -999.00,9, -999.00,9, -999.00,9,-999.000,9,-999.000,9,-999.0000,9,  -999.0,9,  -999.0,9,-999.0000,9,  -999.00, -999.00,9, -999.00,9, -999.00,  -999.0,9, -999.00,9,     -999.0,9,  -999.0,9, 20170922,      305, -32.4997, -84.6451,        0.0,1,      0.235,1,      4.598,1,      0.222,1,     -999.0,9,     -999.0,9,     -999.0,9,     -999.0,9,     -999.0,9,     -999.0,9,     -999.0,9,     -999.0,1,     -999.0,1,     -999.0,9,     -999.0,9,    14.9990,2,     -999.0,     -999.0,9,     -999.0
320620170820,        P06,     223,          1,         34,         34,2,20170922,       0127,   -32.4996,   -84.6453,       3921,    24.7,  15.1224,  34.5422,2,-999.0000,9, 243.4699,2,-999.0000,9,  -999.0,9, -999.00,9, -999.00,9, -999.00,9,-999.000,9,-999.000,9,-999.0000,9,  -999.0,9,  -999.0,9,-999.0000,9,  -999.00, -999.00,9, -999.00,9, -999.00,  -999.0,9, -999.00,9,     -999.0,9,  -999.0,9, 20170922,      309, -32.4997, -84.6452,        0.0,1,      0.226,1,      4.573,1,      0.220,1,     -999.0,9,     -999.0,9,     -999.0,9,     -999.0,9,     -999.0,9,     -999.0,9,     -999.0,9,     -999.0,1,     -999.0,1,     -999.0,9,     -999.0,9,    15.1547,2,     -999.0,     -999.0,9,     -999.0
320620170820,        P06,     223,          1,         35,         35,2,20170922,       0127,   -32.4996,   -84.6453,       3921,    24.4,  15.1224,  34.5422,2,  34.5353,2, 252.8505,2, 251.1954,2,     0.0,2,    2.05,2,    0.08,2,    0.34,2,   2.508,2,   1.427,2,   1.6880,4,  2055.7,2,  2287.1,2,   7.9253,2,    25.00, -999.00,9, -999.00,9, -999.00,  -999.0,9, -999.00,9,     -999.0,9,  -999.0,9, 20170922,      309, -32.4996, -84.6452,        0.0,1,      0.226,1,      4.573,1,      0.220,1,     -999.0,9,     -999.0,9,     -999.0,9,     -999.0,9,     -999.0,9,     -999.0,9,     -999.0,9,     -999.0,9,     -999.0,9,     -999.0,9,     -999.0,9,    15.1279,2,     -999.0,     -999.0,9,     -999.0
320620170820,        P06,     223,          1,         36,         36,2,20170922,       0127,   -32.4996,   -84.6453,       3921,     3.1,  15.2438,  34.5500,2,  34.5594,2,  252.165,2, 250.9584,2,     0.0,2,    2.01,2,    0.08,2,    0.35,2,   2.492,2,   1.411,2,   1.7480,4,  2057.6,6,  2293.3,3,   7.9250,2,    25.00,    1.32,2,   34.15,2,    4.25,  -999.0,9, -999.00,9,     -999.0,9,  -999.0,9, 20170922,      311, -32.4996, -84.6453,        0.0,1,      0.196,1,      4.580,1,      0.206,1,     -999.0,9,     -999.0,9,     -999.0,9,     -999.0,9,     -999.0,9,     -999.0,9,     -999.0,9,     -999.0,9,     -999.0,9,     -999.0,9,     -999.0,9,    15.3910,2,     -999.0,     -999.0,9,     -999.0