BOTTLE,20240211CCHSIOCBG
EXPOCODE,SECT_ID,STNNBR,CASTNO,SAMPNO,BTLNBR,BTLNBR_FLAG_W,DATE,TIME,LATITUDE,LONGITUDE,DEPTH,CTDPRS,CTDTMP,CTDSAL,CTDSAL_FLAG_W,SALNTY,SALNTY_FLAG_W,CTDOXY,CTDOXY_FLAG_W,OXYGEN,OXYGEN_FLAG_W,SILCAT,SILCAT_FLAG_W,NITRAT,NITRAT_FLAG_W,NITRIT,NITRIT_FLAG_W,PHSPHT,PHSPHT_FLAG_W,CFC-11,CFC-11_FLAG_W,CFC-12,CFC-12_FLAG_W,SF6,SF6_FLAG_W,TCARBN,TCARBN_FLAG_W,ALKALI,ALKALI_FLAG_W,PH_TOT,PH_TOT_FLAG_W,PH_TMP,DELC13,DELC13_FLAG_W,DELC14,DELC14_FLAG_W,C14ERR,DOC,DOC_FLAG_W,TDN,TDN_FLAG_W,TON,TON_FLAG_W,D15N_NO3,D15N_NO3_FLAG_W,BTL_DATE,BTL_TIME,BTL_LAT,BTL_LON,CTDRINKO,CTDRINKO_FLAG_W,CTDFLUOR,CTDFLUOR_FLAG_W,CTDXMISS,CTDXMISS_FLAG_W,CTDBACKSCATTER,CTDBACKSCATTER_FLAG_W,D18O_NO3,D18O_NO3_FLAG_W,DOP,DOP_FLAG_W,CELLCOUNT,CELLCOUNT_FLAG_W,TDP,TDP_FLAG_W,POP,POP_FLAG_W,DATP,DATP_FLAG_W,PATP,PATP_FLAG_W,HPLC,HPLC_FLAG_W,POC,POC_FLAG_W,BEAMAP,BEAMAP_FLAG_W,DOC_NASA,DOC_NASA_FLAG_W,REFTMP,REFTMP_FLAG_W,DOC_NASA_ERROR,TDN_NASA,TDN_NASA_FLAG_W,TDN_NASA_ERROR
,,,,,,,,,,,METERS,DBAR,ITS-90,PSS-78,,PSS-78,,UMOL/KG,,UMOL/KG,,UMOL/KG,,UMOL/KG,,UMOL/KG,,UMOL/KG,,PMOL/KG,,PMOL/KG,,FMOL/KG,,UMOL/KG,,UMOL/KG,,,,DEG C,/MILLE,,/MILLE,,/MILLE,UMOL/KG,,UMOL/KG,,UMOL/KG,,/MILLE,,,,,,VOLTS,,VOLTS,,VOLTS,,VOLTS,,/MILLE,,UMOL/KG,,/LITER,,UMOL/KG,,UMOL/L,,PMOL/L,,PMOL/L,,,,UG/L,,/METER,,UMOL/L,,ITS-90,,UMOL/L,UMOL/L,,UMOL/L
320620170820,        P06,     161,          1,          1,          1,2,20170901,       0603,   -32.4997,  -134.1373,       4092,  4146.7,   1.3322,  34.7044,2,  34.7038,2, 188.1246,3, 189.1519,2,   120.4,2,   33.04,2,    0.00,2,    2.28,2,   0.035,2,   0.025,2,   0.0000,2,  2281.4,6,  2382.9,2,   7.6065,2,    25.00, -999.00,9, -999.00,9, -999.00,  -999.0,9, -999.00,9,     -999.0,9,  -999.0,1, 20170901,      603, -32.5002,-134.1381,        0.0,1,      0.061,1,      4.694,1,      0.124,1,     -999.0,1,     -999.0,9,     -999.0,9,     -999.0,9,     -999.0,9,     -999.0,9,     -999.0,9,     -999.0,9,     -999.0,9,     -999.0,9,     -999.0,9,     1.3356,2,     -999.0,     -999.0,9,     -999.0
320620170820,        P06,     161,          1,          2,          2,2,20170901,       0603,   -32.4997,  -134.1373,       4092,  4015.8,   1.4473,  34.6968,2,  34.6969,2, 183.3508,3, 182.1237,2,   122.2,2,   33.60,2,    0.00,2,    2.32,2,   0.035,2,   0.028,2,   0.0000,2,  -999.0,9,  -999.0,9,-999.0000,9,  -999.00, -999.00,9, -999.00,9, -999.00,  -999.0,9, -999.00,9,     -999.0,9,  -999.0,1, 20170901,      607, -32.5001,-134.1381,        0.0,1,      0.061,1,      4.695,1,      0.123,1,     -999.0,1,     -999.0,9,     -999.0,9,     -999.0,9,     -999.0,9,     -999.0,9,     -999.0,9,     -999.0,9,     -999.0,9,     -999.0,9,     -999.0,9,     1.4456,2,     -999.0,     -999.0,9,     -999.0
320620170820,        P06,     161,          1,          3,          3,2,20170901,       0603,   -32.4997,  -134.1373,       4092,  3861.0,   1.4986,  34.6921,2,  34.6916,2,  178.491,2, 178.2537,2,   122.9,2,   33.84,2,    0.00,2,    2.33,2,   0.031,2,   0.023,2,   0.0000,2,  2289.0,2,  2390.8,2,   7.5992,2,    25.00, -999.00,9, -999.00,9, -999.00,  -999.0,9, -999.00,9,     -999.0,9,  -999.0,1, 20170901,      611, -32.5001,-134.1380,        0.0,1,      0.061,1,      4.695,1,      0.124,1,     -999.0,1,     -999.0,9,     -999.0,9,     -999.0,9,     -999.0,9,     -999.0,9,     -999.0,9,     -999.0,9,     -999.0,9,     -999.0,9,     -999.0,9,     1.5018,2,     -999.0,     -999.0,9,     -999.0
320620170820,        P06,     161,          1,          4,          4,2,20170901,       0603,   -32.4997,  -134.1373,       4092,  3555.0,   1.5719,  34.6852,2,  34.6838,2, 172.2752,2,  172.771,2,   123.9,2,   34.29,2,    0.00,2,    2.38,2,   0.035,2,   0.024,2,   0.0000,2,  -999.0,9,  -999.0,9,-999.0000,9,  -999.00, -999.00,9, -999.00,9, -999.00,  -999.0,9, -999.00,9,     -999.0,9,  -999.0,1, 20170901,      617, -32.4999,-134.1379,        0.0,1,      0.061,1,      4.695,1,      0.126,1,     -999.0,1,     -999.0,9,     -999.0,9,     -999.0,9,     -999.0,9,     -999.0,9,     -999.0,9,     -999.0,9,     -999.0,9,     -999.0,9,     -999.0,9,     1.5752,2,     -999.0,     -999.0,9,     -999.0
320620170820,        P06,     161,          1,          5,          5,2,20170901,       0603,   -32.4997,  -134.1373,       4092,  3246.8,   1.6277,  34.6792,2,  34.6779,2, 168.1366,2, 168.4812,2,   124.5,2,   34.64,2,    0.00,2,    2.40,2,   0.032,2,   0.024,2,   0.0000,2,  2298.7,2,  2394.4,2,   7.5903,2,    25.00, -999.00,9, -999.00,9, -999.00,  -999.0,9, -999.00,9,     -999.0,9,  -999.0,1, 20170901,      623, -32.5001,-134.1381,        0.0,1,      0.061,1,      4.696,1,      0.123,1,     -999.0,1,     -999.0,9,     -999.0,9,     -999.0,9,     -999.0,9,     -999.0,9,     -999.0,9,     -999.0,9,     -999.0,9,     -999.0,9,     -999.0,9,     1.6273,2,     -999.0,     -999.0,9,     -999.0
320620170820,        P06,     161,          1,          6,          6,2,20170901,       0603,   -32.4997,  -134.1373,       4092,  2953.9,   1.6917,  34.6727,2,  34.6720,2, 164.1774,2, 164.1646,2,   124.5,2,   34.84,2,    0.00,2,    2.42,2,   0.038,2,   0.030,2,   0.0000,2,  -999.0,9,  -999.0,9,-999.0000,9,  -999.00, -999.00,9, -999.00,9, -999.00,  -999.0,9, -999.00,9,     -999.0,9,  -999.0,1, 20170901,      629, -32.5000,-134.1380,        0.0,1,      0.061,1,      4.696,1,      0.126,1,     -999.0,1,     -999.0,9,     -999.0,9,     -999.0,9,     -999.0,9,     -999.0,9,     -999.0,9,     -999.0,9,     -999.0,9,     -999.0,9,     -999.0,9,     1.6824,2,     -999.0,     -999.0,9,     -999.0
320620170820,        P06,     161,          1,          7,          7,2,20170901,       0603,   -32.4997,  -134.1373,       4092,  2700.2,   1.7624,  34.6663,2,  34.6659,2, 160.3279,3, 158.6731,2,   123.7,2,   35.09,2,    0.00,2,    2.43,2,   0.034,2,   0.021,2,   0.0000,2,  2304.8,2,  2394.5,2,   7.5813,2,    25.00, -999.00,9, -999.00,9, -999.00,  -999.0,9, -999.00,9,     -999.0,9,  -999.0,1, 20170901,      634, -32.4999,-134.1378,        0.0,1,      0.061,1,      4.696,1,      0.126,1,     -999.0,1,     -999.0,9,     -999.0,9,     -999.0,9,     -999.0,9,     -999.0,9,     -999.0,9,     -999.0,9,     -999.0,9,     -999.0,9,     -999.0,9,     1.7527,2,     -999.0,     -999.0,9,     -999.0
320620170820,        P06,     161,          1,          8,          8,2,20170901,       0603,   -32.4997,  -134.1373,       4092,  2444.8,   1.8713,  34.6566,2,  34.6559,2, 155.6541,2, 156.3331,2,   121.5,2,   35.31,2,    0.00,2,    2.46,2,   0.033,2,   0.026,2,   0.0000,2,  -999.0,9,  -999.0,9,-999.0000,9,  -999.00, -999.00,9, -999.00,9, -999.00,  -999.0,9, -999.00,9,     -999.0,9,  -999.0,1, 20170901,      639, -32.4997,-134.1376,        0.0,1,      0.061,1,      4.696,1,      0.129,1,     -999.0,1,     -999.0,9,     -999.0,9,     -999.0,9,     -999.0,9,     -999.0,9,     -999.0,9,     -999.0,9,     -999.0,9,     -999.0,9,     -999.0,9,     1.8671,2,     -999.0,     -999.0,9,     -999.0
320620170820,        P06,     161,          1,          9,          9,2,20170901,       0603,   -32.4997,  -134.1373,       4092,  2190.4,   2.0107,  34.6435,2,  34.6435,2, 153.3938,2, 154.6742,2,   116.9,2,   35.43,2,    0.00,2,    2.46,2,   0.034,2,   0.023,2,   0.0000,2,  2301.2,6,  2389.8,2,   7.5733,2,    25.00, -999.00,9, -999.00,9, -999.00,  -999.0,9, -999.00,9,     -999.0,9,  -999.0,1, 20170901,      644, -32.4997,-134.1376,        0.0,1,      0.061,1,      4.696,1,      0.127,1,     -999.0,1,     -999.0,9,     -999.0,9,     -999.0,9,     -999.0,9,     -999.0,9,     -999.0,9,     -999.0,9,     -999.0,9,     -999.0,9,     -999.0,9,     2.0000,2,     -999.0,     -999.0,9,     -999.0
320620170820,        P06,     161,          1,         10,         10,2,20170901,       0603,   -32.4997,  -134.1373,       4092,  1956.9,   2.1606,  34.6268,2,  34.6242,2, 153.9825,2, 154.8535,2,   109.3,2,   35.34,2,    0.00,2,    2.44,2,   0.035,2,   0.029,2,   0.0000,2,  -999.0,9,  -999.0,9,-999.0000,9,  -999.00, -999.00,9, -999.00,9, -999.00,  -999.0,9, -999.00,9,     -999.0,9,  -999.0,1, 20170901,      649, -32.5000,-134.1379,        0.0,1,      0.062,1,      4.696,1,      0.129,1,     -999.0,1,     -999.0,9,     -999.0,9,     -999.0,9,     -999.0,9,     -999.0,9,     -999.0,9,     -999.0,9,     -999.0,9,     -999.0,9,     -999.0,9,     2.1706,2,     -999.0,     -999.0,9,     -999.0
320620170820,        P06,     161,          1,         11,         11,2,20170901,       0603,   -32.4997,  -134.1373,       4092,  1754.5,   2.3714,  34.5969,2,  34.5875,2, 158.5577,2, 158.3566,2,    94.8,2,   34.99,2,    0.00,2,    2.42,2,   0.051,2,   0.035,2,   0.0000,2,  2278.2,2,  2363.3,2,   7.5690,6,    25.00, -999.00,9, -999.00,9, -999.00,  -999.0,9, -999.00,9,     -999.0,9,  -999.0,1, 20170901,      654, -32.5002,-134.1381,        0.0,1,      0.061,1,      4.696,1,      0.129,1,     -999.0,1,     -999.0,9,     -999.0,9,     -999.0,9,     -999.0,9,     -999.0,9,     -999.0,9,     -999.0,9,     -999.0,9,     -999.0,9,     -999.0,9,     2.4211,2,     -999.0,     -999.0,9,     -999.0
320620170820,        P06,     161,          1,         12,         12,2,20170901,       0603,   -32.4997,  -134.1373,       4092,  1580.6,   2.6307,  34.5483,2,  34.5453,2, 163.6016,2, 163.4994,2,    82.8,2,   34.86,2,    0.00,2,    2.39,2,   0.081,2,   0.050,2,   0.0000,2,  -999.0,9,  -999.0,9,-999.0000,9,  -999.00, -999.00,9, -999.00,9, -999.00,  -999.0,9, -999.00,9,     -999.0,9,  -999.0,1, 20170901,      658, -32.5000,-134.1379,        0.0,1,      0.060,1,      4.696,1,      0.129,1,     -999.0,1,     -999.0,9,     -999.0,9,     -999.0,9,     -999.0,9,     -999.0,9,     -999.0,9,     -999.0,9,     -999.0,9,     -999.0,9,     -999.0,9,     2.6445,2,     -999.0,     -999.0,9,     -999.0
320620170820,        P06,     161,          1,         13,         13,2,20170901,       0603,   -32.4997,  -134.1373,       4092,  1478.9,   2.8229,  34.5065,2,  34.5078,2, 167.9313,2, 167.9704,2,    73.3,2,   34.67,2,    0.00,2,    2.38,2,   0.160,2,   0.096,2,   0.0000,2,  2255.2,2,  2341.2,6,   7.5678,2,    25.00, -999.00,9, -999.00,9, -999.00,  -999.0,9, -999.00,9,     -999.0,9,  -999.0,1, 20170901,      701, -32.5001,-134.1380,        0.0,1,      0.061,1,      4.696,1,      0.130,1,     -999.0,1,     -999.0,9,     -999.0,9,     -999.0,9,     -999.0,9,     -999.0,9,     -999.0,9,     -999.0,9,     -999.0,9,     -999.0,9,     -999.0,9,     2.8075,2,     -999.0,     -999.0,9,     -999.0
320620170820,        P06,     161,          1,         14,         14,2,20170901,       0603,   -32.4997,  -134.1373,       4092,  1379.7,   3.0763,  34.4618,2,  34.4610,2, 172.9458,2, 170.8745,2,    63.9,2,   34.34,2,    0.00,2,    2.35,2,   0.252,2,   0.141,2,   0.0000,2,  -999.0,9,  -999.0,9,-999.0000,9,  -999.00, -999.00,9, -999.00,9, -999.00,  -999.0,9, -999.00,9,     -999.0,9,  -999.0,1, 20170901,      703, -32.5002,-134.1381,        0.0,1,      0.061,1,      4.696,1,      0.129,1,     -999.0,1,     -999.0,9,     -999.0,9,     -999.0,9,     -999.0,9,     -999.0,9,     -999.0,9,     -999.0,9,     -999.0,9,     -999.0,9,     -999.0,9,     3.0514,2,     -999.0,     -999.0,9,     -999.0
320620170820,        P06,     161,          1,         15,         15,2,20170901,       0603,   -32.4997,  -134.1373,       4092,  1275.9,   3.4524,  34.4099,2,  34.4108,2, 177.0565,2, 176.8391,2,    53.7,2,   33.92,2,    0.00,2,    2.33,2,   0.339,2,   0.180,2,   0.2040,2,  2232.6,2,  2317.3,2,   7.5791,2,    25.00, -999.00,9, -999.00,9, -999.00,  -999.0,9, -999.00,9,     -999.0,9,  -999.0,1, 20170901,      706, -32.5001,-134.1380,        0.0,1,      0.061,1,      4.696,1,      0.130,1,     -999.0,1,     -999.0,9,     -999.0,9,     -999.0,9,     -999.0,9,     -999.0,9,     -999.0,9,     -999.0,9,     -999.0,9,     -999.0,9,     -999.0,9,     3.4324,2,     -999.0,     -999.0,9,     -999.0
320620170820,        P06,     161,          1,         16,         16,2,20170901,       0603,   -32.4997,  -134.1373,       4092,  1175.5,   3.7964,  34.3698,2,  34.3656,2, 186.2013,2, 185.2521,2,    43.5,2,   32.99,2,    0.00,2,    2.24,2,   0.583,2,   0.302,2,   0.2200,2,  -999.0,9,  -999.0,9,-999.0000,9,  -999.00, -999.00,9, -999.00,9, -999.00,  -999.0,9, -999.00,9,     -999.0,9,  -999.0,1, 20170901,      709, -32.5000,-134.1378,        0.0,1,      0.061,1,      4.696,1,      0.130,1,     -999.0,1,     -999.0,9,     -999.0,9,     -999.0,9,     -999.0,9,     -999.0,9,     -999.0,9,     -999.0,9,     -999.0,9,     -999.0,9,     -999.0,9,     3.8276,2,     -999.0,     -999.0,9,     -999.0
320620170820,        P06,     161,          1,         17,         17,2,20170901,       0603,   -32.4997,  -134.1373,       4092,  1071.9,   4.2932,  34.3310,2,  34.3233,2, 199.5409,2, 198.4982,2,    31.8,2,   31.39,2,    0.00,2,    2.12,2,   1.020,6,   0.513,6,   0.2035,6,  2198.0,2,  2297.4,2,   7.6179,2,    25.00, -999.00,9, -999.00,9, -999.00,  -999.0,9, -999.00,9,     -999.0,9,  -999.0,1, 20170901,      712, -32.4998,-134.1376,        0.0,1,      0.060,1,      4.696,1,      0.129,1,     -999.0,1,     -999.0,9,     -999.0,9,     -999.0,9,     -999.0,9,     -999.0,9,     -999.0,9,     -999.0,9,     -999.0,9,     -999.0,9,     -999.0,9,     4.3992,2,     -999.0,     -999.0,9,     -999.0
320620170820,        P06,     161,          1,         18,         18,2,20170901,       0603,   -32.4997,  -134.1373,       4092,   974.2,   4.9395,  34.3021,2,  34.3295,2, 211.3776,2, 211.5291,2,    22.6,2,   29.36,2,    0.00,2,    1.97,2,   1.552,2,   0.777,2,   0.3320,2,  -999.0,9,  -999.0,9,-999.0000,9,  -999.00, -999.00,9, -999.00,9, -999.00,  -999.0,9, -999.00,9,     -999.0,9,  -999.0,1, 20170901,      714, -32.4996,-134.1374,        0.0,1,      0.061,1,      4.696,1,      0.130,1,     -999.0,1,     -999.0,9,     -999.0,9,     -999.0,9,     -999.0,9,     -999.0,9,     -999.0,9,     -999.0,9,     -999.0,9,     -999.0,9,     -999.0,9,     4.9443,2,     -999.0,     -999.0,9,     -999.0
320620170820,        P06,     161,          1,         19,         19,2,20170901,       0603,   -32.4997,  -134.1373,       4092,   874.4,   5.4664,  34.2952,2,  34.2932,2, 224.2453,3, 227.2976,2,    15.2,2,   27.07,2,    0.00,2,    1.82,2,   2.219,2,   1.132,2,   0.4130,2,  2163.7,2,  2283.4,2,   7.6704,2,    25.00, -999.00,9, -999.00,9, -999.00,  -999.0,9, -999.00,9,     -999.0,9,  -999.0,1, 20170901,      717, -32.4996,-134.1374,        0.0,1,      0.060,1,      4.696,1,      0.130,1,     -999.0,1,     -999.0,9,     -999.0,9,     -999.0,9,     -999.0,9,     -999.0,9,     -999.0,9,     -999.0,9,     -999.0,9,     -999.0,9,     -999.0,9,     5.4968,2,     -999.0,     -999.0,9,     -999.0
320620170820,        P06,     161,          1,         20,         20,2,20170901,       0603,   -32.4997,  -134.1373,       4092,   773.2,   5.9957,  34.3049,2,  34.3033,2, 235.6739,2, 235.8077,2,    10.7,2,   25.03,2,    0.00,2,    1.67,2,   2.941,2,   1.494,2,   0.6640,2,  -999.0,9,  -999.0,9,-999.0000,9,  -999.00, -999.00,9, -999.00,9, -999.00,  -999.0,9, -999.00,9,     -999.0,9,  -999.0,1, 20170901,      720, -32.4996,-134.1374,        0.0,1,      0.059,1,      4.695,1,      0.132,1,     -999.0,1,     -999.0,9,     -999.0,9,     -999.0,9,     -999.0,9,     -999.0,9,     -999.0,9,     -999.0,9,     -999.0,9,     -999.0,9,     -999.0,9,     6.0156,2,     -999.0,     -999.0,9,     -999.0
320620170820,        P06,     161,          1,         21,         21,2,20170901,       0603,   -32.4997,  -134.1373,       4092,   672.4,   6.4535,  34.3275,2,  34.3258,2, 241.3376,2, 241.8013,2,     8.2,2,   23.36,2,    0.00,2,    1.56,2,   3.390,2,   1.794,2,   0.9200,2,  2148.8,2,  2283.1,2,   7.7039,2,    25.00, -999.00,9, -999.00,9, -999.00,  -999.0,9, -999.00,9,     -999.0,9,  -999.0,1, 20170901,      723, -32.4998,-134.1375,        0.0,1,      0.059,1,      4.695,1,      0.131,1,     -999.0,1,     -999.0,9,     -999.0,9,     -999.0,9,     -999.0,9,     -999.0,9,     -999.0,9,     -999.0,9,     -999.0,9,     -999.0,9,     -999.0,9,     6.4761,2,     -999.0,     -999.0,9,     -999.0
320620170820,        P06,     161,          1,         22,         22,2,20170901,       0603,   -32.4997,  -134.1373,       4092,   569.7,   6.9667,  34.3602,2,  34.3578,2, 243.4668,2, 243.6332,2,     6.5,2,   21.81,2,    0.00,2,    1.46,2,   3.603,2,   1.950,2,   1.2080,2,  -999.0,9,  -999.0,9,-999.0000,9,  -999.00, -999.00,9, -999.00,9, -999.00,  -999.0,9, -999.00,9,     -999.0,9,  -999.0,1, 20170901,      725, -32.4999,-134.1376,        0.0,1,      0.059,1,      4.694,1,      0.133,1,     -999.0,1,     -999.0,9,     -999.0,9,     -999.0,9,     -999.0,9,     -999.0,9,     -999.0,9,     -999.0,9,     -999.0,9,     -999.0,9,     -999.0,9,     6.9800,2,     -999.0,     -999.0,9,     -999.0
320620170820,        P06,     161,          1,         23,         23,2,20170901,       0603,   -32.4997,  -134.1373,       4092,   486.4,   7.5796,  34.3947,2,  34.3845,2, 241.4195,2, 240.9756,2,     5.4,2,   20.46,2,    0.00,2,    1.38,2,   3.564,2,   1.969,2,   1.3640,2,  2141.0,2,  2278.5,2,   7.7192,2,    25.00, -999.00,9, -999.00,9, -999.00,  -999.0,9, -999.00,9,     -999.0,9,  -999.0,1, 20170901,      728, -32.5000,-134.1377,        0.0,1,      0.058,1,      4.692,1,      0.133,1,     -999.0,1,     -999.0,9,     -999.0,9,     -999.0,9,     -999.0,9,     -999.0,9,     -999.0,9,     -999.0,9,     -999.0,9,     -999.0,9,     -999.0,9,     7.4681,2,     -999.0,     -999.0,9,     -999.0
320620170820,        P06,     161,          1,         24,         24,2,20170901,       0603,   -32.4997,  -134.1373,       4092,   434.7,   8.0193,  34.4215,2,  34.4145,2, 236.1385,2, 237.0916,2,     4.6,2,   19.24,2,    0.00,2,    1.30,2,   3.520,2,   1.945,2,   1.4630,2,  -999.0,9,  -999.0,9,-999.0000,9,  -999.00, -999.00,9, -999.00,9, -999.00,  -999.0,9, -999.00,9,     -999.0,9,  -999.0,1, 20170901,      730, -32.5001,-134.1377,        0.0,1,      0.058,1,      4.691,1,      0.135,1,     -999.0,1,     -999.0,9,     -999.0,9,     -999.0,9,     -999.0,9,     -999.0,9,     -999.0,9,     -999.0,9,     -999.0,9,     -999.0,9,     -999.0,9,     7.9778,2,     -999.0,     -999.0,9,     -999.0
320620170820,        P06,     161,          1,         25,         25,2,20170901,       0603,   -32.4997,  -134.1373,       4092,   386.9,   9.1236,  34.4815,2,  34.4530,2, 224.8384,2, 226.2823,2,     3.8,2,   17.79,2,    0.00,2,    1.21,2,   3.351,2,   1.855,2,   1.2770,2,  2136.6,2,  2280.6,6,   7.7348,2,    25.00, -999.00,9, -999.00,9, -999.00,  -999.0,9, -999.00,9,     -999.0,9,  -999.0,1, 20170901,      732, -32.5001,-134.1378,        0.0,1,      0.060,1,      4.690,1,      0.131,1,     -999.0,1,     -999.0,9,     -999.0,9,     -999.0,9,     -999.0,9,     -999.0,9,     -999.0,9,     -999.0,9,     -999.0,9,     -999.0,9,     -999.0,9,     8.7877,2,     -999.0,     -999.0,9,     -999.0
320620170820,        P06,     161,          1,         26,         26,2,20170901,       0603,   -32.4997,  -134.1373,       4092,   335.8,  10.4975,  34.6039,2,  34.5692,3, 218.8091,2, 216.4506,2,     2.8,2,   14.82,2,    0.00,2,    1.03,2,   3.234,2,   1.764,2,   1.3250,2,  2127.9,2,  2282.6,2,   7.7628,2,    25.00, -999.00,9, -999.00,9, -999.00,  -999.0,9, -999.00,9,     -999.0,9,  -999.0,1, 20170901,      734, -32.5002,-134.1378,        0.0,1,      0.058,1,      4.689,1,      0.135,1,     -999.0,1,     -999.0,9,     -999.0,9,     -999.0,9,     -999.0,9,     -999.0,9,     -999.0,9,     -999.0,9,     -999.0,9,     -999.0,9,     -999.0,9,    10.2030,2,     -999.0,     -999.0,9,     -999.0