BOTTLE,20240211CCHSIOCBG
EXPOCODE,SECT_ID,STNNBR,CASTNO,SAMPNO,BTLNBR,BTLNBR_FLAG_W,DATE,TIME,LATITUDE,LONGITUDE,DEPTH,CTDPRS,CTDTMP,CTDSAL,CTDSAL_FLAG_W,SALNTY,SALNTY_FLAG_W,CTDOXY,CTDOXY_FLAG_W,OXYGEN,OXYGEN_FLAG_W,SILCAT,SILCAT_FLAG_W,NITRAT,NITRAT_FLAG_W,NITRIT,NITRIT_FLAG_W,PHSPHT,PHSPHT_FLAG_W,CFC-11,CFC-11_FLAG_W,CFC-12,CFC-12_FLAG_W,SF6,SF6_FLAG_W,TCARBN,TCARBN_FLAG_W,ALKALI,ALKALI_FLAG_W,PH_TOT,PH_TOT_FLAG_W,PH_TMP,DELC13,DELC13_FLAG_W,DELC14,DELC14_FLAG_W,C14ERR,DOC,DOC_FLAG_W,TDN,TDN_FLAG_W,TON,TON_FLAG_W,D15N_NO3,D15N_NO3_FLAG_W,BTL_DATE,BTL_TIME,BTL_LAT,BTL_LON,CTDRINKO,CTDRINKO_FLAG_W,CTDFLUOR,CTDFLUOR_FLAG_W,CTDXMISS,CTDXMISS_FLAG_W,CTDBACKSCATTER,CTDBACKSCATTER_FLAG_W,D18O_NO3,D18O_NO3_FLAG_W,DOP,DOP_FLAG_W,CELLCOUNT,CELLCOUNT_FLAG_W,TDP,TDP_FLAG_W,POP,POP_FLAG_W,DATP,DATP_FLAG_W,PATP,PATP_FLAG_W,HPLC,HPLC_FLAG_W,POC,POC_FLAG_W,BEAMAP,BEAMAP_FLAG_W,DOC_NASA,DOC_NASA_FLAG_W,REFTMP,REFTMP_FLAG_W,DOC_NASA_ERROR,TDN_NASA,TDN_NASA_FLAG_W,TDN_NASA_ERROR
,,,,,,,,,,,METERS,DBAR,ITS-90,PSS-78,,PSS-78,,UMOL/KG,,UMOL/KG,,UMOL/KG,,UMOL/KG,,UMOL/KG,,UMOL/KG,,PMOL/KG,,PMOL/KG,,FMOL/KG,,UMOL/KG,,UMOL/KG,,,,DEG C,/MILLE,,/MILLE,,/MILLE,UMOL/KG,,UMOL/KG,,UMOL/KG,,/MILLE,,,,,,VOLTS,,VOLTS,,VOLTS,,VOLTS,,/MILLE,,UMOL/KG,,/LITER,,UMOL/KG,,UMOL/L,,PMOL/L,,PMOL/L,,,,UG/L,,/METER,,UMOL/L,,ITS-90,,UMOL/L,UMOL/L,,UMOL/L
320620170820,        P06,     157,          1,          1,          1,2,20170830,       1812,   -32.5004,  -137.6988,       4650,  4726.0,   1.3511,  34.7056,2,  34.7070,3, 192.4708,3, 195.1457,2,   119.8,2,   32.83,2,    0.00,2,    2.29,2,   0.032,2,   0.019,2,   0.0000,2,  2277.8,6,  2378.6,2,   7.6086,2,    25.00, -999.00,9, -999.00,9, -999.00,  -999.0,9, -999.00,9,     -999.0,9,  -999.0,1, 20170830,     1812, -32.4995,-137.6990,        0.0,1,      0.060,1,      4.693,1,      0.123,1,     -999.0,1,     -999.0,9,     -999.0,9,     -999.0,9,     -999.0,9,     -999.0,9,     -999.0,9,     -999.0,9,     -999.0,9,     -999.0,9,     -999.0,9,     1.3515,2,     -999.0,     -999.0,9,     -999.0
320620170820,        P06,     157,          1,          2,          2,2,20170830,       1812,   -32.5004,  -137.6988,       4650,  4551.5,   1.3336,  34.7055,2,  34.7085,3, 192.4708,2, 191.8552,2,   119.3,2,   32.67,2,    0.00,2,    2.28,2,   0.036,2,   0.024,2,   0.0000,2,  -999.0,9,  -999.0,9,-999.0000,9,  -999.00, -999.00,9, -999.00,9, -999.00,  -999.0,9, -999.00,9,     -999.0,9,  -999.0,1, 20170830,     1816, -32.4999,-137.6989,        0.0,1,      0.061,1,      4.694,1,      0.123,1,     -999.0,1,     -999.0,9,     -999.0,9,     -999.0,9,     -999.0,9,     -999.0,9,     -999.0,9,     -999.0,9,     -999.0,9,     -999.0,9,     -999.0,9,     1.3337,2,     -999.0,     -999.0,9,     -999.0
320620170820,        P06,     157,          1,          3,          3,2,20170830,       1812,   -32.5004,  -137.6988,       4650,  4374.8,   1.3367,  34.7043,2,  34.7050,3, 192.2811,3, 190.8376,2,   119.9,2,   32.80,2,    0.00,2,    2.31,2,   0.033,2,   0.022,2,   0.0000,2,  2278.3,2,  2376.2,2,   7.6075,2,    25.00, -999.00,9, -999.00,9, -999.00,  -999.0,9, -999.00,9,     -999.0,9,  -999.0,1, 20170830,     1821, -32.5000,-137.6988,        0.0,1,      0.060,1,      4.695,1,      0.123,1,     -999.0,1,     -999.0,9,     -999.0,9,     -999.0,9,     -999.0,9,     -999.0,9,     -999.0,9,     -999.0,9,     -999.0,9,     -999.0,9,     -999.0,9,     1.3369,2,     -999.0,     -999.0,9,     -999.0
320620170820,        P06,     157,          1,          4,          4,2,20170830,       1812,   -32.5004,  -137.6988,       4650,  4065.4,   1.3876,  34.6999,2,  34.7001,3, 185.4574,2, 185.4902,2,   121.5,2,   33.22,2,    0.00,2,    2.31,2,   0.031,2,   0.024,2,   0.0000,2,  -999.0,9,  -999.0,9,-999.0000,9,  -999.00, -999.00,9, -999.00,9, -999.00,  -999.0,9, -999.00,9,     -999.0,9,  -999.0,1, 20170830,     1827, -32.5001,-137.6987,        0.0,1,      0.060,1,      4.695,1,      0.123,1,     -999.0,1,     -999.0,9,     -999.0,9,     -999.0,9,     -999.0,9,     -999.0,9,     -999.0,9,     -999.0,9,     -999.0,9,     -999.0,9,     -999.0,9,     1.3883,2,     -999.0,     -999.0,9,     -999.0
320620170820,        P06,     157,          1,          5,          5,2,20170830,       1812,   -32.5004,  -137.6988,       4650,  3757.9,   1.4753,  34.6925,2,  34.6938,2, 177.9781,2, 177.9316,2,   123.0,2,   33.66,2,    0.00,2,    2.35,2,   0.033,2,   0.032,2,   0.0000,2,  2288.9,2,  2387.9,2,   7.5971,6,    25.00, -999.00,9, -999.00,9, -999.00,  -999.0,9, -999.00,9,     -999.0,9,  -999.0,1, 20170830,     1833, -32.4998,-137.6990,        0.0,1,      0.061,1,      4.695,1,      0.123,1,     -999.0,1,     -999.0,9,     -999.0,9,     -999.0,9,     -999.0,9,     -999.0,9,     -999.0,9,     -999.0,9,     -999.0,9,     -999.0,9,     -999.0,9,     1.4830,2,     -999.0,     -999.0,9,     -999.0
320620170820,        P06,     157,          1,          6,          6,2,20170830,       1812,   -32.5004,  -137.6988,       4650,  3452.8,   1.5794,  34.6839,2,  34.6834,2, 171.5896,2, 171.3402,2,   124.4,2,   34.29,2,    0.00,2,    2.39,2,   0.037,2,   0.041,2,   0.0000,2,  -999.0,9,  -999.0,9,-999.0000,9,  -999.00, -999.00,9, -999.00,9, -999.00,  -999.0,9, -999.00,9,     -999.0,9,  -999.0,1, 20170830,     1840, -32.5000,-137.6989,        0.0,1,      0.061,1,      4.696,1,      0.123,1,     -999.0,1,     -999.0,9,     -999.0,9,     -999.0,9,     -999.0,9,     -999.0,9,     -999.0,9,     -999.0,9,     -999.0,9,     -999.0,9,     -999.0,9,     1.5816,2,     -999.0,     -999.0,9,     -999.0
320620170820,        P06,     157,          1,          7,          7,2,20170830,       1812,   -32.5004,  -137.6988,       4650,  3143.0,   1.6573,  34.6763,2,  34.6763,2, 167.1017,3, 165.9071,2,   124.4,2,   34.61,2,    0.00,2,    2.43,2,   0.035,2,   0.039,2,   0.0000,2,  2298.0,2,  2394.2,2,   7.5871,2,    25.00, -999.00,9, -999.00,9, -999.00,  -999.0,9, -999.00,9,     -999.0,9,  -999.0,1, 20170830,     1846, -32.5000,-137.6988,        0.0,1,      0.061,1,      4.695,1,      0.124,1,     -999.0,1,     -999.0,9,     -999.0,9,     -999.0,9,     -999.0,9,     -999.0,9,     -999.0,9,     -999.0,9,     -999.0,9,     -999.0,9,     -999.0,9,     1.6556,2,     -999.0,     -999.0,9,     -999.0
320620170820,        P06,     157,          1,          8,          8,2,20170830,       1812,   -32.5004,  -137.6988,       4650,  2874.4,   1.7097,  34.6710,2,  34.6708,2, 163.2788,2, 162.2872,2,   124.3,2,   34.86,2,    0.00,2,    2.45,2,   0.035,2,   0.043,2,   0.0000,2,  -999.0,9,  -999.0,9,-999.0000,9,  -999.00, -999.00,9, -999.00,9, -999.00,  -999.0,9, -999.00,9,     -999.0,9,  -999.0,1, 20170830,     1852, -32.5002,-137.6987,        0.0,1,      0.061,1,      4.696,1,      0.127,1,     -999.0,1,     -999.0,9,     -999.0,9,     -999.0,9,     -999.0,9,     -999.0,9,     -999.0,9,     -999.0,9,     -999.0,9,     -999.0,9,     -999.0,9,     1.7081,2,     -999.0,     -999.0,9,     -999.0
320620170820,        P06,     157,          1,          9,          9,2,20170830,       1812,   -32.5004,  -137.6988,       4650,  2619.8,   1.7841,  34.6642,2,  34.6647,2,  158.468,2, 158.5715,2,   123.8,2,   35.07,2,    0.00,2,    2.47,2,   0.031,2,   0.036,2,   0.0000,2,  2302.0,2,  2393.8,2,   7.5793,2,    25.00, -999.00,9, -999.00,9, -999.00,  -999.0,9, -999.00,9,     -999.0,9,  -999.0,1, 20170830,     1857, -32.4998,-137.6990,        0.0,1,      0.061,1,      4.696,1,      0.127,1,     -999.0,1,     -999.0,9,     -999.0,9,     -999.0,9,     -999.0,9,     -999.0,9,     -999.0,9,     -999.0,9,     -999.0,9,     -999.0,9,     -999.0,9,     1.7869,2,     -999.0,     -999.0,9,     -999.0
320620170820,        P06,     157,          1,         10,         10,2,20170830,       1812,   -32.5004,  -137.6988,       4650,  2362.7,   1.8964,  34.6547,2,  34.6527,2, 155.3046,2, 155.0735,2,   120.8,2,   35.30,2,    0.00,2,    2.50,2,   0.037,2,   0.048,2,   0.0000,2,  -999.0,9,  -999.0,9,-999.0000,9,  -999.00, -999.00,9, -999.00,9, -999.00,  -999.0,9, -999.00,9,     -999.0,9,  -999.0,1, 20170830,     1902, -32.5005,-137.6986,        0.0,1,      0.061,1,      4.696,1,      0.127,1,     -999.0,1,     -999.0,9,     -999.0,9,     -999.0,9,     -999.0,9,     -999.0,9,     -999.0,9,     -999.0,9,     -999.0,9,     -999.0,9,     -999.0,9,     1.9072,2,     -999.0,     -999.0,9,     -999.0
320620170820,        P06,     157,          1,         11,         11,2,20170830,       1812,   -32.5004,  -137.6988,       4650,  2111.7,   2.0700,  34.6384,2,  34.6380,2, 154.0885,2, 155.0562,2,   113.3,2,   35.18,2,    0.00,2,    2.47,2,   0.043,2,   0.059,2,   0.0000,2,  2298.4,6,  2384.8,6,   7.5720,2,    25.00, -999.00,9, -999.00,9, -999.00,  -999.0,9, -999.00,9,     -999.0,9,  -999.0,1, 20170830,     1907, -32.5005,-137.6986,        0.0,1,      0.061,1,      4.696,1,      0.128,1,     -999.0,1,     -999.0,9,     -999.0,9,     -999.0,9,     -999.0,9,     -999.0,9,     -999.0,9,     -999.0,9,     -999.0,9,     -999.0,9,     -999.0,9,     2.0768,2,     -999.0,     -999.0,9,     -999.0
320620170820,        P06,     157,          1,         12,         12,2,20170830,       1812,   -32.5004,  -137.6988,       4650,  1886.1,   2.2760,  34.6124,2,  34.6154,2,   155.62,2, 156.2316,2,   103.0,2,   35.03,2,    0.00,2,    2.45,2,   0.049,2,   0.062,2,   0.0000,2,  -999.0,9,  -999.0,9,-999.0000,9,  -999.00, -999.00,9, -999.00,9, -999.00,  -999.0,9, -999.00,9,     -999.0,9,  -999.0,1, 20170830,     1912, -32.5004,-137.6987,        0.0,1,      0.061,1,      4.696,1,      0.128,1,     -999.0,1,     -999.0,9,     -999.0,9,     -999.0,9,     -999.0,9,     -999.0,9,     -999.0,9,     -999.0,9,     -999.0,9,     -999.0,9,     -999.0,9,     2.2749,2,     -999.0,     -999.0,9,     -999.0
320620170820,        P06,     157,          1,         13,         13,2,20170830,       1812,   -32.5004,  -137.6988,       4650,  1682.7,   2.4966,  34.5752,2,  34.5741,2, 159.2717,2, 160.2683,2,    89.5,2,   34.77,2,    0.00,2,    2.43,2,   0.060,2,   0.062,2,   0.0000,2,  -999.0,9,  -999.0,9,-999.0000,9,  -999.00, -999.00,9, -999.00,9, -999.00,  -999.0,9, -999.00,9,     -999.0,9,  -999.0,1, 20170830,     1917, -32.5002,-137.6988,        0.0,1,      0.060,1,      4.696,1,      0.129,1,     -999.0,1,     -999.0,9,     -999.0,9,     -999.0,9,     -999.0,9,     -999.0,9,     -999.0,9,     -999.0,9,     -999.0,9,     -999.0,9,     -999.0,9,     2.5037,2,     -999.0,     -999.0,9,     -999.0
320620170820,        P06,     157,          1,         14,         14,2,20170830,       1812,   -32.5004,  -137.6988,       4650,  1550.1,   2.6967,  34.5359,2,  34.5282,2, 163.9655,2, 164.4768,2,    77.9,2,   34.52,2,    0.00,2,    2.40,2,   0.096,2,   0.094,2,   0.0000,2,  -999.0,9,  -999.0,9,-999.0000,9,  -999.00, -999.00,9, -999.00,9, -999.00,  -999.0,9, -999.00,9,     -999.0,9,  -999.0,1, 20170830,     1920, -32.5000,-137.6990,        0.0,1,      0.061,1,      4.696,1,      0.130,1,     -999.0,1,     -999.0,9,     -999.0,9,     -999.0,9,     -999.0,9,     -999.0,9,     -999.0,9,     -999.0,9,     -999.0,9,     -999.0,9,     -999.0,9,     2.7307,2,     -999.0,     -999.0,9,     -999.0
320620170820,        P06,     157,          1,         15,         15,2,20170830,       1812,   -32.5004,  -137.6988,       4650,  1448.5,   2.9341,  34.4882,2,  34.4873,2, 168.3327,2, 169.0408,2,    69.0,2,   34.34,2,    0.00,2,    2.39,2,   0.148,2,   0.102,2,   0.0000,2,  2251.4,2,  2332.5,2,   7.5702,2,    25.00, -999.00,9, -999.00,9, -999.00,  -999.0,9, -999.00,9,     -999.0,9,  -999.0,1, 20170830,     1923, -32.5000,-137.6990,        0.0,1,      0.061,1,      4.696,1,      0.128,1,     -999.0,1,     -999.0,9,     -999.0,9,     -999.0,9,     -999.0,9,     -999.0,9,     -999.0,9,     -999.0,9,     -999.0,9,     -999.0,9,     -999.0,9,     2.9382,2,     -999.0,     -999.0,9,     -999.0
320620170820,        P06,     157,          1,         16,         16,2,20170830,       1812,   -32.5004,  -137.6988,       4650,  1245.8,   3.5557,  34.3922,2,  34.3929,2, 181.2623,2, 181.2733,2,    49.3,2,   33.44,2,    0.00,2,    2.31,2,   0.484,2,   0.283,2,   0.1840,2,  -999.0,9,  -999.0,9,-999.0000,9,  -999.00, -999.00,9, -999.00,9, -999.00,  -999.0,9, -999.00,9,     -999.0,9,  -999.0,1, 20170830,     1927, -32.5001,-137.6990,        0.0,1,      0.060,1,      4.696,1,      0.130,1,     -999.0,1,     -999.0,9,     -999.0,9,     -999.0,9,     -999.0,9,     -999.0,9,     -999.0,9,     -999.0,9,     -999.0,9,     -999.0,9,     -999.0,9,     3.5372,2,     -999.0,     -999.0,9,     -999.0
320620170820,        P06,     157,          1,         17,         17,2,20170830,       1812,   -32.5004,  -137.6988,       4650,  1044.3,   4.5787,  34.3181,2,  34.3148,2, 204.4917,2, 203.0956,2,    27.7,2,   30.40,2,    0.00,2,    2.08,2,   1.251,2,   0.600,2,   0.2020,2,  2191.0,2,  2294.2,2,   7.6278,2,    25.00, -999.00,9, -999.00,9, -999.00,  -999.0,9, -999.00,9,     -999.0,9,  -999.0,1, 20170830,     1932, -32.5000,-137.6990,        0.0,1,      0.060,1,      4.696,1,      0.139,1,     -999.0,1,     -999.0,9,     -999.0,9,     -999.0,9,     -999.0,9,     -999.0,9,     -999.0,9,     -999.0,9,     -999.0,9,     -999.0,9,     -999.0,9,     4.6172,2,     -999.0,     -999.0,9,     -999.0
320620170820,        P06,     157,          1,         18,         18,2,20170830,       1812,   -32.5004,  -137.6988,       4650,   941.4,   5.1885,  34.2988,2,  34.2966,2, 217.7982,2, 216.7396,2,    18.9,2,   28.27,2,    0.00,2,    1.93,2,   1.804,2,   0.903,2,   0.2420,2,  -999.0,9,  -999.0,9,-999.0000,9,  -999.00, -999.00,9, -999.00,9, -999.00,  -999.0,9, -999.00,9,     -999.0,9,  -999.0,1, 20170830,     1934, -32.5000,-137.6990,        0.0,1,      0.060,1,      4.696,1,      0.130,1,     -999.0,1,     -999.0,9,     -999.0,9,     -999.0,9,     -999.0,9,     -999.0,9,     -999.0,9,     -999.0,9,     -999.0,9,     -999.0,9,     -999.0,9,     5.1944,2,     -999.0,     -999.0,9,     -999.0
320620170820,        P06,     157,          1,         19,         19,2,20170830,       1812,   -32.5004,  -137.6988,       4650,   840.9,   5.7928,  34.3019,2,  34.2991,2, 229.1251,2, 228.7773,2,    13.2,2,   26.14,2,    0.00,2,    1.79,2,   2.484,2,   1.228,2,   0.4660,2,  2160.0,2,  2281.4,2,   7.6785,2,    25.00, -999.00,9, -999.00,9, -999.00,  -999.0,9, -999.00,9,     -999.0,9,  -999.0,1, 20170830,     1937, -32.5000,-137.6990,        0.0,1,      0.058,1,      4.696,1,      0.132,1,     -999.0,1,     -999.0,9,     -999.0,9,     -999.0,9,     -999.0,9,     -999.0,9,     -999.0,9,     -999.0,9,     -999.0,9,     -999.0,9,     -999.0,9,     5.7129,2,     -999.0,     -999.0,9,     -999.0
320620170820,        P06,     157,          1,         20,         20,2,20170830,       1812,   -32.5004,  -137.6988,       4650,   740.3,   6.2884,  34.3195,2,  34.3197,2, 238.9629,3, 242.4997,2,     8.9,2,   23.98,2,    0.00,2,    1.62,2,   3.255,2,   1.664,2,   0.7770,2,  -999.0,9,  -999.0,9,-999.0000,9,  -999.00, -999.00,9, -999.00,9, -999.00,  -999.0,9, -999.00,9,     -999.0,9,  -999.0,1, 20170830,     1940, -32.5001,-137.6990,        0.0,1,      0.060,1,      4.695,1,      0.131,1,     -999.0,1,     -999.0,9,     -999.0,9,     -999.0,9,     -999.0,9,     -999.0,9,     -999.0,9,     -999.0,9,     -999.0,9,     -999.0,9,     -999.0,9,     6.3148,2,     -999.0,     -999.0,9,     -999.0
320620170820,        P06,     157,          1,         21,         21,2,20170830,       1812,   -32.5004,  -137.6988,       4650,   638.9,   6.8320,  34.3545,2,  34.3519,2,  243.912,2, 243.6957,2,     6.8,2,   22.26,2,    0.00,2,    1.51,2,   3.539,2,   1.887,2,   0.9810,2,  2145.4,2,  2278.3,2,   7.7118,2,    25.00, -999.00,9, -999.00,9, -999.00,  -999.0,9, -999.00,9,     -999.0,9,  -999.0,1, 20170830,     1943, -32.5002,-137.6989,        0.0,1,      0.059,1,      4.695,1,      0.134,1,     -999.0,1,     -999.0,9,     -999.0,9,     -999.0,9,     -999.0,9,     -999.0,9,     -999.0,9,     -999.0,9,     -999.0,9,     -999.0,9,     -999.0,9,     6.8261,2,     -999.0,     -999.0,9,     -999.0
320620170820,        P06,     157,          1,         22,         22,2,20170830,       1812,   -32.5004,  -137.6988,       4650,   538.2,   7.3244,  34.3920,2,  34.3968,2, 246.5103,2, 246.6821,2,     5.0,2,   20.21,2,    0.00,2,    1.38,2,   3.585,2,   2.000,2,   1.3420,2,  2140.6,6,  2278.2,2,   7.7238,2,    25.00, -999.00,9, -999.00,9, -999.00,  -999.0,9, -999.00,9,     -999.0,9,  -999.0,1, 20170830,     1946, -32.5003,-137.6988,        0.0,1,      0.059,1,      4.693,1,      0.133,1,     -999.0,1,     -999.0,9,     -999.0,9,     -999.0,9,     -999.0,9,     -999.0,9,     -999.0,9,     -999.0,9,     -999.0,9,     -999.0,9,     -999.0,9,     7.4122,2,     -999.0,     -999.0,9,     -999.0
320620170820,        P06,     157,          1,         23,         23,2,20170830,       1812,   -32.5004,  -137.6988,       4650,   467.5,   7.8429,  34.4242,2,  34.4239,2, 242.7073,2, 240.5975,2,     4.1,2,   19.08,2,    0.00,2,    1.30,2,   3.531,2,   1.966,2,   1.3570,2,  2139.8,2,  2279.7,2,   7.7282,6,    25.00, -999.00,9, -999.00,9, -999.00,  -999.0,9, -999.00,9,     -999.0,9,  -999.0,1, 20170830,     1948, -32.5003,-137.6989,        0.0,1,      0.059,1,      4.692,1,      0.135,1,     -999.0,1,     -999.0,9,     -999.0,9,     -999.0,9,     -999.0,9,     -999.0,9,     -999.0,9,     -999.0,9,     -999.0,9,     -999.0,9,     -999.0,9,     7.9151,2,     -999.0,     -999.0,9,     -999.0
320620170820,        P06,     157,          1,         24,         24,2,20170830,       1812,   -32.5004,  -137.6988,       4650,   417.1,   8.4789,  34.4517,2,  34.4595,2, 228.6669,2, 227.2475,2,     3.7,2,   18.22,2,    0.00,2,    1.27,2,   3.375,2,   1.851,2,   1.2520,2,  2137.6,2,  2280.7,2,   7.7312,2,    25.00, -999.00,9, -999.00,9, -999.00,  -999.0,9, -999.00,9,     -999.0,9,  -999.0,1, 20170830,     1950, -32.5002,-137.6989,        0.0,1,      0.060,1,      4.691,1,      0.137,1,     -999.0,1,     -999.0,1,     -999.0,9,     -999.0,9,     -999.0,9,     -999.0,9,     -999.0,9,     -999.0,9,     -999.0,9,     -999.0,9,     -999.0,9,     8.6295,2,     -999.0,     -999.0,9,     -999.0
320620170820,        P06,     157,          1,         25,         25,2,20170830,       1812,   -32.5004,  -137.6988,       4650,   316.4,  11.5336,  34.7276,2,  34.7017,2, 213.8075,2, 211.9276,2,     1.8,2,   12.17,2,    0.00,2,    0.89,2,   3.052,2,   1.704,2,   1.3350,2,  2120.8,2,  2286.8,6,   7.7881,2,    25.00, -999.00,9, -999.00,9, -999.00,  -999.0,9, -999.00,9,     -999.0,9,  -999.0,1, 20170830,     1953, -32.5001,-137.6989,        0.0,1,      0.059,1,      4.687,1,      0.132,1,     -999.0,1,     -999.0,1,     -999.0,9,     -999.0,9,     -999.0,9,     -999.0,9,     -999.0,9,     -999.0,9,     -999.0,9,     -999.0,9,     -999.0,9,    11.2972,2,     -999.0,     -999.0,9,     -999.0
320620170820,        P06,     157,          1,         26,         26,2,20170830,       1812,   -32.5004,  -137.6988,       4650,   265.8,  13.4947,  34.9666,2,  34.9183,2, 209.3935,2, 211.9413,2,     0.8,2,    7.72,2,    0.00,2,    0.60,2,   2.676,6,   1.589,6,   1.3870,6,  2106.5,2,  2297.7,2,   7.8378,2,    25.00, -999.00,9, -999.00,9, -999.00,  -999.0,9, -999.00,9,     -999.0,9,  -999.0,1, 20170830,     1955, -32.5003,-137.6988,        0.0,1,      0.059,1,      4.685,1,      0.135,1,     -999.0,1,     -999.0,1,     -999.0,9,     -999.0,9,     -999.0,9,     -999.0,9,     -999.0,9,     -999.0,9,     -999.0,9,     -999.0,9,     -999.0,9,    13.1795,2,     -999.0,     -999.0,9,     -999.0