BOTTLE,20240211CCHSIOCBG
EXPOCODE,SECT_ID,STNNBR,CASTNO,SAMPNO,BTLNBR,BTLNBR_FLAG_W,DATE,TIME,LATITUDE,LONGITUDE,DEPTH,CTDPRS,CTDTMP,CTDSAL,CTDSAL_FLAG_W,SALNTY,SALNTY_FLAG_W,CTDOXY,CTDOXY_FLAG_W,OXYGEN,OXYGEN_FLAG_W,SILCAT,SILCAT_FLAG_W,NITRAT,NITRAT_FLAG_W,NITRIT,NITRIT_FLAG_W,PHSPHT,PHSPHT_FLAG_W,CFC-11,CFC-11_FLAG_W,CFC-12,CFC-12_FLAG_W,SF6,SF6_FLAG_W,TCARBN,TCARBN_FLAG_W,ALKALI,ALKALI_FLAG_W,PH_TOT,PH_TOT_FLAG_W,PH_TMP,DELC13,DELC13_FLAG_W,DELC14,DELC14_FLAG_W,C14ERR,DOC,DOC_FLAG_W,TDN,TDN_FLAG_W,TON,TON_FLAG_W,D15N_NO3,D15N_NO3_FLAG_W,BTL_DATE,BTL_TIME,BTL_LAT,BTL_LON,CTDRINKO,CTDRINKO_FLAG_W,CTDFLUOR,CTDFLUOR_FLAG_W,CTDXMISS,CTDXMISS_FLAG_W,CTDBACKSCATTER,CTDBACKSCATTER_FLAG_W,D18O_NO3,D18O_NO3_FLAG_W,DOP,DOP_FLAG_W,CELLCOUNT,CELLCOUNT_FLAG_W,TDP,TDP_FLAG_W,POP,POP_FLAG_W,DATP,DATP_FLAG_W,PATP,PATP_FLAG_W,HPLC,HPLC_FLAG_W,POC,POC_FLAG_W,BEAMAP,BEAMAP_FLAG_W,DOC_NASA,DOC_NASA_FLAG_W,REFTMP,REFTMP_FLAG_W,DOC_NASA_ERROR,TDN_NASA,TDN_NASA_FLAG_W,TDN_NASA_ERROR
,,,,,,,,,,,METERS,DBAR,ITS-90,PSS-78,,PSS-78,,UMOL/KG,,UMOL/KG,,UMOL/KG,,UMOL/KG,,UMOL/KG,,UMOL/KG,,PMOL/KG,,PMOL/KG,,FMOL/KG,,UMOL/KG,,UMOL/KG,,,,DEG C,/MILLE,,/MILLE,,/MILLE,UMOL/KG,,UMOL/KG,,UMOL/KG,,/MILLE,,,,,,VOLTS,,VOLTS,,VOLTS,,VOLTS,,/MILLE,,UMOL/KG,,/LITER,,UMOL/KG,,UMOL/L,,PMOL/L,,PMOL/L,,,,UG/L,,/METER,,UMOL/L,,ITS-90,,UMOL/L,UMOL/L,,UMOL/L
320620170820,        P06,     199,          1,         27,         27,2,20170914,       0328,   -32.5002,  -104.8060,       3445,   316.7,   9.6638,  34.3279,2,  34.3268,2, 208.3933,2, 216.0951,2,     2.4,2,   16.98,2,    0.00,2,    1.21,2,   3.386,2,   1.826,2,   1.2500,2,  2131.2,2,  2269.6,2,   7.7335,2,    25.00, -999.00,9, -999.00,9, -999.00,  -999.0,9, -999.00,9,     -999.0,9,  -999.0,9, 20170914,      449, -32.5001,-104.8062,        0.0,1,      0.059,1,      4.683,1,      0.133,1,     -999.0,9,     -999.0,9,     -999.0,9,     -999.0,9,     -999.0,9,     -999.0,9,     -999.0,9,     -999.0,9,     -999.0,9,     -999.0,9,     -999.0,9,     9.8281,2,     -999.0,     -999.0,9,     -999.0
320620170820,        P06,     199,          1,         28,         28,2,20170914,       0328,   -32.5002,  -104.8060,       3445,   265.3,  11.6779,  34.4624,2,  34.4308,2,  213.754,2, 213.1884,2,     1.2,2,   12.83,2,    0.00,2,    0.94,2,-999.000,9,-999.000,9,-999.0000,9,  2115.7,2,  2272.9,2,   7.7789,2,    25.00, -999.00,9, -999.00,9, -999.00,  -999.0,9, -999.00,9,     -999.0,9,  -999.0,9, 20170914,      451, -32.5000,-104.8064,        0.0,1,      0.059,1,      4.680,1,      0.134,1,     -999.0,9,     -999.0,9,     -999.0,9,     -999.0,9,     -999.0,9,     -999.0,9,     -999.0,9,     -999.0,9,     -999.0,9,     -999.0,9,     -999.0,9,    11.4267,2,     -999.0,     -999.0,9,     -999.0
320620170820,        P06,     199,          1,         29,         29,2,20170914,       0328,   -32.5002,  -104.8060,       3445,   215.2,  13.5794,  34.5942,2,  34.5901,3,  219.583,2, 220.5088,2,     0.1,2,    7.19,2,    0.02,2,    0.58,2,   2.782,2,   1.598,2,   1.3970,2,  2091.9,2,  2279.5,2,   7.8420,6,    25.00, -999.00,9, -999.00,9, -999.00,  -999.0,9, -999.00,9,     -999.0,9,  -999.0,9, 20170914,      453, -32.4999,-104.8065,        0.0,1,      0.068,1,      4.676,1,      0.133,1,     -999.0,9,     -999.0,9,     -999.0,9,     -999.0,9,     -999.0,9,     -999.0,9,     -999.0,9,     -999.0,9,     -999.0,9,     -999.0,9,     -999.0,9,    13.4946,2,     -999.0,     -999.0,9,     -999.0
320620170820,        P06,     199,          1,         30,         30,2,20170914,       0328,   -32.5002,  -104.8060,       3445,   165.6,  16.1603,  34.8894,2,  34.8544,2, 222.2507,2, 230.0853,2,     0.0,2,    1.02,2,    0.27,2,    0.22,2,-999.000,9,-999.000,9,-999.0000,9,  2067.2,2,  2294.2,2,   7.9206,2,    25.00, -999.00,9, -999.00,9, -999.00,  -999.0,9, -999.00,9,     -999.0,9,  -999.0,9, 20170914,      455, -32.5000,-104.8063,        0.0,1,      0.106,1,      4.665,1,      0.142,1,     -999.0,9,     -999.0,9,     -999.0,9,     -999.0,9,     -999.0,9,     -999.0,9,     -999.0,9,     -999.0,9,     -999.0,9,     -999.0,9,     -999.0,9,    16.0814,2,     -999.0,     -999.0,9,     -999.0
320620170820,        P06,     199,          1,         31,         31,2,20170914,       0328,   -32.5002,  -104.8060,       3445,   135.6,  18.5288,  35.3463,2,  35.3273,2, 231.2292,2, 231.1598,2,     0.0,2,    0.10,2,    0.04,2,    0.12,2,   2.173,2,   1.266,2,   1.4520,2,  2062.2,2,  2326.8,6,   7.9740,2,    25.00, -999.00,9, -999.00,9, -999.00,  -999.0,9, -999.00,9,     -999.0,9,  -999.0,9, 20170914,      457, -32.5001,-104.8062,        0.0,1,      0.166,1,      4.647,1,      0.167,1,     -999.0,9,     -999.0,9,     -999.0,9,     -999.0,9,     -999.0,9,     -999.0,9,     -999.0,9,     -999.0,9,     -999.0,9,     -999.0,9,     -999.0,9,    18.4354,2,     -999.0,     -999.0,9,     -999.0
320620170820,        P06,     199,          1,         32,         32,2,20170914,       0328,   -32.5002,  -104.8060,       3445,   110.2,  18.2864,  35.2459,2,  35.2810,2,   234.59,2,  235.248,2,     0.0,2,    0.04,2,    0.00,2,    0.10,2,-999.000,9,-999.000,9,-999.0000,9,  2061.5,2,  2321.5,2,   7.9755,2,    25.00, -999.00,9, -999.00,9, -999.00,  -999.0,9, -999.00,9,     -999.0,9,  -999.0,9, 20170914,      458, -32.5001,-104.8062,        0.0,1,      0.171,1,      4.639,1,      0.173,1,     -999.0,9,     -999.0,9,     -999.0,9,     -999.0,9,     -999.0,9,     -999.0,9,     -999.0,9,     -999.0,9,     -999.0,9,     -999.0,9,     -999.0,9,    18.3781,2,     -999.0,     -999.0,9,     -999.0
320620170820,        P06,     199,          1,         33,         33,2,20170914,       0328,   -32.5002,  -104.8060,       3445,    84.9,  17.9567,  35.0875,2,  35.2253,2, 236.1243,2,  234.881,2,     0.0,2,    0.04,2,    0.00,2,    0.11,2,   2.185,2,   1.252,2,   1.3860,2,  2058.5,2,  2317.3,2,   7.9778,2,    25.00, -999.00,9, -999.00,9, -999.00,  -999.0,9, -999.00,9,     -999.0,9,  -999.0,9, 20170914,      500, -32.5001,-104.8062,        0.0,1,      0.101,1,      4.636,1,      0.174,1,     -999.0,9,     -999.0,9,     -999.0,9,     -999.0,9,     -999.0,9,     -999.0,9,     -999.0,9,     -999.0,9,     -999.0,9,     -999.0,9,     -999.0,9,    18.3025,2,     -999.0,     -999.0,9,     -999.0
320620170820,        P06,     199,          1,         34,         34,2,20170914,       0328,   -32.5002,  -104.8060,       3445,    60.2,  17.8393,  35.0458,2,  35.0352,2, 239.0898,2, 238.8789,2,     0.0,2,    0.04,2,    0.00,2,    0.11,2,   2.224,2,   1.282,2,   1.4290,2,  2051.3,2,  2306.2,2,   7.9712,2,    25.00, -999.00,9, -999.00,9, -999.00,  -999.0,9, -999.00,9,     -999.0,9,  -999.0,9, 20170914,      502, -32.5001,-104.8061,        0.0,1,      0.096,1,      4.635,1,      0.175,1,     -999.0,9,     -999.0,9,     -999.0,9,     -999.0,9,     -999.0,9,     -999.0,9,     -999.0,9,     -999.0,9,     -999.0,9,     -999.0,9,     -999.0,9,    17.8128,2,     -999.0,     -999.0,9,     -999.0
320620170820,        P06,     199,          1,         35,         35,2,20170914,       0328,   -32.5002,  -104.8060,       3445,    35.4,  17.6855,  34.9666,2,  34.9144,2, 241.5006,2, 241.0087,2,     0.0,2,    0.05,2,    0.00,2,    0.12,2,   2.260,2,   1.291,2,   1.4420,2,  -999.0,9,  -999.0,9,-999.0000,9,  -999.00, -999.00,9, -999.00,9, -999.00,  -999.0,9, -999.00,9,     -999.0,9,  -999.0,9, 20170914,      503, -32.5002,-104.8060,        0.0,1,      0.091,1,      4.635,1,      0.178,1,     -999.0,9,     -999.0,9,     -999.0,9,     -999.0,9,     -999.0,9,     -999.0,9,     -999.0,9,     -999.0,9,     -999.0,9,     -999.0,9,     -999.0,9,    17.5592,2,     -999.0,     -999.0,9,     -999.0
320620170820,        P06,     199,          1,         36,         36,2,20170914,       0328,   -32.5002,  -104.8060,       3445,     9.1,  17.5918,  34.9263,2,  34.9138,2,  241.427,2, 240.9745,2,     0.0,2,    0.05,2,    0.00,2,    0.13,2,   2.260,2,   1.288,2,   1.4770,2,  2049.0,6,  2302.4,2,   7.9658,2,    25.00,    1.08,2,   45.84,2,    4.76,  -999.0,9, -999.00,9,     -999.0,9,  -999.0,9, 20170914,      505, -32.5002,-104.8060,        0.0,1,      0.086,1,      4.635,1,      0.174,1,     -999.0,9,     -999.0,9,     -999.0,9,     -999.0,9,     -999.0,9,     -999.0,9,     -999.0,9,     -999.0,9,     -999.0,9,     -999.0,9,     -999.0,9,    17.5471,2,     -999.0,     -999.0,9,     -999.0