BOTTLE,20240211CCHSIOCBG
EXPOCODE,SECT_ID,STNNBR,CASTNO,SAMPNO,BTLNBR,BTLNBR_FLAG_W,DATE,TIME,LATITUDE,LONGITUDE,DEPTH,CTDPRS,CTDTMP,CTDSAL,CTDSAL_FLAG_W,SALNTY,SALNTY_FLAG_W,CTDOXY,CTDOXY_FLAG_W,OXYGEN,OXYGEN_FLAG_W,SILCAT,SILCAT_FLAG_W,NITRAT,NITRAT_FLAG_W,NITRIT,NITRIT_FLAG_W,PHSPHT,PHSPHT_FLAG_W,CFC-11,CFC-11_FLAG_W,CFC-12,CFC-12_FLAG_W,SF6,SF6_FLAG_W,TCARBN,TCARBN_FLAG_W,ALKALI,ALKALI_FLAG_W,PH_TOT,PH_TOT_FLAG_W,PH_TMP,DELC13,DELC13_FLAG_W,DELC14,DELC14_FLAG_W,C14ERR,DOC,DOC_FLAG_W,TDN,TDN_FLAG_W,TON,TON_FLAG_W,D15N_NO3,D15N_NO3_FLAG_W,BTL_DATE,BTL_TIME,BTL_LAT,BTL_LON,CTDRINKO,CTDRINKO_FLAG_W,CTDFLUOR,CTDFLUOR_FLAG_W,CTDXMISS,CTDXMISS_FLAG_W,CTDBACKSCATTER,CTDBACKSCATTER_FLAG_W,D18O_NO3,D18O_NO3_FLAG_W,DOP,DOP_FLAG_W,CELLCOUNT,CELLCOUNT_FLAG_W,TDP,TDP_FLAG_W,POP,POP_FLAG_W,DATP,DATP_FLAG_W,PATP,PATP_FLAG_W,HPLC,HPLC_FLAG_W,POC,POC_FLAG_W,BEAMAP,BEAMAP_FLAG_W,DOC_NASA,DOC_NASA_FLAG_W,REFTMP,REFTMP_FLAG_W,DOC_NASA_ERROR,TDN_NASA,TDN_NASA_FLAG_W,TDN_NASA_ERROR
,,,,,,,,,,,METERS,DBAR,ITS-90,PSS-78,,PSS-78,,UMOL/KG,,UMOL/KG,,UMOL/KG,,UMOL/KG,,UMOL/KG,,UMOL/KG,,PMOL/KG,,PMOL/KG,,FMOL/KG,,UMOL/KG,,UMOL/KG,,,,DEG C,/MILLE,,/MILLE,,/MILLE,UMOL/KG,,UMOL/KG,,UMOL/KG,,/MILLE,,,,,,VOLTS,,VOLTS,,VOLTS,,VOLTS,,/MILLE,,UMOL/KG,,/LITER,,UMOL/KG,,UMOL/L,,PMOL/L,,PMOL/L,,,,UG/L,,/METER,,UMOL/L,,ITS-90,,UMOL/L,UMOL/L,,UMOL/L
320620170820,        P06,     160,          2,         27,         27,2,20170831,       2113,   -32.5004,  -135.0280,       4383,   166.1,  15.9437,  35.2190,2,  35.1701,2, 221.1899,2, 219.4764,2,     0.3,2,    2.23,2,    0.04,2,    0.25,2,   2.412,2,   1.441,2,   1.4890,2,  2081.8,2,  2309.0,2,   7.9095,2,    25.00, -999.00,9, -999.00,9, -999.00,    49.0,2,    6.00,2,     -999.0,1,  -999.0,9, 20170831,     2317, -32.5000,-135.0272,        0.0,1,      0.110,1,      4.673,1,      0.147,1,     -999.0,9,     -999.0,9,     -999.0,9,     -999.0,9,     -999.0,9,     -999.0,9,     -999.0,9,     -999.0,9,     -999.0,9,     -999.0,9,     -999.0,9,    15.8442,2,     -999.0,     -999.0,9,     -999.0
320620170820,        P06,     160,          2,         28,         28,2,20170831,       2113,   -32.5004,  -135.0280,       4383,   136.0,  16.6899,  35.2510,2,  35.2522,2, 226.6334,2, 223.9245,2,     0.2,2,    1.02,2,    0.07,2,    0.16,2,   2.364,2,   1.395,2,   1.5850,2,  2070.8,2,  2312.7,2,   7.9372,2,    25.00, -999.00,9, -999.00,9, -999.00,    53.4,2,    4.80,2,     -999.0,1,  -999.0,9, 20170831,     2319, -32.5001,-135.0274,        0.0,1,      0.104,1,      4.670,1,      0.149,1,     -999.0,9,     -999.0,9,     -999.0,9,     -999.0,9,     -999.0,9,     -999.0,9,     -999.0,9,     -999.0,9,     -999.0,9,     -999.0,9,     -999.0,9,    16.7604,2,     -999.0,     -999.0,9,     -999.0
320620170820,        P06,     160,          2,         29,         29,2,20170831,       2113,   -32.5004,  -135.0280,       4383,   110.0,  17.3739,  35.3472,2,  35.3429,2,  234.856,2, 234.7616,2,     0.1,2,    0.04,2,    0.00,2,    0.06,2,   2.265,2,   1.326,2,   1.6850,2,  2056.3,2,  2317.9,2,   7.9718,2,    25.00, -999.00,9, -999.00,9, -999.00,    57.9,2,    4.70,2,     -999.0,1,  -999.0,9, 20170831,     2321, -32.5001,-135.0275,        0.0,1,      0.123,1,      4.660,1,      0.157,1,     -999.0,9,     -999.0,9,     -999.0,9,     -999.0,9,     -999.0,9,     -999.0,9,     -999.0,9,     -999.0,9,     -999.0,9,     -999.0,9,     -999.0,9,    17.3606,2,     -999.0,     -999.0,9,     -999.0
320620170820,        P06,     160,          2,         32,         32,2,20170831,       2113,   -32.5004,  -135.0280,       4383,    79.3,  17.6805,  35.3762,2,-999.0000,9, 228.1433,2,-999.0000,9,  -999.0,9, -999.00,9, -999.00,9, -999.00,9,-999.000,9,-999.000,9,-999.0000,9,  -999.0,9,  -999.0,9,-999.0000,9,  -999.00, -999.00,9, -999.00,9, -999.00,    57.5,2, -999.00,9,     -999.0,9,  -999.0,9, 20170831,     2325, -32.5000,-135.0274,        0.0,1,      0.118,1,      4.653,1,      0.165,1,     -999.0,9,     -999.0,9,     -999.0,9,     -999.0,9,     -999.0,9,     -999.0,9,     -999.0,9,     -999.0,1,     -999.0,1,     -999.0,1,65.44397168,2,    17.6038,2,-83.18068276,41.57224725,2,     -999.0
320620170820,        P06,     160,          2,         31,         31,2,20170831,       2113,   -32.5004,  -135.0280,       4383,    79.2,  17.6805,  35.3762,2,-999.0000,9, 228.5115,2,-999.0000,9,  -999.0,9, -999.00,9, -999.00,9, -999.00,9,-999.000,9,-999.000,9,-999.0000,9,  -999.0,9,  -999.0,9,-999.0000,9,  -999.00, -999.00,9, -999.00,9, -999.00,  -999.0,9, -999.00,9,     -999.0,9,  -999.0,9, 20170831,     2324, -32.5000,-135.0274,        0.0,1,      0.118,1,      4.653,1,      0.165,1,     -999.0,9,     -999.0,9,     -999.0,9,     -999.0,9,     -999.0,9,     -999.0,9,     -999.0,9,     -999.0,1,     -999.0,1,     -999.0,1,65.44397168,2,    17.5993,2,-83.18068276,41.57224725,2,     -999.0
320620170820,        P06,     160,          2,         30,         30,2,20170831,       2113,   -32.5004,  -135.0280,       4383,    78.4,  17.6805,  35.3762,2,  35.3709,2, 233.7832,2, 234.4854,2,     0.1,2,    0.00,2,    0.00,2,    0.06,2,   2.296,6,   1.321,6,   1.7050,6,  2056.6,2,  2321.0,2,   7.9778,6,    25.00, -999.00,9, -999.00,9, -999.00,  -999.0,9, -999.00,9,     -999.0,1,  -999.0,9, 20170831,     2323, -32.5000,-135.0274,        0.0,1,      0.118,1,      4.653,1,      0.165,1,     -999.0,9,     -999.0,9,     -999.0,9,     -999.0,9,     -999.0,9,     -999.0,9,     -999.0,9,     -999.0,9,     -999.0,9,     -999.0,9,     -999.0,9,    17.5736,2,     -999.0,     -999.0,9,     -999.0
320620170820,        P06,     160,          2,         34,         34,2,20170831,       2113,   -32.5004,  -135.0280,       4383,    50.9,  17.7349,  35.3529,2,-999.0000,9, 228.9052,2,-999.0000,9,  -999.0,9, -999.00,9, -999.00,9, -999.00,9,-999.000,9,-999.000,9,-999.0000,9,  -999.0,9,  -999.0,9,-999.0000,9,  -999.00, -999.00,9, -999.00,9, -999.00,  -999.0,9, -999.00,9,     -999.0,9,  -999.0,9, 20170831,     2328, -32.5003,-135.0278,        0.0,1,      0.085,1,      4.649,1,      0.169,1,     -999.0,9,     -999.0,9,     -999.0,9,     -999.0,9,     -999.0,9,     -999.0,9,     -999.0,9,     -999.0,1,     -999.0,1,     -999.0,1,67.40217919,2,    17.6358,2,-83.18068276,49.78345509,2,     -999.0
320620170820,        P06,     160,          2,         33,         33,2,20170831,       2113,   -32.5004,  -135.0280,       4383,    50.5,  17.7349,  35.3529,2,  35.3258,2, 233.9212,2, 235.6096,2,     0.1,2,    0.00,2,    0.00,2,    0.06,2,   2.240,2,   1.314,2,   1.6980,2,  2051.0,2,  2318.2,2,   7.9803,2,    25.00, -999.00,9, -999.00,9, -999.00,    58.3,2,    3.90,2,     -999.0,1,  -999.0,9, 20170831,     2328, -32.5002,-135.0277,        0.0,1,      0.085,1,      4.649,1,      0.169,1,     -999.0,9,     -999.0,9,     -999.0,9,     -999.0,9,     -999.0,9,     -999.0,9,     -999.0,9,     -999.0,9,     -999.0,9,     -999.0,9,     -999.0,9,    17.6367,2,     -999.0,     -999.0,9,     -999.0
320620170820,        P06,     160,          2,         35,         35,2,20170831,       2113,   -32.5004,  -135.0280,       4383,    34.3,  17.7105,  35.3445,2,  35.3161,2, 233.7677,2, 235.9007,2,     0.1,2,    0.00,2,    0.00,2,    0.07,2,   2.237,2,   1.325,2,   1.4650,2,  2052.3,2,  2318.8,2,   7.9795,2,    25.00, -999.00,9, -999.00,9, -999.00,    65.4,2,    3.70,2,     -999.0,1,  -999.0,9, 20170831,     2330, -32.5004,-135.0279,        0.0,1,      0.079,1,      4.649,1,      0.167,1,     -999.0,9,     -999.0,9,     -999.0,9,     -999.0,9,     -999.0,9,     -999.0,9,     -999.0,9,     -999.0,9,     -999.0,9,     -999.0,9,     -999.0,9,    17.6093,2,     -999.0,     -999.0,9,     -999.0
320620170820,        P06,     160,          2,         36,         36,2,20170831,       2113,   -32.5004,  -135.0280,       4383,     2.9,  17.7021,  35.3393,2,  35.3147,2, 234.0487,2, 236.0025,2,     0.1,2,    0.00,2,    0.00,2,    0.09,2,   2.232,2,   1.321,2,   1.7750,2,  2050.9,6,  2317.7,2,   7.9789,2,    25.00, -999.00,9, -999.00,9, -999.00,    60.9,2,    3.80,2,     -999.0,1,  -999.0,9, 20170831,     2332, -32.5004,-135.0280,        0.0,1,      0.068,1,      4.647,1,      0.164,1,     -999.0,9,     -999.0,9,     -999.0,9,     -999.0,9,     -999.0,9,     -999.0,9,     -999.0,9,     -999.0,9,     -999.0,9,     -999.0,9,     -999.0,9,    17.6281,2,     -999.0,     -999.0,9,     -999.0