BOTTLE,20240211CCHSIOCBG
EXPOCODE,SECT_ID,STNNBR,CASTNO,SAMPNO,BTLNBR,BTLNBR_FLAG_W,DATE,TIME,LATITUDE,LONGITUDE,DEPTH,CTDPRS,CTDTMP,CTDSAL,CTDSAL_FLAG_W,SALNTY,SALNTY_FLAG_W,CTDOXY,CTDOXY_FLAG_W,OXYGEN,OXYGEN_FLAG_W,SILCAT,SILCAT_FLAG_W,NITRAT,NITRAT_FLAG_W,NITRIT,NITRIT_FLAG_W,PHSPHT,PHSPHT_FLAG_W,CFC-11,CFC-11_FLAG_W,CFC-12,CFC-12_FLAG_W,SF6,SF6_FLAG_W,TCARBN,TCARBN_FLAG_W,ALKALI,ALKALI_FLAG_W,PH_TOT,PH_TOT_FLAG_W,PH_TMP,DELC13,DELC13_FLAG_W,DELC14,DELC14_FLAG_W,C14ERR,DOC,DOC_FLAG_W,TDN,TDN_FLAG_W,TON,TON_FLAG_W,D15N_NO3,D15N_NO3_FLAG_W,BTL_DATE,BTL_TIME,BTL_LAT,BTL_LON,CTDRINKO,CTDRINKO_FLAG_W,CTDFLUOR,CTDFLUOR_FLAG_W,CTDXMISS,CTDXMISS_FLAG_W,CTDBACKSCATTER,CTDBACKSCATTER_FLAG_W,D18O_NO3,D18O_NO3_FLAG_W,DOP,DOP_FLAG_W,CELLCOUNT,CELLCOUNT_FLAG_W,TDP,TDP_FLAG_W,POP,POP_FLAG_W,DATP,DATP_FLAG_W,PATP,PATP_FLAG_W,HPLC,HPLC_FLAG_W,POC,POC_FLAG_W,BEAMAP,BEAMAP_FLAG_W,DOC_NASA,DOC_NASA_FLAG_W,REFTMP,REFTMP_FLAG_W,DOC_NASA_ERROR,TDN_NASA,TDN_NASA_FLAG_W,TDN_NASA_ERROR
,,,,,,,,,,,METERS,DBAR,ITS-90,PSS-78,,PSS-78,,UMOL/KG,,UMOL/KG,,UMOL/KG,,UMOL/KG,,UMOL/KG,,UMOL/KG,,PMOL/KG,,PMOL/KG,,FMOL/KG,,UMOL/KG,,UMOL/KG,,,,DEG C,/MILLE,,/MILLE,,/MILLE,UMOL/KG,,UMOL/KG,,UMOL/KG,,/MILLE,,,,,,VOLTS,,VOLTS,,VOLTS,,VOLTS,,/MILLE,,UMOL/KG,,/LITER,,UMOL/KG,,UMOL/L,,PMOL/L,,PMOL/L,,,,UG/L,,/METER,,UMOL/L,,ITS-90,,UMOL/L,UMOL/L,,UMOL/L
320620170820,        P06,     218,          1,         27,         27,2,20170920,       0736,   -32.4998,   -89.0951,       3374,   287.3,   8.3079,  34.2582,2,  34.2377,2,  191.738,3, 179.6183,2,     7.3,2,   23.83,2,    0.00,2,    1.77,2,-999.000,9,-999.000,9,-999.0000,9,  2169.2,2,  2266.7,2,   7.6140,6,    25.00, -999.00,9, -999.00,9, -999.00,  -999.0,9, -999.00,9,     -999.0,9,  -999.0,9, 20170920,      901, -32.4998, -89.0951,        0.0,1,      0.061,1,      4.678,1,      0.136,1,     -999.0,9,     -999.0,9,     -999.0,9,     -999.0,9,     -999.0,9,     -999.0,9,     -999.0,9,     -999.0,9,     -999.0,9,     -999.0,9,     -999.0,9,     8.4758,2,     -999.0,     -999.0,9,     -999.0
320620170820,        P06,     218,          1,         28,         28,2,20170920,       0736,   -32.4998,   -89.0951,       3374,   236.2,   9.7304,  34.1840,2,  34.1736,2, 214.9534,2,  215.193,2,     2.3,2,   18.90,2,    0.00,2,    1.34,2,-999.000,9,-999.000,9,-999.0000,9,  2128.5,2,  2263.9,2,   7.7113,2,    25.00, -999.00,9, -999.00,9, -999.00,    44.8,2,   19.80,2,     -999.0,1,  -999.0,9, 20170920,      903, -32.4998, -89.0951,        0.0,1,      0.061,1,      4.675,1,      0.139,1,     -999.0,9,     -999.0,9,     -999.0,9,     -999.0,9,     -999.0,9,     -999.0,9,     -999.0,9,     -999.0,9,     -999.0,9,     -999.0,9,     -999.0,9,     9.5481,2,     -999.0,     -999.0,9,     -999.0
320620170820,        P06,     218,          1,         29,         29,2,20170920,       0736,   -32.4998,   -89.0951,       3374,   186.4,  11.9804,  34.1629,2,  34.1556,2, 216.3061,2, 218.3058,2,     0.5,2,   13.59,2,    0.02,2,    0.99,2,-999.000,9,-999.000,9,-999.0000,9,  2098.9,2,  2261.1,2,   7.7818,2,    25.00, -999.00,9, -999.00,9, -999.00,    48.1,2,   15.80,2,     -999.0,1,  -999.0,9, 20170920,      905, -32.4998, -89.0951,        0.0,1,      0.069,1,      4.669,1,      0.147,1,     -999.0,9,     -999.0,9,     -999.0,9,     -999.0,9,     -999.0,9,     -999.0,9,     -999.0,9,     -999.0,9,     -999.0,9,     -999.0,9,     -999.0,9,    11.8192,2,     -999.0,     -999.0,9,     -999.0
320620170820,        P06,     218,          1,         30,         30,2,20170920,       0736,   -32.4998,   -89.0951,       3374,   141.1,  14.5666,  34.3747,2,  34.2980,3, 251.9923,2, 251.7688,2,     0.0,2,    3.35,2,    0.16,2,    0.41,2,-999.000,9,-999.000,9,-999.0000,9,  2052.1,2,  2272.5,2,   7.9056,2,    25.00, -999.00,9, -999.00,9, -999.00,    57.4,2,    7.50,2,     -999.0,1,  -999.0,9, 20170920,      906, -32.4998, -89.0952,        0.0,1,      0.183,1,      4.611,1,      0.242,1,     -999.0,9,     -999.0,9,     -999.0,9,     -999.0,9,     -999.0,9,     -999.0,9,     -999.0,9,     -999.0,9,     -999.0,9,     -999.0,9,     -999.0,9,    14.2199,2,     -999.0,     -999.0,9,     -999.0
320620170820,        P06,     218,          1,         31,         31,2,20170920,       0736,   -32.4998,   -89.0951,       3374,   116.2,  14.5410,  34.3604,2,  34.3668,2,   253.66,2, 252.3858,2,     0.0,2,    2.60,2,    0.14,2,    0.35,2,-999.000,9,-999.000,9,-999.0000,9,  2051.0,2,  2277.2,2,   7.9155,2,    25.00, -999.00,9, -999.00,9, -999.00,    57.0,2,    7.40,2,     -999.0,1,  -999.0,9, 20170920,      908, -32.4998, -89.0952,        0.0,1,      0.183,1,      4.614,1,      0.224,1,     -999.0,9,     -999.0,9,     -999.0,9,     -999.0,9,     -999.0,9,     -999.0,9,     -999.0,9,     -999.0,9,     -999.0,9,     -999.0,9,     -999.0,9,    14.5556,2,     -999.0,     -999.0,9,     -999.0
320620170820,        P06,     218,          1,         32,         32,2,20170920,       0736,   -32.4998,   -89.0951,       3374,    89.3,  14.6393,  34.3689,2,  34.3535,2, 253.1297,2, 252.9678,2,     0.0,2,    2.62,2,    0.14,2,    0.36,2,-999.000,9,-999.000,9,-999.0000,9,  2050.8,2,  2277.5,2,   7.9148,2,    25.00, -999.00,9, -999.00,9, -999.00,    59.8,2,    6.50,2,     -999.0,1,  -999.0,9, 20170920,      910, -32.4998, -89.0952,        0.0,1,      0.227,1,      4.600,1,      0.251,1,     -999.0,9,     -999.0,9,     -999.0,9,     -999.0,9,     -999.0,9,     -999.0,9,     -999.0,9,     -999.0,9,     -999.0,9,     -999.0,9,     -999.0,9,    14.5064,2,     -999.0,     -999.0,9,     -999.0
320620170820,        P06,     218,          1,         33,         33,2,20170920,       0736,   -32.4998,   -89.0951,       3374,    65.5,  14.6599,  34.3730,2,  34.3692,2, 252.5386,2,  252.896,2,     0.0,2,    2.38,2,    0.13,2,    0.35,2,-999.000,9,-999.000,9,-999.0000,9,  2049.6,2,  2276.3,2,   7.9181,2,    25.00, -999.00,9, -999.00,9, -999.00,    61.3,2,    6.10,2,     -999.0,1,  -999.0,9, 20170920,      911, -32.4998, -89.0952,        0.0,1,      0.241,1,      4.589,1,      0.296,1,     -999.0,9,     -999.0,9,     -999.0,9,     -999.0,9,     -999.0,9,     -999.0,9,     -999.0,9,     -999.0,9,     -999.0,9,     -999.0,9,     -999.0,9,    14.6468,2,     -999.0,     -999.0,9,     -999.0
320620170820,        P06,     218,          1,         34,         34,2,20170920,       0736,   -32.4998,   -89.0951,       3374,    40.5,  14.6737,  34.3736,2,  34.3711,2, 253.2241,2, 253.0435,2,     0.0,2,    2.35,2,    0.13,2,    0.36,2,-999.000,9,-999.000,9,-999.0000,9,  2050.1,2,  2278.0,2,   7.9192,2,    25.00, -999.00,9, -999.00,9, -999.00,    60.5,2,    7.20,2,     -999.0,1,  -999.0,9, 20170920,      913, -32.4998, -89.0952,        0.0,1,      0.214,1,      4.589,1,      0.247,1,     -999.0,9,     -999.0,9,     -999.0,9,     -999.0,9,     -999.0,9,     -999.0,9,     -999.0,9,     -999.0,9,     -999.0,9,     -999.0,9,     -999.0,9,    14.6626,2,     -999.0,     -999.0,9,     -999.0
320620170820,        P06,     218,          1,         35,         35,2,20170920,       0736,   -32.4998,   -89.0951,       3374,    20.8,  14.7152,  34.3759,2,  34.3725,2, 252.9416,2, 252.9922,2,     0.0,2,    2.36,2,    0.13,2,    0.34,2,-999.000,9,-999.000,9,-999.0000,9,  2050.1,2,  2277.9,2,   7.9193,2,    25.00, -999.00,9, -999.00,9, -999.00,    59.0,2,    7.60,2,     -999.0,1,  -999.0,9, 20170920,      914, -32.4998, -89.0952,        0.0,1,      0.199,1,      4.594,1,      0.244,1,     -999.0,9,     -999.0,9,     -999.0,9,     -999.0,9,     -999.0,9,     -999.0,9,     -999.0,9,     -999.0,9,     -999.0,9,     -999.0,9,     -999.0,9,    14.7058,2,     -999.0,     -999.0,9,     -999.0
320620170820,        P06,     218,          1,         36,         36,2,20170920,       0736,   -32.4998,   -89.0951,       3374,     4.4,  14.7373,  34.3763,2,  34.3688,2, 252.9065,2, 253.1671,2,     0.0,2,    2.40,2,    0.13,2,    0.37,2,-999.000,9,-999.000,9,-999.0000,9,  2050.6,6,  2277.6,2,   7.9175,2,    25.00, -999.00,9, -999.00,9, -999.00,    61.4,2,    6.70,2,     -999.0,1,  -999.0,9, 20170920,      916, -32.4998, -89.0951,        0.0,1,      0.197,1,      4.593,1,      0.226,1,     -999.0,9,     -999.0,9,     -999.0,9,     -999.0,9,     -999.0,9,     -999.0,9,     -999.0,9,     -999.0,9,     -999.0,9,     -999.0,9,     -999.0,9,    14.7293,2,     -999.0,     -999.0,9,     -999.0