BOTTLE,20240211CCHSIOCBG
EXPOCODE,SECT_ID,STNNBR,CASTNO,SAMPNO,BTLNBR,BTLNBR_FLAG_W,DATE,TIME,LATITUDE,LONGITUDE,DEPTH,CTDPRS,CTDTMP,CTDSAL,CTDSAL_FLAG_W,SALNTY,SALNTY_FLAG_W,CTDOXY,CTDOXY_FLAG_W,OXYGEN,OXYGEN_FLAG_W,SILCAT,SILCAT_FLAG_W,NITRAT,NITRAT_FLAG_W,NITRIT,NITRIT_FLAG_W,PHSPHT,PHSPHT_FLAG_W,CFC-11,CFC-11_FLAG_W,CFC-12,CFC-12_FLAG_W,SF6,SF6_FLAG_W,TCARBN,TCARBN_FLAG_W,ALKALI,ALKALI_FLAG_W,PH_TOT,PH_TOT_FLAG_W,PH_TMP,DELC13,DELC13_FLAG_W,DELC14,DELC14_FLAG_W,C14ERR,DOC,DOC_FLAG_W,TDN,TDN_FLAG_W,TON,TON_FLAG_W,D15N_NO3,D15N_NO3_FLAG_W,BTL_DATE,BTL_TIME,BTL_LAT,BTL_LON,CTDRINKO,CTDRINKO_FLAG_W,CTDFLUOR,CTDFLUOR_FLAG_W,CTDXMISS,CTDXMISS_FLAG_W,CTDBACKSCATTER,CTDBACKSCATTER_FLAG_W,D18O_NO3,D18O_NO3_FLAG_W,DOP,DOP_FLAG_W,CELLCOUNT,CELLCOUNT_FLAG_W,TDP,TDP_FLAG_W,POP,POP_FLAG_W,DATP,DATP_FLAG_W,PATP,PATP_FLAG_W,HPLC,HPLC_FLAG_W,POC,POC_FLAG_W,BEAMAP,BEAMAP_FLAG_W,DOC_NASA,DOC_NASA_FLAG_W,REFTMP,REFTMP_FLAG_W,DOC_NASA_ERROR,TDN_NASA,TDN_NASA_FLAG_W,TDN_NASA_ERROR
,,,,,,,,,,,METERS,DBAR,ITS-90,PSS-78,,PSS-78,,UMOL/KG,,UMOL/KG,,UMOL/KG,,UMOL/KG,,UMOL/KG,,UMOL/KG,,PMOL/KG,,PMOL/KG,,FMOL/KG,,UMOL/KG,,UMOL/KG,,,,DEG C,/MILLE,,/MILLE,,/MILLE,UMOL/KG,,UMOL/KG,,UMOL/KG,,/MILLE,,,,,,VOLTS,,VOLTS,,VOLTS,,VOLTS,,/MILLE,,UMOL/KG,,/LITER,,UMOL/KG,,UMOL/L,,PMOL/L,,PMOL/L,,,,UG/L,,/METER,,UMOL/L,,ITS-90,,UMOL/L,UMOL/L,,UMOL/L
320620170820,        P06,     161,          1,         27,         27,2,20170901,       0603,   -32.4997,  -134.1373,       4092,   285.8,  12.1340,  34.7828,2,  34.7514,3, 204.7268,2, 202.8238,2,     2.0,2,   11.01,2,    0.00,2,    0.77,2,   2.918,2,   1.671,2,   1.1490,2,  2117.0,2,  2289.1,2,   7.8027,2,    25.00, -999.00,9, -999.00,9, -999.00,  -999.0,9, -999.00,9,     -999.0,9,  -999.0,1, 20170901,      735, -32.5001,-134.1377,        0.0,1,      0.060,1,      4.688,1,      0.135,1,     -999.0,1,     -999.0,1,     -999.0,9,     -999.0,9,     -999.0,9,     -999.0,9,     -999.0,9,     -999.0,9,     -999.0,9,     -999.0,9,     -999.0,9,    11.9757,2,     -999.0,     -999.0,9,     -999.0
320620170820,        P06,     161,          1,         28,         28,2,20170901,       0603,   -32.4997,  -134.1373,       4092,   236.8,  13.7748,  34.9471,2,  34.9394,2, 224.6031,2, 217.2505,2,     0.9,2,    5.73,2,    0.00,2,    0.45,2,   2.661,2,   1.601,2,   1.5870,2,  2097.1,2,  2299.6,2,   7.8583,2,    25.00, -999.00,9, -999.00,9, -999.00,  -999.0,9, -999.00,9,     -999.0,9,  -999.0,1, 20170901,      737, -32.4999,-134.1376,        0.0,1,      0.064,1,      4.685,1,      0.133,1,     -999.0,1,     -999.0,1,     -999.0,9,     -999.0,9,     -999.0,9,     -999.0,9,     -999.0,9,     -999.0,9,     -999.0,9,     -999.0,9,     -999.0,9,    13.7680,2,     -999.0,     -999.0,9,     -999.0
320620170820,        P06,     161,          1,         29,         29,2,20170901,       0603,   -32.4997,  -134.1373,       4092,   184.2,  14.8204,  35.0257,2,  35.0187,2, 229.9878,2, 224.8769,2,     0.4,2,    2.94,2,    0.04,2,    0.28,2,   2.521,2,   1.534,2,   1.8010,2,  2087.3,2,  2304.1,2,   7.8890,6,    25.00, -999.00,9, -999.00,9, -999.00,  -999.0,9, -999.00,9,     -999.0,9,  -999.0,1, 20170901,      739, -32.4999,-134.1376,        0.0,1,      0.092,1,      4.676,1,      0.140,1,     -999.0,1,     -999.0,1,     -999.0,9,     -999.0,9,     -999.0,9,     -999.0,9,     -999.0,9,     -999.0,9,     -999.0,9,     -999.0,9,     -999.0,9,    14.7368,2,     -999.0,     -999.0,9,     -999.0
320620170820,        P06,     161,          1,         30,         30,2,20170901,       0603,   -32.4997,  -134.1373,       4092,   142.2,  16.5713,  35.1981,2,  35.1733,2, 231.3136,2, 237.5366,2,     0.2,2,    0.17,2,    0.03,2,    0.08,2,   2.252,2,   1.398,2,   1.6730,2,  2062.0,2,  2311.3,2,   7.9518,2,    25.00, -999.00,9, -999.00,9, -999.00,  -999.0,9, -999.00,9,     -999.0,9,  -999.0,1, 20170901,      741, -32.4999,-134.1375,        0.0,1,      0.114,1,      4.666,1,      0.153,1,     -999.0,1,     -999.0,1,     -999.0,9,     -999.0,9,     -999.0,9,     -999.0,9,     -999.0,9,     -999.0,9,     -999.0,9,     -999.0,9,     -999.0,9,    16.5905,2,     -999.0,     -999.0,9,     -999.0
320620170820,        P06,     161,          1,         31,         31,2,20170901,       0603,   -32.4997,  -134.1373,       4092,   113.6,  16.7396,  35.1959,2,  35.1506,2, 235.2513,3, 220.3635,2,     0.2,2,    0.00,2,    0.00,2,    0.07,2,   2.261,2,   1.358,2,   1.7410,2,  2057.1,2,  2310.1,2,   7.9570,2,    25.00, -999.00,9, -999.00,9, -999.00,  -999.0,9, -999.00,9,     -999.0,9,  -999.0,1, 20170901,      743, -32.4998,-134.1375,        0.0,1,      0.125,1,      4.662,1,      0.158,1,     -999.0,1,     -999.0,1,     -999.0,9,     -999.0,9,     -999.0,9,     -999.0,9,     -999.0,9,     -999.0,9,     -999.0,9,     -999.0,9,     -999.0,9,    16.5840,2,     -999.0,     -999.0,9,     -999.0
320620170820,        P06,     161,          1,         32,         32,2,20170901,       0603,   -32.4997,  -134.1373,       4092,    89.8,  16.7998,  35.2098,2,  35.2544,2, 231.1443,2, 237.0728,2,     0.2,2,    0.01,2,    0.02,2,    0.07,2,   2.228,2,   1.360,2,   1.7860,2,  2057.9,2,  2316.5,2,   7.9631,2,    25.00, -999.00,9, -999.00,9, -999.00,  -999.0,9, -999.00,9,     -999.0,9,  -999.0,1, 20170901,      744, -32.4998,-134.1375,        0.0,1,      0.157,1,      4.652,1,      0.165,1,     -999.0,1,     -999.0,1,     -999.0,9,     -999.0,9,     -999.0,9,     -999.0,9,     -999.0,9,     -999.0,9,     -999.0,9,     -999.0,9,     -999.0,9,    16.9645,2,     -999.0,     -999.0,9,     -999.0
320620170820,        P06,     161,          1,         33,         33,2,20170901,       0603,   -32.4997,  -134.1373,       4092,    63.2,  16.9043,  35.2303,2,  35.2639,2, 231.6426,2, 237.9575,2,     0.2,2,    0.00,2,    0.00,2,    0.06,2,   2.185,2,   1.370,2,   1.7010,2,  2059.7,2,  2318.7,2,   7.9659,2,    25.00, -999.00,9, -999.00,9, -999.00,  -999.0,9, -999.00,9,     -999.0,9,  -999.0,1, 20170901,      746, -32.4997,-134.1374,        0.0,1,      0.148,1,      4.644,1,      0.173,1,     -999.0,1,     -999.0,1,     -999.0,9,     -999.0,9,     -999.0,9,     -999.0,9,     -999.0,9,     -999.0,9,     -999.0,9,     -999.0,9,     -999.0,9,    17.0192,2,     -999.0,     -999.0,9,     -999.0
320620170820,        P06,     161,          1,         34,         34,2,20170901,       0603,   -32.4997,  -134.1373,       4092,    40.1,  17.0358,  35.2497,2,  35.2570,2, 229.0481,2, 238.6308,2,     0.2,2,    0.00,2,    0.00,2,    0.07,2,   2.248,2,   1.352,2,   1.6430,2,  2056.5,2,  2313.5,2,   7.9678,2,    25.00, -999.00,9, -999.00,9, -999.00,  -999.0,9, -999.00,9,     -999.0,9,  -999.0,1, 20170901,      747, -32.4997,-134.1374,        0.0,1,      0.118,1,      4.640,1,      0.180,1,     -999.0,1,     -999.0,1,     -999.0,9,     -999.0,9,     -999.0,9,     -999.0,9,     -999.0,9,     -999.0,9,     -999.0,9,     -999.0,9,     -999.0,9,    17.0561,2,     -999.0,     -999.0,9,     -999.0
320620170820,        P06,     161,          1,         35,         35,2,20170901,       0603,   -32.4997,  -134.1373,       4092,    16.0,  17.0722,  35.2523,2,  35.2562,2, 229.0432,2, 238.9351,2,     0.3,2,    0.00,2,    0.00,2,    0.07,2,   2.248,2,   1.367,2,   1.6860,2,  2058.3,2,  2314.5,2,   7.9679,2,    25.00, -999.00,9, -999.00,9, -999.00,  -999.0,9, -999.00,9,     -999.0,9,  -999.0,1, 20170901,      749, -32.4997,-134.1373,        0.0,1,      0.103,1,      4.640,1,      0.175,1,     -999.0,1,     -999.0,1,     -999.0,9,     -999.0,9,     -999.0,9,     -999.0,9,     -999.0,9,     -999.0,9,     -999.0,9,     -999.0,9,     -999.0,9,    17.0526,2,     -999.0,     -999.0,9,     -999.0
320620170820,        P06,     161,          1,         36,         36,2,20170901,       0603,   -32.4997,  -134.1373,       4092,     9.1,  17.0689,  35.2525,2,  35.2578,2, 229.0617,2, 238.4688,2,     0.3,2,    0.00,2,    0.00,2,    0.08,2,   2.242,2,   1.379,2,   1.7540,2,  2055.4,6,  2316.2,2,   7.9677,2,    25.00, -999.00,9, -999.00,9, -999.00,  -999.0,9, -999.00,9,     -999.0,9,  -999.0,1, 20170901,      750, -32.4997,-134.1373,        0.0,1,      0.103,1,      4.640,1,      0.177,1,     -999.0,1,     -999.0,1,     -999.0,9,     -999.0,9,     -999.0,9,     -999.0,9,     -999.0,9,     -999.0,9,     -999.0,9,     -999.0,9,     -999.0,9,    17.0554,2,     -999.0,     -999.0,9,     -999.0