BOTTLE,20240211CCHSIOCBG
EXPOCODE,SECT_ID,STNNBR,CASTNO,SAMPNO,BTLNBR,BTLNBR_FLAG_W,DATE,TIME,LATITUDE,LONGITUDE,DEPTH,CTDPRS,CTDTMP,CTDSAL,CTDSAL_FLAG_W,SALNTY,SALNTY_FLAG_W,CTDOXY,CTDOXY_FLAG_W,OXYGEN,OXYGEN_FLAG_W,SILCAT,SILCAT_FLAG_W,NITRAT,NITRAT_FLAG_W,NITRIT,NITRIT_FLAG_W,PHSPHT,PHSPHT_FLAG_W,CFC-11,CFC-11_FLAG_W,CFC-12,CFC-12_FLAG_W,SF6,SF6_FLAG_W,TCARBN,TCARBN_FLAG_W,ALKALI,ALKALI_FLAG_W,PH_TOT,PH_TOT_FLAG_W,PH_TMP,DELC13,DELC13_FLAG_W,DELC14,DELC14_FLAG_W,C14ERR,DOC,DOC_FLAG_W,TDN,TDN_FLAG_W,TON,TON_FLAG_W,D15N_NO3,D15N_NO3_FLAG_W,BTL_DATE,BTL_TIME,BTL_LAT,BTL_LON,CTDRINKO,CTDRINKO_FLAG_W,CTDFLUOR,CTDFLUOR_FLAG_W,CTDXMISS,CTDXMISS_FLAG_W,CTDBACKSCATTER,CTDBACKSCATTER_FLAG_W,D18O_NO3,D18O_NO3_FLAG_W,DOP,DOP_FLAG_W,CELLCOUNT,CELLCOUNT_FLAG_W,TDP,TDP_FLAG_W,POP,POP_FLAG_W,DATP,DATP_FLAG_W,PATP,PATP_FLAG_W,HPLC,HPLC_FLAG_W,POC,POC_FLAG_W,BEAMAP,BEAMAP_FLAG_W,DOC_NASA,DOC_NASA_FLAG_W,REFTMP,REFTMP_FLAG_W,DOC_NASA_ERROR,TDN_NASA,TDN_NASA_FLAG_W,TDN_NASA_ERROR
,,,,,,,,,,,METERS,DBAR,ITS-90,PSS-78,,PSS-78,,UMOL/KG,,UMOL/KG,,UMOL/KG,,UMOL/KG,,UMOL/KG,,UMOL/KG,,PMOL/KG,,PMOL/KG,,FMOL/KG,,UMOL/KG,,UMOL/KG,,,,DEG C,/MILLE,,/MILLE,,/MILLE,UMOL/KG,,UMOL/KG,,UMOL/KG,,/MILLE,,,,,,VOLTS,,VOLTS,,VOLTS,,VOLTS,,/MILLE,,UMOL/KG,,/LITER,,UMOL/KG,,UMOL/L,,PMOL/L,,PMOL/L,,,,UG/L,,/METER,,UMOL/L,,ITS-90,,UMOL/L,UMOL/L,,UMOL/L
320620170820,        P06,     195,          1,         27,         27,2,20170912,       2343,   -32.4998,  -107.5659,       3276,   250.7,  11.4589,  34.4394,2,  34.4322,2, 222.7271,2, 222.6136,2,     1.0,2,   12.27,2,    0.00,2,    0.86,2,   3.076,2,   1.753,2,   1.6380,2,  2111.5,2,  2270.9,2,   7.7872,2,    25.00, -999.00,9, -999.00,9, -999.00,  -999.0,9, -999.00,9,     -999.0,9,  -999.0,1, 20170913,      109, -32.5000,-107.5656,        0.0,1,      0.061,1,      4.681,1,      0.131,1,     -999.0,1,     -999.0,1,     -999.0,9,     -999.0,9,     -999.0,9,     -999.0,9,     -999.0,9,     -999.0,9,     -999.0,9,     -999.0,9,     -999.0,9,    11.2845,2,     -999.0,     -999.0,9,     -999.0
320620170820,        P06,     195,          1,         28,         28,2,20170912,       2343,   -32.4998,  -107.5659,       3276,   200.6,  13.2474,  34.5207,2,  34.5007,2, 228.7045,2, 228.3682,2,     0.2,2,    7.10,2,    0.02,2,    0.56,2,   2.703,2,   1.619,2,   1.7080,2,  2088.9,2,  2274.8,2,   7.8404,2,    25.00, -999.00,9, -999.00,9, -999.00,  -999.0,9, -999.00,9,     -999.0,9,  -999.0,1, 20170913,      112, -32.5000,-107.5657,        0.0,1,      0.073,1,      4.676,1,      0.136,1,     -999.0,1,     -999.0,1,     -999.0,9,       0.79,2,     -999.0,9,     -999.0,9,     -999.0,9,     -999.0,9,     -999.0,9,     -999.0,9,     -999.0,9,    12.9456,2,     -999.0,     -999.0,9,     -999.0
320620170820,        P06,     195,          1,         29,         29,2,20170912,       2343,   -32.4998,  -107.5659,       3276,   177.7,  14.2297,  34.6121,2,  34.5753,2, 235.0076,2, 233.9483,2,     0.0,2,    3.86,2,    0.27,2,    0.38,2,   2.572,2,   1.557,2,   1.7670,2,  2076.3,2,  2277.0,2,   7.8723,2,    25.00, -999.00,9, -999.00,9, -999.00,  -999.0,9, -999.00,9,     -999.0,9,  -999.0,1, 20170913,      113, -32.4999,-107.5658,        0.0,1,      0.091,1,      4.671,1,      0.140,1,     -999.0,1,     -999.0,1,     -999.0,9,     -999.0,9,     -999.0,9,     -999.0,9,     -999.0,9,     -999.0,9,     -999.0,9,     -999.0,9,     -999.0,9,    13.8961,2,     -999.0,     -999.0,9,     -999.0
320620170820,        P06,     195,          1,         30,         30,2,20170912,       2343,   -32.4998,  -107.5659,       3276,   151.3,  14.6001,  34.5728,2,  34.6095,2, 240.6783,2, 238.3354,2,     0.0,2,    1.92,2,    0.57,2,    0.29,2,   2.504,2,   1.522,2,   1.8490,2,  2068.8,2,  2276.9,2,   7.8928,2,    25.00, -999.00,9, -999.00,9, -999.00,  -999.0,9, -999.00,9,     -999.0,9,  -999.0,1, 20170913,      115, -32.4999,-107.5659,        0.0,1,      0.136,1,      4.661,1,      0.149,1,     -999.0,1,     -999.0,1,     -999.0,9,       0.52,2,     -999.0,9,     -999.0,9,     -999.0,9,     -999.0,9,     -999.0,9,     -999.0,9,     -999.0,9,    14.5128,2,     -999.0,     -999.0,9,     -999.0
320620170820,        P06,     195,          1,         31,         31,2,20170912,       2343,   -32.4998,  -107.5659,       3276,   125.7,  15.9860,  34.7342,2,  34.7252,3, 241.1918,2,  240.841,2,     0.0,2,    0.36,2,    0.16,2,    0.15,2,   2.308,2,   1.412,2,   1.7890,2,  2052.3,2,  2284.2,2,   7.9343,2,    25.00, -999.00,9, -999.00,9, -999.00,  -999.0,9, -999.00,9,     -999.0,9,  -999.0,1, 20170913,      117, -32.4998,-107.5660,        0.0,1,      0.184,1,      4.646,1,      0.166,1,     -999.0,1,     -999.0,1,     -999.0,9,     -999.0,9,     -999.0,9,     -999.0,9,     -999.0,9,     -999.0,9,     -999.0,9,     -999.0,9,     -999.0,9,    16.2755,2,     -999.0,     -999.0,9,     -999.0
320620170820,        P06,     195,          1,         32,         32,2,20170912,       2343,   -32.4998,  -107.5659,       3276,   101.7,  16.8956,  34.7806,2,  34.7066,2, 241.8547,2, 243.2868,2,     0.0,2,    0.05,2,    0.00,2,    0.09,2,   2.270,2,   1.363,2,   1.7540,2,  2039.3,2,  2283.7,2,   7.9529,2,    25.00, -999.00,9, -999.00,9, -999.00,  -999.0,9, -999.00,9,     -999.0,9,  -999.0,1, 20170913,      119, -32.4997,-107.5660,        0.0,1,      0.204,1,      4.620,1,      0.189,1,     -999.0,1,     -999.0,1,     -999.0,9,       0.34,2,     -999.0,9,     -999.0,9,     -999.0,9,     -999.0,9,     -999.0,9,     -999.0,9,     -999.0,9,    16.6561,2,     -999.0,     -999.0,9,     -999.0
320620170820,        P06,     195,          1,         33,         33,2,20170912,       2343,   -32.4998,  -107.5659,       3276,    75.3,  16.9406,  34.7537,2,  34.6956,2, 244.5641,2, 245.1917,2,     0.0,2,    0.00,2,    0.00,2,    0.10,2,-999.000,9,-999.000,9,-999.0000,9,  2039.5,2,  2280.8,2,   7.9550,2,    25.00, -999.00,9, -999.00,9, -999.00,  -999.0,9, -999.00,9,     -999.0,9,  -999.0,1, 20170913,      120, -32.4997,-107.5660,        0.0,1,      0.129,1,      4.619,1,      0.187,1,     -999.0,1,     -999.0,1,     -999.0,9,     -999.0,9,     -999.0,9,     -999.0,9,     -999.0,9,     -999.0,9,     -999.0,9,     -999.0,9,     -999.0,9,    16.8205,2,     -999.0,     -999.0,9,     -999.0
320620170820,        P06,     195,          1,         34,         34,2,20170912,       2343,   -32.4998,  -107.5659,       3276,    50.5,  16.9234,  34.7304,2,  34.7005,2, 244.9468,2, 246.0545,2,     0.0,2,    0.01,2,    0.00,2,    0.10,2,   2.302,2,   1.354,2,   1.7040,2,  2041.9,2,  2283.5,2,   7.9548,2,    25.00, -999.00,9, -999.00,9, -999.00,  -999.0,9, -999.00,9,     -999.0,9,  -999.0,1, 20170913,      122, -32.4997,-107.5660,        0.0,1,      0.103,1,      4.620,1,      0.183,1,     -999.0,1,     -999.0,1,     -999.0,9,       0.34,2,     -999.0,9,     -999.0,9,     -999.0,9,     -999.0,9,     -999.0,9,     -999.0,9,     -999.0,9,    16.8291,2,     -999.0,     -999.0,9,     -999.0
320620170820,        P06,     195,          1,         35,         35,2,20170912,       2343,   -32.4998,  -107.5659,       3276,    25.2,  16.9209,  34.7280,2,  34.6975,2, 245.0456,2, 245.6221,2,     0.0,2,    0.00,2,    0.00,2,    0.11,2,   2.270,2,   1.356,2,   1.7320,2,  2041.1,2,  2282.5,2,   7.9554,2,    25.00, -999.00,9, -999.00,9, -999.00,  -999.0,9, -999.00,9,     -999.0,9,  -999.0,1, 20170913,      124, -32.4998,-107.5660,        0.0,1,      0.097,1,      4.619,1,      0.180,1,     -999.0,1,     -999.0,1,     -999.0,9,     -999.0,9,     -999.0,9,     -999.0,9,     -999.0,9,     -999.0,9,     -999.0,9,     -999.0,9,     -999.0,9,    16.8314,2,     -999.0,     -999.0,9,     -999.0
320620170820,        P06,     195,          1,         36,         36,2,20170912,       2343,   -32.4998,  -107.5659,       3276,     5.0,  16.9655,  34.7294,2,  34.7146,2, 245.5728,2, 245.2447,2,     0.0,2,    0.00,2,    0.00,2,    0.11,2,   2.249,2,   1.337,2,   1.7330,2,  2038.9,6,  2284.4,2,   7.9552,2,    25.00,    1.01,2,   37.70,2,    4.22,  -999.0,9, -999.00,9,     -999.0,9,  -999.0,1, 20170913,      126, -32.4998,-107.5659,        0.0,1,      0.087,1,      4.623,1,      0.180,1,     -999.0,1,     -999.0,1,     -999.0,9,     -999.0,9,     -999.0,9,     -999.0,9,     -999.0,9,     -999.0,9,     -999.0,9,     -999.0,9,     -999.0,9,    17.0001,2,     -999.0,     -999.0,9,     -999.0