BOTTLE,20240211CCHSIOCBG
EXPOCODE,SECT_ID,STNNBR,CASTNO,SAMPNO,BTLNBR,BTLNBR_FLAG_W,DATE,TIME,LATITUDE,LONGITUDE,DEPTH,CTDPRS,CTDTMP,CTDSAL,CTDSAL_FLAG_W,SALNTY,SALNTY_FLAG_W,CTDOXY,CTDOXY_FLAG_W,OXYGEN,OXYGEN_FLAG_W,SILCAT,SILCAT_FLAG_W,NITRAT,NITRAT_FLAG_W,NITRIT,NITRIT_FLAG_W,PHSPHT,PHSPHT_FLAG_W,CFC-11,CFC-11_FLAG_W,CFC-12,CFC-12_FLAG_W,SF6,SF6_FLAG_W,TCARBN,TCARBN_FLAG_W,ALKALI,ALKALI_FLAG_W,PH_TOT,PH_TOT_FLAG_W,PH_TMP,DELC13,DELC13_FLAG_W,DELC14,DELC14_FLAG_W,C14ERR,DOC,DOC_FLAG_W,TDN,TDN_FLAG_W,TON,TON_FLAG_W,D15N_NO3,D15N_NO3_FLAG_W,BTL_DATE,BTL_TIME,BTL_LAT,BTL_LON,CTDRINKO,CTDRINKO_FLAG_W,CTDFLUOR,CTDFLUOR_FLAG_W,CTDXMISS,CTDXMISS_FLAG_W,CTDBACKSCATTER,CTDBACKSCATTER_FLAG_W,D18O_NO3,D18O_NO3_FLAG_W,DOP,DOP_FLAG_W,CELLCOUNT,CELLCOUNT_FLAG_W,TDP,TDP_FLAG_W,POP,POP_FLAG_W,DATP,DATP_FLAG_W,PATP,PATP_FLAG_W,HPLC,HPLC_FLAG_W,POC,POC_FLAG_W,BEAMAP,BEAMAP_FLAG_W,DOC_NASA,DOC_NASA_FLAG_W,REFTMP,REFTMP_FLAG_W,DOC_NASA_ERROR,TDN_NASA,TDN_NASA_FLAG_W,TDN_NASA_ERROR
,,,,,,,,,,,METERS,DBAR,ITS-90,PSS-78,,PSS-78,,UMOL/KG,,UMOL/KG,,UMOL/KG,,UMOL/KG,,UMOL/KG,,UMOL/KG,,PMOL/KG,,PMOL/KG,,FMOL/KG,,UMOL/KG,,UMOL/KG,,,,DEG C,/MILLE,,/MILLE,,/MILLE,UMOL/KG,,UMOL/KG,,UMOL/KG,,/MILLE,,,,,,VOLTS,,VOLTS,,VOLTS,,VOLTS,,/MILLE,,UMOL/KG,,/LITER,,UMOL/KG,,UMOL/L,,PMOL/L,,PMOL/L,,,,UG/L,,/METER,,UMOL/L,,ITS-90,,UMOL/L,UMOL/L,,UMOL/L
320620170820,        P06,     185,          1,         27,         27,2,20170910,       0307,   -32.5002,  -114.7453,       2870,   149.9,  14.0798,  34.5704,2,  34.5684,2, 240.9405,2, 240.3663,2,     0.0,2,    2.11,2,    0.60,2,    0.32,2,   2.597,2,   1.533,2,   1.7620,2,  2068.4,2,  2277.8,4,   7.8875,3,    25.00, -999.00,9, -999.00,9, -999.00,  -999.0,9, -999.00,9,     -999.0,9,  -999.0,9, 20170910,      424, -32.5003,-114.7451,        0.0,1,      0.143,1,      4.660,1,      0.152,1,     -999.0,9,     -999.0,9,     -999.0,9,     -999.0,9,     -999.0,9,     -999.0,9,     -999.0,9,     -999.0,9,     -999.0,9,     -999.0,9,     -999.0,9,    14.2417,2,     -999.0,     -999.0,9,     -999.0
320620170820,        P06,     185,          1,         30,         30,2,20170910,       0307,   -32.5002,  -114.7453,       2870,   124.1,  15.5223,  34.6274,2,  34.6765,2, 242.2536,2, 243.7413,2,     0.0,2,    0.00,2,    0.02,2,    0.11,2,   2.288,2,   1.381,2,   1.8060,2,  2041.4,2,  2277.8,4,   7.9427,3,    25.00, -999.00,9, -999.00,9, -999.00,  -999.0,9, -999.00,9,     -999.0,9,  -999.0,9, 20170910,      427, -32.5004,-114.7451,        0.0,1,      0.205,1,      4.633,1,      0.180,1,     -999.0,9,     -999.0,9,     -999.0,9,     -999.0,9,     -999.0,9,     -999.0,9,     -999.0,9,     -999.0,9,     -999.0,9,     -999.0,9,     -999.0,9,    16.2099,2,     -999.0,     -999.0,9,     -999.0
320620170820,        P06,     185,          1,         28,         28,2,20170910,       0307,   -32.5002,  -114.7453,       2870,   124.0,  15.7212,  34.6282,2,-999.0000,9, 236.7027,2,-999.0000,9,  -999.0,9, -999.00,9, -999.00,9, -999.00,9,-999.000,9,-999.000,9,-999.0000,9,  -999.0,9,  -999.0,9,-999.0000,9,  -999.00, -999.00,9, -999.00,9, -999.00,  -999.0,9, -999.00,9,     -999.0,9,  -999.0,9, 20170910,      426, -32.5004,-114.7451,        0.0,1,      0.204,1,      4.633,1,      0.181,1,     -999.0,9,     -999.0,9,     -999.0,9,     -999.0,9,     -999.0,9,     -999.0,9,     -999.0,9,     -999.0,1,     -999.0,1,     -999.0,9,     -999.0,9,    16.1814,2,     -999.0,     -999.0,9,     -999.0
320620170820,        P06,     185,          1,         29,         29,2,20170910,       0307,   -32.5002,  -114.7453,       2870,   123.9,  15.7212,  34.6282,2,-999.0000,9, 236.8403,2,-999.0000,9,  -999.0,9, -999.00,9, -999.00,9, -999.00,9,-999.000,9,-999.000,9,-999.0000,9,  -999.0,9,  -999.0,9,-999.0000,9,  -999.00, -999.00,9, -999.00,9, -999.00,  -999.0,9, -999.00,9,     -999.0,9,  -999.0,9, 20170910,      426, -32.5004,-114.7451,        0.0,1,      0.204,1,      4.633,1,      0.181,1,     -999.0,9,     -999.0,9,     -999.0,9,     -999.0,9,     -999.0,9,     -999.0,9,     -999.0,9,     -999.0,1,     -999.0,1,     -999.0,9,     -999.0,9,    16.1954,2,     -999.0,     -999.0,9,     -999.0
320620170820,        P06,     185,          1,         31,         31,2,20170910,       0307,   -32.5002,  -114.7453,       2870,   100.2,  16.3691,  34.6941,2,  34.6146,2, 239.0148,2, 246.0547,2,     0.0,2,    0.00,2,    0.00,2,    0.11,2,   2.269,2,   1.368,2,   1.7400,2,  2039.0,2,  2278.7,4,   7.9438,3,    25.00, -999.00,9, -999.00,9, -999.00,  -999.0,9, -999.00,9,     -999.0,9,  -999.0,9, 20170910,      429, -32.5004,-114.7451,        0.0,1,      0.192,1,      4.625,1,      0.187,1,     -999.0,9,     -999.0,9,     -999.0,9,     -999.0,9,     -999.0,9,     -999.0,9,     -999.0,9,     -999.0,9,     -999.0,9,     -999.0,9,     -999.0,9,    16.1290,2,     -999.0,     -999.0,9,     -999.0
320620170820,        P06,     185,          1,         33,         33,2,20170910,       0307,   -32.5002,  -114.7453,       2870,    75.6,  16.3011,  34.6628,2,  34.6093,2, 240.1039,2, 247.2725,2,     0.0,2,    0.00,2,    0.00,2,    0.11,2,   2.280,2,   1.365,2,   1.6700,2,  2038.7,2,  2278.0,4,   7.9457,3,    25.00, -999.00,9, -999.00,9, -999.00,  -999.0,9, -999.00,9,     -999.0,9,  -999.0,9, 20170910,      431, -32.5003,-114.7452,        0.0,1,      0.143,1,      4.620,1,      0.189,1,     -999.0,9,     -999.0,9,     -999.0,9,     -999.0,9,     -999.0,9,     -999.0,9,     -999.0,9,     -999.0,9,     -999.0,9,     -999.0,9,     -999.0,9,    16.1328,2,     -999.0,     -999.0,9,     -999.0
320620170820,        P06,     185,          1,         32,         32,2,20170910,       0307,   -32.5002,  -114.7453,       2870,    75.5,  16.3011,  34.6628,2,-999.0000,9, 239.8783,2,-999.0000,9,  -999.0,9, -999.00,9, -999.00,9, -999.00,9,-999.000,9,-999.000,9,-999.0000,9,  -999.0,9,  -999.0,9,-999.0000,9,  -999.00, -999.00,9, -999.00,9, -999.00,  -999.0,9, -999.00,9,     -999.0,9,  -999.0,9, 20170910,      430, -32.5003,-114.7451,        0.0,1,      0.143,1,      4.620,1,      0.189,1,     -999.0,9,     -999.0,9,     -999.0,9,     -999.0,9,     -999.0,9,     -999.0,9,     -999.0,9,     -999.0,1,     -999.0,1,     -999.0,9,     -999.0,9,    16.1355,2,     -999.0,     -999.0,9,     -999.0
320620170820,        P06,     185,          1,         34,         34,2,20170910,       0307,   -32.5002,  -114.7453,       2870,    50.2,  16.1858,  34.6070,2,  34.6093,2, 246.2165,2, 247.4094,2,     0.0,2,    0.00,2,    0.00,2,    0.11,2,   2.288,2,   1.374,2,   1.7460,2,  2037.1,2,  2277.5,4,   7.9463,3,    25.00, -999.00,9, -999.00,9, -999.00,  -999.0,9, -999.00,9,     -999.0,9,  -999.0,9, 20170910,      433, -32.5003,-114.7452,        0.0,1,      0.103,1,      4.617,1,      0.195,1,     -999.0,9,     -999.0,9,     -999.0,9,     -999.0,9,     -999.0,9,     -999.0,9,     -999.0,9,     -999.0,9,     -999.0,9,     -999.0,9,     -999.0,9,    16.2275,2,     -999.0,     -999.0,9,     -999.0
320620170820,        P06,     185,          1,         35,         35,2,20170910,       0307,   -32.5002,  -114.7453,       2870,    23.5,  17.1268,  34.7655,2,  34.8418,3, 235.8718,2,  241.723,2,     0.0,2,    0.00,2,    0.00,2,    0.09,2,   2.181,2,   1.312,2,   1.7400,2,  2043.3,2,  2291.0,4,   7.9596,3,    25.00, -999.00,9, -999.00,9, -999.00,  -999.0,9, -999.00,9,     -999.0,9,  -999.0,9, 20170910,      435, -32.5002,-114.7452,        0.0,1,      0.078,1,      4.639,1,      0.166,1,     -999.0,9,     -999.0,9,     -999.0,9,     -999.0,9,     -999.0,9,     -999.0,9,     -999.0,9,     -999.0,1,     -999.0,9,     -999.0,9,     -999.0,9,    17.3018,2,     -999.0,     -999.0,9,     -999.0
320620170820,        P06,     185,          1,         36,         36,2,20170910,       0307,   -32.5002,  -114.7453,       2870,     4.3,  17.7118,  34.9302,2,  34.8727,2,  244.842,2, 241.1858,2,     0.0,2,    0.00,2,    0.00,2,    0.10,2,   2.170,2,   1.310,2,   1.6280,2,  2042.4,6,  2293.2,4,   7.9613,3,    25.00, -999.00,9, -999.00,9, -999.00,  -999.0,9, -999.00,9,     -999.0,9,  -999.0,9, 20170910,      437, -32.5002,-114.7453,        0.0,1,      0.073,1,      4.641,1,      0.159,1,     -999.0,9,     -999.0,9,     -999.0,9,     -999.0,9,     -999.0,9,     -999.0,9,     -999.0,9,     -999.0,1,     -999.0,9,     -999.0,9,     -999.0,9,    17.5028,2,     -999.0,     -999.0,9,     -999.0