BOTTLE,20240211CCHSIOCBG
EXPOCODE,SECT_ID,STNNBR,CASTNO,SAMPNO,BTLNBR,BTLNBR_FLAG_W,DATE,TIME,LATITUDE,LONGITUDE,DEPTH,CTDPRS,CTDTMP,CTDSAL,CTDSAL_FLAG_W,SALNTY,SALNTY_FLAG_W,CTDOXY,CTDOXY_FLAG_W,OXYGEN,OXYGEN_FLAG_W,SILCAT,SILCAT_FLAG_W,NITRAT,NITRAT_FLAG_W,NITRIT,NITRIT_FLAG_W,PHSPHT,PHSPHT_FLAG_W,CFC-11,CFC-11_FLAG_W,CFC-12,CFC-12_FLAG_W,SF6,SF6_FLAG_W,TCARBN,TCARBN_FLAG_W,ALKALI,ALKALI_FLAG_W,PH_TOT,PH_TOT_FLAG_W,PH_TMP,DELC13,DELC13_FLAG_W,DELC14,DELC14_FLAG_W,C14ERR,DOC,DOC_FLAG_W,TDN,TDN_FLAG_W,TON,TON_FLAG_W,D15N_NO3,D15N_NO3_FLAG_W,BTL_DATE,BTL_TIME,BTL_LAT,BTL_LON,CTDRINKO,CTDRINKO_FLAG_W,CTDFLUOR,CTDFLUOR_FLAG_W,CTDXMISS,CTDXMISS_FLAG_W,CTDBACKSCATTER,CTDBACKSCATTER_FLAG_W,D18O_NO3,D18O_NO3_FLAG_W,DOP,DOP_FLAG_W,CELLCOUNT,CELLCOUNT_FLAG_W,TDP,TDP_FLAG_W,POP,POP_FLAG_W,DATP,DATP_FLAG_W,PATP,PATP_FLAG_W,HPLC,HPLC_FLAG_W,POC,POC_FLAG_W,BEAMAP,BEAMAP_FLAG_W,DOC_NASA,DOC_NASA_FLAG_W,REFTMP,REFTMP_FLAG_W,DOC_NASA_ERROR,TDN_NASA,TDN_NASA_FLAG_W,TDN_NASA_ERROR
,,,,,,,,,,,METERS,DBAR,ITS-90,PSS-78,,PSS-78,,UMOL/KG,,UMOL/KG,,UMOL/KG,,UMOL/KG,,UMOL/KG,,UMOL/KG,,PMOL/KG,,PMOL/KG,,FMOL/KG,,UMOL/KG,,UMOL/KG,,,,DEG C,/MILLE,,/MILLE,,/MILLE,UMOL/KG,,UMOL/KG,,UMOL/KG,,/MILLE,,,,,,VOLTS,,VOLTS,,VOLTS,,VOLTS,,/MILLE,,UMOL/KG,,/LITER,,UMOL/KG,,UMOL/L,,PMOL/L,,PMOL/L,,,,UG/L,,/METER,,UMOL/L,,ITS-90,,UMOL/L,UMOL/L,,UMOL/L
320620170820,        P06,     169,          1,          1,          1,2,20170905,       0151,   -32.4990,  -127.1384,       1669,  1636.9,   2.5538,  34.5624,2,  34.5598,2, 161.8907,2, 161.2504,2,    86.7,2,   34.76,2,    0.00,2,    2.39,2,   0.092,2,   0.055,2,   0.0000,2,  2271.8,2,  2355.5,2,   7.5670,2,    25.00, -999.00,9, -999.00,9, -999.00,  -999.0,9, -999.00,9,     -999.0,9,  -999.0,9, 20170905,      151, -32.4998,-127.1376,        0.0,1,      0.061,1,      4.695,1,      0.129,1,     -999.0,9,     -999.0,9,     -999.0,9,     -999.0,9,     -999.0,9,     -999.0,9,     -999.0,9,     -999.0,9,     -999.0,9,     -999.0,9,     -999.0,9,     2.5511,2,     -999.0,     -999.0,9,     -999.0
320620170820,        P06,     169,          1,          2,          2,2,20170905,       0151,   -32.4990,  -127.1384,       1669,  1598.7,   2.5968,  34.5539,2,  34.5521,2, 162.0537,2, 162.7471,2,    84.6,2,   34.74,2,    0.00,2,    2.39,2,   0.090,2,   0.062,2,   0.0000,2,  -999.0,9,  -999.0,9,-999.0000,9,  -999.00, -999.00,9, -999.00,9, -999.00,  -999.0,9, -999.00,9,     -999.0,9,  -999.0,9, 20170905,      153, -32.4999,-127.1378,        0.0,1,      0.061,1,      4.695,1,      0.128,1,     -999.0,9,     -999.0,9,     -999.0,9,     -999.0,9,     -999.0,9,     -999.0,9,     -999.0,9,     -999.0,9,     -999.0,9,     -999.0,9,     -999.0,9,     2.5974,2,     -999.0,     -999.0,9,     -999.0
320620170820,        P06,     169,          1,          3,          3,2,20170905,       0151,   -32.4990,  -127.1384,       1669,  1522.3,   2.7345,  34.5276,2,  34.5311,2, 164.0189,2, 163.6716,2,    79.3,2,   34.68,2,    0.00,2,    2.39,2,   0.118,2,   0.072,2,   0.0000,2,  2259.9,2,  2348.0,2,   7.5655,2,    25.00, -999.00,9, -999.00,9, -999.00,  -999.0,9, -999.00,9,     -999.0,9,  -999.0,9, 20170905,      156, -32.4998,-127.1378,        0.0,1,      0.061,1,      4.695,1,      0.129,1,     -999.0,9,     -999.0,9,     -999.0,9,     -999.0,9,     -999.0,9,     -999.0,9,     -999.0,9,     -999.0,9,     -999.0,9,     -999.0,9,     -999.0,9,     2.7207,2,     -999.0,     -999.0,9,     -999.0
320620170820,        P06,     169,          1,          4,          4,2,20170905,       0151,   -32.4990,  -127.1384,       1669,  1464.7,   2.8335,  34.5086,2,  34.5097,2, 164.7621,2, 165.5202,2,    74.2,2,   34.65,2,    0.00,2,    2.39,2,   0.146,2,   0.089,2,   0.0000,2,  -999.0,9,  -999.0,9,-999.0000,9,  -999.00, -999.00,9, -999.00,9, -999.00,  -999.0,9, -999.00,9,     -999.0,9,  -999.0,9, 20170905,      159, -32.4998,-127.1378,        0.0,1,      0.062,1,      4.695,1,      0.129,1,     -999.0,9,     -999.0,9,     -999.0,9,     -999.0,9,     -999.0,9,     -999.0,9,     -999.0,9,     -999.0,9,     -999.0,9,     -999.0,9,     -999.0,9,     2.8147,2,     -999.0,     -999.0,9,     -999.0
320620170820,        P06,     169,          1,          5,          5,2,20170905,       0151,   -32.4990,  -127.1384,       1669,  1383.8,   3.0759,  34.4647,2,  34.4640,2, 168.4314,2, 168.8806,2,    64.8,2,   34.48,2,    0.00,2,    2.36,2,   0.233,2,   0.133,2,   0.0000,2,  2245.8,2,  2331.0,2,   7.5660,2,    25.00, -999.00,9, -999.00,9, -999.00,  -999.0,9, -999.00,9,     -999.0,9,  -999.0,9, 20170905,      202, -32.4998,-127.1377,        0.0,1,      0.061,1,      4.695,1,      0.131,1,     -999.0,9,     -999.0,9,     -999.0,9,     -999.0,9,     -999.0,9,     -999.0,9,     -999.0,9,     -999.0,9,     -999.0,9,     -999.0,9,     -999.0,9,     3.0729,2,     -999.0,     -999.0,9,     -999.0
320620170820,        P06,     169,          1,          6,          6,2,20170905,       0151,   -32.4990,  -127.1384,       1669,  1281.8,   3.3908,  34.4149,2,  34.4135,2,   174.53,2, 174.9029,2,    54.6,2,   33.95,2,    0.00,2,    2.34,2,   0.392,2,   0.213,2,   0.0000,2,  -999.0,9,  -999.0,9,-999.0000,9,  -999.00, -999.00,9, -999.00,9, -999.00,  -999.0,9, -999.00,9,     -999.0,9,  -999.0,9, 20170905,      205, -32.4998,-127.1378,        0.0,1,      0.061,1,      4.695,1,      0.129,1,     -999.0,9,     -999.0,9,     -999.0,9,     -999.0,9,     -999.0,9,     -999.0,9,     -999.0,9,     -999.0,9,     -999.0,9,     -999.0,9,     -999.0,9,     3.3854,2,     -999.0,     -999.0,9,     -999.0
320620170820,        P06,     169,          1,          7,          7,2,20170905,       0151,   -32.4990,  -127.1384,       1669,  1211.2,   3.6406,  34.3828,2,  34.3827,2, 180.7628,2, 178.4814,2,    47.9,2,   33.38,2,    0.00,2,    2.29,2,   0.539,2,   0.283,2,   0.0420,2,  2225.9,2,  2313.3,2,   7.5820,6,    25.00, -999.00,9, -999.00,9, -999.00,  -999.0,9, -999.00,9,     -999.0,9,  -999.0,9, 20170905,      208, -32.4999,-127.1379,        0.0,1,      0.060,1,      4.695,1,      0.128,1,     -999.0,9,     -999.0,9,     -999.0,9,     -999.0,9,     -999.0,9,     -999.0,9,     -999.0,9,     -999.0,9,     -999.0,9,     -999.0,9,     -999.0,9,     3.6308,2,     -999.0,     -999.0,9,     -999.0
320620170820,        P06,     169,          1,          8,          8,2,20170905,       0151,   -32.4990,  -127.1384,       1669,  1160.2,   3.8254,  34.3636,2,  34.3607,2, 183.7697,2, 183.9706,2,    43.0,2,   32.93,2,    0.00,2,    2.26,2,   0.632,2,   0.334,2,   0.0310,2,  -999.0,9,  -999.0,9,-999.0000,9,  -999.00, -999.00,9, -999.00,9, -999.00,  -999.0,9, -999.00,9,     -999.0,9,  -999.0,9, 20170905,      210, -32.5000,-127.1380,        0.0,1,      0.060,1,      4.695,1,      0.128,1,     -999.0,9,     -999.0,9,     -999.0,9,     -999.0,9,     -999.0,9,     -999.0,9,     -999.0,9,     -999.0,9,     -999.0,9,     -999.0,9,     -999.0,9,     3.8308,2,     -999.0,     -999.0,9,     -999.0
320620170820,        P06,     169,          1,          9,          9,2,20170905,       0151,   -32.4990,  -127.1384,       1669,  1110.5,   4.0055,  34.3488,2,  34.3480,2, 189.5945,2, 189.4781,2,    39.2,2,   32.33,2,    0.00,2,    2.24,2,   0.813,2,   0.419,2,   0.0970,2,  2210.6,2,  2306.2,2,   7.5973,2,    25.00, -999.00,9, -999.00,9, -999.00,  -999.0,9, -999.00,9,     -999.0,9,  -999.0,9, 20170905,      212, -32.5000,-127.1380,        0.0,1,      0.060,1,      4.695,1,      0.129,1,     -999.0,9,     -999.0,9,     -999.0,9,     -999.0,9,     -999.0,9,     -999.0,9,     -999.0,9,     -999.0,9,     -999.0,9,     -999.0,9,     -999.0,9,     3.9771,2,     -999.0,     -999.0,9,     -999.0
320620170820,        P06,     169,          1,         10,         10,2,20170905,       0151,   -32.4990,  -127.1384,       1669,  1061.1,   4.2910,  34.3294,2,  34.3303,2, 194.9723,2, 195.4912,2,    34.3,2,   31.59,2,    0.00,2,    2.14,2,   0.993,6,   0.504,6,   0.1280,6,  -999.0,9,  -999.0,9,-999.0000,9,  -999.00, -999.00,9, -999.00,9, -999.00,  -999.0,9, -999.00,9,     -999.0,9,  -999.0,9, 20170905,      215, -32.5000,-127.1380,        0.0,1,      0.061,1,      4.695,1,      0.130,1,     -999.0,9,     -999.0,9,     -999.0,9,     -999.0,9,     -999.0,9,     -999.0,9,     -999.0,9,     -999.0,9,     -999.0,9,     -999.0,9,     -999.0,9,     4.2252,2,     -999.0,     -999.0,9,     -999.0
320620170820,        P06,     169,          1,         11,         11,2,20170905,       0151,   -32.4990,  -127.1384,       1669,  1009.1,   4.5307,  34.3154,2,  34.3158,2, 201.0484,2, 201.2135,2,    29.7,2,   30.74,2,    0.00,2,    2.09,2,   1.207,2,   0.607,2,   0.1540,2,  2194.7,2,  2296.7,2,   7.6201,2,    25.00, -999.00,9, -999.00,9, -999.00,  -999.0,9, -999.00,9,     -999.0,9,  -999.0,9, 20170905,      217, -32.4999,-127.1379,        0.0,1,      0.059,1,      4.695,1,      0.129,1,     -999.0,9,     -999.0,9,     -999.0,9,     -999.0,9,     -999.0,9,     -999.0,9,     -999.0,9,     -999.0,9,     -999.0,9,     -999.0,9,     -999.0,9,     4.4584,2,     -999.0,     -999.0,9,     -999.0
320620170820,        P06,     169,          1,         12,         12,2,20170905,       0151,   -32.4990,  -127.1384,       1669,   958.0,   4.9205,  34.3000,2,  34.3060,2,  208.751,2, 208.3363,2,    24.7,2,   29.67,2,    0.00,2,    2.00,2,   1.311,2,   0.758,2,   0.2770,2,  -999.0,9,  -999.0,9,-999.0000,9,  -999.00, -999.00,9, -999.00,9, -999.00,  -999.0,9, -999.00,9,     -999.0,9,  -999.0,9, 20170905,      219, -32.5000,-127.1380,        0.0,1,      0.059,1,      4.695,1,      0.130,1,     -999.0,9,     -999.0,9,     -999.0,9,     -999.0,9,     -999.0,9,     -999.0,9,     -999.0,9,     -999.0,9,     -999.0,9,     -999.0,9,     -999.0,9,     4.7601,2,     -999.0,     -999.0,9,     -999.0
320620170820,        P06,     169,          1,         13,         13,2,20170905,       0151,   -32.4990,  -127.1384,       1669,   907.9,   5.1484,  34.2953,2,  34.2931,2, 216.8923,2, 216.6342,2,    19.7,2,   28.44,2,    0.00,2,    1.92,2,   1.831,2,   0.933,2,   0.3100,2,  2175.3,2,  2286.6,2,   7.6508,2,    25.00, -999.00,9, -999.00,9, -999.00,  -999.0,9, -999.00,9,     -999.0,9,  -999.0,9, 20170905,      221, -32.4999,-127.1379,        0.0,1,      0.059,1,      4.695,1,      0.130,1,     -999.0,9,     -999.0,9,     -999.0,9,     -999.0,9,     -999.0,9,     -999.0,9,     -999.0,9,     -999.0,9,     -999.0,9,     -999.0,9,     -999.0,9,     5.0782,2,     -999.0,     -999.0,9,     -999.0
320620170820,        P06,     169,          1,         14,         14,2,20170905,       0151,   -32.4990,  -127.1384,       1669,   856.7,   5.3659,  34.2931,2,  34.2905,2,  223.873,2, 223.6627,2,    16.4,2,   27.29,2,    0.00,2,    1.84,2,   2.207,2,   1.140,2,   0.4080,2,  -999.0,9,  -999.0,9,-999.0000,9,  -999.00, -999.00,9, -999.00,9, -999.00,  -999.0,9, -999.00,9,     -999.0,9,  -999.0,9, 20170905,      223, -32.4998,-127.1378,        0.0,1,      0.060,1,      4.694,1,      0.129,1,     -999.0,9,     -999.0,9,     -999.0,9,     -999.0,9,     -999.0,9,     -999.0,9,     -999.0,9,     -999.0,9,     -999.0,9,     -999.0,9,     -999.0,9,     5.3680,2,     -999.0,     -999.0,9,     -999.0
320620170820,        P06,     169,          1,         15,         15,2,20170905,       0151,   -32.4990,  -127.1384,       1669,   810.3,   5.6098,  34.2925,2,  34.2909,2, 230.3792,2, 229.3354,2,    13.4,2,   26.21,2,    0.00,2,    1.77,2,   2.509,2,   1.310,2,   0.5660,2,  2161.4,2,  2284.0,2,   7.6774,2,    25.00, -999.00,9, -999.00,9, -999.00,  -999.0,9, -999.00,9,     -999.0,9,  -999.0,9, 20170905,      226, -32.4996,-127.1376,        0.0,1,      0.058,1,      4.695,1,      0.130,1,     -999.0,9,     -999.0,9,     -999.0,9,     -999.0,9,     -999.0,9,     -999.0,9,     -999.0,9,     -999.0,9,     -999.0,9,     -999.0,9,     -999.0,9,     5.6349,2,     -999.0,     -999.0,9,     -999.0
320620170820,        P06,     169,          1,         16,         16,2,20170905,       0151,   -32.4990,  -127.1384,       1669,   756.9,   5.8555,  34.2968,2,  34.2964,2, 235.6597,2, 235.8061,2,    10.7,2,   25.09,2,    0.00,2,    1.69,2,   2.851,2,   1.488,2,   0.5580,2,  -999.0,9,  -999.0,9,-999.0000,9,  -999.00, -999.00,9, -999.00,9, -999.00,  -999.0,9, -999.00,9,     -999.0,9,  -999.0,9, 20170905,      228, -32.4996,-127.1376,        0.0,1,      0.059,1,      4.694,1,      0.131,1,     -999.0,9,     -999.0,9,     -999.0,9,     -999.0,9,     -999.0,9,     -999.0,9,     -999.0,9,     -999.0,9,     -999.0,9,     -999.0,9,     -999.0,9,     5.9134,2,     -999.0,     -999.0,9,     -999.0
320620170820,        P06,     169,          1,         17,         17,2,20170905,       0151,   -32.4990,  -127.1384,       1669,   706.5,   6.0445,  34.3042,2,  34.3052,2, 238.8623,2, 240.6975,2,     9.6,2,   24.33,2,    0.00,2,    1.64,2,   3.099,2,   1.626,2,   0.7340,2,  2153.3,2,  2278.5,2,   7.6958,2,    25.00, -999.00,9, -999.00,9, -999.00,  -999.0,9, -999.00,9,     -999.0,9,  -999.0,9, 20170905,      230, -32.4997,-127.1377,        0.0,1,      0.060,1,      4.694,1,      0.130,1,     -999.0,9,     -999.0,9,     -999.0,9,     -999.0,9,     -999.0,9,     -999.0,9,     -999.0,9,     -999.0,9,     -999.0,9,     -999.0,9,     -999.0,9,     6.1076,2,     -999.0,     -999.0,9,     -999.0
320620170820,        P06,     169,          1,         18,         18,2,20170905,       0151,   -32.4990,  -127.1384,       1669,   654.5,   6.2700,  34.3146,2,  34.3166,2, 241.6852,2, 243.2232,2,     8.3,2,   23.57,2,    0.00,2,    1.58,2,   3.312,2,   1.745,2,   0.9760,2,  -999.0,9,  -999.0,9,-999.0000,9,  -999.00, -999.00,9, -999.00,9, -999.00,  -999.0,9, -999.00,9,     -999.0,9,  -999.0,9, 20170905,      232, -32.4998,-127.1379,        0.0,1,      0.060,1,      4.693,1,      0.131,1,     -999.0,9,     -999.0,9,     -999.0,9,     -999.0,9,     -999.0,9,     -999.0,9,     -999.0,9,     -999.0,9,     -999.0,9,     -999.0,9,     -999.0,9,     6.3569,2,     -999.0,     -999.0,9,     -999.0
320620170820,        P06,     169,          1,         19,         19,2,20170905,       0151,   -32.4990,  -127.1384,       1669,   603.0,   6.5649,  34.3318,2,  34.3331,2, 240.6202,3, 227.5876,2,     7.0,2,   22.61,2,    0.00,2,    1.52,2,   3.517,2,   1.880,2,   1.0480,2,  2149.0,6,  2277.4,2,   7.7072,2,    25.00, -999.00,9, -999.00,9, -999.00,  -999.0,9, -999.00,9,     -999.0,9,  -999.0,9, 20170905,      234, -32.4999,-127.1380,        0.0,1,      0.059,1,      4.693,1,      0.131,1,     -999.0,9,     -999.0,9,     -999.0,9,     -999.0,9,     -999.0,9,     -999.0,9,     -999.0,9,     -999.0,9,     -999.0,9,     -999.0,9,     -999.0,9,     6.6465,2,     -999.0,     -999.0,9,     -999.0
320620170820,        P06,     169,          1,         20,         20,2,20170905,       0151,   -32.4990,  -127.1384,       1669,   554.2,   6.9227,  34.3535,2,  34.3539,2, 243.8412,2, 245.5052,2,     6.0,2,   21.61,2,    0.00,2,    1.46,2,   3.541,2,   1.923,2,   1.2870,2,  -999.0,9,  -999.0,9,-999.0000,9,  -999.00, -999.00,9, -999.00,9, -999.00,  -999.0,9, -999.00,9,     -999.0,9,  -999.0,9, 20170905,      237, -32.4999,-127.1380,        0.0,1,      0.059,1,      4.692,1,      0.132,1,     -999.0,9,     -999.0,9,     -999.0,9,     -999.0,9,     -999.0,9,     -999.0,9,     -999.0,9,     -999.0,9,     -999.0,9,     -999.0,9,     -999.0,9,     7.0047,2,     -999.0,     -999.0,9,     -999.0
320620170820,        P06,     169,          1,         21,         21,2,20170905,       0151,   -32.4990,  -127.1384,       1669,   505.3,   7.2788,  34.3693,2,  34.3682,2, 240.5214,3, 236.9696,2,     5.2,2,   20.81,2,    0.00,2,    1.42,2,   3.566,2,   1.924,2,   1.3770,2,  2145.2,2,  2275.1,2,   7.7156,2,    25.00, -999.00,9, -999.00,9, -999.00,  -999.0,9, -999.00,9,     -999.0,9,  -999.0,9, 20170905,      239, -32.4998,-127.1380,        0.0,1,      0.059,1,      4.648,1,      0.133,1,     -999.0,9,     -999.0,9,     -999.0,9,     -999.0,9,     -999.0,9,     -999.0,9,     -999.0,9,     -999.0,9,     -999.0,9,     -999.0,9,     -999.0,9,     7.3401,2,     -999.0,     -999.0,9,     -999.0
320620170820,        P06,     169,          1,         22,         22,2,20170905,       0151,   -32.4990,  -127.1384,       1669,   454.2,   7.7353,  34.3759,2,  34.3727,2, 233.8219,2, 236.2899,2,     4.6,2,   20.22,2,    0.00,2,    1.38,2,   3.488,2,   1.898,2,   1.1980,2,  -999.0,9,  -999.0,9,-999.0000,9,  -999.00, -999.00,9, -999.00,9, -999.00,  -999.0,9, -999.00,9,     -999.0,9,  -999.0,9, 20170905,      241, -32.4998,-127.1380,        0.0,1,      0.059,1,      4.691,1,      0.132,1,     -999.0,9,     -999.0,9,     -999.0,9,     -999.0,9,     -999.0,9,     -999.0,9,     -999.0,9,     -999.0,9,     -999.0,9,     -999.0,9,     -999.0,9,     7.7199,2,     -999.0,     -999.0,9,     -999.0
320620170820,        P06,     169,          1,         23,         23,2,20170905,       0151,   -32.4990,  -127.1384,       1669,   404.4,   8.3061,  34.4013,2,  34.3996,2, 227.3041,2, 225.2495,2,     3.6,2,   18.54,2,    0.00,2,    1.28,2,   3.133,2,   1.858,2,   1.2770,2,  2137.9,2,  2276.1,2,   7.7280,2,    25.00, -999.00,9, -999.00,9, -999.00,  -999.0,9, -999.00,9,     -999.0,9,  -999.0,9, 20170905,      243, -32.4998,-127.1379,        0.0,1,      0.058,1,      4.690,1,      0.133,1,     -999.0,9,     -999.0,9,     -999.0,9,     -999.0,9,     -999.0,9,     -999.0,9,     -999.0,9,     -999.0,9,     -999.0,9,     -999.0,9,     -999.0,9,     8.4743,2,     -999.0,     -999.0,9,     -999.0
320620170820,        P06,     169,          1,         24,         24,2,20170905,       0151,   -32.4990,  -127.1384,       1669,   352.4,   9.3705,  34.4539,2,  34.4981,2, 219.3862,2, 220.4096,2,     2.2,2,   14.83,2,    0.00,2,    1.06,2,   3.158,2,   1.784,2,   1.3060,2,  -999.0,9,  -999.0,9,-999.0000,9,  -999.00, -999.00,9, -999.00,9, -999.00,  -999.0,9, -999.00,9,     -999.0,9,  -999.0,9, 20170905,      246, -32.4998,-127.1379,        0.0,1,      0.060,1,      4.687,1,      0.133,1,     -999.0,9,     -999.0,9,     -999.0,9,     -999.0,9,     -999.0,9,     -999.0,9,     -999.0,9,     -999.0,9,     -999.0,9,     -999.0,9,     -999.0,9,    10.0574,2,     -999.0,     -999.0,9,     -999.0
320620170820,        P06,     169,          1,         25,         25,2,20170905,       0151,   -32.4990,  -127.1384,       1669,   303.5,  11.1976,  34.5947,2,  34.6176,3, 217.0493,2, 216.6746,2,     1.4,2,   11.35,2,    0.00,2,    0.85,2,   2.900,2,   1.688,2,   1.3160,2,  2116.3,2,  2282.7,2,   7.7970,6,    25.00, -999.00,9, -999.00,9, -999.00,  -999.0,9, -999.00,9,     -999.0,9,  -999.0,9, 20170905,      248, -32.4998,-127.1380,        0.0,1,      0.059,1,      4.686,1,      0.131,1,     -999.0,9,     -999.0,9,     -999.0,9,     -999.0,9,     -999.0,9,     -999.0,9,     -999.0,9,     -999.0,9,     -999.0,9,     -999.0,9,     -999.0,9,    11.4756,2,     -999.0,     -999.0,9,     -999.0
320620170820,        P06,     169,          1,         26,         26,2,20170905,       0151,   -32.4990,  -127.1384,       1669,   256.5,  12.8275,  34.7352,2,  34.7248,2, 219.7865,2, 217.8493,2,     0.6,2,    7.63,2,    0.00,2,    0.61,2,   2.715,2,   1.612,2,   1.5430,2,  2100.2,2,  2286.0,2,   7.8347,2,    25.00, -999.00,9, -999.00,9, -999.00,  -999.0,9, -999.00,9,     -999.0,9,  -999.0,9, 20170905,      251, -32.4998,-127.1380,        0.0,1,      0.061,1,      4.684,1,      0.133,1,     -999.0,9,     -999.0,9,     -999.0,9,     -999.0,9,     -999.0,9,     -999.0,9,     -999.0,9,     -999.0,9,     -999.0,9,     -999.0,9,     -999.0,9,    12.8968,2,     -999.0,     -999.0,9,     -999.0