BOTTLE,20240211CCHSIOCBG
EXPOCODE,SECT_ID,STNNBR,CASTNO,SAMPNO,BTLNBR,BTLNBR_FLAG_W,DATE,TIME,LATITUDE,LONGITUDE,DEPTH,CTDPRS,CTDTMP,CTDSAL,CTDSAL_FLAG_W,SALNTY,SALNTY_FLAG_W,CTDOXY,CTDOXY_FLAG_W,OXYGEN,OXYGEN_FLAG_W,SILCAT,SILCAT_FLAG_W,NITRAT,NITRAT_FLAG_W,NITRIT,NITRIT_FLAG_W,PHSPHT,PHSPHT_FLAG_W,CFC-11,CFC-11_FLAG_W,CFC-12,CFC-12_FLAG_W,SF6,SF6_FLAG_W,TCARBN,TCARBN_FLAG_W,ALKALI,ALKALI_FLAG_W,PH_TOT,PH_TOT_FLAG_W,PH_TMP,DELC13,DELC13_FLAG_W,DELC14,DELC14_FLAG_W,C14ERR,DOC,DOC_FLAG_W,TDN,TDN_FLAG_W,TON,TON_FLAG_W,D15N_NO3,D15N_NO3_FLAG_W,BTL_DATE,BTL_TIME,BTL_LAT,BTL_LON,CTDRINKO,CTDRINKO_FLAG_W,CTDFLUOR,CTDFLUOR_FLAG_W,CTDXMISS,CTDXMISS_FLAG_W,CTDBACKSCATTER,CTDBACKSCATTER_FLAG_W,D18O_NO3,D18O_NO3_FLAG_W,DOP,DOP_FLAG_W,CELLCOUNT,CELLCOUNT_FLAG_W,TDP,TDP_FLAG_W,POP,POP_FLAG_W,DATP,DATP_FLAG_W,PATP,PATP_FLAG_W,HPLC,HPLC_FLAG_W,POC,POC_FLAG_W,BEAMAP,BEAMAP_FLAG_W,DOC_NASA,DOC_NASA_FLAG_W,REFTMP,REFTMP_FLAG_W,DOC_NASA_ERROR,TDN_NASA,TDN_NASA_FLAG_W,TDN_NASA_ERROR
,,,,,,,,,,,METERS,DBAR,ITS-90,PSS-78,,PSS-78,,UMOL/KG,,UMOL/KG,,UMOL/KG,,UMOL/KG,,UMOL/KG,,UMOL/KG,,PMOL/KG,,PMOL/KG,,FMOL/KG,,UMOL/KG,,UMOL/KG,,,,DEG C,/MILLE,,/MILLE,,/MILLE,UMOL/KG,,UMOL/KG,,UMOL/KG,,/MILLE,,,,,,VOLTS,,VOLTS,,VOLTS,,VOLTS,,/MILLE,,UMOL/KG,,/LITER,,UMOL/KG,,UMOL/L,,PMOL/L,,PMOL/L,,,,UG/L,,/METER,,UMOL/L,,ITS-90,,UMOL/L,UMOL/L,,UMOL/L
320620170820,        P06,     173,          1,          1,          1,2,20170906,       0631,   -32.5000,  -124.4203,       3067,  3097.9,   1.6636,  34.6771,2,  34.6771,2, 166.3303,2, 166.7132,2,   123.0,2,   34.64,2,    0.00,2,    2.38,2,   0.032,2,   0.019,2,   0.0000,2,  2299.3,6,  2392.9,2,   7.5898,2,    25.00, -999.00,9, -999.00,9, -999.00,  -999.0,9, -999.00,9,     -999.0,9,  -999.0,9, 20170906,      631, -32.5002,-124.4202,        0.0,1,      0.061,1,      4.693,1,      0.127,1,     -999.0,9,     -999.0,9,     -999.0,9,     -999.0,9,     -999.0,9,     -999.0,9,     -999.0,9,     -999.0,9,     -999.0,9,     -999.0,9,     -999.0,9,     1.6638,2,     -999.0,     -999.0,9,     -999.0
320620170820,        P06,     173,          1,          2,          2,2,20170906,       0631,   -32.5000,  -124.4203,       3067,  2929.6,   1.6661,  34.6759,2,  34.6765,2, 166.2627,2, 166.4498,2,   122.8,2,   34.73,2,    0.00,2,    2.40,2,   0.030,2,   0.021,2,   0.0000,2,  -999.0,9,  -999.0,9,-999.0000,9,  -999.00, -999.00,9, -999.00,9, -999.00,  -999.0,9, -999.00,9,     -999.0,9,  -999.0,9, 20170906,      635, -32.5005,-124.4202,        0.0,1,      0.061,1,      4.694,1,      0.126,1,     -999.0,9,     -999.0,9,     -999.0,9,     -999.0,9,     -999.0,9,     -999.0,9,     -999.0,9,     -999.0,9,     -999.0,9,     -999.0,9,     -999.0,9,     1.6631,2,     -999.0,     -999.0,9,     -999.0
320620170820,        P06,     173,          1,          3,          3,2,20170906,       0631,   -32.5000,  -124.4203,       3067,  2771.1,   1.7114,  34.6716,2,  34.6718,2, 164.5186,2, 164.0077,2,   122.0,2,   34.95,2,    0.00,2,    2.42,2,   0.029,2,   0.019,2,   0.0000,2,  2299.4,2,  2392.4,2,   7.5862,2,    25.00, -999.00,9, -999.00,9, -999.00,  -999.0,9, -999.00,9,     -999.0,9,  -999.0,9, 20170906,      639, -32.5006,-124.4203,        0.0,1,      0.061,1,      4.694,1,      0.126,1,     -999.0,9,     -999.0,9,     -999.0,9,     -999.0,9,     -999.0,9,     -999.0,9,     -999.0,9,     -999.0,9,     -999.0,9,     -999.0,9,     -999.0,9,     1.7115,2,     -999.0,     -999.0,9,     -999.0
320620170820,        P06,     173,          1,          4,          4,2,20170906,       0631,   -32.5000,  -124.4203,       3067,  2568.7,   1.7910,  34.6648,2,  34.6663,2, 161.8415,2, 161.3738,2,   121.2,2,   35.06,2,    0.00,2,    2.42,2,   0.031,2,   0.022,2,   0.0000,2,  -999.0,9,  -999.0,9,-999.0000,9,  -999.00, -999.00,9, -999.00,9, -999.00,  -999.0,9, -999.00,9,     -999.0,9,  -999.0,9, 20170906,      644, -32.5007,-124.4203,        0.0,1,      0.061,1,      4.694,1,      0.126,1,     -999.0,9,     -999.0,9,     -999.0,9,     -999.0,9,     -999.0,9,     -999.0,9,     -999.0,9,     -999.0,9,     -999.0,9,     -999.0,9,     -999.0,9,     1.7748,2,     -999.0,     -999.0,9,     -999.0
320620170820,        P06,     173,          1,          5,          5,2,20170906,       0631,   -32.5000,  -124.4203,       3067,  2361.6,   1.8958,  34.6555,2,  34.6565,2, 158.3339,2, 158.5032,2,   119.1,2,   35.23,2,    0.00,2,    2.44,2,   0.025,2,   0.021,2,   0.0000,2,  2300.6,2,  2389.2,2,   7.5770,2,    25.00, -999.00,9, -999.00,9, -999.00,  -999.0,9, -999.00,9,     -999.0,9,  -999.0,9, 20170906,      648, -32.5006,-124.4203,        0.0,1,      0.061,1,      4.694,1,      0.127,1,     -999.0,9,     -999.0,9,     -999.0,9,     -999.0,9,     -999.0,9,     -999.0,9,     -999.0,9,     -999.0,9,     -999.0,9,     -999.0,9,     -999.0,9,     1.8849,2,     -999.0,     -999.0,9,     -999.0
320620170820,        P06,     173,          1,          6,          6,2,20170906,       0631,   -32.5000,  -124.4203,       3067,  2160.1,   2.0051,  34.6457,2,  34.6458,2, 156.5686,2, 156.3569,2,   114.4,2,   35.25,2,    0.00,2,    2.44,2,   0.034,2,   0.024,2,   0.0000,2,  -999.0,9,  -999.0,9,-999.0000,9,  -999.00, -999.00,9, -999.00,9, -999.00,  -999.0,9, -999.00,9,     -999.0,9,  -999.0,9, 20170906,      653, -32.5004,-124.4202,        0.0,1,      0.061,1,      4.694,1,      0.127,1,     -999.0,9,     -999.0,9,     -999.0,9,     -999.0,9,     -999.0,9,     -999.0,9,     -999.0,9,     -999.0,9,     -999.0,9,     -999.0,9,     -999.0,9,     2.0002,2,     -999.0,     -999.0,9,     -999.0
320620170820,        P06,     173,          1,          7,          7,2,20170906,       0631,   -32.5000,  -124.4203,       3067,  1955.0,   2.1592,  34.6317,2,  34.6305,2, 155.8284,2, 156.0905,2,   107.7,2,   35.18,2,    0.00,2,    2.43,2,   0.035,2,   0.025,2,   0.0000,2,  2293.6,6,  2378.3,2,   7.5716,6,    25.00, -999.00,9, -999.00,9, -999.00,  -999.0,9, -999.00,9,     -999.0,9,  -999.0,9, 20170906,      658, -32.5001,-124.4202,        0.0,1,      0.061,1,      4.694,1,      0.129,1,     -999.0,9,     -999.0,9,     -999.0,9,     -999.0,9,     -999.0,9,     -999.0,9,     -999.0,9,     -999.0,9,     -999.0,9,     -999.0,9,     -999.0,9,     2.1485,2,     -999.0,     -999.0,9,     -999.0
320620170820,        P06,     173,          1,          8,          8,2,20170906,       0631,   -32.5000,  -124.4203,       3067,  1785.6,   2.2745,  34.6127,2,  34.6115,2, 157.5733,2, 157.9237,2,   100.1,2,   35.03,2,    0.00,2,    2.42,2,   0.051,2,   0.035,2,   0.0000,2,  -999.0,9,  -999.0,9,-999.0000,9,  -999.00, -999.00,9, -999.00,9, -999.00,  -999.0,9, -999.00,9,     -999.0,9,  -999.0,9, 20170906,      702, -32.5003,-124.4202,        0.0,1,      0.062,1,      4.694,1,      0.128,1,     -999.0,9,     -999.0,9,     -999.0,9,     -999.0,9,     -999.0,9,     -999.0,9,     -999.0,9,     -999.0,9,     -999.0,9,     -999.0,9,     -999.0,9,     2.2825,2,     -999.0,     -999.0,9,     -999.0
320620170820,        P06,     173,          1,          9,          9,2,20170906,       0631,   -32.5000,  -124.4203,       3067,  1681.0,   2.3770,  34.5965,2,  34.5926,2, 159.1415,2, 159.5268,2,    93.7,2,   34.92,2,    0.00,2,    2.41,2,   0.063,2,   0.043,2,   0.0000,2,  2277.0,2,  2362.0,2,   7.5691,2,    25.00, -999.00,9, -999.00,9, -999.00,  -999.0,9, -999.00,9,     -999.0,9,  -999.0,9, 20170906,      704, -32.5004,-124.4203,        0.0,1,      0.061,1,      4.695,1,      0.130,1,     -999.0,9,     -999.0,9,     -999.0,9,     -999.0,9,     -999.0,9,     -999.0,9,     -999.0,9,     -999.0,9,     -999.0,9,     -999.0,9,     -999.0,9,     2.4030,2,     -999.0,     -999.0,9,     -999.0
320620170820,        P06,     173,          1,         10,         10,2,20170906,       0631,   -32.5000,  -124.4203,       3067,  1580.9,   2.5836,  34.5565,2,  34.5574,2, 162.7208,2, 162.5209,2,    83.9,2,   34.85,2,    0.00,2,    2.38,2,   0.098,2,   0.063,2,   0.0000,2,  -999.0,9,  -999.0,9,-999.0000,9,  -999.00, -999.00,9, -999.00,9, -999.00,  -999.0,9, -999.00,9,     -999.0,9,  -999.0,9, 20170906,      707, -32.5004,-124.4203,        0.0,1,      0.060,1,      4.694,1,      0.129,1,     -999.0,9,     -999.0,9,     -999.0,9,     -999.0,9,     -999.0,9,     -999.0,9,     -999.0,9,     -999.0,9,     -999.0,9,     -999.0,9,     -999.0,9,     2.5770,2,     -999.0,     -999.0,9,     -999.0
320620170820,        P06,     173,          1,         11,         11,2,20170906,       0631,   -32.5000,  -124.4203,       3067,  1478.2,   2.7805,  34.5167,2,  34.5213,2, 165.3673,2, 165.4286,2,    76.0,2,   34.76,2,    0.00,2,    2.38,2,   0.139,2,   0.085,2,   0.0000,2,  2258.1,2,  2340.3,2,   7.5657,2,    25.00, -999.00,9, -999.00,9, -999.00,  -999.0,9, -999.00,9,     -999.0,9,  -999.0,9, 20170906,      710, -32.5003,-124.4202,        0.0,1,      0.061,1,      4.695,1,      0.128,1,     -999.0,9,     -999.0,9,     -999.0,9,     -999.0,9,     -999.0,9,     -999.0,9,     -999.0,9,     -999.0,9,     -999.0,9,     -999.0,9,     -999.0,9,     2.7542,2,     -999.0,     -999.0,9,     -999.0
320620170820,        P06,     173,          1,         12,         12,2,20170906,       0631,   -32.5000,  -124.4203,       3067,  1378.3,   2.9968,  34.4774,2,  34.4720,2, 168.7849,2,  169.091,2,    66.0,2,   34.64,2,    0.00,2,    2.35,2,   0.221,2,   0.135,2,   0.0000,2,  -999.0,9,  -999.0,9,-999.0000,9,  -999.00, -999.00,9, -999.00,9, -999.00,  -999.0,9, -999.00,9,     -999.0,9,  -999.0,9, 20170906,      713, -32.5005,-124.4203,        0.0,1,      0.061,1,      4.695,1,      0.129,1,     -999.0,9,     -999.0,9,     -999.0,9,     -999.0,9,     -999.0,9,     -999.0,9,     -999.0,9,     -999.0,9,     -999.0,9,     -999.0,9,     -999.0,9,     3.0189,2,     -999.0,     -999.0,9,     -999.0
320620170820,        P06,     173,          1,         13,         13,2,20170906,       0631,   -32.5000,  -124.4203,       3067,  1274.3,   3.2973,  34.4272,2,  34.4263,2, 173.8049,2, 173.6652,2,    57.0,2,   34.35,2,    0.00,2,    2.33,2,   0.347,2,   0.198,2,   0.0000,2,  2233.6,2,  2321.1,6,   7.5715,2,    25.00, -999.00,9, -999.00,9, -999.00,  -999.0,9, -999.00,9,     -999.0,9,  -999.0,9, 20170906,      716, -32.5005,-124.4203,        0.0,1,      0.060,1,      4.695,1,      0.129,1,     -999.0,9,     -999.0,9,     -999.0,9,     -999.0,9,     -999.0,9,     -999.0,9,     -999.0,9,     -999.0,9,     -999.0,9,     -999.0,9,     -999.0,9,     3.2985,2,     -999.0,     -999.0,9,     -999.0
320620170820,        P06,     173,          1,         14,         14,2,20170906,       0631,   -32.5000,  -124.4203,       3067,  1175.7,   3.6471,  34.3802,2,  34.3774,2, 182.3041,2, 181.5196,2,    46.6,2,   33.57,2,    0.00,2,    2.28,2,   0.561,2,   0.305,2,   0.0890,2,  -999.0,9,  -999.0,9,-999.0000,9,  -999.00, -999.00,9, -999.00,9, -999.00,  -999.0,9, -999.00,9,     -999.0,9,  -999.0,9, 20170906,      718, -32.5004,-124.4203,        0.0,1,      0.060,1,      4.695,1,      0.129,1,     -999.0,9,     -999.0,9,     -999.0,9,     -999.0,9,     -999.0,9,     -999.0,9,     -999.0,9,     -999.0,9,     -999.0,9,     -999.0,9,     -999.0,9,     3.6684,2,     -999.0,     -999.0,9,     -999.0
320620170820,        P06,     173,          1,         15,         15,2,20170906,       0631,   -32.5000,  -124.4203,       3067,  1073.3,   4.1270,  34.3364,2,  34.3354,2, 192.9064,2, 192.4439,2,    36.1,2,   32.31,2,    0.00,2,    2.17,2,   0.883,6,   0.457,6,   0.1465,6,  2209.3,2,  2300.9,2,   7.6030,2,    25.00, -999.00,9, -999.00,9, -999.00,  -999.0,9, -999.00,9,     -999.0,9,  -999.0,9, 20170906,      721, -32.5004,-124.4203,        0.0,1,      0.060,1,      4.695,1,      0.131,1,     -999.0,9,     -999.0,9,     -999.0,9,     -999.0,9,     -999.0,9,     -999.0,9,     -999.0,9,     -999.0,9,     -999.0,9,     -999.0,9,     -999.0,9,     4.1281,2,     -999.0,     -999.0,9,     -999.0
320620170820,        P06,     173,          1,         16,         16,2,20170906,       0631,   -32.5000,  -124.4203,       3067,   972.1,   4.5659,  34.3055,2,  34.3050,2, 202.9909,2, 203.1089,2,    27.5,2,   30.74,2,    0.00,2,    2.07,2,   1.209,2,   0.619,2,   0.1900,2,  -999.0,9,  -999.0,9,-999.0000,9,  -999.00, -999.00,9, -999.00,9, -999.00,  -999.0,9, -999.00,9,     -999.0,9,  -999.0,9, 20170906,      724, -32.5003,-124.4203,        0.0,1,      0.059,1,      4.695,1,      0.129,1,     -999.0,9,     -999.0,9,     -999.0,9,     -999.0,9,     -999.0,9,     -999.0,9,     -999.0,9,     -999.0,9,     -999.0,9,     -999.0,9,     -999.0,9,     4.5366,2,     -999.0,     -999.0,9,     -999.0
320620170820,        P06,     173,          1,         17,         17,2,20170906,       0631,   -32.5000,  -124.4203,       3067,   870.0,   5.0898,  34.2882,2,  34.2870,2, 218.4019,2, 219.2877,2,    18.2,2,   28.36,2,    0.00,2,    1.90,2,   1.704,2,   0.950,2,   0.3190,2,  2174.3,2,  2283.6,2,   7.6541,2,    25.00, -999.00,9, -999.00,9, -999.00,  -999.0,9, -999.00,9,     -999.0,9,  -999.0,9, 20170906,      727, -32.5002,-124.4202,        0.0,1,      0.060,1,      4.695,1,      0.129,1,     -999.0,9,     -999.0,9,     -999.0,9,     -999.0,9,     -999.0,9,     -999.0,9,     -999.0,9,     -999.0,9,     -999.0,9,     -999.0,9,     -999.0,9,     5.1485,2,     -999.0,     -999.0,9,     -999.0
320620170820,        P06,     173,          1,         18,         18,2,20170906,       0631,   -32.5000,  -124.4203,       3067,   771.5,   5.5724,  34.2850,2,  34.2860,2, 233.1079,2, 233.2726,2,    12.0,2,   26.10,2,    0.00,2,    1.73,2,   2.627,2,   1.334,2,   0.4770,2,  -999.0,9,  -999.0,9,-999.0000,9,  -999.00, -999.00,9, -999.00,9, -999.00,  -999.0,9, -999.00,9,     -999.0,9,  -999.0,9, 20170906,      729, -32.5003,-124.4203,        0.0,1,      0.060,1,      4.695,1,      0.129,1,     -999.0,9,     -999.0,9,     -999.0,9,     -999.0,9,     -999.0,9,     -999.0,9,     -999.0,9,     -999.0,9,     -999.0,9,     -999.0,9,     -999.0,9,     5.6693,2,     -999.0,     -999.0,9,     -999.0
320620170820,        P06,     173,          1,         19,         19,2,20170906,       0631,   -32.5000,  -124.4203,       3067,   670.4,   6.1191,  34.3016,2,  34.3068,2, 240.7233,2, 241.4742,2,     8.6,2,   24.09,2,    0.00,2,    1.60,2,   3.268,2,   1.678,2,   0.8640,2,  2148.8,2,  2276.9,2,   7.6975,2,    25.00, -999.00,9, -999.00,9, -999.00,  -999.0,9, -999.00,9,     -999.0,9,  -999.0,9, 20170906,      732, -32.5005,-124.4203,        0.0,1,      0.059,1,      4.694,1,      0.130,1,     -999.0,9,     -999.0,9,     -999.0,9,     -999.0,9,     -999.0,9,     -999.0,9,     -999.0,9,     -999.0,9,     -999.0,9,     -999.0,9,     -999.0,9,     6.2263,2,     -999.0,     -999.0,9,     -999.0
320620170820,        P06,     173,          1,         20,         20,2,20170906,       0631,   -32.5000,  -124.4203,       3067,   569.3,   6.7217,  34.3312,2,  34.3311,2, 239.5789,2, 239.4405,2,     6.8,2,   22.83,2,    0.00,2,    1.53,2,   3.438,2,   1.832,2,   0.8940,2,  -999.0,9,  -999.0,9,-999.0000,9,  -999.00, -999.00,9, -999.00,9, -999.00,  -999.0,9, -999.00,9,     -999.0,9,  -999.0,9, 20170906,      735, -32.5006,-124.4203,        0.0,1,      0.059,1,      4.692,1,      0.131,1,     -999.0,9,     -999.0,9,     -999.0,9,     -999.0,9,     -999.0,9,     -999.0,9,     -999.0,9,     -999.0,9,     -999.0,9,     -999.0,9,     -999.0,9,     6.7573,2,     -999.0,     -999.0,9,     -999.0
320620170820,        P06,     173,          1,         21,         21,2,20170906,       0631,   -32.5000,  -124.4203,       3067,   489.0,   7.4228,  34.3449,2,  34.3397,2, 232.0524,2, 231.2761,2,     6.0,2,   21.98,2,    0.00,2,    1.49,2,   3.428,2,   1.835,2,   1.2730,2,  2147.5,2,  2276.0,2,   7.6984,2,    25.00, -999.00,9, -999.00,9, -999.00,  -999.0,9, -999.00,9,     -999.0,9,  -999.0,9, 20170906,      737, -32.5006,-124.4203,        0.0,1,      0.059,1,      4.691,1,      0.133,1,     -999.0,9,     -999.0,9,     -999.0,9,     -999.0,9,     -999.0,9,     -999.0,9,     -999.0,9,     -999.0,9,     -999.0,9,     -999.0,9,     -999.0,9,     7.3073,2,     -999.0,     -999.0,9,     -999.0
320620170820,        P06,     173,          1,         22,         22,2,20170906,       0631,   -32.5000,  -124.4203,       3067,   438.4,   8.1974,  34.3656,2,  34.3566,2, 229.4543,2, 228.0627,2,     4.6,2,   20.18,2,    0.00,2,    1.40,2,   3.411,2,   1.853,2,   1.1420,2,  -999.0,9,  -999.0,9,-999.0000,9,  -999.00, -999.00,9, -999.00,9, -999.00,  -999.0,9, -999.00,9,     -999.0,9,  -999.0,9, 20170906,      739, -32.5006,-124.4203,        0.0,1,      0.059,1,      4.690,1,      0.131,1,     -999.0,9,     -999.0,9,     -999.0,9,     -999.0,9,     -999.0,9,     -999.0,9,     -999.0,9,     -999.0,9,     -999.0,9,     -999.0,9,     -999.0,9,     8.0313,2,     -999.0,     -999.0,9,     -999.0
320620170820,        P06,     173,          1,         23,         23,2,20170906,       0631,   -32.5000,  -124.4203,       3067,   386.7,   9.1957,  34.4041,2,  34.3851,2, 226.0363,2,  225.833,2,     3.3,2,   18.03,2,    0.00,2,    1.25,2,   3.341,2,   1.832,2,   1.2320,2,  2133.3,2,  2274.7,2,   7.7314,6,    25.00, -999.00,9, -999.00,9, -999.00,  -999.0,9, -999.00,9,     -999.0,9,  -999.0,9, 20170906,      741, -32.5005,-124.4203,        0.0,1,      0.058,1,      4.688,1,      0.133,1,     -999.0,9,     -999.0,9,     -999.0,9,     -999.0,9,     -999.0,9,     -999.0,9,     -999.0,9,     -999.0,9,     -999.0,9,     -999.0,9,     -999.0,9,     8.8620,2,     -999.0,     -999.0,9,     -999.0
320620170820,        P06,     173,          1,         24,         24,2,20170906,       0631,   -32.5000,  -124.4203,       3067,   335.1,  10.8902,  34.5339,2,  34.4830,2, 221.2764,2,  219.893,2,     2.1,2,   14.34,2,    0.00,2,    1.01,2,   2.769,2,   1.755,2,   1.3950,2,  -999.0,9,  -999.0,9,-999.0000,9,  -999.00, -999.00,9, -999.00,9, -999.00,  -999.0,9, -999.00,9,     -999.0,9,  -999.0,9, 20170906,      744, -32.5003,-124.4203,        0.0,1,      0.059,1,      4.687,1,      0.131,1,     -999.0,9,     -999.0,9,     -999.0,9,     -999.0,9,     -999.0,9,     -999.0,9,     -999.0,9,     -999.0,9,     -999.0,9,     -999.0,9,     -999.0,9,    10.4510,2,     -999.0,     -999.0,9,     -999.0
320620170820,        P06,     173,          1,         25,         25,2,20170906,       0631,   -32.5000,  -124.4203,       3067,   287.7,  12.5172,  34.6858,2,  34.6914,2,  212.711,2, 212.7224,2,     1.1,2,    9.32,2,    0.00,2,    0.70,2,   2.786,2,   1.607,2,   1.4000,2,  2105.5,2,  2286.0,2,   7.8198,2,    25.00, -999.00,9, -999.00,9, -999.00,  -999.0,9, -999.00,9,     -999.0,9,  -999.0,9, 20170906,      746, -32.5003,-124.4203,        0.0,1,      0.061,1,      4.685,1,      0.133,1,     -999.0,9,     -999.0,9,     -999.0,9,     -999.0,9,     -999.0,9,     -999.0,9,     -999.0,9,     -999.0,9,     -999.0,9,     -999.0,9,     -999.0,9,    12.5804,2,     -999.0,     -999.0,9,     -999.0
320620170820,        P06,     173,          1,         26,         26,2,20170906,       0631,   -32.5000,  -124.4203,       3067,   238.3,  13.9079,  34.8236,2,  34.8180,2, 213.4076,2, 214.7913,2,     0.6,2,    6.22,2,    0.00,2,    0.51,2,   2.642,2,   1.548,2,   1.5280,2,  2094.5,2,  2291.3,2,   7.8540,2,    25.00, -999.00,9, -999.00,9, -999.00,  -999.0,9, -999.00,9,     -999.0,9,  -999.0,9, 20170906,      749, -32.5002,-124.4203,        0.0,1,      0.067,1,      4.682,1,      0.133,1,     -999.0,9,     -999.0,9,     -999.0,9,     -999.0,9,     -999.0,9,     -999.0,9,     -999.0,9,     -999.0,9,     -999.0,9,     -999.0,9,     -999.0,9,    13.8603,2,     -999.0,     -999.0,9,     -999.0