BOTTLE,20240211CCHSIOCBG
EXPOCODE,SECT_ID,STNNBR,CASTNO,SAMPNO,BTLNBR,BTLNBR_FLAG_W,DATE,TIME,LATITUDE,LONGITUDE,DEPTH,CTDPRS,CTDTMP,CTDSAL,CTDSAL_FLAG_W,SALNTY,SALNTY_FLAG_W,CTDOXY,CTDOXY_FLAG_W,OXYGEN,OXYGEN_FLAG_W,SILCAT,SILCAT_FLAG_W,NITRAT,NITRAT_FLAG_W,NITRIT,NITRIT_FLAG_W,PHSPHT,PHSPHT_FLAG_W,CFC-11,CFC-11_FLAG_W,CFC-12,CFC-12_FLAG_W,SF6,SF6_FLAG_W,TCARBN,TCARBN_FLAG_W,ALKALI,ALKALI_FLAG_W,PH_TOT,PH_TOT_FLAG_W,PH_TMP,DELC13,DELC13_FLAG_W,DELC14,DELC14_FLAG_W,C14ERR,DOC,DOC_FLAG_W,TDN,TDN_FLAG_W,TON,TON_FLAG_W,D15N_NO3,D15N_NO3_FLAG_W,BTL_DATE,BTL_TIME,BTL_LAT,BTL_LON,CTDRINKO,CTDRINKO_FLAG_W,CTDFLUOR,CTDFLUOR_FLAG_W,CTDXMISS,CTDXMISS_FLAG_W,CTDBACKSCATTER,CTDBACKSCATTER_FLAG_W,D18O_NO3,D18O_NO3_FLAG_W,DOP,DOP_FLAG_W,CELLCOUNT,CELLCOUNT_FLAG_W,TDP,TDP_FLAG_W,POP,POP_FLAG_W,DATP,DATP_FLAG_W,PATP,PATP_FLAG_W,HPLC,HPLC_FLAG_W,POC,POC_FLAG_W,BEAMAP,BEAMAP_FLAG_W,DOC_NASA,DOC_NASA_FLAG_W,REFTMP,REFTMP_FLAG_W,DOC_NASA_ERROR,TDN_NASA,TDN_NASA_FLAG_W,TDN_NASA_ERROR
,,,,,,,,,,,METERS,DBAR,ITS-90,PSS-78,,PSS-78,,UMOL/KG,,UMOL/KG,,UMOL/KG,,UMOL/KG,,UMOL/KG,,UMOL/KG,,PMOL/KG,,PMOL/KG,,FMOL/KG,,UMOL/KG,,UMOL/KG,,,,DEG C,/MILLE,,/MILLE,,/MILLE,UMOL/KG,,UMOL/KG,,UMOL/KG,,/MILLE,,,,,,VOLTS,,VOLTS,,VOLTS,,VOLTS,,/MILLE,,UMOL/KG,,/LITER,,UMOL/KG,,UMOL/L,,PMOL/L,,PMOL/L,,,,UG/L,,/METER,,UMOL/L,,ITS-90,,UMOL/L,UMOL/L,,UMOL/L
320620170820,        P06,     241,          3,         27,         27,2,20170927,       1832,   -32.4997,   -72.5580,       4821,   215.6,  10.4510,  34.6083,2,  34.6117,2,  17.2568,2,  16.0164,2,    24.3,2,   27.63,2,    0.00,2,    2.74,2,-999.000,9,-999.000,9,-999.0000,9,  2280.2,2,  2287.8,2,   7.3459,2,    25.00, -999.00,9, -999.00,9, -999.00,    43.6,2,   29.60,2,     -999.0,1,  -999.0,9, 20170927,     2026, -32.4997, -72.5579,        0.0,1,      0.069,1,      4.636,1,      0.185,1,     -999.0,9,     -999.0,9,     -999.0,9,     -999.0,9,     -999.0,9,     -999.0,9,     -999.0,9,     -999.0,9,     -999.0,9,     -999.0,9,     -999.0,9,    10.4026,2,     -999.0,     -999.0,9,     -999.0
320620170820,        P06,     241,          3,         28,         28,2,20170927,       1832,   -32.4997,   -72.5580,       4821,   164.8,  10.9476,  34.5622,2,  34.5353,2,  33.1572,2,  35.6786,2,    20.1,2,   25.07,2,    0.07,2,    2.62,2,   1.833,2,   1.037,2,   0.5150,2,  -999.0,9,  -999.0,9,-999.0000,9,  -999.00, -999.00,9, -999.00,9, -999.00,    45.3,2,   26.70,2,     -999.0,1,  -999.0,9, 20170927,     2028, -32.4997, -72.5580,        0.0,1,      0.077,1,      4.621,1,      0.204,1,     -999.0,9,     -999.0,9,     -999.0,9,     -999.0,9,     -999.0,9,     -999.0,9,     -999.0,9,     -999.0,9,     -999.0,9,     -999.0,9,     -999.0,9,    10.8768,2,     -999.0,     -999.0,9,     -999.0
320620170820,        P06,     241,          3,         29,         29,2,20170927,       1832,   -32.4997,   -72.5580,       4821,   116.0,  11.4274,  34.4161,2,  34.4404,2,  91.6036,3,  78.6644,2,    15.0,2,   23.80,2,    0.03,2,    2.34,2,   2.284,2,   1.234,2,   0.9800,2,  2237.8,2,  2276.4,2,   7.4480,6,    25.00, -999.00,9, -999.00,9, -999.00,    52.0,2,   24.60,2,     -999.0,1,  -999.0,9, 20170927,     2031, -32.4997, -72.5580,        0.0,1,      0.070,1,      4.632,1,      0.191,1,     -999.0,9,     -999.0,9,     -999.0,9,     -999.0,9,     -999.0,9,     -999.0,9,     -999.0,9,     -999.0,9,     -999.0,9,     -999.0,9,     -999.0,9,    11.4079,2,     -999.0,     -999.0,9,     -999.0
320620170820,        P06,     241,          3,         30,         30,2,20170927,       1832,   -32.4997,   -72.5580,       4821,    84.0,  13.0373,  34.2058,2,  34.2534,3, 159.3645,4, 178.7128,2,     6.4,2,   17.21,2,    0.15,2,    1.58,2,   2.462,2,   1.449,2,   1.2030,2,  -999.0,9,  -999.0,9,-999.0000,9,  -999.00, -999.00,9, -999.00,9, -999.00,    52.4,2,   18.90,2,     -999.0,1,  -999.0,9, 20170927,     2032, -32.4997, -72.5580,        0.0,1,      0.393,1,      4.505,1,      0.261,1,     -999.0,9,     -999.0,9,     -999.0,9,     -999.0,9,     -999.0,9,     -999.0,9,     -999.0,9,     -999.0,9,     -999.0,9,     -999.0,9,     -999.0,9,    12.2275,2,     -999.0,     -999.0,9,     -999.0
320620170820,        P06,     241,          3,         31,         31,2,20170927,       1832,   -32.4997,   -72.5580,       4821,    60.2,  13.2026,  34.1782,2,  34.1762,2, 263.1512,2, 261.4266,2,     0.8,2,    6.73,2,    0.22,2,    0.83,2,   2.512,2,   1.494,2,   1.5130,2,  2081.2,2,  2272.8,2,   7.8521,2,    25.00, -999.00,9, -999.00,9, -999.00,    58.2,2,   10.30,2,     -999.0,1,  -999.0,9, 20170927,     2034, -32.4997, -72.5580,        0.0,1,      0.393,1,      4.476,1,      0.285,1,     -999.0,9,     -999.0,9,     -999.0,9,     -999.0,9,     -999.0,9,     -999.0,9,     -999.0,9,     -999.0,9,     -999.0,9,     -999.0,9,     -999.0,9,    13.1900,2,     -999.0,     -999.0,9,     -999.0
320620170820,        P06,     241,          3,         32,         32,2,20170927,       1832,   -32.4997,   -72.5580,       4821,    29.3,  13.2164,  34.1784,2,-999.0000,9, 252.1789,2,-999.0000,9,  -999.0,9, -999.00,9, -999.00,9, -999.00,9,-999.000,9,-999.000,9,-999.0000,9,  -999.0,9,  -999.0,9,-999.0000,9,  -999.00, -999.00,9, -999.00,9, -999.00,  -999.0,9, -999.00,9,     -999.0,9,  -999.0,9, 20170927,     2036, -32.4997, -72.5580,        0.0,1,      0.410,1,      4.455,1,      0.275,1,     -999.0,9,     -999.0,9,     -999.0,9,     -999.0,9,     -999.0,9,     -999.0,9,     -999.0,9,     -999.0,1,     -999.0,1,     -999.0,1,     -999.0,1,    13.1919,2,     -999.0,     -999.0,9,     -999.0
320620170820,        P06,     241,          3,         34,         34,2,20170927,       1832,   -32.4997,   -72.5580,       4821,    29.2,  13.2164,  34.1784,2,  34.1742,2, 262.7939,2, 263.3836,2,     0.7,2,    6.58,2,    0.22,2,    0.81,2,   2.529,2,   1.457,2,   1.3080,2,  -999.0,9,  -999.0,9,-999.0000,9,  -999.00, -999.00,9, -999.00,9, -999.00,    56.8,2,   10.40,2,     -999.0,1,  -999.0,9, 20170927,     2037, -32.4997, -72.5580,        0.0,1,      0.410,1,      4.455,1,      0.275,1,     -999.0,9,     -999.0,9,     -999.0,9,     -999.0,9,     -999.0,9,     -999.0,9,     -999.0,9,     -999.0,9,     -999.0,9,     -999.0,9,     -999.0,9,    13.1930,2,     -999.0,     -999.0,9,     -999.0
320620170820,        P06,     241,          3,         33,         33,2,20170927,       1832,   -32.4997,   -72.5580,       4821,    28.9,  13.2164,  34.1784,2,-999.0000,9, 251.9962,2,-999.0000,9,  -999.0,9, -999.00,9, -999.00,9, -999.00,9,-999.000,9,-999.000,9,-999.0000,9,  -999.0,9,  -999.0,9,-999.0000,9,  -999.00, -999.00,9, -999.00,9, -999.00,  -999.0,9, -999.00,9,     -999.0,9,  -999.0,9, 20170927,     2037, -32.4997, -72.5580,        0.0,1,      0.410,1,      4.455,1,      0.275,1,     -999.0,9,     -999.0,9,     -999.0,9,     -999.0,9,     -999.0,9,     -999.0,9,     -999.0,9,     -999.0,1,     -999.0,1,     -999.0,1,     -999.0,1,    13.1924,2,     -999.0,     -999.0,9,     -999.0
320620170820,        P06,     241,          3,         35,         35,2,20170927,       1832,   -32.4997,   -72.5580,       4821,     5.6,  13.2859,  34.1787,2,-999.0000,9, 264.1079,2,-999.0000,9,  -999.0,9, -999.00,9, -999.00,9, -999.00,9,-999.000,9,-999.000,9,-999.0000,9,  -999.0,9,  -999.0,9,-999.0000,9,  -999.00, -999.00,9, -999.00,9, -999.00,    58.8,2, -999.00,9,     -999.0,9,  -999.0,9, 20170927,     2039, -32.4997, -72.5580,        0.0,1,      0.308,1,      4.409,1,      0.297,1,     -999.0,9,     -999.0,9,     -999.0,9,     -999.0,9,     -999.0,9,     -999.0,9,     -999.0,9,     -999.0,1,     -999.0,1,     -999.0,1,     -999.0,1,    13.4562,2,     -999.0,     -999.0,9,     -999.0
320620170820,        P06,     241,          3,         36,         36,2,20170927,       1832,   -32.4997,   -72.5580,       4821,     5.0,  13.2859,  34.1787,2,  34.1793,2, 270.9468,2, 274.5216,2,     0.6,2,    5.98,2,    0.22,2,    0.79,2,   2.539,2,   1.470,2,   1.3310,2,  2068.1,2,  2272.8,2,   7.8784,2,    25.00, -999.00,9, -999.00,9, -999.00,  -999.0,9,   10.40,2,     -999.0,1,  -999.0,9, 20170927,     2040, -32.4997, -72.5580,        0.0,1,      0.308,1,      4.409,1,      0.297,1,     -999.0,9,     -999.0,9,     -999.0,9,     -999.0,9,     -999.0,9,     -999.0,9,     -999.0,9,     -999.0,9,     -999.0,9,     -999.0,9,     -999.0,9,    13.4071,2,     -999.0,     -999.0,9,     -999.0