BOTTLE,20240211CCHSIOCBG
EXPOCODE,SECT_ID,STNNBR,CASTNO,SAMPNO,BTLNBR,BTLNBR_FLAG_W,DATE,TIME,LATITUDE,LONGITUDE,DEPTH,CTDPRS,CTDTMP,CTDSAL,CTDSAL_FLAG_W,SALNTY,SALNTY_FLAG_W,CTDOXY,CTDOXY_FLAG_W,OXYGEN,OXYGEN_FLAG_W,SILCAT,SILCAT_FLAG_W,NITRAT,NITRAT_FLAG_W,NITRIT,NITRIT_FLAG_W,PHSPHT,PHSPHT_FLAG_W,CFC-11,CFC-11_FLAG_W,CFC-12,CFC-12_FLAG_W,SF6,SF6_FLAG_W,TCARBN,TCARBN_FLAG_W,ALKALI,ALKALI_FLAG_W,PH_TOT,PH_TOT_FLAG_W,PH_TMP,DELC13,DELC13_FLAG_W,DELC14,DELC14_FLAG_W,C14ERR,DOC,DOC_FLAG_W,TDN,TDN_FLAG_W,TON,TON_FLAG_W,D15N_NO3,D15N_NO3_FLAG_W,BTL_DATE,BTL_TIME,BTL_LAT,BTL_LON,CTDRINKO,CTDRINKO_FLAG_W,CTDFLUOR,CTDFLUOR_FLAG_W,CTDXMISS,CTDXMISS_FLAG_W,CTDBACKSCATTER,CTDBACKSCATTER_FLAG_W,D18O_NO3,D18O_NO3_FLAG_W,DOP,DOP_FLAG_W,CELLCOUNT,CELLCOUNT_FLAG_W,TDP,TDP_FLAG_W,POP,POP_FLAG_W,DATP,DATP_FLAG_W,PATP,PATP_FLAG_W,HPLC,HPLC_FLAG_W,POC,POC_FLAG_W,BEAMAP,BEAMAP_FLAG_W,DOC_NASA,DOC_NASA_FLAG_W,REFTMP,REFTMP_FLAG_W,DOC_NASA_ERROR,TDN_NASA,TDN_NASA_FLAG_W,TDN_NASA_ERROR
,,,,,,,,,,,METERS,DBAR,ITS-90,PSS-78,,PSS-78,,UMOL/KG,,UMOL/KG,,UMOL/KG,,UMOL/KG,,UMOL/KG,,UMOL/KG,,PMOL/KG,,PMOL/KG,,FMOL/KG,,UMOL/KG,,UMOL/KG,,,,DEG C,/MILLE,,/MILLE,,/MILLE,UMOL/KG,,UMOL/KG,,UMOL/KG,,/MILLE,,,,,,VOLTS,,VOLTS,,VOLTS,,VOLTS,,/MILLE,,UMOL/KG,,/LITER,,UMOL/KG,,UMOL/L,,PMOL/L,,PMOL/L,,,,UG/L,,/METER,,UMOL/L,,ITS-90,,UMOL/L,UMOL/L,,UMOL/L
320620170820,        P06,     216,          1,          1,          1,2,20170919,       1508,   -32.4997,   -90.8756,       3927,  3982.4,   1.7362,  34.6938,2,  34.6910,2, 165.1396,2, 164.6787,2,   120.4,2,   34.56,2,    0.00,2,    2.39,2,   0.040,2,   0.019,2,-999.0000,5,  2302.0,6,  2396.5,2,   7.5893,2,    25.00, -999.00,9, -999.00,9, -999.00,    36.0,2, -999.00,9,     -999.0,1,  -999.0,1, 20170919,     1508, -32.4999, -90.8753,        0.0,1,      0.061,1,      4.681,1,      0.133,1,     -999.0,1,     -999.0,9,     -999.0,9,     -999.0,9,     -999.0,9,     -999.0,9,     -999.0,9,     -999.0,9,     -999.0,9,     -999.0,9,     -999.0,9,     1.7363,2,     -999.0,     -999.0,9,     -999.0
320620170820,        P06,     216,          1,          2,          2,2,20170919,       1508,   -32.4997,   -90.8756,       3927,  3820.3,   1.7225,  34.6936,2,  34.6916,2, 165.1396,2, 165.0561,2,   120.7,2,   34.54,2,    0.00,2,    2.38,2,   0.035,2,   0.014,2,-999.0000,5,  2300.7,2,  2396.5,2,   7.5885,2,    25.00, -999.00,9, -999.00,9, -999.00,    35.2,2, -999.00,9,     -999.0,1,  -999.0,1, 20170919,     1512, -32.4998, -90.8753,        0.0,1,      0.061,1,      4.683,1,      0.131,1,     -999.0,1,     -999.0,9,     -999.0,9,     -999.0,9,     -999.0,9,     -999.0,9,     -999.0,9,     -999.0,9,     -999.0,9,     -999.0,9,     -999.0,9,     1.7229,2,     -999.0,     -999.0,9,     -999.0
320620170820,        P06,     216,          1,          3,          3,2,20170919,       1508,   -32.4997,   -90.8756,       3927,  3655.0,   1.7193,  34.6931,2,  34.6897,2, 165.1387,2, 165.3706,2,   120.2,2,   34.52,2,    0.00,2,    2.38,2,   0.043,2,   0.021,2,-999.0000,5,  -999.0,9,  -999.0,9,-999.0000,9,  -999.00, -999.00,9, -999.00,9, -999.00,  -999.0,9, -999.00,9,     -999.0,9,  -999.0,1, 20170919,     1516, -32.4998, -90.8755,        0.0,1,      0.061,1,      4.684,1,      0.130,1,     -999.0,1,     -999.0,9,     -999.0,9,     -999.0,9,     -999.0,9,     -999.0,9,     -999.0,9,     -999.0,9,     -999.0,9,     -999.0,9,     -999.0,9,     1.7189,2,     -999.0,     -999.0,9,     -999.0
320620170820,        P06,     216,          1,          4,          4,2,20170919,       1508,   -32.4997,   -90.8756,       3927,  3348.0,   1.7466,  34.6904,2,  34.6879,2, 165.2272,2, 165.4031,2,   119.0,2,   34.45,2,    0.00,2,    2.38,2,   0.046,2,   0.021,2,-999.0000,5,  2299.4,2,  2392.4,2,   7.5878,2,    25.00, -999.00,9, -999.00,9, -999.00,    37.4,2, -999.00,9,     -999.0,1,  -999.0,1, 20170919,     1522, -32.4998, -90.8755,        0.0,1,      0.060,1,      4.686,1,      0.128,1,     -999.0,1,     -999.0,9,     -999.0,9,     -999.0,9,     -999.0,9,     -999.0,9,     -999.0,9,     -999.0,9,     -999.0,9,     -999.0,9,     -999.0,9,     1.7457,2,     -999.0,     -999.0,9,     -999.0
320620170820,        P06,     216,          1,          5,          5,2,20170919,       1508,   -32.4997,   -90.8756,       3927,  3042.0,   1.7691,  34.6866,2,  34.6849,2, 165.1371,2, 165.7063,2,   118.1,2,   34.44,2,    0.00,2,    2.38,2,   0.045,2,   0.024,2,-999.0000,5,  2297.7,2,  2389.2,2,   7.5873,2,    25.00, -999.00,9, -999.00,9, -999.00,    35.3,2, -999.00,9,     -999.0,1,  -999.0,1, 20170919,     1528, -32.4999, -90.8752,        0.0,1,      0.060,1,      4.686,1,      0.127,1,     -999.0,1,     -999.0,9,     -999.0,9,     -999.0,9,     -999.0,9,     -999.0,9,     -999.0,9,     -999.0,9,     -999.0,9,     -999.0,9,     -999.0,9,     1.7677,2,     -999.0,     -999.0,9,     -999.0
320620170820,        P06,     216,          1,          6,          6,2,20170919,       1508,   -32.4997,   -90.8756,       3927,  2786.9,   1.7823,  34.6830,2,  34.6791,2, 165.1642,2, 164.8835,2,   117.4,2,   34.48,2,    0.00,2,    2.38,2,   0.049,2,   0.029,2,-999.0000,5,  -999.0,9,  -999.0,9,-999.0000,9,  -999.00, -999.00,9, -999.00,9, -999.00,  -999.0,9, -999.00,9,     -999.0,9,  -999.0,1, 20170919,     1533, -32.4999, -90.8751,        0.0,1,      0.061,1,      4.687,1,      0.128,1,     -999.0,1,     -999.0,9,     -999.0,9,     -999.0,9,     -999.0,9,     -999.0,9,     -999.0,9,     -999.0,9,     -999.0,9,     -999.0,9,     -999.0,9,     1.7848,2,     -999.0,     -999.0,9,     -999.0
320620170820,        P06,     216,          1,          7,          7,2,20170919,       1508,   -32.4997,   -90.8756,       3927,  2532.6,   1.8465,  34.6736,2,  34.6698,2, 162.5992,2, 162.3327,2,   115.7,2,   34.63,2,    0.00,2,    2.39,2,   0.044,2,   0.025,2,-999.0000,5,  2295.3,2,  2385.8,2,   7.5808,2,    25.00, -999.00,9, -999.00,9, -999.00,    40.1,3, -999.00,9,     -999.0,1,  -999.0,1, 20170919,     1538, -32.4999, -90.8750,        0.0,1,      0.062,1,      4.687,1,      0.128,1,     -999.0,1,     -999.0,9,     -999.0,9,     -999.0,9,     -999.0,9,     -999.0,9,     -999.0,9,     -999.0,9,     -999.0,9,     -999.0,9,     -999.0,9,     1.8492,2,     -999.0,     -999.0,9,     -999.0
320620170820,        P06,     216,          1,          8,          8,2,20170919,       1508,   -32.4997,   -90.8756,       3927,  2276.6,   1.9809,  34.6566,2,  34.6545,2, 158.8275,2, 158.6193,2,   112.0,2,   34.94,2,    0.00,2,    2.41,2,   0.049,2,   0.029,2,-999.0000,5,  2295.6,2,  2383.6,2,   7.5713,2,    25.00, -999.00,9, -999.00,9, -999.00,    36.6,2, -999.00,9,     -999.0,1,  -999.0,1, 20170919,     1543, -32.4998, -90.8752,        0.0,1,      0.060,1,      4.687,1,      0.131,1,     -999.0,1,     -999.0,9,     -999.0,9,     -999.0,9,     -999.0,9,     -999.0,9,     -999.0,9,     -999.0,9,     -999.0,9,     -999.0,9,     -999.0,9,     1.9758,2,     -999.0,     -999.0,9,     -999.0
320620170820,        P06,     216,          1,          9,          9,2,20170919,       1508,   -32.4997,   -90.8756,       3927,  2022.5,   2.1973,  34.6296,2,  34.6289,2, 152.2877,2, 153.6701,2,   107.0,2,   35.45,2,    0.00,2,    2.46,2,   0.042,2,   0.022,2,-999.0000,5,  2294.2,2,  2378.2,2,   7.5632,2,    25.00, -999.00,9, -999.00,9, -999.00,    36.1,2, -999.00,9,     -999.0,1,  -999.0,1, 20170919,     1548, -32.4998, -90.8754,        0.0,1,      0.061,1,      4.687,1,      0.132,1,     -999.0,1,     -999.0,9,     -999.0,9,     -999.0,9,     -999.0,9,     -999.0,9,     -999.0,9,     -999.0,9,     -999.0,9,     -999.0,9,     -999.0,9,     2.1805,2,     -999.0,     -999.0,9,     -999.0
320620170820,        P06,     216,          1,         10,         10,2,20170919,       1508,   -32.4997,   -90.8756,       3927,  1819.8,   2.4583,  34.6060,2,  34.6030,2, 141.6221,2, 140.5538,2,   103.8,2,   36.52,2,    0.00,2,    2.56,2,   0.044,2,   0.030,2,-999.0000,5,  2297.8,2,  2374.3,2,   7.5438,2,    25.00, -999.00,9, -999.00,9, -999.00,  -999.0,9, -999.00,9,     -999.0,9,  -999.0,1, 20170919,     1553, -32.4998, -90.8754,        0.0,1,      0.061,1,      4.686,1,      0.132,1,     -999.0,1,     -999.0,9,     -999.0,9,     -999.0,9,     -999.0,9,     -999.0,9,     -999.0,9,     -999.0,9,     -999.0,9,     -999.0,9,     -999.0,9,     2.4378,2,     -999.0,     -999.0,9,     -999.0
320620170820,        P06,     216,          1,         11,         11,2,20170919,       1508,   -32.4997,   -90.8756,       3927,  1617.7,   2.7443,  34.5841,2,  34.5812,2, 127.1547,2, 125.1076,2,    99.1,2,   37.60,2,    0.00,2,    2.65,2,   0.044,2,   0.034,2,-999.0000,5,  2299.9,2,  2369.7,2,   7.5219,2,    25.00, -999.00,9, -999.00,9, -999.00,    39.5,2, -999.00,9,     -999.0,1,  -999.0,1, 20170919,     1557, -32.4998, -90.8753,        0.0,1,      0.062,1,      4.686,1,      0.134,1,     -999.0,1,     -999.0,9,     -999.0,9,     -999.0,9,     -999.0,9,     -999.0,9,     -999.0,9,     -999.0,9,     -999.0,9,     -999.0,9,     -999.0,9,     2.7365,2,     -999.0,     -999.0,9,     -999.0
320620170820,        P06,     216,          1,         12,         12,2,20170919,       1508,   -32.4997,   -90.8756,       3927,  1515.3,   2.9294,  34.5677,2,  34.5659,2, 123.1399,2, 124.8568,2,    94.8,2,   37.87,2,    0.00,2,    2.67,2,   0.044,2,   0.034,2,-999.0000,5,  2297.6,2,  2365.2,6,   7.5161,2,    25.00, -999.00,9, -999.00,9, -999.00,  -999.0,9, -999.00,9,     -999.0,9,  -999.0,1, 20170919,     1600, -32.4999, -90.8751,        0.0,1,      0.062,1,      4.686,1,      0.133,1,     -999.0,1,     -999.0,9,     -999.0,9,     -999.0,9,     -999.0,9,     -999.0,9,     -999.0,9,     -999.0,9,     -999.0,9,     -999.0,9,     -999.0,9,     2.8988,2,     -999.0,     -999.0,9,     -999.0
320620170820,        P06,     216,          1,         13,         13,2,20170919,       1508,   -32.4997,   -90.8756,       3927,  1413.9,   3.1264,  34.5493,2,  34.5463,2, 119.7579,2, 120.4429,2,    89.2,2,   38.24,2,    0.00,2,    2.68,2,   0.042,2,   0.031,2,-999.0000,5,  2294.0,2,  2356.3,2,   7.5082,6,    25.00, -999.00,9, -999.00,9, -999.00,    35.9,2, -999.00,9,     -999.0,1,  -999.0,1, 20170919,     1603, -32.4999, -90.8750,        0.0,1,      0.062,1,      4.686,1,      0.133,1,     -999.0,1,     -999.0,9,     -999.0,9,     -999.0,9,     -999.0,9,     -999.0,9,     -999.0,9,     -999.0,9,     -999.0,9,     -999.0,9,     -999.0,9,     3.1255,2,     -999.0,     -999.0,9,     -999.0
320620170820,        P06,     216,          1,         14,         14,2,20170919,       1508,   -32.4997,   -90.8756,       3927,  1211.8,   3.4764,  34.4960,2,  34.4899,2, 118.2566,2, 118.5465,2,    74.4,2,   38.60,2,    0.00,2,    2.70,2,   0.057,2,   0.042,2,-999.0000,5,  2282.0,6,  2339.0,2,   7.4966,2,    25.00, -999.00,9, -999.00,9, -999.00,  -999.0,9, -999.00,9,     -999.0,9,  -999.0,1, 20170919,     1607, -32.4999, -90.8750,        0.0,1,      0.062,1,      4.685,1,      0.135,1,     -999.0,1,     -999.0,9,     -999.0,9,     -999.0,9,     -999.0,9,     -999.0,9,     -999.0,9,     -999.0,9,     -999.0,9,     -999.0,9,     -999.0,9,     3.4847,2,     -999.0,     -999.0,9,     -999.0
320620170820,        P06,     216,          1,         15,         15,2,20170919,       1508,   -32.4997,   -90.8756,       3927,  1111.0,   3.6102,  34.4512,2,  34.4459,2, 128.2409,2, 128.7628,2,    64.0,2,   37.97,2,    0.00,2,    2.64,2,   0.091,2,   0.056,2,-999.0000,5,  2267.3,2,  2327.2,2,   7.5026,2,    25.00, -999.00,9, -999.00,9, -999.00,    39.2,2, -999.00,9,     -999.0,1,  -999.0,1, 20170919,     1610, -32.4999, -90.8750,        0.0,1,      0.061,1,      4.685,1,      0.136,1,     -999.0,1,     -999.0,9,     -999.0,9,     -999.0,9,     -999.0,9,     -999.0,9,     -999.0,9,     -999.0,9,     -999.0,9,     -999.0,9,     -999.0,9,     3.6103,2,     -999.0,     -999.0,9,     -999.0
320620170820,        P06,     216,          1,         16,         16,2,20170919,       1508,   -32.4997,   -90.8756,       3927,  1008.4,   3.8268,  34.3721,2,  34.3711,2, 158.6293,2, 156.6444,2,    47.7,2,   35.77,2,    0.00,2,    2.46,2,   0.379,2,   0.193,2,-999.0000,5,  2238.3,2,  2310.6,2,   7.5383,2,    25.00, -999.00,9, -999.00,9, -999.00,    37.6,2, -999.00,9,     -999.0,1,  -999.0,1, 20170919,     1612, -32.4999, -90.8750,        0.0,1,      0.061,1,      4.685,1,      0.135,1,     -999.0,1,     -999.0,9,     -999.0,9,     -999.0,9,     -999.0,9,     -999.0,9,     -999.0,9,     -999.0,9,     -999.0,9,     -999.0,9,     -999.0,9,     3.8131,2,     -999.0,     -999.0,9,     -999.0
320620170820,        P06,     216,          1,         17,         17,2,20170919,       1508,   -32.4997,   -90.8756,       3927,   906.8,   4.2847,  34.3103,2,  34.3131,2, 183.0354,2, 183.0236,2,    33.9,2,   33.27,2,    0.00,2,    2.29,2,   1.058,2,   0.503,2,-999.0000,5,  2211.7,2,  2296.0,2,   7.5771,2,    25.00, -999.00,9, -999.00,9, -999.00,  -999.0,9, -999.00,9,     -999.0,9,  -999.0,1, 20170919,     1615, -32.4999, -90.8750,        0.0,1,      0.061,1,      4.686,1,      0.134,1,     -999.0,1,     -999.0,9,     -999.0,9,     -999.0,9,     -999.0,9,     -999.0,9,     -999.0,9,     -999.0,9,     -999.0,9,     -999.0,9,     -999.0,9,     4.2130,2,     -999.0,     -999.0,9,     -999.0
320620170820,        P06,     216,          1,         18,         18,2,20170919,       1508,   -32.4997,   -90.8756,       3927,   807.6,   4.8000,  34.2695,2,  34.2664,3, 208.9606,2, 208.1441,2,    21.4,2,   30.32,2,    0.00,2,    2.05,2,   2.244,2,   0.997,2,-999.0000,5,  2184.3,2,  2285.0,2,   7.6178,2,    25.00, -999.00,9, -999.00,9, -999.00,    39.8,2, -999.00,9,     -999.0,1,  -999.0,1, 20170919,     1617, -32.4999, -90.8750,        0.0,1,      0.060,1,      4.685,1,      0.136,1,     -999.0,1,     -999.0,9,     -999.0,9,     -999.0,9,     -999.0,9,     -999.0,9,     -999.0,9,     -999.0,9,     -999.0,9,     -999.0,9,     -999.0,9,     4.7840,2,     -999.0,     -999.0,9,     -999.0
320620170820,        P06,     216,          1,         19,         19,2,20170919,       1508,   -32.4997,   -90.8756,       3927,   705.8,   5.2274,  34.2510,2,  34.2456,3, 227.4954,2, 228.6386,2,    13.6,2,   27.72,2,    0.00,2,    1.86,2,   3.091,2,   1.462,2,-999.0000,5,  2167.4,2,  2275.9,2,   7.6487,2,    25.00, -999.00,9, -999.00,9, -999.00,    43.7,2, -999.00,9,     -999.0,1,  -999.0,1, 20170919,     1620, -32.4999, -90.8749,        0.0,1,      0.059,1,      4.685,1,      0.135,1,     -999.0,1,     -999.0,9,     -999.0,9,     -999.0,9,     -999.0,9,     -999.0,9,     -999.0,9,     -999.0,9,     -999.0,9,     -999.0,9,     -999.0,9,     5.2839,2,     -999.0,     -999.0,9,     -999.0
320620170820,        P06,     216,          1,         20,         20,2,20170919,       1508,   -32.4997,   -90.8756,       3927,   604.8,   5.5950,  34.2523,2,  34.2495,2, 238.1869,2, 238.1768,2,    10.3,2,   26.03,2,    0.00,2,    1.75,2,   3.373,2,   1.753,2,-999.0000,5,  2159.9,2,  2276.5,2,   7.6665,2,    25.00, -999.00,9, -999.00,9, -999.00,    45.0,2, -999.00,9,     -999.0,1,  -999.0,1, 20170919,     1623, -32.4999, -90.8750,        0.0,1,      0.059,1,      4.685,1,      0.137,1,     -999.0,1,     -999.0,9,     -999.0,9,     -999.0,9,     -999.0,9,     -999.0,9,     -999.0,9,     -999.0,9,     -999.0,9,     -999.0,9,     -999.0,9,     5.6766,2,     -999.0,     -999.0,9,     -999.0
320620170820,        P06,     216,          1,         21,         21,2,20170919,       1508,   -32.4997,   -90.8756,       3927,   504.2,   6.0695,  34.2732,2,  34.2730,2, 222.7743,2, 224.0552,2,     9.4,2,   25.99,2,    0.00,2,    1.75,2,   3.354,2,   1.734,2,-999.0000,5,  2163.8,2,  2273.6,2,   7.6491,2,    25.00, -999.00,9, -999.00,9, -999.00,    40.9,3, -999.00,9,     -999.0,1,  -999.0,1, 20170919,     1626, -32.4998, -90.8752,        0.0,1,      0.059,1,      4.683,1,      0.139,1,     -999.0,1,     -999.0,9,     -999.0,9,     -999.0,9,     -999.0,9,     -999.0,9,     -999.0,9,     -999.0,9,     -999.0,9,     -999.0,9,     -999.0,9,     6.1971,2,     -999.0,     -999.0,9,     -999.0
320620170820,        P06,     216,          1,         22,         22,2,20170919,       1508,   -32.4997,   -90.8756,       3927,   451.4,   6.4185,  34.2786,2,  34.2717,2, 209.0856,3, 213.3202,2,     9.0,2,   26.11,2,    0.00,2,    1.78,2,   3.324,2,   1.767,2,-999.0000,5,  -999.0,9,  -999.0,9,-999.0000,9,  -999.00, -999.00,9, -999.00,9, -999.00,  -999.0,9, -999.00,9,     -999.0,9,  -999.0,1, 20170919,     1627, -32.4998, -90.8753,        0.0,1,      0.061,1,      4.682,1,      0.136,1,     -999.0,1,     -999.0,9,     -999.0,9,     -999.0,9,     -999.0,9,     -999.0,9,     -999.0,9,     -999.0,9,     -999.0,9,     -999.0,9,     -999.0,9,     6.5453,2,     -999.0,     -999.0,9,     -999.0
320620170820,        P06,     216,          1,         23,         23,2,20170919,       1508,   -32.4997,   -90.8756,       3927,   402.7,   6.8487,  34.2873,2,  34.2830,3, 181.7137,2, 184.4469,2,    10.1,2,   27.50,2,    0.00,2,    1.90,2,   3.213,2,   1.611,2,-999.0000,5,  2183.6,2,  2271.3,2,   7.5894,2,    25.00, -999.00,9, -999.00,9, -999.00,    44.2,2, -999.00,9,     -999.0,1,  -999.0,1, 20170919,     1629, -32.4998, -90.8753,        0.0,1,      0.060,1,      4.681,1,      0.136,1,     -999.0,1,     -999.0,9,     -999.0,9,     -999.0,9,     -999.0,9,     -999.0,9,     -999.0,9,     -999.0,9,     -999.0,9,     -999.0,9,     -999.0,9,     6.9648,2,     -999.0,     -999.0,9,     -999.0
320620170820,        P06,     216,          1,         24,         24,2,20170919,       1508,   -32.4997,   -90.8756,       3927,   301.3,   8.9530,  34.2014,2,  34.2030,2,  199.685,2, 198.1986,2,     5.0,2,   21.78,2,    0.00,2,    1.57,2,   3.222,2,   1.701,2,-999.0000,5,  2154.7,2,  2263.8,6,   7.6551,2,    25.00, -999.00,9, -999.00,9, -999.00,    46.4,2, -999.00,9,     -999.0,1,  -999.0,1, 20170919,     1632, -32.4998, -90.8753,        0.0,1,      0.061,1,      4.678,1,      0.137,1,     -999.0,1,     -999.0,1,     -999.0,9,     -999.0,9,     -999.0,9,     -999.0,9,     -999.0,9,     -999.0,9,     -999.0,9,     -999.0,9,     -999.0,9,     8.8025,2,     -999.0,     -999.0,9,     -999.0
320620170820,        P06,     216,          1,         25,         25,2,20170919,       1508,   -32.4997,   -90.8756,       3927,   251.1,  10.3175,  34.1986,2,  34.1938,3, 215.7733,2, 213.8416,2,     1.2,2,   16.44,2,    0.01,2,    1.16,2,   3.167,2,   1.654,2,-999.0000,5,  2120.1,2,  2261.6,2,   7.7390,6,    25.00, -999.00,9, -999.00,9, -999.00,    44.7,2,   19.40,2,     -999.0,1,  -999.0,1, 20170919,     1633, -32.4998, -90.8753,        0.0,1,      0.060,1,      4.675,1,      0.139,1,     -999.0,1,     -999.0,1,     -999.0,9,     -999.0,9,     -999.0,9,     -999.0,9,     -999.0,9,     -999.0,9,     -999.0,9,     -999.0,9,     -999.0,9,    10.6852,2,     -999.0,     -999.0,9,     -999.0
320620170820,        P06,     216,          1,         26,         26,2,20170919,       1508,   -32.4997,   -90.8756,       3927,   200.4,  12.7756,  34.2127,2,  34.1934,2, 222.9097,2, 220.1555,2,     0.2,2,   11.67,2,    0.02,2,    0.85,2,   2.896,2,   1.539,2,-999.0000,5,  2091.6,2,  2263.2,2,   7.8029,2,    25.00, -999.00,9, -999.00,9, -999.00,    49.4,2,   13.80,2,     -999.0,1,  -999.0,1, 20170919,     1635, -32.4997, -90.8754,        0.0,1,      0.076,1,      4.662,1,      0.155,1,     -999.0,1,     -999.0,1,     -999.0,1,     -999.0,1,     -999.0,1,     -999.0,1,     -999.0,1,     -999.0,9,     -999.0,9,     -999.0,9,     -999.0,9,    12.4872,2,     -999.0,     -999.0,9,     -999.0