BOTTLE,20240211CCHSIOCBG
EXPOCODE,SECT_ID,STNNBR,CASTNO,SAMPNO,BTLNBR,BTLNBR_FLAG_W,DATE,TIME,LATITUDE,LONGITUDE,DEPTH,CTDPRS,CTDTMP,CTDSAL,CTDSAL_FLAG_W,SALNTY,SALNTY_FLAG_W,CTDOXY,CTDOXY_FLAG_W,OXYGEN,OXYGEN_FLAG_W,SILCAT,SILCAT_FLAG_W,NITRAT,NITRAT_FLAG_W,NITRIT,NITRIT_FLAG_W,PHSPHT,PHSPHT_FLAG_W,CFC-11,CFC-11_FLAG_W,CFC-12,CFC-12_FLAG_W,SF6,SF6_FLAG_W,TCARBN,TCARBN_FLAG_W,ALKALI,ALKALI_FLAG_W,PH_TOT,PH_TOT_FLAG_W,PH_TMP,DELC13,DELC13_FLAG_W,DELC14,DELC14_FLAG_W,C14ERR,DOC,DOC_FLAG_W,TDN,TDN_FLAG_W,TON,TON_FLAG_W,D15N_NO3,D15N_NO3_FLAG_W,BTL_DATE,BTL_TIME,BTL_LAT,BTL_LON,CTDRINKO,CTDRINKO_FLAG_W,CTDFLUOR,CTDFLUOR_FLAG_W,CTDXMISS,CTDXMISS_FLAG_W,CTDBACKSCATTER,CTDBACKSCATTER_FLAG_W,D18O_NO3,D18O_NO3_FLAG_W,DOP,DOP_FLAG_W,CELLCOUNT,CELLCOUNT_FLAG_W,TDP,TDP_FLAG_W,POP,POP_FLAG_W,DATP,DATP_FLAG_W,PATP,PATP_FLAG_W,HPLC,HPLC_FLAG_W,POC,POC_FLAG_W,BEAMAP,BEAMAP_FLAG_W,DOC_NASA,DOC_NASA_FLAG_W,REFTMP,REFTMP_FLAG_W,DOC_NASA_ERROR,TDN_NASA,TDN_NASA_FLAG_W,TDN_NASA_ERROR
,,,,,,,,,,,METERS,DBAR,ITS-90,PSS-78,,PSS-78,,UMOL/KG,,UMOL/KG,,UMOL/KG,,UMOL/KG,,UMOL/KG,,UMOL/KG,,PMOL/KG,,PMOL/KG,,FMOL/KG,,UMOL/KG,,UMOL/KG,,,,DEG C,/MILLE,,/MILLE,,/MILLE,UMOL/KG,,UMOL/KG,,UMOL/KG,,/MILLE,,,,,,VOLTS,,VOLTS,,VOLTS,,VOLTS,,/MILLE,,UMOL/KG,,/LITER,,UMOL/KG,,UMOL/L,,PMOL/L,,PMOL/L,,,,UG/L,,/METER,,UMOL/L,,ITS-90,,UMOL/L,UMOL/L,,UMOL/L
320620170820,        P06,     209,          1,          1,          1,2,20170917,       0521,   -32.5005,   -97.1045,       3721,  3771.5,   1.7780,  34.6918,2,  34.6916,2, 165.9753,2, 165.2586,2,   119.1,2,   34.46,2,    0.00,2,    2.38,2,   0.033,2,   0.018,2,   0.0000,2,  2296.4,6,  2395.2,2,   7.5899,2,    25.00, -999.00,9, -999.00,9, -999.00,  -999.0,9, -999.00,9,     -999.0,9,  -999.0,9, 20170917,      521, -32.5000, -97.1053,        0.0,1,      0.061,1,      4.684,1,      0.131,1,     -999.0,9,     -999.0,9,     -999.0,9,     -999.0,9,     -999.0,9,     -999.0,9,     -999.0,9,     -999.0,9,     -999.0,9,     -999.0,9,     -999.0,9,     1.7784,2,     -999.0,     -999.0,9,     -999.0
320620170820,        P06,     209,          1,          2,          2,2,20170917,       0521,   -32.5005,   -97.1045,       3721,  3614.8,   1.7660,  34.6917,2,  34.6905,2, 165.9753,2, 165.7584,2,   118.6,2,   34.40,2,    0.00,2,    2.38,2,   0.035,2,   0.021,2,   0.0000,2,  2297.4,2,  2394.0,2,   7.5896,2,    25.00, -999.00,9, -999.00,9, -999.00,  -999.0,9, -999.00,9,     -999.0,9,  -999.0,9, 20170917,      526, -32.5001, -97.1053,        0.0,1,      0.061,1,      4.685,1,      0.130,1,     -999.0,9,     -999.0,9,     -999.0,9,     -999.0,9,     -999.0,9,     -999.0,9,     -999.0,9,     -999.0,9,     -999.0,9,     -999.0,9,     -999.0,9,     1.7665,2,     -999.0,     -999.0,9,     -999.0
320620170820,        P06,     209,          1,          3,          3,2,20170917,       0521,   -32.5005,   -97.1045,       3721,  3467.1,   1.7618,  34.6910,2,  34.6899,2, 165.9753,2, 166.1596,2,   118.5,2,   34.33,2,    0.00,2,    2.37,2,   0.030,2,   0.018,2,   0.0000,2,  -999.0,9,  -999.0,9,-999.0000,9,  -999.00, -999.00,9, -999.00,9, -999.00,  -999.0,9, -999.00,9,     -999.0,9,  -999.0,9, 20170917,      530, -32.5005, -97.1050,        0.0,1,      0.061,1,      4.687,1,      0.127,1,     -999.0,9,     -999.0,9,     -999.0,9,     -999.0,9,     -999.0,9,     -999.0,9,     -999.0,9,     -999.0,9,     -999.0,9,     -999.0,9,     -999.0,9,     1.7620,2,     -999.0,     -999.0,9,     -999.0
320620170820,        P06,     209,          1,          4,          4,2,20170917,       0521,   -32.5005,   -97.1045,       3721,  3210.8,   1.7577,  34.6897,2,  34.6885,2, 165.8841,2, 166.4474,2,   118.0,2,   34.28,2,    0.00,2,    2.37,2,   0.031,2,   0.019,2,   0.0000,2,  2294.9,2,  2392.8,2,   7.5891,2,    25.00, -999.00,9, -999.00,9, -999.00,  -999.0,9, -999.00,9,     -999.0,9,  -999.0,9, 20170917,      536, -32.5002, -97.1051,        0.0,1,      0.061,1,      4.688,1,      0.126,1,     -999.0,9,     -999.0,9,     -999.0,9,     -999.0,9,     -999.0,9,     -999.0,9,     -999.0,9,     -999.0,9,     -999.0,9,     -999.0,9,     -999.0,9,     1.7584,2,     -999.0,     -999.0,9,     -999.0
320620170820,        P06,     209,          1,          5,          5,2,20170917,       0521,   -32.5005,   -97.1045,       3721,  2954.7,   1.7626,  34.6872,2,  34.6859,2, 166.1331,2, 166.6342,2,   117.8,2,   34.32,2,    0.00,2,    2.37,2,   0.032,2,   0.020,2,   0.0000,2,  -999.0,9,  -999.0,9,-999.0000,9,  -999.00, -999.00,9, -999.00,9, -999.00,  -999.0,9, -999.00,9,     -999.0,9,  -999.0,9, 20170917,      541, -32.4999, -97.1054,        0.0,1,      0.060,1,      4.689,1,      0.125,1,     -999.0,9,     -999.0,9,     -999.0,9,     -999.0,9,     -999.0,9,     -999.0,9,     -999.0,9,     -999.0,9,     -999.0,9,     -999.0,9,     -999.0,9,     1.7634,2,     -999.0,     -999.0,9,     -999.0
320620170820,        P06,     209,          1,          6,          6,2,20170917,       0521,   -32.5005,   -97.1045,       3721,  2698.9,   1.7813,  34.6821,2,  34.6820,2, 165.6232,2, 165.2366,2,   117.3,2,   34.41,2,    0.00,2,    2.38,2,   0.035,2,   0.021,2,   0.0000,2,  2293.1,2,  2388.8,2,   7.5867,2,    25.00, -999.00,9, -999.00,9, -999.00,  -999.0,9, -999.00,9,     -999.0,9,  -999.0,9, 20170917,      547, -32.5001, -97.1052,        0.0,1,      0.061,1,      4.689,1,      0.126,1,     -999.0,9,     -999.0,9,     -999.0,9,     -999.0,9,     -999.0,9,     -999.0,9,     -999.0,9,     -999.0,9,     -999.0,9,     -999.0,9,     -999.0,9,     1.7823,2,     -999.0,     -999.0,9,     -999.0
320620170820,        P06,     209,          1,          7,          7,2,20170917,       0521,   -32.5005,   -97.1045,       3721,  2444.5,   1.8388,  34.6737,2,  34.6706,2, 162.7407,2, 162.3239,2,   115.4,2,   34.56,2,    0.00,2,    2.40,2,   0.034,2,   0.021,2,   0.0000,2,  -999.0,9,  -999.0,9,-999.0000,9,  -999.00, -999.00,9, -999.00,9, -999.00,  -999.0,9, -999.00,9,     -999.0,9,  -999.0,9, 20170917,      552, -32.5005, -97.1048,        0.0,1,      0.061,1,      4.689,1,      0.127,1,     -999.0,9,     -999.0,9,     -999.0,9,     -999.0,9,     -999.0,9,     -999.0,9,     -999.0,9,     -999.0,9,     -999.0,9,     -999.0,9,     -999.0,9,     1.8446,2,     -999.0,     -999.0,9,     -999.0
320620170820,        P06,     209,          1,          8,          8,2,20170917,       0521,   -32.5005,   -97.1045,       3721,  2189.9,   1.9839,  34.6565,2,  34.6545,2,  158.422,2, 158.7041,2,   111.1,2,   34.79,2,    0.00,2,    2.41,2,   0.036,2,   0.021,2,   0.0000,2,  2291.8,2,  2383.3,2,   7.5740,2,    25.00, -999.00,9, -999.00,9, -999.00,  -999.0,9, -999.00,9,     -999.0,9,  -999.0,9, 20170917,      558, -32.5005, -97.1048,        0.0,1,      0.061,1,      4.689,1,      0.128,1,     -999.0,9,     -999.0,9,     -999.0,9,     -999.0,9,     -999.0,9,     -999.0,9,     -999.0,9,     -999.0,9,     -999.0,9,     -999.0,9,     -999.0,9,     1.9862,2,     -999.0,     -999.0,9,     -999.0
320620170820,        P06,     209,          1,          9,          9,2,20170917,       0521,   -32.5005,   -97.1045,       3721,  1955.8,   2.2118,  34.6279,2,  34.6270,2, 153.8701,2, 153.9724,2,   104.0,2,   35.21,2,    0.00,2,    2.46,2,   0.036,2,   0.022,2,   0.0000,2,  -999.0,9,  -999.0,9,-999.0000,9,  -999.00, -999.00,9, -999.00,9, -999.00,  -999.0,9, -999.00,9,     -999.0,9,  -999.0,9, 20170917,      603, -32.5007, -97.1047,        0.0,1,      0.061,1,      4.689,1,      0.128,1,     -999.0,9,     -999.0,9,     -999.0,9,     -999.0,9,     -999.0,9,     -999.0,9,     -999.0,9,     -999.0,9,     -999.0,9,     -999.0,9,     -999.0,9,     2.2022,2,     -999.0,     -999.0,9,     -999.0
320620170820,        P06,     209,          1,         10,         10,2,20170917,       0521,   -32.5005,   -97.1045,       3721,  1784.9,   2.4250,  34.6006,2,  34.6001,2, 148.4237,2, 148.6611,2,    98.7,2,   35.70,2,    0.00,2,    2.50,2,   0.035,2,   0.019,2,   0.0000,2,  2285.9,2,  2370.4,2,   7.5553,2,    25.00, -999.00,9, -999.00,9, -999.00,  -999.0,9, -999.00,9,     -999.0,9,  -999.0,9, 20170917,      608, -32.5005, -97.1048,        0.0,1,      0.061,1,      4.689,1,      0.127,1,     -999.0,9,     -999.0,9,     -999.0,9,     -999.0,9,     -999.0,9,     -999.0,9,     -999.0,9,     -999.0,9,     -999.0,9,     -999.0,9,     -999.0,9,     2.4100,2,     -999.0,     -999.0,9,     -999.0
320620170820,        P06,     209,          1,         11,         11,2,20170917,       0521,   -32.5005,   -97.1045,       3721,  1682.7,   2.5848,  34.5844,2,  34.5834,2, 143.3946,2, 144.1008,2,    95.6,2,   36.19,2,    0.00,2,    2.54,2,   0.034,2,   0.021,2,   0.0000,2,  -999.0,9,  -999.0,9,-999.0000,9,  -999.00, -999.00,9, -999.00,9, -999.00,  -999.0,9, -999.00,9,     -999.0,9,  -999.0,9, 20170917,      611, -32.5002, -97.1050,        0.0,1,      0.061,1,      4.689,1,      0.130,1,     -999.0,9,     -999.0,9,     -999.0,9,     -999.0,9,     -999.0,9,     -999.0,9,     -999.0,9,     -999.0,9,     -999.0,9,     -999.0,9,     -999.0,9,     2.5757,2,     -999.0,     -999.0,9,     -999.0
320620170820,        P06,     209,          1,         12,         12,2,20170917,       0521,   -32.5005,   -97.1045,       3721,  1581.5,   2.7750,  34.5669,2,  34.5671,2, 137.6463,2, 137.6314,2,    92.3,2,   36.72,2,    0.00,2,    2.58,2,   0.032,2,   0.019,2,   0.0000,2,  2286.4,2,  2364.0,6,   7.5358,2,    25.00, -999.00,9, -999.00,9, -999.00,  -999.0,9, -999.00,9,     -999.0,9,  -999.0,9, 20170917,      614, -32.5001, -97.1051,        0.0,1,      0.061,1,      4.689,1,      0.130,1,     -999.0,9,     -999.0,9,     -999.0,9,     -999.0,9,     -999.0,9,     -999.0,9,     -999.0,9,     -999.0,9,     -999.0,9,     -999.0,9,     -999.0,9,     2.7531,2,     -999.0,     -999.0,9,     -999.0
320620170820,        P06,     209,          1,         13,         13,2,20170917,       0521,   -32.5005,   -97.1045,       3721,  1479.8,   2.9844,  34.5491,2,  34.5494,2, 131.5638,2, 131.5272,2,    88.4,2,   37.22,2,    0.00,2,    2.61,2,   0.034,2,   0.020,2,   0.0000,2,  -999.0,9,  -999.0,9,-999.0000,9,  -999.00, -999.00,9, -999.00,9, -999.00,  -999.0,9, -999.00,9,     -999.0,9,  -999.0,9, 20170917,      617, -32.5002, -97.1050,        0.0,1,      0.062,1,      4.689,1,      0.130,1,     -999.0,9,     -999.0,9,     -999.0,9,     -999.0,9,     -999.0,9,     -999.0,9,     -999.0,9,     -999.0,9,     -999.0,9,     -999.0,9,     -999.0,9,     2.9520,2,     -999.0,     -999.0,9,     -999.0
320620170820,        P06,     209,          1,         14,         14,2,20170917,       0521,   -32.5005,   -97.1045,       3721,  1378.0,   3.1935,  34.5290,2,  34.5296,2, 125.5464,2, 125.1489,2,    83.9,2,   37.87,2,    0.00,2,    2.66,2,   0.033,2,   0.020,2,   0.0000,2,  2287.1,2,  2352.5,2,   7.5141,6,    25.00, -999.00,9, -999.00,9, -999.00,  -999.0,9, -999.00,9,     -999.0,9,  -999.0,9, 20170917,      620, -32.5004, -97.1048,        0.0,1,      0.061,1,      4.688,1,      0.131,1,     -999.0,9,     -999.0,9,     -999.0,9,     -999.0,9,     -999.0,9,     -999.0,9,     -999.0,9,     -999.0,9,     -999.0,9,     -999.0,9,     -999.0,9,     3.1606,2,     -999.0,     -999.0,9,     -999.0
320620170820,        P06,     209,          1,         15,         15,2,20170917,       0521,   -32.5005,   -97.1045,       3721,  1276.2,   3.4042,  34.4975,2,  34.4972,2, 123.6844,2, 123.7923,2,    75.7,2,   38.07,2,    0.00,2,    2.67,2,   0.040,2,   0.025,2,   0.0000,2,  2280.2,6,  2343.8,2,   7.5066,2,    25.00, -999.00,9, -999.00,9, -999.00,  -999.0,9, -999.00,9,     -999.0,9,  -999.0,9, 20170917,      623, -32.5007, -97.1046,        0.0,1,      0.061,1,      4.689,1,      0.132,1,     -999.0,9,     -999.0,9,     -999.0,9,     -999.0,9,     -999.0,9,     -999.0,9,     -999.0,9,     -999.0,9,     -999.0,9,     -999.0,9,     -999.0,9,     3.3951,2,     -999.0,     -999.0,9,     -999.0
320620170820,        P06,     209,          1,         16,         16,2,20170917,       0521,   -32.5005,   -97.1045,       3721,  1175.7,   3.5570,  34.4473,2,  34.4471,2, 134.1879,2, 133.2244,2,    64.1,2,   37.51,2,    0.00,2,    2.61,2,   0.122,2,   0.082,2,   0.0000,2,  2262.9,2,  2330.3,2,   7.5144,2,    25.00, -999.00,9, -999.00,9, -999.00,  -999.0,9, -999.00,9,     -999.0,9,  -999.0,9, 20170917,      626, -32.5008, -97.1046,        0.0,1,      0.061,1,      4.688,1,      0.130,1,     -999.0,9,     -999.0,9,     -999.0,9,     -999.0,9,     -999.0,9,     -999.0,9,     -999.0,9,     -999.0,9,     -999.0,9,     -999.0,9,     -999.0,9,     3.5528,2,     -999.0,     -999.0,9,     -999.0
320620170820,        P06,     209,          1,         17,         17,2,20170917,       0521,   -32.5005,   -97.1045,       3721,  1073.8,   3.8139,  34.3826,2,  34.3774,2, 156.1781,2, 156.3204,2,    48.3,2,   35.64,2,    0.00,2,    2.45,2,   0.264,2,   0.149,2,   0.0000,2,  -999.0,9,  -999.0,9,-999.0000,9,  -999.00, -999.00,9, -999.00,9, -999.00,  -999.0,9, -999.00,9,     -999.0,9,  -999.0,9, 20170917,      629, -32.5008, -97.1046,        0.0,1,      0.061,1,      4.687,1,      0.133,1,     -999.0,9,     -999.0,9,     -999.0,9,     -999.0,9,     -999.0,9,     -999.0,9,     -999.0,9,     -999.0,9,     -999.0,9,     -999.0,9,     -999.0,9,     3.8286,2,     -999.0,     -999.0,9,     -999.0
320620170820,        P06,     209,          1,         18,         18,2,20170917,       0521,   -32.5005,   -97.1045,       3721,   974.3,   4.2408,  34.3242,2,  34.3235,2, 179.2362,2, 178.9678,2,    35.2,2,   33.38,2,    0.00,2,    2.30,2,   0.750,2,   0.380,2,   0.0400,2,  2212.7,2,  2298.6,2,   7.5793,2,    25.00, -999.00,9, -999.00,9, -999.00,  -999.0,9, -999.00,9,     -999.0,9,  -999.0,9, 20170917,      632, -32.5008, -97.1046,        0.0,1,      0.061,1,      4.688,1,      0.132,1,     -999.0,9,     -999.0,9,     -999.0,9,     -999.0,9,     -999.0,9,     -999.0,9,     -999.0,9,     -999.0,9,     -999.0,9,     -999.0,9,     -999.0,9,     4.2103,2,     -999.0,     -999.0,9,     -999.0
320620170820,        P06,     209,          1,         19,         19,2,20170917,       0521,   -32.5005,   -97.1045,       3721,   871.9,   4.8005,  34.2806,2,  34.2844,2, 200.4537,2, 200.7837,2,    23.6,2,   30.76,2,    0.00,2,    2.10,2,   1.619,2,   0.779,2,   0.1850,2,  -999.0,9,  -999.0,9,-999.0000,9,  -999.00, -999.00,9, -999.00,9, -999.00,  -999.0,9, -999.00,9,     -999.0,9,  -999.0,9, 20170917,      635, -32.5006, -97.1046,        0.0,1,      0.060,1,      4.688,1,      0.133,1,     -999.0,9,     -999.0,9,     -999.0,9,     -999.0,9,     -999.0,9,     -999.0,9,     -999.0,9,     -999.0,9,     -999.0,9,     -999.0,9,     -999.0,9,     4.7301,2,     -999.0,     -999.0,9,     -999.0
320620170820,        P06,     209,          1,         20,         20,2,20170917,       0521,   -32.5005,   -97.1045,       3721,   769.8,   5.2734,  34.2661,2,  34.2625,3, 222.3831,2, 222.0322,2,    15.0,2,   27.99,2,    0.00,2,    1.90,2,   2.661,2,   1.314,2,   0.4580,2,  2167.8,2,  2279.7,2,   7.6494,2,    25.00, -999.00,9, -999.00,9, -999.00,  -999.0,9, -999.00,9,     -999.0,9,  -999.0,9, 20170917,      638, -32.5006, -97.1046,        0.0,1,      0.059,1,      4.688,1,      0.132,1,     -999.0,9,     -999.0,9,     -999.0,9,     -999.0,9,     -999.0,9,     -999.0,9,     -999.0,9,     -999.0,9,     -999.0,9,     -999.0,9,     -999.0,9,     5.2663,2,     -999.0,     -999.0,9,     -999.0
320620170820,        P06,     209,          1,         21,         21,2,20170917,       0521,   -32.5005,   -97.1045,       3721,   671.0,   5.6610,  34.2684,2,  34.2577,2, 227.6609,3, 236.7061,2,    10.7,2,   25.92,2,    0.00,2,    1.75,2,   3.395,2,   1.717,2,   0.7050,2,  -999.0,9,  -999.0,9,-999.0000,9,  -999.00, -999.00,9, -999.00,9, -999.00,  -999.0,9, -999.00,9,     -999.0,9,  -999.0,9, 20170917,      641, -32.5007, -97.1046,        0.0,1,      0.059,1,      4.688,1,      0.133,1,     -999.0,9,     -999.0,9,     -999.0,9,     -999.0,9,     -999.0,9,     -999.0,9,     -999.0,9,     -999.0,9,     -999.0,9,     -999.0,9,     -999.0,9,     5.6049,2,     -999.0,     -999.0,9,     -999.0
320620170820,        P06,     209,          1,         22,         22,2,20170917,       0521,   -32.5005,   -97.1045,       3721,   568.4,   6.0118,  34.2759,2,  34.2715,2, 238.9209,2, 238.7652,2,     9.0,2,   24.83,2,    0.00,2,    1.68,2,   3.586,2,   1.901,2,   0.9680,2,  2157.3,2,  2277.0,2,   7.6785,2,    25.00, -999.00,9, -999.00,9, -999.00,  -999.0,9, -999.00,9,     -999.0,9,  -999.0,9, 20170917,      644, -32.5008, -97.1046,        0.0,1,      0.060,1,      4.686,1,      0.134,1,     -999.0,9,     -999.0,9,     -999.0,9,     -999.0,9,     -999.0,9,     -999.0,9,     -999.0,9,     -999.0,9,     -999.0,9,     -999.0,9,     -999.0,9,     5.9879,2,     -999.0,     -999.0,9,     -999.0
320620170820,        P06,     209,          1,         23,         23,2,20170917,       0521,   -32.5005,   -97.1045,       3721,   488.8,   6.4957,  34.2987,2,  34.2964,2, 224.8218,2,  225.686,2,     8.0,2,   24.52,2,    0.00,2,    1.67,2,   3.552,2,   1.910,2,   0.9260,2,  -999.0,9,  -999.0,9,-999.0000,9,  -999.00, -999.00,9, -999.00,9, -999.00,  -999.0,9, -999.00,9,     -999.0,9,  -999.0,9, 20170917,      646, -32.5008, -97.1046,        0.0,1,      0.060,1,      4.686,1,      0.134,1,     -999.0,9,     -999.0,9,     -999.0,9,     -999.0,9,     -999.0,9,     -999.0,9,     -999.0,9,     -999.0,9,     -999.0,9,     -999.0,9,     -999.0,9,     6.5380,2,     -999.0,     -999.0,9,     -999.0
320620170820,        P06,     209,          1,         24,         24,2,20170917,       0521,   -32.5005,   -97.1045,       3721,   438.1,   6.9258,  34.2962,2,  34.2905,2,  200.769,2, 206.6267,2,     8.0,2,   24.88,2,    0.00,2,    1.72,2,   3.451,2,   1.828,2,   0.9010,2,  2165.6,2,  2273.2,2,   7.6403,2,    25.00, -999.00,9, -999.00,9, -999.00,  -999.0,9, -999.00,9,     -999.0,9,  -999.0,9, 20170917,      648, -32.5008, -97.1045,        0.0,1,      0.060,1,      4.684,1,      0.134,1,     -999.0,9,     -999.0,9,     -999.0,9,     -999.0,9,     -999.0,9,     -999.0,9,     -999.0,9,     -999.0,9,     -999.0,9,     -999.0,9,     -999.0,9,     7.0155,2,     -999.0,     -999.0,9,     -999.0
320620170820,        P06,     209,          1,         25,         25,2,20170917,       0521,   -32.5005,   -97.1045,       3721,   386.8,   7.6073,  34.2790,2,  34.2746,2, 193.7619,2, 199.9654,2,     7.0,2,   23.93,2,    0.00,2,    1.68,2,   3.399,2,   1.831,2,   1.1120,2,  2166.8,2,  2270.8,2,   7.6406,2,    25.00, -999.00,9, -999.00,9, -999.00,  -999.0,9, -999.00,9,     -999.0,9,  -999.0,9, 20170917,      650, -32.5008, -97.1046,        0.0,1,      0.060,1,      4.683,1,      0.134,1,     -999.0,9,     -999.0,9,     -999.0,9,     -999.0,9,     -999.0,9,     -999.0,9,     -999.0,9,     -999.0,9,     -999.0,9,     -999.0,9,     -999.0,9,     7.6302,2,     -999.0,     -999.0,9,     -999.0
320620170820,        P06,     209,          1,         26,         26,2,20170917,       0521,   -32.5005,   -97.1045,       3721,   338.0,   8.8052,  34.2384,2,  34.2407,3, 205.6536,2, 211.3861,2,     4.4,2,   21.12,2,    0.00,2,    1.49,2,   3.424,2,   1.902,2,   1.2490,2,  2148.7,2,  2268.1,2,   7.6796,2,    25.00, -999.00,9, -999.00,9, -999.00,  -999.0,9, -999.00,9,     -999.0,9,  -999.0,9, 20170917,      652, -32.5008, -97.1046,        0.0,1,      0.060,1,      4.682,1,      0.135,1,     -999.0,9,     -999.0,9,     -999.0,9,     -999.0,9,     -999.0,9,     -999.0,9,     -999.0,9,     -999.0,9,     -999.0,9,     -999.0,9,     -999.0,9,     8.4859,2,     -999.0,     -999.0,9,     -999.0