BOTTLE,20240211CCHSIOCBG
EXPOCODE,SECT_ID,STNNBR,CASTNO,SAMPNO,BTLNBR,BTLNBR_FLAG_W,DATE,TIME,LATITUDE,LONGITUDE,DEPTH,CTDPRS,CTDTMP,CTDSAL,CTDSAL_FLAG_W,SALNTY,SALNTY_FLAG_W,CTDOXY,CTDOXY_FLAG_W,OXYGEN,OXYGEN_FLAG_W,SILCAT,SILCAT_FLAG_W,NITRAT,NITRAT_FLAG_W,NITRIT,NITRIT_FLAG_W,PHSPHT,PHSPHT_FLAG_W,CFC-11,CFC-11_FLAG_W,CFC-12,CFC-12_FLAG_W,SF6,SF6_FLAG_W,TCARBN,TCARBN_FLAG_W,ALKALI,ALKALI_FLAG_W,PH_TOT,PH_TOT_FLAG_W,PH_TMP,DELC13,DELC13_FLAG_W,DELC14,DELC14_FLAG_W,C14ERR,DOC,DOC_FLAG_W,TDN,TDN_FLAG_W,TON,TON_FLAG_W,D15N_NO3,D15N_NO3_FLAG_W,BTL_DATE,BTL_TIME,BTL_LAT,BTL_LON,CTDRINKO,CTDRINKO_FLAG_W,CTDFLUOR,CTDFLUOR_FLAG_W,CTDXMISS,CTDXMISS_FLAG_W,CTDBACKSCATTER,CTDBACKSCATTER_FLAG_W,D18O_NO3,D18O_NO3_FLAG_W,DOP,DOP_FLAG_W,CELLCOUNT,CELLCOUNT_FLAG_W,TDP,TDP_FLAG_W,POP,POP_FLAG_W,DATP,DATP_FLAG_W,PATP,PATP_FLAG_W,HPLC,HPLC_FLAG_W,POC,POC_FLAG_W,BEAMAP,BEAMAP_FLAG_W,DOC_NASA,DOC_NASA_FLAG_W,REFTMP,REFTMP_FLAG_W,DOC_NASA_ERROR,TDN_NASA,TDN_NASA_FLAG_W,TDN_NASA_ERROR
,,,,,,,,,,,METERS,DBAR,ITS-90,PSS-78,,PSS-78,,UMOL/KG,,UMOL/KG,,UMOL/KG,,UMOL/KG,,UMOL/KG,,UMOL/KG,,PMOL/KG,,PMOL/KG,,FMOL/KG,,UMOL/KG,,UMOL/KG,,,,DEG C,/MILLE,,/MILLE,,/MILLE,UMOL/KG,,UMOL/KG,,UMOL/KG,,/MILLE,,,,,,VOLTS,,VOLTS,,VOLTS,,VOLTS,,/MILLE,,UMOL/KG,,/LITER,,UMOL/KG,,UMOL/L,,PMOL/L,,PMOL/L,,,,UG/L,,/METER,,UMOL/L,,ITS-90,,UMOL/L,UMOL/L,,UMOL/L
320620170820,        P06,     220,          1,          1,          1,2,20170921,       0015,   -32.4998,   -87.3154,       3879,  3932.0,   1.6737,  34.6954,2,  34.6946,2, 166.0307,2, 165.6611,2,   122.8,2,   34.51,2,    0.00,2,    2.39,2,-999.000,9,-999.000,9,-999.0000,9,  2304.4,6,  2398.2,2,   7.5899,2,    25.00, -999.00,9, -999.00,9, -999.00,    40.0,2, -999.00,9,     -999.0,1,  -999.0,9, 20170921,       15, -32.5000, -87.3154,        0.0,1,      0.061,1,      4.680,1,      0.136,1,     -999.0,9,     -999.0,9,     -999.0,9,     -999.0,9,     -999.0,9,     -999.0,9,     -999.0,9,     -999.0,9,     -999.0,9,     -999.0,9,     -999.0,9,     1.6741,2,     -999.0,     -999.0,9,     -999.0
320620170820,        P06,     220,          1,          2,          2,2,20170921,       0015,   -32.4998,   -87.3154,       3879,  3778.1,   1.6598,  34.6953,2,  34.6940,2, 166.0307,2, 165.3554,2,   122.7,2,   34.50,2,    0.00,2,    2.40,2,-999.000,9,-999.000,9,-999.0000,9,  -999.0,9,  -999.0,9,-999.0000,9,  -999.00, -999.00,9, -999.00,9, -999.00,  -999.0,9, -999.00,9,     -999.0,9,  -999.0,9, 20170921,       19, -32.5000, -87.3154,        0.0,1,      0.061,1,      4.682,1,      0.134,1,     -999.0,9,     -999.0,9,     -999.0,9,     -999.0,9,     -999.0,9,     -999.0,9,     -999.0,9,     -999.0,9,     -999.0,9,     -999.0,9,     -999.0,9,     1.6602,2,     -999.0,     -999.0,9,     -999.0
320620170820,        P06,     220,          1,          3,          3,2,20170921,       0015,   -32.4998,   -87.3154,       3879,  3641.0,   1.6538,  34.6952,2,  34.6936,2, 166.0899,2, 166.2512,2,   122.5,2,   34.47,2,    0.00,2,    2.39,2,-999.000,9,-999.000,9,-999.0000,9,  2302.7,2,  2397.7,2,   7.5884,6,    25.00, -999.00,9, -999.00,9, -999.00,    38.1,2, -999.00,9,     -999.0,1,  -999.0,9, 20170921,       23, -32.5000, -87.3154,        0.0,1,      0.062,1,      4.684,1,      0.129,1,     -999.0,9,     -999.0,9,     -999.0,9,     -999.0,9,     -999.0,9,     -999.0,9,     -999.0,9,     -999.0,9,     -999.0,9,     -999.0,9,     -999.0,9,     1.6539,2,     -999.0,     -999.0,9,     -999.0
320620170820,        P06,     220,          1,          4,          4,2,20170921,       0015,   -32.4998,   -87.3154,       3879,  3385.3,   1.6809,  34.6931,2,  34.6912,2,  166.144,2, 166.9752,2,   121.2,2,   34.38,2,    0.00,2,    2.41,2,-999.000,9,-999.000,9,-999.0000,9,  -999.0,9,  -999.0,9,-999.0000,9,  -999.00, -999.00,9, -999.00,9, -999.00,  -999.0,9, -999.00,9,     -999.0,9,  -999.0,9, 20170921,       28, -32.5000, -87.3153,        0.0,1,      0.061,1,      4.685,1,      0.126,1,     -999.0,9,     -999.0,9,     -999.0,9,     -999.0,9,     -999.0,9,     -999.0,9,     -999.0,9,     -999.0,9,     -999.0,9,     -999.0,9,     -999.0,9,     1.6801,2,     -999.0,     -999.0,9,     -999.0
320620170820,        P06,     220,          1,          5,          5,2,20170921,       0015,   -32.4998,   -87.3154,       3879,  3128.7,   1.7417,  34.6889,2,  34.6877,2, 165.5291,2, 165.4662,2,   119.6,2,   34.41,2,    0.00,2,    2.41,2,-999.000,9,-999.000,9,-999.0000,9,  2298.2,2,  2391.9,2,   7.5849,2,    25.00, -999.00,9, -999.00,9, -999.00,    35.7,2, -999.00,9,     -999.0,1,  -999.0,9, 20170921,       33, -32.5000, -87.3153,        0.0,1,      0.061,1,      4.686,1,      0.129,1,     -999.0,9,     -999.0,9,     -999.0,9,     -999.0,9,     -999.0,9,     -999.0,9,     -999.0,9,     -999.0,9,     -999.0,9,     -999.0,9,     -999.0,9,     1.7402,2,     -999.0,     -999.0,9,     -999.0
320620170820,        P06,     220,          1,          6,          6,2,20170921,       0015,   -32.4998,   -87.3154,       3879,  2874.1,   1.7923,  34.6828,2,  34.6804,2, 163.1919,2, 163.2843,2,   118.8,2,   34.56,2,    0.00,2,    2.41,2,-999.000,9,-999.000,9,-999.0000,9,  -999.0,9,  -999.0,9,-999.0000,9,  -999.00, -999.00,9, -999.00,9, -999.00,  -999.0,9, -999.00,9,     -999.0,9,  -999.0,9, 20170921,       38, -32.5001, -87.3152,        0.0,1,      0.060,1,      4.686,1,      0.128,1,     -999.0,9,     -999.0,9,     -999.0,9,     -999.0,9,     -999.0,9,     -999.0,9,     -999.0,9,     -999.0,9,     -999.0,9,     -999.0,9,     -999.0,9,     1.7915,2,     -999.0,     -999.0,9,     -999.0
320620170820,        P06,     220,          1,          7,          7,2,20170921,       0015,   -32.4998,   -87.3154,       3879,  2617.2,   1.8661,  34.6721,2,  34.6698,2, 159.5615,2, 159.1517,2,   118.5,2,   34.88,2,    0.00,2,    2.45,2,-999.000,9,-999.000,9,-999.0000,9,  2300.5,2,  2390.6,2,   7.5762,2,    25.00, -999.00,9, -999.00,9, -999.00,    41.3,3, -999.00,9,     -999.0,1,  -999.0,9, 20170921,       43, -32.5002, -87.3151,        0.0,1,      0.061,1,      4.685,1,      0.134,1,     -999.0,9,     -999.0,9,     -999.0,9,     -999.0,9,     -999.0,9,     -999.0,9,     -999.0,9,     -999.0,9,     -999.0,9,     -999.0,9,     -999.0,9,     1.8618,2,     -999.0,     -999.0,9,     -999.0
320620170820,        P06,     220,          1,          8,          8,2,20170921,       0015,   -32.4998,   -87.3154,       3879,  2362.6,   1.9603,  34.6593,2,  34.6578,2, 155.0559,2, 155.5033,2,   116.3,2,   35.13,2,    0.00,2,    2.46,2,-999.000,9,-999.000,9,-999.0000,9,  -999.0,9,  -999.0,9,-999.0000,9,  -999.00, -999.00,9, -999.00,9, -999.00,    37.6,2, -999.00,9,     -999.0,1,  -999.0,9, 20170921,       49, -32.5002, -87.3151,        0.0,1,      0.061,1,      4.685,1,      0.131,1,     -999.0,9,     -999.0,9,     -999.0,9,     -999.0,9,     -999.0,9,     -999.0,9,     -999.0,9,     -999.0,9,     -999.0,9,     -999.0,9,     -999.0,9,     1.9523,2,     -999.0,     -999.0,9,     -999.0
320620170820,        P06,     220,          1,          9,          9,2,20170921,       0015,   -32.4998,   -87.3154,       3879,  2108.5,   2.1430,  34.6392,2,  34.6378,2, 148.5319,2, 148.4296,2,   112.8,2,   35.73,2,    0.00,2,    2.51,2,-999.000,9,-999.000,9,-999.0000,9,  2301.2,2,  2385.3,2,   7.5587,2,    25.00, -999.00,9, -999.00,9, -999.00,    39.6,2, -999.00,9,     -999.0,1,  -999.0,9, 20170921,       54, -32.5001, -87.3151,        0.0,1,      0.060,1,      4.685,1,      0.134,1,     -999.0,9,     -999.0,9,     -999.0,9,     -999.0,9,     -999.0,9,     -999.0,9,     -999.0,9,     -999.0,9,     -999.0,9,     -999.0,9,     -999.0,9,     2.1328,2,     -999.0,     -999.0,9,     -999.0
320620170820,        P06,     220,          1,         10,         10,2,20170921,       0015,   -32.4998,   -87.3154,       3879,  1885.7,   2.3511,  34.6194,2,  34.6172,2, 139.5611,2, 139.7981,2,   108.6,2,   36.42,2,    0.00,2,    2.55,2,-999.000,9,-999.000,9,-999.0000,9,  -999.0,9,  -999.0,9,-999.0000,9,  -999.00, -999.00,9, -999.00,9, -999.00,  -999.0,9, -999.00,9,     -999.0,9,  -999.0,9, 20170921,       59, -32.5001, -87.3152,        0.0,1,      0.061,1,      4.685,1,      0.132,1,     -999.0,9,     -999.0,9,     -999.0,9,     -999.0,9,     -999.0,9,     -999.0,9,     -999.0,9,     -999.0,9,     -999.0,9,     -999.0,9,     -999.0,9,     2.3477,2,     -999.0,     -999.0,9,     -999.0
320620170820,        P06,     220,          1,         11,         11,2,20170921,       0015,   -32.4998,   -87.3154,       3879,  1752.8,   2.5094,  34.6062,2,  34.6054,2, 133.8295,2, 133.9628,2,   106.2,2,   36.92,2,    0.00,2,    2.60,2,-999.000,9,-999.000,9,-999.0000,9,  2302.6,2,  2377.0,6,   7.5345,2,    25.00, -999.00,9, -999.00,9, -999.00,    40.5,2, -999.00,9,     -999.0,1,  -999.0,9, 20170921,      102, -32.5000, -87.3152,        0.0,1,      0.061,1,      4.685,1,      0.134,1,     -999.0,9,     -999.0,9,     -999.0,9,     -999.0,9,     -999.0,9,     -999.0,9,     -999.0,9,     -999.0,9,     -999.0,9,     -999.0,9,     -999.0,9,     2.4969,2,     -999.0,     -999.0,9,     -999.0
320620170820,        P06,     220,          1,         12,         12,2,20170921,       0015,   -32.4998,   -87.3154,       3879,  1651.0,   2.6439,  34.5947,2,  34.5916,2,  128.596,2, 129.1108,2,   102.5,2,   37.35,2,    0.00,2,    2.64,2,-999.000,9,-999.000,9,-999.0000,9,  -999.0,9,  -999.0,9,-999.0000,9,  -999.00, -999.00,9, -999.00,9, -999.00,  -999.0,9, -999.00,9,     -999.0,9,  -999.0,9, 20170921,      105, -32.5000, -87.3153,        0.0,1,      0.061,1,      4.685,1,      0.133,1,     -999.0,9,     -999.0,9,     -999.0,9,     -999.0,9,     -999.0,9,     -999.0,9,     -999.0,9,     -999.0,9,     -999.0,9,     -999.0,9,     -999.0,9,     2.6449,2,     -999.0,     -999.0,9,     -999.0
320620170820,        P06,     220,          1,         13,         13,2,20170921,       0015,   -32.4998,   -87.3154,       3879,  1549.9,   2.8100,  34.5807,2,  34.5773,2, 123.8598,2, 124.5721,2,    98.6,2,   37.79,2,    0.00,2,    2.66,2,-999.000,9,-999.000,9,-999.0000,9,  2302.3,2,  2368.2,2,   7.5159,2,    25.00, -999.00,9, -999.00,9, -999.00,    38.7,2, -999.00,9,     -999.0,1,  -999.0,9, 20170921,      108, -32.5000, -87.3153,        0.0,1,      0.063,1,      4.685,1,      0.136,1,     -999.0,9,     -999.0,9,     -999.0,9,     -999.0,9,     -999.0,9,     -999.0,9,     -999.0,9,     -999.0,9,     -999.0,9,     -999.0,9,     -999.0,9,     2.8113,2,     -999.0,     -999.0,9,     -999.0
320620170820,        P06,     220,          1,         14,         14,2,20170921,       0015,   -32.4998,   -87.3154,       3879,  1449.7,   2.9560,  34.5647,2,  34.5645,2, 120.5466,2, 120.2435,2,    94.6,2,   38.13,2,    0.00,2,    2.69,2,-999.000,9,-999.000,9,-999.0000,9,  -999.0,9,  -999.0,9,-999.0000,9,  -999.00, -999.00,9, -999.00,9, -999.00,  -999.0,9, -999.00,9,     -999.0,9,  -999.0,9, 20170921,      111, -32.5000, -87.3153,        0.0,1,      0.062,1,      4.684,1,      0.134,1,     -999.0,9,     -999.0,9,     -999.0,9,     -999.0,9,     -999.0,9,     -999.0,9,     -999.0,9,     -999.0,9,     -999.0,9,     -999.0,9,     -999.0,9,     2.9297,2,     -999.0,     -999.0,9,     -999.0
320620170820,        P06,     220,          1,         15,         15,2,20170921,       0015,   -32.4998,   -87.3154,       3879,  1347.9,   3.1436,  34.5412,2,  34.5457,2, 117.3701,2, 116.9361,2,    89.3,2,   38.45,2,    0.00,2,    2.69,2,-999.000,9,-999.000,9,-999.0000,9,  2298.6,2,  2357.5,2,   7.5000,2,    25.00, -999.00,9, -999.00,9, -999.00,    38.8,2, -999.00,9,     -999.0,1,  -999.0,9, 20170921,      113, -32.5001, -87.3152,        0.0,1,      0.062,1,      4.684,1,      0.136,1,     -999.0,9,     -999.0,9,     -999.0,9,     -999.0,9,     -999.0,9,     -999.0,9,     -999.0,9,     -999.0,9,     -999.0,9,     -999.0,9,     -999.0,9,     3.0925,2,     -999.0,     -999.0,9,     -999.0
320620170820,        P06,     220,          1,         16,         16,2,20170921,       0015,   -32.4998,   -87.3154,       3879,  1246.6,   3.3127,  34.5136,2,  34.5146,2, 116.6533,2,  116.136,2,    81.0,2,   38.64,2,    0.00,2,    2.70,2,-999.000,9,-999.000,9,-999.0000,9,  2290.3,6,  2348.2,2,   7.4937,2,    25.00, -999.00,9, -999.00,9, -999.00,    35.8,2, -999.00,9,     -999.0,1,  -999.0,9, 20170921,      116, -32.5001, -87.3152,        0.0,1,      0.062,1,      4.684,1,      0.138,1,     -999.0,9,     -999.0,9,     -999.0,9,     -999.0,9,     -999.0,9,     -999.0,9,     -999.0,9,     -999.0,9,     -999.0,9,     -999.0,9,     -999.0,9,     3.2960,2,     -999.0,     -999.0,9,     -999.0
320620170820,        P06,     220,          1,         17,         17,2,20170921,       0015,   -32.4998,   -87.3154,       3879,  1144.0,   3.4675,  34.4714,2,  34.4762,2, 122.6071,2, 121.9331,2,    71.7,2,   38.38,2,    0.00,2,    2.68,2,-999.000,9,-999.000,9,-999.0000,9,  2277.8,2,  2337.2,2,   7.4957,2,    25.00, -999.00,9, -999.00,9, -999.00,    37.1,2, -999.00,9,     -999.0,1,  -999.0,9, 20170921,      119, -32.5001, -87.3151,        0.0,1,      0.062,1,      4.683,1,      0.137,1,     -999.0,9,     -999.0,9,     -999.0,9,     -999.0,9,     -999.0,9,     -999.0,9,     -999.0,9,     -999.0,9,     -999.0,9,     -999.0,9,     -999.0,9,     3.4389,2,     -999.0,     -999.0,9,     -999.0
320620170820,        P06,     220,          1,         18,         18,2,20170921,       0015,   -32.4998,   -87.3154,       3879,  1043.5,   3.6661,  34.4190,2,  34.4222,2, 138.5569,2, 138.1149,2,    59.2,2,   37.22,2,    0.00,2,    2.58,2,-999.000,9,-999.000,9,-999.0000,9,  -999.0,9,  -999.0,9,-999.0000,9,  -999.00, -999.00,9, -999.00,9, -999.00,  -999.0,9, -999.00,9,     -999.0,9,  -999.0,9, 20170921,      121, -32.5001, -87.3151,        0.0,1,      0.061,1,      4.683,1,      0.137,1,     -999.0,9,     -999.0,9,     -999.0,9,     -999.0,9,     -999.0,9,     -999.0,9,     -999.0,9,     -999.0,9,     -999.0,9,     -999.0,9,     -999.0,9,     3.6113,2,     -999.0,     -999.0,9,     -999.0
320620170820,        P06,     220,          1,         19,         19,2,20170921,       0015,   -32.4998,   -87.3154,       3879,   942.6,   3.9696,  34.3622,2,  34.3576,2, 161.1885,2, 161.0729,2,    43.8,2,   35.34,2,    0.00,2,    2.44,2,-999.000,9,-999.000,9,-999.0000,9,  2231.3,2,  2306.2,2,   7.5437,2,    25.00, -999.00,9, -999.00,9, -999.00,    41.0,2, -999.00,9,     -999.0,1,  -999.0,9, 20170921,      124, -32.5001, -87.3152,        0.0,1,      0.061,1,      4.684,1,      0.138,1,     -999.0,9,     -999.0,9,     -999.0,9,     -999.0,9,     -999.0,9,     -999.0,9,     -999.0,9,     -999.0,9,     -999.0,9,     -999.0,9,     -999.0,9,     3.9759,2,     -999.0,     -999.0,9,     -999.0
320620170820,        P06,     220,          1,         20,         20,2,20170921,       0015,   -32.4998,   -87.3154,       3879,   840.5,   4.4188,  34.3031,2,  34.3042,2, 186.1029,2, 186.0355,2,    30.5,2,   32.72,2,    0.00,2,    2.25,2,-999.000,9,-999.000,9,-999.0000,9,  -999.0,9,  -999.0,9,-999.0000,9,  -999.00, -999.00,9, -999.00,9, -999.00,  -999.0,9, -999.00,9,     -999.0,9,  -999.0,9, 20170921,      127, -32.5001, -87.3152,        0.0,1,      0.060,1,      4.684,1,      0.137,1,     -999.0,9,     -999.0,9,     -999.0,9,     -999.0,9,     -999.0,9,     -999.0,9,     -999.0,9,     -999.0,9,     -999.0,9,     -999.0,9,     -999.0,9,     4.3990,2,     -999.0,     -999.0,9,     -999.0
320620170820,        P06,     220,          1,         21,         21,2,20170921,       0015,   -32.4998,   -87.3154,       3879,   741.4,   4.9492,  34.2666,2,  34.2626,2, 210.3589,2, 210.3633,2,    19.0,2,   29.74,2,    0.00,2,    2.03,2,-999.000,9,-999.000,9,-999.0000,9,  2183.5,2,  2284.0,2,   7.6230,2,    25.00, -999.00,9, -999.00,9, -999.00,    41.7,2, -999.00,9,     -999.0,1,  -999.0,9, 20170921,      130, -32.5002, -87.3150,        0.0,1,      0.060,1,      4.684,1,      0.136,1,     -999.0,9,     -999.0,9,     -999.0,9,     -999.0,9,     -999.0,9,     -999.0,9,     -999.0,9,     -999.0,9,     -999.0,9,     -999.0,9,     -999.0,9,     4.9576,2,     -999.0,     -999.0,9,     -999.0
320620170820,        P06,     220,          1,         22,         22,2,20170921,       0015,   -32.4998,   -87.3154,       3879,   640.1,   5.4234,  34.2559,2,  34.2528,2, 223.2395,2, 223.3325,2,    13.1,2,   27.76,2,    0.00,2,    1.90,2,-999.000,9,-999.000,9,-999.0000,9,  -999.0,9,  -999.0,9,-999.0000,9,  -999.00, -999.00,9, -999.00,9, -999.00,  -999.0,9, -999.00,9,     -999.0,9,  -999.0,9, 20170921,      132, -32.5003, -87.3149,        0.0,1,      0.059,1,      4.683,1,      0.140,1,     -999.0,9,     -999.0,9,     -999.0,9,     -999.0,9,     -999.0,9,     -999.0,9,     -999.0,9,     -999.0,9,     -999.0,9,     -999.0,9,     -999.0,9,     5.4313,2,     -999.0,     -999.0,9,     -999.0
320620170820,        P06,     220,          1,         23,         23,2,20170921,       0015,   -32.4998,   -87.3154,       3879,   539.8,   5.8503,  34.2656,2,  34.2787,2, 224.0551,2, 224.8791,2,    10.6,2,   26.60,2,    0.00,2,    1.81,2,-999.000,9,-999.000,9,-999.0000,9,  2167.6,2,  2275.9,2,   7.6474,2,    25.00, -999.00,9, -999.00,9, -999.00,    41.4,2, -999.00,9,     -999.0,1,  -999.0,9, 20170921,      135, -32.5003, -87.3149,        0.0,1,      0.060,1,      4.681,1,      0.140,1,     -999.0,9,     -999.0,9,     -999.0,9,     -999.0,9,     -999.0,9,     -999.0,9,     -999.0,9,     -999.0,9,     -999.0,9,     -999.0,9,     -999.0,9,     5.8955,2,     -999.0,     -999.0,9,     -999.0
320620170820,        P06,     220,          1,         24,         24,2,20170921,       0015,   -32.4998,   -87.3154,       3879,   468.4,   6.4102,  34.2969,2,  34.2913,2, 195.3657,2, 195.2917,2,    11.2,2,   27.94,2,    0.00,2,    1.91,2,-999.000,9,-999.000,9,-999.0000,9,  -999.0,9,  -999.0,9,-999.0000,9,  -999.00, -999.00,9, -999.00,9, -999.00,    45.9,2,   30.00,2,     -999.0,1,  -999.0,9, 20170921,      137, -32.5003, -87.3149,        0.0,1,      0.060,1,      4.680,1,      0.140,1,     -999.0,9,     -999.0,9,     -999.0,9,     -999.0,9,     -999.0,9,     -999.0,9,     -999.0,9,     -999.0,9,     -999.0,9,     -999.0,9,     -999.0,9,     6.4076,2,     -999.0,     -999.0,9,     -999.0
320620170820,        P06,     220,          1,         25,         25,2,20170921,       0015,   -32.4998,   -87.3154,       3879,   416.8,   6.9006,  34.3019,2,  34.2948,2, 172.1218,2, 177.8878,2,    11.2,2,   28.31,2,    0.00,2,    1.97,2,-999.000,9,-999.000,9,-999.0000,9,  2189.9,2,  2273.4,2,   7.5791,2,    25.00, -999.00,9, -999.00,9, -999.00,    45.6,2,   31.00,2,     -999.0,1,  -999.0,9, 20170921,      139, -32.5002, -87.3150,        0.0,1,      0.061,1,      4.679,1,      0.139,1,     -999.0,9,     -999.0,9,     -999.0,9,     -999.0,9,     -999.0,9,     -999.0,9,     -999.0,9,     -999.0,9,     -999.0,9,     -999.0,9,     -999.0,9,     6.8170,2,     -999.0,     -999.0,9,     -999.0
320620170820,        P06,     220,          1,         26,         26,2,20170921,       0015,   -32.4998,   -87.3154,       3879,   367.1,   7.5476,  34.3186,2,  34.3133,2, 141.0062,2, 147.0687,2,    12.4,2,   28.95,2,    0.00,2,    2.08,2,-999.000,9,-999.000,9,-999.0000,9,  2204.2,2,  2273.2,2,   7.5340,2,    25.00, -999.00,9, -999.00,9, -999.00,    44.4,2,   30.90,2,     -999.0,1,  -999.0,9, 20170921,      141, -32.5001, -87.3151,        0.0,1,      0.061,1,      4.677,1,      0.142,1,     -999.0,9,     -999.0,9,     -999.0,9,     -999.0,9,     -999.0,9,     -999.0,9,     -999.0,9,     -999.0,9,     -999.0,9,     -999.0,9,     -999.0,9,     7.5346,2,     -999.0,     -999.0,9,     -999.0