BOTTLE,20240211CCHSIOCBG
EXPOCODE,SECT_ID,STNNBR,CASTNO,SAMPNO,BTLNBR,BTLNBR_FLAG_W,DATE,TIME,LATITUDE,LONGITUDE,DEPTH,CTDPRS,CTDTMP,CTDSAL,CTDSAL_FLAG_W,SALNTY,SALNTY_FLAG_W,CTDOXY,CTDOXY_FLAG_W,OXYGEN,OXYGEN_FLAG_W,SILCAT,SILCAT_FLAG_W,NITRAT,NITRAT_FLAG_W,NITRIT,NITRIT_FLAG_W,PHSPHT,PHSPHT_FLAG_W,CFC-11,CFC-11_FLAG_W,CFC-12,CFC-12_FLAG_W,SF6,SF6_FLAG_W,TCARBN,TCARBN_FLAG_W,ALKALI,ALKALI_FLAG_W,PH_TOT,PH_TOT_FLAG_W,PH_TMP,DELC13,DELC13_FLAG_W,DELC14,DELC14_FLAG_W,C14ERR,DOC,DOC_FLAG_W,TDN,TDN_FLAG_W,TON,TON_FLAG_W,D15N_NO3,D15N_NO3_FLAG_W,BTL_DATE,BTL_TIME,BTL_LAT,BTL_LON,CTDRINKO,CTDRINKO_FLAG_W,CTDFLUOR,CTDFLUOR_FLAG_W,CTDXMISS,CTDXMISS_FLAG_W,CTDBACKSCATTER,CTDBACKSCATTER_FLAG_W,D18O_NO3,D18O_NO3_FLAG_W,DOP,DOP_FLAG_W,CELLCOUNT,CELLCOUNT_FLAG_W,TDP,TDP_FLAG_W,POP,POP_FLAG_W,DATP,DATP_FLAG_W,PATP,PATP_FLAG_W,HPLC,HPLC_FLAG_W,POC,POC_FLAG_W,BEAMAP,BEAMAP_FLAG_W,DOC_NASA,DOC_NASA_FLAG_W,REFTMP,REFTMP_FLAG_W,DOC_NASA_ERROR,TDN_NASA,TDN_NASA_FLAG_W,TDN_NASA_ERROR
,,,,,,,,,,,METERS,DBAR,ITS-90,PSS-78,,PSS-78,,UMOL/KG,,UMOL/KG,,UMOL/KG,,UMOL/KG,,UMOL/KG,,UMOL/KG,,PMOL/KG,,PMOL/KG,,FMOL/KG,,UMOL/KG,,UMOL/KG,,,,DEG C,/MILLE,,/MILLE,,/MILLE,UMOL/KG,,UMOL/KG,,UMOL/KG,,/MILLE,,,,,,VOLTS,,VOLTS,,VOLTS,,VOLTS,,/MILLE,,UMOL/KG,,/LITER,,UMOL/KG,,UMOL/L,,PMOL/L,,PMOL/L,,,,UG/L,,/METER,,UMOL/L,,ITS-90,,UMOL/L,UMOL/L,,UMOL/L
320620170820,        P06,     175,          3,         27,         27,2,20170906,       2120,   -32.4998,  -122.9993,       3378,   155.3,  16.9358,  35.0551,2,-999.0000,9, 226.1058,2,-999.0000,9,  -999.0,9, -999.00,9, -999.00,9, -999.00,9,-999.000,9,-999.000,9,-999.0000,9,  -999.0,9,  -999.0,9,-999.0000,9,  -999.00, -999.00,9, -999.00,9, -999.00,  -999.0,9, -999.00,9,     -999.0,9,  -999.0,9, 20170906,     2258, -32.4997,-122.9993,        0.0,1,      0.171,1,      4.653,1,      0.157,1,     -999.0,9,     -999.0,9,     -999.0,9,     -999.0,9,     -999.0,9,     -999.0,9,     -999.0,9,     -999.0,1,     -999.0,1,     -999.0,1,73.55133531,2,    17.9837,2,-83.18068276,47.59613281,2,     -999.0
320620170820,        P06,     175,          3,         28,         28,2,20170906,       2120,   -32.4998,  -122.9993,       3378,   154.3,  16.9358,  35.0551,2,-999.0000,9, 226.1582,2,-999.0000,9,  -999.0,9, -999.00,9, -999.00,9, -999.00,9,-999.000,9,-999.000,9,-999.0000,9,  -999.0,9,  -999.0,9,-999.0000,9,  -999.00, -999.00,9, -999.00,9, -999.00,  -999.0,9, -999.00,9,     -999.0,9,  -999.0,9, 20170906,     2259, -32.4997,-122.9993,        0.0,1,      0.171,1,      4.653,1,      0.157,1,     -999.0,9,     -999.0,9,     -999.0,9,     -999.0,9,     -999.0,9,     -999.0,9,     -999.0,9,     -999.0,1,     -999.0,1,     -999.0,1,73.55133531,2,    17.9897,2,-83.18068276,47.59613281,2,     -999.0
320620170820,        P06,     175,          3,         29,         29,2,20170906,       2120,   -32.4998,  -122.9993,       3378,   152.9,  17.3216,  35.0965,2,  35.1922,2, 233.4154,2, 232.9567,2,     0.2,2,    0.07,2,    0.00,2,    0.09,2,   2.154,2,   1.303,2,   1.6983,2,  2049.8,2,  2312.0,6,   7.9725,2,    25.00, -999.00,9, -999.00,9, -999.00,  -999.0,9, -999.00,9,     -999.0,9,  -999.0,9, 20170906,     2259, -32.4997,-122.9994,        0.0,1,      0.161,1,      4.653,1,      0.154,1,     -999.0,9,     -999.0,9,     -999.0,9,     -999.0,9,     -999.0,9,     -999.0,9,     -999.0,9,     -999.0,9,     -999.0,9,     -999.0,9,     -999.0,9,    17.9954,2,     -999.0,     -999.0,9,     -999.0
320620170820,        P06,     175,          3,         30,         30,2,20170906,       2120,   -32.4998,  -122.9993,       3378,   135.2,  18.3180,  35.2245,2,  35.2239,2, 234.3344,2, 233.8077,2,     0.2,2,    0.05,2,    0.00,2,    0.08,2,   1.938,2,   1.254,2,   1.6983,2,  2048.5,2,  2313.9,2,   7.9804,2,    25.00, -999.00,9, -999.00,9, -999.00,  -999.0,9, -999.00,9,     -999.0,9,  -999.0,9, 20170906,     2301, -32.4997,-122.9994,        0.0,1,      0.092,1,      4.661,1,      0.151,1,     -999.0,9,     -999.0,9,     -999.0,9,     -999.0,9,     -999.0,9,     -999.0,9,     -999.0,9,     -999.0,9,     -999.0,9,     -999.0,9,     -999.0,9,    18.3229,2,     -999.0,     -999.0,9,     -999.0
320620170820,        P06,     175,          3,         31,         31,2,20170906,       2120,   -32.4998,  -122.9993,       3378,   109.5,  18.3332,  35.2245,2,  35.2282,2, 234.4281,2, 234.0053,2,     0.1,2,    0.04,2,    0.00,2,    0.07,2,   2.114,2,   1.258,2,   1.5629,2,  2048.3,2,  2315.6,2,   7.9807,6,    25.00, -999.00,9, -999.00,9, -999.00,  -999.0,9, -999.00,9,     -999.0,9,  -999.0,9, 20170906,     2303, -32.4996,-122.9994,        0.0,1,      0.082,1,      4.659,1,      0.150,1,     -999.0,9,     -999.0,9,     -999.0,9,     -999.0,9,     -999.0,9,     -999.0,9,     -999.0,9,     -999.0,9,     -999.0,9,     -999.0,9,     -999.0,9,    18.3433,2,     -999.0,     -999.0,9,     -999.0
320620170820,        P06,     175,          3,         32,         32,2,20170906,       2120,   -32.4998,  -122.9993,       3378,    84.4,  18.3421,  35.2263,2,  35.2298,2, 233.6918,2, 234.1152,2,     0.2,2,    0.03,2,    0.00,2,    0.08,2,   2.093,2,   1.260,2,   1.6201,2,  2047.6,2,  2317.0,2,   7.9806,2,    25.00, -999.00,9, -999.00,9, -999.00,  -999.0,9, -999.00,9,     -999.0,9,  -999.0,9, 20170906,     2306, -32.4996,-122.9994,        0.0,1,      0.077,1,      4.657,1,      0.149,1,     -999.0,9,     -999.0,9,     -999.0,9,     -999.0,9,     -999.0,9,     -999.0,9,     -999.0,9,     -999.0,9,     -999.0,9,     -999.0,9,     -999.0,9,    18.3456,2,     -999.0,     -999.0,9,     -999.0
320620170820,        P06,     175,          3,         33,         33,2,20170906,       2120,   -32.4998,  -122.9993,       3378,    49.5,  18.3467,  35.2270,2,-999.0000,9, 227.4096,2,-999.0000,9,  -999.0,9, -999.00,9, -999.00,9, -999.00,9,-999.000,9,-999.000,9,-999.0000,9,  -999.0,9,  -999.0,9,-999.0000,9,  -999.00, -999.00,9, -999.00,9, -999.00,  -999.0,9, -999.00,9,     -999.0,9,  -999.0,9, 20170906,     2308, -32.4996,-122.9994,        0.0,1,      0.070,1,      4.657,1,      0.150,1,     -999.0,9,     -999.0,9,     -999.0,9,     -999.0,9,     -999.0,9,     -999.0,9,     -999.0,9,     -999.0,1,     -999.0,1,     -999.0,1,68.94884533,2,    18.3455,2,-83.18068276,49.38973708,2,     -999.0
320620170820,        P06,     175,          3,         34,         34,2,20170906,       2120,   -32.4998,  -122.9993,       3378,    48.6,  18.3467,  35.2270,2,  35.2282,2, 234.5607,2, 234.5832,2,     0.2,2,    0.02,2,    0.00,2,    0.09,2,   2.000,2,   1.252,2,   1.6060,2,  2047.1,2,  2314.5,2,   7.9810,2,    25.00, -999.00,9, -999.00,9, -999.00,  -999.0,9, -999.00,9,     -999.0,9,  -999.0,9, 20170906,     2309, -32.4996,-122.9994,        0.0,1,      0.070,1,      4.657,1,      0.150,1,     -999.0,9,     -999.0,9,     -999.0,9,     -999.0,9,     -999.0,9,     -999.0,9,     -999.0,9,     -999.0,9,     -999.0,9,     -999.0,9,     -999.0,9,    18.3460,2,     -999.0,     -999.0,9,     -999.0
320620170820,        P06,     175,          3,         35,         35,2,20170906,       2120,   -32.4998,  -122.9993,       3378,    34.5,  18.3467,  35.2271,2,  35.2282,2, 234.4524,2, 234.3528,2,     0.2,2,    0.00,2,    0.00,2,    0.09,2,   2.030,2,   1.261,2,   1.4565,2,  2045.3,2,  2315.2,2,   7.9817,2,    25.00, -999.00,9, -999.00,9, -999.00,  -999.0,9, -999.00,9,     -999.0,9,  -999.0,9, 20170906,     2311, -32.4996,-122.9994,        0.0,1,      0.068,1,      4.657,1,      0.149,1,     -999.0,9,     -999.0,9,     -999.0,9,     -999.0,9,     -999.0,9,     -999.0,9,     -999.0,9,     -999.0,9,     -999.0,9,     -999.0,9,     -999.0,9,    18.3484,2,     -999.0,     -999.0,9,     -999.0
320620170820,        P06,     175,          3,         36,         36,2,20170906,       2120,   -32.4998,  -122.9993,       3378,     7.8,  18.4116,  35.2267,2,  35.2278,2, 235.0269,2, 234.2339,2,     0.2,2,    0.00,2,    0.00,2,    0.09,2,   2.120,2,   1.263,2,   1.6030,2,  2047.8,6,  2313.6,2,   7.9806,2,    25.00, -999.00,9, -999.00,9, -999.00,  -999.0,9, -999.00,9,     -999.0,9,  -999.0,9, 20170906,     2313, -32.4998,-122.9993,        0.0,1,      0.061,1,      4.659,1,      0.146,1,     -999.0,9,     -999.0,9,     -999.0,9,     -999.0,9,     -999.0,9,     -999.0,9,     -999.0,9,     -999.0,9,     -999.0,9,     -999.0,9,     -999.0,9,    18.5009,2,     -999.0,     -999.0,9,     -999.0