BOTTLE,20240211CCHSIOCBG
EXPOCODE,SECT_ID,STNNBR,CASTNO,SAMPNO,BTLNBR,BTLNBR_FLAG_W,DATE,TIME,LATITUDE,LONGITUDE,DEPTH,CTDPRS,CTDTMP,CTDSAL,CTDSAL_FLAG_W,SALNTY,SALNTY_FLAG_W,CTDOXY,CTDOXY_FLAG_W,OXYGEN,OXYGEN_FLAG_W,SILCAT,SILCAT_FLAG_W,NITRAT,NITRAT_FLAG_W,NITRIT,NITRIT_FLAG_W,PHSPHT,PHSPHT_FLAG_W,CFC-11,CFC-11_FLAG_W,CFC-12,CFC-12_FLAG_W,SF6,SF6_FLAG_W,TCARBN,TCARBN_FLAG_W,ALKALI,ALKALI_FLAG_W,PH_TOT,PH_TOT_FLAG_W,PH_TMP,DELC13,DELC13_FLAG_W,DELC14,DELC14_FLAG_W,C14ERR,DOC,DOC_FLAG_W,TDN,TDN_FLAG_W,TON,TON_FLAG_W,D15N_NO3,D15N_NO3_FLAG_W,BTL_DATE,BTL_TIME,BTL_LAT,BTL_LON,CTDRINKO,CTDRINKO_FLAG_W,CTDFLUOR,CTDFLUOR_FLAG_W,CTDXMISS,CTDXMISS_FLAG_W,CTDBACKSCATTER,CTDBACKSCATTER_FLAG_W,D18O_NO3,D18O_NO3_FLAG_W,DOP,DOP_FLAG_W,CELLCOUNT,CELLCOUNT_FLAG_W,TDP,TDP_FLAG_W,POP,POP_FLAG_W,DATP,DATP_FLAG_W,PATP,PATP_FLAG_W,HPLC,HPLC_FLAG_W,POC,POC_FLAG_W,BEAMAP,BEAMAP_FLAG_W,DOC_NASA,DOC_NASA_FLAG_W,REFTMP,REFTMP_FLAG_W,DOC_NASA_ERROR,TDN_NASA,TDN_NASA_FLAG_W,TDN_NASA_ERROR
,,,,,,,,,,,METERS,DBAR,ITS-90,PSS-78,,PSS-78,,UMOL/KG,,UMOL/KG,,UMOL/KG,,UMOL/KG,,UMOL/KG,,UMOL/KG,,PMOL/KG,,PMOL/KG,,FMOL/KG,,UMOL/KG,,UMOL/KG,,,,DEG C,/MILLE,,/MILLE,,/MILLE,UMOL/KG,,UMOL/KG,,UMOL/KG,,/MILLE,,,,,,VOLTS,,VOLTS,,VOLTS,,VOLTS,,/MILLE,,UMOL/KG,,/LITER,,UMOL/KG,,UMOL/L,,PMOL/L,,PMOL/L,,,,UG/L,,/METER,,UMOL/L,,ITS-90,,UMOL/L,UMOL/L,,UMOL/L
320620170820,        P06,     193,          1,          1,          1,2,20170912,       0947,   -32.5006,  -108.9458,       3432,  3476.8,   1.8410,  34.6785,2,  34.6808,2, 164.0049,2,  164.413,2,   119.7,2,   34.79,2,    0.00,2,    2.40,2,   0.037,2,   0.019,2,   0.0000,2,  2297.9,6,  2392.1,2,   7.5872,2,    25.00, -999.00,9, -999.00,9, -999.00,  -999.0,9, -999.00,9,     -999.0,9,  -999.0,9, 20170912,      947, -32.5008,-108.9464,        0.0,1,      0.061,1,      4.687,1,      0.143,1,     -999.0,9,     -999.0,9,     -999.0,9,     -999.0,9,     -999.0,9,     -999.0,9,     -999.0,9,     -999.0,9,     -999.0,9,     -999.0,9,     -999.0,9,     1.8410,2,     -999.0,     -999.0,9,     -999.0
320620170820,        P06,     193,          1,          2,          2,2,20170912,       0947,   -32.5006,  -108.9458,       3432,  3290.8,   1.8244,  34.6780,2,  34.6787,2, 164.0049,2, 164.7977,2,   119.7,2,   34.80,2,    0.00,2,    2.42,2,   0.035,2,   0.023,2,   0.0000,2,  2298.2,2,  2392.2,2,   7.5871,2,    25.00, -999.00,9, -999.00,9, -999.00,  -999.0,9, -999.00,9,     -999.0,9,  -999.0,9, 20170912,      953, -32.5009,-108.9463,        0.0,1,      0.061,1,      4.688,1,      0.132,1,     -999.0,9,     -999.0,9,     -999.0,9,     -999.0,9,     -999.0,9,     -999.0,9,     -999.0,9,     -999.0,9,     -999.0,9,     -999.0,9,     -999.0,9,     1.8257,2,     -999.0,     -999.0,9,     -999.0
320620170820,        P06,     193,          1,          3,          3,2,20170912,       0947,   -32.5006,  -108.9458,       3432,  3107.8,   1.8167,  34.6757,2,  34.6765,2, 163.7747,2, 163.7366,2,   119.9,2,   34.89,2,    0.00,2,    2.42,2,   0.037,2,   0.023,2,   0.0000,2,  2298.8,2,  2392.9,2,   7.5865,2,    25.00, -999.00,9, -999.00,9, -999.00,  -999.0,9, -999.00,9,     -999.0,9,  -999.0,9, 20170912,      958, -32.5009,-108.9463,        0.0,1,      0.061,1,      4.688,1,      0.132,1,     -999.0,9,     -999.0,9,     -999.0,9,     -999.0,9,     -999.0,9,     -999.0,9,     -999.0,9,     -999.0,9,     -999.0,9,     -999.0,9,     -999.0,9,     1.8171,2,     -999.0,     -999.0,9,     -999.0
320620170820,        P06,     193,          1,          4,          4,2,20170912,       0947,   -32.5006,  -108.9458,       3432,  2902.9,   1.8179,  34.6720,2,  34.6730,2, 163.4534,3, 162.4524,2,   120.2,2,   34.97,2,    0.00,2,    2.43,2,-999.000,9,-999.000,9,-999.0000,9,  2298.4,2,  -999.0,5,   7.5854,2,    25.00, -999.00,9, -999.00,9, -999.00,  -999.0,9, -999.00,9,     -999.0,9,  -999.0,9, 20170912,     1003, -32.5009,-108.9464,        0.0,1,      0.061,1,      4.689,1,      0.131,1,     -999.0,9,     -999.0,9,     -999.0,9,     -999.0,9,     -999.0,9,     -999.0,9,     -999.0,9,     -999.0,9,     -999.0,9,     -999.0,9,     -999.0,9,     1.8169,2,     -999.0,     -999.0,9,     -999.0
320620170820,        P06,     193,          1,          5,          5,2,20170912,       0947,   -32.5006,  -108.9458,       3432,  2699.2,   1.8171,  34.6694,2,  34.6706,2, 162.2398,2, 161.8706,2,   120.0,2,   34.95,2,    0.00,2,    2.42,2,   0.035,2,   0.021,2,   0.0000,2,  2298.9,2,  2391.7,2,   7.5850,2,    25.00, -999.00,9, -999.00,9, -999.00,  -999.0,9, -999.00,9,     -999.0,9,  -999.0,9, 20170912,     1008, -32.5008,-108.9464,        0.0,1,      0.061,1,      4.689,1,      0.133,1,     -999.0,9,     -999.0,9,     -999.0,9,     -999.0,9,     -999.0,9,     -999.0,9,     -999.0,9,     -999.0,9,     -999.0,9,     -999.0,9,     -999.0,9,     1.8157,2,     -999.0,     -999.0,9,     -999.0
320620170820,        P06,     193,          1,          6,          6,2,20170912,       0947,   -32.5006,  -108.9458,       3432,  2495.5,   1.8340,  34.6660,2,  34.6673,2, 161.0938,2, 160.5619,2,   119.5,2,   35.02,2,    0.00,2,    2.43,2,-999.000,9,-999.000,9,-999.0000,9,  2299.3,2,  2391.7,2,   7.5832,2,    25.00, -999.00,9, -999.00,9, -999.00,  -999.0,9, -999.00,9,     -999.0,9,  -999.0,9, 20170912,     1013, -32.5008,-108.9464,        0.0,1,      0.061,1,      4.689,1,      0.131,1,     -999.0,9,     -999.0,9,     -999.0,9,     -999.0,9,     -999.0,9,     -999.0,9,     -999.0,9,     -999.0,9,     -999.0,9,     -999.0,9,     -999.0,9,     1.8327,2,     -999.0,     -999.0,9,     -999.0
320620170820,        P06,     193,          1,          7,          7,2,20170912,       0947,   -32.5006,  -108.9458,       3432,  2291.8,   1.8918,  34.6597,2,  34.6598,2, 159.5631,2, 159.6383,2,   117.3,2,   35.09,2,    0.00,2,    2.44,2,   0.033,2,   0.022,2,   0.0000,2,  2297.8,2,  2387.2,2,   7.5807,2,    25.00, -999.00,9, -999.00,9, -999.00,  -999.0,9, -999.00,9,     -999.0,9,  -999.0,9, 20170912,     1017, -32.5009,-108.9464,        0.0,1,      0.060,1,      4.690,1,      0.130,1,     -999.0,9,     -999.0,9,     -999.0,9,     -999.0,9,     -999.0,9,     -999.0,9,     -999.0,9,     -999.0,9,     -999.0,9,     -999.0,9,     -999.0,9,     1.8868,2,     -999.0,     -999.0,9,     -999.0
320620170820,        P06,     193,          1,          8,          8,2,20170912,       0947,   -32.5006,  -108.9458,       3432,  2089.0,   2.0125,  34.6484,2,  34.6484,2,  157.886,2, 158.3212,2,   111.6,2,   35.16,2,    0.00,2,    2.44,2,-999.000,9,-999.000,9,-999.0000,9,  2292.3,2,  2382.5,2,   7.5752,2,    25.00, -999.00,9, -999.00,9, -999.00,  -999.0,9, -999.00,9,     -999.0,9,  -999.0,9, 20170912,     1022, -32.5008,-108.9464,        0.0,1,      0.060,1,      4.691,1,      0.130,1,     -999.0,9,     -999.0,9,     -999.0,9,     -999.0,9,     -999.0,9,     -999.0,9,     -999.0,9,     -999.0,9,     -999.0,9,     -999.0,9,     -999.0,9,     2.0167,2,     -999.0,     -999.0,9,     -999.0
320620170820,        P06,     193,          1,          9,          9,2,20170912,       0947,   -32.5006,  -108.9458,       3432,  1885.7,   2.2157,  34.6255,2,  34.6297,2, 157.9648,2, 158.6094,2,   102.9,2,   35.07,2,    0.00,2,    2.42,2,   0.051,2,   0.031,2,   0.0000,2,  2285.9,2,  2371.0,2,   7.5716,2,    25.00, -999.00,9, -999.00,9, -999.00,  -999.0,9, -999.00,9,     -999.0,9,  -999.0,9, 20170912,     1027, -32.5008,-108.9465,        0.0,1,      0.060,1,      4.691,1,      0.128,1,     -999.0,9,     -999.0,9,     -999.0,9,     -999.0,9,     -999.0,9,     -999.0,9,     -999.0,9,     -999.0,9,     -999.0,9,     -999.0,9,     -999.0,9,     2.1892,2,     -999.0,     -999.0,9,     -999.0
320620170820,        P06,     193,          1,         10,         10,2,20170912,       0947,   -32.5006,  -108.9458,       3432,  1752.9,   2.3400,  34.6065,2,  34.6083,2, 158.4222,2, 159.0893,2,    96.2,2,   35.14,2,    0.00,2,    2.44,2,-999.000,9,-999.000,9,-999.0000,9,  2279.0,2,  2361.8,2,   7.5668,2,    25.00, -999.00,9, -999.00,9, -999.00,  -999.0,9, -999.00,9,     -999.0,9,  -999.0,9, 20170912,     1031, -32.5007,-108.9466,        0.0,1,      0.061,1,      4.691,1,      0.129,1,     -999.0,9,     -999.0,9,     -999.0,9,     -999.0,9,     -999.0,9,     -999.0,9,     -999.0,9,     -999.0,9,     -999.0,9,     -999.0,9,     -999.0,9,     2.3296,2,     -999.0,     -999.0,9,     -999.0
320620170820,        P06,     193,          1,         11,         11,2,20170912,       0947,   -32.5006,  -108.9458,       3432,  1651.2,   2.4992,  34.5802,2,  34.5798,2, 158.8927,2,  159.562,2,    87.8,2,   35.22,2,    0.00,2,    2.43,2,   0.090,2,   0.055,2,   0.0000,2,  2273.6,2,  2349.4,3,   7.5621,2,    25.00, -999.00,9, -999.00,9, -999.00,  -999.0,9, -999.00,9,     -999.0,9,  -999.0,9, 20170912,     1034, -32.5007,-108.9467,        0.0,1,      0.061,1,      4.691,1,      0.128,1,     -999.0,9,     -999.0,9,     -999.0,9,     -999.0,9,     -999.0,9,     -999.0,9,     -999.0,9,     -999.0,9,     -999.0,9,     -999.0,9,     -999.0,9,     2.5019,2,     -999.0,     -999.0,9,     -999.0
320620170820,        P06,     193,          1,         12,         12,2,20170912,       0947,   -32.5006,  -108.9458,       3432,  1549.6,   2.7302,  34.5427,2,  34.5433,2, 156.5118,2, 155.4395,2,    81.0,2,   35.72,2,    0.00,2,    2.46,2,-999.000,9,-999.000,9,-999.0000,9,  2268.8,2,  2346.9,6,   7.5521,2,    25.00, -999.00,9, -999.00,9, -999.00,  -999.0,9, -999.00,9,     -999.0,9,  -999.0,9, 20170912,     1037, -32.5008,-108.9466,        0.0,1,      0.060,1,      4.691,1,      0.130,1,     -999.0,9,     -999.0,9,     -999.0,9,     -999.0,9,     -999.0,9,     -999.0,9,     -999.0,9,     -999.0,9,     -999.0,9,     -999.0,9,     -999.0,9,     2.7135,2,     -999.0,     -999.0,9,     -999.0
320620170820,        P06,     193,          1,         13,         13,2,20170912,       0947,   -32.5006,  -108.9458,       3432,  1448.8,   2.9343,  34.5059,2,  34.5119,2, 155.1713,2, 155.6467,2,    74.4,2,   35.85,2,    0.00,2,    2.48,2,   0.143,2,   0.080,2,   0.0000,2,  2261.3,2,  2339.1,2,   7.5504,6,    25.00, -999.00,9, -999.00,9, -999.00,  -999.0,9, -999.00,9,     -999.0,9,  -999.0,9, 20170912,     1040, -32.5008,-108.9465,        0.0,1,      0.061,1,      4.691,1,      0.129,1,     -999.0,9,     -999.0,9,     -999.0,9,     -999.0,9,     -999.0,9,     -999.0,9,     -999.0,9,     -999.0,9,     -999.0,9,     -999.0,9,     -999.0,9,     2.8933,2,     -999.0,     -999.0,9,     -999.0
320620170820,        P06,     193,          1,         14,         14,2,20170912,       0947,   -32.5006,  -108.9458,       3432,  1347.8,   3.1900,  34.4731,2,  34.4726,2, 153.6261,2, 151.6365,2,    68.1,2,   36.31,2,    0.00,2,    2.51,2,-999.000,9,-999.000,9,-999.0000,9,  2258.0,6,  2335.3,2,   7.5416,2,    25.00, -999.00,9, -999.00,9, -999.00,  -999.0,9, -999.00,9,     -999.0,9,  -999.0,9, 20170912,     1043, -32.5009,-108.9463,        0.0,1,      0.061,1,      4.691,1,      0.130,1,     -999.0,9,     -999.0,9,     -999.0,9,     -999.0,9,     -999.0,9,     -999.0,9,     -999.0,9,     -999.0,9,     -999.0,9,     -999.0,9,     -999.0,9,     3.1847,2,     -999.0,     -999.0,9,     -999.0
320620170820,        P06,     193,          1,         15,         15,2,20170912,       0947,   -32.5006,  -108.9458,       3432,  1245.8,   3.4929,  34.4334,2,  34.4316,2,  148.926,2, 149.4497,2,    59.9,2,   36.47,2,    0.00,2,    2.52,2,   0.135,2,   0.080,2,   0.0000,2,  2251.0,2,  2325.4,2,   7.5384,2,    25.00, -999.00,9, -999.00,9, -999.00,  -999.0,9, -999.00,9,     -999.0,9,  -999.0,9, 20170912,     1047, -32.5010,-108.9463,        0.0,1,      0.061,1,      4.691,1,      0.129,1,     -999.0,9,     -999.0,9,     -999.0,9,     -999.0,9,     -999.0,9,     -999.0,9,     -999.0,9,     -999.0,9,     -999.0,9,     -999.0,9,     -999.0,9,     3.5033,2,     -999.0,     -999.0,9,     -999.0
320620170820,        P06,     193,          1,         16,         16,2,20170912,       0947,   -32.5006,  -108.9458,       3432,  1144.9,   3.8486,  34.3797,2,  34.3821,2, 158.4792,2, 159.5213,2,    48.5,2,   35.56,2,    0.00,2,    2.44,2,-999.000,9,-999.000,9,-999.0000,9,  2234.7,2,  2312.6,2,   7.5520,2,    25.00, -999.00,9, -999.00,9, -999.00,  -999.0,9, -999.00,9,     -999.0,9,  -999.0,9, 20170912,     1050, -32.5009,-108.9463,        0.0,1,      0.061,1,      4.691,1,      0.131,1,     -999.0,9,     -999.0,9,     -999.0,9,     -999.0,9,     -999.0,9,     -999.0,9,     -999.0,9,     -999.0,9,     -999.0,9,     -999.0,9,     -999.0,9,     3.8333,2,     -999.0,     -999.0,9,     -999.0
320620170820,        P06,     193,          1,         17,         17,2,20170912,       0947,   -32.5006,  -108.9458,       3432,  1044.7,   4.2408,  34.3186,2,  34.3219,2, 187.3373,2, 185.6975,2,    34.2,2,   33.05,2,    0.00,2,    2.25,2,   0.660,2,   0.342,2,   0.0000,2,  2207.4,2,  2297.6,2,   7.5913,2,    25.00, -999.00,9, -999.00,9, -999.00,  -999.0,9, -999.00,9,     -999.0,9,  -999.0,9, 20170912,     1053, -32.5008,-108.9465,        0.0,1,      0.060,1,      4.691,1,      0.130,1,     -999.0,9,     -999.0,9,     -999.0,9,     -999.0,9,     -999.0,9,     -999.0,9,     -999.0,9,     -999.0,9,     -999.0,9,     -999.0,9,     -999.0,9,     4.2270,2,     -999.0,     -999.0,9,     -999.0
320620170820,        P06,     193,          1,         18,         18,2,20170912,       0947,   -32.5006,  -108.9458,       3432,   942.2,   4.8408,  34.2810,2,  34.2836,2, 209.2865,2, 209.5043,2,    22.1,2,   30.15,2,    0.00,2,    2.03,2,-999.000,9,-999.000,9,-999.0000,9,  2182.9,2,  2287.3,2,   7.6318,2,    25.00, -999.00,9, -999.00,9, -999.00,  -999.0,9, -999.00,9,     -999.0,9,  -999.0,9, 20170912,     1055, -32.5008,-108.9464,        0.0,1,      0.060,1,      4.691,1,      0.129,1,     -999.0,9,     -999.0,9,     -999.0,9,     -999.0,9,     -999.0,9,     -999.0,9,     -999.0,9,     -999.0,9,     -999.0,9,     -999.0,9,     -999.0,9,     4.7807,2,     -999.0,     -999.0,9,     -999.0
320620170820,        P06,     193,          1,         19,         19,2,20170912,       0947,   -32.5006,  -108.9458,       3432,   842.3,   5.2589,  34.2669,2,  34.2674,2, 226.2295,2,  226.312,2,    14.9,2,   27.80,2,    0.00,2,    1.85,2,   2.364,2,   1.171,2,   0.3160,2,  2166.2,2,  2280.5,2,   7.6611,2,    25.00, -999.00,9, -999.00,9, -999.00,  -999.0,9, -999.00,9,     -999.0,9,  -999.0,9, 20170912,     1058, -32.5008,-108.9464,        0.0,1,      0.060,1,      4.691,1,      0.130,1,     -999.0,9,     -999.0,9,     -999.0,9,     -999.0,9,     -999.0,9,     -999.0,9,     -999.0,9,     -999.0,9,     -999.0,9,     -999.0,9,     -999.0,9,     5.2198,2,     -999.0,     -999.0,9,     -999.0
320620170820,        P06,     193,          1,         20,         20,2,20170912,       0947,   -32.5006,  -108.9458,       3432,   742.1,   5.6825,  34.2710,2,  34.2689,2, 238.8861,2,  239.292,2,    10.5,2,   25.72,2,    0.00,2,    1.70,2,-999.000,9,-999.000,9,-999.0000,9,  2154.3,2,  2278.4,2,   7.6849,2,    25.00, -999.00,9, -999.00,9, -999.00,  -999.0,9, -999.00,9,     -999.0,9,  -999.0,9, 20170912,     1101, -32.5007,-108.9464,        0.0,1,      0.059,1,      4.690,1,      0.132,1,     -999.0,9,     -999.0,9,     -999.0,9,     -999.0,9,     -999.0,9,     -999.0,9,     -999.0,9,     -999.0,9,     -999.0,9,     -999.0,9,     -999.0,9,     5.6478,2,     -999.0,     -999.0,9,     -999.0
320620170820,        P06,     193,          1,         21,         21,2,20170912,       0947,   -32.5006,  -108.9458,       3432,   639.0,   6.1556,  34.2921,2,  34.2893,2, 245.1041,2, 245.1053,2,     8.1,2,   24.17,2,    0.00,2,    1.61,2,   3.614,2,   1.846,2,   1.0170,2,  2149.1,6,  2276.9,2,   7.6983,2,    25.00, -999.00,9, -999.00,9, -999.00,  -999.0,9, -999.00,9,     -999.0,9,  -999.0,9, 20170912,     1103, -32.5006,-108.9464,        0.0,1,      0.058,1,      4.690,1,      0.133,1,     -999.0,9,     -999.0,9,     -999.0,9,     -999.0,9,     -999.0,9,     -999.0,9,     -999.0,9,     -999.0,9,     -999.0,9,     -999.0,9,     -999.0,9,     6.1103,2,     -999.0,     -999.0,9,     -999.0
320620170820,        P06,     193,          1,         22,         22,2,20170912,       0947,   -32.5006,  -108.9458,       3432,   539.7,   6.5632,  34.3133,2,  34.3129,2, 241.5489,2, 241.9107,2,     6.7,2,   23.22,2,    0.00,2,    1.53,2,-999.000,9,-999.000,9,-999.0000,9,  2148.6,2,  2275.9,2,   7.6965,2,    25.00, -999.00,9, -999.00,9, -999.00,  -999.0,9, -999.00,9,     -999.0,9,  -999.0,9, 20170912,     1106, -32.5006,-108.9464,        0.0,1,      0.059,1,      4.689,1,      0.132,1,     -999.0,9,     -999.0,9,     -999.0,9,     -999.0,9,     -999.0,9,     -999.0,9,     -999.0,9,     -999.0,9,     -999.0,9,     -999.0,9,     -999.0,9,     6.5851,2,     -999.0,     -999.0,9,     -999.0
320620170820,        P06,     193,          1,         23,         23,2,20170912,       0947,   -32.5006,  -108.9458,       3432,   467.2,   7.0308,  34.3137,2,  34.3115,2, 231.4992,2, 231.3761,2,     5.6,2,   22.42,2,    0.00,2,    1.49,2,   3.647,2,   1.941,2,   1.1140,2,  2146.4,2,  2273.6,2,   7.6923,2,    25.00, -999.00,9, -999.00,9, -999.00,  -999.0,9, -999.00,9,     -999.0,9,  -999.0,9, 20170912,     1108, -32.5006,-108.9462,        0.0,1,      0.058,1,      4.688,1,      0.133,1,     -999.0,9,     -999.0,9,     -999.0,9,     -999.0,9,     -999.0,9,     -999.0,9,     -999.0,9,     -999.0,9,     -999.0,9,     -999.0,9,     -999.0,9,     7.2005,2,     -999.0,     -999.0,9,     -999.0
320620170820,        P06,     193,          1,         24,         24,2,20170912,       0947,   -32.5006,  -108.9458,       3432,   417.1,   7.6498,  34.3085,2,  34.3038,2, 226.6164,2, 225.4922,2,     4.5,2,   21.24,2,    0.00,2,    1.42,2,-999.000,9,-999.000,9,-999.0000,9,  2142.3,2,  2272.2,2,   7.6973,2,    25.00, -999.00,9, -999.00,9, -999.00,  -999.0,9, -999.00,9,     -999.0,9,  -999.0,9, 20170912,     1110, -32.5006,-108.9461,        0.0,1,      0.059,1,      4.686,1,      0.133,1,     -999.0,9,     -999.0,9,     -999.0,9,     -999.0,9,     -999.0,9,     -999.0,9,     -999.0,9,     -999.0,9,     -999.0,9,     -999.0,9,     -999.0,9,     7.8289,2,     -999.0,     -999.0,9,     -999.0
320620170820,        P06,     193,          1,         25,         25,2,20170912,       0947,   -32.5006,  -108.9458,       3432,   368.0,   8.8433,  34.3125,2,  34.3076,2, 225.9915,2, 226.9359,2,     2.7,2,   18.58,2,    0.00,2,    1.24,2,   3.464,2,   1.913,2,   1.4030,2,  2131.6,2,  2270.7,2,   7.7257,2,    25.00, -999.00,9, -999.00,9, -999.00,  -999.0,9, -999.00,9,     -999.0,9,  -999.0,9, 20170912,     1112, -32.5006,-108.9460,        0.0,1,      0.059,1,      4.684,1,      0.132,1,     -999.0,9,     -999.0,9,     -999.0,9,     -999.0,9,     -999.0,9,     -999.0,9,     -999.0,9,     -999.0,9,     -999.0,9,     -999.0,9,     -999.0,9,     8.8214,2,     -999.0,     -999.0,9,     -999.0
320620170820,        P06,     193,          1,         26,         26,2,20170912,       0947,   -32.5006,  -108.9458,       3432,   316.6,  10.4134,  34.3889,2,  34.3857,2, 219.4121,2, 221.1122,2,     1.4,2,   14.67,2,    0.00,2,    0.99,2,-999.000,9,-999.000,9,-999.0000,9,  2116.6,2,  2272.0,2,   7.7631,2,    25.00, -999.00,9, -999.00,9, -999.00,  -999.0,9, -999.00,9,     -999.0,9,  -999.0,9, 20170912,     1114, -32.5006,-108.9461,        0.0,1,      0.059,1,      4.683,1,      0.132,1,     -999.0,9,     -999.0,9,     -999.0,9,     -999.0,9,     -999.0,9,     -999.0,9,     -999.0,9,     -999.0,9,     -999.0,9,     -999.0,9,     -999.0,9,    10.5315,2,     -999.0,     -999.0,9,     -999.0