BOTTLE,20240211CCHSIOCBG
EXPOCODE,SECT_ID,STNNBR,CASTNO,SAMPNO,BTLNBR,BTLNBR_FLAG_W,DATE,TIME,LATITUDE,LONGITUDE,DEPTH,CTDPRS,CTDTMP,CTDSAL,CTDSAL_FLAG_W,SALNTY,SALNTY_FLAG_W,CTDOXY,CTDOXY_FLAG_W,OXYGEN,OXYGEN_FLAG_W,SILCAT,SILCAT_FLAG_W,NITRAT,NITRAT_FLAG_W,NITRIT,NITRIT_FLAG_W,PHSPHT,PHSPHT_FLAG_W,CFC-11,CFC-11_FLAG_W,CFC-12,CFC-12_FLAG_W,SF6,SF6_FLAG_W,TCARBN,TCARBN_FLAG_W,ALKALI,ALKALI_FLAG_W,PH_TOT,PH_TOT_FLAG_W,PH_TMP,DELC13,DELC13_FLAG_W,DELC14,DELC14_FLAG_W,C14ERR,DOC,DOC_FLAG_W,TDN,TDN_FLAG_W,TON,TON_FLAG_W,D15N_NO3,D15N_NO3_FLAG_W,BTL_DATE,BTL_TIME,BTL_LAT,BTL_LON,CTDRINKO,CTDRINKO_FLAG_W,CTDFLUOR,CTDFLUOR_FLAG_W,CTDXMISS,CTDXMISS_FLAG_W,CTDBACKSCATTER,CTDBACKSCATTER_FLAG_W,D18O_NO3,D18O_NO3_FLAG_W,DOP,DOP_FLAG_W,CELLCOUNT,CELLCOUNT_FLAG_W,TDP,TDP_FLAG_W,POP,POP_FLAG_W,DATP,DATP_FLAG_W,PATP,PATP_FLAG_W,HPLC,HPLC_FLAG_W,POC,POC_FLAG_W,BEAMAP,BEAMAP_FLAG_W,DOC_NASA,DOC_NASA_FLAG_W,REFTMP,REFTMP_FLAG_W,DOC_NASA_ERROR,TDN_NASA,TDN_NASA_FLAG_W,TDN_NASA_ERROR
,,,,,,,,,,,METERS,DBAR,ITS-90,PSS-78,,PSS-78,,UMOL/KG,,UMOL/KG,,UMOL/KG,,UMOL/KG,,UMOL/KG,,UMOL/KG,,PMOL/KG,,PMOL/KG,,FMOL/KG,,UMOL/KG,,UMOL/KG,,,,DEG C,/MILLE,,/MILLE,,/MILLE,UMOL/KG,,UMOL/KG,,UMOL/KG,,/MILLE,,,,,,VOLTS,,VOLTS,,VOLTS,,VOLTS,,/MILLE,,UMOL/KG,,/LITER,,UMOL/KG,,UMOL/L,,PMOL/L,,PMOL/L,,,,UG/L,,/METER,,UMOL/L,,ITS-90,,UMOL/L,UMOL/L,,UMOL/L
320620170820,        P06,     246,          1,          1,          1,2,20170928,       2011,   -32.5001,   -72.0243,       2449,  2474.1,   1.9129,  34.6678,2,  34.6627,2, 143.5313,2,  143.832,2,   124.6,2,   36.03,2,    0.00,2,    2.56,2,   0.022,2,   0.031,2,   0.0000,2,  2315.8,2,  2399.0,2,   7.5583,2,    25.00, -999.00,9, -999.00,9, -999.00,    38.9,2, -999.00,9,     -999.0,1,  -999.0,9, 20170928,     2011, -32.5000, -72.0244,        0.0,1,      0.062,1,      4.660,1,      0.169,1,     -999.0,9,     -999.0,9,     -999.0,9,     -999.0,9,     -999.0,9,     -999.0,9,     -999.0,9,     -999.0,9,     -999.0,9,     -999.0,9,     -999.0,9,     1.9145,2,     -999.0,     -999.0,9,     -999.0
320620170820,        P06,     246,          1,          2,          2,2,20170928,       2011,   -32.5001,   -72.0243,       2449,  2247.1,   1.9763,  34.6608,2,  34.6535,2, 142.3035,2, 141.7906,2,   122.7,2,   36.20,2,    0.00,2,    2.57,2,   0.025,2,   0.041,2,   0.0000,2,  2313.9,2,  2396.9,2,   7.5540,6,    25.00, -999.00,9, -999.00,9, -999.00,    37.8,2, -999.00,9,     -999.0,1,  -999.0,9, 20170928,     2016, -32.5000, -72.0244,        0.0,1,      0.063,1,      4.665,1,      0.154,1,     -999.0,9,     -999.0,9,     -999.0,9,     -999.0,9,     -999.0,9,     -999.0,9,     -999.0,9,     -999.0,9,     -999.0,9,     -999.0,9,     -999.0,9,     1.9766,2,     -999.0,     -999.0,9,     -999.0
320620170820,        P06,     246,          1,          3,          3,2,20170928,       2011,   -32.5001,   -72.0243,       2449,  2022.8,   2.1351,  34.6458,2,  34.6382,2, 135.1456,2, 135.0137,2,   119.1,2,   36.81,2,    0.00,2,    2.62,2,   0.020,2,   0.033,2,   0.0000,2,  -999.0,9,  -999.0,9,-999.0000,9,  -999.00, -999.00,9, -999.00,9, -999.00,  -999.0,9, -999.00,9,     -999.0,9,  -999.0,9, 20170928,     2021, -32.5000, -72.0243,        0.0,1,      0.063,1,      4.673,1,      0.145,1,     -999.0,9,     -999.0,9,     -999.0,9,     -999.0,9,     -999.0,9,     -999.0,9,     -999.0,9,     -999.0,9,     -999.0,9,     -999.0,9,     -999.0,9,     2.1338,2,     -999.0,     -999.0,9,     -999.0
320620170820,        P06,     246,          1,          4,          4,2,20170928,       2011,   -32.5001,   -72.0243,       2449,  1921.6,   2.2323,  34.6371,2,  34.6295,2,  131.214,2, 131.3067,2,   116.6,2,   37.11,2,    0.00,2,    2.64,2,   0.024,2,   0.043,2,   0.0000,2,  -999.0,9,  -999.0,9,-999.0000,9,  -999.00, -999.00,9, -999.00,9, -999.00,    37.0,2, -999.00,9,     -999.0,1,  -999.0,9, 20170928,     2024, -32.5000, -72.0243,        0.0,1,      0.062,1,      4.673,1,      0.141,1,     -999.0,9,     -999.0,9,     -999.0,9,     -999.0,9,     -999.0,9,     -999.0,9,     -999.0,9,     -999.0,9,     -999.0,9,     -999.0,9,     -999.0,9,     2.2292,2,     -999.0,     -999.0,9,     -999.0
320620170820,        P06,     246,          1,          5,          5,2,20170928,       2011,   -32.5001,   -72.0243,       2449,  1821.1,   2.3840,  34.6230,2,  34.6158,2, 126.1756,2,  127.018,2,   112.8,2,   37.52,2,    0.00,2,    2.67,2,   0.023,2,   0.045,2,   0.0000,2,  2314.2,2,  2383.1,2,   7.5230,2,    25.00, -999.00,9, -999.00,9, -999.00,    36.4,2, -999.00,9,     -999.0,1,  -999.0,9, 20170928,     2027, -32.5000, -72.0244,        0.0,1,      0.062,1,      4.673,1,      0.139,1,     -999.0,9,     -999.0,9,     -999.0,9,     -999.0,9,     -999.0,9,     -999.0,9,     -999.0,9,     -999.0,9,     -999.0,9,     -999.0,9,     -999.0,9,     2.3777,2,     -999.0,     -999.0,9,     -999.0
320620170820,        P06,     246,          1,          6,          6,2,20170928,       2011,   -32.5001,   -72.0243,       2449,  1720.1,   2.5132,  34.6110,2,  34.6030,2, 122.7763,2, 122.4387,2,   109.4,2,   37.89,2,    0.00,2,    2.69,2,   0.031,2,   0.067,2,   0.0000,2,  -999.0,9,  -999.0,9,-999.0000,9,  -999.00, -999.00,9, -999.00,9, -999.00,  -999.0,9, -999.00,9,     -999.0,9,  -999.0,9, 20170928,     2030, -32.4999, -72.0244,        0.0,1,      0.062,1,      4.673,1,      0.142,1,     -999.0,9,     -999.0,9,     -999.0,9,     -999.0,9,     -999.0,9,     -999.0,9,     -999.0,9,     -999.0,9,     -999.0,9,     -999.0,9,     -999.0,9,     2.5055,2,     -999.0,     -999.0,9,     -999.0
320620170820,        P06,     246,          1,          7,          7,2,20170928,       2011,   -32.5001,   -72.0243,       2449,  1616.9,   2.6491,  34.5969,2,  34.5920,2, 119.5258,2, 119.6706,2,   105.6,2,   38.13,2,    0.00,2,    2.72,2,   0.022,2,   0.049,2,   0.0000,2,  -999.0,9,  -999.0,9,-999.0000,9,  -999.00, -999.00,9, -999.00,9, -999.00,    38.3,2, -999.00,9,     -999.0,1,  -999.0,9, 20170928,     2032, -32.4999, -72.0244,        0.0,1,      0.062,1,      4.672,1,      0.143,1,     -999.0,9,     -999.0,9,     -999.0,9,     -999.0,9,     -999.0,9,     -999.0,9,     -999.0,9,     -999.0,9,     -999.0,9,     -999.0,9,     -999.0,9,     2.6266,2,     -999.0,     -999.0,9,     -999.0
320620170820,        P06,     246,          1,          8,          8,2,20170928,       2011,   -32.5001,   -72.0243,       2449,  1515.7,   2.7840,  34.5836,2,  34.5781,2, 116.2999,2, 116.2634,2,   101.7,2,   38.42,2,    0.00,2,    2.73,2,   0.025,2,   0.066,2,   0.0000,2,  2307.3,2,  2369.5,2,   7.5003,2,    25.00, -999.00,9, -999.00,9, -999.00,    38.3,2, -999.00,9,     -999.0,1,  -999.0,9, 20170928,     2035, -32.4999, -72.0244,        0.0,1,      0.062,1,      4.671,1,      0.142,1,     -999.0,9,     -999.0,9,     -999.0,9,     -999.0,9,     -999.0,9,     -999.0,9,     -999.0,9,     -999.0,9,     -999.0,9,     -999.0,9,     -999.0,9,     2.7615,2,     -999.0,     -999.0,9,     -999.0
320620170820,        P06,     246,          1,          9,          9,2,20170928,       2011,   -32.5001,   -72.0243,       2449,  1413.8,   2.9570,  34.5664,2,  34.5626,2, 113.0109,2, 112.8604,2,    97.1,2,   38.78,2,    0.00,2,    2.75,2,   0.027,2,   0.103,2,   0.0000,2,  -999.0,9,  -999.0,9,-999.0000,9,  -999.00, -999.00,9, -999.00,9, -999.00,    37.3,2, -999.00,9,     -999.0,1,  -999.0,9, 20170928,     2038, -32.4999, -72.0244,        0.0,1,      0.061,1,      4.673,1,      0.146,1,     -999.0,9,     -999.0,9,     -999.0,9,     -999.0,9,     -999.0,9,     -999.0,9,     -999.0,9,     -999.0,9,     -999.0,9,     -999.0,9,     -999.0,9,     2.9238,2,     -999.0,     -999.0,9,     -999.0
320620170820,        P06,     246,          1,         10,         10,2,20170928,       2011,   -32.5001,   -72.0243,       2449,  1314.3,   3.1282,  34.5497,2,  34.5417,2, 109.7992,2,   109.61,2,    90.7,2,   39.07,2,    0.00,2,    2.77,2,   0.031,2,   0.159,2,   0.0000,2,  -999.0,9,  -999.0,9,-999.0000,9,  -999.00, -999.00,9, -999.00,9, -999.00,  -999.0,9, -999.00,9,     -999.0,9,  -999.0,9, 20170928,     2041, -32.4999, -72.0244,        0.0,1,      0.062,1,      4.672,1,      0.145,1,     -999.0,9,     -999.0,9,     -999.0,9,     -999.0,9,     -999.0,9,     -999.0,9,     -999.0,9,     -999.0,9,     -999.0,9,     -999.0,9,     -999.0,9,     3.1312,2,     -999.0,     -999.0,9,     -999.0
320620170820,        P06,     246,          1,         11,         11,2,20170928,       2011,   -32.5001,   -72.0243,       2449,  1213.4,   3.3310,  34.5312,2,  34.5246,2, 106.6221,2, 106.5171,2,    85.6,2,   39.37,2,    0.00,2,    2.81,2,   0.028,2,   0.137,2,   0.0000,2,  2297.9,2,  2351.3,2,   7.4773,2,    25.00, -999.00,9, -999.00,9, -999.00,    42.3,3, -999.00,9,     -999.0,1,  -999.0,9, 20170928,     2044, -32.4999, -72.0245,        0.0,1,      0.064,1,      4.671,1,      0.145,1,     -999.0,9,     -999.0,9,     -999.0,9,     -999.0,9,     -999.0,9,     -999.0,9,     -999.0,9,     -999.0,9,     -999.0,9,     -999.0,9,     -999.0,9,     3.3245,2,     -999.0,     -999.0,9,     -999.0
320620170820,        P06,     246,          1,         12,         12,2,20170928,       2011,   -32.5001,   -72.0243,       2449,  1109.9,   3.5945,  34.4995,2,  34.4938,2, 106.5625,2, 106.1867,2,    76.5,2,   39.59,2,    0.00,2,    2.81,2,   0.044,2,   0.168,2,   0.0780,2,  2290.0,2,  2340.3,2,   7.4732,2,    25.00, -999.00,9, -999.00,9, -999.00,    38.2,2, -999.00,9,     -999.0,1,  -999.0,9, 20170928,     2047, -32.4999, -72.0246,        0.0,1,      0.063,1,      4.670,1,      0.147,1,     -999.0,9,     -999.0,9,     -999.0,9,     -999.0,9,     -999.0,9,     -999.0,9,     -999.0,9,     -999.0,9,     -999.0,9,     -999.0,9,     -999.0,9,     3.5906,2,     -999.0,     -999.0,9,     -999.0
320620170820,        P06,     246,          1,         13,         13,2,20170928,       2011,   -32.5001,   -72.0243,       2449,  1010.1,   3.8296,  34.4721,2,  34.4693,2, 107.2981,2, 107.6016,2,    69.3,2,   39.50,2,    0.00,2,    2.78,2,   0.070,2,   0.205,2,   0.2000,2,  -999.0,9,  -999.0,9,-999.0000,9,  -999.00, -999.00,9, -999.00,9, -999.00,  -999.0,9, -999.00,9,     -999.0,9,  -999.0,9, 20170928,     2050, -32.4999, -72.0246,        0.0,1,      0.063,1,      4.670,1,      0.155,1,     -999.0,9,     -999.0,9,     -999.0,9,     -999.0,9,     -999.0,9,     -999.0,9,     -999.0,9,     -999.0,9,     -999.0,9,     -999.0,9,     -999.0,9,     3.7956,2,     -999.0,     -999.0,9,     -999.0
320620170820,        P06,     246,          1,         14,         14,2,20170928,       2011,   -32.5001,   -72.0243,       2449,   908.5,   4.0442,  34.4330,2,  34.4302,2, 116.9537,2, 116.4712,2,    58.9,2,   38.76,2,    0.00,2,    2.72,2,   0.164,2,   0.219,2,   0.1620,2,  2267.6,2,  2320.7,6,   7.4832,2,    25.00, -999.00,9, -999.00,9, -999.00,    38.9,2, -999.00,9,     -999.0,1,  -999.0,9, 20170928,     2053, -32.4999, -72.0246,        0.0,1,      0.062,1,      4.671,1,      0.147,1,     -999.0,9,     -999.0,9,     -999.0,9,     -999.0,9,     -999.0,9,     -999.0,9,     -999.0,9,     -999.0,9,     -999.0,9,     -999.0,9,     -999.0,9,     4.0332,2,     -999.0,     -999.0,9,     -999.0
320620170820,        P06,     246,          1,         15,         15,2,20170928,       2011,   -32.5001,   -72.0243,       2449,   807.9,   4.3645,  34.3951,2,  34.3886,2, 128.1319,2, 129.0258,2,    47.3,2,   37.50,2,    0.00,2,    2.63,2,   0.407,2,   0.310,2,   0.0540,2,  -999.0,9,  -999.0,9,-999.0000,9,  -999.00, -999.00,9, -999.00,9, -999.00,    48.4,3, -999.00,9,     -999.0,1,  -999.0,9, 20170928,     2056, -32.4999, -72.0246,        0.0,1,      0.062,1,      4.671,1,      0.147,1,     -999.0,9,     -999.0,9,     -999.0,9,     -999.0,9,     -999.0,9,     -999.0,9,     -999.0,9,     -999.0,9,     -999.0,9,     -999.0,9,     -999.0,9,     4.3505,2,     -999.0,     -999.0,9,     -999.0
320620170820,        P06,     246,          1,         16,         16,2,20170928,       2011,   -32.5001,   -72.0243,       2449,   705.9,   4.8637,  34.3438,2,  34.3390,2, 152.9155,2, 152.1617,2,    33.5,2,   35.12,2,    0.00,2,    2.43,2,   1.044,2,   0.627,2,   0.1670,2,  -999.0,9,  -999.0,9,-999.0000,9,  -999.00, -999.00,9, -999.00,9, -999.00,    39.9,2, -999.00,9,     -999.0,1,  -999.0,9, 20170928,     2058, -32.5000, -72.0245,        0.0,1,      0.064,1,      4.669,1,      0.154,1,     -999.0,9,     -999.0,9,     -999.0,9,     -999.0,9,     -999.0,9,     -999.0,9,     -999.0,9,     -999.0,9,     -999.0,9,     -999.0,9,     -999.0,9,     4.8237,2,     -999.0,     -999.0,9,     -999.0
320620170820,        P06,     246,          1,         17,         17,2,20170928,       2011,   -32.5001,   -72.0243,       2449,   605.5,   5.3600,  34.3175,2,  34.3131,2, 170.5752,2, 170.5729,2,    23.1,2,   32.67,2,    0.00,2,    2.26,2,   1.950,2,   0.992,2,   0.2400,2,  2205.4,2,  2285.7,2,   7.5641,2,    25.00, -999.00,9, -999.00,9, -999.00,  -999.0,5, -999.00,9,     -999.0,1,  -999.0,9, 20170928,     2101, -32.5000, -72.0244,        0.0,1,      0.061,1,      4.664,1,      0.162,1,     -999.0,9,     -999.0,9,     -999.0,9,     -999.0,9,     -999.0,9,     -999.0,9,     -999.0,9,     -999.0,9,     -999.0,9,     -999.0,9,     -999.0,9,     5.3518,2,     -999.0,     -999.0,9,     -999.0
320620170820,        P06,     246,          1,         18,         18,2,20170928,       2011,   -32.5001,   -72.0243,       2449,   504.9,   6.0359,  34.3308,2,  34.3146,2, 165.7378,2, 167.3724,2,    18.3,2,   31.80,2,    0.00,2,    2.21,2,   2.445,2,   1.328,2,   0.4530,2,  2203.1,2,  2281.6,2,   7.5577,2,    25.00, -999.00,9, -999.00,9, -999.00,    45.5,2, -999.00,9,     -999.0,1,  -999.0,9, 20170928,     2104, -32.5000, -72.0243,        0.0,1,      0.061,1,      4.658,1,      0.171,1,     -999.0,9,     -999.0,9,     -999.0,9,     -999.0,9,     -999.0,9,     -999.0,9,     -999.0,9,     -999.0,9,     -999.0,9,     -999.0,9,     -999.0,9,     5.9639,2,     -999.0,     -999.0,9,     -999.0
320620170820,        P06,     246,          1,         19,         19,2,20170928,       2011,   -32.5001,   -72.0243,       2449,   456.0,   6.6235,  34.3693,2,  34.3476,2, 143.1565,2, 141.6311,2,    18.1,2,   32.83,2,    0.00,2,    2.30,2,   2.373,2,   1.293,2,   0.4070,2,  -999.0,9,  -999.0,9,-999.0000,9,  -999.00, -999.00,9, -999.00,9, -999.00,    47.3,3, -999.00,9,     -999.0,1,  -999.0,9, 20170928,     2106, -32.5000, -72.0243,        0.0,1,      0.063,1,      4.662,1,      0.164,1,     -999.0,9,     -999.0,9,     -999.0,9,     -999.0,9,     -999.0,9,     -999.0,9,     -999.0,9,     -999.0,9,     -999.0,9,     -999.0,9,     -999.0,9,     6.5215,2,     -999.0,     -999.0,9,     -999.0
320620170820,        P06,     246,          1,         20,         20,2,20170928,       2011,   -32.5001,   -72.0243,       2449,   404.2,   7.2898,  34.4168,2,  34.4008,2,  99.5654,2,  99.9133,2,    20.2,2,   34.60,2,    0.00,2,    2.49,2,   2.036,2,   1.121,2,   0.3980,2,  -999.0,9,  -999.0,9,-999.0000,9,  -999.00, -999.00,9, -999.00,9, -999.00,    43.2,2, -999.00,9,     -999.0,1,  -999.0,9, 20170928,     2108, -32.5001, -72.0243,        0.0,1,      0.063,1,      4.657,1,      0.166,1,     -999.0,9,     -999.0,9,     -999.0,9,     -999.0,9,     -999.0,9,     -999.0,9,     -999.0,9,     -999.0,9,     -999.0,9,     -999.0,9,     -999.0,9,     7.2276,2,     -999.0,     -999.0,9,     -999.0
320620170820,        P06,     246,          1,         21,         21,2,20170928,       2011,   -32.5001,   -72.0243,       2449,   353.3,   7.7653,  34.4493,2,  34.4334,2,  65.2929,2,  70.1972,2,    21.3,2,   35.57,2,    0.00,2,    2.62,2,   1.781,2,   1.019,2,   0.4300,2,  -999.0,9,  -999.0,9,-999.0000,9,  -999.00, -999.00,9, -999.00,9, -999.00,  -999.0,9, -999.00,9,     -999.0,9,  -999.0,9, 20170928,     2110, -32.5000, -72.0243,        0.0,1,      0.065,1,      4.650,1,      0.187,1,     -999.0,9,     -999.0,9,     -999.0,9,     -999.0,9,     -999.0,9,     -999.0,9,     -999.0,9,     -999.0,9,     -999.0,9,     -999.0,9,     -999.0,9,     7.7671,2,     -999.0,     -999.0,9,     -999.0
320620170820,        P06,     246,          1,         22,         22,2,20170928,       2011,   -32.5001,   -72.0243,       2449,   301.6,   8.7851,  34.5210,2,  34.5082,2,  30.1463,2,  30.9674,2,    23.4,2,   34.98,2,    0.02,2,    2.77,2,   1.401,2,   0.914,2,   0.3350,2,  -999.0,9,  -999.0,9,-999.0000,9,  -999.00, -999.00,9, -999.00,9, -999.00,    43.5,2, -999.00,9,     -999.0,1,  -999.0,9, 20170928,     2112, -32.5000, -72.0244,        0.0,1,      0.068,1,      4.642,1,      0.186,1,     -999.0,9,     -999.0,9,     -999.0,9,     -999.0,9,     -999.0,9,     -999.0,9,     -999.0,9,     -999.0,9,     -999.0,9,     -999.0,9,     -999.0,9,     8.6926,2,     -999.0,     -999.0,9,     -999.0
320620170820,        P06,     246,          1,         23,         23,2,20170928,       2011,   -32.5001,   -72.0243,       2449,   251.9,   9.4466,  34.5581,2,  34.5451,2,  23.7063,2,  24.7245,2,    23.8,2,   32.32,2,    0.01,2,    2.76,2,   1.337,2,   0.813,2,   0.2910,2,  2277.3,2,  2285.8,2,   7.3455,2,    25.00, -999.00,9, -999.00,9, -999.00,    43.0,2, -999.00,9,     -999.0,1,  -999.0,9, 20170928,     2114, -32.5000, -72.0244,        0.0,1,      0.072,1,      4.631,1,      0.215,1,     -999.0,9,     -999.0,9,     -999.0,9,     -999.0,9,     -999.0,9,     -999.0,9,     -999.0,9,     -999.0,9,     -999.0,9,     -999.0,9,     -999.0,9,     9.4246,2,     -999.0,     -999.0,9,     -999.0
320620170820,        P06,     246,          1,         24,         24,2,20170928,       2011,   -32.5001,   -72.0243,       2449,   201.6,  10.1472,  34.5894,2,  34.5814,2,  20.9722,2,  20.0322,2,    23.6,2,   29.13,2,    0.02,2,    2.76,2,   1.345,2,   0.824,2,   0.3800,2,  -999.0,9,  -999.0,9,-999.0000,9,  -999.00, -999.00,9, -999.00,9, -999.00,  -999.0,5,   30.60,2,     -999.0,1,  -999.0,9, 20170928,     2115, -32.5000, -72.0244,        0.0,1,      0.071,1,      4.635,1,      0.213,1,     -999.0,9,     -999.0,9,     -999.0,9,     -999.0,9,     -999.0,9,     -999.0,9,     -999.0,9,     -999.0,9,     -999.0,9,     -999.0,9,     -999.0,9,    10.1210,2,     -999.0,     -999.0,9,     -999.0
320620170820,        P06,     246,          1,         25,         25,2,20170928,       2011,   -32.5001,   -72.0243,       2449,   176.1,  10.6177,  34.6210,2,  34.6144,2,  18.3254,2,  16.7217,2,    23.6,2,   26.36,2,    0.02,2,    2.74,2,   1.355,2,   0.838,2,   0.3680,2,  2278.5,6,  2287.7,2,   7.3479,2,    25.00, -999.00,9, -999.00,9, -999.00,    46.5,2,   27.50,2,     -999.0,1,  -999.0,9, 20170928,     2117, -32.5000, -72.0244,        0.0,1,      0.073,1,      4.623,1,      0.214,1,     -999.0,9,     -999.0,9,     -999.0,9,     -999.0,9,     -999.0,9,     -999.0,9,     -999.0,9,     -999.0,9,     -999.0,9,     -999.0,9,     -999.0,9,    10.6890,2,     -999.0,     -999.0,9,     -999.0
320620170820,        P06,     246,          1,         26,         26,2,20170928,       2011,   -32.5001,   -72.0243,       2449,   151.4,  10.9280,  34.6043,2,  34.6091,2,  19.4182,2,  18.7147,2,    23.0,2,   25.47,2,    0.02,2,    2.72,2,   1.463,2,   0.926,2,   0.3560,2,  -999.0,9,  -999.0,9,-999.0000,9,  -999.00, -999.00,9, -999.00,9, -999.00,    47.1,2,   27.20,2,     -999.0,1,  -999.0,9, 20170928,     2119, -32.5000, -72.0244,        0.0,1,      0.076,1,      4.587,1,      0.275,1,     -999.0,9,     -999.0,9,     -999.0,9,     -999.0,9,     -999.0,9,     -999.0,9,     -999.0,9,     -999.0,9,     -999.0,9,     -999.0,9,     -999.0,9,    10.8787,2,     -999.0,     -999.0,9,     -999.0