BOTTLE,20240211CCHSIOCBG
EXPOCODE,SECT_ID,STNNBR,CASTNO,SAMPNO,BTLNBR,BTLNBR_FLAG_W,DATE,TIME,LATITUDE,LONGITUDE,DEPTH,CTDPRS,CTDTMP,CTDSAL,CTDSAL_FLAG_W,SALNTY,SALNTY_FLAG_W,CTDOXY,CTDOXY_FLAG_W,OXYGEN,OXYGEN_FLAG_W,SILCAT,SILCAT_FLAG_W,NITRAT,NITRAT_FLAG_W,NITRIT,NITRIT_FLAG_W,PHSPHT,PHSPHT_FLAG_W,CFC-11,CFC-11_FLAG_W,CFC-12,CFC-12_FLAG_W,SF6,SF6_FLAG_W,TCARBN,TCARBN_FLAG_W,ALKALI,ALKALI_FLAG_W,PH_TOT,PH_TOT_FLAG_W,PH_TMP,DELC13,DELC13_FLAG_W,DELC14,DELC14_FLAG_W,C14ERR,DOC,DOC_FLAG_W,TDN,TDN_FLAG_W,TON,TON_FLAG_W,D15N_NO3,D15N_NO3_FLAG_W,BTL_DATE,BTL_TIME,BTL_LAT,BTL_LON,CTDRINKO,CTDRINKO_FLAG_W,CTDFLUOR,CTDFLUOR_FLAG_W,CTDXMISS,CTDXMISS_FLAG_W,CTDBACKSCATTER,CTDBACKSCATTER_FLAG_W,D18O_NO3,D18O_NO3_FLAG_W,DOP,DOP_FLAG_W,CELLCOUNT,CELLCOUNT_FLAG_W,TDP,TDP_FLAG_W,POP,POP_FLAG_W,DATP,DATP_FLAG_W,PATP,PATP_FLAG_W,HPLC,HPLC_FLAG_W,POC,POC_FLAG_W,BEAMAP,BEAMAP_FLAG_W,DOC_NASA,DOC_NASA_FLAG_W,REFTMP,REFTMP_FLAG_W,DOC_NASA_ERROR,TDN_NASA,TDN_NASA_FLAG_W,TDN_NASA_ERROR
,,,,,,,,,,,METERS,DBAR,ITS-90,PSS-78,,PSS-78,,UMOL/KG,,UMOL/KG,,UMOL/KG,,UMOL/KG,,UMOL/KG,,UMOL/KG,,PMOL/KG,,PMOL/KG,,FMOL/KG,,UMOL/KG,,UMOL/KG,,,,DEG C,/MILLE,,/MILLE,,/MILLE,UMOL/KG,,UMOL/KG,,UMOL/KG,,/MILLE,,,,,,VOLTS,,VOLTS,,VOLTS,,VOLTS,,/MILLE,,UMOL/KG,,/LITER,,UMOL/KG,,UMOL/L,,PMOL/L,,PMOL/L,,,,UG/L,,/METER,,UMOL/L,,ITS-90,,UMOL/L,UMOL/L,,UMOL/L
320620170820,        P06,     190,          1,          1,          1,2,20170911,       1252,   -32.5000,  -111.0155,       3093,  3128.6,   1.8097,  34.6709,2,  34.6722,2, 162.6419,2, 162.6859,2,   121.2,2,   34.96,2,    0.00,2,    2.43,2,   0.036,2,   0.020,2,   0.0000,2,  2299.3,6,  2391.7,2,   7.5858,2,    25.00, -999.00,9, -999.00,9, -999.00,    35.1,2, -999.00,9,     -999.0,1,  -999.0,9, 20170911,     1252, -32.5000,-111.0154,        0.0,1,      0.061,1,      4.689,1,      0.132,1,     -999.0,9,     -999.0,9,     -999.0,9,     -999.0,9,     -999.0,9,     -999.0,9,     -999.0,9,     -999.0,9,     -999.0,9,     -999.0,9,     -999.0,9,     1.8100,2,     -999.0,     -999.0,9,     -999.0
320620170820,        P06,     190,          1,          2,          2,2,20170911,       1252,   -32.5000,  -111.0155,       3093,  3017.9,   1.8073,  34.6705,2,  34.6716,2, 162.6419,2, 163.0982,2,   121.2,2,   34.99,2,    0.00,2,    2.43,2,-999.000,9,-999.000,9,-999.0000,9,  -999.0,9,  -999.0,9,-999.0000,9,  -999.00, -999.00,9, -999.00,9, -999.00,  -999.0,9, -999.00,9,     -999.0,9,  -999.0,9, 20170911,     1255, -32.5000,-111.0154,        0.0,1,      0.061,1,      4.689,1,      0.133,1,     -999.0,9,     -999.0,9,     -999.0,9,     -999.0,9,     -999.0,9,     -999.0,9,     -999.0,9,     -999.0,9,     -999.0,9,     -999.0,9,     -999.0,9,     1.8075,2,     -999.0,     -999.0,9,     -999.0
320620170820,        P06,     190,          1,          3,          3,2,20170911,       1252,   -32.5000,  -111.0155,       3093,  2906.0,   1.7994,  34.6704,2,  34.6714,2, 162.6419,2, 162.3603,2,   121.3,2,   34.98,2,    0.00,2,    2.44,2,   0.033,2,   0.020,2,   0.0000,2,  2298.0,2,  2392.5,2,   7.5861,2,    25.00, -999.00,9, -999.00,9, -999.00,    35.4,2, -999.00,9,     -999.0,1,  -999.0,9, 20170911,     1258, -32.5000,-111.0154,        0.0,1,      0.061,1,      4.689,1,      0.135,1,     -999.0,9,     -999.0,9,     -999.0,9,     -999.0,9,     -999.0,9,     -999.0,9,     -999.0,9,     -999.0,9,     -999.0,9,     -999.0,9,     -999.0,9,     1.7997,2,     -999.0,     -999.0,9,     -999.0
320620170820,        P06,     190,          1,          4,          4,2,20170911,       1252,   -32.5000,  -111.0155,       3093,  2701.0,   1.7894,  34.6697,2,  34.6700,2, 162.5054,2, 162.4996,2,   121.3,2,   34.99,2,    0.00,2,    2.44,2,   0.038,2,   0.022,2,   0.0000,2,  -999.0,9,  -999.0,9,-999.0000,9,  -999.00, -999.00,9, -999.00,9, -999.00,  -999.0,9, -999.00,9,     -999.0,9,  -999.0,9, 20170911,     1302, -32.5000,-111.0154,        0.0,1,      0.061,1,      4.689,1,      0.132,1,     -999.0,9,     -999.0,9,     -999.0,9,     -999.0,9,     -999.0,9,     -999.0,9,     -999.0,9,     -999.0,9,     -999.0,9,     -999.0,9,     -999.0,9,     1.7891,2,     -999.0,     -999.0,9,     -999.0
320620170820,        P06,     190,          1,          5,          5,2,20170911,       1252,   -32.5000,  -111.0155,       3093,  2494.5,   1.8150,  34.6667,2,  34.6677,2, 161.8681,2, 161.3177,2,   120.6,2,   35.03,2,    0.00,2,    2.43,2,   0.036,2,   0.023,2,   0.0000,2,  2298.6,2,  2392.2,2,   7.5841,2,    25.00, -999.00,9, -999.00,9, -999.00,    35.0,2, -999.00,9,     -999.0,1,  -999.0,9, 20170911,     1307, -32.5001,-111.0151,        0.0,1,      0.061,1,      4.689,1,      0.137,1,     -999.0,9,     -999.0,9,     -999.0,9,     -999.0,9,     -999.0,9,     -999.0,9,     -999.0,9,     -999.0,9,     -999.0,9,     -999.0,9,     -999.0,9,     1.8147,2,     -999.0,     -999.0,9,     -999.0
320620170820,        P06,     190,          1,          6,          6,2,20170911,       1252,   -32.5000,  -111.0155,       3093,  2295.1,   1.8807,  34.6603,2,  34.6610,2, 159.8042,2, 159.5899,2,   117.6,2,   35.09,2,    0.00,2,    2.45,2,   0.038,2,   0.024,2,   0.0000,2,  -999.0,9,  -999.0,9,-999.0000,9,  -999.00, -999.00,9, -999.00,9, -999.00,    36.0,2, -999.00,9,     -999.0,1,  -999.0,9, 20170911,     1311, -32.5001,-111.0152,        0.0,1,      0.062,1,      4.690,1,      0.136,1,     -999.0,9,     -999.0,9,     -999.0,9,     -999.0,9,     -999.0,9,     -999.0,9,     -999.0,9,     -999.0,9,     -999.0,9,     -999.0,9,     -999.0,9,     1.8780,2,     -999.0,     -999.0,9,     -999.0
320620170820,        P06,     190,          1,          7,          7,2,20170911,       1252,   -32.5000,  -111.0155,       3093,  2088.6,   2.0235,  34.6480,2,  34.6500,2, 158.2173,2,  158.791,2,   111.4,2,   35.10,2,    0.00,2,    2.42,2,   0.044,2,   0.025,2,   0.0000,2,  2293.2,2,  2382.3,2,   7.5752,2,    25.00, -999.00,9, -999.00,9, -999.00,    37.0,2, -999.00,9,     -999.0,1,  -999.0,9, 20170911,     1316, -32.4999,-111.0156,        0.0,1,      0.061,1,      4.691,1,      0.130,1,     -999.0,9,     -999.0,9,     -999.0,9,     -999.0,9,     -999.0,9,     -999.0,9,     -999.0,9,     -999.0,9,     -999.0,9,     -999.0,9,     -999.0,9,     2.0209,2,     -999.0,     -999.0,9,     -999.0
320620170820,        P06,     190,          1,          8,          8,2,20170911,       1252,   -32.5000,  -111.0155,       3093,  1886.1,   2.2384,  34.6230,2,  34.6270,2, 158.4197,2,  159.184,2,   101.9,2,   35.04,2,    0.00,2,    2.42,2,   0.059,2,   0.038,2,   0.0000,2,  -999.0,9,  -999.0,9,-999.0000,9,  -999.00, -999.00,9, -999.00,9, -999.00,  -999.0,9, -999.00,9,     -999.0,9,  -999.0,9, 20170911,     1320, -32.4999,-111.0155,        0.0,1,      0.061,1,      4.692,1,      0.128,1,     -999.0,9,     -999.0,9,     -999.0,9,     -999.0,9,     -999.0,9,     -999.0,9,     -999.0,9,     -999.0,9,     -999.0,9,     -999.0,9,     -999.0,9,     2.2220,2,     -999.0,     -999.0,9,     -999.0
320620170820,        P06,     190,          1,          9,          9,2,20170911,       1252,   -32.5000,  -111.0155,       3093,  1753.9,   2.4414,  34.5895,2,  34.5993,2, 159.6218,2, 160.2556,2,    92.4,2,   34.95,2,    0.00,2,    2.40,2,-999.000,9,-999.000,9,-999.0000,9,  2274.1,2,  2359.2,2,   7.5663,2,    25.00, -999.00,9, -999.00,9, -999.00,    36.3,2, -999.00,9,     -999.0,1,  -999.0,9, 20170911,     1324, -32.5001,-111.0153,        0.0,1,      0.061,1,      4.692,1,      0.127,1,     -999.0,9,     -999.0,9,     -999.0,9,     -999.0,9,     -999.0,9,     -999.0,9,     -999.0,9,     -999.0,9,     -999.0,9,     -999.0,9,     -999.0,9,     2.3880,2,     -999.0,     -999.0,9,     -999.0
320620170820,        P06,     190,          1,         10,         10,2,20170911,       1252,   -32.5000,  -111.0155,       3093,  1653.3,   2.5432,  34.5708,2,  34.5724,2, 160.3702,2, 160.9381,2,    85.4,2,   34.95,2,    0.00,2,    2.40,2,   0.095,2,   0.058,2,   0.0000,2,  -999.0,9,  -999.0,9,-999.0000,9,  -999.00, -999.00,9, -999.00,9, -999.00,  -999.0,9, -999.00,9,     -999.0,9,  -999.0,9, 20170911,     1326, -32.5001,-111.0152,        0.0,1,      0.061,1,      4.692,1,      0.130,1,     -999.0,9,     -999.0,9,     -999.0,9,     -999.0,9,     -999.0,9,     -999.0,9,     -999.0,9,     -999.0,9,     -999.0,9,     -999.0,9,     -999.0,9,     2.5400,2,     -999.0,     -999.0,9,     -999.0
320620170820,        P06,     190,          1,         11,         11,2,20170911,       1252,   -32.5000,  -111.0155,       3093,  1550.4,   2.7502,  34.5401,2,  34.5443,2, 158.6601,2, 156.9484,2,    81.2,2,   35.50,2,    0.00,2,    2.45,2,   0.093,2,   0.056,2,   0.0000,2,  2269.0,2,  2347.9,2,   7.5547,2,    25.00, -999.00,9, -999.00,9, -999.00,    38.2,2, -999.00,9,     -999.0,1,  -999.0,9, 20170911,     1329, -32.5000,-111.0155,        0.0,1,      0.062,1,      4.692,1,      0.128,1,     -999.0,9,     -999.0,9,     -999.0,9,     -999.0,9,     -999.0,9,     -999.0,9,     -999.0,9,     -999.0,9,     -999.0,9,     -999.0,9,     -999.0,9,     2.7159,2,     -999.0,     -999.0,9,     -999.0
320620170820,        P06,     190,          1,         12,         12,2,20170911,       1252,   -32.5000,  -111.0155,       3093,  1449.0,   3.0557,  34.5207,2,  34.5239,2, 139.7948,2, 140.2468,2,    80.5,2,   36.96,2,    0.00,2,    2.56,2,   0.056,2,   0.035,2,   0.0000,2,  -999.0,9,  -999.0,9,-999.0000,9,  -999.00, -999.00,9, -999.00,9, -999.00,  -999.0,9, -999.00,9,     -999.0,9,  -999.0,9, 20170911,     1332, -32.4999,-111.0156,        0.0,1,      0.061,1,      4.691,1,      0.128,1,     -999.0,9,     -999.0,9,     -999.0,9,     -999.0,9,     -999.0,9,     -999.0,9,     -999.0,9,     -999.0,9,     -999.0,9,     -999.0,9,     -999.0,9,     3.0290,2,     -999.0,     -999.0,9,     -999.0
320620170820,        P06,     190,          1,         13,         13,2,20170911,       1252,   -32.5000,  -111.0155,       3093,  1347.7,   3.3494,  34.4849,2,  34.4907,2, 133.1515,2, 132.4971,2,    73.6,2,   37.63,2,    0.00,2,    2.61,2,   0.050,2,   0.030,2,   0.0000,2,  2273.1,6,  2338.0,2,   7.5224,3,    25.00, -999.00,9, -999.00,9, -999.00,    37.2,2, -999.00,9,     -999.0,1,  -999.0,9, 20170911,     1335, -32.4999,-111.0156,        0.0,1,      0.062,1,      4.692,1,      0.129,1,     -999.0,9,     -999.0,9,     -999.0,9,     -999.0,9,     -999.0,9,     -999.0,9,     -999.0,9,     -999.0,9,     -999.0,9,     -999.0,9,     -999.0,9,     3.3319,2,     -999.0,     -999.0,9,     -999.0
320620170820,        P06,     190,          1,         14,         14,2,20170911,       1252,   -32.5000,  -111.0155,       3093,  1247.2,   3.5470,  34.4335,2,  34.4304,2, 145.5722,2, 145.6389,2,    59.6,2,   36.75,2,    0.00,2,    2.53,2,   0.114,2,   0.072,2,   0.0000,2,  -999.0,9,  -999.0,9,-999.0000,9,  -999.00, -999.00,9, -999.00,9, -999.00,  -999.0,9, -999.00,9,     -999.0,9,  -999.0,9, 20170911,     1338, -32.5001,-111.0153,        0.0,1,      0.061,1,      4.691,1,      0.129,1,     -999.0,9,     -999.0,9,     -999.0,9,     -999.0,9,     -999.0,9,     -999.0,9,     -999.0,9,     -999.0,9,     -999.0,9,     -999.0,9,     -999.0,9,     3.5663,2,     -999.0,     -999.0,9,     -999.0
320620170820,        P06,     190,          1,         15,         15,2,20170911,       1252,   -32.5000,  -111.0155,       3093,  1147.1,   3.8432,  34.3685,2,  34.3692,2, 167.5001,2, 167.3265,2,    45.7,2,   34.97,2,    0.00,2,    2.38,2,   0.300,2,   0.172,2,   0.0000,2,  2228.4,2,  2309.2,6,   7.5624,2,    25.00, -999.00,9, -999.00,9, -999.00,    38.3,2, -999.00,9,     -999.0,1,  -999.0,9, 20170911,     1340, -32.5001,-111.0151,        0.0,1,      0.061,1,      4.692,1,      0.129,1,     -999.0,9,     -999.0,9,     -999.0,9,     -999.0,9,     -999.0,9,     -999.0,9,     -999.0,9,     -999.0,9,     -999.0,9,     -999.0,9,     -999.0,9,     3.8426,2,     -999.0,     -999.0,9,     -999.0
320620170820,        P06,     190,          1,         16,         16,2,20170911,       1252,   -32.5000,  -111.0155,       3093,  1044.4,   4.1871,  34.3239,2,  34.3186,2, 188.8065,2, 188.2183,2,    33.2,2,   32.70,2,    0.00,2,    2.22,2,   0.726,2,   0.378,2,   0.1050,2,  -999.0,9,  -999.0,9,-999.0000,9,  -999.00, -999.00,9, -999.00,9, -999.00,  -999.0,9, -999.00,9,     -999.0,9,  -999.0,9, 20170911,     1343, -32.5001,-111.0152,        0.0,1,      0.061,1,      4.692,1,      0.129,1,     -999.0,9,     -999.0,9,     -999.0,9,     -999.0,9,     -999.0,9,     -999.0,9,     -999.0,9,     -999.0,9,     -999.0,9,     -999.0,9,     -999.0,9,     4.2368,2,     -999.0,     -999.0,9,     -999.0
320620170820,        P06,     190,          1,         17,         17,2,20170911,       1252,   -32.5000,  -111.0155,       3093,   942.8,   4.6635,  34.2895,2,  34.2891,2, 204.7744,2, 204.7805,2,    24.3,2,   30.78,2,    0.00,2,    2.08,2,   1.300,2,   0.653,2,   0.2710,2,  2185.9,2,  2289.0,2,   7.6246,6,    25.00, -999.00,9, -999.00,9, -999.00,    37.8,2, -999.00,9,     -999.0,1,  -999.0,9, 20170911,     1346, -32.5000,-111.0153,        0.0,1,      0.060,1,      4.691,1,      0.128,1,     -999.0,9,     -999.0,9,     -999.0,9,     -999.0,9,     -999.0,9,     -999.0,9,     -999.0,9,     -999.0,9,     -999.0,9,     -999.0,9,     -999.0,9,     4.6572,2,     -999.0,     -999.0,9,     -999.0
320620170820,        P06,     190,          1,         18,         18,2,20170911,       1252,   -32.5000,  -111.0155,       3093,   841.9,   5.2069,  34.2698,2,  34.2687,2,  228.065,2,  226.207,2,    14.9,2,   27.77,2,    0.00,2,    1.88,2,   2.289,2,   1.147,2,   0.3870,2,  -999.0,9,  -999.0,9,-999.0000,9,  -999.00, -999.00,9, -999.00,9, -999.00,  -999.0,9, -999.00,9,     -999.0,9,  -999.0,9, 20170911,     1348, -32.4999,-111.0154,        0.0,1,      0.060,1,      4.692,1,      0.129,1,     -999.0,9,     -999.0,9,     -999.0,9,     -999.0,9,     -999.0,9,     -999.0,9,     -999.0,9,     -999.0,9,     -999.0,9,     -999.0,9,     -999.0,9,     5.2477,2,     -999.0,     -999.0,9,     -999.0
320620170820,        P06,     190,          1,         19,         19,2,20170911,       1252,   -32.5000,  -111.0155,       3093,   740.9,   5.6487,  34.2720,2,  34.2719,2, 238.9934,2, 239.0676,2,    10.6,2,   25.74,2,    0.00,2,    1.72,2,   3.103,2,   1.538,2,   0.6000,2,  2153.9,2,  2277.0,2,   7.6855,2,    25.00, -999.00,9, -999.00,9, -999.00,    39.1,2, -999.00,9,     -999.0,1,  -999.0,9, 20170911,     1351, -32.5000,-111.0153,        0.0,1,      0.059,1,      4.691,1,      0.128,1,     -999.0,9,     -999.0,9,     -999.0,9,     -999.0,9,     -999.0,9,     -999.0,9,     -999.0,9,     -999.0,9,     -999.0,9,     -999.0,9,     -999.0,9,     5.6933,2,     -999.0,     -999.0,9,     -999.0
320620170820,        P06,     190,          1,         20,         20,2,20170911,       1252,   -32.5000,  -111.0155,       3093,   639.5,   6.0097,  34.2848,2,  34.2844,2, 243.2256,2, 244.2874,2,     8.6,2,   24.46,2,    0.00,2,    1.64,2,   3.517,2,   1.802,2,   0.7690,2,  -999.0,9,  -999.0,9,-999.0000,9,  -999.00, -999.00,9, -999.00,9, -999.00,    40.6,2, -999.00,9,     -999.0,1,  -999.0,9, 20170911,     1354, -32.5001,-111.0151,        0.0,1,      0.059,1,      4.691,1,      0.131,1,     -999.0,9,     -999.0,9,     -999.0,9,     -999.0,9,     -999.0,9,     -999.0,9,     -999.0,9,     -999.0,9,     -999.0,9,     -999.0,9,     -999.0,9,     6.0331,2,     -999.0,     -999.0,9,     -999.0
320620170820,        P06,     190,          1,         21,         21,2,20170911,       1252,   -32.5000,  -111.0155,       3093,   539.4,   6.5569,  34.3086,2,  34.3070,2, 232.8293,2, 233.4201,2,     7.8,2,   24.16,2,    0.00,2,    1.62,2,   3.599,2,   1.898,2,   0.9680,2,  2153.9,2,  2276.3,2,   7.6821,2,    25.00, -999.00,9, -999.00,9, -999.00,    40.9,2, -999.00,9,     -999.0,1,  -999.0,9, 20170911,     1356, -32.5000,-111.0152,        0.0,1,      0.060,1,      4.690,1,      0.133,1,     -999.0,9,     -999.0,9,     -999.0,9,     -999.0,9,     -999.0,9,     -999.0,9,     -999.0,9,     -999.0,9,     -999.0,9,     -999.0,9,     -999.0,9,     6.5252,2,     -999.0,     -999.0,9,     -999.0
320620170820,        P06,     190,          1,         22,         22,2,20170911,       1252,   -32.5000,  -111.0155,       3093,   468.3,   7.1424,  34.3104,2,  34.3091,2, 224.7194,2, 225.5159,2,     6.5,2,   23.37,2,    0.00,2,    1.58,2,   3.559,2,   1.892,2,   1.0750,2,  -999.0,9,  -999.0,9,-999.0000,9,  -999.00, -999.00,9, -999.00,9, -999.00,  -999.0,9, -999.00,9,     -999.0,9,  -999.0,9, 20170911,     1359, -32.5000,-111.0153,        0.0,1,      0.060,1,      4.688,1,      0.133,1,     -999.0,9,     -999.0,9,     -999.0,9,     -999.0,9,     -999.0,9,     -999.0,9,     -999.0,9,     -999.0,9,     -999.0,9,     -999.0,9,     -999.0,9,     7.0552,2,     -999.0,     -999.0,9,     -999.0
320620170820,        P06,     190,          1,         23,         23,2,20170911,       1252,   -32.5000,  -111.0155,       3093,   417.9,   7.7116,  34.3136,2,  34.3170,2,  230.089,2,  230.455,2,     4.7,2,   21.21,2,    0.00,2,    1.43,2,   3.568,2,   1.929,2,   1.3100,2,  2146.2,2,  2275.4,2,   7.7028,2,    25.00, -999.00,9, -999.00,9, -999.00,    42.1,2,   23.80,2,     -999.0,1,  -999.0,9, 20170911,     1401, -32.5000,-111.0153,        0.0,1,      0.059,1,      4.687,1,      0.133,1,     -999.0,9,     -999.0,9,     -999.0,9,     -999.0,9,     -999.0,9,     -999.0,9,     -999.0,9,     -999.0,9,     -999.0,9,     -999.0,9,     -999.0,9,     7.6816,2,     -999.0,     -999.0,9,     -999.0
320620170820,        P06,     190,          1,         24,         24,2,20170911,       1252,   -32.5000,  -111.0155,       3093,   367.5,   8.6587,  34.3315,2,  34.3313,2, 226.4077,2, 227.6145,2,     2.7,2,   18.08,2,    0.00,2,    1.23,2,   3.427,2,   1.906,2,   1.4120,2,  -999.0,9,  -999.0,9,-999.0000,9,  -999.00, -999.00,9, -999.00,9, -999.00,  -999.0,9, -999.00,9,     -999.0,9,  -999.0,9, 20170911,     1403, -32.5001,-111.0153,        0.0,1,      0.060,1,      4.686,1,      0.131,1,     -999.0,9,     -999.0,9,     -999.0,9,     -999.0,9,     -999.0,9,     -999.0,9,     -999.0,9,     -999.0,9,     -999.0,9,     -999.0,9,     -999.0,9,     8.9278,2,     -999.0,     -999.0,9,     -999.0
320620170820,        P06,     190,          1,         25,         25,2,20170911,       1252,   -32.5000,  -111.0155,       3093,   316.4,  10.3021,  34.4028,2,  34.4241,2, 219.5428,2, 220.0391,2,     1.6,2,   14.06,2,    0.00,2,    1.00,2,   3.131,2,   1.780,2,   1.4250,2,  2117.5,2,  2274.7,2,   7.7696,2,    25.00, -999.00,9, -999.00,9, -999.00,    43.3,2,   17.50,2,     -999.0,1,  -999.0,9, 20170911,     1405, -32.5003,-111.0153,        0.0,1,      0.058,1,      4.684,1,      0.132,1,     -999.0,9,     -999.0,9,     -999.0,9,     -999.0,9,     -999.0,9,     -999.0,9,     -999.0,9,     -999.0,9,     -999.0,9,     -999.0,9,     -999.0,9,    10.6128,2,     -999.0,     -999.0,9,     -999.0
320620170820,        P06,     190,          1,         26,         26,2,20170911,       1252,   -32.5000,  -111.0155,       3093,   266.8,  12.3188,  34.5618,2,  34.5830,2, 215.3429,2, 214.9247,2,     0.7,2,    9.63,2,    0.00,2,    0.72,2,   2.818,2,   1.657,2,   1.4160,2,  2103.9,2,  2281.0,2,   7.8157,2,    25.00, -999.00,9, -999.00,9, -999.00,    45.4,2,   13.70,2,     -999.0,1,  -999.0,9, 20170911,     1407, -32.5003,-111.0152,        0.0,1,      0.061,1,      4.681,1,      0.133,1,     -999.0,9,     -999.0,9,     -999.0,9,     -999.0,9,     -999.0,9,     -999.0,9,     -999.0,9,     -999.0,9,     -999.0,9,     -999.0,9,     -999.0,9,    12.5495,2,     -999.0,     -999.0,9,     -999.0