BOTTLE,20240211CCHSIOCBG
EXPOCODE,SECT_ID,STNNBR,CASTNO,SAMPNO,BTLNBR,BTLNBR_FLAG_W,DATE,TIME,LATITUDE,LONGITUDE,DEPTH,CTDPRS,CTDTMP,CTDSAL,CTDSAL_FLAG_W,SALNTY,SALNTY_FLAG_W,CTDOXY,CTDOXY_FLAG_W,OXYGEN,OXYGEN_FLAG_W,SILCAT,SILCAT_FLAG_W,NITRAT,NITRAT_FLAG_W,NITRIT,NITRIT_FLAG_W,PHSPHT,PHSPHT_FLAG_W,CFC-11,CFC-11_FLAG_W,CFC-12,CFC-12_FLAG_W,SF6,SF6_FLAG_W,TCARBN,TCARBN_FLAG_W,ALKALI,ALKALI_FLAG_W,PH_TOT,PH_TOT_FLAG_W,PH_TMP,DELC13,DELC13_FLAG_W,DELC14,DELC14_FLAG_W,C14ERR,DOC,DOC_FLAG_W,TDN,TDN_FLAG_W,TON,TON_FLAG_W,D15N_NO3,D15N_NO3_FLAG_W,BTL_DATE,BTL_TIME,BTL_LAT,BTL_LON,CTDRINKO,CTDRINKO_FLAG_W,CTDFLUOR,CTDFLUOR_FLAG_W,CTDXMISS,CTDXMISS_FLAG_W,CTDBACKSCATTER,CTDBACKSCATTER_FLAG_W,D18O_NO3,D18O_NO3_FLAG_W,DOP,DOP_FLAG_W,CELLCOUNT,CELLCOUNT_FLAG_W,TDP,TDP_FLAG_W,POP,POP_FLAG_W,DATP,DATP_FLAG_W,PATP,PATP_FLAG_W,HPLC,HPLC_FLAG_W,POC,POC_FLAG_W,BEAMAP,BEAMAP_FLAG_W,DOC_NASA,DOC_NASA_FLAG_W,REFTMP,REFTMP_FLAG_W,DOC_NASA_ERROR,TDN_NASA,TDN_NASA_FLAG_W,TDN_NASA_ERROR
,,,,,,,,,,,METERS,DBAR,ITS-90,PSS-78,,PSS-78,,UMOL/KG,,UMOL/KG,,UMOL/KG,,UMOL/KG,,UMOL/KG,,UMOL/KG,,PMOL/KG,,PMOL/KG,,FMOL/KG,,UMOL/KG,,UMOL/KG,,,,DEG C,/MILLE,,/MILLE,,/MILLE,UMOL/KG,,UMOL/KG,,UMOL/KG,,/MILLE,,,,,,VOLTS,,VOLTS,,VOLTS,,VOLTS,,/MILLE,,UMOL/KG,,/LITER,,UMOL/KG,,UMOL/L,,PMOL/L,,PMOL/L,,,,UG/L,,/METER,,UMOL/L,,ITS-90,,UMOL/L,UMOL/L,,UMOL/L
320620170820,        P06,     196,          1,         27,         27,2,20170913,       0625,   -32.5004,  -106.8758,       3287,   265.4,  10.2352,  34.3288,2,  34.3240,2, 220.3066,2, 222.0517,2,     1.4,2,   15.41,2,    0.00,2,    1.08,2,   3.338,2,   1.875,2,   1.7100,2,  2119.0,2,  2268.8,2,   7.7552,2,    25.00, -999.00,9, -999.00,9, -999.00,  -999.0,5,   17.50,2,     -999.0,1,  -999.0,9, 20170913,      755, -32.5005,-106.8756,        0.0,1,      0.059,1,      4.683,1,      0.132,1,     -999.0,9,     -999.0,9,     -999.0,9,     -999.0,9,     -999.0,9,     -999.0,9,     -999.0,9,     -999.0,9,     -999.0,9,     -999.0,9,     -999.0,9,    10.3530,2,     -999.0,     -999.0,9,     -999.0
320620170820,        P06,     196,          1,         28,         28,2,20170913,       0625,   -32.5004,  -106.8758,       3287,   215.0,  11.9984,  34.4044,2,  34.4041,3, 218.6308,2, 218.7872,2,     0.6,2,   11.69,2,    0.00,2,    0.84,2,-999.000,9,-999.000,9,-999.0000,9,  2106.7,2,  2272.4,2,   7.7932,2,    25.00, -999.00,9, -999.00,9, -999.00,    48.5,2,   14.80,2,     -999.0,1,  -999.0,9, 20170913,      757, -32.5005,-106.8756,        0.0,1,      0.063,1,      4.679,1,      0.133,1,     -999.0,9,     -999.0,9,     -999.0,9,     -999.0,9,     -999.0,9,     -999.0,9,     -999.0,9,     -999.0,9,     -999.0,9,     -999.0,9,     -999.0,9,    11.6396,2,     -999.0,     -999.0,9,     -999.0
320620170820,        P06,     196,          1,         29,         29,2,20170913,       0625,   -32.5004,  -106.8758,       3287,   185.7,  12.9300,  34.4117,2,  34.4214,2, 220.0452,2, 220.5883,2,     0.1,2,    8.91,2,    0.02,2,    0.66,2,   2.874,2,   1.671,2,   1.8310,2,  2092.8,2,  2271.7,2,   7.8237,2,    25.00, -999.00,9, -999.00,9, -999.00,    50.0,2,   11.70,2,     -999.0,1,  -999.0,9, 20170913,      759, -32.5004,-106.8758,        0.0,1,      0.080,1,      4.674,1,      0.136,1,     -999.0,9,     -999.0,9,     -999.0,9,     -999.0,9,     -999.0,9,     -999.0,9,     -999.0,9,     -999.0,9,     -999.0,9,     -999.0,9,     -999.0,9,    12.7893,2,     -999.0,     -999.0,9,     -999.0
320620170820,        P06,     196,          1,         30,         30,2,20170913,       0625,   -32.5004,  -106.8758,       3287,   159.7,  13.6474,  34.4051,2,  34.4086,2, 229.8017,2, 230.4615,2,     0.0,2,    5.64,2,    0.24,2,    0.50,2,-999.000,9,-999.000,9,-999.0000,9,  2076.4,2,  2272.1,2,   7.8587,2,    25.00, -999.00,9, -999.00,9, -999.00,    55.3,2,    8.80,2,     -999.0,1,  -999.0,9, 20170913,      800, -32.5003,-106.8759,        0.0,1,      0.109,1,      4.668,1,      0.140,1,     -999.0,9,     -999.0,9,     -999.0,9,     -999.0,9,     -999.0,9,     -999.0,9,     -999.0,9,     -999.0,9,     -999.0,9,     -999.0,9,     -999.0,9,    13.7456,2,     -999.0,     -999.0,9,     -999.0
320620170820,        P06,     196,          1,         31,         31,2,20170913,       0625,   -32.5004,  -106.8758,       3287,   134.8,  14.4901,  34.4636,2,  34.4591,2, 237.0464,2, 237.8515,2,     0.0,2,    2.74,2,    0.50,2,    0.35,2,   2.593,2,   1.546,2,   1.9240,2,  2065.0,2,  2274.5,2,   7.8906,2,    25.00, -999.00,9, -999.00,9, -999.00,    56.7,2,    5.90,2,     -999.0,1,  -999.0,9, 20170913,      802, -32.5003,-106.8760,        0.0,1,      0.177,1,      4.655,1,      0.154,1,     -999.0,9,     -999.0,9,     -999.0,9,     -999.0,9,     -999.0,9,     -999.0,9,     -999.0,9,     -999.0,9,     -999.0,9,     -999.0,9,     -999.0,9,    14.5121,2,     -999.0,     -999.0,9,     -999.0
320620170820,        P06,     196,          1,         32,         32,2,20170913,       0625,   -32.5004,  -106.8758,       3287,   109.9,  16.5127,  34.7428,2,  34.7201,3, 240.1441,2, 239.4821,2,     0.0,2,    0.49,2,    0.16,2,    0.17,2,-999.000,9,-999.000,9,-999.0000,9,  2050.3,2,  2289.8,2,   7.9408,2,    25.00, -999.00,9, -999.00,9, -999.00,    62.1,2,    4.90,2,     -999.0,1,  -999.0,9, 20170913,      804, -32.5002,-106.8761,        0.0,1,      0.259,1,      4.622,1,      0.203,1,     -999.0,9,     -999.0,9,     -999.0,9,     -999.0,9,     -999.0,9,     -999.0,9,     -999.0,9,     -999.0,9,     -999.0,9,     -999.0,9,     -999.0,9,    16.3887,2,     -999.0,     -999.0,9,     -999.0
320620170820,        P06,     196,          1,         33,         33,2,20170913,       0625,   -32.5004,  -106.8758,       3287,    85.3,  16.8830,  34.7788,2,  34.8279,2,  242.579,2,  242.222,2,     0.0,2,    0.00,2,    0.00,2,    0.12,2,   2.277,2,   1.359,2,   1.8030,2,  2044.5,2,  2295.7,6,   7.9600,2,    25.00, -999.00,9, -999.00,9, -999.00,    64.9,2,    4.50,2,     -999.0,1,  -999.0,9, 20170913,      806, -32.5002,-106.8761,        0.0,1,      0.236,1,      4.606,1,      0.225,1,     -999.0,9,     -999.0,9,     -999.0,9,     -999.0,9,     -999.0,9,     -999.0,9,     -999.0,9,     -999.0,9,     -999.0,9,     -999.0,9,     -999.0,9,    17.0818,2,     -999.0,     -999.0,9,     -999.0
320620170820,        P06,     196,          1,         34,         34,2,20170913,       0625,   -32.5004,  -106.8758,       3287,    59.1,  17.1699,  34.8418,2,  34.8365,2, 243.4298,2, 242.3731,2,     0.0,2,    0.00,2,    0.00,2,    0.12,2,-999.000,9,-999.000,9,-999.0000,9,  -999.0,9,  -999.0,9,-999.0000,9,  -999.00, -999.00,9, -999.00,9, -999.00,  -999.0,5,    3.90,2,     -999.0,1,  -999.0,9, 20170913,      808, -32.5002,-106.8761,        0.0,1,      0.127,1,      4.624,1,      0.198,1,     -999.0,9,     -999.0,9,     -999.0,9,     -999.0,9,     -999.0,9,     -999.0,9,     -999.0,9,     -999.0,9,     -999.0,9,     -999.0,9,     -999.0,9,    17.1480,2,     -999.0,     -999.0,9,     -999.0
320620170820,        P06,     196,          1,         35,         35,2,20170913,       0625,   -32.5004,  -106.8758,       3287,    33.9,  17.2361,  34.8489,2,  34.8434,2, 243.3457,2, 242.3958,2,     0.0,2,    0.00,2,    0.00,2,    0.11,2,   2.279,2,   1.358,2,   1.7980,2,  2045.6,2,  2296.0,2,   7.9613,6,    25.00, -999.00,9, -999.00,9, -999.00,    65.3,2,    4.20,2,     -999.0,1,  -999.0,9, 20170913,      810, -32.5003,-106.8760,        0.0,1,      0.111,1,      4.626,1,      0.192,1,     -999.0,9,     -999.0,9,     -999.0,9,     -999.0,9,     -999.0,9,     -999.0,9,     -999.0,9,     -999.0,9,     -999.0,9,     -999.0,9,     -999.0,9,    17.1889,2,     -999.0,     -999.0,9,     -999.0
320620170820,        P06,     196,          1,         36,         36,2,20170913,       0625,   -32.5004,  -106.8758,       3287,     9.2,  17.2321,  34.8498,2,  34.8467,2, 243.7185,2, 242.1131,2,     0.0,2,    0.00,2,    0.00,2,    0.12,2,   2.275,2,   1.352,2,   1.7960,2,  2047.5,6,  2295.5,2,   7.9595,2,    25.00, -999.00,9, -999.00,9, -999.00,    67.8,2,    4.20,2,     -999.0,1,  -999.0,9, 20170913,      812, -32.5004,-106.8758,        0.0,1,      0.107,1,      4.627,1,      0.191,1,     -999.0,9,     -999.0,9,     -999.0,9,     -999.0,9,     -999.0,9,     -999.0,9,     -999.0,9,     -999.0,9,     -999.0,9,     -999.0,9,     -999.0,9,    17.1989,2,     -999.0,     -999.0,9,     -999.0