BOTTLE,20240211CCHSIOCBG
EXPOCODE,SECT_ID,STNNBR,CASTNO,SAMPNO,BTLNBR,BTLNBR_FLAG_W,DATE,TIME,LATITUDE,LONGITUDE,DEPTH,CTDPRS,CTDTMP,CTDSAL,CTDSAL_FLAG_W,SALNTY,SALNTY_FLAG_W,CTDOXY,CTDOXY_FLAG_W,OXYGEN,OXYGEN_FLAG_W,SILCAT,SILCAT_FLAG_W,NITRAT,NITRAT_FLAG_W,NITRIT,NITRIT_FLAG_W,PHSPHT,PHSPHT_FLAG_W,CFC-11,CFC-11_FLAG_W,CFC-12,CFC-12_FLAG_W,SF6,SF6_FLAG_W,TCARBN,TCARBN_FLAG_W,ALKALI,ALKALI_FLAG_W,PH_TOT,PH_TOT_FLAG_W,PH_TMP,DELC13,DELC13_FLAG_W,DELC14,DELC14_FLAG_W,C14ERR,DOC,DOC_FLAG_W,TDN,TDN_FLAG_W,TON,TON_FLAG_W,D15N_NO3,D15N_NO3_FLAG_W,BTL_DATE,BTL_TIME,BTL_LAT,BTL_LON,CTDRINKO,CTDRINKO_FLAG_W,CTDFLUOR,CTDFLUOR_FLAG_W,CTDXMISS,CTDXMISS_FLAG_W,CTDBACKSCATTER,CTDBACKSCATTER_FLAG_W,D18O_NO3,D18O_NO3_FLAG_W,DOP,DOP_FLAG_W,CELLCOUNT,CELLCOUNT_FLAG_W,TDP,TDP_FLAG_W,POP,POP_FLAG_W,DATP,DATP_FLAG_W,PATP,PATP_FLAG_W,HPLC,HPLC_FLAG_W,POC,POC_FLAG_W,BEAMAP,BEAMAP_FLAG_W,DOC_NASA,DOC_NASA_FLAG_W,REFTMP,REFTMP_FLAG_W,DOC_NASA_ERROR,TDN_NASA,TDN_NASA_FLAG_W,TDN_NASA_ERROR
,,,,,,,,,,,METERS,DBAR,ITS-90,PSS-78,,PSS-78,,UMOL/KG,,UMOL/KG,,UMOL/KG,,UMOL/KG,,UMOL/KG,,UMOL/KG,,PMOL/KG,,PMOL/KG,,FMOL/KG,,UMOL/KG,,UMOL/KG,,,,DEG C,/MILLE,,/MILLE,,/MILLE,UMOL/KG,,UMOL/KG,,UMOL/KG,,/MILLE,,,,,,VOLTS,,VOLTS,,VOLTS,,VOLTS,,/MILLE,,UMOL/KG,,/LITER,,UMOL/KG,,UMOL/L,,PMOL/L,,PMOL/L,,,,UG/L,,/METER,,UMOL/L,,ITS-90,,UMOL/L,UMOL/L,,UMOL/L
320620170820,        P06,     187,          1,          1,          1,2,20170910,       1730,   -32.5001,  -113.0855,       2485,  2508.1,   1.8088,  34.6646,2,  34.6698,2, 160.6278,2, 160.9919,2,   120.7,2,   35.11,2,    0.00,2,    2.41,2,   0.032,2,   0.018,2,   0.0000,2,  2300.5,6,  2393.6,2,   7.5842,2,    25.00, -999.00,9, -999.00,9, -999.00,  -999.0,9, -999.00,9,     -999.0,9,  -999.0,9, 20170910,     1730, -32.5000,-113.0856,        0.0,1,      0.061,1,      4.691,1,      0.128,1,     -999.0,9,     -999.0,9,     -999.0,9,     -999.0,9,     -999.0,9,     -999.0,9,     -999.0,9,     -999.0,9,     -999.0,9,     -999.0,9,     -999.0,9,     1.8095,2,     -999.0,     -999.0,9,     -999.0
320620170820,        P06,     187,          1,          2,          2,2,20170910,       1730,   -32.5001,  -113.0855,       2485,  2293.2,   1.8583,  34.6589,2,  34.6631,2, 160.1586,2, 159.6547,2,   119.0,2,   35.19,2,    0.00,2,    2.42,2,   0.042,2,   0.029,2,   0.0000,2,  2299.6,2,  2392.9,2,   7.5816,2,    25.00, -999.00,9, -999.00,9, -999.00,  -999.0,9, -999.00,9,     -999.0,9,  -999.0,9, 20170910,     1735, -32.5000,-113.0856,        0.0,1,      0.060,1,      4.692,1,      0.128,1,     -999.0,9,     -999.0,9,     -999.0,9,     -999.0,9,     -999.0,9,     -999.0,9,     -999.0,9,     -999.0,9,     -999.0,9,     -999.0,9,     -999.0,9,     1.8562,2,     -999.0,     -999.0,9,     -999.0
320620170820,        P06,     187,          1,          3,          3,2,20170910,       1730,   -32.5001,  -113.0855,       2485,  2089.7,   1.9466,  34.6504,2,  34.6553,2, 158.3528,2, 158.0399,2,   116.1,2,   35.30,2,    0.00,2,    2.42,2,   0.034,2,   0.023,2,   0.0000,2,  -999.0,9,  -999.0,9,-999.0000,9,  -999.00, -999.00,9, -999.00,9, -999.00,  -999.0,9, -999.00,9,     -999.0,9,  -999.0,9, 20170910,     1739, -32.4999,-113.0856,        0.0,1,      0.061,1,      4.692,1,      0.129,1,     -999.0,9,     -999.0,9,     -999.0,9,     -999.0,9,     -999.0,9,     -999.0,9,     -999.0,9,     -999.0,9,     -999.0,9,     -999.0,9,     -999.0,9,     1.9366,2,     -999.0,     -999.0,9,     -999.0
320620170820,        P06,     187,          1,          4,          4,2,20170910,       1730,   -32.5001,  -113.0855,       2485,  1956.1,   2.0813,  34.6392,2,  34.6437,2,  157.152,2, 157.4556,2,   110.3,2,   35.26,2,    0.00,2,    2.42,2,   0.045,2,   0.031,2,   0.0000,2,  2292.1,6,  2379.9,2,   7.5726,2,    25.00, -999.00,9, -999.00,9, -999.00,  -999.0,9, -999.00,9,     -999.0,9,  -999.0,9, 20170910,     1742, -32.4999,-113.0857,        0.0,1,      0.061,1,      4.692,1,      0.129,1,     -999.0,9,     -999.0,9,     -999.0,9,     -999.0,9,     -999.0,9,     -999.0,9,     -999.0,9,     -999.0,9,     -999.0,9,     -999.0,9,     -999.0,9,     2.0744,2,     -999.0,     -999.0,9,     -999.0
320620170820,        P06,     187,          1,          5,          5,2,20170910,       1730,   -32.5001,  -113.0855,       2485,  1855.2,   2.1955,  34.6263,2,  34.6307,2, 157.6431,2, 157.9954,2,   104.0,2,   35.16,2,    0.00,2,    2.42,2,   0.045,2,   0.029,2,   0.0000,2,  -999.0,9,  -999.0,9,-999.0000,9,  -999.00, -999.00,9, -999.00,9, -999.00,  -999.0,9, -999.00,9,     -999.0,9,  -999.0,9, 20170910,     1745, -32.4999,-113.0857,        0.0,1,      0.061,1,      4.692,1,      0.129,1,     -999.0,9,     -999.0,9,     -999.0,9,     -999.0,9,     -999.0,9,     -999.0,9,     -999.0,9,     -999.0,9,     -999.0,9,     -999.0,9,     -999.0,9,     2.1875,2,     -999.0,     -999.0,9,     -999.0
320620170820,        P06,     187,          1,          6,          6,2,20170910,       1730,   -32.5001,  -113.0855,       2485,  1753.3,   2.3051,  34.6103,2,  34.6158,2, 158.7419,2,  159.016,2,    98.3,2,   35.09,2,    0.00,2,    2.40,2,   0.053,2,   0.034,2,   0.0000,2,  2281.2,2,  2363.1,2,   7.5668,6,    25.00, -999.00,9, -999.00,9, -999.00,  -999.0,9, -999.00,9,     -999.0,9,  -999.0,9, 20170910,     1748, -32.4999,-113.0857,        0.0,1,      0.061,1,      4.692,1,      0.127,1,     -999.0,9,     -999.0,9,     -999.0,9,     -999.0,9,     -999.0,9,     -999.0,9,     -999.0,9,     -999.0,9,     -999.0,9,     -999.0,9,     -999.0,9,     2.2913,2,     -999.0,     -999.0,9,     -999.0
320620170820,        P06,     187,          1,          7,          7,2,20170910,       1730,   -32.5001,  -113.0855,       2485,  1652.5,   2.4557,  34.5858,2,  34.5930,2, 160.7724,2, 160.6278,2,    89.4,2,   35.01,2,    0.00,2,    2.39,2,   0.079,2,   0.051,2,   0.0000,2,  -999.0,9,  -999.0,9,-999.0000,9,  -999.00, -999.00,9, -999.00,9, -999.00,  -999.0,9, -999.00,9,     -999.0,9,  -999.0,9, 20170910,     1750, -32.4999,-113.0856,        0.0,1,      0.060,1,      4.692,1,      0.130,1,     -999.0,9,     -999.0,9,     -999.0,9,     -999.0,9,     -999.0,9,     -999.0,9,     -999.0,9,     -999.0,9,     -999.0,9,     -999.0,9,     -999.0,9,     2.4381,2,     -999.0,     -999.0,9,     -999.0
320620170820,        P06,     187,          1,          8,          8,2,20170910,       1730,   -32.5001,  -113.0855,       2485,  1550.8,   2.5894,  34.5600,2,  34.5645,2, 161.7349,2, 161.7685,2,    82.2,2,   35.10,2,    0.00,2,    2.41,2,   0.120,2,   0.075,2,   0.0000,2,  2267.3,2,  2347.4,2,   7.5573,2,    25.00, -999.00,9, -999.00,9, -999.00,  -999.0,9, -999.00,9,     -999.0,9,  -999.0,9, 20170910,     1753, -32.4999,-113.0856,        0.0,1,      0.061,1,      4.692,1,      0.128,1,     -999.0,9,     -999.0,9,     -999.0,9,     -999.0,9,     -999.0,9,     -999.0,9,     -999.0,9,     -999.0,9,     -999.0,9,     -999.0,9,     -999.0,9,     2.5833,2,     -999.0,     -999.0,9,     -999.0
320620170820,        P06,     187,          1,          9,          9,2,20170910,       1730,   -32.5001,  -113.0855,       2485,  1450.1,   2.8076,  34.5179,2,  34.5260,2, 161.8338,2, 161.4415,2,    75.1,2,   35.30,2,    0.00,2,    2.40,2,   0.164,2,   0.101,2,   0.0000,2,  2259.8,2,  2339.2,2,   7.5546,2,    25.00, -999.00,9, -999.00,9, -999.00,  -999.0,9, -999.00,9,     -999.0,9,  -999.0,9, 20170910,     1756, -32.4999,-113.0857,        0.0,1,      0.061,1,      4.692,1,      0.129,1,     -999.0,9,     -999.0,9,     -999.0,9,     -999.0,9,     -999.0,9,     -999.0,9,     -999.0,9,     -999.0,9,     -999.0,9,     -999.0,9,     -999.0,9,     2.7718,2,     -999.0,     -999.0,9,     -999.0
320620170820,        P06,     187,          1,         10,         10,2,20170910,       1730,   -32.5001,  -113.0855,       2485,  1246.4,   3.2877,  34.4374,2,  34.4414,2, 162.1926,2, 161.9972,2,    60.4,2,   35.41,2,    0.00,2,    2.42,2,   0.255,2,   0.142,2,   0.0000,2,  -999.0,9,  -999.0,9,-999.0000,9,  -999.00, -999.00,9, -999.00,9, -999.00,  -999.0,9, -999.00,9,     -999.0,9,  -999.0,9, 20170910,     1800, -32.4998,-113.0858,        0.0,1,      0.061,1,      4.692,1,      0.129,1,     -999.0,9,     -999.0,9,     -999.0,9,     -999.0,9,     -999.0,9,     -999.0,9,     -999.0,9,     -999.0,9,     -999.0,9,     -999.0,9,     -999.0,9,     3.2811,2,     -999.0,     -999.0,9,     -999.0
320620170820,        P06,     187,          1,         11,         11,2,20170910,       1730,   -32.5001,  -113.0855,       2485,  1044.0,   4.0388,  34.3321,2,  34.3301,2, 187.4101,2, 187.9916,2,    35.8,2,   32.95,2,    0.00,2,    2.23,2,   0.679,2,   0.358,2,   0.0570,2,  2207.3,2,  2297.2,2,   7.5924,2,    25.00, -999.00,9, -999.00,9, -999.00,  -999.0,9, -999.00,9,     -999.0,9,  -999.0,9, 20170910,     1805, -32.4997,-113.0858,        0.0,1,      0.061,1,      4.692,1,      0.130,1,     -999.0,9,     -999.0,9,     -999.0,9,     -999.0,9,     -999.0,9,     -999.0,9,     -999.0,9,     -999.0,9,     -999.0,9,     -999.0,9,     -999.0,9,     4.0806,2,     -999.0,     -999.0,9,     -999.0
320620170820,        P06,     187,          1,         12,         12,2,20170910,       1730,   -32.5001,  -113.0855,       2485,   943.1,   4.5314,  34.2933,2,  34.2950,2, 205.8104,2, 205.0808,2,    25.8,2,   30.83,2,    0.00,2,    2.06,2,   1.243,6,   0.637,6,   0.1735,6,  -999.0,9,  -999.0,9,-999.0000,9,  -999.00, -999.00,9, -999.00,9, -999.00,  -999.0,9, -999.00,9,     -999.0,9,  -999.0,9, 20170910,     1807, -32.4997,-113.0859,        0.0,1,      0.060,1,      4.692,1,      0.129,1,     -999.0,9,     -999.0,9,     -999.0,9,     -999.0,9,     -999.0,9,     -999.0,9,     -999.0,9,     -999.0,9,     -999.0,9,     -999.0,9,     -999.0,9,     4.5712,2,     -999.0,     -999.0,9,     -999.0
320620170820,        P06,     187,          1,         13,         13,2,20170910,       1730,   -32.5001,  -113.0855,       2485,   841.6,   5.1082,  34.2722,2,  34.2742,2, 224.9286,2, 224.7101,2,    16.5,2,   28.05,2,    0.00,2,    1.86,2,   2.124,2,   1.106,2,   0.3760,2,  2169.9,2,  2280.1,2,   7.6592,2,    25.00, -999.00,9, -999.00,9, -999.00,  -999.0,9, -999.00,9,     -999.0,9,  -999.0,9, 20170910,     1810, -32.4997,-113.0858,        0.0,1,      0.059,1,      4.692,1,      0.130,1,     -999.0,9,     -999.0,9,     -999.0,9,     -999.0,9,     -999.0,9,     -999.0,9,     -999.0,9,     -999.0,9,     -999.0,9,     -999.0,9,     -999.0,9,     5.1544,2,     -999.0,     -999.0,9,     -999.0
320620170820,        P06,     187,          1,         14,         14,2,20170910,       1730,   -32.5001,  -113.0855,       2485,   740.6,   5.5927,  34.2725,2,  34.2760,2, 238.6358,2, 239.1295,2,    11.1,2,   25.75,2,    0.00,2,    1.71,2,   2.907,2,   1.501,2,   0.5120,2,  2155.5,2,  -999.0,9,   7.6820,2,    25.00, -999.00,9, -999.00,9, -999.00,  -999.0,9, -999.00,9,     -999.0,9,  -999.0,9, 20170910,     1813, -32.4997,-113.0859,        0.0,1,      0.058,1,      4.692,1,      0.131,1,     -999.0,9,     -999.0,9,     -999.0,9,     -999.0,9,     -999.0,9,     -999.0,9,     -999.0,9,     -999.0,9,     -999.0,9,     -999.0,9,     -999.0,9,     5.6301,2,     -999.0,     -999.0,9,     -999.0
320620170820,        P06,     187,          1,         15,         15,2,20170910,       1730,   -32.5001,  -113.0855,       2485,   638.0,   6.0443,  34.2906,2,  34.2917,2, 241.0412,2, 242.3435,2,     8.9,2,   24.53,2,    0.00,2,    1.63,2,   3.273,2,   1.720,2,   0.7910,2,  2152.4,2,  2277.8,2,   7.6916,2,    25.00, -999.00,9, -999.00,9, -999.00,  -999.0,9, -999.00,9,     -999.0,9,  -999.0,9, 20170910,     1815, -32.4997,-113.0858,        0.0,1,      0.059,1,      4.691,1,      0.130,1,     -999.0,9,     -999.0,9,     -999.0,9,     -999.0,9,     -999.0,9,     -999.0,9,     -999.0,9,     -999.0,9,     -999.0,9,     -999.0,9,     -999.0,9,     6.0293,2,     -999.0,     -999.0,9,     -999.0
320620170820,        P06,     187,          1,         16,         16,2,20170910,       1730,   -32.5001,  -113.0855,       2485,   537.9,   6.6515,  34.3190,2,  34.3203,2, 241.0008,2, 239.6543,2,     6.9,2,   23.23,2,    0.00,2,    1.54,2,   3.511,2,   1.908,2,   1.0520,2,  2148.6,2,  2275.1,2,   7.6924,2,    25.00, -999.00,9, -999.00,9, -999.00,  -999.0,9, -999.00,9,     -999.0,9,  -999.0,9, 20170910,     1818, -32.4997,-113.0858,        0.0,1,      0.060,1,      4.690,1,      0.133,1,     -999.0,9,     -999.0,9,     -999.0,9,     -999.0,9,     -999.0,9,     -999.0,9,     -999.0,9,     -999.0,9,     -999.0,9,     -999.0,9,     -999.0,9,     6.6307,2,     -999.0,     -999.0,9,     -999.0
320620170820,        P06,     187,          1,         17,         17,2,20170910,       1730,   -32.5001,  -113.0855,       2485,   467.7,   7.1898,  34.3237,2,  34.3256,2, 243.6282,2, 243.1579,2,     5.3,2,   21.66,2,    0.00,2,    1.44,2,   3.578,2,   2.007,2,   1.2890,2,  2141.4,2,  2275.4,2,   7.7046,2,    25.00, -999.00,9, -999.00,9, -999.00,  -999.0,9, -999.00,9,     -999.0,9,  -999.0,9, 20170910,     1820, -32.4998,-113.0858,        0.0,1,      0.060,1,      4.689,1,      0.133,1,     -999.0,9,     -999.0,9,     -999.0,9,     -999.0,9,     -999.0,9,     -999.0,9,     -999.0,9,     -999.0,9,     -999.0,9,     -999.0,9,     -999.0,9,     7.1335,2,     -999.0,     -999.0,9,     -999.0
320620170820,        P06,     187,          1,         18,         18,2,20170910,       1730,   -32.5001,  -113.0855,       2485,   417.0,   7.8393,  34.3275,2,  34.3219,3, 237.4946,2,  237.938,2,     4.4,2,   20.68,2,    0.00,2,    1.39,2,   3.522,2,   1.949,2,   1.4450,2,  2141.6,2,  2272.3,2,   7.7053,2,    25.00, -999.00,9, -999.00,9, -999.00,  -999.0,9, -999.00,9,     -999.0,9,  -999.0,9, 20170910,     1822, -32.4998,-113.0858,        0.0,1,      0.060,1,      4.688,1,      0.132,1,     -999.0,9,     -999.0,9,     -999.0,9,     -999.0,9,     -999.0,9,     -999.0,9,     -999.0,9,     -999.0,9,     -999.0,9,     -999.0,9,     -999.0,9,     7.6804,2,     -999.0,     -999.0,9,     -999.0
320620170820,        P06,     187,          1,         19,         19,2,20170910,       1730,   -32.5001,  -113.0855,       2485,   315.4,   9.8999,  34.4304,2,  34.4184,2, 224.1843,2, 223.7523,2,     2.4,2,   16.06,2,    0.00,2,    1.10,2,   3.212,2,   1.819,2,   1.2130,2,  2127.8,2,  2273.8,2,   7.7496,2,    25.00, -999.00,9, -999.00,9, -999.00,  -999.0,9, -999.00,9,     -999.0,9,  -999.0,9, 20170910,     1825, -32.4999,-113.0857,        0.0,1,      0.058,1,      4.686,1,      0.132,1,     -999.0,9,     -999.0,9,     -999.0,9,     -999.0,9,     -999.0,9,     -999.0,9,     -999.0,9,     -999.0,9,     -999.0,9,     -999.0,9,     -999.0,9,     9.6078,2,     -999.0,     -999.0,9,     -999.0
320620170820,        P06,     187,          1,         20,         20,2,20170910,       1730,   -32.5001,  -113.0855,       2485,   267.1,  11.3406,  34.5334,2,  34.5221,2, 218.1858,2, 217.8053,2,     1.4,2,   12.30,2,    0.00,2,    0.88,2,   2.958,2,   1.732,2,   1.4320,2,  2113.9,2,  2275.9,2,   7.7857,2,    25.00, -999.00,9, -999.00,9, -999.00,  -999.0,9, -999.00,9,     -999.0,9,  -999.0,9, 20170910,     1827, -32.5000,-113.0856,        0.0,1,      0.060,1,      4.684,1,      0.134,1,     -999.0,9,     -999.0,9,     -999.0,9,     -999.0,9,     -999.0,9,     -999.0,9,     -999.0,9,     -999.0,9,     -999.0,9,     -999.0,9,     -999.0,9,    11.2542,2,     -999.0,     -999.0,9,     -999.0
320620170820,        P06,     187,          1,         21,         21,2,20170910,       1730,   -32.5001,  -113.0855,       2485,   235.8,  12.2693,  34.6101,2,  34.6034,3, 217.8541,2, 218.2608,2,     0.9,2,    9.74,2,    0.00,2,    0.70,2,   2.819,2,   1.670,2,   1.4590,2,  2103.6,2,  2280.5,2,   7.8120,6,    25.00, -999.00,9, -999.00,9, -999.00,  -999.0,9, -999.00,9,     -999.0,9,  -999.0,9, 20170910,     1828, -32.5001,-113.0856,        0.0,1,      0.063,1,      4.681,1,      0.133,1,     -999.0,9,     -999.0,9,     -999.0,9,     -999.0,9,     -999.0,9,     -999.0,9,     -999.0,9,     -999.0,9,     -999.0,9,     -999.0,9,     -999.0,9,    12.2110,2,     -999.0,     -999.0,9,     -999.0
320620170820,        P06,     187,          1,         22,         22,2,20170910,       1730,   -32.5001,  -113.0855,       2485,   210.9,  13.0570,  34.6795,2,  34.6751,3, 216.8136,2, 217.9607,2,     0.6,2,    7.77,2,    0.00,2,    0.59,2,   2.743,2,   1.610,2,   1.3590,2,  2096.5,2,  2284.1,2,   7.8338,2,    25.00, -999.00,9, -999.00,9, -999.00,  -999.0,9, -999.00,9,     -999.0,9,  -999.0,9, 20170910,     1830, -32.5001,-113.0855,        0.0,1,      0.065,1,      4.680,1,      0.135,1,     -999.0,9,     -999.0,9,     -999.0,1,     -999.0,1,     -999.0,1,     -999.0,1,     -999.0,1,     -999.0,9,     -999.0,9,     -999.0,9,     -999.0,9,    13.0261,2,     -999.0,     -999.0,9,     -999.0
320620170820,        P06,     187,          1,         23,         23,2,20170910,       1730,   -32.5001,  -113.0855,       2485,   185.2,  13.7233,  34.6889,2,  34.6897,2, 227.4716,2,  227.961,2,     0.1,2,    4.45,2,    0.06,2,    0.40,2,   2.594,2,   1.552,2,   1.5590,2,  2080.8,2,  2284.2,6,   7.8678,2,    25.00, -999.00,9, -999.00,9, -999.00,  -999.0,9, -999.00,9,     -999.0,9,  -999.0,9, 20170910,     1831, -32.5001,-113.0855,        0.0,1,      0.082,1,      4.674,1,      0.137,1,     -999.0,9,     -999.0,9,     -999.0,9,     -999.0,9,     -999.0,9,     -999.0,9,     -999.0,9,     -999.0,9,     -999.0,9,     -999.0,9,     -999.0,9,    13.8292,2,     -999.0,     -999.0,9,     -999.0
320620170820,        P06,     187,          1,         24,         24,2,20170910,       1730,   -32.5001,  -113.0855,       2485,   160.1,  14.2446,  34.6919,2,  34.7038,2, 238.6122,2, 237.5341,2,     0.0,2,    1.74,2,    0.45,2,    0.26,2,   2.504,2,   1.520,2,   1.6900,2,  2070.4,2,  2285.4,2,   7.8937,2,    25.00, -999.00,9, -999.00,9, -999.00,  -999.0,9, -999.00,9,     -999.0,9,  -999.0,9, 20170910,     1833, -32.5001,-113.0855,        0.0,1,      0.111,1,      4.668,1,      0.144,1,     -999.0,9,     -999.0,9,     -999.0,1,     -999.0,1,     -999.0,1,     -999.0,1,     -999.0,1,     -999.0,9,     -999.0,9,     -999.0,9,     -999.0,9,    14.5856,2,     -999.0,     -999.0,9,     -999.0
320620170820,        P06,     187,          1,         27,         27,2,20170910,       1730,   -32.5001,  -113.0855,       2485,   125.5,  15.9558,  34.8364,2,-999.0000,9, 238.8695,2,-999.0000,9,  -999.0,9, -999.00,9, -999.00,9, -999.00,9,-999.000,9,-999.000,9,-999.0000,9,  -999.0,9,  -999.0,9,-999.0000,9,  -999.00, -999.00,9, -999.00,9, -999.00,  -999.0,9, -999.00,9,     -999.0,9,  -999.0,9, 20170910,     1836, -32.5001,-113.0855,        0.0,1,      0.203,1,      4.636,1,      0.175,1,     -999.0,9,     -999.0,9,     -999.0,9,     -999.0,9,     -999.0,9,     -999.0,9,     -999.0,9,     -999.0,1,     -999.0,1,     -999.0,1,65.90163044,6,    15.5667,2,2.126649697,56.91502827,6,7.338970052
320620170820,        P06,     187,          1,         26,         26,2,20170910,       1730,   -32.5001,  -113.0855,       2485,   125.3,  15.9558,  34.8364,2,-999.0000,9, 239.3251,2,-999.0000,9,  -999.0,9, -999.00,9, -999.00,9, -999.00,9,-999.000,9,-999.000,9,-999.0000,9,  -999.0,9,  -999.0,9,-999.0000,9,  -999.00, -999.00,9, -999.00,9, -999.00,  -999.0,9, -999.00,9,     -999.0,9,  -999.0,9, 20170910,     1835, -32.5001,-113.0855,        0.0,1,      0.203,1,      4.636,1,      0.175,1,     -999.0,9,     -999.0,9,     -999.0,9,     -999.0,9,     -999.0,9,     -999.0,9,     -999.0,9,     -999.0,1,     -999.0,1,     -999.0,1,65.90163044,6,     -999.0,5,2.126649697,56.91502827,6,7.338970052