BOTTLE,20240211CCHSIOCBG
EXPOCODE,SECT_ID,STNNBR,CASTNO,SAMPNO,BTLNBR,BTLNBR_FLAG_W,DATE,TIME,LATITUDE,LONGITUDE,DEPTH,CTDPRS,CTDTMP,CTDSAL,CTDSAL_FLAG_W,SALNTY,SALNTY_FLAG_W,CTDOXY,CTDOXY_FLAG_W,OXYGEN,OXYGEN_FLAG_W,SILCAT,SILCAT_FLAG_W,NITRAT,NITRAT_FLAG_W,NITRIT,NITRIT_FLAG_W,PHSPHT,PHSPHT_FLAG_W,CFC-11,CFC-11_FLAG_W,CFC-12,CFC-12_FLAG_W,SF6,SF6_FLAG_W,TCARBN,TCARBN_FLAG_W,ALKALI,ALKALI_FLAG_W,PH_TOT,PH_TOT_FLAG_W,PH_TMP,DELC13,DELC13_FLAG_W,DELC14,DELC14_FLAG_W,C14ERR,DOC,DOC_FLAG_W,TDN,TDN_FLAG_W,TON,TON_FLAG_W,D15N_NO3,D15N_NO3_FLAG_W,BTL_DATE,BTL_TIME,BTL_LAT,BTL_LON,CTDRINKO,CTDRINKO_FLAG_W,CTDFLUOR,CTDFLUOR_FLAG_W,CTDXMISS,CTDXMISS_FLAG_W,CTDBACKSCATTER,CTDBACKSCATTER_FLAG_W,D18O_NO3,D18O_NO3_FLAG_W,DOP,DOP_FLAG_W,CELLCOUNT,CELLCOUNT_FLAG_W,TDP,TDP_FLAG_W,POP,POP_FLAG_W,DATP,DATP_FLAG_W,PATP,PATP_FLAG_W,HPLC,HPLC_FLAG_W,POC,POC_FLAG_W,BEAMAP,BEAMAP_FLAG_W,DOC_NASA,DOC_NASA_FLAG_W,REFTMP,REFTMP_FLAG_W,DOC_NASA_ERROR,TDN_NASA,TDN_NASA_FLAG_W,TDN_NASA_ERROR
,,,,,,,,,,,METERS,DBAR,ITS-90,PSS-78,,PSS-78,,UMOL/KG,,UMOL/KG,,UMOL/KG,,UMOL/KG,,UMOL/KG,,UMOL/KG,,PMOL/KG,,PMOL/KG,,FMOL/KG,,UMOL/KG,,UMOL/KG,,,,DEG C,/MILLE,,/MILLE,,/MILLE,UMOL/KG,,UMOL/KG,,UMOL/KG,,/MILLE,,,,,,VOLTS,,VOLTS,,VOLTS,,VOLTS,,/MILLE,,UMOL/KG,,/LITER,,UMOL/KG,,UMOL/L,,PMOL/L,,PMOL/L,,,,UG/L,,/METER,,UMOL/L,,ITS-90,,UMOL/L,UMOL/L,,UMOL/L
320620170820,        P06,     180,          1,         27,         27,2,20170908,       1206,   -32.5001,  -118.8953,       3492,   301.7,   9.7344,  34.4372,2,  34.4218,2, 223.6874,2, 224.0462,2,     2.6,2,   16.22,2,    0.00,2,    1.11,2,   3.358,2,   1.840,2,   1.4100,2,  2126.4,2,  2275.5,2,   7.7478,2,    25.00, -999.00,9, -999.00,9, -999.00,    48.9,2, -999.00,9,     -999.0,1,  -999.0,9, 20170908,     1328, -32.4999,-118.8957,        0.0,1,      0.057,1,      4.687,1,      0.132,1,     -999.0,9,     -999.0,9,     -999.0,9,     -999.0,9,     -999.0,9,     -999.0,9,     -999.0,9,     -999.0,9,     -999.0,9,     -999.0,9,     -999.0,9,     9.5780,2,     -999.0,     -999.0,9,     -999.0
320620170820,        P06,     180,          1,         28,         28,2,20170908,       1206,   -32.5001,  -118.8953,       3492,   251.6,  11.2295,  34.5326,2,  34.5317,2,  222.953,2, 222.0581,2,     1.4,2,   11.76,2,    0.00,2,    0.83,2,   3.077,6,   1.726,6,   1.4565,6,  2111.3,2,  2279.0,2,   7.7909,2,    25.00, -999.00,9, -999.00,9, -999.00,    54.9,3,   14.40,2,     -999.0,1,  -999.0,9, 20170908,     1330, -32.4999,-118.8956,        0.0,1,      0.061,1,      4.684,1,      0.131,1,     -999.0,9,     -999.0,9,     -999.0,9,     -999.0,9,     -999.0,9,     -999.0,9,     -999.0,9,     -999.0,9,     -999.0,9,     -999.0,9,     -999.0,9,    11.2589,2,     -999.0,     -999.0,9,     -999.0
320620170820,        P06,     180,          1,         29,         29,2,20170908,       1206,   -32.5001,  -118.8953,       3492,   200.4,  13.0655,  34.6725,2,  34.6637,2, 221.7822,2, 221.0392,2,     0.6,2,    7.36,2,    0.02,2,    0.58,2,   2.813,2,   1.622,2,   1.5930,2,  2095.5,2,  2284.2,2,   7.8370,2,    25.00, -999.00,9, -999.00,9, -999.00,    49.1,2,   10.50,2,     -999.0,1,  -999.0,9, 20170908,     1332, -32.5000,-118.8955,        0.0,1,      0.066,1,      4.680,1,      0.132,1,     -999.0,9,     -999.0,9,     -999.0,9,     -999.0,9,     -999.0,9,     -999.0,9,     -999.0,9,     -999.0,9,     -999.0,9,     -999.0,9,     -999.0,9,    13.1061,2,     -999.0,     -999.0,9,     -999.0
320620170820,        P06,     180,          1,         30,         30,2,20170908,       1206,   -32.5001,  -118.8953,       3492,   151.6,  14.1384,  34.7064,2,  34.7085,2, 233.0271,2, 234.8038,2,     0.1,2,    2.43,2,    0.32,2,    0.29,2,   2.592,2,   1.533,2,   1.7290,2,  2071.8,2,  2285.3,2,   7.8883,2,    25.00, -999.00,9, -999.00,9, -999.00,    61.2,2,    6.00,2,     -999.0,1,  -999.0,9, 20170908,     1334, -32.5000,-118.8955,        0.0,1,      0.122,1,      4.666,1,      0.146,1,     -999.0,9,     -999.0,9,     -999.0,9,     -999.0,9,     -999.0,9,     -999.0,9,     -999.0,9,     -999.0,9,     -999.0,9,     -999.0,9,     -999.0,9,    14.4183,2,     -999.0,     -999.0,9,     -999.0
320620170820,        P06,     180,          1,         31,         31,2,20170908,       1206,   -32.5001,  -118.8953,       3492,   126.7,  14.7771,  34.7353,2,  34.7046,2, 243.5098,2, 243.9869,2,     0.0,2,    0.53,2,    0.11,2,    0.16,2,   2.396,2,   1.460,2,   1.8110,2,  2053.1,2,  2285.3,2,   7.9253,2,    25.00, -999.00,9, -999.00,9, -999.00,    58.1,2,    4.70,2,     -999.0,1,  -999.0,9, 20170908,     1335, -32.5000,-118.8954,        0.0,1,      0.171,1,      4.653,1,      0.156,1,     -999.0,9,     -999.0,9,     -999.0,9,     -999.0,9,     -999.0,9,     -999.0,9,     -999.0,9,     -999.0,9,     -999.0,9,     -999.0,9,     -999.0,9,    15.4314,2,     -999.0,     -999.0,9,     -999.0
320620170820,        P06,     180,          1,         32,         32,2,20170908,       1206,   -32.5001,  -118.8953,       3492,   102.2,  15.6303,  34.7021,2,  34.7537,2, 245.2344,2, 246.8389,2,     0.0,2,    0.00,2,    0.02,2,    0.10,2,   2.370,2,   1.412,2,   1.8830,2,  2045.7,2,  2287.5,2,   7.9436,2,    25.00, -999.00,9, -999.00,9, -999.00,    62.7,2,    4.40,2,     -999.0,1,  -999.0,9, 20170908,     1337, -32.5000,-118.8955,        0.0,1,      0.222,1,      4.620,1,      0.198,1,     -999.0,9,     -999.0,9,     -999.0,9,     -999.0,9,     -999.0,9,     -999.0,9,     -999.0,9,     -999.0,9,     -999.0,9,     -999.0,9,     -999.0,9,    15.9618,2,     -999.0,     -999.0,9,     -999.0
320620170820,        P06,     180,          1,         33,         33,2,20170908,       1206,   -32.5001,  -118.8953,       3492,    75.8,  16.4284,  34.8370,2,  34.8617,2, 243.1638,2, 243.6851,2,     0.0,2,    0.00,2,    0.00,2,    0.08,2,   2.304,2,   1.341,2,   1.5790,2,  2044.3,2,  2293.0,6,   7.9539,2,    25.00, -999.00,9, -999.00,9, -999.00,    61.5,2,    4.00,2,     -999.0,1,  -999.0,9, 20170908,     1338, -32.5001,-118.8954,        0.0,1,      0.102,1,      4.631,1,      0.186,1,     -999.0,9,     -999.0,9,     -999.0,9,     -999.0,9,     -999.0,9,     -999.0,9,     -999.0,9,     -999.0,9,     -999.0,9,     -999.0,9,     -999.0,9,    16.6800,2,     -999.0,     -999.0,9,     -999.0
320620170820,        P06,     180,          1,         34,         34,2,20170908,       1206,   -32.5001,  -118.8953,       3492,    49.8,  18.0966,  35.1291,2,  35.1327,2, 237.0834,2, 235.6902,2,     0.0,2,    0.00,2,    0.00,2,    0.08,2,   2.163,2,   1.254,2,   1.6560,2,  2043.8,2,  2308.2,2,   7.9763,6,    25.00, -999.00,9, -999.00,9, -999.00,    65.0,2,    3.90,2,     -999.0,1,  -999.0,9, 20170908,     1340, -32.5001,-118.8953,        0.0,1,      0.071,1,      4.655,1,      0.153,1,     -999.0,9,     -999.0,9,     -999.0,9,     -999.0,9,     -999.0,9,     -999.0,9,     -999.0,9,     -999.0,9,     -999.0,9,     -999.0,9,     -999.0,9,    18.1344,2,     -999.0,     -999.0,9,     -999.0
320620170820,        P06,     180,          1,         35,         35,2,20170908,       1206,   -32.5001,  -118.8953,       3492,    24.3,  18.3874,  35.1024,2,  35.1030,2, 237.0544,2, 235.5417,2,     0.0,2,    0.00,2,    0.00,2,    0.08,2,   2.176,2,   1.246,2,   1.5840,2,  2045.7,2,  2307.0,2,   7.9753,2,    25.00, -999.00,9, -999.00,9, -999.00,    68.0,2,    3.90,2,     -999.0,1,  -999.0,9, 20170908,     1342, -32.5001,-118.8953,        0.0,1,      0.067,1,      4.659,1,      0.145,1,     -999.0,9,     -999.0,9,     -999.0,9,     -999.0,9,     -999.0,9,     -999.0,9,     -999.0,9,     -999.0,9,     -999.0,9,     -999.0,9,     -999.0,9,    18.3582,2,     -999.0,     -999.0,9,     -999.0
320620170820,        P06,     180,          1,         36,         36,2,20170908,       1206,   -32.5001,  -118.8953,       3492,    10.2,  18.3762,  35.1024,2,  35.1020,2, 237.1786,2, 235.6086,2,     0.0,2,    0.00,2,    0.00,2,    0.08,2,   2.087,2,   1.272,2,   1.6770,2,  2044.6,6,  2308.0,2,   7.9759,2,    25.00,    0.82,2,   51.41,2,    4.34,    64.4,2,    3.90,2,     -999.0,1,  -999.0,9, 20170908,     1343, -32.5001,-118.8953,        0.0,1,      0.066,1,      4.659,1,      0.146,1,     -999.0,9,     -999.0,9,     -999.0,9,     -999.0,9,     -999.0,9,     -999.0,9,     -999.0,9,     -999.0,9,     -999.0,9,     -999.0,9,     -999.0,9,    18.3773,2,     -999.0,     -999.0,9,     -999.0