BOTTLE,20240211CCHSIOCBG
EXPOCODE,SECT_ID,STNNBR,CASTNO,SAMPNO,BTLNBR,BTLNBR_FLAG_W,DATE,TIME,LATITUDE,LONGITUDE,DEPTH,CTDPRS,CTDTMP,CTDSAL,CTDSAL_FLAG_W,SALNTY,SALNTY_FLAG_W,CTDOXY,CTDOXY_FLAG_W,OXYGEN,OXYGEN_FLAG_W,SILCAT,SILCAT_FLAG_W,NITRAT,NITRAT_FLAG_W,NITRIT,NITRIT_FLAG_W,PHSPHT,PHSPHT_FLAG_W,CFC-11,CFC-11_FLAG_W,CFC-12,CFC-12_FLAG_W,SF6,SF6_FLAG_W,TCARBN,TCARBN_FLAG_W,ALKALI,ALKALI_FLAG_W,PH_TOT,PH_TOT_FLAG_W,PH_TMP,DELC13,DELC13_FLAG_W,DELC14,DELC14_FLAG_W,C14ERR,DOC,DOC_FLAG_W,TDN,TDN_FLAG_W,TON,TON_FLAG_W,D15N_NO3,D15N_NO3_FLAG_W,BTL_DATE,BTL_TIME,BTL_LAT,BTL_LON,CTDRINKO,CTDRINKO_FLAG_W,CTDFLUOR,CTDFLUOR_FLAG_W,CTDXMISS,CTDXMISS_FLAG_W,CTDBACKSCATTER,CTDBACKSCATTER_FLAG_W,D18O_NO3,D18O_NO3_FLAG_W,DOP,DOP_FLAG_W,CELLCOUNT,CELLCOUNT_FLAG_W,TDP,TDP_FLAG_W,POP,POP_FLAG_W,DATP,DATP_FLAG_W,PATP,PATP_FLAG_W,HPLC,HPLC_FLAG_W,POC,POC_FLAG_W,BEAMAP,BEAMAP_FLAG_W,DOC_NASA,DOC_NASA_FLAG_W,REFTMP,REFTMP_FLAG_W,DOC_NASA_ERROR,TDN_NASA,TDN_NASA_FLAG_W,TDN_NASA_ERROR
,,,,,,,,,,,METERS,DBAR,ITS-90,PSS-78,,PSS-78,,UMOL/KG,,UMOL/KG,,UMOL/KG,,UMOL/KG,,UMOL/KG,,UMOL/KG,,PMOL/KG,,PMOL/KG,,FMOL/KG,,UMOL/KG,,UMOL/KG,,,,DEG C,/MILLE,,/MILLE,,/MILLE,UMOL/KG,,UMOL/KG,,UMOL/KG,,/MILLE,,,,,,VOLTS,,VOLTS,,VOLTS,,VOLTS,,/MILLE,,UMOL/KG,,/LITER,,UMOL/KG,,UMOL/L,,PMOL/L,,PMOL/L,,,,UG/L,,/METER,,UMOL/L,,ITS-90,,UMOL/L,UMOL/L,,UMOL/L
320620170820,        P06,     214,          1,         27,         27,2,20170918,       2307,   -32.5002,   -92.6548,       4676,   367.3,   7.3658,  34.2712,2,  34.2695,3, 200.0403,2, 200.8912,2,     7.9,2,   24.21,2,    0.00,2,    1.78,2,   3.524,2,   1.855,2,   0.9140,2,  2168.0,2,  2270.6,2,   7.6313,6,    25.00, -999.00,9, -999.00,9, -999.00,  -999.0,9, -999.00,9,     -999.0,9,  -999.0,9, 20170919,       51, -32.5000, -92.6554,        0.0,1,      0.060,1,      4.681,1,      0.136,1,     -999.0,9,     -999.0,9,     -999.0,9,     -999.0,9,     -999.0,9,     -999.0,9,     -999.0,9,     -999.0,9,     -999.0,9,     -999.0,9,     -999.0,9,     7.3648,2,     -999.0,     -999.0,9,     -999.0
320620170820,        P06,     214,          1,         28,         28,2,20170918,       2307,   -32.5002,   -92.6548,       4676,   318.7,   8.2079,  34.2282,2,  34.2219,2, 206.2247,2, 205.4088,2,     5.2,2,   21.08,2,    0.00,2,    1.59,2,-999.000,5,-999.000,5,-999.0000,5,  2151.2,2,  2266.4,2,   7.6621,2,    25.00, -999.00,9, -999.00,9, -999.00,    42.7,2,   23.30,2,     -999.0,1,  -999.0,9, 20170919,       53, -32.5001, -92.6552,        0.0,1,      0.060,1,      4.680,1,      0.135,1,     -999.0,9,     -999.0,9,     -999.0,9,     -999.0,9,     -999.0,9,     -999.0,9,     -999.0,9,     -999.0,9,     -999.0,9,     -999.0,9,     -999.0,9,     8.4498,2,     -999.0,     -999.0,9,     -999.0
320620170820,        P06,     214,          1,         29,         29,2,20170918,       2307,   -32.5002,   -92.6548,       4676,   265.8,   9.6848,  34.2018,2,  34.1991,2, 217.3611,2, 215.5792,2,     1.9,2,   16.39,2,    0.00,2,    1.25,2,   3.328,2,   1.838,2,   1.3130,2,  2125.4,2,  2260.7,2,   7.7266,2,    25.00, -999.00,9, -999.00,9, -999.00,    46.5,3,   19.90,2,     -999.0,1,  -999.0,9, 20170919,       55, -32.5002, -92.6550,        0.0,1,      0.061,1,      4.677,1,      0.137,1,     -999.0,9,     -999.0,9,     -999.0,9,     -999.0,9,     -999.0,9,     -999.0,9,     -999.0,9,     -999.0,9,     -999.0,9,     -999.0,9,     -999.0,9,    10.0707,2,     -999.0,     -999.0,9,     -999.0
320620170820,        P06,     214,          1,         30,         30,2,20170918,       2307,   -32.5002,   -92.6548,       4676,   217.2,  11.8141,  34.2848,2,  34.3080,2, 217.4797,2, 215.5786,2,     0.6,2,   10.42,2,    0.02,2,    0.88,2,   3.004,2,   1.710,2,   1.4110,2,  2100.7,2,  2267.3,2,   7.7941,2,    25.00, -999.00,9, -999.00,9, -999.00,    45.1,2,   14.20,2,     -999.0,1,  -999.0,9, 20170919,       57, -32.5002, -92.6549,        0.0,1,      0.065,1,      4.673,1,      0.140,1,     -999.0,9,     -999.0,9,     -999.0,9,     -999.0,9,     -999.0,9,     -999.0,9,     -999.0,9,     -999.0,9,     -999.0,9,     -999.0,9,     -999.0,9,    12.2687,2,     -999.0,     -999.0,9,     -999.0
320620170820,        P06,     214,          1,         31,         31,2,20170918,       2307,   -32.5002,   -92.6548,       4676,   164.7,  15.8043,  34.6803,2,  34.7068,2, 244.9531,2, 244.1521,2,     0.1,2,    0.12,2,    0.07,2,    0.24,2,   2.390,2,   1.415,2,   1.5110,2,  2053.5,2,  2291.9,2,   7.9369,2,    25.00, -999.00,9, -999.00,9, -999.00,    57.1,2,    5.10,2,     -999.0,1,  -999.0,9, 20170919,       59, -32.5003, -92.6547,        0.0,1,      0.147,1,      4.628,1,      0.210,1,     -999.0,9,     -999.0,9,     -999.0,9,     -999.0,9,     -999.0,9,     -999.0,9,     -999.0,9,     -999.0,9,     -999.0,9,     -999.0,9,     -999.0,9,    15.9355,2,     -999.0,     -999.0,9,     -999.0
320620170820,        P06,     214,          1,         32,         32,2,20170918,       2307,   -32.5002,   -92.6548,       4676,   114.0,  15.8956,  34.6976,2,  34.7178,2,  245.068,2, 245.7375,2,     0.0,2,    0.06,2,    0.06,2,    0.22,2,   2.377,2,   1.395,2,   1.5320,2,  2053.2,2,  2293.5,2,   7.9395,2,    25.00, -999.00,9, -999.00,9, -999.00,    60.3,2,    5.60,2,     -999.0,1,  -999.0,9, 20170919,      101, -32.5002, -92.6549,        0.0,1,      0.176,1,      4.613,1,      0.211,1,     -999.0,9,     -999.0,9,     -999.0,9,     -999.0,9,     -999.0,9,     -999.0,9,     -999.0,9,     -999.0,9,     -999.0,9,     -999.0,9,     -999.0,9,    15.9662,2,     -999.0,     -999.0,9,     -999.0
320620170820,        P06,     214,          1,         33,         33,2,20170918,       2307,   -32.5002,   -92.6548,       4676,    85.9,  15.8894,  34.6964,2,  34.7166,2, 245.0436,2, 245.5707,2,     0.0,2,    0.06,2,    0.06,2,    0.21,2,   2.377,2,   1.401,2,   1.5100,2,  2052.9,2,  2294.2,2,   7.9388,2,    25.00, -999.00,9, -999.00,9, -999.00,    58.1,2,    5.00,2,     -999.0,1,  -999.0,9, 20170919,      102, -32.5002, -92.6551,        0.0,1,      0.175,1,      4.608,1,      0.215,1,     -999.0,9,     -999.0,9,     -999.0,9,     -999.0,9,     -999.0,9,     -999.0,9,     -999.0,9,     -999.0,9,     -999.0,9,     -999.0,9,     -999.0,9,    15.9585,2,     -999.0,     -999.0,9,     -999.0
320620170820,        P06,     214,          1,         34,         34,2,20170918,       2307,   -32.5002,   -92.6548,       4676,    60.9,  15.8831,  34.6947,2,  34.7156,2, 245.0602,2, 245.9271,2,     0.1,2,    0.07,2,    0.06,2,    0.23,2,   2.307,2,   1.367,2,   1.5020,2,  2053.9,2,  2293.9,6,   7.9393,2,    25.00, -999.00,9, -999.00,9, -999.00,    59.1,2,    5.00,2,     -999.0,1,  -999.0,9, 20170919,      104, -32.5002, -92.6551,        0.0,1,      0.172,1,      4.606,1,      0.213,1,     -999.0,9,     -999.0,9,     -999.0,9,     -999.0,9,     -999.0,9,     -999.0,9,     -999.0,9,     -999.0,9,     -999.0,9,     -999.0,9,     -999.0,9,    15.9574,2,     -999.0,     -999.0,9,     -999.0
320620170820,        P06,     214,          1,         35,         35,2,20170918,       2307,   -32.5002,   -92.6548,       4676,    33.8,  15.8708,  34.6872,2,  34.7044,2,  245.767,2, 246.0734,2,     0.0,2,    0.06,2,    0.07,2,    0.22,2,-999.000,5,-999.000,5,-999.0000,5,  2053.2,2,  2292.9,2,   7.9390,2,    25.00, -999.00,9, -999.00,9, -999.00,    59.2,2,    4.80,2,     -999.0,1,  -999.0,9, 20170919,      106, -32.5002, -92.6550,        0.0,1,      0.140,1,      4.603,1,      0.217,1,     -999.0,9,     -999.0,9,     -999.0,9,     -999.0,9,     -999.0,9,     -999.0,9,     -999.0,9,     -999.0,9,     -999.0,9,     -999.0,9,     -999.0,9,    15.9507,2,     -999.0,     -999.0,9,     -999.0
320620170820,        P06,     214,          1,         36,         36,2,20170918,       2307,   -32.5002,   -92.6548,       4676,     5.1,  15.8654,  34.6802,2,  34.6999,2, 246.3324,2, 246.3129,2,     0.1,2,    0.08,2,    0.06,2,    0.24,2,-999.000,5,-999.000,5,-999.0000,5,  2052.6,6,  2291.6,2,   7.9394,2,    25.00,    1.18,2,   37.04,2,    4.25,    58.8,2,    5.20,2,     -999.0,1,  -999.0,9, 20170919,      108, -32.5002, -92.6548,        0.0,1,      0.091,1,      4.606,1,      0.256,1,     -999.0,9,     -999.0,9,     -999.0,9,     -999.0,9,     -999.0,9,     -999.0,9,     -999.0,9,     -999.0,9,     -999.0,9,     -999.0,9,     -999.0,9,    15.9104,2,     -999.0,     -999.0,9,     -999.0