BOTTLE,20240211CCHSIOCBG
EXPOCODE,SECT_ID,STNNBR,CASTNO,SAMPNO,BTLNBR,BTLNBR_FLAG_W,DATE,TIME,LATITUDE,LONGITUDE,DEPTH,CTDPRS,CTDTMP,CTDSAL,CTDSAL_FLAG_W,SALNTY,SALNTY_FLAG_W,CTDOXY,CTDOXY_FLAG_W,OXYGEN,OXYGEN_FLAG_W,SILCAT,SILCAT_FLAG_W,NITRAT,NITRAT_FLAG_W,NITRIT,NITRIT_FLAG_W,PHSPHT,PHSPHT_FLAG_W,CFC-11,CFC-11_FLAG_W,CFC-12,CFC-12_FLAG_W,SF6,SF6_FLAG_W,TCARBN,TCARBN_FLAG_W,ALKALI,ALKALI_FLAG_W,PH_TOT,PH_TOT_FLAG_W,PH_TMP,DELC13,DELC13_FLAG_W,DELC14,DELC14_FLAG_W,C14ERR,DOC,DOC_FLAG_W,TDN,TDN_FLAG_W,TON,TON_FLAG_W,D15N_NO3,D15N_NO3_FLAG_W,BTL_DATE,BTL_TIME,BTL_LAT,BTL_LON,CTDRINKO,CTDRINKO_FLAG_W,CTDFLUOR,CTDFLUOR_FLAG_W,CTDXMISS,CTDXMISS_FLAG_W,CTDBACKSCATTER,CTDBACKSCATTER_FLAG_W,D18O_NO3,D18O_NO3_FLAG_W,DOP,DOP_FLAG_W,CELLCOUNT,CELLCOUNT_FLAG_W,TDP,TDP_FLAG_W,POP,POP_FLAG_W,DATP,DATP_FLAG_W,PATP,PATP_FLAG_W,HPLC,HPLC_FLAG_W,POC,POC_FLAG_W,BEAMAP,BEAMAP_FLAG_W,DOC_NASA,DOC_NASA_FLAG_W,REFTMP,REFTMP_FLAG_W,DOC_NASA_ERROR,TDN_NASA,TDN_NASA_FLAG_W,TDN_NASA_ERROR
,,,,,,,,,,,METERS,DBAR,ITS-90,PSS-78,,PSS-78,,UMOL/KG,,UMOL/KG,,UMOL/KG,,UMOL/KG,,UMOL/KG,,UMOL/KG,,PMOL/KG,,PMOL/KG,,FMOL/KG,,UMOL/KG,,UMOL/KG,,,,DEG C,/MILLE,,/MILLE,,/MILLE,UMOL/KG,,UMOL/KG,,UMOL/KG,,/MILLE,,,,,,VOLTS,,VOLTS,,VOLTS,,VOLTS,,/MILLE,,UMOL/KG,,/LITER,,UMOL/KG,,UMOL/L,,PMOL/L,,PMOL/L,,,,UG/L,,/METER,,UMOL/L,,ITS-90,,UMOL/L,UMOL/L,,UMOL/L
320620170820,        P06,     147,          1,          1,          1,2,20170826,       0342,   -32.4998,  -146.5986,       5187,  5271.3,   1.2652,  34.7079,2,  34.7113,3, 199.2989,3, 200.3037,2,   119.9,2,   32.30,2,    0.00,2,    2.25,2,   0.047,2,   0.038,2,   0.0000,2,  2269.1,2,  -999.0,9,   7.6091,2,    25.00, -999.00,9, -999.00,9, -999.00,  -999.0,9, -999.00,9,     -999.0,9,  -999.0,9, 20170826,      342, -32.4998,-146.5998,        0.0,1,      0.057,1,      4.695,1,      0.070,1,     -999.0,9,     -999.0,9,     -999.0,9,     -999.0,9,     -999.0,9,     -999.0,9,     -999.0,9,     -999.0,9,     -999.0,9,     -999.0,9,     -999.0,9,     1.2660,2,     -999.0,     -999.0,9,     -999.0
320620170820,        P06,     147,          1,          2,          2,2,20170826,       0342,   -32.4998,  -146.5986,       5187,  5042.8,   1.2445,  34.7079,2,  34.7089,3, 199.2989,2, 199.8062,2,   119.7,2,   32.32,2,    0.00,2,    2.24,2,   0.058,2,   0.048,2,   0.0000,2,  -999.0,9,  -999.0,9,-999.0000,9,  -999.00, -999.00,9, -999.00,9, -999.00,  -999.0,9, -999.00,9,     -999.0,9,  -999.0,9, 20170826,      350, -32.5000,-146.5999,        0.0,1,      0.056,1,      4.695,1,      0.071,1,     -999.0,9,     -999.0,9,     -999.0,9,     -999.0,9,     -999.0,9,     -999.0,9,     -999.0,9,     -999.0,9,     -999.0,9,     -999.0,9,     -999.0,9,     1.2454,2,     -999.0,     -999.0,9,     -999.0
320620170820,        P06,     147,          1,          3,          3,2,20170826,       0342,   -32.4998,  -146.5986,       5187,  4887.8,   1.2311,  34.7076,2,  34.7093,3, 199.2989,2, 199.5041,2,   119.7,2,   32.37,2,    0.00,2,    2.23,2,   0.042,2,   0.039,2,   0.0000,2,  2269.2,2,  2374.3,2,   7.6088,2,    25.00, -999.00,9, -999.00,9, -999.00,  -999.0,9, -999.00,9,     -999.0,9,  -999.0,9, 20170826,      355, -32.5003,-146.5999,        0.0,1,      0.056,1,      4.696,1,      0.071,1,     -999.0,9,     -999.0,9,     -999.0,9,     -999.0,9,     -999.0,9,     -999.0,9,     -999.0,9,     -999.0,9,     -999.0,9,     -999.0,9,     -999.0,9,     1.2308,2,     -999.0,     -999.0,9,     -999.0
320620170820,        P06,     147,          1,          4,          4,2,20170826,       0342,   -32.4998,  -146.5986,       5187,  4580.0,   1.2294,  34.7068,2,  34.7076,3, 199.5832,3, 198.3284,2,   120.1,2,   32.45,2,    0.00,2,    2.24,2,   0.046,2,   0.041,2,   0.0000,2,  -999.0,9,  -999.0,9,-999.0000,9,  -999.00, -999.00,9, -999.00,9, -999.00,  -999.0,9, -999.00,9,     -999.0,9,  -999.0,9, 20170826,      404, -32.5001,-146.5999,        0.0,1,      0.057,1,      4.696,1,      0.072,1,     -999.0,9,     -999.0,9,     -999.0,9,     -999.0,9,     -999.0,9,     -999.0,9,     -999.0,9,     -999.0,9,     -999.0,9,     -999.0,9,     -999.0,9,     1.2294,2,     -999.0,     -999.0,9,     -999.0
320620170820,        P06,     147,          1,          5,          5,2,20170826,       0342,   -32.4998,  -146.5986,       5187,  4274.9,   1.2831,  34.7042,2,  34.7056,3, 193.6013,2, 193.4672,2,   120.5,2,   32.72,2,    0.00,2,    2.26,2,   0.044,2,   0.038,2,   0.0000,2,  2274.4,2,  2380.4,2,   7.6046,2,    25.00, -999.00,9, -999.00,9, -999.00,  -999.0,9, -999.00,9,     -999.0,9,  -999.0,9, 20170826,      413, -32.5000,-146.5999,        0.0,1,      0.056,1,      4.697,1,      0.070,1,     -999.0,9,     -999.0,9,     -999.0,9,     -999.0,9,     -999.0,9,     -999.0,9,     -999.0,9,     -999.0,9,     -999.0,9,     -999.0,9,     -999.0,9,     1.2852,2,     -999.0,     -999.0,9,     -999.0
320620170820,        P06,     147,          1,          6,          6,2,20170826,       0342,   -32.4998,  -146.5986,       5187,  3962.4,   1.3729,  34.6995,2,  34.7003,3, 185.9451,2, 186.4629,2,   121.7,2,   33.18,2,    0.00,2,    2.29,2,   0.040,2,   0.035,2,   0.0000,2,  -999.0,9,  -999.0,9,-999.0000,9,  -999.00, -999.00,9, -999.00,9, -999.00,  -999.0,9, -999.00,9,     -999.0,9,  -999.0,9, 20170826,      419, -32.5001,-146.5998,        0.0,1,      0.056,1,      4.697,1,      0.070,1,     -999.0,9,     -999.0,9,     -999.0,9,     -999.0,9,     -999.0,9,     -999.0,9,     -999.0,9,     -999.0,9,     -999.0,9,     -999.0,9,     -999.0,9,     1.3732,2,     -999.0,     -999.0,9,     -999.0
320620170820,        P06,     147,          1,          7,          7,2,20170826,       0342,   -32.4998,  -146.5986,       5187,  3658.8,   1.4664,  34.6943,2,  34.6948,3, 178.5531,2, 177.9162,2,   123.4,2,   33.71,2,    0.00,2,    2.33,2,   0.037,2,   0.030,2,   0.0000,2,  2290.2,2,  2388.5,2,   7.5948,2,    25.00, -999.00,9, -999.00,9, -999.00,  -999.0,9, -999.00,9,     -999.0,9,  -999.0,9, 20170826,      426, -32.5002,-146.5999,        0.0,1,      0.057,1,      4.697,1,      0.069,1,     -999.0,9,     -999.0,9,     -999.0,9,     -999.0,9,     -999.0,9,     -999.0,9,     -999.0,9,     -999.0,9,     -999.0,9,     -999.0,9,     -999.0,9,     1.4700,2,     -999.0,     -999.0,9,     -999.0
320620170820,        P06,     147,          1,          8,          8,2,20170826,       0342,   -32.4998,  -146.5986,       5187,  3349.2,   1.5691,  34.6856,2,  34.6846,2, 168.6454,2, 168.0711,2,   126.4,2,   34.49,2,    0.00,2,    2.38,2,   0.042,2,   0.044,2,   0.0000,2,  -999.0,9,  -999.0,9,-999.0000,9,  -999.00, -999.00,9, -999.00,9, -999.00,  -999.0,9, -999.00,9,     -999.0,9,  -999.0,9, 20170826,      432, -32.4999,-146.5999,        0.0,1,      0.055,1,      4.697,1,      0.070,1,     -999.0,9,     -999.0,9,     -999.0,9,     -999.0,9,     -999.0,9,     -999.0,9,     -999.0,9,     -999.0,9,     -999.0,9,     -999.0,9,     -999.0,9,     1.5880,2,     -999.0,     -999.0,9,     -999.0
320620170820,        P06,     147,          1,          9,          9,2,20170826,       0342,   -32.4998,  -146.5986,       5187,  3041.1,   1.6919,  34.6753,2,  34.6749,2, 160.2965,3, 158.9217,2,   128.6,2,   35.17,2,    0.00,2,    2.43,2,   0.040,2,   0.046,2,   0.0000,2,  2307.8,2,  2397.5,2,   7.5789,2,    25.00, -999.00,9, -999.00,9, -999.00,  -999.0,9, -999.00,9,     -999.0,9,  -999.0,9, 20170826,      439, -32.4999,-146.6000,        0.0,1,      0.058,1,      4.697,1,      0.070,1,     -999.0,9,     -999.0,9,     -999.0,9,     -999.0,9,     -999.0,9,     -999.0,9,     -999.0,9,     -999.0,9,     -999.0,9,     -999.0,9,     -999.0,9,     1.7020,2,     -999.0,     -999.0,9,     -999.0
320620170820,        P06,     147,          1,         10,         10,2,20170826,       0342,   -32.4998,  -146.5986,       5187,  2788.2,   1.7867,  34.6670,2,  34.6677,2, 154.7857,2, 154.0449,2,   127.7,2,   35.50,2,    0.00,2,    2.47,2,   0.041,2,   0.057,2,   0.0000,2,  -999.0,9,  -999.0,9,-999.0000,9,  -999.00, -999.00,9, -999.00,9, -999.00,  -999.0,9, -999.00,9,     -999.0,9,  -999.0,9, 20170826,      445, -32.5000,-146.5999,        0.0,1,      0.057,1,      4.697,1,      0.071,1,     -999.0,9,     -999.0,9,     -999.0,9,     -999.0,9,     -999.0,9,     -999.0,9,     -999.0,9,     -999.0,9,     -999.0,9,     -999.0,9,     -999.0,9,     1.7873,2,     -999.0,     -999.0,9,     -999.0
320620170820,        P06,     147,          1,         11,         11,2,20170826,       0342,   -32.4998,  -146.5986,       5187,  2522.7,   1.8965,  34.6574,2,  34.6582,2, 151.9628,2, 151.7026,2,   124.7,2,   35.64,2,    0.00,2,    2.48,2,   0.038,2,   0.051,2,   0.0000,2,  2308.1,6,  2400.5,2,   7.5719,2,    25.00, -999.00,9, -999.00,9, -999.00,  -999.0,9, -999.00,9,     -999.0,9,  -999.0,9, 20170826,      450, -32.4980,-146.5987,        0.0,1,      0.057,1,      4.697,1,      0.070,1,     -999.0,9,     -999.0,9,     -999.0,9,     -999.0,9,     -999.0,9,     -999.0,9,     -999.0,9,     -999.0,9,     -999.0,9,     -999.0,9,     -999.0,9,     1.8912,2,     -999.0,     -999.0,9,     -999.0
320620170820,        P06,     147,          1,         12,         12,2,20170826,       0342,   -32.4998,  -146.5986,       5187,  2279.6,   2.0193,  34.6464,2,  34.6474,2, 151.2221,2, 152.7683,2,   119.7,2,   35.60,2,    0.00,2,    2.48,2,   0.040,2,   0.056,2,   0.0000,2,  -999.0,9,  -999.0,9,-999.0000,9,  -999.00, -999.00,9, -999.00,9, -999.00,  -999.0,9, -999.00,9,     -999.0,9,  -999.0,9, 20170826,      456, -32.4989,-146.5984,        0.0,1,      0.056,1,      4.697,1,      0.072,1,     -999.0,9,     -999.0,9,     -999.0,9,     -999.0,9,     -999.0,9,     -999.0,9,     -999.0,9,     -999.0,9,     -999.0,9,     -999.0,9,     -999.0,9,     2.0076,2,     -999.0,     -999.0,9,     -999.0
320620170820,        P06,     147,          1,         13,         13,2,20170826,       0342,   -32.4998,  -146.5986,       5187,  2025.2,   2.1895,  34.6288,2,  34.6301,2, 152.3966,2, 153.1101,2,   110.6,2,   35.39,2,    0.00,2,    2.46,2,   0.037,2,   0.054,2,   0.0000,2,  2296.1,2,  2385.4,6,   7.5704,2,    25.00, -999.00,9, -999.00,9, -999.00,  -999.0,9, -999.00,9,     -999.0,9,  -999.0,9, 20170826,      502, -32.4994,-146.5984,        0.0,1,      0.057,1,      4.698,1,      0.070,1,     -999.0,9,     -999.0,9,     -999.0,9,     -999.0,9,     -999.0,9,     -999.0,9,     -999.0,9,     -999.0,9,     -999.0,9,     -999.0,9,     -999.0,9,     2.1861,2,     -999.0,     -999.0,9,     -999.0
320620170820,        P06,     147,          1,         14,         14,2,20170826,       0342,   -32.4998,  -146.5986,       5187,  1821.0,   2.3647,  34.6051,2,  34.6077,2, 154.9047,2, 155.7384,2,   102.0,2,   35.20,2,    0.00,2,    2.44,2,   0.045,2,   0.064,2,   0.0000,2,  -999.0,9,  -999.0,9,-999.0000,9,  -999.00, -999.00,9, -999.00,9, -999.00,  -999.0,9, -999.00,9,     -999.0,9,  -999.0,9, 20170826,      507, -32.4999,-146.5984,        0.0,1,      0.056,1,      4.698,1,      0.070,1,     -999.0,9,     -999.0,9,     -999.0,9,     -999.0,9,     -999.0,9,     -999.0,9,     -999.0,9,     -999.0,9,     -999.0,9,     -999.0,9,     -999.0,9,     2.3473,2,     -999.0,     -999.0,9,     -999.0
320620170820,        P06,     147,          1,         15,         15,2,20170826,       0342,   -32.4998,  -146.5986,       5187,  1622.1,   2.6157,  34.5562,2,  34.5616,2, 160.5744,2, 160.9455,2,    86.9,2,   34.90,2,    0.00,2,    2.41,2,   0.062,2,   0.068,2,   0.0000,2,  2269.4,2,  2356.3,2,   7.5680,6,    25.00, -999.00,9, -999.00,9, -999.00,  -999.0,9, -999.00,9,     -999.0,9,  -999.0,9, 20170826,      512, -32.5010,-146.5980,        0.0,1,      0.056,1,      4.698,1,      0.071,1,     -999.0,9,     -999.0,9,     -999.0,9,     -999.0,9,     -999.0,9,     -999.0,9,     -999.0,9,     -999.0,9,     -999.0,9,     -999.0,9,     -999.0,9,     2.5873,2,     -999.0,     -999.0,9,     -999.0
320620170820,        P06,     147,          1,         16,         16,2,20170826,       0342,   -32.4998,  -146.5986,       5187,  1417.0,   2.9587,  34.4788,2,  34.4724,2, 171.1494,2, 171.9361,2,    66.0,2,   34.41,2,    0.00,2,    2.37,2,   0.226,2,   0.168,2,   0.0000,2,  -999.0,9,  -999.0,9,-999.0000,9,  -999.00, -999.00,9, -999.00,9, -999.00,  -999.0,9, -999.00,9,     -999.0,9,  -999.0,9, 20170826,      517, -32.5010,-146.5982,        0.0,1,      0.056,1,      4.698,1,      0.072,1,     -999.0,9,     -999.0,9,     -999.0,9,     -999.0,9,     -999.0,9,     -999.0,9,     -999.0,9,     -999.0,9,     -999.0,9,     -999.0,9,     -999.0,9,     2.9867,2,     -999.0,     -999.0,9,     -999.0
320620170820,        P06,     147,          1,         17,         17,2,20170826,       0342,   -32.4998,  -146.5986,       5187,  1312.4,   3.2223,  34.4317,2,  34.4296,2, 176.7492,2, 177.3504,2,    57.7,2,   34.03,2,    0.00,2,    2.35,2,   0.301,2,   0.207,2,   0.0000,2,  2234.9,2,  2323.2,2,   7.5763,2,    25.00, -999.00,9, -999.00,9, -999.00,  -999.0,9, -999.00,9,     -999.0,9,  -999.0,9, 20170826,      520, -32.5009,-146.5982,        0.0,1,      0.057,1,      4.698,1,      0.073,1,     -999.0,9,     -999.0,9,     -999.0,9,     -999.0,9,     -999.0,9,     -999.0,9,     -999.0,9,     -999.0,9,     -999.0,9,     -999.0,9,     -999.0,9,     3.2439,2,     -999.0,     -999.0,9,     -999.0
320620170820,        P06,     147,          1,         18,         18,2,20170826,       0342,   -32.4998,  -146.5986,       5187,  1212.1,   3.6216,  34.3824,2,  34.3857,2,  184.385,2, 184.3007,2,    48.6,2,   33.32,2,    0.00,2,    2.30,2,   0.524,2,   0.316,2,   0.0000,2,  -999.0,9,  -999.0,9,-999.0000,9,  -999.00, -999.00,9, -999.00,9, -999.00,  -999.0,9, -999.00,9,     -999.0,9,  -999.0,9, 20170826,      523, -32.5013,-146.5982,        0.0,1,      0.056,1,      4.698,1,      0.071,1,     -999.0,9,     -999.0,9,     -999.0,9,     -999.0,9,     -999.0,9,     -999.0,9,     -999.0,9,     -999.0,9,     -999.0,9,     -999.0,9,     -999.0,9,     3.5776,2,     -999.0,     -999.0,9,     -999.0
320620170820,        P06,     147,          1,         19,         19,2,20170826,       0342,   -32.4998,  -146.5986,       5187,  1111.9,   4.1607,  34.3414,2,  34.3492,2, 193.7106,2, 192.9499,2,    39.0,2,   32.23,2,    0.00,2,    2.21,2,   0.808,2,   0.440,2,   0.0000,2,  2209.3,2,  2305.0,2,   7.6040,2,    25.00, -999.00,9, -999.00,9, -999.00,  -999.0,9, -999.00,9,     -999.0,9,  -999.0,9, 20170826,      526, -32.5011,-146.5983,        0.0,1,      0.057,1,      4.698,1,      0.069,1,     -999.0,9,     -999.0,9,     -999.0,9,     -999.0,9,     -999.0,9,     -999.0,9,     -999.0,9,     -999.0,9,     -999.0,9,     -999.0,9,     -999.0,9,     4.0256,2,     -999.0,     -999.0,9,     -999.0
320620170820,        P06,     147,          1,         20,         20,2,20170826,       0342,   -32.4998,  -146.5986,       5187,  1004.3,   4.7402,  34.3156,2,  34.3174,2, 204.2865,2, 204.5898,2,    27.8,2,   30.32,2,    0.00,2,    2.07,2,   1.259,2,   0.679,2,   0.0000,2,  -999.0,9,  -999.0,9,-999.0000,9,  -999.00, -999.00,9, -999.00,9, -999.00,  -999.0,9, -999.00,9,     -999.0,9,  -999.0,9, 20170826,      530, -32.5012,-146.5983,        0.0,1,      0.056,1,      4.697,1,      0.071,1,     -999.0,9,     -999.0,9,     -999.0,9,     -999.0,9,     -999.0,9,     -999.0,9,     -999.0,9,     -999.0,9,     -999.0,9,     -999.0,9,     -999.0,9,     4.6915,2,     -999.0,     -999.0,9,     -999.0
320620170820,        P06,     147,          1,         21,         21,2,20170826,       0342,   -32.4998,  -146.5986,       5187,   904.6,   5.2989,  34.3049,2,  34.3054,2, 217.6753,2, 217.2568,2,    19.1,2,   28.12,2,    0.00,2,    1.92,2,   1.807,2,   0.971,2,   0.2960,2,  2174.5,2,  2284.7,2,   7.6567,2,    25.00, -999.00,9, -999.00,9, -999.00,  -999.0,9, -999.00,9,     -999.0,9,  -999.0,9, 20170826,      532, -32.5013,-146.5983,        0.0,1,      0.057,1,      4.697,1,      0.070,1,     -999.0,9,     -999.0,9,     -999.0,9,     -999.0,9,     -999.0,9,     -999.0,9,     -999.0,9,     -999.0,9,     -999.0,9,     -999.0,9,     -999.0,9,     5.3128,2,     -999.0,     -999.0,9,     -999.0
320620170820,        P06,     147,          1,         22,         22,2,20170826,       0342,   -32.4998,  -146.5986,       5187,   801.8,   5.7788,  34.3066,2,  34.3082,2, 228.4555,2, 228.2352,2,    13.1,2,   26.02,2,    0.00,2,    1.78,2,   2.328,2,   1.258,2,   0.4560,2,  -999.0,9,  -999.0,9,-999.0000,9,  -999.00, -999.00,9, -999.00,9, -999.00,  -999.0,9, -999.00,9,     -999.0,9,  -999.0,9, 20170826,      534, -32.5014,-146.5983,        0.0,1,      0.057,1,      4.697,1,      0.071,1,     -999.0,9,     -999.0,9,     -999.0,9,     -999.0,9,     -999.0,9,     -999.0,9,     -999.0,9,     -999.0,9,     -999.0,9,     -999.0,9,     -999.0,9,     5.8422,2,     -999.0,     -999.0,9,     -999.0
320620170820,        P06,     147,          1,         23,         23,2,20170826,       0342,   -32.4998,  -146.5986,       5187,   702.5,   6.2672,  34.3219,2,  34.3260,2, 237.4045,2, 237.2894,2,     9.4,2,   24.10,2,    0.00,2,    1.64,2,   3.050,2,   1.598,2,   0.8370,2,  2150.5,2,  2284.3,2,   7.6984,2,    25.00, -999.00,9, -999.00,9, -999.00,  -999.0,9, -999.00,9,     -999.0,9,  -999.0,9, 20170826,      537, -32.5014,-146.5983,        0.0,1,      0.056,1,      4.696,1,      0.072,1,     -999.0,9,     -999.0,9,     -999.0,9,     -999.0,9,     -999.0,9,     -999.0,9,     -999.0,9,     -999.0,9,     -999.0,9,     -999.0,9,     -999.0,9,     6.3343,2,     -999.0,     -999.0,9,     -999.0
320620170820,        P06,     147,          1,         24,         24,2,20170826,       0342,   -32.4998,  -146.5986,       5187,   605.2,   6.7587,  34.3532,2,  34.3586,2, 241.7324,2, 241.4856,2,     7.0,2,   22.39,2,    0.00,2,    1.52,2,   3.450,6,   1.881,6,   0.9650,6,  -999.0,9,  -999.0,9,-999.0000,9,  -999.00, -999.00,9, -999.00,9, -999.00,  -999.0,9, -999.00,9,     -999.0,9,  -999.0,9, 20170826,      540, -32.5011,-146.5983,        0.0,1,      0.057,1,      4.696,1,      0.072,1,     -999.0,9,     -999.0,9,     -999.0,9,     -999.0,9,     -999.0,9,     -999.0,9,     -999.0,9,     -999.0,9,     -999.0,9,     -999.0,9,     -999.0,9,     6.8406,2,     -999.0,     -999.0,9,     -999.0
320620170820,        P06,     147,          1,         25,         25,2,20170826,       0342,   -32.4998,  -146.5986,       5187,   499.0,   7.2943,  34.3932,2,  34.3945,2, 241.1599,2, 240.7906,2,     5.8,2,   20.96,2,    0.00,2,    1.45,2,   3.575,2,   1.907,2,   1.2250,2,  2142.3,2,  2283.9,2,   7.7175,2,    25.00, -999.00,9, -999.00,9, -999.00,  -999.0,9, -999.00,9,     -999.0,9,  -999.0,9, 20170826,      542, -32.5007,-146.5982,        0.0,1,      0.057,1,      4.696,1,      0.071,1,     -999.0,9,     -999.0,9,     -999.0,9,     -999.0,9,     -999.0,9,     -999.0,9,     -999.0,9,     -999.0,9,     -999.0,9,     -999.0,9,     -999.0,9,     7.3686,2,     -999.0,     -999.0,9,     -999.0
320620170820,        P06,     147,          1,         26,         26,2,20170826,       0342,   -32.4998,  -146.5986,       5187,   401.4,   8.0941,  34.4411,2,  34.4508,2,  228.708,2, 229.3824,2,     4.6,2,   19.04,2,    0.00,2,    1.34,2,   3.359,2,   1.859,2,   1.3040,2,  2139.5,2,  2282.9,6,   7.7270,2,    25.00, -999.00,9, -999.00,9, -999.00,  -999.0,9, -999.00,9,     -999.0,9,  -999.0,9, 20170826,      545, -32.5005,-146.5982,        0.0,1,      0.056,1,      4.694,1,      0.071,1,     -999.0,9,     -999.0,9,     -999.0,9,     -999.0,9,     -999.0,9,     -999.0,9,     -999.0,9,     -999.0,9,     -999.0,9,     -999.0,9,     -999.0,9,     8.3863,2,     -999.0,     -999.0,9,     -999.0