BOTTLE,20240211CCHSIOCBG
EXPOCODE,SECT_ID,STNNBR,CASTNO,SAMPNO,BTLNBR,BTLNBR_FLAG_W,DATE,TIME,LATITUDE,LONGITUDE,DEPTH,CTDPRS,CTDTMP,CTDSAL,CTDSAL_FLAG_W,SALNTY,SALNTY_FLAG_W,CTDOXY,CTDOXY_FLAG_W,OXYGEN,OXYGEN_FLAG_W,SILCAT,SILCAT_FLAG_W,NITRAT,NITRAT_FLAG_W,NITRIT,NITRIT_FLAG_W,PHSPHT,PHSPHT_FLAG_W,CFC-11,CFC-11_FLAG_W,CFC-12,CFC-12_FLAG_W,SF6,SF6_FLAG_W,TCARBN,TCARBN_FLAG_W,ALKALI,ALKALI_FLAG_W,PH_TOT,PH_TOT_FLAG_W,PH_TMP,DELC13,DELC13_FLAG_W,DELC14,DELC14_FLAG_W,C14ERR,DOC,DOC_FLAG_W,TDN,TDN_FLAG_W,TON,TON_FLAG_W,D15N_NO3,D15N_NO3_FLAG_W,BTL_DATE,BTL_TIME,BTL_LAT,BTL_LON,CTDRINKO,CTDRINKO_FLAG_W,CTDFLUOR,CTDFLUOR_FLAG_W,CTDXMISS,CTDXMISS_FLAG_W,CTDBACKSCATTER,CTDBACKSCATTER_FLAG_W,D18O_NO3,D18O_NO3_FLAG_W,DOP,DOP_FLAG_W,CELLCOUNT,CELLCOUNT_FLAG_W,TDP,TDP_FLAG_W,POP,POP_FLAG_W,DATP,DATP_FLAG_W,PATP,PATP_FLAG_W,HPLC,HPLC_FLAG_W,POC,POC_FLAG_W,BEAMAP,BEAMAP_FLAG_W,DOC_NASA,DOC_NASA_FLAG_W,REFTMP,REFTMP_FLAG_W,DOC_NASA_ERROR,TDN_NASA,TDN_NASA_FLAG_W,TDN_NASA_ERROR
,,,,,,,,,,,METERS,DBAR,ITS-90,PSS-78,,PSS-78,,UMOL/KG,,UMOL/KG,,UMOL/KG,,UMOL/KG,,UMOL/KG,,UMOL/KG,,PMOL/KG,,PMOL/KG,,FMOL/KG,,UMOL/KG,,UMOL/KG,,,,DEG C,/MILLE,,/MILLE,,/MILLE,UMOL/KG,,UMOL/KG,,UMOL/KG,,/MILLE,,,,,,VOLTS,,VOLTS,,VOLTS,,VOLTS,,/MILLE,,UMOL/KG,,/LITER,,UMOL/KG,,UMOL/L,,PMOL/L,,PMOL/L,,,,UG/L,,/METER,,UMOL/L,,ITS-90,,UMOL/L,UMOL/L,,UMOL/L
320620170820,        P06,     209,          1,         27,         27,2,20170917,       0521,   -32.5005,   -97.1045,       3721,   287.2,  10.4894,  34.2699,2,  34.2456,2, 216.1647,2, 216.1642,2,     2.0,2,   17.29,2,    0.00,2,    1.20,2,   3.320,2,   1.868,2,   1.2920,2,  -999.0,9,  -999.0,9,-999.0000,9,  -999.00, -999.00,9, -999.00,9, -999.00,  -999.0,9, -999.00,9,     -999.0,9,  -999.0,9, 20170917,      654, -32.5009, -97.1045,        0.0,1,      0.060,1,      4.679,1,      0.134,1,     -999.0,9,     -999.0,9,     -999.0,9,     -999.0,9,     -999.0,9,     -999.0,9,     -999.0,9,     -999.0,9,     -999.0,9,     -999.0,9,     -999.0,9,     9.8693,2,     -999.0,     -999.0,9,     -999.0
320620170820,        P06,     209,          1,         28,         28,2,20170917,       0521,   -32.5005,   -97.1045,       3721,   237.1,  12.4723,  34.3990,2,  34.3868,3, 213.7425,2, 213.8901,2,     0.4,2,   11.26,2,    0.00,2,    0.81,2,   2.954,2,   1.696,2,   1.4050,2,  2102.1,2,  2271.7,2,   7.7977,2,    25.00, -999.00,9, -999.00,9, -999.00,  -999.0,9, -999.00,9,     -999.0,9,  -999.0,9, 20170917,      657, -32.5010, -97.1045,        0.0,1,      0.066,1,      4.675,1,      0.135,1,     -999.0,9,     -999.0,9,     -999.0,9,     -999.0,9,     -999.0,9,     -999.0,9,     -999.0,9,     -999.0,9,     -999.0,9,     -999.0,9,     -999.0,9,    12.2821,2,     -999.0,     -999.0,9,     -999.0
320620170820,        P06,     209,          1,         29,         29,2,20170917,       0521,   -32.5005,   -97.1045,       3721,   185.6,  14.7185,  34.5946,2,  34.6832,3, 238.4318,2, 231.4538,2,     0.0,2,    2.39,2,    0.14,2,    0.31,2,   2.372,2,   1.447,2,   1.5470,2,  2062.5,2,  2290.6,2,   7.9130,2,    25.00, -999.00,9, -999.00,9, -999.00,  -999.0,9, -999.00,9,     -999.0,9,  -999.0,9, 20170917,      658, -32.5011, -97.1045,        0.0,1,      0.082,1,      4.663,1,      0.152,1,     -999.0,9,     -999.0,9,     -999.0,9,     -999.0,9,     -999.0,9,     -999.0,9,     -999.0,9,     -999.0,9,     -999.0,9,     -999.0,9,     -999.0,9,    15.8538,2,     -999.0,     -999.0,9,     -999.0
320620170820,        P06,     209,          1,         30,         30,2,20170917,       0521,   -32.5005,   -97.1045,       3721,   140.5,  16.6142,  34.8651,2,  34.8241,2,  242.607,2, 242.1347,2,     0.0,2,    0.27,2,    0.05,2,    0.16,2,   2.316,2,   1.367,2,   1.5420,2,  2053.1,2,  2298.3,2,   7.9481,2,    25.00, -999.00,9, -999.00,9, -999.00,  -999.0,9, -999.00,9,     -999.0,9,  -999.0,9, 20170917,      701, -32.5011, -97.1045,        0.0,1,      0.173,1,      4.621,1,      0.206,1,     -999.0,9,     -999.0,9,     -999.0,9,     -999.0,9,     -999.0,9,     -999.0,9,     -999.0,9,     -999.0,9,     -999.0,9,     -999.0,9,     -999.0,9,    16.4934,2,     -999.0,     -999.0,9,     -999.0
320620170820,        P06,     209,          1,         31,         31,2,20170917,       0521,   -32.5005,   -97.1045,       3721,   114.4,  16.6067,  34.8636,2,  34.8279,2, 243.0377,2, 242.7853,2,     0.0,2,    0.25,2,    0.04,2,    0.16,2,   2.308,2,   1.367,2,   1.4820,2,  -999.0,9,  -999.0,9,-999.0000,9,  -999.00, -999.00,9, -999.00,9, -999.00,  -999.0,9, -999.00,9,     -999.0,9,  -999.0,9, 20170917,      703, -32.5012, -97.1045,        0.0,1,      0.191,1,      4.620,1,      0.210,1,     -999.0,9,     -999.0,9,     -999.0,9,     -999.0,9,     -999.0,9,     -999.0,9,     -999.0,9,     -999.0,9,     -999.0,9,     -999.0,9,     -999.0,9,    16.5085,2,     -999.0,     -999.0,9,     -999.0
320620170820,        P06,     209,          1,         32,         32,2,20170917,       0521,   -32.5005,   -97.1045,       3721,    89.4,  16.5694,  34.8495,2,  34.8275,2, 242.6779,2, 242.7996,2,     0.0,2,    0.24,2,    0.04,2,    0.16,2,   2.313,2,   1.368,2,   1.5240,2,  2051.8,2,  2298.4,2,   7.9496,2,    25.00, -999.00,9, -999.00,9, -999.00,  -999.0,9, -999.00,9,     -999.0,9,  -999.0,9, 20170917,      704, -32.5011, -97.1045,        0.0,1,      0.205,1,      4.611,1,      0.219,1,     -999.0,9,     -999.0,9,     -999.0,9,     -999.0,9,     -999.0,9,     -999.0,9,     -999.0,9,     -999.0,9,     -999.0,9,     -999.0,9,     -999.0,9,    16.5007,2,     -999.0,     -999.0,9,     -999.0
320620170820,        P06,     209,          1,         33,         33,2,20170917,       0521,   -32.5005,   -97.1045,       3721,    64.9,  16.5222,  34.8338,2,  34.8288,2, 243.0391,2, 242.7979,2,     0.0,2,    0.24,2,    0.04,2,    0.17,2,   2.317,2,   1.378,2,   1.5480,2,  2052.5,2,  2298.1,2,   7.9499,2,    25.00, -999.00,9, -999.00,9, -999.00,  -999.0,9, -999.00,9,     -999.0,9,  -999.0,9, 20170917,      706, -32.5008, -97.1045,        0.0,1,      0.218,1,      4.602,1,      0.223,1,     -999.0,9,     -999.0,9,     -999.0,9,     -999.0,9,     -999.0,9,     -999.0,9,     -999.0,9,     -999.0,9,     -999.0,9,     -999.0,9,     -999.0,9,    16.5009,2,     -999.0,     -999.0,9,     -999.0
320620170820,        P06,     209,          1,         34,         34,2,20170917,       0521,   -32.5005,   -97.1045,       3721,    39.8,  16.5105,  34.8287,2,  34.8287,2, 243.4649,2, 243.7742,2,     0.0,2,    0.24,2,    0.04,2,    0.17,2,   2.304,2,   1.363,2,   1.6240,2,  2052.2,2,  2299.0,6,   7.9510,2,    25.00, -999.00,9, -999.00,9, -999.00,  -999.0,9, -999.00,9,     -999.0,9,  -999.0,9, 20170917,      708, -32.5007, -97.1045,        0.0,1,      0.217,1,      4.601,1,      0.218,1,     -999.0,9,     -999.0,9,     -999.0,9,     -999.0,9,     -999.0,9,     -999.0,9,     -999.0,9,     -999.0,9,     -999.0,9,     -999.0,9,     -999.0,9,    16.4918,2,     -999.0,     -999.0,9,     -999.0
320620170820,        P06,     209,          1,         35,         35,2,20170917,       0521,   -32.5005,   -97.1045,       3721,    18.9,  16.5076,  34.8290,2,  34.8275,2, 243.0451,2, 243.1093,2,     0.0,2,    0.25,2,    0.04,2,    0.17,2,   2.261,2,   1.373,2,   1.4830,2,  2050.2,2,  2299.4,2,   7.9501,6,    25.00, -999.00,9, -999.00,9, -999.00,  -999.0,9, -999.00,9,     -999.0,9,  -999.0,9, 20170917,      710, -32.5007, -97.1045,        0.0,1,      0.223,1,      4.597,1,      0.214,1,     -999.0,9,     -999.0,9,     -999.0,9,     -999.0,9,     -999.0,9,     -999.0,9,     -999.0,9,     -999.0,9,     -999.0,9,     -999.0,9,     -999.0,9,    16.4924,2,     -999.0,     -999.0,9,     -999.0
320620170820,        P06,     209,          1,         36,         36,2,20170917,       0521,   -32.5005,   -97.1045,       3721,     8.4,  16.5068,  34.8292,2,  34.8275,2,  242.719,2, 242.9912,2,     0.0,2,    0.24,2,    0.04,2,    0.18,2,   2.332,2,   1.371,2,   1.5950,2,  2049.4,6,  2296.8,2,   7.9495,2,    25.00, -999.00,9, -999.00,9, -999.00,  -999.0,9, -999.00,9,     -999.0,9,  -999.0,9, 20170917,      711, -32.5005, -97.1045,        0.0,1,      0.233,1,      4.600,1,      0.213,1,     -999.0,9,     -999.0,9,     -999.0,9,     -999.0,9,     -999.0,9,     -999.0,9,     -999.0,9,     -999.0,9,     -999.0,9,     -999.0,9,     -999.0,9,    16.4793,2,     -999.0,     -999.0,9,     -999.0