BOTTLE,20240211CCHSIOCBG
EXPOCODE,SECT_ID,STNNBR,CASTNO,SAMPNO,BTLNBR,BTLNBR_FLAG_W,DATE,TIME,LATITUDE,LONGITUDE,DEPTH,CTDPRS,CTDTMP,CTDSAL,CTDSAL_FLAG_W,SALNTY,SALNTY_FLAG_W,CTDOXY,CTDOXY_FLAG_W,OXYGEN,OXYGEN_FLAG_W,SILCAT,SILCAT_FLAG_W,NITRAT,NITRAT_FLAG_W,NITRIT,NITRIT_FLAG_W,PHSPHT,PHSPHT_FLAG_W,CFC-11,CFC-11_FLAG_W,CFC-12,CFC-12_FLAG_W,SF6,SF6_FLAG_W,TCARBN,TCARBN_FLAG_W,ALKALI,ALKALI_FLAG_W,PH_TOT,PH_TOT_FLAG_W,PH_TMP,DELC13,DELC13_FLAG_W,DELC14,DELC14_FLAG_W,C14ERR,DOC,DOC_FLAG_W,TDN,TDN_FLAG_W,TON,TON_FLAG_W,D15N_NO3,D15N_NO3_FLAG_W,BTL_DATE,BTL_TIME,BTL_LAT,BTL_LON,CTDRINKO,CTDRINKO_FLAG_W,CTDFLUOR,CTDFLUOR_FLAG_W,CTDXMISS,CTDXMISS_FLAG_W,CTDBACKSCATTER,CTDBACKSCATTER_FLAG_W,D18O_NO3,D18O_NO3_FLAG_W,DOP,DOP_FLAG_W,CELLCOUNT,CELLCOUNT_FLAG_W,TDP,TDP_FLAG_W,POP,POP_FLAG_W,DATP,DATP_FLAG_W,PATP,PATP_FLAG_W,HPLC,HPLC_FLAG_W,POC,POC_FLAG_W,BEAMAP,BEAMAP_FLAG_W,DOC_NASA,DOC_NASA_FLAG_W,REFTMP,REFTMP_FLAG_W,DOC_NASA_ERROR,TDN_NASA,TDN_NASA_FLAG_W,TDN_NASA_ERROR
,,,,,,,,,,,METERS,DBAR,ITS-90,PSS-78,,PSS-78,,UMOL/KG,,UMOL/KG,,UMOL/KG,,UMOL/KG,,UMOL/KG,,UMOL/KG,,PMOL/KG,,PMOL/KG,,FMOL/KG,,UMOL/KG,,UMOL/KG,,,,DEG C,/MILLE,,/MILLE,,/MILLE,UMOL/KG,,UMOL/KG,,UMOL/KG,,/MILLE,,,,,,VOLTS,,VOLTS,,VOLTS,,VOLTS,,/MILLE,,UMOL/KG,,/LITER,,UMOL/KG,,UMOL/L,,PMOL/L,,PMOL/L,,,,UG/L,,/METER,,UMOL/L,,ITS-90,,UMOL/L,UMOL/L,,UMOL/L
320620170820,        P06,     233,          1,          1,          1,2,20170925,       1124,   -32.4997,   -75.7455,       4315,  4380.0,   1.6690,  34.6962,2,  34.6956,2,   165.61,2, 165.9837,2,   124.7,2,   34.41,2,    0.00,2,    2.38,2,   0.014,2,   0.025,2,   0.0000,4,  2307.2,6,  2399.6,2,   7.5901,2,    25.00, -999.00,9, -999.00,9, -999.00,  -999.0,9, -999.00,9,     -999.0,9,  -999.0,1, 20170925,     1124, -32.4999, -75.7454,        0.0,1,      0.061,1,      4.670,1,      0.148,1,     -999.0,1,     -999.0,9,     -999.0,9,     -999.0,9,     -999.0,9,     -999.0,9,     -999.0,9,     -999.0,9,     -999.0,9,     -999.0,9,     -999.0,9,     1.6693,2,     -999.0,     -999.0,9,     -999.0
320620170820,        P06,     233,          1,          2,          2,2,20170925,       1124,   -32.4997,   -75.7455,       4315,  4116.8,   1.6459,  34.6960,2,  34.6938,2,   165.61,2, 165.9652,2,   124.8,2,   34.41,2,    0.00,2,    2.40,2,   0.014,2,   0.030,2,   0.0000,4,  2305.4,2,  2399.4,2,   7.5911,2,    25.00, -999.00,9, -999.00,9, -999.00,  -999.0,9, -999.00,9,     -999.0,9,  -999.0,1, 20170925,     1129, -32.4998, -75.7451,        0.0,1,      0.061,1,      4.676,1,      0.137,1,     -999.0,1,     -999.0,9,     -999.0,9,     -999.0,9,     -999.0,9,     -999.0,9,     -999.0,9,     -999.0,9,     -999.0,9,     -999.0,9,     -999.0,9,     1.6462,2,     -999.0,     -999.0,9,     -999.0
320620170820,        P06,     233,          1,          3,          3,2,20170925,       1124,   -32.4997,   -75.7455,       4315,  3862.1,   1.6392,  34.6951,2,  34.6934,2, 165.3667,2, 165.1421,2,   125.0,2,   34.46,2,    0.00,2,    2.40,2,   0.012,2,   0.032,2,   0.0000,4,  2305.6,2,  2401.0,2,   7.5882,2,    25.00, -999.00,9, -999.00,9, -999.00,  -999.0,9, -999.00,9,     -999.0,9,  -999.0,1, 20170925,     1134, -32.4998, -75.7453,        0.0,1,      0.061,1,      4.678,1,      0.133,1,     -999.0,1,     -999.0,9,     -999.0,9,     -999.0,9,     -999.0,9,     -999.0,9,     -999.0,9,     -999.0,9,     -999.0,9,     -999.0,9,     -999.0,9,     1.6392,2,     -999.0,     -999.0,9,     -999.0
320620170820,        P06,     233,          1,          4,          4,2,20170925,       1124,   -32.4997,   -75.7455,       4315,  3554.8,   1.6834,  34.6916,2,  34.6895,2, 162.1319,2, 161.1538,2,   125.3,2,   34.71,2,    0.00,2,    2.42,2,   0.026,2,   0.076,2,   0.0000,4,  2307.9,2,  2401.0,2,   7.5858,2,    25.00, -999.00,9, -999.00,9, -999.00,  -999.0,9, -999.00,9,     -999.0,9,  -999.0,1, 20170925,     1141, -32.4999, -75.7454,        0.0,1,      0.061,1,      4.680,1,      0.143,1,     -999.0,1,     -999.0,9,     -999.0,9,     -999.0,9,     -999.0,9,     -999.0,9,     -999.0,9,     -999.0,9,     -999.0,9,     -999.0,9,     -999.0,9,     1.6810,2,     -999.0,     -999.0,9,     -999.0
320620170820,        P06,     233,          1,          5,          5,2,20170925,       1124,   -32.4997,   -75.7455,       4315,  3248.1,   1.7513,  34.6860,2,  34.6834,2, 156.6177,2, 156.1155,2,   126.3,2,   35.10,2,    0.00,2,    2.45,2,   0.010,2,   0.045,2,   0.0000,4,  2309.8,2,  2402.8,2,   7.5780,2,    25.00, -999.00,9, -999.00,9, -999.00,  -999.0,9, -999.00,9,     -999.0,9,  -999.0,1, 20170925,     1147, -32.4999, -75.7455,        0.0,1,      0.061,1,      4.680,1,      0.130,1,     -999.0,1,     -999.0,9,     -999.0,9,     -999.0,9,     -999.0,9,     -999.0,9,     -999.0,9,     -999.0,9,     -999.0,9,     -999.0,9,     -999.0,9,     1.7525,2,     -999.0,     -999.0,9,     -999.0
320620170820,        P06,     233,          1,          6,          6,2,20170925,       1124,   -32.4997,   -75.7455,       4315,  2955.4,   1.8005,  34.6802,2,  34.6779,2, 151.4057,2, 151.5217,2,   126.4,2,   35.34,2,    0.00,2,    2.47,2,   0.013,2,   0.042,2,   0.0000,4,  2315.3,2,  2402.5,2,   7.5731,2,    25.00, -999.00,9, -999.00,9, -999.00,  -999.0,9, -999.00,9,     -999.0,9,  -999.0,1, 20170925,     1152, -32.4999, -75.7456,        0.0,1,      0.061,1,      4.680,1,      0.137,1,     -999.0,1,     -999.0,9,     -999.0,9,     -999.0,9,     -999.0,9,     -999.0,9,     -999.0,9,     -999.0,9,     -999.0,9,     -999.0,9,     -999.0,9,     1.8045,2,     -999.0,     -999.0,9,     -999.0
320620170820,        P06,     233,          1,          7,          7,2,20170925,       1124,   -32.4997,   -75.7455,       4315,  2700.8,   1.8433,  34.6749,2,  34.6716,2, 148.9283,3, 150.0594,2,   124.4,2,   35.45,2,    0.00,2,    2.47,2,   0.011,2,   0.044,2,   0.0000,4,  2314.3,2,  2399.6,2,   7.5685,2,    25.00, -999.00,9, -999.00,9, -999.00,  -999.0,9, -999.00,9,     -999.0,9,  -999.0,1, 20170925,     1157, -32.4999, -75.7456,        0.0,1,      0.061,1,      4.679,1,      0.136,1,     -999.0,1,     -999.0,9,     -999.0,9,     -999.0,9,     -999.0,9,     -999.0,9,     -999.0,9,     -999.0,9,     -999.0,9,     -999.0,9,     -999.0,9,     1.8540,2,     -999.0,     -999.0,9,     -999.0
320620170820,        P06,     233,          1,          8,          8,2,20170925,       1124,   -32.4997,   -75.7455,       4315,  2445.6,   1.9302,  34.6650,2,  34.6622,2, 145.5205,2, 146.2826,2,   121.5,2,   35.72,2,    0.00,2,    2.50,2,   0.012,2,   0.051,2,   0.0000,4,  2311.7,2,  2396.3,2,   7.5606,2,    25.00, -999.00,9, -999.00,9, -999.00,  -999.0,9, -999.00,9,     -999.0,9,  -999.0,1, 20170925,     1203, -32.4998, -75.7453,        0.0,1,      0.062,1,      4.680,1,      0.134,1,     -999.0,1,     -999.0,9,     -999.0,9,     -999.0,9,     -999.0,9,     -999.0,9,     -999.0,9,     -999.0,9,     -999.0,9,     -999.0,9,     -999.0,9,     1.9391,2,     -999.0,     -999.0,9,     -999.0
320620170820,        P06,     233,          1,          9,          9,2,20170925,       1124,   -32.4997,   -75.7455,       4315,  2190.7,   2.0683,  34.6514,2,  34.6486,2, 139.3702,2, 138.7972,2,   119.7,2,   36.37,2,    0.00,2,    2.56,2,   0.014,2,   0.059,2,   0.0000,4,  2313.0,2,  2393.3,6,   7.5476,2,    25.00, -999.00,9, -999.00,9, -999.00,  -999.0,9, -999.00,9,     -999.0,9,  -999.0,1, 20170925,     1208, -32.4998, -75.7454,        0.0,1,      0.061,1,      4.680,1,      0.136,1,     -999.0,1,     -999.0,9,     -999.0,9,     -999.0,9,     -999.0,9,     -999.0,9,     -999.0,9,     -999.0,9,     -999.0,9,     -999.0,9,     -999.0,9,     2.0754,2,     -999.0,     -999.0,9,     -999.0
320620170820,        P06,     233,          1,         10,         10,2,20170925,       1124,   -32.4997,   -75.7455,       4315,  1956.7,   2.2565,  34.6331,2,  34.6295,2, 132.0283,2, 132.2671,2,   114.2,2,   36.82,2,    0.00,2,    2.60,2,   0.012,2,   0.048,2,   0.0000,4,  2312.8,2,  2385.8,2,   7.5332,6,    25.00, -999.00,9, -999.00,9, -999.00,  -999.0,9, -999.00,9,     -999.0,9,  -999.0,1, 20170925,     1213, -32.4999, -75.7456,        0.0,1,      0.062,1,      4.680,1,      0.136,1,     -999.0,1,     -999.0,9,     -999.0,9,     -999.0,9,     -999.0,9,     -999.0,9,     -999.0,9,     -999.0,9,     -999.0,9,     -999.0,9,     -999.0,9,     2.2644,2,     -999.0,     -999.0,9,     -999.0
320620170820,        P06,     233,          1,         11,         11,2,20170925,       1124,   -32.4997,   -75.7455,       4315,  1752.8,   2.4689,  34.6129,2,  34.6091,2,  124.989,2, 125.3506,2,   109.1,2,   37.53,2,    0.00,2,    2.65,2,   0.017,2,   0.067,2,   0.0000,4,  2311.4,2,  2379.4,2,   7.5186,2,    25.00, -999.00,9, -999.00,9, -999.00,  -999.0,9, -999.00,9,     -999.0,9,  -999.0,1, 20170925,     1217, -32.4998, -75.7455,        0.0,1,      0.062,1,      4.679,1,      0.136,1,     -999.0,1,     -999.0,9,     -999.0,9,     -999.0,9,     -999.0,9,     -999.0,9,     -999.0,9,     -999.0,9,     -999.0,9,     -999.0,9,     -999.0,9,     2.4800,2,     -999.0,     -999.0,9,     -999.0
320620170820,        P06,     233,          1,         12,         12,2,20170925,       1124,   -32.4997,   -75.7455,       4315,  1582.3,   2.6988,  34.5907,2,  34.5849,2, 118.9517,2, 118.0931,2,   102.1,2,   38.17,2,    0.00,2,    2.70,2,   0.022,2,   0.077,2,   0.0000,4,  2308.4,2,  2372.6,2,   7.5059,2,    25.00, -999.00,9, -999.00,9, -999.00,  -999.0,9, -999.00,9,     -999.0,9,  -999.0,1, 20170925,     1221, -32.4998, -75.7451,        0.0,1,      0.063,1,      4.679,1,      0.138,1,     -999.0,1,     -999.0,9,     -999.0,9,     -999.0,9,     -999.0,9,     -999.0,9,     -999.0,9,     -999.0,9,     -999.0,9,     -999.0,9,     -999.0,9,     2.7308,2,     -999.0,     -999.0,9,     -999.0
320620170820,        P06,     233,          1,         13,         13,2,20170925,       1124,   -32.4997,   -75.7455,       4315,  1481.0,   2.8818,  34.5716,2,  34.5667,2, 114.8152,2, 114.3972,2,    96.8,2,   38.52,2,    0.00,2,    2.72,2,   0.014,2,   0.050,2,   0.0000,4,  2305.5,2,  2365.3,2,   7.4968,2,    25.00, -999.00,9, -999.00,9, -999.00,  -999.0,9, -999.00,9,     -999.0,9,  -999.0,1, 20170925,     1223, -32.4998, -75.7451,        0.0,1,      0.063,1,      4.678,1,      0.139,1,     -999.0,1,     -999.0,9,     -999.0,9,     -999.0,9,     -999.0,9,     -999.0,9,     -999.0,9,     -999.0,9,     -999.0,9,     -999.0,9,     -999.0,9,     2.8991,2,     -999.0,     -999.0,9,     -999.0
320620170820,        P06,     233,          1,         14,         14,2,20170925,       1124,   -32.4997,   -75.7455,       4315,  1379.4,   3.0510,  34.5500,2,  34.5459,2, 113.8788,2, 113.2764,2,    90.3,2,   38.69,2,    0.00,2,    2.72,2,   0.021,2,   0.068,2,   0.0000,4,  2300.2,2,  2356.7,2,   7.4913,2,    25.00, -999.00,9, -999.00,9, -999.00,  -999.0,9, -999.00,9,     -999.0,9,  -999.0,1, 20170925,     1226, -32.4998, -75.7450,        0.0,1,      0.062,1,      4.679,1,      0.139,1,     -999.0,1,     -999.0,9,     -999.0,9,     -999.0,9,     -999.0,9,     -999.0,9,     -999.0,9,     -999.0,9,     -999.0,9,     -999.0,9,     -999.0,9,     3.0664,2,     -999.0,     -999.0,9,     -999.0
320620170820,        P06,     233,          1,         15,         15,2,20170925,       1124,   -32.4997,   -75.7455,       4315,  1176.5,   3.3522,  34.5089,2,  34.5042,2, 112.8757,2, 113.0077,2,    79.3,2,   38.88,2,    0.00,2,    2.73,2,   0.035,2,   0.075,2,   0.0000,4,  2290.0,6,  2345.0,2,   7.4851,2,    25.00, -999.00,9, -999.00,9, -999.00,  -999.0,9, -999.00,9,     -999.0,9,  -999.0,1, 20170925,     1231, -32.4998, -75.7451,        0.0,1,      0.062,1,      4.678,1,      0.141,1,     -999.0,1,     -999.0,9,     -999.0,9,     -999.0,9,     -999.0,9,     -999.0,9,     -999.0,9,     -999.0,9,     -999.0,9,     -999.0,9,     -999.0,9,     3.3551,2,     -999.0,     -999.0,9,     -999.0
320620170820,        P06,     233,          1,         16,         16,2,20170925,       1124,   -32.4997,   -75.7455,       4315,   975.1,   3.8922,  34.4076,2,  34.3972,2, 139.3551,2, 138.3772,2,    52.4,2,   36.95,2,    0.00,2,    2.57,2,   0.350,2,   0.226,2,   0.0000,4,  2250.9,2,  2313.9,2,   7.5115,2,    25.00, -999.00,9, -999.00,9, -999.00,  -999.0,9, -999.00,9,     -999.0,9,  -999.0,1, 20170925,     1235, -32.4998, -75.7452,        0.0,1,      0.062,1,      4.678,1,      0.143,1,     -999.0,1,     -999.0,9,     -999.0,9,     -999.0,9,     -999.0,9,     -999.0,9,     -999.0,9,     -999.0,9,     -999.0,9,     -999.0,9,     -999.0,9,     3.9158,2,     -999.0,     -999.0,9,     -999.0
320620170820,        P06,     233,          1,         17,         17,2,20170925,       1124,   -32.4997,   -75.7455,       4315,   871.0,   4.2579,  34.3538,2,  34.3470,2, 156.4506,2, 157.4727,2,    39.8,2,   35.13,2,    0.00,2,    2.42,2,   0.857,2,   0.498,2,   0.1030,4,  2229.7,2,  2300.5,2,   7.5394,2,    25.00, -999.00,9, -999.00,9, -999.00,  -999.0,9, -999.00,9,     -999.0,9,  -999.0,1, 20170925,     1238, -32.4998, -75.7453,        0.0,1,      0.061,1,      4.678,1,      0.142,1,     -999.0,1,     -999.0,9,     -999.0,9,     -999.0,9,     -999.0,9,     -999.0,9,     -999.0,9,     -999.0,9,     -999.0,9,     -999.0,9,     -999.0,9,     4.2904,2,     -999.0,     -999.0,9,     -999.0
320620170820,        P06,     233,          1,         18,         18,2,20170925,       1124,   -32.4997,   -75.7455,       4315,   771.6,   4.7487,  34.3176,2,  34.3136,2, 171.0283,2, 171.7912,2,    29.8,2,   33.40,2,    0.00,2,    2.31,2,   1.400,2,   0.738,2,   0.3120,4,  2211.8,2,  2290.4,2,   7.5627,2,    25.00, -999.00,9, -999.00,9, -999.00,  -999.0,9, -999.00,9,     -999.0,9,  -999.0,1, 20170925,     1240, -32.4998, -75.7452,        0.0,1,      0.061,1,      4.677,1,      0.144,1,     -999.0,1,     -999.0,9,     -999.0,9,     -999.0,9,     -999.0,9,     -999.0,9,     -999.0,9,     -999.0,9,     -999.0,9,     -999.0,9,     -999.0,9,     4.7403,2,     -999.0,     -999.0,9,     -999.0
320620170820,        P06,     233,          1,         19,         19,2,20170925,       1124,   -32.4997,   -75.7455,       4315,   671.9,   5.2801,  34.2846,2,  34.2783,2, 195.3321,2,  194.906,2,    18.3,2,   30.42,2,    0.00,2,    2.08,2,   2.720,2,   1.301,2,   0.2670,4,  2189.3,2,  2280.4,2,   7.5967,2,    25.00, -999.00,9, -999.00,9, -999.00,  -999.0,9, -999.00,9,     -999.0,9,  -999.0,1, 20170925,     1243, -32.4998, -75.7454,        0.0,1,      0.060,1,      4.676,1,      0.145,1,     -999.0,1,     -999.0,9,     -999.0,9,     -999.0,9,     -999.0,9,     -999.0,9,     -999.0,9,     -999.0,9,     -999.0,9,     -999.0,9,     -999.0,9,     5.3563,2,     -999.0,     -999.0,9,     -999.0
320620170820,        P06,     233,          1,         20,         20,2,20170925,       1124,   -32.4997,   -75.7455,       4315,   567.4,   5.8188,  34.2831,2,  34.2793,2,   200.28,2, 199.7742,2,    13.8,2,   28.94,2,    0.00,2,    1.98,2,   3.418,2,   1.627,2,   0.6900,4,  2182.5,6,  2276.1,2,   7.6050,2,    25.00, -999.00,9, -999.00,9, -999.00,  -999.0,9, -999.00,9,     -999.0,9,  -999.0,1, 20170925,     1246, -32.4998, -75.7455,        0.0,1,      0.060,1,      4.675,1,      0.148,1,     -999.0,1,     -999.0,9,     -999.0,9,     -999.0,9,     -999.0,9,     -999.0,9,     -999.0,9,     -999.0,9,     -999.0,9,     -999.0,9,     -999.0,9,     5.8587,2,     -999.0,     -999.0,9,     -999.0
320620170820,        P06,     233,          1,         21,         21,2,20170925,       1124,   -32.4997,   -75.7455,       4315,   467.7,   6.7772,  34.3533,2,  34.3568,2, 126.1813,2,  126.372,2,    17.3,2,   32.90,2,    0.00,2,    2.32,2,   2.521,2,   1.311,2,   0.5180,4,  2222.4,2,  2277.0,2,   7.4908,2,    25.00, -999.00,9, -999.00,9, -999.00,  -999.0,9, -999.00,9,     -999.0,9,  -999.0,1, 20170925,     1248, -32.4998, -75.7459,        0.0,1,      0.062,1,      4.668,1,      0.153,1,     -999.0,1,     -999.0,9,     -999.0,9,     -999.0,9,     -999.0,9,     -999.0,9,     -999.0,9,     -999.0,9,     -999.0,9,     -999.0,9,     -999.0,9,     6.9234,2,     -999.0,     -999.0,9,     -999.0
320620170820,        P06,     233,          1,         22,         22,2,20170925,       1124,   -32.4997,   -75.7455,       4315,   438.0,   7.3016,  34.3953,2,  34.3931,2,  90.6544,2,  94.8462,2,    19.1,2,   34.34,2,    0.00,2,    2.45,2,   2.090,2,   1.138,2,   0.5330,4,  2239.6,2,  2279.0,2,   7.4405,2,    25.00, -999.00,9, -999.00,9, -999.00,  -999.0,9, -999.00,9,     -999.0,9,  -999.0,1, 20170925,     1250, -32.4999, -75.7460,        0.0,1,      0.063,1,      4.663,1,      0.163,1,     -999.0,1,     -999.0,9,     -999.0,9,     -999.0,9,     -999.0,9,     -999.0,9,     -999.0,9,     -999.0,9,     -999.0,9,     -999.0,9,     -999.0,9,     7.3972,2,     -999.0,     -999.0,9,     -999.0
320620170820,        P06,     233,          1,         23,         23,2,20170925,       1124,   -32.4997,   -75.7455,       4315,   367.5,   8.4081,  34.4578,2,  34.4569,2,  51.4921,2,  55.3365,2,    20.7,2,   33.70,2,    0.00,2,    2.60,2,   1.715,2,   0.968,2,   0.4160,4,  2261.6,2,  2280.3,2,   7.3838,2,    25.00, -999.00,9, -999.00,9, -999.00,  -999.0,9, -999.00,9,     -999.0,9,  -999.0,1, 20170925,     1252, -32.4999, -75.7463,        0.0,1,      0.065,1,      4.657,1,      0.171,1,     -999.0,1,     -999.0,9,     -999.0,9,     -999.0,9,     -999.0,9,     -999.0,9,     -999.0,9,     -999.0,9,     -999.0,9,     -999.0,9,     -999.0,9,     8.4905,2,     -999.0,     -999.0,9,     -999.0
320620170820,        P06,     233,          1,         24,         24,2,20170925,       1124,   -32.4997,   -75.7455,       4315,   287.3,   9.6448,  34.4797,2,  34.4726,2,  51.2637,2,  53.1117,2,    19.1,2,   28.82,2,    0.00,2,    2.54,2,   1.828,2,   1.056,2,   0.9160,4,  2254.6,2,  2278.6,6,   7.3931,2,    25.00, -999.00,9, -999.00,9, -999.00,  -999.0,9, -999.00,9,     -999.0,9,  -999.0,1, 20170925,     1254, -32.4999, -75.7464,        0.0,1,      0.063,1,      4.660,1,      0.170,1,     -999.0,1,     -999.0,1,     -999.0,9,     -999.0,9,     -999.0,9,     -999.0,9,     -999.0,9,     -999.0,9,     -999.0,9,     -999.0,9,     -999.0,9,     9.6435,2,     -999.0,     -999.0,9,     -999.0
320620170820,        P06,     233,          1,         25,         25,2,20170925,       1124,   -32.4997,   -75.7455,       4315,   235.6,  10.3824,  34.4249,2,  34.4375,2,  61.7922,2,  63.6643,2,    17.1,2,   26.08,2,    0.00,2,    2.45,2,   2.091,2,   1.238,2,   0.4560,4,  2244.2,2,  2275.7,2,   7.4152,6,    25.00, -999.00,9, -999.00,9, -999.00,  -999.0,9, -999.00,9,     -999.0,9,  -999.0,1, 20170925,     1256, -32.4998, -75.7460,        0.0,1,      0.064,1,      4.659,1,      0.161,1,     -999.0,1,     -999.0,1,     -999.0,9,     -999.0,9,     -999.0,9,     -999.0,9,     -999.0,9,     -999.0,9,     -999.0,9,     -999.0,9,     -999.0,9,    10.3376,2,     -999.0,     -999.0,9,     -999.0
320620170820,        P06,     233,          1,         26,         26,2,20170925,       1124,   -32.4997,   -75.7455,       4315,   184.9,  10.8240,  34.1664,2,  34.1719,2, 148.1033,2, 157.4666,2,     6.3,2,   21.75,2,    0.00,2,    1.74,2,   3.042,2,   1.659,2,   1.0500,4,  2169.2,2,  2261.2,2,   7.6050,2,    25.00, -999.00,9, -999.00,9, -999.00,  -999.0,9, -999.00,9,     -999.0,9,  -999.0,1, 20170925,     1258, -32.4998, -75.7458,        0.0,1,      0.062,1,      4.661,1,      0.161,1,     -999.0,1,     -999.0,1,     -999.0,1,     -999.0,1,     -999.0,1,     -999.0,1,     -999.0,1,     -999.0,9,     -999.0,9,     -999.0,9,     -999.0,9,    10.8140,2,     -999.0,     -999.0,9,     -999.0