BOTTLE,20240211CCHSIOCBG
EXPOCODE,SECT_ID,STNNBR,CASTNO,SAMPNO,BTLNBR,BTLNBR_FLAG_W,DATE,TIME,LATITUDE,LONGITUDE,DEPTH,CTDPRS,CTDTMP,CTDSAL,CTDSAL_FLAG_W,SALNTY,SALNTY_FLAG_W,CTDOXY,CTDOXY_FLAG_W,OXYGEN,OXYGEN_FLAG_W,SILCAT,SILCAT_FLAG_W,NITRAT,NITRAT_FLAG_W,NITRIT,NITRIT_FLAG_W,PHSPHT,PHSPHT_FLAG_W,CFC-11,CFC-11_FLAG_W,CFC-12,CFC-12_FLAG_W,SF6,SF6_FLAG_W,TCARBN,TCARBN_FLAG_W,ALKALI,ALKALI_FLAG_W,PH_TOT,PH_TOT_FLAG_W,PH_TMP,DELC13,DELC13_FLAG_W,DELC14,DELC14_FLAG_W,C14ERR,DOC,DOC_FLAG_W,TDN,TDN_FLAG_W,TON,TON_FLAG_W,D15N_NO3,D15N_NO3_FLAG_W,BTL_DATE,BTL_TIME,BTL_LAT,BTL_LON,CTDRINKO,CTDRINKO_FLAG_W,CTDFLUOR,CTDFLUOR_FLAG_W,CTDXMISS,CTDXMISS_FLAG_W,CTDBACKSCATTER,CTDBACKSCATTER_FLAG_W,D18O_NO3,D18O_NO3_FLAG_W,DOP,DOP_FLAG_W,CELLCOUNT,CELLCOUNT_FLAG_W,TDP,TDP_FLAG_W,POP,POP_FLAG_W,DATP,DATP_FLAG_W,PATP,PATP_FLAG_W,HPLC,HPLC_FLAG_W,POC,POC_FLAG_W,BEAMAP,BEAMAP_FLAG_W,DOC_NASA,DOC_NASA_FLAG_W,REFTMP,REFTMP_FLAG_W,DOC_NASA_ERROR,TDN_NASA,TDN_NASA_FLAG_W,TDN_NASA_ERROR
,,,,,,,,,,,METERS,DBAR,ITS-90,PSS-78,,PSS-78,,UMOL/KG,,UMOL/KG,,UMOL/KG,,UMOL/KG,,UMOL/KG,,UMOL/KG,,PMOL/KG,,PMOL/KG,,FMOL/KG,,UMOL/KG,,UMOL/KG,,,,DEG C,/MILLE,,/MILLE,,/MILLE,UMOL/KG,,UMOL/KG,,UMOL/KG,,/MILLE,,,,,,VOLTS,,VOLTS,,VOLTS,,VOLTS,,/MILLE,,UMOL/KG,,/LITER,,UMOL/KG,,UMOL/L,,PMOL/L,,PMOL/L,,,,UG/L,,/METER,,UMOL/L,,ITS-90,,UMOL/L,UMOL/L,,UMOL/L
320620170820,        P06,     242,          1,         27,         27,2,20170928,       0014,   -32.4997,   -72.4756,       4379,   315.2,   8.8633,  34.5366,2,  34.5331,2,  30.3695,2,  26.1349,2,    24.4,2,   35.07,2,    0.00,2,    2.78,2,-999.000,9,-999.000,9,-999.0000,9,  -999.0,9,  -999.0,9,-999.0000,9,  -999.00, -999.00,9, -999.00,9, -999.00,    43.3,2, -999.00,9,     -999.0,1,  -999.0,9, 20170928,      151, -32.4997, -72.4758,        0.0,1,      0.067,1,      4.644,1,      0.193,1,     -999.0,9,     -999.0,9,     -999.0,9,     -999.0,9,     -999.0,9,     -999.0,9,     -999.0,9,     -999.0,9,     -999.0,9,     -999.0,9,     -999.0,9,     8.8771,2,     -999.0,     -999.0,9,     -999.0
320620170820,        P06,     242,          1,         28,         28,2,20170928,       0014,   -32.4997,   -72.4756,       4379,   266.5,   9.5134,  34.5640,2,  34.5555,2,  25.7361,2,  22.3796,2,    23.7,2,   31.92,2,    0.00,2,    2.75,2,-999.000,9,-999.000,9,-999.0000,9,  -999.0,9,  -999.0,9,-999.0000,9,  -999.00, -999.00,9, -999.00,9, -999.00,    42.1,2,   34.50,2,     -999.0,1,  -999.0,9, 20170928,      153, -32.4997, -72.4757,        0.0,1,      0.068,1,      4.642,1,      0.187,1,     -999.0,9,     -999.0,9,     -999.0,9,     -999.0,9,     -999.0,9,     -999.0,9,     -999.0,9,     -999.0,9,     -999.0,9,     -999.0,9,     -999.0,9,     9.5085,2,     -999.0,     -999.0,9,     -999.0
320620170820,        P06,     242,          1,         29,         29,2,20170928,       0014,   -32.4997,   -72.4756,       4379,   215.2,  10.5733,  34.6193,2,  34.6040,2,  20.1401,2,   16.717,2,    23.7,2,   27.72,2,    0.02,2,    2.76,2,-999.000,9,-999.000,9,-999.0000,9,  2278.1,2,  2287.0,2,   7.3450,2,    25.00, -999.00,9, -999.00,9, -999.00,    47.0,3,   30.60,2,     -999.0,1,  -999.0,9, 20170928,      155, -32.4997, -72.4756,        0.0,1,      0.073,1,      4.631,1,      0.191,1,     -999.0,9,     -999.0,9,     -999.0,9,     -999.0,9,     -999.0,9,     -999.0,9,     -999.0,9,     -999.0,9,     -999.0,9,     -999.0,9,     -999.0,9,    10.4040,2,     -999.0,     -999.0,9,     -999.0
320620170820,        P06,     242,          1,         30,         30,2,20170928,       0014,   -32.4997,   -72.4756,       4379,   165.2,  10.9913,  34.5936,2,  34.5847,2,  25.3305,2,  25.4179,2,    21.8,2,   24.77,2,    0.02,2,    2.68,2,-999.000,9,-999.000,9,-999.0000,9,  -999.0,9,  -999.0,9,-999.0000,9,  -999.00, -999.00,9, -999.00,9, -999.00,    42.2,2,   26.90,2,     -999.0,1,  -999.0,9, 20170928,      157, -32.4997, -72.4755,        0.0,1,      0.069,1,      4.628,1,      0.221,1,     -999.0,9,     -999.0,9,     -999.0,9,     -999.0,9,     -999.0,9,     -999.0,9,     -999.0,9,     -999.0,9,     -999.0,9,     -999.0,9,     -999.0,9,    11.0151,2,     -999.0,     -999.0,9,     -999.0
320620170820,        P06,     242,          1,         31,         31,2,20170928,       0014,   -32.4997,   -72.4756,       4379,   135.3,  11.0747,  34.4755,2,  34.4520,2,  62.5211,2,  61.8844,2,    16.3,2,   24.70,2,    0.05,2,    2.45,2,-999.000,9,-999.000,9,-999.0000,9,  -999.0,9,  -999.0,9,-999.0000,9,  -999.00, -999.00,9, -999.00,9, -999.00,    43.6,2,   26.10,2,     -999.0,1,  -999.0,9, 20170928,      159, -32.4997, -72.4754,        0.0,1,      0.071,1,      4.619,1,      0.218,1,     -999.0,9,     -999.0,9,     -999.0,9,     -999.0,9,     -999.0,9,     -999.0,9,     -999.0,9,     -999.0,9,     -999.0,9,     -999.0,9,     -999.0,9,    11.1333,2,     -999.0,     -999.0,9,     -999.0
320620170820,        P06,     242,          1,         32,         32,2,20170928,       0014,   -32.4997,   -72.4756,       4379,   109.3,  11.4666,  34.4108,2,  34.3737,2, 101.0848,2,  104.668,2,    12.2,2,   23.47,2,    0.06,2,    2.21,2,-999.000,9,-999.000,9,-999.0000,9,  -999.0,9,  -999.0,9,-999.0000,9,  -999.00, -999.00,9, -999.00,9, -999.00,    48.6,2,   25.80,2,     -999.0,1,  -999.0,9, 20170928,      200, -32.4997, -72.4754,        0.0,1,      0.077,1,      4.629,1,      0.200,1,     -999.0,9,     -999.0,9,     -999.0,9,     -999.0,9,     -999.0,9,     -999.0,9,     -999.0,9,     -999.0,9,     -999.0,9,     -999.0,9,     -999.0,9,    11.5090,2,     -999.0,     -999.0,9,     -999.0
320620170820,        P06,     242,          1,         33,         33,2,20170928,       0014,   -32.4997,   -72.4756,       4379,    83.5,  12.3933,  34.2348,2,  34.2179,3,  219.444,2, 220.0884,2,     3.2,2,   11.57,2,    0.19,2,    1.21,2,-999.000,9,-999.000,9,-999.0000,9,  2119.7,2,  2271.7,2,   7.7650,2,    25.00, -999.00,9, -999.00,9, -999.00,    51.3,2,   15.80,2,     -999.0,1,  -999.0,9, 20170928,      202, -32.4997, -72.4754,        0.0,1,      0.126,1,      4.615,1,      0.193,1,     -999.0,9,     -999.0,9,     -999.0,9,     -999.0,9,     -999.0,9,     -999.0,9,     -999.0,9,     -999.0,9,     -999.0,9,     -999.0,9,     -999.0,9,    12.8483,2,     -999.0,     -999.0,9,     -999.0
320620170820,        P06,     242,          1,         34,         34,2,20170928,       0014,   -32.4997,   -72.4756,       4379,    58.6,  13.2225,  34.1854,2,  34.1826,2,  258.439,2, 259.6867,2,     0.9,2,    6.88,2,    0.21,2,    0.87,2,-999.000,9,-999.000,9,-999.0000,9,  -999.0,9,  -999.0,9,-999.0000,9,  -999.00, -999.00,9, -999.00,9, -999.00,    57.7,2,   10.60,2,     -999.0,1,  -999.0,9, 20170928,      203, -32.4997, -72.4754,        0.0,1,      0.261,1,      4.541,1,      0.233,1,     -999.0,9,     -999.0,9,     -999.0,9,     -999.0,9,     -999.0,9,     -999.0,9,     -999.0,9,     -999.0,9,     -999.0,9,     -999.0,9,     -999.0,9,    13.2170,2,     -999.0,     -999.0,9,     -999.0
320620170820,        P06,     242,          1,         35,         35,2,20170928,       0014,   -32.4997,   -72.4756,       4379,    34.0,  13.2280,  34.1861,2,  34.1820,2, 258.5274,2, 258.4927,2,     0.8,2,    6.79,2,    0.21,2,    0.85,2,-999.000,9,-999.000,9,-999.0000,9,  -999.0,9,  -999.0,9,-999.0000,9,  -999.00, -999.00,9, -999.00,9, -999.00,    54.9,3,   10.50,2,     -999.0,1,  -999.0,9, 20170928,      205, -32.4997, -72.4755,        0.0,1,      0.304,1,      4.521,1,      0.249,1,     -999.0,9,     -999.0,9,     -999.0,9,     -999.0,9,     -999.0,9,     -999.0,9,     -999.0,9,     -999.0,9,     -999.0,9,     -999.0,9,     -999.0,9,    13.2270,2,     -999.0,     -999.0,9,     -999.0
320620170820,        P06,     242,          1,         36,         36,2,20170928,       0014,   -32.4997,   -72.4756,       4379,     3.6,  13.4364,  34.1907,2,  34.1887,2, 263.3551,2, 263.6285,2,     0.9,2,    6.73,2,    0.21,2,    0.86,2,-999.000,9,-999.000,9,-999.0000,9,  2079.9,2,  2274.0,2,   7.8533,2,    25.00, -999.00,9, -999.00,9, -999.00,    58.4,2,   10.80,2,     -999.0,1,  -999.0,9, 20170928,      207, -32.4997, -72.4756,        0.0,1,      0.192,1,      4.531,1,      0.222,1,     -999.0,9,     -999.0,9,     -999.0,9,     -999.0,9,     -999.0,9,     -999.0,9,     -999.0,9,     -999.0,9,     -999.0,9,     -999.0,9,     -999.0,9,    13.4087,2,     -999.0,     -999.0,9,     -999.0