BOTTLE,20240211CCHSIOCBG
EXPOCODE,SECT_ID,STNNBR,CASTNO,SAMPNO,BTLNBR,BTLNBR_FLAG_W,DATE,TIME,LATITUDE,LONGITUDE,DEPTH,CTDPRS,CTDTMP,CTDSAL,CTDSAL_FLAG_W,SALNTY,SALNTY_FLAG_W,CTDOXY,CTDOXY_FLAG_W,OXYGEN,OXYGEN_FLAG_W,SILCAT,SILCAT_FLAG_W,NITRAT,NITRAT_FLAG_W,NITRIT,NITRIT_FLAG_W,PHSPHT,PHSPHT_FLAG_W,CFC-11,CFC-11_FLAG_W,CFC-12,CFC-12_FLAG_W,SF6,SF6_FLAG_W,TCARBN,TCARBN_FLAG_W,ALKALI,ALKALI_FLAG_W,PH_TOT,PH_TOT_FLAG_W,PH_TMP,DELC13,DELC13_FLAG_W,DELC14,DELC14_FLAG_W,C14ERR,DOC,DOC_FLAG_W,TDN,TDN_FLAG_W,TON,TON_FLAG_W,D15N_NO3,D15N_NO3_FLAG_W,BTL_DATE,BTL_TIME,BTL_LAT,BTL_LON,CTDRINKO,CTDRINKO_FLAG_W,CTDFLUOR,CTDFLUOR_FLAG_W,CTDXMISS,CTDXMISS_FLAG_W,CTDBACKSCATTER,CTDBACKSCATTER_FLAG_W,D18O_NO3,D18O_NO3_FLAG_W,DOP,DOP_FLAG_W,CELLCOUNT,CELLCOUNT_FLAG_W,TDP,TDP_FLAG_W,POP,POP_FLAG_W,DATP,DATP_FLAG_W,PATP,PATP_FLAG_W,HPLC,HPLC_FLAG_W,POC,POC_FLAG_W,BEAMAP,BEAMAP_FLAG_W,DOC_NASA,DOC_NASA_FLAG_W,REFTMP,REFTMP_FLAG_W,DOC_NASA_ERROR,TDN_NASA,TDN_NASA_FLAG_W,TDN_NASA_ERROR
,,,,,,,,,,,METERS,DBAR,ITS-90,PSS-78,,PSS-78,,UMOL/KG,,UMOL/KG,,UMOL/KG,,UMOL/KG,,UMOL/KG,,UMOL/KG,,PMOL/KG,,PMOL/KG,,FMOL/KG,,UMOL/KG,,UMOL/KG,,,,DEG C,/MILLE,,/MILLE,,/MILLE,UMOL/KG,,UMOL/KG,,UMOL/KG,,/MILLE,,,,,,VOLTS,,VOLTS,,VOLTS,,VOLTS,,/MILLE,,UMOL/KG,,/LITER,,UMOL/KG,,UMOL/L,,PMOL/L,,PMOL/L,,,,UG/L,,/METER,,UMOL/L,,ITS-90,,UMOL/L,UMOL/L,,UMOL/L
320620170820,        P06,     167,          1,          1,          1,2,20170904,       0948,   -32.4997,  -128.8002,       4282,  4343.8,   1.5895,  34.6896,2,  34.6903,2, 176.3129,2,  176.973,2,   122.0,2,   33.95,2,    0.00,2,    2.34,2,   0.029,2,   0.017,2,   0.0000,2,  2293.8,6,  2392.5,2,   7.5993,2,    25.00, -999.00,9, -999.00,9, -999.00,  -999.0,9, -999.00,9,     -999.0,9,  -999.0,9, 20170904,      948, -32.4993,-128.7993,        0.0,1,      0.061,1,      4.692,1,      0.126,1,     -999.0,9,     -999.0,9,     -999.0,9,     -999.0,9,     -999.0,9,     -999.0,9,     -999.0,9,     -999.0,9,     -999.0,9,     -999.0,9,     -999.0,9,     1.5901,2,     -999.0,     -999.0,9,     -999.0
320620170820,        P06,     167,          1,          2,          2,2,20170904,       0948,   -32.4997,  -128.8002,       4282,  4272.2,   1.5868,  34.6895,2,  34.6883,2, 176.3129,2, 177.0675,2,   122.2,2,   33.96,2,    0.00,2,    2.34,2,   0.032,2,   0.017,2,   0.0000,2,  -999.0,9,  -999.0,9,-999.0000,9,  -999.00, -999.00,9, -999.00,9, -999.00,  -999.0,9, -999.00,9,     -999.0,9,  -999.0,9, 20170904,      953, -32.4994,-128.7994,        0.0,1,      0.060,1,      4.692,1,      0.125,1,     -999.0,9,     -999.0,9,     -999.0,9,     -999.0,9,     -999.0,9,     -999.0,9,     -999.0,9,     -999.0,9,     -999.0,9,     -999.0,9,     -999.0,9,     1.5864,2,     -999.0,     -999.0,9,     -999.0
320620170820,        P06,     167,          1,          3,          3,2,20170904,       0948,   -32.4997,  -128.8002,       4282,  4168.4,   1.5832,  34.6891,2,  34.6883,2, 176.3129,2, 176.5524,2,   121.9,2,   33.98,2,    0.00,2,    2.34,2,   0.033,2,   0.021,2,   0.0000,2,  2292.2,2,  2394.0,2,   7.5989,2,    25.00, -999.00,9, -999.00,9, -999.00,  -999.0,9, -999.00,9,     -999.0,9,  -999.0,9, 20170904,      956, -32.4994,-128.7994,        0.0,1,      0.062,1,      4.692,1,      0.125,1,     -999.0,9,     -999.0,9,     -999.0,9,     -999.0,9,     -999.0,9,     -999.0,9,     -999.0,9,     -999.0,9,     -999.0,9,     -999.0,9,     -999.0,9,     1.5832,2,     -999.0,     -999.0,9,     -999.0
320620170820,        P06,     167,          1,          4,          4,2,20170904,       0948,   -32.4997,  -128.8002,       4282,  3859.3,   1.5761,  34.6873,2,  34.6861,2, 175.9834,2, 175.1409,2,   122.2,2,   34.09,2,    0.00,2,    2.34,2,   0.032,2,   0.018,2,   0.0000,2,  -999.0,9,  -999.0,9,-999.0000,9,  -999.00, -999.00,9, -999.00,9, -999.00,  -999.0,9, -999.00,9,     -999.0,9,  -999.0,9, 20170904,     1002, -32.4993,-128.7994,        0.0,1,      0.061,1,      4.693,1,      0.124,1,     -999.0,9,     -999.0,9,     -999.0,9,     -999.0,9,     -999.0,9,     -999.0,9,     -999.0,9,     -999.0,9,     -999.0,9,     -999.0,9,     -999.0,9,     1.5735,2,     -999.0,     -999.0,9,     -999.0
320620170820,        P06,     167,          1,          5,          5,2,20170904,       0948,   -32.4997,  -128.8002,       4282,  3552.6,   1.5891,  34.6843,2,  34.6836,2, 173.5242,2, 172.5248,2,   122.7,2,   34.25,2,    0.00,2,    2.36,2,   0.028,2,   0.018,2,   0.0000,2,  2295.3,2,  2392.9,2,   7.5953,2,    25.00, -999.00,9, -999.00,9, -999.00,  -999.0,9, -999.00,9,     -999.0,9,  -999.0,9, 20170904,     1009, -32.4993,-128.7992,        0.0,1,      0.061,1,      4.694,1,      0.124,1,     -999.0,9,     -999.0,9,     -999.0,9,     -999.0,9,     -999.0,9,     -999.0,9,     -999.0,9,     -999.0,9,     -999.0,9,     -999.0,9,     -999.0,9,     1.5894,2,     -999.0,     -999.0,9,     -999.0
320620170820,        P06,     167,          1,          6,          6,2,20170904,       0948,   -32.4997,  -128.8002,       4282,  3246.3,   1.6179,  34.6802,2,  34.6789,2,  170.017,2, 169.7325,2,   122.7,2,   34.41,2,    0.00,2,    2.38,2,   0.034,2,   0.019,2,   0.0000,2,  -999.0,9,  -999.0,9,-999.0000,9,  -999.00, -999.00,9, -999.00,9, -999.00,  -999.0,9, -999.00,9,     -999.0,9,  -999.0,9, 20170904,     1016, -32.4992,-128.7992,        0.0,1,      0.061,1,      4.694,1,      0.126,1,     -999.0,9,     -999.0,9,     -999.0,9,     -999.0,9,     -999.0,9,     -999.0,9,     -999.0,9,     -999.0,9,     -999.0,9,     -999.0,9,     -999.0,9,     1.6150,2,     -999.0,     -999.0,9,     -999.0
320620170820,        P06,     167,          1,          7,          7,2,20170904,       0948,   -32.4997,  -128.8002,       4282,  2954.4,   1.6675,  34.6746,2,  34.6737,2, 166.2851,2, 166.3918,2,   123.0,2,   34.65,2,    0.00,2,    2.40,2,   0.030,2,   0.019,2,   0.0000,2,  2301.1,2,  2395.5,2,   7.5882,2,    25.00, -999.00,9, -999.00,9, -999.00,  -999.0,9, -999.00,9,     -999.0,9,  -999.0,9, 20170904,     1023, -32.4992,-128.7992,        0.0,1,      0.061,1,      4.695,1,      0.125,1,     -999.0,9,     -999.0,9,     -999.0,9,     -999.0,9,     -999.0,9,     -999.0,9,     -999.0,9,     -999.0,9,     -999.0,9,     -999.0,9,     -999.0,9,     1.6596,2,     -999.0,     -999.0,9,     -999.0
320620170820,        P06,     167,          1,          8,          8,2,20170904,       0948,   -32.4997,  -128.8002,       4282,  2699.1,   1.7239,  34.6689,2,  34.6679,2, 162.3781,2, 162.5619,2,   122.5,2,   34.89,2,    0.00,2,    2.42,2,   0.033,2,   0.021,2,   0.0000,2,  -999.0,9,  -999.0,9,-999.0000,9,  -999.00, -999.00,9, -999.00,9, -999.00,  -999.0,9, -999.00,9,     -999.0,9,  -999.0,9, 20170904,     1028, -32.4992,-128.7991,        0.0,1,      0.061,1,      4.695,1,      0.124,1,     -999.0,9,     -999.0,9,     -999.0,9,     -999.0,9,     -999.0,9,     -999.0,9,     -999.0,9,     -999.0,9,     -999.0,9,     -999.0,9,     -999.0,9,     1.7192,2,     -999.0,     -999.0,9,     -999.0
320620170820,        P06,     167,          1,          9,          9,2,20170904,       0948,   -32.4997,  -128.8002,       4282,  2442.6,   1.8293,  34.6599,2,  34.6586,2, 158.9981,2, 159.0333,2,   120.7,2,   35.09,2,    0.00,2,    2.43,2,   0.035,2,   0.021,2,   0.0000,2,  2303.5,2,  2395.7,2,   7.5788,2,    25.00, -999.00,9, -999.00,9, -999.00,  -999.0,9, -999.00,9,     -999.0,9,  -999.0,9, 20170904,     1034, -32.4993,-128.7993,        0.0,1,      0.061,1,      4.695,1,      0.126,1,     -999.0,9,     -999.0,9,     -999.0,9,     -999.0,9,     -999.0,9,     -999.0,9,     -999.0,9,     -999.0,9,     -999.0,9,     -999.0,9,     -999.0,9,     1.8200,2,     -999.0,     -999.0,9,     -999.0
320620170820,        P06,     167,          1,         10,         10,2,20170904,       0948,   -32.4997,  -128.8002,       4282,  2190.3,   1.9589,  34.6482,2,  34.6480,2, 156.5713,2, 156.3248,2,   117.0,2,   35.22,2,    0.00,2,    2.43,2,   0.034,2,   0.020,2,   0.0000,2,  -999.0,9,  -999.0,9,-999.0000,9,  -999.00, -999.00,9, -999.00,9, -999.00,  -999.0,9, -999.00,9,     -999.0,9,  -999.0,9, 20170904,     1040, -32.4993,-128.7994,        0.0,1,      0.061,1,      4.695,1,      0.127,1,     -999.0,9,     -999.0,9,     -999.0,9,     -999.0,9,     -999.0,9,     -999.0,9,     -999.0,9,     -999.0,9,     -999.0,9,     -999.0,9,     -999.0,9,     1.9383,2,     -999.0,     -999.0,9,     -999.0
320620170820,        P06,     167,          1,         11,         11,2,20170904,       0948,   -32.4997,  -128.8002,       4282,  1956.5,   2.1265,  34.6319,2,  34.6321,2, 156.1813,2, 156.4337,2,   108.9,2,   35.16,2,    0.00,2,    2.42,2,   0.039,2,   0.023,2,   0.0000,2,  2296.1,6,  2382.6,2,   7.5719,2,    25.00, -999.00,9, -999.00,9, -999.00,  -999.0,9, -999.00,9,     -999.0,9,  -999.0,9, 20170904,     1046, -32.4992,-128.7992,        0.0,1,      0.061,1,      4.695,1,      0.128,1,     -999.0,9,     -999.0,9,     -999.0,9,     -999.0,9,     -999.0,9,     -999.0,9,     -999.0,9,     -999.0,9,     -999.0,9,     -999.0,9,     -999.0,9,     2.1175,2,     -999.0,     -999.0,9,     -999.0
320620170820,        P06,     167,          1,         12,         12,2,20170904,       0948,   -32.4997,  -128.8002,       4282,  1753.2,   2.3416,  34.6021,2,  34.5991,2, 158.6205,2, 158.8841,2,    96.9,2,   35.01,2,    0.00,2,    2.41,2,   0.052,2,   0.033,2,   0.0000,2,  -999.0,9,  -999.0,9,-999.0000,9,  -999.00, -999.00,9, -999.00,9, -999.00,  -999.0,9, -999.00,9,     -999.0,9,  -999.0,9, 20170904,     1051, -32.4992,-128.7992,        0.0,1,      0.060,1,      4.695,1,      0.128,1,     -999.0,9,     -999.0,9,     -999.0,9,     -999.0,9,     -999.0,9,     -999.0,9,     -999.0,9,     -999.0,9,     -999.0,9,     -999.0,9,     -999.0,9,     2.3476,2,     -999.0,     -999.0,9,     -999.0
320620170820,        P06,     167,          1,         13,         13,2,20170904,       0948,   -32.4997,  -128.8002,       4282,  1581.3,   2.5708,  34.5587,2,  34.5561,2, 162.6207,2, 163.0888,2,    84.3,2,   34.83,2,    0.00,2,    2.39,2,   0.089,2,   0.055,2,   0.0000,2,  2270.7,2,  2355.1,6,   7.5673,2,    25.00, -999.00,9, -999.00,9, -999.00,  -999.0,9, -999.00,9,     -999.0,9,  -999.0,9, 20170904,     1055, -32.4993,-128.7994,        0.0,1,      0.061,1,      4.696,1,      0.129,1,     -999.0,9,     -999.0,9,     -999.0,9,     -999.0,9,     -999.0,9,     -999.0,9,     -999.0,9,     -999.0,9,     -999.0,9,     -999.0,9,     -999.0,9,     2.5755,2,     -999.0,     -999.0,9,     -999.0
320620170820,        P06,     167,          1,         14,         14,2,20170904,       0948,   -32.4997,  -128.8002,       4282,  1478.7,   2.7543,  34.5216,2,  34.5172,2, 165.9139,2, 165.8217,2,    75.4,2,   34.74,2,    0.00,2,    2.38,2,   0.144,2,   0.087,2,   0.0000,2,  -999.0,9,  -999.0,9,-999.0000,9,  -999.00, -999.00,9, -999.00,9, -999.00,  -999.0,9, -999.00,9,     -999.0,9,  -999.0,9, 20170904,     1058, -32.4994,-128.7995,        0.0,1,      0.060,1,      4.696,1,      0.130,1,     -999.0,9,     -999.0,9,     -999.0,9,     -999.0,9,     -999.0,9,     -999.0,9,     -999.0,9,     -999.0,9,     -999.0,9,     -999.0,9,     -999.0,9,     2.7687,2,     -999.0,     -999.0,9,     -999.0
320620170820,        P06,     167,          1,         15,         15,2,20170904,       0948,   -32.4997,  -128.8002,       4282,  1378.6,   2.9957,  34.4762,2,  34.4746,2, 170.2825,2, 170.0894,2,    66.8,2,   34.55,2,    0.00,2,    2.36,2,   0.219,2,   0.128,2,   0.0000,2,  2249.9,2,  2333.6,2,   7.5678,6,    25.00, -999.00,9, -999.00,9, -999.00,  -999.0,9, -999.00,9,     -999.0,9,  -999.0,9, 20170904,     1101, -32.4994,-128.7996,        0.0,1,      0.061,1,      4.695,1,      0.129,1,     -999.0,9,     -999.0,9,     -999.0,9,     -999.0,9,     -999.0,9,     -999.0,9,     -999.0,9,     -999.0,9,     -999.0,9,     -999.0,9,     -999.0,9,     2.9938,2,     -999.0,     -999.0,9,     -999.0
320620170820,        P06,     167,          1,         16,         16,2,20170904,       0948,   -32.4997,  -128.8002,       4282,  1275.4,   3.2706,  34.4307,2,  34.4255,2, 174.8234,2, 174.7375,2,    57.0,2,   34.18,2,    0.00,2,    2.33,2,   0.344,2,   0.190,2,   0.0450,2,  -999.0,9,  -999.0,9,-999.0000,9,  -999.00, -999.00,9, -999.00,9, -999.00,  -999.0,9, -999.00,9,     -999.0,9,  -999.0,9, 20170904,     1104, -32.4995,-128.7997,        0.0,1,      0.061,1,      4.696,1,      0.130,1,     -999.0,9,     -999.0,9,     -999.0,9,     -999.0,9,     -999.0,9,     -999.0,9,     -999.0,9,     -999.0,9,     -999.0,9,     -999.0,9,     -999.0,9,     3.2902,2,     -999.0,     -999.0,9,     -999.0
320620170820,        P06,     167,          1,         17,         17,2,20170904,       0948,   -32.4997,  -128.8002,       4282,  1175.9,   3.6712,  34.3773,2,  34.3764,2, 184.2809,2, 184.3344,2,    46.2,2,   33.24,2,    0.00,2,    2.28,2,   0.601,2,   0.317,2,   0.1060,2,  2220.4,2,  2312.0,2,   7.5867,2,    25.00, -999.00,9, -999.00,9, -999.00,  -999.0,9, -999.00,9,     -999.0,9,  -999.0,9, 20170904,     1108, -32.4996,-128.7999,        0.0,1,      0.061,1,      4.695,1,      0.130,1,     -999.0,9,     -999.0,9,     -999.0,9,     -999.0,9,     -999.0,9,     -999.0,9,     -999.0,9,     -999.0,9,     -999.0,9,     -999.0,9,     -999.0,9,     3.6586,2,     -999.0,     -999.0,9,     -999.0
320620170820,        P06,     167,          1,         18,         18,2,20170904,       0948,   -32.4997,  -128.8002,       4282,  1074.7,   4.1630,  34.3369,2,  34.3313,2,  195.958,2, 195.1833,2,    34.8,2,   31.72,2,    0.00,2,    2.16,2,   0.958,2,   0.489,2,   0.1780,2,  -999.0,9,  -999.0,9,-999.0000,9,  -999.00, -999.00,9, -999.00,9, -999.00,  -999.0,9, -999.00,9,     -999.0,9,  -999.0,9, 20170904,     1111, -32.4996,-128.7999,        0.0,1,      0.060,1,      4.695,1,      0.129,1,     -999.0,9,     -999.0,9,     -999.0,9,     -999.0,9,     -999.0,9,     -999.0,9,     -999.0,9,     -999.0,9,     -999.0,9,     -999.0,9,     -999.0,9,     4.2016,2,     -999.0,     -999.0,9,     -999.0
320620170820,        P06,     167,          1,         19,         19,2,20170904,       0948,   -32.4997,  -128.8002,       4282,   974.2,   4.7915,  34.3071,2,  34.3011,2,  210.646,2,  210.727,2,    23.6,2,   29.49,2,    0.00,2,    2.00,2,   1.478,2,   0.764,2,   0.2240,2,  2185.2,2,  2290.3,2,   7.6384,2,    25.00, -999.00,9, -999.00,9, -999.00,  -999.0,9, -999.00,9,     -999.0,9,  -999.0,9, 20170904,     1114, -32.4994,-128.7997,        0.0,1,      0.059,1,      4.695,1,      0.129,1,     -999.0,9,     -999.0,9,     -999.0,9,     -999.0,9,     -999.0,9,     -999.0,9,     -999.0,9,     -999.0,9,     -999.0,9,     -999.0,9,     -999.0,9,     4.8672,2,     -999.0,     -999.0,9,     -999.0
320620170820,        P06,     167,          1,         20,         20,2,20170904,       0948,   -32.4997,  -128.8002,       4282,   872.4,   5.3721,  34.2958,2,  34.2927,2, 221.7052,2, 222.2753,2,    17.0,2,   27.54,2,    0.00,2,    1.87,2,   2.078,2,   1.059,2,   0.3760,2,  -999.0,9,  -999.0,9,-999.0000,9,  -999.00, -999.00,9, -999.00,9, -999.00,  -999.0,9, -999.00,9,     -999.0,9,  -999.0,9, 20170904,     1117, -32.4993,-128.7996,        0.0,1,      0.059,1,      4.695,1,      0.131,1,     -999.0,9,     -999.0,9,     -999.0,9,     -999.0,9,     -999.0,9,     -999.0,9,     -999.0,9,     -999.0,9,     -999.0,9,     -999.0,9,     -999.0,9,     5.3624,2,     -999.0,     -999.0,9,     -999.0
320620170820,        P06,     167,          1,         21,         21,2,20170904,       0948,   -32.4997,  -128.8002,       4282,   768.7,   5.9495,  34.3032,2,  34.2978,2, 233.1495,2, 233.9902,2,    11.8,2,   25.48,2,    0.00,2,    1.71,2,   2.693,2,   1.396,2,   0.5630,2,  2159.2,2,  2281.3,2,   7.6845,2,    25.00, -999.00,9, -999.00,9, -999.00,  -999.0,9, -999.00,9,     -999.0,9,  -999.0,9, 20170904,     1121, -32.4993,-128.7995,        0.0,1,      0.060,1,      4.694,1,      0.132,1,     -999.0,9,     -999.0,9,     -999.0,9,     -999.0,9,     -999.0,9,     -999.0,9,     -999.0,9,     -999.0,9,     -999.0,9,     -999.0,9,     -999.0,9,     5.8589,2,     -999.0,     -999.0,9,     -999.0
320620170820,        P06,     167,          1,         22,         22,2,20170904,       0948,   -32.4997,  -128.8002,       4282,   669.2,   6.4168,  34.3244,2,  34.3186,2, 240.4677,2, 241.3546,2,     8.4,2,   23.65,2,    0.00,2,    1.58,2,   3.251,2,   1.685,2,   0.8060,2,  -999.0,9,  -999.0,9,-999.0000,9,  -999.00, -999.00,9, -999.00,9, -999.00,  -999.0,9, -999.00,9,     -999.0,9,  -999.0,9, 20170904,     1124, -32.4993,-128.7995,        0.0,1,      0.059,1,      4.694,1,      0.133,1,     -999.0,9,     -999.0,9,     -999.0,9,     -999.0,9,     -999.0,9,     -999.0,9,     -999.0,9,     -999.0,9,     -999.0,9,     -999.0,9,     -999.0,9,     6.3521,2,     -999.0,     -999.0,9,     -999.0
320620170820,        P06,     167,          1,         23,         23,2,20170904,       0948,   -32.4997,  -128.8002,       4282,   567.8,   6.8941,  34.3547,2,  34.3503,3, 244.8464,2,  244.901,2,     6.5,2,   22.00,2,    0.00,2,    1.47,2,   3.224,2,   1.889,2,   1.1220,2,  2146.7,2,  2278.8,2,   7.7114,2,    25.00, -999.00,9, -999.00,9, -999.00,  -999.0,9, -999.00,9,     -999.0,9,  -999.0,9, 20170904,     1127, -32.4994,-128.7997,        0.0,1,      0.060,1,      4.693,1,      0.133,1,     -999.0,9,     -999.0,9,     -999.0,9,     -999.0,9,     -999.0,9,     -999.0,9,     -999.0,9,     -999.0,9,     -999.0,9,     -999.0,9,     -999.0,9,     6.8608,2,     -999.0,     -999.0,9,     -999.0
320620170820,        P06,     167,          1,         24,         24,2,20170904,       0948,   -32.4997,  -128.8002,       4282,   486.4,   7.4071,  34.3758,2,  34.3713,2, 243.5708,2, 243.1601,2,     5.5,2,   20.83,2,    0.00,2,    1.42,2,   3.523,2,   1.913,2,   1.1510,2,  -999.0,9,  -999.0,9,-999.0000,9,  -999.00, -999.00,9, -999.00,9, -999.00,  -999.0,9, -999.00,9,     -999.0,9,  -999.0,9, 20170904,     1130, -32.4995,-128.7998,        0.0,1,      0.059,1,      4.692,1,      0.132,1,     -999.0,9,     -999.0,9,     -999.0,9,     -999.0,9,     -999.0,9,     -999.0,9,     -999.0,9,     -999.0,9,     -999.0,9,     -999.0,9,     -999.0,9,     7.3046,2,     -999.0,     -999.0,9,     -999.0
320620170820,        P06,     167,          1,         25,         25,2,20170904,       0948,   -32.4997,  -128.8002,       4282,   438.0,   7.9276,  34.3976,2,  34.3868,2, 240.2127,2, 238.9617,2,     4.5,2,   19.81,2,    0.00,2,    1.35,2,   3.348,2,   1.912,2,   1.2400,2,  2139.7,2,  2280.5,2,   7.7192,2,    25.00, -999.00,9, -999.00,9, -999.00,  -999.0,9, -999.00,9,     -999.0,9,  -999.0,9, 20170904,     1132, -32.4994,-128.7997,        0.0,1,      0.059,1,      4.690,1,      0.134,1,     -999.0,9,     -999.0,9,     -999.0,9,     -999.0,9,     -999.0,9,     -999.0,9,     -999.0,9,     -999.0,9,     -999.0,9,     -999.0,9,     -999.0,9,     7.7179,2,     -999.0,     -999.0,9,     -999.0
320620170820,        P06,     167,          1,         26,         26,2,20170904,       0948,   -32.4997,  -128.8002,       4282,   385.6,   8.5602,  34.4259,2,  34.4149,2, 232.6595,2, 230.9995,2,     3.8,2,   18.63,2,    0.00,2,    1.29,2,   3.371,2,   1.838,2,   1.2220,2,  -999.0,9,  -999.0,9,-999.0000,9,  -999.00, -999.00,9, -999.00,9, -999.00,  -999.0,9, -999.00,9,     -999.0,9,  -999.0,9, 20170904,     1135, -32.4994,-128.7996,        0.0,1,      0.058,1,      4.690,1,      0.134,1,     -999.0,9,     -999.0,9,     -999.0,9,     -999.0,9,     -999.0,9,     -999.0,9,     -999.0,9,     -999.0,9,     -999.0,9,     -999.0,9,     -999.0,9,     8.4062,2,     -999.0,     -999.0,9,     -999.0