BOTTLE,20240211CCHSIOCBG
EXPOCODE,SECT_ID,STNNBR,CASTNO,SAMPNO,BTLNBR,BTLNBR_FLAG_W,DATE,TIME,LATITUDE,LONGITUDE,DEPTH,CTDPRS,CTDTMP,CTDSAL,CTDSAL_FLAG_W,SALNTY,SALNTY_FLAG_W,CTDOXY,CTDOXY_FLAG_W,OXYGEN,OXYGEN_FLAG_W,SILCAT,SILCAT_FLAG_W,NITRAT,NITRAT_FLAG_W,NITRIT,NITRIT_FLAG_W,PHSPHT,PHSPHT_FLAG_W,CFC-11,CFC-11_FLAG_W,CFC-12,CFC-12_FLAG_W,SF6,SF6_FLAG_W,TCARBN,TCARBN_FLAG_W,ALKALI,ALKALI_FLAG_W,PH_TOT,PH_TOT_FLAG_W,PH_TMP,DELC13,DELC13_FLAG_W,DELC14,DELC14_FLAG_W,C14ERR,DOC,DOC_FLAG_W,TDN,TDN_FLAG_W,TON,TON_FLAG_W,D15N_NO3,D15N_NO3_FLAG_W,BTL_DATE,BTL_TIME,BTL_LAT,BTL_LON,CTDRINKO,CTDRINKO_FLAG_W,CTDFLUOR,CTDFLUOR_FLAG_W,CTDXMISS,CTDXMISS_FLAG_W,CTDBACKSCATTER,CTDBACKSCATTER_FLAG_W,D18O_NO3,D18O_NO3_FLAG_W,DOP,DOP_FLAG_W,CELLCOUNT,CELLCOUNT_FLAG_W,TDP,TDP_FLAG_W,POP,POP_FLAG_W,DATP,DATP_FLAG_W,PATP,PATP_FLAG_W,HPLC,HPLC_FLAG_W,POC,POC_FLAG_W,BEAMAP,BEAMAP_FLAG_W,DOC_NASA,DOC_NASA_FLAG_W,REFTMP,REFTMP_FLAG_W,DOC_NASA_ERROR,TDN_NASA,TDN_NASA_FLAG_W,TDN_NASA_ERROR
,,,,,,,,,,,METERS,DBAR,ITS-90,PSS-78,,PSS-78,,UMOL/KG,,UMOL/KG,,UMOL/KG,,UMOL/KG,,UMOL/KG,,UMOL/KG,,PMOL/KG,,PMOL/KG,,FMOL/KG,,UMOL/KG,,UMOL/KG,,,,DEG C,/MILLE,,/MILLE,,/MILLE,UMOL/KG,,UMOL/KG,,UMOL/KG,,/MILLE,,,,,,VOLTS,,VOLTS,,VOLTS,,VOLTS,,/MILLE,,UMOL/KG,,/LITER,,UMOL/KG,,UMOL/L,,PMOL/L,,PMOL/L,,,,UG/L,,/METER,,UMOL/L,,ITS-90,,UMOL/L,UMOL/L,,UMOL/L
320620170820,        P06,     200,          1,         27,         27,2,20170914,       1010,   -32.5001,  -104.1169,       3554,   289.5,  10.5272,  34.2752,2,  34.2662,2,  217.572,2, 217.8663,2,     1.5,2,   16.05,2,    0.00,2,    1.11,2,   3.278,2,   1.841,2,   1.4490,2,  2119.2,2,  2266.6,2,   7.7438,2,    25.00, -999.00,9, -999.00,9, -999.00,  -999.0,9, -999.00,9,     -999.0,9,  -999.0,9, 20170914,     1132, -32.5002,-104.1167,        0.0,1,      0.059,1,      4.679,1,      0.132,1,     -999.0,9,     -999.0,9,     -999.0,9,     -999.0,9,     -999.0,9,     -999.0,9,     -999.0,9,     -999.0,9,     -999.0,9,     -999.0,9,     -999.0,9,    10.2129,2,     -999.0,     -999.0,9,     -999.0
320620170820,        P06,     200,          1,         28,         28,2,20170914,       1010,   -32.5001,  -104.1169,       3554,   237.6,  12.5640,  34.3892,2,  34.3727,2, 214.5143,2, 215.2175,2,     0.5,2,   10.76,2,    0.00,2,    0.80,2,-999.000,9,-999.000,9,-999.0000,9,  2098.7,2,  2270.5,2,   7.8042,2,    25.00, -999.00,9, -999.00,9, -999.00,    50.0,2,   13.20,2,     -999.0,1,  -999.0,9, 20170914,     1134, -32.5002,-104.1168,        0.0,1,      0.063,1,      4.676,1,      0.133,1,     -999.0,9,     -999.0,9,     -999.0,9,     -999.0,9,     -999.0,9,     -999.0,9,     -999.0,9,     -999.0,9,     -999.0,9,     -999.0,9,     -999.0,9,    12.4957,2,     -999.0,     -999.0,9,     -999.0
320620170820,        P06,     200,          1,         29,         29,2,20170914,       1010,   -32.5001,  -104.1169,       3554,   186.6,  16.1930,  34.8700,2,  34.7563,2, 227.0313,2, 225.3075,2,     0.1,2,    2.35,2,    0.14,2,    0.30,2,   2.472,2,   1.466,2,   1.5450,2,  2070.8,2,  2288.5,2,   7.8972,2,    25.00, -999.00,9, -999.00,9, -999.00,    58.4,2,    6.10,2,     -999.0,1,  -999.0,9, 20170914,     1137, -32.5001,-104.1169,        0.0,1,      0.102,1,      4.665,1,      0.143,1,     -999.0,9,     -999.0,9,     -999.0,9,     -999.0,9,     -999.0,9,     -999.0,9,     -999.0,9,     -999.0,9,     -999.0,9,     -999.0,9,     -999.0,9,    15.4930,2,     -999.0,     -999.0,9,     -999.0
320620170820,        P06,     200,          1,         30,         30,2,20170914,       1010,   -32.5001,  -104.1169,       3554,   141.1,  18.1491,  35.2248,2,  35.3539,2, 232.1185,2,  230.288,2,     0.0,2,    0.04,2,    0.03,2,    0.11,2,-999.000,9,-999.000,9,-999.0000,9,  2061.2,2,  2327.0,2,   7.9758,2,    25.00, -999.00,9, -999.00,9, -999.00,    64.3,2,    4.00,2,     -999.0,1,  -999.0,9, 20170914,     1139, -32.5001,-104.1170,        0.0,1,      0.149,1,      4.644,1,      0.172,1,     -999.0,9,     -999.0,9,     -999.0,9,     -999.0,9,     -999.0,9,     -999.0,9,     -999.0,9,     -999.0,9,     -999.0,9,     -999.0,9,     -999.0,9,    18.6207,2,     -999.0,     -999.0,9,     -999.0
320620170820,        P06,     200,          1,         31,         31,2,20170914,       1010,   -32.5001,  -104.1169,       3554,   116.9,  18.2067,  35.2152,2,  35.2268,2, 234.8231,2, 234.6243,2,     0.0,2,    0.01,2,    0.00,2,    0.10,2,   2.173,2,   1.278,2,   1.4800,2,  2055.0,2,  2319.3,2,   7.9730,2,    25.00, -999.00,9, -999.00,9, -999.00,    64.2,2,    3.80,2,     -999.0,1,  -999.0,9, 20170914,     1140, -32.5001,-104.1170,        0.0,1,      0.113,1,      4.645,1,      0.167,1,     -999.0,9,     -999.0,9,     -999.0,9,     -999.0,9,     -999.0,9,     -999.0,9,     -999.0,9,     -999.0,9,     -999.0,9,     -999.0,9,     -999.0,9,    18.1984,2,     -999.0,     -999.0,9,     -999.0
320620170820,        P06,     200,          1,         32,         32,2,20170914,       1010,   -32.5001,  -104.1169,       3554,    91.2,  18.0561,  35.1607,2,  35.1652,2, 234.6564,2, 236.2989,2,     0.0,2,    0.01,2,    0.00,2,    0.10,2,-999.000,9,-999.000,9,-999.0000,9,  2053.5,2,  2315.6,2,   7.9732,2,    25.00, -999.00,9, -999.00,9, -999.00,    63.7,2,    3.80,2,     -999.0,1,  -999.0,9, 20170914,     1142, -32.5001,-104.1170,        0.0,1,      0.101,1,      4.644,1,      0.169,1,     -999.0,9,     -999.0,9,     -999.0,9,     -999.0,9,     -999.0,9,     -999.0,9,     -999.0,9,     -999.0,9,     -999.0,9,     -999.0,9,     -999.0,9,    18.0636,2,     -999.0,     -999.0,9,     -999.0
320620170820,        P06,     200,          1,         33,         33,2,20170914,       1010,   -32.5001,  -104.1169,       3554,    64.3,  18.0153,  35.1471,2,  35.1496,2, 235.2991,2, 236.6751,2,     0.0,2,    0.02,2,    0.00,2,    0.11,2,   2.042,2,   1.278,2,   1.4100,2,  -999.0,9,  -999.0,9,-999.0000,9,  -999.00, -999.00,9, -999.00,9, -999.00,    66.0,2,    3.60,2,     -999.0,1,  -999.0,9, 20170914,     1144, -32.5001,-104.1170,        0.0,1,      0.099,1,      4.643,1,      0.169,1,     -999.0,9,     -999.0,9,     -999.0,9,     -999.0,9,     -999.0,9,     -999.0,9,     -999.0,9,     -999.0,9,     -999.0,9,     -999.0,9,     -999.0,9,    18.0289,2,     -999.0,     -999.0,9,     -999.0
320620170820,        P06,     200,          1,         34,         34,2,20170914,       1010,   -32.5001,  -104.1169,       3554,    39.6,  17.9856,  35.1343,2,  35.0435,2, 237.6919,2, 238.5906,2,     0.0,2,    0.01,2,    0.00,2,    0.10,2,-999.000,9,-999.000,9,-999.0000,9,  2049.5,2,  2308.2,2,   7.9671,2,    25.00, -999.00,9, -999.00,9, -999.00,    68.0,2,    4.10,2,     -999.0,1,  -999.0,9, 20170914,     1145, -32.5001,-104.1170,        0.0,1,      0.093,1,      4.643,1,      0.168,1,     -999.0,9,     -999.0,9,     -999.0,9,     -999.0,9,     -999.0,9,     -999.0,9,     -999.0,9,     -999.0,9,     -999.0,9,     -999.0,9,     -999.0,9,    17.7407,2,     -999.0,     -999.0,9,     -999.0
320620170820,        P06,     200,          1,         35,         35,2,20170914,       1010,   -32.5001,  -104.1169,       3554,    21.0,  17.6788,  35.0047,2,  34.9864,2, 238.1631,2, 239.3742,2,     0.0,2,    0.02,2,    0.00,2,    0.11,2,   2.184,2,   1.295,2,   1.4890,2,  2047.3,2,  2305.3,2,   7.9653,2,    25.00, -999.00,9, -999.00,9, -999.00,    65.6,2,    3.90,2,     -999.0,1,  -999.0,9, 20170914,     1147, -32.5001,-104.1170,        0.0,1,      0.092,1,      4.639,1,      0.173,1,     -999.0,9,     -999.0,9,     -999.0,9,     -999.0,9,     -999.0,9,     -999.0,9,     -999.0,9,     -999.0,9,     -999.0,9,     -999.0,9,     -999.0,9,    17.6405,2,     -999.0,     -999.0,9,     -999.0
320620170820,        P06,     200,          1,         36,         36,2,20170914,       1010,   -32.5001,  -104.1169,       3554,     7.1,  17.6771,  35.0019,2,  34.9854,2, 238.7352,2, 239.2648,2,     0.0,2,    0.02,2,    0.00,2,    0.12,2,   2.209,2,   1.298,2,   1.4760,2,  2048.1,6,  2305.1,2,   7.9651,2,    25.00, -999.00,9, -999.00,9, -999.00,    66.4,2,    3.90,2,     -999.0,1,  -999.0,9, 20170914,     1148, -32.5001,-104.1169,        0.0,1,      0.088,1,      4.638,1,      0.169,1,     -999.0,9,     -999.0,9,     -999.0,9,     -999.0,9,     -999.0,9,     -999.0,9,     -999.0,9,     -999.0,9,     -999.0,9,     -999.0,9,     -999.0,9,    17.6362,2,     -999.0,     -999.0,9,     -999.0