BOTTLE,20240211CCHSIOCBG
EXPOCODE,SECT_ID,STNNBR,CASTNO,SAMPNO,BTLNBR,BTLNBR_FLAG_W,DATE,TIME,LATITUDE,LONGITUDE,DEPTH,CTDPRS,CTDTMP,CTDSAL,CTDSAL_FLAG_W,SALNTY,SALNTY_FLAG_W,CTDOXY,CTDOXY_FLAG_W,OXYGEN,OXYGEN_FLAG_W,SILCAT,SILCAT_FLAG_W,NITRAT,NITRAT_FLAG_W,NITRIT,NITRIT_FLAG_W,PHSPHT,PHSPHT_FLAG_W,CFC-11,CFC-11_FLAG_W,CFC-12,CFC-12_FLAG_W,SF6,SF6_FLAG_W,TCARBN,TCARBN_FLAG_W,ALKALI,ALKALI_FLAG_W,PH_TOT,PH_TOT_FLAG_W,PH_TMP,DELC13,DELC13_FLAG_W,DELC14,DELC14_FLAG_W,C14ERR,DOC,DOC_FLAG_W,TDN,TDN_FLAG_W,TON,TON_FLAG_W,D15N_NO3,D15N_NO3_FLAG_W,BTL_DATE,BTL_TIME,BTL_LAT,BTL_LON,CTDRINKO,CTDRINKO_FLAG_W,CTDFLUOR,CTDFLUOR_FLAG_W,CTDXMISS,CTDXMISS_FLAG_W,CTDBACKSCATTER,CTDBACKSCATTER_FLAG_W,D18O_NO3,D18O_NO3_FLAG_W,DOP,DOP_FLAG_W,CELLCOUNT,CELLCOUNT_FLAG_W,TDP,TDP_FLAG_W,POP,POP_FLAG_W,DATP,DATP_FLAG_W,PATP,PATP_FLAG_W,HPLC,HPLC_FLAG_W,POC,POC_FLAG_W,BEAMAP,BEAMAP_FLAG_W,DOC_NASA,DOC_NASA_FLAG_W,REFTMP,REFTMP_FLAG_W,DOC_NASA_ERROR,TDN_NASA,TDN_NASA_FLAG_W,TDN_NASA_ERROR
,,,,,,,,,,,METERS,DBAR,ITS-90,PSS-78,,PSS-78,,UMOL/KG,,UMOL/KG,,UMOL/KG,,UMOL/KG,,UMOL/KG,,UMOL/KG,,PMOL/KG,,PMOL/KG,,FMOL/KG,,UMOL/KG,,UMOL/KG,,,,DEG C,/MILLE,,/MILLE,,/MILLE,UMOL/KG,,UMOL/KG,,UMOL/KG,,/MILLE,,,,,,VOLTS,,VOLTS,,VOLTS,,VOLTS,,/MILLE,,UMOL/KG,,/LITER,,UMOL/KG,,UMOL/L,,PMOL/L,,PMOL/L,,,,UG/L,,/METER,,UMOL/L,,ITS-90,,UMOL/L,UMOL/L,,UMOL/L
320620170820,        P06,     216,          1,         27,         27,2,20170919,       1508,   -32.4997,   -90.8756,       3927,   149.7,  15.2540,  34.5402,2,  34.5429,2, 248.1791,2, 248.7131,2,     0.0,2,    1.56,2,    0.10,2,    0.28,2,   2.464,2,   1.339,2,-999.0000,5,  2052.9,2,  2285.0,2,   7.9275,2,    25.00, -999.00,9, -999.00,9, -999.00,    58.8,2,    5.40,2,     -999.0,1,  -999.0,1, 20170919,     1637, -32.4997, -90.8754,        0.0,1,      0.176,1,      4.612,1,      0.221,1,     -999.0,1,     -999.0,1,     -999.0,1,     -999.0,1,     -999.0,1,     -999.0,1,     -999.0,1,     -999.0,9,     -999.0,9,     -999.0,9,     -999.0,9,    15.2696,2,     -999.0,     -999.0,9,     -999.0
320620170820,        P06,     216,          1,         28,         28,2,20170919,       1508,   -32.4997,   -90.8756,       3927,   122.9,  15.2706,  34.5446,2,  34.5427,2, 248.2956,2, 248.8044,2,     0.0,2,    1.56,2,    0.10,2,    0.27,2,   2.501,2,   1.335,2,-999.0000,5,  2054.4,2,  2282.3,2,   7.9259,2,    25.00, -999.00,9, -999.00,9, -999.00,    59.6,2,    5.40,2,     -999.0,1,  -999.0,1, 20170919,     1638, -32.4997, -90.8755,        0.0,1,      0.179,1,      4.612,1,      0.225,1,     -999.0,1,     -999.0,1,     -999.0,1,     -999.0,1,     -999.0,1,     -999.0,1,     -999.0,1,     -999.0,9,     -999.0,9,     -999.0,9,     -999.0,9,    15.2677,2,     -999.0,     -999.0,9,     -999.0
320620170820,        P06,     216,          1,         29,         29,2,20170919,       1508,   -32.4997,   -90.8756,       3927,    98.8,  15.2683,  34.5448,2,  34.5423,2, 248.3408,2, 248.6567,2,     0.0,2,    1.57,2,    0.10,2,    0.27,2,   2.532,2,   1.319,2,-999.0000,5,  -999.0,9,  -999.0,9,-999.0000,9,  -999.00, -999.00,9, -999.00,9, -999.00,    61.3,2,    5.80,2,     -999.0,1,  -999.0,1, 20170919,     1640, -32.4997, -90.8755,        0.0,1,      0.172,1,      4.611,1,      0.232,1,     -999.0,1,     -999.0,1,     -999.0,9,     -999.0,9,     -999.0,9,     -999.0,9,     -999.0,9,     -999.0,9,     -999.0,9,     -999.0,9,     -999.0,9,    15.2643,2,     -999.0,     -999.0,9,     -999.0
320620170820,        P06,     216,          1,         30,         30,2,20170919,       1508,   -32.4997,   -90.8756,       3927,    74.9,  15.2666,  34.5452,2,  34.5413,2, 248.1741,2, 248.7252,2,     0.0,2,    1.56,2,    0.10,2,    0.28,2,   2.554,2,   1.322,2,-999.0000,5,  2054.8,2,  2284.2,2,   7.9272,2,    25.00, -999.00,9, -999.00,9, -999.00,    61.4,2,    5.50,2,     -999.0,1,  -999.0,1, 20170919,     1641, -32.4997, -90.8756,        0.0,1,      0.167,1,      4.612,1,      0.229,1,     -999.0,1,     -999.0,1,     -999.0,1,     -999.0,1,     -999.0,1,     -999.0,1,     -999.0,1,     -999.0,9,     -999.0,9,     -999.0,9,     -999.0,9,    15.2606,2,     -999.0,     -999.0,9,     -999.0
320620170820,        P06,     216,          1,         31,         31,2,20170919,       1508,   -32.4997,   -90.8756,       3927,    48.5,  15.2604,  34.5447,2,  34.5427,2, 248.3827,2, 248.5105,2,     0.0,2,    1.56,2,    0.10,2,    0.27,2,   2.583,2,   1.324,2,-999.0000,5,  2055.4,2,  2284.4,2,   7.9270,2,    25.00, -999.00,9, -999.00,9, -999.00,    62.8,2,    5.60,2,     -999.0,1,  -999.0,1, 20170919,     1642, -32.4997, -90.8756,        0.0,1,      0.159,1,      4.612,1,      0.228,1,     -999.0,1,     -999.0,1,     -999.0,1,     -999.0,1,     -999.0,1,     -999.0,1,     -999.0,1,     -999.0,9,     -999.0,9,     -999.0,9,     -999.0,9,    15.2576,2,     -999.0,     -999.0,9,     -999.0
320620170820,        P06,     216,          1,         32,         32,2,20170919,       1508,   -32.4997,   -90.8756,       3927,    48.4,  15.2604,  34.5447,2,-999.0000,9, 241.2304,2,-999.0000,9,  -999.0,9, -999.00,9, -999.00,9, -999.00,9,-999.000,9,-999.000,9,-999.0000,9,  -999.0,9,  -999.0,9,-999.0000,9,  -999.00, -999.00,9, -999.00,9, -999.00,  -999.0,9, -999.00,9,     -999.0,9,  -999.0,9, 20170919,     1643, -32.4997, -90.8756,        0.0,1,      0.159,1,      4.612,1,      0.228,1,     -999.0,9,     -999.0,9,     -999.0,9,     -999.0,9,     -999.0,9,     -999.0,9,     -999.0,9,     -999.0,1,     -999.0,1,     -999.0,1,70.27214604,2,     -999.0,5,-83.18068276,89.56091887,2,     -999.0
320620170820,        P06,     216,          1,         33,         33,2,20170919,       1508,   -32.4997,   -90.8756,       3927,    48.3,  15.2604,  34.5447,2,-999.0000,9, 241.5583,2,-999.0000,9,  -999.0,9, -999.00,9, -999.00,9, -999.00,9,-999.000,9,-999.000,9,-999.0000,9,  -999.0,9,  -999.0,9,-999.0000,9,  -999.00, -999.00,9, -999.00,9, -999.00,  -999.0,9, -999.00,9,     -999.0,9,  -999.0,9, 20170919,     1643, -32.4997, -90.8756,        0.0,1,      0.159,1,      4.612,1,      0.228,1,     -999.0,9,     -999.0,9,     -999.0,9,     -999.0,9,     -999.0,9,     -999.0,9,     -999.0,9,     -999.0,1,     -999.0,1,     -999.0,1,70.27214604,2,    15.2573,2,-83.18068276,89.56091887,2,     -999.0
320620170820,        P06,     216,          1,         35,         35,2,20170919,       1508,   -32.4997,   -90.8756,       3927,    25.2,  15.2500,  34.5442,2,-999.0000,9,  241.174,2,-999.0000,9,  -999.0,9, -999.00,9, -999.00,9, -999.00,9,-999.000,9,-999.000,9,-999.0000,9,  -999.0,9,  -999.0,9,-999.0000,9,  -999.00, -999.00,9, -999.00,9, -999.00,  -999.0,9, -999.00,9,     -999.0,9,  -999.0,9, 20170919,     1645, -32.4997, -90.8756,        0.0,1,      0.149,1,      4.610,1,      0.227,1,     -999.0,9,     -999.0,9,     -999.0,9,     -999.0,9,     -999.0,9,     -999.0,9,     -999.0,9,     -999.0,1,     -999.0,1,     -999.0,1,65.11231979,6,     -999.0,5,1.126944985,79.96510614,6,8.224562736
320620170820,        P06,     216,          1,         34,         34,2,20170919,       1508,   -32.4997,   -90.8756,       3927,    24.8,  15.2500,  34.5442,2,  34.5419,2, 248.4797,2, 248.7202,2,     0.0,2,    1.56,2,    0.10,2,    0.29,2,   2.519,2,   1.344,2,-999.0000,5,  2054.4,2,  2283.8,2,   7.9269,2,    25.00, -999.00,9, -999.00,9, -999.00,    60.2,2,    5.80,2,     -999.0,1,  -999.0,1, 20170919,     1644, -32.4997, -90.8756,        0.0,1,      0.149,1,      4.610,1,      0.227,1,     -999.0,1,     -999.0,1,     -999.0,1,     -999.0,1,     -999.0,1,     -999.0,1,     -999.0,1,     -999.0,9,     -999.0,9,     -999.0,9,     -999.0,9,    15.2620,2,     -999.0,     -999.0,9,     -999.0
320620170820,        P06,     216,          1,         36,         36,2,20170919,       1508,   -32.4997,   -90.8756,       3927,     4.5,  15.2539,  34.5447,2,  34.5423,2,  248.837,2, 248.6714,2,     0.0,2,    1.55,2,    0.10,2,    0.27,2,   2.475,2,   1.328,2,-999.0000,5,  2053.6,6,  2284.2,2,   7.9258,2,    25.00, -999.00,9, -999.00,9, -999.00,    59.7,2,    5.90,2,     -999.0,1,  -999.0,1, 20170919,     1646, -32.4997, -90.8756,        0.0,1,      0.121,1,      4.611,1,      0.212,1,     -999.0,1,     -999.0,1,     -999.0,9,     -999.0,9,     -999.0,9,     -999.0,9,     -999.0,9,     -999.0,9,     -999.0,9,     -999.0,9,     -999.0,9,    15.2682,2,     -999.0,     -999.0,9,     -999.0