BOTTLE,20240211CCHSIOCBG
EXPOCODE,SECT_ID,STNNBR,CASTNO,SAMPNO,BTLNBR,BTLNBR_FLAG_W,DATE,TIME,LATITUDE,LONGITUDE,DEPTH,CTDPRS,CTDTMP,CTDSAL,CTDSAL_FLAG_W,SALNTY,SALNTY_FLAG_W,CTDOXY,CTDOXY_FLAG_W,OXYGEN,OXYGEN_FLAG_W,SILCAT,SILCAT_FLAG_W,NITRAT,NITRAT_FLAG_W,NITRIT,NITRIT_FLAG_W,PHSPHT,PHSPHT_FLAG_W,CFC-11,CFC-11_FLAG_W,CFC-12,CFC-12_FLAG_W,SF6,SF6_FLAG_W,TCARBN,TCARBN_FLAG_W,ALKALI,ALKALI_FLAG_W,PH_TOT,PH_TOT_FLAG_W,PH_TMP,DELC13,DELC13_FLAG_W,DELC14,DELC14_FLAG_W,C14ERR,DOC,DOC_FLAG_W,TDN,TDN_FLAG_W,TON,TON_FLAG_W,D15N_NO3,D15N_NO3_FLAG_W,BTL_DATE,BTL_TIME,BTL_LAT,BTL_LON,CTDRINKO,CTDRINKO_FLAG_W,CTDFLUOR,CTDFLUOR_FLAG_W,CTDXMISS,CTDXMISS_FLAG_W,CTDBACKSCATTER,CTDBACKSCATTER_FLAG_W,D18O_NO3,D18O_NO3_FLAG_W,DOP,DOP_FLAG_W,CELLCOUNT,CELLCOUNT_FLAG_W,TDP,TDP_FLAG_W,POP,POP_FLAG_W,DATP,DATP_FLAG_W,PATP,PATP_FLAG_W,HPLC,HPLC_FLAG_W,POC,POC_FLAG_W,BEAMAP,BEAMAP_FLAG_W,DOC_NASA,DOC_NASA_FLAG_W,REFTMP,REFTMP_FLAG_W,DOC_NASA_ERROR,TDN_NASA,TDN_NASA_FLAG_W,TDN_NASA_ERROR
,,,,,,,,,,,METERS,DBAR,ITS-90,PSS-78,,PSS-78,,UMOL/KG,,UMOL/KG,,UMOL/KG,,UMOL/KG,,UMOL/KG,,UMOL/KG,,PMOL/KG,,PMOL/KG,,FMOL/KG,,UMOL/KG,,UMOL/KG,,,,DEG C,/MILLE,,/MILLE,,/MILLE,UMOL/KG,,UMOL/KG,,UMOL/KG,,/MILLE,,,,,,VOLTS,,VOLTS,,VOLTS,,VOLTS,,/MILLE,,UMOL/KG,,/LITER,,UMOL/KG,,UMOL/L,,PMOL/L,,PMOL/L,,,,UG/L,,/METER,,UMOL/L,,ITS-90,,UMOL/L,UMOL/L,,UMOL/L
320620170820,        P06,     164,          1,          1,          1,2,20170903,       0830,   -32.4996,  -131.4670,       4147,  4206.6,   1.3712,  34.7027,2,  34.7001,2, 186.5143,3, 187.7929,2,   120.0,2,   33.18,2,    0.00,2,    2.28,2,   0.033,2,   0.018,2,   0.0000,2,  2281.7,6,  2382.7,2,   7.6064,2,    25.00, -999.00,9, -999.00,9, -999.00,    38.4,2, -999.00,9,     -999.0,1,  -999.0,9, 20170903,      830, -32.4996,-131.4661,        0.0,1,      0.061,1,      4.693,1,      0.126,1,     -999.0,9,     -999.0,9,     -999.0,9,     -999.0,9,     -999.0,9,     -999.0,9,     -999.0,9,     -999.0,9,     -999.0,9,     -999.0,9,     -999.0,9,     1.3717,2,     -999.0,     -999.0,9,     -999.0
320620170820,        P06,     164,          1,          2,          2,2,20170903,       0830,   -32.4996,  -131.4670,       4147,  4015.2,   1.3957,  34.7002,2,  34.6987,2, 186.4568,2,  185.606,2,   120.7,2,   33.40,2,    0.00,2,    2.30,2,   0.030,2,   0.018,2,   0.0000,2,  2282.8,2,  2385.0,2,   7.6039,2,    25.00, -999.00,9, -999.00,9, -999.00,  -999.0,9, -999.00,9,     -999.0,9,  -999.0,9, 20170903,      840, -32.4996,-131.4663,        0.0,1,      0.061,1,      4.694,1,      0.123,1,     -999.0,9,     -999.0,9,     -999.0,9,     -999.0,9,     -999.0,9,     -999.0,9,     -999.0,9,     -999.0,9,     -999.0,9,     -999.0,9,     -999.0,9,     1.3953,2,     -999.0,     -999.0,9,     -999.0
320620170820,        P06,     164,          1,          3,          3,2,20170903,       0830,   -32.4996,  -131.4670,       4147,  3860.7,   1.4503,  34.6957,2,  34.6944,2, 181.5642,2, 181.4796,2,   121.6,2,   33.66,2,    0.00,2,    2.32,2,   0.030,2,   0.019,2,   0.0000,2,  2287.3,2,  2388.9,2,   7.6005,2,    25.00, -999.00,9, -999.00,9, -999.00,    37.3,2, -999.00,9,     -999.0,1,  -999.0,9, 20170903,      845, -32.4996,-131.4663,        0.0,1,      0.061,1,      4.694,1,      0.123,1,     -999.0,9,     -999.0,9,     -999.0,9,     -999.0,9,     -999.0,9,     -999.0,9,     -999.0,9,     -999.0,9,     -999.0,9,     -999.0,9,     -999.0,9,     1.4517,2,     -999.0,     -999.0,9,     -999.0
320620170820,        P06,     164,          1,          4,          4,2,20170903,       0830,   -32.4996,  -131.4670,       4147,  3552.9,   1.5504,  34.6867,2,  34.6857,2, 174.3798,2,  173.949,2,   122.7,2,   34.18,2,    0.00,2,    2.36,2,   0.032,2,   0.018,2,   0.0000,2,  2293.8,2,  2391.1,2,   7.5959,2,    25.00, -999.00,9, -999.00,9, -999.00,  -999.0,9, -999.00,9,     -999.0,9,  -999.0,9, 20170903,      852, -32.4996,-131.4662,        0.0,1,      0.061,1,      4.695,1,      0.124,1,     -999.0,9,     -999.0,9,     -999.0,9,     -999.0,9,     -999.0,9,     -999.0,9,     -999.0,9,     -999.0,9,     -999.0,9,     -999.0,9,     -999.0,9,     1.5509,2,     -999.0,     -999.0,9,     -999.0
320620170820,        P06,     164,          1,          5,          5,2,20170903,       0830,   -32.4996,  -131.4670,       4147,  3246.7,   1.6061,  34.6808,2,  34.6793,2, 169.7173,2, 169.9113,2,   123.0,2,   34.48,2,    0.00,2,    2.37,2,   0.031,2,   0.018,2,   0.0000,2,  2297.1,2,  2391.8,2,   7.5921,2,    25.00, -999.00,9, -999.00,9, -999.00,    38.8,2, -999.00,9,     -999.0,1,  -999.0,9, 20170903,      858, -32.4996,-131.4664,        0.0,1,      0.061,1,      4.695,1,      0.124,1,     -999.0,9,     -999.0,9,     -999.0,9,     -999.0,9,     -999.0,9,     -999.0,9,     -999.0,9,     -999.0,9,     -999.0,9,     -999.0,9,     -999.0,9,     1.6112,2,     -999.0,     -999.0,9,     -999.0
320620170820,        P06,     164,          1,          6,          6,2,20170903,       0830,   -32.4996,  -131.4670,       4147,  2954.5,   1.6747,  34.6742,2,  34.6722,2, 165.6925,2, 165.1919,2,   122.8,2,   34.74,2,    0.00,2,    2.39,2,   0.032,2,   0.018,2,   0.0000,2,  2299.6,2,  2394.3,2,   7.5869,2,    25.00, -999.00,9, -999.00,9, -999.00,    36.1,2, -999.00,9,     -999.0,1,  -999.0,9, 20170903,      905, -32.4995,-131.4658,        0.0,1,      0.060,1,      4.696,1,      0.124,1,     -999.0,9,     -999.0,9,     -999.0,9,     -999.0,9,     -999.0,9,     -999.0,9,     -999.0,9,     -999.0,9,     -999.0,9,     -999.0,9,     -999.0,9,     1.6780,2,     -999.0,     -999.0,9,     -999.0
320620170820,        P06,     164,          1,          7,          7,2,20170903,       0830,   -32.4996,  -131.4670,       4147,  2699.7,   1.7407,  34.6681,2,  34.6671,2, 162.9319,2, 162.0096,2,   122.2,2,   34.90,2,    0.00,2,    2.39,2,   0.033,2,   0.019,2,   0.0000,2,  2301.6,2,  2392.9,2,   7.5832,2,    25.00, -999.00,9, -999.00,9, -999.00,  -999.0,9, -999.00,9,     -999.0,9,  -999.0,9, 20170903,      911, -32.4995,-131.4656,        0.0,1,      0.061,1,      4.696,1,      0.125,1,     -999.0,9,     -999.0,9,     -999.0,9,     -999.0,9,     -999.0,9,     -999.0,9,     -999.0,9,     -999.0,9,     -999.0,9,     -999.0,9,     -999.0,9,     1.7354,2,     -999.0,     -999.0,9,     -999.0
320620170820,        P06,     164,          1,          8,          8,2,20170903,       0830,   -32.4996,  -131.4670,       4147,  2444.9,   1.8432,  34.6587,2,  34.6588,2, 158.2398,2, 158.5791,2,   121.0,2,   35.16,2,    0.00,2,    2.42,2,   0.031,2,   0.018,2,   0.0000,2,  2301.4,2,  2393.0,2,   7.5796,2,    25.00, -999.00,9, -999.00,9, -999.00,    40.5,2, -999.00,9,     -999.0,1,  -999.0,9, 20170903,      916, -32.4995,-131.4659,        0.0,1,      0.061,1,      4.696,1,      0.128,1,     -999.0,9,     -999.0,9,     -999.0,9,     -999.0,9,     -999.0,9,     -999.0,9,     -999.0,9,     -999.0,9,     -999.0,9,     -999.0,9,     -999.0,9,     1.8286,2,     -999.0,     -999.0,9,     -999.0
320620170820,        P06,     164,          1,          9,          9,2,20170903,       0830,   -32.4996,  -131.4670,       4147,  2192.1,   1.9665,  34.6476,2,  34.6496,2, 155.5347,2, 156.2056,2,   117.1,2,   35.22,2,    0.00,2,    2.43,2,   0.034,2,   0.021,2,   0.0000,2,  2300.2,6,  2387.3,6,   7.5751,2,    25.00, -999.00,9, -999.00,9, -999.00,    38.2,2, -999.00,9,     -999.0,1,  -999.0,9, 20170903,      922, -32.4995,-131.4659,        0.0,1,      0.060,1,      4.695,1,      0.128,1,     -999.0,9,     -999.0,9,     -999.0,9,     -999.0,9,     -999.0,9,     -999.0,9,     -999.0,9,     -999.0,9,     -999.0,9,     -999.0,9,     -999.0,9,     1.9407,2,     -999.0,     -999.0,9,     -999.0
320620170820,        P06,     164,          1,         10,         10,2,20170903,       0830,   -32.4996,  -131.4670,       4147,  1955.7,   2.1179,  34.6320,2,  34.6301,2,  154.739,2, 155.4535,2,   109.6,2,   35.19,2,    0.00,2,    2.43,2,   0.038,2,   0.021,2,   0.0000,2,  2293.6,2,  2381.9,2,   7.5720,2,    25.00, -999.00,9, -999.00,9, -999.00,    37.5,2, -999.00,9,     -999.0,1,  -999.0,9, 20170903,      927, -32.4995,-131.4662,        0.0,1,      0.062,1,      4.696,1,      0.127,1,     -999.0,9,     -999.0,9,     -999.0,9,     -999.0,9,     -999.0,9,     -999.0,9,     -999.0,9,     -999.0,9,     -999.0,9,     -999.0,9,     -999.0,9,     2.1175,2,     -999.0,     -999.0,9,     -999.0
320620170820,        P06,     164,          1,         11,         11,2,20170903,       0830,   -32.4996,  -131.4670,       4147,  1753.7,   2.3228,  34.6054,2,  34.6048,2, 157.1602,2, 158.8593,2,    98.7,2,   35.02,2,    0.00,2,    2.40,2,   0.048,2,   0.029,2,   0.0000,2,  2285.0,2,  2366.8,2,   7.5694,6,    25.00, -999.00,9, -999.00,9, -999.00,  -999.0,9, -999.00,9,     -999.0,9,  -999.0,9, 20170903,      932, -32.4995,-131.4660,        0.0,1,      0.061,1,      4.696,1,      0.129,1,     -999.0,9,     -999.0,9,     -999.0,9,     -999.0,9,     -999.0,9,     -999.0,9,     -999.0,9,     -999.0,9,     -999.0,9,     -999.0,9,     -999.0,9,     2.3181,2,     -999.0,     -999.0,9,     -999.0
320620170820,        P06,     164,          1,         12,         12,2,20170903,       0830,   -32.4996,  -131.4670,       4147,  1580.4,   2.5543,  34.5625,2,  34.5584,2, 162.9867,2, 162.6069,2,    83.9,2,   34.77,2,    0.00,2,    2.39,2,   0.103,2,   0.061,2,   0.0000,2,  2267.6,2,  2352.5,2,   7.5660,2,    25.00, -999.00,9, -999.00,9, -999.00,    42.3,2, -999.00,9,     -999.0,1,  -999.0,9, 20170903,      936, -32.4995,-131.4656,        0.0,1,      0.062,1,      4.696,1,      0.129,1,     -999.0,9,     -999.0,9,     -999.0,9,     -999.0,9,     -999.0,9,     -999.0,9,     -999.0,9,     -999.0,9,     -999.0,9,     -999.0,9,     -999.0,9,     2.5701,2,     -999.0,     -999.0,9,     -999.0
320620170820,        P06,     164,          1,         13,         13,2,20170903,       0830,   -32.4996,  -131.4670,       4147,  1480.0,   2.7367,  34.5231,2,  34.5217,2,  166.578,2, 166.0574,2,    75.9,2,   34.74,2,    0.00,2,    2.37,2,   0.154,2,   0.087,2,   0.0000,2,  2258.0,2,  2341.6,2,   7.5666,2,    25.00, -999.00,9, -999.00,9, -999.00,  -999.0,9, -999.00,9,     -999.0,9,  -999.0,9, 20170903,      940, -32.4995,-131.4657,        0.0,1,      0.061,1,      4.696,1,      0.130,1,     -999.0,9,     -999.0,9,     -999.0,9,     -999.0,9,     -999.0,9,     -999.0,9,     -999.0,9,     -999.0,9,     -999.0,9,     -999.0,9,     -999.0,9,     2.7380,2,     -999.0,     -999.0,9,     -999.0
320620170820,        P06,     164,          1,         14,         14,2,20170903,       0830,   -32.4996,  -131.4670,       4147,  1378.3,   2.9377,  34.4831,2,  34.4760,2, 171.1336,2, 170.9022,2,    66.5,2,   34.49,2,    0.00,2,    2.36,2,   0.254,2,   0.143,2,   0.0000,2,  2247.2,2,  2333.8,2,   7.5691,2,    25.00, -999.00,9, -999.00,9, -999.00,    41.8,2, -999.00,9,     -999.0,1,  -999.0,9, 20170903,      943, -32.4995,-131.4659,        0.0,1,      0.061,1,      4.696,1,      0.129,1,     -999.0,9,     -999.0,9,     -999.0,9,     -999.0,9,     -999.0,9,     -999.0,9,     -999.0,9,     -999.0,9,     -999.0,9,     -999.0,9,     -999.0,9,     2.9656,2,     -999.0,     -999.0,9,     -999.0
320620170820,        P06,     164,          1,         15,         15,2,20170903,       0830,   -32.4996,  -131.4670,       4147,  1276.2,   3.2209,  34.4317,2,  34.4220,2, 179.5811,2, 178.5302,2,    55.9,2,   34.12,2,    0.00,2,    2.32,2,   0.468,2,   0.249,2,   0.1220,2,  2234.0,2,  2319.9,2,   7.5768,2,    25.00, -999.00,9, -999.00,9, -999.00,  -999.0,9, -999.00,9,     -999.0,9,  -999.0,9, 20170903,      947, -32.4995,-131.4660,        0.0,1,      0.061,1,      4.696,1,      0.129,1,     -999.0,9,     -999.0,9,     -999.0,9,     -999.0,9,     -999.0,9,     -999.0,9,     -999.0,9,     -999.0,9,     -999.0,9,     -999.0,9,     -999.0,9,     3.2748,2,     -999.0,     -999.0,9,     -999.0
320620170820,        P06,     164,          1,         16,         16,2,20170903,       0830,   -32.4996,  -131.4670,       4147,  1175.1,   3.5996,  34.3773,2,  34.3686,2, 189.2894,2, 188.2041,2,    45.2,2,   33.18,2,    0.00,2,    2.25,2,   0.847,2,   0.424,2,   0.1270,2,  2217.1,2,  2309.8,2,   7.5904,2,    25.00, -999.00,9, -999.00,9, -999.00,    42.1,2, -999.00,9,     -999.0,1,  -999.0,9, 20170903,      950, -32.4995,-131.4661,        0.0,1,      0.060,1,      4.696,1,      0.130,1,     -999.0,9,     -999.0,9,     -999.0,9,     -999.0,9,     -999.0,9,     -999.0,9,     -999.0,9,     -999.0,9,     -999.0,9,     -999.0,9,     -999.0,9,     3.6391,2,     -999.0,     -999.0,9,     -999.0
320620170820,        P06,     164,          1,         17,         17,2,20170903,       0830,   -32.4996,  -131.4670,       4147,  1074.4,   4.0899,  34.3425,2,  34.3317,2, 195.0297,2, 195.5435,2,    34.5,2,   31.91,2,    0.00,2,    2.15,2,   1.007,2,   0.514,2,   0.1270,2,  2203.3,2,  2300.2,2,   7.6087,2,    25.00, -999.00,9, -999.00,9, -999.00,  -999.0,9, -999.00,9,     -999.0,9,  -999.0,9, 20170903,      953, -32.4995,-131.4663,        0.0,1,      0.059,1,      4.696,1,      0.129,1,     -999.0,9,     -999.0,9,     -999.0,9,     -999.0,9,     -999.0,9,     -999.0,9,     -999.0,9,     -999.0,9,     -999.0,9,     -999.0,9,     -999.0,9,     4.2065,2,     -999.0,     -999.0,9,     -999.0
320620170820,        P06,     164,          1,         18,         18,2,20170903,       0830,   -32.4996,  -131.4670,       4147,   973.6,   4.6655,  34.3101,2,  34.3023,2, 207.9611,2, 208.5755,2,    24.4,2,   29.93,2,    0.00,2,    2.01,2,   1.522,2,   0.761,2,   0.2580,2,  2183.9,2,  2290.0,2,   7.6340,2,    25.00, -999.00,9, -999.00,9, -999.00,    41.9,2, -999.00,9,     -999.0,1,  -999.0,9, 20170903,      956, -32.4995,-131.4667,        0.0,1,      0.059,1,      4.696,1,      0.129,1,     -999.0,9,     -999.0,9,     -999.0,9,     -999.0,9,     -999.0,9,     -999.0,9,     -999.0,9,     -999.0,9,     -999.0,9,     -999.0,9,     -999.0,9,     4.7837,2,     -999.0,     -999.0,9,     -999.0
320620170820,        P06,     164,          1,         19,         19,2,20170903,       0830,   -32.4996,  -131.4670,       4147,   872.0,   5.2898,  34.2943,2,  34.2905,2, 220.5474,2, 221.6584,2,    17.2,2,   27.82,2,    0.00,2,    1.88,2,   2.108,2,   1.046,2,   0.3410,2,  2170.7,2,  2284.5,2,   7.6602,2,    25.00, -999.00,9, -999.00,9, -999.00,  -999.0,9, -999.00,9,     -999.0,9,  -999.0,9, 20170903,     1000, -32.4995,-131.4667,        0.0,1,      0.059,1,      4.696,1,      0.129,1,     -999.0,9,     -999.0,9,     -999.0,9,     -999.0,9,     -999.0,9,     -999.0,9,     -999.0,9,     -999.0,9,     -999.0,9,     -999.0,9,     -999.0,9,     5.3020,2,     -999.0,     -999.0,9,     -999.0
320620170820,        P06,     164,          1,         20,         20,2,20170903,       0830,   -32.4996,  -131.4670,       4147,   769.9,   5.8351,  34.2982,2,  34.2960,2, 234.1079,2, 234.0401,2,    11.7,2,   25.68,2,    0.00,2,    1.72,2,   2.759,2,   1.411,2,   0.5860,2,  2155.3,2,  2281.1,2,   7.6837,2,    25.00, -999.00,9, -999.00,9, -999.00,    42.5,2, -999.00,9,     -999.0,1,  -999.0,9, 20170903,     1003, -32.4996,-131.4667,        0.0,1,      0.059,1,      4.695,1,      0.130,1,     -999.0,9,     -999.0,9,     -999.0,9,     -999.0,9,     -999.0,9,     -999.0,9,     -999.0,9,     -999.0,9,     -999.0,9,     -999.0,9,     -999.0,9,     5.8444,2,     -999.0,     -999.0,9,     -999.0
320620170820,        P06,     164,          1,         21,         21,2,20170903,       0830,   -32.4996,  -131.4670,       4147,   669.6,   6.2686,  34.3150,2,  34.3138,2, 241.4833,2, 241.8226,2,     8.6,2,   23.92,2,    0.00,2,    1.59,2,   3.274,2,   1.672,2,   0.8250,2,  2147.8,2,  2279.6,2,   7.7003,2,    25.00, -999.00,9, -999.00,9, -999.00,    41.8,2, -999.00,9,     -999.0,1,  -999.0,9, 20170903,     1006, -32.4996,-131.4668,        0.0,1,      0.058,1,      4.695,1,      0.132,1,     -999.0,9,     -999.0,9,     -999.0,9,     -999.0,9,     -999.0,9,     -999.0,9,     -999.0,9,     -999.0,9,     -999.0,9,     -999.0,9,     -999.0,9,     6.2936,2,     -999.0,     -999.0,9,     -999.0
320620170820,        P06,     164,          1,         22,         22,2,20170903,       0830,   -32.4996,  -131.4670,       4147,   567.9,   6.7241,  34.3425,2,  34.3382,2,  245.703,2, 245.4396,2,     6.8,2,   22.53,2,    0.00,2,    1.50,2,   3.530,2,   1.854,2,   1.0500,2,  2141.2,2,  2279.5,2,   7.7094,2,    25.00, -999.00,9, -999.00,9, -999.00,    45.7,3, -999.00,9,     -999.0,1,  -999.0,9, 20170903,     1010, -32.4996,-131.4669,        0.0,1,      0.059,1,      4.694,1,      0.132,1,     -999.0,9,     -999.0,9,     -999.0,9,     -999.0,9,     -999.0,9,     -999.0,9,     -999.0,9,     -999.0,9,     -999.0,9,     -999.0,9,     -999.0,9,     6.7224,2,     -999.0,     -999.0,9,     -999.0
320620170820,        P06,     164,          1,         23,         23,2,20170903,       0830,   -32.4996,  -131.4670,       4147,   488.5,   7.1747,  34.3705,2,  34.3662,2, 247.4386,2, 246.7366,2,     5.5,2,   21.21,2,    0.00,2,    1.42,2,   3.675,2,   1.924,2,   1.2820,2,  2138.6,6,  2279.7,2,   7.7162,2,    25.00, -999.00,9, -999.00,9, -999.00,    43.6,2, -999.00,9,     -999.0,1,  -999.0,9, 20170903,     1013, -32.4996,-131.4668,        0.0,1,      0.059,1,      4.692,1,      0.132,1,     -999.0,9,     -999.0,9,     -999.0,9,     -999.0,9,     -999.0,9,     -999.0,9,     -999.0,9,     -999.0,9,     -999.0,9,     -999.0,9,     -999.0,9,     7.1388,2,     -999.0,     -999.0,9,     -999.0
320620170820,        P06,     164,          1,         24,         24,2,20170903,       0830,   -32.4996,  -131.4670,       4147,   436.3,   7.5550,  34.3897,2,  34.3837,2,  246.678,2, 245.5048,2,     4.6,2,   20.17,2,    0.00,2,    1.38,2,   3.546,2,   1.939,2,   1.3620,2,  2140.9,2,  2279.8,2,   7.7214,2,    25.00, -999.00,9, -999.00,9, -999.00,    45.3,2, -999.00,9,     -999.0,1,  -999.0,9, 20170903,     1015, -32.4995,-131.4667,        0.0,1,      0.059,1,      4.692,1,      0.133,1,     -999.0,9,     -999.0,9,     -999.0,9,     -999.0,9,     -999.0,9,     -999.0,9,     -999.0,9,     -999.0,9,     -999.0,9,     -999.0,9,     -999.0,9,     7.4771,2,     -999.0,     -999.0,9,     -999.0
320620170820,        P06,     164,          1,         25,         25,2,20170903,       0830,   -32.4996,  -131.4670,       4147,   386.1,   8.2032,  34.4126,2,  34.4037,2, 236.2548,2, 235.6289,2,     3.9,2,   19.17,2,    0.00,2,    1.30,2,   3.291,2,   1.874,2,   1.3940,2,  2135.2,2,  2276.7,2,   7.7263,2,    25.00, -999.00,9, -999.00,9, -999.00,    47.0,2, -999.00,9,     -999.0,1,  -999.0,9, 20170903,     1017, -32.4996,-131.4667,        0.0,1,      0.059,1,      4.691,1,      0.135,1,     -999.0,9,     -999.0,9,     -999.0,9,     -999.0,9,     -999.0,9,     -999.0,9,     -999.0,9,     -999.0,9,     -999.0,9,     -999.0,9,     -999.0,9,     8.0350,2,     -999.0,     -999.0,9,     -999.0
320620170820,        P06,     164,          1,         26,         26,2,20170903,       0830,   -32.4996,  -131.4670,       4147,   335.7,   9.4538,  34.4850,2,  34.4451,2, 227.1953,2, 227.1345,2,     2.9,2,   17.05,2,    0.00,2,    1.20,2,   3.269,2,   1.810,2,   1.2310,2,  2131.5,2,  2277.7,2,   7.7383,2,    25.00, -999.00,9, -999.00,9, -999.00,  -999.0,9, -999.00,9,     -999.0,9,  -999.0,9, 20170903,     1019, -32.4996,-131.4668,        0.0,1,      0.059,1,      4.689,1,      0.135,1,     -999.0,9,     -999.0,9,     -999.0,9,     -999.0,9,     -999.0,9,     -999.0,9,     -999.0,9,     -999.0,9,     -999.0,9,     -999.0,9,     -999.0,9,     9.0354,2,     -999.0,     -999.0,9,     -999.0