BOTTLE,20240211CCHSIOCBG
EXPOCODE,SECT_ID,STNNBR,CASTNO,SAMPNO,BTLNBR,BTLNBR_FLAG_W,DATE,TIME,LATITUDE,LONGITUDE,DEPTH,CTDPRS,CTDTMP,CTDSAL,CTDSAL_FLAG_W,SALNTY,SALNTY_FLAG_W,CTDOXY,CTDOXY_FLAG_W,OXYGEN,OXYGEN_FLAG_W,SILCAT,SILCAT_FLAG_W,NITRAT,NITRAT_FLAG_W,NITRIT,NITRIT_FLAG_W,PHSPHT,PHSPHT_FLAG_W,CFC-11,CFC-11_FLAG_W,CFC-12,CFC-12_FLAG_W,SF6,SF6_FLAG_W,TCARBN,TCARBN_FLAG_W,ALKALI,ALKALI_FLAG_W,PH_TOT,PH_TOT_FLAG_W,PH_TMP,DELC13,DELC13_FLAG_W,DELC14,DELC14_FLAG_W,C14ERR,DOC,DOC_FLAG_W,TDN,TDN_FLAG_W,TON,TON_FLAG_W,D15N_NO3,D15N_NO3_FLAG_W,BTL_DATE,BTL_TIME,BTL_LAT,BTL_LON,CTDRINKO,CTDRINKO_FLAG_W,CTDFLUOR,CTDFLUOR_FLAG_W,CTDXMISS,CTDXMISS_FLAG_W,CTDBACKSCATTER,CTDBACKSCATTER_FLAG_W,D18O_NO3,D18O_NO3_FLAG_W,DOP,DOP_FLAG_W,CELLCOUNT,CELLCOUNT_FLAG_W,TDP,TDP_FLAG_W,POP,POP_FLAG_W,DATP,DATP_FLAG_W,PATP,PATP_FLAG_W,HPLC,HPLC_FLAG_W,POC,POC_FLAG_W,BEAMAP,BEAMAP_FLAG_W,DOC_NASA,DOC_NASA_FLAG_W,REFTMP,REFTMP_FLAG_W,DOC_NASA_ERROR,TDN_NASA,TDN_NASA_FLAG_W,TDN_NASA_ERROR
,,,,,,,,,,,METERS,DBAR,ITS-90,PSS-78,,PSS-78,,UMOL/KG,,UMOL/KG,,UMOL/KG,,UMOL/KG,,UMOL/KG,,UMOL/KG,,PMOL/KG,,PMOL/KG,,FMOL/KG,,UMOL/KG,,UMOL/KG,,,,DEG C,/MILLE,,/MILLE,,/MILLE,UMOL/KG,,UMOL/KG,,UMOL/KG,,/MILLE,,,,,,VOLTS,,VOLTS,,VOLTS,,VOLTS,,/MILLE,,UMOL/KG,,/LITER,,UMOL/KG,,UMOL/L,,PMOL/L,,PMOL/L,,,,UG/L,,/METER,,UMOL/L,,ITS-90,,UMOL/L,UMOL/L,,UMOL/L
320620170820,        P06,     225,          3,          1,          1,2,20170922,       1802,   -32.4996,   -82.8657,       3783,  3835.6,   1.6500,  34.6949,2,  34.6928,2, 155.8336,2,-999.0000,9,   123.4,2,   34.53,2,    0.00,2,    2.37,2,   0.018,2,   0.017,2,   0.0000,4,  2303.8,6,  2399.9,2,   7.5893,2,    25.00, -999.00,9, -999.00,9, -999.00,  -999.0,9, -999.00,9,     -999.0,9,  -999.0,1, 20170922,     1802, -32.5000, -82.8662,        0.0,1,      0.061,1,      4.675,1,      0.143,1,     -999.0,1,     -999.0,9,     -999.0,9,     -999.0,9,     -999.0,9,     -999.0,9,     -999.0,9,     -999.0,9,     -999.0,9,     -999.0,9,     -999.0,9,     1.6505,2,     -999.0,     -999.0,9,     -999.0
320620170820,        P06,     225,          3,          2,          2,2,20170922,       1802,   -32.4996,   -82.8657,       3783,  3692.6,   1.6435,  34.6949,2,  34.6932,2, 165.2791,2, 165.5882,2,   123.4,2,   34.52,2,    0.00,2,    2.37,2,   0.070,3,   0.060,3,   0.0000,4,  2303.5,2,  2400.0,2,   7.5882,2,    25.00, -999.00,9, -999.00,9, -999.00,  -999.0,9, -999.00,9,     -999.0,9,  -999.0,1, 20170922,     1807, -32.5000, -82.8663,        0.0,1,      0.061,1,      4.681,1,      0.135,1,     -999.0,1,     -999.0,9,     -999.0,9,     -999.0,9,     -999.0,9,     -999.0,9,     -999.0,9,     -999.0,9,     -999.0,9,     -999.0,9,     -999.0,9,     1.6437,2,     -999.0,     -999.0,9,     -999.0
320620170820,        P06,     225,          3,          3,          3,2,20170922,       1802,   -32.4996,   -82.8657,       3783,  3552.9,   1.6472,  34.6944,2,  34.6950,2, 165.1408,2, 165.7077,2,   122.9,2,   34.47,2,    0.00,2,    2.37,2,   0.018,2,   0.017,2,   0.0000,4,  2300.4,2,  2396.6,2,   7.5882,2,    25.00, -999.00,9, -999.00,9, -999.00,  -999.0,9, -999.00,9,     -999.0,9,  -999.0,1, 20170922,     1811, -32.5000, -82.8663,        0.0,1,      0.061,1,      4.683,1,      0.128,1,     -999.0,1,     -999.0,9,     -999.0,9,     -999.0,9,     -999.0,9,     -999.0,9,     -999.0,9,     -999.0,9,     -999.0,9,     -999.0,9,     -999.0,9,     1.6479,2,     -999.0,     -999.0,9,     -999.0
320620170820,        P06,     225,          3,          4,          4,2,20170922,       1802,   -32.4996,   -82.8657,       3783,  3296.9,   1.7281,  34.6885,2,  34.6871,2, 163.0732,3, 161.8976,2,   122.9,2,   34.66,2,    0.00,2,    2.40,2,   0.023,2,   0.026,2,   0.0000,4,  2303.0,2,  2394.8,2,   7.5834,2,    25.00, -999.00,9, -999.00,9, -999.00,  -999.0,9, -999.00,9,     -999.0,9,  -999.0,1, 20170922,     1818, -32.5000, -82.8665,        0.0,1,      0.061,1,      4.683,1,      0.130,1,     -999.0,1,     -999.0,9,     -999.0,9,     -999.0,9,     -999.0,9,     -999.0,9,     -999.0,9,     -999.0,9,     -999.0,9,     -999.0,9,     -999.0,9,     1.7251,2,     -999.0,     -999.0,9,     -999.0
320620170820,        P06,     225,          3,          5,          5,2,20170922,       1802,   -32.4996,   -82.8657,       3783,  3043.7,   1.7944,  34.6816,2,  34.6806,2, 158.5547,3, 157.4173,2,   123.4,2,   35.01,2,    0.00,2,    2.43,2,   0.019,2,   0.025,2,   0.0000,4,  2305.4,2,  2397.8,2,   7.5770,6,    25.00, -999.00,9, -999.00,9, -999.00,  -999.0,9, -999.00,9,     -999.0,9,  -999.0,1, 20170922,     1823, -32.5000, -82.8667,        0.0,1,      0.061,1,      4.683,1,      0.132,1,     -999.0,1,     -999.0,9,     -999.0,9,     -999.0,9,     -999.0,9,     -999.0,9,     -999.0,9,     -999.0,9,     -999.0,9,     -999.0,9,     -999.0,9,     1.7893,2,     -999.0,     -999.0,9,     -999.0
320620170820,        P06,     225,          3,          6,          6,2,20170922,       1802,   -32.4996,   -82.8657,       3783,  2787.0,   1.8423,  34.6751,2,  34.6741,2, 153.6973,2, 154.2911,2,   122.9,2,   35.26,2,    0.00,2,    2.46,2,   0.020,2,   0.029,2,   0.0000,4,  2306.7,2,  2397.8,2,   7.5717,2,    25.00, -999.00,9, -999.00,9, -999.00,  -999.0,9, -999.00,9,     -999.0,9,  -999.0,1, 20170922,     1829, -32.5000, -82.8670,        0.0,1,      0.061,1,      4.683,1,      0.136,1,     -999.0,1,     -999.0,9,     -999.0,9,     -999.0,9,     -999.0,9,     -999.0,9,     -999.0,9,     -999.0,9,     -999.0,9,     -999.0,9,     -999.0,9,     1.8396,2,     -999.0,     -999.0,9,     -999.0
320620170820,        P06,     225,          3,          7,          7,2,20170922,       1802,   -32.4996,   -82.8657,       3783,  2529.9,   1.9194,  34.6656,2,  34.6635,2, 149.3744,2, 150.0143,2,   121.1,2,   35.54,2,    0.00,2,    2.48,2,   0.016,2,   0.025,2,   0.0000,4,  2308.1,2,  2393.2,2,   7.5654,2,    25.00, -999.00,9, -999.00,9, -999.00,  -999.0,9, -999.00,9,     -999.0,9,  -999.0,1, 20170922,     1835, -32.5000, -82.8672,        0.0,1,      0.062,1,      4.683,1,      0.133,1,     -999.0,1,     -999.0,9,     -999.0,9,     -999.0,9,     -999.0,9,     -999.0,9,     -999.0,9,     -999.0,9,     -999.0,9,     -999.0,9,     -999.0,9,     1.9211,2,     -999.0,     -999.0,9,     -999.0
320620170820,        P06,     225,          3,          8,          8,2,20170922,       1802,   -32.4996,   -82.8657,       3783,  2275.6,   2.0348,  34.6530,2,  34.6510,2, 143.8578,2, 144.1599,2,   118.8,2,   36.01,2,    0.00,2,    2.52,2,   0.020,2,   0.031,2,   0.0000,4,  2308.6,2,  2390.7,2,   7.5544,2,    25.00, -999.00,9, -999.00,9, -999.00,  -999.0,9, -999.00,9,     -999.0,9,  -999.0,1, 20170922,     1841, -32.5001, -82.8674,        0.0,1,      0.063,1,      4.683,1,      0.135,1,     -999.0,1,     -999.0,9,     -999.0,9,     -999.0,9,     -999.0,9,     -999.0,9,     -999.0,9,     -999.0,9,     -999.0,9,     -999.0,9,     -999.0,9,     2.0429,2,     -999.0,     -999.0,9,     -999.0
320620170820,        P06,     225,          3,          9,          9,2,20170922,       1802,   -32.4996,   -82.8657,       3783,  2023.1,   2.2088,  34.6360,2,  34.6341,2, 135.7863,2, 137.0595,2,   115.2,2,   36.67,2,    0.00,2,    2.57,2,   0.023,2,   0.036,2,   0.0000,4,  2310.0,2,  2387.0,2,   7.5397,2,    25.00, -999.00,9, -999.00,9, -999.00,  -999.0,9, -999.00,9,     -999.0,9,  -999.0,1, 20170922,     1847, -32.5001, -82.8674,        0.0,1,      0.062,1,      4.682,1,      0.137,1,     -999.0,1,     -999.0,9,     -999.0,9,     -999.0,9,     -999.0,9,     -999.0,9,     -999.0,9,     -999.0,9,     -999.0,9,     -999.0,9,     -999.0,9,     2.2141,2,     -999.0,     -999.0,9,     -999.0
320620170820,        P06,     225,          3,         10,         10,2,20170922,       1802,   -32.4996,   -82.8657,       3783,  1820.6,   2.4078,  34.6180,2,  34.6174,2, 130.9639,2, 130.9539,2,   110.5,2,   37.20,2,    0.00,2,    2.62,2,   0.021,2,   0.041,2,   0.0000,4,  2308.7,2,  2381.9,2,   7.5305,2,    25.00, -999.00,9, -999.00,9, -999.00,  -999.0,9, -999.00,9,     -999.0,9,  -999.0,1, 20170922,     1852, -32.5001, -82.8674,        0.0,1,      0.061,1,      4.683,1,      0.137,1,     -999.0,1,     -999.0,9,     -999.0,9,     -999.0,9,     -999.0,9,     -999.0,9,     -999.0,9,     -999.0,9,     -999.0,9,     -999.0,9,     -999.0,9,     2.4034,2,     -999.0,     -999.0,9,     -999.0
320620170820,        P06,     225,          3,         11,         11,2,20170922,       1802,   -32.4996,   -82.8657,       3783,  1616.6,   2.6752,  34.5945,2,  34.5940,2, 121.4194,2, 121.1382,2,   104.2,2,   38.06,2,    0.00,2,    2.69,2,   0.020,2,   0.043,2,   0.0000,4,  2308.8,2,  2375.2,2,   7.5120,2,    25.00, -999.00,9, -999.00,9, -999.00,  -999.0,9, -999.00,9,     -999.0,9,  -999.0,1, 20170922,     1857, -32.5001, -82.8675,        0.0,1,      0.061,1,      4.682,1,      0.137,1,     -999.0,1,     -999.0,9,     -999.0,9,     -999.0,9,     -999.0,9,     -999.0,9,     -999.0,9,     -999.0,9,     -999.0,9,     -999.0,9,     -999.0,9,     2.6698,2,     -999.0,     -999.0,9,     -999.0
320620170820,        P06,     225,          3,         12,         12,2,20170922,       1802,   -32.4996,   -82.8657,       3783,  1515.7,   2.8423,  34.5799,2,  34.5802,2, 119.4114,2, 119.6402,2,    99.8,2,   38.20,2,    0.00,2,    2.71,2,   0.023,2,   0.050,2,   0.0000,4,  2303.6,2,  2370.2,2,   7.5078,2,    25.00, -999.00,9, -999.00,9, -999.00,  -999.0,9, -999.00,9,     -999.0,9,  -999.0,1, 20170922,     1900, -32.5001, -82.8674,        0.0,1,      0.061,1,      4.682,1,      0.139,1,     -999.0,1,     -999.0,9,     -999.0,9,     -999.0,9,     -999.0,9,     -999.0,9,     -999.0,9,     -999.0,9,     -999.0,9,     -999.0,9,     -999.0,9,     2.8315,2,     -999.0,     -999.0,9,     -999.0
320620170820,        P06,     225,          3,         13,         13,2,20170922,       1802,   -32.4996,   -82.8657,       3783,  1413.9,   2.9867,  34.5648,2,  34.5641,2, 115.7587,2, 115.2911,2,    94.9,2,   38.61,2,    0.00,2,    2.73,2,   0.025,2,   0.049,2,   0.0000,4,  2300.1,2,  2363.9,2,   7.4980,2,    25.00, -999.00,9, -999.00,9, -999.00,  -999.0,9, -999.00,9,     -999.0,9,  -999.0,1, 20170922,     1903, -32.5001, -82.8674,        0.0,1,      0.062,1,      4.682,1,      0.137,1,     -999.0,1,     -999.0,9,     -999.0,9,     -999.0,9,     -999.0,9,     -999.0,9,     -999.0,9,     -999.0,9,     -999.0,9,     -999.0,9,     -999.0,9,     2.9857,2,     -999.0,     -999.0,9,     -999.0
320620170820,        P06,     225,          3,         14,         14,2,20170922,       1802,   -32.4996,   -82.8657,       3783,  1213.2,   3.3367,  34.5229,2,  34.5260,2, 111.5539,2, 109.6288,2,    84.3,2,   39.22,2,    0.00,2,    2.76,2,   0.025,2,   0.060,2,   0.0000,4,  2293.6,6,  2350.0,2,   7.4833,2,    25.00, -999.00,9, -999.00,9, -999.00,  -999.0,9, -999.00,9,     -999.0,9,  -999.0,1, 20170922,     1908, -32.5000, -82.8672,        0.0,1,      0.062,1,      4.680,1,      0.141,1,     -999.0,1,     -999.0,9,     -999.0,9,     -999.0,9,     -999.0,9,     -999.0,9,     -999.0,9,     -999.0,9,     -999.0,9,     -999.0,9,     -999.0,9,     3.3197,2,     -999.0,     -999.0,9,     -999.0
320620170820,        P06,     225,          3,         15,         15,2,20170922,       1802,   -32.4996,   -82.8657,       3783,  1109.2,   3.5203,  34.4915,2,  34.4901,2, 114.4405,2, 113.8012,2,    75.1,2,   39.03,2,    0.00,2,    2.75,2,   0.045,2,   0.068,2,   0.0000,4,  2284.5,2,  2338.9,2,   7.4841,2,    25.00, -999.00,9, -999.00,9, -999.00,  -999.0,9, -999.00,9,     -999.0,9,  -999.0,1, 20170922,     1912, -32.5000, -82.8672,        0.0,1,      0.061,1,      4.681,1,      0.142,1,     -999.0,1,     -999.0,9,     -999.0,9,     -999.0,9,     -999.0,9,     -999.0,9,     -999.0,9,     -999.0,9,     -999.0,9,     -999.0,9,     -999.0,9,     3.4891,2,     -999.0,     -999.0,9,     -999.0
320620170820,        P06,     225,          3,         16,         16,2,20170922,       1802,   -32.4996,   -82.8657,       3783,  1009.4,   3.6907,  34.4305,2,  34.4296,2, 131.2005,2, 130.0489,2,    60.7,2,   37.85,2,    0.00,2,    2.65,2,   0.161,2,   0.122,2,   0.0000,4,  2263.6,2,  2324.0,2,   7.5022,2,    25.00, -999.00,9, -999.00,9, -999.00,  -999.0,9, -999.00,9,     -999.0,9,  -999.0,1, 20170922,     1915, -32.5000, -82.8672,        0.0,1,      0.063,1,      4.681,1,      0.142,1,     -999.0,1,     -999.0,9,     -999.0,9,     -999.0,9,     -999.0,9,     -999.0,9,     -999.0,9,     -999.0,9,     -999.0,9,     -999.0,9,     -999.0,9,     3.6929,2,     -999.0,     -999.0,9,     -999.0
320620170820,        P06,     225,          3,         17,         17,2,20170922,       1802,   -32.4996,   -82.8657,       3783,   907.5,   3.9978,  34.3805,2,  34.3749,2, 147.4216,2, 148.4562,2,    47.3,2,   36.27,2,    0.00,2,    2.52,2,   0.467,2,   0.250,2,   0.0000,4,  2239.2,2,  2309.0,6,   7.5272,2,    25.00, -999.00,9, -999.00,9, -999.00,  -999.0,9, -999.00,9,     -999.0,9,  -999.0,1, 20170922,     1918, -32.4999, -82.8671,        0.0,1,      0.061,1,      4.681,1,      0.143,1,     -999.0,1,     -999.0,9,     -999.0,9,     -999.0,9,     -999.0,9,     -999.0,9,     -999.0,9,     -999.0,9,     -999.0,9,     -999.0,9,     -999.0,9,     4.0050,2,     -999.0,     -999.0,9,     -999.0
320620170820,        P06,     225,          3,         18,         18,2,20170922,       1802,   -32.4996,   -82.8657,       3783,   806.5,   4.4806,  34.3357,2,  34.3276,2, 165.2823,2, 165.7579,2,    34.7,2,   34.34,2,    0.00,2,    2.36,2,   1.099,2,   0.490,2,   0.0000,4,  2217.3,2,  2295.4,2,   7.5542,2,    25.00, -999.00,9, -999.00,9, -999.00,  -999.0,9, -999.00,9,     -999.0,9,  -999.0,1, 20170922,     1922, -32.4999, -82.8671,        0.0,1,      0.061,1,      4.680,1,      0.142,1,     -999.0,1,     -999.0,9,     -999.0,9,     -999.0,9,     -999.0,9,     -999.0,9,     -999.0,9,     -999.0,9,     -999.0,9,     -999.0,9,     -999.0,9,     4.4857,2,     -999.0,     -999.0,9,     -999.0
320620170820,        P06,     225,          3,         19,         19,2,20170922,       1802,   -32.4996,   -82.8657,       3783,   705.0,   4.9798,  34.2966,2,  34.2925,2, 183.6369,2, 185.7628,2,    23.8,2,   31.98,2,    0.00,2,    2.18,2,   1.944,2,   0.967,2,   0.5830,4,  2197.5,2,  2285.5,2,   7.5847,2,    25.00, -999.00,9, -999.00,9, -999.00,  -999.0,9, -999.00,9,     -999.0,9,  -999.0,1, 20170922,     1925, -32.4999, -82.8670,        0.0,1,      0.061,1,      4.680,1,      0.142,1,     -999.0,1,     -999.0,9,     -999.0,9,     -999.0,9,     -999.0,9,     -999.0,9,     -999.0,9,     -999.0,9,     -999.0,9,     -999.0,9,     -999.0,9,     4.9918,2,     -999.0,     -999.0,9,     -999.0
320620170820,        P06,     225,          3,         20,         20,2,20170922,       1802,   -32.4996,   -82.8657,       3783,   603.6,   5.5121,  34.2813,2,  34.2819,2, 196.9903,2,  195.351,2,    16.7,2,   30.05,2,    0.00,2,    2.05,2,   3.011,2,   1.417,2,   0.4910,4,  2184.5,6,  2277.9,2,   7.6006,2,    25.00, -999.00,9, -999.00,9, -999.00,  -999.0,9, -999.00,9,     -999.0,9,  -999.0,1, 20170922,     1928, -32.4999, -82.8669,        0.0,1,      0.061,1,      4.678,1,      0.146,1,     -999.0,1,     -999.0,9,     -999.0,9,     -999.0,9,     -999.0,9,     -999.0,9,     -999.0,9,     -999.0,9,     -999.0,9,     -999.0,9,     -999.0,9,     5.5547,2,     -999.0,     -999.0,9,     -999.0
320620170820,        P06,     225,          3,         21,         21,2,20170922,       1802,   -32.4996,   -82.8657,       3783,   502.8,   6.2051,  34.3149,2,  34.3093,2, 175.7396,2, 175.0692,2,    15.3,2,   30.49,2,    0.00,2,    2.09,2,   3.132,2,   1.466,2,   0.6810,4,  2193.6,2,  2276.6,2,   7.5677,2,    25.00, -999.00,9, -999.00,9, -999.00,  -999.0,9, -999.00,9,     -999.0,9,  -999.0,1, 20170922,     1931, -32.4999, -82.8669,        0.0,1,      0.061,1,      4.670,1,      0.149,1,     -999.0,1,     -999.0,9,     -999.0,9,     -999.0,9,     -999.0,9,     -999.0,9,     -999.0,9,     -999.0,9,     -999.0,9,     -999.0,9,     -999.0,9,     6.1933,2,     -999.0,     -999.0,9,     -999.0
320620170820,        P06,     225,          3,         22,         22,2,20170922,       1802,   -32.4996,   -82.8657,       3783,   452.6,   6.6898,  34.3449,2,  34.3384,2, 144.2935,2, 144.8851,2,    16.2,2,   31.97,2,    0.00,2,    2.22,2,   2.869,2,   1.396,2,   0.6750,4,  2209.3,2,  2276.4,2,   7.5209,2,    25.00, -999.00,9, -999.00,9, -999.00,  -999.0,9, -999.00,9,     -999.0,9,  -999.0,1, 20170922,     1934, -32.4998, -82.8669,        0.0,1,      0.062,1,      4.673,1,      0.151,1,     -999.0,1,     -999.0,9,     -999.0,9,     -999.0,9,     -999.0,9,     -999.0,9,     -999.0,9,     -999.0,9,     -999.0,9,     -999.0,9,     -999.0,9,     6.6907,2,     -999.0,     -999.0,9,     -999.0
320620170820,        P06,     225,          3,         23,         23,2,20170922,       1802,   -32.4996,   -82.8657,       3783,   402.7,   7.3831,  34.3923,2,  34.3845,2,  99.7906,2, 101.5122,2,    18.4,2,   33.88,2,    0.00,2,    2.42,2,   2.334,2,   1.192,2,   0.8400,4,  2235.3,2,  2276.2,2,   7.4510,6,    25.00, -999.00,9, -999.00,9, -999.00,  -999.0,9, -999.00,9,     -999.0,9,  -999.0,1, 20170922,     1937, -32.4998, -82.8668,        0.0,1,      0.062,1,      4.669,1,      0.157,1,     -999.0,1,     -999.0,9,     -999.0,9,     -999.0,9,     -999.0,9,     -999.0,9,     -999.0,9,     -999.0,9,     -999.0,9,     -999.0,9,     -999.0,9,     7.3894,2,     -999.0,     -999.0,9,     -999.0
320620170820,        P06,     225,          3,         24,         24,2,20170922,       1802,   -32.4996,   -82.8657,       3783,   327.2,   8.7743,  34.4583,2,  34.4473,2,  60.8974,2,  62.3025,2,    19.6,2,   32.15,2,    0.00,2,    2.54,2,   1.905,2,   1.056,2,   0.7790,4,  2252.0,2,  2279.5,2,   7.3991,2,    25.00, -999.00,9, -999.00,9, -999.00,  -999.0,9, -999.00,9,     -999.0,9,  -999.0,1, 20170922,     1940, -32.4998, -82.8667,        0.0,1,      0.065,1,      4.667,1,      0.158,1,     -999.0,1,     -999.0,1,     -999.0,9,       2.56,2,     -999.0,9,     -999.0,9,     -999.0,9,     -999.0,9,     -999.0,9,     -999.0,9,     -999.0,9,     8.7267,2,     -999.0,     -999.0,9,     -999.0
320620170820,        P06,     225,          3,         25,         25,2,20170922,       1802,   -32.4996,   -82.8657,       3783,   250.9,   9.9329,  34.4236,2,  34.4275,2,  75.8344,2,  75.1189,2,    16.8,2,   26.62,2,    0.00,2,    2.38,2,   2.224,2,   1.231,2,   0.8200,4,  2240.0,2,  2276.6,2,   7.4356,2,    25.00, -999.00,9, -999.00,9, -999.00,  -999.0,9, -999.00,9,     -999.0,9,  -999.0,1, 20170922,     1943, -32.4998, -82.8666,        0.0,1,      0.062,1,      4.665,1,      0.167,1,     -999.0,1,     -999.0,1,     -999.0,9,       2.44,2,     -999.0,9,     -999.0,9,     -999.0,9,     -999.0,9,     -999.0,9,     -999.0,9,     -999.0,9,     9.8715,2,     -999.0,     -999.0,9,     -999.0
320620170820,        P06,     225,          3,         26,         26,2,20170922,       1802,   -32.4996,   -82.8657,       3783,   202.0,  10.2292,  34.1981,2,  34.2222,2, 151.1372,2, 150.2764,2,     8.0,2,   22.72,2,    0.00,2,    1.85,2,   3.128,2,   1.661,2,   1.1770,4,  2179.9,2,  2263.9,2,   7.5803,2,    25.00, -999.00,9, -999.00,9, -999.00,  -999.0,9, -999.00,9,     -999.0,9,  -999.0,1, 20170922,     1945, -32.4997, -82.8665,        0.0,1,      0.062,1,      4.664,1,      0.166,1,     -999.0,1,     -999.0,1,     -999.0,9,       1.93,2,     -999.0,9,     -999.0,9,     -999.0,9,     -999.0,9,     -999.0,9,     -999.0,9,     -999.0,9,    10.1262,2,     -999.0,     -999.0,9,     -999.0