BOTTLE,20240211CCHSIOCBG
EXPOCODE,SECT_ID,STNNBR,CASTNO,SAMPNO,BTLNBR,BTLNBR_FLAG_W,DATE,TIME,LATITUDE,LONGITUDE,DEPTH,CTDPRS,CTDTMP,CTDSAL,CTDSAL_FLAG_W,SALNTY,SALNTY_FLAG_W,CTDOXY,CTDOXY_FLAG_W,OXYGEN,OXYGEN_FLAG_W,SILCAT,SILCAT_FLAG_W,NITRAT,NITRAT_FLAG_W,NITRIT,NITRIT_FLAG_W,PHSPHT,PHSPHT_FLAG_W,CFC-11,CFC-11_FLAG_W,CFC-12,CFC-12_FLAG_W,SF6,SF6_FLAG_W,TCARBN,TCARBN_FLAG_W,ALKALI,ALKALI_FLAG_W,PH_TOT,PH_TOT_FLAG_W,PH_TMP,DELC13,DELC13_FLAG_W,DELC14,DELC14_FLAG_W,C14ERR,DOC,DOC_FLAG_W,TDN,TDN_FLAG_W,TON,TON_FLAG_W,D15N_NO3,D15N_NO3_FLAG_W,BTL_DATE,BTL_TIME,BTL_LAT,BTL_LON,CTDRINKO,CTDRINKO_FLAG_W,CTDFLUOR,CTDFLUOR_FLAG_W,CTDXMISS,CTDXMISS_FLAG_W,CTDBACKSCATTER,CTDBACKSCATTER_FLAG_W,D18O_NO3,D18O_NO3_FLAG_W,DOP,DOP_FLAG_W,CELLCOUNT,CELLCOUNT_FLAG_W,TDP,TDP_FLAG_W,POP,POP_FLAG_W,DATP,DATP_FLAG_W,PATP,PATP_FLAG_W,HPLC,HPLC_FLAG_W,POC,POC_FLAG_W,BEAMAP,BEAMAP_FLAG_W,DOC_NASA,DOC_NASA_FLAG_W,REFTMP,REFTMP_FLAG_W,DOC_NASA_ERROR,TDN_NASA,TDN_NASA_FLAG_W,TDN_NASA_ERROR
,,,,,,,,,,,METERS,DBAR,ITS-90,PSS-78,,PSS-78,,UMOL/KG,,UMOL/KG,,UMOL/KG,,UMOL/KG,,UMOL/KG,,UMOL/KG,,PMOL/KG,,PMOL/KG,,FMOL/KG,,UMOL/KG,,UMOL/KG,,,,DEG C,/MILLE,,/MILLE,,/MILLE,UMOL/KG,,UMOL/KG,,UMOL/KG,,/MILLE,,,,,,VOLTS,,VOLTS,,VOLTS,,VOLTS,,/MILLE,,UMOL/KG,,/LITER,,UMOL/KG,,UMOL/L,,PMOL/L,,PMOL/L,,,,UG/L,,/METER,,UMOL/L,,ITS-90,,UMOL/L,UMOL/L,,UMOL/L
320620170820,        P06,     177,          1,          1,          1,2,20170907,       1238,   -32.5004,  -121.3362,       3195,  3230.4,   1.6934,  34.6766,2,  34.6757,2,  165.692,2,  166.088,2,   122.4,2,   34.61,2,    0.00,2,    2.39,2,   0.034,2,   0.018,2,   0.0000,2,  2299.0,6,  2393.8,2,   7.5897,2,    25.00, -999.00,9, -999.00,9, -999.00,  -999.0,9, -999.00,9,     -999.0,9,  -999.0,9, 20170907,     1238, -32.4998,-121.3363,        0.0,1,      0.061,1,      4.692,1,      0.127,1,     -999.0,9,     -999.0,9,     -999.0,9,     -999.0,9,     -999.0,9,     -999.0,9,     -999.0,9,     -999.0,9,     -999.0,9,     -999.0,9,     -999.0,9,     1.6939,2,     -999.0,     -999.0,9,     -999.0
320620170820,        P06,     177,          1,          2,          2,2,20170907,       1238,   -32.5004,  -121.3362,       3195,  3046.7,   1.6911,  34.6756,2,  34.6749,2, 165.3688,2,  165.391,2,   122.1,2,   34.70,2,    0.00,2,    2.40,2,   0.033,2,   0.020,2,   0.0000,2,  -999.0,9,  -999.0,9,-999.0000,9,  -999.00, -999.00,9, -999.00,9, -999.00,  -999.0,9, -999.00,9,     -999.0,9,  -999.0,9, 20170907,     1242, -32.4999,-121.3363,        0.0,1,      0.060,1,      4.692,1,      0.127,1,     -999.0,9,     -999.0,9,     -999.0,9,     -999.0,9,     -999.0,9,     -999.0,9,     -999.0,9,     -999.0,9,     -999.0,9,     -999.0,9,     -999.0,9,     1.6920,2,     -999.0,     -999.0,9,     -999.0
320620170820,        P06,     177,          1,          3,          3,2,20170907,       1238,   -32.5004,  -121.3362,       3195,  2840.7,   1.7148,  34.6724,2,  34.6722,2, 164.5547,2, 163.9766,2,   121.6,2,   34.77,2,    0.00,2,    2.40,2,   0.032,2,   0.020,2,   0.0000,2,  2302.4,3,  2395.2,2,   7.5866,2,    25.00, -999.00,9, -999.00,9, -999.00,  -999.0,9, -999.00,9,     -999.0,9,  -999.0,9, 20170907,     1247, -32.4999,-121.3362,        0.0,1,      0.061,1,      4.693,1,      0.127,1,     -999.0,9,     -999.0,9,     -999.0,9,     -999.0,9,     -999.0,9,     -999.0,9,     -999.0,9,     -999.0,9,     -999.0,9,     -999.0,9,     -999.0,9,     1.7136,2,     -999.0,     -999.0,9,     -999.0
320620170820,        P06,     177,          1,          4,          4,2,20170907,       1238,   -32.5004,  -121.3362,       3195,  2635.8,   1.7675,  34.6676,2,  34.6671,2,  161.824,2,  161.846,2,   120.7,2,   34.88,2,    0.00,2,    2.42,2,   0.030,2,   0.023,2,   0.0000,2,  -999.0,9,  -999.0,9,-999.0000,9,  -999.00, -999.00,9, -999.00,9, -999.00,  -999.0,9, -999.00,9,     -999.0,9,  -999.0,9, 20170907,     1251, -32.4999,-121.3362,        0.0,1,      0.061,1,      4.693,1,      0.127,1,     -999.0,9,     -999.0,9,     -999.0,9,     -999.0,9,     -999.0,9,     -999.0,9,     -999.0,9,     -999.0,9,     -999.0,9,     -999.0,9,     -999.0,9,     1.7594,2,     -999.0,     -999.0,9,     -999.0
320620170820,        P06,     177,          1,          5,          5,2,20170907,       1238,   -32.5004,  -121.3362,       3195,  2430.9,   1.8573,  34.6598,2,  34.6588,2, 159.0805,2, 158.9862,2,   118.6,2,   35.05,2,    0.00,2,    2.43,2,   0.032,2,   0.021,2,   0.0000,2,  2302.1,2,  2391.2,2,   7.5804,2,    25.00, -999.00,9, -999.00,9, -999.00,  -999.0,9, -999.00,9,     -999.0,9,  -999.0,9, 20170907,     1256, -32.5001,-121.3362,        0.0,1,      0.061,1,      4.693,1,      0.127,1,     -999.0,9,     -999.0,9,     -999.0,9,     -999.0,9,     -999.0,9,     -999.0,9,     -999.0,9,     -999.0,9,     -999.0,9,     -999.0,9,     -999.0,9,     1.8514,2,     -999.0,     -999.0,9,     -999.0
320620170820,        P06,     177,          1,          6,          6,2,20170907,       1238,   -32.5004,  -121.3362,       3195,  2226.4,   1.9814,  34.6489,2,  34.6494,2,  156.706,2, 156.8873,2,   115.2,2,   35.15,2,    0.00,2,    2.43,2,   0.034,2,   0.022,2,   0.0000,2,  -999.0,9,  -999.0,9,-999.0000,9,  -999.00, -999.00,9, -999.00,9, -999.00,  -999.0,9, -999.00,9,     -999.0,9,  -999.0,9, 20170907,     1300, -32.5002,-121.3361,        0.0,1,      0.061,1,      4.694,1,      0.128,1,     -999.0,9,     -999.0,9,     -999.0,9,     -999.0,9,     -999.0,9,     -999.0,9,     -999.0,9,     -999.0,9,     -999.0,9,     -999.0,9,     -999.0,9,     1.9665,2,     -999.0,     -999.0,9,     -999.0
320620170820,        P06,     177,          1,          7,          7,2,20170907,       1238,   -32.5004,  -121.3362,       3195,  2022.2,   2.1262,  34.6331,2,  34.6325,2, 156.2687,2, 156.6351,2,   108.6,2,   35.12,2,    0.00,2,    2.43,2,   0.042,6,   0.028,6,   0.0000,6,  2294.4,6,  2380.9,6,   7.5727,2,    25.00, -999.00,9, -999.00,9, -999.00,  -999.0,9, -999.00,9,     -999.0,9,  -999.0,9, 20170907,     1305, -32.5001,-121.3362,        0.0,1,      0.061,1,      4.694,1,      0.126,1,     -999.0,9,     -999.0,9,     -999.0,9,     -999.0,9,     -999.0,9,     -999.0,9,     -999.0,9,     -999.0,9,     -999.0,9,     -999.0,9,     -999.0,9,     2.1155,2,     -999.0,     -999.0,9,     -999.0
320620170820,        P06,     177,          1,          8,          8,2,20170907,       1238,   -32.5004,  -121.3362,       3195,  1821.9,   2.2630,  34.6146,2,  34.6148,2,  157.282,2,   157.17,2,   101.6,2,   35.04,2,    0.00,2,    2.42,2,   0.009,2,   0.033,2,   0.0000,2,  -999.0,9,  -999.0,9,-999.0000,9,  -999.00, -999.00,9, -999.00,9, -999.00,  -999.0,9, -999.00,9,     -999.0,9,  -999.0,9, 20170907,     1309, -32.4999,-121.3363,        0.0,1,      0.061,1,      4.694,1,      0.128,1,     -999.0,9,     -999.0,9,     -999.0,9,     -999.0,9,     -999.0,9,     -999.0,9,     -999.0,9,     -999.0,9,     -999.0,9,     -999.0,9,     -999.0,9,     2.2553,2,     -999.0,     -999.0,9,     -999.0
320620170820,        P06,     177,          1,          9,          9,2,20170907,       1238,   -32.5004,  -121.3362,       3195,  1723.0,   2.3685,  34.5968,2,  34.5959,2, 158.7493,2, 159.2352,2,    95.4,2,   34.92,2,    0.00,2,    2.41,2,   0.063,2,   0.039,2,   0.0000,2,  2279.8,2,  2365.2,2,   7.5687,6,    25.00, -999.00,9, -999.00,9, -999.00,  -999.0,9, -999.00,9,     -999.0,9,  -999.0,9, 20170907,     1312, -32.4999,-121.3363,        0.0,1,      0.061,1,      4.694,1,      0.130,1,     -999.0,9,     -999.0,9,     -999.0,9,     -999.0,9,     -999.0,9,     -999.0,9,     -999.0,9,     -999.0,9,     -999.0,9,     -999.0,9,     -999.0,9,     2.3642,2,     -999.0,     -999.0,9,     -999.0
320620170820,        P06,     177,          1,         10,         10,2,20170907,       1238,   -32.5004,  -121.3362,       3195,  1617.8,   2.5197,  34.5688,2,  34.5661,2, 161.2065,2, 161.3194,2,    86.8,2,   34.81,2,    0.00,2,    2.39,2,   0.091,2,   0.056,2,   0.0000,2,  -999.0,9,  -999.0,9,-999.0000,9,  -999.00, -999.00,9, -999.00,9, -999.00,  -999.0,9, -999.00,9,     -999.0,9,  -999.0,9, 20170907,     1314, -32.5001,-121.3362,        0.0,1,      0.060,1,      4.694,1,      0.129,1,     -999.0,9,     -999.0,9,     -999.0,9,     -999.0,9,     -999.0,9,     -999.0,9,     -999.0,9,     -999.0,9,     -999.0,9,     -999.0,9,     -999.0,9,     2.5224,2,     -999.0,     -999.0,9,     -999.0
320620170820,        P06,     177,          1,         11,         11,2,20170907,       1238,   -32.5004,  -121.3362,       3195,  1515.6,   2.7441,  34.5248,2,  34.5298,2, 164.4333,2, 163.9871,2,    78.2,2,   34.77,2,    0.00,2,    2.40,2,   0.135,2,   0.082,2,   0.0000,2,  2262.7,2,  2345.6,2,   7.5662,2,    25.00, -999.00,9, -999.00,9, -999.00,  -999.0,9, -999.00,9,     -999.0,9,  -999.0,9, 20170907,     1317, -32.5002,-121.3362,        0.0,1,      0.061,1,      4.694,1,      0.128,1,     -999.0,9,     -999.0,9,     -999.0,9,     -999.0,9,     -999.0,9,     -999.0,9,     -999.0,9,     -999.0,9,     -999.0,9,     -999.0,9,     -999.0,9,     2.7044,2,     -999.0,     -999.0,9,     -999.0
320620170820,        P06,     177,          1,         12,         12,2,20170907,       1238,   -32.5004,  -121.3362,       3195,  1416.3,   2.9360,  34.4884,2,  34.4911,2, 167.2044,2, 166.9157,2,    69.7,2,   34.74,2,    0.00,2,    2.38,2,   0.199,2,   0.116,2,   0.0000,2,  -999.0,9,  -999.0,9,-999.0000,9,  -999.00, -999.00,9, -999.00,9, -999.00,  -999.0,9, -999.00,9,     -999.0,9,  -999.0,9, 20170907,     1320, -32.5003,-121.3362,        0.0,1,      0.061,1,      4.694,1,      0.128,1,     -999.0,9,     -999.0,9,     -999.0,9,     -999.0,9,     -999.0,9,     -999.0,9,     -999.0,9,     -999.0,9,     -999.0,9,     -999.0,9,     -999.0,9,     2.9151,2,     -999.0,     -999.0,9,     -999.0
320620170820,        P06,     177,          1,         13,         13,2,20170907,       1238,   -32.5004,  -121.3362,       3195,  1313.9,   3.2061,  34.4430,2,  34.4526,2, 169.4346,2, 168.7692,2,    62.0,2,   34.70,2,    0.00,2,    2.37,2,   0.268,2,   0.148,2,   0.0380,2,  2243.5,2,  2326.0,2,   7.5655,2,    25.00, -999.00,9, -999.00,9, -999.00,  -999.0,9, -999.00,9,     -999.0,9,  -999.0,9, 20170907,     1322, -32.5003,-121.3361,        0.0,1,      0.062,1,      4.694,1,      0.129,1,     -999.0,9,     -999.0,9,     -999.0,9,     -999.0,9,     -999.0,9,     -999.0,9,     -999.0,9,     -999.0,9,     -999.0,9,     -999.0,9,     -999.0,9,     3.1371,2,     -999.0,     -999.0,9,     -999.0
320620170820,        P06,     177,          1,         14,         14,2,20170907,       1238,   -32.5004,  -121.3362,       3195,  1212.9,   3.5867,  34.3897,2,  34.3941,2, 176.2421,2, 176.0364,2,    50.5,2,   34.03,2,    0.00,2,    2.33,2,   0.442,2,   0.238,2,   0.0520,2,  -999.0,9,  -999.0,9,-999.0000,9,  -999.00, -999.00,9, -999.00,9, -999.00,  -999.0,9, -999.00,9,     -999.0,9,  -999.0,9, 20170907,     1325, -32.5002,-121.3362,        0.0,1,      0.061,1,      4.694,1,      0.127,1,     -999.0,9,     -999.0,9,     -999.0,9,     -999.0,9,     -999.0,9,     -999.0,9,     -999.0,9,     -999.0,9,     -999.0,9,     -999.0,9,     -999.0,9,     3.5386,2,     -999.0,     -999.0,9,     -999.0
320620170820,        P06,     177,          1,         15,         15,2,20170907,       1238,   -32.5004,  -121.3362,       3195,  1111.9,   4.0315,  34.3415,2,  34.3462,2, 187.0401,2, 187.1681,2,    39.7,2,   32.77,2,    0.00,2,    2.23,2,   0.738,2,   0.387,2,   0.1340,2,  2213.3,2,  2303.5,2,   7.5940,2,    25.00, -999.00,9, -999.00,9, -999.00,  -999.0,9, -999.00,9,     -999.0,9,  -999.0,9, 20170907,     1328, -32.5001,-121.3362,        0.0,1,      0.061,1,      4.694,1,      0.129,1,     -999.0,9,     -999.0,9,     -999.0,9,     -999.0,9,     -999.0,9,     -999.0,9,     -999.0,9,     -999.0,9,     -999.0,9,     -999.0,9,     -999.0,9,     3.9562,2,     -999.0,     -999.0,9,     -999.0
320620170820,        P06,     177,          1,         16,         16,2,20170907,       1238,   -32.5004,  -121.3362,       3195,  1012.0,   4.5595,  34.3091,2,  34.3103,2, 201.7455,2, 202.3827,2,    28.8,2,   30.83,2,    0.00,2,    2.08,2,   1.237,2,   0.627,2,   0.2070,2,  -999.0,9,  -999.0,9,-999.0000,9,  -999.00, -999.00,9, -999.00,9, -999.00,  -999.0,9, -999.00,9,     -999.0,9,  -999.0,9, 20170907,     1331, -32.5001,-121.3362,        0.0,1,      0.060,1,      4.693,1,      0.129,1,     -999.0,9,     -999.0,9,     -999.0,9,     -999.0,9,     -999.0,9,     -999.0,9,     -999.0,9,     -999.0,9,     -999.0,9,     -999.0,9,     -999.0,9,     4.4780,2,     -999.0,     -999.0,9,     -999.0
320620170820,        P06,     177,          1,         17,         17,2,20170907,       1238,   -32.5004,  -121.3362,       3195,   910.5,   5.1462,  34.2878,2,  34.2860,2, 220.2637,2, 220.3182,2,    18.5,2,   28.22,2,    0.00,2,    1.89,2,   1.995,2,   1.003,2,   0.3690,2,  2171.3,2,  2284.3,2,   7.6575,2,    25.00, -999.00,9, -999.00,9, -999.00,  -999.0,9, -999.00,9,     -999.0,9,  -999.0,9, 20170907,     1333, -32.5002,-121.3362,        0.0,1,      0.060,1,      4.694,1,      0.130,1,     -999.0,9,     -999.0,9,     -999.0,9,     -999.0,9,     -999.0,9,     -999.0,9,     -999.0,9,     -999.0,9,     -999.0,9,     -999.0,9,     -999.0,9,     5.1516,2,     -999.0,     -999.0,9,     -999.0
320620170820,        P06,     177,          1,         18,         18,2,20170907,       1238,   -32.5004,  -121.3362,       3195,   807.8,   5.6314,  34.2879,2,  34.2862,2, 233.7558,2, 233.8796,2,    12.3,2,   25.91,2,    0.00,2,    1.73,2,   2.722,2,   1.398,2,   0.5340,2,  -999.0,9,  -999.0,9,-999.0000,9,  -999.00, -999.00,9, -999.00,9, -999.00,  -999.0,9, -999.00,9,     -999.0,9,  -999.0,9, 20170907,     1336, -32.5003,-121.3362,        0.0,1,      0.060,1,      4.693,1,      0.132,1,     -999.0,9,     -999.0,9,     -999.0,9,     -999.0,9,     -999.0,9,     -999.0,9,     -999.0,9,     -999.0,9,     -999.0,9,     -999.0,9,     -999.0,9,     5.6941,2,     -999.0,     -999.0,9,     -999.0
320620170820,        P06,     177,          1,         19,         19,2,20170907,       1238,   -32.5004,  -121.3362,       3195,   706.6,   6.0810,  34.3029,2,  34.3054,2, 242.3642,2, 242.7934,2,     9.2,2,   24.09,2,    0.00,2,    1.61,2,   3.353,2,   1.696,2,   0.7220,2,  2151.7,2,  2277.4,2,   7.6988,2,    25.00, -999.00,9, -999.00,9, -999.00,  -999.0,9, -999.00,9,     -999.0,9,  -999.0,9, 20170907,     1339, -32.5003,-121.3361,        0.0,1,      0.058,1,      4.692,1,      0.131,1,     -999.0,9,     -999.0,9,     -999.0,9,     -999.0,9,     -999.0,9,     -999.0,9,     -999.0,9,     -999.0,9,     -999.0,9,     -999.0,9,     -999.0,9,     6.1877,2,     -999.0,     -999.0,9,     -999.0
320620170820,        P06,     177,          1,         20,         20,2,20170907,       1238,   -32.5004,  -121.3362,       3195,   605.6,   6.5474,  34.3279,2,  34.3282,2, 245.4141,2, 245.8122,2,     7.3,2,   22.77,2,    0.00,2,    1.51,2,   3.571,2,   1.884,2,   1.1710,2,  -999.0,9,  -999.0,9,-999.0000,9,  -999.00, -999.00,9, -999.00,9, -999.00,  -999.0,9, -999.00,9,     -999.0,9,  -999.0,9, 20170907,     1342, -32.5003,-121.3362,        0.0,1,      0.059,1,      4.692,1,      0.133,1,     -999.0,9,     -999.0,9,     -999.0,9,     -999.0,9,     -999.0,9,     -999.0,9,     -999.0,9,     -999.0,9,     -999.0,9,     -999.0,9,     -999.0,9,     6.5903,2,     -999.0,     -999.0,9,     -999.0
320620170820,        P06,     177,          1,         21,         21,2,20170907,       1238,   -32.5004,  -121.3362,       3195,   507.7,   7.1810,  34.3600,2,  34.3582,2, 248.5377,2, 248.1562,2,     5.3,2,   20.86,2,    0.00,2,    1.40,2,   3.653,2,   1.995,2,   1.4310,2,  2144.6,2,  2276.8,2,   7.7181,2,    25.00, -999.00,9, -999.00,9, -999.00,  -999.0,9, -999.00,9,     -999.0,9,  -999.0,9, 20170907,     1344, -32.5003,-121.3362,        0.0,1,      0.059,1,      4.690,1,      0.133,1,     -999.0,9,     -999.0,9,     -999.0,9,     -999.0,9,     -999.0,9,     -999.0,9,     -999.0,9,     -999.0,9,     -999.0,9,     -999.0,9,     -999.0,9,     7.1896,2,     -999.0,     -999.0,9,     -999.0
320620170820,        P06,     177,          1,         22,         22,2,20170907,       1238,   -32.5004,  -121.3362,       3195,   454.5,   7.4917,  34.3703,2,  34.3660,2, 245.6503,2, 245.0166,2,     4.6,2,   20.10,2,    0.00,2,    1.37,2,   3.617,2,   1.995,2,   1.4000,2,  -999.0,9,  -999.0,9,-999.0000,9,  -999.00, -999.00,9, -999.00,9, -999.00,  -999.0,9, -999.00,9,     -999.0,9,  -999.0,9, 20170907,     1346, -32.5003,-121.3362,        0.0,1,      0.058,1,      4.689,1,      0.135,1,     -999.0,9,     -999.0,9,     -999.0,9,     -999.0,9,     -999.0,9,     -999.0,9,     -999.0,9,     -999.0,9,     -999.0,9,     -999.0,9,     -999.0,9,     7.5254,2,     -999.0,     -999.0,9,     -999.0
320620170820,        P06,     177,          1,         23,         23,2,20170907,       1238,   -32.5004,  -121.3362,       3195,   405.7,   8.4145,  34.3945,2,  34.3882,2, 237.1954,2,  236.123,2,     3.7,2,   18.63,2,    0.00,2,    1.27,2,   3.505,2,   1.921,2,   1.5010,2,  2138.2,2,  2276.3,2,   7.7294,2,    25.00, -999.00,9, -999.00,9, -999.00,  -999.0,9, -999.00,9,     -999.0,9,  -999.0,9, 20170907,     1348, -32.5002,-121.3362,        0.0,1,      0.059,1,      4.689,1,      0.133,1,     -999.0,9,     -999.0,9,     -999.0,9,     -999.0,9,     -999.0,9,     -999.0,9,     -999.0,9,     -999.0,9,     -999.0,9,     -999.0,9,     -999.0,9,     8.3018,2,     -999.0,     -999.0,9,     -999.0
320620170820,        P06,     177,          1,         24,         24,2,20170907,       1238,   -32.5004,  -121.3362,       3195,   352.3,   9.0950,  34.4246,2,  34.4186,2, 230.8265,2, 229.3477,2,     3.0,2,   17.04,2,    0.00,2,    1.18,2,   3.386,2,   1.859,2,   1.3880,2,  -999.0,9,  -999.0,9,-999.0000,9,  -999.00, -999.00,9, -999.00,9, -999.00,  -999.0,9, -999.00,9,     -999.0,9,  -999.0,9, 20170907,     1350, -32.5002,-121.3362,        0.0,1,      0.059,1,      4.688,1,      0.132,1,     -999.0,9,     -999.0,9,     -999.0,9,     -999.0,9,     -999.0,9,     -999.0,9,     -999.0,9,     -999.0,9,     -999.0,9,     -999.0,9,     -999.0,9,     9.0851,2,     -999.0,     -999.0,9,     -999.0
320620170820,        P06,     177,          1,         25,         25,2,20170907,       1238,   -32.5004,  -121.3362,       3195,   301.6,  10.4376,  34.4919,2,  34.4699,3, 219.8422,2, 220.9474,2,     2.1,2,   14.48,2,    0.00,2,    1.04,2,   3.307,2,   1.764,2,   1.3670,2,  2122.2,2,  2277.3,2,   7.7660,2,    25.00, -999.00,9, -999.00,9, -999.00,  -999.0,9, -999.00,9,     -999.0,9,  -999.0,9, 20170907,     1352, -32.5002,-121.3362,        0.0,1,      0.060,1,      4.686,1,      0.131,1,     -999.0,9,     -999.0,9,     -999.0,9,     -999.0,9,     -999.0,9,     -999.0,9,     -999.0,9,     -999.0,9,     -999.0,9,     -999.0,9,     -999.0,9,    10.2048,2,     -999.0,     -999.0,9,     -999.0
320620170820,        P06,     177,          1,         26,         26,2,20170907,       1238,   -32.5004,  -121.3362,       3195,   252.6,  12.4854,  34.6187,2,  34.6388,2, 222.7301,2, 223.5521,2,     0.7,2,    7.63,2,    0.02,2,    0.61,2,   2.837,2,   1.634,2,   1.6720,2,  2098.4,2,  2282.6,2,   7.8330,2,    25.00, -999.00,9, -999.00,9, -999.00,  -999.0,9, -999.00,9,     -999.0,9,  -999.0,9, 20170907,     1354, -32.5001,-121.3362,        0.0,1,      0.067,1,      4.681,1,      0.132,1,     -999.0,9,     -999.0,9,     -999.0,9,     -999.0,9,     -999.0,9,     -999.0,9,     -999.0,9,     -999.0,9,     -999.0,9,     -999.0,9,     -999.0,9,    12.6116,2,     -999.0,     -999.0,9,     -999.0