BOTTLE,20240211CCHSIOCBG
EXPOCODE,SECT_ID,STNNBR,CASTNO,SAMPNO,BTLNBR,BTLNBR_FLAG_W,DATE,TIME,LATITUDE,LONGITUDE,DEPTH,CTDPRS,CTDTMP,CTDSAL,CTDSAL_FLAG_W,SALNTY,SALNTY_FLAG_W,CTDOXY,CTDOXY_FLAG_W,OXYGEN,OXYGEN_FLAG_W,SILCAT,SILCAT_FLAG_W,NITRAT,NITRAT_FLAG_W,NITRIT,NITRIT_FLAG_W,PHSPHT,PHSPHT_FLAG_W,CFC-11,CFC-11_FLAG_W,CFC-12,CFC-12_FLAG_W,SF6,SF6_FLAG_W,TCARBN,TCARBN_FLAG_W,ALKALI,ALKALI_FLAG_W,PH_TOT,PH_TOT_FLAG_W,PH_TMP,DELC13,DELC13_FLAG_W,DELC14,DELC14_FLAG_W,C14ERR,DOC,DOC_FLAG_W,TDN,TDN_FLAG_W,TON,TON_FLAG_W,D15N_NO3,D15N_NO3_FLAG_W,BTL_DATE,BTL_TIME,BTL_LAT,BTL_LON,CTDRINKO,CTDRINKO_FLAG_W,CTDFLUOR,CTDFLUOR_FLAG_W,CTDXMISS,CTDXMISS_FLAG_W,CTDBACKSCATTER,CTDBACKSCATTER_FLAG_W,D18O_NO3,D18O_NO3_FLAG_W,DOP,DOP_FLAG_W,CELLCOUNT,CELLCOUNT_FLAG_W,TDP,TDP_FLAG_W,POP,POP_FLAG_W,DATP,DATP_FLAG_W,PATP,PATP_FLAG_W,HPLC,HPLC_FLAG_W,POC,POC_FLAG_W,BEAMAP,BEAMAP_FLAG_W,DOC_NASA,DOC_NASA_FLAG_W,REFTMP,REFTMP_FLAG_W,DOC_NASA_ERROR,TDN_NASA,TDN_NASA_FLAG_W,TDN_NASA_ERROR
,,,,,,,,,,,METERS,DBAR,ITS-90,PSS-78,,PSS-78,,UMOL/KG,,UMOL/KG,,UMOL/KG,,UMOL/KG,,UMOL/KG,,UMOL/KG,,PMOL/KG,,PMOL/KG,,FMOL/KG,,UMOL/KG,,UMOL/KG,,,,DEG C,/MILLE,,/MILLE,,/MILLE,UMOL/KG,,UMOL/KG,,UMOL/KG,,/MILLE,,,,,,VOLTS,,VOLTS,,VOLTS,,VOLTS,,/MILLE,,UMOL/KG,,/LITER,,UMOL/KG,,UMOL/L,,PMOL/L,,PMOL/L,,,,UG/L,,/METER,,UMOL/L,,ITS-90,,UMOL/L,UMOL/L,,UMOL/L
320620170820,        P06,     191,          3,          1,          1,2,20170911,       2030,   -32.5014,  -110.3256,       3321,  3362.5,   1.8204,  34.6720,2,  34.6732,2, 162.5388,2, 162.9096,2,   120.2,2,   34.86,2,    0.00,2,    2.42,2,   0.030,2,   0.016,2,   0.0000,2,  2299.2,6,  2393.4,2,   7.5857,2,    25.00, -999.00,9, -999.00,9, -999.00,  -999.0,9, -999.00,9,     -999.0,9,  -999.0,9, 20170911,     2030, -32.5006,-110.3258,        0.0,1,      0.061,1,      4.688,1,      0.132,1,     -999.0,9,     -999.0,9,     -999.0,9,     -999.0,9,     -999.0,9,     -999.0,9,     -999.0,9,     -999.0,9,     -999.0,9,     -999.0,9,     -999.0,9,     1.8209,2,     -999.0,     -999.0,9,     -999.0
320620170820,        P06,     191,          3,          2,          2,2,20170911,       2030,   -32.5014,  -110.3256,       3321,  3285.9,   1.8142,  34.6720,2,  34.6730,2, 162.5388,2, 163.2508,2,   120.3,2,   34.84,2,    0.00,2,    2.43,2,   0.042,2,   0.026,2,   0.0000,2,  2298.2,2,  2391.8,2,   7.5859,2,    25.00, -999.00,9, -999.00,9, -999.00,  -999.0,9, -999.00,9,     -999.0,9,  -999.0,9, 20170911,     2033, -32.5006,-110.3258,        0.0,1,      0.061,1,      4.688,1,      0.132,1,     -999.0,9,     -999.0,9,     -999.0,9,     -999.0,9,     -999.0,9,     -999.0,9,     -999.0,9,     -999.0,9,     -999.0,9,     -999.0,9,     -999.0,9,     1.8144,2,     -999.0,     -999.0,9,     -999.0
320620170820,        P06,     191,          3,          3,          3,2,20170911,       2030,   -32.5014,  -110.3256,       3321,  3179.4,   1.8077,  34.6716,2,  34.6726,2, 162.5388,2, 162.6525,2,   120.5,2,   34.82,2,    0.00,2,    2.43,2,   0.067,2,   0.048,2,   0.0000,2,  2296.7,2,  2392.4,2,   7.5859,2,    25.00, -999.00,9, -999.00,9, -999.00,  -999.0,9, -999.00,9,     -999.0,9,  -999.0,9, 20170911,     2036, -32.5006,-110.3257,        0.0,1,      0.061,1,      4.688,1,      0.131,1,     -999.0,9,     -999.0,9,     -999.0,9,     -999.0,9,     -999.0,9,     -999.0,9,     -999.0,9,     -999.0,9,     -999.0,9,     -999.0,9,     -999.0,9,     1.8077,2,     -999.0,     -999.0,9,     -999.0
320620170820,        P06,     191,          3,          4,          4,2,20170911,       2030,   -32.5014,  -110.3256,       3321,  2975.4,   1.8008,  34.6710,2,  34.6734,2, 162.5388,2, 162.4108,2,   120.0,2,   34.86,2,    0.00,2,    2.43,2,   0.035,2,   0.024,2,   0.0000,2,  2298.5,2,  2389.3,2,   7.5856,6,    25.00, -999.00,9, -999.00,9, -999.00,  -999.0,9, -999.00,9,     -999.0,9,  -999.0,9, 20170911,     2040, -32.5007,-110.3256,        0.0,1,      0.062,1,      4.689,1,      0.133,1,     -999.0,9,     -999.0,9,     -999.0,9,     -999.0,9,     -999.0,9,     -999.0,9,     -999.0,9,     -999.0,9,     -999.0,9,     -999.0,9,     -999.0,9,     1.8007,2,     -999.0,     -999.0,9,     -999.0
320620170820,        P06,     191,          3,          5,          5,2,20170911,       2030,   -32.5014,  -110.3256,       3321,  2770.7,   1.7937,  34.6700,2,  34.6718,2, 162.3843,2, 162.1384,2,   120.3,2,   34.82,2,    0.00,2,    2.45,2,   0.034,2,   0.022,2,   0.0000,2,  2299.3,2,  2391.6,6,   7.5871,2,    25.00, -999.00,9, -999.00,9, -999.00,  -999.0,9, -999.00,9,     -999.0,9,  -999.0,9, 20170911,     2045, -32.5006,-110.3258,        0.0,1,      0.061,1,      4.689,1,      0.131,1,     -999.0,9,     -999.0,9,     -999.0,9,     -999.0,9,     -999.0,9,     -999.0,9,     -999.0,9,     -999.0,9,     -999.0,9,     -999.0,9,     -999.0,9,     1.7931,2,     -999.0,     -999.0,9,     -999.0
320620170820,        P06,     191,          3,          6,          6,2,20170911,       2030,   -32.5014,  -110.3256,       3321,  2566.5,   1.8089,  34.6676,2,  34.6688,2, 161.7578,2, 160.4912,2,   120.0,2,   34.95,2,    0.00,2,    2.43,2,   0.033,2,   0.021,2,   0.0000,2,  2298.2,2,  2391.2,2,   7.5841,2,    25.00, -999.00,9, -999.00,9, -999.00,  -999.0,9, -999.00,9,     -999.0,9,  -999.0,9, 20170911,     2050, -32.5007,-110.3257,        0.0,1,      0.062,1,      4.690,1,      0.133,1,     -999.0,9,     -999.0,9,     -999.0,9,     -999.0,9,     -999.0,9,     -999.0,9,     -999.0,9,     -999.0,9,     -999.0,9,     -999.0,9,     -999.0,9,     1.8093,2,     -999.0,     -999.0,9,     -999.0
320620170820,        P06,     191,          3,          7,          7,2,20170911,       2030,   -32.5014,  -110.3256,       3321,  2362.8,   1.8374,  34.6643,2,  34.6655,2, 160.1225,2, 159.7144,2,   118.7,2,   34.90,2,    0.00,2,    2.43,2,   0.035,2,   0.021,2,   0.0000,2,  2299.1,2,  2388.8,2,   7.5822,2,    25.00, -999.00,9, -999.00,9, -999.00,  -999.0,9, -999.00,9,     -999.0,9,  -999.0,9, 20170911,     2055, -32.5008,-110.3256,        0.0,1,      0.062,1,      4.690,1,      0.133,1,     -999.0,9,     -999.0,9,     -999.0,9,     -999.0,9,     -999.0,9,     -999.0,9,     -999.0,9,     -999.0,9,     -999.0,9,     -999.0,9,     -999.0,9,     1.8380,2,     -999.0,     -999.0,9,     -999.0
320620170820,        P06,     191,          3,          8,          8,2,20170911,       2030,   -32.5014,  -110.3256,       3321,  2159.4,   1.9207,  34.6562,2,  34.6578,2, 158.5941,2, 159.1889,2,   115.7,2,   35.02,2,    0.00,2,    2.43,2,   0.038,2,   0.024,2,   0.0000,2,  2296.7,2,  2386.3,2,   7.5768,2,    25.00, -999.00,9, -999.00,9, -999.00,  -999.0,9, -999.00,9,     -999.0,9,  -999.0,9, 20170911,     2100, -32.5007,-110.3256,        0.0,1,      0.061,1,      4.690,1,      0.131,1,     -999.0,9,     -999.0,9,     -999.0,9,     -999.0,9,     -999.0,9,     -999.0,9,     -999.0,9,     -999.0,9,     -999.0,9,     -999.0,9,     -999.0,9,     1.9117,2,     -999.0,     -999.0,9,     -999.0
320620170820,        P06,     191,          3,          9,          9,2,20170911,       2030,   -32.5014,  -110.3256,       3321,  1951.1,   2.0990,  34.6408,2,  34.6413,2, 158.1837,2, 158.5089,2,   106.5,2,   34.97,2,    0.00,2,    2.43,2,   0.051,2,   0.034,2,   0.0000,2,  2289.1,2,  2374.0,2,   7.5730,2,    25.00, -999.00,9, -999.00,9, -999.00,  -999.0,9, -999.00,9,     -999.0,9,  -999.0,9, 20170911,     2105, -32.5008,-110.3255,        0.0,1,      0.061,1,      4.691,1,      0.129,1,     -999.0,9,     -999.0,9,     -999.0,9,     -999.0,9,     -999.0,9,     -999.0,9,     -999.0,9,     -999.0,9,     -999.0,9,     -999.0,9,     -999.0,9,     2.0987,2,     -999.0,     -999.0,9,     -999.0
320620170820,        P06,     191,          3,         10,         10,2,20170911,       2030,   -32.5014,  -110.3256,       3321,  1782.9,   2.2762,  34.6170,2,  34.6219,2, 158.7614,2, 159.1649,2,    98.8,2,   34.93,2,    0.00,2,    2.42,2,   0.057,2,   0.036,2,   0.0000,2,  2280.3,2,  2367.4,2,   7.5680,2,    25.00, -999.00,9, -999.00,9, -999.00,  -999.0,9, -999.00,9,     -999.0,9,  -999.0,9, 20170911,     2110, -32.5009,-110.3254,        0.0,1,      0.061,1,      4.691,1,      0.129,1,     -999.0,9,     -999.0,9,     -999.0,9,     -999.0,9,     -999.0,9,     -999.0,9,     -999.0,9,     -999.0,9,     -999.0,9,     -999.0,9,     -999.0,9,     2.2526,2,     -999.0,     -999.0,9,     -999.0
320620170820,        P06,     191,          3,         11,         11,2,20170911,       2030,   -32.5014,  -110.3256,       3321,  1681.0,   2.4207,  34.5930,2,  34.5975,2, 160.7846,2, 161.0747,2,    90.6,2,   34.85,2,    0.00,2,    2.41,2,   0.082,2,   0.052,2,   0.0000,2,  2274.5,2,  2356.9,2,   7.5649,2,    25.00, -999.00,9, -999.00,9, -999.00,  -999.0,9, -999.00,9,     -999.0,9,  -999.0,9, 20170911,     2113, -32.5008,-110.3254,        0.0,1,      0.062,1,      4.692,1,      0.129,1,     -999.0,9,     -999.0,9,     -999.0,9,     -999.0,9,     -999.0,9,     -999.0,9,     -999.0,9,     -999.0,9,     -999.0,9,     -999.0,9,     -999.0,9,     2.4003,2,     -999.0,     -999.0,9,     -999.0
320620170820,        P06,     191,          3,         12,         12,2,20170911,       2030,   -32.5014,  -110.3256,       3321,  1580.9,   2.5807,  34.5621,2,  34.5669,2, 161.0574,2, 161.1106,2,    83.3,2,   35.01,2,    0.00,2,    2.41,2,   0.110,2,   0.068,2,   0.0000,2,  2267.6,2,  2348.4,2,   7.5601,2,    25.00, -999.00,9, -999.00,9, -999.00,  -999.0,9, -999.00,9,     -999.0,9,  -999.0,9, 20170911,     2117, -32.5010,-110.3252,        0.0,1,      0.061,1,      4.691,1,      0.129,1,     -999.0,9,     -999.0,9,     -999.0,9,     -999.0,9,     -999.0,9,     -999.0,9,     -999.0,9,     -999.0,9,     -999.0,9,     -999.0,9,     -999.0,9,     2.5537,2,     -999.0,     -999.0,9,     -999.0
320620170820,        P06,     191,          3,         13,         13,2,20170911,       2030,   -32.5014,  -110.3256,       3321,  1478.9,   2.7868,  34.5258,2,  34.5292,2, 159.4284,2, 158.7657,2,    76.8,2,   35.37,2,    0.00,2,    2.44,2,   0.126,2,   0.077,2,   0.0000,2,  2263.3,2,  2341.6,2,   7.5551,2,    25.00, -999.00,9, -999.00,9, -999.00,  -999.0,9, -999.00,9,     -999.0,9,  -999.0,9, 20170911,     2120, -32.5011,-110.3250,        0.0,1,      0.061,1,      4.691,1,      0.129,1,     -999.0,9,     -999.0,9,     -999.0,9,     -999.0,9,     -999.0,9,     -999.0,9,     -999.0,9,     -999.0,9,     -999.0,9,     -999.0,9,     -999.0,9,     2.7620,2,     -999.0,     -999.0,9,     -999.0
320620170820,        P06,     191,          3,         14,         14,2,20170911,       2030,   -32.5014,  -110.3256,       3321,  1376.7,   3.0381,  34.4882,2,  34.4921,2, 155.1131,2, 155.0892,2,    70.8,2,   35.79,2,    0.00,2,    2.46,2,   0.141,2,   0.085,2,   0.0000,2,  2259.1,6,  2331.4,2,   7.5468,2,    25.00, -999.00,9, -999.00,9, -999.00,  -999.0,9, -999.00,9,     -999.0,9,  -999.0,9, 20170911,     2123, -32.5010,-110.3252,        0.0,1,      0.060,1,      4.691,1,      0.129,1,     -999.0,9,     -999.0,9,     -999.0,9,     -999.0,9,     -999.0,9,     -999.0,9,     -999.0,9,     -999.0,9,     -999.0,9,     -999.0,9,     -999.0,9,     3.0203,2,     -999.0,     -999.0,9,     -999.0
320620170820,        P06,     191,          3,         15,         15,2,20170911,       2030,   -32.5014,  -110.3256,       3321,  1175.4,   3.6171,  34.3958,2,  34.3925,2, 164.3279,2, 164.1414,2,    51.1,2,   35.08,2,    0.00,2,    2.41,2,   0.264,2,   0.155,2,   0.0000,2,  2235.8,2,  2313.2,2,   7.5585,2,    25.00, -999.00,9, -999.00,9, -999.00,  -999.0,9, -999.00,9,     -999.0,9,  -999.0,9, 20170911,     2128, -32.5008,-110.3255,        0.0,1,      0.061,1,      4.692,1,      0.128,1,     -999.0,9,     -999.0,9,     -999.0,9,     -999.0,9,     -999.0,9,     -999.0,9,     -999.0,9,     -999.0,9,     -999.0,9,     -999.0,9,     -999.0,9,     3.6313,2,     -999.0,     -999.0,9,     -999.0
320620170820,        P06,     191,          3,         16,         16,2,20170911,       2030,   -32.5014,  -110.3256,       3321,   972.7,   4.5578,  34.2948,2,  34.2938,2, 203.4901,2, 203.4794,2,    26.0,2,   30.76,2,    0.00,2,    2.08,2,   1.220,2,   0.619,2,   0.1610,2,  2189.9,2,  2288.2,2,   7.6222,2,    25.00, -999.00,9, -999.00,9, -999.00,  -999.0,9, -999.00,9,     -999.0,9,  -999.0,9, 20170911,     2133, -32.5006,-110.3256,        0.0,1,      0.059,1,      4.691,1,      0.129,1,     -999.0,9,     -999.0,9,     -999.0,9,     -999.0,9,     -999.0,9,     -999.0,9,     -999.0,9,     -999.0,9,     -999.0,9,     -999.0,9,     -999.0,9,     4.5587,2,     -999.0,     -999.0,9,     -999.0
320620170820,        P06,     191,          3,         17,         17,2,20170911,       2030,   -32.5014,  -110.3256,       3321,   871.3,   5.1124,  34.2733,2,  34.2732,2, 221.9105,2, 220.7503,2,    17.5,2,   28.50,2,    0.00,2,    1.92,2,   1.996,6,   1.006,6,   0.3665,6,  2171.5,2,  2282.4,2,   7.6521,2,    25.00, -999.00,9, -999.00,9, -999.00,  -999.0,9, -999.00,9,     -999.0,9,  -999.0,9, 20170911,     2136, -32.5006,-110.3257,        0.0,1,      0.060,1,      4.691,1,      0.130,1,     -999.0,9,     -999.0,9,     -999.0,9,     -999.0,9,     -999.0,9,     -999.0,9,     -999.0,9,     -999.0,9,     -999.0,9,     -999.0,9,     -999.0,9,     5.0852,2,     -999.0,     -999.0,9,     -999.0
320620170820,        P06,     191,          3,         18,         18,2,20170911,       2030,   -32.5014,  -110.3256,       3321,   769.5,   5.5426,  34.2712,2,  34.2703,2, 233.3021,2, 233.7254,2,    12.0,2,   26.47,2,    0.00,2,    1.77,2,   2.774,2,   1.407,2,   0.4890,2,  2158.5,2,  2277.7,2,   7.6751,2,    25.00, -999.00,9, -999.00,9, -999.00,  -999.0,9, -999.00,9,     -999.0,9,  -999.0,9, 20170911,     2139, -32.5006,-110.3257,        0.0,1,      0.060,1,      4.691,1,      0.129,1,     -999.0,9,     -999.0,9,     -999.0,9,     -999.0,9,     -999.0,9,     -999.0,9,     -999.0,9,     -999.0,9,     -999.0,9,     -999.0,9,     -999.0,9,     5.5365,2,     -999.0,     -999.0,9,     -999.0
320620170820,        P06,     191,          3,         19,         19,2,20170911,       2030,   -32.5014,  -110.3256,       3321,   668.6,   5.9982,  34.2882,2,  34.2868,2, 243.9363,2, 244.7065,2,     9.0,2,   24.42,2,    0.00,2,    1.65,2,   3.352,2,   1.723,2,   0.9060,2,  2149.9,6,  2275.0,2,   7.6968,2,    25.00, -999.00,9, -999.00,9, -999.00,  -999.0,9, -999.00,9,     -999.0,9,  -999.0,9, 20170911,     2142, -32.5005,-110.3259,        0.0,1,      0.059,1,      4.690,1,      0.132,1,     -999.0,9,     -999.0,9,     -999.0,9,     -999.0,9,     -999.0,9,     -999.0,9,     -999.0,9,     -999.0,9,     -999.0,9,     -999.0,9,     -999.0,9,     5.9868,2,     -999.0,     -999.0,9,     -999.0
320620170820,        P06,     191,          3,         20,         20,2,20170911,       2030,   -32.5014,  -110.3256,       3321,   568.4,   6.4135,  34.3073,2,  34.3058,2, 243.7487,2, 243.8432,2,     7.6,2,   23.55,2,    0.00,2,    1.56,2,   3.531,2,   1.871,2,   0.9370,2,  2149.8,2,  2274.4,2,   7.6987,2,    25.00, -999.00,9, -999.00,9, -999.00,  -999.0,9, -999.00,9,     -999.0,9,  -999.0,9, 20170911,     2146, -32.5005,-110.3258,        0.0,1,      0.060,1,      4.690,1,      0.131,1,     -999.0,9,     -999.0,9,     -999.0,9,     -999.0,9,     -999.0,9,     -999.0,9,     -999.0,9,     -999.0,9,     -999.0,9,     -999.0,9,     -999.0,9,     6.3628,2,     -999.0,     -999.0,9,     -999.0
320620170820,        P06,     191,          3,         21,         21,2,20170911,       2030,   -32.5014,  -110.3256,       3321,   487.1,   6.8847,  34.3169,2,  34.3148,2, 234.5626,2, 234.2262,2,     6.7,2,   23.20,2,    0.00,2,    1.56,2,   3.501,2,   1.884,2,   1.1080,2,  2150.6,2,  2273.4,6,   7.6880,2,    25.00, -999.00,9, -999.00,9, -999.00,  -999.0,9, -999.00,9,     -999.0,9,  -999.0,9, 20170911,     2148, -32.5008,-110.3259,        0.0,1,      0.059,1,      4.689,1,      0.132,1,     -999.0,9,     -999.0,9,     -999.0,9,     -999.0,9,     -999.0,9,     -999.0,9,     -999.0,9,     -999.0,9,     -999.0,9,     -999.0,9,     -999.0,9,     6.8043,2,     -999.0,     -999.0,9,     -999.0
320620170820,        P06,     191,          3,         22,         22,2,20170911,       2030,   -32.5014,  -110.3256,       3321,   435.7,   7.3160,  34.3137,2,  34.3142,2, 228.2661,2,  230.004,2,     5.9,2,   22.37,2,    0.00,2,    1.50,2,   3.494,2,   1.912,2,   1.2020,2,  2149.0,2,  2272.8,2,   7.6890,2,    25.00, -999.00,9, -999.00,9, -999.00,  -999.0,9, -999.00,9,     -999.0,9,  -999.0,9, 20170911,     2151, -32.5013,-110.3256,        0.0,1,      0.058,1,      4.687,1,      0.132,1,     -999.0,9,     -999.0,9,     -999.0,9,     -999.0,9,     -999.0,9,     -999.0,9,     -999.0,9,     -999.0,9,     -999.0,9,     -999.0,9,     -999.0,9,     7.2334,2,     -999.0,     -999.0,9,     -999.0
320620170820,        P06,     191,          3,         23,         23,2,20170911,       2030,   -32.5014,  -110.3256,       3321,   368.5,   8.5108,  34.3346,2,  34.3315,2,  228.957,2, 228.1053,2,     3.5,2,   19.18,2,    0.00,2,    1.30,2,   3.392,2,   1.895,2,   1.3610,2,  2134.2,2,  2270.7,2,   7.7202,6,    25.00, -999.00,9, -999.00,9, -999.00,  -999.0,9, -999.00,9,     -999.0,9,  -999.0,9, 20170911,     2153, -32.5016,-110.3252,        0.0,1,      0.059,1,      4.686,1,      0.132,1,     -999.0,9,     -999.0,9,     -999.0,9,     -999.0,9,     -999.0,9,     -999.0,9,     -999.0,9,     -999.0,9,     -999.0,9,     -999.0,9,     -999.0,9,     8.3984,2,     -999.0,     -999.0,9,     -999.0
320620170820,        P06,     191,          3,         24,         24,2,20170911,       2030,   -32.5014,  -110.3256,       3321,   285.1,  11.2787,  34.5335,2,  34.5229,2, 218.7043,2, 219.3923,2,     1.4,2,   12.15,2,    0.00,2,    0.85,2,   2.996,2,   1.719,2,   1.4840,2,  2112.2,2,  2276.6,2,   7.7881,2,    25.00, -999.00,9, -999.00,9, -999.00,  -999.0,9, -999.00,9,     -999.0,9,  -999.0,9, 20170911,     2156, -32.5015,-110.3252,        0.0,1,      0.059,1,      4.683,1,      0.131,1,     -999.0,9,     -999.0,9,     -999.0,9,     -999.0,9,     -999.0,9,     -999.0,9,     -999.0,9,     -999.0,9,     -999.0,9,     -999.0,9,     -999.0,9,    11.2925,2,     -999.0,     -999.0,9,     -999.0
320620170820,        P06,     191,          3,         25,         25,2,20170911,       2030,   -32.5014,  -110.3256,       3321,   236.3,  11.9738,  34.4139,2,  34.4862,2, 231.9632,2,  228.215,2,     0.4,2,    8.46,2,    0.02,2,    0.64,2,   2.823,2,   1.675,2,   1.7060,2,  2093.7,2,  2275.1,2,   7.8262,2,    25.00, -999.00,9, -999.00,9, -999.00,  -999.0,9, -999.00,9,     -999.0,9,  -999.0,9, 20170911,     2159, -32.5014,-110.3253,        0.0,1,      0.066,1,      4.679,1,      0.132,1,     -999.0,9,     -999.0,9,     -999.0,9,     -999.0,9,     -999.0,9,     -999.0,9,     -999.0,9,     -999.0,9,     -999.0,9,     -999.0,9,     -999.0,9,    12.4288,2,     -999.0,     -999.0,9,     -999.0
320620170820,        P06,     191,          3,         26,         26,2,20170911,       2030,   -32.5014,  -110.3256,       3321,   176.1,  14.7627,  34.7278,2,  34.7152,2, 227.5694,2, 231.4403,2,     0.0,2,    2.26,2,    0.30,2,    0.27,2,   2.498,2,   1.521,2,   1.5620,2,  2071.2,2,  2285.1,2,   7.8931,2,    25.00, -999.00,9, -999.00,9, -999.00,  -999.0,9, -999.00,9,     -999.0,9,  -999.0,9, 20170911,     2201, -32.5013,-110.3256,        0.0,1,      0.105,1,      4.670,1,      0.142,1,     -999.0,9,     -999.0,9,     -999.0,9,     -999.0,9,     -999.0,9,     -999.0,9,     -999.0,9,     -999.0,9,     -999.0,9,     -999.0,9,     -999.0,9,    14.7122,2,     -999.0,     -999.0,9,     -999.0