BOTTLE,20240211CCHSIOCBG
EXPOCODE,SECT_ID,STNNBR,CASTNO,SAMPNO,BTLNBR,BTLNBR_FLAG_W,DATE,TIME,LATITUDE,LONGITUDE,DEPTH,CTDPRS,CTDTMP,CTDSAL,CTDSAL_FLAG_W,SALNTY,SALNTY_FLAG_W,CTDOXY,CTDOXY_FLAG_W,OXYGEN,OXYGEN_FLAG_W,SILCAT,SILCAT_FLAG_W,NITRAT,NITRAT_FLAG_W,NITRIT,NITRIT_FLAG_W,PHSPHT,PHSPHT_FLAG_W,CFC-11,CFC-11_FLAG_W,CFC-12,CFC-12_FLAG_W,SF6,SF6_FLAG_W,TCARBN,TCARBN_FLAG_W,ALKALI,ALKALI_FLAG_W,PH_TOT,PH_TOT_FLAG_W,PH_TMP,DELC13,DELC13_FLAG_W,DELC14,DELC14_FLAG_W,C14ERR,DOC,DOC_FLAG_W,TDN,TDN_FLAG_W,TON,TON_FLAG_W,D15N_NO3,D15N_NO3_FLAG_W,BTL_DATE,BTL_TIME,BTL_LAT,BTL_LON,CTDRINKO,CTDRINKO_FLAG_W,CTDFLUOR,CTDFLUOR_FLAG_W,CTDXMISS,CTDXMISS_FLAG_W,CTDBACKSCATTER,CTDBACKSCATTER_FLAG_W,D18O_NO3,D18O_NO3_FLAG_W,DOP,DOP_FLAG_W,CELLCOUNT,CELLCOUNT_FLAG_W,TDP,TDP_FLAG_W,POP,POP_FLAG_W,DATP,DATP_FLAG_W,PATP,PATP_FLAG_W,HPLC,HPLC_FLAG_W,POC,POC_FLAG_W,BEAMAP,BEAMAP_FLAG_W,DOC_NASA,DOC_NASA_FLAG_W,REFTMP,REFTMP_FLAG_W,DOC_NASA_ERROR,TDN_NASA,TDN_NASA_FLAG_W,TDN_NASA_ERROR
,,,,,,,,,,,METERS,DBAR,ITS-90,PSS-78,,PSS-78,,UMOL/KG,,UMOL/KG,,UMOL/KG,,UMOL/KG,,UMOL/KG,,UMOL/KG,,PMOL/KG,,PMOL/KG,,FMOL/KG,,UMOL/KG,,UMOL/KG,,,,DEG C,/MILLE,,/MILLE,,/MILLE,UMOL/KG,,UMOL/KG,,UMOL/KG,,/MILLE,,,,,,VOLTS,,VOLTS,,VOLTS,,VOLTS,,/MILLE,,UMOL/KG,,/LITER,,UMOL/KG,,UMOL/L,,PMOL/L,,PMOL/L,,,,UG/L,,/METER,,UMOL/L,,ITS-90,,UMOL/L,UMOL/L,,UMOL/L
320620170820,        P06,     168,          1,          1,          1,2,20170904,       1804,   -32.5003,  -127.9686,       4094,  4152.4,   1.6073,  34.6875,2,  34.6873,2,  174.417,2,  174.975,2,   122.4,2,   33.98,2,    0.00,2,    2.36,2,   0.030,2,   0.017,2,   0.0000,2,  2292.7,6,  2391.1,2,   7.5971,2,    25.00, -999.00,9, -999.00,9, -999.00,    37.9,2, -999.00,9,     -999.0,1,  -999.0,1, 20170904,     1804, -32.5007,-127.9688,        0.0,1,      0.060,1,      4.692,1,      0.124,1,     -999.0,1,     -999.0,9,     -999.0,9,     -999.0,9,     -999.0,9,     -999.0,9,     -999.0,9,     -999.0,9,     -999.0,9,     -999.0,9,     -999.0,9,     1.6079,2,     -999.0,     -999.0,9,     -999.0
320620170820,        P06,     168,          1,          2,          2,2,20170904,       1804,   -32.5003,  -127.9686,       4094,  3861.2,   1.5890,  34.6867,2,  34.6857,2,  174.417,2, 174.5545,2,   122.9,2,   34.05,2,    0.00,2,    2.36,2,   0.043,2,   0.031,2,   0.0000,2,  2293.2,2,  2391.8,2,   7.5970,2,    25.00, -999.00,9, -999.00,9, -999.00,  -999.0,9, -999.00,9,     -999.0,9,  -999.0,1, 20170904,     1810, -32.5006,-127.9688,        0.0,1,      0.060,1,      4.693,1,      0.124,1,     -999.0,1,     -999.0,9,     -999.0,9,     -999.0,9,     -999.0,9,     -999.0,9,     -999.0,9,     -999.0,9,     -999.0,9,     -999.0,9,     -999.0,9,     1.5898,2,     -999.0,     -999.0,9,     -999.0
320620170820,        P06,     168,          1,          3,          3,2,20170904,       1804,   -32.5003,  -127.9686,       4094,  3657.8,   1.5886,  34.6851,2,  34.6844,2, 173.7791,2,  173.168,2,   123.0,2,   34.08,2,    0.00,2,    2.36,2,   0.033,2,   0.021,2,   0.0000,2,  2293.9,2,  2392.7,2,   7.5947,2,    25.00, -999.00,9, -999.00,9, -999.00,    42.1,3, -999.00,9,     -999.0,1,  -999.0,1, 20170904,     1814, -32.5007,-127.9688,        0.0,1,      0.061,1,      4.694,1,      0.123,1,     -999.0,1,     -999.0,9,     -999.0,9,     -999.0,9,     -999.0,9,     -999.0,9,     -999.0,9,     -999.0,9,     -999.0,9,     -999.0,9,     -999.0,9,     1.5872,2,     -999.0,     -999.0,9,     -999.0
320620170820,        P06,     168,          1,          4,          4,2,20170904,       1804,   -32.5003,  -127.9686,       4094,  3347.2,   1.6154,  34.6812,2,  34.6802,2, 170.2606,2, 169.9568,2,   123.2,2,   34.31,2,    0.00,2,    2.38,2,   0.036,2,   0.025,2,   0.0000,2,  2297.4,2,  2390.9,2,   7.5927,2,    25.00, -999.00,9, -999.00,9, -999.00,    37.6,2, -999.00,9,     -999.0,1,  -999.0,1, 20170904,     1820, -32.5007,-127.9688,        0.0,1,      0.062,1,      4.694,1,      0.124,1,     -999.0,1,     -999.0,9,     -999.0,9,     -999.0,9,     -999.0,9,     -999.0,9,     -999.0,9,     -999.0,9,     -999.0,9,     -999.0,9,     -999.0,9,     1.6158,2,     -999.0,     -999.0,9,     -999.0
320620170820,        P06,     168,          1,          5,          5,2,20170904,       1804,   -32.5003,  -127.9686,       4094,  3040.2,   1.6557,  34.6764,2,  34.6761,2, 166.7946,2, 166.9053,2,   123.2,2,   34.50,2,    0.00,2,    2.39,2,   0.036,2,   0.023,2,   0.0000,2,  2298.6,2,  2394.8,2,   7.5889,2,    25.00, -999.00,9, -999.00,9, -999.00,    38.7,2, -999.00,9,     -999.0,1,  -999.0,1, 20170904,     1826, -32.5008,-127.9689,        0.0,1,      0.061,1,      4.695,1,      0.126,1,     -999.0,1,     -999.0,9,     -999.0,9,     -999.0,9,     -999.0,9,     -999.0,9,     -999.0,9,     -999.0,9,     -999.0,9,     -999.0,9,     -999.0,9,     1.6551,2,     -999.0,     -999.0,9,     -999.0
320620170820,        P06,     168,          1,          6,          6,2,20170904,       1804,   -32.5003,  -127.9686,       4094,  2784.9,   1.7177,  34.6704,2,  34.6702,2, 163.5887,2, 163.7801,2,   122.8,2,   34.72,2,    0.00,2,    2.39,2,   0.038,2,   0.025,2,   0.0000,2,  2300.1,2,  2395.4,2,   7.5855,2,    25.00, -999.00,9, -999.00,9, -999.00,  -999.0,9, -999.00,9,     -999.0,9,  -999.0,1, 20170904,     1831, -32.5008,-127.9688,        0.0,1,      0.061,1,      4.695,1,      0.127,1,     -999.0,1,     -999.0,9,     -999.0,9,     -999.0,9,     -999.0,9,     -999.0,9,     -999.0,9,     -999.0,9,     -999.0,9,     -999.0,9,     -999.0,9,     1.7106,2,     -999.0,     -999.0,9,     -999.0
320620170820,        P06,     168,          1,          7,          7,2,20170904,       1804,   -32.5003,  -127.9686,       4094,  2530.7,   1.8081,  34.6621,2,  34.6604,2, 159.8406,2, 159.9749,2,   121.0,2,   34.95,2,    0.00,2,    2.42,2,   0.037,2,   0.024,2,   0.0000,2,  2301.8,2,  2391.3,2,   7.5801,2,    25.00, -999.00,9, -999.00,9, -999.00,    37.2,2, -999.00,9,     -999.0,1,  -999.0,1, 20170904,     1837, -32.5007,-127.9688,        0.0,1,      0.060,1,      4.695,1,      0.130,1,     -999.0,1,     -999.0,9,     -999.0,9,     -999.0,9,     -999.0,9,     -999.0,9,     -999.0,9,     -999.0,9,     -999.0,9,     -999.0,9,     -999.0,9,     1.8047,2,     -999.0,     -999.0,9,     -999.0
320620170820,        P06,     168,          1,          8,          8,2,20170904,       1804,   -32.5003,  -127.9686,       4094,  2276.9,   1.9246,  34.6513,2,  34.6500,2, 156.9875,2, 156.6708,2,   118.0,2,   35.16,2,    0.00,2,    2.43,2,   0.038,2,   0.025,2,   0.0000,2,  2300.0,2,  2389.8,2,   7.5757,2,    25.00, -999.00,9, -999.00,9, -999.00,    40.7,3, -999.00,9,     -999.0,1,  -999.0,1, 20170904,     1842, -32.5006,-127.9688,        0.0,1,      0.061,1,      4.695,1,      0.129,1,     -999.0,1,     -999.0,9,     -999.0,9,     -999.0,9,     -999.0,9,     -999.0,9,     -999.0,9,     -999.0,9,     -999.0,9,     -999.0,9,     -999.0,9,     1.9237,2,     -999.0,     -999.0,9,     -999.0
320620170820,        P06,     168,          1,          9,          9,2,20170904,       1804,   -32.5003,  -127.9686,       4094,  2023.4,   2.0725,  34.6362,2,  34.6366,2, 155.4621,2, 155.5967,2,   112.3,2,   35.17,2,    0.00,2,    2.44,2,   0.038,2,   0.026,2,   0.0000,2,  2296.1,6,  2384.5,6,   7.5730,2,    25.00, -999.00,9, -999.00,9, -999.00,    35.0,2, -999.00,9,     -999.0,1,  -999.0,1, 20170904,     1847, -32.5006,-127.9688,        0.0,1,      0.061,1,      4.695,1,      0.130,1,     -999.0,1,     -999.0,9,     -999.0,9,     -999.0,9,     -999.0,9,     -999.0,9,     -999.0,9,     -999.0,9,     -999.0,9,     -999.0,9,     -999.0,9,     2.0661,2,     -999.0,     -999.0,9,     -999.0
320620170820,        P06,     168,          1,         10,         10,2,20170904,       1804,   -32.5003,  -127.9686,       4094,  1821.4,   2.2367,  34.6163,2,  34.6128,2, 156.7542,2, 156.8587,2,   101.9,2,   35.01,2,    0.00,2,    2.43,2,   0.046,2,   0.031,2,   0.0000,2,  2287.2,2,  2372.3,2,   7.5710,2,    25.00, -999.00,9, -999.00,9, -999.00,  -999.0,9, -999.00,9,     -999.0,9,  -999.0,1, 20170904,     1852, -32.5006,-127.9688,        0.0,1,      0.061,1,      4.695,1,      0.127,1,     -999.0,1,     -999.0,9,     -999.0,9,     -999.0,9,     -999.0,9,     -999.0,9,     -999.0,9,     -999.0,9,     -999.0,9,     -999.0,9,     -999.0,9,     2.2656,2,     -999.0,     -999.0,9,     -999.0
320620170820,        P06,     168,          1,         11,         11,2,20170904,       1804,   -32.5003,  -127.9686,       4094,  1719.0,   2.3789,  34.5951,2,  34.5910,2, 159.1286,2, 158.8972,2,    94.9,2,   34.91,2,    0.00,2,    2.41,2,   0.059,2,   0.040,2,   0.0000,2,  2276.8,2,  2364.3,2,   7.5686,6,    25.00, -999.00,9, -999.00,9, -999.00,    39.6,2, -999.00,9,     -999.0,1,  -999.0,1, 20170904,     1854, -32.5006,-127.9688,        0.0,1,      0.060,1,      4.695,1,      0.129,1,     -999.0,1,     -999.0,9,     -999.0,9,     -999.0,9,     -999.0,9,     -999.0,9,     -999.0,9,     -999.0,9,     -999.0,9,     -999.0,9,     -999.0,9,     2.3949,2,     -999.0,     -999.0,9,     -999.0
320620170820,        P06,     168,          1,         12,         12,2,20170904,       1804,   -32.5003,  -127.9686,       4094,  1616.8,   2.5214,  34.5688,2,  34.5694,2, 160.9543,2, 161.0425,2,    88.2,2,   34.81,2,    0.00,2,    2.39,2,   0.084,2,   0.055,2,   0.0000,2,  2272.3,2,  2354.2,2,   7.5665,2,    25.00, -999.00,9, -999.00,9, -999.00,  -999.0,9, -999.00,9,     -999.0,9,  -999.0,1, 20170904,     1857, -32.5006,-127.9688,        0.0,1,      0.061,1,      4.695,1,      0.129,1,     -999.0,1,     -999.0,9,     -999.0,9,     -999.0,9,     -999.0,9,     -999.0,9,     -999.0,9,     -999.0,9,     -999.0,9,     -999.0,9,     -999.0,9,     2.5083,2,     -999.0,     -999.0,9,     -999.0
320620170820,        P06,     168,          1,         13,         13,2,20170904,       1804,   -32.5003,  -127.9686,       4094,  1516.1,   2.6987,  34.5328,2,-999.0000,1, 164.7482,2, 164.3005,2,    79.5,2,   34.67,2,    0.00,2,    2.38,2,   0.122,2,   0.075,2,   0.0000,2,  2262.8,2,  2348.5,2,   7.5666,2,    25.00, -999.00,9, -999.00,9, -999.00,    38.9,2, -999.00,9,     -999.0,1,  -999.0,1, 20170904,     1900, -32.5006,-127.9688,        0.0,1,      0.061,1,      4.695,1,      0.128,1,     -999.0,1,     -999.0,9,     -999.0,9,     -999.0,9,     -999.0,9,     -999.0,9,     -999.0,9,     -999.0,9,     -999.0,9,     -999.0,9,     -999.0,9,     2.6701,2,     -999.0,     -999.0,9,     -999.0
320620170820,        P06,     168,          1,         14,         14,2,20170904,       1804,   -32.5003,  -127.9686,       4094,  1412.9,   2.9036,  34.4930,2,  34.4981,2,  167.411,2, 167.2899,2,    71.4,2,   34.56,2,    0.00,2,    2.36,2,   0.172,2,   0.105,2,   0.0000,2,  2252.2,2,  2337.8,2,   7.5673,2,    25.00, -999.00,9, -999.00,9, -999.00,  -999.0,9, -999.00,9,     -999.0,9,  -999.0,1, 20170904,     1902, -32.5006,-127.9688,        0.0,1,      0.061,1,      4.696,1,      0.129,1,     -999.0,1,     -999.0,9,     -999.0,9,     -999.0,9,     -999.0,9,     -999.0,9,     -999.0,9,     -999.0,9,     -999.0,9,     -999.0,9,     -999.0,9,     2.8694,2,     -999.0,     -999.0,9,     -999.0
320620170820,        P06,     168,          1,         15,         15,2,20170904,       1804,   -32.5003,  -127.9686,       4094,  1213.4,   3.5211,  34.3991,2,  34.3929,2,  177.927,2,  178.686,2,    50.3,2,   33.72,2,    0.00,2,    2.32,2,   0.442,2,   0.240,2,   0.0340,2,  2226.4,2,  2312.5,2,   7.5806,2,    25.00, -999.00,9, -999.00,9, -999.00,    38.8,2, -999.00,9,     -999.0,1,  -999.0,1, 20170904,     1907, -32.5005,-127.9687,        0.0,1,      0.060,1,      4.696,1,      0.128,1,     -999.0,1,     -999.0,9,     -999.0,9,     -999.0,9,     -999.0,9,     -999.0,9,     -999.0,9,     -999.0,9,     -999.0,9,     -999.0,9,     -999.0,9,     3.5208,2,     -999.0,     -999.0,9,     -999.0
320620170820,        P06,     168,          1,         16,         16,2,20170904,       1804,   -32.5003,  -127.9686,       4094,  1007.6,   4.5163,  34.3163,2,  34.3117,2, 198.9903,2, 199.7228,2,    29.3,2,   30.98,2,    0.00,2,    2.10,2,   1.107,2,   0.562,2,   0.0930,2,  2194.0,2,  2293.6,2,   7.6188,2,    25.00, -999.00,9, -999.00,9, -999.00,    39.4,2, -999.00,9,     -999.0,1,  -999.0,1, 20170904,     1911, -32.5004,-127.9686,        0.0,1,      0.059,1,      4.695,1,      0.129,1,     -999.0,1,     -999.0,9,     -999.0,9,     -999.0,9,     -999.0,9,     -999.0,9,     -999.0,9,     -999.0,9,     -999.0,9,     -999.0,9,     -999.0,9,     4.4863,2,     -999.0,     -999.0,9,     -999.0
320620170820,        P06,     168,          1,         17,         17,2,20170904,       1804,   -32.5003,  -127.9686,       4094,   906.6,   5.1867,  34.2962,2,  34.2927,2, 215.2867,2, 215.1426,2,    20.2,2,   28.72,2,    0.00,2,    1.95,2,   1.736,2,   0.879,2,   0.3090,2,  2176.7,2,  2287.5,2,   7.6503,2,    25.00, -999.00,9, -999.00,9, -999.00,  -999.0,9, -999.00,9,     -999.0,9,  -999.0,1, 20170904,     1914, -32.5003,-127.9686,        0.0,1,      0.059,1,      4.695,1,      0.132,1,     -999.0,1,     -999.0,9,     -999.0,9,     -999.0,9,     -999.0,9,     -999.0,9,     -999.0,9,     -999.0,9,     -999.0,9,     -999.0,9,     -999.0,9,     5.0783,2,     -999.0,     -999.0,9,     -999.0
320620170820,        P06,     168,          1,         18,         18,2,20170904,       1804,   -32.5003,  -127.9686,       4094,   808.2,   5.6390,  34.2943,2,  34.2895,2, 229.1057,2, 229.1806,2,    13.4,2,   26.40,2,    0.00,2,    1.78,2,   2.455,2,   1.241,2,   0.4840,2,  2160.7,2,  2279.6,2,   7.6757,2,    25.00, -999.00,9, -999.00,9, -999.00,    41.4,2, -999.00,9,     -999.0,1,  -999.0,1, 20170904,     1916, -32.5002,-127.9685,        0.0,1,      0.060,1,      4.695,1,      0.130,1,     -999.0,1,     -999.0,9,     -999.0,9,     -999.0,9,     -999.0,9,     -999.0,9,     -999.0,9,     -999.0,9,     -999.0,9,     -999.0,9,     -999.0,9,     5.6529,2,     -999.0,     -999.0,9,     -999.0
320620170820,        P06,     168,          1,         19,         19,2,20170904,       1804,   -32.5003,  -127.9686,       4094,   706.0,   6.1142,  34.3082,2,  34.3038,2,  238.566,2, 238.8992,2,     9.6,2,   24.49,2,    0.00,2,    1.64,2,   3.086,2,   1.566,2,   0.7040,2,  2149.7,2,  2276.0,2,   7.6954,2,    25.00, -999.00,9, -999.00,9, -999.00,    43.6,2, -999.00,9,     -999.0,1,  -999.0,1, 20170904,     1919, -32.5002,-127.9685,        0.0,1,      0.059,1,      4.694,1,      0.131,1,     -999.0,1,     -999.0,9,     -999.0,9,     -999.0,9,     -999.0,9,     -999.0,9,     -999.0,9,     -999.0,9,     -999.0,9,     -999.0,9,     -999.0,9,     6.1229,2,     -999.0,     -999.0,9,     -999.0
320620170820,        P06,     168,          1,         20,         20,2,20170904,       1804,   -32.5003,  -127.9686,       4094,   604.4,   6.6086,  34.3351,2,  34.3329,2, 244.1268,2, 244.1748,2,     7.1,2,   22.66,2,    0.00,2,    1.51,2,   3.482,2,   1.829,2,   0.9460,2,  2146.2,2,  -999.0,9,   7.7069,2,    25.00, -999.00,9, -999.00,9, -999.00,    44.4,2, -999.00,9,     -999.0,1,  -999.0,1, 20170904,     1922, -32.5002,-127.9685,        0.0,1,      0.059,1,      4.693,1,      0.133,1,     -999.0,1,     -999.0,9,     -999.0,9,     -999.0,9,     -999.0,9,     -999.0,9,     -999.0,9,     -999.0,9,     -999.0,9,     -999.0,9,     -999.0,9,     6.6605,2,     -999.0,     -999.0,9,     -999.0
320620170820,        P06,     168,          1,         21,         21,2,20170904,       1804,   -32.5003,  -127.9686,       4094,   503.0,   7.2297,  34.3716,2,  34.3719,3, 248.1072,2, 246.0263,2,     5.2,2,   20.64,2,    0.00,2,    1.39,2,   3.649,2,   1.960,2,   1.2640,2,  2141.7,6,  2278.7,2,   7.7185,2,    25.00, -999.00,9, -999.00,9, -999.00,    42.6,2, -999.00,9,     -999.0,1,  -999.0,1, 20170904,     1925, -32.5003,-127.9686,        0.0,1,      0.060,1,      4.692,1,      0.132,1,     -999.0,1,     -999.0,9,     -999.0,9,     -999.0,9,     -999.0,9,     -999.0,9,     -999.0,9,     -999.0,9,     -999.0,9,     -999.0,9,     -999.0,9,     7.3407,2,     -999.0,     -999.0,9,     -999.0
320620170820,        P06,     168,          1,         22,         22,2,20170904,       1804,   -32.5003,  -127.9686,       4094,   452.3,   7.6310,  34.3879,2,  34.3853,2,  239.209,2, 238.2062,2,     4.4,2,   19.81,2,    0.00,2,    1.36,2,   3.485,2,   1.895,2,   1.3270,2,  2140.4,2,  2278.0,2,   7.7206,2,    25.00, -999.00,9, -999.00,9, -999.00,  -999.0,9, -999.00,9,     -999.0,9,  -999.0,1, 20170904,     1927, -32.5003,-127.9686,        0.0,1,      0.059,1,      4.691,1,      0.135,1,     -999.0,1,     -999.0,9,     -999.0,9,     -999.0,9,     -999.0,9,     -999.0,9,     -999.0,9,     -999.0,9,     -999.0,9,     -999.0,9,     -999.0,9,     7.7950,2,     -999.0,     -999.0,9,     -999.0
320620170820,        P06,     168,          1,         23,         23,2,20170904,       1804,   -32.5003,  -127.9686,       4094,   400.4,   8.4770,  34.4181,2,  34.4228,2, 228.6501,2, 226.2529,2,     3.7,2,   18.36,2,    0.00,2,    1.27,2,   3.398,2,   1.816,2,   1.1330,2,  2137.1,2,  2276.0,2,   7.7292,2,    25.00, -999.00,9, -999.00,9, -999.00,    49.2,2, -999.00,9,     -999.0,1,  -999.0,1, 20170904,     1929, -32.5003,-127.9686,        0.0,1,      0.059,1,      4.690,1,      0.134,1,     -999.0,1,     -999.0,9,     -999.0,9,     -999.0,9,     -999.0,9,     -999.0,9,     -999.0,9,     -999.0,9,     -999.0,9,     -999.0,9,     -999.0,9,     8.6328,2,     -999.0,     -999.0,9,     -999.0
320620170820,        P06,     168,          1,         24,         24,2,20170904,       1804,   -32.5003,  -127.9686,       4094,   302.8,  10.7329,  34.5616,2,  34.5620,2,  217.985,2, 219.0859,2,     1.6,2,   12.66,2,    0.00,2,    0.91,2,   3.093,2,   1.722,2,   1.4470,2,  2117.3,2,  2280.1,2,   7.7808,2,    25.00, -999.00,9, -999.00,9, -999.00,    46.1,2, -999.00,9,     -999.0,1,  -999.0,1, 20170904,     1931, -32.5003,-127.9686,        0.0,1,      0.061,1,      4.686,1,      0.133,1,     -999.0,1,     -999.0,1,     -999.0,9,     -999.0,9,     -999.0,9,     -999.0,9,     -999.0,9,     -999.0,9,     -999.0,9,     -999.0,9,     -999.0,9,    10.8701,2,     -999.0,     -999.0,9,     -999.0
320620170820,        P06,     168,          1,         25,         25,2,20170904,       1804,   -32.5003,  -127.9686,       4094,   252.5,  12.4150,  34.6725,2,  34.6720,2, 221.4705,2, 225.7564,2,     0.4,2,    7.09,2,    0.00,2,    0.58,2,   2.792,2,   1.622,2,   1.6210,2,  2097.7,2,  2284.5,2,   7.8365,2,    25.00, -999.00,9, -999.00,9, -999.00,    55.7,3,   10.10,2,     -999.0,1,  -999.0,1, 20170904,     1933, -32.5003,-127.9686,        0.0,1,      0.063,1,      4.684,1,      0.133,1,     -999.0,1,     -999.0,1,     -999.0,9,       0.84,2,     -999.0,9,     -999.0,9,     -999.0,9,     -999.0,9,     -999.0,9,     -999.0,9,     -999.0,9,    12.6326,2,     -999.0,     -999.0,9,     -999.0
320620170820,        P06,     168,          1,         26,         26,2,20170904,       1804,   -32.5003,  -127.9686,       4094,   201.2,  13.7958,  34.7997,2,  34.8094,2, 226.5695,2, 231.4243,2,     0.0,2,    2.95,2,    0.14,2,    0.33,2,   2.588,2,   1.541,2,   1.6700,2,  2080.2,2,  2290.8,2,   7.8812,2,    25.00, -999.00,9, -999.00,9, -999.00,    51.0,2,    6.30,2,     -999.0,1,  -999.0,1, 20170904,     1936, -32.5003,-127.9686,        0.0,1,      0.075,1,      4.679,1,      0.139,1,     -999.0,1,     -999.0,1,     -999.0,9,     -999.0,9,     -999.0,9,     -999.0,9,     -999.0,9,     -999.0,9,     -999.0,9,     -999.0,9,     -999.0,9,    14.2065,2,     -999.0,     -999.0,9,     -999.0