BOTTLE,20240211CCHSIOCBG
EXPOCODE,SECT_ID,STNNBR,CASTNO,SAMPNO,BTLNBR,BTLNBR_FLAG_W,DATE,TIME,LATITUDE,LONGITUDE,DEPTH,CTDPRS,CTDTMP,CTDSAL,CTDSAL_FLAG_W,SALNTY,SALNTY_FLAG_W,CTDOXY,CTDOXY_FLAG_W,OXYGEN,OXYGEN_FLAG_W,SILCAT,SILCAT_FLAG_W,NITRAT,NITRAT_FLAG_W,NITRIT,NITRIT_FLAG_W,PHSPHT,PHSPHT_FLAG_W,CFC-11,CFC-11_FLAG_W,CFC-12,CFC-12_FLAG_W,SF6,SF6_FLAG_W,TCARBN,TCARBN_FLAG_W,ALKALI,ALKALI_FLAG_W,PH_TOT,PH_TOT_FLAG_W,PH_TMP,DELC13,DELC13_FLAG_W,DELC14,DELC14_FLAG_W,C14ERR,DOC,DOC_FLAG_W,TDN,TDN_FLAG_W,TON,TON_FLAG_W,D15N_NO3,D15N_NO3_FLAG_W,BTL_DATE,BTL_TIME,BTL_LAT,BTL_LON,CTDRINKO,CTDRINKO_FLAG_W,CTDFLUOR,CTDFLUOR_FLAG_W,CTDXMISS,CTDXMISS_FLAG_W,CTDBACKSCATTER,CTDBACKSCATTER_FLAG_W,D18O_NO3,D18O_NO3_FLAG_W,DOP,DOP_FLAG_W,CELLCOUNT,CELLCOUNT_FLAG_W,TDP,TDP_FLAG_W,POP,POP_FLAG_W,DATP,DATP_FLAG_W,PATP,PATP_FLAG_W,HPLC,HPLC_FLAG_W,POC,POC_FLAG_W,BEAMAP,BEAMAP_FLAG_W,DOC_NASA,DOC_NASA_FLAG_W,REFTMP,REFTMP_FLAG_W,DOC_NASA_ERROR,TDN_NASA,TDN_NASA_FLAG_W,TDN_NASA_ERROR
,,,,,,,,,,,METERS,DBAR,ITS-90,PSS-78,,PSS-78,,UMOL/KG,,UMOL/KG,,UMOL/KG,,UMOL/KG,,UMOL/KG,,UMOL/KG,,PMOL/KG,,PMOL/KG,,FMOL/KG,,UMOL/KG,,UMOL/KG,,,,DEG C,/MILLE,,/MILLE,,/MILLE,UMOL/KG,,UMOL/KG,,UMOL/KG,,/MILLE,,,,,,VOLTS,,VOLTS,,VOLTS,,VOLTS,,/MILLE,,UMOL/KG,,/LITER,,UMOL/KG,,UMOL/L,,PMOL/L,,PMOL/L,,,,UG/L,,/METER,,UMOL/L,,ITS-90,,UMOL/L,UMOL/L,,UMOL/L
320620170820,        P06,     150,          1,          1,          1,2,20170828,       0229,   -32.5000,  -143.9300,       4472,  4537.5,   1.2775,  34.7052,2,  34.7050,3, 193.2624,2, 194.1017,2,   119.3,2,   32.62,2,    0.00,2,    2.25,2,-999.000,5,-999.000,5,-999.0000,5,  2273.4,6,  2379.9,2,   7.6070,2,    25.00, -999.00,9, -999.00,9, -999.00,    41.4,2, -999.00,9,     -999.0,1,  -999.0,1, 20170828,      229, -32.4999,-143.9308,        0.0,1,      0.061,1,      4.697,1,      0.123,1,     -999.0,1,     -999.0,9,     -999.0,9,     -999.0,9,     -999.0,9,     -999.0,9,     -999.0,9,     -999.0,9,     -999.0,9,     -999.0,9,     -999.0,9,     1.2780,2,     -999.0,     -999.0,9,     -999.0
320620170820,        P06,     150,          1,          2,          2,2,20170828,       0229,   -32.5000,  -143.9300,       4472,  4169.3,   1.3378,  34.7012,2,  34.7013,2, 190.2063,2, 189.8503,2,   120.4,2,   33.05,2,    0.00,2,    2.30,2,-999.000,5,-999.000,5,-999.0000,5,  2278.7,2,  2380.4,2,   7.6036,2,    25.00, -999.00,9, -999.00,9, -999.00,  -999.0,9, -999.00,9,     -999.0,9,  -999.0,1, 20170828,      238, -32.5000,-143.9307,        0.0,1,      0.061,1,      4.697,1,      0.125,1,     -999.0,1,     -999.0,9,     -999.0,9,     -999.0,9,     -999.0,9,     -999.0,9,     -999.0,9,     -999.0,9,     -999.0,9,     -999.0,9,     -999.0,9,     1.3384,2,     -999.0,     -999.0,9,     -999.0
320620170820,        P06,     150,          1,          3,          3,2,20170828,       0229,   -32.5000,  -143.9300,       4472,  3965.9,   1.3931,  34.6973,2,  34.6969,3, 185.0539,2, 184.5457,2,   121.6,2,   33.37,2,    0.00,2,    2.31,2,   0.037,2,   0.025,2,   0.0000,2,  2283.7,2,  2388.8,2,   7.6008,2,    25.00, -999.00,9, -999.00,9, -999.00,    39.2,2, -999.00,9,     -999.0,1,  -999.0,1, 20170828,      243, -32.4998,-143.9307,        0.0,1,      0.060,1,      4.697,1,      0.125,1,     -999.0,1,     -999.0,9,     -999.0,9,     -999.0,9,     -999.0,9,     -999.0,9,     -999.0,9,     -999.0,9,     -999.0,9,     -999.0,9,     -999.0,9,     1.3886,2,     -999.0,     -999.0,9,     -999.0
320620170820,        P06,     150,          1,          4,          4,2,20170828,       0229,   -32.5000,  -143.9300,       4472,  3656.8,   1.4892,  34.6902,2,  34.6903,3,  177.076,2, 176.8359,2,   123.7,2,   34.01,2,    0.00,2,    2.37,2,   0.038,2,   0.029,2,   0.0000,2,  2290.4,2,  2398.2,4,   7.5942,2,    25.00, -999.00,9, -999.00,9, -999.00,  -999.0,9, -999.00,9,     -999.0,9,  -999.0,1, 20170828,      250, -32.4999,-143.9305,        0.0,1,      0.061,1,      4.697,1,      0.123,1,     -999.0,1,     -999.0,9,     -999.0,9,     -999.0,9,     -999.0,9,     -999.0,9,     -999.0,9,     -999.0,9,     -999.0,9,     -999.0,9,     -999.0,9,     1.4807,2,     -999.0,     -999.0,9,     -999.0
320620170820,        P06,     150,          1,          5,          5,2,20170828,       0229,   -32.5000,  -143.9300,       4472,  3349.6,   1.5802,  34.6829,2,  34.6834,2, 168.4123,2,  168.436,2,   125.3,2,   34.57,2,    0.00,2,    2.42,2,   0.039,2,   0.028,2,   0.0000,2,  2297.3,2,  2399.5,4,   7.5873,2,    25.00, -999.00,9, -999.00,9, -999.00,    37.3,2, -999.00,9,     -999.0,1,  -999.0,1, 20170828,      256, -32.4998,-143.9305,        0.0,1,      0.061,1,      4.698,1,      0.125,1,     -999.0,1,     -999.0,9,     -999.0,9,     -999.0,9,     -999.0,9,     -999.0,9,     -999.0,9,     -999.0,9,     -999.0,9,     -999.0,9,     -999.0,9,     1.5840,2,     -999.0,     -999.0,9,     -999.0
320620170820,        P06,     150,          1,          6,          6,2,20170828,       0229,   -32.5000,  -143.9300,       4472,  3042.8,   1.6738,  34.6750,2,  34.6737,2, 161.9387,2, 161.4205,2,   126.6,2,   35.12,2,    0.00,2,    2.45,2,   0.038,2,   0.030,2,   0.0000,2,  2303.7,2,  2404.6,4,   7.5814,6,    25.00, -999.00,9, -999.00,9, -999.00,    36.5,2, -999.00,9,     -999.0,1,  -999.0,1, 20170828,      303, -32.5000,-143.9304,        0.0,1,      0.061,1,      4.697,1,      0.127,1,     -999.0,1,     -999.0,9,     -999.0,9,     -999.0,9,     -999.0,9,     -999.0,9,     -999.0,9,     -999.0,9,     -999.0,9,     -999.0,9,     -999.0,9,     1.6784,2,     -999.0,     -999.0,9,     -999.0
320620170820,        P06,     150,          1,          7,          7,2,20170828,       0229,   -32.5000,  -143.9300,       4472,  2788.6,   1.7477,  34.6686,2,  34.6673,2, 157.1995,2, 157.0177,2,   126.4,2,   35.42,2,    0.00,2,    2.46,2,   0.043,2,   0.033,2,   0.0000,2,  2307.5,2,  2406.9,4,   7.5773,2,    25.00, -999.00,9, -999.00,9, -999.00,    37.8,2, -999.00,9,     -999.0,1,  -999.0,1, 20170828,      309, -32.5000,-143.9304,        0.0,1,      0.061,1,      4.697,1,      0.127,1,     -999.0,1,     -999.0,9,     -999.0,9,     -999.0,9,     -999.0,9,     -999.0,9,     -999.0,9,     -999.0,9,     -999.0,9,     -999.0,9,     -999.0,9,     1.7552,2,     -999.0,     -999.0,9,     -999.0
320620170820,        P06,     150,          1,          8,          8,2,20170828,       0229,   -32.5000,  -143.9300,       4472,  2534.0,   1.8537,  34.6601,2,  34.6596,2, 153.7608,2, 153.9299,2,   124.1,2,   35.54,2,    0.00,2,    2.50,2,   0.041,2,   0.032,2,   0.0000,2,  2306.7,2,  2403.5,2,   7.5741,2,    25.00, -999.00,9, -999.00,9, -999.00,    39.6,2, -999.00,9,     -999.0,1,  -999.0,1, 20170828,      314, -32.5002,-143.9304,        0.0,1,      0.061,1,      4.698,1,      0.129,1,     -999.0,1,     -999.0,9,     -999.0,9,     -999.0,9,     -999.0,9,     -999.0,9,     -999.0,9,     -999.0,9,     -999.0,9,     -999.0,9,     -999.0,9,     1.8474,2,     -999.0,     -999.0,9,     -999.0
320620170820,        P06,     150,          1,          9,          9,2,20170828,       0229,   -32.5000,  -143.9300,       4472,  2277.4,   1.9663,  34.6503,2,  34.6506,2, 152.4135,2,  152.752,2,   119.2,2,   35.52,2,    0.00,2,    2.49,2,   0.041,2,   0.032,2,   0.0000,2,  2304.2,6,  2396.3,6,   7.5722,2,    25.00, -999.00,9, -999.00,9, -999.00,  -999.0,9, -999.00,9,     -999.0,9,  -999.0,1, 20170828,      320, -32.4998,-143.9303,        0.0,1,      0.061,1,      4.697,1,      0.127,1,     -999.0,1,     -999.0,9,     -999.0,9,     -999.0,9,     -999.0,9,     -999.0,9,     -999.0,9,     -999.0,9,     -999.0,9,     -999.0,9,     -999.0,9,     1.9607,2,     -999.0,     -999.0,9,     -999.0
320620170820,        P06,     150,          1,         10,         10,2,20170828,       0229,   -32.5000,  -143.9300,       4472,  2024.6,   2.1467,  34.6336,2,  34.6356,2, 152.8541,2, 154.1276,2,   110.6,2,   35.32,2,    0.00,2,    2.48,2,   0.044,2,   0.033,2,   0.0000,2,  2295.5,2,  2388.4,2,   7.5699,2,    25.00, -999.00,9, -999.00,9, -999.00,    36.3,2, -999.00,9,     -999.0,1,  -999.0,1, 20170828,      325, -32.5000,-143.9303,        0.0,1,      0.062,1,      4.698,1,      0.129,1,     -999.0,1,     -999.0,9,     -999.0,9,     -999.0,9,     -999.0,9,     -999.0,9,     -999.0,9,     -999.0,9,     -999.0,9,     -999.0,9,     -999.0,9,     2.1481,2,     -999.0,     -999.0,9,     -999.0
320620170820,        P06,     150,          1,         11,         11,2,20170828,       0229,   -32.5000,  -143.9300,       4472,  1819.3,   2.3306,  34.6109,2,  34.6121,2, 155.4236,2, 156.0018,2,   100.9,2,   35.10,2,    0.00,2,    2.47,2,   0.047,2,   0.035,2,   0.0000,2,  2285.8,2,  2377.0,2,   7.5698,2,    25.00, -999.00,9, -999.00,9, -999.00,  -999.0,9, -999.00,9,     -999.0,9,  -999.0,1, 20170828,      330, -32.4998,-143.9302,        0.0,1,      0.061,1,      4.698,1,      0.131,1,     -999.0,1,     -999.0,9,     -999.0,9,     -999.0,9,     -999.0,9,     -999.0,9,     -999.0,9,     -999.0,9,     -999.0,9,     -999.0,9,     -999.0,9,     2.3382,2,     -999.0,     -999.0,9,     -999.0
320620170820,        P06,     150,          1,         12,         12,2,20170828,       0229,   -32.5000,  -143.9300,       4472,  1619.5,   2.5594,  34.5666,2,  34.5598,2, 161.3289,2, 161.7411,2,    85.6,2,   34.86,2,    0.00,2,    2.42,2,   0.074,2,   0.050,2,   0.0000,2,  2269.2,2,  2359.7,2,   7.5685,2,    25.00, -999.00,9, -999.00,9, -999.00,    37.3,2, -999.00,9,     -999.0,1,  -999.0,1, 20170828,      335, -32.4997,-143.9302,        0.0,1,      0.061,1,      4.698,1,      0.130,1,     -999.0,1,     -999.0,9,     -999.0,9,     -999.0,9,     -999.0,9,     -999.0,9,     -999.0,9,     -999.0,9,     -999.0,9,     -999.0,9,     -999.0,9,     2.5938,2,     -999.0,     -999.0,9,     -999.0
320620170820,        P06,     150,          1,         13,         13,2,20170828,       0229,   -32.5000,  -143.9300,       4472,  1515.7,   2.7394,  34.5273,2,  34.5246,2, 165.3178,2, 165.5883,2,    77.0,2,   34.68,2,    0.00,2,    2.42,2,   0.104,2,   0.069,2,   0.0000,2,  2258.9,2,  2349.1,2,   7.5677,2,    25.00, -999.00,9, -999.00,9, -999.00,  -999.0,9, -999.00,9,     -999.0,9,  -999.0,1, 20170828,      338, -32.5000,-143.9301,        0.0,1,      0.061,1,      4.698,1,      0.130,1,     -999.0,1,     -999.0,9,     -999.0,9,     -999.0,9,     -999.0,9,     -999.0,9,     -999.0,9,     -999.0,9,     -999.0,9,     -999.0,9,     -999.0,9,     2.7477,2,     -999.0,     -999.0,9,     -999.0
320620170820,        P06,     150,          1,         14,         14,2,20170828,       0229,   -32.5000,  -143.9300,       4472,  1414.9,   2.8624,  34.4989,2,  34.4773,2, 172.2645,2, 171.5405,2,    66.6,2,   34.39,2,    0.00,2,    2.39,2,   0.208,2,   0.124,2,   0.0000,2,  2246.7,2,  2337.0,2,   7.5699,2,    25.00, -999.00,9, -999.00,9, -999.00,    37.8,2, -999.00,9,     -999.0,1,  -999.0,1, 20170828,      341, -32.5000,-143.9301,        0.0,1,      0.062,1,      4.698,1,      0.131,1,     -999.0,1,     -999.0,9,     -999.0,9,     -999.0,9,     -999.0,9,     -999.0,9,     -999.0,9,     -999.0,9,     -999.0,9,     -999.0,9,     -999.0,9,     2.9578,2,     -999.0,     -999.0,9,     -999.0
320620170820,        P06,     150,          1,         15,         15,2,20170828,       0229,   -32.5000,  -143.9300,       4472,  1312.3,   3.1874,  34.4375,2,  34.4263,2, 177.7165,2, 177.4321,2,    56.8,2,   34.01,2,    0.00,2,    2.36,2,   0.320,2,   0.194,2,   0.0000,2,  2234.0,2,  2325.3,2,   7.5761,2,    25.00, -999.00,9, -999.00,9, -999.00,    40.4,2, -999.00,9,     -999.0,1,  -999.0,1, 20170828,      344, -32.4996,-143.9301,        0.0,1,      0.060,1,      4.698,1,      0.128,1,     -999.0,1,     -999.0,9,     -999.0,9,     -999.0,9,     -999.0,9,     -999.0,9,     -999.0,9,     -999.0,9,     -999.0,9,     -999.0,9,     -999.0,9,     3.2387,2,     -999.0,     -999.0,9,     -999.0
320620170820,        P06,     150,          1,         16,         16,2,20170828,       0229,   -32.5000,  -143.9300,       4472,  1213.2,   3.5181,  34.3885,2,  34.3859,2, 184.0576,2, 184.4085,2,    48.6,2,   33.32,2,    0.00,2,    2.32,2,   0.604,2,   0.317,2,   0.1390,2,  2222.9,2,  2316.1,2,   7.5846,2,    25.00, -999.00,9, -999.00,9, -999.00,  -999.0,9, -999.00,9,     -999.0,9,  -999.0,1, 20170828,      347, -32.4999,-143.9300,        0.0,1,      0.060,1,      4.698,1,      0.130,1,     -999.0,1,     -999.0,9,     -999.0,9,     -999.0,9,     -999.0,9,     -999.0,9,     -999.0,9,     -999.0,9,     -999.0,9,     -999.0,9,     -999.0,9,     3.5296,2,     -999.0,     -999.0,9,     -999.0
320620170820,        P06,     150,          1,         17,         17,2,20170828,       0229,   -32.5000,  -143.9300,       4472,  1114.1,   3.9347,  34.3516,2,  34.3407,2, 195.7572,2, 194.7733,2,    37.1,2,   31.96,2,    0.00,2,    2.20,2,   0.972,2,   0.490,2,   0.1740,2,  2204.5,2,  2306.1,2,   7.6053,2,    25.00, -999.00,9, -999.00,9, -999.00,    41.0,2, -999.00,9,     -999.0,1,  -999.0,1, 20170828,      350, -32.5001,-143.9300,        0.0,1,      0.060,1,      4.698,1,      0.130,1,     -999.0,1,     -999.0,9,     -999.0,9,     -999.0,9,     -999.0,9,     -999.0,9,     -999.0,9,     -999.0,9,     -999.0,9,     -999.0,9,     -999.0,9,     4.0757,2,     -999.0,     -999.0,9,     -999.0
320620170820,        P06,     150,          1,         18,         18,2,20170828,       0229,   -32.5000,  -143.9300,       4472,  1008.9,   4.5331,  34.3211,2,  34.3133,2, 206.8978,2, 205.3886,2,    27.1,2,   30.29,2,    0.00,2,    2.08,2,   1.369,2,   0.683,2,   0.3330,2,  2189.0,2,  2295.5,2,   7.6293,2,    25.00, -999.00,9, -999.00,9, -999.00,  -999.0,9, -999.00,9,     -999.0,9,  -999.0,1, 20170828,      353, -32.5000,-143.9300,        0.0,1,      0.060,1,      4.697,1,      0.133,1,     -999.0,1,     -999.0,9,     -999.0,9,     -999.0,9,     -999.0,9,     -999.0,9,     -999.0,9,     -999.0,9,     -999.0,9,     -999.0,9,     -999.0,9,     4.6803,2,     -999.0,     -999.0,9,     -999.0
320620170820,        P06,     150,          1,         19,         19,2,20170828,       0229,   -32.5000,  -143.9300,       4472,   907.9,   5.2545,  34.3019,2,  34.3009,2,  219.403,2, 217.1246,2,    19.4,2,   28.28,2,    0.00,2,    1.92,2,   1.990,2,   0.992,2,   0.3930,2,  2175.2,2,  2289.4,2,   7.6540,6,    25.00, -999.00,9, -999.00,9, -999.00,    42.7,2, -999.00,9,     -999.0,1,  -999.0,1, 20170828,      355, -32.4998,-143.9300,        0.0,1,      0.059,1,      4.697,1,      0.131,1,     -999.0,1,     -999.0,9,     -999.0,9,     -999.0,9,     -999.0,9,     -999.0,9,     -999.0,9,     -999.0,9,     -999.0,9,     -999.0,9,     -999.0,9,     5.2381,2,     -999.0,     -999.0,9,     -999.0
320620170820,        P06,     150,          1,         20,         20,2,20170828,       0229,   -32.5000,  -143.9300,       4472,   807.2,   5.7652,  34.3005,2,  34.2995,2, 229.5785,2, 229.5415,2,    13.5,2,   26.21,2,    0.00,2,    1.79,2,   2.559,2,   1.301,2,   0.4950,2,  2159.5,2,  2285.6,2,   7.6775,2,    25.00, -999.00,9, -999.00,9, -999.00,  -999.0,9, -999.00,9,     -999.0,9,  -999.0,1, 20170828,      359, -32.4998,-143.9301,        0.0,1,      0.059,1,      4.697,1,      0.131,1,     -999.0,1,     -999.0,9,     -999.0,9,     -999.0,9,     -999.0,9,     -999.0,9,     -999.0,9,     -999.0,9,     -999.0,9,     -999.0,9,     -999.0,9,     5.7432,2,     -999.0,     -999.0,9,     -999.0
320620170820,        P06,     150,          1,         21,         21,2,20170828,       0229,   -32.5000,  -143.9300,       4472,   703.6,   6.2695,  34.3183,2,  34.3217,2, 238.7896,2, 239.7542,2,     9.3,2,   24.06,2,    0.00,2,    1.63,2,   3.059,2,   1.626,2,   0.8450,2,  2150.0,2,  2284.6,6,   7.6984,2,    25.00, -999.00,9, -999.00,9, -999.00,    40.9,2, -999.00,9,     -999.0,1,  -999.0,1, 20170828,      401, -32.4998,-143.9300,        0.0,1,      0.059,1,      4.696,1,      0.132,1,     -999.0,1,     -999.0,9,     -999.0,9,     -999.0,9,     -999.0,9,     -999.0,9,     -999.0,9,     -999.0,9,     -999.0,9,     -999.0,9,     -999.0,9,     6.2866,2,     -999.0,     -999.0,9,     -999.0
320620170820,        P06,     150,          1,         22,         22,2,20170828,       0229,   -32.5000,  -143.9300,       4472,   604.3,   6.7310,  34.3463,2,  34.3529,2, 242.2286,2, 244.5198,2,     6.9,2,   22.29,2,    0.00,2,    1.53,2,   3.472,6,   1.871,6,   1.1805,6,  2144.5,2,  2284.2,2,   7.7113,2,    25.00, -999.00,9, -999.00,9, -999.00,    40.9,2, -999.00,9,     -999.0,1,  -999.0,1, 20170828,      404, -32.5000,-143.9300,        0.0,1,      0.059,1,      4.696,1,      0.132,1,     -999.0,1,     -999.0,9,     -999.0,9,     -999.0,9,     -999.0,9,     -999.0,9,     -999.0,9,     -999.0,9,     -999.0,9,     -999.0,9,     -999.0,9,     6.8300,2,     -999.0,     -999.0,9,     -999.0
320620170820,        P06,     150,          1,         23,         23,2,20170828,       0229,   -32.5000,  -143.9300,       4472,   502.8,   7.2351,  34.3802,2,  34.3829,2, 242.2872,3,    245.1,2,     5.5,2,   20.78,2,    0.00,2,    1.44,2,   3.585,2,   1.934,2,   1.2470,2,  2141.4,2,  2284.1,2,   7.7188,2,    25.00, -999.00,9, -999.00,9, -999.00,    44.5,2, -999.00,9,     -999.0,1,  -999.0,1, 20170828,      407, -32.4998,-143.9300,        0.0,1,      0.058,1,      4.695,1,      0.133,1,     -999.0,1,     -999.0,9,     -999.0,9,     -999.0,9,     -999.0,9,     -999.0,9,     -999.0,9,     -999.0,9,     -999.0,9,     -999.0,9,     -999.0,9,     7.3163,2,     -999.0,     -999.0,9,     -999.0
320620170820,        P06,     150,          1,         24,         24,2,20170828,       0229,   -32.5000,  -143.9300,       4472,   454.8,   7.6821,  34.4034,2,  34.4041,2, 237.0201,3, 241.4074,2,     4.8,2,   19.81,2,    0.00,2,    1.38,2,   3.599,2,   1.881,2,   1.4810,2,  2139.5,2,  2282.2,2,   7.7234,2,    25.00, -999.00,9, -999.00,9, -999.00,    45.6,2, -999.00,9,     -999.0,1,  -999.0,1, 20170828,      409, -32.4998,-143.9300,        0.0,1,      0.059,1,      4.695,1,      0.133,1,     -999.0,1,     -999.0,9,     -999.0,9,     -999.0,9,     -999.0,9,     -999.0,9,     -999.0,9,     -999.0,9,     -999.0,9,     -999.0,9,     -999.0,9,     7.7439,2,     -999.0,     -999.0,9,     -999.0
320620170820,        P06,     150,          1,         25,         25,2,20170828,       0229,   -32.5000,  -143.9300,       4472,   402.8,   8.4179,  34.4403,2,  34.4277,2, 231.4861,2, 233.1043,2,     4.1,2,   18.84,2,    0.00,2,    1.33,2,   3.390,2,   1.857,2,   1.2450,2,  2138.0,2,  2281.8,2,   7.7270,2,    25.00, -999.00,9, -999.00,9, -999.00,    44.0,2, -999.00,9,     -999.0,1,  -999.0,1, 20170828,      412, -32.4996,-143.9300,        0.0,1,      0.059,1,      4.694,1,      0.133,1,     -999.0,1,     -999.0,9,     -999.0,9,     -999.0,9,     -999.0,9,     -999.0,9,     -999.0,9,     -999.0,9,     -999.0,9,     -999.0,9,     -999.0,9,     8.2462,2,     -999.0,     -999.0,9,     -999.0
320620170820,        P06,     150,          1,         26,         26,2,20170828,       0229,   -32.5000,  -143.9300,       4472,   353.9,   9.2583,  34.4951,2,  34.4828,2, 224.3781,2, 224.2538,2,     3.3,2,   17.12,2,    0.00,2,    1.21,2,   3.276,2,   1.795,2,   1.3610,2,  2133.2,2,  2282.4,2,   7.7410,2,    25.00, -999.00,9, -999.00,9, -999.00,  -999.0,9, -999.00,9,     -999.0,9,  -999.0,1, 20170828,      414, -32.4997,-143.9300,        0.0,1,      0.058,1,      4.693,1,      0.133,1,     -999.0,1,     -999.0,9,     -999.0,9,     -999.0,9,     -999.0,9,     -999.0,9,     -999.0,9,     -999.0,9,     -999.0,9,     -999.0,9,     -999.0,9,     9.2214,2,     -999.0,     -999.0,9,     -999.0