BOTTLE,20240211CCHSIOCBG
EXPOCODE,SECT_ID,STNNBR,CASTNO,SAMPNO,BTLNBR,BTLNBR_FLAG_W,DATE,TIME,LATITUDE,LONGITUDE,DEPTH,CTDPRS,CTDTMP,CTDSAL,CTDSAL_FLAG_W,SALNTY,SALNTY_FLAG_W,CTDOXY,CTDOXY_FLAG_W,OXYGEN,OXYGEN_FLAG_W,SILCAT,SILCAT_FLAG_W,NITRAT,NITRAT_FLAG_W,NITRIT,NITRIT_FLAG_W,PHSPHT,PHSPHT_FLAG_W,CFC-11,CFC-11_FLAG_W,CFC-12,CFC-12_FLAG_W,SF6,SF6_FLAG_W,TCARBN,TCARBN_FLAG_W,ALKALI,ALKALI_FLAG_W,PH_TOT,PH_TOT_FLAG_W,PH_TMP,DELC13,DELC13_FLAG_W,DELC14,DELC14_FLAG_W,C14ERR,DOC,DOC_FLAG_W,TDN,TDN_FLAG_W,TON,TON_FLAG_W,D15N_NO3,D15N_NO3_FLAG_W,BTL_DATE,BTL_TIME,BTL_LAT,BTL_LON,CTDRINKO,CTDRINKO_FLAG_W,CTDFLUOR,CTDFLUOR_FLAG_W,CTDXMISS,CTDXMISS_FLAG_W,CTDBACKSCATTER,CTDBACKSCATTER_FLAG_W,D18O_NO3,D18O_NO3_FLAG_W,DOP,DOP_FLAG_W,CELLCOUNT,CELLCOUNT_FLAG_W,TDP,TDP_FLAG_W,POP,POP_FLAG_W,DATP,DATP_FLAG_W,PATP,PATP_FLAG_W,HPLC,HPLC_FLAG_W,POC,POC_FLAG_W,BEAMAP,BEAMAP_FLAG_W,DOC_NASA,DOC_NASA_FLAG_W,REFTMP,REFTMP_FLAG_W,DOC_NASA_ERROR,TDN_NASA,TDN_NASA_FLAG_W,TDN_NASA_ERROR
,,,,,,,,,,,METERS,DBAR,ITS-90,PSS-78,,PSS-78,,UMOL/KG,,UMOL/KG,,UMOL/KG,,UMOL/KG,,UMOL/KG,,UMOL/KG,,PMOL/KG,,PMOL/KG,,FMOL/KG,,UMOL/KG,,UMOL/KG,,,,DEG C,/MILLE,,/MILLE,,/MILLE,UMOL/KG,,UMOL/KG,,UMOL/KG,,/MILLE,,,,,,VOLTS,,VOLTS,,VOLTS,,VOLTS,,/MILLE,,UMOL/KG,,/LITER,,UMOL/KG,,UMOL/L,,PMOL/L,,PMOL/L,,,,UG/L,,/METER,,UMOL/L,,ITS-90,,UMOL/L,UMOL/L,,UMOL/L
320620170820,        P06,     236,          1,          1,          1,2,20170926,       1235,   -32.4995,   -73.1964,       3813,  3866.2,   1.7164,  34.6917,2,  34.6916,2,  158.292,3,  160.023,2,   124.0,2,   34.95,2,    0.00,2,    2.42,2,   0.014,2,   0.051,2,   0.0000,4,  2306.3,6,  2402.6,2,   7.5858,2,    25.00, -999.00,9, -999.00,9, -999.00,    36.1,2, -999.00,9,     -999.0,1,  -999.0,9, 20170926,     1235, -32.4998, -73.1951,        0.0,1,      0.056,1,      4.676,1,      0.071,1,     -999.0,9,     -999.0,9,     -999.0,9,     -999.0,9,     -999.0,9,     -999.0,9,     -999.0,9,     -999.0,9,     -999.0,9,     -999.0,9,     -999.0,9,     1.7173,2,     -999.0,     -999.0,9,     -999.0
320620170820,        P06,     236,          1,          2,          2,2,20170926,       1235,   -32.4995,   -73.1964,       3813,  3662.2,   1.7285,  34.6902,2,  34.6899,2, 158.0415,2, 158.3451,2,   124.4,2,   35.08,2,    0.00,2,    2.43,2,   0.023,2,   0.104,2,   0.0000,4,  -999.0,9,  -999.0,9,-999.0000,9,  -999.00, -999.00,9, -999.00,9, -999.00,  -999.0,9, -999.00,9,     -999.0,9,  -999.0,9, 20170926,     1239, -32.4998, -73.1951,        0.0,1,      0.056,1,      4.676,1,      0.071,1,     -999.0,9,     -999.0,9,     -999.0,9,     -999.0,9,     -999.0,9,     -999.0,9,     -999.0,9,     -999.0,9,     -999.0,9,     -999.0,9,     -999.0,9,     1.7287,2,     -999.0,     -999.0,9,     -999.0
320620170820,        P06,     236,          1,          3,          3,2,20170926,       1235,   -32.4995,   -73.1964,       3813,  3467.8,   1.7509,  34.6879,2,  34.6877,2, 157.5177,3, 155.6757,2,   125.1,2,   35.27,2,    0.00,2,    2.45,2,   0.011,2,   0.050,2,   0.0000,4,  2308.6,2,  2403.7,2,   7.5780,2,    25.00, -999.00,9, -999.00,9, -999.00,    34.6,2, -999.00,9,     -999.0,1,  -999.0,9, 20170926,     1243, -32.4997, -73.1957,        0.0,1,      0.057,1,      4.678,1,      0.070,1,     -999.0,9,     -999.0,9,     -999.0,9,     -999.0,9,     -999.0,9,     -999.0,9,     -999.0,9,     -999.0,9,     -999.0,9,     -999.0,9,     -999.0,9,     1.7500,2,     -999.0,     -999.0,9,     -999.0
320620170820,        P06,     236,          1,          4,          4,2,20170926,       1235,   -32.4995,   -73.1964,       3813,  3210.8,   1.7845,  34.6839,2,  34.6836,2, 153.4111,3,  152.229,2,   126.7,2,   35.56,2,    0.00,2,    2.49,2,   0.013,2,   0.075,2,   0.0000,4,  -999.0,9,  -999.0,9,-999.0000,9,  -999.00, -999.00,9, -999.00,9, -999.00,  -999.0,9, -999.00,9,     -999.0,9,  -999.0,9, 20170926,     1248, -32.4996, -73.1959,        0.0,1,      0.056,1,      4.678,1,      0.069,1,     -999.0,9,     -999.0,9,     -999.0,9,     -999.0,9,     -999.0,9,     -999.0,9,     -999.0,9,     -999.0,9,     -999.0,9,     -999.0,9,     -999.0,9,     1.7851,2,     -999.0,     -999.0,9,     -999.0
320620170820,        P06,     236,          1,          5,          5,2,20170926,       1235,   -32.4995,   -73.1964,       3813,  2955.3,   1.8121,  34.6796,2,  34.6796,2, 149.7602,2, 150.2103,2,   125.6,2,   35.64,2,    0.00,2,    2.50,2,   0.013,2,   0.068,2,   0.0000,4,  2310.0,2,  2403.1,2,   7.5721,2,    25.00, -999.00,9, -999.00,9, -999.00,    36.1,2, -999.00,9,     -999.0,1,  -999.0,9, 20170926,     1254, -32.4996, -73.1960,        0.0,1,      0.057,1,      4.678,1,      0.070,1,     -999.0,9,     -999.0,9,     -999.0,9,     -999.0,9,     -999.0,9,     -999.0,9,     -999.0,9,     -999.0,9,     -999.0,9,     -999.0,9,     -999.0,9,     1.8112,2,     -999.0,     -999.0,9,     -999.0
320620170820,        P06,     236,          1,          6,          6,2,20170926,       1235,   -32.4995,   -73.1964,       3813,  2702.4,   1.8625,  34.6735,2,  34.6730,2, 148.0763,2, 148.5972,2,   123.8,2,   35.82,2,    0.00,2,    2.53,2,   0.013,2,   0.072,2,   0.0000,4,  -999.0,9,  -999.0,9,-999.0000,9,  -999.00, -999.00,9, -999.00,9, -999.00,    35.8,2, -999.00,9,     -999.0,1,  -999.0,9, 20170926,     1259, -32.4995, -73.1964,        0.0,1,      0.056,1,      4.678,1,      0.070,1,     -999.0,9,     -999.0,9,     -999.0,9,     -999.0,9,     -999.0,9,     -999.0,9,     -999.0,9,     -999.0,9,     -999.0,9,     -999.0,9,     -999.0,9,     1.8643,2,     -999.0,     -999.0,9,     -999.0
320620170820,        P06,     236,          1,          7,          7,2,20170926,       1235,   -32.4995,   -73.1964,       3813,  2445.5,   1.9380,  34.6649,2,  34.6649,2,  144.836,2, 145.1507,2,   121.9,2,   36.11,2,    0.00,2,    2.54,2,   0.011,2,   0.081,2,   0.0000,4,  2311.1,2,  2396.4,2,   7.5598,2,    25.00, -999.00,9, -999.00,9, -999.00,    35.9,2, -999.00,9,     -999.0,1,  -999.0,9, 20170926,     1304, -32.4996, -73.1962,        0.0,1,      0.055,1,      4.677,1,      0.070,1,     -999.0,9,     -999.0,9,     -999.0,9,     -999.0,9,     -999.0,9,     -999.0,9,     -999.0,9,     -999.0,9,     -999.0,9,     -999.0,9,     -999.0,9,     1.9401,2,     -999.0,     -999.0,9,     -999.0
320620170820,        P06,     236,          1,          8,          8,2,20170926,       1235,   -32.4995,   -73.1964,       3813,  2191.3,   2.0808,  34.6511,2,  34.6508,2, 137.6026,2, 137.6007,2,   119.4,2,   36.69,2,    0.00,2,    2.60,2,   0.015,2,   0.108,2,   0.0000,4,  -999.0,9,  -999.0,9,-999.0000,9,  -999.00, -999.00,9, -999.00,9, -999.00,  -999.0,9, -999.00,9,     -999.0,9,  -999.0,9, 20170926,     1309, -32.4996, -73.1964,        0.0,1,      0.056,1,      4.678,1,      0.070,1,     -999.0,9,     -999.0,9,     -999.0,9,     -999.0,9,     -999.0,9,     -999.0,9,     -999.0,9,     -999.0,9,     -999.0,9,     -999.0,9,     -999.0,9,     2.0829,2,     -999.0,     -999.0,9,     -999.0
320620170820,        P06,     236,          1,          9,          9,2,20170926,       1235,   -32.4995,   -73.1964,       3813,  1957.2,   2.2496,  34.6351,2,  34.6356,2, 131.5295,2, 131.7539,2,   115.4,2,   37.16,2,    0.00,2,    2.62,2,   0.014,2,   0.105,2,   0.0000,4,  2310.9,2,  2388.2,6,   7.5321,2,    25.00, -999.00,9, -999.00,9, -999.00,    36.2,2, -999.00,9,     -999.0,1,  -999.0,9, 20170926,     1314, -32.4995, -73.1967,        0.0,1,      0.056,1,      4.677,1,      0.071,1,     -999.0,9,     -999.0,9,     -999.0,9,     -999.0,9,     -999.0,9,     -999.0,9,     -999.0,9,     -999.0,9,     -999.0,9,     -999.0,9,     -999.0,9,     2.2362,2,     -999.0,     -999.0,9,     -999.0
320620170820,        P06,     236,          1,         10,         10,2,20170926,       1235,   -32.4995,   -73.1964,       3813,  1784.2,   2.4616,  34.6148,2,  34.6144,2, 124.6505,2, 124.3549,2,   109.5,2,   37.77,2,    0.00,2,    2.67,2,   0.022,2,   0.150,2,   0.0000,4,  -999.0,9,  -999.0,9,-999.0000,9,  -999.00, -999.00,9, -999.00,9, -999.00,  -999.0,9, -999.00,9,     -999.0,9,  -999.0,9, 20170926,     1318, -32.4995, -73.1968,        0.0,1,      0.057,1,      4.676,1,      0.070,1,     -999.0,9,     -999.0,9,     -999.0,9,     -999.0,9,     -999.0,9,     -999.0,9,     -999.0,9,     -999.0,9,     -999.0,9,     -999.0,9,     -999.0,9,     2.4592,2,     -999.0,     -999.0,9,     -999.0
320620170820,        P06,     236,          1,         11,         11,2,20170926,       1235,   -32.4995,   -73.1964,       3813,  1682.5,   2.6012,  34.6026,2,  34.6020,2,   120.68,2, 120.3381,2,   106.0,2,   38.15,2,    0.00,2,    2.70,2,-999.000,9,-999.000,9,-999.0000,9,  2314.8,2,  2377.8,2,   7.5103,6,    25.00, -999.00,9, -999.00,9, -999.00,    35.9,2, -999.00,9,     -999.0,1,  -999.0,9, 20170926,     1321, -32.4995, -73.1967,        0.0,1,      0.056,1,      4.677,1,      0.070,1,     -999.0,9,     -999.0,9,     -999.0,9,     -999.0,9,     -999.0,9,     -999.0,9,     -999.0,9,     -999.0,9,     -999.0,9,     -999.0,9,     -999.0,9,     2.5955,2,     -999.0,     -999.0,9,     -999.0
320620170820,        P06,     236,          1,         12,         12,2,20170926,       1235,   -32.4995,   -73.1964,       3813,  1582.0,   2.7310,  34.5895,2,  34.5887,2, 117.1595,2, 116.8091,2,   102.0,2,   38.44,2,    0.00,2,    2.72,2,   0.013,2,   0.102,2,   0.0000,4,  -999.0,9,  -999.0,9,-999.0000,9,  -999.00, -999.00,9, -999.00,9, -999.00,  -999.0,9, -999.00,9,     -999.0,9,  -999.0,9, 20170926,     1324, -32.4995, -73.1967,        0.0,1,      0.057,1,      4.676,1,      0.069,1,     -999.0,9,     -999.0,9,     -999.0,9,     -999.0,9,     -999.0,9,     -999.0,9,     -999.0,9,     -999.0,9,     -999.0,9,     -999.0,9,     -999.0,9,     2.7302,2,     -999.0,     -999.0,9,     -999.0
320620170820,        P06,     236,          1,         13,         13,2,20170926,       1235,   -32.4995,   -73.1964,       3813,  1478.2,   2.8557,  34.5770,2,  34.5757,2, 114.1688,2, 114.0166,2,    98.0,2,   38.72,2,    0.00,2,    2.74,2,   0.017,2,   0.121,2,   0.0000,4,  2306.0,2,  2367.5,2,   7.4961,2,    25.00, -999.00,9, -999.00,9, -999.00,    37.2,2, -999.00,9,     -999.0,1,  -999.0,9, 20170926,     1326, -32.4995, -73.1970,        0.0,1,      0.057,1,      4.677,1,      0.070,1,     -999.0,9,     -999.0,9,     -999.0,9,     -999.0,9,     -999.0,9,     -999.0,9,     -999.0,9,     -999.0,9,     -999.0,9,     -999.0,9,     -999.0,9,     2.8706,2,     -999.0,     -999.0,9,     -999.0
320620170820,        P06,     236,          1,         14,         14,2,20170926,       1235,   -32.4995,   -73.1964,       3813,  1379.7,   3.0052,  34.5623,2,  34.5580,2, 110.8305,2, 110.8296,2,    93.0,2,   39.09,2,    0.00,2,    2.76,2,   0.020,2,   0.139,2,   0.0000,4,  -999.0,9,  -999.0,9,-999.0000,9,  -999.00, -999.00,9, -999.00,9, -999.00,  -999.0,9, -999.00,9,     -999.0,9,  -999.0,9, 20170926,     1329, -32.4995, -73.1967,        0.0,1,      0.056,1,      4.676,1,      0.070,1,     -999.0,9,     -999.0,9,     -999.0,9,     -999.0,9,     -999.0,9,     -999.0,9,     -999.0,9,     -999.0,9,     -999.0,9,     -999.0,9,     -999.0,9,     3.0433,2,     -999.0,     -999.0,9,     -999.0
320620170820,        P06,     236,          1,         15,         15,2,20170926,       1235,   -32.4995,   -73.1964,       3813,  1277.2,   3.2112,  34.5410,2,  34.5386,2,  108.277,2, 108.3572,2,    87.3,2,   39.31,2,    0.00,2,    2.77,2,   0.021,2,   0.141,2,   0.0000,4,  2297.5,2,  2355.9,2,   7.4831,2,    25.00, -999.00,9, -999.00,9, -999.00,    38.2,2, -999.00,9,     -999.0,1,  -999.0,9, 20170926,     1332, -32.4995, -73.1963,        0.0,1,      0.057,1,      4.676,1,      0.071,1,     -999.0,9,     -999.0,9,     -999.0,9,     -999.0,9,     -999.0,9,     -999.0,9,     -999.0,9,     -999.0,9,     -999.0,9,     -999.0,9,     -999.0,9,     3.2205,2,     -999.0,     -999.0,9,     -999.0
320620170820,        P06,     236,          1,         16,         16,2,20170926,       1235,   -32.4995,   -73.1964,       3813,  1175.8,   3.3716,  34.5238,2,  34.5217,2, 107.0725,2, 106.4961,2,    82.4,2,   39.46,2,    0.00,2,    2.78,2,   0.040,2,   0.245,2,   0.0000,4,  2293.3,2,  2349.6,2,   7.4762,2,    25.00, -999.00,9, -999.00,9, -999.00,    37.7,2, -999.00,9,     -999.0,1,  -999.0,9, 20170926,     1334, -32.4995, -73.1958,        0.0,1,      0.057,1,      4.676,1,      0.071,1,     -999.0,9,     -999.0,9,     -999.0,9,     -999.0,9,     -999.0,9,     -999.0,9,     -999.0,9,     -999.0,9,     -999.0,9,     -999.0,9,     -999.0,9,     3.3802,2,     -999.0,     -999.0,9,     -999.0
320620170820,        P06,     236,          1,         17,         17,2,20170926,       1235,   -32.4995,   -73.1964,       3813,  1072.8,   3.5952,  34.4948,2,  34.4885,2, 107.8259,2, 108.1318,2,    73.2,2,   39.46,2,    0.00,2,    2.77,2,   0.046,2,   0.143,2,   0.0000,4,  -999.0,9,  -999.0,9,-999.0000,9,  -999.00, -999.00,9, -999.00,9, -999.00,  -999.0,9, -999.00,9,     -999.0,9,  -999.0,9, 20170926,     1337, -32.4996, -73.1958,        0.0,1,      0.057,1,      4.677,1,      0.070,1,     -999.0,9,     -999.0,9,     -999.0,9,     -999.0,9,     -999.0,9,     -999.0,9,     -999.0,9,     -999.0,9,     -999.0,9,     -999.0,9,     -999.0,9,     3.6273,2,     -999.0,     -999.0,9,     -999.0
320620170820,        P06,     236,          1,         18,         18,2,20170926,       1235,   -32.4995,   -73.1964,       3813,   974.0,   3.8016,  34.4639,2,  34.4473,2, 111.9042,2, 112.8567,2,    64.3,2,   39.17,2,    0.00,2,    2.74,2,   0.101,2,   0.166,2,   0.0000,4,  2275.7,2,  2328.1,2,   7.4789,2,    25.00, -999.00,9, -999.00,9, -999.00,    39.7,2, -999.00,9,     -999.0,1,  -999.0,9, 20170926,     1340, -32.4995, -73.1960,        0.0,1,      0.057,1,      4.676,1,      0.070,1,     -999.0,9,     -999.0,9,     -999.0,9,     -999.0,9,     -999.0,9,     -999.0,9,     -999.0,9,     -999.0,9,     -999.0,9,     -999.0,9,     -999.0,9,     3.8502,2,     -999.0,     -999.0,9,     -999.0
320620170820,        P06,     236,          1,         19,         19,2,20170926,       1235,   -32.4995,   -73.1964,       3813,   871.5,   4.0998,  34.4169,2,  34.4125,2, 124.2912,2, 125.7581,2,    53.0,2,   38.05,2,    0.00,2,    2.67,2,   0.273,2,   0.241,2,   0.0000,4,  -999.0,9,  -999.0,9,-999.0000,9,  -999.00, -999.00,9, -999.00,9, -999.00,  -999.0,9, -999.00,9,     -999.0,9,  -999.0,9, 20170926,     1343, -32.4995, -73.1962,        0.0,1,      0.057,1,      4.675,1,      0.071,1,     -999.0,9,     -999.0,9,     -999.0,9,     -999.0,9,     -999.0,9,     -999.0,9,     -999.0,9,     -999.0,9,     -999.0,9,     -999.0,9,     -999.0,9,     4.1068,2,     -999.0,     -999.0,9,     -999.0
320620170820,        P06,     236,          1,         20,         20,2,20170926,       1235,   -32.4995,   -73.1964,       3813,   772.8,   4.5527,  34.3750,2,  34.3645,2, 136.2909,3, 143.1238,2,    39.9,2,   36.28,2,    0.00,2,    2.52,2,   0.708,2,   0.446,2,   0.0000,4,  2233.8,2,  2301.4,2,   7.5205,2,    25.00, -999.00,9, -999.00,9, -999.00,    39.6,2, -999.00,9,     -999.0,1,  -999.0,9, 20170926,     1345, -32.4995, -73.1964,        0.0,1,      0.055,1,      4.675,1,      0.070,1,     -999.0,9,     -999.0,9,     -999.0,9,     -999.0,9,     -999.0,9,     -999.0,9,     -999.0,9,     -999.0,9,     -999.0,9,     -999.0,9,     -999.0,9,     4.5196,2,     -999.0,     -999.0,9,     -999.0
320620170820,        P06,     236,          1,         21,         21,2,20170926,       1235,   -32.4995,   -73.1964,       3813,   669.6,   4.9809,  34.3024,2,  34.3013,2, 179.9577,2, 180.3226,2,    24.9,2,   32.53,2,    0.00,2,    2.24,2,   1.742,2,   0.964,2,   0.4820,4,  -999.0,9,  -999.0,9,-999.0000,9,  -999.00, -999.00,9, -999.00,9, -999.00,  -999.0,9, -999.00,9,     -999.0,9,  -999.0,9, 20170926,     1348, -32.4995, -73.1963,        0.0,1,      0.056,1,      4.676,1,      0.070,1,     -999.0,9,     -999.0,9,     -999.0,9,     -999.0,9,     -999.0,9,     -999.0,9,     -999.0,9,     -999.0,9,     -999.0,9,     -999.0,9,     -999.0,9,     4.9518,2,     -999.0,     -999.0,9,     -999.0
320620170820,        P06,     236,          1,         22,         22,2,20170926,       1235,   -32.4995,   -73.1964,       3813,   567.4,   5.5912,  34.3031,2,  34.3001,2, 183.5106,2, 182.5619,2,    18.0,2,   31.17,2,    0.00,2,    2.15,2,   2.668,2,   1.400,2,   0.8010,4,  2192.2,2,  2280.4,2,   7.5803,2,    25.00, -999.00,9, -999.00,9, -999.00,    41.0,2, -999.00,9,     -999.0,1,  -999.0,9, 20170926,     1350, -32.4995, -73.1962,        0.0,1,      0.058,1,      4.674,1,      0.070,1,     -999.0,9,     -999.0,9,     -999.0,9,     -999.0,9,     -999.0,9,     -999.0,9,     -999.0,9,     -999.0,9,     -999.0,9,     -999.0,9,     -999.0,9,     5.6040,2,     -999.0,     -999.0,9,     -999.0
320620170820,        P06,     236,          1,         23,         23,2,20170926,       1235,   -32.4995,   -73.1964,       3813,   488.8,   6.0629,  34.3124,2,  34.3054,2, 179.6469,2, 179.0487,2,    15.5,2,   30.62,2,    0.00,2,    2.11,2,   3.058,2,   1.549,2,   0.7960,4,  2191.1,2,  2277.7,2,   7.5738,2,    25.00, -999.00,9, -999.00,9, -999.00,    42.8,2,   32.80,2,     -999.0,1,  -999.0,9, 20170926,     1353, -32.4995, -73.1960,        0.0,1,      0.055,1,      4.672,1,      0.070,1,     -999.0,9,     -999.0,9,     -999.0,9,     -999.0,9,     -999.0,9,     -999.0,9,     -999.0,9,     -999.0,9,     -999.0,9,     -999.0,9,     -999.0,9,     6.0215,2,     -999.0,     -999.0,9,     -999.0
320620170820,        P06,     236,          1,         24,         24,2,20170926,       1235,   -32.4995,   -73.1964,       3813,   439.2,   6.6555,  34.3586,2,  34.3437,2, 141.0132,2, 146.8507,2,    17.1,2,   32.29,2,    0.00,2,    2.26,2,   2.650,2,   1.428,2,   0.6660,4,  -999.0,9,  -999.0,9,-999.0000,9,  -999.00, -999.00,9, -999.00,9, -999.00,    44.7,2,   34.40,2,     -999.0,1,  -999.0,9, 20170926,     1355, -32.4995, -73.1959,        0.0,1,      0.056,1,      4.669,1,      0.071,1,     -999.0,9,     -999.0,9,     -999.0,9,     -999.0,9,     -999.0,9,     -999.0,9,     -999.0,9,     -999.0,9,     -999.0,9,     -999.0,9,     -999.0,9,     6.5224,2,     -999.0,     -999.0,9,     -999.0
320620170820,        P06,     236,          1,         25,         25,2,20170926,       1235,   -32.4995,   -73.1964,       3813,   387.1,   7.1281,  34.3742,2,  34.3513,2, 135.4829,2,  134.758,2,    16.6,2,   32.48,2,    0.00,2,    2.30,2,   2.679,2,   1.434,2,   0.4420,4,  2216.4,2,  2276.2,2,   7.5016,2,    25.00, -999.00,9, -999.00,9, -999.00,    42.2,2,   36.10,2,     -999.0,1,  -999.0,9, 20170926,     1356, -32.4995, -73.1959,        0.0,1,      0.055,1,      4.666,1,      0.071,1,     -999.0,9,     -999.0,9,     -999.0,9,     -999.0,9,     -999.0,9,     -999.0,9,     -999.0,9,     -999.0,9,     -999.0,9,     -999.0,9,     -999.0,9,     6.8689,2,     -999.0,     -999.0,9,     -999.0
320620170820,        P06,     236,          1,         26,         26,2,20170926,       1235,   -32.4995,   -73.1964,       3813,   336.6,   8.0139,  34.4517,2,  34.4202,2,  77.6365,2,  78.2453,2,    20.0,2,   34.99,2,    0.00,2,    2.56,2,   1.896,2,   1.119,2,   0.4960,4,  -999.0,9,  -999.0,9,-999.0000,9,  -999.00, -999.00,9, -999.00,9, -999.00,  -999.0,9, -999.00,9,     -999.0,9,  -999.0,9, 20170926,     1358, -32.4995, -73.1960,        0.0,1,      0.055,1,      4.659,1,      0.071,1,     -999.0,9,     -999.0,9,     -999.0,9,     -999.0,9,     -999.0,9,     -999.0,9,     -999.0,9,     -999.0,9,     -999.0,9,     -999.0,9,     -999.0,9,     7.6907,2,     -999.0,     -999.0,9,     -999.0