BOTTLE,20240211CCHSIOCBG
EXPOCODE,SECT_ID,STNNBR,CASTNO,SAMPNO,BTLNBR,BTLNBR_FLAG_W,DATE,TIME,LATITUDE,LONGITUDE,DEPTH,CTDPRS,CTDTMP,CTDSAL,CTDSAL_FLAG_W,SALNTY,SALNTY_FLAG_W,CTDOXY,CTDOXY_FLAG_W,OXYGEN,OXYGEN_FLAG_W,SILCAT,SILCAT_FLAG_W,NITRAT,NITRAT_FLAG_W,NITRIT,NITRIT_FLAG_W,PHSPHT,PHSPHT_FLAG_W,CFC-11,CFC-11_FLAG_W,CFC-12,CFC-12_FLAG_W,SF6,SF6_FLAG_W,TCARBN,TCARBN_FLAG_W,ALKALI,ALKALI_FLAG_W,PH_TOT,PH_TOT_FLAG_W,PH_TMP,DELC13,DELC13_FLAG_W,DELC14,DELC14_FLAG_W,C14ERR,DOC,DOC_FLAG_W,TDN,TDN_FLAG_W,TON,TON_FLAG_W,D15N_NO3,D15N_NO3_FLAG_W,BTL_DATE,BTL_TIME,BTL_LAT,BTL_LON,CTDRINKO,CTDRINKO_FLAG_W,CTDFLUOR,CTDFLUOR_FLAG_W,CTDXMISS,CTDXMISS_FLAG_W,CTDBACKSCATTER,CTDBACKSCATTER_FLAG_W,D18O_NO3,D18O_NO3_FLAG_W,DOP,DOP_FLAG_W,CELLCOUNT,CELLCOUNT_FLAG_W,TDP,TDP_FLAG_W,POP,POP_FLAG_W,DATP,DATP_FLAG_W,PATP,PATP_FLAG_W,HPLC,HPLC_FLAG_W,POC,POC_FLAG_W,BEAMAP,BEAMAP_FLAG_W,DOC_NASA,DOC_NASA_FLAG_W,REFTMP,REFTMP_FLAG_W,DOC_NASA_ERROR,TDN_NASA,TDN_NASA_FLAG_W,TDN_NASA_ERROR
,,,,,,,,,,,METERS,DBAR,ITS-90,PSS-78,,PSS-78,,UMOL/KG,,UMOL/KG,,UMOL/KG,,UMOL/KG,,UMOL/KG,,UMOL/KG,,PMOL/KG,,PMOL/KG,,FMOL/KG,,UMOL/KG,,UMOL/KG,,,,DEG C,/MILLE,,/MILLE,,/MILLE,UMOL/KG,,UMOL/KG,,UMOL/KG,,/MILLE,,,,,,VOLTS,,VOLTS,,VOLTS,,VOLTS,,/MILLE,,UMOL/KG,,/LITER,,UMOL/KG,,UMOL/L,,PMOL/L,,PMOL/L,,,,UG/L,,/METER,,UMOL/L,,ITS-90,,UMOL/L,UMOL/L,,UMOL/L
320620170820,        P06,     158,          1,          1,          1,2,20170831,       0337,   -32.5002,  -136.8080,       4427,  4489.5,   1.3500,  34.7047,2,  34.7046,3, 190.7515,2,  190.779,2,   119.0,2,   32.95,2,    0.00,2,    2.28,2,   0.034,2,   0.022,2,   0.0000,2,  2280.5,6,  2382.5,2,   7.6089,2,    25.00, -999.00,9, -999.00,9, -999.00,    41.4,2, -999.00,9,     -999.0,1,  -999.0,9, 20170831,      337, -32.4999,-136.8082,        0.0,1,      0.061,1,      4.694,1,      0.124,1,     -999.0,9,     -999.0,9,     -999.0,9,     -999.0,9,     -999.0,9,     -999.0,9,     -999.0,9,     -999.0,9,     -999.0,9,     -999.0,9,     -999.0,9,     1.3504,2,     -999.0,     -999.0,9,     -999.0
320620170820,        P06,     158,          1,          2,          2,2,20170831,       0337,   -32.5002,  -136.8080,       4427,  4324.0,   1.3384,  34.7044,2,  34.7040,3, 190.7515,2, 191.1348,2,   119.2,2,   32.87,2,    0.00,2,    2.29,2,   0.035,2,   0.025,2,   0.0000,2,  2278.8,2,  2383.3,6,   7.6065,2,    25.00, -999.00,9, -999.00,9, -999.00,  -999.0,9, -999.00,9,     -999.0,9,  -999.0,9, 20170831,      341, -32.4997,-136.8082,        0.0,1,      0.061,1,      4.694,1,      0.123,1,     -999.0,9,     -999.0,9,     -999.0,9,     -999.0,9,     -999.0,9,     -999.0,9,     -999.0,9,     -999.0,9,     -999.0,9,     -999.0,9,     -999.0,9,     1.3388,2,     -999.0,     -999.0,9,     -999.0
320620170820,        P06,     158,          1,          3,          3,2,20170831,       0337,   -32.5002,  -136.8080,       4427,  4168.3,   1.3457,  34.7032,2,  34.6995,3, 189.2505,2, 189.2365,2,   119.3,2,   32.93,2,    0.00,2,    2.30,2,   0.031,2,   0.023,2,   0.0000,2,  2280.0,2,  2384.8,2,   7.6053,2,    25.00, -999.00,9, -999.00,9, -999.00,    43.1,2, -999.00,9,     -999.0,1,  -999.0,9, 20170831,      345, -32.4999,-136.8081,        0.0,1,      0.062,1,      4.695,1,      0.123,1,     -999.0,9,     -999.0,9,     -999.0,9,     -999.0,9,     -999.0,9,     -999.0,9,     -999.0,9,     -999.0,9,     -999.0,9,     -999.0,9,     -999.0,9,     1.3436,2,     -999.0,     -999.0,9,     -999.0
320620170820,        P06,     158,          1,          4,          4,2,20170831,       0337,   -32.5002,  -136.8080,       4427,  3862.7,   1.4317,  34.6963,2,  34.6969,2, 183.3479,2, 183.4386,2,   120.9,2,   33.39,2,    0.00,2,    2.33,2,   0.037,2,   0.025,2,   0.0000,2,  2285.7,2,  2387.7,2,   7.6019,2,    25.00, -999.00,9, -999.00,9, -999.00,  -999.0,9, -999.00,9,     -999.0,9,  -999.0,9, 20170831,      352, -32.5002,-136.8080,        0.0,1,      0.061,1,      4.695,1,      0.124,1,     -999.0,9,     -999.0,9,     -999.0,9,     -999.0,9,     -999.0,9,     -999.0,9,     -999.0,9,     -999.0,9,     -999.0,9,     -999.0,9,     -999.0,9,     1.4169,2,     -999.0,     -999.0,9,     -999.0
320620170820,        P06,     158,          1,          5,          5,2,20170831,       0337,   -32.5002,  -136.8080,       4427,  3555.3,   1.5413,  34.6872,2,  34.6869,2, 175.6428,2, 175.3738,2,   122.8,2,   34.11,2,    0.00,2,    2.38,2,   0.033,2,   0.022,2,   0.0000,2,  2294.0,2,  2392.7,2,   7.5942,2,    25.00, -999.00,9, -999.00,9, -999.00,    39.6,2, -999.00,9,     -999.0,1,  -999.0,9, 20170831,      358, -32.5000,-136.8081,        0.0,1,      0.061,1,      4.695,1,      0.124,1,     -999.0,9,     -999.0,9,     -999.0,9,     -999.0,9,     -999.0,9,     -999.0,9,     -999.0,9,     -999.0,9,     -999.0,9,     -999.0,9,     -999.0,9,     1.5351,2,     -999.0,     -999.0,9,     -999.0
320620170820,        P06,     158,          1,          6,          6,2,20170831,       0337,   -32.5002,  -136.8080,       4427,  3247.5,   1.6271,  34.6791,2,  34.6791,2, 169.8628,3, 168.6982,2,   122.8,2,   34.43,2,    0.00,2,    2.42,2,   0.031,2,   0.025,2,   0.0000,2,  2298.1,2,  2397.3,2,   7.5900,2,    25.00, -999.00,9, -999.00,9, -999.00,    37.5,2, -999.00,9,     -999.0,1,  -999.0,9, 20170831,      405, -32.4997,-136.8083,        0.0,1,      0.060,1,      4.695,1,      0.124,1,     -999.0,9,     -999.0,9,     -999.0,9,     -999.0,9,     -999.0,9,     -999.0,9,     -999.0,9,     -999.0,9,     -999.0,9,     -999.0,9,     -999.0,9,     1.6222,2,     -999.0,     -999.0,9,     -999.0
320620170820,        P06,     158,          1,          7,          7,2,20170831,       0337,   -32.5002,  -136.8080,       4427,  2954.6,   1.6869,  34.6730,2,  34.6732,2, 165.7605,2, 165.3001,2,   123.2,2,   34.81,2,    0.00,2,    2.43,2,   0.034,2,   0.026,2,   0.0000,2,  2301.3,2,  2397.1,2,   7.5867,2,    25.00, -999.00,9, -999.00,9, -999.00,    38.5,2, -999.00,9,     -999.0,1,  -999.0,9, 20170831,      411, -32.5001,-136.8080,        0.0,1,      0.061,1,      4.696,1,      0.125,1,     -999.0,9,     -999.0,9,     -999.0,9,     -999.0,9,     -999.0,9,     -999.0,9,     -999.0,9,     -999.0,9,     -999.0,9,     -999.0,9,     -999.0,9,     1.6805,2,     -999.0,     -999.0,9,     -999.0
320620170820,        P06,     158,          1,          8,          8,2,20170831,       0337,   -32.5002,  -136.8080,       4427,  2702.6,   1.7594,  34.6667,2,  34.6669,2, 161.2848,2, 161.6185,2,   122.0,2,   34.88,2,    0.00,2,    2.46,2,   0.034,2,   0.026,2,   0.0000,2,  2303.1,2,  2395.0,2,   7.5815,2,    25.00, -999.00,9, -999.00,9, -999.00,  -999.0,9, -999.00,9,     -999.0,9,  -999.0,9, 20170831,      417, -32.5001,-136.8079,        0.0,1,      0.061,1,      4.696,1,      0.128,1,     -999.0,9,     -999.0,9,     -999.0,9,     -999.0,9,     -999.0,9,     -999.0,9,     -999.0,9,     -999.0,9,     -999.0,9,     -999.0,9,     -999.0,9,     1.7547,2,     -999.0,     -999.0,9,     -999.0
320620170820,        P06,     158,          1,          9,          9,2,20170831,       0337,   -32.5002,  -136.8080,       4427,  2447.0,   1.8646,  34.6576,2,  34.6582,2, 156.9436,2, 157.2407,2,   120.2,2,   35.16,2,    0.00,2,    2.46,2,   0.035,2,   0.026,2,   0.0000,2,  2303.6,2,  2393.7,2,   7.5770,2,    25.00, -999.00,9, -999.00,9, -999.00,    38.6,2, -999.00,9,     -999.0,1,  -999.0,9, 20170831,      422, -32.4997,-136.8082,        0.0,1,      0.061,1,      4.696,1,      0.131,1,     -999.0,9,     -999.0,9,     -999.0,9,     -999.0,9,     -999.0,9,     -999.0,9,     -999.0,9,     -999.0,9,     -999.0,9,     -999.0,9,     -999.0,9,     1.8527,2,     -999.0,     -999.0,9,     -999.0
320620170820,        P06,     158,          1,         10,         10,2,20170831,       0337,   -32.5002,  -136.8080,       4427,  2191.0,   1.9993,  34.6450,2,  34.6443,2, 154.5643,2, 155.1783,2,   115.5,2,   35.31,2,    0.00,2,    2.48,2,   0.035,2,   0.025,2,   0.0000,2,  2298.7,6,  2387.1,2,   7.5732,2,    25.00, -999.00,9, -999.00,9, -999.00,  -999.0,9, -999.00,9,     -999.0,9,  -999.0,9, 20170831,      428, -32.4999,-136.8081,        0.0,1,      0.061,1,      4.696,1,      0.128,1,     -999.0,9,     -999.0,9,     -999.0,9,     -999.0,9,     -999.0,9,     -999.0,9,     -999.0,9,     -999.0,9,     -999.0,9,     -999.0,9,     -999.0,9,     2.0044,2,     -999.0,     -999.0,9,     -999.0
320620170820,        P06,     158,          1,         11,         11,2,20170831,       0337,   -32.5002,  -136.8080,       4427,  1957.8,   2.1701,  34.6272,2,  34.6254,2, 154.9827,2, 155.9332,2,   106.9,2,   35.32,2,    0.00,2,    2.45,2,   0.036,2,   0.029,2,   0.0000,2,  2292.4,2,  2380.0,2,   7.5714,6,    25.00, -999.00,9, -999.00,9, -999.00,    35.0,2, -999.00,9,     -999.0,1,  -999.0,9, 20170831,      433, -32.5001,-136.8080,        0.0,1,      0.061,1,      4.696,1,      0.128,1,     -999.0,9,     -999.0,9,     -999.0,9,     -999.0,9,     -999.0,9,     -999.0,9,     -999.0,9,     -999.0,9,     -999.0,9,     -999.0,9,     -999.0,9,     2.1814,2,     -999.0,     -999.0,9,     -999.0
320620170820,        P06,     158,          1,         12,         12,2,20170831,       0337,   -32.5002,  -136.8080,       4427,  1756.0,   2.3650,  34.5980,2,  34.5956,2, 157.3537,2, 158.4116,2,    95.9,2,   34.88,2,    0.00,2,    2.42,2,   0.050,2,   0.036,2,   0.0000,2,  2281.3,2,  2366.6,2,   7.5690,2,    25.00, -999.00,9, -999.00,9, -999.00,  -999.0,9, -999.00,9,     -999.0,9,  -999.0,9, 20170831,      438, -32.5003,-136.8078,        0.0,1,      0.061,1,      4.696,1,      0.129,1,     -999.0,9,     -999.0,9,     -999.0,9,     -999.0,9,     -999.0,9,     -999.0,9,     -999.0,9,     -999.0,9,     -999.0,9,     -999.0,9,     -999.0,9,     2.3770,2,     -999.0,     -999.0,9,     -999.0
320620170820,        P06,     158,          1,         13,         13,2,20170831,       0337,   -32.5002,  -136.8080,       4427,  1581.5,   2.6175,  34.5503,2,  34.5468,2, 163.3081,2, 163.4432,2,    81.9,2,   34.73,2,    0.00,2,    2.40,2,   0.084,2,   0.057,2,   0.0000,2,  2266.0,2,  2351.7,2,   7.5672,2,    25.00, -999.00,9, -999.00,9, -999.00,  -999.0,5, -999.00,9,     -999.0,1,  -999.0,9, 20170831,      442, -32.5001,-136.8079,        0.0,1,      0.061,1,      4.696,1,      0.130,1,     -999.0,9,     -999.0,9,     -999.0,9,     -999.0,9,     -999.0,9,     -999.0,9,     -999.0,9,     -999.0,9,     -999.0,9,     -999.0,9,     -999.0,9,     2.6378,2,     -999.0,     -999.0,9,     -999.0
320620170820,        P06,     158,          1,         14,         14,2,20170831,       0337,   -32.5002,  -136.8080,       4427,  1480.7,   2.7843,  34.5144,2,  34.5087,2, 167.5459,2, 167.0579,2,    73.2,2,   34.63,2,    0.00,2,    2.39,2,   0.133,2,   0.085,2,   0.0000,2,  2255.6,2,  2340.5,2,   7.5679,2,    25.00, -999.00,9, -999.00,9, -999.00,    38.5,2, -999.00,9,     -999.0,1,  -999.0,9, 20170831,      445, -32.5000,-136.8080,        0.0,1,      0.061,1,      4.696,1,      0.128,1,     -999.0,9,     -999.0,9,     -999.0,9,     -999.0,9,     -999.0,9,     -999.0,9,     -999.0,9,     -999.0,9,     -999.0,9,     -999.0,9,     -999.0,9,     2.8112,2,     -999.0,     -999.0,9,     -999.0
320620170820,        P06,     158,          1,         15,         15,2,20170831,       0337,   -32.5002,  -136.8080,       4427,  1380.3,   3.0422,  34.4706,2,  34.4654,2,  170.519,2, 170.2098,2,    65.0,2,   34.36,2,    0.00,2,    2.38,2,   0.175,2,   0.108,2,   0.0000,2,  2247.3,2,  2333.4,2,   7.5702,2,    25.00, -999.00,9, -999.00,9, -999.00,  -999.0,9, -999.00,9,     -999.0,9,  -999.0,9, 20170831,      449, -32.5001,-136.8079,        0.0,1,      0.060,1,      4.696,1,      0.131,1,     -999.0,9,     -999.0,9,     -999.0,9,     -999.0,9,     -999.0,9,     -999.0,9,     -999.0,9,     -999.0,9,     -999.0,9,     -999.0,9,     -999.0,9,     3.0561,2,     -999.0,     -999.0,9,     -999.0
320620170820,        P06,     158,          1,         16,         16,2,20170831,       0337,   -32.5002,  -136.8080,       4427,  1275.2,   3.3853,  34.4140,2,  34.4143,2, 177.7674,2, 177.2022,2,    54.4,2,   33.76,2,    0.00,2,    2.34,2,   0.339,2,   0.191,2,   0.0000,2,  2233.4,2,  2321.1,2,   7.5778,2,    25.00, -999.00,9, -999.00,9, -999.00,    37.1,2, -999.00,9,     -999.0,1,  -999.0,9, 20170831,      452, -32.5002,-136.8079,        0.0,1,      0.061,1,      4.696,1,      0.129,1,     -999.0,9,     -999.0,9,     -999.0,9,     -999.0,9,     -999.0,9,     -999.0,9,     -999.0,9,     -999.0,9,     -999.0,9,     -999.0,9,     -999.0,9,     3.3639,2,     -999.0,     -999.0,9,     -999.0
320620170820,        P06,     158,          1,         17,         17,2,20170831,       0337,   -32.5002,  -136.8080,       4427,  1176.0,   3.8269,  34.3639,2,  34.3643,3, 186.5846,2, 186.4113,2,    43.4,2,   32.87,2,    0.00,2,    2.26,2,   0.610,2,   0.322,2,   0.0000,2,  2216.9,2,  2310.1,2,   7.5939,2,    25.00, -999.00,9, -999.00,9, -999.00,  -999.0,9, -999.00,9,     -999.0,9,  -999.0,9, 20170831,      454, -32.5002,-136.8079,        0.0,1,      0.061,1,      4.696,1,      0.129,1,     -999.0,9,     -999.0,9,     -999.0,9,     -999.0,9,     -999.0,9,     -999.0,9,     -999.0,9,     -999.0,9,     -999.0,9,     -999.0,9,     -999.0,9,     3.7927,2,     -999.0,     -999.0,9,     -999.0
320620170820,        P06,     158,          1,         18,         18,2,20170831,       0337,   -32.5002,  -136.8080,       4427,  1073.9,   4.3759,  34.3256,2,  34.3270,3, 198.1934,2, 197.8062,2,    33.0,2,   31.33,2,    0.00,2,    2.14,2,   1.037,2,   0.535,2,   0.1810,2,  2201.9,2,  2301.4,2,   7.6127,2,    25.00, -999.00,9, -999.00,9, -999.00,    39.5,2, -999.00,9,     -999.0,1,  -999.0,9, 20170831,      457, -32.5000,-136.8080,        0.0,1,      0.060,1,      4.696,1,      0.129,1,     -999.0,9,     -999.0,9,     -999.0,9,     -999.0,9,     -999.0,9,     -999.0,9,     -999.0,9,     -999.0,9,     -999.0,9,     -999.0,9,     -999.0,9,     4.3098,2,     -999.0,     -999.0,9,     -999.0
320620170820,        P06,     158,          1,         19,         19,2,20170831,       0337,   -32.5002,  -136.8080,       4427,   973.5,   4.9380,  34.3042,2,  34.3033,2, 207.9995,2, 208.7833,2,    23.9,2,   29.60,2,    0.00,2,    2.02,2,   1.456,2,   0.730,2,   0.3120,2,  2185.1,2,  2291.0,2,   7.6374,2,    25.00, -999.00,9, -999.00,9, -999.00,  -999.0,9, -999.00,9,     -999.0,9,  -999.0,9, 20170831,      500, -32.4998,-136.8082,        0.0,1,      0.060,1,      4.696,1,      0.130,1,     -999.0,9,     -999.0,9,     -999.0,9,     -999.0,9,     -999.0,9,     -999.0,9,     -999.0,9,     -999.0,9,     -999.0,9,     -999.0,9,     -999.0,9,     4.8485,2,     -999.0,     -999.0,9,     -999.0
320620170820,        P06,     158,          1,         20,         20,2,20170831,       0337,   -32.5002,  -136.8080,       4427,   872.2,   5.5586,  34.2980,2,  34.2958,2, 224.3924,2, 224.1439,2,    15.4,2,   27.04,2,    0.00,2,    1.84,2,   2.158,2,   1.100,2,   0.4780,2,  2166.1,2,  2283.1,6,   7.6685,2,    25.00, -999.00,9, -999.00,9, -999.00,    45.5,2, -999.00,9,     -999.0,1,  -999.0,9, 20170831,      503, -32.4997,-136.8082,        0.0,1,      0.061,1,      4.696,1,      0.130,1,     -999.0,9,     -999.0,9,     -999.0,9,     -999.0,9,     -999.0,9,     -999.0,9,     -999.0,9,     -999.0,9,     -999.0,9,     -999.0,9,     -999.0,9,     5.5001,2,     -999.0,     -999.0,9,     -999.0
320620170820,        P06,     158,          1,         21,         21,2,20170831,       0337,   -32.5002,  -136.8080,       4427,   771.6,   6.0635,  34.3100,2,  34.3054,2, 234.4129,2, 233.8106,2,    11.1,2,   25.19,2,    0.00,2,    1.71,2,   2.761,2,   1.419,2,   0.5780,2,  2156.9,2,  2281.8,2,   7.6878,2,    25.00, -999.00,9, -999.00,9, -999.00,  -999.0,9, -999.00,9,     -999.0,9,  -999.0,9, 20170831,      506, -32.4998,-136.8082,        0.0,1,      0.060,1,      4.695,1,      0.133,1,     -999.0,9,     -999.0,9,     -999.0,9,     -999.0,9,     -999.0,9,     -999.0,9,     -999.0,9,     -999.0,9,     -999.0,9,     -999.0,9,     -999.0,9,     5.9777,2,     -999.0,     -999.0,9,     -999.0
320620170820,        P06,     158,          1,         22,         22,2,20170831,       0337,   -32.5002,  -136.8080,       4427,   669.9,   6.5402,  34.3346,2,  34.3323,2, 240.9882,2, 241.1234,2,     8.0,2,   23.16,2,    0.00,2,    1.56,2,   3.344,2,   1.756,2,   0.9540,2,  2149.4,2,  2281.3,2,   7.7054,2,    25.00, -999.00,9, -999.00,9, -999.00,    50.0,3, -999.00,9,     -999.0,1,  -999.0,9, 20170831,      509, -32.4997,-136.8082,        0.0,1,      0.058,1,      4.695,1,      0.134,1,     -999.0,9,     -999.0,9,     -999.0,9,     -999.0,9,     -999.0,9,     -999.0,9,     -999.0,9,     -999.0,9,     -999.0,9,     -999.0,9,     -999.0,9,     6.5352,2,     -999.0,     -999.0,9,     -999.0
320620170820,        P06,     158,          1,         23,         23,2,20170831,       0337,   -32.5002,  -136.8080,       4427,   568.0,   6.9783,  34.3643,2,  34.3643,2, 243.0521,2, 243.0124,2,     6.4,2,   21.68,2,    0.00,2,    1.49,2,   3.394,2,   1.883,2,   1.2580,2,  2146.2,6,  2279.8,2,   7.7135,2,    25.00, -999.00,9, -999.00,9, -999.00,    46.8,2, -999.00,9,     -999.0,1,  -999.0,9, 20170831,      512, -32.4997,-136.8082,        0.0,1,      0.058,1,      4.694,1,      0.134,1,     -999.0,9,     -999.0,9,     -999.0,9,     -999.0,9,     -999.0,9,     -999.0,9,     -999.0,9,     -999.0,9,     -999.0,9,     -999.0,9,     -999.0,9,     7.0095,2,     -999.0,     -999.0,9,     -999.0
320620170820,        P06,     158,          1,         24,         24,2,20170831,       0337,   -32.5002,  -136.8080,       4427,   488.1,   7.5607,  34.4028,2,  34.4037,2, 238.3899,2, 239.3175,2,     5.0,2,   20.07,2,    0.00,2,    1.38,2,   3.420,2,   1.921,2,   1.1610,2,  2143.2,2,  2279.0,2,   7.7210,2,    25.00, -999.00,9, -999.00,9, -999.00,    48.1,2, -999.00,9,     -999.0,1,  -999.0,9, 20170831,      514, -32.4997,-136.8083,        0.0,1,      0.059,1,      4.693,1,      0.132,1,     -999.0,9,     -999.0,9,     -999.0,9,     -999.0,9,     -999.0,9,     -999.0,9,     -999.0,9,     -999.0,9,     -999.0,9,     -999.0,9,     -999.0,9,     7.6315,2,     -999.0,     -999.0,9,     -999.0
320620170820,        P06,     158,          1,         25,         25,2,20170831,       0337,   -32.5002,  -136.8080,       4427,   437.0,   8.2886,  34.4444,2,  34.4367,3,  226.459,2,  233.238,2,     4.2,2,   18.85,2,    0.00,2,    1.31,2,   3.399,2,   1.886,2,   1.2950,2,  2138.3,2,  2279.4,2,   7.7280,2,    25.00, -999.00,9, -999.00,9, -999.00,    43.7,2, -999.00,9,     -999.0,1,  -999.0,9, 20170831,      516, -32.4996,-136.8083,        0.0,1,      0.058,1,      4.692,1,      0.134,1,     -999.0,9,     -999.0,9,     -999.0,9,     -999.0,9,     -999.0,9,     -999.0,9,     -999.0,9,     -999.0,9,     -999.0,9,     -999.0,9,     -999.0,9,     8.1847,2,     -999.0,     -999.0,9,     -999.0
320620170820,        P06,     158,          1,         26,         26,2,20170831,       0337,   -32.5002,  -136.8080,       4427,   387.6,   9.2199,  34.5085,2,  34.4972,3,  217.571,2, 223.9662,2,     3.4,2,   17.00,2,    0.00,2,    1.18,2,   3.280,2,   1.828,2,   1.4340,2,  2137.3,2,  2282.3,2,   7.7425,2,    25.00, -999.00,9, -999.00,9, -999.00,    44.3,2, -999.00,9,     -999.0,1,  -999.0,9, 20170831,      518, -32.4996,-136.8082,        0.0,1,      0.059,1,      4.690,1,      0.135,1,     -999.0,9,     -999.0,9,     -999.0,9,     -999.0,9,     -999.0,9,     -999.0,9,     -999.0,9,     -999.0,9,     -999.0,9,     -999.0,9,     -999.0,9,     9.1743,2,     -999.0,     -999.0,9,     -999.0