BOTTLE,20240211CCHSIOCBG
EXPOCODE,SECT_ID,STNNBR,CASTNO,SAMPNO,BTLNBR,BTLNBR_FLAG_W,DATE,TIME,LATITUDE,LONGITUDE,DEPTH,CTDPRS,CTDTMP,CTDSAL,CTDSAL_FLAG_W,SALNTY,SALNTY_FLAG_W,CTDOXY,CTDOXY_FLAG_W,OXYGEN,OXYGEN_FLAG_W,SILCAT,SILCAT_FLAG_W,NITRAT,NITRAT_FLAG_W,NITRIT,NITRIT_FLAG_W,PHSPHT,PHSPHT_FLAG_W,CFC-11,CFC-11_FLAG_W,CFC-12,CFC-12_FLAG_W,SF6,SF6_FLAG_W,TCARBN,TCARBN_FLAG_W,ALKALI,ALKALI_FLAG_W,PH_TOT,PH_TOT_FLAG_W,PH_TMP,DELC13,DELC13_FLAG_W,DELC14,DELC14_FLAG_W,C14ERR,DOC,DOC_FLAG_W,TDN,TDN_FLAG_W,TON,TON_FLAG_W,D15N_NO3,D15N_NO3_FLAG_W,BTL_DATE,BTL_TIME,BTL_LAT,BTL_LON,CTDRINKO,CTDRINKO_FLAG_W,CTDFLUOR,CTDFLUOR_FLAG_W,CTDXMISS,CTDXMISS_FLAG_W,CTDBACKSCATTER,CTDBACKSCATTER_FLAG_W,D18O_NO3,D18O_NO3_FLAG_W,DOP,DOP_FLAG_W,CELLCOUNT,CELLCOUNT_FLAG_W,TDP,TDP_FLAG_W,POP,POP_FLAG_W,DATP,DATP_FLAG_W,PATP,PATP_FLAG_W,HPLC,HPLC_FLAG_W,POC,POC_FLAG_W,BEAMAP,BEAMAP_FLAG_W,DOC_NASA,DOC_NASA_FLAG_W,REFTMP,REFTMP_FLAG_W,DOC_NASA_ERROR,TDN_NASA,TDN_NASA_FLAG_W,TDN_NASA_ERROR
,,,,,,,,,,,METERS,DBAR,ITS-90,PSS-78,,PSS-78,,UMOL/KG,,UMOL/KG,,UMOL/KG,,UMOL/KG,,UMOL/KG,,UMOL/KG,,PMOL/KG,,PMOL/KG,,FMOL/KG,,UMOL/KG,,UMOL/KG,,,,DEG C,/MILLE,,/MILLE,,/MILLE,UMOL/KG,,UMOL/KG,,UMOL/KG,,/MILLE,,,,,,VOLTS,,VOLTS,,VOLTS,,VOLTS,,/MILLE,,UMOL/KG,,/LITER,,UMOL/KG,,UMOL/L,,PMOL/L,,PMOL/L,,,,UG/L,,/METER,,UMOL/L,,ITS-90,,UMOL/L,UMOL/L,,UMOL/L
320620170820,        P06,     224,          1,         27,         27,2,20170922,       0910,   -32.5005,   -83.7564,       3811,   287.1,   9.0755,  34.3529,2,  34.4092,2, 112.1503,4,  82.3338,2,    16.1,2,   27.17,2,    0.00,2,    2.35,2,   2.031,2,   1.133,2,   1.0320,4,  2234.3,2,  2274.9,2,   7.4446,2,    25.00, -999.00,9, -999.00,9, -999.00,    45.7,2,   29.80,2,     -999.0,1,  -999.0,9, 20170922,     1036, -32.5003, -83.7563,        0.0,1,      0.063,1,      4.668,1,      0.157,1,     -999.0,9,     -999.0,9,     -999.0,9,     -999.0,9,     -999.0,9,     -999.0,9,     -999.0,9,     -999.0,9,     -999.0,9,     -999.0,9,     -999.0,9,     9.5628,2,     -999.0,     -999.0,9,     -999.0
320620170820,        P06,     224,          1,         28,         28,2,20170922,       0910,   -32.5005,   -83.7564,       3811,   237.3,   9.8231,  34.2349,2,  34.2664,2, 137.7101,2, 139.6956,2,     9.2,2,   23.29,2,    0.00,2,    1.92,2,-999.000,9,-999.000,9,-999.0000,9,  -999.0,9,  -999.0,9,-999.0000,9,  -999.00, -999.00,9, -999.00,9, -999.00,  -999.0,9, -999.00,9,     -999.0,9,  -999.0,9, 20170922,     1038, -32.5005, -83.7564,        0.0,1,      0.061,1,      4.665,1,      0.167,1,     -999.0,9,     -999.0,9,     -999.0,9,     -999.0,9,     -999.0,9,     -999.0,9,     -999.0,9,     -999.0,9,     -999.0,9,     -999.0,9,     -999.0,9,     9.9844,2,     -999.0,     -999.0,9,     -999.0
320620170820,        P06,     224,          1,         29,         29,2,20170922,       0910,   -32.5005,   -83.7564,       3811,   185.9,  11.2953,  34.0832,2,  34.0750,2, 204.0282,2,  202.781,2,     2.0,2,   17.32,2,    0.02,2,    1.29,2,   3.151,2,   1.715,2,   2.0260,4,  2122.4,2,  2258.4,2,   7.7221,2,    25.00, -999.00,9, -999.00,9, -999.00,    46.8,2,   19.10,2,     -999.0,1,  -999.0,9, 20170922,     1040, -32.5006, -83.7565,        0.0,1,      0.062,1,      4.660,1,      0.169,1,     -999.0,9,     -999.0,9,     -999.0,9,     -999.0,9,     -999.0,9,     -999.0,9,     -999.0,9,     -999.0,9,     -999.0,9,     -999.0,9,     -999.0,9,    11.4922,2,     -999.0,     -999.0,9,     -999.0
320620170820,        P06,     224,          1,         30,         30,2,20170922,       0910,   -32.5005,   -83.7564,       3811,   141.6,  14.0582,  34.2839,2,  34.2881,2, 253.1548,2, 254.3091,2,     0.0,2,    3.36,2,    0.13,2,    0.46,2,-999.000,9,-999.000,9,-999.0000,9,  2057.2,2,  2277.1,2,   7.9053,2,    25.00, -999.00,9, -999.00,9, -999.00,    58.4,2,    6.70,2,     -999.0,1,  -999.0,9, 20170922,     1042, -32.5008, -83.7565,        0.0,1,      0.115,1,      4.637,1,      0.188,1,     -999.0,9,     -999.0,9,     -999.0,9,     -999.0,9,     -999.0,9,     -999.0,9,     -999.0,9,     -999.0,9,     -999.0,9,     -999.0,9,     -999.0,9,    14.0743,2,     -999.0,     -999.0,9,     -999.0
320620170820,        P06,     224,          1,         31,         31,2,20170922,       0910,   -32.5005,   -83.7564,       3811,   115.3,  14.4318,  34.3389,2,  34.3423,2, 252.1549,2, 250.8524,2,     0.0,2,    2.60,2,    0.12,2,    0.43,2,   2.739,2,   1.476,2,   2.4090,4,  2056.3,2,  2280.5,2,   7.9131,2,    25.00, -999.00,9, -999.00,9, -999.00,    58.7,2,    7.50,2,     -999.0,1,  -999.0,9, 20170922,     1043, -32.5008, -83.7565,        0.0,1,      0.114,1,      4.644,1,      0.172,1,     -999.0,9,     -999.0,9,     -999.0,9,     -999.0,9,     -999.0,9,     -999.0,9,     -999.0,9,     -999.0,9,     -999.0,9,     -999.0,9,     -999.0,9,    14.4581,2,     -999.0,     -999.0,9,     -999.0
320620170820,        P06,     224,          1,         32,         32,2,20170922,       0910,   -32.5005,   -83.7564,       3811,    89.5,  14.5593,  34.3577,2,  34.3598,2, 252.2679,2, 252.4742,2,     0.0,2,    2.29,2,    0.10,2,    0.42,2,-999.000,9,-999.000,9,-999.0000,9,  2056.2,2,  2281.4,2,   7.9166,2,    25.00, -999.00,9, -999.00,9, -999.00,    58.8,2,    6.00,2,     -999.0,1,  -999.0,9, 20170922,     1045, -32.5008, -83.7565,        0.0,1,      0.148,1,      4.638,1,      0.170,1,     -999.0,9,     -999.0,9,     -999.0,9,     -999.0,9,     -999.0,9,     -999.0,9,     -999.0,9,     -999.0,9,     -999.0,9,     -999.0,9,     -999.0,9,    14.5651,2,     -999.0,     -999.0,9,     -999.0
320620170820,        P06,     224,          1,         33,         33,2,20170922,       0910,   -32.5005,   -83.7564,       3811,    64.7,  14.5910,  34.3632,2,  34.3664,2, 245.1299,4, 270.3757,2,     0.0,2,    2.23,2,    0.09,2,    0.41,2,   2.691,2,   1.420,2,   2.0080,4,  -999.0,9,  -999.0,9,-999.0000,9,  -999.00, -999.00,9, -999.00,9, -999.00,    59.8,2,    6.10,2,     -999.0,1,  -999.0,9, 20170922,     1047, -32.5007, -83.7565,        0.0,1,      0.192,1,      4.617,1,      0.177,1,     -999.0,9,     -999.0,9,     -999.0,9,     -999.0,9,     -999.0,9,     -999.0,9,     -999.0,9,     -999.0,9,     -999.0,9,     -999.0,9,     -999.0,9,    14.6054,2,     -999.0,     -999.0,9,     -999.0
320620170820,        P06,     224,          1,         34,         34,2,20170922,       0910,   -32.5005,   -83.7564,       3811,    38.9,  14.7158,  34.3820,2,  34.3829,2, 254.7588,2, 254.6578,2,     0.0,2,    2.07,2,    0.08,2,    0.40,2,-999.000,9,-999.000,9,-999.0000,9,  2054.7,2,  2284.0,6,   7.9214,2,    25.00, -999.00,9, -999.00,9, -999.00,    59.9,2,    5.80,2,     -999.0,1,  -999.0,9, 20170922,     1048, -32.5006, -83.7565,        0.0,1,      0.252,1,      4.577,1,      0.196,1,     -999.0,9,     -999.0,9,     -999.0,9,     -999.0,9,     -999.0,9,     -999.0,9,     -999.0,9,     -999.0,9,     -999.0,9,     -999.0,9,     -999.0,9,    14.7018,2,     -999.0,     -999.0,9,     -999.0
320620170820,        P06,     224,          1,         35,         35,2,20170922,       0910,   -32.5005,   -83.7564,       3811,    20.1,  14.7180,  34.3821,2,  34.3833,2, 255.2775,2, 254.7923,2,     0.0,2,    2.05,2,    0.08,2,    0.40,2,   2.705,2,   1.434,2,   1.4760,4,  2056.6,2,  2283.2,2,   7.9230,6,    25.00, -999.00,9, -999.00,9, -999.00,    60.6,2,    6.60,2,     -999.0,1,  -999.0,9, 20170922,     1050, -32.5005, -83.7564,        0.0,1,      0.246,1,      4.573,1,      0.195,1,     -999.0,9,     -999.0,9,     -999.0,9,     -999.0,9,     -999.0,9,     -999.0,9,     -999.0,9,     -999.0,9,     -999.0,9,     -999.0,9,     -999.0,9,    14.7018,2,     -999.0,     -999.0,9,     -999.0
320620170820,        P06,     224,          1,         36,         36,2,20170922,       0910,   -32.5005,   -83.7564,       3811,     5.6,  14.7162,  34.3823,2,  34.3839,2, 255.2712,2, 254.8086,2,     0.0,2,    2.05,2,    0.08,2,    0.41,2,   2.687,2,   1.384,2,   2.1540,4,  2055.2,6,  2282.8,2,   7.9225,2,    25.00, -999.00,9, -999.00,9, -999.00,    57.3,2,    6.10,2,     -999.0,1,  -999.0,9, 20170922,     1051, -32.5005, -83.7564,        0.0,1,      0.247,1,      4.578,1,      0.192,1,     -999.0,9,     -999.0,9,     -999.0,9,     -999.0,9,     -999.0,9,     -999.0,9,     -999.0,9,     -999.0,9,     -999.0,9,     -999.0,9,     -999.0,9,    14.7031,2,     -999.0,     -999.0,9,     -999.0