BOTTLE,20240211CCHSIOCBG
EXPOCODE,SECT_ID,STNNBR,CASTNO,SAMPNO,BTLNBR,BTLNBR_FLAG_W,DATE,TIME,LATITUDE,LONGITUDE,DEPTH,CTDPRS,CTDTMP,CTDSAL,CTDSAL_FLAG_W,SALNTY,SALNTY_FLAG_W,CTDOXY,CTDOXY_FLAG_W,OXYGEN,OXYGEN_FLAG_W,SILCAT,SILCAT_FLAG_W,NITRAT,NITRAT_FLAG_W,NITRIT,NITRIT_FLAG_W,PHSPHT,PHSPHT_FLAG_W,CFC-11,CFC-11_FLAG_W,CFC-12,CFC-12_FLAG_W,SF6,SF6_FLAG_W,TCARBN,TCARBN_FLAG_W,ALKALI,ALKALI_FLAG_W,PH_TOT,PH_TOT_FLAG_W,PH_TMP,DELC13,DELC13_FLAG_W,DELC14,DELC14_FLAG_W,C14ERR,DOC,DOC_FLAG_W,TDN,TDN_FLAG_W,TON,TON_FLAG_W,D15N_NO3,D15N_NO3_FLAG_W,BTL_DATE,BTL_TIME,BTL_LAT,BTL_LON,CTDRINKO,CTDRINKO_FLAG_W,CTDFLUOR,CTDFLUOR_FLAG_W,CTDXMISS,CTDXMISS_FLAG_W,CTDBACKSCATTER,CTDBACKSCATTER_FLAG_W,D18O_NO3,D18O_NO3_FLAG_W,DOP,DOP_FLAG_W,CELLCOUNT,CELLCOUNT_FLAG_W,TDP,TDP_FLAG_W,POP,POP_FLAG_W,DATP,DATP_FLAG_W,PATP,PATP_FLAG_W,HPLC,HPLC_FLAG_W,POC,POC_FLAG_W,BEAMAP,BEAMAP_FLAG_W,DOC_NASA,DOC_NASA_FLAG_W,REFTMP,REFTMP_FLAG_W,DOC_NASA_ERROR,TDN_NASA,TDN_NASA_FLAG_W,TDN_NASA_ERROR
,,,,,,,,,,,METERS,DBAR,ITS-90,PSS-78,,PSS-78,,UMOL/KG,,UMOL/KG,,UMOL/KG,,UMOL/KG,,UMOL/KG,,UMOL/KG,,PMOL/KG,,PMOL/KG,,FMOL/KG,,UMOL/KG,,UMOL/KG,,,,DEG C,/MILLE,,/MILLE,,/MILLE,UMOL/KG,,UMOL/KG,,UMOL/KG,,/MILLE,,,,,,VOLTS,,VOLTS,,VOLTS,,VOLTS,,/MILLE,,UMOL/KG,,/LITER,,UMOL/KG,,UMOL/L,,PMOL/L,,PMOL/L,,,,UG/L,,/METER,,UMOL/L,,ITS-90,,UMOL/L,UMOL/L,,UMOL/L
320620170820,        P06,     208,          1,         27,         27,2,20170916,       2146,   -32.4999,   -97.9953,       2748,   187.6,  13.9259,  34.5202,2,  34.5258,2, 219.7018,2, 219.6813,2,     0.1,2,    6.42,2,    0.03,2,    0.55,2,   2.727,2,   1.564,2,   1.5200,2,  2083.9,2,  2276.8,2,   7.8529,2,    25.00, -999.00,9, -999.00,9, -999.00,    49.1,2,    9.70,2,     -999.0,1,  -999.0,9, 20170916,     2300, -32.5000, -97.9952,        0.0,1,      0.074,1,      4.670,1,      0.141,1,     -999.0,9,     -999.0,9,     -999.0,9,     -999.0,9,     -999.0,9,     -999.0,9,     -999.0,9,     -999.0,9,     -999.0,9,     -999.0,9,     -999.0,9,    13.9528,2,     -999.0,     -999.0,9,     -999.0
320620170820,        P06,     208,          1,         28,         28,2,20170916,       2146,   -32.4999,   -97.9953,       2748,   162.5,  15.0588,  34.5897,2,  34.6046,2, 242.5779,2, 232.8501,2,     0.0,2,    2.51,2,    0.35,2,    0.34,2,-999.000,9,-999.000,9,-999.0000,9,  2063.8,2,  2283.7,2,   7.9037,2,    25.00, -999.00,9, -999.00,9, -999.00,    53.2,2,    6.10,2,     -999.0,1,  -999.0,9, 20170916,     2302, -32.5000, -97.9952,        0.0,1,      0.089,1,      4.657,1,      0.157,1,     -999.0,9,     -999.0,9,     -999.0,9,     -999.0,9,     -999.0,9,     -999.0,9,     -999.0,9,     -999.0,9,     -999.0,9,     -999.0,9,     -999.0,9,    15.2195,2,     -999.0,     -999.0,9,     -999.0
320620170820,        P06,     208,          1,         29,         29,2,20170916,       2146,   -32.4999,   -97.9953,       2748,   132.1,  16.2854,  34.7636,2,  34.7638,2, 243.9387,2, 245.3971,2,     0.0,2,    0.29,2,    0.06,2,    0.18,2,   2.350,2,   1.391,2,   1.5490,2,  2048.5,2,  2292.2,2,   7.9476,2,    25.00, -999.00,9, -999.00,9, -999.00,    58.6,2,    4.80,2,     -999.0,1,  -999.0,9, 20170916,     2304, -32.4999, -97.9952,        0.0,1,      0.163,1,      4.620,1,      0.202,1,     -999.0,9,     -999.0,9,     -999.0,9,     -999.0,9,     -999.0,9,     -999.0,9,     -999.0,9,     -999.0,9,     -999.0,9,     -999.0,9,     -999.0,9,    16.2867,2,     -999.0,     -999.0,9,     -999.0
320620170820,        P06,     208,          1,         30,         30,2,20170916,       2146,   -32.4999,   -97.9953,       2748,   110.6,  16.2941,  34.7654,2,  34.7659,2, 245.2977,2, 244.7556,2,     0.0,2,    0.27,2,    0.05,2,    0.17,2,   2.323,2,   1.369,2,   1.5380,2,  2048.6,2,  2291.5,2,   7.9493,2,    25.00, -999.00,9, -999.00,9, -999.00,    59.3,2,    4.10,2,     -999.0,1,  -999.0,9, 20170916,     2306, -32.5000, -97.9952,        0.0,1,      0.167,1,      4.618,1,      0.194,1,     -999.0,9,     -999.0,9,     -999.0,9,     -999.0,9,     -999.0,9,     -999.0,9,     -999.0,9,     -999.0,9,     -999.0,9,     -999.0,9,     -999.0,9,    16.2941,2,     -999.0,     -999.0,9,     -999.0
320620170820,        P06,     208,          1,         31,         31,2,20170916,       2146,   -32.4999,   -97.9953,       2748,    85.8,  16.3560,  34.7841,2,  34.7671,2, 245.2184,2, 245.1248,2,     0.0,2,    0.26,2,    0.05,2,    0.17,2,   2.313,2,   1.387,2,   1.5080,2,  2046.2,2,  2292.0,6,   7.9481,2,    25.00, -999.00,9, -999.00,9, -999.00,    62.9,2,    4.70,2,     -999.0,1,  -999.0,9, 20170916,     2308, -32.5001, -97.9951,        0.0,1,      0.178,1,      4.611,1,      0.207,1,     -999.0,9,     -999.0,9,     -999.0,9,     -999.0,9,     -999.0,9,     -999.0,9,     -999.0,9,     -999.0,9,     -999.0,9,     -999.0,9,     -999.0,9,    16.2961,2,     -999.0,     -999.0,9,     -999.0
320620170820,        P06,     208,          1,         32,         32,2,20170916,       2146,   -32.4999,   -97.9953,       2748,    59.5,  16.3637,  34.7871,2,  34.7620,2, 245.1905,2, 245.6693,2,     0.0,2,    0.34,2,    0.05,2,    0.18,2,   2.418,2,   1.335,2,   1.7290,2,  2048.1,2,  2293.7,2,   7.9476,2,    25.00, -999.00,9, -999.00,9, -999.00,    63.1,2,    4.80,2,     -999.0,1,  -999.0,9, 20170916,     2310, -32.5000, -97.9952,        0.0,1,      0.176,1,      4.607,1,      0.210,1,     -999.0,9,     -999.0,9,     -999.0,9,     -999.0,9,     -999.0,9,     -999.0,9,     -999.0,9,     -999.0,9,     -999.0,9,     -999.0,9,     -999.0,9,    16.2976,2,     -999.0,     -999.0,9,     -999.0
320620170820,        P06,     208,          1,         33,         33,2,20170916,       2146,   -32.4999,   -97.9953,       2748,    34.5,  16.3763,  34.7890,2,  34.7628,2, 245.4199,2, 245.0853,2,     0.0,2,    0.33,2,    0.05,2,    0.18,2,   2.387,2,   1.392,2,   1.5910,2,  2048.0,2,  2292.2,2,   7.9479,2,    25.00, -999.00,9, -999.00,9, -999.00,    62.6,2,    4.50,2,     -999.0,1,  -999.0,9, 20170916,     2311, -32.4998, -97.9953,        0.0,1,      0.166,1,      4.602,1,      0.206,1,     -999.0,9,     -999.0,9,     -999.0,9,     -999.0,9,     -999.0,9,     -999.0,9,     -999.0,9,     -999.0,9,     -999.0,9,     -999.0,9,     -999.0,9,    16.3004,2,     -999.0,     -999.0,9,     -999.0
320620170820,        P06,     208,          1,         34,         34,2,20170916,       2146,   -32.4999,   -97.9953,       2748,    13.1,  16.3548,  34.7778,2,  34.7539,2, 245.4324,2, 245.3635,2,     0.0,2,    0.36,2,    0.05,2,    0.20,2,   2.318,2,   1.392,2,   1.5690,2,  2046.9,6,  2292.4,2,   7.9476,2,    25.00,    1.13,2,   42.42,2,    4.27,    65.1,2,    5.20,2,     -999.0,1,  -999.0,9, 20170916,     2313, -32.4999, -97.9953,        0.0,1,      0.127,1,      4.602,1,      0.203,1,     -999.0,9,     -999.0,9,     -999.0,9,     -999.0,9,     -999.0,9,     -999.0,9,     -999.0,9,     -999.0,9,     -999.0,9,     -999.0,9,     -999.0,9,    16.2566,2,     -999.0,     -999.0,9,     -999.0