BOTTLE,20240211CCHSIOCBG
EXPOCODE,SECT_ID,STNNBR,CASTNO,SAMPNO,BTLNBR,BTLNBR_FLAG_W,DATE,TIME,LATITUDE,LONGITUDE,DEPTH,CTDPRS,CTDTMP,CTDSAL,CTDSAL_FLAG_W,SALNTY,SALNTY_FLAG_W,CTDOXY,CTDOXY_FLAG_W,OXYGEN,OXYGEN_FLAG_W,SILCAT,SILCAT_FLAG_W,NITRAT,NITRAT_FLAG_W,NITRIT,NITRIT_FLAG_W,PHSPHT,PHSPHT_FLAG_W,CFC-11,CFC-11_FLAG_W,CFC-12,CFC-12_FLAG_W,SF6,SF6_FLAG_W,TCARBN,TCARBN_FLAG_W,ALKALI,ALKALI_FLAG_W,PH_TOT,PH_TOT_FLAG_W,PH_TMP,DELC13,DELC13_FLAG_W,DELC14,DELC14_FLAG_W,C14ERR,DOC,DOC_FLAG_W,TDN,TDN_FLAG_W,TON,TON_FLAG_W,D15N_NO3,D15N_NO3_FLAG_W,BTL_DATE,BTL_TIME,BTL_LAT,BTL_LON,CTDRINKO,CTDRINKO_FLAG_W,CTDFLUOR,CTDFLUOR_FLAG_W,CTDXMISS,CTDXMISS_FLAG_W,CTDBACKSCATTER,CTDBACKSCATTER_FLAG_W,D18O_NO3,D18O_NO3_FLAG_W,DOP,DOP_FLAG_W,CELLCOUNT,CELLCOUNT_FLAG_W,TDP,TDP_FLAG_W,POP,POP_FLAG_W,DATP,DATP_FLAG_W,PATP,PATP_FLAG_W,HPLC,HPLC_FLAG_W,POC,POC_FLAG_W,BEAMAP,BEAMAP_FLAG_W,DOC_NASA,DOC_NASA_FLAG_W,REFTMP,REFTMP_FLAG_W,DOC_NASA_ERROR,TDN_NASA,TDN_NASA_FLAG_W,TDN_NASA_ERROR
,,,,,,,,,,,METERS,DBAR,ITS-90,PSS-78,,PSS-78,,UMOL/KG,,UMOL/KG,,UMOL/KG,,UMOL/KG,,UMOL/KG,,UMOL/KG,,PMOL/KG,,PMOL/KG,,FMOL/KG,,UMOL/KG,,UMOL/KG,,,,DEG C,/MILLE,,/MILLE,,/MILLE,UMOL/KG,,UMOL/KG,,UMOL/KG,,/MILLE,,,,,,VOLTS,,VOLTS,,VOLTS,,VOLTS,,/MILLE,,UMOL/KG,,/LITER,,UMOL/KG,,UMOL/L,,PMOL/L,,PMOL/L,,,,UG/L,,/METER,,UMOL/L,,ITS-90,,UMOL/L,UMOL/L,,UMOL/L
320620170820,        P06,     206,          1,         27,         27,2,20170916,       0544,   -32.5001,   -99.7751,       3732,   286.8,  10.2789,  34.3342,2,  34.3193,2, 217.5517,2, 217.4563,2,     1.9,2,   15.76,2,    0.00,2,    1.12,2,   3.292,2,   1.821,2,   1.2270,2,  -999.0,9,  -999.0,9,-999.0000,9,  -999.00, -999.00,9, -999.00,9, -999.00,  -999.0,9, -999.00,9,     -999.0,9,  -999.0,9, 20170916,      717, -32.5001, -99.7750,        0.0,1,      0.060,1,      4.681,1,      0.131,1,     -999.0,9,     -999.0,9,     -999.0,9,     -999.0,9,     -999.0,9,     -999.0,9,     -999.0,9,     -999.0,9,     -999.0,9,     -999.0,9,     -999.0,9,    10.1950,2,     -999.0,     -999.0,9,     -999.0
320620170820,        P06,     206,          1,         28,         28,2,20170916,       0544,   -32.5001,   -99.7751,       3732,   234.6,  12.4451,  34.4765,2,  34.4581,2, 216.1346,2, 216.0374,2,     0.6,2,   10.48,2,    0.02,2,    0.78,2,   2.954,2,   1.684,2,   1.3380,2,  2102.7,2,  2274.3,2,   7.8045,2,    25.00, -999.00,9, -999.00,9, -999.00,    45.8,2,   12.90,2,     -999.0,1,  -999.0,9, 20170916,      719, -32.5001, -99.7750,        0.0,1,      0.066,1,      4.676,1,      0.134,1,     -999.0,9,     -999.0,9,     -999.0,9,     -999.0,9,     -999.0,9,     -999.0,9,     -999.0,9,     -999.0,9,     -999.0,9,     -999.0,9,     -999.0,9,    12.2626,2,     -999.0,     -999.0,9,     -999.0
320620170820,        P06,     206,          1,         29,         29,2,20170916,       0544,   -32.5001,   -99.7751,       3732,   184.6,  13.9085,  34.5271,2,  34.5429,2, 224.6547,2, 224.5276,2,     0.1,2,    5.22,2,    0.07,2,    0.48,2,   2.632,2,   1.553,2,   1.4250,2,  2079.6,2,  2278.4,2,   7.8637,2,    25.00, -999.00,9, -999.00,9, -999.00,    49.0,2,    7.70,2,     -999.0,1,  -999.0,9, 20170916,      721, -32.5001, -99.7751,        0.0,1,      0.083,1,      4.671,1,      0.138,1,     -999.0,9,     -999.0,9,     -999.0,9,     -999.0,9,     -999.0,9,     -999.0,9,     -999.0,9,     -999.0,9,     -999.0,9,     -999.0,9,     -999.0,9,    14.0295,2,     -999.0,     -999.0,9,     -999.0
320620170820,        P06,     206,          1,         30,         30,2,20170916,       0544,   -32.5001,   -99.7751,       3732,   139.2,  15.5752,  34.7270,2,  34.8465,2, 238.5395,2, 238.5004,2,     0.0,2,    0.35,2,    0.14,2,    0.17,2,   2.339,2,   1.378,2,   1.3790,2,  2056.0,2,  2297.7,2,   7.9442,2,    25.00, -999.00,9, -999.00,9, -999.00,    60.5,2,    4.70,2,     -999.0,1,  -999.0,9, 20170916,      722, -32.5001, -99.7751,        0.0,1,      0.120,1,      4.659,1,      0.150,1,     -999.0,9,     -999.0,9,     -999.0,9,     -999.0,9,     -999.0,9,     -999.0,9,     -999.0,9,     -999.0,9,     -999.0,9,     -999.0,9,     -999.0,9,    16.4280,2,     -999.0,     -999.0,9,     -999.0
320620170820,        P06,     206,          1,         31,         31,2,20170916,       0544,   -32.5001,   -99.7751,       3732,   114.2,  16.6913,  34.8717,2,  34.8611,2, 242.0354,2, 242.9556,2,     0.0,2,    0.09,2,    0.03,2,    0.13,2,   2.245,2,   1.351,2,   1.3970,2,  2049.8,2,  2297.9,2,   7.9558,2,    25.00, -999.00,9, -999.00,9, -999.00,    64.5,2,    4.40,2,     -999.0,1,  -999.0,9, 20170916,      724, -32.5001, -99.7752,        0.0,1,      0.159,1,      4.638,1,      0.185,1,     -999.0,9,     -999.0,9,     -999.0,9,     -999.0,9,     -999.0,9,     -999.0,9,     -999.0,9,     -999.0,9,     -999.0,9,     -999.0,9,     -999.0,9,    16.6500,2,     -999.0,     -999.0,9,     -999.0
320620170820,        P06,     206,          1,         32,         32,2,20170916,       0544,   -32.5001,   -99.7751,       3732,    88.8,  16.9120,  34.9175,2,  34.8674,2, 242.0343,2,  243.146,2,     0.0,2,    0.07,2,    0.03,2,    0.13,2,   2.313,2,   1.365,2,   1.5160,2,  2049.8,2,  2298.8,2,   7.9557,2,    25.00, -999.00,9, -999.00,9, -999.00,    61.8,2,    4.10,2,     -999.0,1,  -999.0,9, 20170916,      725, -32.5001, -99.7753,        0.0,1,      0.184,1,      4.625,1,      0.200,1,     -999.0,9,     -999.0,9,     -999.0,9,     -999.0,9,     -999.0,9,     -999.0,9,     -999.0,9,     -999.0,9,     -999.0,9,     -999.0,9,     -999.0,9,    16.6686,2,     -999.0,     -999.0,9,     -999.0
320620170820,        P06,     206,          1,         33,         33,2,20170916,       0544,   -32.5001,   -99.7751,       3732,    63.8,  17.0191,  34.9313,2,  34.8989,2, 243.1717,2, 242.3669,2,     0.0,2,    0.04,2,    0.02,2,    0.12,2,   2.290,2,   1.347,2,   1.5010,2,  2050.1,2,  2300.1,2,   7.9577,2,    25.00, -999.00,9, -999.00,9, -999.00,    61.8,2,    3.90,2,     -999.0,1,  -999.0,9, 20170916,      727, -32.5001, -99.7753,        0.0,1,      0.179,1,      4.616,1,      0.201,1,     -999.0,9,     -999.0,9,     -999.0,9,     -999.0,9,     -999.0,9,     -999.0,9,     -999.0,9,     -999.0,9,     -999.0,9,     -999.0,9,     -999.0,9,    16.8233,2,     -999.0,     -999.0,9,     -999.0
320620170820,        P06,     206,          1,         34,         34,2,20170916,       0544,   -32.5001,   -99.7751,       3732,    38.7,  17.0177,  34.9268,2,  34.9219,2, 243.4354,2, 242.7189,2,     0.0,2,    0.04,2,    0.00,2,    0.11,2,   2.286,2,   1.342,2,   1.3830,2,  -999.0,9,  -999.0,9,-999.0000,9,  -999.00, -999.00,9, -999.00,9, -999.00,  -999.0,9, -999.00,9,     -999.0,9,  -999.0,9, 20170916,      728, -32.5001, -99.7753,        0.0,1,      0.178,1,      4.609,1,      0.206,1,     -999.0,9,     -999.0,9,     -999.0,9,     -999.0,9,     -999.0,9,     -999.0,9,     -999.0,9,     -999.0,9,     -999.0,9,     -999.0,9,     -999.0,9,    16.9902,2,     -999.0,     -999.0,9,     -999.0
320620170820,        P06,     206,          1,         35,         35,2,20170916,       0544,   -32.5001,   -99.7751,       3732,    19.1,  17.0120,  34.9256,2,  34.9219,2, 243.6436,2,  242.176,2,     0.0,2,    0.04,2,    0.00,2,    0.12,2,   2.216,2,   1.342,2,   1.3700,2,  2049.7,2,  2300.8,2,   7.9593,2,    25.00, -999.00,9, -999.00,9, -999.00,    60.9,2,    3.90,2,     -999.0,1,  -999.0,9, 20170916,      730, -32.5001, -99.7751,        0.0,1,      0.174,1,      4.609,1,      0.206,1,     -999.0,9,     -999.0,9,     -999.0,9,     -999.0,9,     -999.0,9,     -999.0,9,     -999.0,9,     -999.0,9,     -999.0,9,     -999.0,9,     -999.0,9,    16.9725,2,     -999.0,     -999.0,9,     -999.0
320620170820,        P06,     206,          1,         36,         36,2,20170916,       0544,   -32.5001,   -99.7751,       3732,     8.5,  17.0091,  34.9254,2,  34.9211,2, 243.4533,2, 242.0705,2,     0.0,2,    0.03,2,    0.00,2,    0.14,2,   2.266,2,   1.335,2,   1.4450,2,  2049.2,6,  2305.5,2,   7.9592,2,    25.00, -999.00,9, -999.00,9, -999.00,    63.1,2,    3.80,2,     -999.0,1,  -999.0,9, 20170916,      731, -32.5001, -99.7751,        0.0,1,      0.171,1,      4.609,1,      0.196,1,     -999.0,9,     -999.0,9,     -999.0,9,     -999.0,9,     -999.0,9,     -999.0,9,     -999.0,9,     -999.0,9,     -999.0,9,     -999.0,9,     -999.0,9,    16.9681,2,     -999.0,     -999.0,9,     -999.0