BOTTLE,20240211CCHSIOCBG
EXPOCODE,SECT_ID,STNNBR,CASTNO,SAMPNO,BTLNBR,BTLNBR_FLAG_W,DATE,TIME,LATITUDE,LONGITUDE,DEPTH,CTDPRS,CTDTMP,CTDSAL,CTDSAL_FLAG_W,SALNTY,SALNTY_FLAG_W,CTDOXY,CTDOXY_FLAG_W,OXYGEN,OXYGEN_FLAG_W,SILCAT,SILCAT_FLAG_W,NITRAT,NITRAT_FLAG_W,NITRIT,NITRIT_FLAG_W,PHSPHT,PHSPHT_FLAG_W,CFC-11,CFC-11_FLAG_W,CFC-12,CFC-12_FLAG_W,SF6,SF6_FLAG_W,TCARBN,TCARBN_FLAG_W,ALKALI,ALKALI_FLAG_W,PH_TOT,PH_TOT_FLAG_W,PH_TMP,DELC13,DELC13_FLAG_W,DELC14,DELC14_FLAG_W,C14ERR,DOC,DOC_FLAG_W,TDN,TDN_FLAG_W,TON,TON_FLAG_W,D15N_NO3,D15N_NO3_FLAG_W,BTL_DATE,BTL_TIME,BTL_LAT,BTL_LON,CTDRINKO,CTDRINKO_FLAG_W,CTDFLUOR,CTDFLUOR_FLAG_W,CTDXMISS,CTDXMISS_FLAG_W,CTDBACKSCATTER,CTDBACKSCATTER_FLAG_W,D18O_NO3,D18O_NO3_FLAG_W,DOP,DOP_FLAG_W,CELLCOUNT,CELLCOUNT_FLAG_W,TDP,TDP_FLAG_W,POP,POP_FLAG_W,DATP,DATP_FLAG_W,PATP,PATP_FLAG_W,HPLC,HPLC_FLAG_W,POC,POC_FLAG_W,BEAMAP,BEAMAP_FLAG_W,DOC_NASA,DOC_NASA_FLAG_W,REFTMP,REFTMP_FLAG_W,DOC_NASA_ERROR,TDN_NASA,TDN_NASA_FLAG_W,TDN_NASA_ERROR
,,,,,,,,,,,METERS,DBAR,ITS-90,PSS-78,,PSS-78,,UMOL/KG,,UMOL/KG,,UMOL/KG,,UMOL/KG,,UMOL/KG,,UMOL/KG,,PMOL/KG,,PMOL/KG,,FMOL/KG,,UMOL/KG,,UMOL/KG,,,,DEG C,/MILLE,,/MILLE,,/MILLE,UMOL/KG,,UMOL/KG,,UMOL/KG,,/MILLE,,,,,,VOLTS,,VOLTS,,VOLTS,,VOLTS,,/MILLE,,UMOL/KG,,/LITER,,UMOL/KG,,UMOL/L,,PMOL/L,,PMOL/L,,,,UG/L,,/METER,,UMOL/L,,ITS-90,,UMOL/L,UMOL/L,,UMOL/L
320620170820,        P06,     233,          1,         27,         27,2,20170925,       1124,   -32.4997,   -75.7455,       4315,   140.1,  13.0326,  34.1391,2,  34.1650,2, 231.0199,2, 235.8577,2,     0.6,2,    7.71,2,    0.14,2,    0.76,2,   2.848,2,   1.577,2,   1.1930,4,  2079.4,2,  2268.3,2,   7.8476,2,    25.00, -999.00,9, -999.00,9, -999.00,  -999.0,9, -999.00,9,     -999.0,9,  -999.0,1, 20170925,     1300, -32.4997, -75.7456,        0.0,1,      0.077,1,      4.651,1,      0.162,1,     -999.0,1,     -999.0,1,     -999.0,1,     -999.0,1,     -999.0,1,     -999.0,1,     -999.0,1,     -999.0,9,     -999.0,9,     -999.0,9,     -999.0,9,    13.4823,2,     -999.0,     -999.0,9,     -999.0
320620170820,        P06,     233,          1,         28,         28,2,20170925,       1124,   -32.4997,   -75.7455,       4315,   113.6,  14.1116,  34.2739,2,  34.2640,2, 252.2035,2, 254.0756,2,     0.1,2,    3.09,2,    0.12,2,    0.50,2,   2.743,2,   1.497,2,   1.1630,4,  2059.6,2,  2278.7,2,   7.9046,2,    25.00, -999.00,9, -999.00,9, -999.00,  -999.0,9, -999.00,9,     -999.0,9,  -999.0,1, 20170925,     1301, -32.4998, -75.7455,        0.0,1,      0.141,1,      4.627,1,      0.193,1,     -999.0,1,     -999.0,1,     -999.0,9,       0.61,2,     -999.0,9,     -999.0,9,     -999.0,9,     -999.0,9,     -999.0,9,     -999.0,9,     -999.0,9,    14.1308,2,     -999.0,     -999.0,9,     -999.0
320620170820,        P06,     233,          1,         29,         29,2,20170925,       1124,   -32.4997,   -75.7455,       4315,    89.7,  14.2507,  34.2912,2,  34.3223,2, 255.6458,2, 254.8739,2,     0.0,2,    2.62,2,    0.11,2,    0.49,2,   2.708,2,   1.462,2,   1.0970,4,  2059.4,2,  2279.6,2,   7.9103,2,    25.00, -999.00,9, -999.00,9, -999.00,  -999.0,9, -999.00,9,     -999.0,9,  -999.0,1, 20170925,     1303, -32.4998, -75.7457,        0.0,1,      0.169,1,      4.609,1,      0.200,1,     -999.0,1,     -999.0,1,     -999.0,1,       0.61,2,     -999.0,1,     -999.0,1,     -999.0,1,     -999.0,9,     -999.0,9,     -999.0,9,     -999.0,9,    14.4271,2,     -999.0,     -999.0,9,     -999.0
320620170820,        P06,     233,          1,         30,         30,2,20170925,       1124,   -32.4997,   -75.7455,       4315,    74.9,  14.2820,  34.2948,2,  34.3250,2,  256.035,2, 253.8539,2,     0.0,2,    2.59,2,    0.12,2,    0.48,2,   2.690,2,   1.532,2,   1.1610,4,  2059.2,2,  2280.9,2,   7.9105,2,    25.00, -999.00,9, -999.00,9, -999.00,  -999.0,9, -999.00,9,     -999.0,9,  -999.0,1, 20170925,     1304, -32.4998, -75.7457,        0.0,1,      0.230,1,      4.581,1,      0.226,1,     -999.0,1,     -999.0,1,     -999.0,1,        0.6,2,     -999.0,1,     -999.0,1,     -999.0,1,     -999.0,9,     -999.0,9,     -999.0,9,     -999.0,9,    14.4572,2,     -999.0,     -999.0,9,     -999.0
320620170820,        P06,     233,          1,         32,         32,2,20170925,       1124,   -32.4997,   -75.7455,       4315,    74.8,  14.2820,  34.2948,2,-999.0000,9, 245.7545,2,-999.0000,9,  -999.0,9, -999.00,9, -999.00,9, -999.00,9,-999.000,9,-999.000,9,-999.0000,9,  -999.0,9,  -999.0,9,-999.0000,9,  -999.00, -999.00,9, -999.00,9, -999.00,  -999.0,9, -999.00,9,     -999.0,9,  -999.0,9, 20170925,     1305, -32.4998, -75.7457,        0.0,1,      0.230,1,      4.581,1,      0.226,1,     -999.0,9,     -999.0,9,     -999.0,9,     -999.0,9,     -999.0,9,     -999.0,9,     -999.0,9,     -999.0,1,     -999.0,1,     -999.0,1,73.11775154,6,    14.4695,2,4.427939527,91.09964886,6, 0.69209819
320620170820,        P06,     233,          1,         31,         31,2,20170925,       1124,   -32.4997,   -75.7455,       4315,    74.7,  14.2820,  34.2948,2,-999.0000,9, 246.1567,2,-999.0000,9,  -999.0,9, -999.00,9, -999.00,9, -999.00,9,-999.000,9,-999.000,9,-999.0000,9,  -999.0,9,  -999.0,9,-999.0000,9,  -999.00, -999.00,9, -999.00,9, -999.00,  -999.0,9, -999.00,9,     -999.0,9,  -999.0,9, 20170925,     1305, -32.4998, -75.7457,        0.0,1,      0.230,1,      4.581,1,      0.226,1,     -999.0,9,     -999.0,9,     -999.0,9,     -999.0,9,     -999.0,9,     -999.0,9,     -999.0,9,     -999.0,1,     -999.0,1,     -999.0,1,73.11775154,6,     -999.0,5,4.427939527,91.09964886,6, 0.69209819
320620170820,        P06,     233,          1,         33,         33,2,20170925,       1124,   -32.4997,   -75.7455,       4315,    39.9,  14.3635,  34.3061,2,  34.3305,2, 256.7141,2, 253.4266,2,     0.1,2,    2.56,2,    0.12,2,    0.48,2,   2.676,2,   1.539,2,   1.2540,4,  2059.6,2,  2279.9,2,   7.9106,2,    25.00, -999.00,9, -999.00,9, -999.00,  -999.0,9, -999.00,9,     -999.0,9,  -999.0,1, 20170925,     1307, -32.4998, -75.7456,        0.0,1,      0.221,1,      4.568,1,      0.243,1,     -999.0,1,     -999.0,1,     -999.0,1,       0.65,2,     -999.0,1,     -999.0,1,     -999.0,1,     -999.0,9,     -999.0,9,     -999.0,9,     -999.0,9,    14.4741,2,     -999.0,     -999.0,9,     -999.0
320620170820,        P06,     233,          1,         34,         34,2,20170925,       1124,   -32.4997,   -75.7455,       4315,    25.0,  14.3626,  34.3061,2,  34.3364,2, 255.7159,2, 253.5215,2,     0.0,2,    2.53,2,    0.12,2,    0.49,2,   2.686,2,   1.591,2,   1.0980,4,  2059.5,6,  2283.6,2,   7.9115,2,    25.00, -999.00,9, -999.00,9, -999.00,  -999.0,9, -999.00,9,     -999.0,9,  -999.0,1, 20170925,     1308, -32.4997, -75.7455,        0.0,1,      0.217,1,      4.571,1,      0.233,1,     -999.0,1,     -999.0,1,     -999.0,1,       0.61,2,     -999.0,1,     -999.0,1,     -999.0,1,     -999.0,9,     -999.0,9,     -999.0,9,     -999.0,9,    14.4920,2,     -999.0,     -999.0,9,     -999.0
320620170820,        P06,     233,          1,         35,         35,2,20170925,       1124,   -32.4997,   -75.7455,       4315,    24.2,  14.3626,  34.3061,2,-999.0000,9, 246.1062,2,-999.0000,9,  -999.0,9, -999.00,9, -999.00,9, -999.00,9,-999.000,9,-999.000,9,-999.0000,9,  -999.0,9,  -999.0,9,-999.0000,9,  -999.00, -999.00,9, -999.00,9, -999.00,  -999.0,9, -999.00,9,     -999.0,9,  -999.0,9, 20170925,     1308, -32.4997, -75.7455,        0.0,1,      0.217,1,      4.571,1,      0.233,1,     -999.0,9,     -999.0,9,     -999.0,9,     -999.0,9,     -999.0,9,     -999.0,9,     -999.0,9,     -999.0,1,     -999.0,1,     -999.0,1,73.77759293,2,     -999.0,5,-83.18068276,125.5374418,2,     -999.0
320620170820,        P06,     233,          1,         36,         36,4,20170925,       1124,   -32.4997,   -75.7455,       4315,     3.1,  14.3624,  34.3062,3,  34.5137,3, 238.0456,4, 127.2203,2,  -999.0,9, -999.00,9, -999.00,9, -999.00,9,-999.000,9,-999.000,9,-999.0000,9,  -999.0,9,  -999.0,9,-999.0000,9,  -999.00, -999.00,9, -999.00,9, -999.00,  -999.0,9, -999.00,9,     -999.0,9,  -999.0,1, 20170925,     1310, -32.4997, -75.7455,        0.0,1,      0.213,1,      4.568,1,      0.224,1,     -999.0,1,     -999.0,9,     -999.0,9,     -999.0,9,     -999.0,9,     -999.0,9,     -999.0,9,     -999.0,9,     -999.0,9,     -999.0,9,     -999.0,9,    14.3322,3,     -999.0,     -999.0,9,     -999.0