BOTTLE,20240211CCHSIOCBG
EXPOCODE,SECT_ID,STNNBR,CASTNO,SAMPNO,BTLNBR,BTLNBR_FLAG_W,DATE,TIME,LATITUDE,LONGITUDE,DEPTH,CTDPRS,CTDTMP,CTDSAL,CTDSAL_FLAG_W,SALNTY,SALNTY_FLAG_W,CTDOXY,CTDOXY_FLAG_W,OXYGEN,OXYGEN_FLAG_W,SILCAT,SILCAT_FLAG_W,NITRAT,NITRAT_FLAG_W,NITRIT,NITRIT_FLAG_W,PHSPHT,PHSPHT_FLAG_W,CFC-11,CFC-11_FLAG_W,CFC-12,CFC-12_FLAG_W,SF6,SF6_FLAG_W,TCARBN,TCARBN_FLAG_W,ALKALI,ALKALI_FLAG_W,PH_TOT,PH_TOT_FLAG_W,PH_TMP,DELC13,DELC13_FLAG_W,DELC14,DELC14_FLAG_W,C14ERR,DOC,DOC_FLAG_W,TDN,TDN_FLAG_W,TON,TON_FLAG_W,D15N_NO3,D15N_NO3_FLAG_W,BTL_DATE,BTL_TIME,BTL_LAT,BTL_LON,CTDRINKO,CTDRINKO_FLAG_W,CTDFLUOR,CTDFLUOR_FLAG_W,CTDXMISS,CTDXMISS_FLAG_W,CTDBACKSCATTER,CTDBACKSCATTER_FLAG_W,D18O_NO3,D18O_NO3_FLAG_W,DOP,DOP_FLAG_W,CELLCOUNT,CELLCOUNT_FLAG_W,TDP,TDP_FLAG_W,POP,POP_FLAG_W,DATP,DATP_FLAG_W,PATP,PATP_FLAG_W,HPLC,HPLC_FLAG_W,POC,POC_FLAG_W,BEAMAP,BEAMAP_FLAG_W,DOC_NASA,DOC_NASA_FLAG_W,REFTMP,REFTMP_FLAG_W,DOC_NASA_ERROR,TDN_NASA,TDN_NASA_FLAG_W,TDN_NASA_ERROR
,,,,,,,,,,,METERS,DBAR,ITS-90,PSS-78,,PSS-78,,UMOL/KG,,UMOL/KG,,UMOL/KG,,UMOL/KG,,UMOL/KG,,UMOL/KG,,PMOL/KG,,PMOL/KG,,FMOL/KG,,UMOL/KG,,UMOL/KG,,,,DEG C,/MILLE,,/MILLE,,/MILLE,UMOL/KG,,UMOL/KG,,UMOL/KG,,/MILLE,,,,,,VOLTS,,VOLTS,,VOLTS,,VOLTS,,/MILLE,,UMOL/KG,,/LITER,,UMOL/KG,,UMOL/L,,PMOL/L,,PMOL/L,,,,UG/L,,/METER,,UMOL/L,,ITS-90,,UMOL/L,UMOL/L,,UMOL/L
320620170820,        P06,     202,          1,          1,          1,2,20170915,       0030,   -32.5000,  -102.7355,       3688,  3737.5,   1.8092,  34.6902,2,  34.6916,2, 167.2585,2,  167.214,2,   117.9,2,   34.30,2,    0.00,2,    2.36,2,   0.035,2,   0.021,2,   0.0000,2,  2296.7,6,  2390.0,2,   7.5922,2,    25.00, -999.00,9, -999.00,9, -999.00,    37.3,2, -999.00,9,     -999.0,1,  -999.0,9, 20170915,       30, -32.4999,-102.7356,        0.0,1,      0.061,1,      4.686,1,      0.131,1,     -999.0,9,     -999.0,9,     -999.0,9,     -999.0,9,     -999.0,9,     -999.0,9,     -999.0,9,     -999.0,9,     -999.0,9,     -999.0,9,     -999.0,9,     1.8098,2,     -999.0,     -999.0,9,     -999.0
320620170820,        P06,     202,          1,          2,          2,2,20170915,       0030,   -32.5000,  -102.7355,       3688,  3594.9,   1.7947,  34.6902,2,  34.6905,2, 167.2585,2, 167.0947,2,   118.0,2,   34.27,2,    0.00,2,    2.38,2,   0.040,2,   0.028,2,   0.0000,2,  2297.7,2,  2390.5,2,   7.5936,2,    25.00, -999.00,9, -999.00,9, -999.00,  -999.0,9, -999.00,9,     -999.0,9,  -999.0,9, 20170915,       34, -32.5000,-102.7354,        0.0,1,      0.060,1,      4.686,1,      0.131,1,     -999.0,9,     -999.0,9,     -999.0,9,     -999.0,9,     -999.0,9,     -999.0,9,     -999.0,9,     -999.0,9,     -999.0,9,     -999.0,9,     -999.0,9,     1.7951,2,     -999.0,     -999.0,9,     -999.0
320620170820,        P06,     202,          1,          3,          3,2,20170915,       0030,   -32.5000,  -102.7355,       3688,  3452.8,   1.7806,  34.6902,2,  34.6908,2, 167.2585,2, 167.1758,2,   118.2,2,   34.26,2,    0.00,2,    2.38,2,   0.036,2,   0.026,2,   0.0000,2,  2297.1,2,  2390.6,2,   7.5916,2,    25.00, -999.00,9, -999.00,9, -999.00,    35.8,2, -999.00,9,     -999.0,1,  -999.0,9, 20170915,       38, -32.4999,-102.7355,        0.0,1,      0.061,1,      4.687,1,      0.130,1,     -999.0,9,     -999.0,9,     -999.0,9,     -999.0,9,     -999.0,9,     -999.0,9,     -999.0,9,     -999.0,9,     -999.0,9,     -999.0,9,     -999.0,9,     1.7810,2,     -999.0,     -999.0,9,     -999.0
320620170820,        P06,     202,          1,          4,          4,2,20170915,       0030,   -32.5000,  -102.7355,       3688,  3145.8,   1.7581,  34.6892,2,  34.6893,2, 167.2585,2, 167.4138,2,   117.8,2,   34.23,2,    0.00,2,    2.38,2,-999.000,9,-999.000,9,-999.0000,9,  2294.8,2,  2388.7,2,   7.5924,2,    25.00, -999.00,9, -999.00,9, -999.00,  -999.0,9, -999.00,9,     -999.0,9,  -999.0,9, 20170915,       44, -32.5000,-102.7354,        0.0,1,      0.061,1,      4.689,1,      0.126,1,     -999.0,9,     -999.0,9,     -999.0,9,     -999.0,9,     -999.0,9,     -999.0,9,     -999.0,9,     -999.0,9,     -999.0,9,     -999.0,9,     -999.0,9,     1.7585,2,     -999.0,     -999.0,9,     -999.0
320620170820,        P06,     202,          1,          5,          5,2,20170915,       0030,   -32.5000,  -102.7355,       3688,  2905.0,   1.7537,  34.6873,2,  34.6879,2, 167.0917,2, 167.3347,2,   117.6,2,   34.23,2,    0.00,2,    2.37,2,   0.036,2,   0.024,2,   0.0000,2,  2295.0,2,  2388.8,2,   7.5901,2,    25.00, -999.00,9, -999.00,9, -999.00,    35.8,2, -999.00,9,     -999.0,1,  -999.0,9, 20170915,       49, -32.4999,-102.7355,        0.0,1,      0.061,1,      4.689,1,      0.127,1,     -999.0,9,     -999.0,9,     -999.0,9,     -999.0,9,     -999.0,9,     -999.0,9,     -999.0,9,     -999.0,9,     -999.0,9,     -999.0,9,     -999.0,9,     1.7515,2,     -999.0,     -999.0,9,     -999.0
320620170820,        P06,     202,          1,          6,          6,2,20170915,       0030,   -32.5000,  -102.7355,       3688,  2701.5,   1.7721,  34.6840,2,  34.6824,2, 166.6346,2, 166.4119,2,   116.9,2,   34.26,2,    0.00,2,    2.36,2,-999.000,9,-999.000,9,-999.0000,9,  2293.9,2,  2387.9,2,   7.5874,2,    25.00, -999.00,9, -999.00,9, -999.00,    35.2,2, -999.00,9,     -999.0,1,  -999.0,9, 20170915,       54, -32.5000,-102.7354,        0.0,1,      0.061,1,      4.690,1,      0.127,1,     -999.0,9,     -999.0,9,     -999.0,9,     -999.0,9,     -999.0,9,     -999.0,9,     -999.0,9,     -999.0,9,     -999.0,9,     -999.0,9,     -999.0,9,     1.7685,2,     -999.0,     -999.0,9,     -999.0
320620170820,        P06,     202,          1,          7,          7,2,20170915,       0030,   -32.5000,  -102.7355,       3688,  2495.8,   1.8341,  34.6772,2,  34.6765,2,  164.361,2, 163.7899,2,   115.2,2,   34.43,2,    0.00,2,    2.38,2,   0.036,2,   0.026,2,   0.0000,2,  2294.5,2,  2383.5,6,   7.5815,2,    25.00, -999.00,9, -999.00,9, -999.00,    34.7,2, -999.00,9,     -999.0,1,  -999.0,9, 20170915,       58, -32.5000,-102.7354,        0.0,1,      0.062,1,      4.689,1,      0.126,1,     -999.0,9,     -999.0,9,     -999.0,9,     -999.0,9,     -999.0,9,     -999.0,9,     -999.0,9,     -999.0,9,     -999.0,9,     -999.0,9,     -999.0,9,     1.8310,2,     -999.0,     -999.0,9,     -999.0
320620170820,        P06,     202,          1,          8,          8,2,20170915,       0030,   -32.5000,  -102.7355,       3688,  2293.3,   1.9245,  34.6658,2,  34.6667,2, 160.7514,2, 161.1715,2,   112.9,2,   34.64,2,    0.00,2,    2.41,2,-999.000,9,-999.000,9,-999.0000,9,  2294.0,2,  2382.9,2,   7.5767,2,    25.00, -999.00,9, -999.00,9, -999.00,  -999.0,9, -999.00,9,     -999.0,9,  -999.0,9, 20170915,      103, -32.4999,-102.7355,        0.0,1,      0.061,1,      4.689,1,      0.128,1,     -999.0,9,     -999.0,9,     -999.0,9,     -999.0,9,     -999.0,9,     -999.0,9,     -999.0,9,     -999.0,9,     -999.0,9,     -999.0,9,     -999.0,9,     1.9146,2,     -999.0,     -999.0,9,     -999.0
320620170820,        P06,     202,          1,          9,          9,2,20170915,       0030,   -32.5000,  -102.7355,       3688,  2091.3,   2.0934,  34.6439,2,  34.6460,2,  153.761,2, 154.0452,2,   110.1,2,   35.21,2,    0.00,2,    2.46,2,   0.038,2,   0.027,2,   0.0000,2,  2295.1,2,  2381.2,2,   7.5667,2,    25.00, -999.00,9, -999.00,9, -999.00,    37.0,2, -999.00,9,     -999.0,1,  -999.0,9, 20170915,      108, -32.5000,-102.7353,        0.0,1,      0.061,1,      4.689,1,      0.134,1,     -999.0,9,     -999.0,9,     -999.0,9,     -999.0,9,     -999.0,9,     -999.0,9,     -999.0,9,     -999.0,9,     -999.0,9,     -999.0,9,     -999.0,9,     2.0745,2,     -999.0,     -999.0,9,     -999.0
320620170820,        P06,     202,          1,         10,         10,2,20170915,       0030,   -32.5000,  -102.7355,       3688,  1886.3,   2.3212,  34.6169,2,  34.6174,2, 145.9551,2, 145.7637,2,   105.0,2,   35.96,2,    0.00,2,    2.52,2,   0.036,2,   0.023,2,   0.0000,2,  2295.6,2,  2376.3,2,   7.5534,2,    25.00, -999.00,9, -999.00,9, -999.00,  -999.0,9, -999.00,9,     -999.0,9,  -999.0,9, 20170915,      112, -32.4999,-102.7355,        0.0,1,      0.062,1,      4.689,1,      0.130,1,     -999.0,9,     -999.0,9,     -999.0,9,     -999.0,9,     -999.0,9,     -999.0,9,     -999.0,9,     -999.0,9,     -999.0,9,     -999.0,9,     -999.0,9,     2.3037,2,     -999.0,     -999.0,9,     -999.0
320620170820,        P06,     202,          1,         11,         11,2,20170915,       0030,   -32.5000,  -102.7355,       3688,  1784.0,   2.4516,  34.6013,2,  34.6058,2, 143.7728,2, 145.0131,2,   102.0,2,   36.06,2,    0.00,2,    2.52,2,   0.038,2,   0.028,2,   0.0000,2,  2293.3,2,  2369.2,2,   7.5506,2,    25.00, -999.00,9, -999.00,9, -999.00,    35.0,2, -999.00,9,     -999.0,1,  -999.0,9, 20170915,      115, -32.5000,-102.7353,        0.0,1,      0.061,1,      4.689,1,      0.130,1,     -999.0,9,     -999.0,9,     -999.0,9,     -999.0,9,     -999.0,9,     -999.0,9,     -999.0,9,     -999.0,9,     -999.0,9,     -999.0,9,     -999.0,9,     2.3985,2,     -999.0,     -999.0,9,     -999.0
320620170820,        P06,     202,          1,         12,         12,2,20170915,       0030,   -32.5000,  -102.7355,       3688,  1682.7,   2.5895,  34.5881,2,  34.5895,2, 138.7117,2, 138.9517,2,    98.9,2,   36.59,2,    0.00,2,    2.55,2,   0.038,2,   0.027,2,   0.0000,2,  2292.9,2,  2367.4,2,   7.5401,2,    25.00, -999.00,9, -999.00,9, -999.00,  -999.0,9, -999.00,9,     -999.0,9,  -999.0,9, 20170915,      118, -32.4999,-102.7354,        0.0,1,      0.062,1,      4.689,1,      0.133,1,     -999.0,9,     -999.0,9,     -999.0,9,     -999.0,9,     -999.0,9,     -999.0,9,     -999.0,9,     -999.0,9,     -999.0,9,     -999.0,9,     -999.0,9,     2.5616,2,     -999.0,     -999.0,9,     -999.0
320620170820,        P06,     202,          1,         13,         13,2,20170915,       0030,   -32.5000,  -102.7355,       3688,  1582.0,   2.7836,  34.5706,2,  34.5734,2, 133.9246,2, 133.4219,2,    95.1,2,   37.13,2,    0.00,2,    2.60,2,   0.036,2,   0.022,2,   0.0000,2,  2292.5,2,  2364.9,2,   7.5308,2,    25.00, -999.00,9, -999.00,9, -999.00,    34.2,2, -999.00,9,     -999.0,1,  -999.0,9, 20170915,      121, -32.5000,-102.7354,        0.0,1,      0.061,1,      4.689,1,      0.131,1,     -999.0,9,     -999.0,9,     -999.0,9,     -999.0,9,     -999.0,9,     -999.0,9,     -999.0,9,     -999.0,9,     -999.0,9,     -999.0,9,     -999.0,9,     2.7347,2,     -999.0,     -999.0,9,     -999.0
320620170820,        P06,     202,          1,         14,         14,2,20170915,       0030,   -32.5000,  -102.7355,       3688,  1481.1,   2.9676,  34.5529,2,  34.5553,2, 127.9468,2, 127.5909,2,    90.7,2,   37.72,2,    0.00,2,    2.65,2,   0.034,2,   0.024,2,   0.0000,2,  2290.3,2,  2358.2,2,   7.5188,2,    25.00, -999.00,9, -999.00,9, -999.00,  -999.0,9, -999.00,9,     -999.0,9,  -999.0,9, 20170915,      124, -32.5000,-102.7354,        0.0,1,      0.061,1,      4.689,1,      0.131,1,     -999.0,9,     -999.0,9,     -999.0,9,     -999.0,9,     -999.0,9,     -999.0,9,     -999.0,9,     -999.0,9,     -999.0,9,     -999.0,9,     -999.0,9,     2.9329,2,     -999.0,     -999.0,9,     -999.0
320620170820,        P06,     202,          1,         15,         15,2,20170915,       0030,   -32.5000,  -102.7355,       3688,  1379.5,   3.1592,  34.5327,2,  34.5343,2,  124.499,2, 123.7639,2,    85.2,2,   38.07,2,    0.00,2,    2.66,2,   0.038,2,   0.024,2,   0.0000,2,  2288.9,6,  2354.1,2,   7.5102,2,    25.00, -999.00,9, -999.00,9, -999.00,    35.4,2, -999.00,9,     -999.0,1,  -999.0,9, 20170915,      127, -32.4998,-102.7356,        0.0,1,      0.062,1,      4.688,1,      0.134,1,     -999.0,9,     -999.0,9,     -999.0,9,     -999.0,9,     -999.0,9,     -999.0,9,     -999.0,9,     -999.0,9,     -999.0,9,     -999.0,9,     -999.0,9,     3.1378,2,     -999.0,     -999.0,9,     -999.0
320620170820,        P06,     202,          1,         16,         16,2,20170915,       0030,   -32.5000,  -102.7355,       3688,  1277.9,   3.3523,  34.4971,2,  34.4991,2, 123.7664,2, 123.4359,2,    76.4,2,   38.24,2,    0.00,2,    2.68,2,   0.044,2,   0.033,2,   0.0000,2,  2279.9,2,  2341.9,2,   7.5051,2,    25.00, -999.00,9, -999.00,9, -999.00,    33.5,3, -999.00,9,     -999.0,1,  -999.0,9, 20170915,      130, -32.4999,-102.7355,        0.0,1,      0.061,1,      4.688,1,      0.133,1,     -999.0,9,     -999.0,9,     -999.0,9,     -999.0,9,     -999.0,9,     -999.0,9,     -999.0,9,     -999.0,9,     -999.0,9,     -999.0,9,     -999.0,9,     3.3363,2,     -999.0,     -999.0,9,     -999.0
320620170820,        P06,     202,          1,         17,         17,2,20170915,       0030,   -32.5000,  -102.7355,       3688,  1177.4,   3.4954,  34.4448,2,  34.4438,2, 136.0375,2, 136.6767,2,    63.6,2,   37.47,2,    0.00,2,    2.58,2,   0.086,2,   0.054,2,   0.0090,2,  2262.6,2,  2326.8,2,   7.5154,6,    25.00, -999.00,9, -999.00,9, -999.00,  -999.0,9, -999.00,9,     -999.0,9,  -999.0,9, 20170915,      133, -32.4999,-102.7355,        0.0,1,      0.061,1,      4.688,1,      0.133,1,     -999.0,9,     -999.0,9,     -999.0,9,     -999.0,9,     -999.0,9,     -999.0,9,     -999.0,9,     -999.0,9,     -999.0,9,     -999.0,9,     -999.0,9,     3.4914,2,     -999.0,     -999.0,9,     -999.0
320620170820,        P06,     202,          1,         18,         18,2,20170915,       0030,   -32.5000,  -102.7355,       3688,  1074.4,   3.7574,  34.3684,2,  34.3737,2, 162.3963,2, 161.8875,2,    48.1,2,   35.46,2,    0.00,2,    2.43,2,   0.287,2,   0.165,2,   0.0530,2,  2233.0,2,  2309.0,2,   7.5514,2,    25.00, -999.00,9, -999.00,9, -999.00,    37.2,2, -999.00,9,     -999.0,1,  -999.0,9, 20170915,      136, -32.5000,-102.7353,        0.0,1,      0.061,1,      4.689,1,      0.134,1,     -999.0,9,     -999.0,9,     -999.0,9,     -999.0,9,     -999.0,9,     -999.0,9,     -999.0,9,     -999.0,9,     -999.0,9,     -999.0,9,     -999.0,9,     3.7278,2,     -999.0,     -999.0,9,     -999.0
320620170820,        P06,     202,          1,         19,         19,2,20170915,       0030,   -32.5000,  -102.7355,       3688,   974.4,   4.1515,  34.3196,2,  34.3203,2, 184.0135,2,  184.288,2,    35.4,2,   33.36,2,    0.00,2,    2.28,2,   0.780,2,   0.390,2,   0.0490,2,  2210.4,2,  2297.7,2,   7.5840,2,    25.00, -999.00,9, -999.00,9, -999.00,  -999.0,9, -999.00,9,     -999.0,9,  -999.0,9, 20170915,      138, -32.5000,-102.7354,        0.0,1,      0.060,1,      4.688,1,      0.131,1,     -999.0,9,     -999.0,9,     -999.0,9,     -999.0,9,     -999.0,9,     -999.0,9,     -999.0,9,     -999.0,9,     -999.0,9,     -999.0,9,     -999.0,9,     4.1111,2,     -999.0,     -999.0,9,     -999.0
320620170820,        P06,     202,          1,         20,         20,2,20170915,       0030,   -32.5000,  -102.7355,       3688,   873.9,   4.6733,  34.2838,2,  34.2836,2, 201.0149,2, 201.4247,2,    24.5,2,   31.14,2,    0.00,2,    2.11,2,   1.581,2,   0.778,2,   0.2440,2,  2189.2,2,  2287.6,2,   7.6123,2,    25.00, -999.00,9, -999.00,9, -999.00,    36.4,2, -999.00,9,     -999.0,1,  -999.0,9, 20170915,      141, -32.4999,-102.7356,        0.0,1,      0.060,1,      4.689,1,      0.133,1,     -999.0,9,     -999.0,9,     -999.0,9,     -999.0,9,     -999.0,9,     -999.0,9,     -999.0,9,     -999.0,9,     -999.0,9,     -999.0,9,     -999.0,9,     4.6445,2,     -999.0,     -999.0,9,     -999.0
320620170820,        P06,     202,          1,         21,         21,2,20170915,       0030,   -32.5000,  -102.7355,       3688,   772.0,   5.1108,  34.2618,2,  34.2609,2, 220.6919,2,  219.676,2,    17.0,2,   28.84,2,    0.00,2,    1.94,2,   2.486,2,   1.216,2,   0.4350,2,  2172.8,2,  2282.6,6,   7.6437,2,    25.00, -999.00,9, -999.00,9, -999.00,  -999.0,9, -999.00,9,     -999.0,9,  -999.0,9, 20170915,      144, -32.5000,-102.7354,        0.0,1,      0.059,1,      4.688,1,      0.137,1,     -999.0,9,     -999.0,9,     -999.0,9,     -999.0,9,     -999.0,9,     -999.0,9,     -999.0,9,     -999.0,9,     -999.0,9,     -999.0,9,     -999.0,9,     5.0760,2,     -999.0,     -999.0,9,     -999.0
320620170820,        P06,     202,          1,         22,         22,2,20170915,       0030,   -32.5000,  -102.7355,       3688,   671.7,   5.5486,  34.2605,2,  34.2603,2, 238.9218,2, 239.4403,2,    11.1,2,   25.96,2,    0.00,2,    1.73,2,   3.329,2,   1.673,2,   0.7100,2,  2155.8,2,  2276.7,2,   7.6783,2,    25.00, -999.00,9, -999.00,9, -999.00,    40.6,2, -999.00,9,     -999.0,1,  -999.0,9, 20170915,      147, -32.4999,-102.7356,        0.0,1,      0.059,1,      4.688,1,      0.131,1,     -999.0,9,     -999.0,9,     -999.0,9,     -999.0,9,     -999.0,9,     -999.0,9,     -999.0,9,     -999.0,9,     -999.0,9,     -999.0,9,     -999.0,9,     5.5861,2,     -999.0,     -999.0,9,     -999.0
320620170820,        P06,     202,          1,         23,         23,2,20170915,       0030,   -32.5000,  -102.7355,       3688,   540.2,   6.1790,  34.2852,2,  34.2856,2, 239.6576,2, 239.0446,2,     8.7,2,   24.53,2,    0.00,2,    1.65,2,   3.603,2,   1.911,2,   1.0850,2,  2154.3,6,  2272.3,2,   7.6816,6,    25.00, -999.00,9, -999.00,9, -999.00,    39.6,2, -999.00,9,     -999.0,1,  -999.0,9, 20170915,      150, -32.5000,-102.7354,        0.0,1,      0.059,1,      4.686,1,      0.134,1,     -999.0,9,     -999.0,9,     -999.0,9,     -999.0,9,     -999.0,9,     -999.0,9,     -999.0,9,     -999.0,9,     -999.0,9,     -999.0,9,     -999.0,9,     6.1791,2,     -999.0,     -999.0,9,     -999.0
320620170820,        P06,     202,          1,         24,         24,2,20170915,       0030,   -32.5000,  -102.7355,       3688,   468.9,   6.5933,  34.2998,2,  34.2976,2, 226.2714,3, 234.5387,2,     7.5,2,   23.85,2,    0.00,2,    1.62,2,   3.603,2,   1.955,2,   1.1820,2,  2153.0,2,  2272.9,2,   7.6773,2,    25.00, -999.00,9, -999.00,9, -999.00,    40.8,2,   25.30,2,     -999.0,1,  -999.0,9, 20170915,      153, -32.5000,-102.7354,        0.0,1,      0.059,1,      4.686,1,      0.136,1,     -999.0,9,     -999.0,9,     -999.0,9,     -999.0,9,     -999.0,9,     -999.0,9,     -999.0,9,     -999.0,9,     -999.0,9,     -999.0,9,     -999.0,9,     6.5927,2,     -999.0,     -999.0,9,     -999.0
320620170820,        P06,     202,          1,         25,         25,2,20170915,       0030,   -32.5000,  -102.7355,       3688,   417.5,   6.8873,  34.2804,2,  34.2793,2, 221.5587,2, 221.7297,2,     7.4,2,   24.32,2,    0.00,2,    1.65,2,   3.596,2,   1.925,2,   1.1490,2,  2158.2,2,  2268.2,2,   7.6607,2,    25.00, -999.00,9, -999.00,9, -999.00,    40.7,2,   25.80,2,     -999.0,1,  -999.0,9, 20170915,      155, -32.4999,-102.7356,        0.0,1,      0.061,1,      4.684,1,      0.135,1,     -999.0,9,     -999.0,9,     -999.0,9,     -999.0,9,     -999.0,9,     -999.0,9,     -999.0,9,     -999.0,9,     -999.0,9,     -999.0,9,     -999.0,9,     6.8431,2,     -999.0,     -999.0,9,     -999.0
320620170820,        P06,     202,          1,         26,         26,2,20170915,       0030,   -32.5000,  -102.7355,       3688,   367.1,   7.5003,  34.2416,2,  34.2387,2, 223.5446,2, 224.9487,2,     5.5,2,   22.57,2,    0.00,2,    1.56,2,   3.614,2,   1.982,2,   1.3770,2,  2149.2,2,  2266.6,2,   7.6759,2,    25.00, -999.00,9, -999.00,9, -999.00,    41.3,2,   23.50,2,     -999.0,1,  -999.0,9, 20170915,      157, -32.4998,-102.7359,        0.0,1,      0.060,1,      4.684,1,      0.133,1,     -999.0,9,     -999.0,9,     -999.0,9,     -999.0,9,     -999.0,9,     -999.0,9,     -999.0,9,     -999.0,9,     -999.0,9,     -999.0,9,     -999.0,9,     7.4457,2,     -999.0,     -999.0,9,     -999.0