BOTTLE,20240211CCHSIOCBG
EXPOCODE,SECT_ID,STNNBR,CASTNO,SAMPNO,BTLNBR,BTLNBR_FLAG_W,DATE,TIME,LATITUDE,LONGITUDE,DEPTH,CTDPRS,CTDTMP,CTDSAL,CTDSAL_FLAG_W,SALNTY,SALNTY_FLAG_W,CTDOXY,CTDOXY_FLAG_W,OXYGEN,OXYGEN_FLAG_W,SILCAT,SILCAT_FLAG_W,NITRAT,NITRAT_FLAG_W,NITRIT,NITRIT_FLAG_W,PHSPHT,PHSPHT_FLAG_W,CFC-11,CFC-11_FLAG_W,CFC-12,CFC-12_FLAG_W,SF6,SF6_FLAG_W,TCARBN,TCARBN_FLAG_W,ALKALI,ALKALI_FLAG_W,PH_TOT,PH_TOT_FLAG_W,PH_TMP,DELC13,DELC13_FLAG_W,DELC14,DELC14_FLAG_W,C14ERR,DOC,DOC_FLAG_W,TDN,TDN_FLAG_W,TON,TON_FLAG_W,D15N_NO3,D15N_NO3_FLAG_W,BTL_DATE,BTL_TIME,BTL_LAT,BTL_LON,CTDRINKO,CTDRINKO_FLAG_W,CTDFLUOR,CTDFLUOR_FLAG_W,CTDXMISS,CTDXMISS_FLAG_W,CTDBACKSCATTER,CTDBACKSCATTER_FLAG_W,D18O_NO3,D18O_NO3_FLAG_W,DOP,DOP_FLAG_W,CELLCOUNT,CELLCOUNT_FLAG_W,TDP,TDP_FLAG_W,POP,POP_FLAG_W,DATP,DATP_FLAG_W,PATP,PATP_FLAG_W,HPLC,HPLC_FLAG_W,POC,POC_FLAG_W,BEAMAP,BEAMAP_FLAG_W,DOC_NASA,DOC_NASA_FLAG_W,REFTMP,REFTMP_FLAG_W,DOC_NASA_ERROR,TDN_NASA,TDN_NASA_FLAG_W,TDN_NASA_ERROR
,,,,,,,,,,,METERS,DBAR,ITS-90,PSS-78,,PSS-78,,UMOL/KG,,UMOL/KG,,UMOL/KG,,UMOL/KG,,UMOL/KG,,UMOL/KG,,PMOL/KG,,PMOL/KG,,FMOL/KG,,UMOL/KG,,UMOL/KG,,,,DEG C,/MILLE,,/MILLE,,/MILLE,UMOL/KG,,UMOL/KG,,UMOL/KG,,/MILLE,,,,,,VOLTS,,VOLTS,,VOLTS,,VOLTS,,/MILLE,,UMOL/KG,,/LITER,,UMOL/KG,,UMOL/L,,PMOL/L,,PMOL/L,,,,UG/L,,/METER,,UMOL/L,,ITS-90,,UMOL/L,UMOL/L,,UMOL/L
320620170820,        P06,     243,          1,          1,          1,2,20170928,       0509,   -32.4994,   -72.4048,       3457,  3502.0,   1.7778,  34.6864,2,  34.6842,2, 150.3752,3, 152.3194,2,   129.0,2,   35.62,2,    0.00,2,    2.49,2,-999.000,9,-999.000,9,-999.0000,9,  2316.4,2,  2410.3,2,   7.5773,2,    25.00, -999.00,9, -999.00,9, -999.00,  -999.0,9, -999.00,9,     -999.0,9,  -999.0,9, 20170928,      509, -32.4996, -72.4043,        0.0,1,      0.061,1,      4.674,1,      0.135,1,     -999.0,9,     -999.0,9,     -999.0,9,     -999.0,9,     -999.0,9,     -999.0,9,     -999.0,9,     -999.0,9,     -999.0,9,     -999.0,9,     -999.0,9,     1.7796,2,     -999.0,     -999.0,9,     -999.0
320620170820,        P06,     243,          1,          2,          2,2,20170928,       0509,   -32.4994,   -72.4048,       3457,  3374.4,   1.7797,  34.6856,2,  34.6826,2, 150.3752,2, 150.9011,2,   130.1,2,   35.75,2,    0.00,2,    2.50,2,-999.000,9,-999.000,9,-999.0000,9,  -999.0,9,  -999.0,9,-999.0000,9,  -999.00, -999.00,9, -999.00,9, -999.00,  -999.0,9, -999.00,9,     -999.0,9,  -999.0,9, 20170928,      514, -32.4996, -72.4042,        0.0,1,      0.062,1,      4.674,1,      0.136,1,     -999.0,9,     -999.0,9,     -999.0,9,     -999.0,9,     -999.0,9,     -999.0,9,     -999.0,9,     -999.0,9,     -999.0,9,     -999.0,9,     -999.0,9,     1.7794,2,     -999.0,     -999.0,9,     -999.0
320620170820,        P06,     243,          1,          3,          3,2,20170928,       0509,   -32.4994,   -72.4048,       3457,  3246.3,   1.7823,  34.6845,2,  34.6814,2, 150.3715,2, 149.6485,2,   130.7,2,   35.86,2,    0.00,2,    2.51,2,-999.000,9,-999.000,9,-999.0000,9,  2319.1,2,  2409.7,2,   7.5743,2,    25.00, -999.00,9, -999.00,9, -999.00,  -999.0,9, -999.00,9,     -999.0,9,  -999.0,9, 20170928,      518, -32.4996, -72.4042,        0.0,1,      0.061,1,      4.674,1,      0.135,1,     -999.0,9,     -999.0,9,     -999.0,9,     -999.0,9,     -999.0,9,     -999.0,9,     -999.0,9,     -999.0,9,     -999.0,9,     -999.0,9,     -999.0,9,     1.7830,2,     -999.0,     -999.0,9,     -999.0
320620170820,        P06,     243,          1,          4,          4,2,20170928,       0509,   -32.4994,   -72.4048,       3457,  3043.5,   1.7872,  34.6826,2,  34.6802,2, 150.2401,3, 147.5276,2,   131.2,2,   35.92,2,    0.00,2,    2.53,2,-999.000,9,-999.000,9,-999.0000,9,  -999.0,9,  -999.0,9,-999.0000,9,  -999.00, -999.00,9, -999.00,9, -999.00,  -999.0,9, -999.00,9,     -999.0,9,  -999.0,9, 20170928,      523, -32.4995, -72.4045,        0.0,1,      0.061,1,      4.675,1,      0.134,1,     -999.0,9,     -999.0,9,     -999.0,9,     -999.0,9,     -999.0,9,     -999.0,9,     -999.0,9,     -999.0,9,     -999.0,9,     -999.0,9,     -999.0,9,     1.7869,2,     -999.0,     -999.0,9,     -999.0
320620170820,        P06,     243,          1,          5,          5,2,20170928,       0509,   -32.4994,   -72.4048,       3457,  2837.5,   1.8045,  34.6797,2,  34.6781,2, 146.9535,3, 148.6909,2,   129.0,2,   35.86,2,    0.00,2,    2.52,2,-999.000,9,-999.000,9,-999.0000,9,  2316.9,2,  2406.8,2,   7.5700,2,    25.00, -999.00,9, -999.00,9, -999.00,  -999.0,9, -999.00,9,     -999.0,9,  -999.0,9, 20170928,      529, -32.4995, -72.4045,        0.0,1,      0.062,1,      4.675,1,      0.136,1,     -999.0,9,     -999.0,9,     -999.0,9,     -999.0,9,     -999.0,9,     -999.0,9,     -999.0,9,     -999.0,9,     -999.0,9,     -999.0,9,     -999.0,9,     1.8048,2,     -999.0,     -999.0,9,     -999.0
320620170820,        P06,     243,          1,          6,          6,2,20170928,       0509,   -32.4994,   -72.4048,       3457,  2633.2,   1.8379,  34.6757,2,  34.6730,2, 147.9784,2, 148.0598,2,   127.0,2,   35.87,2,    0.00,2,    2.53,2,-999.000,9,-999.000,9,-999.0000,9,  -999.0,9,  -999.0,9,-999.0000,9,  -999.00, -999.00,9, -999.00,9, -999.00,  -999.0,9, -999.00,9,     -999.0,9,  -999.0,9, 20170928,      533, -32.4995, -72.4044,        0.0,1,      0.061,1,      4.674,1,      0.138,1,     -999.0,9,     -999.0,9,     -999.0,9,     -999.0,9,     -999.0,9,     -999.0,9,     -999.0,9,     -999.0,9,     -999.0,9,     -999.0,9,     -999.0,9,     1.8362,2,     -999.0,     -999.0,9,     -999.0
320620170820,        P06,     243,          1,          7,          7,2,20170928,       0509,   -32.4994,   -72.4048,       3457,  2429.7,   1.9250,  34.6663,2,  34.6645,3, 145.6737,2, 145.0284,2,   124.4,2,   36.04,2,    0.00,2,    2.55,2,-999.000,9,-999.000,9,-999.0000,9,  -999.0,9,  -999.0,9,-999.0000,9,  -999.00, -999.00,9, -999.00,9, -999.00,  -999.0,9, -999.00,9,     -999.0,9,  -999.0,9, 20170928,      538, -32.4995, -72.4045,        0.0,1,      0.061,1,      4.671,1,      0.144,1,     -999.0,9,     -999.0,9,     -999.0,9,     -999.0,9,     -999.0,9,     -999.0,9,     -999.0,9,     -999.0,9,     -999.0,9,     -999.0,9,     -999.0,9,     1.9120,2,     -999.0,     -999.0,9,     -999.0
320620170820,        P06,     243,          1,          8,          8,2,20170928,       0509,   -32.4994,   -72.4048,       3457,  2226.8,   2.0622,  34.6533,2,  34.6504,2, 138.9512,2, 138.3806,2,   121.2,2,   36.58,2,    0.00,2,    2.60,2,-999.000,9,-999.000,9,-999.0000,9,  2314.3,6,  2395.2,2,   7.5459,2,    25.00, -999.00,9, -999.00,9, -999.00,  -999.0,9, -999.00,9,     -999.0,9,  -999.0,9, 20170928,      543, -32.4994, -72.4046,        0.0,1,      0.062,1,      4.672,1,      0.141,1,     -999.0,9,     -999.0,9,     -999.0,9,     -999.0,9,     -999.0,9,     -999.0,9,     -999.0,9,     -999.0,9,     -999.0,9,     -999.0,9,     -999.0,9,     2.0654,2,     -999.0,     -999.0,9,     -999.0
320620170820,        P06,     243,          1,          9,          9,2,20170928,       0509,   -32.4994,   -72.4048,       3457,  2023.1,   2.2114,  34.6393,2,  34.6368,2, 132.5642,2, 132.4141,2,   117.9,2,   37.12,2,    0.00,2,    2.65,2,-999.000,9,-999.000,9,-999.0000,9,  -999.0,9,  -999.0,9,-999.0000,9,  -999.00, -999.00,9, -999.00,9, -999.00,  -999.0,9, -999.00,9,     -999.0,9,  -999.0,9, 20170928,      548, -32.4994, -72.4046,        0.0,1,      0.061,1,      4.674,1,      0.145,1,     -999.0,9,     -999.0,9,     -999.0,9,     -999.0,9,     -999.0,9,     -999.0,9,     -999.0,9,     -999.0,9,     -999.0,9,     -999.0,9,     -999.0,9,     2.1995,2,     -999.0,     -999.0,9,     -999.0
320620170820,        P06,     243,          1,         10,         10,2,20170928,       0509,   -32.4994,   -72.4048,       3457,  1819.6,   2.3934,  34.6221,2,  34.6195,2, 126.1673,2, 125.9874,2,   113.0,2,   37.63,2,    0.00,2,    2.67,2,-999.000,9,-999.000,9,-999.0000,9,  -999.0,9,  -999.0,9,-999.0000,9,  -999.00, -999.00,9, -999.00,9, -999.00,  -999.0,9, -999.00,9,     -999.0,9,  -999.0,9, 20170928,      553, -32.4996, -72.4043,        0.0,1,      0.063,1,      4.674,1,      0.141,1,     -999.0,9,     -999.0,9,     -999.0,9,     -999.0,9,     -999.0,9,     -999.0,9,     -999.0,9,     -999.0,9,     -999.0,9,     -999.0,9,     -999.0,9,     2.3826,2,     -999.0,     -999.0,9,     -999.0
320620170820,        P06,     243,          1,         11,         11,2,20170928,       0509,   -32.4994,   -72.4048,       3457,  1717.4,   2.4966,  34.6125,2,  34.6091,2,  122.734,2, 123.0283,2,   110.1,2,   37.93,2,    0.00,2,    2.69,2,-999.000,9,-999.000,9,-999.0000,9,  -999.0,9,  -999.0,9,-999.0000,9,  -999.00, -999.00,9, -999.00,9, -999.00,  -999.0,9, -999.00,9,     -999.0,9,  -999.0,9, 20170928,      556, -32.4996, -72.4041,        0.0,1,      0.063,1,      4.674,1,      0.141,1,     -999.0,9,     -999.0,9,     -999.0,9,     -999.0,9,     -999.0,9,     -999.0,9,     -999.0,9,     -999.0,9,     -999.0,9,     -999.0,9,     -999.0,9,     2.4930,2,     -999.0,     -999.0,9,     -999.0
320620170820,        P06,     243,          1,         12,         12,2,20170928,       0509,   -32.4994,   -72.4048,       3457,  1616.6,   2.6574,  34.5967,2,  34.5954,2, 118.6069,2, 118.6565,2,   105.9,2,   38.30,2,    0.00,2,    2.73,2,-999.000,9,-999.000,9,-999.0000,9,  -999.0,9,  -999.0,9,-999.0000,9,  -999.00, -999.00,9, -999.00,9, -999.00,  -999.0,9, -999.00,9,     -999.0,9,  -999.0,9, 20170928,      559, -32.4996, -72.4040,        0.0,1,      0.064,1,      4.673,1,      0.141,1,     -999.0,9,     -999.0,9,     -999.0,9,     -999.0,9,     -999.0,9,     -999.0,9,     -999.0,9,     -999.0,9,     -999.0,9,     -999.0,9,     -999.0,9,     2.6376,2,     -999.0,     -999.0,9,     -999.0
320620170820,        P06,     243,          1,         13,         13,2,20170928,       0509,   -32.4994,   -72.4048,       3457,  1515.7,   2.8073,  34.5851,2,  34.5814,2, 113.7963,2, 114.3076,2,   101.8,2,   38.71,2,    0.00,2,    2.75,2,-999.000,9,-999.000,9,-999.0000,9,  2309.2,2,  2372.4,2,   7.4994,2,    25.00, -999.00,9, -999.00,9, -999.00,  -999.0,9, -999.00,9,     -999.0,9,  -999.0,9, 20170928,      602, -32.4996, -72.4041,        0.0,1,      0.063,1,      4.673,1,      0.142,1,     -999.0,9,     -999.0,9,     -999.0,9,     -999.0,9,     -999.0,9,     -999.0,9,     -999.0,9,     -999.0,9,     -999.0,9,     -999.0,9,     -999.0,9,     2.8055,2,     -999.0,     -999.0,9,     -999.0
320620170820,        P06,     243,          1,         14,         14,2,20170928,       0509,   -32.4994,   -72.4048,       3457,  1413.7,   2.9626,  34.5679,2,  34.5645,2, 111.5072,2, 111.5546,2,    96.5,2,   39.00,2,    0.00,2,    2.78,2,-999.000,9,-999.000,9,-999.0000,9,  -999.0,9,  -999.0,9,-999.0000,9,  -999.00, -999.00,9, -999.00,9, -999.00,  -999.0,9, -999.00,9,     -999.0,9,  -999.0,9, 20170928,      605, -32.4996, -72.4041,        0.0,1,      0.064,1,      4.675,1,      0.142,1,     -999.0,9,     -999.0,9,     -999.0,9,     -999.0,9,     -999.0,9,     -999.0,9,     -999.0,9,     -999.0,9,     -999.0,9,     -999.0,9,     -999.0,9,     2.9622,2,     -999.0,     -999.0,9,     -999.0
320620170820,        P06,     243,          1,         15,         15,2,20170928,       0509,   -32.4994,   -72.4048,       3457,  1312.0,   3.1266,  34.5526,2,  34.5496,2, 108.4204,2, 108.6293,2,    91.7,2,   39.30,2,    0.00,2,    2.79,2,-999.000,9,-999.000,9,-999.0000,9,  -999.0,9,  -999.0,9,-999.0000,9,  -999.00, -999.00,9, -999.00,9, -999.00,  -999.0,9, -999.00,9,     -999.0,9,  -999.0,9, 20170928,      608, -32.4995, -72.4043,        0.0,1,      0.062,1,      4.674,1,      0.141,1,     -999.0,9,     -999.0,9,     -999.0,9,     -999.0,9,     -999.0,9,     -999.0,9,     -999.0,9,     -999.0,9,     -999.0,9,     -999.0,9,     -999.0,9,     3.1276,2,     -999.0,     -999.0,9,     -999.0
320620170820,        P06,     243,          1,         16,         16,2,20170928,       0509,   -32.4994,   -72.4048,       3457,  1210.7,   3.3421,  34.5271,2,  34.5233,2, 107.3088,2, 107.5328,2,    84.4,2,   39.49,2,    0.00,2,    2.80,2,-999.000,9,-999.000,9,-999.0000,9,  2295.8,2,  2353.5,2,   7.4805,2,    25.00, -999.00,9, -999.00,9, -999.00,  -999.0,9, -999.00,9,     -999.0,9,  -999.0,9, 20170928,      611, -32.4994, -72.4045,        0.0,1,      0.062,1,      4.674,1,      0.143,1,     -999.0,9,     -999.0,9,     -999.0,9,     -999.0,9,     -999.0,9,     -999.0,9,     -999.0,9,     -999.0,9,     -999.0,9,     -999.0,9,     -999.0,9,     3.3215,2,     -999.0,     -999.0,9,     -999.0
320620170820,        P06,     243,          1,         17,         17,2,20170928,       0509,   -32.4994,   -72.4048,       3457,  1110.0,   3.5601,  34.4955,2,  34.4928,2, 109.1861,2, 108.7752,2,    75.6,2,   39.46,2,    0.00,2,    2.80,2,-999.000,9,-999.000,9,-999.0000,9,  -999.0,9,  -999.0,9,-999.0000,9,  -999.00, -999.00,9, -999.00,9, -999.00,  -999.0,9, -999.00,9,     -999.0,9,  -999.0,9, 20170928,      614, -32.4994, -72.4046,        0.0,1,      0.063,1,      4.674,1,      0.152,1,     -999.0,9,     -999.0,9,     -999.0,9,     -999.0,9,     -999.0,9,     -999.0,9,     -999.0,9,     -999.0,9,     -999.0,9,     -999.0,9,     -999.0,9,     3.5460,2,     -999.0,     -999.0,9,     -999.0
320620170820,        P06,     243,          1,         18,         18,2,20170928,       0509,   -32.4994,   -72.4048,       3457,  1007.7,   3.8228,  34.4637,2,  34.4640,2, 110.7308,2, 110.8011,2,    67.4,2,   39.28,2,    0.00,2,    2.78,2,-999.000,9,-999.000,9,-999.0000,9,  -999.0,9,  -999.0,9,-999.0000,9,  -999.00, -999.00,9, -999.00,9, -999.00,  -999.0,9, -999.00,9,     -999.0,9,  -999.0,9, 20170928,      617, -32.4995, -72.4043,        0.0,1,      0.063,1,      4.674,1,      0.143,1,     -999.0,9,     -999.0,9,     -999.0,9,     -999.0,9,     -999.0,9,     -999.0,9,     -999.0,9,     -999.0,9,     -999.0,9,     -999.0,9,     -999.0,9,     3.7745,2,     -999.0,     -999.0,9,     -999.0
320620170820,        P06,     243,          1,         19,         19,2,20170928,       0509,   -32.4994,   -72.4048,       3457,   907.6,   4.0774,  34.4215,2,  34.4188,2, 122.0079,2, 121.6989,2,    55.6,2,   38.41,2,    0.00,2,    2.71,2,-999.000,9,-999.000,9,-999.0000,9,  -999.0,9,  -999.0,9,-999.0000,9,  -999.00, -999.00,9, -999.00,9, -999.00,  -999.0,9, -999.00,9,     -999.0,9,  -999.0,9, 20170928,      620, -32.4995, -72.4041,        0.0,1,      0.062,1,      4.674,1,      0.145,1,     -999.0,9,     -999.0,9,     -999.0,9,     -999.0,9,     -999.0,9,     -999.0,9,     -999.0,9,     -999.0,9,     -999.0,9,     -999.0,9,     -999.0,9,     4.0745,2,     -999.0,     -999.0,9,     -999.0
320620170820,        P06,     243,          1,         20,         20,2,20170928,       0509,   -32.4994,   -72.4048,       3457,   807.1,   4.4555,  34.3768,2,  34.3717,2, 138.4052,2, 138.1955,2,    42.4,2,   36.78,2,    0.00,2,    2.58,2,-999.000,9,-999.000,9,-999.0000,9,  -999.0,9,  -999.0,9,-999.0000,9,  -999.00, -999.00,9, -999.00,9, -999.00,  -999.0,9, -999.00,9,     -999.0,9,  -999.0,9, 20170928,      623, -32.4995, -72.4041,        0.0,1,      0.062,1,      4.673,1,      0.146,1,     -999.0,9,     -999.0,9,     -999.0,9,     -999.0,9,     -999.0,9,     -999.0,9,     -999.0,9,     -999.0,9,     -999.0,9,     -999.0,9,     -999.0,9,     4.4626,2,     -999.0,     -999.0,9,     -999.0
320620170820,        P06,     243,          1,         21,         21,2,20170928,       0509,   -32.4994,   -72.4048,       3457,   706.1,   4.9198,  34.3343,2,  34.3297,2, 159.4699,2, 158.6156,2,    30.2,2,   34.53,2,    0.00,2,    2.41,2,-999.000,9,-999.000,9,-999.0000,9,  2218.7,2,  2293.9,2,   7.5453,2,    25.00, -999.00,9, -999.00,9, -999.00,  -999.0,9, -999.00,9,     -999.0,9,  -999.0,9, 20170928,      626, -32.4995, -72.4040,        0.0,1,      0.061,1,      4.672,1,      0.143,1,     -999.0,9,     -999.0,9,     -999.0,9,     -999.0,9,     -999.0,9,     -999.0,9,     -999.0,9,     -999.0,9,     -999.0,9,     -999.0,9,     -999.0,9,     4.9287,2,     -999.0,     -999.0,9,     -999.0
320620170820,        P06,     243,          1,         22,         22,2,20170928,       0509,   -32.4994,   -72.4048,       3457,   605.0,   5.4098,  34.3056,2,  34.2958,2, 178.5055,3, 183.3117,2,    19.5,2,   31.61,2,    0.00,2,    2.20,2,-999.000,9,-999.000,9,-999.0000,9,  -999.0,9,  -999.0,9,-999.0000,9,  -999.00, -999.00,9, -999.00,9, -999.00,  -999.0,9, -999.00,9,     -999.0,9,  -999.0,9, 20170928,      629, -32.4996, -72.4040,        0.0,1,      0.061,1,      4.671,1,      0.148,1,     -999.0,9,     -999.0,9,     -999.0,9,     -999.0,9,     -999.0,9,     -999.0,9,     -999.0,9,     -999.0,9,     -999.0,9,     -999.0,9,     -999.0,9,     5.4536,2,     -999.0,     -999.0,9,     -999.0
320620170820,        P06,     243,          1,         23,         23,2,20170928,       0509,   -32.4994,   -72.4048,       3457,   502.1,   5.9348,  34.2988,2,  34.2968,2, 189.0646,3, 185.3995,2,    14.9,2,   30.23,2,    0.00,2,    2.10,2,-999.000,9,-999.000,9,-999.0000,9,  2190.9,2,  2279.6,2,   7.5839,2,    25.00, -999.00,9, -999.00,9, -999.00,  -999.0,9, -999.00,9,     -999.0,9,  -999.0,9, 20170928,      633, -32.4995, -72.4041,        0.0,1,      0.061,1,      4.665,1,      0.155,1,     -999.0,9,     -999.0,9,     -999.0,9,     -999.0,9,     -999.0,9,     -999.0,9,     -999.0,9,     -999.0,9,     -999.0,9,     -999.0,9,     -999.0,9,     5.9679,2,     -999.0,     -999.0,9,     -999.0
320620170820,        P06,     243,          1,         24,         24,2,20170928,       0509,   -32.4994,   -72.4048,       3457,   453.1,   6.5158,  34.3416,2,  34.3248,2, 163.5479,3, 159.1362,2,    15.5,2,   31.36,2,    0.00,2,    2.21,2,-999.000,9,-999.000,9,-999.0000,9,  -999.0,9,  -999.0,9,-999.0000,9,  -999.00, -999.00,9, -999.00,9, -999.00,  -999.0,9, -999.00,9,     -999.0,9,  -999.0,9, 20170928,      635, -32.4995, -72.4041,        0.0,1,      0.062,1,      4.665,1,      0.157,1,     -999.0,9,     -999.0,9,     -999.0,9,     -999.0,9,     -999.0,9,     -999.0,9,     -999.0,9,     -999.0,9,     -999.0,9,     -999.0,9,     -999.0,9,     6.4544,2,     -999.0,     -999.0,9,     -999.0
320620170820,        P06,     243,          1,         25,         25,2,20170928,       0509,   -32.4994,   -72.4048,       3457,   402.2,   7.3180,  34.4071,2,  34.3790,2,  99.5728,2, 109.1129,2,    18.5,2,   34.03,2,    0.00,2,    2.45,2,-999.000,9,-999.000,9,-999.0000,9,  2230.9,2,  2280.0,6,   7.4644,2,    25.00, -999.00,9, -999.00,9, -999.00,  -999.0,9, -999.00,9,     -999.0,9,  -999.0,9, 20170928,      637, -32.4995, -72.4042,        0.0,1,      0.063,1,      4.658,1,      0.165,1,     -999.0,9,     -999.0,9,     -999.0,9,     -999.0,9,     -999.0,9,     -999.0,9,     -999.0,9,     -999.0,9,     -999.0,9,     -999.0,9,     -999.0,9,     7.1640,2,     -999.0,     -999.0,9,     -999.0
320620170820,        P06,     243,          1,         26,         26,2,20170928,       0509,   -32.4994,   -72.4048,       3457,   352.1,   8.2544,  34.4922,2,  34.4659,2,  53.3183,2,   52.939,2,    22.7,2,   36.16,2,    0.00,2,    2.72,2,-999.000,9,-999.000,9,-999.0000,9,  -999.0,9,  -999.0,9,-999.0000,9,  -999.00, -999.00,9, -999.00,9, -999.00,  -999.0,9, -999.00,9,     -999.0,9,  -999.0,9, 20170928,      640, -32.4996, -72.4043,        0.0,1,      0.066,1,      4.646,1,      0.190,1,     -999.0,9,     -999.0,9,     -999.0,9,     -999.0,9,     -999.0,9,     -999.0,9,     -999.0,9,     -999.0,9,     -999.0,9,     -999.0,9,     -999.0,9,     8.0780,2,     -999.0,     -999.0,9,     -999.0