BOTTLE,20240211CCHSIOCBG
EXPOCODE,SECT_ID,STNNBR,CASTNO,SAMPNO,BTLNBR,BTLNBR_FLAG_W,DATE,TIME,LATITUDE,LONGITUDE,DEPTH,CTDPRS,CTDTMP,CTDSAL,CTDSAL_FLAG_W,SALNTY,SALNTY_FLAG_W,CTDOXY,CTDOXY_FLAG_W,OXYGEN,OXYGEN_FLAG_W,SILCAT,SILCAT_FLAG_W,NITRAT,NITRAT_FLAG_W,NITRIT,NITRIT_FLAG_W,PHSPHT,PHSPHT_FLAG_W,CFC-11,CFC-11_FLAG_W,CFC-12,CFC-12_FLAG_W,SF6,SF6_FLAG_W,TCARBN,TCARBN_FLAG_W,ALKALI,ALKALI_FLAG_W,PH_TOT,PH_TOT_FLAG_W,PH_TMP,DELC13,DELC13_FLAG_W,DELC14,DELC14_FLAG_W,C14ERR,DOC,DOC_FLAG_W,TDN,TDN_FLAG_W,TON,TON_FLAG_W,D15N_NO3,D15N_NO3_FLAG_W,BTL_DATE,BTL_TIME,BTL_LAT,BTL_LON,CTDRINKO,CTDRINKO_FLAG_W,CTDFLUOR,CTDFLUOR_FLAG_W,CTDXMISS,CTDXMISS_FLAG_W,CTDBACKSCATTER,CTDBACKSCATTER_FLAG_W,D18O_NO3,D18O_NO3_FLAG_W,DOP,DOP_FLAG_W,CELLCOUNT,CELLCOUNT_FLAG_W,TDP,TDP_FLAG_W,POP,POP_FLAG_W,DATP,DATP_FLAG_W,PATP,PATP_FLAG_W,HPLC,HPLC_FLAG_W,POC,POC_FLAG_W,BEAMAP,BEAMAP_FLAG_W,DOC_NASA,DOC_NASA_FLAG_W,REFTMP,REFTMP_FLAG_W,DOC_NASA_ERROR,TDN_NASA,TDN_NASA_FLAG_W,TDN_NASA_ERROR
,,,,,,,,,,,METERS,DBAR,ITS-90,PSS-78,,PSS-78,,UMOL/KG,,UMOL/KG,,UMOL/KG,,UMOL/KG,,UMOL/KG,,UMOL/KG,,PMOL/KG,,PMOL/KG,,FMOL/KG,,UMOL/KG,,UMOL/KG,,,,DEG C,/MILLE,,/MILLE,,/MILLE,UMOL/KG,,UMOL/KG,,UMOL/KG,,/MILLE,,,,,,VOLTS,,VOLTS,,VOLTS,,VOLTS,,/MILLE,,UMOL/KG,,/LITER,,UMOL/KG,,UMOL/L,,PMOL/L,,PMOL/L,,,,UG/L,,/METER,,UMOL/L,,ITS-90,,UMOL/L,UMOL/L,,UMOL/L
320620170820,        P06,     210,          1,          1,          1,2,20170917,       1315,   -32.4998,   -96.2149,       3940,  3995.3,   1.7933,  34.6922,2,  34.6920,2, 168.2169,3, 174.7795,2,   118.9,2,   34.29,2,    0.00,2,    2.37,2,   0.032,2,   0.017,2,   0.0000,2,  2297.9,6,  2393.7,2,   7.5891,2,    25.00, -999.00,9, -999.00,9, -999.00,    35.9,2, -999.00,9,     -999.0,1,  -999.0,1, 20170917,     1315, -32.5000, -96.2153,        0.0,1,      0.060,1,      4.683,1,      0.134,1,     -999.0,1,     -999.0,9,     -999.0,9,     -999.0,9,     -999.0,9,     -999.0,9,     -999.0,9,     -999.0,9,     -999.0,9,     -999.0,9,     -999.0,9,     1.7933,2,     -999.0,     -999.0,9,     -999.0
320620170820,        P06,     210,          1,          2,          2,2,20170917,       1315,   -32.4998,   -96.2149,       3940,  3819.4,   1.7748,  34.6920,2,  34.6912,2, 166.3091,2, 166.1045,2,   119.0,2,   34.34,2,    0.00,2,    2.37,2,   0.033,2,   0.019,2,   0.0000,2,  2298.5,2,  2394.6,2,   7.5887,2,    25.00, -999.00,9, -999.00,9, -999.00,  -999.0,9, -999.00,9,     -999.0,9,  -999.0,1, 20170917,     1319, -32.5001, -96.2152,        0.0,1,      0.061,1,      4.684,1,      0.130,1,     -999.0,1,     -999.0,9,     -999.0,9,     -999.0,9,     -999.0,9,     -999.0,9,     -999.0,9,     -999.0,9,     -999.0,9,     -999.0,9,     -999.0,9,     1.7746,2,     -999.0,     -999.0,9,     -999.0
320620170820,        P06,     210,          1,          3,          3,2,20170917,       1315,   -32.4998,   -96.2149,       3940,  3655.9,   1.7629,  34.6917,2,  34.6903,2, 166.3091,2, 166.2153,2,   118.9,2,   34.30,2,    0.00,2,    2.36,2,   0.033,2,   0.021,2,   0.0000,2,  2296.6,2,  2395.0,2,   7.5891,2,    25.00, -999.00,9, -999.00,9, -999.00,    36.3,2, -999.00,9,     -999.0,1,  -999.0,1, 20170917,     1323, -32.5000, -96.2153,        0.0,1,      0.061,1,      4.686,1,      0.128,1,     -999.0,1,     -999.0,9,     -999.0,9,     -999.0,9,     -999.0,9,     -999.0,9,     -999.0,9,     -999.0,9,     -999.0,9,     -999.0,9,     -999.0,9,     1.7628,2,     -999.0,     -999.0,9,     -999.0
320620170820,        P06,     210,          1,          4,          4,2,20170917,       1315,   -32.4998,   -96.2149,       3940,  3349.7,   1.7487,  34.6911,2,  34.6901,2, 166.2821,2, 166.2548,2,   118.4,2,   34.25,2,    0.00,2,    2.37,2,   0.033,2,   0.021,2,   0.0000,2,  -999.0,9,  -999.0,9,-999.0000,9,  -999.00, -999.00,9, -999.00,9, -999.00,  -999.0,9, -999.00,9,     -999.0,9,  -999.0,1, 20170917,     1329, -32.5002, -96.2151,        0.0,1,      0.061,1,      4.687,1,      0.126,1,     -999.0,1,     -999.0,9,     -999.0,9,     -999.0,9,     -999.0,9,     -999.0,9,     -999.0,9,     -999.0,9,     -999.0,9,     -999.0,9,     -999.0,9,     1.7486,2,     -999.0,     -999.0,9,     -999.0
320620170820,        P06,     210,          1,          5,          5,2,20170917,       1315,   -32.4998,   -96.2149,       3940,  3042.2,   1.7520,  34.6887,2,  34.6885,2, 166.1808,2, 166.9241,2,   117.6,2,   34.18,2,    0.00,2,    2.35,2,   0.033,2,   0.021,2,   0.0000,2,  2292.8,2,  2389.7,2,   7.5874,2,    25.00, -999.00,9, -999.00,9, -999.00,    37.5,2, -999.00,9,     -999.0,1,  -999.0,1, 20170917,     1335, -32.5009, -96.2148,        0.0,1,      0.061,1,      4.688,1,      0.126,1,     -999.0,1,     -999.0,9,     -999.0,9,     -999.0,9,     -999.0,9,     -999.0,9,     -999.0,9,     -999.0,9,     -999.0,9,     -999.0,9,     -999.0,9,     1.7522,2,     -999.0,     -999.0,9,     -999.0
320620170820,        P06,     210,          1,          6,          6,2,20170917,       1315,   -32.4998,   -96.2149,       3940,  2787.8,   1.7750,  34.6844,2,  34.6834,2, 166.0156,2, 165.2448,2,   117.0,2,   34.16,2,    0.00,2,    2.36,2,   0.048,2,   0.032,2,   0.0000,2,  -999.0,9,  -999.0,9,-999.0000,9,  -999.00, -999.00,9, -999.00,9, -999.00,  -999.0,9, -999.00,9,     -999.0,9,  -999.0,1, 20170917,     1340, -32.5006, -96.2149,        0.0,1,      0.061,1,      4.689,1,      0.128,1,     -999.0,1,     -999.0,9,     -999.0,9,     -999.0,9,     -999.0,9,     -999.0,9,     -999.0,9,     -999.0,9,     -999.0,9,     -999.0,9,     -999.0,9,     1.7736,2,     -999.0,     -999.0,9,     -999.0
320620170820,        P06,     210,          1,          7,          7,2,20170917,       1315,   -32.4998,   -96.2149,       3940,  2532.5,   1.8239,  34.6762,2,  34.6755,2,  163.861,2, 163.6041,2,   115.9,2,   34.45,2,    0.00,2,    2.39,2,   0.034,2,   0.021,2,   0.0000,2,  2292.7,2,  2386.6,2,   7.5816,2,    25.00, -999.00,9, -999.00,9, -999.00,    34.5,3, -999.00,9,     -999.0,1,  -999.0,1, 20170917,     1345, -32.5005, -96.2149,        0.0,1,      0.062,1,      4.689,1,      0.128,1,     -999.0,1,     -999.0,9,     -999.0,9,     -999.0,9,     -999.0,9,     -999.0,9,     -999.0,9,     -999.0,9,     -999.0,9,     -999.0,9,     -999.0,9,     1.8182,2,     -999.0,     -999.0,9,     -999.0
320620170820,        P06,     210,          1,          8,          8,2,20170917,       1315,   -32.4998,   -96.2149,       3940,  2277.2,   1.9480,  34.6612,2,  34.6600,2, 159.0076,2, 159.5266,2,   112.4,2,   34.69,2,    0.00,2,    2.41,2,   0.036,2,   0.023,2,   0.0000,2,  2290.7,2,  2381.5,2,   7.5752,2,    25.00, -999.00,9, -999.00,9, -999.00,    37.2,2, -999.00,9,     -999.0,1,  -999.0,1, 20170917,     1351, -32.5007, -96.2149,        0.0,1,      0.061,1,      4.689,1,      0.128,1,     -999.0,1,     -999.0,9,     -999.0,9,     -999.0,9,     -999.0,9,     -999.0,9,     -999.0,9,     -999.0,9,     -999.0,9,     -999.0,9,     -999.0,9,     1.9410,2,     -999.0,     -999.0,9,     -999.0
320620170820,        P06,     210,          1,          9,          9,2,20170917,       1315,   -32.4998,   -96.2149,       3940,  2024.0,   2.1525,  34.6360,2,  34.6339,2, 153.2923,2, 153.8995,2,   106.1,2,   35.22,2,    0.00,2,    2.46,2,   0.036,2,   0.024,2,   0.0000,2,  2288.4,2,  2375.4,2,   7.5632,2,    25.00, -999.00,9, -999.00,9, -999.00,    37.0,2, -999.00,9,     -999.0,1,  -999.0,1, 20170917,     1356, -32.5005, -96.2149,        0.0,1,      0.061,1,      4.689,1,      0.131,1,     -999.0,1,     -999.0,9,     -999.0,9,     -999.0,9,     -999.0,9,     -999.0,9,     -999.0,9,     -999.0,9,     -999.0,9,     -999.0,9,     -999.0,9,     2.1577,2,     -999.0,     -999.0,9,     -999.0
320620170820,        P06,     210,          1,         10,         10,2,20170917,       1315,   -32.4998,   -96.2149,       3940,  1821.2,   2.4000,  34.6049,2,  34.6036,2, 148.3871,2,   148.09,2,   100.1,2,   35.66,2,    0.00,2,    2.49,2,   0.037,2,   0.024,2,   0.0000,2,  2287.9,2,  2368.2,2,   7.5541,2,    25.00, -999.00,9, -999.00,9, -999.00,  -999.0,9, -999.00,9,     -999.0,9,  -999.0,1, 20170917,     1400, -32.5003, -96.2150,        0.0,1,      0.061,1,      4.688,1,      0.130,1,     -999.0,1,     -999.0,9,     -999.0,9,     -999.0,9,     -999.0,9,     -999.0,9,     -999.0,9,     -999.0,9,     -999.0,9,     -999.0,9,     -999.0,9,     2.3933,2,     -999.0,     -999.0,9,     -999.0
320620170820,        P06,     210,          1,         11,         11,2,20170917,       1315,   -32.4998,   -96.2149,       3940,  1717.7,   2.5720,  34.5872,2,  34.5867,2, 143.7591,2, 144.3266,2,    96.8,2,   36.04,2,    0.00,2,    2.52,2,   0.043,2,   0.029,2,   0.0000,2,  2287.0,2,  2365.0,2,   7.5473,2,    25.00, -999.00,9, -999.00,9, -999.00,    36.7,2, -999.00,9,     -999.0,1,  -999.0,1, 20170917,     1403, -32.5003, -96.2150,        0.0,1,      0.061,1,      4.688,1,      0.130,1,     -999.0,1,     -999.0,9,     -999.0,9,     -999.0,9,     -999.0,9,     -999.0,9,     -999.0,9,     -999.0,9,     -999.0,9,     -999.0,9,     -999.0,9,     2.5527,2,     -999.0,     -999.0,9,     -999.0
320620170820,        P06,     210,          1,         12,         12,2,20170917,       1315,   -32.4998,   -96.2149,       3940,  1616.8,   2.7510,  34.5757,2,  34.5739,2,  134.808,2, 134.4636,2,    95.1,2,   36.81,2,    0.00,2,    2.58,2,   0.035,2,   0.023,2,   0.0000,2,  2289.4,2,  2363.4,2,   7.5317,2,    25.00, -999.00,9, -999.00,9, -999.00,  -999.0,9, -999.00,9,     -999.0,9,  -999.0,1, 20170917,     1405, -32.5003, -96.2150,        0.0,1,      0.061,1,      4.687,1,      0.132,1,     -999.0,1,     -999.0,9,     -999.0,9,     -999.0,9,     -999.0,9,     -999.0,9,     -999.0,9,     -999.0,9,     -999.0,9,     -999.0,9,     -999.0,9,     2.7431,2,     -999.0,     -999.0,9,     -999.0
320620170820,        P06,     210,          1,         13,         13,2,20170917,       1315,   -32.4998,   -96.2149,       3940,  1515.4,   2.9353,  34.5602,2,  34.5584,2, 128.1574,2, 127.7854,2,    91.4,2,   37.41,2,    0.00,2,    2.63,2,   0.038,2,   0.025,2,   0.0000,2,  2290.6,2,  2359.7,6,   7.5198,2,    25.00, -999.00,9, -999.00,9, -999.00,    36.3,2, -999.00,9,     -999.0,1,  -999.0,1, 20170917,     1408, -32.5006, -96.2149,        0.0,1,      0.062,1,      4.687,1,      0.132,1,     -999.0,1,     -999.0,9,     -999.0,9,     -999.0,9,     -999.0,9,     -999.0,9,     -999.0,9,     -999.0,9,     -999.0,9,     -999.0,9,     -999.0,9,     2.9355,2,     -999.0,     -999.0,9,     -999.0
320620170820,        P06,     210,          1,         14,         14,2,20170917,       1315,   -32.4998,   -96.2149,       3940,  1414.0,   3.1137,  34.5453,2,  34.5404,2, 120.8955,2, 120.7469,2,    87.2,2,   37.97,2,    0.00,2,    2.67,2,   0.038,2,   0.026,2,   0.0000,2,  2288.6,2,  2354.0,2,   7.5079,6,    25.00, -999.00,9, -999.00,9, -999.00,    39.1,2, -999.00,9,     -999.0,1,  -999.0,1, 20170917,     1410, -32.5010, -96.2148,        0.0,1,      0.062,1,      4.687,1,      0.134,1,     -999.0,1,     -999.0,9,     -999.0,9,     -999.0,9,     -999.0,9,     -999.0,9,     -999.0,9,     -999.0,9,     -999.0,9,     -999.0,9,     -999.0,9,     3.1441,2,     -999.0,     -999.0,9,     -999.0
320620170820,        P06,     210,          1,         15,         15,2,20170917,       1315,   -32.4998,   -96.2149,       3940,  1312.0,   3.3214,  34.5200,2,  34.5137,2, 118.6559,2,  118.866,2,    80.1,2,   38.36,2,    0.00,2,    2.69,2,   0.048,6,   0.036,6,   0.0000,6,  2286.2,6,  2346.3,2,   7.5005,2,    25.00, -999.00,9, -999.00,9, -999.00,    35.8,3, -999.00,9,     -999.0,1,  -999.0,1, 20170917,     1413, -32.5012, -96.2148,        0.0,1,      0.061,1,      4.686,1,      0.135,1,     -999.0,1,     -999.0,9,     -999.0,9,     -999.0,9,     -999.0,9,     -999.0,9,     -999.0,9,     -999.0,9,     -999.0,9,     -999.0,9,     -999.0,9,     3.3518,2,     -999.0,     -999.0,9,     -999.0
320620170820,        P06,     210,          1,         16,         16,2,20170917,       1315,   -32.4998,   -96.2149,       3940,  1211.2,   3.4812,  34.4751,2,  34.4703,2,  124.626,2, 124.4525,2,    69.7,2,   38.10,2,    0.00,2,    2.66,2,   0.060,2,   0.041,2,   0.0000,2,  2273.3,2,  2331.7,2,   7.5025,2,    25.00, -999.00,9, -999.00,9, -999.00,    37.7,2, -999.00,9,     -999.0,1,  -999.0,1, 20170917,     1416, -32.5011, -96.2148,        0.0,1,      0.062,1,      4.686,1,      0.135,1,     -999.0,1,     -999.0,9,     -999.0,9,     -999.0,9,     -999.0,9,     -999.0,9,     -999.0,9,     -999.0,9,     -999.0,9,     -999.0,9,     -999.0,9,     3.4907,2,     -999.0,     -999.0,9,     -999.0
320620170820,        P06,     210,          1,         17,         17,2,20170917,       1315,   -32.4998,   -96.2149,       3940,  1009.2,   3.9343,  34.3515,2,  34.3480,2, 169.1687,2, 168.9837,2,    41.7,2,   34.65,2,    0.00,2,    2.36,2,   0.499,2,   0.268,2,   0.0270,2,  2224.0,2,  2302.8,2,   7.5604,2,    25.00, -999.00,9, -999.00,9, -999.00,    39.3,2, -999.00,9,     -999.0,1,  -999.0,1, 20170917,     1420, -32.5006, -96.2148,        0.0,1,      0.061,1,      4.686,1,      0.139,1,     -999.0,1,     -999.0,9,     -999.0,9,     -999.0,9,     -999.0,9,     -999.0,9,     -999.0,9,     -999.0,9,     -999.0,9,     -999.0,9,     -999.0,9,     3.9434,2,     -999.0,     -999.0,9,     -999.0
320620170820,        P06,     210,          1,         18,         18,2,20170917,       1315,   -32.4998,   -96.2149,       3940,   805.7,   4.8596,  34.2669,2,  34.2619,2, 215.4577,2, 214.6193,2,    19.2,2,   29.44,2,    0.00,2,    1.99,2,   2.299,2,   1.161,2,   0.3340,2,  2176.8,2,  2282.5,2,   7.6328,2,    25.00, -999.00,9, -999.00,9, -999.00,    38.5,2, -999.00,9,     -999.0,1,  -999.0,1, 20170917,     1425, -32.5003, -96.2148,        0.0,1,      0.059,1,      4.687,1,      0.133,1,     -999.0,1,     -999.0,9,     -999.0,9,     -999.0,9,     -999.0,9,     -999.0,9,     -999.0,9,     -999.0,9,     -999.0,9,     -999.0,9,     -999.0,9,     4.8895,2,     -999.0,     -999.0,9,     -999.0
320620170820,        P06,     210,          1,         19,         19,2,20170917,       1315,   -32.4998,   -96.2149,       3940,   704.8,   5.2707,  34.2521,2,  34.2485,2, 234.3187,2, 234.6025,2,    12.6,2,   26.89,2,    0.00,2,    1.80,2,   3.220,2,   1.640,2,   0.5970,2,  2159.6,2,  2277.5,2,   7.6650,2,    25.00, -999.00,9, -999.00,9, -999.00,  -999.0,9, -999.00,9,     -999.0,9,  -999.0,1, 20170917,     1427, -32.5000, -96.2149,        0.0,1,      0.059,1,      4.687,1,      0.133,1,     -999.0,1,     -999.0,9,     -999.0,9,     -999.0,9,     -999.0,9,     -999.0,9,     -999.0,9,     -999.0,9,     -999.0,9,     -999.0,9,     -999.0,9,     5.3508,2,     -999.0,     -999.0,9,     -999.0
320620170820,        P06,     210,          1,         20,         20,2,20170917,       1315,   -32.4998,   -96.2149,       3940,   604.2,   5.7147,  34.2577,2,  34.2566,2, 243.7969,2, 244.4681,2,     9.4,2,   25.03,2,    0.00,2,    1.67,2,   3.589,2,   1.915,2,   0.8310,2,  2152.0,2,  2274.5,2,   7.6833,2,    25.00, -999.00,9, -999.00,9, -999.00,    42.2,2, -999.00,9,     -999.0,1,  -999.0,1, 20170917,     1430, -32.4997, -96.2150,        0.0,1,      0.059,1,      4.686,1,      0.134,1,     -999.0,1,     -999.0,9,     -999.0,9,     -999.0,9,     -999.0,9,     -999.0,9,     -999.0,9,     -999.0,9,     -999.0,9,     -999.0,9,     -999.0,9,     5.7728,2,     -999.0,     -999.0,9,     -999.0
320620170820,        P06,     210,          1,         21,         21,2,20170917,       1315,   -32.4998,   -96.2149,       3940,   503.6,   6.1354,  34.2766,2,  34.2748,2, 243.7717,2, 244.3603,2,     8.0,2,   24.09,2,    0.00,2,    1.61,2,   3.679,2,   2.017,2,   1.0180,2,  2147.9,2,  2274.0,2,   7.6861,2,    25.00, -999.00,9, -999.00,9, -999.00,    42.9,2, -999.00,9,     -999.0,1,  -999.0,1, 20170917,     1433, -32.4996, -96.2150,        0.0,1,      0.059,1,      4.685,1,      0.135,1,     -999.0,1,     -999.0,9,     -999.0,9,     -999.0,9,     -999.0,9,     -999.0,9,     -999.0,9,     -999.0,9,     -999.0,9,     -999.0,9,     -999.0,9,     6.1618,2,     -999.0,     -999.0,9,     -999.0
320620170820,        P06,     210,          1,         22,         22,2,20170917,       1315,   -32.4998,   -96.2149,       3940,   403.4,   6.7949,  34.2687,2,  34.2619,2, 214.2121,2, 221.8192,2,     7.2,2,   24.33,2,    0.00,2,    1.65,2,   3.629,2,   1.982,2,   1.1900,2,  2158.6,2,  2271.5,2,   7.6551,2,    25.00, -999.00,9, -999.00,9, -999.00,    43.3,2,   26.70,2,     -999.0,1,  -999.0,1, 20170917,     1436, -32.4996, -96.2150,        0.0,1,      0.060,1,      4.684,1,      0.133,1,     -999.0,1,     -999.0,9,     -999.0,9,     -999.0,9,     -999.0,9,     -999.0,9,     -999.0,9,     -999.0,9,     -999.0,9,     -999.0,9,     -999.0,9,     6.8210,2,     -999.0,     -999.0,9,     -999.0
320620170820,        P06,     210,          1,         23,         23,2,20170917,       1315,   -32.4998,   -96.2149,       3940,   351.3,   7.7113,  34.2423,2,  34.2430,2,  211.505,2, 211.1499,2,     6.2,2,   23.43,2,    0.00,2,    1.63,2,   3.523,2,   1.957,2,   1.2700,2,  2154.9,2,  2269.2,2,   7.6536,2,    25.00, -999.00,9, -999.00,9, -999.00,    41.9,2,   25.20,2,     -999.0,1,  -999.0,1, 20170917,     1438, -32.4995, -96.2151,        0.0,1,      0.061,1,      4.683,1,      0.133,1,     -999.0,1,     -999.0,9,     -999.0,9,     -999.0,9,     -999.0,9,     -999.0,9,     -999.0,9,     -999.0,9,     -999.0,9,     -999.0,9,     -999.0,9,     7.5416,2,     -999.0,     -999.0,9,     -999.0
320620170820,        P06,     210,          1,         24,         24,2,20170917,       1315,   -32.4998,   -96.2149,       3940,   301.9,   8.8317,  34.2115,2,  34.2175,2, 205.3179,2, 210.7421,2,     4.3,2,   21.19,2,    0.00,2,    1.49,2,   3.450,2,   1.930,2,   1.3070,2,  2145.6,2,  2265.1,2,   7.6759,2,    25.00, -999.00,9, -999.00,9, -999.00,    42.7,2,   23.20,2,     -999.0,1,  -999.0,1, 20170917,     1439, -32.4995, -96.2151,        0.0,1,      0.060,1,      4.681,1,      0.133,1,     -999.0,1,     -999.0,1,     -999.0,9,     -999.0,9,     -999.0,9,     -999.0,9,     -999.0,9,     -999.0,9,     -999.0,9,     -999.0,9,     -999.0,9,     8.5803,2,     -999.0,     -999.0,9,     -999.0
320620170820,        P06,     210,          1,         25,         25,2,20170917,       1315,   -32.4998,   -96.2149,       3940,   252.0,  10.3605,  34.2281,2,  34.2160,3, 219.5384,2, 219.2726,2,     1.4,2,   16.50,2,    0.00,2,    1.14,2,   3.304,2,   1.878,2,   1.5240,2,  2121.5,2,  2264.4,2,   7.7399,2,    25.00, -999.00,9, -999.00,9, -999.00,    43.2,2,   18.90,2,     -999.0,1,  -999.0,1, 20170917,     1442, -32.4995, -96.2151,        0.0,1,      0.060,1,      4.678,1,      0.134,1,     -999.0,1,     -999.0,1,     -999.0,9,     -999.0,9,     -999.0,9,     -999.0,9,     -999.0,9,     -999.0,9,     -999.0,9,     -999.0,9,     -999.0,9,    10.1879,2,     -999.0,     -999.0,9,     -999.0
320620170820,        P06,     210,          1,         26,         26,2,20170917,       1315,   -32.4998,   -96.2149,       3940,   200.9,  12.6223,  34.3195,2,  34.2982,2, 216.1813,2, 216.1326,2,     0.4,2,   12.00,2,    0.02,2,    0.86,2,   3.030,2,   1.715,2,   1.5450,2,  2100.7,2,  2265.7,2,   7.7906,2,    25.00, -999.00,9, -999.00,9, -999.00,    47.7,2,   14.50,2,     -999.0,1,  -999.0,1, 20170917,     1443, -32.4995, -96.2151,        0.0,1,      0.068,1,      4.673,1,      0.139,1,     -999.0,1,     -999.0,1,     -999.0,9,     -999.0,9,     -999.0,9,     -999.0,9,     -999.0,9,     -999.0,9,     -999.0,9,     -999.0,9,     -999.0,9,    12.2133,2,     -999.0,     -999.0,9,     -999.0