BOTTLE,20240211CCHSIOCBG
EXPOCODE,SECT_ID,STNNBR,CASTNO,SAMPNO,BTLNBR,BTLNBR_FLAG_W,DATE,TIME,LATITUDE,LONGITUDE,DEPTH,CTDPRS,CTDTMP,CTDSAL,CTDSAL_FLAG_W,SALNTY,SALNTY_FLAG_W,CTDOXY,CTDOXY_FLAG_W,OXYGEN,OXYGEN_FLAG_W,SILCAT,SILCAT_FLAG_W,NITRAT,NITRAT_FLAG_W,NITRIT,NITRIT_FLAG_W,PHSPHT,PHSPHT_FLAG_W,CFC-11,CFC-11_FLAG_W,CFC-12,CFC-12_FLAG_W,SF6,SF6_FLAG_W,TCARBN,TCARBN_FLAG_W,ALKALI,ALKALI_FLAG_W,PH_TOT,PH_TOT_FLAG_W,PH_TMP,DELC13,DELC13_FLAG_W,DELC14,DELC14_FLAG_W,C14ERR,DOC,DOC_FLAG_W,TDN,TDN_FLAG_W,TON,TON_FLAG_W,D15N_NO3,D15N_NO3_FLAG_W,BTL_DATE,BTL_TIME,BTL_LAT,BTL_LON,CTDRINKO,CTDRINKO_FLAG_W,CTDFLUOR,CTDFLUOR_FLAG_W,CTDXMISS,CTDXMISS_FLAG_W,CTDBACKSCATTER,CTDBACKSCATTER_FLAG_W,D18O_NO3,D18O_NO3_FLAG_W,DOP,DOP_FLAG_W,CELLCOUNT,CELLCOUNT_FLAG_W,TDP,TDP_FLAG_W,POP,POP_FLAG_W,DATP,DATP_FLAG_W,PATP,PATP_FLAG_W,HPLC,HPLC_FLAG_W,POC,POC_FLAG_W,BEAMAP,BEAMAP_FLAG_W,DOC_NASA,DOC_NASA_FLAG_W,REFTMP,REFTMP_FLAG_W,DOC_NASA_ERROR,TDN_NASA,TDN_NASA_FLAG_W,TDN_NASA_ERROR
,,,,,,,,,,,METERS,DBAR,ITS-90,PSS-78,,PSS-78,,UMOL/KG,,UMOL/KG,,UMOL/KG,,UMOL/KG,,UMOL/KG,,UMOL/KG,,PMOL/KG,,PMOL/KG,,FMOL/KG,,UMOL/KG,,UMOL/KG,,,,DEG C,/MILLE,,/MILLE,,/MILLE,UMOL/KG,,UMOL/KG,,UMOL/KG,,/MILLE,,,,,,VOLTS,,VOLTS,,VOLTS,,VOLTS,,/MILLE,,UMOL/KG,,/LITER,,UMOL/KG,,UMOL/L,,PMOL/L,,PMOL/L,,,,UG/L,,/METER,,UMOL/L,,ITS-90,,UMOL/L,UMOL/L,,UMOL/L
320620170820,        P06,     231,          3,          1,          1,2,20170924,       1848,   -32.5002,   -77.5253,       4233,  4297.4,   1.6643,  34.6956,2,  34.6954,2, 165.6284,2, 166.2283,2,   124.5,2,   34.53,2,    0.00,2,    2.39,2,   0.006,2,   0.020,2,   0.0000,4,  2304.1,6,  2401.2,2,   7.5919,2,    25.00, -999.00,9, -999.00,9, -999.00,  -999.0,9, -999.00,9,     -999.0,9,  -999.0,1, 20170924,     1848, -32.5004, -77.5247,        0.0,1,      0.062,1,      4.673,1,      0.142,1,     -999.0,1,     -999.0,9,     -999.0,9,     -999.0,9,     -999.0,9,     -999.0,9,     -999.0,9,     -999.0,9,     -999.0,9,     -999.0,9,     -999.0,9,     1.6643,2,     -999.0,     -999.0,9,     -999.0
320620170820,        P06,     231,          3,          2,          2,2,20170924,       1848,   -32.5002,   -77.5253,       4233,  4129.1,   1.6480,  34.6957,2,  34.6954,2, 165.6284,2, 166.5488,2,   124.8,2,   34.53,2,    0.00,2,    2.40,2,   0.016,2,   0.025,2,   0.0000,4,  2302.8,2,  2401.3,2,   7.5915,2,    25.00, -999.00,9, -999.00,9, -999.00,  -999.0,9, -999.00,9,     -999.0,9,  -999.0,1, 20170924,     1852, -32.5004, -77.5246,        0.0,1,      0.061,1,      4.676,1,      0.139,1,     -999.0,1,     -999.0,9,     -999.0,9,     -999.0,9,     -999.0,9,     -999.0,9,     -999.0,9,     -999.0,9,     -999.0,9,     -999.0,9,     -999.0,9,     1.6483,2,     -999.0,     -999.0,9,     -999.0
320620170820,        P06,     231,          3,          3,          3,2,20170924,       1848,   -32.5002,   -77.5253,       4233,  3963.5,   1.6389,  34.6951,2,  34.6948,2, 165.6293,2, 165.9981,2,   124.2,2,   34.49,2,    0.00,2,    2.41,2,   0.015,2,   0.027,2,   0.0000,4,  2303.0,2,  2400.8,6,   7.5905,2,    25.00, -999.00,9, -999.00,9, -999.00,  -999.0,9, -999.00,9,     -999.0,9,  -999.0,1, 20170924,     1857, -32.5004, -77.5244,        0.0,1,      0.061,1,      4.679,1,      0.134,1,     -999.0,1,     -999.0,9,     -999.0,9,     -999.0,9,     -999.0,9,     -999.0,9,     -999.0,9,     -999.0,9,     -999.0,9,     -999.0,9,     -999.0,9,     1.6387,2,     -999.0,     -999.0,9,     -999.0
320620170820,        P06,     231,          3,          4,          4,2,20170924,       1848,   -32.5002,   -77.5253,       4233,  3655.4,   1.6508,  34.6931,2,  34.6932,2, 165.4527,3, 163.9997,2,   124.5,2,   34.63,2,    0.00,2,    2.41,2,   0.016,2,   0.029,2,   0.0000,4,  2304.0,2,  2399.7,2,   7.5878,2,    25.00, -999.00,9, -999.00,9, -999.00,  -999.0,9, -999.00,9,     -999.0,9,  -999.0,1, 20170924,     1904, -32.5004, -77.5244,        0.0,1,      0.061,1,      4.681,1,      0.132,1,     -999.0,1,     -999.0,9,     -999.0,9,     -999.0,9,     -999.0,9,     -999.0,9,     -999.0,9,     -999.0,9,     -999.0,9,     -999.0,9,     -999.0,9,     1.6521,2,     -999.0,     -999.0,9,     -999.0
320620170820,        P06,     231,          3,          5,          5,2,20170924,       1848,   -32.5002,   -77.5253,       4233,  3349.9,   1.7127,  34.6885,2,  34.6889,2, 160.6519,2, 159.8441,2,   125.2,2,   34.95,2,    0.00,2,    2.45,2,   0.015,2,   0.032,2,   0.0000,4,  2307.2,2,  2402.5,2,   7.5818,2,    25.00, -999.00,9, -999.00,9, -999.00,  -999.0,9, -999.00,9,     -999.0,9,  -999.0,1, 20170924,     1911, -32.5004, -77.5246,        0.0,1,      0.061,1,      4.681,1,      0.131,1,     -999.0,1,     -999.0,9,     -999.0,9,     -999.0,9,     -999.0,9,     -999.0,9,     -999.0,9,     -999.0,9,     -999.0,9,     -999.0,9,     -999.0,9,     1.7123,2,     -999.0,     -999.0,9,     -999.0
320620170820,        P06,     231,          3,          6,          6,2,20170924,       1848,   -32.5002,   -77.5253,       4233,  3041.3,   1.7865,  34.6814,2,  34.6808,2, 154.4579,2, 153.6989,2,   125.8,2,   35.36,2,    0.00,2,    2.47,2,   0.017,2,   0.043,2,   0.0000,4,  2310.6,2,  2403.3,2,   7.5755,2,    25.00, -999.00,9, -999.00,9, -999.00,  -999.0,9, -999.00,9,     -999.0,9,  -999.0,1, 20170924,     1917, -32.5004, -77.5246,        0.0,1,      0.061,1,      4.680,1,      0.133,1,     -999.0,1,     -999.0,9,     -999.0,9,     -999.0,9,     -999.0,9,     -999.0,9,     -999.0,9,     -999.0,9,     -999.0,9,     -999.0,9,     -999.0,9,     1.7820,2,     -999.0,     -999.0,9,     -999.0
320620170820,        P06,     231,          3,          7,          7,2,20170924,       1848,   -32.5002,   -77.5253,       4233,  2787.4,   1.8413,  34.6751,2,  34.6749,2, 150.9078,2, 151.5078,2,   124.2,2,   35.53,2,    0.00,2,    2.48,2,   0.013,2,   0.036,2,   0.0000,4,  2309.6,2,  2397.8,2,   7.5695,6,    25.00, -999.00,9, -999.00,9, -999.00,  -999.0,9, -999.00,9,     -999.0,9,  -999.0,1, 20170924,     1923, -32.5004, -77.5249,        0.0,1,      0.063,1,      4.681,1,      0.133,1,     -999.0,1,     -999.0,9,     -999.0,9,     -999.0,9,     -999.0,9,     -999.0,9,     -999.0,9,     -999.0,9,     -999.0,9,     -999.0,9,     -999.0,9,     1.8386,2,     -999.0,     -999.0,9,     -999.0
320620170820,        P06,     231,          3,          8,          8,2,20170924,       1848,   -32.5002,   -77.5253,       4233,  2530.7,   1.9054,  34.6675,2,  34.6684,2, 148.1283,2,  148.628,2,   122.7,2,   35.80,2,    0.00,2,    2.50,2,   0.013,2,   0.034,2,   0.0000,4,  2310.2,2,  2397.5,2,   7.5633,2,    25.00, -999.00,9, -999.00,9, -999.00,  -999.0,9, -999.00,9,     -999.0,9,  -999.0,1, 20170924,     1929, -32.5004, -77.5252,        0.0,1,      0.061,1,      4.681,1,      0.134,1,     -999.0,1,     -999.0,9,     -999.0,9,     -999.0,9,     -999.0,9,     -999.0,9,     -999.0,9,     -999.0,9,     -999.0,9,     -999.0,9,     -999.0,9,     1.8994,2,     -999.0,     -999.0,9,     -999.0
320620170820,        P06,     231,          3,          9,          9,2,20170924,       1848,   -32.5002,   -77.5253,       4233,  2276.0,   2.0367,  34.6539,2,  34.6545,2, 142.0196,2, 142.2911,2,   120.0,2,   36.29,2,    0.00,2,    2.54,2,   0.013,2,   0.040,2,   0.0000,4,  2312.4,2,  2393.3,2,   7.5521,2,    25.00, -999.00,9, -999.00,9, -999.00,  -999.0,9, -999.00,9,     -999.0,9,  -999.0,1, 20170924,     1935, -32.5003, -77.5248,        0.0,1,      0.061,1,      4.680,1,      0.137,1,     -999.0,1,     -999.0,9,     -999.0,9,     -999.0,9,     -999.0,9,     -999.0,9,     -999.0,9,     -999.0,9,     -999.0,9,     -999.0,9,     -999.0,9,     2.0307,2,     -999.0,     -999.0,9,     -999.0
320620170820,        P06,     231,          3,         10,         10,2,20170924,       1848,   -32.5002,   -77.5253,       4233,  2024.3,   2.1796,  34.6395,2,  34.6405,2, 136.5353,2, 136.6682,2,   116.5,2,   36.74,2,    0.00,2,    2.59,2,   0.015,2,   0.041,2,   0.0000,4,  2310.3,2,  2388.5,2,   7.5416,2,    25.00, -999.00,9, -999.00,9, -999.00,  -999.0,9, -999.00,9,     -999.0,9,  -999.0,1, 20170924,     1940, -32.5003, -77.5249,        0.0,1,      0.061,1,      4.680,1,      0.135,1,     -999.0,1,     -999.0,9,     -999.0,9,     -999.0,9,     -999.0,9,     -999.0,9,     -999.0,9,     -999.0,9,     -999.0,9,     -999.0,9,     -999.0,9,     2.1646,2,     -999.0,     -999.0,9,     -999.0
320620170820,        P06,     231,          3,         11,         11,2,20170924,       1848,   -32.5002,   -77.5253,       4233,  1819.7,   2.3862,  34.6200,2,  34.6215,2, 130.1507,2, 130.0567,2,   111.3,2,   37.33,2,    0.00,2,    2.65,2,   0.013,2,   0.047,2,   0.0000,4,  2310.1,2,  2382.6,2,   7.5282,2,    25.00, -999.00,9, -999.00,9, -999.00,  -999.0,9, -999.00,9,     -999.0,9,  -999.0,1, 20170924,     1945, -32.5003, -77.5247,        0.0,1,      0.062,1,      4.681,1,      0.136,1,     -999.0,1,     -999.0,9,     -999.0,9,     -999.0,9,     -999.0,9,     -999.0,9,     -999.0,9,     -999.0,9,     -999.0,9,     -999.0,9,     -999.0,9,     2.3619,2,     -999.0,     -999.0,9,     -999.0
320620170820,        P06,     231,          3,         12,         12,2,20170924,       1848,   -32.5002,   -77.5253,       4233,  1617.9,   2.6633,  34.5941,2,  34.5932,2, 121.0175,2, 121.2189,2,   103.4,2,   38.13,2,    0.00,2,    2.70,2,   0.018,2,   0.052,2,   0.0000,4,  2306.7,2,  2373.2,2,   7.5097,2,    25.00, -999.00,9, -999.00,9, -999.00,  -999.0,9, -999.00,9,     -999.0,9,  -999.0,1, 20170924,     1950, -32.5003, -77.5244,        0.0,1,      0.063,1,      4.680,1,      0.137,1,     -999.0,1,     -999.0,9,     -999.0,9,     -999.0,9,     -999.0,9,     -999.0,9,     -999.0,9,     -999.0,9,     -999.0,9,     -999.0,9,     -999.0,9,     2.6647,2,     -999.0,     -999.0,9,     -999.0
320620170820,        P06,     231,          3,         13,         13,2,20170924,       1848,   -32.5002,   -77.5253,       4233,  1416.0,   2.9748,  34.5600,2,  34.5551,2, 114.1433,2,  114.001,2,    92.3,2,   38.83,2,    0.00,2,    2.75,2,   0.018,2,   0.056,2,   0.0000,4,  2302.1,6,  2360.6,2,   7.4930,2,    25.00, -999.00,9, -999.00,9, -999.00,  -999.0,9, -999.00,9,     -999.0,9,  -999.0,1, 20170924,     1955, -32.5003, -77.5246,        0.0,1,      0.063,1,      4.680,1,      0.142,1,     -999.0,1,     -999.0,9,     -999.0,9,     -999.0,9,     -999.0,9,     -999.0,9,     -999.0,9,     -999.0,9,     -999.0,9,     -999.0,9,     -999.0,9,     3.0153,2,     -999.0,     -999.0,9,     -999.0
320620170820,        P06,     231,          3,         14,         14,2,20170924,       1848,   -32.5002,   -77.5253,       4233,  1211.5,   3.3837,  34.4971,2,  34.4954,2, 116.3692,2,   116.08,2,    76.1,2,   38.87,2,    0.00,2,    2.73,2,   0.051,2,   0.080,2,   0.0000,4,  2284.6,2,  2341.1,2,   7.4880,2,    25.00, -999.00,9, -999.00,9, -999.00,  -999.0,9, -999.00,9,     -999.0,9,  -999.0,1, 20170924,     1959, -32.5003, -77.5248,        0.0,1,      0.063,1,      4.679,1,      0.144,1,     -999.0,1,     -999.0,9,     -999.0,9,     -999.0,9,     -999.0,9,     -999.0,9,     -999.0,9,     -999.0,9,     -999.0,9,     -999.0,9,     -999.0,9,     3.3896,2,     -999.0,     -999.0,9,     -999.0
320620170820,        P06,     231,          3,         15,         15,2,20170924,       1848,   -32.5002,   -77.5253,       4233,  1110.9,   3.5855,  34.4556,2,  34.4559,2, 123.9011,2, 123.8717,2,    66.3,2,   38.35,2,    0.00,2,    2.71,2,   0.106,2,   0.097,2,   0.0000,4,  2271.3,2,  2330.6,2,   7.4930,2,    25.00, -999.00,9, -999.00,9, -999.00,  -999.0,9, -999.00,9,     -999.0,9,  -999.0,1, 20170924,     2002, -32.5003, -77.5251,        0.0,1,      0.062,1,      4.679,1,      0.140,1,     -999.0,1,     -999.0,9,     -999.0,9,     -999.0,9,     -999.0,9,     -999.0,9,     -999.0,9,     -999.0,9,     -999.0,9,     -999.0,9,     -999.0,9,     3.5802,2,     -999.0,     -999.0,9,     -999.0
320620170820,        P06,     231,          3,         16,         16,2,20170924,       1848,   -32.5002,   -77.5253,       4233,  1010.5,   3.8146,  34.4006,2,  34.3992,2, 143.0421,2, 142.7887,2,    53.0,2,   36.82,2,    0.00,2,    2.57,2,   0.348,2,   0.207,2,   0.2320,4,  2248.2,2,  2314.7,2,   7.5190,2,    25.00, -999.00,9, -999.00,9, -999.00,  -999.0,9, -999.00,9,     -999.0,9,  -999.0,1, 20170924,     2005, -32.5003, -77.5251,        0.0,1,      0.061,1,      4.680,1,      0.143,1,     -999.0,1,     -999.0,9,     -999.0,9,     -999.0,9,     -999.0,9,     -999.0,9,     -999.0,9,     -999.0,9,     -999.0,9,     -999.0,9,     -999.0,9,     3.8161,2,     -999.0,     -999.0,9,     -999.0
320620170820,        P06,     231,          3,         17,         17,2,20170924,       1848,   -32.5002,   -77.5253,       4233,   909.3,   4.2780,  34.3683,2,  34.3635,2, 148.7386,2, 148.5227,2,    41.7,2,   35.92,2,    0.00,2,    2.51,2,   0.619,2,   0.324,2,   0.4570,4,  2236.0,2,  2302.6,2,   7.5282,2,    25.00, -999.00,9, -999.00,9, -999.00,  -999.0,9, -999.00,9,     -999.0,9,  -999.0,1, 20170924,     2008, -32.5003, -77.5251,        0.0,1,      0.062,1,      4.679,1,      0.144,1,     -999.0,1,     -999.0,9,     -999.0,9,     -999.0,9,     -999.0,9,     -999.0,9,     -999.0,9,     -999.0,9,     -999.0,9,     -999.0,9,     -999.0,9,     4.3308,2,     -999.0,     -999.0,9,     -999.0
320620170820,        P06,     231,          3,         18,         18,2,20170924,       1848,   -32.5002,   -77.5253,       4233,   805.8,   4.7676,  34.3255,2,  34.3223,2, 165.9746,2, 166.3902,2,    30.4,2,   33.85,2,    0.00,2,    2.34,2,   1.172,2,   0.629,2,   0.2420,4,  2216.4,2,  2292.4,2,   7.5563,2,    25.00, -999.00,9, -999.00,9, -999.00,  -999.0,9, -999.00,9,     -999.0,9,  -999.0,1, 20170924,     2010, -32.5003, -77.5251,        0.0,1,      0.061,1,      4.678,1,      0.139,1,     -999.0,1,     -999.0,9,     -999.0,9,     -999.0,9,     -999.0,9,     -999.0,9,     -999.0,9,     -999.0,9,     -999.0,9,     -999.0,9,     -999.0,9,     4.7776,2,     -999.0,     -999.0,9,     -999.0
320620170820,        P06,     231,          3,         19,         19,2,20170924,       1848,   -32.5002,   -77.5253,       4233,   707.4,   5.2263,  34.2856,2,  34.2830,2, 193.1004,2, 192.7346,2,    19.8,2,   30.87,2,    0.00,2,    2.15,2,   2.322,2,   1.183,2,   0.3800,4,  2193.5,6,  2282.0,2,   7.5955,2,    25.00, -999.00,9, -999.00,9, -999.00,  -999.0,9, -999.00,9,     -999.0,9,  -999.0,1, 20170924,     2013, -32.5003, -77.5249,        0.0,1,      0.061,1,      4.678,1,      0.144,1,     -999.0,1,     -999.0,9,     -999.0,9,     -999.0,9,     -999.0,9,     -999.0,9,     -999.0,9,     -999.0,9,     -999.0,9,     -999.0,9,     -999.0,9,     5.2384,2,     -999.0,     -999.0,9,     -999.0
320620170820,        P06,     231,          3,         20,         20,2,20170924,       1848,   -32.5002,   -77.5253,       4233,   605.3,   5.8172,  34.2960,2,  34.2952,2, 187.8775,2, 189.3016,2,    15.2,2,   29.96,2,    0.00,2,    2.07,2,   2.927,2,   1.443,2,   0.5480,4,  2190.1,2,  2277.4,2,   7.5911,2,    25.00, -999.00,9, -999.00,9, -999.00,  -999.0,9, -999.00,9,     -999.0,9,  -999.0,1, 20170924,     2016, -32.5003, -77.5249,        0.0,1,      0.060,1,      4.675,1,      0.148,1,     -999.0,1,     -999.0,9,     -999.0,9,     -999.0,9,     -999.0,9,     -999.0,9,     -999.0,9,     -999.0,9,     -999.0,9,     -999.0,9,     -999.0,9,     5.8546,2,     -999.0,     -999.0,9,     -999.0
320620170820,        P06,     231,          3,         21,         21,2,20170924,       1848,   -32.5002,   -77.5253,       4233,   503.5,   6.7177,  34.3474,2,  34.3376,2, 147.8107,2, 146.6702,2,    16.1,2,   31.84,2,    0.00,2,    2.23,2,   2.652,2,   1.378,2,   0.7990,4,  2213.8,2,  2276.4,2,   7.5242,2,    25.00, -999.00,9, -999.00,9, -999.00,  -999.0,9, -999.00,9,     -999.0,9,  -999.0,1, 20170924,     2019, -32.5003, -77.5250,        0.0,1,      0.061,1,      4.671,1,      0.150,1,     -999.0,1,     -999.0,9,     -999.0,9,     -999.0,9,     -999.0,9,     -999.0,9,     -999.0,9,     -999.0,9,     -999.0,9,     -999.0,9,     -999.0,9,     6.6590,2,     -999.0,     -999.0,9,     -999.0
320620170820,        P06,     231,          3,         22,         22,2,20170924,       1848,   -32.5002,   -77.5253,       4233,   454.1,   7.4082,  34.3971,2,  34.3933,2,  98.5877,2,  96.5605,2,    18.9,2,   34.16,2,    0.00,2,    2.47,2,   2.028,2,   1.130,2,   0.4630,4,  2240.1,2,  2278.2,2,   7.4435,2,    25.00, -999.00,9, -999.00,9, -999.00,  -999.0,9, -999.00,9,     -999.0,9,  -999.0,1, 20170924,     2021, -32.5003, -77.5252,        0.0,1,      0.064,1,      4.668,1,      0.154,1,     -999.0,1,     -999.0,9,     -999.0,9,     -999.0,9,     -999.0,9,     -999.0,9,     -999.0,9,     -999.0,9,     -999.0,9,     -999.0,9,     -999.0,9,     7.3951,2,     -999.0,     -999.0,9,     -999.0
320620170820,        P06,     231,          3,         23,         23,2,20170924,       1848,   -32.5002,   -77.5253,       4233,   403.0,   8.2353,  34.4555,2,  34.4459,2,  58.4616,2,  60.8686,2,    20.8,2,   34.79,2,    0.00,2,    2.62,2,   1.675,2,   0.988,2,   0.3910,4,  2258.9,2,  2279.8,6,   7.3882,2,    25.00, -999.00,9, -999.00,9, -999.00,  -999.0,9, -999.00,9,     -999.0,9,  -999.0,1, 20170924,     2023, -32.5002, -77.5253,        0.0,1,      0.065,1,      4.666,1,      0.165,1,     -999.0,1,     -999.0,9,     -999.0,9,     -999.0,9,     -999.0,9,     -999.0,9,     -999.0,9,     -999.0,9,     -999.0,9,     -999.0,9,     -999.0,9,     8.1959,2,     -999.0,     -999.0,9,     -999.0
320620170820,        P06,     231,          3,         24,         24,2,20170924,       1848,   -32.5002,   -77.5253,       4233,   327.3,   9.6706,  34.5500,2,  34.5392,2,  28.8213,2,   29.279,2,    22.7,2,   31.00,2,    0.00,2,    2.72,2,   1.398,6,   0.822,6,   0.5600,4,  2274.6,2,  2283.0,2,   7.3520,2,    25.00, -999.00,9, -999.00,9, -999.00,  -999.0,9, -999.00,9,     -999.0,9,  -999.0,1, 20170924,     2025, -32.5002, -77.5252,        0.0,1,      0.065,1,      4.657,1,      0.169,1,     -999.0,1,     -999.0,1,     -999.0,9,     -999.0,9,     -999.0,9,     -999.0,9,     -999.0,9,     -999.0,9,     -999.0,9,     -999.0,9,     -999.0,9,     9.6246,2,     -999.0,     -999.0,9,     -999.0
320620170820,        P06,     231,          3,         25,         25,2,20170924,       1848,   -32.5002,   -77.5253,       4233,   252.9,  10.6610,  34.5442,2,  34.5518,2,  33.7793,2,   32.583,2,    21.4,2,   26.04,2,    0.00,2,    2.64,2,   1.514,2,   0.957,2,   0.5720,4,  2266.8,2,  2282.7,2,   7.3687,2,    25.00, -999.00,9, -999.00,9, -999.00,  -999.0,9, -999.00,9,     -999.0,9,  -999.0,1, 20170924,     2027, -32.5002, -77.5251,        0.0,1,      0.064,1,      4.658,1,      0.163,1,     -999.0,1,     -999.0,1,     -999.0,9,     -999.0,9,     -999.0,9,     -999.0,9,     -999.0,9,     -999.0,9,     -999.0,9,     -999.0,9,     -999.0,9,    10.5990,2,     -999.0,     -999.0,9,     -999.0
320620170820,        P06,     231,          3,         26,         26,2,20170924,       1848,   -32.5002,   -77.5253,       4233,   201.0,  11.2295,  34.3685,2,  34.4328,2,  71.6269,2,  71.4352,2,    15.2,2,   24.25,2,    0.00,2,    2.35,2,   2.097,2,   1.300,2,   0.9870,4,  2238.5,2,  2274.8,2,   7.4388,2,    25.00, -999.00,9, -999.00,9, -999.00,  -999.0,9, -999.00,9,     -999.0,9,  -999.0,1, 20170924,     2029, -32.5002, -77.5252,        0.0,1,      0.063,1,      4.657,1,      0.169,1,     -999.0,1,     -999.0,1,     -999.0,9,     -999.0,9,     -999.0,9,     -999.0,9,     -999.0,9,     -999.0,9,     -999.0,9,     -999.0,9,     -999.0,9,    11.1074,2,     -999.0,     -999.0,9,     -999.0