BOTTLE,20240208CCHSIOVAJ
EXPOCODE,SECT_ID,STNNBR,CASTNO,SAMPNO,BTLNBR,BTLNBR_FLAG_W,DATE,LATITUDE,LONGITUDE,DEPTH,CTDPRS,CTDTMP,CTDSAL,CTDSAL_FLAG_W,SALNTY,SALNTY_FLAG_W,CTDOXY,CTDOXY_FLAG_W,OXYGEN,OXYGEN_FLAG_W,SILCAT,SILCAT_FLAG_W,NITRAT,NITRAT_FLAG_W,PHSPHT,PHSPHT_FLAG_W,TCARBN,TCARBN_FLAG_W,ALKALI,ALKALI_FLAG_W,DELO18,DELO18_FLAG_W,TIME
,,,,,,,,,,METERS,DBAR,ITS-90,PSS-78,,PSS-78,,UMOL/KG,,UMOL/KG,,UMOL/KG,,UMOL/KG,,UMOL/KG,,UMOL/KG,,UMOL/KG,,/MILLE,,
  18SN20150920,   ARC,55,1,24,24,2,20151011,74.0015,-140.0103,3449,   5.7,-1.3815,26.0330,2,26.0359,2,389.2,2,388.0,2, 2.46,2,-0.04,2,0.51,2,1824.9,2,1881.2,2, -999,9,1155
  18SN20150920,   ARC,55,1,23,23,2,20151011,74.0015,-140.0103,3449,  20.9,-1.4157,26.0404,2,26.0446,2,389.7,2,387.4,2, 2.46,2,-0.08,2,0.51,2,1822.7,2,1885.9,2, -999,9,1155
  18SN20150920,   ARC,55,1,22,22,2,20151011,74.0015,-140.0103,3449,  41.3,-0.9642,28.0758,2,28.0498,2,395.7,2,398.1,2, 2.63,2,-0.08,2,0.56,2,1941.0,2,2027.2,2,-3.70,2,1155
  18SN20150920,   ARC,55,1,21,21,2,20151011,74.0015,-140.0103,3449,  73.4, 0.0191,31.1387,2,31.4813,2,359.1,2,346.0,2, 9.20,2, 3.85,2,1.03,2,2081.6,2,2193.3,2,-2.12,2,1155
  18SN20150920,   ARC,55,1,20,20,2,20151011,74.0015,-140.0103,3449,  94.5,-0.7137,31.8394,2,31.8525,2,323.8,2,323.6,2,13.62,2, 7.21,2,1.26,2,2115.8,2,2209.0,2,-1.86,2,1155
  18SN20150920,   ARC,55,1,19,19,2,20151011,74.0015,-140.0103,3449, 123.1,-1.1763,32.3028,2,32.2929,2,306.4,2,307.7,2,21.87,2,10.79,2,1.55,2,2155.9,2,2228.8,2,-1.70,2,1155
  18SN20150920,   ARC,55,1,18,18,2,20151011,74.0015,-140.0103,3449, 152.5,-1.3301,32.5901,2,32.5879,2,292.3,2,295.8,2,26.23,2,12.76,2,1.67,2,2184.1,2,2244.4,2,-1.60,2,1155
  18SN20150920,   ARC,55,1,17,17,2,20151011,74.0015,-140.0103,3449, 186.0,-1.4376,32.9307,2,32.9209,2,278.4,2,279.1,2,32.58,2,15.12,2,1.83,2,2219.0,2,2262.4,2,-1.55,2,1155
  18SN20150920,   ARC,55,1,16,16,2,20151011,74.0015,-140.0103,3449, 204.1,-1.4446,33.1417,2,33.1277,2,271.6,2,272.6,2,34.90,2,15.71,2,1.86,2,2233.0,2,2274.6,2,-1.46,2,1155
  18SN20150920,   ARC,55,1,15,15,2,20151011,74.0015,-140.0103,3449, 231.4,-1.2475,33.6923,2,33.6759,2,270.0,2,268.4,2,28.53,2,14.70,2,1.57,2,2225.3,2,2279.9,2,-1.05,2,1155
  18SN20150920,   ARC,55,1,14,14,2,20151011,74.0015,-140.0103,3449, 255.7,-0.7621,34.1687,2,34.1539,2,269.1,2,268.5,2,18.25,2,12.83,2,1.14,2,2197.5,2,2282.2,2,-0.48,2,1155
  18SN20150920,   ARC,55,1,13,13,2,20151011,74.0015,-140.0103,3449, 286.8,-0.2375,34.4351,2,34.4287,2,281.4,2,279.6,2,10.75,2,11.69,2,0.88,2,2174.0,2,2282.7,2,-0.11,2,1155
  18SN20150920,   ARC,55,1,12,12,2,20151011,74.0015,-140.0103,3449, 351.9, 0.4470,34.7245,2,34.7042,2,286.2,2,285.6,2, 6.81,2,12.32,2,0.82,2,2160.6,2,2288.6,2, 0.11,2,1155
  18SN20150920,   ARC,55,1,11,11,2,20151011,74.0015,-140.0103,3449, 397.2, 0.6136,34.7900,2,34.7905,2,289.8,2,290.6,2, 6.83,2,12.32,2,0.82,2,2154.6,2,2294.8,2, -999,9,1155
  18SN20150920,   ARC,55,1,10,10,2,20151011,74.0015,-140.0103,3449, 451.1, 0.7190,34.8300,2,34.8315,2,292.3,2,293.2,2, 6.62,2,12.51,2,0.82,2,2149.7,2,2290.0,2, 0.17,2,1155
  18SN20150920,   ARC,55,1, 9, 9,2,20151011,74.0015,-140.0103,3449, 507.6, 0.7108,34.8420,2,34.8431,2,293.9,2,293.6,2, 6.67,2,12.52,2,0.83,2,2150.0,2,2302.9,2, 0.16,2,1155
  18SN20150920,   ARC,55,1, 8, 8,2,20151011,74.0015,-140.0103,3449, 609.2, 0.5242,34.8509,2,34.8520,2,293.9,2,294.1,2, 6.77,2,12.57,2,0.83,2,2146.6,2,2293.3,2, 0.18,2,1155
  18SN20150920,   ARC,55,1, 7, 7,2,20151011,74.0015,-140.0103,3449, 710.6, 0.3976,34.8615,2,34.8647,2,294.9,2,295.3,2, 6.80,2,12.61,2,0.84,2,2147.0,2,2291.7,2, 0.15,2,1155
  18SN20150920,   ARC,55,1, 6, 6,2,20151011,74.0015,-140.0103,3449, 794.3, 0.2664,34.8661,2,34.8686,2,296.1,2,296.5,2, 6.88,2,12.61,2,0.84,2,2146.7,2,2292.0,2, 0.20,2,1155
  18SN20150920,   ARC,55,1, 5, 5,2,20151011,74.0015,-140.0103,3449,1014.8, 0.0126,34.8822,2,34.8847,2,298.1,2,298.4,2, 7.06,2,12.69,2,0.85,2,2143.2,2,2298.9,2, 0.22,2,1155
  18SN20150920,   ARC,55,1, 4, 4,2,20151011,74.0015,-140.0103,3449,1523.2,-0.3125,34.9160,2,34.9180,2,297.1,2,297.7,2, 8.72,2,13.32,2,0.90,2,2141.9,2,2296.6,2, 0.23,2,1155
  18SN20150920,   ARC,55,1, 3, 3,2,20151011,74.0015,-140.0103,3449,2032.7,-0.4083,34.9423,2,34.9436,2,290.5,2,290.7,2,11.20,2,14.08,2,0.96,2,2139.8,2,2299.3,2, 0.22,2,1155
  18SN20150920,   ARC,55,1, 2, 2,2,20151011,74.0015,-140.0103,3449,2543.1,-0.3776,34.9531,2,34.9533,2,286.0,2,286.5,2,12.58,2,14.32,2,0.99,2,2142.9,2,2302.9,2, 0.24,2,1155
  18SN20150920,   ARC,55,1, 1, 1,2,20151011,74.0015,-140.0103,3449,3053.8,-0.3257,34.9562,2,34.9553,2,283.3,2,283.9,2,13.45,2,14.43,2,0.99,2,2143.9,2,2301.8,2, 0.30,2,1155
  18SN20150920,   ARC,56,1,24,24,2,20151012,72.9002,-136.0118,2801,   5.1,-1.4158,26.1436,2,26.1447,2,382.7,2,386.7,2, 2.53,2,-0.06,2,0.52,2,1813.6,2,1881.6,2, -999,9,0628
  18SN20150920,   ARC,56,1,23,23,2,20151012,72.9002,-136.0118,2801,  20.0,-0.6385,27.8643,2,27.8680,2,391.6,2,398.0,2, 2.68,2,-0.09,2,0.56,2,1918.9,2,2000.3,2, -999,9,0628
  18SN20150920,   ARC,56,1,22,22,2,20151012,72.9002,-136.0118,2801,  31.2,-0.9166,28.0261,2,28.0198,2,397.6,2,398.4,2, 2.74,2,-0.10,2,0.56,2,1928.3,2,2016.2,2, -999,9,0628
  18SN20150920,   ARC,56,1,21,21,2,20151012,72.9002,-136.0118,2801,  41.3,-1.0470,28.1650,2,28.1751,2,396.9,2,397.1,2, 2.74,2,-0.10,2,0.57,2,1932.7,2,2025.2,2, -999,9,0628
  18SN20150920,   ARC,56,1,20,20,2,20151012,72.9002,-136.0118,2801,  71.8,-0.0146,31.1883,2,31.1618,2,356.5,2,362.0,2, 6.76,2, 1.03,2,0.84,2,2056.4,2,2179.7,2, -999,9,0628
  18SN20150920,   ARC,56,1,19,19,2,20151012,72.9002,-136.0118,2801,  90.9,-0.7064,31.8239,2,31.8160,2,323.7,2,326.3,2,13.18,2, 6.82,2,1.23,2,-999.0,9,-999.0,9, -999,9,0628
  18SN20150920,   ARC,56,1,18,18,2,20151012,72.9002,-136.0118,2801, 119.1,-1.2173,32.3374,2,32.3325,2, -999,9,306.2,2,23.25,2,11.06,2,1.56,2,-999.0,9,-999.0,9, -999,9,0628
  18SN20150920,   ARC,56,1,17,17,2,20151012,72.9002,-136.0118,2801, 144.2,-1.3242,32.6005,2,32.5986,2, -999,9,294.3,2,27.16,2,12.91,2,1.68,2,-999.0,9,-999.0,9, -999,9,0628
  18SN20150920,   ARC,56,1,16,16,2,20151012,72.9002,-136.0118,2801, 174.7,-1.4143,32.9288,2,32.9192,2, -999,9,277.8,2,33.21,2,15.28,2,1.83,2,-999.0,9,-999.0,9, -999,9,0628
  18SN20150920,   ARC,56,1,15,15,2,20151012,72.9002,-136.0118,2801, 181.9,-1.4248,33.0089,2,33.0042,2, -999,9,275.6,2,34.08,2,15.59,2,1.85,2,-999.0,9,-999.0,9, -999,9,0628
  18SN20150920,   ARC,56,1,14,14,2,20151012,72.9002,-136.0118,2801, 192.9,-1.4359,33.1450,2,33.1262,2, -999,9,272.9,2,34.61,2,15.83,2,1.86,2,-999.0,9,-999.0,9, -999,9,0628
  18SN20150920,   ARC,56,1,13,13,2,20151012,72.9002,-136.0118,2801, 221.1,-1.2398,33.7162,2,33.6938,2, -999,9,268.0,2,28.48,2,14.79,2,1.56,2,-999.0,9,-999.0,9, -999,9,0628
  18SN20150920,   ARC,56,1,12,12,2,20151012,72.9002,-136.0118,2801, 226.3,-1.1463,33.8385,2,33.8169,2, -999,9,265.7,2,26.70,2,14.41,2,1.47,2,-999.0,9,-999.0,9, -999,9,0628
  18SN20150920,   ARC,56,1,11,11,2,20151012,72.9002,-136.0118,2801, 242.5,-0.7941,34.1263,2,34.1168,2, -999,9,267.0,2,19.25,2,12.89,2,1.17,2,-999.0,9,-999.0,9, -999,9,0628
  18SN20150920,   ARC,56,1,10,10,2,20151012,72.9002,-136.0118,2801, 273.3,-0.2741,34.4178,2,34.4128,2, -999,9,283.8,2, 9.67,2,11.25,2,0.83,2,-999.0,9,-999.0,9, -999,9,0628
  18SN20150920,   ARC,56,1, 9, 9,2,20151012,72.9002,-136.0118,2801, 443.3, 0.6632,34.8251,2,34.8242,2, -999,9,290.7,2, 6.89,2,12.56,2,0.83,2,-999.0,9,-999.0,9, -999,9,0628
  18SN20150920,   ARC,56,1, 8, 8,2,20151012,72.9002,-136.0118,2801, 507.0, 0.6694,34.8450,2,34.8412,2, -999,9,292.6,2, 6.88,2,12.67,2,0.83,2,-999.0,9,-999.0,9, -999,9,0628
  18SN20150920,   ARC,56,1, 7, 7,2,20151012,72.9002,-136.0118,2801, 608.6, 0.4849,34.8506,2,34.8524,2, -999,9,293.7,2, 6.91,2,12.63,2,0.84,2,-999.0,9,-999.0,9, -999,9,0628
  18SN20150920,   ARC,56,1, 6, 6,2,20151012,72.9002,-136.0118,2801, 811.4, 0.2224,34.8680,2,34.8663,2, -999,9,296.5,2, 6.81,2,12.65,2,0.84,2,-999.0,9,-999.0,9, -999,9,0628
  18SN20150920,   ARC,56,1, 5, 5,2,20151012,72.9002,-136.0118,2801,1015.1, 0.0082,34.8822,2,34.8801,2, -999,9,297.9,2, 7.14,2,12.66,2,0.85,2,-999.0,9,-999.0,9, -999,9,0628
  18SN20150920,   ARC,56,1, 4, 4,2,20151012,72.9002,-136.0118,2801,1523.7,-0.3202,34.9155,2,34.9147,2, -999,9,296.5,2, 9.02,2,13.35,2,0.91,2,-999.0,9,-999.0,9, -999,9,0628
  18SN20150920,   ARC,56,1, 3, 3,2,20151012,72.9002,-136.0118,2801,2033.1,-0.4048,34.9420,2,34.9436,2, -999,9,289.9,2,11.50,2,14.10,2,0.97,2,-999.0,9,-999.0,9, -999,9,0628
  18SN20150920,   ARC,56,1, 2, 2,2,20151012,72.9002,-136.0118,2801,2543.8,-0.3707,34.9537,2,34.9538,2, -999,9,284.1,2,13.41,2,14.36,2,0.99,2,-999.0,9,-999.0,9, -999,9,0628
  18SN20150920,   ARC,56,1, 1, 1,2,20151012,72.9002,-136.0118,2801,2792.8,-0.3447,34.9561,2,34.9553,2, -999,9,282.3,2,14.13,2,14.51,2,1.00,2,-999.0,9,-999.0,9, -999,9,0628
  18SN20150920,   ARC,57,1,24,24,2,20151012,73.4523,-138.0202,3136,   5.6,-1.4244,26.0700,2,26.1061,2,390.5,2,390.1,2, 2.53,2,-0.05,2,0.51,2,1786.1,2,1881.4,2,-3.77,2,1157
  18SN20150920,   ARC,57,1,23,23,2,20151012,73.4523,-138.0202,3136,  20.7,-1.2350,26.4483,2,27.2634,2,394.3,2,394.8,2, 2.56,2,-0.09,2,0.54,2,1914.5,2,1970.2,2,-3.76,2,1157
  18SN20150920,   ARC,57,1,22,22,2,20151012,73.4523,-138.0202,3136,  41.3,-0.9702,28.0778,2,28.0672,2,398.1,2,398.2,2, 2.63,2,-0.09,2,0.56,2,1947.9,2,2021.2,2,-3.69,2,1157
  18SN20150920,   ARC,57,1,21,21,2,20151012,73.4523,-138.0202,3136,  76.1,-0.1863,31.3315,2,31.3065,2,354.3,2,354.8,2, 7.70,2, 2.36,2,0.92,2,2081.6,2,2184.6,2,-2.22,2,1157
  18SN20150920,   ARC,57,1,20,20,2,20151012,73.4523,-138.0202,3136,  93.4,-0.7953,31.8848,2,31.8587,2,324.8,2,323.1,2,13.97,2, 7.24,2,1.26,2,2115.1,2,2205.4,2,-1.87,2,1157
  18SN20150920,   ARC,57,1,19,19,2,20151012,73.4523,-138.0202,3136, 124.2,-1.2066,32.3534,2,32.3500,2,305.8,2,306.0,2,22.67,2,11.14,2,1.56,2,2157.1,2,2228.2,2,-1.64,2,1157
  18SN20150920,   ARC,57,1,18,18,2,20151012,73.4523,-138.0202,3136, 151.3,-1.3389,32.6377,2,32.6438,2,291.8,2,291.8,2,27.63,2,13.18,2,1.70,2,2197.8,2,2241.8,2,-1.60,2,1157
  18SN20150920,   ARC,57,1,17,17,2,20151012,73.4523,-138.0202,3136, 179.8,-1.4031,32.9092,2,32.9044,2,276.4,2,277.4,2,32.78,2,15.27,2,1.83,2,2159.4,2,2258.4,2,-1.53,2,1157
  18SN20150920,   ARC,57,1,16,16,2,20151012,73.4523,-138.0202,3136, 198.4,-1.4305,33.1205,2,33.1057,2,272.1,2,272.0,2,34.63,2,15.90,2,1.86,2,2185.5,2,2268.1,2,-1.48,2,1157
  18SN20150920,   ARC,57,1,15,15,2,20151012,73.4523,-138.0202,3136, 223.4,-1.2883,33.6042,2,33.5846,2,268.5,2,269.3,2,29.67,2,14.98,2,1.62,2,2195.0,2,2282.8,2,-1.17,2,1157
  18SN20150920,   ARC,57,1,14,14,2,20151012,73.4523,-138.0202,3136, 248.4,-0.8025,34.1180,2,34.1095,2,266.2,2,266.1,2,19.82,2,13.15,2,1.18,2,2157.2,2,2280.0,2,-0.58,2,1157
  18SN20150920,   ARC,57,1,13,13,2,20151012,73.4523,-138.0202,3136, 280.8,-0.2935,34.4134,2,34.4088,2,283.9,2,283.6,2, 9.74,2,11.16,2,0.83,2,2153.5,2,2275.7,2,-0.20,2,1157
  18SN20150920,   ARC,57,1,12,12,2,20151012,73.4523,-138.0202,3136, 352.7, 0.3922,34.7232,2,34.7235,2,282.3,2,281.8,2, 9.11,2,12.70,2,0.87,2,2160.0,2,2286.8,2, 0.08,2,1157
  18SN20150920,   ARC,57,1,11,11,2,20151012,73.4523,-138.0202,3136, 396.1, 0.5611,34.7885,2,34.7892,2,287.9,2,287.4,2, 7.60,2,12.67,2,0.84,2,-999.0,9,-999.0,9, -999,9,1157
  18SN20150920,   ARC,57,1,10,10,2,20151012,73.4523,-138.0202,3136, 455.8, 0.6731,34.8266,2,34.8276,2,291.4,2,291.1,2, 6.96,2,12.60,2,0.83,2,-999.0,9,-999.0,9, -999,9,1157
  18SN20150920,   ARC,57,1, 9, 9,2,20151012,73.4523,-138.0202,3136, 505.9, 0.6475,34.8441,2,34.8431,2,293.8,2,293.2,2, 6.80,2,12.63,2,0.83,2,-999.0,9,-999.0,9, -999,9,1157
  18SN20150920,   ARC,57,1, 8, 8,2,20151012,73.4523,-138.0202,3136, 608.6, 0.4736,34.8510,2,34.8530,2,294.0,2,294.2,2, 6.96,2,12.64,2,0.84,2,-999.0,9,-999.0,9, -999,9,1157
  18SN20150920,   ARC,57,1, 7, 7,2,20151012,73.4523,-138.0202,3136, 710.2, 0.3644,34.8609,2,34.8627,2,295.0,2,294.7,2, 6.99,2,12.70,2,0.84,2,-999.0,9,-999.0,9, -999,9,1157
  18SN20150920,   ARC,57,1, 6, 6,2,20151012,73.4523,-138.0202,3136, 811.6, 0.2117,34.8674,2,34.8687,2,296.6,2,296.9,2, 6.91,2,12.66,2,0.84,2,-999.0,9,-999.0,9, -999,9,1157
  18SN20150920,   ARC,57,1, 5, 5,2,20151012,73.4523,-138.0202,3136,1015.0,-0.0059,34.8823,2,34.8846,2,298.0,2,297.9,2, 7.27,2,12.79,2,0.86,2,-999.0,9,-999.0,9, -999,9,1157
  18SN20150920,   ARC,57,1, 4, 4,2,20151012,73.4523,-138.0202,3136,1522.6,-0.3140,34.9164,2,34.9180,2,297.0,2,297.0,2, 8.84,2,13.34,2,0.91,2,-999.0,9,-999.0,9, -999,9,1157
  18SN20150920,   ARC,57,1, 3, 3,2,20151012,73.4523,-138.0202,3136,2031.6,-0.4079,34.9426,2,34.9432,2,290.2,2,289.9,2,11.48,2,14.12,2,0.96,2,-999.0,9,-999.0,9, -999,9,1157
  18SN20150920,   ARC,57,1, 2, 2,2,20151012,73.4523,-138.0202,3136,3054.8,-0.3248,34.9561,2,34.9555,2,283.4,2,283.1,2,13.78,2,14.61,2,0.99,2,-999.0,9,-999.0,9, -999,9,1157
  18SN20150920,   ARC,57,1, 1, 1,2,20151012,73.4523,-138.0202,3136,3054.9,-0.3250,34.9562,2,34.9537,2,283.4,2,283.2,2,13.78,2,14.61,2,0.99,2,-999.0,9,-999.0,9, -999,9,1157
  18SN20150920,   ARC,59,1,23,23,2,20151013,74.0042,-140.1652,3457,   4.8,-1.4113,26.0161,2,26.0151,2,387.2,2,387.9,2, 2.41,2,-0.11,2,0.50,2,-999.0,9,-999.0,9, -999,9,0158
  18SN20150920,   ARC,59,1,22,22,2,20151013,74.0042,-140.1652,3457,  20.2,-1.4107,26.0158,2,26.0533,2,388.0,2,386.1,2, 2.42,2,-0.14,2,0.50,2,-999.0,9,-999.0,9, -999,9,0158
  18SN20150920,   ARC,59,1,21,21,2,20151013,74.0042,-140.1652,3457,  35.8,-0.8536,27.8282,2,27.8791,2,398.9,2, -999,9, 2.55,2,-0.14,2,0.56,2,-999.0,9,-999.0,9, -999,9,0158
  18SN20150920,   ARC,59,1,20,20,2,20151013,74.0042,-140.1652,3457,  51.2,-0.3890,29.5678,2,29.5562,2,387.2,2, -999,9, 2.96,2,-0.14,2,0.64,2,-999.0,9,-999.0,9, -999,9,0158
  18SN20150920,   ARC,59,1,19,19,2,20151013,74.0042,-140.1652,3457,  61.5, 0.0981,30.4176,2,30.4340,2,376.9,2, -999,9, 3.88,2,-0.13,2,0.70,2,-999.0,9,-999.0,9, -999,9,0158
  18SN20150920,   ARC,59,1,18,18,2,20151013,74.0042,-140.1652,3457,  71.5, 0.1414,31.0079,2,31.0338,2,366.0,2, -999,9, 5.58,2, 0.13,2,0.78,2,-999.0,9,-999.0,9, -999,9,0158
  18SN20150920,   ARC,59,1,17,17,2,20151013,74.0042,-140.1652,3457,  81.0,-0.1784,31.3775,2,31.3516,2,347.6,2,352.2,2, 7.58,2, 2.61,2,0.95,2,-999.0,9,-999.0,9, -999,9,0158
  18SN20150920,   ARC,59,1,16,16,2,20151013,74.0042,-140.1652,3457, 101.9,-0.8154,31.9481,2,31.9399,2,317.4,2, -999,9,14.85,2, 7.93,2,1.32,2,-999.0,9,-999.0,9, -999,9,0158
  18SN20150920,   ARC,59,1,15,15,2,20151013,74.0042,-140.1652,3457, 127.2,-1.2425,32.3283,2,32.3285,2,305.4,2, -999,9,23.69,2,11.40,2,1.59,2,-999.0,9,-999.0,9, -999,9,0158
  18SN20150920,   ARC,59,1,14,14,2,20151013,74.0042,-140.1652,3457, 158.6,-1.3491,32.6403,2,32.6371,2,291.0,2,291.7,2,27.20,2,13.01,2,1.70,2,-999.0,9,-999.0,9, -999,9,0158
  18SN20150920,   ARC,59,1,13,13,2,20151013,74.0042,-140.1652,3457, 187.1,-1.4394,32.9168,2,32.9203,2,277.4,2, -999,9,32.61,2,15.05,2,1.83,2,-999.0,9,-999.0,9, -999,9,0158
  18SN20150920,   ARC,59,1,12,12,2,20151013,74.0042,-140.1652,3457, 204.8,-1.4400,33.1255,2,33.1194,2,271.9,2,272.6,2,35.08,2,15.79,2,1.86,2,-999.0,9,-999.0,9, -999,9,0158
  18SN20150920,   ARC,59,1,11,11,2,20151013,74.0042,-140.1652,3457, 232.0,-1.2305,33.6644,2,33.6635,2,267.0,2, -999,9,28.57,2,14.70,2,1.57,2,-999.0,9,-999.0,9, -999,9,0158
  18SN20150920,   ARC,59,1,10,10,2,20151013,74.0042,-140.1652,3457, 243.2,-1.0625,33.9402,2,33.9812,2,265.7,2, -999,9,22.47,2,13.52,2,1.31,2,-999.0,9,-999.0,9, -999,9,0158
  18SN20150920,   ARC,59,1, 9, 9,2,20151013,74.0042,-140.1652,3457, 255.4,-0.7849,34.1510,2,34.1406,2,267.7,2, -999,9,18.32,2,12.71,2,1.14,2,-999.0,9,-999.0,9, -999,9,0158
  18SN20150920,   ARC,59,1, 8, 8,2,20151013,74.0042,-140.1652,3457, 269.6,-0.5235,34.3033,2,34.2858,2,273.5,2, -999,9,14.61,2,12.18,2,1.01,2,-999.0,9,-999.0,9, -999,9,0158
  18SN20150920,   ARC,59,1, 7, 7,2,20151013,74.0042,-140.1652,3457, 284.6,-0.2859,34.4161,2,34.3992,2,277.1,2, -999,9,11.85,2,11.76,2,0.92,2,-999.0,9,-999.0,9, -999,9,0158
  18SN20150920,   ARC,59,1, 6, 6,2,20151013,74.0042,-140.1652,3457, 304.0,-0.0188,34.5293,2,34.5184,2,280.5,2, -999,9,10.08,2,11.78,2,0.87,2,-999.0,9,-999.0,9, -999,9,0158
  18SN20150920,   ARC,59,1, 5, 5,2,20151013,74.0042,-140.1652,3457, 324.8, 0.1699,34.6115,2,34.6109,2,284.0,2, -999,9, 8.60,2,11.97,2,0.83,2,-999.0,9,-999.0,9, -999,9,0158
  18SN20150920,   ARC,59,1, 4, 4,2,20151013,74.0042,-140.1652,3457, 352.2, 0.4801,34.7291,2,34.7195,2,286.6,2, -999,9, 7.72,2,12.22,2,0.83,2,-999.0,9,-999.0,9, -999,9,0158
  18SN20150920,   ARC,59,1, 3, 3,2,20151013,74.0042,-140.1652,3457, 384.9, 0.5918,34.7813,2,34.7808,2,289.7,2, -999,9, 6.90,2,12.26,2,0.82,2,-999.0,9,-999.0,9, -999,9,0158
  18SN20150920,   ARC,59,1, 2, 2,2,20151013,74.0042,-140.1652,3457, 516.9, 0.7420,34.8453,2,34.8484,2,295.0,2, -999,9, 6.49,2,12.44,2,0.82,2,-999.0,9,-999.0,9, -999,9,0158
  18SN20150920,   ARC,59,1, 1, 1,2,20151013,74.0042,-140.1652,3457, 601.8, 0.5475,34.8487,2,34.8490,2,294.1,2,293.5,2, 6.68,2,12.61,2,0.83,2,-999.0,9,-999.0,9, -999,9,0158