BOTTLE,20240208CCHSIOVAJ
EXPOCODE,SECT_ID,STNNBR,CASTNO,SAMPNO,BTLNBR,BTLNBR_FLAG_W,DATE,LATITUDE,LONGITUDE,DEPTH,CTDPRS,CTDTMP,CTDSAL,CTDSAL_FLAG_W,SALNTY,SALNTY_FLAG_W,CTDOXY,CTDOXY_FLAG_W,OXYGEN,OXYGEN_FLAG_W,SILCAT,SILCAT_FLAG_W,NITRAT,NITRAT_FLAG_W,PHSPHT,PHSPHT_FLAG_W,TCARBN,TCARBN_FLAG_W,ALKALI,ALKALI_FLAG_W,DELO18,DELO18_FLAG_W,TIME
,,,,,,,,,,METERS,DBAR,ITS-90,PSS-78,,PSS-78,,UMOL/KG,,UMOL/KG,,UMOL/KG,,UMOL/KG,,UMOL/KG,,UMOL/KG,,UMOL/KG,,/MILLE,,
  18SN20150920,   ARC,60,1,24,24,2,20151013,73.0000,-139.9948,3201,   4.3,-1.4441,26.4779,2,26.4806,2,382.5,2,384.8,2, 2.44,2,-0.10,2,0.53,2,1835.0,2,1908.8,2, -999,9,0752
  18SN20150920,   ARC,60,1,22,22,2,20151013,73.0000,-139.9948,3201,  20.8,-1.4402,26.4905,2,26.4948,2,383.2,2,385.3,2, 2.47,2,-0.14,2,0.53,2,1837.8,2,1910.2,2, -999,9,0752
  18SN20150920,   ARC,60,1,21,21,2,20151013,73.0000,-139.9948,3201,  41.3,-0.8147,28.6641,2,28.6759,2,397.4,2,398.0,2, 2.67,2,-0.14,2,0.58,2,1965.3,2,2062.7,2, -999,9,0752
  18SN20150920,   ARC,60,1,19,19,2,20151013,73.0000,-139.9948,3201,  81.5,-0.4915,31.4737,2,31.4322,2,351.0,2,353.0,2, 8.35,2, 2.96,2,0.98,2,2080.3,2,2195.5,2, -999,9,0752
  18SN20150920,   ARC,60,1,18,18,2,20151013,73.0000,-139.9948,3201,  91.7,-0.9424,31.8088,2,31.8109,2,327.1,2,331.9,2,11.94,2, 6.12,2,1.19,2,2115.7,2,2211.7,2, -999,9,0752
  18SN20150920,   ARC,60,1,17,17,2,20151013,73.0000,-139.9948,3201, 121.9,-1.3194,32.3575,2,32.3447,2,302.3,2,304.0,2,24.77,2,11.74,2,1.62,2,2164.6,2,-999.0,9, -999,9,0752
  18SN20150920,   ARC,60,1,16,16,2,20151013,73.0000,-139.9948,3201, 146.6,-1.3685,32.6548,2,32.6514,2,289.9,2,290.1,2,28.51,2,13.65,2,1.74,2,2193.7,2,2245.5,2, -999,9,0752
  18SN20150920,   ARC,60,1,15,15,2,20151013,73.0000,-139.9948,3201, 173.2,-1.4237,32.9576,2,32.9598,2,276.4,2,277.5,2,32.62,2,15.25,2,1.83,2,2217.6,2,2258.9,2, -999,9,0752
  18SN20150920,   ARC,60,1,14,14,2,20151013,73.0000,-139.9948,3201, 188.2,-1.4505,33.1699,2,33.1582,2,272.5,2, -999,9,34.08,2,15.63,2,1.83,2,2229.0,2,2270.3,2, -999,9,0752
  18SN20150920,   ARC,60,1,13,13,2,20151013,73.0000,-139.9948,3201, 216.0,-1.2610,33.6776,2,33.6687,2,267.1,2, -999,9,29.10,2,14.81,2,1.59,2,2227.4,2,2285.5,2, -999,9,0752
  18SN20150920,   ARC,60,1,12,12,2,20151013,73.0000,-139.9948,3201, 240.9,-0.7647,34.1352,2,   -999,9,271.4,2,268.2,2,29.12,2,14.80,2,1.59,2,2228.1,2,2285.7,2, -999,9,0752
  18SN20150920,   ARC,60,1,11,11,2,20151013,73.0000,-139.9948,3201, 273.4,-0.2779,34.4167,2,34.4222,2,278.8,2,279.6,2,11.02,2,11.95,2,0.91,2,2175.3,2,2284.1,2, -999,9,0752
  18SN20150920,   ARC,60,1,10,10,2,20151013,73.0000,-139.9948,3201, 341.7, 0.3878,34.7048,2,34.7018,2,277.6,2,277.0,2,10.45,2,13.14,2,0.94,2,-999.0,9,-999.0,9, -999,9,0752
  18SN20150920,   ARC,60,1, 9, 9,2,20151013,73.0000,-139.9948,3201, 394.7, 0.5909,34.7794,2,34.7974,2,282.1,2,282.9,2, 8.84,2,13.06,2,0.91,2,-999.0,9,-999.0,9, -999,9,0752
  18SN20150920,   ARC,60,1, 8, 8,2,20151013,73.0000,-139.9948,3201, 459.3, 0.6740,34.8198,2,34.8224,2,286.6,2,286.5,2, 8.24,2,12.99,2,0.88,2,-999.0,9,-999.0,9, -999,9,0752
  18SN20150920,   ARC,60,1, 7, 7,2,20151013,73.0000,-139.9948,3201, 507.3, 0.6252,34.8304,2,34.8333,2,287.7,2,287.2,2, 8.35,2,12.95,2,0.88,2,-999.0,9,-999.0,9, -999,9,0752
  18SN20150920,   ARC,60,1, 6, 6,2,20151013,73.0000,-139.9948,3201, 609.4, 0.5145,34.8468,2,34.8497,2,291.4,2,291.1,2, 7.73,2,12.79,2,0.87,2,-999.0,9,-999.0,9, -999,9,0752
  18SN20150920,   ARC,60,1, 5, 5,2,20151013,73.0000,-139.9948,3201, 812.2, 0.2323,34.8635,2,34.8670,2,296.2,2,296.0,2, 7.39,2,12.70,2,0.86,2,-999.0,9,-999.0,9, -999,9,0752
  18SN20150920,   ARC,60,1, 4, 4,2,20151013,73.0000,-139.9948,3201,1014.9, 0.0058,34.8759,2,34.8789,2,298.0,2,298.2,2, 7.50,2,12.75,2,0.87,2,-999.0,9,-999.0,9, -999,9,0752
  18SN20150920,   ARC,60,1, 3, 3,2,20151013,73.0000,-139.9948,3201,1523.2,-0.2976,34.9096,2,34.9117,2,296.9,2,297.0,2, 8.74,2,13.31,2,0.91,2,-999.0,9,-999.0,9, -999,9,0752
  18SN20150920,   ARC,60,1, 2, 2,2,20151013,73.0000,-139.9948,3201,2033.0,-0.4023,34.9395,2,34.9414,2,290.6,2,291.4,2,10.96,2,14.09,2,0.96,2,-999.0,9,-999.0,9, -999,9,0752
  18SN20150920,   ARC,60,1, 1, 1,2,20151013,73.0000,-139.9948,3201,3050.4,-0.3248,34.9557,2,34.9573,2,282.9,2,282.7,2,13.66,2,14.62,2,0.99,2,-999.0,9,-999.0,9, -999,9,0752
  18SN20150920,   ARC,61,1,24,24,2,20151013,72.0018,-140.0008,2770,   5.7,-1.4632,26.4521,2,26.4553,2,379.5,2,383.6,2, 2.65,2,-0.11,2,0.52,2,1845.0,2,1920.9,2,-3.76,2,1454
  18SN20150920,   ARC,61,1,23,23,2,20151013,72.0018,-140.0008,2770,  21.2,-1.4553,26.4685,2,26.4766,2,380.0,2,384.4,2, 2.64,2,-0.15,2,0.52,2,1847.5,2,1925.4,2,-3.76,2,1454
  18SN20150920,   ARC,61,1,22,22,2,20151013,72.0018,-140.0008,2770,  31.2,-0.6661,28.4348,2,28.4543,2,392.9,2,395.3,2, 2.62,2,-0.15,2,0.58,2,1953.4,2,2052.8,2,-3.60,2,1454
  18SN20150920,   ARC,61,1,21,21,2,20151013,72.0018,-140.0008,2770,  41.4,-0.8464,29.4790,2,28.4667,2,396.7,2,397.7,2, 2.87,2,-0.14,2,0.62,2,1989.3,2,2104.4,2,-3.27,2,1454
  18SN20150920,   ARC,61,1,20,20,2,20151013,72.0018,-140.0008,2770,  57.7,-0.3696,31.0389,2,30.9026,2,365.4,2,378.4,2, 5.33,2, 0.20,2,0.77,2,2046.9,2,2176.1,2,-2.58,2,1454
  18SN20150920,   ARC,61,1,19,19,2,20151013,72.0018,-140.0008,2770,  77.8,-0.8149,31.8564,2,31.8336,2,323.2,2,325.9,2,13.32,2, 7.06,2,1.26,2,2112.8,2,2208.4,2,-1.88,2,1454
  18SN20150920,   ARC,61,1,18,18,2,20151013,72.0018,-140.0008,2770, 108.2,-1.3053,32.3319,2,32.3286,2,302.7,2,305.0,2,24.39,2,11.70,2,1.61,2,2162.1,2,2231.0,2,-1.63,2,1454
  18SN20150920,   ARC,61,1,17,17,2,20151013,72.0018,-140.0008,2770, 131.3,-1.3592,32.6212,2,32.6157,2,291.0,2,292.6,2,28.18,2,13.39,2,1.72,2,2189.2,2,2254.0,2,-1.61,2,1454
  18SN20150920,   ARC,61,1,16,16,2,20151013,72.0018,-140.0008,2770, 156.5,-1.4371,32.9441,2,32.9481,2,276.3,2,278.0,2,32.23,2,15.13,2,1.81,2,2220.5,2,2264.4,2,-1.49,2,1454
  18SN20150920,   ARC,61,1,15,15,2,20151013,72.0018,-140.0008,2770, 169.8,-1.4648,33.1255,2,33.1575,2,279.0,2,279.3,2,30.54,2,14.89,2,1.71,2,2224.0,2,2276.3,2,-1.44,2,1454
  18SN20150920,   ARC,61,1,14,14,2,20151013,72.0018,-140.0008,2770, 201.1,-1.1905,33.6592,2,33.6410,2,264.8,2,266.0,2,27.87,2,14.77,2,1.54,2,2222.2,2,2284.4,2,-1.03,2,1454
  18SN20150920,   ARC,61,1,13,13,2,20151013,72.0018,-140.0008,2770, 227.2,-0.7408,34.1440,2,34.1324,2,269.3,2,271.3,2,16.73,2,12.59,2,1.08,2,2191.4,2,2281.1,2,-0.43,2,1454
  18SN20150920,   ARC,61,1,12,12,2,20151013,72.0018,-140.0008,2770, 258.2,-0.2776,34.4180,2,34.4192,2,278.7,2,279.2,2,10.87,2,11.87,2,0.89,2,2171.8,2,2287.1,2,-0.10,2,1454
  18SN20150920,   ARC,61,1,11,11,2,20151013,72.0018,-140.0008,2770, 329.3, 0.4307,34.7247,2,34.7282,2,280.7,2,281.3,2, 9.13,2,12.89,2,0.89,2,2163.2,2,2292.4,2, 0.11,2,1454
  18SN20150920,   ARC,61,1,10,10,2,20151013,72.0018,-140.0008,2770, 380.0, 0.6020,34.7870,2,34.7862,2,285.3,2,284.7,2, 8.24,2,12.78,2,0.87,2,2158.4,2,2297.2,2, 0.15,2,1454
  18SN20150920,   ARC,61,1, 9, 9,2,20151013,72.0018,-140.0008,2770, 457.6, 0.6924,34.8264,2,34.8270,2,290.8,2,290.2,2, 7.05,2,12.73,2,0.84,2,2154.2,2,2296.6,2, 0.25,2,1454
  18SN20150920,   ARC,61,1, 8, 8,2,20151013,72.0018,-140.0008,2770, 507.6, 0.6281,34.8380,2,34.8410,2,291.6,2,289.2,2, 7.77,2,12.88,2,0.86,2,2157.9,2,2297.4,2, 0.16,2,1454
  18SN20150920,   ARC,61,1, 7, 7,2,20151013,72.0018,-140.0008,2770, 608.9, 0.4882,34.8480,2,34.8519,2,291.9,2,291.7,2, 7.59,2,12.91,2,0.86,2,2156.9,2,2297.8,2, 0.19,2,1454
  18SN20150920,   ARC,61,1, 6, 6,2,20151013,72.0018,-140.0008,2770, 811.9, 0.2224,34.8647,2,34.8649,2,296.3,2,295.6,2, 7.35,2,12.68,2,0.85,2,2156.0,2,2301.3,2, 0.21,2,1454
  18SN20150920,   ARC,61,1, 5, 5,2,20151013,72.0018,-140.0008,2770,1013.8, 0.0024,34.8771,2,34.8795,2,297.6,2,297.3,2, 7.55,2,12.77,2,0.86,2,2155.9,2,2299.4,2, 0.19,2,1454
  18SN20150920,   ARC,61,1, 4, 4,2,20151013,72.0018,-140.0008,2770,1523.1,-0.3051,34.9110,2,34.9124,2,296.3,2,296.6,2, 8.91,2,13.28,2,0.91,2,2153.6,2,2302.7,2, 0.24,2,1454
  18SN20150920,   ARC,61,1, 3, 3,2,20151013,72.0018,-140.0008,2770,2032.2,-0.3973,34.9399,2,34.9408,2,289.5,2,289.4,2,11.63,2,14.11,2,0.97,2,2151.4,2,2304.0,2, -999,9,1454
  18SN20150920,   ARC,61,1, 2, 2,2,20151013,72.0018,-140.0008,2770,2542.7,-0.3695,34.9528,2,34.9538,2,283.8,2,283.7,2,13.46,2,14.49,2,0.99,2,2151.4,2,2297.1,2, -999,9,1454
  18SN20150920,   ARC,61,1, 1, 1,2,20151013,72.0018,-140.0008,2770,2719.0,-0.3497,34.9554,2,34.9563,2,281.2,2,281.1,2,14.40,2,14.66,2,0.99,2,2155.1,2,2308.2,2, -999,9,1454
  18SN20150920,   ARC,62,1,24,24,2,20151013,71.5848,-139.9965,2553,   5.7,-0.5763,26.7959,2,26.8023,2,374.2,2,372.8,2, 3.06,2,-0.08,2,0.50,2,1888.3,2,1976.4,2, -999,9,1841
  18SN20150920,   ARC,62,1,23,23,2,20151013,71.5848,-139.9965,2553,  21.3,-0.5711,26.8011,2,26.8599,2,376.4,2,373.4,2, 3.07,2,-0.13,2,0.50,2,1892.4,2,1983.0,2, -999,9,1841
  18SN20150920,   ARC,62,1,22,22,2,20151013,71.5848,-139.9965,2553,  27.3,-0.4375,27.3163,2,27.8016,2,389.8,2,384.7,2, 3.08,2,-0.13,2,0.55,2,1931.5,2,2035.1,2, -999,9,1841
  18SN20150920,   ARC,62,1,21,21,2,20151013,71.5848,-139.9965,2553,  35.3,-0.2122,30.4248,2,30.7894,2,395.6,2,397.0,2, 3.75,2,-0.10,2,0.69,2,2044.0,2,2181.7,2, -999,9,1841
  18SN20150920,   ARC,62,1,20,20,2,20151013,71.5848,-139.9965,2553,  46.5,-0.6601,31.0792,2,31.5008,2,391.0,2,372.0,2, 7.41,2, 2.51,2,0.93,2,2091.2,2,2213.0,2, -999,9,1841
  18SN20150920,   ARC,62,1,19,19,2,20151013,71.5848,-139.9965,2553,  68.7,-1.1891,31.9224,2,31.9366,2,337.5,2,334.5,2,12.01,2, 6.02,2,1.18,2,2137.0,2,2230.6,2, -999,9,1841
  18SN20150920,   ARC,62,1,18,18,2,20151013,71.5848,-139.9965,2553,  89.0,-1.4196,32.3477,2,32.3327,2,306.2,2,307.8,2,22.03,2,10.83,2,1.52,2,2170.8,2,2243.8,2, -999,9,1841
  18SN20150920,   ARC,62,1,17,17,2,20151013,71.5848,-139.9965,2553, 109.9,-1.4674,32.6540,2,32.6490,2,292.1,2,293.6,2,26.02,2,12.74,2,1.72,2,2199.9,2,2256.9,2, -999,9,1841
  18SN20150920,   ARC,62,1,16,16,2,20151013,71.5848,-139.9965,2553, 124.3,-1.4733,32.8450,2,32.8425,2,284.0,2,285.8,2,28.46,2,13.70,2,1.77,2,2216.9,2,2267.6,2, -999,9,1841
  18SN20150920,   ARC,62,1,15,15,2,20151013,71.5848,-139.9965,2553, 140.4,-1.4631,33.1419,2,33.1393,2,277.9,2,279.4,2,30.52,2,14.70,2,1.79,2,2222.8,2,2277.2,2, -999,9,1841
  18SN20150920,   ARC,62,1,14,14,2,20151013,71.5848,-139.9965,2553, 166.7,-1.1902,33.6604,2,33.7356,2,269.7,2,270.7,2,25.26,2,14.01,2,1.45,2,2214.2,2,2285.9,2, -999,9,1841
  18SN20150920,   ARC,62,1,13,13,2,20151013,71.5848,-139.9965,2553, 191.1,-0.7198,34.1318,2,34.2367,2,269.9,2, -999,9,14.75,2,12.40,2,1.03,2,2184.6,2,2283.2,2, -999,9,1841
  18SN20150920,   ARC,62,1,12,12,2,20151013,71.5848,-139.9965,2553, 222.4,-0.2370,34.4329,2,34.4272,2,276.4,2,277.7,2,11.51,2,12.03,2,0.92,2,2175.9,2,2283.5,2, -999,9,1841
  18SN20150920,   ARC,62,1,11,11,2,20151013,71.5848,-139.9965,2553, 284.0, 0.3367,34.6880,2,34.6919,2,277.4,2,276.8,2,10.42,2,13.12,2,0.93,2,2169.8,2,2292.7,2, -999,9,1841
  18SN20150920,   ARC,62,1,10,10,2,20151013,71.5848,-139.9965,2553, 340.1, 0.5908,34.7822,2,34.7882,2,282.5,2,282.7,2, 8.62,2,12.92,2,0.88,2,-999.0,9,-999.0,9, -999,9,1841
  18SN20150920,   ARC,62,1, 9, 9,2,20151013,71.5848,-139.9965,2553, 392.0, 0.6544,34.8159,2,34.8158,2,285.2,2,284.9,2, 8.24,2,12.88,2,0.88,2,-999.0,9,-999.0,9, -999,9,1841
  18SN20150920,   ARC,62,1, 8, 8,2,20151013,71.5848,-139.9965,2553, 508.4, 0.5595,34.8400,2,34.8435,2,289.4,2,288.8,2, 7.97,2,12.82,2,0.87,2,-999.0,9,-999.0,9, -999,9,1841
  18SN20150920,   ARC,62,1, 7, 7,2,20151013,71.5848,-139.9965,2553, 609.6, 0.4180,34.8533,2,34.8568,2,292.7,2,292.4,2, 7.70,2,12.61,2,0.86,2,-999.0,9,-999.0,9, -999,9,1841
  18SN20150920,   ARC,62,1, 6, 6,2,20151013,71.5848,-139.9965,2553, 711.0, 0.2732,34.8611,2,34.8650,2,295.7,2,295.5,2, 7.32,2,12.56,2,0.85,2,-999.0,9,-999.0,9, -999,9,1841
  18SN20150920,   ARC,62,1, 5, 5,2,20151013,71.5848,-139.9965,2553, 812.5, 0.1477,34.8673,2,34.8698,2,296.9,2,296.6,2, 7.37,2,12.52,2,0.85,2,-999.0,9,-999.0,9, -999,9,1841
  18SN20150920,   ARC,62,1, 4, 4,2,20151013,71.5848,-139.9965,2553,1014.9,-0.0476,34.8794,2,34.8803,2,297.9,2,297.8,2, 7.54,2,12.55,2,0.86,2,-999.0,9,-999.0,9, -999,9,1841
  18SN20150920,   ARC,62,1, 3, 3,2,20151013,71.5848,-139.9965,2553,1523.0,-0.3174,34.9127,2,34.9147,2,295.9,2,295.7,2, 9.13,2,13.35,2,0.91,2,-999.0,9,-999.0,9, -999,9,1841
  18SN20150920,   ARC,62,1, 2, 2,2,20151013,71.5848,-139.9965,2553,2032.3,-0.3983,34.9418,2,34.9437,2,288.3,2,288.0,2,11.94,2,14.05,2,0.98,2,-999.0,9,-999.0,9, -999,9,1841
  18SN20150920,   ARC,62,1, 1, 1,2,20151013,71.5848,-139.9965,2553,2515.3,-0.3658,34.9545,2,34.9555,2,281.4,2,281.0,2,14.40,2,14.57,2,1.00,2,-999.0,9,-999.0,9, -999,9,1841
  18SN20150920,   ARC,63,1,24,24,2,20151014,71.3005,-143.2962,2696,   6.1,-0.8892,27.1622,2,27.3084,2,380.7,2,381.1,2, 2.81,2,-0.10,2,0.54,2,1886.2,2,1984.0,2, -999,9,0122
  18SN20150920,   ARC,63,1,23,23,2,20151014,71.3005,-143.2962,2696,  21.2,-0.8284,27.4021,2,29.2991,2,402.2,2,391.9,2, 2.99,2,-0.12,2,0.62,2,1980.9,2,2103.9,2, -999,9,0122
  18SN20150920,   ARC,63,1,22,22,2,20151014,71.3005,-143.2962,2696,  31.5,-0.3728,30.7177,2,30.5940,2,397.6,2,396.1,2, 3.66,2,-0.11,2,0.68,2,2036.3,2,2173.7,2, -999,9,0122
  18SN20150920,   ARC,63,1,21,21,2,20151014,71.3005,-143.2962,2696,  42.0,-0.6238,31.2727,2,31.1247,2,393.2,2,393.6,2, 4.67,2, 0.01,2,0.74,2,2059.4,2,2197.8,2, -999,9,0122
  18SN20150920,   ARC,63,1,20,20,2,20151014,71.3005,-143.2962,2696,  46.3,-0.6051,31.4569,2,31.2656,2,382.1,2,386.3,2, 5.23,2, 0.40,2,0.78,2,2064.2,2,2200.7,2, -999,9,0122
  18SN20150920,   ARC,63,1,19,19,2,20151014,71.3005,-143.2962,2696,  63.6,-1.1933,31.9238,2,31.9183,2,338.0,2,337.0,2,12.11,2, 6.30,2,1.19,2,2133.5,2,2233.0,2, -999,9,0122
  18SN20150920,   ARC,63,1,18,18,2,20151014,71.3005,-143.2962,2696,  87.0,-1.3533,32.3846,2,32.3377,2,305.2,2,307.9,2,21.49,2,10.60,2,1.50,2,-999.0,9,-999.0,9, -999,9,0122
  18SN20150920,   ARC,63,1,17,17,2,20151014,71.3005,-143.2962,2696, 113.5,-1.4745,32.6331,2,32.6217,2,294.5,2,296.2,2,25.25,2,12.41,2,1.60,2,-999.0,9,-999.0,9, -999,9,0122
  18SN20150920,   ARC,63,1,16,16,2,20151014,71.3005,-143.2962,2696, 139.5,-1.4875,32.9389,2,32.9768,2,284.4,2,283.6,2,29.04,2,13.94,2,1.68,2,-999.0,9,-999.0,9, -999,9,0122
  18SN20150920,   ARC,63,1,15,15,2,20151014,71.3005,-143.2962,2696, 156.4,-1.4478,33.2372,2,33.3542,2,280.8,2,278.6,2,28.67,2,14.36,2,1.61,2,-999.0,9,-999.0,9, -999,9,0122
  18SN20150920,   ARC,63,1,14,14,2,20151014,71.3005,-143.2962,2696, 183.4,-1.0656,33.7797,2,33.8616,2,272.5,2,270.8,2,22.58,2,13.64,2,1.33,2,-999.0,9,-999.0,9, -999,9,0122
  18SN20150920,   ARC,63,1,13,13,2,20151014,71.3005,-143.2962,2696, 203.4,-0.6421,34.1877,2,34.2152,2,271.8,2,275.2,2,15.38,2,12.56,2,1.06,2,-999.0,9,-999.0,9, -999,9,0122
  18SN20150920,   ARC,63,1,12,12,2,20151014,71.3005,-143.2962,2696, 234.7,-0.1756,34.4612,2,34.4586,2,278.7,2,279.0,2,10.82,2,12.06,2,0.90,2,-999.0,9,-999.0,9, -999,9,0122
  18SN20150920,   ARC,63,1,11,11,2,20151014,71.3005,-143.2962,2696, 306.0, 0.4047,34.7170,2,34.7153,2,278.2,2,278.0,2,10.45,2,13.21,2,0.94,2,-999.0,9,-999.0,9, -999,9,0122
  18SN20150920,   ARC,63,1,10,10,2,20151014,71.3005,-143.2962,2696, 358.6, 0.6007,34.7863,2,34.7812,2,282.5,2,282.3,2, 9.02,2,12.95,2,0.90,2,-999.0,9,-999.0,9, -999,9,0122
  18SN20150920,   ARC,63,1, 9, 9,2,20151014,71.3005,-143.2962,2696, 420.7, 0.6702,34.8208,2,34.8182,2,286.4,2,287.0,2, 8.06,2,12.80,2,0.87,2,-999.0,9,-999.0,9, -999,9,0122
  18SN20150920,   ARC,63,1, 8, 8,2,20151014,71.3005,-143.2962,2696, 508.6, 0.5916,34.8395,2,34.8408,2,290.6,2,290.5,2, 7.78,2,12.78,2,0.86,2,-999.0,9,-999.0,9, -999,9,0122
  18SN20150920,   ARC,63,1, 7, 7,2,20151014,71.3005,-143.2962,2696, 609.9, 0.4553,34.8517,2,34.8513,2,294.2,2,293.2,2, 7.48,2,12.68,2,0.86,2,-999.0,9,-999.0,9, -999,9,0122
  18SN20150920,   ARC,63,1, 6, 6,2,20151014,71.3005,-143.2962,2696, 711.5, 0.3169,34.8593,2,34.8609,2,296.1,2,295.4,2, 7.24,2,12.68,2,0.85,2,-999.0,9,-999.0,9, -999,9,0122
  18SN20150920,   ARC,63,1, 5, 5,2,20151014,71.3005,-143.2962,2696, 812.5, 0.1729,34.8658,2,34.8674,2,297.7,2,297.0,2, 7.17,2,12.52,2,0.85,2,-999.0,9,-999.0,9, -999,9,0122
  18SN20150920,   ARC,63,1, 4, 4,2,20151014,71.3005,-143.2962,2696,1015.3,-0.0372,34.8779,2,34.8796,2,298.7,2,298.2,2, 7.44,2,12.66,2,0.86,2,-999.0,9,-999.0,9, -999,9,0122
  18SN20150920,   ARC,63,1, 3, 3,2,20151014,71.3005,-143.2962,2696,1521.6,-0.3146,34.9101,2,34.9117,2,297.0,2,296.6,2, 8.83,2,13.17,2,0.91,2,-999.0,9,-999.0,9, -999,9,0122
  18SN20150920,   ARC,63,1, 2, 2,2,20151014,71.3005,-143.2962,2696,2033.0,-0.3956,34.9397,2,34.9394,2,289.6,2,289.1,2,11.68,2,14.15,2,0.97,2,-999.0,9,-999.0,9, -999,9,0122
  18SN20150920,   ARC,63,1, 1, 1,2,20151014,71.3005,-143.2962,2696,2972.2,-0.3305,34.9556,2,34.9559,2,282.0,2,281.8,2,14.14,2,14.54,2,1.00,2,-999.0,9,-999.0,9, -999,9,0122