BOTTLE,20240208CCHSIOVAJ
EXPOCODE,SECT_ID,STNNBR,CASTNO,SAMPNO,BTLNBR,BTLNBR_FLAG_W,DATE,LATITUDE,LONGITUDE,DEPTH,CTDPRS,CTDTMP,CTDSAL,CTDSAL_FLAG_W,SALNTY,SALNTY_FLAG_W,CTDOXY,CTDOXY_FLAG_W,OXYGEN,OXYGEN_FLAG_W,SILCAT,SILCAT_FLAG_W,NITRAT,NITRAT_FLAG_W,PHSPHT,PHSPHT_FLAG_W,TCARBN,TCARBN_FLAG_W,ALKALI,ALKALI_FLAG_W,DELO18,DELO18_FLAG_W,TIME
,,,,,,,,,,METERS,DBAR,ITS-90,PSS-78,,PSS-78,,UMOL/KG,,UMOL/KG,,UMOL/KG,,UMOL/KG,,UMOL/KG,,UMOL/KG,,UMOL/KG,,/MILLE,,
  18SN20150920,   ARC,41,1,24,24,2,20151008,73.9997,-150.0073,3944,   6.3,-1.3517,25.8520,2,25.8519,2,383.8,2,384.4,2, 2.30,2,-0.08,2,0.49,2,1801.8,2,1858.6,2, -999,9,2041
  18SN20150920,   ARC,41,1,22,22,2,20151008,73.9997,-150.0073,3944,  21.1,-0.8754,25.9580,2,25.9399,2,380.8,2,380.6,2, 2.34,2,-0.09,2,0.50,2,1809.0,2,1870.4,2, -999,9,2041
  18SN20150920,   ARC,41,1,21,21,2,20151008,73.9997,-150.0073,3944,  41.4,-0.4933,28.0030,2,27.9851,2,395.6,2,397.4,2, 2.54,2,-0.10,2,0.54,2,1934.8,2,2019.4,2, -999,9,2041
  18SN20150920,   ARC,41,1,19,19,2,20151008,73.9997,-150.0073,3944,  80.5,-0.0584,31.2773,2,31.2604,2,355.2,2,360.3,2, 6.74,2, 1.68,2,0.88,2,2057.0,2,2178.5,2, -999,9,2041
  18SN20150920,   ARC,41,1,18,18,2,20151008,73.9997,-150.0073,3944, 101.1,-0.7752,31.8985,2,31.8813,2,324.8,2,323.2,2,13.67,2, 7.60,2,1.27,2,2113.2,2,2199.7,2, -999,9,2041
  18SN20150920,   ARC,41,1,17,17,2,20151008,73.9997,-150.0073,3944, 130.3,-1.2149,32.3359,2,32.3265,2,305.0,2,305.9,2,22.76,2,11.44,2,1.57,2,2158.5,2,2227.2,2, -999,9,2041
  18SN20150920,   ARC,41,1,16,16,2,20151008,73.9997,-150.0073,3944, 158.7,-1.3501,32.6299,2,32.6196,2,291.2,2,292.2,2,26.90,2,13.38,2,1.70,2,2190.8,2,2239.4,2, -999,9,2041
  18SN20150920,   ARC,41,1,15,15,2,20151008,73.9997,-150.0073,3944, 190.1,-1.4549,32.9523,2,32.9379,2,278.1,2,278.1,2,32.66,2,15.43,2,1.83,2,2220.4,2,2254.1,2, -999,9,2041
  18SN20150920,   ARC,41,1,14,14,2,20151008,73.9997,-150.0073,3944, 208.2,-1.4583,33.1434,2,33.1347,2,274.5,2,274.7,2,33.30,2,15.76,2,1.82,2,2225.2,2,2261.9,2, -999,9,2041
  18SN20150920,   ARC,41,1,13,13,2,20151008,73.9997,-150.0073,3944, 238.6,-1.2111,33.7201,2,33.7058,2,270.2,2,267.2,2,27.57,2,14.66,2,1.52,2,2220.3,2,2275.4,2, -999,9,2041
  18SN20150920,   ARC,41,1,12,12,2,20151008,73.9997,-150.0073,3944, 263.8,-0.7438,34.1560,2,34.1437,2,271.2,2,272.6,2, -999,9, -999,9,-999,9,2192.2,2,2276.6,2, -999,9,2041
  18SN20150920,   ARC,41,1,11,11,2,20151008,73.9997,-150.0073,3944, 292.2,-0.2394,34.4305,2,34.4188,2,279.1,2,279.1,2,11.26,2,12.08,2,0.91,2,2175.6,2,2279.0,2, -999,9,2041
  18SN20150920,   ARC,41,1,10,10,2,20151008,73.9997,-150.0073,3944, 360.6, 0.4363,34.7205,2,34.7164,2,278.3,2,277.8,2,10.34,2,13.10,2,0.93,2,2165.5,2,2285.2,2, -999,9,2041
  18SN20150920,   ARC,41,1, 9, 9,2,20151008,73.9997,-150.0073,3944, 411.2, 0.6350,34.7864,2,34.7821,2,284.4,2,284.5,2, 8.46,2,12.94,2,0.88,2,-999.0,9,-999.0,9, -999,9,2041
  18SN20150920,   ARC,41,1, 8, 8,2,20151008,73.9997,-150.0073,3944, 488.1, 0.7218,34.8266,2,34.8275,2,289.0,2,289.5,2, 7.52,2,12.85,2,0.85,2,-999.0,9,-999.0,9, -999,9,2041
  18SN20150920,   ARC,41,1, 7, 7,2,20151008,73.9997,-150.0073,3944, 508.5, 0.6839,34.8297,2,34.8292,2,288.6,2,288.8,2, 7.90,2,12.89,2,0.86,2,-999.0,9,-999.0,9, -999,9,2041
  18SN20150920,   ARC,41,1, 6, 6,2,20151008,73.9997,-150.0073,3944, 609.7, 0.5692,34.8477,2,34.8465,2,293.1,2,293.3,2, 7.12,2,12.75,2,0.84,2,-999.0,9,-999.0,9, -999,9,2041
  18SN20150920,   ARC,41,1, 5, 5,2,20151008,73.9997,-150.0073,3944, 812.6, 0.2653,34.8625,2,34.8625,2,296.9,2,296.9,2, 7.01,2,12.64,2,0.85,2,-999.0,9,-999.0,9, -999,9,2041
  18SN20150920,   ARC,41,1, 4, 4,2,20151008,73.9997,-150.0073,3944,1015.4, 0.0119,34.8751,2,34.8751,2,298.5,2,298.6,2, 7.11,2,12.68,2,0.86,2,-999.0,9,-999.0,9, -999,9,2041
  18SN20150920,   ARC,41,1, 3, 3,2,20151008,73.9997,-150.0073,3944,1523.9,-0.3030,34.9096,2,34.9099,2,297.9,2,298.0,2, 8.33,2,13.11,2,0.90,2,-999.0,9,-999.0,9, -999,9,2041
  18SN20150920,   ARC,41,1, 2, 2,2,20151008,73.9997,-150.0073,3944,2033.3,-0.4021,34.9400,2,34.9389,2,291.0,2,291.2,2,10.86,2,14.02,2,0.98,2,-999.0,9,-999.0,9, -999,9,2041
  18SN20150920,   ARC,41,1, 1, 1,2,20151008,73.9997,-150.0073,3944,3055.2,-0.3262,34.9564,2,34.9552,2,283.0,2,283.7,2,13.18,2,14.48,2,0.98,2,-999.0,9,-999.0,9, -999,9,2041
  18SN20150920,   ARC,42,1,24,24,2,20151009,72.9980,-149.9985,3837,   5.4,-1.2520,25.7074,2,25.7264,2,385.4,2,383.8,2, 2.50,2,-0.04,2,0.51,2,1838.0,2,1843.3,2,-3.57,2,0314
  18SN20150920,   ARC,42,1,22,22,2,20151009,72.9980,-149.9985,3837,  21.2,-0.6780,26.2427,2,27.3874,2,384.2,2,386.6,2, 2.57,2,-0.07,2,0.56,2,1856.1,2,1958.3,2,-3.62,2,0314
  18SN20150920,   ARC,42,1,21,21,2,20151009,72.9980,-149.9985,3837,  41.5,-0.6474,29.8818,2,29.9829,2,394.2,2,396.9,2, 3.22,2,-0.07,2,0.65,2,1964.2,2,2133.6,2,-3.16,2,0314
  18SN20150920,   ARC,42,1,19,19,2,20151009,72.9980,-149.9985,3837,  69.4,-0.8174,31.4553,2,31.5699,2,364.2,2,343.0,2, 9.99,2, 4.33,2,1.04,2,2063.2,2,2202.1,2,-2.22,2,0314
  18SN20150920,   ARC,42,1,18,18,2,20151009,72.9980,-149.9985,3837,  84.8,-1.0326,31.9157,2,32.0586,2,327.1,2,313.7,2,17.26,2, 9.03,2,1.40,2,2078.4,2,2215.4,2,-1.84,2,0314
  18SN20150920,   ARC,42,1,17,17,2,20151009,72.9980,-149.9985,3837, 113.2,-1.3436,32.3651,2,32.4858,2,304.2,2,296.8,2,26.46,2,12.82,2,1.68,2,2165.3,2,2228.4,2,-1.63,2,0314
  18SN20150920,   ARC,42,1,16,16,2,20151009,72.9980,-149.9985,3837, 136.5,-1.3897,32.6171,2,32.6886,2,291.5,2,286.5,2,28.36,2,13.88,2,1.74,2,2192.9,2,2240.2,2,-1.59,2,0314
  18SN20150920,   ARC,42,1,15,15,2,20151009,72.9980,-149.9985,3837, 163.8,-1.4319,32.9463,2,32.9423,2,277.1,2,276.8,2,31.92,2,15.34,2,1.82,2,2216.2,2,2255.4,2,-1.51,2,0314
  18SN20150920,   ARC,42,1,14,14,2,20151009,72.9980,-149.9985,3837, 180.0,-1.4505,33.1679,2,33.1740,2,274.1,2,274.4,2,32.78,2,15.54,2,1.79,2,2220.4,2,2263.8,2,-1.41,2,0314
  18SN20150920,   ARC,42,1,13,13,2,20151009,72.9980,-149.9985,3837, 204.3,-1.2469,33.6231,2,33.6229,2,264.1,2,264.6,2,28.95,2,14.98,2,1.58,2,2220.1,2,2272.0,2,-1.07,2,0314
  18SN20150920,   ARC,42,1,12,12,2,20151009,72.9980,-149.9985,3837, 232.4,-0.7262,34.1420,2,34.1243,2,271.8,2,273.0,2,16.53,2,12.64,2,1.10,2,2194.6,2,2272.7,2, -999,9,0314
  18SN20150920,   ARC,42,1,11,11,2,20151009,72.9980,-149.9985,3837, 260.9,-0.2001,34.4458,2,34.4380,2,276.1,2,276.4,2,12.12,2,12.54,2,0.96,2,2152.7,2,2275.5,2, -999,9,0314
  18SN20150920,   ARC,42,1,10,10,2,20151009,72.9980,-149.9985,3837, 327.2, 0.4062,34.7152,2,34.7111,2,276.6,2,276.4,2,10.81,2,13.31,2,0.96,2,2164.6,2,2286.2,2, -999,9,0314
  18SN20150920,   ARC,42,1, 9, 9,2,20151009,72.9980,-149.9985,3837, 384.8, 0.6211,34.7885,2,34.7863,2,282.8,2,282.8,2, 8.98,2,13.06,2,0.90,2,-999.0,9,-999.0,9, -999,9,0314
  18SN20150920,   ARC,42,1, 8, 8,2,20151009,72.9980,-149.9985,3837, 450.8, 0.6711,34.8224,2,34.8250,2,287.4,2,287.1,2, 8.12,2,12.96,2,0.88,2,-999.0,9,-999.0,9, -999,9,0314
  18SN20150920,   ARC,42,1, 7, 7,2,20151009,72.9980,-149.9985,3837, 508.4, 0.6143,34.8356,2,34.8365,2,288.9,2,288.9,2, 8.09,2,12.96,2,0.88,2,-999.0,9,-999.0,9, -999,9,0314
  18SN20150920,   ARC,42,1, 6, 6,2,20151009,72.9980,-149.9985,3837, 609.6, 0.4908,34.8493,2,34.8487,2,292.7,2,292.2,2, 7.68,2,12.78,2,0.86,2,-999.0,9,-999.0,9, -999,9,0314
  18SN20150920,   ARC,42,1, 5, 5,2,20151009,72.9980,-149.9985,3837, 812.5, 0.1949,34.8652,2,34.8663,2,297.2,2,297.5,2, 6.99,2,12.61,2,0.85,2,-999.0,9,-999.0,9, -999,9,0314
  18SN20150920,   ARC,42,1, 4, 4,2,20151009,72.9980,-149.9985,3837,1015.4,-0.0312,34.8768,2,34.8782,2,298.6,2,299.2,2, 7.23,2,12.66,2,0.86,2,-999.0,9,-999.0,9, -999,9,0314
  18SN20150920,   ARC,42,1, 3, 3,2,20151009,72.9980,-149.9985,3837,1523.8,-0.3245,34.9111,2,34.9120,2,297.8,2,297.8,2, 8.58,2,13.34,2,0.91,2,-999.0,9,-999.0,9, -999,9,0314
  18SN20150920,   ARC,42,1, 2, 2,2,20151009,72.9980,-149.9985,3837,2033.1,-0.4046,34.9417,2,34.9427,2,290.5,2,290.3,2,11.19,2,14.17,2,0.97,2,-999.0,9,-999.0,9, -999,9,0314
  18SN20150920,   ARC,42,1, 1, 1,2,20151009,72.9980,-149.9985,3837,3055.5,-0.3262,34.9562,2,34.9567,2,283.7,2,283.5,2,13.16,2,14.53,2,0.99,2,-999.0,9,-999.0,9, -999,9,0314
  18SN20150920,   ARC,44,1,24,24,2,20151009,71.6588,-151.2303,1969,   5.9,-1.3108,25.4724,2,25.4757,2,387.7,2,386.4,2, 2.49,2,-0.02,2,0.51,2,1771.2,2,1830.0,2,-3.56,2,1408
  18SN20150920,   ARC,44,1,23,23,2,20151009,71.6588,-151.2303,1969,  21.1,-0.2996,27.8197,2,27.6156,2,386.4,2,393.0,2, 2.59,2,-0.08,2,0.55,2,1911.6,2,2058.8,2,-3.63,2,1408
  18SN20150920,   ARC,44,1,22,22,2,20151009,71.6588,-151.2303,1969,  45.6,-0.3876,30.5072,2,30.5170,2,377.9,2,387.6,2, 3.96,2,-0.07,2,0.70,2,2032.6,2,2157.9,2,-2.93,2,1408
  18SN20150920,   ARC,44,1,21,21,2,20151009,71.6588,-151.2303,1969,  51.5,-0.3357,30.7743,2,30.7931,2,372.6,2,382.5,2, 4.64,2,-0.02,2,0.74,2,2046.0,2,2169.2,2,-2.74,2,1408
  18SN20150920,   ARC,44,1,20,20,2,20151009,71.6588,-151.2303,1969,  83.0,-1.1694,31.8923,2,31.8860,2,334.1,2,332.3,2,14.21,2, 7.07,2,1.25,2,2128.8,2,2210.3,2,-2.07,2,1408
  18SN20150920,   ARC,44,1,19,19,2,20151009,71.6588,-151.2303,1969, 111.0,-1.3635,32.3313,2,32.3965,2,307.3,2,302.6,2,24.21,2,11.69,2,1.61,2,2176.1,2,2232.8,2,-1.70,2,1408
  18SN20150920,   ARC,44,1,18,18,2,20151009,71.6588,-151.2303,1969, 141.5,-1.4275,32.6494,2,32.6804,2,291.1,2,289.3,2,27.52,2,13.46,2,1.72,2,2194.0,2,2246.1,2,-1.61,2,1408
  18SN20150920,   ARC,44,1,17,17,2,20151009,71.6588,-151.2303,1969, 169.1,-1.4409,32.9331,2,32.9334,2,277.6,2,278.2,2,31.72,2,15.13,2,1.82,2,2212.9,2,2255.0,2,-1.48,2,1408
  18SN20150920,   ARC,44,1,16,16,2,20151009,71.6588,-151.2303,1969, 183.2,-1.4521,33.1551,2,33.1389,2,280.3,2,281.3,2,30.24,2,14.65,2,1.71,2,2222.8,2,2266.8,2,-1.47,2,1408
  18SN20150920,   ARC,44,1,15,15,2,20151009,71.6588,-151.2303,1969, 210.5,-1.1198,33.6496,2,33.6635,2,276.2,2,275.8,2,25.05,2,14.02,2,1.47,2,2211.7,2,2277.2,2,-0.97,2,1408
  18SN20150920,   ARC,44,1,14,14,2,20151009,71.6588,-151.2303,1969, 234.7,-0.6306,34.1423,2,34.1495,2,274.2,2,276.3,2,18.37,2,13.28,2,1.21,2,2194.3,2,2278.7,2,-0.47,2,1408
  18SN20150920,   ARC,44,1,13,13,2,20151009,71.6588,-151.2303,1969, 259.3,-0.1563,34.4425,2,34.4830,2,277.2,2,277.6,2,13.69,2,13.05,2,1.06,2,2179.1,2,2284.1,2,-0.10,2,1408
  18SN20150920,   ARC,44,1,12,12,2,20151009,71.6588,-151.2303,1969, 313.3, 0.3895,34.7221,2,34.7132,2,280.3,2,281.6,2,10.58,2,13.12,2,0.97,2,2169.7,2,2291.3,2, 0.07,2,1408
  18SN20150920,   ARC,44,1,11,11,2,20151009,71.6588,-151.2303,1969, 359.5, 0.6114,34.7897,2,34.7846,2,284.8,2,285.8,2, 8.69,2,12.88,2,0.90,2,2161.8,2,2289.4,2, 0.13,2,1408
  18SN20150920,   ARC,44,1,10,10,2,20151009,71.6588,-151.2303,1969, 402.2, 0.6235,34.8103,2,34.8096,2,287.0,2,287.3,2, 8.61,2,12.84,2,0.91,2,-999.0,9,-999.0,9, -999,9,1408
  18SN20150920,   ARC,44,1, 9, 9,2,20151009,71.6588,-151.2303,1969, 457.0, 0.6642,34.8314,2,34.8310,2,289.4,2,290.1,2, 7.89,2,12.80,2,0.88,2,-999.0,9,-999.0,9, -999,9,1408
  18SN20150920,   ARC,44,1, 8, 8,2,20151009,71.6588,-151.2303,1969, 507.5, 0.6131,34.8425,2,34.8427,2,291.9,2,292.3,2, 7.53,2,12.72,2,0.87,2,-999.0,9,-999.0,9, -999,9,1408
  18SN20150920,   ARC,44,1, 7, 7,2,20151009,71.6588,-151.2303,1969, 608.2, 0.4804,34.8538,2,34.8505,2,294.7,2,295.5,2, 7.04,2,12.65,2,0.85,2,-999.0,9,-999.0,9, -999,9,1408
  18SN20150920,   ARC,44,1, 6, 6,2,20151009,71.6588,-151.2303,1969, 710.4, 0.3295,34.8602,2,34.8578,2,296.8,2,297.2,2, 6.79,2,12.52,2,0.85,2,-999.0,9,-999.0,9, -999,9,1408
  18SN20150920,   ARC,44,1, 5, 5,2,20151009,71.6588,-151.2303,1969, 811.5, 0.1669,34.8659,2,34.8662,2,297.8,2,298.2,2, 7.07,2,12.58,2,0.86,2,-999.0,9,-999.0,9, -999,9,1408
  18SN20150920,   ARC,44,1, 4, 4,2,20151009,71.6588,-151.2303,1969,1014.5,-0.0276,34.8769,2,34.8755,2,298.8,2,299.4,2, 7.30,2,12.69,2,0.87,2,-999.0,9,-999.0,9, -999,9,1408
  18SN20150920,   ARC,44,1, 3, 3,2,20151009,71.6588,-151.2303,1969,1217.6,-0.1677,34.8894,2,34.8903,2,298.0,2,298.8,2, 7.98,2,12.81,2,0.89,2,-999.0,9,-999.0,9, -999,9,1408
  18SN20150920,   ARC,44,1, 2, 2,2,20151009,71.6588,-151.2303,1969,1522.8,-0.2965,34.9069,2,34.9079,2,296.8,2,297.6,2, 8.90,2,13.20,2,0.92,2,-999.0,9,-999.0,9, -999,9,1408
  18SN20150920,   ARC,44,1, 1, 1,2,20151009,71.6588,-151.2303,1969,1971.4,-0.3799,34.9317,2,34.9312,2,291.2,2,292.0,2,11.07,2,13.95,2,0.98,2,-999.0,9,-999.0,9, -999,9,1408
  18SN20150920,   ARC,45,1, 8, 8,2,20151009,71.3600,-152.0628,  40,   4.3, 0.1568,28.8061,2,28.7401,2,368.7,2,371.1,2, 3.48,2, 0.04,2,0.59,2,1955.4,2,2055.0,2, -999,9,1727
  18SN20150920,   ARC,45,1, 7, 7,2,20151009,71.3600,-152.0628,  40,  10.0,-0.2046,28.4754,2,28.6093,2,371.7,2,373.0,2, 3.13,2,-0.02,2,0.58,2,1950.8,2,2051.4,2, -999,9,1727
  18SN20150920,   ARC,45,1, 6, 6,2,20151009,71.3600,-152.0628,  40,  21.7,-0.5067,30.0976,2,30.0608,2,355.5,2,398.8,2, 3.22,2,-0.06,2,0.66,2,2020.7,2,2135.5,2, -999,9,1727
  18SN20150920,   ARC,45,1, 5, 5,2,20151009,71.3600,-152.0628,  40,  31.0,-0.8770,30.7687,2,30.6827,2,395.6,2,398.6,2, 3.86,2,-0.06,2,0.70,2,2047.3,2,2170.0,2, -999,9,1727
  18SN20150920,   ARC,45,1, 4, 4,2,20151009,71.3600,-152.0628,  40,  41.3,-0.6090,31.1294,2,31.0940,2,389.8,2,383.9,2, 5.49,2, 0.40,2,0.78,2,2067.8,2,2187.6,2, -999,9,1727
  18SN20150920,   ARC,45,1, 3, 3,2,20151009,71.3600,-152.0628,  40,  51.1,-0.9559,31.3953,2,31.3418,2,350.9,2,370.4,2, 6.81,2, 1.61,2,0.87,2,2080.4,2,2196.0,2, -999,9,1727
  18SN20150920,   ARC,45,1, 2, 2,2,20151009,71.3600,-152.0628,  40,  61.3,-0.7955,31.7198,2,31.6582,2,337.3,2,347.8,2,10.64,2, 3.99,2,1.06,2,2091.7,2,2192.9,2, -999,9,1727
  18SN20150920,   ARC,45,1, 1, 1,2,20151009,71.3600,-152.0628,  40,  75.9,-0.9483,31.8507,2,31.8356,2,333.8,2,339.2,2,12.75,2, 5.83,2,1.18,2,2125.6,2,2216.7,2, -999,9,1727
  18SN20150920,   ARC,46,1,13,13,2,20151009,71.3918,-151.9215,  94,   5.8,-0.3815,27.9896,2,27.9623,2,372.6,2,372.5,2, 2.72,2, 0.00,2,0.55,2,1925.2,2,2019.7,2,-3.40,2,1906
  18SN20150920,   ARC,46,1,12,12,2,20151009,71.3918,-151.9215,  94,  11.2,-0.3829,28.0022,2,28.0403,2,372.9,2,372.9,2, 2.74,2,-0.01,2,0.55,2,1928.1,2,-999.0,9,-3.38,2,1906
  18SN20150920,   ARC,46,1,11,11,2,20151009,71.3918,-151.9215,  94,  20.9,-0.1455,29.2283,2,29.1454,2,375.1,2,390.9,2, 2.85,2,-0.05,2,0.60,2,1979.9,2,2090.0,2,-3.22,2,1906
  18SN20150920,   ARC,46,1,10,10,2,20151009,71.3918,-151.9215,  94,  31.9, 0.1233,30.4483,2,30.7986,2,397.8,2,389.1,2, 4.68,2, 0.25,2,0.74,2,2059.0,2,2183.6,2,-2.88,2,1906
  18SN20150920,   ARC,46,1, 9, 9,2,20151009,71.3918,-151.9215,  94,  41.5,-0.7929,30.9523,2,31.4572,2,391.9,2, -999,9, 8.12,2, 2.72,2,0.95,2,2093.8,2,2202.0,2,-2.56,2,1906
  18SN20150920,   ARC,46,1, 8, 8,2,20151009,71.3918,-151.9215,  94,  51.4,-0.9232,31.3326,2,31.4075,2,373.1,2,364.6,2, 6.89,2, 2.02,2,0.90,2,-999.0,9,-999.0,9,-2.57,2,1906
  18SN20150920,   ARC,46,1, 7, 7,2,20151009,71.3918,-151.9215,  94,  61.9,-0.9432,31.7071,2,31.8896,2,350.4,2,338.2,2,13.11,2, 6.15,2,1.20,2,2127.7,2,2218.5,2,-2.14,2,1906
  18SN20150920,   ARC,46,1, 6, 6,2,20151009,71.3918,-151.9215,  94,  71.8,-1.0219,31.9429,2,32.0176,2,335.0,2,325.8,2,15.31,2, 7.51,2,1.29,2,2144.0,2,2224.8,2,-2.04,2,1906
  18SN20150920,   ARC,46,1, 5, 5,2,20151009,71.3918,-151.9215,  94,  82.0,-1.2205,32.1404,2,32.1705,2,320.9,2,315.7,2,18.32,2, 9.22,2,1.41,2,2159.9,2,2230.5,2,-1.97,2,1906
  18SN20150920,   ARC,46,1, 4, 4,2,20151009,71.3918,-151.9215,  94,  92.6,-1.3695,32.3198,2,32.3208,2,309.5,2,309.0,2,20.84,2,10.46,2,1.49,2,2173.3,2,2242.1,2,-1.86,2,1906
  18SN20150920,   ARC,46,1, 3, 3,2,20151009,71.3918,-151.9215,  94, 112.4,-1.3788,32.6653,2,32.6435,2,295.1,2,294.9,2,25.54,2,12.54,2,1.63,2,2219.8,2,2266.9,2,-1.69,2,1906
  18SN20150920,   ARC,46,1, 2, 2,2,20151009,71.3918,-151.9215,  94, 139.2,-1.3467,33.1478,2,33.1262,2,281.0,2,280.9,2,28.97,2,14.21,2,1.67,2,2215.9,2,2267.4,2,-1.43,2,1906
  18SN20150920,   ARC,46,1, 1, 1,2,20151009,71.3918,-151.9215,  94, 167.5,-0.1062,34.2399,2,34.2283,2,273.8,2,276.9,2,17.50,2,13.02,2,1.23,2,2187.3,2,2285.6,2,-0.31,2,1906
  18SN20150920,   ARC,48,1,24,24,2,20151009,71.5727,-151.4117,1063,   5.6,-1.0625,26.0348,2,26.1855,2,384.4,2, -999,9, 2.62,2,-0.04,2,0.52,2,1821.2,2,1891.7,2,-3.62,2,2321
  18SN20150920,   ARC,48,1,23,23,2,20151009,71.5727,-151.4117,1063,  21.2,-0.6798,28.7910,2,28.4045,2,392.5,2, -999,9, 2.77,2,-0.07,2,0.59,2,1977.7,2,2080.8,2,-3.44,2,2321
  18SN20150920,   ARC,48,1,22,22,2,20151009,71.5727,-151.4117,1063,  48.4,-0.2029,30.6734,2,30.5881,2,387.6,2,383.0,2, 4.08,2,-0.03,2,0.71,2,2037.1,2,2160.1,2,-2.91,2,2321
  18SN20150920,   ARC,48,1,21,21,2,20151009,71.5727,-151.4117,1063,  51.6,-0.3150,30.8930,2,30.8950,2,372.1,2,374.4,2, 5.00,2, 0.22,2,0.77,2,2051.5,2,2173.4,2,-2.65,2,2321
  18SN20150920,   ARC,48,1,20,20,2,20151009,71.5727,-151.4117,1063,  71.8,-0.9110,31.7265,2,31.7359,2,339.5,2,336.2,2,11.75,2, 5.81,2,1.16,2,2108.8,2,2205.7,2,-2.13,2,2321
  18SN20150920,   ARC,48,1,19,19,2,20151009,71.5727,-151.4117,1063, 105.1,-1.3366,32.3213,2,32.3172,2,304.7,2,306.7,2,22.92,2,11.43,2,1.57,2,2167.1,2,2229.2,2,-1.74,2,2321
  18SN20150920,   ARC,48,1,18,18,2,20151009,71.5727,-151.4117,1063, 130.3,-1.3667,32.6232,2,32.6264,2,295.6,2,295.0,2,25.74,2,12.71,2,1.65,2,2194.4,2,2247.7,2,-1.61,2,2321
  18SN20150920,   ARC,48,1,17,17,2,20151009,71.5727,-151.4117,1063, 159.7,-1.4079,32.9088,2,32.9137,2,284.8,2,279.3,2,30.52,2,14.64,2,1.78,2,2216.5,2,2256.1,2,-1.52,2,2321
  18SN20150920,   ARC,48,1,16,16,2,20151009,71.5727,-151.4117,1063, 175.7,-1.4611,33.0984,2,33.0912,2,278.2,2,279.2,2,31.03,2,14.82,2,1.76,2,2221.3,2,2265.3,2,-1.48,2,2321
  18SN20150920,   ARC,48,1,15,15,2,20151009,71.5727,-151.4117,1063, 202.0,-1.2123,33.6484,2,33.6523,2,272.7,2,273.8,2,26.45,2,14.19,2,1.50,2,2219.7,2,2278.6,2,-1.06,2,2321
  18SN20150920,   ARC,48,1,14,14,2,20151009,71.5727,-151.4117,1063, 228.7,-0.7317,34.1469,2,34.2042,2,279.0,2,279.2,2,16.26,2,12.69,2,1.12,2,2192.8,2,2281.7,2,-0.43,2,2321
  18SN20150920,   ARC,48,1,13,13,2,20151009,71.5727,-151.4117,1063, 247.8,-0.2168,34.4216,2,34.4834,2,277.6,2,277.6,2,13.66,2,13.03,2,1.06,2,2182.3,2,2289.4,2,-0.16,2,2321
  18SN20150920,   ARC,48,1,12,12,2,20151009,71.5727,-151.4117,1063, 272.9, 0.1602,34.6276,2,34.6208,2,278.6,2,278.7,2,11.56,2,12.92,2,0.98,2,2173.3,2,2287.6,2,-0.01,2,2321
  18SN20150920,   ARC,48,1,11,11,2,20151009,71.5727,-151.4117,1063, 304.1, 0.4703,34.7310,2,34.7274,2,281.1,2,280.9,2, 9.67,2,12.94,2,0.92,2,-999.0,9,-999.0,9, 0.10,2,2321
  18SN20150920,   ARC,48,1,10,10,2,20151009,71.5727,-151.4117,1063, 323.7, 0.5785,34.7636,2,34.7602,2,283.4,2,282.9,2, 8.74,2,12.85,2,0.90,2,-999.0,9,-999.0,9, 0.16,2,2321
  18SN20150920,   ARC,48,1, 9, 9,2,20151009,71.5727,-151.4117,1063, 343.1, 0.6303,34.7821,2,34.7798,2,285.8,2,285.0,2, 8.28,2,12.74,2,0.88,2,-999.0,9,-999.0,9, 0.15,2,2321
  18SN20150920,   ARC,48,1, 8, 8,2,20151009,71.5727,-151.4117,1063, 406.9, 0.7750,34.8288,2,34.8292,2,290.2,2,290.6,2, 7.11,2,12.57,2,0.85,2,-999.0,9,-999.0,9, -999,9,2321
  18SN20150920,   ARC,48,1, 7, 7,2,20151009,71.5727,-151.4117,1063, 418.3, 0.7547,34.8290,2,34.8308,2,291.2,2,290.8,2, 7.10,2,12.63,2,0.85,2,-999.0,9,-999.0,9, -999,9,2321
  18SN20150920,   ARC,48,1, 6, 6,2,20151009,71.5727,-151.4117,1063, 457.9, 0.7112,34.8335,2,34.8344,2,291.2,2,290.8,2, 7.45,2,12.61,2,0.86,2,-999.0,9,-999.0,9, -999,9,2321
  18SN20150920,   ARC,48,1, 5, 5,2,20151009,71.5727,-151.4117,1063, 508.5, 0.6055,34.8423,2,34.8427,2,293.5,2,292.0,2, 7.44,2,12.62,2,0.87,2,-999.0,9,-999.0,9, -999,9,2321
  18SN20150920,   ARC,48,1, 4, 4,2,20151009,71.5727,-151.4117,1063, 609.9, 0.4980,34.8533,2,34.8545,2,295.6,2,295.3,2, 6.93,2,12.58,2,0.84,2,-999.0,9,-999.0,9, -999,9,2321
  18SN20150920,   ARC,48,1, 3, 3,2,20151009,71.5727,-151.4117,1063, 711.1, 0.3475,34.8599,2,34.8611,2,297.0,2,296.9,2, 6.75,2,12.49,2,0.84,2,-999.0,9,-999.0,9, -999,9,2321
  18SN20150920,   ARC,48,1, 2, 2,2,20151009,71.5727,-151.4117,1063,1015.2,-0.0116,34.8762,2,34.8772,2,298.3,2,298.8,2, 7.38,2,12.55,2,0.86,2,-999.0,9,-999.0,9, -999,9,2321
  18SN20150920,   ARC,48,1, 1, 1,2,20151009,71.5727,-151.4117,1063,1457.8,-0.2565,34.9010,2,34.9019,2,297.3,2,297.6,2, 8.67,2,13.06,2,0.92,2,-999.0,9,-999.0,9, -999,9,2321