BOTTLE,20240208CCHSIOVAJ
EXPOCODE,SECT_ID,STNNBR,CASTNO,SAMPNO,BTLNBR,BTLNBR_FLAG_W,DATE,LATITUDE,LONGITUDE,DEPTH,CTDPRS,CTDTMP,CTDSAL,CTDSAL_FLAG_W,SALNTY,SALNTY_FLAG_W,CTDOXY,CTDOXY_FLAG_W,OXYGEN,OXYGEN_FLAG_W,SILCAT,SILCAT_FLAG_W,NITRAT,NITRAT_FLAG_W,PHSPHT,PHSPHT_FLAG_W,TCARBN,TCARBN_FLAG_W,ALKALI,ALKALI_FLAG_W,DELO18,DELO18_FLAG_W,TIME
,,,,,,,,,,METERS,DBAR,ITS-90,PSS-78,,PSS-78,,UMOL/KG,,UMOL/KG,,UMOL/KG,,UMOL/KG,,UMOL/KG,,UMOL/KG,,UMOL/KG,,/MILLE,,
  18SN20150920,   ARC,6,1,24,24,2,20150923,73.4998,-134.2360,2867,   5.2,-0.9267,26.9184,2,26.6886,2,382.6,2,387.5,2, 2.46,2,-0.10,2,0.56,2,1855.0,2,1928.3,2, -999,9,1112
  18SN20150920,   ARC,6,1,23,23,2,20150923,73.4998,-134.2360,2867,  21.2,-0.9325,28.1837,2,28.1872,2,395.2,2,397.3,2, 2.60,2,-0.15,2,0.60,2,1940.4,2,2026.8,2, -999,9,1112
  18SN20150920,   ARC,6,1,22,22,2,20150923,73.4998,-134.2360,2867,  31.1,-1.0938,28.3948,2,28.3889,2,399.2,2,397.2,2, 2.61,2,-0.15,2,0.61,2,1953.5,2,2045.8,2, -999,9,1112
  18SN20150920,   ARC,6,1,21,21,2,20150923,73.4998,-134.2360,2867,  41.3,-0.9276,29.2810,2,29.1974,2,396.1,2,398.7,2, 2.74,2,-0.16,2,0.64,2,1987.8,2,2092.0,2, -999,9,1112
  18SN20150920,   ARC,6,1,20,20,2,20150923,73.4998,-134.2360,2867,  64.4,-0.4670,31.4929,2,31.4694,2,350.2,2,346.1,2, 9.48,2, 3.69,2,1.05,2,2149.8,2,2195.8,2, -999,9,1112
  18SN20150920,   ARC,6,1,19,19,2,20150923,73.4998,-134.2360,2867,  72.3,-0.8508,31.8487,2,31.8099,2,325.7,2,326.3,2,13.30,2, 6.86,2,1.26,2,2111.6,2,2202.9,2, -999,9,1112
  18SN20150920,   ARC,6,1,18,18,2,20150923,73.4998,-134.2360,2867, 103.7,-1.4259,32.3095,2,32.3096,2,311.0,2,311.4,2,20.91,2,10.73,2,1.58,2,2156.4,2,2225.0,2, -999,9,1112
  18SN20150920,   ARC,6,1,17,17,2,20150923,73.4998,-134.2360,2867, 145.4,-1.4809,32.6277,2,32.6282,2,278.6,2,276.8,2,30.22,2,14.57,2,1.90,3,2192.4,2,2234.5,2, -999,9,1112
  18SN20150920,   ARC,6,1,16,16,2,20150923,73.4998,-134.2360,2867, 189.9,-1.4378,32.9270,2,32.9146,2,273.1,2,271.6,2,33.80,2,15.81,2,1.93,3,2217.3,2,2257.0,2, -999,9,1112
  18SN20150920,   ARC,6,1,15,15,2,20150923,73.4998,-134.2360,2867, 197.8,-1.4208,33.1387,2,33.2738,2,273.3,2,271.2,2,32.30,2,15.26,2,1.78,2,2230.4,2,2276.9,2, -999,9,1112
  18SN20150920,   ARC,6,1,14,14,2,20150923,73.4998,-134.2360,2867, 213.2,-1.2356,33.6936,2,33.6743,2,267.3,2,265.6,2,28.81,2,14.67,2,1.60,2,2227.4,2,2281.4,2, -999,9,1112
  18SN20150920,   ARC,6,1,13,13,2,20150923,73.4998,-134.2360,2867, 236.2,-0.7681,34.1468,2,34.1307,2,265.0,2,265.8,2,18.52,2,12.84,2,1.18,2,2200.3,2,2281.4,2, -999,9,1112
  18SN20150920,   ARC,6,1,12,12,2,20150923,73.4998,-134.2360,2867, 267.8,-0.2777,34.4163,2,34.4123,2,282.8,2,282.1,2,10.02,2,11.29,2,0.89,2,2175.7,2,2280.9,2, -999,9,1112
  18SN20150920,   ARC,6,1,11,11,2,20150923,73.4998,-134.2360,2867, 332.9, 0.3240,34.6961,2,34.6944,2,280.0,2,279.0,2, 9.79,2,12.76,2,0.93,2,2163.4,2,2289.6,2, -999,9,1112
  18SN20150920,   ARC,6,1,10,10,2,20150923,73.4998,-134.2360,2867, 385.8, 0.5485,34.7845,2,34.7881,2,287.1,2,286.1,2, 7.77,2,12.69,2,0.89,2,-999.0,9,-999.0,9, -999,9,1112
  18SN20150920,   ARC,6,1, 9, 9,2,20150923,73.4998,-134.2360,2867, 449.5, 0.6679,34.8250,2,34.8284,2,291.3,2,290.7,2, 6.87,2,12.57,2,0.87,2,-999.0,9,-999.0,9, -999,9,1112
  18SN20150920,   ARC,6,1, 8, 8,2,20150923,73.4998,-134.2360,2867, 507.3, 0.6198,34.8427,2,34.8459,2,293.4,2,293.3,2, 6.70,2,12.56,2,0.87,2,-999.0,9,-999.0,9, -999,9,1112
  18SN20150920,   ARC,6,1, 7, 7,2,20150923,73.4998,-134.2360,2867, 608.7, 0.4669,34.8498,2,34.8493,2,293.6,2,293.1,2, 7.04,2,12.63,2,0.82,2,-999.0,9,-999.0,9, -999,9,1112
  18SN20150920,   ARC,6,1, 5, 5,2,20150923,73.4998,-134.2360,2867, 811.0, 0.2075,34.8674,2,34.8699,2,296.8,2,296.5,2, 6.94,2,12.64,2,0.83,2,-999.0,9,-999.0,9, -999,9,1112
  18SN20150920,   ARC,6,1, 4, 4,2,20150923,73.4998,-134.2360,2867,1014.0,-0.0226,34.8809,2,34.8789,2,298.2,2,297.6,2, 7.40,2,12.77,2,0.85,2,-999.0,9,-999.0,9, -999,9,1112
  18SN20150920,   ARC,6,1, 6, 6,2,20150923,73.4998,-134.2360,2867,1482.2,-0.3067,34.9143,2,34.9168,2,297.6,2,297.3,2, 7.35,2,12.69,2,0.90,2,-999.0,9,-999.0,9, -999,9,1112
  18SN20150920,   ARC,7,1,24,24,2,20150923,73.5000,-131.0128,1900,   4.2,-1.1456,26.4632,2,26.4750,2,382.4,2,380.8,2, 2.40,2,-0.14,2,0.53,2,1835.7,2,1904.2,2, -999,9,2038
  18SN20150920,   ARC,7,1,23,23,2,20150923,73.5000,-131.0128,1900,   4.7,-1.1472,26.4632,2,26.4835,2,382.5,2, -999,9, 2.40,2,-0.15,2,0.53,2,-999.0,9,-999.0,9, -999,9,2038
  18SN20150920,   ARC,7,1,22,22,2,20150923,73.5000,-131.0128,1900,  21.3,-0.4011,27.9110,2,27.6580,2,389.8,2,392.0,2, 2.55,2,-0.14,2,0.56,2,1920.0,2,2007.8,2, -999,9,2038
  18SN20150920,   ARC,7,1,21,21,2,20150923,73.5000,-131.0128,1900,  31.4,-0.7661,28.6781,2,27.7882,2,397.8,2,392.8,2, 2.56,2,-0.15,2,0.56,2,1928.8,2,2018.0,3, -999,9,2038
  18SN20150920,   ARC,7,1,20,20,2,20150923,73.5000,-131.0128,1900,  41.4,-0.9761,29.4363,2,29.4714,2,398.6,2,399.1,2, 2.67,2,-0.15,2,0.63,2,1997.3,2,2104.3,2, -999,9,2038
  18SN20150920,   ARC,7,1,19,19,2,20150923,73.5000,-131.0128,1900,  66.9,-0.7187,31.4322,2,31.3770,2,361.3,2,350.4,2, 9.43,2, 3.18,2,0.98,2,2081.4,2,2189.9,2, -999,9,2038
  18SN20150920,   ARC,7,1,18,18,2,20150923,73.5000,-131.0128,1900,  68.0,-0.7730,31.4903,2,31.5351,2,354.7,2, -999,9,10.58,2, 4.04,2,1.03,2,-999.0,9,-999.0,9, -999,9,2038
  18SN20150920,   ARC,7,1,17,17,2,20150923,73.5000,-131.0128,1900, 105.2,-1.2940,32.3185,2,32.3633,2,303.1,2,300.8,2,25.21,2,11.85,2,1.63,2,2172.8,2,2229.3,2, -999,9,2038
  18SN20150920,   ARC,7,1,16,16,2,20150923,73.5000,-131.0128,1900, 129.4,-1.3654,32.6204,2,32.6263,2,290.7,2,289.1,2,29.05,2,13.62,2,1.74,2,2196.6,2,2241.7,2, -999,9,2038
  18SN20150920,   ARC,7,1,15,15,2,20150923,73.5000,-131.0128,1900, 155.7,-1.3969,32.9485,2,32.9346,2,276.0,2,275.3,2,33.20,2,15.68,2,1.84,2,2223.3,2,2260.1,2, -999,9,2038
  18SN20150920,   ARC,7,1,14,14,2,20150923,73.5000,-131.0128,1900, 168.8,-1.4063,33.1582,2,33.1724,2,271.7,2, -999,9,33.09,2,15.58,2,1.81,2,-999.0,9,-999.0,9, -999,9,2038
  18SN20150920,   ARC,7,1,13,13,2,20150923,73.5000,-131.0128,1900, 193.2,-1.2058,33.7205,2,33.6980,2,262.9,2,260.3,2,28.85,2,14.81,2,1.55,2,2228.1,2,2278.6,2, -999,9,2038
  18SN20150920,   ARC,7,1,12,12,2,20150923,73.5000,-131.0128,1900, 217.4,-0.7423,34.1437,2,34.1399,2,256.0,2,259.2,2,19.42,2,13.61,2,1.17,2,2202.6,2,2283.1,2, -999,9,2038
  18SN20150920,   ARC,7,1,11,11,2,20150923,73.5000,-131.0128,1900, 251.7,-0.2087,34.4459,2,34.4444,2,270.4,2,266.9,2,14.23,2,13.04,2,0.99,2,2186.7,2,2283.3,2, -999,9,2038
  18SN20150920,   ARC,7,1,10,10,2,20150923,73.5000,-131.0128,1900, 318.0, 0.4047,34.7255,2,34.7298,2,279.9,2,280.0,2, 9.41,2,12.90,2,0.89,2,2166.4,2,2292.0,2, -999,9,2038
  18SN20150920,   ARC,7,1, 9, 9,2,20150923,73.5000,-131.0128,1900, 369.3, 0.5892,34.7972,2,34.7966,2,287.2,2,286.0,2, 7.86,2,12.82,2,0.86,2,-999.0,9,-999.0,9, -999,9,2038
  18SN20150920,   ARC,7,1, 8, 8,2,20150923,73.5000,-131.0128,1900, 433.0, 0.6622,34.8252,2,34.8296,2,291.1,2,290.8,2, 6.87,2,12.65,2,0.84,2,-999.0,9,-999.0,9, -999,9,2038
  18SN20150920,   ARC,7,1, 7, 7,2,20150923,73.5000,-131.0128,1900, 508.1, 0.5652,34.8425,2,34.8457,2,293.2,2,292.3,2, 6.95,2,12.72,2,0.84,2,-999.0,9,-999.0,9, -999,9,2038
  18SN20150920,   ARC,7,1, 6, 6,2,20150923,73.5000,-131.0128,1900, 609.4, 0.4471,34.8533,2,34.8525,2,294.1,2,293.5,2, 7.03,2,12.75,2,0.85,2,-999.0,9,-999.0,9, -999,9,2038
  18SN20150920,   ARC,7,1, 5, 5,2,20150923,73.5000,-131.0128,1900, 811.1, 0.1911,34.8691,2,34.8726,2,296.9,2,296.3,2, 7.02,2,12.77,2,0.85,2,-999.0,9,-999.0,9, -999,9,2038
  18SN20150920,   ARC,7,1, 4, 4,2,20150923,73.5000,-131.0128,1900,1015.2,-0.0264,34.8832,2,34.8810,2,298.5,2,297.9,2, 7.19,2,12.81,2,0.86,2,-999.0,9,-999.0,9, -999,9,2038
  18SN20150920,   ARC,7,1, 3, 3,2,20150923,73.5000,-131.0128,1900,1523.5,-0.3322,34.9175,2,34.9203,2,296.4,2,295.8,2, 9.17,2,13.51,2,0.92,2,-999.0,9,-999.0,9, -999,9,2038
  18SN20150920,   ARC,7,1, 2, 2,2,20150923,73.5000,-131.0128,1900,2032.6,-0.4036,34.9438,2,34.9454,2,288.6,2,288.0,2,11.91,2,14.31,2,0.98,2,-999.0,9,-999.0,9, -999,9,2038
  18SN20150920,   ARC,7,1, 1, 1,2,20150923,73.5000,-131.0128,1900,2549.9,-0.3611,34.9544,2,34.9557,2,281.2,2,281.1,2,14.16,2,14.69,2,1.00,2,-999.0,9,-999.0,9, -999,9,2038
  18SN20150920,   ARC,8,1,24,24,2,20150924,74.5067,-135.4253,3427,   5.0,-1.3642,26.0268,2,26.0262,2,385.7,2,384.2,2, 2.56,2,-0.10,2,0.51,2,1812.8,2,1874.2,2, -999,9,0856
  18SN20150920,   ARC,8,1,22,22,2,20150924,74.5067,-135.4253,3427,  21.1,-0.6706,27.9809,2,27.8222,2,392.5,2,396.9,2, 2.74,2,-0.13,2,0.56,2,1930.8,2,2014.4,2, -999,9,0856
  18SN20150920,   ARC,8,1,21,21,2,20150924,74.5067,-135.4253,3427,  64.6,-0.1224,31.1259,2,31.0523,2,360.4,2,369.8,2, 6.46,2, 0.66,2,0.81,2,2051.4,2,2175.4,2, -999,9,0856
  18SN20150920,   ARC,8,1,19,19,2,20150924,74.5067,-135.4253,3427,  69.7,-0.2981,31.3869,2,31.3209,2,352.0,2,355.9,2, 7.97,2, 2.35,2,0.93,2,2068.7,2,2186.7,2, -999,9,0856
  18SN20150920,   ARC,8,1,18,18,2,20150924,74.5067,-135.4253,3427,  86.7,-0.8649,31.8983,2,31.8657,2,323.8,2,322.6,2,13.93,2, 7.44,2,1.28,2,2118.6,2,2226.7,2, -999,9,0856
  18SN20150920,   ARC,8,1,17,17,2,20150924,74.5067,-135.4253,3427, 113.9,-1.2266,32.3223,2,32.3113,2,305.7,2,306.5,2,22.96,2,11.15,2,1.57,2,2160.4,2,2226.8,2, -999,9,0856
  18SN20150920,   ARC,8,1,16,16,2,20150924,74.5067,-135.4253,3427, 140.4,-1.3405,32.6167,2,32.6094,2,294.0,2,293.7,2,27.41,2,13.14,2,1.71,2,2189.3,2,2240.9,2, -999,9,0856
  18SN20150920,   ARC,8,1,15,15,2,20150924,74.5067,-135.4253,3427, 165.6,-1.4030,32.9246,2,32.9192,2,279.0,2,278.1,2,32.49,2,15.28,2,1.83,2,2218.2,2,2259.6,2, -999,9,0856
  18SN20150920,   ARC,8,1,14,14,2,20150924,74.5067,-135.4253,3427, 180.5,-1.4203,33.1085,2,33.1045,2,273.9,2,272.6,2,34.55,2,15.81,2,1.86,2,2231.2,2,2269.2,2, -999,9,0856
  18SN20150920,   ARC,8,1,13,13,2,20150924,74.5067,-135.4253,3427, 207.0,-1.2634,33.6308,2,33.6446,2,269.6,2,268.0,2,28.53,2,14.69,2,1.57,2,2226.5,2,2281.3,2, -999,9,0856
  18SN20150920,   ARC,8,1,12,12,2,20150924,74.5067,-135.4253,3427, 232.4,-0.8072,34.1394,2,34.1513,2,267.8,2,268.5,2,18.76,2,12.83,2,1.16,2,2196.6,2,2276.1,2, -999,9,0856
  18SN20150920,   ARC,8,1,11,11,2,20150924,74.5067,-135.4253,3427, 265.0,-0.1913,34.4426,2,34.4672,2,282.7,2,285.4,2, 9.25,2,11.17,2,0.83,2,2170.2,2,2278.9,2, -999,9,0856
  18SN20150920,   ARC,8,1,10,10,2,20150924,74.5067,-135.4253,3427, 331.4, 0.4397,34.7273,2,34.7316,2,287.6,2,287.0,2, 7.69,2,12.20,2,0.83,2,2159.8,2,2291.6,2, -999,9,0856
  18SN20150920,   ARC,8,1, 9, 9,2,20150924,74.5067,-135.4253,3427, 381.7, 0.5785,34.7897,2,34.7923,2,290.5,2,290.4,2, 6.95,2,12.34,2,0.82,2,-999.0,9,-999.0,9, -999,9,0856
  18SN20150920,   ARC,8,1, 8, 8,2,20150924,74.5067,-135.4253,3427, 501.3, 0.6993,34.8469,2,34.8510,2,295.2,2,295.2,2, 6.51,2,12.44,2,0.82,2,-999.0,9,-999.0,9, -999,9,0856
  18SN20150920,   ARC,8,1, 7, 7,2,20150924,74.5067,-135.4253,3427, 508.0, 0.6747,34.8466,2,34.8476,2,295.0,2,294.6,2, 6.54,2,12.50,2,0.83,2,-999.0,9,-999.0,9, -999,9,0856
  18SN20150920,   ARC,8,1, 6, 6,2,20150924,74.5067,-135.4253,3427, 608.9, 0.4864,34.8548,2,34.8589,2,295.4,2,295.2,2, 6.67,2,12.57,2,0.83,2,-999.0,9,-999.0,9, -999,9,0856
  18SN20150920,   ARC,8,1, 5, 5,2,20150924,74.5067,-135.4253,3427, 811.5, 0.1952,34.8686,2,34.8706,2,296.4,2,297.0,2, 6.91,2,12.63,2,0.85,2,-999.0,9,-999.0,9, -999,9,0856
  18SN20150920,   ARC,8,1, 4, 4,2,20150924,74.5067,-135.4253,3427,1015.0,-0.0103,34.8835,2,34.8831,2,298.4,2,298.0,2, 7.13,2,12.68,2,0.86,2,-999.0,9,-999.0,9, -999,9,0856
  18SN20150920,   ARC,8,1, 3, 3,2,20150924,74.5067,-135.4253,3427,1523.6,-0.3114,34.9171,2,34.9199,2,297.8,2,297.6,2, 8.54,2,13.28,2,0.90,2,-999.0,9,-999.0,9, -999,9,0856
  18SN20150920,   ARC,8,1, 2, 2,2,20150924,74.5067,-135.4253,3427,2032.6,-0.4108,34.9421,2,34.9440,2,291.3,2,291.1,2,11.07,2,14.08,2,0.97,2,-999.0,9,-999.0,9, -999,9,0856
  18SN20150920,   ARC,8,1, 1, 1,2,20150924,74.5067,-135.4253,3427,2727.8,-0.3529,34.9555,2,34.9560,2,283.6,2,283.4,2,13.46,2,14.49,2,0.99,2,-999.0,9,-999.0,9, -999,9,0856
  18SN20150920,   ARC,9,1,24,24,2,20150925,75.2650,-139.4742,3646,   4.9,-1.3211,25.7853,2,25.8339,2,387.2,2,386.5,2, 2.64,2,-0.08,2,0.50,2,1808.2,2,1873.8,2,-3.81,2,0241
  18SN20150920,   ARC,9,1,23,23,2,20150925,75.2650,-139.4742,3646,  21.1,-0.6835,27.8303,2,27.6270,2,392.7,2,394.7,2, 2.82,2,-0.10,2,0.53,2,1933.1,2,2015.1,2,-3.77,2,0241
  18SN20150920,   ARC,9,1,22,22,2,20150925,75.2650,-139.4742,3646,  41.6,-1.0940,28.6668,2,28.7543,2,393.5,2,393.9,2, 3.19,2,-0.10,2,0.57,2,1984.8,2,2075.8,2,-3.49,2,0241
  18SN20150920,   ARC,9,1,21,21,2,20150925,75.2650,-139.4742,3646,  62.8, 0.0091,31.0658,2,30.8991,2,359.3,2,372.9,2, 5.48,2, 0.15,2,0.75,2,2044.0,2,2171.4,2,-2.44,2,0241
  18SN20150920,   ARC,9,1,20,20,2,20150925,75.2650,-139.4742,3646,  88.2,-0.6854,31.8199,2,31.8501,2,325.5,2,324.5,2,13.41,2, 7.15,2,1.24,2,2114.8,2,2207.7,2,-1.87,2,0241
  18SN20150920,   ARC,9,1,19,19,2,20150925,75.2650,-139.4742,3646, 118.2,-1.2031,32.3416,2,32.3101,2,305.9,2,307.7,2,22.20,2,11.03,2,1.54,2,2160.2,2,2226.5,2,-1.65,2,0241
  18SN20150920,   ARC,9,1,18,18,2,20150925,75.2650,-139.4742,3646, 147.5,-1.3501,32.6405,2,32.6305,2,293.4,2,292.3,2,26.83,2,13.18,2,1.68,2,2192.3,2,2248.8,2,-1.60,2,0241
  18SN20150920,   ARC,9,1,17,17,2,20150925,75.2650,-139.4742,3646, 179.0,-1.4391,32.9372,2,32.9729,2,278.5,2,275.6,2,33.33,2,15.36,2,1.81,2,2222.9,2,2264.8,2,-1.49,2,0241
  18SN20150920,   ARC,9,1,16,16,2,20150925,75.2650,-139.4742,3646, 197.2,-1.4227,33.1781,2,33.2207,2,271.2,2,270.2,2,34.91,2,15.79,2,1.82,2,2236.3,2,2275.2,2,-1.43,2,0241
  18SN20150920,   ARC,9,1,15,15,2,20150925,75.2650,-139.4742,3646, 225.5,-1.2222,33.7197,2,33.7089,2,268.8,2,267.3,2,27.75,2,14.67,2,1.52,2,2222.4,2,2276.5,2,-1.04,2,0241
  18SN20150920,   ARC,9,1,14,14,2,20150925,75.2650,-139.4742,3646, 249.7,-0.7391,34.1847,2,34.1897,2,270.1,2,270.7,2,16.78,2,12.50,2,1.07,2,2191.0,2,2278.9,2,-0.48,2,0241
  18SN20150920,   ARC,9,1,13,13,2,20150925,75.2650,-139.4742,3646, 277.7,-0.2761,34.4284,2,34.4353,2,277.4,2,275.8,2,11.76,2,11.89,2,0.92,2,2180.3,2,2281.8,2,-0.14,2,0241
  18SN20150920,   ARC,9,1,12,12,2,20150925,75.2650,-139.4742,3646, 343.4, 0.4697,34.7256,2,34.7215,2,285.2,2,285.0,2, 7.91,2,12.33,2,0.82,2,2162.2,2,2286.8,2, 0.10,2,0241
  18SN20150920,   ARC,9,1,11,11,2,20150925,75.2650,-139.4742,3646, 386.7, 0.6678,34.7899,2,34.7909,2,290.1,2,289.9,2, 6.77,2,12.36,2,0.81,2,2159.5,2,2293.3,2, 0.15,2,0241
  18SN20150920,   ARC,9,1,10,10,2,20150925,75.2650,-139.4742,3646, 467.5, 0.7789,34.8315,2,34.8339,2,292.8,2,292.7,2, 6.57,2,12.47,2,0.80,2,2156.5,2,2296.0,2, 0.20,2,0241
  18SN20150920,   ARC,9,1, 9, 9,2,20150925,75.2650,-139.4742,3646, 508.5, 0.7745,34.8411,2,34.8422,2,293.2,2,294.0,2, 6.54,2,12.45,2,0.80,2,2158.8,2,2293.6,2, 0.16,2,0241
  18SN20150920,   ARC,9,1, 8, 8,2,20150925,75.2650,-139.4742,3646, 609.1, 0.5560,34.8483,2,34.8553,2,294.8,2,294.3,2, 6.58,2,12.59,2,0.81,2,2155.1,2,2292.6,2, 0.19,2,0241
  18SN20150920,   ARC,9,1, 7, 7,2,20150925,75.2650,-139.4742,3646, 710.9, 0.4180,34.8596,2,34.8621,2,296.0,2,295.8,2, 6.54,2,12.64,2,0.81,2,2153.8,2,2293.4,2, 0.20,2,0241
  18SN20150920,   ARC,9,1, 6, 6,2,20150925,75.2650,-139.4742,3646, 812.5, 0.2597,34.8644,2,34.8691,2,297.2,2,297.2,2, 6.59,2,12.61,2,0.81,2,2152.3,2,2296.1,2, 0.18,2,0241
  18SN20150920,   ARC,9,1, 3, 3,2,20150925,75.2650,-139.4742,3646,1014.6, 0.0188,34.8777,2,34.8858,2,298.8,2,298.6,2, 6.76,2,12.72,2,0.82,2,2152.3,2,2293.6,2, -999,9,0241
  18SN20150920,   ARC,11,1,24,24,2,20150925,76.0023,-139.9947,3725,   4.1,-1.2929,26.9283,2,26.9966,2, -999,9,390.8,2, 2.88,2,-0.06,2,0.53,2,1872.2,2,1948.5,2,-3.68,2,1223
  18SN20150920,   ARC,11,1,23,23,2,20150925,76.0023,-139.9947,3725,   5.0,-1.3078,26.8667,2,27.1447,2, -999,9, -999,9, 2.90,2,-0.09,2,0.53,2,1879.8,2,1956.6,2, -999,9,1223
  18SN20150920,   ARC,11,1,22,22,2,20150925,76.0023,-139.9947,3725,  21.1,-1.0177,28.5768,2,28.5407,2, -999,9,396.7,2, 2.95,2,-0.10,2,0.58,2,1960.7,2,2050.6,2,-3.56,2,1223
  18SN20150920,   ARC,11,1,21,21,2,20150925,76.0023,-139.9947,3725,  41.2,-1.1761,29.2504,2,29.2170,2, -999,9,392.7,2, 3.15,2,-0.10,2,0.58,2,2010.6,2,2112.5,2,-3.52,2,1223
  18SN20150920,   ARC,11,1,20,20,2,20150925,76.0023,-139.9947,3725,  67.9,-0.1334,31.1480,2,31.2473,2, -999,9, -999,9, 7.54,2, 1.72,2,0.86,2,-999.0,9,-999.0,9, -999,9,1223
  18SN20150920,   ARC,11,1,19,19,2,20150925,76.0023,-139.9947,3725,  69.5,-0.1821,31.2247,2,31.1775,2, -999,9,358.5,2, 7.98,2, 2.25,2,0.90,2,2065.1,2,2182.4,2,-2.23,2,1223
  18SN20150920,   ARC,11,1,18,18,2,20150925,76.0023,-139.9947,3725,  92.8,-0.8732,31.9600,2,31.9624,2, -999,9,318.9,2,16.14,2, 8.35,2,1.34,2,2127.8,2,2212.6,2,-1.81,2,1223
  18SN20150920,   ARC,11,1,17,17,2,20150925,76.0023,-139.9947,3725, 123.4,-1.2555,32.4321,2,32.4619,2, -999,9,302.2,2,24.29,2,11.93,2,1.60,2,-999.0,9,-999.0,9,-1.64,2,1223
  18SN20150920,   ARC,11,1,16,16,2,20150925,76.0023,-139.9947,3725, 148.9,-1.3466,32.6423,2,32.6367,2, -999,9,292.0,2,27.42,2,13.23,2,1.69,2,2192.0,2,2247.2,2,-1.58,2,1223
  18SN20150920,   ARC,11,1,15,15,2,20150925,76.0023,-139.9947,3725, 178.4,-1.4276,32.9442,2,32.9286,2, -999,9,276.6,2,33.45,2,15.31,2,1.83,2,2223.7,2,2263.7,2,-1.49,2,1223
  18SN20150920,   ARC,11,1,14,14,2,20150925,76.0023,-139.9947,3725, 196.7,-1.4378,33.1397,2,33.1293,2, -999,9,272.1,2,35.52,2,15.86,2,1.86,2,2235.5,2,2273.8,2, -999,9,1223
  18SN20150920,   ARC,11,1,13,13,2,20150925,76.0023,-139.9947,3725, 224.4,-1.2093,33.6839,2,33.6554,2, -999,9,267.2,2,28.75,2,14.81,2,1.56,2,2229.3,2,2286.0,2,-1.02,2,1223
  18SN20150920,   ARC,11,1,12,12,2,20150925,76.0023,-139.9947,3725, 247.8,-0.7626,34.1713,2,34.2017,2, -999,9,269.4,2,17.14,2,12.58,2,1.09,2,2195.6,2,2278.9,2,-0.34,2,1223
  18SN20150920,   ARC,11,1,11,11,2,20150925,76.0023,-139.9947,3725, 276.6,-0.2136,34.4492,2,34.4448,2, -999,9,276.8,2,11.91,2,12.01,2,0.91,2,2177.3,2,2281.7,2,-0.11,2,1223
  18SN20150920,   ARC,11,1,10,10,2,20150925,76.0023,-139.9947,3725, 340.6, 0.4621,34.7188,2,34.7086,2, -999,9,283.2,2, 8.60,2,12.50,2,0.85,2,2168.1,2,2296.2,2, 0.11,2,1223
  18SN20150920,   ARC,11,1, 9, 9,2,20150925,76.0023,-139.9947,3725, 386.7, 0.6688,34.7878,2,34.7920,2, -999,9,289.6,2, 7.00,2,12.44,2,0.82,2,2156.4,2,2293.2,2, 0.15,2,1223
  18SN20150920,   ARC,11,1, 8, 8,2,20150925,76.0023,-139.9947,3725, 470.5, 0.7827,34.8305,2,34.8339,2, -999,9,292.2,2, 6.72,2,12.54,2,0.82,2,2155.5,2,2293.5,2, 0.18,2,1223
  18SN20150920,   ARC,11,1, 7, 7,2,20150925,76.0023,-139.9947,3725, 506.9, 0.7739,34.8361,2,34.8421,2, -999,9,293.3,2, 6.77,2,12.52,2,0.82,2,2159.8,2,2299.3,2, 0.19,2,1223
  18SN20150920,   ARC,11,1, 6, 6,2,20150925,76.0023,-139.9947,3725, 608.7, 0.5693,34.8486,2,34.8516,2, -999,9,294.7,2, 6.67,2,12.58,2,0.82,2,2156.0,2,2297.1,2, 0.17,2,1223
  18SN20150920,   ARC,11,1, 5, 5,2,20150925,76.0023,-139.9947,3725, 811.9, 0.2345,34.8641,2,34.8676,2, -999,9,297.3,2, 6.87,2,12.62,2,0.84,2,2158.8,2,2298.1,2, 0.23,2,1223
  18SN20150920,   ARC,11,1, 4, 4,2,20150925,76.0023,-139.9947,3725,1217.9,-0.1319,34.8898,2,34.8892,2, -999,9,298.6,2, 7.61,2,12.84,2,0.87,2,2156.4,2,2298.8,2, 0.23,2,1223
  18SN20150920,   ARC,11,1, 3, 3,2,20150925,76.0023,-139.9947,3725,1522.7,-0.2921,34.9120,2,34.9148,2, -999,9,297.9,2, 8.35,2,13.23,2,0.89,2,2150.0,2,2299.2,2, 0.26,2,1223
  18SN20150920,   ARC,11,1, 2, 2,2,20150925,76.0023,-139.9947,3725,2032.6,-0.4062,34.9406,2,34.9427,2, -999,9,291.3,2,10.82,2,14.06,2,0.96,2,2150.7,2,2300.7,2, 0.24,2,1223
  18SN20150920,   ARC,11,1, 1, 1,2,20150925,76.0023,-139.9947,3725,2159.2,-0.4043,34.9450,2,34.9472,2, -999,9,289.9,2,11.30,2,14.25,2,0.96,2,2151.4,2,2303.6,2, 0.26,2,1223