BOTTLE,20240208CCHSIOVAJ
EXPOCODE,SECT_ID,STNNBR,CASTNO,SAMPNO,BTLNBR,BTLNBR_FLAG_W,DATE,LATITUDE,LONGITUDE,DEPTH,CTDPRS,CTDTMP,CTDSAL,CTDSAL_FLAG_W,SALNTY,SALNTY_FLAG_W,CTDOXY,CTDOXY_FLAG_W,OXYGEN,OXYGEN_FLAG_W,SILCAT,SILCAT_FLAG_W,NITRAT,NITRAT_FLAG_W,PHSPHT,PHSPHT_FLAG_W,TCARBN,TCARBN_FLAG_W,ALKALI,ALKALI_FLAG_W,DELO18,DELO18_FLAG_W,TIME
,,,,,,,,,,METERS,DBAR,ITS-90,PSS-78,,PSS-78,,UMOL/KG,,UMOL/KG,,UMOL/KG,,UMOL/KG,,UMOL/KG,,UMOL/KG,,UMOL/KG,,/MILLE,,
  18SN20150920,   ARC,50,1,24,24,2,20151010,71.9633,-150.2312,3194,   5.0,-1.3091,25.3322,2,25.4832,2,385.6,2,385.3,2, 2.53,2,-0.02,2,0.51,2,1772.3,2,1831.2,2,-3.54,2,0506
  18SN20150920,   ARC,50,1,22,22,2,20151010,71.9633,-150.2312,3194,  20.9,-0.6304,26.9334,2,27.9339,2,393.9,2,393.7,2, 2.63,2,-0.06,2,0.56,2,1920.0,2,2006.2,2,-3.65,2,0506
  18SN20150920,   ARC,50,1,21,21,2,20151010,71.9633,-150.2312,3194,  41.5,-0.7987,29.9843,2,30.2913,2,395.7,2,386.5,2, 4.00,2, 0.16,2,0.70,2,2022.9,2,2144.3,2,-3.04,2,0506
  18SN20150920,   ARC,50,1,19,19,2,20151010,71.9633,-150.2312,3194,  65.4,-0.6463,31.6107,2,31.6803,2,343.8,2,333.0,2,10.80,2, 5.23,2,1.14,2,2103.0,2,2199.0,2,-2.10,2,0506
  18SN20150920,   ARC,50,1,18,18,2,20151010,71.9633,-150.2312,3194,  75.0,-0.9592,31.9403,2,32.0332,2,324.9,2,318.7,2,16.46,2, 8.70,2,1.38,2,2139.1,2,2221.5,2,-1.90,2,0506
  18SN20150920,   ARC,50,1,17,17,2,20151010,71.9633,-150.2312,3194, 111.1,-1.3134,32.3298,2,32.3504,2,304.9,2,301.2,2,24.42,2,11.97,2,1.63,2,2168.6,2,2229.6,2,-1.65,2,0506
  18SN20150920,   ARC,50,1,16,16,2,20151010,71.9633,-150.2312,3194, 131.3,-1.3698,32.6343,2,32.7663,2,290.2,2,285.2,2,29.32,2,14.15,2,1.77,2,2202.5,2,2248.9,2,-1.57,2,0506
  18SN20150920,   ARC,50,1,15,15,2,20151010,71.9633,-150.2312,3194, 155.5,-1.4330,32.9267,2,33.0936,2,277.1,2,278.7,2,31.69,2,15.01,2,1.77,2,2219.3,2,2267.3,2,-1.45,2,0506
  18SN20150920,   ARC,50,1,14,14,2,20151010,71.9633,-150.2312,3194, 171.9,-1.4639,33.1580,2,33.3380,2,282.1,2,276.9,2,30.53,2,14.90,2,1.68,2,2223.2,2,2274.6,2,-1.31,2,0506
  18SN20150920,   ARC,50,1,13,13,2,20151010,71.9633,-150.2312,3194, 199.1,-1.2425,33.6785,2,33.6693,2,277.4,2,267.9,2,27.86,2,14.57,2,1.54,2,2223.3,2,2282.9,2,-1.08,2,0506
  18SN20150920,   ARC,50,1,12,12,2,20151010,71.9633,-150.2312,3194, 224.4,-0.6919,34.1849,2,   -999,9,272.6,2, -999,9,27.07,2,14.42,2,1.51,2,2220.4,2,2280.3,2,-1.03,2,0506
  18SN20150920,   ARC,50,1,11,11,2,20151010,71.9633,-150.2312,3194, 253.7,-0.2135,34.4515,2,34.4417,2,277.5,2,276.9,2,12.38,2,12.52,2,0.98,2,2179.8,2,2282.1,2,-0.12,2,0506
  18SN20150920,   ARC,50,1,10,10,2,20151010,71.9633,-150.2312,3194, 315.0, 0.4384,34.7191,2,34.7165,2,280.2,2,280.2,2, 9.98,2,12.96,2,0.93,2,2166.1,2,2289.4,2, 0.09,2,0506
  18SN20150920,   ARC,50,1, 9, 9,2,20151010,71.9633,-150.2312,3194, 361.4, 0.6262,34.7858,2,34.7815,2,285.7,2,285.5,2, 8.52,2,12.93,2,0.89,2,-999.0,9,-999.0,9, -999,9,0506
  18SN20150920,   ARC,50,1, 8, 8,2,20151010,71.9633,-150.2312,3194, 407.0, 0.7811,34.8273,2,34.8288,2,289.8,2,291.0,2, 7.00,2,12.60,2,0.84,2,-999.0,9,-999.0,9, -999,9,0506
  18SN20150920,   ARC,50,1, 7, 7,2,20151010,71.9633,-150.2312,3194, 508.3, 0.6020,34.8446,2,34.8401,2,292.6,2,292.3,2, 7.49,2,12.81,2,0.86,2,-999.0,9,-999.0,9, -999,9,0506
  18SN20150920,   ARC,50,1, 6, 6,2,20151010,71.9633,-150.2312,3194, 609.7, 0.4498,34.8547,2,34.8511,2,294.6,2,294.4,2, 7.46,2,12.73,2,0.86,2,-999.0,9,-999.0,9, -999,9,0506
  18SN20150920,   ARC,50,1, 5, 5,2,20151010,71.9633,-150.2312,3194, 812.6, 0.1945,34.8651,2,34.8667,2,298.0,2,298.0,2, 7.10,2,12.57,2,0.85,2,-999.0,9,-999.0,9, -999,9,0506
  18SN20150920,   ARC,50,1, 4, 4,2,20151010,71.9633,-150.2312,3194,1015.4,-0.0243,34.8768,2,34.8781,2,299.4,2,299.3,2, 7.20,2,12.68,2,0.86,2,-999.0,9,-999.0,9, -999,9,0506
  18SN20150920,   ARC,50,1, 3, 3,2,20151010,71.9633,-150.2312,3194,1523.6,-0.3245,34.9118,2,34.9117,2,297.8,2,297.4,2, 8.76,2,13.44,2,0.92,2,-999.0,9,-999.0,9, -999,9,0506
  18SN20150920,   ARC,50,1, 2, 2,2,20151010,71.9633,-150.2312,3194,2033.1,-0.4036,34.9414,2,34.9414,2,290.7,2,289.9,2,11.34,2,14.27,2,0.98,2,-999.0,9,-999.0,9, -999,9,0506
  18SN20150920,   ARC,50,1, 1, 1,2,20151010,71.9633,-150.2312,3194,3049.5,-0.3246,34.9563,2,34.9508,2,281.9,2,282.1,2,14.11,2,14.55,2,1.01,2,-999.0,9,-999.0,9, -999,9,0506
  18SN20150920,   ARC,52,1,24,24,2,20151010,72.6002,-144.7012,3457,   5.7,-1.3526,26.5615,2,26.8912,2,383.7,2,385.9,2, 2.52,2,-0.03,2,0.55,2,1858.7,2,1936.6,2,-3.63,2,1711
  18SN20150920,   ARC,52,1,23,23,2,20151010,72.6002,-144.7012,3457,  21.2,-0.8821,27.4394,2,28.5929,2,386.1,2,397.3,2, 2.85,2,-0.05,2,0.60,2,1969.0,2,2071.5,2,-3.43,2,1711
  18SN20150920,   ARC,52,1,22,22,2,20151010,72.6002,-144.7012,3457,  41.3,-0.7136,29.5930,2,29.9342,2,395.7,2,397.6,2, 3.23,2,-0.05,2,0.66,2,2021.6,2,2138.3,2,-3.15,2,1711
  18SN20150920,   ARC,52,1,21,21,2,20151010,72.6002,-144.7012,3457,  68.0,-0.8518,31.2103,2,31.1672,2,385.9,2,389.0,2, 4.87,2, 0.30,2,0.77,2,2067.8,2,2191.7,2,-2.75,2,1711
  18SN20150920,   ARC,52,1,20,20,2,20151010,72.6002,-144.7012,3457,  85.8,-1.0663,31.8848,2,31.8224,2,335.4,2,336.4,2,11.33,2, 5.88,2,1.18,2,2118.6,2,2215.0,2,-2.11,2,1711
  18SN20150920,   ARC,52,1,19,19,2,20151010,72.6002,-144.7012,3457, 114.0,-1.2744,32.3551,2,32.3413,2,305.4,2,305.2,2,24.40,2,11.74,2,1.62,2,2163.6,2,2224.3,2,-1.62,2,1711
  18SN20150920,   ARC,52,1,18,18,2,20151010,72.6002,-144.7012,3457, 140.1,-1.3891,32.6418,2,32.6345,2,295.0,2,293.8,2,27.21,2,13.14,2,1.70,2,2193.6,2,2246.8,2,-1.66,2,1711
  18SN20150920,   ARC,52,1,17,17,2,20151010,72.6002,-144.7012,3457, 165.6,-1.4325,32.9561,2,32.9450,2,278.8,2,277.7,2,32.24,2,15.26,2,1.82,2,2218.6,2,2261.5,2,-1.49,2,1711
  18SN20150920,   ARC,52,1,16,16,2,20151010,72.6002,-144.7012,3457, 181.0,-1.4523,33.1631,2,33.1601,2,276.4,2,277.0,2,32.20,2,15.23,2,1.77,2,2225.5,2,2272.7,2, -999,9,1711
  18SN20150920,   ARC,52,1,15,15,2,20151010,72.6002,-144.7012,3457, 208.4,-1.1983,33.6910,2,33.6779,2,269.6,2,268.5,2,27.54,2,14.54,2,1.53,2,2222.0,2,2279.8,2,-1.06,2,1711
  18SN20150920,   ARC,52,1,14,14,2,20151010,72.6002,-144.7012,3457, 236.5,-0.6720,34.2045,2,34.2179,2,271.1,2,276.3,2,14.59,2,12.12,2,1.01,2,2185.4,2,2282.4,2,-0.39,2,1711
  18SN20150920,   ARC,52,1,13,13,2,20151010,72.6002,-144.7012,3457, 266.8,-0.1543,34.4631,2,34.5223,2,280.6,2,281.3,2, 9.90,2,12.03,2,0.88,2,2169.8,2,2281.2,2,-0.06,2,1711
  18SN20150920,   ARC,52,1,12,12,2,20151010,72.6002,-144.7012,3457, 335.1, 0.4481,34.7261,2,34.7271,2,283.1,2,284.6,2, 8.31,2,12.52,2,0.86,2,2158.6,2,2287.3,2, 0.13,2,1711
  18SN20150920,   ARC,52,1,11,11,2,20151010,72.6002,-144.7012,3457, 386.3, 0.6205,34.7911,2,34.7897,2,287.6,2,287.3,2, 7.56,2,12.66,2,0.85,2,2155.9,2,2295.5,2, 0.19,2,1711
  18SN20150920,   ARC,52,1,10,10,2,20151010,72.6002,-144.7012,3457, 455.3, 0.7160,34.8282,2,34.8310,2,291.5,2,291.6,2, 6.88,2,12.63,2,0.84,2,2152.7,2,2295.2,2, 0.21,2,1711
  18SN20150920,   ARC,52,1, 9, 9,2,20151010,72.6002,-144.7012,3457, 507.2, 0.6776,34.8449,2,34.8491,2,292.6,2,293.2,2, 6.89,2,12.75,2,0.84,2,2152.9,2,2293.7,2, 0.20,2,1711
  18SN20150920,   ARC,52,1, 8, 8,2,20151010,72.6002,-144.7012,3457, 608.5, 0.4872,34.8513,2,34.8545,2,293.8,2,293.8,2, 7.13,2,12.82,2,0.85,2,2152.9,2,2294.5,2, 0.21,2,1711
  18SN20150920,   ARC,52,1, 7, 7,2,20151010,72.6002,-144.7012,3457, 710.1, 0.3639,34.8602,2,34.8664,2,295.2,2,295.0,2, 6.98,2,12.74,2,0.85,2,2150.6,2,2291.5,2, 0.23,2,1711
  18SN20150920,   ARC,52,1, 6, 6,2,20151010,72.6002,-144.7012,3457, 811.8, 0.2156,34.8670,2,34.8726,2,297.5,2,296.8,2, 6.91,2,12.64,2,0.85,2,2151.9,2,2296.4,2, 0.24,2,1711
  18SN20150920,   ARC,52,1, 5, 5,2,20151010,72.6002,-144.7012,3457,1014.3,-0.0209,34.8807,2,34.8845,2,298.4,2,298.4,2, 7.32,2,12.83,2,0.87,2,2152.4,2,2294.3,2, 0.22,2,1711
  18SN20150920,   ARC,52,1, 4, 4,2,20151010,72.6002,-144.7012,3457,1522.9,-0.3262,34.9156,2,34.9192,2,297.2,2,297.0,2, 8.89,2,13.39,2,0.92,2,2148.6,2,2298.5,2, 0.25,2,1711
  18SN20150920,   ARC,52,1, 3, 3,2,20151010,72.6002,-144.7012,3457,2032.5,-0.4074,34.9430,2,34.9459,2,290.2,2,289.8,2,11.42,2,14.28,2,0.97,2,2148.5,2,2302.9,2, 0.28,2,1711
  18SN20150920,   ARC,52,1, 2, 2,2,20151010,72.6002,-144.7012,3457,2542.8,-0.3758,34.9532,2,34.9559,2,286.1,2,286.1,2,12.66,2,14.46,2,0.99,2,2146.9,2,2295.1,2, 0.27,2,1711
  18SN20150920,   ARC,52,1, 1, 1,2,20151010,72.6002,-144.7012,3457,3055.6,-0.3255,34.9562,2,34.9592,2,283.2,2,283.2,2,13.57,2,14.57,2,1.00,2,2152.9,2,2299.7,2, 0.28,2,1711
  18SN20150920,   ARC,53,1,24,24,2,20151010,73.5002,-144.9975,3661,   6.4,-1.2396,26.3905,2,26.3915,2,383.5,2,381.9,2, 2.40,2,-0.06,2,0.53,2,1826.2,2,1896.1,2, -999,9,2306
  18SN20150920,   ARC,53,1,23,23,2,20151010,73.5002,-144.9975,3661,  21.2,-1.2034,26.4323,2,26.4652,2,384.8,2,382.8,2, 2.38,2,-0.08,2,0.54,2,1833.5,2,1903.7,2, -999,9,2306
  18SN20150920,   ARC,53,1,22,22,2,20151010,73.5002,-144.9975,3661,  42.0,-0.7579,28.4863,2,28.4516,2,396.9,2,399.4,2, 2.61,2,-0.07,2,0.58,2,1953.6,2,2055.0,2, -999,9,2306
  18SN20150920,   ARC,53,1,21,21,2,20151010,73.5002,-144.9975,3661,  96.4,-0.4359,31.6174,2,31.5865,2,343.8,2,337.2,2, 9.72,2, 4.66,2,1.09,2,2090.0,2,2201.3,2, -999,9,2306
  18SN20150920,   ARC,53,1,20,20,2,20151010,73.5002,-144.9975,3661, 104.5,-0.7529,31.8884,2,31.8633,2,325.8,2,323.9,2,13.43,2, 7.25,2,1.27,2,2110.5,2,2207.7,2, -999,9,2306
  18SN20150920,   ARC,53,1,19,19,2,20151010,73.5002,-144.9975,3661, 133.4,-1.2494,32.3371,2,32.3272,2,305.6,2,305.8,2,23.33,2,11.36,2,1.60,2,2157.6,2,2226.6,2, -999,9,2306
  18SN20150920,   ARC,53,1,18,18,2,20151010,73.5002,-144.9975,3661, 162.1,-1.3491,32.6073,2,32.5928,2,293.4,2,294.2,2,27.18,2,13.14,2,1.71,2,2187.6,2,2243.3,2, -999,9,2306
  18SN20150920,   ARC,53,1,17,17,2,20151010,73.5002,-144.9975,3661, 191.5,-1.4570,32.9570,2,32.9441,2,278.8,2,277.8,2,32.39,2,15.26,2,1.85,2,2217.8,2,2260.5,2, -999,9,2306
  18SN20150920,   ARC,53,1,16,16,2,20151010,73.5002,-144.9975,3661, 206.8,-1.4686,33.1492,2,33.1351,2,275.8,2,275.1,2,33.77,2,15.73,2,1.85,2,2238.9,2,2271.1,2, -999,9,2306
  18SN20150920,   ARC,53,1,15,15,2,20151010,73.5002,-144.9975,3661, 238.0,-1.2256,33.7403,2,33.7276,2,270.6,2,266.2,2,27.33,2,14.59,2,1.54,2,2221.6,2,2282.8,2, -999,9,2306
  18SN20150920,   ARC,53,1,14,14,2,20151010,73.5002,-144.9975,3661, 262.0,-0.7226,34.1742,2,34.1807,2,270.7,2,272.9,2,15.56,2,12.25,2,1.06,2,2190.5,2,2276.5,2, -999,9,2306
  18SN20150920,   ARC,53,1,13,13,2,20151010,73.5002,-144.9975,3661, 291.6,-0.2398,34.4317,2,34.4566,2,282.8,2,282.2,2, 9.60,2,11.49,2,0.86,2,2169.1,2,2281.2,2, -999,9,2306
  18SN20150920,   ARC,53,1,12,12,2,20151010,73.5002,-144.9975,3661, 365.9, 0.4704,34.7355,2,34.7311,2,282.7,2,282.6,2, 8.65,2,12.70,2,0.89,2,2161.1,2,2286.4,2, -999,9,2306
  18SN20150920,   ARC,53,1,11,11,2,20151010,73.5002,-144.9975,3661, 413.2, 0.6258,34.7901,2,34.7866,2,287.3,2,286.2,2, 7.72,2,12.67,2,0.88,2,-999.0,9,-999.0,9, -999,9,2306
  18SN20150920,   ARC,53,1,10,10,2,20151010,73.5002,-144.9975,3661, 482.2, 0.7210,34.8279,2,34.8271,2,291.0,2,290.8,2, 6.85,2,12.67,2,0.85,2,-999.0,9,-999.0,9, -999,9,2306
  18SN20150920,   ARC,53,1, 9, 9,2,20151010,73.5002,-144.9975,3661, 508.5, 0.6768,34.8275,2,34.8283,2,289.4,2,290.0,2, 7.11,2,12.65,2,0.86,2,-999.0,9,-999.0,9, -999,9,2306
  18SN20150920,   ARC,53,1, 8, 8,2,20151010,73.5002,-144.9975,3661, 609.6, 0.5408,34.8471,2,34.8479,2,293.5,2,293.3,2, 6.86,2,12.60,2,0.85,2,-999.0,9,-999.0,9, -999,9,2306
  18SN20150920,   ARC,53,1, 7, 7,2,20151010,73.5002,-144.9975,3661, 711.0, 0.3964,34.8573,2,34.8592,2,295.2,2,294.8,2, 7.15,2,12.68,2,0.87,2,-999.0,9,-999.0,9, -999,9,2306
  18SN20150920,   ARC,53,1, 6, 6,2,20151010,73.5002,-144.9975,3661, 812.5, 0.2520,34.8639,2,34.8655,2,296.8,2,296.3,2, 7.04,2,12.61,2,0.87,2,-999.0,9,-999.0,9, -999,9,2306
  18SN20150920,   ARC,53,1, 5, 5,2,20151010,73.5002,-144.9975,3661,1015.5, 0.0171,34.8769,2,34.8787,2,298.7,2,298.2,2, 7.16,2,12.66,2,0.87,2,-999.0,9,-999.0,9, -999,9,2306
  18SN20150920,   ARC,53,1, 4, 4,2,20151010,73.5002,-144.9975,3661,1523.7,-0.3076,34.9117,2,34.9119,2,297.8,2,297.5,2, 8.52,2,13.29,2,0.92,2,-999.0,9,-999.0,9, -999,9,2306
  18SN20150920,   ARC,53,1, 3, 3,2,20151010,73.5002,-144.9975,3661,2033.3,-0.4041,34.9412,2,34.9413,2,290.9,2,290.6,2,11.02,2,14.06,2,0.98,2,-999.0,9,-999.0,9, -999,9,2306
  18SN20150920,   ARC,53,1, 2, 2,2,20151010,73.5002,-144.9975,3661,2543.8,-0.3753,34.9527,2,34.9533,2,286.4,2,286.2,2,12.43,2,14.40,2,1.00,2,-999.0,9,-999.0,9, -999,9,2306
  18SN20150920,   ARC,53,1, 1, 1,2,20151010,73.5002,-144.9975,3661,3056.2,-0.3258,34.9563,2,34.9556,2,283.8,2,283.2,2,13.30,2,14.54,2,1.00,2,-999.0,9,-999.0,9, -999,9,2306
  18SN20150920,   ARC,54,1,24,24,2,20151011,74.3002,-143.3012,3677,   6.0,-1.3385,26.2267,2,26.2199,2,387.6,2,389.6,2, 2.42,2,-0.04,2,0.51,2,1832.4,2,1898.0,2, -999,9,0506
  18SN20150920,   ARC,54,1,23,23,2,20151011,74.3002,-143.3012,3677,  21.0,-1.3300,26.2408,2,26.6193,2,389.3,2,391.7,2, 2.44,2,-0.08,2,0.52,2,1857.5,2,1925.6,2, -999,9,0506
  18SN20150920,   ARC,54,1,22,22,2,20151011,74.3002,-143.3012,3677,  41.5,-0.9625,27.9052,2,27.9438,2,397.7,2,399.5,2, 2.49,2,-0.08,2,0.55,2,1935.4,2,2019.6,2, -999,9,0506
  18SN20150920,   ARC,54,1,21,21,2,20151011,74.3002,-143.3012,3677,  76.9,-0.0113,31.2235,2,31.1837,2,358.9,2,362.7,2, 6.35,2, 1.03,2,0.84,2,2057.9,2,2184.0,2, -999,9,0506
  18SN20150920,   ARC,54,1,20,20,2,20151011,74.3002,-143.3012,3677,  98.0,-0.7548,31.8823,2,31.8649,2,324.6,2,322.7,2,13.49,2, 7.28,2,1.26,2,2116.0,2,2207.6,2, -999,9,0506
  18SN20150920,   ARC,54,1,19,19,2,20151011,74.3002,-143.3012,3677, 128.4,-1.2193,32.3343,2,32.3229,2,306.0,2,306.4,2,22.94,2,11.16,2,1.56,2,2157.9,2,2226.9,2, -999,9,0506
  18SN20150920,   ARC,54,1,18,18,2,20151011,74.3002,-143.3012,3677, 156.7,-1.3471,32.6337,2,32.6285,2,292.9,2,292.6,2,27.17,2,13.23,2,1.69,2,2190.9,2,2243.8,2, -999,9,0506
  18SN20150920,   ARC,54,1,17,17,2,20151011,74.3002,-143.3012,3677, 188.1,-1.4370,32.9328,2,32.9267,2,279.2,2,278.8,2,32.59,2,15.11,2,1.82,2,2216.9,2,2258.1,2, -999,9,0506
  18SN20150920,   ARC,54,1,16,16,2,20151011,74.3002,-143.3012,3677, 206.3,-1.4751,33.1540,2,33.1472,2,276.0,2,275.0,2,34.50,2,15.81,2,1.83,2,2229.2,2,2272.8,2, -999,9,0506
  18SN20150920,   ARC,54,1,15,15,2,20151011,74.3002,-143.3012,3677, 235.6,-1.2141,33.7396,2,33.7843,2,270.2,2,266.7,2,26.61,2,14.54,2,1.47,2,2219.2,2,2282.7,2, -999,9,0506
  18SN20150920,   ARC,54,1,14,14,2,20151011,74.3002,-143.3012,3677, 260.9,-0.7475,34.1684,2,34.1976,2,270.9,2,272.8,2,16.28,2,12.47,2,1.06,2,2189.4,2,2277.4,2, -999,9,0506
  18SN20150920,   ARC,54,1,13,13,2,20151011,74.3002,-143.3012,3677, 291.3,-0.2086,34.4414,2,34.4588,2,279.6,2,279.6,2,10.57,2,11.67,2,0.87,2,2174.1,2,2279.0,2, -999,9,0506
  18SN20150920,   ARC,54,1,12,12,2,20151011,74.3002,-143.3012,3677, 360.5, 0.4699,34.7294,2,34.7333,2,285.6,2,286.0,2, 7.75,2,12.33,2,0.83,2,2159.7,2,2290.6,2, -999,9,0506
  18SN20150920,   ARC,54,1,11,11,2,20151011,74.3002,-143.3012,3677, 407.2, 0.6338,34.7894,2,34.7907,2,290.0,2,289.9,2, 6.87,2,12.43,2,0.82,2,-999.0,9,-999.0,9, -999,9,0506
  18SN20150920,   ARC,54,1,10,10,2,20151011,74.3002,-143.3012,3677, 464.8, 0.7479,34.8309,2,34.8336,2,292.7,2,292.4,2, 6.62,2,12.45,2,0.82,2,-999.0,9,-999.0,9, -999,9,0506
  18SN20150920,   ARC,54,1, 9, 9,2,20151011,74.3002,-143.3012,3677, 508.3, 0.7206,34.8295,2,34.8309,2,292.4,2,292.2,2, 6.65,2,12.53,2,0.82,2,-999.0,9,-999.0,9, -999,9,0506
  18SN20150920,   ARC,54,1, 8, 8,2,20151011,74.3002,-143.3012,3677, 609.9, 0.5771,34.8485,2,34.8506,2,295.1,2,294.5,2, 6.56,2,12.57,2,0.82,2,-999.0,9,-999.0,9, -999,9,0506
  18SN20150920,   ARC,54,1, 7, 7,2,20151011,74.3002,-143.3012,3677, 711.2, 0.4308,34.8583,2,34.8591,2,295.2,2,294.7,2, 6.77,2,12.77,2,0.84,2,-999.0,9,-999.0,9, -999,9,0506
  18SN20150920,   ARC,54,1, 6, 6,2,20151011,74.3002,-143.3012,3677, 812.5, 0.2778,34.8650,2,34.8652,2,297.1,2,296.5,2, 6.81,2,12.66,2,0.84,2,-999.0,9,-999.0,9, -999,9,0506
  18SN20150920,   ARC,54,1, 5, 5,2,20151011,74.3002,-143.3012,3677,1015.4, 0.0298,34.8785,2,34.8808,2,298.8,2,298.1,2, 6.98,2,12.70,2,0.85,2,-999.0,9,-999.0,9, -999,9,0506
  18SN20150920,   ARC,54,1, 4, 4,2,20151011,74.3002,-143.3012,3677,1523.8,-0.3047,34.9132,2,34.9137,2,297.8,2,297.6,2, 8.58,2,13.29,2,0.90,2,-999.0,9,-999.0,9, -999,9,0506
  18SN20150920,   ARC,54,1, 3, 3,2,20151011,74.3002,-143.3012,3677,2033.1,-0.4065,34.9422,2,34.9421,2,290.7,2,290.4,2,11.12,2,14.05,2,0.96,2,-999.0,9,-999.0,9, -999,9,0506
  18SN20150920,   ARC,54,1, 2, 2,2,20151011,74.3002,-143.3012,3677,2543.9,-0.3762,34.9532,2,34.9538,2,286.3,2,286.0,2,12.57,2,14.48,2,0.98,2,-999.0,9,-999.0,9, -999,9,0506
  18SN20150920,   ARC,54,1, 1, 1,2,20151011,74.3002,-143.3012,3677,3055.1,-0.3259,34.9562,2,34.9536,2,283.6,2,283.3,2,13.33,2,14.52,2,0.99,2,-999.0,9,-999.0,9, -999,9,0506