BOTTLE,20240208CCHSIOVAJ
EXPOCODE,SECT_ID,STNNBR,CASTNO,SAMPNO,BTLNBR,BTLNBR_FLAG_W,DATE,LATITUDE,LONGITUDE,DEPTH,CTDPRS,CTDTMP,CTDSAL,CTDSAL_FLAG_W,SALNTY,SALNTY_FLAG_W,CTDOXY,CTDOXY_FLAG_W,OXYGEN,OXYGEN_FLAG_W,SILCAT,SILCAT_FLAG_W,NITRAT,NITRAT_FLAG_W,PHSPHT,PHSPHT_FLAG_W,TCARBN,TCARBN_FLAG_W,ALKALI,ALKALI_FLAG_W,DELO18,DELO18_FLAG_W,TIME
,,,,,,,,,,METERS,DBAR,ITS-90,PSS-78,,PSS-78,,UMOL/KG,,UMOL/KG,,UMOL/KG,,UMOL/KG,,UMOL/KG,,UMOL/KG,,UMOL/KG,,/MILLE,,
  18SN20150920,   ARC,26,1,24,24,2,20151002,79.9998,-149.9445,3797,   3.5,-1.4804,27.5571,2,27.5617,2,388.1,2,386.0,2, 2.64,2,-0.06,2,0.55,2,1895.6,2,1983.0,2, -999,9,0437
  18SN20150920,   ARC,26,1,22,22,2,20151002,79.9998,-149.9445,3797,  21.3,-0.9229,29.4372,2,29.4472,2,391.6,2,393.7,2, 2.84,2,-0.10,2,0.60,2,2007.9,2,2107.8,2, -999,9,0437
  18SN20150920,   ARC,26,1,21,21,2,20151002,79.9998,-149.9445,3797,  41.3,-1.2259,30.3897,2,30.3945,2,391.4,2,391.0,2, 2.54,2,-0.04,2,0.65,2,2038.8,2,2160.6,2, -999,9,0437
  18SN20150920,   ARC,26,1,19,19,2,20151002,79.9998,-149.9445,3797,  62.3,-0.5608,31.4586,2,31.5534,2,346.9,2, -999,9,12.56,2, 5.01,2,1.09,2,2103.1,2,2196.7,2, -999,9,0437
  18SN20150920,   ARC,26,1,18,18,2,20151002,79.9998,-149.9445,3797,  80.8,-1.1871,31.9780,2,32.0846,2,322.0,2, -999,9,20.38,2, 9.29,2,1.41,2,2150.0,2,2220.2,2, -999,9,0437
  18SN20150920,   ARC,26,1,17,17,2,20151002,79.9998,-149.9445,3797, 106.1,-1.3067,32.3284,2,   -999,9,303.5,2, -999,9,27.08,2,12.50,2,1.65,2,2194.0,2,2244.2,2, -999,9,0437
  18SN20150920,   ARC,26,1,16,16,2,20151002,79.9998,-149.9445,3797, 129.3,-1.3901,32.6365,2,   -999,9,286.3,2,273.4,2,26.57,2,13.87,2,1.50,2,2207.7,2,2270.4,2, -999,9,0437
  18SN20150920,   ARC,26,1,15,15,2,20151002,79.9998,-149.9445,3797, 157.7,-1.4672,32.9624,2,   -999,9,275.3,2,272.0,2,27.43,2,14.03,2,1.50,2,2218.2,2,2275.9,2, -999,9,0437
  18SN20150920,   ARC,26,1,14,14,2,20151002,79.9998,-149.9445,3797, 171.8,-1.4575,33.1742,2,   -999,9,272.8,2, -999,9,31.50,2,14.74,2,1.66,2,2228.2,2,2274.5,2, -999,9,0437
  18SN20150920,   ARC,26,1,13,13,2,20151002,79.9998,-149.9445,3797, 195.2,-1.2068,33.6686,2,   -999,9,264.9,2, -999,9,14.92,2,12.02,2,1.01,2,2182.1,2,2277.2,2, -999,9,0437
  18SN20150920,   ARC,26,1,12,12,2,20151002,79.9998,-149.9445,3797, 217.5,-0.9516,34.1242,2,34.1719,2,276.6,2,276.8,2,16.15,2,11.59,2,1.04,2,2189.0,2,2274.8,2, -999,9,0437
  18SN20150920,   ARC,26,1,11,11,2,20151002,79.9998,-149.9445,3797, 247.8,-0.2757,34.4404,2,34.4427,2,275.2,2,271.1,2,13.61,2,12.23,2,0.98,2,2176.0,2,2276.7,2, -999,9,0437
  18SN20150920,   ARC,26,1,10,10,2,20151002,79.9998,-149.9445,3797, 314.9, 0.4863,34.7208,2,34.7217,2,282.4,2,284.6,2, 7.97,2,12.05,2,0.83,2,2165.4,2,2289.5,2, -999,9,0437
  18SN20150920,   ARC,26,1, 9, 9,2,20151002,79.9998,-149.9445,3797, 359.4, 0.7451,34.7951,2,34.7912,2,290.2,2,289.6,2, 6.86,2,12.19,2,0.83,2,-999.0,9,-999.0,9, -999,9,0437
  18SN20150920,   ARC,26,1, 8, 8,2,20151002,79.9998,-149.9445,3797, 431.4, 0.8804,34.8349,2,34.8368,2,294.1,2,294.4,2, 6.09,2,12.10,2,0.81,2,-999.0,9,-999.0,9, -999,9,0437
  18SN20150920,   ARC,26,1, 7, 7,2,20151002,79.9998,-149.9445,3797, 508.4, 0.8633,34.8499,2,34.8489,2,296.0,2,297.2,2, 6.02,2,12.13,2,0.81,2,-999.0,9,-999.0,9, -999,9,0437
  18SN20150920,   ARC,26,1, 6, 6,2,20151002,79.9998,-149.9445,3797, 609.9, 0.6215,34.8568,2,34.8601,2,298.4,2,299.6,2, 6.01,2,12.12,2,0.81,2,-999.0,9,-999.0,9, -999,9,0437
  18SN20150920,   ARC,26,1, 5, 5,2,20151002,79.9998,-149.9445,3797, 812.5, 0.2311,34.8649,2,34.8675,2,300.3,2,301.5,2, 6.18,2,12.22,2,0.82,2,-999.0,9,-999.0,9, -999,9,0437
  18SN20150920,   ARC,26,1, 4, 4,2,20151002,79.9998,-149.9445,3797,1015.7,-0.0223,34.8753,2,34.8757,2,300.6,2,300.9,2, 6.69,2,12.38,2,0.84,2,-999.0,9,-999.0,9, -999,9,0437
  18SN20150920,   ARC,26,1, 3, 3,2,20151002,79.9998,-149.9445,3797,1524.1,-0.3180,34.9106,2,34.9125,2,298.4,2,298.4,2, 8.43,2,13.24,2,0.90,2,-999.0,9,-999.0,9, -999,9,0437
  18SN20150920,   ARC,26,1, 2, 2,2,20151002,79.9998,-149.9445,3797,2033.7,-0.4037,34.9409,2,34.9425,2,291.1,2,290.8,2,11.05,2,14.06,2,0.97,2,-999.0,9,-999.0,9, -999,9,0437
  18SN20150920,   ARC,26,1, 1, 1,2,20151002,79.9998,-149.9445,3797,3053.6,-0.3265,34.9562,2,34.9561,2,283.8,2,284.1,2,13.13,2,14.42,2,0.99,2,-999.0,9,-999.0,9, -999,9,0437
  18SN20150920,   ARC,27,1,24,24,2,20151003,79.4625,-148.8033,3805,   5.2,-1.4845,27.5618,2,28.2518,2,387.4,2,385.8,2, 3.02,2,-0.01,2,0.58,2,-999.0,9,-999.0,9, -999,9,0121
  18SN20150920,   ARC,27,1,23,23,2,20151003,79.4625,-148.8033,3805,  21.3,-0.8382,29.3199,2,29.6442,2,389.3,2,391.5,2, 3.00,2,-0.10,2,0.61,2,-999.0,9,-999.0,9, -999,9,0121
  18SN20150920,   ARC,27,1,22,22,2,20151003,79.4625,-148.8033,3805,  26.3,-1.0228,29.6901,2,29.7974,2,392.1,2,391.1,2, 3.00,2,-0.09,2,0.61,2,-999.0,9,-999.0,9, -999,9,0121
  18SN20150920,   ARC,27,1,21,21,2,20151003,79.4625,-148.8033,3805,  41.5,-0.9828,30.4001,2,30.4225,2,386.5,2,383.7,2, 3.48,2, 0.17,2,0.68,2,-999.0,9,-999.0,9, -999,9,0121
  18SN20150920,   ARC,27,1,20,20,2,20151003,79.4625,-148.8033,3805,  72.8,-0.8810,31.8239,2,31.8180,2,322.4,2,324.3,2,16.05,2, 7.49,2,1.26,2,-999.0,9,-999.0,9, -999,9,0121
  18SN20150920,   ARC,27,1,19,19,2,20151003,79.4625,-148.8033,3805, 103.0,-1.2537,32.3183,2,32.3162,2,306.2,2,306.9,2,23.68,2,11.19,2,1.55,2,-999.0,9,-999.0,9, -999,9,0121
  18SN20150920,   ARC,27,1,18,18,2,20151003,79.4625,-148.8033,3805, 131.2,-1.4240,32.5890,2,32.5966,2,296.0,2,297.6,2,29.68,2,13.26,2,1.69,2,-999.0,9,-999.0,9, -999,9,0121
  18SN20150920,   ARC,27,1,17,17,2,20151003,79.4625,-148.8033,3805, 163.9,-1.4602,32.9134,2,32.8982,2,278.1,2,278.8,2,32.92,2,15.04,2,1.82,2,-999.0,9,-999.0,9, -999,9,0121
  18SN20150920,   ARC,27,1,16,16,2,20151003,79.4625,-148.8033,3805, 183.1,-1.4620,33.1308,2,33.1115,2,273.8,2,275.0,2,34.97,2,15.60,2,1.84,2,-999.0,9,-999.0,9, -999,9,0121
  18SN20150920,   ARC,27,1,15,15,2,20151003,79.4625,-148.8033,3805, 212.4,-1.2229,33.6766,2,33.6756,2,268.1,2,267.4,2,28.46,2,14.58,2,1.55,2,-999.0,9,-999.0,9, -999,9,0121
  18SN20150920,   ARC,27,1,14,14,2,20151003,79.4625,-148.8033,3805, 223.6,-1.0221,33.9549,2,33.9377,2,267.8,2,267.2,2,22.81,2,13.52,2,1.32,2,-999.0,9,-999.0,9, -999,9,0121
  18SN20150920,   ARC,27,1,13,13,2,20151003,79.4625,-148.8033,3805, 234.6,-0.8117,34.1611,2,34.1464,2,269.3,2,268.9,2,18.99,2,13.02,2,1.18,2,-999.0,9,-999.0,9, -999,9,0121
  18SN20150920,   ARC,27,1,12,12,2,20151003,79.4625,-148.8033,3805, 261.0,-0.3780,34.4271,2,34.4229,2,271.8,2, -999,9,11.84,2,11.22,2,0.89,2,-999.0,9,-999.0,9, -999,9,0121
  18SN20150920,   ARC,27,1,11,11,2,20151003,79.4625,-148.8033,3805, 271.2,-0.1501,34.4923,2,34.4913,2,279.0,2,275.0,2,11.91,2,11.82,2,0.91,2,-999.0,9,-999.0,9, -999,9,0121
  18SN20150920,   ARC,27,1,10,10,2,20151003,79.4625,-148.8033,3805, 281.2,-0.0150,34.5406,2,34.5621,2,274.8,2,274.2,2,11.72,2,12.30,2,0.92,2,-999.0,9,-999.0,9, -999,9,0121
  18SN20150920,   ARC,27,1, 9, 9,2,20151003,79.4625,-148.8033,3805, 330.2, 0.5046,34.7228,2,34.7314,2,282.1,2,283.8,2, 8.29,2,12.34,2,0.84,2,-999.0,9,-999.0,9, -999,9,0121
  18SN20150920,   ARC,27,1, 8, 8,2,20151003,79.4625,-148.8033,3805, 376.9, 0.7286,34.7956,2,34.7940,2,291.0,2,289.9,2, 6.86,2,12.31,2,0.82,2,-999.0,9,-999.0,9, -999,9,0121
  18SN20150920,   ARC,27,1, 7, 7,2,20151003,79.4625,-148.8033,3805, 441.8, 0.8358,34.8316,2,34.8334,2,294.2,2,294.6,2, 6.11,2,12.18,2,0.80,2,-999.0,9,-999.0,9, -999,9,0121
  18SN20150920,   ARC,27,1, 6, 6,2,20151003,79.4625,-148.8033,3805, 508.6, 0.8294,34.8461,2,34.8472,2,295.0,2,295.8,2, 6.30,2,12.27,2,0.81,2,-999.0,9,-999.0,9, -999,9,0121
  18SN20150920,   ARC,27,1, 5, 5,2,20151003,79.4625,-148.8033,3805, 609.9, 0.5970,34.8507,2,34.8530,2,295.6,2,295.6,2, 6.60,2,12.48,2,0.82,2,-999.0,9,-999.0,9, -999,9,0121
  18SN20150920,   ARC,27,1, 4, 4,2,20151003,79.4625,-148.8033,3805, 709.9, 0.4257,34.8590,2,34.8586,2,298.3,2,298.5,2, 6.42,2,12.36,2,0.82,2,-999.0,9,-999.0,9, -999,9,0121
  18SN20150920,   ARC,27,1, 3, 3,2,20151003,79.4625,-148.8033,3805, 812.7, 0.2532,34.8629,2,34.8652,2,300.5,2,300.6,2, 6.28,2,12.26,2,0.82,2,-999.0,9,-999.0,9, -999,9,0121
  18SN20150920,   ARC,27,1, 2, 2,2,20151003,79.4625,-148.8033,3805,1015.6,-0.0051,34.8743,2,34.8757,2,300.5,2,300.4,2, 6.79,2,12.48,2,0.84,2,-999.0,9,-999.0,9, -999,9,0121
  18SN20150920,   ARC,27,1, 1, 1,2,20151003,79.4625,-148.8033,3805,1523.0,-0.2952,34.9092,2,34.9092,2,298.5,2,298.6,2, 8.32,2,13.12,2,0.89,2,-999.0,9,-999.0,9, -999,9,0121
  18SN20150920,   ARC,29,1,24,24,2,20151003,78.2723,-153.2812,1905,   5.7,-1.4538,27.2070,2,27.2049,2,386.2,2,385.9,2, 2.61,2,-0.11,2,0.55,2,1880.5,2,1964.7,2,-3.72,2,1602
  18SN20150920,   ARC,29,1,23,23,2,20151003,78.2723,-153.2812,1905,  21.1,-0.7661,29.3646,2,28.5612,2,397.3,2,392.3,2, 2.80,2,-0.13,2,0.58,2,1989.4,2,2096.0,2,-3.60,2,1602
  18SN20150920,   ARC,29,1,22,22,2,20151003,78.2723,-153.2812,1905,  31.3,-1.0438,29.9327,2,29.8604,2,397.2,2,394.0,2, 2.79,2,-0.13,2,0.62,2,2028.7,2,2143.0,2,-3.31,2,1602
  18SN20150920,   ARC,29,1,21,21,2,20151003,78.2723,-153.2812,1905,  41.3,-0.7773,30.4080,2,30.3614,2,383.4,2,389.1,2, 2.94,2,-0.10,2,0.66,2,2037.3,2,2149.7,2,-2.92,2,1602
  18SN20150920,   ARC,29,1,20,20,2,20151003,78.2723,-153.2812,1905,  58.5,-0.1918,31.1915,2,31.1303,2,353.8,2,358.6,2, 7.30,2, 1.62,2,0.85,2,2057.5,2,2181.3,2,-2.28,2,1602
  18SN20150920,   ARC,29,1,19,19,2,20151003,78.2723,-153.2812,1905,  78.8,-0.8564,31.8796,2,31.8588,2,324.6,2,326.0,2,16.23,2, 7.60,2,1.29,2,2121.6,2,2215.4,2,-1.91,2,1602
  18SN20150920,   ARC,29,1,18,18,2,20151003,78.2723,-153.2812,1905, 106.9,-1.3053,32.3457,2,32.3447,2,304.6,2,305.0,2,25.52,2,11.62,2,1.59,2,2170.4,2,2228.7,2,-1.69,2,1602
  18SN20150920,   ARC,29,1,17,17,2,20151003,78.2723,-153.2812,1905, 135.3,-1.4304,32.6358,2,32.6269,2,294.5,2,294.6,2,30.33,2,13.56,2,1.72,2,2197.9,2,2239.8,2,-1.65,2,1602
  18SN20150920,   ARC,29,1,16,16,2,20151003,78.2723,-153.2812,1905, 169.4,-1.4710,32.9499,2,32.9485,2,278.2,2,279.2,2,33.15,2,15.08,2,1.82,2,2221.9,2,2257.7,2,-1.54,2,1602
  18SN20150920,   ARC,29,1,15,15,2,20151003,78.2723,-153.2812,1905, 185.8,-1.4723,33.1612,2,33.1448,2,276.0,2,277.0,2,34.59,2,15.43,2,1.82,2,2232.9,2,2274.6,2,-1.47,2,1602
  18SN20150920,   ARC,29,1,14,14,2,20151003,78.2723,-153.2812,1905, 215.5,-1.2651,33.6275,2,33.6708,2,270.1,2,269.3,2,28.86,2,14.52,2,1.57,2,2227.0,2,2285.4,2,-1.05,2,1602
  18SN20150920,   ARC,29,1,13,13,2,20151003,78.2723,-153.2812,1905, 241.4,-0.8087,34.1714,2,34.1647,2,270.8,2,272.2,2,17.84,2,12.58,2,1.14,2,2197.5,2,2277.2,2,-0.46,2,1602
  18SN20150920,   ARC,29,1,12,12,2,20151003,78.2723,-153.2812,1905, 268.5,-0.3169,34.4329,2,34.4345,2,270.5,2,269.9,2,14.28,2,12.42,2,1.00,2,2187.9,2,2280.5,2,-0.16,2,1602
  18SN20150920,   ARC,29,1,11,11,2,20151003,78.2723,-153.2812,1905, 325.0, 0.4930,34.7171,2,34.7074,2,278.7,2,277.3,2,10.11,2,12.73,2,0.89,2,2173.7,2,-999.0,9, 0.07,2,1602
  18SN20150920,   ARC,29,1,10,10,2,20151003,78.2723,-153.2812,1905, 369.2, 0.7357,34.7914,2,34.7915,2,285.9,2,286.1,2, 7.68,2,12.49,2,0.84,2,-999.0,9,-999.0,9, -999,9,1602
  18SN20150920,   ARC,29,1, 9, 9,2,20151003,78.2723,-153.2812,1905, 440.1, 0.8803,34.8341,2,34.8350,2,292.4,2,294.0,2, 6.26,2,12.19,2,0.81,2,-999.0,9,-999.0,9, -999,9,1602
  18SN20150920,   ARC,29,1, 8, 8,2,20151003,78.2723,-153.2812,1905, 507.6, 0.7902,34.8487,2,34.8508,2,295.3,2,295.5,2, 6.54,2,12.31,2,0.82,2,-999.0,9,-999.0,9, -999,9,1602
  18SN20150920,   ARC,29,1, 7, 7,2,20151003,78.2723,-153.2812,1905, 609.1, 0.5503,34.8567,2,34.8592,2,298.0,2,298.4,2, 6.38,2,12.23,2,0.82,2,-999.0,9,-999.0,9, -999,9,1602
  18SN20150920,   ARC,29,1, 6, 6,2,20151003,78.2723,-153.2812,1905, 710.7, 0.3421,34.8609,2,34.8626,2,300.0,2,300.3,2, 6.26,2,12.20,2,0.82,2,-999.0,9,-999.0,9, -999,9,1602
  18SN20150920,   ARC,29,1, 5, 5,2,20151003,78.2723,-153.2812,1905, 812.0, 0.1780,34.8649,2,34.8667,2,299.8,2,300.0,2, 6.51,2,12.37,2,0.84,2,-999.0,9,-999.0,9, -999,9,1602
  18SN20150920,   ARC,29,1, 4, 4,2,20151003,78.2723,-153.2812,1905,1015.2,-0.0313,34.8779,2,34.8794,2,299.8,2,300.1,2, 6.90,2,12.51,2,0.85,2,-999.0,9,-999.0,9, -999,9,1602
  18SN20150920,   ARC,29,1, 3, 3,2,20151003,78.2723,-153.2812,1905,1523.8,-0.3153,34.9070,2,34.9085,2,299.5,2,299.7,2, 8.21,2,13.06,2,0.90,2,-999.0,9,-999.0,9, -999,9,1602
  18SN20150920,   ARC,29,1, 2, 2,2,20151003,78.2723,-153.2812,1905,2033.1,-0.4000,34.9366,2,34.9376,2,291.0,2,290.9,2,11.08,2,14.08,2,0.97,2,-999.0,9,-999.0,9, -999,9,1602
  18SN20150920,   ARC,29,1, 1, 1,2,20151003,78.2723,-153.2812,1905,2528.8,-0.3679,34.9486,2,34.9497,2,286.7,2,286.9,2,12.37,2,14.36,2,0.99,2,-999.0,9,-999.0,9, -999,9,1602
  18SN20150920,   ARC,31,1,24,24,2,20151004,75.9897,-159.9952,2148,   5.0,-1.2795,26.1041,2,26.4586,2,391.6,2,394.3,2, 2.53,2,-0.12,2,0.52,2,1836.8,2,1904.2,2,-3.75,2,1307
  18SN20150920,   ARC,31,1,23,23,2,20151004,75.9897,-159.9952,2148,  21.0,-0.7665,27.6452,2,27.6598,2,397.7,2,401.4,2, 2.54,2,-0.14,2,0.55,2,1918.9,2,1996.2,2,-3.81,2,1307
  18SN20150920,   ARC,31,1,22,22,2,20151004,75.9897,-159.9952,2148,  31.2,-0.7609,28.6516,2,28.6041,2,399.6,2,399.1,2, 2.80,2,-0.14,2,0.59,2,1957.2,2,-999.0,9,-3.59,2,1307
  18SN20150920,   ARC,31,1,21,21,2,20151004,75.9897,-159.9952,2148,  41.1,-0.5853,29.4646,2,29.4047,2,395.1,2,394.6,2, 3.00,2,-0.13,2,0.63,2,1995.1,2,2098.8,2,-3.31,2,1307
  18SN20150920,   ARC,31,1,20,20,2,20151004,75.9897,-159.9952,2148,  66.4,-0.0933,31.3210,2,31.3088,2,367.1,2,370.5,2, 6.85,2, 1.36,2,0.86,2,2054.7,2,2184.6,2,-2.21,2,1307
  18SN20150920,   ARC,31,1,19,19,2,20151004,75.9897,-159.9952,2148,  90.8,-0.6382,31.8525,2,31.8584,2,355.7,2,353.4,2,16.51,2, 5.37,2,1.11,2,2096.6,2,2208.0,2,-1.88,2,1307
  18SN20150920,   ARC,31,1,18,18,2,20151004,75.9897,-159.9952,2148, 144.1,-1.3853,32.2968,2,32.3031,2,311.5,2,312.7,2,26.74,2,11.36,2,1.55,2,2166.4,2,2225.8,2,-1.71,2,1307
  18SN20150920,   ARC,31,1,17,17,2,20151004,75.9897,-159.9952,2148, 175.7,-1.4386,32.6090,2,32.5993,2,292.4,2,297.5,2,27.28,2,12.81,2,1.68,2,2192.3,2,2246.6,2,-1.62,2,1307
  18SN20150920,   ARC,31,1,16,16,2,20151004,75.9897,-159.9952,2148, 202.0,-1.4759,32.8923,2,32.8814,2,283.9,2,283.5,2,31.24,2,14.66,2,1.79,2,2217.9,2,2255.0,2,-1.54,2,1307
  18SN20150920,   ARC,31,1,15,15,2,20151004,75.9897,-159.9952,2148, 219.3,-1.4933,33.1229,2,33.1126,2,280.0,2,280.6,2,32.80,2,15.18,2,1.79,2,2225.6,2,2267.0,2,-1.46,2,1307
  18SN20150920,   ARC,31,1,14,14,2,20151004,75.9897,-159.9952,2148, 248.9,-1.1956,33.7510,2,33.7840,2,272.5,2,268.6,2,26.03,2,14.16,2,1.47,2,2220.4,2,2281.8,2,-0.90,2,1307
  18SN20150920,   ARC,31,1,13,13,2,20151004,75.9897,-159.9952,2148, 273.8,-0.7256,34.1964,2,   -999,9,274.2,2,276.2,2,13.51,2,12.22,2,1.00,2,2183.9,2,2280.0,2,-0.22,2,1307
  18SN20150920,   ARC,31,1,12,12,2,20151004,75.9897,-159.9952,2148, 303.1,-0.2667,34.4397,2,34.4885,2,277.2,2,276.2,2,11.80,2,12.30,2,0.95,2,2178.7,2,2282.9,2,-0.06,2,1307
  18SN20150920,   ARC,31,1,11,11,2,20151004,75.9897,-159.9952,2148, 360.6, 0.4900,34.7227,2,34.7185,2,280.6,2,280.1,2, 9.41,2,12.74,2,0.90,2,2168.8,2,2288.6,2, 0.10,2,1307
  18SN20150920,   ARC,31,1,10,10,2,20151004,75.9897,-159.9952,2148, 401.7, 0.7124,34.7905,2,34.7905,2,286.7,2,286.9,2, 7.55,2,12.51,2,0.85,2,-999.0,9,-999.0,9, -999,9,1307
  18SN20150920,   ARC,31,1, 9, 9,2,20151004,75.9897,-159.9952,2148, 471.3, 0.7915,34.8303,2,34.8332,2,290.5,2,292.1,2, 6.90,2,12.46,2,0.84,2,-999.0,9,-999.0,9, -999,9,1307
  18SN20150920,   ARC,31,1, 8, 8,2,20151004,75.9897,-159.9952,2148, 507.1, 0.7557,34.8407,2,34.8446,2,291.6,2,292.9,2, 6.96,2,12.47,2,0.84,2,-999.0,9,-999.0,9, -999,9,1307
  18SN20150920,   ARC,31,1, 7, 7,2,20151004,75.9897,-159.9952,2148, 609.1, 0.5280,34.8515,2,34.8540,2,293.7,2,293.8,2, 7.34,2,12.55,2,0.85,2,-999.0,9,-999.0,9, -999,9,1307
  18SN20150920,   ARC,31,1, 6, 6,2,20151004,75.9897,-159.9952,2148, 710.5, 0.3415,34.8595,2,34.8625,2,296.6,2,296.8,2, 7.05,2,12.48,2,0.84,2,-999.0,9,-999.0,9, -999,9,1307
  18SN20150920,   ARC,31,1, 5, 5,2,20151004,75.9897,-159.9952,2148, 812.3, 0.1699,34.8658,2,34.8685,2,297.9,2,298.7,2, 7.04,2,12.46,2,0.85,2,-999.0,9,-999.0,9, -999,9,1307
  18SN20150920,   ARC,31,1, 4, 4,2,20151004,75.9897,-159.9952,2148,1015.3,-0.0435,34.8797,2,34.8822,2,298.4,2,298.5,2, 7.57,2,12.66,2,0.87,2,-999.0,9,-999.0,9, -999,9,1307
  18SN20150920,   ARC,31,1, 3, 3,2,20151004,75.9897,-159.9952,2148,1218.8,-0.1503,34.8946,2,34.8987,2,296.8,2,295.9,2, 8.89,2,12.99,2,0.89,2,-999.0,9,-999.0,9, -999,9,1307
  18SN20150920,   ARC,31,1, 2, 2,2,20151004,75.9897,-159.9952,2148,1523.1,-0.2716,34.9167,2,34.9186,2,291.1,2,291.0,3,11.41,3,13.68,3,0.95,3,-999.0,9,-999.0,9, -999,9,1307
  18SN20150920,   ARC,31,1, 1, 1,2,20151004,75.9897,-159.9952,2148,2012.8,-0.2885,34.9241,2,34.9233,2,288.6,2,289.0,2,12.31,2,13.95,2,0.97,2,-999.0,9,-999.0,9, -999,9,1307