BOTTLE,20240208CCHSIOVAJ
EXPOCODE,SECT_ID,STNNBR,CASTNO,SAMPNO,BTLNBR,BTLNBR_FLAG_W,DATE,LATITUDE,LONGITUDE,DEPTH,CTDPRS,CTDTMP,CTDSAL,CTDSAL_FLAG_W,SALNTY,SALNTY_FLAG_W,CTDOXY,CTDOXY_FLAG_W,OXYGEN,OXYGEN_FLAG_W,SILCAT,SILCAT_FLAG_W,NITRAT,NITRAT_FLAG_W,PHSPHT,PHSPHT_FLAG_W,TCARBN,TCARBN_FLAG_W,ALKALI,ALKALI_FLAG_W,DELO18,DELO18_FLAG_W,TIME
,,,,,,,,,,METERS,DBAR,ITS-90,PSS-78,,PSS-78,,UMOL/KG,,UMOL/KG,,UMOL/KG,,UMOL/KG,,UMOL/KG,,UMOL/KG,,UMOL/KG,,/MILLE,,
  18SN20150920,   ARC,64,1,23,23,2,20151014,70.9987,-140.0240,2188,   5.3,-0.6661,27.0022,2,27.0167,2,374.7,2, -999,9, 3.43,2,-0.14,2,0.50,2,-999.0,9,-999.0,9, -999,9,0855
  18SN20150920,   ARC,64,1,24,24,2,20151014,70.9987,-140.0240,2188,   5.4,-0.6391,27.0037,2,27.0326,2,374.6,2,374.2,2, 3.42,2,-0.09,2,0.50,2,1913.3,2,1999.9,2, -999,9,0855
  18SN20150920,   ARC,64,1,22,22,2,20151014,70.9987,-140.0240,2188,  21.1,-0.1535,30.0194,2,29.8916,2,386.2,2,392.2,2, 2.94,2,-0.16,2,0.64,2,2011.8,2,2123.3,2,-3.18,2,0855
  18SN20150920,   ARC,64,1,20,20,2,20151014,70.9987,-140.0240,2188,  25.9,-0.2035,30.2113,2,30.1744,2,392.8,2,392.6,2, 3.14,2,-0.17,2,0.65,2,2023.0,2,2137.0,2,-3.15,2,0855
  18SN20150920,   ARC,64,1,19,19,2,20151014,70.9987,-140.0240,2188,  31.1,-0.2034,30.5008,2,30.3754,2,397.2,2,397.1,2, 3.14,2,-0.17,2,0.66,2,2034.0,2,2157.9,2,-3.06,2,0855
  18SN20150920,   ARC,64,1,18,18,2,20151014,70.9987,-140.0240,2188,  60.3,-0.9242,31.9244,2,31.8642,2,332.4,2,346.5,2,10.07,2, 4.88,2,1.11,2,2126.4,2,2226.8,2,-2.24,2,0855
  18SN20150920,   ARC,64,1,17,17,2,20151014,70.9987,-140.0240,2188,  81.9,-1.3205,32.3257,2,32.3048,2,302.4,2,309.4,2,20.61,2,10.20,2,1.49,2,2172.8,2,2244.3,2,-1.86,2,0855
  18SN20150920,   ARC,64,1,16,16,2,20151014,70.9987,-140.0240,2188, 114.2,-1.4579,32.6509,2,32.6456,2,292.7,2,294.0,2,25.70,2,12.57,2,1.62,2,2206.2,2,2260.0,2,-1.74,2,0855
  18SN20150920,   ARC,64,1,15,15,2,20151014,70.9987,-140.0240,2188, 139.4,-1.4892,32.9465,2,32.9437,2,279.4,2,284.2,2,29.56,2,14.18,2,1.71,2,2222.6,2,2270.1,2,-1.61,2,0855
  18SN20150920,   ARC,64,1,14,14,2,20151014,70.9987,-140.0240,2188, 159.3,-1.5166,33.1698,2,33.2043,2,281.4,2,286.8,2,28.02,2,13.95,2,1.61,2,2225.0,2,2275.1,2,-1.44,2,0855
  18SN20150920,   ARC,64,1,13,13,2,20151014,70.9987,-140.0240,2188, 192.8,-1.1635,33.6830,2,33.7364,2,272.8,2,272.5,2,24.52,2,13.93,2,1.41,2,2215.6,2,2282.9,2,-0.95,2,0855
  18SN20150920,   ARC,64,1,12,12,2,20151014,70.9987,-140.0240,2188, 217.3,-0.7242,34.1426,2,34.1532,2,270.3,2,273.9,2,15.98,2,12.36,2,1.06,2,2192.3,2,2285.7,2,-0.42,2,0855
  18SN20150920,   ARC,64,1,11,11,2,20151014,70.9987,-140.0240,2188, 246.7,-0.3010,34.3981,2,34.4086,2,276.7,2,277.9,2,11.95,2,12.23,2,0.94,2,2178.6,2,2286.0,2,-0.16,2,0855
  18SN20150920,   ARC,64,1,10,10,2,20151014,70.9987,-140.0240,2188, 313.8, 0.3899,34.7112,2,34.7157,2,277.5,2,278.0,2,10.54,2,13.22,2,0.94,2,2170.7,2,2288.9,2, 0.10,2,0855
  18SN20150920,   ARC,64,1, 9, 9,2,20151014,70.9987,-140.0240,2188, 370.5, 0.5963,34.7871,2,34.7819,2,281.9,2,281.9,2, 9.16,2,13.07,2,0.90,2,2166.6,2,2301.0,2, 0.17,2,0855
  18SN20150920,   ARC,64,1, 8, 8,2,20151014,70.9987,-140.0240,2188, 437.5, 0.6527,34.8225,2,34.8234,2,286.5,2,286.6,2, 8.04,2,12.96,2,0.87,2,2160.9,2,2300.5,2, 0.16,2,0855
  18SN20150920,   ARC,64,1, 7, 7,2,20151014,70.9987,-140.0240,2188, 456.8, 0.6199,34.8251,2,34.8261,2,286.7,2,285.9,2, 8.38,2,12.96,2,0.88,2,2162.1,2,2294.4,2, 0.16,2,0855
  18SN20150920,   ARC,64,1, 6, 6,2,20151014,70.9987,-140.0240,2188, 507.0, 0.5713,34.8389,2,34.8369,2,289.0,2,288.8,2, 7.97,2,12.88,2,0.87,2,2160.7,2,2300.4,2, 0.18,2,0855
  18SN20150920,   ARC,64,1, 5, 5,2,20151014,70.9987,-140.0240,2188, 608.7, 0.4527,34.8507,2,34.8520,2,292.4,2,292.2,2, 7.81,2,12.71,2,0.86,2,2160.8,2,2296.3,2, 0.18,2,0855
  18SN20150920,   ARC,64,1, 4, 4,2,20151014,70.9987,-140.0240,2188, 811.3, 0.1912,34.8657,2,34.8685,2,295.9,2,295.9,2, 7.49,2,12.75,2,0.85,2,2158.6,2,2299.8,2, 0.23,2,0855
  18SN20150920,   ARC,64,1, 3, 3,2,20151014,70.9987,-140.0240,2188,1014.3,-0.0308,34.8788,2,34.8800,2,297.9,2,297.8,2, 7.64,2,12.65,2,0.86,2,2158.4,2,2298.2,2, 0.24,2,0855
  18SN20150920,   ARC,64,1, 2, 2,2,20151014,70.9987,-140.0240,2188,1523.3,-0.3135,34.9110,2,34.9120,2,296.1,2,296.1,2, 9.05,2,13.30,2,0.90,2,2157.6,2,2298.2,2, 0.23,2,0855
  18SN20150920,   ARC,64,1, 1, 1,2,20151014,70.9987,-140.0240,2188,2098.1,-0.3923,34.9468,2,34.9496,2,284.0,2,283.6,2,13.82,2,14.42,2,0.99,2,2159.6,2,2305.3,2, 0.24,2,0855
  18SN20150920,   ARC,65,1,21,21,2,20151014,70.5733,-139.9960, 811,   5.4,-0.4851,29.2036,2,29.2273,2,373.5,2,372.5,2, 5.06,2, 0.24,2,0.63,2,2023.5,2,2133.6,2,-3.55,2,1214
  18SN20150920,   ARC,65,1,20,20,2,20151014,70.5733,-139.9960, 811,  20.7,-0.4810,29.3631,2,29.3615,2,373.3,2,371.5,2, 5.20,2, 0.25,2,0.64,2,2028.4,2,2139.7,2,-3.53,2,1214
  18SN20150920,   ARC,65,1,19,19,2,20151014,70.5733,-139.9960, 811,  26.0,-0.4775,29.3639,2,29.3769,2,373.4,2,372.1,2, 5.19,2, 0.24,2,0.64,2,2030.7,2,2143.0,2,-3.50,2,1214
  18SN20150920,   ARC,65,1,18,18,2,20151014,70.5733,-139.9960, 811,  51.3,-0.7917,31.6165,2,31.7341,2,365.5,2, -999,9, 9.64,2, 4.29,2,1.07,2,2123.3,2,2227.7,2,-2.36,2,1214
  18SN20150920,   ARC,65,1,17,17,2,20151014,70.5733,-139.9960, 811,  71.6,-1.0997,32.0821,2,32.1921,2,324.6,2,320.3,2,16.12,2, 7.98,2,1.28,2,2167.4,2,2247.4,2,-2.01,2,1214
  18SN20150920,   ARC,65,1,16,16,2,20151014,70.5733,-139.9960, 811,  87.5,-1.3162,32.3182,2,32.3711,2,313.0,2,307.0,2,20.82,2,10.33,2,1.43,2,2186.9,2,2246.1,2,-1.91,2,1214
  18SN20150920,   ARC,65,1,15,15,2,20151014,70.5733,-139.9960, 811, 116.0,-1.4628,32.7783,2,32.8889,2,293.4,2,284.2,2,26.73,2,13.27,2,1.56,2,2220.3,2,2269.0,2,-1.65,2,1214
  18SN20150920,   ARC,65,1,14,14,2,20151014,70.5733,-139.9960, 811, 126.0,-1.3586,33.2508,2,33.4646,2,282.0,2,273.6,2,26.74,2,14.06,2,1.47,2,2221.6,2,2279.7,2,-1.15,2,1214
  18SN20150920,   ARC,65,1,13,13,2,20151014,70.5733,-139.9960, 811, 128.2,-1.2681,33.4388,2,33.7324,2,279.8,2, -999,9,24.81,2,13.96,2,1.41,2,2216.7,2,2278.4,2,-0.92,2,1214
  18SN20150920,   ARC,65,1,12,12,2,20151014,70.5733,-139.9960, 811, 137.2,-1.1429,33.6779,2,33.8409,2,269.6,2,266.1,2,23.32,2,13.82,2,1.31,2,2211.5,2,2285.1,2,-0.79,2,1214
  18SN20150920,   ARC,65,1,11,11,2,20151014,70.5733,-139.9960, 811, 165.3,-0.7503,34.1039,2,34.2342,2,267.9,2,274.0,2,15.39,2,12.56,2,1.02,2,2186.4,2,2285.2,2,-0.36,2,1214
  18SN20150920,   ARC,65,1,10,10,2,20151014,70.5733,-139.9960, 811, 240.3, 0.2004,34.6314,2,34.6402,2,274.6,2,275.8,2,10.79,2,12.88,2,0.89,2,2172.2,2,2289.6,2, 0.03,2,1214
  18SN20150920,   ARC,65,1, 9, 9,2,20151014,70.5733,-139.9960, 811, 251.6, 0.2705,34.6617,2,34.6859,2,274.9,2,276.1,2,10.56,2,12.99,2,0.90,2,2170.6,2,2291.5,2, 0.06,2,1214
  18SN20150920,   ARC,65,1, 8, 8,2,20151014,70.5733,-139.9960, 811, 269.7, 0.3809,34.7080,2,34.7089,2,275.5,2,276.1,2,10.40,2,13.05,2,0.90,2,2170.7,2,2292.0,2, 0.05,2,1214
  18SN20150920,   ARC,65,1, 7, 7,2,20151014,70.5733,-139.9960, 811, 327.0, 0.5781,34.7820,2,34.7818,2,281.2,2,280.8,2, 9.18,2,13.04,2,0.84,2,2167.5,2,2292.7,2, 0.19,2,1214
  18SN20150920,   ARC,65,1, 6, 6,2,20151014,70.5733,-139.9960, 811, 391.0, 0.6441,34.8163,2,34.8155,2,285.7,2,284.6,2, 8.50,2,12.88,2,0.86,2,-999.0,9,-999.0,9, -999,9,1214
  18SN20150920,   ARC,65,1, 5, 5,2,20151014,70.5733,-139.9960, 811, 456.5, 0.5927,34.8327,2,34.8318,2,287.4,2,286.5,2, 8.38,2,13.06,2,0.88,2,-999.0,9,-999.0,9, -999,9,1214
  18SN20150920,   ARC,65,1, 4, 4,2,20151014,70.5733,-139.9960, 811, 507.4, 0.5439,34.8410,2,34.8396,2,289.4,2,289.1,2, 8.06,2,12.83,2,0.87,2,-999.0,9,-999.0,9, -999,9,1214
  18SN20150920,   ARC,65,1, 3, 3,2,20151014,70.5733,-139.9960, 811, 608.3, 0.4021,34.8535,2,34.8534,2,292.1,2,292.2,2, 7.83,2,12.79,2,0.86,2,-999.0,9,-999.0,9, -999,9,1214
  18SN20150920,   ARC,65,1, 2, 2,2,20151014,70.5733,-139.9960, 811, 710.2, 0.2434,34.8622,2,34.8602,2,295.5,2,295.3,2, 7.55,2,12.95,2,0.86,2,-999.0,9,-999.0,9, -999,9,1214
  18SN20150920,   ARC,65,1, 1, 1,2,20151014,70.5733,-139.9960, 811, 800.7, 0.1232,34.8688,2,34.8674,2,297.1,2,297.4,2, 7.50,2,12.77,2,0.86,2,-999.0,9,-999.0,9, -999,9,1214
  18SN20150920,   ARC,66,1, 7, 7,2,20151014,69.9988,-140.0005,  48,   5.2,-1.3411,32.7451,2,32.7413,2,302.2,2,300.5,2,25.29,2,12.32,2,1.56,2,2187.0,2,2256.5,2, -999,9,1535
  18SN20150920,   ARC,66,1, 6, 6,2,20151014,69.9988,-140.0005,  48,  11.1,-1.3431,32.7408,2,32.7422,2,301.9,2,299.9,2,25.37,2,12.41,2,1.56,2,2189.1,2,2258.2,2, -999,9,1535
  18SN20150920,   ARC,66,1, 5, 5,2,20151014,69.9988,-140.0005,  48,  21.0,-1.3289,32.7617,2,32.7529,2,296.6,2,294.7,2,25.39,2,12.52,2,1.57,2,2187.9,2,2258.7,2, -999,9,1535
  18SN20150920,   ARC,66,1, 4, 4,2,20151014,69.9988,-140.0005,  48,  31.2,-1.3255,32.7886,2,32.7885,2,298.0,2,293.2,2,25.48,2,12.58,2,1.57,2,2191.3,2,2254.5,2, -999,9,1535
  18SN20150920,   ARC,66,1, 3, 3,2,20151014,69.9988,-140.0005,  48,  41.3,-1.3308,32.7978,2,32.8019,2,295.4,2,291.3,2,25.67,2,12.64,2,1.58,2,2194.2,2,2261.2,2, -999,9,1535
  18SN20150920,   ARC,66,1, 2, 2,2,20151014,69.9988,-140.0005,  48,  51.2,-1.3366,32.8151,2,32.8150,2,285.2,2,291.0,2,25.82,2,12.72,2,1.58,2,2198.5,2,2261.4,2, -999,9,1535
  18SN20150920,   ARC,66,1, 1, 1,2,20151014,69.9988,-140.0005,  48,  52.0,-1.3366,32.8154,2,32.8150,2,284.8,2,291.2,2,25.89,2,12.77,2,1.59,2,2196.1,2,2258.5,2, -999,9,1535
  18SN20150920,   ARC,67,1,13,13,2,20151014,70.2310,-140.0255, 182,   5.5,-0.3015,28.8757,2,28.8871,2,371.4,2,370.1,2, 6.14,2, 0.56,2,0.64,2,2021.6,2,2136.7,2,-3.75,2,1703
  18SN20150920,   ARC,67,1,12,12,2,20151014,70.2310,-140.0255, 182,  10.9,-0.3696,28.8861,2,28.8896,2,371.1,2,370.0,2, 6.12,2, 0.47,2,0.64,2,2018.2,2,2132.3,2,-3.73,2,1703
  18SN20150920,   ARC,67,1,11,11,2,20151014,70.2310,-140.0255, 182,  21.2,-0.3554,29.2867,2,29.1972,2,375.0,2,372.2,2, 6.03,2, 0.54,2,0.67,2,2031.0,2,2151.1,2,-3.60,2,1703
  18SN20150920,   ARC,67,1,10,10,2,20151014,70.2310,-140.0255, 182,  51.4,-0.7205,31.6986,2,31.6882,2,359.0,2,359.5,2, 8.15,2, 3.17,2,0.99,2,2104.2,2,2223.1,2,-2.45,2,1703
  18SN20150920,   ARC,67,1, 9, 9,2,20151014,70.2310,-140.0255, 182,  71.6,-1.1821,32.2165,2,32.2177,2,313.6,2,317.7,2,18.66,2, 9.17,2,1.42,2,2144.7,2,2230.3,2,-1.91,2,1703
  18SN20150920,   ARC,67,1, 8, 8,2,20151014,70.2310,-140.0255, 182,  80.7,-1.2334,32.3008,2,32.2953,2,306.7,2,310.4,2,20.42,2,10.32,2,1.49,2,2149.9,2,2230.7,2,-1.78,2,1703
  18SN20150920,   ARC,67,1, 7, 7,2,20151014,70.2310,-140.0255, 182,  84.6,-1.1913,32.6919,2,32.5612,2,285.6,2,298.9,2,21.03,2,10.86,2,1.47,2,2181.5,2,2244.5,2,-1.66,2,1703
  18SN20150920,   ARC,67,1, 5, 5,2,20151014,70.2310,-140.0255, 182,  88.8,-1.1761,33.2265,2,33.1332,2,280.3,2,282.0,2,24.00,2,12.88,2,1.49,2,2163.9,2,2264.0,2,-1.29,2,1703
  18SN20150920,   ARC,67,1, 4, 4,2,20151014,70.2310,-140.0255, 182,  99.8,-1.0618,33.6825,2,33.6366,2,270.0,2,273.2,2,23.94,2,13.61,2,1.42,2,2202.1,2,2280.2,2,-0.96,2,1703
  18SN20150920,   ARC,67,1, 3, 3,2,20151014,70.2310,-140.0255, 182, 135.2,-0.6768,34.1498,2,34.1207,2,267.2,2,269.7,2,17.73,2,13.00,2,1.14,2,2187.1,2,2283.5,2,-0.52,2,1703
  18SN20150920,   ARC,67,1, 2, 2,2,20151014,70.2310,-140.0255, 182, 169.7,-0.2521,34.4162,2,34.4024,2,272.8,2,274.7,2,12.72,2,12.48,2,0.97,2,2171.0,2,2282.8,2,-0.20,2,1703
  18SN20150920,   ARC,67,1, 1, 1,2,20151014,70.2310,-140.0255, 182, 220.9, 0.2709,34.6681,2,34.6661,2,271.7,2,273.8,2,11.87,2,13.12,2,0.98,2,2159.3,2,2294.3,2, 0.03,2,1703
  18SN20150920,   ARC,68,1,19,19,2,20151014,70.4008,-140.0033, 528,   5.9,-0.2390,28.4980,2,28.5533,2,378.0,2,378.4,2, 4.50,2,-0.02,2,0.56,2,1998.4,2,2107.3,2, -999,9,1849
  18SN20150920,   ARC,68,1,18,18,2,20151014,70.4008,-140.0033, 528,  10.8,-0.2848,29.5493,2,29.0040,2,378.4,2,382.5,2, 4.16,2,-0.05,2,0.60,2,2010.5,2,2120.7,2, -999,9,1849
  18SN20150920,   ARC,68,1,17,17,2,20151014,70.4008,-140.0033, 528,  21.1,-0.3190,30.1717,2,30.1260,2,387.6,2,386.5,2, 3.58,2,-0.05,2,0.66,2,2035.2,2,2158.1,2, -999,9,1849
  18SN20150920,   ARC,68,1,16,16,2,20151014,70.4008,-140.0033, 528,  51.4,-0.7897,31.4949,2,31.5035,2,368.5,2,369.2,2, 6.37,2, 2.00,2,0.91,2,2098.7,2,2212.9,2, -999,9,1849
  18SN20150920,   ARC,68,1,15,15,2,20151014,70.4008,-140.0033, 528,  71.7,-1.2366,32.2226,2,32.2156,2,318.7,2,317.3,2,18.26,2, 9.12,2,1.41,2,2158.2,2,2236.2,2, -999,9,1849
  18SN20150920,   ARC,68,1,14,14,2,20151014,70.4008,-140.0033, 528,  86.0,-1.3501,32.3759,2,32.3527,2,307.4,2,306.3,2,21.85,2,10.62,2,1.52,2,2176.4,2,2243.2,2, -999,9,1849
  18SN20150920,   ARC,68,1,13,13,2,20151014,70.4008,-140.0033, 528, 104.0,-1.4545,32.6725,2,32.6741,2,290.1,2,289.3,2,26.10,2,12.74,2,1.63,2,2211.4,2,2255.6,2, -999,9,1849
  18SN20150920,   ARC,68,1,12,12,2,20151014,70.4008,-140.0033, 528, 126.0,-1.4727,32.9140,2,32.9200,2,281.2,2,284.3,2,29.17,2,13.90,2,1.70,2,2220.3,2,2270.9,2, -999,9,1849
  18SN20150920,   ARC,68,1,11,11,2,20151014,70.4008,-140.0033, 528, 136.2,-1.4623,33.1312,2,33.1269,2,279.0,2,280.7,2,29.82,2,14.36,2,1.68,2,2223.6,2,2273.4,2, -999,9,1849
  18SN20150920,   ARC,68,1,10,10,2,20151014,70.4008,-140.0033, 528, 166.6,-1.1415,33.6908,2,33.7856,2,268.3,2,266.4,2,24.77,2,14.14,2,1.41,2,2214.7,2,2282.5,2, -999,9,1849
  18SN20150920,   ARC,68,1, 9, 9,2,20151014,70.4008,-140.0033, 528, 191.7,-0.7017,34.1436,2,34.2481,2,268.5,2, -999,9,15.23,2,12.54,2,1.04,2,2187.5,2,2283.5,2, -999,9,1849
  18SN20150920,   ARC,68,1, 8, 8,2,20151014,70.4008,-140.0033, 528, 216.3,-0.2624,34.4095,2,34.4241,2,273.4,2,275.0,2,12.44,2,12.52,2,0.96,2,2181.0,2,2285.4,2, -999,9,1849
  18SN20150920,   ARC,68,1, 7, 7,2,20151014,70.4008,-140.0033, 528, 245.9, 0.1544,34.6113,2,34.6110,2,274.3,2,275.5,2,10.98,2,12.88,2,0.93,2,2174.6,2,2287.4,2, -999,9,1849
  18SN20150920,   ARC,68,1, 6, 6,2,20151014,70.4008,-140.0033, 528, 270.9, 0.3637,34.7021,2,34.6981,2,275.1,2,275.6,2,10.53,2,13.13,2,0.94,2,2171.9,2,2293.7,2, -999,9,1849
  18SN20150920,   ARC,68,1, 5, 5,2,20151014,70.4008,-140.0033, 528, 310.2, 0.5629,34.7822,2,34.7781,2,279.5,2,279.5,2, 9.27,2,13.16,2,0.91,2,2167.0,2,2295.7,2, -999,9,1849
  18SN20150920,   ARC,68,1, 4, 4,2,20151014,70.4008,-140.0033, 528, 337.9, 0.6013,34.8010,2,34.8013,2,281.4,2,281.4,2, 9.00,2,13.13,2,0.90,2,-999.0,9,-999.0,9, -999,9,1849
  18SN20150920,   ARC,68,1, 3, 3,2,20151014,70.4008,-140.0033, 528, 406.0, 0.5815,34.8297,2,34.8310,2,286.0,2,285.6,2, 8.58,2,12.92,2,0.89,2,-999.0,9,-999.0,9, -999,9,1849
  18SN20150920,   ARC,68,1, 2, 2,2,20151014,70.4008,-140.0033, 528, 456.4, 0.5300,34.8419,2,34.8429,2,289.6,2,288.8,2, 8.10,2,12.84,2,0.87,2,-999.0,9,-999.0,9, -999,9,1849
  18SN20150920,   ARC,68,1, 1, 1,2,20151014,70.4008,-140.0033, 528, 500.0, 0.4477,34.8498,2,34.8500,2,291.4,2,290.6,2, 8.24,2,12.78,2,0.87,2,-999.0,9,-999.0,9, -999,9,1849
  18SN20150920,   ARC,70,1,23,23,2,20151014,70.8100,-139.9770,1687,   6.4,-0.3792,28.2918,2,29.2323,2,376.6,2,379.6,2, 4.02,2, 0.02,2,0.61,2,2003.9,2,2117.7,2, -999,9,2251
  18SN20150920,   ARC,70,1,22,22,2,20151014,70.8100,-139.9770,1687,  14.2, 0.2585,30.6288,2,30.3979,2,378.1,2,391.1,2, 3.53,2,-0.04,2,0.67,2,2042.9,2,2166.6,2, -999,9,2251
  18SN20150920,   ARC,70,1,21,21,2,20151014,70.8100,-139.9770,1687,  21.1,-0.5649,30.9727,2,31.0013,2,384.7,2,392.3,2, 4.14,2,-0.02,2,0.72,2,2060.5,2,2187.1,2, -999,9,2251
  18SN20150920,   ARC,70,1,20,20,2,20151014,70.8100,-139.9770,1687,  31.7,-0.5302,31.1818,2,31.2001,2,391.7,2,391.9,2, 4.45,2, 0.15,2,0.74,2,2072.8,2,2200.1,2, -999,9,2251
  18SN20150920,   ARC,70,1,19,19,2,20151014,70.8100,-139.9770,1687,  55.8,-0.7365,31.7041,2,31.7369,2,338.2,2,360.5,2, 7.17,2, 2.86,2,0.97,2,2105.7,2,2223.3,2, -999,9,2251
  18SN20150920,   ARC,70,1,18,18,2,20151014,70.8100,-139.9770,1687,  78.5,-1.4081,32.3699,2,32.3383,2,305.4,2,305.3,2,21.55,2,10.75,2,1.51,2,2179.2,2,2240.7,2, -999,9,2251
  18SN20150920,   ARC,70,1,17,17,2,20151014,70.8100,-139.9770,1687, 101.4,-1.4732,32.6547,2,32.6552,2,293.4,2,294.5,2,25.52,2,12.53,2,1.61,2,2203.6,2,2258.7,2, -999,9,2251
  18SN20150920,   ARC,70,1,16,16,2,20151014,70.8100,-139.9770,1687, 124.7,-1.4919,32.9321,2,32.9290,2,288.7,2,285.3,2,28.96,2,13.93,2,1.69,2,2219.9,2,2270.0,2, -999,9,2251
  18SN20150920,   ARC,70,1,15,15,2,20151014,70.8100,-139.9770,1687, 140.6,-1.4676,33.1408,2,33.1506,2,282.4,2,281.1,2,29.94,2,14.55,2,1.69,2,2220.2,2,2275.1,2, -999,9,2251
  18SN20150920,   ARC,70,1,14,14,2,20151014,70.8100,-139.9770,1687, 169.6,-1.0930,33.7711,2,33.7218,2,268.8,2,267.8,2,25.36,2,14.11,2,1.44,2,2213.3,2,2281.1,2, -999,9,2251
  18SN20150920,   ARC,70,1,13,13,2,20151014,70.8100,-139.9770,1687, 194.1,-0.6838,34.1734,2,34.1456,2,271.9,2,272.9,2,16.37,2,12.59,2,1.08,2,2187.1,2,2279.9,2, -999,9,2251
  18SN20150920,   ARC,70,1,12,12,2,20151014,70.8100,-139.9770,1687, 222.2,-0.2561,34.4237,2,34.4229,2,275.4,2,276.4,2,11.68,2,12.32,2,0.92,2,2176.7,2,2281.6,2, -999,9,2251
  18SN20150920,   ARC,70,1,11,11,2,20151014,70.8100,-139.9770,1687, 291.0, 0.3909,34.7108,2,34.7077,2,278.2,2,278.3,2, 9.66,2,12.99,2,0.91,2,2164.4,2,2288.1,2, -999,9,2251
  18SN20150920,   ARC,70,1,10,10,2,20151014,70.8100,-139.9770,1687, 346.4, 0.5919,34.7864,2,34.7873,2,281.5,2,281.5,2, 9.00,2,13.08,2,0.90,2,2162.5,2,2291.8,2, -999,9,2251
  18SN20150920,   ARC,70,1, 9, 9,2,20151014,70.8100,-139.9770,1687, 402.0, 0.6498,34.8178,2,34.8153,2,285.4,2,285.0,2, 8.36,2,12.96,2,0.88,2,-999.0,9,-999.0,9, -999,9,2251
  18SN20150920,   ARC,70,1, 8, 8,2,20151014,70.8100,-139.9770,1687, 457.8, 0.6053,34.8312,2,34.8309,2,287.5,2,286.7,2, 8.35,2,12.91,2,0.88,2,-999.0,9,-999.0,9, -999,9,2251
  18SN20150920,   ARC,70,1, 7, 7,2,20151014,70.8100,-139.9770,1687, 508.6, 0.5511,34.8412,2,34.8407,2,289.3,2,289.1,2, 7.99,2,12.82,2,0.87,2,-999.0,9,-999.0,9, -999,9,2251
  18SN20150920,   ARC,70,1, 6, 6,2,20151014,70.8100,-139.9770,1687, 610.1, 0.4371,34.8513,2,34.8504,2,291.8,2,291.6,2, 7.77,2,12.78,2,0.86,2,-999.0,9,-999.0,9, -999,9,2251
  18SN20150920,   ARC,70,1, 5, 5,2,20151014,70.8100,-139.9770,1687, 710.9, 0.2879,34.8609,2,34.8601,2,295.1,2,294.5,2, 7.48,2,12.64,2,0.85,2,-999.0,9,-999.0,9, -999,9,2251
  18SN20150920,   ARC,70,1, 4, 4,2,20151014,70.8100,-139.9770,1687, 812.6, 0.1401,34.8680,2,34.8659,2,296.7,2,296.3,2, 7.42,2,12.66,2,0.85,2,-999.0,9,-999.0,9, -999,9,2251
  18SN20150920,   ARC,70,1, 3, 3,2,20151014,70.8100,-139.9770,1687,1015.4,-0.0618,34.8803,2,34.8784,2,298.1,2,297.7,2, 7.56,2,12.76,2,0.86,2,-999.0,9,-999.0,9, -999,9,2251
  18SN20150920,   ARC,70,1, 2, 2,2,20151014,70.8100,-139.9770,1687,1218.8,-0.1809,34.8926,2,34.8919,2,297.5,2,297.3,2, 8.06,2,12.92,2,0.87,2,-999.0,9,-999.0,9, -999,9,2251
  18SN20150920,   ARC,70,1, 1, 1,2,20151014,70.8100,-139.9770,1687,1621.5,-0.3501,34.9198,2,   -999,9,294.5,2,293.9,2, 8.05,3,12.95,3,0.87,3,-999.0,9,-999.0,9, -999,9,2251