BOTTLE,20240208CCHSIOVAJ
EXPOCODE,SECT_ID,STNNBR,CASTNO,SAMPNO,BTLNBR,BTLNBR_FLAG_W,DATE,LATITUDE,LONGITUDE,DEPTH,CTDPRS,CTDTMP,CTDSAL,CTDSAL_FLAG_W,SALNTY,SALNTY_FLAG_W,CTDOXY,CTDOXY_FLAG_W,OXYGEN,OXYGEN_FLAG_W,SILCAT,SILCAT_FLAG_W,NITRAT,NITRAT_FLAG_W,PHSPHT,PHSPHT_FLAG_W,TCARBN,TCARBN_FLAG_W,ALKALI,ALKALI_FLAG_W,DELO18,DELO18_FLAG_W,TIME
,,,,,,,,,,METERS,DBAR,ITS-90,PSS-78,,PSS-78,,UMOL/KG,,UMOL/KG,,UMOL/KG,,UMOL/KG,,UMOL/KG,,UMOL/KG,,UMOL/KG,,/MILLE,,
  18SN20150920,   ARC,36,1,24,24,2,20151006,76.0000,-145.0022,3784,   5.5,-1.4332,27.0348,2,27.0401,2,386.2,2,385.8,2, 2.81,2,-0.10,2,0.51,2,1886.2,2,1955.4,2, -999,9,2336
  18SN20150920,   ARC,36,1,23,23,2,20151006,76.0000,-145.0022,3784,  20.8,-1.4227,27.0491,2,27.0828,2,386.7,2,386.4,2, 2.83,2,-0.12,2,0.51,2,1892.1,2,1965.4,2, -999,9,2336
  18SN20150920,   ARC,36,1,22,22,2,20151006,76.0000,-145.0022,3784,  41.4,-1.0711,29.1198,2,28.9929,2,390.0,2,392.1,2, 3.19,2,-0.13,2,0.57,2,2001.6,2,2102.9,2, -999,9,2336
  18SN20150920,   ARC,36,1,21,21,2,20151006,76.0000,-145.0022,3784,  66.8,-0.0677,31.0471,2,31.0098,2,363.1,2,367.1,2, 6.10,2, 0.76,2,0.80,2,2052.0,2,2178.3,2, -999,9,2336
  18SN20150920,   ARC,36,1,20,20,2,20151006,76.0000,-145.0022,3784,  95.1,-0.9350,31.9891,2,31.8796,2,324.6,2,322.1,2,16.00,2, 7.79,2,1.30,2,2124.8,2,2209.9,2, -999,9,2336
  18SN20150920,   ARC,36,1,19,19,2,20151006,76.0000,-145.0022,3784, 127.5,-1.2511,32.3598,2,32.3518,2,306.3,2,306.5,2,23.54,2,11.34,2,1.58,2,2162.6,2,2233.6,2, -999,9,2336
  18SN20150920,   ARC,36,1,18,18,2,20151006,76.0000,-145.0022,3784, 156.9,-1.3452,32.6248,2,32.6229,2,293.1,2,292.6,2,27.26,2,13.12,2,1.71,2,2191.8,2,2243.9,2, -999,9,2336
  18SN20150920,   ARC,36,1,17,17,2,20151006,76.0000,-145.0022,3784, 189.1,-1.4446,32.9408,2,32.9328,2,278.9,2,278.8,2,33.04,2,15.24,2,1.84,2,2217.6,2,2259.0,2, -999,9,2336
  18SN20150920,   ARC,36,1,16,16,2,20151006,76.0000,-145.0022,3784, 209.3,-1.4495,33.1535,2,33.1471,2,274.4,2,272.9,2,35.22,2,15.84,2,1.86,2,2235.4,2,2272.7,2, -999,9,2336
  18SN20150920,   ARC,36,1,15,15,2,20151006,76.0000,-145.0022,3784, 238.7,-1.2060,33.7236,2,33.7094,2,269.6,2,267.3,2,27.86,2,14.71,2,1.54,2,2222.6,2,2285.6,2, -999,9,2336
  18SN20150920,   ARC,36,1,14,14,2,20151006,76.0000,-145.0022,3784, 261.9,-0.8128,34.1406,2,34.1327,2,270.8,2,269.5,2,18.42,2,12.88,2,1.15,2,2195.6,2,2281.1,2, -999,9,2336
  18SN20150920,   ARC,36,1,13,13,2,20151006,76.0000,-145.0022,3784, 293.5,-0.2792,34.4156,2,34.4013,2,279.9,2,279.8,2,11.01,2,11.72,2,0.89,2,2173.8,2,2278.5,2, -999,9,2336
  18SN20150920,   ARC,36,1,12,12,2,20151006,76.0000,-145.0022,3784, 362.7, 0.4650,34.7256,2,34.7135,2,283.0,2,282.7,2, 8.70,2,12.60,2,0.87,2,2163.0,2,2288.8,2, -999,9,2336
  18SN20150920,   ARC,36,1,11,11,2,20151006,76.0000,-145.0022,3784, 415.9, 0.6548,34.7885,2,34.7889,2,288.2,2,288.3,2, 7.30,2,12.55,2,0.83,2,-999.0,9,-999.0,9, -999,9,2336
  18SN20150920,   ARC,36,1,10,10,2,20151006,76.0000,-145.0022,3784, 489.1, 0.7669,34.8298,2,34.8318,2,291.6,2,291.8,2, 6.80,2,12.62,2,0.83,2,-999.0,9,-999.0,9, -999,9,2336
  18SN20150920,   ARC,36,1, 9, 9,2,20151006,76.0000,-145.0022,3784, 508.3, 0.7554,34.8296,2,34.8292,2,291.3,2,291.6,2, 6.82,2,12.63,2,0.83,2,-999.0,9,-999.0,9, -999,9,2336
  18SN20150920,   ARC,36,1, 8, 8,2,20151006,76.0000,-145.0022,3784, 609.9, 0.5963,34.8484,2,34.8516,2,294.4,2,294.8,2, 6.67,2,12.62,2,0.83,2,-999.0,9,-999.0,9, -999,9,2336
  18SN20150920,   ARC,36,1, 7, 7,2,20151006,76.0000,-145.0022,3784, 711.2, 0.4338,34.8568,2,34.8560,2,295.1,2,295.1,2, 6.87,2,12.67,2,0.84,2,-999.0,9,-999.0,9, -999,9,2336
  18SN20150920,   ARC,36,1, 6, 6,2,20151006,76.0000,-145.0022,3784, 812.7, 0.2766,34.8626,2,34.8646,2,296.9,2,297.1,2, 6.87,2,12.64,2,0.84,2,-999.0,9,-999.0,9, -999,9,2336
  18SN20150920,   ARC,36,1, 5, 5,2,20151006,76.0000,-145.0022,3784,1015.6, 0.0423,34.8758,2,34.8770,2,298.2,2,298.3,2, 7.06,2,12.69,2,0.85,2,-999.0,9,-999.0,9, -999,9,2336
  18SN20150920,   ARC,36,1, 4, 4,2,20151006,76.0000,-145.0022,3784,1524.0,-0.2903,34.9109,2,34.9125,2,297.8,2,298.0,2, 8.38,2,13.26,2,0.90,2,-999.0,9,-999.0,9, -999,9,2336
  18SN20150920,   ARC,36,1, 3, 3,2,20151006,76.0000,-145.0022,3784,2033.9,-0.4043,34.9406,2,34.9419,2,290.9,2,291.2,2,10.98,2,14.15,2,0.96,2,-999.0,9,-999.0,9, -999,9,2336
  18SN20150920,   ARC,36,1, 2, 2,2,20151006,76.0000,-145.0022,3784,2544.2,-0.3772,34.9523,2,34.9522,2,286.5,2,286.5,2,12.46,2,14.42,2,0.98,2,-999.0,9,-999.0,9, -999,9,2336
  18SN20150920,   ARC,36,1, 1, 1,2,20151006,76.0000,-145.0022,3784,3054.9,-0.3264,34.9562,2,34.9562,2,282.7,2,283.7,2,13.29,2,14.54,2,0.98,2,-999.0,9,-999.0,9, -999,9,2336
  18SN20150920,   ARC,37,1,23,23,2,20151007,74.6982,-146.7038,3810,  21.2,-1.3637,26.1344,2,26.2744,2,388.2,2,388.5,2, 2.47,2,-0.08,2,0.50,2,1837.4,2,1902.3,2, -999,9,0856
  18SN20150920,   ARC,37,1,22,22,2,20151007,74.6982,-146.7038,3810,  41.9,-0.8279,28.1710,2,28.2465,2,393.1,2,396.7,2, 2.77,2,-0.12,2,0.55,2,1954.9,2,2046.2,2, -999,9,0856
  18SN20150920,   ARC,37,1,21,21,2,20151007,74.6982,-146.7038,3810,  82.3,-0.3198,31.4783,2,31.4791,2,346.2,2,343.3,2, 8.94,2, 3.79,2,1.02,2,2082.9,2,2198.9,2, -999,9,0856
  18SN20150920,   ARC,37,1,20,20,2,20151007,74.6982,-146.7038,3810,  98.1,-0.7988,31.9139,2,31.9620,2,324.0,2,316.9,2,15.31,2, 8.22,2,1.34,2,2128.8,2,2218.0,2, -999,9,0856
  18SN20150920,   ARC,37,1,19,19,2,20151007,74.6982,-146.7038,3810, 127.4,-1.2127,32.3515,2,32.3543,2,305.5,2,305.4,2,23.04,2,11.40,2,1.59,2,2161.8,2,2235.2,2, -999,9,0856
  18SN20150920,   ARC,37,1,18,18,2,20151007,74.6982,-146.7038,3810, 156.6,-1.3532,32.6297,2,32.6299,2,291.9,2,292.3,2,27.24,2,13.27,2,1.72,2,2193.0,2,2245.7,2, -999,9,0856
  18SN20150920,   ARC,37,1,17,17,2,20151007,74.6982,-146.7038,3810, 187.0,-1.4432,32.9231,2,32.9366,2,279.1,2,278.4,2,32.66,2,15.36,2,1.84,2,2219.5,2,2265.3,2, -999,9,0856
  18SN20150920,   ARC,37,1,16,16,2,20151007,74.6982,-146.7038,3810, 206.3,-1.4889,33.1610,2,33.2757,2,275.6,2,274.2,2,33.14,2,15.58,2,1.78,2,2229.6,2,2276.3,2, -999,9,0856
  18SN20150920,   ARC,37,1,15,15,2,20151007,74.6982,-146.7038,3810, 236.5,-1.2431,33.7126,2,   -999,9,270.5,2,270.5,2,19.74,2,13.06,2,1.20,2,2196.9,2,2280.5,2, -999,9,0856
  18SN20150920,   ARC,37,1,14,14,2,20151007,74.6982,-146.7038,3810, 261.9,-0.7004,34.1862,2,34.2228,2,270.9,2,277.9,2,13.75,2,11.82,2,0.97,2,2181.3,2,2282.0,2, -999,9,0856
  18SN20150920,   ARC,37,1,13,13,2,20151007,74.6982,-146.7038,3810, 293.6,-0.2146,34.4399,2,34.4405,2,280.4,2,280.9,2,10.37,2,11.63,2,0.87,2,2172.8,2,2282.3,2, -999,9,0856
  18SN20150920,   ARC,37,1,12,12,2,20151007,74.6982,-146.7038,3810, 360.5, 0.4391,34.7184,2,34.7117,2,281.9,2,280.6,2, 9.33,2,12.78,2,0.89,2,2163.7,2,2297.1,2, -999,9,0856
  18SN20150920,   ARC,37,1,11,11,2,20151007,74.6982,-146.7038,3810, 410.7, 0.6343,34.7873,2,34.7867,2,287.7,2,287.6,2, 7.50,2,12.63,2,0.84,2,-999.0,9,-999.0,9, -999,9,0856
  18SN20150920,   ARC,37,1,10,10,2,20151007,74.6982,-146.7038,3810, 481.8, 0.7466,34.8293,2,34.8298,2,291.6,2,292.2,2, 6.74,2,12.58,2,0.82,2,-999.0,9,-999.0,9, -999,9,0856
  18SN20150920,   ARC,37,1, 9, 9,2,20151007,74.6982,-146.7038,3810, 507.5, 0.7294,34.8288,2,34.8295,2,291.7,2,291.6,2, 6.89,2,12.60,2,0.83,2,-999.0,9,-999.0,9, -999,9,0856
  18SN20150920,   ARC,37,1, 8, 8,2,20151007,74.6982,-146.7038,3810, 609.0, 0.5746,34.8482,2,34.8488,2,294.6,2,294.8,2, 6.64,2,12.57,2,0.82,2,-999.0,9,-999.0,9, -999,9,0856
  18SN20150920,   ARC,37,1, 7, 7,2,20151007,74.6982,-146.7038,3810, 710.4, 0.4201,34.8582,2,34.8594,2,295.2,2,295.8,2, 6.81,2,12.65,2,0.83,2,-999.0,9,-999.0,9, -999,9,0856
  18SN20150920,   ARC,37,1, 6, 6,2,20151007,74.6982,-146.7038,3810, 811.7, 0.2588,34.8629,2,34.8629,2,297.1,2,297.4,2, 6.98,2,12.58,2,0.84,2,-999.0,9,-999.0,9, -999,9,0856
  18SN20150920,   ARC,37,1, 5, 5,2,20151007,74.6982,-146.7038,3810,1015.0, 0.0126,34.8750,2,34.8771,2,298.7,2,298.8,2, 7.07,2,12.64,2,0.84,2,-999.0,9,-999.0,9, -999,9,0856
  18SN20150920,   ARC,37,1, 4, 4,2,20151007,74.6982,-146.7038,3810,1523.3,-0.3037,34.9098,2,34.9119,2,298.0,2,298.0,2, 8.39,2,13.22,2,0.89,2,-999.0,9,-999.0,9, -999,9,0856
  18SN20150920,   ARC,37,1, 3, 3,2,20151007,74.6982,-146.7038,3810,2032.7,-0.4025,34.9399,2,34.9421,2,291.1,2,291.2,2,10.93,2,14.08,2,0.96,2,-999.0,9,-999.0,9, -999,9,0856
  18SN20150920,   ARC,37,1, 2, 2,2,20151007,74.6982,-146.7038,3810,2543.4,-0.3754,34.9522,2,34.9537,2,286.5,2,286.4,2,12.48,2,14.40,2,0.98,2,-999.0,9,-999.0,9, -999,9,0856
  18SN20150920,   ARC,37,1, 1, 1,2,20151007,74.6982,-146.7038,3810,3052.8,-0.3262,34.9560,2,34.9559,2,284.0,2,284.0,2,13.24,2,14.50,2,0.98,2,-999.0,9,-999.0,9, -999,9,0856
  18SN20150920,   ARC,38,1,24,24,2,20151007,75.0003,-150.0008,3831,   6.0,-1.3474,26.1376,2,26.1389,2,386.9,2,386.0,2, 2.42,2,-0.09,2,0.50,2,1821.0,2,1893.8,2, -999,9,1631
  18SN20150920,   ARC,38,1,23,23,2,20151007,75.0003,-150.0008,3831,  20.7,-1.3463,26.1422,2,26.1516,2,387.3,2,386.2,2, 2.43,2,-0.12,2,0.50,2,1828.0,2,1901.9,2,-3.79,2,1631
  18SN20150920,   ARC,38,1,22,22,2,20151007,75.0003,-150.0008,3831,  41.4,-0.8039,27.9071,2,   -999,9,397.3,2, -999,9, 3.60,2, 0.10,2,0.64,2,2014.0,2,2128.2,2,-3.41,2,1631
  18SN20150920,   ARC,38,1,21,21,2,20151007,75.0003,-150.0008,3831,  78.9,-0.0456,31.2108,2,31.5621,2,361.2,2, -999,9,10.88,2, 4.53,2,1.09,2,2106.0,2,2202.6,2,-2.09,2,1631
  18SN20150920,   ARC,38,1,20,20,2,20151007,75.0003,-150.0008,3831, 100.1,-0.8008,31.8879,2,32.1639,2,324.5,2,312.1,2,19.90,2, 9.86,2,1.47,2,2143.4,2,2226.2,2,-1.75,2,1631
  18SN20150920,   ARC,38,1,19,19,2,20151007,75.0003,-150.0008,3831, 131.7,-1.2293,32.3500,2,32.3800,2,304.9,2,303.6,2,23.73,2,11.62,2,1.60,2,2165.5,2,2232.7,2,-1.66,2,1631
  18SN20150920,   ARC,38,1,18,18,2,20151007,75.0003,-150.0008,3831, 162.2,-1.3594,32.6450,2,32.7435,2,292.0,2,283.3,2,29.19,2,14.00,2,1.76,2,2202.1,2,2253.9,2,-1.55,2,1631
  18SN20150920,   ARC,38,1,17,17,2,20151007,75.0003,-150.0008,3831, 193.2,-1.4600,32.9361,2,33.0454,2,277.9,2,275.5,2,33.66,2,15.60,2,1.84,2,2222.6,2,2268.3,2,-1.46,2,1631
  18SN20150920,   ARC,38,1,16,16,2,20151007,75.0003,-150.0008,3831, 211.1,-1.4683,33.1382,2,33.2363,2,275.2,2,275.0,2,34.08,2,15.68,2,1.82,2,2229.6,2,2280.8,2,-1.41,2,1631
  18SN20150920,   ARC,38,1,15,15,2,20151007,75.0003,-150.0008,3831, 243.0,-1.2578,33.6629,2,33.6452,2,270.6,2,269.2,2,29.08,2,14.82,2,1.59,2,2225.0,2,2275.6,2,-1.11,2,1631
  18SN20150920,   ARC,38,1,14,14,2,20151007,75.0003,-150.0008,3831, 270.3,-0.7545,34.1524,2,34.1504,2,273.1,2,273.9,2,16.01,2,12.20,2,1.06,2,2189.4,2,2279.1,2,-0.46,2,1631
  18SN20150920,   ARC,38,1,13,13,2,20151007,75.0003,-150.0008,3831, 300.4,-0.2731,34.4213,2,34.4135,2,278.5,2,278.1,2,12.05,2,12.21,2,0.95,2,2174.5,2,2283.9,2,-0.17,2,1631
  18SN20150920,   ARC,38,1,12,12,2,20151007,75.0003,-150.0008,3831, 367.8, 0.4288,34.7133,2,34.7093,2,280.0,2,279.9,2, 9.62,2,12.82,2,0.90,2,2163.2,2,2292.0,2, 0.13,2,1631
  18SN20150920,   ARC,38,1,11,11,2,20151007,75.0003,-150.0008,3831, 418.5, 0.6520,34.7882,2,34.7883,2,285.8,2,285.8,2, 8.07,2,12.74,2,0.86,2,2159.3,2,2296.7,2, 0.17,2,1631
  18SN20150920,   ARC,38,1,10,10,2,20151007,75.0003,-150.0008,3831, 489.1, 0.7447,34.8278,2,34.8294,2,290.2,2,290.1,2, 7.32,2,12.70,2,0.84,2,2154.0,2,2294.5,2, 0.21,2,1631
  18SN20150920,   ARC,38,1, 9, 9,2,20151007,75.0003,-150.0008,3831, 507.3, 0.7106,34.8282,2,34.8291,2,290.1,2,289.6,2, 7.53,2,12.72,2,0.84,2,2154.0,2,2297.6,2, 0.20,2,1631
  18SN20150920,   ARC,38,1, 8, 8,2,20151007,75.0003,-150.0008,3831, 608.8, 0.5870,34.8481,2,34.8500,2,293.5,2,294.3,2, 7.02,2,12.59,2,0.83,2,2152.8,2,2295.0,2, 0.22,2,1631
  18SN20150920,   ARC,38,1, 7, 7,2,20151007,75.0003,-150.0008,3831, 709.8, 0.4255,34.8566,2,34.8575,2,295.3,2,295.5,2, 7.10,2,12.55,2,0.83,2,2155.0,2,2298.5,2, 0.20,2,1631
  18SN20150920,   ARC,38,1, 6, 6,2,20151007,75.0003,-150.0008,3831, 811.6, 0.2699,34.8620,2,34.8632,2,297.5,2,297.7,2, 6.96,2,12.49,2,0.83,2,2155.7,2,2300.7,2, 0.25,2,1631
  18SN20150920,   ARC,38,1, 5, 5,2,20151007,75.0003,-150.0008,3831,1014.7, 0.0174,34.8739,2,34.8751,2,298.9,2,299.5,2, 7.02,2,12.53,2,0.84,2,2155.2,2,2298.3,2, 0.24,2,1631
  18SN20150920,   ARC,38,1, 4, 4,2,20151007,75.0003,-150.0008,3831,1523.8,-0.3019,34.9092,2,34.9102,2,298.0,2,298.2,2, 8.38,2,13.15,2,0.88,2,2145.9,2,2300.2,2, 0.26,2,1631
  18SN20150920,   ARC,38,1, 3, 3,2,20151007,75.0003,-150.0008,3831,2032.7,-0.4022,34.9400,2,34.9400,2,291.0,2,291.1,2,10.94,2,14.00,2,0.95,2,2147.7,2,2295.3,2, 0.29,2,1631
  18SN20150920,   ARC,38,1, 2, 2,2,20151007,75.0003,-150.0008,3831,2543.4,-0.3758,34.9519,2,34.9518,2,286.4,2,286.6,2,12.42,2,14.35,2,0.98,2,2149.7,2,2305.2,2, 0.26,2,1631
  18SN20150920,   ARC,38,1, 1, 1,2,20151007,75.0003,-150.0008,3831,3056.1,-0.3259,34.9562,2,34.9556,2,283.4,2,283.6,2,13.21,2,14.42,2,0.98,2,2149.6,2,2302.6,2, 0.28,2,1631
  18SN20150920,   ARC,40,1,24,24,2,20151008,73.9968,-155.0423,3910,   5.6,-1.3637,25.3544,2,25.3557,2,387.5,2,387.4,2, 2.32,2,-0.06,2,0.47,2,1768.3,2,1826.2,2, -999,9,1153
  18SN20150920,   ARC,40,1,23,23,2,20151008,73.9968,-155.0423,3910,  20.7,-0.6587,27.4769,2,27.2844,2,388.8,2,399.2,2, 2.43,2,-0.09,2,0.52,2,1895.2,2,1969.3,2, -999,9,1153
  18SN20150920,   ARC,40,1,22,22,2,20151008,73.9968,-155.0423,3910,  41.3,-0.7330,28.9322,2,28.9619,2,393.6,2,396.5,2, 2.91,2,-0.08,2,0.58,2,1971.4,2,2069.0,2, -999,9,1153
  18SN20150920,   ARC,40,1,21,21,2,20151008,73.9968,-155.0423,3910,  72.7,-0.3698,31.5409,2,31.5337,2,346.8,2,346.4,2, 8.81,2, 3.93,2,1.03,2,2087.2,2,2193.6,2, -999,9,1153
  18SN20150920,   ARC,40,1,20,20,2,20151008,73.9968,-155.0423,3910,  91.5,-0.8135,31.8622,2,31.8529,2,325.6,2,326.2,2,12.89,2, 7.15,2,1.27,2,2115.4,2,2200.1,2, -999,9,1153
  18SN20150920,   ARC,40,1,19,19,2,20151008,73.9968,-155.0423,3910, 147.5,-1.6038,32.2902,2,32.2867,2,309.1,2,313.0,2,14.14,2, 9.36,2,1.41,2,2136.3,2,2215.2,2, -999,9,1153
  18SN20150920,   ARC,40,1,18,18,2,20151008,73.9968,-155.0423,3910, 177.1,-1.3774,32.6010,2,32.5953,2,292.9,2,293.7,2,26.56,2,13.02,2,1.70,2,2186.4,2,2239.4,2, -999,9,1153
  18SN20150920,   ARC,40,1,17,17,2,20151008,73.9968,-155.0423,3910, 199.0,-1.4359,32.8882,2,32.8838,2,279.4,2,279.1,2,31.07,2,14.92,2,1.82,2,2214.5,2,2252.0,2, -999,9,1153
  18SN20150920,   ARC,40,1,16,16,2,20151008,73.9968,-155.0423,3910, 215.4,-1.4647,33.1518,2,33.1563,2,278.2,2,278.2,2,32.06,2,15.12,2,1.78,2,2224.6,2,2266.9,2, -999,9,1153
  18SN20150920,   ARC,40,1,15,15,2,20151008,73.9968,-155.0423,3910, 241.9,-1.2302,33.6851,2,   -999,9,273.8,2,275.7,2,17.49,2,12.68,2,1.15,2,2190.9,2,2276.4,2, -999,9,1153
  18SN20150920,   ARC,40,1,14,14,2,20151008,73.9968,-155.0423,3910, 268.4,-0.7234,34.1864,2,34.2992,2,275.2,2,277.8,2,12.86,2,11.91,2,0.97,2,2180.7,2,2278.7,2, -999,9,1153
  18SN20150920,   ARC,40,1,13,13,2,20151008,73.9968,-155.0423,3910, 297.2,-0.2671,34.4380,2,34.4921,2,277.0,2,277.5,2,11.19,2,12.28,2,0.91,2,2174.7,2,2279.3,2, -999,9,1153
  18SN20150920,   ARC,40,1,12,12,2,20151008,73.9968,-155.0423,3910, 358.6, 0.4168,34.6976,2,34.6921,2,280.0,2,279.7,2, 9.60,2,12.80,2,0.90,2,2166.8,2,2280.8,2, -999,9,1153
  18SN20150920,   ARC,40,1,11,11,2,20151008,73.9968,-155.0423,3910, 409.2, 0.6692,34.7829,2,34.7807,2,286.8,2,287.0,2, 7.72,2,12.70,2,0.84,2,-999.0,9,-999.0,9, -999,9,1153
  18SN20150920,   ARC,40,1,10,10,2,20151008,73.9968,-155.0423,3910, 483.2, 0.7880,34.8297,2,34.8319,2,291.5,2,292.2,2, 6.79,2,12.64,2,0.82,2,-999.0,9,-999.0,9, -999,9,1153
  18SN20150920,   ARC,40,1, 9, 9,2,20151008,73.9968,-155.0423,3910, 507.3, 0.7516,34.8300,2,34.8325,2,290.8,2,291.0,2, 7.11,2,12.74,2,0.83,2,-999.0,9,-999.0,9, -999,9,1153
  18SN20150920,   ARC,40,1, 8, 8,2,20151008,73.9968,-155.0423,3910, 608.6, 0.6019,34.8487,2,34.8515,2,294.3,2,294.5,2, 6.81,2,12.68,2,0.83,2,-999.0,9,-999.0,9, -999,9,1153
  18SN20150920,   ARC,40,1, 7, 7,2,20151008,73.9968,-155.0423,3910, 710.0, 0.4388,34.8571,2,34.8571,2,295.8,2,296.2,2, 6.84,2,12.77,2,0.83,2,-999.0,9,-999.0,9, -999,9,1153
  18SN20150920,   ARC,40,1, 6, 6,2,20151008,73.9968,-155.0423,3910, 811.3, 0.2727,34.8619,2,34.8631,2,298.2,2,298.4,2, 6.65,2,12.62,2,0.82,2,-999.0,9,-999.0,9, -999,9,1153
  18SN20150920,   ARC,40,1, 5, 5,2,20151008,73.9968,-155.0423,3910,1014.5, 0.0160,34.8749,2,34.8773,2,299.2,2,299.1,2, 6.99,2,12.63,2,0.84,2,-999.0,9,-999.0,9, -999,9,1153
  18SN20150920,   ARC,40,1, 4, 4,2,20151008,73.9968,-155.0423,3910,1522.7,-0.3015,34.9091,2,34.9119,2,298.2,2,298.7,2, 8.31,2,13.32,2,0.89,2,-999.0,9,-999.0,9, -999,9,1153
  18SN20150920,   ARC,40,1, 3, 3,2,20151008,73.9968,-155.0423,3910,2032.3,-0.4024,34.9402,2,34.9413,2,291.0,2,291.5,2,10.98,2,14.16,2,0.96,2,-999.0,9,-999.0,9, -999,9,1153
  18SN20150920,   ARC,40,1, 2, 2,2,20151008,73.9968,-155.0423,3910,2543.2,-0.3739,34.9517,2,34.9538,2,286.4,2,286.6,2,12.46,2,14.45,2,0.98,2,-999.0,9,-999.0,9, -999,9,1153
  18SN20150920,   ARC,40,1, 1, 1,2,20151008,73.9968,-155.0423,3910,3054.4,-0.3267,34.9561,2,34.9514,2,284.2,2,284.3,2,13.06,2,14.42,2,0.99,2,-999.0,9,-999.0,9, -999,9,1153