BOTTLE,20240208CCHSIOVAJ
EXPOCODE,SECT_ID,STNNBR,CASTNO,SAMPNO,BTLNBR,BTLNBR_FLAG_W,DATE,LATITUDE,LONGITUDE,DEPTH,CTDPRS,CTDTMP,CTDSAL,CTDSAL_FLAG_W,SALNTY,SALNTY_FLAG_W,CTDOXY,CTDOXY_FLAG_W,OXYGEN,OXYGEN_FLAG_W,SILCAT,SILCAT_FLAG_W,NITRAT,NITRAT_FLAG_W,PHSPHT,PHSPHT_FLAG_W,TCARBN,TCARBN_FLAG_W,ALKALI,ALKALI_FLAG_W,DELO18,DELO18_FLAG_W,TIME
,,,,,,,,,,METERS,DBAR,ITS-90,PSS-78,,PSS-78,,UMOL/KG,,UMOL/KG,,UMOL/KG,,UMOL/KG,,UMOL/KG,,UMOL/KG,,UMOL/KG,,/MILLE,,
  18SN20150920,   ARC,32,1,24,24,2,20151005,75.2998,-153.2948,3754,   4.6,-1.3636,25.7783,2,25.7842,2,385.1,2,383.7,2, 2.40,2,-0.10,2,0.52,2,1798.7,2,1858.8,2,-3.78,2,1047
  18SN20150920,   ARC,32,1,22,22,2,20151005,75.2998,-153.2948,3754,  21.1,-1.3077,25.8571,2,26.1067,2,385.2,2,388.0,2, 2.44,2,-0.12,2,0.52,2,1823.3,2,1888.0,2,-3.79,2,1047
  18SN20150920,   ARC,32,1,21,21,2,20151005,75.2998,-153.2948,3754,  41.4,-0.6959,28.3237,2,28.6338,2,398.7,2,397.8,2, 2.77,2,-0.12,2,0.60,2,1965.5,2,2062.8,2,-3.64,2,1047
  18SN20150920,   ARC,32,1,19,19,2,20151005,75.2998,-153.2948,3754,  78.5,-0.0922,31.1642,2,31.1702,2,367.5,2,362.9,2, 6.38,2, 1.21,2,0.87,2,2061.1,2,2179.4,2,-2.41,2,1047
  18SN20150920,   ARC,32,1,18,18,2,20151005,75.2998,-153.2948,3754, 101.5,-0.8038,31.8962,2,31.8857,2,324.9,2,323.1,2,13.82,2, 7.48,2,1.30,2,2117.8,2,2210.4,2,-1.91,2,1047
  18SN20150920,   ARC,32,1,17,17,2,20151005,75.2998,-153.2948,3754, 131.5,-1.2205,32.3503,2,32.3389,2,305.7,2,306.0,2,22.92,2,11.26,2,1.58,2,2162.6,2,2235.2,2,-1.69,2,1047
  18SN20150920,   ARC,32,1,16,16,2,20151005,75.2998,-153.2948,3754, 160.6,-1.3594,32.6238,2,32.6311,2,292.0,2,291.6,2,27.43,2,13.22,2,1.72,2,2192.4,2,2239.3,2,-1.60,2,1047
  18SN20150920,   ARC,32,1,15,15,2,20151005,75.2998,-153.2948,3754, 189.0,-1.4451,32.8960,2,32.9657,2,278.4,2,278.1,2,33.19,2,15.35,2,1.85,2,2219.9,2,2263.7,2,-1.49,2,1047
  18SN20150920,   ARC,32,1,14,14,2,20151005,75.2998,-153.2948,3754, 207.3,-1.4901,33.1077,2,33.1249,2,276.0,2,275.5,2,34.22,2,15.73,2,1.85,2,2228.4,2,2273.1,2,-1.43,2,1047
  18SN20150920,   ARC,32,1,13,13,2,20151005,75.2998,-153.2948,3754, 237.5,-1.2956,33.6174,2,33.5980,2,271.3,2,270.2,2,29.74,2,14.79,2,1.63,2,2228.4,2,2282.2,2,-1.14,2,1047
  18SN20150920,   ARC,32,1,12,12,2,20151005,75.2998,-153.2948,3754, 264.2,-0.7868,34.1294,2,34.1446,2,273.8,2,275.1,2,16.62,2,12.41,2,1.11,2,2192.9,2,2277.8,2,-0.47,2,1047
  18SN20150920,   ARC,32,1,11,11,2,20151005,75.2998,-153.2948,3754, 296.6,-0.2585,34.4332,2,34.4264,2,278.6,2,278.1,2,11.73,2,12.04,2,0.95,2,2180.6,2,2283.0,2,-0.15,2,1047
  18SN20150920,   ARC,32,1,10,10,2,20151005,75.2998,-153.2948,3754, 366.5, 0.4637,34.7226,2,34.7238,2,278.9,2,279.0,2, 9.99,2,12.95,2,0.94,2,2167.3,2,2293.0,2, 0.08,2,1047
  18SN20150920,   ARC,32,1, 9, 9,2,20151005,75.2998,-153.2948,3754, 412.0, 0.6540,34.7850,2,34.7905,2,285.1,2,285.3,2, 8.21,2,12.75,2,0.89,2,-999.0,9,-999.0,9, -999,9,1047
  18SN20150920,   ARC,32,1, 8, 8,2,20151005,75.2998,-153.2948,3754, 486.4, 0.7557,34.8281,2,34.8307,2,290.2,2,290.4,2, 7.23,2,12.64,2,0.86,2,-999.0,9,-999.0,9, -999,9,1047
  18SN20150920,   ARC,32,1, 7, 7,2,20151005,75.2998,-153.2948,3754, 507.6, 0.7147,34.8279,2,34.8304,2,289.6,2,289.5,2, 7.64,2,12.72,2,0.87,2,-999.0,9,-999.0,9, -999,9,1047
  18SN20150920,   ARC,32,1, 6, 6,2,20151005,75.2998,-153.2948,3754, 608.9, 0.5801,34.8478,2,34.8495,2,293.4,2,293.7,2, 7.11,2,12.54,2,0.86,2,-999.0,9,-999.0,9, -999,9,1047
  18SN20150920,   ARC,32,1, 5, 5,2,20151005,75.2998,-153.2948,3754, 812.1, 0.2643,34.8622,2,34.8650,2,297.8,2,298.1,2, 6.91,2,12.48,2,0.85,2,-999.0,9,-999.0,9, -999,9,1047
  18SN20150920,   ARC,32,1, 4, 4,2,20151005,75.2998,-153.2948,3754,1014.5, 0.0148,34.8742,2,34.8758,2,299.2,2,299.5,2, 7.00,2,12.52,2,0.86,2,-999.0,9,-999.0,9, -999,9,1047
  18SN20150920,   ARC,32,1, 3, 3,2,20151005,75.2998,-153.2948,3754,1523.0,-0.2974,34.9087,2,34.9092,2,298.3,2,298.1,2, 8.36,2,13.13,2,0.91,2,-999.0,9,-999.0,9, -999,9,1047
  18SN20150920,   ARC,32,1, 2, 2,2,20151005,75.2998,-153.2948,3754,2032.5,-0.4015,34.9396,2,34.9397,2,291.4,2,291.3,2,10.92,2,14.01,2,0.97,2,-999.0,9,-999.0,9, -999,9,1047
  18SN20150920,   ARC,32,1, 1, 1,2,20151005,75.2998,-153.2948,3754,3053.8,-0.3263,34.9560,2,34.9549,2,284.0,2,284.1,2,13.27,2,14.38,2,1.00,2,-999.0,9,-999.0,9, -999,9,1047
  18SN20150920,   ARC,33,1,23,23,2,20151005,75.0028,-149.9598,3831,   6.0,-1.2121,25.8622,2,26.0040,2,382.4,2,388.0,2, 2.28,2,-0.09,2,0.52,2,-999.0,9,-999.0,9, -999,9,2221
  18SN20150920,   ARC,33,1,22,22,2,20151005,75.0028,-149.9598,3831,  21.2,-1.1283,26.0582,2,27.0349,2,387.4,2,396.0,2, 2.38,2,-0.12,2,0.55,2,-999.0,9,-999.0,9, -999,9,2221
  18SN20150920,   ARC,33,1,21,21,2,20151005,75.0028,-149.9598,3831,  31.2,-0.7461,27.5985,2,27.6645,2,396.4,2, -999,9, 2.44,2,-0.12,2,0.56,2,-999.0,9,-999.0,9, -999,9,2221
  18SN20150920,   ARC,33,1,20,20,2,20151005,75.0028,-149.9598,3831,  41.4,-0.8647,27.8523,2,28.0901,2,399.0,2, -999,9, 2.59,2,-0.13,2,0.57,2,-999.0,9,-999.0,9, -999,9,2221
  18SN20150920,   ARC,33,1,19,19,2,20151005,75.0028,-149.9598,3831,  51.5,-0.8438,28.5729,2,29.1770,2,385.6,2, -999,9, 3.13,2,-0.11,2,0.63,2,-999.0,9,-999.0,9, -999,9,2221
  18SN20150920,   ARC,33,1,18,18,2,20151005,75.0028,-149.9598,3831,  61.6,-0.2875,29.9683,2,30.4865,2,379.7,2,376.7,2, 4.30,2, 0.16,2,0.74,2,-999.0,9,-999.0,9, -999,9,2221
  18SN20150920,   ARC,33,1,17,17,2,20151005,75.0028,-149.9598,3831,  71.7, 0.1179,30.8454,2,31.1969,2,372.3,2, -999,9, 6.30,2, 1.31,2,0.87,2,-999.0,9,-999.0,9, -999,9,2221
  18SN20150920,   ARC,33,1,16,16,2,20151005,75.0028,-149.9598,3831,  81.8,-0.1772,31.3492,2,31.5527,2,356.2,2, -999,9, 9.33,2, 4.20,2,1.07,2,-999.0,9,-999.0,9, -999,9,2221
  18SN20150920,   ARC,33,1,15,15,2,20151005,75.0028,-149.9598,3831, 102.1,-0.8492,31.9573,2,32.1076,2,322.3,2, -999,9,18.12,2, 9.31,2,1.44,2,-999.0,9,-999.0,9, -999,9,2221
  18SN20150920,   ARC,33,1,14,14,2,20151005,75.0028,-149.9598,3831, 160.7,-1.3647,32.6533,2,32.6870,2,292.6,2,287.6,2,28.01,2,13.44,2,1.74,2,-999.0,9,-999.0,9, -999,9,2221
  18SN20150920,   ARC,33,1,13,13,2,20151005,75.0028,-149.9598,3831, 193.1,-1.4708,32.9584,2,33.0166,2,279.3,2, -999,9,33.91,2,15.57,2,1.86,2,-999.0,9,-999.0,9, -999,9,2221
  18SN20150920,   ARC,33,1,12,12,2,20151005,75.0028,-149.9598,3831, 211.4,-1.4878,33.1579,2,33.2353,2,276.5,2,275.0,2,34.22,2,15.57,2,1.82,2,-999.0,9,-999.0,9, -999,9,2221
  18SN20150920,   ARC,33,1,11,11,2,20151005,75.0028,-149.9598,3831, 243.6,-1.2472,33.7006,2,33.8136,2,270.5,2, -999,9,25.79,2,14.08,2,1.45,2,-999.0,9,-999.0,9, -999,9,2221
  18SN20150920,   ARC,33,1,10,10,2,20151005,75.0028,-149.9598,3831, 255.9,-1.0212,33.9523,2,34.0655,2,268.4,2, -999,9,19.08,2,12.66,2,1.19,2,-999.0,9,-999.0,9, -999,9,2221
  18SN20150920,   ARC,33,1, 9, 9,2,20151005,75.0028,-149.9598,3831, 267.9,-0.7791,34.1363,2,34.2012,2,273.3,2, -999,9,14.91,2,11.89,2,1.04,2,-999.0,9,-999.0,9, -999,9,2221
  18SN20150920,   ARC,33,1, 8, 8,2,20151005,75.0028,-149.9598,3831, 301.9,-0.2098,34.4499,2,34.4506,2,279.7,2, -999,9,11.14,2,11.84,2,0.93,2,-999.0,9,-999.0,9, -999,9,2221
  18SN20150920,   ARC,33,1, 7, 7,2,20151005,75.0028,-149.9598,3831, 311.2,-0.0899,34.5018,2,34.4980,2,279.5,2, -999,9,10.85,2,11.95,2,0.92,2,-999.0,9,-999.0,9, -999,9,2221
  18SN20150920,   ARC,33,1, 6, 6,2,20151005,75.0028,-149.9598,3831, 322.1, 0.0336,34.5562,2,34.5469,2,278.3,2, -999,9,11.14,2,12.33,2,0.95,2,-999.0,9,-999.0,9, -999,9,2221
  18SN20150920,   ARC,33,1, 5, 5,2,20151005,75.0028,-149.9598,3831, 368.5, 0.4511,34.7205,2,34.7138,2,280.2,2, -999,9, 9.83,2,12.68,2,0.92,2,-999.0,9,-999.0,9, -999,9,2221
  18SN20150920,   ARC,33,1, 4, 4,2,20151005,75.0028,-149.9598,3831, 416.3, 0.6310,34.7801,2,34.7807,2,285.7,2, -999,9, 7.99,2,12.51,2,0.88,2,-999.0,9,-999.0,9, -999,9,2221
  18SN20150920,   ARC,33,1, 3, 3,2,20151005,75.0028,-149.9598,3831, 494.1, 0.7302,34.8266,2,34.8280,2,289.6,2,289.3,2, 7.43,2,12.47,2,0.86,2,-999.0,9,-999.0,9, -999,9,2221
  18SN20150920,   ARC,33,1, 2, 2,2,20151005,75.0028,-149.9598,3831, 508.5, 0.7007,34.8275,2,34.8285,2,289.1,2, -999,9, 7.68,2,12.56,2,0.87,2,-999.0,9,-999.0,9, -999,9,2221
  18SN20150920,   ARC,33,1, 1, 1,2,20151005,75.0028,-149.9598,3831, 607.2, 0.5970,34.8473,2,34.8466,2,293.4,2,292.8,2, 7.22,2,12.42,2,0.86,2,-999.0,9,-999.0,9, -999,9,2221
  18SN20150920,   ARC,34,1,24,24,2,20151006,76.0003,-149.9968,3823,   5.8,-1.3501,26.5356,2,   -999,9,387.5,2,391.3,2, 2.65,2,-0.04,2,0.53,2,1906.4,2,1986.7,2, -999,9,0331
  18SN20150920,   ARC,34,1,23,23,2,20151006,76.0003,-149.9968,3823,  21.2,-1.3441,26.5391,2,   -999,9,386.6,2,392.7,2, 2.79,2,-0.09,2,0.55,2,1974.6,2,2074.3,2,-3.58,2,0331
  18SN20150920,   ARC,34,1,22,22,2,20151006,76.0003,-149.9968,3823,  41.4,-0.8150,29.1944,2,29.7612,2,392.7,2,389.2,2, 3.18,2,-0.07,2,0.62,2,2010.5,2,2123.5,2,-3.24,2,0331
  18SN20150920,   ARC,34,1,21,21,2,20151006,76.0003,-149.9968,3823,  64.6,-0.0027,31.0086,2,30.9886,2,367.7,2,368.5,2, 5.67,2, 0.62,2,0.79,2,2048.7,2,2174.1,2,-2.47,2,0331
  18SN20150920,   ARC,34,1,20,20,2,20151006,76.0003,-149.9968,3823,  92.0,-0.8050,31.8740,2,31.8454,2,323.9,2,325.3,2,14.71,2, 7.45,2,1.27,2,2115.5,2,2206.3,2,-1.91,2,0331
  18SN20150920,   ARC,34,1,19,19,2,20151006,76.0003,-149.9968,3823, 123.3,-1.2046,32.3134,2,32.3405,2,305.7,2,305.3,2,23.02,2,11.37,2,1.58,2,2164.3,2,2230.3,2,-1.68,2,0331
  18SN20150920,   ARC,34,1,18,18,2,20151006,76.0003,-149.9968,3823, 155.6,-1.3649,32.6162,2,32.6185,2,293.4,2,293.6,2,27.44,2,13.27,2,1.70,2,2190.6,2,2244.2,2,-1.63,2,0331
  18SN20150920,   ARC,34,1,17,17,2,20151006,76.0003,-149.9968,3823, 187.0,-1.4475,32.9265,2,32.9301,2,279.1,2,279.1,2,32.69,2,15.31,2,1.83,2,2218.4,2,2260.8,2,-1.56,2,0331
  18SN20150920,   ARC,34,1,16,16,2,20151006,76.0003,-149.9968,3823, 206.2,-1.4715,33.1518,2,   -999,9,275.3,2,274.5,2,34.78,2,16.02,2,1.86,2,2228.9,2,2271.6,2,-1.45,2,0331
  18SN20150920,   ARC,34,1,15,15,2,20151006,76.0003,-149.9968,3823, 236.6,-1.2359,33.7022,2,   -999,9,270.3,2,268.4,2,28.33,2,14.86,2,1.56,2,2223.7,2,2286.1,2,-1.05,2,0331
  18SN20150920,   ARC,34,1,14,14,2,20151006,76.0003,-149.9968,3823, 260.9,-0.7830,34.1427,2,34.1328,2,273.6,2,273.4,2,16.85,2,12.61,2,1.09,2,2193.3,2,2277.8,2,-0.51,2,0331
  18SN20150920,   ARC,34,1,13,13,2,20151006,76.0003,-149.9968,3823, 292.3,-0.2383,34.4308,2,34.4248,2,280.6,2,280.2,2,10.68,2,11.89,2,0.88,2,2173.9,2,2279.2,2,-0.16,2,0331
  18SN20150920,   ARC,34,1,12,12,2,20151006,76.0003,-149.9968,3823, 363.5, 0.4665,34.7280,2,34.7274,2,281.2,2,281.3,2, 9.08,2,12.74,2,0.88,2,2164.1,2,2301.5,2, 0.10,2,0331
  18SN20150920,   ARC,34,1,11,11,2,20151006,76.0003,-149.9968,3823, 412.2, 0.6492,34.7882,2,34.7903,2,286.8,2,286.6,2, 7.76,2,12.76,2,0.85,2,-999.0,9,-999.0,9, -999,9,0331
  18SN20150920,   ARC,34,1,10,10,2,20151006,76.0003,-149.9968,3823, 481.9, 0.7477,34.8284,2,34.8301,2,290.5,2,290.7,2, 7.07,2,12.72,2,0.83,2,-999.0,9,-999.0,9, -999,9,0331
  18SN20150920,   ARC,34,1, 9, 9,2,20151006,76.0003,-149.9968,3823, 508.6, 0.7120,34.8294,2,34.8313,2,290.1,2,289.9,2, 7.45,2,12.81,2,0.84,2,-999.0,9,-999.0,9, -999,9,0331
  18SN20150920,   ARC,34,1, 8, 8,2,20151006,76.0003,-149.9968,3823, 609.6, 0.5695,34.8479,2,34.8492,2,293.6,2,293.9,2, 6.99,2,12.80,2,0.84,2,-999.0,9,-999.0,9, -999,9,0331
  18SN20150920,   ARC,34,1, 7, 7,2,20151006,76.0003,-149.9968,3823, 711.3, 0.4208,34.8574,2,34.8591,2,295.2,2,295.3,2, 7.01,2,12.73,2,0.84,2,-999.0,9,-999.0,9, -999,9,0331
  18SN20150920,   ARC,34,1, 6, 6,2,20151006,76.0003,-149.9968,3823, 812.6, 0.2693,34.8625,2,34.8648,2,297.1,2,297.2,2, 6.96,2,12.72,2,0.84,2,-999.0,9,-999.0,9, -999,9,0331
  18SN20150920,   ARC,34,1, 5, 5,2,20151006,76.0003,-149.9968,3823,1015.6, 0.0229,34.8746,2,34.8768,2,298.9,2,298.9,2, 7.10,2,12.71,2,0.84,2,-999.0,9,-999.0,9, -999,9,0331
  18SN20150920,   ARC,34,1, 4, 4,2,20151006,76.0003,-149.9968,3823,1524.1,-0.2942,34.9092,2,34.9109,2,298.1,2,298.2,2, 8.38,2,13.29,2,0.89,2,-999.0,9,-999.0,9, -999,9,0331
  18SN20150920,   ARC,34,1, 3, 3,2,20151006,76.0003,-149.9968,3823,2033.5,-0.4022,34.9399,2,34.9401,2,291.3,2,291.8,2,10.91,2,14.13,2,0.96,2,-999.0,9,-999.0,9, -999,9,0331
  18SN20150920,   ARC,34,1, 2, 2,2,20151006,76.0003,-149.9968,3823,2544.1,-0.3766,34.9521,2,34.9520,2,286.4,2,286.7,2,12.43,2,14.49,2,0.98,2,-999.0,9,-999.0,9, -999,9,0331
  18SN20150920,   ARC,34,1, 1, 1,2,20151006,76.0003,-149.9968,3823,3056.0,-0.3264,34.9564,2,34.9538,2,283.7,2,283.8,2,13.26,2,14.46,2,0.98,2,-999.0,9,-999.0,9, -999,9,0331
  18SN20150920,   ARC,35,1,24,24,2,20151006,76.9903,-149.9818,3826,   4.6,-1.4577,27.1988,2,27.2027,2,389.0,2,387.1,2, 2.69,2,-0.04,2,0.53,2,1887.1,2,1965.9,2,-3.74,2,1159
  18SN20150920,   ARC,35,1,22,22,2,20151006,76.9903,-149.9818,3826,  20.7,-0.6782,28.2588,2,28.3039,2,392.2,2,394.2,2, 2.89,2,-0.08,2,0.55,2,1972.1,2,2067.0,2,-3.73,2,1159
  18SN20150920,   ARC,35,1,21,21,2,20151006,76.9903,-149.9818,3826,  41.2,-0.6991,29.6173,2,29.6311,2,392.2,2,389.8,2, 3.11,2,-0.09,2,0.61,2,2011.6,2,2120.6,2,-3.27,2,1159
  18SN20150920,   ARC,35,1,19,19,2,20151006,76.9903,-149.9818,3826,  60.4,-0.1250,30.8852,2,30.8091,2,363.0,2,374.4,2, 5.09,2, 0.34,2,0.76,2,2046.9,2,2172.9,2,-2.62,2,1159
  18SN20150920,   ARC,35,1,18,18,2,20151006,76.9903,-149.9818,3826,  90.4,-0.7188,31.7802,2,31.7687,2,324.9,2,329.0,2,13.77,2, 6.78,2,1.22,2,2111.9,2,2203.2,2,-1.89,2,1159
  18SN20150920,   ARC,35,1,17,17,2,20151006,76.9903,-149.9818,3826, 127.5,-1.1712,32.2660,2,32.2666,2,311.5,2,309.6,2,21.75,2,10.72,2,1.52,2,2156.1,2,2225.9,2,-1.68,2,1159
  18SN20150920,   ARC,35,1,16,16,2,20151006,76.9903,-149.9818,3826, 159.7,-1.3532,32.5829,2,32.5801,2,293.5,2,295.7,2,26.86,2,12.91,2,1.68,2,2187.8,2,2247.2,2,-1.59,2,1159
  18SN20150920,   ARC,35,1,15,15,2,20151006,76.9903,-149.9818,3826, 196.2,-1.4579,32.9283,2,32.9197,2,280.0,2,279.4,2,32.75,2,15.17,2,1.83,2,2219.6,2,2266.4,2,-1.46,2,1159
  18SN20150920,   ARC,35,1,14,14,2,20151006,76.9903,-149.9818,3826, 216.4,-1.4512,33.1386,2,33.1237,2,276.6,2,273.7,2,34.93,2,15.79,2,1.85,2,2231.9,2,2276.9,2,-1.44,2,1159
  18SN20150920,   ARC,35,1,13,13,2,20151006,76.9903,-149.9818,3826, 247.4,-1.2047,33.7198,2,33.6937,2,270.0,2,269.1,2,27.88,2,14.66,2,1.54,2,2222.8,2,2281.8,2,-1.02,2,1159
  18SN20150920,   ARC,35,1,12,12,2,20151006,76.9903,-149.9818,3826, 270.8,-0.7391,34.1710,2,34.1622,2,272.6,2,273.3,2,16.17,2,12.36,2,1.06,2,2190.5,2,2277.9,2,-0.43,2,1159
  18SN20150920,   ARC,35,1,11,11,2,20151006,76.9903,-149.9818,3826, 294.7,-0.3637,34.4029,2,34.3963,2,273.9,2,272.3,2,14.24,2,12.65,2,1.00,2,2183.6,2,2281.9,2,-0.13,2,1159
  18SN20150920,   ARC,35,1,10,10,2,20151006,76.9903,-149.9818,3826, 363.4, 0.4982,34.7231,2,34.7221,2,282.1,2,281.1,2, 8.85,2,12.70,2,0.86,2,2165.2,2,2292.2,2, 0.14,2,1159
  18SN20150920,   ARC,35,1, 9, 9,2,20151006,76.9903,-149.9818,3826, 412.0, 0.7092,34.7895,2,34.7838,2,288.1,2,287.5,2, 7.46,2,12.60,2,0.83,2,-999.0,9,-999.0,9, -999,9,1159
  18SN20150920,   ARC,35,1, 8, 8,2,20151006,76.9903,-149.9818,3826, 480.0, 0.7979,34.8297,2,34.8316,2,292.3,2,293.8,2, 6.49,2,12.42,2,0.81,2,-999.0,9,-999.0,9, -999,9,1159
  18SN20150920,   ARC,35,1, 7, 7,2,20151006,76.9903,-149.9818,3826, 507.8, 0.7652,34.8298,2,34.8339,2,291.5,2,292.2,2, 6.90,2,12.63,2,0.83,2,-999.0,9,-999.0,9, -999,9,1159
  18SN20150920,   ARC,35,1, 6, 6,2,20151006,76.9903,-149.9818,3826, 609.3, 0.6226,34.8498,2,34.8515,2,294.9,2,295.5,2, 6.64,2,12.56,2,0.82,2,-999.0,9,-999.0,9, -999,9,1159
  18SN20150920,   ARC,35,1, 5, 5,2,20151006,76.9903,-149.9818,3826, 812.3, 0.2803,34.8621,2,34.8632,2,297.0,2,297.7,2, 6.86,2,12.63,2,0.83,2,-999.0,9,-999.0,9, -999,9,1159
  18SN20150920,   ARC,35,1, 4, 4,2,20151006,76.9903,-149.9818,3826,1014.8, 0.0167,34.8738,2,34.8747,2,300.2,2,300.5,2, 6.85,2,12.62,2,0.84,2,-999.0,9,-999.0,9, -999,9,1159
  18SN20150920,   ARC,35,1, 3, 3,2,20151006,76.9903,-149.9818,3826,1523.1,-0.2910,34.9100,2,34.9118,2,297.8,2,299.8,2, 8.33,2,13.25,2,0.89,2,-999.0,9,-999.0,9, -999,9,1159
  18SN20150920,   ARC,35,1, 2, 2,2,20151006,76.9903,-149.9818,3826,2032.9,-0.4025,34.9403,2,34.9404,2,291.4,2,291.8,2,10.84,2,14.09,2,0.96,2,-999.0,9,-999.0,9, -999,9,1159
  18SN20150920,   ARC,35,1, 1, 1,2,20151006,76.9903,-149.9818,3826,3055.7,-0.3264,34.9563,2,34.9557,2,283.4,2,284.4,2,13.17,2,14.49,2,0.98,2,-999.0,9,-999.0,9, -999,9,1159