BOTTLE,20240208CCHSIOVAJ
EXPOCODE,SECT_ID,STNNBR,CASTNO,SAMPNO,BTLNBR,BTLNBR_FLAG_W,DATE,LATITUDE,LONGITUDE,DEPTH,CTDPRS,CTDTMP,CTDSAL,CTDSAL_FLAG_W,SALNTY,SALNTY_FLAG_W,CTDOXY,CTDOXY_FLAG_W,OXYGEN,OXYGEN_FLAG_W,SILCAT,SILCAT_FLAG_W,NITRAT,NITRAT_FLAG_W,PHSPHT,PHSPHT_FLAG_W,TCARBN,TCARBN_FLAG_W,ALKALI,ALKALI_FLAG_W,DELO18,DELO18_FLAG_W,TIME
,,,,,,,,,,METERS,DBAR,ITS-90,PSS-78,,PSS-78,,UMOL/KG,,UMOL/KG,,UMOL/KG,,UMOL/KG,,UMOL/KG,,UMOL/KG,,UMOL/KG,,/MILLE,,
  18SN20150920,   ARC,13,1,24,24,2,20150926,76.2853,-132.6018,3264,   4.7,-1.4168,26.8969,2,27.0821,2,382.6,2,383.3,2, 2.65,2,-0.09,2,0.54,2,1872.2,2,1954.6,2, -999,9,0736
  18SN20150920,   ARC,13,1,23,23,2,20150926,76.2853,-132.6018,3264,  28.2,-0.9545,28.5207,2,28.8482,2,395.4,2,395.6,2, 2.93,2,-0.11,2,0.58,2,1977.5,2,2076.8,2, -999,9,0736
  18SN20150920,   ARC,13,1,22,22,2,20150926,76.2853,-132.6018,3264,  41.2,-0.9642,29.2864,2,30.3438,2,388.9,2,380.6,2, 3.73,2,-0.03,2,0.64,2,2027.9,2,2146.3,2, -999,9,0736
  18SN20150920,   ARC,13,1,21,21,2,20150926,76.2853,-132.6018,3264,  57.5,-0.1106,31.1786,2,31.2270,2,350.8,2,356.2,2, 7.69,2, 1.72,2,0.85,2,2066.2,2,2186.4,2, -999,9,0736
  18SN20150920,   ARC,13,1,20,20,2,20150926,76.2853,-132.6018,3264,  77.8,-0.8713,31.9165,2,31.9078,2,322.3,2,319.4,2,15.16,2, 7.88,2,1.29,2,2122.6,2,2207.6,2, -999,9,0736
  18SN20150920,   ARC,13,1,19,19,2,20150926,76.2853,-132.6018,3264, 107.1,-1.2077,32.3913,2,32.3861,2,304.1,2,303.2,2,23.21,2,11.34,2,1.57,2,2165.3,2,2228.7,2, -999,9,0736
  18SN20150920,   ARC,13,1,18,18,2,20150926,76.2853,-132.6018,3264, 132.5,-1.3340,32.6927,2,32.6988,2,290.8,2,286.0,2,29.54,2,13.91,2,1.76,2,2203.1,2,2247.1,2, -999,9,0736
  18SN20150920,   ARC,13,1,17,17,2,20150926,76.2853,-132.6018,3264, 157.7,-1.4012,32.9685,2,32.9664,2,274.1,2,272.6,2,34.36,2,15.77,2,1.86,2,2226.1,2,2260.9,2, -999,9,0736
  18SN20150920,   ARC,13,1,16,16,2,20150926,76.2853,-132.6018,3264, 171.3,-1.3971,33.1688,2,33.1550,2,269.0,2,266.0,2,35.86,2,16.11,2,1.87,2,2236.9,2,2270.0,2, -999,9,0736
  18SN20150920,   ARC,13,1,15,15,2,20150926,76.2853,-132.6018,3264, 193.9,-1.1740,33.7470,2,33.7463,2,264.8,2,265.2,2,27.06,2,14.38,2,1.48,2,2222.1,2,2276.4,2, -999,9,0736
  18SN20150920,   ARC,13,1,14,14,2,20150926,76.2853,-132.6018,3264, 215.3,-0.8108,34.1309,2,34.1139,2,264.0,2,263.8,2,20.24,2,12.90,2,1.17,2,2203.8,2,2281.8,2, -999,9,0736
  18SN20150920,   ARC,13,1,13,13,2,20150926,76.2853,-132.6018,3264, 245.7,-0.2901,34.4086,2,34.4014,2,278.5,2,279.6,2,11.14,2,11.49,2,0.88,2,2180.3,2,2278.4,2, -999,9,0736
  18SN20150920,   ARC,13,1,12,12,2,20150926,76.2853,-132.6018,3264, 317.7, 0.4429,34.7294,2,34.7300,2,287.6,2,288.6,2, 7.24,2,12.14,2,0.81,2,2162.0,2,2286.9,2, -999,9,0736
  18SN20150920,   ARC,13,1,11,11,2,20150926,76.2853,-132.6018,3264, 360.6, 0.5946,34.7893,2,34.7927,2,290.4,2,291.1,2, 6.72,2,12.34,2,0.81,2,-999.0,9,-999.0,9, -999,9,0736
  18SN20150920,   ARC,13,1,10,10,2,20150926,76.2853,-132.6018,3264, 473.8, 0.7056,34.8477,2,34.8513,2,295.0,2,295.6,2, 6.39,2,12.44,2,0.81,2,-999.0,9,-999.0,9, -999,9,0736
  18SN20150920,   ARC,13,1, 9, 9,2,20150926,76.2853,-132.6018,3264, 507.9, 0.6211,34.8474,2,34.8513,2,294.4,2,295.1,2, 6.60,2,12.54,2,0.82,2,-999.0,9,-999.0,9, -999,9,0736
  18SN20150920,   ARC,13,1, 8, 8,2,20150926,76.2853,-132.6018,3264, 609.4, 0.4542,34.8579,2,34.8616,2,294.1,2,294.7,2, 6.85,2,12.66,2,0.84,2,-999.0,9,-999.0,9, -999,9,0736
  18SN20150920,   ARC,13,1, 7, 7,2,20150926,76.2853,-132.6018,3264, 710.6, 0.3121,34.8638,2,34.8673,2,296.0,2,296.8,2, 6.77,2,12.61,2,0.84,2,-999.0,9,-999.0,9, -999,9,0736
  18SN20150920,   ARC,13,1, 6, 6,2,20150926,76.2853,-132.6018,3264, 812.0, 0.1688,34.8707,2,34.8741,2,297.3,2,297.4,2, 6.88,2,12.64,2,0.84,2,-999.0,9,-999.0,9, -999,9,0736
  18SN20150920,   ARC,13,1, 5, 5,2,20150926,76.2853,-132.6018,3264,1015.0,-0.0328,34.8840,2,34.8870,2,298.4,2,298.4,2, 7.21,2,12.76,2,0.86,2,-999.0,9,-999.0,9, -999,9,0736
  18SN20150920,   ARC,13,1, 4, 4,2,20150926,76.2853,-132.6018,3264,1522.8,-0.3201,34.9182,2,34.9183,2,297.4,2,297.8,2, 8.66,2,13.36,2,0.91,2,-999.0,9,-999.0,9, -999,9,0736
  18SN20150920,   ARC,13,1, 3, 3,2,20150926,76.2853,-132.6018,3264,2032.5,-0.4095,34.9424,2,34.9445,2,290.5,2,290.5,2,11.38,2,14.13,2,0.97,2,-999.0,9,-999.0,9, -999,9,0736
  18SN20150920,   ARC,13,1, 2, 2,2,20150926,76.2853,-132.6018,3264,2543.2,-0.3720,34.9538,2,34.9540,2,284.8,2,284.4,2,13.34,2,14.49,2,0.99,2,-999.0,9,-999.0,9, -999,9,0736
  18SN20150920,   ARC,13,1, 1, 1,2,20150926,76.2853,-132.6018,3264,3054.7,-0.3240,34.9555,2,34.9575,2,283.5,2,283.2,2,13.47,2,14.51,2,1.00,2,-999.0,9,-999.0,9, -999,9,0736
  18SN20150920,   ARC,17,1,24,24,2,20150927,76.9948,-139.9555,3755,   5.7,-1.4480,26.9679,2,27.0194,2,386.2,2,386.6,2, 3.02,2,-0.04,2,0.53,2,1873.9,2,1943.0,2,-3.56,2,0456
  18SN20150920,   ARC,17,1,23,23,2,20150927,76.9948,-139.9555,3755,  20.6,-1.0383,28.6749,2,28.7636,2,391.4,2,394.7,2, 3.19,2,-0.08,2,0.58,2,1970.6,2,2065.7,2,-3.50,2,0456
  18SN20150920,   ARC,17,1,22,22,2,20150927,76.9948,-139.9555,3755,  41.5,-0.0737,30.7245,2,30.9381,2,385.8,2,353.6,2, 7.95,2, 2.03,2,0.86,2,2071.4,2,2179.7,2,-2.22,2,0456
  18SN20150920,   ARC,17,1,21,21,2,20150927,76.9948,-139.9555,3755,  62.8,-0.6581,31.1587,2,31.2882,2,339.6,2,342.4,2, 8.98,2, 4.08,2,0.98,2,2089.1,2,2187.0,2,-2.10,2,0456
  18SN20150920,   ARC,17,1,20,20,2,20150927,76.9948,-139.9555,3755,  94.0,-0.8582,31.8929,2,31.8928,2,322.6,2,321.4,2,16.17,2, 7.96,2,1.30,2,2127.0,2,2212.9,2,-1.85,2,0456
  18SN20150920,   ARC,17,1,19,19,2,20150927,76.9948,-139.9555,3755, 117.1,-1.2371,32.3428,2,32.3375,2,306.5,2,306.4,2,23.48,2,11.29,2,1.56,2,2165.9,2,2231.6,2,-1.67,2,0456
  18SN20150920,   ARC,17,1,18,18,2,20150927,76.9948,-139.9555,3755, 142.6,-1.3685,32.6590,2,32.6546,2,293.1,2,290.9,2,28.27,2,13.41,2,1.71,2,2198.0,2,2247.9,2,-1.62,2,0456
  18SN20150920,   ARC,17,1,17,17,2,20150927,76.9948,-139.9555,3755, 171.9,-1.4317,32.9477,2,32.9641,2,275.7,2,274.2,2,34.00,2,15.38,2,1.85,2,2225.8,2,2263.2,2,-1.50,2,0456
  18SN20150920,   ARC,17,1,16,16,2,20150927,76.9948,-139.9555,3755, 190.0,-1.4186,33.1846,2,33.2218,2,270.2,2,267.7,2,35.99,2,15.83,2,1.86,2,2241.8,2,2275.1,2,-1.41,2,0456
  18SN20150920,   ARC,17,1,15,15,2,20150927,76.9948,-139.9555,3755, 212.4,-1.1955,33.7082,2,33.7199,2,267.6,2,266.4,2,27.82,2,14.65,2,1.53,2,2223.7,2,2284.0,2,-1.01,2,0456
  18SN20150920,   ARC,17,1,14,14,2,20150927,76.9948,-139.9555,3755, 235.6,-0.7674,34.1672,2,34.1601,2,265.6,2,265.7,2,19.32,2,12.96,2,1.17,2,2202.4,2,2282.2,2,-0.46,2,0456
  18SN20150920,   ARC,17,1,13,13,2,20150927,76.9948,-139.9555,3755, 269.4,-0.2274,34.4486,2,34.4490,2,276.1,2,276.6,2,11.74,2,11.84,2,0.91,2,2180.5,2,2286.0,2,-0.12,2,0456
  18SN20150920,   ARC,17,1,12,12,2,20150927,76.9948,-139.9555,3755, 331.2, 0.4375,34.7109,2,34.7060,2,285.1,2,284.8,2, 8.23,2,12.27,2,0.84,2,2165.9,2,2293.9,2, 0.09,2,0456
  18SN20150920,   ARC,17,1,11,11,2,20150927,76.9948,-139.9555,3755, 374.5, 0.6578,34.7812,2,34.7828,2,289.9,2,289.7,2, 6.96,2,12.36,2,0.82,2,2159.9,2,2291.4,2, 0.15,2,0456
  18SN20150920,   ARC,17,1,10,10,2,20150927,76.9948,-139.9555,3755, 471.8, 0.8162,34.8347,2,34.8378,2,293.2,2,293.5,2, 6.61,2,12.44,2,0.82,2,2156.4,2,2295.7,2, 0.19,2,0456
  18SN20150920,   ARC,17,1, 9, 9,2,20150927,76.9948,-139.9555,3755, 508.4, 0.8053,34.8452,2,34.8481,2,295.1,2,295.7,2, 6.45,2,12.36,2,0.82,2,2160.3,2,2293.3,2, 0.19,2,0456
  18SN20150920,   ARC,17,1, 8, 8,2,20150927,76.9948,-139.9555,3755, 609.7, 0.5746,34.8498,2,34.8540,2,295.6,2,295.3,2, 6.69,2,12.53,2,0.83,2,2156.2,2,2295.4,2, 0.20,2,0456
  18SN20150920,   ARC,17,1, 7, 7,2,20150927,76.9948,-139.9555,3755, 711.2, 0.4092,34.8592,2,34.8615,2,296.4,2,296.9,2, 6.69,2,12.54,2,0.83,2,2154.7,2,2298.5,2, 0.18,2,0456
  18SN20150920,   ARC,17,1, 6, 6,2,20150927,76.9948,-139.9555,3755, 812.5, 0.2350,34.8633,2,34.8678,2,298.2,2,299.0,2, 6.68,2,12.51,2,0.84,2,2157.4,2,2295.9,2, 0.20,2,0456
  18SN20150920,   ARC,17,1, 5, 5,2,20150927,76.9948,-139.9555,3755,1015.4,-0.0091,34.8757,2,34.8788,2,299.3,2,299.3,2, 6.94,2,12.60,2,0.85,2,2156.2,2,2298.5,2, 0.19,2,0456
  18SN20150920,   ARC,17,1, 4, 4,2,20150927,76.9948,-139.9555,3755,1523.7,-0.2993,34.9136,2,34.9128,2,297.6,2,297.7,2, 8.48,2,13.26,2,0.91,2,2149.3,2,2298.8,2, 0.19,2,0456
  18SN20150920,   ARC,17,1, 3, 3,2,20150927,76.9948,-139.9555,3755,2033.6,-0.4065,34.9412,2,34.9433,2,291.2,2,291.6,2,10.93,2,14.04,2,0.97,2,2150.0,2,2301.5,2, 0.25,2,0456
  18SN20150920,   ARC,17,1, 2, 2,2,20150927,76.9948,-139.9555,3755,2544.0,-0.3796,34.9523,2,34.9539,2,286.6,2,287.2,2,12.47,2,14.35,2,0.99,2,2149.7,2,2300.1,2, 0.28,2,0456
  18SN20150920,   ARC,17,1, 1, 1,2,20150927,76.9948,-139.9555,3755,3055.2,-0.3266,34.9559,2,34.9512,2,284.0,2,283.8,2,13.32,2,14.43,2,1.00,2,2152.2,2,2303.2,2, 0.27,2,0456
  18SN20150920,   ARC,18,1,24,24,2,20150927,78.0028,-139.9885,3749,   5.5,-1.4673,27.1085,2,27.1392,2,385.5,2,385.2,2, 3.04,2,-0.03,2,0.55,2,1871.2,2,1946.2,2,-3.53,2,1400
  18SN20150920,   ARC,18,1,22,22,2,20150927,78.0028,-139.9885,3749,  21.3,-1.0140,28.7714,2,28.7103,2,394.8,2,395.3,2, 3.15,2,-0.07,2,0.59,2,1969.0,2,2066.2,2,-3.48,2,1400
  18SN20150920,   ARC,18,1,21,21,2,20150927,78.0028,-139.9885,3749,  41.5,-0.4921,30.3066,2,30.6859,2,392.8,2,380.5,2, 5.17,2, 0.58,2,0.77,2,2043.1,2,2162.6,2,-2.72,2,1400
  18SN20150920,   ARC,18,1,19,19,2,20150927,78.0028,-139.9885,3749,  53.8,-0.2178,31.2042,2,31.1995,2,357.7,2,357.5,2, 7.70,2, 1.88,2,0.89,2,2068.6,2,2181.9,2,-2.26,2,1400
  18SN20150920,   ARC,18,1,18,18,2,20150927,78.0028,-139.9885,3749,  75.9,-0.9158,31.9448,2,31.9577,2,323.5,2,318.8,2,17.30,2, 8.45,2,1.36,2,2133.1,2,2212.6,2,-1.84,2,1400
  18SN20150920,   ARC,18,1,17,17,2,20150927,78.0028,-139.9885,3749, 102.4,-1.2742,32.3335,2,32.3453,2,307.1,2,306.7,2,24.26,2,11.40,2,1.58,2,2167.5,2,2231.4,2,-1.71,2,1400
  18SN20150920,   ARC,18,1,16,16,2,20150927,78.0028,-139.9885,3749, 132.8,-1.3841,32.6462,2,32.6512,2,294.5,2,293.0,2,28.22,2,13.38,2,1.72,2,2198.1,2,2247.7,2,-1.59,2,1400
  18SN20150920,   ARC,18,1,15,15,2,20150927,78.0028,-139.9885,3749, 164.6,-1.4392,32.9500,2,32.9566,2,276.8,2,276.7,2,33.65,2,15.37,2,1.86,2,2226.7,2,2263.3,2,-1.47,2,1400
  18SN20150920,   ARC,18,1,14,14,2,20150927,78.0028,-139.9885,3749, 181.3,-1.4398,33.1365,2,33.1371,2,272.2,2,271.2,2,35.40,2,15.81,2,1.88,2,2238.2,2,2272.1,2,-1.45,2,1400
  18SN20150920,   ARC,18,1,13,13,2,20150927,78.0028,-139.9885,3749, 209.1,-1.1783,33.7215,2,33.7201,2,266.3,2,265.6,2,27.36,2,14.46,2,1.52,2,2225.2,2,2282.4,2,-0.95,2,1400
  18SN20150920,   ARC,18,1,12,12,2,20150927,78.0028,-139.9885,3749, 229.0,-0.8099,34.1549,2,34.1449,2,268.2,2,268.7,2,18.81,2,12.79,2,1.16,2,2202.6,2,2276.9,2,-0.47,2,1400
  18SN20150920,   ARC,18,1,11,11,2,20150927,78.0028,-139.9885,3749, 255.4,-0.2450,34.4459,2,34.4397,2,273.0,2,273.8,2,12.63,2,11.92,2,0.94,2,2186.7,2,2282.5,2,-0.12,2,1400
  18SN20150920,   ARC,18,1,10,10,2,20150927,78.0028,-139.9885,3749, 321.5, 0.4705,34.7160,2,34.7097,2,284.6,2,284.3,2, 8.30,2,12.27,2,0.85,2,2167.7,2,2289.6,2, 0.12,2,1400
  18SN20150920,   ARC,18,1, 9, 9,2,20150927,78.0028,-139.9885,3749, 370.1, 0.7017,34.7906,2,34.7919,2,290.4,2,290.5,2, 6.78,2,12.33,2,0.83,2,2161.5,2,2293.0,2, 0.15,2,1400
  18SN20150920,   ARC,18,1, 8, 8,2,20150927,78.0028,-139.9885,3749, 507.4, 0.8283,34.8474,2,34.8512,2,296.1,2,296.3,2, 6.26,2,12.34,2,0.82,2,2162.2,2,2296.2,2, -999,9,1400
  18SN20150920,   ARC,18,1, 7, 7,2,20150927,78.0028,-139.9885,3749, 511.3, 0.8203,34.8474,2,34.8513,2,296.2,2,296.6,2, 6.22,2,12.34,2,0.82,2,2158.2,2,2290.0,2, -999,9,1400
  18SN20150920,   ARC,18,1, 6, 6,2,20150927,78.0028,-139.9885,3749, 608.8, 0.5835,34.8533,2,34.8563,2,297.2,2,297.1,2, 6.45,2,12.44,2,0.83,2,2156.7,2,2294.8,2, -999,9,1400
  18SN20150920,   ARC,18,1, 5, 5,2,20150927,78.0028,-139.9885,3749, 811.8, 0.2269,34.8638,2,34.8671,2,298.2,2,298.4,2, 6.76,2,12.58,2,0.85,2,2156.5,2,2293.5,2, -999,9,1400
  18SN20150920,   ARC,18,1, 4, 4,2,20150927,78.0028,-139.9885,3749,1015.2,-0.0131,34.8762,2,34.8762,2,299.4,2,299.2,2, 7.06,2,12.68,2,0.86,2,2166.0,2,2295.5,2, -999,9,1400
  18SN20150920,   ARC,18,1, 3, 3,2,20150927,78.0028,-139.9885,3749,1523.2,-0.3052,34.9133,2,34.9168,2,297.7,2,297.9,2, 8.56,2,13.38,2,0.91,2,2151.2,2,2295.1,2, -999,9,1400
  18SN20150920,   ARC,18,1, 2, 2,2,20150927,78.0028,-139.9885,3749,2033.2,-0.4060,34.9412,2,34.9423,2,291.0,2,291.1,2,11.05,2,13.99,2,0.90,3,2148.8,2,2296.1,2, -999,9,1400
  18SN20150920,   ARC,18,1, 1, 1,2,20150927,78.0028,-139.9885,3749,3055.8,-0.3264,34.9558,2,34.9527,2,283.8,2,283.8,2,13.27,2,14.57,2,1.00,2,2155.2,2,2300.6,2, 0.30,2,1400
  18SN20150920,   ARC,19,1,24,24,2,20150928,78.0137,-142.9497,3757,   5.1,-1.3496,27.6272,2,27.6190,2,386.8,2,387.9,2, 2.96,2,-0.06,2,0.56,2,1898.4,2,1980.1,2,-3.53,2,0457
  18SN20150920,   ARC,19,1,23,23,2,20150928,78.0137,-142.9497,3757,  21.1,-1.0759,28.5847,2,   -999,9,394.4,2,391.4,2, 3.26,2, 0.00,2,0.61,2,2002.8,2,2105.6,2,-3.21,2,0457
  18SN20150920,   ARC,19,1,22,22,2,20150928,78.0137,-142.9497,3757,  41.6,-0.9979,29.7950,2,30.5347,2,393.1,2, -999,9, 4.70,2, 0.64,2,0.74,2,2059.1,2,2175.4,2,-2.80,2,0457
  18SN20150920,   ARC,19,1,21,21,2,20150928,78.0137,-142.9497,3757,  52.7,-0.2397,30.8958,2,31.0894,2,367.8,2,353.7,2, 7.37,2, 1.71,2,0.86,2,2069.7,2,2184.5,2,-2.33,2,0457
  18SN20150920,   ARC,19,1,20,20,2,20150928,78.0137,-142.9497,3757,  74.9,-0.8591,31.8198,2,31.8968,2,323.0,2,319.9,2,16.40,2, 7.85,2,1.30,2,2130.2,2,2211.6,2,-1.80,2,0457
  18SN20150920,   ARC,19,1,19,19,2,20150928,78.0137,-142.9497,3757, 106.2,-1.2808,32.3526,2,32.3625,2,305.9,2,305.2,2,24.82,2,11.58,2,1.58,2,2170.1,2,2232.6,2,-1.64,2,0457
  18SN20150920,   ARC,19,1,18,18,2,20150928,78.0137,-142.9497,3757, 135.5,-1.3401,32.6526,2,32.6445,2,290.8,2,289.8,2,28.35,2,13.31,2,1.72,2,2198.5,2,2243.3,2,-1.55,2,0457
  18SN20150920,   ARC,19,1,17,17,2,20150928,78.0137,-142.9497,3757, 164.9,-1.4418,32.9366,2,32.9386,2,277.9,2,278.0,2,33.19,2,15.27,2,1.83,2,2221.6,2,2260.2,2,-1.47,2,0457
  18SN20150920,   ARC,19,1,16,16,2,20150928,78.0137,-142.9497,3757, 185.0,-1.4533,33.1743,2,   -999,9,274.6,2, -999,9,32.08,2,15.30,2,1.70,2,2232.1,2,2278.5,2,-1.17,2,0457
  18SN20150920,   ARC,19,1,15,15,2,20150928,78.0137,-142.9497,3757, 212.4,-1.1960,33.7278,2,   -999,9,268.8,2,267.8,2,21.87,2,13.57,2,1.28,2,2210.4,2,2283.3,2,-0.59,2,0457
  18SN20150920,   ARC,19,1,14,14,2,20150928,78.0137,-142.9497,3757, 234.6,-0.7933,34.1641,2,34.1980,2,268.3,2,268.9,2,18.14,2,12.87,2,1.13,2,2199.0,2,2282.0,2,-0.41,2,0457
  18SN20150920,   ARC,19,1,13,13,2,20150928,78.0137,-142.9497,3757, 265.6,-0.2566,34.4440,2,34.4277,2,274.9,2,274.6,2,12.52,2,12.00,2,0.93,2,2182.9,2,2283.4,2,-0.10,2,0457
  18SN20150920,   ARC,19,1,12,12,2,20150928,78.0137,-142.9497,3757, 328.6, 0.4950,34.7224,2,34.7295,2,285.2,2,286.6,2, 7.64,2,12.21,2,0.83,2,2167.6,2,2287.9,2, 0.15,2,0457
  18SN20150920,   ARC,19,1,11,11,2,20150928,78.0137,-142.9497,3757, 372.4, 0.7171,34.7922,2,34.7927,2,290.3,2,290.6,2, 6.81,2,12.32,2,0.82,2,-999.0,9,-999.0,9, -999,9,0457
  18SN20150920,   ARC,19,1,10,10,2,20150928,78.0137,-142.9497,3757, 465.1, 0.8272,34.8324,2,34.8380,2,293.3,2,293.6,2, 6.58,2,12.45,2,0.82,2,-999.0,9,-999.0,9, -999,9,0457
  18SN20150920,   ARC,19,1, 9, 9,2,20150928,78.0137,-142.9497,3757, 508.4, 0.8290,34.8441,2,34.8480,2,295.4,2,295.7,2, 6.36,2,12.36,2,0.82,2,-999.0,9,-999.0,9, -999,9,0457
  18SN20150920,   ARC,19,1, 8, 8,2,20150928,78.0137,-142.9497,3757, 608.9, 0.6070,34.8509,2,34.8570,2,296.1,2,296.2,2, 6.58,2,12.50,2,0.82,2,-999.0,9,-999.0,9, -999,9,0457
  18SN20150920,   ARC,19,1, 7, 7,2,20150928,78.0137,-142.9497,3757, 711.2, 0.4221,34.8593,2,34.8654,2,297.9,2,298.2,2, 6.46,2,12.46,2,0.83,2,-999.0,9,-999.0,9, -999,9,0457
  18SN20150920,   ARC,19,1, 6, 6,2,20150928,78.0137,-142.9497,3757, 812.6, 0.2417,34.8635,2,34.8676,2,299.2,2,299.2,2, 6.56,2,12.45,2,0.83,2,-999.0,9,-999.0,9, -999,9,0457
  18SN20150920,   ARC,19,1, 5, 5,2,20150928,78.0137,-142.9497,3757,1015.7,-0.0065,34.8746,2,34.8804,2,300.0,2,300.4,2, 6.83,2,12.55,2,0.84,2,-999.0,9,-999.0,9, -999,9,0457
  18SN20150920,   ARC,19,1, 4, 4,2,20150928,78.0137,-142.9497,3757,1524.1,-0.2957,34.9120,2,34.9142,2,297.8,2,298.7,2, 8.43,2,13.29,2,0.90,2,-999.0,9,-999.0,9, -999,9,0457
  18SN20150920,   ARC,19,1, 3, 3,2,20150928,78.0137,-142.9497,3757,2033.5,-0.4043,34.9409,2,34.9450,2,291.4,2,291.6,2,10.89,2,14.09,2,0.96,2,-999.0,9,-999.0,9, -999,9,0457
  18SN20150920,   ARC,19,1, 2, 2,2,20150928,78.0137,-142.9497,3757,2544.3,-0.3783,34.9527,2,34.9561,2,286.4,2,286.4,2,12.50,2,14.42,2,0.98,2,-999.0,9,-999.0,9, -999,9,0457
  18SN20150920,   ARC,19,1, 1, 1,2,20150928,78.0137,-142.9497,3757,3054.5,-0.3260,34.9559,2,34.9581,2,283.9,2,284.1,2,13.18,2,14.49,2,0.99,2,-999.0,9,-999.0,9, -999,9,0457