BOTTLE,20240208CCHSIOVAJ
# Changed flag values from 2 to 9 for parameters with fill value -999. Parameters: SALNTY, CTDOXY, OXYGEN, SILCAT, NITRAT, PHSPHT, ALKALI
# Changed flag values from -999 to 9 for fill value -999. Parameter: TCARBN
# TIME parameter entries have been edited to reflect TIME entries in cruise report
# Added CCHDO citation information
# These data are under a CC0 license. For more information on how to cite, please visit cchdo.ucsd.edu.
#BOTTLE,20190625PRINUNIVRMK
# 06/20/2019 Initialized README file  
# Data source: CCHDO, As Received area, 20190617  
# Exported from JOA (5.5.0 Final April 23rd, 2019) on 2019/06/07 11:28:21 
# BOTTLE,201906xxJHS 
# JHS converted orignal CTDOXY ml/l to UMOL/KG 
# JHS converted orignal OXYGEN in mmol/m3 to UMOL/KG 
# JHS converted original nutrients in umol/l to UMOL/KG 
# JHS sorted data in station, cast, CTDPRS order 
# JHS was not able to easily recover cast times from original concatenated datetime data so just filled in the cast time column with zeroes 
# JHS retained only GOSHIP parameters in the cleaned file 
# JHS filled in quality flags with code 2 (good) as default; no additional bottle data QC was done by JHS 
# JHS eliminated bottles which did not have most of the routine hydrographic parameter data 
# SHIP: CCGS Louis S. St-Laurent 
# Cruise: 2016-06, ARC 
# Region: North of Alaska, Beaufort Gyre 
# EXPOCODE: 18SN20150920 
# DATES: 20150920 - 20191016 
# Chief Scientist: Bill Williams 
# 53 stations with 24 place Rosette 
# CTD: Who - B.Williams, S.Zimmermann; Status - final 
# 	Includes: CTDSAL, CTDOXY, 
# 	CDOM & PAR (no data in file) 
# Salinty: Who - B.Williams; Status - final 
# 	Notes: 	 
# Nutrients: Who - B.Williams; Status - final 
# 	Includes: nitrate, nitrite, silicate, phopshpate 
# O2: Who - B.Williams; Status - final 
# 	Notes: 
# ALKALI: Who - B.Williams; Status - final 
# 	Notes:  
# TCARBN: Who - B.Williams; Status - final 
# 	Notes:  
# O18: Who - B.Williams; Status - final 
# 	Notes: 
# These data should be cited as: 
# References that have used data from this cruise: 
EXPOCODE,SECT_ID,STNNBR,CASTNO,SAMPNO,BTLNBR,BTLNBR_FLAG_W,DATE,LATITUDE,LONGITUDE,DEPTH,CTDPRS,CTDTMP,CTDSAL,CTDSAL_FLAG_W,SALNTY,SALNTY_FLAG_W,CTDOXY,CTDOXY_FLAG_W,OXYGEN,OXYGEN_FLAG_W,SILCAT,SILCAT_FLAG_W,NITRAT,NITRAT_FLAG_W,PHSPHT,PHSPHT_FLAG_W,TCARBN,TCARBN_FLAG_W,ALKALI,ALKALI_FLAG_W,DELO18,DELO18_FLAG_W,TIME
,,,,,,,,,,METERS,DBAR,ITS-90,PSS-78,,PSS-78,,UMOL/KG,,UMOL/KG,,UMOL/KG,,UMOL/KG,,UMOL/KG,,UMOL/KG,,UMOL/KG,,/MILLE,,
  18SN20150920,   ARC,2,1,20,20,2,20150921,70.5410,-122.9192, 554,   5.0, 4.3978,29.1102,2,29.2076,2,329.3,2,336.4,2, 2.62,2,-0.11,2,0.56,2,2006.0,2,2126.9,2,-3.69,2,2309
  18SN20150920,   ARC,2,1,19,19,2,20150921,70.5410,-122.9192, 554,  16.1, 3.9008,29.4116,2,30.1402,2,322.8,2,381.1,2, 2.79,2,-0.12,2,0.63,2,2050.9,2,2177.6,2,-3.39,2,2309
  18SN20150920,   ARC,2,1,18,18,2,20150921,70.5410,-122.9192, 554,  27.5,-0.2787,31.6319,2,31.6446,2,402.0,2,402.4,2, 3.65,2,-0.06,2,0.76,2,2108.5,2,2233.2,2,-2.95,2,2309
  18SN20150920,   ARC,2,1,17,17,2,20150921,70.5410,-122.9192, 554,  41.2,-1.2412,31.9855,2,31.9716,2,360.4,2,361.2,2, 8.03,2, 3.36,2,1.06,2,2150.9,2,2241.2,2,-2.66,2,2309
  18SN20150920,   ARC,2,1,16,16,2,20150921,70.5410,-122.9192, 554,  51.7,-1.3457,32.2984,2,32.2975,2,308.4,2,314.9,2,14.75,2, 8.71,2,1.42,2,2184.8,2,2242.3,2,-2.17,2,2309
  18SN20150920,   ARC,2,1,15,15,2,20150921,70.5410,-122.9192, 554,  66.6,-1.3745,32.6148,2,32.6561,2,281.3,2,279.5,2,24.31,2,12.82,2,1.64,2,-999.0,9,-999.0,9,-1.78,2,2309
  18SN20150920,   ARC,2,1,14,14,2,20150921,70.5410,-122.9192, 554,  82.1,-1.3990,32.8636,2,32.8906,2,274.5,2,272.8,2,27.04,2,13.64,2,1.68,2,2226.3,2,2260.0,2,-1.66,2,2309
  18SN20150920,   ARC,2,1,13,13,2,20150921,70.5410,-122.9192, 554, 102.2,-1.3831,33.1250,2,33.1084,2,269.6,2,268.7,2,28.94,2,14.24,2,1.68,2,2233.4,2,2269.2,2,-1.50,2,2309
  18SN20150920,   ARC,2,1,12,12,2,20150921,70.5410,-122.9192, 554, 106.1,-1.3556,33.1711,2,33.1666,2,269.3,2,267.9,2,28.84,2,14.19,2,1.67,2,2232.4,2,2269.2,2,-1.45,2,2309
  18SN20150920,   ARC,2,1,11,11,2,20150921,70.5410,-122.9192, 554, 152.6,-0.9164,33.7834,2,33.7903,2,251.4,2,249.4,2,27.03,2,14.73,2,1.49,2,2227.9,2,2277.8,2,-0.87,2,2309
  18SN20150920,   ARC,2,1,10,10,2,20150921,70.5410,-122.9192, 554, 177.8,-0.5973,34.0915,2,34.1209,2,244.2,2,242.9,2,24.52,2,14.75,2,1.35,2,2221.9,2,2287.3,2,-0.53,2,2309
  18SN20150920,   ARC,2,1, 9, 9,2,20150921,70.5410,-122.9192, 554, 203.7,-0.3110,34.3272,2,34.3305,2,240.6,2,240.1,2,23.02,2,14.88,2,1.28,2,2216.1,2,2285.4,2,-0.32,2,2309
  18SN20150920,   ARC,2,1, 8, 8,2,20150921,70.5410,-122.9192, 554, 228.2,-0.0739,34.5007,2,34.5024,2,238.1,2,237.4,2,22.28,2,15.10,2,1.23,2,2211.9,2,2288.8,2,-0.16,2,2309
  18SN20150920,   ARC,2,1, 7, 7,2,20150921,70.5410,-122.9192, 554, 253.6, 0.0750,34.5991,2,34.6017,2,240.3,2,238.9,2,21.33,2,15.08,2,1.18,2,2206.5,2,2289.2,2,-0.05,2,2309
  18SN20150920,   ARC,2,1, 6, 6,2,20150921,70.5410,-122.9192, 554, 278.9, 0.1682,34.6565,2,34.6628,2,242.8,2,241.3,2,20.55,2,14.95,2,1.15,2,2202.8,2,2290.4,2,-0.01,2,2309
  18SN20150920,   ARC,2,1, 5, 5,2,20150921,70.5410,-122.9192, 554, 305.1, 0.2256,34.6919,2,34.6962,2,245.8,2,243.6,2,20.11,2,14.87,2,1.13,2,2199.2,2,2290.4,2, 0.05,2,2309
  18SN20150920,   ARC,2,1, 4, 4,2,20150921,70.5410,-122.9192, 554, 355.4, 0.2906,34.7312,2,34.7338,2,250.0,2,247.4,2,19.36,2,14.74,2,1.11,2,-999.0,9,-999.0,9, -999,9,2309
  18SN20150920,   ARC,2,1, 3, 3,2,20150921,70.5410,-122.9192, 554, 466.9, 0.3417,34.7688,2,34.7734,2,257.6,2,255.2,2,18.46,2,14.37,2,1.07,2,-999.0,9,-999.0,9, -999,9,2309
  18SN20150920,   ARC,2,1, 2, 2,2,20150921,70.5410,-122.9192, 554, 507.6, 0.3457,34.7716,2,34.7770,2,258.4,2,255.6,2,18.51,2,14.35,2,1.07,2,-999.0,9,-999.0,9, -999,9,2309
  18SN20150920,   ARC,2,1, 1, 1,2,20150921,70.5410,-122.9192, 554, 629.6, 0.3563,34.7758,2,34.7801,2,258.7,2,256.4,2,18.85,2,14.33,2,1.07,2,-999.0,9,-999.0,9, -999,9,2309
  18SN20150920,   ARC,3,1,24,24,2,20150922,71.7792,-131.8762,1196,   5.4,-1.0391,26.5108,2,26.5521,2,382.4,2,378.9,2, 2.39,2,-0.14,2,0.55,2,1809.3,2,1888.9,2,-3.31,2,1239
  18SN20150920,   ARC,3,1,23,23,2,20150922,71.7792,-131.8762,1196,  15.9,-0.9529,26.7630,2,26.9475,2,381.2,2,382.0,2, 2.41,2,-0.15,2,0.56,2,1849.6,2,1929.9,2,-3.34,2,1239
  18SN20150920,   ARC,3,1,22,22,2,20150922,71.7792,-131.8762,1196,  31.1,-0.8813,29.7281,2,29.6712,2,395.2,2,396.2,2, 2.93,2,-0.14,2,0.64,2,2001.8,2,2110.2,2,-3.21,2,1239
  18SN20150920,   ARC,3,1,21,21,2,20150922,71.7792,-131.8762,1196,  49.1,-0.7627,31.2659,2,31.1317,2,372.4,2,372.4,2, 6.54,2, 1.26,2,0.82,2,2065.3,2,2182.8,2,-2.49,2,1239
  18SN20150920,   ARC,3,1,20,20,2,20150922,71.7792,-131.8762,1196,  76.5,-1.2097,32.1364,2,32.1364,2,311.9,2,310.5,2,19.74,2,10.03,2,1.48,2,2144.4,2,2215.3,2,-1.66,2,1239
  18SN20150920,   ARC,3,1,19,19,2,20150922,71.7792,-131.8762,1196, 108.0,-1.3635,32.5458,2,32.5550,2,297.8,2,296.0,2,28.03,2,13.01,2,1.70,2,2186.0,2,2237.3,2,-1.56,2,1239
  18SN20150920,   ARC,3,1,18,18,2,20150922,71.7792,-131.8762,1196, 125.3,-1.3784,32.7521,2,32.8018,2,286.5,2,278.4,2,30.09,2,14.37,2,1.78,2,2211.5,2,2251.5,2,-1.42,2,1239
  18SN20150920,   ARC,3,1,17,17,2,20150922,71.7792,-131.8762,1196, 130.3,-1.3998,32.8241,2,32.8507,2,281.8,2,273.8,2,31.08,2,14.76,2,1.79,2,2213.9,2,2253.3,2,-1.48,2,1239
  18SN20150920,   ARC,3,1,16,16,2,20150922,71.7792,-131.8762,1196, 141.2,-1.4140,32.9865,2,33.0102,2,271.1,2,268.0,2,32.76,2,15.26,2,1.82,2,2222.7,2,2258.2,2,-1.41,2,1239
  18SN20150920,   ARC,3,1,15,15,2,20150922,71.7792,-131.8762,1196, 151.7,-1.3787,33.1623,2,33.1753,2,265.9,2,266.1,2,32.17,2,15.08,2,1.76,2,2227.4,2,2265.7,2,-1.39,2,1239
  18SN20150920,   ARC,3,1,14,14,2,20150922,71.7792,-131.8762,1196, 176.8,-1.2091,33.6187,2,33.6100,2,260.2,2,258.7,2,29.18,2,14.95,2,1.54,2,2227.1,2,2276.2,2,-1.07,2,1239
  18SN20150920,   ARC,3,1,13,13,2,20150922,71.7792,-131.8762,1196, 204.1,-0.7047,34.1375,2,34.1235,2,262.9,2,262.5,2,18.88,2,13.35,2,1.14,2,2202.9,2,2278.8,2,-0.51,2,1239
  18SN20150920,   ARC,3,1,12,12,2,20150922,71.7792,-131.8762,1196, 234.2,-0.2255,34.4193,2,34.4096,2,256.0,2,254.4,2,18.14,2,13.99,2,1.10,2,2198.2,2,2282.5,2,-0.22,2,1239
  18SN20150920,   ARC,3,1,11,11,2,20150922,71.7792,-131.8762,1196, 305.8, 0.3963,34.7254,2,34.7236,2,277.0,2,277.3,2,10.16,2,12.96,2,0.87,2,2168.8,2,2290.2,2, 0.06,2,1239
  18SN20150920,   ARC,3,1,10,10,2,20150922,71.7792,-131.8762,1196, 334.8, 0.5477,34.7757,2,34.7768,2,283.3,2,285.1,2, 7.97,2,12.80,2,0.84,2,2160.0,2,2291.2,2, 0.10,2,1239
  18SN20150920,   ARC,3,1, 9, 9,2,20150922,71.7792,-131.8762,1196, 354.4, 0.5770,34.7890,2,34.7939,2,285.1,2,284.7,2, 8.12,2,12.84,2,0.86,2,2161.0,2,2289.8,2, 0.13,2,1239
  18SN20150920,   ARC,3,1, 8, 8,2,20150922,71.7792,-131.8762,1196, 418.1, 0.6721,34.8245,2,34.8302,2,290.4,2,290.2,2, 7.00,2,12.53,2,0.82,2,2155.0,2,2293.3,2, 0.19,2,1239
  18SN20150920,   ARC,3,1, 7, 7,2,20150922,71.7792,-131.8762,1196, 457.6, 0.5953,34.8316,2,34.8311,2,288.7,2,288.4,2, 7.65,2,12.61,2,0.87,2,-999.0,9,-999.0,9, -999,9,1239
  18SN20150920,   ARC,3,1, 6, 6,2,20150922,71.7792,-131.8762,1196, 507.8, 0.5283,34.8398,2,34.8419,2,291.0,2,290.2,2, 7.40,2,12.54,2,0.86,2,-999.0,9,-999.0,9, -999,9,1239
  18SN20150920,   ARC,3,1, 5, 5,2,20150922,71.7792,-131.8762,1196, 609.0, 0.4075,34.8529,2,34.8564,2,292.8,2,292.1,2, 7.39,2,12.63,2,0.86,2,-999.0,9,-999.0,9, -999,9,1239
  18SN20150920,   ARC,3,1, 4, 4,2,20150922,71.7792,-131.8762,1196, 710.3, 0.2799,34.8607,2,34.8616,2,294.6,2,294.1,2, 7.39,2,12.55,2,0.87,2,-999.0,9,-999.0,9, -999,9,1239
  18SN20150920,   ARC,3,1, 3, 3,2,20150922,71.7792,-131.8762,1196, 811.3, 0.1531,34.8683,2,34.8729,2,296.1,2,295.5,2, 7.48,2,12.59,2,0.88,2,-999.0,9,-999.0,9, -999,9,1239
  18SN20150920,   ARC,3,1, 2, 2,2,20150922,71.7792,-131.8762,1196, 913.0, 0.0384,34.8755,2,34.8795,2,296.4,2,295.7,2, 7.87,2,12.63,2,0.88,2,-999.0,9,-999.0,9, -999,9,1239
  18SN20150920,   ARC,3,1, 1, 1,2,20150922,71.7792,-131.8762,1196,1128.0,-0.1893,34.8959,2,34.8998,2,295.2,2,294.2,2, 9.63,2,13.08,2,0.91,2,-999.0,9,-999.0,9, -999,9,1239
  18SN20150920,   ARC,4,1,24,24,2,20150922,72.3497,-134.0018,2086,   5.0,-1.2396,26.5359,2,26.5422,2,381.2,2,381.0,2, 2.47,2,-0.09,2,0.59,2,1826.1,2,1902.6,2,-3.49,2,2017
  18SN20150920,   ARC,4,1,22,22,2,20150922,72.3497,-134.0018,2086,  16.3,-1.2246,26.7628,2,26.7394,2,382.8,2,381.6,2, 2.45,2,-0.14,2,0.60,2,1836.2,2,1912.0,2,-3.49,2,2017
  18SN20150920,   ARC,4,1,21,21,2,20150922,72.3497,-134.0018,2086,  31.2,-0.6434,29.3645,2,29.4162,2,398.7,2,397.0,2, 2.79,2,-0.15,2,0.66,2,1995.6,2,2108.1,2,-3.31,2,2017
  18SN20150920,   ARC,4,1,20,20,2,20150922,72.3497,-134.0018,2086,  64.5,-0.7034,31.4038,2,31.4385,2,384.5,2,380.3,2, 5.11,2, 0.65,2,0.84,2,2089.9,2,2220.2,2,-2.77,2,2017
  18SN20150920,   ARC,4,1,18,18,2,20150922,72.3497,-134.0018,2086,  78.9,-1.2110,31.9217,2,31.9476,2,352.2,2,339.7,2,10.89,2, 5.40,2,1.20,2,2135.7,2,2227.8,2,-2.26,2,2017
  18SN20150920,   ARC,4,1,17,17,2,20150922,72.3497,-134.0018,2086, 102.1,-1.3392,32.3579,2,32.3884,2,306.2,2,300.0,2,23.12,2,11.52,2,1.63,2,2176.9,2,2237.4,2,-1.69,2,2017
  18SN20150920,   ARC,4,1,16,16,2,20150922,72.3497,-134.0018,2086, 122.2,-1.4185,32.6210,2,32.6470,2,289.2,2,288.1,2,25.77,2,12.60,2,1.69,2,2208.5,2,2259.6,2,-1.73,2,2017
  18SN20150920,   ARC,4,1,15,15,2,20150922,72.3497,-134.0018,2086, 149.9,-1.4477,32.9190,2,32.9188,2,275.4,2,277.4,2,30.23,2,14.44,2,1.81,2,2224.5,2,2269.4,2,-1.56,2,2017
  18SN20150920,   ARC,4,1,14,14,2,20150922,72.3497,-134.0018,2086, 163.8,-1.4083,33.1634,2,33.1526,2,272.6,2,271.8,2,31.04,2,14.69,2,1.78,2,2229.7,2,2274.4,2,-1.46,2,2017
  18SN20150920,   ARC,4,1,13,13,2,20150922,72.3497,-134.0018,2086, 188.1,-1.1691,33.6741,2,33.7333,2,258.5,2,255.2,2,27.88,2,14.45,2,1.56,2,2224.7,2,2287.0,2,-0.94,2,2017
  18SN20150920,   ARC,4,1,12,12,2,20150922,72.3497,-134.0018,2086, 217.2,-0.7716,34.1267,2,34.1171,2,261.1,2,260.4,2,19.31,2,13.23,2,1.20,2,2204.2,2,2284.1,2,-0.52,2,2017
  18SN20150920,   ARC,4,1,11,11,2,20150922,72.3497,-134.0018,2086, 252.2,-0.2160,34.4447,2,34.4451,2,277.6,2,277.8,2,11.24,2,11.85,2,0.93,2,2177.4,2,2287.7,2,-0.12,2,2017
  18SN20150920,   ARC,4,1,10,10,2,20150922,72.3497,-134.0018,2086, 319.8, 0.3869,34.7207,2,34.7307,2,281.6,2,282.0,2, 8.91,2,12.55,2,0.90,2,2163.6,2,2290.2,2, 0.08,2,2017
  18SN20150920,   ARC,4,1, 9, 9,2,20150922,72.3497,-134.0018,2086, 366.8, 0.5811,34.7869,2,34.7856,2,287.1,2,287.0,2, 7.54,2,12.46,2,0.87,2,2158.4,2,2297.8,2, 0.11,2,2017
  18SN20150920,   ARC,4,1, 8, 8,2,20150922,72.3497,-134.0018,2086, 435.0, 0.6889,34.8264,2,34.8296,2,291.1,2,291.1,2, 6.85,2,12.42,2,0.86,2,-999.0,9,-999.0,9, -999,9,2017
  18SN20150920,   ARC,4,1, 7, 7,2,20150922,72.3497,-134.0018,2086, 457.5, 0.6493,34.8260,2,34.8265,2,290.4,2,289.7,2, 7.23,2,12.54,2,0.87,2,-999.0,9,-999.0,9, -999,9,2017
  18SN20150920,   ARC,4,1, 6, 6,2,20150922,72.3497,-134.0018,2086, 508.2, 0.6177,34.8427,2,34.8460,2,293.3,2,293.3,2, 6.78,2,12.52,2,0.86,2,-999.0,9,-999.0,9, -999,9,2017
  18SN20150920,   ARC,4,1, 5, 5,2,20150922,72.3497,-134.0018,2086, 609.7, 0.4555,34.8529,2,34.8561,2,294.1,2,293.7,2, 7.08,2,12.51,2,0.87,2,-999.0,9,-999.0,9, -999,9,2017
  18SN20150920,   ARC,4,1, 4, 4,2,20150922,72.3497,-134.0018,2086, 811.8, 0.1862,34.8669,2,34.8714,2,296.8,2,296.6,2, 7.21,2,12.53,2,0.88,2,-999.0,9,-999.0,9, -999,9,2017
  18SN20150920,   ARC,4,1, 3, 3,2,20150922,72.3497,-134.0018,2086,1014.7,-0.0288,34.8802,2,34.8849,2,298.0,2,298.2,2, 7.60,2,12.62,2,0.89,2,-999.0,9,-999.0,9, -999,9,2017
  18SN20150920,   ARC,4,1, 2, 2,2,20150922,72.3497,-134.0018,2086,1522.8,-0.3257,34.9154,2,34.9183,2,296.3,2,295.6,2, 9.29,2,13.22,2,0.95,2,-999.0,9,-999.0,9, -999,9,2017
  18SN20150920,   ARC,4,1, 1, 1,2,20150922,72.3497,-134.0018,2086,2086.1,-0.3904,34.9489,2,34.9510,2,282.9,2,282.5,2,13.91,2,14.38,2,1.03,2,-999.0,9,-999.0,9, -999,9,2017
  18SN20150920,   ARC,5,1,24,24,2,20150923,72.9007,-136.0018,2801,   4.5,-0.8402,25.8744,2,25.8859,2,380.0,2,378.5,2, 2.40,2,-0.11,2,0.53,2,1800.2,2,1866.3,2, -999,9,0314
  18SN20150920,   ARC,5,1,23,23,2,20150923,72.9007,-136.0018,2801,  21.2,-0.3364,27.5981,2,27.6313,2,391.6,2,396.8,2, 2.59,2,-0.13,2,0.57,2,1909.5,2,1992.7,2, -999,9,0314
  18SN20150920,   ARC,5,1,22,22,2,20150923,72.9007,-136.0018,2801,  31.4,-0.8681,28.0185,2,28.0336,2,399.4,2,397.7,2, 2.61,2,-0.08,2,0.59,2,1934.9,2,2014.8,2, -999,9,0314
  18SN20150920,   ARC,5,1,21,21,2,20150923,72.9007,-136.0018,2801,  41.5,-1.0090,28.2192,2,28.2963,2,397.3,2,396.5,2, 2.67,2,-0.15,2,0.60,2,1949.5,2,2040.1,2, -999,9,0314
  18SN20150920,   ARC,5,1,20,20,2,20150923,72.9007,-136.0018,2801,  70.8,-0.3150,31.2509,2,31.2863,2,356.3,2,347.5,2, 8.86,2, 3.09,2,0.99,2,2077.7,2,2192.1,2, -999,9,0314
  18SN20150920,   ARC,5,1,19,19,2,20150923,72.9007,-136.0018,2801,  88.8,-0.8206,31.8750,2,31.8941,2,324.6,2,320.5,2,14.29,2, 7.67,2,1.31,2,2121.4,2,2207.6,2, -999,9,0314
  18SN20150920,   ARC,5,1,18,18,2,20150923,72.9007,-136.0018,2801, 118.4,-1.2410,32.3268,2,32.3520,2,305.4,2,304.4,2,23.85,2,11.51,2,1.60,2,2166.2,2,2233.1,2, -999,9,0314
  18SN20150920,   ARC,5,1,17,17,2,20150923,72.9007,-136.0018,2801, 145.5,-1.3421,32.6526,2,32.6695,2,293.2,2,290.2,2,28.20,2,13.41,2,1.73,2,2198.3,2,2250.7,2, -999,9,0314
  18SN20150920,   ARC,5,1,16,16,2,20150923,72.9007,-136.0018,2801, 172.8,-1.4104,32.9215,2,32.9440,2,279.0,2,277.9,2,32.78,2,15.28,2,1.82,2,2223.1,2,2263.0,2, -999,9,0314
  18SN20150920,   ARC,5,1,15,15,2,20150923,72.9007,-136.0018,2801, 189.7,-1.4305,33.1661,2,33.2020,2,272.7,2,272.3,2,34.54,2,15.72,2,1.84,2,2234.4,2,2274.8,2, -999,9,0314
  18SN20150920,   ARC,5,1,14,14,2,20150923,72.9007,-136.0018,2801, 216.6,-1.2453,33.7038,2,33.7130,2,268.6,2,266.4,2,28.56,2,14.72,2,1.57,2,2227.5,2,2285.8,2, -999,9,0314
  18SN20150920,   ARC,5,1,13,13,2,20150923,72.9007,-136.0018,2801, 242.0,-0.7354,34.1674,2,34.1669,2,267.8,2,268.1,2,17.32,2,12.46,2,1.11,2,2198.8,2,2282.8,2, -999,9,0314
  18SN20150920,   ARC,5,1,12,12,2,20150923,72.9007,-136.0018,2801, 274.1,-0.2135,34.4419,2,34.4405,2,284.2,2,284.2,2, 9.26,2,11.18,2,0.85,2,2174.6,2,2283.2,2, -999,9,0314
  18SN20150920,   ARC,5,1,11,11,2,20150923,72.9007,-136.0018,2801, 344.5, 0.3968,34.7225,2,34.7275,2,283.1,2,282.8,2, 8.74,2,12.61,2,0.88,2,2164.9,2,2292.7,2, -999,9,0314
  18SN20150920,   ARC,5,1,10,10,2,20150923,72.9007,-136.0018,2801, 393.0, 0.5651,34.7885,2,34.7929,2,288.5,2,288.0,2, 7.37,2,12.58,2,0.86,2,-999.0,9,-999.0,9, -999,9,0314
  18SN20150920,   ARC,5,1, 9, 9,2,20150923,72.9007,-136.0018,2801, 457.4, 0.6702,34.8261,2,34.8294,2,291.7,2,291.2,2, 6.83,2,12.61,2,0.85,2,-999.0,9,-999.0,9, -999,9,0314
  18SN20150920,   ARC,5,1, 8, 8,2,20150923,72.9007,-136.0018,2801, 507.9, 0.6469,34.8442,2,34.8472,2,294.4,2,293.8,2, 6.60,2,12.57,2,0.85,2,-999.0,9,-999.0,9, -999,9,0314
  18SN20150920,   ARC,5,1, 7, 7,2,20150923,72.9007,-136.0018,2801, 609.5, 0.4693,34.8514,2,34.8561,2,294.5,2,293.9,2, 6.92,2,12.68,2,0.85,2,-999.0,9,-999.0,9, -999,9,0314
  18SN20150920,   ARC,5,1, 6, 6,2,20150923,72.9007,-136.0018,2801, 812.1, 0.2156,34.8673,2,34.8709,2,297.4,2,297.0,2, 6.79,2,12.65,2,0.87,2,-999.0,9,-999.0,9, -999,9,0314
  18SN20150920,   ARC,5,1, 5, 5,2,20150923,72.9007,-136.0018,2801,1015.1,-0.0092,34.8826,2,34.8867,2,298.5,2,297.9,2, 7.16,2,12.74,2,0.88,2,-999.0,9,-999.0,9, -999,9,0314
  18SN20150920,   ARC,5,1, 4, 4,2,20150923,72.9007,-136.0018,2801,1523.4,-0.3281,34.9154,2,34.9143,2,296.7,2,296.1,2, 9.06,2,13.43,2,0.94,2,-999.0,9,-999.0,9, -999,9,0314
  18SN20150920,   ARC,5,1, 3, 3,2,20150923,72.9007,-136.0018,2801,2032.6,-0.4058,34.9423,2,34.9436,2,290.1,2,289.7,2,11.48,2,14.18,2,0.99,2,-999.0,9,-999.0,9, -999,9,0314
  18SN20150920,   ARC,5,1, 2, 2,2,20150923,72.9007,-136.0018,2801,2543.2,-0.3695,34.9540,2,34.9553,2,283.8,2,283.2,2,13.59,2,14.49,2,1.01,2,-999.0,9,-999.0,9, -999,9,0314
  18SN20150920,   ARC,5,1, 1, 1,2,20150923,72.9007,-136.0018,2801,2781.6,-0.3460,34.9553,2,34.9568,2,282.2,2,282.0,2,14.06,2,14.54,2,1.01,2,-999.0,9,-999.0,9, -999,9,0314