BOTTLE,20240208CCHSIOVAJ
EXPOCODE,SECT_ID,STNNBR,CASTNO,SAMPNO,BTLNBR,BTLNBR_FLAG_W,DATE,LATITUDE,LONGITUDE,DEPTH,CTDPRS,CTDTMP,CTDSAL,CTDSAL_FLAG_W,SALNTY,SALNTY_FLAG_W,CTDOXY,CTDOXY_FLAG_W,OXYGEN,OXYGEN_FLAG_W,SILCAT,SILCAT_FLAG_W,NITRAT,NITRAT_FLAG_W,PHSPHT,PHSPHT_FLAG_W,TCARBN,TCARBN_FLAG_W,ALKALI,ALKALI_FLAG_W,DELO18,DELO18_FLAG_W,TIME
,,,,,,,,,,METERS,DBAR,ITS-90,PSS-78,,PSS-78,,UMOL/KG,,UMOL/KG,,UMOL/KG,,UMOL/KG,,UMOL/KG,,UMOL/KG,,UMOL/KG,,/MILLE,,
  18SN20150920,   ARC,20,1,23,23,2,20150930,78.0082,-149.8802,3742,   4.7,-1.4871,27.5322,2,27.5335,2,386.4,2,385.6,2, 2.83,2,-0.06,2,0.55,2,-999.0,9,-999.0,9, -999,9,0115
  18SN20150920,   ARC,20,1,22,22,2,20150930,78.0082,-149.8802,3742,  21.2,-1.4723,27.5760,2,28.0468,2,387.2,2,391.3,2, 2.88,2,-0.12,2,0.56,2,-999.0,9,-999.0,9, -999,9,0115
  18SN20150920,   ARC,20,1,21,21,2,20150930,78.0082,-149.8802,3742,  31.5,-1.0905,29.0093,2,29.2148,2,393.6,2,394.7,2, 2.84,2,-0.13,2,0.59,2,-999.0,9,-999.0,9, -999,9,0115
  18SN20150920,   ARC,20,1,20,20,2,20150930,78.0082,-149.8802,3742,  40.1,-1.1317,29.4125,2,29.4409,2,393.4,2,393.5,2, 2.80,2,-0.12,2,0.60,2,-999.0,9,-999.0,9, -999,9,0115
  18SN20150920,   ARC,20,1,19,19,2,20150930,78.0082,-149.8802,3742,  51.4,-0.4051,30.8872,2,30.8039,2,373.3,2,375.6,2, 5.43,2, 0.64,2,0.78,2,-999.0,9,-999.0,9, -999,9,0115
  18SN20150920,   ARC,20,1,18,18,2,20150930,78.0082,-149.8802,3742,  61.6,-0.5574,31.4296,2,31.4178,2,340.4,2,345.2,2,10.18,2, 3.82,2,1.00,2,-999.0,9,-999.0,9, -999,9,0115
  18SN20150920,   ARC,20,1,17,17,2,20150930,78.0082,-149.8802,3742,  71.6,-0.7507,31.7113,2,31.7165,2,326.9,2,329.6,2,14.02,2, 6.44,2,1.20,2,-999.0,9,-999.0,9, -999,9,0115
  18SN20150920,   ARC,20,1,16,16,2,20150930,78.0082,-149.8802,3742,  80.4,-0.9160,31.9125,2,31.9236,2,320.1,2,322.3,2,17.51,2, 8.23,2,1.33,2,-999.0,9,-999.0,9, -999,9,0115
  18SN20150920,   ARC,20,1,15,15,2,20150930,78.0082,-149.8802,3742, 102.1,-1.2298,32.3114,2,32.2964,2,307.4,2,307.5,2,23.16,2,10.98,2,1.55,2,-999.0,9,-999.0,9, -999,9,0115
  18SN20150920,   ARC,20,1,14,14,2,20150930,78.0082,-149.8802,3742, 134.4,-1.3471,32.6581,2,32.6982,2,292.9,2,285.3,2,29.13,2,13.63,2,1.75,2,-999.0,9,-999.0,9, -999,9,0115
  18SN20150920,   ARC,20,1,13,13,2,20150930,78.0082,-149.8802,3742, 164.7,-1.4534,32.9403,2,32.9562,2,277.8,2,277.0,2,33.79,2,15.26,2,1.84,2,-999.0,9,-999.0,9, -999,9,0115
  18SN20150920,   ARC,20,1,12,12,2,20150930,78.0082,-149.8802,3742, 182.6,-1.4435,33.0942,2,33.1006,2,272.8,2,273.1,2,35.23,2,15.72,2,1.87,2,-999.0,9,-999.0,9, -999,9,0115
  18SN20150920,   ARC,20,1,11,11,2,20150930,78.0082,-149.8802,3742, 210.3,-1.2628,33.6266,2,33.5878,2,268.5,2,268.0,2,30.20,2,14.81,2,1.62,2,-999.0,9,-999.0,9, -999,9,0115
  18SN20150920,   ARC,20,1,10,10,2,20150930,78.0082,-149.8802,3742, 223.5,-1.0573,33.9276,2,33.9067,2,267.2,2,267.6,2,23.04,2,13.35,2,1.33,2,-999.0,9,-999.0,9, -999,9,0115
  18SN20150920,   ARC,20,1, 9, 9,2,20150930,78.0082,-149.8802,3742, 235.5,-0.8436,34.1297,2,34.1349,2,268.8,2,268.4,2,19.05,2,12.69,2,1.17,2,-999.0,9,-999.0,9, -999,9,0115
  18SN20150920,   ARC,20,1, 8, 8,2,20150930,78.0082,-149.8802,3742, 264.9,-0.2878,34.4340,2,34.4394,2,272.8,2,272.7,2,13.12,2,12.15,2,0.97,2,-999.0,9,-999.0,9, -999,9,0115
  18SN20150920,   ARC,20,1, 7, 7,2,20150930,78.0082,-149.8802,3742, 275.1,-0.1123,34.5024,2,34.5014,2,273.1,2,272.7,2,12.50,2,12.25,2,0.95,2,-999.0,9,-999.0,9, -999,9,0115
  18SN20150920,   ARC,20,1, 6, 6,2,20150930,78.0082,-149.8802,3742, 285.2, 0.0224,34.5509,2,34.5512,2,273.0,2,274.5,2,11.68,2,12.25,2,0.93,2,-999.0,9,-999.0,9, -999,9,0115
  18SN20150920,   ARC,20,1, 5, 5,2,20150930,78.0082,-149.8802,3742, 333.3, 0.5224,34.7296,2,34.7316,2,285.4,2,287.1,2, 7.38,2,12.08,2,0.83,2,-999.0,9,-999.0,9, -999,9,0115
  18SN20150920,   ARC,20,1, 4, 4,2,20150930,78.0082,-149.8802,3742, 376.8, 0.7252,34.7945,2,34.7947,2,290.3,2,290.9,2, 6.54,2,12.20,2,0.82,2,-999.0,9,-999.0,9, -999,9,0115
  18SN20150920,   ARC,20,1, 3, 3,2,20150930,78.0082,-149.8802,3742, 446.6, 0.8278,34.8306,2,34.8324,2,294.4,2,294.9,2, 6.05,2,12.18,2,0.82,2,-999.0,9,-999.0,9, -999,9,0115
  18SN20150920,   ARC,20,1, 2, 2,2,20150930,78.0082,-149.8802,3742, 508.3, 0.8296,34.8453,2,34.8476,2,295.2,2,296.0,2, 6.29,2,12.26,2,0.82,2,-999.0,9,-999.0,9, -999,9,0115
  18SN20150920,   ARC,20,1, 1, 1,2,20150930,78.0082,-149.8802,3742, 606.9, 0.6179,34.8511,2,34.8499,2,296.1,2,296.2,2, 6.49,2,12.38,2,0.84,2,-999.0,9,-999.0,9, -999,9,0115
  18SN20150920,   ARC,22,1,24,24,2,20150930,77.7423,-147.0678,3814,   5.6,-1.4648,27.9014,2,27.9054,2,388.2,2,387.2,2, 2.93,2,-0.05,2,0.54,2,1913.0,2,2001.6,2,-3.46,2,0813
  18SN20150920,   ARC,22,1,23,23,2,20150930,77.7423,-147.0678,3814,  21.2,-1.1909,28.8664,2,28.6728,2,388.4,2,394.0,2, 2.90,2,-0.07,2,0.56,2,1964.6,2,2062.6,2,-3.38,2,0813
  18SN20150920,   ARC,22,1,22,22,2,20150930,77.7423,-147.0678,3814,  41.1,-1.3152,29.8617,2,29.8900,2,391.6,2,389.3,2, 3.00,2, 0.05,2,0.61,2,2035.6,2,2150.7,2,-3.18,2,0813
  18SN20150920,   ARC,22,1,21,21,2,20150930,77.7423,-147.0678,3814,  49.4,-0.8853,30.3619,2,30.4173,2,377.5,2,374.3,2, 5.44,2, 0.92,2,0.75,2,2047.5,2,2159.0,2,-2.64,2,0813
  18SN20150920,   ARC,22,1,20,20,2,20150930,77.7423,-147.0678,3814,  79.9,-0.9264,31.9112,2,32.0790,2,324.4,2, -999,9,21.42,2,10.18,2,1.47,2,2152.2,2,2221.4,2,-1.70,2,0813
  18SN20150920,   ARC,22,1,19,19,2,20150930,77.7423,-147.0678,3814, 106.0,-1.2906,32.3913,2,32.4016,2,305.7,2,303.9,2,24.44,2,11.70,2,1.57,2,2171.3,2,2237.4,2,-1.66,2,0813
  18SN20150920,   ARC,22,1,18,18,2,20150930,77.7423,-147.0678,3814, 131.2,-1.4009,32.6170,2,32.6173,2,294.7,2,296.1,2,29.10,2,13.40,2,1.69,2,2195.1,2,2248.3,2,-1.60,2,0813
  18SN20150920,   ARC,22,1,17,17,2,20150930,77.7423,-147.0678,3814, 163.6,-1.4384,32.9352,2,32.9329,2,277.4,2,276.8,2,33.44,2,15.34,2,1.84,2,2224.4,2,2264.4,2,-1.50,2,0813
  18SN20150920,   ARC,22,1,16,16,2,20150930,77.7423,-147.0678,3814, 181.0,-1.4546,33.1294,2,33.1106,2,273.8,2,274.0,2,35.20,2,15.77,2,1.86,2,2235.6,2,2268.0,2,-1.46,2,0813
  18SN20150920,   ARC,22,1,15,15,2,20150930,77.7423,-147.0678,3814, 211.2,-1.2128,33.6806,2,33.6631,2,268.4,2,266.9,2,28.64,2,14.78,2,1.56,2,2228.2,2,2281.6,2,-1.03,2,0813
  18SN20150920,   ARC,22,1,14,14,2,20150930,77.7423,-147.0678,3814, 237.5,-0.8308,34.1491,2,34.1355,2,268.2,2,268.7,2,19.07,2,12.84,2,1.16,2,2202.1,2,2282.8,2,-0.47,2,0813
  18SN20150920,   ARC,22,1,13,13,2,20150930,77.7423,-147.0678,3814, 271.7,-0.3760,34.4151,2,34.4169,2,274.3,2,275.0,2,12.78,2,11.97,2,0.93,2,2186.7,2,2289.1,2,-0.13,2,0813
  18SN20150920,   ARC,22,1,12,12,2,20150930,77.7423,-147.0678,3814, 339.2, 0.3858,34.6861,2,34.6845,2,282.8,2,283.1,2, 8.78,2,12.51,2,0.84,2,2166.3,2,2290.4,2, 0.14,2,0813
  18SN20150920,   ARC,22,1,11,11,2,20150930,77.7423,-147.0678,3814, 405.9, 0.6890,34.7844,2,34.7886,2,288.3,2,288.8,2, 7.24,2,12.59,2,0.83,2,-999.0,9,-999.0,9, -999,9,0813
  18SN20150920,   ARC,22,1,10,10,2,20150930,77.7423,-147.0678,3814, 507.2, 0.8159,34.8314,2,34.8341,2,292.6,2,292.7,2, 6.76,2,12.70,2,0.82,2,-999.0,9,-999.0,9, -999,9,0813
  18SN20150920,   ARC,22,1, 9, 9,2,20150930,77.7423,-147.0678,3814, 557.8, 0.7854,34.8435,2,34.8445,2,294.2,2,295.4,2, 6.54,2,12.58,2,0.82,2,-999.0,9,-999.0,9, -999,9,0813
  18SN20150920,   ARC,22,1, 8, 8,2,20150930,77.7423,-147.0678,3814, 609.2, 0.6891,34.8487,2,34.8516,2,295.0,2,295.9,2, 6.54,2,12.72,2,0.81,2,-999.0,9,-999.0,9, -999,9,0813
  18SN20150920,   ARC,22,1, 7, 7,2,20150930,77.7423,-147.0678,3814, 710.0, 0.4954,34.8557,2,34.8580,2,296.4,2,297.4,2, 6.57,2,12.68,2,0.82,2,-999.0,9,-999.0,9, -999,9,0813
  18SN20150920,   ARC,22,1, 6, 6,2,20150930,77.7423,-147.0678,3814, 811.3, 0.3363,34.8604,2,34.8635,2,297.5,2,298.0,2, 6.58,2,12.68,2,0.82,2,-999.0,9,-999.0,9, -999,9,0813
  18SN20150920,   ARC,22,1, 5, 5,2,20150930,77.7423,-147.0678,3814,1014.9, 0.0630,34.8707,2,34.8732,2,299.5,2,299.9,2, 6.71,2,12.68,2,0.83,2,-999.0,9,-999.0,9, -999,9,0813
  18SN20150920,   ARC,22,1, 4, 4,2,20150930,77.7423,-147.0678,3814,1522.9,-0.2686,34.9080,2,34.9059,2,297.9,2,298.5,2, 8.15,2,13.33,2,0.88,2,-999.0,9,-999.0,9, -999,9,0813
  18SN20150920,   ARC,22,1, 3, 3,2,20150930,77.7423,-147.0678,3814,2032.8,-0.3992,34.9387,2,34.9399,2,291.7,2,292.0,2,10.74,2,14.18,2,0.96,2,-999.0,9,-999.0,9, -999,9,0813
  18SN20150920,   ARC,22,1, 2, 2,2,20150930,77.7423,-147.0678,3814,2543.1,-0.3795,34.9516,2,34.9523,2,286.9,2,287.0,2,12.19,2,14.40,2,0.97,2,-999.0,9,-999.0,9, -999,9,0813
  18SN20150920,   ARC,22,1, 1, 1,2,20150930,77.7423,-147.0678,3814,3054.8,-0.3264,34.9560,2,34.9512,2,284.0,2,284.0,2,13.05,2,14.55,2,0.97,2,-999.0,9,-999.0,9, -999,9,0813
  18SN20150920,   ARC,23,1,24,24,2,20150930,78.0075,-150.0058,3710,   6.1,-1.4836,27.4948,2,27.4955,2,386.4,2,385.3,2, 2.90,2,-0.08,2,0.52,2,1904.7,2,1991.1,2,-3.63,2,1555
  18SN20150920,   ARC,23,1,23,23,2,20150930,78.0075,-150.0058,3710,  20.9,-1.4803,27.5328,2,27.5373,2,387.6,2,385.4,2, 2.90,2,-0.08,2,0.52,2,1904.6,2,1987.4,2,-3.61,2,1555
  18SN20150920,   ARC,23,1,22,22,2,20150930,78.0075,-150.0058,3710,  41.3,-0.9020,30.1208,2,30.0081,2,392.3,2,385.3,2, 3.00,2, 0.01,2,0.62,2,2036.3,2,2143.3,2,-3.14,2,1555
  18SN20150920,   ARC,23,1,21,21,2,20150930,78.0075,-150.0058,3710,  46.4,-0.4561,30.6232,2,30.4990,2,380.8,2,374.3,2, 5.11,2, 0.74,2,0.72,2,2046.0,2,2167.9,2,-2.76,2,1555
  18SN20150920,   ARC,23,1,20,20,2,20150930,78.0075,-150.0058,3710,  77.8,-0.9523,31.9041,2,31.8486,2,323.2,2,323.9,2,15.94,2, 7.60,2,1.25,2,2121.0,2,2211.8,2,-1.89,2,1555
  18SN20150920,   ARC,23,1,19,19,2,20150930,78.0075,-150.0058,3710, 105.4,-1.2561,32.3122,2,32.3129,2,304.8,2,307.4,2,24.09,2,11.56,2,1.56,2,2170.8,2,2234.5,2,-1.65,2,1555
  18SN20150920,   ARC,23,1,18,18,2,20150930,78.0075,-150.0058,3710, 135.2,-1.3810,32.6812,2,32.6270,2,293.2,2,293.1,2,28.21,2,13.37,2,1.70,2,2188.4,2,2246.5,2,-1.58,2,1555
  18SN20150920,   ARC,23,1,17,17,2,20150930,78.0075,-150.0058,3710, 165.8,-1.4505,32.9345,2,32.9152,2,277.1,2,277.4,2,33.14,2,15.45,2,1.83,2,2223.9,2,2261.5,2,-1.52,2,1555
  18SN20150920,   ARC,23,1,16,16,2,20150930,78.0075,-150.0058,3710, 186.3,-1.4312,33.1834,2,33.1386,2,271.2,2,271.4,2,35.39,2,16.06,2,1.87,2,2237.6,2,2278.7,2,-1.45,2,1555
  18SN20150920,   ARC,23,1,15,15,2,20150930,78.0075,-150.0058,3710, 212.3,-1.2250,33.6749,2,33.6878,2,268.4,2,267.0,2,28.02,2,14.75,2,1.53,2,2225.9,2,2281.4,2,-0.99,2,1555
  18SN20150920,   ARC,23,1,14,14,2,20150930,78.0075,-150.0058,3710, 238.6,-0.7770,34.1787,2,34.1639,2,268.8,2,268.4,2,18.34,2,12.71,2,1.12,2,2199.6,2,2283.4,2,-0.46,2,1555
  18SN20150920,   ARC,23,1,13,13,2,20150930,78.0075,-150.0058,3710, 262.8,-0.3386,34.4119,2,34.4117,2,272.4,2,272.2,2,13.54,2,12.17,2,0.95,2,2186.3,2,2280.6,2,-0.13,2,1555
  18SN20150920,   ARC,23,1,12,12,2,20150930,78.0075,-150.0058,3710, 328.4, 0.4679,34.7125,2,34.7100,2,285.1,2,283.2,2, 8.47,2,12.46,2,0.84,2,2168.3,2,2288.9,2, 0.15,2,1555
  18SN20150920,   ARC,23,1,11,11,2,20150930,78.0075,-150.0058,3710, 374.8, 0.6822,34.7827,2,34.7885,2,289.5,2,289.7,2, 6.88,2,12.38,2,0.81,2,2159.7,2,2290.8,2, 0.17,2,1555
  18SN20150920,   ARC,23,1,10,10,2,20150930,78.0075,-150.0058,3710, 453.7, 0.8335,34.8314,2,34.8343,2,294.2,2,294.7,2, 6.10,2,12.21,2,0.80,2,2159.0,2,2294.8,2, 0.18,2,1555
  18SN20150920,   ARC,23,1, 9, 9,2,20150930,78.0075,-150.0058,3710, 507.7, 0.8160,34.8391,2,34.8459,2,294.2,2,295.6,2, 6.34,2,12.40,2,0.80,2,2159.6,2,2295.7,2, 0.20,2,1555
  18SN20150920,   ARC,23,1, 8, 8,2,20150930,78.0075,-150.0058,3710, 609.2, 0.6132,34.8512,2,34.8560,2,296.3,2,296.3,2, 6.50,2,12.50,2,0.81,2,2156.3,2,2293.7,2, 0.22,2,1555
  18SN20150920,   ARC,23,1, 7, 7,2,20150930,78.0075,-150.0058,3710, 710.6, 0.4383,34.8590,2,34.8637,2,297.5,2,297.9,2, 6.48,2,12.55,2,0.81,2,2155.0,2,2293.8,2, 0.23,2,1555
  18SN20150920,   ARC,23,1, 6, 6,2,20150930,78.0075,-150.0058,3710, 811.9, 0.2714,34.8624,2,34.8672,2,298.7,2,299.0,2, 6.48,2,12.55,2,0.82,2,2160.8,2,2302.3,2, 0.27,2,1555
  18SN20150920,   ARC,23,1, 5, 5,2,20150930,78.0075,-150.0058,3710,1014.1, 0.0271,34.8753,2,34.8791,2,299.2,2,299.2,2, 6.86,2,12.65,2,0.83,2,2157.5,2,2298.9,2, 0.24,2,1555
  18SN20150920,   ARC,23,1, 4, 4,2,20150930,78.0075,-150.0058,3710,1523.3,-0.2676,34.9098,2,34.9111,2,298.1,2,298.0,2, 8.25,2,13.36,2,0.88,2,2152.9,2,2296.6,2, 0.24,2,1555
  18SN20150920,   ARC,23,1, 3, 3,2,20150930,78.0075,-150.0058,3710,2032.4,-0.3981,34.9388,2,34.9431,2,292.0,2,292.4,2,10.59,2,14.08,2,0.94,2,2152.7,2,2305.4,2, 0.27,2,1555
  18SN20150920,   ARC,23,1, 2, 2,2,20150930,78.0075,-150.0058,3710,2543.5,-0.3789,34.9518,2,34.9544,2,286.7,2,286.8,2,12.30,2,14.42,2,0.97,2,2155.4,2,2302.4,2, 0.28,2,1555
  18SN20150920,   ARC,23,1, 1, 1,2,20150930,78.0075,-150.0058,3710,3054.2,-0.3265,34.9559,2,34.9578,2,284.0,2,284.2,2,13.11,2,14.53,2,0.98,2,2157.4,2,2299.4,2, 0.27,2,1555
  18SN20150920,   ARC,25,1,24,24,2,20151001,78.9972,-149.9070,3808,   5.6,-1.4850,27.3117,2,27.3475,2,386.6,2,386.4,2, 2.80,2,-0.12,2,0.55,2,1895.7,2,1981.9,2,-3.71,2,1016
  18SN20150920,   ARC,25,1,22,22,2,20151001,78.9972,-149.9070,3808,  20.2,-0.8150,29.2371,2,29.2828,2,391.9,2,392.1,2, 3.01,2,-0.15,2,0.60,2,2010.4,2,2117.3,2,-3.56,2,1016
  18SN20150920,   ARC,25,1,21,21,2,20151001,78.9972,-149.9070,3808,  25.4,-0.9946,29.5929,2,29.7537,2,391.8,2,391.8,2, 2.99,2,-0.12,2,0.62,2,2025.4,2,2138.0,2,-3.33,2,1016
  18SN20150920,   ARC,25,1,19,19,2,20151001,78.9972,-149.9070,3808,  42.0,-0.8018,30.2950,2,30.3055,2,387.2,2,385.3,2, 3.21,2,-0.05,2,0.68,2,2037.6,2,2157.9,2,-2.95,2,1016
  18SN20150920,   ARC,25,1,18,18,2,20151001,78.9972,-149.9070,3808,  80.2,-0.9608,31.9554,2,31.9435,2,322.9,2,320.0,2,17.62,2, 8.29,2,1.35,2,2127.6,2,2211.7,2,-1.81,2,1016
  18SN20150920,   ARC,25,1,17,17,2,20151001,78.9972,-149.9070,3808, 109.6,-1.2746,32.3712,2,32.3608,2,305.2,2,304.7,2,24.48,2,11.50,2,1.59,2,2169.7,2,2232.8,2,-1.66,2,1016
  18SN20150920,   ARC,25,1,16,16,2,20151001,78.9972,-149.9070,3808, 140.3,-1.5313,32.6310,2,32.6257,2,293.7,2,301.2,2,26.00,2,12.33,2,1.64,2,2188.8,2,2249.6,2,-1.68,2,1016
  18SN20150920,   ARC,25,1,15,15,2,20151001,78.9972,-149.9070,3808, 173.7,-1.4658,32.9149,2,32.9098,2,277.3,2,278.8,2,33.11,2,14.99,2,1.83,2,2220.6,2,2265.2,2,-1.56,2,1016
  18SN20150920,   ARC,25,1,14,14,2,20151001,78.9972,-149.9070,3808, 193.4,-1.4620,33.1309,2,33.1280,2,274.9,2,274.5,2,35.10,2,15.38,2,1.86,2,2235.1,2,2274.1,2,-1.49,2,1016
  18SN20150920,   ARC,25,1,13,13,2,20151001,78.9972,-149.9070,3808, 223.3,-1.2768,33.6163,2,33.5984,2,269.3,2,269.9,2,29.61,2,14.51,2,1.62,2,2229.2,2,2283.0,2,-1.14,2,1016
  18SN20150920,   ARC,25,1,12,12,2,20151001,78.9972,-149.9070,3808, 247.6,-0.8543,34.1166,2,34.0990,2,269.8,2,268.9,2,19.74,2,12.86,2,1.21,2,2202.3,2,2284.1,2,-0.57,2,1016
  18SN20150920,   ARC,25,1,11,11,2,20151001,78.9972,-149.9070,3808, 274.9,-0.3342,34.4198,2,34.4194,2,269.4,2,269.6,2,14.61,2,12.49,2,1.03,2,2188.8,2,2280.2,2,-0.16,2,1016
  18SN20150920,   ARC,25,1,10,10,2,20151001,78.9972,-149.9070,3808, 334.6, 0.4491,34.7026,2,34.7044,2,277.3,2,277.1,2,10.34,2,12.65,2,0.91,2,2172.8,2,-999.0,9, 0.16,2,1016
  18SN20150920,   ARC,25,1, 9, 9,2,20151001,78.9972,-149.9070,3808, 372.5, 0.6882,34.7761,2,34.7788,2,288.9,2,288.6,2, 7.00,2,12.08,2,0.83,2,-999.0,9,-999.0,9, -999,9,1016
  18SN20150920,   ARC,25,1, 8, 8,2,20151001,78.9972,-149.9070,3808, 469.4, 0.8295,34.8313,2,34.8353,2,293.9,2,294.5,2, 6.17,2,12.08,2,0.82,2,-999.0,9,-999.0,9, -999,9,1016
  18SN20150920,   ARC,25,1, 7, 7,2,20151001,78.9972,-149.9070,3808, 508.3, 0.8260,34.8416,2,34.8445,2,294.1,2,295.0,2, 6.46,2,12.17,2,0.83,2,-999.0,9,-999.0,9, -999,9,1016
  18SN20150920,   ARC,25,1, 6, 6,2,20151001,78.9972,-149.9070,3808, 609.4, 0.6022,34.8509,2,34.8561,2,295.6,2,296.8,2, 6.43,2,12.23,2,0.83,2,-999.0,9,-999.0,9, -999,9,1016
  18SN20150920,   ARC,25,1, 5, 5,2,20151001,78.9972,-149.9070,3808, 812.1, 0.2279,34.8629,2,34.8673,2,299.7,2,301.1,2, 6.31,2,12.05,2,0.83,2,-999.0,9,-999.0,9, -999,9,1016
  18SN20150920,   ARC,25,1, 4, 4,2,20151001,78.9972,-149.9070,3808,1013.8,-0.0262,34.8732,2,34.8772,2,301.9,2,302.6,2, 6.49,2,12.11,2,0.84,2,-999.0,9,-999.0,9, -999,9,1016
  18SN20150920,   ARC,25,1, 3, 3,2,20151001,78.9972,-149.9070,3808,1523.5,-0.3088,34.9088,2,34.9129,2,298.6,2,299.1,2, 8.26,2,13.00,2,0.90,2,-999.0,9,-999.0,9, -999,9,1016
  18SN20150920,   ARC,25,1, 2, 2,2,20151001,78.9972,-149.9070,3808,2033.1,-0.4023,34.9400,2,34.9429,2,291.4,2,291.6,2,10.79,2,13.86,2,0.97,2,-999.0,9,-999.0,9, -999,9,1016
  18SN20150920,   ARC,25,1, 1, 1,2,20151001,78.9972,-149.9070,3808,3054.1,-0.3263,34.9561,2,34.9594,2,284.4,2,284.2,2,13.10,2,14.26,2,1.00,2,-999.0,9,-999.0,9, -999,9,1016