BOTTLE,20240122CCHSIOVAJ
EXPOCODE,SECT_ID,STNNBR,CASTNO,SAMPNO,BTLNBR,BTLNBR_FLAG_W,DATE,TIME,LATITUDE,LONGITUDE,DEPTH,CTDPRS,CTDTMP,CTDSAL,CTDSAL_FLAG_W,SALNTY,SALNTY_FLAG_W,OXYGEN,OXYGEN_FLAG_W,SILCAT,SILCAT_FLAG_W,NITRAT,NITRAT_FLAG_W,NITRIT,NITRIT_FLAG_W,PHSPHT,PHSPHT_FLAG_W,TCARBN,TCARBN_FLAG_W,ALKALI,ALKALI_FLAG_W,PH_TOT,PH_TOT_FLAG_W,PH_TMP,BTL_TIME
,,,,,,,,,,,METERS,DBAR,ITS-90,PSS-78,,PSS-78,,UMOL/KG,,UMOL/KG,,UMOL/KG,,UMOL/KG,,UMOL/KG,,UMOL/KG,,UMOL/KG,,,,DEG C,
  49UP20150627,RF1506,  5479,  1,      0,    BUC,2,20150702,0808, 23.7770, 132.9972, 2521,      0.0,  30.3686,  35.1172,2,  35.1192,2,    193.4,2,     1.13,2,     0.05,2,     0.00,2,     0.02,2,   1973.2,2,   2304.5,2,     -999,9,     -999,     0915
  49UP20150627,RF1506,  5479,  1,     33,  24469,2,20150702,0808, 23.7770, 132.9972, 2521,     11.6,  30.1276,  35.1208,2,  35.1129,2,    194.3,2,     1.13,2,     0.02,2,     0.00,2,     0.01,2,   1972.6,2,   2304.8,2,     -999,9,     -999,     0943
  49UP20150627,RF1506,  5479,  1,     32,  22105,2,20150702,0808, 23.7770, 132.9972, 2521,     26.8,  28.1123,  34.9611,2,     -999,9,    209.3,2,     1.11,2,     0.00,2,     0.00,2,     0.01,2,   1966.0,2,   2295.7,2,     -999,9,     -999,     0941
  49UP20150627,RF1506,  5479,  1,     31,  23515,2,20150702,0808, 23.7770, 132.9972, 2521,     51.0,  24.9392,  35.0267,2,     -999,9,    221.7,2,     1.18,2,     0.01,2,     0.00,2,     0.01,2,   1976.1,2,   2298.9,2,     -999,9,     -999,     0937
  49UP20150627,RF1506,  5479,  1,     27,  21998,2,20150702,0808, 23.7770, 132.9972, 2521,     77.1,  22.3164,  34.9737,2,     -999,9,    220.7,2,     1.49,2,     0.00,2,     0.00,2,     0.01,2,   1993.0,2,   2295.2,2,     -999,9,     -999,     0936
  49UP20150627,RF1506,  5479,  1,     26,  22084,2,20150702,0808, 23.7770, 132.9972, 2521,    103.0,  20.5891,  34.9046,2,  34.9032,2,    217.2,2,     1.71,2,     0.04,2,     0.02,2,     0.03,2,   2003.5,2,   2291.6,2,     -999,9,     -999,     0934
  49UP20150627,RF1506,  5479,  1,     25,  22098,2,20150702,0808, 23.7770, 132.9972, 2521,    127.3,  19.7621,  34.8672,2,     -999,9,    213.3,2,     2.02,2,     0.90,2,     0.08,2,     0.08,2,   2011.2,2,   2287.6,2,     -999,9,     -999,     0933
  49UP20150627,RF1506,  5479,  1,     21,  22078,2,20150702,0808, 23.7770, 132.9972, 2521,    153.7,  19.0960,  34.8360,2,     -999,9,    210.6,2,     2.28,2,     1.87,2,     0.02,2,     0.14,2,   2018.6,2,   2286.2,2,     -999,9,     -999,     0931
  49UP20150627,RF1506,  5479,  1,     20,  22093,2,20150702,0808, 23.7770, 132.9972, 2521,    204.8,  18.4218,  34.8183,2,  34.8179,6,    212.7,2,     2.77,2,     2.48,2,     0.01,2,     0.18,2,   2022.0,2,   2283.8,2,     -999,9,     -999,     0929
  49UP20150627,RF1506,  5479,  1,     19,  22092,2,20150702,0808, 23.7770, 132.9972, 2521,    255.1,  17.7668,  34.7624,2,     -999,9,    206.5,2,     3.58,2,     3.87,2,     0.01,2,     0.26,2,     -999,9,     -999,9,     -999,9,     -999,     0927
  49UP20150627,RF1506,  5479,  1,     18,  22101,2,20150702,0808, 23.7770, 132.9972, 2521,    305.7,  16.9713,  34.7062,2,     -999,9,    205.8,2,     4.57,2,     5.10,2,     0.00,2,     0.34,2,     -999,9,     -999,9,     -999,9,     -999,     0925
  49UP20150627,RF1506,  5479,  1,     17,  22090,2,20150702,0808, 23.7770, 132.9972, 2521,    406.8,  15.3004,  34.5753,2,  34.5780,2,    192.0,2,     9.18,2,     8.98,2,     0.00,2,     0.61,2,     -999,9,     -999,9,     -999,9,     -999,     0920
  49UP20150627,RF1506,  5479,  1,     16,  22089,2,20150702,0808, 23.7770, 132.9972, 2521,    506.3,  12.4353,  34.3810,2,     -999,9,    178.3,2,    19.61,2,    14.95,2,     0.00,2,     1.04,2,     -999,9,     -999,9,     -999,9,     -999,     0917
  49UP20150627,RF1506,  5479,  1,     15,  22088,2,20150702,0808, 23.7770, 132.9972, 2521,    606.9,   9.1482,  34.1846,2,  34.1885,6,    156.2,6,    36.33,6,    22.47,6,     0.00,6,     1.60,6,     -999,9,     -999,9,     -999,9,     -999,     0914
  49UP20150627,RF1506,  5479,  1,     13,  22667,2,20150702,0808, 23.7770, 132.9972, 2521,    708.2,   6.6083,  34.1241,2,  34.1239,2,    116.4,2,    63.15,2,    30.71,2,     0.00,2,     2.20,2,     -999,9,     -999,9,     -999,9,     -999,     0910
  49UP20150627,RF1506,  5479,  1,     14,  21999,2,20150702,0808, 23.7770, 132.9972, 2521,    710.7,   6.5665,  34.1246,2,  34.1233,2,    115.9,2,    63.49,2,    30.78,2,     0.00,2,     2.21,2,     -999,9,     -999,9,     -999,9,     -999,     0910
  49UP20150627,RF1506,  5479,  1,      9,  23518,2,20150702,0808, 23.7770, 132.9972, 2521,    811.4,   5.1376,  34.2250,2,  34.2236,2,     74.0,2,    88.33,2,    36.98,2,     0.00,2,     2.65,2,     -999,9,     -999,9,     -999,9,     -999,     0902
  49UP20150627,RF1506,  5479,  1,      8,  22081,2,20150702,0808, 23.7770, 132.9972, 2521,    911.5,   4.5490,  34.3034,2,     -999,9,     64.0,2,   101.29,2,    38.72,2,     0.00,2,     2.78,2,     -999,9,     -999,9,     -999,9,     -999,     0856
  49UP20150627,RF1506,  5479,  1,      7,  23516,2,20150702,0808, 23.7770, 132.9972, 2521,   1012.9,   3.9820,  34.3692,2,  34.3691,2,     61.4,6,   113.23,6,    39.79,6,     0.00,6,     2.85,6,     -999,9,     -999,9,     -999,9,     -999,     0852
  49UP20150627,RF1506,  5479,  1,      5,  22094,2,20150702,0808, 23.7770, 132.9972, 2521,   1216.3,   3.2003,  34.4596,2,  34.4595,2,     66.3,2,   129.32,2,    40.37,2,     0.00,2,     2.87,2,     -999,9,     -999,9,     -999,9,     -999,     0835
  49UP20150627,RF1506,  5479,  1,      6,  22113,2,20150702,0808, 23.7770, 132.9972, 2521,   1218.4,   3.1972,  34.4599,2,  34.4590,2,     66.1,2,   129.49,2,    40.41,2,     0.00,2,     2.87,2,     -999,9,     -999,9,     -999,9,     -999,     0836
  49UP20150627,RF1506,  5479,  1,      4,  22077,2,20150702,0808, 23.7770, 132.9972, 2521,   1420.0,   2.7770,  34.5076,2,  34.5076,2,     75.6,2,   136.81,2,    40.14,2,     0.00,2,     2.85,2,     -999,9,     -999,9,     -999,9,     -999,     0829
  49UP20150627,RF1506,  5479,  1,      3,  22104,2,20150702,0808, 23.7770, 132.9972, 2521,   1619.6,   2.4139,  34.5524,2,  34.5523,2,     88.5,2,   141.28,2,    39.56,2,     0.00,2,     2.80,2,     -999,9,     -999,9,     -999,9,     -999,     0823
  49UP20150627,RF1506,  5479,  1,      2,  22075,2,20150702,0808, 23.7770, 132.9972, 2521,   1820.2,   2.0872,  34.5983,2,  34.5988,6,    107.1,2,   142.47,2,    38.56,2,     0.00,2,     2.71,2,     -999,9,     -999,9,     -999,9,     -999,     0812
  49UP20150627,RF1506,  5479,  1,      1,  21997,2,20150702,0808, 23.7770, 132.9972, 2521,   2025.1,   1.9369,  34.6202,2,  34.6213,2,    116.8,2,   143.02,2,    38.03,2,     0.00,2,     2.67,2,     -999,9,     -999,9,     -999,9,     -999,     0808
  49UP20150627,RF1506,  5480,  1,      0,    BUC,2,20150702,1539, 23.7838, 131.9905, 3048,      0.0,  29.5081,  34.6377,2,     -999,9,    194.9,2,     1.24,2,     0.02,2,     0.00,2,     0.03,2,     -999,9,     -999,9,     -999,9,     -999,     1633
  49UP20150627,RF1506,  5480,  1,     33,  24469,2,20150702,1539, 23.7838, 131.9905, 3048,     11.2,  29.5087,  34.6380,2,     -999,9,    196.3,2,     1.22,2,     0.04,2,     0.00,2,     0.03,2,     -999,9,     -999,9,     -999,9,     -999,     1650
  49UP20150627,RF1506,  5480,  1,     32,  22105,2,20150702,1539, 23.7838, 131.9905, 3048,     25.2,  27.7636,  34.9748,2,     -999,9,    211.2,2,     1.11,2,     0.01,2,     0.00,2,     0.02,2,     -999,9,     -999,9,     -999,9,     -999,     1648
  49UP20150627,RF1506,  5480,  1,     31,  23515,2,20150702,1539, 23.7838, 131.9905, 3048,     51.1,  23.5712,  34.9623,2,     -999,9,    219.9,2,     1.29,2,     0.00,2,     0.00,2,     0.02,2,     -999,9,     -999,9,     -999,9,     -999,     1645
  49UP20150627,RF1506,  5480,  1,     27,  21998,2,20150702,1539, 23.7838, 131.9905, 3048,     74.9,  21.2609,  34.9013,2,     -999,9,    214.6,2,     1.69,2,     0.12,2,     0.01,2,     0.05,2,     -999,9,     -999,9,     -999,9,     -999,     1644
  49UP20150627,RF1506,  5480,  1,     26,  22084,2,20150702,1539, 23.7838, 131.9905, 3048,    101.2,  20.2131,  34.8820,2,     -999,9,    204.7,2,     2.04,2,     1.61,2,     0.05,2,     0.13,2,     -999,9,     -999,9,     -999,9,     -999,     1643
  49UP20150627,RF1506,  5480,  1,     25,  22098,2,20150702,1539, 23.7838, 131.9905, 3048,    126.5,  19.6221,  34.8535,2,     -999,9,    207.3,2,     2.27,2,     1.85,2,     0.04,2,     0.15,2,     -999,9,     -999,9,     -999,9,     -999,     1642
  49UP20150627,RF1506,  5480,  1,     21,  22078,2,20150702,1539, 23.7838, 131.9905, 3048,    150.5,  19.0833,  34.8322,2,     -999,9,    206.7,2,     2.53,2,     2.33,2,     0.02,2,     0.18,2,     -999,9,     -999,9,     -999,9,     -999,     1640
  49UP20150627,RF1506,  5480,  1,     20,  22093,2,20150702,1539, 23.7838, 131.9905, 3048,    201.7,  18.1282,  34.7752,2,     -999,9,    200.9,2,     3.58,2,     3.94,2,     0.01,2,     0.28,2,     -999,9,     -999,9,     -999,9,     -999,     1638
  49UP20150627,RF1506,  5480,  1,     19,  22092,2,20150702,1539, 23.7838, 131.9905, 3048,    253.0,  17.1042,  34.7046,2,     -999,9,    196.0,2,     5.05,2,     5.82,2,     0.01,2,     0.41,2,     -999,9,     -999,9,     -999,9,     -999,     1637
  49UP20150627,RF1506,  5480,  1,     18,  22101,2,20150702,1539, 23.7838, 131.9905, 3048,    303.9,  16.0498,  34.6310,2,     -999,9,    190.5,2,     7.46,2,     7.94,2,     0.00,2,     0.54,2,     -999,9,     -999,9,     -999,9,     -999,     1635
  49UP20150627,RF1506,  5480,  1,     17,  22090,2,20150702,1539, 23.7838, 131.9905, 3048,    404.4,  13.6715,  34.4653,2,     -999,9,    177.4,2,    15.00,2,    12.91,2,     0.00,2,     0.90,2,     -999,9,     -999,9,     -999,9,     -999,     1632
  49UP20150627,RF1506,  5480,  1,     16,  22089,2,20150702,1539, 23.7838, 131.9905, 3048,    504.9,  10.9488,  34.3031,2,     -999,9,    161.7,6,    27.38,6,    18.90,6,     0.00,6,     1.34,6,     -999,9,     -999,9,     -999,9,     -999,     1629
  49UP20150627,RF1506,  5480,  1,     14,  21999,2,20150702,1539, 23.7838, 131.9905, 3048,    606.2,   7.9505,  34.1940,2,     -999,9,    126.1,2,    50.81,2,    27.40,2,     0.00,2,     1.98,2,     -999,9,     -999,9,     -999,9,     -999,     1626
  49UP20150627,RF1506,  5480,  1,     15,  22088,2,20150702,1539, 23.7838, 131.9905, 3048,    607.6,   7.9080,  34.1945,2,     -999,9,    126.0,2,    51.02,2,    27.43,2,     0.00,2,     1.98,2,     -999,9,     -999,9,     -999,9,     -999,     1626
  49UP20150627,RF1506,  5480,  1,     13,  22667,2,20150702,1539, 23.7838, 131.9905, 3048,    709.0,   6.1505,  34.1770,2,     -999,9,     98.5,2,    71.67,2,    33.00,2,     0.00,2,     2.38,2,     -999,9,     -999,9,     -999,9,     -999,     1623
  49UP20150627,RF1506,  5480,  1,      9,  23518,2,20150702,1539, 23.7838, 131.9905, 3048,    807.7,   5.0835,  34.2588,2,     -999,9,     73.4,2,    91.42,2,    37.05,2,     0.00,2,     2.67,2,     -999,9,     -999,9,     -999,9,     -999,     1620
  49UP20150627,RF1506,  5480,  1,      8,  22081,2,20150702,1539, 23.7838, 131.9905, 3048,    908.2,   4.2647,  34.3271,2,     -999,9,     61.2,6,   107.21,6,    39.41,6,     0.00,6,     2.84,6,     -999,9,     -999,9,     -999,9,     -999,     1617
  49UP20150627,RF1506,  5480,  1,      6,  22113,2,20150702,1539, 23.7838, 131.9905, 3048,   1012.9,   3.8138,  34.3779,2,     -999,9,     59.1,2,   116.94,2,    40.19,2,     0.00,2,     2.89,2,     -999,9,     -999,9,     -999,9,     -999,     1606
  49UP20150627,RF1506,  5480,  1,      7,  23516,2,20150702,1539, 23.7838, 131.9905, 3048,   1013.6,   3.8063,  34.3794,2,     -999,9,     59.4,2,   116.87,2,    40.21,2,     0.00,2,     2.89,2,     -999,9,     -999,9,     -999,9,     -999,     1607
  49UP20150627,RF1506,  5480,  1,      5,  22094,2,20150702,1539, 23.7838, 131.9905, 3048,   1213.6,   3.1712,  34.4666,2,     -999,9,     67.6,2,   129.70,2,    40.31,2,     0.00,2,     2.89,2,     -999,9,     -999,9,     -999,9,     -999,     1601
  49UP20150627,RF1506,  5480,  1,      4,  22077,2,20150702,1539, 23.7838, 131.9905, 3048,   1416.3,   2.6838,  34.5251,2,     -999,9,     80.8,2,   137.77,2,    39.83,2,     0.00,2,     2.84,2,     -999,9,     -999,9,     -999,9,     -999,     1557
  49UP20150627,RF1506,  5480,  1,      3,  22104,2,20150702,1539, 23.7838, 131.9905, 3048,   1619.0,   2.3252,  34.5725,2,     -999,9,     96.4,2,   141.11,2,    39.13,2,     0.00,2,     2.78,2,     -999,9,     -999,9,     -999,9,     -999,     1548
  49UP20150627,RF1506,  5480,  1,      2,  22075,2,20150702,1539, 23.7838, 131.9905, 3048,   1821.7,   2.0952,  34.5938,2,     -999,9,    105.0,2,   143.52,2,    38.72,2,     0.00,2,     2.75,2,     -999,9,     -999,9,     -999,9,     -999,     1543
  49UP20150627,RF1506,  5480,  1,      1,  21997,2,20150702,1539, 23.7838, 131.9905, 3048,   2024.7,   1.9534,  34.6200,2,     -999,9,    117.0,2,   142.99,2,    38.05,2,     0.00,2,     2.69,2,     -999,9,     -999,9,     -999,9,     -999,     1539
  49UP20150627,RF1506,  5481,  1,      0,    BUC,2,20150702,2215, 23.9903, 130.9962, 3386,      0.0,  28.2590,  34.3473,2,  34.3441,2,    203.5,2,     1.32,2,     0.09,2,     0.00,2,     0.04,2,   1947.3,2,   2254.5,2,     -999,9,     -999,     2301
  49UP20150627,RF1506,  5481,  1,     33,  24469,2,20150702,2215, 23.9903, 130.9962, 3386,     10.0,  28.2240,  34.3470,2,  34.3502,2,    200.1,2,     1.23,2,     0.02,2,     0.00,2,     0.02,2,   1947.9,2,   2253.8,2,     -999,9,     -999,     2335
  49UP20150627,RF1506,  5481,  1,     32,  22105,2,20150702,2215, 23.9903, 130.9962, 3386,     26.1,  24.8092,  34.6965,2,     -999,9,    224.9,2,     1.41,2,     0.02,2,     0.00,2,     0.01,2,   1974.3,2,   2279.8,2,     -999,9,     -999,     2333
  49UP20150627,RF1506,  5481,  1,     31,  23515,2,20150702,2215, 23.9903, 130.9962, 3386,     50.9,  20.9624,  34.8699,2,     -999,9,    232.0,2,     1.72,2,     0.02,2,     0.00,2,     0.03,2,   1992.0,2,   2290.4,2,     -999,9,     -999,     2332
  49UP20150627,RF1506,  5481,  1,     27,  21998,2,20150702,2215, 23.9903, 130.9962, 3386,     75.4,  19.7147,  34.8548,2,     -999,9,    227.8,2,     1.81,2,     0.01,2,     0.00,2,     0.04,2,   2002.8,2,   2289.6,2,     -999,9,     -999,     2330
  49UP20150627,RF1506,  5481,  1,     26,  22084,2,20150702,2215, 23.9903, 130.9962, 3386,    101.5,  18.9611,  34.8403,2,  34.8409,2,    217.9,2,     2.12,2,     1.18,2,     0.11,2,     0.11,2,   2012.5,2,   2287.3,2,     -999,9,     -999,     2326
  49UP20150627,RF1506,  5481,  1,     25,  22098,2,20150702,2215, 23.9903, 130.9962, 3386,    125.6,  18.6987,  34.8202,2,     -999,9,    211.2,2,     2.54,2,     2.33,2,     0.02,2,     0.17,2,   2020.3,2,   2283.5,2,     -999,9,     -999,     2324
  49UP20150627,RF1506,  5481,  1,     21,  22078,2,20150702,2215, 23.9903, 130.9962, 3386,    151.6,  18.5106,  34.8472,2,     -999,9,    215.8,2,     2.54,2,     2.28,2,     0.02,2,     0.17,2,   2019.9,2,   2287.6,2,     -999,9,     -999,     2322
  49UP20150627,RF1506,  5481,  1,     20,  22093,2,20150702,2215, 23.9903, 130.9962, 3386,    202.1,  18.3327,  34.8414,2,  34.8408,2,    218.2,2,     2.61,2,     2.30,2,     0.01,2,     0.16,2,   2021.5,2,   2286.2,2,     -999,9,     -999,     2320
  49UP20150627,RF1506,  5481,  1,     19,  22092,2,20150702,2215, 23.9903, 130.9962, 3386,    252.5,  18.2038,  34.8292,2,     -999,9,    217.3,2,     2.75,2,     2.48,2,     0.01,2,     0.19,2,     -999,9,     -999,9,     -999,9,     -999,     2317
  49UP20150627,RF1506,  5481,  1,     18,  22101,2,20150702,2215, 23.9903, 130.9962, 3386,    302.0,  17.4258,  34.7369,2,     -999,9,    205.0,2,     4.16,2,     4.64,2,     0.00,2,     0.32,2,     -999,9,     -999,9,     -999,9,     -999,     2315
  49UP20150627,RF1506,  5481,  1,     17,  22090,2,20150702,2215, 23.9903, 130.9962, 3386,    402.0,  15.5158,  34.5962,2,  34.5948,6,    190.1,6,     9.28,6,     8.98,6,     0.00,6,     0.62,6,     -999,9,     -999,9,     -999,9,     -999,     2307
  49UP20150627,RF1506,  5481,  1,     16,  22089,3,20150702,2215, 23.9903, 130.9962, 3386,    503.4,  12.4923,  34.3974,2,  34.3967,2,    174.2,2,    20.78,2,    15.30,2,     0.00,2,     1.07,2,     -999,9,     -999,9,     -999,9,     -999,     2303
  49UP20150627,RF1506,  5481,  1,     15,  22088,2,20150702,2215, 23.9903, 130.9962, 3386,    503.8,  12.4741,  34.3961,2,  34.3954,2,    174.1,2,    20.95,2,    15.37,2,     0.00,2,     1.07,2,     -999,9,     -999,9,     -999,9,     -999,     2303
  49UP20150627,RF1506,  5481,  1,     14,  21999,2,20150702,2215, 23.9903, 130.9962, 3386,    603.6,   9.2579,  34.2015,2,  34.2016,2,    152.1,2,    37.24,2,    22.82,2,     0.00,2,     1.62,2,     -999,9,     -999,9,     -999,9,     -999,     2300
  49UP20150627,RF1506,  5481,  1,     13,  22667,2,20150702,2215, 23.9903, 130.9962, 3386,    705.4,   6.8248,  34.1774,2,     -999,9,    108.5,2,    63.66,2,    31.04,2,     0.00,2,     2.23,2,     -999,9,     -999,9,     -999,9,     -999,     2257
  49UP20150627,RF1506,  5481,  1,      9,  23518,2,20150702,2215, 23.9903, 130.9962, 3386,    807.2,   5.1258,  34.2325,2,  34.2315,2,     75.6,6,    89.89,6,    36.80,6,     0.00,6,     2.65,6,     -999,9,     -999,9,     -999,9,     -999,     2254
  49UP20150627,RF1506,  5481,  1,      7,  23516,2,20150702,2215, 23.9903, 130.9962, 3386,    907.9,   4.4039,  34.3022,2,  34.3020,2,     63.0,2,   104.52,2,    39.01,2,     0.00,2,     2.80,2,     -999,9,     -999,9,     -999,9,     -999,     2251
  49UP20150627,RF1506,  5481,  1,      8,  22081,2,20150702,2215, 23.9903, 130.9962, 3386,    908.3,   4.4043,  34.3024,2,  34.3036,2,     62.7,2,   104.30,2,    38.97,2,     0.00,2,     2.79,2,     -999,9,     -999,9,     -999,9,     -999,     2251
  49UP20150627,RF1506,  5481,  1,      6,  22113,2,20150702,2215, 23.9903, 130.9962, 3386,   1011.6,   3.9493,  34.3600,2,  34.3581,2,     59.4,2,   113.82,2,    39.99,2,     0.00,2,     2.85,2,     -999,9,     -999,9,     -999,9,     -999,     2247
  49UP20150627,RF1506,  5481,  1,      5,  22094,2,20150702,2215, 23.9903, 130.9962, 3386,   1215.2,   3.1209,  34.4614,2,  34.4611,6,     65.3,2,   130.96,2,    40.51,2,     0.00,2,     2.88,2,     -999,9,     -999,9,     -999,9,     -999,     2239
  49UP20150627,RF1506,  5481,  1,      4,  22077,2,20150702,2215, 23.9903, 130.9962, 3386,   1415.9,   2.6178,  34.5242,2,  34.5254,2,     80.0,2,   138.86,2,    39.92,2,     0.00,2,     2.83,2,     -999,9,     -999,9,     -999,9,     -999,     2234
  49UP20150627,RF1506,  5481,  1,      3,  22104,2,20150702,2215, 23.9903, 130.9962, 3386,   1618.5,   2.3256,  34.5670,2,  34.5670,2,     94.2,2,   141.41,2,    39.20,2,     0.00,2,     2.77,2,     -999,9,     -999,9,     -999,9,     -999,     2230
  49UP20150627,RF1506,  5481,  1,      2,  22075,2,20150702,2215, 23.9903, 130.9962, 3386,   1822.5,   2.1130,  34.5959,2,  34.5955,2,    105.9,2,   142.54,2,    38.60,2,     0.00,2,     2.72,2,     -999,9,     -999,9,     -999,9,     -999,     2220
  49UP20150627,RF1506,  5481,  1,      1,  21997,2,20150702,2215, 23.9903, 130.9962, 3386,   2027.9,   1.9519,  34.6187,2,  34.6181,2,    116.0,2,   142.76,2,    38.07,2,     0.00,2,     2.67,2,     -999,9,     -999,9,     -999,9,     -999,     2215