BOTTLE,20240122CCHSIOVAJ
EXPOCODE,SECT_ID,STNNBR,CASTNO,SAMPNO,BTLNBR,BTLNBR_FLAG_W,DATE,TIME,LATITUDE,LONGITUDE,DEPTH,CTDPRS,CTDTMP,CTDSAL,CTDSAL_FLAG_W,SALNTY,SALNTY_FLAG_W,OXYGEN,OXYGEN_FLAG_W,SILCAT,SILCAT_FLAG_W,NITRAT,NITRAT_FLAG_W,NITRIT,NITRIT_FLAG_W,PHSPHT,PHSPHT_FLAG_W,TCARBN,TCARBN_FLAG_W,ALKALI,ALKALI_FLAG_W,PH_TOT,PH_TOT_FLAG_W,PH_TMP,BTL_TIME
,,,,,,,,,,,METERS,DBAR,ITS-90,PSS-78,,PSS-78,,UMOL/KG,,UMOL/KG,,UMOL/KG,,UMOL/KG,,UMOL/KG,,UMOL/KG,,UMOL/KG,,,,DEG C,
  49UP20150627,RF1506,  5482,  1,      0,    BUC,2,20150703,0623, 24.6720, 130.0098, 4190,      0.0,  29.2579,  34.7142,2,  34.7247,2,    195.7,2,     1.22,2,     0.02,2,     0.00,2,     0.02,2,   1952.0,2,   2280.8,2,   8.1091,2,    25.00,     0710
  49UP20150627,RF1506,  5482,  1,     33,  24469,2,20150703,0623, 24.6720, 130.0098, 4190,     12.0,  29.1680,  34.7187,2,  34.7210,6,    196.3,2,     1.21,2,     0.03,2,     0.00,2,     0.02,2,   1948.9,2,   2280.5,2,   8.1101,2,    25.00,     0736
  49UP20150627,RF1506,  5482,  1,     32,  22105,2,20150703,0623, 24.6720, 130.0098, 4190,     27.6,  27.1848,  34.5271,2,     -999,9,    205.9,2,     1.26,2,     0.01,2,     0.00,2,     0.01,2,   1951.5,2,   2270.0,2,   8.0997,2,    25.00,     0734
  49UP20150627,RF1506,  5482,  1,     31,  23515,2,20150703,0623, 24.6720, 130.0098, 4190,     51.8,  23.5688,  34.7193,2,     -999,9,    224.8,2,     1.50,2,     0.01,2,     0.00,2,     0.01,2,   1978.0,2,   2285.0,2,   8.0648,2,    25.00,     0730
  49UP20150627,RF1506,  5482,  1,     27,  21998,2,20150703,0623, 24.6720, 130.0098, 4190,     77.1,  21.0518,  34.8623,2,     -999,9,    226.2,2,     1.72,2,     0.01,2,     0.00,2,     0.03,2,   1995.7,2,   2290.2,2,   8.0527,2,    25.00,     0728
  49UP20150627,RF1506,  5482,  1,     26,  22084,2,20150703,0623, 24.6720, 130.0098, 4190,    103.5,  20.1521,  34.8763,2,  34.8759,2,    206.5,2,     2.23,2,     1.61,2,     0.06,2,     0.12,2,   2011.6,2,   2290.2,2,   8.0202,2,    25.00,     0727
  49UP20150627,RF1506,  5482,  1,     25,  22098,2,20150703,0623, 24.6720, 130.0098, 4190,    126.6,  19.5174,  34.8521,2,     -999,9,    221.2,2,     2.01,2,     0.37,2,     0.25,2,     0.07,2,   2007.2,2,   2290.5,2,   8.0255,2,    25.00,     0726
  49UP20150627,RF1506,  5482,  1,     21,  22078,2,20150703,0623, 24.6720, 130.0098, 4190,    153.3,  18.8634,  34.8378,2,     -999,9,    216.0,2,     2.32,2,     1.64,2,     0.05,2,     0.13,2,   2016.6,2,   2289.1,2,   8.0083,2,    25.00,     0724
  49UP20150627,RF1506,  5482,  1,     20,  22093,2,20150703,0623, 24.6720, 130.0098, 4190,    203.9,  18.4119,  34.8351,2,  34.8345,2,    214.9,2,     2.79,2,     2.48,2,     0.01,2,     0.17,2,   2020.5,2,   2287.5,2,   8.0012,2,    25.00,     0722
  49UP20150627,RF1506,  5482,  1,     19,  22092,2,20150703,0623, 24.6720, 130.0098, 4190,    254.8,  18.2598,  34.8363,2,     -999,9,    218.8,2,     2.74,2,     2.36,2,     0.01,2,     0.16,2,   2018.3,2,   2288.5,2,   8.0026,2,    25.00,     0720
  49UP20150627,RF1506,  5482,  1,     18,  22101,3,20150703,0623, 24.6720, 130.0098, 4190,    303.8,  17.5244,  34.7456,2,     -999,9,    206.0,6,     4.11,6,     4.40,6,     0.01,6,     0.29,6,   2038.1,2,   2282.3,2,   7.9652,2,    25.00,     0718
  49UP20150627,RF1506,  5482,  1,     16,  22089,2,20150703,0623, 24.6720, 130.0098, 4190,    404.6,  15.8089,  34.6175,2,  34.6165,2,    194.6,2,     8.24,2,     8.14,2,     0.00,2,     0.55,2,   2060.4,2,   2277.7,2,   7.9039,2,    25.00,     0714
  49UP20150627,RF1506,  5482,  1,     17,  22090,2,20150703,0623, 24.6720, 130.0098, 4190,    405.5,  15.7694,  34.6159,2,  34.6174,2,    194.8,2,     8.24,2,     8.11,2,     0.00,2,     0.54,2,   2063.2,2,   2277.0,2,   7.9089,2,    25.00,     0715
  49UP20150627,RF1506,  5482,  1,     15,  22088,2,20150703,0623, 24.6720, 130.0098, 4190,    507.0,  12.7253,  34.4007,2,     -999,9,    179.4,2,    18.59,2,    14.48,2,     0.00,2,     1.00,2,   2107.7,2,   2275.5,2,   7.8023,2,    25.00,     0711
  49UP20150627,RF1506,  5482,  1,     14,  21999,2,20150703,0623, 24.6720, 130.0098, 4190,    606.9,   9.4130,  34.2252,2,  34.2252,2,    146.4,2,    36.79,2,    23.05,2,     0.00,2,     1.64,2,   2170.4,6,   2281.5,6,   7.6635,2,    25.00,     0708
  49UP20150627,RF1506,  5482,  1,     13,  22667,2,20150703,0623, 24.6720, 130.0098, 4190,    707.3,   6.9875,  34.1845,2,     -999,9,    108.6,2,    61.57,2,    30.85,2,     0.00,2,     2.21,2,   2234.1,2,   2302.4,2,   7.5417,6,    25.00,     0704
  49UP20150627,RF1506,  5482,  1,      8,  22081,2,20150703,0623, 24.6720, 130.0098, 4190,    809.6,   5.5929,  34.2048,2,  34.2035,2,     84.7,2,    81.24,2,    35.27,2,     0.00,2,     2.53,2,   2277.8,2,   2320.6,2,   7.4695,2,    25.00,     0700
  49UP20150627,RF1506,  5482,  1,      9,  23518,2,20150703,0623, 24.6720, 130.0098, 4190,    810.0,   5.5828,  34.2065,2,  34.2062,2,     84.7,2,    81.43,2,    35.31,2,     0.00,2,     2.54,2,   2277.0,2,   2319.6,2,   7.4727,2,    25.00,     0700
  49UP20150627,RF1506,  5482,  1,      7,  23516,2,20150703,0623, 24.6720, 130.0098, 4190,    910.3,   4.6407,  34.2785,2,     -999,9,     67.2,2,    99.51,2,    38.43,2,     0.00,2,     2.75,2,   2307.7,2,   2341.0,2,   7.4291,2,    25.00,     0657
  49UP20150627,RF1506,  5482,  1,      6,  22113,2,20150703,0623, 24.6720, 130.0098, 4190,   1010.1,   4.0847,  34.3439,2,  34.3428,2,     60.7,2,   111.25,2,    39.73,2,     0.00,2,     2.84,2,   2324.6,2,   2355.0,2,   7.4197,2,    25.00,     0651
  49UP20150627,RF1506,  5482,  1,      5,  22094,2,20150703,0623, 24.6720, 130.0098, 4190,   1212.9,   3.2499,  34.4467,2,  34.4487,2,     64.4,2,   128.68,2,    40.49,2,     0.00,2,     2.89,2,   2346.3,2,   2379.4,2,   7.4274,2,    25.00,     0645
  49UP20150627,RF1506,  5482,  1,      4,  22077,2,20150703,0623, 24.6720, 130.0098, 4190,   1414.9,   2.7547,  34.5117,2,  34.5125,6,     76.7,2,   137.03,2,    40.08,2,     0.00,2,     2.84,2,   2348.1,2,   2391.9,2,   7.4576,2,    25.00,     0641
  49UP20150627,RF1506,  5482,  1,      3,  22104,2,20150703,0623, 24.6720, 130.0098, 4190,   1618.4,   2.4298,  34.5529,2,  34.5533,6,     89.3,6,   141.08,6,    39.60,6,     0.00,6,     2.79,2,   2350.0,2,   2401.0,2,   7.4792,2,    25.00,     0637
  49UP20150627,RF1506,  5482,  1,      2,  22075,2,20150703,0623, 24.6720, 130.0098, 4190,   1821.3,   2.1757,  34.5862,2,  34.5866,6,    101.6,2,   142.71,2,    38.88,2,     0.00,2,     2.73,2,   2346.2,6,   2404.8,6,   7.5009,2,    25.00,     0628
  49UP20150627,RF1506,  5482,  1,      1,  21997,2,20150703,0623, 24.6720, 130.0098, 4190,   2023.4,   2.0025,  34.6134,2,  34.6131,2,    113.7,2,   143.05,2,    38.25,2,     0.00,2,     2.68,2,   2341.5,2,   2409.2,2,   7.5220,6,    25.00,     0623
  49UP20150627,RF1506,  5483,  1,      0,    BUC,2,20150703,1226, 25.0120, 129.5048, 4042,      0.0,  29.6477,  34.8984,2,     -999,9,    194.0,2,     -999,9,     -999,9,     -999,9,     -999,9,     -999,9,     -999,9,     -999,9,     -999,     1310
  49UP20150627,RF1506,  5483,  1,     33,  24469,2,20150703,1226, 25.0120, 129.5048, 4042,     10.2,  29.6526,  34.8981,2,     -999,9,    193.8,2,     -999,9,     -999,9,     -999,9,     -999,9,     -999,9,     -999,9,     -999,9,     -999,     1341
  49UP20150627,RF1506,  5483,  1,     32,  22105,2,20150703,1226, 25.0120, 129.5048, 4042,     25.4,  29.6145,  34.8893,2,     -999,9,    194.1,2,     -999,9,     -999,9,     -999,9,     -999,9,     -999,9,     -999,9,     -999,9,     -999,     1340
  49UP20150627,RF1506,  5483,  1,     31,  23515,2,20150703,1226, 25.0120, 129.5048, 4042,     51.4,  26.4998,  34.7712,2,     -999,9,    210.7,2,     -999,9,     -999,9,     -999,9,     -999,9,     -999,9,     -999,9,     -999,9,     -999,     1338
  49UP20150627,RF1506,  5483,  1,     27,  21998,2,20150703,1226, 25.0120, 129.5048, 4042,     75.8,  24.3871,  34.8704,2,     -999,9,    212.8,2,     -999,9,     -999,9,     -999,9,     -999,9,     -999,9,     -999,9,     -999,9,     -999,     1336
  49UP20150627,RF1506,  5483,  1,     26,  22084,2,20150703,1226, 25.0120, 129.5048, 4042,    100.0,  22.4381,  34.9163,2,     -999,9,    221.9,2,     -999,9,     -999,9,     -999,9,     -999,9,     -999,9,     -999,9,     -999,9,     -999,     1333
  49UP20150627,RF1506,  5483,  1,     25,  22098,2,20150703,1226, 25.0120, 129.5048, 4042,    125.5,  21.5026,  34.9215,2,     -999,9,    222.4,2,     -999,9,     -999,9,     -999,9,     -999,9,     -999,9,     -999,9,     -999,9,     -999,     1331
  49UP20150627,RF1506,  5483,  1,     21,  22078,2,20150703,1226, 25.0120, 129.5048, 4042,    150.1,  20.7105,  34.8954,2,     -999,9,    207.1,2,     -999,9,     -999,9,     -999,9,     -999,9,     -999,9,     -999,9,     -999,9,     -999,     1329
  49UP20150627,RF1506,  5483,  1,     20,  22093,2,20150703,1226, 25.0120, 129.5048, 4042,    150.2,  20.7052,  34.8950,2,     -999,9,    207.1,2,     -999,9,     -999,9,     -999,9,     -999,9,     -999,9,     -999,9,     -999,9,     -999,     1329
  49UP20150627,RF1506,  5483,  1,     19,  22092,2,20150703,1226, 25.0120, 129.5048, 4042,    202.1,  19.1153,  34.8520,2,     -999,9,    219.7,6,     -999,9,     -999,9,     -999,9,     -999,9,     -999,9,     -999,9,     -999,9,     -999,     1327
  49UP20150627,RF1506,  5483,  1,     18,  22101,2,20150703,1226, 25.0120, 129.5048, 4042,    252.1,  18.4972,  34.8305,2,     -999,9,    213.2,2,     -999,9,     -999,9,     -999,9,     -999,9,     -999,9,     -999,9,     -999,9,     -999,     1325
  49UP20150627,RF1506,  5483,  1,     17,  22090,2,20150703,1226, 25.0120, 129.5048, 4042,    303.2,  18.2174,  34.8266,2,     -999,9,    217.2,2,     -999,9,     -999,9,     -999,9,     -999,9,     -999,9,     -999,9,     -999,9,     -999,     1323
  49UP20150627,RF1506,  5483,  1,     16,  22089,2,20150703,1226, 25.0120, 129.5048, 4042,    402.7,  16.5527,  34.6776,2,     -999,9,    203.2,2,     -999,9,     -999,9,     -999,9,     -999,9,     -999,9,     -999,9,     -999,9,     -999,     1318
  49UP20150627,RF1506,  5483,  1,     15,  22088,2,20150703,1226, 25.0120, 129.5048, 4042,    504.5,  13.7339,  34.4648,2,     -999,9,    177.0,2,     -999,9,     -999,9,     -999,9,     -999,9,     -999,9,     -999,9,     -999,9,     -999,     1312
  49UP20150627,RF1506,  5483,  1,     14,  21999,2,20150703,1226, 25.0120, 129.5048, 4042,    605.7,  10.3581,  34.2595,2,     -999,9,    157.8,2,     -999,9,     -999,9,     -999,9,     -999,9,     -999,9,     -999,9,     -999,9,     -999,     1309
  49UP20150627,RF1506,  5483,  1,     13,  22667,2,20150703,1226, 25.0120, 129.5048, 4042,    705.9,   7.9010,  34.1882,2,     -999,9,    122.1,2,     -999,9,     -999,9,     -999,9,     -999,9,     -999,9,     -999,9,     -999,9,     -999,     1306
  49UP20150627,RF1506,  5483,  1,      9,  23518,2,20150703,1226, 25.0120, 129.5048, 4042,    807.4,   6.0904,  34.1970,2,     -999,9,     91.6,2,     -999,9,     -999,9,     -999,9,     -999,9,     -999,9,     -999,9,     -999,9,     -999,     1303
  49UP20150627,RF1506,  5483,  1,      8,  22081,2,20150703,1226, 25.0120, 129.5048, 4042,    907.2,   5.1060,  34.2925,2,     -999,9,     74.3,2,     -999,9,     -999,9,     -999,9,     -999,9,     -999,9,     -999,9,     -999,9,     -999,     1300
  49UP20150627,RF1506,  5483,  1,      7,  23516,2,20150703,1226, 25.0120, 129.5048, 4042,   1009.2,   4.4030,  34.3494,2,     -999,9,     66.4,2,     -999,9,     -999,9,     -999,9,     -999,9,     -999,9,     -999,9,     -999,9,     -999,     1255
  49UP20150627,RF1506,  5483,  1,      6,  22113,2,20150703,1226, 25.0120, 129.5048, 4042,   1212.3,   3.3098,  34.4357,2,     -999,9,     61.6,2,     -999,9,     -999,9,     -999,9,     -999,9,     -999,9,     -999,9,     -999,9,     -999,     1248
  49UP20150627,RF1506,  5483,  1,      5,  22094,2,20150703,1226, 25.0120, 129.5048, 4042,   1414.6,   2.8442,  34.4996,2,     -999,9,     72.9,6,     -999,9,     -999,9,     -999,9,     -999,9,     -999,9,     -999,9,     -999,9,     -999,     1243
  49UP20150627,RF1506,  5483,  1,      4,  22077,2,20150703,1226, 25.0120, 129.5048, 4042,   1616.7,   2.4615,  34.5482,2,     -999,9,     87.0,2,     -999,9,     -999,9,     -999,9,     -999,9,     -999,9,     -999,9,     -999,9,     -999,     1238
  49UP20150627,RF1506,  5483,  1,      3,  22104,2,20150703,1226, 25.0120, 129.5048, 4042,   1617.1,   2.4614,  34.5480,2,     -999,9,     87.0,2,     -999,9,     -999,9,     -999,9,     -999,9,     -999,9,     -999,9,     -999,9,     -999,     1238
  49UP20150627,RF1506,  5483,  1,      2,  22075,2,20150703,1226, 25.0120, 129.5048, 4042,   1820.0,   2.2090,  34.5807,2,     -999,9,     99.3,2,     -999,9,     -999,9,     -999,9,     -999,9,     -999,9,     -999,9,     -999,9,     -999,     1231
  49UP20150627,RF1506,  5483,  1,      1,  21997,2,20150703,1226, 25.0120, 129.5048, 4042,   2025.4,   2.0214,  34.6075,2,     -999,9,    111.0,2,     -999,9,     -999,9,     -999,9,     -999,9,     -999,9,     -999,9,     -999,9,     -999,     1226
  49UP20150627,RF1506,  5484,  2,      6,  22113,2,20150703,1952, 25.5333, 128.7480, 6844,   4578.7,   1.6144,  34.6812,2,  34.6812,2,     -999,9,     -999,9,     -999,9,     -999,9,     -999,9,     -999,9,     -999,9,     -999,9,     -999,     0317
  49UP20150627,RF1506,  5484,  2,      5,  22094,2,20150703,1952, 25.5333, 128.7480, 6844,   5089.9,   1.6657,  34.6821,2,  34.6821,6,     -999,9,     -999,9,     -999,9,     -999,9,     -999,9,     -999,9,     -999,9,     -999,9,     -999,     0308
  49UP20150627,RF1506,  5484,  2,      4,  22077,2,20150703,1952, 25.5333, 128.7480, 6844,   5348.3,   1.6961,  34.6822,2,  34.6612,4,     -999,9,     -999,9,     -999,9,     -999,9,     -999,9,     -999,9,     -999,9,     -999,9,     -999,     0303
  49UP20150627,RF1506,  5484,  2,      3,  22104,2,20150703,1952, 25.5333, 128.7480, 6844,   5605.4,   1.7297,  34.6822,2,  34.6829,2,     -999,9,     -999,9,     -999,9,     -999,9,     -999,9,     -999,9,     -999,9,     -999,9,     -999,     0258
  49UP20150627,RF1506,  5484,  2,      2,  22075,2,20150703,1952, 25.5333, 128.7480, 6844,   5864.8,   1.7650,  34.6819,2,  34.6652,4,     -999,9,     -999,9,     -999,9,     -999,9,     -999,9,     -999,9,     -999,9,     -999,9,     -999,     0252
  49UP20150627,RF1506,  5484,  2,      1,  21997,2,20150703,1952, 25.5333, 128.7480, 6844,   6127.8,   1.8019,  34.6817,2,  34.6812,6,     -999,9,     -999,9,     -999,9,     -999,9,     -999,9,     -999,9,     -999,9,     -999,9,     -999,     0247