BOTTLE,20240122CCHSIOVAJ
# Changed SAMPNO entries of 99 to 0 to indicate bucket sampling
# Changed BTLNBR entries of 99 to BUC to reflect bucket sampling
# Added CCHDO citation information
# These data are under a CC0 license. For more information on how to cite, please visit cchdo.ucsd.edu.
#BOTTLE,20200305PRINUNIVRMK
# 08/30/2019 Initialized README file  
# Data source:  Masao Ishii 2018/11/30 
# SHIP: R/V Ryofu Maru III 
# Cruise: RF15.06 
# Region: North Pacific Ocean 
# EXPOCODE: 49UP20150627 
# DATES: 20150627-20150716 
# Chief Scientist: Kazuhiro Nemoto 
# 12 stations with 36 place Rosette 
# CTD: Who - Kazuhiro Nemoto; Status - final 
# 	Includes: CTDSAL 
# SALNTY: Who - Kazuhiro Nemoto; Status - final 
# 	Notes: 	 
# Nutrients: Who - Kazuhiro Nemoto; Status - final 
# 	Includes: nitrate, nitrite, silicate, phosphate 
# 	Nitrite and NO3+NO2 reported. Separated by subtraction 
# OXYGEN: Who - Kazuhiro Nemoto; Status - final 
# 	Notes: 
# TCARBN: Who - Kazuhiro Nemoto; Status - final 
# 	Notes:  
# ALKALI: Who - Kazuhiro Nemoto; Status - final 
# 	Notes:  
# PH: Who - Kazuhiro Nemoto; Status - final 
# 	Notes: total H+ scale at 25C 
# These data should be cited as:               
# References that have used data from this cruise: 
EXPOCODE,SECT_ID,STNNBR,CASTNO,SAMPNO,BTLNBR,BTLNBR_FLAG_W,DATE,TIME,LATITUDE,LONGITUDE,DEPTH,CTDPRS,CTDTMP,CTDSAL,CTDSAL_FLAG_W,SALNTY,SALNTY_FLAG_W,OXYGEN,OXYGEN_FLAG_W,SILCAT,SILCAT_FLAG_W,NITRAT,NITRAT_FLAG_W,NITRIT,NITRIT_FLAG_W,PHSPHT,PHSPHT_FLAG_W,TCARBN,TCARBN_FLAG_W,ALKALI,ALKALI_FLAG_W,PH_TOT,PH_TOT_FLAG_W,PH_TMP,BTL_TIME
,,,,,,,,,,,METERS,DBAR,ITS-90,PSS-78,,PSS-78,,UMOL/KG,,UMOL/KG,,UMOL/KG,,UMOL/KG,,UMOL/KG,,UMOL/KG,,UMOL/KG,,,,DEG C,
  49UP20150627,RF1506,  5473,  1,      0,    BUC,2,20150630,0305, 24.2525, 140.2863, 3988,      0.0,  30.3986,  35.2818,2,  35.2798,2,    193.6,2,     0.90,2,     0.00,2,     0.00,2,     0.02,2,   1986.0,2,   2319.4,2,   8.1196,2,    25.00,     0345
  49UP20150627,RF1506,  5473,  1,     33,  24469,2,20150630,0305, 24.2525, 140.2863, 3988,     10.9,  30.2786,  35.2756,2,  35.2716,2,    193.4,2,     0.93,2,     0.02,2,     0.00,2,     0.01,2,   1975.2,2,   2317.3,2,   8.1197,2,    25.00,     0410
  49UP20150627,RF1506,  5473,  1,     32,  22105,2,20150630,0305, 24.2525, 140.2863, 3988,     27.1,  30.0160,  35.2426,2,     -999,9,    197.1,2,     0.99,2,     0.01,2,     0.00,2,     0.02,2,   1974.4,2,   2314.7,2,   8.1215,2,    25.00,     0409
  49UP20150627,RF1506,  5473,  1,     31,  23515,2,20150630,0305, 24.2525, 140.2863, 3988,     52.1,  26.5445,  34.9864,2,     -999,9,    213.2,2,     1.11,2,     0.03,2,     0.00,2,     0.01,2,   1969.6,2,   2297.3,2,   8.1067,2,    25.00,     0405
  49UP20150627,RF1506,  5473,  1,     27,  21998,2,20150630,0305, 24.2525, 140.2863, 3988,     75.7,  25.3714,  35.1911,2,     -999,9,    216.5,2,     1.13,2,     0.01,2,     0.00,2,     0.02,2,   1978.9,2,   2310.8,2,   8.1064,2,    25.00,     0404
  49UP20150627,RF1506,  5473,  1,     26,  22084,2,20150630,0305, 24.2525, 140.2863, 3988,    101.4,  23.7983,  35.0936,2,  35.0977,2,    208.4,2,     1.26,2,     0.01,2,     0.00,2,     0.03,2,   1990.4,2,   2304.1,2,   8.0784,2,    25.00,     0403
  49UP20150627,RF1506,  5473,  1,     25,  22098,2,20150630,0305, 24.2525, 140.2863, 3988,    124.2,  22.8305,  35.1395,2,     -999,9,    207.2,2,     1.40,2,     0.02,2,     0.01,2,     0.03,2,   2004.0,2,   2306.6,2,   8.0641,2,    25.00,     0402
  49UP20150627,RF1506,  5473,  1,     21,  22078,2,20150630,0305, 24.2525, 140.2863, 3988,    151.0,  21.2495,  34.9903,2,     -999,9,    204.7,2,     1.80,2,     0.84,2,     0.04,2,     0.09,2,   2013.8,2,   2295.2,2,   8.0320,2,    25.00,     0400
  49UP20150627,RF1506,  5473,  1,     20,  22093,2,20150630,0305, 24.2525, 140.2863, 3988,    200.5,  18.9056,  34.8380,2,  34.8396,2,    200.1,2,     2.80,2,     2.87,2,     0.01,2,     0.21,2,   2034.2,2,   2287.3,2,   7.9798,2,    25.00,     0359
  49UP20150627,RF1506,  5473,  1,     19,  22092,2,20150630,0305, 24.2525, 140.2863, 3988,    251.9,  18.2316,  34.8137,2,     -999,9,    213.7,2,     2.96,2,     2.75,2,     0.01,2,     0.20,2,   2022.5,2,   2286.3,2,   7.9938,2,    25.00,     0357
  49UP20150627,RF1506,  5473,  1,     18,  22101,2,20150630,0305, 24.2525, 140.2863, 3988,    302.3,  17.5373,  34.7460,2,     -999,9,    207.3,2,     3.94,2,     4.20,2,     0.01,2,     0.28,2,   2033.9,2,   2280.5,2,   7.9698,2,    25.00,     0356
  49UP20150627,RF1506,  5473,  1,     17,  22090,2,20150630,0305, 24.2525, 140.2863, 3988,    403.1,  14.9212,  34.5430,2,  34.5485,4,    188.6,2,     9.74,2,     9.65,2,     0.00,2,     0.66,2,   2074.6,2,   2275.8,2,   7.8775,2,    25.00,     0353
  49UP20150627,RF1506,  5473,  1,     16,  22089,2,20150630,0305, 24.2525, 140.2863, 3988,    503.7,  11.3472,  34.2892,2,     -999,9,    171.9,2,    21.35,2,    17.03,2,     0.00,2,     1.21,2,   2129.2,6,   2270.9,6,   7.7505,2,    25.00,     0350
  49UP20150627,RF1506,  5473,  1,     15,  22088,2,20150630,0305, 24.2525, 140.2863, 3988,    604.3,   8.9520,  34.1718,2,  34.1728,2,    146.4,2,    36.96,2,    23.74,2,     0.00,2,     1.71,2,   2176.9,2,   2280.2,2,   7.6445,6,    25.00,     0347
  49UP20150627,RF1506,  5473,  1,     14,  21999,2,20150630,0305, 24.2525, 140.2863, 3988,    706.3,   6.8291,  34.1380,2,     -999,9,    110.3,2,    59.73,2,    30.86,2,     0.00,2,     2.22,2,   2236.1,2,   2297.9,2,   7.5347,2,    25.00,     0345
  49UP20150627,RF1506,  5473,  1,     13,  22667,2,20150630,0305, 24.2525, 140.2863, 3988,    807.8,   5.4831,  34.1666,2,  34.1683,2,     85.6,6,    80.94,6,    35.42,6,     0.00,6,     2.55,6,   2277.8,2,   2318.6,2,   7.4638,2,    25.00,     0342
  49UP20150627,RF1506,  5473,  1,      8,  22081,2,20150630,0305, 24.2525, 140.2863, 3988,    908.0,   4.6855,  34.2366,2,  34.2362,2,     68.0,2,    96.85,2,    38.14,2,     0.00,2,     2.74,2,   2307.5,2,   2334.1,2,   7.4251,2,    25.00,     0339
  49UP20150627,RF1506,  5473,  1,      9,  23518,2,20150630,0305, 24.2525, 140.2863, 3988,    908.4,   4.6850,  34.2368,2,  34.2368,2,     68.0,2,    96.92,2,    38.14,2,     0.00,2,     2.74,2,   2307.5,2,   2335.4,2,   7.4263,2,    25.00,     0339
  49UP20150627,RF1506,  5473,  1,      7,  23516,2,20150630,0305, 24.2525, 140.2863, 3988,   1008.9,   4.2079,  34.3263,2,  34.3259,2,     59.0,2,   107.54,2,    39.79,2,     0.00,2,     2.85,2,   2324.5,6,   2351.2,6,   7.4128,2,    25.00,     0334
  49UP20150627,RF1506,  5473,  1,      6,  22113,2,20150630,0305, 24.2525, 140.2863, 3988,   1211.9,   3.3505,  34.4232,2,  34.4229,2,     58.3,2,   127.08,2,    40.89,2,     0.00,2,     2.92,2,   2351.1,2,   2374.6,2,   7.4149,6,    25.00,     0329
  49UP20150627,RF1506,  5473,  1,      5,  22094,2,20150630,0305, 24.2525, 140.2863, 3988,   1415.8,   2.7947,  34.4966,2,  34.4966,6,     67.6,2,   137.71,2,    40.75,2,     0.00,2,     2.89,2,   2358.6,2,   2390.3,2,   7.4361,2,    25.00,     0325
  49UP20150627,RF1506,  5473,  1,      4,  22077,2,20150630,0305, 24.2525, 140.2863, 3988,   1621.8,   2.4734,  34.5448,2,  34.5439,2,     82.8,2,   141.29,2,    39.93,2,     0.00,2,     2.82,2,   2355.9,2,   2398.4,2,   7.4662,2,    25.00,     0315
  49UP20150627,RF1506,  5473,  1,      2,  22075,2,20150630,0305, 24.2525, 140.2863, 3988,   1819.2,   2.2093,  34.5823,2,  34.5825,2,     97.3,2,   143.72,2,    39.21,2,     0.00,2,     2.76,2,   2353.0,2,   2404.2,2,   7.4930,2,    25.00,     0310
  49UP20150627,RF1506,  5473,  1,      3,  22104,2,20150630,0305, 24.2525, 140.2863, 3988,   1819.3,   2.2076,  34.5819,2,  34.5824,2,     96.7,2,   143.89,2,    39.28,2,     0.00,2,     2.77,2,   2351.5,2,   2403.9,2,   7.4914,2,    25.00,     0310
  49UP20150627,RF1506,  5473,  1,      1,  21997,3,20150630,0305, 24.2525, 140.2863, 3988,   2028.9,   2.0074,  34.6103,2,  34.6102,6,    109.1,6,   144.42,6,    38.59,6,     0.00,6,     2.71,6,   2347.2,2,   2408.4,2,   7.5137,2,    25.00,     0305
  49UP20150627,RF1506,  5474,  1,      0,    BUC,2,20150630,1246, 24.2627, 138.6007, 4767,      0.0,  30.5231,  35.2868,2,     -999,9,    193.2,2,     0.88,2,     0.04,2,     0.00,2,     0.02,2,     -999,9,     -999,9,     -999,9,     -999,     1333
  49UP20150627,RF1506,  5474,  1,     33,  24469,2,20150630,1246, 24.2627, 138.6007, 4767,     10.3,  30.5312,  35.2860,2,     -999,9,    193.1,2,     0.90,2,     0.01,2,     0.00,2,     0.01,2,     -999,9,     -999,9,     -999,9,     -999,     1357
  49UP20150627,RF1506,  5474,  1,     32,  22105,2,20150630,1246, 24.2627, 138.6007, 4767,     26.0,  30.0414,  35.2587,2,     -999,9,    197.6,2,     0.95,2,     0.01,2,     0.00,2,     0.02,2,     -999,9,     -999,9,     -999,9,     -999,     1356
  49UP20150627,RF1506,  5474,  1,     31,  23515,2,20150630,1246, 24.2627, 138.6007, 4767,     50.0,  27.5861,  35.2421,2,     -999,9,    211.2,2,     0.99,2,     0.01,2,     0.00,2,     0.01,2,     -999,9,     -999,9,     -999,9,     -999,     1352
  49UP20150627,RF1506,  5474,  1,     27,  21998,2,20150630,1246, 24.2627, 138.6007, 4767,     75.4,  25.5231,  35.1422,2,     -999,9,    216.5,6,     1.09,6,     0.02,6,     0.00,6,     0.01,6,     -999,9,     -999,9,     -999,9,     -999,     1350
  49UP20150627,RF1506,  5474,  1,     26,  22084,2,20150630,1246, 24.2627, 138.6007, 4767,    100.2,  24.4698,  35.1329,2,     -999,9,    215.4,2,     1.13,2,     0.01,2,     0.00,2,     0.01,2,     -999,9,     -999,9,     -999,9,     -999,     1349
  49UP20150627,RF1506,  5474,  1,     25,  22098,2,20150630,1246, 24.2627, 138.6007, 4767,    100.3,  24.4617,  35.1320,2,     -999,9,    215.2,2,     1.13,2,     0.01,2,     0.00,2,     0.01,2,     -999,9,     -999,9,     -999,9,     -999,     1349
  49UP20150627,RF1506,  5474,  1,     21,  22078,2,20150630,1246, 24.2627, 138.6007, 4767,    125.6,  23.0950,  35.1203,2,     -999,9,    213.6,2,     1.30,2,     0.05,2,     0.00,2,     0.02,2,     -999,9,     -999,9,     -999,9,     -999,     1347
  49UP20150627,RF1506,  5474,  1,     20,  22093,2,20150630,1246, 24.2627, 138.6007, 4767,    150.4,  21.9768,  35.0527,2,     -999,9,    204.1,2,     1.53,2,     0.34,2,     0.13,2,     0.06,2,     -999,9,     -999,9,     -999,9,     -999,     1346
  49UP20150627,RF1506,  5474,  1,     19,  22092,2,20150630,1246, 24.2627, 138.6007, 4767,    202.2,  20.1843,  34.9226,2,     -999,9,    202.4,2,     2.06,2,     1.50,2,     0.02,2,     0.12,2,     -999,9,     -999,9,     -999,9,     -999,     1343
  49UP20150627,RF1506,  5474,  1,     18,  22101,2,20150630,1246, 24.2627, 138.6007, 4767,    252.7,  18.8760,  34.8382,2,     -999,9,    208.3,2,     2.51,2,     2.06,2,     0.01,2,     0.15,2,     -999,9,     -999,9,     -999,9,     -999,     1341
  49UP20150627,RF1506,  5474,  1,     17,  22090,2,20150630,1246, 24.2627, 138.6007, 4767,    301.8,  17.7572,  34.7640,2,     -999,9,    205.4,2,     3.36,2,     3.67,2,     0.01,2,     0.26,2,     -999,9,     -999,9,     -999,9,     -999,     1339
  49UP20150627,RF1506,  5474,  1,     16,  22089,3,20150630,1246, 24.2627, 138.6007, 4767,    403.6,  15.5105,  34.5873,2,     -999,9,    196.2,2,     7.72,2,     8.11,2,     0.00,2,     0.56,2,     -999,9,     -999,9,     -999,9,     -999,     1335
  49UP20150627,RF1506,  5474,  1,     15,  22088,2,20150630,1246, 24.2627, 138.6007, 4767,    504.6,  12.4746,  34.3534,2,     -999,9,    186.4,2,    15.47,2,    13.77,2,     0.00,2,     0.97,2,     -999,9,     -999,9,     -999,9,     -999,     1332
  49UP20150627,RF1506,  5474,  1,     14,  21999,2,20150630,1246, 24.2627, 138.6007, 4767,    605.5,   9.9092,  34.2358,2,     -999,9,    139.0,2,    29.89,2,    22.61,2,     0.00,2,     1.64,2,     -999,9,     -999,9,     -999,9,     -999,     1329
  49UP20150627,RF1506,  5474,  1,     13,  22667,2,20150630,1246, 24.2627, 138.6007, 4767,    705.9,   7.5562,  34.1430,2,     -999,9,    123.3,2,    50.87,2,    28.57,2,     0.00,2,     2.05,2,     -999,9,     -999,9,     -999,9,     -999,     1326
  49UP20150627,RF1506,  5474,  1,      9,  23518,2,20150630,1246, 24.2627, 138.6007, 4767,    806.7,   5.7327,  34.1584,2,     -999,9,     89.5,2,    76.23,2,    34.77,2,     0.00,2,     2.50,2,     -999,9,     -999,9,     -999,9,     -999,     1323
  49UP20150627,RF1506,  5474,  1,      8,  22081,2,20150630,1246, 24.2627, 138.6007, 4767,    908.4,   4.8314,  34.2326,2,     -999,9,     68.0,2,    93.63,2,    38.14,2,     0.00,2,     2.74,2,     -999,9,     -999,9,     -999,9,     -999,     1319
  49UP20150627,RF1506,  5474,  1,      7,  23516,2,20150630,1246, 24.2627, 138.6007, 4767,   1009.9,   4.4107,  34.3159,2,     -999,9,     58.7,2,   102.75,2,    39.70,2,     0.00,2,     2.85,2,     -999,9,     -999,9,     -999,9,     -999,     1314
  49UP20150627,RF1506,  5474,  1,      6,  22113,2,20150630,1246, 24.2627, 138.6007, 4767,   1212.7,   3.4546,  34.4232,2,     -999,9,     58.3,2,   124.47,2,    40.95,2,     0.00,2,     2.92,2,     -999,9,     -999,9,     -999,9,     -999,     1309
  49UP20150627,RF1506,  5474,  1,      5,  22094,2,20150630,1246, 24.2627, 138.6007, 4767,   1414.6,   2.9054,  34.4920,2,     -999,9,     69.4,2,   135.46,2,    40.72,2,     0.00,2,     2.89,2,     -999,9,     -999,9,     -999,9,     -999,     1304
  49UP20150627,RF1506,  5474,  1,      3,  22104,2,20150630,1246, 24.2627, 138.6007, 4767,   1616.8,   2.5269,  34.5440,2,     -999,9,     84.3,2,   140.49,2,    39.92,2,     0.00,2,     2.83,2,     -999,9,     -999,9,     -999,9,     -999,     1256
  49UP20150627,RF1506,  5474,  1,      4,  22077,2,20150630,1246, 24.2627, 138.6007, 4767,   1617.6,   2.5237,  34.5442,2,     -999,9,     84.2,2,   140.05,2,    39.95,2,     0.00,2,     2.82,2,     -999,9,     -999,9,     -999,9,     -999,     1256
  49UP20150627,RF1506,  5474,  1,      2,  22075,2,20150630,1246, 24.2627, 138.6007, 4767,   1820.0,   2.2457,  34.5838,2,     -999,9,     99.8,6,   142.22,6,    39.11,6,     0.00,6,     2.75,6,     -999,9,     -999,9,     -999,9,     -999,     1251
  49UP20150627,RF1506,  5474,  1,      1,  21997,2,20150630,1246, 24.2627, 138.6007, 4767,   2024.0,   2.0351,  34.6141,2,     -999,9,    113.1,2,   142.55,2,    38.39,2,     0.00,2,     2.70,2,     -999,9,     -999,9,     -999,9,     -999,     1246