BOTTLE,20240122CCHSIOVAJ
EXPOCODE,SECT_ID,STNNBR,CASTNO,SAMPNO,BTLNBR,BTLNBR_FLAG_W,DATE,TIME,LATITUDE,LONGITUDE,DEPTH,CTDPRS,CTDTMP,CTDSAL,CTDSAL_FLAG_W,SALNTY,SALNTY_FLAG_W,OXYGEN,OXYGEN_FLAG_W,SILCAT,SILCAT_FLAG_W,NITRAT,NITRAT_FLAG_W,NITRIT,NITRIT_FLAG_W,PHSPHT,PHSPHT_FLAG_W,TCARBN,TCARBN_FLAG_W,ALKALI,ALKALI_FLAG_W,PH_TOT,PH_TOT_FLAG_W,PH_TMP,BTL_TIME
,,,,,,,,,,,METERS,DBAR,ITS-90,PSS-78,,PSS-78,,UMOL/KG,,UMOL/KG,,UMOL/KG,,UMOL/KG,,UMOL/KG,,UMOL/KG,,UMOL/KG,,,,DEG C,
  49UP20150627,RF1506,  5477,  1,      0,    BUC,2,20150701,1408, 24.2500, 134.9967, 5137,      0.0,  29.4559,  34.9334,2,  34.9502,2,    193.2,2,     1.12,2,     0.09,2,     0.02,2,     0.06,3,   1961.4,2,   2294.0,2,   8.1049,2,    25.00,     1441
  49UP20150627,RF1506,  5477,  1,     33,  24469,2,20150701,1408, 24.2500, 134.9967, 5137,     12.2,  29.4680,  34.9327,2,  34.9331,2,    195.4,2,     1.03,2,     0.01,2,     0.00,2,     0.02,2,   1964.0,2,   2294.2,2,   8.1056,2,    25.00,     1510
  49UP20150627,RF1506,  5477,  1,     32,  22105,2,20150701,1408, 24.2500, 134.9967, 5137,     26.0,  29.4230,  34.9447,2,     -999,9,    195.8,2,     1.03,2,     0.01,2,     0.00,2,     0.03,2,   1964.1,2,   2297.1,2,   8.1087,2,    25.00,     1509
  49UP20150627,RF1506,  5477,  1,     31,  23515,2,20150701,1408, 24.2500, 134.9967, 5137,     50.5,  24.3939,  34.9937,2,     -999,9,    222.9,2,     1.21,2,     0.01,2,     0.00,2,     0.03,2,   1977.4,2,   2300.4,2,   8.0891,2,    25.00,     1506
  49UP20150627,RF1506,  5477,  1,     27,  21998,2,20150701,1408, 24.2500, 134.9967, 5137,     76.0,  22.3544,  34.9438,2,     -999,9,    225.5,2,     1.39,2,     0.02,2,     0.00,2,     0.03,2,   1989.5,2,   2296.0,2,   8.0679,2,    25.00,     1504
  49UP20150627,RF1506,  5477,  1,     26,  22084,2,20150701,1408, 24.2500, 134.9967, 5137,    100.6,  21.0309,  34.9139,2,  34.9117,6,    220.4,2,     1.57,2,     0.32,2,     0.02,2,     0.05,2,   1998.5,2,   2293.9,2,   8.0498,2,    25.00,     1503
  49UP20150627,RF1506,  5477,  1,     25,  22098,2,20150701,1408, 24.2500, 134.9967, 5137,    126.0,  20.1388,  34.8822,2,     -999,9,    206.3,2,     2.02,2,     1.31,2,     0.05,2,     0.13,2,   2015.1,2,   2291.7,2,   8.0190,2,    25.00,     1502
  49UP20150627,RF1506,  5477,  1,     21,  22078,2,20150701,1408, 24.2500, 134.9967, 5137,    152.3,  19.3657,  34.8510,2,     -999,9,    214.3,2,     2.02,2,     1.06,2,     0.08,2,     0.11,2,   2013.5,2,   2289.2,2,   8.0185,2,    25.00,     1501
  49UP20150627,RF1506,  5477,  1,     20,  22093,2,20150701,1408, 24.2500, 134.9967, 5137,    201.3,  18.5153,  34.8269,2,  34.8258,2,    213.2,2,     2.63,2,     2.38,2,     0.01,2,     0.18,2,   2011.6,2,   2287.6,2,   8.0018,2,    25.00,     1459
  49UP20150627,RF1506,  5477,  1,     19,  22092,2,20150701,1408, 24.2500, 134.9967, 5137,    252.1,  18.1123,  34.7988,2,     -999,9,    211.6,2,     3.00,2,     3.01,2,     0.01,2,     0.22,2,   2023.7,2,   2286.0,2,   7.9884,2,    25.00,     1457
  49UP20150627,RF1506,  5477,  1,     17,  22090,2,20150701,1408, 24.2500, 134.9967, 5137,    301.8,  17.4311,  34.7340,2,  34.7334,2,    204.0,2,     4.08,2,     4.63,2,     0.00,2,     0.32,2,   2036.9,2,   2281.7,2,   7.9627,2,    25.00,     1456
  49UP20150627,RF1506,  5477,  1,     18,  22101,2,20150701,1408, 24.2500, 134.9967, 5137,    302.6,  17.4400,  34.7339,2,  34.7360,2,    204.1,2,     4.03,2,     4.62,2,     0.00,2,     0.31,2,   2036.5,2,   2280.9,2,   7.9616,2,    25.00,     1456
  49UP20150627,RF1506,  5477,  1,     16,  22089,2,20150701,1408, 24.2500, 134.9967, 5137,    402.7,  15.6389,  34.6005,2,  34.6004,2,    192.3,6,     8.29,6,     8.46,6,     0.00,6,     0.58,6,   2064.8,2,   2278.5,2,   7.9005,2,    25.00,     1451
  49UP20150627,RF1506,  5477,  1,     15,  22088,2,20150701,1408, 24.2500, 134.9967, 5137,    503.6,  12.4820,  34.3787,2,     -999,9,    178.2,2,    18.84,2,    14.82,2,     0.00,2,     1.04,2,   2111.4,2,   2274.5,2,   7.7975,2,    25.00,     1449
  49UP20150627,RF1506,  5477,  1,     14,  21999,2,20150701,1408, 24.2500, 134.9967, 5137,    605.5,   9.4207,  34.2057,2,  34.2057,2,    157.0,2,    36.65,2,    22.07,2,     0.00,2,     1.57,2,   2164.6,2,   2282.7,2,   7.6813,2,    25.00,     1446
  49UP20150627,RF1506,  5477,  1,     13,  22667,2,20150701,1408, 24.2500, 134.9967, 5137,    704.9,   7.0353,  34.1232,2,     -999,9,    126.7,2,    57.77,2,    28.95,2,     0.00,2,     2.08,2,   2219.3,6,   2295.2,6,   7.5685,2,    25.00,     1444
  49UP20150627,RF1506,  5477,  1,      9,  23518,2,20150701,1408, 24.2500, 134.9967, 5137,    806.6,   5.5066,  34.1692,2,  34.1656,4,     89.3,2,    80.21,2,    34.92,2,     0.00,2,     2.51,2,   2271.5,2,   2315.8,2,   7.4726,6,    25.00,     1441
  49UP20150627,RF1506,  5477,  1,      8,  22081,2,20150701,1408, 24.2500, 134.9967, 5137,    906.8,   4.4976,  34.2588,2,     -999,9,     64.1,2,   102.25,2,    38.76,2,     0.00,2,     2.78,2,   2314.0,2,   2341.2,2,   7.4179,2,    25.00,     1438
  49UP20150627,RF1506,  5477,  1,      7,  23516,2,20150701,1408, 24.2500, 134.9967, 5137,   1010.0,   3.9956,  34.3561,2,  34.3554,6,     57.8,2,   112.81,2,    40.09,2,     0.00,2,     2.87,2,   2332.5,2,   2357.7,2,   7.4163,2,    25.00,     1435
  49UP20150627,RF1506,  5477,  1,      6,  22113,2,20150701,1408, 24.2500, 134.9967, 5137,   1212.7,   3.3263,  34.4413,2,  34.4416,2,     62.0,6,   127.14,6,    40.61,6,     0.00,6,     2.90,6,   2345.0,2,   2376.2,2,   7.4272,2,    25.00,     1429
  49UP20150627,RF1506,  5477,  1,      4,  22077,2,20150701,1408, 24.2500, 134.9967, 5137,   1415.6,   2.8249,  34.5110,2,  34.5130,2,     76.1,2,   135.74,2,    40.04,2,     0.00,2,     2.86,2,   2350.0,2,   2390.6,2,   7.4525,2,    25.00,     1424
  49UP20150627,RF1506,  5477,  1,      5,  22094,2,20150701,1408, 24.2500, 134.9967, 5137,   1415.7,   2.8249,  34.5110,2,  34.5120,2,     75.9,2,   135.72,2,    40.06,2,     0.00,2,     2.85,2,   2349.4,2,   2389.3,2,   7.4563,2,    25.00,     1425
  49UP20150627,RF1506,  5477,  1,      3,  22104,2,20150701,1408, 24.2500, 134.9967, 5137,   1617.3,   2.4577,  34.5526,2,  34.5523,2,     88.4,2,   140.75,2,    39.52,2,     0.00,2,     2.81,2,   2349.2,6,   2399.4,6,   7.4792,2,    25.00,     1420
  49UP20150627,RF1506,  5477,  1,      2,  22075,2,20150701,1408, 24.2500, 134.9967, 5137,   1820.0,   2.1622,  34.5859,2,  34.5867,2,    100.2,2,   143.63,2,    38.97,2,     0.00,2,     2.75,2,   2349.0,2,   2405.6,2,   7.4998,6,    25.00,     1413
  49UP20150627,RF1506,  5477,  1,      1,  21997,2,20150701,1408, 24.2500, 134.9967, 5137,   2024.0,   2.0017,  34.6087,2,  34.6090,6,    110.6,2,   144.10,2,    38.47,2,     0.00,2,     2.71,2,   2350.5,3,   2408.1,2,   7.5162,2,    25.00,     1408
  49UP20150627,RF1506,  5478,  1,      0,    BUC,2,20150701,2154, 24.2833, 134.0253, 4908,      0.0,  30.0196,  35.1695,2,     -999,9,    193.8,2,     1.02,2,     0.06,2,     0.00,2,     0.02,2,     -999,9,     -999,9,     -999,9,     -999,     2350
  49UP20150627,RF1506,  5478,  1,     36,  22109,2,20150701,2154, 24.2833, 134.0253, 4908,     10.2,  30.0141,  35.1698,2,  35.1683,2,    193.4,2,     0.97,2,     0.04,2,     0.00,2,     0.01,2,     -999,9,     -999,9,     -999,9,     -999,     0017
  49UP20150627,RF1506,  5478,  1,     35,  22112,2,20150701,2154, 24.2833, 134.0253, 4908,     25.6,  29.3423,  35.0736,2,     -999,9,    199.4,2,     1.02,2,     0.04,2,     0.00,2,     0.01,2,     -999,9,     -999,9,     -999,9,     -999,     0016
  49UP20150627,RF1506,  5478,  1,     34,  22083,2,20150701,2154, 24.2833, 134.0253, 4908,     53.0,  25.5213,  35.0098,2,     -999,9,    218.9,2,     1.07,2,     0.02,2,     0.00,2,     0.01,2,     -999,9,     -999,9,     -999,9,     -999,     0010
  49UP20150627,RF1506,  5478,  1,     33,  24469,2,20150701,2154, 24.2833, 134.0253, 4908,     78.9,  22.6791,  34.9652,2,     -999,9,    219.6,2,     1.29,2,     0.01,2,     0.00,2,     0.01,2,     -999,9,     -999,9,     -999,9,     -999,     0009
  49UP20150627,RF1506,  5478,  1,     32,  22105,2,20150701,2154, 24.2833, 134.0253, 4908,    101.8,  21.6767,  34.9375,2,  34.9366,2,    216.3,2,     1.47,2,     0.05,2,     0.00,2,     0.02,2,     -999,9,     -999,9,     -999,9,     -999,     0008
  49UP20150627,RF1506,  5478,  1,     31,  23515,2,20150701,2154, 24.2833, 134.0253, 4908,    126.3,  20.8626,  34.9157,2,     -999,9,    214.3,2,     1.60,2,     0.12,2,     0.03,2,     0.04,2,     -999,9,     -999,9,     -999,9,     -999,     0007
  49UP20150627,RF1506,  5478,  1,     30,  22097,2,20150701,2154, 24.2833, 134.0253, 4908,    150.9,  20.0266,  34.8790,2,     -999,9,    214.7,2,     1.77,2,     0.61,2,     0.06,2,     0.07,2,     -999,9,     -999,9,     -999,9,     -999,     0006
  49UP20150627,RF1506,  5478,  1,     29,  22102,2,20150701,2154, 24.2833, 134.0253, 4908,    202.7,  19.0503,  34.8384,2,  34.8379,2,    215.4,6,     2.10,6,     1.47,6,     0.02,6,     0.11,6,     -999,9,     -999,9,     -999,9,     -999,     0004
  49UP20150627,RF1506,  5478,  1,     28,  22108,2,20150701,2154, 24.2833, 134.0253, 4908,    252.0,  18.5277,  34.8257,2,     -999,9,    214.6,2,     2.49,2,     2.31,2,     0.01,2,     0.16,2,     -999,9,     -999,9,     -999,9,     -999,     0002
  49UP20150627,RF1506,  5478,  1,     27,  21998,3,20150701,2154, 24.2833, 134.0253, 4908,    302.3,  17.8384,  34.7673,2,     -999,9,    207.2,2,     3.42,2,     3.77,2,     0.01,2,     0.25,2,     -999,9,     -999,9,     -999,9,     -999,     0001
  49UP20150627,RF1506,  5478,  1,     26,  22084,2,20150701,2154, 24.2833, 134.0253, 4908,    403.5,  16.0470,  34.6312,2,  34.6300,2,    196.8,6,     6.90,6,     7.36,6,     0.00,6,     0.50,6,     -999,9,     -999,9,     -999,9,     -999,     2355
  49UP20150627,RF1506,  5478,  1,     25,  22098,2,20150701,2154, 24.2833, 134.0253, 4908,    505.7,  13.3132,  34.4398,2,     -999,9,    180.8,2,    16.01,2,    13.26,2,     0.00,2,     0.91,2,     -999,9,     -999,9,     -999,9,     -999,     2353
  49UP20150627,RF1506,  5478,  1,     24,  22110,2,20150701,2154, 24.2833, 134.0253, 4908,    605.6,   9.8352,  34.2184,2,  34.2215,2,    162.1,2,    32.04,2,    20.84,2,     0.00,2,     1.47,2,     -999,9,     -999,9,     -999,9,     -999,     2350
  49UP20150627,RF1506,  5478,  1,     23,  22096,2,20150701,2154, 24.2833, 134.0253, 4908,    706.1,   7.4603,  34.1309,2,     -999,9,    131.0,2,    52.85,2,    28.00,2,     0.00,2,     1.99,2,     -999,9,     -999,9,     -999,9,     -999,     2347
  49UP20150627,RF1506,  5478,  1,     22,  22111,2,20150701,2154, 24.2833, 134.0253, 4908,    807.0,   5.4556,  34.1659,2,  34.1663,6,     87.0,2,    81.48,2,    35.32,2,     0.00,2,     2.53,2,     -999,9,     -999,9,     -999,9,     -999,     2344
  49UP20150627,RF1506,  5478,  1,     21,  22078,2,20150701,2154, 24.2833, 134.0253, 4908,    908.4,   4.5789,  34.2306,2,     -999,9,     66.4,2,    98.83,2,    38.34,2,     0.00,2,     2.74,2,     -999,9,     -999,9,     -999,9,     -999,     2342
  49UP20150627,RF1506,  5478,  1,     20,  22093,2,20150701,2154, 24.2833, 134.0253, 4908,   1009.8,   4.0331,  34.3116,2,  34.3117,2,     56.5,2,   111.72,2,    40.05,2,     0.00,2,     2.86,2,     -999,9,     -999,9,     -999,9,     -999,     2337
  49UP20150627,RF1506,  5478,  1,     19,  22092,2,20150701,2154, 24.2833, 134.0253, 4908,   1212.5,   3.3673,  34.4403,2,  34.4404,2,     61.5,2,   125.74,2,    40.64,2,     0.00,2,     2.89,2,     -999,9,     -999,9,     -999,9,     -999,     2332
  49UP20150627,RF1506,  5478,  1,     18,  22101,2,20150701,2154, 24.2833, 134.0253, 4908,   1414.5,   2.8026,  34.5128,2,  34.5130,2,     76.8,2,   135.47,2,    40.06,2,     0.00,2,     2.83,2,     -999,9,     -999,9,     -999,9,     -999,     2327
  49UP20150627,RF1506,  5478,  1,     17,  22090,2,20150701,2154, 24.2833, 134.0253, 4908,   1617.8,   2.4489,  34.5537,2,  34.5529,6,     89.3,2,   139.99,2,    39.57,2,     0.00,2,     2.79,2,     -999,9,     -999,9,     -999,9,     -999,     2323
  49UP20150627,RF1506,  5478,  1,     16,  22089,2,20150701,2154, 24.2833, 134.0253, 4908,   1820.4,   2.2253,  34.5885,2,  34.5902,2,    103.0,6,   141.00,6,    38.76,6,     0.00,6,     2.73,6,     -999,9,     -999,9,     -999,9,     -999,     2315
  49UP20150627,RF1506,  5478,  1,     15,  22088,2,20150701,2154, 24.2833, 134.0253, 4908,   2024.7,   2.0059,  34.6125,2,  34.6134,6,    113.3,2,   142.61,2,    38.34,2,     0.00,2,     2.68,2,     -999,9,     -999,9,     -999,9,     -999,     2310
  49UP20150627,RF1506,  5478,  1,     14,  21999,2,20150701,2154, 24.2833, 134.0253, 4908,   2278.8,   1.8351,  34.6335,2,  34.6336,6,    123.9,2,   142.99,2,    37.66,2,     0.00,2,     2.63,2,     -999,9,     -999,9,     -999,9,     -999,     2304
  49UP20150627,RF1506,  5478,  1,     13,  22667,2,20150701,2154, 24.2833, 134.0253, 4908,   2533.2,   1.7385,  34.6466,2,     -999,9,    130.4,2,   142.91,2,    37.25,2,     0.00,2,     2.60,2,     -999,9,     -999,9,     -999,9,     -999,     2257
  49UP20150627,RF1506,  5478,  1,     12,  22074,2,20150701,2154, 24.2833, 134.0253, 4908,   2787.8,   1.6645,  34.6570,2,  34.6569,2,    136.7,2,   142.81,2,    36.82,2,     0.00,2,     2.56,2,     -999,9,     -999,9,     -999,9,     -999,     2251
  49UP20150627,RF1506,  5478,  1,     11,  24268,2,20150701,2154, 24.2833, 134.0253, 4908,   3043.5,   1.5967,  34.6662,2,  34.6664,2,    142.5,2,   142.41,2,    36.52,2,     0.00,2,     2.53,2,     -999,9,     -999,9,     -999,9,     -999,     2241
  49UP20150627,RF1506,  5478,  1,     10,  24267,2,20150701,2154, 24.2833, 134.0253, 4908,   3299.8,   1.5703,  34.6717,2,     -999,9,    146.5,2,   142.02,2,    36.35,2,     0.00,2,     2.52,2,     -999,9,     -999,9,     -999,9,     -999,     2235
  49UP20150627,RF1506,  5478,  1,      9,  23518,2,20150701,2154, 24.2833, 134.0253, 4908,   3555.1,   1.5595,  34.6752,2,     -999,9,    148.8,2,   141.85,2,    36.18,2,     0.00,2,     2.51,2,     -999,9,     -999,9,     -999,9,     -999,     2229
  49UP20150627,RF1506,  5478,  1,      8,  22081,2,20150701,2154, 24.2833, 134.0253, 4908,   3810.5,   1.5521,  34.6787,2,  34.6785,2,    151.5,2,   141.47,2,    36.02,2,     0.00,2,     2.49,2,     -999,9,     -999,9,     -999,9,     -999,     2223
  49UP20150627,RF1506,  5478,  1,      6,  22113,2,20150701,2154, 24.2833, 134.0253, 4908,   4065.3,   1.5593,  34.6807,2,  34.6798,2,    153.1,2,   141.16,2,    35.91,2,     0.00,2,     2.49,2,     -999,9,     -999,9,     -999,9,     -999,     2216
  49UP20150627,RF1506,  5478,  1,      7,  23516,2,20150701,2154, 24.2833, 134.0253, 4908,   4066.6,   1.5593,  34.6806,2,  34.6803,2,    153.0,2,   141.18,2,    35.92,2,     0.00,2,     2.49,2,     -999,9,     -999,9,     -999,9,     -999,     2216
  49UP20150627,RF1506,  5478,  1,      5,  22094,2,20150701,2154, 24.2833, 134.0253, 4908,   4323.0,   1.5761,  34.6817,2,  34.6812,6,    153.8,6,   140.88,6,    35.84,6,     0.00,6,     2.48,6,     -999,9,     -999,9,     -999,9,     -999,     2210
  49UP20150627,RF1506,  5478,  1,      3,  22104,2,20150701,2154, 24.2833, 134.0253, 4908,   4580.5,   1.5977,  34.6825,2,  34.6823,2,    154.7,2,   140.98,2,    35.81,2,     0.00,2,     2.48,2,     -999,9,     -999,9,     -999,9,     -999,     2204
  49UP20150627,RF1506,  5478,  1,      4,  22077,2,20150701,2154, 24.2833, 134.0253, 4908,   4581.4,   1.5978,  34.6824,2,  34.6826,2,    154.7,2,   140.81,2,    35.76,2,     0.00,2,     2.47,2,     -999,9,     -999,9,     -999,9,     -999,     2204
  49UP20150627,RF1506,  5478,  1,      2,  22075,2,20150701,2154, 24.2833, 134.0253, 4908,   4838.4,   1.6241,  34.6827,2,  34.6830,2,    155.3,2,   140.69,2,    35.74,2,     0.00,2,     2.47,2,     -999,9,     -999,9,     -999,9,     -999,     2158
  49UP20150627,RF1506,  5478,  1,      1,  21997,2,20150701,2154, 24.2833, 134.0253, 4908,   5001.4,   1.6418,  34.6829,2,  34.6835,2,    155.4,2,   140.80,2,    35.77,2,     0.00,2,     2.47,2,     -999,9,     -999,9,     -999,9,     -999,     2154