BOTTLE,20240122CCHSIOVAJ
EXPOCODE,SECT_ID,STNNBR,CASTNO,SAMPNO,BTLNBR,BTLNBR_FLAG_W,DATE,TIME,LATITUDE,LONGITUDE,DEPTH,CTDPRS,CTDTMP,CTDSAL,CTDSAL_FLAG_W,SALNTY,SALNTY_FLAG_W,OXYGEN,OXYGEN_FLAG_W,SILCAT,SILCAT_FLAG_W,NITRAT,NITRAT_FLAG_W,NITRIT,NITRIT_FLAG_W,PHSPHT,PHSPHT_FLAG_W,TCARBN,TCARBN_FLAG_W,ALKALI,ALKALI_FLAG_W,PH_TOT,PH_TOT_FLAG_W,PH_TMP,BTL_TIME
,,,,,,,,,,,METERS,DBAR,ITS-90,PSS-78,,PSS-78,,UMOL/KG,,UMOL/KG,,UMOL/KG,,UMOL/KG,,UMOL/KG,,UMOL/KG,,UMOL/KG,,,,DEG C,
  49UP20150627,RF1506,  5475,  1,      0,    BUC,2,20150630,2248, 24.0263, 137.0133, 4277,      0.0,  30.5739,  35.1100,2,  35.1427,2,    192.4,2,     1.09,2,     0.17,2,     0.03,2,     0.03,2,   1963.2,2,   2308.8,2,   8.1214,2,    25.00,     0035
  49UP20150627,RF1506,  5475,  1,     36,  22109,2,20150630,2248, 24.0263, 137.0133, 4277,     10.8,  30.5272,  35.1127,2,  35.1205,2,    193.0,2,     0.97,2,     0.03,2,     0.00,2,     0.01,2,   1965.7,2,   2305.7,2,   8.1193,2,    25.00,     0103
  49UP20150627,RF1506,  5475,  1,     35,  22112,2,20150630,2248, 24.0263, 137.0133, 4277,     25.6,  29.6206,  35.1073,2,     -999,9,    200.9,2,     1.01,2,     0.04,2,     0.00,2,     0.01,2,   1966.5,2,   2306.3,2,   8.1198,2,    25.00,     0102
  49UP20150627,RF1506,  5475,  1,     34,  22083,2,20150630,2248, 24.0263, 137.0133, 4277,     50.2,  26.2995,  34.9910,2,     -999,9,    212.8,2,     1.05,2,     0.03,2,     0.00,2,     0.01,2,   1964.4,2,   2299.2,2,   8.1074,2,    25.00,     0059
  49UP20150627,RF1506,  5475,  1,     33,  24469,2,20150630,2248, 24.0263, 137.0133, 4277,     75.6,  24.8986,  35.1977,2,     -999,9,    216.5,2,     1.14,2,     0.03,2,     0.00,2,     0.01,2,   1981.3,2,   2311.3,2,   8.1009,2,    25.00,     0058
  49UP20150627,RF1506,  5475,  1,     32,  22105,2,20150630,2248, 24.0263, 137.0133, 4277,    100.4,  23.5091,  35.1377,2,  35.1402,2,    213.9,6,     1.26,6,     0.03,6,     0.00,6,     0.02,6,   1994.5,2,   2308.9,2,   8.0764,2,    25.00,     0056
  49UP20150627,RF1506,  5475,  1,     31,  23515,2,20150630,2248, 24.0263, 137.0133, 4277,    126.6,  21.8655,  35.1110,2,     -999,9,    204.2,2,     1.55,2,     0.19,2,     0.06,2,     0.04,2,   2013.9,2,   2305.5,2,   8.0419,2,    25.00,     0055
  49UP20150627,RF1506,  5475,  1,     30,  22097,2,20150630,2248, 24.0263, 137.0133, 4277,    150.6,  20.3921,  34.9209,2,     -999,9,    201.6,2,     1.98,2,     1.19,2,     0.09,2,     0.11,2,   2019.8,2,   2292.9,2,   8.0071,2,    25.00,     0053
  49UP20150627,RF1506,  5475,  1,     29,  22102,2,20150630,2248, 24.0263, 137.0133, 4277,    200.9,  18.6844,  34.8175,2,  34.8163,6,    207.4,2,     2.68,2,     2.67,2,     0.01,2,     0.18,2,   2025.1,2,   2286.2,2,   7.9954,2,    25.00,     0050
  49UP20150627,RF1506,  5475,  1,     28,  22108,2,20150630,2248, 24.0263, 137.0133, 4277,    251.8,  17.7699,  34.7516,2,     -999,9,    199.7,2,     3.77,2,     4.48,2,     0.01,2,     0.30,2,   2040.1,2,   2282.1,2,   7.9610,2,    25.00,     0048
  49UP20150627,RF1506,  5475,  1,     27,  21998,2,20150630,2248, 24.0263, 137.0133, 4277,    303.0,  16.9466,  34.6993,2,     -999,9,    201.5,6,     4.75,6,     5.52,6,     0.01,6,     0.37,6,   2046.5,2,   2280.5,2,   7.9439,2,    25.00,     0046
  49UP20150627,RF1506,  5475,  1,     26,  22084,2,20150630,2248, 24.0263, 137.0133, 4277,    403.3,  14.6074,  34.5183,2,  34.5185,2,    187.0,2,    10.34,2,    10.32,2,     0.00,2,     0.71,2,   2080.0,2,   2274.9,2,   7.8632,2,    25.00,     0042
  49UP20150627,RF1506,  5475,  1,     25,  22098,2,20150630,2248, 24.0263, 137.0133, 4277,    504.1,  11.3830,  34.2937,2,     -999,9,    171.7,2,    21.46,2,    17.06,2,     0.00,2,     1.20,2,   2133.7,2,   2271.6,2,   7.7512,2,    25.00,     0039
  49UP20150627,RF1506,  5475,  1,     24,  22110,2,20150630,2248, 24.0263, 137.0133, 4277,    606.1,   8.1031,  34.1467,2,  34.1466,2,    135.4,2,    45.07,2,    26.40,2,     0.00,2,     1.88,2,   2195.6,6,   2286.6,6,   7.6059,2,    25.00,     0035
  49UP20150627,RF1506,  5475,  1,     23,  22096,2,20150630,2248, 24.0263, 137.0133, 4277,    706.9,   6.5707,  34.1456,2,     -999,9,    101.3,2,    63.36,2,    32.22,2,     0.00,2,     2.31,2,   2243.4,2,   2303.2,2,   7.5105,6,    25.00,     0032
  49UP20150627,RF1506,  5475,  1,     22,  22111,2,20150630,2248, 24.0263, 137.0133, 4277,    807.0,   5.3865,  34.1760,2,  34.1770,2,     81.5,2,    82.58,2,    35.91,2,     0.00,2,     2.58,2,   2278.0,2,   2324.6,2,   7.4564,2,    25.00,     0029
  49UP20150627,RF1506,  5475,  1,     21,  22078,2,20150630,2248, 24.0263, 137.0133, 4277,    907.3,   4.5276,  34.2575,2,     -999,9,     63.5,2,   100.48,2,    38.80,2,     0.00,2,     2.77,2,   2311.5,2,   2340.2,2,   7.4214,2,    25.00,     0026
  49UP20150627,RF1506,  5475,  1,     19,  22092,2,20150630,2248, 24.0263, 137.0133, 4277,   1009.2,   4.0244,  34.3306,2,  34.3296,2,     56.2,2,   111.79,2,    40.19,2,     0.00,2,     2.87,2,   2330.0,2,   2353.9,2,   7.4020,2,    25.00,     0021
  49UP20150627,RF1506,  5475,  1,     20,  22093,2,20150630,2248, 24.0263, 137.0133, 4277,   1009.3,   4.0231,  34.3308,2,  34.3298,2,     55.9,2,   111.86,2,    40.23,2,     0.00,2,     2.87,2,   2329.7,2,   2353.7,2,   7.4071,2,    25.00,     0022
  49UP20150627,RF1506,  5475,  1,     18,  22101,2,20150630,2248, 24.0263, 137.0133, 4277,   1211.1,   3.2359,  34.4345,2,  34.4327,6,     58.2,6,   129.60,6,    41.04,6,     0.00,6,     2.92,6,   2348.7,2,   2376.5,2,   7.4123,2,    25.00,     0016
  49UP20150627,RF1506,  5475,  1,     17,  22090,2,20150630,2248, 24.0263, 137.0133, 4277,   1414.9,   2.7734,  34.5004,2,  34.4998,2,     69.9,2,   137.96,2,    40.69,2,     0.00,2,     2.88,2,   2353.0,6,   2390.4,6,   7.4375,2,    25.00,     0011
  49UP20150627,RF1506,  5475,  1,     16,  22089,2,20150630,2248, 24.0263, 137.0133, 4277,   1617.0,   2.4427,  34.5609,2,  34.5621,6,     91.7,2,   140.05,2,    39.42,2,     0.00,2,     2.78,2,   2344.4,2,   2399.3,2,   7.4841,6,    25.00,     0000
  49UP20150627,RF1506,  5475,  1,     15,  22088,2,20150630,2248, 24.0263, 137.0133, 4277,   1820.7,   2.1992,  34.5942,2,  34.5950,2,    104.6,2,   141.30,2,    38.67,2,     0.00,2,     2.72,2,   2342.3,2,   2405.5,2,   7.5064,2,    25.00,     2354
  49UP20150627,RF1506,  5475,  1,     14,  21999,2,20150630,2248, 24.0263, 137.0133, 4277,   2023.7,   2.0329,  34.6149,2,  34.6150,2,    113.6,2,   142.34,2,    38.27,2,     0.00,2,     2.68,2,   2343.1,2,   2408.8,2,   7.5225,2,    25.00,     2349
  49UP20150627,RF1506,  5475,  1,     13,  22667,2,20150630,2248, 24.0263, 137.0133, 4277,   2277.9,   1.8514,  34.6350,2,     -999,9,    123.2,2,   143.16,2,    37.69,2,     0.00,2,     2.64,2,   2336.9,6,   2411.7,6,   7.5410,2,    25.00,     2341
  49UP20150627,RF1506,  5475,  1,     12,  22074,2,20150630,2248, 24.0263, 137.0133, 4277,   2531.9,   1.7595,  34.6469,2,  34.6465,6,    129.7,2,   143.19,2,    37.39,2,     0.00,2,     2.61,2,   2338.5,2,   2411.9,2,   7.5517,6,    25.00,     2335
  49UP20150627,RF1506,  5475,  1,     11,  24268,2,20150630,2248, 24.0263, 137.0133, 4277,   2785.2,   1.6965,  34.6561,2,     -999,9,    134.6,6,   143.23,6,    37.10,6,     0.00,6,     2.59,6,   2334.3,2,   2414.2,2,   7.5598,2,    25.00,     2327
  49UP20150627,RF1506,  5475,  1,      9,  23518,2,20150630,2248, 24.0263, 137.0133, 4277,   3042.4,   1.6323,  34.6635,2,  34.6632,2,    140.4,2,   142.95,2,    36.71,2,     0.00,2,     2.56,2,   2331.1,2,   2412.8,2,   7.5675,2,    25.00,     2321
  49UP20150627,RF1506,  5475,  1,     10,  24267,2,20150630,2248, 24.0263, 137.0133, 4277,   3043.0,   1.6322,  34.6637,2,  34.6636,2,    140.6,2,   142.94,2,    36.72,2,     0.00,2,     2.56,2,   2330.9,2,   2414.4,2,   7.5721,2,    25.00,     2321
  49UP20150627,RF1506,  5475,  1,      7,  23516,2,20150630,2248, 24.0263, 137.0133, 4277,   3297.4,   1.5925,  34.6696,2,  34.6695,2,    144.7,2,   142.44,2,    36.43,2,     0.00,2,     2.54,2,   2326.1,2,   2413.3,2,   7.5743,2,    25.00,     2314
  49UP20150627,RF1506,  5475,  1,      8,  22081,2,20150630,2248, 24.0263, 137.0133, 4277,   3297.5,   1.5924,  34.6697,2,  34.6696,2,    144.8,2,   142.43,2,    36.43,2,     0.00,2,     2.54,2,   2328.0,2,   2413.9,2,   7.5753,2,    25.00,     2314
  49UP20150627,RF1506,  5475,  1,      5,  22094,2,20150630,2248, 24.0263, 137.0133, 4277,   3552.6,   1.5720,  34.6742,2,  34.6738,2,    147.4,2,   141.94,2,    36.26,2,     0.00,2,     2.53,2,   2328.0,2,   2413.2,2,   7.5785,2,    25.00,     2305
  49UP20150627,RF1506,  5475,  1,      6,  22113,2,20150630,2248, 24.0263, 137.0133, 4277,   3552.8,   1.5719,  34.6743,2,  34.6743,2,    147.8,2,   142.38,2,    36.24,2,     0.00,2,     2.52,2,   2324.6,2,   2414.5,2,   7.5797,3,    25.00,     2305
  49UP20150627,RF1506,  5475,  1,      3,  22104,2,20150630,2248, 24.0263, 137.0133, 4277,   3806.6,   1.5412,  34.6795,2,  34.6795,2,    152.2,2,   141.52,2,    35.99,2,     0.00,2,     2.50,2,   2324.8,2,   2413.5,2,   7.5878,2,    25.00,     2259
  49UP20150627,RF1506,  5475,  1,      4,  22077,2,20150630,2248, 24.0263, 137.0133, 4277,   3806.8,   1.5426,  34.6792,2,  34.6798,2,    152.4,2,   141.28,2,    35.95,2,     0.00,2,     2.50,2,   2324.4,2,   2416.3,2,   7.5848,2,    25.00,     2259
  49UP20150627,RF1506,  5475,  1,      2,  22075,2,20150630,2248, 24.0263, 137.0133, 4277,   4065.2,   1.5432,  34.6818,2,  34.6827,2,    154.3,2,   140.72,2,    35.84,2,     0.00,2,     2.48,2,   2324.0,2,   2414.9,2,   7.5899,2,    25.00,     2251
  49UP20150627,RF1506,  5475,  1,      1,  21997,2,20150630,2248, 24.0263, 137.0133, 4277,   4175.4,   1.5501,  34.6823,2,  34.6824,2,    154.5,2,   141.05,2,    35.84,2,     0.00,2,     2.48,2,   2323.0,2,   2412.9,2,   7.5884,2,    25.00,     2248
  49UP20150627,RF1506,  5476,  1,      0,    BUC,2,20150701,0643, 24.2392, 136.2002, 3845,      0.0,  29.3215,  34.8079,2,     -999,9,    197.1,2,     1.30,2,     0.05,2,     0.00,2,     0.03,2,     -999,9,     -999,9,     -999,9,     -999,     0730
  49UP20150627,RF1506,  5476,  1,     33,  24469,2,20150701,0643, 24.2392, 136.2002, 3845,     10.5,  28.9025,  34.7787,2,     -999,9,    199.5,2,     1.24,2,     0.02,2,     0.00,2,     0.01,2,     -999,9,     -999,9,     -999,9,     -999,     0748
  49UP20150627,RF1506,  5476,  1,     32,  22105,2,20150701,0643, 24.2392, 136.2002, 3845,     25.9,  26.6062,  34.7049,2,     -999,9,    215.2,2,     1.31,2,     0.02,2,     0.00,2,     0.01,2,     -999,9,     -999,9,     -999,9,     -999,     0747
  49UP20150627,RF1506,  5476,  1,     31,  23515,2,20150701,0643, 24.2392, 136.2002, 3845,     51.9,  22.6681,  34.8565,2,     -999,9,    232.7,2,     1.39,2,     0.04,2,     0.00,2,     0.01,2,     -999,9,     -999,9,     -999,9,     -999,     0742
  49UP20150627,RF1506,  5476,  1,     27,  21998,2,20150701,0643, 24.2392, 136.2002, 3845,     77.4,  21.1962,  34.8884,2,     -999,9,    225.5,2,     1.59,2,     0.04,2,     0.00,2,     0.02,2,     -999,9,     -999,9,     -999,9,     -999,     0741
  49UP20150627,RF1506,  5476,  1,     26,  22084,2,20150701,0643, 24.2392, 136.2002, 3845,    102.4,  20.0667,  34.8758,2,     -999,9,    219.7,2,     1.73,2,     0.18,2,     0.06,2,     0.05,2,     -999,9,     -999,9,     -999,9,     -999,     0740
  49UP20150627,RF1506,  5476,  1,     25,  22098,2,20150701,0643, 24.2392, 136.2002, 3845,    126.9,  18.9938,  34.8358,2,     -999,9,    212.7,2,     2.27,2,     1.73,2,     0.08,2,     0.14,3,     -999,9,     -999,9,     -999,9,     -999,     0739
  49UP20150627,RF1506,  5476,  1,     21,  22078,2,20150701,0643, 24.2392, 136.2002, 3845,    153.0,  18.6503,  34.8246,2,     -999,9,    210.4,6,     2.61,6,     2.47,6,     0.02,6,     0.18,2,     -999,9,     -999,9,     -999,9,     -999,     0738
  49UP20150627,RF1506,  5476,  1,     19,  22092,2,20150701,0643, 24.2392, 136.2002, 3845,    203.6,  17.9236,  34.7701,2,     -999,9,    204.1,2,     3.55,2,     4.03,2,     0.01,2,     0.27,2,     -999,9,     -999,9,     -999,9,     -999,     0736
  49UP20150627,RF1506,  5476,  1,     20,  22093,2,20150701,0643, 24.2392, 136.2002, 3845,    204.5,  17.9166,  34.7697,2,     -999,9,    204.8,2,     3.60,2,     4.01,2,     0.01,2,     0.27,2,     -999,9,     -999,9,     -999,9,     -999,     0736
  49UP20150627,RF1506,  5476,  1,     18,  22101,2,20150701,0643, 24.2392, 136.2002, 3845,    253.5,  17.4319,  34.7275,2,     -999,9,    199.6,2,     4.28,2,     5.06,2,     0.00,2,     0.33,2,     -999,9,     -999,9,     -999,9,     -999,     0734
  49UP20150627,RF1506,  5476,  1,     17,  22090,2,20150701,0643, 24.2392, 136.2002, 3845,    303.6,  16.5722,  34.6699,2,     -999,9,    196.3,2,     5.98,2,     6.74,2,     0.00,2,     0.45,2,     -999,9,     -999,9,     -999,9,     -999,     0733
  49UP20150627,RF1506,  5476,  1,     16,  22089,2,20150701,0643, 24.2392, 136.2002, 3845,    404.7,  14.1834,  34.5029,2,     -999,9,    179.8,2,    13.71,2,    11.95,2,     0.00,2,     0.82,2,     -999,9,     -999,9,     -999,9,     -999,     0729
  49UP20150627,RF1506,  5476,  1,     15,  22088,2,20150701,0643, 24.2392, 136.2002, 3845,    505.2,  11.2230,  34.3109,2,     -999,9,    169.0,2,    26.16,2,    18.01,2,     0.00,2,     1.26,2,     -999,9,     -999,9,     -999,9,     -999,     0727
  49UP20150627,RF1506,  5476,  1,     14,  21999,2,20150701,0643, 24.2392, 136.2002, 3845,    607.1,   8.2915,  34.1548,2,     -999,9,    147.0,2,    44.94,2,    24.94,2,     0.00,2,     1.78,2,     -999,9,     -999,9,     -999,9,     -999,     0724
  49UP20150627,RF1506,  5476,  1,     13,  22667,2,20150701,0643, 24.2392, 136.2002, 3845,    707.7,   6.2793,  34.1209,2,     -999,9,    111.8,2,    67.06,2,    31.79,2,     0.00,2,     2.28,2,     -999,9,     -999,9,     -999,9,     -999,     0721
  49UP20150627,RF1506,  5476,  1,      9,  23518,2,20150701,0643, 24.2392, 136.2002, 3845,    809.3,   5.0412,  34.2013,2,     -999,9,     75.5,2,    89.25,2,    37.01,2,     0.00,2,     2.65,2,     -999,9,     -999,9,     -999,9,     -999,     0719
  49UP20150627,RF1506,  5476,  1,      8,  22081,2,20150701,0643, 24.2392, 136.2002, 3845,    910.1,   4.2759,  34.2775,2,     -999,9,     61.0,2,   106.13,2,    39.32,2,     0.00,2,     2.81,2,     -999,9,     -999,9,     -999,9,     -999,     0716
  49UP20150627,RF1506,  5476,  1,      7,  23516,2,20150701,0643, 24.2392, 136.2002, 3845,   1011.0,   3.7479,  34.3477,2,     -999,9,     54.0,2,   118.39,2,    40.63,2,     0.00,2,     2.90,2,     -999,9,     -999,9,     -999,9,     -999,     0708
  49UP20150627,RF1506,  5476,  1,      6,  22113,2,20150701,0643, 24.2392, 136.2002, 3845,   1213.3,   3.0916,  34.4455,2,     -999,9,     58.2,2,   133.15,2,    41.18,2,     0.00,2,     2.93,2,     -999,9,     -999,9,     -999,9,     -999,     0704
  49UP20150627,RF1506,  5476,  1,      5,  22094,2,20150701,0643, 24.2392, 136.2002, 3845,   1415.4,   2.6251,  34.5110,2,     -999,9,     70.2,2,   141.47,2,    40.73,2,     0.00,2,     2.89,2,     -999,9,     -999,9,     -999,9,     -999,     0659
  49UP20150627,RF1506,  5476,  1,      4,  22077,2,20150701,0643, 24.2392, 136.2002, 3845,   1618.2,   2.3825,  34.5612,2,     -999,9,     91.3,6,   140.94,6,    39.44,6,     0.00,6,     2.78,6,     -999,9,     -999,9,     -999,9,     -999,     0653
  49UP20150627,RF1506,  5476,  1,      3,  22104,2,20150701,0643, 24.2392, 136.2002, 3845,   1819.7,   2.1142,  34.5996,2,     -999,9,    107.3,2,   142.04,2,    38.56,2,     0.00,2,     2.71,2,     -999,9,     -999,9,     -999,9,     -999,     0648
  49UP20150627,RF1506,  5476,  1,      1,  21997,2,20150701,0643, 24.2392, 136.2002, 3845,   2026.4,   1.9606,  34.6208,2,     -999,9,    116.8,2,   142.51,2,    38.08,2,     0.00,2,     2.67,2,     -999,9,     -999,9,     -999,9,     -999,     0643
  49UP20150627,RF1506,  5476,  1,      2,  22075,2,20150701,0643, 24.2392, 136.2002, 3845,   2027.7,   1.9601,  34.6209,2,     -999,9,    116.9,2,   142.41,2,    38.02,2,     0.00,2,     2.67,2,     -999,9,     -999,9,     -999,9,     -999,     0643