BOTTLE,20240122CCHSIOVAJ
EXPOCODE,SECT_ID,STNNBR,CASTNO,SAMPNO,BTLNBR,BTLNBR_FLAG_W,DATE,TIME,LATITUDE,LONGITUDE,DEPTH,CTDPRS,CTDTMP,CTDSAL,CTDSAL_FLAG_W,SALNTY,SALNTY_FLAG_W,OXYGEN,OXYGEN_FLAG_W,SILCAT,SILCAT_FLAG_W,NITRAT,NITRAT_FLAG_W,NITRIT,NITRIT_FLAG_W,PHSPHT,PHSPHT_FLAG_W,TCARBN,TCARBN_FLAG_W,ALKALI,ALKALI_FLAG_W,PH_TOT,PH_TOT_FLAG_W,PH_TMP,BTL_TIME
,,,,,,,,,,,METERS,DBAR,ITS-90,PSS-78,,PSS-78,,UMOL/KG,,UMOL/KG,,UMOL/KG,,UMOL/KG,,UMOL/KG,,UMOL/KG,,UMOL/KG,,,,DEG C,
  49UP20150627,RF1506,  5484,  1,      0,    BUC,2,20150703,1952, 25.5333, 128.7480, 6844,      0.0,  29.5175,  34.7278,2,     -999,9,    194.2,2,     1.24,2,     0.04,2,     0.00,2,     0.03,2,     -999,9,     -999,9,     -999,9,     -999,     2215
  49UP20150627,RF1506,  5484,  1,     36,  22109,2,20150703,1952, 25.5333, 128.7480, 6844,     12.2,  29.5116,  34.7270,2,  34.7253,2,    195.0,2,     1.20,2,     0.00,2,     0.00,2,     0.03,2,     -999,9,     -999,9,     -999,9,     -999,     2239
  49UP20150627,RF1506,  5484,  1,     35,  22112,2,20150703,1952, 25.5333, 128.7480, 6844,     26.6,  29.2687,  34.7536,2,     -999,9,    197.6,3,     1.16,2,     0.00,2,     0.00,2,     0.03,2,     -999,9,     -999,9,     -999,9,     -999,     2237
  49UP20150627,RF1506,  5484,  1,     34,  22083,2,20150703,1952, 25.5333, 128.7480, 6844,     53.0,  25.1109,  34.8769,2,     -999,9,    213.3,2,     1.20,2,     0.00,2,     0.00,2,     0.04,2,     -999,9,     -999,9,     -999,9,     -999,     2235
  49UP20150627,RF1506,  5484,  1,     33,  24469,2,20150703,1952, 25.5333, 128.7480, 6844,     77.6,  23.6005,  34.9169,2,     -999,9,    211.1,2,     1.25,2,     0.00,2,     0.00,2,     0.05,2,     -999,9,     -999,9,     -999,9,     -999,     2234
  49UP20150627,RF1506,  5484,  1,     32,  22105,2,20150703,1952, 25.5333, 128.7480, 6844,    102.9,  22.7091,  34.9114,2,  34.9120,2,    204.5,6,     1.58,6,     0.47,6,     0.20,6,     0.09,6,     -999,9,     -999,9,     -999,9,     -999,     2229
  49UP20150627,RF1506,  5484,  1,     31,  23515,2,20150703,1952, 25.5333, 128.7480, 6844,    127.6,  22.1713,  34.9104,2,     -999,9,    202.6,2,     1.74,2,     0.95,2,     0.06,2,     0.11,2,     -999,9,     -999,9,     -999,9,     -999,     2228
  49UP20150627,RF1506,  5484,  1,     30,  22097,2,20150703,1952, 25.5333, 128.7480, 6844,    153.3,  21.7054,  34.9039,2,     -999,9,    201.4,2,     1.89,2,     1.27,2,     0.03,2,     0.12,2,     -999,9,     -999,9,     -999,9,     -999,     2227
  49UP20150627,RF1506,  5484,  1,     29,  22102,2,20150703,1952, 25.5333, 128.7480, 6844,    204.3,  20.6643,  34.8711,2,  34.8701,2,    196.6,2,     2.66,2,     2.41,2,     0.02,2,     0.20,2,     -999,9,     -999,9,     -999,9,     -999,     2224
  49UP20150627,RF1506,  5484,  1,     28,  22108,2,20150703,1952, 25.5333, 128.7480, 6844,    253.8,  19.2753,  34.8292,2,     -999,9,    194.2,2,     2.91,2,     3.32,2,     0.01,2,     0.25,2,     -999,9,     -999,9,     -999,9,     -999,     2223
  49UP20150627,RF1506,  5484,  1,     27,  21998,2,20150703,1952, 25.5333, 128.7480, 6844,    305.4,  17.9547,  34.7565,2,     -999,9,    198.4,2,     3.73,2,     4.42,2,     0.01,2,     0.31,2,     -999,9,     -999,9,     -999,9,     -999,     2220
  49UP20150627,RF1506,  5484,  1,     26,  22084,2,20150703,1952, 25.5333, 128.7480, 6844,    405.7,  16.1653,  34.6381,2,  34.6392,2,    190.4,2,     7.60,2,     7.84,2,     0.01,2,     0.54,2,     -999,9,     -999,9,     -999,9,     -999,     2217
  49UP20150627,RF1506,  5484,  1,     25,  22098,2,20150703,1952, 25.5333, 128.7480, 6844,    506.9,  12.7601,  34.3970,2,     -999,9,    176.4,2,    17.30,2,    14.47,2,     0.00,2,     1.02,2,     -999,9,     -999,9,     -999,9,     -999,     2211
  49UP20150627,RF1506,  5484,  1,     24,  22110,2,20150703,1952, 25.5333, 128.7480, 6844,    607.9,   9.6716,  34.2728,2,  34.2714,2,    140.1,6,    37.78,6,    23.17,6,     0.00,6,     1.66,6,     -999,9,     -999,9,     -999,9,     -999,     2208
  49UP20150627,RF1506,  5484,  1,     23,  22096,2,20150703,1952, 25.5333, 128.7480, 6844,    708.3,   7.6005,  34.2339,2,     -999,9,    111.0,2,    56.70,2,    29.53,2,     0.00,2,     2.13,2,     -999,9,     -999,9,     -999,9,     -999,     2205
  49UP20150627,RF1506,  5484,  1,     22,  22111,2,20150703,1952, 25.5333, 128.7480, 6844,    809.8,   5.6183,  34.2471,2,  34.2495,2,     81.2,2,    82.24,2,    35.58,2,     0.00,2,     2.57,2,     -999,9,     -999,9,     -999,9,     -999,     2201
  49UP20150627,RF1506,  5484,  1,     21,  22078,2,20150703,1952, 25.5333, 128.7480, 6844,    909.9,   4.9769,  34.3035,2,     -999,9,     66.0,2,    93.10,2,    38.11,2,     0.00,2,     2.74,2,     -999,9,     -999,9,     -999,9,     -999,     2158
  49UP20150627,RF1506,  5484,  1,     20,  22093,2,20150703,1952, 25.5333, 128.7480, 6844,   1012.2,   4.2939,  34.3656,2,  34.3639,2,     62.0,2,   106.54,2,    39.41,2,     0.00,2,     2.83,2,     -999,9,     -999,9,     -999,9,     -999,     2145
  49UP20150627,RF1506,  5484,  1,     19,  22092,2,20150703,1952, 25.5333, 128.7480, 6844,   1215.0,   3.4439,  34.4916,2,  34.4899,2,     80.6,3,   124.78,2,    38.90,3,     0.00,2,     2.78,3,     -999,9,     -999,9,     -999,9,     -999,     2139
  49UP20150627,RF1506,  5484,  1,     18,  22101,2,20150703,1952, 25.5333, 128.7480, 6844,   1416.5,   2.8162,  34.5211,2,  34.5190,2,     81.0,2,   135.59,2,    39.67,2,     0.00,2,     2.82,2,     -999,9,     -999,9,     -999,9,     -999,     2133
  49UP20150627,RF1506,  5484,  1,     17,  22090,2,20150703,1952, 25.5333, 128.7480, 6844,   1620.6,   2.4187,  34.5528,2,  34.5534,2,     88.0,2,   141.44,2,    39.62,2,     0.00,2,     2.80,2,     -999,9,     -999,9,     -999,9,     -999,     2122
  49UP20150627,RF1506,  5484,  1,     16,  22089,3,20150703,1952, 25.5333, 128.7480, 6844,   1821.7,   2.1572,  34.5865,2,  34.5852,2,    101.4,2,   143.36,2,    38.95,2,     0.00,2,     2.76,2,     -999,9,     -999,9,     -999,9,     -999,     2117
  49UP20150627,RF1506,  5484,  1,     15,  22088,2,20150703,1952, 25.5333, 128.7480, 6844,   2026.2,   2.0076,  34.6102,2,  34.6087,2,    111.9,2,   143.49,2,    38.33,2,     0.00,2,     2.71,2,     -999,9,     -999,9,     -999,9,     -999,     2112
  49UP20150627,RF1506,  5484,  1,     14,  21999,2,20150703,1952, 25.5333, 128.7480, 6844,   2279.8,   1.8519,  34.6353,2,  34.6341,2,    123.5,2,   142.98,2,    37.67,2,     0.00,2,     2.65,2,     -999,9,     -999,9,     -999,9,     -999,     2103
  49UP20150627,RF1506,  5484,  1,     13,  22667,2,20150703,1952, 25.5333, 128.7480, 6844,   2534.2,   1.7384,  34.6508,2,  34.6498,2,    132.3,2,   143.18,2,    37.24,2,     0.00,2,     2.61,2,     -999,9,     -999,9,     -999,9,     -999,     2057
  49UP20150627,RF1506,  5484,  1,     12,  22074,2,20150703,1952, 25.5333, 128.7480, 6844,   2788.8,   1.6615,  34.6603,2,  34.6605,6,    138.0,2,   142.86,2,    36.84,2,     0.00,2,     2.57,2,     -999,9,     -999,9,     -999,9,     -999,     2049
  49UP20150627,RF1506,  5484,  1,     11,  24268,2,20150703,1952, 25.5333, 128.7480, 6844,   3043.4,   1.6123,  34.6665,2,  34.6654,2,    142.2,6,   142.85,6,    36.63,6,     0.00,6,     2.55,6,     -999,9,     -999,9,     -999,9,     -999,     2043
  49UP20150627,RF1506,  5484,  1,     10,  24267,2,20150703,1952, 25.5333, 128.7480, 6844,   3300.8,   1.5888,  34.6708,2,  34.6698,2,    145.4,2,   142.36,2,    36.43,2,     0.00,2,     2.53,2,     -999,9,     -999,9,     -999,9,     -999,     2036
  49UP20150627,RF1506,  5484,  1,      9,  23518,2,20150703,1952, 25.5333, 128.7480, 6844,   3554.7,   1.5751,  34.6745,2,  34.6755,6,    148.1,2,   142.30,2,    36.29,2,     0.00,2,     2.52,2,     -999,9,     -999,9,     -999,9,     -999,     2031
  49UP20150627,RF1506,  5484,  1,      8,  22081,2,20150703,1952, 25.5333, 128.7480, 6844,   3809.9,   1.5706,  34.6775,2,     -999,9,    150.3,2,   142.06,2,    36.11,2,     0.00,2,     2.51,2,     -999,9,     -999,9,     -999,9,     -999,     2024
  49UP20150627,RF1506,  5484,  1,      7,  23516,2,20150703,1952, 25.5333, 128.7480, 6844,   4066.5,   1.5794,  34.6792,2,  34.6790,6,    151.7,2,   141.74,2,    36.07,2,     0.00,2,     2.50,2,     -999,9,     -999,9,     -999,9,     -999,     2019
  49UP20150627,RF1506,  5484,  1,      6,  22113,2,20150703,1952, 25.5333, 128.7480, 6844,   4580.6,   1.6155,  34.6812,2,  34.6811,2,    153.4,2,   141.38,2,    35.89,2,     0.00,2,     2.48,2,     -999,9,     -999,9,     -999,9,     -999,     2008
  49UP20150627,RF1506,  5484,  1,      5,  22094,2,20150703,1952, 25.5333, 128.7480, 6844,   5095.3,   1.6669,  34.6822,2,  34.6827,2,    154.4,2,   141.39,2,    35.88,2,     0.00,2,     2.48,2,     -999,9,     -999,9,     -999,9,     -999,     1958
  49UP20150627,RF1506,  5484,  1,      4,  22077,2,20150703,1952, 25.5333, 128.7480, 6844,   5351.6,   1.6973,  34.6823,2,  34.6828,2,    154.6,2,   141.03,2,    35.81,2,     0.00,2,     2.48,2,     -999,9,     -999,9,     -999,9,     -999,     1952