BOTTLE,20240116CCHSIOVAJ
EXPOCODE,SECT_ID,STNNBR,CASTNO,SAMPNO,BTLNBR,BTLNBR_FLAG_W,DATE,TIME,BTL_TIME,LATITUDE,LONGITUDE,DEPTH,CTDPRS,CTDDEPTH,CTDTMP,CTDSAL,CTDSAL_FLAG_W,CTDOXY,CTDOXY_FLAG_W,SALNTY,SALNTY_FLAG_W,OXYGEN,OXYGEN_FLAG_W,SILCAT,SILCAT_FLAG_W,NO2+NO3,NO2+NO3_FLAG_W,NITRIT,NITRIT_FLAG_W,PHSPHT,PHSPHT_FLAG_W,CFC-11,CFC-11_FLAG_W,CFC-12,CFC-12_FLAG_W,DELC14,DELC14_FLAG_W,DELC13,DELC13_FLAG_W,TCARBN,TCARBN_FLAG_W,ALKALI,ALKALI_FLAG_W,PH_TOT,PH_TOT_FLAG_W,PH_TMP,CHLORA,CHLORA_FLAG_W,PPHYTN,PPHYTN_FLAG_W,REFTMP,REFTMP_FLAG_W
,,,,,,,,,,,,METERS,DBAR,METERS,ITS-90,PSS-78,,UMOL/KG,,PSS-78,,UMOL/KG,,UMOL/KG,,UMOL/KG,,UMOL/KG,,UMOL/KG,,PMOL/KG,,PMOL/KG,,/MILLE,,/MILLE,,UMOL/KG,,UMOL/KG,,,,DEG C,UG/KG,,UG/KG,,ITS-90,
  49UP20110515,   P13,    85,  1,      0,     BUC,2,20110719,1116,1210, 19.0042, 164.9880, 1944,      0.0,        0,  28.7846,  34.7097,2,    198.5,2,     -999,9,   196.84,2,     1.04,2,     0.08,2,     0.00,2,    0.140,2,     -999,9,     -999,9,-999,9,-999,9,     -999,9,     -999,9,     -999,9,     -999,     0.06,2,     0.02,2,     -999,9
  49UP20110515,   P13,    85,  1,     36,     109,2,20110719,1116,1230, 19.0042, 164.9880, 1944,     10.7,       11,  28.7886,  34.7094,2,    198.3,2,  34.7087,2,   197.81,2,     1.13,2,     0.05,2,     0.00,2,    0.090,2,    1.627,3,    1.049,2,-999,9,-999,9,   1944.1,2,   2280.2,2,   8.1106,2,    25.00,     0.04,2,     0.02,2,  28.7899,2
  49UP20110515,   P13,    85,  1,     35,     108,2,20110719,1116,1228, 19.0042, 164.9880, 1944,     25.6,       25,  28.7631,  34.7096,2,    198.5,2,  34.7090,2,   197.75,6,     1.01,2,     0.09,2,     0.00,2,    0.090,2,    1.623,3,    1.062,2,-999,9,-999,9,   1945.6,2,   2279.8,2,   8.1115,2,    25.00,     0.06,2,     0.00,2,  28.7645,2
  49UP20110515,   P13,    85,  1,     34,     107,2,20110719,1116,1224, 19.0042, 164.9880, 1944,     51.0,       51,  28.6565,  34.7032,2,    198.8,2,  34.7027,2,   198.45,2,     0.98,2,     0.01,2,     0.00,2,    0.080,2,    1.581,3,    1.041,2,-999,9,-999,9,   1945.7,2,   2278.1,2,   8.1102,2,    25.00,     0.05,2,     0.01,2,  28.6570,2
  49UP20110515,   P13,    85,  1,     33,     106,2,20110719,1116,1223, 19.0042, 164.9880, 1944,     74.9,       74,  28.5793,  34.7601,2,    200.0,2,  34.7684,4,   201.00,2,     1.00,2,     0.01,2,     0.00,2,    0.090,2,    1.675,3,    1.067,2,-999,9,-999,9,   1948.9,2,   2283.4,2,   8.1130,6,    25.00,     0.08,2,     0.02,2,  28.5793,2
  49UP20110515,   P13,    85,  1,     32,     105,2,20110719,1116,1221, 19.0042, 164.9880, 1944,    101.0,      100,  27.4138,  35.0387,2,    208.5,2,  35.0366,2,   207.87,2,     1.05,6,     0.04,6,     0.00,6,    0.060,6,    1.917,3,    1.137,2,-999,9,-999,9,   1965.9,6,   2301.0,2,   8.1046,2,    25.00,     0.13,2,     0.05,2,  27.4154,2
  49UP20110515,   P13,    85,  1,     31,     104,2,20110719,1116,1220, 19.0042, 164.9880, 1944,    126.3,      125,  25.7865,  35.2940,2,    204.7,2,  35.2913,2,   204.40,2,     1.09,2,     0.10,2,     0.00,2,    0.040,2,    1.828,3,    1.190,6,-999,9,-999,9,   1990.3,2,   2317.8,2,   8.0845,2,    25.00,     0.23,2,     0.19,2,  25.7915,2
  49UP20110515,   P13,    85,  1,     30,     103,2,20110719,1116,1218, 19.0042, 164.9880, 1944,    151.6,      151,  24.7079,  35.3337,2,    199.8,2,  35.3345,2,   200.14,2,     1.21,2,     0.06,2,     0.01,2,    0.050,2,    1.776,3,    1.240,2,-999,9,-999,9,   2004.0,2,   2320.0,2,   8.0656,2,    25.00,     0.16,2,     0.23,2,  24.6955,2
  49UP20110515,   P13,    85,  1,     29,     102,2,20110719,1116,1216, 19.0042, 164.9880, 1944,    201.6,      200,  20.4579,  35.0564,2,    184.6,2,  35.0494,2,   185.01,6,     2.52,2,     2.45,2,     0.02,2,    0.240,2,    2.008,3,    1.467,2,-999,9,-999,9,   2050.2,2,   2304.2,2,   7.9643,2,    25.00,     0.03,2,     0.06,2,  20.4410,2
  49UP20110515,   P13,    85,  1,     28,     101,2,20110719,1116,1215, 19.0042, 164.9880, 1944,    252.7,      251,  17.9684,  34.7932,2,    192.9,2,  34.7937,2,   192.77,2,     3.94,2,     4.39,2,     0.01,2,    0.330,2,    2.111,3,    1.550,2,-999,9,-999,9,   2046.2,2,   2284.0,2,   7.9324,2,    25.00,     -999,9,     -999,9,  17.9686,2
  49UP20110515,   P13,    85,  1,     27,     100,2,20110719,1116,1213, 19.0042, 164.9880, 1944,    281.5,      280,  16.5930,  34.6582,2,    194.4,2,  34.6559,2,   194.55,2,     5.46,6,     6.28,6,     0.01,6,    0.450,6,    2.185,3,    1.642,6,-999,9,-999,9,   2055.3,2,   2276.6,2,   7.9064,2,    25.00,     -999,9,     -999,9,  16.5934,2
  49UP20110515,   P13,    85,  1,     26,      99,2,20110719,1116,1211, 19.0042, 164.9880, 1944,    332.5,      330,  14.4138,  34.4884,2,    192.2,2,  34.4875,2,   191.91,2,     9.29,2,     9.76,2,     0.00,2,    0.690,2,    2.343,3,    1.756,2,-999,9,-999,9,   2074.0,2,   2267.5,2,   7.8483,2,    25.00,     -999,9,     -999,9,  14.4132,2
  49UP20110515,   P13,    85,  1,     25,      98,2,20110719,1116,1209, 19.0042, 164.9880, 1944,    373.0,      370,  12.6534,  34.3403,2,    176.1,2,  34.3410,2,   175.74,2,    14.06,2,    13.79,2,     0.00,2,    1.020,2,    2.380,3,    1.746,2,-999,9,-999,9,   2107.3,2,   2266.0,2,   7.7757,2,    25.00,     -999,9,     -999,9,  12.6530,2
  49UP20110515,   P13,    85,  1,     24,      97,2,20110719,1116,1207, 19.0042, 164.9880, 1944,    424.4,      421,  10.6765,  34.2467,2,    141.2,2,  34.2518,6,   137.80,2,    23.90,2,    20.78,2,     0.00,2,    1.560,2,    2.128,3,    1.499,2,-999,9,-999,9,   2158.3,2,   2267.8,2,   7.6544,6,    25.00,     -999,9,     -999,9,  10.6696,2
  49UP20110515,   P13,    85,  1,     23,      96,2,20110719,1116,1205, 19.0042, 164.9880, 1944,    475.8,      472,   9.2508,  34.1835,2,    137.1,2,  34.1848,2,   137.38,2,    32.08,2,    23.76,2,     0.00,2,    1.750,2,    1.972,3,    1.376,2,-999,9,-999,9,   2173.6,6,   2272.1,6,   7.6185,2,    25.00,     -999,9,     -999,9,   9.2505,2
  49UP20110515,   P13,    85,  1,     22,      95,2,20110719,1116,1159, 19.0042, 164.9880, 1944,    575.7,      571,   7.1628,  34.1806,2,     85.7,2,  34.1791,2,    85.28,6,    54.62,2,    32.56,2,     0.00,2,    2.370,2,    1.125,3,    0.725,2,-999,9,-999,9,   2241.4,2,   2291.7,2,   7.4799,2,    25.00,     -999,9,     -999,9,   7.1627,2
  49UP20110515,   P13,    85,  1,     21,      94,2,20110719,1116,1156, 19.0042, 164.9880, 1944,    675.9,      671,   5.8724,  34.2567,2,     61.0,2,  34.2552,2,    60.85,2,    74.41,2,    37.38,2,     0.00,2,    2.700,2,    0.464,3,    0.297,2,-999,9,-999,9,   2281.0,2,   2315.6,2,   7.4217,2,    25.00,     -999,9,     -999,9,   5.8723,2
  49UP20110515,   P13,    85,  1,     20,      93,2,20110719,1116,1153, 19.0042, 164.9880, 1944,    777.5,      771,   5.1365,  34.3673,2,     56.0,2,  34.3667,2,    56.19,2,    87.88,2,    39.21,2,     0.00,2,    2.830,2,    0.149,3,    0.111,2,-999,9,-999,9,   2302.5,2,   2335.4,2,   7.4181,2,    25.00,     -999,9,     -999,9,   5.1363,2
  49UP20110515,   P13,    85,  1,     19,      92,2,20110719,1116,1150, 19.0042, 164.9880, 1944,    877.7,      871,   4.6101,  34.4417,2,     61.7,2,  34.4414,2,    61.48,2,    97.35,2,    39.65,2,     0.00,2,    2.840,2,    0.050,3,    0.051,2,-999,9,-999,9,   2314.9,2,   2351.6,2,   7.4424,2,    25.00,     -999,9,     -999,9,   4.6083,2
  49UP20110515,   P13,    85,  1,     18,      91,2,20110719,1116,1147, 19.0042, 164.9880, 1944,    979.1,      971,   4.2418,  34.4877,2,     68.4,2,  34.4418,4,    68.47,2,   104.03,6,    39.71,6,     0.00,6,    2.830,6,    0.019,3,    0.032,2,-999,9,-999,9,   2320.8,2,   2362.6,2,   7.4448,2,    25.00,     -999,9,     -999,9,   4.2422,2
  49UP20110515,   P13,    85,  1,     17,      90,2,20110719,1116,1140, 19.0042, 164.9880, 1944,   1140.9,     1131,   3.5727,  34.5348,2,     75.5,2,  34.5353,2,    75.26,2,   117.08,2,    39.98,2,     0.00,2,    2.840,2,    0.000,3,    0.014,2,-999,9,-999,9,   2326.3,3,   2377.7,2,   7.4555,2,    25.00,     -999,9,     -999,9,   3.5726,2
  49UP20110515,   P13,    85,  1,     16,      89,2,20110719,1116,1140, 19.0042, 164.9880, 1944,   1140.9,     1131,   3.5739,  34.5347,2,     75.5,2,  34.5346,6,    75.70,2,   117.09,2,    39.95,2,     0.00,2,    2.860,2,    0.000,3,    0.012,2,-999,9,-999,9,   2333.4,2,   2377.8,2,   7.4548,2,    25.00,     -999,9,     -999,9,   3.5740,2
  49UP20110515,   P13,    85,  1,     15,      88,2,20110719,1116,1135, 19.0042, 164.9880, 1944,   1345.0,     1333,   3.0153,  34.5654,2,     82.7,2,  34.5653,2,    82.45,2,   128.15,2,    39.99,2,     0.00,2,    2.840,2,    0.021,3,    0.009,2,-999,9,-999,9,   2342.0,2,   2391.7,2,   7.4678,6,    25.00,     -999,9,     -999,9,   3.0152,2
  49UP20110515,   P13,    85,  1,     14,      87,2,20110719,1116,1130, 19.0042, 164.9880, 1944,   1545.9,     1531,   2.6368,  34.5844,2,     88.4,2,  34.5849,2,    88.25,6,   135.98,2,    39.92,2,     0.00,2,    2.830,2,     -999,5,     -999,5,-999,9,-999,9,   2347.7,2,   2398.4,6,   7.4742,2,    25.00,     -999,9,     -999,9,   2.6363,2
  49UP20110515,   P13,    85,  1,     13,      86,2,20110719,1116,1122, 19.0042, 164.9880, 1944,   1748.7,     1731,   2.3980,  34.5998,2,     94.1,2,  34.6006,2,    93.89,2,   140.71,2,    39.64,2,     0.00,2,    2.810,2,    0.000,3,    0.006,2,-999,9,-999,9,   2348.6,2,   2404.7,2,   7.4836,2,    25.00,     -999,9,     -999,9,   2.3979,2
  49UP20110515,   P13,    85,  1,     12,      85,2,20110719,1116,1122, 19.0042, 164.9880, 1944,   1748.9,     1731,   2.3986,  34.5997,2,     94.1,2,  34.6008,2,    94.04,2,   140.69,2,    39.70,2,     0.00,2,    2.810,2,     -999,9,     -999,9,-999,9,-999,9,   2349.0,2,   2403.4,2,   7.4818,2,    25.00,     -999,9,     -999,9,   2.3980,2
  49UP20110515,   P13,    85,  1,      2,      75,2,20110719,1116,1117, 19.0042, 164.9880, 1944,   1873.5,     1854,   2.2617,  34.6078,2,     97.7,2,  34.6081,6,    98.32,4,   143.73,2,    39.47,2,     0.00,2,    2.790,2,    0.000,3,    0.014,2,-999,9,-999,9,   2350.2,2,   2407.3,2,   7.4887,2,    25.00,     -999,9,     -999,9,   2.2615,2
  49UP20110515,   P13,    85,  1,      1,     112,2,20110719,1116,1117, 19.0042, 164.9880, 1944,   1874.4,     1855,   2.2624,  34.6077,2,     97.7,2,  34.6079,6,    97.68,2,   143.57,6,    39.54,6,     0.00,6,    2.790,6,    0.000,3,    0.000,2,-999,9,-999,9,   2343.5,3,   2407.5,2,   7.4888,2,    25.00,     -999,9,     -999,9,   2.2623,2
  49UP20110515,   P13,    86,  1,      0,     BUC,2,20110719,1603,1711, 18.5032, 164.9792, 1748,      0.0,        0,  28.7228,  34.7168,2,    198.3,2,     -999,9,     -999,9,     1.08,2,     0.11,2,     0.00,2,    0.100,2,     -999,9,     -999,9,-999,9,-999,9,     -999,9,     -999,9,     -999,9,     -999,     -999,9,     -999,9,     -999,9
  49UP20110515,   P13,    86,  1,     36,     109,2,20110719,1603,1718, 18.5032, 164.9792, 1748,     11.7,       12,  28.7305,  34.7165,2,    198.3,2,     -999,9,     -999,9,     0.95,2,     0.08,2,     0.00,2,    0.100,2,     -999,9,     -999,9,-999,9,-999,9,     -999,9,     -999,9,     -999,9,     -999,     -999,9,     -999,9,  28.7282,2
  49UP20110515,   P13,    86,  1,     35,     108,2,20110719,1603,1716, 18.5032, 164.9792, 1748,     26.1,       26,  28.7315,  34.7165,2,    198.1,2,     -999,9,     -999,9,     1.09,2,     0.02,2,     0.00,2,    0.100,2,     -999,9,     -999,9,-999,9,-999,9,     -999,9,     -999,9,     -999,9,     -999,     -999,9,     -999,9,  28.7316,2
  49UP20110515,   P13,    86,  1,     34,     107,2,20110719,1603,1712, 18.5032, 164.9792, 1748,     51.7,       51,  28.7243,  34.7152,2,    198.0,2,     -999,9,     -999,9,     1.12,2,     0.00,2,     0.00,2,    0.100,2,     -999,9,     -999,9,-999,9,-999,9,     -999,9,     -999,9,     -999,9,     -999,     -999,9,     -999,9,  28.7174,2
  49UP20110515,   P13,    86,  1,     33,     106,2,20110719,1603,1711, 18.5032, 164.9792, 1748,     76.1,       76,  28.5628,  34.8542,2,    201.0,2,     -999,9,     -999,9,     1.07,6,     0.01,6,     0.00,6,    0.080,6,     -999,9,     -999,9,-999,9,-999,9,     -999,9,     -999,9,     -999,9,     -999,     -999,9,     -999,9,  28.5663,2
  49UP20110515,   P13,    86,  1,     31,     104,2,20110719,1603,1709, 18.5032, 164.9792, 1748,    100.7,      100,  27.1469,  35.1523,2,    209.0,2,     -999,9,     -999,9,     0.98,2,     0.01,2,     0.00,2,    0.050,2,     -999,9,     -999,9,-999,9,-999,9,     -999,9,     -999,9,     -999,9,     -999,     -999,9,     -999,9,  27.1437,2
  49UP20110515,   P13,    86,  1,     32,     105,2,20110719,1603,1709, 18.5032, 164.9792, 1748,    101.0,      100,  27.1386,  35.1552,2,    209.1,2,     -999,9,     -999,9,     1.10,2,     0.05,2,     0.00,2,    0.060,2,     -999,9,     -999,9,-999,9,-999,9,     -999,9,     -999,9,     -999,9,     -999,     -999,9,     -999,9,  27.1371,2
  49UP20110515,   P13,    86,  1,     30,     103,2,20110719,1603,1708, 18.5032, 164.9792, 1748,    125.7,      125,  25.5472,  35.3166,2,    203.6,2,     -999,9,     -999,9,     1.21,2,     0.00,2,     0.00,2,    0.040,2,     -999,9,     -999,9,-999,9,-999,9,     -999,9,     -999,9,     -999,9,     -999,     -999,9,     -999,9,  25.5573,2
  49UP20110515,   P13,    86,  1,     29,     102,2,20110719,1603,1706, 18.5032, 164.9792, 1748,    152.1,      151,  23.7855,  35.3149,2,    193.6,2,     -999,9,     -999,9,     1.37,6,     0.21,6,     0.15,6,    0.080,6,     -999,9,     -999,9,-999,9,-999,9,     -999,9,     -999,9,     -999,9,     -999,     -999,9,     -999,9,  23.7904,2
  49UP20110515,   P13,    86,  1,     28,     101,2,20110719,1603,1704, 18.5032, 164.9792, 1748,    202.5,      201,  20.7289,  35.0722,2,    185.2,2,     -999,9,     -999,9,     2.46,2,     2.04,2,     0.02,2,    0.230,2,     -999,9,     -999,9,-999,9,-999,9,     -999,9,     -999,9,     -999,9,     -999,     -999,9,     -999,9,  20.7271,2
  49UP20110515,   P13,    86,  1,     27,     100,2,20110719,1603,1701, 18.5032, 164.9792, 1748,    251.8,      250,  17.3134,  34.7355,2,    194.8,2,     -999,9,     -999,9,     4.42,2,     5.08,2,     0.01,2,    0.370,2,     -999,9,     -999,9,-999,9,-999,9,     -999,9,     -999,9,     -999,9,     -999,     -999,9,     -999,9,  17.3176,2
  49UP20110515,   P13,    86,  1,     26,      99,2,20110719,1603,1659, 18.5032, 164.9792, 1748,    303.9,      302,  14.4756,  34.4695,2,    184.8,2,     -999,9,     -999,9,     9.10,2,     9.87,2,     0.00,2,    0.730,2,     -999,9,     -999,9,-999,9,-999,9,     -999,9,     -999,9,     -999,9,     -999,     -999,9,     -999,9,  14.4837,2
  49UP20110515,   P13,    86,  1,     24,      97,2,20110719,1603,1657, 18.5032, 164.9792, 1748,    352.3,      350,  12.6324,  34.3372,2,    173.2,2,     -999,9,     -999,9,    14.42,2,    14.12,2,     0.00,2,    1.050,2,     -999,9,     -999,9,-999,9,-999,9,     -999,9,     -999,9,     -999,9,     -999,     -999,9,     -999,9,  12.6312,2
  49UP20110515,   P13,    86,  1,     25,      98,2,20110719,1603,1657, 18.5032, 164.9792, 1748,    353.4,      351,  12.6202,  34.3368,2,    173.4,2,     -999,9,     -999,9,    14.36,2,    14.13,2,     0.00,2,    1.040,2,     -999,9,     -999,9,-999,9,-999,9,     -999,9,     -999,9,     -999,9,     -999,     -999,9,     -999,9,  12.6189,2
  49UP20110515,   P13,    86,  1,     23,      96,2,20110719,1603,1655, 18.5032, 164.9792, 1748,    404.3,      401,  10.5483,  34.2231,2,    165.0,2,     -999,9,     -999,9,    22.85,2,    18.80,2,     0.00,2,    1.360,2,     -999,9,     -999,9,-999,9,-999,9,     -999,9,     -999,9,     -999,9,     -999,     -999,9,     -999,9,  10.5503,2
  49UP20110515,   P13,    86,  1,     22,      95,4,20110719,1603,1653, 18.5032, 164.9792, 1748,    454.0,      451,   8.8959,  34.1744,2,    131.6,2,     -999,9,     -999,9,     -999,9,     -999,9,     -999,9,     -999,9,     -999,9,     -999,9,-999,9,-999,9,     -999,9,     -999,9,     -999,9,     -999,     -999,9,     -999,9,   8.8949,2
  49UP20110515,   P13,    86,  1,     21,      94,2,20110719,1603,1651, 18.5032, 164.9792, 1748,    503.6,      500,   7.7613,  34.1803,2,     97.9,2,     -999,9,     -999,9,    47.43,2,    30.40,2,     0.00,2,    2.220,2,     -999,9,     -999,9,-999,9,-999,9,     -999,9,     -999,9,     -999,9,     -999,     -999,9,     -999,9,   7.7652,2
  49UP20110515,   P13,    86,  1,     20,      93,2,20110719,1603,1643, 18.5032, 164.9792, 1748,    606.0,      601,   6.1374,  34.2261,2,     64.2,2,     -999,9,     -999,9,    69.59,2,    36.50,2,     0.00,2,    2.650,2,     -999,9,     -999,9,-999,9,-999,9,     -999,9,     -999,9,     -999,9,     -999,     -999,9,     -999,9,   6.1382,2
  49UP20110515,   P13,    86,  1,     19,      92,2,20110719,1603,1640, 18.5032, 164.9792, 1748,    706.0,      701,   5.2909,  34.3423,2,     55.7,2,     -999,9,     -999,9,    84.85,2,    38.98,2,     0.00,2,    2.820,2,     -999,9,     -999,9,-999,9,-999,9,     -999,9,     -999,9,     -999,9,     -999,     -999,9,     -999,9,   5.2911,2
  49UP20110515,   P13,    86,  1,     18,      91,2,20110719,1603,1637, 18.5032, 164.9792, 1748,    809.2,      803,   4.8746,  34.4107,2,     59.3,2,     -999,9,     -999,9,    92.50,2,    39.47,2,     0.00,2,    2.840,2,     -999,9,     -999,9,-999,9,-999,9,     -999,9,     -999,9,     -999,9,     -999,     -999,9,     -999,9,   4.8743,2
  49UP20110515,   P13,    86,  1,     17,      90,2,20110719,1603,1634, 18.5032, 164.9792, 1748,    908.1,      901,   4.4338,  34.4684,2,     66.3,2,     -999,9,     -999,9,   100.64,6,    39.61,6,     0.00,6,    2.850,6,     -999,9,     -999,9,-999,9,-999,9,     -999,9,     -999,9,     -999,9,     -999,     -999,9,     -999,9,   4.4339,2
  49UP20110515,   P13,    86,  1,     15,      88,2,20110719,1603,1628, 18.5032, 164.9792, 1748,   1009.1,     1001,   4.0747,  34.5034,2,     71.1,2,     -999,9,     -999,9,   107.03,2,    39.81,2,     0.00,2,    2.850,2,     -999,9,     -999,9,-999,9,-999,9,     -999,9,     -999,9,     -999,9,     -999,     -999,9,     -999,9,   4.0752,2
  49UP20110515,   P13,    86,  1,     16,      89,2,20110719,1603,1628, 18.5032, 164.9792, 1748,   1009.4,     1001,   4.0722,  34.5035,2,     71.2,2,     -999,9,     -999,9,   107.54,2,    39.85,2,     0.00,2,    2.850,2,     -999,9,     -999,9,-999,9,-999,9,     -999,9,     -999,9,     -999,9,     -999,     -999,9,     -999,9,   4.0725,2
  49UP20110515,   P13,    86,  1,     14,      87,2,20110719,1603,1620, 18.5032, 164.9792, 1748,   1215.9,     1205,   3.4351,  34.5431,2,     77.4,2,     -999,9,     -999,9,   119.96,2,    40.07,2,     0.00,2,    2.850,2,     -999,9,     -999,9,-999,9,-999,9,     -999,9,     -999,9,     -999,9,     -999,     -999,9,     -999,9,   3.4350,2
  49UP20110515,   P13,    86,  1,     13,      86,2,20110719,1603,1616, 18.5032, 164.9792, 1748,   1415.3,     1402,   2.9749,  34.5666,2,     83.1,2,     -999,9,     -999,9,   129.11,2,    40.06,2,     0.00,2,    2.840,2,     -999,9,     -999,9,-999,9,-999,9,     -999,9,     -999,9,     -999,9,     -999,     -999,9,     -999,9,   2.9746,2
  49UP20110515,   P13,    86,  1,     12,      85,3,20110719,1603,1615, 18.5032, 164.9792, 1748,   1416.1,     1403,   2.9763,  34.5665,2,     83.1,2,     -999,9,     -999,9,   129.01,2,    40.16,2,     0.00,2,    2.840,2,     -999,9,     -999,9,-999,9,-999,9,     -999,9,     -999,9,     -999,9,     -999,     -999,9,     -999,9,   2.9761,2
  49UP20110515,   P13,    86,  1,     11,     110,3,20110719,1603,1607, 18.5032, 164.9792, 1748,   1617.0,     1601,   2.6529,  34.5882,2,     89.0,2,     -999,9,     -999,9,   136.12,2,    40.01,2,     0.00,2,    2.830,2,     -999,9,     -999,9,-999,9,-999,9,     -999,9,     -999,9,     -999,9,     -999,     -999,9,     -999,9,   2.6524,2
  49UP20110515,   P13,    86,  1,      1,     112,2,20110719,1603,1603, 18.5032, 164.9792, 1748,   1738.1,     1720,   2.4087,  34.6018,2,     94.7,2,     -999,9,     -999,9,   140.70,6,    39.77,6,     0.00,6,    2.810,6,     -999,9,     -999,9,-999,9,-999,9,     -999,9,     -999,9,     -999,9,     -999,     -999,9,     -999,9,   2.4081,2