BOTTLE,20240116CCHSIOVAJ
EXPOCODE,SECT_ID,STNNBR,CASTNO,SAMPNO,BTLNBR,BTLNBR_FLAG_W,DATE,TIME,BTL_TIME,LATITUDE,LONGITUDE,DEPTH,CTDPRS,CTDDEPTH,CTDTMP,CTDSAL,CTDSAL_FLAG_W,CTDOXY,CTDOXY_FLAG_W,SALNTY,SALNTY_FLAG_W,OXYGEN,OXYGEN_FLAG_W,SILCAT,SILCAT_FLAG_W,NO2+NO3,NO2+NO3_FLAG_W,NITRIT,NITRIT_FLAG_W,PHSPHT,PHSPHT_FLAG_W,CFC-11,CFC-11_FLAG_W,CFC-12,CFC-12_FLAG_W,DELC14,DELC14_FLAG_W,DELC13,DELC13_FLAG_W,TCARBN,TCARBN_FLAG_W,ALKALI,ALKALI_FLAG_W,PH_TOT,PH_TOT_FLAG_W,PH_TMP,CHLORA,CHLORA_FLAG_W,PPHYTN,PPHYTN_FLAG_W,REFTMP,REFTMP_FLAG_W
,,,,,,,,,,,,METERS,DBAR,METERS,ITS-90,PSS-78,,UMOL/KG,,PSS-78,,UMOL/KG,,UMOL/KG,,UMOL/KG,,UMOL/KG,,UMOL/KG,,PMOL/KG,,PMOL/KG,,/MILLE,,/MILLE,,UMOL/KG,,UMOL/KG,,,,DEG C,UG/KG,,UG/KG,,ITS-90,
  49UP20110515,   P13,    49,  1,      0,     BUC,2,20110617,0952,1310, 44.9902, 164.9990, 5933,      0.0,        0,   6.8662,  33.0460,2,    307.0,2,     -999,9,   308.34,3,    22.32,2,    12.48,2,     0.18,2,    1.190,2,     -999,9,     -999,9,-999,9,-999,9,     -999,9,     -999,9,     -999,9,     -999,     0.39,2,     0.03,2,     -999,9
  49UP20110515,   P13,    49,  1,     36,     109,2,20110617,0952,1331, 44.9902, 164.9990, 5933,     11.0,       11,   6.8637,  33.0464,2,    307.0,2,  33.0486,2,   307.11,2,    22.23,6,    12.46,6,     0.18,6,    1.190,6,    4.349,2,    2.582,2,-26.8,2,1.1,2,   2072.0,2,   2231.1,2,   7.7881,2,    25.00,     0.35,2,     0.03,2,   6.8642,2
  49UP20110515,   P13,    49,  1,     35,     108,2,20110617,0952,1327, 44.9902, 164.9990, 5933,     50.8,       50,   5.5965,  33.0941,2,    309.8,2,  33.1024,2,   310.35,2,    23.44,2,    13.88,2,     0.24,2,    1.260,2,    4.949,2,    2.652,2,-35.5,2,0.6,2,   2081.9,2,   2231.9,2,   7.7621,2,    25.00,     0.67,2,     0.14,2,   5.5972,2
  49UP20110515,   P13,    49,  1,     34,     107,2,20110617,0952,1323, 44.9902, 164.9990, 5933,    101.2,      100,   4.3187,  33.2773,2,    298.2,2,  33.2708,2,   298.83,2,    29.44,6,    18.38,6,     0.01,6,    1.500,6,    5.018,2,    2.735,2,-42.3,2,0.3,2,   2110.0,2,   2238.7,2,   7.7015,2,    25.00,     0.06,2,     0.05,2,   4.3154,2
  49UP20110515,   P13,    49,  1,     33,     106,2,20110617,0952,1320, 44.9902, 164.9990, 5933,    152.3,      151,   4.2205,  33.5525,2,    231.2,2,  33.5531,2,   231.42,2,    45.80,2,    25.56,2,     0.01,2,    1.930,2,    4.282,2,    2.402,2,-55.5,2,-0.1,2,   2174.8,2,   2257.7,2,   7.5964,2,    25.00,     0.01,2,     0.05,2,   4.2223,2
  49UP20110515,   P13,    49,  1,     32,     105,2,20110617,0952,1317, 44.9902, 164.9990, 5933,    202.9,      201,   3.4730,  33.6339,2,    171.1,2,  33.6366,2,   170.53,2,    65.63,2,    32.46,2,     0.01,2,    2.410,2,    3.834,2,    2.097,2,-79.3,2,-0.2,2,   2227.6,2,   2272.5,2,   7.4635,2,    25.00,     0.00,2,     0.04,2,   3.4725,2
  49UP20110515,   P13,    49,  1,     31,     104,2,20110617,0952,1314, 44.9902, 164.9990, 5933,    253.2,      251,   3.3917,  33.7354,2,    125.8,2,  33.7224,4,   126.50,2,    78.78,2,    36.66,2,     0.00,2,    2.680,2,    3.270,6,    1.771,6,-999,9,-999,9,   2265.1,2,   2282.9,2,   7.3782,2,    25.00,     -999,9,     -999,9,   3.3960,2
  49UP20110515,   P13,    49,  1,     30,     103,2,20110617,0952,1311, 44.9902, 164.9990, 5933,    303.6,      301,   3.5350,  33.8109,2,    103.6,2,  33.8069,2,   104.82,2,    84.80,2,    38.06,2,     0.00,2,    2.760,2,    2.941,2,    1.522,2,-99.5,2,-0.5,2,   2279.0,2,   2291.6,2,   7.3521,2,    25.00,     -999,9,     -999,9,   3.5266,2
  49UP20110515,   P13,    49,  1,     29,     102,2,20110617,0952,1308, 44.9902, 164.9990, 5933,    405.0,      401,   3.6282,  33.9678,2,     65.8,2,  33.9664,2,    66.13,2,    98.97,3,    40.79,2,     0.00,2,    2.930,2,    2.102,2,    1.052,2,-133.2,2,-0.6,2,   2312.4,6,   2311.5,6,   7.3173,2,    25.00,     -999,9,     -999,9,   3.6283,2
  49UP20110515,   P13,    49,  1,     28,     101,3,20110617,0952,1304, 44.9902, 164.9990, 5933,    506.6,      502,   3.5597,  34.0746,2,     46.6,2,  34.0736,2,    47.50,4,   110.22,2,    41.79,2,     0.00,2,    3.000,2,    1.500,2,    0.741,2,-142.5,2,-0.6,2,   2329.6,2,   2325.8,2,   7.3142,2,    25.00,     -999,9,     -999,9,   3.5599,2
  49UP20110515,   P13,    49,  1,     27,     100,3,20110617,0952,1301, 44.9902, 164.9990, 5933,    606.9,      601,   3.3994,  34.1644,2,     34.5,2,  34.1623,2,    34.88,2,   121.29,2,    42.87,2,     0.00,2,    3.060,2,    1.056,6,    0.511,6,-165.7,2,-0.7,2,   2345.3,2,   2339.9,2,   7.3031,2,    25.00,     -999,9,     -999,9,   3.3993,2
  49UP20110515,   P13,    49,  1,     26,      99,2,20110617,0952,1257, 44.9902, 164.9990, 5933,    709.2,      702,   3.2434,  34.2327,2,     29.3,2,  34.2326,6,    29.22,2,   129.54,2,    43.27,2,     0.00,2,    3.070,2,     -999,5,     -999,5,-180.2,2,-0.7,2,   2357.2,2,   2352.7,2,   7.2996,2,    25.00,     -999,9,     -999,9,   3.2436,2
  49UP20110515,   P13,    49,  1,     25,      98,2,20110617,0952,1252, 44.9902, 164.9990, 5933,    809.7,      802,   3.0811,  34.2902,2,     26.8,2,  34.2901,2,    26.46,2,   136.71,2,    43.51,2,     0.00,2,    3.100,2,    0.538,2,    0.238,2,-196.6,2,-0.6,2,   2363.7,2,   2363.2,2,   7.3108,2,    25.00,     -999,9,     -999,9,   3.0813,2
  49UP20110515,   P13,    49,  1,     24,      97,2,20110617,0952,1248, 44.9902, 164.9990, 5933,    910.8,      901,   2.9530,  34.3501,2,     32.4,2,  34.3490,2,    32.48,2,   141.20,2,    43.18,2,     0.00,2,    3.090,2,    0.377,2,    0.163,2,-204.7,2,-0.6,2,   2366.1,2,   2372.7,2,   7.3297,2,    25.00,     -999,9,     -999,9,   2.9539,2
  49UP20110515,   P13,    49,  1,     23,      96,2,20110617,0952,1245, 44.9902, 164.9990, 5933,   1012.9,     1002,   2.7838,  34.3869,2,     28.2,2,  34.3862,2,    27.64,2,   147.96,4,    43.43,2,     0.00,2,    3.100,2,    0.275,2,    0.116,2,-218.5,2,-0.6,2,   2378.0,2,   2378.5,2,   7.3232,2,    25.00,     -999,9,     -999,9,   2.7839,2
  49UP20110515,   P13,    49,  1,     22,      95,3,20110617,0952,1240, 44.9902, 164.9990, 5933,   1215.1,     1202,   2.5431,  34.4484,2,     33.0,2,  34.4483,2,    32.73,2,   155.83,6,    43.36,6,     0.00,6,    3.080,6,    0.161,2,    0.072,2,-227.0,2,-0.6,2,   2379.3,2,   2389.2,2,   7.3462,2,    25.00,     -999,9,     -999,9,   2.5433,2
  49UP20110515,   P13,    49,  1,     21,      94,2,20110617,0952,1232, 44.9902, 164.9990, 5933,   1417.4,     1401,   2.3382,  34.4934,2,     38.2,2,  34.4931,2,    38.03,2,   161.73,2,    43.19,2,     0.00,2,    3.060,2,    0.089,2,    0.032,2,-236.1,2,-0.5,2,   2387.8,2,   2397.6,2,   7.3577,2,    25.00,     -999,9,     -999,9,   2.3383,2
  49UP20110515,   P13,    49,  1,     20,      93,2,20110617,0952,1226, 44.9902, 164.9990, 5933,   1620.6,     1601,   2.1903,  34.5315,2,     49.0,2,  34.5305,2,    48.84,3,   164.14,2,    42.79,2,     0.00,2,    3.000,3,    0.058,2,    0.009,2,-999,9,-999,9,   2379.2,2,   2404.7,2,   7.3831,2,    25.00,     -999,9,     -999,9,   2.1903,2
  49UP20110515,   P13,    49,  1,     19,      92,2,20110617,0952,1221, 44.9902, 164.9990, 5933,   1824.2,     1802,   2.0641,  34.5622,2,     58.1,2,  34.5624,2,    58.44,3,   165.94,2,    42.10,2,     0.00,2,    2.960,2,    0.024,2,    0.005,2,-236.1,2,-0.4,2,   2379.4,2,   2409.9,2,   7.4024,6,    25.00,     -999,9,     -999,9,   2.0643,2
  49UP20110515,   P13,    49,  1,     18,      91,2,20110617,0952,1214, 44.9902, 164.9990, 5933,   2027.2,     2001,   1.9536,  34.5864,2,     67.9,2,  34.5864,2,    67.68,2,   166.63,2,    41.53,2,     0.00,2,    2.920,2,    0.002,2,    0.000,2,-999,9,-999,9,   2373.5,6,   2410.9,6,   7.4199,2,    25.00,     -999,9,     -999,9,   1.9536,2
  49UP20110515,   P13,    49,  1,     17,      90,2,20110617,0952,1208, 44.9902, 164.9990, 5933,   2231.5,     2202,   1.8457,  34.6077,2,     79.0,2,  34.6076,6,    79.25,2,   167.22,2,    40.93,2,     0.00,2,    2.860,2,    0.003,2,    0.000,2,-240.9,2,-0.3,2,   2367.8,2,   2414.4,2,   7.4489,2,    25.00,     -999,9,     -999,9,   1.8457,2
  49UP20110515,   P13,    49,  1,     16,      89,2,20110617,0952,1202, 44.9902, 164.9990, 5933,   2434.7,     2401,   1.7567,  34.6248,2,     90.6,2,  34.6249,2,    89.90,2,   166.96,2,    40.08,2,     0.00,2,    2.830,2,    0.000,2,    0.001,2,-999,9,-999,9,   2362.5,2,   2417.4,2,   7.4723,2,    25.00,     -999,9,     -999,9,   1.7565,2
  49UP20110515,   P13,    49,  1,     15,      88,2,20110617,0952,1155, 44.9902, 164.9990, 5933,   2640.1,     2602,   1.6759,  34.6398,2,    102.8,2,  34.6405,2,   103.48,2,   164.27,4,    39.48,2,     0.00,2,    2.760,2,    0.003,2,    0.000,2,-238.7,2,-0.1,2,   2359.3,2,   2417.2,2,   7.4942,2,    25.00,     -999,9,     -999,9,   1.6759,2
  49UP20110515,   P13,    49,  1,     14,      87,2,20110617,0952,1150, 44.9902, 164.9990, 5933,   2844.4,     2802,   1.6246,  34.6502,2,    113.2,2,  34.6497,2,   113.88,2,   161.51,2,    38.64,2,     0.00,2,    2.700,2,    0.000,2,    0.000,2,-999,9,-999,9,   2348.1,2,   2418.4,2,   7.5162,2,    25.00,     -999,9,     -999,9,   1.6247,2
  49UP20110515,   P13,    49,  1,     13,      86,2,20110617,0952,1142, 44.9902, 164.9990, 5933,   3048.1,     3002,   1.5835,  34.6582,2,    121.4,2,  34.6579,2,   123.17,3,   159.32,2,    38.16,2,     0.00,2,    2.660,2,     -999,9,     -999,9,-240.6,2,-0.1,2,   2347.6,2,   2417.6,2,   7.5254,2,    25.00,     -999,9,     -999,9,   1.5836,2
  49UP20110515,   P13,    49,  1,     12,      85,2,20110617,0952,1136, 44.9902, 164.9990, 5933,   3303.7,     3251,   1.5489,  34.6654,2,    128.8,2,  34.6648,2,   128.85,2,   157.44,2,    37.86,2,     0.00,2,    2.630,2,     -999,9,     -999,9,-999,9,-999,9,   2341.8,2,   2417.4,2,   7.5409,2,    25.00,     -999,9,     -999,9,   1.5489,2
  49UP20110515,   P13,    49,  1,     11,     110,2,20110617,0952,1128, 44.9902, 164.9990, 5933,   3559.4,     3501,   1.5216,  34.6713,2,    135.6,2,  34.6706,2,   135.91,6,   155.96,2,    37.30,2,     0.00,2,    2.590,2,     -999,9,     -999,9,-233.1,2,0.0,2,   2336.1,2,   2420.0,3,   7.5536,2,    25.00,     -999,9,     -999,9,   1.5218,2
  49UP20110515,   P13,    49,  1,     10,      83,2,20110617,0952,1120, 44.9902, 164.9990, 5933,   3815.9,     3751,   1.5009,  34.6765,2,    141.7,2,  34.6761,2,   141.88,2,   154.36,3,    36.91,2,     0.00,2,    2.560,2,    0.000,2,    0.000,2,-999,9,-999,9,   2334.5,2,   2418.6,2,   7.5620,2,    25.00,     -999,9,     -999,9,   1.5010,2
  49UP20110515,   P13,    49,  1,      9,      82,2,20110617,0952,1112, 44.9902, 164.9990, 5933,   4072.8,     4001,   1.4947,  34.6802,2,    146.2,2,  34.6798,2,   147.31,2,   153.45,2,    36.64,2,     0.00,2,    2.550,2,     -999,9,     -999,9,-232.3,2,0.1,2,   2320.3,3,   2417.1,2,   7.5723,2,    25.00,     -999,9,     -999,9,   1.4950,2
  49UP20110515,   P13,    49,  1,      8,      81,2,20110617,0952,1105, 44.9902, 164.9990, 5933,   4329.3,     4251,   1.4915,  34.6835,2,    150.6,2,  34.6828,2,   151.22,2,   152.11,2,    36.21,2,     0.00,2,    2.510,2,     -999,9,     -999,9,-999,9,-999,9,   2323.2,2,   2415.7,2,   7.5782,2,    25.00,     -999,9,     -999,9,   1.4916,2
  49UP20110515,   P13,    49,  1,      7,      80,2,20110617,0952,1057, 44.9902, 164.9990, 5933,   4586.8,     4501,   1.4988,  34.6857,2,    153.8,2,  34.6854,2,   154.34,2,   151.16,2,    36.15,2,     0.00,2,    2.500,2,     -999,9,     -999,9,-222.8,2,0.2,2,   2320.5,2,   2418.0,2,   7.5841,2,    25.00,     -999,9,     -999,9,   1.4986,2
  49UP20110515,   P13,    49,  1,      6,      79,2,20110617,0952,1050, 44.9902, 164.9990, 5933,   4844.9,     4752,   1.5122,  34.6879,2,    156.1,2,  34.6872,2,   156.84,2,   150.56,2,    35.79,2,     0.00,2,    2.520,2,    0.028,2,    0.006,2,-999,9,-999,9,   2317.9,2,   2414.8,2,   7.5898,2,    25.00,     -999,9,     -999,9,   1.5125,2
  49UP20110515,   P13,    49,  1,      5,      78,2,20110617,0952,1040, 44.9902, 164.9990, 5933,   5101.3,     5000,   1.5333,  34.6893,2,    157.6,2,  34.6884,2,   157.31,2,   150.76,2,    35.84,2,     0.00,2,    2.480,2,     -999,9,     -999,9,-217.0,2,0.2,2,   2321.3,6,   2416.9,6,   7.5834,2,    25.00,     -999,9,     -999,9,   1.5336,2
  49UP20110515,   P13,    49,  1,      4,      77,2,20110617,0952,1033, 44.9902, 164.9990, 5933,   5359.6,     5250,   1.5611,  34.6900,2,    158.2,2,  34.6897,2,   157.72,2,   151.76,2,    35.80,2,     0.00,2,    2.490,2,     -999,9,     -999,9,-999,9,-999,9,   2308.4,3,   2413.5,2,   7.5875,2,    25.00,     -999,9,     -999,9,   1.5614,2
  49UP20110515,   P13,    49,  1,      3,      76,2,20110617,0952,1025, 44.9902, 164.9990, 5933,   5618.4,     5501,   1.5923,  34.6904,2,    158.7,2,  34.6895,2,   158.48,2,   151.85,3,    35.82,2,     0.00,2,    2.470,2,     -999,9,     -999,9,-999,9,-999,9,   2320.6,2,   2413.9,2,   7.5910,2,    25.00,     -999,9,     -999,9,   1.5924,2
  49UP20110515,   P13,    49,  1,      2,      75,2,20110617,0952,1013, 44.9902, 164.9990, 5933,   5878.0,     5752,   1.6236,  34.6908,2,    159.2,2,  34.6899,2,   158.52,3,   151.34,2,    35.68,2,     0.00,2,    2.470,2,    0.004,2,    0.000,2,-999,9,-999,9,   2316.1,2,   2414.4,2,   7.5878,2,    25.00,     -999,9,     -999,9,   1.6238,2
  49UP20110515,   P13,    49,  1,      1,      74,2,20110617,0952,0952, 44.9902, 164.9990, 5933,   6046.0,     5914,   1.6435,  34.6913,2,    159.5,2,  34.6894,6,   158.41,3,   151.31,6,    35.78,6,     0.00,6,    2.480,6,     -999,9,     -999,9,-226.8,3,0.2,2,   2312.7,2,   2413.8,2,   7.5865,2,    25.00,     -999,9,     -999,9,   1.6438,2