BOTTLE,20240116CCHSIOVAJ
EXPOCODE,SECT_ID,STNNBR,CASTNO,SAMPNO,BTLNBR,BTLNBR_FLAG_W,DATE,TIME,BTL_TIME,LATITUDE,LONGITUDE,DEPTH,CTDPRS,CTDDEPTH,CTDTMP,CTDSAL,CTDSAL_FLAG_W,CTDOXY,CTDOXY_FLAG_W,SALNTY,SALNTY_FLAG_W,OXYGEN,OXYGEN_FLAG_W,SILCAT,SILCAT_FLAG_W,NO2+NO3,NO2+NO3_FLAG_W,NITRIT,NITRIT_FLAG_W,PHSPHT,PHSPHT_FLAG_W,CFC-11,CFC-11_FLAG_W,CFC-12,CFC-12_FLAG_W,DELC14,DELC14_FLAG_W,DELC13,DELC13_FLAG_W,TCARBN,TCARBN_FLAG_W,ALKALI,ALKALI_FLAG_W,PH_TOT,PH_TOT_FLAG_W,PH_TMP,CHLORA,CHLORA_FLAG_W,PPHYTN,PPHYTN_FLAG_W,REFTMP,REFTMP_FLAG_W
,,,,,,,,,,,,METERS,DBAR,METERS,ITS-90,PSS-78,,UMOL/KG,,PSS-78,,UMOL/KG,,UMOL/KG,,UMOL/KG,,UMOL/KG,,UMOL/KG,,PMOL/KG,,PMOL/KG,,/MILLE,,/MILLE,,UMOL/KG,,UMOL/KG,,,,DEG C,UG/KG,,UG/KG,,ITS-90,
  49UP20110515,   P13,    70,  1,      0,     BUC,2,20110714,0341,0545, 30.9858, 164.9813, 6056,      0.0,        0,  26.4186,  34.9227,2,    208.2,2,     -999,9,   208.92,2,     1.91,4,     0.00,2,     0.00,2,    0.030,2,     -999,9,     -999,9,-999,9,-999,9,     -999,9,     -999,9,     -999,9,     -999,     0.09,2,     0.01,2,     -999,9
  49UP20110515,   P13,    70,  1,     36,     109,2,20110714,0341,0603, 30.9858, 164.9813, 6056,     11.3,       11,  22.6754,  34.5793,2,    228.6,2,  34.5627,4,   229.33,2,     2.11,4,     0.00,2,     0.00,2,    0.030,2,    2.279,3,    1.461,2,-999,9,-999,9,   1977.0,2,   2269.8,2,   8.0348,2,    25.00,     0.09,2,     0.02,2,  22.7024,2
  49UP20110515,   P13,    70,  1,     35,     108,2,20110714,0341,0559, 30.9858, 164.9813, 6056,     50.6,       50,  19.2802,  34.6981,2,    235.5,2,  34.6984,2,   234.73,2,     2.61,4,     0.00,2,     0.00,2,    0.050,2,    2.440,3,    1.481,2,-999,9,-999,9,   1991.7,2,   2279.5,2,   8.0266,2,    25.00,     0.19,2,     0.07,2,  19.2836,2
  49UP20110515,   P13,    70,  1,     34,     107,2,20110714,0341,0557, 30.9858, 164.9813, 6056,    102.0,      101,  17.8282,  34.7429,2,    219.2,2,  34.7428,2,   218.66,2,     3.06,4,     2.79,6,     0.04,6,    0.190,6,    2.513,3,    1.544,2,-999,9,-999,9,   2018.8,2,   2279.4,2,   7.9868,2,    25.00,     0.28,2,     0.22,2,  17.8304,2
  49UP20110515,   P13,    70,  1,     33,     106,2,20110714,0341,0555, 30.9858, 164.9813, 6056,    152.4,      151,  17.1645,  34.7079,2,    220.7,2,  34.7060,2,   220.23,6,     3.70,4,     3.71,2,     0.01,2,    0.250,2,    2.543,3,    1.567,2,-999,9,-999,9,   2023.9,2,   2277.3,2,   7.9727,2,    25.00,     0.02,2,     0.03,2,  17.1653,2
  49UP20110515,   P13,    70,  1,     32,     105,2,20110714,0341,0553, 30.9858, 164.9813, 6056,    202.0,      201,  16.9437,  34.7035,2,    223.7,2,  34.7039,2,   223.52,2,     4.13,4,     3.89,2,     0.01,2,    0.260,2,    2.582,3,    1.573,2,-999,9,-999,9,   2021.6,2,   2277.8,2,   7.9693,2,    25.00,     0.00,2,     0.01,2,  16.9447,2
  49UP20110515,   P13,    70,  1,     31,     104,2,20110714,0341,0551, 30.9858, 164.9813, 6056,    252.7,      251,  16.5028,  34.6643,2,    209.3,2,  34.6662,2,   209.21,2,     5.84,4,     5.83,2,     0.01,2,    0.390,2,    2.537,3,    1.579,6,-999,9,-999,9,   2036.8,2,   2277.9,2,   7.9400,2,    25.00,     -999,9,     -999,9,  16.5042,2
  49UP20110515,   P13,    70,  1,     30,     103,2,20110714,0341,0549, 30.9858, 164.9813, 6056,    282.4,      280,  15.9145,  34.6252,2,    192.1,2,  34.6260,2,   191.76,2,     8.89,4,     8.39,6,     0.00,6,    0.560,6,    2.497,3,    1.567,2,-999,9,-999,9,   2056.3,6,   2278.0,6,   7.8974,2,    25.00,     -999,9,     -999,9,  15.9140,2
  49UP20110515,   P13,    70,  1,     29,     102,2,20110714,0341,0546, 30.9858, 164.9813, 6056,    373.8,      371,  13.9133,  34.4861,2,    192.0,2,  34.4864,2,   192.00,6,    13.92,4,    11.40,2,     0.00,2,    0.780,2,    2.673,3,    1.516,2,-999,9,-999,9,   2079.6,2,   2270.5,2,   7.8434,6,    25.00,     -999,9,     -999,9,  13.9146,2
  49UP20110515,   P13,    70,  1,     28,     101,4,20110714,0341,0543, 30.9858, 164.9813, 6056,    476.0,      472,  11.0579,  34.2694,2,    203.9,2,     -999,9,     -999,9,     -999,9,     -999,9,     -999,9,     -999,9,     -999,9,     -999,9,-999,9,-999,9,     -999,9,     -999,9,     -999,9,     -999,     -999,9,     -999,9,  11.0598,2
  49UP20110515,   P13,    70,  1,     27,     100,2,20110714,0341,0541, 30.9858, 164.9813, 6056,    575.8,      571,   8.6160,  34.1084,2,    180.3,2,  34.1102,2,   180.25,6,    35.03,4,    21.45,2,     0.00,2,    1.530,2,    2.973,3,    1.689,6,-999,9,-999,9,   2153.4,2,   2276.7,2,   7.6801,2,    25.00,     -999,9,     -999,9,   8.6154,2
  49UP20110515,   P13,    70,  1,     26,      99,2,20110714,0341,0538, 30.9858, 164.9813, 6056,    677.2,      671,   5.9753,  34.0060,2,    135.5,2,  34.0094,6,   135.32,2,    61.38,4,    30.37,2,     0.00,2,    2.200,2,    2.433,3,    1.344,2,-999,9,-999,9,   2220.6,2,   2292.7,2,   7.5241,2,    25.00,     -999,9,     -999,9,   5.9796,2
  49UP20110515,   P13,    70,  1,     25,      98,2,20110714,0341,0535, 30.9858, 164.9813, 6056,    776.4,      770,   4.9962,  34.0597,2,     95.7,2,  34.0586,6,    95.60,2,    81.58,4,    35.53,2,     0.00,2,    2.560,2,    1.826,3,    0.976,2,-999,9,-999,9,   2268.5,2,   2310.3,2,   7.4432,2,    25.00,     -999,9,     -999,9,   4.9968,2
  49UP20110515,   P13,    70,  1,     24,      97,2,20110714,0341,0532, 30.9858, 164.9813, 6056,    878.3,      870,   4.3958,  34.1563,2,     62.9,2,  34.1550,2,    63.32,2,    98.62,4,    39.03,2,     0.00,2,    2.810,2,    1.077,3,    0.559,2,-999,9,-999,9,   2306.0,2,   2328.2,6,   7.3822,2,    25.00,     -999,9,     -999,9,   4.3957,2
  49UP20110515,   P13,    70,  1,     23,      96,2,20110714,0341,0529, 30.9858, 164.9813, 6056,    980.2,      971,   3.8943,  34.2540,2,     43.3,2,  34.2518,2,    43.95,2,   114.53,4,    41.27,2,     0.00,2,    2.950,2,    0.547,3,    0.289,2,-999,9,-999,9,   2336.9,2,   2349.0,2,   7.3559,6,    25.00,     -999,9,     -999,9,   3.8931,2
  49UP20110515,   P13,    70,  1,     22,      95,2,20110714,0341,0526, 30.9858, 164.9813, 6056,   1145.7,     1135,   3.2767,  34.3646,2,     34.0,2,  34.3615,4,    33.99,2,   133.20,4,    42.79,6,     0.00,6,    3.050,6,    0.204,3,    0.127,2,-999,9,-999,9,   2363.3,2,   2371.5,2,   7.3461,2,    25.00,     -999,9,     -999,9,   3.2762,2
  49UP20110515,   P13,    70,  1,     21,      94,2,20110714,0341,0520, 30.9858, 164.9813, 6056,   1345.7,     1332,   2.7828,  34.4510,2,     33.8,2,  34.4506,2,    33.51,2,   148.12,4,    43.36,2,     0.00,2,    3.080,2,    0.062,3,    0.061,2,-999,9,-999,9,   2379.0,2,   2385.0,2,   7.3476,2,    25.00,     -999,9,     -999,9,   2.7827,2
  49UP20110515,   P13,    70,  1,     20,      93,2,20110714,0341,0516, 30.9858, 164.9813, 6056,   1547.2,     1531,   2.4494,  34.5106,2,     41.7,2,  34.5100,6,    41.35,2,   156.65,4,    43.08,2,     0.00,2,    3.040,2,    0.024,3,    0.033,2,-999,9,-999,9,   2383.0,2,   2398.9,2,   7.3683,2,    25.00,     -999,9,     -999,9,   2.4497,2
  49UP20110515,   P13,    70,  1,     19,      92,2,20110714,0341,0511, 30.9858, 164.9813, 6056,   1750.3,     1731,   2.2032,  34.5553,2,     54.7,2,  34.5496,4,    54.81,2,   160.05,4,    42.32,2,     0.00,2,    2.970,2,    0.032,3,    0.038,2,-999,9,-999,9,   2380.5,2,   2406.0,2,   7.3974,2,    25.00,     -999,9,     -999,9,   2.2030,2
  49UP20110515,   P13,    70,  1,     18,      91,3,20110714,0341,0507, 30.9858, 164.9813, 6056,   1953.2,     1931,   2.0029,  34.5884,2,     69.7,2,  34.5883,2,    69.55,6,   163.53,4,    41.62,2,     0.00,2,    2.920,2,    0.000,3,    0.025,2,-999,9,-999,9,   2376.5,2,   2411.3,2,   7.4294,2,    25.00,     -999,9,     -999,9,   2.0029,2
  49UP20110515,   P13,    70,  1,     17,      90,2,20110714,0341,0503, 30.9858, 164.9813, 6056,   2156.3,     2130,   1.8471,  34.6141,2,     85.2,2,  34.6132,2,    85.05,2,   163.87,4,    40.49,2,     0.00,2,    2.840,2,    0.008,3,    0.020,2,-999,9,-999,9,   2369.0,2,   2415.5,2,   7.4592,2,    25.00,     -999,9,     -999,9,   1.8471,2
  49UP20110515,   P13,    70,  1,     16,      89,2,20110714,0341,0458, 30.9858, 164.9813, 6056,   2360.4,     2331,   1.7466,  34.6302,2,     97.9,2,  34.6302,2,    97.76,2,   162.18,4,    39.79,2,     0.00,2,    2.780,2,     -999,9,     -999,9,-999,9,-999,9,   2373.6,3,   2414.8,2,   7.4789,2,    25.00,     -999,9,     -999,9,   1.7464,2
  49UP20110515,   P13,    70,  1,     15,      88,2,20110714,0341,0454, 30.9858, 164.9813, 6056,   2565.5,     2532,   1.6650,  34.6450,2,    111.3,2,  34.6453,2,   111.28,2,   159.25,4,    38.94,2,     0.00,2,    2.720,2,     -999,9,     -999,9,-999,9,-999,9,   2356.7,2,   2419.2,3,   7.5067,2,    25.00,     -999,9,     -999,9,   1.6651,2
  49UP20110515,   P13,    70,  1,     14,      87,2,20110714,0341,0449, 30.9858, 164.9813, 6056,   2767.3,     2730,   1.6138,  34.6536,2,    119.2,2,  34.6538,2,   119.00,2,   158.06,4,    38.48,2,     0.00,2,    2.670,2,     -999,9,     -999,9,-999,9,-999,9,   2347.5,2,   2418.1,2,   7.5182,2,    25.00,     -999,9,     -999,9,   1.6137,2
  49UP20110515,   P13,    70,  1,     13,      86,2,20110714,0341,0445, 30.9858, 164.9813, 6056,   2971.6,     2930,   1.5758,  34.6608,2,    126.2,2,  34.6610,6,   126.27,2,   156.47,4,    37.91,2,     0.00,2,    2.630,2,     -999,9,     -999,9,-999,9,-999,9,   2343.2,2,   2417.2,2,   7.5237,2,    25.00,     -999,9,     -999,9,   1.5760,2
  49UP20110515,   P13,    70,  1,     12,      85,2,20110714,0341,0440, 30.9858, 164.9813, 6056,   3217.1,     3171,   1.5351,  34.6679,2,    133.5,2,  34.6682,2,   133.18,2,   155.17,4,    37.56,6,     0.00,6,    2.600,6,     -999,9,     -999,9,-999,9,-999,9,   2339.4,2,   2418.6,2,   7.5450,2,    25.00,     -999,9,     -999,9,   1.5350,2
  49UP20110515,   P13,    70,  1,     11,     110,2,20110714,0341,0435, 30.9858, 164.9813, 6056,   3473.6,     3422,   1.5064,  34.6738,2,    139.7,2,  34.6739,2,   139.67,2,   153.28,4,    37.15,2,     0.00,2,    2.570,2,    0.000,3,    0.028,2,-999,9,-999,9,   2334.1,6,   2417.7,6,   7.5527,2,    25.00,     -999,9,     -999,9,   1.5066,2
  49UP20110515,   P13,    70,  1,     10,      83,2,20110714,0341,0430, 30.9858, 164.9813, 6056,   3728.3,     3670,   1.4944,  34.6775,2,    144.2,2,  34.6781,2,   143.84,2,   151.90,4,    36.92,2,     0.00,2,    2.550,2,     -999,9,     -999,9,-999,9,-999,9,   2332.2,2,   2418.7,2,   7.5610,2,    25.00,     -999,9,     -999,9,   1.4945,2
  49UP20110515,   P13,    70,  1,      9,      82,2,20110714,0341,0424, 30.9858, 164.9813, 6056,   3985.5,     3921,   1.4762,  34.6819,2,    149.8,2,  34.6826,2,   149.75,6,   150.26,4,    36.44,2,     0.00,2,    2.510,2,     -999,9,     -999,9,-999,9,-999,9,   2326.4,2,   2418.6,2,   7.5683,2,    25.00,     -999,9,     -999,9,   1.4760,2
  49UP20110515,   P13,    70,  1,      8,      81,2,20110714,0341,0419, 30.9858, 164.9813, 6056,   4242.4,     4172,   1.4771,  34.6847,2,    153.2,2,  34.6850,2,   153.05,2,   149.48,4,    36.11,2,     0.00,2,    2.500,2,     -999,9,     -999,9,-999,9,-999,9,   2324.3,2,   2418.2,2,   7.5753,2,    25.00,     -999,9,     -999,9,   1.4772,2
  49UP20110515,   P13,    70,  1,      7,      80,2,20110714,0341,0414, 30.9858, 164.9813, 6056,   4498.3,     4421,   1.4799,  34.6872,2,    156.7,2,  34.6864,2,   155.83,2,   147.58,4,    36.04,2,     0.00,2,    2.480,2,    0.021,3,    0.029,2,-999,9,-999,9,   2321.1,2,   2415.8,2,   7.5800,2,    25.00,     -999,9,     -999,9,   1.4800,2
  49UP20110515,   P13,    70,  1,      6,      79,2,20110714,0341,0408, 30.9858, 164.9813, 6056,   4752.6,     4668,   1.4841,  34.6896,2,    160.7,2,  34.6899,2,   160.84,2,   145.42,4,    35.68,2,     0.00,2,    2.460,2,     -999,9,     -999,9,-999,9,-999,9,   2315.5,2,   2412.4,2,   7.5871,2,    25.00,     -999,9,     -999,9,   1.4842,2
  49UP20110515,   P13,    70,  1,      5,      78,2,20110714,0341,0403, 30.9858, 164.9813, 6056,   5012.2,     4920,   1.4931,  34.6917,2,    164.6,2,  34.6919,2,   164.61,2,   142.53,4,    35.43,2,     0.00,2,    2.430,2,     -999,9,     -999,9,-999,9,-999,9,   2312.9,2,   2409.8,2,   7.5904,2,    25.00,     -999,9,     -999,9,   1.4933,2
  49UP20110515,   P13,    70,  1,      4,      77,2,20110714,0341,0358, 30.9858, 164.9813, 6056,   5270.7,     5171,   1.5051,  34.6933,2,    167.8,2,  34.6929,6,   167.48,2,   139.86,4,    35.23,2,     0.00,2,    2.420,2,     -999,9,     -999,9,-999,9,-999,9,   2309.9,2,   2408.3,2,   7.5950,2,    25.00,     -999,9,     -999,9,   1.5050,2
  49UP20110515,   P13,    70,  1,      3,      76,2,20110714,0341,0353, 30.9858, 164.9813, 6056,   5528.7,     5421,   1.5199,  34.6949,2,    170.5,2,  34.6946,2,   170.42,2,   138.08,4,    34.98,2,     0.00,2,    2.400,2,    0.000,3,    0.025,2,-999,9,-999,9,   2307.2,2,   2405.4,2,   7.5995,2,    25.00,     -999,9,     -999,9,   1.5200,2
  49UP20110515,   P13,    70,  1,      2,      75,2,20110714,0341,0348, 30.9858, 164.9813, 6056,   5784.8,     5669,   1.5417,  34.6960,2,    172.1,2,  34.6955,2,   172.47,2,   137.29,4,    34.95,2,     0.00,2,    2.400,2,     -999,9,     -999,9,-999,9,-999,9,   2305.2,2,   2405.3,2,   7.5952,2,    25.00,     -999,9,     -999,9,   1.5418,2
  49UP20110515,   P13,    70,  1,      1,      74,2,20110714,0341,0341, 30.9858, 164.9813, 6056,   6130.4,     6003,   1.5806,  34.6965,2,    173.1,2,  34.6921,4,   168.73,3,   137.73,4,    35.06,2,     0.00,2,    2.410,2,     -999,9,     -999,9,-999,9,-999,9,   2320.4,3,   2406.7,2,   7.5924,2,    25.00,     -999,9,     -999,9,   1.5806,2