BOTTLE,20240116CCHSIOVAJ
EXPOCODE,SECT_ID,STNNBR,CASTNO,SAMPNO,BTLNBR,BTLNBR_FLAG_W,DATE,TIME,BTL_TIME,LATITUDE,LONGITUDE,DEPTH,CTDPRS,CTDDEPTH,CTDTMP,CTDSAL,CTDSAL_FLAG_W,CTDOXY,CTDOXY_FLAG_W,SALNTY,SALNTY_FLAG_W,OXYGEN,OXYGEN_FLAG_W,SILCAT,SILCAT_FLAG_W,NO2+NO3,NO2+NO3_FLAG_W,NITRIT,NITRIT_FLAG_W,PHSPHT,PHSPHT_FLAG_W,CFC-11,CFC-11_FLAG_W,CFC-12,CFC-12_FLAG_W,DELC14,DELC14_FLAG_W,DELC13,DELC13_FLAG_W,TCARBN,TCARBN_FLAG_W,ALKALI,ALKALI_FLAG_W,PH_TOT,PH_TOT_FLAG_W,PH_TMP,CHLORA,CHLORA_FLAG_W,PPHYTN,PPHYTN_FLAG_W,REFTMP,REFTMP_FLAG_W
,,,,,,,,,,,,METERS,DBAR,METERS,ITS-90,PSS-78,,UMOL/KG,,PSS-78,,UMOL/KG,,UMOL/KG,,UMOL/KG,,UMOL/KG,,UMOL/KG,,PMOL/KG,,PMOL/KG,,/MILLE,,/MILLE,,UMOL/KG,,UMOL/KG,,,,DEG C,UG/KG,,UG/KG,,ITS-90,
  49UP20110515,   P13,    46,  1,      0,     BUC,2,20110616,0524,0800, 47.9908, 165.0147, 5868,      0.0,        0,   5.3416,  32.9100,2,    329.6,2,     -999,9,   329.01,2,    33.60,2,    18.50,2,     0.17,2,    1.580,2,     -999,9,     -999,9,-999,9,-999,9,     -999,9,     -999,9,     -999,9,     -999,     1.25,2,     0.13,2,     -999,9
  49UP20110515,   P13,    46,  1,     36,     109,2,20110616,0524,0819, 47.9908, 165.0147, 5868,     11.0,       11,   5.0858,  32.9113,2,    331.6,2,  32.9127,2,   330.87,2,    33.79,6,    18.53,6,     0.17,6,    1.550,6,    5.525,2,    2.830,2,-999,9,-999,9,   2089.7,2,   2229.9,2,   7.7548,2,    25.00,     1.14,2,     0.22,2,   5.0885,2
  49UP20110515,   P13,    46,  1,     35,     108,2,20110616,0524,0815, 47.9908, 165.0147, 5868,     51.4,       51,   3.9857,  32.9508,2,    330.2,2,  32.9550,6,   331.25,2,    36.44,2,    20.58,2,     0.21,2,    1.730,2,    5.590,2,    3.027,2,-999,9,-999,9,   2103.9,2,   2229.9,2,   7.7030,2,    25.00,     0.70,2,     0.43,2,   3.9879,2
  49UP20110515,   P13,    46,  1,     34,     107,2,20110616,0524,0813, 47.9908, 165.0147, 5868,    102.2,      101,   2.1588,  33.0843,2,    316.3,2,  33.0876,2,   315.41,6,    41.85,6,    24.07,6,     0.03,6,    1.920,6,    5.418,2,    3.067,2,-999,9,-999,9,   2135.0,2,   2237.4,2,   7.6461,2,    25.00,     0.09,2,     0.09,2,   2.1653,2
  49UP20110515,   P13,    46,  1,     33,     106,2,20110616,0524,0809, 47.9908, 165.0147, 5868,    152.4,      151,   2.5762,  33.5604,2,    150.2,2,  33.5663,2,   148.01,2,    77.49,2,    36.95,2,     0.01,2,    2.730,2,    3.586,2,    2.078,2,-999,9,-999,9,   2264.5,2,   2273.9,2,   7.3761,2,    25.00,     0.01,2,     0.05,2,   2.5748,2
  49UP20110515,   P13,    46,  1,     32,     105,2,20110616,0524,0807, 47.9908, 165.0147, 5868,    202.5,      201,   3.0686,  33.7499,2,     88.0,2,  33.7512,2,    88.70,2,    90.36,2,    40.94,2,     0.01,2,    2.970,2,    2.929,2,    1.574,2,-999,9,-999,9,   2297.9,2,   2288.6,2,   7.3120,2,    25.00,     0.00,2,     0.03,2,   3.0693,2
  49UP20110515,   P13,    46,  1,     31,     104,2,20110616,0524,0805, 47.9908, 165.0147, 5868,    253.2,      251,   3.2655,  33.8602,2,     58.9,2,  33.8623,2,    58.28,2,    99.01,2,    42.73,2,     0.01,2,    3.060,2,    2.446,6,    1.263,6,-999,9,-999,9,   2316.9,2,   2300.0,2,   7.2731,2,    25.00,     -999,9,     -999,9,   3.2663,2
  49UP20110515,   P13,    46,  1,     30,     103,3,20110616,0524,0803, 47.9908, 165.0147, 5868,    303.7,      301,   3.3516,  33.9429,2,     49.3,2,  33.9416,2,    49.32,2,   104.87,2,    42.80,2,     0.01,2,    3.080,2,    2.026,2,    1.075,2,-999,9,-999,9,   2325.5,2,   2309.4,2,   7.2771,2,    25.00,     -999,9,     -999,9,   3.3518,2
  49UP20110515,   P13,    46,  1,     29,     102,2,20110616,0524,0800, 47.9908, 165.0147, 5868,    405.0,      401,   3.3852,  34.0701,2,     37.1,2,  34.0693,2,    37.04,2,   115.22,2,    43.19,2,     0.00,2,    3.090,2,    1.429,2,    0.765,2,-999,9,-999,9,   2343.2,2,   2326.6,2,   7.2819,2,    25.00,     -999,9,     -999,9,   3.3856,2
  49UP20110515,   P13,    46,  1,     28,     101,2,20110616,0524,0755, 47.9908, 165.0147, 5868,    506.2,      501,   3.3487,  34.1630,2,     29.2,2,  34.1623,2,    29.22,2,   123.46,2,    43.43,2,     0.00,2,    3.110,2,    1.004,2,    0.496,2,-999,9,-999,9,   2352.8,2,   2339.5,2,   7.2893,6,    25.00,     -999,9,     -999,9,   3.3492,2
  49UP20110515,   P13,    46,  1,     27,     100,2,20110616,0524,0753, 47.9908, 165.0147, 5868,    607.1,      601,   3.2216,  34.2281,2,     24.6,2,  34.2270,2,    24.71,2,   131.43,2,    43.80,2,     0.01,2,    3.130,2,    0.723,6,    0.354,6,-999,9,-999,9,   2361.9,6,   2349.1,2,   7.2917,2,    25.00,     -999,9,     -999,9,   3.2214,2
  49UP20110515,   P13,    46,  1,     26,      99,2,20110616,0524,0749, 47.9908, 165.0147, 5868,    708.3,      701,   3.0743,  34.2854,2,     25.7,2,  34.2849,2,    25.90,2,   137.63,2,    43.73,2,     0.00,2,    3.120,2,     -999,5,     -999,5,-999,9,-999,9,   2369.6,2,   2357.7,2,   7.2981,2,    25.00,     -999,9,     -999,9,   3.0745,2
  49UP20110515,   P13,    46,  1,     25,      98,2,20110616,0524,0745, 47.9908, 165.0147, 5868,    809.5,      801,   2.9320,  34.3318,2,     26.2,2,  34.3325,2,    24.41,2,   143.92,2,    43.87,2,     0.00,2,    3.130,2,     -999,5,     -999,5,-999,9,-999,9,   2378.5,2,   2366.6,2,   7.3116,2,    25.00,     -999,9,     -999,9,   2.9323,2
  49UP20110515,   P13,    46,  1,     24,      97,2,20110616,0524,0743, 47.9908, 165.0147, 5868,    910.3,      901,   2.7868,  34.3758,2,     27.2,2,  34.3752,2,    27.41,2,   148.67,2,    43.67,2,     0.00,2,    3.120,2,    0.293,2,    0.151,2,-999,9,-999,9,   2382.2,2,   2372.3,2,   7.3243,3,    25.00,     -999,9,     -999,9,   2.7870,2
  49UP20110515,   P13,    46,  1,     23,      96,3,20110616,0524,0740, 47.9908, 165.0147, 5868,   1011.6,     1001,   2.6240,  34.4131,2,     24.3,2,  34.4126,2,    23.38,2,   155.48,4,    44.07,2,     0.00,2,    3.140,2,    0.176,2,    0.096,2,-999,9,-999,9,   2390.1,2,   2378.8,2,   7.3158,3,    25.00,     -999,9,     -999,9,   2.6242,2
  49UP20110515,   P13,    46,  1,     22,      95,2,20110616,0524,0735, 47.9908, 165.0147, 5868,   1214.3,     1201,   2.3747,  34.4720,2,     33.5,2,  34.4713,6,    33.08,2,   162.67,6,    43.52,6,     0.00,6,    3.100,6,    0.106,2,    0.075,2,-999,9,-999,9,   2390.3,2,   2391.4,2,   7.3435,2,    25.00,     -999,9,     -999,9,   2.3750,2
  49UP20110515,   P13,    46,  1,     21,      94,2,20110616,0524,0729, 47.9908, 165.0147, 5868,   1417.4,     1401,   2.2089,  34.5153,2,     41.3,2,  34.5157,2,    41.09,6,   167.26,2,    43.08,2,     0.00,2,    3.060,2,    0.073,2,    0.045,2,-999,9,-999,9,   2391.9,2,   2398.7,2,   7.3598,3,    25.00,     -999,9,     -999,9,   2.2090,2
  49UP20110515,   P13,    46,  1,     20,      93,2,20110616,0524,0723, 47.9908, 165.0147, 5868,   1620.3,     1600,   2.0559,  34.5528,2,     49.9,2,  34.5519,2,    49.40,2,   171.01,2,    42.56,2,     0.00,2,    3.010,3,    0.030,2,    0.023,2,-999,9,-999,9,   2390.5,2,   2403.7,2,   7.3860,2,    25.00,     -999,9,     -999,9,   2.0559,2
  49UP20110515,   P13,    46,  1,     19,      92,2,20110616,0524,0719, 47.9908, 165.0147, 5868,   1824.9,     1802,   1.9399,  34.5812,2,     61.9,2,  34.5806,2,    61.69,2,   171.22,2,    41.83,2,     0.00,2,    2.980,2,    0.021,2,    0.018,2,-999,9,-999,9,   2384.8,2,   2405.9,2,   7.4114,2,    25.00,     -999,9,     -999,9,   1.9401,2
  49UP20110515,   P13,    46,  1,     18,      91,2,20110616,0524,0709, 47.9908, 165.0147, 5868,   2028.8,     2002,   1.8437,  34.6022,2,     73.2,2,  34.6023,2,    73.03,2,   170.80,2,    41.21,2,     0.00,2,    2.910,2,    0.000,2,    0.024,2,-999,9,-999,9,   2377.9,2,   2408.5,2,   7.4296,2,    25.00,     -999,9,     -999,9,   1.8437,2
  49UP20110515,   P13,    46,  1,     17,      90,2,20110616,0524,0705, 47.9908, 165.0147, 5868,   2230.8,     2200,   1.7547,  34.6203,2,     85.5,2,  34.6203,2,    85.21,2,   170.30,2,    40.54,2,     0.00,2,    2.860,2,    0.000,2,    0.022,2,-999,9,-999,9,   2372.5,2,   2411.5,2,   7.4602,2,    25.00,     -999,9,     -999,9,   1.7548,2
  49UP20110515,   P13,    46,  1,     16,      89,2,20110616,0524,0659, 47.9908, 165.0147, 5868,   2434.4,     2400,   1.6896,  34.6345,2,     97.6,2,  34.6345,2,    97.78,2,   166.91,4,    39.69,2,     0.00,2,    2.790,2,    0.006,2,    0.028,2,-999,9,-999,9,   2360.3,2,   2416.5,2,   7.4791,6,    25.00,     -999,9,     -999,9,   1.6900,2
  49UP20110515,   P13,    46,  1,     15,      88,2,20110616,0524,0653, 47.9908, 165.0147, 5868,   2638.9,     2600,   1.6296,  34.6458,2,    108.0,2,  34.6460,2,   108.26,2,   164.46,4,    39.23,2,     0.00,2,    2.740,2,    0.000,2,    0.007,2,-999,9,-999,9,   2361.2,6,   2414.6,6,   7.5001,2,    25.00,     -999,9,     -999,9,   1.6297,2
  49UP20110515,   P13,    46,  1,     14,      87,3,20110616,0524,0649, 47.9908, 165.0147, 5868,   2844.1,     2801,   1.5802,  34.6552,2,    117.3,2,  34.6554,6,   117.68,2,   162.98,2,    38.58,2,     0.00,2,    2.700,2,    0.002,2,    0.017,2,-999,9,-999,9,   2354.1,2,   2415.1,2,   7.5198,2,    25.00,     -999,9,     -999,9,   1.5802,2
  49UP20110515,   P13,    46,  1,     13,      86,2,20110616,0524,0642, 47.9908, 165.0147, 5868,   3048.0,     3001,   1.5482,  34.6618,2,    124.5,2,  34.6617,2,   124.32,6,   160.48,2,    38.08,2,     0.00,2,    2.660,2,    0.002,2,    0.022,2,-999,9,-999,9,   2348.7,2,   2415.7,2,   7.5304,2,    25.00,     -999,9,     -999,9,   1.5483,2
  49UP20110515,   P13,    46,  1,     12,      85,2,20110616,0524,0635, 47.9908, 165.0147, 5868,   3304.3,     3251,   1.5129,  34.6691,2,    132.9,2,  34.6702,2,   133.17,2,   157.87,2,    37.45,2,     0.00,2,    2.620,2,     -999,9,     -999,9,-999,9,-999,9,   2345.5,2,   2413.9,2,   7.5468,2,    25.00,     -999,9,     -999,9,   1.5130,2
  49UP20110515,   P13,    46,  1,     11,     110,2,20110616,0524,0627, 47.9908, 165.0147, 5868,   3559.0,     3500,   1.4897,  34.6746,2,    139.5,2,  34.6748,2,   139.66,2,   156.39,2,    37.07,2,     0.00,2,    2.580,2,     -999,9,     -999,9,-999,9,-999,9,   2348.4,3,   2415.0,2,   7.5576,2,    25.00,     -999,9,     -999,9,   1.4898,2
  49UP20110515,   P13,    46,  1,     10,      83,3,20110616,0524,0620, 47.9908, 165.0147, 5868,   3816.7,     3751,   1.4837,  34.6783,2,    144.0,2,  34.6793,2,   143.57,2,   155.44,2,    36.80,2,     0.00,2,    2.560,2,     -999,9,     -999,9,-999,9,-999,9,   2331.3,2,   2415.8,2,   7.5664,2,    25.00,     -999,9,     -999,9,   1.4839,2
  49UP20110515,   P13,    46,  1,      9,      82,2,20110616,0524,0612, 47.9908, 165.0147, 5868,   4072.6,     4000,   1.4821,  34.6814,2,    147.9,2,  34.6810,2,   147.24,2,   154.08,2,    36.53,2,     0.00,2,    2.550,2,    0.003,2,    0.020,2,-999,9,-999,9,   2333.7,2,   2413.6,2,   7.5722,2,    25.00,     -999,9,     -999,9,   1.4823,2
  49UP20110515,   P13,    46,  1,      8,      81,2,20110616,0524,0606, 47.9908, 165.0147, 5868,   4331.7,     4252,   1.4862,  34.6840,2,    151.4,2,  34.6844,2,   150.70,2,   153.55,2,    36.14,2,     0.00,2,    2.520,2,     -999,9,     -999,9,-999,9,-999,9,   2329.5,2,   2412.6,2,   7.5789,2,    25.00,     -999,9,     -999,9,   1.4865,2
  49UP20110515,   P13,    46,  1,      7,      80,3,20110616,0524,0558, 47.9908, 165.0147, 5868,   4586.9,     4500,   1.4994,  34.6860,2,    153.7,2,  34.6854,2,   153.30,2,   153.04,2,    36.11,2,     0.00,2,    2.510,2,     -999,9,     -999,9,-999,9,-999,9,   2327.8,2,   2412.8,2,   7.5793,2,    25.00,     -999,9,     -999,9,   1.4996,2
  49UP20110515,   P13,    46,  1,      6,      79,2,20110616,0524,0553, 47.9908, 165.0147, 5868,   4845.3,     4751,   1.5144,  34.6878,2,    155.9,2,  34.6877,2,   155.54,2,   152.49,2,    36.03,2,     0.00,2,    2.490,3,     -999,9,     -999,9,-999,9,-999,9,   2328.1,2,   2413.7,2,   7.5859,2,    25.00,     -999,9,     -999,9,   1.5146,2
  49UP20110515,   P13,    46,  1,      5,      78,2,20110616,0524,0546, 47.9908, 165.0147, 5868,   5103.4,     5001,   1.5369,  34.6889,2,    157.1,2,  34.6898,2,   156.51,2,   152.50,2,    35.92,2,     0.00,2,    2.490,2,    0.000,2,    0.014,2,-999,9,-999,9,   2326.2,2,   2412.2,2,   7.5894,2,    25.00,     -999,9,     -999,9,   1.5372,2
  49UP20110515,   P13,    46,  1,      4,      77,2,20110616,0524,0541, 47.9908, 165.0147, 5868,   5360.2,     5250,   1.5627,  34.6898,2,    158.0,2,  34.6899,2,   157.50,2,   152.99,6,    35.83,6,     0.00,6,    2.490,6,     -999,9,     -999,9,-999,9,-999,9,   2324.8,2,   2412.5,2,   7.5865,2,    25.00,     -999,9,     -999,9,   1.5629,2
  49UP20110515,   P13,    46,  1,      3,      76,2,20110616,0524,0534, 47.9908, 165.0147, 5868,   5618.7,     5500,   1.5943,  34.6903,2,    158.2,2,  34.6900,2,   157.81,2,   153.17,3,    35.76,2,     0.00,2,    2.480,2,     -999,9,     -999,9,-999,9,-999,9,   2324.0,2,   2412.4,2,   7.5884,6,    25.00,     -999,9,     -999,9,   1.5945,2
  49UP20110515,   P13,    46,  1,      2,      75,2,20110616,0524,0527, 47.9908, 165.0147, 5868,   5877.7,     5750,   1.6297,  34.6904,2,    158.1,2,  34.6903,2,   157.70,2,   153.44,2,    35.90,2,     0.00,2,    2.490,2,     -999,9,     -999,9,-999,9,-999,9,   2323.7,6,   2414.9,6,   7.5880,2,    25.00,     -999,9,     -999,9,   1.6299,2
  49UP20110515,   P13,    46,  1,      1,      74,2,20110616,0524,0524, 47.9908, 165.0147, 5868,   5983.2,     5852,   1.6447,  34.6903,2,    158.1,2,  34.6892,6,   156.65,2,   153.82,2,    35.89,2,     0.00,2,    2.500,2,     -999,9,     -999,9,-999,9,-999,9,   2323.8,2,   2411.4,2,   7.5823,2,    25.00,     -999,9,     -999,9,   1.6448,2