BOTTLE,20240116CCHSIOVAJ
EXPOCODE,SECT_ID,STNNBR,CASTNO,SAMPNO,BTLNBR,BTLNBR_FLAG_W,DATE,TIME,BTL_TIME,LATITUDE,LONGITUDE,DEPTH,CTDPRS,CTDDEPTH,CTDTMP,CTDSAL,CTDSAL_FLAG_W,CTDOXY,CTDOXY_FLAG_W,SALNTY,SALNTY_FLAG_W,OXYGEN,OXYGEN_FLAG_W,SILCAT,SILCAT_FLAG_W,NO2+NO3,NO2+NO3_FLAG_W,NITRIT,NITRIT_FLAG_W,PHSPHT,PHSPHT_FLAG_W,CFC-11,CFC-11_FLAG_W,CFC-12,CFC-12_FLAG_W,DELC14,DELC14_FLAG_W,DELC13,DELC13_FLAG_W,TCARBN,TCARBN_FLAG_W,ALKALI,ALKALI_FLAG_W,PH_TOT,PH_TOT_FLAG_W,PH_TMP,CHLORA,CHLORA_FLAG_W,PPHYTN,PPHYTN_FLAG_W,REFTMP,REFTMP_FLAG_W
,,,,,,,,,,,,METERS,DBAR,METERS,ITS-90,PSS-78,,UMOL/KG,,PSS-78,,UMOL/KG,,UMOL/KG,,UMOL/KG,,UMOL/KG,,UMOL/KG,,PMOL/KG,,PMOL/KG,,/MILLE,,/MILLE,,UMOL/KG,,UMOL/KG,,,,DEG C,UG/KG,,UG/KG,,ITS-90,
  49UP20110515,   P13,    71,  1,      0,     BUC,2,20110714,1242,1450, 29.9987, 165.0038, 5907,      0.0,        0,  27.0226,  34.9170,2,    207.4,2,     -999,9,   204.35,2,     1.76,2,     0.03,2,     0.00,2,    0.030,2,     -999,9,     -999,9,-999,9,-999,9,     -999,9,     -999,9,     -999,9,     -999,     0.11,2,     0.02,2,     -999,9
  49UP20110515,   P13,    71,  1,     36,     109,2,20110714,1242,1505, 29.9987, 165.0038, 5907,     11.6,       12,  25.2776,  34.7578,2,    216.5,2,  34.7632,2,   216.89,2,     1.85,2,     0.03,2,     0.00,2,    0.010,2,    2.130,3,    1.372,2,49.0,2,0.7,2,   1985.1,2,   2281.6,3,   8.0408,2,    25.00,     0.07,2,     0.02,2,  25.2739,2
  49UP20110515,   P13,    71,  1,     35,     108,2,20110714,1242,1501, 29.9987, 165.0038, 5907,     48.6,       48,  19.8996,  34.8115,2,    241.3,2,  34.8141,2,   241.19,2,     1.95,2,     0.05,2,     0.00,2,    0.020,2,    2.524,3,    1.460,2,50.1,2,0.8,2,   1992.8,2,   2283.6,3,   8.0309,2,    25.00,     0.09,2,     0.02,2,  19.8794,2
  49UP20110515,   P13,    71,  1,     34,     107,2,20110714,1242,1459, 29.9987, 165.0038, 5907,    101.3,      101,  17.7425,  34.7123,2,    221.9,2,  34.7132,2,   220.81,2,     2.94,2,     2.33,2,     0.14,2,    0.180,2,    2.535,3,    1.543,2,57.2,2,0.6,2,   2016.5,2,   2278.1,3,   7.9846,2,    25.00,     0.31,2,     0.28,2,  17.7453,2
  49UP20110515,   P13,    71,  1,     33,     106,2,20110714,1242,1457, 29.9987, 165.0038, 5907,    156.3,      155,  17.1662,  34.7183,2,    222.9,2,  34.7179,2,   222.12,2,     3.78,6,     3.60,6,     0.03,6,    0.250,6,    2.551,3,    1.548,2,59.8,2,0.5,2,   2017.6,2,   2278.7,3,   7.9670,2,    25.00,     0.06,2,     0.04,2,  17.1686,2
  49UP20110515,   P13,    71,  1,     32,     105,2,20110714,1242,1456, 29.9987, 165.0038, 5907,    201.3,      200,  16.8387,  34.6769,2,    225.7,2,  34.6762,2,   225.21,2,     4.04,2,     3.76,2,     0.02,2,    0.260,2,    2.573,3,    1.578,2,60.0,2,0.5,2,   2024.2,2,   2274.7,3,   7.9701,2,    25.00,     0.01,2,     0.02,2,  16.8395,2
  49UP20110515,   P13,    71,  1,     31,     104,2,20110714,1242,1454, 29.9987, 165.0038, 5907,    251.1,      249,  16.4730,  34.6660,2,    206.6,2,  34.6639,2,   205.71,6,     6.49,2,     6.30,2,     0.01,2,    0.430,2,    2.578,3,    1.530,6,-999,9,-999,9,   2041.7,2,   2277.3,3,   7.9273,2,    25.00,     -999,9,     -999,9,  16.4730,2
  49UP20110515,   P13,    71,  1,     30,     103,2,20110714,1242,1452, 29.9987, 165.0038, 5907,    305.4,      303,  15.3028,  34.5694,2,    202.2,2,  34.5698,6,   202.13,2,     8.84,2,     8.27,2,     0.01,2,    0.570,2,    2.699,3,    1.621,2,40.1,2,0.4,2,   2059.1,2,   2273.3,3,   7.9003,2,    25.00,     -999,9,     -999,9,  15.3093,2
  49UP20110515,   P13,    71,  1,     29,     102,2,20110714,1242,1449, 29.9987, 165.0038, 5907,    402.4,      399,  13.1103,  34.4205,2,    204.1,2,  34.4211,2,   203.87,2,    13.80,6,    11.38,6,     0.01,6,    0.790,6,    2.869,3,    1.704,2,41.8,2,0.3,2,   2082.2,2,   2273.5,3,   7.8381,6,    25.00,     -999,9,     -999,9,  13.1245,2
  49UP20110515,   P13,    71,  1,     28,     101,2,20110714,1242,1447, 29.9987, 165.0038, 5907,    507.3,      503,  10.3809,  34.2322,2,    192.6,2,  34.2337,2,   191.26,2,    24.67,2,    17.27,2,     0.01,2,    1.220,2,    2.987,3,    1.729,2,17.9,2,0.2,2,   2125.1,2,   2272.4,3,   7.7409,2,    25.00,     -999,9,     -999,9,  10.3792,2
  49UP20110515,   P13,    71,  1,     27,     100,2,20110714,1242,1444, 29.9987, 165.0038, 5907,    604.5,      600,   7.5218,  34.0468,2,    166.3,2,  34.0476,2,   165.35,2,    44.27,2,    24.92,2,     0.01,2,    1.790,2,    2.837,3,    1.583,6,-33.7,2,0.1,2,   2178.6,2,   2278.1,3,   7.6131,2,    25.00,     -999,9,     -999,9,   7.5229,2
  49UP20110515,   P13,    71,  1,     26,      99,2,20110714,1242,1441, 29.9987, 165.0038, 5907,    706.3,      700,   5.6071,  34.0223,2,    119.7,2,  34.0225,2,   119.01,6,    68.75,2,    32.46,2,     0.01,2,    2.350,2,    2.214,3,    1.191,2,-94.6,2,-0.2,2,   2238.3,2,   2296.0,3,   7.4835,2,    25.00,     -999,9,     -999,9,   5.6074,2
  49UP20110515,   P13,    71,  1,     25,      98,2,20110714,1242,1438, 29.9987, 165.0038, 5907,    806.5,      799,   4.6769,  34.1122,2,     76.9,2,  34.1144,2,    75.94,2,    90.71,2,    37.64,2,     0.01,2,    2.710,2,    1.383,3,    0.729,2,-124.2,2,-0.3,2,   2290.3,6,   2316.6,3,   7.3985,2,    25.00,     -999,9,     -999,9,   4.6781,2
  49UP20110515,   P13,    71,  1,     24,      97,2,20110714,1242,1435, 29.9987, 165.0038, 5907,    909.5,      901,   4.1371,  34.2154,2,     49.7,2,  34.2146,2,    49.88,2,   107.35,2,    40.72,2,     0.01,2,    2.920,2,    0.704,3,    0.366,2,-158.3,2,-0.5,2,   2329.5,2,   2334.2,3,   7.3591,6,    25.00,     -999,9,     -999,9,   4.1382,2
  49UP20110515,   P13,    71,  1,     23,      96,2,20110714,1242,1433, 29.9987, 165.0038, 5907,   1009.4,     1000,   3.7212,  34.2911,2,     38.2,2,  34.2914,2,    38.43,2,   119.66,2,    41.83,2,     0.00,2,    3.000,2,    0.358,3,    0.198,2,-181.8,2,-0.5,2,   2346.7,2,   2351.4,3,   7.3569,2,    25.00,     -999,9,     -999,9,   3.7229,2
  49UP20110515,   P13,    71,  1,     22,      95,2,20110714,1242,1428, 29.9987, 165.0038, 5907,   1212.9,     1201,   3.0885,  34.4080,2,     32.4,2,  34.4078,6,    32.48,2,   138.45,2,    43.26,2,     0.00,2,    3.080,2,    0.095,3,    0.068,2,-212.7,2,-0.5,2,   2371.7,2,   2376.5,3,   7.3484,2,    25.00,     -999,9,     -999,9,   3.0886,2
  49UP20110515,   P13,    71,  1,     21,      94,2,20110714,1242,1424, 29.9987, 165.0038, 5907,   1415.2,     1401,   2.6569,  34.4846,2,     38.5,2,  34.4842,2,    38.35,2,   150.19,2,    43.16,2,     0.00,2,    3.070,2,    0.015,3,    0.035,2,-234.9,2,-0.5,2,   2379.9,2,   2390.3,3,   7.3605,2,    25.00,     -999,9,     -999,9,   2.6569,2
  49UP20110515,   P13,    71,  1,     20,      93,2,20110714,1242,1419, 29.9987, 165.0038, 5907,   1617.7,     1600,   2.3417,  34.5335,2,     48.5,2,  34.5332,2,    48.53,2,   157.99,6,    42.68,6,     0.00,6,    3.020,6,    0.001,3,    0.030,2,-999,9,-999,9,   2382.4,2,   2399.9,3,   7.3818,2,    25.00,     -999,9,     -999,9,   2.3426,2
  49UP20110515,   P13,    71,  1,     19,      92,2,20110714,1242,1414, 29.9987, 165.0038, 5907,   1819.8,     1800,   2.1033,  34.5705,2,     60.9,2,  34.5668,4,    60.47,2,   161.62,2,    41.99,2,     0.00,2,    2.960,2,    0.004,3,    0.032,2,-243.1,2,-0.4,2,   2379.4,2,   2405.9,3,   7.4030,2,    25.00,     -999,9,     -999,9,   2.1030,2
  49UP20110515,   P13,    71,  1,     18,      91,2,20110714,1242,1410, 29.9987, 165.0038, 5907,   2024.3,     2001,   1.9225,  34.6028,2,     79.3,2,  34.6025,2,    79.26,2,   162.57,2,    40.85,2,     0.00,2,    2.870,2,    0.057,3,    0.030,2,-999,9,-999,9,   2372.5,2,   2412.5,3,   7.4460,2,    25.00,     -999,9,     -999,9,   1.9224,2
  49UP20110515,   P13,    71,  1,     17,      90,2,20110714,1242,1405, 29.9987, 165.0038, 5907,   2227.2,     2200,   1.8005,  34.6251,2,     96.4,2,  34.6245,2,    96.74,2,   159.61,2,    39.68,2,     0.00,2,    2.790,2,    0.003,3,    0.016,2,-254.2,3,-0.8,4,   2361.4,2,   2412.5,3,   7.4778,2,    25.00,     -999,9,     -999,9,   1.8008,2
  49UP20110515,   P13,    71,  1,     16,      89,2,20110714,1242,1401, 29.9987, 165.0038, 5907,   2430.9,     2400,   1.7043,  34.6410,2,    109.8,2,  34.6430,2,   110.20,2,   157.64,2,    39.00,2,     0.00,2,    2.720,2,     -999,9,     -999,9,-999,9,-999,9,   2355.5,2,   2414.6,3,   7.5041,2,    25.00,     -999,9,     -999,9,   1.7043,2
  49UP20110515,   P13,    71,  1,     15,      88,2,20110714,1242,1357, 29.9987, 165.0038, 5907,   2635.3,     2601,   1.6453,  34.6511,2,    118.9,2,  34.6513,2,   119.03,6,   155.62,2,    38.24,2,     0.00,2,    2.670,2,     -999,9,     -999,9,-234.8,2,-0.0,2,   2346.6,2,   2413.5,3,   7.5208,2,    25.00,     -999,9,     -999,9,   1.6454,2
  49UP20110515,   P13,    71,  1,     14,      87,2,20110714,1242,1352, 29.9987, 165.0038, 5907,   2839.5,     2801,   1.5901,  34.6594,2,    126.4,2,  34.6593,2,   126.50,2,   153.70,2,    37.88,2,     0.00,2,    2.630,2,     -999,9,     -999,9,-999,9,-999,9,   2346.2,2,   2417.8,3,   7.5344,2,    25.00,     -999,9,     -999,9,   1.5901,2
  49UP20110515,   P13,    71,  1,     13,      86,3,20110714,1242,1348, 29.9987, 165.0038, 5907,   3043.6,     3001,   1.5522,  34.6655,2,    132.1,2,  34.6655,2,   132.47,2,   153.23,2,    37.41,2,     0.00,2,    2.600,2,     -999,9,     -999,9,-230.2,2,0.1,2,   2338.9,2,   2416.4,3,   7.5429,2,    25.00,     -999,9,     -999,9,   1.5524,2
  49UP20110515,   P13,    71,  1,     12,      85,2,20110714,1242,1342, 29.9987, 165.0038, 5907,   3298.4,     3251,   1.5136,  34.6712,2,    136.9,2,  34.6710,2,   136.79,2,   153.63,6,    37.17,6,     0.00,6,    2.580,6,     -999,9,     -999,9,-999,9,-999,9,   2339.2,2,   2416.3,3,   7.5540,2,    25.00,     -999,9,     -999,9,   1.5136,2
  49UP20110515,   P13,    71,  1,     11,     110,2,20110714,1242,1337, 29.9987, 165.0038, 5907,   3554.4,     3501,   1.4908,  34.6760,2,    142.3,2,  34.6761,2,   142.33,2,   152.61,2,    36.81,2,     0.00,2,    2.550,2,     -999,9,     -999,9,-236.9,3,0.1,2,   2333.1,6,   2417.1,3,   7.5561,2,    25.00,     -999,9,     -999,9,   1.4908,2
  49UP20110515,   P13,    71,  1,     10,      83,2,20110714,1242,1331, 29.9987, 165.0038, 5907,   3809.4,     3750,   1.4739,  34.6803,2,    147.5,2,  34.6822,4,   147.63,2,   150.31,2,    36.42,2,     0.00,2,    2.530,2,     -999,9,     -999,9,-999,9,-999,9,   2328.8,2,   2412.5,3,   7.5668,6,    25.00,     -999,9,     -999,9,   1.4740,2
  49UP20110515,   P13,    71,  1,      9,      82,2,20110714,1242,1326, 29.9987, 165.0038, 5907,   4066.8,     4001,   1.4652,  34.6836,2,    152.0,2,  34.6837,2,   151.92,2,   149.29,2,    36.16,2,     0.00,2,    2.500,2,    0.002,3,    0.023,2,-226.6,2,0.1,2,   2325.0,2,   2412.0,3,   7.5751,2,    25.00,     -999,9,     -999,9,   1.4650,2
  49UP20110515,   P13,    71,  1,      8,      81,2,20110714,1242,1320, 29.9987, 165.0038, 5907,   4323.9,     4251,   1.4641,  34.6868,2,    156.6,2,  34.6859,6,   156.40,2,   146.85,2,    35.88,2,     0.00,2,    2.480,2,     -999,9,     -999,9,-999,9,-999,9,   2324.0,2,   2414.6,3,   7.5782,2,    25.00,     -999,9,     -999,9,   1.4640,2
  49UP20110515,   P13,    71,  1,      7,      80,2,20110714,1242,1315, 29.9987, 165.0038, 5907,   4581.2,     4502,   1.4683,  34.6892,2,    160.6,2,  34.6883,2,   160.43,2,   144.45,2,    35.59,2,     0.00,2,    2.460,2,     -999,9,     -999,9,-211.9,2,0.2,2,   2312.6,2,   2411.5,3,   7.5843,2,    25.00,     -999,9,     -999,9,   1.4683,2
  49UP20110515,   P13,    71,  1,      6,      79,2,20110714,1242,1309, 29.9987, 165.0038, 5907,   4837.3,     4751,   1.4780,  34.6911,2,    163.7,2,  34.6906,2,   163.59,2,   142.38,2,    35.39,2,     0.00,2,    2.440,2,     -999,9,     -999,9,-999,9,-999,9,   2317.1,2,   2408.4,3,   7.5848,2,    25.00,     -999,9,     -999,9,   1.4781,2
  49UP20110515,   P13,    71,  1,      5,      78,2,20110714,1242,1304, 29.9987, 165.0038, 5907,   5095.1,     5001,   1.4878,  34.6933,2,    167.7,2,  34.6927,2,   167.39,2,   139.18,2,    35.07,2,     0.00,2,    2.420,2,    0.000,3,    0.025,2,-205.6,2,0.3,2,   2307.9,2,   2405.0,3,   7.5928,2,    25.00,     -999,9,     -999,9,   1.4879,2
  49UP20110515,   P13,    71,  1,      4,      77,2,20110714,1242,1258, 29.9987, 165.0038, 5907,   5353.0,     5251,   1.5044,  34.6946,2,    169.8,2,  34.6943,2,   169.85,2,   138.08,2,    34.81,2,     0.00,2,    2.400,2,     -999,9,     -999,9,-999,9,-999,9,   2305.9,2,   2403.5,3,   7.5943,2,    25.00,     -999,9,     -999,9,   1.5044,2
  49UP20110515,   P13,    71,  1,      3,      76,2,20110714,1242,1253, 29.9987, 165.0038, 5907,   5610.4,     5500,   1.5188,  34.6958,2,    172.3,2,  34.6953,2,   172.27,2,   136.26,2,    34.83,2,     0.00,2,    2.390,2,     -999,9,     -999,9,-999,9,-999,9,   2308.7,2,   2400.4,3,   7.5959,2,    25.00,     -999,9,     -999,9,   1.5189,2
  49UP20110515,   P13,    71,  1,      2,      75,2,20110714,1242,1247, 29.9987, 165.0038, 5907,   5868.9,     5751,   1.5381,  34.6970,2,    174.6,2,  34.6963,2,   174.68,2,   134.36,2,    34.49,2,     0.00,2,    2.380,2,     -999,9,     -999,9,-999,9,-999,9,   2304.8,2,   2402.4,3,   7.6003,2,    25.00,     -999,9,     -999,9,   1.5381,2
  49UP20110515,   P13,    71,  1,      1,      74,2,20110714,1242,1243, 29.9987, 165.0038, 5907,   6014.5,     5891,   1.5551,  34.6971,2,    175.0,2,  34.6953,4,   172.66,2,   135.32,2,    34.50,2,     0.00,2,    2.380,2,    0.000,3,    0.013,2,-197.5,2,0.3,2,   2306.0,2,   2400.9,3,   7.5961,2,    25.00,     -999,9,     -999,9,   1.5551,2