BOTTLE,20240116CCHSIOVAJ
EXPOCODE,SECT_ID,STNNBR,CASTNO,SAMPNO,BTLNBR,BTLNBR_FLAG_W,DATE,TIME,BTL_TIME,LATITUDE,LONGITUDE,DEPTH,CTDPRS,CTDDEPTH,CTDTMP,CTDSAL,CTDSAL_FLAG_W,CTDOXY,CTDOXY_FLAG_W,SALNTY,SALNTY_FLAG_W,OXYGEN,OXYGEN_FLAG_W,SILCAT,SILCAT_FLAG_W,NO2+NO3,NO2+NO3_FLAG_W,NITRIT,NITRIT_FLAG_W,PHSPHT,PHSPHT_FLAG_W,CFC-11,CFC-11_FLAG_W,CFC-12,CFC-12_FLAG_W,DELC14,DELC14_FLAG_W,DELC13,DELC13_FLAG_W,TCARBN,TCARBN_FLAG_W,ALKALI,ALKALI_FLAG_W,PH_TOT,PH_TOT_FLAG_W,PH_TMP,CHLORA,CHLORA_FLAG_W,PPHYTN,PPHYTN_FLAG_W,REFTMP,REFTMP_FLAG_W
,,,,,,,,,,,,METERS,DBAR,METERS,ITS-90,PSS-78,,UMOL/KG,,PSS-78,,UMOL/KG,,UMOL/KG,,UMOL/KG,,UMOL/KG,,UMOL/KG,,PMOL/KG,,PMOL/KG,,/MILLE,,/MILLE,,UMOL/KG,,UMOL/KG,,,,DEG C,UG/KG,,UG/KG,,ITS-90,
  49UP20110515,   P13,   114,  1,      0,     BUC,2,20110806,0232,0420,  4.9177, 164.9760, 4759,      0.0,        0,  29.1084,  34.0278,2,    196.5,2,     -999,9,   196.16,2,     1.10,2,     0.00,2,     0.00,2,    0.100,2,     -999,9,     -999,9,-999,9,-999,9,     -999,9,     -999,9,     -999,9,     -999,     0.05,2,     0.02,2,     -999,9
  49UP20110515,   P13,   114,  1,     36,     109,2,20110806,0232,0433,  4.9177, 164.9760, 4759,     10.8,       11,  28.9589,  34.0320,2,    197.0,2,  34.0337,2,   196.31,2,     1.07,2,     0.00,2,     0.00,2,    0.090,2,    1.720,3,    1.036,2,-999,9,-999,9,   1902.7,2,   2236.0,2,   8.1256,2,    25.00,     0.05,2,     0.02,2,  28.9605,2
  49UP20110515,   P13,   114,  1,     35,     108,2,20110806,0232,0432,  4.9177, 164.9760, 4759,     26.3,       26,  29.0857,  34.1552,2,    197.4,2,  34.1625,2,   196.97,2,     1.06,2,     0.00,2,     0.00,2,    0.100,2,    1.697,3,    1.035,2,-999,9,-999,9,   1907.9,2,   2245.1,2,   8.1077,2,    25.00,     0.07,2,     0.02,2,  29.0875,2
  49UP20110515,   P13,   114,  1,     34,     107,2,20110806,0232,0429,  4.9177, 164.9760, 4759,     50.3,       50,  29.0363,  34.3346,2,    196.8,2,  34.3456,4,   196.68,2,     1.07,2,     0.00,2,     0.00,2,    0.110,2,    1.672,3,    1.026,2,-999,9,-999,9,   1914.8,2,   2256.9,2,   8.1187,2,    25.00,     0.08,2,     0.04,2,  29.0337,2
  49UP20110515,   P13,   114,  1,     33,     106,2,20110806,0232,0428,  4.9177, 164.9760, 4759,     76.0,       76,  29.0349,  34.5432,2,    195.4,2,  34.5424,2,   195.52,6,     1.11,2,     0.00,2,     0.00,2,    0.130,2,    1.654,3,    1.050,2,-999,9,-999,9,   1938.8,2,   2269.1,2,   8.1087,2,    25.00,     0.16,2,     0.10,2,  29.0307,2
  49UP20110515,   P13,   114,  1,     32,     105,2,20110806,0232,0426,  4.9177, 164.9760, 4759,    101.5,      101,  28.3144,  34.9380,2,    173.1,2,  34.9361,2,   172.02,2,     1.83,2,     1.98,2,     0.33,2,    0.300,2,    1.625,3,    1.068,2,-999,9,-999,9,   1990.7,2,   2295.8,2,   8.0508,6,    25.00,     0.24,2,     0.34,2,  28.3072,2
  49UP20110515,   P13,   114,  1,     31,     104,2,20110806,0232,0425,  4.9177, 164.9760, 4759,    126.3,      126,  25.9586,  34.8748,2,    155.3,2,  34.8795,2,   155.69,2,     3.03,2,     4.43,2,     0.18,2,    0.420,2,    1.726,3,    1.150,6,-999,9,-999,9,   2015.3,2,   2290.5,2,   8.0010,2,    25.00,     0.14,2,     0.25,2,  25.9537,2
  49UP20110515,   P13,   114,  1,     30,     103,2,20110806,0232,0424,  4.9177, 164.9760, 4759,    152.1,      151,  20.9986,  34.8238,2,    137.8,2,  34.8255,2,   138.25,2,     6.30,2,     8.90,2,     0.02,2,    0.720,2,    1.943,3,    1.278,2,-999,9,-999,9,   2070.8,6,   2289.9,6,   7.8863,2,    25.00,     0.06,2,     0.09,2,  20.9947,2
  49UP20110515,   P13,   114,  1,     29,     102,2,20110806,0232,0422,  4.9177, 164.9760, 4759,    202.2,      201,  12.0534,  34.5609,2,     75.2,2,  34.5624,6,    73.26,2,    25.17,2,    26.17,2,     0.00,2,    1.920,2,    1.420,3,    0.847,2,-999,9,-999,9,   2198.1,2,   2287.4,2,   7.5935,2,    25.00,     0.00,2,     0.02,2,  12.0531,2
  49UP20110515,   P13,   114,  1,     28,     101,2,20110806,0232,0421,  4.9177, 164.9760, 4759,    252.4,      251,   9.8864,  34.6155,2,     60.9,2,  34.6166,2,    60.99,2,    33.13,2,    31.63,2,     0.00,2,    2.250,2,    0.759,3,    0.428,2,-999,9,-999,9,   2233.6,2,   2300.1,2,   7.5188,2,    25.00,     -999,9,     -999,9,   9.8884,2
  49UP20110515,   P13,   114,  1,     27,     100,2,20110806,0232,0419,  4.9177, 164.9760, 4759,    301.3,      299,   9.3404,  34.6406,2,     46.6,2,  34.6370,2,    45.92,2,    35.08,6,    34.11,6,     0.00,6,    2.410,6,    0.476,3,    0.249,6,-999,9,-999,9,   2247.4,2,   2305.1,2,   7.4900,2,    25.00,     -999,9,     -999,9,   9.3409,2
  49UP20110515,   P13,   114,  1,     26,      99,2,20110806,0232,0417,  4.9177, 164.9760, 4759,    352.1,      350,   9.0050,  34.6350,2,     62.2,2,  34.6339,2,    61.24,2,    35.09,2,    33.65,2,     0.00,2,    2.360,2,    0.533,3,    0.275,2,-999,9,-999,9,   2243.6,2,   2305.2,2,   7.4999,2,    25.00,     -999,9,     -999,9,   9.0052,2
  49UP20110515,   P13,   114,  1,     25,      98,2,20110806,0232,0415,  4.9177, 164.9760, 4759,    403.9,      401,   8.5181,  34.6074,2,     56.2,2,  34.6076,2,    56.42,6,    39.02,2,    34.76,2,     0.00,2,    2.480,2,    0.348,3,    0.180,2,-999,9,-999,9,   2250.4,2,   2306.7,2,   7.4850,2,    25.00,     -999,9,     -999,9,   8.5188,2
  49UP20110515,   P13,   114,  1,     24,      97,2,20110806,0232,0411,  4.9177, 164.9760, 4759,    504.1,      501,   7.8410,  34.5811,2,     56.3,2,  34.5814,2,    56.36,2,    44.37,2,    36.08,2,     0.00,2,    2.580,2,    0.232,3,    0.118,2,-999,9,-999,9,   2262.4,2,   2312.4,2,   7.4745,2,    25.00,     -999,9,     -999,9,   7.8395,2
  49UP20110515,   P13,   114,  1,     23,      96,2,20110806,0232,0408,  4.9177, 164.9760, 4759,    604.4,      600,   7.1622,  34.5585,2,     49.9,2,  34.5580,2,    50.06,2,    52.11,2,    37.86,2,     0.00,2,    2.720,2,    0.142,3,    0.064,2,-999,9,-999,9,   2273.9,2,   2317.4,2,   7.4530,2,    25.00,     -999,9,     -999,9,   7.1621,2
  49UP20110515,   P13,   114,  1,     22,      95,2,20110806,0232,0406,  4.9177, 164.9760, 4759,    705.3,      700,   6.4094,  34.5423,2,     54.0,2,  34.5422,2,    54.29,2,    60.77,2,    39.06,2,     0.00,2,    2.790,2,    0.093,3,    0.040,2,-999,9,-999,9,   2285.7,2,   2326.8,2,   7.4448,2,    25.00,     -999,9,     -999,9,   6.4104,2
  49UP20110515,   P13,   114,  1,     21,      94,2,20110806,0232,0403,  4.9177, 164.9760, 4759,    806.3,      800,   5.5337,  34.5394,2,     74.1,2,  34.5394,2,    74.02,2,    71.53,2,    38.59,2,     0.00,2,    2.760,2,    0.050,3,    0.013,2,-999,9,-999,9,   2283.6,2,   2339.6,2,   7.4749,2,    25.00,     -999,9,     -999,9,   5.5342,2
  49UP20110515,   P13,   114,  1,     20,      93,3,20110806,0232,0359,  4.9177, 164.9760, 4759,    908.7,      902,   4.9636,  34.5472,2,     65.8,2,  34.5465,2,    65.85,2,    82.73,6,    40.17,6,     0.00,6,    2.890,6,    0.017,3,    0.000,2,-999,9,-999,9,   2300.7,2,   2349.4,2,   7.4539,2,    25.00,     -999,9,     -999,9,   4.9636,2
  49UP20110515,   P13,   114,  1,     19,      92,2,20110806,0232,0356,  4.9177, 164.9760, 4759,   1008.8,     1001,   4.4757,  34.5570,2,     69.3,2,  34.5575,6,    69.74,2,    91.89,2,    40.40,2,     0.00,2,    2.880,2,     -999,9,     -999,9,-999,9,-999,9,   2310.2,2,   2361.1,2,   7.4547,2,    25.00,     -999,9,     -999,9,   4.4764,2
  49UP20110515,   P13,   114,  1,     18,      91,2,20110806,0232,0351,  4.9177, 164.9760, 4759,   1210.8,     1201,   3.6577,  34.5792,2,     77.8,2,  34.5798,2,    78.15,2,   108.88,6,    40.47,6,     0.00,6,    2.890,6,    0.042,3,    0.007,2,-999,9,-999,9,   2320.7,2,   2376.7,2,   7.4655,2,    25.00,     -999,9,     -999,9,   3.6582,2
  49UP20110515,   P13,   114,  1,     17,      90,2,20110806,0232,0347,  4.9177, 164.9760, 4759,   1412.4,     1400,   3.1031,  34.5991,2,     87.3,2,  34.5999,2,    87.08,2,   120.34,2,    40.06,2,     0.00,2,    2.850,2,     -999,9,     -999,9,-999,9,-999,9,   2335.8,2,   2391.1,2,   7.4793,6,    25.00,     -999,9,     -999,9,   3.1034,2
  49UP20110515,   P13,   114,  1,     16,      89,2,20110806,0232,0339,  4.9177, 164.9760, 4759,   1615.8,     1601,   2.7065,  34.6146,2,     96.3,2,  34.6150,2,    96.20,2,   128.60,2,    39.65,2,     0.00,2,    2.800,2,     -999,9,     -999,9,-999,9,-999,9,   2336.7,6,   2401.7,6,   7.4930,2,    25.00,     -999,9,     -999,9,   2.7066,2
  49UP20110515,   P13,   114,  1,     15,      88,2,20110806,0232,0335,  4.9177, 164.9760, 4759,   1819.0,     1801,   2.4444,  34.6257,2,    102.5,2,  34.6258,2,   102.85,2,   134.47,2,    39.26,2,     0.00,2,    2.760,2,     -999,9,     -999,9,-999,9,-999,9,   2343.0,2,   2407.2,2,   7.5042,2,    25.00,     -999,9,     -999,9,   2.4443,2
  49UP20110515,   P13,   114,  1,     14,      87,2,20110806,0232,0331,  4.9177, 164.9760, 4759,   2021.6,     2001,   2.1871,  34.6396,2,    108.0,2,  34.6395,2,   108.19,2,   140.90,2,    38.99,2,     0.00,2,    2.740,2,     -999,9,     -999,9,-999,9,-999,9,   2345.7,2,   2413.1,2,   7.5164,2,    25.00,     -999,9,     -999,9,   2.1872,2
  49UP20110515,   P13,   114,  1,     13,      86,3,20110806,0232,0326,  4.9177, 164.9760, 4759,   2224.3,     2200,   2.0069,  34.6500,2,    113.3,2,  34.6504,6,   113.69,2,   144.60,2,    38.55,2,     0.00,2,    2.700,2,    0.021,3,    0.000,2,-999,9,-999,9,   2345.1,2,   2418.2,2,   7.5197,2,    25.00,     -999,9,     -999,9,   2.0071,2
  49UP20110515,   P13,   114,  1,     12,      74,2,20110806,0232,0322,  4.9177, 164.9760, 4759,   2428.5,     2401,   1.8854,  34.6574,2,    119.1,2,  34.6575,2,   119.01,6,   146.19,2,    38.21,2,     0.00,2,    2.670,2,     -999,9,     -999,9,-999,9,-999,9,   2339.8,3,   2419.3,2,   7.5309,2,    25.00,     -999,9,     -999,9,   1.8855,2
  49UP20110515,   P13,   114,  1,     11,     110,2,20110806,0232,0318,  4.9177, 164.9760, 4759,   2631.6,     2601,   1.7838,  34.6632,2,    125.1,2,  34.6633,2,   125.05,2,   147.45,2,    38.01,2,     0.00,2,    2.640,2,     -999,9,     -999,9,-999,9,-999,9,   2344.4,2,   2420.6,2,   7.5427,2,    25.00,     -999,9,     -999,9,   1.7841,2
  49UP20110515,   P13,   114,  1,     10,      83,2,20110806,0232,0313,  4.9177, 164.9760, 4759,   2835.7,     2801,   1.7007,  34.6678,2,    131.3,2,  34.6689,2,   131.41,2,   146.69,2,    37.48,2,     0.00,2,    2.610,2,     -999,9,     -999,9,-999,9,-999,9,   2337.9,2,   2419.1,2,   7.5508,2,    25.00,     -999,9,     -999,9,   1.7008,2
  49UP20110515,   P13,   114,  1,      9,      82,3,20110806,0232,0309,  4.9177, 164.9760, 4759,   3038.9,     3000,   1.6434,  34.6714,2,    136.4,2,  34.6708,2,   136.36,2,   146.25,2,    37.21,2,     0.00,2,    2.590,2,     -999,9,     -999,9,-999,9,-999,9,   2333.1,2,   2420.2,2,   7.5561,2,    25.00,     -999,9,     -999,9,   1.6433,2
  49UP20110515,   P13,   114,  1,      8,      81,2,20110806,0232,0304,  4.9177, 164.9760, 4759,   3294.6,     3251,   1.5681,  34.6766,2,    143.7,2,  34.6782,2,   144.07,2,   145.26,2,    36.69,2,     0.00,2,    2.540,2,    0.005,3,    0.002,2,-999,9,-999,9,   2333.3,2,   2420.1,2,   7.5910,2,    25.00,     -999,9,     -999,9,   1.5680,2
  49UP20110515,   P13,   114,  1,      7,      80,2,20110806,0232,0259,  4.9177, 164.9760, 4759,   3550.0,     3501,   1.5254,  34.6810,2,    148.9,2,  34.6815,2,   148.59,6,   143.81,2,    36.37,2,     0.00,2,    2.520,2,    0.014,3,    0.000,2,-999,9,-999,9,   2327.7,2,   2418.3,2,   7.5988,2,    25.00,     -999,9,     -999,9,   1.5255,2
  49UP20110515,   P13,   114,  1,      6,      79,2,20110806,0232,0254,  4.9177, 164.9760, 4759,   3805.6,     3751,   1.4790,  34.6858,2,    155.8,2,  34.6857,2,   156.31,2,   141.28,2,    35.78,2,     0.00,2,    2.470,2,    0.000,3,    0.000,2,-999,9,-999,9,   2319.5,2,   2415.6,2,   7.6033,2,    25.00,     -999,9,     -999,9,   1.4789,2
  49UP20110515,   P13,   114,  1,      5,      78,2,20110806,0232,0249,  4.9177, 164.9760, 4759,   4061.8,     4001,   1.4697,  34.6883,2,    159.9,2,  34.6883,6,   160.12,2,   139.39,2,    35.52,2,     0.00,2,    2.450,2,    0.032,3,    0.000,2,-999,9,-999,9,   2318.7,2,   2412.3,2,   7.6052,2,    25.00,     -999,9,     -999,9,   1.4697,2
  49UP20110515,   P13,   114,  1,      4,      77,2,20110806,0232,0244,  4.9177, 164.9760, 4759,   4317.9,     4251,   1.4586,  34.6912,2,    164.7,2,  34.6912,2,   165.19,2,   137.06,2,    35.19,2,     0.00,2,    2.430,2,    0.000,3,    0.000,2,-999,9,-999,9,   2311.8,2,   2410.2,2,   7.6050,6,    25.00,     -999,9,     -999,9,   1.4587,2
  49UP20110515,   P13,   114,  1,      3,      76,2,20110806,0232,0238,  4.9177, 164.9760, 4759,   4573.9,     4500,   1.4221,  34.6955,2,    172.5,2,  34.6960,2,   172.77,2,   133.08,2,    34.59,2,     0.00,2,    2.390,2,    0.000,3,    0.000,2,-999,9,-999,9,   2302.8,6,   2403.4,6,   7.6032,2,    25.00,     -999,9,     -999,9,   1.4221,2
  49UP20110515,   P13,   114,  1,      1,     112,2,20110806,0232,0233,  4.9177, 164.9760, 4759,   4816.4,     4736,   1.3687,  34.7003,2,    181.6,2,  34.7013,2,   181.80,2,   128.64,2,    33.95,2,     0.00,2,    2.340,2,    0.050,3,    0.001,6,-999,9,-999,9,   2292.3,2,   2392.9,2,   7.6065,2,    25.00,     -999,9,     -999,9,   1.3682,2
  49UP20110515,   P13,   114,  1,      2,      75,2,20110806,0232,0233,  4.9177, 164.9760, 4759,   4817.6,     4737,   1.3645,  34.7007,2,    181.7,2,  34.7007,2,   182.25,2,   128.56,6,    34.02,6,     0.00,6,    2.340,6,    0.010,3,    0.000,2,-999,9,-999,9,   2288.2,3,   2393.5,2,   7.6081,2,    25.00,     -999,9,     -999,9,   1.3643,2