BOTTLE,20240116CCHSIOVAJ
EXPOCODE,SECT_ID,STNNBR,CASTNO,SAMPNO,BTLNBR,BTLNBR_FLAG_W,DATE,TIME,BTL_TIME,LATITUDE,LONGITUDE,DEPTH,CTDPRS,CTDDEPTH,CTDTMP,CTDSAL,CTDSAL_FLAG_W,CTDOXY,CTDOXY_FLAG_W,SALNTY,SALNTY_FLAG_W,OXYGEN,OXYGEN_FLAG_W,SILCAT,SILCAT_FLAG_W,NO2+NO3,NO2+NO3_FLAG_W,NITRIT,NITRIT_FLAG_W,PHSPHT,PHSPHT_FLAG_W,CFC-11,CFC-11_FLAG_W,CFC-12,CFC-12_FLAG_W,DELC14,DELC14_FLAG_W,DELC13,DELC13_FLAG_W,TCARBN,TCARBN_FLAG_W,ALKALI,ALKALI_FLAG_W,PH_TOT,PH_TOT_FLAG_W,PH_TMP,CHLORA,CHLORA_FLAG_W,PPHYTN,PPHYTN_FLAG_W,REFTMP,REFTMP_FLAG_W
,,,,,,,,,,,,METERS,DBAR,METERS,ITS-90,PSS-78,,UMOL/KG,,PSS-78,,UMOL/KG,,UMOL/KG,,UMOL/KG,,UMOL/KG,,UMOL/KG,,PMOL/KG,,PMOL/KG,,/MILLE,,/MILLE,,UMOL/KG,,UMOL/KG,,,,DEG C,UG/KG,,UG/KG,,ITS-90,
  49UP20110515,   P13,    57,  1,      0,     BUC,2,20110709,2047,2300, 39.0175, 165.0373, 5454,      0.0,        0,  19.6691,  34.4043,2,    238.2,2,     -999,9,   237.60,2,     3.64,2,     0.00,2,     0.00,2,    0.100,4,     -999,9,     -999,9,-999,9,-999,9,     -999,9,     -999,9,     -999,9,     -999,     0.22,2,     0.04,2,     -999,9
  49UP20110515,   P13,    57,  1,     36,     109,2,20110709,2047,2315, 39.0175, 165.0373, 5454,     10.3,       10,  19.6617,  34.4036,2,    238.0,2,  34.4055,2,   237.47,2,     3.55,2,     0.00,2,     0.00,2,    0.090,4,    2.438,3,    1.524,2,-999,9,-999,9,   1992.8,6,   2265.3,6,   8.0109,2,    25.00,     0.20,2,     0.03,2,  19.6607,2
  49UP20110515,   P13,    57,  1,     35,     108,2,20110709,2047,2311, 39.0175, 165.0373, 5454,     50.6,       50,  16.0789,  34.4950,2,    240.6,2,  34.5189,4,   238.75,2,     5.85,2,     2.86,2,     0.35,2,    0.290,4,    2.721,3,    1.674,2,-999,9,-999,9,   2021.8,2,   2272.0,2,   7.9649,6,    25.00,     0.55,2,     0.27,2,  16.0562,2
  49UP20110515,   P13,    57,  1,     34,     107,2,20110709,2047,2309, 39.0175, 165.0373, 5454,    101.2,      100,  13.9024,  34.4596,2,    225.2,2,  34.4597,2,   225.23,2,    10.25,6,     8.27,6,     0.02,6,    0.560,4,    2.832,3,    1.753,2,-999,9,-999,9,   2058.2,2,   2267.9,2,   7.8916,2,    25.00,     0.07,2,     0.04,2,  13.9030,2
  49UP20110515,   P13,    57,  1,     33,     106,2,20110709,2047,2307, 39.0175, 165.0373, 5454,    152.5,      151,  13.0389,  34.4024,2,    216.2,2,  34.4046,2,   216.62,2,    12.90,2,    10.26,2,     0.02,2,    0.700,4,     -999,5,     -999,5,-999,9,-999,9,   2074.3,2,   2267.8,2,   7.8530,2,    25.00,     0.01,2,     0.03,2,  13.0424,2
  49UP20110515,   P13,    57,  1,     32,     105,2,20110709,2047,2305, 39.0175, 165.0373, 5454,    202.7,      201,  12.2734,  34.3449,2,    228.3,2,  34.3460,2,   228.69,6,    13.58,2,    10.37,2,     0.01,2,    0.710,4,    2.866,3,    1.811,2,-999,9,-999,9,   2074.1,2,   2268.5,2,   7.8549,2,    25.00,     0.00,2,     0.03,2,  12.2731,2
  49UP20110515,   P13,    57,  1,     31,     104,2,20110709,2047,2304, 39.0175, 165.0373, 5454,    252.0,      250,  11.1998,  34.2681,2,    207.7,2,  34.2704,2,   207.46,2,    19.99,2,    14.27,2,     0.01,2,    0.990,4,    2.874,3,    1.778,6,-999,9,-999,9,   2102.1,2,   2272.2,2,   7.7875,2,    25.00,     -999,9,     -999,9,  11.2010,2
  49UP20110515,   P13,    57,  1,     30,     103,2,20110709,2047,2301, 39.0175, 165.0373, 5454,    333.6,      331,   9.3492,  34.1315,2,    194.6,2,  34.1352,6,   194.67,2,    29.56,6,    18.67,6,     0.01,6,    1.310,4,    2.922,3,    1.778,2,-999,9,-999,9,   2135.7,2,   2270.7,2,   7.7247,2,    25.00,     -999,9,     -999,9,   9.3668,2
  49UP20110515,   P13,    57,  1,     29,     102,2,20110709,2047,2258, 39.0175, 165.0373, 5454,    434.1,      430,   7.2106,  34.0164,2,    167.9,2,  34.0203,2,   167.78,6,    45.97,2,    25.16,2,     0.00,2,    1.800,4,    2.708,3,    1.641,2,-999,9,-999,9,   2182.7,2,   2278.7,2,   7.6081,2,    25.00,     -999,9,     -999,9,   7.2072,2
  49UP20110515,   P13,    57,  1,     28,     101,2,20110709,2047,2255, 39.0175, 165.0373, 5454,    534.7,      530,   5.4727,  33.9858,2,    130.2,2,  33.9871,2,   130.07,2,    67.31,2,    31.90,2,     0.00,2,    2.300,4,    2.326,3,    1.368,2,-999,9,-999,9,   2237.1,6,   2293.3,6,   7.5031,2,    25.00,     -999,9,     -999,9,   5.4747,2
  49UP20110515,   P13,    57,  1,     27,     100,3,20110709,2047,2252, 39.0175, 165.0373, 5454,    636.6,      631,   4.7967,  34.0747,2,     92.5,2,  34.0777,2,    93.57,2,    85.67,2,    36.17,2,     0.00,2,    2.600,4,    1.707,3,    0.985,6,-999,9,-999,9,   2276.9,2,   2310.7,2,   7.4244,6,    25.00,     -999,9,     -999,9,   4.7957,2
  49UP20110515,   P13,    57,  1,     26,      99,2,20110709,2047,2249, 39.0175, 165.0373, 5454,    739.1,      732,   4.1520,  34.1569,2,     61.6,2,  34.1549,2,    61.96,2,   103.39,2,    39.65,2,     0.00,2,    2.840,4,    1.140,3,    0.638,2,-999,9,-999,9,   2315.2,2,   2327.9,2,   7.3730,2,    25.00,     -999,9,     -999,9,   4.1520,2
  49UP20110515,   P13,    57,  1,     25,      98,2,20110709,2047,2246, 39.0175, 165.0373, 5454,    840.0,      832,   3.8250,  34.2406,2,     48.1,2,  34.2391,2,    48.12,2,   115.22,2,    41.05,2,     0.00,2,    2.940,4,    0.689,3,    0.395,2,-999,9,-999,9,   2334.4,2,   2342.3,2,   7.3531,2,    25.00,     -999,9,     -999,9,   3.8266,2
  49UP20110515,   P13,    57,  1,     24,      97,2,20110709,2047,2243, 39.0175, 165.0373, 5454,    939.7,      930,   3.5160,  34.2925,2,     40.9,2,  34.2921,2,    41.14,2,   124.67,2,    41.96,2,     0.00,2,    3.000,4,    0.469,3,    0.265,2,-999,9,-999,9,   2348.5,2,   2355.6,2,   7.3435,2,    25.00,     -999,9,     -999,9,   3.5161,2
  49UP20110515,   P13,    57,  1,     23,      96,2,20110709,2047,2243, 39.0175, 165.0373, 5454,    939.7,      930,   3.5160,  34.2925,2,     40.9,2,  34.2917,2,    42.20,3,   124.61,6,    41.94,6,     0.00,6,    3.000,4,    0.497,3,    0.284,2,-999,9,-999,9,   2348.4,2,   2356.0,2,   7.3430,2,    25.00,     -999,9,     -999,9,   3.5161,2
  49UP20110515,   P13,    57,  1,     22,      95,3,20110709,2047,2239, 39.0175, 165.0373, 5454,   1082.5,     1072,   3.1291,  34.3567,2,     36.2,2,  34.3573,2,    39.27,4,   136.74,2,    42.75,2,     0.00,2,    3.060,2,    0.291,3,    0.175,2,-999,9,-999,9,   2362.6,2,   2368.8,2,   7.3397,2,    25.00,     -999,9,     -999,9,   3.1290,2
  49UP20110515,   P13,    57,  1,     21,      94,2,20110709,2047,2233, 39.0175, 165.0373, 5454,   1285.6,     1272,   2.7465,  34.4322,2,     35.9,2,  34.4330,2,    36.09,6,   148.76,2,    43.00,2,     0.00,2,    3.070,2,    0.107,3,    0.093,2,-999,9,-999,9,   2375.4,2,   2383.0,2,   7.3469,2,    25.00,     -999,9,     -999,9,   2.7469,2
  49UP20110515,   P13,    57,  1,     20,      93,2,20110709,2047,2228, 39.0175, 165.0373, 5454,   1487.7,     1471,   2.4623,  34.4860,2,     38.8,2,  34.4857,2,    39.13,2,   156.81,2,    43.12,2,     0.00,2,    3.070,2,    0.055,3,    0.058,2,-999,9,-999,9,   2394.3,3,   2394.1,3,   7.3563,2,    25.00,     -999,9,     -999,9,   2.4623,2
  49UP20110515,   P13,    57,  1,     19,      92,2,20110709,2047,2228, 39.0175, 165.0373, 5454,   1487.7,     1471,   2.4623,  34.4860,2,     38.8,2,  34.4843,2,    39.16,2,   156.75,2,    43.17,2,     0.00,2,    3.070,2,    0.110,3,    0.078,2,-999,9,-999,9,   2384.6,2,   2394.6,2,   7.3556,2,    25.00,     -999,9,     -999,9,   2.4623,2
  49UP20110515,   P13,    57,  1,     18,      91,2,20110709,2047,2222, 39.0175, 165.0373, 5454,   1692.8,     1673,   2.2347,  34.5320,2,     48.3,2,  34.5321,6,    48.56,2,   162.19,2,    42.70,2,     0.00,2,    3.020,2,    0.006,3,    0.036,2,-999,9,-999,9,   2386.8,2,   2401.2,2,   7.3788,2,    25.00,     -999,9,     -999,9,   2.2346,2
  49UP20110515,   P13,    57,  1,     17,      90,2,20110709,2047,2217, 39.0175, 165.0373, 5454,   1895.9,     1873,   2.0756,  34.5617,2,     56.4,2,  34.5613,2,    56.49,2,   165.90,2,    42.27,2,     0.00,2,    2.980,2,    0.000,3,    0.030,2,-999,9,-999,9,   2383.6,2,   2408.0,2,   7.3943,2,    25.00,     -999,9,     -999,9,   2.0754,2
  49UP20110515,   P13,    57,  1,     16,      89,2,20110709,2047,2211, 39.0175, 165.0373, 5454,   2100.1,     2074,   1.9279,  34.5904,2,     69.3,2,  34.5899,2,    69.61,2,   167.12,2,    41.37,2,     0.00,2,    2.910,2,    0.000,3,    0.021,2,-999,9,-999,9,   2378.0,2,   2412.1,2,   7.4197,2,    25.00,     -999,9,     -999,9,   1.9281,2
  49UP20110515,   P13,    57,  1,     15,      88,2,20110709,2047,2205, 39.0175, 165.0373, 5454,   2303.3,     2273,   1.8095,  34.6137,2,     83.3,2,  34.6135,2,    83.41,2,   167.00,2,    40.58,2,     0.00,2,    2.850,2,    0.000,3,    0.018,2,-999,9,-999,9,   2370.9,2,   2411.2,2,   7.4500,2,    25.00,     -999,9,     -999,9,   1.8091,2
  49UP20110515,   P13,    57,  1,     14,      87,2,20110709,2047,2200, 39.0175, 165.0373, 5454,   2505.4,     2472,   1.7215,  34.6308,2,     96.2,2,  34.6315,2,    96.24,2,   165.34,2,    39.80,2,     0.00,2,    2.810,2,    0.001,3,    0.021,2,-999,9,-999,9,   2364.4,2,   2415.6,2,   7.4742,2,    25.00,     -999,9,     -999,9,   1.7214,2
  49UP20110515,   P13,    57,  1,     13,      86,2,20110709,2047,2155, 39.0175, 165.0373, 5454,   2709.9,     2672,   1.6452,  34.6448,2,    108.1,2,  34.6448,2,   108.05,2,   162.87,2,    38.97,2,     0.00,2,    2.730,2,    0.000,3,    0.026,2,-999,9,-999,9,   2355.6,2,   2413.2,2,   7.4985,2,    25.00,     -999,9,     -999,9,   1.6448,2
  49UP20110515,   P13,    57,  1,     12,      85,2,20110709,2047,2150, 39.0175, 165.0373, 5454,   2914.0,     2872,   1.5882,  34.6550,2,    117.9,2,  34.6552,2,   117.98,6,   161.13,2,    38.31,2,     0.00,2,    2.690,2,     -999,9,     -999,9,-999,9,-999,9,   2351.9,2,   2416.9,2,   7.5157,2,    25.00,     -999,9,     -999,9,   1.5882,2
  49UP20110515,   P13,    57,  1,     11,     110,2,20110709,2047,2144, 39.0175, 165.0373, 5454,   3127.7,     3081,   1.5445,  34.6630,2,    126.4,2,  34.6632,2,   126.75,2,   159.00,2,    37.85,2,     0.00,2,    2.650,2,     -999,9,     -999,9,-999,9,-999,9,   2346.9,2,   2416.7,2,   7.5316,2,    25.00,     -999,9,     -999,9,   1.5444,2
  49UP20110515,   P13,    57,  1,     10,      83,2,20110709,2047,2139, 39.0175, 165.0373, 5454,   3382.8,     3331,   1.5058,  34.6704,2,    135.0,2,  34.6716,2,   135.05,2,   156.72,2,    37.26,2,     0.00,2,    2.620,2,    0.001,3,    0.024,2,-999,9,-999,9,   2338.5,2,   2418.0,2,   7.5440,2,    25.00,     -999,9,     -999,9,   1.5055,2
  49UP20110515,   P13,    57,  1,      9,      82,2,20110709,2047,2139, 39.0175, 165.0373, 5454,   3382.8,     3331,   1.5058,  34.6704,2,    135.0,2,  34.6720,2,   134.89,2,   156.72,2,    37.26,2,     0.00,2,    2.600,2,     -999,9,     -999,9,-999,9,-999,9,   2338.1,2,   2416.2,2,   7.5473,2,    25.00,     -999,9,     -999,9,   1.5055,2
  49UP20110515,   P13,    57,  1,      8,      81,2,20110709,2047,2133, 39.0175, 165.0373, 5454,   3638.2,     3580,   1.4833,  34.6759,2,    141.2,2,  34.6761,6,   141.59,2,   155.16,2,    36.87,2,     0.00,2,    2.560,2,     -999,9,     -999,9,-999,9,-999,9,   2333.7,2,   2417.5,2,   7.5535,2,    25.00,     -999,9,     -999,9,   1.4833,2
  49UP20110515,   P13,    57,  1,      7,      80,2,20110709,2047,2127, 39.0175, 165.0373, 5454,   3893.1,     3828,   1.4724,  34.6800,2,    146.4,2,  34.6797,2,   146.69,2,   154.04,6,    36.55,6,     0.00,6,    2.540,6,     -999,9,     -999,9,-999,9,-999,9,   2332.9,2,   2415.3,2,   7.5658,2,    25.00,     -999,9,     -999,9,   1.4723,2
  49UP20110515,   P13,    57,  1,      6,      79,2,20110709,2047,2120, 39.0175, 165.0373, 5454,   4151.1,     4080,   1.4668,  34.6835,2,    150.9,2,  34.6837,2,   151.40,2,   152.60,2,    36.23,2,     0.00,2,    2.510,2,     -999,9,     -999,9,-999,9,-999,9,   2330.4,2,   2414.9,6,   7.5736,2,    25.00,     -999,9,     -999,9,   1.4666,2
  49UP20110515,   P13,    57,  1,      5,      78,2,20110709,2047,2114, 39.0175, 165.0373, 5454,   4407.8,     4330,   1.4765,  34.6858,2,    153.5,2,  34.6857,2,   153.50,2,   152.30,2,    36.03,2,     0.00,2,    2.500,2,    0.000,3,    0.026,2,-999,9,-999,9,   2327.3,2,   2413.5,2,   7.5770,6,    25.00,     -999,9,     -999,9,   1.4764,2
  49UP20110515,   P13,    57,  1,      4,      77,2,20110709,2047,2108, 39.0175, 165.0373, 5454,   4664.7,     4579,   1.4908,  34.6877,2,    155.6,2,  34.6873,2,   157.03,4,   151.96,2,    35.97,2,     0.00,2,    2.490,2,     -999,9,     -999,9,-999,9,-999,9,   2328.3,2,   2417.1,2,   7.5774,2,    25.00,     -999,9,     -999,9,   1.4907,2
  49UP20110515,   P13,    57,  1,      3,      76,2,20110709,2047,2103, 39.0175, 165.0373, 5454,   4922.7,     4830,   1.5120,  34.6886,2,    156.9,2,  34.6884,2,   157.89,2,   151.97,2,    35.89,2,     0.00,2,    2.500,2,     -999,9,     -999,9,-999,9,-999,9,   2323.5,2,   2412.1,2,   7.5821,2,    25.00,     -999,9,     -999,9,   1.5120,2
  49UP20110515,   P13,    57,  1,      2,      75,2,20110709,2047,2055, 39.0175, 165.0373, 5454,   5179.8,     5079,   1.5392,  34.6893,2,    157.4,2,  34.6895,2,   157.69,2,   152.45,2,    35.87,2,     0.00,2,    2.500,2,    0.000,3,    0.023,2,-999,9,-999,9,   2323.9,2,   2416.5,2,   7.5808,2,    25.00,     -999,9,     -999,9,   1.5390,2
  49UP20110515,   P13,    57,  1,      1,      74,2,20110709,2047,2048, 39.0175, 165.0373, 5454,   5531.9,     5420,   1.5830,  34.6894,2,    157.6,2,  34.6862,4,   154.97,2,   153.09,2,    36.03,2,     0.00,2,    2.490,2,     -999,9,     -999,9,-999,9,-999,9,   2328.7,3,   2415.5,2,   7.5741,2,    25.00,     -999,9,     -999,9,   1.5829,2