BOTTLE,20240116CCHSIOVAJ
EXPOCODE,SECT_ID,STNNBR,CASTNO,SAMPNO,BTLNBR,BTLNBR_FLAG_W,DATE,TIME,BTL_TIME,LATITUDE,LONGITUDE,DEPTH,CTDPRS,CTDDEPTH,CTDTMP,CTDSAL,CTDSAL_FLAG_W,CTDOXY,CTDOXY_FLAG_W,SALNTY,SALNTY_FLAG_W,OXYGEN,OXYGEN_FLAG_W,SILCAT,SILCAT_FLAG_W,NO2+NO3,NO2+NO3_FLAG_W,NITRIT,NITRIT_FLAG_W,PHSPHT,PHSPHT_FLAG_W,CFC-11,CFC-11_FLAG_W,CFC-12,CFC-12_FLAG_W,DELC14,DELC14_FLAG_W,DELC13,DELC13_FLAG_W,TCARBN,TCARBN_FLAG_W,ALKALI,ALKALI_FLAG_W,PH_TOT,PH_TOT_FLAG_W,PH_TMP,CHLORA,CHLORA_FLAG_W,PPHYTN,PPHYTN_FLAG_W,REFTMP,REFTMP_FLAG_W
,,,,,,,,,,,,METERS,DBAR,METERS,ITS-90,PSS-78,,UMOL/KG,,PSS-78,,UMOL/KG,,UMOL/KG,,UMOL/KG,,UMOL/KG,,UMOL/KG,,PMOL/KG,,PMOL/KG,,/MILLE,,/MILLE,,UMOL/KG,,UMOL/KG,,,,DEG C,UG/KG,,UG/KG,,ITS-90,
  49UP20110515,   P13,   106,  1,      0,     BUC,2,20110803,1413,1605,  9.0008, 163.9682, 5223,      0.0,        0,  28.7629,  33.9285,2,    197.4,2,     -999,9,   196.38,2,     1.12,2,     0.00,2,     0.00,2,    0.140,2,     -999,9,     -999,9,-999,9,-999,9,     -999,9,     -999,9,     -999,9,     -999,     0.05,2,     0.02,2,     -999,9
  49UP20110515,   P13,   106,  1,     36,     109,2,20110803,1413,1630,  9.0008, 163.9682, 5223,     11.0,       11,  28.8427,  34.1216,2,    196.9,2,  34.1213,2,   196.06,2,     1.06,2,     0.00,2,     0.00,2,    0.160,2,    1.714,3,    1.032,2,-999,9,-999,9,   1910.5,2,   2239.6,2,   8.1222,2,    25.00,     0.05,2,     0.02,2,  28.8428,2
  49UP20110515,   P13,   106,  1,     35,     108,2,20110803,1413,1626,  9.0008, 163.9682, 5223,     51.9,       52,  28.8748,  34.4943,2,    198.6,2,  34.4442,4,   197.83,6,     1.08,2,     0.00,2,     0.00,2,    0.150,2,    1.721,3,    1.037,2,-999,9,-999,9,   1929.9,2,   2258.5,2,   8.1178,2,    25.00,     0.06,2,     0.04,2,  28.8754,2
  49UP20110515,   P13,   106,  1,     34,     107,2,20110803,1413,1624,  9.0008, 163.9682, 5223,     75.0,       75,  28.6013,  34.6455,2,    198.4,2,  34.6513,2,   197.84,2,     1.10,2,     0.00,2,     0.00,2,    0.150,2,    1.758,3,    1.037,2,-999,9,-999,9,   1943.3,2,   2270.4,2,   8.1071,2,    25.00,     0.12,2,     0.06,2,  28.6030,2
  49UP20110515,   P13,   106,  1,     33,     106,3,20110803,1413,1623,  9.0008, 163.9682, 5223,    104.7,      104,  26.6651,  34.9821,2,    200.2,2,  34.9487,4,   199.66,2,     1.09,2,     0.00,2,     0.00,2,    0.160,2,    1.909,3,    1.128,2,-999,9,-999,9,   1981.4,2,   2295.2,2,   8.0802,2,    25.00,     0.22,2,     0.25,2,  26.6777,2
  49UP20110515,   P13,   106,  1,     32,     105,2,20110803,1413,1622,  9.0008, 163.9682, 5223,    126.9,      126,  25.0263,  35.0815,2,    193.9,2,  35.0449,4,   193.80,2,     1.45,2,     0.52,2,     0.18,2,    0.220,2,    1.966,3,    1.201,2,-999,9,-999,9,   2011.7,2,   2304.9,2,   8.0395,2,    25.00,     0.20,2,     0.32,2,  25.0284,2
  49UP20110515,   P13,   106,  1,     31,     104,2,20110803,1413,1621,  9.0008, 163.9682, 5223,    151.6,      151,  22.1165,  35.0812,2,    179.5,2,  35.0810,2,   180.72,2,     2.49,2,     2.26,2,     0.28,2,    0.350,2,    2.134,3,    1.331,6,-999,9,-999,9,   2048.7,2,   2307.9,2,   7.9690,2,    25.00,     0.10,2,     0.19,2,  22.1089,2
  49UP20110515,   P13,   106,  1,     30,     103,2,20110803,1413,1619,  9.0008, 163.9682, 5223,    199.7,      198,  14.9362,  34.5449,2,    133.8,2,  34.5528,2,   133.73,2,    12.30,2,    14.33,2,     0.01,2,    1.130,2,    2.353,3,    1.399,2,-999,9,-999,9,   2128.7,2,   2278.3,2,   7.7646,2,    25.00,     0.04,2,     0.07,2,  14.9478,2
  49UP20110515,   P13,   106,  1,     29,     102,3,20110803,1413,1617,  9.0008, 163.9682, 5223,    252.1,      251,  10.6825,  34.4227,2,     75.4,2,  34.4530,4,    81.74,4,    25.49,6,    24.39,6,     0.01,6,    1.850,6,    1.672,3,    0.939,2,-999,9,-999,9,   2199.6,2,   2281.2,2,   7.5826,2,    25.00,     -999,9,     -999,9,  10.6878,2
  49UP20110515,   P13,   106,  1,     28,     101,2,20110803,1413,1614,  9.0008, 163.9682, 5223,    333.6,      331,   9.4028,  34.6062,2,     45.9,2,  34.6062,2,    45.80,2,    36.16,2,    33.75,2,     0.00,2,    2.420,2,    0.518,3,    0.272,2,-999,9,-999,9,   2250.5,2,   2301.2,6,   7.4867,2,    25.00,     -999,9,     -999,9,   9.4049,2
  49UP20110515,   P13,   106,  1,     27,     100,3,20110803,1413,1611,  9.0008, 163.9682, 5223,    383.4,      381,   8.7490,  34.5751,2,     55.3,2,  34.5735,2,    55.64,2,    40.10,2,    34.11,2,     0.00,2,    2.450,2,    0.475,3,    0.235,6,-999,9,-999,9,   2254.1,2,   2304.5,2,   7.4913,2,    25.00,     -999,9,     -999,9,   8.7492,2
  49UP20110515,   P13,   106,  1,     26,      99,3,20110803,1413,1607,  9.0008, 163.9682, 5223,    438.2,      435,   8.1264,  34.5553,2,     61.8,2,  34.5538,2,    61.66,2,    44.18,2,    34.80,2,     0.00,2,    2.490,2,    0.390,3,    0.202,2,-999,9,-999,9,   2251.1,2,   2307.4,2,   7.4922,6,    25.00,     -999,9,     -999,9,   8.1271,2
  49UP20110515,   P13,   106,  1,     25,      98,2,20110803,1413,1603,  9.0008, 163.9682, 5223,    537.6,      534,   7.4528,  34.5453,2,     61.5,2,  34.5456,2,    61.44,6,    50.04,2,    36.07,2,     0.00,2,    2.590,2,    0.261,3,    0.128,2,-999,9,-999,9,   2266.2,2,   2314.1,2,   7.4802,2,    25.00,     -999,9,     -999,9,   7.4535,2
  49UP20110515,   P13,   106,  1,     24,      97,2,20110803,1413,1559,  9.0008, 163.9682, 5223,    634.7,      630,   6.6813,  34.5331,2,     61.4,2,  34.5315,2,    61.32,2,    58.61,6,    37.50,6,     0.00,6,    2.710,6,    0.158,3,    0.068,2,-999,9,-999,9,   2275.7,2,   2322.6,2,   7.4669,2,    25.00,     -999,9,     -999,9,   6.6827,2
  49UP20110515,   P13,   106,  1,     23,      96,2,20110803,1413,1556,  9.0008, 163.9682, 5223,    733.9,      728,   6.1637,  34.5305,2,     60.0,2,  34.5306,6,    60.07,2,    65.80,2,    38.63,2,     0.00,2,    2.790,2,    0.104,3,    0.035,2,-999,9,-999,9,   2286.5,2,   2330.3,2,   7.4575,2,    25.00,     -999,9,     -999,9,   6.1642,2
  49UP20110515,   P13,   106,  1,     22,      95,2,20110803,1413,1553,  9.0008, 163.9682, 5223,    835.1,      829,   5.5526,  34.5341,2,     63.1,2,  34.5350,2,    63.13,2,    74.81,2,    39.34,2,     0.00,2,    2.840,2,    0.061,3,    0.017,2,-999,9,-999,9,   2294.9,2,   2339.6,2,   7.4559,2,    25.00,     -999,9,     -999,9,   5.5530,2
  49UP20110515,   P13,   106,  1,     21,      94,2,20110803,1413,1551,  9.0008, 163.9682, 5223,    936.1,      929,   4.9652,  34.5418,2,     68.8,2,  34.5425,2,    68.85,2,    84.95,2,    39.57,2,     0.00,2,    2.850,2,    0.060,3,    0.012,2,-999,9,-999,9,   2298.4,2,   2347.2,2,   7.4615,2,    25.00,     -999,9,     -999,9,   4.9653,2
  49UP20110515,   P13,   106,  1,     20,      93,2,20110803,1413,1547,  9.0008, 163.9682, 5223,   1079.5,     1071,   4.2488,  34.5552,2,     69.9,2,  34.5566,2,    71.01,2,    99.19,2,    40.11,2,     0.00,2,    2.890,2,    0.054,3,    0.005,2,-999,9,-999,9,   2318.5,2,   2368.0,2,   7.4607,2,    25.00,     -999,9,     -999,9,   4.2518,2
  49UP20110515,   P13,   106,  1,     19,      92,2,20110803,1413,1543,  9.0008, 163.9682, 5223,   1281.2,     1270,   3.4913,  34.5775,2,     80.3,2,  34.5767,2,    80.14,2,   114.51,2,    40.00,2,     0.00,2,    2.870,2,     -999,9,     -999,9,-999,9,-999,9,   2331.0,2,   2380.2,2,   7.4701,2,    25.00,     -999,9,     -999,9,   3.4912,2
  49UP20110515,   P13,   106,  1,     18,      91,2,20110803,1413,1538,  9.0008, 163.9682, 5223,   1484.6,     1471,   2.8568,  34.6005,2,     89.3,2,  34.5982,4,    89.37,2,   128.78,6,    39.87,6,     0.00,6,    2.870,6,     -999,9,     -999,9,-999,9,-999,9,   2331.1,2,   2397.8,2,   7.4834,2,    25.00,     -999,9,     -999,9,   2.8575,2
  49UP20110515,   P13,   106,  1,     17,      90,2,20110803,1413,1534,  9.0008, 163.9682, 5223,   1686.9,     1671,   2.5469,  34.6167,2,     96.4,2,  34.6169,2,    96.33,2,   135.05,2,    39.55,2,     0.00,2,    2.820,2,     -999,9,     -999,9,-999,9,-999,9,   2343.0,2,   2403.0,6,   7.4929,2,    25.00,     -999,9,     -999,9,   2.5472,2
  49UP20110515,   P13,   106,  1,     16,      89,2,20110803,1413,1529,  9.0008, 163.9682, 5223,   1888.7,     1870,   2.2934,  34.6317,2,    102.8,2,  34.6314,2,   102.91,2,   140.03,2,    39.24,2,     0.00,2,    2.790,2,     -999,9,     -999,9,-999,9,-999,9,   2349.0,2,   2410.8,2,   7.5063,6,    25.00,     -999,9,     -999,9,   2.2937,2
  49UP20110515,   P13,   106,  1,     15,      88,2,20110803,1413,1525,  9.0008, 163.9682, 5223,   2092.4,     2070,   2.1009,  34.6424,2,    108.3,2,  34.6421,2,   108.32,6,   144.18,2,    39.01,2,     0.00,2,    2.750,2,    0.061,3,    0.007,2,-999,9,-999,9,   2347.4,2,   2416.7,2,   7.5136,2,    25.00,     -999,9,     -999,9,   2.1011,2
  49UP20110515,   P13,   106,  1,     14,      87,2,20110803,1413,1520,  9.0008, 163.9682, 5223,   2295.7,     2270,   1.9674,  34.6513,2,    113.1,2,  34.6509,2,   113.20,2,   147.26,2,    38.73,2,     0.00,2,    2.750,2,     -999,9,     -999,9,-999,9,-999,9,   2345.7,2,   2417.0,2,   7.5251,2,    25.00,     -999,9,     -999,9,   1.9677,2
  49UP20110515,   P13,   106,  1,     13,      86,2,20110803,1413,1515,  9.0008, 163.9682, 5223,   2500.7,     2472,   1.8334,  34.6594,2,    120.6,2,  34.6594,6,   120.51,2,   148.20,2,    38.23,2,     0.00,2,    2.680,2,     -999,9,     -999,9,-999,9,-999,9,   2337.0,3,   2419.7,2,   7.5357,2,    25.00,     -999,9,     -999,9,   1.8334,2
  49UP20110515,   P13,   106,  1,     12,      74,2,20110803,1413,1510,  9.0008, 163.9682, 5223,   2704.0,     2672,   1.7585,  34.6643,2,    125.6,2,  34.6640,2,   125.43,2,   148.31,2,    37.87,2,     0.00,2,    2.660,2,     -999,9,     -999,9,-999,9,-999,9,   2346.7,2,   2419.1,2,   7.5410,2,    25.00,     -999,9,     -999,9,   1.7583,2
  49UP20110515,   P13,   106,  1,     11,     110,2,20110803,1413,1505,  9.0008, 163.9682, 5223,   2907.7,     2872,   1.6823,  34.6691,2,    131.3,2,  34.6683,2,   131.32,2,   148.47,2,    37.52,2,     0.00,2,    2.630,2,    0.029,3,    0.010,2,-999,9,-999,9,   2329.7,3,   2422.2,3,   7.5535,2,    25.00,     -999,9,     -999,9,   1.6824,2
  49UP20110515,   P13,   106,  1,     10,      83,2,20110803,1413,1500,  9.0008, 163.9682, 5223,   3123.5,     3083,   1.6132,  34.6739,2,    137.2,2,  34.6742,2,   137.33,2,   147.97,2,    37.13,2,     0.00,2,    2.600,2,     -999,9,     -999,9,-999,9,-999,9,   2331.4,3,   2419.0,2,   7.5613,2,    25.00,     -999,9,     -999,9,   1.6134,2
  49UP20110515,   P13,   106,  1,      9,      82,2,20110803,1413,1454,  9.0008, 163.9682, 5223,   3376.8,     3331,   1.5493,  34.6787,2,    143.5,2,  34.6778,2,   143.44,2,   147.18,2,    36.71,2,     0.00,2,    2.560,2,     -999,9,     -999,9,-999,9,-999,9,   2326.9,3,   2418.1,2,   7.5658,6,    25.00,     -999,9,     -999,9,   1.5496,2
  49UP20110515,   P13,   106,  1,      8,      81,2,20110803,1413,1449,  9.0008, 163.9682, 5223,   3635.3,     3584,   1.4916,  34.6837,2,    151.3,2,  34.6833,2,   151.30,2,   144.62,6,    36.16,6,     0.00,6,    2.530,6,    0.029,3,    0.000,2,-999,9,-999,9,   2307.0,3,   2414.7,2,   7.5773,2,    25.00,     -999,9,     -999,9,   1.4918,2
  49UP20110515,   P13,   106,  1,      7,      80,2,20110803,1413,1443,  9.0008, 163.9682, 5223,   3889.5,     3832,   1.4539,  34.6877,2,    157.8,2,  34.6870,2,   157.33,2,   142.15,2,    35.72,2,     0.00,2,    2.490,2,    0.038,3,    0.001,2,-999,9,-999,9,   2314.7,3,   2413.0,2,   7.5826,2,    25.00,     -999,9,     -999,9,   1.4541,2
  49UP20110515,   P13,   106,  1,      6,      79,2,20110803,1413,1438,  9.0008, 163.9682, 5223,   4145.7,     4083,   1.4286,  34.6915,2,    164.7,2,  34.6920,2,   165.12,2,   138.25,2,    35.27,2,     0.00,2,    2.450,2,    0.031,3,    0.000,2,-999,9,-999,9,   2303.4,3,   2408.3,2,   7.5935,2,    25.00,     -999,9,     -999,9,   1.4289,2
  49UP20110515,   P13,   106,  1,      5,      78,2,20110803,1413,1432,  9.0008, 163.9682, 5223,   4401.8,     4332,   1.4102,  34.6948,2,    170.7,2,  34.6943,2,   170.22,2,   134.79,2,    34.81,2,     0.00,2,    2.420,2,    0.015,3,    0.004,2,-999,9,-999,9,   2303.3,3,   2404.2,2,   7.6005,2,    25.00,     -999,9,     -999,9,   1.4104,2
  49UP20110515,   P13,   106,  1,      4,      77,2,20110803,1413,1427,  9.0008, 163.9682, 5223,   4658.5,     4582,   1.4073,  34.6971,2,    175.0,2,  34.6969,6,   175.56,2,   132.42,2,    34.45,2,     0.00,2,    2.410,2,    0.036,3,    0.000,2,-999,9,-999,9,   2294.0,2,   2400.9,2,   7.6016,2,    25.00,     -999,9,     -999,9,   1.4075,2
  49UP20110515,   P13,   106,  1,      3,      76,2,20110803,1413,1422,  9.0008, 163.9682, 5223,   4912.8,     4830,   1.4067,  34.6987,2,    178.6,2,  34.6978,2,   178.43,6,   130.74,2,    34.18,2,     0.00,2,    2.380,2,    0.039,3,    0.003,2,-999,9,-999,9,   2293.4,2,   2398.9,2,   7.6062,2,    25.00,     -999,9,     -999,9,   1.4069,2
  49UP20110515,   P13,   106,  1,      2,      75,2,20110803,1413,1417,  9.0008, 163.9682, 5223,   5170.8,     5080,   1.4059,  34.7006,2,    182.4,2,  34.7006,2,   182.94,2,   128.56,2,    33.86,2,     0.00,2,    2.360,2,    0.051,3,    0.011,2,-999,9,-999,9,   2283.1,2,   2390.7,2,   7.6077,2,    25.00,     -999,9,     -999,9,   1.4059,2
  49UP20110515,   P13,   106,  1,      1,     112,3,20110803,1413,1414,  9.0008, 163.9682, 5223,   5288.7,     5195,   1.4151,  34.7008,2,    183.3,2,  34.7003,2,   182.64,2,   128.36,2,    33.91,2,     0.00,2,    2.370,2,    0.083,3,    0.021,2,-999,9,-999,9,   2289.3,2,   2389.2,2,   7.6070,2,    25.00,     -999,9,     -999,9,   1.4150,2