BOTTLE,20240116CCHSIOVAJ
EXPOCODE,SECT_ID,STNNBR,CASTNO,SAMPNO,BTLNBR,BTLNBR_FLAG_W,DATE,TIME,BTL_TIME,LATITUDE,LONGITUDE,DEPTH,CTDPRS,CTDDEPTH,CTDTMP,CTDSAL,CTDSAL_FLAG_W,CTDOXY,CTDOXY_FLAG_W,SALNTY,SALNTY_FLAG_W,OXYGEN,OXYGEN_FLAG_W,SILCAT,SILCAT_FLAG_W,NO2+NO3,NO2+NO3_FLAG_W,NITRIT,NITRIT_FLAG_W,PHSPHT,PHSPHT_FLAG_W,CFC-11,CFC-11_FLAG_W,CFC-12,CFC-12_FLAG_W,DELC14,DELC14_FLAG_W,DELC13,DELC13_FLAG_W,TCARBN,TCARBN_FLAG_W,ALKALI,ALKALI_FLAG_W,PH_TOT,PH_TOT_FLAG_W,PH_TMP,CHLORA,CHLORA_FLAG_W,PPHYTN,PPHYTN_FLAG_W,REFTMP,REFTMP_FLAG_W
,,,,,,,,,,,,METERS,DBAR,METERS,ITS-90,PSS-78,,UMOL/KG,,PSS-78,,UMOL/KG,,UMOL/KG,,UMOL/KG,,UMOL/KG,,UMOL/KG,,PMOL/KG,,PMOL/KG,,/MILLE,,/MILLE,,UMOL/KG,,UMOL/KG,,,,DEG C,UG/KG,,UG/KG,,ITS-90,
  49UP20110515,   P13,    68,  1,      0,     BUC,2,20110713,0943,1200, 32.9870, 165.0068, 6238,      0.0,        0,  23.4002,  34.6224,2,    223.6,2,     -999,9,   212.81,2,     1.83,2,     0.01,2,     0.01,2,    0.100,2,     -999,9,     -999,9,-999,9,-999,9,     -999,9,     -999,9,     -999,9,     -999,     0.12,2,     0.02,2,     -999,9
  49UP20110515,   P13,    68,  1,     36,     109,2,20110713,0943,1208, 32.9870, 165.0068, 6238,     10.5,       10,  22.1285,  34.6080,2,    227.6,2,  34.6101,2,   227.16,2,     1.61,2,     0.02,2,     0.00,2,    0.020,2,    2.120,3,    1.402,2,-999,9,-999,9,   1974.8,2,   2274.4,2,   8.0525,2,    25.00,     0.09,2,     0.03,2,  22.1437,2
  49UP20110515,   P13,    68,  1,     35,     108,2,20110713,0943,1204, 32.9870, 165.0068, 6238,     51.2,       51,  20.1741,  34.6701,2,    231.1,2,  34.6568,4,   230.61,2,     2.71,2,     0.00,2,     0.00,2,    0.030,2,    2.259,3,    1.437,2,-999,9,-999,9,   1987.2,2,   2279.3,2,   8.0333,2,    25.00,     0.21,2,     0.12,2,  20.1544,2
  49UP20110515,   P13,    68,  1,     34,     107,2,20110713,0943,1202, 32.9870, 165.0068, 6238,    101.2,      100,  18.5620,  34.7603,2,    212.0,2,  34.7597,6,   211.64,2,     2.97,6,     2.85,6,     0.06,6,    0.190,6,    2.197,3,    1.456,2,-999,9,-999,9,   2013.9,2,   2281.3,2,   7.9966,2,    25.00,     0.18,2,     0.11,2,  18.5628,2
  49UP20110515,   P13,    68,  1,     33,     106,2,20110713,0943,1200, 32.9870, 165.0068, 6238,    150.6,      149,  17.6900,  34.7174,2,    210.0,2,  34.7178,2,   208.90,2,     4.35,2,     4.06,2,     0.03,2,    0.280,2,    2.232,3,    1.511,2,-999,9,-999,9,   2025.9,2,   2278.2,2,   7.9725,2,    25.00,     0.02,2,     0.04,2,  17.6883,2
  49UP20110515,   P13,    68,  1,     32,     105,2,20110713,0943,1158, 32.9870, 165.0068, 6238,    200.5,      199,  17.1720,  34.7154,2,    220.4,2,  34.7154,2,   219.65,6,     4.06,2,     3.78,2,     0.02,2,    0.260,2,    2.322,3,    1.561,2,-999,9,-999,9,   2022.6,2,   2279.3,2,   7.9745,2,    25.00,     0.00,2,     0.03,2,  17.1728,2
  49UP20110515,   P13,    68,  1,     31,     104,2,20110713,0943,1156, 32.9870, 165.0068, 6238,    251.6,      250,  17.0185,  34.7126,2,    221.3,2,  34.7120,2,   220.66,2,     4.13,2,     3.91,2,     0.02,2,    0.270,2,    2.356,3,    1.567,6,-999,9,-999,9,   2024.6,2,   2279.5,2,   7.9635,2,    25.00,     -999,9,     -999,9,  17.0175,2
  49UP20110515,   P13,    68,  1,     30,     103,2,20110713,0943,1154, 32.9870, 165.0068, 6238,    301.8,      299,  16.5367,  34.6686,2,    204.9,2,  34.6681,2,   204.22,2,     6.85,6,     6.30,6,     0.01,6,    0.430,6,    2.384,3,    1.553,2,-999,9,-999,9,   2040.9,2,   2278.7,2,   7.9332,2,    25.00,     -999,9,     -999,9,  16.5393,2
  49UP20110515,   P13,    68,  1,     29,     102,2,20110713,0943,1152, 32.9870, 165.0068, 6238,    405.9,      403,  14.1109,  34.5226,2,    177.7,2,  34.5235,2,   177.68,6,    16.06,2,    12.53,2,     0.01,2,    0.860,2,    2.423,3,    1.538,2,-999,9,-999,9,   2092.4,2,   2278.9,2,   7.8363,2,    25.00,     -999,9,     -999,9,  14.1096,2
  49UP20110515,   P13,    68,  1,     28,     101,2,20110713,0943,1149, 32.9870, 165.0068, 6238,    502.3,      498,  10.9966,  34.2785,2,    190.1,2,  34.2794,2,   190.02,2,    24.28,2,    16.23,2,     0.01,2,    1.140,2,    2.581,3,    1.639,2,-999,9,-999,9,   2118.6,2,   2275.2,2,   7.7608,2,    25.00,     -999,9,     -999,9,  11.0035,2
  49UP20110515,   P13,    68,  1,     27,     100,3,20110713,0943,1146, 32.9870, 165.0068, 6238,    604.7,      600,   7.9439,  34.0663,2,    169.3,2,  34.0749,2,   169.42,2,    42.28,2,    23.21,2,     0.01,2,    1.670,2,    2.644,3,    1.574,6,-999,9,-999,9,   2172.2,2,   2279.5,2,   7.6401,2,    25.00,     -999,9,     -999,9,   7.9375,2
  49UP20110515,   P13,    68,  1,     26,      99,2,20110713,0943,1143, 32.9870, 165.0068, 6238,    708.8,      703,   5.5828,  33.9960,2,    132.1,2,  33.9987,2,   131.56,2,    66.95,2,    31.40,2,     0.01,2,    2.280,2,    2.378,3,    1.353,2,-999,9,-999,9,   2234.2,2,   2295.3,2,   7.5000,2,    25.00,     -999,9,     -999,9,   5.5833,2
  49UP20110515,   P13,    68,  1,     25,      98,2,20110713,0943,1140, 32.9870, 165.0068, 6238,    809.0,      802,   4.7559,  34.0790,2,     89.4,2,  34.0787,2,    89.03,2,    86.54,2,    36.40,2,     0.00,2,    2.630,2,    1.617,3,    0.903,2,-999,9,-999,9,   2281.5,6,   2312.6,6,   7.4307,2,    25.00,     -999,9,     -999,9,   4.7567,2
  49UP20110515,   P13,    68,  1,     24,      97,2,20110713,0943,1138, 32.9870, 165.0068, 6238,    907.3,      899,   4.2728,  34.1813,2,     55.7,2,  34.1812,2,    55.35,2,   103.39,2,    40.04,2,     0.01,2,    2.870,2,    0.821,3,    0.436,2,-999,9,-999,9,   2317.6,2,   2329.9,2,   7.3626,6,    25.00,     -999,9,     -999,9,   4.2723,2
  49UP20110515,   P13,    68,  1,     23,      96,2,20110713,0943,1135, 32.9870, 165.0068, 6238,   1012.8,     1003,   3.8102,  34.2636,2,     40.0,2,  34.2625,6,    39.07,2,   116.50,6,    41.62,6,     0.00,6,    2.980,6,    0.451,3,    0.242,2,-999,9,-999,9,   2339.0,2,   2350.5,2,   7.3452,2,    25.00,     -999,9,     -999,9,   3.8099,2
  49UP20110515,   P13,    68,  1,     22,      95,2,20110713,0943,1130, 32.9870, 165.0068, 6238,   1212.3,     1200,   3.2350,  34.3782,2,     31.5,2,  34.3785,2,    30.94,2,   134.68,2,    42.97,2,     0.00,2,    3.070,2,    0.121,3,    0.063,2,-999,9,-999,9,   2364.4,2,   2371.9,2,   7.3375,2,    25.00,     -999,9,     -999,9,   3.2350,2
  49UP20110515,   P13,    68,  1,     21,      94,2,20110713,0943,1126, 32.9870, 165.0068, 6238,   1416.4,     1402,   2.7604,  34.4557,2,     31.2,2,  34.4552,2,    30.70,2,   148.65,2,    43.58,2,     0.00,2,    3.090,2,    0.012,3,    0.024,2,-999,9,-999,9,   2380.2,2,   2387.4,2,   7.3409,2,    25.00,     -999,9,     -999,9,   2.7605,2
  49UP20110515,   P13,    68,  1,     20,      93,2,20110713,0943,1122, 32.9870, 165.0068, 6238,   1618.8,     1601,   2.4398,  34.5162,2,     40.0,2,  34.5156,2,    39.75,2,   156.88,2,    43.19,2,     0.00,2,    3.050,2,    0.000,3,    0.017,2,-999,9,-999,9,   2384.1,2,   2398.7,2,   7.3598,2,    25.00,     -999,9,     -999,9,   2.4397,2
  49UP20110515,   P13,    68,  1,     19,      92,2,20110713,0943,1117, 32.9870, 165.0068, 6238,   1820.8,     1800,   2.1917,  34.5524,2,     52.6,2,  34.5505,4,    52.43,2,   161.73,2,    42.55,2,     0.00,2,    2.990,2,    0.007,3,    0.003,2,-999,9,-999,9,   2380.0,2,   2402.7,2,   7.3869,2,    25.00,     -999,9,     -999,9,   2.1917,2
  49UP20110515,   P13,    68,  1,     18,      91,2,20110713,0943,1113, 32.9870, 165.0068, 6238,   2024.1,     2000,   2.0058,  34.5866,2,     67.7,2,  34.5862,2,    67.68,2,   163.81,2,    41.52,2,     0.00,2,    2.920,2,    0.000,3,    0.000,2,-999,9,-999,9,   2371.9,2,   2411.7,2,   7.4189,2,    25.00,     -999,9,     -999,9,   2.0057,2
  49UP20110515,   P13,    68,  1,     17,      90,2,20110713,0943,1108, 32.9870, 165.0068, 6238,   2227.7,     2200,   1.8615,  34.6104,2,     81.8,2,  34.6103,2,    81.51,2,   164.09,2,    40.72,2,     0.00,2,    2.850,2,    0.000,3,    0.000,2,-999,9,-999,9,   2369.2,2,   2414.6,2,   7.4497,2,    25.00,     -999,9,     -999,9,   1.8616,2
  49UP20110515,   P13,    68,  1,     16,      89,2,20110713,0943,1104, 32.9870, 165.0068, 6238,   2432.1,     2401,   1.7703,  34.6256,2,     92.9,2,  34.6257,6,    93.07,2,   163.61,2,    39.98,2,     0.00,2,    2.820,2,    0.000,3,    0.000,2,-999,9,-999,9,   2367.2,2,   2413.6,2,   7.4681,2,    25.00,     -999,9,     -999,9,   1.7703,2
  49UP20110515,   P13,    68,  1,     15,      88,2,20110713,0943,1059, 32.9870, 165.0068, 6238,   2635.1,     2600,   1.6828,  34.6397,2,    104.3,2,  34.6398,2,   104.47,2,   162.43,2,    39.28,2,     0.00,2,    2.740,2,    0.000,3,    0.000,2,-999,9,-999,9,   2358.0,2,   2418.8,2,   7.4874,2,    25.00,     -999,9,     -999,9,   1.6830,2
  49UP20110515,   P13,    68,  1,     14,      87,2,20110713,0943,1055, 32.9870, 165.0068, 6238,   2839.3,     2800,   1.6151,  34.6515,2,    115.1,2,  34.6516,2,   115.40,2,   160.04,2,    38.57,2,     0.00,2,    2.700,2,     -999,9,     -999,9,-999,9,-999,9,   2350.2,2,   2415.0,2,   7.5052,2,    25.00,     -999,9,     -999,9,   1.6151,2
  49UP20110515,   P13,    68,  1,     13,      86,2,20110713,0943,1050, 32.9870, 165.0068, 6238,   3043.5,     3000,   1.5757,  34.6591,2,    122.7,2,  34.6590,2,   123.00,6,   158.18,2,    38.05,2,     0.00,2,    2.650,2,     -999,9,     -999,9,-999,9,-999,9,   2342.3,2,   2417.3,2,   7.5237,2,    25.00,     -999,9,     -999,9,   1.5759,2
  49UP20110515,   P13,    68,  1,     12,      85,3,20110713,0943,1045, 32.9870, 165.0068, 6238,   3299.3,     3251,   1.5301,  34.6679,2,    132.3,2,  34.6679,2,   132.28,2,   155.82,2,    37.45,2,     0.00,2,    2.600,2,     -999,9,     -999,9,-999,9,-999,9,   2336.8,2,   2419.4,2,   7.5399,2,    25.00,     -999,9,     -999,9,   1.5302,2
  49UP20110515,   P13,    68,  1,     11,     110,2,20110713,0943,1040, 32.9870, 165.0068, 6238,   3555.8,     3501,   1.5052,  34.6741,2,    139.6,2,  34.6726,4,   139.09,2,   153.81,2,    37.01,2,     0.00,2,    2.560,2,     -999,9,     -999,9,-999,9,-999,9,   2332.7,2,   2418.2,2,   7.5530,2,    25.00,     -999,9,     -999,9,   1.5052,2
  49UP20110515,   P13,    68,  1,     10,      83,3,20110713,0943,1034, 32.9870, 165.0068, 6238,   3810.7,     3750,   1.4922,  34.6783,2,    144.5,2,  34.6778,2,   144.14,2,   151.62,6,    36.65,6,     0.00,6,    2.530,6,     -999,9,     -999,9,-999,9,-999,9,   2334.1,6,   2418.6,2,   7.5606,2,    25.00,     -999,9,     -999,9,   1.4921,2
  49UP20110515,   P13,    68,  1,      9,      82,2,20110713,0943,1029, 32.9870, 165.0068, 6238,   4067.3,     4000,   1.4844,  34.6819,2,    149.1,2,  34.6815,2,   149.03,2,   150.33,2,    36.33,2,     0.00,2,    2.520,2,    0.002,3,    0.016,2,-999,9,-999,9,   2332.0,2,   2416.2,2,   7.5665,6,    25.00,     -999,9,     -999,9,   1.4845,2
  49UP20110515,   P13,    68,  1,      8,      81,2,20110713,0943,1023, 32.9870, 165.0068, 6238,   4323.9,     4250,   1.4820,  34.6850,2,    153.4,2,  34.6847,2,   153.56,2,   148.62,2,    36.06,2,     0.00,2,    2.490,2,     -999,9,     -999,9,-999,9,-999,9,   2327.6,2,   2415.8,2,   7.5767,2,    25.00,     -999,9,     -999,9,   1.4821,2
  49UP20110515,   P13,    68,  1,      7,      80,2,20110713,0943,1018, 32.9870, 165.0068, 6238,   4581.6,     4501,   1.4876,  34.6874,2,    156.9,2,  34.6865,6,   156.92,2,   146.57,2,    35.81,2,     0.00,2,    2.460,2,     -999,9,     -999,9,-999,9,-999,9,   2323.8,2,   2414.1,2,   7.5783,2,    25.00,     -999,9,     -999,9,   1.4876,2
  49UP20110515,   P13,    68,  1,      6,      79,2,20110713,0943,1013, 32.9870, 165.0068, 6238,   4838.2,     4750,   1.4921,  34.6898,2,    160.9,2,  34.6898,2,   161.18,2,   144.57,2,    35.56,2,     0.00,2,    2.450,2,     -999,9,     -999,9,-999,9,-999,9,   2323.0,2,   2412.6,2,   7.5837,2,    25.00,     -999,9,     -999,9,   1.4923,2
  49UP20110515,   P13,    68,  1,      5,      78,2,20110713,0943,1007, 32.9870, 165.0068, 6238,   5097.5,     5002,   1.5053,  34.6915,2,    163.9,2,  34.6910,2,   163.91,2,   142.00,2,    35.21,2,     0.00,2,    2.430,2,    0.000,3,    0.012,2,-999,9,-999,9,   2320.1,2,   2409.8,2,   7.5913,2,    25.00,     -999,9,     -999,9,   1.5054,2
  49UP20110515,   P13,    68,  1,      4,      77,2,20110713,0943,1002, 32.9870, 165.0068, 6238,   5352.7,     5249,   1.5168,  34.6934,2,    167.6,2,  34.6927,2,   167.48,2,   139.33,2,    35.09,2,     0.00,2,    2.410,2,     -999,9,     -999,9,-999,9,-999,9,   2315.2,2,   2407.5,2,   7.5896,2,    25.00,     -999,9,     -999,9,   1.5171,2
  49UP20110515,   P13,    68,  1,      3,      76,2,20110713,0943,0956, 32.9870, 165.0068, 6238,   5612.5,     5501,   1.5320,  34.6948,2,    170.4,2,  34.6941,2,   170.25,2,   137.19,2,    34.95,2,     0.00,2,    2.400,2,     -999,9,     -999,9,-999,9,-999,9,   2309.3,2,   2405.4,2,   7.5966,2,    25.00,     -999,9,     -999,9,   1.5321,2
  49UP20110515,   P13,    68,  1,      2,      75,2,20110713,0943,0950, 32.9870, 165.0068, 6238,   5870.0,     5750,   1.5514,  34.6960,2,    172.5,2,  34.6953,2,   172.41,2,   135.96,2,    34.70,2,     0.00,2,    2.390,2,     -999,9,     -999,9,-999,9,-999,9,   2306.8,2,   2403.6,2,   7.5990,2,    25.00,     -999,9,     -999,9,   1.5514,2
  49UP20110515,   P13,    68,  1,      1,      74,2,20110713,0943,0943, 32.9870, 165.0068, 6238,   6130.4,     6002,   1.5778,  34.6965,2,    173.9,2,  34.6964,2,   174.10,6,   135.11,2,    34.59,2,     0.00,2,    2.380,2,    0.000,3,    0.006,2,-999,9,-999,9,   2304.3,2,   2403.6,2,   7.5999,2,    25.00,     -999,9,     -999,9,   1.5777,2