BOTTLE,20240116CCHSIOVAJ
EXPOCODE,SECT_ID,STNNBR,CASTNO,SAMPNO,BTLNBR,BTLNBR_FLAG_W,DATE,TIME,BTL_TIME,LATITUDE,LONGITUDE,DEPTH,CTDPRS,CTDDEPTH,CTDTMP,CTDSAL,CTDSAL_FLAG_W,CTDOXY,CTDOXY_FLAG_W,SALNTY,SALNTY_FLAG_W,OXYGEN,OXYGEN_FLAG_W,SILCAT,SILCAT_FLAG_W,NO2+NO3,NO2+NO3_FLAG_W,NITRIT,NITRIT_FLAG_W,PHSPHT,PHSPHT_FLAG_W,CFC-11,CFC-11_FLAG_W,CFC-12,CFC-12_FLAG_W,DELC14,DELC14_FLAG_W,DELC13,DELC13_FLAG_W,TCARBN,TCARBN_FLAG_W,ALKALI,ALKALI_FLAG_W,PH_TOT,PH_TOT_FLAG_W,PH_TMP,CHLORA,CHLORA_FLAG_W,PPHYTN,PPHYTN_FLAG_W,REFTMP,REFTMP_FLAG_W
,,,,,,,,,,,,METERS,DBAR,METERS,ITS-90,PSS-78,,UMOL/KG,,PSS-78,,UMOL/KG,,UMOL/KG,,UMOL/KG,,UMOL/KG,,UMOL/KG,,PMOL/KG,,PMOL/KG,,/MILLE,,/MILLE,,UMOL/KG,,UMOL/KG,,,,DEG C,UG/KG,,UG/KG,,ITS-90,
  49UP20110515,   P13,   120,  1,      0,     BUC,2,20110807,1346,1520,  2.3158, 165.0033, 4128,      0.0,        0,  29.6554,  34.2361,2,    195.4,2,     -999,9,   193.75,2,     1.15,2,     0.04,2,     0.00,2,    0.170,2,     -999,9,     -999,9,-999,9,-999,9,     -999,9,     -999,9,     -999,9,     -999,     -999,9,     -999,9,     -999,9
  49UP20110515,   P13,   120,  1,     36,     109,2,20110807,1346,1538,  2.3158, 165.0033, 4128,     11.2,       11,  29.6563,  34.2359,2,    195.3,2,  34.2359,2,   194.69,2,     1.08,2,     0.00,2,     0.00,2,    0.100,2,     -999,9,     -999,9,-999,9,-999,9,   1912.2,2,   2248.8,2,     -999,9,     -999,     -999,9,     -999,9,  29.6553,2
  49UP20110515,   P13,   120,  1,     35,     108,2,20110807,1346,1537,  2.3158, 165.0033, 4128,     26.2,       26,  29.5620,  34.2752,2,    196.0,2,  34.2769,2,   195.33,2,     1.04,2,     0.00,2,     0.00,2,    0.100,2,     -999,9,     -999,9,-999,9,-999,9,   1914.0,2,   2251.1,2,     -999,9,     -999,     -999,9,     -999,9,  29.5641,2
  49UP20110515,   P13,   120,  1,     34,     107,2,20110807,1346,1534,  2.3158, 165.0033, 4128,     50.8,       51,  29.6252,  35.2163,2,    194.6,2,  35.2277,4,   194.14,2,     1.15,2,     0.02,2,     0.00,2,    0.210,2,     -999,9,     -999,9,-999,9,-999,9,   1980.6,2,   2313.6,2,     -999,9,     -999,     -999,9,     -999,9,  29.6382,2
  49UP20110515,   P13,   120,  1,     33,     106,2,20110807,1346,1533,  2.3158, 165.0033, 4128,     75.7,       75,  29.3214,  35.2832,2,    186.3,2,  35.2816,2,   185.92,2,     1.15,2,     0.91,2,     0.28,2,    0.290,2,     -999,9,     -999,9,-999,9,-999,9,   1999.1,2,   2317.6,2,     -999,9,     -999,     -999,9,     -999,9,  29.3210,2
  49UP20110515,   P13,   120,  1,     32,     105,2,20110807,1346,1532,  2.3158, 165.0033, 4128,    100.8,      100,  29.1225,  35.3431,2,    177.7,2,  35.3424,2,   177.65,2,     1.41,2,     2.36,2,     0.71,2,    0.370,2,     -999,9,     -999,9,-999,9,-999,9,   2007.1,2,   2321.0,2,     -999,9,     -999,     -999,9,     -999,9,  29.1143,2
  49UP20110515,   P13,   120,  1,     31,     104,2,20110807,1346,1530,  2.3158, 165.0033, 4128,    126.4,      126,  27.8438,  35.3303,2,    156.9,2,  35.3296,2,   157.68,2,     2.11,2,     5.65,2,     0.10,2,    0.540,2,     -999,9,     -999,9,-999,9,-999,9,   2033.3,2,   2318.1,2,     -999,9,     -999,     -999,9,     -999,9,  27.8395,2
  49UP20110515,   P13,   120,  1,     30,     103,2,20110807,1346,1529,  2.3158, 165.0033, 4128,    150.7,      150,  24.4364,  35.0714,2,    145.8,2,  35.0763,2,   146.47,2,     4.42,2,     7.05,2,     0.02,2,    0.600,2,     -999,9,     -999,9,-999,9,-999,9,   2046.6,2,   2304.6,2,     -999,9,     -999,     -999,9,     -999,9,  24.4327,2
  49UP20110515,   P13,   120,  1,     29,     102,2,20110807,1346,1527,  2.3158, 165.0033, 4128,    200.8,      200,  15.4539,  34.6102,2,    117.9,2,  34.5957,4,   116.32,6,    17.29,2,    17.75,2,     0.01,2,    1.320,2,     -999,9,     -999,9,-999,9,-999,9,   2141.4,2,   2282.7,2,     -999,9,     -999,     -999,9,     -999,9,  15.4560,2
  49UP20110515,   P13,   120,  1,     28,     101,2,20110807,1346,1526,  2.3158, 165.0033, 4128,    252.1,      251,  11.0574,  34.7894,2,    129.9,2,  34.7892,2,   129.74,2,    20.16,2,    23.09,2,     0.00,2,    1.660,2,     -999,9,     -999,9,-999,9,-999,9,   2177.3,2,   2310.6,2,     -999,9,     -999,     -999,9,     -999,9,  11.0570,2
  49UP20110515,   P13,   120,  1,     27,     100,2,20110807,1346,1524,  2.3158, 165.0033, 4128,    302.8,      301,  10.5628,  34.7570,2,     97.8,2,  34.7563,2,    97.51,2,    24.17,2,    27.39,2,     0.00,2,    1.920,2,     -999,9,     -999,9,-999,9,-999,9,   2204.8,2,   2301.9,2,     -999,9,     -999,     -999,9,     -999,9,  10.5627,2
  49UP20110515,   P13,   120,  1,     26,      99,2,20110807,1346,1522,  2.3158, 165.0033, 4128,    352.3,      350,  10.0263,  34.7183,2,     96.8,2,  34.7172,2,    96.34,2,    26.26,6,    28.58,6,     0.00,6,    2.010,6,     -999,9,     -999,9,-999,9,-999,9,   2212.3,2,   2304.9,2,     -999,9,     -999,     -999,9,     -999,9,  10.0284,2
  49UP20110515,   P13,   120,  1,     25,      98,2,20110807,1346,1519,  2.3158, 165.0033, 4128,    403.5,      401,   9.3394,  34.6682,2,    110.4,2,  34.6680,2,   110.05,2,    28.26,2,    28.49,2,     0.00,2,    2.000,2,     -999,9,     -999,9,-999,9,-999,9,   2206.9,2,   2302.3,2,     -999,9,     -999,     -999,9,     -999,9,   9.3383,2
  49UP20110515,   P13,   120,  1,     24,      97,2,20110807,1346,1515,  2.3158, 165.0033, 4128,    504.3,      501,   7.7505,  34.5804,2,     84.3,2,  34.5799,6,    83.53,2,    40.89,2,    33.92,2,     0.00,2,    2.410,2,     -999,9,     -999,9,-999,9,-999,9,   2243.5,2,   2309.6,2,     -999,9,     -999,     -999,9,     -999,9,   7.7517,2
  49UP20110515,   P13,   120,  1,     23,      96,2,20110807,1346,1512,  2.3158, 165.0033, 4128,    604.3,      600,   6.6333,  34.5478,2,     97.4,2,  34.5475,2,    97.13,2,    47.62,2,    35.13,2,     0.00,2,    2.480,2,     -999,9,     -999,9,-999,9,-999,9,   2247.1,2,   2316.1,2,     -999,9,     -999,     -999,9,     -999,9,   6.6335,2
  49UP20110515,   P13,   120,  1,     22,      95,2,20110807,1346,1512,  2.3158, 165.0033, 4128,    604.3,      600,   6.6333,  34.5478,2,     97.4,2,  34.5477,2,    97.09,2,    47.59,6,    35.06,6,     0.00,6,    2.480,6,     -999,9,     -999,9,-999,9,-999,9,   2246.3,2,   2314.6,2,     -999,9,     -999,     -999,9,     -999,9,   6.6335,2
  49UP20110515,   P13,   120,  1,     21,      94,2,20110807,1346,1509,  2.3158, 165.0033, 4128,    705.9,      701,   5.8795,  34.5320,2,    102.7,2,  34.5324,2,   102.47,2,    58.29,2,    35.59,2,     0.00,2,    2.530,2,     -999,9,     -999,9,-999,9,-999,9,   2259.2,2,   2326.9,2,     -999,9,     -999,     -999,9,     -999,9,   5.8784,2
  49UP20110515,   P13,   120,  1,     20,      93,2,20110807,1346,1507,  2.3158, 165.0033, 4128,    805.9,      800,   5.2979,  34.5363,2,    100.7,2,  34.5366,2,   100.32,6,    66.97,2,    36.80,2,     0.00,2,    2.620,2,     -999,9,     -999,9,-999,9,-999,9,   2270.8,2,   2337.1,2,     -999,9,     -999,     -999,9,     -999,9,   5.2978,2
  49UP20110515,   P13,   120,  1,     19,      92,2,20110807,1346,1504,  2.3158, 165.0033, 4128,    908.1,      901,   4.8419,  34.5435,2,    101.1,2,  34.5437,2,   101.07,2,    77.25,2,    37.19,2,     0.00,2,    2.630,2,     -999,9,     -999,9,-999,9,-999,9,     -999,9,     -999,9,     -999,9,     -999,     -999,9,     -999,9,   4.8419,2
  49UP20110515,   P13,   120,  1,     18,      91,2,20110807,1346,1500,  2.3158, 165.0033, 4128,   1008.6,     1001,   4.5613,  34.5536,2,     94.2,2,  34.5531,2,    94.10,2,    85.94,2,    38.12,2,     0.00,2,    2.700,2,     -999,9,     -999,9,-999,9,-999,9,     -999,9,     -999,9,     -999,9,     -999,     -999,9,     -999,9,   4.5629,2
  49UP20110515,   P13,   120,  1,     17,      90,2,20110807,1346,1454,  2.3158, 165.0033, 4128,   1211.6,     1201,   3.8163,  34.5738,2,     90.3,2,  34.5732,2,    90.08,2,   102.25,2,    39.11,2,     0.00,2,    2.800,2,     -999,9,     -999,9,-999,9,-999,9,     -999,9,     -999,9,     -999,9,     -999,     -999,9,     -999,9,   3.8162,2
  49UP20110515,   P13,   120,  1,     16,      89,2,20110807,1346,1454,  2.3158, 165.0033, 4128,   1211.6,     1201,   3.8163,  34.5738,2,     90.3,2,  34.5729,2,    90.05,2,   101.98,2,    39.25,2,     0.00,2,    2.800,2,     -999,9,     -999,9,-999,9,-999,9,     -999,9,     -999,9,     -999,9,     -999,     -999,9,     -999,9,   3.8162,2
  49UP20110515,   P13,   120,  1,     15,      88,2,20110807,1346,1450,  2.3158, 165.0033, 4128,   1414.6,     1402,   3.2192,  34.5929,2,     98.9,2,  34.5917,2,    98.59,6,   114.87,6,    38.86,6,     0.00,6,    2.770,6,     -999,9,     -999,9,-999,9,-999,9,     -999,9,     -999,9,     -999,9,     -999,     -999,9,     -999,9,   3.2194,2
  49UP20110515,   P13,   120,  1,     14,      87,2,20110807,1346,1443,  2.3158, 165.0033, 4128,   1616.4,     1601,   2.8064,  34.6090,2,    104.9,2,  34.6083,6,   104.74,2,   123.63,2,    38.63,2,     0.00,2,    2.730,2,     -999,9,     -999,9,-999,9,-999,9,     -999,9,     -999,9,     -999,9,     -999,     -999,9,     -999,9,   2.8064,2
  49UP20110515,   P13,   120,  1,     13,      86,3,20110807,1346,1438,  2.3158, 165.0033, 4128,   1818.1,     1800,   2.4345,  34.6265,2,    108.2,2,  34.6265,2,   108.04,2,   132.74,2,    38.73,2,     0.00,2,    2.730,2,     -999,9,     -999,9,-999,9,-999,9,     -999,9,     -999,9,     -999,9,     -999,     -999,9,     -999,9,   2.4348,2
  49UP20110515,   P13,   120,  1,     12,      74,2,20110807,1346,1434,  2.3158, 165.0033, 4128,   2022.5,     2002,   2.2011,  34.6389,2,    114.3,2,  34.6390,2,   114.35,2,   137.30,2,    38.55,2,     0.00,2,    2.700,2,     -999,9,     -999,9,-999,9,-999,9,     -999,9,     -999,9,     -999,9,     -999,     -999,9,     -999,9,   2.2013,2
  49UP20110515,   P13,   120,  1,     11,     110,2,20110807,1346,1429,  2.3158, 165.0033, 4128,   2225.2,     2201,   2.0048,  34.6498,2,    119.4,2,  34.6496,2,   119.16,2,   141.51,2,    38.29,2,     0.00,2,    2.680,2,     -999,9,     -999,9,-999,9,-999,9,     -999,9,     -999,9,     -999,9,     -999,     -999,9,     -999,9,   2.0047,2
  49UP20110515,   P13,   120,  1,     10,      83,3,20110807,1346,1425,  2.3158, 165.0033, 4128,   2427.9,     2401,   1.8737,  34.6587,2,    121.4,2,  34.6586,6,   121.18,2,   145.48,2,    38.07,2,     0.00,2,    2.660,2,     -999,9,     -999,9,-999,9,-999,9,     -999,9,     -999,9,     -999,9,     -999,     -999,9,     -999,9,   1.8738,2
  49UP20110515,   P13,   120,  1,      9,      82,2,20110807,1346,1425,  2.3158, 165.0033, 4128,   2427.9,     2401,   1.8737,  34.6587,2,    121.4,2,  34.6581,2,   120.95,6,   146.16,2,    38.30,2,     0.00,2,    2.670,2,     -999,9,     -999,9,-999,9,-999,9,     -999,9,     -999,9,     -999,9,     -999,     -999,9,     -999,9,   1.8738,2
  49UP20110515,   P13,   120,  1,      8,      81,2,20110807,1346,1420,  2.3158, 165.0033, 4128,   2631.2,     2600,   1.7770,  34.6637,2,    127.0,2,  34.6634,2,   126.92,2,   146.27,2,    37.76,2,     0.00,2,    2.640,2,     -999,9,     -999,9,-999,9,-999,9,     -999,9,     -999,9,     -999,9,     -999,     -999,9,     -999,9,   1.7771,2
  49UP20110515,   P13,   120,  1,      7,      80,2,20110807,1346,1415,  2.3158, 165.0033, 4128,   2836.1,     2802,   1.6986,  34.6678,2,    132.6,2,  34.6676,2,   132.07,2,   146.17,2,    37.48,2,     0.00,2,    2.600,2,     -999,9,     -999,9,-999,9,-999,9,     -999,9,     -999,9,     -999,9,     -999,     -999,9,     -999,9,   1.6986,2
  49UP20110515,   P13,   120,  1,      6,      79,2,20110807,1346,1411,  2.3158, 165.0033, 4128,   3039.7,     3001,   1.6372,  34.6716,2,    137.6,2,  34.6707,2,   137.32,2,   146.04,2,    36.91,2,     0.00,2,    2.580,2,     -999,9,     -999,9,-999,9,-999,9,     -999,9,     -999,9,     -999,9,     -999,     -999,9,     -999,9,   1.6375,2
  49UP20110515,   P13,   120,  1,      5,      78,3,20110807,1346,1406,  2.3158, 165.0033, 4128,   3294.8,     3251,   1.5886,  34.6753,2,    142.7,2,  34.6757,2,   142.69,2,   145.08,2,    36.69,2,     0.00,2,    2.550,2,     -999,9,     -999,9,-999,9,-999,9,     -999,9,     -999,9,     -999,9,     -999,     -999,9,     -999,9,   1.5886,2
  49UP20110515,   P13,   120,  1,      4,      77,2,20110807,1346,1400,  2.3158, 165.0033, 4128,   3550.4,     3501,   1.5232,  34.6809,2,    149.4,2,  34.6812,6,   149.53,2,   144.22,2,    36.31,2,     0.00,2,    2.510,2,     -999,9,     -999,9,-999,9,-999,9,     -999,9,     -999,9,     -999,9,     -999,     -999,9,     -999,9,   1.5233,2
  49UP20110515,   P13,   120,  1,      3,      76,2,20110807,1346,1355,  2.3158, 165.0033, 4128,   3805.6,     3751,   1.4698,  34.6862,2,    157.1,2,  34.6881,4,   157.14,2,   140.99,6,    35.70,6,     0.00,6,    2.470,6,     -999,9,     -999,9,-999,9,-999,9,     -999,9,     -999,9,     -999,9,     -999,     -999,9,     -999,9,   1.4696,2
  49UP20110515,   P13,   120,  1,      2,      75,2,20110807,1346,1350,  2.3158, 165.0033, 4128,   4062.4,     4002,   1.4277,  34.6909,2,    165.0,2,  34.6904,2,   165.09,2,   137.67,2,    35.04,2,     0.00,2,    2.430,2,     -999,9,     -999,9,-999,9,-999,9,     -999,9,     -999,9,     -999,9,     -999,     -999,9,     -999,9,   1.4275,2
  49UP20110515,   P13,   120,  1,      1,     112,2,20110807,1346,1346,  2.3158, 165.0033, 4128,   4174.7,     4111,   1.4030,  34.6936,2,    169.5,2,  34.6934,2,   169.38,2,   135.44,2,    34.90,2,     0.00,2,    2.410,2,     -999,9,     -999,9,-999,9,-999,9,     -999,9,     -999,9,     -999,9,     -999,     -999,9,     -999,9,   1.4029,2