BOTTLE,20240116CCHSIOVAJ
EXPOCODE,SECT_ID,STNNBR,CASTNO,SAMPNO,BTLNBR,BTLNBR_FLAG_W,DATE,TIME,BTL_TIME,LATITUDE,LONGITUDE,DEPTH,CTDPRS,CTDDEPTH,CTDTMP,CTDSAL,CTDSAL_FLAG_W,CTDOXY,CTDOXY_FLAG_W,SALNTY,SALNTY_FLAG_W,OXYGEN,OXYGEN_FLAG_W,SILCAT,SILCAT_FLAG_W,NO2+NO3,NO2+NO3_FLAG_W,NITRIT,NITRIT_FLAG_W,PHSPHT,PHSPHT_FLAG_W,CFC-11,CFC-11_FLAG_W,CFC-12,CFC-12_FLAG_W,DELC14,DELC14_FLAG_W,DELC13,DELC13_FLAG_W,TCARBN,TCARBN_FLAG_W,ALKALI,ALKALI_FLAG_W,PH_TOT,PH_TOT_FLAG_W,PH_TMP,CHLORA,CHLORA_FLAG_W,PPHYTN,PPHYTN_FLAG_W,REFTMP,REFTMP_FLAG_W
,,,,,,,,,,,,METERS,DBAR,METERS,ITS-90,PSS-78,,UMOL/KG,,PSS-78,,UMOL/KG,,UMOL/KG,,UMOL/KG,,UMOL/KG,,UMOL/KG,,PMOL/KG,,PMOL/KG,,/MILLE,,/MILLE,,UMOL/KG,,UMOL/KG,,,,DEG C,UG/KG,,UG/KG,,ITS-90,
  49UP20110515,   P13,   108,  1,      0,     BUC,2,20110804,0651,0845,  8.0073, 163.9690, 5169,      0.0,        0,  28.9779,  34.1640,2,    196.9,2,     -999,9,   196.71,2,     0.84,2,     0.00,2,     0.00,2,    0.110,2,     -999,9,     -999,9,-999,9,-999,9,     -999,9,     -999,9,     -999,9,     -999,     0.06,2,     0.02,2,     -999,9
  49UP20110515,   P13,   108,  1,     36,     109,2,20110804,0651,0905,  8.0073, 163.9690, 5169,     10.6,       11,  28.9765,  34.1643,2,    196.7,2,  34.1633,2,   196.38,2,     0.78,2,     0.00,2,     0.00,2,    0.110,2,    1.774,3,    1.028,2,-999,9,-999,9,   1911.2,2,   2240.2,2,   8.1206,2,    25.00,     0.06,2,     0.02,2,  28.9784,2
  49UP20110515,   P13,   108,  1,     35,     108,2,20110804,0651,0904,  8.0073, 163.9690, 5169,     25.3,       25,  28.9860,  34.1642,2,    196.6,2,  34.1643,2,   196.26,2,     0.54,2,     0.00,2,     0.00,2,    0.100,2,    1.779,3,    1.012,2,-999,9,-999,9,   1910.7,2,   2239.7,2,   8.1192,2,    25.00,     0.06,2,     0.02,2,  28.9870,2
  49UP20110515,   P13,   108,  1,     34,     107,2,20110804,0651,0903,  8.0073, 163.9690, 5169,     50.8,       51,  29.0032,  34.1771,2,    196.3,2,  34.1761,2,   196.02,2,     0.70,2,     0.00,2,     0.00,2,    0.100,2,    1.804,3,    1.026,2,-999,9,-999,9,   1909.4,2,   2242.5,2,   8.1209,2,    25.00,     0.06,2,     0.03,2,  29.0058,2
  49UP20110515,   P13,   108,  1,     33,     106,2,20110804,0651,0901,  8.0073, 163.9690, 5169,     76.0,       76,  28.9665,  34.3591,2,    196.5,2,  34.3723,4,   196.93,6,     0.68,2,     0.00,2,     0.00,2,    0.090,2,    1.820,3,    1.036,2,-999,9,-999,9,   1919.0,2,   2253.1,2,   8.1184,2,    25.00,     0.11,2,     0.04,2,  28.9666,2
  49UP20110515,   P13,   108,  1,     32,     105,2,20110804,0651,0900,  8.0073, 163.9690, 5169,    101.9,      101,  27.2706,  34.8473,2,    201.4,2,  34.8268,4,   201.48,2,     0.80,2,     0.00,2,     0.00,2,    0.120,2,    1.999,3,    1.107,2,-999,9,-999,9,   1971.1,2,   2283.2,2,   8.0789,2,    25.00,     0.23,2,     0.18,2,  27.3608,2
  49UP20110515,   P13,   108,  1,     31,     104,2,20110804,0651,0858,  8.0073, 163.9690, 5169,    126.8,      126,  22.6063,  34.9459,2,    162.4,2,  34.9549,4,   163.91,2,     3.16,2,     4.31,2,     0.12,2,    0.440,2,    2.215,3,    1.284,6,-999,9,-999,9,   2052.7,2,   2296.5,2,   7.9571,2,    25.00,     0.15,2,     0.30,2,  22.6069,2
  49UP20110515,   P13,   108,  1,     30,     103,2,20110804,0651,0856,  8.0073, 163.9690, 5169,    150.7,      150,  18.1453,  34.7977,2,    159.2,2,  34.8086,4,   161.20,6,     5.52,2,     7.29,2,     0.01,2,    0.620,2,    2.505,3,    1.458,2,-999,9,-999,9,   2087.8,2,   2290.6,2,   7.8768,2,    25.00,     0.05,2,     0.14,2,  18.1706,2
  49UP20110515,   P13,   108,  1,     29,     102,2,20110804,0651,0854,  8.0073, 163.9690, 5169,    203.7,      202,  11.8883,  34.5016,2,     73.0,2,  34.4984,2,    73.88,2,    23.88,6,    25.66,6,     0.00,6,    1.900,6,    1.745,3,    0.923,2,-999,9,-999,9,   2199.9,2,   2278.0,2,   7.5837,2,    25.00,     0.01,2,     0.03,2,  11.8898,2
  49UP20110515,   P13,   108,  1,     28,     101,2,20110804,0651,0852,  8.0073, 163.9690, 5169,    252.2,      251,  10.4640,  34.5871,2,     42.6,2,  34.5864,2,    43.00,2,    31.32,2,    31.88,2,     0.00,2,    2.300,2,    0.947,3,    0.457,2,-999,9,-999,9,   2250.0,2,   2293.0,2,   7.4953,6,    25.00,     -999,9,     -999,9,  10.4667,2
  49UP20110515,   P13,   108,  1,     27,     100,2,20110804,0651,0851,  8.0073, 163.9690, 5169,    302.6,      301,   9.6264,  34.6188,2,     42.4,2,  34.6171,2,    43.21,2,    34.95,2,    33.70,2,     0.00,2,    2.390,2,    0.564,3,    0.271,6,-999,9,-999,9,   2251.2,2,   2299.0,2,   7.4818,2,    25.00,     -999,9,     -999,9,   9.6272,2
  49UP20110515,   P13,   108,  1,     26,      99,2,20110804,0651,0848,  8.0073, 163.9690, 5169,    401.8,      399,   8.5735,  34.5845,2,     53.8,2,  34.5827,2,    53.76,2,    40.57,2,    34.79,2,     0.00,2,    2.460,2,    0.374,3,    0.178,2,-999,9,-999,9,   2253.7,6,   2302.3,2,   7.4850,2,    25.00,     -999,9,     -999,9,   8.5758,2
  49UP20110515,   P13,   108,  1,     25,      98,2,20110804,0651,0842,  8.0073, 163.9690, 5169,    505.1,      502,   7.6929,  34.5631,2,     53.4,2,  34.5610,2,    54.09,2,    47.48,6,    36.32,6,     0.00,6,    2.600,6,    0.226,3,    0.101,2,-999,9,-999,9,   2265.9,2,   2310.7,2,   7.4680,2,    25.00,     -999,9,     -999,9,   7.6928,2
  49UP20110515,   P13,   108,  1,     24,      97,2,20110804,0651,0839,  8.0073, 163.9690, 5169,    606.4,      602,   6.8227,  34.5379,2,     59.2,2,  34.5368,2,    59.58,2,    56.61,2,    37.43,2,     0.00,2,    2.670,2,    0.132,3,    0.060,2,-999,9,-999,9,   2276.3,2,   2316.3,2,   7.4656,2,    25.00,     -999,9,     -999,9,   6.8232,2
  49UP20110515,   P13,   108,  1,     23,      96,2,20110804,0651,0836,  8.0073, 163.9690, 5169,    708.5,      703,   6.1956,  34.5355,2,     55.8,2,  34.5347,2,    56.31,2,    64.67,2,    38.98,2,     0.00,2,    2.790,2,    0.062,3,    0.027,2,-999,9,-999,9,   2286.9,2,   2323.8,2,   7.4534,2,    25.00,     -999,9,     -999,9,   6.1959,2
  49UP20110515,   P13,   108,  1,     22,      95,2,20110804,0651,0832,  8.0073, 163.9690, 5169,    805.0,      799,   5.5720,  34.5385,2,     59.7,2,  34.5373,2,    59.88,2,    73.39,2,    39.87,2,     0.00,2,    2.850,2,    0.046,3,    0.007,2,-999,9,-999,9,   2297.6,2,   2335.1,2,   7.4540,2,    25.00,     -999,9,     -999,9,   5.5751,2
  49UP20110515,   P13,   108,  1,     21,      94,2,20110804,0651,0829,  8.0073, 163.9690, 5169,    907.1,      900,   5.0635,  34.5445,2,     64.6,2,  34.5433,2,    65.04,2,    81.81,2,    40.05,2,     0.00,2,    2.860,2,    0.020,3,    0.000,2,-999,9,-999,9,   2305.6,2,   2347.7,2,   7.4517,2,    25.00,     -999,9,     -999,9,   5.0623,2
  49UP20110515,   P13,   108,  1,     20,      93,3,20110804,0651,0825,  8.0073, 163.9690, 5169,   1009.0,     1001,   4.5889,  34.5528,2,     72.7,2,  34.5522,2,    75.26,4,    90.35,2,    39.75,2,     0.00,2,    2.840,2,    0.025,3,    0.004,2,-999,9,-999,9,   2309.7,2,   2352.5,2,   7.4665,2,    25.00,     -999,9,     -999,9,   4.5913,2
  49UP20110515,   P13,   108,  1,     19,      92,2,20110804,0651,0820,  8.0073, 163.9690, 5169,   1212.0,     1202,   3.7821,  34.5728,2,     81.8,2,  34.5722,2,    82.48,2,   106.97,2,    39.83,2,     0.00,2,    2.820,2,     -999,9,     -999,9,-999,9,-999,9,   2324.1,2,   2372.5,2,   7.4755,2,    25.00,     -999,9,     -999,9,   3.7824,2
  49UP20110515,   P13,   108,  1,     18,      91,2,20110804,0651,0814,  8.0073, 163.9690, 5169,   1414.4,     1402,   3.3074,  34.5883,2,     86.2,2,  34.5880,6,    86.34,2,   117.33,6,    39.85,6,     0.00,6,    2.830,6,     -999,9,     -999,9,-999,9,-999,9,   2330.8,2,   2382.3,2,   7.4812,2,    25.00,     -999,9,     -999,9,   3.3074,2
  49UP20110515,   P13,   108,  1,     17,      90,2,20110804,0651,0809,  8.0073, 163.9690, 5169,   1616.9,     1602,   2.7368,  34.6096,2,     93.3,2,  34.6092,2,    93.46,6,   130.70,2,    39.79,2,     0.00,2,    2.800,2,     -999,9,     -999,9,-999,9,-999,9,   2340.8,2,   2396.9,2,   7.4913,2,    25.00,     -999,9,     -999,9,   2.7371,2
  49UP20110515,   P13,   108,  1,     16,      89,2,20110804,0651,0805,  8.0073, 163.9690, 5169,   1819.2,     1801,   2.3451,  34.6280,2,    100.7,2,  34.6271,2,   101.26,2,   139.12,2,    39.39,2,     0.00,2,    2.760,2,    0.000,3,    0.000,2,-999,9,-999,9,   2349.7,2,   2404.7,2,   7.5022,2,    25.00,     -999,9,     -999,9,   2.3451,2
  49UP20110515,   P13,   108,  1,     15,      88,2,20110804,0651,0759,  8.0073, 163.9690, 5169,   2023.8,     2003,   2.1452,  34.6393,2,    106.1,2,  34.6383,2,   106.38,2,   143.85,2,    39.15,2,     0.00,2,    2.740,2,     -999,9,     -999,9,-999,9,-999,9,   2353.9,6,   2413.9,6,   7.5124,2,    25.00,     -999,9,     -999,9,   2.1454,2
  49UP20110515,   P13,   108,  1,     14,      87,2,20110804,0651,0754,  8.0073, 163.9690, 5169,   2225.9,     2202,   1.9771,  34.6509,2,    113.4,2,  34.6502,2,   113.48,2,   146.20,2,    38.75,2,     0.00,2,    2.700,2,     -999,9,     -999,9,-999,9,-999,9,   2349.9,2,   2415.5,2,   7.5230,6,    25.00,     -999,9,     -999,9,   1.9772,2
  49UP20110515,   P13,   108,  1,     13,      86,2,20110804,0651,0749,  8.0073, 163.9690, 5169,   2427.5,     2400,   1.8828,  34.6569,2,    118.3,2,  34.6560,2,   119.55,4,   147.86,2,    38.41,2,     0.00,2,    2.680,2,     -999,9,     -999,9,-999,9,-999,9,   2348.3,2,   2416.6,2,   7.5313,2,    25.00,     -999,9,     -999,9,   1.8828,2
  49UP20110515,   P13,   108,  1,     12,      74,2,20110804,0651,0745,  8.0073, 163.9690, 5169,   2632.2,     2601,   1.8075,  34.6613,2,    122.4,2,  34.6627,2,   124.33,4,   149.33,2,    38.02,2,     0.00,2,    2.640,2,    0.000,3,    0.000,2,-999,9,-999,9,   2347.7,2,   2419.6,2,   7.5390,2,    25.00,     -999,9,     -999,9,   1.8076,2
  49UP20110515,   P13,   108,  1,     11,     110,2,20110804,0651,0740,  8.0073, 163.9690, 5169,   2836.8,     2802,   1.7398,  34.6660,2,    126.2,2,  34.6650,6,   126.25,2,   149.80,2,    37.82,2,     0.00,2,    2.640,2,     -999,9,     -999,9,-999,9,-999,9,   2347.1,2,   2419.3,2,   7.5448,2,    25.00,     -999,9,     -999,9,   1.7400,2
  49UP20110515,   P13,   108,  1,     10,      83,2,20110804,0651,0735,  8.0073, 163.9690, 5169,   3040.3,     3002,   1.6641,  34.6706,2,    131.9,2,  34.6703,2,   131.66,2,   149.59,2,    37.33,2,     0.00,2,    2.600,2,     -999,9,     -999,9,-999,9,-999,9,   2341.9,2,   2420.0,2,   7.5513,2,    25.00,     -999,9,     -999,9,   1.6645,2
  49UP20110515,   P13,   108,  1,      9,      82,2,20110804,0651,0730,  8.0073, 163.9690, 5169,   3294.5,     3251,   1.5829,  34.6762,2,    140.8,2,  34.6748,2,   139.92,2,   147.34,2,    36.95,2,     0.00,2,    2.560,2,     -999,9,     -999,9,-999,9,-999,9,   2336.8,2,   2415.4,3,   7.5633,2,    25.00,     -999,9,     -999,9,   1.5828,2
  49UP20110515,   P13,   108,  1,      8,      81,2,20110804,0651,0725,  8.0073, 163.9690, 5169,   3549.6,     3500,   1.5128,  34.6817,2,    148.5,2,  34.6813,2,   148.52,2,   145.54,2,    36.43,2,     0.00,2,    2.520,2,    0.016,3,    0.000,2,-999,9,-999,9,   2328.3,6,   2416.9,2,   7.5751,2,    25.00,     -999,9,     -999,9,   1.5129,2
  49UP20110515,   P13,   108,  1,      7,      80,2,20110804,0651,0720,  8.0073, 163.9690, 5169,   3805.2,     3750,   1.4619,  34.6867,2,    156.1,2,  34.6848,4,   154.83,2,   142.92,2,    35.94,2,     0.00,2,    2.480,2,    0.055,3,    0.000,2,-999,9,-999,9,   2322.1,2,   2411.6,2,   7.5807,6,    25.00,     -999,9,     -999,9,   1.4621,2
  49UP20110515,   P13,   108,  1,      6,      79,2,20110804,0651,0714,  8.0073, 163.9690, 5169,   4059.9,     3999,   1.4261,  34.6907,2,    163.4,2,  34.6905,2,   163.84,6,   139.03,6,    35.26,6,     0.00,6,    2.450,6,    0.038,3,    0.000,2,-999,9,-999,9,   2312.7,2,   2403.1,3,   7.5909,2,    25.00,     -999,9,     -999,9,   1.4261,2
  49UP20110515,   P13,   108,  1,      5,      78,2,20110804,0651,0709,  8.0073, 163.9690, 5169,   4316.5,     4249,   1.4080,  34.6942,2,    169.5,2,  34.6935,2,   169.56,2,   135.66,2,    34.78,2,     0.00,2,    2.400,2,    0.023,3,    0.000,2,-999,9,-999,9,   2308.2,2,   2401.9,2,   7.5988,2,    25.00,     -999,9,     -999,9,   1.4082,2
  49UP20110515,   P13,   108,  1,      4,      77,2,20110804,0651,0704,  8.0073, 163.9690, 5169,   4574.4,     4500,   1.3956,  34.6969,2,    174.9,2,  34.6963,2,   175.35,2,   131.97,2,    34.35,2,     0.00,2,    2.370,2,    0.002,3,    0.000,2,-999,9,-999,9,   2302.0,2,   2396.4,2,   7.6033,2,    25.00,     -999,9,     -999,9,   1.3956,2
  49UP20110515,   P13,   108,  1,      3,      76,2,20110804,0651,0659,  8.0073, 163.9690, 5169,   4830.0,     4749,   1.3858,  34.6992,2,    179.6,2,  34.6979,2,   178.54,2,   130.27,2,    34.19,2,     0.00,2,    2.360,2,    0.037,3,    0.007,2,-999,9,-999,9,   2294.5,2,   2394.0,2,   7.6052,2,    25.00,     -999,9,     -999,9,   1.3860,2
  49UP20110515,   P13,   108,  1,      2,      75,2,20110804,0651,0654,  8.0073, 163.9690, 5169,   5086.1,     4998,   1.3888,  34.7008,2,    183.0,2,  34.7006,6,   183.58,2,   128.05,2,    33.85,2,     0.00,2,    2.330,2,    0.002,3,    0.000,2,-999,9,-999,9,   2292.9,2,   2388.6,2,   7.6063,2,    25.00,     -999,9,     -999,9,   1.3887,2
  49UP20110515,   P13,   108,  1,      1,     112,2,20110804,0651,0651,  8.0073, 163.9690, 5169,   5221.6,     5130,   1.4032,  34.7011,2,    183.4,2,  34.6982,4,   179.86,3,   128.66,2,    33.94,2,     0.00,2,    2.350,2,    0.015,3,    0.000,6,-999,9,-999,9,   2292.7,2,   2389.9,2,   7.6036,2,    25.00,     -999,9,     -999,9,   1.4033,2