BOTTLE,20240116CCHSIOVAJ
EXPOCODE,SECT_ID,STNNBR,CASTNO,SAMPNO,BTLNBR,BTLNBR_FLAG_W,DATE,TIME,BTL_TIME,LATITUDE,LONGITUDE,DEPTH,CTDPRS,CTDDEPTH,CTDTMP,CTDSAL,CTDSAL_FLAG_W,CTDOXY,CTDOXY_FLAG_W,SALNTY,SALNTY_FLAG_W,OXYGEN,OXYGEN_FLAG_W,SILCAT,SILCAT_FLAG_W,NO2+NO3,NO2+NO3_FLAG_W,NITRIT,NITRIT_FLAG_W,PHSPHT,PHSPHT_FLAG_W,CFC-11,CFC-11_FLAG_W,CFC-12,CFC-12_FLAG_W,DELC14,DELC14_FLAG_W,DELC13,DELC13_FLAG_W,TCARBN,TCARBN_FLAG_W,ALKALI,ALKALI_FLAG_W,PH_TOT,PH_TOT_FLAG_W,PH_TMP,CHLORA,CHLORA_FLAG_W,PPHYTN,PPHYTN_FLAG_W,REFTMP,REFTMP_FLAG_W
,,,,,,,,,,,,METERS,DBAR,METERS,ITS-90,PSS-78,,UMOL/KG,,PSS-78,,UMOL/KG,,UMOL/KG,,UMOL/KG,,UMOL/KG,,UMOL/KG,,PMOL/KG,,PMOL/KG,,/MILLE,,/MILLE,,UMOL/KG,,UMOL/KG,,,,DEG C,UG/KG,,UG/KG,,ITS-90,
  49UP20110515,   P13,    95,  1,      0,     BUC,2,20110722,1016,1235, 13.9992, 164.9800, 5348,      0.0,        0,  28.8126,  34.7673,2,    197.4,2,     -999,9,   196.93,2,     1.05,2,     0.01,2,     0.00,2,    0.160,2,     -999,9,     -999,9,-999,9,-999,9,     -999,9,     -999,9,     -999,9,     -999,     0.05,2,     0.02,2,     -999,9
  49UP20110515,   P13,    95,  1,     36,     109,2,20110722,1016,1255, 13.9992, 164.9800, 5348,     10.8,       11,  28.8142,  34.7673,2,    197.3,2,  34.7658,6,   196.96,4,     1.03,2,     0.02,2,     0.00,2,    0.110,2,    1.723,3,    1.042,2,-999,9,-999,9,   1949.7,2,   2284.0,2,   8.1103,2,    25.00,     0.05,2,     0.01,2,  28.8146,2
  49UP20110515,   P13,    95,  1,     35,     108,2,20110722,1016,1247, 13.9992, 164.9800, 5348,     50.4,       50,  28.8320,  34.7710,2,    196.6,2,  34.7688,2,   196.82,2,     0.99,2,     0.02,2,     0.00,2,    0.120,2,    1.733,3,    1.058,2,-999,9,-999,9,   1948.1,2,   2284.0,2,   8.1134,2,    25.00,     0.06,2,     0.01,2,  28.8318,2
  49UP20110515,   P13,    95,  1,     34,     107,2,20110722,1016,1245, 13.9992, 164.9800, 5348,    100.6,      100,  26.1081,  35.2500,2,    204.4,2,  35.2486,2,   204.68,2,     0.84,2,     0.01,2,     0.00,2,    0.080,2,    1.988,3,    1.170,2,-999,9,-999,9,   1985.4,2,   2317.2,2,   8.0884,2,    25.00,     0.14,2,     0.05,2,  26.1006,2
  49UP20110515,   P13,    95,  1,     33,     106,2,20110722,1016,1243, 13.9992, 164.9800, 5348,    151.2,      150,  23.5212,  35.3145,2,    189.6,2,  35.3153,2,   190.58,6,     1.42,2,     0.38,2,     0.15,2,    0.120,2,    2.029,3,    1.284,2,-999,9,-999,9,   2027.0,2,   2321.1,2,   8.0313,2,    25.00,     0.17,2,     0.23,2,  23.5132,2
  49UP20110515,   P13,    95,  1,     32,     105,2,20110722,1016,1241, 13.9992, 164.9800, 5348,    202.1,      201,  17.9751,  34.7534,2,    198.0,2,  34.7555,2,   198.73,2,     3.53,6,     3.81,6,     0.01,6,    0.300,6,    2.439,3,    1.544,2,-999,9,-999,9,   2035.7,2,   2282.1,2,   7.9548,2,    25.00,     0.02,2,     0.02,2,  17.9694,2
  49UP20110515,   P13,    95,  1,     31,     104,2,20110722,1016,1239, 13.9992, 164.9800, 5348,    252.8,      251,  14.9545,  34.5184,2,    180.9,2,  34.5219,2,   180.53,2,     8.27,2,     9.43,2,     0.00,2,    0.710,2,    2.772,3,    1.689,6,-999,9,-999,9,   2081.5,2,   2273.7,2,   7.8480,2,    25.00,     -999,9,     -999,9,  14.9625,2
  49UP20110515,   P13,    95,  1,     30,     103,2,20110722,1016,1235, 13.9992, 164.9800, 5348,    301.5,      300,  12.3967,  34.3317,2,    180.6,2,  34.3329,2,   180.65,2,    14.57,2,    13.77,2,     0.00,2,    1.010,2,    2.933,3,    1.736,2,-999,9,-999,9,   2102.4,2,   2267.9,2,   7.7796,6,    25.00,     -999,9,     -999,9,  12.4009,2
  49UP20110515,   P13,    95,  1,     29,     102,2,20110722,1016,1233, 13.9992, 164.9800, 5348,    351.8,      349,   9.5900,  34.3046,2,     87.3,2,  34.3039,2,    86.73,2,    33.41,2,    27.36,2,     0.00,2,    2.090,2,    1.783,3,    0.975,2,-999,9,-999,9,   2210.3,6,   2279.6,6,   7.5328,2,    25.00,     -999,9,     -999,9,   9.5902,2
  49UP20110515,   P13,    95,  1,     28,     101,2,20110722,1016,1231, 13.9992, 164.9800, 5348,    403.1,      400,   8.9105,  34.4048,2,     55.7,2,  34.3829,4,    56.84,6,    40.81,2,    31.96,2,     0.00,2,    2.390,2,    1.013,3,    0.538,2,-999,9,-999,9,   2243.6,2,   2291.6,2,   7.4699,2,    25.00,     -999,9,     -999,9,   8.8700,2
  49UP20110515,   P13,    95,  1,     27,     100,2,20110722,1016,1229, 13.9992, 164.9800, 5348,    451.6,      448,   8.5235,  34.4627,2,     43.8,2,  34.4602,2,    43.99,2,    44.09,2,    34.33,2,     0.00,2,    2.540,2,    0.565,3,    0.302,6,-999,9,-999,9,   2249.1,2,   2299.9,2,   7.4494,2,    25.00,     -999,9,     -999,9,   8.5219,2
  49UP20110515,   P13,    95,  1,     26,      99,2,20110722,1016,1227, 13.9992, 164.9800, 5348,    504.1,      501,   7.6814,  34.4357,2,     43.4,2,  34.4368,2,    43.45,2,    51.88,6,    35.96,6,     0.00,6,    2.660,6,    0.362,3,    0.188,2,-999,9,-999,9,   2267.6,2,   2307.1,2,   7.4344,2,    25.00,     -999,9,     -999,9,   7.6821,2
  49UP20110515,   P13,    95,  1,     25,      98,2,20110722,1016,1215, 13.9992, 164.9800, 5348,    605.3,      601,   6.7840,  34.4824,2,     44.8,2,  34.4837,2,    44.65,2,    61.48,2,    38.02,2,     0.00,2,    2.790,2,    0.102,3,    0.058,2,-999,9,-999,9,   2283.3,2,   2320.2,2,   7.4298,2,    25.00,     -999,9,     -999,9,   6.7843,2
  49UP20110515,   P13,    95,  1,     24,      97,2,20110722,1016,1212, 13.9992, 164.9800, 5348,    706.7,      701,   6.1552,  34.4920,2,     49.6,2,  34.4920,2,    50.14,2,    69.05,2,    38.88,2,     0.00,2,    2.830,2,    0.062,3,    0.044,2,-999,9,-999,9,   2292.1,2,   2329.7,2,   7.4329,2,    25.00,     -999,9,     -999,9,   6.1547,2
  49UP20110515,   P13,    95,  1,     23,      96,2,20110722,1016,1209, 13.9992, 164.9800, 5348,    806.9,      801,   5.5735,  34.5074,2,     55.7,2,  34.5070,2,    55.55,2,    77.28,2,    39.44,2,     0.00,2,    2.860,2,    0.032,3,    0.022,2,-999,9,-999,9,   2299.2,2,   2339.3,2,   7.4394,2,    25.00,     -999,9,     -999,9,   5.5732,2
  49UP20110515,   P13,    95,  1,     22,      95,2,20110722,1016,1206, 13.9992, 164.9800, 5348,    908.3,      901,   5.1454,  34.5167,2,     56.5,2,  34.5174,2,    56.50,2,    84.66,2,    40.16,2,     0.00,2,    2.920,2,    0.012,3,    0.011,2,-999,9,-999,9,   2311.1,2,   2348.6,2,   7.4358,2,    25.00,     -999,9,     -999,9,   5.1454,2
  49UP20110515,   P13,    95,  1,     21,      94,2,20110722,1016,1203, 13.9992, 164.9800, 5348,   1009.5,     1001,   4.7471,  34.5299,2,     58.3,2,  34.5298,2,    58.10,2,    91.98,2,    40.68,2,     0.00,2,    2.940,2,    0.000,3,    0.010,2,-999,9,-999,9,   2317.8,2,   2356.5,2,   7.4367,6,    25.00,     -999,9,     -999,9,   4.7472,2
  49UP20110515,   P13,    95,  1,     20,      93,2,20110722,1016,1154, 13.9992, 164.9800, 5348,   1210.8,     1200,   3.9809,  34.5511,2,     66.9,2,  34.5509,2,    67.12,2,   107.34,6,    40.69,6,     0.00,6,    2.930,6,    0.000,3,    0.004,2,-999,9,-999,9,   2330.4,2,   2373.4,2,   7.4469,2,    25.00,     -999,9,     -999,9,   3.9809,2
  49UP20110515,   P13,    95,  1,     19,      92,2,20110722,1016,1150, 13.9992, 164.9800, 5348,   1414.4,     1401,   3.3066,  34.5731,2,     75.8,2,  34.5722,6,    75.73,2,   121.42,2,    40.60,2,     0.00,2,    2.900,2,    0.009,3,    0.000,2,-999,9,-999,9,   2338.2,2,   2386.7,2,   7.4576,2,    25.00,     -999,9,     -999,9,   3.3068,2
  49UP20110515,   P13,    95,  1,     18,      91,3,20110722,1016,1144, 13.9992, 164.9800, 5348,   1616.7,     1601,   2.7914,  34.5946,2,     85.4,2,  34.5943,2,    85.13,2,   132.50,2,    40.19,2,     0.00,2,    2.860,2,    0.000,3,    0.000,2,-999,9,-999,9,   2346.5,6,   2398.9,6,   7.4710,2,    25.00,     -999,9,     -999,9,   2.7927,2
  49UP20110515,   P13,    95,  1,     17,      90,2,20110722,1016,1137, 13.9992, 164.9800, 5348,   1819.4,     1801,   2.4117,  34.6105,2,     95.3,2,  34.6100,2,    95.30,6,   140.41,2,    39.68,2,     0.00,2,    2.810,2,     -999,9,     -999,9,-999,9,-999,9,   2349.1,2,   2405.4,2,   7.4894,2,    25.00,     -999,9,     -999,9,   2.4117,2
  49UP20110515,   P13,    95,  1,     16,      89,2,20110722,1016,1133, 13.9992, 164.9800, 5348,   2023.3,     2002,   2.1810,  34.6272,2,    102.8,2,  34.6260,2,   102.96,2,   144.59,2,    39.25,2,     0.00,2,    2.770,2,    0.000,3,    0.000,2,-999,9,-999,9,   2345.8,2,   2411.5,2,   7.4997,2,    25.00,     -999,9,     -999,9,   2.1816,2
  49UP20110515,   P13,    95,  1,     15,      88,2,20110722,1016,1124, 13.9992, 164.9800, 5348,   2225.1,     2201,   2.0150,  34.6400,2,    109.2,2,  34.6398,2,   108.99,2,   147.54,2,    39.00,2,     0.00,2,    2.740,2,     -999,9,     -999,9,-999,9,-999,9,   2346.5,2,   2415.5,2,   7.5124,2,    25.00,     -999,9,     -999,9,   2.0150,2
  49UP20110515,   P13,    95,  1,     14,      87,2,20110722,1016,1120, 13.9992, 164.9800, 5348,   2428.4,     2400,   1.8662,  34.6504,2,    115.8,2,  34.6504,2,   115.62,2,   150.01,2,    38.58,2,     0.00,2,    2.700,2,     -999,9,     -999,9,-999,9,-999,9,   2350.4,2,   2417.6,2,   7.5185,2,    25.00,     -999,9,     -999,9,   1.8663,2
  49UP20110515,   P13,    95,  1,     13,      86,2,20110722,1016,1115, 13.9992, 164.9800, 5348,   2632.7,     2601,   1.7583,  34.6602,2,    122.6,2,  34.6593,2,   122.52,2,   151.21,2,    38.13,2,     0.00,2,    2.670,2,     -999,9,     -999,9,-999,9,-999,9,   2347.1,2,   2419.3,2,   7.5333,2,    25.00,     -999,9,     -999,9,   1.7584,2
  49UP20110515,   P13,    95,  1,     12,      74,2,20110722,1016,1111, 13.9992, 164.9800, 5348,   2835.7,     2800,   1.6806,  34.6659,2,    127.6,2,  34.6653,2,   127.35,2,   151.84,2,    37.77,2,     0.00,2,    2.660,2,     -999,9,     -999,9,-999,9,-999,9,   2345.8,2,   2423.8,2,   7.5476,2,    25.00,     -999,9,     -999,9,   1.6806,2
  49UP20110515,   P13,    95,  1,     11,     110,2,20110722,1016,1106, 13.9992, 164.9800, 5348,   3039.5,     3000,   1.6303,  34.6708,2,    132.3,2,  34.6694,2,   131.98,2,   151.54,2,    37.46,2,     0.00,2,    2.610,2,    0.000,3,    0.000,2,-999,9,-999,9,   2343.7,2,   2421.2,2,   7.5461,3,    25.00,     -999,9,     -999,9,   1.6304,2
  49UP20110515,   P13,    95,  1,     10,      83,2,20110722,1016,1101, 13.9992, 164.9800, 5348,   3294.6,     3250,   1.5569,  34.6749,2,    138.1,2,  34.6751,2,   138.02,2,   151.78,6,    37.07,6,     0.00,6,    2.580,6,     -999,9,     -999,9,-999,9,-999,9,   2339.2,2,   2421.1,2,   7.5591,2,    25.00,     -999,9,     -999,9,   1.5569,2
  49UP20110515,   P13,    95,  1,      9,      82,2,20110722,1016,1056, 13.9992, 164.9800, 5348,   3550.9,     3501,   1.5088,  34.6798,2,    144.2,2,  34.6795,2,   144.29,2,   150.52,2,    36.70,2,     0.00,2,    2.560,2,     -999,9,     -999,9,-999,9,-999,9,   2331.1,2,   2418.1,2,   7.5667,2,    25.00,     -999,9,     -999,9,   1.5089,2
  49UP20110515,   P13,    95,  1,      8,      81,2,20110722,1016,1050, 13.9992, 164.9800, 5348,   3805.5,     3750,   1.4737,  34.6836,2,    150.2,2,  34.6831,6,   150.18,2,   148.36,2,    36.27,2,     0.00,2,    2.510,2,     -999,9,     -999,9,-999,9,-999,9,   2324.7,2,   2416.0,2,   7.5728,2,    25.00,     -999,9,     -999,9,   1.4738,2
  49UP20110515,   P13,    95,  1,      7,      80,2,20110722,1016,1045, 13.9992, 164.9800, 5348,   4063.0,     4001,   1.4492,  34.6873,2,    156.4,2,  34.6863,2,   155.26,2,   145.07,2,    35.81,2,     0.00,2,    2.490,2,     -999,9,     -999,9,-999,9,-999,9,   2311.4,2,   2415.0,2,   7.5786,2,    25.00,     -999,9,     -999,9,   1.4494,2
  49UP20110515,   P13,    95,  1,      6,      79,2,20110722,1016,1040, 13.9992, 164.9800, 5348,   4317.2,     4249,   1.4249,  34.6912,2,    163.4,2,  34.6917,2,   163.06,2,   141.13,2,    35.25,2,     0.00,2,    2.440,2,    0.000,3,    0.000,2,-999,9,-999,9,   2306.7,2,   2410.4,2,   7.5895,2,    25.00,     -999,9,     -999,9,   1.4249,2
  49UP20110515,   P13,    95,  1,      5,      78,2,20110722,1016,1035, 13.9992, 164.9800, 5348,   4576.3,     4501,   1.4122,  34.6945,2,    170.2,2,  34.6940,2,   169.67,6,   136.90,2,    34.71,2,     0.00,2,    2.410,2,     -999,9,     -999,9,-999,9,-999,9,   2302.1,2,   2404.3,2,   7.5962,2,    25.00,     -999,9,     -999,9,   1.4120,2
  49UP20110515,   P13,    95,  1,      4,      77,2,20110722,1016,1030, 13.9992, 164.9800, 5348,   4833.2,     4751,   1.4053,  34.6971,2,    174.8,2,  34.6967,2,   175.30,2,   133.87,2,    34.43,2,     0.00,2,    2.380,2,     -999,9,     -999,9,-999,9,-999,9,   2301.3,2,   2399.9,2,   7.6020,2,    25.00,     -999,9,     -999,9,   1.4055,2
  49UP20110515,   P13,    95,  1,      3,      76,2,20110722,1016,1024, 13.9992, 164.9800, 5348,   5090.1,     5001,   1.3970,  34.6993,2,    179.2,2,  34.6995,2,   179.32,2,   131.46,2,    34.08,2,     0.00,2,    2.370,2,     -999,9,     -999,9,-999,9,-999,9,   2295.8,6,   2395.9,6,   7.6050,2,    25.00,     -999,9,     -999,9,   1.3970,2
  49UP20110515,   P13,    95,  1,      2,      75,2,20110722,1016,1019, 13.9992, 164.9800, 5348,   5347.9,     5251,   1.3843,  34.7016,2,    184.4,2,  34.7013,2,   184.67,2,   128.89,2,    33.66,2,     0.00,2,    2.340,2,     -999,9,     -999,9,-999,9,-999,9,   2290.1,2,   2390.3,2,   7.6088,6,    25.00,     -999,9,     -999,9,   1.3845,2
  49UP20110515,   P13,    95,  1,      1,     112,2,20110722,1016,1017, 13.9992, 164.9800, 5348,   5419.2,     5321,   1.3929,  34.7017,2,    184.5,2,  34.7002,4,   183.61,2,   128.84,2,    33.74,2,     0.00,2,    2.330,2,    0.021,3,    0.000,2,-999,9,-999,9,   2290.0,2,   2391.2,2,   7.6120,2,    25.00,     -999,9,     -999,9,   1.3928,2