BOTTLE,20240116CCHSIOVAJ
EXPOCODE,SECT_ID,STNNBR,CASTNO,SAMPNO,BTLNBR,BTLNBR_FLAG_W,DATE,TIME,BTL_TIME,LATITUDE,LONGITUDE,DEPTH,CTDPRS,CTDDEPTH,CTDTMP,CTDSAL,CTDSAL_FLAG_W,CTDOXY,CTDOXY_FLAG_W,SALNTY,SALNTY_FLAG_W,OXYGEN,OXYGEN_FLAG_W,SILCAT,SILCAT_FLAG_W,NO2+NO3,NO2+NO3_FLAG_W,NITRIT,NITRIT_FLAG_W,PHSPHT,PHSPHT_FLAG_W,CFC-11,CFC-11_FLAG_W,CFC-12,CFC-12_FLAG_W,DELC14,DELC14_FLAG_W,DELC13,DELC13_FLAG_W,TCARBN,TCARBN_FLAG_W,ALKALI,ALKALI_FLAG_W,PH_TOT,PH_TOT_FLAG_W,PH_TMP,CHLORA,CHLORA_FLAG_W,PPHYTN,PPHYTN_FLAG_W,REFTMP,REFTMP_FLAG_W
,,,,,,,,,,,,METERS,DBAR,METERS,ITS-90,PSS-78,,UMOL/KG,,PSS-78,,UMOL/KG,,UMOL/KG,,UMOL/KG,,UMOL/KG,,UMOL/KG,,PMOL/KG,,PMOL/KG,,/MILLE,,/MILLE,,UMOL/KG,,UMOL/KG,,,,DEG C,UG/KG,,UG/KG,,ITS-90,
  49UP20110515,   P13,    45,  1,      0,     BUC,2,20110615,1959,2220, 48.9910, 164.9982, 5472,      0.0,        0,   4.8779,  32.8917,2,    326.4,2,     -999,9,   326.79,2,    35.23,2,    19.38,2,     0.21,2,    1.610,2,     -999,9,     -999,9,-999,9,-999,9,     -999,9,     -999,9,     -999,9,     -999,     0.91,2,     0.15,2,     -999,9
  49UP20110515,   P13,    45,  1,     36,     109,2,20110615,1959,2250, 48.9910, 164.9982, 5472,     10.8,       11,   4.8231,  32.8918,2,    326.6,2,  32.8936,2,   326.82,2,    35.33,6,    19.41,6,     0.21,6,    1.600,6,     -999,5,     -999,5,-999,9,-999,9,   2087.2,2,   2227.8,2,   7.7341,2,    25.00,     0.82,2,     0.17,2,   4.8229,2
  49UP20110515,   P13,    45,  1,     35,     108,2,20110615,1959,2247, 48.9910, 164.9982, 5472,     50.8,       50,   3.4204,  32.9616,2,    328.0,2,  32.9616,2,   329.25,2,    37.82,2,    21.33,2,     0.26,2,    1.750,2,    5.751,2,    3.022,2,-999,9,-999,9,   2104.6,2,   2230.4,2,   7.7044,2,    25.00,     0.50,2,     0.28,2,   3.4217,2
  49UP20110515,   P13,    45,  1,     34,     107,2,20110615,1959,2244, 48.9910, 164.9982, 5472,    102.2,      101,   1.9889,  33.1277,2,    290.7,2,  33.1319,6,   289.62,2,    48.12,6,    27.00,6,     0.01,6,    2.090,6,    5.315,2,    2.909,2,-999,9,-999,9,   2148.0,2,   2240.7,2,   7.5895,2,    25.00,     0.04,2,     0.04,2,   1.9923,2
  49UP20110515,   P13,    45,  1,     33,     106,2,20110615,1959,2241, 48.9910, 164.9982, 5472,    127.8,      127,   2.4556,  33.4747,2,    174.2,2,  33.4749,2,   174.54,2,    70.81,2,    35.78,2,     0.01,2,    2.630,2,    3.855,2,    2.270,2,-999,9,-999,9,   2238.3,2,   2266.4,2,   7.4177,2,    25.00,     0.01,2,     0.04,2,   2.4553,2
  49UP20110515,   P13,    45,  1,     32,     105,2,20110615,1959,2239, 48.9910, 164.9982, 5472,    152.2,      151,   2.8157,  33.6087,2,    128.4,2,  33.6090,2,   127.53,6,    79.78,2,    38.82,2,     0.00,2,    2.810,2,    3.597,2,    1.936,2,-999,9,-999,9,   2267.6,2,   2274.3,2,   7.3403,2,    25.00,     0.01,2,     0.03,2,   2.8163,2
  49UP20110515,   P13,    45,  1,     31,     104,2,20110615,1959,2235, 48.9910, 164.9982, 5472,    203.6,      202,   3.3479,  33.8136,2,     60.3,2,  33.8116,2,    60.41,2,    93.42,2,    42.92,2,     0.01,2,    3.060,2,    2.649,6,    1.383,6,-999,9,-999,9,   2312.4,2,   2294.3,2,   7.2611,3,    25.00,     0.00,2,     0.02,2,   3.3486,2
  49UP20110515,   P13,    45,  1,     30,     103,2,20110615,1959,2232, 48.9910, 164.9982, 5472,    253.9,      252,   3.3932,  33.9025,2,     51.6,2,  33.9033,2,    51.29,2,    99.73,2,    43.10,2,     0.00,2,    3.070,2,    2.207,2,    1.193,2,-999,9,-999,9,   2320.0,2,   2305.2,2,   7.2780,2,    25.00,     -999,9,     -999,9,   3.3937,2
  49UP20110515,   P13,    45,  1,     29,     102,2,20110615,1959,2230, 48.9910, 164.9982, 5472,    285.1,      282,   3.5204,  33.9657,2,     29.6,2,  33.9635,2,    29.40,2,   105.13,2,    44.69,2,     0.00,2,    3.160,2,    1.789,2,    0.959,2,-999,9,-999,9,   2340.7,2,   2309.6,2,   7.2409,2,    25.00,     -999,9,     -999,9,   3.5189,2
  49UP20110515,   P13,    45,  1,     28,     101,2,20110615,1959,2227, 48.9910, 164.9982, 5472,    374.3,      371,   3.4600,  34.0624,2,     29.3,2,  34.0622,6,    29.14,2,   113.40,2,    44.03,2,     0.00,2,    3.130,2,    1.455,2,    0.718,2,-999,9,-999,9,   2347.9,2,   2323.8,2,   7.2650,2,    25.00,     -999,9,     -999,9,   3.4603,2
  49UP20110515,   P13,    45,  1,     27,     100,2,20110615,1959,2224, 48.9910, 164.9982, 5472,    476.2,      472,   3.3460,  34.1626,2,     24.8,2,  34.1610,2,    24.95,2,   123.32,2,    43.92,2,     0.00,2,    3.120,2,    1.000,6,    0.498,6,-999,9,-999,9,   2360.4,2,   2338.3,3,   7.2796,6,    25.00,     -999,9,     -999,9,   3.3465,2
  49UP20110515,   P13,    45,  1,     26,      99,2,20110615,1959,2221, 48.9910, 164.9982, 5472,    576.7,      571,   3.2095,  34.2372,2,     20.6,2,  34.2370,2,    20.40,6,   131.61,2,    44.19,2,     0.00,2,    3.130,2,    0.653,2,    0.350,2,-999,9,-999,9,   2361.4,2,   2352.5,2,   7.2890,2,    25.00,     -999,9,     -999,9,   3.2098,2
  49UP20110515,   P13,    45,  1,     25,      98,2,20110615,1959,2217, 48.9910, 164.9982, 5472,    678.6,      672,   3.0457,  34.2897,2,     24.5,2,  34.2903,2,    24.31,2,   137.47,3,    43.80,2,     0.00,2,    3.120,2,    0.512,2,    0.253,2,-999,9,-999,9,   2367.5,6,   2361.7,6,   7.3023,2,    25.00,     -999,9,     -999,9,   3.0460,2
  49UP20110515,   P13,    45,  1,     24,      97,2,20110615,1959,2211, 48.9910, 164.9982, 5472,    779.4,      771,   2.8974,  34.3319,2,     26.6,2,  34.3318,2,    26.56,2,   142.76,2,    43.72,2,     0.00,2,    3.110,2,    0.417,2,    0.204,2,-999,9,-999,9,   2371.5,2,   2368.8,2,   7.3138,2,    25.00,     -999,9,     -999,9,   2.8976,2
  49UP20110515,   P13,    45,  1,     23,      96,2,20110615,1959,2206, 48.9910, 164.9982, 5472,    880.6,      871,   2.7403,  34.3805,2,     30.6,2,  34.3805,2,    30.04,2,   148.16,2,    43.41,2,     0.00,2,    3.100,2,     -999,5,     -999,5,-999,9,-999,9,   2376.3,2,   2377.4,2,   7.3267,2,    25.00,     -999,9,     -999,9,   2.7432,2
  49UP20110515,   P13,    45,  1,     22,      95,3,20110615,1959,2203, 48.9910, 164.9982, 5472,    982.4,      972,   2.6233,  34.4151,2,     33.3,2,  34.4158,2,    32.64,2,   151.35,2,    43.41,2,     0.00,2,    3.070,2,     -999,5,     -999,5,-999,9,-999,9,   2377.5,2,   2382.1,2,   7.3342,2,    25.00,     -999,9,     -999,9,   2.6235,2
  49UP20110515,   P13,    45,  1,     21,      94,2,20110615,1959,2159, 48.9910, 164.9982, 5472,   1143.8,     1131,   2.4665,  34.4548,2,     35.9,2,  34.4546,2,    36.07,2,   156.59,6,    43.28,6,     0.00,6,    3.070,6,    0.174,2,    0.096,2,-999,9,-999,9,   2384.0,2,   2389.9,2,   7.3461,2,    25.00,     -999,9,     -999,9,   2.4668,2
  49UP20110515,   P13,    45,  1,     20,      93,2,20110615,1959,2148, 48.9910, 164.9982, 5472,   1347.2,     1331,   2.2426,  34.5046,2,     35.9,2,  34.5043,6,    36.47,2,   165.96,4,    43.38,2,     0.00,2,    3.060,3,     -999,5,     -999,5,-999,9,-999,9,   2391.9,2,   2399.7,2,   7.3511,2,    25.00,     -999,9,     -999,9,   2.2427,2
  49UP20110515,   P13,    45,  1,     19,      92,2,20110615,1959,2142, 48.9910, 164.9982, 5472,   1550.8,     1532,   2.0954,  34.5432,2,     48.4,2,  34.5425,2,    47.93,2,   167.62,2,    42.55,2,     0.00,2,    3.000,2,     -999,5,     -999,5,-999,9,-999,9,   2384.2,2,   2405.2,2,   7.3808,2,    25.00,     -999,9,     -999,9,   2.0957,2
  49UP20110515,   P13,    45,  1,     18,      91,2,20110615,1959,2137, 48.9910, 164.9982, 5472,   1753.2,     1731,   1.9774,  34.5729,2,     58.8,2,  34.5723,2,    58.54,2,   168.62,3,    42.02,2,     0.00,2,    2.960,2,    0.043,2,    0.029,2,-999,9,-999,9,   2380.2,2,   2408.3,2,   7.4055,2,    25.00,     -999,9,     -999,9,   1.9775,2
  49UP20110515,   P13,    45,  1,     17,      90,2,20110615,1959,2137, 48.9910, 164.9982, 5472,   1753.2,     1731,   1.9774,  34.5729,2,     58.8,2,  34.5722,2,    58.71,2,   168.50,4,    42.10,2,     0.00,2,    2.960,2,    0.027,2,    0.012,2,-999,9,-999,9,   2380.9,2,   2408.5,2,   7.4061,2,    25.00,     -999,9,     -999,9,   1.9775,2
  49UP20110515,   P13,    45,  1,     16,      89,2,20110615,1959,2127, 48.9910, 164.9982, 5472,   1956.3,     1931,   1.8742,  34.5962,2,     70.5,2,  34.5956,2,    70.88,2,   169.01,2,    41.23,2,     0.00,2,    2.910,2,    0.025,2,    0.013,2,-999,9,-999,9,   2374.8,2,   2411.8,2,   7.4243,2,    25.00,     -999,9,     -999,9,   1.8744,2
  49UP20110515,   P13,    45,  1,     15,      88,2,20110615,1959,2123, 48.9910, 164.9982, 5472,   2160.5,     2131,   1.7717,  34.6177,2,     84.6,2,  34.6177,2,    84.52,2,   167.43,2,    40.55,2,     0.00,2,    2.850,2,    0.021,2,    0.017,2,-999,9,-999,9,   2367.8,2,   2414.1,2,   7.4561,6,    25.00,     -999,9,     -999,9,   1.7719,2
  49UP20110515,   P13,    45,  1,     14,      87,2,20110615,1959,2118, 48.9910, 164.9982, 5472,   2364.9,     2332,   1.6943,  34.6328,2,     96.5,2,  34.6346,4,    96.53,2,   165.51,2,    39.79,2,     0.00,2,    2.800,2,    0.019,2,    0.014,2,-999,9,-999,9,   2360.2,6,   2417.1,6,   7.4813,2,    25.00,     -999,9,     -999,9,   1.6945,2
  49UP20110515,   P13,    45,  1,     13,      86,2,20110615,1959,2109, 48.9910, 164.9982, 5472,   2568.4,     2531,   1.6302,  34.6446,2,    106.9,2,  34.6450,2,   106.86,2,   163.59,2,    39.13,2,     0.00,2,    2.740,2,     -999,9,     -999,9,-999,9,-999,9,   2355.7,2,   2416.3,2,   7.5009,2,    25.00,     -999,9,     -999,9,   1.6304,2
  49UP20110515,   P13,    45,  1,     12,      85,2,20110615,1959,2104, 48.9910, 164.9982, 5472,   2773.5,     2732,   1.5817,  34.6536,2,    115.8,2,  34.6538,2,   115.57,2,   161.51,3,    38.64,2,     0.00,2,    2.720,2,     -999,9,     -999,9,-999,9,-999,9,   2348.7,2,   2417.1,2,   7.5129,2,    25.00,     -999,9,     -999,9,   1.5817,2
  49UP20110515,   P13,    45,  1,     11,     110,2,20110615,1959,2057, 48.9910, 164.9982, 5472,   2977.4,     2931,   1.5450,  34.6610,2,    123.8,2,  34.6612,2,   123.73,2,   159.68,4,    38.10,2,     0.00,2,    2.650,2,     -999,9,     -999,9,-999,9,-999,9,   2338.9,2,   2418.2,2,   7.5279,2,    25.00,     -999,9,     -999,9,   1.5451,2
  49UP20110515,   P13,    45,  1,     10,      83,2,20110615,1959,2050, 48.9910, 164.9982, 5472,   3221.8,     3170,   1.5098,  34.6681,2,    131.9,2,  34.6688,2,   131.90,2,   157.44,3,    37.64,2,     0.00,2,    2.620,2,     -999,9,     -999,9,-999,9,-999,9,   2335.1,2,   2416.8,2,   7.5429,2,    25.00,     -999,9,     -999,9,   1.5098,2
  49UP20110515,   P13,    45,  1,      9,      82,2,20110615,1959,2043, 48.9910, 164.9982, 5472,   3478.4,     3421,   1.4885,  34.6737,2,    138.5,2,  34.6739,2,   138.50,2,   155.79,2,    37.23,2,     0.00,2,    2.580,2,    0.016,2,    0.016,2,-999,9,-999,9,   2334.7,2,   2417.7,2,   7.5507,2,    25.00,     -999,9,     -999,9,   1.4887,2
  49UP20110515,   P13,    45,  1,      8,      81,2,20110615,1959,2038, 48.9910, 164.9982, 5472,   3736.3,     3672,   1.4826,  34.6772,2,    142.9,2,  34.6785,4,   142.49,2,   154.30,2,    37.01,2,     0.00,2,    2.560,2,     -999,9,     -999,9,-999,9,-999,9,   2331.2,2,   2419.1,2,   7.5612,2,    25.00,     -999,9,     -999,9,   1.4829,2
  49UP20110515,   P13,    45,  1,      7,      80,2,20110615,1959,2032, 48.9910, 164.9982, 5472,   3992.7,     3922,   1.4805,  34.6806,2,    146.9,2,  34.6814,2,   146.43,6,   153.37,2,    36.60,2,     0.00,2,    2.530,2,     -999,9,     -999,9,-999,9,-999,9,   2328.1,2,   2415.7,2,   7.5708,2,    25.00,     -999,9,     -999,9,   1.4808,2
  49UP20110515,   P13,    45,  1,      6,      79,2,20110615,1959,2027, 48.9910, 164.9982, 5472,   4248.6,     4171,   1.4840,  34.6833,2,    150.4,2,  34.6833,2,   149.86,2,   152.25,2,    36.42,2,     0.00,2,    2.520,2,     -999,9,     -999,9,-999,9,-999,9,   2326.0,2,   2415.7,2,   7.5750,2,    25.00,     -999,9,     -999,9,   1.4843,2
  49UP20110515,   P13,    45,  1,      5,      78,2,20110615,1959,2022, 48.9910, 164.9982, 5472,   4506.3,     4421,   1.4944,  34.6852,2,    153.0,2,  34.6856,2,   152.69,2,   151.79,2,    36.21,2,     0.00,2,    2.510,2,    0.016,2,    0.017,2,-999,9,-999,9,   2317.4,3,   2416.4,2,   7.5789,2,    25.00,     -999,9,     -999,9,   1.4944,2
  49UP20110515,   P13,    45,  1,      4,      77,2,20110615,1959,2017, 48.9910, 164.9982, 5472,   4763.9,     4671,   1.5107,  34.6869,2,    155.0,2,  34.6879,6,   154.65,2,   151.15,2,    36.11,2,     0.00,2,    2.490,2,     -999,9,     -999,9,-999,9,-999,9,   2321.5,2,   2415.5,2,   7.5842,2,    25.00,     -999,9,     -999,9,   1.5110,2
  49UP20110515,   P13,    45,  1,      3,      76,2,20110615,1959,2012, 48.9910, 164.9982, 5472,   5022.4,     4922,   1.5306,  34.6882,2,    156.5,2,  34.6887,2,   156.78,2,   151.22,6,    36.02,6,     0.00,6,    2.490,6,     -999,9,     -999,9,-999,9,-999,9,   2320.4,2,   2416.6,2,   7.5863,2,    25.00,     -999,9,     -999,9,   1.5307,2
  49UP20110515,   P13,    45,  1,      2,      75,2,20110615,1959,2006, 48.9910, 164.9982, 5472,   5279.1,     5171,   1.5554,  34.6892,2,    157.5,2,  34.6894,2,   157.59,2,   151.06,2,    36.04,2,     0.00,2,    2.480,2,     -999,9,     -999,9,-999,9,-999,9,   2321.6,2,   2416.0,2,   7.5843,2,    25.00,     -999,9,     -999,9,   1.5556,2
  49UP20110515,   P13,    45,  1,      1,      74,2,20110615,1959,2000, 48.9910, 164.9982, 5472,   5581.5,     5463,   1.5895,  34.6898,2,    158.1,2,  34.6891,2,   156.92,2,   152.14,2,    36.01,2,     0.00,2,    2.480,2,    0.050,2,    0.019,2,-999,9,-999,9,   2323.6,6,   2414.6,6,   7.5804,2,    25.00,     -999,9,     -999,9,   1.5895,2