BOTTLE,20240116CCHSIOVAJ
EXPOCODE,SECT_ID,STNNBR,CASTNO,SAMPNO,BTLNBR,BTLNBR_FLAG_W,DATE,TIME,BTL_TIME,LATITUDE,LONGITUDE,DEPTH,CTDPRS,CTDDEPTH,CTDTMP,CTDSAL,CTDSAL_FLAG_W,CTDOXY,CTDOXY_FLAG_W,SALNTY,SALNTY_FLAG_W,OXYGEN,OXYGEN_FLAG_W,SILCAT,SILCAT_FLAG_W,NO2+NO3,NO2+NO3_FLAG_W,NITRIT,NITRIT_FLAG_W,PHSPHT,PHSPHT_FLAG_W,CFC-11,CFC-11_FLAG_W,CFC-12,CFC-12_FLAG_W,DELC14,DELC14_FLAG_W,DELC13,DELC13_FLAG_W,TCARBN,TCARBN_FLAG_W,ALKALI,ALKALI_FLAG_W,PH_TOT,PH_TOT_FLAG_W,PH_TMP,CHLORA,CHLORA_FLAG_W,PPHYTN,PPHYTN_FLAG_W,REFTMP,REFTMP_FLAG_W
,,,,,,,,,,,,METERS,DBAR,METERS,ITS-90,PSS-78,,UMOL/KG,,PSS-78,,UMOL/KG,,UMOL/KG,,UMOL/KG,,UMOL/KG,,UMOL/KG,,PMOL/KG,,PMOL/KG,,/MILLE,,/MILLE,,UMOL/KG,,UMOL/KG,,,,DEG C,UG/KG,,UG/KG,,ITS-90,
  49UP20110515,   P13,    62,  1,      0,     BUC,2,20110711,0955,1210, 35.9912, 164.9835, 5620,      0.0,        0,  22.0604,  34.4437,2,    226.1,2,     -999,9,   224.31,2,     2.06,2,     0.00,2,     0.00,2,    0.070,2,     -999,9,     -999,9,-999,9,-999,9,     -999,9,     -999,9,     -999,9,     -999,     0.21,2,     0.03,2,     -999,9
  49UP20110515,   P13,    62,  1,     36,     109,2,20110711,0955,1217, 35.9912, 164.9835, 5620,     10.2,       10,  22.0566,  34.4425,2,    225.6,2,  34.4415,2,   226.22,6,     2.16,2,     0.00,2,     0.00,2,    0.040,2,    2.232,3,    1.393,2,-999,9,-999,9,   1980.5,2,   2264.4,2,   8.0266,2,    25.00,     0.17,2,     0.03,2,  22.0578,2
  49UP20110515,   P13,    62,  1,     35,     108,2,20110711,0955,1212, 35.9912, 164.9835, 5620,     51.1,       51,  14.2768,  34.4818,2,    236.5,2,  34.4834,2,   236.90,2,     8.66,2,     6.88,2,     0.44,2,    0.500,2,    2.831,3,    1.748,2,-999,9,-999,9,   2049.0,6,   2271.7,6,   7.9075,2,    25.00,     0.29,2,     0.12,2,  14.2770,2
  49UP20110515,   P13,    62,  1,     34,     107,2,20110711,0955,1210, 35.9912, 164.9835, 5620,    102.0,      101,  13.0087,  34.4401,2,    204.6,2,  34.4406,2,   205.40,2,    15.73,6,    11.73,6,     0.02,6,    0.830,6,    2.730,3,    1.672,2,-999,9,-999,9,   2085.2,2,   2277.3,2,   7.8454,2,    25.00,     0.01,2,     0.03,2,  13.0089,2
  49UP20110515,   P13,    62,  1,     33,     106,2,20110711,0955,1208, 35.9912, 164.9835, 5620,    151.8,      151,  11.8234,  34.3110,2,    228.2,2,  34.3111,2,   228.37,2,    14.59,2,    11.12,2,     0.02,2,    0.800,2,    2.974,3,    1.840,2,-999,9,-999,9,   2079.6,2,   2269.8,2,   7.8443,2,    25.00,     0.00,2,     0.02,2,  11.8218,2
  49UP20110515,   P13,    62,  1,     32,     105,2,20110711,0955,1206, 35.9912, 164.9835, 5620,    201.9,      200,  11.0856,  34.2666,2,    206.8,2,  34.2653,2,   207.17,2,    20.63,2,    14.57,2,     0.01,2,    1.040,2,    2.913,3,    1.787,2,-999,9,-999,9,   2107.3,2,   2271.8,2,   7.7824,2,    25.00,     0.00,2,     0.02,2,  11.0846,2
  49UP20110515,   P13,    62,  1,     31,     104,2,20110711,0955,1204, 35.9912, 164.9835, 5620,    252.1,      250,   9.8000,  34.1535,2,    203.8,2,  34.1525,6,   204.88,2,    26.12,2,    17.21,2,     0.01,2,    1.240,2,    2.962,3,    1.812,6,-999,9,-999,9,   2125.9,2,   2273.6,2,   7.7472,2,    25.00,     -999,9,     -999,9,   9.7991,2
  49UP20110515,   P13,    62,  1,     30,     103,2,20110711,0955,1202, 35.9912, 164.9835, 5620,    303.2,      301,   8.7573,  34.0706,2,    200.6,2,  34.0675,2,   200.47,2,    31.39,6,    19.51,6,     0.01,6,    1.410,6,    3.030,3,    1.852,2,-999,9,-999,9,   2138.6,2,   2273.1,2,   7.7032,2,    25.00,     -999,9,     -999,9,   8.7562,2
  49UP20110515,   P13,    62,  1,     29,     102,2,20110711,0955,1159, 35.9912, 164.9835, 5620,    404.3,      401,   6.4689,  33.9842,2,    157.9,2,  33.9839,2,   157.67,2,    53.40,2,    27.68,2,     0.01,2,    2.010,2,    2.730,3,    1.599,2,-999,9,-999,9,   2202.0,2,   2283.7,2,   7.5640,2,    25.00,     -999,9,     -999,9,   6.4672,2
  49UP20110515,   P13,    62,  1,     28,     101,2,20110711,0955,1155, 35.9912, 164.9835, 5620,    504.8,      501,   5.1421,  33.9886,2,    120.1,2,  33.9898,2,   119.87,2,    72.83,2,    33.42,2,     0.01,2,    2.420,2,    2.264,3,    1.282,2,-999,9,-999,9,   2248.2,2,   2299.7,2,   7.4673,2,    25.00,     -999,9,     -999,9,   5.1343,2
  49UP20110515,   P13,    62,  1,     27,     100,2,20110711,0955,1155, 35.9912, 164.9835, 5620,    504.8,      501,   5.1421,  33.9886,2,    120.1,2,  33.9892,2,   120.28,2,    72.60,2,    33.39,2,     0.01,2,    2.420,2,    2.279,3,    1.302,6,-999,9,-999,9,   2247.9,2,   2298.9,2,   7.4681,2,    25.00,     -999,9,     -999,9,   5.1343,2
  49UP20110515,   P13,    62,  1,     26,      99,2,20110711,0955,1153, 35.9912, 164.9835, 5620,    605.9,      601,   4.6119,  34.0705,2,     88.0,2,  34.0686,2,    87.67,2,    88.25,2,    36.93,2,     0.01,2,    2.680,2,    1.669,3,    0.926,2,-999,9,-999,9,   2282.2,2,   2314.4,2,   7.4182,2,    25.00,     -999,9,     -999,9,   4.6086,2
  49UP20110515,   P13,    62,  1,     25,      98,2,20110711,0955,1149, 35.9912, 164.9835, 5620,    707.4,      701,   4.2463,  34.1668,2,     59.5,2,  34.1669,2,    59.46,2,   102.58,2,    39.83,2,     0.01,2,    2.860,2,    0.990,3,    0.528,2,-999,9,-999,9,   2313.5,6,   2330.9,6,   7.3656,2,    25.00,     -999,9,     -999,9,   4.2460,2
  49UP20110515,   P13,    62,  1,     24,      97,2,20110711,0955,1146, 35.9912, 164.9835, 5620,    807.7,      800,   3.8452,  34.2483,2,     47.3,2,  34.2479,2,    47.22,2,   115.60,2,    41.13,2,     0.00,2,    2.950,2,    0.618,3,    0.322,2,-999,9,-999,9,   2333.7,2,   2346.4,2,   7.3518,6,    25.00,     -999,9,     -999,9,   3.8414,2
  49UP20110515,   P13,    62,  1,     23,      96,2,20110711,0955,1144, 35.9912, 164.9835, 5620,    909.2,      901,   3.4956,  34.3090,2,     35.0,2,  34.3079,6,    35.41,2,   126.39,2,    42.57,2,     0.00,2,    3.040,2,    0.310,3,    0.158,2,-999,9,-999,9,   2354.1,2,   2360.4,2,   7.3435,2,    25.00,     -999,9,     -999,9,   3.4938,2
  49UP20110515,   P13,    62,  1,     22,      95,2,20110711,0955,1140, 35.9912, 164.9835, 5620,   1011.1,     1001,   3.2467,  34.3599,2,     36.6,2,  34.3595,2,    36.49,6,   133.90,2,    42.64,2,     0.00,2,    3.050,2,    0.221,3,    0.111,2,-999,9,-999,9,   2359.2,2,   2368.9,2,   7.3443,2,    25.00,     -999,9,     -999,9,   3.2471,2
  49UP20110515,   P13,    62,  1,     21,      94,2,20110711,0955,1136, 35.9912, 164.9835, 5620,   1212.8,     1200,   2.8073,  34.4381,2,     34.1,2,  34.4388,2,    33.65,2,   147.19,6,    43.36,6,     0.00,6,    3.090,6,    0.091,3,    0.046,2,-999,9,-999,9,   2372.6,2,   2385.3,2,   7.3458,2,    25.00,     -999,9,     -999,9,   2.8058,2
  49UP20110515,   P13,    62,  1,     20,      93,2,20110711,0955,1131, 35.9912, 164.9835, 5620,   1415.6,     1400,   2.5145,  34.4887,2,     37.7,2,  34.4887,2,    37.53,2,   155.73,2,    43.25,2,     0.00,2,    3.070,2,    0.025,3,    0.005,2,-999,9,-999,9,   2383.9,2,   2393.6,2,   7.3571,2,    25.00,     -999,9,     -999,9,   2.5145,2
  49UP20110515,   P13,    62,  1,     19,      92,2,20110711,0955,1126, 35.9912, 164.9835, 5620,   1618.6,     1601,   2.2722,  34.5322,2,     46.6,2,  34.5316,2,    46.31,2,   161.55,2,    42.87,2,     0.00,2,    3.030,2,    0.001,3,    0.000,2,-999,9,-999,9,   2383.3,2,   2404.2,2,   7.3753,2,    25.00,     -999,9,     -999,9,   2.2724,2
  49UP20110515,   P13,    62,  1,     18,      91,2,20110711,0955,1122, 35.9912, 164.9835, 5620,   1821.5,     1800,   2.0667,  34.5654,2,     57.9,2,  34.5655,2,    58.29,2,   165.83,2,    42.19,2,     0.00,2,    2.980,2,    0.042,3,    0.002,2,-999,9,-999,9,   2383.6,2,   2408.4,2,     -999,5,     -999,     -999,9,     -999,9,   2.0666,2
  49UP20110515,   P13,    62,  1,     17,      90,2,20110711,0955,1117, 35.9912, 164.9835, 5620,   2024.5,     2000,   1.9387,  34.5913,2,     70.2,2,  34.5911,2,    69.88,2,   166.41,2,    41.43,2,     0.00,2,    2.920,2,    0.000,3,    0.000,2,-999,9,-999,9,   2376.4,2,   2413.3,2,     -999,5,     -999,     -999,9,     -999,9,   1.9387,2
  49UP20110515,   P13,    62,  1,     16,      89,2,20110711,0955,1112, 35.9912, 164.9835, 5620,   2228.5,     2201,   1.8153,  34.6134,2,     83.7,2,  34.6128,2,    83.51,2,   166.40,2,    40.54,2,     0.00,2,    2.860,2,    0.000,3,    0.000,2,-999,9,-999,9,   2370.3,2,   2414.4,2,     -999,5,     -999,     -999,9,     -999,9,   1.8152,2
  49UP20110515,   P13,    62,  1,     15,      88,2,20110711,0955,1108, 35.9912, 164.9835, 5620,   2431.6,     2400,   1.7170,  34.6319,2,     97.8,2,  34.6322,2,    97.61,2,   164.21,2,    39.71,2,     0.00,2,    2.790,2,    0.011,3,    0.002,2,-999,9,-999,9,   2354.1,2,   2414.9,2,     -999,5,     -999,     -999,9,     -999,9,   1.7169,2
  49UP20110515,   P13,    62,  1,     14,      87,2,20110711,0955,1103, 35.9912, 164.9835, 5620,   2637.4,     2602,   1.6408,  34.6452,2,    109.2,2,  34.6453,2,   109.11,2,   162.62,2,    38.94,2,     0.00,2,    2.740,2,    0.014,3,    0.000,2,-999,9,-999,9,   2352.1,2,   2416.9,2,     -999,5,     -999,     -999,9,     -999,9,   1.6407,2
  49UP20110515,   P13,    62,  1,     13,      86,2,20110711,0955,1058, 35.9912, 164.9835, 5620,   2840.4,     2801,   1.5837,  34.6554,2,    119.0,2,  34.6554,6,   119.10,2,   160.44,2,    38.27,2,     0.00,2,    2.690,2,     -999,9,     -999,9,-999,9,-999,9,   2349.2,2,   2417.6,2,     -999,5,     -999,     -999,9,     -999,9,   1.5838,2
  49UP20110515,   P13,    62,  1,     12,      85,2,20110711,0955,1054, 35.9912, 164.9835, 5620,   3044.5,     3001,   1.5412,  34.6631,2,    127.2,2,  34.6634,2,   127.15,2,   158.71,2,    37.78,2,     0.00,2,    2.650,2,     -999,9,     -999,9,-999,9,-999,9,   2343.5,2,   2419.2,2,   7.5327,2,    25.00,     -999,9,     -999,9,   1.5414,2
  49UP20110515,   P13,    62,  1,     11,     110,2,20110711,0955,1048, 35.9912, 164.9835, 5620,   3300.1,     3251,   1.4992,  34.6707,2,    135.4,2,  34.6708,2,   135.45,2,   157.00,2,    37.26,2,     0.00,2,    2.610,2,     -999,9,     -999,9,-999,9,-999,9,   2334.5,2,   2417.6,2,   7.5463,2,    25.00,     -999,9,     -999,9,   1.4990,2
  49UP20110515,   P13,    62,  1,     10,      83,2,20110711,0955,1043, 35.9912, 164.9835, 5620,   3555.5,     3500,   1.4806,  34.6760,2,    141.8,2,  34.6764,2,   141.67,2,   154.57,2,    36.77,2,     0.00,2,    2.570,2,     -999,9,     -999,9,-999,9,-999,9,   2332.4,2,   2417.9,6,   7.5537,2,    25.00,     -999,9,     -999,9,   1.4806,2
  49UP20110515,   P13,    62,  1,      9,      82,2,20110711,0955,1037, 35.9912, 164.9835, 5620,   3812.0,     3750,   1.4647,  34.6800,2,    145.9,2,  34.6800,2,   145.74,6,   154.54,2,    36.57,2,     0.00,2,    2.550,2,    0.008,3,    0.000,2,-999,9,-999,9,   2328.9,2,   2418.4,2,   7.5607,2,    25.00,     -999,9,     -999,9,   1.4647,2
  49UP20110515,   P13,    62,  1,      8,      81,2,20110711,0955,1032, 35.9912, 164.9835, 5620,   4068.8,     4001,   1.4597,  34.6835,2,    150.4,2,  34.6837,2,   150.08,2,   153.79,2,    36.27,2,     0.00,2,    2.530,2,     -999,9,     -999,9,-999,9,-999,9,   2327.1,2,   2417.9,2,   7.5662,2,    25.00,     -999,9,     -999,9,   1.4598,2
  49UP20110515,   P13,    62,  1,      7,      80,2,20110711,0955,1026, 35.9912, 164.9835, 5620,   4325.3,     4250,   1.4666,  34.6859,2,    154.1,2,  34.6858,2,   153.90,2,   151.73,2,    36.04,2,     0.00,2,    2.510,2,     -999,9,     -999,9,-999,9,-999,9,   2315.5,3,   2415.0,2,   7.5764,2,    25.00,     -999,9,     -999,9,   1.4665,2
  49UP20110515,   P13,    62,  1,      6,      79,2,20110711,0955,1021, 35.9912, 164.9835, 5620,   4582.7,     4501,   1.4791,  34.6879,2,    156.6,2,  34.6878,2,   156.65,2,   150.78,2,    35.83,2,     0.00,2,    2.500,2,     -999,9,     -999,9,-999,9,-999,9,   2314.8,3,   2414.9,2,   7.5812,2,    25.00,     -999,9,     -999,9,   1.4790,2
  49UP20110515,   P13,    62,  1,      5,      78,2,20110711,0955,1015, 35.9912, 164.9835, 5620,   4839.3,     4750,   1.4931,  34.6893,2,    159.4,2,  34.6901,2,   159.35,6,   148.75,2,    35.67,2,     0.00,2,    2.480,2,    0.000,3,    0.000,2,-999,9,-999,9,   2319.9,2,   2412.9,2,   7.5856,2,    25.00,     -999,9,     -999,9,   1.4927,2
  49UP20110515,   P13,    62,  1,      4,      77,2,20110711,0955,1009, 35.9912, 164.9835, 5620,   5097.9,     5001,   1.5023,  34.6914,2,    163.1,2,  34.6914,6,   163.38,2,   145.37,6,    35.40,6,     0.00,6,    2.460,6,     -999,9,     -999,9,-999,9,-999,9,   2318.2,2,   2411.0,2,   7.5914,2,    25.00,     -999,9,     -999,9,   1.5024,2
  49UP20110515,   P13,    62,  1,      3,      76,2,20110711,0955,1004, 35.9912, 164.9835, 5620,   5355.5,     5251,   1.5116,  34.6934,2,    167.0,2,  34.6935,2,   167.11,2,   142.16,2,    35.10,2,     0.00,2,    2.430,2,     -999,9,     -999,9,-999,9,-999,9,   2312.8,2,   2406.7,2,   7.5948,2,    25.00,     -999,9,     -999,9,   1.5116,2
  49UP20110515,   P13,    62,  1,      2,      75,2,20110711,0955,0956, 35.9912, 164.9835, 5620,   5713.9,     5598,   1.5382,  34.6951,2,    170.5,2,  34.6953,2,   170.64,2,   139.03,2,    34.89,2,     0.00,2,    2.410,2,     -999,9,     -999,9,-999,9,-999,9,   2297.3,3,   2406.4,2,   7.5950,2,    25.00,     -999,9,     -999,9,   1.5380,2
  49UP20110515,   P13,    62,  1,      1,      74,2,20110711,0955,0956, 35.9912, 164.9835, 5620,   5713.9,     5598,   1.5382,  34.6951,2,    170.5,2,  34.6954,2,   170.26,2,   138.94,2,    34.91,2,     0.00,2,    2.410,2,    0.000,3,    0.000,2,-999,9,-999,9,   2308.6,2,   2405.8,2,   7.5957,2,    25.00,     -999,9,     -999,9,   1.5380,2