BOTTLE,20240116CCHSIOVAJ
EXPOCODE,SECT_ID,STNNBR,CASTNO,SAMPNO,BTLNBR,BTLNBR_FLAG_W,DATE,TIME,BTL_TIME,LATITUDE,LONGITUDE,DEPTH,CTDPRS,CTDDEPTH,CTDTMP,CTDSAL,CTDSAL_FLAG_W,CTDOXY,CTDOXY_FLAG_W,SALNTY,SALNTY_FLAG_W,OXYGEN,OXYGEN_FLAG_W,SILCAT,SILCAT_FLAG_W,NO2+NO3,NO2+NO3_FLAG_W,NITRIT,NITRIT_FLAG_W,PHSPHT,PHSPHT_FLAG_W,CFC-11,CFC-11_FLAG_W,CFC-12,CFC-12_FLAG_W,DELC14,DELC14_FLAG_W,DELC13,DELC13_FLAG_W,TCARBN,TCARBN_FLAG_W,ALKALI,ALKALI_FLAG_W,PH_TOT,PH_TOT_FLAG_W,PH_TMP,CHLORA,CHLORA_FLAG_W,PPHYTN,PPHYTN_FLAG_W,REFTMP,REFTMP_FLAG_W
,,,,,,,,,,,,METERS,DBAR,METERS,ITS-90,PSS-78,,UMOL/KG,,PSS-78,,UMOL/KG,,UMOL/KG,,UMOL/KG,,UMOL/KG,,UMOL/KG,,PMOL/KG,,PMOL/KG,,/MILLE,,/MILLE,,UMOL/KG,,UMOL/KG,,,,DEG C,UG/KG,,UG/KG,,ITS-90,
  49UP20110515,   P13,   151,  1,      0,     BUC,2,20110815,0441,0600, -7.9733, 161.0112, 3035,      0.0,        0,  29.0631,  35.2397,2,    195.4,2,     -999,9,   194.57,2,     1.02,2,     0.02,2,     0.01,2,    0.210,2,     -999,9,     -999,9,-999,9,-999,9,     -999,9,     -999,9,     -999,9,     -999,     0.13,2,     0.05,2,     -999,9
  49UP20110515,   P13,   151,  1,     36,     109,2,20110815,0441,0616, -7.9733, 161.0112, 3035,     10.8,       11,  29.0719,  35.2396,2,    195.4,2,  35.2380,2,   195.16,2,     0.99,2,     0.01,2,     0.01,2,    0.200,2,    1.658,3,    1.015,2,-999,9,-999,9,   1968.3,2,   2316.6,2,   8.1142,2,    25.00,     0.13,2,     0.04,2,  29.0727,2
  49UP20110515,   P13,   151,  1,     35,     108,2,20110815,0441,0615, -7.9733, 161.0112, 3035,     25.4,       25,  29.0529,  35.2372,2,    195.2,2,  35.2356,2,   194.95,2,     0.88,2,     0.03,2,     0.01,2,    0.200,2,    1.681,3,    1.034,2,-999,9,-999,9,   1968.7,6,   2316.0,6,   8.1181,2,    25.00,     0.13,2,     0.06,2,  29.0539,2
  49UP20110515,   P13,   151,  1,     34,     107,2,20110815,0441,0612, -7.9733, 161.0112, 3035,     50.0,       50,  29.0117,  35.2363,2,    194.7,2,  35.2349,2,   194.97,2,     0.93,2,     0.04,2,     0.01,2,    0.200,2,    1.663,3,    1.030,2,-999,9,-999,9,   1971.0,2,   2316.5,2,   8.1172,6,    25.00,     0.16,2,     0.07,2,  29.0108,2
  49UP20110515,   P13,   151,  1,     33,     106,2,20110815,0441,0610, -7.9733, 161.0112, 3035,     75.1,       75,  28.9462,  35.4055,2,    183.3,2,  35.4045,6,   183.47,2,     1.31,2,     1.62,2,     0.34,2,    0.320,2,    1.676,3,    1.040,2,-999,9,-999,9,   1996.8,2,   2326.8,2,   8.0829,2,    25.00,     0.23,2,     0.23,2,  28.9444,2
  49UP20110515,   P13,   151,  1,     32,     105,2,20110815,0441,0609, -7.9733, 161.0112, 3035,    101.2,      101,  28.1429,  35.6026,2,    166.2,2,  35.6046,2,   166.78,2,     1.54,6,     5.06,6,     0.12,6,    0.530,6,    1.618,3,    1.067,2,-999,9,-999,9,   2031.3,2,   2336.3,2,   8.0385,2,    25.00,     0.20,2,     0.30,2,  28.1438,2
  49UP20110515,   P13,   151,  1,     31,     104,2,20110815,0441,0608, -7.9733, 161.0112, 3035,    125.6,      125,  27.3289,  35.6118,2,    157.8,2,  35.6189,2,   157.88,2,     1.69,2,     6.23,2,     0.04,2,    0.600,2,    1.685,3,    1.093,6,-999,9,-999,9,   2049.5,2,   2337.8,2,   8.0147,2,    25.00,     0.09,2,     0.22,2,  27.3324,2
  49UP20110515,   P13,   151,  1,     30,     103,2,20110815,0441,0606, -7.9733, 161.0112, 3035,    151.3,      150,  25.5939,  35.7450,2,    139.3,2,  35.7415,2,   139.12,2,     1.88,2,     7.44,2,     0.01,2,    0.670,2,    1.830,3,    1.176,2,-999,9,-999,9,   2076.0,2,   2344.2,2,   7.9791,2,    25.00,     0.04,2,     0.04,2,  25.6086,2
  49UP20110515,   P13,   151,  1,     29,     102,2,20110815,0441,0604, -7.9733, 161.0112, 3035,    202.0,      201,  22.2148,  35.8441,2,    131.2,2,  35.8433,2,   131.56,2,     2.37,2,     8.91,2,     0.01,2,    0.800,2,    2.000,3,    1.273,2,-999,9,-999,9,   2117.0,2,   2354.5,2,   7.9153,2,    25.00,     0.00,2,     0.02,2,  22.1974,2
  49UP20110515,   P13,   151,  1,     27,     100,2,20110815,0441,0602, -7.9733, 161.0112, 3035,    251.4,      250,  16.3979,  35.3068,2,    123.7,2,  35.3182,4,   124.15,2,     6.42,2,    14.37,2,     0.00,2,    1.200,2,    1.962,3,    1.174,6,-999,9,-999,9,   2150.1,2,   2325.3,2,   7.7929,2,    25.00,     -999,9,     -999,9,  16.3907,2
  49UP20110515,   P13,   151,  1,     28,     101,2,20110815,0441,0602, -7.9733, 161.0112, 3035,    252.9,      251,  16.1308,  35.2822,2,    122.9,2,  35.3024,4,   123.33,2,     6.66,2,    14.60,2,     0.00,2,    1.210,2,    1.966,3,    1.173,2,-999,9,-999,9,   2150.0,2,   2325.2,2,   7.7948,2,    25.00,     -999,9,     -999,9,  16.1540,2
  49UP20110515,   P13,   151,  1,     26,      99,2,20110815,0441,0600, -7.9733, 161.0112, 3035,    334.3,      332,  11.9559,  34.8875,2,    111.1,2,  34.8865,6,   111.63,2,    14.90,6,    22.86,6,     0.00,6,    1.730,6,    1.381,3,    0.776,2,-999,9,-999,9,   2183.2,2,   2305.8,2,   7.6764,2,    25.00,     -999,9,     -999,9,  11.9573,2
  49UP20110515,   P13,   151,  1,     25,      98,2,20110815,0441,0556, -7.9733, 161.0112, 3035,    384.8,      382,   9.8013,  34.7293,2,    103.0,2,  34.7323,2,   103.40,2,    21.91,2,    28.04,2,     0.00,2,    2.000,2,    0.852,3,    0.465,2,-999,9,-999,9,   2200.9,2,   2302.1,2,   7.6073,2,    25.00,     -999,9,     -999,9,   9.8028,2
  49UP20110515,   P13,   151,  1,     24,      97,2,20110815,0441,0554, -7.9733, 161.0112, 3035,    434.9,      432,   8.7135,  34.6534,2,    114.1,2,  34.6553,2,   114.06,6,    25.45,2,    29.51,2,     0.00,2,    2.070,2,    0.738,3,    0.360,2,-999,9,-999,9,   2202.6,2,   2302.2,2,   7.5956,2,    25.00,     -999,9,     -999,9,   8.7134,2
  49UP20110515,   P13,   151,  1,     23,      96,2,20110815,0441,0552, -7.9733, 161.0112, 3035,    534.2,      531,   7.6005,  34.5848,2,    118.1,2,  34.5838,2,   118.37,2,    31.63,2,    31.55,2,     0.00,2,    2.200,2,    0.517,3,    0.262,2,-999,9,-999,9,   2216.8,2,   2303.7,2,   7.5791,2,    25.00,     -999,9,     -999,9,   7.6013,2
  49UP20110515,   P13,   151,  1,     21,      94,2,20110815,0441,0549, -7.9733, 161.0112, 3035,    634.9,      630,   6.5291,  34.5347,2,    135.3,2,  34.5329,2,   136.69,2,    38.75,2,    31.71,2,     0.00,2,    2.200,2,    0.472,3,    0.249,2,-999,9,-999,9,   2220.3,2,   2311.4,2,   7.5925,3,    25.00,     -999,9,     -999,9,   6.5330,2
  49UP20110515,   P13,   151,  1,     22,      95,2,20110815,0441,0549, -7.9733, 161.0112, 3035,    635.7,      631,   6.5129,  34.5351,2,    135.1,2,  34.5339,2,   136.28,2,    38.81,2,    31.90,2,     0.00,2,    2.220,2,    0.492,3,    0.249,2,-999,9,-999,9,   2221.5,2,   2312.2,2,   7.5877,2,    25.00,     -999,9,     -999,9,   6.5111,2
  49UP20110515,   P13,   151,  1,     20,      93,2,20110815,0441,0546, -7.9733, 161.0112, 3035,    737.3,      732,   5.8293,  34.5190,2,    132.8,2,  34.5187,2,   133.23,2,    47.44,2,    33.38,2,     0.00,2,    2.330,2,    0.296,3,    0.150,2,-999,9,-999,9,   2231.6,6,   2318.4,2,   7.5763,2,    25.00,     -999,9,     -999,9,   5.8297,2
  49UP20110515,   P13,   151,  1,     19,      92,2,20110815,0441,0543, -7.9733, 161.0112, 3035,    835.7,      829,   5.1755,  34.5116,2,    132.4,2,  34.5131,2,   132.88,6,    56.30,6,    34.35,6,     0.00,6,    2.410,6,    0.177,3,    0.091,2,-999,9,-999,9,   2237.3,2,   2325.7,2,   7.5634,6,    25.00,     -999,9,     -999,9,   5.1766,2
  49UP20110515,   P13,   151,  1,     18,      91,2,20110815,0441,0539, -7.9733, 161.0112, 3035,    938.4,      931,   4.6531,  34.5189,2,    131.2,2,  34.5193,6,   131.64,2,    65.68,2,    35.15,2,     0.00,2,    2.460,2,    0.116,3,    0.050,2,-999,9,-999,9,   2256.3,2,   2335.4,2,   7.5641,2,    25.00,     -999,9,     -999,9,   4.6533,2
  49UP20110515,   P13,   151,  1,     16,      89,2,20110815,0441,0535, -7.9733, 161.0112, 3035,   1079.1,     1070,   4.1087,  34.5411,2,    121.6,2,  34.5405,2,   122.48,2,    79.86,2,    36.69,2,     0.00,2,    2.580,2,    0.033,3,    0.010,2,-999,9,-999,9,   2278.5,2,   2349.4,2,   7.5312,2,    25.00,     -999,9,     -999,9,   4.1087,2
  49UP20110515,   P13,   151,  1,     17,      90,2,20110815,0441,0535, -7.9733, 161.0112, 3035,   1079.7,     1071,   4.1085,  34.5411,2,    121.7,2,  34.5404,2,   121.83,2,    79.90,2,    36.69,2,     0.00,2,    2.580,2,    0.029,3,    0.016,2,-999,9,-999,9,   2276.8,2,   2348.6,2,   7.5380,3,    25.00,     -999,9,     -999,9,   4.1086,2
  49UP20110515,   P13,   151,  1,     15,      88,2,20110815,0441,0531, -7.9733, 161.0112, 3035,   1281.6,     1271,   3.2938,  34.5703,2,    127.6,2,  34.5695,2,   128.72,2,    96.03,2,    36.82,2,     0.00,2,    2.590,2,    0.000,3,    0.002,2,-999,9,-999,9,   2289.0,2,   2367.2,2,   7.5392,2,    25.00,     -999,9,     -999,9,   3.2946,2
  49UP20110515,   P13,   151,  1,     14,      87,2,20110815,0441,0524, -7.9733, 161.0112, 3035,   1486.4,     1473,   2.7891,  34.5962,2,    131.8,2,  34.5957,2,   132.40,2,   107.20,6,    36.82,6,     0.00,6,    2.580,6,    0.000,3,    0.000,2,-999,9,-999,9,   2287.4,2,   2378.5,2,   7.5465,2,    25.00,     -999,9,     -999,9,   2.7890,2
  49UP20110515,   P13,   151,  1,     13,      86,2,20110815,0441,0519, -7.9733, 161.0112, 3035,   1688.4,     1672,   2.5149,  34.6139,2,    134.3,2,  34.6147,2,   134.58,2,   114.58,2,    36.77,2,     0.00,2,    2.570,2,    0.025,3,    0.000,2,-999,9,-999,9,   2306.7,2,   2386.4,6,   7.5508,2,    25.00,     -999,9,     -999,9,   2.5152,2
  49UP20110515,   P13,   151,  1,     12,      74,2,20110815,0441,0510, -7.9733, 161.0112, 3035,   1889.3,     1870,   2.2665,  34.6314,2,    135.4,2,  34.6314,2,   135.54,2,   122.17,2,    36.80,2,     0.00,2,    2.570,2,    0.033,3,    0.000,2,-999,9,-999,9,   2308.7,2,   2394.6,2,   7.5522,2,    25.00,     -999,9,     -999,9,   2.2663,2
  49UP20110515,   P13,   151,  1,     10,      83,2,20110815,0441,0504, -7.9733, 161.0112, 3035,   2095.1,     2073,   2.0963,  34.6437,2,    131.9,2,  34.6443,2,   132.43,2,   130.52,2,    37.17,2,     0.00,2,    2.590,2,    0.000,3,    0.000,2,-999,9,-999,9,   2322.9,2,   2402.4,3,   7.5480,2,    25.00,     -999,9,     -999,9,   2.0960,2
  49UP20110515,   P13,   151,  1,     11,     110,2,20110815,0441,0505, -7.9733, 161.0112, 3035,   2096.4,     2074,   2.0933,  34.6440,2,    131.7,2,  34.6440,2,   131.95,2,   130.75,2,    37.09,2,     0.00,2,    2.600,2,     -999,9,     -999,9,-999,9,-999,9,   2325.0,2,   2404.7,2,   7.5499,2,    25.00,     -999,9,     -999,9,   2.0916,2
  49UP20110515,   P13,   151,  1,      9,      82,2,20110815,0441,0500, -7.9733, 161.0112, 3035,   2296.9,     2272,   1.9853,  34.6508,2,    132.6,2,  34.6512,2,   133.02,6,   133.90,2,    37.10,2,     0.00,2,    2.600,2,     -999,9,     -999,9,-999,9,-999,9,   2321.4,2,   2407.3,2,   7.5492,2,    25.00,     -999,9,     -999,9,   1.9851,2
  49UP20110515,   P13,   151,  1,      8,      81,2,20110815,0441,0455, -7.9733, 161.0112, 3035,   2499.7,     2471,   1.9436,  34.6536,2,    132.2,2,  34.6542,2,   132.55,6,   136.53,2,    37.18,2,     0.00,2,    2.610,2,     -999,9,     -999,9,-999,9,-999,9,   2324.9,2,   2408.9,2,   7.5505,2,    25.00,     -999,9,     -999,9,   1.9434,2
  49UP20110515,   P13,   151,  1,      7,      80,2,20110815,0441,0451, -7.9733, 161.0112, 3035,   2703.3,     2671,   1.8646,  34.6584,2,    133.1,2,  34.6583,2,   133.50,2,   138.92,2,    37.12,2,     0.00,2,    2.600,2,    0.001,3,    0.000,2,-999,9,-999,9,   2333.6,2,   2411.6,2,   7.5507,2,    25.00,     -999,9,     -999,9,   1.8645,2
  49UP20110515,   P13,   151,  1,      6,      79,2,20110815,0441,0447, -7.9733, 161.0112, 3035,   2906.2,     2870,   1.7612,  34.6642,2,    136.7,2,  34.6631,2,   136.64,2,   141.40,2,    36.92,2,     0.00,2,    2.590,2,     -999,9,     -999,9,-999,9,-999,9,   2327.7,2,   2413.3,2,   7.5596,2,    25.00,     -999,9,     -999,9,   1.7615,2
  49UP20110515,   P13,   151,  1,      1,     112,2,20110815,0441,0441, -7.9733, 161.0112, 3035,   3111.7,     3072,   1.6334,  34.6722,2,    143.9,2,  34.6726,6,   144.01,2,   141.65,2,    36.48,2,     0.00,2,    2.550,2,    0.000,3,    0.000,2,-999,9,-999,9,   2330.1,2,   2414.2,2,   7.5628,2,    25.00,     -999,9,     -999,9,   1.6329,2