BOTTLE,20240116CCHSIOVAJ
EXPOCODE,SECT_ID,STNNBR,CASTNO,SAMPNO,BTLNBR,BTLNBR_FLAG_W,DATE,TIME,BTL_TIME,LATITUDE,LONGITUDE,DEPTH,CTDPRS,CTDDEPTH,CTDTMP,CTDSAL,CTDSAL_FLAG_W,CTDOXY,CTDOXY_FLAG_W,SALNTY,SALNTY_FLAG_W,OXYGEN,OXYGEN_FLAG_W,SILCAT,SILCAT_FLAG_W,NO2+NO3,NO2+NO3_FLAG_W,NITRIT,NITRIT_FLAG_W,PHSPHT,PHSPHT_FLAG_W,CFC-11,CFC-11_FLAG_W,CFC-12,CFC-12_FLAG_W,DELC14,DELC14_FLAG_W,DELC13,DELC13_FLAG_W,TCARBN,TCARBN_FLAG_W,ALKALI,ALKALI_FLAG_W,PH_TOT,PH_TOT_FLAG_W,PH_TMP,CHLORA,CHLORA_FLAG_W,PPHYTN,PPHYTN_FLAG_W,REFTMP,REFTMP_FLAG_W
,,,,,,,,,,,,METERS,DBAR,METERS,ITS-90,PSS-78,,UMOL/KG,,PSS-78,,UMOL/KG,,UMOL/KG,,UMOL/KG,,UMOL/KG,,UMOL/KG,,PMOL/KG,,PMOL/KG,,/MILLE,,/MILLE,,UMOL/KG,,UMOL/KG,,,,DEG C,UG/KG,,UG/KG,,ITS-90,
  49UP20110515,   P13,   127,  1,      0,     BUC,2,20110809,0609,0752, -0.0692, 164.9935, 4365,      0.0,        0,  29.7795,  34.8273,2,    195.6,2,     -999,9,   195.06,2,     1.14,2,     0.02,2,     0.00,2,    0.170,2,     -999,9,     -999,9,-999,9,-999,9,     -999,9,     -999,9,     -999,9,     -999,     0.07,2,     0.03,2,     -999,9
  49UP20110515,   P13,   127,  1,     36,     109,2,20110809,0609,0825, -0.0692, 164.9935, 4365,     10.8,       11,  29.7330,  34.8210,2,    195.9,2,  34.8197,2,   195.25,2,     1.12,2,     0.02,2,     0.00,2,    0.160,2,    1.571,3,    1.006,2,45.8,2,1.3,2,   1949.1,2,   2286.4,2,   8.1119,2,    25.00,     0.07,2,     0.03,2,  29.7332,2
  49UP20110515,   P13,   127,  1,     35,     108,2,20110809,0609,0824, -0.0692, 164.9935, 4365,     26.3,       26,  29.6197,  34.8318,2,    196.3,2,  34.8314,2,   195.58,6,     1.10,2,     0.00,2,     0.00,2,    0.160,2,    1.542,3,    1.020,2,51.3,2,1.3,2,   1950.5,2,   2287.5,2,   8.1102,2,    25.00,     0.07,2,     0.04,2,  29.6204,2
  49UP20110515,   P13,   127,  1,     34,     107,2,20110809,0609,0823, -0.0692, 164.9935, 4365,     50.6,       50,  29.5381,  34.8182,2,    196.3,2,  34.8209,2,   196.02,2,     1.17,2,     0.02,2,     0.00,2,    0.170,2,    1.525,3,    1.010,2,53.9,2,1.3,2,   1949.6,2,   2287.8,2,   8.1126,2,    25.00,     -999,9,     -999,9,  29.5386,2
  49UP20110515,   P13,   127,  1,     33,     106,2,20110809,0609,0823, -0.0692, 164.9935, 4365,     50.6,       50,  29.5381,  34.8182,2,    196.3,2,  34.8219,2,   196.14,2,     1.02,2,     0.03,2,     0.00,2,    0.160,2,    1.559,3,    1.025,2,-999,9,-999,9,   1948.3,2,   2287.2,2,   8.1110,2,    25.00,     0.10,2,     0.06,2,  29.5386,2
  49UP20110515,   P13,   127,  1,     32,     105,2,20110809,0609,0821, -0.0692, 164.9935, 4365,     76.7,       76,  29.5099,  34.9080,2,    196.0,2,  34.9080,6,   195.90,2,     1.13,2,     0.01,2,     0.00,2,    0.170,2,    1.519,3,    1.014,2,-999,9,-999,9,   1955.1,2,   2291.2,2,   8.1083,2,    25.00,     0.18,2,     0.10,2,  29.5076,2
  49UP20110515,   P13,   127,  1,     31,     104,2,20110809,0609,0820, -0.0692, 164.9935, 4365,    101.1,      101,  29.1260,  35.3340,2,    193.3,2,  35.3315,2,   193.24,2,     1.36,2,     1.35,2,     0.10,2,    0.310,2,    1.606,3,    1.031,6,42.1,2,1.2,2,   1998.7,2,   2317.0,2,   8.0767,2,    25.00,     0.24,2,     0.23,2,  29.1268,2
  49UP20110515,   P13,   127,  1,     30,     103,2,20110809,0609,0819, -0.0692, 164.9935, 4365,    125.5,      125,  27.8917,  35.5598,2,    172.5,2,  35.5576,2,   172.13,2,     1.78,2,     5.18,2,     0.90,2,    0.540,2,    1.553,3,    1.063,2,-999,9,-999,9,   2039.1,2,   2333.4,2,   8.0277,6,    25.00,     0.09,2,     0.10,2,  27.9051,2
  49UP20110515,   P13,   127,  1,     29,     102,2,20110809,0609,0815, -0.0692, 164.9935, 4365,    152.7,      152,  24.1987,  35.5870,2,    139.2,2,  35.5825,2,   138.87,2,     3.01,2,     8.90,2,     0.02,2,    0.760,2,    1.686,3,    1.188,2,52.8,2,0.8,2,   2085.6,6,   2335.9,6,   7.9454,2,    25.00,     0.04,2,     0.03,2,  24.1991,2
  49UP20110515,   P13,   127,  1,     28,     101,2,20110809,0609,0813, -0.0692, 164.9935, 4365,    201.3,      200,  17.2925,  35.2787,2,    143.0,2,  35.2784,2,   143.06,2,     6.85,6,    12.44,6,     0.01,6,    0.960,6,    1.849,3,    1.241,2,46.9,6,0.7,6,   2123.1,2,   2319.5,2,   7.8494,2,    25.00,     0.00,2,     0.02,2,  17.2924,2
  49UP20110515,   P13,   127,  1,     27,     100,2,20110809,0609,0811, -0.0692, 164.9935, 4365,    252.6,      251,  13.2782,  34.9841,2,    147.0,2,  34.9775,2,   146.60,2,    12.65,2,    17.91,2,     0.01,2,    1.310,2,    1.708,3,    1.060,6,-999,9,-999,9,   2148.3,2,   2309.9,2,   7.7687,2,    25.00,     -999,9,     -999,9,  13.2795,2
  49UP20110515,   P13,   127,  1,     26,      99,2,20110809,0609,0759, -0.0692, 164.9935, 4365,    329.4,      327,  10.7157,  34.7656,2,    112.2,2,  34.7666,2,   110.35,6,    23.10,2,    25.96,2,     0.00,2,    1.820,2,    1.137,3,    0.697,2,-18.1,2,0.5,2,   2194.3,2,   2303.4,2,   7.6417,2,    25.00,     -999,9,     -999,9,  10.7276,2
  49UP20110515,   P13,   127,  1,     25,      98,2,20110809,0609,0757, -0.0692, 164.9935, 4365,    383.3,      381,   9.5945,  34.6985,2,     99.1,2,  34.6922,2,    97.78,2,    26.95,2,    29.54,2,     0.00,2,    2.060,2,    0.797,3,    0.484,2,-999,9,-999,9,   2210.7,2,   2305.0,2,   7.5889,2,    25.00,     -999,9,     -999,9,   9.6016,2
  49UP20110515,   P13,   127,  1,     24,      97,2,20110809,0609,0753, -0.0692, 164.9935, 4365,    432.8,      430,   8.8529,  34.6440,2,    115.8,2,  34.6434,2,   114.95,2,    28.42,2,    29.17,2,     0.00,2,    2.030,2,    0.828,3,    0.477,2,-68.0,2,0.6,2,   2208.2,2,   2301.7,2,   7.6035,6,    25.00,     -999,9,     -999,9,   8.8578,2
  49UP20110515,   P13,   127,  1,     23,      96,2,20110809,0609,0749, -0.0692, 164.9935, 4365,    535.1,      531,   7.2034,  34.5534,2,    134.6,2,  34.5535,2,   134.82,2,    34.43,2,    30.52,2,     0.00,2,    2.120,2,    0.619,3,    0.352,2,-81.8,2,0.7,2,   2212.8,6,   2305.3,6,   7.6015,2,    25.00,     -999,9,     -999,9,   7.2061,2
  49UP20110515,   P13,   127,  1,     22,      95,2,20110809,0609,0746, -0.0692, 164.9935, 4365,    639.4,      635,   6.4451,  34.5497,2,     91.1,2,  34.5505,6,    91.53,2,    49.36,2,    36.26,2,     0.00,2,    2.550,2,    0.222,3,    0.111,2,-116.8,2,0.4,2,   2253.3,2,   2318.0,2,   7.5139,2,    25.00,     -999,9,     -999,9,   6.4503,2
  49UP20110515,   P13,   127,  1,     21,      94,2,20110809,0609,0743, -0.0692, 164.9935, 4365,    738.1,      733,   5.8380,  34.5432,2,     85.8,2,  34.5435,2,    85.48,2,    59.65,2,    37.97,2,     0.00,2,    2.680,2,    0.098,3,    0.043,2,-139.7,2,0.3,2,   2266.4,2,   2326.1,2,   7.5017,2,    25.00,     -999,9,     -999,9,   5.8383,2
  49UP20110515,   P13,   127,  1,     20,      93,2,20110809,0609,0741, -0.0692, 164.9935, 4365,    837.0,      831,   5.4074,  34.5377,2,     94.6,2,  34.5369,2,    94.80,2,    64.70,6,    37.74,6,     0.00,6,    2.660,6,    0.074,3,    0.034,2,-141.4,2,0.3,2,   2271.7,2,   2331.1,2,   7.5079,2,    25.00,     -999,9,     -999,9,   5.4076,2
  49UP20110515,   P13,   127,  1,     19,      92,2,20110809,0609,0738, -0.0692, 164.9935, 4365,    937.7,      930,   4.8667,  34.5463,2,     89.6,2,  34.5469,2,    89.51,6,    76.14,2,    38.57,2,     0.00,2,    2.730,2,    0.046,3,    0.016,2,-170.3,2,0.3,2,   2288.6,2,   2342.7,2,   7.4945,2,    25.00,     -999,9,     -999,9,   4.8665,2
  49UP20110515,   P13,   127,  1,     18,      91,2,20110809,0609,0730, -0.0692, 164.9935, 4365,   1080.1,     1071,   4.1841,  34.5606,2,     94.5,2,  34.5596,2,    94.45,2,    90.88,2,    38.78,2,     0.00,2,    2.740,2,    0.022,3,    0.001,2,-190.8,2,0.2,2,   2303.5,2,   2359.2,2,   7.4995,2,    25.00,     -999,9,     -999,9,   4.1841,2
  49UP20110515,   P13,   127,  1,     17,      90,2,20110809,0609,0726, -0.0692, 164.9935, 4365,   1281.0,     1270,   3.5362,  34.5830,2,     91.7,2,  34.5831,2,    91.62,2,   107.01,2,    39.48,2,     0.00,2,    2.820,2,    0.000,3,    0.000,2,-214.6,2,0.1,2,   2319.6,2,   2377.7,2,   7.4911,2,    25.00,     -999,9,     -999,9,   3.5359,2
  49UP20110515,   P13,   127,  1,     16,      89,2,20110809,0609,0722, -0.0692, 164.9935, 4365,   1483.7,     1470,   3.1033,  34.5989,2,     97.3,2,  34.5988,2,    97.36,2,   116.33,2,    39.36,2,     0.00,2,    2.790,2,    0.000,3,    0.000,2,-219.9,2,-0.1,2,   2331.5,2,   2387.9,2,   7.4974,2,    25.00,     -999,9,     -999,9,   3.1042,2
  49UP20110515,   P13,   127,  1,     15,      88,2,20110809,0609,0711, -0.0692, 164.9935, 4365,   1687.7,     1672,   2.6638,  34.6164,2,    107.4,2,  34.6165,2,   106.48,2,   125.07,2,    39.02,2,     0.00,2,    2.740,2,    0.031,3,    0.001,2,-999,9,-999,9,   2334.5,2,   2398.1,2,   7.5132,2,    25.00,     -999,9,     -999,9,   2.6721,2
  49UP20110515,   P13,   127,  1,     14,      87,2,20110809,0609,0706, -0.0692, 164.9935, 4365,   1889.4,     1871,   2.3377,  34.6326,2,    113.6,2,  34.6324,2,   113.51,2,   132.96,2,    38.43,2,     0.00,2,    2.710,2,     -999,9,     -999,9,-226.6,2,0.1,3,   2338.9,2,   2406.6,2,   7.5224,2,    25.00,     -999,9,     -999,9,   2.3380,2
  49UP20110515,   P13,   127,  1,     13,      86,2,20110809,0609,0700, -0.0692, 164.9935, 4365,   2092.7,     2071,   2.1859,  34.6417,2,    115.6,2,  34.6425,2,   115.43,2,   136.59,2,    38.52,2,     0.00,2,    2.690,2,     -999,9,     -999,9,-999,9,-999,9,   2341.7,2,   2412.6,2,   7.5279,2,    25.00,     -999,9,     -999,9,   2.1861,2
  49UP20110515,   P13,   127,  1,     12,      74,2,20110809,0609,0655, -0.0692, 164.9935, 4365,   2296.1,     2271,   2.0273,  34.6495,2,    121.5,2,  34.6503,2,   121.50,2,   139.49,2,    38.08,2,     0.00,2,    2.660,2,     -999,9,     -999,9,-231.4,2,0.0,2,   2340.2,2,   2413.2,2,   7.5374,6,    25.00,     -999,9,     -999,9,   2.0275,2
  49UP20110515,   P13,   127,  1,     11,     110,2,20110809,0609,0651, -0.0692, 164.9935, 4365,   2501.3,     2473,   1.8612,  34.6587,2,    126.1,2,  34.6593,2,   125.96,2,   143.00,6,    37.82,6,     0.00,6,    2.640,6,    0.010,3,    0.000,2,-999,9,-999,9,   2341.7,6,   2415.5,6,   7.5457,2,    25.00,     -999,9,     -999,9,   1.8611,2
  49UP20110515,   P13,   127,  1,     10,      83,2,20110809,0609,0647, -0.0692, 164.9935, 4365,   2703.5,     2671,   1.7481,  34.6647,2,    130.8,2,  34.6646,2,   130.67,2,   144.88,2,    37.57,2,     0.00,2,    2.620,2,     -999,9,     -999,9,-227.0,2,0.1,2,   2341.0,2,   2418.4,2,   7.5468,2,    25.00,     -999,9,     -999,9,   1.7482,2
  49UP20110515,   P13,   127,  1,      9,      82,2,20110809,0609,0642, -0.0692, 164.9935, 4365,   2907.9,     2872,   1.6973,  34.6676,2,    134.2,2,  34.6676,2,   134.12,2,   145.44,2,    37.41,2,     0.00,2,    2.590,2,     -999,9,     -999,9,-999,9,-999,9,   2339.4,2,   2418.2,2,   7.5533,2,    25.00,     -999,9,     -999,9,   1.6975,2
  49UP20110515,   P13,   127,  1,      8,      81,2,20110809,0609,0642, -0.0692, 164.9935, 4365,   2907.9,     2872,   1.6973,  34.6676,2,    134.2,2,  34.6669,6,   134.13,2,   145.06,2,    37.29,2,     0.00,2,    2.600,2,     -999,9,     -999,9,-999,9,-999,9,   2339.0,2,   2419.9,2,   7.5534,2,    25.00,     -999,9,     -999,9,   1.6975,2
  49UP20110515,   P13,   127,  1,      7,      80,2,20110809,0609,0638, -0.0692, 164.9935, 4365,   3121.1,     3081,   1.6084,  34.6734,2,    140.5,2,  34.6729,2,   140.59,2,   145.11,2,    36.94,2,     0.00,2,    2.560,2,     -999,9,     -999,9,-229.2,2,0.1,2,   2332.9,2,   2418.3,2,   7.5616,2,    25.00,     -999,9,     -999,9,   1.6085,2
  49UP20110515,   P13,   127,  1,      6,      79,2,20110809,0609,0633, -0.0692, 164.9935, 4365,   3376.9,     3332,   1.5728,  34.6766,2,    144.9,2,  34.6760,2,   144.99,2,   144.22,2,    36.70,2,     0.00,2,    2.540,2,     -999,9,     -999,9,-999,9,-999,9,   2334.5,2,   2414.4,2,   7.5698,2,    25.00,     -999,9,     -999,9,   1.5727,2
  49UP20110515,   P13,   127,  1,      5,      78,3,20110809,0609,0627, -0.0692, 164.9935, 4365,   3632.0,     3581,   1.5251,  34.6815,2,    150.5,2,  34.6828,2,   150.49,2,   142.37,2,    36.27,2,     0.00,2,    2.510,2,    0.012,3,    0.000,2,-214.9,2,0.2,2,   2328.2,2,   2416.0,2,   7.5791,2,    25.00,     -999,9,     -999,9,   1.5251,2
  49UP20110515,   P13,   127,  1,      4,      77,2,20110809,0609,0622, -0.0692, 164.9935, 4365,   3888.1,     3832,   1.4590,  34.6879,2,    159.9,2,  34.6890,2,   160.00,2,   139.07,2,    35.59,2,     0.00,2,    2.460,2,     -999,9,     -999,9,-999,9,-999,9,   2331.1,3,   2413.5,2,   7.5877,2,    25.00,     -999,9,     -999,9,   1.4589,2
  49UP20110515,   P13,   127,  1,      3,      76,2,20110809,0609,0617, -0.0692, 164.9935, 4365,   4141.5,     4079,   1.4006,  34.6936,2,    170.0,2,  34.6939,2,   169.51,2,   134.63,2,    34.93,2,     0.00,2,    2.400,2,     -999,9,     -999,9,-201.1,2,0.3,2,   2312.4,2,   2405.2,2,   7.5977,2,    25.00,     -999,9,     -999,9,   1.3997,2
  49UP20110515,   P13,   127,  1,      2,      75,2,20110809,0609,0612, -0.0692, 164.9935, 4365,   4398.9,     4330,   1.3387,  34.6993,2,    180.0,2,  34.6990,2,   180.24,6,   129.26,6,    34.04,6,     0.00,6,    2.340,6,     -999,9,     -999,9,-999,9,-999,9,   2299.6,2,   2391.2,3,   7.6038,2,    25.00,     -999,9,     -999,9,   1.3387,2
  49UP20110515,   P13,   127,  1,      1,     112,2,20110809,0609,0610, -0.0692, 164.9935, 4365,   4421.6,     4352,   1.3406,  34.6991,2,    180.1,2,  34.6992,6,   179.71,2,   129.35,2,    34.05,2,     0.00,2,    2.340,2,    0.064,3,    0.004,2,-201.0,2,0.3,2,   2299.5,2,   2394.6,2,   7.6019,2,    25.00,     -999,9,     -999,9,   1.3406,2