BOTTLE,20240116CCHSIOVAJ
EXPOCODE,SECT_ID,STNNBR,CASTNO,SAMPNO,BTLNBR,BTLNBR_FLAG_W,DATE,TIME,BTL_TIME,LATITUDE,LONGITUDE,DEPTH,CTDPRS,CTDDEPTH,CTDTMP,CTDSAL,CTDSAL_FLAG_W,CTDOXY,CTDOXY_FLAG_W,SALNTY,SALNTY_FLAG_W,OXYGEN,OXYGEN_FLAG_W,SILCAT,SILCAT_FLAG_W,NO2+NO3,NO2+NO3_FLAG_W,NITRIT,NITRIT_FLAG_W,PHSPHT,PHSPHT_FLAG_W,CFC-11,CFC-11_FLAG_W,CFC-12,CFC-12_FLAG_W,DELC14,DELC14_FLAG_W,DELC13,DELC13_FLAG_W,TCARBN,TCARBN_FLAG_W,ALKALI,ALKALI_FLAG_W,PH_TOT,PH_TOT_FLAG_W,PH_TMP,CHLORA,CHLORA_FLAG_W,PPHYTN,PPHYTN_FLAG_W,REFTMP,REFTMP_FLAG_W
,,,,,,,,,,,,METERS,DBAR,METERS,ITS-90,PSS-78,,UMOL/KG,,PSS-78,,UMOL/KG,,UMOL/KG,,UMOL/KG,,UMOL/KG,,UMOL/KG,,PMOL/KG,,PMOL/KG,,/MILLE,,/MILLE,,UMOL/KG,,UMOL/KG,,,,DEG C,UG/KG,,UG/KG,,ITS-90,
  49UP20110515,   P13,    50,  1,      0,     BUC,2,20110617,1955,2230, 44.0027, 165.0185, 5743,      0.0,        0,   6.8688,  33.1517,2,    308.9,2,     -999,9,   308.24,2,    21.53,2,    12.16,2,     0.20,2,    1.170,2,     -999,9,     -999,9,-999,9,-999,9,     -999,9,     -999,9,     -999,9,     -999,     1.04,2,     0.02,2,     -999,9
  49UP20110515,   P13,    50,  1,     36,     109,2,20110617,1955,2244, 44.0027, 165.0185, 5743,     10.6,       11,   6.8090,  33.1494,2,    309.5,2,  33.1512,2,   309.79,2,    21.29,6,    12.02,6,     0.19,6,    1.110,6,    4.688,2,    2.615,2,-999,9,-999,9,   2071.8,2,   2231.9,2,   7.7938,2,    25.00,     0.56,2,     0.04,2,   6.8089,2
  49UP20110515,   P13,    50,  1,     35,     108,2,20110617,1955,2240, 44.0027, 165.0185, 5743,     50.4,       50,   5.6661,  33.1717,2,    311.0,2,  33.1598,4,   309.52,2,    21.71,2,    12.62,2,     0.25,2,    1.160,2,     -999,5,     -999,5,-999,9,-999,9,   2079.9,2,   2231.4,2,   7.7785,2,    25.00,     0.47,2,     0.11,2,   5.6383,2
  49UP20110515,   P13,    50,  1,     34,     107,2,20110617,1955,2237, 44.0027, 165.0185, 5743,    101.7,      101,   4.4609,  33.2159,2,    307.9,2,  33.2178,2,   308.10,6,    25.64,2,    16.55,2,     0.02,2,    1.360,2,    4.729,2,    2.811,2,-999,9,-999,9,   2100.2,2,   2235.3,2,   7.7286,2,    25.00,     0.04,2,     0.05,2,   4.4578,2
  49UP20110515,   P13,    50,  1,     33,     106,2,20110617,1955,2234, 44.0027, 165.0185, 5743,    151.8,      151,   4.8268,  33.4274,2,    289.9,2,  33.3972,4,   291.55,2,    28.40,6,    18.27,6,     0.01,6,    1.450,6,    4.291,2,    2.703,2,-999,9,-999,9,   2114.9,2,   2243.2,2,   7.7086,2,    25.00,     0.01,2,     0.05,2,   4.8210,2
  49UP20110515,   P13,    50,  1,     32,     105,2,20110617,1955,2231, 44.0027, 165.0185, 5743,    205.7,      204,   4.3389,  33.6753,2,    194.7,2,  33.6709,2,   195.39,2,    53.66,2,    28.31,2,     0.01,2,    2.100,2,    3.882,2,    2.175,2,-999,9,-999,9,   2204.0,2,   2268.2,2,   7.5390,2,    25.00,     0.00,2,     0.04,2,   4.3483,2
  49UP20110515,   P13,    50,  1,     31,     104,2,20110617,1955,2229, 44.0027, 165.0185, 5743,    253.9,      252,   4.1250,  33.7155,2,    168.3,2,  33.7157,2,   167.93,2,    62.51,2,    31.34,2,     0.00,2,    2.320,2,    3.657,2,    1.943,2,-999,9,-999,9,   2228.2,2,   2277.4,2,   7.4924,2,    25.00,     -999,9,     -999,9,   4.1250,2
  49UP20110515,   P13,    50,  1,     30,     103,2,20110617,1955,2227, 44.0027, 165.0185, 5743,    333.3,      330,   3.9025,  33.8167,2,    122.8,2,  33.8166,2,   122.63,2,    77.13,2,    35.65,2,     0.00,2,    2.590,2,    3.017,2,    1.611,2,-999,9,-999,9,   2264.7,6,   2290.4,6,   7.4061,2,    25.00,     -999,9,     -999,9,   3.9028,2
  49UP20110515,   P13,    50,  1,     29,     102,2,20110617,1955,2224, 44.0027, 165.0185, 5743,    434.1,      430,   3.8440,  33.9477,2,     83.4,2,  33.9482,2,    83.39,2,    91.35,2,    38.85,2,     0.00,2,    2.800,2,     -999,5,     -999,5,-999,9,-999,9,   2295.2,2,   2306.9,2,   7.3619,2,    25.00,     -999,9,     -999,9,   3.8444,2
  49UP20110515,   P13,    50,  1,     28,     101,2,20110617,1955,2224, 44.0027, 165.0185, 5743,    434.1,      430,   3.8440,  33.9477,2,     83.4,2,  33.9477,2,    83.43,2,    91.28,2,    38.93,2,     0.00,2,    2.800,2,    2.286,2,    1.197,2,-999,9,-999,9,   2294.0,2,   2305.7,2,   7.3551,2,    25.00,     -999,9,     -999,9,   3.8444,2
  49UP20110515,   P13,    50,  1,     27,     100,2,20110617,1955,2220, 44.0027, 165.0185, 5743,    535.0,      530,   3.7572,  34.0606,2,     58.7,2,  34.0610,2,    58.63,2,   103.40,2,    40.62,2,     0.00,2,    2.910,2,    1.550,6,    0.808,6,-999,9,-999,9,   2315.7,2,   2323.6,2,   7.3431,2,    25.00,     -999,9,     -999,9,   3.7574,2
  49UP20110515,   P13,    50,  1,     26,      99,2,20110617,1955,2217, 44.0027, 165.0185, 5743,    637.2,      631,   3.6139,  34.1636,2,     43.2,2,  34.1624,2,    44.16,6,   115.24,3,    41.73,2,     0.00,2,    2.980,2,    1.107,2,    0.526,2,-999,9,-999,9,   2338.9,2,   2337.9,2,   7.3272,2,    25.00,     -999,9,     -999,9,   3.6135,2
  49UP20110515,   P13,    50,  1,     25,      98,2,20110617,1955,2213, 44.0027, 165.0185, 5743,    738.0,      731,   3.3594,  34.2470,2,     35.6,2,  34.2464,2,    36.14,2,   126.05,2,    42.72,2,     0.00,2,    3.050,2,     -999,5,     -999,5,-999,9,-999,9,   2348.7,2,   2352.1,2,   7.3249,2,    25.00,     -999,9,     -999,9,   3.3599,2
  49UP20110515,   P13,    50,  1,     24,      97,2,20110617,1955,2208, 44.0027, 165.0185, 5743,    838.8,      830,   3.1370,  34.3119,2,     33.1,2,  34.3118,6,    32.98,2,   134.85,2,    42.92,2,     0.00,2,    3.070,2,    0.489,2,    0.196,2,-999,9,-999,9,   2359.7,2,   2362.8,2,   7.3313,2,    25.00,     -999,9,     -999,9,   3.1369,2
  49UP20110515,   P13,    50,  1,     23,      96,2,20110617,1955,2205, 44.0027, 165.0185, 5743,    940.8,      931,   2.9818,  34.3470,2,     31.5,2,  34.3470,2,    31.72,2,   139.90,2,    43.18,2,     0.00,2,    3.070,2,    0.368,2,    0.153,2,-999,9,-999,9,   2372.7,2,   2369.9,2,   7.3309,3,    25.00,     -999,9,     -999,9,   2.9828,2
  49UP20110515,   P13,    50,  1,     22,      95,2,20110617,1955,2201, 44.0027, 165.0185, 5743,   1082.1,     1071,   2.7746,  34.4033,2,     32.1,2,  34.4028,2,    32.09,6,   147.28,2,    43.13,2,     0.00,2,    3.070,2,    0.245,2,    0.102,2,-999,9,-999,9,   2381.9,2,   2379.6,2,   7.3381,2,    25.00,     -999,9,     -999,9,   2.7747,2
  49UP20110515,   P13,    50,  1,     21,      94,2,20110617,1955,2156, 44.0027, 165.0185, 5743,   1286.2,     1272,   2.4779,  34.4647,2,     35.1,2,  34.4646,2,    34.65,2,   156.99,6,    43.25,6,     0.00,6,    3.080,2,    0.118,2,    0.039,2,-999,9,-999,9,   2388.3,2,   2389.8,2,   7.3411,2,    25.00,     -999,9,     -999,9,   2.4771,2
  49UP20110515,   P13,    50,  1,     20,      93,2,20110617,1955,2149, 44.0027, 165.0185, 5743,   1490.1,     1473,   2.3001,  34.5096,2,     43.8,2,  34.5095,2,    43.88,2,   160.24,2,    43.06,2,     0.00,2,    3.010,3,    0.062,2,    0.020,2,-999,9,-999,9,   2388.2,2,   2398.2,2,   7.3659,6,    25.00,     -999,9,     -999,9,   2.3001,2
  49UP20110515,   P13,    50,  1,     19,      92,2,20110617,1955,2144, 44.0027, 165.0185, 5743,   1691.6,     1671,   2.1287,  34.5450,2,     52.6,2,  34.5441,2,    52.93,2,   164.43,2,    42.42,2,     0.00,2,    2.980,2,    0.029,2,    0.009,2,-999,9,-999,9,   2385.6,6,   2406.5,6,   7.3856,2,    25.00,     -999,9,     -999,9,   2.1287,2
  49UP20110515,   P13,    50,  1,     18,      91,2,20110617,1955,2135, 44.0027, 165.0185, 5743,   1894.9,     1871,   1.9972,  34.5741,2,     61.8,2,  34.5746,2,    61.59,2,   166.84,2,    41.84,2,     0.00,2,    2.940,2,    0.026,2,    0.011,2,-999,9,-999,9,   2380.3,2,   2408.7,2,   7.4132,2,    25.00,     -999,9,     -999,9,   1.9972,2
  49UP20110515,   P13,    50,  1,     17,      90,2,20110617,1955,2129, 44.0027, 165.0185, 5743,   2098.0,     2071,   1.8781,  34.5998,2,     74.3,2,  34.6000,2,    74.67,2,   166.59,4,    41.14,2,     0.00,2,    2.890,2,    0.006,2,    0.000,2,-999,9,-999,9,   2375.4,2,   2411.1,2,   7.4345,2,    25.00,     -999,9,     -999,9,   1.8782,2
  49UP20110515,   P13,    50,  1,     16,      89,2,20110617,1955,2125, 44.0027, 165.0185, 5743,   2301.8,     2271,   1.7837,  34.6187,2,     86.3,2,  34.6184,2,    86.44,2,   166.36,2,    40.34,2,     0.00,2,    2.850,2,    0.012,2,    0.000,2,-999,9,-999,9,   2366.9,2,   2413.8,2,   7.4596,2,    25.00,     -999,9,     -999,9,   1.7837,2
  49UP20110515,   P13,    50,  1,     15,      88,2,20110617,1955,2117, 44.0027, 165.0185, 5743,   2505.4,     2471,   1.6994,  34.6347,2,     98.6,2,  34.6346,2,    98.73,2,   164.52,2,    39.63,2,     0.00,2,    2.780,2,    0.030,2,    0.000,2,-999,9,-999,9,   2360.0,2,   2416.7,2,   7.4853,2,    25.00,     -999,9,     -999,9,   1.6995,2
  49UP20110515,   P13,    50,  1,     14,      87,3,20110617,1955,2113, 44.0027, 165.0185, 5743,   2709.7,     2671,   1.6390,  34.6459,2,    108.7,2,  34.6462,2,   108.80,2,   162.21,4,    38.96,2,     0.00,2,    2.720,2,    0.019,2,    0.000,2,-999,9,-999,9,   2360.8,2,   2418.4,2,   7.5005,2,    25.00,     -999,9,     -999,9,   1.6389,2
  49UP20110515,   P13,    50,  1,     13,      86,2,20110617,1955,2109, 44.0027, 165.0185, 5743,   2913.4,     2870,   1.5897,  34.6551,2,    117.6,2,  34.6555,2,   117.71,2,   160.94,2,    38.51,2,     0.00,2,    2.670,2,     -999,9,     -999,9,-999,9,-999,9,   2358.1,2,   2417.5,2,   7.5161,2,    25.00,     -999,9,     -999,9,   1.5897,2
  49UP20110515,   P13,    50,  1,     12,      85,2,20110617,1955,2100, 44.0027, 165.0185, 5743,   3129.2,     3081,   1.5484,  34.6628,2,    126.0,2,  34.6630,6,   126.07,2,   158.65,2,    37.84,2,     0.00,2,    2.630,2,     -999,9,     -999,9,-999,9,-999,9,   2348.6,2,   2417.1,2,   7.5276,2,    25.00,     -999,9,     -999,9,   1.5484,2
  49UP20110515,   P13,    50,  1,     11,     110,2,20110617,1955,2055, 44.0027, 165.0185, 5743,   3384.5,     3331,   1.5157,  34.6698,2,    133.7,2,  34.6698,2,   133.57,2,   156.61,2,    37.52,2,     0.00,2,    2.600,2,     -999,9,     -999,9,-999,9,-999,9,   2342.3,2,   2414.4,2,   7.5477,2,    25.00,     -999,9,     -999,9,   1.5160,2
  49UP20110515,   P13,    50,  1,     10,      83,2,20110617,1955,2049, 44.0027, 165.0185, 5743,   3641.4,     3581,   1.4903,  34.6756,2,    140.6,2,  34.6769,4,   140.23,2,   154.88,2,    36.88,2,     0.00,2,    2.560,2,     -999,9,     -999,9,-999,9,-999,9,   2337.3,2,   2417.3,2,   7.5603,2,    25.00,     -999,9,     -999,9,   1.4904,2
  49UP20110515,   P13,    50,  1,      9,      82,2,20110617,1955,2044, 44.0027, 165.0185, 5743,   3896.3,     3830,   1.4806,  34.6794,2,    145.6,2,  34.6793,2,   145.63,2,   153.50,2,    36.62,2,     0.00,2,    2.560,2,    0.041,2,    0.006,2,-999,9,-999,9,   2331.2,2,   2416.7,2,   7.5676,2,    25.00,     -999,9,     -999,9,   1.4808,2
  49UP20110515,   P13,    50,  1,      8,      81,2,20110617,1955,2037, 44.0027, 165.0185, 5743,   4153.8,     4081,   1.4777,  34.6828,2,    149.7,2,  34.6825,2,   149.51,2,   152.35,2,    36.34,2,     0.00,2,    2.510,2,     -999,9,     -999,9,-999,9,-999,9,   2327.5,2,   2415.2,2,   7.5715,2,    25.00,     -999,9,     -999,9,   1.4778,2
  49UP20110515,   P13,    50,  1,      7,      80,2,20110617,1955,2032, 44.0027, 165.0185, 5743,   4410.7,     4330,   1.4833,  34.6854,2,    153.0,2,  34.6850,2,   152.73,2,   151.42,2,    36.05,2,     0.00,2,    2.510,2,     -999,9,     -999,9,-999,9,-999,9,   2326.9,2,   2416.0,2,   7.5786,6,    25.00,     -999,9,     -999,9,   1.4835,2
  49UP20110515,   P13,    50,  1,      6,      79,2,20110617,1955,2025, 44.0027, 165.0185, 5743,   4669.1,     4581,   1.4952,  34.6873,2,    155.5,2,  34.6873,2,   154.88,2,   150.83,3,    35.96,2,     0.00,2,    2.480,2,     -999,9,     -999,9,-999,9,-999,9,   2327.6,6,   2416.2,6,   7.5833,2,    25.00,     -999,9,     -999,9,   1.4954,2
  49UP20110515,   P13,    50,  1,      5,      78,2,20110617,1955,2020, 44.0027, 165.0185, 5743,   4925.4,     4830,   1.5131,  34.6889,2,    157.2,2,  34.6887,2,   156.78,2,   151.12,6,    35.81,6,     0.00,6,    2.470,6,    0.012,2,    0.000,2,-999,9,-999,9,   2324.8,2,   2416.6,2,   7.5827,2,    25.00,     -999,9,     -999,9,   1.5133,2
  49UP20110515,   P13,    50,  1,      4,      77,2,20110617,1955,2013, 44.0027, 165.0185, 5743,   5183.5,     5080,   1.5385,  34.6898,2,    158.1,2,  34.6894,2,   157.77,2,   150.81,2,    35.75,2,     0.00,2,    2.470,2,     -999,9,     -999,9,-999,9,-999,9,   2321.0,2,   2415.7,2,   7.5884,2,    25.00,     -999,9,     -999,9,   1.5388,2
  49UP20110515,   P13,    50,  1,      3,      76,2,20110617,1955,2006, 44.0027, 165.0185, 5743,   5442.4,     5331,   1.5688,  34.6902,2,    158.3,2,  34.6900,6,   158.19,2,   151.84,2,    35.78,2,     0.00,2,    2.470,2,     -999,9,     -999,9,-999,9,-999,9,   2321.3,2,   2415.9,2,   7.5860,2,    25.00,     -999,9,     -999,9,   1.5689,2
  49UP20110515,   P13,    50,  1,      2,      75,2,20110617,1955,2001, 44.0027, 165.0185, 5743,   5700.4,     5581,   1.5983,  34.6908,2,    159.2,2,  34.6907,2,   159.02,2,   150.85,2,    35.69,2,     0.00,2,    2.460,2,     -999,9,     -999,9,-999,9,-999,9,   2326.1,2,   2413.7,2,   7.5886,2,    25.00,     -999,9,     -999,9,   1.5984,2
  49UP20110515,   P13,    50,  1,      1,      74,2,20110617,1955,1955, 44.0027, 165.0185, 5743,   5842.3,     5718,   1.6143,  34.6911,2,    159.6,2,  34.6902,2,   158.57,6,   150.59,2,    35.67,2,     0.00,2,    2.470,2,    0.013,2,    0.001,2,-999,9,-999,9,   2323.7,2,   2415.4,2,   7.5812,2,    25.00,     -999,9,     -999,9,   1.6143,2