BOTTLE,20240116CCHSIOVAJ
EXPOCODE,SECT_ID,STNNBR,CASTNO,SAMPNO,BTLNBR,BTLNBR_FLAG_W,DATE,TIME,BTL_TIME,LATITUDE,LONGITUDE,DEPTH,CTDPRS,CTDDEPTH,CTDTMP,CTDSAL,CTDSAL_FLAG_W,CTDOXY,CTDOXY_FLAG_W,SALNTY,SALNTY_FLAG_W,OXYGEN,OXYGEN_FLAG_W,SILCAT,SILCAT_FLAG_W,NO2+NO3,NO2+NO3_FLAG_W,NITRIT,NITRIT_FLAG_W,PHSPHT,PHSPHT_FLAG_W,CFC-11,CFC-11_FLAG_W,CFC-12,CFC-12_FLAG_W,DELC14,DELC14_FLAG_W,DELC13,DELC13_FLAG_W,TCARBN,TCARBN_FLAG_W,ALKALI,ALKALI_FLAG_W,PH_TOT,PH_TOT_FLAG_W,PH_TMP,CHLORA,CHLORA_FLAG_W,PPHYTN,PPHYTN_FLAG_W,REFTMP,REFTMP_FLAG_W
,,,,,,,,,,,,METERS,DBAR,METERS,ITS-90,PSS-78,,UMOL/KG,,PSS-78,,UMOL/KG,,UMOL/KG,,UMOL/KG,,UMOL/KG,,UMOL/KG,,PMOL/KG,,PMOL/KG,,/MILLE,,/MILLE,,UMOL/KG,,UMOL/KG,,,,DEG C,UG/KG,,UG/KG,,ITS-90,
  49UP20110515,   P13,   143,  1,      0,     BUC,2,20110813,1449,1615, -6.1420, 163.4845, 3519,      0.0,        0,  29.4481,  35.2573,2,    197.4,2,     -999,9,   197.23,2,     1.37,2,     0.08,2,     0.01,2,    0.230,2,     -999,9,     -999,9,-999,9,-999,9,     -999,9,     -999,9,     -999,9,     -999,     -999,9,     -999,9,     -999,9
  49UP20110515,   P13,   143,  1,     36,     109,2,20110813,1449,1633, -6.1420, 163.4845, 3519,     11.1,       11,  29.4623,  35.2634,2,    197.5,2,  35.2651,2,   196.98,2,     1.39,2,     0.06,2,     0.01,2,    0.210,2,     -999,9,     -999,9,-999,9,-999,9,     -999,9,     -999,9,     -999,9,     -999,     -999,9,     -999,9,  29.4586,2
  49UP20110515,   P13,   143,  1,     35,     108,2,20110813,1449,1632, -6.1420, 163.4845, 3519,     25.4,       25,  29.4734,  35.2746,2,    197.4,2,  35.2724,2,   197.40,2,     1.39,2,     0.06,2,     0.01,2,    0.220,2,     -999,9,     -999,9,-999,9,-999,9,     -999,9,     -999,9,     -999,9,     -999,     -999,9,     -999,9,  29.4743,2
  49UP20110515,   P13,   143,  1,     34,     107,2,20110813,1449,1629, -6.1420, 163.4845, 3519,     49.6,       49,  29.3381,  35.3336,2,    196.6,2,  35.3322,2,   196.57,2,     1.37,2,     0.04,2,     0.00,2,    0.210,2,     -999,9,     -999,9,-999,9,-999,9,     -999,9,     -999,9,     -999,9,     -999,     -999,9,     -999,9,  29.3385,2
  49UP20110515,   P13,   143,  1,     33,     106,2,20110813,1449,1627, -6.1420, 163.4845, 3519,     81.1,       81,  29.2483,  35.3833,2,    194.9,2,  35.3840,2,   194.84,2,     1.48,6,     0.36,6,     0.02,6,    0.240,6,     -999,9,     -999,9,-999,9,-999,9,     -999,9,     -999,9,     -999,9,     -999,     -999,9,     -999,9,  29.2440,2
  49UP20110515,   P13,   143,  1,     32,     105,2,20110813,1449,1626, -6.1420, 163.4845, 3519,    101.6,      101,  29.1806,  35.3891,2,    192.0,2,  35.3874,6,   192.32,2,     1.39,2,     0.45,2,     0.02,2,    0.270,2,     -999,9,     -999,9,-999,9,-999,9,     -999,9,     -999,9,     -999,9,     -999,     -999,9,     -999,9,  29.1809,2
  49UP20110515,   P13,   143,  1,     31,     104,2,20110813,1449,1625, -6.1420, 163.4845, 3519,    128.0,      127,  28.4042,  35.6417,2,    173.3,2,  35.6366,4,   173.24,6,     1.74,2,     4.34,2,     1.41,2,    0.500,2,     -999,9,     -999,9,-999,9,-999,9,     -999,9,     -999,9,     -999,9,     -999,     -999,9,     -999,9,  28.4045,2
  49UP20110515,   P13,   143,  1,     30,     103,2,20110813,1449,1623, -6.1420, 163.4845, 3519,    151.0,      150,  26.7411,  35.6815,2,    146.8,2,  35.6443,4,   148.84,2,     1.99,2,     7.25,2,     0.06,2,    0.660,2,     -999,9,     -999,9,-999,9,-999,9,     -999,9,     -999,9,     -999,9,     -999,     -999,9,     -999,9,  26.7497,2
  49UP20110515,   P13,   143,  1,     28,     101,2,20110813,1449,1621, -6.1420, 163.4845, 3519,    202.6,      201,  21.3629,  35.8589,2,    133.4,2,  35.8621,2,   133.41,2,     2.56,2,     9.57,2,     0.01,2,    0.880,2,     -999,9,     -999,9,-999,9,-999,9,     -999,9,     -999,9,     -999,9,     -999,     -999,9,     -999,9,  21.3598,2
  49UP20110515,   P13,   143,  1,     29,     102,2,20110813,1449,1621, -6.1420, 163.4845, 3519,    203.9,      203,  21.1340,  35.8310,2,    132.0,2,  35.8601,4,   133.55,2,     2.56,2,     9.60,2,     0.01,2,    0.890,2,     -999,9,     -999,9,-999,9,-999,9,     -999,9,     -999,9,     -999,9,     -999,     -999,9,     -999,9,  21.1227,2
  49UP20110515,   P13,   143,  1,     27,     100,2,20110813,1449,1619, -6.1420, 163.4845, 3519,    250.9,      249,  15.8693,  35.2386,2,     96.7,2,  35.2516,4,    96.56,2,     9.15,6,    18.31,6,     0.00,6,    1.480,6,     -999,9,     -999,9,-999,9,-999,9,     -999,9,     -999,9,     -999,9,     -999,     -999,9,     -999,9,  15.8600,2
  49UP20110515,   P13,   143,  1,     26,      99,2,20110813,1449,1618, -6.1420, 163.4845, 3519,    282.2,      280,  13.4983,  35.0316,2,     98.2,2,  35.0341,2,    98.08,2,    12.85,2,    21.67,2,     0.00,2,    1.660,2,     -999,9,     -999,9,-999,9,-999,9,     -999,9,     -999,9,     -999,9,     -999,     -999,9,     -999,9,  13.4990,2
  49UP20110515,   P13,   143,  1,     25,      98,2,20110813,1449,1616, -6.1420, 163.4845, 3519,    333.0,      331,  10.5787,  34.7885,2,    105.2,2,  34.7914,6,   104.74,2,    19.25,2,    26.21,2,     0.00,2,    1.890,2,     -999,9,     -999,9,-999,9,-999,9,     -999,9,     -999,9,     -999,9,     -999,     -999,9,     -999,9,  10.5770,2
  49UP20110515,   P13,   143,  1,     24,      97,2,20110813,1449,1614, -6.1420, 163.4845, 3519,    373.7,      371,   9.5664,  34.7103,2,    116.8,2,  34.7113,2,   116.30,2,    22.31,2,    27.43,2,     0.00,2,    1.940,2,     -999,9,     -999,9,-999,9,-999,9,     -999,9,     -999,9,     -999,9,     -999,     -999,9,     -999,9,   9.5608,2
  49UP20110515,   P13,   143,  1,     22,      95,2,20110813,1449,1610, -6.1420, 163.4845, 3519,    475.9,      473,   7.7245,  34.5922,2,    114.7,2,  34.5913,2,   115.69,2,    31.07,2,    31.46,2,     0.00,2,    2.190,2,     -999,9,     -999,9,-999,9,-999,9,     -999,9,     -999,9,     -999,9,     -999,     -999,9,     -999,9,   7.7253,2
  49UP20110515,   P13,   143,  1,     23,      96,2,20110813,1449,1611, -6.1420, 163.4845, 3519,    477.1,      474,   7.7211,  34.5921,2,    114.7,2,  34.5923,2,   114.73,2,    31.08,2,    31.53,2,     0.00,2,    2.180,2,     -999,9,     -999,9,-999,9,-999,9,     -999,9,     -999,9,     -999,9,     -999,     -999,9,     -999,9,   7.7206,2
  49UP20110515,   P13,   143,  1,     21,      94,2,20110813,1449,1607, -6.1420, 163.4845, 3519,    573.1,      569,   6.6886,  34.5455,2,    112.3,2,  34.5446,2,   112.11,2,    40.25,2,    33.92,2,     0.00,2,    2.360,2,     -999,9,     -999,9,-999,9,-999,9,     -999,9,     -999,9,     -999,9,     -999,     -999,9,     -999,9,   6.6892,2
  49UP20110515,   P13,   143,  1,     20,      93,2,20110813,1449,1604, -6.1420, 163.4845, 3519,    673.6,      669,   5.9528,  34.5261,2,    114.4,2,  34.5263,2,   114.32,2,    48.57,2,    34.98,2,     0.00,2,    2.450,2,     -999,9,     -999,9,-999,9,-999,9,     -999,9,     -999,9,     -999,9,     -999,     -999,9,     -999,9,   5.9530,2
  49UP20110515,   P13,   143,  1,     19,      92,2,20110813,1449,1601, -6.1420, 163.4845, 3519,    778.5,      773,   5.3988,  34.5227,2,    113.8,2,  34.5237,2,   113.89,6,    56.77,2,    35.85,2,     0.00,2,    2.510,2,     -999,9,     -999,9,-999,9,-999,9,     -999,9,     -999,9,     -999,9,     -999,     -999,9,     -999,9,   5.3989,2
  49UP20110515,   P13,   143,  1,     18,      91,2,20110813,1449,1557, -6.1420, 163.4845, 3519,    878.0,      871,   4.8729,  34.5279,2,    114.5,2,  34.5283,6,   114.91,2,    66.27,6,    36.36,6,     0.00,6,    2.560,6,     -999,9,     -999,9,-999,9,-999,9,     -999,9,     -999,9,     -999,9,     -999,     -999,9,     -999,9,   4.8726,2
  49UP20110515,   P13,   143,  1,     16,      89,2,20110813,1449,1554, -6.1420, 163.4845, 3519,    978.3,      971,   4.3703,  34.5384,2,    114.1,2,  34.5387,2,   114.14,2,    76.37,2,    36.97,2,     0.00,2,    2.610,2,     -999,9,     -999,9,-999,9,-999,9,     -999,9,     -999,9,     -999,9,     -999,     -999,9,     -999,9,   4.3702,2
  49UP20110515,   P13,   143,  1,     17,      90,3,20110813,1449,1554, -6.1420, 163.4845, 3519,    978.6,      971,   4.3697,  34.5384,2,    114.0,2,  34.5386,2,   114.57,2,    76.46,2,    36.99,2,     0.00,2,    2.600,2,     -999,9,     -999,9,-999,9,-999,9,     -999,9,     -999,9,     -999,9,     -999,     -999,9,     -999,9,   4.3698,2
  49UP20110515,   P13,   143,  1,     15,      88,2,20110813,1449,1550, -6.1420, 163.4845, 3519,   1140.3,     1131,   3.7849,  34.5603,2,    110.6,2,  34.5598,2,   110.88,6,    90.89,2,    37.83,2,     0.00,2,    2.680,2,     -999,9,     -999,9,-999,9,-999,9,     -999,9,     -999,9,     -999,9,     -999,     -999,9,     -999,9,   3.7851,2
  49UP20110515,   P13,   143,  1,     14,      87,2,20110813,1449,1543, -6.1420, 163.4845, 3519,   1342.4,     1331,   3.2918,  34.5784,2,    117.2,2,  34.5787,2,   117.24,2,   100.56,2,    37.60,2,     0.00,2,    2.660,2,     -999,9,     -999,9,-999,9,-999,9,     -999,9,     -999,9,     -999,9,     -999,     -999,9,     -999,9,   3.2923,2
  49UP20110515,   P13,   143,  1,     13,      86,2,20110813,1449,1537, -6.1420, 163.4845, 3519,   1546.5,     1532,   2.8308,  34.6005,2,    122.9,2,  34.6011,2,   123.26,2,   110.89,2,    37.38,2,     0.00,2,    2.630,2,     -999,9,     -999,9,-999,9,-999,9,     -999,9,     -999,9,     -999,9,     -999,     -999,9,     -999,9,   2.8298,2
  49UP20110515,   P13,   143,  1,     12,      74,2,20110813,1449,1533, -6.1420, 163.4845, 3519,   1747.7,     1731,   2.4971,  34.6193,2,    126.2,2,  34.6197,2,   126.39,2,   119.38,2,    37.26,2,     0.00,2,    2.620,2,     -999,9,     -999,9,-999,9,-999,9,     -999,9,     -999,9,     -999,9,     -999,     -999,9,     -999,9,   2.4969,2
  49UP20110515,   P13,   143,  1,     11,     110,2,20110813,1449,1526, -6.1420, 163.4845, 3519,   1950.7,     1931,   2.2477,  34.6332,2,    133.3,2,  34.6327,6,   133.56,2,   123.95,2,    36.95,2,     0.00,2,    2.580,2,     -999,9,     -999,9,-999,9,-999,9,     -999,9,     -999,9,     -999,9,     -999,     -999,9,     -999,9,   2.2476,2
  49UP20110515,   P13,   143,  1,     10,      83,2,20110813,1449,1522, -6.1420, 163.4845, 3519,   2153.2,     2130,   2.0386,  34.6474,2,    131.2,2,  34.6465,2,   131.16,6,   132.68,2,    37.14,2,     0.00,2,    2.600,2,     -999,9,     -999,9,-999,9,-999,9,     -999,9,     -999,9,     -999,9,     -999,     -999,9,     -999,9,   2.0384,2
  49UP20110515,   P13,   143,  1,      9,      82,2,20110813,1449,1517, -6.1420, 163.4845, 3519,   2356.4,     2330,   1.9236,  34.6548,2,    129.8,2,  34.6551,2,   129.57,2,   138.03,2,    37.35,2,     0.00,2,    2.610,2,     -999,9,     -999,9,-999,9,-999,9,     -999,9,     -999,9,     -999,9,     -999,     -999,9,     -999,9,   1.9236,2
  49UP20110515,   P13,   143,  1,      8,      81,2,20110813,1449,1513, -6.1420, 163.4845, 3519,   2559.8,     2530,   1.8416,  34.6599,2,    133.4,2,  34.6590,2,   133.48,2,   139.32,2,    37.12,2,     0.00,2,    2.590,2,     -999,9,     -999,9,-999,9,-999,9,     -999,9,     -999,9,     -999,9,     -999,     -999,9,     -999,9,   1.8415,2
  49UP20110515,   P13,   143,  1,      7,      80,2,20110813,1449,1513, -6.1420, 163.4845, 3519,   2560.0,     2530,   1.8416,  34.6597,2,    133.4,2,  34.6602,2,   133.52,2,   138.95,2,    37.02,2,     0.00,2,    2.590,2,     -999,9,     -999,9,-999,9,-999,9,     -999,9,     -999,9,     -999,9,     -999,     -999,9,     -999,9,   1.8413,2
  49UP20110515,   P13,   143,  1,      6,      79,2,20110813,1449,1508, -6.1420, 163.4845, 3519,   2763.3,     2730,   1.8045,  34.6625,2,    132.4,2,  34.6627,2,   132.44,2,   141.99,2,    37.27,2,     0.00,2,    2.600,2,     -999,9,     -999,9,-999,9,-999,9,     -999,9,     -999,9,     -999,9,     -999,     -999,9,     -999,9,   1.8044,2
  49UP20110515,   P13,   143,  1,      5,      78,2,20110813,1449,1504, -6.1420, 163.4845, 3519,   2967.5,     2930,   1.7612,  34.6659,2,    136.2,2,  34.6668,2,   136.45,2,   141.67,6,    36.91,6,     0.00,6,    2.570,6,     -999,9,     -999,9,-999,9,-999,9,     -999,9,     -999,9,     -999,9,     -999,     -999,9,     -999,9,   1.7609,2
  49UP20110515,   P13,   143,  1,      4,      77,2,20110813,1449,1459, -6.1420, 163.4845, 3519,   3211.9,     3170,   1.6798,  34.6715,2,    140.9,2,  34.6716,2,   141.14,2,   142.32,2,    36.68,2,     0.00,2,    2.550,2,     -999,9,     -999,9,-999,9,-999,9,     -999,9,     -999,9,     -999,9,     -999,     -999,9,     -999,9,   1.6795,2
  49UP20110515,   P13,   143,  1,      3,      76,2,20110813,1449,1453, -6.1420, 163.4845, 3519,   3468.8,     3421,   1.6117,  34.6771,2,    147.1,2,  34.6763,2,   147.38,2,   141.27,2,    36.23,2,     0.00,2,    2.520,2,     -999,9,     -999,9,-999,9,-999,9,     -999,9,     -999,9,     -999,9,     -999,     -999,9,     -999,9,   1.6118,2
  49UP20110515,   P13,   143,  1,      1,     112,2,20110813,1449,1450, -6.1420, 163.4845, 3519,   3555.0,     3506,   1.5909,  34.6788,2,    149.3,2,  34.6792,2,   149.17,2,   140.56,2,    36.14,2,     0.00,2,    2.510,2,     -999,9,     -999,9,-999,9,-999,9,     -999,9,     -999,9,     -999,9,     -999,     -999,9,     -999,9,   1.5906,2
  49UP20110515,   P13,   143,  1,      2,      75,2,20110813,1449,1450, -6.1420, 163.4845, 3519,   3555.9,     3507,   1.5908,  34.6788,2,    149.4,2,  34.6782,2,   149.47,2,   141.15,2,    36.13,2,     0.00,2,    2.510,2,     -999,9,     -999,9,-999,9,-999,9,     -999,9,     -999,9,     -999,9,     -999,     -999,9,     -999,9,   1.5905,2