BOTTLE,20240116CCHSIOVAJ
EXPOCODE,SECT_ID,STNNBR,CASTNO,SAMPNO,BTLNBR,BTLNBR_FLAG_W,DATE,TIME,BTL_TIME,LATITUDE,LONGITUDE,DEPTH,CTDPRS,CTDDEPTH,CTDTMP,CTDSAL,CTDSAL_FLAG_W,CTDOXY,CTDOXY_FLAG_W,SALNTY,SALNTY_FLAG_W,OXYGEN,OXYGEN_FLAG_W,SILCAT,SILCAT_FLAG_W,NO2+NO3,NO2+NO3_FLAG_W,NITRIT,NITRIT_FLAG_W,PHSPHT,PHSPHT_FLAG_W,CFC-11,CFC-11_FLAG_W,CFC-12,CFC-12_FLAG_W,DELC14,DELC14_FLAG_W,DELC13,DELC13_FLAG_W,TCARBN,TCARBN_FLAG_W,ALKALI,ALKALI_FLAG_W,PH_TOT,PH_TOT_FLAG_W,PH_TMP,CHLORA,CHLORA_FLAG_W,PPHYTN,PPHYTN_FLAG_W,REFTMP,REFTMP_FLAG_W
,,,,,,,,,,,,METERS,DBAR,METERS,ITS-90,PSS-78,,UMOL/KG,,PSS-78,,UMOL/KG,,UMOL/KG,,UMOL/KG,,UMOL/KG,,UMOL/KG,,PMOL/KG,,PMOL/KG,,/MILLE,,/MILLE,,UMOL/KG,,UMOL/KG,,,,DEG C,UG/KG,,UG/KG,,ITS-90,
  49UP20110515,   P13,   126,  1,      0,     BUC,2,20110808,2355,0132,  0.3322, 165.0020, 4382,      0.0,        0,  29.9239,  34.7991,2,    195.4,2,     -999,9,   194.36,2,     1.05,2,     0.01,2,     0.00,2,    0.180,2,     -999,9,     -999,9,-999,9,-999,9,     -999,9,     -999,9,     -999,9,     -999,     -999,9,     -999,9,     -999,9
  49UP20110515,   P13,   126,  1,     36,     109,2,20110808,2355,0150,  0.3322, 165.0020, 4382,     10.3,       10,  29.7814,  34.7932,2,    195.9,2,  34.7934,2,   195.44,2,     1.09,2,     0.01,2,     0.00,2,    0.160,2,     -999,9,     -999,9,-999,9,-999,9,   1949.3,2,   2286.5,2,     -999,9,     -999,     -999,9,     -999,9,  29.7965,2
  49UP20110515,   P13,   126,  1,     35,     108,2,20110808,2355,0148,  0.3322, 165.0020, 4382,     26.4,       26,  29.6372,  34.7819,2,    196.3,2,  34.7823,2,   195.45,2,     1.09,2,     0.00,2,     0.00,2,    0.160,2,     -999,9,     -999,9,-999,9,-999,9,   1948.6,2,   2284.2,2,     -999,9,     -999,     -999,9,     -999,9,  29.6361,2
  49UP20110515,   P13,   126,  1,     34,     107,2,20110808,2355,0145,  0.3322, 165.0020, 4382,     51.7,       51,  29.5345,  34.9559,2,    197.3,2,  34.9582,6,   196.73,2,     0.97,2,     0.00,2,     0.00,2,    0.180,2,     -999,9,     -999,9,-999,9,-999,9,   1960.1,2,   2297.5,2,     -999,9,     -999,     -999,9,     -999,9,  29.5443,2
  49UP20110515,   P13,   126,  1,     33,     106,2,20110808,2355,0144,  0.3322, 165.0020, 4382,     75.6,       75,  29.4103,  35.0596,2,    198.8,2,  35.0613,2,   198.50,2,     1.19,2,     0.09,2,     0.02,2,    0.210,2,     -999,9,     -999,9,-999,9,-999,9,   1977.0,2,   2306.7,2,     -999,9,     -999,     -999,9,     -999,9,  29.4072,2
  49UP20110515,   P13,   126,  1,     32,     105,2,20110808,2355,0142,  0.3322, 165.0020, 4382,    101.2,      101,  29.0638,  35.3549,2,    191.5,2,  35.3506,2,   191.46,6,     1.25,2,     1.53,2,     0.16,2,    0.350,2,     -999,9,     -999,9,-999,9,-999,9,   2003.8,2,   2323.8,2,     -999,9,     -999,     -999,9,     -999,9,  29.0672,2
  49UP20110515,   P13,   126,  1,     31,     104,2,20110808,2355,0141,  0.3322, 165.0020, 4382,    126.6,      126,  27.6244,  35.5481,2,    168.1,2,  35.5504,2,   169.40,2,     1.75,2,     5.35,2,     0.85,2,    0.560,2,     -999,9,     -999,9,-999,9,-999,9,   2039.9,2,   2334.9,2,     -999,9,     -999,     -999,9,     -999,9,  27.6305,2
  49UP20110515,   P13,   126,  1,     30,     103,2,20110808,2355,0139,  0.3322, 165.0020, 4382,    151.7,      151,  24.2982,  35.5472,2,    139.7,2,  35.5501,2,   139.52,2,     3.04,2,     8.64,2,     0.02,2,    0.740,2,     -999,9,     -999,9,-999,9,-999,9,   2081.9,2,   2335.5,2,     -999,9,     -999,     -999,9,     -999,9,  24.2958,2
  49UP20110515,   P13,   126,  1,     29,     102,2,20110808,2355,0138,  0.3322, 165.0020, 4382,    200.4,      199,  16.5736,  35.1955,2,    144.7,2,  35.1911,2,   144.79,2,     8.08,2,    13.09,2,     0.00,2,    1.010,2,     -999,9,     -999,9,-999,9,-999,9,   2120.1,2,   2317.9,2,     -999,9,     -999,     -999,9,     -999,9,  16.5804,2
  49UP20110515,   P13,   126,  1,     28,     101,3,20110808,2355,0136,  0.3322, 165.0020, 4382,    251.0,      249,  11.8509,  34.8050,2,    133.5,2,  34.8093,6,   133.77,2,    19.54,6,    21.38,6,     0.00,6,    1.540,6,     -999,9,     -999,9,-999,9,-999,9,   2164.6,2,   2304.6,2,     -999,9,     -999,     -999,9,     -999,9,  11.8611,2
  49UP20110515,   P13,   126,  1,     27,     100,2,20110808,2355,0134,  0.3322, 165.0020, 4382,    303.1,      301,  11.1549,  34.7985,2,    114.4,2,  34.8002,2,   115.21,2,    20.96,2,    24.48,2,     0.00,2,    1.740,2,     -999,9,     -999,9,-999,9,-999,9,   2186.9,2,   2304.7,2,     -999,9,     -999,     -999,9,     -999,9,  11.1448,2
  49UP20110515,   P13,   126,  1,     26,      99,2,20110808,2355,0133,  0.3322, 165.0020, 4382,    353.8,      352,   9.8023,  34.7013,2,     91.2,2,  34.7005,2,    91.67,2,    27.65,2,    29.44,2,     0.00,2,    2.060,2,     -999,9,     -999,9,-999,9,-999,9,   2216.1,2,   2304.3,2,     -999,9,     -999,     -999,9,     -999,9,   9.8024,2
  49UP20110515,   P13,   126,  1,     25,      98,2,20110808,2355,0131,  0.3322, 165.0020, 4382,    403.2,      401,   9.4038,  34.6812,2,     98.9,2,  34.6821,2,    97.77,2,    27.62,2,    29.54,2,     0.00,2,    2.070,2,     -999,9,     -999,9,-999,9,-999,9,   2211.3,2,   2303.4,2,     -999,9,     -999,     -999,9,     -999,9,   9.3935,2
  49UP20110515,   P13,   126,  1,     24,      97,2,20110808,2355,0128,  0.3322, 165.0020, 4382,    504.5,      501,   7.8310,  34.5838,2,    112.5,2,  34.5821,2,   112.38,6,    35.27,2,    31.30,2,     0.00,2,    2.200,2,     -999,9,     -999,9,-999,9,-999,9,   2217.2,2,   2306.0,2,     -999,9,     -999,     -999,9,     -999,9,   7.8318,2
  49UP20110515,   P13,   126,  1,     23,      96,2,20110808,2355,0125,  0.3322, 165.0020, 4382,    604.7,      601,   6.8755,  34.5575,2,     98.7,2,  34.5574,2,    97.35,2,    43.88,2,    34.86,2,     0.00,2,    2.450,2,     -999,9,     -999,9,-999,9,-999,9,   2242.3,2,   2313.9,2,     -999,9,     -999,     -999,9,     -999,9,   6.8732,2
  49UP20110515,   P13,   126,  1,     22,      95,2,20110808,2355,0123,  0.3322, 165.0020, 4382,    706.1,      701,   5.9306,  34.5423,2,     89.4,2,  34.5429,2,    89.00,2,    57.19,2,    37.28,2,     0.00,2,    2.630,2,     -999,9,     -999,9,-999,9,-999,9,   2267.0,2,   2327.2,2,     -999,9,     -999,     -999,9,     -999,9,   5.9307,2
  49UP20110515,   P13,   126,  1,     21,      94,2,20110808,2355,0120,  0.3322, 165.0020, 4382,    806.8,      801,   5.5281,  34.5384,2,     93.4,2,  34.5376,2,    92.88,2,    62.72,6,    37.43,6,     0.00,6,    2.650,6,     -999,9,     -999,9,-999,9,-999,9,   2272.4,2,   2331.6,2,     -999,9,     -999,     -999,9,     -999,9,   5.5285,2
  49UP20110515,   P13,   126,  1,     20,      93,2,20110808,2355,0118,  0.3322, 165.0020, 4382,    907.9,      901,   4.9918,  34.5438,2,     90.7,2,  34.5444,6,    89.71,2,    73.73,2,    38.29,2,     0.00,2,    2.730,2,     -999,9,     -999,9,-999,9,-999,9,     -999,9,     -999,9,     -999,9,     -999,     -999,9,     -999,9,   4.9910,2
  49UP20110515,   P13,   126,  1,     19,      92,2,20110808,2355,0113,  0.3322, 165.0020, 4382,   1008.8,     1001,   4.3348,  34.5568,2,     93.5,2,  34.5583,2,    93.20,2,    87.36,2,    38.52,2,     0.00,2,    2.730,2,     -999,9,     -999,9,-999,9,-999,9,     -999,9,     -999,9,     -999,9,     -999,     -999,9,     -999,9,   4.3360,2
  49UP20110515,   P13,   126,  1,     18,      91,2,20110808,2355,0109,  0.3322, 165.0020, 4382,   1210.3,     1200,   3.7289,  34.5759,2,     91.5,2,  34.5758,2,    91.39,2,   102.10,2,    39.38,2,     0.00,2,    2.790,2,     -999,9,     -999,9,-999,9,-999,9,     -999,9,     -999,9,     -999,9,     -999,     -999,9,     -999,9,   3.7290,2
  49UP20110515,   P13,   126,  1,     17,      90,2,20110808,2355,0104,  0.3322, 165.0020, 4382,   1412.7,     1400,   3.2069,  34.5944,2,     96.6,2,  34.5933,2,    96.73,2,   113.91,2,    39.38,2,     0.00,2,    2.790,2,     -999,9,     -999,9,-999,9,-999,9,     -999,9,     -999,9,     -999,9,     -999,     -999,9,     -999,9,   3.2072,2
  49UP20110515,   P13,   126,  1,     16,      89,2,20110808,2355,0057,  0.3322, 165.0020, 4382,   1616.5,     1601,   2.7778,  34.6127,2,    101.8,2,  34.6136,2,   101.72,6,   124.50,2,    39.16,2,     0.00,2,    2.760,2,     -999,9,     -999,9,-999,9,-999,9,     -999,9,     -999,9,     -999,9,     -999,     -999,9,     -999,9,   2.7778,2
  49UP20110515,   P13,   126,  1,     15,      88,2,20110808,2355,0053,  0.3322, 165.0020, 4382,   1819.0,     1801,   2.4063,  34.6281,2,    113.7,2,  34.6281,2,   113.75,2,   130.92,6,    38.41,6,     0.00,6,    2.700,6,     -999,9,     -999,9,-999,9,-999,9,     -999,9,     -999,9,     -999,9,     -999,     -999,9,     -999,9,   2.4050,2
  49UP20110515,   P13,   126,  1,     14,      87,2,20110808,2355,0048,  0.3322, 165.0020, 4382,   2021.7,     2001,   2.1890,  34.6413,2,    115.4,2,  34.6420,2,   115.28,2,   137.01,2,    38.51,2,     0.00,2,    2.690,2,     -999,9,     -999,9,-999,9,-999,9,     -999,9,     -999,9,     -999,9,     -999,     -999,9,     -999,9,   2.1890,2
  49UP20110515,   P13,   126,  1,     13,      86,2,20110808,2355,0048,  0.3322, 165.0020, 4382,   2021.7,     2001,   2.1890,  34.6413,2,    115.4,2,  34.6418,2,   115.22,2,   136.92,2,    38.51,2,     0.00,2,    2.700,2,     -999,9,     -999,9,-999,9,-999,9,     -999,9,     -999,9,     -999,9,     -999,     -999,9,     -999,9,   2.1890,2
  49UP20110515,   P13,   126,  1,     12,      74,2,20110808,2355,0043,  0.3322, 165.0020, 4382,   2225.4,     2201,   2.0159,  34.6498,2,    121.7,2,  34.6503,2,   121.47,2,   139.76,2,    38.11,2,     0.00,2,    2.660,2,     -999,9,     -999,9,-999,9,-999,9,     -999,9,     -999,9,     -999,9,     -999,     -999,9,     -999,9,   2.0161,2
  49UP20110515,   P13,   126,  1,     11,     110,2,20110808,2355,0038,  0.3322, 165.0020, 4382,   2427.9,     2401,   1.8834,  34.6574,2,    125.1,2,  34.6574,2,   125.59,2,   143.16,2,    37.89,2,     0.00,2,    2.630,2,     -999,9,     -999,9,-999,9,-999,9,     -999,9,     -999,9,     -999,9,     -999,     -999,9,     -999,9,   1.8835,2
  49UP20110515,   P13,   126,  1,     10,      83,2,20110808,2355,0034,  0.3322, 165.0020, 4382,   2631.5,     2601,   1.7729,  34.6636,2,    129.1,2,  34.6635,6,   129.13,2,   145.06,2,    37.66,2,     0.00,2,    2.610,2,     -999,9,     -999,9,-999,9,-999,9,     -999,9,     -999,9,     -999,9,     -999,     -999,9,     -999,9,   1.7731,2
  49UP20110515,   P13,   126,  1,      9,      82,2,20110808,2355,0029,  0.3322, 165.0020, 4382,   2834.9,     2800,   1.7135,  34.6664,2,    133.0,2,  34.6664,2,   132.71,6,   145.55,2,    37.42,2,     0.00,2,    2.610,2,     -999,9,     -999,9,-999,9,-999,9,     -999,9,     -999,9,     -999,9,     -999,     -999,9,     -999,9,   1.7138,2
  49UP20110515,   P13,   126,  1,      8,      81,2,20110808,2355,0025,  0.3322, 165.0020, 4382,   3038.6,     3000,   1.6459,  34.6708,2,    137.8,2,  34.6708,2,   137.51,2,   145.52,2,    37.04,2,     0.00,2,    2.570,2,     -999,9,     -999,9,-999,9,-999,9,     -999,9,     -999,9,     -999,9,     -999,     -999,9,     -999,9,   1.6459,2
  49UP20110515,   P13,   126,  1,      7,      80,2,20110808,2355,0020,  0.3322, 165.0020, 4382,   3295.7,     3252,   1.5818,  34.6758,2,    143.7,2,  34.6766,2,   143.48,2,   144.59,2,    36.66,2,     0.00,2,    2.530,2,     -999,9,     -999,9,-999,9,-999,9,     -999,9,     -999,9,     -999,9,     -999,     -999,9,     -999,9,   1.5821,2
  49UP20110515,   P13,   126,  1,      6,      79,2,20110808,2355,0020,  0.3322, 165.0020, 4382,   3295.7,     3252,   1.5818,  34.6758,2,    143.7,2,  34.6766,2,   143.31,2,   144.95,2,    36.69,2,     0.00,2,    2.530,2,     -999,9,     -999,9,-999,9,-999,9,     -999,9,     -999,9,     -999,9,     -999,     -999,9,     -999,9,   1.5821,2
  49UP20110515,   P13,   126,  1,      5,      78,2,20110808,2355,0014,  0.3322, 165.0020, 4382,   3550.1,     3501,   1.5262,  34.6808,2,    149.7,2,  34.6808,2,   149.34,2,   143.37,2,    36.30,2,     0.00,2,    2.500,2,     -999,9,     -999,9,-999,9,-999,9,     -999,9,     -999,9,     -999,9,     -999,     -999,9,     -999,9,   1.5261,2
  49UP20110515,   P13,   126,  1,      4,      77,2,20110808,2355,0009,  0.3322, 165.0020, 4382,   3805.0,     3750,   1.4859,  34.6854,2,    156.0,2,  34.6856,2,   155.77,2,   141.49,6,    35.87,6,     0.00,6,    2.480,6,     -999,9,     -999,9,-999,9,-999,9,     -999,9,     -999,9,     -999,9,     -999,     -999,9,     -999,9,   1.4859,2
  49UP20110515,   P13,   126,  1,      3,      76,2,20110808,2355,0004,  0.3322, 165.0020, 4382,   4061.6,     4001,   1.4119,  34.6923,2,    167.4,2,  34.6925,2,   167.27,2,   136.10,2,    35.00,2,     0.00,2,    2.410,2,     -999,9,     -999,9,-999,9,-999,9,     -999,9,     -999,9,     -999,9,     -999,     -999,9,     -999,9,   1.4116,2
  49UP20110515,   P13,   126,  1,      2,      75,2,20110808,2355,2359,  0.3322, 165.0020, 4382,   4318.4,     4252,   1.3461,  34.6980,2,    178.0,2,  34.6981,2,   178.21,2,   130.81,2,    34.28,2,     0.00,2,    2.350,2,     -999,9,     -999,9,-999,9,-999,9,     -999,9,     -999,9,     -999,9,     -999,     -999,9,     -999,9,   1.3461,2
  49UP20110515,   P13,   126,  1,      1,     112,2,20110808,2355,2356,  0.3322, 165.0020, 4382,   4440.0,     4370,   1.3461,  34.6989,2,    179.8,2,  34.6995,2,   179.48,2,   129.65,2,    34.10,2,     0.00,2,    2.340,2,     -999,9,     -999,9,-999,9,-999,9,     -999,9,     -999,9,     -999,9,     -999,     -999,9,     -999,9,   1.3458,2