BOTTLE,20240116CCHSIOVAJ
EXPOCODE,SECT_ID,STNNBR,CASTNO,SAMPNO,BTLNBR,BTLNBR_FLAG_W,DATE,TIME,BTL_TIME,LATITUDE,LONGITUDE,DEPTH,CTDPRS,CTDDEPTH,CTDTMP,CTDSAL,CTDSAL_FLAG_W,CTDOXY,CTDOXY_FLAG_W,SALNTY,SALNTY_FLAG_W,OXYGEN,OXYGEN_FLAG_W,SILCAT,SILCAT_FLAG_W,NO2+NO3,NO2+NO3_FLAG_W,NITRIT,NITRIT_FLAG_W,PHSPHT,PHSPHT_FLAG_W,CFC-11,CFC-11_FLAG_W,CFC-12,CFC-12_FLAG_W,DELC14,DELC14_FLAG_W,DELC13,DELC13_FLAG_W,TCARBN,TCARBN_FLAG_W,ALKALI,ALKALI_FLAG_W,PH_TOT,PH_TOT_FLAG_W,PH_TMP,CHLORA,CHLORA_FLAG_W,PPHYTN,PPHYTN_FLAG_W,REFTMP,REFTMP_FLAG_W
,,,,,,,,,,,,METERS,DBAR,METERS,ITS-90,PSS-78,,UMOL/KG,,PSS-78,,UMOL/KG,,UMOL/KG,,UMOL/KG,,UMOL/KG,,UMOL/KG,,PMOL/KG,,PMOL/KG,,/MILLE,,/MILLE,,UMOL/KG,,UMOL/KG,,,,DEG C,UG/KG,,UG/KG,,ITS-90,
  49UP20110515,   P01,     9,  1,      0,     BUC,2,20110519,1004,1230, 41.3357, 146.7063, 5448,      0.0,        0,   6.3660,  33.0641,2,    324.8,2,     -999,9,   324.51,2,     4.90,2,     8.24,2,     0.17,2,    0.860,2,     -999,9,     -999,9,-999,9,-999,9,     -999,9,     -999,9,     -999,9,     -999,     0.83,2,     0.18,2,     -999,9
  49UP20110515,   P01,     9,  1,     36,     109,2,20110519,1004,1250, 41.3357, 146.7063, 5448,     11.8,       12,   6.4214,  33.0721,2,    323.9,2,  33.0650,4,   324.98,2,     5.34,2,     8.35,2,     0.17,2,    0.850,3,    4.859,2,    2.738,2,-999,9,-999,9,   2055.8,2,   2244.7,2,   7.8497,2,    25.00,     0.85,2,     0.18,2,   6.4273,2
  49UP20110515,   P01,     9,  1,     35,     108,2,20110519,1004,1244, 41.3357, 146.7063, 5448,     51.3,       51,   3.0760,  33.0589,2,    331.1,2,     -999,9,   330.99,6,    26.46,2,    17.36,2,     0.32,2,    1.620,2,    5.534,2,    3.098,2,-999,9,-999,9,   2110.0,2,   2245.4,2,   7.6956,2,    25.00,     0.33,2,     0.15,2,   3.0753,2
  49UP20110515,   P01,     9,  1,     34,     107,2,20110519,1004,1241, 41.3357, 146.7063, 5448,    102.7,      102,   1.8574,  33.2115,2,    294.0,2,  33.2170,6,   293.34,2,    47.83,6,    25.75,6,     0.03,6,    2.030,6,    5.240,2,    2.967,2,-999,9,-999,9,   2153.6,2,   2244.9,2,   7.5891,2,    25.00,     0.07,2,     0.10,2,   1.8572,2
  49UP20110515,   P01,     9,  1,     33,     106,4,20110519,1004,1238, 41.3357, 146.7063, 5448,    151.9,      151,   2.1296,  33.4268,2,    202.6,2,     -999,9,     -999,9,     -999,9,     -999,9,     -999,9,     -999,9,     -999,9,     -999,9,-999,9,-999,9,     -999,9,     -999,9,     -999,9,     -999,     -999,9,     -999,9,   2.1311,2
  49UP20110515,   P01,     9,  1,     32,     105,2,20110519,1004,1237, 41.3357, 146.7063, 5448,    202.9,      201,   2.6705,  33.6294,2,    137.7,2,  33.6282,2,   136.16,2,    82.05,2,    37.39,2,     0.02,2,    2.750,2,    3.469,2,    1.910,2,-999,9,-999,9,   2261.2,2,   2279.8,2,   7.3617,2,    25.00,     0.06,2,     0.13,2,   2.6719,2
  49UP20110515,   P01,     9,  1,     31,     104,2,20110519,1004,1235, 41.3357, 146.7063, 5448,    251.9,      250,   2.9364,  33.7381,2,    105.0,2,     -999,9,   104.52,2,    89.25,2,    39.18,2,     0.02,2,    2.850,2,    3.006,2,    1.647,2,-999,9,-999,9,   2283.0,2,   2290.9,2,   7.3157,6,    25.00,     -999,9,     -999,9,   2.9367,2
  49UP20110515,   P01,     9,  1,     30,     103,3,20110519,1004,1234, 41.3357, 146.7063, 5448,    283.0,      281,   2.9656,  33.7840,2,     90.0,2,  33.7923,4,    89.02,2,    94.59,6,    40.26,6,     0.01,6,    2.920,6,    2.730,6,    1.468,6,-999,9,-999,9,   2300.1,2,   2295.5,2,   7.3033,2,    25.00,     -999,9,     -999,9,   2.9661,2
  49UP20110515,   P01,     9,  1,     29,     102,2,20110519,1004,1231, 41.3357, 146.7063, 5448,    373.7,      370,   3.1945,  33.9614,2,     53.9,2,     -999,9,    54.57,2,   107.68,2,    42.25,2,     0.01,2,    3.030,2,    1.956,2,    1.019,2,-999,9,-999,9,   2322.5,6,   2314.3,6,   7.2717,2,    25.00,     -999,9,     -999,9,   3.1952,2
  49UP20110515,   P01,     9,  1,     28,     101,2,20110519,1004,1227, 41.3357, 146.7063, 5448,    474.9,      471,   3.2983,  34.1001,2,     39.8,2,  34.1033,2,    39.16,2,   118.39,2,    42.70,2,     0.00,2,    3.060,2,    1.328,2,    0.665,2,-999,9,-999,9,   2338.2,2,   2332.3,2,   7.2771,2,    25.00,     -999,9,     -999,9,   3.2988,2
  49UP20110515,   P01,     9,  1,     27,     100,2,20110519,1004,1227, 41.3357, 146.7063, 5448,    474.9,      471,   3.2983,  34.1001,2,     39.8,2,  34.1019,2,    39.57,2,   118.28,2,    42.63,2,     0.00,2,    3.060,2,    1.320,6,    0.668,6,-999,9,-999,9,   2335.3,2,   2332.8,2,   7.2779,2,    25.00,     -999,9,     -999,9,   3.2988,2
  49UP20110515,   P01,     9,  1,     26,      99,2,20110519,1004,1224, 41.3357, 146.7063, 5448,    576.0,      571,   3.3569,  34.2227,2,     38.4,2,  34.2247,2,    37.85,2,   125.64,2,    42.38,2,     0.01,2,    3.040,2,    0.844,2,    0.419,2,-999,9,-999,9,   2347.9,2,   2349.6,2,   7.3052,2,    25.00,     -999,9,     -999,9,   3.3574,2
  49UP20110515,   P01,     9,  1,     25,      98,2,20110519,1004,1222, 41.3357, 146.7063, 5448,    678.7,      672,   3.1794,  34.2701,2,     35.5,2,     -999,9,    34.55,2,   132.24,2,    42.68,2,     0.01,2,    3.060,2,    0.674,2,    0.331,2,-999,9,-999,9,   2353.2,2,   2355.8,2,   7.3061,6,    25.00,     -999,9,     -999,9,   3.1800,2
  49UP20110515,   P01,     9,  1,     24,      97,2,20110519,1004,1215, 41.3357, 146.7063, 5448,    778.2,      771,   3.0706,  34.3373,2,     37.4,2,  34.3395,2,    37.73,2,   136.87,2,    42.47,2,     0.00,2,    3.040,2,    0.422,2,    0.209,2,-999,9,-999,9,   2360.6,2,   2368.3,2,   7.3263,2,    25.00,     -999,9,     -999,9,   3.0709,2
  49UP20110515,   P01,     9,  1,     23,      96,2,20110519,1004,1213, 41.3357, 146.7063, 5448,    878.8,      870,   2.9006,  34.3843,2,     37.6,2,  34.3844,2,    37.18,2,   142.52,2,    42.73,2,     0.00,2,    3.040,2,    0.311,2,    0.140,2,-999,9,-999,9,   2364.3,2,   2375.3,2,   7.3318,2,    25.00,     -999,9,     -999,9,   2.9005,2
  49UP20110515,   P01,     9,  1,     22,      95,2,20110519,1004,1210, 41.3357, 146.7063, 5448,    980.8,      971,   2.7787,  34.4173,2,     38.2,2,  34.4173,2,    37.90,2,   146.50,2,    42.71,2,     0.00,2,    3.060,2,    0.221,2,    0.098,2,-999,9,-999,9,   2362.0,2,   2379.4,2,   7.3379,2,    25.00,     -999,9,     -999,9,   2.7787,2
  49UP20110515,   P01,     9,  1,     21,      94,3,20110519,1004,1205, 41.3357, 146.7063, 5448,   1142.9,     1131,   2.5956,  34.4648,2,     41.4,2,  34.4632,2,    41.80,2,   151.50,2,    42.74,2,     0.00,2,    3.040,2,    0.115,2,    0.065,2,-999,9,-999,9,   2366.7,2,   2387.3,2,   7.3499,2,    25.00,     -999,9,     -999,9,   2.5956,2
  49UP20110515,   P01,     9,  1,     20,      93,2,20110519,1004,1157, 41.3357, 146.7063, 5448,   1345.3,     1331,   2.3653,  34.4980,2,     45.4,2,  34.4975,2,    45.43,6,   158.40,2,    42.70,2,     0.00,2,    3.030,2,    0.089,2,    0.052,2,-999,9,-999,9,   2378.4,2,   2394.8,2,   7.3578,2,    25.00,     -999,9,     -999,9,   2.3652,2
  49UP20110515,   P01,     9,  1,     19,      92,3,20110519,1004,1153, 41.3357, 146.7063, 5448,   1548.4,     1531,   2.1968,  34.5369,2,     53.4,2,  34.5359,2,    53.18,2,   161.70,2,    42.29,2,     0.00,2,    2.960,3,    0.064,2,    0.035,2,-999,9,-999,9,   2372.5,2,   2399.5,2,   7.3755,2,    25.00,     -999,9,     -999,9,   2.1968,2
  49UP20110515,   P01,     9,  1,     18,      91,2,20110519,1004,1147, 41.3357, 146.7063, 5448,   1751.6,     1731,   2.0841,  34.5664,2,     62.6,2,  34.5655,2,    62.87,2,   163.00,2,    41.73,2,     0.00,2,    2.940,2,    0.024,2,    0.024,2,-999,9,-999,9,   2374.5,2,   2406.2,2,   7.3961,2,    25.00,     -999,9,     -999,9,   2.0840,2
  49UP20110515,   P01,     9,  1,     17,      90,2,20110519,1004,1138, 41.3357, 146.7063, 5448,   1955.9,     1932,   1.8407,  34.6104,2,     84.8,2,  34.6101,2,    84.85,2,   163.54,2,    40.29,2,     0.00,2,    2.840,2,    0.000,2,    0.010,2,-999,9,-999,9,   2358.4,2,   2412.7,2,   7.4458,2,    25.00,     -999,9,     -999,9,   1.8408,2
  49UP20110515,   P01,     9,  1,     16,      89,2,20110519,1004,1133, 41.3357, 146.7063, 5448,   2157.8,     2130,   1.6977,  34.6334,2,    100.6,2,  34.6330,2,   100.88,2,   161.87,2,    39.36,2,     0.00,2,    2.760,2,    0.000,2,    0.000,2,-999,9,-999,9,   2352.3,2,   2413.9,2,   7.4755,2,    25.00,     -999,9,     -999,9,   1.6977,2
  49UP20110515,   P01,     9,  1,     15,      88,2,20110519,1004,1129, 41.3357, 146.7063, 5448,   2362.3,     2331,   1.6537,  34.6422,2,    108.1,2,  34.6421,2,   108.33,2,   160.47,2,    39.06,2,     0.00,2,    2.740,2,    0.000,2,    0.000,2,-999,9,-999,9,   2344.1,2,   2414.3,2,   7.4891,2,    25.00,     -999,9,     -999,9,   1.6537,2
  49UP20110515,   P01,     9,  1,     14,      87,3,20110519,1004,1123, 41.3357, 146.7063, 5448,   2566.1,     2531,   1.6058,  34.6516,2,    117.4,2,  34.6518,2,   117.52,2,   157.90,6,    38.36,6,     0.00,6,    2.690,6,     -999,9,     -999,9,-999,9,-999,9,   2342.1,2,   2415.2,2,   7.5073,2,    25.00,     -999,9,     -999,9,   1.6058,2
  49UP20110515,   P01,     9,  1,     13,      86,2,20110519,1004,1119, 41.3357, 146.7063, 5448,   2770.7,     2731,   1.5639,  34.6585,2,    123.1,2,  34.6579,2,   123.11,2,   157.76,2,    37.97,2,     0.00,2,    2.660,2,     -999,9,     -999,9,-999,9,-999,9,   2331.2,2,   2416.1,2,   7.5171,2,    25.00,     -999,9,     -999,9,   1.5638,2
  49UP20110515,   P01,     9,  1,     12,      85,2,20110519,1004,1114, 41.3357, 146.7063, 5448,   2975.0,     2931,   1.5313,  34.6647,2,    129.6,2,  34.6647,6,   129.63,6,   155.92,2,    37.66,2,     0.00,2,    2.630,2,    0.000,2,    0.000,2,-999,9,-999,9,   2335.0,3,   2416.1,2,   7.5294,2,    25.00,     -999,9,     -999,9,   1.5311,2
  49UP20110515,   P01,     9,  1,     11,     110,2,20110519,1004,1108, 41.3357, 146.7063, 5448,   3220.2,     3171,   1.5115,  34.6696,2,    134.7,2,  34.6694,2,   134.87,2,   154.85,2,    37.34,2,     0.00,2,    2.600,2,     -999,9,     -999,9,-999,9,-999,9,   2321.7,2,   2415.9,2,   7.5381,2,    25.00,     -999,9,     -999,9,   1.5116,2
  49UP20110515,   P01,     9,  1,     10,      83,3,20110519,1004,1102, 41.3357, 146.7063, 5448,   3475.9,     3421,   1.4791,  34.6758,2,    141.3,2,  34.6737,4,   140.97,2,   153.38,2,    36.91,2,     0.00,2,    2.560,2,     -999,9,     -999,9,-999,9,-999,9,   2321.8,2,   2415.5,2,   7.5502,6,    25.00,     -999,9,     -999,9,   1.4791,2
  49UP20110515,   P01,     9,  1,      9,      82,2,20110519,1004,1055, 41.3357, 146.7063, 5448,   3732.7,     3671,   1.4699,  34.6794,2,    145.2,2,  34.6789,2,   145.45,2,   153.07,2,    36.66,2,     0.00,2,    2.540,2,     -999,9,     -999,9,-999,9,-999,9,   2323.7,3,   2413.5,2,   7.5564,2,    25.00,     -999,9,     -999,9,   1.4700,2
  49UP20110515,   P01,     9,  1,      8,      81,2,20110519,1004,1049, 41.3357, 146.7063, 5448,   3988.3,     3920,   1.4634,  34.6829,2,    149.7,2,  34.6824,2,   148.58,3,   151.88,2,    36.36,2,     0.00,2,    2.520,2,     -999,9,     -999,9,-999,9,-999,9,   2318.2,3,   2413.3,2,   7.5629,2,    25.00,     -999,9,     -999,9,   1.4634,2
  49UP20110515,   P01,     9,  1,      7,      80,2,20110519,1004,1049, 41.3357, 146.7063, 5448,   3988.3,     3920,   1.4634,  34.6829,2,    149.7,2,  34.6830,2,   149.45,2,   151.64,2,    36.22,2,     0.00,2,    2.520,2,     -999,9,     -999,9,-999,9,-999,9,   2325.6,3,   2413.2,2,   7.5612,2,    25.00,     -999,9,     -999,9,   1.4634,2
  49UP20110515,   P01,     9,  1,      6,      79,2,20110519,1004,1042, 41.3357, 146.7063, 5448,   4245.3,     4171,   1.4637,  34.6859,2,    153.3,2,  34.6858,2,   153.25,2,   150.59,2,    36.11,2,     0.00,2,    2.500,2,    0.000,2,    0.000,2,-999,9,-999,9,   2323.3,2,   2413.9,2,   7.5675,2,    25.00,     -999,9,     -999,9,   1.4638,2
  49UP20110515,   P01,     9,  1,      5,      78,2,20110519,1004,1034, 41.3357, 146.7063, 5448,   4501.9,     4420,   1.4710,  34.6880,2,    156.3,2,  34.6877,2,   156.36,2,   149.90,6,    35.81,6,     0.00,6,    2.480,6,     -999,9,     -999,9,-999,9,-999,9,   2317.5,2,   2408.7,2,   7.5734,2,    25.00,     -999,9,     -999,9,   1.4708,2
  49UP20110515,   P01,     9,  1,      4,      77,2,20110519,1004,1027, 41.3357, 146.7063, 5448,   4759.8,     4671,   1.4861,  34.6898,2,    158.7,2,  34.6892,2,   158.61,2,   148.47,2,    35.71,2,     0.00,2,    2.470,2,     -999,9,     -999,9,-999,9,-999,9,   2302.6,3,   2409.9,2,   7.5771,2,    25.00,     -999,9,     -999,9,   1.4861,2
  49UP20110515,   P01,     9,  1,      3,      76,2,20110519,1004,1020, 41.3357, 146.7063, 5448,   5018.0,     4921,   1.5060,  34.6912,2,    160.5,2,  34.6904,2,   160.73,2,   147.55,2,    35.50,2,     0.00,2,    2.470,2,     -999,9,     -999,9,-999,9,-999,9,   2307.1,2,   2406.9,2,   7.5779,2,    25.00,     -999,9,     -999,9,   1.5060,2
  49UP20110515,   P01,     9,  1,      2,      75,2,20110519,1004,1013, 41.3357, 146.7063, 5448,   5275.6,     5171,   1.5318,  34.6921,2,    161.0,2,  34.6912,2,   161.21,2,   147.88,2,    35.51,2,     0.00,2,    2.470,2,    0.000,2,    0.000,2,-999,9,-999,9,   2305.7,2,   2405.5,2,   7.5770,2,    25.00,     -999,9,     -999,9,   1.5318,2
  49UP20110515,   P01,     9,  1,      1,      74,2,20110519,1004,1005, 41.3357, 146.7063, 5448,   5559.1,     5445,   1.5633,  34.6927,2,    162.2,2,  34.6905,4,   162.63,6,   145.88,2,    35.40,2,     0.00,2,    2.450,2,    0.003,2,    0.000,2,-999,9,-999,9,   2297.2,2,   2404.1,2,   7.5756,2,    25.00,     -999,9,     -999,9,   1.5631,2