BOTTLE,20240116CCHSIOVAJ
EXPOCODE,SECT_ID,STNNBR,CASTNO,SAMPNO,BTLNBR,BTLNBR_FLAG_W,DATE,TIME,BTL_TIME,LATITUDE,LONGITUDE,DEPTH,CTDPRS,CTDDEPTH,CTDTMP,CTDSAL,CTDSAL_FLAG_W,CTDOXY,CTDOXY_FLAG_W,SALNTY,SALNTY_FLAG_W,OXYGEN,OXYGEN_FLAG_W,SILCAT,SILCAT_FLAG_W,NO2+NO3,NO2+NO3_FLAG_W,NITRIT,NITRIT_FLAG_W,PHSPHT,PHSPHT_FLAG_W,CFC-11,CFC-11_FLAG_W,CFC-12,CFC-12_FLAG_W,DELC14,DELC14_FLAG_W,DELC13,DELC13_FLAG_W,TCARBN,TCARBN_FLAG_W,ALKALI,ALKALI_FLAG_W,PH_TOT,PH_TOT_FLAG_W,PH_TMP,CHLORA,CHLORA_FLAG_W,PPHYTN,PPHYTN_FLAG_W,REFTMP,REFTMP_FLAG_W
,,,,,,,,,,,,METERS,DBAR,METERS,ITS-90,PSS-78,,UMOL/KG,,PSS-78,,UMOL/KG,,UMOL/KG,,UMOL/KG,,UMOL/KG,,UMOL/KG,,PMOL/KG,,PMOL/KG,,/MILLE,,/MILLE,,UMOL/KG,,UMOL/KG,,,,DEG C,UG/KG,,UG/KG,,ITS-90,
  49UP20110515,   P13,    48,  1,      0,     BUC,2,20110617,0017,0255, 45.9947, 165.0117, 5802,      0.0,        0,   6.3891,  33.1302,2,    314.0,2,     -999,9,   313.79,2,    26.27,2,    14.99,2,     0.17,2,    1.370,2,     -999,9,     -999,9,-999,9,-999,9,     -999,9,     -999,9,     -999,9,     -999,     0.42,2,     0.06,2,     -999,9
  49UP20110515,   P13,    48,  1,     36,     109,2,20110617,0017,0316, 45.9947, 165.0117, 5802,     10.5,       10,   6.1745,  33.1324,2,    314.2,2,  33.1359,6,   314.46,2,    26.20,6,    14.89,6,     0.17,6,    1.360,6,    4.904,2,    2.658,2,-999,9,-999,9,   2086.3,2,   2227.7,2,   7.7738,2,    25.00,     0.38,4,     0.04,4,   6.1755,2
  49UP20110515,   P13,    48,  1,     35,     108,2,20110617,0017,0311, 45.9947, 165.0117, 5802,     51.0,       51,   5.7155,  33.2336,2,    313.6,2,  33.2405,2,   314.75,2,    24.64,2,    14.13,2,     0.22,2,    1.280,2,    4.727,2,    2.657,2,-999,9,-999,9,   2085.5,2,   2230.2,2,   7.7686,2,    25.00,     0.59,2,     0.13,2,   5.7217,2
  49UP20110515,   P13,    48,  1,     34,     107,2,20110617,0017,0309, 45.9947, 165.0117, 5802,    101.1,      100,   5.6045,  33.5510,2,    288.5,2,  33.5558,2,   289.44,2,    28.01,6,    17.31,6,     0.02,6,    1.370,6,    4.319,2,    2.481,2,-999,9,-999,9,   2107.6,2,   2248.8,2,   7.7354,2,    25.00,     0.09,2,     0.06,2,   5.6012,2
  49UP20110515,   P13,    48,  1,     33,     106,2,20110617,0017,0305, 45.9947, 165.0117, 5802,    151.6,      150,   5.0131,  33.6421,2,    232.1,2,  33.6403,2,   230.92,2,    44.07,2,    24.18,2,     0.01,2,    1.830,2,    4.203,2,    2.247,2,-999,9,-999,9,   2167.7,2,   2262.5,2,   7.6171,2,    25.00,     0.01,2,     0.05,2,   5.0095,2
  49UP20110515,   P13,    48,  1,     32,     105,2,20110617,0017,0303, 45.9947, 165.0117, 5802,    202.7,      201,   4.0883,  33.6985,2,    174.2,2,  33.6965,2,   172.63,2,    63.12,2,    30.95,2,     0.01,2,    2.320,2,    3.612,2,    1.959,2,-999,9,-999,9,   2221.7,2,   2274.1,2,   7.4887,2,    25.00,     0.00,2,     0.05,2,   4.0892,2
  49UP20110515,   P13,    48,  1,     31,     104,2,20110617,0017,0301, 45.9947, 165.0117, 5802,    252.9,      251,   3.7849,  33.7664,2,    137.5,2,  33.7616,2,   139.36,2,    73.99,2,    34.32,2,     0.00,2,    2.530,2,    3.119,6,    1.725,6,-999,9,-999,9,   2245.3,2,   2283.7,2,   7.4292,6,    25.00,     -999,9,     -999,9,   3.7864,2
  49UP20110515,   P13,    48,  1,     30,     103,2,20110617,0017,0259, 45.9947, 165.0117, 5802,    284.3,      282,   3.6539,  33.7964,2,    119.4,2,  33.7948,2,   117.19,2,    81.39,2,    36.62,2,     0.00,2,    2.680,2,    2.772,2,    1.577,2,-999,9,-999,9,   2264.8,6,   2289.9,6,   7.3926,2,    25.00,     -999,9,     -999,9,   3.6542,2
  49UP20110515,   P13,    48,  1,     29,     102,2,20110617,0017,0257, 45.9947, 165.0117, 5802,    374.8,      371,   3.7641,  33.9411,2,     79.7,2,  33.9429,2,    79.95,6,    93.69,2,    39.26,2,     0.00,2,    2.840,2,    2.176,2,    1.148,2,-999,9,-999,9,   2296.6,2,   2304.0,2,   7.3474,2,    25.00,     -999,9,     -999,9,   3.7643,2
  49UP20110515,   P13,    48,  1,     28,     101,2,20110617,0017,0252, 45.9947, 165.0117, 5802,    476.3,      472,   3.6952,  34.0586,2,     57.1,2,  34.0592,2,    57.65,6,   105.48,2,    40.72,2,     0.00,2,    2.940,2,    1.569,2,    0.793,2,-999,9,-999,9,   2323.5,2,   2320.1,2,   7.3278,2,    25.00,     -999,9,     -999,9,   3.6955,2
  49UP20110515,   P13,    48,  1,     27,     100,2,20110617,0017,0249, 45.9947, 165.0117, 5802,    576.8,      571,   3.6060,  34.1591,2,     43.7,2,  34.1587,2,    43.97,2,   115.56,2,    41.61,2,     0.00,2,    3.000,2,    1.069,6,    0.525,6,-999,9,-999,9,   2337.5,2,   2335.9,2,   7.3259,2,    25.00,     -999,9,     -999,9,   3.6068,2
  49UP20110515,   P13,    48,  1,     26,      99,2,20110617,0017,0247, 45.9947, 165.0117, 5802,    678.2,      672,   3.4281,  34.2259,2,     37.2,2,  34.2272,2,    37.35,2,   124.22,2,    42.29,2,     0.00,2,    3.040,2,    0.772,2,    0.371,2,-999,9,-999,9,   2351.5,2,   2345.1,2,   7.3228,2,    25.00,     -999,9,     -999,9,   3.4283,2
  49UP20110515,   P13,    48,  1,     25,      98,2,20110617,0017,0241, 45.9947, 165.0117, 5802,    778.5,      771,   3.1826,  34.2801,2,     33.4,2,  34.2825,4,    33.27,2,   133.12,2,    42.84,2,     0.00,2,    3.080,2,    0.604,2,    0.296,2,-999,9,-999,9,   2360.2,2,   2356.3,2,   7.3206,2,    25.00,     -999,9,     -999,9,   3.1830,2
  49UP20110515,   P13,    48,  1,     24,      97,2,20110617,0017,0238, 45.9947, 165.0117, 5802,    881.0,      872,   2.9762,  34.3263,2,     33.8,2,  34.3263,2,    33.80,2,   139.92,2,    42.72,2,     0.00,2,    3.080,2,    0.474,2,    0.200,2,-999,9,-999,9,   2376.6,2,   2358.9,2,   7.3315,2,    25.00,     -999,9,     -999,9,   2.9766,2
  49UP20110515,   P13,    48,  1,     23,      96,2,20110617,0017,0235, 45.9947, 165.0117, 5802,    981.0,      971,   2.8789,  34.3669,2,     34.6,2,  34.3666,2,    34.47,2,   143.83,6,    42.87,6,     0.00,6,    3.080,6,    0.370,2,    0.138,2,-999,9,-999,9,   2372.1,2,   2373.2,2,   7.3409,2,    25.00,     -999,9,     -999,9,   2.8795,2
  49UP20110515,   P13,    48,  1,     22,      95,2,20110617,0017,0231, 45.9947, 165.0117, 5802,   1143.4,     1131,   2.6412,  34.4228,2,     35.5,2,  34.4226,2,    35.60,2,   152.14,2,    43.12,2,     0.00,2,    3.090,2,    0.247,2,    0.083,2,-999,9,-999,9,   2380.3,2,   2380.5,2,   7.3448,2,    25.00,     -999,9,     -999,9,   2.6414,2
  49UP20110515,   P13,    48,  1,     21,      94,2,20110617,0017,0224, 45.9947, 165.0117, 5802,   1345.9,     1331,   2.3905,  34.4774,2,     39.3,2,  34.4785,2,    39.40,2,   159.92,3,    42.99,2,     0.00,2,    3.070,2,    0.152,2,    0.047,2,-999,9,-999,9,   2380.7,2,   2391.7,2,   7.3564,2,    25.00,     -999,9,     -999,9,   2.3904,2
  49UP20110515,   P13,    48,  1,     20,      93,2,20110617,0017,0218, 45.9947, 165.0117, 5802,   1550.2,     1532,   2.1926,  34.5217,2,     40.4,2,  34.5210,2,    40.67,2,   167.85,2,    42.96,2,     0.00,2,    3.030,3,    0.071,2,    0.002,2,-999,9,-999,9,   2391.1,2,   2398.3,2,   7.3618,2,    25.00,     -999,9,     -999,9,   2.1927,2
  49UP20110515,   P13,    48,  1,     19,      92,2,20110617,0017,0213, 45.9947, 165.0117, 5802,   1752.6,     1731,   2.0561,  34.5554,2,     50.5,2,  34.5691,4,    54.60,3,   170.40,2,    41.89,2,     0.00,2,    2.980,2,    0.089,2,    0.004,2,-999,9,-999,9,   2383.2,2,   2407.4,2,   7.3975,2,    25.00,     -999,9,     -999,9,   2.0561,2
  49UP20110515,   P13,    48,  1,     18,      91,2,20110617,0017,0206, 45.9947, 165.0117, 5802,   1956.0,     1931,   1.9308,  34.5845,2,     63.5,2,  34.5761,4,    59.24,3,   170.16,2,    41.73,2,     0.00,2,    2.960,2,    0.052,2,    0.000,2,-999,9,-999,9,   2384.1,2,   2408.9,2,   7.4067,6,    25.00,     -999,9,     -999,9,   1.9307,2
  49UP20110515,   P13,    48,  1,     17,      90,2,20110617,0017,0201, 45.9947, 165.0117, 5802,   2159.7,     2131,   1.8248,  34.6072,2,     77.0,2,  34.6074,2,    76.50,2,   170.12,2,    40.85,2,     0.00,2,    2.880,2,    0.034,2,    0.000,2,-999,9,-999,9,   2374.6,6,   2410.7,6,   7.4375,2,    25.00,     -999,9,     -999,9,   1.8247,2
  49UP20110515,   P13,    48,  1,     16,      89,2,20110617,0017,0156, 45.9947, 165.0117, 5802,   2362.9,     2330,   1.7391,  34.6259,2,     90.9,2,  34.6260,2,    91.09,2,   167.08,2,    39.83,2,     0.00,2,    2.810,2,    0.020,2,    0.000,2,-999,9,-999,9,   2363.1,2,   2413.8,2,   7.4713,2,    25.00,     -999,9,     -999,9,   1.7390,2
  49UP20110515,   P13,    48,  1,     15,      88,2,20110617,0017,0149, 45.9947, 165.0117, 5802,   2568.8,     2532,   1.6700,  34.6392,2,    102.4,2,  34.6393,2,   102.56,2,   164.47,4,    39.20,2,     0.00,2,    2.770,2,    0.037,2,    0.000,2,-999,9,-999,9,   2358.9,2,   2414.0,2,   7.4909,2,    25.00,     -999,9,     -999,9,   1.6701,2
  49UP20110515,   P13,    48,  1,     14,      87,2,20110617,0017,0144, 45.9947, 165.0117, 5802,   2772.3,     2732,   1.6163,  34.6492,2,    111.7,2,  34.6495,2,   112.06,2,   163.32,2,    38.63,2,     0.00,2,    2.720,2,    0.035,2,    0.000,2,-999,9,-999,9,   2352.4,2,   2417.9,2,   7.5058,2,    25.00,     -999,9,     -999,9,   1.6164,2
  49UP20110515,   P13,    48,  1,     13,      86,2,20110617,0017,0138, 45.9947, 165.0117, 5802,   2976.8,     2932,   1.5801,  34.6569,2,    119.6,2,  34.6572,2,   120.88,6,   161.96,2,    38.20,2,     0.00,2,    2.680,2,     -999,9,     -999,9,-999,9,-999,9,   2351.1,2,   2415.6,2,   7.5235,2,    25.00,     -999,9,     -999,9,   1.5800,2
  49UP20110515,   P13,    48,  1,     12,      85,2,20110617,0017,0131, 45.9947, 165.0117, 5802,   3222.1,     3171,   1.5395,  34.6649,2,    128.4,2,  34.6650,6,   128.58,2,   158.47,2,    37.62,2,     0.00,2,    2.630,2,    0.038,2,    0.000,2,-999,9,-999,9,   2345.7,2,   2417.3,2,   7.5381,2,    25.00,     -999,9,     -999,9,   1.5393,2
  49UP20110515,   P13,    48,  1,     11,     110,2,20110617,0017,0126, 45.9947, 165.0117, 5802,   3477.5,     3421,   1.5074,  34.6716,2,    136.0,2,  34.6720,2,   136.05,2,   156.80,2,    37.02,2,     0.00,2,    2.590,2,     -999,9,     -999,9,-999,9,-999,9,   2334.8,3,   2416.2,2,   7.5523,2,    25.00,     -999,9,     -999,9,   1.5074,2
  49UP20110515,   P13,    48,  1,     10,      83,2,20110617,0017,0118, 45.9947, 165.0117, 5802,   3733.4,     3670,   1.4889,  34.6766,2,    141.9,2,  34.6769,2,   142.67,2,   155.21,2,    36.71,2,     0.00,2,    2.560,2,     -999,9,     -999,9,-999,9,-999,9,   2338.4,2,   2415.6,2,   7.5607,2,    25.00,     -999,9,     -999,9,   1.4891,2
  49UP20110515,   P13,    48,  1,      9,      82,2,20110617,0017,0112, 45.9947, 165.0117, 5802,   3990.8,     3921,   1.4837,  34.6803,2,    146.5,2,  34.6807,2,   147.44,2,   153.99,2,    36.37,2,     0.00,2,    2.540,2,     -999,9,     -999,9,-999,9,-999,9,   2336.1,2,   2418.0,2,   7.5703,2,    25.00,     -999,9,     -999,9,   1.4839,2
  49UP20110515,   P13,    48,  1,      8,      81,2,20110617,0017,0104, 45.9947, 165.0117, 5802,   4248.3,     4172,   1.4861,  34.6830,2,    150.0,2,  34.6834,2,   150.01,2,   153.45,2,    36.22,2,     0.00,2,    2.520,2,    0.054,2,    0.000,2,-999,9,-999,9,   2330.4,2,   2414.8,2,   7.5750,2,    25.00,     -999,9,     -999,9,   1.4860,2
  49UP20110515,   P13,    48,  1,      7,      80,2,20110617,0017,0057, 45.9947, 165.0117, 5802,   4505.3,     4422,   1.4908,  34.6858,2,    153.5,2,  34.6853,2,   153.38,2,   152.34,6,    35.88,6,     0.00,6,    2.500,6,     -999,9,     -999,9,-999,9,-999,9,   2329.0,2,   2413.8,2,   7.5797,2,    25.00,     -999,9,     -999,9,   1.4910,2
  49UP20110515,   P13,    48,  1,      6,      79,2,20110617,0017,0051, 45.9947, 165.0117, 5802,   4762.3,     4671,   1.5044,  34.6876,2,    155.7,2,  34.6885,2,   155.76,2,   151.92,2,    35.68,2,     0.00,2,    2.480,2,     -999,9,     -999,9,-999,9,-999,9,   2328.8,2,   2413.9,2,   7.5838,2,    25.00,     -999,9,     -999,9,   1.5046,2
  49UP20110515,   P13,    48,  1,      5,      78,2,20110617,0017,0043, 45.9947, 165.0117, 5802,   5020.0,     4921,   1.5263,  34.6886,2,    157.0,2,  34.6890,2,   158.13,2,   152.06,2,    35.73,2,     0.00,2,    2.480,2,     -999,9,     -999,9,-999,9,-999,9,   2324.7,2,   2416.1,2,   7.5859,6,    25.00,     -999,9,     -999,9,   1.5264,2
  49UP20110515,   P13,    48,  1,      4,      77,2,20110617,0017,0036, 45.9947, 165.0117, 5802,   5278.0,     5171,   1.5518,  34.6896,2,    157.9,2,  34.6906,2,   158.53,2,   152.28,3,    35.65,2,     0.00,2,    2.470,2,    0.040,2,    0.000,2,-999,9,-999,9,   2321.4,6,   2414.6,6,   7.5876,2,    25.00,     -999,9,     -999,9,   1.5520,2
  49UP20110515,   P13,    48,  1,      3,      76,2,20110617,0017,0029, 45.9947, 165.0117, 5802,   5535.3,     5420,   1.5834,  34.6900,2,    158.0,2,  34.6904,6,   158.45,2,   153.17,2,    35.49,2,     0.00,2,    2.480,2,     -999,9,     -999,9,-999,9,-999,9,   2323.1,2,   2412.7,2,   7.5894,3,    25.00,     -999,9,     -999,9,   1.5836,2
  49UP20110515,   P13,    48,  1,      2,      75,2,20110617,0017,0023, 45.9947, 165.0117, 5802,   5793.8,     5670,   1.6172,  34.6904,2,    158.1,2,  34.6906,2,   159.33,4,   152.97,4,    35.42,2,     0.00,2,    2.470,2,     -999,9,     -999,9,-999,9,-999,9,   2320.1,2,   2413.8,2,   7.5848,2,    25.00,     -999,9,     -999,9,   1.6173,2
  49UP20110515,   P13,    48,  1,      1,      74,2,20110617,0017,0017, 45.9947, 165.0117, 5802,   5909.3,     5781,   1.6326,  34.6904,2,    158.1,2,  34.6900,2,   157.76,2,   153.10,3,    35.65,2,     0.00,2,    2.480,2,     -999,9,     -999,9,-999,9,-999,9,   2320.9,2,   2415.0,2,   7.5817,2,    25.00,     -999,9,     -999,9,   1.6328,2