BOTTLE,20240116CCHSIOVAJ
EXPOCODE,SECT_ID,STNNBR,CASTNO,SAMPNO,BTLNBR,BTLNBR_FLAG_W,DATE,TIME,BTL_TIME,LATITUDE,LONGITUDE,DEPTH,CTDPRS,CTDDEPTH,CTDTMP,CTDSAL,CTDSAL_FLAG_W,CTDOXY,CTDOXY_FLAG_W,SALNTY,SALNTY_FLAG_W,OXYGEN,OXYGEN_FLAG_W,SILCAT,SILCAT_FLAG_W,NO2+NO3,NO2+NO3_FLAG_W,NITRIT,NITRIT_FLAG_W,PHSPHT,PHSPHT_FLAG_W,CFC-11,CFC-11_FLAG_W,CFC-12,CFC-12_FLAG_W,DELC14,DELC14_FLAG_W,DELC13,DELC13_FLAG_W,TCARBN,TCARBN_FLAG_W,ALKALI,ALKALI_FLAG_W,PH_TOT,PH_TOT_FLAG_W,PH_TMP,CHLORA,CHLORA_FLAG_W,PPHYTN,PPHYTN_FLAG_W,REFTMP,REFTMP_FLAG_W
,,,,,,,,,,,,METERS,DBAR,METERS,ITS-90,PSS-78,,UMOL/KG,,PSS-78,,UMOL/KG,,UMOL/KG,,UMOL/KG,,UMOL/KG,,UMOL/KG,,PMOL/KG,,PMOL/KG,,/MILLE,,/MILLE,,UMOL/KG,,UMOL/KG,,,,DEG C,UG/KG,,UG/KG,,ITS-90,
  49UP20110515,   P13,    55,  1,      0,     BUC,2,20110621,1907,2130, 40.0512, 164.9797, 5485,      0.0,        0,  16.1812,  34.4380,2,    248.6,2,     -999,9,   251.44,2,     5.65,2,     1.13,2,     0.08,2,    0.210,2,     -999,9,     -999,9,-999,9,-999,9,     -999,9,     -999,9,     -999,9,     -999,     1.38,2,     0.00,2,     -999,9
  49UP20110515,   P13,    55,  1,     36,     109,2,20110621,1907,2158, 40.0512, 164.9797, 5485,     10.8,       11,  16.1775,  34.4382,2,    248.5,2,  34.4404,2,   251.24,2,     5.47,2,     1.04,2,     0.07,2,    0.170,2,    2.761,2,    1.456,2,52.3,2,0.8,2,   2009.0,2,   2272.5,2,   7.9964,2,    25.00,     0.79,2,     0.08,2,  16.1809,2
  49UP20110515,   P13,    55,  1,     35,     108,2,20110621,1907,2156, 40.0512, 164.9797, 5485,     50.9,       51,  14.6713,  34.4621,2,    248.5,2,  34.4622,2,   250.12,2,     7.97,6,     4.52,6,     0.31,6,    0.390,6,    2.973,2,    1.746,2,41.3,2,0.6,2,   2037.9,2,   2272.0,2,   7.9464,6,    25.00,     0.44,2,     0.12,2,  14.6632,2
  49UP20110515,   P13,    55,  1,     34,     107,2,20110621,1907,2152, 40.0512, 164.9797, 5485,    101.8,      101,  13.1275,  34.4461,2,    201.9,2,  34.4438,2,   204.26,6,    15.21,2,    11.66,2,     0.02,2,    0.820,2,    2.786,2,    1.623,2,37.0,2,0.3,2,   2083.2,2,   2275.5,2,   7.8551,2,    25.00,     0.01,2,     0.03,2,  13.1278,2
  49UP20110515,   P13,    55,  1,     33,     106,2,20110621,1907,2150, 40.0512, 164.9797, 5485,    151.9,      151,  11.6932,  34.2710,2,    212.3,2,  34.2698,6,   213.72,2,    17.41,2,    12.69,2,     0.01,2,    0.920,2,    2.788,2,    1.744,2,22.2,2,0.3,2,   2089.6,2,   2269.6,2,   7.8283,2,    25.00,     0.00,2,     0.03,2,  11.6954,2
  49UP20110515,   P13,    55,  1,     32,     105,2,20110621,1907,2148, 40.0512, 164.9797, 5485,    202.4,      201,  10.6154,  34.2196,2,    219.0,2,  34.2185,2,   214.55,2,    20.95,2,    14.59,6,     0.01,6,    1.050,6,    3.140,2,    1.772,2,15.6,2,0.3,2,   2105.9,6,   2270.8,6,   7.7955,2,    25.00,     0.00,2,     0.04,2,  10.6168,2
  49UP20110515,   P13,    55,  1,     31,     104,2,20110621,1907,2143, 40.0512, 164.9797, 5485,    254.0,      252,   8.9376,  34.0408,2,    225.0,2,  34.0533,4,   219.90,2,    26.04,2,    16.89,2,     0.01,2,    1.230,2,    3.366,6,    1.856,6,-999,9,-999,9,   2119.4,2,   2266.9,2,   7.7465,2,    25.00,     -999,9,     -999,9,   8.9242,2
  49UP20110515,   P13,    55,  1,     30,     103,2,20110621,1907,2141, 40.0512, 164.9797, 5485,    303.7,      301,   7.5617,  33.9236,2,    230.4,2,  33.9223,2,   230.28,2,    30.21,2,    18.85,2,     0.01,2,    1.380,2,    3.547,2,    2.030,2,-17.8,2,0.3,2,   2131.1,2,   2265.7,2,   7.7175,2,    25.00,     -999,9,     -999,9,   7.5623,2
  49UP20110515,   P13,    55,  1,     29,     102,2,20110621,1907,2138, 40.0512, 164.9797, 5485,    403.4,      400,   5.9105,  33.9309,2,    158.4,2,  33.9310,2,   159.07,2,    55.75,3,    28.37,2,     0.01,2,    2.070,2,    2.797,2,    1.657,2,-61.8,2,-0.1,2,   2209.6,2,   2284.1,2,   7.5547,2,    25.00,     -999,9,     -999,9,   5.9071,2
  49UP20110515,   P13,    55,  1,     28,     101,2,20110621,1907,2138, 40.0512, 164.9797, 5485,    403.4,      400,   5.9105,  33.9309,2,    158.4,2,  33.9311,2,   158.97,6,    55.85,2,    28.50,2,     0.01,2,    2.070,2,    2.820,2,    1.633,2,-999,9,-999,9,   2210.1,2,   2283.4,2,   7.5544,2,    25.00,     -999,9,     -999,9,   5.9071,2
  49UP20110515,   P13,    55,  1,     27,     100,2,20110621,1907,2128, 40.0512, 164.9797, 5485,    505.8,      501,   4.9421,  34.0002,2,    111.4,2,  33.9983,2,   115.07,4,    76.08,2,    34.41,2,     0.00,2,    2.480,2,    2.235,6,    1.205,6,-98.3,2,-0.3,2,   2260.4,2,   2302.0,2,   7.4571,2,    25.00,     -999,9,     -999,9,   4.9391,2
  49UP20110515,   P13,    55,  1,     26,      99,2,20110621,1907,2125, 40.0512, 164.9797, 5485,    606.9,      601,   4.5691,  34.0760,2,     84.5,2,  34.0755,2,    85.16,2,    89.15,2,    37.38,2,     0.00,2,    2.670,2,    1.695,2,    0.861,2,-113.7,2,-0.3,2,   2286.2,2,   2312.7,2,   7.4156,3,    25.00,     -999,9,     -999,9,   4.5695,2
  49UP20110515,   P13,    55,  1,     25,      98,2,20110621,1907,2118, 40.0512, 164.9797, 5485,    707.7,      701,   4.2207,  34.1669,2,     62.5,2,  34.1671,2,    63.05,2,   102.69,2,    39.58,2,     0.00,2,    2.830,2,    1.142,2,    0.571,2,-138.9,2,-0.5,2,   2317.3,2,   2328.2,2,   7.3828,2,    25.00,     -999,9,     -999,9,   4.2210,2
  49UP20110515,   P13,    55,  1,     24,      97,2,20110621,1907,2114, 40.0512, 164.9797, 5485,    810.4,      803,   3.8423,  34.2368,2,     48.3,2,  34.2366,2,    48.98,2,   114.58,2,    41.14,2,     0.00,2,    2.930,2,    0.758,2,    0.377,2,-164.4,2,-0.5,2,   2337.4,2,   2342.1,2,   7.3596,6,    25.00,     -999,9,     -999,9,   3.8425,2
  49UP20110515,   P13,    55,  1,     23,      96,2,20110621,1907,2108, 40.0512, 164.9797, 5485,    909.6,      901,   3.4944,  34.3005,2,     39.3,2,  34.2957,4,    40.83,2,   124.89,3,    42.08,2,     0.00,2,    2.990,2,    0.508,2,    0.241,2,-179.2,2,-0.5,2,   2350.1,6,   2356.8,6,   7.3503,2,    25.00,     -999,9,     -999,9,   3.4944,2
  49UP20110515,   P13,    55,  1,     22,      95,3,20110621,1907,2104, 40.0512, 164.9797, 5485,   1011.9,     1002,   3.2424,  34.3517,2,     34.3,2,  34.3500,6,    35.10,2,   132.82,3,    42.89,2,     0.00,2,    3.050,2,    0.322,2,    0.141,2,-196.9,2,-0.5,2,   2357.5,2,   2367.0,2,   7.3462,2,    25.00,     -999,9,     -999,9,   3.2439,2
  49UP20110515,   P13,    55,  1,     21,      94,2,20110621,1907,2059, 40.0512, 164.9797, 5485,   1213.1,     1200,   2.8664,  34.4180,2,     32.1,2,  34.4175,2,    32.12,2,   145.13,2,    43.49,2,     0.00,2,    3.080,2,    0.154,2,    0.056,2,-211.9,2,-0.5,2,   2379.0,2,   2382.4,2,   7.3473,2,    25.00,     -999,9,     -999,9,   2.8666,2
  49UP20110515,   P13,    55,  1,     20,      93,2,20110621,1907,2048, 40.0512, 164.9797, 5485,   1417.0,     1401,   2.5494,  34.4768,2,     36.0,2,  34.4755,2,    35.82,2,   154.09,2,    43.56,2,     0.00,2,    3.070,2,    0.073,2,    0.015,2,-228.7,2,-0.5,2,   2383.9,2,   2392.2,2,   7.3590,2,    25.00,     -999,9,     -999,9,   2.5493,2
  49UP20110515,   P13,    55,  1,     19,      92,2,20110621,1907,2043, 40.0512, 164.9797, 5485,   1621.4,     1603,   2.3087,  34.5213,2,     44.0,2,  34.5195,2,    44.10,2,   159.97,6,    43.07,6,     0.00,6,    3.020,2,    0.083,2,    0.024,2,-999,9,-999,9,   2383.8,2,   2402.4,2,   7.3734,2,    25.00,     -999,9,     -999,9,   2.3089,2
  49UP20110515,   P13,    55,  1,     18,      91,2,20110621,1907,2037, 40.0512, 164.9797, 5485,   1822.4,     1801,   2.1180,  34.5537,2,     53.7,2,  34.5533,2,    53.91,2,   164.28,2,    42.49,2,     0.00,2,    2.990,2,    0.031,2,    0.000,2,-236.8,2,-0.4,2,   2383.7,2,   2405.4,2,   7.3923,2,    25.00,     -999,9,     -999,9,   2.1181,2
  49UP20110515,   P13,    55,  1,     17,      90,2,20110621,1907,2032, 40.0512, 164.9797, 5485,   2025.7,     2000,   1.9809,  34.5823,2,     65.9,2,  34.5822,6,    65.74,2,   165.52,2,    41.92,2,     0.00,2,    2.940,2,    0.020,2,    0.004,2,-999,9,-999,9,   2377.3,2,   2408.6,2,   7.4223,2,    25.00,     -999,9,     -999,9,   1.9807,2
  49UP20110515,   P13,    55,  1,     16,      89,2,20110621,1907,2028, 40.0512, 164.9797, 5485,   2229.9,     2201,   1.8714,  34.6030,2,     76.8,2,  34.6031,2,    76.95,2,   166.46,2,    41.12,2,     0.00,2,    2.890,2,    0.023,2,    0.000,2,-241.3,2,-0.3,2,   2375.3,2,   2412.6,2,   7.4426,2,    25.00,     -999,9,     -999,9,   1.8712,2
  49UP20110515,   P13,    55,  1,     15,      88,2,20110621,1907,2021, 40.0512, 164.9797, 5485,   2435.0,     2402,   1.7681,  34.6228,2,     90.1,2,  34.6240,2,    90.15,3,   165.25,2,    40.32,2,     0.00,2,    2.820,2,    0.011,2,    0.000,2,-999,9,-999,9,   2370.7,2,   2414.0,2,   7.4680,2,    25.00,     -999,9,     -999,9,   1.7680,2
  49UP20110515,   P13,    55,  1,     14,      87,2,20110621,1907,2021, 40.0512, 164.9797, 5485,   2435.0,     2402,   1.7681,  34.6228,2,     90.1,2,  34.6227,2,    91.30,3,   165.41,2,    40.39,2,     0.00,2,    2.820,2,    0.007,2,    0.000,2,-999,9,-999,9,   2366.3,3,   2414.6,2,   7.4706,2,    25.00,     -999,9,     -999,9,   1.7680,2
  49UP20110515,   P13,    55,  1,     13,      86,2,20110621,1907,2016, 40.0512, 164.9797, 5485,   2636.6,     2600,   1.6790,  34.6391,2,    103.4,2,  34.6401,2,   105.74,3,   163.49,2,    39.57,2,     0.00,2,    2.760,2,    0.004,2,    0.000,2,-239.8,2,-0.1,2,   2361.5,2,   2416.0,2,   7.4910,2,    25.00,     -999,9,     -999,9,   1.6787,2
  49UP20110515,   P13,    55,  1,     12,      85,3,20110621,1907,2012, 40.0512, 164.9797, 5485,   2841.4,     2801,   1.6133,  34.6511,2,    114.2,2,  34.6515,2,   115.48,6,   161.29,2,    38.73,2,     0.00,2,    2.710,2,    0.007,2,    0.000,2,-999,9,-999,9,   2355.2,2,   2415.8,2,   7.5116,2,    25.00,     -999,9,     -999,9,   1.6134,2
  49UP20110515,   P13,    55,  1,     11,     110,2,20110621,1907,2006, 40.0512, 164.9797, 5485,   3045.9,     3001,   1.5626,  34.6597,2,    123.3,2,  34.6602,2,   124.73,2,   159.38,2,    38.15,2,     0.00,2,    2.670,2,    0.005,2,    0.000,2,-233.2,2,-0.0,2,   2349.9,2,   2417.5,2,   7.5309,6,    25.00,     -999,9,     -999,9,   1.5625,2
  49UP20110515,   P13,    55,  1,     10,      83,2,20110621,1907,2002, 40.0512, 164.9797, 5485,   3298.3,     3248,   1.5335,  34.6663,2,    130.2,2,  34.6669,2,   130.48,2,   157.85,3,    37.69,2,     0.00,2,    2.620,2,    0.005,2,    0.000,2,-999,9,-999,9,   2342.0,6,   2416.4,6,   7.5456,2,    25.00,     -999,9,     -999,9,   1.5338,2
  49UP20110515,   P13,    55,  1,      9,      82,3,20110621,1907,1956, 40.0512, 164.9797, 5485,   3555.2,     3499,   1.5006,  34.6729,2,    138.1,2,  34.6730,2,   138.07,2,   155.65,2,    37.25,2,     0.00,2,    2.580,2,    0.006,2,    0.000,2,-227.6,2,0.1,2,   2340.8,2,   2415.9,2,   7.5537,2,    25.00,     -999,9,     -999,9,   1.5006,2
  49UP20110515,   P13,    55,  1,      8,      81,2,20110621,1907,1951, 40.0512, 164.9797, 5485,   3812.6,     3750,   1.4866,  34.6773,2,    143.6,2,  34.6780,2,   143.31,2,   154.34,2,    36.90,2,     0.00,2,    2.570,2,     -999,5,     -999,5,-999,9,-999,9,   2337.6,2,   2416.4,2,   7.5631,2,    25.00,     -999,9,     -999,9,   1.4866,2
  49UP20110515,   P13,    55,  1,      7,      80,3,20110621,1907,1945, 40.0512, 164.9797, 5485,   4070.6,     4001,   1.4791,  34.6812,2,    148.4,2,  34.6814,2,   148.18,2,   152.87,2,    36.65,2,     0.00,2,    2.540,2,    0.005,2,    0.000,2,-227.9,2,0.1,2,   2334.3,2,   2415.8,2,   7.5738,2,    25.00,     -999,9,     -999,9,   1.4791,2
  49UP20110515,   P13,    55,  1,      6,      79,2,20110621,1907,1939, 40.0512, 164.9797, 5485,   4327.6,     4251,   1.4811,  34.6843,2,    151.9,2,  34.6842,2,   151.74,6,   152.02,2,    36.31,2,     0.00,2,    2.520,2,    0.012,2,    0.000,2,-999,9,-999,9,   2331.9,2,   2415.2,2,   7.5812,2,    25.00,     -999,9,     -999,9,   1.4813,2
  49UP20110515,   P13,    55,  1,      5,      78,2,20110621,1907,1932, 40.0512, 164.9797, 5485,   4583.1,     4500,   1.4934,  34.6863,2,    154.3,2,  34.6861,2,   154.13,2,   151.94,2,    36.17,2,     0.00,2,    2.510,2,    0.000,2,    0.000,2,-222.0,2,0.1,2,   2328.5,2,   2415.8,2,   7.5798,3,    25.00,     -999,9,     -999,9,   1.4935,2
  49UP20110515,   P13,    55,  1,      4,      77,2,20110621,1907,1927, 40.0512, 164.9797, 5485,   4842.6,     4752,   1.5095,  34.6878,2,    156.3,2,  34.6878,2,   156.19,2,   151.19,2,    36.07,2,     0.00,2,    2.500,2,    0.053,2,    0.001,2,-999,9,-999,9,   2329.7,2,   2414.5,2,   7.5874,2,    25.00,     -999,9,     -999,9,   1.5094,2
  49UP20110515,   P13,    55,  1,      3,      76,2,20110621,1907,1920, 40.0512, 164.9797, 5485,   5099.4,     5001,   1.5312,  34.6890,2,    157.6,2,  34.6894,6,   157.54,2,   151.73,2,    35.99,2,     0.00,2,    2.490,2,    0.026,2,    0.000,2,-210.4,2,0.2,2,   2326.7,2,   2415.6,2,   7.5883,2,    25.00,     -999,9,     -999,9,   1.5313,2
  49UP20110515,   P13,    55,  1,      2,      75,2,20110621,1907,1913, 40.0512, 164.9797, 5485,   5360.0,     5253,   1.5584,  34.6896,2,    158.2,2,  34.6899,2,   158.31,2,   151.93,2,    35.78,2,     0.00,2,    2.480,2,    0.020,2,    0.000,2,-999,9,-999,9,   2323.3,2,   2413.6,2,   7.5880,2,    25.00,     -999,9,     -999,9,   1.5583,2
  49UP20110515,   P13,    55,  1,      1,      74,2,20110621,1907,1907, 40.0512, 164.9797, 5485,   5579.2,     5465,   1.5870,  34.6897,2,    158.1,2,  34.6870,4,   155.88,2,   152.83,6,    36.05,6,     0.00,6,    2.500,6,    0.017,2,    0.000,2,-216.0,2,0.2,2,   2325.1,2,   2418.3,2,   7.5857,2,    25.00,     -999,9,     -999,9,   1.5869,2