BOTTLE,20240116CCHSIOVAJ
EXPOCODE,SECT_ID,STNNBR,CASTNO,SAMPNO,BTLNBR,BTLNBR_FLAG_W,DATE,TIME,BTL_TIME,LATITUDE,LONGITUDE,DEPTH,CTDPRS,CTDDEPTH,CTDTMP,CTDSAL,CTDSAL_FLAG_W,CTDOXY,CTDOXY_FLAG_W,SALNTY,SALNTY_FLAG_W,OXYGEN,OXYGEN_FLAG_W,SILCAT,SILCAT_FLAG_W,NO2+NO3,NO2+NO3_FLAG_W,NITRIT,NITRIT_FLAG_W,PHSPHT,PHSPHT_FLAG_W,CFC-11,CFC-11_FLAG_W,CFC-12,CFC-12_FLAG_W,DELC14,DELC14_FLAG_W,DELC13,DELC13_FLAG_W,TCARBN,TCARBN_FLAG_W,ALKALI,ALKALI_FLAG_W,PH_TOT,PH_TOT_FLAG_W,PH_TMP,CHLORA,CHLORA_FLAG_W,PPHYTN,PPHYTN_FLAG_W,REFTMP,REFTMP_FLAG_W
,,,,,,,,,,,,METERS,DBAR,METERS,ITS-90,PSS-78,,UMOL/KG,,PSS-78,,UMOL/KG,,UMOL/KG,,UMOL/KG,,UMOL/KG,,UMOL/KG,,PMOL/KG,,PMOL/KG,,/MILLE,,/MILLE,,UMOL/KG,,UMOL/KG,,,,DEG C,UG/KG,,UG/KG,,ITS-90,
  49UP20110515,   P13,    99,  1,      0,     BUC,2,20110723,1331,1536, 12.0027, 164.4812, 4699,      0.0,        0,  28.7009,  34.6414,2,    196.7,2,     -999,9,   195.88,2,     1.11,2,     0.00,2,     0.00,2,    0.120,2,     -999,9,     -999,9,-999,9,-999,9,     -999,9,     -999,9,     -999,9,     -999,     0.04,2,     0.02,2,     -999,9
  49UP20110515,   P13,    99,  1,     36,     109,2,20110723,1331,1556, 12.0027, 164.4812, 4699,     11.2,       11,  28.7033,  34.6414,2,    196.7,2,  34.6401,2,   195.98,2,     1.01,2,     0.00,2,     0.00,2,    0.110,2,    1.760,3,    1.054,2,-999,9,-999,9,   1943.5,2,   2274.9,2,   8.1097,2,    25.00,     0.04,2,     0.01,2,  28.7016,2
  49UP20110515,   P13,    99,  1,     35,     108,2,20110723,1331,1554, 12.0027, 164.4812, 4699,     26.6,       26,  28.6939,  34.6456,2,    196.5,2,  34.6427,2,   195.82,2,     1.10,2,     0.00,2,     0.00,2,    0.110,2,    1.753,3,    1.036,2,-999,9,-999,9,   1941.9,2,   2274.3,2,   8.1069,2,    25.00,     0.05,2,     0.01,2,  28.6933,2
  49UP20110515,   P13,    99,  1,     34,     107,2,20110723,1331,1552, 12.0027, 164.4812, 4699,     51.3,       51,  28.7036,  34.6450,2,    196.3,2,  34.6422,2,   195.99,2,     1.06,2,     0.00,2,     0.00,2,    0.120,2,    1.739,3,    1.030,2,-999,9,-999,9,   1943.4,6,   2274.1,6,   8.1097,2,    25.00,     0.04,2,     0.01,2,  28.7026,2
  49UP20110515,   P13,    99,  1,     33,     106,2,20110723,1331,1551, 12.0027, 164.4812, 4699,     76.0,       76,  28.6957,  34.6670,2,    196.2,2,  34.6656,2,   196.30,2,     1.06,2,     0.00,2,     0.00,2,    0.110,2,    1.764,3,    1.044,2,-999,9,-999,9,   1945.6,2,   2275.7,2,   8.1076,6,    25.00,     0.05,2,     0.02,2,  28.6961,2
  49UP20110515,   P13,    99,  1,     32,     105,2,20110723,1331,1549, 12.0027, 164.4812, 4699,    102.4,      102,  28.1789,  34.8066,2,    202.1,2,  34.8055,2,   202.39,2,     0.92,2,     0.00,2,     0.00,2,    0.110,2,    2.009,3,    1.092,2,-999,9,-999,9,   1956.6,2,   2286.6,2,   8.1056,2,    25.00,     0.09,2,     0.04,2,  28.1819,2
  49UP20110515,   P13,    99,  1,     31,     104,2,20110723,1331,1548, 12.0027, 164.4812, 4699,    127.0,      126,  25.4309,  35.0828,2,    198.2,2,  34.8092,4,   202.65,6,     0.97,2,     0.00,2,     0.00,2,    0.110,2,    1.959,3,    1.079,6,-999,9,-999,9,   1956.4,2,   2285.9,3,   8.1018,2,    25.00,     0.09,2,     0.03,2,  25.4112,2
  49UP20110515,   P13,    99,  1,     30,     103,2,20110723,1331,1547, 12.0027, 164.4812, 4699,    151.6,      151,  23.2752,  35.1417,2,    193.1,2,  35.1660,4,   193.08,2,     1.71,2,     0.36,2,     0.16,2,    0.180,2,    2.129,3,    1.315,2,-999,9,-999,9,   2032.4,2,   2312.6,2,   8.0058,2,    25.00,     0.14,2,     0.24,2,  23.2841,2
  49UP20110515,   P13,    99,  1,     29,     102,2,20110723,1331,1543, 12.0027, 164.4812, 4699,    206.7,      205,  16.7051,  34.6765,2,    182.6,2,  34.6955,4,   183.75,2,     5.50,2,     6.49,2,     0.01,2,    0.520,2,    2.635,3,    1.582,2,-999,9,-999,9,   2065.5,2,   2280.7,2,   7.8979,2,    25.00,     0.02,2,     0.03,2,  16.6467,2
  49UP20110515,   P13,    99,  1,     28,     101,2,20110723,1331,1542, 12.0027, 164.4812, 4699,    252.6,      251,  12.6390,  34.3632,2,    137.9,2,  34.3612,6,   136.36,2,    17.22,6,    17.44,6,     0.00,6,    1.350,6,    2.589,3,    1.471,2,-999,9,-999,9,   2139.9,2,   2269.8,2,   7.7021,2,    25.00,     -999,9,     -999,9,  12.6382,2
  49UP20110515,   P13,    99,  1,     27,     100,2,20110723,1331,1539, 12.0027, 164.4812, 4699,    333.5,      331,  10.5335,  34.4059,2,     74.7,2,  34.3994,2,    76.80,4,    29.78,2,    27.29,2,     0.00,2,    2.080,2,    1.691,3,    0.917,6,-999,9,-999,9,   2209.1,2,   2281.1,2,   7.5358,2,    25.00,     -999,9,     -999,9,  10.5352,2
  49UP20110515,   P13,    99,  1,     26,      99,2,20110723,1331,1537, 12.0027, 164.4812, 4699,    382.7,      380,   8.8565,  34.3823,2,     62.9,2,  34.3808,2,    61.90,2,    41.14,2,    31.79,2,     0.00,2,    2.370,2,    1.076,3,    0.563,2,-999,9,-999,9,   2240.2,2,   2292.0,2,   7.4772,2,    25.00,     -999,9,     -999,9,   8.8566,2
  49UP20110515,   P13,    99,  1,     25,      98,2,20110723,1331,1536, 12.0027, 164.4812, 4699,    433.8,      431,   8.3908,  34.4888,2,     57.9,2,  34.4910,2,    57.65,2,    44.91,2,    34.14,2,     0.00,2,    2.470,2,    0.535,3,    0.283,2,-999,9,-999,9,   2251.1,6,   2304.8,6,   7.4821,2,    25.00,     -999,9,     -999,9,   8.3918,2
  49UP20110515,   P13,    99,  1,     24,      97,2,20110723,1331,1534, 12.0027, 164.4812, 4699,    484.2,      481,   7.8381,  34.5122,2,     60.9,2,  34.5118,2,    60.40,2,    48.56,2,    35.08,2,     0.00,2,    2.530,2,    0.357,3,    0.188,2,-999,9,-999,9,   2257.4,2,   2309.7,2,   7.4807,6,    25.00,     -999,9,     -999,9,   7.8386,2
  49UP20110515,   P13,    99,  1,     23,      96,2,20110723,1331,1533, 12.0027, 164.4812, 4699,    535.0,      531,   7.4452,  34.5174,2,     65.1,2,  34.5166,2,    64.35,6,    51.38,6,    35.51,6,     0.00,6,    2.560,6,    0.310,3,    0.154,2,-999,9,-999,9,   2257.1,2,   2313.6,2,   7.4837,2,    25.00,     -999,9,     -999,9,   7.4463,2
  49UP20110515,   P13,    99,  1,     22,      95,2,20110723,1331,1525, 12.0027, 164.4812, 4699,    635.3,      631,   6.7170,  34.5163,2,     62.7,2,  34.5151,2,    62.87,2,    59.50,2,    37.11,2,     0.00,2,    2.680,2,    0.175,3,    0.094,2,-999,9,-999,9,   2271.7,2,   2323.0,2,   7.4655,2,    25.00,     -999,9,     -999,9,   6.7176,2
  49UP20110515,   P13,    99,  1,     21,      94,2,20110723,1331,1523, 12.0027, 164.4812, 4699,    735.3,      730,   6.1430,  34.5193,2,     64.1,2,  34.5182,2,    63.83,2,    66.77,2,    38.05,2,     0.00,2,    2.750,2,    0.081,3,    0.056,2,-999,9,-999,9,   2281.9,2,   2331.0,2,   7.4606,2,    25.00,     -999,9,     -999,9,   6.1430,2
  49UP20110515,   P13,    99,  1,     20,      93,2,20110723,1331,1520, 12.0027, 164.4812, 4699,    836.6,      830,   5.6173,  34.5300,2,     49.0,2,  34.5298,2,    49.55,2,    75.65,2,    40.54,2,     0.00,2,    2.930,2,    0.007,3,    0.014,2,-999,9,-999,9,   2302.2,2,   2340.6,2,   7.4275,2,    25.00,     -999,9,     -999,9,   5.6165,2
  49UP20110515,   P13,    99,  1,     19,      92,2,20110723,1331,1518, 12.0027, 164.4812, 4699,    939.2,      932,   5.0052,  34.5394,2,     53.1,2,  34.5383,6,    53.25,2,    85.52,2,    41.08,2,     0.00,2,    2.940,2,    0.000,3,    0.008,2,-999,9,-999,9,   2314.0,2,   2351.2,2,   7.4291,2,    25.00,     -999,9,     -999,9,   5.0052,2
  49UP20110515,   P13,    99,  1,     18,      91,2,20110723,1331,1514, 12.0027, 164.4812, 4699,   1080.2,     1071,   4.5521,  34.5487,2,     58.0,2,  34.5474,2,    58.41,2,    94.40,2,    41.20,2,     0.00,2,    2.960,2,    0.000,3,    0.007,2,-999,9,-999,9,   2324.7,2,   2360.2,2,   7.4359,2,    25.00,     -999,9,     -999,9,   4.5536,2
  49UP20110515,   P13,    99,  1,     17,      90,2,20110723,1331,1504, 12.0027, 164.4812, 4699,   1283.6,     1272,   3.6420,  34.5715,2,     73.0,2,  34.5710,2,    73.04,2,   112.97,6,    40.64,6,     0.00,6,    2.910,6,    0.000,3,    0.004,2,-999,9,-999,9,   2332.6,2,   2380.1,2,   7.4533,2,    25.00,     -999,9,     -999,9,   3.6421,2
  49UP20110515,   P13,    99,  1,     16,      89,2,20110723,1331,1500, 12.0027, 164.4812, 4699,   1486.2,     1472,   3.0563,  34.5904,2,     82.3,2,  34.5885,2,    82.63,2,   125.51,2,    40.33,2,     0.00,2,    2.870,2,    0.000,3,    0.005,2,-999,9,-999,9,   2341.8,2,   2393.1,2,   7.4679,2,    25.00,     -999,9,     -999,9,   3.0581,2
  49UP20110515,   P13,    99,  1,     15,      88,2,20110723,1331,1452, 12.0027, 164.4812, 4699,   1687.9,     1671,   2.5692,  34.6124,2,     93.3,2,  34.6116,2,    93.13,2,   135.59,2,    39.74,2,     0.00,2,    2.820,2,     -999,9,     -999,9,-999,9,-999,9,   2345.4,2,   2403.9,2,   7.4867,2,    25.00,     -999,9,     -999,9,   2.5686,2
  49UP20110515,   P13,    99,  1,     14,      87,2,20110723,1331,1446, 12.0027, 164.4812, 4699,   1890.2,     1871,   2.3174,  34.6264,2,    100.4,2,  34.6268,2,   100.44,2,   140.30,2,    39.35,2,     0.00,2,    2.780,2,     -999,9,     -999,9,-999,9,-999,9,   2348.2,2,   2410.2,2,   7.4993,2,    25.00,     -999,9,     -999,9,   2.3170,2
  49UP20110515,   P13,    99,  1,     13,      86,2,20110723,1331,1441, 12.0027, 164.4812, 4699,   2093.9,     2072,   2.1264,  34.6393,2,    106.5,2,  34.6390,2,   106.73,2,   144.00,2,    39.02,2,     0.00,2,    2.750,2,     -999,9,     -999,9,-999,9,-999,9,   2349.0,2,   2414.8,2,   7.5085,2,    25.00,     -999,9,     -999,9,   2.1258,2
  49UP20110515,   P13,    99,  1,     12,      74,2,20110723,1331,1431, 12.0027, 164.4812, 4699,   2296.9,     2271,   1.9854,  34.6489,2,    112.1,2,  34.6482,2,   112.23,2,   146.66,2,    38.72,2,     0.00,2,    2.720,2,    0.000,3,    0.004,2,-999,9,-999,9,   2345.6,2,   2418.4,2,   7.5193,2,    25.00,     -999,9,     -999,9,   1.9849,2
  49UP20110515,   P13,    99,  1,     11,     110,2,20110723,1331,1426, 12.0027, 164.4812, 4699,   2500.2,     2471,   1.8741,  34.6550,2,    117.9,2,  34.6552,2,   117.89,2,   148.20,2,    38.36,2,     0.00,2,    2.690,2,     -999,9,     -999,9,-999,9,-999,9,   2348.3,2,   2420.3,2,   7.5250,2,    25.00,     -999,9,     -999,9,   1.8742,2
  49UP20110515,   P13,    99,  1,     10,      83,2,20110723,1331,1421, 12.0027, 164.4812, 4699,   2703.0,     2670,   1.8142,  34.6593,2,    121.5,2,  34.6584,6,   121.57,2,   149.16,2,    38.14,2,     0.00,2,    2.660,2,     -999,9,     -999,9,-999,9,-999,9,   2346.3,2,   2421.4,2,   7.5325,2,    25.00,     -999,9,     -999,9,   1.8141,2
  49UP20110515,   P13,    99,  1,      9,      82,2,20110723,1331,1412, 12.0027, 164.4812, 4699,   2907.7,     2871,   1.7274,  34.6657,2,    127.2,2,  34.6651,2,   127.47,2,   149.41,2,    37.73,2,     0.00,2,    2.640,2,     -999,9,     -999,9,-999,9,-999,9,   2344.5,2,   2421.6,2,   7.5418,2,    25.00,     -999,9,     -999,9,   1.7274,2
  49UP20110515,   P13,    99,  1,      8,      81,2,20110723,1331,1407, 12.0027, 164.4812, 4699,   3122.1,     3081,   1.6352,  34.6717,2,    134.0,2,  34.6720,2,   133.94,6,   149.75,6,    37.33,6,     0.00,6,    2.600,6,     -999,9,     -999,9,-999,9,-999,9,   2339.4,2,   2421.2,2,   7.5525,2,    25.00,     -999,9,     -999,9,   1.6353,2
  49UP20110515,   P13,    99,  1,      7,      80,2,20110723,1331,1401, 12.0027, 164.4812, 4699,   3377.0,     3331,   1.5775,  34.6764,2,    140.1,2,  34.6754,2,   139.79,2,   148.92,2,    36.90,2,     0.00,2,    2.570,2,    0.000,3,    0.004,2,-999,9,-999,9,   2332.4,2,   2419.7,2,   7.5611,2,    25.00,     -999,9,     -999,9,   1.5776,2
  49UP20110515,   P13,    99,  1,      6,      79,2,20110723,1331,1356, 12.0027, 164.4812, 4699,   3632.4,     3581,   1.5070,  34.6819,2,    147.7,2,  34.6807,2,   147.61,2,   147.06,2,    36.37,2,     0.00,2,    2.520,2,     -999,9,     -999,9,-999,9,-999,9,   2329.7,6,   2416.7,6,   7.5707,2,    25.00,     -999,9,     -999,9,   1.5072,2
  49UP20110515,   P13,    99,  1,      5,      78,2,20110723,1331,1350, 12.0027, 164.4812, 4699,   3887.6,     3830,   1.4535,  34.6869,2,    156.3,2,  34.6862,2,   156.05,2,   143.52,2,    35.84,2,     0.00,2,    2.480,2,     -999,9,     -999,9,-999,9,-999,9,   2319.8,2,   2412.7,2,   7.5835,6,    25.00,     -999,9,     -999,9,   1.4536,2
  49UP20110515,   P13,    99,  1,      4,      77,2,20110723,1331,1345, 12.0027, 164.4812, 4699,   4143.7,     4080,   1.4008,  34.6928,2,    167.4,2,  34.6922,2,   167.34,6,   137.04,2,    34.99,2,     0.00,2,    2.420,2,     -999,9,     -999,9,-999,9,-999,9,   2299.6,2,   2405.6,2,   7.5940,2,    25.00,     -999,9,     -999,9,   1.4005,2
  49UP20110515,   P13,    99,  1,      3,      76,2,20110723,1331,1340, 12.0027, 164.4812, 4699,   4400.8,     4331,   1.3913,  34.6957,2,    172.5,2,  34.6957,6,   172.37,2,   134.01,2,    34.62,2,     0.00,2,    2.400,2,     -999,9,     -999,9,-999,9,-999,9,   2301.9,2,   2401.8,2,   7.5989,2,    25.00,     -999,9,     -999,9,   1.3913,2
  49UP20110515,   P13,    99,  1,      2,      75,2,20110723,1331,1334, 12.0027, 164.4812, 4699,   4655.7,     4579,   1.3920,  34.6976,2,    176.6,2,  34.6973,2,   176.45,2,   131.91,2,    34.31,2,     0.00,2,    2.370,2,    0.000,3,    0.000,2,-999,9,-999,9,   2293.0,2,   2398.7,2,   7.6008,2,    25.00,     -999,9,     -999,9,   1.3919,2
  49UP20110515,   P13,    99,  1,      1,     112,2,20110723,1331,1331, 12.0027, 164.4812, 4699,   4738.7,     4660,   1.3995,  34.6978,2,    176.9,2,  34.6972,2,   176.45,2,   131.59,2,    34.33,2,     0.00,2,    2.370,2,     -999,9,     -999,9,-999,9,-999,9,   2284.4,2,   2400.8,2,   7.6067,2,    25.00,     -999,9,     -999,9,   1.3996,2