BOTTLE,20240116CCHSIOVAJ
EXPOCODE,SECT_ID,STNNBR,CASTNO,SAMPNO,BTLNBR,BTLNBR_FLAG_W,DATE,TIME,BTL_TIME,LATITUDE,LONGITUDE,DEPTH,CTDPRS,CTDDEPTH,CTDTMP,CTDSAL,CTDSAL_FLAG_W,CTDOXY,CTDOXY_FLAG_W,SALNTY,SALNTY_FLAG_W,OXYGEN,OXYGEN_FLAG_W,SILCAT,SILCAT_FLAG_W,NO2+NO3,NO2+NO3_FLAG_W,NITRIT,NITRIT_FLAG_W,PHSPHT,PHSPHT_FLAG_W,CFC-11,CFC-11_FLAG_W,CFC-12,CFC-12_FLAG_W,DELC14,DELC14_FLAG_W,DELC13,DELC13_FLAG_W,TCARBN,TCARBN_FLAG_W,ALKALI,ALKALI_FLAG_W,PH_TOT,PH_TOT_FLAG_W,PH_TMP,CHLORA,CHLORA_FLAG_W,PPHYTN,PPHYTN_FLAG_W,REFTMP,REFTMP_FLAG_W
,,,,,,,,,,,,METERS,DBAR,METERS,ITS-90,PSS-78,,UMOL/KG,,PSS-78,,UMOL/KG,,UMOL/KG,,UMOL/KG,,UMOL/KG,,UMOL/KG,,PMOL/KG,,PMOL/KG,,/MILLE,,/MILLE,,UMOL/KG,,UMOL/KG,,,,DEG C,UG/KG,,UG/KG,,ITS-90,
  49UP20110515,   P01,     5,  1,      0,     BUC,2,20110518,0757,0944, 42.5150, 145.8502, 3072,      0.0,        0,   6.6053,  33.0552,2,    329.0,2,     -999,9,   328.43,2,    12.92,2,    11.17,2,     0.19,2,    1.060,2,     -999,9,     -999,9,-999,9,-999,9,     -999,9,     -999,9,     -999,9,     -999,     1.01,2,     0.14,2,     -999,9
  49UP20110515,   P01,     5,  1,     36,     109,2,20110518,0757,1013, 42.5150, 145.8502, 3072,     10.2,       10,   6.3227,  33.0475,2,    330.5,2,  33.0569,4,   330.98,2,    13.83,2,    11.30,2,     0.19,2,    1.040,3,    4.948,2,    2.660,2,-999,9,-999,9,   2057.9,2,   2239.8,2,   7.8290,2,    25.00,     1.11,2,     0.18,2,   6.3792,2
  49UP20110515,   P01,     5,  1,     35,     108,2,20110518,0757,1011, 42.5150, 145.8502, 3072,     25.1,       25,   5.8681,  33.1685,2,    332.7,2,     -999,9,   334.24,3,    20.27,2,    13.19,2,     0.22,2,    1.140,2,    5.077,2,    2.744,2,-999,9,-999,9,   2071.3,2,   2245.1,2,   7.8095,2,    25.00,     1.50,2,     0.53,2,   5.8722,2
  49UP20110515,   P01,     5,  1,     34,     107,2,20110518,0757,1011, 42.5150, 145.8502, 3072,     25.1,       25,   5.8681,  33.1685,2,    332.7,2,     -999,9,   332.45,2,    20.22,2,    13.16,2,     0.22,2,    1.140,2,    5.104,2,    2.757,2,-999,9,-999,9,   2072.7,2,   2243.8,2,   7.8059,2,    25.00,     -999,9,     -999,9,   5.8722,2
  49UP20110515,   P01,     5,  1,     33,     106,2,20110518,0757,1007, 42.5150, 145.8502, 3072,     51.1,       51,   4.7766,  33.2109,2,    323.4,2,     -999,9,   324.79,2,    29.09,2,    16.74,2,     0.30,2,    1.470,2,    5.264,2,    2.838,2,-999,9,-999,9,   2097.5,2,   2245.1,2,   7.7440,2,    25.00,     0.84,2,     0.40,2,   4.7753,2
  49UP20110515,   P01,     5,  1,     32,     105,2,20110518,0757,1005, 42.5150, 145.8502, 3072,     76.7,       76,   2.2454,  33.1467,2,    325.5,2,     -999,9,   326.64,6,    41.41,2,    22.67,2,     0.51,2,    1.850,2,    4.159,4,    2.261,4,-999,9,-999,9,   2130.0,2,   2242.5,2,   7.6510,2,    25.00,     0.18,2,     0.20,2,   2.2447,2
  49UP20110515,   P01,     5,  1,     31,     104,3,20110518,0757,1003, 42.5150, 145.8502, 3072,    101.2,      100,   1.9276,  33.1580,2,    320.9,2,  33.1688,4,   320.50,2,    44.03,6,    23.86,6,     0.25,6,    1.920,6,    5.705,2,    3.035,2,-999,9,-999,9,   2137.8,2,   2243.9,2,   7.6372,2,    25.00,     0.11,2,     0.15,2,   1.9237,2
  49UP20110515,   P01,     5,  1,     29,     102,2,20110518,0757,1001, 42.5150, 145.8502, 3072,    125.3,      124,   1.8053,  33.2088,2,    302.4,2,     -999,9,   302.77,2,    48.67,2,    25.63,2,     0.02,2,    2.030,2,    5.565,2,    2.978,2,-999,9,-999,9,   2153.4,2,   2246.8,2,   7.5914,2,    25.00,     0.08,2,     0.14,2,   1.8054,2
  49UP20110515,   P01,     5,  1,     28,     101,2,20110518,0757,0959, 42.5150, 145.8502, 3072,    152.4,      151,   2.7479,  33.3871,2,    250.7,2,     -999,9,   252.51,2,    55.10,2,    27.88,2,     0.02,2,    2.170,2,    4.749,2,    2.643,2,-999,9,-999,9,   2183.6,2,   2257.2,2,   7.5414,2,    25.00,     0.04,2,     0.14,2,   2.7346,2
  49UP20110515,   P01,     5,  1,     27,     100,3,20110518,0757,0956, 42.5150, 145.8502, 3072,    202.1,      200,   2.8447,  33.5094,2,    203.0,2,  33.5082,2,   203.68,2,    64.11,6,    31.25,6,     0.03,6,    2.390,6,    4.236,6,    2.284,6,-999,9,-999,9,   2215.1,2,   2267.6,2,   7.4748,2,    25.00,     0.03,2,     0.12,2,   2.8454,2
  49UP20110515,   P01,     5,  1,     26,      99,2,20110518,0757,0953, 42.5150, 145.8502, 3072,    253.2,      251,   2.5800,  33.5659,2,    164.7,2,     -999,9,   164.09,2,    74.71,2,    34.59,2,     0.01,2,    2.610,2,    3.951,2,    2.111,2,-999,9,-999,9,   2251.2,2,   2276.5,2,   7.3930,2,    25.00,     -999,9,     -999,9,   2.5794,2
  49UP20110515,   P01,     5,  1,     25,      98,2,20110518,0757,0951, 42.5150, 145.8502, 3072,    283.3,      281,   2.7350,  33.6241,2,    148.8,2,     -999,9,   146.44,6,    78.50,6,    35.70,6,     0.01,6,    2.670,6,    3.687,2,    1.963,2,-999,9,-999,9,   2258.8,2,   2280.5,2,   7.3796,2,    25.00,     -999,9,     -999,9,   2.7385,2
  49UP20110515,   P01,     5,  1,     24,      97,2,20110518,0757,0947, 42.5150, 145.8502, 3072,    374.1,      371,   3.3576,  33.8422,2,     95.6,2,  33.8425,6,    94.68,2,    91.27,2,    38.70,2,     0.00,2,    2.830,2,    5.763,4,    7.525,4,-999,9,-999,9,   2291.2,2,   2296.7,2,   7.3322,2,    25.00,     -999,9,     -999,9,   3.3567,2
  49UP20110515,   P01,     5,  1,     22,      95,2,20110518,0757,0942, 42.5150, 145.8502, 3072,    474.7,      470,   3.3146,  33.9608,2,     56.4,2,  33.9603,2,    56.13,6,   105.82,2,    41.82,2,     0.00,2,    3.020,2,    1.975,2,    1.015,2,-999,9,-999,9,   2325.2,2,   2316.2,2,   7.2735,2,    25.00,     -999,9,     -999,9,   3.3141,2
  49UP20110515,   P01,     5,  1,     21,      94,2,20110518,0757,0938, 42.5150, 145.8502, 3072,    575.9,      571,   3.4705,  34.0901,2,     46.2,2,  34.0868,2,    46.00,2,   113.97,2,    41.91,2,     0.00,4,    3.020,3,    1.410,6,    0.704,6,-999,9,-999,9,   2338.1,2,   2328.9,2,   7.2882,2,    25.00,     -999,9,     -999,9,   3.4689,2
  49UP20110515,   P01,     5,  1,     20,      93,2,20110518,0757,0933, 42.5150, 145.8502, 3072,    676.7,      670,   3.3302,  34.1825,2,     36.9,2,  34.1817,2,    36.69,2,   124.04,2,    42.36,2,     0.00,4,    3.040,2,    0.985,2,    0.481,2,-999,9,-999,9,   2352.0,2,   2343.4,2,   7.2889,6,    25.00,     -999,9,     -999,9,   3.3282,2
  49UP20110515,   P01,     5,  1,     19,      92,2,20110518,0757,0927, 42.5150, 145.8502, 3072,    779.2,      772,   3.0183,  34.2242,2,     30.4,2,  34.2243,2,    30.42,2,   134.13,2,    43.11,2,     0.00,4,    3.100,2,    0.818,2,    0.394,2,-999,9,-999,9,   2359.7,6,   2353.3,6,   7.2798,2,    25.00,     -999,9,     -999,9,   3.0179,2
  49UP20110515,   P01,     5,  1,     18,      91,2,20110518,0757,0924, 42.5150, 145.8502, 3072,    879.1,      870,   2.8490,  34.2662,2,     32.2,2,     -999,9,    32.04,2,   140.52,2,    43.01,2,     0.00,4,    3.100,2,    0.718,2,    0.342,2,-999,9,-999,9,   2367.4,2,   2360.4,2,   7.2891,2,    25.00,     -999,9,     -999,9,   2.8491,2
  49UP20110515,   P01,     5,  1,     17,      90,2,20110518,0757,0919, 42.5150, 145.8502, 3072,    980.5,      970,   2.9304,  34.3444,2,     35.3,2,  34.3436,2,    35.08,2,   141.81,2,    42.65,2,     0.00,4,    3.070,2,    0.443,2,    0.208,2,-999,9,-999,9,   2367.4,2,   2370.3,2,   7.3126,2,    25.00,     -999,9,     -999,9,   2.9304,2
  49UP20110515,   P01,     5,  1,     15,      88,2,20110518,0757,0913, 42.5150, 145.8502, 3072,   1142.9,     1131,   2.5971,  34.3818,2,     35.7,2,  34.3828,2,    35.66,2,   152.13,2,    42.82,2,     0.00,4,    3.090,2,    0.413,2,    0.200,2,-999,9,-999,9,   2372.7,2,   2377.6,2,   7.3127,2,    25.00,     -999,9,     -999,9,   2.5968,2
  49UP20110515,   P01,     5,  1,     14,      87,2,20110518,0757,0900, 42.5150, 145.8502, 3072,   1346.0,     1331,   2.4385,  34.4574,2,     42.2,2,  34.4565,2,    42.45,2,   157.01,2,    42.51,2,     0.00,4,    3.060,2,    0.210,2,    0.097,2,-999,9,-999,9,   2382.3,2,   2389.1,2,   7.3419,2,    25.00,     -999,9,     -999,9,   2.4386,2
  49UP20110515,   P01,     5,  1,     13,      86,2,20110518,0757,0853, 42.5150, 145.8502, 3072,   1549.6,     1532,   2.3287,  34.5080,2,     47.1,2,  34.5081,2,    47.30,2,   159.99,2,    42.28,2,     0.00,4,    3.040,2,    0.088,2,    0.037,2,-999,9,-999,9,   2380.5,2,   2398.8,2,   7.3619,2,    25.00,     -999,9,     -999,9,   2.3283,2
  49UP20110515,   P01,     5,  1,     12,      85,2,20110518,0757,0840, 42.5150, 145.8502, 3072,   1752.6,     1732,   2.1864,  34.5458,2,     55.6,2,  34.5506,4,    55.92,2,   162.28,2,    41.81,2,     0.00,4,    2.990,2,    0.034,2,    0.015,2,-999,9,-999,9,   2380.1,2,   2401.4,2,   7.3856,2,    25.00,     -999,9,     -999,9,   2.1859,2
  49UP20110515,   P01,     5,  1,     11,     110,2,20110518,0757,0833, 42.5150, 145.8502, 3072,   1956.7,     1932,   2.0577,  34.5744,2,     65.7,2,  34.5770,4,    66.03,2,   163.19,2,    41.39,2,     0.00,4,    2.950,2,    0.020,2,    0.001,2,-999,9,-999,9,   2376.7,2,   2408.6,2,   7.4041,2,    25.00,     -999,9,     -999,9,   2.0575,2
  49UP20110515,   P01,     5,  1,     10,      83,2,20110518,0757,0833, 42.5150, 145.8502, 3072,   1956.7,     1932,   2.0577,  34.5744,2,     65.7,2,  34.5775,4,    65.74,2,   163.22,2,    41.32,2,     0.00,4,    2.940,2,    0.019,2,    0.000,2,-999,9,-999,9,   2380.0,2,   2410.1,2,   7.4024,2,    25.00,     -999,9,     -999,9,   2.0575,2
  49UP20110515,   P01,     5,  1,      8,      81,2,20110518,0757,0825, 42.5150, 145.8502, 3072,   2159.9,     2132,   1.9204,  34.6000,2,     78.6,2,  34.6002,6,    79.15,6,   163.54,2,    40.72,2,     0.00,4,    2.880,2,    0.003,2,    0.000,2,-999,9,-999,9,   2370.3,2,   2412.7,2,   7.4291,2,    25.00,     -999,9,     -999,9,   1.9199,2
  49UP20110515,   P01,     5,  1,      7,      80,2,20110518,0757,0820, 42.5150, 145.8502, 3072,   2361.4,     2330,   1.8147,  34.6185,2,     89.8,2,  34.6193,2,    90.17,2,   163.28,2,    40.00,2,     0.00,4,    2.850,2,    0.008,2,    0.000,2,-999,9,-999,9,   2366.7,2,   2414.6,2,   7.4515,2,    25.00,     -999,9,     -999,9,   1.8145,2
  49UP20110515,   P01,     5,  1,      6,      79,2,20110518,0757,0814, 42.5150, 145.8502, 3072,   2567.1,     2531,   1.7208,  34.6351,2,    102.3,2,  34.6354,2,   102.68,2,   161.75,2,    39.20,2,     0.00,4,    2.770,2,     -999,9,     -999,9,-999,9,-999,9,   2360.1,2,   2414.4,2,   7.4746,2,    25.00,     -999,9,     -999,9,   1.7207,2
  49UP20110515,   P01,     5,  1,      5,      78,2,20110518,0757,0814, 42.5150, 145.8502, 3072,   2567.1,     2531,   1.7208,  34.6351,2,    102.3,2,  34.6358,2,   102.45,2,   161.66,2,    39.18,2,     0.00,4,    2.780,2,     -999,9,     -999,9,-999,9,-999,9,   2357.8,2,   2415.6,2,   7.4761,2,    25.00,     -999,9,     -999,9,   1.7207,2
  49UP20110515,   P01,     5,  1,      4,      77,2,20110518,0757,0808, 42.5150, 145.8502, 3072,   2770.6,     2731,   1.6552,  34.6467,2,    112.6,2,  34.6480,2,   112.89,2,   159.77,2,    38.53,2,     0.00,4,    2.730,2,    0.011,2,    0.007,2,-999,9,-999,9,   2352.3,2,   2415.4,2,   7.4956,2,    25.00,     -999,9,     -999,9,   1.6548,2
  49UP20110515,   P01,     5,  1,      3,      76,2,20110518,0757,0802, 42.5150, 145.8502, 3072,   2976.0,     2932,   1.5902,  34.6572,2,    122.2,2,  34.6577,2,   123.13,2,   158.31,2,    37.86,2,     0.00,4,    2.670,2,     -999,9,     -999,9,-999,9,-999,9,   2351.2,2,   2414.9,2,   7.5115,2,    25.00,     -999,9,     -999,9,   1.5897,2
  49UP20110515,   P01,     5,  1,      2,      75,2,20110518,0757,0757, 42.5150, 145.8502, 3072,   3130.6,     3083,   1.5147,  34.6671,2,    131.1,2,  34.6675,2,   131.60,2,   158.21,6,    37.18,6,     0.00,4,    2.630,6,    0.008,2,    0.020,2,-999,9,-999,9,   2341.9,2,   2418.5,2,   7.5224,2,    25.00,     -999,9,     -999,9,   1.5138,2