BOTTLE,20240116CCHSIOVAJ
EXPOCODE,SECT_ID,STNNBR,CASTNO,SAMPNO,BTLNBR,BTLNBR_FLAG_W,DATE,TIME,BTL_TIME,LATITUDE,LONGITUDE,DEPTH,CTDPRS,CTDDEPTH,CTDTMP,CTDSAL,CTDSAL_FLAG_W,CTDOXY,CTDOXY_FLAG_W,SALNTY,SALNTY_FLAG_W,OXYGEN,OXYGEN_FLAG_W,SILCAT,SILCAT_FLAG_W,NO2+NO3,NO2+NO3_FLAG_W,NITRIT,NITRIT_FLAG_W,PHSPHT,PHSPHT_FLAG_W,CFC-11,CFC-11_FLAG_W,CFC-12,CFC-12_FLAG_W,DELC14,DELC14_FLAG_W,DELC13,DELC13_FLAG_W,TCARBN,TCARBN_FLAG_W,ALKALI,ALKALI_FLAG_W,PH_TOT,PH_TOT_FLAG_W,PH_TMP,CHLORA,CHLORA_FLAG_W,PPHYTN,PPHYTN_FLAG_W,REFTMP,REFTMP_FLAG_W
,,,,,,,,,,,,METERS,DBAR,METERS,ITS-90,PSS-78,,UMOL/KG,,PSS-78,,UMOL/KG,,UMOL/KG,,UMOL/KG,,UMOL/KG,,UMOL/KG,,PMOL/KG,,PMOL/KG,,/MILLE,,/MILLE,,UMOL/KG,,UMOL/KG,,,,DEG C,UG/KG,,UG/KG,,ITS-90,
  49UP20110515,   P13,   132,  1,      0,     BUC,2,20110810,1131,1305, -1.6668, 165.0130, 4463,      0.0,        0,  29.8663,  34.4885,2,    195.4,2,     -999,9,   194.36,2,     1.06,2,     0.00,2,     0.00,2,    0.120,2,     -999,9,     -999,9,-999,9,-999,9,     -999,9,     -999,9,     -999,9,     -999,     -999,9,     -999,9,     -999,9
  49UP20110515,   P13,   132,  1,     36,     109,2,20110810,1131,1325, -1.6668, 165.0130, 4463,     10.7,       11,  29.8666,  34.4884,2,    195.2,2,  34.4884,2,   194.41,6,     1.09,2,     0.00,2,     0.00,2,    0.110,2,     -999,9,     -999,9,-999,9,-999,9,   1921.7,2,   2264.9,2,     -999,9,     -999,     -999,9,     -999,9,  29.8667,2
  49UP20110515,   P13,   132,  1,     35,     108,2,20110810,1131,1324, -1.6668, 165.0130, 4463,     26.4,       26,  29.9044,  34.6405,2,    196.0,2,  34.6544,4,   195.57,2,     1.08,2,     0.00,2,     0.00,2,    0.130,2,     -999,9,     -999,9,-999,9,-999,9,   1935.8,2,   2275.0,2,     -999,9,     -999,     -999,9,     -999,9,  29.9068,2
  49UP20110515,   P13,   132,  1,     34,     107,2,20110810,1131,1320, -1.6668, 165.0130, 4463,     51.5,       51,  29.8519,  34.8118,2,    197.1,2,  34.8450,4,   196.91,2,     1.06,2,     0.00,2,     0.00,2,    0.150,2,     -999,9,     -999,9,-999,9,-999,9,   1946.5,2,   2288.6,2,     -999,9,     -999,     -999,9,     -999,9,  29.8517,2
  49UP20110515,   P13,   132,  1,     33,     106,2,20110810,1131,1319, -1.6668, 165.0130, 4463,     76.8,       76,  29.3610,  35.2703,2,    197.8,2,  35.2702,2,   197.46,2,     1.24,2,     0.72,2,     0.07,2,    0.260,2,     -999,9,     -999,9,-999,9,-999,9,   1987.9,2,   2317.2,2,     -999,9,     -999,     -999,9,     -999,9,  29.3632,2
  49UP20110515,   P13,   132,  1,     32,     105,2,20110810,1131,1317, -1.6668, 165.0130, 4463,    101.7,      101,  29.2367,  35.3203,2,    194.5,2,  35.3191,2,   194.85,2,     1.33,2,     1.01,2,     0.08,2,    0.290,2,     -999,9,     -999,9,-999,9,-999,9,   1991.9,2,   2320.6,2,     -999,9,     -999,     -999,9,     -999,9,  29.2355,2
  49UP20110515,   P13,   132,  1,     31,     104,2,20110810,1131,1316, -1.6668, 165.0130, 4463,    127.4,      127,  28.4460,  35.6449,2,    178.1,2,  35.6406,2,   177.68,2,     1.45,2,     4.44,2,     1.69,2,    0.510,2,     -999,9,     -999,9,-999,9,-999,9,   2032.0,2,   2342.4,2,     -999,9,     -999,     -999,9,     -999,9,  28.4602,2
  49UP20110515,   P13,   132,  1,     30,     103,2,20110810,1131,1315, -1.6668, 165.0130, 4463,    151.1,      150,  26.0968,  35.5699,2,    153.1,2,  35.5735,2,   153.18,2,     2.22,2,     7.87,2,     0.03,2,    0.690,2,     -999,9,     -999,9,-999,9,-999,9,   2062.2,2,   2336.6,2,     -999,9,     -999,     -999,9,     -999,9,  26.0976,2
  49UP20110515,   P13,   132,  1,     29,     102,2,20110810,1131,1313, -1.6668, 165.0130, 4463,    201.7,      200,  17.0301,  35.3761,2,    105.3,2,  35.3365,4,   107.34,2,     8.24,2,    17.45,2,     0.01,2,    1.360,2,     -999,9,     -999,9,-999,9,-999,9,   2163.1,2,   2326.8,2,     -999,9,     -999,     -999,9,     -999,9,  17.1194,2
  49UP20110515,   P13,   132,  1,     28,     101,2,20110810,1131,1311, -1.6668, 165.0130, 4463,    252.2,      251,  11.4422,  34.8431,2,    136.4,2,  34.8392,2,   136.29,6,    17.50,6,    22.01,6,     0.00,6,    1.560,6,     -999,9,     -999,9,-999,9,-999,9,   2168.0,2,   2306.6,2,     -999,9,     -999,     -999,9,     -999,9,  11.4518,2
  49UP20110515,   P13,   132,  1,     27,     100,2,20110810,1131,1309, -1.6668, 165.0130, 4463,    302.6,      301,  10.8892,  34.7873,2,    115.0,2,  34.7843,6,   115.80,2,    21.24,2,    25.17,2,     0.00,2,    1.770,2,     -999,9,     -999,9,-999,9,-999,9,   2188.9,2,   2302.9,2,     -999,9,     -999,     -999,9,     -999,9,  10.8895,2
  49UP20110515,   P13,   132,  1,     26,      99,2,20110810,1131,1308, -1.6668, 165.0130, 4463,    352.1,      350,  10.2276,  34.7441,2,    108.8,2,  34.7444,2,   108.97,2,    22.82,2,    27.07,2,     0.00,2,    1.880,2,     -999,9,     -999,9,-999,9,-999,9,   2195.5,2,   2301.6,2,     -999,9,     -999,     -999,9,     -999,9,  10.2253,2
  49UP20110515,   P13,   132,  1,     25,      98,2,20110810,1131,1306, -1.6668, 165.0130, 4463,    403.0,      400,   9.3952,  34.6913,2,    116.1,2,  34.6903,2,   115.27,2,    23.64,2,    28.18,2,     0.00,2,    1.950,2,     -999,9,     -999,9,-999,9,-999,9,   2194.1,2,   2300.2,2,     -999,9,     -999,     -999,9,     -999,9,   9.3968,2
  49UP20110515,   P13,   132,  1,     24,      97,2,20110810,1131,1303, -1.6668, 165.0130, 4463,    503.9,      501,   7.0353,  34.5563,2,    116.1,2,  34.5554,2,   115.50,2,    36.70,2,    33.08,2,     0.00,2,    2.290,2,     -999,9,     -999,9,-999,9,-999,9,   2219.7,2,   2306.9,2,     -999,9,     -999,     -999,9,     -999,9,   7.0349,2
  49UP20110515,   P13,   132,  1,     23,      96,2,20110810,1131,1300, -1.6668, 165.0130, 4463,    605.2,      601,   6.5186,  34.5513,2,     89.6,2,  34.5503,2,    89.58,2,    49.10,2,    36.49,2,     0.00,2,    2.550,2,     -999,9,     -999,9,-999,9,-999,9,   2255.0,2,   2315.5,2,     -999,9,     -999,     -999,9,     -999,9,   6.5191,2
  49UP20110515,   P13,   132,  1,     22,      95,2,20110810,1131,1258, -1.6668, 165.0130, 4463,    705.4,      700,   6.1585,  34.5377,2,    104.2,2,  34.5382,2,   104.08,6,    49.94,6,    35.69,6,     0.00,6,    2.500,6,     -999,9,     -999,9,-999,9,-999,9,   2248.9,3,   2317.8,2,     -999,9,     -999,     -999,9,     -999,9,   6.1588,2
  49UP20110515,   P13,   132,  1,     21,      94,2,20110810,1131,1255, -1.6668, 165.0130, 4463,    807.7,      802,   5.4524,  34.5396,2,     92.4,2,  34.5394,6,    91.97,2,    64.82,2,    37.81,2,     0.00,2,    2.660,2,     -999,9,     -999,9,-999,9,-999,9,   2268.2,2,   2331.7,2,     -999,9,     -999,     -999,9,     -999,9,   5.4527,2
  49UP20110515,   P13,   132,  1,     20,      93,2,20110810,1131,1252, -1.6668, 165.0130, 4463,    907.7,      901,   5.1113,  34.5414,2,     95.8,2,  34.5415,2,    95.60,2,    71.91,2,    37.66,2,     0.00,2,    2.650,2,     -999,9,     -999,9,-999,9,-999,9,     -999,9,     -999,9,     -999,9,     -999,     -999,9,     -999,9,   5.1117,2
  49UP20110515,   P13,   132,  1,     19,      92,2,20110810,1131,1250, -1.6668, 165.0130, 4463,   1008.9,     1001,   4.6107,  34.5423,2,    103.5,2,  34.5430,2,   104.26,2,    76.83,2,    37.57,2,     0.00,2,    2.640,2,     -999,9,     -999,9,-999,9,-999,9,     -999,9,     -999,9,     -999,9,     -999,     -999,9,     -999,9,   4.6102,2
  49UP20110515,   P13,   132,  1,     18,      91,2,20110810,1131,1245, -1.6668, 165.0130, 4463,   1210.9,     1201,   3.8638,  34.5679,2,     98.1,2,  34.5697,2,    97.95,2,    96.71,2,    38.74,2,     0.00,2,    2.740,2,     -999,9,     -999,9,-999,9,-999,9,     -999,9,     -999,9,     -999,9,     -999,     -999,9,     -999,9,   3.8652,2
  49UP20110515,   P13,   132,  1,     17,      90,2,20110810,1131,1241, -1.6668, 165.0130, 4463,   1412.8,     1400,   3.4228,  34.5837,2,    100.6,2,  34.5831,2,   100.40,2,   106.40,2,    38.99,2,     0.00,2,    2.760,2,     -999,9,     -999,9,-999,9,-999,9,     -999,9,     -999,9,     -999,9,     -999,     -999,9,     -999,9,   3.4230,2
  49UP20110515,   P13,   132,  1,     16,      89,2,20110810,1131,1236, -1.6668, 165.0130, 4463,   1616.4,     1601,   2.9196,  34.6037,2,    107.8,2,  34.6035,2,   107.51,2,   117.17,2,    38.82,2,     0.00,2,    2.730,2,     -999,9,     -999,9,-999,9,-999,9,     -999,9,     -999,9,     -999,9,     -999,     -999,9,     -999,9,   2.9198,2
  49UP20110515,   P13,   132,  1,     15,      88,2,20110810,1131,1231, -1.6668, 165.0130, 4463,   1819.3,     1801,   2.4420,  34.6257,2,    117.8,2,  34.6253,2,   118.01,2,   126.89,6,    38.19,6,     0.00,6,    2.680,6,     -999,9,     -999,9,-999,9,-999,9,     -999,9,     -999,9,     -999,9,     -999,     -999,9,     -999,9,   2.4422,2
  49UP20110515,   P13,   132,  1,     14,      87,2,20110810,1131,1227, -1.6668, 165.0130, 4463,   2020.7,     2000,   2.2417,  34.6378,2,    117.5,2,  34.6366,2,   117.45,2,   133.48,2,    38.26,2,     0.00,2,    2.690,2,     -999,9,     -999,9,-999,9,-999,9,     -999,9,     -999,9,     -999,9,     -999,     -999,9,     -999,9,   2.2427,2
  49UP20110515,   P13,   132,  1,     13,      86,2,20110810,1131,1222, -1.6668, 165.0130, 4463,   2225.1,     2201,   2.0413,  34.6494,2,    122.1,2,  34.6496,6,   122.38,2,   138.16,2,    38.03,2,     0.00,2,    2.650,2,     -999,9,     -999,9,-999,9,-999,9,     -999,9,     -999,9,     -999,9,     -999,     -999,9,     -999,9,   2.0415,2
  49UP20110515,   P13,   132,  1,     12,      74,2,20110810,1131,1222, -1.6668, 165.0130, 4463,   2225.1,     2201,   2.0413,  34.6494,2,    122.1,2,  34.6497,2,   121.95,2,   138.06,2,    38.08,2,     0.00,2,    2.650,2,     -999,9,     -999,9,-999,9,-999,9,     -999,9,     -999,9,     -999,9,     -999,     -999,9,     -999,9,   2.0415,2
  49UP20110515,   P13,   132,  1,     11,     110,2,20110810,1131,1217, -1.6668, 165.0130, 4463,   2428.1,     2401,   1.8984,  34.6565,2,    127.6,2,  34.6560,2,   127.77,6,   140.31,2,    37.82,2,     0.00,2,    2.630,2,     -999,9,     -999,9,-999,9,-999,9,     -999,9,     -999,9,     -999,9,     -999,     -999,9,     -999,9,   1.8986,2
  49UP20110515,   P13,   132,  1,     10,      83,2,20110810,1131,1212, -1.6668, 165.0130, 4463,   2632.2,     2601,   1.7761,  34.6632,2,    132.1,2,  34.6634,2,   131.97,2,   142.31,2,    37.45,2,     0.00,2,    2.590,2,     -999,9,     -999,9,-999,9,-999,9,     -999,9,     -999,9,     -999,9,     -999,     -999,9,     -999,9,   1.7764,2
  49UP20110515,   P13,   132,  1,      9,      82,2,20110810,1131,1207, -1.6668, 165.0130, 4463,   2835.7,     2801,   1.7091,  34.6671,2,    134.7,2,  34.6672,2,   134.66,2,   143.93,6,    37.33,6,     0.00,6,    2.590,6,     -999,9,     -999,9,-999,9,-999,9,     -999,9,     -999,9,     -999,9,     -999,     -999,9,     -999,9,   1.7092,2
  49UP20110515,   P13,   132,  1,      8,      81,2,20110810,1131,1203, -1.6668, 165.0130, 4463,   3039.6,     3001,   1.6391,  34.6714,2,    138.4,2,  34.6711,2,   138.47,2,   145.46,2,    37.06,2,     0.00,2,    2.570,2,     -999,9,     -999,9,-999,9,-999,9,     -999,9,     -999,9,     -999,9,     -999,     -999,9,     -999,9,   1.6392,2
  49UP20110515,   P13,   132,  1,      7,      80,2,20110810,1131,1157, -1.6668, 165.0130, 4463,   3293.8,     3250,   1.5849,  34.6757,2,    143.4,2,  34.6756,2,   143.26,2,   144.30,2,    36.46,2,     0.00,2,    2.530,2,     -999,9,     -999,9,-999,9,-999,9,     -999,9,     -999,9,     -999,9,     -999,     -999,9,     -999,9,   1.5852,2
  49UP20110515,   P13,   132,  1,      6,      79,2,20110810,1131,1152, -1.6668, 165.0130, 4463,   3549.2,     3500,   1.5360,  34.6802,2,    149.1,2,  34.6799,2,   149.01,2,   143.20,2,    36.31,2,     0.00,2,    2.510,2,     -999,9,     -999,9,-999,9,-999,9,     -999,9,     -999,9,     -999,9,     -999,     -999,9,     -999,9,   1.5360,2
  49UP20110515,   P13,   132,  1,      5,      78,2,20110810,1131,1152, -1.6668, 165.0130, 4463,   3549.2,     3500,   1.5360,  34.6802,2,    149.1,2,  34.6798,2,   148.95,2,   143.58,2,    36.32,2,     0.00,2,    2.510,2,     -999,9,     -999,9,-999,9,-999,9,     -999,9,     -999,9,     -999,9,     -999,     -999,9,     -999,9,   1.5360,2
  49UP20110515,   P13,   132,  1,      4,      77,2,20110810,1131,1147, -1.6668, 165.0130, 4463,   3806.1,     3751,   1.4691,  34.6867,2,    158.2,2,  34.6861,6,   158.40,2,   139.57,2,    35.76,2,     0.00,2,    2.460,2,     -999,9,     -999,9,-999,9,-999,9,     -999,9,     -999,9,     -999,9,     -999,     -999,9,     -999,9,   1.4691,2
  49UP20110515,   P13,   132,  1,      3,      76,2,20110810,1131,1141, -1.6668, 165.0130, 4463,   4062.2,     4002,   1.4225,  34.6918,2,    166.2,2,  34.6924,2,   166.23,2,   136.11,2,    35.21,2,     0.00,2,    2.410,2,     -999,9,     -999,9,-999,9,-999,9,     -999,9,     -999,9,     -999,9,     -999,     -999,9,     -999,9,   1.4224,2
  49UP20110515,   P13,   132,  1,      2,      75,2,20110810,1131,1136, -1.6668, 165.0130, 4463,   4317.4,     4251,   1.3462,  34.6982,2,    178.0,2,  34.6992,2,   178.17,2,   130.03,2,    34.10,2,     0.00,2,    2.350,2,     -999,9,     -999,9,-999,9,-999,9,     -999,9,     -999,9,     -999,9,     -999,     -999,9,     -999,9,   1.3462,2
  49UP20110515,   P13,   132,  1,      1,     112,2,20110810,1131,1132, -1.6668, 165.0130, 4463,   4515.5,     4444,   1.3545,  34.6991,2,    179.4,2,  34.6993,2,   178.81,2,   129.76,2,    34.14,2,     0.00,2,    2.340,2,     -999,9,     -999,9,-999,9,-999,9,     -999,9,     -999,9,     -999,9,     -999,     -999,9,     -999,9,   1.3544,2