BOTTLE,20240116CCHSIOVAJ
EXPOCODE,SECT_ID,STNNBR,CASTNO,SAMPNO,BTLNBR,BTLNBR_FLAG_W,DATE,TIME,BTL_TIME,LATITUDE,LONGITUDE,DEPTH,CTDPRS,CTDDEPTH,CTDTMP,CTDSAL,CTDSAL_FLAG_W,CTDOXY,CTDOXY_FLAG_W,SALNTY,SALNTY_FLAG_W,OXYGEN,OXYGEN_FLAG_W,SILCAT,SILCAT_FLAG_W,NO2+NO3,NO2+NO3_FLAG_W,NITRIT,NITRIT_FLAG_W,PHSPHT,PHSPHT_FLAG_W,CFC-11,CFC-11_FLAG_W,CFC-12,CFC-12_FLAG_W,DELC14,DELC14_FLAG_W,DELC13,DELC13_FLAG_W,TCARBN,TCARBN_FLAG_W,ALKALI,ALKALI_FLAG_W,PH_TOT,PH_TOT_FLAG_W,PH_TMP,CHLORA,CHLORA_FLAG_W,PPHYTN,PPHYTN_FLAG_W,REFTMP,REFTMP_FLAG_W
,,,,,,,,,,,,METERS,DBAR,METERS,ITS-90,PSS-78,,UMOL/KG,,PSS-78,,UMOL/KG,,UMOL/KG,,UMOL/KG,,UMOL/KG,,UMOL/KG,,PMOL/KG,,PMOL/KG,,/MILLE,,/MILLE,,UMOL/KG,,UMOL/KG,,,,DEG C,UG/KG,,UG/KG,,ITS-90,
  49UP20110515,   P13,    56,  1,      0,     BUC,2,20110709,0907,1120, 40.0342, 165.0012, 5487,      0.0,        0,  18.3953,  34.3658,2,    256.4,2,     -999,9,   253.96,2,     5.64,2,     0.98,2,     0.04,2,    0.140,2,     -999,9,     -999,9,-999,9,-999,9,     -999,9,     -999,9,     -999,9,     -999,     0.71,2,     0.14,2,     -999,9
  49UP20110515,   P13,    56,  1,     36,     109,2,20110709,0907,1156, 40.0342, 165.0012, 5487,     11.6,       12,  18.4889,  34.3589,2,    254.2,2,  34.3601,2,   254.22,2,     5.72,2,     0.70,3,     0.03,2,    0.120,2,    2.633,3,    1.603,2,-999,9,-999,9,   2011.3,6,   2275.0,6,   7.9938,2,    25.00,     0.60,2,     0.10,2,  18.4585,2
  49UP20110515,   P13,    56,  1,     35,     108,2,20110709,0907,1147, 40.0342, 165.0012, 5487,     52.2,       52,  14.6146,  34.5208,2,    224.1,2,  34.5235,2,   225.09,2,     9.19,2,     7.47,2,     0.11,2,    0.540,2,    2.765,3,    1.661,2,-999,9,-999,9,   2055.3,2,   2276.5,2,   7.9038,2,    25.00,     0.40,2,     0.12,2,  14.6106,2
  49UP20110515,   P13,    56,  1,     34,     107,2,20110709,0907,1142, 40.0342, 165.0012, 5487,    101.4,      101,  12.9289,  34.3890,2,    236.6,2,  34.3930,2,   237.87,6,    11.57,6,     8.73,6,     0.34,6,    0.650,6,    2.996,3,    1.794,2,-999,9,-999,9,   2066.0,2,   2276.4,2,   7.8799,2,    25.00,     0.11,2,     0.05,2,  12.9232,2
  49UP20110515,   P13,    56,  1,     33,     106,2,20110709,0907,1139, 40.0342, 165.0012, 5487,    154.4,      153,  11.8528,  34.3420,2,    201.7,2,  34.3289,4,   212.17,2,    16.94,2,    12.55,2,     0.02,2,    0.900,2,    2.848,3,    1.701,2,-999,9,-999,9,   2091.6,2,   2273.3,2,   7.8119,2,    25.00,     0.00,2,     0.03,2,  11.8518,2
  49UP20110515,   P13,    56,  1,     32,     105,2,20110709,0907,1137, 40.0342, 165.0012, 5487,    201.7,      200,  10.4885,  34.2072,2,    208.0,2,  34.2120,2,   208.04,2,    22.08,2,    15.25,2,     0.01,2,    1.100,2,    2.986,3,    1.752,2,-999,9,-999,9,   2112.9,2,   2273.5,2,   7.7701,2,    25.00,     0.00,2,     0.02,2,  10.4966,2
  49UP20110515,   P13,    56,  1,     31,     104,2,20110709,0907,1134, 40.0342, 165.0012, 5487,    254.2,      252,   8.6305,  34.0198,2,    231.3,2,  34.0255,2,   230.13,2,    25.69,2,    16.44,2,     0.01,2,    1.230,2,    3.322,3,    1.943,6,-999,9,-999,9,   2119.3,2,   2268.4,2,   7.7463,2,    25.00,     -999,9,     -999,9,   8.6232,2
  49UP20110515,   P13,    56,  1,     30,     103,2,20110709,0907,1131, 40.0342, 165.0012, 5487,    305.0,      302,   7.3197,  33.8867,2,    256.5,2,  33.8895,2,   256.19,6,    25.82,6,    16.59,6,     0.01,6,    1.260,6,    3.714,3,    2.182,2,-999,9,-999,9,   2117.3,2,   2264.2,2,   7.7369,2,    25.00,     -999,9,     -999,9,   7.3200,2
  49UP20110515,   P13,    56,  1,     29,     102,2,20110709,0907,1125, 40.0342, 165.0012, 5487,    410.7,      407,   5.4050,  33.8907,2,    155.9,2,  33.8883,2,   157.12,2,    59.25,2,    29.44,2,     0.01,2,    2.170,2,    2.926,3,    1.649,2,-999,9,-999,9,   2216.6,2,   2283.7,2,   7.5238,2,    25.00,     -999,9,     -999,9,   5.4046,2
  49UP20110515,   P13,    56,  1,     28,     101,2,20110709,0907,1120, 40.0342, 165.0012, 5487,    508.2,      504,   4.5768,  33.9711,2,    107.9,2,  33.9683,6,   107.88,2,    80.02,2,    35.34,2,     0.01,2,    2.590,2,    2.241,3,    1.240,2,-999,9,-999,9,   2267.7,2,   2302.2,2,   7.4226,2,    25.00,     -999,9,     -999,9,   4.5777,2
  49UP20110515,   P13,    56,  1,     27,     100,2,20110709,0907,1115, 40.0342, 165.0012, 5487,    609.2,      604,   4.5240,  34.0992,2,     80.3,2,  34.0978,2,    81.31,2,    91.37,2,    37.33,2,     0.01,2,    2.710,2,    1.543,3,    0.823,6,-999,9,-999,9,   2289.9,6,   2316.8,2,   7.4095,2,    25.00,     -999,9,     -999,9,   4.5244,2
  49UP20110515,   P13,    56,  1,     26,      99,2,20110709,0907,1110, 40.0342, 165.0012, 5487,    710.5,      704,   4.1386,  34.1690,2,     59.9,2,  34.1683,2,    60.20,2,   104.00,2,    39.68,2,     0.00,2,    2.860,2,    1.074,3,    0.556,2,-999,9,-999,9,   2313.4,2,   2333.3,2,   7.3619,2,    25.00,     -999,9,     -999,9,   4.1389,2
  49UP20110515,   P13,    56,  1,     25,      98,2,20110709,0907,1104, 40.0342, 165.0012, 5487,    812.3,      804,   3.7961,  34.2354,2,     47.4,2,  34.2339,2,    47.88,2,   115.29,6,    41.03,6,     0.00,6,    2.950,6,    0.720,3,    0.384,2,-999,9,-999,9,   2333.6,2,   2343.8,2,   7.3470,2,    25.00,     -999,9,     -999,9,   3.7965,2
  49UP20110515,   P13,    56,  1,     24,      97,2,20110709,0907,1100, 40.0342, 165.0012, 5487,    910.2,      901,   3.5486,  34.2978,2,     41.8,2,  34.3501,4,    35.82,3,   133.76,3,    42.52,3,     0.00,3,    3.050,3,    0.264,3,    0.138,2,-999,9,-999,9,   2361.9,3,   2370.3,3,   7.3342,2,    25.00,     -999,9,     -999,9,   3.5487,2
  49UP20110515,   P13,    56,  1,     23,      96,2,20110709,0907,1055, 40.0342, 165.0012, 5487,   1014.9,     1005,   3.2085,  34.3524,2,     35.5,2,  34.3404,4,    39.62,4,   131.99,3,    42.16,3,     0.00,3,    3.020,3,    0.322,3,    0.161,2,-999,9,-999,9,   2356.3,2,   2365.7,2,   7.3422,2,    25.00,     -999,9,     -999,9,   3.2087,2
  49UP20110515,   P13,    56,  1,     22,      95,2,20110709,0907,1047, 40.0342, 165.0012, 5487,   1218.0,     1205,   2.8601,  34.4154,2,     33.0,2,  34.4141,2,    33.14,2,   144.76,2,    43.19,2,     0.00,2,    3.080,2,    0.143,3,    0.074,2,-999,9,-999,9,   2374.9,2,   2382.5,2,   7.3385,2,    25.00,     -999,9,     -999,9,   2.8603,2
  49UP20110515,   P13,    56,  1,     21,      94,2,20110709,0907,1040, 40.0342, 165.0012, 5487,   1419.8,     1404,   2.5274,  34.4722,2,     37.7,2,  34.4724,6,    37.94,2,   154.13,2,    43.09,2,     0.00,2,    3.060,2,    0.063,3,    0.037,2,-999,9,-999,9,   2381.6,2,   2393.5,2,   7.3520,2,    25.00,     -999,9,     -999,9,   2.5273,2
  49UP20110515,   P13,    56,  1,     20,      93,2,20110709,0907,1034, 40.0342, 165.0012, 5487,   1622.0,     1603,   2.3065,  34.5191,2,     43.6,2,  34.5192,2,    43.32,2,   160.53,2,    42.97,2,     0.00,2,    3.040,2,    0.010,3,    0.013,2,-999,9,-999,9,   2380.7,2,   2402.8,2,   7.3669,2,    25.00,     -999,9,     -999,9,   2.3064,2
  49UP20110515,   P13,    56,  1,     19,      92,2,20110709,0907,1028, 40.0342, 165.0012, 5487,   1822.1,     1800,   2.1335,  34.5504,2,     52.7,2,  34.5472,4,    52.55,2,   163.63,2,    42.38,2,     0.00,2,    3.010,2,    0.000,3,    0.012,2,-999,9,-999,9,   2383.4,2,   2406.8,2,   7.3789,2,    25.00,     -999,9,     -999,9,   2.1333,2
  49UP20110515,   P13,    56,  1,     18,      91,2,20110709,0907,1023, 40.0342, 165.0012, 5487,   2023.3,     1998,   1.9857,  34.5801,2,     64.6,2,  34.5804,2,    64.87,2,   165.95,2,    41.83,2,     0.00,2,    2.940,2,    0.022,3,    0.004,2,-999,9,-999,9,   2377.6,2,   2411.3,2,   7.4096,2,    25.00,     -999,9,     -999,9,   1.9857,2
  49UP20110515,   P13,    56,  1,     17,      90,2,20110709,0907,1023, 40.0342, 165.0012, 5487,   2023.3,     1998,   1.9857,  34.5801,2,     64.6,2,  34.5803,2,    64.55,2,   165.77,2,    41.64,2,     0.00,2,    2.960,2,    0.000,3,    0.000,2,-999,9,-999,9,   2378.0,2,   2412.1,2,   7.4088,2,    25.00,     -999,9,     -999,9,   1.9857,2
  49UP20110515,   P13,    56,  1,     16,      89,2,20110709,0907,1017, 40.0342, 165.0012, 5487,   2229.1,     2200,   1.8555,  34.6050,2,     78.2,2,  34.6048,2,    78.47,2,   166.07,2,    40.89,2,     0.00,2,    2.870,2,    0.000,3,    0.000,2,-999,9,-999,9,   2372.9,2,   2413.1,2,   7.4321,2,    25.00,     -999,9,     -999,9,   1.8554,2
  49UP20110515,   P13,    56,  1,     15,      88,2,20110709,0907,1013, 40.0342, 165.0012, 5487,   2433.6,     2401,   1.7564,  34.6244,2,     91.5,2,  34.6224,4,    91.79,6,   165.39,2,    40.10,2,     0.00,2,    2.820,2,    0.030,3,    0.010,2,-999,9,-999,9,   2358.2,3,   2417.2,2,   7.4600,2,    25.00,     -999,9,     -999,9,   1.7564,2
  49UP20110515,   P13,    56,  1,     14,      87,2,20110709,0907,1009, 40.0342, 165.0012, 5487,   2632.4,     2596,   1.6958,  34.6363,2,    101.0,2,  34.6381,2,   101.10,2,   164.18,2,    39.38,2,     0.00,2,    2.780,2,    0.000,3,    0.000,2,-999,9,-999,9,   2359.5,2,   2417.8,2,   7.4811,2,    25.00,     -999,9,     -999,9,   1.6959,2
  49UP20110515,   P13,    56,  1,     13,      86,2,20110709,0907,1005, 40.0342, 165.0012, 5487,   2835.0,     2794,   1.6257,  34.6487,2,    112.1,2,  34.6483,2,   112.29,2,   161.65,2,    38.72,2,     0.00,2,    2.730,2,     -999,9,     -999,9,-999,9,-999,9,   2352.5,2,   2417.6,2,   7.4995,2,    25.00,     -999,9,     -999,9,   1.6257,2
  49UP20110515,   P13,    56,  1,     12,      85,2,20110709,0907,1001, 40.0342, 165.0012, 5487,   3039.5,     2995,   1.5731,  34.6581,2,    121.6,2,  34.6588,2,   121.86,2,   159.80,2,    38.13,2,     0.00,2,    2.680,2,     -999,9,     -999,9,-999,9,-999,9,   2347.7,2,   2418.6,2,   7.5191,6,    25.00,     -999,9,     -999,9,   1.5730,2
  49UP20110515,   P13,    56,  1,     11,     110,2,20110709,0907,0957, 40.0342, 165.0012, 5487,   3292.4,     3242,   1.5233,  34.6671,2,    131.5,2,  34.6672,6,   131.27,2,   157.25,2,    37.46,2,     0.00,2,    2.620,2,     -999,9,     -999,9,-999,9,-999,9,   2343.9,2,   2419.0,2,   7.5379,2,    25.00,     -999,9,     -999,9,   1.5233,2
  49UP20110515,   P13,    56,  1,     10,      83,2,20110709,0907,0952, 40.0342, 165.0012, 5487,   3549.5,     3493,   1.4971,  34.6732,2,    138.5,2,  34.6751,4,   138.52,2,   155.58,6,    37.05,6,     0.00,6,    2.600,6,     -999,9,     -999,9,-999,9,-999,9,   2332.4,2,   2419.7,2,   7.5486,2,    25.00,     -999,9,     -999,9,   1.4970,2
  49UP20110515,   P13,    56,  1,      9,      82,2,20110709,0907,0948, 40.0342, 165.0012, 5487,   3804.5,     3742,   1.4838,  34.6775,2,    143.6,2,  34.6779,2,   144.25,2,   154.54,2,    36.69,2,     0.00,2,    2.570,2,    0.000,3,    0.001,2,-999,9,-999,9,   2331.6,6,   2418.7,6,   7.5567,2,    25.00,     -999,9,     -999,9,   1.4837,2
  49UP20110515,   P13,    56,  1,      8,      81,2,20110709,0907,0942, 40.0342, 165.0012, 5487,   4066.4,     3997,   1.4742,  34.6816,2,    148.7,2,  34.6823,2,   148.42,2,   153.02,2,    36.40,2,     0.00,2,    2.540,2,     -999,9,     -999,9,-999,9,-999,9,   2330.6,2,   2417.9,2,   7.5699,3,    25.00,     -999,9,     -999,9,   1.4741,2
  49UP20110515,   P13,    56,  1,      7,      80,2,20110709,0907,0942, 40.0342, 165.0012, 5487,   4066.4,     3997,   1.4742,  34.6816,2,    148.7,2,  34.6823,2,   149.05,2,   153.25,2,    36.50,2,     0.00,2,    2.540,2,     -999,9,     -999,9,-999,9,-999,9,   2327.9,2,   2418.6,2,   7.5634,2,    25.00,     -999,9,     -999,9,   1.4741,2
  49UP20110515,   P13,    56,  1,      6,      79,2,20110709,0907,0938, 40.0342, 165.0012, 5487,   4321.3,     4245,   1.4768,  34.6844,2,    152.1,2,  34.6844,2,   152.21,2,   152.32,2,    36.13,2,     0.00,2,    2.520,2,     -999,9,     -999,9,-999,9,-999,9,   2326.8,2,   2417.2,2,   7.5674,2,    25.00,     -999,9,     -999,9,   1.4767,2
  49UP20110515,   P13,    56,  1,      5,      78,2,20110709,0907,0933, 40.0342, 165.0012, 5487,   4580.5,     4497,   1.4895,  34.6863,2,    154.6,2,  34.6862,2,   154.66,2,   151.67,2,    35.88,2,     0.00,2,    2.500,2,     -999,9,     -999,9,-999,9,-999,9,   2325.9,2,   2417.3,2,   7.5770,2,    25.00,     -999,9,     -999,9,   1.4895,2
  49UP20110515,   P13,    56,  1,      4,      77,2,20110709,0907,0926, 40.0342, 165.0012, 5487,   4840.3,     4749,   1.5089,  34.6877,2,    156.1,2,  34.6880,2,   156.10,2,   151.71,2,    35.88,2,     0.00,2,    2.500,2,    0.000,3,    0.001,2,-999,9,-999,9,   2325.3,2,   2418.0,2,   7.5745,2,    25.00,     -999,9,     -999,9,   1.5088,2
  49UP20110515,   P13,    56,  1,      3,      76,2,20110709,0907,0921, 40.0342, 165.0012, 5487,   5095.5,     4997,   1.5314,  34.6887,2,    157.3,2,  34.6898,2,   157.08,6,   151.48,2,    35.80,2,     0.00,2,    2.490,2,     -999,9,     -999,9,-999,9,-999,9,   2322.6,2,   2417.1,2,   7.5755,2,    25.00,     -999,9,     -999,9,   1.5314,2
  49UP20110515,   P13,    56,  1,      2,      75,2,20110709,0907,0914, 40.0342, 165.0012, 5487,   5358.4,     5252,   1.5611,  34.6892,2,    157.7,2,  34.6897,2,   157.61,2,   152.19,2,    35.74,2,     0.00,2,    2.490,2,     -999,9,     -999,9,-999,9,-999,9,   2323.4,2,   2416.3,2,   7.5741,2,    25.00,     -999,9,     -999,9,   1.5610,2
  49UP20110515,   P13,    56,  1,      1,      74,2,20110709,0907,0908, 40.0342, 165.0012, 5487,   5574.3,     5461,   1.5870,  34.6894,2,    157.8,2,  34.6824,4,   153.97,2,   152.63,2,    36.01,2,     0.00,2,    2.510,2,    0.039,3,    0.029,2,-999,9,-999,9,   2324.2,2,   2416.5,2,   7.5631,2,    25.00,     -999,9,     -999,9,   1.5868,2