BOTTLE,20240116CCHSIOVAJ
EXPOCODE,SECT_ID,STNNBR,CASTNO,SAMPNO,BTLNBR,BTLNBR_FLAG_W,DATE,TIME,BTL_TIME,LATITUDE,LONGITUDE,DEPTH,CTDPRS,CTDDEPTH,CTDTMP,CTDSAL,CTDSAL_FLAG_W,CTDOXY,CTDOXY_FLAG_W,SALNTY,SALNTY_FLAG_W,OXYGEN,OXYGEN_FLAG_W,SILCAT,SILCAT_FLAG_W,NO2+NO3,NO2+NO3_FLAG_W,NITRIT,NITRIT_FLAG_W,PHSPHT,PHSPHT_FLAG_W,CFC-11,CFC-11_FLAG_W,CFC-12,CFC-12_FLAG_W,DELC14,DELC14_FLAG_W,DELC13,DELC13_FLAG_W,TCARBN,TCARBN_FLAG_W,ALKALI,ALKALI_FLAG_W,PH_TOT,PH_TOT_FLAG_W,PH_TMP,CHLORA,CHLORA_FLAG_W,PPHYTN,PPHYTN_FLAG_W,REFTMP,REFTMP_FLAG_W
,,,,,,,,,,,,METERS,DBAR,METERS,ITS-90,PSS-78,,UMOL/KG,,PSS-78,,UMOL/KG,,UMOL/KG,,UMOL/KG,,UMOL/KG,,UMOL/KG,,PMOL/KG,,PMOL/KG,,/MILLE,,/MILLE,,UMOL/KG,,UMOL/KG,,,,DEG C,UG/KG,,UG/KG,,ITS-90,
  49UP20110515,   P13,    69,  1,      0,     BUC,2,20110713,1841,2100, 31.9718, 164.9982, 6017,      0.0,        0,  25.2596,  34.6373,2,    213.9,2,     -999,9,   213.32,2,     1.91,2,     0.01,2,     0.00,2,    0.030,2,     -999,9,     -999,9,-999,9,-999,9,     -999,9,     -999,9,     -999,9,     -999,     0.19,2,     0.02,2,     -999,9
  49UP20110515,   P13,    69,  1,     36,     109,2,20110713,1841,2115, 31.9718, 164.9982, 6017,     11.2,       11,  25.1939,  34.6303,2,    213.6,2,  34.6301,2,   215.37,2,     1.87,2,     0.00,2,     0.00,2,    0.020,2,    2.049,3,    1.346,2,-999,9,-999,9,   1984.2,2,   2272.8,3,   8.0319,2,    25.00,     0.10,2,     0.01,2,  25.2080,2
  49UP20110515,   P13,    69,  1,     35,     108,2,20110713,1841,2110, 31.9718, 164.9982, 6017,     51.5,       51,  19.4388,  34.7161,2,    236.5,2,  34.7140,2,   236.28,2,     1.94,2,     0.00,2,     0.00,2,    0.030,2,    2.428,3,    1.504,2,-999,9,-999,9,   1989.0,2,   2280.6,3,   8.0319,2,    25.00,     0.15,2,     0.04,2,  19.4386,2
  49UP20110515,   P13,    69,  1,     34,     107,2,20110713,1841,2108, 31.9718, 164.9982, 6017,    100.9,      100,  17.6248,  34.7169,2,    225.2,2,  34.7191,2,   224.09,6,     2.56,6,     2.27,6,     0.10,6,    0.180,6,    2.511,3,    1.564,2,-999,9,-999,9,   2016.9,2,   2281.6,3,   7.9844,2,    25.00,     0.30,2,     0.30,2,  17.6199,2
  49UP20110515,   P13,    69,  1,     33,     106,2,20110713,1841,2107, 31.9718, 164.9982, 6017,    154.5,      153,  17.0712,  34.6957,2,    224.4,2,  34.6973,2,   223.73,2,     3.63,2,     3.45,2,     0.02,2,    0.250,2,    2.500,3,    1.559,2,-999,9,-999,9,   2022.0,6,   2279.3,3,   7.9736,2,    25.00,     0.06,2,     0.04,2,  17.0717,2
  49UP20110515,   P13,    69,  1,     32,     105,2,20110713,1841,2105, 31.9718, 164.9982, 6017,    201.4,      200,  16.9547,  34.7000,2,    226.0,2,  34.7002,2,   225.63,2,     3.87,2,     3.62,2,     0.01,2,    0.250,2,    2.538,3,    1.587,2,-999,9,-999,9,   2021.2,2,   2280.9,3,   7.9749,6,    25.00,     0.00,2,     0.02,2,  16.9551,2
  49UP20110515,   P13,    69,  1,     31,     104,2,20110713,1841,2103, 31.9718, 164.9982, 6017,    254.2,      252,  16.8448,  34.6920,2,    226.1,2,  34.6925,2,   225.79,2,     3.99,2,     3.77,2,     0.01,2,    0.270,2,    2.524,3,    1.602,6,-999,9,-999,9,   2022.5,2,   2281.4,3,   7.9660,2,    25.00,     -999,9,     -999,9,  16.8448,2
  49UP20110515,   P13,    69,  1,     30,     103,2,20110713,1841,2101, 31.9718, 164.9982, 6017,    335.4,      333,  15.7358,  34.6016,2,    196.2,2,  34.6003,2,   196.51,6,     8.28,6,     8.14,6,     0.01,6,    0.560,6,    2.582,3,    1.600,2,-999,9,-999,9,   2056.5,2,   2276.4,3,   7.9051,2,    25.00,     -999,9,     -999,9,  15.7361,2
  49UP20110515,   P13,    69,  1,     29,     102,2,20110713,1841,2058, 31.9718, 164.9982, 6017,    436.1,      433,  13.2669,  34.4364,2,    194.9,2,  34.4378,2,   195.02,2,    14.73,2,    12.10,2,     0.00,2,    0.840,2,    2.770,3,    1.674,2,-999,9,-999,9,   2086.8,2,   2275.4,3,   7.8288,2,    25.00,     -999,9,     -999,9,  13.2711,2
  49UP20110515,   P13,    69,  1,     28,     101,2,20110713,1841,2055, 31.9718, 164.9982, 6017,    535.7,      531,  10.5882,  34.2393,2,    196.2,2,  34.2423,2,   197.25,2,    23.51,2,    16.43,2,     0.00,2,    1.160,2,    2.948,3,    1.772,2,-999,9,-999,9,   2117.9,2,   2272.8,3,   7.7565,2,    25.00,     -999,9,     -999,9,  10.5886,2
  49UP20110515,   P13,    69,  1,     27,     100,2,20110713,1841,2052, 31.9718, 164.9982, 6017,    636.7,      631,   7.6714,  34.0633,2,    162.6,2,  34.0657,6,   162.81,2,    42.62,2,    24.77,2,     0.00,2,    1.780,2,    2.788,3,    1.565,6,-999,9,-999,9,   2180.8,2,   2279.6,3,   7.6189,2,    25.00,     -999,9,     -999,9,   7.6718,2
  49UP20110515,   P13,    69,  1,     26,      99,2,20110713,1841,2049, 31.9718, 164.9982, 6017,    737.8,      731,   5.6262,  34.0127,2,    123.3,2,  34.0126,2,   123.47,2,    67.02,2,    32.14,2,     0.00,2,    2.320,2,    2.288,3,    1.254,2,-999,9,-999,9,   2239.8,6,   2294.1,3,   7.4893,2,    25.00,     -999,9,     -999,9,   5.6264,2
  49UP20110515,   P13,    69,  1,     25,      98,2,20110713,1841,2046, 31.9718, 164.9982, 6017,    839.6,      832,   4.6792,  34.1049,2,     78.0,2,  34.1019,2,     -999,5,    89.25,6,    37.49,6,     0.00,6,    2.700,6,    1.442,3,    0.773,2,-999,9,-999,9,   2291.4,2,   2315.6,3,   7.4017,6,    25.00,     -999,9,     -999,9,   4.6796,2
  49UP20110515,   P13,    69,  1,     24,      97,2,20110713,1841,2043, 31.9718, 164.9982, 6017,    942.8,      934,   4.1683,  34.1974,2,     52.0,2,  34.1955,2,    52.32,2,   105.83,2,    40.43,2,     0.00,2,    2.900,2,    0.819,3,    0.419,2,-999,9,-999,9,   2323.3,2,   2336.0,3,   7.3716,2,    25.00,     -999,9,     -999,9,   4.1682,2
  49UP20110515,   P13,    69,  1,     23,      96,2,20110713,1841,2040, 31.9718, 164.9982, 6017,   1083.7,     1073,   3.6020,  34.2978,2,     36.6,2,  34.2937,4,    37.38,2,   122.44,2,    42.20,2,     0.00,2,    3.010,2,    0.402,3,    0.224,2,-999,9,-999,9,   2347.3,2,   2356.8,3,   7.3391,2,    25.00,     -999,9,     -999,9,   3.6032,2
  49UP20110515,   P13,    69,  1,     22,      95,2,20110713,1841,2034, 31.9718, 164.9982, 6017,   1286.8,     1274,   3.0403,  34.4026,2,     30.5,2,  34.4022,6,    30.13,2,   140.48,2,    43.48,2,     0.00,2,    3.090,2,    0.130,3,    0.086,2,-999,9,-999,9,   2370.5,2,   2377.4,3,   7.3347,2,    25.00,     -999,9,     -999,9,   3.0408,2
  49UP20110515,   P13,    69,  1,     21,      94,2,20110713,1841,2029, 31.9718, 164.9982, 6017,   1487.1,     1471,   2.6535,  34.4753,2,     34.0,2,  34.4747,2,    33.47,2,   151.56,2,    43.69,2,     0.00,2,    3.090,2,    0.032,3,    0.046,2,-999,9,-999,9,   2384.0,2,   2395.5,3,   7.3479,2,    25.00,     -999,9,     -999,9,   2.6532,2
  49UP20110515,   P13,    69,  1,     20,      93,2,20110713,1841,2023, 31.9718, 164.9982, 6017,   1689.2,     1671,   2.3556,  34.5279,2,     43.9,2,  34.5278,2,    43.66,6,   159.40,2,    43.18,2,     0.00,2,    3.040,2,    0.022,3,    0.032,2,-999,9,-999,9,   2385.2,2,   2401.0,3,   7.3713,2,    25.00,     -999,9,     -999,9,   2.3556,2
  49UP20110515,   P13,    69,  1,     19,      92,2,20110713,1841,2018, 31.9718, 164.9982, 6017,   1893.1,     1871,   2.1296,  34.5680,2,     59.4,2,  34.5658,4,    59.22,2,   162.11,2,    42.19,2,     0.00,2,    2.970,2,    0.017,3,    0.034,2,-999,9,-999,9,   2380.7,2,   2407.6,3,   7.3989,2,    25.00,     -999,9,     -999,9,   2.1296,2
  49UP20110515,   P13,    69,  1,     18,      91,2,20110713,1841,2012, 31.9718, 164.9982, 6017,   2098.3,     2073,   1.9412,  34.5991,2,     75.7,2,  34.5993,2,    75.69,2,   163.55,2,    41.20,2,     0.00,2,    2.890,2,    0.003,3,    0.032,2,-999,9,-999,9,   2375.5,2,   2413.3,3,   7.4373,2,    25.00,     -999,9,     -999,9,   1.9412,2
  49UP20110515,   P13,    69,  1,     17,      90,2,20110713,1841,2007, 31.9718, 164.9982, 6017,   2301.5,     2273,   1.8250,  34.6189,2,     89.9,2,  34.6187,2,    89.99,2,   162.15,2,    40.36,2,     0.00,2,    2.830,2,     -999,9,     -999,9,-999,9,-999,9,   2366.4,2,   2413.7,3,   7.4620,2,    25.00,     -999,9,     -999,9,   1.8247,2
  49UP20110515,   P13,    69,  1,     16,      89,2,20110713,1841,2002, 31.9718, 164.9982, 6017,   2505.6,     2473,   1.7256,  34.6375,2,    106.1,2,  34.6374,2,   106.20,2,   158.95,6,    39.27,6,     0.00,6,    2.740,6,    0.001,3,    0.037,2,-999,9,-999,9,   2352.0,3,   2414.7,3,   7.4915,2,    25.00,     -999,9,     -999,9,   1.7256,2
  49UP20110515,   P13,    69,  1,     15,      88,2,20110713,1841,1956, 31.9718, 164.9982, 6017,   2708.2,     2672,   1.6540,  34.6473,2,    113.1,2,  34.6482,2,   113.38,2,   159.26,2,    38.84,2,     0.00,2,    2.710,2,     -999,9,     -999,9,-999,9,-999,9,   2358.3,2,   2415.5,3,   7.5049,2,    25.00,     -999,9,     -999,9,   1.6539,2
  49UP20110515,   P13,    69,  1,     14,      87,2,20110713,1841,1952, 31.9718, 164.9982, 6017,   2913.4,     2873,   1.6037,  34.6560,2,    121.4,2,  34.6567,2,   121.82,2,   157.55,2,    38.26,2,     0.00,2,    2.670,2,     -999,9,     -999,9,-999,9,-999,9,   2348.6,2,   2415.2,3,   7.5220,2,    25.00,     -999,9,     -999,9,   1.6035,2
  49UP20110515,   P13,    69,  1,     13,      86,2,20110713,1841,1947, 31.9718, 164.9982, 6017,   3129.1,     3084,   1.5658,  34.6628,2,    127.8,2,  34.6634,2,   127.75,2,   155.96,2,    37.80,2,     0.00,2,    2.630,2,     -999,9,     -999,9,-999,9,-999,9,   2344.0,2,   2415.1,3,   7.5316,2,    25.00,     -999,9,     -999,9,   1.5656,2
  49UP20110515,   P13,    69,  1,     12,      85,2,20110713,1841,1941, 31.9718, 164.9982, 6017,   3383.4,     3333,   1.5255,  34.6703,2,    135.9,2,  34.6705,2,   135.90,2,   154.52,2,    37.21,2,     0.00,2,    2.590,2,     -999,9,     -999,9,-999,9,-999,9,   2337.8,6,   2416.0,3,   7.5486,2,    25.00,     -999,9,     -999,9,   1.5254,2
  49UP20110515,   P13,    69,  1,     11,     110,2,20110713,1841,1935, 31.9718, 164.9982, 6017,   3637.0,     3581,   1.4997,  34.6757,2,    141.6,2,  34.6763,2,   141.41,2,   152.92,2,    36.97,2,     0.00,2,    2.570,2,     -999,9,     -999,9,-999,9,-999,9,   2334.8,2,   2415.9,3,   7.5561,6,    25.00,     -999,9,     -999,9,   1.4996,2
  49UP20110515,   P13,    69,  1,     10,      83,3,20110713,1841,1930, 31.9718, 164.9982, 6017,   3894.5,     3832,   1.4868,  34.6796,2,    146.4,2,  34.6803,6,   145.98,2,   151.96,2,    36.54,2,     0.00,2,    2.540,2,    0.004,3,    0.029,2,-999,9,-999,9,   2332.4,2,   2414.5,3,   7.5630,2,    25.00,     -999,9,     -999,9,   1.4867,2
  49UP20110515,   P13,    69,  1,      9,      82,2,20110713,1841,1923, 31.9718, 164.9982, 6017,   4150.5,     4082,   1.4784,  34.6832,2,    151.1,2,  34.6839,2,   150.61,2,   150.38,2,    36.33,2,     0.00,2,    2.510,2,     -999,9,     -999,9,-999,9,-999,9,   2328.7,2,   2413.0,3,   7.5725,2,    25.00,     -999,9,     -999,9,   1.4783,2
  49UP20110515,   P13,    69,  1,      8,      81,2,20110713,1841,1917, 31.9718, 164.9982, 6017,   4406.9,     4331,   1.4780,  34.6864,2,    155.0,2,  34.6863,2,   154.84,2,   149.39,2,    36.10,2,     0.00,2,    2.490,2,     -999,9,     -999,9,-999,9,-999,9,   2325.5,2,   2413.9,3,   7.5785,2,    25.00,     -999,9,     -999,9,   1.4782,2
  49UP20110515,   P13,    69,  1,      7,      80,2,20110713,1841,1911, 31.9718, 164.9982, 6017,   4662.6,     4580,   1.4885,  34.6882,2,    157.5,2,  34.6879,2,   157.46,2,   148.28,2,    35.90,2,     0.00,2,    2.480,2,     -999,9,     -999,9,-999,9,-999,9,   2325.0,2,   2414.1,3,   7.5794,2,    25.00,     -999,9,     -999,9,   1.4885,2
  49UP20110515,   P13,    69,  1,      6,      79,2,20110713,1841,1906, 31.9718, 164.9982, 6017,   4919.8,     4830,   1.4941,  34.6905,2,    161.8,2,  34.6906,2,   162.02,2,   144.83,2,    35.58,2,     0.00,2,    2.460,2,    0.000,3,    0.041,2,-999,9,-999,9,   2314.4,2,   2410.9,3,   7.5818,2,    25.00,     -999,9,     -999,9,   1.4942,2
  49UP20110515,   P13,    69,  1,      5,      78,2,20110713,1841,1900, 31.9718, 164.9982, 6017,   5177.6,     5080,   1.5011,  34.6928,2,    166.3,2,  34.6923,2,   166.22,2,   141.34,2,    35.25,2,     0.00,2,    2.430,2,     -999,9,     -999,9,-999,9,-999,9,   2311.9,2,   2407.3,3,   7.5903,2,    25.00,     -999,9,     -999,9,   1.5012,2
  49UP20110515,   P13,    69,  1,      4,      77,2,20110713,1841,1855, 31.9718, 164.9982, 6017,   5437.6,     5332,   1.5148,  34.6945,2,    169.7,2,  34.6941,2,   169.54,2,   138.23,2,    34.97,2,     0.00,2,    2.410,2,     -999,9,     -999,9,-999,9,-999,9,   2308.0,2,   2403.0,3,   7.5974,2,    25.00,     -999,9,     -999,9,   1.5148,2
  49UP20110515,   P13,    69,  1,      3,      76,2,20110713,1841,1850, 31.9718, 164.9982, 6017,   5694.3,     5581,   1.5340,  34.6957,2,    171.5,2,  34.6954,2,   171.48,6,   136.79,2,    34.81,2,     0.00,2,    2.400,2,     -999,9,     -999,9,-999,9,-999,9,   2304.8,2,   2401.4,3,   7.5993,2,    25.00,     -999,9,     -999,9,   1.5340,2
  49UP20110515,   P13,    69,  1,      2,      75,2,20110713,1841,1845, 31.9718, 164.9982, 6017,   5952.3,     5830,   1.5586,  34.6963,2,    172.9,2,  34.6965,2,   177.14,3,   136.45,2,    34.72,2,     0.00,2,    2.390,2,    0.014,3,    0.038,2,-999,9,-999,9,   2298.9,2,   2402.7,3,   7.5960,2,    25.00,     -999,9,     -999,9,   1.5585,2
  49UP20110515,   P13,    69,  1,      1,      74,2,20110713,1841,1841, 31.9718, 164.9982, 6017,   6127.3,     5999,   1.5765,  34.6968,2,    173.7,2,  34.6968,6,   173.64,2,   135.48,2,    34.73,2,     0.00,2,    2.390,2,     -999,9,     -999,9,-999,9,-999,9,   2305.1,2,   2398.9,3,   7.5954,2,    25.00,     -999,9,     -999,9,   1.5765,2