BOTTLE,20240116CCHSIOVAJ
EXPOCODE,SECT_ID,STNNBR,CASTNO,SAMPNO,BTLNBR,BTLNBR_FLAG_W,DATE,TIME,BTL_TIME,LATITUDE,LONGITUDE,DEPTH,CTDPRS,CTDDEPTH,CTDTMP,CTDSAL,CTDSAL_FLAG_W,CTDOXY,CTDOXY_FLAG_W,SALNTY,SALNTY_FLAG_W,OXYGEN,OXYGEN_FLAG_W,SILCAT,SILCAT_FLAG_W,NO2+NO3,NO2+NO3_FLAG_W,NITRIT,NITRIT_FLAG_W,PHSPHT,PHSPHT_FLAG_W,CFC-11,CFC-11_FLAG_W,CFC-12,CFC-12_FLAG_W,DELC14,DELC14_FLAG_W,DELC13,DELC13_FLAG_W,TCARBN,TCARBN_FLAG_W,ALKALI,ALKALI_FLAG_W,PH_TOT,PH_TOT_FLAG_W,PH_TMP,CHLORA,CHLORA_FLAG_W,PPHYTN,PPHYTN_FLAG_W,REFTMP,REFTMP_FLAG_W
,,,,,,,,,,,,METERS,DBAR,METERS,ITS-90,PSS-78,,UMOL/KG,,PSS-78,,UMOL/KG,,UMOL/KG,,UMOL/KG,,UMOL/KG,,UMOL/KG,,PMOL/KG,,PMOL/KG,,/MILLE,,/MILLE,,UMOL/KG,,UMOL/KG,,,,DEG C,UG/KG,,UG/KG,,ITS-90,
  49UP20110515,   P13,    51,  1,      0,     BUC,2,20110618,0944,1205, 43.0498, 164.9997, 5465,      0.0,        0,   8.0837,  33.1666,2,    298.6,2,     -999,9,   297.67,2,    19.92,2,    10.83,2,     0.18,2,    1.050,2,     -999,9,     -999,9,-999,9,-999,9,     -999,9,     -999,9,     -999,9,     -999,     0.29,2,     0.03,2,     -999,9
  49UP20110515,   P13,    51,  1,     36,     109,2,20110618,0944,1222, 43.0498, 164.9997, 5465,     11.0,       11,   8.1299,  33.2003,2,    298.1,2,  33.2198,4,   296.42,2,    19.24,6,    10.57,6,     0.18,6,    1.020,6,    4.615,2,    2.367,2,-999,9,-999,9,   2064.7,2,   2232.9,2,   7.8184,2,    25.00,     0.30,2,     0.06,2,   8.1293,2
  49UP20110515,   P13,    51,  1,     35,     108,2,20110618,0944,1218, 43.0498, 164.9997, 5465,     51.0,       51,   8.1800,  33.3099,2,    294.8,2,  33.3176,6,   295.33,2,    18.55,2,    10.25,2,     0.19,2,    0.990,2,    4.580,2,    2.343,2,-999,9,-999,9,   2066.3,2,   2237.0,2,   7.8161,2,    25.00,     0.46,2,     0.10,2,   8.1806,2
  49UP20110515,   P13,    51,  1,     34,     107,2,20110618,0944,1216, 43.0498, 164.9997, 5465,    101.2,      100,   5.1680,  33.2312,2,    299.6,2,  33.2348,2,   299.22,6,    24.90,6,    15.56,6,     0.02,6,    1.290,6,    4.923,2,    2.635,2,-999,9,-999,9,   2087.1,2,   2232.1,2,   7.7428,2,    25.00,     0.08,2,     0.08,2,   5.1677,2
  49UP20110515,   P13,    51,  1,     33,     106,2,20110618,0944,1214, 43.0498, 164.9997, 5465,    151.7,      150,   4.7197,  33.4613,2,    263.3,2,  33.4783,4,   260.86,2,    35.83,2,    21.26,2,     0.01,2,    1.650,2,    4.578,2,    2.518,2,-999,9,-999,9,   2139.4,2,   2251.5,2,   7.6628,6,    25.00,     0.01,2,     0.07,2,   4.7202,2
  49UP20110515,   P13,    51,  1,     32,     105,2,20110618,0944,1213, 43.0498, 164.9997, 5465,    202.4,      201,   4.3928,  33.6356,2,    207.9,2,  33.6339,2,   207.77,2,    50.96,2,    27.20,2,     0.01,2,    2.040,2,    4.013,2,    2.253,2,-999,9,-999,9,   2190.8,2,   2264.6,2,   7.5654,2,    25.00,     0.00,2,     0.07,2,   4.3902,2
  49UP20110515,   P13,    51,  1,     31,     104,3,20110618,0944,1211, 43.0498, 164.9997, 5465,    251.9,      250,   3.5494,  33.6528,2,    170.1,2,  33.6529,2,   169.34,2,    65.94,2,    32.30,2,     0.01,2,    2.400,2,    3.594,6,    2.045,6,-999,9,-999,9,   2226.9,2,   2273.8,2,   7.4690,2,    25.00,     -999,9,     -999,9,   3.5498,2
  49UP20110515,   P13,    51,  1,     30,     103,2,20110618,0944,1209, 43.0498, 164.9997, 5465,    283.0,      281,   3.5039,  33.7120,2,    144.2,2,  33.7123,2,   143.13,2,    73.68,2,    34.64,2,     0.00,2,    2.550,2,     -999,5,     -999,5,-999,9,-999,9,   2251.2,2,   2279.8,2,   7.4184,2,    25.00,     -999,9,     -999,9,   3.5053,2
  49UP20110515,   P13,    51,  1,     29,     102,2,20110618,0944,1207, 43.0498, 164.9997, 5465,    373.7,      370,   3.7889,  33.8943,2,     93.5,2,  33.8941,2,    93.33,2,    88.04,2,    38.20,2,     0.01,2,    2.760,2,    2.590,2,    1.297,2,-999,9,-999,9,   2279.3,2,   2301.2,2,   7.3650,2,    25.00,     -999,9,     -999,9,   3.7892,2
  49UP20110515,   P13,    51,  1,     28,     101,2,20110618,0944,1207, 43.0498, 164.9997, 5465,    373.7,      370,   3.7889,  33.8943,2,     93.5,2,  33.8944,2,    93.56,2,    88.08,2,    38.04,2,     0.01,2,    2.760,2,    2.593,2,    1.298,2,-999,9,-999,9,   2282.9,2,   2299.6,2,   7.3604,2,    25.00,     -999,9,     -999,9,   3.7892,2
  49UP20110515,   P13,    51,  1,     27,     100,2,20110618,0944,1204, 43.0498, 164.9997, 5465,    475.2,      471,   3.6701,  34.0281,2,     57.7,2,  34.0288,2,    58.00,2,   103.89,2,    40.90,2,     0.00,2,    2.940,2,    1.781,6,    0.879,6,-999,9,-999,9,   2321.4,6,   2317.3,6,   7.3256,2,    25.00,     -999,9,     -999,9,   3.6717,2
  49UP20110515,   P13,    51,  1,     26,      99,2,20110618,0944,1159, 43.0498, 164.9997, 5465,    575.5,      570,   3.7593,  34.1555,2,     49.2,2,  34.1556,2,    50.16,6,   111.54,2,    40.80,2,     0.00,2,    2.940,2,    1.125,2,    0.564,2,-999,9,-999,9,   2326.4,2,   2333.8,2,   7.3364,2,    25.00,     -999,9,     -999,9,   3.7598,2
  49UP20110515,   P13,    51,  1,     25,      98,3,20110618,0944,1156, 43.0498, 164.9997, 5465,    676.6,      670,   3.5313,  34.2152,2,     39.2,2,  34.2153,2,    39.87,2,   120.86,3,    41.97,2,     0.00,2,    3.000,2,    0.819,2,    0.401,2,-999,9,-999,9,   2346.6,2,   2344.5,2,   7.3293,2,    25.00,     -999,9,     -999,9,   3.5319,2
  49UP20110515,   P13,    51,  1,     24,      97,2,20110618,0944,1153, 43.0498, 164.9997, 5465,    778.2,      771,   3.3207,  34.2746,2,     34.2,2,  34.2744,6,    34.59,2,   129.48,2,    42.42,2,     0.00,2,    3.050,2,    0.545,2,    0.273,2,-999,9,-999,9,   2354.2,2,   2356.1,2,   7.3270,2,    25.00,     -999,9,     -999,9,   3.3209,2
  49UP20110515,   P13,    51,  1,     23,      96,2,20110618,0944,1150, 43.0498, 164.9997, 5465,    879.6,      871,   3.1639,  34.3348,2,     33.5,2,  34.3344,2,    33.51,2,   135.38,2,    42.73,2,     0.00,2,    3.050,2,    0.355,2,    0.180,2,-999,9,-999,9,   2360.2,2,   2364.0,2,   7.3356,2,    25.00,     -999,9,     -999,9,   3.1643,2
  49UP20110515,   P13,    51,  1,     22,      95,2,20110618,0944,1147, 43.0498, 164.9997, 5465,    980.9,      971,   2.9926,  34.3806,2,     33.9,2,  34.3803,2,    34.42,2,   141.11,2,    42.65,6,     0.00,6,    3.060,6,    0.259,2,    0.113,2,-999,9,-999,9,   2365.6,2,   2373.1,2,   7.3454,2,    25.00,     -999,9,     -999,9,   2.9929,2
  49UP20110515,   P13,    51,  1,     21,      94,2,20110618,0944,1142, 43.0498, 164.9997, 5465,   1143.0,     1131,   2.7062,  34.4353,2,     33.4,2,  34.4353,2,    33.32,2,   150.29,2,    43.14,2,     0.00,2,    3.080,2,    0.134,2,    0.050,2,-999,9,-999,9,   2376.9,2,   2384.4,2,   7.3437,6,    25.00,     -999,9,     -999,9,   2.7061,2
  49UP20110515,   P13,    51,  1,     20,      93,3,20110618,0944,1136, 43.0498, 164.9997, 5465,   1346.9,     1332,   2.4212,  34.4810,2,     38.2,2,  34.4801,2,    37.71,2,   158.19,3,    42.94,2,     0.00,2,    3.030,3,    0.094,2,    0.032,2,-999,9,-999,9,   2380.2,6,   2395.8,6,   7.3586,2,    25.00,     -999,9,     -999,9,   2.4212,2
  49UP20110515,   P13,    51,  1,     19,      92,2,20110618,0944,1132, 43.0498, 164.9997, 5465,   1548.6,     1531,   2.2616,  34.5198,2,     45.0,2,  34.5189,2,    47.42,3,   162.05,2,    42.54,2,     0.00,2,    3.020,2,    0.047,2,    0.010,2,-999,9,-999,9,   2380.4,2,   2401.9,2,   7.3767,2,    25.00,     -999,9,     -999,9,   2.2617,2
  49UP20110515,   P13,    51,  1,     18,      91,2,20110618,0944,1125, 43.0498, 164.9997, 5465,   1751.1,     1730,   2.1122,  34.5533,2,     54.4,2,  34.5534,2,    54.05,2,   164.60,2,    41.82,2,     0.00,2,    2.970,2,    0.011,2,    0.000,2,-999,9,-999,9,   2379.3,2,   2404.6,2,   7.3965,2,    25.00,     -999,9,     -999,9,   2.1123,2
  49UP20110515,   P13,    51,  1,     17,      90,2,20110618,0944,1120, 43.0498, 164.9997, 5465,   1955.9,     1931,   1.9890,  34.5807,2,     65.4,2,  34.5809,2,    65.57,2,   165.65,2,    41.45,2,     0.00,2,    2.930,2,    0.002,2,    0.005,2,-999,9,-999,9,   2380.2,2,   2408.8,2,   7.4217,2,    25.00,     -999,9,     -999,9,   1.9891,2
  49UP20110515,   P13,    51,  1,     16,      89,2,20110618,0944,1116, 43.0498, 164.9997, 5465,   2159.8,     2132,   1.8642,  34.6055,2,     78.6,2,  34.6051,2,    79.29,2,   166.07,2,    40.70,2,     0.00,2,    2.870,2,    0.000,2,    0.000,2,-999,9,-999,9,   2371.1,2,   2411.9,2,   7.4448,2,    25.00,     -999,9,     -999,9,   1.8643,2
  49UP20110515,   P13,    51,  1,     15,      88,2,20110618,0944,1108, 43.0498, 164.9997, 5465,   2362.7,     2331,   1.7682,  34.6234,2,     90.8,2,  34.6233,2,    90.39,2,   165.62,2,    39.97,2,     0.00,2,    2.810,2,    0.000,2,    0.000,2,-999,9,-999,9,   2364.9,2,   2414.6,2,   7.4700,2,    25.00,     -999,9,     -999,9,   1.7683,2
  49UP20110515,   P13,    51,  1,     14,      87,3,20110618,0944,1104, 43.0498, 164.9997, 5465,   2567.2,     2531,   1.6835,  34.6383,2,    102.4,2,  34.6380,2,   102.25,2,   163.55,2,    39.23,2,     0.00,2,    2.750,2,    0.000,2,    0.000,2,-999,9,-999,9,   2360.1,2,   2414.4,2,   7.4870,2,    25.00,     -999,9,     -999,9,   1.6835,2
  49UP20110515,   P13,    51,  1,     13,      86,2,20110618,0944,1059, 43.0498, 164.9997, 5465,   2771.7,     2732,   1.6219,  34.6497,2,    112.7,2,  34.6492,2,   112.85,2,   162.17,2,    38.46,2,     0.00,2,    2.700,2,    0.000,2,    0.000,2,-999,9,-999,9,   2350.9,2,   2417.0,2,   7.5106,2,    25.00,     -999,9,     -999,9,   1.6220,2
  49UP20110515,   P13,    51,  1,     12,      85,2,20110618,0944,1053, 43.0498, 164.9997, 5465,   2976.6,     2932,   1.5751,  34.6582,2,    121.5,2,  34.6586,2,   121.70,2,   159.39,4,    37.97,2,     0.00,2,    2.660,2,     -999,9,     -999,9,-999,9,-999,9,   2342.6,2,   2417.7,2,   7.5196,2,    25.00,     -999,9,     -999,9,   1.5751,2
  49UP20110515,   P13,    51,  1,     11,     110,2,20110618,0944,1048, 43.0498, 164.9997, 5465,   3221.5,     3172,   1.5326,  34.6662,2,    130.2,2,  34.6665,6,   129.99,2,   157.57,2,    37.39,2,     0.00,2,    2.610,2,     -999,9,     -999,9,-999,9,-999,9,   2339.3,2,   2417.2,2,   7.5431,2,    25.00,     -999,9,     -999,9,   1.5325,2
  49UP20110515,   P13,    51,  1,     10,      83,3,20110618,0944,1039, 43.0498, 164.9997, 5465,   3478.1,     3422,   1.4995,  34.6729,2,    137.9,2,  34.6725,2,   137.80,2,   155.49,2,    36.95,2,     0.00,2,    2.570,2,     -999,9,     -999,9,-999,9,-999,9,   2322.9,3,   2416.2,2,   7.5583,3,    25.00,     -999,9,     -999,9,   1.4994,2
  49UP20110515,   P13,    51,  1,      9,      82,2,20110618,0944,1034, 43.0498, 164.9997, 5465,   3732.0,     3670,   1.4844,  34.6774,2,    143.2,2,  34.6774,2,   142.75,2,   154.09,2,    36.48,2,     0.00,2,    2.550,2,    0.001,2,    0.000,2,-999,9,-999,9,   2329.9,2,   2416.0,2,   7.5655,2,    25.00,     -999,9,     -999,9,   1.4845,2
  49UP20110515,   P13,    51,  1,      8,      81,2,20110618,0944,1025, 43.0498, 164.9997, 5465,   3989.2,     3921,   1.4742,  34.6813,2,    148.1,2,  34.6809,2,   147.83,2,   153.19,2,    36.36,2,     0.00,2,    2.520,2,     -999,9,     -999,9,-999,9,-999,9,   2326.6,2,   2415.8,2,   7.5731,2,    25.00,     -999,9,     -999,9,   1.4742,2
  49UP20110515,   P13,    51,  1,      7,      80,2,20110618,0944,1020, 43.0498, 164.9997, 5465,   4247.0,     4172,   1.4753,  34.6842,2,    151.7,2,  34.6836,2,   152.53,3,   152.11,2,    35.99,2,     0.00,2,    2.500,2,     -999,9,     -999,9,-999,9,-999,9,   2326.1,2,   2414.7,6,   7.5797,2,    25.00,     -999,9,     -999,9,   1.4754,2
  49UP20110515,   P13,    51,  1,      6,      79,2,20110618,0944,1012, 43.0498, 164.9997, 5465,   4503.6,     4421,   1.4827,  34.6865,2,    154.8,2,  34.6862,2,   154.48,2,   151.36,2,    35.97,2,     0.00,2,    2.480,2,     -999,9,     -999,9,-999,9,-999,9,   2310.5,3,   2415.3,2,   7.5794,2,    25.00,     -999,9,     -999,9,   1.4828,2
  49UP20110515,   P13,    51,  1,      5,      78,2,20110618,0944,1004, 43.0498, 164.9997, 5465,   4760.8,     4671,   1.4978,  34.6882,2,    156.7,2,  34.6880,2,   157.04,6,   151.28,2,    35.62,2,     0.00,2,    2.470,2,    0.000,2,    0.000,2,-999,9,-999,9,   2315.0,2,   2416.0,2,   7.5876,2,    25.00,     -999,9,     -999,9,   1.4980,2
  49UP20110515,   P13,    51,  1,      4,      77,2,20110618,0944,0958, 43.0498, 164.9997, 5465,   5017.7,     4920,   1.5188,  34.6893,2,    158.1,2,  34.6890,2,   158.51,2,   151.10,6,    35.55,6,     0.00,6,    2.470,6,     -999,9,     -999,9,-999,9,-999,9,   2313.6,2,   2415.8,2,   7.5897,2,    25.00,     -999,9,     -999,9,   1.5190,2
  49UP20110515,   P13,    51,  1,      3,      76,2,20110618,0944,0950, 43.0498, 164.9997, 5465,   5276.6,     5171,   1.5445,  34.6903,2,    159.1,2,  34.6902,6,   159.66,2,   150.71,4,    35.46,2,     0.00,2,    2.470,2,     -999,9,     -999,9,-999,9,-999,9,   2315.8,2,   2414.6,2,   7.5912,2,    25.00,     -999,9,     -999,9,   1.5446,2
  49UP20110515,   P13,    51,  1,      2,      75,2,20110618,0944,0944, 43.0498, 164.9997, 5465,   5551.4,     5437,   1.5760,  34.6908,2,    159.5,2,  34.6905,2,   159.89,2,   151.56,4,    35.58,2,     0.00,2,    2.460,2,     -999,9,     -999,9,-999,9,-999,9,   2315.4,3,   2415.0,2,   7.5904,2,    25.00,     -999,9,     -999,9,   1.5759,2
  49UP20110515,   P13,    51,  1,      1,      74,2,20110618,0944,0944, 43.0498, 164.9997, 5465,   5551.4,     5437,   1.5760,  34.6908,2,    159.5,2,  34.6903,2,   159.82,2,   151.23,2,    35.55,2,     0.00,2,    2.460,2,     -999,9,     -999,9,-999,9,-999,9,   2320.6,3,   2415.8,2,   7.5899,2,    25.00,     -999,9,     -999,9,   1.5759,2