BOTTLE,20240116CCHSIOVAJ
EXPOCODE,SECT_ID,STNNBR,CASTNO,SAMPNO,BTLNBR,BTLNBR_FLAG_W,DATE,TIME,BTL_TIME,LATITUDE,LONGITUDE,DEPTH,CTDPRS,CTDDEPTH,CTDTMP,CTDSAL,CTDSAL_FLAG_W,CTDOXY,CTDOXY_FLAG_W,SALNTY,SALNTY_FLAG_W,OXYGEN,OXYGEN_FLAG_W,SILCAT,SILCAT_FLAG_W,NO2+NO3,NO2+NO3_FLAG_W,NITRIT,NITRIT_FLAG_W,PHSPHT,PHSPHT_FLAG_W,CFC-11,CFC-11_FLAG_W,CFC-12,CFC-12_FLAG_W,DELC14,DELC14_FLAG_W,DELC13,DELC13_FLAG_W,TCARBN,TCARBN_FLAG_W,ALKALI,ALKALI_FLAG_W,PH_TOT,PH_TOT_FLAG_W,PH_TMP,CHLORA,CHLORA_FLAG_W,PPHYTN,PPHYTN_FLAG_W,REFTMP,REFTMP_FLAG_W
,,,,,,,,,,,,METERS,DBAR,METERS,ITS-90,PSS-78,,UMOL/KG,,PSS-78,,UMOL/KG,,UMOL/KG,,UMOL/KG,,UMOL/KG,,UMOL/KG,,PMOL/KG,,PMOL/KG,,/MILLE,,/MILLE,,UMOL/KG,,UMOL/KG,,,,DEG C,UG/KG,,UG/KG,,ITS-90,
  49UP20110515,   P13,    66,  1,      0,     BUC,2,20110712,1439,1650, 34.0370, 165.0173, 6110,      0.0,        0,  23.7028,  34.5466,2,    220.1,2,     -999,9,   219.21,2,     1.83,2,     0.00,2,     0.00,2,    0.040,2,     -999,9,     -999,9,-999,9,-999,9,     -999,9,     -999,9,     -999,9,     -999,     0.19,2,     0.03,2,     -999,9
  49UP20110515,   P13,    66,  1,     36,     109,2,20110712,1439,1701, 34.0370, 165.0173, 6110,     10.7,       11,  23.2883,  34.5446,2,    222.5,2,  34.5593,4,   224.20,2,     1.65,2,     0.00,2,     0.00,2,    0.030,2,    2.254,3,    1.372,3,66.3,2,0.9,2,   1987.9,2,   2271.3,2,   8.0313,2,    25.00,     0.17,2,     0.03,2,  23.2500,2
  49UP20110515,   P13,    66,  1,     35,     108,2,20110712,1439,1658, 34.0370, 165.0173, 6110,     50.9,       51,  18.0823,  34.5473,2,    235.3,2,  34.5467,2,   235.77,6,     3.99,2,     0.73,2,     0.09,2,    0.140,2,    2.525,3,    1.518,3,56.6,2,0.8,2,   2005.7,2,   2275.2,2,   8.0028,2,    25.00,     0.72,2,     0.32,2,  18.0862,2
  49UP20110515,   P13,    66,  1,     34,     107,2,20110712,1439,1656, 34.0370, 165.0173, 6110,     99.6,       99,  16.2297,  34.6155,2,    208.0,2,  34.6112,2,   208.99,2,     7.11,6,     6.25,6,     0.07,6,    0.450,6,    2.595,3,    1.582,3,53.7,2,0.5,2,   2043.1,2,   2276.0,2,   7.9315,2,    25.00,     0.20,2,     0.08,2,  16.2325,2
  49UP20110515,   P13,    66,  1,     33,     106,2,20110712,1439,1654, 34.0370, 165.0173, 6110,    152.5,      151,  14.3274,  34.5242,2,    210.3,2,  34.5257,2,   210.39,2,    11.35,2,     9.10,2,     0.02,2,    0.650,2,    2.748,3,    1.648,3,50.6,2,0.4,2,   2065.9,2,   2275.9,2,   7.8832,2,    25.00,     0.03,2,     0.03,2,  14.3206,2
  49UP20110515,   P13,    66,  1,     32,     105,2,20110712,1439,1652, 34.0370, 165.0173, 6110,    203.3,      202,  13.2723,  34.4350,2,    229.1,2,  34.4364,2,   229.70,2,    11.40,2,     8.79,2,     0.02,2,    0.640,2,    2.943,3,    1.764,3,34.2,2,0.4,2,   2063.8,2,   2272.6,2,   7.8830,2,    25.00,     0.00,2,     0.02,2,  13.2755,2
  49UP20110515,   P13,    66,  1,     31,     104,2,20110712,1439,1651, 34.0370, 165.0173, 6110,    253.0,      251,  12.0474,  34.3461,2,    210.1,2,  34.3499,2,   210.36,2,    17.13,2,    12.52,2,     0.02,2,    0.890,2,    2.944,3,    1.724,3,-999,9,-999,9,   2092.6,2,   2273.0,2,   7.8227,2,    25.00,     -999,9,     -999,9,  12.0524,2
  49UP20110515,   P13,    66,  1,     30,     103,2,20110712,1439,1649, 34.0370, 165.0173, 6110,    332.0,      329,   9.9495,  34.1682,2,    203.3,2,  34.1694,2,   203.61,2,    25.24,6,    16.75,6,     0.01,6,    1.200,6,    3.110,3,    1.798,3,9.7,2,0.2,2,   2123.7,2,   2271.5,2,   7.7452,2,    25.00,     -999,9,     -999,9,   9.9509,2
  49UP20110515,   P13,    66,  1,     29,     102,2,20110712,1439,1646, 34.0370, 165.0173, 6110,    436.0,      432,   7.1332,  34.0351,2,    160.6,2,  34.0375,2,   160.62,2,    49.06,2,    25.60,2,     0.00,2,    1.870,2,    2.727,3,    1.502,3,-51.9,2,0.0,2,   2191.1,6,   2283.4,6,   7.6061,2,    25.00,     -999,9,     -999,9,   7.1377,2
  49UP20110515,   P13,    66,  1,     28,     101,2,20110712,1439,1643, 34.0370, 165.0173, 6110,    535.9,      531,   5.2377,  33.9860,2,    128.3,2,  33.9880,2,   127.77,2,    70.47,2,    32.12,2,     0.00,2,    2.340,2,    2.435,3,    1.308,3,-81.5,2,-0.2,2,   2244.2,2,   2298.1,2,   7.4819,6,    25.00,     -999,9,     -999,9,   5.2513,2
  49UP20110515,   P13,    66,  1,     27,     100,3,20110712,1439,1640, 34.0370, 165.0173, 6110,    635.6,      630,   4.6265,  34.0725,2,     87.5,2,     -999,5,    92.64,4,    88.10,2,    36.61,2,     0.00,2,    2.640,2,    1.704,3,    0.912,3,-113.4,2,-0.3,2,   2282.7,2,   2314.1,2,   7.4115,2,    25.00,     -999,9,     -999,9,   4.6270,2
  49UP20110515,   P13,    66,  1,     26,      99,2,20110712,1439,1637, 34.0370, 165.0173, 6110,    738.1,      732,   4.2114,  34.1955,2,     58.9,2,  34.1949,6,    58.84,2,   105.14,2,    39.53,2,     0.00,2,    2.830,2,    0.994,3,    0.503,3,-158.0,2,-0.4,2,     -999,5,     -999,5,   7.3693,2,    25.00,     -999,9,     -999,9,   4.2125,2
  49UP20110515,   P13,    66,  1,     25,      98,2,20110712,1439,1635, 34.0370, 165.0173, 6110,    840.1,      832,   3.7588,  34.2735,2,     46.4,2,  34.2719,2,    45.89,2,   118.34,2,    41.18,2,     0.00,2,    2.940,2,    0.545,3,    0.278,3,-175.3,2,-0.5,2,   2336.0,2,   2345.6,2,   7.3608,2,    25.00,     -999,9,     -999,9,   3.7587,2
  49UP20110515,   P13,    66,  1,     24,      97,2,20110712,1439,1632, 34.0370, 165.0173, 6110,    940.4,      932,   3.4809,  34.3195,2,     37.5,2,  34.3178,2,    37.21,2,   126.67,2,    42.20,2,     0.00,2,    3.010,2,    0.321,3,    0.155,3,-191.5,2,-0.5,2,   2350.8,6,   2358.7,6,   7.3389,2,    25.00,     -999,9,     -999,9,   3.4810,2
  49UP20110515,   P13,    66,  1,     23,      96,2,20110712,1439,1628, 34.0370, 165.0173, 6110,   1080.9,     1070,   3.0608,  34.3951,2,     29.7,2,  34.3920,4,    29.88,2,   139.55,2,    43.19,2,     0.00,2,    3.070,2,    0.147,3,    0.075,3,-216.1,2,-0.6,2,   2373.5,2,   2374.9,2,   7.3348,6,    25.00,     -999,9,     -999,9,   3.0607,2
  49UP20110515,   P13,    66,  1,     22,      95,2,20110712,1439,1623, 34.0370, 165.0173, 6110,   1283.4,     1270,   2.6962,  34.4645,2,     32.0,2,  34.4638,2,    31.50,6,   150.58,2,    43.48,2,     0.00,2,    3.080,2,    0.013,3,    0.021,3,-233.4,2,-0.5,2,   2383.9,2,   2387.9,2,   7.3475,2,    25.00,     -999,9,     -999,9,   2.6960,2
  49UP20110515,   P13,    66,  1,     21,      94,2,20110712,1439,1618, 34.0370, 165.0173, 6110,   1487.1,     1471,   2.3488,  34.5237,2,     43.0,2,  34.5235,2,    42.54,2,   159.14,2,    42.96,2,     0.00,2,    3.030,2,    0.000,3,    0.007,3,-243.1,2,-0.5,2,   2384.8,2,   2400.8,2,   7.3690,2,    25.00,     -999,9,     -999,9,   2.3476,2
  49UP20110515,   P13,    66,  1,     20,      93,2,20110712,1439,1613, 34.0370, 165.0173, 6110,   1691.9,     1673,   2.1172,  34.5619,2,     56.2,2,  34.5631,2,    55.91,2,   163.34,2,    42.20,2,     0.00,2,    2.970,2,    0.000,3,    0.004,3,-999,9,-999,9,   2380.3,2,   2406.7,2,   7.3948,2,    25.00,     -999,9,     -999,9,   2.1171,2
  49UP20110515,   P13,    66,  1,     19,      92,2,20110712,1439,1607, 34.0370, 165.0173, 6110,   1893.6,     1872,   1.9462,  34.5914,2,     69.8,2,  34.5892,4,    69.65,2,   165.46,2,    41.40,2,     0.00,2,    2.900,2,    0.000,3,    0.000,3,-246.9,2,-0.3,2,   2374.7,2,   2410.2,2,   7.4185,2,    25.00,     -999,9,     -999,9,   1.9464,2
  49UP20110515,   P13,    66,  1,     18,      91,2,20110712,1439,1603, 34.0370, 165.0173, 6110,   2097.4,     2072,   1.8179,  34.6142,2,     84.0,2,  34.6157,2,    84.08,2,   164.77,6,    40.52,6,     0.00,6,    2.840,6,    0.000,3,    0.005,3,-999,9,-999,9,   2364.8,2,   2413.6,2,   7.4510,2,    25.00,     -999,9,     -999,9,   1.8178,2
  49UP20110515,   P13,    66,  1,     17,      90,2,20110712,1439,1558, 34.0370, 165.0173, 6110,   2300.1,     2271,   1.7112,  34.6323,2,     98.5,2,  34.6328,2,    98.55,2,   163.01,2,    39.62,2,     0.00,2,    2.770,2,    0.000,3,    0.000,3,-244.3,2,-0.1,2,   2361.7,2,   2415.6,2,   7.4732,2,    25.00,     -999,9,     -999,9,   1.7112,2
  49UP20110515,   P13,    66,  1,     16,      89,2,20110712,1439,1553, 34.0370, 165.0173, 6110,   2503.2,     2471,   1.6420,  34.6448,2,    109.7,2,  34.6459,2,   109.44,2,   161.13,2,    38.91,2,     0.00,2,    2.720,2,    0.000,3,    0.004,3,-999,9,-999,9,   2357.1,2,   2416.4,2,   7.5000,2,    25.00,     -999,9,     -999,9,   1.6420,2
  49UP20110515,   P13,    66,  1,     15,      88,2,20110712,1439,1548, 34.0370, 165.0173, 6110,   2709.0,     2672,   1.5865,  34.6544,2,    118.8,2,  34.6555,2,   118.87,6,   159.25,2,    38.28,2,     0.00,2,    2.660,2,    0.003,3,    0.010,3,-237.2,2,-0.1,2,   2346.9,2,   2416.0,2,   7.5176,2,    25.00,     -999,9,     -999,9,   1.5864,2
  49UP20110515,   P13,    66,  1,     14,      87,2,20110712,1439,1543, 34.0370, 165.0173, 6110,   2911.9,     2871,   1.5500,  34.6617,2,    126.4,2,  34.6626,2,   126.83,2,   157.26,2,    37.80,2,     0.00,2,    2.630,2,    0.000,3,    0.000,3,-999,9,-999,9,   2342.4,2,   2417.8,2,   7.5297,2,    25.00,     -999,9,     -999,9,   1.5500,2
  49UP20110515,   P13,    66,  1,     13,      86,2,20110712,1439,1538, 34.0370, 165.0173, 6110,   3127.4,     3082,   1.5259,  34.6674,2,    132.8,2,  34.6677,2,   132.88,2,   155.05,2,    37.38,2,     0.00,2,    2.610,2,     -999,9,     -999,9,-235.0,2,0.0,2,   2341.0,6,   2416.7,6,   7.5410,2,    25.00,     -999,9,     -999,9,   1.5257,2
  49UP20110515,   P13,    66,  1,     12,      85,2,20110712,1439,1533, 34.0370, 165.0173, 6110,   3382.8,     3332,   1.4987,  34.6732,2,    139.2,2,  34.6734,2,   138.83,2,   153.61,2,    36.97,2,     0.00,2,    2.570,2,     -999,9,     -999,9,-999,9,-999,9,   2336.1,2,   2415.6,2,   7.5504,6,    25.00,     -999,9,     -999,9,   1.4985,2
  49UP20110515,   P13,    66,  1,     11,     110,2,20110712,1439,1528, 34.0370, 165.0173, 6110,   3638.8,     3582,   1.4833,  34.6771,2,    143.3,2,  34.6762,2,   143.30,2,   152.77,2,    36.72,2,     0.00,2,    2.550,2,     -999,9,     -999,9,-230.4,2,0.1,2,   2328.9,3,   2415.2,2,   7.5602,2,    25.00,     -999,9,     -999,9,   1.4834,2
  49UP20110515,   P13,    66,  1,     10,      83,2,20110712,1439,1523, 34.0370, 165.0173, 6110,   3894.5,     3832,   1.4736,  34.6811,2,    148.4,2,  34.6812,2,   148.27,2,   150.62,2,    36.35,2,     0.00,2,    2.530,2,    0.000,3,    0.000,3,-999,9,-999,9,   2330.7,2,   2414.1,2,   7.5670,2,    25.00,     -999,9,     -999,9,   1.4736,2
  49UP20110515,   P13,    66,  1,      9,      82,2,20110712,1439,1518, 34.0370, 165.0173, 6110,   4151.6,     4082,   1.4712,  34.6841,2,    152.4,2,  34.6838,2,   152.17,2,   149.30,2,    36.12,2,     0.00,2,    2.500,2,     -999,9,     -999,9,-221.7,2,0.1,2,   2325.7,2,   2413.0,2,   7.5746,2,    25.00,     -999,9,     -999,9,   1.4712,2
  49UP20110515,   P13,    66,  1,      8,      81,2,20110712,1439,1512, 34.0370, 165.0173, 6110,   4407.9,     4332,   1.4747,  34.6867,2,    156.0,2,  34.6869,2,   155.67,2,   147.86,2,    35.86,2,     0.00,2,    2.490,2,     -999,9,     -999,9,-999,9,-999,9,   2323.7,2,   2412.8,2,   7.5790,2,    25.00,     -999,9,     -999,9,   1.4749,2
  49UP20110515,   P13,    66,  1,      7,      80,2,20110712,1439,1508, 34.0370, 165.0173, 6110,   4664.9,     4581,   1.4822,  34.6888,2,    159.5,2,  34.6887,2,   160.19,4,   145.45,2,    35.51,2,     0.00,2,    2.480,2,     -999,9,     -999,9,-999,9,-999,9,   2321.5,2,   2412.2,2,   7.5837,2,    25.00,     -999,9,     -999,9,   1.4822,2
  49UP20110515,   P13,    66,  1,      6,      79,2,20110712,1439,1502, 34.0370, 165.0173, 6110,   4921.8,     4831,   1.4923,  34.6908,2,    162.9,2,  34.6912,2,   162.76,2,   143.84,2,    35.32,2,     0.00,2,    2.450,2,    0.000,3,    0.000,3,-999,9,-999,9,   2316.6,2,   2407.8,2,   7.5871,2,    25.00,     -999,9,     -999,9,   1.4924,2
  49UP20110515,   P13,    66,  1,      5,      78,2,20110712,1439,1458, 34.0370, 165.0173, 6110,   5179.4,     5081,   1.5029,  34.6927,2,    166.3,2,  34.6931,2,   166.10,2,   140.83,2,    35.13,2,     0.00,2,    2.430,2,     -999,9,     -999,9,-212.8,2,0.2,2,   2311.9,2,   2406.8,2,   7.5872,2,    25.00,     -999,9,     -999,9,   1.5030,2
  49UP20110515,   P13,    66,  1,      4,      77,2,20110712,1439,1453, 34.0370, 165.0173, 6110,   5436.8,     5330,   1.5173,  34.6941,2,    169.3,2,  34.6950,2,   169.16,2,   138.77,2,    34.92,2,     0.00,2,    2.420,2,     -999,9,     -999,9,-999,9,-999,9,   2310.7,2,   2404.4,2,   7.5935,2,    25.00,     -999,9,     -999,9,   1.5172,2
  49UP20110515,   P13,    66,  1,      3,      76,2,20110712,1439,1449, 34.0370, 165.0173, 6110,   5695.2,     5581,   1.5338,  34.6956,2,    171.7,2,  34.6960,2,   171.82,6,   137.47,2,    34.75,2,     0.00,2,    2.400,2,     -999,9,     -999,9,-999,9,-999,9,   2305.9,2,   2402.4,2,   7.5974,2,    25.00,     -999,9,     -999,9,   1.5338,2
  49UP20110515,   P13,    66,  1,      2,      75,2,20110712,1439,1444, 34.0370, 165.0173, 6110,   5950.6,     5828,   1.5571,  34.6962,2,    173.1,2,  34.6981,4,   173.20,2,   135.93,2,    34.63,2,     0.00,2,    2.400,2,    0.000,3,    0.000,3,-999,9,-999,9,   2304.5,2,   2401.2,2,   7.5948,2,    25.00,     -999,9,     -999,9,   1.5570,2
  49UP20110515,   P13,    66,  1,      1,      74,2,20110712,1439,1440, 34.0370, 165.0173, 6110,   6125.8,     5997,   1.5761,  34.6966,2,    174.0,2,  34.6972,2,   173.55,2,   135.87,6,    34.64,6,     0.00,6,    2.390,6,     -999,9,     -999,9,-202.6,2,0.3,2,   2303.3,2,   2402.0,2,   7.5867,2,    25.00,     -999,9,     -999,9,   1.5759,2