BOTTLE,20240116CCHSIOVAJ
EXPOCODE,SECT_ID,STNNBR,CASTNO,SAMPNO,BTLNBR,BTLNBR_FLAG_W,DATE,TIME,BTL_TIME,LATITUDE,LONGITUDE,DEPTH,CTDPRS,CTDDEPTH,CTDTMP,CTDSAL,CTDSAL_FLAG_W,CTDOXY,CTDOXY_FLAG_W,SALNTY,SALNTY_FLAG_W,OXYGEN,OXYGEN_FLAG_W,SILCAT,SILCAT_FLAG_W,NO2+NO3,NO2+NO3_FLAG_W,NITRIT,NITRIT_FLAG_W,PHSPHT,PHSPHT_FLAG_W,CFC-11,CFC-11_FLAG_W,CFC-12,CFC-12_FLAG_W,DELC14,DELC14_FLAG_W,DELC13,DELC13_FLAG_W,TCARBN,TCARBN_FLAG_W,ALKALI,ALKALI_FLAG_W,PH_TOT,PH_TOT_FLAG_W,PH_TMP,CHLORA,CHLORA_FLAG_W,PPHYTN,PPHYTN_FLAG_W,REFTMP,REFTMP_FLAG_W
,,,,,,,,,,,,METERS,DBAR,METERS,ITS-90,PSS-78,,UMOL/KG,,PSS-78,,UMOL/KG,,UMOL/KG,,UMOL/KG,,UMOL/KG,,UMOL/KG,,PMOL/KG,,PMOL/KG,,/MILLE,,/MILLE,,UMOL/KG,,UMOL/KG,,,,DEG C,UG/KG,,UG/KG,,ITS-90,
  49UP20110515,   P13,    73,  1,      0,     BUC,2,20110715,0756,1000, 27.9852, 165.0077, 5650,      0.0,        0,  28.4191,  35.2715,2,    201.0,2,     -999,9,   198.94,2,     1.41,2,     0.03,2,     0.00,2,    0.030,2,     -999,9,     -999,9,-999,9,-999,9,     -999,9,     -999,9,     -999,9,     -999,     0.05,2,     0.01,2,     -999,9
  49UP20110515,   P13,    73,  1,     36,     109,2,20110715,0756,1015, 27.9852, 165.0077, 5650,     11.3,       11,  27.5633,  35.3022,2,    203.3,2,  35.3040,2,   203.56,2,     1.28,2,     0.03,2,     0.00,2,    0.020,2,    1.812,3,    1.150,2,-999,9,-999,9,   1995.8,2,   2316.9,2,   8.0701,2,    25.00,     0.03,2,     0.01,2,  27.5658,2
  49UP20110515,   P13,    73,  1,     35,     108,2,20110715,0756,1012, 27.9852, 165.0077, 5650,     50.3,       50,  20.5784,  34.9210,2,    242.1,2,  34.9629,4,   239.70,2,     1.81,2,     0.01,2,     0.00,2,    0.030,2,    2.450,3,    1.430,2,-999,9,-999,9,   1997.5,2,   2294.0,2,   8.0408,2,    25.00,     0.07,2,     0.02,2,  20.5845,2
  49UP20110515,   P13,    73,  1,     34,     107,2,20110715,0756,1010, 27.9852, 165.0077, 5650,     98.7,       98,  18.1872,  34.7308,2,    238.0,2,  34.7276,6,   236.86,2,     2.29,6,     0.05,6,     0.00,6,    0.070,6,    2.496,3,    1.530,2,-999,9,-999,9,   2006.4,2,   2277.6,2,   8.0004,2,    25.00,     0.24,2,     0.20,2,  18.1805,2
  49UP20110515,   P13,    73,  1,     33,     106,2,20110715,0756,1008, 27.9852, 165.0077, 5650,    150.5,      149,  16.9694,  34.6568,2,    218.1,2,  34.6599,2,   217.66,2,     4.03,2,     4.10,2,     0.02,2,    0.290,2,    2.482,3,    1.571,2,-999,9,-999,9,   2027.6,6,   2275.7,6,   7.9593,2,    25.00,     0.05,2,     0.04,2,  16.9535,2
  49UP20110515,   P13,    73,  1,     32,     105,2,20110715,0756,1006, 27.9852, 165.0077, 5650,    204.7,      203,  16.4959,  34.6458,2,    215.5,2,  34.6462,2,   216.25,2,     4.81,2,     4.97,2,     0.01,2,    0.350,2,    2.484,3,    1.574,2,-999,9,-999,9,   2034.1,2,   2274.2,2,   7.9384,2,    25.00,     0.00,2,     0.02,2,  16.5033,2
  49UP20110515,   P13,    73,  1,     31,     104,2,20110715,0756,1004, 27.9852, 165.0077, 5650,    250.9,      249,  15.8104,  34.5937,2,    205.9,2,  34.5899,2,   205.30,2,     7.21,2,     7.21,2,     0.01,2,    0.500,2,    2.533,3,    1.611,6,-999,9,-999,9,   2049.8,2,   2272.8,2,   7.9115,2,    25.00,     -999,9,     -999,9,  15.8090,2
  49UP20110515,   P13,    73,  1,     30,     103,3,20110715,0756,1002, 27.9852, 165.0077, 5650,    285.2,      283,  15.1811,  34.5528,2,    203.9,2,  34.5566,2,   203.33,2,     8.31,6,     8.12,6,     0.01,6,    0.560,6,    2.664,3,    1.637,2,-999,9,-999,9,   2056.0,2,   2272.2,2,   7.8958,2,    25.00,     -999,9,     -999,9,  15.1850,2
  49UP20110515,   P13,    73,  1,     29,     102,2,20110715,0756,1000, 27.9852, 165.0077, 5650,    374.1,      371,  13.4593,  34.4468,2,    196.3,2,  34.4458,2,   196.10,6,    13.47,2,    11.65,2,     0.00,2,    0.810,2,    2.804,3,    1.677,2,-999,9,-999,9,   2082.1,2,   2271.5,2,   7.8316,2,    25.00,     -999,9,     -999,9,  13.4597,2
  49UP20110515,   P13,    73,  1,     28,     101,2,20110715,0756,0957, 27.9852, 165.0077, 5650,    473.7,      470,  10.7357,  34.2519,2,    192.9,2,  34.2506,2,   193.87,2,    21.86,2,    16.51,2,     0.00,2,    1.150,2,    2.981,3,    1.769,2,-999,9,-999,9,   2129.7,2,   2267.7,2,   7.7536,2,    25.00,     -999,9,     -999,9,  10.7229,2
  49UP20110515,   P13,    73,  1,     27,     100,2,20110715,0756,0954, 27.9852, 165.0077, 5650,    574.5,      570,   7.8736,  34.0756,2,    160.8,2,  34.0740,2,   159.36,2,    41.63,2,    24.94,2,     0.00,2,    1.780,2,    2.644,3,    1.511,6,-999,9,-999,9,   2180.7,2,   2275.8,2,   7.6096,2,    25.00,     -999,9,     -999,9,   7.8745,2
  49UP20110515,   P13,    73,  1,     26,      99,2,20110715,0756,0951, 27.9852, 165.0077, 5650,    676.3,      671,   5.8653,  34.0424,2,    114.7,2,  34.0422,2,   114.92,2,    66.14,2,    32.50,2,     0.00,2,    2.340,2,    1.956,3,    1.076,2,-999,9,-999,9,   2242.5,2,   2294.1,2,   7.4832,2,    25.00,     -999,9,     -999,9,   5.8680,2
  49UP20110515,   P13,    73,  1,     25,      98,2,20110715,0756,0948, 27.9852, 165.0077, 5650,    777.8,      771,   4.7966,  34.1209,2,     73.3,2,  34.1221,6,    72.08,2,    89.56,2,    38.01,2,     0.00,2,    2.730,2,    1.141,3,    0.586,2,-999,9,-999,9,   2294.9,2,   2316.3,2,   7.3991,2,    25.00,     -999,9,     -999,9,   4.7975,2
  49UP20110515,   P13,    73,  1,     24,      97,2,20110715,0756,0945, 27.9852, 165.0077, 5650,    878.0,      870,   4.2607,  34.1958,2,     52.2,2,  34.1962,2,    52.08,2,   104.09,6,    40.44,6,     0.00,6,    2.900,6,    0.699,3,    0.350,2,-999,9,-999,9,   2321.5,6,   2332.5,6,   7.3764,2,    25.00,     -999,9,     -999,9,   4.2608,2
  49UP20110515,   P13,    73,  1,     23,      96,2,20110715,0756,0943, 27.9852, 165.0077, 5650,    978.8,      970,   3.7519,  34.2834,2,     38.3,2,  34.2830,2,    38.46,2,   118.28,2,    42.13,2,     0.00,2,    3.010,2,    0.319,3,    0.170,2,-999,9,-999,9,   2344.9,2,   2352.0,2,   7.3440,6,    25.00,     -999,9,     -999,9,   3.7519,2
  49UP20110515,   P13,    73,  1,     22,      95,2,20110715,0756,0938, 27.9852, 165.0077, 5650,   1141.8,     1131,   3.2413,  34.3827,2,     32.7,2,  34.3837,2,    32.21,6,   133.95,2,    43.19,2,     0.00,2,    3.080,2,    0.112,3,    0.045,2,-999,9,-999,9,   2375.0,2,   2371.9,2,   7.3426,2,    25.00,     -999,9,     -999,9,   3.2417,2
  49UP20110515,   P13,    73,  1,     21,      94,2,20110715,0756,0934, 27.9852, 165.0077, 5650,   1344.4,     1331,   2.7259,  34.4740,2,     37.0,2,  34.4744,2,    36.66,2,   148.41,2,    43.45,2,     0.00,2,    3.090,2,    0.000,3,    0.000,2,-999,9,-999,9,   2379.0,2,   2389.5,2,   7.3600,2,    25.00,     -999,9,     -999,9,   2.7261,2
  49UP20110515,   P13,    73,  1,     20,      93,2,20110715,0756,0929, 27.9852, 165.0077, 5650,   1547.9,     1532,   2.4137,  34.5288,2,     48.4,2,  34.5277,2,    47.66,2,   155.14,2,    42.84,2,     0.00,2,    3.040,2,    0.000,3,    0.000,2,-999,9,-999,9,   2383.5,2,   2400.3,2,   7.3837,2,    25.00,     -999,9,     -999,9,   2.4144,2
  49UP20110515,   P13,    73,  1,     19,      92,2,20110715,0756,0924, 27.9852, 165.0077, 5650,   1750.3,     1731,   2.1528,  34.5731,2,     67.3,2,  34.5713,4,    66.83,2,   157.29,2,    41.67,2,     0.00,2,    2.940,2,    0.000,3,    0.000,2,-999,9,-999,9,   2374.5,2,   2405.8,2,   7.4235,2,    25.00,     -999,9,     -999,9,   2.1525,2
  49UP20110515,   P13,    73,  1,     18,      91,2,20110715,0756,0920, 27.9852, 165.0077, 5650,   1953.4,     1931,   1.9740,  34.6063,2,     88.4,2,  34.6059,6,    88.07,2,   155.97,2,    40.46,2,     0.00,2,    2.840,2,    0.001,3,    0.000,2,-999,9,-999,9,   2360.8,2,   2411.0,2,   7.4637,2,    25.00,     -999,9,     -999,9,   1.9742,2
  49UP20110515,   P13,    73,  1,     17,      90,2,20110715,0756,0915, 27.9852, 165.0077, 5650,   2155.2,     2130,   1.8299,  34.6263,2,    101.1,2,  34.6265,2,   100.58,6,   156.06,2,    39.71,2,     0.00,2,    2.770,2,    0.000,3,    0.000,2,-999,9,-999,9,   2357.0,2,   2409.6,3,   7.4857,2,    25.00,     -999,9,     -999,9,   1.8300,2
  49UP20110515,   P13,    73,  1,     16,      89,2,20110715,0756,0910, 27.9852, 165.0077, 5650,   2360.6,     2332,   1.7444,  34.6384,2,    109.4,2,  34.6381,2,   110.44,2,   155.94,2,    39.13,2,     0.00,2,    2.770,2,    0.000,3,    0.000,2,-999,9,-999,9,   2351.3,2,   2417.1,2,   7.5049,2,    25.00,     -999,9,     -999,9,   1.7446,2
  49UP20110515,   P13,    73,  1,     15,      88,2,20110715,0756,0905, 27.9852, 165.0077, 5650,   2563.2,     2531,   1.6750,  34.6491,2,    118.3,2,  34.6494,2,   118.01,2,   154.49,2,    38.59,2,     0.00,2,    2.690,2,    0.000,3,    0.000,2,-999,9,-999,9,   2347.7,2,   2415.8,2,   7.5168,2,    25.00,     -999,9,     -999,9,   1.6750,2
  49UP20110515,   P13,    73,  1,     14,      87,2,20110715,0756,0901, 27.9852, 165.0077, 5650,   2767.7,     2731,   1.6178,  34.6571,2,    124.6,2,  34.6570,2,   123.95,2,   154.08,2,    38.20,2,     0.00,2,    2.660,2,     -999,9,     -999,9,-999,9,-999,9,   2347.4,2,   2416.9,2,   7.5297,2,    25.00,     -999,9,     -999,9,   1.6178,2
  49UP20110515,   P13,    73,  1,     13,      86,2,20110715,0756,0856, 27.9852, 165.0077, 5650,   2972.4,     2932,   1.5757,  34.6633,2,    130.1,2,  34.6641,2,   129.93,2,   153.56,2,    37.85,2,     0.00,2,    2.630,2,     -999,9,     -999,9,-999,9,-999,9,   2340.9,2,   2418.1,2,   7.5383,2,    25.00,     -999,9,     -999,9,   1.5757,2
  49UP20110515,   P13,    73,  1,     12,      85,2,20110715,0756,0851, 27.9852, 165.0077, 5650,   3217.1,     3172,   1.5399,  34.6692,2,    135.8,2,  34.6689,2,   136.61,2,   152.69,2,    37.51,2,     0.00,2,    2.600,2,     -999,9,     -999,9,-999,9,-999,9,   2337.2,2,   2414.2,3,   7.5497,2,    25.00,     -999,9,     -999,9,   1.5399,2
  49UP20110515,   P13,    73,  1,     11,     110,2,20110715,0756,0846, 27.9852, 165.0077, 5650,   3472.9,     3422,   1.5080,  34.6748,2,    141.8,2,  34.6748,2,   141.18,2,   151.16,2,    37.02,2,     0.00,2,    2.570,2,    0.000,3,    0.000,2,-999,9,-999,9,   2333.2,6,   2416.0,2,   7.5568,2,    25.00,     -999,9,     -999,9,   1.5080,2
  49UP20110515,   P13,    73,  1,     10,      83,3,20110715,0756,0841, 27.9852, 165.0077, 5650,   3728.2,     3671,   1.4903,  34.6791,2,    146.7,2,  34.6797,2,   146.51,2,   149.42,2,    36.66,2,     0.00,2,    2.540,2,     -999,9,     -999,9,-999,9,-999,9,   2341.2,3,   2416.4,2,   7.5648,2,    25.00,     -999,9,     -999,9,   1.4904,2
  49UP20110515,   P13,    73,  1,      9,      82,2,20110715,0756,0835, 27.9852, 165.0077, 5650,   3985.3,     3922,   1.4772,  34.6825,2,    151.3,2,  34.6828,2,   151.09,2,   147.97,2,    36.38,2,     0.00,2,    2.520,2,     -999,9,     -999,9,-999,9,-999,9,   2326.1,2,   2414.3,2,   7.5719,2,    25.00,     -999,9,     -999,9,   1.4772,2
  49UP20110515,   P13,    73,  1,      8,      81,2,20110715,0756,0830, 27.9852, 165.0077, 5650,   4241.6,     4172,   1.4660,  34.6861,2,    156.1,2,  34.6852,2,   156.49,2,   146.12,2,    36.07,2,     0.00,2,    2.490,2,     -999,9,     -999,9,-999,9,-999,9,   2321.5,2,   2413.3,2,   7.5746,2,    25.00,     -999,9,     -999,9,   1.4660,2
  49UP20110515,   P13,    73,  1,      7,      80,2,20110715,0756,0824, 27.9852, 165.0077, 5650,   4496.6,     4420,   1.4678,  34.6884,2,    159.9,2,  34.6867,4,   158.96,2,   144.30,2,    35.84,2,     0.00,2,    2.480,2,    0.000,3,    0.000,2,-999,9,-999,9,   2317.9,2,   2408.8,2,   7.5849,2,    25.00,     -999,9,     -999,9,   1.4678,2
  49UP20110515,   P13,    73,  1,      6,      79,2,20110715,0756,0819, 27.9852, 165.0077, 5650,   4753.6,     4670,   1.4640,  34.6914,2,    164.9,2,  34.6914,6,   164.90,2,   141.18,2,    35.43,2,     0.00,2,    2.440,2,     -999,9,     -999,9,-999,9,-999,9,   2312.9,2,   2408.1,2,   7.5915,2,    25.00,     -999,9,     -999,9,   1.4641,2
  49UP20110515,   P13,    73,  1,      5,      78,2,20110715,0756,0813, 27.9852, 165.0077, 5650,   5010.8,     4920,   1.4734,  34.6934,2,    168.2,2,  34.6933,2,   167.62,6,   139.13,6,    35.20,6,     0.00,6,    2.430,6,     -999,9,     -999,9,-999,9,-999,9,   2308.1,2,   2407.2,2,   7.5939,2,    25.00,     -999,9,     -999,9,   1.4735,2
  49UP20110515,   P13,    73,  1,      4,      77,2,20110715,0756,0807, 27.9852, 165.0077, 5650,   5270.3,     5172,   1.4868,  34.6950,2,    170.9,2,  34.6958,2,   170.65,2,   137.27,2,    34.97,2,     0.00,2,    2.420,2,     -999,9,     -999,9,-999,9,-999,9,   2306.6,2,   2402.1,2,   7.5959,2,    25.00,     -999,9,     -999,9,   1.4869,2
  49UP20110515,   P13,    73,  1,      3,      76,2,20110715,0756,0802, 27.9852, 165.0077, 5650,   5528.4,     5422,   1.4982,  34.6963,2,    173.8,2,  34.6964,2,   173.77,2,   135.33,2,    34.80,2,     0.00,2,    2.400,2,    0.000,3,    0.000,2,-999,9,-999,9,   2302.8,2,   2400.7,2,   7.5949,2,    25.00,     -999,9,     -999,9,   1.4982,2
  49UP20110515,   P13,    73,  1,      2,      75,2,20110715,0756,0756, 27.9852, 165.0077, 5650,   5737.6,     5624,   1.5025,  34.6980,2,    177.0,2,  34.6987,2,   176.68,2,   133.54,2,    34.63,2,     0.00,2,    2.390,2,     -999,9,     -999,9,-999,9,-999,9,   2301.6,2,   2397.7,2,   7.5995,3,    25.00,     -999,9,     -999,9,   1.5025,2
  49UP20110515,   P13,    73,  1,      1,      74,2,20110715,0756,0756, 27.9852, 165.0077, 5650,   5738.1,     5625,   1.5026,  34.6979,2,    177.0,2,  34.6936,4,   172.47,3,   135.29,3,    34.85,3,     0.00,3,    2.400,3,     -999,9,     -999,9,-999,9,-999,9,   2305.2,3,   2398.2,2,   7.5967,2,    25.00,     -999,9,     -999,9,   1.5026,2