BOTTLE,20240116CCHSIOVAJ
EXPOCODE,SECT_ID,STNNBR,CASTNO,SAMPNO,BTLNBR,BTLNBR_FLAG_W,DATE,TIME,BTL_TIME,LATITUDE,LONGITUDE,DEPTH,CTDPRS,CTDDEPTH,CTDTMP,CTDSAL,CTDSAL_FLAG_W,CTDOXY,CTDOXY_FLAG_W,SALNTY,SALNTY_FLAG_W,OXYGEN,OXYGEN_FLAG_W,SILCAT,SILCAT_FLAG_W,NO2+NO3,NO2+NO3_FLAG_W,NITRIT,NITRIT_FLAG_W,PHSPHT,PHSPHT_FLAG_W,CFC-11,CFC-11_FLAG_W,CFC-12,CFC-12_FLAG_W,DELC14,DELC14_FLAG_W,DELC13,DELC13_FLAG_W,TCARBN,TCARBN_FLAG_W,ALKALI,ALKALI_FLAG_W,PH_TOT,PH_TOT_FLAG_W,PH_TMP,CHLORA,CHLORA_FLAG_W,PPHYTN,PPHYTN_FLAG_W,REFTMP,REFTMP_FLAG_W
,,,,,,,,,,,,METERS,DBAR,METERS,ITS-90,PSS-78,,UMOL/KG,,PSS-78,,UMOL/KG,,UMOL/KG,,UMOL/KG,,UMOL/KG,,UMOL/KG,,PMOL/KG,,PMOL/KG,,/MILLE,,/MILLE,,UMOL/KG,,UMOL/KG,,,,DEG C,UG/KG,,UG/KG,,ITS-90,
  49UP20110515,   P13,   134,  1,      0,     BUC,2,20110810,2259,0018, -2.3452, 165.0138, 3641,      0.0,        0,  29.8719,  34.3230,2,    195.4,2,     -999,9,   194.33,2,     0.82,2,     0.00,2,     0.00,2,    0.110,2,     -999,9,     -999,9,-999,9,-999,9,     -999,9,     -999,9,     -999,9,     -999,     -999,9,     -999,9,     -999,9
  49UP20110515,   P13,   134,  1,     36,     109,2,20110810,2259,0040, -2.3452, 165.0138, 3641,     11.1,       11,  29.8486,  34.3220,2,    195.4,2,  34.3214,2,   194.98,2,     1.03,2,     0.01,2,     0.00,2,    0.110,2,     -999,9,     -999,9,-999,9,-999,9,   1908.9,2,   2250.7,2,     -999,9,     -999,     -999,9,     -999,9,  29.8485,2
  49UP20110515,   P13,   134,  1,     35,     108,2,20110810,2259,0038, -2.3452, 165.0138, 3641,     26.3,       26,  29.8560,  34.6322,2,    197.0,2,  34.6509,4,   196.20,2,     1.12,2,     0.00,2,     0.00,2,    0.140,2,     -999,9,     -999,9,-999,9,-999,9,   1933.6,2,   2273.3,2,     -999,9,     -999,     -999,9,     -999,9,  29.8579,2
  49UP20110515,   P13,   134,  1,     34,     107,2,20110810,2259,0034, -2.3452, 165.0138, 3641,     50.1,       50,  29.4419,  35.2723,2,    199.9,2,  35.2709,2,   199.71,2,     1.26,2,     0.64,2,     0.05,2,    0.250,2,     -999,9,     -999,9,-999,9,-999,9,   1982.4,2,   2316.4,2,     -999,9,     -999,     -999,9,     -999,9,  29.4420,2
  49UP20110515,   P13,   134,  1,     33,     106,2,20110810,2259,0033, -2.3452, 165.0138, 3641,     75.9,       75,  29.1533,  35.3199,2,    193.8,2,  35.3181,2,   193.67,2,     1.32,2,     1.20,2,     0.10,2,    0.310,2,     -999,9,     -999,9,-999,9,-999,9,   1995.8,2,   2319.9,2,     -999,9,     -999,     -999,9,     -999,9,  29.1552,2
  49UP20110515,   P13,   134,  1,     32,     105,2,20110810,2259,0031, -2.3452, 165.0138, 3641,    101.1,      101,  29.1622,  35.3230,2,    192.2,2,  35.3254,2,   192.56,6,     1.30,2,     1.25,2,     0.12,2,    0.320,2,     -999,9,     -999,9,-999,9,-999,9,   1998.8,2,   2320.2,2,     -999,9,     -999,     -999,9,     -999,9,  29.1616,2
  49UP20110515,   P13,   134,  1,     31,     104,2,20110810,2259,0030, -2.3452, 165.0138, 3641,    127.0,      126,  28.2426,  35.6575,2,    176.3,2,  35.6532,2,   177.51,2,     1.48,2,     4.84,2,     2.27,2,    0.530,2,     -999,9,     -999,9,-999,9,-999,9,   2035.6,2,   2341.9,2,     -999,9,     -999,     -999,9,     -999,9,  28.2421,2
  49UP20110515,   P13,   134,  1,     30,     103,2,20110810,2259,0029, -2.3452, 165.0138, 3641,    151.6,      151,  26.8637,  35.5779,2,    168.0,2,  35.5821,2,   168.91,2,     1.70,2,     7.25,2,     0.05,4,    0.670,2,     -999,9,     -999,9,-999,9,-999,9,   2055.5,2,   2337.5,2,     -999,9,     -999,     -999,9,     -999,9,  26.8748,2
  49UP20110515,   P13,   134,  1,     29,     102,2,20110810,2259,0027, -2.3452, 165.0138, 3641,    201.7,      200,  18.9446,  35.5540,2,    112.4,2,  35.5537,2,   112.26,2,     5.54,6,    14.53,6,     0.01,6,    1.190,6,     -999,9,     -999,9,-999,9,-999,9,   2146.3,2,   2339.1,2,     -999,9,     -999,     -999,9,     -999,9,  18.9405,2
  49UP20110515,   P13,   134,  1,     28,     101,2,20110810,2259,0025, -2.3452, 165.0138, 3641,    252.7,      251,  12.2490,  34.9260,2,    120.1,2,  34.9215,2,   119.97,2,    14.89,2,    22.19,2,     0.00,2,    1.620,2,     -999,9,     -999,9,-999,9,-999,9,   2177.5,2,   2307.1,2,     -999,9,     -999,     -999,9,     -999,9,  12.2592,2
  49UP20110515,   P13,   134,  1,     27,     100,2,20110810,2259,0024, -2.3452, 165.0138, 3641,    282.4,      281,  10.9673,  34.8136,2,    124.9,2,  34.8132,2,   124.83,2,    18.10,2,    23.85,2,     0.00,2,    1.700,2,     -999,9,     -999,9,-999,9,-999,9,   2179.9,2,   2302.8,2,     -999,9,     -999,     -999,9,     -999,9,  10.9685,2
  49UP20110515,   P13,   134,  1,     26,      99,2,20110810,2259,0022, -2.3452, 165.0138, 3641,    334.5,      332,   9.8204,  34.7279,2,    112.7,2,  34.7290,6,   112.39,2,    22.21,2,    27.34,2,     0.00,2,    1.900,2,     -999,9,     -999,9,-999,9,-999,9,   2197.5,2,   2300.6,2,     -999,9,     -999,     -999,9,     -999,9,   9.8112,2
  49UP20110515,   P13,   134,  1,     25,      98,2,20110810,2259,0020, -2.3452, 165.0138, 3641,    373.8,      371,   9.2308,  34.6834,2,    106.0,2,  34.6827,2,   105.57,6,    25.34,2,    29.39,2,     0.00,2,    2.030,2,     -999,9,     -999,9,-999,9,-999,9,   2210.9,2,   2301.0,2,     -999,9,     -999,     -999,9,     -999,9,   9.2326,2
  49UP20110515,   P13,   134,  1,     24,      97,2,20110810,2259,0019, -2.3452, 165.0138, 3641,    424.8,      422,   8.6195,  34.6462,2,     94.4,2,  34.6457,2,    93.63,2,    29.35,2,    31.90,2,     0.00,2,    2.200,2,     -999,9,     -999,9,-999,9,-999,9,   2224.3,2,   2303.2,2,     -999,9,     -999,     -999,9,     -999,9,   8.6223,2
  49UP20110515,   P13,   134,  1,     23,      96,2,20110810,2259,0017, -2.3452, 165.0138, 3641,    474.4,      471,   7.7267,  34.6018,2,     77.2,2,  34.5996,2,    77.85,2,    37.04,6,    35.48,6,     0.00,6,    2.450,6,     -999,9,     -999,9,-999,9,-999,9,   2238.1,2,   2306.3,2,     -999,9,     -999,     -999,9,     -999,9,   7.7277,2
  49UP20110515,   P13,   134,  1,     22,      95,2,20110810,2259,0014, -2.3452, 165.0138, 3641,    574.9,      571,   6.5204,  34.5541,2,     82.0,2,  34.5533,2,    81.61,2,    47.88,2,    37.47,2,     0.00,2,    2.610,2,     -999,9,     -999,9,-999,9,-999,9,   2257.7,2,   2313.4,2,     -999,9,     -999,     -999,9,     -999,9,   6.5206,2
  49UP20110515,   P13,   134,  1,     21,      94,2,20110810,2259,0011, -2.3452, 165.0138, 3641,    675.6,      671,   5.6679,  34.5184,2,    122.7,2,  34.5176,2,   122.70,2,    51.48,2,    34.67,2,     0.00,2,    2.430,2,     -999,9,     -999,9,-999,9,-999,9,   2237.7,3,   2319.0,2,     -999,9,     -999,     -999,9,     -999,9,   5.6681,2
  49UP20110515,   P13,   134,  1,     20,      93,2,20110810,2259,0011, -2.3452, 165.0138, 3641,    675.6,      671,   5.6679,  34.5184,2,    122.7,2,  34.5171,2,   123.84,3,    51.43,2,    34.66,2,     0.00,2,    2.420,2,     -999,9,     -999,9,-999,9,-999,9,   2243.8,3,   2320.1,2,     -999,9,     -999,     -999,9,     -999,9,   5.6681,2
  49UP20110515,   P13,   134,  1,     19,      92,2,20110810,2259,0008, -2.3452, 165.0138, 3641,    777.0,      771,   5.3123,  34.5291,2,    108.9,2,  34.5304,2,   108.67,2,    61.74,2,    36.38,2,     0.00,2,    2.540,2,     -999,9,     -999,9,-999,9,-999,9,   2262.2,2,   2329.9,2,     -999,9,     -999,     -999,9,     -999,9,   5.3124,2
  49UP20110515,   P13,   134,  1,     18,      91,2,20110810,2259,0006, -2.3452, 165.0138, 3641,    877.8,      871,   4.9477,  34.5405,2,     97.3,2,  34.5400,2,    97.25,2,    72.69,2,    37.86,2,     0.00,2,    2.660,2,     -999,9,     -999,9,-999,9,-999,9,   2275.5,2,   2340.1,2,     -999,9,     -999,     -999,9,     -999,9,   4.9485,2
  49UP20110515,   P13,   134,  1,     17,      90,2,20110810,2259,0002, -2.3452, 165.0138, 3641,    980.3,      973,   4.5997,  34.5369,2,    111.8,2,  34.5361,2,   111.83,2,    74.31,6,    36.98,6,     0.00,6,    2.590,6,     -999,9,     -999,9,-999,9,-999,9,     -999,9,     -999,9,     -999,9,     -999,     -999,9,     -999,9,   4.6005,2
  49UP20110515,   P13,   134,  1,     16,      89,2,20110810,2259,2358, -2.3452, 165.0138, 3641,   1140.7,     1131,   3.9914,  34.5571,2,    106.7,2,  34.5564,2,   107.12,2,    88.88,2,    37.97,2,     0.00,2,    2.670,2,     -999,9,     -999,9,-999,9,-999,9,     -999,9,     -999,9,     -999,9,     -999,     -999,9,     -999,9,   3.9919,2
  49UP20110515,   P13,   134,  1,     15,      88,2,20110810,2259,2353, -2.3452, 165.0138, 3641,   1342.9,     1331,   3.4535,  34.5801,2,    102.6,2,  34.5794,2,   102.52,2,   103.94,2,    38.84,2,     0.00,2,    2.730,2,     -999,9,     -999,9,-999,9,-999,9,     -999,9,     -999,9,     -999,9,     -999,     -999,9,     -999,9,   3.4530,2
  49UP20110515,   P13,   134,  1,     14,      87,2,20110810,2259,2348, -2.3452, 165.0138, 3641,   1544.8,     1531,   3.0133,  34.5991,2,    106.6,2,  34.6003,6,   106.53,2,   114.83,2,    38.67,2,     0.00,2,    2.710,2,     -999,9,     -999,9,-999,9,-999,9,     -999,9,     -999,9,     -999,9,     -999,     -999,9,     -999,9,   3.0133,2
  49UP20110515,   P13,   134,  1,     13,      86,2,20110810,2259,2344, -2.3452, 165.0138, 3641,   1748.3,     1731,   2.6168,  34.6178,2,    111.9,2,  34.6189,2,   111.84,2,   123.89,2,    38.45,2,     0.00,2,    2.690,2,     -999,9,     -999,9,-999,9,-999,9,     -999,9,     -999,9,     -999,9,     -999,     -999,9,     -999,9,   2.6168,2
  49UP20110515,   P13,   134,  1,     12,      74,2,20110810,2259,2340, -2.3452, 165.0138, 3641,   1950.6,     1931,   2.2761,  34.6360,2,    117.3,2,  34.6373,2,   117.47,2,   132.08,2,    38.33,2,     0.00,2,    2.670,2,     -999,9,     -999,9,-999,9,-999,9,     -999,9,     -999,9,     -999,9,     -999,     -999,9,     -999,9,   2.2762,2
  49UP20110515,   P13,   134,  1,     10,      83,2,20110810,2259,2334, -2.3452, 165.0138, 3641,   2155.0,     2132,   2.0714,  34.6471,2,    122.2,2,  34.6462,2,   122.18,2,   136.81,6,    38.02,6,     0.00,6,    2.640,6,     -999,9,     -999,9,-999,9,-999,9,     -999,9,     -999,9,     -999,9,     -999,     -999,9,     -999,9,   2.0716,2
  49UP20110515,   P13,   134,  1,     11,     110,2,20110810,2259,2334, -2.3452, 165.0138, 3641,   2155.7,     2133,   2.0682,  34.6471,2,    122.3,2,  34.6465,2,   121.96,2,   137.06,2,    38.00,2,     0.00,2,    2.650,2,     -999,9,     -999,9,-999,9,-999,9,     -999,9,     -999,9,     -999,9,     -999,     -999,9,     -999,9,   2.0668,2
  49UP20110515,   P13,   134,  1,      9,      82,2,20110810,2259,2330, -2.3452, 165.0138, 3641,   2357.4,     2331,   1.9623,  34.6531,2,    125.2,2,  34.6544,6,   125.16,2,   139.59,2,    37.84,2,     0.00,2,    2.620,2,     -999,9,     -999,9,-999,9,-999,9,     -999,9,     -999,9,     -999,9,     -999,     -999,9,     -999,9,   1.9621,2
  49UP20110515,   P13,   134,  1,      8,      81,2,20110810,2259,2325, -2.3452, 165.0138, 3641,   2561.6,     2532,   1.8271,  34.6601,2,    130.1,2,  34.6593,2,   130.06,6,   142.20,2,    37.56,2,     0.00,2,    2.600,2,     -999,9,     -999,9,-999,9,-999,9,     -999,9,     -999,9,     -999,9,     -999,     -999,9,     -999,9,   1.8269,2
  49UP20110515,   P13,   134,  1,      7,      80,2,20110810,2259,2320, -2.3452, 165.0138, 3641,   2764.9,     2732,   1.7149,  34.6662,2,    134.2,2,  34.6659,2,   133.98,2,   143.79,2,    37.26,2,     0.00,2,    2.580,2,     -999,9,     -999,9,-999,9,-999,9,     -999,9,     -999,9,     -999,9,     -999,     -999,9,     -999,9,   1.7147,2
  49UP20110515,   P13,   134,  1,      6,      79,2,20110810,2259,2316, -2.3452, 165.0138, 3641,   2969.0,     2932,   1.6456,  34.6706,2,    138.1,2,  34.6693,2,   137.91,2,   144.52,2,    37.10,2,     0.00,2,    2.560,2,     -999,9,     -999,9,-999,9,-999,9,     -999,9,     -999,9,     -999,9,     -999,     -999,9,     -999,9,   1.6455,2
  49UP20110515,   P13,   134,  1,      5,      78,3,20110810,2259,2316, -2.3452, 165.0138, 3641,   2969.0,     2932,   1.6456,  34.6706,2,    138.1,2,  34.6717,2,   137.79,2,   144.64,2,    37.05,2,     0.00,2,    2.550,2,     -999,9,     -999,9,-999,9,-999,9,     -999,9,     -999,9,     -999,9,     -999,     -999,9,     -999,9,   1.6455,2
  49UP20110515,   P13,   134,  1,      4,      77,2,20110810,2259,2310, -2.3452, 165.0138, 3641,   3213.1,     3171,   1.5943,  34.6743,2,    142.6,2,  34.6758,2,   142.58,2,   144.50,2,    36.76,2,     0.00,2,    2.530,2,     -999,9,     -999,9,-999,9,-999,9,     -999,9,     -999,9,     -999,9,     -999,     -999,9,     -999,9,   1.5939,2
  49UP20110515,   P13,   134,  1,      3,      76,2,20110810,2259,2305, -2.3452, 165.0138, 3641,   3468.1,     3421,   1.5119,  34.6811,2,    150.7,2,  34.6820,2,   150.57,6,   142.17,2,    36.23,2,     0.00,2,    2.480,2,     -999,9,     -999,9,-999,9,-999,9,     -999,9,     -999,9,     -999,9,     -999,     -999,9,     -999,9,   1.5118,2
  49UP20110515,   P13,   134,  1,      2,      75,2,20110810,2259,2259, -2.3452, 165.0138, 3641,   3733.6,     3681,   1.4598,  34.6864,2,    158.6,2,  34.6864,6,   158.59,2,   139.91,2,    35.71,2,     0.00,2,    2.450,2,     -999,9,     -999,9,-999,9,-999,9,     -999,9,     -999,9,     -999,9,     -999,     -999,9,     -999,9,   1.4596,2
  49UP20110515,   P13,   134,  1,      1,     112,2,20110810,2259,2259, -2.3452, 165.0138, 3641,   3733.6,     3681,   1.4598,  34.6864,2,    158.6,2,  34.6868,2,   158.19,2,   139.58,2,    35.76,2,     0.00,2,    2.450,2,     -999,9,     -999,9,-999,9,-999,9,     -999,9,     -999,9,     -999,9,     -999,     -999,9,     -999,9,   1.4596,2