BOTTLE,20240116CCHSIOVAJ
EXPOCODE,SECT_ID,STNNBR,CASTNO,SAMPNO,BTLNBR,BTLNBR_FLAG_W,DATE,TIME,BTL_TIME,LATITUDE,LONGITUDE,DEPTH,CTDPRS,CTDDEPTH,CTDTMP,CTDSAL,CTDSAL_FLAG_W,CTDOXY,CTDOXY_FLAG_W,SALNTY,SALNTY_FLAG_W,OXYGEN,OXYGEN_FLAG_W,SILCAT,SILCAT_FLAG_W,NO2+NO3,NO2+NO3_FLAG_W,NITRIT,NITRIT_FLAG_W,PHSPHT,PHSPHT_FLAG_W,CFC-11,CFC-11_FLAG_W,CFC-12,CFC-12_FLAG_W,DELC14,DELC14_FLAG_W,DELC13,DELC13_FLAG_W,TCARBN,TCARBN_FLAG_W,ALKALI,ALKALI_FLAG_W,PH_TOT,PH_TOT_FLAG_W,PH_TMP,CHLORA,CHLORA_FLAG_W,PPHYTN,PPHYTN_FLAG_W,REFTMP,REFTMP_FLAG_W
,,,,,,,,,,,,METERS,DBAR,METERS,ITS-90,PSS-78,,UMOL/KG,,PSS-78,,UMOL/KG,,UMOL/KG,,UMOL/KG,,UMOL/KG,,UMOL/KG,,PMOL/KG,,PMOL/KG,,/MILLE,,/MILLE,,UMOL/KG,,UMOL/KG,,,,DEG C,UG/KG,,UG/KG,,ITS-90,
  49UP20110515,   P13,    58,  1,      0,     BUC,2,20110710,0601,0800, 37.9917, 164.9962, 5413,      0.0,        0,  19.8438,  34.4709,2,    239.1,2,     -999,9,   238.47,2,     2.48,2,     0.00,2,     0.00,2,    0.070,2,     -999,9,     -999,9,-999,9,-999,9,     -999,9,     -999,9,     -999,9,     -999,     0.25,2,     0.03,2,     -999,9
  49UP20110515,   P13,    58,  1,     36,     109,2,20110710,0601,0819, 37.9917, 164.9962, 5413,     11.3,       11,  19.7895,  34.4654,2,    239.2,2,  34.4685,2,   240.13,2,     2.42,2,     0.00,2,     0.00,2,    0.040,2,    2.469,3,    1.555,2,-999,9,-999,9,   1997.3,2,   2271.3,6,   8.0105,2,    25.00,     0.20,2,     0.03,2,  19.7718,2
  49UP20110515,   P13,    58,  1,     35,     108,2,20110710,0601,0813, 37.9917, 164.9962, 5413,     49.6,       49,  15.7610,  34.4854,2,    230.7,2,  34.4861,2,   231.41,2,     5.04,2,     4.40,2,     0.85,2,    0.340,2,    2.692,3,    1.632,2,-999,9,-999,9,   2033.1,2,   2270.7,2,   7.9489,2,    25.00,     0.46,2,     0.21,2,  15.7551,2
  49UP20110515,   P13,    58,  1,     34,     107,2,20110710,0601,0811, 37.9917, 164.9962, 5413,    100.6,      100,  13.8892,  34.4583,2,    228.6,2,  34.4579,2,   229.15,2,     9.99,6,     8.02,6,     0.02,6,    0.570,6,    2.853,3,    1.746,2,-999,9,-999,9,   2057.8,2,   2271.8,2,   7.8890,2,    25.00,     0.02,2,     0.03,2,  13.8954,2
  49UP20110515,   P13,    58,  1,     33,     106,2,20110710,0601,0809, 37.9917, 164.9962, 5413,    150.8,      150,  12.7074,  34.3740,2,    223.4,2,  34.3731,2,   223.59,2,    13.46,2,    10.32,2,     0.01,2,    0.730,2,    2.938,3,    1.763,2,-999,9,-999,9,   2071.6,2,   2270.8,2,   7.8556,2,    25.00,     0.00,2,     0.02,2,  12.7084,2
  49UP20110515,   P13,    58,  1,     32,     105,2,20110710,0601,0807, 37.9917, 164.9962, 5413,    202.9,      201,  11.8037,  34.3042,2,    244.7,2,  34.3073,2,   243.96,2,    12.97,2,     9.63,2,     0.02,2,    0.700,2,    3.132,3,    1.874,2,-999,9,-999,9,   2070.7,2,   2269.5,2,   7.8574,2,    25.00,     0.00,2,     0.02,2,  11.8043,2
  49UP20110515,   P13,    58,  1,     31,     104,2,20110710,0601,0805, 37.9917, 164.9962, 5413,    256.5,      254,  11.2016,  34.2538,2,    241.1,2,  34.2522,2,   242.10,6,    14.82,2,    10.92,2,     0.01,2,    0.800,2,    3.173,3,    1.923,6,-999,9,-999,9,   2081.5,2,   2267.3,2,   7.8354,2,    25.00,     -999,9,     -999,9,  11.2014,2
  49UP20110515,   P13,    58,  1,     30,     103,2,20110710,0601,0804, 37.9917, 164.9962, 5413,    283.3,      281,  10.7299,  34.2175,2,    223.6,2,  34.2174,2,   224.16,2,    19.03,2,    13.52,2,     0.01,2,    0.970,2,    3.149,3,    1.863,2,-999,9,-999,9,   2096.0,2,   2270.2,2,   7.7995,2,    25.00,     -999,9,     -999,9,  10.7324,2
  49UP20110515,   P13,    58,  1,     29,     102,2,20110710,0601,0804, 37.9917, 164.9962, 5413,    283.3,      281,  10.7299,  34.2175,2,    223.6,2,  34.2172,2,   224.36,2,    18.93,6,    13.50,6,     0.01,6,    0.970,6,    3.106,3,    1.831,2,-999,9,-999,9,   2098.1,2,   2270.3,2,   7.7970,2,    25.00,     -999,9,     -999,9,  10.7324,2
  49UP20110515,   P13,    58,  1,     28,     101,2,20110710,0601,0801, 37.9917, 164.9962, 5413,    373.9,      371,   8.7820,  34.0894,2,    192.8,2,  34.0914,6,   192.54,2,    32.64,2,    20.13,2,     0.01,2,    1.440,2,    2.984,3,    1.759,2,-999,9,-999,9,   2143.7,2,   2276.8,2,   7.6981,2,    25.00,     -999,9,     -999,9,   8.7889,2
  49UP20110515,   P13,    58,  1,     27,     100,3,20110710,0601,0758, 37.9917, 164.9962, 5413,    473.2,      469,   6.4586,  33.9914,2,    155.2,2,  33.9921,2,   155.35,2,    53.84,2,    27.79,2,     0.01,2,    2.030,2,    2.725,3,    1.528,6,-999,9,-999,9,   2201.7,2,   2285.5,2,   7.5628,2,    25.00,     -999,9,     -999,9,   6.4588,2
  49UP20110515,   P13,    58,  1,     26,      99,2,20110710,0601,0756, 37.9917, 164.9962, 5413,    576.0,      571,   5.0421,  34.0220,2,    109.1,2,  34.0211,2,   108.82,2,    77.27,2,    34.45,2,     0.00,2,    2.500,2,    2.055,3,    1.117,2,-999,9,-999,9,   2260.1,2,   2305.2,2,   7.4515,2,    25.00,     -999,9,     -999,9,   5.0416,2
  49UP20110515,   P13,    58,  1,     25,      98,2,20110710,0601,0753, 37.9917, 164.9962, 5413,    676.1,      670,   4.5058,  34.1189,2,     74.7,2,  34.1177,2,    75.21,2,    94.20,2,    38.05,2,     0.00,2,    2.740,2,    1.375,3,    0.709,2,-999,9,-999,9,   2295.5,6,   2323.8,2,   7.4031,2,    25.00,     -999,9,     -999,9,   4.5055,2
  49UP20110515,   P13,    58,  1,     24,      97,2,20110710,0601,0750, 37.9917, 164.9962, 5413,    777.0,      770,   4.0146,  34.2058,2,     52.4,2,  34.2061,2,    52.29,2,   109.85,2,    40.56,2,     0.00,2,    2.900,2,    0.832,3,    0.422,2,-999,9,-999,9,   2320.0,2,   2340.9,2,   7.3575,6,    25.00,     -999,9,     -999,9,   4.0147,2
  49UP20110515,   P13,    58,  1,     23,      96,2,20110710,0601,0747, 37.9917, 164.9962, 5413,    880.9,      872,   3.6399,  34.2797,2,     41.4,2,  34.2789,2,    41.76,6,   121.89,2,    41.68,2,     0.00,2,    2.990,2,    0.483,3,    0.236,2,-999,9,-999,9,   2344.9,2,   2355.3,2,   7.3457,2,    25.00,     -999,9,     -999,9,   3.6412,2
  49UP20110515,   P13,    58,  1,     22,      95,2,20110710,0601,0745, 37.9917, 164.9962, 5413,    980.5,      971,   3.3770,  34.3308,2,     36.1,2,  34.3303,2,    36.17,2,   129.91,2,    42.59,2,     0.00,2,    3.040,2,    0.361,3,    0.154,2,-999,9,-999,9,   2358.4,2,   2365.4,2,   7.3417,2,    25.00,     -999,9,     -999,9,   3.3773,2
  49UP20110515,   P13,    58,  1,     21,      94,2,20110710,0601,0741, 37.9917, 164.9962, 5413,   1142.0,     1130,   3.0502,  34.3925,2,     33.9,2,  34.3925,2,    34.01,2,   140.04,6,    43.05,6,     0.01,6,    3.070,6,    0.140,3,    0.064,2,-999,9,-999,9,   2369.2,2,   2378.6,2,   7.3423,2,    25.00,     -999,9,     -999,9,   3.0502,2
  49UP20110515,   P13,    58,  1,     20,      93,2,20110710,0601,0736, 37.9917, 164.9962, 5413,   1344.1,     1330,   2.6617,  34.4557,2,     35.6,2,  34.4564,2,    35.61,2,   151.85,2,    43.22,2,     0.00,2,    3.070,2,    0.047,3,    0.019,2,-999,9,-999,9,   2376.3,2,   2390.5,2,   7.3497,2,    25.00,     -999,9,     -999,9,   2.6615,2
  49UP20110515,   P13,    58,  1,     19,      92,2,20110710,0601,0731, 37.9917, 164.9962, 5413,   1547.3,     1530,   2.3987,  34.5068,2,     40.5,2,  34.5031,4,    40.38,2,   158.06,2,    43.09,2,     0.00,2,    3.060,2,    0.024,3,    0.000,2,-999,9,-999,9,   2384.7,2,   2400.7,2,   7.3638,2,    25.00,     -999,9,     -999,9,   2.3987,2
  49UP20110515,   P13,    58,  1,     18,      91,2,20110710,0601,0727, 37.9917, 164.9962, 5413,   1750.9,     1731,   2.1736,  34.5479,2,     51.2,2,  34.5484,6,    50.81,2,   163.95,2,    42.53,2,     0.00,2,    3.000,2,    0.000,3,    0.000,2,-999,9,-999,9,   2384.9,2,   2409.4,2,   7.3857,2,    25.00,     -999,9,     -999,9,   2.1736,2
  49UP20110515,   P13,    58,  1,     17,      90,2,20110710,0601,0722, 37.9917, 164.9962, 5413,   1955.3,     1932,   2.0045,  34.5782,2,     63.3,2,  34.5788,2,    63.10,6,   166.21,2,    41.86,2,     0.00,2,    2.950,2,    0.000,3,    0.000,2,-999,9,-999,9,   2373.0,2,   2413.2,2,   7.4103,2,    25.00,     -999,9,     -999,9,   2.0054,2
  49UP20110515,   P13,    58,  1,     16,      89,2,20110710,0601,0717, 37.9917, 164.9962, 5413,   2156.5,     2129,   1.8718,  34.6030,2,     76.7,2,  34.6031,2,    76.44,2,   166.49,2,    40.99,2,     0.00,2,    2.880,2,    0.000,3,    0.000,2,-999,9,-999,9,   2369.9,2,   2415.0,2,   7.4378,2,    25.00,     -999,9,     -999,9,   1.8717,2
  49UP20110515,   P13,    58,  1,     15,      88,2,20110710,0601,0710, 37.9917, 164.9962, 5413,   2362.6,     2332,   1.7548,  34.6238,2,     90.9,2,  34.6252,2,    91.02,2,   165.87,2,    40.13,2,     0.00,2,    2.820,2,    0.000,3,    0.000,2,-999,9,-999,9,   2365.7,2,   2417.6,2,   7.4608,2,    25.00,     -999,9,     -999,9,   1.7549,2
  49UP20110515,   P13,    58,  1,     14,      87,2,20110710,0601,0705, 37.9917, 164.9962, 5413,   2564.6,     2530,   1.6686,  34.6390,2,    103.3,2,  34.6402,2,   102.93,2,   163.89,2,    39.32,2,     0.00,2,    2.760,2,    0.000,3,    0.000,2,-999,9,-999,9,   2360.8,2,   2418.6,2,   7.4882,2,    25.00,     -999,9,     -999,9,   1.6684,2
  49UP20110515,   P13,    58,  1,     13,      86,2,20110710,0601,0701, 37.9917, 164.9962, 5413,   2769.3,     2731,   1.6053,  34.6505,2,    113.6,2,  34.6513,2,   113.72,2,   162.36,2,    38.60,2,     0.00,2,    2.710,2,     -999,9,     -999,9,-999,9,-999,9,   2353.2,2,   2419.0,2,   7.5038,2,    25.00,     -999,9,     -999,9,   1.6053,2
  49UP20110515,   P13,    58,  1,     12,      85,2,20110710,0601,0656, 37.9917, 164.9962, 5413,   2973.7,     2931,   1.5618,  34.6587,2,    122.0,2,  34.6596,2,   121.94,2,   160.18,2,    38.15,2,     0.00,2,    2.670,2,     -999,9,     -999,9,-999,9,-999,9,   2348.1,2,   2418.9,2,   7.5229,2,    25.00,     -999,9,     -999,9,   1.5617,2
  49UP20110515,   P13,    58,  1,     11,     110,2,20110710,0601,0650, 37.9917, 164.9962, 5413,   3218.4,     3170,   1.5180,  34.6670,2,    130.9,2,  34.6676,6,   131.02,2,   158.26,2,    37.56,2,     0.00,2,    2.630,2,    0.000,3,    0.000,2,-999,9,-999,9,   2341.2,2,   2419.7,2,   7.5399,2,    25.00,     -999,9,     -999,9,   1.5181,2
  49UP20110515,   P13,    58,  1,     10,      83,2,20110710,0601,0645, 37.9917, 164.9962, 5413,   3474.4,     3420,   1.4872,  34.6736,2,    138.6,2,  34.6736,2,   139.47,2,   156.19,2,    37.05,2,     0.00,2,    2.580,2,     -999,9,     -999,9,-999,9,-999,9,   2333.1,6,   2417.2,6,   7.5521,2,    25.00,     -999,9,     -999,9,   1.4872,2
  49UP20110515,   P13,    58,  1,      9,      82,2,20110710,0601,0639, 37.9917, 164.9962, 5413,   3730.7,     3670,   1.4733,  34.6780,2,    143.9,2,  34.6786,2,   144.06,2,   154.69,2,    36.71,2,     0.00,2,    2.560,2,     -999,9,     -999,9,-999,9,-999,9,   2326.0,2,   2416.7,2,   7.5615,6,    25.00,     -999,9,     -999,9,   1.4733,2
  49UP20110515,   P13,    58,  1,      8,      81,2,20110710,0601,0634, 37.9917, 164.9962, 5413,   3987.5,     3921,   1.4596,  34.6824,2,    149.5,2,  34.6826,2,   149.43,2,   153.30,2,    36.33,2,     0.00,2,    2.530,2,     -999,9,     -999,9,-999,9,-999,9,   2323.1,2,   2417.6,2,   7.5691,2,    25.00,     -999,9,     -999,9,   1.4592,2
  49UP20110515,   P13,    58,  1,      7,      80,2,20110710,0601,0628, 37.9917, 164.9962, 5413,   4244.9,     4171,   1.4651,  34.6850,2,    152.5,2,  34.6847,2,   152.15,2,   152.71,6,    36.15,6,     0.00,6,    2.510,6,    0.000,3,    0.000,2,-999,9,-999,9,   2322.4,2,   2417.3,2,   7.5766,2,    25.00,     -999,9,     -999,9,   1.4652,2
  49UP20110515,   P13,    58,  1,      6,      79,2,20110710,0601,0623, 37.9917, 164.9962, 5413,   4501.3,     4421,   1.4779,  34.6867,2,    154.7,2,  34.6871,2,   154.54,6,   152.56,2,    35.94,2,     0.00,2,    2.500,2,     -999,9,     -999,9,-999,9,-999,9,   2324.2,2,   2414.9,2,   7.5778,2,    25.00,     -999,9,     -999,9,   1.4778,2
  49UP20110515,   P13,    58,  1,      5,      78,2,20110710,0601,0618, 37.9917, 164.9962, 5413,   4757.9,     4670,   1.4976,  34.6880,2,    156.2,2,  34.6909,4,   156.61,2,   152.26,2,    35.91,2,     0.00,2,    2.490,2,     -999,9,     -999,9,-999,9,-999,9,   2320.5,2,   2416.1,2,   7.5796,2,    25.00,     -999,9,     -999,9,   1.4975,2
  49UP20110515,   P13,    58,  1,      4,      77,2,20110710,0601,0612, 37.9917, 164.9962, 5413,   5016.7,     4921,   1.5227,  34.6889,2,    157.0,2,  34.6900,2,   156.90,2,   152.09,2,    35.85,2,     0.00,2,    2.490,2,     -999,9,     -999,9,-999,9,-999,9,   2321.3,2,   2415.9,2,   7.5843,2,    25.00,     -999,9,     -999,9,   1.5229,2
  49UP20110515,   P13,    58,  1,      3,      76,2,20110710,0601,0612, 37.9917, 164.9962, 5413,   5016.7,     4921,   1.5227,  34.6889,2,    157.0,2,  34.6882,2,   157.14,2,   152.09,2,    35.87,2,     0.00,2,    2.490,2,    0.000,3,    0.000,2,-999,9,-999,9,   2322.7,2,   2416.8,2,   7.5810,2,    25.00,     -999,9,     -999,9,   1.5229,2
  49UP20110515,   P13,    58,  1,      2,      75,2,20110710,0601,0606, 37.9917, 164.9962, 5413,   5273.2,     5170,   1.5525,  34.6892,2,    157.3,2,  34.6895,6,   157.30,2,   151.99,2,    35.84,2,     0.00,2,    2.490,2,     -999,9,     -999,9,-999,9,-999,9,   2319.2,2,   2416.5,2,   7.5829,2,    25.00,     -999,9,     -999,9,   1.5524,2
  49UP20110515,   P13,    58,  1,      1,      74,2,20110710,0601,0601, 37.9917, 164.9962, 5413,   5522.8,     5412,   1.5814,  34.6894,2,    157.8,2,  34.6857,4,   154.84,2,   152.15,2,    36.03,2,     0.00,2,    2.500,2,     -999,9,     -999,9,-999,9,-999,9,   2322.0,2,   2416.2,2,   7.5782,2,    25.00,     -999,9,     -999,9,   1.5813,2