BOTTLE,20240116CCHSIOVAJ
EXPOCODE,SECT_ID,STNNBR,CASTNO,SAMPNO,BTLNBR,BTLNBR_FLAG_W,DATE,TIME,BTL_TIME,LATITUDE,LONGITUDE,DEPTH,CTDPRS,CTDDEPTH,CTDTMP,CTDSAL,CTDSAL_FLAG_W,CTDOXY,CTDOXY_FLAG_W,SALNTY,SALNTY_FLAG_W,OXYGEN,OXYGEN_FLAG_W,SILCAT,SILCAT_FLAG_W,NO2+NO3,NO2+NO3_FLAG_W,NITRIT,NITRIT_FLAG_W,PHSPHT,PHSPHT_FLAG_W,CFC-11,CFC-11_FLAG_W,CFC-12,CFC-12_FLAG_W,DELC14,DELC14_FLAG_W,DELC13,DELC13_FLAG_W,TCARBN,TCARBN_FLAG_W,ALKALI,ALKALI_FLAG_W,PH_TOT,PH_TOT_FLAG_W,PH_TMP,CHLORA,CHLORA_FLAG_W,PPHYTN,PPHYTN_FLAG_W,REFTMP,REFTMP_FLAG_W
,,,,,,,,,,,,METERS,DBAR,METERS,ITS-90,PSS-78,,UMOL/KG,,PSS-78,,UMOL/KG,,UMOL/KG,,UMOL/KG,,UMOL/KG,,UMOL/KG,,PMOL/KG,,PMOL/KG,,/MILLE,,/MILLE,,UMOL/KG,,UMOL/KG,,,,DEG C,UG/KG,,UG/KG,,ITS-90,
  49UP20110515,   P13,   121,  1,      0,     BUC,2,20110807,1930,2105,  1.9398, 164.9895, 4190,      0.0,        0,  29.6301,  34.3199,2,    195.3,2,     -999,9,   194.49,2,     0.75,2,     0.00,2,     0.00,2,    0.110,2,     -999,9,     -999,9,-999,9,-999,9,     -999,9,     -999,9,     -999,9,     -999,     0.05,2,     0.01,2,     -999,9
  49UP20110515,   P13,   121,  1,     36,     109,2,20110807,1930,2126,  1.9398, 164.9895, 4190,     10.5,       10,  29.6214,  34.3194,2,    195.3,2,  34.3193,2,   194.62,2,     0.72,2,     0.00,2,     0.00,2,    0.100,2,    1.738,3,    0.997,2,-999,9,-999,9,   1917.1,2,   2254.9,2,   8.1278,2,    25.00,     0.05,2,     0.02,2,  29.6228,2
  49UP20110515,   P13,   121,  1,     35,     108,2,20110807,1930,2124,  1.9398, 164.9895, 4190,     25.7,       26,  29.6823,  34.4271,2,    195.7,2,  34.4522,4,   195.26,2,     0.78,2,     0.00,2,     0.00,2,    0.100,2,    1.787,3,    0.999,2,-999,9,-999,9,   1924.3,2,   2262.5,2,   8.1145,2,    25.00,     1.17,4,    -1.09,4,  29.6824,2
  49UP20110515,   P13,   121,  1,     34,     107,2,20110807,1930,2121,  1.9398, 164.9895, 4190,     48.7,       48,  29.5503,  35.1430,2,    196.1,2,  35.1420,2,   195.93,2,     0.79,2,     0.00,2,     0.00,2,    0.190,2,    1.792,3,    1.002,2,-999,9,-999,9,   1975.0,2,   2310.5,3,   8.0992,6,    25.00,     0.23,2,     0.13,2,  29.5480,2
  49UP20110515,   P13,   121,  1,     33,     106,2,20110807,1930,2120,  1.9398, 164.9895, 4190,     77.1,       77,  29.0244,  35.3917,2,    180.0,2,  35.3893,2,   179.87,2,     1.03,2,     2.67,2,     0.92,2,    0.370,2,    1.688,3,    1.003,2,-999,9,-999,9,   2010.1,2,   2324.5,6,   8.0609,2,    25.00,     0.29,2,     0.33,2,  29.0252,2
  49UP20110515,   P13,   121,  1,     32,     105,2,20110807,1930,2119,  1.9398, 164.9895, 4190,    101.7,      101,  28.8842,  35.4123,2,    176.1,2,  35.4108,2,   176.29,2,     1.22,2,     3.27,2,     0.92,2,    0.410,2,    1.717,3,    1.021,2,-999,9,-999,9,   2016.0,2,   2322.0,2,   8.0525,2,    25.00,     0.26,2,     0.29,2,  28.8849,2
  49UP20110515,   P13,   121,  1,     31,     104,2,20110807,1930,2118,  1.9398, 164.9895, 4190,    125.8,      125,  28.3488,  35.4184,2,    167.4,2,  35.4095,4,   167.23,2,     1.42,2,     4.69,2,     0.34,2,    0.480,2,    1.721,3,    1.050,6,-999,9,-999,9,   2028.3,2,   2322.6,2,   8.0312,2,    25.00,     0.14,2,     0.24,2,  28.3501,2
  49UP20110515,   P13,   121,  1,     30,     103,2,20110807,1930,2116,  1.9398, 164.9895, 4190,    150.1,      149,  25.7433,  35.2200,2,    151.6,2,  35.2519,4,   152.35,2,     2.97,2,     6.62,2,     0.03,2,    0.580,2,    1.839,3,    1.103,2,-999,9,-999,9,   2043.0,2,   2316.0,2,   7.9869,2,    25.00,     0.05,2,     0.10,2,  25.7519,2
  49UP20110515,   P13,   121,  1,     29,     102,2,20110807,1930,2114,  1.9398, 164.9895, 4190,    200.1,      199,  17.4475,  34.7102,2,    140.3,2,  34.7296,4,   140.65,2,    10.31,6,    11.67,6,     0.01,6,    0.870,6,    2.260,3,    1.291,2,-999,9,-999,9,   2096.5,2,   2287.9,2,   7.8428,2,    25.00,     0.00,2,     0.02,2,  17.4436,2
  49UP20110515,   P13,   121,  1,     28,     101,2,20110807,1930,2112,  1.9398, 164.9895, 4190,    251.2,      250,  11.1254,  34.7889,2,    129.4,2,  34.7878,2,   128.71,2,    20.49,2,    23.17,2,     0.00,2,    1.640,2,    1.496,3,    0.802,2,-999,9,-999,9,   2173.1,2,   2304.9,2,   7.6840,2,    25.00,     -999,9,     -999,9,  11.1251,2
  49UP20110515,   P13,   121,  1,     27,     100,2,20110807,1930,2110,  1.9398, 164.9895, 4190,    332.6,      331,  10.3511,  34.7430,2,     93.4,2,  34.7355,2,    94.63,2,    25.12,2,    28.20,2,     0.00,2,    1.960,2,    1.080,3,    0.573,6,-999,9,-999,9,   2211.2,2,   2302.0,2,   7.5971,2,    25.00,     -999,9,     -999,9,  10.3520,2
  49UP20110515,   P13,   121,  1,     26,      99,2,20110807,1930,2108,  1.9398, 164.9895, 4190,    382.1,      380,   9.5703,  34.6844,2,    106.2,2,  34.6830,2,   110.42,2,    26.98,2,    28.13,2,     0.00,2,    1.950,2,    1.044,3,    0.552,2,-999,9,-999,9,   2203.6,2,   2301.8,2,   7.6151,2,    25.00,     -999,9,     -999,9,   9.5670,2
  49UP20110515,   P13,   121,  1,     25,      98,2,20110807,1930,2104,  1.9398, 164.9895, 4190,    433.2,      430,   8.7462,  34.6207,2,    107.2,2,  34.6140,6,   102.61,2,    33.16,2,    30.37,2,     0.00,2,    2.110,2,    0.793,3,    0.424,2,-999,9,-999,9,   2215.9,2,   2304.9,2,   7.5780,6,    25.00,     -999,9,     -999,9,   8.7378,2
  49UP20110515,   P13,   121,  1,     24,      97,2,20110807,1930,2100,  1.9398, 164.9895, 4190,    534.3,      531,   7.0764,  34.5597,2,     90.3,2,  34.5590,2,    89.77,2,    44.88,2,    34.74,2,     0.00,2,    2.440,2,    0.296,3,    0.160,2,-999,9,-999,9,   2249.2,2,   2313.8,6,   7.5225,2,    25.00,     -999,9,     -999,9,   7.0694,2
  49UP20110515,   P13,   121,  1,     23,      96,2,20110807,1930,2058,  1.9398, 164.9895, 4190,    636.2,      632,   6.3660,  34.5455,2,     94.4,2,  34.5481,2,    94.05,2,    50.24,2,    35.91,2,     0.00,2,    2.510,2,    0.196,3,    0.115,2,-999,9,-999,9,   2258.1,2,   2319.5,2,   7.5247,2,    25.00,     -999,9,     -999,9,   6.3667,2
  49UP20110515,   P13,   121,  1,     22,      95,2,20110807,1930,2054,  1.9398, 164.9895, 4190,    736.3,      731,   5.3547,  34.5357,2,    102.7,2,  34.5351,2,   103.55,2,    65.52,2,    36.45,2,     0.00,2,    2.560,2,    0.167,3,    0.090,2,-999,9,-999,9,   2268.2,2,   2334.9,2,   7.5180,2,    25.00,     -999,9,     -999,9,   5.3555,2
  49UP20110515,   P13,   121,  1,     21,      94,2,20110807,1930,2054,  1.9398, 164.9895, 4190,    736.3,      731,   5.3547,  34.5357,2,    102.7,2,  34.5351,2,   102.98,6,    65.52,2,    36.65,2,     0.00,2,    2.570,2,    0.136,3,    0.091,2,-999,9,-999,9,   2270.8,2,   2334.5,2,   7.5174,2,    25.00,     -999,9,     -999,9,   5.3555,2
  49UP20110515,   P13,   121,  1,     20,      93,2,20110807,1930,2052,  1.9398, 164.9895, 4190,    837.1,      831,   5.0165,  34.5435,2,     90.2,2,  34.5441,2,    90.26,2,    72.96,6,    38.42,6,     0.00,6,    2.710,6,    0.050,3,    0.057,2,-999,9,-999,9,   2286.3,2,   2340.2,2,   7.4965,2,    25.00,     -999,9,     -999,9,   5.0129,2
  49UP20110515,   P13,   121,  1,     19,      92,2,20110807,1930,2050,  1.9398, 164.9895, 4190,    936.5,      929,   4.6837,  34.5467,2,     94.9,2,  34.5468,2,    94.99,2,    78.30,2,    38.03,2,     0.00,2,    2.690,2,    0.038,3,    0.060,2,-999,9,-999,9,   2289.7,2,   2346.5,2,   7.5005,2,    25.00,     -999,9,     -999,9,   4.6819,2
  49UP20110515,   P13,   121,  1,     18,      91,4,20110807,1930,2043,  1.9398, 164.9895, 4190,   1079.0,     1070,   4.3783,  34.5570,2,     96.2,2,     -999,9,     -999,9,     -999,9,     -999,9,     -999,9,     -999,9,     -999,9,     -999,9,-999,9,-999,9,     -999,9,     -999,9,     -999,9,     -999,     -999,9,     -999,9,   4.3734,2
  49UP20110515,   P13,   121,  1,     17,      90,2,20110807,1930,2038,  1.9398, 164.9895, 4190,   1281.5,     1271,   3.5561,  34.5819,2,     91.2,2,  34.5815,2,    91.04,2,   108.25,2,    39.30,2,     0.00,2,    2.780,2,    0.000,3,    0.040,2,-999,9,-999,9,   2323.1,6,   2376.4,6,   7.4899,2,    25.00,     -999,9,     -999,9,   3.5563,2
  49UP20110515,   P13,   121,  1,     16,      89,2,20110807,1930,2034,  1.9398, 164.9895, 4190,   1482.3,     1469,   3.0511,  34.5995,2,    101.4,2,  34.5990,6,   101.26,2,   117.88,2,    38.89,2,     0.00,2,    2.740,2,    0.000,3,    0.055,2,-999,9,-999,9,   2326.9,2,   2388.8,2,   7.5024,2,    25.00,     -999,9,     -999,9,   3.0512,2
  49UP20110515,   P13,   121,  1,     15,      88,2,20110807,1930,2025,  1.9398, 164.9895, 4190,   1685.4,     1669,   2.7451,  34.6118,2,    104.9,2,  34.6119,2,   105.04,2,   125.21,2,    38.78,2,     0.00,2,    2.720,2,    0.000,3,    0.064,2,-999,9,-999,9,   2332.9,2,   2396.7,2,   7.5092,2,    25.00,     -999,9,     -999,9,   2.7442,2
  49UP20110515,   P13,   121,  1,     14,      87,2,20110807,1930,2025,  1.9398, 164.9895, 4190,   1685.4,     1669,   2.7451,  34.6118,2,    104.9,2,  34.6131,2,   105.32,2,   125.55,6,    38.66,6,     0.00,6,    2.730,6,     -999,9,     -999,9,-999,9,-999,9,   2330.8,2,   2397.6,2,   7.5072,2,    25.00,     -999,9,     -999,9,   2.7442,2
  49UP20110515,   P13,   121,  1,     13,      86,2,20110807,1930,2021,  1.9398, 164.9895, 4190,   1891.1,     1872,   2.3897,  34.6287,2,    110.2,2,  34.6291,2,   110.25,6,   132.88,2,    38.51,2,     0.00,2,    2.700,2,     -999,9,     -999,9,-999,9,-999,9,   2337.3,2,   2405.0,2,   7.5199,2,    25.00,     -999,9,     -999,9,   2.3888,2
  49UP20110515,   P13,   121,  1,     12,      74,2,20110807,1930,2015,  1.9398, 164.9895, 4190,   2092.6,     2071,   2.1546,  34.6415,2,    115.7,2,  34.6413,2,   115.42,2,   138.25,2,    38.40,2,     0.00,2,    2.680,2,     -999,9,     -999,9,-999,9,-999,9,   2341.2,2,   2413.3,2,   7.5289,2,    25.00,     -999,9,     -999,9,   2.1547,2
  49UP20110515,   P13,   121,  1,     11,     110,2,20110807,1930,2010,  1.9398, 164.9895, 4190,   2295.1,     2270,   1.9408,  34.6535,2,    121.3,2,  34.6535,2,   121.19,2,   142.49,2,    38.04,2,     0.00,2,    2.640,2,     -999,9,     -999,9,-999,9,-999,9,   2342.5,2,   2415.8,2,   7.5357,2,    25.00,     -999,9,     -999,9,   1.9412,2
  49UP20110515,   P13,   121,  1,     10,      83,3,20110807,1930,2006,  1.9398, 164.9895, 4190,   2499.6,     2471,   1.8391,  34.6596,2,    125.2,2,  34.6601,2,   125.06,2,   144.42,2,    37.81,2,     0.00,2,    2.620,2,     -999,9,     -999,9,-999,9,-999,9,   2339.1,2,   2416.7,2,   7.5424,2,    25.00,     -999,9,     -999,9,   1.8390,2
  49UP20110515,   P13,   121,  1,      9,      82,2,20110807,1930,2006,  1.9398, 164.9895, 4190,   2499.6,     2471,   1.8391,  34.6596,2,    125.2,2,  34.6592,2,   124.94,2,   144.34,2,    37.65,2,     0.00,2,    2.620,2,     -999,9,     -999,9,-999,9,-999,9,   2339.2,2,   2417.5,2,   7.5408,2,    25.00,     -999,9,     -999,9,   1.8390,2
  49UP20110515,   P13,   121,  1,      8,      81,2,20110807,1930,2002,  1.9398, 164.9895, 4190,   2702.8,     2671,   1.7558,  34.6649,2,    129.0,2,  34.6649,6,   128.85,2,   145.89,6,    37.56,6,     0.00,6,    2.600,6,    0.000,3,    0.069,3,-999,9,-999,9,   2339.7,2,   2420.8,2,   7.5447,2,    25.00,     -999,9,     -999,9,   1.7560,2
  49UP20110515,   P13,   121,  1,      7,      80,2,20110807,1930,1957,  1.9398, 164.9895, 4190,   2908.9,     2873,   1.6721,  34.6696,2,    134.4,2,  34.6698,2,   134.28,2,   146.02,2,    37.00,2,     0.00,2,    2.580,2,     -999,9,     -999,9,-999,9,-999,9,   2336.9,2,   2421.2,2,   7.5556,2,    25.00,     -999,9,     -999,9,   1.6723,2
  49UP20110515,   P13,   121,  1,      6,      79,2,20110807,1930,1953,  1.9398, 164.9895, 4190,   3123.0,     3083,   1.6086,  34.6733,2,    140.5,2,  34.6729,2,   140.51,6,   144.84,2,    36.68,2,     0.00,2,    2.540,2,     -999,9,     -999,9,-999,9,-999,9,   2336.5,2,   2416.3,2,   7.5620,2,    25.00,     -999,9,     -999,9,   1.6086,2
  49UP20110515,   P13,   121,  1,      5,      78,2,20110807,1930,1948,  1.9398, 164.9895, 4190,   3375.6,     3330,   1.5758,  34.6764,2,    144.5,2,  34.6765,2,   144.34,2,   144.38,2,    36.32,2,     0.00,2,    2.520,2,     -999,9,     -999,9,-999,9,-999,9,   2330.2,2,   2419.4,2,   7.5703,2,    25.00,     -999,9,     -999,9,   1.5757,2
  49UP20110515,   P13,   121,  1,      4,      77,2,20110807,1930,1942,  1.9398, 164.9895, 4190,   3632.0,     3581,   1.5162,  34.6818,2,    150.8,2,  34.6819,2,   150.60,2,   142.89,2,    36.13,2,     0.00,2,    2.480,2,     -999,9,     -999,9,-999,9,-999,9,   2324.8,2,   2415.8,2,   7.5756,2,    25.00,     -999,9,     -999,9,   1.5161,2
  49UP20110515,   P13,   121,  1,      3,      76,2,20110807,1930,1938,  1.9398, 164.9895, 4190,   3887.1,     3831,   1.4591,  34.6876,2,    159.3,2,  34.6874,2,   159.18,2,   139.87,2,    35.46,2,     0.00,2,    2.440,2,     -999,9,     -999,9,-999,9,-999,9,   2316.8,2,   2412.7,2,   7.5902,2,    25.00,     -999,9,     -999,9,   1.4591,2
  49UP20110515,   P13,   121,  1,      2,      75,3,20110807,1930,1933,  1.9398, 164.9895, 4190,   4143.3,     4081,   1.3912,  34.6941,2,    170.5,2,  34.6943,2,   170.59,2,   134.15,2,    34.75,2,     0.00,2,    2.380,2,     -999,9,     -999,9,-999,9,-999,9,   2310.2,2,   2404.6,2,   7.5951,2,    25.00,     -999,9,     -999,9,   1.3910,2
  49UP20110515,   P13,   121,  1,      1,     112,2,20110807,1930,1930,  1.9398, 164.9895, 4190,   4237.0,     4172,   1.3299,  34.6985,2,    178.5,2,  34.6989,2,   177.84,2,   130.36,2,    34.00,2,     0.00,2,    2.340,2,    0.000,3,    0.094,3,-999,9,-999,9,   2295.7,2,   2395.5,2,   7.6011,2,    25.00,     -999,9,     -999,9,   1.3297,2