BOTTLE,20240116CCHSIOVAJ
EXPOCODE,SECT_ID,STNNBR,CASTNO,SAMPNO,BTLNBR,BTLNBR_FLAG_W,DATE,TIME,BTL_TIME,LATITUDE,LONGITUDE,DEPTH,CTDPRS,CTDDEPTH,CTDTMP,CTDSAL,CTDSAL_FLAG_W,CTDOXY,CTDOXY_FLAG_W,SALNTY,SALNTY_FLAG_W,OXYGEN,OXYGEN_FLAG_W,SILCAT,SILCAT_FLAG_W,NO2+NO3,NO2+NO3_FLAG_W,NITRIT,NITRIT_FLAG_W,PHSPHT,PHSPHT_FLAG_W,CFC-11,CFC-11_FLAG_W,CFC-12,CFC-12_FLAG_W,DELC14,DELC14_FLAG_W,DELC13,DELC13_FLAG_W,TCARBN,TCARBN_FLAG_W,ALKALI,ALKALI_FLAG_W,PH_TOT,PH_TOT_FLAG_W,PH_TMP,CHLORA,CHLORA_FLAG_W,PPHYTN,PPHYTN_FLAG_W,REFTMP,REFTMP_FLAG_W
,,,,,,,,,,,,METERS,DBAR,METERS,ITS-90,PSS-78,,UMOL/KG,,PSS-78,,UMOL/KG,,UMOL/KG,,UMOL/KG,,UMOL/KG,,UMOL/KG,,PMOL/KG,,PMOL/KG,,/MILLE,,/MILLE,,UMOL/KG,,UMOL/KG,,,,DEG C,UG/KG,,UG/KG,,ITS-90,
  49UP20110515,   P13,    77,  1,      0,     BUC,2,20110717,0034,0250, 24.0118, 164.9763, 6078,      0.0,        0,  29.0049,  35.4278,2,    198.3,2,     -999,9,   195.87,2,     0.90,2,     0.03,2,     0.00,2,    0.050,2,     -999,9,     -999,9,-999,9,-999,9,     -999,9,     -999,9,     -999,9,     -999,     0.08,2,     0.02,2,     -999,9
  49UP20110515,   P13,    77,  1,     25,      98,2,20110717,0034,0301, 24.0118, 164.9763, 6078,     11.3,       11,  28.9108,  35.4300,2,    198.0,2,  35.4297,2,   197.04,2,     0.90,2,     0.00,2,     0.00,2,    0.020,2,    1.614,3,    1.084,2,-999,9,-999,9,   1980.4,2,   2325.0,2,   8.1011,2,    25.00,     0.06,2,     0.01,2,  28.9111,2
  49UP20110515,   P13,    77,  1,     24,      97,2,20110717,0034,0257, 24.0118, 164.9763, 6078,     50.0,       50,  24.7984,  35.4133,2,    223.8,2,  35.4348,4,   221.33,6,     1.07,2,     0.01,2,     0.00,2,    0.020,2,    2.101,3,    1.252,2,-999,9,-999,9,   1992.1,2,   2324.0,2,   8.0846,2,    25.00,     0.07,2,     0.02,2,  24.8940,2
  49UP20110515,   P13,    77,  1,     23,      96,3,20110717,0034,0255, 24.0118, 164.9763, 6078,    101.2,      101,  21.2250,  35.1670,2,    214.3,2,  35.1662,2,   212.98,2,     1.74,6,     0.01,6,     0.00,6,    0.040,6,    2.144,3,    1.423,2,-999,9,-999,9,   2016.5,2,   2307.1,2,   8.0255,2,    25.00,     0.17,2,     0.16,2,  21.2245,2
  49UP20110515,   P13,    77,  1,     22,      95,2,20110717,0034,0253, 24.0118, 164.9763, 6078,    152.7,      152,  18.9909,  34.9020,2,    203.2,2,  34.9015,2,   202.77,2,     2.63,2,     1.99,2,     0.05,2,    0.160,2,    2.289,3,    1.541,2,-999,9,-999,9,   2029.7,2,   2289.1,2,   7.9767,2,    25.00,     0.10,2,     0.17,2,  18.9980,2
  49UP20110515,   P13,    77,  1,     21,      94,2,20110717,0034,0252, 24.0118, 164.9763, 6078,    199.4,      198,  17.3353,  34.7321,2,    201.6,2,  34.7316,6,   201.19,2,     4.08,2,     4.55,2,     0.01,2,    0.320,2,    2.452,3,    1.592,2,-999,9,-999,9,   2042.0,2,   2278.6,2,   7.9370,2,    25.00,     0.02,2,     0.03,2,  17.3372,2
  49UP20110515,   P13,    77,  1,     20,      93,2,20110717,0034,0250, 24.0118, 164.9763, 6078,    252.1,      250,  15.9179,  34.5993,2,    204.5,2,  34.5996,2,   204.49,6,     5.98,2,     6.39,2,     0.01,2,    0.440,2,    2.580,3,    1.710,6,-999,9,-999,9,   2047.9,2,   2273.4,2,   7.9137,2,    25.00,     -999,9,     -999,9,  15.9203,2
  49UP20110515,   P13,    77,  1,     19,      92,5,20110717,0034,0248, 24.0118, 164.9763, 6078,    301.8,      300,  14.7338,  34.5179,2,    200.8,2,  34.5173,2,   200.42,2,     8.45,6,     8.66,6,     0.00,6,    0.600,6,    2.702,3,    1.773,2,-999,9,-999,9,   2063.4,6,   2271.3,6,   7.8706,2,    25.00,     -999,9,     -999,9,  14.7334,2
  49UP20110515,   P13,    77,  1,     18,      91,5,20110717,0034,0245, 24.0118, 164.9763, 6078,    403.2,      400,  11.8420,  34.3180,2,    196.4,2,  34.3192,2,   196.16,2,    16.08,2,    13.85,2,     0.00,2,    0.960,2,    2.965,3,    1.863,2,-999,9,-999,9,   2097.8,2,   2267.7,2,   7.7882,6,    25.00,     -999,9,     -999,9,  11.8551,2
  49UP20110515,   P13,    77,  1,     17,      90,2,20110717,0034,0242, 24.0118, 164.9763, 6078,    505.9,      502,   8.8094,  34.1268,2,    170.9,2,  34.1285,2,   171.30,2,    32.97,2,    21.85,2,     0.00,2,    1.540,2,    2.809,3,    1.729,2,-999,9,-999,9,   2155.2,2,   2271.3,2,   7.6709,2,    25.00,     -999,9,     -999,9,   8.8012,2
  49UP20110515,   P13,    77,  1,     16,      89,2,20110717,0034,0239, 24.0118, 164.9763, 6078,    605.8,      601,   6.4684,  34.0733,2,    110.8,2,  34.0736,2,   110.60,2,    59.19,2,    31.73,2,     0.00,2,    2.260,2,    1.822,3,    1.189,6,-999,9,-999,9,   2230.9,2,   2291.4,2,   7.4982,2,    25.00,     -999,9,     -999,9,   6.4672,2
  49UP20110515,   P13,    77,  1,     15,      88,2,20110717,0034,0236, 24.0118, 164.9763, 6078,    705.8,      700,   5.1642,  34.1611,2,     62.9,2,  34.1600,2,    62.58,2,    83.58,2,    38.12,2,     0.00,2,    2.740,2,    0.827,3,    0.682,2,-999,9,-999,9,   2293.3,2,   2316.9,2,   7.3957,2,    25.00,     -999,9,     -999,9,   5.1606,2
  49UP20110515,   P13,    77,  1,     14,      87,2,20110717,0034,0234, 24.0118, 164.9763, 6078,    806.9,      800,   4.4125,  34.2193,2,     45.3,2,  34.2191,2,    45.00,2,   100.78,6,    40.75,6,     0.00,6,    2.920,6,     -999,5,     -999,5,-999,9,-999,9,   2320.5,6,   2334.4,6,   7.3613,2,    25.00,     -999,9,     -999,9,   4.4125,2
  49UP20110515,   P13,    77,  1,     13,      86,2,20110717,0034,0231, 24.0118, 164.9763, 6078,    909.3,      902,   3.9430,  34.3084,2,     36.0,2,  34.3075,2,    36.28,2,   113.35,2,    42.01,2,     0.00,2,    3.010,2,    0.192,3,    0.444,2,-999,9,-999,9,   2344.2,2,   2352.2,2,   7.3517,6,    25.00,     -999,9,     -999,9,   3.9431,2
  49UP20110515,   P13,    77,  1,     12,      85,3,20110717,0034,0228, 24.0118, 164.9763, 6078,   1009.1,     1000,   3.6811,  34.4006,2,     42.5,2,  34.4010,6,    42.49,2,   119.69,2,    42.00,2,     0.00,2,    3.010,2,    0.058,3,    0.415,4,-999,9,-999,9,   2345.8,2,   2364.8,2,   7.3824,2,    25.00,     -999,9,     -999,9,   3.6812,2
  49UP20110515,   P13,    77,  1,     11,     110,2,20110717,0034,0223, 24.0118, 164.9763, 6078,   1212.0,     1201,   3.1032,  34.4952,2,     58.7,2,  34.4941,2,    58.77,2,   131.92,2,    41.43,2,     0.00,2,    2.940,2,    0.043,3,    0.472,4,-999,9,-999,9,   2355.4,2,   2383.4,2,   7.4130,2,    25.00,     -999,9,     -999,9,   3.1033,2
  49UP20110515,   P13,    77,  1,     10,      83,3,20110717,0034,0218, 24.0118, 164.9763, 6078,   1414.8,     1401,   2.6858,  34.5423,2,     71.3,2,  34.5419,2,    71.78,2,   139.23,2,    40.68,2,     0.00,2,    2.880,2,    0.019,3,    0.542,4,-999,9,-999,9,   2352.9,2,   2390.7,2,   7.4347,2,    25.00,     -999,9,     -999,9,   2.6859,2
  49UP20110515,   P13,    77,  1,      9,      82,2,20110717,0034,0214, 24.0118, 164.9763, 6078,   1616.2,     1600,   2.3487,  34.5788,2,     84.9,2,  34.5780,2,    85.11,6,   144.57,2,    40.13,2,     0.00,2,    2.820,2,    0.011,3,    0.589,4,-999,9,-999,9,   2352.7,2,   2400.7,2,   7.4618,2,    25.00,     -999,9,     -999,9,   2.3490,2
  49UP20110515,   P13,    77,  1,      8,      81,2,20110717,0034,0210, 24.0118, 164.9763, 6078,   1819.0,     1800,   2.0753,  34.6055,2,     93.9,2,  34.6056,2,    94.52,2,   149.56,2,    39.70,2,     0.00,2,    2.780,2,    0.000,3,    0.606,4,-999,9,-999,9,   2356.1,2,   2408.8,2,   7.4744,2,    25.00,     -999,9,     -999,9,   2.0752,2
  49UP20110515,   P13,    77,  1,      7,      80,2,20110717,0034,0205, 24.0118, 164.9763, 6078,   2023.8,     2001,   1.9426,  34.6238,2,    104.4,2,  34.6227,2,   104.39,2,   149.85,2,    39.15,2,     0.00,2,    2.730,2,    0.000,3,    0.615,4,-999,9,-999,9,   2350.5,2,   2410.2,2,   7.4921,2,    25.00,     -999,9,     -999,9,   1.9426,2
  49UP20110515,   P13,    77,  1,      6,      79,2,20110717,0034,0201, 24.0118, 164.9763, 6078,   2225.5,     2200,   1.8259,  34.6377,2,    111.5,2,  34.6376,2,   112.14,2,   151.21,2,    38.73,2,     0.00,2,    2.700,2,     -999,9,     -999,9,-999,9,-999,9,   2348.6,2,   2412.6,2,   7.5096,2,    25.00,     -999,9,     -999,9,   1.8260,2
  49UP20110515,   P13,    77,  1,      5,      78,2,20110717,0034,0156, 24.0118, 164.9763, 6078,   2429.7,     2400,   1.7384,  34.6481,2,    117.9,2,  34.6474,2,   117.82,2,   151.96,6,    38.36,6,     0.00,6,    2.670,6,     -999,9,     -999,9,-999,9,-999,9,   2346.8,2,   2415.6,2,   7.5189,2,    25.00,     -999,9,     -999,9,   1.7386,2
  49UP20110515,   P13,    77,  1,      4,      77,2,20110717,0034,0151, 24.0118, 164.9763, 6078,   2634.4,     2601,   1.6746,  34.6555,2,    123.3,2,  34.6549,2,   123.24,2,   152.09,2,    38.03,2,     0.00,2,    2.630,2,    0.016,3,    0.610,4,-999,9,-999,9,   2344.6,2,   2416.9,2,   7.5270,2,    25.00,     -999,9,     -999,9,   1.6746,2
  49UP20110515,   P13,    77,  1,      3,      76,2,20110717,0034,0147, 24.0118, 164.9763, 6078,   2838.2,     2801,   1.6232,  34.6616,2,    128.1,2,  34.6607,2,   128.12,2,   152.00,2,    37.75,2,     0.00,2,    2.610,2,     -999,9,     -999,9,-999,9,-999,9,   2341.3,2,   2418.6,2,   7.5344,2,    25.00,     -999,9,     -999,9,   1.6231,2
  49UP20110515,   P13,    77,  1,      2,      75,2,20110717,0034,0142, 24.0118, 164.9763, 6078,   3041.8,     3001,   1.5908,  34.6658,2,    132.0,2,  34.6646,2,   132.17,2,   151.78,2,    37.44,2,     0.00,2,    2.590,2,     -999,9,     -999,9,-999,9,-999,9,   2338.6,2,   2416.8,2,   7.5398,2,    25.00,     -999,9,     -999,9,   1.5907,2
  49UP20110515,   P13,    77,  1,      1,     112,2,20110717,0034,0137, 24.0118, 164.9763, 6078,   3296.7,     3250,   1.5472,  34.6710,2,    137.1,2,  34.6708,2,   137.00,6,   151.47,2,    37.10,2,     0.00,2,    2.570,2,     -999,9,     -999,9,-999,9,-999,9,   2336.1,6,   2416.6,6,   7.5525,2,    25.00,     -999,9,     -999,9,   1.5471,2
  49UP20110515,   P13,    77,  1,     36,     109,2,20110717,0034,0131, 24.0118, 164.9763, 6078,   3552.7,     3501,   1.5216,  34.6754,2,    141.9,2,  34.6754,2,   141.61,2,   150.55,2,    36.87,2,     0.00,2,    2.540,2,    0.010,3,    0.982,4,-999,9,-999,9,   2331.4,2,   2414.6,2,   7.5554,6,    25.00,     -999,9,     -999,9,   1.5216,2
  49UP20110515,   P13,    77,  1,     35,     108,2,20110717,0034,0126, 24.0118, 164.9763, 6078,   3809.1,     3751,   1.4987,  34.6797,2,    147.3,2,  34.6789,6,   146.73,2,   148.64,2,    36.42,2,     0.00,2,    2.510,2,     -999,9,     -999,9,-999,9,-999,9,   2325.6,2,   2416.2,3,   7.5667,2,    25.00,     -999,9,     -999,9,   1.4986,2
  49UP20110515,   P13,    77,  1,     34,     107,2,20110717,0034,0121, 24.0118, 164.9763, 6078,   4063.6,     3999,   1.4839,  34.6836,2,    152.7,2,  34.6830,2,   152.72,2,   145.97,2,    36.02,2,     0.00,2,    2.470,2,     -999,9,     -999,9,-999,9,-999,9,   2323.8,2,   2410.7,2,   7.5686,2,    25.00,     -999,9,     -999,9,   1.4840,2
  49UP20110515,   P13,    77,  1,     33,     106,2,20110717,0034,0116, 24.0118, 164.9763, 6078,   4321.5,     4251,   1.4729,  34.6868,2,    157.3,2,  34.6884,4,   157.34,6,   143.96,2,    35.74,2,     0.00,2,    2.450,2,     -999,9,     -999,9,-999,9,-999,9,   2320.2,2,   2409.4,2,   7.5764,2,    25.00,     -999,9,     -999,9,   1.4731,2
  49UP20110515,   P13,    77,  1,     32,     105,2,20110717,0034,0109, 24.0118, 164.9763, 6078,   4577.5,     4500,   1.4602,  34.6902,2,    162.9,2,  34.6897,2,   162.75,2,   141.29,2,    35.37,2,     0.00,2,    2.440,2,     -999,9,     -999,9,-999,9,-999,9,   2310.6,3,   2406.8,2,   7.5860,2,    25.00,     -999,9,     -999,9,   1.4604,2
  49UP20110515,   P13,    77,  1,     31,     104,2,20110717,0034,0103, 24.0118, 164.9763, 6078,   4835.4,     4751,   1.4568,  34.6929,2,    167.6,2,  34.6927,2,   167.48,2,   138.46,2,    35.03,2,     0.00,2,    2.400,2,    0.012,3,    0.097,4,-999,9,-999,9,   2310.1,2,   2404.7,2,   7.5886,2,    25.00,     -999,9,     -999,9,   1.4567,2
  49UP20110515,   P13,    77,  1,     30,     103,2,20110717,0034,0058, 24.0118, 164.9763, 6078,   5092.4,     5000,   1.4560,  34.6955,2,    172.0,2,  34.6936,4,   170.62,4,   136.11,2,    34.76,2,     0.00,2,    2.380,2,     -999,9,     -999,9,-999,9,-999,9,   2308.1,2,   2401.7,2,   7.5932,2,    25.00,     -999,9,     -999,9,   1.4562,2
  49UP20110515,   P13,    77,  1,     29,     102,2,20110717,0034,0053, 24.0118, 164.9763, 6078,   5350.1,     5251,   1.4653,  34.6969,2,    175.1,2,  34.6983,2,   174.86,2,   133.90,2,    34.46,2,     0.00,2,    2.360,2,     -999,9,     -999,9,-999,9,-999,9,   2302.9,2,   2399.8,2,   7.6002,2,    25.00,     -999,9,     -999,9,   1.4653,2
  49UP20110515,   P13,    77,  1,     28,     101,2,20110717,0034,0047, 24.0118, 164.9763, 6078,   5608.2,     5501,   1.4833,  34.6981,2,    177.0,2,  34.6975,2,   177.19,2,   132.47,2,    34.26,2,     0.00,2,    2.340,2,     -999,9,     -999,9,-999,9,-999,9,   2299.5,2,   2396.8,2,   7.6021,2,    25.00,     -999,9,     -999,9,   1.4834,2
  49UP20110515,   P13,    77,  1,     27,     100,2,20110717,0034,0041, 24.0118, 164.9763, 6078,   5865.7,     5750,   1.5124,  34.6987,2,    177.7,2,  34.7002,4,   178.02,2,   132.01,2,    34.24,2,     0.00,2,    2.340,2,     -999,9,     -999,9,-999,9,-999,9,   2297.3,2,   2395.7,2,   7.6039,2,    25.00,     -999,9,     -999,9,   1.5126,2
  49UP20110515,   P13,    77,  1,     26,      99,2,20110717,0034,0034, 24.0118, 164.9763, 6078,   6128.8,     6004,   1.5427,  34.6988,2,    178.6,2,  34.6985,6,   178.68,6,   131.72,2,    34.19,2,     0.00,2,    2.340,2,    0.014,3,    0.026,4,-999,9,-999,9,   2297.1,2,   2395.8,2,   7.5973,2,    25.00,     -999,9,     -999,9,   1.5425,2