BOTTLE,20240116CCHSIOVAJ
EXPOCODE,SECT_ID,STNNBR,CASTNO,SAMPNO,BTLNBR,BTLNBR_FLAG_W,DATE,TIME,BTL_TIME,LATITUDE,LONGITUDE,DEPTH,CTDPRS,CTDDEPTH,CTDTMP,CTDSAL,CTDSAL_FLAG_W,CTDOXY,CTDOXY_FLAG_W,SALNTY,SALNTY_FLAG_W,OXYGEN,OXYGEN_FLAG_W,SILCAT,SILCAT_FLAG_W,NO2+NO3,NO2+NO3_FLAG_W,NITRIT,NITRIT_FLAG_W,PHSPHT,PHSPHT_FLAG_W,CFC-11,CFC-11_FLAG_W,CFC-12,CFC-12_FLAG_W,DELC14,DELC14_FLAG_W,DELC13,DELC13_FLAG_W,TCARBN,TCARBN_FLAG_W,ALKALI,ALKALI_FLAG_W,PH_TOT,PH_TOT_FLAG_W,PH_TMP,CHLORA,CHLORA_FLAG_W,PPHYTN,PPHYTN_FLAG_W,REFTMP,REFTMP_FLAG_W
,,,,,,,,,,,,METERS,DBAR,METERS,ITS-90,PSS-78,,UMOL/KG,,PSS-78,,UMOL/KG,,UMOL/KG,,UMOL/KG,,UMOL/KG,,UMOL/KG,,PMOL/KG,,PMOL/KG,,/MILLE,,/MILLE,,UMOL/KG,,UMOL/KG,,,,DEG C,UG/KG,,UG/KG,,ITS-90,
  49UP20110515,   P01,    36,  1,      0,     BUC,2,20110610,1422,1635, 46.0767, 158.3065, 4833,      0.0,        0,   4.9405,  32.9056,2,    339.8,2,     -999,9,   338.37,2,    35.01,2,    19.94,2,     0.20,2,    1.640,2,     -999,9,     -999,9,-999,9,-999,9,     -999,9,     -999,9,     -999,9,     -999,     1.38,2,     0.11,2,     -999,9
  49UP20110515,   P01,    36,  1,     36,     109,2,20110610,1422,1659, 46.0767, 158.3065, 4833,     10.6,       11,   4.9324,  32.9051,2,    339.4,2,  32.9091,2,   339.75,2,    34.90,2,    19.91,2,     0.20,2,    1.650,2,    5.114,2,    2.979,2,-999,9,-999,9,   2092.0,2,   2229.6,2,   7.7447,2,    25.00,     1.24,2,     0.16,2,   4.9292,2
  49UP20110515,   P01,    36,  1,     35,     108,2,20110610,1422,1655, 46.0767, 158.3065, 4833,     50.7,       50,   2.8590,  32.9646,2,    334.6,2,  32.9651,2,   334.99,6,    40.49,6,    22.61,6,     0.24,6,    1.880,6,    5.780,2,    3.087,2,-999,9,-999,9,   2116.4,2,   2231.2,2,   7.6824,6,    25.00,     0.43,2,     0.27,2,   2.8476,2
  49UP20110515,   P01,    36,  1,     34,     107,2,20110610,1422,1652, 46.0767, 158.3065, 4833,    101.5,      101,   1.4628,  33.0905,2,    315.3,2,  33.0945,2,   312.73,2,    49.11,2,    27.03,2,     0.04,2,    2.120,2,    5.593,2,    3.054,2,-999,9,-999,9,   2147.7,2,   2238.3,2,   7.6128,2,    25.00,     0.07,2,     0.07,2,   1.4627,2
  49UP20110515,   P01,    36,  1,     33,     106,2,20110610,1422,1650, 46.0767, 158.3065, 4833,    126.3,      125,   2.1554,  33.3327,2,    228.2,2,  33.3426,4,   223.81,2,    64.18,6,    32.84,6,     0.01,6,    2.460,6,    4.398,2,    2.479,2,-999,9,-999,9,   2205.1,2,   2256.9,2,   7.4791,2,    25.00,     0.03,2,     0.06,2,   2.1574,2
  49UP20110515,   P01,    36,  1,     32,     105,2,20110610,1422,1648, 46.0767, 158.3065, 4833,    151.3,      150,   3.2586,  33.6553,2,    116.4,2,  33.6440,4,   117.04,2,    82.56,3,    39.32,2,     0.01,2,    2.850,2,    3.323,2,    1.716,2,-999,9,-999,9,   2272.4,2,   2280.0,2,   7.3556,2,    25.00,     0.01,2,     0.07,2,   3.2492,2
  49UP20110515,   P01,    36,  1,     31,     104,2,20110610,1422,1645, 46.0767, 158.3065, 4833,    202.0,      200,   3.3927,  33.8403,2,     51.6,2,  33.8386,2,    51.97,2,    97.00,2,    43.35,2,     0.01,2,    3.100,2,    2.403,6,    1.190,6,-999,9,-999,9,   2322.3,6,   2296.6,3,   7.2542,2,    25.00,     0.01,2,     0.06,2,   3.3947,2
  49UP20110515,   P01,    36,  1,     30,     103,3,20110610,1422,1643, 46.0767, 158.3065, 4833,    252.4,      250,   3.6946,  33.9786,2,     20.8,2,  33.9779,2,    21.14,6,   105.16,2,    45.10,2,     0.00,2,    3.190,2,    1.773,2,    0.856,2,-999,9,-999,9,   2343.4,2,   2308.0,2,   7.2319,2,    25.00,     -999,9,     -999,9,   3.6954,2
  49UP20110515,   P01,    36,  1,     29,     102,2,20110610,1422,1643, 46.0767, 158.3065, 4833,    252.4,      250,   3.6946,  33.9786,2,     20.8,2,  33.9781,2,    20.96,2,   104.94,2,    45.07,2,     0.00,2,    3.190,2,    1.849,2,    0.884,2,-999,9,-999,9,   2342.0,2,   2308.2,2,   7.2329,2,    25.00,     -999,9,     -999,9,   3.6954,2
  49UP20110515,   P01,    36,  1,     28,     101,3,20110610,1422,1642, 46.0767, 158.3065, 4833,    282.9,      280,   3.6707,  34.0232,2,     18.6,2,  34.0212,2,    18.54,2,   108.75,2,    44.90,2,     0.00,2,    3.190,2,    1.603,2,    0.761,2,-999,9,-999,9,   2344.3,2,   2310.5,3,   7.2416,2,    25.00,     -999,9,     -999,9,   3.6718,2
  49UP20110515,   P01,    36,  1,     27,     100,2,20110610,1422,1640, 46.0767, 158.3065, 4833,    373.9,      370,   3.5694,  34.1173,2,     16.3,2,  34.1159,2,    18.37,2,   117.78,2,    44.50,2,     0.01,2,    3.180,2,    1.063,6,    0.531,6,-999,9,-999,9,   2353.4,2,   2328.3,2,   7.2543,2,    25.00,     -999,9,     -999,9,   3.5699,2
  49UP20110515,   P01,    36,  1,     26,      99,2,20110610,1422,1635, 46.0767, 158.3065, 4833,    475.2,      471,   3.4023,  34.2030,2,     15.2,2,  34.2016,2,    14.59,2,   126.57,2,    44.42,2,     0.00,2,    3.160,2,    0.632,2,    0.344,2,-999,9,-999,9,   2363.8,2,   2341.3,2,   7.2700,2,    25.00,     -999,9,     -999,9,   3.4031,2
  49UP20110515,   P01,    36,  1,     25,      98,2,20110610,1422,1633, 46.0767, 158.3065, 4833,    575.8,      570,   3.2187,  34.2628,2,     15.1,2,  34.2624,6,    14.39,2,   134.55,2,    44.38,2,     0.00,2,    3.170,2,    0.400,2,    0.231,2,-999,9,-999,9,   2368.7,2,   2353.5,2,   7.2827,2,    25.00,     -999,9,     -999,9,   3.2191,2
  49UP20110515,   P01,    36,  1,     24,      97,2,20110610,1422,1630, 46.0767, 158.3065, 4833,    677.9,      671,   3.0395,  34.3173,2,     15.0,2,  34.3168,2,    14.32,6,   141.60,2,    44.30,2,     0.00,2,    3.170,2,    0.232,2,    0.162,2,-999,9,-999,9,   2378.0,2,   2363.6,2,   7.2895,2,    25.00,     -999,9,     -999,9,   3.0399,2
  49UP20110515,   P01,    36,  1,     23,      96,2,20110610,1422,1624, 46.0767, 158.3065, 4833,    778.3,      770,   2.8378,  34.3587,2,     18.6,2,  34.3581,2,    17.60,2,   148.72,2,    44.14,2,     0.00,2,    3.160,2,    0.233,2,    0.155,2,-999,9,-999,9,   2381.3,6,   2369.7,6,   7.3002,2,    25.00,     -999,9,     -999,9,   2.8381,2
  49UP20110515,   P01,    36,  1,     22,      95,3,20110610,1422,1621, 46.0767, 158.3065, 4833,    879.9,      871,   2.6492,  34.4043,2,     21.8,2,  34.4038,2,    22.62,2,   154.68,2,    43.93,2,     0.00,2,    3.140,2,    0.149,2,    0.121,2,-999,9,-999,9,   2382.4,2,   2378.9,2,   7.3143,2,    25.00,     -999,9,     -999,9,   2.6496,2
  49UP20110515,   P01,    36,  1,     21,      94,2,20110610,1422,1619, 46.0767, 158.3065, 4833,    980.7,      970,   2.5292,  34.4331,2,     27.8,2,  34.4332,2,    27.48,2,   157.22,2,    43.58,2,     0.00,2,    3.120,2,    0.089,2,    0.100,2,-999,9,-999,9,   2384.1,2,   2383.2,2,   7.3355,2,    25.00,     -999,9,     -999,9,   2.5292,2
  49UP20110515,   P01,    36,  1,     20,      93,2,20110610,1422,1612, 46.0767, 158.3065, 4833,   1143.4,     1131,   2.3387,  34.4792,2,     33.7,2,  34.4785,2,    33.61,2,   163.28,2,    43.24,2,     0.00,2,    3.090,2,    0.015,2,    0.077,2,-999,9,-999,9,   2381.9,2,   2390.3,2,   7.3445,2,    25.00,     -999,9,     -999,9,   2.3400,2
  49UP20110515,   P01,    36,  1,     19,      92,3,20110610,1422,1605, 46.0767, 158.3065, 4833,   1346.1,     1331,   2.1428,  34.5254,2,     47.1,2,  34.5236,2,    47.19,2,   166.45,2,    42.50,2,     0.00,2,    3.010,3,    0.000,2,    0.084,2,-999,9,-999,9,   2381.7,2,   2398.5,2,   7.3735,2,    25.00,     -999,9,     -999,9,   2.1430,2
  49UP20110515,   P01,    36,  1,     18,      91,2,20110610,1422,1605, 46.0767, 158.3065, 4833,   1346.1,     1331,   2.1428,  34.5254,2,     47.1,2,  34.5238,2,    47.24,2,   166.73,2,    42.49,2,     0.00,2,    3.030,2,    0.000,2,    0.057,2,-999,9,-999,9,   2380.1,2,   2397.4,2,   7.3777,2,    25.00,     -999,9,     -999,9,   2.1430,2
  49UP20110515,   P01,    36,  1,     17,      90,2,20110610,1422,1600, 46.0767, 158.3065, 4833,   1548.3,     1530,   2.0081,  34.5614,2,     56.2,2,  34.5593,4,    56.28,2,   168.93,2,    42.01,2,     0.00,2,    3.000,2,    0.000,2,    0.047,2,-999,9,-999,9,   2379.3,2,   2404.5,2,   7.3998,2,    25.00,     -999,9,     -999,9,   2.0083,2
  49UP20110515,   P01,    36,  1,     16,      89,2,20110610,1422,1556, 46.0767, 158.3065, 4833,   1751.6,     1730,   1.8792,  34.5926,2,     70.1,2,  34.5919,6,    70.17,2,   168.62,6,    41.25,6,     0.00,6,    2.940,6,    0.000,2,    0.028,2,-999,9,-999,9,   2375.7,2,   2408.6,2,   7.4285,2,    25.00,     -999,9,     -999,9,   1.8794,2
  49UP20110515,   P01,    36,  1,     15,      88,2,20110610,1422,1548, 46.0767, 158.3065, 4833,   1955.6,     1931,   1.7739,  34.6148,2,     83.7,2,  34.6041,4,    83.45,2,   167.43,2,    40.38,2,     0.00,2,    2.890,2,    0.000,2,    0.042,2,-999,9,-999,9,   2369.7,2,   2411.9,2,   7.4538,6,    25.00,     -999,9,     -999,9,   1.7739,2
  49UP20110515,   P01,    36,  1,     14,      87,2,20110610,1422,1543, 46.0767, 158.3065, 4833,   2159.8,     2131,   1.6941,  34.6307,2,     95.9,2,  34.6312,2,    95.96,2,   166.07,2,    39.74,2,     0.00,2,    2.810,2,    0.000,2,    0.025,2,-999,9,-999,9,   2360.8,2,   2414.2,2,   7.4741,2,    25.00,     -999,9,     -999,9,   1.6942,2
  49UP20110515,   P01,    36,  1,     13,      86,3,20110610,1422,1539, 46.0767, 158.3065, 4833,   2363.2,     2331,   1.6252,  34.6437,2,    107.5,2,  34.6426,2,   111.53,4,   162.89,3,    39.05,2,     0.00,2,    2.760,2,    0.000,2,    0.034,2,-999,9,-999,9,   2354.5,2,   2414.5,2,   7.5007,2,    25.00,     -999,9,     -999,9,   1.6252,2
  49UP20110515,   P01,    36,  1,     12,      85,2,20110610,1422,1528, 46.0767, 158.3065, 4833,   2567.4,     2531,   1.5728,  34.6538,2,    117.5,2,  34.6542,2,   117.76,2,   160.36,2,    38.44,2,     0.00,2,    2.700,2,     -999,9,     -999,9,-999,9,-999,9,   2348.5,2,   2414.2,2,   7.5205,2,    25.00,     -999,9,     -999,9,   1.5728,2
  49UP20110515,   P01,    36,  1,     11,     110,2,20110610,1422,1524, 46.0767, 158.3065, 4833,   2771.0,     2730,   1.5272,  34.6619,2,    125.8,2,  34.6624,2,   125.85,6,   158.66,2,    37.95,2,     0.00,2,    2.670,2,     -999,9,     -999,9,-999,9,-999,9,   2345.0,2,   2415.6,2,   7.5340,2,    25.00,     -999,9,     -999,9,   1.5273,2
  49UP20110515,   P01,    36,  1,     10,      83,2,20110610,1422,1516, 46.0767, 158.3065, 4833,   2975.8,     2931,   1.4991,  34.6673,2,    131.6,2,  34.6675,2,   131.51,2,   157.26,2,    37.50,2,     0.00,2,    2.630,2,     -999,9,     -999,9,-999,9,-999,9,   2339.8,2,   2414.7,2,   7.5450,2,    25.00,     -999,9,     -999,9,   1.4988,2
  49UP20110515,   P01,    36,  1,      9,      82,2,20110610,1422,1510, 46.0767, 158.3065, 4833,   3221.2,     3171,   1.4715,  34.6732,2,    138.3,2,  34.6737,2,   138.07,2,   155.10,3,    37.15,2,     0.00,2,    2.600,2,    0.000,2,    0.031,2,-999,9,-999,9,   2333.2,2,   2415.8,2,   7.5550,2,    25.00,     -999,9,     -999,9,   1.4715,2
  49UP20110515,   P01,    36,  1,      8,      81,2,20110610,1422,1503, 46.0767, 158.3065, 4833,   3477.5,     3421,   1.4527,  34.6780,2,    144.1,2,  34.6780,2,   143.99,2,   153.68,2,    36.74,2,     0.00,2,    2.570,2,     -999,9,     -999,9,-999,9,-999,9,   2330.5,2,   2413.8,6,   7.5621,2,    25.00,     -999,9,     -999,9,   1.4526,2
  49UP20110515,   P01,    36,  1,      7,      80,2,20110610,1422,1456, 46.0767, 158.3065, 4833,   3735.5,     3672,   1.4447,  34.6817,2,    148.3,2,  34.6819,2,   148.23,2,   153.22,2,    36.41,2,     0.00,2,    2.550,2,     -999,9,     -999,9,-999,9,-999,9,   2327.6,2,   2412.8,2,   7.5667,3,    25.00,     -999,9,     -999,9,   1.4446,2
  49UP20110515,   P01,    36,  1,      6,      79,2,20110610,1422,1456, 46.0767, 158.3065, 4833,   3735.5,     3672,   1.4447,  34.6817,2,    148.3,2,  34.6813,2,   148.28,2,   153.11,2,    36.44,2,     0.00,2,    2.550,2,     -999,9,     -999,9,-999,9,-999,9,   2328.0,2,   2413.7,2,   7.5685,2,    25.00,     -999,9,     -999,9,   1.4446,2
  49UP20110515,   P01,    36,  1,      5,      78,2,20110610,1422,1448, 46.0767, 158.3065, 4833,   3991.9,     3922,   1.4436,  34.6847,2,    152.0,2,  34.6852,6,   153.00,2,   152.12,2,    36.17,2,     0.00,2,    2.510,2,    0.000,2,    0.021,2,-999,9,-999,9,   2326.7,2,   2411.9,2,   7.5736,2,    25.00,     -999,9,     -999,9,   1.4436,2
  49UP20110515,   P01,    36,  1,      4,      77,2,20110610,1422,1442, 46.0767, 158.3065, 4833,   4247.9,     4171,   1.4541,  34.6868,2,    154.3,2,  34.6869,2,   154.65,2,   152.02,2,    36.01,2,     0.00,2,    2.490,2,     -999,9,     -999,9,-999,9,-999,9,   2324.0,2,   2412.8,2,   7.5790,2,    25.00,     -999,9,     -999,9,   1.4542,2
  49UP20110515,   P01,    36,  1,      3,      76,2,20110610,1422,1434, 46.0767, 158.3065, 4833,   4505.4,     4422,   1.4722,  34.6880,2,    155.7,2,  34.6884,2,   156.36,2,   151.56,2,    35.90,6,     0.00,6,    2.490,6,     -999,9,     -999,9,-999,9,-999,9,   2323.1,2,   2412.9,2,   7.5835,2,    25.00,     -999,9,     -999,9,   1.4720,2
  49UP20110515,   P01,    36,  1,      2,      75,2,20110610,1422,1429, 46.0767, 158.3065, 4833,   4762.7,     4671,   1.4883,  34.6896,2,    157.5,2,  34.6900,2,   157.99,2,   151.72,2,    35.75,2,     0.00,2,    2.480,2,     -999,9,     -999,9,-999,9,-999,9,   2320.7,2,   2415.0,2,   7.5847,2,    25.00,     -999,9,     -999,9,   1.4883,2
  49UP20110515,   P01,    36,  1,      1,      74,2,20110610,1422,1423, 46.0767, 158.3065, 4833,   4911.7,     4816,   1.5014,  34.6903,2,    158.0,2,  34.6909,2,   158.35,2,   152.03,2,    35.69,2,     0.00,2,    2.470,2,     -999,9,     -999,9,-999,9,-999,9,   2321.6,2,   2413.2,2,   7.5837,2,    25.00,     -999,9,     -999,9,   1.5012,2