BOTTLE,20240116CCHSIOVAJ
EXPOCODE,SECT_ID,STNNBR,CASTNO,SAMPNO,BTLNBR,BTLNBR_FLAG_W,DATE,TIME,BTL_TIME,LATITUDE,LONGITUDE,DEPTH,CTDPRS,CTDDEPTH,CTDTMP,CTDSAL,CTDSAL_FLAG_W,CTDOXY,CTDOXY_FLAG_W,SALNTY,SALNTY_FLAG_W,OXYGEN,OXYGEN_FLAG_W,SILCAT,SILCAT_FLAG_W,NO2+NO3,NO2+NO3_FLAG_W,NITRIT,NITRIT_FLAG_W,PHSPHT,PHSPHT_FLAG_W,CFC-11,CFC-11_FLAG_W,CFC-12,CFC-12_FLAG_W,DELC14,DELC14_FLAG_W,DELC13,DELC13_FLAG_W,TCARBN,TCARBN_FLAG_W,ALKALI,ALKALI_FLAG_W,PH_TOT,PH_TOT_FLAG_W,PH_TMP,CHLORA,CHLORA_FLAG_W,PPHYTN,PPHYTN_FLAG_W,REFTMP,REFTMP_FLAG_W
,,,,,,,,,,,,METERS,DBAR,METERS,ITS-90,PSS-78,,UMOL/KG,,PSS-78,,UMOL/KG,,UMOL/KG,,UMOL/KG,,UMOL/KG,,UMOL/KG,,PMOL/KG,,PMOL/KG,,/MILLE,,/MILLE,,UMOL/KG,,UMOL/KG,,,,DEG C,UG/KG,,UG/KG,,ITS-90,
  49UP20110515,   P01,    26,  1,      0,     BUC,2,20110607,0645,0910, 41.5765, 150.8897, 5209,      0.0,        0,   8.9733,  33.1391,2,    310.9,2,     -999,9,   308.24,2,     7.50,2,     7.69,2,     0.11,2,    0.890,2,     -999,9,     -999,9,-999,9,-999,9,     -999,9,     -999,9,     -999,9,     -999,     0.50,2,     0.05,2,     -999,9
  49UP20110515,   P01,    26,  1,     36,     109,2,20110607,0645,0932, 41.5765, 150.8897, 5209,     10.4,       10,   8.6525,  33.1677,2,    314.2,2,  33.1896,4,   313.72,2,     6.96,2,     6.76,2,     0.11,2,    0.790,2,    0.862,4,    0.254,4,-999,9,-999,9,   2045.9,2,   2248.6,2,   7.8828,2,    25.00,     0.73,2,     0.08,2,   8.6466,2
  49UP20110515,   P01,    26,  1,     35,     108,2,20110607,0645,0926, 41.5765, 150.8897, 5209,     51.4,       51,   5.7491,  33.2043,2,    320.7,2,  33.1720,4,   325.79,2,    21.08,6,    14.35,6,     0.26,6,    1.340,6,    5.365,2,    2.840,2,-999,9,-999,9,   2084.9,2,   2244.8,2,   7.7916,2,    25.00,     0.95,2,     0.31,2,   5.7306,2
  49UP20110515,   P01,    26,  1,     34,     107,2,20110607,0645,0924, 41.5765, 150.8897, 5209,     77.1,       76,   3.6447,  33.2638,2,    309.9,2,  33.2655,2,   309.66,2,    34.02,2,    20.19,2,     0.26,2,    1.690,2,    5.379,2,    2.927,2,-999,9,-999,9,   2125.6,2,   2243.0,2,   7.6880,2,    25.00,     0.15,2,     0.14,2,   3.6858,2
  49UP20110515,   P01,    26,  1,     33,     106,2,20110607,0645,0922, 41.5765, 150.8897, 5209,    102.2,      101,   2.8283,  33.2975,2,    290.6,2,  33.2963,6,   289.80,2,    43.17,6,    23.86,6,     0.02,6,    1.890,6,    5.297,2,    2.812,2,-999,9,-999,9,   2150.0,2,   2247.8,2,   7.6204,2,    25.00,     0.06,2,     0.11,2,   2.8244,2
  49UP20110515,   P01,    26,  1,     32,     105,2,20110607,0645,0920, 41.5765, 150.8897, 5209,    127.3,      126,   2.3502,  33.3353,2,    261.5,2,  33.3414,2,   259.55,2,    53.12,2,    27.46,2,     0.02,2,    2.130,2,    5.073,2,    2.666,2,-999,9,-999,9,   2178.0,2,   2252.6,2,   7.5523,2,    25.00,     0.03,2,     0.10,2,   2.3464,2
  49UP20110515,   P01,    26,  1,     31,     104,2,20110607,0645,0918, 41.5765, 150.8897, 5209,    152.1,      151,   2.4024,  33.4065,2,    227.4,2,  33.4124,2,   223.76,2,    60.71,4,    30.53,2,     0.02,2,    2.330,2,    4.552,6,    2.518,6,-999,9,-999,9,   2202.7,2,   2260.0,2,   7.5125,2,    25.00,     0.03,2,     0.10,2,   2.4026,2
  49UP20110515,   P01,    26,  1,     30,     103,3,20110607,0645,0915, 41.5765, 150.8897, 5209,    203.2,      202,   2.6901,  33.5978,2,    151.3,2,  33.5953,2,   150.40,2,    77.87,2,    36.11,2,     0.01,2,    2.680,2,    3.722,2,    2.014,2,-999,9,-999,9,   2255.3,2,   2275.0,2,   7.3932,6,    25.00,     0.03,2,     0.11,2,   2.6898,2
  49UP20110515,   P01,    26,  1,     29,     102,2,20110607,0645,0913, 41.5765, 150.8897, 5209,    253.7,      252,   3.0503,  33.7373,2,    110.9,2,  33.7378,2,   110.02,2,    87.28,2,    38.55,2,     0.01,2,    2.820,2,    3.113,2,    1.659,2,-999,9,-999,9,   2284.3,6,   2287.8,6,   7.3473,2,    25.00,     -999,9,     -999,9,   3.0509,2
  49UP20110515,   P01,    26,  1,     28,     101,2,20110607,0645,0910, 41.5765, 150.8897, 5209,    334.4,      332,   3.4563,  33.9150,2,     70.8,2,  33.9149,2,    70.51,2,    98.14,2,    40.65,2,     0.01,2,    2.950,2,    2.288,2,    1.201,2,-999,9,-999,9,   2307.2,2,   2304.3,2,   7.3119,2,    25.00,     -999,9,     -999,9,   3.4568,2
  49UP20110515,   P01,    26,  1,     27,     100,2,20110607,0645,0907, 41.5765, 150.8897, 5209,    434.3,      430,   3.3732,  34.0367,2,     48.9,2,  34.0407,2,    48.82,6,   111.31,2,    42.07,2,     0.00,2,    3.030,2,    1.592,6,    0.831,6,-999,9,-999,9,   2328.9,2,   2318.3,2,   7.3038,2,    25.00,     -999,9,     -999,9,   3.3737,2
  49UP20110515,   P01,    26,  1,     26,      99,2,20110607,0645,0904, 41.5765, 150.8897, 5209,    535.9,      531,   3.3434,  34.1430,2,     38.5,2,  34.1439,6,    38.73,2,   120.65,2,    42.56,2,     0.00,2,    3.050,2,    1.164,2,    0.572,2,-999,9,-999,9,   2340.6,2,   2336.7,2,   7.3127,2,    25.00,     -999,9,     -999,9,   3.3439,2
  49UP20110515,   P01,    26,  1,     25,      98,2,20110607,0645,0901, 41.5765, 150.8897, 5209,    637.8,      632,   3.3069,  34.2490,2,     36.9,2,  34.2494,2,    37.06,2,   128.03,2,    42.41,2,     0.00,2,    3.050,2,    0.750,2,    0.351,2,-999,9,-999,9,   2348.4,2,   2350.5,2,   7.3252,2,    25.00,     -999,9,     -999,9,   3.3071,2
  49UP20110515,   P01,    26,  1,     24,      97,2,20110607,0645,0856, 41.5765, 150.8897, 5209,    738.2,      731,   3.1570,  34.2928,2,     35.9,2,  34.2940,2,    35.76,6,   133.80,2,    42.54,2,     0.00,2,    3.060,2,    0.593,2,    0.268,2,-999,9,-999,9,   2352.6,2,   2358.5,2,   7.3284,2,    25.00,     -999,9,     -999,9,   3.1559,2
  49UP20110515,   P01,    26,  1,     23,      96,2,20110607,0645,0851, 41.5765, 150.8897, 5209,    838.9,      831,   3.0013,  34.3445,2,     36.4,2,  34.3449,2,    36.35,2,   139.70,2,    42.70,2,     0.00,2,    3.060,2,    0.455,2,    0.205,2,-999,9,-999,9,   2366.9,2,   2365.6,2,   7.3440,2,    25.00,     -999,9,     -999,9,   3.0017,2
  49UP20110515,   P01,    26,  1,     22,      95,2,20110607,0645,0848, 41.5765, 150.8897, 5209,    940.6,      931,   2.8505,  34.3808,2,     36.7,2,  34.3810,2,    37.34,2,   144.58,2,    42.85,2,     0.00,2,    3.080,2,    0.365,2,    0.146,2,-999,9,-999,9,   2368.6,2,   2375.4,2,   7.3482,3,    25.00,     -999,9,     -999,9,   2.8508,2
  49UP20110515,   P01,    26,  1,     21,      94,2,20110607,0645,0845, 41.5765, 150.8897, 5209,   1082.9,     1072,   2.6314,  34.4289,2,     37.7,2,  34.4290,2,    37.67,2,   151.43,2,    42.94,2,     0.00,2,    3.080,2,    0.251,2,    0.092,2,-999,9,-999,9,   2374.2,6,   2381.2,6,   7.3503,2,    25.00,     -999,9,     -999,9,   2.6317,2
  49UP20110515,   P01,    26,  1,     20,      93,2,20110607,0645,0839, 41.5765, 150.8897, 5209,   1285.8,     1272,   2.3465,  34.4774,2,     43.3,2,  34.4773,2,    43.26,2,   159.56,2,    42.83,2,     0.00,2,    3.060,2,    0.193,2,    0.074,2,-999,9,-999,9,   2381.6,2,   2389.3,2,   7.3618,2,    25.00,     -999,9,     -999,9,   2.3471,2
  49UP20110515,   P01,    26,  1,     19,      92,3,20110607,0645,0831, 41.5765, 150.8897, 5209,   1488.6,     1472,   2.2156,  34.5118,2,     50.1,2,  34.5139,4,    49.85,2,   162.40,2,    42.44,2,     0.00,2,    3.010,3,    0.180,2,    0.054,2,-999,9,-999,9,   2376.4,2,   2396.7,2,   7.3807,2,    25.00,     -999,9,     -999,9,   2.2158,2
  49UP20110515,   P01,    26,  1,     18,      91,2,20110607,0645,0827, 41.5765, 150.8897, 5209,   1691.4,     1671,   2.1104,  34.5575,2,     58.9,2,  34.5584,2,    58.98,2,   163.00,6,    42.09,6,     0.00,6,    2.980,6,    0.058,2,    0.000,2,-999,9,-999,9,   2381.8,2,   2404.8,3,   7.4051,2,    25.00,     -999,9,     -999,9,   2.1106,2
  49UP20110515,   P01,    26,  1,     17,      90,2,20110607,0645,0821, 41.5765, 150.8897, 5209,   1894.9,     1872,   1.9708,  34.5868,2,     70.1,2,  34.5873,2,    69.74,2,   164.34,2,    41.53,2,     0.00,2,    2.930,2,    0.058,2,    0.000,2,-999,9,-999,9,   2373.8,2,   2408.9,2,   7.4337,2,    25.00,     -999,9,     -999,9,   1.9711,2
  49UP20110515,   P01,    26,  1,     16,      89,2,20110607,0645,0815, 41.5765, 150.8897, 5209,   2097.8,     2071,   1.8388,  34.6106,2,     84.0,2,  34.6113,2,    83.59,2,   164.21,2,    40.59,2,     0.00,2,    2.850,2,    0.066,2,    0.000,2,-999,9,-999,9,   2368.8,2,   2412.0,2,   7.4539,2,    25.00,     -999,9,     -999,9,   1.8389,2
  49UP20110515,   P01,    26,  1,     15,      88,2,20110607,0645,0810, 41.5765, 150.8897, 5209,   2302.3,     2272,   1.7523,  34.6260,2,     94.0,2,  34.6266,6,    93.81,2,   164.16,2,    40.06,2,     0.00,2,    2.810,2,    0.035,2,    0.000,2,-999,9,-999,9,   2357.8,2,   2415.5,2,   7.4769,2,    25.00,     -999,9,     -999,9,   1.7526,2
  49UP20110515,   P01,    26,  1,     14,      87,2,20110607,0645,0803, 41.5765, 150.8897, 5209,   2506.0,     2472,   1.6613,  34.6413,2,    105.4,2,  34.6430,2,   105.67,2,   163.11,2,    39.22,2,     0.00,2,    2.760,2,    0.034,2,    0.000,2,-999,9,-999,9,   2356.5,2,   2414.3,2,   7.4943,2,    25.00,     -999,9,     -999,9,   1.6614,2
  49UP20110515,   P01,    26,  1,     13,      86,2,20110607,0645,0758, 41.5765, 150.8897, 5209,   2711.8,     2673,   1.5959,  34.6523,2,    115.6,2,  34.6533,2,   115.41,6,   161.32,2,    38.48,2,     0.00,2,    2.710,2,     -999,9,     -999,9,-999,9,-999,9,   2347.1,2,   2413.8,2,   7.5145,2,    25.00,     -999,9,     -999,9,   1.5957,2
  49UP20110515,   P01,    26,  1,     12,      85,2,20110607,0645,0753, 41.5765, 150.8897, 5209,   2914.3,     2872,   1.5498,  34.6612,2,    125.0,2,  34.6624,2,   124.93,2,   158.51,2,    38.04,2,     0.00,2,    2.660,2,     -999,9,     -999,9,-999,9,-999,9,   2341.0,2,   2417.0,2,   7.5348,2,    25.00,     -999,9,     -999,9,   1.5498,2
  49UP20110515,   P01,    26,  1,     11,     110,2,20110607,0645,0747, 41.5765, 150.8897, 5209,   3129.4,     3082,   1.5145,  34.6678,2,    131.6,2,  34.6685,2,   131.72,2,   157.07,2,    37.58,2,     0.00,2,    2.630,2,     -999,9,     -999,9,-999,9,-999,9,   2335.5,2,   2416.5,2,   7.5396,2,    25.00,     -999,9,     -999,9,   1.5147,2
  49UP20110515,   P01,    26,  1,     10,      83,3,20110607,0645,0741, 41.5765, 150.8897, 5209,   3384.2,     3331,   1.4828,  34.6739,2,    138.8,2,  34.6752,2,   138.51,2,   155.50,2,    37.25,2,     0.00,2,    2.590,2,    0.063,2,    0.000,2,-999,9,-999,9,   2330.4,2,   2414.9,2,   7.5566,2,    25.00,     -999,9,     -999,9,   1.4828,2
  49UP20110515,   P01,    26,  1,      9,      82,2,20110607,0645,0733, 41.5765, 150.8897, 5209,   3640.6,     3581,   1.4589,  34.6794,2,    145.2,2,  34.6798,2,   144.86,2,   153.71,2,    36.73,2,     0.00,2,    2.560,2,     -999,9,     -999,9,-999,9,-999,9,   2330.4,2,   2414.6,2,   7.5682,2,    25.00,     -999,9,     -999,9,   1.4589,2
  49UP20110515,   P01,    26,  1,      8,      81,2,20110607,0645,0728, 41.5765, 150.8897, 5209,   3896.5,     3831,   1.4515,  34.6831,2,    149.8,2,  34.6835,2,   149.30,2,   152.56,2,    36.55,2,     0.00,2,    2.550,2,     -999,9,     -999,9,-999,9,-999,9,   2328.5,2,   2412.9,2,   7.5714,2,    25.00,     -999,9,     -999,9,   1.4515,2
  49UP20110515,   P01,    26,  1,      7,      80,3,20110607,0645,0721, 41.5765, 150.8897, 5209,   4152.7,     4080,   1.4498,  34.6864,2,    153.6,2,  34.6866,6,   153.13,2,   151.71,2,    36.21,2,     0.00,2,    2.510,2,     -999,9,     -999,9,-999,9,-999,9,   2322.3,2,   2413.3,2,   7.5803,2,    25.00,     -999,9,     -999,9,   1.4499,2
  49UP20110515,   P01,    26,  1,      6,      79,2,20110607,0645,0716, 41.5765, 150.8897, 5209,   4410.0,     4331,   1.4623,  34.6881,2,    155.7,2,  34.6883,2,   155.53,2,   151.42,6,    36.00,6,     0.00,6,    2.520,6,    0.034,2,    0.000,2,-999,9,-999,9,   2320.0,2,   2411.5,2,   7.5813,2,    25.00,     -999,9,     -999,9,   1.4623,2
  49UP20110515,   P01,    26,  1,      5,      78,2,20110607,0645,0706, 41.5765, 150.8897, 5209,   4668.4,     4582,   1.4812,  34.6894,2,    157.1,2,  34.6894,2,   156.93,2,   151.52,2,    35.97,2,     0.00,2,    2.500,2,     -999,9,     -999,9,-999,9,-999,9,   2320.2,2,   2413.2,3,   7.5868,2,    25.00,     -999,9,     -999,9,   1.4811,2
  49UP20110515,   P01,    26,  1,      4,      77,2,20110607,0645,0706, 41.5765, 150.8897, 5209,   4668.4,     4582,   1.4812,  34.6894,2,    157.1,2,  34.6897,2,   156.85,2,   151.42,2,    35.95,2,     0.00,2,    2.500,2,     -999,9,     -999,9,-999,9,-999,9,   2322.1,6,   2415.5,2,   7.5903,2,    25.00,     -999,9,     -999,9,   1.4811,2
  49UP20110515,   P01,    26,  1,      3,      76,2,20110607,0645,0657, 41.5765, 150.8897, 5209,   4925.1,     4831,   1.5049,  34.6904,2,    158.0,2,  34.6906,2,   157.71,2,   151.81,2,    35.85,2,     0.00,2,    2.500,2,     -999,9,     -999,9,-999,9,-999,9,   2316.8,2,   2413.6,2,   7.5892,2,    25.00,     -999,9,     -999,9,   1.5048,2
  49UP20110515,   P01,    26,  1,      2,      75,2,20110607,0645,0650, 41.5765, 150.8897, 5209,   5182.9,     5081,   1.5315,  34.6911,2,    158.7,2,  34.6914,2,   158.49,6,   151.95,2,    35.85,2,     0.00,2,    2.500,2,    0.041,2,    0.000,2,-999,9,-999,9,   2320.0,2,   2413.2,2,   7.5873,2,    25.00,     -999,9,     -999,9,   1.5314,2
  49UP20110515,   P01,    26,  1,      1,      74,2,20110607,0645,0646, 41.5765, 150.8897, 5209,   5302.4,     5197,   1.5405,  34.6916,2,    159.9,2,  34.6906,2,   160.07,2,   150.36,2,    35.74,2,     0.00,2,    2.490,2,     -999,9,     -999,9,-999,9,-999,9,   2321.3,2,   2411.3,2,   7.5829,2,    25.00,     -999,9,     -999,9,   1.5404,2