BOTTLE,20240116CCHSIOVAJ
EXPOCODE,SECT_ID,STNNBR,CASTNO,SAMPNO,BTLNBR,BTLNBR_FLAG_W,DATE,TIME,BTL_TIME,LATITUDE,LONGITUDE,DEPTH,CTDPRS,CTDDEPTH,CTDTMP,CTDSAL,CTDSAL_FLAG_W,CTDOXY,CTDOXY_FLAG_W,SALNTY,SALNTY_FLAG_W,OXYGEN,OXYGEN_FLAG_W,SILCAT,SILCAT_FLAG_W,NO2+NO3,NO2+NO3_FLAG_W,NITRIT,NITRIT_FLAG_W,PHSPHT,PHSPHT_FLAG_W,CFC-11,CFC-11_FLAG_W,CFC-12,CFC-12_FLAG_W,DELC14,DELC14_FLAG_W,DELC13,DELC13_FLAG_W,TCARBN,TCARBN_FLAG_W,ALKALI,ALKALI_FLAG_W,PH_TOT,PH_TOT_FLAG_W,PH_TMP,CHLORA,CHLORA_FLAG_W,PPHYTN,PPHYTN_FLAG_W,REFTMP,REFTMP_FLAG_W
,,,,,,,,,,,,METERS,DBAR,METERS,ITS-90,PSS-78,,UMOL/KG,,PSS-78,,UMOL/KG,,UMOL/KG,,UMOL/KG,,UMOL/KG,,UMOL/KG,,PMOL/KG,,PMOL/KG,,/MILLE,,/MILLE,,UMOL/KG,,UMOL/KG,,,,DEG C,UG/KG,,UG/KG,,ITS-90,
  49UP20110515,   P13,    83,  1,      0,     BUC,2,20110718,2345,0140, 19.9992, 164.9902, 5362,      0.0,        0,  29.0953,  34.7033,2,    198.1,2,     -999,9,   196.59,2,     1.26,2,     0.18,2,     0.01,2,    0.120,2,     -999,9,     -999,9,-999,9,-999,9,     -999,9,     -999,9,     -999,9,     -999,     0.06,2,     0.01,2,     -999,9
  49UP20110515,   P13,    83,  1,     36,     109,2,20110718,2345,0159, 19.9992, 164.9902, 5362,     11.6,       12,  29.0169,  34.6989,2,    198.0,2,  34.6977,2,   197.48,2,     1.19,2,     0.09,2,     0.01,2,    0.060,2,    1.752,3,    1.060,2,47.4,2,1.1,2,   1937.6,2,   2278.1,2,   8.1217,2,    25.00,     0.06,2,     0.01,2,  28.9983,2
  49UP20110515,   P13,    83,  1,     35,     108,2,20110718,2345,0155, 19.9992, 164.9902, 5362,     50.0,       50,  28.8458,  34.7110,2,    198.0,2,  34.7120,2,   197.36,2,     1.14,2,     0.11,2,     0.01,2,    0.060,2,    1.768,3,    1.089,2,60.9,2,1.1,2,   1936.9,2,   2276.5,2,   8.1193,2,    25.00,     0.08,2,     0.02,2,  28.8485,2
  49UP20110515,   P13,    83,  1,     34,     107,2,20110718,2345,0153, 19.9992, 164.9902, 5362,    103.0,      102,  26.5703,  35.2428,2,    206.6,2,  35.2264,4,   205.89,2,     1.24,6,     0.10,6,     0.01,6,    0.050,6,    2.023,3,    1.140,2,49.1,2,1.1,2,   1975.8,2,   2311.7,2,   8.1011,6,    25.00,     0.14,2,     0.06,2,  26.5564,2
  49UP20110515,   P13,    83,  1,     33,     106,2,20110718,2345,0152, 19.9992, 164.9902, 5362,    150.8,      150,  24.0145,  35.3030,2,    195.2,2,  35.3037,2,   194.63,2,     1.65,2,     0.19,2,     0.07,2,    0.060,2,    2.052,3,    1.265,2,52.0,2,0.8,2,   2011.3,6,   2316.1,6,   8.0501,2,    25.00,     0.19,2,     0.28,2,  24.0271,2
  49UP20110515,   P13,    83,  1,     32,     105,2,20110718,2345,0150, 19.9992, 164.9902, 5362,    202.0,      201,  20.9885,  35.0845,2,    179.0,2,  35.0917,2,   178.96,6,     2.59,2,     2.46,2,     0.03,2,    0.210,2,    2.285,3,    1.434,2,64.7,2,0.5,2,   2044.1,2,   2302.7,2,   7.9707,2,    25.00,     0.05,2,     0.12,2,  20.9926,2
  49UP20110515,   P13,    83,  1,     31,     104,2,20110718,2345,0148, 19.9992, 164.9902, 5362,    250.4,      249,  18.1997,  34.7539,2,    200.8,2,  34.7559,2,   200.33,2,     3.58,2,     3.52,2,     0.01,2,    0.250,2,    2.461,3,    1.561,6,-999,9,-999,9,   2032.0,2,   2280.0,2,   7.9565,2,    25.00,     -999,9,     -999,9,  18.2395,2
  49UP20110515,   P13,    83,  1,     30,     103,3,20110718,2345,0146, 19.9992, 164.9902, 5362,    302.0,      300,  16.2503,  34.6215,2,    187.3,2,  34.6233,6,   187.10,2,     6.52,6,     7.45,6,     0.01,6,    0.540,6,    2.664,3,    1.623,2,45.0,2,0.2,2,   2064.0,2,   2275.3,2,   7.8861,2,    25.00,     -999,9,     -999,9,  16.2515,2
  49UP20110515,   P13,    83,  1,     29,     102,2,20110718,2345,0144, 19.9992, 164.9902, 5362,    352.6,      350,  13.8188,  34.4397,2,    189.0,2,  34.4410,2,   188.57,2,    10.89,2,    11.07,2,     0.01,2,    0.790,2,    2.896,3,    1.734,2,-999,9,-999,9,   2083.0,2,   2264.5,2,   7.8335,2,    25.00,     -999,9,     -999,9,  13.8193,2
  49UP20110515,   P13,    83,  1,     28,     101,2,20110718,2345,0142, 19.9992, 164.9902, 5362,    404.0,      401,  11.7660,  34.2988,2,    181.6,2,  34.2986,2,   181.25,2,    17.27,2,    15.26,2,     0.01,2,    1.090,2,    2.946,3,    1.749,2,38.3,2,0.2,2,   2111.3,2,   2263.7,2,   7.7614,2,    25.00,     -999,9,     -999,9,  11.7683,2
  49UP20110515,   P13,    83,  1,     27,     100,2,20110718,2345,0140, 19.9992, 164.9902, 5362,    453.7,      450,  10.2109,  34.2150,2,    156.4,2,  34.2171,2,   157.17,2,    25.11,2,    20.25,2,     0.01,2,    1.470,2,    2.752,3,    1.565,6,-999,9,-999,9,   2145.3,2,   2266.8,2,   7.6768,2,    25.00,     -999,9,     -999,9,  10.2139,2
  49UP20110515,   P13,    83,  1,     26,      99,2,20110718,2345,0138, 19.9992, 164.9902, 5362,    504.2,      501,   8.8827,  34.1527,2,    143.5,2,  34.1550,2,   143.26,2,    34.58,2,    24.25,2,     0.01,2,    1.730,2,    2.553,3,    1.389,2,-22.1,2,-0.5,3,   2174.6,6,   2272.4,6,   7.6228,2,    25.00,     -999,9,     -999,9,   8.8840,2
  49UP20110515,   P13,    83,  1,     25,      98,2,20110718,2345,0135, 19.9992, 164.9902, 5362,    605.6,      601,   6.4528,  34.1610,2,     78.4,2,  34.1599,2,    78.12,2,    63.75,2,    34.80,2,     0.01,2,    2.500,2,    1.179,3,    0.611,2,-91.5,2,-0.2,2,   2256.1,2,   2296.9,2,   7.4481,6,    25.00,     -999,9,     -999,9,   6.4551,2
  49UP20110515,   P13,    83,  1,     24,      97,2,20110718,2345,0133, 19.9992, 164.9902, 5362,    705.8,      700,   5.5069,  34.2728,2,     54.0,2,  34.2731,2,    53.80,2,    80.92,6,    38.83,6,     0.01,6,    2.800,6,    0.434,3,    0.218,2,-142.8,2,-0.2,2,   2296.1,2,   2322.3,2,   7.4103,2,    25.00,     -999,9,     -999,9,   5.5067,2
  49UP20110515,   P13,    83,  1,     23,      96,3,20110718,2345,0130, 19.9992, 164.9902, 5362,    807.5,      801,   4.9711,  34.3892,2,     56.0,2,  34.3874,2,    55.94,2,    90.87,2,    39.65,2,     0.01,2,    2.860,2,    0.185,3,    0.095,2,-166.5,2,-0.2,2,   2306.7,2,   2339.5,2,   7.4218,2,    25.00,     -999,9,     -999,9,   4.9715,2
  49UP20110515,   P13,    83,  1,     22,      95,3,20110718,2345,0127, 19.9992, 164.9902, 5362,    908.7,      901,   4.5463,  34.4533,2,     63.0,2,  34.4537,6,    62.95,2,    99.09,2,    39.94,2,     0.01,2,    2.850,2,    0.118,3,    0.059,2,-184.0,2,-0.1,2,   2312.8,2,   2352.2,2,   7.4355,2,    25.00,     -999,9,     -999,9,   4.5441,2
  49UP20110515,   P13,    83,  1,     21,      94,2,20110718,2345,0124, 19.9992, 164.9902, 5362,   1009.3,     1001,   4.1455,  34.4953,2,     69.6,2,  34.4942,2,    69.90,2,   106.33,2,    39.80,2,     0.00,2,    2.840,2,    0.061,3,    0.041,2,-206.1,2,-0.1,2,   2322.0,2,   2362.9,2,   7.4503,2,    25.00,     -999,9,     -999,9,   4.1440,2
  49UP20110515,   P13,    83,  1,     20,      93,2,20110718,2345,0117, 19.9992, 164.9902, 5362,   1211.4,     1201,   3.5152,  34.5360,2,     76.1,2,  34.5362,2,    76.14,2,   118.36,2,    39.83,2,     0.00,2,    2.830,2,    0.033,3,    0.019,2,-208.9,2,-0.1,2,   2336.4,2,   2377.3,2,   7.4580,2,    25.00,     -999,9,     -999,9,   3.5154,2
  49UP20110515,   P13,    83,  1,     19,      92,2,20110718,2345,0113, 19.9992, 164.9902, 5362,   1414.7,     1401,   2.9992,  34.5591,2,     80.7,2,  34.5583,2,    80.98,6,   128.70,2,    39.97,2,     0.00,2,    2.830,2,    0.011,3,    0.020,2,-223.1,2,-0.1,2,   2344.3,2,   2388.2,2,   7.4617,2,    25.00,     -999,9,     -999,9,   2.9992,2
  49UP20110515,   P13,    83,  1,     18,      91,2,20110718,2345,0108, 19.9992, 164.9902, 5362,   1617.7,     1602,   2.6407,  34.5839,2,     88.2,2,  34.5835,2,    88.54,2,   135.98,2,    39.82,2,     0.00,2,    2.810,2,    0.014,3,    0.013,2,-999,9,-999,9,   2345.6,2,   2395.8,2,   7.4721,2,    25.00,     -999,9,     -999,9,   2.6408,2
  49UP20110515,   P13,    83,  1,     17,      90,2,20110718,2345,0104, 19.9992, 164.9902, 5362,   1819.6,     1801,   2.3874,  34.5977,2,     93.5,2,  34.5975,2,    93.80,2,   141.42,2,    39.74,2,     0.00,2,    2.790,2,     -999,9,     -999,9,-240.1,2,-0.1,2,   2347.3,2,   2400.8,2,   7.4798,2,    25.00,     -999,9,     -999,9,   2.3875,2
  49UP20110515,   P13,    83,  1,     16,      89,2,20110718,2345,0100, 19.9992, 164.9902, 5362,   2023.3,     2001,   2.1072,  34.6179,2,    101.9,2,  34.6174,2,   101.99,2,   146.48,2,    39.32,2,     0.00,2,    2.750,2,     -999,9,     -999,9,-999,9,-999,9,   2352.5,2,   2407.2,2,   7.4939,2,    25.00,     -999,9,     -999,9,   2.1073,2
  49UP20110515,   P13,    83,  1,     15,      88,2,20110718,2345,0055, 19.9992, 164.9902, 5362,   2226.7,     2201,   1.9344,  34.6338,2,    110.1,2,  34.6334,2,   110.37,2,   149.22,2,    38.90,2,     0.00,2,    2.710,2,    0.026,3,    0.012,2,-243.9,2,-0.1,2,   2350.8,2,   2412.2,2,   7.5077,2,    25.00,     -999,9,     -999,9,   1.9355,2
  49UP20110515,   P13,    83,  1,     14,      87,2,20110718,2345,0050, 19.9992, 164.9902, 5362,   2429.8,     2401,   1.8049,  34.6456,2,    116.7,2,  34.6464,2,   116.76,6,   150.84,2,    38.53,2,     0.00,2,    2.690,2,     -999,9,     -999,9,-999,9,-999,9,   2346.5,2,   2414.5,2,   7.5214,2,    25.00,     -999,9,     -999,9,   1.8049,2
  49UP20110515,   P13,    83,  1,     13,      86,2,20110718,2345,0046, 19.9992, 164.9902, 5362,   2631.9,     2600,   1.7319,  34.6530,2,    122.1,2,  34.6542,2,   122.08,2,   151.02,2,    38.19,2,     0.00,2,    2.650,2,     -999,9,     -999,9,-240.9,2,0.0,2,   2346.1,2,   2414.6,2,   7.5248,2,    25.00,     -999,9,     -999,9,   1.7319,2
  49UP20110515,   P13,    83,  1,     12,      85,2,20110718,2345,0041, 19.9992, 164.9902, 5362,   2836.3,     2800,   1.6552,  34.6606,2,    127.6,2,  34.6619,2,   127.17,2,   151.60,2,    37.89,2,     0.00,2,    2.630,2,     -999,9,     -999,9,-999,9,-999,9,   2342.0,2,   2417.1,2,   7.5375,2,    25.00,     -999,9,     -999,9,   1.6552,2
  49UP20110515,   P13,    83,  1,     11,     110,2,20110718,2345,0037, 19.9992, 164.9902, 5362,   3040.5,     3000,   1.5880,  34.6674,2,    133.7,2,  34.6686,6,   133.64,2,   151.13,2,    37.42,2,     0.00,2,    2.590,2,    0.011,3,    0.001,2,-240.1,2,0.0,2,   2336.9,2,   2416.0,2,   7.5472,2,    25.00,     -999,9,     -999,9,   1.5881,2
  49UP20110515,   P13,    83,  1,     10,      83,2,20110718,2345,0031, 19.9992, 164.9902, 5362,   3295.5,     3250,   1.5417,  34.6732,2,    139.6,2,  34.6729,2,   139.53,2,   150.07,2,    37.12,2,     0.00,2,    2.560,2,     -999,9,     -999,9,-999,9,-999,9,   2336.3,2,   2414.7,2,   7.5551,2,    25.00,     -999,9,     -999,9,   1.5417,2
  49UP20110515,   P13,    83,  1,      9,      82,2,20110718,2345,0026, 19.9992, 164.9902, 5362,   3551.5,     3500,   1.5058,  34.6784,2,    145.3,2,  34.6780,2,   145.07,2,   148.85,2,    36.73,2,     0.00,2,    2.530,2,     -999,9,     -999,9,-241.5,2,-0.3,4,   2330.5,6,   2415.0,6,   7.5629,2,    25.00,     -999,9,     -999,9,   1.5060,2
  49UP20110515,   P13,    83,  1,      8,      81,2,20110718,2345,0021, 19.9992, 164.9902, 5362,   3806.8,     3750,   1.4780,  34.6823,2,    151.0,2,  34.6819,2,   151.28,2,   146.46,2,    36.31,2,     0.00,2,    2.500,2,     -999,9,     -999,9,-999,9,-999,9,   2324.5,2,   2410.1,2,   7.5738,6,    25.00,     -999,9,     -999,9,   1.4780,2
  49UP20110515,   P13,    83,  1,      7,      80,3,20110718,2345,0015, 19.9992, 164.9902, 5362,   4064.2,     4001,   1.4550,  34.6862,2,    156.6,2,  34.6850,2,   156.27,2,   144.38,2,    36.03,2,     0.00,2,    2.480,2,     -999,9,     -999,9,-222.9,2,0.2,2,   2320.6,2,   2407.7,2,   7.5784,2,    25.00,     -999,9,     -999,9,   1.4551,2
  49UP20110515,   P13,    83,  1,      6,      79,2,20110718,2345,0010, 19.9992, 164.9902, 5362,   4319.2,     4250,   1.4392,  34.6895,2,    162.1,2,  34.6890,2,   162.03,2,   141.26,2,    35.59,2,     0.00,2,    2.440,2,    0.000,3,    0.000,2,-999,9,-999,9,   2319.3,2,   2406.0,2,   7.5873,2,    25.00,     -999,9,     -999,9,   1.4392,2
  49UP20110515,   P13,    83,  1,      5,      78,3,20110718,2345,0005, 19.9992, 164.9902, 5362,   4577.4,     4501,   1.4358,  34.6923,2,    166.4,2,  34.6929,6,   166.54,2,   138.71,2,    35.22,2,     0.00,2,    2.420,2,     -999,9,     -999,9,-220.7,2,0.3,2,   2313.7,2,   2403.3,2,   7.5932,2,    25.00,     -999,9,     -999,9,   1.4359,2
  49UP20110515,   P13,    83,  1,      4,      77,2,20110718,2345,2359, 19.9992, 164.9902, 5362,   4833.6,     4750,   1.4315,  34.6949,2,    171.3,2,  34.6963,2,   171.68,2,   135.95,2,    34.88,2,     0.00,2,    2.400,2,     -999,9,     -999,9,-999,9,-999,9,   2306.6,2,   2401.5,2,   7.5940,2,    25.00,     -999,9,     -999,9,   1.4315,2
  49UP20110515,   P13,    83,  1,      3,      76,3,20110718,2345,2354, 19.9992, 164.9902, 5362,   5091.2,     5001,   1.4252,  34.6976,2,    176.1,2,  34.6976,2,   176.46,6,   132.82,6,    34.43,6,     0.00,6,    2.360,6,     -999,9,     -999,9,-208.0,2,0.3,2,   2299.2,2,   2397.1,2,   7.6013,2,    25.00,     -999,9,     -999,9,   1.4254,2
  49UP20110515,   P13,    83,  1,      2,      75,3,20110718,2345,2348, 19.9992, 164.9902, 5362,   5348.7,     5251,   1.4408,  34.6983,2,    178.3,2,  34.6980,2,   178.65,2,   131.80,2,    34.40,2,     0.00,2,    2.350,2,     -999,9,     -999,9,-999,9,-999,9,   2300.2,2,   2397.2,2,   7.5980,2,    25.00,     -999,9,     -999,9,   1.4408,2
  49UP20110515,   P13,    83,  1,      1,     112,2,20110718,2345,2346, 19.9992, 164.9902, 5362,   5439.4,     5338,   1.4456,  34.6989,2,    179.1,2,  34.6992,2,   179.74,2,   131.23,2,    34.32,2,     0.00,2,    2.350,2,    0.047,3,    0.018,2,-202.2,2,0.3,2,   2296.1,2,   2396.6,2,   7.6020,2,    25.00,     -999,9,     -999,9,   1.4455,2