BOTTLE,20240116CCHSIOVAJ
EXPOCODE,SECT_ID,STNNBR,CASTNO,SAMPNO,BTLNBR,BTLNBR_FLAG_W,DATE,TIME,BTL_TIME,LATITUDE,LONGITUDE,DEPTH,CTDPRS,CTDDEPTH,CTDTMP,CTDSAL,CTDSAL_FLAG_W,CTDOXY,CTDOXY_FLAG_W,SALNTY,SALNTY_FLAG_W,OXYGEN,OXYGEN_FLAG_W,SILCAT,SILCAT_FLAG_W,NO2+NO3,NO2+NO3_FLAG_W,NITRIT,NITRIT_FLAG_W,PHSPHT,PHSPHT_FLAG_W,CFC-11,CFC-11_FLAG_W,CFC-12,CFC-12_FLAG_W,DELC14,DELC14_FLAG_W,DELC13,DELC13_FLAG_W,TCARBN,TCARBN_FLAG_W,ALKALI,ALKALI_FLAG_W,PH_TOT,PH_TOT_FLAG_W,PH_TMP,CHLORA,CHLORA_FLAG_W,PPHYTN,PPHYTN_FLAG_W,REFTMP,REFTMP_FLAG_W
,,,,,,,,,,,,METERS,DBAR,METERS,ITS-90,PSS-78,,UMOL/KG,,PSS-78,,UMOL/KG,,UMOL/KG,,UMOL/KG,,UMOL/KG,,UMOL/KG,,PMOL/KG,,PMOL/KG,,/MILLE,,/MILLE,,UMOL/KG,,UMOL/KG,,,,DEG C,UG/KG,,UG/KG,,ITS-90,
  49UP20110515,   P13,   145,  1,      0,     BUC,2,20110814,0423,0535, -6.9000, 162.4480, 2368,      0.0,        0,  29.0622,  35.1008,2,    195.0,2,     -999,9,   194.29,2,     0.76,2,     0.00,2,     0.00,2,    0.190,2,     -999,9,     -999,9,-999,9,-999,9,     -999,9,     -999,9,     -999,9,     -999,     -999,9,     -999,9,     -999,9
  49UP20110515,   P13,   145,  1,     36,     109,2,20110814,0423,0547, -6.9000, 162.4480, 2368,     11.2,       11,  29.0509,  35.0989,2,    194.9,2,  35.0994,2,   194.88,2,     0.85,2,     0.01,2,     0.00,2,    0.170,2,     -999,9,     -999,9,-999,9,-999,9,     -999,9,     -999,9,     -999,9,     -999,     -999,9,     -999,9,  29.0532,2
  49UP20110515,   P13,   145,  1,     35,     108,2,20110814,0423,0545, -6.9000, 162.4480, 2368,     26.2,       26,  28.9569,  35.0951,2,    195.2,2,  35.0941,2,   195.43,6,     0.80,2,     0.02,2,     0.00,2,    0.170,2,     -999,9,     -999,9,-999,9,-999,9,     -999,9,     -999,9,     -999,9,     -999,     -999,9,     -999,9,  28.9574,2
  49UP20110515,   P13,   145,  1,     34,     107,4,20110814,0423,0542, -6.9000, 162.4480, 2368,     49.8,       50,  28.9420,  35.1099,2,    194.6,2,     -999,9,     -999,9,     -999,9,     -999,9,     -999,9,     -999,9,     -999,9,     -999,9,-999,9,-999,9,     -999,9,     -999,9,     -999,9,     -999,     -999,9,     -999,9,  28.9420,2
  49UP20110515,   P13,   145,  1,     33,     106,2,20110814,0423,0541, -6.9000, 162.4480, 2368,     74.6,       74,  28.9583,  35.2284,2,    190.6,2,  35.2258,2,   191.49,2,     0.83,2,     0.43,2,     0.07,2,    0.220,2,     -999,9,     -999,9,-999,9,-999,9,     -999,9,     -999,9,     -999,9,     -999,     -999,9,     -999,9,  28.9590,2
  49UP20110515,   P13,   145,  1,     32,     105,2,20110814,0423,0539, -6.9000, 162.4480, 2368,    100.5,      100,  28.3762,  35.5543,2,    174.8,2,  35.5481,4,   175.38,2,     1.34,2,     3.40,2,     0.79,2,    0.440,2,     -999,9,     -999,9,-999,9,-999,9,     -999,9,     -999,9,     -999,9,     -999,     -999,9,     -999,9,  28.3773,2
  49UP20110515,   P13,   145,  1,     31,     104,2,20110814,0423,0538, -6.9000, 162.4480, 2368,    124.9,      124,  27.4990,  35.6139,2,    161.5,2,  35.6106,2,   161.64,2,     1.45,2,     5.85,2,     0.33,2,    0.570,2,     -999,9,     -999,9,-999,9,-999,9,     -999,9,     -999,9,     -999,9,     -999,     -999,9,     -999,9,  27.5078,2
  49UP20110515,   P13,   145,  1,     30,     103,2,20110814,0423,0536, -6.9000, 162.4480, 2368,    150.3,      149,  25.6966,  35.7350,2,    140.3,2,  35.7362,6,   140.36,2,     1.79,2,     7.07,2,     0.02,2,    0.650,2,     -999,9,     -999,9,-999,9,-999,9,     -999,9,     -999,9,     -999,9,     -999,     -999,9,     -999,9,  25.6971,2
  49UP20110515,   P13,   145,  1,     29,     102,3,20110814,0423,0534, -6.9000, 162.4480, 2368,    203.2,      202,  21.2795,  35.8201,2,    128.3,2,  35.8257,2,   128.35,2,     2.59,6,     9.88,6,     0.01,6,    0.890,6,     -999,9,     -999,9,-999,9,-999,9,     -999,9,     -999,9,     -999,9,     -999,     -999,9,     -999,9,  21.2794,2
  49UP20110515,   P13,   145,  1,     27,     100,2,20110814,0423,0532, -6.9000, 162.4480, 2368,    252.6,      251,  15.5653,  35.2202,2,    122.6,2,  35.2355,4,   121.45,2,     7.21,2,    15.46,2,     0.00,2,    1.270,2,     -999,9,     -999,9,-999,9,-999,9,     -999,9,     -999,9,     -999,9,     -999,     -999,9,     -999,9,  15.5526,2
  49UP20110515,   P13,   145,  1,     28,     101,2,20110814,0423,0532, -6.9000, 162.4480, 2368,    253.7,      252,  15.4640,  35.2101,2,    123.6,2,  35.2257,4,   122.36,2,     7.30,2,    15.41,2,     0.00,2,    1.260,2,     -999,9,     -999,9,-999,9,-999,9,     -999,9,     -999,9,     -999,9,     -999,     -999,9,     -999,9,  15.4652,2
  49UP20110515,   P13,   145,  1,     26,      99,3,20110814,0423,0530, -6.9000, 162.4480, 2368,    334.1,      332,  10.9129,  34.8079,2,    103.7,2,  34.8081,2,   102.75,6,    18.29,2,    25.73,2,     0.00,2,    1.890,2,     -999,9,     -999,9,-999,9,-999,9,     -999,9,     -999,9,     -999,9,     -999,     -999,9,     -999,9,  10.9130,2
  49UP20110515,   P13,   145,  1,     25,      98,2,20110814,0423,0527, -6.9000, 162.4480, 2368,    381.7,      379,   9.1164,  34.6780,2,    119.4,2,  34.6787,2,   119.88,2,    23.13,6,    27.96,6,     0.00,6,    1.980,6,     -999,9,     -999,9,-999,9,-999,9,     -999,9,     -999,9,     -999,9,     -999,     -999,9,     -999,9,   9.1170,2
  49UP20110515,   P13,   145,  1,     24,      97,2,20110814,0423,0525, -6.9000, 162.4480, 2368,    433.5,      431,   8.1429,  34.6156,2,    119.3,2,  34.6176,6,   119.45,2,    27.46,2,    30.07,2,     0.00,2,    2.100,2,     -999,9,     -999,9,-999,9,-999,9,     -999,9,     -999,9,     -999,9,     -999,     -999,9,     -999,9,   8.1432,2
  49UP20110515,   P13,   145,  1,     23,      96,2,20110814,0423,0521, -6.9000, 162.4480, 2368,    533.9,      530,   7.2051,  34.5644,2,    117.5,2,  34.5660,2,   117.54,2,    34.20,2,    32.23,2,     0.00,2,    2.250,2,     -999,9,     -999,9,-999,9,-999,9,     -999,9,     -999,9,     -999,9,     -999,     -999,9,     -999,9,   7.2051,2
  49UP20110515,   P13,   145,  1,     21,      94,2,20110814,0423,0518, -6.9000, 162.4480, 2368,    635.6,      631,   6.5240,  34.5361,2,    119.2,2,  34.5362,2,   118.56,2,    40.17,2,    33.61,2,     0.00,2,    2.340,2,     -999,9,     -999,9,-999,9,-999,9,     -999,9,     -999,9,     -999,9,     -999,     -999,9,     -999,9,   6.5241,2
  49UP20110515,   P13,   145,  1,     22,      95,2,20110814,0423,0518, -6.9000, 162.4480, 2368,    637.7,      633,   6.5123,  34.5357,2,    119.3,2,  34.5360,2,   119.20,2,    40.27,2,    33.58,2,     0.00,2,    2.330,2,     -999,9,     -999,9,-999,9,-999,9,     -999,9,     -999,9,     -999,9,     -999,     -999,9,     -999,9,   6.5118,2
  49UP20110515,   P13,   145,  1,     20,      93,2,20110814,0423,0515, -6.9000, 162.4480, 2368,    737.0,      732,   5.8786,  34.5250,2,    114.5,2,  34.5239,2,   114.58,2,    49.19,2,    35.07,2,     0.00,2,    2.460,2,     -999,9,     -999,9,-999,9,-999,9,     -999,9,     -999,9,     -999,9,     -999,     -999,9,     -999,9,   5.8785,2
  49UP20110515,   P13,   145,  1,     19,      92,2,20110814,0423,0509, -6.9000, 162.4480, 2368,    839.5,      833,   5.3403,  34.5232,2,    114.6,2,  34.5232,2,   114.65,2,    57.88,6,    35.85,6,     0.00,6,    2.520,6,     -999,9,     -999,9,-999,9,-999,9,     -999,9,     -999,9,     -999,9,     -999,     -999,9,     -999,9,   5.3405,2
  49UP20110515,   P13,   145,  1,     18,      91,2,20110814,0423,0506, -6.9000, 162.4480, 2368,    940.0,      933,   4.7396,  34.5291,2,    112.8,2,  34.5283,2,   113.01,2,    68.13,2,    36.75,2,     0.00,2,    2.590,2,     -999,9,     -999,9,-999,9,-999,9,     -999,9,     -999,9,     -999,9,     -999,     -999,9,     -999,9,   4.7393,2
  49UP20110515,   P13,   145,  1,     17,      90,2,20110814,0423,0502, -6.9000, 162.4480, 2368,   1080.1,     1071,   4.1343,  34.5460,2,    112.8,2,  34.5454,2,   112.99,6,    81.59,2,    37.38,2,     0.00,2,    2.640,2,     -999,9,     -999,9,-999,9,-999,9,     -999,9,     -999,9,     -999,9,     -999,     -999,9,     -999,9,   4.1343,2
  49UP20110515,   P13,   145,  1,     15,      88,2,20110814,0423,0455, -6.9000, 162.4480, 2368,   1282.0,     1271,   3.4151,  34.5725,2,    116.4,2,  34.5719,2,   116.08,2,    97.66,2,    37.61,2,     0.00,2,    2.660,2,     -999,9,     -999,9,-999,9,-999,9,     -999,9,     -999,9,     -999,9,     -999,     -999,9,     -999,9,   3.4118,2
  49UP20110515,   P13,   145,  1,     16,      89,2,20110814,0423,0455, -6.9000, 162.4480, 2368,   1283.0,     1272,   3.4068,  34.5725,2,    116.9,2,  34.5716,2,   116.78,2,    97.45,2,    37.60,2,     0.00,2,    2.660,2,     -999,9,     -999,9,-999,9,-999,9,     -999,9,     -999,9,     -999,9,     -999,     -999,9,     -999,9,   3.4071,2
  49UP20110515,   P13,   145,  1,     14,      87,2,20110814,0423,0450, -6.9000, 162.4480, 2368,   1484.8,     1471,   2.9189,  34.5975,2,    117.4,2,  34.5979,2,   117.92,2,   110.48,2,    37.68,2,     0.00,2,    2.660,2,     -999,9,     -999,9,-999,9,-999,9,     -999,9,     -999,9,     -999,9,     -999,     -999,9,     -999,9,   2.9185,2
  49UP20110515,   P13,   145,  1,     13,      86,2,20110814,0423,0443, -6.9000, 162.4480, 2368,   1684.6,     1668,   2.4662,  34.6198,2,    128.9,2,  34.6203,2,   129.29,2,   118.29,2,    37.09,2,     0.00,2,    2.600,2,     -999,9,     -999,9,-999,9,-999,9,     -999,9,     -999,9,     -999,9,     -999,     -999,9,     -999,9,   2.4661,2
  49UP20110515,   P13,   145,  1,     12,      74,2,20110814,0423,0437, -6.9000, 162.4480, 2368,   1887.9,     1869,   2.2000,  34.6363,2,    131.1,2,  34.6374,6,   131.34,2,   125.98,2,    36.96,2,     0.00,2,    2.590,2,     -999,9,     -999,9,-999,9,-999,9,     -999,9,     -999,9,     -999,9,     -999,     -999,9,     -999,9,   2.2000,2
  49UP20110515,   P13,   145,  1,     11,     110,2,20110814,0423,0433, -6.9000, 162.4480, 2368,   2090.2,     2068,   2.1402,  34.6411,2,    130.1,2,  34.6412,2,   130.23,6,   129.41,2,    37.16,2,     0.00,2,    2.600,2,     -999,9,     -999,9,-999,9,-999,9,     -999,9,     -999,9,     -999,9,     -999,     -999,9,     -999,9,   2.1400,2
  49UP20110515,   P13,   145,  1,     10,      83,2,20110814,0423,0429, -6.9000, 162.4480, 2368,   2293.1,     2268,   2.0188,  34.6485,2,    131.6,2,  34.6513,4,   131.43,2,   132.92,2,    37.06,2,     0.00,2,    2.590,2,     -999,9,     -999,9,-999,9,-999,9,     -999,9,     -999,9,     -999,9,     -999,     -999,9,     -999,9,   2.0186,2
  49UP20110515,   P13,   145,  1,      9,      82,2,20110814,0423,0429, -6.9000, 162.4480, 2368,   2294.0,     2269,   2.0180,  34.6486,2,    131.8,2,  34.6490,2,   131.44,2,   132.20,6,    37.00,6,     0.00,6,    2.600,6,     -999,9,     -999,9,-999,9,-999,9,     -999,9,     -999,9,     -999,9,     -999,     -999,9,     -999,9,   2.0177,2
  49UP20110515,   P13,   145,  1,      1,     112,2,20110814,0423,0424, -6.9000, 162.4480, 2368,   2476.8,     2449,   1.9087,  34.6552,2,    134.3,2,  34.6565,6,   134.40,2,   135.43,2,    36.92,2,     0.00,2,    2.580,2,     -999,9,     -999,9,-999,9,-999,9,     -999,9,     -999,9,     -999,9,     -999,     -999,9,     -999,9,   1.9087,2