BOTTLE,20240116CCHSIOVAJ
EXPOCODE,SECT_ID,STNNBR,CASTNO,SAMPNO,BTLNBR,BTLNBR_FLAG_W,DATE,TIME,BTL_TIME,LATITUDE,LONGITUDE,DEPTH,CTDPRS,CTDDEPTH,CTDTMP,CTDSAL,CTDSAL_FLAG_W,CTDOXY,CTDOXY_FLAG_W,SALNTY,SALNTY_FLAG_W,OXYGEN,OXYGEN_FLAG_W,SILCAT,SILCAT_FLAG_W,NO2+NO3,NO2+NO3_FLAG_W,NITRIT,NITRIT_FLAG_W,PHSPHT,PHSPHT_FLAG_W,CFC-11,CFC-11_FLAG_W,CFC-12,CFC-12_FLAG_W,DELC14,DELC14_FLAG_W,DELC13,DELC13_FLAG_W,TCARBN,TCARBN_FLAG_W,ALKALI,ALKALI_FLAG_W,PH_TOT,PH_TOT_FLAG_W,PH_TMP,CHLORA,CHLORA_FLAG_W,PPHYTN,PPHYTN_FLAG_W,REFTMP,REFTMP_FLAG_W
,,,,,,,,,,,,METERS,DBAR,METERS,ITS-90,PSS-78,,UMOL/KG,,PSS-78,,UMOL/KG,,UMOL/KG,,UMOL/KG,,UMOL/KG,,UMOL/KG,,PMOL/KG,,PMOL/KG,,/MILLE,,/MILLE,,UMOL/KG,,UMOL/KG,,,,DEG C,UG/KG,,UG/KG,,ITS-90,
  49UP20110515,   P13,   118,  1,      0,     BUC,2,20110807,0257,0440,  2.9810, 165.0157, 4245,      0.0,        0,  29.7983,  34.1916,2,    196.0,2,     -999,9,   194.00,2,     1.05,2,     0.00,2,     0.00,2,    0.130,2,     -999,9,     -999,9,-999,9,-999,9,     -999,9,     -999,9,     -999,9,     -999,     0.04,2,     0.02,2,     -999,9
  49UP20110515,   P13,   118,  1,     36,     109,2,20110807,0257,0454,  2.9810, 165.0157, 4245,     11.3,       11,  29.6094,  34.1834,2,    196.3,2,  34.1827,2,   195.44,2,     0.97,2,     0.00,2,     0.00,2,    0.100,2,    1.680,3,    1.023,2,-999,9,-999,9,   1906.9,2,   2246.3,2,   8.1324,2,    25.00,     0.04,2,     0.01,2,  29.6102,2
  49UP20110515,   P13,   118,  1,     35,     108,2,20110807,0257,0453,  2.9810, 165.0157, 4245,     26.0,       26,  29.5628,  34.1859,2,    196.3,2,  34.1895,2,   195.29,2,     0.83,2,     0.00,2,     0.00,2,    0.100,2,    1.670,3,    1.032,2,-999,9,-999,9,   1907.4,2,   2247.9,2,   8.1327,2,    25.00,     0.05,2,     0.02,2,  29.5634,2
  49UP20110515,   P13,   118,  1,     34,     107,2,20110807,0257,0450,  2.9810, 165.0157, 4245,     50.4,       50,  29.5892,  34.2530,2,    196.1,2,  34.2515,2,   195.99,2,     1.07,6,     0.00,6,     0.00,6,    0.100,6,    1.672,3,    1.015,2,-999,9,-999,9,   1909.4,2,   2251.1,2,   8.1306,2,    25.00,     0.06,2,     0.02,2,  29.5879,2
  49UP20110515,   P13,   118,  1,     33,     106,2,20110807,0257,0449,  2.9810, 165.0157, 4245,     75.7,       75,  29.5895,  34.8772,2,    191.1,2,  34.8831,2,   190.16,2,     1.29,2,     0.00,2,     0.00,2,    0.170,2,    1.725,3,    1.029,2,-999,9,-999,9,   1963.1,2,   2293.6,2,   8.0960,6,    25.00,     0.12,2,     0.08,2,  29.5897,2
  49UP20110515,   P13,   118,  1,     32,     105,2,20110807,0257,0448,  2.9810, 165.0157, 4245,    100.9,      100,  28.6903,  35.2047,2,    166.3,2,  35.2169,4,   166.10,2,     1.88,2,     3.42,2,     0.27,2,    0.420,2,    1.655,3,    1.059,2,-999,9,-999,9,   2010.2,6,   2311.4,6,   8.0390,2,    25.00,     0.32,2,     0.40,2,  28.6948,2
  49UP20110515,   P13,   118,  1,     31,     104,2,20110807,0257,0446,  2.9810, 165.0157, 4245,    125.8,      125,  27.5170,  35.2268,2,    151.8,2,  35.2283,2,   151.39,2,     2.68,2,     6.03,2,     0.04,2,    0.560,2,    1.614,3,    1.083,6,-999,9,-999,9,   2024.8,2,   2311.5,2,   8.0090,2,    25.00,     0.14,2,     0.25,2,  27.4999,2
  49UP20110515,   P13,   118,  1,     30,     103,2,20110807,0257,0445,  2.9810, 165.0157, 4245,    152.0,      151,  24.5265,  34.9934,2,    150.5,2,  34.9963,6,   150.40,2,     4.00,2,     5.89,2,     0.02,2,    0.530,2,    1.806,3,    1.185,2,-999,9,-999,9,   2040.9,2,   2299.7,2,   7.9756,2,    25.00,     0.04,2,     0.08,2,  24.5015,2
  49UP20110515,   P13,   118,  1,     29,     102,3,20110807,0257,0443,  2.9810, 165.0157, 4245,    205.3,      204,  13.2838,  34.5481,2,    102.3,2,  34.5603,4,   102.99,2,    20.32,2,    20.78,2,     0.00,2,    1.530,2,    1.829,3,    1.070,2,-999,9,-999,9,   2159.5,2,   2283.4,2,   7.6856,2,    25.00,     0.00,2,     0.03,2,  13.2799,2
  49UP20110515,   P13,   118,  1,     28,     101,2,20110807,0257,0441,  2.9810, 165.0157, 4245,    253.3,      252,  10.0800,  34.5616,2,     85.6,2,  34.5604,2,    84.95,2,    32.48,6,    28.71,6,     0.00,6,    2.050,6,    1.094,3,    0.606,2,-999,9,-999,9,   2213.0,2,   2298.3,2,   7.5802,2,    25.00,     -999,9,     -999,9,  10.0780,2
  49UP20110515,   P13,   118,  1,     27,     100,2,20110807,0257,0439,  2.9810, 165.0157, 4245,    333.3,      331,   9.2376,  34.6245,2,     63.7,2,  34.6235,2,    64.17,2,    34.95,2,    32.50,2,     0.00,2,    2.300,2,    0.594,3,    0.322,6,-999,9,-999,9,   2237.2,2,   2304.5,2,   7.5203,2,    25.00,     -999,9,     -999,9,   9.2382,2
  49UP20110515,   P13,   118,  1,     26,      99,2,20110807,0257,0437,  2.9810, 165.0157, 4245,    382.7,      380,   8.6247,  34.6070,2,     82.4,2,  34.6087,2,    81.65,2,    36.28,2,    32.20,2,     0.00,2,    2.270,2,    0.569,3,    0.316,2,-999,9,-999,9,   2232.0,2,   2304.8,2,   7.5417,2,    25.00,     -999,9,     -999,9,   8.6247,2
  49UP20110515,   P13,   118,  1,     25,      98,2,20110807,0257,0434,  2.9810, 165.0157, 4245,    435.6,      433,   8.2059,  34.5974,2,    102.9,2,  34.5985,2,   102.47,2,    35.15,2,    31.14,2,     0.00,2,    2.190,2,    0.625,3,    0.330,2,-999,9,-999,9,   2222.5,2,   2309.0,2,   7.5696,2,    25.00,     -999,9,     -999,9,   8.2047,2
  49UP20110515,   P13,   118,  1,     24,      97,2,20110807,0257,0431,  2.9810, 165.0157, 4245,    534.4,      531,   7.4304,  34.5735,2,     69.9,2,  34.5736,2,    69.68,2,    45.40,2,    35.89,2,     0.00,2,    2.540,2,    0.232,3,    0.115,2,-999,9,-999,9,   2256.6,2,   2313.0,2,   7.4925,2,    25.00,     -999,9,     -999,9,   7.4309,2
  49UP20110515,   P13,   118,  1,     22,      95,2,20110807,0257,0428,  2.9810, 165.0157, 4245,    635.3,      631,   6.4010,  34.5498,2,     73.5,2,  34.5509,6,    71.34,2,    55.01,2,    37.77,2,     0.00,2,    2.680,2,    0.127,3,    0.061,2,-999,9,-999,9,   2270.2,2,   2320.4,2,   7.4793,2,    25.00,     -999,9,     -999,9,   6.3992,2
  49UP20110515,   P13,   118,  1,     23,      96,2,20110807,0257,0428,  2.9810, 165.0157, 4245,    636.9,      632,   6.3839,  34.5498,2,     73.7,2,  34.5486,2,    72.90,4,    55.07,2,    37.89,2,     0.00,2,    2.680,2,    0.123,3,    0.058,2,-999,9,-999,9,   2270.8,2,   2322.9,2,   7.4807,2,    25.00,     -999,9,     -999,9,   6.3827,2
  49UP20110515,   P13,   118,  1,     21,      94,2,20110807,0257,0425,  2.9810, 165.0157, 4245,    738.0,      733,   5.7411,  34.5433,2,     76.1,2,  34.5443,2,    74.04,2,    64.01,6,    38.69,6,     0.00,6,    2.750,6,    0.089,3,    0.034,2,-999,9,-999,9,   2279.3,2,   2328.6,2,   7.4756,2,    25.00,     -999,9,     -999,9,   5.7471,2
  49UP20110515,   P13,   118,  1,     20,      93,3,20110807,0257,0422,  2.9810, 165.0157, 4245,    838.6,      832,   5.1694,  34.5431,2,     87.2,2,  34.5429,2,    86.82,6,    72.81,2,    37.95,2,     0.00,2,    2.700,2,    0.062,3,    0.030,2,-999,9,-999,9,   2286.0,2,   2341.4,2,   7.4892,2,    25.00,     -999,9,     -999,9,   5.1708,2
  49UP20110515,   P13,   118,  1,     19,      92,2,20110807,0257,0418,  2.9810, 165.0157, 4245,    939.2,      932,   4.7268,  34.5504,2,     89.6,2,  34.5502,2,    89.20,2,    82.54,2,    38.27,2,     0.00,2,    2.720,2,    0.050,3,    0.020,2,-999,9,-999,9,   2294.7,2,   2348.3,2,   7.4903,2,    25.00,     -999,9,     -999,9,   4.7274,2
  49UP20110515,   P13,   118,  1,     17,      90,2,20110807,0257,0414,  2.9810, 165.0157, 4245,   1080.4,     1072,   4.2012,  34.5625,2,     89.9,2,  34.5625,2,    89.55,6,    92.89,2,    38.90,2,     0.00,2,    2.760,2,    0.016,3,    0.000,2,-999,9,-999,9,   2305.7,2,   2362.0,2,   7.4897,2,    25.00,     -999,9,     -999,9,   4.2005,2
  49UP20110515,   P13,   118,  1,     18,      91,2,20110807,0257,0414,  2.9810, 165.0157, 4245,   1083.1,     1074,   4.1963,  34.5632,2,     89.3,2,  34.5625,2,    89.91,2,    93.35,2,    38.80,2,     0.00,2,    2.770,2,    0.030,3,    0.000,2,-999,9,-999,9,   2301.8,2,   2365.2,3,   7.4921,2,    25.00,     -999,9,     -999,9,   4.1958,2
  49UP20110515,   P13,   118,  1,     16,      89,2,20110807,0257,0409,  2.9810, 165.0157, 4245,   1281.5,     1271,   3.6120,  34.5805,2,     89.6,2,  34.5810,2,    89.00,2,   106.77,2,    39.35,2,     0.00,2,    2.810,2,     -999,9,     -999,9,-999,9,-999,9,   2318.1,6,   2377.9,6,   7.4880,2,    25.00,     -999,9,     -999,9,   3.6116,2
  49UP20110515,   P13,   118,  1,     15,      88,2,20110807,0257,0400,  2.9810, 165.0157, 4245,   1485.2,     1472,   3.1001,  34.5982,2,     96.1,2,  34.5978,2,    95.64,6,   117.93,2,    39.20,2,     0.00,2,    2.790,2,     -999,9,     -999,9,-999,9,-999,9,   2328.6,2,   2389.7,2,   7.4932,2,    25.00,     -999,9,     -999,9,   3.0998,2
  49UP20110515,   P13,   118,  1,     14,      87,2,20110807,0257,0356,  2.9810, 165.0157, 4245,   1686.1,     1670,   2.6766,  34.6151,2,    105.5,2,  34.6157,2,   105.24,2,   126.85,2,    38.83,2,     0.00,2,    2.740,2,     -999,9,     -999,9,-999,9,-999,9,   2327.2,2,   2398.0,2,   7.5049,2,    25.00,     -999,9,     -999,9,   2.6766,2
  49UP20110515,   P13,   118,  1,     13,      86,2,20110807,0257,0351,  2.9810, 165.0157, 4245,   1889.2,     1870,   2.3889,  34.6287,2,    110.6,2,  34.6295,2,   117.16,4,   133.02,2,    38.50,2,     0.00,2,    2.720,2,     -999,9,     -999,9,-999,9,-999,9,   2336.1,2,   2406.3,2,   7.5202,2,    25.00,     -999,9,     -999,9,   2.3891,2
  49UP20110515,   P13,   118,  1,     12,      74,2,20110807,0257,0347,  2.9810, 165.0157, 4245,   2093.8,     2072,   2.1530,  34.6415,2,    115.5,2,  34.6421,2,   115.31,2,   137.83,2,    38.24,2,     0.00,2,    2.690,2,    0.016,3,    0.000,2,-999,9,-999,9,   2341.2,2,   2412.0,2,   7.5223,2,    25.00,     -999,9,     -999,9,   2.1532,2
  49UP20110515,   P13,   118,  1,     11,     110,2,20110807,0257,0341,  2.9810, 165.0157, 4245,   2296.3,     2271,   1.9997,  34.6511,2,    117.5,2,  34.6512,6,   117.26,2,   142.84,2,    38.37,2,     0.00,2,    2.690,2,     -999,9,     -999,9,-999,9,-999,9,   2346.5,2,   2416.9,2,   7.5310,2,    25.00,     -999,9,     -999,9,   1.9995,2
  49UP20110515,   P13,   118,  1,     10,      83,2,20110807,0257,0337,  2.9810, 165.0157, 4245,   2500.4,     2472,   1.8566,  34.6585,2,    124.1,2,  34.6601,2,   124.17,2,   144.35,6,    37.91,6,     0.00,6,    2.640,6,     -999,9,     -999,9,-999,9,-999,9,   2338.6,2,   2420.9,2,   7.5413,2,    25.00,     -999,9,     -999,9,   1.8566,2
  49UP20110515,   P13,   118,  1,      9,      82,2,20110807,0257,0332,  2.9810, 165.0157, 4245,   2703.1,     2671,   1.7750,  34.6633,2,    128.6,2,  34.6653,2,   128.35,6,   145.33,2,    37.56,2,     0.00,2,    2.630,2,     -999,9,     -999,9,-999,9,-999,9,   2340.1,2,   2421.2,2,   7.5437,2,    25.00,     -999,9,     -999,9,   1.7749,2
  49UP20110515,   P13,   118,  1,      8,      81,2,20110807,0257,0327,  2.9810, 165.0157, 4245,   2907.9,     2872,   1.6914,  34.6681,2,    133.7,2,  34.6677,2,   133.58,2,   145.79,2,    37.26,2,     0.00,2,    2.590,2,     -999,9,     -999,9,-999,9,-999,9,   2337.2,2,   2420.4,2,   7.5494,2,    25.00,     -999,9,     -999,9,   1.6913,2
  49UP20110515,   P13,   118,  1,      7,      80,2,20110807,0257,0322,  2.9810, 165.0157, 4245,   3120.7,     3081,   1.6301,  34.6722,2,    138.6,2,  34.6716,2,   137.86,2,   145.51,2,    36.79,2,     0.00,2,    2.570,2,    0.012,3,    0.000,2,-999,9,-999,9,   2336.1,2,   2419.4,2,   7.5542,3,    25.00,     -999,9,     -999,9,   1.6302,2
  49UP20110515,   P13,   118,  1,      6,      79,2,20110807,0257,0317,  2.9810, 165.0157, 4245,   3376.0,     3331,   1.5582,  34.6775,2,    145.2,2,  34.6769,2,   145.03,2,   144.89,2,    36.52,2,     0.00,2,    2.530,2,     -999,9,     -999,9,-999,9,-999,9,   2332.4,2,   2417.3,2,   7.5692,6,    25.00,     -999,9,     -999,9,   1.5581,2
  49UP20110515,   P13,   118,  1,      5,      78,2,20110807,0257,0312,  2.9810, 165.0157, 4245,   3631.6,     3581,   1.5109,  34.6822,2,    151.2,2,  34.6832,2,   151.24,2,   143.15,2,    36.18,2,     0.00,2,    2.490,2,     -999,9,     -999,9,-999,9,-999,9,   2327.6,6,   2417.1,6,   7.5751,2,    25.00,     -999,9,     -999,9,   1.5107,2
  49UP20110515,   P13,   118,  1,      4,      77,2,20110807,0257,0307,  2.9810, 165.0157, 4245,   3887.4,     3831,   1.4774,  34.6864,2,    157.0,2,  34.6877,2,   157.27,2,   140.63,2,    35.61,2,     0.00,2,    2.470,2,     -999,9,     -999,9,-999,9,-999,9,   2317.8,2,   2413.9,2,   7.5833,2,    25.00,     -999,9,     -999,9,   1.4773,2
  49UP20110515,   P13,   118,  1,      3,      76,2,20110807,0257,0302,  2.9810, 165.0157, 4245,   4140.3,     4078,   1.4383,  34.6909,2,    165.2,2,  34.6907,6,   165.18,2,   136.72,2,    35.23,2,     0.00,2,    2.430,2,     -999,9,     -999,9,-999,9,-999,9,   2315.3,3,   2410.0,2,   7.5930,2,    25.00,     -999,9,     -999,9,   1.4381,2
  49UP20110515,   P13,   118,  1,      2,      75,2,20110807,0257,0302,  2.9810, 165.0157, 4245,   4140.8,     4078,   1.4378,  34.6911,2,    165.2,2,  34.6906,2,   165.26,2,   137.21,2,    35.07,2,     0.00,2,    2.430,2,    0.012,3,    0.000,2,-999,9,-999,9,   2311.1,2,   2408.7,2,   7.5914,2,    25.00,     -999,9,     -999,9,   1.4377,2
  49UP20110515,   P13,   118,  1,      1,     112,2,20110807,0257,0258,  2.9810, 165.0157, 4245,   4302.2,     4236,   1.4046,  34.6945,2,    171.0,2,  34.6949,2,   170.57,2,   133.95,2,    34.64,2,     0.00,2,    2.390,2,     -999,9,     -999,9,-999,9,-999,9,   2310.7,2,   2404.7,2,   7.5952,2,    25.00,     -999,9,     -999,9,   1.4047,2