BOTTLE,20240116CCHSIOVAJ
EXPOCODE,SECT_ID,STNNBR,CASTNO,SAMPNO,BTLNBR,BTLNBR_FLAG_W,DATE,TIME,BTL_TIME,LATITUDE,LONGITUDE,DEPTH,CTDPRS,CTDDEPTH,CTDTMP,CTDSAL,CTDSAL_FLAG_W,CTDOXY,CTDOXY_FLAG_W,SALNTY,SALNTY_FLAG_W,OXYGEN,OXYGEN_FLAG_W,SILCAT,SILCAT_FLAG_W,NO2+NO3,NO2+NO3_FLAG_W,NITRIT,NITRIT_FLAG_W,PHSPHT,PHSPHT_FLAG_W,CFC-11,CFC-11_FLAG_W,CFC-12,CFC-12_FLAG_W,DELC14,DELC14_FLAG_W,DELC13,DELC13_FLAG_W,TCARBN,TCARBN_FLAG_W,ALKALI,ALKALI_FLAG_W,PH_TOT,PH_TOT_FLAG_W,PH_TMP,CHLORA,CHLORA_FLAG_W,PPHYTN,PPHYTN_FLAG_W,REFTMP,REFTMP_FLAG_W
,,,,,,,,,,,,METERS,DBAR,METERS,ITS-90,PSS-78,,UMOL/KG,,PSS-78,,UMOL/KG,,UMOL/KG,,UMOL/KG,,UMOL/KG,,UMOL/KG,,PMOL/KG,,PMOL/KG,,/MILLE,,/MILLE,,UMOL/KG,,UMOL/KG,,,,DEG C,UG/KG,,UG/KG,,ITS-90,
  49UP20110515,   P13,   139,  1,      0,     BUC,2,20110812,0333,0441, -4.5003, 164.9765, 2649,      0.0,        0,  29.7481,  35.2474,2,    196.7,2,     -999,9,   196.09,2,     1.07,2,     0.09,2,     0.00,2,    0.230,2,     -999,9,     -999,9,-999,9,-999,9,     -999,9,     -999,9,     -999,9,     -999,     -999,9,     -999,9,     -999,9
  49UP20110515,   P13,   139,  1,     36,     109,2,20110812,0333,0503, -4.5003, 164.9765, 2649,     10.5,       10,  29.6534,  35.2472,2,    197.1,2,  35.2470,2,   197.07,2,     1.08,2,     0.06,2,     0.00,2,    0.220,2,     -999,9,     -999,9,-999,9,-999,9,     -999,9,     -999,9,     -999,9,     -999,     -999,9,     -999,9,  29.6829,2
  49UP20110515,   P13,   139,  1,     35,     108,2,20110812,0333,0502, -4.5003, 164.9765, 2649,     25.6,       25,  29.5179,  35.2629,2,    197.6,2,  35.2621,6,   197.11,2,     1.02,2,     0.07,2,     0.01,2,    0.240,2,     -999,9,     -999,9,-999,9,-999,9,     -999,9,     -999,9,     -999,9,     -999,     -999,9,     -999,9,  29.5201,2
  49UP20110515,   P13,   139,  1,     34,     107,2,20110812,0333,0458, -4.5003, 164.9765, 2649,     49.9,       50,  29.3556,  35.3534,2,    197.5,2,  35.3521,2,   197.58,2,     1.17,2,     0.26,2,     0.01,2,    0.240,2,     -999,9,     -999,9,-999,9,-999,9,     -999,9,     -999,9,     -999,9,     -999,     -999,9,     -999,9,  29.3555,2
  49UP20110515,   P13,   139,  1,     33,     106,2,20110812,0333,0457, -4.5003, 164.9765, 2649,     73.7,       73,  29.2509,  35.3685,2,    192.4,2,  35.3672,2,   192.44,2,     1.17,2,     0.41,2,     0.02,2,    0.260,2,     -999,9,     -999,9,-999,9,-999,9,     -999,9,     -999,9,     -999,9,     -999,     -999,9,     -999,9,  29.2509,2
  49UP20110515,   P13,   139,  1,     32,     105,2,20110812,0333,0455, -4.5003, 164.9765, 2649,    100.8,      100,  28.3503,  35.6257,2,    178.7,2,  35.6223,6,   178.42,2,     1.48,2,     3.77,2,     1.09,2,    0.500,2,     -999,9,     -999,9,-999,9,-999,9,     -999,9,     -999,9,     -999,9,     -999,     -999,9,     -999,9,  28.3536,2
  49UP20110515,   P13,   139,  1,     31,     104,2,20110812,0333,0454, -4.5003, 164.9765, 2649,    125.4,      125,  27.5040,  35.6377,2,    161.8,2,  35.6361,2,   161.52,2,     1.62,2,     6.15,2,     0.15,2,    0.610,2,     -999,9,     -999,9,-999,9,-999,9,     -999,9,     -999,9,     -999,9,     -999,     -999,9,     -999,9,  27.5022,2
  49UP20110515,   P13,   139,  1,     30,     103,2,20110812,0333,0452, -4.5003, 164.9765, 2649,    154.2,      153,  25.4119,  35.8842,2,    140.6,2,  35.8765,4,   140.37,6,     1.80,2,     8.28,2,     0.02,2,    0.750,2,     -999,9,     -999,9,-999,9,-999,9,     -999,9,     -999,9,     -999,9,     -999,     -999,9,     -999,9,  25.4109,2
  49UP20110515,   P13,   139,  1,     29,     102,2,20110812,0333,0450, -4.5003, 164.9765, 2649,    202.0,      201,  20.3654,  35.7342,2,    129.7,2,  35.7382,2,   129.50,2,     3.07,6,    10.71,6,     0.01,6,    0.990,6,     -999,9,     -999,9,-999,9,-999,9,     -999,9,     -999,9,     -999,9,     -999,     -999,9,     -999,9,  20.3664,2
  49UP20110515,   P13,   139,  1,     28,     101,4,20110812,0333,0448, -4.5003, 164.9765, 2649,    253.4,      252,  14.4004,  35.0971,2,     91.0,2,     -999,9,     -999,9,     -999,9,     -999,9,     -999,9,     -999,9,     -999,9,     -999,9,-999,9,-999,9,     -999,9,     -999,9,     -999,9,     -999,     -999,9,     -999,9,  14.3948,2
  49UP20110515,   P13,   139,  1,     27,     100,2,20110812,0333,0446, -4.5003, 164.9765, 2649,    332.6,      330,   9.4277,  34.7001,2,    103.8,2,  34.7015,6,   103.37,2,    24.40,2,    29.11,2,     0.00,2,    2.030,2,     -999,9,     -999,9,-999,9,-999,9,     -999,9,     -999,9,     -999,9,     -999,     -999,9,     -999,9,   9.4283,2
  49UP20110515,   P13,   139,  1,     26,      99,2,20110812,0333,0443, -4.5003, 164.9765, 2649,    384.3,      382,   8.8866,  34.6615,2,    104.8,2,  34.6619,2,   104.25,2,    26.57,2,    30.18,2,     0.00,2,    2.100,2,     -999,9,     -999,9,-999,9,-999,9,     -999,9,     -999,9,     -999,9,     -999,     -999,9,     -999,9,   8.8846,2
  49UP20110515,   P13,   139,  1,     25,      98,2,20110812,0333,0439, -4.5003, 164.9765, 2649,    432.6,      430,   8.3708,  34.6308,2,    100.5,2,  34.6320,2,    95.86,2,    30.07,2,    32.19,2,     0.00,2,    2.230,2,     -999,9,     -999,9,-999,9,-999,9,     -999,9,     -999,9,     -999,9,     -999,     -999,9,     -999,9,   8.3728,2
  49UP20110515,   P13,   139,  1,     24,      97,2,20110812,0333,0439, -4.5003, 164.9765, 2649,    432.6,      430,   8.3708,  34.6308,2,    100.5,2,  34.6326,2,    96.27,2,    30.07,2,    32.14,2,     0.00,2,    2.260,2,     -999,9,     -999,9,-999,9,-999,9,     -999,9,     -999,9,     -999,9,     -999,     -999,9,     -999,9,   8.3728,2
  49UP20110515,   P13,   139,  1,     23,      96,2,20110812,0333,0436, -4.5003, 164.9765, 2649,    533.8,      530,   7.5147,  34.5851,2,     98.0,2,  34.5878,2,    97.35,6,    35.18,2,    33.88,2,     0.00,2,    2.350,2,     -999,9,     -999,9,-999,9,-999,9,     -999,9,     -999,9,     -999,9,     -999,     -999,9,     -999,9,   7.5230,2
  49UP20110515,   P13,   139,  1,     22,      95,2,20110812,0333,0433, -4.5003, 164.9765, 2649,    638.6,      634,   6.7483,  34.5486,2,    110.3,2,  34.5490,2,   110.07,2,    40.06,2,    34.15,2,     0.00,2,    2.390,2,     -999,9,     -999,9,-999,9,-999,9,     -999,9,     -999,9,     -999,9,     -999,     -999,9,     -999,9,   6.7483,2
  49UP20110515,   P13,   139,  1,     21,      94,2,20110812,0333,0430, -4.5003, 164.9765, 2649,    735.8,      730,   6.2617,  34.5387,2,    100.3,2,  34.5378,2,    99.90,2,    47.42,2,    36.22,2,     0.00,2,    2.530,2,     -999,9,     -999,9,-999,9,-999,9,     -999,9,     -999,9,     -999,9,     -999,     -999,9,     -999,9,   6.2622,2
  49UP20110515,   P13,   139,  1,     20,      93,2,20110812,0333,0427, -4.5003, 164.9765, 2649,    839.2,      833,   5.5355,  34.5280,2,    105.7,2,  34.5277,6,   105.23,2,    57.02,2,    36.54,2,     0.00,2,    2.570,2,     -999,9,     -999,9,-999,9,-999,9,     -999,9,     -999,9,     -999,9,     -999,     -999,9,     -999,9,   5.5345,2
  49UP20110515,   P13,   139,  1,     19,      92,2,20110812,0333,0422, -4.5003, 164.9765, 2649,    939.9,      933,   4.9701,  34.5358,2,    100.1,2,  34.5359,2,   100.28,2,    68.84,6,    37.69,6,     0.00,6,    2.660,6,     -999,9,     -999,9,-999,9,-999,9,     -999,9,     -999,9,     -999,9,     -999,     -999,9,     -999,9,   4.9711,2
  49UP20110515,   P13,   139,  1,     18,      91,2,20110812,0333,0419, -4.5003, 164.9765, 2649,   1079.9,     1071,   4.0603,  34.5489,2,    114.9,2,  34.5490,2,   114.80,2,    83.94,2,    37.18,2,     0.00,2,    2.630,2,     -999,9,     -999,9,-999,9,-999,9,     -999,9,     -999,9,     -999,9,     -999,     -999,9,     -999,9,   4.0605,2
  49UP20110515,   P13,   139,  1,     17,      90,2,20110812,0333,0414, -4.5003, 164.9765, 2649,   1282.4,     1271,   3.3685,  34.5762,2,    113.6,2,  34.5758,2,   113.47,2,   100.20,2,    37.98,2,     0.00,2,    2.690,2,     -999,9,     -999,9,-999,9,-999,9,     -999,9,     -999,9,     -999,9,     -999,     -999,9,     -999,9,   3.3681,2
  49UP20110515,   P13,   139,  1,     16,      89,2,20110812,0333,0414, -4.5003, 164.9765, 2649,   1282.4,     1271,   3.3685,  34.5762,2,    113.6,2,  34.5769,2,   113.72,2,   100.21,2,    37.98,2,     0.00,2,    2.690,2,     -999,9,     -999,9,-999,9,-999,9,     -999,9,     -999,9,     -999,9,     -999,     -999,9,     -999,9,   3.3681,2
  49UP20110515,   P13,   139,  1,     15,      88,2,20110812,0333,0407, -4.5003, 164.9765, 2649,   1483.0,     1470,   2.9264,  34.6002,2,    112.9,2,  34.6003,2,   112.67,6,   114.18,2,    38.20,2,     0.00,2,    2.700,2,     -999,9,     -999,9,-999,9,-999,9,     -999,9,     -999,9,     -999,9,     -999,     -999,9,     -999,9,   2.9263,2
  49UP20110515,   P13,   139,  1,     14,      87,2,20110812,0333,0403, -4.5003, 164.9765, 2649,   1686.5,     1670,   2.6388,  34.6127,2,    120.4,2,  34.6128,6,   120.24,2,   118.38,2,    37.74,2,     0.00,2,    2.680,2,     -999,9,     -999,9,-999,9,-999,9,     -999,9,     -999,9,     -999,9,     -999,     -999,9,     -999,9,   2.6389,2
  49UP20110515,   P13,   139,  1,     13,      86,2,20110812,0333,0358, -4.5003, 164.9765, 2649,   1889.1,     1870,   2.3694,  34.6288,2,    122.8,2,  34.6300,2,   122.68,2,   125.95,2,    37.86,2,     0.00,2,    2.660,2,     -999,9,     -999,9,-999,9,-999,9,     -999,9,     -999,9,     -999,9,     -999,     -999,9,     -999,9,   2.3693,2
  49UP20110515,   P13,   139,  1,     12,      74,2,20110812,0333,0351, -4.5003, 164.9765, 2649,   2091.9,     2070,   2.1508,  34.6415,2,    126.3,2,  34.6423,2,   126.07,2,   131.64,2,    37.52,2,     0.00,2,    2.640,2,     -999,9,     -999,9,-999,9,-999,9,     -999,9,     -999,9,     -999,9,     -999,     -999,9,     -999,9,   2.1503,2
  49UP20110515,   P13,   139,  1,     11,     110,2,20110812,0333,0351, -4.5003, 164.9765, 2649,   2091.9,     2070,   2.1508,  34.6415,2,    126.3,2,  34.6422,2,   126.22,2,   131.70,2,    37.70,2,     0.00,2,    2.640,2,     -999,9,     -999,9,-999,9,-999,9,     -999,9,     -999,9,     -999,9,     -999,     -999,9,     -999,9,   2.1503,2
  49UP20110515,   P13,   139,  1,     10,      83,2,20110812,0333,0347, -4.5003, 164.9765, 2649,   2296.9,     2272,   1.9937,  34.6505,2,    129.3,2,  34.6509,2,   129.41,2,   135.81,2,    37.35,2,     0.00,2,    2.620,2,     -999,9,     -999,9,-999,9,-999,9,     -999,9,     -999,9,     -999,9,     -999,     -999,9,     -999,9,   1.9935,2
  49UP20110515,   P13,   139,  1,      9,      82,2,20110812,0333,0342, -4.5003, 164.9765, 2649,   2500.0,     2471,   1.9008,  34.6559,2,    131.3,2,  34.6572,2,   131.03,2,   138.34,2,    37.39,2,     0.00,2,    2.610,2,     -999,9,     -999,9,-999,9,-999,9,     -999,9,     -999,9,     -999,9,     -999,     -999,9,     -999,9,   1.9004,2
  49UP20110515,   P13,   139,  1,      8,      81,2,20110812,0333,0342, -4.5003, 164.9765, 2649,   2500.0,     2471,   1.9008,  34.6559,2,    131.3,2,  34.6568,2,   131.21,2,   138.63,6,    37.35,6,     0.00,6,    2.620,6,     -999,9,     -999,9,-999,9,-999,9,     -999,9,     -999,9,     -999,9,     -999,     -999,9,     -999,9,   1.9004,2
  49UP20110515,   P13,   139,  1,      1,     112,2,20110812,0333,0337, -4.5003, 164.9765, 2649,   2648.2,     2617,   1.8715,  34.6581,2,    132.3,2,  34.6592,6,   132.13,6,   139.38,6,    37.32,6,     0.00,6,    2.610,6,     -999,9,     -999,9,-999,9,-999,9,     -999,9,     -999,9,     -999,9,     -999,     -999,9,     -999,9,   1.8710,2
  49UP20110515,   P13,   139,  1,      2,      75,2,20110812,0333,0337, -4.5003, 164.9765, 2649,   2648.4,     2617,   1.8716,  34.6581,2,    132.2,2,  34.6587,2,   132.22,2,   139.72,2,    37.32,2,     0.00,2,    2.610,2,     -999,9,     -999,9,-999,9,-999,9,     -999,9,     -999,9,     -999,9,     -999,     -999,9,     -999,9,   1.8711,2