BOTTLE,20240116CCHSIOVAJ
EXPOCODE,SECT_ID,STNNBR,CASTNO,SAMPNO,BTLNBR,BTLNBR_FLAG_W,DATE,TIME,BTL_TIME,LATITUDE,LONGITUDE,DEPTH,CTDPRS,CTDDEPTH,CTDTMP,CTDSAL,CTDSAL_FLAG_W,CTDOXY,CTDOXY_FLAG_W,SALNTY,SALNTY_FLAG_W,OXYGEN,OXYGEN_FLAG_W,SILCAT,SILCAT_FLAG_W,NO2+NO3,NO2+NO3_FLAG_W,NITRIT,NITRIT_FLAG_W,PHSPHT,PHSPHT_FLAG_W,CFC-11,CFC-11_FLAG_W,CFC-12,CFC-12_FLAG_W,DELC14,DELC14_FLAG_W,DELC13,DELC13_FLAG_W,TCARBN,TCARBN_FLAG_W,ALKALI,ALKALI_FLAG_W,PH_TOT,PH_TOT_FLAG_W,PH_TMP,CHLORA,CHLORA_FLAG_W,PPHYTN,PPHYTN_FLAG_W,REFTMP,REFTMP_FLAG_W
,,,,,,,,,,,,METERS,DBAR,METERS,ITS-90,PSS-78,,UMOL/KG,,PSS-78,,UMOL/KG,,UMOL/KG,,UMOL/KG,,UMOL/KG,,UMOL/KG,,PMOL/KG,,PMOL/KG,,/MILLE,,/MILLE,,UMOL/KG,,UMOL/KG,,,,DEG C,UG/KG,,UG/KG,,ITS-90,
  49UP20110515,   P01,    27,  1,      0,     BUC,2,20110607,1358,1627, 41.9407, 151.4858, 5155,      0.0,        0,   7.7726,  32.9940,2,    330.7,2,     -999,9,   331.48,2,     5.35,2,    10.34,2,     0.20,2,    1.040,2,     -999,9,     -999,9,-999,9,-999,9,     -999,9,     -999,9,     -999,9,     -999,     -999,9,     -999,9,     -999,9
  49UP20110515,   P01,    27,  1,     36,     109,2,20110607,1358,1646, 41.9407, 151.4858, 5155,     11.4,       11,   7.1884,  32.9989,2,    336.6,2,  33.0085,2,   339.76,2,     5.00,2,    10.72,2,     0.22,2,    1.090,2,     -999,9,     -999,9,-999,9,-999,9,     -999,9,     -999,9,     -999,9,     -999,     -999,9,     -999,9,   7.2003,2
  49UP20110515,   P01,    27,  1,     35,     108,2,20110607,1358,1641, 41.9407, 151.4858, 5155,     51.4,       51,   2.7178,  33.0341,2,    329.9,2,  33.0341,2,   330.45,2,    41.56,6,    23.04,6,     0.48,6,    1.880,6,     -999,9,     -999,9,-999,9,-999,9,     -999,9,     -999,9,     -999,9,     -999,     -999,9,     -999,9,   2.7219,2
  49UP20110515,   P01,    27,  1,     34,     107,2,20110607,1358,1639, 41.9407, 151.4858, 5155,     76.6,       76,   1.5018,  33.0588,2,    328.9,2,  33.0562,2,   329.68,2,    45.21,2,    25.45,2,     0.22,2,    2.000,2,     -999,9,     -999,9,-999,9,-999,9,     -999,9,     -999,9,     -999,9,     -999,     -999,9,     -999,9,   1.5080,2
  49UP20110515,   P01,    27,  1,     33,     106,2,20110607,1358,1637, 41.9407, 151.4858, 5155,    101.4,      101,   1.5550,  33.1288,2,    319.1,2,  33.1293,2,   319.20,2,    47.76,6,    25.89,6,     0.18,6,    2.040,6,     -999,9,     -999,9,-999,9,-999,9,     -999,9,     -999,9,     -999,9,     -999,     -999,9,     -999,9,   1.5509,2
  49UP20110515,   P01,    27,  1,     32,     105,2,20110607,1358,1633, 41.9407, 151.4858, 5155,    151.5,      150,   1.8464,  33.4096,2,    218.5,2,  33.4106,6,   216.28,2,    67.73,2,    32.51,2,     0.02,2,    2.440,2,     -999,9,     -999,9,-999,9,-999,9,     -999,9,     -999,9,     -999,9,     -999,     -999,9,     -999,9,   1.8476,2
  49UP20110515,   P01,    27,  1,     31,     104,2,20110607,1358,1631, 41.9407, 151.4858, 5155,    201.9,      200,   2.7229,  33.6319,2,    136.3,2,  33.6301,2,   135.05,2,    82.54,2,    37.60,2,     0.03,2,    2.740,2,     -999,9,     -999,9,-999,9,-999,9,     -999,9,     -999,9,     -999,9,     -999,     -999,9,     -999,9,   2.7202,2
  49UP20110515,   P01,    27,  1,     30,     103,2,20110607,1358,1629, 41.9407, 151.4858, 5155,    252.5,      250,   3.0176,  33.7540,2,     97.1,2,  33.7608,2,    93.92,2,    91.59,2,    40.11,2,     0.01,2,    2.890,2,     -999,9,     -999,9,-999,9,-999,9,     -999,9,     -999,9,     -999,9,     -999,     -999,9,     -999,9,   3.0179,2
  49UP20110515,   P01,    27,  1,     29,     102,2,20110607,1358,1628, 41.9407, 151.4858, 5155,    282.9,      280,   3.1498,  33.8259,2,     80.3,2,  33.8287,2,    79.21,2,    96.12,2,    40.89,2,     0.01,2,    2.930,2,     -999,9,     -999,9,-999,9,-999,9,     -999,9,     -999,9,     -999,9,     -999,     -999,9,     -999,9,   3.1501,2
  49UP20110515,   P01,    27,  1,     28,     101,2,20110607,1358,1626, 41.9407, 151.4858, 5155,    373.1,      370,   3.3313,  33.9874,2,     46.7,2,  33.9833,2,    45.42,6,   109.23,2,    42.98,2,     0.00,2,    3.060,2,     -999,9,     -999,9,-999,9,-999,9,     -999,9,     -999,9,     -999,9,     -999,     -999,9,     -999,9,   3.3249,2
  49UP20110515,   P01,    27,  1,     27,     100,2,20110607,1358,1623, 41.9407, 151.4858, 5155,    474.5,      470,   3.2501,  34.1010,2,     33.6,2,  34.1034,2,    33.88,2,   120.58,2,    43.35,2,     0.00,2,    3.090,2,     -999,9,     -999,9,-999,9,-999,9,     -999,9,     -999,9,     -999,9,     -999,     -999,9,     -999,9,   3.2503,2
  49UP20110515,   P01,    27,  1,     26,      99,2,20110607,1358,1621, 41.9407, 151.4858, 5155,    575.5,      570,   3.2077,  34.2011,2,     25.6,2,  34.2038,2,    26.79,2,   129.47,2,    43.67,2,     0.01,2,    3.100,2,     -999,9,     -999,9,-999,9,-999,9,     -999,9,     -999,9,     -999,9,     -999,     -999,9,     -999,9,   3.2080,2
  49UP20110515,   P01,    27,  1,     25,      98,2,20110607,1358,1618, 41.9407, 151.4858, 5155,    676.4,      670,   2.9733,  34.2614,2,     25.8,2,  34.2605,2,    25.73,6,   138.18,2,    43.71,2,     0.00,2,    3.120,2,     -999,9,     -999,9,-999,9,-999,9,     -999,9,     -999,9,     -999,9,     -999,     -999,9,     -999,9,   2.9747,2
  49UP20110515,   P01,    27,  1,     24,      97,2,20110607,1358,1611, 41.9407, 151.4858, 5155,    778.2,      771,   2.8161,  34.3154,2,     31.1,2,  34.3155,6,    31.76,2,   143.39,2,    43.22,2,     0.00,2,    3.080,2,     -999,9,     -999,9,-999,9,-999,9,     -999,9,     -999,9,     -999,9,     -999,     -999,9,     -999,9,   2.8162,2
  49UP20110515,   P01,    27,  1,     23,      96,2,20110607,1358,1608, 41.9407, 151.4858, 5155,    879.0,      870,   2.6711,  34.3622,2,     32.4,2,  34.3622,2,    31.01,2,   149.33,2,    43.29,2,     0.00,2,    3.090,2,     -999,9,     -999,9,-999,9,-999,9,     -999,9,     -999,9,     -999,9,     -999,     -999,9,     -999,9,   2.6718,2
  49UP20110515,   P01,    27,  1,     22,      95,2,20110607,1358,1606, 41.9407, 151.4858, 5155,    980.8,      971,   2.5542,  34.4006,2,     34.8,2,  34.4003,2,    34.37,2,   153.24,2,    43.11,2,     0.00,2,    3.080,2,     -999,9,     -999,9,-999,9,-999,9,     -999,9,     -999,9,     -999,9,     -999,     -999,9,     -999,9,   2.5544,2
  49UP20110515,   P01,    27,  1,     21,      94,2,20110607,1358,1602, 41.9407, 151.4858, 5155,   1141.8,     1130,   2.4096,  34.4460,2,     40.0,2,  34.4466,2,    39.84,2,   157.98,2,    42.96,2,     0.00,2,    3.060,2,     -999,9,     -999,9,-999,9,-999,9,     -999,9,     -999,9,     -999,9,     -999,     -999,9,     -999,9,   2.4097,2
  49UP20110515,   P01,    27,  1,     20,      93,3,20110607,1358,1602, 41.9407, 151.4858, 5155,   1141.8,     1130,   2.4096,  34.4460,2,     40.0,2,  34.4458,2,    39.68,2,   157.47,2,    42.86,2,     0.00,2,    3.050,3,     -999,9,     -999,9,-999,9,-999,9,     -999,9,     -999,9,     -999,9,     -999,     -999,9,     -999,9,   2.4097,2
  49UP20110515,   P01,    27,  1,     19,      92,3,20110607,1358,1555, 41.9407, 151.4858, 5155,   1345.3,     1330,   2.2757,  34.4998,2,     46.9,2,  34.4997,2,    46.80,2,   160.54,2,    42.52,2,     0.00,2,    3.000,2,     -999,9,     -999,9,-999,9,-999,9,     -999,9,     -999,9,     -999,9,     -999,     -999,9,     -999,9,   2.2759,2
  49UP20110515,   P01,    27,  1,     18,      91,2,20110607,1358,1549, 41.9407, 151.4858, 5155,   1548.1,     1530,   2.1151,  34.5386,2,     51.2,2,  34.5387,2,    51.36,2,   165.88,2,    42.28,2,     0.00,2,    2.980,2,     -999,9,     -999,9,-999,9,-999,9,     -999,9,     -999,9,     -999,9,     -999,     -999,9,     -999,9,   2.1151,2
  49UP20110515,   P01,    27,  1,     17,      90,2,20110607,1358,1545, 41.9407, 151.4858, 5155,   1750.7,     1730,   1.9839,  34.5740,2,     63.4,2,  34.5738,2,    62.78,2,   166.52,6,    41.63,6,     0.00,6,    2.930,6,     -999,9,     -999,9,-999,9,-999,9,     -999,9,     -999,9,     -999,9,     -999,     -999,9,     -999,9,   1.9839,2
  49UP20110515,   P01,    27,  1,     16,      89,2,20110607,1358,1532, 41.9407, 151.4858, 5155,   1954.3,     1930,   1.8841,  34.6011,2,     78.9,2,  34.6011,2,    78.90,2,   163.35,2,    40.81,2,     0.00,2,    2.860,2,     -999,9,     -999,9,-999,9,-999,9,     -999,9,     -999,9,     -999,9,     -999,     -999,9,     -999,9,   1.8842,2
  49UP20110515,   P01,    27,  1,     15,      88,2,20110607,1358,1528, 41.9407, 151.4858, 5155,   2158.7,     2131,   1.7864,  34.6196,2,     90.7,2,  34.6195,2,    90.47,6,   162.83,2,    40.06,2,     0.00,2,    2.810,2,     -999,9,     -999,9,-999,9,-999,9,     -999,9,     -999,9,     -999,9,     -999,     -999,9,     -999,9,   1.7863,2
  49UP20110515,   P01,    27,  1,     14,      87,2,20110607,1358,1524, 41.9407, 151.4858, 5155,   2363.0,     2331,   1.7061,  34.6341,2,    101.0,2,  34.6333,6,   101.07,2,   161.75,2,    39.48,2,     0.00,2,    2.770,2,     -999,9,     -999,9,-999,9,-999,9,     -999,9,     -999,9,     -999,9,     -999,     -999,9,     -999,9,   1.7060,2
  49UP20110515,   P01,    27,  1,     13,      86,2,20110607,1358,1513, 41.9407, 151.4858, 5155,   2566.9,     2531,   1.6310,  34.6464,2,    110.7,2,  34.6473,2,   110.85,2,   161.28,2,    38.78,2,     0.00,2,    2.720,2,     -999,9,     -999,9,-999,9,-999,9,     -999,9,     -999,9,     -999,9,     -999,     -999,9,     -999,9,   1.6309,2
  49UP20110515,   P01,    27,  1,     12,      85,2,20110607,1358,1509, 41.9407, 151.4858, 5155,   2770.7,     2731,   1.5742,  34.6559,2,    118.5,2,  34.6565,2,   118.49,2,   160.37,2,    38.34,2,     0.00,2,    2.690,2,     -999,9,     -999,9,-999,9,-999,9,     -999,9,     -999,9,     -999,9,     -999,     -999,9,     -999,9,   1.5743,2
  49UP20110515,   P01,    27,  1,     11,     110,2,20110607,1358,1502, 41.9407, 151.4858, 5155,   2975.4,     2931,   1.5354,  34.6636,2,    127.3,2,  34.6642,2,   127.02,2,   157.56,2,    37.74,2,     0.00,2,    2.640,2,     -999,9,     -999,9,-999,9,-999,9,     -999,9,     -999,9,     -999,9,     -999,     -999,9,     -999,9,   1.5352,2
  49UP20110515,   P01,    27,  1,     10,      83,2,20110607,1358,1456, 41.9407, 151.4858, 5155,   3220.8,     3171,   1.4982,  34.6702,2,    134.4,2,  34.6702,2,   134.19,2,   156.31,2,    37.27,2,     0.00,2,    2.610,2,     -999,9,     -999,9,-999,9,-999,9,     -999,9,     -999,9,     -999,9,     -999,     -999,9,     -999,9,   1.4980,2
  49UP20110515,   P01,    27,  1,      9,      82,2,20110607,1358,1449, 41.9407, 151.4858, 5155,   3476.9,     3422,   1.4718,  34.6759,2,    141.0,2,  34.6755,2,   140.90,6,   154.83,2,    36.86,2,     0.00,2,    2.570,2,     -999,9,     -999,9,-999,9,-999,9,     -999,9,     -999,9,     -999,9,     -999,     -999,9,     -999,9,   1.4717,2
  49UP20110515,   P01,    27,  1,      8,      81,2,20110607,1358,1442, 41.9407, 151.4858, 5155,   3732.7,     3671,   1.4571,  34.6803,2,    146.6,2,  34.6807,2,   146.48,2,   153.36,2,    36.63,2,     0.00,2,    2.550,2,     -999,9,     -999,9,-999,9,-999,9,     -999,9,     -999,9,     -999,9,     -999,     -999,9,     -999,9,   1.4568,2
  49UP20110515,   P01,    27,  1,      7,      80,2,20110607,1358,1434, 41.9407, 151.4858, 5155,   3989.3,     3921,   1.4516,  34.6839,2,    150.9,2,  34.6831,2,   150.87,2,   151.82,2,    36.33,2,     0.00,2,    2.520,2,     -999,9,     -999,9,-999,9,-999,9,     -999,9,     -999,9,     -999,9,     -999,     -999,9,     -999,9,   1.4514,2
  49UP20110515,   P01,    27,  1,      6,      79,2,20110607,1358,1428, 41.9407, 151.4858, 5155,   4245.9,     4171,   1.4550,  34.6868,2,    154.2,2,  34.6866,2,   154.08,2,   150.97,2,    36.02,2,     0.00,2,    2.500,2,     -999,9,     -999,9,-999,9,-999,9,     -999,9,     -999,9,     -999,9,     -999,     -999,9,     -999,9,   1.4551,2
  49UP20110515,   P01,    27,  1,      5,      78,2,20110607,1358,1419, 41.9407, 151.4858, 5155,   4503.2,     4421,   1.4678,  34.6884,2,    156.3,2,  34.6881,2,   155.94,2,   151.02,6,    35.84,6,     0.00,6,    2.490,6,     -999,9,     -999,9,-999,9,-999,9,     -999,9,     -999,9,     -999,9,     -999,     -999,9,     -999,9,   1.4676,2
  49UP20110515,   P01,    27,  1,      4,      77,2,20110607,1358,1413, 41.9407, 151.4858, 5155,   4759.8,     4670,   1.4890,  34.6898,2,    157.4,2,  34.6895,6,   157.34,2,   151.20,2,    35.79,2,     0.00,2,    2.480,2,     -999,9,     -999,9,-999,9,-999,9,     -999,9,     -999,9,     -999,9,     -999,     -999,9,     -999,9,   1.4890,2
  49UP20110515,   P01,    27,  1,      3,      76,2,20110607,1358,1404, 41.9407, 151.4858, 5155,   5017.7,     4921,   1.5152,  34.6905,2,    158.0,2,  34.6905,2,   158.13,2,   151.73,2,    35.75,2,     0.00,2,    2.480,2,     -999,9,     -999,9,-999,9,-999,9,     -999,9,     -999,9,     -999,9,     -999,     -999,9,     -999,9,   1.5149,2
  49UP20110515,   P01,    27,  1,      2,      75,2,20110607,1358,1359, 41.9407, 151.4858, 5155,   5238.2,     5134,   1.5423,  34.6906,2,    157.9,2,  34.6906,2,   157.76,2,   152.45,2,    35.89,2,     0.00,2,    2.490,2,     -999,9,     -999,9,-999,9,-999,9,     -999,9,     -999,9,     -999,9,     -999,     -999,9,     -999,9,   1.5422,2
  49UP20110515,   P01,    27,  1,      1,      74,2,20110607,1358,1359, 41.9407, 151.4858, 5155,   5238.2,     5134,   1.5423,  34.6906,2,    157.9,2,  34.6907,2,   157.85,2,   152.39,2,    35.70,2,     0.00,2,    2.480,2,     -999,9,     -999,9,-999,9,-999,9,     -999,9,     -999,9,     -999,9,     -999,     -999,9,     -999,9,   1.5422,2