BOTTLE,20240116CCHSIOVAJ
EXPOCODE,SECT_ID,STNNBR,CASTNO,SAMPNO,BTLNBR,BTLNBR_FLAG_W,DATE,TIME,BTL_TIME,LATITUDE,LONGITUDE,DEPTH,CTDPRS,CTDDEPTH,CTDTMP,CTDSAL,CTDSAL_FLAG_W,CTDOXY,CTDOXY_FLAG_W,SALNTY,SALNTY_FLAG_W,OXYGEN,OXYGEN_FLAG_W,SILCAT,SILCAT_FLAG_W,NO2+NO3,NO2+NO3_FLAG_W,NITRIT,NITRIT_FLAG_W,PHSPHT,PHSPHT_FLAG_W,CFC-11,CFC-11_FLAG_W,CFC-12,CFC-12_FLAG_W,DELC14,DELC14_FLAG_W,DELC13,DELC13_FLAG_W,TCARBN,TCARBN_FLAG_W,ALKALI,ALKALI_FLAG_W,PH_TOT,PH_TOT_FLAG_W,PH_TMP,CHLORA,CHLORA_FLAG_W,PPHYTN,PPHYTN_FLAG_W,REFTMP,REFTMP_FLAG_W
,,,,,,,,,,,,METERS,DBAR,METERS,ITS-90,PSS-78,,UMOL/KG,,PSS-78,,UMOL/KG,,UMOL/KG,,UMOL/KG,,UMOL/KG,,UMOL/KG,,PMOL/KG,,PMOL/KG,,/MILLE,,/MILLE,,UMOL/KG,,UMOL/KG,,,,DEG C,UG/KG,,UG/KG,,ITS-90,
  49UP20110515,   KSE,    40,  1,      0,     BUC,2,20110612,0037,0311, 48.0097, 161.6565, 5639,      0.0,        0,   5.4901,  32.9346,2,    324.7,2,     -999,9,   325.48,2,    41.80,2,    21.64,2,     0.27,2,    1.760,2,     -999,9,     -999,9,-999,9,-999,9,     -999,9,     -999,9,     -999,9,     -999,     0.53,2,     0.13,2,     -999,9
  49UP20110515,   KSE,    40,  1,     36,     109,2,20110612,0037,0336, 48.0097, 161.6565, 5639,     10.5,       10,   5.4056,  32.9343,2,    324.3,2,  32.9384,2,   324.76,2,    42.18,6,    21.76,6,     0.28,6,    1.750,6,    5.184,2,    2.795,2,-999,9,-999,9,   2090.8,2,   2225.7,2,   7.7340,2,    25.00,     0.49,2,     0.11,2,   5.4097,2
  49UP20110515,   KSE,    40,  1,     35,     108,2,20110612,0037,0332, 48.0097, 161.6565, 5639,     50.5,       50,   3.7091,  32.9817,2,    327.0,2,  32.9824,2,   327.92,6,    43.56,2,    23.14,2,     0.31,2,    1.860,2,    5.267,2,    2.959,2,-999,9,-999,9,   2101.9,2,   2226.4,2,   7.7009,2,    25.00,     0.46,2,     0.27,2,   3.7093,2
  49UP20110515,   KSE,    40,  1,     34,     107,2,20110612,0037,0328, 48.0097, 161.6565, 5639,    102.0,      101,   2.6066,  33.0856,2,    302.8,2,  33.0825,2,   300.82,2,    47.64,6,    26.44,6,     0.01,6,    2.050,6,    5.046,2,    2.863,2,-999,9,-999,9,   2137.5,6,   2231.6,6,   7.6212,2,    25.00,     0.10,2,     0.06,2,   2.6075,2
  49UP20110515,   KSE,    40,  1,     33,     106,2,20110612,0037,0326, 48.0097, 161.6565, 5639,    127.1,      126,   2.6675,  33.3431,2,    218.4,2,  33.3748,4,   205.56,4,    63.41,2,    33.18,2,     0.01,2,    2.460,2,    4.175,2,    2.363,2,-999,9,-999,9,   2211.0,2,   2255.1,2,   7.4830,2,    25.00,     0.03,2,     0.04,2,   2.6703,2
  49UP20110515,   KSE,    40,  1,     32,     105,2,20110612,0037,0324, 48.0097, 161.6565, 5639,    152.5,      151,   2.9261,  33.6261,2,    118.7,2,  33.6264,2,   118.68,6,    81.76,2,    39.67,2,     0.00,2,    2.850,2,    3.165,2,    1.755,2,-999,9,-999,9,   2272.8,2,   2277.9,2,   7.3246,2,    25.00,     0.01,2,     0.03,2,   2.9263,2
  49UP20110515,   KSE,    40,  1,     31,     104,2,20110612,0037,0321, 48.0097, 161.6565, 5639,    202.6,      201,   3.5135,  33.8480,2,     43.1,2,  33.8508,2,    46.05,2,    96.17,2,    44.36,2,     0.00,2,    3.140,2,    2.376,6,    1.222,6,-999,9,-999,9,   2326.7,2,   2294.1,2,   7.2375,2,    25.00,     0.00,2,     0.02,2,   3.5151,2
  49UP20110515,   KSE,    40,  1,     30,     103,2,20110612,0037,0319, 48.0097, 161.6565, 5639,    252.9,      251,   3.6947,  33.9619,2,     21.7,2,  33.9618,6,    23.25,2,   103.90,2,    45.27,2,     0.00,2,    3.190,2,     -999,5,     -999,5,-999,9,-999,9,   2340.4,2,   2307.4,2,   7.2403,2,    25.00,     -999,9,     -999,9,   3.6858,2
  49UP20110515,   KSE,    40,  1,     29,     102,2,20110612,0037,0317, 48.0097, 161.6565, 5639,    304.2,      301,   3.5932,  34.0177,2,     19.9,2,  34.0187,2,    20.14,2,   109.04,2,    45.07,2,     0.00,2,    3.190,2,    1.577,2,    0.776,2,-999,9,-999,9,   2344.4,2,   2312.8,2,   7.2357,2,    25.00,     -999,9,     -999,9,   3.5950,2
  49UP20110515,   KSE,    40,  1,     28,     101,2,20110612,0037,0314, 48.0097, 161.6565, 5639,    404.8,      401,   3.4432,  34.1119,2,     21.1,2,  34.1102,2,    22.10,2,   119.12,2,    44.39,2,     0.00,2,    3.140,2,    1.111,2,    0.557,2,-999,9,-999,9,   2352.5,2,   2327.6,2,   7.2617,6,    25.00,     -999,9,     -999,9,   3.4442,2
  49UP20110515,   KSE,    40,  1,     27,     100,2,20110612,0037,0310, 48.0097, 161.6565, 5639,    506.5,      502,   3.2996,  34.1977,2,     18.5,2,  34.1972,2,    19.82,6,   128.68,2,    44.27,2,     0.00,2,    3.140,2,    0.726,6,    0.362,6,-999,9,-999,9,   2363.5,2,   2343.6,2,   7.2756,2,    25.00,     -999,9,     -999,9,   3.2999,2
  49UP20110515,   KSE,    40,  1,     26,      99,2,20110612,0037,0307, 48.0097, 161.6565, 5639,    607.5,      602,   3.1179,  34.2565,2,     24.9,2,  34.2575,2,    23.19,2,   134.75,2,    43.78,2,     0.00,2,    3.110,2,    0.571,2,    0.297,2,-999,9,-999,9,   2362.8,2,   2352.7,2,   7.2977,2,    25.00,     -999,9,     -999,9,   3.1183,2
  49UP20110515,   KSE,    40,  1,     25,      98,2,20110612,0037,0302, 48.0097, 161.6565, 5639,    707.7,      701,   2.9921,  34.3131,2,     16.2,2,  34.3131,2,    16.20,2,   142.80,2,    44.43,2,     0.00,2,    3.140,2,    0.332,2,    0.166,2,-999,9,-999,9,   2375.7,2,   2358.8,2,   7.2902,2,    25.00,     -999,9,     -999,9,   2.9924,2
  49UP20110515,   KSE,    40,  1,     24,      97,2,20110612,0037,0257, 48.0097, 161.6565, 5639,    809.1,      801,   2.8247,  34.3533,2,     22.7,2,  34.3534,6,    22.43,2,   147.24,2,    43.83,2,     0.00,2,    3.130,2,    0.285,2,    0.143,2,-999,9,-999,9,   2378.6,2,   2369.5,2,   7.3089,2,    25.00,     -999,9,     -999,9,   2.8253,2
  49UP20110515,   KSE,    40,  1,     23,      96,2,20110612,0037,0255, 48.0097, 161.6565, 5639,    910.9,      901,   2.6868,  34.3999,2,     32.1,2,  34.3995,2,    32.36,2,   150.06,6,    43.28,6,     0.00,6,    3.080,6,    0.235,2,    0.125,2,-999,9,-999,9,   2378.2,2,   2377.1,2,   7.3384,2,    25.00,     -999,9,     -999,9,   2.6871,2
  49UP20110515,   KSE,    40,  1,     22,      95,2,20110612,0037,0251, 48.0097, 161.6565, 5639,   1012.5,     1002,   2.5706,  34.4307,2,     33.5,2,  34.4304,2,    33.36,6,   154.28,2,    43.28,2,     0.00,2,    3.080,2,    0.178,2,    0.104,2,-999,9,-999,9,   2378.4,2,   2382.4,2,   7.3386,2,    25.00,     -999,9,     -999,9,   2.5708,2
  49UP20110515,   KSE,    40,  1,     21,      94,2,20110612,0037,0247, 48.0097, 161.6565, 5639,   1215.3,     1202,   2.3635,  34.4778,2,     37.5,2,  34.4777,2,    37.60,2,   161.12,2,    43.00,2,     0.00,2,    3.060,2,    0.069,2,    0.055,2,-999,9,-999,9,   2385.2,2,   2392.7,2,   7.3542,2,    25.00,     -999,9,     -999,9,   2.3634,2
  49UP20110515,   KSE,    40,  1,     20,      93,2,20110612,0037,0239, 48.0097, 161.6565, 5639,   1418.4,     1402,   2.1769,  34.5212,2,     40.6,2,  34.5214,2,    40.60,2,   167.75,2,    42.96,2,     0.00,2,    3.030,3,    0.000,2,    0.016,2,-999,9,-999,9,   2390.0,2,   2398.1,2,   7.3609,2,    25.00,     -999,9,     -999,9,   2.1768,2
  49UP20110515,   KSE,    40,  1,     19,      92,2,20110612,0037,0232, 48.0097, 161.6565, 5639,   1621.0,     1601,   2.0243,  34.5593,2,     51.1,2,  34.5592,2,    51.04,2,   170.73,2,    42.49,2,     0.00,2,    2.970,2,    0.011,2,    0.045,2,-999,9,-999,9,   2387.4,6,   2404.1,6,   7.3903,2,    25.00,     -999,9,     -999,9,   2.0241,2
  49UP20110515,   KSE,    40,  1,     18,      91,3,20110612,0037,0228, 48.0097, 161.6565, 5639,   1825.4,     1802,   1.9031,  34.5864,2,     62.8,2,  34.5876,2,    62.36,2,   172.62,2,    41.70,2,     0.00,2,    2.930,2,    0.000,2,    0.000,2,-999,9,-999,9,   2382.6,2,   2407.2,2,   7.4129,2,    25.00,     -999,9,     -999,9,   1.9030,2
  49UP20110515,   KSE,    40,  1,     17,      90,2,20110612,0037,0220, 48.0097, 161.6565, 5639,   2028.8,     2002,   1.8000,  34.6081,2,     75.7,2,  34.6084,2,    75.48,2,   171.92,2,    40.85,2,     0.00,2,    2.870,2,     -999,5,     -999,5,-999,9,-999,9,   2375.3,2,   2411.0,2,   7.4374,6,    25.00,     -999,9,     -999,9,   1.8001,2
  49UP20110515,   KSE,    40,  1,     16,      89,2,20110612,0037,0215, 48.0097, 161.6565, 5639,   2231.9,     2201,   1.7279,  34.6242,2,     88.1,2,  34.6242,2,    87.95,2,   169.84,2,    40.15,2,     0.00,2,    2.810,2,    0.000,2,    0.000,2,-999,9,-999,9,   2365.2,2,   2413.3,2,   7.4610,2,    25.00,     -999,9,     -999,9,   1.7279,2
  49UP20110515,   KSE,    40,  1,     15,      88,2,20110612,0037,0208, 48.0097, 161.6565, 5639,   2435.8,     2401,   1.6649,  34.6389,2,    103.2,2,  34.6390,2,   103.44,2,   164.34,2,    39.31,2,     0.00,2,    2.740,2,    0.000,2,    0.000,2,-999,9,-999,9,   2357.5,2,   2413.9,2,   7.4900,2,    25.00,     -999,9,     -999,9,   1.6648,2
  49UP20110515,   KSE,    40,  1,     14,      87,3,20110612,0037,0202, 48.0097, 161.6565, 5639,   2639.6,     2601,   1.5995,  34.6517,2,    116.3,2,  34.6515,2,   116.32,2,   159.89,2,    38.45,2,     0.00,2,    2.680,2,    0.000,2,    0.000,2,-999,9,-999,9,   2346.4,2,   2413.2,2,   7.5178,2,    25.00,     -999,9,     -999,9,   1.5995,2
  49UP20110515,   KSE,    40,  1,     13,      86,2,20110612,0037,0158, 48.0097, 161.6565, 5639,   2843.8,     2801,   1.5593,  34.6593,2,    123.8,2,  34.6587,2,   124.09,2,   157.97,2,    38.02,2,     0.00,2,    2.630,2,     -999,9,     -999,9,-999,9,-999,9,   2340.6,2,   2414.8,2,   7.5306,2,    25.00,     -999,9,     -999,9,   1.5592,2
  49UP20110515,   KSE,    40,  1,     12,      85,2,20110612,0037,0148, 48.0097, 161.6565, 5639,   3048.2,     3001,   1.5264,  34.6656,2,    130.0,2,  34.6657,2,   130.15,2,   157.17,2,    37.76,2,     0.00,2,    2.610,2,     -999,9,     -999,9,-999,9,-999,9,   2340.2,2,   2415.5,2,   7.5388,2,    25.00,     -999,9,     -999,9,   1.5264,2
  49UP20110515,   KSE,    40,  1,     11,     110,2,20110612,0037,0143, 48.0097, 161.6565, 5639,   3304.7,     3252,   1.4989,  34.6713,2,    135.9,2,  34.6716,6,   135.71,2,   156.14,2,    37.33,2,     0.00,2,    2.580,2,    0.000,2,    0.000,2,-999,9,-999,9,   2334.1,2,   2413.1,2,   7.5533,2,    25.00,     -999,9,     -999,9,   1.4990,2
  49UP20110515,   KSE,    40,  1,     10,      83,2,20110612,0037,0134, 48.0097, 161.6565, 5639,   3559.6,     3500,   1.4800,  34.6761,2,    141.8,2,  34.6763,2,   141.54,2,   153.43,4,    37.02,2,     0.00,2,    2.550,2,     -999,9,     -999,9,-999,9,-999,9,   2331.7,3,   2413.2,6,   7.5612,2,    25.00,     -999,9,     -999,9,   1.4800,2
  49UP20110515,   KSE,    40,  1,      9,      82,2,20110612,0037,0129, 48.0097, 161.6565, 5639,   3816.9,     3751,   1.4732,  34.6795,2,    145.7,2,  34.6798,2,   145.47,2,   153.96,2,    36.68,2,     0.00,2,    2.530,2,     -999,9,     -999,9,-999,9,-999,9,   2325.0,2,   2416.8,2,   7.5671,2,    25.00,     -999,9,     -999,9,   1.4733,2
  49UP20110515,   KSE,    40,  1,      8,      81,2,20110612,0037,0121, 48.0097, 161.6565, 5639,   4074.6,     4002,   1.4683,  34.6831,2,    150.4,2,  34.6835,2,   150.26,2,   152.12,2,    36.35,2,     0.00,2,    2.500,2,     -999,9,     -999,9,-999,9,-999,9,   2325.8,2,   2415.0,2,   7.5763,6,    25.00,     -999,9,     -999,9,   1.4684,2
  49UP20110515,   KSE,    40,  1,      7,      80,2,20110612,0037,0116, 48.0097, 161.6565, 5639,   4330.4,     4251,   1.4744,  34.6855,2,    153.5,2,  34.6877,4,   153.02,2,   151.57,2,    36.19,2,     0.00,2,    2.490,2,    0.000,2,    0.003,2,-999,9,-999,9,   2319.8,2,   2413.1,2,   7.5771,2,    25.00,     -999,9,     -999,9,   1.4744,2
  49UP20110515,   KSE,    40,  1,      6,      79,2,20110612,0037,0107, 48.0097, 161.6565, 5639,   4587.7,     4501,   1.4863,  34.6875,2,    155.9,2,  34.6878,2,   156.09,2,   150.88,2,    36.03,6,     0.00,6,    2.480,6,     -999,9,     -999,9,-999,9,-999,9,   2322.2,2,   2414.8,2,   7.5834,2,    25.00,     -999,9,     -999,9,   1.4863,2
  49UP20110515,   KSE,    40,  1,      5,      78,2,20110612,0037,0102, 48.0097, 161.6565, 5639,   4845.6,     4751,   1.5037,  34.6888,2,    157.8,2,  34.6903,4,   157.55,2,   150.56,2,    35.89,2,     0.00,2,    2.460,2,     -999,9,     -999,9,-999,9,-999,9,   2319.8,2,   2414.2,2,   7.5860,2,    25.00,     -999,9,     -999,9,   1.5038,2
  49UP20110515,   KSE,    40,  1,      4,      77,2,20110612,0037,0054, 48.0097, 161.6565, 5639,   5103.5,     5001,   1.5282,  34.6898,2,    158.5,2,  34.6900,2,   158.36,2,   151.09,2,    35.82,2,     0.00,2,    2.460,2,     -999,9,     -999,9,-999,9,-999,9,   2316.5,2,   2411.4,2,   7.5862,2,    25.00,     -999,9,     -999,9,   1.5283,2
  49UP20110515,   KSE,    40,  1,      3,      76,2,20110612,0037,0049, 48.0097, 161.6565, 5639,   5360.7,     5250,   1.5557,  34.6905,2,    159.6,2,  34.6898,2,   159.45,2,   149.36,2,    35.74,2,     0.00,2,    2.450,2,    0.000,2,    0.000,2,-999,9,-999,9,   2320.5,2,   2412.4,2,   7.5880,2,    25.00,     -999,9,     -999,9,   1.5558,2
  49UP20110515,   KSE,    40,  1,      2,      75,2,20110612,0037,0041, 48.0097, 161.6565, 5639,   5620.5,     5501,   1.5857,  34.6906,2,    160.2,2,  34.6909,6,   159.67,2,   149.07,2,    35.66,2,     0.00,2,    2.450,2,     -999,9,     -999,9,-999,9,-999,9,   2316.9,2,   2409.8,2,   7.5832,2,    25.00,     -999,9,     -999,9,   1.5857,2
  49UP20110515,   KSE,    40,  1,      1,      74,2,20110612,0037,0037, 48.0097, 161.6565, 5639,   5767.6,     5643,   1.6044,  34.6911,2,    159.6,2,  34.6897,2,   159.32,2,   150.77,2,    35.61,2,     0.00,2,    2.450,2,     -999,9,     -999,9,-999,9,-999,9,   2323.0,2,   2407.0,2,   7.5848,2,    25.00,     -999,9,     -999,9,   1.6044,2