BOTTLE,20240116CCHSIOVAJ
EXPOCODE,SECT_ID,STNNBR,CASTNO,SAMPNO,BTLNBR,BTLNBR_FLAG_W,DATE,TIME,BTL_TIME,LATITUDE,LONGITUDE,DEPTH,CTDPRS,CTDDEPTH,CTDTMP,CTDSAL,CTDSAL_FLAG_W,CTDOXY,CTDOXY_FLAG_W,SALNTY,SALNTY_FLAG_W,OXYGEN,OXYGEN_FLAG_W,SILCAT,SILCAT_FLAG_W,NO2+NO3,NO2+NO3_FLAG_W,NITRIT,NITRIT_FLAG_W,PHSPHT,PHSPHT_FLAG_W,CFC-11,CFC-11_FLAG_W,CFC-12,CFC-12_FLAG_W,DELC14,DELC14_FLAG_W,DELC13,DELC13_FLAG_W,TCARBN,TCARBN_FLAG_W,ALKALI,ALKALI_FLAG_W,PH_TOT,PH_TOT_FLAG_W,PH_TMP,CHLORA,CHLORA_FLAG_W,PPHYTN,PPHYTN_FLAG_W,REFTMP,REFTMP_FLAG_W
,,,,,,,,,,,,METERS,DBAR,METERS,ITS-90,PSS-78,,UMOL/KG,,PSS-78,,UMOL/KG,,UMOL/KG,,UMOL/KG,,UMOL/KG,,UMOL/KG,,PMOL/KG,,PMOL/KG,,/MILLE,,/MILLE,,UMOL/KG,,UMOL/KG,,,,DEG C,UG/KG,,UG/KG,,ITS-90,
  49UP20110515,   P13,   140,  1,      0,     BUC,2,20110812,0920,1032, -5.0050, 164.9753, 2310,      0.0,        0,  29.5023,  35.2245,2,    198.0,2,     -999,9,   197.77,2,     1.18,2,     0.36,2,     0.01,2,    0.240,2,     -999,9,     -999,9,-999,9,-999,9,     -999,9,     -999,9,     -999,9,     -999,     0.15,2,     0.05,2,     -999,9
  49UP20110515,   P13,   140,  1,     36,     109,2,20110812,0920,1053, -5.0050, 164.9753, 2310,     10.8,       11,  29.5249,  35.2251,2,    197.9,2,  35.2245,2,   198.00,2,     1.23,2,     0.32,2,     0.01,2,    0.230,2,    1.722,3,    1.015,2,-999,9,-999,9,   1974.3,2,   2316.8,2,   8.1058,2,    25.00,     0.14,2,     0.07,2,  29.5187,2
  49UP20110515,   P13,   140,  1,     35,     108,2,20110812,0920,1052, -5.0050, 164.9753, 2310,     26.1,       26,  29.3766,  35.2601,2,    199.1,2,  35.2702,4,   199.17,2,     1.23,2,     0.43,2,     0.02,2,    0.240,2,    1.730,3,    1.014,2,-999,9,-999,9,   1978.7,2,   2318.1,2,   8.1043,2,    25.00,     0.16,2,     0.09,2,  29.3772,2
  49UP20110515,   P13,   140,  1,     34,     107,2,20110812,0920,1048, -5.0050, 164.9753, 2310,     49.8,       50,  29.2060,  35.3595,2,    196.7,2,  35.3589,6,   196.57,2,     1.19,2,     0.63,2,     0.02,2,    0.260,2,    1.688,3,    1.015,2,-999,9,-999,9,   1985.2,2,   2323.7,2,   8.1005,2,    25.00,     0.22,2,     0.15,2,  29.2062,2
  49UP20110515,   P13,   140,  1,     33,     106,2,20110812,0920,1047, -5.0050, 164.9753, 2310,     74.8,       74,  29.0939,  35.4443,2,    193.3,2,  35.4413,2,   193.50,2,     1.26,2,     1.13,2,     0.03,2,    0.300,2,    1.789,3,    1.025,2,-999,9,-999,9,   1994.9,2,   2330.7,2,   8.0899,2,    25.00,     0.25,2,     0.17,2,  29.0917,2
  49UP20110515,   P13,   140,  1,     32,     105,2,20110812,0920,1046, -5.0050, 164.9753, 2310,    101.7,      101,  29.0256,  35.4859,2,    190.6,2,  35.4835,2,   190.75,2,     1.29,2,     1.23,2,     0.07,2,    0.320,2,    1.692,3,    1.020,2,-999,9,-999,9,   1998.7,2,   2332.9,2,   8.0889,6,    25.00,     0.20,2,     0.16,2,  29.0248,2
  49UP20110515,   P13,   140,  1,     31,     104,2,20110812,0920,1045, -5.0050, 164.9753, 2310,    126.2,      125,  28.0645,  35.6157,2,    171.0,2,  35.5940,4,   173.33,2,     1.44,2,     4.60,2,     1.63,2,    0.510,2,    1.751,3,    1.053,6,-999,9,-999,9,   2040.8,2,   2338.0,6,   8.0417,2,    25.00,     0.14,2,     0.20,2,  28.0799,2
  49UP20110515,   P13,   140,  1,     30,     103,2,20110812,0920,1043, -5.0050, 164.9753, 2310,    149.4,      149,  26.6403,  35.6827,2,    155.1,2,  35.6804,2,   155.64,2,     1.72,2,     7.51,2,     0.09,2,    0.680,2,    1.813,3,    1.112,2,-999,9,-999,9,   2081.5,2,   2342.4,2,   7.9934,2,    25.00,     0.06,2,     0.11,2,  26.6385,2
  49UP20110515,   P13,   140,  1,     29,     102,2,20110812,0920,1040, -5.0050, 164.9753, 2310,    202.5,      201,  20.7542,  35.7922,2,    130.5,2,  35.8536,4,   131.65,6,     2.49,2,     9.81,2,     0.01,2,    0.890,2,    2.159,3,    1.296,2,-999,9,-999,9,   2129.1,2,   2359.7,2,   7.8916,2,    25.00,     0.01,2,     0.02,2,  20.8144,2
  49UP20110515,   P13,   140,  1,     27,     100,2,20110812,0920,1038, -5.0050, 164.9753, 2310,    252.3,      251,  12.6315,  34.9579,2,     94.4,2,  34.9848,4,    92.63,2,    14.06,6,    23.05,6,     0.00,6,    1.740,6,    1.464,3,    0.813,6,-999,9,-999,9,   2184.8,2,   2308.9,2,   7.6606,2,    25.00,     -999,9,     -999,9,  12.6287,2
  49UP20110515,   P13,   140,  1,     28,     101,2,20110812,0920,1038, -5.0050, 164.9753, 2310,    253.5,      252,  12.4450,  34.9434,2,     96.6,2,  34.9748,4,    92.86,2,    14.26,2,    23.32,2,     0.00,2,    1.750,2,    1.417,3,    0.789,2,-999,9,-999,9,   2186.2,2,   2307.9,2,   7.6598,2,    25.00,     -999,9,     -999,9,  12.4477,2
  49UP20110515,   P13,   140,  1,     26,      99,2,20110812,0920,1036, -5.0050, 164.9753, 2310,    282.7,      281,  10.6303,  34.7972,2,    115.1,2,  34.7990,6,   114.60,2,    18.69,2,    25.48,2,     0.00,2,    1.810,2,    1.231,3,    0.643,2,-999,9,-999,9,   2184.8,2,   2303.0,2,   7.6528,2,    25.00,     -999,9,     -999,9,  10.6310,2
  49UP20110515,   P13,   140,  1,     25,      98,2,20110812,0920,1033, -5.0050, 164.9753, 2310,    332.8,      331,   9.2860,  34.6925,2,     83.4,2,  34.6928,2,    84.00,2,    27.08,2,    31.32,2,     0.00,2,    2.180,2,    0.702,3,    0.350,2,-999,9,-999,9,   2219.0,2,   2301.8,2,   7.5560,2,    25.00,     -999,9,     -999,9,   9.2867,2
  49UP20110515,   P13,   140,  1,     24,      97,2,20110812,0920,1030, -5.0050, 164.9753, 2310,    374.2,      372,   9.0263,  34.6756,2,     85.0,2,  34.6779,2,    82.63,2,    28.20,2,    31.98,2,     0.00,2,    2.210,2,    0.659,3,    0.310,2,-999,9,-999,9,   2219.3,2,   2303.0,2,   7.5546,2,    25.00,     -999,9,     -999,9,   9.0266,2
  49UP20110515,   P13,   140,  1,     23,      96,2,20110812,0920,1027, -5.0050, 164.9753, 2310,    474.6,      471,   8.2534,  34.6231,2,    103.5,2,  34.6252,2,   102.59,6,    29.80,2,    31.71,2,     0.00,2,    2.200,2,    0.649,3,    0.319,2,-999,9,-999,9,   2219.3,2,   2303.0,2,   7.5653,2,    25.00,     -999,9,     -999,9,   8.2542,2
  49UP20110515,   P13,   140,  1,     21,      94,2,20110812,0920,1022, -5.0050, 164.9753, 2310,    574.2,      570,   7.3990,  34.5787,2,     99.5,2,  34.5775,2,    99.47,2,    36.05,6,    33.91,6,     0.00,6,    2.340,6,    0.426,3,    0.191,2,-999,9,-999,9,   2234.5,2,   2306.2,2,   7.5395,2,    25.00,     -999,9,     -999,9,   7.3993,2
  49UP20110515,   P13,   140,  1,     22,      95,3,20110812,0920,1023, -5.0050, 164.9753, 2310,    576.6,      573,   7.3906,  34.5790,2,     98.1,2,  34.5794,2,    99.22,2,    36.03,2,    34.08,2,     0.00,2,    2.350,2,    0.448,3,    0.201,2,-999,9,-999,9,   2231.2,2,   2306.5,2,   7.5401,2,    25.00,     -999,9,     -999,9,   7.3893,2
  49UP20110515,   P13,   140,  1,     20,      93,2,20110812,0920,1019, -5.0050, 164.9753, 2310,    676.0,      671,   6.7287,  34.5559,2,     90.2,2,  34.5558,2,    91.01,2,    43.77,2,    36.16,2,     0.00,2,    2.510,2,    0.240,3,    0.108,2,-999,9,-999,9,   2247.1,2,   2316.0,2,   7.5161,2,    25.00,     -999,9,     -999,9,   6.7291,2
  49UP20110515,   P13,   140,  1,     19,      92,2,20110812,0920,1015, -5.0050, 164.9753, 2310,    775.7,      770,   5.9109,  34.5371,2,     93.8,2,  34.5369,6,    95.95,2,    53.23,2,    36.96,2,     0.00,2,    2.590,2,    0.141,3,    0.062,2,-999,9,-999,9,   2255.2,2,   2321.0,2,   7.5138,2,    25.00,     -999,9,     -999,9,   5.9108,2
  49UP20110515,   P13,   140,  1,     18,      91,3,20110812,0920,1010, -5.0050, 164.9753, 2310,    878.5,      872,   5.2444,  34.5307,2,    102.7,2,  34.5336,2,   100.66,2,    63.18,2,    37.39,2,     0.00,2,    2.630,2,    0.092,3,    0.030,2,-999,9,-999,9,   2265.6,2,   2331.8,2,   7.5138,6,    25.00,     -999,9,     -999,9,   5.2433,2
  49UP20110515,   P13,   140,  1,     17,      90,2,20110812,0920,1007, -5.0050, 164.9753, 2310,    979.6,      972,   4.7033,  34.5335,2,    110.9,2,  34.5348,2,   110.74,2,    71.36,2,    37.00,2,     0.00,2,    2.600,2,    0.073,3,    0.020,2,-999,9,-999,9,   2272.1,6,   2340.5,6,   7.5265,3,    25.00,     -999,9,     -999,9,   4.7036,2
  49UP20110515,   P13,   140,  1,     15,      88,2,20110812,0920,1002, -5.0050, 164.9753, 2310,   1138.8,     1129,   3.8110,  34.5584,2,    111.2,2,  34.5587,2,   111.00,2,    89.86,2,    37.85,2,     0.00,2,    2.670,2,    0.017,3,    0.000,2,-999,9,-999,9,   2295.5,3,   2361.6,2,   7.5145,2,    25.00,     -999,9,     -999,9,   3.8116,2
  49UP20110515,   P13,   140,  1,     16,      89,2,20110812,0920,1002, -5.0050, 164.9753, 2310,   1139.8,     1130,   3.8043,  34.5586,2,    111.3,2,  34.5590,2,   111.34,2,    89.93,2,    37.78,2,     0.00,2,    2.670,2,    0.026,3,    0.000,2,-999,9,-999,9,   2291.1,2,   2361.0,2,   7.5199,3,    25.00,     -999,9,     -999,9,   3.8043,2
  49UP20110515,   P13,   140,  1,     14,      87,2,20110812,0920,0949, -5.0050, 164.9753, 2310,   1343.4,     1332,   3.1810,  34.5854,2,    114.8,2,  34.5849,2,   115.30,2,   105.01,2,    37.68,2,     0.00,2,    2.670,2,    0.021,3,    0.000,2,-999,9,-999,9,   2305.9,2,   2376.6,2,   7.5234,2,    25.00,     -999,9,     -999,9,   3.1807,2
  49UP20110515,   P13,   140,  1,     13,      86,2,20110812,0920,0944, -5.0050, 164.9753, 2310,   1545.6,     1531,   2.7926,  34.6036,2,    118.9,2,  34.6043,2,   118.81,6,   113.97,2,    37.76,2,     0.00,2,    2.660,2,     -999,5,     -999,5,-999,9,-999,9,   2314.7,2,   2388.4,2,   7.5263,2,    25.00,     -999,9,     -999,9,   2.7925,2
  49UP20110515,   P13,   140,  1,     12,      74,2,20110812,0920,0940, -5.0050, 164.9753, 2310,   1744.6,     1728,   2.4555,  34.6228,2,    122.4,2,  34.6238,6,   122.18,2,   122.96,6,    37.79,6,     0.00,6,    2.650,6,     -999,9,     -999,9,-999,9,-999,9,   2323.9,2,   2397.9,2,   7.5349,2,    25.00,     -999,9,     -999,9,   2.4556,2
  49UP20110515,   P13,   140,  1,     10,      83,2,20110812,0920,0931, -5.0050, 164.9753, 2310,   1950.1,     1930,   2.2836,  34.6333,2,    122.8,2,  34.6341,2,   122.66,2,   129.21,2,    37.88,2,     0.00,2,    2.650,2,     -999,9,     -999,9,-999,9,-999,9,   2325.3,2,   2404.3,2,   7.5392,2,    25.00,     -999,9,     -999,9,   2.2836,2
  49UP20110515,   P13,   140,  1,     11,     110,2,20110812,0920,0931, -5.0050, 164.9753, 2310,   1950.7,     1931,   2.2830,  34.6334,2,    122.8,2,  34.6333,2,   122.69,2,   129.17,2,    37.85,2,     0.00,2,    2.640,2,     -999,9,     -999,9,-999,9,-999,9,   2327.4,2,   2404.7,2,   7.5365,2,    25.00,     -999,9,     -999,9,   2.2830,2
  49UP20110515,   P13,   140,  1,      9,      82,2,20110812,0920,0926, -5.0050, 164.9753, 2310,   2152.9,     2130,   2.1380,  34.6417,2,    127.1,2,  34.6424,2,   126.92,6,   131.91,6,    37.64,6,     0.00,6,    2.620,6,    0.019,3,    0.000,2,-999,9,-999,9,   2329.5,2,   2406.1,2,   7.5394,2,    25.00,     -999,9,     -999,9,   2.1374,2
  49UP20110515,   P13,   140,  1,      1,     112,2,20110812,0920,0920, -5.0050, 164.9753, 2310,   2323.2,     2298,   2.0470,  34.6473,2,    128.9,2,  34.6501,4,   128.48,2,   134.23,2,    37.51,2,     0.00,2,    2.610,2,     -999,9,     -999,9,-999,9,-999,9,   2327.6,2,   2408.6,6,   7.5423,2,    25.00,     -999,9,     -999,9,   2.0470,2
  49UP20110515,   P13,   140,  1,      6,      79,2,20110812,0920,0921, -5.0050, 164.9753, 2310,   2323.7,     2298,   2.0450,  34.6476,2,    128.8,2,  34.6474,2,   128.54,2,   134.53,2,    37.52,2,     0.00,2,    2.620,2,     -999,9,     -999,9,-999,9,-999,9,   2323.3,3,   2409.9,2,   7.5468,3,    25.00,     -999,9,     -999,9,   2.0452,2
  49UP20110515,   P13,   140,  1,      4,      77,2,20110812,0920,0921, -5.0050, 164.9753, 2310,   2324.0,     2298,   2.0467,  34.6474,2,    128.8,2,  34.6482,2,   128.47,2,   134.44,2,    37.53,2,     0.00,2,    2.620,2,     -999,9,     -999,9,-999,9,-999,9,   2330.2,2,   2408.3,2,   7.5446,2,    25.00,     -999,9,     -999,9,   2.0466,2