BOTTLE,20240116CCHSIOVAJ
EXPOCODE,SECT_ID,STNNBR,CASTNO,SAMPNO,BTLNBR,BTLNBR_FLAG_W,DATE,TIME,BTL_TIME,LATITUDE,LONGITUDE,DEPTH,CTDPRS,CTDDEPTH,CTDTMP,CTDSAL,CTDSAL_FLAG_W,CTDOXY,CTDOXY_FLAG_W,SALNTY,SALNTY_FLAG_W,OXYGEN,OXYGEN_FLAG_W,SILCAT,SILCAT_FLAG_W,NO2+NO3,NO2+NO3_FLAG_W,NITRIT,NITRIT_FLAG_W,PHSPHT,PHSPHT_FLAG_W,CFC-11,CFC-11_FLAG_W,CFC-12,CFC-12_FLAG_W,DELC14,DELC14_FLAG_W,DELC13,DELC13_FLAG_W,TCARBN,TCARBN_FLAG_W,ALKALI,ALKALI_FLAG_W,PH_TOT,PH_TOT_FLAG_W,PH_TMP,CHLORA,CHLORA_FLAG_W,PPHYTN,PPHYTN_FLAG_W,REFTMP,REFTMP_FLAG_W
,,,,,,,,,,,,METERS,DBAR,METERS,ITS-90,PSS-78,,UMOL/KG,,PSS-78,,UMOL/KG,,UMOL/KG,,UMOL/KG,,UMOL/KG,,UMOL/KG,,PMOL/KG,,PMOL/KG,,/MILLE,,/MILLE,,UMOL/KG,,UMOL/KG,,,,DEG C,UG/KG,,UG/KG,,ITS-90,
  49UP20110515,   P13,    76,  1,      0,     BUC,2,20110716,1424,1622, 24.9962, 164.9960, 5954,      0.0,        0,  29.0416,  35.3647,2,    198.0,2,     -999,9,   197.49,2,     1.07,2,     0.02,2,     0.00,2,    0.050,2,     -999,9,     -999,9,-999,9,-999,9,     -999,9,     -999,9,     -999,9,     -999,     0.14,2,     0.01,2,     -999,9
  49UP20110515,   P13,    76,  1,     36,     109,2,20110716,1424,1638, 24.9962, 164.9960, 5954,     10.7,       11,  29.0023,  35.3615,2,    197.8,2,  35.3588,2,   197.64,2,     0.98,2,     0.00,2,     0.00,2,    0.020,2,    1.721,3,    1.039,2,-999,9,-999,9,   1984.4,2,   2321.4,2,   8.0941,2,    25.00,     0.04,2,     0.01,2,  29.0150,2
  49UP20110515,   P13,    76,  1,     35,     108,2,20110716,1424,1634, 24.9962, 164.9960, 5954,     50.8,       50,  23.8869,  35.2763,2,    227.3,2,  35.2772,6,   226.49,2,     1.31,2,     0.00,2,     0.00,2,    0.020,2,    2.392,3,    1.312,2,-999,9,-999,9,   1994.8,2,   2313.1,2,   8.0837,2,    25.00,     0.06,2,     0.01,2,  23.8907,2
  49UP20110515,   P13,    76,  1,     34,     107,2,20110716,1424,1632, 24.9962, 164.9960, 5954,    100.7,      100,  20.7551,  35.1222,2,    223.7,2,  35.1243,2,   223.00,2,     1.75,6,     0.00,6,     0.00,6,    0.040,6,    2.425,3,    1.412,2,-999,9,-999,9,   2011.4,2,   2304.4,2,   8.0345,2,    25.00,     0.15,2,     0.07,2,  20.7388,2
  49UP20110515,   P13,    76,  1,     33,     106,2,20110716,1424,1630, 24.9962, 164.9960, 5954,    151.6,      151,  18.7651,  34.8802,2,    211.7,2,  34.8686,4,   211.74,6,     2.54,2,     1.63,2,     0.07,2,    0.150,2,    2.431,3,    1.472,2,-999,9,-999,9,   2022.8,2,   2285.3,2,   7.9804,2,    25.00,     0.15,2,     0.24,2,  18.7656,2
  49UP20110515,   P13,    76,  1,     32,     105,2,20110716,1424,1628, 24.9962, 164.9960, 5954,    201.6,      200,  17.3249,  34.7097,2,    206.0,2,  34.7097,2,   205.38,2,     3.90,2,     4.35,2,     0.01,2,    0.310,2,    2.565,3,    1.581,2,-999,9,-999,9,   2033.7,2,   2279.1,2,   7.9495,2,    25.00,     0.03,2,     0.05,2,  17.3251,2
  49UP20110515,   P13,    76,  1,     31,     104,2,20110716,1424,1627, 24.9962, 164.9960, 5954,    253.2,      251,  16.0974,  34.6106,2,    202.9,2,  34.6109,2,   202.71,2,     5.86,2,     6.44,2,     0.00,2,    0.450,2,    2.659,3,    1.618,6,-999,9,-999,9,   2045.8,2,   2275.8,2,   7.9090,2,    25.00,     -999,9,     -999,9,  16.0986,2
  49UP20110515,   P13,    76,  1,     30,     103,2,20110716,1424,1625, 24.9962, 164.9960, 5954,    282.0,      280,  15.2217,  34.5464,2,    204.5,2,  34.5464,2,   204.50,2,     7.35,6,     7.59,6,     0.00,6,    0.530,6,    2.758,3,    1.659,2,-999,9,-999,9,   2054.9,2,   2270.7,2,   7.8981,2,    25.00,     -999,9,     -999,9,  15.2224,2
  49UP20110515,   P13,    76,  1,     29,     102,2,20110716,1424,1623, 24.9962, 164.9960, 5954,    373.0,      370,  12.9592,  34.3920,2,    200.3,2,  34.3890,2,   200.11,2,    12.54,2,    11.75,2,     0.00,2,    0.820,2,    3.028,3,    1.775,2,-999,9,-999,9,   2084.1,6,   2265.6,6,   7.8239,2,    25.00,     -999,9,     -999,9,  12.9596,2
  49UP20110515,   P13,    76,  1,     28,     101,2,20110716,1424,1620, 24.9962, 164.9960, 5954,    473.8,      470,  10.0228,  34.1914,2,    184.3,2,  34.1927,2,   184.47,2,    24.47,2,    18.44,2,     0.00,2,    1.300,2,    3.093,3,    1.738,2,-999,9,-999,9,   2127.8,2,   2269.6,2,   7.7216,6,    25.00,     -999,9,     -999,9,  10.0177,2
  49UP20110515,   P13,    76,  1,     27,     100,2,20110716,1424,1618, 24.9962, 164.9960, 5954,    574.0,      570,   7.6071,  34.0807,2,    138.0,2,  34.0835,2,   141.48,2,    44.64,2,    26.91,2,     0.00,2,    1.910,2,    2.465,3,    1.321,6,-999,9,-999,9,   2191.9,2,   2281.6,2,   7.5804,2,    25.00,     -999,9,     -999,9,   7.6024,2
  49UP20110515,   P13,    76,  1,     26,      99,2,20110716,1424,1615, 24.9962, 164.9960, 5954,    675.4,      670,   5.7491,  34.0797,2,     93.8,2,  34.0798,2,    93.43,2,    70.50,2,    34.56,2,     0.00,2,    2.480,2,    1.581,3,    0.802,2,-999,9,-999,9,   2254.1,2,   2302.3,2,   7.4532,2,    25.00,     -999,9,     -999,9,   5.7499,2
  49UP20110515,   P13,    76,  1,     25,      98,2,20110716,1424,1612, 24.9962, 164.9960, 5954,    776.9,      770,   4.7192,  34.1706,2,     55.7,2,  34.1701,2,    55.76,2,    93.01,2,    39.53,2,     0.00,2,    2.830,2,    0.724,3,    0.360,2,-999,9,-999,9,   2305.8,2,   2324.5,6,   7.3794,2,    25.00,     -999,9,     -999,9,   4.7189,2
  49UP20110515,   P13,    76,  1,     24,      97,2,20110716,1424,1610, 24.9962, 164.9960, 5954,    878.1,      871,   4.1861,  34.2610,2,     38.9,2,  34.2604,6,    39.33,2,   107.44,6,    41.68,6,     0.00,6,    2.990,6,    0.299,3,    0.151,2,-999,9,-999,9,   2331.4,2,   2344.2,2,   7.3640,2,    25.00,     -999,9,     -999,9,   4.1852,2
  49UP20110515,   P13,    76,  1,     23,      96,2,20110716,1424,1607, 24.9962, 164.9960, 5954,    979.2,      971,   3.7788,  34.3464,2,     35.6,2,  34.3455,2,    36.41,2,   118.02,2,    42.41,2,     0.00,2,    3.030,2,    0.124,3,    0.071,2,-999,9,-999,9,   2344.2,2,   2358.0,2,   7.3528,2,    25.00,     -999,9,     -999,9,   3.7784,2
  49UP20110515,   P13,    76,  1,     22,      95,2,20110716,1424,1604, 24.9962, 164.9960, 5954,   1141.5,     1131,   3.3647,  34.4523,2,     47.4,2,  34.4516,2,    47.46,6,   127.91,2,    42.15,2,     0.00,2,    3.000,2,    0.003,3,    0.017,2,-999,9,-999,9,   2350.5,2,   2374.3,2,   7.3881,2,    25.00,     -999,9,     -999,9,   3.3648,2
  49UP20110515,   P13,    76,  1,     21,      94,2,20110716,1424,1600, 24.9962, 164.9960, 5954,   1344.2,     1331,   2.8722,  34.5182,2,     61.0,2,  34.5176,2,    60.76,2,   137.92,2,    41.66,2,     0.00,2,    2.950,2,    0.000,3,    0.003,2,-999,9,-999,9,   2353.1,2,   2389.8,2,   7.4172,2,    25.00,     -999,9,     -999,9,   2.8722,2
  49UP20110515,   P13,    76,  1,     20,      93,4,20110716,1424,1556, 24.9962, 164.9960, 5954,   1546.3,     1531,   2.4859,  34.5599,2,     73.6,2,  34.6979,4,   177.00,4,   133.36,4,    34.43,4,     0.00,4,    2.360,4,    0.000,4,    0.002,4,-999,9,-999,9,   2293.8,4,   2398.3,4,   7.5970,4,    25.00,     -999,9,     -999,9,   2.4862,2
  49UP20110515,   P13,    76,  1,     19,      92,3,20110716,1424,1552, 24.9962, 164.9960, 5954,   1748.9,     1730,   2.2009,  34.5902,2,     85.4,2,  34.5848,4,    85.83,2,   148.41,2,    40.29,2,     0.00,2,    2.830,2,    0.000,3,    0.013,2,-999,9,-999,9,   2348.6,2,   2403.0,2,   7.4625,2,    25.00,     -999,9,     -999,9,   2.2008,2
  49UP20110515,   P13,    76,  1,     18,      91,2,20110716,1424,1547, 24.9962, 164.9960, 5954,   1952.5,     1931,   1.9861,  34.6128,2,     96.7,2,  34.6128,2,    96.45,2,   152.58,2,    39.78,2,     0.00,2,    2.790,2,    0.000,3,    0.000,2,-999,9,-999,9,   2357.4,3,   2409.8,2,   7.4812,2,    25.00,     -999,9,     -999,9,   1.9861,2
  49UP20110515,   P13,    76,  1,     17,      90,2,20110716,1424,1543, 24.9962, 164.9960, 5954,   2156.1,     2131,   1.8521,  34.6305,2,    106.6,2,  34.6299,2,   106.67,2,   152.94,2,    39.22,2,     0.00,2,    2.740,2,    0.000,3,    0.005,2,-999,9,-999,9,   2344.3,2,   2412.7,2,   7.4979,2,    25.00,     -999,9,     -999,9,   1.8519,2
  49UP20110515,   P13,    76,  1,     16,      89,2,20110716,1424,1539, 24.9962, 164.9960, 5954,   2359.1,     2331,   1.7548,  34.6437,2,    115.4,2,  34.6440,6,   115.45,2,   152.57,2,    38.62,2,     0.00,2,    2.690,2,    0.000,3,    0.003,2,-999,9,-999,9,   2342.2,2,   2413.5,2,   7.5130,2,    25.00,     -999,9,     -999,9,   1.7549,2
  49UP20110515,   P13,    76,  1,     15,      88,2,20110716,1424,1535, 24.9962, 164.9960, 5954,   2562.9,     2531,   1.6878,  34.6525,2,    121.6,2,  34.6525,2,   121.44,2,   152.82,2,    38.28,2,     0.00,2,    2.660,2,     -999,9,     -999,9,-999,9,-999,9,   2343.5,2,   2415.6,2,   7.5451,3,    25.00,     -999,9,     -999,9,   1.6872,2
  49UP20110515,   P13,    76,  1,     14,      87,2,20110716,1424,1531, 24.9962, 164.9960, 5954,   2766.6,     2731,   1.6470,  34.6590,2,    126.3,2,  34.6593,2,   126.43,6,   152.56,2,    37.88,2,     0.00,2,    2.640,2,     -999,9,     -999,9,-999,9,-999,9,   2341.2,2,   2416.7,2,   7.5277,2,    25.00,     -999,9,     -999,9,   1.6471,2
  49UP20110515,   P13,    76,  1,     13,      86,2,20110716,1424,1527, 24.9962, 164.9960, 5954,   2971.0,     2931,   1.6022,  34.6640,2,    130.6,2,  34.6636,2,   130.70,2,   152.31,2,    37.64,2,     0.00,2,    2.620,2,     -999,9,     -999,9,-999,9,-999,9,   2338.3,2,   2415.4,2,   7.5413,2,    25.00,     -999,9,     -999,9,   1.6023,2
  49UP20110515,   P13,    76,  1,     12,      85,2,20110716,1424,1522, 24.9962, 164.9960, 5954,   3215.7,     3171,   1.5629,  34.6697,2,    136.0,2,  34.6700,2,   136.02,2,   151.47,2,    37.29,2,     0.00,2,    2.590,2,     -999,9,     -999,9,-999,9,-999,9,   2333.9,2,   2419.8,2,   7.5515,2,    25.00,     -999,9,     -999,9,   1.5629,2
  49UP20110515,   P13,    76,  1,     11,     110,3,20110716,1424,1517, 24.9962, 164.9960, 5954,   3471.8,     3421,   1.5348,  34.6741,2,    140.7,2,  34.6741,2,   140.49,2,   150.59,6,    36.98,6,     0.00,6,    2.570,6,    0.000,3,    0.001,2,-999,9,-999,9,   2329.6,2,   2417.9,2,   7.5560,2,    25.00,     -999,9,     -999,9,   1.5347,2
  49UP20110515,   P13,    76,  1,     10,      83,3,20110716,1424,1512, 24.9962, 164.9960, 5954,   3726.9,     3671,   1.5089,  34.6783,2,    145.8,2,  34.6788,2,   145.74,2,   149.07,2,    36.59,2,     0.00,2,    2.530,2,     -999,9,     -999,9,-999,9,-999,9,   2327.1,6,   2415.1,6,   7.5654,2,    25.00,     -999,9,     -999,9,   1.5089,2
  49UP20110515,   P13,    76,  1,      9,      82,2,20110716,1424,1506, 24.9962, 164.9960, 5954,   3984.5,     3922,   1.4911,  34.6820,2,    150.7,2,  34.6815,6,   150.71,2,   147.89,2,    36.38,2,     0.00,2,    2.520,2,     -999,9,     -999,9,-999,9,-999,9,   2323.0,2,   2412.8,2,   7.5740,2,    25.00,     -999,9,     -999,9,   1.4912,2
  49UP20110515,   P13,    76,  1,      8,      81,2,20110716,1424,1501, 24.9962, 164.9960, 5954,   4239.8,     4171,   1.4755,  34.6857,2,    155.7,2,  34.6854,2,   155.44,2,   145.77,2,    35.97,2,     0.00,2,    2.500,2,     -999,9,     -999,9,-999,9,-999,9,   2316.9,2,   2413.8,2,   7.5800,2,    25.00,     -999,9,     -999,9,   1.4755,2
  49UP20110515,   P13,    76,  1,      7,      80,2,20110716,1424,1456, 24.9962, 164.9960, 5954,   4496.4,     4421,   1.4637,  34.6890,2,    160.9,2,  34.6879,2,   160.85,2,   143.04,2,    35.65,2,     0.00,2,    2.460,2,    0.000,3,    0.001,2,-999,9,-999,9,   2314.1,2,   2409.4,2,   7.5830,2,    25.00,     -999,9,     -999,9,   1.4639,2
  49UP20110515,   P13,    76,  1,      6,      79,2,20110716,1424,1451, 24.9962, 164.9960, 5954,   4752.3,     4670,   1.4610,  34.6917,2,    165.6,2,  34.6910,2,   165.67,2,   140.12,2,    35.29,2,     0.00,2,    2.430,2,     -999,9,     -999,9,-999,9,-999,9,   2309.2,2,   2406.3,2,   7.5882,2,    25.00,     -999,9,     -999,9,   1.4609,2
  49UP20110515,   P13,    76,  1,      5,      78,2,20110716,1424,1446, 24.9962, 164.9960, 5954,   5010.6,     4921,   1.4579,  34.6945,2,    170.4,2,  34.6941,2,   170.29,2,   137.35,2,    34.95,2,     0.00,2,    2.410,2,     -999,9,     -999,9,-999,9,-999,9,   2316.8,3,   2402.2,2,   7.5978,2,    25.00,     -999,9,     -999,9,   1.4580,2
  49UP20110515,   P13,    76,  1,      4,      77,2,20110716,1424,1436, 24.9962, 164.9960, 5954,   5526.2,     5421,   1.4754,  34.6980,2,    176.7,2,  34.6971,2,   177.01,2,   133.53,2,    34.50,2,     0.00,2,    2.370,2,     -999,9,     -999,9,-999,9,-999,9,   2299.8,2,   2397.1,2,   7.6025,2,    25.00,     -999,9,     -999,9,   1.4755,2
  49UP20110515,   P13,    76,  1,      3,      76,2,20110716,1424,1430, 24.9962, 164.9960, 5954,   5783.6,     5670,   1.5026,  34.6986,2,    177.7,2,  34.6977,2,   177.99,2,   132.62,2,    34.36,2,     0.00,2,    2.380,2,    0.000,3,    0.007,2,-999,9,-999,9,   2298.1,2,   2396.5,2,   7.6046,2,    25.00,     -999,9,     -999,9,   1.5027,2
  49UP20110515,   P13,    76,  1,      1,     112,2,20110716,1424,1424, 24.9962, 164.9960, 5954,   6062.8,     5940,   1.5386,  34.6986,2,    178.0,2,  34.6978,2,   177.90,2,   132.58,2,    34.40,2,     0.00,2,    2.380,2,     -999,9,     -999,9,-999,9,-999,9,   2297.5,2,   2397.1,2,   7.6013,2,    25.00,     -999,9,     -999,9,   1.5386,2
  49UP20110515,   P13,    76,  1,      2,      75,2,20110716,1424,1425, 24.9962, 164.9960, 5954,   6063.6,     5941,   1.5385,  34.6988,2,    178.0,2,  34.6977,2,   178.05,6,   132.51,2,    34.29,2,     0.00,2,    2.370,2,     -999,9,     -999,9,-999,9,-999,9,   2298.0,2,   2393.8,3,   7.6002,2,    25.00,     -999,9,     -999,9,   1.5386,2