BOTTLE,20240116CCHSIOVAJ
EXPOCODE,SECT_ID,STNNBR,CASTNO,SAMPNO,BTLNBR,BTLNBR_FLAG_W,DATE,TIME,BTL_TIME,LATITUDE,LONGITUDE,DEPTH,CTDPRS,CTDDEPTH,CTDTMP,CTDSAL,CTDSAL_FLAG_W,CTDOXY,CTDOXY_FLAG_W,SALNTY,SALNTY_FLAG_W,OXYGEN,OXYGEN_FLAG_W,SILCAT,SILCAT_FLAG_W,NO2+NO3,NO2+NO3_FLAG_W,NITRIT,NITRIT_FLAG_W,PHSPHT,PHSPHT_FLAG_W,CFC-11,CFC-11_FLAG_W,CFC-12,CFC-12_FLAG_W,DELC14,DELC14_FLAG_W,DELC13,DELC13_FLAG_W,TCARBN,TCARBN_FLAG_W,ALKALI,ALKALI_FLAG_W,PH_TOT,PH_TOT_FLAG_W,PH_TMP,CHLORA,CHLORA_FLAG_W,PPHYTN,PPHYTN_FLAG_W,REFTMP,REFTMP_FLAG_W
,,,,,,,,,,,,METERS,DBAR,METERS,ITS-90,PSS-78,,UMOL/KG,,PSS-78,,UMOL/KG,,UMOL/KG,,UMOL/KG,,UMOL/KG,,UMOL/KG,,PMOL/KG,,PMOL/KG,,/MILLE,,/MILLE,,UMOL/KG,,UMOL/KG,,,,DEG C,UG/KG,,UG/KG,,ITS-90,
  49UP20110515,   P13,   110,  1,      0,     BUC,2,20110804,2143,2332,  7.0118, 164.5002, 5113,      0.0,        0,  29.1404,  34.0998,2,    196.4,2,     -999,9,   195.32,2,     1.22,2,     0.00,2,     0.00,2,    0.120,2,     -999,9,     -999,9,-999,9,-999,9,     -999,9,     -999,9,     -999,9,     -999,     0.07,2,     0.03,2,     -999,9
  49UP20110515,   P13,   110,  1,     36,     109,2,20110804,2143,2355,  7.0118, 164.5002, 5113,     11.0,       11,  28.9738,  34.0930,2,    196.9,2,  34.0933,2,   196.40,2,     1.08,2,     0.00,2,     0.00,2,    0.110,2,    1.559,3,    1.038,2,-999,9,-999,9,   1910.4,2,   2235.5,2,   8.1206,2,    25.00,     0.08,2,     0.03,2,  28.9751,2
  49UP20110515,   P13,   110,  1,     35,     108,2,20110804,2143,2354,  7.0118, 164.5002, 5113,     26.1,       26,  28.9748,  34.1089,2,    196.8,2,  34.1111,2,   196.46,2,     1.11,2,     0.00,2,     0.00,2,    0.110,2,    1.531,3,    1.030,2,-999,9,-999,9,   1910.3,6,   2238.2,6,   8.1194,2,    25.00,     0.08,2,     0.03,2,  28.9759,2
  49UP20110515,   P13,   110,  1,     34,     107,2,20110804,2143,2350,  7.0118, 164.5002, 5113,     50.7,       50,  29.0332,  34.2195,2,    196.4,2,  34.2303,4,   196.57,2,     1.16,2,     0.00,2,     0.00,2,    0.110,2,    1.540,3,    1.042,2,-999,9,-999,9,   1917.7,2,   2244.0,2,   8.1199,6,    25.00,     0.11,2,     0.05,2,  29.0239,2
  49UP20110515,   P13,   110,  1,     33,     106,2,20110804,2143,2349,  7.0118, 164.5002, 5113,     76.2,       76,  28.7149,  34.5297,2,    193.0,2,  34.6102,4,   192.02,2,     1.38,2,     0.03,2,     0.00,2,    0.130,2,    1.615,3,    1.059,2,-999,9,-999,9,   1948.3,2,   2272.0,2,   8.0936,2,    25.00,     0.20,2,     0.12,2,  28.7236,2
  49UP20110515,   P13,   110,  1,     32,     105,2,20110804,2143,2347,  7.0118, 164.5002, 5113,    101.1,      101,  25.8097,  35.0187,2,    194.3,2,  35.0191,2,   195.40,6,     1.44,2,     0.31,2,     0.05,2,    0.160,2,    1.742,3,    1.188,2,-999,9,-999,9,   1995.8,2,   2299.4,2,   8.0501,2,    25.00,     0.22,2,     0.25,2,  25.7877,2
  49UP20110515,   P13,   110,  1,     31,     104,2,20110804,2143,2346,  7.0118, 164.5002, 5113,    126.9,      126,  23.1349,  35.0541,2,    181.8,2,  35.0485,2,   180.89,2,     2.28,2,     2.02,2,     0.45,2,    0.300,2,    1.807,3,    1.311,6,-999,9,-999,9,   2034.7,2,   2306.6,2,   7.9883,2,    25.00,     0.12,2,     0.22,2,  23.1456,2
  49UP20110515,   P13,   110,  1,     30,     103,2,20110804,2143,2345,  7.0118, 164.5002, 5113,    151.0,      150,  17.8952,  34.7239,2,    140.2,2,  34.7316,2,   138.23,2,     8.82,6,    11.04,6,     0.01,6,    0.870,6,    1.923,3,    1.367,2,-999,9,-999,9,   2097.4,2,   2281.8,2,   7.8380,2,    25.00,     0.05,2,     0.12,2,  17.8744,2
  49UP20110515,   P13,   110,  1,     29,     102,2,20110804,2143,2343,  7.0118, 164.5002, 5113,    201.5,      200,  12.1150,  34.5056,2,     73.9,2,  34.5096,2,    73.24,2,    24.07,2,    25.68,2,     0.00,2,    1.910,2,    1.421,3,    0.930,2,-999,9,-999,9,   2190.8,2,   2283.6,2,   7.5841,2,    25.00,     0.01,2,     0.03,2,  12.1184,2
  49UP20110515,   P13,   110,  1,     28,     101,2,20110804,2143,2341,  7.0118, 164.5002, 5113,    251.2,      250,  10.3122,  34.6207,2,     36.1,2,  34.6209,2,    36.41,2,    32.41,2,    32.96,2,     0.00,2,    2.360,2,    0.616,3,    0.376,2,-999,9,-999,9,   2241.8,2,   2297.1,2,   7.4818,2,    25.00,     -999,9,     -999,9,  10.3171,2
  49UP20110515,   P13,   110,  1,     27,     100,2,20110804,2143,2339,  7.0118, 164.5002, 5113,    283.1,      281,   9.8962,  34.6325,2,     36.3,2,  34.6317,2,    36.83,2,    33.90,2,    33.79,2,     0.00,2,    2.400,2,    0.479,3,    0.290,6,-999,9,-999,9,   2248.0,2,   2298.7,2,   7.4765,2,    25.00,     -999,9,     -999,9,   9.8934,2
  49UP20110515,   P13,   110,  1,     26,      99,2,20110804,2143,2336,  7.0118, 164.5002, 5113,    372.9,      370,   9.0115,  34.6197,2,     50.4,2,  34.6183,6,    50.35,2,    37.10,2,    34.33,2,     0.00,2,    2.420,2,    0.355,3,    0.216,2,-999,9,-999,9,   2248.7,2,   2304.3,2,   7.4878,2,    25.00,     -999,9,     -999,9,   9.0122,2
  49UP20110515,   P13,   110,  1,     25,      98,2,20110804,2143,2331,  7.0118, 164.5002, 5113,    473.9,      471,   8.1375,  34.5869,2,     56.5,2,  34.5868,2,    56.68,6,    42.38,6,    35.46,6,     0.00,6,    2.520,6,    0.283,3,    0.137,2,-999,9,-999,9,   2254.1,2,   2308.6,2,   7.4778,2,    25.00,     -999,9,     -999,9,   8.1433,2
  49UP20110515,   P13,   110,  1,     24,      97,2,20110804,2143,2328,  7.0118, 164.5002, 5113,    575.4,      571,   6.9672,  34.5485,2,     52.6,2,  34.5504,2,    52.51,2,    54.17,2,    38.01,2,     0.00,2,    2.730,2,    0.104,3,    0.048,2,-999,9,-999,9,   2276.5,6,   2319.0,2,   7.4551,2,    25.00,     -999,9,     -999,9,   6.9691,2
  49UP20110515,   P13,   110,  1,     23,      96,2,20110804,2143,2326,  7.0118, 164.5002, 5113,    675.1,      670,   6.3186,  34.5422,2,     52.9,2,  34.5410,2,    53.18,2,    62.42,2,    39.29,2,     0.00,2,    2.820,2,    0.062,3,    0.023,2,-999,9,-999,9,   2288.5,2,   2326.3,2,   7.4461,6,    25.00,     -999,9,     -999,9,   6.3194,2
  49UP20110515,   P13,   110,  1,     22,      95,2,20110804,2143,2323,  7.0118, 164.5002, 5113,    780.3,      774,   5.7495,  34.5399,2,     55.9,2,  34.5401,2,    55.53,2,    69.93,2,    40.13,2,     0.00,2,    2.870,2,    0.084,3,    0.016,2,-999,9,-999,9,   2297.3,2,   2333.1,2,   7.4494,2,    25.00,     -999,9,     -999,9,   5.7500,2
  49UP20110515,   P13,   110,  1,     21,      94,2,20110804,2143,2320,  7.0118, 164.5002, 5113,    879.6,      873,   5.3615,  34.5438,2,     56.7,2,  34.5421,2,    57.01,2,    76.56,2,    40.57,2,     0.00,2,    2.900,2,    0.040,3,    0.000,2,-999,9,-999,9,     -999,5,     -999,5,   7.4407,2,    25.00,     -999,9,     -999,9,   5.3616,2
  49UP20110515,   P13,   110,  1,     20,      93,2,20110804,2143,2317,  7.0118, 164.5002, 5113,    980.2,      972,   4.7882,  34.5500,2,     63.8,2,  34.5489,2,    63.71,2,    87.10,2,    40.66,2,     0.00,2,    2.910,2,    0.026,3,    0.000,2,-999,9,-999,9,   2314.2,2,   2353.0,2,   7.4480,2,    25.00,     -999,9,     -999,9,   4.7890,2
  49UP20110515,   P13,   110,  1,     19,      92,2,20110804,2143,2312,  7.0118, 164.5002, 5113,   1140.3,     1131,   4.1381,  34.5651,2,     71.1,2,  34.5646,2,    71.06,2,    99.64,6,    40.56,6,     0.00,6,    2.900,6,     -999,9,     -999,9,-999,9,-999,9,   2322.5,2,   2362.8,2,   7.4635,2,    25.00,     -999,9,     -999,9,   4.1379,2
  49UP20110515,   P13,   110,  1,     18,      91,2,20110804,2143,2308,  7.0118, 164.5002, 5113,   1342.3,     1331,   3.4770,  34.5840,2,     80.3,2,  34.5840,2,    80.12,6,   113.94,2,    40.24,2,     0.00,2,    2.860,2,     -999,9,     -999,9,-999,9,-999,9,   2334.9,2,   2381.2,2,   7.4698,2,    25.00,     -999,9,     -999,9,   3.4770,2
  49UP20110515,   P13,   110,  1,     17,      90,2,20110804,2143,2303,  7.0118, 164.5002, 5113,   1545.4,     1531,   2.9377,  34.6028,2,     87.6,2,  34.6024,2,    87.64,2,   126.29,2,    40.09,2,     0.00,2,    2.840,2,    0.000,3,    0.000,2,-999,9,-999,9,   2342.3,2,   2392.2,2,   7.4821,2,    25.00,     -999,9,     -999,9,   2.9380,2
  49UP20110515,   P13,   110,  1,     16,      89,2,20110804,2143,2259,  7.0118, 164.5002, 5113,   1749.5,     1732,   2.5399,  34.6202,2,     96.6,2,  34.6198,6,    96.51,2,   134.60,2,    39.63,2,     0.00,2,    2.790,2,     -999,9,     -999,9,-999,9,-999,9,   2348.0,2,   2404.0,2,   7.4937,2,    25.00,     -999,9,     -999,9,   2.5401,2
  49UP20110515,   P13,   110,  1,     15,      88,2,20110804,2143,2254,  7.0118, 164.5002, 5113,   1950.6,     1931,   2.2649,  34.6341,2,    103.7,2,  34.6335,2,   103.47,2,   140.47,2,    39.21,2,     0.00,2,    2.760,2,    0.055,3,    0.000,2,-999,9,-999,9,   2349.8,2,   2412.2,2,   7.5047,2,    25.00,     -999,9,     -999,9,   2.2651,2
  49UP20110515,   P13,   110,  1,     14,      87,2,20110804,2143,2250,  7.0118, 164.5002, 5113,   2153.1,     2130,   2.0410,  34.6478,2,    111.0,2,  34.6477,2,   111.21,2,   144.64,2,    38.85,2,     0.00,2,    2.710,2,     -999,9,     -999,9,-999,9,-999,9,   2349.6,2,   2416.5,2,   7.5206,2,    25.00,     -999,9,     -999,9,   2.0410,2
  49UP20110515,   P13,   110,  1,     13,      86,2,20110804,2143,2246,  7.0118, 164.5002, 5113,   2356.9,     2331,   1.9052,  34.6556,2,    117.0,2,  34.6555,2,   117.01,2,   146.88,2,    38.38,2,     0.00,2,    2.680,2,     -999,9,     -999,9,-999,9,-999,9,   2348.4,2,   2419.8,2,   7.5272,2,    25.00,     -999,9,     -999,9,   1.9055,2
  49UP20110515,   P13,   110,  1,     12,      74,2,20110804,2143,2241,  7.0118, 164.5002, 5113,   2560.3,     2531,   1.8175,  34.6613,2,    122.0,2,  34.6614,2,   122.21,2,   147.60,2,    38.11,2,     0.00,2,    2.650,2,     -999,9,     -999,9,-999,9,-999,9,   2339.0,3,   2420.6,2,   7.5396,2,    25.00,     -999,9,     -999,9,   1.8174,2
  49UP20110515,   P13,   110,  1,     11,     110,2,20110804,2143,2237,  7.0118, 164.5002, 5113,   2764.6,     2731,   1.7454,  34.6656,2,    127.2,2,  34.6649,2,   127.44,2,   147.82,2,    37.80,2,     0.00,2,    2.630,2,     -999,9,     -999,9,-999,9,-999,9,   2344.0,2,   2420.2,2,   7.5463,2,    25.00,     -999,9,     -999,9,   1.7455,2
  49UP20110515,   P13,   110,  1,     10,      83,2,20110804,2143,2232,  7.0118, 164.5002, 5113,   2968.4,     2931,   1.6791,  34.6696,2,    132.5,2,  34.6689,2,   133.04,2,   147.71,2,    37.46,2,     0.00,2,    2.600,2,     -999,9,     -999,9,-999,9,-999,9,   2337.9,3,   2418.9,2,   7.5544,2,    25.00,     -999,9,     -999,9,   1.6792,2
  49UP20110515,   P13,   110,  1,      9,      82,2,20110804,2143,2227,  7.0118, 164.5002, 5113,   3212.3,     3170,   1.6052,  34.6749,2,    138.4,2,  34.6747,6,   138.52,2,   147.40,2,    36.95,2,     0.00,2,    2.560,2,     -999,9,     -999,9,-999,9,-999,9,   2338.6,2,   2419.0,2,   7.5553,2,    25.00,     -999,9,     -999,9,   1.6055,2
  49UP20110515,   P13,   110,  1,      8,      81,2,20110804,2143,2221,  7.0118, 164.5002, 5113,   3468.8,     3421,   1.5332,  34.6803,2,    146.4,2,  34.6800,2,   146.32,2,   145.52,2,    36.47,2,     0.00,2,    2.520,2,    0.006,3,    0.000,2,-999,9,-999,9,   2333.5,2,   2416.0,2,   7.5699,2,    25.00,     -999,9,     -999,9,   1.5334,2
  49UP20110515,   P13,   110,  1,      7,      80,2,20110804,2143,2216,  7.0118, 164.5002, 5113,   3722.9,     3670,   1.4802,  34.6851,2,    153.7,2,  34.6835,4,   152.27,6,   142.57,6,    36.03,6,     0.00,6,    2.490,6,    0.017,3,    0.000,2,-999,9,-999,9,   2324.6,2,   2414.2,2,   7.5738,2,    25.00,     -999,9,     -999,9,   1.4800,2
  49UP20110515,   P13,   110,  1,      6,      79,2,20110804,2143,2210,  7.0118, 164.5002, 5113,   3979.9,     3921,   1.4437,  34.6890,2,    160.4,2,  34.6881,2,   160.48,2,   139.99,2,    35.41,2,     0.00,2,    2.440,2,    0.008,3,    0.000,2,-999,9,-999,9,   2318.2,2,   2408.8,2,   7.5894,2,    25.00,     -999,9,     -999,9,   1.4436,2
  49UP20110515,   P13,   110,  1,      5,      78,2,20110804,2143,2205,  7.0118, 164.5002, 5113,   4236.2,     4171,   1.4197,  34.6928,2,    167.5,2,  34.6928,2,   167.58,2,   136.07,2,    34.97,2,     0.00,2,    2.400,2,    0.060,3,    0.010,2,-999,9,-999,9,   2312.4,2,   2403.9,2,   7.5972,2,    25.00,     -999,9,     -999,9,   1.4198,2
  49UP20110515,   P13,   110,  1,      4,      77,2,20110804,2143,2159,  7.0118, 164.5002, 5113,   4490.7,     4419,   1.4025,  34.6961,2,    173.4,2,  34.6962,2,   173.54,2,   132.76,2,    34.49,2,     0.00,2,    2.370,2,    0.072,3,    0.004,2,-999,9,-999,9,   2295.8,2,   2398.0,2,   7.6010,2,    25.00,     -999,9,     -999,9,   1.4027,2
  49UP20110515,   P13,   110,  1,      3,      76,2,20110804,2143,2153,  7.0118, 164.5002, 5113,   4747.9,     4669,   1.3918,  34.6984,2,    178.1,2,  34.6983,2,   178.31,2,   130.29,2,    34.16,2,     0.00,2,    2.350,2,    0.025,3,    0.000,2,-999,9,-999,9,   2297.1,2,   2394.5,2,   7.6023,2,    25.00,     -999,9,     -999,9,   1.3919,2
  49UP20110515,   P13,   110,  1,      2,      75,2,20110804,2143,2148,  7.0118, 164.5002, 5113,   5007.7,     4922,   1.3875,  34.7004,2,    182.1,2,  34.7005,6,   182.63,6,   128.33,2,    33.82,2,     0.00,2,    2.320,2,    0.034,3,    0.000,2,-999,9,-999,9,   2294.7,2,   2390.8,2,   7.6049,2,    25.00,     -999,9,     -999,9,   1.3875,2
  49UP20110515,   P13,   110,  1,      1,     112,2,20110804,2143,2144,  7.0118, 164.5002, 5113,   5182.3,     5092,   1.3983,  34.7012,2,    183.4,2,  34.7003,6,   182.66,6,   127.89,2,    33.87,2,     0.00,2,    2.320,2,    0.051,3,    0.000,6,-999,9,-999,9,   2290.5,2,   2390.3,2,   7.6010,2,    25.00,     -999,9,     -999,9,   1.3983,2