BOTTLE,20240116CCHSIOVAJ
EXPOCODE,SECT_ID,STNNBR,CASTNO,SAMPNO,BTLNBR,BTLNBR_FLAG_W,DATE,TIME,BTL_TIME,LATITUDE,LONGITUDE,DEPTH,CTDPRS,CTDDEPTH,CTDTMP,CTDSAL,CTDSAL_FLAG_W,CTDOXY,CTDOXY_FLAG_W,SALNTY,SALNTY_FLAG_W,OXYGEN,OXYGEN_FLAG_W,SILCAT,SILCAT_FLAG_W,NO2+NO3,NO2+NO3_FLAG_W,NITRIT,NITRIT_FLAG_W,PHSPHT,PHSPHT_FLAG_W,CFC-11,CFC-11_FLAG_W,CFC-12,CFC-12_FLAG_W,DELC14,DELC14_FLAG_W,DELC13,DELC13_FLAG_W,TCARBN,TCARBN_FLAG_W,ALKALI,ALKALI_FLAG_W,PH_TOT,PH_TOT_FLAG_W,PH_TMP,CHLORA,CHLORA_FLAG_W,PPHYTN,PPHYTN_FLAG_W,REFTMP,REFTMP_FLAG_W
,,,,,,,,,,,,METERS,DBAR,METERS,ITS-90,PSS-78,,UMOL/KG,,PSS-78,,UMOL/KG,,UMOL/KG,,UMOL/KG,,UMOL/KG,,UMOL/KG,,PMOL/KG,,PMOL/KG,,/MILLE,,/MILLE,,UMOL/KG,,UMOL/KG,,,,DEG C,UG/KG,,UG/KG,,ITS-90,
  49UP20110515,   P01,    24,  1,      0,     BUC,2,20110606,1111,1420, 40.3502, 148.8788, 5485,      0.0,        0,  10.7092,  33.2736,2,    303.8,2,     -999,9,   300.35,2,     9.30,2,     4.19,2,     0.07,2,    0.600,2,     -999,9,     -999,9,-999,9,-999,9,     -999,9,     -999,9,     -999,9,     -999,     1.19,2,     0.26,2,     -999,9
  49UP20110515,   P01,    24,  1,     36,     109,2,20110606,1111,1435, 40.3502, 148.8788, 5485,     11.8,       12,  10.7416,  33.3389,2,    305.2,2,  33.3416,2,   302.92,2,     8.41,2,     3.59,2,     0.07,2,    0.500,2,    0.385,4,    0.000,4,-999,9,-999,9,   2015.9,2,   2248.3,2,   7.9391,2,    25.00,     1.22,2,     0.28,2,  10.7320,2
  49UP20110515,   P01,    24,  1,     35,     108,2,20110606,1111,1433, 40.3502, 148.8788, 5485,     26.7,       26,   9.8702,  33.4671,2,    301.9,2,  33.4551,4,   302.56,2,     7.79,6,     3.83,6,     0.07,6,    0.510,6,    3.744,2,    2.354,2,-999,9,-999,9,   2023.9,2,   2250.0,2,   7.9321,2,    25.00,     1.55,2,     0.36,2,   9.8583,2
  49UP20110515,   P01,    24,  1,     34,     107,2,20110606,1111,1429, 40.3502, 148.8788, 5485,     51.4,       51,   3.8219,  33.0886,2,    327.6,2,  33.0940,2,   326.35,2,    22.21,6,    15.38,6,     0.29,6,    1.470,6,    5.122,2,    2.964,2,-999,9,-999,9,   2100.1,2,   2242.7,2,   7.7423,2,    25.00,     0.20,2,     0.15,2,   3.8220,2
  49UP20110515,   P01,    24,  1,     33,     106,2,20110606,1111,1425, 40.3502, 148.8788, 5485,    101.9,      101,   1.9412,  33.2270,2,    292.3,2,  33.2308,2,   288.97,2,    49.02,2,    26.57,2,     0.03,2,    2.070,2,    5.232,2,    2.945,2,-999,9,-999,9,   2160.5,2,   2246.7,2,   7.5929,2,    25.00,     0.04,2,     0.13,2,   1.9413,2
  49UP20110515,   P01,    24,  1,     32,     105,2,20110606,1111,1421, 40.3502, 148.8788, 5485,    152.3,      151,   2.5667,  33.4828,2,    204.5,2,  33.4874,2,   202.01,2,    65.84,2,    31.88,2,     0.02,2,    2.400,2,    4.013,2,    2.391,2,-999,9,-999,9,   2219.0,2,   2268.9,2,   7.4697,2,    25.00,     0.02,2,     0.10,2,   2.5676,2
  49UP20110515,   P01,    24,  1,     31,     104,2,20110606,1111,1418, 40.3502, 148.8788, 5485,    203.1,      201,   2.5881,  33.6032,2,    155.8,2,  33.5994,2,   155.05,2,    78.72,2,    35.73,2,     0.01,2,    2.650,2,    3.389,6,    2.022,6,-999,9,-999,9,   2252.7,2,   2280.0,2,   7.4090,2,    25.00,     0.02,2,     0.10,2,   2.5888,2
  49UP20110515,   P01,    24,  1,     30,     103,3,20110606,1111,1416, 40.3502, 148.8788, 5485,    253.3,      251,   4.1984,  33.9054,2,    119.1,2,  33.9060,2,   118.57,2,    79.41,4,    35.03,4,     0.02,4,    2.570,4,    0.008,4,    0.000,4,-999,9,-999,9,   2257.7,2,   2298.0,2,   7.4251,2,    25.00,     -999,9,     -999,9,   4.1985,2
  49UP20110515,   P01,    24,  1,     29,     102,2,20110606,1111,1414, 40.3502, 148.8788, 5485,    284.5,      282,   3.2587,  33.8131,2,    110.6,2,  33.8123,2,   110.32,2,    88.55,2,    37.67,2,     0.01,2,    2.750,2,    2.409,2,    1.533,2,-999,9,-999,9,   2276.7,2,   2297.2,2,   7.3704,2,    25.00,     -999,9,     -999,9,   3.2589,2
  49UP20110515,   P01,    24,  1,     28,     101,3,20110606,1111,1411, 40.3502, 148.8788, 5485,    374.4,      371,   3.2798,  33.9439,2,     56.8,2,  33.9431,2,    57.20,2,   104.94,2,    42.22,2,     0.01,2,    3.030,2,    1.887,2,    1.118,2,-999,9,-999,9,   2321.3,2,   2313.3,2,   7.2947,2,    25.00,     -999,9,     -999,9,   3.2802,2
  49UP20110515,   P01,    24,  1,     27,     100,2,20110606,1111,1408, 40.3502, 148.8788, 5485,    474.9,      471,   3.2390,  34.0646,2,     42.4,2,  34.0616,2,    42.56,2,   116.49,2,    42.66,2,     0.01,2,    3.050,2,    1.366,6,    0.774,6,-999,9,-999,9,   2338.6,2,   2327.3,2,   7.2933,2,    25.00,     -999,9,     -999,9,   3.2396,2
  49UP20110515,   P01,    24,  1,     26,      99,3,20110606,1111,1404, 40.3502, 148.8788, 5485,    576.1,      571,   3.1931,  34.1750,2,     32.1,2,  34.1762,2,    32.34,2,   126.99,2,    43.24,2,     0.01,2,    3.090,2,    0.943,2,    0.501,2,-999,9,-999,9,   2351.8,6,   2342.6,6,   7.2958,2,    25.00,     -999,9,     -999,9,   3.1937,2
  49UP20110515,   P01,    24,  1,     25,      98,2,20110606,1111,1401, 40.3502, 148.8788, 5485,    677.7,      671,   3.1621,  34.2740,2,     34.5,2,  34.2753,2,    35.04,6,   133.24,2,    42.67,2,     0.00,2,    3.060,2,    0.605,2,    0.323,2,-999,9,-999,9,   2355.9,2,   2357.2,2,   7.3232,2,    25.00,     -999,9,     -999,9,   3.1642,2
  49UP20110515,   P01,    24,  1,     24,      97,2,20110606,1111,1354, 40.3502, 148.8788, 5485,    778.6,      771,   3.1146,  34.3385,2,     38.3,2,  34.3377,6,    38.90,2,   136.32,2,    42.32,2,     0.00,2,    3.040,2,    0.400,2,    0.220,2,-999,9,-999,9,   2357.1,2,   2365.6,2,   7.3454,2,    25.00,     -999,9,     -999,9,   3.1146,2
  49UP20110515,   P01,    24,  1,     23,      96,2,20110606,1111,1350, 40.3502, 148.8788, 5485,    880.0,      871,   3.0416,  34.3926,2,     41.2,2,  34.3923,2,    42.02,6,   138.73,2,    42.27,2,     0.00,2,    3.030,2,    0.264,2,    0.138,2,-999,9,-999,9,   2357.5,2,   2373.3,2,   7.3576,2,    25.00,     -999,9,     -999,9,   3.0419,2
  49UP20110515,   P01,    24,  1,     22,      95,2,20110606,1111,1347, 40.3502, 148.8788, 5485,    980.5,      971,   2.8072,  34.4192,2,     38.4,2,  34.4184,2,    39.03,2,   145.74,2,    42.73,2,     0.00,2,    3.050,2,    0.207,2,    0.093,2,-999,9,-999,9,   2365.9,2,   2379.9,2,   7.3531,2,    25.00,     -999,9,     -999,9,   2.8079,2
  49UP20110515,   P01,    24,  1,     21,      94,2,20110606,1111,1343, 40.3502, 148.8788, 5485,   1143.7,     1132,   2.5634,  34.4599,2,     40.4,2,  34.4602,2,    40.56,2,   153.12,2,    42.88,2,     0.00,2,    3.070,2,    0.149,2,    0.076,2,-999,9,-999,9,   2373.7,2,   2388.7,2,   7.3578,2,    25.00,     -999,9,     -999,9,   2.5636,2
  49UP20110515,   P01,    24,  1,     20,      93,2,20110606,1111,1333, 40.3502, 148.8788, 5485,   1346.1,     1331,   2.3788,  34.5031,2,     45.3,2,  34.5030,2,    45.78,2,   157.62,2,    42.73,2,     0.00,2,    3.040,2,    0.097,2,    0.036,2,-999,9,-999,9,   2379.0,2,   2397.2,2,   7.3745,2,    25.00,     -999,9,     -999,9,   2.3788,2
  49UP20110515,   P01,    24,  1,     19,      92,3,20110606,1111,1327, 40.3502, 148.8788, 5485,   1548.8,     1531,   2.1870,  34.5436,2,     54.2,2,  34.5409,4,    55.27,2,   160.90,2,    42.23,2,     0.00,2,    2.970,3,    0.116,2,    0.047,2,-999,9,-999,9,   2375.5,2,   2402.6,2,   7.3979,2,    25.00,     -999,9,     -999,9,   2.1872,2
  49UP20110515,   P01,    24,  1,     18,      91,2,20110606,1111,1323, 40.3502, 148.8788, 5485,   1751.6,     1731,   2.0341,  34.5752,2,     65.4,2,  34.5756,2,    65.67,6,   163.10,2,    41.72,2,     0.00,2,    2.940,2,    0.059,2,    0.021,2,-999,9,-999,9,   2371.8,2,   2409.1,2,   7.4219,2,    25.00,     -999,9,     -999,9,   2.0343,2
  49UP20110515,   P01,    24,  1,     17,      90,2,20110606,1111,1311, 40.3502, 148.8788, 5485,   1954.9,     1931,   1.9083,  34.5994,2,     77.5,2,  34.5995,6,    79.75,3,   163.42,6,    40.98,6,     0.00,6,    2.890,6,    0.031,2,    0.011,2,-999,9,-999,9,   2367.8,2,   2410.1,2,   7.4438,2,    25.00,     -999,9,     -999,9,   1.9084,2
  49UP20110515,   P01,    24,  1,     16,      89,3,20110606,1111,1306, 40.3502, 148.8788, 5485,   2158.4,     2131,   1.8044,  34.6179,2,     88.9,2,  34.6170,2,    90.66,4,   162.78,2,    40.25,2,     0.00,2,    2.830,2,    0.031,2,    0.000,2,-999,9,-999,9,   2365.3,2,   2409.5,2,   7.4654,6,    25.00,     -999,9,     -999,9,   1.8045,2
  49UP20110515,   P01,    24,  1,     15,      88,2,20110606,1111,1254, 40.3502, 148.8788, 5485,   2361.2,     2330,   1.7213,  34.6326,2,     99.8,2,  34.6328,2,   101.46,2,   161.95,2,    39.59,2,     0.00,2,    2.780,2,    0.062,2,    0.017,2,-999,9,-999,9,   2358.1,6,   2414.8,6,   7.4901,2,    25.00,     -999,9,     -999,9,   1.7214,2
  49UP20110515,   P01,    24,  1,     14,      87,3,20110606,1111,1243, 40.3502, 148.8788, 5485,   2566.7,     2531,   1.6502,  34.6450,2,    109.9,2,  34.6448,2,   110.31,2,   160.25,2,    39.00,2,     0.00,2,    2.730,2,    0.035,2,    0.002,2,-999,9,-999,9,   2353.1,2,   2415.1,2,   7.5018,2,    25.00,     -999,9,     -999,9,   1.6504,2
  49UP20110515,   P01,    24,  1,     13,      86,2,20110606,1111,1239, 40.3502, 148.8788, 5485,   2770.7,     2731,   1.5997,  34.6539,2,    118.1,2,  34.6539,2,   118.38,2,   159.01,2,    38.48,2,     0.00,2,    2.690,2,     -999,9,     -999,9,-999,9,-999,9,   2349.0,2,   2415.8,2,   7.5214,2,    25.00,     -999,9,     -999,9,   1.5999,2
  49UP20110515,   P01,    24,  1,     12,      85,2,20110606,1111,1231, 40.3502, 148.8788, 5485,   2975.1,     2932,   1.5560,  34.6615,2,    125.4,2,  34.6617,2,   125.45,2,   157.53,2,    37.98,2,     0.00,2,    2.660,2,     -999,9,     -999,9,-999,9,-999,9,   2344.7,2,   2415.5,2,   7.5337,2,    25.00,     -999,9,     -999,9,   1.5561,2
  49UP20110515,   P01,    24,  1,     11,     110,2,20110606,1111,1224, 40.3502, 148.8788, 5485,   3219.4,     3170,   1.5173,  34.6687,2,    133.1,2,  34.6686,2,   132.94,2,   155.97,2,    37.44,2,     0.00,2,    2.620,2,    0.031,2,    0.000,2,-999,9,-999,9,   2338.7,2,   2414.2,2,   7.5478,2,    25.00,     -999,9,     -999,9,   1.5173,2
  49UP20110515,   P01,    24,  1,     10,      83,2,20110606,1111,1218, 40.3502, 148.8788, 5485,   3475.6,     3421,   1.4873,  34.6749,2,    139.9,2,  34.6771,4,   139.78,2,   154.30,2,    37.04,2,     0.00,2,    2.580,2,     -999,9,     -999,9,-999,9,-999,9,   2335.2,2,   2415.7,2,   7.5545,2,    25.00,     -999,9,     -999,9,   1.4873,2
  49UP20110515,   P01,    24,  1,      9,      82,2,20110606,1111,1209, 40.3502, 148.8788, 5485,   3732.4,     3671,   1.4709,  34.6793,2,    145.3,2,  34.6794,2,   145.49,2,   152.97,2,    36.53,2,     0.00,2,    2.550,2,     -999,9,     -999,9,-999,9,-999,9,   2328.5,2,   2415.3,2,   7.5694,2,    25.00,     -999,9,     -999,9,   1.4709,2
  49UP20110515,   P01,    24,  1,      8,      81,2,20110606,1111,1201, 40.3502, 148.8788, 5485,   3989.0,     3921,   1.4668,  34.6829,2,    149.5,2,  34.6829,6,   148.77,2,   151.78,2,    36.41,2,     0.00,2,    2.530,2,     -999,9,     -999,9,-999,9,-999,9,   2326.3,2,   2415.2,2,   7.5740,2,    25.00,     -999,9,     -999,9,   1.4671,2
  49UP20110515,   P01,    24,  1,      7,      80,2,20110606,1111,1153, 40.3502, 148.8788, 5485,   4245.6,     4171,   1.4667,  34.6858,2,    153.2,2,  34.6841,4,   152.93,2,   150.73,2,    36.16,2,     0.00,2,    2.510,2,    0.023,2,    0.006,2,-999,9,-999,9,   2327.2,2,   2413.8,2,   7.5825,2,    25.00,     -999,9,     -999,9,   1.4668,2
  49UP20110515,   P01,    24,  1,      6,      79,2,20110606,1111,1143, 40.3502, 148.8788, 5485,   4502.4,     4421,   1.4747,  34.6880,2,    156.0,2,  34.6878,2,   155.94,2,   149.81,2,    35.95,2,     0.00,2,    2.500,2,     -999,9,     -999,9,-999,9,-999,9,   2321.9,2,   2414.8,2,   7.5829,2,    25.00,     -999,9,     -999,9,   1.4748,2
  49UP20110515,   P01,    24,  1,      5,      78,2,20110606,1111,1137, 40.3502, 148.8788, 5485,   4760.5,     4672,   1.4884,  34.6900,2,    158.3,2,  34.6899,2,   158.27,2,   149.45,6,    35.79,6,     0.00,6,    2.500,6,     -999,9,     -999,9,-999,9,-999,9,   2321.9,2,   2415.0,2,   7.5905,2,    25.00,     -999,9,     -999,9,   1.4885,2
  49UP20110515,   P01,    24,  1,      4,      77,2,20110606,1111,1128, 40.3502, 148.8788, 5485,   5017.9,     4922,   1.5107,  34.6911,2,    159.5,2,  34.6909,2,   159.41,2,   149.46,2,    35.57,2,     0.00,2,    2.480,2,     -999,9,     -999,9,-999,9,-999,9,   2319.9,2,   2415.5,2,   7.5909,2,    25.00,     -999,9,     -999,9,   1.5109,2
  49UP20110515,   P01,    24,  1,      3,      76,2,20110606,1111,1122, 40.3502, 148.8788, 5485,   5275.6,     5171,   1.5345,  34.6919,2,    161.2,2,  34.6914,2,   160.90,2,   147.35,2,    35.47,2,     0.00,2,    2.470,2,    0.040,2,    0.000,2,-999,9,-999,9,   2319.1,6,   2410.2,6,   7.5911,2,    25.00,     -999,9,     -999,9,   1.5345,2
  49UP20110515,   P01,    24,  1,      2,      75,2,20110606,1111,1114, 40.3502, 148.8788, 5485,   5533.8,     5421,   1.5604,  34.6928,2,    162.4,2,  34.6928,2,   162.66,6,   146.22,2,    35.52,2,     0.00,2,    2.460,2,     -999,9,     -999,9,-999,9,-999,9,   2316.5,2,   2408.8,2,   7.5941,2,    25.00,     -999,9,     -999,9,   1.5604,2
  49UP20110515,   P01,    24,  1,      1,      74,2,20110606,1111,1111, 40.3502, 148.8788, 5485,   5580.5,     5467,   1.5650,  34.6930,2,    161.9,2,  34.6930,2,   161.81,2,   146.76,2,    35.47,2,     0.01,2,    2.470,2,     -999,9,     -999,9,-999,9,-999,9,   2313.7,2,   2409.0,2,   7.5880,2,    25.00,     -999,9,     -999,9,   1.5648,2