BOTTLE,20240116CCHSIOVAJ
EXPOCODE,SECT_ID,STNNBR,CASTNO,SAMPNO,BTLNBR,BTLNBR_FLAG_W,DATE,TIME,BTL_TIME,LATITUDE,LONGITUDE,DEPTH,CTDPRS,CTDDEPTH,CTDTMP,CTDSAL,CTDSAL_FLAG_W,CTDOXY,CTDOXY_FLAG_W,SALNTY,SALNTY_FLAG_W,OXYGEN,OXYGEN_FLAG_W,SILCAT,SILCAT_FLAG_W,NO2+NO3,NO2+NO3_FLAG_W,NITRIT,NITRIT_FLAG_W,PHSPHT,PHSPHT_FLAG_W,CFC-11,CFC-11_FLAG_W,CFC-12,CFC-12_FLAG_W,DELC14,DELC14_FLAG_W,DELC13,DELC13_FLAG_W,TCARBN,TCARBN_FLAG_W,ALKALI,ALKALI_FLAG_W,PH_TOT,PH_TOT_FLAG_W,PH_TMP,CHLORA,CHLORA_FLAG_W,PPHYTN,PPHYTN_FLAG_W,REFTMP,REFTMP_FLAG_W
,,,,,,,,,,,,METERS,DBAR,METERS,ITS-90,PSS-78,,UMOL/KG,,PSS-78,,UMOL/KG,,UMOL/KG,,UMOL/KG,,UMOL/KG,,UMOL/KG,,PMOL/KG,,PMOL/KG,,/MILLE,,/MILLE,,UMOL/KG,,UMOL/KG,,,,DEG C,UG/KG,,UG/KG,,ITS-90,
  49UP20110515,   P13,   116,  1,      0,     BUC,2,20110806,1455,1650,  3.9907, 165.0175, 4490,      0.0,        0,  29.3709,  34.0430,2,    195.9,2,     -999,9,   194.73,2,     1.10,2,     0.00,2,     0.00,2,    0.100,2,     -999,9,     -999,9,-999,9,-999,9,     -999,9,     -999,9,     -999,9,     -999,     0.05,2,     0.02,2,     -999,9
  49UP20110515,   P13,   116,  1,     36,     109,2,20110806,1455,1700,  3.9907, 165.0175, 4490,     11.4,       11,  29.3543,  34.0536,2,    195.9,2,  34.0570,2,   195.14,2,     1.05,2,     0.02,2,     0.00,2,    0.090,2,    2.110,4,    1.604,4,53.0,2,1.2,2,   1900.0,2,   2236.3,2,   8.1245,2,    25.00,     0.04,2,     0.01,2,  29.3541,2
  49UP20110515,   P13,   116,  1,     35,     108,2,20110806,1455,1658,  3.9907, 165.0175, 4490,     26.0,       26,  29.2024,  34.1280,2,    196.4,2,  34.1264,2,   195.25,2,     1.07,2,     0.00,2,     0.00,2,    0.080,2,    1.703,3,    1.026,2,-999,9,-999,9,   1907.3,2,   2239.9,2,   8.1256,2,    25.00,     0.05,2,     0.02,2,  29.2033,2
  49UP20110515,   P13,   116,  1,     34,     107,2,20110806,1455,1655,  3.9907, 165.0175, 4490,     51.0,       51,  29.1074,  34.2377,2,    196.9,2,  34.2365,2,   196.47,2,     0.94,2,     0.00,2,     0.00,2,    0.110,2,    1.648,3,    1.014,2,55.2,2,1.2,2,   1914.9,2,   2248.6,2,   8.1207,2,    25.00,     0.08,2,     0.02,2,  29.1108,2
  49UP20110515,   P13,   116,  1,     33,     106,2,20110806,1455,1654,  3.9907, 165.0175, 4490,     75.7,       75,  29.0316,  34.4173,2,    196.0,2,  34.4132,2,   196.22,2,     1.12,2,     0.04,2,     0.00,2,    0.120,2,    1.732,3,    1.037,2,-999,9,-999,9,   1927.7,2,   2260.1,2,   8.1057,2,    25.00,     0.12,2,     0.06,2,  29.0298,2
  49UP20110515,   P13,   116,  1,     32,     105,2,20110806,1455,1653,  3.9907, 165.0175, 4490,    100.8,      100,  28.2949,  34.7381,2,    169.9,2,  34.7602,4,   175.57,2,     1.89,2,     1.01,2,     0.20,2,    0.220,2,    1.721,3,    1.091,2,48.8,2,0.6,2,   1981.1,6,   2285.5,2,   8.0558,2,    25.00,     0.29,2,     0.35,2,  28.2597,2
  49UP20110515,   P13,   116,  1,     31,     104,2,20110806,1455,1651,  3.9907, 165.0175, 4490,    126.3,      126,  25.6600,  34.8667,2,    168.0,2,  34.8704,2,   170.19,6,     2.35,2,     2.47,2,     0.32,2,    0.300,2,    1.775,3,    1.187,6,-999,9,-999,9,   2008.5,2,   2289.9,2,   8.0116,2,    25.00,     0.13,2,     0.23,2,  25.6516,2
  49UP20110515,   P13,   116,  1,     30,     103,2,20110806,1455,1650,  3.9907, 165.0175, 4490,    151.1,      150,  19.9578,  34.7879,2,    138.3,2,  34.7905,2,   138.77,2,     6.88,2,     9.46,2,     0.02,2,    0.750,2,    2.073,3,    1.331,2,41.5,2,0.4,2,   2092.2,2,   2287.9,2,   7.8725,2,    25.00,     0.04,2,     0.09,2,  19.9596,2
  49UP20110515,   P13,   116,  1,     29,     102,2,20110806,1455,1648,  3.9907, 165.0175, 4490,    201.5,      200,  11.7840,  34.5784,2,     60.3,2,  34.5745,2,    60.90,2,    25.91,2,    27.85,2,     0.00,2,    2.030,2,    1.315,3,    0.767,2,-19.7,6,0.0,6,   2210.6,2,   2289.8,2,   7.5640,2,    25.00,     0.00,2,     0.02,2,  11.7971,2
  49UP20110515,   P13,   116,  1,     28,     101,2,20110806,1455,1647,  3.9907, 165.0175, 4490,    251.3,      250,  10.0881,  34.6523,2,     40.8,2,  34.6507,2,    42.09,2,    32.30,6,    33.19,6,     0.00,6,    2.350,6,    0.629,3,    0.344,2,-999,9,-999,9,   2244.5,2,   2304.5,2,   7.4945,2,    25.00,     -999,9,     -999,9,  10.0876,2
  49UP20110515,   P13,   116,  1,     27,     100,2,20110806,1455,1645,  3.9907, 165.0175, 4490,    281.7,      280,   9.5302,  34.6399,2,     41.8,2,  34.6404,6,    42.42,2,    34.44,2,    34.02,2,     0.00,2,    2.410,2,    0.458,3,    0.257,6,-999,9,-999,9,   2259.3,3,   2302.7,2,   7.4833,2,    25.00,     -999,9,     -999,9,   9.5324,2
  49UP20110515,   P13,   116,  1,     26,      99,2,20110806,1455,1645,  3.9907, 165.0175, 4490,    281.7,      280,   9.5294,  34.6395,2,     41.8,2,  34.6386,2,    42.58,2,    34.50,2,    34.03,2,     0.00,2,    2.410,2,    0.482,3,    0.251,2,-66.7,2,0.1,2,   2251.7,2,   2302.0,2,   7.4828,2,    25.00,     -999,9,     -999,9,   9.5298,2
  49UP20110515,   P13,   116,  1,     25,      98,2,20110806,1455,1644,  3.9907, 165.0175, 4490,    332.1,      330,   8.9209,  34.6234,2,     52.6,2,  34.6233,2,    52.80,2,    36.71,2,    34.40,2,     0.00,2,    2.420,2,    0.412,3,    0.216,2,-999,9,-999,9,   2250.0,2,   2306.7,2,   7.4875,6,    25.00,     -999,9,     -999,9,   8.9236,2
  49UP20110515,   P13,   116,  1,     24,      97,2,20110806,1455,1642,  3.9907, 165.0175, 4490,    373.9,      372,   8.5309,  34.6128,2,     60.1,2,  34.6143,2,    59.98,2,    37.86,2,    34.59,2,     0.00,2,    2.430,2,    0.366,3,    0.198,2,-85.6,2,0.2,2,   2248.6,6,   2307.6,2,   7.4933,2,    25.00,     -999,9,     -999,9,   8.5302,2
  49UP20110515,   P13,   116,  1,     23,      96,2,20110806,1455,1639,  3.9907, 165.0175, 4490,    473.5,      470,   7.8471,  34.5905,2,     67.3,2,  34.5914,2,    67.60,6,    41.35,2,    35.39,2,     0.00,2,    2.490,2,    0.312,3,    0.161,2,-93.2,2,0.3,2,   2253.5,2,   2310.7,2,   7.4978,2,    25.00,     -999,9,     -999,9,   7.8490,2
  49UP20110515,   P13,   116,  1,     22,      95,2,20110806,1455,1636,  3.9907, 165.0175, 4490,    574.5,      571,   7.0701,  34.5595,2,     57.4,2,  34.5589,2,    57.00,2,    51.12,2,    37.60,2,     0.00,2,    2.670,2,    0.157,3,    0.070,2,-119.8,2,0.2,2,   2270.9,2,   2317.6,2,   7.4647,2,    25.00,     -999,9,     -999,9,   7.0704,2
  49UP20110515,   P13,   116,  1,     21,      94,2,20110806,1455,1634,  3.9907, 165.0175, 4490,    675.3,      670,   6.2957,  34.5430,2,     67.3,2,  34.5440,2,    66.95,2,    59.96,2,    38.14,2,     0.00,2,    2.710,2,    0.083,3,    0.039,2,-137.4,2,0.1,2,   2276.0,2,   2326.4,2,   7.4690,2,    25.00,     -999,9,     -999,9,   6.2966,2
  49UP20110515,   P13,   116,  1,     20,      93,2,20110806,1455,1631,  3.9907, 165.0175, 4490,    775.9,      770,   5.5718,  34.5387,2,     78.4,2,  34.5384,2,    78.16,2,    69.61,2,    38.22,2,     0.00,2,    2.710,2,    0.062,3,    0.029,2,-148.5,2,0.2,2,   2286.6,2,   2336.6,2,   7.4851,2,    25.00,     -999,9,     -999,9,   5.5742,2
  49UP20110515,   P13,   116,  1,     19,      92,2,20110806,1455,1629,  3.9907, 165.0175, 4490,    876.3,      870,   5.0398,  34.5445,2,     82.6,2,  34.5447,2,    82.52,2,    78.46,6,    38.54,6,     0.00,6,    2.730,6,    0.038,3,    0.011,2,-166.2,2,0.2,2,   2292.8,2,   2347.1,2,   7.4838,2,    25.00,     -999,9,     -999,9,   5.0402,2
  49UP20110515,   P13,   116,  1,     18,      91,2,20110806,1455,1626,  3.9907, 165.0175, 4490,    978.5,      971,   4.6288,  34.5524,2,     84.4,2,  34.5523,2,    84.16,2,    86.80,2,    38.74,2,     0.00,2,    2.740,2,    0.034,3,    0.005,2,-184.4,2,-0.0,3,   2301.4,2,   2353.8,2,   7.4862,2,    25.00,     -999,9,     -999,9,   4.6291,2
  49UP20110515,   P13,   116,  1,     17,      90,2,20110806,1455,1621,  3.9907, 165.0175, 4490,   1140.7,     1131,   3.9389,  34.5700,2,     84.0,2,  34.5694,2,    84.31,2,   101.81,2,    39.64,2,     0.00,2,    2.810,2,    0.007,3,    0.000,2,-196.2,2,0.1,2,   2318.5,2,   2371.4,2,   7.4829,2,    25.00,     -999,9,     -999,9,   3.9393,2
  49UP20110515,   P13,   116,  1,     16,      89,2,20110806,1455,1617,  3.9907, 165.0175, 4490,   1342.0,     1330,   3.2321,  34.5927,2,     90.1,2,  34.5926,2,    89.99,2,   116.65,2,    39.82,2,     0.00,2,    2.820,2,    0.000,3,    0.000,2,-215.8,2,0.0,2,   2335.1,2,   2386.4,2,   7.4859,6,    25.00,     -999,9,     -999,9,   3.2326,2
  49UP20110515,   P13,   116,  1,     15,      88,2,20110806,1455,1609,  3.9907, 165.0175, 4490,   1544.3,     1530,   2.7538,  34.6115,2,    101.5,2,  34.6109,2,   101.40,2,   125.51,2,    39.19,2,     0.00,2,    2.760,2,     -999,9,     -999,9,-999,9,-999,9,   2340.9,2,   2395.5,2,   7.5033,2,    25.00,     -999,9,     -999,9,   2.7539,2
  49UP20110515,   P13,   116,  1,     14,      87,2,20110806,1455,1604,  3.9907, 165.0175, 4490,   1748.1,     1731,   2.4941,  34.6238,2,    105.6,2,  34.6248,2,   105.71,6,   131.15,2,    38.92,2,     0.00,2,    2.740,2,    0.003,3,    0.000,2,-224.4,2,-0.1,2,   2343.7,2,   2403.4,2,   7.5077,2,    25.00,     -999,9,     -999,9,   2.4942,2
  49UP20110515,   P13,   116,  1,     13,      86,4,20110806,1455,1600,  3.9907, 165.0175, 4490,   1951.0,     1931,   2.2580,  34.6364,2,    108.2,2,  34.8781,4,   165.84,4,     2.66,4,     3.25,4,     0.21,4,    0.370,4,     -999,9,     -999,9,-999,9,-999,9,   2023.4,4,   2293.2,4,   7.9978,4,    25.00,     -999,9,     -999,9,   2.2580,2
  49UP20110515,   P13,   116,  1,     12,      74,2,20110806,1455,1551,  3.9907, 165.0175, 4490,   2153.7,     2131,   2.0913,  34.6457,2,    112.8,2,  34.6462,2,   112.76,2,   141.73,2,    38.87,2,     0.00,2,    2.700,2,     -999,9,     -999,9,-237.1,2,0.0,2,   2347.0,2,   2412.0,2,   7.5222,2,    25.00,     -999,9,     -999,9,   2.0915,2
  49UP20110515,   P13,   116,  1,     11,     110,2,20110806,1455,1546,  3.9907, 165.0175, 4490,   2357.1,     2331,   1.9410,  34.6542,2,    120.5,2,  34.6536,2,   120.37,2,   142.97,2,    38.21,2,     0.00,2,    2.670,2,     -999,9,     -999,9,-999,9,-999,9,   2346.7,2,   2415.7,2,   7.5330,2,    25.00,     -999,9,     -999,9,   1.9410,2
  49UP20110515,   P13,   116,  1,     10,      83,2,20110806,1455,1541,  3.9907, 165.0175, 4490,   2560.4,     2531,   1.8252,  34.6608,2,    124.0,2,  34.6614,2,   123.98,2,   145.73,2,    37.99,2,     0.00,2,    2.650,2,     -999,9,     -999,9,-230.8,2,0.0,2,   2344.4,2,   2419.6,2,   7.5404,2,    25.00,     -999,9,     -999,9,   1.8254,2
  49UP20110515,   P13,   116,  1,      9,      82,2,20110806,1455,1536,  3.9907, 165.0175, 4490,   2764.4,     2731,   1.7499,  34.6653,2,    128.7,2,  34.6657,2,   128.65,2,   146.27,6,    37.74,6,     0.00,6,    2.630,6,    0.000,3,    0.000,2,-999,9,-999,9,   2344.5,2,   2421.6,2,   7.5467,2,    25.00,     -999,9,     -999,9,   1.7501,2
  49UP20110515,   P13,   116,  1,      8,      81,2,20110806,1455,1531,  3.9907, 165.0175, 4490,   2968.0,     2931,   1.6658,  34.6704,2,    134.5,2,  34.6702,6,   134.21,2,   146.35,2,    37.28,2,     0.00,2,    2.590,2,     -999,9,     -999,9,-240.6,2,0.1,2,   2339.6,2,   2418.9,2,   7.5559,2,    25.00,     -999,9,     -999,9,   1.6659,2
  49UP20110515,   P13,   116,  1,      7,      80,2,20110806,1455,1526,  3.9907, 165.0175, 4490,   3212.9,     3171,   1.5978,  34.6748,2,    140.8,2,  34.6756,2,   140.64,2,   145.43,2,    36.93,2,     0.00,2,    2.550,2,     -999,9,     -999,9,-999,9,-999,9,   2332.6,2,   2419.1,2,   7.5654,2,    25.00,     -999,9,     -999,9,   1.5978,2
  49UP20110515,   P13,   116,  1,      6,      79,2,20110806,1455,1521,  3.9907, 165.0175, 4490,   3468.3,     3421,   1.5267,  34.6801,2,    148.3,2,  34.6797,2,   148.26,2,   143.87,2,    36.38,2,     0.00,2,    2.510,2,     -999,9,     -999,9,-223.1,2,0.1,2,   2322.3,3,   2416.7,2,   7.5723,2,    25.00,     -999,9,     -999,9,   1.5267,2
  49UP20110515,   P13,   116,  1,      5,      78,2,20110806,1455,1515,  3.9907, 165.0175, 4490,   3724.2,     3671,   1.4889,  34.6845,2,    153.8,2,  34.6843,2,   154.08,2,   142.10,2,    36.04,2,     0.00,2,    2.480,2,    0.000,3,    0.000,2,-999,9,-999,9,   2327.6,2,   2414.5,2,   7.5812,2,    25.00,     -999,9,     -999,9,   1.4888,2
  49UP20110515,   P13,   116,  1,      4,      77,2,20110806,1455,1509,  3.9907, 165.0175, 4490,   3980.3,     3922,   1.4713,  34.6873,2,    158.6,2,  34.6872,2,   158.90,2,   140.19,2,    35.72,2,     0.00,2,    2.460,2,    0.034,3,    0.000,2,-220.7,2,0.2,2,   2314.1,2,   2413.1,2,   7.5869,2,    25.00,     -999,9,     -999,9,   1.4713,2
  49UP20110515,   P13,   116,  1,      3,      76,2,20110806,1455,1504,  3.9907, 165.0175, 4490,   4235.4,     4170,   1.4611,  34.6902,2,    162.9,2,  34.6899,2,   163.00,2,   138.10,2,    35.40,2,     0.00,2,    2.440,2,    0.000,3,    0.000,2,-999,9,-999,9,   2308.7,2,   2410.9,2,   7.5919,2,    25.00,     -999,9,     -999,9,   1.4612,2
  49UP20110515,   P13,   116,  1,      2,      75,2,20110806,1455,1458,  3.9907, 165.0175, 4490,   4491.5,     4420,   1.4022,  34.6960,2,    173.5,2,  34.6965,6,   174.01,2,   132.39,6,    34.65,6,     0.00,6,    2.380,6,    0.000,3,    0.000,2,-201.3,2,0.3,2,   2296.5,3,   2405.6,2,   7.6053,2,    25.00,     -999,9,     -999,9,   1.4021,2
  49UP20110515,   P13,   116,  1,      1,     112,2,20110806,1455,1456,  3.9907, 165.0175, 4490,   4550.9,     4478,   1.4093,  34.6961,2,    173.5,2,  34.6966,2,   172.60,6,   132.59,2,    34.60,2,     0.00,2,    2.380,2,    0.037,3,    0.000,2,-200.7,2,0.3,2,   2310.2,2,   2405.3,2,   7.6095,2,    25.00,     -999,9,     -999,9,   1.4091,2