BOTTLE,20240116CCHSIOVAJ
EXPOCODE,SECT_ID,STNNBR,CASTNO,SAMPNO,BTLNBR,BTLNBR_FLAG_W,DATE,TIME,BTL_TIME,LATITUDE,LONGITUDE,DEPTH,CTDPRS,CTDDEPTH,CTDTMP,CTDSAL,CTDSAL_FLAG_W,CTDOXY,CTDOXY_FLAG_W,SALNTY,SALNTY_FLAG_W,OXYGEN,OXYGEN_FLAG_W,SILCAT,SILCAT_FLAG_W,NO2+NO3,NO2+NO3_FLAG_W,NITRIT,NITRIT_FLAG_W,PHSPHT,PHSPHT_FLAG_W,CFC-11,CFC-11_FLAG_W,CFC-12,CFC-12_FLAG_W,DELC14,DELC14_FLAG_W,DELC13,DELC13_FLAG_W,TCARBN,TCARBN_FLAG_W,ALKALI,ALKALI_FLAG_W,PH_TOT,PH_TOT_FLAG_W,PH_TMP,CHLORA,CHLORA_FLAG_W,PPHYTN,PPHYTN_FLAG_W,REFTMP,REFTMP_FLAG_W
,,,,,,,,,,,,METERS,DBAR,METERS,ITS-90,PSS-78,,UMOL/KG,,PSS-78,,UMOL/KG,,UMOL/KG,,UMOL/KG,,UMOL/KG,,UMOL/KG,,PMOL/KG,,PMOL/KG,,/MILLE,,/MILLE,,UMOL/KG,,UMOL/KG,,,,DEG C,UG/KG,,UG/KG,,ITS-90,
  49UP20110515,   P13,   103,  1,      0,     BUC,2,20110724,1655,1920, 10.0047, 163.9663, 4992,      0.0,        0,  28.7076,  34.4300,2,    195.9,2,     -999,9,   195.51,2,     1.13,2,     0.04,2,     0.00,2,    0.070,4,     -999,9,     -999,9,-999,9,-999,9,     -999,9,     -999,9,     -999,9,     -999,     0.05,2,     0.01,2,     -999,9
  49UP20110515,   P13,   103,  1,     36,     109,2,20110724,1655,1932, 10.0047, 163.9663, 4992,     11.4,       11,  28.7115,  34.4311,2,    195.8,2,  34.4310,2,   195.75,2,     1.13,2,     0.01,2,     0.00,2,    0.040,4,    1.747,3,    1.029,2,42.2,2,1.1,2,   1927.1,2,   2259.1,2,   8.1105,2,    25.00,     0.05,2,     0.01,2,  28.7114,2
  49UP20110515,   P13,   103,  1,     35,     108,2,20110724,1655,1929, 10.0047, 163.9663, 4992,     50.6,       50,  28.6156,  34.7609,2,    197.6,2,  34.7656,2,   198.10,2,     1.01,2,     0.04,2,     0.00,2,    0.040,4,    1.842,3,    1.056,2,49.5,2,1.1,2,   1949.7,6,   2284.2,6,   8.1061,2,    25.00,     0.07,2,     0.03,2,  28.6157,2
  49UP20110515,   P13,   103,  1,     34,     107,2,20110724,1655,1927, 10.0047, 163.9663, 4992,     76.2,       76,  27.5199,  34.9879,2,    205.3,2,  34.9922,2,   205.24,2,     0.97,2,     0.01,2,     0.00,2,    0.030,4,    2.038,3,    1.088,2,-999,9,-999,9,   1968.9,2,   2299.9,2,   8.0978,6,    25.00,     0.09,2,     0.03,2,  27.5330,2
  49UP20110515,   P13,   103,  1,     33,     106,2,20110724,1655,1926, 10.0047, 163.9663, 4992,    101.3,      101,  26.3073,  35.0466,2,    200.9,2,  35.0459,2,   201.62,2,     1.08,2,     0.04,2,     0.00,2,    0.050,4,    2.062,3,    1.149,2,43.1,2,1.1,2,   1988.8,2,   2305.1,2,   8.0731,2,    25.00,     0.14,2,     0.09,2,  26.3101,2
  49UP20110515,   P13,   103,  1,     32,     105,2,20110724,1655,1925, 10.0047, 163.9663, 4992,    125.9,      125,  24.9124,  35.1116,2,    193.1,2,  35.1134,2,   193.27,2,     1.23,2,     0.13,2,     0.05,2,    0.080,4,    2.003,3,    1.223,2,-999,9,-999,9,   2008.3,2,   2310.3,2,   8.0402,2,    25.00,     0.24,2,     0.34,2,  24.9067,2
  49UP20110515,   P13,   103,  1,     31,     104,2,20110724,1655,1923, 10.0047, 163.9663, 4992,    151.3,      150,  22.7683,  35.1931,2,    184.9,2,  35.1947,6,   186.06,2,     1.69,2,     1.28,2,     0.07,2,    0.140,4,    2.099,3,    1.310,6,40.4,2,0.8,2,   2041.6,2,   2316.8,2,   7.9969,2,    25.00,     0.09,2,     0.22,2,  22.7767,2
  49UP20110515,   P13,   103,  1,     30,     103,2,20110724,1655,1922, 10.0047, 163.9663, 4992,    202.0,      201,  16.9833,  34.7146,2,    164.8,2,  34.7072,2,   165.19,6,     6.63,2,     8.24,2,     0.01,2,    0.600,4,    2.556,3,    1.542,2,43.7,2,0.4,2,   2089.6,2,   2285.7,2,   7.8522,2,    25.00,     0.03,2,     0.06,2,  17.0345,2
  49UP20110515,   P13,   103,  1,     29,     102,2,20110724,1655,1920, 10.0047, 163.9663, 4992,    250.6,      249,  11.4917,  34.4251,2,     90.0,2,  34.4277,2,    88.76,2,    24.50,6,    24.62,6,     0.00,6,    1.780,4,    1.859,3,    1.028,2,-999,9,-999,9,   2190.7,6,   2279.4,6,   7.5973,2,    25.00,     -999,9,     -999,9,  11.4973,2
  49UP20110515,   P13,   103,  1,     28,     101,2,20110724,1655,1918, 10.0047, 163.9663, 4992,    283.0,      281,  10.3007,  34.4441,2,     70.6,2,  34.4443,2,    70.12,2,    31.20,2,    28.73,2,     0.00,2,    2.060,4,    1.395,3,    0.756,2,-39.7,2,-0.0,2,   2217.3,2,   2286.3,2,   7.5329,6,    25.00,     -999,9,     -999,9,  10.3015,2
  49UP20110515,   P13,   103,  1,     27,     100,2,20110724,1655,1916, 10.0047, 163.9663, 4992,    332.4,      330,   9.5637,  34.5654,2,     50.0,2,  34.5656,2,    49.88,2,    35.79,2,    32.79,2,     0.00,2,    2.290,4,    0.679,3,    0.351,6,-999,9,-999,9,   2242.8,2,   2297.6,2,   7.4992,2,    25.00,     -999,9,     -999,9,   9.5642,2
  49UP20110515,   P13,   103,  1,     26,      99,2,20110724,1655,1914, 10.0047, 163.9663, 4992,    374.0,      372,   9.1877,  34.5703,2,     52.8,2,  34.5693,2,    52.44,2,    37.98,2,    33.43,2,     0.00,2,    2.410,2,    0.549,3,    0.290,2,-89.4,2,0.1,2,   2244.0,2,   2300.9,2,   7.4885,2,    25.00,     -999,9,     -999,9,   9.1882,2
  49UP20110515,   P13,   103,  1,     25,      98,2,20110724,1655,1911, 10.0047, 163.9663, 4992,    474.8,      472,   7.9562,  34.5381,2,     57.4,2,  34.5369,2,    56.94,2,    46.59,2,    35.19,2,     0.00,2,    2.550,2,    0.335,3,    0.161,2,-113.3,2,0.1,2,   2254.6,2,   2309.5,2,   7.4781,2,    25.00,     -999,9,     -999,9,   7.9571,2
  49UP20110515,   P13,   103,  1,     24,      97,2,20110724,1655,1905, 10.0047, 163.9663, 4992,    574.5,      570,   7.1741,  34.5327,2,     54.6,2,  34.5323,2,    54.76,2,    54.10,6,    36.92,6,     0.00,6,    2.690,6,    0.155,3,    0.078,2,-124.5,2,0.1,2,   2270.4,2,   2317.9,2,   7.4628,2,    25.00,     -999,9,     -999,9,   7.1745,2
  49UP20110515,   P13,   103,  1,     23,      96,2,20110724,1655,1901, 10.0047, 163.9663, 4992,    677.0,      672,   6.4483,  34.5250,2,     58.5,2,  34.5245,2,    58.22,2,    62.37,2,    37.99,2,     0.00,2,    2.750,2,    0.085,3,    0.049,2,-139.5,2,0.1,2,   2277.4,2,   2326.6,2,   7.4595,2,    25.00,     -999,9,     -999,9,   6.4489,2
  49UP20110515,   P13,   103,  1,     22,      95,2,20110724,1655,1858, 10.0047, 163.9663, 4992,    776.8,      771,   5.7475,  34.5307,2,     62.5,2,  34.5300,6,    62.47,2,    71.88,2,    38.95,2,     0.00,2,    2.820,2,    0.033,3,    0.025,2,-162.5,2,0.1,2,   2293.9,2,   2336.2,2,   7.4560,2,    25.00,     -999,9,     -999,9,   5.7479,2
  49UP20110515,   P13,   103,  1,     21,      94,2,20110724,1655,1853, 10.0047, 163.9663, 4992,    880.0,      873,   5.2442,  34.5362,2,     62.9,2,  34.5360,2,    62.72,6,    80.43,2,    39.71,2,     0.00,2,    2.880,2,    0.000,3,    0.007,2,-169.6,2,0.1,2,   2301.1,2,   2345.2,2,   7.4545,2,    25.00,     -999,9,     -999,9,   5.2444,2
  49UP20110515,   P13,   103,  1,     20,      93,2,20110724,1655,1843, 10.0047, 163.9663, 4992,    978.2,      970,   4.8776,  34.5412,2,     64.0,2,  34.5412,2,    63.92,2,    87.40,2,    40.07,2,     0.00,2,    2.900,2,    0.003,3,    0.010,2,-181.5,2,0.1,2,   2308.2,2,   2354.9,2,   7.4547,2,    25.00,     -999,9,     -999,9,   4.8774,2
  49UP20110515,   P13,   103,  1,     19,      92,2,20110724,1655,1837, 10.0047, 163.9663, 4992,   1141.1,     1132,   4.2913,  34.5560,2,     74.3,2,  34.5560,2,    74.34,2,    97.60,6,    39.72,6,     0.00,6,    2.840,6,    0.000,3,    0.004,2,-194.9,2,0.0,2,   2313.4,2,   2366.3,2,   7.4639,2,    25.00,     -999,9,     -999,9,   4.2909,2
  49UP20110515,   P13,   103,  1,     18,      91,2,20110724,1655,1832, 10.0047, 163.9663, 4992,   1343.8,     1332,   3.4969,  34.5781,2,     80.9,2,  34.5783,2,    81.37,2,   114.44,2,    39.91,2,     0.00,2,    2.840,2,     -999,9,     -999,9,-222.8,2,-0.0,2,   2325.6,2,   2381.9,2,   7.4712,2,    25.00,     -999,9,     -999,9,   3.4969,2
  49UP20110515,   P13,   103,  1,     17,      90,2,20110724,1655,1823, 10.0047, 163.9663, 4992,   1548.1,     1534,   2.9026,  34.5983,2,     87.0,2,  34.5996,2,    87.14,2,   128.28,2,    39.98,2,     0.00,2,    2.840,2,     -999,9,     -999,9,-999,9,-999,9,   2331.8,6,   2396.2,6,   7.4794,2,    25.00,     -999,9,     -999,9,   2.9027,2
  49UP20110515,   P13,   103,  1,     16,      89,2,20110724,1655,1818, 10.0047, 163.9663, 4992,   1745.6,     1729,   2.5132,  34.6178,2,     96.6,2,  34.6182,2,    96.75,2,   135.73,2,    39.48,2,     0.00,2,    2.820,2,     -999,9,     -999,9,-234.6,2,-0.0,2,   2342.6,2,   2404.6,2,   7.4917,2,    25.00,     -999,9,     -999,9,   2.5132,2
  49UP20110515,   P13,   103,  1,     15,      88,2,20110724,1655,1814, 10.0047, 163.9663, 4992,   1948.3,     1928,   2.2620,  34.6320,2,    102.6,2,  34.6322,2,   102.83,2,   141.14,2,    39.22,2,     0.00,2,    2.790,2,     -999,9,     -999,9,-999,9,-999,9,   2347.4,2,   2412.6,2,   7.5027,2,    25.00,     -999,9,     -999,9,   2.2611,2
  49UP20110515,   P13,   103,  1,     14,      87,2,20110724,1655,1806, 10.0047, 163.9663, 4992,   2153.0,     2130,   2.0929,  34.6431,2,    108.0,2,  34.6438,2,   108.23,6,   144.53,2,    38.93,2,     0.00,2,    2.760,2,     -999,9,     -999,9,-238.2,2,-0.0,2,   2348.8,2,   2415.2,2,   7.5091,2,    25.00,     -999,9,     -999,9,   2.0927,2
  49UP20110515,   P13,   103,  1,     13,      86,2,20110724,1655,1801, 10.0047, 163.9663, 4992,   2356.8,     2330,   1.9313,  34.6526,2,    114.7,2,  34.6537,6,   114.54,2,   146.91,2,    38.51,2,     0.00,2,    2.720,2,    0.000,3,    0.000,2,-999,9,-999,9,   2346.9,2,   2419.5,2,   7.5211,2,    25.00,     -999,9,     -999,9,   1.9310,2
  49UP20110515,   P13,   103,  1,     12,      74,2,20110724,1655,1753, 10.0047, 163.9663, 4992,   2560.6,     2531,   1.8356,  34.6588,2,    119.8,2,  34.6593,2,   120.08,2,   148.64,6,    38.19,6,     0.00,6,    2.690,6,     -999,9,     -999,9,-237.1,2,-0.0,2,   2345.7,2,   2421.3,2,   7.5292,2,    25.00,     -999,9,     -999,9,   1.8356,2
  49UP20110515,   P13,   103,  1,     11,     110,2,20110724,1655,1747, 10.0047, 163.9663, 4992,   2764.9,     2731,   1.7521,  34.6648,2,    125.1,2,  34.6657,2,   125.19,2,   149.26,2,    37.90,2,     0.00,2,    2.660,2,     -999,9,     -999,9,-999,9,-999,9,   2345.0,2,   2421.6,2,   7.5379,2,    25.00,     -999,9,     -999,9,   1.7522,2
  49UP20110515,   P13,   103,  1,     10,      83,2,20110724,1655,1743, 10.0047, 163.9663, 4992,   2969.2,     2932,   1.6853,  34.6691,2,    129.9,2,  34.6701,2,   130.17,2,   149.69,2,    37.58,2,     0.00,2,    2.650,2,     -999,9,     -999,9,-241.7,2,0.0,2,   2342.8,2,   2420.6,2,   7.5464,2,    25.00,     -999,9,     -999,9,   1.6854,2
  49UP20110515,   P13,   103,  1,      9,      82,2,20110724,1655,1735, 10.0047, 163.9663, 4992,   3214.6,     3172,   1.6138,  34.6742,2,    136.5,2,  34.6756,2,   136.25,2,   149.20,2,    37.13,2,     0.00,2,    2.610,2,     -999,9,     -999,9,-999,9,-999,9,   2335.7,2,   2420.4,2,   7.5591,2,    25.00,     -999,9,     -999,9,   1.6136,2
  49UP20110515,   P13,   103,  1,      8,      81,2,20110724,1655,1729, 10.0047, 163.9663, 4992,   3469.9,     3422,   1.5264,  34.6802,2,    145.4,2,  34.6810,2,   145.54,6,   147.24,2,    36.56,2,     0.00,2,    2.560,2,    0.000,3,    0.000,2,-239.0,2,0.1,2,   2327.7,2,   2417.3,2,   7.5677,2,    25.00,     -999,9,     -999,9,   1.5266,2
  49UP20110515,   P13,   103,  1,      7,      80,2,20110724,1655,1724, 10.0047, 163.9663, 4992,   3724.5,     3671,   1.4868,  34.6843,2,    151.3,2,  34.6851,2,   151.75,2,   145.32,2,    36.13,2,     0.00,2,    2.530,2,     -999,9,     -999,9,-999,9,-999,9,   2316.2,2,   2415.0,2,   7.5753,2,    25.00,     -999,9,     -999,9,   1.4870,2
  49UP20110515,   P13,   103,  1,      6,      79,2,20110724,1655,1718, 10.0047, 163.9663, 4992,   3981.0,     3922,   1.4514,  34.6885,2,    159.3,2,  34.6887,2,   159.39,2,   141.39,2,    35.59,2,     0.00,2,    2.490,2,     -999,9,     -999,9,-218.3,2,0.2,2,   2314.3,2,   2410.8,2,   7.5839,2,    25.00,     -999,9,     -999,9,   1.4515,2
  49UP20110515,   P13,   103,  1,      5,      78,2,20110724,1655,1713, 10.0047, 163.9663, 4992,   4236.2,     4171,   1.4343,  34.6918,2,    164.9,2,  34.6916,2,   165.02,2,   138.19,2,    35.17,2,     0.00,2,    2.460,2,     -999,9,     -999,9,-999,9,-999,9,   2305.9,2,   2405.6,2,   7.5867,2,    25.00,     -999,9,     -999,9,   1.4342,2
  49UP20110515,   P13,   103,  1,      4,      77,2,20110724,1655,1708, 10.0047, 163.9663, 4992,   4493.7,     4422,   1.4240,  34.6946,2,    170.1,2,  34.6949,6,   170.31,2,   135.25,2,    34.74,2,     0.00,2,    2.420,2,    0.000,3,    0.006,2,-197.6,2,0.3,2,   2301.4,2,   2402.4,2,   7.5944,2,    25.00,     -999,9,     -999,9,   1.4241,2
  49UP20110515,   P13,   103,  1,      3,      76,2,20110724,1655,1702, 10.0047, 163.9663, 4992,   4749.2,     4670,   1.3993,  34.6982,2,    177.2,2,  34.6983,2,   177.15,2,   131.27,2,    34.22,2,     0.00,2,    2.390,2,    0.000,3,    0.007,2,-999,9,-999,9,   2297.6,2,   2396.2,2,   7.5989,2,    25.00,     -999,9,     -999,9,   1.3992,2
  49UP20110515,   P13,   103,  1,      2,      75,2,20110724,1655,1658, 10.0047, 163.9663, 4992,   5005.6,     4920,   1.3828,  34.7011,2,    182.8,2,  34.7019,2,   182.97,2,   128.40,2,    33.85,2,     0.00,2,    2.360,2,    0.000,3,    0.000,2,-186.1,2,0.3,2,   2282.4,3,   2390.0,2,   7.6029,2,    25.00,     -999,9,     -999,9,   1.3830,2
  49UP20110515,   P13,   103,  1,      1,     112,2,20110724,1655,1656, 10.0047, 163.9663, 4992,   5058.2,     4971,   1.3873,  34.7012,2,    183.1,2,  34.7014,2,   183.15,2,   128.19,2,    33.82,2,     0.00,2,    2.360,2,    0.050,3,    0.002,6,-177.4,2,0.4,2,   2292.6,2,   2391.5,2,   7.6012,2,    25.00,     -999,9,     -999,9,   1.3872,2