BOTTLE,20240116CCHSIOVAJ
EXPOCODE,SECT_ID,STNNBR,CASTNO,SAMPNO,BTLNBR,BTLNBR_FLAG_W,DATE,TIME,BTL_TIME,LATITUDE,LONGITUDE,DEPTH,CTDPRS,CTDDEPTH,CTDTMP,CTDSAL,CTDSAL_FLAG_W,CTDOXY,CTDOXY_FLAG_W,SALNTY,SALNTY_FLAG_W,OXYGEN,OXYGEN_FLAG_W,SILCAT,SILCAT_FLAG_W,NO2+NO3,NO2+NO3_FLAG_W,NITRIT,NITRIT_FLAG_W,PHSPHT,PHSPHT_FLAG_W,CFC-11,CFC-11_FLAG_W,CFC-12,CFC-12_FLAG_W,DELC14,DELC14_FLAG_W,DELC13,DELC13_FLAG_W,TCARBN,TCARBN_FLAG_W,ALKALI,ALKALI_FLAG_W,PH_TOT,PH_TOT_FLAG_W,PH_TMP,CHLORA,CHLORA_FLAG_W,PPHYTN,PPHYTN_FLAG_W,REFTMP,REFTMP_FLAG_W
,,,,,,,,,,,,METERS,DBAR,METERS,ITS-90,PSS-78,,UMOL/KG,,PSS-78,,UMOL/KG,,UMOL/KG,,UMOL/KG,,UMOL/KG,,UMOL/KG,,PMOL/KG,,PMOL/KG,,/MILLE,,/MILLE,,UMOL/KG,,UMOL/KG,,,,DEG C,UG/KG,,UG/KG,,ITS-90,
  49UP20110515,   P13,   136,  1,      0,     BUC,2,20110811,0838,1025, -3.0113, 164.9843, 4109,      0.0,        0,  29.7386,  34.6799,2,    194.8,2,     -999,9,   193.99,2,     0.95,2,     0.09,2,     0.00,2,    0.150,2,     -999,9,     -999,9,-999,9,-999,9,     -999,9,     -999,9,     -999,9,     -999,     0.08,2,     0.03,2,     -999,9
  49UP20110515,   P13,   136,  1,     36,     109,2,20110811,0838,1045, -3.0113, 164.9843, 4109,     11.4,       11,  29.7831,  34.6809,2,    194.6,2,  34.6915,4,   194.05,2,     0.90,2,     0.07,2,     0.00,2,    0.140,2,    1.658,3,    1.005,2,-999,9,-999,9,   1939.0,2,   2279.4,2,   8.1205,6,    25.00,     0.07,2,     0.03,2,  29.7806,2
  49UP20110515,   P13,   136,  1,     35,     108,2,20110811,0838,1043, -3.0113, 164.9843, 4109,     25.5,       25,  29.7658,  35.1477,2,    197.2,2,  35.1647,4,   196.39,2,     0.99,2,     0.07,2,     0.00,2,    0.180,2,    1.731,3,    1.009,2,-999,9,-999,9,   1967.3,6,   2310.3,6,   8.1092,2,    25.00,     0.09,2,     0.05,2,  29.7662,2
  49UP20110515,   P13,   136,  1,     34,     107,2,20110811,0838,1042, -3.0113, 164.9843, 4109,     50.6,       50,  29.5970,  35.2202,2,    196.7,2,  35.2203,2,   196.04,6,     1.09,2,     0.05,2,     0.00,2,    0.190,2,    1.646,3,    1.004,2,-999,9,-999,9,   1976.6,2,   2315.2,2,   8.1036,2,    25.00,     0.18,2,     0.13,2,  29.5963,2
  49UP20110515,   P13,   136,  1,     33,     106,2,20110811,0838,1040, -3.0113, 164.9843, 4109,     76.1,       76,  29.5047,  35.2675,2,    192.2,2,  35.2661,6,   191.60,2,     0.99,2,     0.32,2,     0.02,2,    0.220,2,    1.658,3,    1.013,2,-999,9,-999,9,   1983.0,2,   2316.9,2,   8.1001,2,    25.00,     0.29,2,     0.24,2,  29.5043,2
  49UP20110515,   P13,   136,  1,     32,     105,2,20110811,0838,1039, -3.0113, 164.9843, 4109,    102.4,      102,  28.9617,  35.6055,2,    183.2,2,  35.5987,4,   182.48,2,     1.20,2,     2.22,2,     0.47,2,    0.410,2,    1.696,3,    1.048,2,-999,9,-999,9,   2017.6,2,   2340.3,2,   8.0660,2,    25.00,     0.20,2,     0.28,2,  28.9628,2
  49UP20110515,   P13,   136,  1,     31,     104,2,20110811,0838,1037, -3.0113, 164.9843, 4109,    126.2,      125,  28.3937,  35.6666,2,    176.1,2,  35.6650,2,   175.91,2,     1.27,6,     4.65,6,     2.09,6,    0.510,6,    1.641,3,    1.067,6,-999,9,-999,9,   2034.0,2,   2341.8,2,   8.0465,2,    25.00,     0.11,2,     0.13,2,  28.3952,2
  49UP20110515,   P13,   136,  1,     30,     103,2,20110811,0838,1034, -3.0113, 164.9843, 4109,    146.1,      145,  27.5044,  35.6248,2,    169.7,2,  35.6222,2,   170.18,2,     1.52,2,     6.27,2,     0.46,2,    0.600,2,    1.655,3,    1.076,2,-999,9,-999,9,   2046.9,2,   2338.4,2,   8.0171,2,    25.00,     0.07,2,     0.06,2,  27.5027,2
  49UP20110515,   P13,   136,  1,     29,     102,2,20110811,0838,1031, -3.0113, 164.9843, 4109,    203.6,      202,  19.6657,  35.6137,2,    119.8,2,  35.6196,2,   119.90,2,     4.11,2,    13.01,2,     0.01,2,    1.110,2,    2.017,3,    1.267,2,-999,9,-999,9,   2139.9,2,   2344.2,2,   7.8345,6,    25.00,     0.00,2,     0.02,2,  19.6627,2
  49UP20110515,   P13,   136,  1,     28,     101,2,20110811,0838,1029, -3.0113, 164.9843, 4109,    251.8,      250,  11.7275,  34.8843,2,    100.2,2,  34.8827,2,    99.97,2,    16.19,6,    24.71,6,     0.00,6,    1.800,6,    1.269,3,    0.698,2,-999,9,-999,9,   2192.4,2,   2306.9,6,   7.6459,2,    25.00,     -999,9,     -999,9,  11.7229,2
  49UP20110515,   P13,   136,  1,     27,     100,2,20110811,0838,1027, -3.0113, 164.9843, 4109,    332.7,      331,   9.6517,  34.7173,2,    106.9,2,  34.7173,2,   106.38,2,    22.92,2,    28.42,2,     0.00,2,    1.970,2,    0.971,3,    0.507,6,-999,9,-999,9,   2202.9,2,   2300.2,2,   7.6154,2,    25.00,     -999,9,     -999,9,   9.6517,2
  49UP20110515,   P13,   136,  1,     26,      99,2,20110811,0838,1025, -3.0113, 164.9843, 4109,    383.2,      381,   8.9881,  34.6710,2,     89.5,2,  34.6693,2,    89.20,2,    27.72,2,    31.46,2,     0.00,2,    2.180,2,    0.663,3,    0.335,2,-999,9,-999,9,   2221.3,2,   2301.2,2,   7.5568,2,    25.00,     -999,9,     -999,9,   8.9889,2
  49UP20110515,   P13,   136,  1,     25,      98,2,20110811,0838,1025, -3.0113, 164.9843, 4109,    383.2,      381,   8.9881,  34.6710,2,     89.5,2,  34.6682,2,    89.39,2,    27.73,2,    31.60,2,     0.00,2,    2.180,2,    0.684,3,    0.337,2,-999,9,-999,9,   2223.8,2,   2302.9,2,   7.5587,2,    25.00,     -999,9,     -999,9,   8.9889,2
  49UP20110515,   P13,   136,  1,     24,      97,2,20110811,0838,1021, -3.0113, 164.9843, 4109,    433.3,      430,   8.5605,  34.6427,2,     95.2,2,  34.6402,2,    94.43,2,    29.23,2,    32.08,2,     0.00,2,    2.210,2,    0.624,3,    0.301,2,-999,9,-999,9,   2221.3,2,   2302.7,2,   7.5601,2,    25.00,     -999,9,     -999,9,   8.5600,2
  49UP20110515,   P13,   136,  1,     23,      96,2,20110811,0838,1018, -3.0113, 164.9843, 4109,    534.9,      531,   7.4325,  34.5836,2,     89.7,2,  34.5821,2,    89.15,6,    36.83,2,    34.96,2,     0.00,2,    2.410,2,    0.361,3,    0.166,2,-999,9,-999,9,   2235.1,2,   2307.1,2,   7.5226,2,    25.00,     -999,9,     -999,9,   7.4329,2
  49UP20110515,   P13,   136,  1,     22,      95,2,20110811,0838,1014, -3.0113, 164.9843, 4109,    634.9,      630,   6.3373,  34.5495,2,     82.7,2,  34.5500,6,    81.29,2,    49.43,2,    37.80,2,     0.00,2,    2.650,2,    0.160,3,    0.062,2,-999,9,-999,9,   2257.4,2,   2315.9,2,   7.4924,2,    25.00,     -999,9,     -999,9,   6.3383,2
  49UP20110515,   P13,   136,  1,     21,      94,2,20110811,0838,1010, -3.0113, 164.9843, 4109,    736.3,      731,   5.5386,  34.5353,2,     93.9,2,  34.5340,2,    94.59,2,    59.33,2,    37.84,2,     0.00,2,    2.660,2,    0.076,3,    0.023,2,-999,9,-999,9,   2264.4,2,   2326.9,2,   7.5033,2,    25.00,     -999,9,     -999,9,   5.5395,2
  49UP20110515,   P13,   136,  1,     20,      93,2,20110811,0838,1007, -3.0113, 164.9843, 4109,    837.4,      831,   5.0040,  34.5397,2,     92.4,2,  34.5385,2,    93.65,2,    69.72,2,    38.58,2,     0.00,2,    2.710,2,    0.040,3,    0.001,2,-999,9,-999,9,   2279.9,2,   2338.1,2,   7.4951,2,    25.00,     -999,9,     -999,9,   5.0042,2
  49UP20110515,   P13,   136,  1,     19,      92,2,20110811,0838,1004, -3.0113, 164.9843, 4109,    938.3,      931,   4.5278,  34.5455,2,    100.4,2,  34.5461,2,   101.48,2,    78.58,2,    38.04,2,     0.00,2,    2.680,2,    0.039,3,    0.008,2,-999,9,-999,9,   2279.1,2,   2347.9,2,   7.5055,2,    25.00,     -999,9,     -999,9,   4.5278,2
  49UP20110515,   P13,   136,  1,     18,      91,3,20110811,0838,1004, -3.0113, 164.9843, 4109,    938.3,      931,   4.5278,  34.5455,2,    100.4,2,  34.5455,2,   100.22,4,    78.61,2,    38.02,2,     0.00,2,    2.680,2,    0.037,3,    0.002,2,-999,9,-999,9,   2282.4,2,   2348.1,2,   7.5036,2,    25.00,     -999,9,     -999,9,   4.5278,2
  49UP20110515,   P13,   136,  1,     17,      90,2,20110811,0838,0952, -3.0113, 164.9843, 4109,   1080.6,     1072,   4.0859,  34.5563,2,    102.5,2,  34.5551,2,   102.32,2,    88.11,2,    38.29,2,     0.00,2,    2.700,2,    0.024,3,    0.000,2,-999,9,-999,9,   2294.8,2,   2359.3,2,   7.5047,2,    25.00,     -999,9,     -999,9,   4.0861,2
  49UP20110515,   P13,   136,  1,     16,      89,2,20110811,0838,0947, -3.0113, 164.9843, 4109,   1282.0,     1271,   3.5332,  34.5753,2,    105.9,2,  34.5737,2,   105.62,2,   100.44,2,    38.45,2,     0.00,2,    2.720,2,    0.000,3,    0.000,2,-999,9,-999,9,   2308.9,2,   2372.4,2,   7.5106,2,    25.00,     -999,9,     -999,9,   3.5333,2
  49UP20110515,   P13,   136,  1,     15,      88,2,20110811,0838,0939, -3.0113, 164.9843, 4109,   1484.5,     1471,   3.0329,  34.5976,2,    108.4,2,  34.5971,2,   108.16,6,   113.51,2,    38.59,2,     0.00,2,    2.710,2,    0.004,3,    0.000,2,-999,9,-999,9,   2320.3,2,   2386.2,2,   7.5170,2,    25.00,     -999,9,     -999,9,   3.0333,2
  49UP20110515,   P13,   136,  1,     14,      87,2,20110811,0838,0932, -3.0113, 164.9843, 4109,   1686.8,     1671,   2.6986,  34.6144,2,    109.6,2,  34.6128,2,   109.75,2,   122.79,6,    38.67,6,     0.00,6,    2.720,6,    0.001,3,    0.000,2,-999,9,-999,9,   2330.2,2,   2396.6,2,   7.5168,2,    25.00,     -999,9,     -999,9,   2.6984,2
  49UP20110515,   P13,   136,  1,     13,      86,2,20110811,0838,0928, -3.0113, 164.9843, 4109,   1889.6,     1871,   2.3979,  34.6289,2,    116.9,2,  34.6294,2,   117.39,2,   128.54,2,    38.11,2,     0.00,2,    2.680,2,     -999,9,     -999,9,-999,9,-999,9,   2327.3,2,   2402.8,2,   7.5272,2,    25.00,     -999,9,     -999,9,   2.3980,2
  49UP20110515,   P13,   136,  1,     12,      74,2,20110811,0838,0921, -3.0113, 164.9843, 4109,   2093.7,     2072,   2.1803,  34.6411,2,    120.4,2,  34.6418,2,   120.59,2,   133.74,2,    38.15,2,     0.00,2,    2.650,2,     -999,9,     -999,9,-999,9,-999,9,   2332.8,2,   2410.4,6,   7.5335,2,    25.00,     -999,9,     -999,9,   2.1800,2
  49UP20110515,   P13,   136,  1,     11,     110,2,20110811,0838,0917, -3.0113, 164.9843, 4109,   2295.8,     2271,   2.0307,  34.6491,2,    125.0,2,  34.6482,6,   124.83,2,   137.43,2,    37.84,2,     0.00,2,    2.640,2,     -999,9,     -999,9,-999,9,-999,9,   2329.6,3,   2411.7,2,   7.5421,2,    25.00,     -999,9,     -999,9,   2.0308,2
  49UP20110515,   P13,   136,  1,     10,      83,2,20110811,0838,0913, -3.0113, 164.9843, 4109,   2500.7,     2472,   1.8900,  34.6569,2,    128.7,2,  34.6582,2,   129.07,2,   140.31,2,    37.62,2,     0.00,2,    2.610,2,     -999,9,     -999,9,-999,9,-999,9,   2336.6,2,   2414.8,2,   7.5459,2,    25.00,     -999,9,     -999,9,   1.8899,2
  49UP20110515,   P13,   136,  1,      9,      82,2,20110811,0838,0909, -3.0113, 164.9843, 4109,   2703.7,     2672,   1.7525,  34.6645,2,    132.4,2,  34.6653,2,   132.23,2,   143.32,2,    37.45,2,     0.00,2,    2.590,2,     -999,9,     -999,9,-999,9,-999,9,   2332.7,2,   2417.7,2,   7.5515,2,    25.00,     -999,9,     -999,9,   1.7527,2
  49UP20110515,   P13,   136,  1,      8,      81,2,20110811,0838,0905, -3.0113, 164.9843, 4109,   2906.5,     2871,   1.7231,  34.6666,2,    134.2,2,  34.6663,2,   134.48,2,   144.30,2,    37.20,2,     0.00,2,    2.590,2,     -999,9,     -999,9,-999,9,-999,9,   2329.8,2,   2417.9,2,   7.5545,2,    25.00,     -999,9,     -999,9,   1.7231,2
  49UP20110515,   P13,   136,  1,      7,      80,2,20110811,0838,0900, -3.0113, 164.9843, 4109,   3120.9,     3081,   1.6504,  34.6714,2,    139.0,2,  34.6717,2,   139.34,2,   144.79,2,    37.04,2,     0.00,2,    2.560,2,    0.049,3,    0.000,2,-999,9,-999,9,   2331.0,2,   2419.1,2,   7.5624,2,    25.00,     -999,9,     -999,9,   1.6504,2
  49UP20110515,   P13,   136,  1,      6,      79,2,20110811,0838,0855, -3.0113, 164.9843, 4109,   3376.4,     3331,   1.5056,  34.6810,2,    150.3,2,  34.6809,2,   150.50,6,   143.17,2,    36.34,2,     0.00,2,    2.500,2,     -999,9,     -999,9,-999,9,-999,9,   2315.9,2,   2416.4,2,   7.5780,2,    25.00,     -999,9,     -999,9,   1.5056,2
  49UP20110515,   P13,   136,  1,      5,      78,2,20110811,0838,0850, -3.0113, 164.9843, 4109,   3632.0,     3581,   1.4785,  34.6847,2,    155.3,2,  34.6840,2,   155.17,2,   141.38,2,    36.03,2,     0.00,2,    2.480,2,     -999,9,     -999,9,-999,9,-999,9,   2320.9,2,   2414.7,2,   7.5818,2,    25.00,     -999,9,     -999,9,   1.4785,2
  49UP20110515,   P13,   136,  1,      4,      77,2,20110811,0838,0845, -3.0113, 164.9843, 4109,   3887.7,     3831,   1.4399,  34.6894,2,    162.4,2,  34.6893,2,   162.33,2,   138.71,2,    35.50,2,     0.00,2,    2.440,2,     -999,9,     -999,9,-999,9,-999,9,   2309.8,3,   2411.3,2,   7.5865,2,    25.00,     -999,9,     -999,9,   1.4399,2
  49UP20110515,   P13,   136,  1,      3,      76,2,20110811,0838,0840, -3.0113, 164.9843, 4109,   4143.1,     4080,   1.3938,  34.6941,2,    170.7,2,  34.6945,2,   170.44,2,   134.03,2,    34.89,2,     0.00,2,    2.380,2,     -999,9,     -999,9,-999,9,-999,9,   2304.6,2,   2404.3,2,   7.5994,3,    25.00,     -999,9,     -999,9,   1.3934,2
  49UP20110515,   P13,   136,  1,      2,      75,2,20110811,0838,0840, -3.0113, 164.9843, 4109,   4143.1,     4080,   1.3938,  34.6941,2,    170.7,2,  34.6943,6,   170.78,2,   134.54,2,    34.88,2,     0.00,2,    2.390,2,     -999,9,     -999,9,-999,9,-999,9,   2304.0,2,   2405.1,2,   7.5998,3,    25.00,     -999,9,     -999,9,   1.3934,2
  49UP20110515,   P13,   136,  1,      1,     112,2,20110811,0838,0838, -3.0113, 164.9843, 4109,   4160.8,     4098,   1.3808,  34.6952,2,    172.3,2,  34.6957,2,   171.82,2,   133.86,6,    34.81,6,     0.00,6,    2.380,6,    0.056,3,    0.000,2,-999,9,-999,9,   2302.1,2,   2403.8,2,   7.5949,2,    25.00,     -999,9,     -999,9,   1.3809,2