BOTTLE,20240116CCHSIOVAJ
EXPOCODE,SECT_ID,STNNBR,CASTNO,SAMPNO,BTLNBR,BTLNBR_FLAG_W,DATE,TIME,BTL_TIME,LATITUDE,LONGITUDE,DEPTH,CTDPRS,CTDDEPTH,CTDTMP,CTDSAL,CTDSAL_FLAG_W,CTDOXY,CTDOXY_FLAG_W,SALNTY,SALNTY_FLAG_W,OXYGEN,OXYGEN_FLAG_W,SILCAT,SILCAT_FLAG_W,NO2+NO3,NO2+NO3_FLAG_W,NITRIT,NITRIT_FLAG_W,PHSPHT,PHSPHT_FLAG_W,CFC-11,CFC-11_FLAG_W,CFC-12,CFC-12_FLAG_W,DELC14,DELC14_FLAG_W,DELC13,DELC13_FLAG_W,TCARBN,TCARBN_FLAG_W,ALKALI,ALKALI_FLAG_W,PH_TOT,PH_TOT_FLAG_W,PH_TMP,CHLORA,CHLORA_FLAG_W,PPHYTN,PPHYTN_FLAG_W,REFTMP,REFTMP_FLAG_W
,,,,,,,,,,,,METERS,DBAR,METERS,ITS-90,PSS-78,,UMOL/KG,,PSS-78,,UMOL/KG,,UMOL/KG,,UMOL/KG,,UMOL/KG,,UMOL/KG,,PMOL/KG,,PMOL/KG,,/MILLE,,/MILLE,,UMOL/KG,,UMOL/KG,,,,DEG C,UG/KG,,UG/KG,,ITS-90,
  49UP20110515,   P13,    54,  1,      0,     BUC,2,20110621,0848,1100, 41.0055, 165.0395, 5337,      0.0,        0,  11.3359,  34.0131,2,    276.3,2,     -999,9,   276.50,2,    14.01,2,     8.08,2,     0.15,2,    0.680,2,     -999,9,     -999,9,-999,9,-999,9,     -999,9,     -999,9,     -999,9,     -999,     0.46,2,     0.06,2,     -999,9
  49UP20110515,   P13,    54,  1,     36,     109,2,20110621,0848,1135, 41.0055, 165.0395, 5337,     11.3,       11,  11.3386,  34.0162,2,    276.3,2,  34.0138,2,   276.95,2,    14.19,2,     8.09,2,     0.15,2,    0.680,2,    3.596,2,    1.938,2,-999,9,-999,9,   2058.0,2,   2264.4,2,   7.8869,2,    25.00,     0.44,2,     0.06,2,  11.3390,2
  49UP20110515,   P13,    54,  1,     35,     108,2,20110621,0848,1130, 41.0055, 165.0395, 5337,     49.3,       49,  11.2451,  34.0530,2,    275.0,2,  34.0499,2,   275.84,6,    14.28,6,     8.25,6,     0.16,6,    0.680,6,    3.566,2,    1.962,2,-999,9,-999,9,   2059.9,2,   2264.8,2,   7.8774,2,    25.00,     0.50,2,     0.09,2,  11.2460,2
  49UP20110515,   P13,    54,  1,     34,     107,2,20110621,0848,1127, 41.0055, 165.0395, 5337,    102.6,      102,   8.6822,  33.9731,2,    255.5,2,  33.9722,2,   255.38,2,    21.26,2,    14.27,2,     0.03,2,    1.070,2,    3.546,2,    2.022,2,-999,9,-999,9,   2100.4,2,   2263.1,2,   7.7883,6,    25.00,     0.09,2,     0.06,2,   8.6706,2
  49UP20110515,   P13,    54,  1,     33,     106,2,20110621,0848,1125, 41.0055, 165.0395, 5337,    151.3,      150,   7.6424,  33.9306,2,    248.3,2,  33.9378,2,   245.85,2,    26.58,3,    16.99,2,     0.01,2,    1.250,2,    3.510,2,    2.014,2,-999,9,-999,9,   2116.9,2,   2265.8,2,   7.7435,2,    25.00,     0.02,2,     0.05,2,   7.6419,2
  49UP20110515,   P13,    54,  1,     32,     105,2,20110621,0848,1122, 41.0055, 165.0395, 5337,    202.9,      201,   6.8731,  33.8579,2,    244.0,2,  33.8568,6,   244.42,2,    30.83,2,    18.79,6,     0.01,6,    1.400,6,    3.522,2,    2.058,2,-999,9,-999,9,   2136.0,2,   2264.0,2,   7.7109,2,    25.00,     0.00,2,     0.05,2,   6.8864,2
  49UP20110515,   P13,    54,  1,     31,     104,2,20110621,0848,1120, 41.0055, 165.0395, 5337,    254.0,      252,   5.5549,  33.7917,2,    193.7,2,  33.8051,4,   192.27,2,    48.02,2,    26.09,2,     0.01,2,    1.920,2,    3.497,6,    1.882,6,-999,9,-999,9,   2182.5,6,   2273.2,6,   7.5901,2,    25.00,     -999,9,     -999,9,   5.5537,2
  49UP20110515,   P13,    54,  1,     30,     103,3,20110621,0848,1117, 41.0055, 165.0395, 5337,    283.6,      281,   5.4412,  33.8624,2,    164.5,2,  33.8596,2,   165.05,2,    56.72,2,    28.92,2,     0.01,2,    2.110,2,    3.131,2,    1.671,2,-999,9,-999,9,   2209.9,2,   2280.1,2,   7.5379,2,    25.00,     -999,9,     -999,9,   5.4387,2
  49UP20110515,   P13,    54,  1,     29,     102,2,20110621,0848,1114, 41.0055, 165.0395, 5337,    373.0,      370,   4.4837,  33.9207,2,    116.1,2,  33.9223,2,   116.56,2,    77.10,2,    35.00,2,     0.01,2,    2.540,2,    2.412,2,    1.333,2,-999,9,-999,9,   2261.3,2,   2297.6,2,   7.4353,2,    25.00,     -999,9,     -999,9,   4.4850,2
  49UP20110515,   P13,    54,  1,     28,     101,2,20110621,0848,1114, 41.0055, 165.0395, 5337,    373.0,      370,   4.4837,  33.9207,2,    116.1,2,  33.9222,2,   116.75,2,    77.08,2,    34.98,2,     0.01,2,    2.540,2,    2.412,2,    1.334,2,-999,9,-999,9,   2259.0,2,   2296.3,2,   7.4320,2,    25.00,     -999,9,     -999,9,   4.4850,2
  49UP20110515,   P13,    54,  1,     27,     100,2,20110621,0848,1110, 41.0055, 165.0395, 5337,    474.9,      471,   4.0666,  33.9977,2,     80.7,2,  33.9981,2,    81.08,2,    92.01,2,    38.60,2,     0.00,2,    2.780,2,    2.002,6,    1.028,6,-999,9,-999,9,   2293.4,2,   2310.9,2,   7.3829,2,    25.00,     -999,9,     -999,9,   4.0682,2
  49UP20110515,   P13,    54,  1,     26,      99,2,20110621,0848,1104, 41.0055, 165.0395, 5337,    576.3,      571,   3.8582,  34.1075,2,     57.1,2,  34.1055,6,    57.94,2,   105.15,2,    40.46,2,     0.00,2,    2.910,2,    1.428,2,    0.717,2,-999,9,-999,9,   2319.8,2,   2326.1,2,   7.3406,2,    25.00,     -999,9,     -999,9,   3.8581,2
  49UP20110515,   P13,    54,  1,     25,      98,2,20110621,0848,1100, 41.0055, 165.0395, 5337,    677.9,      672,   3.6546,  34.1770,2,     44.0,2,  34.1756,2,    44.53,6,   115.30,2,    41.65,2,     0.00,2,    2.990,2,    1.030,2,    0.506,2,-999,9,-999,9,   2339.9,2,   2338.4,2,   7.3274,2,    25.00,     -999,9,     -999,9,   3.6539,2
  49UP20110515,   P13,    54,  1,     24,      97,2,20110621,0848,1057, 41.0055, 165.0395, 5337,    779.0,      772,   3.5551,  34.2757,2,     38.8,2,  34.2752,2,    39.36,2,   123.08,2,    42.00,2,     0.00,2,    3.010,2,    0.520,2,    0.268,2,-999,9,-999,9,   2345.5,2,   2355.1,2,   7.3418,2,    25.00,     -999,9,     -999,9,   3.5553,2
  49UP20110515,   P13,    54,  1,     23,      96,2,20110621,0848,1053, 41.0055, 165.0395, 5337,    880.9,      872,   3.2854,  34.3331,2,     34.2,2,  34.3309,2,    34.46,2,   131.88,2,    42.70,2,     0.00,2,    3.050,2,    0.304,2,    0.175,2,-999,9,-999,9,   2362.8,2,   2364.6,2,   7.3418,2,    25.00,     -999,9,     -999,9,   3.2856,2
  49UP20110515,   P13,    54,  1,     22,      95,2,20110621,0848,1049, 41.0055, 165.0395, 5337,    979.1,      969,   3.0822,  34.3707,2,     32.9,2,  34.3707,2,    32.93,2,   138.34,2,    43.02,2,     0.00,2,    3.070,2,    0.231,2,    0.122,2,-999,9,-999,9,   2364.5,2,   2371.4,2,   7.3405,6,    25.00,     -999,9,     -999,9,   3.0822,2
  49UP20110515,   P13,    54,  1,     21,      94,2,20110621,0848,1040, 41.0055, 165.0395, 5337,   1143.4,     1131,   2.7860,  34.4211,2,     32.8,2,  34.4194,2,    32.88,2,   147.55,2,    43.17,2,     0.00,2,    3.090,2,    0.145,2,    0.098,2,-999,9,-999,9,   2378.8,6,   2380.8,6,   7.3412,2,    25.00,     -999,9,     -999,9,   2.7851,2
  49UP20110515,   P13,    54,  1,     20,      93,2,20110621,0848,1035, 41.0055, 165.0395, 5337,   1346.8,     1332,   2.4786,  34.4736,2,     37.3,2,  34.4733,2,    37.27,2,   156.51,6,    43.15,6,     0.00,6,    3.060,2,    0.091,2,    0.063,2,-999,9,-999,9,   2385.6,2,   2390.3,2,   7.3565,2,    25.00,     -999,9,     -999,9,   2.4784,2
  49UP20110515,   P13,    54,  1,     19,      92,2,20110621,0848,1027, 41.0055, 165.0395, 5337,   1548.1,     1530,   2.2628,  34.5154,2,     43.6,2,  34.5150,2,    43.61,2,   162.44,2,    42.81,2,     0.00,2,    3.040,2,    0.023,2,    0.041,2,-999,9,-999,9,   2385.0,2,   2399.8,2,   7.3648,3,    25.00,     -999,9,     -999,9,   2.2622,2
  49UP20110515,   P13,    54,  1,     18,      91,2,20110621,0848,1021, 41.0055, 165.0395, 5337,   1752.0,     1731,   2.0713,  34.5548,2,     52.8,2,  34.5552,2,    52.68,2,   168.16,2,    42.33,2,     0.00,2,    2.990,2,    0.000,2,    0.026,2,-999,9,-999,9,   2385.1,2,   2406.8,2,   7.3919,2,    25.00,     -999,9,     -999,9,   2.0715,2
  49UP20110515,   P13,    54,  1,     17,      90,2,20110621,0848,1013, 41.0055, 165.0395, 5337,   1955.6,     1931,   1.9416,  34.5872,2,     67.8,2,  34.5869,2,    67.48,6,   166.68,2,    41.39,2,     0.00,2,    2.930,2,    0.000,2,    0.022,2,-999,9,-999,9,   2378.3,2,   2410.3,2,   7.4230,2,    25.00,     -999,9,     -999,9,   1.9402,2
  49UP20110515,   P13,    54,  1,     16,      89,2,20110621,0848,1006, 41.0055, 165.0395, 5337,   2159.4,     2132,   1.8405,  34.6065,2,     78.8,2,  34.6068,2,    78.40,2,   167.49,2,    40.70,2,     0.00,2,    2.880,2,    0.000,2,    0.011,2,-999,9,-999,9,   2371.3,2,   2412.2,2,   7.4452,2,    25.00,     -999,9,     -999,9,   1.8403,2
  49UP20110515,   P13,    54,  1,     15,      88,2,20110621,0848,1002, 41.0055, 165.0395, 5337,   2362.1,     2331,   1.7474,  34.6248,2,     91.6,2,  34.6248,2,    91.24,2,   166.18,2,    40.00,2,     0.00,2,    2.810,2,    0.005,2,    0.023,2,-999,9,-999,9,   2368.5,2,   2414.9,2,   7.4695,2,    25.00,     -999,9,     -999,9,   1.7472,2
  49UP20110515,   P13,    54,  1,     14,      87,2,20110621,0848,0953, 41.0055, 165.0395, 5337,   2565.3,     2530,   1.6720,  34.6394,2,    103.9,2,  34.6396,2,   103.45,2,   163.65,2,    39.32,2,     0.00,2,    2.760,2,    0.000,2,    0.010,2,-999,9,-999,9,   2355.1,2,   2414.6,2,   7.4928,2,    25.00,     -999,9,     -999,9,   1.6719,2
  49UP20110515,   P13,    54,  1,     13,      86,2,20110621,0848,0953, 41.0055, 165.0395, 5337,   2565.3,     2530,   1.6720,  34.6394,2,    103.9,2,  34.6398,2,   103.44,2,   163.71,2,    39.21,2,     0.00,2,    2.760,2,     -999,9,     -999,9,-999,9,-999,9,   2354.5,2,   2415.4,2,   7.4949,2,    25.00,     -999,9,     -999,9,   1.6719,2
  49UP20110515,   P13,    54,  1,     12,      85,2,20110621,0848,0948, 41.0055, 165.0395, 5337,   2769.0,     2730,   1.6035,  34.6508,2,    114.3,2,  34.6505,6,   114.16,2,   161.91,2,    38.62,2,     0.00,2,    2.700,2,     -999,9,     -999,9,-999,9,-999,9,   2352.7,2,   2416.2,2,   7.5122,2,    25.00,     -999,9,     -999,9,   1.6035,2
  49UP20110515,   P13,    54,  1,     11,     110,2,20110621,0848,0942, 41.0055, 165.0395, 5337,   2975.0,     2931,   1.5566,  34.6591,2,    122.9,2,  34.6585,2,   122.83,2,   160.34,2,    38.04,2,     0.00,2,    2.660,2,    0.000,2,    0.008,2,-999,9,-999,9,   2350.9,2,   2416.5,2,   7.5252,2,    25.00,     -999,9,     -999,9,   1.5565,2
  49UP20110515,   P13,    54,  1,     10,      83,2,20110621,0848,0937, 41.0055, 165.0395, 5337,   3219.7,     3171,   1.5197,  34.6664,2,    131.2,2,  34.6672,2,   130.97,2,   157.54,3,    37.55,2,     0.00,2,    2.610,2,     -999,9,     -999,9,-999,9,-999,9,   2336.5,2,   2415.9,2,   7.5444,6,    25.00,     -999,9,     -999,9,   1.5194,2
  49UP20110515,   P13,    54,  1,      9,      82,2,20110621,0848,0930, 41.0055, 165.0395, 5337,   3475.0,     3420,   1.4914,  34.6729,2,    138.2,2,  34.6745,2,   137.72,2,   155.96,2,    37.14,2,     0.00,2,    2.580,2,     -999,9,     -999,9,-999,9,-999,9,   2338.9,3,   2417.2,6,   7.5554,2,    25.00,     -999,9,     -999,9,   1.4913,2
  49UP20110515,   P13,    54,  1,      8,      81,2,20110621,0848,0925, 41.0055, 165.0395, 5337,   3730.8,     3670,   1.4778,  34.6774,2,    143.6,2,  34.6780,2,   143.31,2,   154.87,2,    36.75,2,     0.00,2,    2.560,2,     -999,9,     -999,9,-999,9,-999,9,   2333.2,2,   2417.2,2,   7.5656,2,    25.00,     -999,9,     -999,9,   1.4776,2
  49UP20110515,   P13,    54,  1,      7,      80,2,20110621,0848,0918, 41.0055, 165.0395, 5337,   3990.0,     3922,   1.4687,  34.6815,2,    148.7,2,  34.6814,2,   148.63,2,   153.26,2,    36.38,2,     0.00,2,    2.530,2,    0.000,2,    0.002,2,-999,9,-999,9,   2327.9,2,   2415.4,2,   7.5719,2,    25.00,     -999,9,     -999,9,   1.4687,2
  49UP20110515,   P13,    54,  1,      6,      79,2,20110621,0848,0913, 41.0055, 165.0395, 5337,   4246.5,     4172,   1.4734,  34.6839,2,    151.8,2,  34.6851,6,   151.69,2,   152.49,4,    36.18,2,     0.00,2,    2.510,2,     -999,9,     -999,9,-999,9,-999,9,   2328.7,2,   2414.7,2,   7.5801,3,    25.00,     -999,9,     -999,9,   1.4734,2
  49UP20110515,   P13,    54,  1,      5,      78,2,20110621,0848,0907, 41.0055, 165.0395, 5337,   4502.6,     4421,   1.4849,  34.6858,2,    154.2,2,  34.6863,2,   154.34,2,   151.95,4,    36.10,2,     0.00,2,    2.500,2,     -999,9,     -999,9,-999,9,-999,9,   2329.9,2,   2416.2,2,   7.5818,2,    25.00,     -999,9,     -999,9,   1.4848,2
  49UP20110515,   P13,    54,  1,      4,      77,2,20110621,0848,0902, 41.0055, 165.0395, 5337,   4760.3,     4671,   1.5017,  34.6874,2,    156.0,2,  34.6882,2,   155.86,2,   152.39,2,    35.92,2,     0.00,2,    2.490,2,     -999,9,     -999,9,-999,9,-999,9,   2323.9,2,   2414.5,2,   7.5816,2,    25.00,     -999,9,     -999,9,   1.5018,2
  49UP20110515,   P13,    54,  1,      3,      76,2,20110621,0848,0856, 41.0055, 165.0395, 5337,   5017.3,     4921,   1.5252,  34.6883,2,    157.0,2,  34.6890,2,   156.49,2,   152.25,6,    35.81,6,     0.00,6,    2.480,6,    0.000,2,    0.010,2,-999,9,-999,9,   2322.5,2,   2415.5,2,   7.5862,2,    25.00,     -999,9,     -999,9,   1.5252,2
  49UP20110515,   P13,    54,  1,      2,      75,2,20110621,0848,0851, 41.0055, 165.0395, 5337,   5275.7,     5171,   1.5495,  34.6893,2,    158.0,2,  34.6895,2,   158.19,2,   152.11,4,    35.69,2,     0.00,2,    2.480,2,     -999,9,     -999,9,-999,9,-999,9,   2318.6,2,   2413.5,2,   7.5829,2,    25.00,     -999,9,     -999,9,   1.5495,2
  49UP20110515,   P13,    54,  1,      1,      74,2,20110621,0848,0848, 41.0055, 165.0395, 5337,   5397.2,     5289,   1.5629,  34.6896,2,    158.4,2,  34.6887,2,   157.44,2,   152.52,4,    35.81,2,     0.00,2,    2.480,2,     -999,9,     -999,9,-999,9,-999,9,   2325.0,2,   2415.7,2,   7.5842,2,    25.00,     -999,9,     -999,9,   1.5628,2