BOTTLE,20240116CCHSIOVAJ
EXPOCODE,SECT_ID,STNNBR,CASTNO,SAMPNO,BTLNBR,BTLNBR_FLAG_W,DATE,TIME,BTL_TIME,LATITUDE,LONGITUDE,DEPTH,CTDPRS,CTDDEPTH,CTDTMP,CTDSAL,CTDSAL_FLAG_W,CTDOXY,CTDOXY_FLAG_W,SALNTY,SALNTY_FLAG_W,OXYGEN,OXYGEN_FLAG_W,SILCAT,SILCAT_FLAG_W,NO2+NO3,NO2+NO3_FLAG_W,NITRIT,NITRIT_FLAG_W,PHSPHT,PHSPHT_FLAG_W,CFC-11,CFC-11_FLAG_W,CFC-12,CFC-12_FLAG_W,DELC14,DELC14_FLAG_W,DELC13,DELC13_FLAG_W,TCARBN,TCARBN_FLAG_W,ALKALI,ALKALI_FLAG_W,PH_TOT,PH_TOT_FLAG_W,PH_TMP,CHLORA,CHLORA_FLAG_W,PPHYTN,PPHYTN_FLAG_W,REFTMP,REFTMP_FLAG_W
,,,,,,,,,,,,METERS,DBAR,METERS,ITS-90,PSS-78,,UMOL/KG,,PSS-78,,UMOL/KG,,UMOL/KG,,UMOL/KG,,UMOL/KG,,UMOL/KG,,PMOL/KG,,PMOL/KG,,/MILLE,,/MILLE,,UMOL/KG,,UMOL/KG,,,,DEG C,UG/KG,,UG/KG,,ITS-90,
  49UP20110515,   KSE,    22,  1,      0,     BUC,2,20110523,1253,1756, 36.9952, 149.7182, 6020,      0.0,        0,  20.2095,  34.6528,2,    226.0,2,     -999,9,   227.89,2,     2.55,2,     0.00,2,     0.00,2,    0.060,2,     -999,9,     -999,9,-999,9,-999,9,     -999,9,     -999,9,     -999,9,     -999,     0.35,2,     0.15,2,     -999,9
  49UP20110515,   KSE,    22,  1,     36,     109,2,20110523,1253,1827, 36.9952, 149.7182, 6020,     11.6,       12,  20.2159,  34.6529,2,    225.7,2,  34.6562,2,   227.81,2,     2.51,2,     0.00,2,     0.00,2,    0.060,2,     -999,9,     -999,9,-999,9,-999,9,   1982.2,6,   2280.5,6,   8.0469,2,    25.00,     0.34,2,     0.16,2,  20.2150,2
  49UP20110515,   KSE,    22,  1,     35,     108,2,20110523,1253,1823, 36.9952, 149.7182, 6020,     52.3,       52,  18.8434,  34.6332,2,    227.3,2,     -999,9,   225.87,2,     4.18,2,     1.19,2,     0.19,2,    0.190,2,     -999,9,     -999,9,-999,9,-999,9,   2004.2,2,   2281.6,2,   8.0183,2,    25.00,     0.29,2,     0.23,2,  18.8423,2
  49UP20110515,   KSE,    22,  1,     34,     107,2,20110523,1253,1821, 36.9952, 149.7182, 6020,    102.2,      101,  16.9643,  34.6603,2,    190.7,2,  34.6604,2,   191.17,2,     8.56,6,     7.06,6,     0.03,6,    0.500,6,     -999,9,     -999,9,-999,9,-999,9,   2041.5,2,   2278.0,2,   7.9308,2,    25.00,     0.02,2,     0.04,2,  16.9639,2
  49UP20110515,   KSE,    22,  1,     33,     106,2,20110523,1253,1810, 36.9952, 149.7182, 6020,    152.6,      151,  15.3911,  34.5971,2,    183.3,2,     -999,9,   183.66,2,    11.18,2,     9.91,2,     0.01,2,    0.680,2,     -999,9,     -999,9,-999,9,-999,9,   2066.2,2,   2277.0,2,   7.8776,2,    25.00,     0.00,2,     0.03,2,  15.3901,2
  49UP20110515,   KSE,    22,  1,     32,     105,2,20110523,1253,1802, 36.9952, 149.7182, 6020,    202.8,      201,  14.2102,  34.5301,2,    170.0,2,  34.5275,2,   171.12,2,    19.19,2,    13.02,2,     0.02,2,    0.930,2,     -999,9,     -999,9,-999,9,-999,9,   2094.5,2,   2280.4,2,   7.8307,2,    25.00,     0.00,2,     0.04,2,  14.2091,2
  49UP20110515,   KSE,    22,  1,     31,     104,2,20110523,1253,1800, 36.9952, 149.7182, 6020,    254.7,      253,  12.0223,  34.3760,2,    177.2,2,     -999,9,   177.82,2,    21.97,2,    15.77,2,     0.01,2,    1.110,2,     -999,9,     -999,9,-999,9,-999,9,   2112.9,2,   2274.5,2,   7.7772,2,    25.00,     -999,9,     -999,9,  12.0242,2
  49UP20110515,   KSE,    22,  1,     30,     103,2,20110523,1253,1758, 36.9952, 149.7182, 6020,    304.9,      302,  10.4309,  34.2732,2,    167.8,2,  34.2709,2,   168.60,2,    31.31,6,    19.13,6,     0.01,6,    1.380,6,     -999,9,     -999,9,-999,9,-999,9,   2139.4,2,   2278.2,2,   7.7217,2,    25.00,     -999,9,     -999,9,  10.4293,2
  49UP20110515,   KSE,    22,  1,     29,     102,2,20110523,1253,1756, 36.9952, 149.7182, 6020,    405.2,      402,   7.4478,  34.0851,2,    153.6,2,     -999,9,   153.51,6,    49.94,2,    25.82,2,     0.01,2,    1.890,2,     -999,9,     -999,9,-999,9,-999,9,   2188.5,2,   2286.7,2,   7.6029,2,    25.00,     -999,9,     -999,9,   7.4164,2
  49UP20110515,   KSE,    22,  1,     28,     101,4,20110523,1253,1753, 36.9952, 149.7182, 6020,    506.5,      502,   5.1154,  33.9926,2,    123.2,2,  34.6911,4,   162.15,4,   145.37,4,    35.44,4,     0.00,4,    2.460,4,     -999,9,     -999,9,-999,9,-999,9,   2314.4,4,   2410.5,4,   7.5914,4,    25.00,     -999,9,     -999,9,   5.0990,2
  49UP20110515,   KSE,    22,  1,     27,     100,4,20110523,1253,1750, 36.9952, 149.7182, 6020,    607.9,      603,   3.6948,  33.9722,2,     77.4,2,  34.6805,4,   145.86,4,   151.99,4,    36.53,4,     0.00,4,    2.550,4,     -999,9,     -999,9,-999,9,-999,9,   2327.1,4,   2420.1,4,   7.5628,4,    25.00,     -999,9,     -999,9,   3.6930,2
  49UP20110515,   KSE,    22,  1,     26,      99,3,20110523,1253,1742, 36.9952, 149.7182, 6020,    708.0,      702,   4.1950,  34.1790,2,     62.0,2,  34.1822,2,    61.40,2,   105.14,2,    39.28,2,     0.00,2,    2.840,2,     -999,9,     -999,9,-999,9,-999,9,   2312.8,2,   2331.5,2,   7.3808,4,    25.00,     -999,9,     -999,9,   4.1949,2
  49UP20110515,   KSE,    22,  1,     25,      98,2,20110523,1253,1717, 36.9952, 149.7182, 6020,    808.8,      801,   3.8905,  34.2584,2,     50.0,2,  34.2594,2,    50.78,2,   115.37,2,    40.71,2,     0.00,2,    2.930,2,     -999,9,     -999,9,-999,9,-999,9,   2323.4,2,   2341.5,2,     -999,5,     -999,     -999,9,     -999,9,   3.8901,2
  49UP20110515,   KSE,    22,  1,     24,      97,2,20110523,1253,1714, 36.9952, 149.7182, 6020,    910.7,      902,   3.5788,  34.3438,2,     49.0,2,  34.3431,6,    49.27,2,   124.49,2,    40.96,2,     0.00,2,    2.950,2,     -999,9,     -999,9,-999,9,-999,9,   2338.8,2,   2359.9,2,   7.3659,2,    25.00,     -999,9,     -999,9,   3.5791,2
  49UP20110515,   KSE,    22,  1,     23,      96,2,20110523,1253,1711, 36.9952, 149.7182, 6020,   1011.1,     1001,   3.1799,  34.3769,2,     44.0,2,  34.3779,2,    44.79,2,   134.49,2,    41.88,2,     0.00,2,    3.000,2,     -999,9,     -999,9,-999,9,-999,9,   2341.2,3,   2369.9,6,   7.3606,2,    25.00,     -999,9,     -999,9,   3.1802,2
  49UP20110515,   KSE,    22,  1,     22,      95,3,20110523,1253,1706, 36.9952, 149.7182, 6020,   1214.9,     1202,   2.8130,  34.4400,2,     42.5,2,  34.4400,6,    42.62,6,   145.26,2,    42.49,2,     0.00,2,    3.040,2,     -999,9,     -999,9,-999,9,-999,9,   2356.1,2,   2383.2,2,   7.3566,2,    25.00,     -999,9,     -999,9,   2.8129,2
  49UP20110515,   KSE,    22,  1,     21,      94,2,20110523,1253,1635, 36.9952, 149.7182, 6020,   1417.0,     1402,   2.5206,  34.4908,2,     44.7,2,  34.4910,6,    45.02,2,   153.48,2,    42.52,2,     0.00,2,    3.040,2,     -999,9,     -999,9,-999,9,-999,9,   2369.1,2,   2391.3,2,   7.3661,2,    25.00,     -999,9,     -999,9,   2.5206,2
  49UP20110515,   KSE,    22,  1,     20,      93,2,20110523,1253,1631, 36.9952, 149.7182, 6020,   1622.1,     1604,   2.2882,  34.5333,2,     51.9,2,  34.5334,2,    52.47,2,   158.71,2,    42.41,2,     0.00,2,    3.010,2,     -999,9,     -999,9,-999,9,-999,9,   2372.8,2,   2400.4,2,   7.3824,2,    25.00,     -999,9,     -999,9,   2.2883,2
  49UP20110515,   KSE,    22,  1,     19,      92,2,20110523,1253,1627, 36.9952, 149.7182, 6020,   1823.4,     1802,   2.0997,  34.5683,2,     63.3,2,  34.5683,2,    63.60,2,   160.73,3,    41.42,2,     0.00,2,    2.930,3,     -999,9,     -999,9,-999,9,-999,9,   2361.3,3,   2405.7,2,   7.4051,2,    25.00,     -999,9,     -999,9,   2.0997,2
  49UP20110515,   KSE,    22,  1,     18,      91,2,20110523,1253,1604, 36.9952, 149.7182, 6020,   2027.1,     2002,   1.9575,  34.5941,2,     75.5,2,  34.5945,2,    75.04,2,   162.27,2,    40.93,2,     0.00,2,    2.880,2,     -999,9,     -999,9,-999,9,-999,9,   2364.6,2,   2411.5,2,   7.4296,2,    25.00,     -999,9,     -999,9,   1.9576,2
  49UP20110515,   KSE,    22,  1,     17,      90,2,20110523,1253,1600, 36.9952, 149.7182, 6020,   2232.1,     2204,   1.8312,  34.6159,2,     88.6,2,  34.6167,6,    88.50,2,   161.96,6,    40.10,6,     0.00,6,    2.830,6,     -999,9,     -999,9,-999,9,-999,9,   2358.1,2,   2413.2,2,   7.4586,2,    25.00,     -999,9,     -999,9,   1.8311,2
  49UP20110515,   KSE,    22,  1,     16,      89,2,20110523,1253,1538, 36.9952, 149.7182, 6020,   2435.8,     2404,   1.7415,  34.6312,2,     99.4,2,  34.6321,2,    99.84,2,   160.83,2,    39.33,2,     0.00,2,    2.780,2,     -999,9,     -999,9,-999,9,-999,9,   2348.9,2,   2413.1,2,   7.4762,2,    25.00,     -999,9,     -999,9,   1.7418,2
  49UP20110515,   KSE,    22,  1,     15,      88,2,20110523,1253,1534, 36.9952, 149.7182, 6020,   2639.2,     2603,   1.6720,  34.6432,2,    109.3,2,  34.6444,2,   110.03,2,   159.81,2,    38.74,2,     0.00,2,    2.730,2,     -999,9,     -999,9,-999,9,-999,9,   2344.9,2,   2415.0,2,   7.4967,2,    25.00,     -999,9,     -999,9,   1.6721,2
  49UP20110515,   KSE,    22,  1,     14,      87,2,20110523,1253,1513, 36.9952, 149.7182, 6020,   2846.3,     2806,   1.6168,  34.6528,2,    117.9,2,  34.6547,4,   118.22,2,   158.21,2,    38.28,2,     0.00,2,    2.690,2,     -999,9,     -999,9,-999,9,-999,9,   2339.6,2,   2415.2,2,   7.5099,2,    25.00,     -999,9,     -999,9,   1.6169,2
  49UP20110515,   KSE,    22,  1,     13,      86,2,20110523,1253,1506, 36.9952, 149.7182, 6020,   3047.4,     3003,   1.5698,  34.6610,2,    125.7,2,  34.6619,2,   126.46,2,   156.85,2,    37.90,2,     0.00,2,    2.650,2,     -999,9,     -999,9,-999,9,-999,9,   2337.2,2,   2417.4,2,   7.5252,2,    25.00,     -999,9,     -999,9,   1.5700,2
  49UP20110515,   KSE,    22,  1,     12,      85,2,20110523,1253,1454, 36.9952, 149.7182, 6020,   3302.0,     3252,   1.5334,  34.6680,2,    132.8,2,  34.6695,2,   133.16,2,   155.41,2,    37.36,2,     0.00,2,    2.620,2,     -999,9,     -999,9,-999,9,-999,9,   2331.0,6,   2416.8,6,   7.5385,2,    25.00,     -999,9,     -999,9,   1.5337,2
  49UP20110515,   KSE,    22,  1,     11,     110,2,20110523,1253,1441, 36.9952, 149.7182, 6020,   3557.9,     3502,   1.5066,  34.6737,2,    139.1,2,  34.6740,6,   139.67,2,   153.85,2,    37.11,2,     0.00,2,    2.580,2,     -999,9,     -999,9,-999,9,-999,9,   2329.9,2,   2416.8,2,   7.5497,2,    25.00,     -999,9,     -999,9,   1.5067,2
  49UP20110515,   KSE,    22,  1,     10,      83,2,20110523,1253,1426, 36.9952, 149.7182, 6020,   3814.8,     3753,   1.4910,  34.6781,2,    144.4,2,  34.6786,2,   144.76,2,   152.09,2,    36.62,2,     0.00,2,    2.560,2,     -999,9,     -999,9,-999,9,-999,9,   2322.5,2,   2416.4,2,   7.5569,2,    25.00,     -999,9,     -999,9,   1.4911,2
  49UP20110515,   KSE,    22,  1,      9,      82,2,20110523,1253,1420, 36.9952, 149.7182, 6020,   4069.5,     4001,   1.4844,  34.6817,2,    148.7,2,  34.6830,2,   149.10,2,   151.03,3,    36.46,2,     0.00,2,    2.530,2,     -999,9,     -999,9,-999,9,-999,9,   2322.0,2,   2414.7,2,   7.5644,2,    25.00,     -999,9,     -999,9,   1.4845,2
  49UP20110515,   KSE,    22,  1,      8,      81,2,20110523,1253,1406, 36.9952, 149.7182, 6020,   4327.0,     4252,   1.4846,  34.6846,2,    152.5,2,  34.6856,6,   152.58,2,   150.36,2,    36.23,2,     0.00,2,    2.520,2,     -999,9,     -999,9,-999,9,-999,9,   2313.9,3,   2414.9,2,   7.5691,2,    25.00,     -999,9,     -999,9,   1.4848,2
  49UP20110515,   KSE,    22,  1,      7,      80,3,20110523,1253,1400, 36.9952, 149.7182, 6020,   4583.8,     4501,   1.4915,  34.6871,2,    155.5,2,  34.6869,2,   155.50,2,   149.20,2,    35.84,2,     0.00,2,    2.500,2,     -999,9,     -999,9,-999,9,-999,9,   2315.0,3,   2414.0,2,   7.5736,2,    25.00,     -999,9,     -999,9,   1.4917,2
  49UP20110515,   KSE,    22,  1,      6,      79,2,20110523,1253,1345, 36.9952, 149.7182, 6020,   4840.8,     4751,   1.5048,  34.6888,2,    158.2,2,  34.6897,2,   158.24,2,   148.17,2,    35.79,2,     0.00,2,    2.500,2,     -999,9,     -999,9,-999,9,-999,9,   2317.7,3,   2413.7,2,   7.5761,2,    25.00,     -999,9,     -999,9,   1.5049,2
  49UP20110515,   KSE,    22,  1,      5,      78,2,20110523,1253,1332, 36.9952, 149.7182, 6020,   5098.0,     5001,   1.5225,  34.6902,2,    160.5,2,  34.6904,2,   160.54,2,   147.02,2,    35.55,2,     0.00,2,    2.480,2,     -999,9,     -999,9,-999,9,-999,9,   2311.7,2,   2410.9,2,   7.5802,2,    25.00,     -999,9,     -999,9,   1.5226,2
  49UP20110515,   KSE,    22,  1,      4,      77,2,20110523,1253,1326, 36.9952, 149.7182, 6020,   5356.4,     5251,   1.5428,  34.6917,2,    162.5,2,  34.6947,4,   162.44,6,   145.20,2,    35.25,2,     0.00,2,    2.460,2,     -999,9,     -999,9,-999,9,-999,9,   2311.9,2,   2409.1,2,   7.5806,2,    25.00,     -999,9,     -999,9,   1.5430,2
  49UP20110515,   KSE,    22,  1,      3,      76,2,20110523,1253,1314, 36.9952, 149.7182, 6020,   5614.4,     5501,   1.5693,  34.6926,2,    163.8,2,  34.6923,6,   164.37,2,   143.98,2,    35.34,2,     0.00,2,    2.460,2,     -999,9,     -999,9,-999,9,-999,9,   2311.0,2,   2409.4,2,   7.5824,2,    25.00,     -999,9,     -999,9,   1.5696,2
  49UP20110515,   KSE,    22,  1,      2,      75,2,20110523,1253,1308, 36.9952, 149.7182, 6020,   5872.0,     5750,   1.5981,  34.6933,2,    164.8,2,  34.6930,2,   164.50,2,   142.91,6,    35.08,6,     0.00,6,    2.450,6,     -999,9,     -999,9,-999,9,-999,9,   2306.3,2,   2408.2,2,   7.5826,2,    25.00,     -999,9,     -999,9,   1.5982,2
  49UP20110515,   KSE,    22,  1,      1,      74,2,20110523,1253,1253, 36.9952, 149.7182, 6020,   6132.1,     6001,   1.6289,  34.6940,2,    165.4,2,  34.6932,6,   165.16,2,   142.40,2,    35.31,2,     0.00,2,    2.450,2,     -999,9,     -999,9,-999,9,-999,9,   2307.1,2,   2407.8,2,   7.5814,2,    25.00,     -999,9,     -999,9,   1.6291,2