BOTTLE,20240116CCHSIOVAJ
# TIME units of UTC removed
# SALNTY units changed from PSS78 to PSS-78
# SBE35 changed to REFTMP
# SBE35_FLAG_W changed to REFTMP_FLAG_W
# BTLNBR_FLAG_U changed to BTLNBR_FLAG_W
# DEPTH units changed from METER to METERS
# CTDDEP changed to CTDDEPTH
# PH_TS changed to PH_TOT
# PH_TS_FLAG_W changed to PH_TOT_FLAG_W
# PH_TS_TMP changed to PH_TMP
# Updated PH_TMP units from '' to DEG C
# Removed THETA
# Removed THETA_FLAG_W
# Removed SIGTHT
# Removed SIGTHT_FLAG_W
# Changed BTLNBR values of -9 to BUC to reflect bucket sampling
# Changed BTLNBR_FLAG_W values of 0 to 2 for BUC samples
# Changed fill value of DELC14 at STNNBR 75, CASTNO 1, BTLNBR 74 from -999.9 to -999.0
# EXPOCODE column updated to 49UP20110515
# Added CCHDO citation information
# These data are under a CC0 license. For more information on how to cite, please visit cchdo.ucsd.edu.
#BOTTLE,20191113JMAGEMD
# SHIP: R/V Ryofu Maru 
# Cruise: CLIVAR P13_2011, (49UP20110515, RF11-06, RF11-07 and RF11-08)
# Region: North Pacific
# EXPOCODE: 49RY20110515
# DATES: 20110515-20110826
# Chief Scientist: Toshiya Nakano
# 148 Stations with 36 place Rosette 
# CTD: Who - Hitomi Kamiya; Status - final 
# 	Includes: CTDSAL, CTDOXY
# SALNTY: Who - Hitomi Kamiya; Status - final 
# 	Notes: 	 
# Nutrients: Who - Hitomi Kamiya; Status - final 
# 	Includes: NO2+NO3, Nitrite, Phosphate
# OXYGEN: Who - Hitomi Kamiya; Status - final 
# 	Notes: 
# CFC: Who - Hitomi Kamiya; Status - final
# Includes: CFC-11, CFC-12
# TCARBN: Who - Hitomi Kamiya; Status - final 
# 	Notes:  
# ALKALI: Who - Hitomi Kamiya; Status - final 
# 	Notes:  
# PH: Who - Hitomi Kamiya; Status - final 
# 	Notes: 
EXPOCODE,SECT_ID,STNNBR,CASTNO,SAMPNO,BTLNBR,BTLNBR_FLAG_W,DATE,TIME,BTL_TIME,LATITUDE,LONGITUDE,DEPTH,CTDPRS,CTDDEPTH,CTDTMP,CTDSAL,CTDSAL_FLAG_W,CTDOXY,CTDOXY_FLAG_W,SALNTY,SALNTY_FLAG_W,OXYGEN,OXYGEN_FLAG_W,SILCAT,SILCAT_FLAG_W,NO2+NO3,NO2+NO3_FLAG_W,NITRIT,NITRIT_FLAG_W,PHSPHT,PHSPHT_FLAG_W,CFC-11,CFC-11_FLAG_W,CFC-12,CFC-12_FLAG_W,DELC14,DELC14_FLAG_W,DELC13,DELC13_FLAG_W,TCARBN,TCARBN_FLAG_W,ALKALI,ALKALI_FLAG_W,PH_TOT,PH_TOT_FLAG_W,PH_TMP,CHLORA,CHLORA_FLAG_W,PPHYTN,PPHYTN_FLAG_W,REFTMP,REFTMP_FLAG_W
,,,,,,,,,,,,METERS,DBAR,METERS,ITS-90,PSS-78,,UMOL/KG,,PSS-78,,UMOL/KG,,UMOL/KG,,UMOL/KG,,UMOL/KG,,UMOL/KG,,PMOL/KG,,PMOL/KG,,/MILLE,,/MILLE,,UMOL/KG,,UMOL/KG,,,,DEG C,UG/KG,,UG/KG,,ITS-90,
  49UP20110515,   P01,     1,  1,      0,     BUC,2,20110517,2112,2109, 42.9922, 145.4970,   93,      0.0,        0,   3.3852,  32.3893,2,    346.2,2,     -999,9,   343.72,2,     8.53,2,     5.65,2,     0.09,2,    0.820,3,     -999,9,     -999,9,-999,9,-999,9,     -999,9,     -999,9,     -999,9,     -999,     3.60,2,     0.17,2,     -999,9
  49UP20110515,   P01,     1,  1,     36,     109,2,20110517,2112,2119, 42.9922, 145.4970,   93,     11.3,       11,   3.4030,  32.4245,2,    351.4,2,     -999,5,   356.61,2,     5.90,2,     4.95,2,     0.09,2,    0.750,3,    5.749,2,    3.113,2,-999,9,-999,9,   2054.8,2,   2224.9,2,   7.8293,2,    25.00,     5.45,2,     0.24,2,   3.3920,2
  49UP20110515,   P01,     1,  1,     30,     103,2,20110517,2112,2117, 42.9922, 145.4970,   93,     26.4,       26,   1.7124,  32.6820,2,    357.3,2,  32.7168,4,   350.17,2,     5.47,2,     8.58,2,     0.12,2,    1.070,3,    5.921,2,    3.200,2,-999,9,-999,9,   2086.0,6,   2237.2,6,   7.7634,2,    25.00,     4.32,2,     0.59,2,   1.7196,2
  49UP20110515,   P01,     1,  1,     24,      97,2,20110517,2112,2115, 42.9922, 145.4970,   93,     51.4,       51,   1.3350,  32.9289,2,    315.5,2,  32.9361,4,   315.75,2,    28.90,2,    16.14,2,     0.15,2,    1.610,2,    5.826,6,    3.154,6,-999,9,-999,9,   2134.8,2,   2245.8,2,   7.6584,6,    25.00,     -999,9,     -999,9,   1.3342,2
  49UP20110515,   P01,     1,  1,     23,      96,2,20110517,2112,2115, 42.9922, 145.4970,   93,     51.4,       51,   1.3350,  32.9289,2,    315.5,2,  32.9379,4,   314.60,6,    29.32,2,    16.26,2,     0.15,2,    1.630,2,    5.759,2,    3.149,2,-999,9,-999,9,     -999,9,     -999,9,     -999,9,     -999,     1.88,2,     0.61,2,   1.3342,2
  49UP20110515,   P01,     1,  1,     18,      91,3,20110517,2112,2114, 42.9922, 145.4970,   93,     75.5,       75,   1.0952,  33.0392,2,    287.9,2,  33.0397,6,   287.30,2,    43.11,2,    20.71,2,     0.14,2,    1.960,2,    5.641,2,    3.099,2,-999,9,-999,9,   2166.3,2,   2245.5,2,   7.5727,2,    25.00,     -999,9,     -999,9,   1.0951,2
  49UP20110515,   P01,     1,  1,     17,      90,2,20110517,2112,2114, 42.9922, 145.4970,   93,     75.5,       75,   1.0952,  33.0392,2,    287.9,2,  33.0391,6,   287.07,2,    43.27,2,    20.73,2,     0.14,2,    1.940,2,    5.670,2,    3.142,2,-999,9,-999,9,   2166.3,2,   2244.9,2,   7.5745,2,    25.00,     0.65,2,     0.94,2,   1.0951,2
  49UP20110515,   P01,     1,  1,      2,      75,2,20110517,2112,2112, 42.9922, 145.4970,   93,     82.8,       82,   1.1083,  33.0450,2,    287.0,2,  33.0448,2,   286.56,2,    43.44,2,    20.91,2,     0.15,2,    1.950,2,    5.634,2,    3.183,2,-999,9,-999,9,   2169.5,2,   2247.2,2,   7.5701,2,    25.00,     -999,9,     -999,9,   1.1076,2
  49UP20110515,   P01,     1,  1,      1,      74,2,20110517,2112,2112, 42.9922, 145.4970,   93,     82.8,       82,   1.1083,  33.0450,2,    287.0,2,  33.0450,6,   286.42,6,    43.50,6,    20.87,6,     0.15,6,    1.950,6,    5.593,2,    3.320,2,-999,9,-999,9,   2170.3,2,   2245.6,2,   7.5705,2,    25.00,     0.59,2,     0.89,2,   1.1076,2
  49UP20110515,   P01,     3,  1,      0,     BUC,2,20110518,0026,0107, 42.8475, 145.6075, 1328,      0.0,        0,   4.8068,  32.7162,2,    362.0,2,     -999,9,   364.14,2,     0.00,2,     3.83,2,     0.17,2,    0.500,2,     -999,9,     -999,9,-999,9,-999,9,     -999,9,     -999,9,     -999,9,     -999,     1.34,2,     0.63,2,     -999,9
  49UP20110515,   P01,     3,  1,     36,     109,2,20110518,0026,0122, 42.8475, 145.6075, 1328,     11.4,       11,   4.4908,  32.7259,2,    366.9,2,  32.7352,4,   369.22,2,     0.00,2,     3.75,2,     0.17,2,    0.500,2,     -999,9,     -999,9,-999,9,-999,9,     -999,9,     -999,9,     -999,9,     -999,     1.59,2,     0.50,2,   4.4630,2
  49UP20110515,   P01,     3,  1,     35,     108,2,20110518,0026,0121, 42.8475, 145.6075, 1328,     26.2,       26,   3.2801,  32.7943,2,    376.6,2,     -999,9,   373.26,2,     0.20,2,     4.98,2,     0.17,2,    0.650,2,     -999,9,     -999,9,-999,9,-999,9,     -999,9,     -999,9,     -999,9,     -999,     2.32,2,     1.01,2,   3.2788,2
  49UP20110515,   P01,     3,  1,     34,     107,2,20110518,0026,0116, 42.8475, 145.6075, 1328,     49.5,       49,   2.1139,  32.9424,2,    335.9,2,  32.9482,2,   336.92,2,    17.09,2,    13.40,2,     0.19,2,    1.360,2,     -999,9,     -999,9,-999,9,-999,9,     -999,9,     -999,9,     -999,9,     -999,     1.19,2,     0.45,2,   2.1183,2
  49UP20110515,   P01,     3,  1,     33,     106,2,20110518,0026,0114, 42.8475, 145.6075, 1328,     76.3,       76,   1.4727,  33.1428,2,    314.7,2,     -999,9,   314.73,2,    45.36,2,    23.87,2,     0.25,2,    1.920,2,     -999,9,     -999,9,-999,9,-999,9,     -999,9,     -999,9,     -999,9,     -999,     0.55,2,     0.40,2,   1.4791,2
  49UP20110515,   P01,     3,  1,     30,     103,3,20110518,0026,0113, 42.8475, 145.6075, 1328,    101.7,      101,   1.1645,  33.1801,2,    309.0,2,  33.1800,2,   310.08,2,    48.73,6,    24.60,6,     0.29,6,    1.970,6,     -999,9,     -999,9,-999,9,-999,9,     -999,9,     -999,9,     -999,9,     -999,     0.41,2,     0.33,2,   1.1642,2
  49UP20110515,   P01,     3,  1,     29,     102,2,20110518,0026,0111, 42.8475, 145.6075, 1328,    125.3,      124,   1.0664,  33.2062,2,    300.8,2,     -999,9,   300.91,6,    49.95,2,    25.13,2,     0.19,2,    2.000,2,     -999,9,     -999,9,-999,9,-999,9,     -999,9,     -999,9,     -999,9,     -999,     0.34,2,     0.33,2,   1.0659,2
  49UP20110515,   P01,     3,  1,     28,     101,2,20110518,0026,0110, 42.8475, 145.6075, 1328,    150.9,      150,   1.3620,  33.2556,2,    281.9,2,     -999,9,   282.09,2,    51.98,2,    26.24,2,     0.08,2,    2.060,2,     -999,9,     -999,9,-999,9,-999,9,     -999,9,     -999,9,     -999,9,     -999,     0.21,2,     0.34,2,   1.3629,2
  49UP20110515,   P01,     3,  1,     27,     100,3,20110518,0026,0108, 42.8475, 145.6075, 1328,    202.7,      201,   1.8451,  33.3757,2,    240.2,2,  33.3749,6,   240.20,6,    60.31,2,    29.11,2,     0.04,2,    2.240,2,     -999,9,     -999,9,-999,9,-999,9,     -999,9,     -999,9,     -999,9,     -999,     0.09,2,     0.28,2,   1.8448,2
  49UP20110515,   P01,     3,  1,     24,      97,2,20110518,0026,0106, 42.8475, 145.6075, 1328,    253.4,      251,   1.9251,  33.4310,2,    217.8,2,     -999,9,   217.56,2,    65.47,2,    30.73,2,     0.02,2,    2.360,2,     -999,9,     -999,9,-999,9,-999,9,     -999,9,     -999,9,     -999,9,     -999,     -999,9,     -999,9,   1.9224,2
  49UP20110515,   P01,     3,  1,     23,      96,3,20110518,0026,0106, 42.8475, 145.6075, 1328,    253.4,      251,   1.9251,  33.4310,2,    217.8,2,     -999,9,   217.86,2,    65.50,2,    30.67,2,     0.02,2,    2.350,2,     -999,9,     -999,9,-999,9,-999,9,     -999,9,     -999,9,     -999,9,     -999,     -999,9,     -999,9,   1.9224,2
  49UP20110515,   P01,     3,  1,     22,      95,2,20110518,0026,0104, 42.8475, 145.6075, 1328,    333.8,      331,   2.1020,  33.5304,2,    183.3,2,  33.5293,6,   182.70,2,    76.56,6,    33.91,6,     0.01,6,    2.550,6,     -999,9,     -999,9,-999,9,-999,9,     -999,9,     -999,9,     -999,9,     -999,     -999,9,     -999,9,   2.0986,2
  49UP20110515,   P01,     3,  1,     21,      94,2,20110518,0026,0100, 42.8475, 145.6075, 1328,    434.8,      431,   2.7006,  33.7245,2,    119.0,2,     -999,9,   118.85,2,    89.03,2,    37.88,2,     0.00,2,    2.770,2,     -999,9,     -999,9,-999,9,-999,9,     -999,9,     -999,9,     -999,9,     -999,     -999,9,     -999,9,   2.6955,2
  49UP20110515,   P01,     3,  1,     18,      91,2,20110518,0026,0057, 42.8475, 145.6075, 1328,    535.3,      530,   3.4994,  33.9473,2,     72.6,2,     -999,9,    73.01,2,    99.43,2,    40.21,2,     0.00,2,    2.910,2,     -999,9,     -999,9,-999,9,-999,9,     -999,9,     -999,9,     -999,9,     -999,     -999,9,     -999,9,   3.4987,2
  49UP20110515,   P01,     3,  1,     17,      90,2,20110518,0026,0057, 42.8475, 145.6075, 1328,    535.3,      530,   3.4994,  33.9473,2,     72.6,2,     -999,9,    73.25,2,    99.19,2,    40.30,2,     0.00,2,    2.870,3,     -999,9,     -999,9,-999,9,-999,9,     -999,9,     -999,9,     -999,9,     -999,     -999,9,     -999,9,   3.4987,2
  49UP20110515,   P01,     3,  1,     16,      89,2,20110518,0026,0054, 42.8475, 145.6075, 1328,    636.1,      630,   3.1956,  34.0296,2,     46.9,2,  34.0286,2,    47.15,2,   114.24,2,    42.55,2,     0.00,2,    3.030,2,     -999,9,     -999,9,-999,9,-999,9,     -999,9,     -999,9,     -999,9,     -999,     -999,9,     -999,9,   3.1955,2
  49UP20110515,   P01,     3,  1,     15,      88,2,20110518,0026,0050, 42.8475, 145.6075, 1328,    738.4,      731,   3.4568,  34.1744,2,     40.8,2,     -999,9,    41.14,2,   119.06,2,    42.17,2,     0.00,2,    3.000,2,     -999,9,     -999,9,-999,9,-999,9,     -999,9,     -999,9,     -999,9,     -999,     -999,9,     -999,9,   3.4568,2
  49UP20110515,   P01,     3,  1,     12,      85,2,20110518,0026,0047, 42.8475, 145.6075, 1328,    838.6,      830,   3.0081,  34.2142,2,     31.8,2,  34.2135,2,    31.88,2,   132.47,2,    43.30,2,     0.00,2,    3.080,2,     -999,9,     -999,9,-999,9,-999,9,     -999,9,     -999,9,     -999,9,     -999,     -999,9,     -999,9,   3.0086,2
  49UP20110515,   P01,     3,  1,     11,     110,2,20110518,0026,0044, 42.8475, 145.6075, 1328,    940.6,      931,   2.9598,  34.2929,2,     33.1,2,     -999,9,    33.44,6,   138.28,2,    42.91,2,     0.00,2,    3.070,2,     -999,9,     -999,9,-999,9,-999,9,     -999,9,     -999,9,     -999,9,     -999,     -999,9,     -999,9,   2.9628,2
  49UP20110515,   P01,     3,  1,     10,      83,2,20110518,0026,0039, 42.8475, 145.6075, 1328,   1081.5,     1070,   2.7819,  34.3693,2,     35.4,2,  34.3688,6,    35.37,2,   145.27,2,    42.93,2,     0.00,2,    3.070,2,     -999,9,     -999,9,-999,9,-999,9,     -999,9,     -999,9,     -999,9,     -999,     -999,9,     -999,9,   2.7819,2
  49UP20110515,   P01,     3,  1,      9,      82,2,20110518,0026,0039, 42.8475, 145.6075, 1328,   1081.5,     1070,   2.7819,  34.3693,2,     35.4,2,  34.3698,2,    35.35,2,   145.86,6,    42.91,6,     0.00,6,    3.060,6,     -999,9,     -999,9,-999,9,-999,9,     -999,9,     -999,9,     -999,9,     -999,     -999,9,     -999,9,   2.7819,2
  49UP20110515,   P01,     3,  1,      6,      79,2,20110518,0026,0031, 42.8475, 145.6075, 1328,   1285.6,     1271,   2.4956,  34.4453,2,     39.7,2,  34.4449,2,    39.74,2,   155.31,2,    42.77,2,     0.00,2,    3.050,2,     -999,9,     -999,9,-999,9,-999,9,     -999,9,     -999,9,     -999,9,     -999,     -999,9,     -999,9,   2.4948,2
  49UP20110515,   P01,     3,  1,      5,      78,2,20110518,0026,0027, 42.8475, 145.6075, 1328,   1394.6,     1379,   2.3574,  34.4836,2,     44.4,2,  34.4846,2,    44.72,2,   158.70,2,    42.52,2,     0.00,2,    3.030,2,     -999,9,     -999,9,-999,9,-999,9,     -999,9,     -999,9,     -999,9,     -999,     -999,9,     -999,9,   2.3575,2
  49UP20110515,   P01,     3,  1,      4,      77,2,20110518,0026,0026, 42.8475, 145.6075, 1328,   1394.8,     1379,   2.3572,  34.4837,2,     44.4,2,  34.4833,6,    44.87,6,   158.59,6,    42.61,6,     0.00,6,    3.030,6,     -999,9,     -999,9,-999,9,-999,9,     -999,9,     -999,9,     -999,9,     -999,     -999,9,     -999,9,   2.3571,2