BOTTLE,20240116CCHSIOVAJ
EXPOCODE,SECT_ID,STNNBR,CASTNO,SAMPNO,BTLNBR,BTLNBR_FLAG_W,DATE,TIME,BTL_TIME,LATITUDE,LONGITUDE,DEPTH,CTDPRS,CTDDEPTH,CTDTMP,CTDSAL,CTDSAL_FLAG_W,CTDOXY,CTDOXY_FLAG_W,SALNTY,SALNTY_FLAG_W,OXYGEN,OXYGEN_FLAG_W,SILCAT,SILCAT_FLAG_W,NO2+NO3,NO2+NO3_FLAG_W,NITRIT,NITRIT_FLAG_W,PHSPHT,PHSPHT_FLAG_W,CFC-11,CFC-11_FLAG_W,CFC-12,CFC-12_FLAG_W,DELC14,DELC14_FLAG_W,DELC13,DELC13_FLAG_W,TCARBN,TCARBN_FLAG_W,ALKALI,ALKALI_FLAG_W,PH_TOT,PH_TOT_FLAG_W,PH_TMP,CHLORA,CHLORA_FLAG_W,PPHYTN,PPHYTN_FLAG_W,REFTMP,REFTMP_FLAG_W
,,,,,,,,,,,,METERS,DBAR,METERS,ITS-90,PSS-78,,UMOL/KG,,PSS-78,,UMOL/KG,,UMOL/KG,,UMOL/KG,,UMOL/KG,,UMOL/KG,,PMOL/KG,,PMOL/KG,,/MILLE,,/MILLE,,UMOL/KG,,UMOL/KG,,,,DEG C,UG/KG,,UG/KG,,ITS-90,
  49UP20110515,   P13,   138,  1,      0,     BUC,2,20110811,2128,2258, -4.0063, 164.9798, 3324,      0.0,        0,  29.6038,  35.0350,2,    197.5,2,     -999,9,   196.32,2,     1.23,2,     0.00,2,     0.01,2,    0.230,2,     -999,9,     -999,9,-999,9,-999,9,     -999,9,     -999,9,     -999,9,     -999,     0.16,2,     0.08,2,     -999,9
  49UP20110515,   P13,   138,  1,     36,     109,2,20110811,2128,2311, -4.0063, 164.9798, 3324,     10.7,       11,  29.5938,  35.0847,2,    197.5,2,  35.0598,4,   197.02,2,     1.23,2,     0.01,2,     0.01,2,    0.220,2,    1.667,3,    1.024,2,49.1,2,1.4,2,   1962.8,2,   2304.3,2,   8.1117,2,    25.00,     0.16,2,     0.07,2,  29.5968,2
  49UP20110515,   P13,   138,  1,     35,     108,2,20110811,2128,2310, -4.0063, 164.9798, 3324,     26.6,       26,  29.6183,  35.2023,2,    198.5,2,  35.1984,2,   198.37,2,     1.23,2,     0.03,2,     0.01,2,    0.210,2,    1.654,3,    1.008,2,-999,9,-999,9,   1972.0,2,   2311.8,2,   8.1065,2,    25.00,     -999,9,     -999,9,  29.6190,2
  49UP20110515,   P13,   138,  1,     34,     107,2,20110811,2128,2310, -4.0063, 164.9798, 3324,     26.6,       26,  29.6183,  35.2023,2,    198.5,2,  35.1967,4,   198.53,2,     1.17,2,     0.02,2,     0.01,2,    0.210,2,    1.656,3,    1.015,2,-999,9,-999,9,   1967.9,2,   2315.4,2,   8.1071,2,    25.00,     0.20,2,     0.10,2,  29.6190,2
  49UP20110515,   P13,   138,  1,     33,     106,2,20110811,2128,2306, -4.0063, 164.9798, 3324,     50.7,       50,  29.4241,  35.3157,2,    197.5,2,  35.3141,2,   197.69,2,     1.15,2,     0.06,2,     0.01,2,    0.220,2,    1.656,3,    1.014,2,54.3,2,1.4,2,   1976.9,2,   2322.8,2,   8.1099,6,    25.00,     0.29,2,     0.17,2,  29.4241,2
  49UP20110515,   P13,   138,  1,     32,     105,2,20110811,2128,2305, -4.0063, 164.9798, 3324,     76.5,       76,  29.2831,  35.3172,2,    192.5,2,  35.3166,2,   192.71,2,     1.12,2,     0.20,2,     0.02,2,    0.240,2,    1.647,3,    1.025,2,-999,9,-999,9,   1982.7,6,   2320.9,6,   8.1037,2,    25.00,     0.31,2,     0.25,2,  29.2837,2
  49UP20110515,   P13,   138,  1,     31,     104,2,20110811,2128,2303, -4.0063, 164.9798, 3324,    101.0,      100,  28.5657,  35.5846,2,    173.7,2,  35.5879,2,   174.36,2,     1.30,2,     3.80,2,     1.12,2,    0.470,2,    1.644,3,    1.055,6,51.5,2,1.1,2,   2023.4,2,   2337.3,2,   8.0519,2,    25.00,     0.17,2,     0.28,2,  28.5684,2
  49UP20110515,   P13,   138,  1,     30,     103,2,20110811,2128,2302, -4.0063, 164.9798, 3324,    126.6,      126,  27.5877,  35.6572,2,    170.5,2,  35.6559,6,   171.27,2,     1.66,2,     5.75,2,     1.85,2,    0.590,2,    1.661,3,    1.085,2,-999,9,-999,9,   2044.6,2,   2342.5,2,   8.0215,2,    25.00,     0.11,2,     0.14,2,  27.5877,2
  49UP20110515,   P13,   138,  1,     29,     102,2,20110811,2128,2301, -4.0063, 164.9798, 3324,    151.4,      151,  26.7044,  35.7075,2,    154.6,2,  35.7048,2,   155.13,2,     1.71,2,     7.11,2,     0.09,2,    0.660,2,    1.724,3,    1.125,2,41.1,2,0.9,2,   2060.8,2,   2345.4,2,   7.9973,2,    25.00,     0.06,2,     0.10,2,  26.7045,2
  49UP20110515,   P13,   138,  1,     28,     101,2,20110811,2128,2259, -4.0063, 164.9798, 3324,    202.4,      201,  19.8709,  35.6877,2,    128.2,2,  35.7033,4,   128.99,2,     3.27,6,    11.06,6,     0.01,6,    1.000,6,    2.133,3,    1.314,2,51.2,6,0.8,6,   2138.4,2,   2349.9,2,   7.8615,2,    25.00,     0.00,2,     0.02,2,  19.8703,2
  49UP20110515,   P13,   138,  1,     27,     100,2,20110811,2128,2257, -4.0063, 164.9798, 3324,    251.6,      250,  12.5592,  34.9464,2,     91.8,2,  34.9472,2,    91.44,2,    14.65,2,    23.61,2,     0.00,2,    1.780,2,    1.356,3,    0.773,6,-999,9,-999,9,   2193.2,2,   2308.4,2,   7.6554,2,    25.00,     -999,9,     -999,9,  12.5704,2
  49UP20110515,   P13,   138,  1,     26,      99,2,20110811,2128,2256, -4.0063, 164.9798, 3324,    303.3,      301,  10.1304,  34.7559,2,    110.1,2,  34.7620,2,   109.17,2,    20.49,2,    26.84,2,     0.00,2,    1.900,2,    1.038,3,    0.556,2,-27.3,2,0.6,2,   2197.6,2,   2303.8,2,   7.6276,6,    25.00,     -999,9,     -999,9,  10.1345,2
  49UP20110515,   P13,   138,  1,     25,      98,2,20110811,2128,2254, -4.0063, 164.9798, 3324,    352.3,      350,   9.2194,  34.6850,2,     99.3,2,  34.6848,2,   100.70,2,    25.66,2,    29.87,2,     0.00,2,    2.090,2,    0.775,3,    0.427,2,-999,9,-999,9,   2211.2,6,   2300.7,6,   7.5887,2,    25.00,     -999,9,     -999,9,   9.2197,2
  49UP20110515,   P13,   138,  1,     24,      97,2,20110811,2128,2252, -4.0063, 164.9798, 3324,    402.9,      400,   8.7675,  34.6550,2,     98.1,2,  34.6549,2,    97.43,2,    27.97,2,    31.22,2,     0.00,2,    2.170,2,    0.660,3,    0.356,2,-61.4,2,0.5,2,   2216.0,2,   2303.2,2,   7.5702,2,    25.00,     -999,9,     -999,9,   8.7679,2
  49UP20110515,   P13,   138,  1,     23,      96,2,20110811,2128,2252, -4.0063, 164.9798, 3324,    402.9,      400,   8.7675,  34.6550,2,     98.1,2,  34.6537,2,    97.73,2,    27.93,6,    31.23,6,     0.00,6,    2.160,6,    0.658,3,    0.350,2,-57.6,2,0.5,2,   2219.1,2,   2301.8,2,   7.5704,2,    25.00,     -999,9,     -999,9,   8.7679,2
  49UP20110515,   P13,   138,  1,     22,      95,2,20110811,2128,2249, -4.0063, 164.9798, 3324,    505.6,      502,   7.9247,  34.6048,2,     99.6,2,  34.6042,6,    98.98,2,    32.29,2,    32.89,2,     0.00,2,    2.280,2,    0.527,3,    0.272,2,-76.2,2,0.5,2,   2227.5,2,   2306.7,2,   7.5522,2,    25.00,     -999,9,     -999,9,   7.9252,2
  49UP20110515,   P13,   138,  1,     21,      94,2,20110811,2128,2247, -4.0063, 164.9798, 3324,    605.2,      601,   7.0039,  34.5653,2,     89.1,2,  34.5646,2,    89.24,2,    40.94,2,    35.84,2,     0.00,2,    2.490,2,    0.249,3,    0.126,2,-102.2,2,0.4,2,   2244.8,2,   2308.1,2,   7.5135,2,    25.00,     -999,9,     -999,9,   7.0043,2
  49UP20110515,   P13,   138,  1,     20,      93,2,20110811,2128,2244, -4.0063, 164.9798, 3324,    706.3,      701,   6.0786,  34.5443,2,     83.3,2,  34.5428,2,    83.61,6,    53.03,2,    38.19,2,     0.00,2,    2.670,2,    0.082,3,    0.038,2,-123.3,2,0.4,2,   2265.2,2,   2316.9,2,   7.4912,2,    25.00,     -999,9,     -999,9,   6.0788,2
  49UP20110515,   P13,   138,  1,     19,      92,2,20110811,2128,2241, -4.0063, 164.9798, 3324,    806.8,      801,   5.3631,  34.5339,2,     96.1,2,  34.5351,2,    95.77,2,    62.31,6,    37.81,6,     0.00,6,    2.660,6,    0.054,3,    0.021,2,-141.0,2,0.4,2,   2268.1,2,   2330.8,2,   7.5097,2,    25.00,     -999,9,     -999,9,   5.3636,2
  49UP20110515,   P13,   138,  1,     18,      91,2,20110811,2128,2238, -4.0063, 164.9798, 3324,    907.2,      900,   4.8485,  34.5380,2,    100.2,2,  34.5375,6,    99.89,2,    71.64,2,    37.91,2,     0.00,2,    2.680,2,    0.019,3,    0.007,2,-156.3,2,0.3,2,   2278.0,2,   2340.0,2,   7.5052,2,    25.00,     -999,9,     -999,9,   4.8485,2
  49UP20110515,   P13,   138,  1,     17,      90,2,20110811,2128,2238, -4.0063, 164.9798, 3324,    907.2,      900,   4.8485,  34.5380,2,    100.2,2,  34.5374,2,   100.08,2,    71.72,2,    37.79,2,     0.00,2,    2.670,2,    0.021,3,    0.004,2,-155.2,2,0.3,2,   2280.2,2,   2338.3,2,   7.5068,2,    25.00,     -999,9,     -999,9,   4.8485,2
  49UP20110515,   P13,   138,  1,     16,      89,2,20110811,2128,2231, -4.0063, 164.9798, 3324,   1007.9,     1000,   4.4515,  34.5451,2,    102.1,2,  34.5448,2,   102.09,2,    79.68,2,    38.16,2,     0.00,2,    2.690,2,    0.000,3,    0.000,2,-172.2,2,0.3,2,   2286.6,2,   2348.0,2,   7.5094,2,    25.00,     -999,9,     -999,9,   4.4513,2
  49UP20110515,   P13,   138,  1,     15,      88,2,20110811,2128,2226, -4.0063, 164.9798, 3324,   1210.9,     1201,   3.7854,  34.5659,2,    104.3,2,  34.5654,2,   104.14,2,    94.86,2,    38.45,2,     0.00,2,    2.730,2,    0.000,3,    0.000,2,-189.2,2,0.2,2,   2301.2,2,   2364.9,2,   7.5123,2,    25.00,     -999,9,     -999,9,   3.7856,2
  49UP20110515,   P13,   138,  1,     14,      87,2,20110811,2128,2218, -4.0063, 164.9798, 3324,   1412.8,     1400,   3.2698,  34.5861,2,    108.5,2,  34.5873,2,   108.46,2,   106.73,2,    38.52,2,     0.00,2,    2.720,2,    0.013,3,    0.000,2,-199.0,2,0.2,2,   2312.7,2,   2374.6,2,   7.5163,2,    25.00,     -999,9,     -999,9,   3.2699,2
  49UP20110515,   P13,   138,  1,     13,      86,2,20110811,2128,2211, -4.0063, 164.9798, 3324,   1616.5,     1601,   2.8761,  34.6036,2,    112.5,2,  34.6039,2,   114.68,4,   115.92,6,    38.37,6,     0.00,6,    2.700,6,     -999,9,     -999,9,-999,9,-999,9,   2318.8,2,   2387.4,2,   7.5214,2,    25.00,     -999,9,     -999,9,   2.8759,2
  49UP20110515,   P13,   138,  1,     12,      74,2,20110811,2128,2206, -4.0063, 164.9798, 3324,   1819.4,     1802,   2.4849,  34.6230,2,    118.1,2,  34.6227,2,   118.56,2,   125.27,2,    38.09,2,     0.00,2,    2.680,2,     -999,9,     -999,9,-214.5,2,0.1,2,   2325.0,2,   2395.7,2,   7.5304,2,    25.00,     -999,9,     -999,9,   2.4850,2
  49UP20110515,   P13,   138,  1,     11,     110,2,20110811,2128,2157, -4.0063, 164.9798, 3324,   2022.8,     2002,   2.2522,  34.6357,2,    123.2,2,  34.6353,2,   123.09,2,   130.10,2,    37.94,2,     0.00,2,    2.660,2,     -999,9,     -999,9,-999,9,-999,9,   2326.4,3,   2403.0,2,   7.5370,6,    25.00,     -999,9,     -999,9,   2.2515,2
  49UP20110515,   P13,   138,  1,     10,      83,2,20110811,2128,2157, -4.0063, 164.9798, 3324,   2022.8,     2002,   2.2522,  34.6357,2,    123.2,2,  34.6374,2,   123.12,2,   129.91,2,    37.84,2,     0.00,2,    2.650,2,     -999,9,     -999,9,-999,9,-999,9,   2332.5,2,   2401.6,6,   7.5386,2,    25.00,     -999,9,     -999,9,   2.2515,2
  49UP20110515,   P13,   138,  1,      9,      82,2,20110811,2128,2153, -4.0063, 164.9798, 3324,   2226.9,     2203,   2.0862,  34.6454,2,    127.6,2,  34.6464,2,   127.45,2,   133.36,2,    37.71,2,     0.00,2,    2.630,2,    0.000,3,    0.000,2,-221.3,2,0.1,2,   2335.1,2,   2405.0,2,   7.5446,2,    25.00,     -999,9,     -999,9,   2.0863,2
  49UP20110515,   P13,   138,  1,      8,      81,2,20110811,2128,2148, -4.0063, 164.9798, 3324,   2428.5,     2401,   1.9489,  34.6533,2,    129.0,2,  34.6535,6,   129.04,2,   137.74,2,    37.56,2,     0.00,2,    2.630,2,     -999,9,     -999,9,-999,9,-999,9,   2339.0,2,   2407.8,2,   7.5471,2,    25.00,     -999,9,     -999,9,   1.9487,2
  49UP20110515,   P13,   138,  1,      7,      80,2,20110811,2128,2144, -4.0063, 164.9798, 3324,   2632.5,     2602,   1.8487,  34.6594,2,    131.8,2,  34.6603,2,   131.60,6,   140.11,2,    37.54,2,     0.00,2,    2.610,2,     -999,9,     -999,9,-221.5,2,0.1,2,   2341.1,2,   2413.3,2,   7.5480,2,    25.00,     -999,9,     -999,9,   1.8486,2
  49UP20110515,   P13,   138,  1,      6,      79,2,20110811,2128,2140, -4.0063, 164.9798, 3324,   2835.8,     2801,   1.7786,  34.6636,2,    133.2,2,  34.6639,2,   133.08,2,   142.67,2,    37.31,2,     0.00,2,    2.600,2,     -999,9,     -999,9,-999,9,-999,9,   2337.9,2,   2413.7,2,   7.5561,2,    25.00,     -999,9,     -999,9,   1.7784,2
  49UP20110515,   P13,   138,  1,      5,      78,2,20110811,2128,2135, -4.0063, 164.9798, 3324,   3039.5,     3001,   1.6925,  34.6686,2,    137.1,2,  34.6698,2,   136.95,6,   143.84,2,    37.18,2,     0.00,2,    2.580,2,     -999,9,     -999,9,-219.5,2,0.1,2,   2336.7,2,   2413.9,2,   7.5605,2,    25.00,     -999,9,     -999,9,   1.6920,2
  49UP20110515,   P13,   138,  1,      4,      77,2,20110811,2128,2130, -4.0063, 164.9798, 3324,   3295.1,     3252,   1.5833,  34.6757,2,    145.1,2,  34.6778,4,   145.01,2,   143.11,2,    36.67,2,     0.00,2,    2.530,2,     -999,9,     -999,9,-999,9,-999,9,   2331.5,2,   2416.5,2,   7.5695,2,    25.00,     -999,9,     -999,9,   1.5830,2
  49UP20110515,   P13,   138,  1,      3,      76,2,20110811,2128,2129, -4.0063, 164.9798, 3324,   3361.2,     3316,   1.5400,  34.6788,2,    148.3,2,  34.6789,2,     -999,9,   143.14,2,    36.46,2,     0.00,2,    2.520,2,     -999,9,     -999,9,-999,9,-999,9,   2328.5,2,   2414.1,3,   7.5757,2,    25.00,     -999,9,     -999,9,   1.5398,2
  49UP20110515,   P13,   138,  1,      1,     112,2,20110811,2128,2128, -4.0063, 164.9798, 3324,   3361.4,     3316,   1.5402,  34.6787,2,    148.2,2,  34.6796,2,   147.86,2,   143.16,2,    36.39,2,     0.00,2,    2.530,2,    0.025,3,    0.000,2,-999,9,-999,9,   2327.4,2,   2416.8,2,   7.5755,2,    25.00,     -999,9,     -999,9,   1.5396,2
  49UP20110515,   P13,   138,  1,      2,      75,2,20110811,2128,2128, -4.0063, 164.9798, 3324,   3361.6,     3317,   1.5400,  34.6787,2,    148.2,2,  34.6788,2,     -999,9,   143.22,2,    36.53,2,     0.00,2,    2.520,2,     -999,9,     -999,9,-212.9,6,0.2,6,   2326.5,2,   2413.8,3,   7.5729,2,    25.00,     -999,9,     -999,9,   1.5394,2