BOTTLE,20240116CCHSIOVAJ
EXPOCODE,SECT_ID,STNNBR,CASTNO,SAMPNO,BTLNBR,BTLNBR_FLAG_W,DATE,TIME,BTL_TIME,LATITUDE,LONGITUDE,DEPTH,CTDPRS,CTDDEPTH,CTDTMP,CTDSAL,CTDSAL_FLAG_W,CTDOXY,CTDOXY_FLAG_W,SALNTY,SALNTY_FLAG_W,OXYGEN,OXYGEN_FLAG_W,SILCAT,SILCAT_FLAG_W,NO2+NO3,NO2+NO3_FLAG_W,NITRIT,NITRIT_FLAG_W,PHSPHT,PHSPHT_FLAG_W,CFC-11,CFC-11_FLAG_W,CFC-12,CFC-12_FLAG_W,DELC14,DELC14_FLAG_W,DELC13,DELC13_FLAG_W,TCARBN,TCARBN_FLAG_W,ALKALI,ALKALI_FLAG_W,PH_TOT,PH_TOT_FLAG_W,PH_TMP,CHLORA,CHLORA_FLAG_W,PPHYTN,PPHYTN_FLAG_W,REFTMP,REFTMP_FLAG_W
,,,,,,,,,,,,METERS,DBAR,METERS,ITS-90,PSS-78,,UMOL/KG,,PSS-78,,UMOL/KG,,UMOL/KG,,UMOL/KG,,UMOL/KG,,UMOL/KG,,PMOL/KG,,PMOL/KG,,/MILLE,,/MILLE,,UMOL/KG,,UMOL/KG,,,,DEG C,UG/KG,,UG/KG,,ITS-90,
  49UP20110515,   P13,   133,  1,      0,     BUC,2,20110810,1655,1845, -1.9383, 165.0120, 4466,      0.0,        0,  29.8144,  34.4392,2,    195.5,2,     -999,9,   194.52,2,     1.24,2,     0.05,2,     0.00,2,    0.130,2,     -999,9,     -999,9,-999,9,-999,9,     -999,9,     -999,9,     -999,9,     -999,     0.06,2,     0.03,2,     -999,9
  49UP20110515,   P13,   133,  1,     36,     109,2,20110810,1655,1855, -1.9383, 165.0120, 4466,     11.0,       11,  29.8274,  34.4385,2,    195.4,2,  34.4378,6,   194.48,2,     1.13,2,     0.03,2,     0.00,2,    0.110,2,    1.732,3,    1.021,2,-999,9,-999,9,   1918.4,2,   2262.1,2,   8.1317,2,    25.00,     0.06,2,     0.02,2,  29.8270,2
  49UP20110515,   P13,   133,  1,     35,     108,2,20110810,1655,1853, -1.9383, 165.0120, 4466,     26.1,       26,  29.8785,  34.4849,2,    195.6,2,  34.5078,4,   195.30,2,     1.14,2,     0.03,2,     0.00,2,    0.120,2,    1.689,3,    1.001,2,-999,9,-999,9,   1925.9,2,   2266.1,2,   8.1257,2,    25.00,     0.07,2,     0.03,2,  29.8770,2
  49UP20110515,   P13,   133,  1,     34,     107,2,20110810,1655,1850, -1.9383, 165.0120, 4466,     51.1,       51,  29.7596,  35.1231,2,    197.8,2,  35.1566,4,   197.72,2,     1.33,2,     0.15,2,     0.01,2,    0.210,2,    1.669,3,    1.007,2,-999,9,-999,9,   1975.4,2,   2310.5,2,   8.1027,6,    25.00,     0.22,2,     0.12,2,  29.7607,2
  49UP20110515,   P13,   133,  1,     33,     106,2,20110810,1655,1848, -1.9383, 165.0120, 4466,     76.1,       76,  29.2209,  35.3129,2,    195.4,2,  35.3117,2,   195.67,2,     1.44,2,     1.08,2,     0.08,2,    0.300,2,    1.758,3,    1.034,2,-999,9,-999,9,   1995.8,6,   2321.5,6,   8.0807,2,    25.00,     0.24,2,     0.18,2,  29.2193,2
  49UP20110515,   P13,   133,  1,     32,     105,2,20110810,1655,1847, -1.9383, 165.0120, 4466,    101.3,      101,  29.1891,  35.3375,2,    192.3,2,  35.3566,4,   191.73,2,     1.51,2,     1.36,2,     0.16,2,    0.340,2,    1.692,3,    1.017,2,-999,9,-999,9,   2000.5,2,   2323.8,2,   8.0756,2,    25.00,     0.18,2,     0.13,2,  29.1849,2
  49UP20110515,   P13,   133,  1,     31,     104,2,20110810,1655,1846, -1.9383, 165.0120, 4466,    130.1,      129,  27.3754,  35.6205,2,    170.9,2,  35.6412,4,   171.50,2,     1.72,2,     5.83,2,     0.74,2,    0.590,2,    1.619,3,    1.078,6,-999,9,-999,9,   2044.1,2,   2340.0,2,   8.0188,2,    25.00,     0.08,2,     0.06,2,  27.3756,2
  49UP20110515,   P13,   133,  1,     30,     103,2,20110810,1655,1844, -1.9383, 165.0120, 4466,    153.5,      153,  25.0420,  35.6679,2,    146.1,2,  35.6425,4,   147.64,2,     2.42,2,     8.79,2,     0.03,2,    0.770,2,    1.758,3,    1.144,2,-999,9,-999,9,   2084.8,2,   2340.3,2,   7.9548,2,    25.00,     0.02,2,     0.03,2,  25.0449,2
  49UP20110515,   P13,   133,  1,     29,     102,2,20110810,1655,1843, -1.9383, 165.0120, 4466,    201.9,      201,  18.2400,  35.4815,2,    108.7,2,  35.3785,4,   107.03,2,     7.79,6,    16.90,6,     0.01,6,    1.340,6,    1.810,3,    1.102,2,-999,9,-999,9,   2172.5,3,   2327.6,3,   7.7750,2,    25.00,     -999,9,     -999,9,  18.2413,2
  49UP20110515,   P13,   133,  1,     28,     101,2,20110810,1655,1843, -1.9383, 165.0120, 4466,    201.9,      201,  18.2400,  35.4815,2,    108.7,2,  35.3855,4,   107.39,2,     7.66,2,    16.80,2,     0.01,2,    1.340,2,    1.751,3,    1.084,2,-999,9,-999,9,   2165.8,2,   2332.0,2,   7.7741,2,    25.00,     0.00,2,     0.02,2,  18.2413,2
  49UP20110515,   P13,   133,  1,     27,     100,2,20110810,1655,1841, -1.9383, 165.0120, 4466,    251.2,      250,  11.2128,  34.8227,2,    132.6,2,  34.8155,2,   131.94,2,    18.91,2,    22.78,2,     0.00,2,    1.630,2,    1.416,3,    0.831,6,-999,9,-999,9,   2181.3,2,   2304.7,2,   7.6941,2,    25.00,     -999,9,     -999,9,  11.2170,2
  49UP20110515,   P13,   133,  1,     26,      99,2,20110810,1655,1839, -1.9383, 165.0120, 4466,    332.5,      330,  10.3095,  34.7556,2,    123.9,2,  34.7523,2,   122.17,6,    20.81,2,    25.59,2,     0.00,2,    1.800,2,    1.196,3,    0.684,2,-999,9,-999,9,   2190.1,2,   2303.0,2,   7.6473,2,    25.00,     -999,9,     -999,9,  10.3106,2
  49UP20110515,   P13,   133,  1,     25,      98,2,20110810,1655,1838, -1.9383, 165.0120, 4466,    383.7,      381,   9.4113,  34.6933,2,    114.8,2,  34.6919,2,   113.72,2,    23.90,2,    28.18,2,     0.00,2,    1.970,2,    0.950,3,    0.521,2,-999,9,-999,9,   2201.9,2,   2301.3,2,   7.6108,6,    25.00,     -999,9,     -999,9,   9.4132,2
  49UP20110515,   P13,   133,  1,     24,      97,2,20110810,1655,1835, -1.9383, 165.0120, 4466,    433.6,      431,   8.8096,  34.6592,2,     86.2,2,  34.6579,2,    86.10,2,    29.52,2,    32.32,2,     0.00,2,    2.240,2,    0.560,3,    0.298,2,-999,9,-999,9,   2227.5,6,   2302.2,6,   7.5460,2,    25.00,     -999,9,     -999,9,   8.8093,2
  49UP20110515,   P13,   133,  1,     23,      96,2,20110810,1655,1832, -1.9383, 165.0120, 4466,    534.4,      531,   6.8434,  34.5525,2,    108.4,2,  34.5518,2,   109.28,2,    39.95,6,    33.99,6,     0.00,6,    2.370,6,    0.351,3,    0.177,2,-999,9,-999,9,   2236.0,2,   2312.1,2,   7.5485,2,    25.00,     -999,9,     -999,9,   6.8436,2
  49UP20110515,   P13,   133,  1,     22,      95,2,20110810,1655,1830, -1.9383, 165.0120, 4466,    634.8,      630,   6.3727,  34.5452,2,     95.6,2,  34.5447,6,    95.89,2,    49.85,2,    36.00,2,     0.00,2,    2.530,2,    0.221,3,    0.100,2,-999,9,-999,9,   2255.3,2,   2319.1,2,   7.5206,2,    25.00,     -999,9,     -999,9,   6.3736,2
  49UP20110515,   P13,   133,  1,     21,      94,2,20110810,1655,1827, -1.9383, 165.0120, 4466,    736.1,      731,   5.7368,  34.5397,2,     91.9,2,  34.5399,2,    91.94,2,    59.59,2,    37.31,2,     0.00,2,    2.630,2,    0.103,3,    0.047,2,-999,9,-999,9,   2269.1,2,   2327.2,2,   7.5067,2,    25.00,     -999,9,     -999,9,   5.7370,2
  49UP20110515,   P13,   133,  1,     20,      93,2,20110810,1655,1825, -1.9383, 165.0120, 4466,    836.5,      830,   5.2225,  34.5389,2,     96.1,2,  34.5388,2,    96.07,2,    68.29,2,    37.51,2,     0.00,2,    2.680,2,    0.076,3,    0.024,2,-999,9,-999,9,   2278.6,2,   2337.9,2,   7.5059,2,    25.00,     -999,9,     -999,9,   5.2229,2
  49UP20110515,   P13,   133,  1,     19,      92,2,20110810,1655,1822, -1.9383, 165.0120, 4466,    938.5,      931,   4.8582,  34.5429,2,     96.0,2,  34.5434,2,    97.23,2,    74.38,2,    38.00,2,     0.00,2,    2.680,2,    0.089,3,    0.026,2,-999,9,-999,9,   2284.8,2,   2343.9,2,   7.5060,2,    25.00,     -999,9,     -999,9,   4.8588,2
  49UP20110515,   P13,   133,  1,     18,      91,2,20110810,1655,1818, -1.9383, 165.0120, 4466,   1079.4,     1071,   4.3077,  34.5479,2,    107.4,2,  34.5478,2,   107.87,2,    82.80,2,    37.55,2,     0.00,2,    2.660,2,    0.086,3,    0.025,2,-999,9,-999,9,   2285.9,2,   2355.1,2,   7.5146,2,    25.00,     -999,9,     -999,9,   4.3084,2
  49UP20110515,   P13,   133,  1,     17,      90,2,20110810,1655,1814, -1.9383, 165.0120, 4466,   1281.8,     1271,   3.6677,  34.5768,2,     94.4,2,  34.5755,2,    94.18,2,   102.81,2,    39.25,2,     0.00,2,    2.790,2,    0.000,3,    0.000,2,-999,9,-999,9,   2316.6,2,   2371.8,2,   7.4970,2,    25.00,     -999,9,     -999,9,   3.6681,2
  49UP20110515,   P13,   133,  1,     16,      89,2,20110810,1655,1810, -1.9383, 165.0120, 4466,   1484.5,     1471,   3.2316,  34.5895,2,    106.1,2,  34.5900,2,   105.93,2,   108.85,2,    38.55,2,     0.00,2,    2.730,2,    0.000,3,    0.000,2,-999,9,-999,9,   2319.2,2,   2381.8,2,   7.5140,2,    25.00,     -999,9,     -999,9,   3.2319,2
  49UP20110515,   P13,   133,  1,     15,      88,2,20110810,1655,1803, -1.9383, 165.0120, 4466,   1686.2,     1670,   2.7371,  34.6125,2,    109.3,2,  34.6120,2,   109.86,2,   121.98,2,    38.68,2,     0.00,2,    2.730,2,    0.025,3,    0.000,2,-999,9,-999,9,   2328.3,2,   2395.4,2,   7.5160,2,    25.00,     -999,9,     -999,9,   2.7372,2
  49UP20110515,   P13,   133,  1,     14,      87,2,20110810,1655,1803, -1.9383, 165.0120, 4466,   1686.2,     1670,   2.7371,  34.6125,2,    109.3,2,  34.6129,2,   109.37,2,   121.92,2,    38.57,2,     0.00,2,    2.720,2,    0.030,3,    0.000,2,-999,9,-999,9,   2328.7,2,   2394.7,2,   7.5158,2,    25.00,     -999,9,     -999,9,   2.7372,2
  49UP20110515,   P13,   133,  1,     13,      86,2,20110810,1655,1759, -1.9383, 165.0120, 4466,   1890.2,     1871,   2.3818,  34.6304,2,    115.8,2,  34.6312,2,   115.94,6,   130.15,2,    38.37,2,     0.00,2,    2.700,2,     -999,9,     -999,9,-999,9,-999,9,   2335.0,2,   2404.6,2,   7.5278,2,    25.00,     -999,9,     -999,9,   2.3822,2
  49UP20110515,   P13,   133,  1,     12,      74,2,20110810,1655,1749, -1.9383, 165.0120, 4466,   2092.6,     2071,   2.1826,  34.6412,2,    120.2,2,  34.6417,2,   120.32,2,   134.29,6,    38.09,6,     0.00,6,    2.670,6,     -999,9,     -999,9,-999,9,-999,9,   2334.3,2,   2408.8,2,   7.5364,2,    25.00,     -999,9,     -999,9,   2.1829,2
  49UP20110515,   P13,   133,  1,     11,     110,2,20110810,1655,1745, -1.9383, 165.0120, 4466,   2296.2,     2271,   2.0001,  34.6511,2,    124.7,2,  34.6506,6,   124.61,2,   138.33,2,    37.93,2,     0.00,2,    2.640,2,     -999,9,     -999,9,-999,9,-999,9,   2337.8,2,   2414.1,2,   7.5418,2,    25.00,     -999,9,     -999,9,   2.0002,2
  49UP20110515,   P13,   133,  1,     10,      83,2,20110810,1655,1740, -1.9383, 165.0120, 4466,   2499.1,     2471,   1.8553,  34.6588,2,    129.1,2,  34.6588,2,   142.06,4,   141.73,2,    37.61,2,     0.00,2,    2.620,2,     -999,9,     -999,9,-999,9,-999,9,   2337.6,2,   2417.4,2,   7.5473,6,    25.00,     -999,9,     -999,9,   1.8554,2
  49UP20110515,   P13,   133,  1,      9,      82,2,20110810,1655,1733, -1.9383, 165.0120, 4466,   2702.2,     2670,   1.7583,  34.6642,2,    132.7,2,  34.6652,2,   132.44,2,   143.58,2,    37.45,2,     0.00,2,    2.610,2,     -999,9,     -999,9,-999,9,-999,9,   2334.5,6,   2416.7,6,   7.5495,2,    25.00,     -999,9,     -999,9,   1.7585,2
  49UP20110515,   P13,   133,  1,      8,      81,2,20110810,1655,1729, -1.9383, 165.0120, 4466,   2907.1,     2871,   1.6710,  34.6691,2,    136.4,2,  34.6701,2,   136.27,2,   144.76,2,    37.20,2,     0.00,2,    2.580,2,    0.002,3,    0.000,2,-999,9,-999,9,   2346.2,3,   2416.4,2,   7.5585,2,    25.00,     -999,9,     -999,9,   1.6710,2
  49UP20110515,   P13,   133,  1,      7,      80,2,20110810,1655,1725, -1.9383, 165.0120, 4466,   3120.0,     3080,   1.6200,  34.6729,2,    140.5,2,  34.6736,2,   140.28,2,   144.40,2,    36.99,2,     0.00,2,    2.560,2,     -999,9,     -999,9,-999,9,-999,9,   2334.3,2,   2416.7,2,   7.5639,2,    25.00,     -999,9,     -999,9,   1.6199,2
  49UP20110515,   P13,   133,  1,      6,      79,2,20110810,1655,1720, -1.9383, 165.0120, 4466,   3376.4,     3331,   1.5516,  34.6782,2,    146.5,2,  34.6777,2,   146.60,2,   144.18,6,    36.54,6,     0.00,6,    2.530,6,     -999,9,     -999,9,-999,9,-999,9,   2332.7,2,   2417.2,2,   7.5689,2,    25.00,     -999,9,     -999,9,   1.5518,2
  49UP20110515,   P13,   133,  1,      5,      78,2,20110810,1655,1715, -1.9383, 165.0120, 4466,   3631.8,     3581,   1.4926,  34.6841,2,    154.1,2,  34.6835,2,   154.30,2,   141.35,2,    36.06,2,     0.00,2,    2.480,2,     -999,9,     -999,9,-999,9,-999,9,   2324.0,2,   2412.4,2,   7.5815,2,    25.00,     -999,9,     -999,9,   1.4928,2
  49UP20110515,   P13,   133,  1,      4,      77,2,20110810,1655,1709, -1.9383, 165.0120, 4466,   3888.2,     3832,   1.4432,  34.6895,2,    161.9,2,  34.6894,2,   162.33,6,   138.59,2,    35.52,2,     0.00,2,    2.440,2,     -999,9,     -999,9,-999,9,-999,9,   2317.1,2,   2411.5,2,   7.5940,2,    25.00,     -999,9,     -999,9,   1.4433,2
  49UP20110515,   P13,   133,  1,      3,      76,2,20110810,1655,1704, -1.9383, 165.0120, 4466,   4144.1,     4081,   1.3993,  34.6938,2,    170.0,2,  34.6938,2,   169.83,2,   134.34,2,    34.88,2,     0.00,2,    2.400,2,     -999,9,     -999,9,-999,9,-999,9,   2318.0,3,   2401.1,2,   7.5993,2,    25.00,     -999,9,     -999,9,   1.3991,2
  49UP20110515,   P13,   133,  1,      2,      75,2,20110810,1655,1659, -1.9383, 165.0120, 4466,   4399.1,     4330,   1.3572,  34.6983,2,    177.7,2,  34.6977,2,   177.74,2,   130.31,2,    34.24,2,     0.00,2,    2.350,2,    0.000,3,    0.000,2,-999,9,-999,9,   2302.6,2,   2396.4,2,   7.6014,2,    25.00,     -999,9,     -999,9,   1.3571,2
  49UP20110515,   P13,   133,  1,      1,     112,2,20110810,1655,1656, -1.9383, 165.0120, 4466,   4523.1,     4451,   1.3626,  34.6987,2,    178.7,2,  34.7001,2,   178.75,2,   129.78,2,    34.22,2,     0.00,2,    2.340,2,     -999,9,     -999,9,-999,9,-999,9,   2298.9,2,   2397.7,2,   7.6068,2,    25.00,     -999,9,     -999,9,   1.3626,2