BOTTLE,20240116CCHSIOVAJ
EXPOCODE,SECT_ID,STNNBR,CASTNO,SAMPNO,BTLNBR,BTLNBR_FLAG_W,DATE,TIME,BTL_TIME,LATITUDE,LONGITUDE,DEPTH,CTDPRS,CTDDEPTH,CTDTMP,CTDSAL,CTDSAL_FLAG_W,CTDOXY,CTDOXY_FLAG_W,SALNTY,SALNTY_FLAG_W,OXYGEN,OXYGEN_FLAG_W,SILCAT,SILCAT_FLAG_W,NO2+NO3,NO2+NO3_FLAG_W,NITRIT,NITRIT_FLAG_W,PHSPHT,PHSPHT_FLAG_W,CFC-11,CFC-11_FLAG_W,CFC-12,CFC-12_FLAG_W,DELC14,DELC14_FLAG_W,DELC13,DELC13_FLAG_W,TCARBN,TCARBN_FLAG_W,ALKALI,ALKALI_FLAG_W,PH_TOT,PH_TOT_FLAG_W,PH_TMP,CHLORA,CHLORA_FLAG_W,PPHYTN,PPHYTN_FLAG_W,REFTMP,REFTMP_FLAG_W
,,,,,,,,,,,,METERS,DBAR,METERS,ITS-90,PSS-78,,UMOL/KG,,PSS-78,,UMOL/KG,,UMOL/KG,,UMOL/KG,,UMOL/KG,,UMOL/KG,,PMOL/KG,,PMOL/KG,,/MILLE,,/MILLE,,UMOL/KG,,UMOL/KG,,,,DEG C,UG/KG,,UG/KG,,ITS-90,
  49UP20110515,   P13,   147,  1,      0,     BUC,2,20110814,1304,1340, -7.2392, 161.9657, 1529,      0.0,        0,  28.9137,  35.0284,2,    194.9,2,     -999,9,   193.62,2,     0.91,2,     0.00,2,     0.00,2,    0.150,2,     -999,9,     -999,9,-999,9,-999,9,     -999,9,     -999,9,     -999,9,     -999,     0.05,2,     0.03,2,     -999,9
  49UP20110515,   P13,   147,  1,     36,     109,2,20110814,1304,1409, -7.2392, 161.9657, 1529,     10.9,       11,  28.9189,  35.0264,2,    194.8,2,  35.0251,6,   194.90,2,     0.83,2,     0.00,2,     0.00,2,    0.140,2,    1.665,3,    1.026,2,-999,9,-999,9,   1952.5,2,   2301.3,2,   8.1246,2,    25.00,     0.06,2,     0.03,2,  28.9207,2
  49UP20110515,   P13,   147,  1,     35,     108,2,20110814,1304,1407, -7.2392, 161.9657, 1529,     27.2,       27,  28.9497,  35.0750,2,    194.6,2,  35.0585,4,   194.59,2,     0.96,2,     0.00,2,     0.00,2,    0.150,2,    1.645,3,    1.023,2,-999,9,-999,9,   1954.8,2,   2306.2,2,   8.1227,2,    25.00,     0.07,2,     0.03,2,  28.9493,2
  49UP20110515,   P13,   147,  1,     34,     107,2,20110814,1304,1405, -7.2392, 161.9657, 1529,     50.6,       50,  28.9159,  35.1209,2,    194.2,2,  35.1193,2,   194.07,2,     0.91,2,     0.00,2,     0.00,2,    0.160,2,    1.735,3,    1.034,2,-999,9,-999,9,   1960.0,2,   2309.4,2,   8.1214,6,    25.00,     0.12,2,     0.08,2,  28.9180,2
  49UP20110515,   P13,   147,  1,     33,     106,2,20110814,1304,1403, -7.2392, 161.9657, 1529,     76.7,       76,  28.9695,  35.2539,2,    186.3,2,  35.2257,4,   186.97,2,     1.14,2,     0.76,2,     0.16,2,    0.250,2,    1.714,3,    1.049,2,-999,9,-999,9,   1975.0,6,   2314.8,6,   8.1027,2,    25.00,     0.23,2,     0.16,2,  28.9683,2
  49UP20110515,   P13,   147,  1,     32,     105,2,20110814,1304,1359, -7.2392, 161.9657, 1529,     99.7,       99,  27.7979,  35.5808,2,    163.5,2,  35.5859,2,   163.29,6,     1.62,6,     5.28,6,     0.28,6,    0.540,6,    1.710,3,    1.086,2,-999,9,-999,9,   2038.8,2,   2336.0,2,   8.0302,2,    25.00,     0.16,2,     0.25,2,  27.7920,2
  49UP20110515,   P13,   147,  1,     31,     104,2,20110814,1304,1357, -7.2392, 161.9657, 1529,    125.1,      124,  26.6046,  35.6861,2,    152.0,2,  35.6819,2,   152.45,2,     1.84,2,     6.89,2,     0.03,2,    0.650,2,    1.750,3,    1.131,6,-999,9,-999,9,   2059.5,2,   2345.9,2,   7.9982,2,    25.00,     0.07,2,     0.14,2,  26.6234,2
  49UP20110515,   P13,   147,  1,     30,     103,2,20110814,1304,1355, -7.2392, 161.9657, 1529,    149.1,      148,  25.6019,  35.7432,2,    139.8,2,  35.7427,6,   139.57,2,     1.79,2,     7.04,2,     0.02,2,    0.640,2,    1.786,3,    1.183,2,-999,9,-999,9,   2072.5,2,   2346.6,2,   7.9814,2,    25.00,     0.04,2,     0.08,2,  25.6008,2
  49UP20110515,   P13,   147,  1,     29,     102,2,20110814,1304,1353, -7.2392, 161.9657, 1529,    201.8,      201,  23.0011,  35.9656,2,    132.5,2,  35.9662,2,   132.47,2,     2.03,2,     8.70,2,     0.01,2,    0.800,2,    1.942,3,    1.289,2,-999,9,-999,9,   2115.2,2,   2364.3,2,   7.9257,2,    25.00,     -999,9,     -999,9,  23.0427,2
  49UP20110515,   P13,   147,  1,     28,     101,2,20110814,1304,1353, -7.2392, 161.9657, 1529,    201.8,      201,  23.0011,  35.9656,2,    132.5,2,  35.9666,2,   132.07,2,     2.03,2,     8.73,2,     0.01,2,    0.800,2,    1.895,3,    1.273,2,-999,9,-999,9,   2117.1,2,   2365.0,2,   7.9251,2,    25.00,     0.00,2,     0.02,2,  23.0427,2
  49UP20110515,   P13,   147,  1,     27,     100,2,20110814,1304,1351, -7.2392, 161.9657, 1529,    251.0,      249,  17.4622,  35.4206,2,    129.5,2,  35.4355,4,   128.63,2,     5.14,6,    12.64,6,     0.00,6,    1.070,6,    1.960,3,    1.246,6,-999,9,-999,9,   2139.7,2,   2334.0,2,   7.8301,2,    25.00,     -999,9,     -999,9,  17.5108,2
  49UP20110515,   P13,   147,  1,     26,      99,2,20110814,1304,1348, -7.2392, 161.9657, 1529,    301.6,      300,  12.6738,  34.9502,2,    109.0,2,  34.9540,2,   109.47,6,    13.58,2,    21.75,2,     0.00,2,    1.650,2,    1.387,3,    0.845,2,-999,9,-999,9,   2178.8,2,   2310.5,2,   7.6890,2,    25.00,     -999,9,     -999,9,  12.6663,2
  49UP20110515,   P13,   147,  1,     25,      98,2,20110814,1304,1346, -7.2392, 161.9657, 1529,    353.8,      352,  10.5416,  34.7811,2,    106.1,2,  34.7829,6,   106.00,2,    19.20,2,    26.23,2,     0.00,2,    1.900,2,    0.994,3,    0.591,2,-999,9,-999,9,   2195.5,2,   2306.2,2,   7.6340,2,    25.00,     -999,9,     -999,9,  10.5418,2
  49UP20110515,   P13,   147,  1,     24,      97,2,20110814,1304,1344, -7.2392, 161.9657, 1529,    405.1,      402,   8.8376,  34.6619,2,    115.4,2,  34.6631,2,   115.81,2,    24.85,2,    29.06,2,     0.00,2,    2.050,2,    0.699,3,    0.403,2,-999,9,-999,9,   2204.1,2,   2303.9,2,   7.6057,2,    25.00,     -999,9,     -999,9,   8.8354,2
  49UP20110515,   P13,   147,  1,     23,      96,2,20110814,1304,1341, -7.2392, 161.9657, 1529,    505.9,      502,   7.3521,  34.5714,2,    118.8,2,  34.5730,2,   119.12,2,    33.00,2,    32.01,2,     0.00,2,    2.220,2,    0.448,3,    0.241,2,-999,9,-999,9,   2225.2,2,   2306.4,2,   7.5765,2,    25.00,     -999,9,     -999,9,   7.3578,2
  49UP20110515,   P13,   147,  1,     22,      95,2,20110814,1304,1341, -7.2392, 161.9657, 1529,    505.9,      502,   7.3521,  34.5714,2,    118.8,2,  34.5731,2,   118.98,2,    32.99,2,    32.02,2,     0.00,2,    2.220,2,    0.458,3,    0.243,2,-999,9,-999,9,   2219.8,2,   2307.6,2,   7.5770,2,    25.00,     -999,9,     -999,9,   7.3578,2
  49UP20110515,   P13,   147,  1,     21,      94,2,20110814,1304,1337, -7.2392, 161.9657, 1529,    605.2,      601,   6.5109,  34.5332,2,    124.9,2,  34.5343,2,   125.12,2,    39.73,2,    33.04,2,     0.00,2,    2.300,2,    0.349,3,    0.178,2,-999,9,-999,9,   2225.1,2,   2312.5,2,   7.5670,6,    25.00,     -999,9,     -999,9,   6.5111,2
  49UP20110515,   P13,   147,  1,     20,      93,2,20110814,1304,1334, -7.2392, 161.9657, 1529,    708.2,      703,   6.0260,  34.5241,2,    118.3,2,  34.5250,2,   118.83,6,    46.29,2,    34.64,2,     0.00,2,    2.420,2,    0.205,3,    0.101,2,-999,9,-999,9,   2236.4,2,   2317.3,2,   7.5512,2,    25.00,     -999,9,     -999,9,   6.0260,2
  49UP20110515,   P13,   147,  1,     19,      92,2,20110814,1304,1331, -7.2392, 161.9657, 1529,    808.5,      802,   5.2661,  34.5115,2,    127.9,2,  34.5130,2,   128.27,2,    55.06,6,    34.83,6,     0.00,6,    2.440,6,    0.195,3,    0.101,2,-999,9,-999,9,   2246.1,6,   2324.0,6,   7.5592,2,    25.00,     -999,9,     -999,9,   5.2659,2
  49UP20110515,   P13,   147,  1,     18,      91,2,20110814,1304,1327, -7.2392, 161.9657, 1529,    909.2,      902,   4.8906,  34.5130,2,    130.5,2,  34.5132,6,   130.50,2,    61.03,2,    34.98,2,     0.00,2,    2.460,2,    0.131,3,    0.059,2,-999,9,-999,9,   2250.8,3,   2330.7,3,   7.5540,2,    25.00,     -999,9,     -999,9,   4.8914,2
  49UP20110515,   P13,   147,  1,     17,      90,2,20110814,1304,1327, -7.2392, 161.9657, 1529,    909.2,      902,   4.8906,  34.5130,2,    130.5,2,  34.5130,2,   130.75,2,    61.09,2,    35.10,2,     0.00,2,    2.460,2,    0.128,3,    0.058,2,-999,9,-999,9,   2262.7,2,   2332.2,2,   7.5563,2,    25.00,     -999,9,     -999,9,   4.8914,2
  49UP20110515,   P13,   147,  1,     16,      89,2,20110814,1304,1324, -7.2392, 161.9657, 1529,   1007.7,     1000,   4.3755,  34.5315,2,    123.3,2,  34.5311,2,   123.67,6,    73.44,2,    36.32,2,     0.00,2,    2.550,2,    0.055,3,    0.024,2,-999,9,-999,9,   2269.2,2,   2345.4,2,   7.5460,2,    25.00,     -999,9,     -999,9,   4.3754,2
  49UP20110515,   P13,   147,  1,     15,      88,2,20110814,1304,1319, -7.2392, 161.9657, 1529,   1209.6,     1199,   3.6801,  34.5619,2,    114.1,2,  34.5639,2,   114.32,2,    92.11,6,    37.75,6,     0.00,6,    2.670,6,    0.010,3,    0.000,2,-999,9,-999,9,   2302.2,2,   2366.2,2,   7.5231,6,    25.00,     -999,9,     -999,9,   3.6815,2
  49UP20110515,   P13,   147,  1,     14,      87,2,20110814,1304,1310, -7.2392, 161.9657, 1529,   1411.7,     1399,   3.0701,  34.5839,2,    126.6,2,  34.5858,2,   126.53,2,   102.61,2,    37.09,2,     0.00,2,    2.610,2,    0.000,3,    0.000,2,-999,9,-999,9,   2300.9,6,   2377.6,2,   7.5387,2,    25.00,     -999,9,     -999,9,   3.0687,2
  49UP20110515,   P13,   147,  1,     13,      86,2,20110814,1304,1307, -7.2392, 161.9657, 1529,   1507.8,     1494,   2.8257,  34.5969,2,    129.2,2,     -999,9,     -999,9,   108.27,2,    37.04,2,     0.00,2,    2.600,2,    0.000,3,    0.000,2,-999,9,-999,9,     -999,9,     -999,9,     -999,9,     -999,     -999,9,     -999,9,   2.8258,2
  49UP20110515,   P13,   147,  1,     10,      83,2,20110814,1304,1306, -7.2392, 161.9657, 1529,   1508.9,     1495,   2.8036,  34.5982,2,    129.4,2,  34.5979,2,   129.52,2,     -999,9,     -999,9,     -999,9,     -999,9,     -999,9,     -999,9,-999,9,-999,9,     -999,9,     -999,9,     -999,9,     -999,     -999,9,     -999,9,   2.8019,2
  49UP20110515,   P13,   147,  1,      5,      78,2,20110814,1304,1305, -7.2392, 161.9657, 1529,   1510.2,     1496,   2.7946,  34.5981,2,    129.5,2,  34.6008,4,   129.65,2,     -999,9,     -999,9,     -999,9,     -999,9,     -999,9,     -999,9,-999,9,-999,9,     -999,9,     -999,9,     -999,9,     -999,     -999,9,     -999,9,   2.7938,2
  49UP20110515,   P13,   147,  1,      3,      76,2,20110814,1304,1305, -7.2392, 161.9657, 1529,   1510.8,     1497,   2.7307,  34.6029,2,    129.8,2,     -999,9,     -999,9,     -999,9,     -999,9,     -999,9,     -999,9,    0.000,3,    0.000,2,-999,9,-999,9,     -999,9,     -999,9,     -999,9,     -999,     -999,9,     -999,9,   2.7435,2
  49UP20110515,   P13,   147,  1,      2,      75,2,20110814,1304,1304, -7.2392, 161.9657, 1529,   1511.0,     1497,   2.7524,  34.6017,2,    129.7,2,     -999,9,     -999,9,     -999,9,     -999,9,     -999,9,     -999,9,     -999,9,     -999,9,-999,9,-999,9,   2303.0,2,   2381.6,3,   7.5435,2,    25.00,     -999,9,     -999,9,   2.7649,2
  49UP20110515,   P13,   147,  1,      1,     112,2,20110814,1304,1304, -7.2392, 161.9657, 1529,   1511.1,     1497,   2.7720,  34.6000,2,    129.6,2,  34.6000,2,   129.32,2,   109.34,2,    37.09,2,     0.00,2,    2.610,2,     -999,9,     -999,9,-999,9,-999,9,   2303.7,2,   2383.8,2,   7.5438,2,    25.00,     -999,9,     -999,9,   2.7734,2