BOTTLE,20240116CCHSIOVAJ
EXPOCODE,SECT_ID,STNNBR,CASTNO,SAMPNO,BTLNBR,BTLNBR_FLAG_W,DATE,TIME,BTL_TIME,LATITUDE,LONGITUDE,DEPTH,CTDPRS,CTDDEPTH,CTDTMP,CTDSAL,CTDSAL_FLAG_W,CTDOXY,CTDOXY_FLAG_W,SALNTY,SALNTY_FLAG_W,OXYGEN,OXYGEN_FLAG_W,SILCAT,SILCAT_FLAG_W,NO2+NO3,NO2+NO3_FLAG_W,NITRIT,NITRIT_FLAG_W,PHSPHT,PHSPHT_FLAG_W,CFC-11,CFC-11_FLAG_W,CFC-12,CFC-12_FLAG_W,DELC14,DELC14_FLAG_W,DELC13,DELC13_FLAG_W,TCARBN,TCARBN_FLAG_W,ALKALI,ALKALI_FLAG_W,PH_TOT,PH_TOT_FLAG_W,PH_TMP,CHLORA,CHLORA_FLAG_W,PPHYTN,PPHYTN_FLAG_W,REFTMP,REFTMP_FLAG_W
,,,,,,,,,,,,METERS,DBAR,METERS,ITS-90,PSS-78,,UMOL/KG,,PSS-78,,UMOL/KG,,UMOL/KG,,UMOL/KG,,UMOL/KG,,UMOL/KG,,PMOL/KG,,PMOL/KG,,/MILLE,,/MILLE,,UMOL/KG,,UMOL/KG,,,,DEG C,UG/KG,,UG/KG,,ITS-90,
  49UP20110515,   KSE,    42,  1,      0,     BUC,2,20110612,1856,2150, 49.0038, 163.2965, 5631,      0.0,        0,   5.7117,  32.8795,2,    322.3,2,     -999,9,   321.86,2,    41.35,2,    20.03,2,     0.27,2,    1.660,2,     -999,9,     -999,9,-999,9,-999,9,     -999,9,     -999,9,     -999,9,     -999,     1.20,2,     0.09,2,     -999,9
  49UP20110515,   KSE,    42,  1,     36,     109,2,20110612,1856,2158, 49.0038, 163.2965, 5631,     10.6,       11,   5.7032,  32.8811,2,    322.2,2,  32.8823,2,   322.47,6,    41.30,2,    20.06,6,     0.27,6,    1.670,6,    4.763,2,    2.751,2,-999,9,-999,9,   2073.8,2,   2220.7,2,   7.7498,2,    25.00,     0.61,2,     0.13,2,   5.7069,2
  49UP20110515,   KSE,    42,  1,     35,     108,2,20110612,1856,2154, 49.0038, 163.2965, 5631,     52.0,       52,   4.2111,  32.9462,2,    325.1,2,  32.9464,2,   325.83,2,    43.68,2,    22.14,2,     0.31,2,    1.810,2,    5.314,2,    2.899,2,-999,9,-999,9,   2097.6,2,   2225.7,2,   7.7030,2,    25.00,     0.56,2,     0.33,2,   4.2115,2
  49UP20110515,   KSE,    42,  1,     34,     107,2,20110612,1856,2151, 49.0038, 163.2965, 5631,    101.8,      101,   2.5573,  33.0307,2,    319.6,2,  33.0299,2,   319.74,2,    44.86,6,    25.14,6,     0.17,6,    1.980,6,    5.794,2,    3.033,2,-999,9,-999,9,   2119.9,2,   2231.3,2,   7.6633,2,    25.00,     0.13,2,     0.07,2,   2.5567,2
  49UP20110515,   KSE,    42,  1,     33,     106,2,20110612,1856,2147, 49.0038, 163.2965, 5631,    152.9,      152,   3.6090,  33.6190,2,    127.2,2,  33.6071,4,   130.48,2,    75.93,2,    37.91,2,     0.01,2,    2.720,2,     -999,5,     -999,5,-999,9,-999,9,   2258.9,2,   2271.6,2,   7.3820,2,    25.00,     0.01,2,     0.04,2,   3.6039,2
  49UP20110515,   KSE,    42,  1,     32,     105,2,20110612,1856,2145, 49.0038, 163.2965, 5631,    202.6,      201,   4.0850,  33.8671,2,     52.4,2,  33.8602,2,    54.28,2,    87.79,2,    42.10,2,     0.01,2,    2.970,2,    2.269,2,    1.214,2,-999,9,-999,9,   2309.2,2,   2293.2,2,   7.2863,2,    25.00,     0.00,2,     0.02,2,   4.0859,2
  49UP20110515,   KSE,    42,  1,     31,     104,3,20110612,1856,2143, 49.0038, 163.2965, 5631,    253.3,      251,   3.9961,  33.9471,2,     30.8,2,  33.9437,2,    32.07,6,    95.12,2,    43.86,2,     0.00,2,    3.090,2,    1.818,6,    0.951,6,-999,9,-999,9,   2325.9,2,   2304.2,2,   7.2534,2,    25.00,     -999,9,     -999,9,   3.9959,2
  49UP20110515,   KSE,    42,  1,     30,     103,2,20110612,1856,2141, 49.0038, 163.2965, 5631,    284.7,      282,   3.9679,  33.9985,2,     24.5,2,  33.9953,2,    24.63,2,    99.31,2,    44.16,2,     0.00,2,    3.110,2,    1.551,2,    0.823,2,-999,9,-999,9,   2333.6,2,   2307.4,2,   7.2456,2,    25.00,     -999,9,     -999,9,   3.9685,2
  49UP20110515,   KSE,    42,  1,     29,     102,2,20110612,1856,2138, 49.0038, 163.2965, 5631,    375.1,      372,   3.6824,  34.0813,2,     18.5,2,  34.0796,2,    18.42,2,   111.99,2,    44.64,2,     0.00,2,    3.150,2,    1.202,2,    0.580,2,-999,9,-999,9,   2349.0,2,   2324.0,2,   7.2550,2,    25.00,     -999,9,     -999,9,   3.6832,2
  49UP20110515,   KSE,    42,  1,     28,     101,2,20110612,1856,2135, 49.0038, 163.2965, 5631,    475.3,      471,   3.5321,  34.1664,2,     16.7,2,  34.1662,6,    16.96,2,   120.95,2,    44.35,2,     0.00,2,    3.160,2,    0.804,2,    0.371,2,-999,9,-999,9,   2355.7,2,   2337.4,2,   7.2703,2,    25.00,     -999,9,     -999,9,   3.5324,2
  49UP20110515,   KSE,    42,  1,     27,     100,2,20110612,1856,2128, 49.0038, 163.2965, 5631,    576.5,      571,   3.3431,  34.2352,2,     15.8,2,  34.2332,2,    15.37,2,   129.21,2,    44.37,2,     0.00,2,    3.150,2,    0.542,6,    0.251,6,-999,9,-999,9,   2361.8,2,   2349.9,2,   7.2767,2,    25.00,     -999,9,     -999,9,   3.3436,2
  49UP20110515,   KSE,    42,  1,     26,      99,2,20110612,1856,2122, 49.0038, 163.2965, 5631,    678.9,      672,   3.1727,  34.2862,2,     15.9,2,  34.2856,2,    15.40,6,   136.26,2,    44.41,2,     0.00,2,    3.150,2,    0.369,2,    0.164,2,-999,9,-999,9,   2370.4,2,   2360.2,2,   7.2888,2,    25.00,     -999,9,     -999,9,   3.1727,2
  49UP20110515,   KSE,    42,  1,     25,      98,2,20110612,1856,2119, 49.0038, 163.2965, 5631,    780.8,      773,   3.0177,  34.3256,2,     17.2,2,  34.3244,2,    16.32,2,   141.84,2,    44.27,2,     0.00,2,    3.140,2,    0.282,2,    0.124,2,-999,9,-999,9,   2375.4,2,   2366.1,2,   7.2924,6,    25.00,     -999,9,     -999,9,   3.0180,2
  49UP20110515,   KSE,    42,  1,     24,      97,2,20110612,1856,2116, 49.0038, 163.2965, 5631,    881.3,      872,   2.8604,  34.3697,2,     17.1,2,  34.3696,2,    16.49,2,   147.48,2,    44.38,2,     0.00,2,    3.150,2,    0.202,2,    0.073,2,-999,9,-999,9,   2382.4,2,   2374.2,2,   7.3038,2,    25.00,     -999,9,     -999,9,   2.8608,2
  49UP20110515,   KSE,    42,  1,     23,      96,2,20110612,1856,2113, 49.0038, 163.2965, 5631,    982.1,      971,   2.7169,  34.4037,2,     18.6,2,  34.4037,2,    18.19,2,   152.33,2,    44.35,2,     0.00,2,    3.140,2,    0.150,2,    0.044,2,-999,9,-999,9,   2385.2,2,   2380.1,2,   7.3110,2,    25.00,     -999,9,     -999,9,   2.7172,2
  49UP20110515,   KSE,    42,  1,     22,      95,2,20110612,1856,2101, 49.0038, 163.2965, 5631,   1146.3,     1133,   2.4723,  34.4570,2,     23.2,2,  34.4565,2,    22.62,2,   160.76,6,    44.07,6,     0.00,6,    3.130,6,    0.092,2,    0.024,2,-999,9,-999,9,   2389.6,2,   2389.7,2,   7.3206,2,    25.00,     -999,9,     -999,9,   2.4722,2
  49UP20110515,   KSE,    42,  1,     21,      94,2,20110612,1856,2057, 49.0038, 163.2965, 5631,   1348.5,     1333,   2.2501,  34.5076,2,     33.2,2,  34.5079,2,    32.74,2,   167.35,2,    43.51,2,     0.00,2,    3.090,2,    0.101,2,    0.021,2,-999,9,-999,9,   2389.9,2,   2398.6,2,   7.3462,2,    25.00,     -999,9,     -999,9,   2.2504,2
  49UP20110515,   KSE,    42,  1,     20,      93,2,20110612,1856,2042, 49.0038, 163.2965, 5631,   1552.4,     1534,   2.0802,  34.5463,2,     45.1,2,  34.5464,2,    44.74,2,   170.25,2,    42.87,2,     0.00,2,    3.010,3,    0.058,2,    0.007,2,-999,9,-999,9,   2386.9,2,   2404.6,2,   7.3750,6,    25.00,     -999,9,     -999,9,   2.0803,2
  49UP20110515,   KSE,    42,  1,     19,      92,2,20110612,1856,2038, 49.0038, 163.2965, 5631,   1754.3,     1732,   1.9592,  34.5741,2,     56.6,2,  34.5733,2,    56.58,2,   172.18,2,    41.95,2,     0.00,2,    2.970,2,    0.046,2,    0.000,2,-999,9,-999,9,   2379.5,2,   2409.4,2,   7.3998,2,    25.00,     -999,9,     -999,9,   1.9593,2
  49UP20110515,   KSE,    42,  1,     18,      91,2,20110612,1856,2032, 49.0038, 163.2965, 5631,   1957.3,     1932,   1.8485,  34.5987,2,     70.4,2,  34.5995,2,    70.83,2,   172.23,2,    41.26,2,     0.00,2,    2.910,2,    0.045,2,    0.000,2,-999,9,-999,9,   2377.9,6,   2413.9,6,   7.4234,2,    25.00,     -999,9,     -999,9,   1.8484,2
  49UP20110515,   KSE,    42,  1,     17,      90,2,20110612,1856,2021, 49.0038, 163.2965, 5631,   2160.7,     2131,   1.7414,  34.6199,2,     84.5,2,  34.6215,4,    84.72,2,   171.02,2,    40.40,2,     0.00,2,    2.850,2,    0.030,2,    0.000,2,-999,9,-999,9,   2370.8,2,   2416.3,2,   7.4554,2,    25.00,     -999,9,     -999,9,   1.7414,2
  49UP20110515,   KSE,    42,  1,     16,      89,2,20110612,1856,2016, 49.0038, 163.2965, 5631,   2364.2,     2331,   1.6738,  34.6345,2,     96.9,2,  34.6363,4,    97.20,2,   168.17,2,    39.66,2,     0.00,2,    2.800,2,    0.031,2,    0.000,2,-999,9,-999,9,   2358.9,2,   2416.6,2,   7.4795,2,    25.00,     -999,9,     -999,9,   1.6738,2
  49UP20110515,   KSE,    42,  1,     15,      88,2,20110612,1856,2008, 49.0038, 163.2965, 5631,   2568.2,     2531,   1.6185,  34.6455,2,    107.0,2,  34.6462,2,   107.57,6,   166.45,2,    38.99,2,     0.00,2,    2.750,2,    0.053,2,    0.008,2,-999,9,-999,9,   2358.5,2,   2416.9,2,   7.4992,2,    25.00,     -999,9,     -999,9,   1.6184,2
  49UP20110515,   KSE,    42,  1,     14,      87,2,20110612,1856,2002, 49.0038, 163.2965, 5631,   2771.9,     2730,   1.5733,  34.6546,2,    116.4,2,  34.6558,2,   116.64,2,   163.31,2,    38.43,2,     0.00,2,    2.700,2,    0.052,2,    0.001,2,-999,9,-999,9,   2351.6,2,   2417.2,2,   7.5155,2,    25.00,     -999,9,     -999,9,   1.5733,2
  49UP20110515,   KSE,    42,  1,     13,      86,2,20110612,1856,1957, 49.0038, 163.2965, 5631,   2976.4,     2930,   1.5394,  34.6615,2,    124.2,2,  34.6624,6,   123.97,2,   160.63,2,    38.01,2,     0.00,2,    2.660,2,     -999,9,     -999,9,-999,9,-999,9,   2343.3,2,   2417.8,2,   7.5305,2,    25.00,     -999,9,     -999,9,   1.5393,2
  49UP20110515,   KSE,    42,  1,     12,      85,2,20110612,1856,1950, 49.0038, 163.2965, 5631,   3222.6,     3171,   1.5022,  34.6691,2,    132.9,2,  34.6698,2,   132.79,2,   157.93,2,    37.41,2,     0.00,2,    2.610,2,     -999,9,     -999,9,-999,9,-999,9,   2340.6,2,   2417.8,2,   7.5448,6,    25.00,     -999,9,     -999,9,   1.5023,2
  49UP20110515,   KSE,    42,  1,     11,     110,2,20110612,1856,1945, 49.0038, 163.2965, 5631,   3478.6,     3421,   1.4813,  34.6745,2,    139.4,2,  34.6747,2,   139.18,2,   156.22,2,    37.01,2,     0.00,2,    2.580,2,     -999,9,     -999,9,-999,9,-999,9,   2334.7,2,   2418.6,6,   7.5571,2,    25.00,     -999,9,     -999,9,   1.4814,2
  49UP20110515,   KSE,    42,  1,     10,      83,2,20110612,1856,1939, 49.0038, 163.2965, 5631,   3735.3,     3671,   1.4719,  34.6784,2,    144.3,2,  34.6798,4,   144.17,2,   154.56,2,    36.67,2,     0.00,2,    2.550,2,    0.043,2,    0.001,2,-999,9,-999,9,   2332.2,2,   2418.6,2,   7.5628,2,    25.00,     -999,9,     -999,9,   1.4719,2
  49UP20110515,   KSE,    42,  1,      9,      82,2,20110612,1856,1934, 49.0038, 163.2965, 5631,   3992.1,     3921,   1.4710,  34.6817,2,    148.2,2,  34.6823,2,   148.14,2,   153.65,2,    36.38,2,     0.00,2,    2.540,2,     -999,9,     -999,9,-999,9,-999,9,   2326.7,2,   2416.8,2,   7.5719,2,    25.00,     -999,9,     -999,9,   1.4712,2
  49UP20110515,   KSE,    42,  1,      8,      81,2,20110612,1856,1928, 49.0038, 163.2965, 5631,   4247.0,     4169,   1.4746,  34.6843,2,    151.7,2,  34.6849,2,   151.42,2,   152.47,4,    36.22,2,     0.00,2,    2.510,2,     -999,9,     -999,9,-999,9,-999,9,   2325.4,2,   2415.2,2,   7.5764,2,    25.00,     -999,9,     -999,9,   1.4747,2
  49UP20110515,   KSE,    42,  1,      7,      80,2,20110612,1856,1923, 49.0038, 163.2965, 5631,   4504.4,     4419,   1.4844,  34.6864,2,    154.5,2,  34.6865,2,   154.30,2,   151.80,2,    36.08,2,     0.00,2,    2.510,2,     -999,9,     -999,9,-999,9,-999,9,   2328.2,2,   2418.5,2,   7.5799,2,    25.00,     -999,9,     -999,9,   1.4845,2
  49UP20110515,   KSE,    42,  1,      6,      79,2,20110612,1856,1917, 49.0038, 163.2965, 5631,   4763.2,     4671,   1.5009,  34.6881,2,    156.3,2,  34.6884,2,   156.42,2,   151.46,2,    36.00,2,     0.00,2,    2.490,2,    0.116,2,    0.009,2,-999,9,-999,9,   2321.4,2,   2414.2,2,   7.5865,2,    25.00,     -999,9,     -999,9,   1.5011,2
  49UP20110515,   KSE,    42,  1,      5,      78,2,20110612,1856,1912, 49.0038, 163.2965, 5631,   5020.6,     4920,   1.5219,  34.6892,2,    157.8,2,  34.6889,2,   158.17,6,   151.21,2,    35.89,2,     0.00,2,    2.480,2,     -999,9,     -999,9,-999,9,-999,9,   2317.1,2,   2417.1,2,   7.5866,2,    25.00,     -999,9,     -999,9,   1.5220,2
  49UP20110515,   KSE,    42,  1,      4,      77,2,20110612,1856,1906, 49.0038, 163.2965, 5631,   5278.0,     5170,   1.5501,  34.6899,2,    158.1,2,  34.6905,2,   158.19,2,   152.14,2,    35.80,2,     0.00,2,    2.480,2,     -999,9,     -999,9,-999,9,-999,9,   2319.1,2,   2415.4,2,   7.5877,2,    25.00,     -999,9,     -999,9,   1.5502,2
  49UP20110515,   KSE,    42,  1,      3,      76,2,20110612,1856,1901, 49.0038, 163.2965, 5631,   5537.4,     5420,   1.5815,  34.6903,2,    158.6,2,  34.6906,6,   158.86,2,   151.69,3,    35.83,2,     0.00,2,    2.480,2,     -999,9,     -999,9,-999,9,-999,9,   2320.2,2,   2415.5,2,   7.5877,2,    25.00,     -999,9,     -999,9,   1.5816,2
  49UP20110515,   KSE,    42,  1,      2,      75,2,20110612,1856,1857, 49.0038, 163.2965, 5631,   5716.9,     5594,   1.6035,  34.6903,2,    158.9,2,  34.6913,2,   159.15,2,   150.91,2,    35.74,2,     0.00,2,    2.490,2,    0.055,2,    0.000,2,-999,9,-999,9,   2318.6,6,   2415.9,6,   7.5857,2,    25.00,     -999,9,     -999,9,   1.6035,2
  49UP20110515,   KSE,    42,  1,      1,      74,3,20110612,1856,1857, 49.0038, 163.2965, 5631,   5718.0,     5595,   1.6036,  34.6904,2,    158.9,2,  34.6909,2,   158.97,2,   150.98,6,    35.76,6,     0.00,6,    2.480,6,     -999,9,     -999,9,-999,9,-999,9,   2317.8,2,   2414.6,2,   7.5827,3,    25.00,     -999,9,     -999,9,   1.6037,2