BOTTLE,20240116CCHSIOVAJ
EXPOCODE,SECT_ID,STNNBR,CASTNO,SAMPNO,BTLNBR,BTLNBR_FLAG_W,DATE,TIME,BTL_TIME,LATITUDE,LONGITUDE,DEPTH,CTDPRS,CTDDEPTH,CTDTMP,CTDSAL,CTDSAL_FLAG_W,CTDOXY,CTDOXY_FLAG_W,SALNTY,SALNTY_FLAG_W,OXYGEN,OXYGEN_FLAG_W,SILCAT,SILCAT_FLAG_W,NO2+NO3,NO2+NO3_FLAG_W,NITRIT,NITRIT_FLAG_W,PHSPHT,PHSPHT_FLAG_W,CFC-11,CFC-11_FLAG_W,CFC-12,CFC-12_FLAG_W,DELC14,DELC14_FLAG_W,DELC13,DELC13_FLAG_W,TCARBN,TCARBN_FLAG_W,ALKALI,ALKALI_FLAG_W,PH_TOT,PH_TOT_FLAG_W,PH_TMP,CHLORA,CHLORA_FLAG_W,PPHYTN,PPHYTN_FLAG_W,REFTMP,REFTMP_FLAG_W
,,,,,,,,,,,,METERS,DBAR,METERS,ITS-90,PSS-78,,UMOL/KG,,PSS-78,,UMOL/KG,,UMOL/KG,,UMOL/KG,,UMOL/KG,,UMOL/KG,,PMOL/KG,,PMOL/KG,,/MILLE,,/MILLE,,UMOL/KG,,UMOL/KG,,,,DEG C,UG/KG,,UG/KG,,ITS-90,
  49UP20110515,   P13,   101,  1,      0,     BUC,2,20110724,0244,0450, 11.0083, 163.9648, 4803,      0.0,        0,  28.7416,  34.7425,2,    197.1,2,     -999,9,   197.05,2,     1.02,2,     0.05,2,     0.00,2,    0.120,2,     -999,9,     -999,9,-999,9,-999,9,     -999,9,     -999,9,     -999,9,     -999,     0.05,2,     0.01,2,     -999,9
  49UP20110515,   P13,   101,  1,     36,     109,2,20110724,0244,0518, 11.0083, 163.9648, 4803,     10.9,       11,  28.7276,  34.7414,2,    197.0,2,  34.7400,2,   196.58,2,     0.98,2,     0.03,2,     0.00,2,    0.100,2,    1.791,3,    1.054,2,-999,9,-999,9,   1948.2,2,   2281.1,2,   8.1074,2,    25.00,     0.04,2,     0.01,2,  28.7288,2
  49UP20110515,   P13,   101,  1,     35,     108,2,20110724,0244,0516, 11.0083, 163.9648, 4803,     51.3,       51,  28.6149,  34.7501,2,    197.3,2,  34.7486,2,   197.42,2,     0.98,2,     0.04,2,     0.00,2,    0.100,2,    1.802,3,    1.043,2,-999,9,-999,9,   1949.2,2,   2285.0,2,   8.1088,2,    25.00,     0.05,2,     0.02,2,  28.6171,2
  49UP20110515,   P13,   101,  1,     34,     107,2,20110724,0244,0514, 11.0083, 163.9648, 4803,     76.6,       76,  28.0055,  34.9624,2,    203.5,2,  34.9671,2,   203.30,6,     0.86,2,     0.05,2,     0.00,2,    0.090,2,    2.005,3,    1.096,2,-999,9,-999,9,   1965.3,2,   2297.0,2,   8.0980,2,    25.00,     0.08,2,     0.03,2,  28.0060,2
  49UP20110515,   P13,   101,  1,     33,     106,2,20110724,0244,0510, 11.0083, 163.9648, 4803,    102.2,      102,  27.3347,  35.0032,2,    204.7,2,  35.0015,6,   205.06,2,     0.99,2,     0.05,2,     0.00,2,    0.090,2,    2.352,4,    1.580,4,-999,9,-999,9,   1976.1,2,   2302.2,2,   8.0975,2,    25.00,     0.12,2,     0.05,2,  27.3429,2
  49UP20110515,   P13,   101,  1,     32,     105,2,20110724,0244,0509, 11.0083, 163.9648, 4803,    126.0,      125,  25.9362,  35.0704,2,    196.8,2,  35.0674,2,   197.49,2,     1.03,2,     0.05,2,     0.00,2,    0.120,2,    2.040,3,    1.177,2,-999,9,-999,9,   1993.3,6,   2307.1,6,   8.0673,2,    25.00,     0.21,2,     0.24,2,  25.9403,2
  49UP20110515,   P13,   101,  1,     31,     104,2,20110724,0244,0507, 11.0083, 163.9648, 4803,    152.7,      152,  23.8866,  35.1760,2,    187.8,2,  35.1758,2,   189.30,2,     1.43,2,     0.64,2,     0.17,2,    0.180,2,    2.032,3,    1.269,6,-999,9,-999,9,   2024.7,2,   2316.7,2,   8.0205,6,    25.00,     0.12,2,     0.22,2,  23.8924,2
  49UP20110515,   P13,   101,  1,     30,     103,2,20110724,0244,0506, 11.0083, 163.9648, 4803,    201.2,      200,  18.7375,  34.8785,2,    169.3,2,  34.8797,2,   170.34,2,     4.58,2,     5.83,2,     0.02,2,    0.500,2,    2.416,3,    1.489,2,-999,9,-999,9,   2076.9,2,   2301.0,2,   7.8976,2,    25.00,     0.04,2,     0.11,2,  18.7388,2
  49UP20110515,   P13,   101,  1,     29,     102,2,20110724,0244,0504, 11.0083, 163.9648, 4803,    252.0,      250,  12.9917,  34.3773,2,    144.1,2,  34.3794,2,   144.16,2,    15.07,6,    16.00,6,     0.00,6,    1.230,6,    2.653,3,    1.544,2,-999,9,-999,9,   2128.8,2,   2271.3,2,   7.7330,2,    25.00,     -999,9,     -999,9,  12.9932,2
  49UP20110515,   P13,   101,  1,     28,     101,2,20110724,0244,0502, 11.0083, 163.9648, 4803,    302.5,      301,  10.6202,  34.4276,2,     76.2,2,  34.4229,2,    77.16,6,    28.81,2,    27.37,2,     0.00,2,    2.030,2,    1.636,3,    0.903,2,-999,9,-999,9,   2207.5,2,   2283.9,2,   7.5450,2,    25.00,     -999,9,     -999,9,  10.6167,2
  49UP20110515,   P13,   101,  1,     27,     100,2,20110724,0244,0500, 11.0083, 163.9648, 4803,    352.9,      351,   9.0501,  34.4207,2,     63.9,2,  34.4224,2,    62.43,2,    39.37,2,    31.87,2,     0.00,2,    2.320,2,    1.005,3,    0.525,6,-999,9,-999,9,   2238.2,2,   2295.9,2,   7.4960,2,    25.00,     -999,9,     -999,9,   9.0615,2
  49UP20110515,   P13,   101,  1,     26,      99,2,20110724,0244,0458, 11.0083, 163.9648, 4803,    403.9,      401,   8.6188,  34.4799,2,     57.5,2,  34.4752,2,    57.47,2,    42.32,2,    33.48,2,     0.00,2,    2.420,2,    0.682,3,    0.349,2,-999,9,-999,9,   2256.4,2,   2299.0,6,   7.4833,2,    25.00,     -999,9,     -999,9,   8.6197,2
  49UP20110515,   P13,   101,  1,     25,      98,2,20110724,0244,0456, 11.0083, 163.9648, 4803,    453.3,      450,   8.2179,  34.5347,2,     54.8,2,  34.5353,2,    54.87,2,    44.70,2,    35.03,2,     0.00,2,    2.500,2,    0.382,3,    0.209,2,-999,9,-999,9,   2258.5,2,   2306.8,2,   7.4769,6,    25.00,     -999,9,     -999,9,   8.2186,2
  49UP20110515,   P13,   101,  1,     24,      97,2,20110724,0244,0448, 11.0083, 163.9648, 4803,    504.3,      501,   7.7520,  34.5322,2,     59.9,2,  34.5302,6,    58.58,2,    48.24,2,    35.59,2,     0.00,2,    2.540,2,    0.307,3,    0.168,2,-999,9,-999,9,   2258.5,2,   2312.4,2,   7.4761,2,    25.00,     -999,9,     -999,9,   7.7527,2
  49UP20110515,   P13,   101,  1,     23,      96,2,20110724,0244,0445, 11.0083, 163.9648, 4803,    605.7,      601,   7.1214,  34.5211,2,     63.3,2,  34.5199,2,    62.23,2,    54.40,6,    36.43,6,     0.00,6,    2.600,6,    0.211,3,    0.116,2,-999,9,-999,9,   2268.0,2,   2318.7,2,   7.4759,2,    25.00,     -999,9,     -999,9,   7.1218,2
  49UP20110515,   P13,   101,  1,     22,      95,2,20110724,0244,0442, 11.0083, 163.9648, 4803,    706.7,      701,   6.4859,  34.5226,2,     69.4,2,  34.5228,2,    68.93,2,    60.98,2,    37.22,2,     0.00,2,    2.650,2,    0.147,3,    0.083,2,-999,9,-999,9,   2271.5,2,   2326.9,2,   7.4818,2,    25.00,     -999,9,     -999,9,   6.4867,2
  49UP20110515,   P13,   101,  1,     21,      94,2,20110724,0244,0438, 11.0083, 163.9648, 4803,    809.4,      803,   5.8076,  34.5215,2,     65.4,2,  34.5207,2,    65.42,6,    71.47,2,    38.64,2,     0.00,2,    2.760,2,    0.061,3,    0.039,2,-999,9,-999,9,   2286.4,2,   2333.2,2,   7.4629,2,    25.00,     -999,9,     -999,9,   5.8077,2
  49UP20110515,   P13,   101,  1,     20,      93,2,20110724,0244,0432, 11.0083, 163.9648, 4803,    909.7,      903,   5.2801,  34.5304,2,     60.7,2,  34.5297,2,    60.76,2,    80.47,2,    39.87,2,     0.00,2,    2.850,2,    0.051,3,    0.028,2,-999,9,-999,9,   2305.3,2,   2347.0,2,   7.4516,2,    25.00,     -999,9,     -999,9,   5.2809,2
  49UP20110515,   P13,   101,  1,     19,      92,2,20110724,0244,0427, 11.0083, 163.9648, 4803,   1009.4,     1001,   4.7255,  34.5439,2,     58.5,2,  34.5439,2,    59.10,2,    90.50,2,    40.85,2,     0.00,2,    2.920,2,    0.000,3,    0.006,2,-999,9,-999,9,   2315.3,2,   2358.4,2,   7.4412,2,    25.00,     -999,9,     -999,9,   4.7256,2
  49UP20110515,   P13,   101,  1,     18,      91,2,20110724,0244,0422, 11.0083, 163.9648, 4803,   1211.9,     1202,   3.8124,  34.5665,2,     71.2,2,  34.5669,2,    70.97,2,   109.09,6,    40.80,6,     0.00,6,    2.910,6,     -999,9,     -999,9,-999,9,-999,9,   2335.1,2,   2374.4,2,   7.4560,2,    25.00,     -999,9,     -999,9,   3.8123,2
  49UP20110515,   P13,   101,  1,     17,      90,2,20110724,0244,0410, 11.0083, 163.9648, 4803,   1413.1,     1400,   3.2574,  34.5863,2,     79.3,2,  34.5857,2,    79.26,2,   121.17,2,    40.57,2,     0.00,2,    2.880,2,     -999,9,     -999,9,-999,9,-999,9,   2338.4,2,   2391.0,2,   7.4669,2,    25.00,     -999,9,     -999,9,   3.2576,2
  49UP20110515,   P13,   101,  1,     16,      89,2,20110724,0244,0406, 11.0083, 163.9648, 4803,   1617.4,     1602,   2.7991,  34.6038,2,     87.3,2,  34.6038,6,    87.36,2,   131.22,2,    40.28,2,     0.00,2,    2.850,2,     -999,9,     -999,9,-999,9,-999,9,   2348.6,2,   2398.9,2,   7.4792,2,    25.00,     -999,9,     -999,9,   2.7992,2
  49UP20110515,   P13,   101,  1,     15,      88,2,20110724,0244,0359, 11.0083, 163.9648, 4803,   1820.0,     1802,   2.4810,  34.6184,2,     95.5,2,  34.6190,2,    95.56,6,   137.78,2,    39.77,2,     0.00,2,    2.810,2,    0.000,3,    0.000,2,-999,9,-999,9,   2349.7,2,   2409.0,2,   7.4915,2,    25.00,     -999,9,     -999,9,   2.4810,2
  49UP20110515,   P13,   101,  1,     14,      87,2,20110724,0244,0350, 11.0083, 163.9648, 4803,   2021.3,     2000,   2.2214,  34.6328,2,    103.3,2,  34.6332,2,   103.46,2,   143.21,2,    39.47,2,     0.00,2,    2.770,2,     -999,9,     -999,9,-999,9,-999,9,   2349.5,2,   2411.4,2,   7.5051,2,    25.00,     -999,9,     -999,9,   2.2213,2
  49UP20110515,   P13,   101,  1,     13,      86,2,20110724,0244,0346, 11.0083, 163.9648, 4803,   2224.5,     2200,   2.0474,  34.6449,2,    109.6,2,  34.6439,2,   109.96,2,   146.33,2,    38.97,2,     0.00,2,    2.730,2,     -999,9,     -999,9,-999,9,-999,9,   2348.4,2,   2411.9,2,   7.5163,2,    25.00,     -999,9,     -999,9,   2.0473,2
  49UP20110515,   P13,   101,  1,     12,      74,2,20110724,0244,0342, 11.0083, 163.9648, 4803,   2428.5,     2401,   1.9400,  34.6527,2,    114.3,2,  34.6519,2,   114.18,2,   148.07,2,    38.74,2,     0.00,2,    2.710,2,     -999,9,     -999,9,-999,9,-999,9,   2348.3,2,   2419.2,2,   7.5250,2,    25.00,     -999,9,     -999,9,   1.9402,2
  49UP20110515,   P13,   101,  1,     11,     110,2,20110724,0244,0332, 11.0083, 163.9648, 4803,   2631.2,     2600,   1.8462,  34.6589,2,    119.7,2,  34.6580,2,   119.43,2,   149.58,2,    38.45,2,     0.00,2,    2.680,2,     -999,9,     -999,9,-999,9,-999,9,   2347.4,2,   2423.0,2,   7.5333,2,    25.00,     -999,9,     -999,9,   1.8463,2
  49UP20110515,   P13,   101,  1,     10,      83,2,20110724,0244,0328, 11.0083, 163.9648, 4803,   2835.8,     2801,   1.7390,  34.6648,2,    126.5,2,  34.6654,2,   126.71,2,   149.88,2,    38.00,2,     0.00,2,    2.640,2,     -999,9,     -999,9,-999,9,-999,9,   2344.1,6,   2421.6,6,   7.5395,2,    25.00,     -999,9,     -999,9,   1.7391,2
  49UP20110515,   P13,   101,  1,      9,      82,2,20110724,0244,0323, 11.0083, 163.9648, 4803,   3040.6,     3002,   1.6617,  34.6699,2,    132.4,2,  34.6709,2,   132.44,2,   149.88,2,    37.69,2,     0.00,2,    2.600,2,     -999,9,     -999,9,-999,9,-999,9,   2345.4,2,   2420.2,2,   7.5487,6,    25.00,     -999,9,     -999,9,   1.6614,2
  49UP20110515,   P13,   101,  1,      8,      81,3,20110724,0244,0317, 11.0083, 163.9648, 4803,   3297.0,     3253,   1.5975,  34.6747,2,    137.6,2,  34.6767,4,   138.06,2,   149.94,6,    37.21,6,     0.00,6,    2.580,6,     -999,9,     -999,9,-999,9,-999,9,   2337.5,2,   2420.5,2,   7.5540,2,    25.00,     -999,9,     -999,9,   1.5975,2
  49UP20110515,   P13,   101,  1,      7,      80,2,20110724,0244,0311, 11.0083, 163.9648, 4803,   3554.0,     3504,   1.5379,  34.6799,2,    144.7,2,  34.6798,2,   144.39,2,   148.13,2,    36.79,2,     0.00,2,    2.540,2,    0.000,3,    0.000,2,-999,9,-999,9,   2331.8,2,   2418.3,2,   7.5674,2,    25.00,     -999,9,     -999,9,   1.5380,2
  49UP20110515,   P13,   101,  1,      6,      79,2,20110724,0244,0306, 11.0083, 163.9648, 4803,   3805.7,     3750,   1.4805,  34.6849,2,    152.9,2,  34.6850,6,   153.08,2,   145.23,2,    36.20,2,     0.00,2,    2.490,2,     -999,9,     -999,9,-999,9,-999,9,   2325.2,2,   2414.3,2,   7.5767,2,    25.00,     -999,9,     -999,9,   1.4805,2
  49UP20110515,   P13,   101,  1,      5,      78,2,20110724,0244,0301, 11.0083, 163.9648, 4803,   4061.9,     4001,   1.4499,  34.6888,2,    160.0,2,  34.6893,2,   160.16,2,   141.45,2,    35.71,2,     0.00,2,    2.460,2,     -999,9,     -999,9,-999,9,-999,9,   2316.7,2,   2409.9,2,   7.5881,2,    25.00,     -999,9,     -999,9,   1.4499,2
  49UP20110515,   P13,   101,  1,      4,      77,2,20110724,0244,0256, 11.0083, 163.9648, 4803,   4315.6,     4248,   1.4222,  34.6930,2,    167.5,2,  34.6934,2,   167.57,2,   137.47,2,    35.18,2,     0.00,2,    2.420,2,    0.037,3,    0.012,2,-999,9,-999,9,   2309.9,2,   2405.5,2,   7.5917,2,    25.00,     -999,9,     -999,9,   1.4224,2
  49UP20110515,   P13,   101,  1,      3,      76,2,20110724,0244,0252, 11.0083, 163.9648, 4803,   4574.5,     4500,   1.4089,  34.6960,2,    173.2,2,  34.6957,2,   173.18,2,   134.06,2,    34.75,2,     0.00,2,    2.390,2,    0.037,3,    0.018,2,-999,9,-999,9,   2304.0,2,   2401.1,2,   7.5998,2,    25.00,     -999,9,     -999,9,   1.4089,2
  49UP20110515,   P13,   101,  1,      2,      75,2,20110724,0244,0247, 11.0083, 163.9648, 4803,   4828.2,     4747,   1.4047,  34.6982,2,    177.6,2,  34.6993,2,   177.57,2,   131.49,2,    34.42,2,     0.00,2,    2.360,2,    0.010,3,    0.007,2,-999,9,-999,9,   2300.0,2,   2395.6,2,   7.6029,2,    25.00,     -999,9,     -999,9,   1.4044,2
  49UP20110515,   P13,   101,  1,      1,     112,2,20110724,0244,0245, 11.0083, 163.9648, 4803,   4873.6,     4791,   1.3974,  34.6990,2,    179.2,2,  34.7004,2,   178.19,2,   130.81,2,    34.34,2,     0.00,2,    2.360,2,    0.020,3,    0.005,6,-999,9,-999,9,   2297.5,2,   2394.7,2,   7.5980,2,    25.00,     -999,9,     -999,9,   1.3974,2