BOTTLE,20240116CCHSIOVAJ
EXPOCODE,SECT_ID,STNNBR,CASTNO,SAMPNO,BTLNBR,BTLNBR_FLAG_W,DATE,TIME,BTL_TIME,LATITUDE,LONGITUDE,DEPTH,CTDPRS,CTDDEPTH,CTDTMP,CTDSAL,CTDSAL_FLAG_W,CTDOXY,CTDOXY_FLAG_W,SALNTY,SALNTY_FLAG_W,OXYGEN,OXYGEN_FLAG_W,SILCAT,SILCAT_FLAG_W,NO2+NO3,NO2+NO3_FLAG_W,NITRIT,NITRIT_FLAG_W,PHSPHT,PHSPHT_FLAG_W,CFC-11,CFC-11_FLAG_W,CFC-12,CFC-12_FLAG_W,DELC14,DELC14_FLAG_W,DELC13,DELC13_FLAG_W,TCARBN,TCARBN_FLAG_W,ALKALI,ALKALI_FLAG_W,PH_TOT,PH_TOT_FLAG_W,PH_TMP,CHLORA,CHLORA_FLAG_W,PPHYTN,PPHYTN_FLAG_W,REFTMP,REFTMP_FLAG_W
,,,,,,,,,,,,METERS,DBAR,METERS,ITS-90,PSS-78,,UMOL/KG,,PSS-78,,UMOL/KG,,UMOL/KG,,UMOL/KG,,UMOL/KG,,UMOL/KG,,PMOL/KG,,PMOL/KG,,/MILLE,,/MILLE,,UMOL/KG,,UMOL/KG,,,,DEG C,UG/KG,,UG/KG,,ITS-90,
  49UP20110515,   P13,   113,  1,      0,     BUC,2,20110805,1923,2118,  5.5000, 165.0118, 4889,      0.0,        0,  29.0584,  33.9739,2,    196.1,2,     -999,9,   196.25,2,     1.05,2,     0.00,2,     0.00,2,    0.090,2,     -999,9,     -999,9,-999,9,-999,9,     -999,9,     -999,9,     -999,9,     -999,     -999,9,     -999,9,     -999,9
  49UP20110515,   P13,   113,  1,     36,     109,2,20110805,1923,2137,  5.5000, 165.0118, 4889,     10.8,       11,  29.0637,  34.0128,2,    196.1,2,  34.0149,2,   195.71,6,     0.94,2,     0.00,2,     0.00,2,    0.090,2,     -999,9,     -999,9,-999,9,-999,9,     -999,9,     -999,9,     -999,9,     -999,     -999,9,     -999,9,  29.0643,2
  49UP20110515,   P13,   113,  1,     35,     108,2,20110805,1923,2135,  5.5000, 165.0118, 4889,     25.8,       26,  29.0457,  34.0502,2,    196.0,2,  34.0563,2,   196.01,2,     0.95,2,     0.00,2,     0.00,2,    0.090,2,     -999,9,     -999,9,-999,9,-999,9,     -999,9,     -999,9,     -999,9,     -999,     -999,9,     -999,9,  29.0465,2
  49UP20110515,   P13,   113,  1,     34,     107,2,20110805,1923,2132,  5.5000, 165.0118, 4889,     51.7,       51,  29.0945,  34.1828,2,    196.2,2,  34.1998,4,   196.55,2,     0.95,2,     0.00,2,     0.00,2,    0.100,2,     -999,9,     -999,9,-999,9,-999,9,     -999,9,     -999,9,     -999,9,     -999,     -999,9,     -999,9,  29.0953,2
  49UP20110515,   P13,   113,  1,     33,     106,2,20110805,1923,2131,  5.5000, 165.0118, 4889,     75.4,       75,  29.0038,  34.3137,2,    195.8,2,  34.3239,4,   196.04,2,     1.01,2,     0.00,2,     0.00,2,    0.110,2,     -999,9,     -999,9,-999,9,-999,9,     -999,9,     -999,9,     -999,9,     -999,     -999,9,     -999,9,  29.0041,2
  49UP20110515,   P13,   113,  1,     32,     105,2,20110805,1923,2130,  5.5000, 165.0118, 4889,    100.6,      100,  28.1851,  34.9149,2,    173.4,2,  34.9091,4,   173.92,2,     1.72,2,     1.80,2,     0.31,2,    0.280,2,     -999,9,     -999,9,-999,9,-999,9,     -999,9,     -999,9,     -999,9,     -999,     -999,9,     -999,9,  28.1817,2
  49UP20110515,   P13,   113,  1,     31,     104,2,20110805,1923,2128,  5.5000, 165.0118, 4889,    125.7,      125,  23.6651,  34.8805,2,    144.7,2,  34.8781,2,   145.51,2,     4.37,2,     6.79,2,     0.04,2,    0.570,2,     -999,9,     -999,9,-999,9,-999,9,     -999,9,     -999,9,     -999,9,     -999,     -999,9,     -999,9,  23.5610,2
  49UP20110515,   P13,   113,  1,     30,     103,2,20110805,1923,2126,  5.5000, 165.0118, 4889,    150.5,      150,  18.7674,  34.7507,2,    136.7,2,  34.7468,2,   137.09,2,     8.07,2,    10.67,2,     0.01,2,    0.850,2,     -999,9,     -999,9,-999,9,-999,9,     -999,9,     -999,9,     -999,9,     -999,     -999,9,     -999,9,  18.7629,2
  49UP20110515,   P13,   113,  1,     29,     102,2,20110805,1923,2124,  5.5000, 165.0118, 4889,    201.3,      200,  11.8426,  34.5775,2,     52.4,2,  34.5792,2,    53.38,6,    26.44,2,    28.55,2,     0.00,2,    2.100,2,     -999,9,     -999,9,-999,9,-999,9,     -999,9,     -999,9,     -999,9,     -999,     -999,9,     -999,9,  11.8390,2
  49UP20110515,   P13,   113,  1,     28,     101,2,20110805,1923,2122,  5.5000, 165.0118, 4889,    252.1,      251,  10.0882,  34.6402,2,     36.2,2,  34.6402,2,    37.43,2,    33.07,6,    33.42,6,     0.00,6,    2.380,6,     -999,9,     -999,9,-999,9,-999,9,     -999,9,     -999,9,     -999,9,     -999,     -999,9,     -999,9,  10.0894,2
  49UP20110515,   P13,   113,  1,     27,     100,2,20110805,1923,2121,  5.5000, 165.0118, 4889,    286.1,      284,   9.6168,  34.6409,2,     38.8,2,  34.6406,2,    41.18,2,    34.20,2,    33.93,2,     0.00,2,    2.400,2,     -999,9,     -999,9,-999,9,-999,9,     -999,9,     -999,9,     -999,9,     -999,     -999,9,     -999,9,   9.6184,2
  49UP20110515,   P13,   113,  1,     26,      99,2,20110805,1923,2119,  5.5000, 165.0118, 4889,    331.6,      329,   9.1249,  34.6324,2,     49.1,2,  34.6295,2,    49.49,2,    35.96,2,    34.28,2,     0.00,2,    2.430,2,     -999,9,     -999,9,-999,9,-999,9,     -999,9,     -999,9,     -999,9,     -999,     -999,9,     -999,9,   9.1256,2
  49UP20110515,   P13,   113,  1,     25,      98,2,20110805,1923,2117,  5.5000, 165.0118, 4889,    372.4,      370,   8.8619,  34.6224,2,     54.0,2,  34.6204,2,    54.77,2,    36.99,2,    34.41,2,     0.00,2,    2.430,2,     -999,9,     -999,9,-999,9,-999,9,     -999,9,     -999,9,     -999,9,     -999,     -999,9,     -999,9,   8.8615,2
  49UP20110515,   P13,   113,  1,     24,      97,2,20110805,1923,2109,  5.5000, 165.0118, 4889,    474.3,      471,   8.0333,  34.5858,2,     54.8,2,  34.5840,2,    54.64,2,    43.01,2,    35.69,2,     0.00,2,    2.540,2,     -999,9,     -999,9,-999,9,-999,9,     -999,9,     -999,9,     -999,9,     -999,     -999,9,     -999,9,   8.0341,2
  49UP20110515,   P13,   113,  1,     23,      96,2,20110805,1923,2107,  5.5000, 165.0118, 4889,    574.1,      570,   7.3009,  34.5624,2,     51.0,2,  34.5613,2,    51.91,2,    50.37,2,    37.52,2,     0.00,2,    2.680,2,     -999,9,     -999,9,-999,9,-999,9,     -999,9,     -999,9,     -999,9,     -999,     -999,9,     -999,9,   7.3008,2
  49UP20110515,   P13,   113,  1,     22,      95,2,20110805,1923,2104,  5.5000, 165.0118, 4889,    675.6,      671,   6.6347,  34.5493,2,     61.4,2,  34.5483,2,    61.18,2,    56.16,6,    37.93,6,     0.00,6,    2.710,6,     -999,9,     -999,9,-999,9,-999,9,     -999,9,     -999,9,     -999,9,     -999,     -999,9,     -999,9,   6.6348,2
  49UP20110515,   P13,   113,  1,     21,      94,2,20110805,1923,2100,  5.5000, 165.0118, 4889,    776.3,      771,   5.9139,  34.5400,2,     59.7,2,  34.5391,2,    59.66,2,    67.06,2,    39.26,2,     0.00,2,    2.800,2,     -999,9,     -999,9,-999,9,-999,9,     -999,9,     -999,9,     -999,9,     -999,     -999,9,     -999,9,   5.9142,2
  49UP20110515,   P13,   113,  1,     20,      93,2,20110805,1923,2057,  5.5000, 165.0118, 4889,    876.4,      870,   5.2521,  34.5435,2,     63.7,2,  34.5426,2,    64.32,2,    77.07,2,    39.97,2,     0.00,2,    2.850,2,     -999,9,     -999,9,-999,9,-999,9,     -999,9,     -999,9,     -999,9,     -999,     -999,9,     -999,9,   5.2524,2
  49UP20110515,   P13,   113,  1,     19,      92,2,20110805,1923,2054,  5.5000, 165.0118, 4889,    978.6,      971,   4.6376,  34.5537,2,     67.6,2,  34.5530,2,    67.69,2,    88.77,2,    40.33,2,     0.00,2,    2.870,2,     -999,9,     -999,9,-999,9,-999,9,     -999,9,     -999,9,     -999,9,     -999,     -999,9,     -999,9,   4.6383,2
  49UP20110515,   P13,   113,  1,     18,      91,2,20110805,1923,2048,  5.5000, 165.0118, 4889,   1141.2,     1132,   3.9446,  34.5702,2,     79.5,2,  34.5694,6,    79.59,2,   102.35,2,    39.95,2,     0.00,2,    2.840,2,     -999,9,     -999,9,-999,9,-999,9,     -999,9,     -999,9,     -999,9,     -999,     -999,9,     -999,9,   3.9448,2
  49UP20110515,   P13,   113,  1,     17,      90,2,20110805,1923,2044,  5.5000, 165.0118, 4889,   1343.2,     1331,   3.3082,  34.5913,2,     83.6,2,  34.5903,2,    83.55,2,   116.53,6,    40.19,6,     0.00,6,    2.860,6,     -999,9,     -999,9,-999,9,-999,9,     -999,9,     -999,9,     -999,9,     -999,     -999,9,     -999,9,   3.3085,2
  49UP20110515,   P13,   113,  1,     16,      89,2,20110805,1923,2036,  5.5000, 165.0118, 4889,   1545.7,     1531,   2.9024,  34.6065,2,     91.9,2,  34.6055,2,    91.94,2,   124.94,2,    39.74,2,     0.00,2,    2.820,2,     -999,9,     -999,9,-999,9,-999,9,     -999,9,     -999,9,     -999,9,     -999,     -999,9,     -999,9,   2.9019,2
  49UP20110515,   P13,   113,  1,     15,      88,2,20110805,1923,2032,  5.5000, 165.0118, 4889,   1747.3,     1730,   2.5927,  34.6190,2,     99.8,2,  34.6187,2,   100.34,2,   131.49,2,    39.33,2,     0.00,2,    2.780,2,     -999,9,     -999,9,-999,9,-999,9,     -999,9,     -999,9,     -999,9,     -999,     -999,9,     -999,9,   2.5928,2
  49UP20110515,   P13,   113,  1,     14,      87,2,20110805,1923,2027,  5.5000, 165.0118, 4889,   1952.0,     1932,   2.3099,  34.6331,2,    104.3,2,  34.6327,2,   104.44,2,   138.27,2,    39.07,2,     0.00,2,    2.740,2,     -999,9,     -999,9,-999,9,-999,9,     -999,9,     -999,9,     -999,9,     -999,     -999,9,     -999,9,   2.3100,2
  49UP20110515,   P13,   113,  1,     13,      86,2,20110805,1923,2023,  5.5000, 165.0118, 4889,   2153.7,     2131,   2.0973,  34.6453,2,    110.3,2,  34.6449,2,   110.51,2,   143.21,2,    38.80,2,     0.00,2,    2.720,2,     -999,9,     -999,9,-999,9,-999,9,     -999,9,     -999,9,     -999,9,     -999,     -999,9,     -999,9,   2.0975,2
  49UP20110515,   P13,   113,  1,     12,      74,2,20110805,1923,2018,  5.5000, 165.0118, 4889,   2357.4,     2331,   1.9415,  34.6547,2,    115.9,2,  34.6540,2,   116.14,2,   145.99,2,    38.34,2,     0.00,2,    2.680,2,     -999,9,     -999,9,-999,9,-999,9,     -999,9,     -999,9,     -999,9,     -999,     -999,9,     -999,9,   1.9414,2
  49UP20110515,   P13,   113,  1,     11,     110,2,20110805,1923,2013,  5.5000, 165.0118, 4889,   2561.1,     2531,   1.8302,  34.6609,2,    121.7,2,  34.6604,2,   121.82,6,   147.57,2,    38.12,2,     0.00,2,    2.660,2,     -999,9,     -999,9,-999,9,-999,9,     -999,9,     -999,9,     -999,9,     -999,     -999,9,     -999,9,   1.8302,2
  49UP20110515,   P13,   113,  1,     10,      83,2,20110805,1923,2009,  5.5000, 165.0118, 4889,   2764.7,     2731,   1.7499,  34.6655,2,    127.3,2,  34.6647,2,   127.74,2,   147.38,2,    37.68,2,     0.00,2,    2.620,2,     -999,9,     -999,9,-999,9,-999,9,     -999,9,     -999,9,     -999,9,     -999,     -999,9,     -999,9,   1.7499,2
  49UP20110515,   P13,   113,  1,      9,      82,2,20110805,1923,2004,  5.5000, 165.0118, 4889,   2968.4,     2931,   1.6696,  34.6701,2,    133.5,2,  34.6699,2,   133.65,2,   146.85,2,    37.25,2,     0.00,2,    2.580,2,     -999,9,     -999,9,-999,9,-999,9,     -999,9,     -999,9,     -999,9,     -999,     -999,9,     -999,9,   1.6698,2
  49UP20110515,   P13,   113,  1,      8,      81,2,20110805,1923,1959,  5.5000, 165.0118, 4889,   3212.1,     3170,   1.5941,  34.6751,2,    140.5,2,  34.6745,6,   140.57,2,   146.28,2,    36.85,2,     0.00,2,    2.550,2,     -999,9,     -999,9,-999,9,-999,9,     -999,9,     -999,9,     -999,9,     -999,     -999,9,     -999,9,   1.5944,2
  49UP20110515,   P13,   113,  1,      7,      80,2,20110805,1923,1954,  5.5000, 165.0118, 4889,   3467.8,     3421,   1.5295,  34.6803,2,    147.6,2,  34.6802,2,   147.29,2,   144.29,6,    36.31,6,     0.00,6,    2.520,6,     -999,9,     -999,9,-999,9,-999,9,     -999,9,     -999,9,     -999,9,     -999,     -999,9,     -999,9,   1.5295,2
  49UP20110515,   P13,   113,  1,      6,      79,2,20110805,1923,1948,  5.5000, 165.0118, 4889,   3724.3,     3671,   1.4867,  34.6846,2,    154.1,2,  34.6842,2,   154.24,2,   142.19,2,    35.92,2,     0.00,2,    2.480,2,     -999,9,     -999,9,-999,9,-999,9,     -999,9,     -999,9,     -999,9,     -999,     -999,9,     -999,9,   1.4868,2
  49UP20110515,   P13,   113,  1,      5,      78,2,20110805,1923,1943,  5.5000, 165.0118, 4889,   3979.5,     3921,   1.4673,  34.6878,2,    158.9,2,  34.6872,2,   159.08,6,   140.09,2,    35.56,2,     0.00,2,    2.460,2,     -999,9,     -999,9,-999,9,-999,9,     -999,9,     -999,9,     -999,9,     -999,     -999,9,     -999,9,   1.4673,2
  49UP20110515,   P13,   113,  1,      4,      77,2,20110805,1923,1938,  5.5000, 165.0118, 4889,   4236.0,     4171,   1.4506,  34.6909,2,    164.2,2,  34.6907,2,   164.61,2,   137.59,2,    35.20,2,     0.00,2,    2.420,2,     -999,9,     -999,9,-999,9,-999,9,     -999,9,     -999,9,     -999,9,     -999,     -999,9,     -999,9,   1.4506,2
  49UP20110515,   P13,   113,  1,      3,      76,2,20110805,1923,1932,  5.5000, 165.0118, 4889,   4492.5,     4421,   1.4226,  34.6949,2,    171.1,2,  34.6941,2,   171.26,2,   133.79,2,    34.57,2,     0.00,2,    2.380,2,     -999,9,     -999,9,-999,9,-999,9,     -999,9,     -999,9,     -999,9,     -999,     -999,9,     -999,9,   1.4226,2
  49UP20110515,   P13,   113,  1,      2,      75,2,20110805,1923,1927,  5.5000, 165.0118, 4889,   4750.1,     4672,   1.3859,  34.6987,2,    178.8,2,  34.6985,6,   179.22,2,   129.98,2,    34.06,2,     0.00,2,    2.350,2,     -999,9,     -999,9,-999,9,-999,9,     -999,9,     -999,9,     -999,9,     -999,     -999,9,     -999,9,   1.3858,2
  49UP20110515,   P13,   113,  1,      1,     112,2,20110805,1923,1923,  5.5000, 165.0118, 4889,   4952.1,     4868,   1.3716,  34.7011,2,    183.0,2,  34.7005,2,   182.52,2,   127.89,2,    33.77,2,     0.00,2,    2.320,2,     -999,9,     -999,9,-999,9,-999,9,     -999,9,     -999,9,     -999,9,     -999,     -999,9,     -999,9,   1.3716,2