BOTTLE,20240116CCHSIOVAJ
EXPOCODE,SECT_ID,STNNBR,CASTNO,SAMPNO,BTLNBR,BTLNBR_FLAG_W,DATE,TIME,BTL_TIME,LATITUDE,LONGITUDE,DEPTH,CTDPRS,CTDDEPTH,CTDTMP,CTDSAL,CTDSAL_FLAG_W,CTDOXY,CTDOXY_FLAG_W,SALNTY,SALNTY_FLAG_W,OXYGEN,OXYGEN_FLAG_W,SILCAT,SILCAT_FLAG_W,NO2+NO3,NO2+NO3_FLAG_W,NITRIT,NITRIT_FLAG_W,PHSPHT,PHSPHT_FLAG_W,CFC-11,CFC-11_FLAG_W,CFC-12,CFC-12_FLAG_W,DELC14,DELC14_FLAG_W,DELC13,DELC13_FLAG_W,TCARBN,TCARBN_FLAG_W,ALKALI,ALKALI_FLAG_W,PH_TOT,PH_TOT_FLAG_W,PH_TMP,CHLORA,CHLORA_FLAG_W,PPHYTN,PPHYTN_FLAG_W,REFTMP,REFTMP_FLAG_W
,,,,,,,,,,,,METERS,DBAR,METERS,ITS-90,PSS-78,,UMOL/KG,,PSS-78,,UMOL/KG,,UMOL/KG,,UMOL/KG,,UMOL/KG,,UMOL/KG,,PMOL/KG,,PMOL/KG,,/MILLE,,/MILLE,,UMOL/KG,,UMOL/KG,,,,DEG C,UG/KG,,UG/KG,,ITS-90,
  49UP20110515,   P13,    72,  1,      0,     BUC,2,20110714,2158,0005, 29.0067, 165.0023, 5845,      0.0,        0,  27.4672,  35.2896,2,    204.9,2,     -999,9,   203.50,2,     1.60,2,     0.03,2,     0.00,2,    0.020,2,     -999,9,     -999,9,-999,9,-999,9,     -999,9,     -999,9,     -999,9,     -999,     0.06,2,     0.01,2,     -999,9
  49UP20110515,   P13,    72,  1,     36,     109,2,20110714,2158,0016, 29.0067, 165.0023, 5845,     10.9,       11,  27.1639,  35.2984,2,    205.3,2,  35.2989,2,   206.60,2,     1.49,2,     0.00,2,     0.00,2,    0.010,2,    1.904,3,    1.138,2,-999,9,-999,9,   2009.6,2,   2320.0,2,   8.0538,2,    25.00,     0.04,2,     0.01,2,  27.1514,2
  49UP20110515,   P13,    72,  1,     35,     108,2,20110714,2158,0012, 29.0067, 165.0023, 5845,     50.2,       50,  21.9672,  35.1122,2,    235.9,2,  35.1145,2,   235.05,6,     1.64,2,     0.02,2,     0.00,2,    0.010,2,    2.423,3,    1.364,2,-999,9,-999,9,   2001.6,2,   2304.6,2,   8.0450,2,    25.00,     0.07,2,     0.01,2,  21.9688,2
  49UP20110515,   P13,    72,  1,     34,     107,2,20110714,2158,0010, 29.0067, 165.0023, 5845,    100.5,      100,  19.5703,  34.9364,2,    230.2,2,  34.9314,2,   229.60,2,     2.07,6,     0.01,6,     0.00,6,    0.030,6,    2.403,3,    1.430,2,-999,9,-999,9,   2008.5,2,   2292.1,2,   8.0210,2,    25.00,     0.13,2,     0.07,2,  19.5705,2
  49UP20110515,   P13,    72,  1,     33,     106,2,20110714,2158,0008, 29.0067, 165.0023, 5845,    150.8,      150,  18.0756,  34.7431,2,    221.3,2,  34.7432,2,   220.83,2,     2.70,2,     1.74,2,     0.06,2,    0.140,2,    2.444,3,    1.513,2,-999,9,-999,9,   2015.1,6,   2279.1,6,   7.9868,2,    25.00,     0.12,2,     0.21,2,  18.0772,2
  49UP20110515,   P13,    72,  1,     32,     105,2,20110714,2158,0006, 29.0067, 165.0023, 5845,    201.5,      200,  17.0957,  34.6572,2,    221.7,2,  34.6573,2,   221.40,2,     3.73,2,     3.45,2,     0.01,2,    0.240,2,    2.511,3,    1.580,2,-999,9,-999,9,   2024.7,2,   2275.0,2,   7.9655,2,    25.00,     0.01,2,     0.02,2,  17.0950,2
  49UP20110515,   P13,    72,  1,     31,     104,2,20110714,2158,0005, 29.0067, 165.0023, 5845,    251.9,      250,  16.5640,  34.6298,2,    208.8,2,  34.6296,2,   208.18,2,     5.26,2,     5.52,2,     0.01,2,    0.370,2,    2.543,3,    1.602,6,-999,9,-999,9,   2035.8,2,   2271.0,2,   7.9342,2,    25.00,     -999,9,     -999,9,  16.5648,2
  49UP20110515,   P13,    72,  1,     30,     103,2,20110714,2158,0002, 29.0067, 165.0023, 5845,    332.8,      330,  15.2191,  34.5437,2,    207.3,2,  34.5421,2,   207.77,2,     7.62,6,     7.58,6,     0.01,6,    0.510,6,    2.654,3,    1.662,2,-999,9,-999,9,   2055.2,2,   2271.6,2,   7.9002,2,    25.00,     -999,9,     -999,9,  15.2199,2
  49UP20110515,   P13,    72,  1,     29,     102,2,20110714,2158,0000, 29.0067, 165.0023, 5845,    433.3,      430,  13.1178,  34.4151,2,    201.5,2,  34.4130,6,   200.96,2,    13.08,2,    11.56,2,     0.01,2,    0.790,2,    2.879,3,    1.730,2,-999,9,-999,9,   2083.8,2,   2269.5,2,   7.8304,2,    25.00,     -999,9,     -999,9,  13.1196,2
  49UP20110515,   P13,    72,  1,     28,     101,2,20110714,2158,2357, 29.0067, 165.0023, 5845,    536.0,      532,  10.4725,  34.2284,2,    192.1,2,  34.2296,2,   192.03,2,    22.67,2,    16.99,2,     0.00,2,    1.190,2,    3.039,3,    1.764,2,-999,9,-999,9,   2121.0,2,   2268.2,2,   7.7416,2,    25.00,     -999,9,     -999,9,  10.4632,2
  49UP20110515,   P13,    72,  1,     27,     100,2,20110714,2158,2354, 29.0067, 165.0023, 5845,    637.0,      632,   7.7461,  34.0696,2,    158.6,2,  34.0710,2,   158.34,6,    42.31,2,    25.12,2,     0.00,2,    1.780,2,    2.729,3,    1.509,6,-999,9,-999,9,   2176.4,2,   2275.4,2,   7.6101,2,    25.00,     -999,9,     -999,9,   7.7485,2
  49UP20110515,   P13,    72,  1,     26,      99,2,20110714,2158,2352, 29.0067, 165.0023, 5845,    736.0,      730,   5.9453,  34.0456,2,    113.7,2,  34.0461,2,   112.46,2,    65.83,2,    32.53,2,     0.00,2,    2.330,2,    2.009,3,    1.074,2,-999,9,-999,9,   2238.6,2,   2293.5,2,   7.4816,2,    25.00,     -999,9,     -999,9,   5.9441,2
  49UP20110515,   P13,    72,  1,     25,      98,2,20110714,2158,2349, 29.0067, 165.0023, 5845,    837.4,      830,   4.8798,  34.1106,2,     76.5,2,  34.1104,2,    76.65,2,    86.90,2,    37.39,2,     0.00,2,    2.680,2,    1.213,3,    0.663,2,-999,9,-999,9,   2284.0,2,   2315.0,2,   7.4023,2,    25.00,     -999,9,     -999,9,   4.8800,2
  49UP20110515,   P13,    72,  1,     24,      97,2,20110714,2158,2346, 29.0067, 165.0023, 5845,    938.4,      930,   4.1584,  34.2205,2,     46.9,2,  34.2221,2,    46.69,2,   107.53,2,    41.01,2,     0.00,2,    2.930,2,    0.519,3,    0.287,2,-999,9,-999,9,   2323.2,6,   2337.4,6,   7.3655,2,    25.00,     -999,9,     -999,9,   4.1595,2
  49UP20110515,   P13,    72,  1,     23,      96,2,20110714,2158,2343, 29.0067, 165.0023, 5845,   1080.7,     1071,   3.5760,  34.3300,2,     33.8,2,  34.3307,2,    33.85,2,   124.50,2,    42.72,2,     0.00,2,    3.060,2,    0.195,3,    0.103,2,-999,9,-999,9,   2352.5,2,   2361.5,2,   7.3395,2,    25.00,     -999,9,     -999,9,   3.5759,2
  49UP20110515,   P13,    72,  1,     22,      95,3,20110714,2158,2339, 29.0067, 165.0023, 5845,   1283.4,     1271,   2.9792,  34.4312,2,     33.6,2,  34.4330,2,    33.68,2,   141.96,2,    43.24,2,     0.00,2,    3.080,2,    0.058,3,    0.026,2,-999,9,-999,9,   2376.6,2,   2383.6,2,   7.3514,2,    25.00,     -999,9,     -999,9,   2.9774,2
  49UP20110515,   P13,    72,  1,     21,      94,2,20110714,2158,2334, 29.0067, 165.0023, 5845,   1485.4,     1470,   2.5823,  34.4989,2,     41.4,2,  34.4991,2,    41.94,2,   152.17,2,    43.13,2,     0.00,2,    3.050,2,    0.000,3,    0.000,2,-999,9,-999,9,   2378.2,2,   2392.8,2,   7.3707,2,    25.00,     -999,9,     -999,9,   2.5816,2
  49UP20110515,   P13,    72,  1,     20,      93,2,20110714,2158,2330, 29.0067, 165.0023, 5845,   1688.1,     1670,   2.2592,  34.5467,2,     53.3,2,  34.5474,2,    53.48,6,   159.77,2,    42.50,2,     0.00,2,    3.000,2,    0.000,3,    0.000,2,-999,9,-999,9,   2378.3,2,   2403.1,2,   7.3924,2,    25.00,     -999,9,     -999,9,   2.2555,2
  49UP20110515,   P13,    72,  1,     19,      92,2,20110714,2158,2325, 29.0067, 165.0023, 5845,   1892.3,     1871,   2.0411,  34.5847,2,     69.7,2,  34.5792,4,    69.60,2,   160.97,6,    41.41,6,     0.00,6,    2.910,6,    0.000,3,    0.000,2,-999,9,-999,9,   2372.6,2,   2410.0,2,   7.4240,2,    25.00,     -999,9,     -999,9,   2.0396,2
  49UP20110515,   P13,    72,  1,     18,      91,3,20110714,2158,2320, 29.0067, 165.0023, 5845,   2095.2,     2071,   1.8834,  34.6101,2,     84.5,2,  34.6106,2,    84.51,2,   161.77,2,    40.53,2,     0.00,2,    2.840,2,    0.000,3,    0.009,2,-999,9,-999,9,   2363.6,2,   2412.2,2,   7.4566,2,    25.00,     -999,9,     -999,9,   1.8830,2
  49UP20110515,   P13,    72,  1,     17,      90,2,20110714,2158,2316, 29.0067, 165.0023, 5845,   2297.3,     2269,   1.7599,  34.6306,2,    100.3,2,  34.6309,6,    99.74,2,   159.96,2,    39.57,2,     0.00,2,    2.760,2,    0.000,3,    0.000,2,-999,9,-999,9,   2356.9,2,   2415.1,2,   7.4830,2,    25.00,     -999,9,     -999,9,   1.7593,2
  49UP20110515,   P13,    72,  1,     16,      89,2,20110714,2158,2312, 29.0067, 165.0023, 5845,   2502.7,     2471,   1.6719,  34.6442,2,    111.6,2,  34.6451,2,   111.56,2,   158.48,2,    38.81,2,     0.00,2,    2.710,2,    0.000,3,    0.000,2,-999,9,-999,9,   2346.6,2,   2416.6,2,   7.5053,2,    25.00,     -999,9,     -999,9,   1.6719,2
  49UP20110515,   P13,    72,  1,     15,      88,2,20110714,2158,2307, 29.0067, 165.0023, 5845,   2706.6,     2671,   1.6075,  34.6570,2,    124.9,2,  34.6572,2,   124.93,2,   154.34,2,    38.01,2,     0.00,2,    2.640,2,     -999,9,     -999,9,-999,9,-999,9,   2343.1,2,   2415.9,2,   7.5304,2,    25.00,     -999,9,     -999,9,   1.6078,2
  49UP20110515,   P13,    72,  1,     14,      87,2,20110714,2158,2303, 29.0067, 165.0023, 5845,   2909.7,     2870,   1.5684,  34.6630,2,    130.6,2,  34.6633,2,   130.17,6,   153.26,2,    37.62,2,     0.00,2,    2.610,2,     -999,9,     -999,9,-999,9,-999,9,   2337.6,2,   2417.0,2,   7.5410,2,    25.00,     -999,9,     -999,9,   1.5685,2
  49UP20110515,   P13,    72,  1,     13,      86,2,20110714,2158,2258, 29.0067, 165.0023, 5845,   3124.4,     3081,   1.5385,  34.6682,2,    135.4,2,  34.6684,2,   135.24,2,   152.55,2,    37.17,2,     0.00,2,    2.580,2,     -999,9,     -999,9,-999,9,-999,9,   2336.2,2,   2415.0,2,   7.5479,2,    25.00,     -999,9,     -999,9,   1.5386,2
  49UP20110515,   P13,    72,  1,     12,      85,3,20110714,2158,2253, 29.0067, 165.0023, 5845,   3379.2,     3330,   1.5157,  34.6725,2,    139.0,2,  34.6729,2,   139.01,2,   152.52,2,    37.14,2,     0.00,2,    2.570,2,     -999,9,     -999,9,-999,9,-999,9,   2333.6,2,   2416.5,2,   7.5551,2,    25.00,     -999,9,     -999,9,   1.5157,2
  49UP20110515,   P13,    72,  1,     11,     110,2,20110714,2158,2247, 29.0067, 165.0023, 5845,   3634.7,     3580,   1.4950,  34.6772,2,    144.3,2,  34.6774,2,   143.62,2,   150.96,2,    36.75,2,     0.00,2,    2.540,2,     -999,9,     -999,9,-999,9,-999,9,   2331.1,2,   2415.5,6,   7.5653,2,    25.00,     -999,9,     -999,9,   1.4950,2
  49UP20110515,   P13,    72,  1,     10,      83,3,20110714,2158,2242, 29.0067, 165.0023, 5845,   3892.6,     3831,   1.4777,  34.6813,2,    149.8,2,  34.6820,2,   149.84,2,   149.05,2,    36.33,2,     0.00,2,    2.510,2,    0.000,3,    0.000,2,-999,9,-999,9,   2325.5,2,   2414.8,2,   7.5688,2,    25.00,     -999,9,     -999,9,   1.4777,2
  49UP20110515,   P13,    72,  1,      9,      82,2,20110714,2158,2237, 29.0067, 165.0023, 5845,   4148.5,     4081,   1.4694,  34.6847,2,    154.1,2,  34.6849,2,   153.92,2,   147.49,2,    36.08,2,     0.00,2,    2.480,2,     -999,9,     -999,9,-999,9,-999,9,   2323.0,2,   2414.0,2,   7.5727,2,    25.00,     -999,9,     -999,9,   1.4693,2
  49UP20110515,   P13,    72,  1,      8,      81,2,20110714,2158,2231, 29.0067, 165.0023, 5845,   4405.8,     4331,   1.4675,  34.6875,2,    158.2,2,  34.6870,2,   157.92,2,   145.72,2,    35.81,2,     0.00,2,    2.460,2,     -999,9,     -999,9,-999,9,-999,9,   2320.5,2,   2412.3,2,   7.5797,2,    25.00,     -999,9,     -999,9,   1.4677,2
  49UP20110515,   P13,    72,  1,      7,      80,2,20110714,2158,2226, 29.0067, 165.0023, 5845,   4661.3,     4580,   1.4689,  34.6901,2,    162.1,2,  34.6886,4,   162.50,2,   143.44,2,    35.48,2,     0.00,2,    2.450,2,     -999,9,     -999,9,-999,9,-999,9,   2316.2,2,   2409.1,2,   7.5820,2,    25.00,     -999,9,     -999,9,   1.4689,2
  49UP20110515,   P13,    72,  1,      6,      79,2,20110714,2158,2221, 29.0067, 165.0023, 5845,   4920.7,     4832,   1.4724,  34.6925,2,    166.7,2,  34.6926,2,   167.22,2,   140.43,2,    35.24,2,     0.00,2,    2.420,2,    0.000,3,    0.000,2,-999,9,-999,9,   2313.9,2,   2407.3,2,   7.5923,2,    25.00,     -999,9,     -999,9,   1.4724,2
  49UP20110515,   P13,    72,  1,      5,      78,2,20110714,2158,2215, 29.0067, 165.0023, 5845,   5175.9,     5080,   1.4842,  34.6942,2,    169.7,2,  34.6945,2,   169.58,2,   137.93,2,    34.82,2,     0.00,2,    2.400,2,     -999,9,     -999,9,-999,9,-999,9,   2308.4,2,   2405.7,2,   7.5917,2,    25.00,     -999,9,     -999,9,   1.4843,2
  49UP20110515,   P13,    72,  1,      4,      77,2,20110714,2158,2210, 29.0067, 165.0023, 5845,   5435.5,     5331,   1.4989,  34.6955,2,    172.1,2,  34.6955,2,   172.15,2,   136.53,2,    34.78,2,     0.00,2,    2.390,2,     -999,9,     -999,9,-999,9,-999,9,   2305.0,2,   2401.7,2,   7.5928,2,    25.00,     -999,9,     -999,9,   1.4992,2
  49UP20110515,   P13,    72,  1,      3,      76,2,20110714,2158,2205, 29.0067, 165.0023, 5845,   5692.3,     5580,   1.5136,  34.6969,2,    174.6,2,  34.6965,6,   175.13,2,   134.80,2,    34.60,2,     0.00,2,    2.370,2,     -999,9,     -999,9,-999,9,-999,9,   2300.1,2,   2399.9,2,   7.5971,2,    25.00,     -999,9,     -999,9,   1.5135,2
  49UP20110515,   P13,    72,  1,      2,      75,2,20110714,2158,2159, 29.0067, 165.0023, 5845,   5953.4,     5833,   1.5326,  34.6979,2,    176.9,2,  34.6978,2,   177.25,2,   133.57,6,    34.46,6,     0.00,6,    2.360,6,    0.000,3,    0.000,2,-999,9,-999,9,   2299.8,2,   2396.2,2,   7.5991,2,    25.00,     -999,9,     -999,9,   1.5325,2
  49UP20110515,   P13,    72,  1,      1,      74,2,20110714,2158,2159, 29.0067, 165.0023, 5845,   5953.7,     5833,   1.5328,  34.6979,2,    176.9,2,  34.6948,4,   172.93,3,   135.14,3,    34.70,3,     0.00,3,    2.380,3,     -999,9,     -999,9,-999,9,-999,9,   2301.4,2,   2400.4,3,   7.5927,2,    25.00,     -999,9,     -999,9,   1.5326,2