BOTTLE,20240116CCHSIOVAJ
EXPOCODE,SECT_ID,STNNBR,CASTNO,SAMPNO,BTLNBR,BTLNBR_FLAG_W,DATE,TIME,BTL_TIME,LATITUDE,LONGITUDE,DEPTH,CTDPRS,CTDDEPTH,CTDTMP,CTDSAL,CTDSAL_FLAG_W,CTDOXY,CTDOXY_FLAG_W,SALNTY,SALNTY_FLAG_W,OXYGEN,OXYGEN_FLAG_W,SILCAT,SILCAT_FLAG_W,NO2+NO3,NO2+NO3_FLAG_W,NITRIT,NITRIT_FLAG_W,PHSPHT,PHSPHT_FLAG_W,CFC-11,CFC-11_FLAG_W,CFC-12,CFC-12_FLAG_W,DELC14,DELC14_FLAG_W,DELC13,DELC13_FLAG_W,TCARBN,TCARBN_FLAG_W,ALKALI,ALKALI_FLAG_W,PH_TOT,PH_TOT_FLAG_W,PH_TMP,CHLORA,CHLORA_FLAG_W,PPHYTN,PPHYTN_FLAG_W,REFTMP,REFTMP_FLAG_W
,,,,,,,,,,,,METERS,DBAR,METERS,ITS-90,PSS-78,,UMOL/KG,,PSS-78,,UMOL/KG,,UMOL/KG,,UMOL/KG,,UMOL/KG,,UMOL/KG,,PMOL/KG,,PMOL/KG,,/MILLE,,/MILLE,,UMOL/KG,,UMOL/KG,,,,DEG C,UG/KG,,UG/KG,,ITS-90,
  49UP20110515,   P13,    47,  1,      0,     BUC,2,20110616,1451,1728, 46.9940, 165.0085, 5900,      0.0,        0,   5.7484,  33.0529,2,    317.9,2,     -999,9,   317.59,2,    28.02,2,    16.03,2,     0.17,2,    1.420,2,     -999,9,     -999,9,-999,9,-999,9,     -999,9,     -999,9,     -999,9,     -999,     0.52,2,     0.04,2,     -999,9
  49UP20110515,   P13,    47,  1,     36,     109,2,20110616,1451,1750, 46.9940, 165.0085, 5900,     10.7,       11,   5.7513,  33.0529,2,    317.9,2,  33.0555,2,   317.81,2,    28.02,6,    16.01,6,     0.17,6,    1.410,6,    5.156,2,    2.674,2,-999,9,-999,9,   2082.2,2,   2234.1,2,   7.7616,2,    25.00,     0.48,2,     0.05,2,   5.7531,2
  49UP20110515,   P13,    47,  1,     35,     108,2,20110616,1451,1745, 46.9940, 165.0085, 5900,     52.2,       52,   4.7020,  33.1358,2,    318.4,2,  33.1407,2,   318.07,2,    27.96,4,    16.75,2,     0.24,2,    1.440,2,    5.160,2,    2.783,2,-999,9,-999,9,   2085.8,2,   2236.6,2,   7.7401,2,    25.00,     0.56,2,     0.19,2,   4.7040,2
  49UP20110515,   P13,    47,  1,     34,     107,2,20110616,1451,1743, 46.9940, 165.0085, 5900,    101.7,      101,   5.0340,  33.5341,2,    285.1,2,  33.5351,2,   284.53,2,    31.66,2,    19.27,6,     0.01,6,    1.490,6,    4.425,2,    2.523,2,-999,9,-999,9,   2120.3,2,   2251.1,2,   7.7047,2,    25.00,     0.03,2,     0.05,2,   5.0257,2
  49UP20110515,   P13,    47,  1,     33,     106,2,20110616,1451,1739, 46.9940, 165.0085, 5900,    152.0,      151,   4.3730,  33.6302,2,    209.3,2,  33.6308,2,   207.41,6,    52.10,2,    27.55,2,     0.01,2,    2.070,2,    3.724,2,    2.182,2,-999,9,-999,9,   2188.1,2,   2266.0,2,   7.5640,3,    25.00,     0.01,2,     0.04,2,   4.3734,2
  49UP20110515,   P13,    47,  1,     32,     105,2,20110616,1451,1737, 46.9940, 165.0085, 5900,    202.5,      201,   3.3806,  33.6409,2,    166.8,2,  33.6398,6,   164.98,2,    68.51,2,    33.10,2,     0.01,2,    2.450,2,    3.768,2,    2.001,2,-999,9,-999,9,   2234.0,2,   2275.2,2,   7.4467,2,    25.00,     0.00,2,     0.04,2,   3.3825,2
  49UP20110515,   P13,    47,  1,     31,     104,2,20110616,1451,1735, 46.9940, 165.0085, 5900,    254.0,      252,   3.4019,  33.7303,2,    133.7,2,  33.7231,4,   133.98,2,    77.28,2,    35.62,2,     0.01,2,    2.610,2,    3.244,6,    1.739,6,-999,9,-999,9,   2258.9,2,   2283.8,2,   7.4103,2,    25.00,     -999,9,     -999,9,   3.3948,2
  49UP20110515,   P13,    47,  1,     30,     103,2,20110616,1451,1733, 46.9940, 165.0085, 5900,    333.9,      331,   3.7742,  33.9057,2,     88.3,2,  33.9049,2,    87.51,2,    89.79,2,    38.82,2,     0.01,2,    2.780,2,    2.325,2,    1.269,2,-999,9,-999,9,   2293.8,2,   2302.9,2,   7.3492,2,    25.00,     -999,9,     -999,9,   3.7744,2
  49UP20110515,   P13,    47,  1,     29,     102,2,20110616,1451,1729, 46.9940, 165.0085, 5900,    434.6,      431,   3.6599,  34.0159,2,     60.3,2,  34.0155,2,    59.40,2,   102.49,4,    40.89,2,     0.00,2,    2.930,2,    1.681,2,    0.926,2,-999,9,-999,9,   2318.6,2,   2315.3,2,   7.3182,6,    25.00,     -999,9,     -999,9,   3.6608,2
  49UP20110515,   P13,    47,  1,     28,     101,2,20110616,1451,1726, 46.9940, 165.0085, 5900,    535.6,      530,   3.6493,  34.1304,2,     48.1,2,  34.1303,2,    48.47,6,   111.78,2,    41.38,2,     0.00,2,    2.960,2,    1.263,2,    0.615,2,-999,9,-999,9,   2330.5,2,   2332.5,2,   7.3314,2,    25.00,     -999,9,     -999,9,   3.6496,2
  49UP20110515,   P13,    47,  1,     27,     100,2,20110616,1451,1723, 46.9940, 165.0085, 5900,    637.1,      631,   3.4479,  34.2091,2,     38.7,2,  34.2090,2,    38.90,2,   121.71,2,    42.12,2,     0.00,2,    3.020,2,    0.868,6,    0.420,6,-999,9,-999,9,   2345.4,2,   2342.3,2,   7.3185,2,    25.00,     -999,9,     -999,9,   3.4470,2
  49UP20110515,   P13,    47,  1,     26,      99,2,20110616,1451,1719, 46.9940, 165.0085, 5900,    738.1,      731,   3.2314,  34.2655,2,     34.6,2,  34.2663,2,    34.14,2,   130.12,2,    42.67,2,     0.00,2,    3.040,2,    0.672,2,    0.347,2,-999,9,-999,9,   2356.8,6,   2356.2,6,   7.3222,2,    25.00,     -999,9,     -999,9,   3.2315,2
  49UP20110515,   P13,    47,  1,     25,      98,2,20110616,1451,1714, 46.9940, 165.0085, 5900,    840.1,      831,   3.0504,  34.3066,2,     33.9,2,  34.3070,2,    33.61,2,   136.38,2,    42.70,2,     0.00,2,    3.060,2,    0.520,2,    0.266,2,-999,9,-999,9,   2357.6,2,   2360.4,2,   7.3227,2,    25.00,     -999,9,     -999,9,   3.0506,2
  49UP20110515,   P13,    47,  1,     24,      97,2,20110616,1451,1712, 46.9940, 165.0085, 5900,    940.9,      931,   2.8874,  34.3546,2,     32.5,2,  34.3545,2,    32.13,2,   142.45,2,    42.88,6,     0.00,6,    3.070,6,    0.368,2,    0.184,2,-999,9,-999,9,   2368.4,2,   2372.3,2,   7.3299,2,    25.00,     -999,9,     -999,9,   2.8877,2
  49UP20110515,   P13,    47,  1,     23,      96,2,20110616,1451,1706, 46.9940, 165.0085, 5900,   1082.4,     1071,   2.6856,  34.4062,2,     20.9,2,  34.4058,6,    23.92,2,   152.88,2,    43.93,2,     0.00,2,    3.130,2,    0.187,2,    0.106,2,-999,9,-999,9,   2383.1,2,   2377.4,2,   7.3161,3,    25.00,     -999,9,     -999,9,   2.6862,2
  49UP20110515,   P13,    47,  1,     22,      95,2,20110616,1451,1702, 46.9940, 165.0085, 5900,   1285.1,     1271,   2.4501,  34.4646,2,     37.0,2,  34.4650,2,    36.28,6,   157.04,2,    42.94,2,     0.00,2,    3.060,2,    0.176,2,    0.100,2,-999,9,-999,9,   2382.2,2,   2373.8,3,   7.3539,2,    25.00,     -999,9,     -999,9,   2.4503,2
  49UP20110515,   P13,    47,  1,     21,      94,2,20110616,1451,1655, 46.9940, 165.0085, 5900,   1488.0,     1470,   2.2530,  34.5070,2,     41.5,2,  34.5078,2,    41.12,2,   163.74,2,    42.66,2,     0.00,2,    3.040,2,    0.078,2,    0.056,2,-999,9,-999,9,   2379.8,2,   2395.9,2,   7.3664,2,    25.00,     -999,9,     -999,9,   2.2530,2
  49UP20110515,   P13,    47,  1,     20,      93,2,20110616,1451,1650, 46.9940, 165.0085, 5900,   1691.0,     1670,   2.0964,  34.5458,2,     50.3,2,  34.5466,2,    50.00,2,   167.31,2,    42.16,2,     0.00,2,    2.970,3,    0.038,2,    0.032,2,-999,9,-999,9,   2382.6,2,   2403.8,2,   7.3915,2,    25.00,     -999,9,     -999,9,   2.0966,2
  49UP20110515,   P13,    47,  1,     19,      92,2,20110616,1451,1645, 46.9940, 165.0085, 5900,   1894.6,     1870,   1.9789,  34.5747,2,     59.4,2,  34.5748,2,    59.03,2,   168.85,3,    41.84,2,     0.00,2,    2.940,2,    0.017,2,    0.014,2,-999,9,-999,9,   2381.6,2,   2407.5,2,   7.4069,2,    25.00,     -999,9,     -999,9,   1.9790,2
  49UP20110515,   P13,    47,  1,     18,      91,2,20110616,1451,1639, 46.9940, 165.0085, 5900,   2098.0,     2070,   1.8665,  34.6001,2,     73.1,2,  34.6005,2,    73.12,2,   168.24,2,    41.04,2,     0.00,2,    2.880,2,    0.041,2,    0.029,2,-999,9,-999,9,   2373.5,2,   2410.7,2,   7.4268,2,    25.00,     -999,9,     -999,9,   1.8666,2
  49UP20110515,   P13,    47,  1,     17,      90,2,20110616,1451,1635, 46.9940, 165.0085, 5900,   2301.7,     2270,   1.7822,  34.6176,2,     84.4,2,  34.6177,2,    84.75,2,   167.87,2,    40.35,2,     0.00,2,    2.830,2,    0.004,2,    0.017,2,-999,9,-999,9,   2365.0,2,   2414.2,2,   7.4549,6,    25.00,     -999,9,     -999,9,   1.7822,2
  49UP20110515,   P13,    47,  1,     16,      89,2,20110616,1451,1623, 46.9940, 165.0085, 5900,   2506.2,     2471,   1.7022,  34.6336,2,     97.6,2,  34.6334,2,    97.34,2,   164.68,2,    39.64,2,     0.00,2,    2.770,2,    0.000,2,    0.022,2,-999,9,-999,9,   2358.3,6,   2415.0,6,   7.4804,2,    25.00,     -999,9,     -999,9,   1.7023,2
  49UP20110515,   P13,    47,  1,     15,      88,2,20110616,1451,1619, 46.9940, 165.0085, 5900,   2711.4,     2672,   1.6312,  34.6468,2,    109.6,2,  34.6471,6,   109.82,2,   162.26,2,    38.82,2,     0.00,2,    2.720,2,    0.000,2,    0.016,2,-999,9,-999,9,   2349.9,2,   2414.1,2,   7.5064,2,    25.00,     -999,9,     -999,9,   1.6313,2
  49UP20110515,   P13,    47,  1,     14,      87,2,20110616,1451,1615, 46.9940, 165.0085, 5900,   2914.4,     2870,   1.5830,  34.6558,2,    118.4,2,  34.6556,2,   119.34,2,   160.29,2,    38.30,2,     0.00,2,    2.670,2,    0.057,2,    0.031,2,-999,9,-999,9,   2350.7,2,   2418.3,2,   7.5203,2,    25.00,     -999,9,     -999,9,   1.5830,2
  49UP20110515,   P13,    47,  1,     13,      86,2,20110616,1451,1605, 46.9940, 165.0085, 5900,   3129.4,     3081,   1.5457,  34.6633,2,    126.4,2,  34.6633,2,   126.19,2,   157.99,2,    37.83,2,     0.00,2,    2.630,2,     -999,9,     -999,9,-999,9,-999,9,   2337.0,2,   2417.9,2,   7.5381,3,    25.00,     -999,9,     -999,9,   1.5459,2
  49UP20110515,   P13,    47,  1,     12,      85,2,20110616,1451,1600, 46.9940, 165.0085, 5900,   3384.7,     3330,   1.5148,  34.6700,2,    134.0,2,  34.6712,4,   133.90,2,   155.39,3,    37.20,2,     0.00,2,    2.590,2,    0.053,2,    0.033,2,-999,9,-999,9,   2335.8,2,   2415.9,2,   7.5496,2,    25.00,     -999,9,     -999,9,   1.5148,2
  49UP20110515,   P13,    47,  1,     11,     110,2,20110616,1451,1553, 46.9940, 165.0085, 5900,   3640.1,     3579,   1.4952,  34.6750,2,    140.0,2,  34.6755,2,   139.78,2,   154.22,2,    36.87,2,     0.00,2,    2.570,2,     -999,9,     -999,9,-999,9,-999,9,   2330.3,2,   2415.1,2,   7.5602,2,    25.00,     -999,9,     -999,9,   1.4952,2
  49UP20110515,   P13,    47,  1,     10,      83,2,20110616,1451,1547, 46.9940, 165.0085, 5900,   3897.3,     3830,   1.4854,  34.6791,2,    145.0,2,  34.6792,2,   145.19,2,   153.10,3,    36.44,2,     0.00,2,    2.540,2,     -999,9,     -999,9,-999,9,-999,9,   2325.2,2,   2416.8,2,   7.5683,2,    25.00,     -999,9,     -999,9,   1.4855,2
  49UP20110515,   P13,    47,  1,      9,      82,2,20110616,1451,1540, 46.9940, 165.0085, 5900,   4153.6,     4079,   1.4804,  34.6827,2,    149.4,2,  34.6825,2,   149.70,2,   152.11,2,    36.34,2,     0.00,2,    2.520,2,     -999,9,     -999,9,-999,9,-999,9,   2312.0,3,   2415.3,2,   7.5738,2,    25.00,     -999,9,     -999,9,   1.4808,2
  49UP20110515,   P13,    47,  1,      8,      81,2,20110616,1451,1534, 46.9940, 165.0085, 5900,   4411.2,     4330,   1.4897,  34.6849,2,    152.2,2,  34.6848,2,   152.29,2,   151.71,2,    36.06,2,     0.00,2,    2.500,2,    0.049,2,    0.039,2,-999,9,-999,9,   2320.2,2,   2413.9,2,   7.5792,2,    25.00,     -999,9,     -999,9,   1.4901,2
  49UP20110515,   P13,    47,  1,      7,      80,2,20110616,1451,1527, 46.9940, 165.0085, 5900,   4668.8,     4580,   1.5004,  34.6869,2,    154.8,2,  34.6869,2,   155.25,6,   150.77,3,    35.98,2,     0.00,2,    2.480,2,     -999,9,     -999,9,-999,9,-999,9,   2310.5,3,   2414.1,2,   7.5835,2,    25.00,     -999,9,     -999,9,   1.5007,2
  49UP20110515,   P13,    47,  1,      6,      79,2,20110616,1451,1521, 46.9940, 165.0085, 5900,   4927.2,     4831,   1.5182,  34.6885,2,    156.7,2,  34.6883,2,   156.76,2,   150.72,2,    35.69,2,     0.00,2,    2.470,2,     -999,9,     -999,9,-999,9,-999,9,   2320.1,2,   2414.0,2,   7.5892,2,    25.00,     -999,9,     -999,9,   1.5185,2
  49UP20110515,   P13,    47,  1,      5,      78,2,20110616,1451,1514, 46.9940, 165.0085, 5900,   5185.5,     5081,   1.5422,  34.6896,2,    157.7,2,  34.6898,2,   157.50,2,   151.41,6,    35.73,6,     0.00,6,    2.470,6,     -999,9,     -999,9,-999,9,-999,9,   2321.3,2,   2414.5,2,   7.5891,2,    25.00,     -999,9,     -999,9,   1.5425,2
  49UP20110515,   P13,    47,  1,      4,      77,2,20110616,1451,1507, 46.9940, 165.0085, 5900,   5443.1,     5330,   1.5710,  34.6902,2,    158.2,2,  34.6905,2,   158.11,2,   152.20,2,    35.61,2,     0.00,2,    2.470,2,    0.013,2,    0.000,2,-999,9,-999,9,   2322.7,2,   2416.1,2,   7.5882,6,    25.00,     -999,9,     -999,9,   1.5712,2
  49UP20110515,   P13,    47,  1,      3,      76,2,20110616,1451,1501, 46.9940, 165.0085, 5900,   5702.8,     5581,   1.6052,  34.6903,2,    158.2,2,  34.6897,2,   157.77,2,   152.31,3,    35.79,3,     0.00,3,    2.470,3,     -999,9,     -999,9,-999,9,-999,9,   2319.9,6,   2415.0,6,   7.5885,2,    25.00,     -999,9,     -999,9,   1.6055,2
  49UP20110515,   P13,    47,  1,      2,      75,2,20110616,1451,1453, 46.9940, 165.0085, 5900,   5961.0,     5831,   1.6397,  34.6906,2,    158.1,2,  34.6906,6,   157.92,2,   152.22,2,    35.58,2,     0.00,2,    2.470,2,     -999,9,     -999,9,-999,9,-999,9,   2310.2,2,   2415.9,2,   7.5880,2,    25.00,     -999,9,     -999,9,   1.6398,2
  49UP20110515,   P13,    47,  1,      1,      74,2,20110616,1451,1451, 46.9940, 165.0085, 5900,   6009.3,     5877,   1.6463,  34.6905,2,    158.1,2,  34.6894,2,   157.39,2,   151.87,3,    35.77,3,     0.00,3,    2.480,3,     -999,9,     -999,9,-999,9,-999,9,   2311.6,2,   2415.0,2,   7.5848,2,    25.00,     -999,9,     -999,9,   1.6465,2