BOTTLE,20240116CCHSIOVAJ
EXPOCODE,SECT_ID,STNNBR,CASTNO,SAMPNO,BTLNBR,BTLNBR_FLAG_W,DATE,TIME,BTL_TIME,LATITUDE,LONGITUDE,DEPTH,CTDPRS,CTDDEPTH,CTDTMP,CTDSAL,CTDSAL_FLAG_W,CTDOXY,CTDOXY_FLAG_W,SALNTY,SALNTY_FLAG_W,OXYGEN,OXYGEN_FLAG_W,SILCAT,SILCAT_FLAG_W,NO2+NO3,NO2+NO3_FLAG_W,NITRIT,NITRIT_FLAG_W,PHSPHT,PHSPHT_FLAG_W,CFC-11,CFC-11_FLAG_W,CFC-12,CFC-12_FLAG_W,DELC14,DELC14_FLAG_W,DELC13,DELC13_FLAG_W,TCARBN,TCARBN_FLAG_W,ALKALI,ALKALI_FLAG_W,PH_TOT,PH_TOT_FLAG_W,PH_TMP,CHLORA,CHLORA_FLAG_W,PPHYTN,PPHYTN_FLAG_W,REFTMP,REFTMP_FLAG_W
,,,,,,,,,,,,METERS,DBAR,METERS,ITS-90,PSS-78,,UMOL/KG,,PSS-78,,UMOL/KG,,UMOL/KG,,UMOL/KG,,UMOL/KG,,UMOL/KG,,PMOL/KG,,PMOL/KG,,/MILLE,,/MILLE,,UMOL/KG,,UMOL/KG,,,,DEG C,UG/KG,,UG/KG,,ITS-90,
  49UP20110515,   P13,   111,  1,      0,     BUC,2,20110805,0605,0803,  6.5092, 164.7588, 5078,      0.0,        0,  28.8526,  33.9878,2,    197.0,2,     -999,9,   196.41,2,     1.08,2,     0.00,2,     0.00,2,    0.110,2,     -999,9,     -999,9,-999,9,-999,9,     -999,9,     -999,9,     -999,9,     -999,     -999,9,     -999,9,     -999,9
  49UP20110515,   P13,   111,  1,     36,     109,2,20110805,0605,0822,  6.5092, 164.7588, 5078,     10.7,       11,  28.8586,  33.9877,2,    196.9,2,  33.9875,2,   196.55,2,     1.07,2,     0.00,2,     0.00,2,    0.100,2,     -999,9,     -999,9,-999,9,-999,9,     -999,9,     -999,9,     -999,9,     -999,     -999,9,     -999,9,  28.8598,2
  49UP20110515,   P13,   111,  1,     35,     108,2,20110805,0605,0819,  6.5092, 164.7588, 5078,     50.7,       50,  28.9523,  34.1157,2,    196.8,2,  34.1163,2,   196.37,2,     1.08,2,     0.01,2,     0.00,2,    0.120,2,     -999,9,     -999,9,-999,9,-999,9,     -999,9,     -999,9,     -999,9,     -999,     -999,9,     -999,9,  28.9549,2
  49UP20110515,   P13,   111,  1,     34,     107,2,20110805,0605,0817,  6.5092, 164.7588, 5078,     76.5,       76,  29.1515,  34.5325,2,    196.3,2,  34.5261,4,   196.58,2,     1.21,2,     0.00,2,     0.00,2,    0.140,2,     -999,9,     -999,9,-999,9,-999,9,     -999,9,     -999,9,     -999,9,     -999,     -999,9,     -999,9,  29.1484,2
  49UP20110515,   P13,   111,  1,     33,     106,2,20110805,0605,0816,  6.5092, 164.7588, 5078,    102.0,      101,  28.4659,  34.7485,2,    188.6,2,  34.7612,4,   189.81,2,     1.30,2,     0.03,2,     0.01,2,    0.180,2,     -999,9,     -999,9,-999,9,-999,9,     -999,9,     -999,9,     -999,9,     -999,     -999,9,     -999,9,  28.4764,2
  49UP20110515,   P13,   111,  1,     32,     105,2,20110805,0605,0814,  6.5092, 164.7588, 5078,    126.6,      126,  24.6866,  35.0196,2,    180.1,2,  35.0493,4,   188.20,2,     1.74,2,     1.20,2,     0.37,2,    0.230,2,     -999,9,     -999,9,-999,9,-999,9,     -999,9,     -999,9,     -999,9,     -999,     -999,9,     -999,9,  24.7207,2
  49UP20110515,   P13,   111,  1,     31,     104,2,20110805,0605,0813,  6.5092, 164.7588, 5078,    154.0,      153,  16.7105,  34.6688,2,    141.7,2,  34.6832,4,   142.27,6,     8.88,2,    11.14,2,     0.01,2,    0.880,2,     -999,9,     -999,9,-999,9,-999,9,     -999,9,     -999,9,     -999,9,     -999,     -999,9,     -999,9,  16.7174,2
  49UP20110515,   P13,   111,  1,     30,     103,2,20110805,0605,0811,  6.5092, 164.7588, 5078,    201.4,      200,  11.2905,  34.5416,2,     57.5,2,  34.5468,2,    55.52,2,    27.96,6,    29.04,6,     0.00,6,    2.130,6,     -999,9,     -999,9,-999,9,-999,9,     -999,9,     -999,9,     -999,9,     -999,     -999,9,     -999,9,  11.2959,2
  49UP20110515,   P13,   111,  1,     29,     102,2,20110805,0605,0809,  6.5092, 164.7588, 5078,    251.7,      250,  10.2324,  34.6348,2,     33.5,2,  34.6312,2,    34.81,2,    32.90,2,    33.45,2,     0.00,2,    2.390,2,     -999,9,     -999,9,-999,9,-999,9,     -999,9,     -999,9,     -999,9,     -999,     -999,9,     -999,9,  10.2320,2
  49UP20110515,   P13,   111,  1,     28,     101,2,20110805,0605,0807,  6.5092, 164.7588, 5078,    303.0,      301,   9.5321,  34.6434,2,     46.1,2,  34.6425,2,    47.98,2,    34.32,2,    33.69,2,     0.00,2,    2.370,2,     -999,9,     -999,9,-999,9,-999,9,     -999,9,     -999,9,     -999,9,     -999,     -999,9,     -999,9,   9.5329,2
  49UP20110515,   P13,   111,  1,     27,     100,2,20110805,0605,0803,  6.5092, 164.7588, 5078,    404.4,      402,   8.6565,  34.6131,2,     55.5,2,  34.6123,2,    55.68,2,    38.33,2,    34.63,2,     0.00,2,    2.440,2,     -999,9,     -999,9,-999,9,-999,9,     -999,9,     -999,9,     -999,9,     -999,     -999,9,     -999,9,   8.6576,2
  49UP20110515,   P13,   111,  1,     26,      99,2,20110805,0605,0757,  6.5092, 164.7588, 5078,    503.9,      500,   8.0089,  34.5837,2,     54.0,2,  34.5845,2,    54.14,6,    43.65,2,    35.85,2,     0.00,2,    2.560,2,     -999,9,     -999,9,-999,9,-999,9,     -999,9,     -999,9,     -999,9,     -999,     -999,9,     -999,9,   8.0087,2
  49UP20110515,   P13,   111,  1,     25,      98,2,20110805,0605,0754,  6.5092, 164.7588, 5078,    604.9,      601,   7.1571,  34.5596,2,     52.0,2,  34.5585,2,    52.03,2,    51.98,2,    37.82,2,     0.00,2,    2.710,2,     -999,9,     -999,9,-999,9,-999,9,     -999,9,     -999,9,     -999,9,     -999,     -999,9,     -999,9,   7.1576,2
  49UP20110515,   P13,   111,  1,     24,      97,2,20110805,0605,0751,  6.5092, 164.7588, 5078,    705.5,      700,   6.3951,  34.5448,2,     51.6,2,  34.5449,2,    51.90,2,    61.31,6,    39.38,6,     0.00,6,    2.820,6,     -999,9,     -999,9,-999,9,-999,9,     -999,9,     -999,9,     -999,9,     -999,     -999,9,     -999,9,   6.3943,2
  49UP20110515,   P13,   111,  1,     23,      96,2,20110805,0605,0749,  6.5092, 164.7588, 5078,    806.9,      801,   5.5801,  34.5397,2,     58.1,2,  34.5400,2,    58.60,2,    73.24,2,    40.12,2,     0.00,2,    2.860,2,     -999,9,     -999,9,-999,9,-999,9,     -999,9,     -999,9,     -999,9,     -999,     -999,9,     -999,9,   5.5803,2
  49UP20110515,   P13,   111,  1,     22,      95,2,20110805,0605,0746,  6.5092, 164.7588, 5078,    905.5,      899,   4.9851,  34.5474,2,     62.1,2,  34.5475,2,    61.94,2,    83.16,2,    40.48,2,     0.00,2,    2.900,2,     -999,9,     -999,9,-999,9,-999,9,     -999,9,     -999,9,     -999,9,     -999,     -999,9,     -999,9,   4.9852,2
  49UP20110515,   P13,   111,  1,     21,      94,2,20110805,0605,0741,  6.5092, 164.7588, 5078,   1008.2,     1000,   4.4858,  34.5568,2,     69.4,2,  34.5575,2,    69.39,2,    92.22,2,    40.50,2,     0.00,2,    2.890,2,     -999,9,     -999,9,-999,9,-999,9,     -999,9,     -999,9,     -999,9,     -999,     -999,9,     -999,9,   4.4855,2
  49UP20110515,   P13,   111,  1,     20,      93,2,20110805,0605,0735,  6.5092, 164.7588, 5078,   1211.5,     1201,   3.8282,  34.5737,2,     75.1,2,  34.5737,2,    74.99,2,   106.23,2,    40.48,2,     0.00,2,    2.900,2,     -999,9,     -999,9,-999,9,-999,9,     -999,9,     -999,9,     -999,9,     -999,     -999,9,     -999,9,   3.8288,2
  49UP20110515,   P13,   111,  1,     19,      92,2,20110805,0605,0730,  6.5092, 164.7588, 5078,   1413.3,     1401,   3.2599,  34.5911,2,     83.7,2,  34.5911,6,    83.98,2,   118.52,2,    39.99,2,     0.00,2,    2.850,2,     -999,9,     -999,9,-999,9,-999,9,     -999,9,     -999,9,     -999,9,     -999,     -999,9,     -999,9,   3.2600,2
  49UP20110515,   P13,   111,  1,     18,      91,2,20110805,0605,0720,  6.5092, 164.7588, 5078,   1615.7,     1601,   2.7693,  34.6073,2,     92.4,2,  34.6069,2,    92.44,2,   130.00,2,    39.81,2,     0.00,2,    2.810,2,     -999,9,     -999,9,-999,9,-999,9,     -999,9,     -999,9,     -999,9,     -999,     -999,9,     -999,9,   2.7694,2
  49UP20110515,   P13,   111,  1,     17,      90,2,20110805,0605,0716,  6.5092, 164.7588, 5078,   1819.8,     1802,   2.4027,  34.6257,2,    100.0,2,  34.6255,2,   100.04,2,   137.82,6,    39.38,6,     0.00,6,    2.780,6,     -999,9,     -999,9,-999,9,-999,9,     -999,9,     -999,9,     -999,9,     -999,     -999,9,     -999,9,   2.4028,2
  49UP20110515,   P13,   111,  1,     16,      89,2,20110805,0605,0712,  6.5092, 164.7588, 5078,   2021.0,     2000,   2.1661,  34.6404,2,    106.7,2,  34.6409,2,   106.57,2,   142.73,2,    39.20,2,     0.00,2,    2.750,2,     -999,9,     -999,9,-999,9,-999,9,     -999,9,     -999,9,     -999,9,     -999,     -999,9,     -999,9,   2.1663,2
  49UP20110515,   P13,   111,  1,     15,      88,2,20110805,0605,0706,  6.5092, 164.7588, 5078,   2224.3,     2200,   1.9981,  34.6504,2,    112.8,2,  34.6492,2,   112.78,2,   145.89,2,    38.83,2,     0.00,2,    2.710,2,     -999,9,     -999,9,-999,9,-999,9,     -999,9,     -999,9,     -999,9,     -999,     -999,9,     -999,9,   1.9984,2
  49UP20110515,   P13,   111,  1,     14,      87,2,20110805,0605,0701,  6.5092, 164.7588, 5078,   2428.4,     2401,   1.8750,  34.6577,2,    119.0,2,  34.6565,2,   119.07,6,   147.52,2,    38.46,2,     0.00,2,    2.680,2,     -999,9,     -999,9,-999,9,-999,9,     -999,9,     -999,9,     -999,9,     -999,     -999,9,     -999,9,   1.8750,2
  49UP20110515,   P13,   111,  1,     13,      86,3,20110805,0605,0657,  6.5092, 164.7588, 5078,   2631.3,     2600,   1.7920,  34.6630,2,    123.9,2,  34.6624,2,   123.81,2,   147.98,2,    38.03,2,     0.00,2,    2.650,2,     -999,9,     -999,9,-999,9,-999,9,     -999,9,     -999,9,     -999,9,     -999,     -999,9,     -999,9,   1.7926,2
  49UP20110515,   P13,   111,  1,     12,      74,2,20110805,0605,0653,  6.5092, 164.7588, 5078,   2834.6,     2800,   1.7136,  34.6673,2,    129.5,2,  34.6671,2,   129.26,2,   148.06,2,    37.67,2,     0.00,2,    2.610,2,     -999,9,     -999,9,-999,9,-999,9,     -999,9,     -999,9,     -999,9,     -999,     -999,9,     -999,9,   1.7138,2
  49UP20110515,   P13,   111,  1,     11,     110,2,20110805,0605,0649,  6.5092, 164.7588, 5078,   3039.6,     3001,   1.6403,  34.6719,2,    135.4,2,  34.6706,2,   135.57,2,   147.70,2,    37.28,2,     0.00,2,    2.590,2,     -999,9,     -999,9,-999,9,-999,9,     -999,9,     -999,9,     -999,9,     -999,     -999,9,     -999,9,   1.6405,2
  49UP20110515,   P13,   111,  1,     10,      83,2,20110805,0605,0644,  6.5092, 164.7588, 5078,   3294.7,     3251,   1.5697,  34.6771,2,    142.1,2,  34.6765,2,   142.04,2,   146.90,2,    36.84,2,     0.00,2,    2.550,2,     -999,9,     -999,9,-999,9,-999,9,     -999,9,     -999,9,     -999,9,     -999,     -999,9,     -999,9,   1.5697,2
  49UP20110515,   P13,   111,  1,      9,      82,3,20110805,0605,0639,  6.5092, 164.7588, 5078,   3550.3,     3501,   1.4956,  34.6831,2,    150.3,2,  34.6826,6,   150.44,6,   144.73,2,    36.25,2,     0.00,2,    2.500,2,     -999,9,     -999,9,-999,9,-999,9,     -999,9,     -999,9,     -999,9,     -999,     -999,9,     -999,9,   1.4959,2
  49UP20110515,   P13,   111,  1,      8,      81,2,20110805,0605,0634,  6.5092, 164.7588, 5078,   3805.9,     3751,   1.4541,  34.6874,2,    157.7,2,  34.6872,2,   157.95,2,   141.34,2,    35.74,2,     0.00,2,    2.470,2,     -999,9,     -999,9,-999,9,-999,9,     -999,9,     -999,9,     -999,9,     -999,     -999,9,     -999,9,   1.4542,2
  49UP20110515,   P13,   111,  1,      7,      80,2,20110805,0605,0629,  6.5092, 164.7588, 5078,   4063.0,     4002,   1.4355,  34.6907,2,    163.7,2,  34.6901,2,   163.64,2,   137.59,2,    35.24,2,     0.00,2,    2.430,2,     -999,9,     -999,9,-999,9,-999,9,     -999,9,     -999,9,     -999,9,     -999,     -999,9,     -999,9,   1.4354,2
  49UP20110515,   P13,   111,  1,      6,      79,2,20110805,0605,0623,  6.5092, 164.7588, 5078,   4317.6,     4250,   1.4230,  34.6936,2,    168.5,2,  34.6932,2,   168.56,2,   135.83,2,    35.00,2,     0.00,2,    2.410,2,     -999,9,     -999,9,-999,9,-999,9,     -999,9,     -999,9,     -999,9,     -999,     -999,9,     -999,9,   1.4232,2
  49UP20110515,   P13,   111,  1,      5,      78,2,20110805,0605,0618,  6.5092, 164.7588, 5078,   4574.3,     4501,   1.4063,  34.6965,2,    174.0,2,  34.6958,2,   174.13,2,   132.57,2,    34.49,2,     0.00,2,    2.370,2,     -999,9,     -999,9,-999,9,-999,9,     -999,9,     -999,9,     -999,9,     -999,     -999,9,     -999,9,   1.4065,2
  49UP20110515,   P13,   111,  1,      4,      77,2,20110805,0605,0613,  6.5092, 164.7588, 5078,   4830.3,     4750,   1.3952,  34.6989,2,    178.8,2,  34.6983,2,   179.36,2,   130.01,6,    34.01,6,     0.00,6,    2.340,6,     -999,9,     -999,9,-999,9,-999,9,     -999,9,     -999,9,     -999,9,     -999,     -999,9,     -999,9,   1.3952,2
  49UP20110515,   P13,   111,  1,      3,      76,2,20110805,0605,0608,  6.5092, 164.7588, 5078,   5088.2,     5000,   1.3860,  34.7014,2,    183.3,2,  34.7011,2,   183.60,2,   127.83,2,    33.75,2,     0.00,2,    2.310,3,     -999,9,     -999,9,-999,9,-999,9,     -999,9,     -999,9,     -999,9,     -999,     -999,9,     -999,9,   1.3861,2
  49UP20110515,   P13,   111,  1,      2,      75,2,20110805,0605,0606,  6.5092, 164.7588, 5078,   5141.8,     5052,   1.3930,  34.7012,2,    183.3,2,  34.7009,6,   183.87,2,   127.82,2,    33.84,2,     0.00,2,    2.330,2,     -999,9,     -999,9,-999,9,-999,9,     -999,9,     -999,9,     -999,9,     -999,     -999,9,     -999,9,   1.3928,2
  49UP20110515,   P13,   111,  1,      1,     112,2,20110805,0605,0606,  6.5092, 164.7588, 5078,   5141.8,     5052,   1.3930,  34.7012,2,    183.3,2,  34.7000,6,   182.15,3,   128.17,2,    33.89,2,     0.00,2,    2.340,2,     -999,9,     -999,9,-999,9,-999,9,     -999,9,     -999,9,     -999,9,     -999,     -999,9,     -999,9,   1.3928,2