BOTTLE,20240116CCHSIOVAJ
EXPOCODE,SECT_ID,STNNBR,CASTNO,SAMPNO,BTLNBR,BTLNBR_FLAG_W,DATE,TIME,BTL_TIME,LATITUDE,LONGITUDE,DEPTH,CTDPRS,CTDDEPTH,CTDTMP,CTDSAL,CTDSAL_FLAG_W,CTDOXY,CTDOXY_FLAG_W,SALNTY,SALNTY_FLAG_W,OXYGEN,OXYGEN_FLAG_W,SILCAT,SILCAT_FLAG_W,NO2+NO3,NO2+NO3_FLAG_W,NITRIT,NITRIT_FLAG_W,PHSPHT,PHSPHT_FLAG_W,CFC-11,CFC-11_FLAG_W,CFC-12,CFC-12_FLAG_W,DELC14,DELC14_FLAG_W,DELC13,DELC13_FLAG_W,TCARBN,TCARBN_FLAG_W,ALKALI,ALKALI_FLAG_W,PH_TOT,PH_TOT_FLAG_W,PH_TMP,CHLORA,CHLORA_FLAG_W,PPHYTN,PPHYTN_FLAG_W,REFTMP,REFTMP_FLAG_W
,,,,,,,,,,,,METERS,DBAR,METERS,ITS-90,PSS-78,,UMOL/KG,,PSS-78,,UMOL/KG,,UMOL/KG,,UMOL/KG,,UMOL/KG,,UMOL/KG,,PMOL/KG,,PMOL/KG,,/MILLE,,/MILLE,,UMOL/KG,,UMOL/KG,,,,DEG C,UG/KG,,UG/KG,,ITS-90,
  49UP20110515,   P01,    34,  1,      0,     BUC,2,20110609,2130,2345, 45.0603, 156.6542, 4810,      0.0,        0,   5.6956,  32.8805,2,    333.3,2,     -999,9,   330.26,2,    31.81,2,    17.26,2,     0.18,2,    1.520,2,     -999,9,     -999,9,-999,9,-999,9,     -999,9,     -999,9,     -999,9,     -999,     1.54,2,     0.22,2,     -999,9
  49UP20110515,   P01,    34,  1,     36,     109,2,20110609,2130,0007, 45.0603, 156.6542, 4810,     10.6,       11,   5.7375,  32.8786,2,    332.3,2,  32.8839,2,   333.06,2,    31.76,2,    17.21,2,     0.17,2,    1.500,2,    4.851,2,    2.981,2,-999,9,-999,9,   2077.3,2,   2229.5,2,   7.7735,2,    25.00,     0.91,2,     0.19,2,   5.7367,2
  49UP20110515,   P01,    34,  1,     35,     108,2,20110609,2130,0001, 45.0603, 156.6542, 4810,     51.0,       51,   2.5333,  32.9984,2,    334.9,2,  32.9995,2,   336.85,2,    43.31,6,    23.49,6,     0.26,6,    1.920,6,    5.907,2,    3.260,2,-999,9,-999,9,   2116.5,2,   2232.3,2,   7.6796,2,    25.00,     0.34,2,     0.26,2,   2.5328,2
  49UP20110515,   P01,    34,  1,     34,     107,2,20110609,2130,0000, 45.0603, 156.6542, 4810,     77.2,       77,   1.6098,  33.0606,2,    329.7,2,  33.0559,6,   330.50,2,    45.86,2,    25.50,2,     0.37,2,    2.010,2,    5.725,2,    3.270,2,-999,9,-999,9,   2131.0,2,   2235.5,2,   7.6309,6,    25.00,     0.17,2,     0.19,2,   1.6094,2
  49UP20110515,   P01,    34,  1,     33,     106,2,20110609,2130,2358, 45.0603, 156.6542, 4810,    101.7,      101,   1.7731,  33.1469,2,    310.6,2,  33.1511,2,   309.84,2,    47.15,6,    25.98,6,     0.03,6,    2.020,6,    5.409,2,    3.111,2,-999,9,-999,9,   2145.3,2,   2240.4,2,   7.6287,2,    25.00,     0.07,2,     0.12,2,   1.7723,2
  49UP20110515,   P01,    34,  1,     32,     105,2,20110609,2130,2355, 45.0603, 156.6542, 4810,    126.7,      126,   1.7398,  33.2601,2,    261.4,2,  33.2565,2,   261.40,2,    58.18,2,    30.28,2,     0.02,2,    2.300,2,    4.851,2,    2.843,2,-999,9,-999,9,   2184.1,6,   2249.6,6,   7.5364,2,    25.00,     0.04,2,     0.10,2,   1.7394,2
  49UP20110515,   P01,    34,  1,     31,     104,2,20110609,2130,2353, 45.0603, 156.6542, 4810,    154.0,      153,   2.3909,  33.4897,2,    177.6,2,  33.4796,4,   179.31,2,    72.93,2,    35.52,2,     0.01,2,    2.620,2,    3.787,6,    2.261,6,-999,9,-999,9,   2238.6,2,   2267.0,2,   7.4223,2,    25.00,     0.02,2,     0.10,2,   2.3794,2
  49UP20110515,   P01,    34,  1,     30,     103,2,20110609,2130,2353, 45.0603, 156.6542, 4810,    154.0,      153,   2.3909,  33.4897,2,    177.6,2,  33.4787,4,   179.30,2,    72.93,2,    35.56,2,     0.01,2,    2.620,2,    4.109,2,    2.259,2,-999,9,-999,9,   2237.8,2,   2265.8,2,   7.4177,2,    25.00,     -999,9,     -999,9,   2.3794,2
  49UP20110515,   P01,    34,  1,     29,     102,2,20110609,2130,2351, 45.0603, 156.6542, 4810,    202.9,      201,   2.9954,  33.7130,2,     93.4,2,  33.7117,2,    92.72,6,    88.76,2,    40.83,2,     0.01,2,    2.940,2,    3.019,2,    1.657,2,-999,9,-999,9,   2292.9,2,   2286.8,2,   7.3023,2,    25.00,     0.01,2,     0.06,2,   2.9956,2
  49UP20110515,   P01,    34,  1,     28,     101,2,20110609,2130,2349, 45.0603, 156.6542, 4810,    254.1,      252,   3.3911,  33.8498,2,     54.1,2,  33.8470,6,    54.17,2,    97.21,2,    43.01,2,     0.01,2,    3.070,2,    2.396,2,    1.284,2,-999,9,-999,9,   2319.0,2,   2297.9,2,   7.2668,2,    25.00,     -999,9,     -999,9,   3.3909,2
  49UP20110515,   P01,    34,  1,     27,     100,2,20110609,2130,2347, 45.0603, 156.6542, 4810,    303.0,      300,   3.3641,  33.9177,2,     43.0,2,  33.9175,2,    43.27,2,   103.60,2,    43.55,2,     0.00,2,    3.100,2,    1.899,6,    1.073,6,-999,9,-999,9,   2330.7,2,   2305.9,2,   7.2606,2,    25.00,     -999,9,     -999,9,   3.3644,2
  49UP20110515,   P01,    34,  1,     26,      99,2,20110609,2130,2344, 45.0603, 156.6542, 4810,    405.2,      402,   3.3952,  34.0334,2,     30.0,2,  34.0324,2,    30.01,2,   113.36,2,    43.95,2,     0.00,2,    3.130,2,    1.450,2,    0.795,2,-999,9,-999,9,   2346.3,2,   2320.6,2,   7.2651,6,    25.00,     -999,9,     -999,9,   3.3956,2
  49UP20110515,   P01,    34,  1,     25,      98,2,20110609,2130,2341, 45.0603, 156.6542, 4810,    506.5,      502,   3.2924,  34.1210,2,     27.0,2,  34.1185,2,    27.07,6,   121.87,2,    43.64,2,     0.00,2,    3.100,2,    1.233,2,    0.612,2,-999,9,-999,9,   2353.4,2,   2332.9,2,   7.2881,2,    25.00,     -999,9,     -999,9,   3.2932,2
  49UP20110515,   P01,    34,  1,     24,      97,2,20110609,2130,2338, 45.0603, 156.6542, 4810,    607.8,      602,   3.1345,  34.2033,2,     25.6,2,  34.2027,2,    25.25,2,   130.81,2,    43.56,2,     0.00,2,    3.110,2,    0.862,2,    0.432,2,-999,9,-999,9,   2364.2,6,   2347.3,6,   7.2943,2,    25.00,     -999,9,     -999,9,   3.1349,2
  49UP20110515,   P01,    34,  1,     23,      96,2,20110609,2130,2335, 45.0603, 156.6542, 4810,    707.4,      700,   2.8947,  34.2825,2,     28.6,2,  34.2809,2,    28.60,2,   140.86,2,    43.34,2,     0.00,2,    3.100,2,    0.639,2,    0.321,2,-999,9,-999,9,   2370.3,2,   2360.5,2,   7.3097,2,    25.00,     -999,9,     -999,9,   2.8950,2
  49UP20110515,   P01,    34,  1,     22,      95,2,20110609,2130,2329, 45.0603, 156.6542, 4810,    809.8,      802,   2.6457,  34.3709,2,     33.1,2,  34.3655,4,    33.24,2,   150.06,2,    43.04,2,     0.00,2,    3.080,2,    0.426,2,    0.210,2,-999,9,-999,9,   2375.8,2,   2375.4,2,   7.3305,2,    25.00,     -999,9,     -999,9,   2.6459,2
  49UP20110515,   P01,    34,  1,     21,      94,2,20110609,2130,2326, 45.0603, 156.6542, 4810,    911.3,      902,   2.5779,  34.4031,2,     34.7,2,  34.4028,2,    34.90,2,   152.94,2,    43.01,2,     0.00,2,    3.070,2,    0.312,2,    0.151,2,-999,9,-999,9,   2376.4,2,   2380.5,2,   7.3439,2,    25.00,     -999,9,     -999,9,   2.5783,2
  49UP20110515,   P01,    34,  1,     20,      93,2,20110609,2130,2324, 45.0603, 156.6542, 4810,   1013.3,     1003,   2.4627,  34.4400,2,     37.7,2,  34.4408,2,    37.58,2,   156.34,2,    42.90,2,     0.00,2,    3.060,2,    0.221,2,    0.123,2,-999,9,-999,9,   2378.7,2,   2384.5,2,   7.3509,2,    25.00,     -999,9,     -999,9,   2.4629,2
  49UP20110515,   P01,    34,  1,     19,      92,2,20110609,2130,2319, 45.0603, 156.6542, 4810,   1214.6,     1201,   2.3392,  34.4818,2,     41.5,2,  34.4805,2,    41.06,2,   160.27,2,    42.67,2,     0.00,2,    3.020,3,    0.145,2,    0.071,2,-999,9,-999,9,   2381.1,2,   2392.9,2,   7.3638,2,    25.00,     -999,9,     -999,9,   2.3393,2
  49UP20110515,   P01,    34,  1,     18,      91,2,20110609,2130,2311, 45.0603, 156.6542, 4810,   1418.1,     1402,   2.2112,  34.5201,2,     47.3,2,  34.5206,2,    47.46,2,   163.27,2,    42.42,2,     0.00,2,    3.000,2,    0.090,2,    0.043,2,-999,9,-999,9,   2381.6,2,   2398.1,2,   7.3842,2,    25.00,     -999,9,     -999,9,   2.2112,2
  49UP20110515,   P01,    34,  1,     17,      90,2,20110609,2130,2306, 45.0603, 156.6542, 4810,   1621.1,     1602,   2.0551,  34.5601,2,     57.9,2,  34.5598,2,    58.07,2,   165.88,2,    41.94,2,     0.00,2,    2.960,2,    0.075,2,    0.031,2,-999,9,-999,9,   2383.0,2,   2405.1,2,   7.4030,2,    25.00,     -999,9,     -999,9,   2.0552,2
  49UP20110515,   P01,    34,  1,     16,      89,2,20110609,2130,2306, 45.0603, 156.6542, 4810,   1621.1,     1602,   2.0551,  34.5601,2,     57.9,2,  34.5597,2,    57.85,2,   165.61,4,    41.86,2,     0.00,2,    2.960,2,    0.058,2,    0.028,2,-999,9,-999,9,   2379.2,2,   2405.8,2,   7.4078,2,    25.00,     -999,9,     -999,9,   2.0552,2
  49UP20110515,   P01,    34,  1,     15,      88,2,20110609,2130,2302, 45.0603, 156.6542, 4810,   1823.4,     1801,   1.9413,  34.5830,2,     65.0,2,  34.5835,2,    65.51,2,   168.53,6,    41.45,6,     0.00,6,    2.930,6,    0.016,2,    0.005,2,-999,9,-999,9,   2378.1,2,   2410.9,2,   7.4247,2,    25.00,     -999,9,     -999,9,   1.9414,2
  49UP20110515,   P01,    34,  1,     14,      87,2,20110609,2130,2254, 45.0603, 156.6542, 4810,   2028.2,     2002,   1.8244,  34.6071,2,     78.2,2,  34.6074,2,    78.07,6,   168.80,2,    40.71,2,     0.00,2,    2.870,2,    0.003,2,    0.006,2,-999,9,-999,9,   2371.6,2,   2411.8,2,   7.4435,2,    25.00,     -999,9,     -999,9,   1.8244,2
  49UP20110515,   P01,    34,  1,     13,      86,2,20110609,2130,2250, 45.0603, 156.6542, 4810,   2231.3,     2201,   1.7216,  34.6274,2,     92.6,2,  34.6266,4,    92.07,2,   166.45,2,    39.76,2,     0.00,2,    2.800,2,     -999,9,     -999,9,-999,9,-999,9,   2362.7,2,   2413.0,2,   7.4751,2,    25.00,     -999,9,     -999,9,   1.7221,2
  49UP20110515,   P01,    34,  1,     12,      85,2,20110609,2130,2242, 45.0603, 156.6542, 4810,   2435.0,     2401,   1.6476,  34.6414,2,    104.6,2,  34.6415,2,   104.39,2,   164.31,2,    39.02,2,     0.00,2,    2.760,2,     -999,9,     -999,9,-999,9,-999,9,   2360.1,2,   2414.0,2,   7.4973,2,    25.00,     -999,9,     -999,9,   1.6477,2
  49UP20110515,   P01,    34,  1,     11,     110,3,20110609,2130,2234, 45.0603, 156.6542, 4810,   2638.0,     2600,   1.5890,  34.6520,2,    115.0,2,  34.6523,2,   114.68,2,   161.91,2,    38.40,2,     0.00,2,    2.690,2,     -999,9,     -999,9,-999,9,-999,9,   2351.0,2,   2415.0,2,   7.5166,2,    25.00,     -999,9,     -999,9,   1.5890,2
  49UP20110515,   P01,    34,  1,     10,      83,2,20110609,2130,2229, 45.0603, 156.6542, 4810,   2843.3,     2801,   1.5376,  34.6612,2,    124.3,2,  34.6612,2,   123.89,2,   159.61,2,    37.81,2,     0.00,2,    2.660,2,     -999,9,     -999,9,-999,9,-999,9,   2343.9,2,   2417.1,2,   7.5373,2,    25.00,     -999,9,     -999,9,   1.5377,2
  49UP20110515,   P01,    34,  1,      9,      82,2,20110609,2130,2217, 45.0603, 156.6542, 4810,   3045.8,     2999,   1.5049,  34.6674,2,    131.2,2,  34.6671,2,   131.19,2,   157.71,2,    37.51,2,     0.00,2,    2.620,2,    0.009,2,    0.000,2,-999,9,-999,9,   2339.5,2,   2416.9,2,   7.5504,2,    25.00,     -999,9,     -999,9,   1.5049,2
  49UP20110515,   P01,    34,  1,      8,      81,2,20110609,2130,2211, 45.0603, 156.6542, 4810,   3304.0,     3252,   1.4729,  34.6740,2,    138.7,2,  34.6737,2,   138.89,2,   155.56,2,    36.93,2,     0.00,2,    2.570,2,     -999,9,     -999,9,-999,9,-999,9,   2334.8,6,   2415.4,6,   7.5596,2,    25.00,     -999,9,     -999,9,   1.4729,2
  49UP20110515,   P01,    34,  1,      7,      80,3,20110609,2130,2202, 45.0603, 156.6542, 4810,   3559.0,     3501,   1.4570,  34.6785,2,    144.2,2,  34.6780,2,   144.03,2,   154.26,2,    36.61,2,     0.00,2,    2.540,2,     -999,9,     -999,9,-999,9,-999,9,   2333.5,2,   2415.8,2,   7.5689,2,    25.00,     -999,9,     -999,9,   1.4571,2
  49UP20110515,   P01,    34,  1,      6,      79,2,20110609,2130,2157, 45.0603, 156.6542, 4810,   3815.3,     3751,   1.4471,  34.6824,2,    149.0,2,  34.6822,2,   149.36,2,   152.91,2,    36.27,2,     0.00,2,    2.520,2,     -999,9,     -999,9,-999,9,-999,9,   2327.6,2,   2417.0,2,   7.5776,2,    25.00,     -999,9,     -999,9,   1.4471,2
  49UP20110515,   P01,    34,  1,      5,      78,2,20110609,2130,2150, 45.0603, 156.6542, 4810,   4073.0,     4002,   1.4471,  34.6852,2,    152.7,2,  34.6855,2,   152.72,2,   151.86,6,    36.05,6,     0.00,6,    2.500,6,    0.002,2,    0.000,2,-999,9,-999,9,   2325.2,2,   2414.7,2,   7.5814,2,    25.00,     -999,9,     -999,9,   1.4469,2
  49UP20110515,   P01,    34,  1,      4,      77,2,20110609,2130,2144, 45.0603, 156.6542, 4810,   4329.4,     4251,   1.4547,  34.6877,2,    155.4,2,  34.6872,2,   155.51,6,   151.59,2,    35.82,2,     0.00,2,    2.480,2,     -999,9,     -999,9,-999,9,-999,9,   2326.3,2,   2414.5,2,   7.5861,2,    25.00,     -999,9,     -999,9,   1.4546,2
  49UP20110515,   P01,    34,  1,      3,      76,2,20110609,2130,2137, 45.0603, 156.6542, 4810,   4587.3,     4502,   1.4740,  34.6890,2,    156.6,2,  34.6886,6,   156.64,2,   151.72,2,    35.72,2,     0.00,2,    2.480,2,     -999,9,     -999,9,-999,9,-999,9,   2322.0,2,   2414.1,2,   7.5898,2,    25.00,     -999,9,     -999,9,   1.4739,2
  49UP20110515,   P01,    34,  1,      2,      75,2,20110609,2130,2130, 45.0603, 156.6542, 4810,   4891.4,     4797,   1.5062,  34.6894,2,    157.2,2,  34.6892,2,   157.91,2,   152.15,2,    35.75,2,     0.00,2,    2.470,2,     -999,9,     -999,9,-999,9,-999,9,   2321.6,2,   2415.0,2,   7.5897,2,    25.00,     -999,9,     -999,9,   1.5060,2
  49UP20110515,   P01,    34,  1,      1,      74,2,20110609,2130,2130, 45.0603, 156.6542, 4810,   4891.4,     4797,   1.5062,  34.6894,2,    157.2,2,  34.6897,2,   157.17,2,   151.99,2,    35.74,2,     0.00,2,    2.490,2,    0.012,2,    0.000,2,-999,9,-999,9,   2325.4,2,   2414.9,2,   7.5854,3,    25.00,     -999,9,     -999,9,   1.5060,2