BOTTLE,20240116CCHSIOVAJ
EXPOCODE,SECT_ID,STNNBR,CASTNO,SAMPNO,BTLNBR,BTLNBR_FLAG_W,DATE,TIME,BTL_TIME,LATITUDE,LONGITUDE,DEPTH,CTDPRS,CTDDEPTH,CTDTMP,CTDSAL,CTDSAL_FLAG_W,CTDOXY,CTDOXY_FLAG_W,SALNTY,SALNTY_FLAG_W,OXYGEN,OXYGEN_FLAG_W,SILCAT,SILCAT_FLAG_W,NO2+NO3,NO2+NO3_FLAG_W,NITRIT,NITRIT_FLAG_W,PHSPHT,PHSPHT_FLAG_W,CFC-11,CFC-11_FLAG_W,CFC-12,CFC-12_FLAG_W,DELC14,DELC14_FLAG_W,DELC13,DELC13_FLAG_W,TCARBN,TCARBN_FLAG_W,ALKALI,ALKALI_FLAG_W,PH_TOT,PH_TOT_FLAG_W,PH_TMP,CHLORA,CHLORA_FLAG_W,PPHYTN,PPHYTN_FLAG_W,REFTMP,REFTMP_FLAG_W
,,,,,,,,,,,,METERS,DBAR,METERS,ITS-90,PSS-78,,UMOL/KG,,PSS-78,,UMOL/KG,,UMOL/KG,,UMOL/KG,,UMOL/KG,,UMOL/KG,,PMOL/KG,,PMOL/KG,,/MILLE,,/MILLE,,UMOL/KG,,UMOL/KG,,,,DEG C,UG/KG,,UG/KG,,ITS-90,
  49UP20110515,   P13,    60,  1,      0,     BUC,2,20110710,1943,2140, 37.0407, 165.0232, 5113,      0.0,        0,  21.4615,  34.4476,2,    229.5,2,     -999,9,   227.38,2,     2.43,2,     0.03,2,     0.00,2,    0.070,2,     -999,9,     -999,9,-999,9,-999,9,     -999,9,     -999,9,     -999,9,     -999,     0.24,2,     0.04,2,     -999,9
  49UP20110515,   P13,    60,  1,     36,     109,2,20110710,1943,2200, 37.0407, 165.0232, 5113,     10.7,       11,  21.3629,  34.4425,2,    229.7,2,  34.4454,2,   230.49,2,     2.52,2,     0.03,2,     0.00,2,    0.040,2,    2.187,3,    1.550,2,-999,9,-999,9,   1984.1,2,   2263.9,2,   8.0202,2,    25.00,     0.24,2,     0.05,2,  21.3686,2
  49UP20110515,   P13,    60,  1,     35,     108,2,20110710,1943,2154, 37.0407, 165.0232, 5113,     51.2,       51,  15.1159,  34.3679,2,    248.0,2,  34.3666,2,   249.72,2,     5.49,2,     3.10,2,     0.18,2,    0.300,2,    2.770,3,    1.898,2,-999,9,-999,9,   2022.6,3,   2266.9,2,   7.9458,2,    25.00,     -999,9,     -999,9,  15.1202,2
  49UP20110515,   P13,    60,  1,     34,     107,2,20110710,1943,2154, 37.0407, 165.0232, 5113,     51.2,       51,  15.1159,  34.3679,2,    248.0,2,  34.3671,2,   249.51,2,     5.36,2,     3.01,2,     0.20,2,    0.290,2,    2.687,3,    1.875,2,-999,9,-999,9,   2028.2,2,   2267.4,2,   7.9456,2,    25.00,     0.38,2,     0.24,2,  15.1202,2
  49UP20110515,   P13,    60,  1,     33,     106,2,20110710,1943,2152, 37.0407, 165.0232, 5113,    101.0,      100,  13.7882,  34.4334,2,    228.7,2,  34.4298,2,   229.29,2,     9.81,6,     7.89,6,     0.08,6,    0.560,6,    2.633,3,    1.845,2,-999,9,-999,9,   2056.6,2,   2270.1,2,   7.8616,2,    25.00,     0.10,2,     0.05,2,  13.7854,2
  49UP20110515,   P13,    60,  1,     32,     105,2,20110710,1943,2149, 37.0407, 165.0232, 5113,    151.0,      150,  12.8758,  34.3775,2,    230.8,2,  34.3726,2,   233.42,2,    11.70,2,     8.99,2,     0.03,2,    0.640,2,    2.740,3,    1.907,2,-999,9,-999,9,   2063.3,2,   2268.7,2,   7.8709,2,    25.00,     0.02,2,     0.03,2,  12.8789,2
  49UP20110515,   P13,    60,  1,     31,     104,2,20110710,1943,2147, 37.0407, 165.0232, 5113,    202.4,      201,  11.7580,  34.2843,2,    249.2,2,  34.2849,6,   249.32,2,    12.48,2,     9.25,2,     0.01,2,    0.680,2,    2.967,3,    2.069,6,-999,9,-999,9,   2068.2,2,   2267.0,2,   7.8918,2,    25.00,     0.01,2,     0.02,2,  11.7579,2
  49UP20110515,   P13,    60,  1,     30,     103,2,20110710,1943,2145, 37.0407, 165.0232, 5113,    253.2,      251,  10.9265,  34.2272,2,    245.5,2,  34.2279,2,   245.94,2,    14.70,2,    10.96,2,     0.01,2,    0.790,2,    2.958,3,    2.071,2,-999,9,-999,9,   2078.7,2,   2264.2,2,   7.8361,2,    25.00,     -999,9,     -999,9,  10.9269,2
  49UP20110515,   P13,    60,  1,     29,     102,2,20110710,1943,2142, 37.0407, 165.0232, 5113,    335.2,      332,   9.4147,  34.1130,2,    224.3,2,  34.1135,2,   224.75,2,    23.63,6,    16.10,6,     0.01,6,    1.160,6,    2.990,3,    2.082,2,-999,9,-999,9,   2114.6,6,   2265.7,6,   7.7556,2,    25.00,     -999,9,     -999,9,   9.4168,2
  49UP20110515,   P13,    60,  1,     28,     101,2,20110710,1943,2139, 37.0407, 165.0232, 5113,    437.7,      434,   7.2945,  34.0013,2,    175.7,2,  34.0083,2,   175.93,2,    43.19,2,    24.22,2,     0.01,2,    1.760,2,    2.714,3,    1.804,2,-999,9,-999,9,   2174.7,2,   2275.7,2,   7.6290,2,    25.00,     -999,9,     -999,9,   7.2608,2
  49UP20110515,   P13,    60,  1,     27,     100,2,20110710,1943,2135, 37.0407, 165.0232, 5113,    536.1,      531,   5.7510,  33.9895,2,    136.9,2,  33.9902,2,   137.24,2,    63.20,2,    30.75,2,     0.01,2,    2.230,2,    2.266,3,    1.469,6,-999,9,-999,9,   2227.4,2,   2295.0,2,   7.5262,2,    25.00,     -999,9,     -999,9,   5.7509,2
  49UP20110515,   P13,    60,  1,     26,      99,2,20110710,1943,2132, 37.0407, 165.0232, 5113,    637.2,      632,   4.7825,  34.0657,2,     93.5,2,  34.0652,2,    93.20,2,    84.83,2,    36.17,2,     0.00,2,    2.610,2,    1.618,3,    1.006,2,-999,9,-999,9,   2275.7,2,   2313.3,2,   7.4216,2,    25.00,     -999,9,     -999,9,   4.7827,2
  49UP20110515,   P13,    60,  1,     25,      98,2,20110710,1943,2128, 37.0407, 165.0232, 5113,    739.3,      733,   4.2373,  34.1373,2,     66.0,2,  34.1367,2,    66.29,6,    99.70,2,    39.17,2,     0.00,2,    2.810,2,    1.148,3,    0.696,2,-999,9,-999,9,   2306.6,2,   2324.2,2,   7.3724,2,    25.00,     -999,9,     -999,9,   4.2368,2
  49UP20110515,   P13,    60,  1,     24,      97,2,20110710,1943,2125, 37.0407, 165.0232, 5113,    839.9,      832,   3.9103,  34.2262,2,     49.2,2,  34.2253,2,    49.47,2,   113.01,2,    40.92,2,     0.00,2,    2.920,2,    0.689,3,    0.397,2,-999,9,-999,9,   2329.6,2,   2341.0,2,   7.3547,2,    25.00,     -999,9,     -999,9,   3.9105,2
  49UP20110515,   P13,    60,  1,     23,      96,2,20110710,1943,2125, 37.0407, 165.0232, 5113,    839.9,      832,   3.9103,  34.2262,2,     49.2,2,  34.2249,2,    51.85,3,   112.29,2,    40.92,2,     0.00,2,    2.930,2,    0.726,3,    0.429,2,-999,9,-999,9,   2330.6,2,   2341.7,2,   7.3554,2,    25.00,     -999,9,     -999,9,   3.9105,2
  49UP20110515,   P13,    60,  1,     22,      95,2,20110710,1943,2122, 37.0407, 165.0232, 5113,    943.0,      934,   3.5767,  34.2946,2,     40.8,2,  34.2934,2,    41.14,2,   123.51,6,    42.00,6,     0.00,6,    3.000,6,    0.426,3,    0.255,2,-999,9,-999,9,   2351.6,2,   2355.8,2,   7.3532,2,    25.00,     -999,9,     -999,9,   3.5780,2
  49UP20110515,   P13,    60,  1,     21,      94,2,20110710,1943,2117, 37.0407, 165.0232, 5113,   1086.8,     1076,   3.1585,  34.3657,2,     36.5,2,  34.3640,2,    36.72,2,   136.17,2,    42.74,2,     0.00,2,    3.050,2,    0.238,3,    0.123,2,-999,9,-999,9,   2364.5,2,   2371.1,2,   7.3404,2,    25.00,     -999,9,     -999,9,   3.1585,2
  49UP20110515,   P13,    60,  1,     20,      93,2,20110710,1943,2112, 37.0407, 165.0232, 5113,   1287.2,     1274,   2.7400,  34.4441,2,     33.9,2,  34.4427,6,    33.68,2,   148.51,2,    43.43,2,     0.00,2,    3.070,2,    0.060,3,    0.027,2,-999,9,-999,9,   2378.3,2,   2387.4,2,   7.3425,2,    25.00,     -999,9,     -999,9,   2.7428,2
  49UP20110515,   P13,    60,  1,     19,      92,2,20110710,1943,2107, 37.0407, 165.0232, 5113,   1488.5,     1472,   2.4381,  34.5013,2,     39.1,2,  34.4987,4,    38.82,6,   156.55,2,    43.22,2,     0.00,2,    3.060,2,    0.009,3,    0.000,2,-999,9,-999,9,   2383.2,2,   2396.2,2,   7.3580,2,    25.00,     -999,9,     -999,9,   2.4368,2
  49UP20110515,   P13,    60,  1,     18,      91,2,20110710,1943,2102, 37.0407, 165.0232, 5113,   1692.0,     1673,   2.1950,  34.5411,2,     49.2,2,  34.5411,2,    49.13,2,   163.33,2,    42.74,2,     0.00,2,    3.010,2,    0.000,3,    0.000,2,-999,9,-999,9,   2383.8,2,   2404.6,2,   7.3766,2,    25.00,     -999,9,     -999,9,   2.1949,2
  49UP20110515,   P13,    60,  1,     17,      90,2,20110710,1943,2057, 37.0407, 165.0232, 5113,   1892.8,     1870,   2.0399,  34.5723,2,     60.8,2,  34.5731,2,    60.45,2,   165.28,2,    42.00,2,     0.00,2,    2.960,2,    0.000,3,    0.000,2,-999,9,-999,9,   2378.6,6,   2408.3,6,   7.4033,2,    25.00,     -999,9,     -999,9,   2.0400,2
  49UP20110515,   P13,    60,  1,     16,      89,2,20110710,1943,2052, 37.0407, 165.0232, 5113,   2096.8,     2071,   1.9015,  34.5978,2,     73.7,2,  34.5988,2,    73.76,2,   165.83,2,    41.19,2,     0.00,2,    2.900,2,    0.000,3,    0.000,2,-999,9,-999,9,   2374.7,2,   2409.5,2,   7.4288,2,    25.00,     -999,9,     -999,9,   1.9015,2
  49UP20110515,   P13,    60,  1,     15,      88,2,20110710,1943,2046, 37.0407, 165.0232, 5113,   2304.5,     2275,   1.7712,  34.6208,2,     88.6,2,  34.6213,2,    88.51,6,   165.44,2,    40.26,2,     0.00,2,    2.830,2,    0.000,3,    0.000,2,-999,9,-999,9,   2366.4,2,   2415.1,2,   7.4574,2,    25.00,     -999,9,     -999,9,   1.7710,2
  49UP20110515,   P13,    60,  1,     14,      87,2,20110710,1943,2041, 37.0407, 165.0232, 5113,   2506.6,     2473,   1.6780,  34.6369,2,    101.2,2,  34.6373,2,   101.17,2,   164.59,2,    39.53,2,     0.00,2,    2.770,2,    0.000,3,    0.000,2,-999,9,-999,9,   2358.2,2,   2410.0,3,   7.4804,2,    25.00,     -999,9,     -999,9,   1.6777,2
  49UP20110515,   P13,    60,  1,     13,      86,2,20110710,1943,2036, 37.0407, 165.0232, 5113,   2709.7,     2672,   1.6034,  34.6497,2,    113.0,2,  34.6498,2,   113.22,2,   161.96,2,    38.73,2,     0.00,2,    2.710,2,    0.000,3,    0.000,2,-999,9,-999,9,   2350.8,2,   2416.7,2,   7.5041,2,    25.00,     -999,9,     -999,9,   1.6034,2
  49UP20110515,   P13,    60,  1,     12,      85,2,20110710,1943,2031, 37.0407, 165.0232, 5113,   2913.4,     2872,   1.5517,  34.6590,2,    122.3,2,  34.6597,2,   122.26,2,   159.68,2,    38.16,2,     0.00,2,    2.660,2,     -999,9,     -999,9,-999,9,-999,9,   2347.2,2,   2417.7,2,   7.5216,2,    25.00,     -999,9,     -999,9,   1.5515,2
  49UP20110515,   P13,    60,  1,     11,     110,2,20110710,1943,2031, 37.0407, 165.0232, 5113,   2913.4,     2872,   1.5517,  34.6590,2,    122.3,2,  34.6595,2,   122.74,2,   159.50,2,    38.09,2,     0.00,2,    2.660,2,     -999,9,     -999,9,-999,9,-999,9,   2350.7,3,   2416.6,2,   7.5199,2,    25.00,     -999,9,     -999,9,   1.5515,2
  49UP20110515,   P13,    60,  1,     10,      83,2,20110710,1943,2026, 37.0407, 165.0232, 5113,   3126.9,     3081,   1.5135,  34.6660,2,    130.0,2,  34.6673,6,   129.88,2,   158.25,2,    37.61,2,     0.00,2,    2.630,2,    0.005,3,    0.000,2,-999,9,-999,9,   2342.3,2,   2416.9,2,   7.5368,2,    25.00,     -999,9,     -999,9,   1.5133,2
  49UP20110515,   P13,    60,  1,      9,      82,2,20110710,1943,2021, 37.0407, 165.0232, 5113,   3383.3,     3332,   1.4858,  34.6723,2,    137.1,2,  34.6734,2,   137.05,2,   155.84,2,    37.18,2,     0.00,2,    2.580,2,     -999,9,     -999,9,-999,9,-999,9,   2336.4,2,   2415.8,2,   7.5482,2,    25.00,     -999,9,     -999,9,   1.4855,2
  49UP20110515,   P13,    60,  1,      8,      81,2,20110710,1943,2015, 37.0407, 165.0232, 5113,   3636.5,     3579,   1.4602,  34.6784,2,    143.8,2,  34.6783,2,   144.16,6,   154.38,2,    36.71,2,     0.00,2,    2.550,2,     -999,9,     -999,9,-999,9,-999,9,   2331.2,2,   2415.7,2,   7.5578,2,    25.00,     -999,9,     -999,9,   1.4602,2
  49UP20110515,   P13,    60,  1,      7,      80,2,20110710,1943,2010, 37.0407, 165.0232, 5113,   3894.9,     3831,   1.4548,  34.6817,2,    148.4,2,  34.6819,2,   147.74,2,   153.48,2,    36.48,2,     0.00,2,    2.530,2,     -999,9,     -999,9,-999,9,-999,9,   2328.8,2,   2417.9,3,   7.5661,2,    25.00,     -999,9,     -999,9,   1.4546,2
  49UP20110515,   P13,    60,  1,      6,      79,2,20110710,1943,2010, 37.0407, 165.0232, 5113,   3894.9,     3831,   1.4548,  34.6817,2,    148.4,2,  34.6827,2,   148.35,2,   153.19,2,    36.45,2,     0.00,2,    2.520,2,    0.000,3,    0.000,2,-999,9,-999,9,   2328.4,2,   2415.7,2,   7.5666,2,    25.00,     -999,9,     -999,9,   1.4546,2
  49UP20110515,   P13,    60,  1,      5,      78,2,20110710,1943,2004, 37.0407, 165.0232, 5113,   4151.1,     4081,   1.4525,  34.6851,2,    152.5,2,  34.6853,2,   153.89,4,   152.53,2,    36.16,2,     0.00,2,    2.500,2,     -999,9,     -999,9,-999,9,-999,9,   2324.7,2,   2413.7,2,   7.5755,2,    25.00,     -999,9,     -999,9,   1.4523,2
  49UP20110515,   P13,    60,  1,      4,      77,2,20110710,1943,1959, 37.0407, 165.0232, 5113,   4405.9,     4329,   1.4647,  34.6871,2,    154.7,2,  34.6881,2,   156.17,3,   151.60,2,    36.01,2,     0.00,2,    2.500,2,     -999,9,     -999,9,-999,9,-999,9,   2324.6,2,   2414.7,2,   7.5790,6,    25.00,     -999,9,     -999,9,   1.4646,2
  49UP20110515,   P13,    60,  1,      3,      76,2,20110710,1943,1954, 37.0407, 165.0232, 5113,   4662.1,     4578,   1.4847,  34.6882,2,    156.0,2,  34.6888,2,   155.83,2,   151.64,6,    35.90,6,     0.00,6,    2.490,6,     -999,9,     -999,9,-999,9,-999,9,   2323.8,6,   2414.5,6,   7.5797,2,    25.00,     -999,9,     -999,9,   1.4845,2
  49UP20110515,   P13,    60,  1,      2,      75,2,20110710,1943,1949, 37.0407, 165.0232, 5113,   4919.1,     4827,   1.5096,  34.6887,2,    157.0,2,  34.6895,6,   157.00,2,   151.63,2,    35.91,2,     0.00,2,    2.490,2,    0.005,3,    0.000,2,-999,9,-999,9,   2326.2,2,   2412.9,2,   7.5798,2,    25.00,     -999,9,     -999,9,   1.5092,2
  49UP20110515,   P13,    60,  1,      1,      74,2,20110710,1943,1943, 37.0407, 165.0232, 5113,   5156.2,     5057,   1.5361,  34.6892,2,    157.5,2,  34.6895,2,   157.57,2,   151.30,2,    35.91,2,     0.00,2,    2.480,2,     -999,9,     -999,9,-999,9,-999,9,   2322.8,2,   2411.3,2,   7.5814,2,    25.00,     -999,9,     -999,9,   1.5360,2