BOTTLE,20240116CCHSIOVAJ
EXPOCODE,SECT_ID,STNNBR,CASTNO,SAMPNO,BTLNBR,BTLNBR_FLAG_W,DATE,TIME,BTL_TIME,LATITUDE,LONGITUDE,DEPTH,CTDPRS,CTDDEPTH,CTDTMP,CTDSAL,CTDSAL_FLAG_W,CTDOXY,CTDOXY_FLAG_W,SALNTY,SALNTY_FLAG_W,OXYGEN,OXYGEN_FLAG_W,SILCAT,SILCAT_FLAG_W,NO2+NO3,NO2+NO3_FLAG_W,NITRIT,NITRIT_FLAG_W,PHSPHT,PHSPHT_FLAG_W,CFC-11,CFC-11_FLAG_W,CFC-12,CFC-12_FLAG_W,DELC14,DELC14_FLAG_W,DELC13,DELC13_FLAG_W,TCARBN,TCARBN_FLAG_W,ALKALI,ALKALI_FLAG_W,PH_TOT,PH_TOT_FLAG_W,PH_TMP,CHLORA,CHLORA_FLAG_W,PPHYTN,PPHYTN_FLAG_W,REFTMP,REFTMP_FLAG_W
,,,,,,,,,,,,METERS,DBAR,METERS,ITS-90,PSS-78,,UMOL/KG,,PSS-78,,UMOL/KG,,UMOL/KG,,UMOL/KG,,UMOL/KG,,UMOL/KG,,PMOL/KG,,PMOL/KG,,/MILLE,,/MILLE,,UMOL/KG,,UMOL/KG,,,,DEG C,UG/KG,,UG/KG,,ITS-90,
  49UP20110515,   P01,    38,  1,      0,     BUC,2,20110611,0724,1000, 47.1022, 160.0648, 5159,      0.0,        0,   4.7115,  32.8544,2,    339.1,2,     -999,9,   339.67,2,    28.79,2,    19.85,2,     0.20,2,    1.620,2,     -999,9,     -999,9,-999,9,-999,9,     -999,9,     -999,9,     -999,9,     -999,     1.23,2,     0.00,2,     -999,9
  49UP20110515,   P01,    38,  1,     36,     109,2,20110611,0724,1019, 47.1022, 160.0648, 5159,     10.9,       11,   4.6551,  32.8729,2,    341.5,2,  32.8798,2,   342.90,2,    27.77,2,    19.59,2,     0.20,2,    1.580,2,    5.153,2,    3.081,2,-999,9,-999,9,   2089.7,2,   2231.3,2,   7.7428,2,    25.00,     1.16,2,     0.07,2,   4.6565,2
  49UP20110515,   P01,    38,  1,     35,     108,2,20110611,0724,1014, 47.1022, 160.0648, 5159,     51.9,       51,   2.6763,  32.9554,2,    335.4,2,  32.9518,2,   336.19,2,    38.07,2,    22.09,6,     0.18,6,    1.840,6,    5.290,2,    3.157,2,-999,9,-999,9,   2113.7,6,   2234.9,2,   7.6934,2,    25.00,     0.45,2,     0.19,2,   2.6703,2
  49UP20110515,   P01,    38,  1,     34,     107,2,20110611,0724,1010, 47.1022, 160.0648, 5159,    101.4,      101,   1.5980,  33.1305,2,    297.4,2,  33.1184,4,   299.03,6,    49.37,6,    27.59,6,     0.02,6,    2.130,6,    4.989,2,    2.892,2,-999,9,-999,9,   2161.9,2,   2242.8,2,   7.5908,3,    25.00,     0.06,2,     0.07,2,   1.5944,2
  49UP20110515,   P01,    38,  1,     33,     106,2,20110611,0724,1008, 47.1022, 160.0648, 5159,    126.5,      125,   2.3662,  33.4299,2,    187.6,2,  33.4241,2,   189.18,2,    68.97,2,    35.10,2,     0.01,2,    2.570,2,    4.149,2,    2.298,2,-999,9,-999,9,   2234.0,2,   2265.6,2,   7.4366,2,    25.00,     0.03,2,     0.06,2,   2.3667,2
  49UP20110515,   P01,    38,  1,     32,     105,2,20110611,0724,1005, 47.1022, 160.0648, 5159,    152.6,      151,   3.0693,  33.6799,2,     98.0,2,  33.6768,2,    99.47,2,    85.13,2,    40.80,2,     0.01,2,    2.920,2,    3.188,2,    1.672,2,-999,9,-999,9,   2291.5,2,   2287.2,2,   7.3031,2,    25.00,     0.02,2,     0.06,2,   3.0699,2
  49UP20110515,   P01,    38,  1,     31,     104,2,20110611,0724,1002, 47.1022, 160.0648, 5159,    202.9,      201,   3.4649,  33.8588,2,     45.3,2,  33.8609,2,    45.55,2,    97.55,2,    43.94,2,     0.00,2,    3.100,2,    2.328,6,    1.210,6,-999,9,-999,9,   2330.2,2,   2303.6,2,   7.2538,2,    25.00,     0.01,2,     0.06,2,   3.4657,2
  49UP20110515,   P01,    38,  1,     30,     103,2,20110611,0724,1000, 47.1022, 160.0648, 5159,    252.1,      250,   3.5639,  33.9717,2,     25.4,2,  33.9718,6,    25.60,2,   106.24,2,    44.89,2,     0.00,2,    3.150,2,    1.716,2,    0.884,2,-999,9,-999,9,   2346.1,2,   2314.9,2,   7.2373,2,    25.00,     -999,9,     -999,9,   3.5643,2
  49UP20110515,   P01,    38,  1,     29,     102,2,20110611,0724,0957, 47.1022, 160.0648, 5159,    333.9,      331,   3.5123,  34.0801,2,     18.6,2,  34.0805,2,    18.51,2,   115.79,2,    44.72,2,     0.00,2,    3.150,2,    1.165,2,    0.602,2,-999,9,-999,9,   2357.7,2,   2328.6,2,   7.2522,6,    25.00,     -999,9,     -999,9,   3.5126,2
  49UP20110515,   P01,    38,  1,     28,     101,3,20110611,0724,0953, 47.1022, 160.0648, 5159,    435.6,      432,   3.3568,  34.1731,2,     17.1,2,  34.1725,2,    16.65,6,   125.80,2,    44.36,2,     0.00,2,    3.150,2,    0.796,2,    0.407,2,-999,9,-999,9,   2363.0,2,   2343.5,2,   7.2696,2,    25.00,     -999,9,     -999,9,   3.3573,2
  49UP20110515,   P01,    38,  1,     27,     100,2,20110611,0724,0949, 47.1022, 160.0648, 5159,    534.8,      530,   3.2274,  34.2413,2,     14.6,2,  34.2410,2,    14.55,2,   133.73,2,    44.51,2,     0.00,2,    3.150,2,    0.559,6,    0.276,6,-999,9,-999,9,   2370.6,6,   2356.2,6,   7.2716,2,    25.00,     -999,9,     -999,9,   3.2277,2
  49UP20110515,   P01,    38,  1,     26,      99,2,20110611,0724,0946, 47.1022, 160.0648, 5159,    637.3,      631,   3.0494,  34.2967,2,     15.3,2,  34.2970,2,    14.66,2,   140.67,2,    44.45,2,     0.00,2,    3.150,2,    0.356,2,    0.187,2,-999,9,-999,9,   2377.0,2,   2365.5,2,   7.2819,2,    25.00,     -999,9,     -999,9,   3.0502,2
  49UP20110515,   P01,    38,  1,     25,      98,2,20110611,0724,0946, 47.1022, 160.0648, 5159,    637.3,      631,   3.0494,  34.2967,2,     15.3,2,  34.2971,2,    14.87,2,   140.46,2,    44.53,2,     0.00,2,    3.150,2,    0.360,2,    0.188,2,-999,9,-999,9,   2375.3,2,   2364.2,2,   7.2861,2,    25.00,     -999,9,     -999,9,   3.0502,2
  49UP20110515,   P01,    38,  1,     24,      97,2,20110611,0724,0942, 47.1022, 160.0648, 5159,    738.3,      731,   2.8864,  34.3429,2,     16.5,2,  34.3433,2,    15.89,6,   146.85,2,    44.41,2,     0.00,2,    3.140,2,    0.234,2,    0.143,2,-999,9,-999,9,   2379.8,2,   2372.9,2,   7.2948,2,    25.00,     -999,9,     -999,9,   2.8866,2
  49UP20110515,   P01,    38,  1,     23,      96,2,20110611,0724,0938, 47.1022, 160.0648, 5159,    839.2,      831,   2.7226,  34.3839,2,     19.2,2,  34.3844,2,    18.78,2,   152.56,2,    44.25,2,     0.00,2,    3.130,2,    0.156,2,    0.115,2,-999,9,-999,9,   2380.0,2,   2379.5,2,   7.3093,2,    25.00,     -999,9,     -999,9,   2.7228,2
  49UP20110515,   P01,    38,  1,     22,      95,2,20110611,0724,0935, 47.1022, 160.0648, 5159,    940.5,      931,   2.5592,  34.4187,2,     25.0,2,  34.4199,2,    24.42,2,   156.75,2,    43.85,2,     0.00,2,    3.120,2,    4.267,4,    9.615,4,-999,9,-999,9,   2384.0,2,   2385.9,2,   7.3163,2,    25.00,     -999,9,     -999,9,   2.5597,2
  49UP20110515,   P01,    38,  1,     21,      94,2,20110611,0724,0932, 47.1022, 160.0648, 5159,   1082.0,     1070,   2.3955,  34.4610,2,     29.9,2,  34.4616,6,    29.66,2,   161.77,2,    43.60,2,     0.00,2,    3.080,2,    0.065,2,    0.071,2,-999,9,-999,9,   2391.5,2,   2392.0,2,   7.3304,2,    25.00,     -999,9,     -999,9,   2.3957,2
  49UP20110515,   P01,    38,  1,     20,      93,3,20110611,0724,0920, 47.1022, 160.0648, 5159,   1285.9,     1271,   2.2081,  34.5093,2,     38.4,2,  34.5101,2,    38.34,2,   166.99,3,    43.11,2,     0.00,2,    3.050,2,    0.006,2,    0.032,2,-999,9,-999,9,   2387.7,2,   2414.3,3,   7.3574,2,    25.00,     -999,9,     -999,9,   2.2082,2
  49UP20110515,   P01,    38,  1,     19,      92,2,20110611,0724,0913, 47.1022, 160.0648, 5159,   1489.1,     1471,   2.0514,  34.5501,2,     50.0,2,  34.5514,2,    49.85,2,   169.64,2,    42.34,2,     0.00,2,    2.980,3,    0.005,2,    0.033,2,-999,9,-999,9,   2383.5,2,   2405.5,2,   7.3845,2,    25.00,     -999,9,     -999,9,   2.0515,2
  49UP20110515,   P01,    38,  1,     18,      91,2,20110611,0724,0909, 47.1022, 160.0648, 5159,   1692.1,     1671,   1.9258,  34.5815,2,     63.4,2,  34.5819,2,    63.65,2,   170.26,6,    41.55,6,     0.00,6,    2.940,6,    0.000,2,    0.014,2,-999,9,-999,9,   2377.4,2,   2409.4,2,   7.4134,2,    25.00,     -999,9,     -999,9,   1.9259,2
  49UP20110515,   P01,    38,  1,     17,      90,2,20110611,0724,0858, 47.1022, 160.0648, 5159,   1894.9,     1871,   1.8162,  34.6064,2,     77.9,2,  34.6078,2,    77.83,2,   168.81,2,    40.77,2,     0.00,2,    2.870,2,    0.000,2,    0.025,2,-999,9,-999,9,   2373.9,2,   2415.2,2,   7.4457,2,    25.00,     -999,9,     -999,9,   1.8164,2
  49UP20110515,   P01,    38,  1,     16,      89,2,20110611,0724,0853, 47.1022, 160.0648, 5159,   2098.6,     2071,   1.7181,  34.6262,2,     92.9,2,  34.6283,4,    92.86,2,   165.92,2,    39.86,2,     0.00,2,    2.790,2,    0.000,2,    0.018,2,-999,9,-999,9,   2365.2,2,   2412.9,2,   7.4711,2,    25.00,     -999,9,     -999,9,   1.7182,2
  49UP20110515,   P01,    38,  1,     15,      88,2,20110611,0724,0849, 47.1022, 160.0648, 5159,   2303.7,     2272,   1.6495,  34.6394,2,    103.5,2,  34.6402,2,   103.72,2,   163.76,2,    39.06,2,     0.00,2,    2.740,2,    0.000,2,    0.016,2,-999,9,-999,9,   2361.6,2,   2415.8,2,   7.4935,2,    25.00,     -999,9,     -999,9,   1.6495,2
  49UP20110515,   P01,    38,  1,     14,      87,2,20110611,0724,0837, 47.1022, 160.0648, 5159,   2507.6,     2472,   1.5930,  34.6500,2,    113.7,2,  34.6510,2,   113.59,2,   161.61,2,    38.67,2,     0.00,2,    2.700,2,    0.000,2,    0.000,2,-999,9,-999,9,   2358.7,2,   2417.6,2,   7.5110,6,    25.00,     -999,9,     -999,9,   1.5929,2
  49UP20110515,   P01,    38,  1,     13,      86,2,20110611,0724,0832, 47.1022, 160.0648, 5159,   2711.7,     2672,   1.5505,  34.6581,2,    121.8,2,  34.6587,2,   121.80,2,   159.03,2,    38.15,2,     0.00,2,    2.660,2,     -999,9,     -999,9,-999,9,-999,9,   2348.1,2,   2415.4,2,   7.5253,2,    25.00,     -999,9,     -999,9,   1.5504,2
  49UP20110515,   P01,    38,  1,     12,      85,2,20110611,0724,0824, 47.1022, 160.0648, 5159,   2915.2,     2871,   1.5214,  34.6642,2,    128.3,2,  34.6650,2,   128.19,2,   157.64,2,    37.72,2,     0.00,2,    2.620,2,    0.000,2,    0.034,2,-999,9,-999,9,   2346.9,2,   2415.9,2,   7.5373,2,    25.00,     -999,9,     -999,9,   1.5213,2
  49UP20110515,   P01,    38,  1,     11,     110,2,20110611,0724,0819, 47.1022, 160.0648, 5159,   3130.2,     3081,   1.4978,  34.6694,2,    134.0,2,  34.6709,2,   133.99,2,   155.79,2,    37.36,2,     0.00,2,    2.590,2,     -999,9,     -999,9,-999,9,-999,9,   2340.3,2,   2417.5,2,   7.5481,2,    25.00,     -999,9,     -999,9,   1.4978,2
  49UP20110515,   P01,    38,  1,     10,      83,3,20110611,0724,0812, 47.1022, 160.0648, 5159,   3385.4,     3331,   1.4744,  34.6748,2,    140.1,2,  34.6748,2,   140.26,2,   154.65,2,    36.96,2,     0.00,2,    2.570,2,     -999,9,     -999,9,-999,9,-999,9,   2337.5,2,   2415.8,2,   7.5540,2,    25.00,     -999,9,     -999,9,   1.4744,2
  49UP20110515,   P01,    38,  1,      9,      82,2,20110611,0724,0805, 47.1022, 160.0648, 5159,   3642.2,     3581,   1.4609,  34.6789,2,    145.1,2,  34.6796,2,   145.08,2,   153.34,2,    36.66,2,     0.00,2,    2.540,2,     -999,9,     -999,9,-999,9,-999,9,   2332.4,6,   2416.6,6,   7.5654,2,    25.00,     -999,9,     -999,9,   1.4608,2
  49UP20110515,   P01,    38,  1,      8,      81,2,20110611,0724,0758, 47.1022, 160.0648, 5159,   3899.3,     3832,   1.4593,  34.6821,2,    148.8,2,  34.6827,6,   148.69,2,   152.20,2,    36.42,2,     0.00,2,    2.520,2,    0.000,2,    0.015,2,-999,9,-999,9,   2332.0,2,   2414.7,2,   7.5728,2,    25.00,     -999,9,     -999,9,   1.4593,2
  49UP20110515,   P01,    38,  1,      7,      80,2,20110611,0724,0753, 47.1022, 160.0648, 5159,   4155.6,     4081,   1.4617,  34.6850,2,    152.2,2,  34.6851,2,   152.24,2,   151.64,2,    36.19,2,     0.00,2,    2.500,2,     -999,9,     -999,9,-999,9,-999,9,   2328.8,2,   2416.4,2,   7.5775,2,    25.00,     -999,9,     -999,9,   1.4617,2
  49UP20110515,   P01,    38,  1,      6,      79,2,20110611,0724,0746, 47.1022, 160.0648, 5159,   4412.3,     4331,   1.4749,  34.6867,2,    154.4,2,  34.6873,2,   154.18,2,   151.47,2,    36.00,2,     0.00,2,    2.490,2,     -999,9,     -999,9,-999,9,-999,9,   2327.4,2,   2415.0,2,   7.5816,2,    25.00,     -999,9,     -999,9,   1.4749,2
  49UP20110515,   P01,    38,  1,      5,      78,2,20110611,0724,0741, 47.1022, 160.0648, 5159,   4670.1,     4581,   1.4927,  34.6881,2,    155.9,2,  34.6891,2,   156.27,2,   150.91,2,    35.87,2,     0.00,2,    2.480,2,     -999,9,     -999,9,-999,9,-999,9,   2330.7,2,   2415.1,2,   7.5831,2,    25.00,     -999,9,     -999,9,   1.4926,2
  49UP20110515,   P01,    38,  1,      4,      77,2,20110611,0724,0734, 47.1022, 160.0648, 5159,   4927.1,     4830,   1.5161,  34.6891,2,    157.0,2,  34.6894,2,   157.47,2,   151.11,2,    35.85,2,     0.00,2,    2.480,2,    0.000,2,    0.034,2,-999,9,-999,9,   2323.6,2,   2415.1,2,   7.5843,2,    25.00,     -999,9,     -999,9,   1.5161,2
  49UP20110515,   P01,    38,  1,      3,      76,2,20110611,0724,0728, 47.1022, 160.0648, 5159,   5185.8,     5081,   1.5382,  34.6902,2,    158.2,2,  34.6908,2,   158.28,6,   150.88,6,    35.71,6,     0.00,6,    2.480,6,     -999,9,     -999,9,-999,9,-999,9,   2328.9,2,   2414.8,2,   7.5843,2,    25.00,     -999,9,     -999,9,   1.5382,2
  49UP20110515,   P01,    38,  1,      2,      75,2,20110611,0724,0724, 47.1022, 160.0648, 5159,   5279.9,     5172,   1.5469,  34.6905,2,    158.5,2,  34.6919,4,   158.60,2,   151.18,2,    35.70,2,     0.00,2,    2.470,2,     -999,9,     -999,9,-999,9,-999,9,   2325.6,2,   2415.4,2,   7.5923,3,    25.00,     -999,9,     -999,9,   1.5468,2
  49UP20110515,   P01,    38,  1,      1,      74,2,20110611,0724,0724, 47.1022, 160.0648, 5159,   5279.9,     5172,   1.5469,  34.6905,2,    158.5,2,  34.6912,2,   158.41,2,   151.08,2,    35.71,2,     0.00,2,    2.470,2,     -999,9,     -999,9,-999,9,-999,9,   2326.8,2,   2415.6,2,   7.5835,2,    25.00,     -999,9,     -999,9,   1.5468,2