BOTTLE,20240116CCHSIOVAJ
EXPOCODE,SECT_ID,STNNBR,CASTNO,SAMPNO,BTLNBR,BTLNBR_FLAG_W,DATE,TIME,BTL_TIME,LATITUDE,LONGITUDE,DEPTH,CTDPRS,CTDDEPTH,CTDTMP,CTDSAL,CTDSAL_FLAG_W,CTDOXY,CTDOXY_FLAG_W,SALNTY,SALNTY_FLAG_W,OXYGEN,OXYGEN_FLAG_W,SILCAT,SILCAT_FLAG_W,NO2+NO3,NO2+NO3_FLAG_W,NITRIT,NITRIT_FLAG_W,PHSPHT,PHSPHT_FLAG_W,CFC-11,CFC-11_FLAG_W,CFC-12,CFC-12_FLAG_W,DELC14,DELC14_FLAG_W,DELC13,DELC13_FLAG_W,TCARBN,TCARBN_FLAG_W,ALKALI,ALKALI_FLAG_W,PH_TOT,PH_TOT_FLAG_W,PH_TMP,CHLORA,CHLORA_FLAG_W,PPHYTN,PPHYTN_FLAG_W,REFTMP,REFTMP_FLAG_W
,,,,,,,,,,,,METERS,DBAR,METERS,ITS-90,PSS-78,,UMOL/KG,,PSS-78,,UMOL/KG,,UMOL/KG,,UMOL/KG,,UMOL/KG,,UMOL/KG,,PMOL/KG,,PMOL/KG,,/MILLE,,/MILLE,,UMOL/KG,,UMOL/KG,,,,DEG C,UG/KG,,UG/KG,,ITS-90,
  49UP20110515,   P13,   122,  1,      0,     BUC,2,20110808,0053,0226,  1.6537, 165.0012, 4248,      0.0,        0,  29.8036,  34.3800,2,    195.2,2,     -999,9,   194.39,2,     1.11,2,     0.00,2,     0.00,2,    0.120,2,     -999,9,     -999,9,-999,9,-999,9,     -999,9,     -999,9,     -999,9,     -999,     -999,9,     -999,9,     -999,9
  49UP20110515,   P13,   122,  1,     36,     109,2,20110808,0053,0249,  1.6537, 165.0012, 4248,     10.9,       11,  29.6797,  34.3860,2,    195.4,2,  34.3899,2,   194.85,2,     1.00,2,     0.03,2,     0.00,2,    0.110,3,     -999,9,     -999,9,-999,9,-999,9,   1921.7,2,   2257.6,2,     -999,9,     -999,     -999,9,     -999,9,  29.6823,2
  49UP20110515,   P13,   122,  1,     35,     108,2,20110808,0053,0248,  1.6537, 165.0012, 4248,     26.3,       26,  29.7293,  34.6388,2,    195.7,2,  34.6201,4,   195.31,2,     1.07,2,     0.00,2,     0.00,2,    0.130,2,     -999,9,     -999,9,-999,9,-999,9,   1938.0,2,   2273.0,2,     -999,9,     -999,     -999,9,     -999,9,  29.7307,2
  49UP20110515,   P13,   122,  1,     34,     107,2,20110808,0053,0245,  1.6537, 165.0012, 4248,     51.4,       51,  29.5783,  35.0636,2,    197.2,2,  35.0646,2,   196.71,2,     1.11,2,     0.04,2,     0.00,2,    0.190,2,     -999,9,     -999,9,-999,9,-999,9,   1969.5,2,   2300.1,2,     -999,9,     -999,     -999,9,     -999,9,  29.5793,2
  49UP20110515,   P13,   122,  1,     33,     106,2,20110808,0053,0244,  1.6537, 165.0012, 4248,     77.3,       77,  29.2384,  35.3325,2,    190.4,2,  35.3256,4,   190.68,2,     1.21,2,     1.22,2,     0.38,2,    0.310,2,     -999,9,     -999,9,-999,9,-999,9,   1995.3,2,   2319.7,2,     -999,9,     -999,     -999,9,     -999,9,  29.2402,2
  49UP20110515,   P13,   122,  1,     32,     105,2,20110808,0053,0242,  1.6537, 165.0012, 4248,    102.4,      102,  28.7352,  35.4141,2,    180.5,2,  35.4091,2,   181.77,2,     1.46,6,     3.13,6,     0.56,6,    0.410,6,     -999,9,     -999,9,-999,9,-999,9,   2014.0,2,   2323.4,2,     -999,9,     -999,     -999,9,     -999,9,  28.7346,2
  49UP20110515,   P13,   122,  1,     31,     104,2,20110808,0053,0241,  1.6537, 165.0012, 4248,    127.1,      126,  28.1729,  35.4495,2,    168.6,2,  35.4508,6,   169.24,2,     1.74,2,     4.85,2,     0.42,2,    0.510,2,     -999,9,     -999,9,-999,9,-999,9,   2030.4,2,   2324.5,2,     -999,9,     -999,     -999,9,     -999,9,  28.1740,2
  49UP20110515,   P13,   122,  1,     30,     103,2,20110808,0053,0240,  1.6537, 165.0012, 4248,    152.6,      152,  24.9601,  35.1952,2,    146.9,2,  35.2429,4,   148.90,6,     3.62,2,     7.08,2,     0.03,2,    0.610,2,     -999,9,     -999,9,-999,9,-999,9,   2051.8,2,   2312.0,2,     -999,9,     -999,     -999,9,     -999,9,  24.9578,2
  49UP20110515,   P13,   122,  1,     29,     102,2,20110808,0053,0238,  1.6537, 165.0012, 4248,    202.6,      201,  15.1538,  34.6059,2,    131.2,2,  34.6192,4,   134.53,2,    14.57,2,    14.98,2,     0.01,2,    1.100,2,     -999,9,     -999,9,-999,9,-999,9,   2121.1,2,   2283.4,2,     -999,9,     -999,     -999,9,     -999,9,  15.1382,2
  49UP20110515,   P13,   122,  1,     28,     101,3,20110808,0053,0236,  1.6537, 165.0012, 4248,    253.2,      252,  11.0037,  34.7858,2,    122.9,2,  34.7858,2,   122.79,2,    21.33,6,    24.16,6,     0.00,6,    1.710,6,     -999,9,     -999,9,-999,9,-999,9,   2182.1,2,   2303.4,2,     -999,9,     -999,     -999,9,     -999,9,  11.0040,2
  49UP20110515,   P13,   122,  1,     27,     100,2,20110808,0053,0234,  1.6537, 165.0012, 4248,    282.6,      281,  10.7988,  34.7744,2,    112.3,2,  34.7739,2,   113.32,2,    22.39,2,    25.44,2,     0.00,2,    1.790,2,     -999,9,     -999,9,-999,9,-999,9,   2192.6,2,   2301.0,2,     -999,9,     -999,     -999,9,     -999,9,  10.7957,2
  49UP20110515,   P13,   122,  1,     26,      99,3,20110808,0053,0232,  1.6537, 165.0012, 4248,    334.2,      332,  10.1789,  34.7326,2,     99.6,2,  34.7337,2,    98.79,2,    25.32,2,    28.14,2,     0.00,2,    1.960,2,     -999,9,     -999,9,-999,9,-999,9,   2208.1,2,   2302.0,2,     -999,9,     -999,     -999,9,     -999,9,  10.1824,2
  49UP20110515,   P13,   122,  1,     25,      98,2,20110808,0053,0229,  1.6537, 165.0012, 4248,    374.4,      372,   9.5689,  34.6853,2,    114.7,2,  34.6863,2,   114.11,2,    27.16,2,    27.74,2,     0.00,2,    1.940,2,     -999,9,     -999,9,-999,9,-999,9,   2202.8,2,   2302.2,2,     -999,9,     -999,     -999,9,     -999,9,   9.5687,2
  49UP20110515,   P13,   122,  1,     24,      97,2,20110808,0053,0226,  1.6537, 165.0012, 4248,    474.7,      472,   8.2401,  34.5996,2,     98.9,2,  34.5994,2,    99.00,2,    35.78,2,    31.79,2,     0.00,2,    2.210,2,     -999,9,     -999,9,-999,9,-999,9,   2226.5,2,   2305.0,2,     -999,9,     -999,     -999,9,     -999,9,   8.2406,2
  49UP20110515,   P13,   122,  1,     23,      96,3,20110808,0053,0223,  1.6537, 165.0012, 4248,    575.2,      571,   6.6375,  34.5543,2,     90.5,2,  34.5532,2,    91.33,6,    47.76,2,    35.93,2,     0.00,2,    2.510,2,     -999,9,     -999,9,-999,9,-999,9,   2252.6,2,   2314.2,2,     -999,9,     -999,     -999,9,     -999,9,   6.6383,2
  49UP20110515,   P13,   122,  1,     22,      95,2,20110808,0053,0219,  1.6537, 165.0012, 4248,    677.0,      672,   6.1416,  34.5411,2,     95.8,2,  34.5407,2,    95.25,2,    53.50,2,    36.51,2,     0.00,2,    2.560,2,     -999,9,     -999,9,-999,9,-999,9,   2259.1,2,   2320.2,2,     -999,9,     -999,     -999,9,     -999,9,   6.1417,2
  49UP20110515,   P13,   122,  1,     21,      94,2,20110808,0053,0219,  1.6537, 165.0012, 4248,    677.0,      672,   6.1416,  34.5411,2,     95.8,2,  34.5407,2,    95.21,2,    53.50,2,    36.47,2,     0.00,2,    2.560,2,     -999,9,     -999,9,-999,9,-999,9,   2260.4,2,   2318.8,2,     -999,9,     -999,     -999,9,     -999,9,   6.1417,2
  49UP20110515,   P13,   122,  1,     20,      93,2,20110808,0053,0215,  1.6537, 165.0012, 4248,    777.6,      772,   5.2907,  34.5387,2,     95.8,2,  34.5379,2,    98.14,2,    67.31,2,    37.20,2,     0.00,2,    2.630,2,     -999,9,     -999,9,-999,9,-999,9,   2271.7,2,   2335.3,2,     -999,9,     -999,     -999,9,     -999,9,   5.2907,2
  49UP20110515,   P13,   122,  1,     19,      92,2,20110808,0053,0212,  1.6537, 165.0012, 4248,    880.8,      874,   5.0696,  34.5443,2,     88.6,2,  34.5444,6,    88.48,2,    72.52,6,    38.51,6,     0.00,6,    2.730,6,     -999,9,     -999,9,-999,9,-999,9,   2285.1,2,   2338.0,2,     -999,9,     -999,     -999,9,     -999,9,   5.0650,2
  49UP20110515,   P13,   122,  1,     18,      91,2,20110808,0053,0209,  1.6537, 165.0012, 4248,    980.7,      973,   4.5864,  34.5491,2,     94.3,2,  34.5489,2,    93.94,6,    81.43,2,    38.47,2,     0.00,2,    2.730,2,     -999,9,     -999,9,-999,9,-999,9,     -999,9,     -999,9,     -999,9,     -999,     -999,9,     -999,9,   4.5863,2
  49UP20110515,   P13,   122,  1,     17,      90,2,20110808,0053,0205,  1.6537, 165.0012, 4248,   1140.2,     1131,   4.0223,  34.5671,2,     97.8,2,  34.5681,2,    97.72,2,    96.53,2,    38.46,2,     0.00,2,    2.720,2,     -999,9,     -999,9,-999,9,-999,9,     -999,9,     -999,9,     -999,9,     -999,     -999,9,     -999,9,   4.0223,2
  49UP20110515,   P13,   122,  1,     16,      89,2,20110808,0053,0157,  1.6537, 165.0012, 4248,   1342.7,     1331,   3.4056,  34.5860,2,     99.2,2,  34.5856,2,    99.08,2,   110.55,2,    38.93,2,     0.00,2,    2.760,2,     -999,9,     -999,9,-999,9,-999,9,     -999,9,     -999,9,     -999,9,     -999,     -999,9,     -999,9,   3.4057,2
  49UP20110515,   P13,   122,  1,     15,      88,2,20110808,0053,0157,  1.6537, 165.0012, 4248,   1342.7,     1331,   3.4056,  34.5860,2,     99.2,2,  34.5851,2,    99.09,2,   110.42,2,    39.02,2,     0.00,2,    2.760,2,     -999,9,     -999,9,-999,9,-999,9,     -999,9,     -999,9,     -999,9,     -999,     -999,9,     -999,9,   3.4057,2
  49UP20110515,   P13,   122,  1,     14,      87,2,20110808,0053,0153,  1.6537, 165.0012, 4248,   1543.2,     1529,   2.9292,  34.6045,2,    104.0,2,  34.6035,2,   103.70,2,   120.30,2,    38.93,2,     0.00,2,    2.760,2,     -999,9,     -999,9,-999,9,-999,9,     -999,9,     -999,9,     -999,9,     -999,     -999,9,     -999,9,   2.9294,2
  49UP20110515,   P13,   122,  1,     13,      86,2,20110808,0053,0149,  1.6537, 165.0012, 4248,   1746.7,     1730,   2.6102,  34.6180,2,    110.5,2,  34.6182,2,   110.51,2,   127.10,2,    38.60,2,     0.00,2,    2.710,2,     -999,9,     -999,9,-999,9,-999,9,     -999,9,     -999,9,     -999,9,     -999,     -999,9,     -999,9,   2.6103,2
  49UP20110515,   P13,   122,  1,     12,      74,2,20110808,0053,0143,  1.6537, 165.0012, 4248,   1950.5,     1931,   2.2826,  34.6341,2,    111.6,2,  34.6337,2,   111.38,2,   136.70,2,    38.85,2,     0.00,2,    2.720,2,     -999,9,     -999,9,-999,9,-999,9,     -999,9,     -999,9,     -999,9,     -999,     -999,9,     -999,9,   2.2829,2
  49UP20110515,   P13,   122,  1,     11,     110,2,20110808,0053,0139,  1.6537, 165.0012, 4248,   2152.6,     2130,   2.0930,  34.6449,2,    119.5,2,  34.6448,2,   119.44,6,   138.81,2,    38.22,2,     0.00,2,    2.680,2,     -999,9,     -999,9,-999,9,-999,9,     -999,9,     -999,9,     -999,9,     -999,     -999,9,     -999,9,   2.0932,2
  49UP20110515,   P13,   122,  1,     10,      83,2,20110808,0053,0135,  1.6537, 165.0012, 4248,   2356.7,     2331,   1.9045,  34.6553,2,    123.8,2,  34.6551,2,   123.54,2,   143.18,2,    37.92,2,     0.00,2,    2.660,2,     -999,9,     -999,9,-999,9,-999,9,     -999,9,     -999,9,     -999,9,     -999,     -999,9,     -999,9,   1.9045,2
  49UP20110515,   P13,   122,  1,      9,      82,2,20110808,0053,0130,  1.6537, 165.0012, 4248,   2558.7,     2529,   1.8240,  34.6608,2,    126.6,2,  34.6612,2,   126.46,2,   144.80,2,    38.07,2,     0.00,2,    2.650,2,     -999,9,     -999,9,-999,9,-999,9,     -999,9,     -999,9,     -999,9,     -999,     -999,9,     -999,9,   1.8240,2
  49UP20110515,   P13,   122,  1,      8,      81,2,20110808,0053,0126,  1.6537, 165.0012, 4248,   2761.7,     2729,   1.7310,  34.6656,2,    131.3,2,  34.6656,6,   131.01,2,   145.99,2,    37.74,2,     0.00,2,    2.610,2,     -999,9,     -999,9,-999,9,-999,9,     -999,9,     -999,9,     -999,9,     -999,     -999,9,     -999,9,   1.7311,2
  49UP20110515,   P13,   122,  1,      7,      80,2,20110808,0053,0122,  1.6537, 165.0012, 4248,   2966.5,     2930,   1.6307,  34.6714,2,    138.1,2,  34.6713,2,   137.63,2,   145.84,2,    37.18,2,     0.00,2,    2.570,2,     -999,9,     -999,9,-999,9,-999,9,     -999,9,     -999,9,     -999,9,     -999,     -999,9,     -999,9,   1.6308,2
  49UP20110515,   P13,   122,  1,      6,      79,2,20110808,0053,0117,  1.6537, 165.0012, 4248,   3210.7,     3169,   1.5848,  34.6750,2,    142.7,2,  34.6752,2,   142.56,2,   145.29,2,    37.11,2,     0.00,2,    2.550,2,     -999,9,     -999,9,-999,9,-999,9,     -999,9,     -999,9,     -999,9,     -999,     -999,9,     -999,9,   1.5848,2
  49UP20110515,   P13,   122,  1,      5,      78,2,20110808,0053,0112,  1.6537, 165.0012, 4248,   3468.5,     3421,   1.5234,  34.6804,2,    149.1,2,  34.6800,2,   149.12,2,   144.09,6,    36.58,6,     0.00,6,    2.520,6,     -999,9,     -999,9,-999,9,-999,9,     -999,9,     -999,9,     -999,9,     -999,     -999,9,     -999,9,   1.5234,2
  49UP20110515,   P13,   122,  1,      4,      77,2,20110808,0053,0107,  1.6537, 165.0012, 4248,   3722.4,     3670,   1.4917,  34.6841,2,    153.9,2,  34.6838,2,   154.07,2,   143.25,2,    36.09,2,     0.00,2,    2.490,2,     -999,9,     -999,9,-999,9,-999,9,     -999,9,     -999,9,     -999,9,     -999,     -999,9,     -999,9,   1.4918,2
  49UP20110515,   P13,   122,  1,      3,      76,2,20110808,0053,0101,  1.6537, 165.0012, 4248,   3980.8,     3922,   1.4272,  34.6906,2,    164.1,2,  34.6918,2,   164.11,2,   138.14,2,    35.45,2,     0.00,2,    2.430,2,     -999,9,     -999,9,-999,9,-999,9,     -999,9,     -999,9,     -999,9,     -999,     -999,9,     -999,9,   1.4270,2
  49UP20110515,   P13,   122,  1,      2,      75,2,20110808,0053,0056,  1.6537, 165.0012, 4248,   4236.5,     4172,   1.3455,  34.6976,2,    177.3,2,  34.6975,2,   177.69,2,   131.38,2,    34.22,2,     0.00,2,    2.360,2,     -999,9,     -999,9,-999,9,-999,9,     -999,9,     -999,9,     -999,9,     -999,     -999,9,     -999,9,   1.3451,2
  49UP20110515,   P13,   122,  1,      1,     112,2,20110808,0053,0053,  1.6537, 165.0012, 4248,   4297.3,     4231,   1.3322,  34.6989,2,    179.3,2,  34.6982,2,   178.56,2,   130.71,2,    34.36,2,     0.00,2,    2.350,2,     -999,9,     -999,9,-999,9,-999,9,     -999,9,     -999,9,     -999,9,     -999,     -999,9,     -999,9,   1.3323,2