BOTTLE,20240116CCHSIOVAJ
EXPOCODE,SECT_ID,STNNBR,CASTNO,SAMPNO,BTLNBR,BTLNBR_FLAG_W,DATE,TIME,BTL_TIME,LATITUDE,LONGITUDE,DEPTH,CTDPRS,CTDDEPTH,CTDTMP,CTDSAL,CTDSAL_FLAG_W,CTDOXY,CTDOXY_FLAG_W,SALNTY,SALNTY_FLAG_W,OXYGEN,OXYGEN_FLAG_W,SILCAT,SILCAT_FLAG_W,NO2+NO3,NO2+NO3_FLAG_W,NITRIT,NITRIT_FLAG_W,PHSPHT,PHSPHT_FLAG_W,CFC-11,CFC-11_FLAG_W,CFC-12,CFC-12_FLAG_W,DELC14,DELC14_FLAG_W,DELC13,DELC13_FLAG_W,TCARBN,TCARBN_FLAG_W,ALKALI,ALKALI_FLAG_W,PH_TOT,PH_TOT_FLAG_W,PH_TMP,CHLORA,CHLORA_FLAG_W,PPHYTN,PPHYTN_FLAG_W,REFTMP,REFTMP_FLAG_W
,,,,,,,,,,,,METERS,DBAR,METERS,ITS-90,PSS-78,,UMOL/KG,,PSS-78,,UMOL/KG,,UMOL/KG,,UMOL/KG,,UMOL/KG,,UMOL/KG,,PMOL/KG,,PMOL/KG,,/MILLE,,/MILLE,,UMOL/KG,,UMOL/KG,,,,DEG C,UG/KG,,UG/KG,,ITS-90,
  49UP20110515,   P01,    37,  1,      0,     BUC,2,20110610,2245,0130, 46.5892, 159.1968, 5135,      0.0,        0,   4.7768,  32.9045,2,    343.2,2,     -999,9,   342.76,2,    33.54,2,    20.19,2,     0.23,2,    1.640,2,     -999,9,     -999,9,-999,9,-999,9,     -999,9,     -999,9,     -999,9,     -999,     1.20,2,     0.19,2,     -999,9
  49UP20110515,   P01,    37,  1,     36,     109,2,20110610,2245,0156, 46.5892, 159.1968, 5135,     10.4,       10,   4.7019,  32.9129,2,    343.9,2,  32.9108,2,   345.28,4,    33.65,2,    20.21,2,     0.23,2,    1.640,2,     -999,9,     -999,9,-999,9,-999,9,     -999,9,     -999,9,     -999,9,     -999,     -999,9,     -999,9,   4.7219,2
  49UP20110515,   P01,    37,  1,     35,     108,2,20110610,2245,0156, 46.5892, 159.1968, 5135,     10.4,       10,   4.7019,  32.9129,2,    343.9,2,  32.9106,2,   344.05,2,    33.60,2,    20.14,2,     0.23,2,    1.630,2,     -999,9,     -999,9,-999,9,-999,9,     -999,9,     -999,9,     -999,9,     -999,     1.00,2,     0.19,2,   4.7219,2
  49UP20110515,   P01,    37,  1,     34,     107,2,20110610,2245,0151, 46.5892, 159.1968, 5135,     51.3,       51,   3.0380,  32.9681,2,    337.5,2,  32.9673,2,   338.69,2,    41.09,6,    22.88,6,     0.22,6,    1.870,6,     -999,9,     -999,9,-999,9,-999,9,     -999,9,     -999,9,     -999,9,     -999,     0.66,2,     0.37,2,   3.0385,2
  49UP20110515,   P01,    37,  1,     33,     106,2,20110610,2245,0147, 46.5892, 159.1968, 5135,    102.3,      101,   1.3280,  33.0843,2,    322.3,2,  33.0799,2,   323.51,6,    48.06,2,    26.75,2,     0.06,2,    2.090,2,     -999,9,     -999,9,-999,9,-999,9,     -999,9,     -999,9,     -999,9,     -999,     0.08,2,     0.10,2,   1.3285,2
  49UP20110515,   P01,    37,  1,     32,     105,2,20110610,2245,0145, 46.5892, 159.1968, 5135,    127.3,      126,   1.8227,  33.2427,2,    263.8,2,  33.2442,2,   262.77,2,    57.55,6,    30.50,6,     0.02,6,    2.320,6,     -999,9,     -999,9,-999,9,-999,9,     -999,9,     -999,9,     -999,9,     -999,     0.05,2,     0.09,2,   1.8222,2
  49UP20110515,   P01,    37,  1,     31,     104,2,20110610,2245,0143, 46.5892, 159.1968, 5135,    151.8,      150,   2.7447,  33.4793,2,    178.7,2,  33.4690,4,   180.26,6,    70.69,2,    35.52,2,     0.01,2,    2.590,2,     -999,9,     -999,9,-999,9,-999,9,     -999,9,     -999,9,     -999,9,     -999,     0.03,2,     0.10,2,   2.7547,2
  49UP20110515,   P01,    37,  1,     30,     103,2,20110610,2245,0140, 46.5892, 159.1968, 5135,    203.5,      202,   3.7968,  33.8024,2,     64.6,2,  33.8011,2,    64.97,2,    89.58,2,    42.23,2,     0.01,2,    2.980,2,     -999,9,     -999,9,-999,9,-999,9,     -999,9,     -999,9,     -999,9,     -999,     0.01,2,     0.06,2,   3.7972,2
  49UP20110515,   P01,    37,  1,     29,     102,2,20110610,2245,0137, 46.5892, 159.1968, 5135,    253.2,      251,   3.8159,  33.9136,2,     36.1,2,  33.9090,2,    36.48,2,    96.81,2,    44.03,2,     0.01,2,    3.090,2,     -999,9,     -999,9,-999,9,-999,9,     -999,9,     -999,9,     -999,9,     -999,     -999,9,     -999,9,   3.8172,2
  49UP20110515,   P01,    37,  1,     28,     101,2,20110610,2245,0134, 46.5892, 159.1968, 5135,    304.1,      301,   3.7381,  33.9926,2,     23.2,2,  33.9920,2,    25.24,2,   104.68,2,    44.69,2,     0.00,2,    3.150,2,     -999,9,     -999,9,-999,9,-999,9,     -999,9,     -999,9,     -999,9,     -999,     -999,9,     -999,9,   3.7384,2
  49UP20110515,   P01,    37,  1,     27,     100,2,20110610,2245,0131, 46.5892, 159.1968, 5135,    405.5,      402,   3.6247,  34.0977,2,     17.2,2,  34.0974,2,    17.04,2,   114.06,2,    44.57,2,     0.00,2,    3.150,2,     -999,9,     -999,9,-999,9,-999,9,     -999,9,     -999,9,     -999,9,     -999,     -999,9,     -999,9,   3.6258,2
  49UP20110515,   P01,    37,  1,     26,      99,2,20110610,2245,0127, 46.5892, 159.1968, 5135,    505.5,      501,   3.4552,  34.1894,2,     15.3,2,  34.1889,2,    15.23,2,   123.84,2,    44.36,2,     0.00,2,    3.140,2,     -999,9,     -999,9,-999,9,-999,9,     -999,9,     -999,9,     -999,9,     -999,     -999,9,     -999,9,   3.4551,2
  49UP20110515,   P01,    37,  1,     25,      98,2,20110610,2245,0124, 46.5892, 159.1968, 5135,    606.3,      600,   3.2468,  34.2623,2,     15.3,2,  34.2612,2,    14.84,6,   132.19,2,    44.28,2,     0.00,2,    3.140,2,     -999,9,     -999,9,-999,9,-999,9,     -999,9,     -999,9,     -999,9,     -999,     -999,9,     -999,9,   3.2472,2
  49UP20110515,   P01,    37,  1,     24,      97,2,20110610,2245,0119, 46.5892, 159.1968, 5135,    708.5,      701,   3.1113,  34.3017,2,     15.6,2,  34.3015,6,    15.04,2,   137.85,2,    44.38,2,     0.00,2,    3.140,2,     -999,9,     -999,9,-999,9,-999,9,     -999,9,     -999,9,     -999,9,     -999,     -999,9,     -999,9,   3.1113,2
  49UP20110515,   P01,    37,  1,     23,      96,2,20110610,2245,0114, 46.5892, 159.1968, 5135,    808.8,      801,   2.9046,  34.3483,2,     15.4,2,  34.3478,2,    14.61,2,   145.92,2,    44.23,2,     0.00,2,    3.140,2,     -999,9,     -999,9,-999,9,-999,9,     -999,9,     -999,9,     -999,9,     -999,     -999,9,     -999,9,   2.9047,2
  49UP20110515,   P01,    37,  1,     22,      95,3,20110610,2245,0110, 46.5892, 159.1968, 5135,    910.3,      901,   2.7251,  34.3877,2,     18.3,2,  34.3858,2,    18.73,2,   151.31,2,    44.08,2,     0.00,2,    3.140,2,     -999,9,     -999,9,-999,9,-999,9,     -999,9,     -999,9,     -999,9,     -999,     -999,9,     -999,9,   2.7254,2
  49UP20110515,   P01,    37,  1,     21,      94,2,20110610,2245,0107, 46.5892, 159.1968, 5135,   1011.7,     1001,   2.5935,  34.4191,2,     21.4,2,  34.4183,2,    20.59,2,   155.96,2,    43.99,2,     0.00,2,    3.130,2,     -999,9,     -999,9,-999,9,-999,9,     -999,9,     -999,9,     -999,9,     -999,     -999,9,     -999,9,   2.5939,2
  49UP20110515,   P01,    37,  1,     20,      93,2,20110610,2245,0107, 46.5892, 159.1968, 5135,   1011.7,     1001,   2.5935,  34.4191,2,     21.4,2,  34.4182,2,    20.74,2,   155.83,2,    44.01,2,     0.00,2,    3.130,2,     -999,9,     -999,9,-999,9,-999,9,     -999,9,     -999,9,     -999,9,     -999,     -999,9,     -999,9,   2.5939,2
  49UP20110515,   P01,    37,  1,     19,      92,2,20110610,2245,0101, 46.5892, 159.1968, 5135,   1214.3,     1201,   2.3189,  34.4827,2,     31.7,2,  34.4823,2,    31.52,2,   163.64,2,    43.39,2,     0.00,2,    3.060,3,     -999,9,     -999,9,-999,9,-999,9,     -999,9,     -999,9,     -999,9,     -999,     -999,9,     -999,9,   2.3192,2
  49UP20110515,   P01,    37,  1,     18,      91,2,20110610,2245,0053, 46.5892, 159.1968, 5135,   1417.7,     1401,   2.1468,  34.5256,2,     43.5,2,  34.5254,2,    43.45,2,   166.74,2,    42.62,2,     0.00,2,    3.020,2,     -999,9,     -999,9,-999,9,-999,9,     -999,9,     -999,9,     -999,9,     -999,     -999,9,     -999,9,   2.1468,2
  49UP20110515,   P01,    37,  1,     17,      90,2,20110610,2245,0042, 46.5892, 159.1968, 5135,   1621.3,     1602,   1.9984,  34.5647,2,     57.2,2,  34.5651,2,    57.11,2,   168.29,2,    41.88,2,     0.00,2,    2.960,2,     -999,9,     -999,9,-999,9,-999,9,     -999,9,     -999,9,     -999,9,     -999,     -999,9,     -999,9,   1.9986,2
  49UP20110515,   P01,    37,  1,     16,      89,2,20110610,2245,0037, 46.5892, 159.1968, 5135,   1823.0,     1800,   1.8952,  34.5908,2,     70.4,2,  34.5909,2,    70.46,2,   166.50,2,    41.06,2,     0.00,2,    2.900,2,     -999,9,     -999,9,-999,9,-999,9,     -999,9,     -999,9,     -999,9,     -999,     -999,9,     -999,9,   1.8952,2
  49UP20110515,   P01,    37,  1,     15,      88,2,20110610,2245,0029, 46.5892, 159.1968, 5135,   2027.3,     2001,   1.7848,  34.6146,2,     84.8,2,  34.6149,2,    84.99,2,   164.86,6,    40.25,6,     0.00,6,    2.830,6,     -999,9,     -999,9,-999,9,-999,9,     -999,9,     -999,9,     -999,9,     -999,     -999,9,     -999,9,   1.7847,2
  49UP20110515,   P01,    37,  1,     14,      87,2,20110610,2245,0023, 46.5892, 159.1968, 5135,   2231.6,     2201,   1.7030,  34.6305,2,     96.4,2,  34.6308,2,    96.54,2,   163.26,2,    39.53,2,     0.00,2,    2.790,2,     -999,9,     -999,9,-999,9,-999,9,     -999,9,     -999,9,     -999,9,     -999,     -999,9,     -999,9,   1.7030,2
  49UP20110515,   P01,    37,  1,     13,      86,2,20110610,2245,0013, 46.5892, 159.1968, 5135,   2436.8,     2403,   1.6289,  34.6440,2,    107.6,2,  34.6439,6,   108.08,2,   161.48,2,    38.86,2,     0.00,2,    2.730,2,     -999,9,     -999,9,-999,9,-999,9,     -999,9,     -999,9,     -999,9,     -999,     -999,9,     -999,9,   1.6288,2
  49UP20110515,   P01,    37,  1,     12,      85,2,20110610,2245,0007, 46.5892, 159.1968, 5135,   2639.6,     2601,   1.5746,  34.6539,2,    116.8,2,  34.6539,2,   117.18,2,   159.35,2,    38.21,2,     0.00,2,    2.690,2,     -999,9,     -999,9,-999,9,-999,9,     -999,9,     -999,9,     -999,9,     -999,     -999,9,     -999,9,   1.5745,2
  49UP20110515,   P01,    37,  1,     11,     110,2,20110610,2245,0000, 46.5892, 159.1968, 5135,   2846.6,     2804,   1.5360,  34.6615,2,    125.2,2,  34.6616,2,   125.28,2,   156.75,3,    37.74,2,     0.00,2,    2.640,2,     -999,9,     -999,9,-999,9,-999,9,     -999,9,     -999,9,     -999,9,     -999,     -999,9,     -999,9,   1.5358,2
  49UP20110515,   P01,    37,  1,     10,      83,2,20110610,2245,2353, 46.5892, 159.1968, 5135,   3050.4,     3003,   1.5026,  34.6678,2,    131.6,2,  34.6682,2,   132.49,2,   155.46,3,    37.38,2,     0.00,2,    2.610,2,     -999,9,     -999,9,-999,9,-999,9,     -999,9,     -999,9,     -999,9,     -999,     -999,9,     -999,9,   1.5024,2
  49UP20110515,   P01,    37,  1,      9,      82,2,20110610,2245,2345, 46.5892, 159.1968, 5135,   3305.3,     3253,   1.4783,  34.6734,2,    138.3,2,  34.6747,2,   139.23,2,   153.71,2,    36.97,2,     0.00,2,    2.570,2,     -999,9,     -999,9,-999,9,-999,9,     -999,9,     -999,9,     -999,9,     -999,     -999,9,     -999,9,   1.4783,2
  49UP20110515,   P01,    37,  1,      8,      81,2,20110610,2245,2337, 46.5892, 159.1968, 5135,   3561.9,     3503,   1.4606,  34.6782,2,    144.1,2,  34.6792,2,   144.90,2,   152.31,2,    36.63,2,     0.00,2,    2.540,2,     -999,9,     -999,9,-999,9,-999,9,     -999,9,     -999,9,     -999,9,     -999,     -999,9,     -999,9,   1.4606,2
  49UP20110515,   P01,    37,  1,      7,      80,2,20110610,2245,2328, 46.5892, 159.1968, 5135,   3817.7,     3752,   1.4544,  34.6816,2,    148.5,2,  34.6824,2,   149.73,2,   151.00,2,    36.32,2,     0.00,2,    2.520,2,     -999,9,     -999,9,-999,9,-999,9,     -999,9,     -999,9,     -999,9,     -999,     -999,9,     -999,9,   1.4542,2
  49UP20110515,   P01,    37,  1,      6,      79,2,20110610,2245,2322, 46.5892, 159.1968, 5135,   4073.1,     4001,   1.4538,  34.6847,2,    152.0,2,  34.6850,2,   152.85,2,   150.47,2,    36.13,2,     0.00,2,    2.500,2,     -999,9,     -999,9,-999,9,-999,9,     -999,9,     -999,9,     -999,9,     -999,     -999,9,     -999,9,   1.4537,2
  49UP20110515,   P01,    37,  1,      5,      78,2,20110610,2245,2314, 46.5892, 159.1968, 5135,   4331.0,     4252,   1.4603,  34.6871,2,    154.9,2,  34.6875,2,   154.78,2,   149.77,2,    35.88,2,     0.00,2,    2.510,2,     -999,9,     -999,9,-999,9,-999,9,     -999,9,     -999,9,     -999,9,     -999,     -999,9,     -999,9,   1.4602,2
  49UP20110515,   P01,    37,  1,      4,      77,2,20110610,2245,2308, 46.5892, 159.1968, 5135,   4587.6,     4501,   1.4785,  34.6886,2,    156.3,2,  34.6887,2,   156.37,2,   149.88,3,    35.80,2,     0.00,2,    2.480,2,     -999,9,     -999,9,-999,9,-999,9,     -999,9,     -999,9,     -999,9,     -999,     -999,9,     -999,9,   1.4786,2
  49UP20110515,   P01,    37,  1,      3,      76,2,20110610,2245,2259, 46.5892, 159.1968, 5135,   4844.5,     4751,   1.5016,  34.6894,2,    157.3,2,  34.6901,2,   157.23,2,   150.37,2,    35.71,2,     0.00,2,    2.500,2,     -999,9,     -999,9,-999,9,-999,9,     -999,9,     -999,9,     -999,9,     -999,     -999,9,     -999,9,   1.5016,2
  49UP20110515,   P01,    37,  1,      2,      75,2,20110610,2245,2252, 46.5892, 159.1968, 5135,   5102.4,     5001,   1.5274,  34.6902,2,    158.0,2,  34.6908,6,   158.00,2,   150.35,6,    35.62,6,     0.00,6,    2.480,6,     -999,9,     -999,9,-999,9,-999,9,     -999,9,     -999,9,     -999,9,     -999,     -999,9,     -999,9,   1.5273,2
  49UP20110515,   P01,    37,  1,      1,      74,3,20110610,2245,2246, 46.5892, 159.1968, 5135,   5205.3,     5100,   1.5366,  34.6906,2,    158.4,2,  34.6907,2,   158.33,2,   150.07,2,    35.61,2,     0.00,2,    2.460,2,     -999,9,     -999,9,-999,9,-999,9,     -999,9,     -999,9,     -999,9,     -999,     -999,9,     -999,9,   1.5365,2