BOTTLE,20240116CCHSIOVAJ
EXPOCODE,SECT_ID,STNNBR,CASTNO,SAMPNO,BTLNBR,BTLNBR_FLAG_W,DATE,TIME,BTL_TIME,LATITUDE,LONGITUDE,DEPTH,CTDPRS,CTDDEPTH,CTDTMP,CTDSAL,CTDSAL_FLAG_W,CTDOXY,CTDOXY_FLAG_W,SALNTY,SALNTY_FLAG_W,OXYGEN,OXYGEN_FLAG_W,SILCAT,SILCAT_FLAG_W,NO2+NO3,NO2+NO3_FLAG_W,NITRIT,NITRIT_FLAG_W,PHSPHT,PHSPHT_FLAG_W,CFC-11,CFC-11_FLAG_W,CFC-12,CFC-12_FLAG_W,DELC14,DELC14_FLAG_W,DELC13,DELC13_FLAG_W,TCARBN,TCARBN_FLAG_W,ALKALI,ALKALI_FLAG_W,PH_TOT,PH_TOT_FLAG_W,PH_TMP,CHLORA,CHLORA_FLAG_W,PPHYTN,PPHYTN_FLAG_W,REFTMP,REFTMP_FLAG_W
,,,,,,,,,,,,METERS,DBAR,METERS,ITS-90,PSS-78,,UMOL/KG,,PSS-78,,UMOL/KG,,UMOL/KG,,UMOL/KG,,UMOL/KG,,UMOL/KG,,PMOL/KG,,PMOL/KG,,/MILLE,,/MILLE,,UMOL/KG,,UMOL/KG,,,,DEG C,UG/KG,,UG/KG,,ITS-90,
  49UP20110515,   P01,    23,  1,      0,     BUC,2,20110606,0109,0429, 39.6867, 147.8922, 5336,      0.0,        0,  12.8564,  33.9513,2,    279.1,2,     -999,9,   274.43,2,     5.81,2,     3.87,2,     0.16,2,    0.450,2,     -999,9,     -999,9,-999,9,-999,9,     -999,9,     -999,9,     -999,9,     -999,     0.73,2,     0.23,2,     -999,9
  49UP20110515,   P01,    23,  1,     36,     109,2,20110606,0109,0450, 39.6867, 147.8922, 5336,     11.0,       11,  12.4987,  33.9741,2,    280.8,2,  33.9778,6,   278.40,2,     6.30,2,     4.09,2,     0.18,2,    0.460,2,    4.214,2,    2.007,2,-999,9,-999,9,   2031.7,2,   2267.0,2,   7.9372,3,    25.00,     0.72,2,     0.28,2,  12.4910,2
  49UP20110515,   P01,    23,  1,     35,     108,2,20110606,0109,0449, 39.6867, 147.8922, 5336,     26.1,       26,  12.6001,  34.1576,2,    270.5,2,  34.1526,2,   269.13,2,     5.55,2,     3.73,2,     0.15,2,    0.410,2,    4.044,2,    1.976,2,-999,9,-999,9,   2035.0,2,   2272.6,2,   7.9477,2,    25.00,     0.92,2,     0.41,2,  12.6058,2
  49UP20110515,   P01,    23,  1,     34,     107,2,20110606,0109,0444, 39.6867, 147.8922, 5336,     50.6,       50,  11.8352,  34.1472,2,    260.7,2,  34.1551,4,   258.68,2,     9.12,6,     6.69,6,     0.28,6,    0.610,6,    4.205,2,    1.973,2,-999,9,-999,9,   2056.3,2,   2273.3,2,   7.9024,2,    25.00,     0.26,2,     0.19,2,  11.8385,2
  49UP20110515,   P01,    23,  1,     33,     106,2,20110606,0109,0443, 39.6867, 147.8922, 5336,     75.2,       75,  11.3700,  34.2701,2,    237.4,2,  34.2589,4,   237.36,2,    15.39,3,    11.13,2,     0.03,2,    0.850,2,    3.992,2,    1.888,2,-999,9,-999,9,   2084.7,2,   2274.4,2,   7.8457,2,    25.00,     0.02,2,     0.09,2,  11.3699,2
  49UP20110515,   P01,    23,  1,     32,     105,2,20110606,0109,0442, 39.6867, 147.8922, 5336,    101.7,      101,  10.5630,  34.2042,2,    242.6,2,  34.2019,2,   241.95,2,    16.18,6,    11.66,6,     0.02,6,    0.880,6,    3.997,2,    1.936,2,-999,9,-999,9,   2084.5,2,   2272.6,2,   7.8412,2,    25.00,     0.02,2,     0.10,2,  10.5632,2
  49UP20110515,   P01,    23,  1,     31,     104,2,20110606,0109,0437, 39.6867, 147.8922, 5336,    151.6,      150,   9.9866,  34.1701,2,    253.6,2,  34.1665,2,   253.13,2,    16.19,2,    11.49,2,     0.02,2,    0.870,2,    4.133,6,    2.019,6,-999,9,-999,9,   2084.7,2,   2268.7,2,   7.8359,2,    25.00,     0.03,2,     0.07,2,  10.0063,2
  49UP20110515,   P01,    23,  1,     30,     103,2,20110606,0109,0435, 39.6867, 147.8922, 5336,    202.2,      201,   7.3096,  33.7865,2,    252.9,2,  33.7841,2,   252.63,2,    24.66,2,    15.83,2,     0.02,2,    1.250,2,    4.753,2,    2.241,2,-999,9,-999,9,   2111.8,2,   2261.4,2,   7.7575,2,    25.00,     0.01,2,     0.07,2,   7.3095,2
  49UP20110515,   P01,    23,  1,     29,     102,2,20110606,0109,0433, 39.6867, 147.8922, 5336,    251.8,      250,   5.7122,  33.6957,2,    235.1,2,  33.6910,2,   234.59,2,    36.80,2,    20.76,2,     0.01,2,    1.610,2,    4.659,2,    2.282,2,-999,9,-999,9,   2148.8,2,   2264.2,2,   7.6644,2,    25.00,     -999,9,     -999,9,   5.7130,2
  49UP20110515,   P01,    23,  1,     28,     101,2,20110606,0109,0431, 39.6867, 147.8922, 5336,    333.0,      330,   4.1687,  33.6681,2,    204.0,2,  33.6683,2,   201.66,6,    55.33,2,    27.51,2,     0.01,2,    2.110,2,    4.351,2,    2.190,2,-999,9,-999,9,   2199.1,2,   2273.1,2,   7.5477,2,    25.00,     -999,9,     -999,9,   4.1672,2
  49UP20110515,   P01,    23,  1,     27,     100,2,20110606,0109,0429, 39.6867, 147.8922, 5336,    434.1,      430,   3.9023,  33.8038,2,    139.5,2,  33.8369,4,   135.76,2,    75.04,2,    33.83,2,     0.01,2,    2.520,2,    3.382,6,    1.581,6,-999,9,-999,9,   2252.2,2,   2293.3,2,   7.4579,2,    25.00,     -999,9,     -999,9,   3.8998,2
  49UP20110515,   P01,    23,  1,     26,      99,2,20110606,0109,0426, 39.6867, 147.8922, 5336,    535.1,      530,   4.2635,  34.0374,2,     84.0,2,  34.0379,2,    84.18,2,    91.94,2,    37.76,2,     0.00,2,    2.760,2,    2.168,2,    0.965,2,-999,9,-999,9,   2292.3,2,   2312.9,2,   7.3918,6,    25.00,     -999,9,     -999,9,   4.2638,2
  49UP20110515,   P01,    23,  1,     25,      98,2,20110606,0109,0424, 39.6867, 147.8922, 5336,    636.7,      631,   3.8975,  34.1361,2,     56.8,2,  34.1347,2,    56.90,2,   107.30,2,    40.30,2,     0.00,2,    2.920,2,    1.488,2,    0.641,2,-999,9,-999,9,   2320.0,6,   2330.0,6,   7.3533,2,    25.00,     -999,9,     -999,9,   3.8985,2
  49UP20110515,   P01,    23,  1,     24,      97,2,20110606,0109,0416, 39.6867, 147.8922, 5336,    738.0,      731,   3.2892,  34.1623,2,     35.1,2,  34.1624,2,    35.58,6,   123.15,2,    42.82,2,     0.00,2,    3.080,2,    1.219,2,    0.520,2,-999,9,-999,9,   2348.9,2,   2339.6,2,   7.2996,2,    25.00,     -999,9,     -999,9,   3.2900,2
  49UP20110515,   P01,    23,  1,     23,      96,2,20110606,0109,0412, 39.6867, 147.8922, 5336,    838.6,      831,   3.1332,  34.2385,2,     30.7,2,  34.2380,2,    31.01,2,   132.22,2,    43.12,2,     0.00,2,    3.110,2,    0.890,2,    0.362,2,-999,9,-999,9,   2360.6,2,   2353.3,2,   7.3090,2,    25.00,     -999,9,     -999,9,   3.1335,2
  49UP20110515,   P01,    23,  1,     22,      95,2,20110606,0109,0409, 39.6867, 147.8922, 5336,    940.0,      931,   2.9707,  34.3068,2,     31.2,2,  34.3058,2,    31.09,2,   139.83,2,    43.01,2,     0.00,2,    3.110,2,    0.608,2,    0.242,2,-999,9,-999,9,   2365.6,2,   2365.8,2,   7.3193,2,    25.00,     -999,9,     -999,9,   2.9708,2
  49UP20110515,   P01,    23,  1,     21,      94,2,20110606,0109,0405, 39.6867, 147.8922, 5336,   1082.0,     1071,   2.8576,  34.3855,2,     37.1,2,  34.3863,2,    37.67,2,   143.98,2,    42.57,2,     0.00,2,    3.080,2,    0.326,2,    0.111,2,-999,9,-999,9,   2367.5,2,   2376.0,2,   7.3499,2,    25.00,     -999,9,     -999,9,   2.8611,2
  49UP20110515,   P01,    23,  1,     20,      93,2,20110606,0109,0400, 39.6867, 147.8922, 5336,   1284.3,     1271,   2.6074,  34.4584,2,     39.0,2,  34.4588,2,    39.14,2,   151.79,2,    42.93,2,     0.00,2,    3.090,2,    0.127,2,    0.026,2,-999,9,-999,9,   2377.4,2,   2390.1,2,   7.3596,2,    25.00,     -999,9,     -999,9,   2.6074,2
  49UP20110515,   P01,    23,  1,     19,      92,2,20110606,0109,0350, 39.6867, 147.8922, 5336,   1487.7,     1471,   2.3739,  34.5060,2,     45.3,2,  34.5068,2,    45.35,2,   157.30,2,    42.59,2,     0.00,2,    3.020,3,    0.107,2,    0.015,2,-999,9,-999,9,   2380.1,2,   2398.3,2,   7.3758,2,    25.00,     -999,9,     -999,9,   2.3741,2
  49UP20110515,   P01,    23,  1,     18,      91,2,20110606,0109,0345, 39.6867, 147.8922, 5336,   1690.2,     1671,   2.1800,  34.5476,2,     55.2,2,  34.5479,6,    55.67,2,   161.30,6,    42.12,6,     0.00,6,    2.990,6,    0.005,2,    0.000,2,-999,9,-999,9,   2377.3,2,   2406.4,2,   7.4002,2,    25.00,     -999,9,     -999,9,   2.1808,2
  49UP20110515,   P01,    23,  1,     17,      90,2,20110606,0109,0339, 39.6867, 147.8922, 5336,   1893.5,     1871,   2.0364,  34.5776,2,     66.7,2,  34.5770,2,    67.33,2,   162.42,2,    41.42,2,     0.00,2,    2.940,2,    0.000,2,    0.000,2,-999,9,-999,9,   2373.1,2,   2409.9,2,   7.4238,2,    25.00,     -999,9,     -999,9,   2.0367,2
  49UP20110515,   P01,    23,  1,     16,      89,2,20110606,0109,0327, 39.6867, 147.8922, 5336,   2099.4,     2073,   1.8996,  34.6020,2,     78.6,2,  34.6013,2,    78.94,6,   163.02,2,    40.71,2,     0.00,2,    2.890,2,    0.014,2,    0.000,2,-999,9,-999,9,   2370.9,2,   2414.3,2,   7.4474,2,    25.00,     -999,9,     -999,9,   1.8997,2
  49UP20110515,   P01,    23,  1,     15,      88,2,20110606,0109,0323, 39.6867, 147.8922, 5336,   2300.8,     2271,   1.7977,  34.6214,2,     92.2,2,  34.6210,2,    92.32,2,   161.71,2,    39.93,2,     0.00,2,    2.820,2,    0.000,2,    0.000,2,-999,9,-999,9,   2363.0,2,   2415.9,2,   7.4725,6,    25.00,     -999,9,     -999,9,   1.7980,2
  49UP20110515,   P01,    23,  1,     14,      87,2,20110606,0109,0259, 39.6867, 147.8922, 5336,   2505.2,     2471,   1.7086,  34.6364,2,    102.7,2,  34.6361,2,   103.39,2,   161.61,2,    39.27,2,     0.00,2,    2.780,2,    0.000,2,    0.000,2,-999,9,-999,9,   2354.2,6,   2418.5,6,   7.4962,2,    25.00,     -999,9,     -999,9,   1.7089,2
  49UP20110515,   P01,    23,  1,     13,      86,2,20110606,0109,0253, 39.6867, 147.8922, 5336,   2708.7,     2671,   1.6392,  34.6481,2,    112.7,2,  34.6476,2,   112.90,2,   159.33,2,    38.61,2,     0.00,2,    2.730,2,     -999,9,     -999,9,-999,9,-999,9,   2349.5,2,   2417.8,2,   7.5113,2,    25.00,     -999,9,     -999,9,   1.6394,2
  49UP20110515,   P01,    23,  1,     12,      85,2,20110606,0109,0253, 39.6867, 147.8922, 5336,   2708.7,     2671,   1.6392,  34.6481,2,    112.7,2,  34.6494,2,   113.62,2,   159.74,2,    38.66,2,     0.00,2,    2.730,2,     -999,9,     -999,9,-999,9,-999,9,   2350.2,2,   2419.2,2,   7.5110,2,    25.00,     -999,9,     -999,9,   1.6394,2
  49UP20110515,   P01,    23,  1,     11,     110,2,20110606,0109,0208, 39.6867, 147.8922, 5336,   2914.1,     2872,   1.5755,  34.6587,2,    122.5,2,  34.6579,2,   122.46,2,   158.33,2,    38.00,2,     0.00,2,    2.670,2,     -999,9,     -999,9,-999,9,-999,9,   2344.1,2,   2417.8,2,   7.5291,2,    25.00,     -999,9,     -999,9,   1.5757,2
  49UP20110515,   P01,    23,  1,     10,      83,2,20110606,0109,0202, 39.6867, 147.8922, 5336,   3128.9,     3082,   1.5345,  34.6659,2,    130.0,2,  34.6667,2,   129.51,2,   156.59,2,    37.54,2,     0.00,2,    2.650,2,    0.007,2,    0.000,2,-999,9,-999,9,   2340.1,2,   2418.9,2,   7.5420,3,    25.00,     -999,9,     -999,9,   1.5347,2
  49UP20110515,   P01,    23,  1,      9,      82,2,20110606,0109,0157, 39.6867, 147.8922, 5336,   3384.4,     3332,   1.4985,  34.6725,2,    137.0,2,  34.6716,4,   136.67,2,   155.41,2,    37.11,2,     0.00,2,    2.610,2,     -999,9,     -999,9,-999,9,-999,9,   2336.5,2,   2416.1,2,   7.5526,2,    25.00,     -999,9,     -999,9,   1.4987,2
  49UP20110515,   P01,    23,  1,      8,      81,2,20110606,0109,0151, 39.6867, 147.8922, 5336,   3640.2,     3582,   1.4758,  34.6779,2,    143.4,2,  34.6773,2,   142.98,6,   153.44,2,    36.62,2,     0.00,2,    2.580,2,     -999,9,     -999,9,-999,9,-999,9,   2328.9,3,   2416.7,2,   7.5651,2,    25.00,     -999,9,     -999,9,   1.4761,2
  49UP20110515,   P01,    23,  1,      7,      80,3,20110606,0109,0145, 39.6867, 147.8922, 5336,   3897.1,     3832,   1.4663,  34.6816,2,    148.1,2,  34.6811,2,   147.57,2,   152.37,2,    36.35,2,     0.00,2,    2.550,2,     -999,9,     -999,9,-999,9,-999,9,   2329.9,2,   2417.6,2,   7.5733,2,    25.00,     -999,9,     -999,9,   1.4664,2
  49UP20110515,   P01,    23,  1,      6,      79,2,20110606,0109,0139, 39.6867, 147.8922, 5336,   4154.4,     4083,   1.4643,  34.6849,2,    151.9,2,  34.6847,2,   151.61,2,   151.41,6,    36.11,6,     0.00,6,    2.540,6,    0.000,2,    0.000,2,-999,9,-999,9,   2326.0,2,   2418.9,2,   7.5779,2,    25.00,     -999,9,     -999,9,   1.4645,2
  49UP20110515,   P01,    23,  1,      5,      78,2,20110606,0109,0133, 39.6867, 147.8922, 5336,   4411.9,     4333,   1.4685,  34.6876,2,    155.4,2,  34.6880,2,   155.05,2,   149.96,2,    35.73,2,     0.00,2,    2.510,2,     -999,9,     -999,9,-999,9,-999,9,   2324.4,2,   2417.3,2,   7.5856,2,    25.00,     -999,9,     -999,9,   1.4686,2
  49UP20110515,   P01,    23,  1,      4,      77,2,20110606,0109,0127, 39.6867, 147.8922, 5336,   4668.2,     4582,   1.4830,  34.6893,2,    157.2,2,  34.6885,2,   156.95,2,   150.25,2,    35.75,2,     0.00,2,    2.510,2,     -999,9,     -999,9,-999,9,-999,9,   2321.7,2,   2416.3,2,   7.5879,2,    25.00,     -999,9,     -999,9,   1.4832,2
  49UP20110515,   P01,    23,  1,      3,      76,2,20110606,0109,0121, 39.6867, 147.8922, 5336,   4925.6,     4832,   1.5043,  34.6904,2,    158.5,2,  34.6906,2,   158.36,2,   150.12,2,    35.63,2,     0.00,2,    2.510,2,     -999,9,     -999,9,-999,9,-999,9,   2317.2,2,   2416.2,2,   7.5879,2,    25.00,     -999,9,     -999,9,   1.5042,2
  49UP20110515,   P01,    23,  1,      2,      75,2,20110606,0109,0115, 39.6867, 147.8922, 5336,   5183.2,     5082,   1.5277,  34.6914,2,    160.1,2,  34.6906,2,   159.87,2,   148.76,2,    35.46,2,     0.00,2,    2.490,2,    0.013,2,    0.030,2,-999,9,-999,9,   2319.5,2,   2413.6,2,   7.5884,6,    25.00,     -999,9,     -999,9,   1.5277,2
  49UP20110515,   P01,    23,  1,      1,      74,3,20110606,0109,0110, 39.6867, 147.8922, 5336,   5423.9,     5315,   1.5529,  34.6923,2,    160.1,2,  34.6907,4,   159.94,2,   149.52,2,    35.42,2,     0.00,2,    2.490,2,     -999,9,     -999,9,-999,9,-999,9,   2320.5,3,   2414.9,6,   7.5855,2,    25.00,     -999,9,     -999,9,   1.5530,2