BOTTLE,20240116CCHSIOVAJ
EXPOCODE,SECT_ID,STNNBR,CASTNO,SAMPNO,BTLNBR,BTLNBR_FLAG_W,DATE,TIME,BTL_TIME,LATITUDE,LONGITUDE,DEPTH,CTDPRS,CTDDEPTH,CTDTMP,CTDSAL,CTDSAL_FLAG_W,CTDOXY,CTDOXY_FLAG_W,SALNTY,SALNTY_FLAG_W,OXYGEN,OXYGEN_FLAG_W,SILCAT,SILCAT_FLAG_W,NO2+NO3,NO2+NO3_FLAG_W,NITRIT,NITRIT_FLAG_W,PHSPHT,PHSPHT_FLAG_W,CFC-11,CFC-11_FLAG_W,CFC-12,CFC-12_FLAG_W,DELC14,DELC14_FLAG_W,DELC13,DELC13_FLAG_W,TCARBN,TCARBN_FLAG_W,ALKALI,ALKALI_FLAG_W,PH_TOT,PH_TOT_FLAG_W,PH_TMP,CHLORA,CHLORA_FLAG_W,PPHYTN,PPHYTN_FLAG_W,REFTMP,REFTMP_FLAG_W
,,,,,,,,,,,,METERS,DBAR,METERS,ITS-90,PSS-78,,UMOL/KG,,PSS-78,,UMOL/KG,,UMOL/KG,,UMOL/KG,,UMOL/KG,,UMOL/KG,,PMOL/KG,,PMOL/KG,,/MILLE,,/MILLE,,UMOL/KG,,UMOL/KG,,,,DEG C,UG/KG,,UG/KG,,ITS-90,
  49UP20110515,   P01,     8,  1,      0,     BUC,2,20110519,0240,0550, 41.6892, 146.4967, 6336,      0.0,        0,   7.4169,  33.3717,2,    311.4,2,     -999,9,   311.42,2,    15.00,2,    10.90,2,     0.18,2,    1.020,2,     -999,9,     -999,9,-999,9,-999,9,     -999,9,     -999,9,     -999,9,     -999,     0.88,2,     0.12,2,     -999,9
  49UP20110515,   P01,     8,  1,     36,     109,2,20110519,0240,0609, 41.6892, 146.4967, 6336,     10.8,       11,   7.4070,  33.3736,2,    311.2,2,  33.3760,2,   311.08,2,    13.94,2,    10.50,2,     0.18,2,    0.980,2,     -999,5,     -999,5,-999,9,-999,9,   2075.4,2,   2250.5,2,   7.8294,2,    25.00,     0.73,2,     0.12,2,   7.4067,2
  49UP20110515,   P01,     8,  1,     35,     108,2,20110519,0240,0605, 41.6892, 146.4967, 6336,     51.7,       51,   6.5633,  33.3843,2,    311.0,2,     -999,9,   311.75,2,    12.64,2,    11.01,2,     0.21,2,    1.030,2,    4.471,2,    2.392,2,-999,9,-999,9,   2078.2,6,   2255.1,6,   7.8227,2,    25.00,     0.74,2,     0.27,2,   6.5625,2
  49UP20110515,   P01,     8,  1,     34,     107,2,20110519,0240,0601, 41.6892, 146.4967, 6336,    103.2,      102,   3.4789,  33.3669,2,    280.5,2,  33.3760,4,   280.29,2,    40.11,6,    22.56,6,     0.03,6,    1.760,6,    4.692,2,    2.548,2,-999,9,-999,9,   2155.5,2,   2251.6,2,   7.6394,2,    25.00,     0.04,2,     0.11,2,   3.4865,2
  49UP20110515,   P01,     8,  1,     33,     106,2,20110519,0240,0557, 41.6892, 146.4967, 6336,    152.8,      152,   3.0855,  33.4647,2,    229.0,2,     -999,9,   227.06,6,    57.05,2,    28.69,2,     0.02,2,    2.190,2,    4.273,2,    2.301,2,-999,9,-999,9,   2204.2,2,   2266.1,2,   7.5249,2,    25.00,     0.03,2,     0.12,2,   3.0889,2
  49UP20110515,   P01,     8,  1,     32,     105,2,20110519,0240,0555, 41.6892, 146.4967, 6336,    204.0,      202,   2.8921,  33.5654,2,    179.1,2,  33.5629,6,   177.47,2,    70.00,2,    33.08,2,     0.02,2,    2.480,2,    3.797,2,    2.024,2,-999,9,-999,9,   2249.9,2,   2272.0,2,   7.4361,2,    25.00,     0.03,2,     0.13,2,   2.8941,2
  49UP20110515,   P01,     8,  1,     31,     104,2,20110519,0240,0554, 41.6892, 146.4967, 6336,    255.8,      254,   2.6341,  33.6454,2,    140.6,2,     -999,9,   138.36,2,    82.15,2,    36.64,2,     0.01,2,    2.710,2,    3.407,2,    1.806,2,-999,9,-999,9,   2272.4,2,   2283.5,2,   7.3647,2,    25.00,     -999,9,     -999,9,   2.6382,2
  49UP20110515,   P01,     8,  1,     30,     103,2,20110519,0240,0551, 41.6892, 146.4967, 6336,    334.6,      332,   3.0451,  33.8264,2,     86.8,2,  33.8245,2,    86.87,2,    96.27,6,    39.96,6,     0.01,6,    2.910,6,    2.609,6,    1.324,6,-999,9,-999,9,   2303.9,2,   2301.9,2,   7.3077,2,    25.00,     -999,9,     -999,9,   3.0401,2
  49UP20110515,   P01,     8,  1,     29,     102,2,20110519,0240,0548, 41.6892, 146.4967, 6336,    436.7,      433,   3.6085,  34.0320,2,     61.1,2,  34.0233,4,    59.54,2,   105.71,2,    40.94,2,     0.01,2,    2.960,2,    1.762,2,    0.857,2,-999,9,-999,9,   2324.0,2,   2319.0,2,   7.3072,2,    25.00,     -999,9,     -999,9,   3.6076,2
  49UP20110515,   P01,     8,  1,     28,     101,4,20110519,0240,0545, 41.6892, 146.4967, 6336,    537.7,      533,   4.0506,  34.2066,2,     56.7,2,     -999,9,   154.57,4,   149.38,4,    35.95,4,     0.00,4,    2.500,4,    0.000,4,    0.017,4,-999,9,-999,9,   2325.6,4,   2416.2,4,   7.5656,4,    25.00,     -999,9,     -999,9,   4.0489,2
  49UP20110515,   P01,     8,  1,     27,     100,2,20110519,0240,0538, 41.6892, 146.4967, 6336,    638.5,      633,   3.7713,  34.2767,2,     49.6,2,  34.2744,6,    49.53,2,   118.22,2,    40.76,2,     0.01,2,    2.940,2,    0.682,2,    0.301,2,-999,9,-999,9,   2335.4,2,   2350.4,2,   7.3502,3,    25.00,     -999,9,     -999,9,   3.7721,2
  49UP20110515,   P01,     8,  1,     26,      99,2,20110519,0240,0533, 41.6892, 146.4967, 6336,    738.6,      732,   3.3050,  34.2918,2,     39.2,2,     -999,9,    38.96,6,   129.92,2,    42.26,2,     0.00,2,    3.030,2,    0.590,2,    0.262,2,-999,9,-999,9,   2355.7,2,   2358.2,2,   7.3212,2,    25.00,     -999,9,     -999,9,   3.3051,2
  49UP20110515,   P01,     8,  1,     25,      98,2,20110519,0240,0530, 41.6892, 146.4967, 6336,    841.4,      833,   3.0104,  34.3319,2,     35.6,2,  34.3297,6,    35.25,2,   139.24,2,    42.79,2,     0.00,2,    3.070,2,    0.468,2,    0.212,2,-999,9,-999,9,   2361.0,2,   2366.9,2,   7.3177,2,    25.00,     -999,9,     -999,9,   3.0105,2
  49UP20110515,   P01,     8,  1,     24,      97,2,20110519,0240,0527, 41.6892, 146.4967, 6336,    943.7,      934,   2.9357,  34.3891,2,     38.1,2,     -999,9,    37.98,2,   142.27,2,    42.71,2,     0.00,2,    3.050,2,    0.271,2,    0.117,2,-999,9,-999,9,   2366.1,2,   2375.6,2,   7.3347,6,    25.00,     -999,9,     -999,9,   2.9359,2
  49UP20110515,   P01,     8,  1,     23,      96,4,20110519,0240,0523, 41.6892, 146.4967, 6336,   1082.9,     1072,   2.6952,  34.4284,2,     39.4,2,     -999,9,     -999,9,     -999,9,     -999,9,     -999,9,     -999,9,     -999,9,     -999,9,-999,9,-999,9,     -999,9,     -999,9,     -999,9,     -999,     -999,9,     -999,9,   2.6926,2
  49UP20110515,   P01,     8,  1,     22,      95,2,20110519,0240,0513, 41.6892, 146.4967, 6336,   1287.1,     1273,   2.4385,  34.4838,2,     43.2,2,  34.4834,2,    42.97,2,   157.19,2,    42.88,2,     0.00,2,    3.080,2,    0.144,2,    0.056,2,-999,9,-999,9,   2376.3,2,   2391.4,6,   7.3541,2,    25.00,     -999,9,     -999,9,   2.4386,2
  49UP20110515,   P01,     8,  1,     21,      94,3,20110519,0240,0507, 41.6892, 146.4967, 6336,   1487.7,     1471,   2.2649,  34.5207,2,     49.5,2,  34.5195,2,    49.38,2,   161.22,2,    42.45,2,     0.00,2,    3.020,2,    0.069,2,    0.026,2,-999,9,-999,9,   2376.0,2,   2399.1,2,   7.3700,2,    25.00,     -999,9,     -999,9,   2.2647,2
  49UP20110515,   P01,     8,  1,     20,      93,2,20110519,0240,0459, 41.6892, 146.4967, 6336,   1690.8,     1671,   2.1116,  34.5566,2,     59.3,2,  34.5560,2,    58.88,2,   163.67,2,    41.97,2,     0.00,2,    2.970,2,    0.014,2,    0.014,2,-999,9,-999,9,   2376.2,2,   2403.9,2,   7.3920,2,    25.00,     -999,9,     -999,9,   2.1117,2
  49UP20110515,   P01,     8,  1,     19,      92,2,20110519,0240,0453, 41.6892, 146.4967, 6336,   1894.7,     1871,   1.9989,  34.5829,2,     69.3,2,  34.5833,2,    69.36,2,   163.87,2,    41.44,2,     0.00,2,    2.920,2,    0.005,2,    0.000,2,-999,9,-999,9,   2374.2,2,   2408.2,2,   7.4149,2,    25.00,     -999,9,     -999,9,   1.9991,2
  49UP20110515,   P01,     8,  1,     18,      91,2,20110519,0240,0446, 41.6892, 146.4967, 6336,   2099.4,     2073,   1.8837,  34.6045,2,     80.2,2,  34.6042,2,    80.52,2,   164.52,2,    40.65,2,     0.00,2,    2.850,3,    0.000,2,    0.010,2,-999,9,-999,9,   2374.4,2,   2412.7,2,   7.4355,2,    25.00,     -999,9,     -999,9,   1.8839,2
  49UP20110515,   P01,     8,  1,     17,      90,2,20110519,0240,0436, 41.6892, 146.4967, 6336,   2302.6,     2272,   1.7872,  34.6230,2,     93.1,2,  34.6242,2,    93.04,2,   163.20,6,    39.95,6,     0.00,6,    2.810,6,    0.000,2,    0.003,2,-999,9,-999,9,   2369.5,2,   2411.3,3,   7.4644,2,    25.00,     -999,9,     -999,9,   1.7875,2
  49UP20110515,   P01,     8,  1,     16,      89,2,20110519,0240,0430, 41.6892, 146.4967, 6336,   2504.8,     2470,   1.7046,  34.6371,2,    103.6,2,  34.6378,2,   104.14,2,   162.54,2,    39.27,2,     0.00,2,    2.750,2,    0.000,2,    0.000,2,-999,9,-999,9,   2353.2,2,   2416.2,2,   7.4839,2,    25.00,     -999,9,     -999,9,   1.7045,2
  49UP20110515,   P01,     8,  1,     15,      88,2,20110519,0240,0422, 41.6892, 146.4967, 6336,   2710.6,     2672,   1.6396,  34.6485,2,    113.5,2,  34.6489,2,   113.93,2,   160.51,2,    38.66,2,     0.00,2,    2.710,2,     -999,9,     -999,9,-999,9,-999,9,   2347.6,2,   2415.4,2,   7.5012,2,    25.00,     -999,9,     -999,9,   1.6396,2
  49UP20110515,   P01,     8,  1,     14,      87,2,20110519,0240,0415, 41.6892, 146.4967, 6336,   2914.6,     2872,   1.5938,  34.6568,2,    121.1,2,  34.6569,2,   121.45,2,   159.09,2,    38.17,2,     0.00,2,    2.670,2,     -999,9,     -999,9,-999,9,-999,9,   2341.6,2,   2415.8,2,   7.5149,2,    25.00,     -999,9,     -999,9,   1.5939,2
  49UP20110515,   P01,     8,  1,     13,      86,2,20110519,0240,0408, 41.6892, 146.4967, 6336,   3129.7,     3082,   1.5564,  34.6637,2,    128.4,2,  34.6627,6,   128.48,2,   157.14,2,    37.58,2,     0.00,2,    2.630,2,    0.000,2,    0.000,2,-999,9,-999,9,   2340.0,2,   2416.8,2,   7.5276,2,    25.00,     -999,9,     -999,9,   1.5564,2
  49UP20110515,   P01,     8,  1,     12,      85,2,20110519,0240,0359, 41.6892, 146.4967, 6336,   3383.2,     3330,   1.5301,  34.6695,2,    134.1,2,  34.6695,2,   134.31,2,   155.95,2,    37.21,2,     0.00,2,    2.600,2,     -999,9,     -999,9,-999,9,-999,9,   2335.4,2,   2415.4,2,   7.5364,2,    25.00,     -999,9,     -999,9,   1.5303,2
  49UP20110515,   P01,     8,  1,     11,     110,2,20110519,0240,0353, 41.6892, 146.4967, 6336,   3639.6,     3580,   1.5042,  34.6751,2,    140.6,2,  34.6751,2,   140.63,6,   154.10,2,    36.84,2,     0.00,2,    2.570,2,     -999,9,     -999,9,-999,9,-999,9,   2334.5,2,   2415.7,2,   7.5485,2,    25.00,     -999,9,     -999,9,   1.5042,2
  49UP20110515,   P01,     8,  1,     10,      83,2,20110519,0240,0343, 41.6892, 146.4967, 6336,   3896.7,     3831,   1.5076,  34.6778,2,    143.5,2,  34.6778,2,   143.77,2,   153.64,2,    36.66,2,     0.00,2,    2.550,2,     -999,9,     -999,9,-999,9,-999,9,   2333.0,2,   2415.5,2,   7.5541,2,    25.00,     -999,9,     -999,9,   1.5077,2
  49UP20110515,   P01,     8,  1,      9,      82,2,20110519,0240,0338, 41.6892, 146.4967, 6336,   4153.6,     4081,   1.4913,  34.6823,2,    149.1,2,  34.6819,6,   149.59,2,   152.00,2,    36.21,2,     0.00,2,    2.520,2,    0.000,2,    0.002,2,-999,9,-999,9,   2331.8,2,   2414.0,2,   7.5619,2,    25.00,     -999,9,     -999,9,   1.4912,2
  49UP20110515,   P01,     8,  1,      8,      81,2,20110519,0240,0329, 41.6892, 146.4967, 6336,   4411.3,     4332,   1.4902,  34.6853,2,    153.0,2,  34.6854,2,   153.17,2,   150.81,2,    36.01,2,     0.00,2,    2.500,2,     -999,9,     -999,9,-999,9,-999,9,   2326.5,2,   2411.3,2,   7.5707,2,    25.00,     -999,9,     -999,9,   1.4900,2
  49UP20110515,   P01,     8,  1,      7,      80,2,20110519,0240,0323, 41.6892, 146.4967, 6336,   4666.8,     4580,   1.5033,  34.6872,2,    155.7,2,  34.6872,2,   155.59,2,   149.34,6,    35.89,6,     0.00,6,    2.490,6,     -999,9,     -999,9,-999,9,-999,9,   2317.1,2,   2410.9,2,   7.5722,6,    25.00,     -999,9,     -999,9,   1.5033,2
  49UP20110515,   P01,     8,  1,      6,      79,2,20110519,0240,0315, 41.6892, 146.4967, 6336,   4925.1,     4831,   1.5259,  34.6882,2,    156.9,2,  34.6889,2,   156.86,2,   148.52,2,    35.81,2,     0.00,2,    2.480,2,     -999,9,     -999,9,-999,9,-999,9,   2316.7,2,   2412.6,2,   7.5739,2,    25.00,     -999,9,     -999,9,   1.5260,2
  49UP20110515,   P01,     8,  1,      5,      78,2,20110519,0240,0315, 41.6892, 146.4967, 6336,   4925.1,     4831,   1.5259,  34.6882,2,    156.9,2,  34.6877,2,   156.72,2,   148.68,2,    35.81,2,     0.00,2,    2.480,2,     -999,9,     -999,9,-999,9,-999,9,   2315.7,2,   2412.2,2,   7.5745,2,    25.00,     -999,9,     -999,9,   1.5260,2
  49UP20110515,   P01,     8,  1,      4,      77,2,20110519,0240,0308, 41.6892, 146.4967, 6336,   5185.1,     5083,   1.5413,  34.6899,2,    158.8,2,  34.6896,6,   158.79,2,   148.68,2,    35.61,2,     0.00,2,    2.470,2,     -999,9,     -999,9,-999,9,-999,9,   2314.4,2,   2411.2,2,   7.5759,2,    25.00,     -999,9,     -999,9,   1.5414,2
  49UP20110515,   P01,     8,  1,      3,      76,2,20110519,0240,0300, 41.6892, 146.4967, 6336,   5441.0,     5331,   1.5612,  34.6915,2,    161.0,2,  34.6912,6,   160.97,2,   146.98,2,    35.54,2,     0.00,2,    2.460,2,     -999,9,     -999,9,-999,9,-999,9,   2315.8,2,   2413.2,2,   7.5793,2,    25.00,     -999,9,     -999,9,   1.5613,2
  49UP20110515,   P01,     8,  1,      2,      75,2,20110519,0240,0251, 41.6892, 146.4967, 6336,   5699.9,     5581,   1.5853,  34.6926,2,    162.7,2,  34.6924,2,   162.75,2,   145.57,2,    35.40,2,     0.00,2,    2.450,2,    0.000,2,    0.000,2,-999,9,-999,9,   2317.3,2,   2409.3,2,   7.5801,2,    25.00,     -999,9,     -999,9,   1.5852,2
  49UP20110515,   P01,     8,  1,      1,      74,2,20110519,0240,0240, 41.6892, 146.4967, 6336,   6148.4,     6015,   1.6441,  34.6930,2,    163.2,2,  34.6925,2,   164.07,2,   144.74,2,    35.40,2,     0.00,2,    2.440,2,    0.000,2,    0.000,2,-999,9,-999,9,   2310.6,2,   2408.6,2,   7.5777,2,    25.00,     -999,9,     -999,9,   1.6440,2