BOTTLE,20240116CCHSIOVAJ
EXPOCODE,SECT_ID,STNNBR,CASTNO,SAMPNO,BTLNBR,BTLNBR_FLAG_W,DATE,TIME,BTL_TIME,LATITUDE,LONGITUDE,DEPTH,CTDPRS,CTDDEPTH,CTDTMP,CTDSAL,CTDSAL_FLAG_W,CTDOXY,CTDOXY_FLAG_W,SALNTY,SALNTY_FLAG_W,OXYGEN,OXYGEN_FLAG_W,SILCAT,SILCAT_FLAG_W,NO2+NO3,NO2+NO3_FLAG_W,NITRIT,NITRIT_FLAG_W,PHSPHT,PHSPHT_FLAG_W,CFC-11,CFC-11_FLAG_W,CFC-12,CFC-12_FLAG_W,DELC14,DELC14_FLAG_W,DELC13,DELC13_FLAG_W,TCARBN,TCARBN_FLAG_W,ALKALI,ALKALI_FLAG_W,PH_TOT,PH_TOT_FLAG_W,PH_TMP,CHLORA,CHLORA_FLAG_W,PPHYTN,PPHYTN_FLAG_W,REFTMP,REFTMP_FLAG_W
,,,,,,,,,,,,METERS,DBAR,METERS,ITS-90,PSS-78,,UMOL/KG,,PSS-78,,UMOL/KG,,UMOL/KG,,UMOL/KG,,UMOL/KG,,UMOL/KG,,PMOL/KG,,PMOL/KG,,/MILLE,,/MILLE,,UMOL/KG,,UMOL/KG,,,,DEG C,UG/KG,,UG/KG,,ITS-90,
  49UP20110515,   P01,    11,  1,      0,     BUC,2,20110519,2331,0150, 40.6807, 147.1787, 5304,      0.0,        0,   6.6071,  33.0117,2,    333.3,2,     -999,9,   332.55,2,     1.54,2,     9.94,2,     0.17,2,    1.000,2,     -999,9,     -999,9,-999,9,-999,9,     -999,9,     -999,9,     -999,9,     -999,     0.94,2,     0.07,2,     -999,9
  49UP20110515,   P01,    11,  1,     36,     109,2,20110519,2331,0211, 40.6807, 147.1787, 5304,     11.2,       11,   6.2424,  33.0118,2,    336.7,2,  33.0121,2,   338.29,2,     1.93,2,    10.03,2,     0.18,2,    1.020,2,    5.271,2,    2.869,2,-999,9,-999,9,   2043.6,2,   2237.7,2,   7.8449,2,    25.00,     1.13,2,     0.08,2,   6.2640,2
  49UP20110515,   P01,    11,  1,     35,     108,2,20110519,2331,0205, 40.6807, 147.1787, 5304,     50.8,       50,   4.2157,  33.0361,2,    329.4,2,     -999,9,   330.45,2,    24.50,2,    16.03,2,     0.28,2,    1.440,2,    5.482,2,    2.992,2,-999,9,-999,9,   2089.8,2,   2233.9,2,   7.7393,6,    25.00,     0.63,2,     0.27,2,   4.2122,2
  49UP20110515,   P01,    11,  1,     34,     107,2,20110519,2331,0203, 40.6807, 147.1787, 5304,    101.2,      100,   1.8487,  33.2314,2,    277.9,2,  33.2349,2,   278.70,2,    51.17,6,    27.37,6,     0.05,6,    2.130,6,    5.312,2,    2.892,2,-999,9,-999,9,   2158.3,2,   2240.7,2,   7.5610,2,    25.00,     0.06,2,     0.13,2,   1.8490,2
  49UP20110515,   P01,    11,  1,     33,     106,2,20110519,2331,0200, 40.6807, 147.1787, 5304,    151.4,      150,   2.5456,  33.5170,2,    179.7,2,  33.5151,2,   179.46,4,    70.93,2,    33.99,2,     0.02,2,    2.530,2,    4.121,2,    2.220,2,-999,9,-999,9,   2223.3,2,   2264.0,2,   7.4143,2,    25.00,     0.06,2,     0.12,2,   2.5446,2
  49UP20110515,   P01,    11,  1,     32,     105,2,20110519,2331,0200, 40.6807, 147.1787, 5304,    151.4,      150,   2.5456,  33.5170,2,    179.7,2,  33.5152,2,   178.47,2,    70.83,2,    33.91,2,     0.02,2,    2.540,2,    4.128,2,    2.230,2,-999,9,-999,9,   2227.5,2,   2265.1,2,   7.4234,3,    25.00,     -999,9,     -999,9,   2.5446,2
  49UP20110515,   P01,    11,  1,     31,     104,2,20110519,2331,0158, 40.6807, 147.1787, 5304,    202.6,      201,   2.7558,  33.6547,2,    127.3,2,  33.6616,4,   125.06,6,    83.90,2,    38.00,2,     0.01,2,    2.780,2,    3.418,2,    1.826,2,-999,9,-999,9,   2270.0,2,   2277.8,2,   7.3419,2,    25.00,     0.04,2,     0.12,2,   2.7558,2
  49UP20110515,   P01,    11,  1,     30,     103,2,20110519,2331,0157, 40.6807, 147.1787, 5304,    253.1,      251,   2.9706,  33.7693,2,     95.3,2,     -999,9,    94.12,2,    92.61,2,    39.95,2,     0.01,2,    2.890,2,    2.921,6,    1.527,6,-999,9,-999,9,   2279.9,2,   2287.2,2,   7.3014,2,    25.00,     -999,9,     -999,9,   2.9704,2
  49UP20110515,   P01,    11,  1,     29,     102,2,20110519,2331,0155, 40.6807, 147.1787, 5304,    334.1,      331,   3.1585,  33.9165,2,     64.9,2,  33.9155,2,    64.39,2,   103.87,6,    41.56,6,     0.01,6,    2.990,6,    2.217,2,    1.125,2,-999,9,-999,9,   2317.2,2,   2303.2,2,   7.2815,2,    25.00,     -999,9,     -999,9,   3.1587,2
  49UP20110515,   P01,    11,  1,     28,     101,2,20110519,2331,0151, 40.6807, 147.1787, 5304,    434.5,      431,   3.3304,  34.0716,2,     42.3,2,  34.0730,6,    41.39,6,   115.40,2,    42.49,2,     0.00,2,    3.050,2,    1.486,2,    0.727,2,-999,9,-999,9,   2329.7,2,   2322.8,2,   7.2741,2,    25.00,     -999,9,     -999,9,   3.3304,2
  49UP20110515,   P01,    11,  1,     27,     100,2,20110519,2331,0149, 40.6807, 147.1787, 5304,    536.2,      531,   3.2728,  34.1729,2,     34.8,2,     -999,9,    35.97,2,   124.12,2,    42.86,2,     0.00,2,    3.060,2,    1.047,6,    0.500,6,-999,9,-999,9,   2347.8,2,   2333.5,2,   7.2875,2,    25.00,     -999,9,     -999,9,   3.2724,2
  49UP20110515,   P01,    11,  1,     26,      99,3,20110519,2331,0147, 40.6807, 147.1787, 5304,    637.1,      631,   3.1365,  34.2458,2,     31.6,2,  34.2468,2,    31.26,2,   132.04,2,    43.04,2,     0.00,2,    3.080,2,    0.782,2,    0.361,2,-999,9,-999,9,   2351.1,2,   2345.2,2,   7.2911,2,    25.00,     -999,9,     -999,9,   3.1367,2
  49UP20110515,   P01,    11,  1,     25,      98,2,20110519,2331,0141, 40.6807, 147.1787, 5304,    738.8,      732,   2.9867,  34.3106,2,     34.3,2,     -999,9,    34.06,2,   138.16,2,    42.85,2,     0.00,2,    3.060,2,    0.555,2,    0.255,2,-999,9,-999,9,   2360.7,2,   2356.0,2,   7.3118,2,    25.00,     -999,9,     -999,9,   2.9879,2
  49UP20110515,   P01,    11,  1,     24,      97,2,20110519,2331,0137, 40.6807, 147.1787, 5304,    840.0,      832,   2.8984,  34.3639,2,     36.8,2,  34.3627,2,    36.75,2,   142.36,2,    42.55,2,     0.00,2,    3.050,2,    0.380,2,    0.177,2,-999,9,-999,9,   2358.9,2,   2363.4,2,   7.3256,6,    25.00,     -999,9,     -999,9,   2.8980,2
  49UP20110515,   P01,    11,  1,     23,      96,2,20110519,2331,0135, 40.6807, 147.1787, 5304,    940.4,      931,   2.7044,  34.4016,2,     36.6,2,  34.4013,6,    36.45,6,   148.42,2,    42.82,2,     0.00,2,    3.060,2,    0.313,2,    0.152,2,-999,9,-999,9,   2363.6,2,   2371.1,2,   7.3302,2,    25.00,     -999,9,     -999,9,   2.7048,2
  49UP20110515,   P01,    11,  1,     22,      95,2,20110519,2331,0130, 40.6807, 147.1787, 5304,   1082.4,     1071,   2.6031,  34.4573,2,     41.2,2,  34.4565,2,    40.76,2,   150.96,2,    42.69,2,     0.00,2,    3.050,2,    0.169,2,    0.076,2,-999,9,-999,9,   2367.0,6,   2381.7,6,   7.3425,2,    25.00,     -999,9,     -999,9,   2.6030,2
  49UP20110515,   P01,    11,  1,     21,      94,3,20110519,2331,0124, 40.6807, 147.1787, 5304,   1285.3,     1271,   2.3461,  34.5009,2,     45.9,2,  34.5002,2,    44.43,4,   158.53,2,    42.55,2,     0.00,2,    3.030,2,    0.090,2,    0.041,2,-999,9,-999,9,   2374.0,2,   2389.7,2,   7.3584,2,    25.00,     -999,9,     -999,9,   2.3461,2
  49UP20110515,   P01,    11,  1,     20,      93,2,20110519,2331,0118, 40.6807, 147.1787, 5304,   1487.4,     1471,   2.1937,  34.5416,2,     53.8,2,  34.5409,2,    53.29,2,   161.27,2,    42.34,2,     0.00,2,    3.000,2,    0.029,2,    0.014,2,-999,9,-999,9,   2365.2,2,   2396.9,2,   7.3809,2,    25.00,     -999,9,     -999,9,   2.1937,2
  49UP20110515,   P01,    11,  1,     19,      92,3,20110519,2331,0112, 40.6807, 147.1787, 5304,   1691.5,     1672,   2.0449,  34.5722,2,     64.4,2,  34.5671,4,    64.69,4,   162.59,2,    41.54,2,     0.00,2,    2.940,2,    0.011,2,    0.002,2,-999,9,-999,9,   2366.1,2,   2400.0,2,   7.4049,2,    25.00,     -999,9,     -999,9,   2.0451,2
  49UP20110515,   P01,    11,  1,     18,      91,2,20110519,2331,0112, 40.6807, 147.1787, 5304,   1691.5,     1672,   2.0449,  34.5722,2,     64.4,2,  34.5716,2,    63.99,2,   162.64,2,    41.64,2,     0.00,2,    2.920,2,    0.007,2,    0.005,2,-999,9,-999,9,   2370.8,3,   2400.5,2,   7.4040,2,    25.00,     -999,9,     -999,9,   2.0451,2
  49UP20110515,   P01,    11,  1,     17,      90,2,20110519,2331,0104, 40.6807, 147.1787, 5304,   1894.4,     1871,   1.9228,  34.5960,2,     75.9,2,  34.5964,2,    75.61,2,   163.18,6,    41.01,6,     0.00,6,    2.880,6,    0.000,2,    0.004,2,-999,9,-999,9,   2356.2,2,   2403.5,2,   7.4279,2,    25.00,     -999,9,     -999,9,   1.9227,2
  49UP20110515,   P01,    11,  1,     16,      89,2,20110519,2331,0100, 40.6807, 147.1787, 5304,   2098.7,     2072,   1.8091,  34.6167,2,     88.8,2,  34.6177,2,    88.89,2,   162.73,2,    40.19,2,     0.00,2,    2.820,2,    0.000,2,    0.000,2,-999,9,-999,9,   2351.8,2,   2408.1,2,   7.4549,2,    25.00,     -999,9,     -999,9,   1.8091,2
  49UP20110515,   P01,    11,  1,     15,      88,2,20110519,2331,0054, 40.6807, 147.1787, 5304,   2301.6,     2271,   1.7035,  34.6344,2,    101.4,2,  34.6345,2,   101.22,2,   161.59,2,    39.38,2,     0.00,2,    2.770,2,    0.000,2,    0.000,2,-999,9,-999,9,   2351.4,2,   2410.0,2,   7.4769,2,    25.00,     -999,9,     -999,9,   1.7034,2
  49UP20110515,   P01,    11,  1,     14,      87,2,20110519,2331,0054, 40.6807, 147.1787, 5304,   2301.6,     2271,   1.7035,  34.6344,2,    101.4,2,  34.6344,2,   101.40,2,   161.45,2,    39.40,2,     0.00,2,    2.770,2,    0.000,2,    0.000,2,-999,9,-999,9,   2349.8,2,   2410.8,2,   7.4775,2,    25.00,     -999,9,     -999,9,   1.7034,2
  49UP20110515,   P01,    11,  1,     13,      86,2,20110519,2331,0046, 40.6807, 147.1787, 5304,   2505.8,     2472,   1.6375,  34.6457,2,    110.6,2,  34.6453,2,   110.74,2,   160.34,2,    38.71,2,     0.00,2,    2.720,2,    0.027,2,    0.015,2,-999,9,-999,9,   2343.4,2,   2411.8,2,   7.4950,2,    25.00,     -999,9,     -999,9,   1.6375,2
  49UP20110515,   P01,    11,  1,     12,      85,2,20110519,2331,0040, 40.6807, 147.1787, 5304,   2709.5,     2671,   1.5883,  34.6545,2,    118.6,2,  34.6541,2,   118.51,2,   158.77,2,    38.37,2,     0.00,2,    2.670,2,     -999,9,     -999,9,-999,9,-999,9,   2338.1,2,   2413.1,2,   7.5110,6,    25.00,     -999,9,     -999,9,   1.5882,2
  49UP20110515,   P01,    11,  1,     11,     110,2,20110519,2331,0034, 40.6807, 147.1787, 5304,   2915.0,     2873,   1.5496,  34.6613,2,    125.3,2,  34.6610,2,   125.25,2,   157.79,2,    37.90,2,     0.00,2,    2.650,2,     -999,9,     -999,9,-999,9,-999,9,   2328.6,6,   2414.1,2,   7.5229,2,    25.00,     -999,9,     -999,9,   1.5495,2
  49UP20110515,   P01,    11,  1,     10,      83,2,20110519,2331,0028, 40.6807, 147.1787, 5304,   3128.4,     3081,   1.5200,  34.6672,2,    131.2,2,  34.6669,2,   131.11,2,   156.55,6,    37.52,6,     0.00,6,    2.620,6,     -999,9,     -999,9,-999,9,-999,9,   2337.4,3,   2414.8,2,   7.5338,2,    25.00,     -999,9,     -999,9,   1.5199,2
  49UP20110515,   P01,    11,  1,      9,      82,2,20110519,2331,0023, 40.6807, 147.1787, 5304,   3384.5,     3332,   1.4950,  34.6727,2,    137.5,2,  34.6723,2,   137.18,2,   154.87,2,    37.04,2,     0.00,2,    2.580,2,     -999,9,     -999,9,-999,9,-999,9,   2329.3,2,   2416.1,2,   7.5424,2,    25.00,     -999,9,     -999,9,   1.4949,2
  49UP20110515,   P01,    11,  1,      8,      81,2,20110519,2331,0016, 40.6807, 147.1787, 5304,   3640.9,     3582,   1.4752,  34.6777,2,    143.1,2,  34.6774,6,   142.48,6,   153.49,2,    36.80,2,     0.00,2,    2.550,2,     -999,9,     -999,9,-999,9,-999,9,   2322.4,2,   2415.2,2,   7.5516,2,    25.00,     -999,9,     -999,9,   1.4752,2
  49UP20110515,   P01,    11,  1,      7,      80,2,20110519,2331,0010, 40.6807, 147.1787, 5304,   3896.5,     3831,   1.4646,  34.6815,2,    148.0,2,  34.6810,2,   147.63,2,   152.38,2,    36.51,2,     0.00,2,    2.530,2,    0.000,2,    0.000,2,-999,9,-999,9,   2319.1,2,   2414.3,2,   7.5606,2,    25.00,     -999,9,     -999,9,   1.4645,2
  49UP20110515,   P01,    11,  1,      6,      79,2,20110519,2331,0003, 40.6807, 147.1787, 5304,   4153.3,     4081,   1.4599,  34.6850,2,    152.3,2,  34.6857,2,   151.98,2,   151.31,2,    36.11,2,     0.00,2,    2.510,2,     -999,9,     -999,9,-999,9,-999,9,   2317.8,2,   2412.9,2,   7.5673,2,    25.00,     -999,9,     -999,9,   1.4597,2
  49UP20110515,   P01,    11,  1,      5,      78,2,20110519,2331,2355, 40.6807, 147.1787, 5304,   4411.1,     4332,   1.4667,  34.6874,2,    155.4,2,  34.6876,2,   155.11,2,   150.23,2,    35.90,2,     0.00,2,    2.500,2,     -999,9,     -999,9,-999,9,-999,9,   2303.7,3,   2414.1,2,   7.5718,2,    25.00,     -999,9,     -999,9,   1.4667,2
  49UP20110515,   P01,    11,  1,      4,      77,2,20110519,2331,2350, 40.6807, 147.1787, 5304,   4666.1,     4580,   1.4824,  34.6890,2,    156.9,2,  34.6892,2,   156.74,2,   150.65,2,    35.76,2,     0.00,2,    2.490,2,     -999,9,     -999,9,-999,9,-999,9,   2321.8,3,   2413.5,2,   7.5748,2,    25.00,     -999,9,     -999,9,   1.4823,2
  49UP20110515,   P01,    11,  1,      3,      76,2,20110519,2331,2342, 40.6807, 147.1787, 5304,   4924.3,     4831,   1.5032,  34.6902,2,    158.5,2,  34.6900,2,   158.41,2,   149.89,2,    35.76,2,     0.00,2,    2.480,2,     -999,9,     -999,9,-999,9,-999,9,   2309.2,2,   2411.6,2,   7.5758,2,    25.00,     -999,9,     -999,9,   1.5031,2
  49UP20110515,   P01,    11,  1,      2,      75,2,20110519,2331,2337, 40.6807, 147.1787, 5304,   5181.7,     5080,   1.5273,  34.6911,2,    159.7,2,  34.6920,2,   159.72,2,   149.59,2,    35.66,2,     0.00,2,    2.460,2,    0.010,2,    0.008,2,-999,9,-999,9,   2313.0,2,   2410.1,2,   7.5755,2,    25.00,     -999,9,     -999,9,   1.5272,2
  49UP20110515,   P01,    11,  1,      1,      74,2,20110519,2331,2331, 40.6807, 147.1787, 5304,   5400.0,     5292,   1.5480,  34.6920,2,    161.0,2,  34.6919,2,   175.07,4,   148.08,2,    35.51,2,     0.00,2,    2.460,2,    0.000,2,    0.000,2,-999,9,-999,9,   2314.9,2,   2410.9,2,   7.5735,2,    25.00,     -999,9,     -999,9,   1.5478,2