BOTTLE,20240116CCHSIOVAJ
EXPOCODE,SECT_ID,STNNBR,CASTNO,SAMPNO,BTLNBR,BTLNBR_FLAG_W,DATE,TIME,BTL_TIME,LATITUDE,LONGITUDE,DEPTH,CTDPRS,CTDDEPTH,CTDTMP,CTDSAL,CTDSAL_FLAG_W,CTDOXY,CTDOXY_FLAG_W,SALNTY,SALNTY_FLAG_W,OXYGEN,OXYGEN_FLAG_W,SILCAT,SILCAT_FLAG_W,NO2+NO3,NO2+NO3_FLAG_W,NITRIT,NITRIT_FLAG_W,PHSPHT,PHSPHT_FLAG_W,CFC-11,CFC-11_FLAG_W,CFC-12,CFC-12_FLAG_W,DELC14,DELC14_FLAG_W,DELC13,DELC13_FLAG_W,TCARBN,TCARBN_FLAG_W,ALKALI,ALKALI_FLAG_W,PH_TOT,PH_TOT_FLAG_W,PH_TMP,CHLORA,CHLORA_FLAG_W,PPHYTN,PPHYTN_FLAG_W,REFTMP,REFTMP_FLAG_W
,,,,,,,,,,,,METERS,DBAR,METERS,ITS-90,PSS-78,,UMOL/KG,,PSS-78,,UMOL/KG,,UMOL/KG,,UMOL/KG,,UMOL/KG,,UMOL/KG,,PMOL/KG,,PMOL/KG,,/MILLE,,/MILLE,,UMOL/KG,,UMOL/KG,,,,DEG C,UG/KG,,UG/KG,,ITS-90,
  49UP20110515,   P13,    75,  1,      0,     BUC,2,20110716,0412,0608, 26.0035, 164.9890, 5752,      0.0,        0,  29.4554,  35.5003,2,    197.7,2,     -999,9,   196.81,2,     0.82,2,     0.00,2,     0.00,2,    0.010,2,     -999,9,     -999,9,-999,9,-999,9,     -999,9,     -999,9,     -999,9,     -999,     0.04,2,     0.01,2,     -999,9
  49UP20110515,   P13,    75,  1,     36,     109,2,20110716,0412,0623, 26.0035, 164.9890, 5752,     10.4,       10,  29.1798,  35.4935,2,    198.1,2,  35.4916,2,   197.75,2,     0.91,2,     0.01,2,     0.00,2,    0.010,2,    1.688,3,    1.044,2,39.0,2,0.9,2,   1989.5,2,   2328.6,3,   8.0940,2,    25.00,     0.04,2,     0.01,2,  29.1812,2
  49UP20110515,   P13,    75,  1,     35,     108,2,20110716,0412,0619, 26.0035, 164.9890, 5752,     51.1,       51,  24.5724,  35.4143,2,    222.2,2,  35.4113,2,   221.21,2,     1.10,2,     0.00,2,     0.00,2,    0.010,2,    2.240,3,    1.251,2,54.6,2,0.8,2,   1995.0,2,   2322.7,3,   8.0821,2,    25.00,     0.07,2,     0.02,2,  24.5776,2
  49UP20110515,   P13,    75,  1,     34,     107,2,20110716,0412,0617, 26.0035, 164.9890, 5752,    100.6,      100,  22.0640,  35.2767,2,    226.8,2,  35.2810,2,   226.54,6,     1.46,6,     0.00,6,     0.00,6,    0.010,6,    2.301,3,    1.351,2,58.8,2,0.8,2,   2006.8,2,   2316.4,3,   8.0521,2,    25.00,     0.13,2,     0.04,2,  22.0611,2
  49UP20110515,   P13,    75,  1,     33,     106,2,20110716,0412,0616, 26.0035, 164.9890, 5752,    151.0,      150,  19.5044,  34.9779,2,    211.5,2,  34.9737,2,   209.45,2,     2.19,2,     0.41,2,     0.14,2,    0.080,2,    2.289,3,    1.473,2,60.3,2,0.6,2,   2026.7,2,   2297.4,3,   7.9930,2,    25.00,     0.20,2,     0.26,2,  19.5059,2
  49UP20110515,   P13,    75,  1,     32,     105,2,20110716,0412,0614, 26.0035, 164.9890, 5752,    201.7,      200,  17.8417,  34.8141,2,    202.9,2,  34.8058,2,   203.15,2,     3.61,2,     3.79,2,     0.01,2,    0.270,2,    2.460,3,    1.567,2,55.9,2,0.5,2,   2042.4,6,   2284.7,3,   7.9440,2,    25.00,     0.04,2,     0.06,2,  17.8429,2
  49UP20110515,   P13,    75,  1,     31,     104,2,20110716,0412,0612, 26.0035, 164.9890, 5752,    251.6,      250,  16.2624,  34.6387,2,    204.7,2,  34.6475,4,   203.49,2,     5.22,2,     5.65,2,     0.01,2,    0.390,2,    2.563,3,    1.633,6,-999,9,-999,9,   2046.3,2,   2271.1,3,   7.9198,6,    25.00,     -999,9,     -999,9,  16.2750,2
  49UP20110515,   P13,    75,  1,     30,     103,2,20110716,0412,0610, 26.0035, 164.9890, 5752,    333.1,      331,  14.3722,  34.4919,2,    203.4,2,  34.4896,2,   202.76,2,     9.28,6,     9.14,6,     0.00,6,    0.630,6,    2.756,3,    1.698,2,37.6,2,0.4,2,   2073.5,2,   2268.5,3,   7.8709,2,    25.00,     -999,9,     -999,9,  14.3725,2
  49UP20110515,   P13,    75,  1,     29,     102,2,20110716,0412,0607, 26.0035, 164.9890, 5752,    433.4,      430,  11.2803,  34.2774,2,    195.4,2,  34.2772,2,   196.57,2,    18.20,2,    14.94,2,     0.00,2,    1.040,2,    3.068,3,    1.803,2,39.4,2,0.3,2,   2109.0,2,   2265.9,3,   7.7698,2,    25.00,     -999,9,     -999,9,  11.2139,2
  49UP20110515,   P13,    75,  1,     28,     101,2,20110716,0412,0605, 26.0035, 164.9890, 5752,    535.3,      531,   8.8113,  34.1240,2,    164.2,2,  34.1182,6,   161.72,2,    34.42,2,    23.02,2,     0.00,2,    1.620,2,    2.712,3,    1.516,2,6.0,2,0.1,2,   2164.2,2,   2270.8,3,   7.6508,2,    25.00,     -999,9,     -999,9,   8.8108,2
  49UP20110515,   P13,    75,  1,     27,     100,2,20110716,0412,0602, 26.0035, 164.9890, 5752,    634.7,      630,   6.4501,  34.0557,2,    121.1,2,  34.0568,2,   120.41,2,    58.27,2,    30.73,2,     0.00,2,    2.200,2,    2.019,3,    1.095,6,-66.9,2,-0.1,2,   2226.4,2,   2289.8,3,   7.5124,2,    25.00,     -999,9,     -999,9,   6.4482,2
  49UP20110515,   P13,    75,  1,     26,      99,2,20110716,0412,0600, 26.0035, 164.9890, 5752,    737.3,      731,   5.1931,  34.1029,2,     79.5,2,  34.1025,2,    79.28,2,    80.76,2,    36.57,2,     0.00,2,    2.630,2,    1.251,3,    0.655,2,-110.5,2,-0.3,2,   2278.5,6,   2310.0,3,   7.4300,2,    25.00,     -999,9,     -999,9,   5.1980,2
  49UP20110515,   P13,    75,  1,     25,      98,2,20110716,0412,0557, 26.0035, 164.9890, 5752,    838.2,      831,   4.5913,  34.1939,2,     50.4,2,  34.1950,2,    49.78,2,    96.68,2,    40.08,2,     0.00,2,    2.880,2,    0.553,3,    0.290,2,-150.0,2,-0.7,3,   2315.1,2,   2330.0,3,   7.3647,6,    25.00,     -999,9,     -999,9,   4.5916,2
  49UP20110515,   P13,    75,  1,     24,      97,2,20110716,0412,0554, 26.0035, 164.9890, 5752,    938.9,      931,   4.0302,  34.2809,2,     36.9,2,  34.2808,2,    36.97,6,   111.36,2,    41.89,2,     0.00,2,    3.000,2,    0.257,3,    0.122,2,-176.7,2,-0.5,2,   2338.7,2,   2345.6,3,   7.3509,2,    25.00,     -999,9,     -999,9,   4.0298,2
  49UP20110515,   P13,    75,  1,     23,      96,2,20110716,0412,0551, 26.0035, 164.9890, 5752,   1081.2,     1071,   3.5247,  34.3978,2,     36.5,2,  34.3947,4,    37.09,2,   124.24,2,    42.50,2,     0.00,2,    3.040,2,    0.059,3,    0.031,2,-207.0,2,-0.4,2,   2356.4,2,   2365.9,3,   7.3633,2,    25.00,     -999,9,     -999,9,   3.5251,2
  49UP20110515,   P13,    75,  1,     22,      95,2,20110716,0412,0547, 26.0035, 164.9890, 5752,   1283.0,     1271,   3.0731,  34.4791,2,     47.5,2,  34.4785,2,    47.37,2,   135.25,2,    42.22,2,     0.00,2,    3.020,2,    0.065,3,    0.017,2,-230.1,2,-0.3,2,   2365.7,2,   2382.5,3,   7.3888,2,    25.00,     -999,9,     -999,9,   3.0737,2
  49UP20110515,   P13,    75,  1,     21,      94,2,20110716,0412,0543, 26.0035, 164.9890, 5752,   1485.4,     1470,   2.6741,  34.5319,2,     61.8,2,  34.5324,6,    61.38,2,   142.85,2,    41.53,2,     0.00,2,    2.930,2,    0.000,3,    0.004,2,-231.1,2,-0.3,2,   2362.7,2,   2395.3,3,   7.4161,2,    25.00,     -999,9,     -999,9,   2.6740,2
  49UP20110515,   P13,    75,  1,     20,      93,2,20110716,0412,0538, 26.0035, 164.9890, 5752,   1688.7,     1671,   2.3173,  34.5702,2,     73.6,2,  34.5707,2,    74.03,2,   149.59,6,    40.84,6,     0.00,6,    2.890,6,    0.000,3,    0.000,2,-999,9,-999,9,   2364.1,2,   2401.9,3,   7.4424,2,    25.00,     -999,9,     -999,9,   2.3170,2
  49UP20110515,   P13,    75,  1,     19,      92,2,20110716,0412,0534, 26.0035, 164.9890, 5752,   1892.6,     1872,   2.0462,  34.6014,2,     87.6,2,  34.5986,4,    86.44,4,   152.57,2,    40.06,2,     0.00,2,    2.820,2,    0.000,3,    0.000,2,-244.7,2,-0.2,2,   2359.0,2,   2408.6,3,   7.4612,2,    25.00,     -999,9,     -999,9,   2.0460,2
  49UP20110515,   P13,    75,  1,     18,      91,2,20110716,0412,0530, 26.0035, 164.9890, 5752,   2094.6,     2071,   1.8771,  34.6222,2,     99.6,2,  34.6224,2,    99.86,2,   154.49,2,    39.38,2,     0.00,2,    2.760,2,    0.000,3,    0.004,2,-999,9,-999,9,   2355.4,2,   2410.2,3,   7.4875,2,    25.00,     -999,9,     -999,9,   1.8774,2
  49UP20110515,   P13,    75,  1,     17,      90,2,20110716,0412,0525, 26.0035, 164.9890, 5752,   2298.6,     2271,   1.7752,  34.6377,2,    110.8,2,  34.6378,2,   110.50,2,   153.51,2,    38.73,2,     0.00,2,    2.710,2,    0.000,3,    0.000,2,-242.6,2,-0.1,2,   2350.5,2,   2411.5,3,   7.5084,2,    25.00,     -999,9,     -999,9,   1.7754,2
  49UP20110515,   P13,    75,  1,     16,      89,2,20110716,0412,0521, 26.0035, 164.9890, 5752,   2501.6,     2471,   1.6981,  34.6473,2,    116.2,2,  34.6470,2,   115.97,2,   154.43,2,    38.28,2,     0.00,2,    2.680,2,    0.020,3,    0.000,2,-999,9,-999,9,   2347.5,2,   2415.3,3,   7.5177,2,    25.00,     -999,9,     -999,9,   1.6980,2
  49UP20110515,   P13,    75,  1,     15,      88,2,20110716,0412,0517, 26.0035, 164.9890, 5752,   2704.8,     2670,   1.6379,  34.6568,2,    124.5,2,  34.6565,2,   124.76,2,   153.13,2,    37.91,2,     0.00,2,    2.640,2,     -999,9,     -999,9,-232.8,2,-0.0,2,   2345.7,2,   2413.5,3,   7.5327,2,    25.00,     -999,9,     -999,9,   1.6380,2
  49UP20110515,   P13,    75,  1,     14,      87,2,20110716,0412,0512, 26.0035, 164.9890, 5752,   2909.6,     2871,   1.5924,  34.6632,2,    129.9,2,  34.6650,2,   129.94,6,   152.57,2,    37.58,2,     0.00,2,    2.610,2,     -999,9,     -999,9,-999,9,-999,9,   2346.4,2,   2414.5,3,   7.5414,2,    25.00,     -999,9,     -999,9,   1.5924,2
  49UP20110515,   P13,    75,  1,     13,      86,2,20110716,0412,0508, 26.0035, 164.9890, 5752,   3123.3,     3080,   1.5563,  34.6681,2,    134.5,2,  34.6682,6,   135.47,2,   151.87,2,    37.12,2,     0.00,2,    2.590,2,     -999,9,     -999,9,-230.9,2,-0.1,3,   2339.3,2,   2414.6,3,   7.5482,2,    25.00,     -999,9,     -999,9,   1.5562,2
  49UP20110515,   P13,    75,  1,     12,      85,2,20110716,0412,0503, 26.0035, 164.9890, 5752,   3378.2,     3330,   1.5264,  34.6734,2,    140.0,2,  34.6745,2,   139.93,2,   150.74,2,    36.87,2,     0.00,2,    2.560,2,     -999,9,     -999,9,-999,9,-999,9,   2337.6,2,   2415.5,3,   7.5585,2,    25.00,     -999,9,     -999,9,   1.5263,2
  49UP20110515,   P13,    75,  1,     11,     110,3,20110716,0412,0458, 26.0035, 164.9890, 5752,   3635.9,     3581,   1.5005,  34.6778,2,    144.9,2,  34.6785,2,   144.57,2,   149.44,2,    36.50,2,     0.00,2,    2.530,2,     -999,9,     -999,9,-229.2,2,0.0,2,   2331.1,6,   2412.2,3,   7.5654,2,    25.00,     -999,9,     -999,9,   1.5006,2
  49UP20110515,   P13,    75,  1,     10,      83,2,20110716,0412,0452, 26.0035, 164.9890, 5752,   3890.5,     3830,   1.4844,  34.6814,2,    149.8,2,  34.6811,2,   149.72,2,   147.76,2,    36.23,2,     0.00,2,    2.510,2,    0.004,3,    0.005,2,-999,9,-999,9,   2333.4,3,   2412.7,3,   7.5725,6,    25.00,     -999,9,     -999,9,   1.4843,2
  49UP20110515,   P13,    75,  1,      9,      82,2,20110716,0412,0447, 26.0035, 164.9890, 5752,   4148.2,     4081,   1.4673,  34.6852,2,    155.3,2,  34.6849,2,   155.08,2,   145.34,2,    35.83,2,     0.00,2,    2.480,2,     -999,9,     -999,9,-229.5,2,0.2,2,   2324.4,2,   2410.7,3,   7.5799,2,    25.00,     -999,9,     -999,9,   1.4673,2
  49UP20110515,   P13,    75,  1,      8,      81,2,20110716,0412,0442, 26.0035, 164.9890, 5752,   4404.3,     4331,   1.4540,  34.6888,2,    160.8,2,  34.6891,2,   160.60,6,   142.69,2,    35.44,2,     0.00,2,    2.450,2,     -999,9,     -999,9,-999,9,-999,9,   2318.2,2,   2405.7,3,   7.5854,2,    25.00,     -999,9,     -999,9,   1.4541,2
  49UP20110515,   P13,    75,  1,      7,      80,2,20110716,0412,0437, 26.0035, 164.9890, 5752,   4662.0,     4582,   1.4497,  34.6916,2,    165.5,2,  34.6915,2,   165.26,2,   140.00,2,    35.13,2,     0.00,2,    2.430,2,     -999,9,     -999,9,-212.3,2,0.2,2,   2312.6,2,   2406.4,3,   7.5926,2,    25.00,     -999,9,     -999,9,   1.4497,2
  49UP20110515,   P13,    75,  1,      6,      79,2,20110716,0412,0432, 26.0035, 164.9890, 5752,   4919.1,     4831,   1.4536,  34.6940,2,    169.4,2,  34.6935,2,   169.36,2,   137.57,2,    34.84,2,     0.00,2,    2.410,2,    0.000,3,    0.000,2,-999,9,-999,9,   2306.7,2,   2401.6,3,   7.5990,2,    25.00,     -999,9,     -999,9,   1.4536,2
  49UP20110515,   P13,    75,  1,      5,      78,2,20110716,0412,0427, 26.0035, 164.9890, 5752,   5176.0,     5081,   1.4582,  34.6961,2,    173.1,2,  34.6954,2,   172.78,2,   135.44,2,    34.58,2,     0.00,2,    2.380,2,     -999,9,     -999,9,-197.7,2,0.3,2,   2298.2,2,   2398.9,3,   7.5996,2,    25.00,     -999,9,     -999,9,   1.4584,2
  49UP20110515,   P13,    75,  1,      4,      77,2,20110716,0412,0422, 26.0035, 164.9890, 5752,   5433.7,     5331,   1.4712,  34.6974,2,    175.7,2,  34.6980,6,   175.71,2,   133.62,2,    34.32,2,     0.00,2,    2.370,2,     -999,9,     -999,9,-999,9,-999,9,   2297.6,2,   2396.4,3,   7.6022,2,    25.00,     -999,9,     -999,9,   1.4714,2
  49UP20110515,   P13,    75,  1,      3,      76,2,20110716,0412,0416, 26.0035, 164.9890, 5752,   5691.7,     5581,   1.4941,  34.6981,2,    177.2,2,  34.6984,2,   177.34,2,   132.66,2,    34.24,2,     0.00,2,    2.360,2,     -999,9,     -999,9,-999,9,-999,9,   2294.0,2,   2393.9,3,   7.6035,2,    25.00,     -999,9,     -999,9,   1.4942,2
  49UP20110515,   P13,    75,  1,      1,      74,2,20110716,0412,0413, 26.0035, 164.9890, 5752,   5853.0,     5737,   1.5119,  34.6984,2,    177.7,2,  34.6982,6,   178.05,2,   132.34,6,    34.24,6,     0.00,6,    2.360,6,     -999,9,     -999,9,-999,9,-999,9,   2299.5,2,   2394.4,3,   7.5994,2,    25.00,     -999,9,     -999,9,   1.5120,2
  49UP20110515,   P13,    75,  1,      2,      75,2,20110716,0412,0413, 26.0035, 164.9890, 5752,   5853.2,     5737,   1.5119,  34.6985,2,    177.8,2,  34.6985,6,   177.95,2,   132.34,2,    34.14,2,     0.00,2,    2.370,2,    0.000,3,    0.003,2,-192.9,2,0.3,2,   2296.6,2,   2394.4,3,   7.5998,2,    25.00,     -999,9,     -999,9,   1.5120,2