BOTTLE,20240116CCHSIOVAJ
EXPOCODE,SECT_ID,STNNBR,CASTNO,SAMPNO,BTLNBR,BTLNBR_FLAG_W,DATE,TIME,BTL_TIME,LATITUDE,LONGITUDE,DEPTH,CTDPRS,CTDDEPTH,CTDTMP,CTDSAL,CTDSAL_FLAG_W,CTDOXY,CTDOXY_FLAG_W,SALNTY,SALNTY_FLAG_W,OXYGEN,OXYGEN_FLAG_W,SILCAT,SILCAT_FLAG_W,NO2+NO3,NO2+NO3_FLAG_W,NITRIT,NITRIT_FLAG_W,PHSPHT,PHSPHT_FLAG_W,CFC-11,CFC-11_FLAG_W,CFC-12,CFC-12_FLAG_W,DELC14,DELC14_FLAG_W,DELC13,DELC13_FLAG_W,TCARBN,TCARBN_FLAG_W,ALKALI,ALKALI_FLAG_W,PH_TOT,PH_TOT_FLAG_W,PH_TMP,CHLORA,CHLORA_FLAG_W,PPHYTN,PPHYTN_FLAG_W,REFTMP,REFTMP_FLAG_W
,,,,,,,,,,,,METERS,DBAR,METERS,ITS-90,PSS-78,,UMOL/KG,,PSS-78,,UMOL/KG,,UMOL/KG,,UMOL/KG,,UMOL/KG,,UMOL/KG,,PMOL/KG,,PMOL/KG,,/MILLE,,/MILLE,,UMOL/KG,,UMOL/KG,,,,DEG C,UG/KG,,UG/KG,,ITS-90,
  49UP20110515,   P13,    81,  1,      0,     BUC,2,20110718,1028,1225, 21.0002, 164.9857, 5540,      0.0,        0,  29.0770,  34.9984,2,    197.7,2,     -999,9,   194.53,2,     0.77,2,     0.04,2,     0.00,2,    0.100,2,     -999,9,     -999,9,-999,9,-999,9,     -999,9,     -999,9,     -999,9,     -999,     0.08,2,     0.02,2,     -999,9
  49UP20110515,   P13,    81,  1,     36,     109,2,20110718,1028,1245, 21.0002, 164.9857, 5540,     10.3,       10,  29.0703,  34.9987,2,    197.6,2,  34.9980,2,   196.54,2,     0.76,2,     0.05,2,     0.00,2,    0.040,2,    1.705,3,    1.037,2,-999,9,-999,9,   1952.3,2,   2298.7,2,   8.1191,2,    25.00,     0.04,2,     0.01,2,  29.0702,2
  49UP20110515,   P13,    81,  1,     35,     108,2,20110718,1028,1240, 21.0002, 164.9857, 5540,     49.4,       49,  28.6227,  35.0620,2,    199.0,2,  35.0617,2,   198.42,2,     0.82,2,     0.02,2,     0.00,2,    0.030,2,    1.784,3,    1.043,2,-999,9,-999,9,   1952.7,2,   2302.4,2,   8.1185,2,    25.00,     0.06,2,     0.01,2,  28.6218,2
  49UP20110515,   P13,    81,  1,     34,     107,2,20110718,1028,1238, 21.0002, 164.9857, 5540,    100.0,       99,  25.0729,  35.3220,2,    208.8,2,  35.3213,6,   207.96,2,     0.96,6,     0.00,6,     0.00,6,    0.030,6,    2.131,3,    1.219,2,-999,9,-999,9,   1993.5,2,   2318.7,2,   8.0813,2,    25.00,     0.16,2,     0.10,2,  25.0725,2
  49UP20110515,   P13,    81,  1,     33,     106,2,20110718,1028,1235, 21.0002, 164.9857, 5540,    150.5,      150,  22.8108,  35.2957,2,    195.0,2,  35.2944,2,   194.77,6,     1.41,2,     0.41,2,     0.16,2,    0.100,2,    2.097,3,    1.296,2,-999,9,-999,9,   2024.7,2,   2317.1,2,   8.0245,2,    25.00,     0.13,2,     0.21,2,  22.8123,2
  49UP20110515,   P13,    81,  1,     32,     105,2,20110718,1028,1233, 21.0002, 164.9857, 5540,    205.7,      204,  20.4305,  35.0522,2,    184.4,2,  35.0552,2,   184.50,2,     2.36,2,     2.33,2,     0.02,2,    0.240,2,    2.207,3,    1.474,2,-999,9,-999,9,   2049.4,2,   2302.5,2,   7.9620,2,    25.00,     0.04,2,     0.09,2,  20.4303,2
  49UP20110515,   P13,    81,  1,     31,     104,2,20110718,1028,1231, 21.0002, 164.9857, 5540,    255.1,      253,  17.3550,  34.7283,2,    174.9,2,  34.7345,2,   175.31,2,     5.16,2,     6.70,2,     0.01,2,    0.540,2,    2.423,3,    1.580,6,-999,9,-999,9,   2075.3,2,   2285.8,2,   7.8810,2,    25.00,     -999,9,     -999,9,  17.3565,2
  49UP20110515,   P13,    81,  1,     30,     103,2,20110718,1028,1229, 21.0002, 164.9857, 5540,    333.1,      331,  13.8409,  34.4368,2,    194.4,2,  34.4341,2,   193.82,2,    10.16,6,    10.42,6,     0.00,6,    0.750,6,    2.725,3,    1.743,2,-999,9,-999,9,   2080.5,2,   2267.1,6,   7.8343,2,    25.00,     -999,9,     -999,9,  13.8429,2
  49UP20110515,   P13,    81,  1,     29,     102,2,20110718,1028,1227, 21.0002, 164.9857, 5540,    383.0,      380,  11.9611,  34.2949,2,    161.0,2,  34.2945,2,   161.30,2,    17.01,2,    16.36,2,     0.00,2,    1.220,2,    2.710,3,    1.652,2,-999,9,-999,9,   2122.8,2,   2265.5,2,   7.7284,6,    25.00,     -999,9,     -999,9,  11.9610,2
  49UP20110515,   P13,    81,  1,     28,     101,2,20110718,1028,1225, 21.0002, 164.9857, 5540,    432.7,      430,  10.6990,  34.2281,2,    189.1,2,  34.2292,2,   188.47,2,    20.32,2,    16.61,2,     0.00,2,    1.170,2,    2.934,3,    1.791,2,-999,9,-999,9,   2118.7,2,   2265.7,2,   7.7392,2,    25.00,     -999,9,     -999,9,  10.7006,2
  49UP20110515,   P13,    81,  1,     27,     100,3,20110718,1028,1223, 21.0002, 164.9857, 5540,    484.4,      481,   9.5210,  34.1678,2,    167.3,2,  34.1641,2,   167.97,2,    28.20,2,    20.72,2,     0.00,2,    1.470,2,    2.732,3,    1.619,6,-999,9,-999,9,   2146.3,2,   2269.1,2,   7.6747,2,    25.00,     -999,9,     -999,9,   9.5225,2
  49UP20110515,   P13,    81,  1,     26,      99,2,20110718,1028,1221, 21.0002, 164.9857, 5540,    533.6,      530,   8.1174,  34.1050,2,    144.9,2,  34.1061,6,   144.60,2,    39.69,2,    25.47,2,     0.00,2,    1.820,2,    2.466,3,    1.385,2,-999,9,-999,9,   2179.3,2,   2274.3,2,   7.6069,2,    25.00,     -999,9,     -999,9,   8.1198,2
  49UP20110515,   P13,    81,  1,     25,      98,2,20110718,1028,1219, 21.0002, 164.9857, 5540,    635.7,      631,   6.0976,  34.1275,2,     82.9,2,  34.1268,2,    82.77,6,    67.14,6,    34.68,6,     0.00,6,    2.510,6,    1.254,3,    0.660,2,-999,9,-999,9,   2257.2,2,   2301.1,2,   7.4461,2,    25.00,     -999,9,     -999,9,   6.0979,2
  49UP20110515,   P13,    81,  1,     24,      97,2,20110718,1028,1216, 21.0002, 164.9857, 5540,    737.5,      732,   5.2919,  34.2480,2,     50.6,2,  34.2468,2,    50.17,2,    83.72,2,    39.08,2,     0.00,2,    2.850,2,    0.412,3,    0.234,2,-999,9,-999,9,   2299.7,2,   2324.4,2,   7.3912,2,    25.00,     -999,9,     -999,9,   5.2924,2
  49UP20110515,   P13,    81,  1,     23,      96,2,20110718,1028,1213, 21.0002, 164.9857, 5540,    837.2,      830,   4.7813,  34.3598,2,     47.6,2,  34.3595,2,    48.42,2,    94.19,2,    40.26,2,     0.00,2,    2.910,2,    0.127,3,    0.109,2,-999,9,-999,9,   2316.1,2,   2342.7,6,   7.3982,2,    25.00,     -999,9,     -999,9,   4.7822,2
  49UP20110515,   P13,    81,  1,     22,      95,2,20110718,1028,1210, 21.0002, 164.9857, 5540,    939.3,      931,   4.2756,  34.4181,2,     49.4,2,  34.4185,2,    49.51,2,   104.85,2,    40.95,2,     0.00,2,    2.960,2,    0.030,3,    0.051,2,-999,9,-999,9,   2327.3,2,   2356.4,2,   7.4008,6,    25.00,     -999,9,     -999,9,   4.2746,2
  49UP20110515,   P13,    81,  1,     21,      94,2,20110718,1028,1207, 21.0002, 164.9857, 5540,   1080.4,     1071,   3.7861,  34.4859,2,     60.1,2,  34.4862,2,    60.12,2,   114.81,2,    40.77,2,     0.00,2,    2.930,2,    0.000,3,    0.030,2,-999,9,-999,9,   2333.8,2,   2371.6,2,   7.4312,2,    25.00,     -999,9,     -999,9,   3.7864,2
  49UP20110515,   P13,    81,  1,     20,      93,2,20110718,1028,1202, 21.0002, 164.9857, 5540,   1282.7,     1271,   3.1858,  34.5304,2,     70.8,2,  34.5301,2,    71.13,2,   126.90,2,    40.40,2,     0.00,2,    2.880,2,    0.000,3,    0.027,2,-999,9,-999,9,   2339.5,2,   2385.3,2,   7.4402,2,    25.00,     -999,9,     -999,9,   3.1857,2
  49UP20110515,   P13,    81,  1,     19,      92,2,20110718,1028,1158, 21.0002, 164.9857, 5540,   1485.0,     1471,   2.7357,  34.5628,2,     79.9,2,  34.5603,4,    79.77,2,   135.00,2,    40.08,2,     0.00,2,    2.860,2,     -999,9,     -999,9,-999,9,-999,9,   2345.2,2,   2394.8,2,   7.4527,2,    25.00,     -999,9,     -999,9,   2.7358,2
  49UP20110515,   P13,    81,  1,     18,      91,2,20110718,1028,1154, 21.0002, 164.9857, 5540,   1687.4,     1670,   2.3663,  34.5888,2,     89.6,2,  34.5885,2,    89.86,2,   142.31,2,    39.67,2,     0.00,2,    2.810,2,    0.000,3,    0.018,2,-999,9,-999,9,   2347.7,2,   2402.9,2,   7.4729,2,    25.00,     -999,9,     -999,9,   2.3665,2
  49UP20110515,   P13,    81,  1,     17,      90,2,20110718,1028,1149, 21.0002, 164.9857, 5540,   1891.5,     1871,   2.1142,  34.6090,2,     97.8,2,  34.6102,2,    97.81,2,   147.09,2,    39.39,2,     0.00,2,    2.770,2,     -999,9,     -999,9,-999,9,-999,9,   2349.2,2,   2407.8,2,   7.4850,2,    25.00,     -999,9,     -999,9,   2.1143,2
  49UP20110515,   P13,    81,  1,     16,      89,2,20110718,1028,1144, 21.0002, 164.9857, 5540,   2093.9,     2071,   1.9596,  34.6256,2,    105.1,2,  34.6256,2,   105.20,2,   149.19,2,    38.99,2,     0.00,2,    2.740,2,    0.000,3,    0.012,2,-999,9,-999,9,   2345.1,2,   2411.4,2,   7.4992,2,    25.00,     -999,9,     -999,9,   1.9596,2
  49UP20110515,   P13,    81,  1,     15,      88,2,20110718,1028,1140, 21.0002, 164.9857, 5540,   2297.4,     2271,   1.8239,  34.6416,2,    114.3,2,  34.6408,2,   114.86,2,   150.20,2,    38.34,2,     0.00,2,    2.690,2,     -999,9,     -999,9,-999,9,-999,9,   2346.7,2,   2414.1,2,   7.5135,2,    25.00,     -999,9,     -999,9,   1.8239,2
  49UP20110515,   P13,    81,  1,     14,      87,2,20110718,1028,1135, 21.0002, 164.9857, 5540,   2500.3,     2470,   1.7399,  34.6499,2,    119.6,2,  34.6497,2,   119.45,2,   151.31,2,    38.16,2,     0.00,2,    2.670,2,     -999,9,     -999,9,-999,9,-999,9,   2343.7,2,   2416.4,2,   7.5241,2,    25.00,     -999,9,     -999,9,   1.7400,2
  49UP20110515,   P13,    81,  1,     13,      86,2,20110718,1028,1131, 21.0002, 164.9857, 5540,   2705.0,     2671,   1.6805,  34.6566,2,    124.5,2,  34.6568,2,   124.53,6,   151.12,2,    37.82,2,     0.00,2,    2.640,2,     -999,9,     -999,9,-999,9,-999,9,   2335.2,3,   2417.8,2,   7.5326,2,    25.00,     -999,9,     -999,9,   1.6809,2
  49UP20110515,   P13,    81,  1,     12,      85,2,20110718,1028,1126, 21.0002, 164.9857, 5540,   2908.3,     2871,   1.6231,  34.6630,2,    129.8,2,  34.6631,6,   129.79,2,   151.08,2,    37.55,2,     0.00,2,    2.610,2,    0.000,3,    0.021,2,-999,9,-999,9,   2337.4,2,   2418.3,2,   7.5410,2,    25.00,     -999,9,     -999,9,   1.6232,2
  49UP20110515,   P13,    81,  1,     11,     110,2,20110718,1028,1121, 21.0002, 164.9857, 5540,   3123.0,     3081,   1.5801,  34.6682,2,    134.4,2,  34.6690,2,   134.17,2,   151.21,2,    37.26,2,     0.00,2,    2.590,2,     -999,9,     -999,9,-999,9,-999,9,   2336.5,2,   2416.8,6,   7.5429,3,    25.00,     -999,9,     -999,9,   1.5799,2
  49UP20110515,   P13,    81,  1,     10,      83,2,20110718,1028,1116, 21.0002, 164.9857, 5540,   3379.0,     3332,   1.5451,  34.6729,2,    139.5,2,  34.6733,2,   139.38,2,   150.18,2,    36.99,2,     0.00,2,    2.560,2,     -999,9,     -999,9,-999,9,-999,9,   2332.2,2,   2417.9,2,   7.5565,2,    25.00,     -999,9,     -999,9,   1.5450,2
  49UP20110515,   P13,    81,  1,      9,      82,2,20110718,1028,1110, 21.0002, 164.9857, 5540,   3634.1,     3581,   1.5116,  34.6781,2,    145.2,2,  34.6778,2,   145.20,2,   148.30,2,    36.53,2,     0.00,2,    2.530,2,     -999,9,     -999,9,-999,9,-999,9,   2327.6,2,   2416.8,2,   7.5612,2,    25.00,     -999,9,     -999,9,   1.5117,2
  49UP20110515,   P13,    81,  1,      8,      81,2,20110718,1028,1105, 21.0002, 164.9857, 5540,   3890.5,     3831,   1.4913,  34.6819,2,    150.2,2,  34.6818,2,   149.98,2,   146.94,2,    36.19,2,     0.00,2,    2.520,2,     -999,9,     -999,9,-999,9,-999,9,   2323.2,2,   2413.5,2,   7.5714,2,    25.00,     -999,9,     -999,9,   1.4914,2
  49UP20110515,   P13,    81,  1,      7,      80,2,20110718,1028,1059, 21.0002, 164.9857, 5540,   4146.5,     4081,   1.4737,  34.6851,2,    155.1,2,  34.6847,2,   154.74,6,   144.96,2,    35.83,2,     0.00,2,    2.480,2,    0.000,3,    0.033,2,-999,9,-999,9,   2319.8,2,   2413.0,2,   7.5779,2,    25.00,     -999,9,     -999,9,   1.4739,2
  49UP20110515,   P13,    81,  1,      6,      79,3,20110718,1028,1054, 21.0002, 164.9857, 5540,   4403.8,     4332,   1.4512,  34.6891,2,    161.1,2,  34.6896,2,   160.93,2,   142.30,6,    35.43,6,     0.00,6,    2.450,6,     -999,9,     -999,9,-999,9,-999,9,   2314.0,2,   2410.7,2,   7.5852,2,    25.00,     -999,9,     -999,9,   1.4513,2
  49UP20110515,   P13,    81,  1,      5,      78,2,20110718,1028,1048, 21.0002, 164.9857, 5540,   4661.9,     4583,   1.4466,  34.6921,2,    166.1,2,  34.6915,2,   166.41,2,   139.43,2,    35.05,2,     0.00,2,    2.420,2,     -999,9,     -999,9,-999,9,-999,9,   2311.1,2,   2408.5,2,   7.5886,2,    25.00,     -999,9,     -999,9,   1.4470,2
  49UP20110515,   P13,    81,  1,      4,      77,2,20110718,1028,1043, 21.0002, 164.9857, 5540,   4917.5,     4832,   1.4454,  34.6947,2,    170.7,2,  34.6943,2,   170.75,2,   136.38,2,    34.60,2,     0.00,2,    2.400,2,     -999,9,     -999,9,-999,9,-999,9,   2298.6,2,   2403.0,2,   7.5995,2,    25.00,     -999,9,     -999,9,   1.4455,2
  49UP20110515,   P13,    81,  1,      3,      76,2,20110718,1028,1038, 21.0002, 164.9857, 5540,   5175.2,     5082,   1.4443,  34.6970,2,    174.8,2,  34.6963,2,   175.05,2,   133.88,2,    34.37,2,     0.00,2,    2.370,2,     -999,9,     -999,9,-999,9,-999,9,   2298.9,2,   2398.2,2,   7.6004,2,    25.00,     -999,9,     -999,9,   1.4445,2
  49UP20110515,   P13,    81,  1,      2,      75,2,20110718,1028,1032, 21.0002, 164.9857, 5540,   5432.7,     5332,   1.4596,  34.6982,2,    177.2,2,  34.6980,6,   177.73,2,   132.62,2,    34.27,2,     0.00,2,    2.360,2,    0.000,3,    0.029,2,-999,9,-999,9,   2297.2,2,   2397.6,2,   7.6017,2,    25.00,     -999,9,     -999,9,   1.4597,2
  49UP20110515,   P13,    81,  1,      1,     112,3,20110718,1028,1028, 21.0002, 164.9857, 5540,   5626.7,     5520,   1.4822,  34.6983,2,    177.7,2,  34.6983,2,   178.01,2,   132.25,2,    34.25,2,     0.00,2,    2.360,2,     -999,9,     -999,9,-999,9,-999,9,   2294.7,2,   2397.2,2,   7.6015,2,    25.00,     -999,9,     -999,9,   1.4822,2