BOTTLE,20240116CCHSIOVAJ
EXPOCODE,SECT_ID,STNNBR,CASTNO,SAMPNO,BTLNBR,BTLNBR_FLAG_W,DATE,TIME,BTL_TIME,LATITUDE,LONGITUDE,DEPTH,CTDPRS,CTDDEPTH,CTDTMP,CTDSAL,CTDSAL_FLAG_W,CTDOXY,CTDOXY_FLAG_W,SALNTY,SALNTY_FLAG_W,OXYGEN,OXYGEN_FLAG_W,SILCAT,SILCAT_FLAG_W,NO2+NO3,NO2+NO3_FLAG_W,NITRIT,NITRIT_FLAG_W,PHSPHT,PHSPHT_FLAG_W,CFC-11,CFC-11_FLAG_W,CFC-12,CFC-12_FLAG_W,DELC14,DELC14_FLAG_W,DELC13,DELC13_FLAG_W,TCARBN,TCARBN_FLAG_W,ALKALI,ALKALI_FLAG_W,PH_TOT,PH_TOT_FLAG_W,PH_TMP,CHLORA,CHLORA_FLAG_W,PPHYTN,PPHYTN_FLAG_W,REFTMP,REFTMP_FLAG_W
,,,,,,,,,,,,METERS,DBAR,METERS,ITS-90,PSS-78,,UMOL/KG,,PSS-78,,UMOL/KG,,UMOL/KG,,UMOL/KG,,UMOL/KG,,UMOL/KG,,PMOL/KG,,PMOL/KG,,/MILLE,,/MILLE,,UMOL/KG,,UMOL/KG,,,,DEG C,UG/KG,,UG/KG,,ITS-90,
  49UP20110515,   P01,    31,  1,      0,     BUC,2,20110608,2046,2325, 43.5777, 154.1712, 5430,      0.0,        0,   6.8039,  32.8824,2,    326.4,2,     -999,9,   325.78,2,    31.94,2,    16.30,2,     0.17,2,    1.480,2,     -999,9,     -999,9,-999,9,-999,9,     -999,9,     -999,9,     -999,9,     -999,     0.92,2,     0.18,2,     -999,9
  49UP20110515,   P01,    31,  1,     36,     109,2,20110608,2046,2341, 43.5777, 154.1712, 5430,     11.2,       11,   6.3878,  32.8908,2,    330.1,2,  32.8900,2,   329.58,2,    32.01,2,    16.37,2,     0.17,2,    1.480,2,     -999,9,     -999,9,-999,9,-999,9,     -999,9,     -999,9,     -999,9,     -999,     0.73,2,     0.19,2,   6.3863,2
  49UP20110515,   P01,    31,  1,     35,     108,2,20110608,2046,2336, 43.5777, 154.1712, 5430,     50.8,       50,   3.5272,  32.9748,2,    336.3,2,  32.9755,2,   335.51,2,    37.76,6,    20.76,6,     0.29,6,    1.760,6,     -999,9,     -999,9,-999,9,-999,9,     -999,9,     -999,9,     -999,9,     -999,     0.76,2,     0.48,2,   3.5226,2
  49UP20110515,   P01,    31,  1,     34,     107,2,20110608,2046,2333, 43.5777, 154.1712, 5430,    102.2,      101,   1.3092,  33.1177,2,    316.3,2,  33.1191,2,   315.39,2,    49.31,2,    26.86,2,     0.03,2,    2.110,2,     -999,9,     -999,9,-999,9,-999,9,     -999,9,     -999,9,     -999,9,     -999,     0.07,2,     0.11,2,   1.3095,2
  49UP20110515,   P01,    31,  1,     33,     106,2,20110608,2046,2331, 43.5777, 154.1712, 5430,    127.1,      126,   2.2499,  33.4276,2,    199.9,2,  33.4162,4,   200.63,2,    68.56,6,    34.29,6,     0.02,6,    2.560,6,     -999,9,     -999,9,-999,9,-999,9,     -999,9,     -999,9,     -999,9,     -999,     0.03,2,     0.11,2,   2.2396,2
  49UP20110515,   P01,    31,  1,     32,     105,2,20110608,2046,2328, 43.5777, 154.1712, 5430,    152.9,      152,   2.9900,  33.6450,2,    117.8,2,  33.6505,2,   112.46,2,    83.84,2,    39.76,2,     0.01,2,    2.870,2,     -999,9,     -999,9,-999,9,-999,9,     -999,9,     -999,9,     -999,9,     -999,     0.01,2,     0.09,2,   2.9886,2
  49UP20110515,   P01,    31,  1,     31,     104,2,20110608,2046,2325, 43.5777, 154.1712, 5430,    202.6,      201,   3.2105,  33.7800,2,     78.1,2,  33.7772,2,    78.25,6,    92.63,2,    41.47,2,     0.01,2,    2.980,2,     -999,9,     -999,9,-999,9,-999,9,     -999,9,     -999,9,     -999,9,     -999,     0.01,2,     0.08,2,   3.2097,2
  49UP20110515,   P01,    31,  1,     30,     103,2,20110608,2046,2323, 43.5777, 154.1712, 5430,    253.5,      251,   3.3982,  33.8925,2,     55.7,2,  33.8924,2,    55.73,2,    99.66,2,    42.55,2,     0.01,2,    3.040,2,     -999,9,     -999,9,-999,9,-999,9,     -999,9,     -999,9,     -999,9,     -999,     -999,9,     -999,9,   3.3984,2
  49UP20110515,   P01,    31,  1,     29,     102,2,20110608,2046,2320, 43.5777, 154.1712, 5430,    304.5,      302,   3.4972,  33.9781,2,     35.6,2,  33.9767,2,    36.04,2,   106.72,2,    43.81,2,     0.00,2,    3.120,2,     -999,9,     -999,9,-999,9,-999,9,     -999,9,     -999,9,     -999,9,     -999,     -999,9,     -999,9,   3.4989,2
  49UP20110515,   P01,    31,  1,     28,     101,2,20110608,2046,2317, 43.5777, 154.1712, 5430,    405.0,      401,   3.4310,  34.0922,2,     23.3,2,  34.0921,2,    23.44,2,   117.74,2,    44.28,2,     0.00,2,    3.150,2,     -999,9,     -999,9,-999,9,-999,9,     -999,9,     -999,9,     -999,9,     -999,     -999,9,     -999,9,   3.4313,2
  49UP20110515,   P01,    31,  1,     27,     100,2,20110608,2046,2314, 43.5777, 154.1712, 5430,    506.2,      502,   3.2232,  34.1687,2,     28.3,2,  34.1669,2,    29.10,2,   126.25,2,    43.42,2,     0.00,2,    3.110,2,     -999,9,     -999,9,-999,9,-999,9,     -999,9,     -999,9,     -999,9,     -999,     -999,9,     -999,9,   3.2248,2
  49UP20110515,   P01,    31,  1,     26,      99,3,20110608,2046,2310, 43.5777, 154.1712, 5430,    605.9,      600,   2.9680,  34.2363,2,     29.4,2,  34.2355,2,    29.86,6,   135.60,2,    43.42,2,     0.00,2,    3.110,2,     -999,9,     -999,9,-999,9,-999,9,     -999,9,     -999,9,     -999,9,     -999,     -999,9,     -999,9,   2.9684,2
  49UP20110515,   P01,    31,  1,     25,      98,2,20110608,2046,2306, 43.5777, 154.1712, 5430,    708.2,      701,   2.9587,  34.3085,2,     22.9,2,  34.3075,2,    22.46,2,   141.53,2,    43.87,2,     0.00,2,    3.130,2,     -999,9,     -999,9,-999,9,-999,9,     -999,9,     -999,9,     -999,9,     -999,     -999,9,     -999,9,   2.9588,2
  49UP20110515,   P01,    31,  1,     24,      97,2,20110608,2046,2301, 43.5777, 154.1712, 5430,    808.3,      800,   2.7199,  34.3418,2,     30.3,2,  34.3406,2,    29.87,2,   146.80,3,    43.42,2,     0.00,2,    3.110,2,     -999,9,     -999,9,-999,9,-999,9,     -999,9,     -999,9,     -999,9,     -999,     -999,9,     -999,9,   2.7193,2
  49UP20110515,   P01,    31,  1,     23,      96,2,20110608,2046,2258, 43.5777, 154.1712, 5430,    909.8,      901,   2.6977,  34.3956,2,     30.1,2,  34.3940,2,    29.61,2,   150.13,2,    43.36,2,     0.00,2,    3.100,2,     -999,9,     -999,9,-999,9,-999,9,     -999,9,     -999,9,     -999,9,     -999,     -999,9,     -999,9,   2.6980,2
  49UP20110515,   P01,    31,  1,     22,      95,2,20110608,2046,2254, 43.5777, 154.1712, 5430,   1012.2,     1002,   2.5500,  34.4266,2,     29.7,2,  34.4256,2,    29.13,6,   155.50,2,    43.49,2,     0.00,2,    3.100,2,     -999,9,     -999,9,-999,9,-999,9,     -999,9,     -999,9,     -999,9,     -999,     -999,9,     -999,9,   2.5505,2
  49UP20110515,   P01,    31,  1,     21,      94,2,20110608,2046,2249, 43.5777, 154.1712, 5430,   1214.3,     1201,   2.3346,  34.4769,2,     36.8,2,  34.4762,6,    36.68,2,   162.07,2,    43.17,2,     0.00,2,    3.070,2,     -999,9,     -999,9,-999,9,-999,9,     -999,9,     -999,9,     -999,9,     -999,     -999,9,     -999,9,   2.3349,2
  49UP20110515,   P01,    31,  1,     20,      93,2,20110608,2046,2240, 43.5777, 154.1712, 5430,   1418.3,     1402,   2.1516,  34.5225,2,     48.1,2,  34.5219,2,    48.75,2,   165.63,2,    42.41,2,     0.00,2,    3.020,2,     -999,9,     -999,9,-999,9,-999,9,     -999,9,     -999,9,     -999,9,     -999,     -999,9,     -999,9,   2.1516,2
  49UP20110515,   P01,    31,  1,     19,      92,2,20110608,2046,2235, 43.5777, 154.1712, 5430,   1621.0,     1602,   2.0553,  34.5599,2,     58.4,2,  34.5593,2,    60.18,4,   165.30,2,    41.89,2,     0.00,2,    2.960,3,     -999,9,     -999,9,-999,9,-999,9,     -999,9,     -999,9,     -999,9,     -999,     -999,9,     -999,9,   2.0556,2
  49UP20110515,   P01,    31,  1,     18,      91,2,20110608,2046,2230, 43.5777, 154.1712, 5430,   1823.1,     1801,   1.9411,  34.5845,2,     67.2,2,  34.5857,2,    66.89,2,   167.34,6,    41.42,6,     0.00,6,    2.930,6,     -999,9,     -999,9,-999,9,-999,9,     -999,9,     -999,9,     -999,9,     -999,     -999,9,     -999,9,   1.9412,2
  49UP20110515,   P01,    31,  1,     17,      90,2,20110608,2046,2221, 43.5777, 154.1712, 5430,   2027.0,     2001,   1.8340,  34.6075,2,     79.8,2,  34.6074,2,    79.57,2,   166.61,2,    40.75,2,     0.00,2,    2.880,2,     -999,9,     -999,9,-999,9,-999,9,     -999,9,     -999,9,     -999,9,     -999,     -999,9,     -999,9,   1.8340,2
  49UP20110515,   P01,    31,  1,     16,      89,2,20110608,2046,2216, 43.5777, 154.1712, 5430,   2231.8,     2202,   1.7425,  34.6252,2,     91.8,2,  34.6246,2,    91.50,2,   165.40,2,    39.93,2,     0.00,2,    2.820,2,     -999,9,     -999,9,-999,9,-999,9,     -999,9,     -999,9,     -999,9,     -999,     -999,9,     -999,9,   1.7426,2
  49UP20110515,   P01,    31,  1,     15,      88,2,20110608,2046,2210, 43.5777, 154.1712, 5430,   2434.6,     2401,   1.6663,  34.6390,2,    102.9,2,  34.6387,2,   103.05,2,   164.14,2,    39.29,2,     0.00,2,    2.760,2,     -999,9,     -999,9,-999,9,-999,9,     -999,9,     -999,9,     -999,9,     -999,     -999,9,     -999,9,   1.6663,2
  49UP20110515,   P01,    31,  1,     14,      87,2,20110608,2046,2202, 43.5777, 154.1712, 5430,   2638.4,     2601,   1.6098,  34.6496,2,    112.6,2,  34.6494,2,   112.67,2,   161.99,3,    38.72,2,     0.00,2,    2.710,2,     -999,9,     -999,9,-999,9,-999,9,     -999,9,     -999,9,     -999,9,     -999,     -999,9,     -999,9,   1.6098,2
  49UP20110515,   P01,    31,  1,     13,      86,2,20110608,2046,2202, 43.5777, 154.1712, 5430,   2638.4,     2601,   1.6098,  34.6496,2,    112.6,2,  34.6501,2,   112.73,2,   161.65,2,    38.51,2,     0.00,2,    2.710,2,     -999,9,     -999,9,-999,9,-999,9,     -999,9,     -999,9,     -999,9,     -999,     -999,9,     -999,9,   1.6098,2
  49UP20110515,   P01,    31,  1,     12,      85,2,20110608,2046,2158, 43.5777, 154.1712, 5430,   2843.2,     2802,   1.5583,  34.6588,2,    121.9,2,  34.6587,2,   121.99,2,   159.70,2,    38.08,2,     0.00,2,    2.660,2,     -999,9,     -999,9,-999,9,-999,9,     -999,9,     -999,9,     -999,9,     -999,     -999,9,     -999,9,   1.5584,2
  49UP20110515,   P01,    31,  1,     11,     110,2,20110608,2046,2151, 43.5777, 154.1712, 5430,   3047.4,     3001,   1.5249,  34.6653,2,    129.0,2,  34.6649,2,   129.18,2,   157.85,2,    37.62,2,     0.00,2,    2.630,2,     -999,9,     -999,9,-999,9,-999,9,     -999,9,     -999,9,     -999,9,     -999,     -999,9,     -999,9,   1.5249,2
  49UP20110515,   P01,    31,  1,     10,      83,3,20110608,2046,2145, 43.5777, 154.1712, 5430,   3303.2,     3251,   1.4902,  34.6722,2,    136.7,2,  34.6715,2,   136.52,2,   155.65,2,    37.14,2,     0.00,2,    2.590,2,     -999,9,     -999,9,-999,9,-999,9,     -999,9,     -999,9,     -999,9,     -999,     -999,9,     -999,9,   1.4903,2
  49UP20110515,   P01,    31,  1,      9,      82,2,20110608,2046,2137, 43.5777, 154.1712, 5430,   3558.6,     3501,   1.4702,  34.6771,2,    142.6,2,  34.6768,2,   142.19,2,   154.27,2,    36.78,2,     0.00,2,    2.560,2,     -999,9,     -999,9,-999,9,-999,9,     -999,9,     -999,9,     -999,9,     -999,     -999,9,     -999,9,   1.4703,2
  49UP20110515,   P01,    31,  1,      8,      81,2,20110608,2046,2132, 43.5777, 154.1712, 5430,   3815.6,     3751,   1.4595,  34.6811,2,    147.5,2,  34.6809,6,   147.23,2,   153.03,2,    36.48,2,     0.00,2,    2.540,2,     -999,9,     -999,9,-999,9,-999,9,     -999,9,     -999,9,     -999,9,     -999,     -999,9,     -999,9,   1.4596,2
  49UP20110515,   P01,    31,  1,      7,      80,2,20110608,2046,2125, 43.5777, 154.1712, 5430,   4071.9,     4001,   1.4597,  34.6841,2,    151.2,2,  34.6838,2,   150.95,2,   151.88,2,    36.20,2,     0.00,2,    2.510,2,     -999,9,     -999,9,-999,9,-999,9,     -999,9,     -999,9,     -999,9,     -999,     -999,9,     -999,9,   1.4596,2
  49UP20110515,   P01,    31,  1,      6,      79,2,20110608,2046,2120, 43.5777, 154.1712, 5430,   4330.0,     4252,   1.4644,  34.6864,2,    154.3,2,  34.6861,2,   154.11,2,   151.52,2,    36.01,2,     0.00,2,    2.500,2,     -999,9,     -999,9,-999,9,-999,9,     -999,9,     -999,9,     -999,9,     -999,     -999,9,     -999,9,   1.4644,2
  49UP20110515,   P01,    31,  1,      5,      78,2,20110608,2046,2113, 43.5777, 154.1712, 5430,   4585.9,     4501,   1.4788,  34.6883,2,    156.3,2,  34.6880,2,   156.25,2,   151.23,2,    35.78,2,     0.00,2,    2.490,2,     -999,9,     -999,9,-999,9,-999,9,     -999,9,     -999,9,     -999,9,     -999,     -999,9,     -999,9,   1.4788,2
  49UP20110515,   P01,    31,  1,      4,      77,2,20110608,2046,2107, 43.5777, 154.1712, 5430,   4843.0,     4750,   1.5003,  34.6895,2,    157.5,2,  34.6895,2,   157.58,2,   151.38,2,    35.80,2,     0.00,2,    2.480,2,     -999,9,     -999,9,-999,9,-999,9,     -999,9,     -999,9,     -999,9,     -999,     -999,9,     -999,9,   1.5004,2
  49UP20110515,   P01,    31,  1,      3,      76,2,20110608,2046,2101, 43.5777, 154.1712, 5430,   5102.1,     5002,   1.5270,  34.6903,2,    158.1,2,  34.6893,2,   158.01,2,   151.77,2,    35.74,2,     0.00,2,    2.480,2,     -999,9,     -999,9,-999,9,-999,9,     -999,9,     -999,9,     -999,9,     -999,     -999,9,     -999,9,   1.5270,2
  49UP20110515,   P01,    31,  1,      2,      75,2,20110608,2046,2054, 43.5777, 154.1712, 5430,   5359.9,     5251,   1.5579,  34.6907,2,    158.2,2,  34.6898,6,   158.36,2,   152.37,6,    35.70,6,     0.00,6,    2.480,6,     -999,9,     -999,9,-999,9,-999,9,     -999,9,     -999,9,     -999,9,     -999,     -999,9,     -999,9,   1.5579,2
  49UP20110515,   P01,    31,  1,      1,      74,2,20110608,2046,2047, 43.5777, 154.1712, 5430,   5538.4,     5424,   1.5814,  34.6908,2,    158.2,2,  34.6891,2,   157.86,6,   152.40,2,    35.77,2,     0.00,2,    2.470,2,     -999,9,     -999,9,-999,9,-999,9,     -999,9,     -999,9,     -999,9,     -999,     -999,9,     -999,9,   1.5813,2