BOTTLE,20240116CCHSIOVAJ
EXPOCODE,SECT_ID,STNNBR,CASTNO,SAMPNO,BTLNBR,BTLNBR_FLAG_W,DATE,TIME,BTL_TIME,LATITUDE,LONGITUDE,DEPTH,CTDPRS,CTDDEPTH,CTDTMP,CTDSAL,CTDSAL_FLAG_W,CTDOXY,CTDOXY_FLAG_W,SALNTY,SALNTY_FLAG_W,OXYGEN,OXYGEN_FLAG_W,SILCAT,SILCAT_FLAG_W,NO2+NO3,NO2+NO3_FLAG_W,NITRIT,NITRIT_FLAG_W,PHSPHT,PHSPHT_FLAG_W,CFC-11,CFC-11_FLAG_W,CFC-12,CFC-12_FLAG_W,DELC14,DELC14_FLAG_W,DELC13,DELC13_FLAG_W,TCARBN,TCARBN_FLAG_W,ALKALI,ALKALI_FLAG_W,PH_TOT,PH_TOT_FLAG_W,PH_TMP,CHLORA,CHLORA_FLAG_W,PPHYTN,PPHYTN_FLAG_W,REFTMP,REFTMP_FLAG_W
,,,,,,,,,,,,METERS,DBAR,METERS,ITS-90,PSS-78,,UMOL/KG,,PSS-78,,UMOL/KG,,UMOL/KG,,UMOL/KG,,UMOL/KG,,UMOL/KG,,PMOL/KG,,PMOL/KG,,/MILLE,,/MILLE,,UMOL/KG,,UMOL/KG,,,,DEG C,UG/KG,,UG/KG,,ITS-90,
  49UP20110515,   P13,    87,  1,      0,     BUC,2,20110719,2148,0000, 18.0002, 164.9770, 5456,      0.0,        0,  28.8382,  34.7218,2,    198.7,2,     -999,9,   198.07,2,     1.01,2,     0.09,2,     0.00,2,    0.150,2,     -999,9,     -999,9,-999,9,-999,9,     -999,9,     -999,9,     -999,9,     -999,     0.06,2,     0.01,2,     -999,9
  49UP20110515,   P13,    87,  1,     36,     109,2,20110719,2148,0010, 18.0002, 164.9770, 5456,     10.4,       10,  28.7364,  34.7183,2,    198.7,2,  34.7181,2,   197.97,6,     1.01,2,     0.01,2,     0.00,2,    0.100,2,    1.633,3,    1.053,2,-999,9,-999,9,   1944.8,2,   2281.8,2,   8.1109,2,    25.00,     0.06,2,     0.02,2,  28.7369,2
  49UP20110515,   P13,    87,  1,     35,     108,2,20110719,2148,0007, 18.0002, 164.9770, 5456,     51.0,       51,  28.6389,  34.7422,2,    199.6,2,  34.7275,4,   199.03,2,     0.93,2,     0.00,2,     0.00,2,    0.100,2,    1.673,3,    1.042,2,-999,9,-999,9,   1946.0,2,   2281.8,2,   8.1115,2,    25.00,     0.07,2,     0.02,2,  28.6381,2
  49UP20110515,   P13,    87,  1,     34,     107,2,20110719,2148,0005, 18.0002, 164.9770, 5456,    100.5,      100,  27.1238,  35.1722,2,    209.9,2,  35.1682,2,   209.30,6,     0.99,6,     0.01,6,     0.00,6,    0.060,6,    2.009,3,    1.142,2,-999,9,-999,9,   1972.3,2,   2311.3,2,   8.1054,2,    25.00,     0.16,2,     0.07,2,  27.1201,2
  49UP20110515,   P13,    87,  1,     33,     106,2,20110719,2148,0003, 18.0002, 164.9770, 5456,    151.7,      151,  24.3981,  35.3249,2,    198.7,2,  35.3240,2,   198.46,2,     1.25,2,     0.09,2,     0.08,2,    0.070,2,    1.823,3,    1.212,2,-999,9,-999,9,   2010.7,2,   2318.8,2,   8.0591,2,    25.00,     0.17,2,     0.26,2,  24.3950,2
  49UP20110515,   P13,    87,  1,     32,     105,2,20110719,2148,0001, 18.0002, 164.9770, 5456,    200.4,      199,  21.0588,  35.0896,2,    189.7,2,  35.0951,6,   190.72,2,     2.10,2,     1.28,2,     0.02,2,    0.150,2,    2.065,3,    1.414,2,-999,9,-999,9,   2031.9,2,   2300.7,2,   7.9926,2,    25.00,     0.04,2,     0.09,2,  21.0593,2
  49UP20110515,   P13,    87,  1,     31,     104,2,20110719,2148,2359, 18.0002, 164.9770, 5456,    250.9,      249,  17.2507,  34.7127,2,    199.6,2,  34.7151,2,   199.48,2,     4.40,2,     4.89,2,     0.00,2,    0.360,2,    2.433,3,    1.590,6,-999,9,-999,9,   2042.0,2,   2278.4,2,   7.9347,2,    25.00,     -999,9,     -999,9,  17.2477,2
  49UP20110515,   P13,    87,  1,     30,     103,2,20110719,2148,2357, 18.0002, 164.9770, 5456,    333.3,      331,  13.5070,  34.4253,2,    194.3,2,  34.4291,2,   194.61,2,    10.97,6,    10.95,6,     0.00,6,    0.790,6,    2.854,3,    1.748,2,-999,9,-999,9,   2079.5,6,   2269.0,6,   7.8377,2,    25.00,     -999,9,     -999,9,  13.5000,2
  49UP20110515,   P13,    87,  1,     29,     102,2,20110719,2148,2355, 18.0002, 164.9770, 5456,    383.7,      381,  11.6270,  34.2910,2,    183.5,2,  34.2932,2,   183.63,6,    17.07,2,    15.13,2,     0.00,2,    1.110,2,    2.852,3,    1.749,2,-999,9,-999,9,   2112.3,2,   2265.6,2,   7.7633,2,    25.00,     -999,9,     -999,9,  11.6256,2
  49UP20110515,   P13,    87,  1,     28,     101,2,20110719,2148,2353, 18.0002, 164.9770, 5456,    433.8,      431,   9.9508,  34.2055,2,    148.9,2,  34.2070,2,   149.42,2,    26.90,2,    21.29,2,     0.00,2,    1.580,2,    2.524,3,    1.503,2,-999,9,-999,9,   2157.0,2,   2269.2,2,   7.6598,6,    25.00,     -999,9,     -999,9,   9.9563,2
  49UP20110515,   P13,    87,  1,     27,     100,2,20110719,2148,2351, 18.0002, 164.9770, 5456,    485.5,      482,   8.4299,  34.1697,2,    118.9,2,  34.1690,2,   118.68,2,    39.72,2,    27.16,2,     0.00,2,    2.020,2,    2.027,3,    1.137,6,-999,9,-999,9,   2198.6,2,   2278.1,2,   7.5639,2,    25.00,     -999,9,     -999,9,   8.4303,2
  49UP20110515,   P13,    87,  1,     26,      99,2,20110719,2148,2348, 18.0002, 164.9770, 5456,    537.0,      533,   7.7051,  34.1847,2,     94.5,2,  34.1853,2,    95.14,2,    47.96,2,    30.65,2,     0.00,2,    2.260,2,    1.559,3,    0.840,2,-999,9,-999,9,   2225.6,2,   2286.4,2,   7.5155,2,    25.00,     -999,9,     -999,9,   7.7050,2
  49UP20110515,   P13,    87,  1,     25,      98,2,20110719,2148,2345, 18.0002, 164.9770, 5456,    635.2,      630,   6.1847,  34.2330,2,     63.4,2,  34.2322,6,    63.13,2,    69.13,2,    36.53,2,     0.00,2,    2.710,2,    0.647,3,    0.361,2,-999,9,-999,9,   2271.7,2,   2309.2,2,   7.4252,2,    25.00,     -999,9,     -999,9,   6.1852,2
  49UP20110515,   P13,    87,  1,     24,      97,2,20110719,2148,2343, 18.0002, 164.9770, 5456,    736.5,      731,   5.3291,  34.3299,2,     55.0,2,  34.3309,2,    54.89,2,    84.21,2,    38.96,2,     0.00,2,    2.860,2,    0.233,3,    0.148,2,-999,9,-999,9,   2300.4,6,   2331.1,6,   7.4152,2,    25.00,     -999,9,     -999,9,   5.3300,2
  49UP20110515,   P13,    87,  1,     23,      96,2,20110719,2148,2340, 18.0002, 164.9770, 5456,    837.8,      831,   4.7923,  34.4164,2,     58.7,2,  34.4168,2,    58.89,2,    94.31,2,    39.70,2,     0.00,2,    2.890,2,    0.066,3,    0.060,2,-999,9,-999,9,   2306.8,2,   2348.3,2,   7.4244,6,    25.00,     -999,9,     -999,9,   4.7925,2
  49UP20110515,   P13,    87,  1,     22,      95,3,20110719,2148,2337, 18.0002, 164.9770, 5456,    939.7,      932,   4.3847,  34.4752,2,     67.1,2,  34.4767,2,    66.97,2,   101.58,6,    39.61,6,     0.00,6,    2.890,6,    0.060,3,    0.051,2,-999,9,-999,9,   2317.9,2,   2360.7,2,   7.4509,2,    25.00,     -999,9,     -999,9,   4.3851,2
  49UP20110515,   P13,    87,  1,     21,      94,2,20110719,2148,2333, 18.0002, 164.9770, 5456,   1081.2,     1072,   3.8473,  34.5226,2,     75.5,2,  34.5222,2,    75.51,2,   111.61,2,    39.66,2,     0.00,2,    2.870,2,    0.000,3,    0.017,2,-999,9,-999,9,   2324.7,2,   2375.0,2,   7.4585,2,    25.00,     -999,9,     -999,9,   3.8473,2
  49UP20110515,   P13,    87,  1,     20,      93,3,20110719,2148,2329, 18.0002, 164.9770, 5456,   1283.5,     1272,   3.2505,  34.5607,2,     79.6,2,  34.5610,2,    79.74,2,   123.21,2,    40.04,2,     0.00,2,    2.890,2,    0.000,3,    0.004,2,-999,9,-999,9,   2331.7,2,   2387.1,2,   7.4630,2,    25.00,     -999,9,     -999,9,   3.2505,2
  49UP20110515,   P13,    87,  1,     19,      92,2,20110719,2148,2324, 18.0002, 164.9770, 5456,   1486.5,     1472,   2.8576,  34.5811,2,     84.6,2,  34.5784,4,    84.48,2,   130.84,2,    40.08,2,     0.00,2,    2.890,2,    0.000,3,    0.003,2,-999,9,-999,9,   2343.5,2,   2395.2,2,   7.4685,2,    25.00,     -999,9,     -999,9,   2.8580,2
  49UP20110515,   P13,    87,  1,     18,      91,2,20110719,2148,2319, 18.0002, 164.9770, 5456,   1688.4,     1672,   2.5100,  34.5976,2,     91.5,2,  34.5994,2,    91.66,6,   138.72,2,    39.90,2,     0.00,2,    2.860,2,    0.000,3,    0.006,2,-999,9,-999,9,   2348.6,2,   2402.5,2,   7.4804,2,    25.00,     -999,9,     -999,9,   2.5098,2
  49UP20110515,   P13,    87,  1,     17,      90,2,20110719,2148,2314, 18.0002, 164.9770, 5456,   1891.9,     1872,   2.2586,  34.6114,2,     97.9,2,  34.6118,2,    98.03,2,   143.68,2,    39.59,2,     0.00,2,    2.830,2,     -999,9,     -999,9,-999,9,-999,9,   2350.6,2,   2407.8,2,   7.4904,2,    25.00,     -999,9,     -999,9,   2.2587,2
  49UP20110515,   P13,    87,  1,     16,      89,2,20110719,2148,2310, 18.0002, 164.9770, 5456,   2093.4,     2070,   2.0373,  34.6288,2,    105.6,2,  34.6290,2,   105.70,2,   148.07,2,    39.28,2,     0.00,2,    2.800,2,    0.000,3,    0.000,2,-999,9,-999,9,   2349.0,2,   2412.8,2,   7.4970,2,    25.00,     -999,9,     -999,9,   2.0376,2
  49UP20110515,   P13,    87,  1,     15,      88,2,20110719,2148,2305, 18.0002, 164.9770, 5456,   2297.1,     2271,   1.9063,  34.6397,2,    111.7,2,  34.6396,6,   111.92,2,   150.19,2,    38.94,2,     0.00,2,    2.760,2,     -999,9,     -999,9,-999,9,-999,9,   2348.7,2,   2416.4,2,   7.5090,2,    25.00,     -999,9,     -999,9,   1.9063,2
  49UP20110515,   P13,    87,  1,     14,      87,2,20110719,2148,2300, 18.0002, 164.9770, 5456,   2501.4,     2472,   1.7507,  34.6530,2,    120.0,2,  34.6539,2,   119.54,2,   152.12,2,    38.39,2,     0.00,2,    2.720,2,     -999,9,     -999,9,-999,9,-999,9,   2345.0,2,   2417.9,2,   7.5264,2,    25.00,     -999,9,     -999,9,   1.7507,2
  49UP20110515,   P13,    87,  1,     13,      86,2,20110719,2148,2255, 18.0002, 164.9770, 5456,   2705.0,     2672,   1.6873,  34.6593,2,    124.5,2,  34.6591,2,   124.76,2,   152.43,2,    38.01,2,     0.00,2,    2.690,2,     -999,9,     -999,9,-999,9,-999,9,   2342.2,2,   2418.8,2,   7.5336,2,    25.00,     -999,9,     -999,9,   1.6873,2
  49UP20110515,   P13,    87,  1,     12,      85,2,20110719,2148,2250, 18.0002, 164.9770, 5456,   2910.7,     2873,   1.6288,  34.6657,2,    129.8,2,  34.6660,2,   129.78,2,   152.53,6,    37.74,6,     0.00,6,    2.670,6,    0.000,3,    0.000,2,-999,9,-999,9,   2341.6,2,   2418.9,2,   7.5426,2,    25.00,     -999,9,     -999,9,   1.6289,2
  49UP20110515,   P13,    87,  1,     11,     110,2,20110719,2148,2240, 18.0002, 164.9770, 5456,   3124.5,     3083,   1.5812,  34.6705,2,    134.4,2,  34.6699,2,   134.26,2,   152.41,2,    37.55,2,     0.00,2,    2.640,2,     -999,9,     -999,9,-999,9,-999,9,   2338.3,2,   2421.2,2,   7.5507,2,    25.00,     -999,9,     -999,9,   1.5813,2
  49UP20110515,   P13,    87,  1,     10,      83,2,20110719,2148,2235, 18.0002, 164.9770, 5456,   3380.4,     3333,   1.5408,  34.6754,2,    140.0,2,  34.6759,2,   140.08,2,   151.26,2,    37.08,2,     0.00,2,    2.610,2,     -999,9,     -999,9,-999,9,-999,9,   2335.5,6,   2419.8,6,   7.5562,2,    25.00,     -999,9,     -999,9,   1.5408,2
  49UP20110515,   P13,    87,  1,      9,      82,3,20110719,2148,2229, 18.0002, 164.9770, 5456,   3634.3,     3582,   1.5123,  34.6798,2,    145.2,2,  34.6804,2,   144.91,2,   149.79,2,    36.68,2,     0.00,2,    2.580,2,     -999,9,     -999,9,-999,9,-999,9,   2331.0,2,   2418.8,2,   7.5646,6,    25.00,     -999,9,     -999,9,   1.5126,2
  49UP20110515,   P13,    87,  1,      8,      81,3,20110719,2148,2224, 18.0002, 164.9770, 5456,   3889.9,     3831,   1.4838,  34.6832,2,    150.9,2,  34.6838,2,   150.90,6,   147.35,2,    36.37,2,     0.00,2,    2.550,2,     -999,9,     -999,9,-999,9,-999,9,   2323.5,2,   2415.2,2,   7.5743,2,    25.00,     -999,9,     -999,9,   1.4837,2
  49UP20110515,   P13,    87,  1,      7,      80,2,20110719,2148,2218, 18.0002, 164.9770, 5456,   4147.5,     4083,   1.4631,  34.6868,2,    156.8,2,  34.6861,2,   155.80,2,   144.86,2,    35.97,2,     0.00,2,    2.520,2,    0.000,3,    0.000,2,-999,9,-999,9,   2314.8,2,   2412.6,2,   7.5768,2,    25.00,     -999,9,     -999,9,   1.4630,2
  49UP20110515,   P13,    87,  1,      6,      79,2,20110719,2148,2213, 18.0002, 164.9770, 5456,   4403.1,     4332,   1.4347,  34.6910,2,    164.1,2,  34.6906,2,   163.92,2,   140.69,2,    35.34,2,     0.00,2,    2.490,2,     -999,9,     -999,9,-999,9,-999,9,   2309.4,2,   2408.5,2,   7.5887,2,    25.00,     -999,9,     -999,9,   1.4348,2
  49UP20110515,   P13,    87,  1,      5,      78,2,20110719,2148,2208, 18.0002, 164.9770, 5456,   4660.1,     4582,   1.4200,  34.6944,2,    170.0,2,  34.6950,6,   170.46,2,   137.40,2,    34.96,2,     0.00,2,    2.460,2,     -999,9,     -999,9,-999,9,-999,9,   2308.3,2,   2405.1,2,   7.5920,2,    25.00,     -999,9,     -999,9,   1.4201,2
  49UP20110515,   P13,    87,  1,      4,      77,2,20110719,2148,2202, 18.0002, 164.9770, 5456,   4916.9,     4832,   1.4094,  34.6970,2,    175.4,2,  34.6971,2,   175.74,2,   134.40,2,    34.55,2,     0.00,2,    2.420,2,     -999,9,     -999,9,-999,9,-999,9,   2299.8,2,   2398.9,2,   7.5993,2,    25.00,     -999,9,     -999,9,   1.4092,2
  49UP20110515,   P13,    87,  1,      3,      76,2,20110719,2148,2157, 18.0002, 164.9770, 5456,   5173.9,     5081,   1.4043,  34.6992,2,    179.7,2,  34.7002,2,   180.13,2,   131.53,2,    34.26,2,     0.00,2,    2.390,2,     -999,9,     -999,9,-999,9,-999,9,   2296.4,2,   2395.9,2,   7.5999,2,    25.00,     -999,9,     -999,9,   1.4041,2
  49UP20110515,   P13,    87,  1,      2,      75,2,20110719,2148,2151, 18.0002, 164.9770, 5456,   5430.0,     5330,   1.4139,  34.7006,2,    182.4,2,  34.7009,2,   182.96,2,   129.95,2,    34.14,2,     0.00,2,    2.380,2,    0.000,3,    0.000,2,-999,9,-999,9,   2294.6,2,   2393.7,2,   7.6041,2,    25.00,     -999,9,     -999,9,   1.4139,2
  49UP20110515,   P13,    87,  1,      1,     112,2,20110719,2148,2148, 18.0002, 164.9770, 5456,   5539.1,     5436,   1.4237,  34.7008,2,    183.0,2,  34.7010,2,   183.73,2,   129.77,2,    34.01,2,     0.00,2,    2.390,2,     -999,9,     -999,9,-999,9,-999,9,   2288.2,2,   2391.5,2,   7.6045,2,    25.00,     -999,9,     -999,9,   1.4236,2