BOTTLE,20240116CCHSIOVAJ
EXPOCODE,SECT_ID,STNNBR,CASTNO,SAMPNO,BTLNBR,BTLNBR_FLAG_W,DATE,TIME,BTL_TIME,LATITUDE,LONGITUDE,DEPTH,CTDPRS,CTDDEPTH,CTDTMP,CTDSAL,CTDSAL_FLAG_W,CTDOXY,CTDOXY_FLAG_W,SALNTY,SALNTY_FLAG_W,OXYGEN,OXYGEN_FLAG_W,SILCAT,SILCAT_FLAG_W,NO2+NO3,NO2+NO3_FLAG_W,NITRIT,NITRIT_FLAG_W,PHSPHT,PHSPHT_FLAG_W,CFC-11,CFC-11_FLAG_W,CFC-12,CFC-12_FLAG_W,DELC14,DELC14_FLAG_W,DELC13,DELC13_FLAG_W,TCARBN,TCARBN_FLAG_W,ALKALI,ALKALI_FLAG_W,PH_TOT,PH_TOT_FLAG_W,PH_TMP,CHLORA,CHLORA_FLAG_W,PPHYTN,PPHYTN_FLAG_W,REFTMP,REFTMP_FLAG_W
,,,,,,,,,,,,METERS,DBAR,METERS,ITS-90,PSS-78,,UMOL/KG,,PSS-78,,UMOL/KG,,UMOL/KG,,UMOL/KG,,UMOL/KG,,UMOL/KG,,PMOL/KG,,PMOL/KG,,/MILLE,,/MILLE,,UMOL/KG,,UMOL/KG,,,,DEG C,UG/KG,,UG/KG,,ITS-90,
  49UP20110515,   P13,   130,  1,      0,     BUC,2,20110809,2332,0110, -1.0020, 165.0150, 4432,      0.0,        0,  29.9010,  34.5247,2,    194.8,2,     -999,9,   192.92,2,     0.97,2,     0.00,2,     0.00,2,    0.140,2,     -999,9,     -999,9,-999,9,-999,9,     -999,9,     -999,9,     -999,9,     -999,     0.08,2,     0.03,2,     -999,9
  49UP20110515,   P13,   130,  1,     36,     109,2,20110809,2332,0129, -1.0020, 165.0150, 4432,     11.4,       11,  29.7299,  34.5209,2,    194.7,2,  34.5217,2,   193.96,2,     0.97,2,     0.00,2,     0.00,2,    0.120,2,    1.621,3,    1.026,2,-999,9,-999,9,   1928.7,2,   2267.4,2,   8.1208,2,    25.00,     0.08,2,     0.03,2,  29.7309,2
  49UP20110515,   P13,   130,  1,     35,     108,2,20110809,2332,0127, -1.0020, 165.0150, 4432,     26.0,       26,  29.8741,  34.6957,2,    195.5,2,  34.7011,2,   194.63,2,     1.00,2,     0.00,2,     0.00,2,    0.150,2,    1.572,3,    1.019,2,-999,9,-999,9,   1941.0,2,   2279.6,2,   8.1190,2,    25.00,     0.11,2,     0.05,2,  29.8765,2
  49UP20110515,   P13,   130,  1,     34,     107,2,20110809,2332,0123, -1.0020, 165.0150, 4432,     51.3,       51,  29.6107,  34.8597,2,    196.3,2,  34.8634,2,   195.70,2,     1.01,2,     0.00,2,     0.00,2,    0.160,2,    1.652,3,    1.028,2,-999,9,-999,9,   1956.0,2,   2290.0,2,   8.1096,2,    25.00,     0.16,2,     0.07,2,  29.6119,2
  49UP20110515,   P13,   130,  1,     33,     106,2,20110809,2332,0121, -1.0020, 165.0150, 4432,     75.8,       75,  29.5713,  34.9138,2,    195.8,2,  34.9138,2,   195.93,2,     0.94,2,     0.00,2,     0.00,2,    0.160,2,    1.654,3,    1.042,2,-999,9,-999,9,   1957.2,2,   2293.1,2,   8.1083,6,    25.00,     0.22,2,     0.12,2,  29.5712,2
  49UP20110515,   P13,   130,  1,     32,     105,2,20110809,2332,0120, -1.0020, 165.0150, 4432,    101.8,      101,  29.2485,  35.2752,2,    194.3,2,  35.2757,2,   194.95,2,     1.21,2,     0.93,2,     0.08,2,    0.280,2,    1.616,3,    1.035,2,-999,9,-999,9,   1992.5,2,   2318.4,6,   8.0836,2,    25.00,     0.27,2,     0.22,2,  29.2490,2
  49UP20110515,   P13,   130,  1,     31,     104,2,20110809,2332,0119, -1.0020, 165.0150, 4432,    126.4,      126,  28.5075,  35.5268,2,    180.3,2,  35.5530,4,   177.51,2,     1.43,2,     3.92,2,     0.83,2,    0.490,2,    1.611,3,    1.075,6,-999,9,-999,9,   2028.8,2,   2337.7,2,   8.0394,2,    25.00,     0.12,2,     0.12,2,  28.4786,2
  49UP20110515,   P13,   130,  1,     30,     103,2,20110809,2332,0118, -1.0020, 165.0150, 4432,    151.8,      151,  25.4135,  35.4939,2,    145.0,2,  35.5193,4,   144.83,6,     2.63,2,     8.05,2,     0.02,2,    0.700,2,    1.666,3,    1.171,2,-999,9,-999,9,   2066.9,2,   2331.9,2,   7.9636,2,    25.00,     0.05,2,     0.08,2,  25.4139,2
  49UP20110515,   P13,   130,  1,     29,     102,2,20110809,2332,0116, -1.0020, 165.0150, 4432,    201.5,      200,  16.9247,  35.3575,2,    123.3,2,  35.3241,4,   124.06,2,     6.91,2,    15.03,2,     0.01,2,    1.200,2,    1.752,3,    1.178,2,-999,9,-999,9,   2145.8,2,   2325.7,2,   7.7998,2,    25.00,     0.00,2,     0.02,2,  16.9291,2
  49UP20110515,   P13,   130,  1,     28,     101,2,20110809,2332,0114, -1.0020, 165.0150, 4432,    251.8,      250,  12.8328,  34.9752,2,    141.8,2,  34.9610,4,   142.62,2,    12.37,2,    18.93,2,     0.00,2,    1.390,2,    1.612,3,    1.005,2,-999,9,-999,9,   2155.8,2,   2308.9,2,   7.7392,2,    25.00,     -999,9,     -999,9,  12.8414,2
  49UP20110515,   P13,   130,  1,     27,     100,2,20110809,2332,0112, -1.0020, 165.0150, 4432,    333.0,      331,  10.6808,  34.7742,2,     99.9,2,  34.7743,2,    99.63,2,    22.62,6,    26.94,6,     0.00,6,    1.880,6,    1.061,3,    0.647,6,-999,9,-999,9,   2199.4,2,   2304.2,2,   7.6255,2,    25.00,     -999,9,     -999,9,  10.6821,2
  49UP20110515,   P13,   130,  1,     26,      99,2,20110809,2332,0110, -1.0020, 165.0150, 4432,    382.9,      380,  10.0300,  34.7332,2,    104.1,2,  34.7325,2,   104.08,2,    23.37,2,    27.80,2,     0.00,2,    1.930,2,    0.975,3,    0.579,2,-999,9,-999,9,   2203.3,2,   2304.3,2,   7.6088,2,    25.00,     -999,9,     -999,9,  10.0312,2
  49UP20110515,   P13,   130,  1,     25,      98,2,20110809,2332,0108, -1.0020, 165.0150, 4432,    434.7,      432,   8.7810,  34.6517,2,    115.3,2,  34.6513,2,   116.00,2,    25.67,2,    29.20,2,     0.00,2,    2.020,2,    0.763,3,    0.470,2,-999,9,-999,9,   2206.6,2,   2302.1,2,   7.6003,2,    25.00,     -999,9,     -999,9,   8.7731,2
  49UP20110515,   P13,   130,  1,     24,      97,2,20110809,2332,0105, -1.0020, 165.0150, 4432,    535.1,      531,   6.9085,  34.5601,2,     97.7,2,  34.5583,2,    98.73,2,    42.49,2,    34.68,2,     0.00,2,    2.410,2,    0.254,3,    0.161,2,-999,9,-999,9,   2238.0,2,   2314.9,2,   7.5319,6,    25.00,     -999,9,     -999,9,   6.9094,2
  49UP20110515,   P13,   130,  1,     23,      96,2,20110809,2332,0102, -1.0020, 165.0150, 4432,    635.2,      631,   6.4516,  34.5495,2,     91.3,2,  34.5488,2,    90.89,2,    49.52,2,    36.20,2,     0.00,2,    2.540,2,    0.166,3,    0.100,2,-999,9,-999,9,   2253.9,6,   2318.4,6,   7.5162,2,    25.00,     -999,9,     -999,9,   6.4518,2
  49UP20110515,   P13,   130,  1,     21,      94,2,20110809,2332,0059, -1.0020, 165.0150, 4432,    736.7,      731,   5.7235,  34.5405,2,     90.3,2,  34.5394,2,    89.98,2,    60.23,2,    37.36,2,     0.00,2,    2.630,2,    0.089,3,    0.042,2,-999,9,-999,9,   2265.9,2,   2329.5,2,   7.5020,2,    25.00,     -999,9,     -999,9,   5.7250,2
  49UP20110515,   P13,   130,  1,     22,      95,2,20110809,2332,0059, -1.0020, 165.0150, 4432,    737.4,      732,   5.7198,  34.5406,2,     90.5,2,  34.5403,2,    90.14,2,    60.31,6,    37.39,6,     0.00,6,    2.640,6,    0.074,3,    0.051,2,-999,9,-999,9,   2264.3,2,   2329.5,2,   7.5036,2,    25.00,     -999,9,     -999,9,   5.7210,2
  49UP20110515,   P13,   130,  1,     20,      93,2,20110809,2332,0056, -1.0020, 165.0150, 4432,    837.2,      831,   5.3564,  34.5406,2,     90.1,2,  34.5397,2,    89.99,6,    66.30,2,    37.92,2,     0.00,2,    2.670,2,    0.052,3,    0.026,2,-999,9,-999,9,   2275.7,2,   2336.0,2,   7.4937,2,    25.00,     -999,9,     -999,9,   5.3566,2
  49UP20110515,   P13,   130,  1,     19,      92,2,20110809,2332,0054, -1.0020, 165.0150, 4432,    938.5,      931,   4.9707,  34.5450,2,     90.8,2,  34.5449,2,    90.88,2,    74.82,2,    38.11,2,     0.00,2,    2.690,2,    0.031,3,    0.024,2,-999,9,-999,9,   2280.8,2,   2343.0,2,   7.4960,2,    25.00,     -999,9,     -999,9,   4.9710,2
  49UP20110515,   P13,   130,  1,     18,      91,2,20110809,2332,0050, -1.0020, 165.0150, 4432,   1080.2,     1071,   4.3088,  34.5569,2,     94.3,2,  34.5572,2,    94.20,2,    87.52,2,    38.32,2,     0.00,2,    2.720,2,    0.005,3,    0.008,2,-999,9,-999,9,   2299.0,2,   2358.5,2,   7.4958,2,    25.00,     -999,9,     -999,9,   4.3089,2
  49UP20110515,   P13,   130,  1,     17,      90,2,20110809,2332,0045, -1.0020, 165.0150, 4432,   1281.5,     1271,   3.6190,  34.5789,2,     93.2,2,  34.5787,6,    92.99,2,   103.82,2,    39.18,2,     0.00,2,    2.780,2,    0.000,3,    0.000,2,-999,9,-999,9,   2316.2,2,   2375.0,2,   7.4926,2,    25.00,     -999,9,     -999,9,   3.6191,2
  49UP20110515,   P13,   130,  1,     16,      89,2,20110809,2332,0039, -1.0020, 165.0150, 4432,   1483.1,     1470,   3.1673,  34.5935,2,    103.9,2,  34.5936,2,   103.65,2,   111.92,2,    38.63,2,     0.00,2,    2.720,2,    0.000,3,    0.000,2,-999,9,-999,9,   2319.5,2,   2383.6,2,   7.5115,2,    25.00,     -999,9,     -999,9,   3.1677,2
  49UP20110515,   P13,   130,  1,     15,      88,2,20110809,2332,0034, -1.0020, 165.0150, 4432,   1686.9,     1671,   2.6861,  34.6158,2,    106.6,2,  34.6151,2,   107.03,2,   124.08,6,    38.73,6,     0.00,6,    2.730,6,    0.040,3,    0.003,2,-999,9,-999,9,   2332.9,2,   2396.0,2,   7.5126,6,    25.00,     -999,9,     -999,9,   2.6862,2
  49UP20110515,   P13,   130,  1,     14,      87,2,20110809,2332,0030, -1.0020, 165.0150, 4432,   1889.8,     1871,   2.3609,  34.6316,2,    113.0,2,  34.6323,2,   113.06,2,   131.75,2,    38.31,2,     0.00,2,    2.690,2,    0.018,3,    0.003,2,-999,9,-999,9,   2333.3,6,   2406.5,6,   7.5177,2,    25.00,     -999,9,     -999,9,   2.3611,2
  49UP20110515,   P13,   130,  1,     13,      86,2,20110809,2332,0024, -1.0020, 165.0150, 4432,   2092.8,     2071,   2.1424,  34.6433,2,    119.5,2,  34.6440,2,   119.69,6,   135.62,2,    37.99,2,     0.00,2,    2.660,2,     -999,9,     -999,9,-999,9,-999,9,   2332.0,2,   2412.8,2,   7.5302,2,    25.00,     -999,9,     -999,9,   2.1427,2
  49UP20110515,   P13,   130,  1,     12,      74,2,20110809,2332,0020, -1.0020, 165.0150, 4432,   2297.7,     2273,   2.0145,  34.6501,2,    123.2,2,  34.6505,2,   123.05,2,   138.38,2,    37.78,2,     0.00,2,    2.640,2,     -999,9,     -999,9,-999,9,-999,9,   2333.8,2,   2416.1,2,   7.5357,2,    25.00,     -999,9,     -999,9,   2.0147,2
  49UP20110515,   P13,   130,  1,     11,     110,2,20110809,2332,0015, -1.0020, 165.0150, 4432,   2499.7,     2471,   1.8201,  34.6603,2,    128.2,2,  34.6599,6,   128.43,2,   143.15,2,    37.59,2,     0.00,2,    2.620,2,     -999,9,     -999,9,-999,9,-999,9,   2337.6,2,   2417.5,2,   7.5468,2,    25.00,     -999,9,     -999,9,   1.8201,2
  49UP20110515,   P13,   130,  1,     10,      83,2,20110809,2332,0010, -1.0020, 165.0150, 4432,   2703.1,     2671,   1.7334,  34.6655,2,    131.6,2,  34.6651,2,   131.11,2,   144.70,2,    37.36,2,     0.00,2,    2.600,2,     -999,9,     -999,9,-999,9,-999,9,   2337.7,2,   2419.4,2,   7.5473,2,    25.00,     -999,9,     -999,9,   1.7335,2
  49UP20110515,   P13,   130,  1,      9,      82,3,20110809,2332,0006, -1.0020, 165.0150, 4432,   2906.2,     2870,   1.6785,  34.6690,2,    135.3,2,  34.6700,2,   135.33,2,   144.77,2,    37.07,2,     0.00,2,    2.570,2,    0.000,3,    0.000,2,-999,9,-999,9,   2332.7,2,   2418.3,2,   7.5555,2,    25.00,     -999,9,     -999,9,   1.6788,2
  49UP20110515,   P13,   130,  1,      8,      81,2,20110809,2332,0001, -1.0020, 165.0150, 4432,   3121.5,     3082,   1.5951,  34.6740,2,    141.5,2,  34.6742,2,   141.31,2,   144.37,2,    36.78,2,     0.00,2,    2.540,2,     -999,9,     -999,9,-999,9,-999,9,   2332.2,2,   2419.2,2,   7.5644,2,    25.00,     -999,9,     -999,9,   1.5952,2
  49UP20110515,   P13,   130,  1,      7,      80,2,20110809,2332,2356, -1.0020, 165.0150, 4432,   3376.5,     3331,   1.5751,  34.6767,2,    144.8,2,  34.6770,2,   144.66,6,   144.04,2,    36.51,2,     0.00,2,    2.520,2,     -999,9,     -999,9,-999,9,-999,9,   2329.6,2,   2417.7,2,   7.5655,2,    25.00,     -999,9,     -999,9,   1.5752,2
  49UP20110515,   P13,   130,  1,      6,      79,2,20110809,2332,2350, -1.0020, 165.0150, 4432,   3631.1,     3580,   1.5064,  34.6828,2,    152.1,2,  34.6821,2,   152.03,2,   142.28,6,    36.01,6,     0.00,6,    2.490,6,     -999,9,     -999,9,-999,9,-999,9,   2323.5,2,   2415.4,2,   7.5772,2,    25.00,     -999,9,     -999,9,   1.5065,2
  49UP20110515,   P13,   130,  1,      5,      78,2,20110809,2332,2345, -1.0020, 165.0150, 4432,   3887.3,     3831,   1.4545,  34.6885,2,    160.6,2,  34.6886,2,   160.75,2,   138.67,2,    35.48,2,     0.00,2,    2.440,2,     -999,9,     -999,9,-999,9,-999,9,   2311.2,2,   2412.6,2,   7.5924,2,    25.00,     -999,9,     -999,9,   1.4545,2
  49UP20110515,   P13,   130,  1,      4,      77,2,20110809,2332,2340, -1.0020, 165.0150, 4432,   4143.1,     4081,   1.3747,  34.6953,2,    172.6,2,  34.6966,2,   172.83,2,   133.08,2,    34.57,2,     0.00,2,    2.360,2,     -999,9,     -999,9,-999,9,-999,9,   2292.6,2,   2402.7,2,   7.5945,2,    25.00,     -999,9,     -999,9,   1.3746,2
  49UP20110515,   P13,   130,  1,      3,      76,2,20110809,2332,2335, -1.0020, 165.0150, 4432,   4399.0,     4330,   1.3447,  34.6990,2,    179.0,2,  34.6994,6,   178.90,2,   129.69,2,    34.06,2,     0.00,2,    2.340,2,    0.001,3,    0.000,2,-999,9,-999,9,   2290.9,2,   2396.2,2,   7.6014,2,    25.00,     -999,9,     -999,9,   1.3447,2
  49UP20110515,   P13,   130,  1,      2,      75,2,20110809,2332,2332, -1.0020, 165.0150, 4432,   4486.5,     4415,   1.3452,  34.6994,2,    180.2,2,  34.6997,2,   180.52,2,   128.80,2,    33.93,2,     0.00,2,    2.330,2,     -999,9,     -999,9,-999,9,-999,9,   2291.6,2,   2396.7,2,   7.6048,2,    25.00,     -999,9,     -999,9,   1.3452,2
  49UP20110515,   P13,   130,  1,      1,     112,2,20110809,2332,2332, -1.0020, 165.0150, 4432,   4486.5,     4415,   1.3452,  34.6994,2,    180.2,2,  34.7000,2,   180.09,2,   129.13,2,    33.90,2,     0.00,2,    2.330,2,     -999,9,     -999,9,-999,9,-999,9,   2293.6,2,   2393.8,3,   7.6052,2,    25.00,     -999,9,     -999,9,   1.3452,2