BOTTLE,20240116CCHSIOVAJ
EXPOCODE,SECT_ID,STNNBR,CASTNO,SAMPNO,BTLNBR,BTLNBR_FLAG_W,DATE,TIME,BTL_TIME,LATITUDE,LONGITUDE,DEPTH,CTDPRS,CTDDEPTH,CTDTMP,CTDSAL,CTDSAL_FLAG_W,CTDOXY,CTDOXY_FLAG_W,SALNTY,SALNTY_FLAG_W,OXYGEN,OXYGEN_FLAG_W,SILCAT,SILCAT_FLAG_W,NO2+NO3,NO2+NO3_FLAG_W,NITRIT,NITRIT_FLAG_W,PHSPHT,PHSPHT_FLAG_W,CFC-11,CFC-11_FLAG_W,CFC-12,CFC-12_FLAG_W,DELC14,DELC14_FLAG_W,DELC13,DELC13_FLAG_W,TCARBN,TCARBN_FLAG_W,ALKALI,ALKALI_FLAG_W,PH_TOT,PH_TOT_FLAG_W,PH_TMP,CHLORA,CHLORA_FLAG_W,PPHYTN,PPHYTN_FLAG_W,REFTMP,REFTMP_FLAG_W
,,,,,,,,,,,,METERS,DBAR,METERS,ITS-90,PSS-78,,UMOL/KG,,PSS-78,,UMOL/KG,,UMOL/KG,,UMOL/KG,,UMOL/KG,,UMOL/KG,,PMOL/KG,,PMOL/KG,,/MILLE,,/MILLE,,UMOL/KG,,UMOL/KG,,,,DEG C,UG/KG,,UG/KG,,ITS-90,
  49UP20110515,   P01,    25,  1,      0,     BUC,2,20110606,2049,0010, 40.9175, 149.8798, 5365,      0.0,        0,   8.7343,  32.9929,2,    311.2,2,     -999,9,   308.37,2,     3.21,2,     6.39,2,     0.12,2,    0.830,2,     -999,9,     -999,9,-999,9,-999,9,     -999,9,     -999,9,     -999,9,     -999,     0.73,2,     0.06,2,     -999,9
  49UP20110515,   P01,    25,  1,     36,     109,2,20110606,2049,0025, 40.9175, 149.8798, 5365,     11.4,       11,   8.5387,  32.9956,2,    312.9,2,  32.9954,2,   316.14,2,     2.98,2,     6.43,2,     0.12,2,    0.830,2,    4.733,2,    2.595,2,-999,9,-999,9,   2047.3,2,   2247.8,2,   7.8867,2,    25.00,     1.04,2,     0.05,2,   8.5432,2
  49UP20110515,   P01,    25,  1,     35,     108,2,20110606,2049,0020, 40.9175, 149.8798, 5365,     51.2,       51,   3.8044,  33.0405,2,    329.3,2,  33.0463,2,   329.53,2,    16.88,6,    14.25,6,     0.28,6,    1.430,6,    5.533,2,    3.087,2,-999,9,-999,9,   2097.9,2,   2248.8,2,   7.7617,2,    25.00,     0.59,2,     0.21,2,   3.8025,2
  49UP20110515,   P01,    25,  1,     34,     107,2,20110606,2049,0018, 40.9175, 149.8798, 5365,     76.2,       76,   2.1577,  33.1322,2,    314.5,2,  33.1333,6,   316.11,4,    39.26,6,    22.65,6,     0.27,6,    1.890,6,    5.635,2,    3.159,2,-999,9,-999,9,   2143.1,2,   2245.7,2,   7.6361,2,    25.00,     0.15,2,     0.11,2,   2.1416,2
  49UP20110515,   P01,    25,  1,     33,     106,2,20110606,2049,0016, 40.9175, 149.8798, 5365,    102.3,      101,   1.7496,  33.1563,2,    307.5,2,  33.1573,2,   306.58,2,    44.81,2,    25.32,2,     0.10,2,    2.010,2,    5.725,2,    3.110,2,-999,9,-999,9,   2145.0,3,   2244.4,2,   7.6069,2,    25.00,     0.08,2,     0.13,2,   1.7495,2
  49UP20110515,   P01,    25,  1,     32,     105,2,20110606,2049,0014, 40.9175, 149.8798, 5365,    127.3,      126,   2.2871,  33.3308,2,    256.2,2,  33.3299,2,   255.52,2,    52.62,2,    27.73,2,     0.02,2,    2.150,2,    4.892,2,    2.767,2,-999,9,-999,9,   2181.3,2,   2256.1,2,   7.5480,2,    25.00,     0.02,2,     0.08,2,   2.2889,2
  49UP20110515,   P01,    25,  1,     31,     104,2,20110606,2049,0013, 40.9175, 149.8798, 5365,    152.0,      151,   2.1963,  33.4007,2,    223.9,2,  33.3929,2,   224.80,2,    61.74,2,    30.91,2,     0.02,2,    2.360,2,    4.496,6,    2.648,6,-999,9,-999,9,   2207.8,2,   2263.1,2,   7.4863,2,    25.00,     0.02,2,     0.09,2,   2.1938,2
  49UP20110515,   P01,    25,  1,     30,     103,2,20110606,2049,0010, 40.9175, 149.8798, 5365,    202.4,      201,   2.8532,  33.6197,2,    157.4,2,  33.6134,2,   156.93,2,    75.17,2,    34.86,2,     0.01,2,    2.600,2,    3.630,2,    2.008,2,-999,9,-999,9,   2250.8,2,   2279.0,2,   7.4237,2,    25.00,     0.02,2,     0.08,2,   2.8562,2
  49UP20110515,   P01,    25,  1,     29,     102,2,20110606,2049,0008, 40.9175, 149.8798, 5365,    253.4,      251,   2.7719,  33.6944,2,    118.5,2,  33.6959,2,   118.80,2,    86.10,2,    38.28,2,     0.02,2,    2.810,2,    3.251,2,    1.743,2,-999,9,-999,9,   2279.7,2,   2288.6,2,   7.3452,6,    25.00,     -999,9,     -999,9,   2.7726,2
  49UP20110515,   P01,    25,  1,     28,     101,2,20110606,2049,0005, 40.9175, 149.8798, 5365,    303.3,      301,   3.3629,  33.8438,2,     97.0,2,  33.8391,2,    96.35,2,    90.79,2,    38.84,2,     0.01,2,    2.820,2,    2.583,2,    1.410,2,-999,9,-999,9,   2291.6,6,   2299.6,6,   7.3477,2,    25.00,     -999,9,     -999,9,   3.3636,2
  49UP20110515,   P01,    25,  1,     27,     100,2,20110606,2049,0002, 40.9175, 149.8798, 5365,    403.6,      400,   3.4902,  33.9890,2,     63.0,2,  33.9873,2,    63.35,6,   103.18,2,    40.92,2,     0.01,2,    2.950,2,    1.888,6,    1.064,6,-999,9,-999,9,   2317.1,2,   2316.9,2,   7.3199,2,    25.00,     -999,9,     -999,9,   3.4907,2
  49UP20110515,   P01,    25,  1,     26,      99,2,20110606,2049,2359, 40.9175, 149.8798, 5365,    505.7,      501,   3.5010,  34.1119,2,     45.6,2,  34.1132,2,    46.21,2,   114.02,2,    41.95,2,     0.01,2,    3.010,2,    1.299,2,    0.698,2,-999,9,-999,9,   2335.0,2,   2332.1,2,   7.3166,2,    25.00,     -999,9,     -999,9,   3.5013,2
  49UP20110515,   P01,    25,  1,     25,      98,2,20110606,2049,2356, 40.9175, 149.8798, 5365,    607.1,      602,   3.4770,  34.2234,2,     40.5,2,  34.2272,4,    41.58,2,   121.88,2,    41.90,2,     0.01,2,    3.010,2,    0.808,2,    0.425,2,-999,9,-999,9,   2344.8,2,   2347.0,2,   7.3325,2,    25.00,     -999,9,     -999,9,   3.4801,2
  49UP20110515,   P01,    25,  1,     24,      97,2,20110606,2049,2351, 40.9175, 149.8798, 5365,    707.6,      701,   3.1999,  34.2861,2,     36.0,2,  34.2877,2,    36.44,2,   131.86,2,    42.57,2,     0.00,2,    3.040,2,    0.581,2,    0.301,2,-999,9,-999,9,   2357.4,2,   2360.5,2,   7.3315,2,    25.00,     -999,9,     -999,9,   3.2003,2
  49UP20110515,   P01,    25,  1,     23,      96,2,20110606,2049,2344, 40.9175, 149.8798, 5365,    809.1,      801,   3.0745,  34.3408,2,     36.9,2,  34.3406,2,    37.10,6,   136.79,2,    42.61,2,     0.00,2,    3.050,2,    0.419,2,    0.192,2,-999,9,-999,9,   2361.7,2,   2367.4,2,   7.3395,2,    25.00,     -999,9,     -999,9,   3.0746,2
  49UP20110515,   P01,    25,  1,     22,      95,2,20110606,2049,2341, 40.9175, 149.8798, 5365,    909.9,      901,   2.9173,  34.3870,2,     38.3,2,  34.3871,2,    38.51,2,   141.90,2,    42.68,2,     0.00,2,    3.050,2,    0.348,2,    0.150,2,-999,9,-999,9,   2367.2,2,   2374.8,2,   7.3513,2,    25.00,     -999,9,     -999,9,   2.9176,2
  49UP20110515,   P01,    25,  1,     21,      94,2,20110606,2049,2338, 40.9175, 149.8798, 5365,   1011.3,     1001,   2.7506,  34.4133,2,     37.8,2,  34.4126,2,    38.39,2,   146.95,2,    42.81,2,     0.00,2,    3.060,2,    0.248,2,    0.113,2,-999,9,-999,9,   2373.3,2,   2381.1,2,   7.3519,2,    25.00,     -999,9,     -999,9,   2.7500,2
  49UP20110515,   P01,    25,  1,     20,      93,3,20110606,2049,2333, 40.9175, 149.8798, 5365,   1215.5,     1203,   2.4914,  34.4694,2,     40.8,2,  34.4694,2,    41.00,2,   154.65,2,    42.73,2,     0.00,2,    3.050,2,    0.144,2,    0.061,2,-999,9,-999,9,   2377.3,2,   2392.5,2,   7.3638,2,    25.00,     -999,9,     -999,9,   2.4920,2
  49UP20110515,   P01,    25,  1,     19,      92,2,20110606,2049,2322, 40.9175, 149.8798, 5365,   1417.2,     1401,   2.2784,  34.5082,2,     47.2,2,  34.5082,2,    47.81,2,   159.95,2,    42.45,2,     0.00,2,    3.000,3,    0.162,2,    0.051,2,-999,9,-999,9,   2379.7,2,   2400.4,2,   7.3777,2,    25.00,     -999,9,     -999,9,   2.2787,2
  49UP20110515,   P01,    25,  1,     18,      91,2,20110606,2049,2317, 40.9175, 149.8798, 5365,   1619.3,     1601,   2.1436,  34.5460,2,     55.2,2,  34.5467,2,    55.23,6,   162.64,2,    42.00,2,     0.00,2,    2.980,2,    0.109,2,    0.039,2,-999,9,-999,9,   2377.7,2,   2407.4,2,   7.4015,2,    25.00,     -999,9,     -999,9,   2.1438,2
  49UP20110515,   P01,    25,  1,     17,      90,2,20110606,2049,2312, 40.9175, 149.8798, 5365,   1822.9,     1801,   2.0063,  34.5797,2,     66.7,2,  34.5801,2,    67.36,2,   163.31,2,    41.54,2,     0.00,2,    2.930,2,    0.055,2,    0.002,2,-999,9,-999,9,   2374.4,6,   2410.3,6,   7.4238,2,    25.00,     -999,9,     -999,9,   2.0063,2
  49UP20110515,   P01,    25,  1,     16,      89,2,20110606,2049,2302, 40.9175, 149.8798, 5365,   2025.6,     2000,   1.8953,  34.6011,2,     77.5,2,  34.6005,2,    77.58,2,   163.72,6,    40.96,6,     0.00,6,    2.880,6,    0.061,2,    0.010,2,-999,9,-999,9,   2368.1,2,   2413.5,2,   7.4404,2,    25.00,     -999,9,     -999,9,   1.8953,2
  49UP20110515,   P01,    25,  1,     15,      88,2,20110606,2049,2257, 40.9175, 149.8798, 5365,   2229.6,     2201,   1.7972,  34.6190,2,     88.8,2,  34.6198,6,    88.73,2,   163.30,2,    40.16,2,     0.00,2,    2.830,2,    0.069,2,    0.012,2,-999,9,-999,9,   2366.0,2,   2415.1,2,   7.4655,2,    25.00,     -999,9,     -999,9,   1.7971,2
  49UP20110515,   P01,    25,  1,     14,      87,3,20110606,2049,2247, 40.9175, 149.8798, 5365,   2433.2,     2400,   1.7036,  34.6352,2,    100.7,2,  34.6357,2,   100.83,2,   162.21,4,    39.37,2,     0.00,2,    2.770,2,    0.070,2,    0.006,2,-999,9,-999,9,   2360.4,2,   2416.1,2,   7.4899,2,    25.00,     -999,9,     -999,9,   1.7035,2
  49UP20110515,   P01,    25,  1,     13,      86,2,20110606,2049,2236, 40.9175, 149.8798, 5365,   2638.3,     2602,   1.6419,  34.6462,2,    110.1,2,  34.6455,2,   110.46,2,   160.67,2,    38.85,2,     0.00,2,    2.730,2,     -999,9,     -999,9,-999,9,-999,9,   2355.5,2,   2416.9,2,   7.5074,2,    25.00,     -999,9,     -999,9,   1.6419,2
  49UP20110515,   P01,    25,  1,     12,      85,2,20110606,2049,2230, 40.9175, 149.8798, 5365,   2841.7,     2801,   1.5904,  34.6557,2,    119.2,2,  34.6555,2,   119.70,2,   158.79,2,    38.28,2,     0.00,2,    2.690,2,     -999,9,     -999,9,-999,9,-999,9,   2346.1,2,   2417.7,2,   7.5232,2,    25.00,     -999,9,     -999,9,   1.5906,2
  49UP20110515,   P01,    25,  1,     11,     110,3,20110606,2049,2208, 40.9175, 149.8798, 5365,   3046.0,     3001,   1.5526,  34.6626,2,    126.5,2,  34.6628,2,   126.42,2,   157.28,2,    37.83,2,     0.00,2,    2.650,2,     -999,9,     -999,9,-999,9,-999,9,   2340.9,2,   2416.8,2,   7.5361,2,    25.00,     -999,9,     -999,9,   1.5527,2
  49UP20110515,   P01,    25,  1,     10,      83,2,20110606,2049,2202, 40.9175, 149.8798, 5365,   3302.1,     3251,   1.5167,  34.6698,2,    134.1,2,  34.6681,4,   134.72,2,   154.99,2,    37.30,2,     0.00,2,    2.610,2,     -999,9,     -999,9,-999,9,-999,9,   2335.6,2,   2417.4,2,   7.5480,2,    25.00,     -999,9,     -999,9,   1.5170,2
  49UP20110515,   P01,    25,  1,      9,      82,2,20110606,2049,2152, 40.9175, 149.8798, 5365,   3558.5,     3501,   1.4899,  34.6754,2,    140.1,2,  34.6750,2,   140.09,2,   154.32,2,    36.89,2,     0.00,2,    2.580,2,    0.042,2,    0.001,2,-999,9,-999,9,   2332.1,2,   2418.2,2,   7.5585,2,    25.00,     -999,9,     -999,9,   1.4901,2
  49UP20110515,   P01,    25,  1,      8,      81,2,20110606,2049,2146, 40.9175, 149.8798, 5365,   3814.6,     3751,   1.4795,  34.6793,2,    144.9,2,  34.6789,2,   145.97,2,   153.11,2,    36.54,2,     0.00,2,    2.550,2,     -999,9,     -999,9,-999,9,-999,9,   2333.3,3,   2417.2,2,   7.5662,2,    25.00,     -999,9,     -999,9,   1.4796,2
  49UP20110515,   P01,    25,  1,      7,      80,2,20110606,2049,2136, 40.9175, 149.8798, 5365,   4070.6,     4001,   1.4682,  34.6835,2,    150.3,2,  34.6827,2,   150.18,6,   151.34,2,    36.21,2,     0.00,2,    2.520,2,     -999,9,     -999,9,-999,9,-999,9,   2326.6,2,   2415.5,2,   7.5736,2,    25.00,     -999,9,     -999,9,   1.4683,2
  49UP20110515,   P01,    25,  1,      6,      79,2,20110606,2049,2129, 40.9175, 149.8798, 5365,   4329.4,     4253,   1.4713,  34.6863,2,    153.7,2,  34.6857,6,   154.37,2,   150.09,2,    35.91,2,     0.00,2,    2.500,2,     -999,9,     -999,9,-999,9,-999,9,   2325.2,2,   2414.6,2,   7.5809,2,    25.00,     -999,9,     -999,9,   1.4715,2
  49UP20110515,   P01,    25,  1,      5,      78,2,20110606,2049,2120, 40.9175, 149.8798, 5365,   4585.2,     4501,   1.4817,  34.6884,2,    156.0,2,  34.6878,2,   155.69,2,   150.42,2,    35.87,2,     0.00,2,    2.500,2,     -999,9,     -999,9,-999,9,-999,9,   2324.4,2,   2416.2,2,   7.5839,2,    25.00,     -999,9,     -999,9,   1.4819,2
  49UP20110515,   P01,    25,  1,      4,      77,2,20110606,2049,2114, 40.9175, 149.8798, 5365,   4841.0,     4750,   1.4978,  34.6900,2,    157.8,2,  34.6896,2,   157.95,2,   150.27,2,    35.67,6,     0.00,6,    2.490,6,     -999,9,     -999,9,-999,9,-999,9,   2322.4,2,   2415.8,2,   7.5868,2,    25.00,     -999,9,     -999,9,   1.4979,2
  49UP20110515,   P01,    25,  1,      3,      76,2,20110606,2049,2105, 40.9175, 149.8798, 5365,   5100.8,     5002,   1.5202,  34.6911,2,    159.4,2,  34.6907,2,   159.31,2,   149.15,2,    35.63,2,     0.00,2,    2.480,2,     -999,9,     -999,9,-999,9,-999,9,   2320.7,6,   2413.4,2,   7.5900,2,    25.00,     -999,9,     -999,9,   1.5201,2
  49UP20110515,   P01,    25,  1,      2,      75,2,20110606,2049,2058, 40.9175, 149.8798, 5365,   5358.2,     5251,   1.5498,  34.6916,2,    159.8,2,  34.6911,2,   160.13,2,   148.77,2,    35.49,2,     0.00,2,    2.480,2,     -999,9,     -999,9,-999,9,-999,9,   2320.8,2,   2415.7,3,   7.5898,2,    25.00,     -999,9,     -999,9,   1.5498,2
  49UP20110515,   P01,    25,  1,      1,      74,3,20110606,2049,2050, 40.9175, 149.8798, 5365,   5451.9,     5342,   1.5614,  34.6916,2,    159.9,2,  34.6906,2,   160.05,2,   148.74,2,    35.56,2,     0.00,2,    2.480,2,     -999,5,     -999,5,-999,9,-999,9,   2321.2,2,   2413.7,2,   7.5861,2,    25.00,     -999,9,     -999,9,   1.5612,2