BOTTLE,20240116CCHSIOVAJ
EXPOCODE,SECT_ID,STNNBR,CASTNO,SAMPNO,BTLNBR,BTLNBR_FLAG_W,DATE,TIME,BTL_TIME,LATITUDE,LONGITUDE,DEPTH,CTDPRS,CTDDEPTH,CTDTMP,CTDSAL,CTDSAL_FLAG_W,CTDOXY,CTDOXY_FLAG_W,SALNTY,SALNTY_FLAG_W,OXYGEN,OXYGEN_FLAG_W,SILCAT,SILCAT_FLAG_W,NO2+NO3,NO2+NO3_FLAG_W,NITRIT,NITRIT_FLAG_W,PHSPHT,PHSPHT_FLAG_W,CFC-11,CFC-11_FLAG_W,CFC-12,CFC-12_FLAG_W,DELC14,DELC14_FLAG_W,DELC13,DELC13_FLAG_W,TCARBN,TCARBN_FLAG_W,ALKALI,ALKALI_FLAG_W,PH_TOT,PH_TOT_FLAG_W,PH_TMP,CHLORA,CHLORA_FLAG_W,PPHYTN,PPHYTN_FLAG_W,REFTMP,REFTMP_FLAG_W
,,,,,,,,,,,,METERS,DBAR,METERS,ITS-90,PSS-78,,UMOL/KG,,PSS-78,,UMOL/KG,,UMOL/KG,,UMOL/KG,,UMOL/KG,,UMOL/KG,,PMOL/KG,,PMOL/KG,,/MILLE,,/MILLE,,UMOL/KG,,UMOL/KG,,,,DEG C,UG/KG,,UG/KG,,ITS-90,
  49UP20110515,   KSE,    20,  1,      0,     BUC,2,20110522,2026,2310, 37.6390, 149.2330, 5883,      0.0,        0,  16.0047,  34.3046,2,    266.6,2,     -999,9,   265.89,2,     0.16,2,     0.06,2,     0.00,2,    0.070,2,     -999,9,     -999,9,-999,9,-999,9,     -999,9,     -999,9,     -999,9,     -999,     0.55,2,     0.14,2,     -999,9
  49UP20110515,   KSE,    20,  1,     36,     109,2,20110522,2026,2328, 37.6390, 149.2330, 5883,     10.9,       11,  15.9736,  34.3046,2,    266.5,2,  34.3068,2,   267.78,2,     0.13,2,     0.02,2,     0.00,2,    0.050,2,     -999,9,     -999,9,-999,9,-999,9,     -999,9,     -999,9,     -999,9,     -999,     0.00,4,     1.11,4,     -999,5
  49UP20110515,   KSE,    20,  1,     35,     108,2,20110522,2026,2324, 37.6390, 149.2330, 5883,     50.7,       50,  11.6205,  34.1252,2,    232.7,2,     -999,9,   232.86,2,    15.35,2,    10.32,2,     0.66,2,    0.810,2,     -999,9,     -999,9,-999,9,-999,9,     -999,9,     -999,9,     -999,9,     -999,     0.21,2,     0.19,2,     -999,5
  49UP20110515,   KSE,    20,  1,     34,     107,2,20110522,2026,2322, 37.6390, 149.2330, 5883,    101.4,      101,   9.5789,  34.0279,2,    259.8,2,  34.0241,6,   259.24,6,    14.37,6,    10.93,6,     0.50,6,    0.820,6,     -999,9,     -999,9,-999,9,-999,9,     -999,9,     -999,9,     -999,9,     -999,     0.06,2,     0.11,2,     -999,5
  49UP20110515,   KSE,    20,  1,     33,     106,4,20110522,2026,2318, 37.6390, 149.2330, 5883,    151.2,      150,   7.9778,  33.9018,2,    227.6,2,     -999,9,     -999,9,     -999,9,     -999,9,     -999,9,     -999,9,     -999,9,     -999,9,-999,9,-999,9,     -999,9,     -999,9,     -999,9,     -999,     -999,9,     -999,9,     -999,5
  49UP20110515,   KSE,    20,  1,     32,     105,2,20110522,2026,2315, 37.6390, 149.2330, 5883,    205.1,      203,   6.8218,  33.9147,2,    192.4,2,  33.9184,2,   191.07,2,    42.75,2,    22.85,2,     0.03,2,    1.680,2,     -999,9,     -999,9,-999,9,-999,9,     -999,9,     -999,9,     -999,9,     -999,     0.02,2,     0.09,2,     -999,5
  49UP20110515,   KSE,    20,  1,     31,     104,2,20110522,2026,2314, 37.6390, 149.2330, 5883,    254.3,      252,   6.5929,  33.9787,2,    166.6,2,     -999,9,   164.88,2,    51.38,2,    26.17,2,     0.02,2,    1.920,2,     -999,9,     -999,9,-999,9,-999,9,     -999,9,     -999,9,     -999,9,     -999,     -999,9,     -999,9,     -999,5
  49UP20110515,   KSE,    20,  1,     30,     103,2,20110522,2026,2311, 37.6390, 149.2330, 5883,    333.7,      331,   5.4015,  33.9803,2,    133.8,2,  33.9833,2,   133.01,2,    67.56,6,    31.61,6,     0.01,6,    2.300,6,     -999,9,     -999,9,-999,9,-999,9,     -999,9,     -999,9,     -999,9,     -999,     -999,9,     -999,9,     -999,5
  49UP20110515,   KSE,    20,  1,     29,     102,2,20110522,2026,2307, 37.6390, 149.2330, 5883,    434.6,      431,   4.8011,  34.0774,2,     94.0,2,  34.0744,2,    93.07,2,    85.75,2,    36.03,2,     0.00,2,    2.600,2,     -999,9,     -999,9,-999,9,-999,9,     -999,9,     -999,9,     -999,9,     -999,     -999,9,     -999,9,     -999,5
  49UP20110515,   KSE,    20,  1,     28,     101,2,20110522,2026,2304, 37.6390, 149.2330, 5883,    536.0,      531,   4.3630,  34.1778,2,     67.6,2,  34.1777,2,    67.38,2,   100.60,2,    38.69,2,     0.00,2,    2.770,2,     -999,9,     -999,9,-999,9,-999,9,     -999,9,     -999,9,     -999,9,     -999,     -999,9,     -999,9,     -999,5
  49UP20110515,   KSE,    20,  1,     27,     100,2,20110522,2026,2301, 37.6390, 149.2330, 5883,    637.2,      631,   3.9616,  34.2378,2,     54.4,2,  34.2409,2,    54.23,2,   112.50,2,    40.13,2,     0.00,2,    2.880,2,     -999,9,     -999,9,-999,9,-999,9,     -999,9,     -999,9,     -999,9,     -999,     -999,9,     -999,9,     -999,5
  49UP20110515,   KSE,    20,  1,     26,      99,2,20110522,2026,2256, 37.6390, 149.2330, 5883,    738.1,      731,   3.6331,  34.3025,2,     47.7,2,  34.3031,2,    47.92,2,   121.76,2,    41.17,2,     0.00,2,    2.940,2,     -999,9,     -999,9,-999,9,-999,9,     -999,9,     -999,9,     -999,9,     -999,     -999,9,     -999,9,     -999,5
  49UP20110515,   KSE,    20,  1,     25,      98,2,20110522,2026,2252, 37.6390, 149.2330, 5883,    841.3,      833,   3.3243,  34.3558,2,     44.2,2,  34.3554,2,    44.02,2,   130.36,2,    41.82,2,     0.00,2,    2.980,2,     -999,9,     -999,9,-999,9,-999,9,     -999,9,     -999,9,     -999,9,     -999,     -999,9,     -999,9,     -999,5
  49UP20110515,   KSE,    20,  1,     24,      97,2,20110522,2026,2252, 37.6390, 149.2330, 5883,    841.3,      833,   3.3243,  34.3558,2,     44.2,2,  34.3592,2,    44.34,2,   130.26,2,    41.61,2,     0.00,2,    2.980,2,     -999,9,     -999,9,-999,9,-999,9,     -999,9,     -999,9,     -999,9,     -999,     -999,9,     -999,9,     -999,5
  49UP20110515,   KSE,    20,  1,     23,      96,2,20110522,2026,2249, 37.6390, 149.2330, 5883,    940.8,      932,   3.0982,  34.3921,2,     42.9,2,  34.3913,2,    43.11,2,   136.56,2,    42.20,2,     0.00,2,    3.010,2,     -999,9,     -999,9,-999,9,-999,9,     -999,9,     -999,9,     -999,9,     -999,     -999,9,     -999,9,     -999,5
  49UP20110515,   KSE,    20,  1,     22,      95,2,20110522,2026,2245, 37.6390, 149.2330, 5883,   1082.5,     1072,   2.8491,  34.4320,2,     41.4,2,  34.4328,2,    41.23,2,   143.87,2,    42.39,2,     0.00,2,    3.030,2,     -999,9,     -999,9,-999,9,-999,9,     -999,9,     -999,9,     -999,9,     -999,     -999,9,     -999,9,     -999,5
  49UP20110515,   KSE,    20,  1,     21,      94,2,20110522,2026,2237, 37.6390, 149.2330, 5883,   1285.6,     1272,   2.5476,  34.4829,2,     43.4,2,  34.4836,2,    43.34,2,   152.36,6,    42.67,6,     0.00,6,    3.030,6,     -999,9,     -999,9,-999,9,-999,9,     -999,9,     -999,9,     -999,9,     -999,     -999,9,     -999,9,     -999,5
  49UP20110515,   KSE,    20,  1,     20,      93,2,20110522,2026,2231, 37.6390, 149.2330, 5883,   1486.8,     1470,   2.3142,  34.5256,2,     49.8,2,  34.5247,2,    49.75,2,   157.92,2,    42.45,2,     0.00,2,    2.970,3,     -999,9,     -999,9,-999,9,-999,9,     -999,9,     -999,9,     -999,9,     -999,     -999,9,     -999,9,     -999,5
  49UP20110515,   KSE,    20,  1,     19,      92,2,20110522,2026,2226, 37.6390, 149.2330, 5883,   1690.7,     1671,   2.1225,  34.5606,2,     59.8,2,  34.5599,2,    59.72,2,   161.58,2,    41.82,2,     0.00,2,    2.950,2,     -999,9,     -999,9,-999,9,-999,9,     -999,9,     -999,9,     -999,9,     -999,     -999,9,     -999,9,     -999,5
  49UP20110515,   KSE,    20,  1,     18,      91,2,20110522,2026,2218, 37.6390, 149.2330, 5883,   1894.4,     1872,   1.9946,  34.5847,2,     70.1,2,  34.5859,2,    70.29,2,   162.82,2,    41.44,2,     0.00,2,    2.900,2,     -999,9,     -999,9,-999,9,-999,9,     -999,9,     -999,9,     -999,9,     -999,     -999,9,     -999,9,     -999,5
  49UP20110515,   KSE,    20,  1,     17,      90,2,20110522,2026,2213, 37.6390, 149.2330, 5883,   2098.3,     2072,   1.8673,  34.6091,2,     85.2,2,  34.6086,2,    84.85,2,   161.52,2,    40.30,2,     0.00,2,    2.830,2,     -999,9,     -999,9,-999,9,-999,9,     -999,9,     -999,9,     -999,9,     -999,     -999,9,     -999,9,     -999,5
  49UP20110515,   KSE,    20,  1,     16,      89,2,20110522,2026,2206, 37.6390, 149.2330, 5883,   2300.7,     2271,   1.7664,  34.6262,2,     96.5,2,  34.6261,2,    96.34,6,   161.10,2,    39.76,2,     0.00,2,    2.770,2,     -999,9,     -999,9,-999,9,-999,9,     -999,9,     -999,9,     -999,9,     -999,     -999,9,     -999,9,     -999,5
  49UP20110515,   KSE,    20,  1,     15,      88,2,20110522,2026,2201, 37.6390, 149.2330, 5883,   2504.4,     2471,   1.6884,  34.6392,2,    106.6,2,  34.6405,2,   107.20,2,   160.13,6,    39.05,6,     0.00,6,    2.730,6,     -999,9,     -999,9,-999,9,-999,9,     -999,9,     -999,9,     -999,9,     -999,     -999,9,     -999,9,     -999,5
  49UP20110515,   KSE,    20,  1,     14,      87,2,20110522,2026,2156, 37.6390, 149.2330, 5883,   2709.1,     2672,   1.6277,  34.6497,2,    115.9,2,  34.6512,2,   115.91,2,   158.37,2,    38.32,2,     0.00,2,    2.680,2,     -999,9,     -999,9,-999,9,-999,9,     -999,9,     -999,9,     -999,9,     -999,     -999,9,     -999,9,     -999,5
  49UP20110515,   KSE,    20,  1,     13,      86,2,20110522,2026,2149, 37.6390, 149.2330, 5883,   2912.8,     2871,   1.5843,  34.6576,2,    123.1,2,  34.6581,2,   123.15,2,   156.71,2,    38.04,2,     0.00,2,    2.640,2,     -999,9,     -999,9,-999,9,-999,9,     -999,9,     -999,9,     -999,9,     -999,     -999,9,     -999,9,     -999,5
  49UP20110515,   KSE,    20,  1,     12,      85,2,20110522,2026,2144, 37.6390, 149.2330, 5883,   3127.4,     3081,   1.5488,  34.6641,2,    129.3,2,  34.6641,2,   129.64,2,   156.16,2,    37.47,2,     0.00,2,    2.620,2,     -999,9,     -999,9,-999,9,-999,9,     -999,9,     -999,9,     -999,9,     -999,     -999,9,     -999,9,     -999,5
  49UP20110515,   KSE,    20,  1,     11,     110,2,20110522,2026,2135, 37.6390, 149.2330, 5883,   3383.1,     3331,   1.5134,  34.6707,2,    136.3,2,  34.6717,2,   136.32,6,   154.11,2,    37.09,2,     0.00,2,    2.580,2,     -999,9,     -999,9,-999,9,-999,9,     -999,9,     -999,9,     -999,9,     -999,     -999,9,     -999,9,     -999,5
  49UP20110515,   KSE,    20,  1,     10,      83,2,20110522,2026,2129, 37.6390, 149.2330, 5883,   3638.2,     3580,   1.4872,  34.6763,2,    142.6,2,  34.6768,2,   142.33,2,   153.01,2,    36.75,2,     0.00,2,    2.550,2,     -999,9,     -999,9,-999,9,-999,9,     -999,9,     -999,9,     -999,9,     -999,     -999,9,     -999,9,     -999,5
  49UP20110515,   KSE,    20,  1,      9,      82,2,20110522,2026,2122, 37.6390, 149.2330, 5883,   3895.0,     3831,   1.4771,  34.6803,2,    147.5,2,  34.6801,6,   147.35,6,   151.47,2,    36.18,2,     0.00,2,    2.520,2,     -999,9,     -999,9,-999,9,-999,9,     -999,9,     -999,9,     -999,9,     -999,     -999,9,     -999,9,     -999,5
  49UP20110515,   KSE,    20,  1,      8,      81,2,20110522,2026,2116, 37.6390, 149.2330, 5883,   4150.6,     4080,   1.4738,  34.6834,2,    151.4,2,  34.6835,2,   151.33,2,   150.44,2,    36.12,2,     0.00,2,    2.500,2,     -999,9,     -999,9,-999,9,-999,9,     -999,9,     -999,9,     -999,9,     -999,     -999,9,     -999,9,     -999,5
  49UP20110515,   KSE,    20,  1,      7,      80,2,20110522,2026,2108, 37.6390, 149.2330, 5883,   4407.4,     4330,   1.4768,  34.6861,2,    154.6,2,  34.6866,2,   154.47,2,   149.89,2,    35.73,2,     0.00,2,    2.480,2,     -999,9,     -999,9,-999,9,-999,9,     -999,9,     -999,9,     -999,9,     -999,     -999,9,     -999,9,     -999,5
  49UP20110515,   KSE,    20,  1,      6,      79,2,20110522,2026,2103, 37.6390, 149.2330, 5883,   4665.7,     4581,   1.4896,  34.6880,2,    157.3,2,  34.6883,2,   157.09,2,   148.03,2,    35.72,2,     0.00,2,    2.470,2,     -999,9,     -999,9,-999,9,-999,9,     -999,9,     -999,9,     -999,9,     -999,     -999,9,     -999,9,     -999,5
  49UP20110515,   KSE,    20,  1,      5,      78,2,20110522,2026,2055, 37.6390, 149.2330, 5883,   4922.4,     4830,   1.5039,  34.6898,2,    159.7,2,  34.6906,2,   159.65,2,   147.16,2,    35.38,2,     0.00,2,    2.450,2,     -999,9,     -999,9,-999,9,-999,9,     -999,9,     -999,9,     -999,9,     -999,     -999,9,     -999,9,     -999,5
  49UP20110515,   KSE,    20,  1,      4,      77,2,20110522,2026,2049, 37.6390, 149.2330, 5883,   5180.9,     5081,   1.5235,  34.6912,2,    161.5,2,  34.6911,2,   161.33,2,   146.46,2,    35.20,2,     0.00,2,    2.450,2,     -999,9,     -999,9,-999,9,-999,9,     -999,9,     -999,9,     -999,9,     -999,     -999,9,     -999,9,     -999,5
  49UP20110515,   KSE,    20,  1,      3,      76,2,20110522,2026,2043, 37.6390, 149.2330, 5883,   5439.2,     5331,   1.5510,  34.6919,2,    162.7,2,  34.6927,2,   162.66,2,   145.28,2,    35.30,2,     0.00,2,    2.440,2,     -999,9,     -999,9,-999,9,-999,9,     -999,9,     -999,9,     -999,9,     -999,     -999,9,     -999,9,     -999,5
  49UP20110515,   KSE,    20,  1,      2,      75,2,20110522,2026,2035, 37.6390, 149.2330, 5883,   5696.9,     5580,   1.5789,  34.6926,2,    164.0,2,  34.6922,2,   163.77,2,   143.64,2,    34.99,2,     0.00,2,    2.430,2,     -999,9,     -999,9,-999,9,-999,9,     -999,9,     -999,9,     -999,9,     -999,     -999,9,     -999,9,     -999,5
  49UP20110515,   KSE,    20,  1,      1,      74,2,20110522,2026,2026, 37.6390, 149.2330, 5883,   5989.9,     5864,   1.6141,  34.6932,2,    164.6,2,  34.6934,2,   164.56,2,   142.99,2,    35.12,2,     0.00,2,    2.420,2,     -999,9,     -999,9,-999,9,-999,9,     -999,9,     -999,9,     -999,9,     -999,     -999,9,     -999,9,     -999,5