BOTTLE,20240116CCHSIOVAJ
EXPOCODE,SECT_ID,STNNBR,CASTNO,SAMPNO,BTLNBR,BTLNBR_FLAG_W,DATE,TIME,BTL_TIME,LATITUDE,LONGITUDE,DEPTH,CTDPRS,CTDDEPTH,CTDTMP,CTDSAL,CTDSAL_FLAG_W,CTDOXY,CTDOXY_FLAG_W,SALNTY,SALNTY_FLAG_W,OXYGEN,OXYGEN_FLAG_W,SILCAT,SILCAT_FLAG_W,NO2+NO3,NO2+NO3_FLAG_W,NITRIT,NITRIT_FLAG_W,PHSPHT,PHSPHT_FLAG_W,CFC-11,CFC-11_FLAG_W,CFC-12,CFC-12_FLAG_W,DELC14,DELC14_FLAG_W,DELC13,DELC13_FLAG_W,TCARBN,TCARBN_FLAG_W,ALKALI,ALKALI_FLAG_W,PH_TOT,PH_TOT_FLAG_W,PH_TMP,CHLORA,CHLORA_FLAG_W,PPHYTN,PPHYTN_FLAG_W,REFTMP,REFTMP_FLAG_W
,,,,,,,,,,,,METERS,DBAR,METERS,ITS-90,PSS-78,,UMOL/KG,,PSS-78,,UMOL/KG,,UMOL/KG,,UMOL/KG,,UMOL/KG,,UMOL/KG,,PMOL/KG,,PMOL/KG,,/MILLE,,/MILLE,,UMOL/KG,,UMOL/KG,,,,DEG C,UG/KG,,UG/KG,,ITS-90,
  49UP20110515,   P01,    28,  1,      0,     BUC,2,20110607,2129,0000, 42.3233, 152.0887, 5121,      0.0,        0,   6.7811,  32.8379,2,    337.8,2,     -999,9,   334.99,2,    27.31,3,    15.48,2,     0.20,2,    1.330,2,     -999,9,     -999,9,-999,9,-999,9,     -999,9,     -999,9,     -999,9,     -999,     1.45,2,     0.21,2,     -999,9
  49UP20110515,   P01,    28,  1,     36,     109,2,20110607,2129,0014, 42.3233, 152.0887, 5121,     11.0,       11,   6.5577,  32.8674,2,    341.3,2,  32.9055,4,   344.33,2,    28.07,2,    15.76,2,     0.21,2,    1.380,2,    4.764,2,    2.862,2,-999,9,-999,9,   2069.2,2,   2238.0,2,   7.8055,2,    25.00,     1.47,2,     0.25,2,   6.5609,2
  49UP20110515,   P01,    28,  1,     35,     108,2,20110607,2129,0009, 42.3233, 152.0887, 5121,     51.8,       51,   2.7658,  33.0484,2,    333.1,2,  33.0513,2,   333.93,2,    43.48,6,    22.73,6,     0.37,6,    1.880,6,    5.567,2,    3.129,2,-999,9,-999,9,   2125.8,2,   2242.9,2,   7.6867,2,    25.00,     0.37,2,     0.30,2,   2.7760,2
  49UP20110515,   P01,    28,  1,     34,     107,2,20110607,2129,0006, 42.3233, 152.0887, 5121,    101.9,      101,   1.4095,  33.1222,2,    321.9,2,  33.1203,2,   322.12,6,    48.16,2,    26.12,2,     0.02,2,    2.050,2,    5.424,2,    3.138,2,-999,9,-999,9,   2148.9,2,   2244.5,2,   7.6192,2,    25.00,     0.06,2,     0.10,2,   1.4088,2
  49UP20110515,   P01,    28,  1,     33,     106,2,20110607,2129,0004, 42.3233, 152.0887, 5121,    126.9,      126,   1.7477,  33.2797,2,    257.9,2,  33.2820,2,   255.22,2,    59.68,6,    30.47,6,     0.02,6,    2.330,6,    4.687,2,    2.756,2,-999,9,-999,9,   2193.3,2,   2256.2,2,   7.5194,6,    25.00,     0.03,2,     0.10,2,   1.7497,2
  49UP20110515,   P01,    28,  1,     32,     105,2,20110607,2129,0002, 42.3233, 152.0887, 5121,    152.6,      151,   2.4409,  33.5122,2,    175.7,2,  33.5172,2,   172.07,2,    74.08,2,    35.27,2,     0.02,2,    2.610,2,    3.764,2,    2.201,2,-999,9,-999,9,   2240.7,2,   2273.8,6,   7.4262,2,    25.00,     0.02,2,     0.12,2,   2.4433,2
  49UP20110515,   P01,    28,  1,     31,     104,2,20110607,2129,2359, 42.3233, 152.0887, 5121,    202.5,      201,   2.7882,  33.6484,2,    127.0,2,  33.6529,6,   124.68,2,    84.19,2,    38.43,2,     0.02,2,    2.790,2,    3.320,6,    1.829,6,-999,9,-999,9,   2275.7,2,   2283.8,2,   7.3494,2,    25.00,     0.01,2,     0.12,2,   2.7888,2
  49UP20110515,   P01,    28,  1,     30,     103,2,20110607,2129,2357, 42.3233, 152.0887, 5121,    253.1,      251,   3.0699,  33.7943,2,     80.1,2,  33.7930,2,    80.47,2,    95.13,2,    41.17,2,     0.01,2,    2.970,2,    2.596,2,    1.443,2,-999,9,-999,9,   2306.0,2,   2294.5,2,   7.2920,2,    25.00,     -999,9,     -999,9,   3.0712,2
  49UP20110515,   P01,    28,  1,     29,     102,2,20110607,2129,2356, 42.3233, 152.0887, 5121,    303.1,      300,   3.2028,  33.8961,2,     57.3,2,  33.8989,2,    57.07,2,   103.26,2,    42.58,2,     0.00,2,    3.050,2,    2.187,2,    1.186,2,-999,9,-999,9,   2324.3,2,   2307.6,2,   7.2779,2,    25.00,     -999,9,     -999,9,   3.2031,2
  49UP20110515,   P01,    28,  1,     28,     101,2,20110607,2129,2353, 42.3233, 152.0887, 5121,    405.1,      402,   3.4474,  34.0694,2,     25.9,2,  34.0698,2,    25.75,2,   115.61,2,    44.17,2,     0.00,2,    3.140,2,    0.000,4,    0.000,4,-999,9,-999,9,   2348.1,2,   2327.0,2,   7.2626,2,    25.00,     -999,9,     -999,9,   3.4476,2
  49UP20110515,   P01,    28,  1,     27,     100,2,20110607,2129,2350, 42.3233, 152.0887, 5121,    505.1,      501,   3.2776,  34.1676,2,     24.2,2,  34.1664,2,    25.03,2,   126.10,2,    43.96,2,     0.00,2,    3.130,2,    0.923,6,    0.467,6,-999,9,-999,9,   2359.2,2,   2342.4,2,   7.2842,2,    25.00,     -999,9,     -999,9,   3.2780,2
  49UP20110515,   P01,    28,  1,     26,      99,2,20110607,2129,2348, 42.3233, 152.0887, 5121,    605.6,      600,   3.1014,  34.2396,2,     22.9,2,  34.2373,2,    23.38,6,   134.45,2,    43.98,2,     0.00,2,    3.140,2,    0.652,2,    0.322,2,-999,9,-999,9,   2364.6,2,   2354.8,2,   7.2904,2,    25.00,     -999,9,     -999,9,   3.1023,2
  49UP20110515,   P01,    28,  1,     25,      98,2,20110607,2129,2344, 42.3233, 152.0887, 5121,    708.6,      702,   2.9724,  34.2979,2,     25.5,2,  34.2953,2,    25.48,2,   140.43,2,    43.77,2,     0.00,2,    3.120,2,    0.493,2,    0.263,2,-999,9,-999,9,   2368.9,2,   2363.6,2,   7.3055,2,    25.00,     -999,9,     -999,9,   2.9731,2
  49UP20110515,   P01,    28,  1,     24,      97,2,20110607,2129,2338, 42.3233, 152.0887, 5121,    808.6,      801,   2.8415,  34.3480,2,     25.0,2,  34.3471,6,    25.14,2,   146.42,2,    43.95,2,     0.00,2,    3.130,2,    0.301,2,    0.177,2,-999,9,-999,9,   2376.5,2,   2374.6,3,   7.3149,2,    25.00,     -999,9,     -999,9,   2.8418,2
  49UP20110515,   P01,    28,  1,     23,      96,2,20110607,2129,2336, 42.3233, 152.0887, 5121,    910.3,      901,   2.7002,  34.3911,2,     30.4,2,  34.3916,2,    30.74,2,   150.71,2,    43.44,2,     0.00,2,    3.100,2,    0.222,2,    0.133,2,-999,9,-999,9,   2378.4,2,   2378.6,2,   7.3284,2,    25.00,     -999,9,     -999,9,   2.7011,2
  49UP20110515,   P01,    28,  1,     22,      95,2,20110607,2129,2333, 42.3233, 152.0887, 5121,   1011.5,     1001,   2.5565,  34.4247,2,     31.5,2,  34.4260,2,    31.76,2,   155.60,2,    43.48,2,     0.00,2,    3.100,2,    0.156,2,    0.102,2,-999,9,-999,9,   2380.6,2,   2384.0,2,   7.3373,2,    25.00,     -999,9,     -999,9,   2.5564,2
  49UP20110515,   P01,    28,  1,     21,      94,2,20110607,2129,2329, 42.3233, 152.0887, 5121,   1214.1,     1201,   2.3491,  34.4766,2,     38.6,2,  34.4756,2,    39.35,2,   161.44,2,    43.11,2,     0.00,2,    3.070,2,    0.085,2,    0.065,2,-999,9,-999,9,   2383.7,2,   2392.2,2,   7.3554,6,    25.00,     -999,9,     -999,9,   2.3494,2
  49UP20110515,   P01,    28,  1,     20,      93,3,20110607,2129,2321, 42.3233, 152.0887, 5121,   1416.5,     1401,   2.1771,  34.5174,2,     48.2,2,  34.5171,2,    48.79,2,   164.76,2,    42.54,2,     0.00,2,    3.030,2,    0.048,2,    0.051,2,-999,9,-999,9,   2380.4,6,   2401.0,6,   7.3773,2,    25.00,     -999,9,     -999,9,   2.1773,2
  49UP20110515,   P01,    28,  1,     19,      92,2,20110607,2129,2317, 42.3233, 152.0887, 5121,   1620.4,     1601,   2.0734,  34.5571,2,     59.7,2,  34.5562,2,    60.08,2,   163.95,2,    41.88,2,     0.00,2,    2.950,3,    0.024,2,    0.041,2,-999,9,-999,9,   2379.9,2,   2405.8,2,   7.4086,2,    25.00,     -999,9,     -999,9,   2.0735,2
  49UP20110515,   P01,    28,  1,     18,      91,3,20110607,2129,2312, 42.3233, 152.0887, 5121,   1823.1,     1801,   1.9545,  34.5832,2,     67.7,2,  34.5840,2,    68.01,2,   165.84,2,    41.39,2,     0.00,2,    2.920,2,    0.000,2,    0.006,2,-999,9,-999,9,   2376.1,2,   2410.2,2,   7.4227,2,    25.00,     -999,9,     -999,9,   1.9545,2
  49UP20110515,   P01,    28,  1,     17,      90,2,20110607,2129,2312, 42.3233, 152.0887, 5121,   1823.1,     1801,   1.9545,  34.5832,2,     67.7,2,  34.5829,2,    67.65,2,   166.02,2,    41.60,2,     0.00,2,    2.920,2,    0.000,2,    0.008,2,-999,9,-999,9,   2376.9,2,   2410.2,2,   7.4273,2,    25.00,     -999,9,     -999,9,   1.9545,2
  49UP20110515,   P01,    28,  1,     16,      89,2,20110607,2129,2304, 42.3233, 152.0887, 5121,   2027.5,     2002,   1.8325,  34.6077,2,     79.9,2,  34.6072,2,    79.91,2,   166.35,6,    40.74,6,     0.00,6,    2.880,6,    0.000,2,    0.006,2,-999,9,-999,9,   2370.9,2,   2412.9,2,   7.4457,2,    25.00,     -999,9,     -999,9,   1.8328,2
  49UP20110515,   P01,    28,  1,     15,      88,2,20110607,2129,2300, 42.3233, 152.0887, 5121,   2230.2,     2201,   1.7300,  34.6270,2,     93.0,2,  34.6266,2,    93.97,2,   165.71,2,    39.91,2,     0.00,2,    2.820,2,    0.000,2,    0.001,2,-999,9,-999,9,   2367.0,2,   2415.6,2,   7.4725,2,    25.00,     -999,9,     -999,9,   1.7300,2
  49UP20110515,   P01,    28,  1,     14,      87,2,20110607,2129,2250, 42.3233, 152.0887, 5121,   2433.9,     2401,   1.6551,  34.6413,2,    105.5,2,  34.6410,2,   105.78,2,   162.94,2,    39.13,2,     0.00,2,    2.760,2,    0.000,2,    0.000,2,-999,9,-999,9,   2356.6,2,   2419.6,2,   7.4994,2,    25.00,     -999,9,     -999,9,   1.6551,2
  49UP20110515,   P01,    28,  1,     13,      86,2,20110607,2129,2243, 42.3233, 152.0887, 5121,   2638.5,     2601,   1.5943,  34.6522,2,    115.5,2,  34.6516,6,   116.63,2,   160.73,2,    38.54,2,     0.00,2,    2.700,2,     -999,9,     -999,9,-999,9,-999,9,   2349.2,2,   2413.9,2,   7.5116,2,    25.00,     -999,9,     -999,9,   1.5947,2
  49UP20110515,   P01,    28,  1,     12,      85,2,20110607,2129,2238, 42.3233, 152.0887, 5121,   2842.4,     2801,   1.5513,  34.6601,2,    123.7,2,  34.6601,2,   124.11,2,   158.94,2,    37.99,2,     0.00,2,    2.670,2,     -999,9,     -999,9,-999,9,-999,9,   2343.8,2,   2417.2,2,   7.5293,2,    25.00,     -999,9,     -999,9,   1.5510,2
  49UP20110515,   P01,    28,  1,     11,     110,2,20110607,2129,2230, 42.3233, 152.0887, 5121,   3046.7,     3001,   1.5117,  34.6671,2,    130.7,2,  34.6671,2,   130.91,2,   157.39,2,    37.52,2,     0.00,2,    2.630,2,     -999,9,     -999,9,-999,9,-999,9,   2338.9,2,   2417.5,2,   7.5418,2,    25.00,     -999,9,     -999,9,   1.5118,2
  49UP20110515,   P01,    28,  1,     10,      83,2,20110607,2129,2224, 42.3233, 152.0887, 5121,   3302.6,     3251,   1.4826,  34.6732,2,    137.5,2,  34.6736,2,   137.82,2,   155.90,2,    37.09,2,     0.00,2,    2.600,2,     -999,9,     -999,9,-999,9,-999,9,   2338.8,2,   2417.0,2,   7.5538,2,    25.00,     -999,9,     -999,9,   1.4826,2
  49UP20110515,   P01,    28,  1,      9,      82,2,20110607,2129,2215, 42.3233, 152.0887, 5121,   3558.5,     3501,   1.4641,  34.6780,2,    143.1,2,  34.6776,2,   143.42,2,   154.42,2,    36.78,2,     0.00,2,    2.560,2,    0.000,2,    0.005,2,-999,9,-999,9,   2327.9,2,   2415.8,2,   7.5649,2,    25.00,     -999,9,     -999,9,   1.4642,2
  49UP20110515,   P01,    28,  1,      8,      81,2,20110607,2129,2208, 42.3233, 152.0887, 5121,   3814.8,     3751,   1.4525,  34.6821,2,    148.2,2,  34.6813,2,   148.18,2,   153.08,2,    36.48,2,     0.00,2,    2.530,2,     -999,9,     -999,9,-999,9,-999,9,   2327.3,2,   2416.2,2,   7.5717,3,    25.00,     -999,9,     -999,9,   1.4526,2
  49UP20110515,   P01,    28,  1,      7,      80,3,20110607,2129,2208, 42.3233, 152.0887, 5121,   3814.8,     3751,   1.4525,  34.6821,2,    148.2,2,  34.6818,2,   149.08,4,   152.76,2,    36.39,2,     0.00,2,    2.540,2,     -999,9,     -999,9,-999,9,-999,9,   2329.0,3,   2416.8,2,   7.5735,2,    25.00,     -999,9,     -999,9,   1.4526,2
  49UP20110515,   P01,    28,  1,      6,      79,2,20110607,2129,2201, 42.3233, 152.0887, 5121,   4071.4,     4001,   1.4531,  34.6850,2,    151.8,2,  34.6854,2,   151.98,2,   152.13,6,    36.18,6,     0.00,6,    2.520,6,     -999,9,     -999,9,-999,9,-999,9,   2326.9,2,   2414.8,2,   7.5792,2,    25.00,     -999,9,     -999,9,   1.4532,2
  49UP20110515,   P01,    28,  1,      5,      78,2,20110607,2129,2155, 42.3233, 152.0887, 5121,   4328.8,     4251,   1.4591,  34.6873,2,    154.8,2,  34.6872,2,   155.14,2,   151.49,2,    35.98,2,     0.00,2,    2.510,2,    0.000,2,    0.003,2,-999,9,-999,9,   2323.9,6,   2415.1,6,   7.5829,2,    25.00,     -999,9,     -999,9,   1.4591,2
  49UP20110515,   P01,    28,  1,      4,      77,2,20110607,2129,2148, 42.3233, 152.0887, 5121,   4585.0,     4500,   1.4748,  34.6890,2,    156.6,2,  34.6891,2,   156.40,2,   151.34,2,    35.87,2,     0.00,2,    2.490,2,     -999,9,     -999,9,-999,9,-999,9,   2318.6,2,   2414.2,2,   7.5840,2,    25.00,     -999,9,     -999,9,   1.4747,2
  49UP20110515,   P01,    28,  1,      3,      76,2,20110607,2129,2142, 42.3233, 152.0887, 5121,   4843.0,     4751,   1.4972,  34.6901,2,    157.7,2,  34.6893,2,   158.09,6,   151.50,2,    35.81,2,     0.00,2,    2.480,2,     -999,9,     -999,9,-999,9,-999,9,   2320.7,2,   2414.6,2,   7.5832,2,    25.00,     -999,9,     -999,9,   1.4972,2
  49UP20110515,   P01,    28,  1,      2,      75,2,20110607,2129,2135, 42.3233, 152.0887, 5121,   5101.3,     5002,   1.5248,  34.6908,2,    158.1,2,  34.6902,2,   158.28,2,   152.06,2,    35.67,2,     0.00,2,    2.480,2,     -999,9,     -999,9,-999,9,-999,9,   2320.8,2,   2415.0,2,   7.5856,2,    25.00,     -999,9,     -999,9,   1.5248,2
  49UP20110515,   P01,    28,  1,      1,      74,2,20110607,2129,2129, 42.3233, 152.0887, 5121,   5205.0,     5102,   1.5373,  34.6909,2,    158.0,2,  34.6910,2,   157.72,2,   152.27,2,    35.65,2,     0.00,2,    2.480,2,    0.000,2,    0.000,2,-999,9,-999,9,   2324.3,2,   2414.6,2,   7.5827,2,    25.00,     -999,9,     -999,9,   1.5373,2