BOTTLE,20240116CCHSIOVAJ
EXPOCODE,SECT_ID,STNNBR,CASTNO,SAMPNO,BTLNBR,BTLNBR_FLAG_W,DATE,TIME,BTL_TIME,LATITUDE,LONGITUDE,DEPTH,CTDPRS,CTDDEPTH,CTDTMP,CTDSAL,CTDSAL_FLAG_W,CTDOXY,CTDOXY_FLAG_W,SALNTY,SALNTY_FLAG_W,OXYGEN,OXYGEN_FLAG_W,SILCAT,SILCAT_FLAG_W,NO2+NO3,NO2+NO3_FLAG_W,NITRIT,NITRIT_FLAG_W,PHSPHT,PHSPHT_FLAG_W,CFC-11,CFC-11_FLAG_W,CFC-12,CFC-12_FLAG_W,DELC14,DELC14_FLAG_W,DELC13,DELC13_FLAG_W,TCARBN,TCARBN_FLAG_W,ALKALI,ALKALI_FLAG_W,PH_TOT,PH_TOT_FLAG_W,PH_TMP,CHLORA,CHLORA_FLAG_W,PPHYTN,PPHYTN_FLAG_W,REFTMP,REFTMP_FLAG_W
,,,,,,,,,,,,METERS,DBAR,METERS,ITS-90,PSS-78,,UMOL/KG,,PSS-78,,UMOL/KG,,UMOL/KG,,UMOL/KG,,UMOL/KG,,UMOL/KG,,PMOL/KG,,PMOL/KG,,/MILLE,,/MILLE,,UMOL/KG,,UMOL/KG,,,,DEG C,UG/KG,,UG/KG,,ITS-90,
  49UP20110515,   P13,    93,  1,      0,     BUC,2,20110721,2019,2218, 15.0000, 164.9802, 5229,      0.0,        0,  28.8693,  34.8836,2,    196.9,2,     -999,9,   194.42,2,     1.06,2,     0.00,2,     0.00,2,    0.090,2,     -999,9,     -999,9,-999,9,-999,9,     -999,9,     -999,9,     -999,9,     -999,     0.09,2,     0.02,2,     -999,9
  49UP20110515,   P13,    93,  1,     36,     109,2,20110721,2019,2246, 15.0000, 164.9802, 5229,     12.4,       12,  28.8631,  34.8825,2,    196.8,2,  34.8822,2,   195.92,2,     0.91,2,     0.02,2,     0.00,2,    0.070,2,    1.701,3,    1.017,2,-999,9,-999,9,   1945.5,2,   2293.0,3,   8.1174,2,    25.00,     0.06,2,     0.02,2,  28.8647,2
  49UP20110515,   P13,    93,  1,     35,     108,2,20110721,2019,2242, 15.0000, 164.9802, 5229,     51.5,       51,  28.4104,  35.1548,2,    205.9,2,  35.1498,2,   205.60,2,     1.02,2,     0.04,2,     0.00,2,    0.040,2,    2.027,3,    1.084,2,-999,9,-999,9,   1958.2,2,   2311.8,3,   8.1164,2,    25.00,     0.09,2,     0.02,2,  28.4103,2
  49UP20110515,   P13,    93,  1,     34,     107,2,20110721,2019,2240, 15.0000, 164.9802, 5229,    101.5,      101,  25.3026,  35.3042,2,    198.0,2,  35.3027,2,   198.38,6,     1.26,6,     0.03,6,     0.00,6,    0.060,6,    1.962,3,    1.199,2,-999,9,-999,9,   1997.6,2,   2320.9,3,   8.0711,2,    25.00,     0.14,2,     0.13,2,  25.3067,2
  49UP20110515,   P13,    93,  1,     33,     106,2,20110721,2019,2238, 15.0000, 164.9802, 5229,    153.2,      152,  22.1370,  35.2007,2,    184.3,2,  35.1951,2,   184.78,2,     1.89,2,     1.21,2,     0.02,2,    0.200,2,    2.119,3,    1.338,2,-999,9,-999,9,   2034.1,2,   2312.6,3,   8.0018,2,    25.00,     0.08,2,     0.17,2,  22.1386,2
  49UP20110515,   P13,    93,  1,     32,     105,2,20110721,2019,2236, 15.0000, 164.9802, 5229,    201.7,      200,  18.1008,  34.7974,2,    188.0,2,  34.8206,4,   187.13,2,     3.97,2,     4.40,2,     0.01,2,    0.360,2,    2.471,3,    1.528,2,-999,9,-999,9,   2063.2,2,   2292.8,3,   7.9288,2,    25.00,     0.01,2,     0.02,2,  18.1094,2
  49UP20110515,   P13,    93,  1,     31,     104,2,20110721,2019,2234, 15.0000, 164.9802, 5229,    256.5,      255,  14.0142,  34.4289,2,    165.3,2,  34.4495,4,   169.07,2,    10.56,2,    11.59,2,     0.00,2,    0.890,2,    2.773,3,    1.652,6,-999,9,-999,9,   2099.0,2,   2272.5,3,   7.8007,6,    25.00,     -999,9,     -999,9,  14.0108,2
  49UP20110515,   P13,    93,  1,     30,     103,2,20110721,2019,2232, 15.0000, 164.9802, 5229,    334.1,      332,  10.6662,  34.3016,2,    104.2,2,  34.2983,2,   106.51,2,    26.01,6,    23.45,6,     0.00,6,    1.830,6,    2.246,3,    1.251,2,-999,9,-999,9,   2183.5,2,   2271.9,3,   7.5991,2,    25.00,     -999,9,     -999,9,  10.6656,2
  49UP20110515,   P13,    93,  1,     29,     102,3,20110721,2019,2230, 15.0000, 164.9802, 5229,    385.2,      383,   9.4348,  34.4017,2,     57.3,2,  34.3946,6,    57.70,2,    36.61,2,    30.58,2,     0.00,2,    2.320,2,    1.243,3,    0.652,2,-999,9,-999,9,   2234.6,2,   2291.3,3,   7.4815,2,    25.00,     -999,9,     -999,9,   9.4314,2
  49UP20110515,   P13,    93,  1,     28,     101,2,20110721,2019,2228, 15.0000, 164.9802, 5229,    434.2,      431,   8.5864,  34.4480,2,     40.6,2,  34.4484,2,    40.41,2,    43.81,2,    34.17,2,     0.00,2,    2.540,2,    0.614,3,    0.314,2,-999,9,-999,9,   2270.5,2,   2301.0,3,   7.4409,2,    25.00,     -999,9,     -999,9,   8.5871,2
  49UP20110515,   P13,    93,  1,     27,     100,3,20110721,2019,2226, 15.0000, 164.9802, 5229,    484.4,      481,   8.1172,  34.4998,2,     33.8,2,  34.4980,2,    33.42,2,    48.23,2,    36.21,2,     0.00,2,    2.680,2,    0.268,3,    0.141,6,-999,9,-999,9,   2271.3,2,   2311.7,3,   7.4264,2,    25.00,     -999,9,     -999,9,   8.1171,2
  49UP20110515,   P13,    93,  1,     26,      99,3,20110721,2019,2222, 15.0000, 164.9802, 5229,    536.7,      533,   7.3575,  34.4592,2,     46.6,2,  34.4579,2,    46.70,2,    55.12,2,    36.58,2,     0.00,2,    2.670,2,    0.262,3,    0.132,2,-999,9,-999,9,   2273.8,2,   2314.6,3,   7.4394,2,    25.00,     -999,9,     -999,9,   7.3572,2
  49UP20110515,   P13,    93,  1,     25,      98,2,20110721,2019,2216, 15.0000, 164.9802, 5229,    636.8,      632,   6.4282,  34.4828,2,     52.7,2,  34.4814,2,    52.30,2,    65.79,6,    38.04,6,     0.00,6,    2.760,6,    0.096,3,    0.063,2,-999,9,-999,9,   2285.3,6,   2325.0,3,   7.4492,2,    25.00,     -999,9,     -999,9,   6.4285,2
  49UP20110515,   P13,    93,  1,     24,      97,2,20110721,2019,2213, 15.0000, 164.9802, 5229,    739.1,      733,   5.9626,  34.4984,2,     52.7,2,  34.4976,2,    52.79,2,    72.16,2,    39.07,2,     0.00,2,    2.840,2,    0.051,3,    0.039,2,-999,9,-999,9,   2292.9,2,   2331.6,3,   7.4370,6,    25.00,     -999,9,     -999,9,   5.9627,2
  49UP20110515,   P13,    93,  1,     23,      96,3,20110721,2019,2210, 15.0000, 164.9802, 5229,    838.5,      832,   5.3959,  34.5093,2,     57.3,2,  34.5086,2,    57.36,2,    80.63,2,    39.58,2,     0.00,2,    2.860,2,    0.028,3,    0.018,2,-999,9,-999,9,   2304.5,2,   2342.6,3,   7.4414,2,    25.00,     -999,9,     -999,9,   5.3960,2
  49UP20110515,   P13,    93,  1,     22,      95,2,20110721,2019,2207, 15.0000, 164.9802, 5229,    939.3,      932,   5.0660,  34.5184,2,     57.2,2,  34.5179,2,    57.15,6,    86.57,2,    40.32,2,     0.00,2,    2.910,2,    0.057,3,    0.018,2,-999,9,-999,9,   2311.1,2,   2346.0,3,   7.4379,2,    25.00,     -999,9,     -999,9,   5.0662,2
  49UP20110515,   P13,    93,  1,     21,      94,2,20110721,2019,2200, 15.0000, 164.9802, 5229,   1081.5,     1072,   4.4314,  34.5372,2,     63.4,2,  34.5356,2,    63.13,2,    97.90,2,    40.40,2,     0.00,2,    2.910,2,    0.000,3,    0.003,2,-999,9,-999,9,   2320.9,2,   2357.3,3,   7.4458,2,    25.00,     -999,9,     -999,9,   4.4318,2
  49UP20110515,   P13,    93,  1,     20,      93,3,20110721,2019,2155, 15.0000, 164.9802, 5229,   1285.9,     1274,   3.7916,  34.5562,2,     68.4,2,  34.5558,6,    68.26,2,   112.05,2,    40.78,2,     0.00,2,    2.920,2,    0.000,3,    0.004,2,-999,9,-999,9,   2335.5,2,   2376.9,3,   7.4493,2,    25.00,     -999,9,     -999,9,   3.7917,2
  49UP20110515,   P13,    93,  1,     19,      92,2,20110721,2019,2150, 15.0000, 164.9802, 5229,   1487.8,     1474,   3.1426,  34.5773,2,     79.0,2,  34.5757,2,    78.67,2,   124.95,2,    40.30,2,     0.00,2,    2.870,2,    0.000,3,    0.002,2,-999,9,-999,9,   2338.4,2,   2386.8,3,   7.4605,2,    25.00,     -999,9,     -999,9,   3.1425,2
  49UP20110515,   P13,    93,  1,     18,      91,3,20110721,2019,2143, 15.0000, 164.9802, 5229,   1688.4,     1672,   2.6334,  34.6001,2,     90.0,2,  34.5999,2,    90.02,2,   135.80,2,    39.83,2,     0.00,2,    2.830,2,    0.012,3,    0.005,2,-999,9,-999,9,   2345.0,2,   2398.7,3,   7.4771,2,    25.00,     -999,9,     -999,9,   2.6331,2
  49UP20110515,   P13,    93,  1,     17,      90,2,20110721,2019,2138, 15.0000, 164.9802, 5229,   1892.7,     1873,   2.2933,  34.6189,2,     98.8,2,  34.6178,2,    98.58,2,   142.73,2,    39.43,2,     0.00,2,    2.780,2,    0.000,3,    0.000,2,-999,9,-999,9,   2348.1,2,   2407.1,3,   7.4924,2,    25.00,     -999,9,     -999,9,   2.2934,2
  49UP20110515,   P13,    93,  1,     16,      89,2,20110721,2019,2131, 15.0000, 164.9802, 5229,   2093.9,     2071,   2.0934,  34.6303,2,    104.8,2,  34.6297,2,   104.57,2,   146.78,2,    39.11,2,     0.00,2,    2.750,2,     -999,9,     -999,9,-999,9,-999,9,   2349.5,2,   2410.9,3,   7.5041,2,    25.00,     -999,9,     -999,9,   2.0934,2
  49UP20110515,   P13,    93,  1,     15,      88,3,20110721,2019,2125, 15.0000, 164.9802, 5229,   2298.0,     2272,   1.9174,  34.6430,2,    112.3,2,  34.6433,2,   112.27,2,   149.80,2,    38.69,2,     0.00,2,    2.710,2,     -999,9,     -999,9,-999,9,-999,9,   2350.1,2,   2414.4,3,   7.5181,2,    25.00,     -999,9,     -999,9,   1.9177,2
  49UP20110515,   P13,    93,  1,     14,      87,2,20110721,2019,2120, 15.0000, 164.9802, 5229,   2501.4,     2472,   1.8052,  34.6537,2,    119.0,2,  34.6539,2,   118.81,6,   150.82,2,    38.27,2,     0.00,2,    2.680,2,     -999,9,     -999,9,-999,9,-999,9,   2347.4,2,   2416.0,3,   7.5274,2,    25.00,     -999,9,     -999,9,   1.8052,2
  49UP20110515,   P13,    93,  1,     13,      86,2,20110721,2019,2115, 15.0000, 164.9802, 5229,   2705.0,     2672,   1.7200,  34.6596,2,    123.6,2,  34.6590,2,   123.24,2,   151.73,2,    37.99,2,     0.00,2,    2.660,2,    0.000,3,    0.000,2,-999,9,-999,9,   2342.9,3,   2414.8,3,   7.5349,2,    25.00,     -999,9,     -999,9,   1.7202,2
  49UP20110515,   P13,    93,  1,     11,     110,2,20110721,2019,2110, 15.0000, 164.9802, 5229,   2909.1,     2872,   1.6451,  34.6662,2,    129.3,2,  34.6650,2,   129.16,2,   152.71,2,    37.67,2,     0.00,2,    2.630,2,     -999,9,     -999,9,-999,9,-999,9,   2345.0,2,   2417.7,3,   7.5445,2,    25.00,     -999,9,     -999,9,   1.6453,2
  49UP20110515,   P13,    93,  1,     12,      74,2,20110721,2019,2110, 15.0000, 164.9802, 5229,   2909.9,     2873,   1.6452,  34.6661,2,    129.3,2,  34.6648,2,   129.08,2,   152.33,6,    37.56,6,     0.00,6,    2.640,6,     -999,9,     -999,9,-999,9,-999,9,   2341.1,3,   2424.7,3,   7.5663,3,    25.00,     -999,9,     -999,9,   1.6452,2
  49UP20110515,   P13,    93,  1,     10,      83,2,20110721,2019,2105, 15.0000, 164.9802, 5229,   3123.3,     3082,   1.5711,  34.6726,2,    135.6,2,  34.6723,2,   135.41,2,   152.65,2,    37.20,2,     0.00,2,    2.590,2,     -999,9,     -999,9,-999,9,-999,9,   2342.3,2,   2418.8,3,   7.5560,2,    25.00,     -999,9,     -999,9,   1.5710,2
  49UP20110515,   P13,    93,  1,      9,      82,2,20110721,2019,2100, 15.0000, 164.9802, 5229,   3379.5,     3333,   1.5473,  34.6757,2,    139.5,2,  34.6756,2,   139.37,2,   151.95,2,    36.89,2,     0.00,2,    2.570,2,     -999,9,     -999,9,-999,9,-999,9,   2336.3,2,   2417.7,3,   7.5569,3,    25.00,     -999,9,     -999,9,   1.5474,2
  49UP20110515,   P13,    93,  1,      8,      81,2,20110721,2019,2055, 15.0000, 164.9802, 5229,   3633.3,     3581,   1.5098,  34.6805,2,    145.6,2,  34.6804,2,   145.08,2,   150.52,2,    36.55,2,     0.00,2,    2.540,2,     -999,9,     -999,9,-999,9,-999,9,   2332.8,2,   2415.2,3,   7.5681,2,    25.00,     -999,9,     -999,9,   1.5098,2
  49UP20110515,   P13,    93,  1,      7,      80,2,20110721,2019,2049, 15.0000, 164.9802, 5229,   3890.7,     3833,   1.4654,  34.6854,2,    152.9,2,  34.6852,2,   152.19,2,   147.24,2,    36.08,2,     0.00,2,    2.510,2,    0.000,3,    0.000,2,-999,9,-999,9,   2323.6,2,   2413.3,3,   7.5768,2,    25.00,     -999,9,     -999,9,   1.4655,2
  49UP20110515,   P13,    93,  1,      6,      79,2,20110721,2019,2044, 15.0000, 164.9802, 5229,   4146.0,     4082,   1.4262,  34.6899,2,    161.1,2,  34.6896,2,   160.82,2,   143.04,2,    35.41,2,     0.00,2,    2.450,2,     -999,9,     -999,9,-999,9,-999,9,   2318.1,6,   2410.5,3,   7.5887,2,    25.00,     -999,9,     -999,9,   1.4263,2
  49UP20110515,   P13,    93,  1,      5,      78,2,20110721,2019,2038, 15.0000, 164.9802, 5229,   4401.1,     4331,   1.3982,  34.6940,2,    168.7,2,  34.6938,2,   168.11,2,   138.28,2,    34.87,2,     0.00,2,    2.420,2,     -999,9,     -999,9,-999,9,-999,9,   2309.1,2,   2403.7,3,   7.5922,6,    25.00,     -999,9,     -999,9,   1.3984,2
  49UP20110515,   P13,    93,  1,      4,      77,2,20110721,2019,2033, 15.0000, 164.9802, 5229,   4658.0,     4581,   1.3798,  34.6971,2,    174.9,2,  34.6964,2,   175.16,6,   134.75,2,    34.37,2,     0.00,2,    2.380,2,     -999,9,     -999,9,-999,9,-999,9,   2303.0,2,   2396.3,3,   7.5997,2,    25.00,     -999,9,     -999,9,   1.3799,2
  49UP20110515,   P13,    93,  1,      3,      76,2,20110721,2019,2028, 15.0000, 164.9802, 5229,   4916.9,     4833,   1.3806,  34.6988,2,    178.6,2,  34.6990,6,   178.72,2,   132.66,2,    34.14,2,     0.00,2,    2.360,2,     -999,9,     -999,9,-999,9,-999,9,   2298.2,2,   2394.7,3,   7.6028,2,    25.00,     -999,9,     -999,9,   1.3806,2
  49UP20110515,   P13,    93,  1,      2,      75,2,20110721,2019,2023, 15.0000, 164.9802, 5229,   5170.6,     5079,   1.3937,  34.7000,2,    180.8,2,  34.6999,2,   181.04,2,   131.39,2,    33.95,2,     0.00,2,    2.350,2,    0.000,3,    0.000,2,-999,9,-999,9,   2295.9,2,   2391.5,3,   7.6056,2,    25.00,     -999,9,     -999,9,   1.3939,2
  49UP20110515,   P13,    93,  1,      1,     112,2,20110721,2019,2019, 15.0000, 164.9802, 5229,   5320.3,     5224,   1.4037,  34.7005,2,    181.9,2,  34.7010,2,   181.80,2,   130.88,2,    33.84,2,     0.00,2,    2.350,2,     -999,9,     -999,9,-999,9,-999,9,   2293.0,2,   2393.1,3,   7.6051,2,    25.00,     -999,9,     -999,9,   1.4037,2