BOTTLE,20240116CCHSIOVAJ
EXPOCODE,SECT_ID,STNNBR,CASTNO,SAMPNO,BTLNBR,BTLNBR_FLAG_W,DATE,TIME,BTL_TIME,LATITUDE,LONGITUDE,DEPTH,CTDPRS,CTDDEPTH,CTDTMP,CTDSAL,CTDSAL_FLAG_W,CTDOXY,CTDOXY_FLAG_W,SALNTY,SALNTY_FLAG_W,OXYGEN,OXYGEN_FLAG_W,SILCAT,SILCAT_FLAG_W,NO2+NO3,NO2+NO3_FLAG_W,NITRIT,NITRIT_FLAG_W,PHSPHT,PHSPHT_FLAG_W,CFC-11,CFC-11_FLAG_W,CFC-12,CFC-12_FLAG_W,DELC14,DELC14_FLAG_W,DELC13,DELC13_FLAG_W,TCARBN,TCARBN_FLAG_W,ALKALI,ALKALI_FLAG_W,PH_TOT,PH_TOT_FLAG_W,PH_TMP,CHLORA,CHLORA_FLAG_W,PPHYTN,PPHYTN_FLAG_W,REFTMP,REFTMP_FLAG_W
,,,,,,,,,,,,METERS,DBAR,METERS,ITS-90,PSS-78,,UMOL/KG,,PSS-78,,UMOL/KG,,UMOL/KG,,UMOL/KG,,UMOL/KG,,UMOL/KG,,PMOL/KG,,PMOL/KG,,/MILLE,,/MILLE,,UMOL/KG,,UMOL/KG,,,,DEG C,UG/KG,,UG/KG,,ITS-90,
  49UP20110515,   P13,   142,  1,      0,     BUC,2,20110813,0813,0952, -5.7650, 163.9708, 3428,      0.0,        0,  29.4238,  35.2419,2,    198.5,2,     -999,9,   198.18,2,     1.11,2,     0.44,2,     0.02,2,    0.250,2,     -999,9,     -999,9,-999,9,-999,9,     -999,9,     -999,9,     -999,9,     -999,     0.16,2,     0.08,2,     -999,9
  49UP20110515,   P13,   142,  1,     36,     109,2,20110813,0813,1008, -5.7650, 163.9708, 3428,     11.9,       12,  29.4267,  35.2422,2,    198.8,2,  35.2421,2,   198.31,2,     1.04,2,     0.44,2,     0.02,2,    0.240,2,    1.681,3,    1.019,2,-999,9,-999,9,   1979.1,2,   2314.8,2,   8.1027,2,    25.00,     0.16,2,     0.08,2,  29.4273,2
  49UP20110515,   P13,   142,  1,     35,     108,2,20110813,0813,1007, -5.7650, 163.9708, 3428,     25.7,       26,  29.4127,  35.2539,2,    198.8,2,  35.2605,2,   198.65,2,     1.12,2,     0.48,2,     0.02,2,    0.250,2,    1.711,3,    1.020,2,-999,9,-999,9,   1980.4,2,   2314.8,2,   8.1021,6,    25.00,     0.18,2,     0.08,2,  29.4053,2
  49UP20110515,   P13,   142,  1,     34,     107,2,20110813,0813,1003, -5.7650, 163.9708, 3428,     50.5,       50,  29.1920,  35.3580,2,    195.1,2,  35.3560,2,   195.06,2,     1.20,6,     0.96,6,     0.03,6,    0.300,6,    1.694,3,    1.028,2,-999,9,-999,9,   1997.2,2,   2322.1,6,   8.0827,2,    25.00,     0.31,2,     0.24,2,  29.1925,2
  49UP20110515,   P13,   142,  1,     33,     106,2,20110813,0813,1002, -5.7650, 163.9708, 3428,     75.5,       75,  29.1291,  35.3518,2,    193.1,2,  35.3518,2,   192.92,6,     1.27,2,     1.03,2,     0.04,2,    0.310,2,    1.685,3,    1.042,2,-999,9,-999,9,   1998.4,2,   2320.5,2,   8.0858,2,    25.00,     0.29,2,     0.26,2,  29.1332,2
  49UP20110515,   P13,   142,  1,     32,     105,2,20110813,0813,1001, -5.7650, 163.9708, 3428,    101.4,      101,  28.7833,  35.5548,2,    181.8,2,  35.5565,6,   180.97,2,     1.23,2,     2.49,2,     0.68,2,    0.430,2,    1.665,3,    1.048,2,-999,9,-999,9,   2019.8,2,   2338.6,2,   8.0681,2,    25.00,     0.19,2,     0.24,2,  28.7837,2
  49UP20110515,   P13,   142,  1,     31,     104,2,20110813,0813,1000, -5.7650, 163.9708, 3428,    124.8,      124,  27.9381,  35.6239,2,    169.9,2,  35.6220,2,   170.62,2,     1.36,2,     5.05,2,     1.52,2,    0.550,2,    1.680,3,    1.081,6,-999,9,-999,9,   2038.2,2,   2338.0,2,   8.0340,2,    25.00,     0.11,2,     0.17,2,  27.9381,2
  49UP20110515,   P13,   142,  1,     30,     103,2,20110813,0813,0958, -5.7650, 163.9708, 3428,    151.6,      151,  26.9689,  35.6798,2,    156.3,2,  35.6704,4,   158.75,2,     1.51,2,     6.54,2,     0.22,2,    0.640,2,    1.698,3,    1.123,2,-999,9,-999,9,   2057.0,2,   2341.4,2,   8.0066,2,    25.00,     0.07,2,     0.13,2,  26.9669,2
  49UP20110515,   P13,   142,  1,     29,     102,2,20110813,0813,0956, -5.7650, 163.9708, 3428,    201.4,      200,  19.8991,  35.6862,2,    125.8,2,  35.7080,4,   126.27,2,     3.14,2,    11.10,2,     0.01,2,    0.990,2,    2.014,3,    1.323,2,-999,9,-999,9,   2141.9,2,   2350.0,2,   7.8633,2,    25.00,     0.00,2,     0.02,2,  19.9369,2
  49UP20110515,   P13,   142,  1,     27,     100,2,20110813,0813,0954, -5.7650, 163.9708, 3428,    252.9,      251,  13.7935,  35.0539,2,     95.0,2,  35.0711,4,    94.08,2,    11.73,2,    21.05,2,     0.00,2,    1.640,2,    1.546,3,    0.946,6,-999,9,-999,9,   2184.3,2,   2314.0,2,   7.6878,2,    25.00,     -999,9,     -999,9,  13.8083,2
  49UP20110515,   P13,   142,  1,     28,     101,2,20110813,0813,0955, -5.7650, 163.9708, 3428,    256.1,      255,  13.6117,  35.0402,2,     95.4,2,  35.0534,4,    94.26,2,    12.09,2,    21.36,2,     0.00,2,    1.650,2,    1.542,3,    0.923,2,-999,9,-999,9,   2184.4,2,   2311.9,3,   7.6881,2,    25.00,     -999,9,     -999,9,  13.6264,2
  49UP20110515,   P13,   142,  1,     26,      99,2,20110813,0813,0952, -5.7650, 163.9708, 3428,    333.1,      331,  11.0420,  34.8293,2,    108.5,2,  34.8310,2,   108.10,6,    17.67,6,    25.18,6,     0.00,6,    1.820,6,    1.206,3,    0.679,2,-999,9,-999,9,   2190.1,2,   2302.7,2,   7.6444,2,    25.00,     -999,9,     -999,9,  11.0429,2
  49UP20110515,   P13,   142,  1,     25,      98,2,20110813,0813,0947, -5.7650, 163.9708, 3428,    383.6,      381,   9.5672,  34.7144,2,    118.8,2,  34.7213,2,   118.26,2,    21.52,2,    27.09,2,     0.00,2,    1.910,2,    0.983,3,    0.550,2,-999,9,-999,9,   2197.5,2,   2300.3,2,   7.6270,6,    25.00,     -999,9,     -999,9,   9.5709,2
  49UP20110515,   P13,   142,  1,     24,      97,2,20110813,0813,0944, -5.7650, 163.9708, 3428,    437.4,      435,   8.2983,  34.6246,2,    121.0,2,  34.6253,6,   121.07,2,    26.77,2,    29.73,2,     0.00,2,    2.070,2,    0.711,3,    0.380,2,-999,9,-999,9,   2208.0,6,   2302.4,2,   7.6043,2,    25.00,     -999,9,     -999,9,   8.2992,2
  49UP20110515,   P13,   142,  1,     23,      96,2,20110813,0813,0940, -5.7650, 163.9708, 3428,    535.4,      532,   7.2636,  34.5656,2,    120.0,2,  34.5646,2,   120.30,6,    33.19,2,    32.06,2,     0.00,2,    2.220,2,    0.429,3,    0.221,2,-999,9,-999,9,   2222.1,2,   2303.7,2,   7.5773,2,    25.00,     -999,9,     -999,9,   7.2666,2
  49UP20110515,   P13,   142,  1,     21,      94,2,20110813,0813,0936, -5.7650, 163.9708, 3428,    635.6,      631,   6.4601,  34.5369,2,    115.6,2,  34.5368,2,   115.16,2,    41.32,2,    34.19,2,     0.00,2,    2.380,2,    0.237,3,    0.113,2,-999,9,-999,9,   2233.5,2,   2312.3,2,   7.5519,2,    25.00,     -999,9,     -999,9,   6.4592,2
  49UP20110515,   P13,   142,  1,     22,      95,2,20110813,0813,0936, -5.7650, 163.9708, 3428,    636.9,      632,   6.4335,  34.5356,2,    116.5,2,  34.5359,2,   115.70,2,    41.48,2,    34.15,2,     0.00,2,    2.380,2,    0.241,3,    0.132,2,-999,9,-999,9,   2231.2,2,   2310.4,2,   7.5493,2,    25.00,     -999,9,     -999,9,   6.4332,2
  49UP20110515,   P13,   142,  1,     20,      93,2,20110813,0813,0932, -5.7650, 163.9708, 3428,    737.0,      732,   5.8136,  34.5225,2,    116.7,2,  34.5222,2,   117.01,2,    49.22,2,    35.11,2,     0.00,2,    2.450,2,    0.161,3,    0.074,2,-999,9,-999,9,   2241.9,2,   2318.8,2,   7.5480,2,    25.00,     -999,9,     -999,9,   5.8137,2
  49UP20110515,   P13,   142,  1,     19,      92,2,20110813,0813,0926, -5.7650, 163.9708, 3428,    836.4,      830,   5.2292,  34.5241,2,    111.3,2,  34.5244,2,   111.61,2,    59.63,6,    36.51,6,     0.00,6,    2.560,6,    0.081,3,    0.031,2,-999,9,-999,9,   2257.0,2,   2327.4,2,   7.5288,2,    25.00,     -999,9,     -999,9,   5.2296,2
  49UP20110515,   P13,   142,  1,     18,      91,2,20110813,0813,0923, -5.7650, 163.9708, 3428,    937.7,      930,   4.7503,  34.5296,2,    114.7,2,  34.5290,2,   114.84,2,    68.81,2,    36.66,2,     0.00,2,    2.570,2,    0.064,3,    0.027,2,-999,9,-999,9,   2270.4,2,   2338.3,2,   7.5292,2,    25.00,     -999,9,     -999,9,   4.7503,2
  49UP20110515,   P13,   142,  1,     17,      90,2,20110813,0813,0919, -5.7650, 163.9708, 3428,   1080.9,     1072,   4.1065,  34.5473,2,    113.2,2,  34.5464,6,   113.13,2,    82.75,2,    37.47,2,     0.00,2,    2.640,2,    0.027,3,    0.000,2,-999,9,-999,9,   2284.4,2,   2353.1,2,   7.5266,2,    25.00,     -999,9,     -999,9,   4.1061,2
  49UP20110515,   P13,   142,  1,     16,      89,2,20110813,0813,0909, -5.7650, 163.9708, 3428,   1282.0,     1271,   3.3827,  34.5757,2,    113.5,2,  34.5755,2,   114.01,2,    99.52,2,    37.94,2,     0.00,2,    2.680,2,    0.009,3,    0.000,2,-999,9,-999,9,   2302.3,2,   2370.1,2,   7.5195,2,    25.00,     -999,9,     -999,9,   3.3830,2
  49UP20110515,   P13,   142,  1,     15,      88,2,20110813,0813,0905, -5.7650, 163.9708, 3428,   1482.3,     1469,   2.9379,  34.5949,2,    121.2,2,  34.5940,2,   121.52,2,   108.77,2,    37.65,2,     0.00,2,    2.640,2,    0.030,3,    0.000,2,-999,9,-999,9,   2312.2,2,   2378.9,2,   7.5333,2,    25.00,     -999,9,     -999,9,   2.9380,2
  49UP20110515,   P13,   142,  1,     13,      86,2,20110813,0813,0900, -5.7650, 163.9708, 3428,   1684.7,     1669,   2.5940,  34.6148,2,    123.0,2,  34.6145,2,   123.39,2,   118.27,2,    37.73,2,     0.00,2,    2.640,2,     -999,9,     -999,9,-999,9,-999,9,   2320.5,2,   2391.8,2,   7.5359,2,    25.00,     -999,9,     -999,9,   2.5936,2
  49UP20110515,   P13,   142,  1,     14,      87,2,20110813,0813,0900, -5.7650, 163.9708, 3428,   1685.4,     1669,   2.5926,  34.6150,2,    123.1,2,  34.6146,2,   123.26,2,   118.32,2,    37.73,2,     0.00,2,    2.640,2,    0.022,3,    0.000,2,-999,9,-999,9,   2320.1,2,   2391.0,2,   7.5379,2,    25.00,     -999,9,     -999,9,   2.5936,2
  49UP20110515,   P13,   142,  1,     12,      74,2,20110813,0813,0851, -5.7650, 163.9708, 3428,   1889.7,     1871,   2.3444,  34.6302,2,    123.0,2,  34.6306,2,   123.19,6,   126.90,2,    37.82,2,     0.00,2,    2.650,2,    0.001,3,    0.000,2,-999,9,-999,9,   2328.2,2,   2399.5,2,   7.5377,2,    25.00,     -999,9,     -999,9,   2.3438,2
  49UP20110515,   P13,   142,  1,     11,     110,2,20110813,0813,0847, -5.7650, 163.9708, 3428,   2092.0,     2070,   2.1641,  34.6414,2,    123.0,2,  34.6412,2,   123.35,2,   133.34,2,    37.96,2,     0.00,2,    2.660,2,     -999,9,     -999,9,-999,9,-999,9,   2343.7,3,   2405.6,2,   7.5341,2,    25.00,     -999,9,     -999,9,   2.1640,2
  49UP20110515,   P13,   142,  1,     10,      83,2,20110813,0813,0842, -5.7650, 163.9708, 3428,   2293.1,     2268,   2.0533,  34.6481,2,    124.1,2,  34.6479,2,   124.07,2,   137.01,2,    37.95,2,     0.00,2,    2.650,2,     -999,9,     -999,9,-999,9,-999,9,   2338.6,6,   2413.0,6,   7.5374,2,    25.00,     -999,9,     -999,9,   2.0535,2
  49UP20110515,   P13,   142,  1,      9,      82,2,20110813,0813,0837, -5.7650, 163.9708, 3428,   2498.5,     2470,   1.9328,  34.6550,2,    131.0,2,  34.6560,2,   131.29,2,   137.46,2,    37.40,2,     0.00,2,    2.610,2,     -999,9,     -999,9,-999,9,-999,9,   2332.7,2,   2411.2,2,   7.5506,2,    25.00,     -999,9,     -999,9,   1.9328,2
  49UP20110515,   P13,   142,  1,      8,      81,2,20110813,0813,0832, -5.7650, 163.9708, 3428,   2703.5,     2671,   1.8380,  34.6609,2,    133.4,2,  34.6600,2,   133.39,2,   139.86,2,    37.18,2,     0.00,2,    2.600,2,    0.002,3,    0.000,2,-999,9,-999,9,   2332.3,2,   2415.0,2,   7.5542,2,    25.00,     -999,9,     -999,9,   1.8379,2
  49UP20110515,   P13,   142,  1,      7,      80,2,20110813,0813,0826, -5.7650, 163.9708, 3428,   2906.7,     2871,   1.7539,  34.6660,2,    135.8,2,  34.6659,2,   135.79,2,   141.68,2,    37.20,2,     0.00,2,    2.580,2,     -999,9,     -999,9,-999,9,-999,9,   2334.6,2,   2416.1,2,   7.5565,2,    25.00,     -999,9,     -999,9,   1.7542,2
  49UP20110515,   P13,   142,  1,      5,      78,2,20110813,0813,0821, -5.7650, 163.9708, 3428,   3124.5,     3084,   1.7015,  34.6697,2,    138.7,2,  34.6693,2,   138.62,2,   142.83,2,    37.05,2,     0.00,2,    2.570,2,     -999,9,     -999,9,-999,9,-999,9,   2331.8,2,   2416.1,2,   7.5642,2,    25.00,     -999,9,     -999,9,   1.7014,2
  49UP20110515,   P13,   142,  1,      6,      79,2,20110813,0813,0821, -5.7650, 163.9708, 3428,   3124.9,     3085,   1.7014,  34.6697,2,    138.7,2,  34.6693,6,   138.72,2,   142.96,2,    37.03,2,     0.00,2,    2.570,2,     -999,9,     -999,9,-999,9,-999,9,   2330.7,2,   2414.2,2,   7.5571,3,    25.00,     -999,9,     -999,9,   1.7011,2
  49UP20110515,   P13,   142,  1,      4,      77,2,20110813,0813,0815, -5.7650, 163.9708, 3428,   3375.2,     3330,   1.6084,  34.6766,2,    146.8,2,  34.6771,2,   146.68,2,   141.44,6,    36.49,6,     0.00,6,    2.530,6,    0.006,3,    0.000,2,-999,9,-999,9,   2324.0,3,   2414.1,2,   7.5709,2,    25.00,     -999,9,     -999,9,   1.6081,2
  49UP20110515,   P13,   142,  1,      1,     112,2,20110813,0813,0813, -5.7650, 163.9708, 3428,   3457.4,     3410,   1.5565,  34.6803,2,    151.3,2,  34.6810,2,   150.96,2,   140.40,2,    36.21,2,     0.00,2,    2.500,2,     -999,9,     -999,9,-999,9,-999,9,   2326.8,2,   2416.3,2,   7.5767,2,    25.00,     -999,9,     -999,9,   1.5557,2