BOTTLE,20240116CCHSIOVAJ
EXPOCODE,SECT_ID,STNNBR,CASTNO,SAMPNO,BTLNBR,BTLNBR_FLAG_W,DATE,TIME,BTL_TIME,LATITUDE,LONGITUDE,DEPTH,CTDPRS,CTDDEPTH,CTDTMP,CTDSAL,CTDSAL_FLAG_W,CTDOXY,CTDOXY_FLAG_W,SALNTY,SALNTY_FLAG_W,OXYGEN,OXYGEN_FLAG_W,SILCAT,SILCAT_FLAG_W,NO2+NO3,NO2+NO3_FLAG_W,NITRIT,NITRIT_FLAG_W,PHSPHT,PHSPHT_FLAG_W,CFC-11,CFC-11_FLAG_W,CFC-12,CFC-12_FLAG_W,DELC14,DELC14_FLAG_W,DELC13,DELC13_FLAG_W,TCARBN,TCARBN_FLAG_W,ALKALI,ALKALI_FLAG_W,PH_TOT,PH_TOT_FLAG_W,PH_TMP,CHLORA,CHLORA_FLAG_W,PPHYTN,PPHYTN_FLAG_W,REFTMP,REFTMP_FLAG_W
,,,,,,,,,,,,METERS,DBAR,METERS,ITS-90,PSS-78,,UMOL/KG,,PSS-78,,UMOL/KG,,UMOL/KG,,UMOL/KG,,UMOL/KG,,UMOL/KG,,PMOL/KG,,PMOL/KG,,/MILLE,,/MILLE,,UMOL/KG,,UMOL/KG,,,,DEG C,UG/KG,,UG/KG,,ITS-90,
  49UP20110515,   P01,    29,  1,      0,     BUC,2,20110608,0439,0652, 42.6727, 152.6652, 5309,      0.0,        0,   6.4071,  32.9086,2,    348.4,2,     -999,9,   345.27,2,    28.14,2,    15.06,2,     0.22,2,    1.320,2,     -999,9,     -999,9,-999,9,-999,9,     -999,9,     -999,9,     -999,9,     -999,     -999,9,     -999,9,     -999,9
  49UP20110515,   P01,    29,  1,     36,     109,2,20110608,0439,0712, 42.6727, 152.6652, 5309,     10.9,       11,   6.4182,  32.9089,2,    343.3,2,  32.9207,4,   346.92,2,    30.62,2,    16.10,2,     0.21,2,    1.410,2,     -999,9,     -999,9,-999,9,-999,9,     -999,9,     -999,9,     -999,9,     -999,     -999,9,     -999,9,   6.4307,2
  49UP20110515,   P01,    29,  1,     35,     108,2,20110608,0439,0708, 42.6727, 152.6652, 5309,     51.6,       51,   2.7951,  33.0049,2,    335.5,2,  33.0166,4,   334.96,2,    42.38,6,    22.35,6,     0.30,6,    1.860,6,     -999,9,     -999,9,-999,9,-999,9,     -999,9,     -999,9,     -999,9,     -999,     -999,9,     -999,9,   2.8369,2
  49UP20110515,   P01,    29,  1,     34,     107,2,20110608,0439,0705, 42.6727, 152.6652, 5309,    101.3,      100,   1.5470,  33.1459,2,    312.5,2,  33.1337,4,   313.31,2,    48.08,6,    26.40,6,     0.03,6,    2.080,6,     -999,9,     -999,9,-999,9,-999,9,     -999,9,     -999,9,     -999,9,     -999,     -999,9,     -999,9,   1.5473,2
  49UP20110515,   P01,    29,  1,     33,     106,3,20110608,0439,0703, 42.6727, 152.6652, 5309,    125.9,      125,   2.0131,  33.3532,2,    229.0,2,  33.3152,4,   241.84,4,    61.20,2,    31.35,2,     0.02,2,    2.390,2,     -999,9,     -999,9,-999,9,-999,9,     -999,9,     -999,9,     -999,9,     -999,     -999,9,     -999,9,   1.9493,2
  49UP20110515,   P01,    29,  1,     32,     105,2,20110608,0439,0701, 42.6727, 152.6652, 5309,    152.4,      151,   2.6709,  33.5395,2,    155.8,2,  33.5467,2,   151.96,6,    76.63,2,    37.32,2,     0.02,2,    2.730,2,     -999,9,     -999,9,-999,9,-999,9,     -999,9,     -999,9,     -999,9,     -999,     -999,9,     -999,9,   2.6730,2
  49UP20110515,   P01,    29,  1,     31,     104,2,20110608,0439,0658, 42.6727, 152.6652, 5309,    202.4,      201,   3.0865,  33.7215,2,     92.4,2,  33.7203,2,    91.74,2,    88.60,2,    40.93,2,     0.02,2,    2.940,2,     -999,9,     -999,9,-999,9,-999,9,     -999,9,     -999,9,     -999,9,     -999,     -999,9,     -999,9,   3.0885,2
  49UP20110515,   P01,    29,  1,     30,     103,3,20110608,0439,0657, 42.6727, 152.6652, 5309,    253.0,      251,   3.2934,  33.8228,2,     63.9,2,  33.8218,2,    64.65,2,    95.58,2,    42.48,2,     0.01,2,    3.030,2,     -999,9,     -999,9,-999,9,-999,9,     -999,9,     -999,9,     -999,9,     -999,     -999,9,     -999,9,   3.2937,2
  49UP20110515,   P01,    29,  1,     29,     102,2,20110608,0439,0655, 42.6727, 152.6652, 5309,    335.3,      332,   3.3270,  33.9610,2,     41.4,2,  33.9594,6,    41.90,2,   107.10,2,    43.51,2,     0.01,2,    3.110,2,     -999,9,     -999,9,-999,9,-999,9,     -999,9,     -999,9,     -999,9,     -999,     -999,9,     -999,9,   3.3274,2
  49UP20110515,   P01,    29,  1,     28,     101,2,20110608,0439,0652, 42.6727, 152.6652, 5309,    433.3,      429,   3.2342,  34.0757,2,     33.5,2,  34.0753,2,    33.81,2,   118.22,2,    43.60,2,     0.00,2,    3.110,2,     -999,9,     -999,9,-999,9,-999,9,     -999,9,     -999,9,     -999,9,     -999,     -999,9,     -999,9,   3.2342,2
  49UP20110515,   P01,    29,  1,     27,     100,2,20110608,0439,0649, 42.6727, 152.6652, 5309,    536.7,      532,   3.2868,  34.1987,2,     19.4,2,  34.1964,2,    19.55,2,   127.82,2,    44.17,2,     0.00,2,    3.140,2,     -999,9,     -999,9,-999,9,-999,9,     -999,9,     -999,9,     -999,9,     -999,     -999,9,     -999,9,   3.2876,2
  49UP20110515,   P01,    29,  1,     26,      99,3,20110608,0439,0647, 42.6727, 152.6652, 5309,    636.3,      630,   3.1089,  34.2752,2,     18.8,2,  34.2739,2,    18.61,6,   136.66,2,    44.14,2,     0.00,2,    3.150,2,     -999,9,     -999,9,-999,9,-999,9,     -999,9,     -999,9,     -999,9,     -999,     -999,9,     -999,9,   3.1094,2
  49UP20110515,   P01,    29,  1,     25,      98,2,20110608,0439,0642, 42.6727, 152.6652, 5309,    738.0,      731,   2.9398,  34.3279,2,     20.4,2,  34.3264,6,    19.90,2,   143.16,2,    44.15,2,     0.00,2,    3.150,2,     -999,9,     -999,9,-999,9,-999,9,     -999,9,     -999,9,     -999,9,     -999,     -999,9,     -999,9,   2.9403,2
  49UP20110515,   P01,    29,  1,     24,      97,2,20110608,0439,0642, 42.6727, 152.6652, 5309,    738.0,      731,   2.9398,  34.3279,2,     20.4,2,  34.3276,2,    19.94,2,   143.22,2,    44.04,2,     0.00,2,    3.140,2,     -999,9,     -999,9,-999,9,-999,9,     -999,9,     -999,9,     -999,9,     -999,     -999,9,     -999,9,   2.9403,2
  49UP20110515,   P01,    29,  1,     23,      96,2,20110608,0439,0637, 42.6727, 152.6652, 5309,    839.9,      832,   2.7650,  34.3669,2,     29.7,2,  34.3675,2,    29.51,6,   147.04,2,    43.49,2,     0.00,2,    3.110,2,     -999,9,     -999,9,-999,9,-999,9,     -999,9,     -999,9,     -999,9,     -999,     -999,9,     -999,9,   2.7651,2
  49UP20110515,   P01,    29,  1,     22,      95,2,20110608,0439,0635, 42.6727, 152.6652, 5309,    940.7,      931,   2.6246,  34.4057,2,     30.5,2,  34.4055,2,    29.91,2,   152.26,2,    43.43,2,     0.00,2,    3.100,2,     -999,9,     -999,9,-999,9,-999,9,     -999,9,     -999,9,     -999,9,     -999,     -999,9,     -999,9,   2.6241,2
  49UP20110515,   P01,    29,  1,     21,      94,2,20110608,0439,0631, 42.6727, 152.6652, 5309,   1082.5,     1071,   2.4660,  34.4516,2,     35.4,2,  34.4519,2,    35.12,2,   157.00,2,    43.24,2,     0.00,2,    3.090,2,     -999,9,     -999,9,-999,9,-999,9,     -999,9,     -999,9,     -999,9,     -999,     -999,9,     -999,9,   2.4661,2
  49UP20110515,   P01,    29,  1,     20,      93,2,20110608,0439,0626, 42.6727, 152.6652, 5309,   1284.9,     1271,   2.2500,  34.4961,2,     44.3,2,  34.4960,2,    44.31,2,   162.50,2,    42.72,2,     0.00,2,    3.050,2,     -999,9,     -999,9,-999,9,-999,9,     -999,9,     -999,9,     -999,9,     -999,     -999,9,     -999,9,   2.2500,2
  49UP20110515,   P01,    29,  1,     19,      92,3,20110608,0439,0619, 42.6727, 152.6652, 5309,   1488.6,     1472,   2.1367,  34.5354,2,     55.4,2,  34.5352,2,    55.07,2,   162.44,2,    42.14,2,     0.00,2,    2.980,3,     -999,9,     -999,9,-999,9,-999,9,     -999,9,     -999,9,     -999,9,     -999,     -999,9,     -999,9,   2.1372,2
  49UP20110515,   P01,    29,  1,     18,      91,2,20110608,0439,0614, 42.6727, 152.6652, 5309,   1692.3,     1672,   2.0285,  34.5697,2,     64.1,2,  34.5694,2,    64.03,2,   163.31,6,    41.73,6,     0.00,6,    2.960,6,     -999,9,     -999,9,-999,9,-999,9,     -999,9,     -999,9,     -999,9,     -999,     -999,9,     -999,9,   2.0286,2
  49UP20110515,   P01,    29,  1,     17,      90,2,20110608,0439,0609, 42.6727, 152.6652, 5309,   1894.1,     1871,   1.9232,  34.5938,2,     74.9,2,  34.5945,2,    75.09,2,   163.09,2,    41.08,2,     0.00,2,    2.900,2,     -999,9,     -999,9,-999,9,-999,9,     -999,9,     -999,9,     -999,9,     -999,     -999,9,     -999,9,   1.9232,2
  49UP20110515,   P01,    29,  1,     16,      89,2,20110608,0439,0603, 42.6727, 152.6652, 5309,   2097.6,     2071,   1.8136,  34.6145,2,     86.7,2,  34.6140,2,    86.51,6,   162.99,2,    40.36,2,     0.00,2,    2.850,2,     -999,9,     -999,9,-999,9,-999,9,     -999,9,     -999,9,     -999,9,     -999,     -999,9,     -999,9,   1.8138,2
  49UP20110515,   P01,    29,  1,     15,      88,2,20110608,0439,0558, 42.6727, 152.6652, 5309,   2302.2,     2272,   1.7136,  34.6318,2,     98.9,2,  34.6332,2,    98.99,2,   162.17,2,    39.58,2,     0.00,2,    2.790,2,     -999,9,     -999,9,-999,9,-999,9,     -999,9,     -999,9,     -999,9,     -999,     -999,9,     -999,9,   1.7134,2
  49UP20110515,   P01,    29,  1,     14,      87,3,20110608,0439,0551, 42.6727, 152.6652, 5309,   2505.9,     2471,   1.6420,  34.6447,2,    109.5,2,  34.6446,2,   109.42,2,   160.60,2,    38.99,2,     0.00,2,    2.740,2,     -999,9,     -999,9,-999,9,-999,9,     -999,9,     -999,9,     -999,9,     -999,     -999,9,     -999,9,   1.6422,2
  49UP20110515,   P01,    29,  1,     13,      86,2,20110608,0439,0547, 42.6727, 152.6652, 5309,   2709.8,     2671,   1.5812,  34.6550,2,    119.1,2,  34.6544,2,   119.63,2,   158.45,2,    38.36,2,     0.00,2,    2.690,2,     -999,9,     -999,9,-999,9,-999,9,     -999,9,     -999,9,     -999,9,     -999,     -999,9,     -999,9,   1.5812,2
  49UP20110515,   P01,    29,  1,     12,      85,2,20110608,0439,0543, 42.6727, 152.6652, 5309,   2913.7,     2871,   1.5427,  34.6618,2,    125.4,2,  34.6613,2,   125.41,2,   158.25,2,    38.07,2,     0.00,2,    2.670,2,     -999,9,     -999,9,-999,9,-999,9,     -999,9,     -999,9,     -999,9,     -999,     -999,9,     -999,9,   1.5427,2
  49UP20110515,   P01,    29,  1,     11,     110,2,20110608,0439,0535, 42.6727, 152.6652, 5309,   3127.1,     3080,   1.5077,  34.6682,2,    132.1,2,  34.6682,6,   132.21,2,   156.49,2,    37.53,2,     0.00,2,    2.630,3,     -999,9,     -999,9,-999,9,-999,9,     -999,9,     -999,9,     -999,9,     -999,     -999,9,     -999,9,   1.5082,2
  49UP20110515,   P01,    29,  1,     10,      83,2,20110608,0439,0535, 42.6727, 152.6652, 5309,   3127.1,     3080,   1.5077,  34.6682,2,    132.1,2,  34.6681,2,   132.78,2,   156.33,2,    37.50,2,     0.00,2,    2.620,3,     -999,9,     -999,9,-999,9,-999,9,     -999,9,     -999,9,     -999,9,     -999,     -999,9,     -999,9,   1.5082,2
  49UP20110515,   P01,    29,  1,      9,      82,2,20110608,0439,0531, 42.6727, 152.6652, 5309,   3384.0,     3331,   1.4836,  34.6739,2,    138.4,2,  34.6739,2,   138.35,2,   154.91,2,    37.10,2,     0.00,2,    2.600,3,     -999,9,     -999,9,-999,9,-999,9,     -999,9,     -999,9,     -999,9,     -999,     -999,9,     -999,9,   1.4836,2
  49UP20110515,   P01,    29,  1,      8,      81,2,20110608,0439,0523, 42.6727, 152.6652, 5309,   3640.7,     3581,   1.4648,  34.6787,2,    144.2,2,  34.6787,2,   144.16,2,   153.23,2,    36.78,2,     0.00,2,    2.570,3,     -999,9,     -999,9,-999,9,-999,9,     -999,9,     -999,9,     -999,9,     -999,     -999,9,     -999,9,   1.4648,2
  49UP20110515,   P01,    29,  1,      7,      80,3,20110608,0439,0518, 42.6727, 152.6652, 5309,   3896.4,     3830,   1.4589,  34.6823,2,    148.7,2,  34.6797,4,   148.59,2,   152.11,2,    36.42,2,     0.00,2,    2.550,3,     -999,9,     -999,9,-999,9,-999,9,     -999,9,     -999,9,     -999,9,     -999,     -999,9,     -999,9,   1.4588,2
  49UP20110515,   P01,    29,  1,      6,      79,2,20110608,0439,0511, 42.6727, 152.6652, 5309,   4152.0,     4079,   1.4607,  34.6852,2,    152.3,2,  34.6853,2,   152.06,2,   150.94,2,    36.20,2,     0.00,2,    2.550,3,     -999,9,     -999,9,-999,9,-999,9,     -999,9,     -999,9,     -999,9,     -999,     -999,9,     -999,9,   1.4607,2
  49UP20110515,   P01,    29,  1,      5,      78,2,20110608,0439,0505, 42.6727, 152.6652, 5309,   4409.9,     4330,   1.4695,  34.6874,2,    154.9,2,  34.6869,2,   155.38,2,   150.71,2,    36.07,2,     0.00,2,    2.520,3,     -999,9,     -999,9,-999,9,-999,9,     -999,9,     -999,9,     -999,9,     -999,     -999,9,     -999,9,   1.4696,2
  49UP20110515,   P01,    29,  1,      4,      77,2,20110608,0439,0457, 42.6727, 152.6652, 5309,   4668.1,     4581,   1.4857,  34.6889,2,    156.6,2,  34.6890,2,   156.78,2,   150.31,6,    35.86,6,     0.00,6,    2.500,3,     -999,9,     -999,9,-999,9,-999,9,     -999,9,     -999,9,     -999,9,     -999,     -999,9,     -999,9,   1.4857,2
  49UP20110515,   P01,    29,  1,      3,      76,2,20110608,0439,0452, 42.6727, 152.6652, 5309,   4925.9,     4831,   1.5083,  34.6901,2,    157.6,2,  34.6902,2,   157.61,2,   150.60,2,    35.76,2,     0.00,2,    2.500,3,     -999,9,     -999,9,-999,9,-999,9,     -999,9,     -999,9,     -999,9,     -999,     -999,9,     -999,9,   1.5083,2
  49UP20110515,   P01,    29,  1,      2,      75,2,20110608,0439,0445, 42.6727, 152.6652, 5309,   5184.4,     5082,   1.5365,  34.6906,2,    158.0,2,  34.6906,2,   157.99,2,   150.69,3,    35.73,2,     0.00,2,    2.500,3,     -999,9,     -999,9,-999,9,-999,9,     -999,9,     -999,9,     -999,9,     -999,     -999,9,     -999,9,   1.5365,2
  49UP20110515,   P01,    29,  1,      1,      74,3,20110608,0439,0440, 42.6727, 152.6652, 5309,   5403.8,     5294,   1.5634,  34.6910,2,    158.0,2,  34.6909,6,   157.97,2,   151.38,2,    35.71,2,     0.00,2,    2.500,3,     -999,9,     -999,9,-999,9,-999,9,     -999,9,     -999,9,     -999,9,     -999,     -999,9,     -999,9,   1.5632,2