BOTTLE,20240116CCHSIOVAJ
EXPOCODE,SECT_ID,STNNBR,CASTNO,SAMPNO,BTLNBR,BTLNBR_FLAG_W,DATE,TIME,BTL_TIME,LATITUDE,LONGITUDE,DEPTH,CTDPRS,CTDDEPTH,CTDTMP,CTDSAL,CTDSAL_FLAG_W,CTDOXY,CTDOXY_FLAG_W,SALNTY,SALNTY_FLAG_W,OXYGEN,OXYGEN_FLAG_W,SILCAT,SILCAT_FLAG_W,NO2+NO3,NO2+NO3_FLAG_W,NITRIT,NITRIT_FLAG_W,PHSPHT,PHSPHT_FLAG_W,CFC-11,CFC-11_FLAG_W,CFC-12,CFC-12_FLAG_W,DELC14,DELC14_FLAG_W,DELC13,DELC13_FLAG_W,TCARBN,TCARBN_FLAG_W,ALKALI,ALKALI_FLAG_W,PH_TOT,PH_TOT_FLAG_W,PH_TMP,CHLORA,CHLORA_FLAG_W,PPHYTN,PPHYTN_FLAG_W,REFTMP,REFTMP_FLAG_W
,,,,,,,,,,,,METERS,DBAR,METERS,ITS-90,PSS-78,,UMOL/KG,,PSS-78,,UMOL/KG,,UMOL/KG,,UMOL/KG,,UMOL/KG,,UMOL/KG,,PMOL/KG,,PMOL/KG,,/MILLE,,/MILLE,,UMOL/KG,,UMOL/KG,,,,DEG C,UG/KG,,UG/KG,,ITS-90,
  49UP20110515,   P01,    14,  1,      0,     BUC,2,20110520,2209,0058, 39.6927, 147.8827, 5328,      0.0,        0,   7.7254,  32.8397,2,    350.1,2,     -999,9,   341.04,2,     0.93,2,     1.48,2,     0.05,2,    0.450,2,     -999,9,     -999,9,-999,9,-999,9,     -999,9,     -999,9,     -999,9,     -999,     1.56,2,     0.21,2,     -999,9
  49UP20110515,   P01,    14,  1,     36,     109,2,20110520,2209,0116, 39.6927, 147.8827, 5328,     11.6,       12,   7.1685,  32.8806,2,    360.8,2,  32.9071,4,   353.64,2,     0.59,2,     1.42,2,     0.07,2,    0.420,2,    5.048,2,    2.810,2,-999,9,-999,9,   2009.0,2,   2238.8,2,   7.9402,2,    25.00,     2.10,2,     0.80,2,   6.9567,2
  49UP20110515,   P01,    14,  1,     35,     108,2,20110520,2209,0111, 39.6927, 147.8827, 5328,     51.0,       51,   5.8247,  33.2968,2,    313.7,2,     -999,9,   315.08,2,     8.74,2,     7.19,2,     0.21,2,    0.790,2,    4.952,2,    2.754,2,-999,9,-999,9,   2060.1,6,   2250.0,6,   7.8376,2,    25.00,     0.34,2,     0.27,2,   5.7511,2
  49UP20110515,   P01,    14,  1,     34,     107,2,20110520,2209,0108, 39.6927, 147.8827, 5328,    100.4,      100,   4.9878,  33.5419,2,    270.7,2,  33.5397,2,   271.39,2,    24.04,6,    15.15,6,     0.24,6,    1.190,6,    4.665,2,    2.609,2,-999,9,-999,9,   2106.0,2,   2250.4,2,   7.7185,6,    25.00,     0.10,2,     0.21,2,   4.9897,2
  49UP20110515,   P01,    14,  1,     33,     106,2,20110520,2209,0104, 39.6927, 147.8827, 5328,    151.7,      150,   3.2450,  33.4322,2,    263.5,2,  33.4309,2,   264.62,2,    43.88,2,    23.01,2,     0.02,2,    1.790,2,    4.853,2,    2.681,2,-999,9,-999,9,   2152.8,2,   2255.2,2,   7.6030,2,    25.00,     0.04,2,     0.10,2,   3.2455,2
  49UP20110515,   P01,    14,  1,     32,     105,2,20110520,2209,0104, 39.6927, 147.8827, 5328,    151.7,      150,   3.2450,  33.4322,2,    263.5,2,  33.4330,2,   264.33,2,    43.79,2,    22.92,2,     0.02,2,    1.780,2,    4.801,2,    2.658,2,-999,9,-999,9,   2153.5,2,   2255.2,2,   7.6120,3,    25.00,     -999,9,     -999,9,   3.2455,2
  49UP20110515,   P01,    14,  1,     31,     104,2,20110520,2209,0103, 39.6927, 147.8827, 5328,    202.5,      201,   2.4039,  33.4405,2,    238.8,2,  33.4451,2,   239.50,2,    56.57,2,    27.91,2,     0.02,2,    2.140,2,    4.638,2,    2.548,2,-999,9,-999,9,   2189.2,2,   2260.4,2,   7.5312,2,    25.00,     0.03,2,     0.10,2,   2.4384,2
  49UP20110515,   P01,    14,  1,     30,     103,2,20110520,2209,0100, 39.6927, 147.8827, 5328,    253.9,      252,   2.9862,  33.5996,2,    181.3,2,     -999,9,   184.01,2,    67.46,2,    31.81,2,     0.01,2,    2.390,2,    3.950,6,    2.152,6,-999,9,-999,9,   2220.3,2,   2271.4,2,   7.4523,2,    25.00,     -999,9,     -999,9,   2.9722,2
  49UP20110515,   P01,    14,  1,     29,     102,2,20110520,2209,0058, 39.6927, 147.8827, 5328,    334.5,      332,   2.8548,  33.7144,2,    125.8,2,  33.7137,6,   127.35,6,    85.34,6,    37.08,6,     0.01,6,    2.720,6,    3.229,2,    1.731,2,-999,9,-999,9,   2267.8,2,   2286.8,2,   7.3641,2,    25.00,     -999,9,     -999,9,   2.8518,2
  49UP20110515,   P01,    14,  1,     28,     101,2,20110520,2209,0053, 39.6927, 147.8827, 5328,    435.5,      432,   3.5038,  33.9558,2,     73.9,2,  33.9480,4,    74.67,2,    98.98,2,    39.81,2,     0.01,2,    2.890,2,    2.152,2,    1.132,2,-999,9,-999,9,   2302.5,2,   2306.3,2,   7.3333,2,    25.00,     -999,9,     -999,9,   3.5023,2
  49UP20110515,   P01,    14,  1,     27,     100,3,20110520,2209,0050, 39.6927, 147.8827, 5328,    535.3,      531,   3.3538,  34.0664,2,     43.6,2,  34.0626,2,    47.75,2,   113.79,2,    42.48,2,     0.00,2,    3.040,2,    1.519,6,    0.772,6,-999,9,-999,9,   2335.1,2,   2325.2,2,   7.2781,2,    25.00,     -999,9,     -999,9,   3.3538,2
  49UP20110515,   P01,    14,  1,     26,      99,2,20110520,2209,0044, 39.6927, 147.8827, 5328,    637.2,      631,   3.2050,  34.1595,2,     32.4,2,  34.1573,2,    32.31,2,   125.36,2,    43.09,2,     0.00,2,    3.080,2,    1.050,2,    0.525,2,-999,9,-999,9,   2346.4,2,   2338.3,2,   7.2909,2,    25.00,     -999,9,     -999,9,   3.2052,2
  49UP20110515,   P01,    14,  1,     25,      98,2,20110520,2209,0041, 39.6927, 147.8827, 5328,    737.7,      731,   3.1065,  34.2312,2,     31.9,2,  34.2273,2,    32.24,2,   132.14,3,    43.09,2,     0.00,2,    3.080,2,    0.813,2,    0.392,2,-999,9,-999,9,   2353.3,2,   2350.1,2,   7.2896,2,    25.00,     -999,9,     -999,9,   3.1067,2
  49UP20110515,   P01,    14,  1,     24,      97,2,20110520,2209,0037, 39.6927, 147.8827, 5328,    842.4,      834,   3.1867,  34.3465,2,     41.0,2,  34.3432,2,    40.90,2,   134.01,2,    42.19,2,     0.00,2,    3.020,2,    0.412,2,    0.199,2,-999,9,-999,9,   2346.4,3,   2364.4,2,   7.3363,6,    25.00,     -999,9,     -999,9,   3.1867,2
  49UP20110515,   P01,    14,  1,     23,      96,2,20110520,2209,0033, 39.6927, 147.8827, 5328,    941.2,      932,   2.9862,  34.3877,2,     38.1,2,  34.3853,2,    38.48,2,   140.05,2,    42.71,2,     0.00,2,    3.040,2,    0.271,2,    0.122,2,-999,9,-999,9,   2356.1,6,   2371.6,6,   7.3340,2,    25.00,     -999,9,     -999,9,   2.9862,2
  49UP20110515,   P01,    14,  1,     22,      95,2,20110520,2209,0027, 39.6927, 147.8827, 5328,   1082.3,     1071,   2.7000,  34.4220,2,     38.4,2,  34.4205,2,    38.31,2,   148.94,2,    42.85,2,     0.00,2,    3.050,2,    0.240,2,    0.104,2,-999,9,-999,9,   2362.5,2,   2377.3,2,   7.3484,2,    25.00,     -999,9,     -999,9,   2.7001,2
  49UP20110515,   P01,    14,  1,     21,      94,2,20110520,2209,2359, 39.6927, 147.8827, 5328,   1286.0,     1272,   2.4915,  34.4785,2,     42.6,2,  34.4782,2,    42.43,2,   154.87,2,    42.80,2,     0.00,2,    3.040,2,    0.119,2,    0.054,2,-999,9,-999,9,   2377.1,2,   2391.0,2,   7.3503,2,    25.00,     -999,9,     -999,9,   2.4916,2
  49UP20110515,   P01,    14,  1,     20,      93,2,20110520,2209,2350, 39.6927, 147.8827, 5328,   1488.8,     1472,   2.3004,  34.5198,2,     48.8,2,  34.5190,2,    48.76,2,   160.10,2,    42.51,2,     0.00,2,    3.010,2,    0.065,2,    0.030,2,-999,9,-999,9,   2378.3,2,   2395.9,2,   7.3659,2,    25.00,     -999,9,     -999,9,   2.3018,2
  49UP20110515,   P01,    14,  1,     19,      92,2,20110520,2209,2345, 39.6927, 147.8827, 5328,   1691.1,     1671,   2.1528,  34.5543,2,     58.2,2,  34.5533,2,    57.92,2,   161.61,2,    42.13,2,     0.00,2,    2.930,3,    0.027,2,    0.016,2,-999,9,-999,9,   2375.0,2,   2402.5,2,   7.3902,2,    25.00,     -999,9,     -999,9,   2.1528,2
  49UP20110515,   P01,    14,  1,     18,      91,2,20110520,2209,2336, 39.6927, 147.8827, 5328,   1895.9,     1873,   1.9983,  34.5853,2,     71.6,2,  34.5859,2,    72.38,2,   162.06,2,    41.32,2,     0.00,2,    2.890,2,    0.041,2,    0.009,2,-999,9,-999,9,   2370.9,2,   2407.6,2,   7.4187,2,    25.00,     -999,9,     -999,9,   1.9984,2
  49UP20110515,   P01,    14,  1,     17,      90,2,20110520,2209,2330, 39.6927, 147.8827, 5328,   2098.5,     2072,   1.8641,  34.6088,2,     84.5,2,  34.6096,2,    84.41,2,   162.88,2,    40.57,2,     0.00,2,    2.840,2,    0.005,2,    0.000,2,-999,9,-999,9,   2363.3,2,   2411.3,2,   7.4396,2,    25.00,     -999,9,     -999,9,   1.8643,2
  49UP20110515,   P01,    14,  1,     16,      89,2,20110520,2209,2322, 39.6927, 147.8827, 5328,   2301.5,     2271,   1.7538,  34.6273,2,     96.4,2,  34.6285,2,    96.90,2,   161.89,2,    39.86,2,     0.00,2,    2.780,2,    0.002,2,    0.008,2,-999,9,-999,9,   2360.5,2,   2409.2,3,   7.4659,2,    25.00,     -999,9,     -999,9,   1.7536,2
  49UP20110515,   P01,    14,  1,     15,      88,2,20110520,2209,2317, 39.6927, 147.8827, 5328,   2505.2,     2471,   1.6784,  34.6403,2,    106.5,2,  34.6404,2,   106.59,2,   161.03,6,    39.23,6,     0.00,6,    2.740,6,    0.040,2,    0.009,2,-999,9,-999,9,   2353.7,2,   2414.1,2,   7.4823,2,    25.00,     -999,9,     -999,9,   1.6783,2
  49UP20110515,   P01,    14,  1,     14,      87,2,20110520,2209,2310, 39.6927, 147.8827, 5328,   2709.6,     2672,   1.6277,  34.6495,2,    114.5,2,  34.6488,2,   114.51,2,   159.64,2,    38.70,2,     0.00,2,    2.700,2,    0.032,2,    0.015,2,-999,9,-999,9,   2343.6,2,   2413.9,2,   7.4990,2,    25.00,     -999,9,     -999,9,   1.6278,2
  49UP20110515,   P01,    14,  1,     13,      86,2,20110520,2209,2310, 39.6927, 147.8827, 5328,   2709.6,     2672,   1.6277,  34.6495,2,    114.5,2,  34.6506,2,   114.89,2,   159.67,2,    38.59,2,     0.00,2,    2.700,2,    0.000,2,    0.000,2,-999,9,-999,9,   2347.8,2,   2414.5,2,   7.4988,2,    25.00,     -999,9,     -999,9,   1.6278,2
  49UP20110515,   P01,    14,  1,     12,      85,2,20110520,2209,2305, 39.6927, 147.8827, 5328,   2914.5,     2872,   1.5762,  34.6583,2,    122.6,2,  34.6587,2,   122.43,2,   158.03,2,    38.17,2,     0.00,2,    2.660,2,     -999,9,     -999,9,-999,9,-999,9,   2339.4,2,   2414.0,2,   7.5147,2,    25.00,     -999,9,     -999,9,   1.5760,2
  49UP20110515,   P01,    14,  1,     11,     110,2,20110520,2209,2259, 39.6927, 147.8827, 5328,   3127.7,     3081,   1.5376,  34.6652,2,    129.6,2,  34.6658,6,   129.50,6,   156.93,2,    37.68,2,     0.00,2,    2.630,2,     -999,9,     -999,9,-999,9,-999,9,   2335.4,2,   2415.2,2,   7.5291,2,    25.00,     -999,9,     -999,9,   1.5375,2
  49UP20110515,   P01,    14,  1,     10,      83,2,20110520,2209,2254, 39.6927, 147.8827, 5328,   3383.1,     3331,   1.5003,  34.6720,2,    137.3,2,  34.6713,2,   137.53,2,   154.97,2,    37.09,2,     0.00,2,    2.590,2,     -999,9,     -999,9,-999,9,-999,9,   2328.0,2,   2416.0,2,   7.5414,2,    25.00,     -999,9,     -999,9,   1.5002,2
  49UP20110515,   P01,    14,  1,      9,      82,2,20110520,2209,2250, 39.6927, 147.8827, 5328,   3637.8,     3579,   1.4775,  34.6773,2,    143.2,2,  34.6767,2,   143.24,2,   153.33,2,    36.81,2,     0.00,2,    2.560,2,     -999,9,     -999,9,-999,9,-999,9,   2329.0,2,   2414.5,2,   7.5512,2,    25.00,     -999,9,     -999,9,   1.4774,2
  49UP20110515,   P01,    14,  1,      8,      81,2,20110520,2209,2243, 39.6927, 147.8827, 5328,   3894.7,     3830,   1.4651,  34.6815,2,    148.3,2,  34.6805,2,   148.56,2,   152.24,6,    36.50,6,     0.00,6,    2.530,6,     -999,9,     -999,9,-999,9,-999,9,   2326.2,2,   2414.9,2,   7.5609,2,    25.00,     -999,9,     -999,9,   1.4651,2
  49UP20110515,   P01,    14,  1,      7,      80,2,20110520,2209,2238, 39.6927, 147.8827, 5328,   4150.9,     4079,   1.4610,  34.6847,2,    152.5,2,  34.6840,2,   152.35,6,   150.66,2,    36.07,2,     0.00,2,    2.500,2,     -999,9,     -999,9,-999,9,-999,9,   2324.8,2,   2415.7,2,   7.5668,2,    25.00,     -999,9,     -999,9,   1.4609,2
  49UP20110515,   P01,    14,  1,      6,      79,2,20110520,2209,2232, 39.6927, 147.8827, 5328,   4411.1,     4333,   1.4667,  34.6873,2,    155.5,2,  34.6878,2,   155.57,2,   150.30,2,    35.94,2,     0.00,2,    2.490,2,     -999,9,     -999,9,-999,9,-999,9,   2312.7,3,   2414.0,2,   7.5702,2,    25.00,     -999,9,     -999,9,   1.4667,2
  49UP20110515,   P01,    14,  1,      5,      78,2,20110520,2209,2232, 39.6927, 147.8827, 5328,   4411.1,     4333,   1.4667,  34.6873,2,    155.5,2,  34.6871,2,   155.59,2,   150.19,2,    35.98,2,     0.00,2,    2.490,2,     -999,9,     -999,9,-999,9,-999,9,   2319.0,2,   2415.5,2,   7.5733,2,    25.00,     -999,9,     -999,9,   1.4667,2
  49UP20110515,   P01,    14,  1,      4,      77,2,20110520,2209,2227, 39.6927, 147.8827, 5328,   4665.2,     4579,   1.4824,  34.6889,2,    157.4,2,  34.6893,2,   157.25,2,   149.62,2,    35.84,2,     0.00,2,    2.480,2,     -999,9,     -999,9,-999,9,-999,9,   2320.0,2,   2413.6,2,   7.5749,2,    25.00,     -999,9,     -999,9,   1.4823,2
  49UP20110515,   P01,    14,  1,      3,      76,2,20110520,2209,2221, 39.6927, 147.8827, 5328,   4921.5,     4828,   1.5036,  34.6900,2,    158.6,2,  34.6902,2,   158.63,2,   149.85,2,    35.72,2,     0.00,2,    2.470,2,     -999,9,     -999,9,-999,9,-999,9,   2317.3,6,   2414.4,6,   7.5763,2,    25.00,     -999,9,     -999,9,   1.5035,2
  49UP20110515,   P01,    14,  1,      2,      75,2,20110520,2209,2216, 39.6927, 147.8827, 5328,   5179.3,     5078,   1.5272,  34.6909,2,    159.9,2,  34.6926,4,   159.91,2,   148.86,2,    35.62,2,     0.00,2,    2.470,2,    0.008,2,    0.003,2,-999,9,-999,9,   2315.0,2,   2413.1,2,   7.5758,6,    25.00,     -999,9,     -999,9,   1.5270,2
  49UP20110515,   P01,    14,  1,      1,      74,2,20110520,2209,2210, 39.6927, 147.8827, 5328,   5420.4,     5312,   1.5509,  34.6919,2,    160.4,2,  34.6923,2,   160.89,2,   149.34,2,    35.44,2,     0.00,2,    2.460,2,    0.004,2,    0.000,2,-999,9,-999,9,   2311.6,2,   2411.7,2,   7.5733,2,    25.00,     -999,9,     -999,9,   1.5508,2