BOTTLE,20240116CCHSIOVAJ
EXPOCODE,SECT_ID,STNNBR,CASTNO,SAMPNO,BTLNBR,BTLNBR_FLAG_W,DATE,TIME,BTL_TIME,LATITUDE,LONGITUDE,DEPTH,CTDPRS,CTDDEPTH,CTDTMP,CTDSAL,CTDSAL_FLAG_W,CTDOXY,CTDOXY_FLAG_W,SALNTY,SALNTY_FLAG_W,OXYGEN,OXYGEN_FLAG_W,SILCAT,SILCAT_FLAG_W,NO2+NO3,NO2+NO3_FLAG_W,NITRIT,NITRIT_FLAG_W,PHSPHT,PHSPHT_FLAG_W,CFC-11,CFC-11_FLAG_W,CFC-12,CFC-12_FLAG_W,DELC14,DELC14_FLAG_W,DELC13,DELC13_FLAG_W,TCARBN,TCARBN_FLAG_W,ALKALI,ALKALI_FLAG_W,PH_TOT,PH_TOT_FLAG_W,PH_TMP,CHLORA,CHLORA_FLAG_W,PPHYTN,PPHYTN_FLAG_W,REFTMP,REFTMP_FLAG_W
,,,,,,,,,,,,METERS,DBAR,METERS,ITS-90,PSS-78,,UMOL/KG,,PSS-78,,UMOL/KG,,UMOL/KG,,UMOL/KG,,UMOL/KG,,UMOL/KG,,PMOL/KG,,PMOL/KG,,/MILLE,,/MILLE,,UMOL/KG,,UMOL/KG,,,,DEG C,UG/KG,,UG/KG,,ITS-90,
  49UP20110515,   KSE,    18,  1,      0,     BUC,2,20110522,0514,0818, 38.3495, 148.7608, 5692,      0.0,        0,  13.2604,  34.2446,2,    276.1,2,     -999,9,   274.36,2,     5.33,2,     4.72,2,     0.18,2,    0.430,2,     -999,9,     -999,9,-999,9,-999,9,     -999,9,     -999,9,     -999,9,     -999,     0.93,2,     0.18,2,     -999,9
  49UP20110515,   KSE,    18,  1,     36,     109,2,20110522,0514,0841, 38.3495, 148.7608, 5692,     11.2,       11,  13.2605,  34.2509,2,    276.2,2,  34.2493,2,   275.85,2,     4.36,2,     4.24,2,     0.18,2,    0.380,2,     -999,9,     -999,9,-999,9,-999,9,   2031.9,2,   2273.6,2,   7.9473,2,    25.00,     1.16,2,     0.19,2,  13.2606,2
  49UP20110515,   KSE,    18,  1,     35,     108,2,20110522,0514,0836, 38.3495, 148.7608, 5692,     51.5,       51,  11.6454,  34.1576,2,    278.7,2,     -999,9,   278.17,2,     9.02,2,     5.68,2,     0.21,2,    0.500,2,     -999,9,     -999,9,-999,9,-999,9,   2041.8,6,   2268.5,6,   7.9147,2,    25.00,     0.77,2,     0.52,2,  11.6518,2
  49UP20110515,   KSE,    18,  1,     34,     107,2,20110522,0514,0833, 38.3495, 148.7608, 5692,    101.7,      101,   8.1698,  33.7468,2,    285.2,2,  33.7523,2,   284.46,2,    10.08,6,     8.07,6,     0.39,6,    0.700,6,     -999,9,     -999,9,-999,9,-999,9,   2065.0,2,   2261.4,2,   7.8536,6,    25.00,     0.20,2,     0.24,2,   8.1625,2
  49UP20110515,   KSE,    18,  1,     33,     106,2,20110522,0514,0826, 38.3495, 148.7608, 5692,    154.2,      153,   7.1950,  33.7037,2,    280.0,2,     -999,9,   280.25,2,    12.51,2,     9.59,2,     0.25,2,    0.770,2,     -999,9,     -999,9,-999,9,-999,9,   2075.4,2,   2254.8,2,   7.8255,2,    25.00,     0.06,2,     0.19,2,   7.1968,2
  49UP20110515,   KSE,    18,  1,     32,     105,2,20110522,0514,0825, 38.3495, 148.7608, 5692,    202.5,      201,   5.9769,  33.6159,2,    277.2,2,  33.6149,6,   277.50,2,    17.79,2,    12.26,2,     0.10,2,    0.970,2,     -999,9,     -999,9,-999,9,-999,9,   2091.4,2,   2249.1,2,   7.7757,2,    25.00,     0.04,2,     0.16,2,   5.9752,2
  49UP20110515,   KSE,    18,  1,     31,     104,2,20110522,0514,0823, 38.3495, 148.7608, 5692,    252.9,      251,   5.9102,  33.7289,2,    226.5,2,     -999,9,   226.56,6,    37.29,2,    21.25,2,     0.02,2,    1.600,2,     -999,9,     -999,9,-999,9,-999,9,   2141.0,2,   2261.9,2,   7.6584,2,    25.00,     -999,9,     -999,9,   5.9097,2
  49UP20110515,   KSE,    18,  1,     30,     103,2,20110522,0514,0822, 38.3495, 148.7608, 5692,    283.1,      281,   4.1545,  33.5802,2,    235.2,2,  33.5730,4,   236.95,2,    46.49,6,    24.20,6,     0.01,6,    1.860,6,     -999,9,     -999,9,-999,9,-999,9,   2167.4,2,   2261.4,2,   7.6207,2,    25.00,     -999,9,     -999,9,   4.1464,2
  49UP20110515,   KSE,    18,  1,     29,     102,2,20110522,0514,0819, 38.3495, 148.7608, 5692,    373.9,      371,   3.5344,  33.6685,2,    175.4,2,  33.6666,2,   174.53,2,    67.30,2,    31.49,2,     0.01,2,    2.370,2,     -999,9,     -999,9,-999,9,-999,9,   2227.4,2,   2276.8,2,     -999,5,     -999,     -999,9,     -999,9,   3.5346,2
  49UP20110515,   KSE,    18,  1,     28,     101,2,20110522,0514,0817, 38.3495, 148.7608, 5692,    476.0,      472,   4.3598,  33.9680,2,    104.8,2,  33.9686,2,   104.44,2,    83.18,2,    35.93,2,     0.00,2,    2.620,2,     -999,9,     -999,9,-999,9,-999,9,   2270.1,2,   2300.5,2,   7.4603,2,    25.00,     -999,9,     -999,9,   4.3593,2
  49UP20110515,   KSE,    18,  1,     27,     100,2,20110522,0514,0814, 38.3495, 148.7608, 5692,    577.2,      572,   3.8805,  34.0390,2,     71.4,2,  34.0413,2,    71.43,2,    99.40,2,    39.44,2,     0.00,2,    2.850,2,     -999,9,     -999,9,-999,9,-999,9,   2301.3,2,   2316.1,2,   7.3397,2,    25.00,     -999,9,     -999,9,   3.8706,2
  49UP20110515,   KSE,    18,  1,     26,      99,2,20110522,0514,0810, 38.3495, 148.7608, 5692,    676.9,      671,   3.8278,  34.1660,2,     54.0,2,  34.1676,2,    53.82,2,   110.63,2,    40.54,2,     0.00,2,    2.920,2,     -999,9,     -999,9,-999,9,-999,9,   2324.5,2,   2332.6,2,     -999,5,     -999,     -999,9,     -999,9,   3.8283,2
  49UP20110515,   KSE,    18,  1,     25,      98,2,20110522,0514,0804, 38.3495, 148.7608, 5692,    777.7,      770,   3.4280,  34.2160,2,     40.5,2,  34.2185,2,    41.02,2,   123.33,2,    42.04,2,     0.00,2,    3.020,2,     -999,9,     -999,9,-999,9,-999,9,   2344.7,2,   2344.3,2,   7.3111,2,    25.00,     -999,9,     -999,9,   3.4313,2
  49UP20110515,   KSE,    18,  1,     24,      97,2,20110522,0514,0802, 38.3495, 148.7608, 5692,    880.0,      872,   3.1944,  34.2894,2,     37.2,2,  34.2889,2,    37.15,2,   133.03,2,    42.51,2,     0.00,2,    3.040,2,     -999,9,     -999,9,-999,9,-999,9,   2355.1,6,   2357.9,6,   7.3133,2,    25.00,     -999,9,     -999,9,   3.1944,2
  49UP20110515,   KSE,    18,  1,     23,      96,2,20110522,0514,0759, 38.3495, 148.7608, 5692,    980.4,      971,   3.0380,  34.3466,2,     37.4,2,  34.3474,2,    37.20,2,   138.54,6,    42.60,6,     0.00,6,    3.050,6,     -999,9,     -999,9,-999,9,-999,9,   2356.5,2,   2367.7,2,   7.3269,6,    25.00,     -999,9,     -999,9,   3.0387,2
  49UP20110515,   KSE,    18,  1,     22,      95,2,20110522,0514,0756, 38.3495, 148.7608, 5692,   1143.3,     1132,   2.7763,  34.4100,2,     38.2,2,  34.4103,2,    37.87,2,   147.02,2,    42.96,2,     0.00,2,    3.060,2,     -999,9,     -999,9,-999,9,-999,9,   2368.2,2,   2378.6,2,     -999,5,     -999,     -999,9,     -999,9,   2.7765,2
  49UP20110515,   KSE,    18,  1,     21,      94,2,20110522,0514,0748, 38.3495, 148.7608, 5692,   1344.5,     1330,   2.4918,  34.4697,2,     41.7,2,  34.4692,2,    41.34,2,   155.32,2,    42.77,2,     0.00,2,    3.050,2,     -999,9,     -999,9,-999,9,-999,9,   2374.3,2,   2391.1,2,   7.3479,2,    25.00,     -999,9,     -999,9,   2.4917,2
  49UP20110515,   KSE,    18,  1,     20,      93,2,20110522,0514,0743, 38.3495, 148.7608, 5692,   1547.0,     1530,   2.2658,  34.5165,2,     49.1,2,  34.5193,4,    48.68,2,   160.91,2,    42.56,2,     0.00,2,    2.990,3,     -999,9,     -999,9,-999,9,-999,9,   2375.1,2,   2396.6,2,   7.3684,2,    25.00,     -999,9,     -999,9,   2.2664,2
  49UP20110515,   KSE,    18,  1,     19,      92,2,20110522,0514,0738, 38.3495, 148.7608, 5692,   1751.1,     1731,   2.1154,  34.5599,2,     60.1,2,  34.5594,2,    59.78,2,   162.23,2,    42.01,2,     0.00,2,    2.960,2,     -999,9,     -999,9,-999,9,-999,9,   2372.4,2,   2404.3,2,   7.3931,2,    25.00,     -999,9,     -999,9,   2.1151,2
  49UP20110515,   KSE,    18,  1,     18,      91,2,20110522,0514,0728, 38.3495, 148.7608, 5692,   1954.9,     1931,   1.9868,  34.5857,2,     71.0,2,  34.5856,2,    70.94,2,   163.55,2,    41.18,2,     0.00,2,    2.910,2,     -999,9,     -999,9,-999,9,-999,9,   2369.9,2,   2409.6,2,   7.4164,2,    25.00,     -999,9,     -999,9,   1.9869,2
  49UP20110515,   KSE,    18,  1,     17,      90,2,20110522,0514,0724, 38.3495, 148.7608, 5692,   2158.5,     2131,   1.8785,  34.6065,2,     81.8,2,  34.6071,2,    81.77,2,   163.41,2,    40.75,2,     0.00,2,    2.860,2,     -999,9,     -999,9,-999,9,-999,9,   2364.8,2,   2411.8,2,   7.4398,2,    25.00,     -999,9,     -999,9,   1.8787,2
  49UP20110515,   KSE,    18,  1,     16,      89,2,20110522,0514,0704, 38.3495, 148.7608, 5692,   2362.5,     2332,   1.7616,  34.6267,2,     95.5,2,  34.6268,2,    95.48,2,   162.17,2,    39.78,2,     0.00,2,    2.800,2,     -999,9,     -999,9,-999,9,-999,9,   2354.6,2,   2414.5,2,   7.4661,2,    25.00,     -999,9,     -999,9,   1.7619,2
  49UP20110515,   KSE,    18,  1,     15,      88,2,20110522,0514,0659, 38.3495, 148.7608, 5692,   2566.1,     2531,   1.6859,  34.6400,2,    106.4,2,  34.6402,6,   106.58,6,   161.08,2,    39.23,2,     0.00,2,    2.740,2,     -999,9,     -999,9,-999,9,-999,9,   2353.6,2,   2415.6,2,   7.4869,2,    25.00,     -999,9,     -999,9,   1.6860,2
  49UP20110515,   KSE,    18,  1,     14,      87,2,20110522,0514,0653, 38.3495, 148.7608, 5692,   2762.3,     2724,   1.6221,  34.6509,2,    116.1,2,  34.6515,2,   116.32,2,   159.01,2,    38.39,2,     0.00,2,    2.700,2,     -999,9,     -999,9,-999,9,-999,9,   2336.0,3,   2416.0,2,   7.5053,2,    25.00,     -999,9,     -999,9,   1.6222,2
  49UP20110515,   KSE,    18,  1,     13,      86,2,20110522,0514,0646, 38.3495, 148.7608, 5692,   2974.0,     2931,   1.5797,  34.6587,2,    123.1,2,  34.6582,2,   123.39,2,   157.82,2,    38.00,2,     0.00,2,    2.660,2,     -999,9,     -999,9,-999,9,-999,9,   2342.7,2,   2416.6,2,   7.5186,2,    25.00,     -999,9,     -999,9,   1.5800,2
  49UP20110515,   KSE,    18,  1,     12,      85,2,20110522,0514,0640, 38.3495, 148.7608, 5692,   3219.8,     3171,   1.5359,  34.6665,2,    131.5,2,  34.6680,2,   131.30,2,   156.12,2,    37.61,2,     0.00,2,    2.620,2,     -999,9,     -999,9,-999,9,-999,9,   2335.6,2,   2415.9,2,   7.5323,2,    25.00,     -999,9,     -999,9,   1.5362,2
  49UP20110515,   KSE,    18,  1,     11,     110,2,20110522,0514,0631, 38.3495, 148.7608, 5692,   3475.3,     3421,   1.5073,  34.6725,2,    137.7,2,  34.6724,2,   137.49,2,   154.80,2,    37.08,2,     0.00,2,    2.580,2,     -999,9,     -999,9,-999,9,-999,9,   2331.5,2,   2415.6,2,   7.5437,2,    25.00,     -999,9,     -999,9,   1.5073,2
  49UP20110515,   KSE,    18,  1,     10,      83,2,20110522,0514,0625, 38.3495, 148.7608, 5692,   3732.2,     3672,   1.4897,  34.6773,2,    143.5,2,  34.6784,2,   143.55,2,   153.16,2,    36.83,2,     0.00,2,    2.550,2,     -999,9,     -999,9,-999,9,-999,9,   2329.9,3,   2416.2,2,   7.5532,2,    25.00,     -999,9,     -999,9,   1.4898,2
  49UP20110515,   KSE,    18,  1,      9,      82,2,20110522,0514,0625, 38.3495, 148.7608, 5692,   3732.2,     3672,   1.4897,  34.6773,2,    143.5,2,  34.6784,2,   143.30,2,   153.27,2,    36.91,2,     0.00,2,    2.560,2,     -999,9,     -999,9,-999,9,-999,9,   2327.9,2,   2415.4,2,   7.5542,2,    25.00,     -999,9,     -999,9,   1.4898,2
  49UP20110515,   KSE,    18,  1,      8,      81,2,20110522,0514,0614, 38.3495, 148.7608, 5692,   3988.4,     3922,   1.4783,  34.6813,2,    148.3,2,  34.6810,2,   148.04,2,   151.94,2,    36.51,2,     0.00,2,    2.530,2,     -999,9,     -999,9,-999,9,-999,9,   2311.4,3,   2414.8,2,   7.5611,2,    25.00,     -999,9,     -999,9,   1.4785,2
  49UP20110515,   KSE,    18,  1,      7,      80,2,20110522,0514,0608, 38.3495, 148.7608, 5692,   4245.1,     4172,   1.4768,  34.6844,2,    152.2,2,  34.6842,2,   151.83,2,   150.96,6,    36.27,6,     0.00,6,    2.520,6,     -999,9,     -999,9,-999,9,-999,9,   2322.1,3,   2414.8,6,   7.5666,2,    25.00,     -999,9,     -999,9,   1.4769,2
  49UP20110515,   KSE,    18,  1,      6,      79,2,20110522,0514,0557, 38.3495, 148.7608, 5692,   4502.2,     4422,   1.4809,  34.6870,2,    155.6,2,  34.6868,2,   155.17,2,   149.37,2,    36.03,2,     0.00,2,    2.500,2,     -999,9,     -999,9,-999,9,-999,9,   2312.1,2,   2416.2,2,   7.5732,2,    25.00,     -999,9,     -999,9,   1.4812,2
  49UP20110515,   KSE,    18,  1,      5,      78,2,20110522,0514,0551, 38.3495, 148.7608, 5692,   4760.4,     4673,   1.4914,  34.6892,2,    158.8,2,  34.6899,2,   158.46,2,   147.86,2,    35.83,2,     0.00,2,    2.470,2,     -999,9,     -999,9,-999,9,-999,9,   2312.0,2,   2435.2,3,   7.5774,2,    25.00,     -999,9,     -999,9,   1.4917,2
  49UP20110515,   KSE,    18,  1,      4,      77,2,20110522,0514,0541, 38.3495, 148.7608, 5692,   5017.8,     4922,   1.5122,  34.6905,2,    159.6,2,  34.6904,6,   159.32,6,   149.18,2,    35.70,2,     0.00,2,    2.480,2,     -999,9,     -999,9,-999,9,-999,9,   2312.6,2,   2415.0,2,   7.5781,2,    25.00,     -999,9,     -999,9,   1.5124,2
  49UP20110515,   KSE,    18,  1,      3,      76,2,20110522,0514,0535, 38.3495, 148.7608, 5692,   5274.9,     5172,   1.5349,  34.6916,2,    161.6,2,  34.6911,2,   161.09,2,   147.09,2,    35.54,2,     0.00,2,    2.460,2,     -999,9,     -999,9,-999,9,-999,9,   2303.2,3,   2411.5,2,   7.5794,2,    25.00,     -999,9,     -999,9,   1.5351,2
  49UP20110515,   KSE,    18,  1,      2,      75,2,20110522,0514,0524, 38.3495, 148.7608, 5692,   5532.5,     5421,   1.5593,  34.6924,2,    163.2,2,  34.6924,2,   163.07,2,   145.17,2,    35.51,2,     0.00,2,    2.450,2,     -999,9,     -999,9,-999,9,-999,9,   2312.9,2,   2411.3,2,   7.5824,2,    25.00,     -999,9,     -999,9,   1.5594,2
  49UP20110515,   KSE,    18,  1,      1,      74,3,20110522,0514,0515, 38.3495, 148.7608, 5692,   5809.8,     5689,   1.5897,  34.6933,2,    164.8,2,  34.6936,2,   164.46,2,   143.50,2,    35.41,2,     0.00,2,    2.440,2,     -999,9,     -999,9,-999,9,-999,9,   2305.5,2,   2408.6,2,   7.2275,4,    25.00,     -999,9,     -999,9,   1.5897,2