BOTTLE,20240116CCHSIOVAJ
EXPOCODE,SECT_ID,STNNBR,CASTNO,SAMPNO,BTLNBR,BTLNBR_FLAG_W,DATE,TIME,BTL_TIME,LATITUDE,LONGITUDE,DEPTH,CTDPRS,CTDDEPTH,CTDTMP,CTDSAL,CTDSAL_FLAG_W,CTDOXY,CTDOXY_FLAG_W,SALNTY,SALNTY_FLAG_W,OXYGEN,OXYGEN_FLAG_W,SILCAT,SILCAT_FLAG_W,NO2+NO3,NO2+NO3_FLAG_W,NITRIT,NITRIT_FLAG_W,PHSPHT,PHSPHT_FLAG_W,CFC-11,CFC-11_FLAG_W,CFC-12,CFC-12_FLAG_W,DELC14,DELC14_FLAG_W,DELC13,DELC13_FLAG_W,TCARBN,TCARBN_FLAG_W,ALKALI,ALKALI_FLAG_W,PH_TOT,PH_TOT_FLAG_W,PH_TMP,CHLORA,CHLORA_FLAG_W,PPHYTN,PPHYTN_FLAG_W,REFTMP,REFTMP_FLAG_W
,,,,,,,,,,,,METERS,DBAR,METERS,ITS-90,PSS-78,,UMOL/KG,,PSS-78,,UMOL/KG,,UMOL/KG,,UMOL/KG,,UMOL/KG,,UMOL/KG,,PMOL/KG,,PMOL/KG,,/MILLE,,/MILLE,,UMOL/KG,,UMOL/KG,,,,DEG C,UG/KG,,UG/KG,,ITS-90,
  49UP20110515,   P01,    35,  1,      0,     BUC,2,20110610,0520,0755, 45.5607, 157.4790, 5027,      0.0,        0,   5.0344,  32.8945,2,    330.5,2,     -999,9,   326.36,2,    34.50,2,    19.98,2,     0.22,2,    1.660,2,     -999,9,     -999,9,-999,9,-999,9,     -999,9,     -999,9,     -999,9,     -999,     0.46,2,     0.09,2,     -999,9
  49UP20110515,   P01,    35,  1,     36,     109,2,20110610,0520,0808, 45.5607, 157.4790, 5027,     10.3,       10,   4.8546,  32.9004,2,    331.5,2,  32.9033,6,   332.00,2,    34.77,2,    19.95,2,     0.21,2,    1.670,2,     -999,9,     -999,9,-999,9,-999,9,     -999,9,     -999,9,     -999,9,     -999,     0.28,2,     0.08,2,   4.8548,2
  49UP20110515,   P01,    35,  1,     35,     108,2,20110610,0520,0803, 45.5607, 157.4790, 5027,     50.6,       50,   3.2277,  32.9442,2,    336.1,2,  32.9435,2,   336.35,2,    33.39,2,    20.71,6,     0.22,6,    1.740,6,     -999,9,     -999,9,-999,9,-999,9,     -999,9,     -999,9,     -999,9,     -999,     0.31,2,     0.12,2,   3.2338,2
  49UP20110515,   P01,    35,  1,     34,     107,2,20110610,0520,0801, 45.5607, 157.4790, 5027,     76.2,       76,   1.5207,  33.0791,2,    312.5,2,  33.0918,4,   314.07,6,    47.49,2,    26.77,2,     0.15,2,    2.080,2,     -999,9,     -999,9,-999,9,-999,9,     -999,9,     -999,9,     -999,9,     -999,     0.15,2,     0.08,2,   1.5130,2
  49UP20110515,   P01,    35,  1,     33,     106,2,20110610,0520,0757, 45.5607, 157.4790, 5027,    101.8,      101,   1.8126,  33.2706,2,    238.7,2,  33.3129,4,   233.60,4,    61.89,6,    32.38,6,     0.03,6,    2.410,6,     -999,9,     -999,9,-999,9,-999,9,     -999,9,     -999,9,     -999,9,     -999,     0.05,2,     0.09,2,   1.8152,2
  49UP20110515,   P01,    35,  1,     32,     105,2,20110610,0520,0754, 45.5607, 157.4790, 5027,    151.5,      150,   3.2480,  33.7174,2,     86.8,2,  33.7224,2,    87.03,2,    87.91,2,    41.45,2,     0.01,2,    2.960,2,     -999,9,     -999,9,-999,9,-999,9,     -999,9,     -999,9,     -999,9,     -999,     0.02,2,     0.09,2,   3.2502,2
  49UP20110515,   P01,    35,  1,     31,     104,2,20110610,0520,0751, 45.5607, 157.4790, 5027,    202.1,      200,   3.6002,  33.8723,2,     40.1,2,  33.8730,2,    42.83,2,    97.69,2,    44.02,2,     0.01,2,    3.110,2,     -999,9,     -999,9,-999,9,-999,9,     -999,9,     -999,9,     -999,9,     -999,     0.01,2,     0.09,2,   3.5948,2
  49UP20110515,   P01,    35,  1,     30,     103,2,20110610,0520,0749, 45.5607, 157.4790, 5027,    252.5,      250,   3.6712,  33.9716,2,     23.4,2,  33.9767,2,    22.99,2,   105.28,3,    45.03,2,     0.01,2,    3.180,2,     -999,9,     -999,9,-999,9,-999,9,     -999,9,     -999,9,     -999,9,     -999,     -999,9,     -999,9,   3.6715,2
  49UP20110515,   P01,    35,  1,     29,     102,2,20110610,0520,0747, 45.5607, 157.4790, 5027,    333.8,      331,   3.5900,  34.0740,2,     17.1,2,  34.0785,2,    17.39,2,   114.20,2,    44.87,2,     0.01,2,    3.170,2,     -999,9,     -999,9,-999,9,-999,9,     -999,9,     -999,9,     -999,9,     -999,     -999,9,     -999,9,   3.5904,2
  49UP20110515,   P01,    35,  1,     28,     101,2,20110610,0520,0744, 45.5607, 157.4790, 5027,    434.1,      430,   3.4163,  34.1712,2,     15.0,2,  34.1724,6,    14.56,2,   124.44,3,    44.58,2,     0.00,2,    3.150,2,     -999,9,     -999,9,-999,9,-999,9,     -999,9,     -999,9,     -999,9,     -999,     -999,9,     -999,9,   3.4161,2
  49UP20110515,   P01,    35,  1,     27,     100,3,20110610,0520,0741, 45.5607, 157.4790, 5027,    535.6,      531,   3.2369,  34.2437,2,     14.0,2,  34.2426,2,    13.21,4,   132.92,2,    44.52,2,     0.00,2,    3.150,2,     -999,9,     -999,9,-999,9,-999,9,     -999,9,     -999,9,     -999,9,     -999,     -999,9,     -999,9,   3.2373,2
  49UP20110515,   P01,    35,  1,     26,      99,2,20110610,0520,0741, 45.5607, 157.4790, 5027,    535.6,      531,   3.2369,  34.2437,2,     14.0,2,  34.2440,2,    13.26,2,   133.03,2,    44.59,2,     0.00,2,    3.160,2,     -999,9,     -999,9,-999,9,-999,9,     -999,9,     -999,9,     -999,9,     -999,     -999,9,     -999,9,   3.2373,2
  49UP20110515,   P01,    35,  1,     25,      98,2,20110610,0520,0738, 45.5607, 157.4790, 5027,    637.0,      631,   3.0641,  34.2970,2,     14.6,2,  34.2955,2,    13.57,2,   139.39,3,    44.50,2,     0.00,2,    3.160,2,     -999,9,     -999,9,-999,9,-999,9,     -999,9,     -999,9,     -999,9,     -999,     -999,9,     -999,9,   3.0660,2
  49UP20110515,   P01,    35,  1,     24,      97,2,20110610,0520,0733, 45.5607, 157.4790, 5027,    738.3,      731,   2.8711,  34.3350,2,     22.7,2,  34.3344,2,    22.20,6,   144.16,2,    43.92,2,     0.00,2,    3.130,2,     -999,9,     -999,9,-999,9,-999,9,     -999,9,     -999,9,     -999,9,     -999,     -999,9,     -999,9,   2.8713,2
  49UP20110515,   P01,    35,  1,     23,      96,2,20110610,0520,0729, 45.5607, 157.4790, 5027,    839.8,      831,   2.7181,  34.3749,2,     29.8,2,  34.3746,2,    29.62,2,   148.26,2,    43.33,2,     0.00,2,    3.090,2,     -999,9,     -999,9,-999,9,-999,9,     -999,9,     -999,9,     -999,9,     -999,     -999,9,     -999,9,   2.7183,2
  49UP20110515,   P01,    35,  1,     22,      95,2,20110610,0520,0726, 45.5607, 157.4790, 5027,    940.1,      930,   2.6073,  34.4154,2,     33.4,2,  34.4167,2,    33.15,2,   150.69,2,    43.05,2,     0.00,2,    3.070,2,     -999,9,     -999,9,-999,9,-999,9,     -999,9,     -999,9,     -999,9,     -999,     -999,9,     -999,9,   2.6069,2
  49UP20110515,   P01,    35,  1,     21,      94,2,20110610,0520,0723, 45.5607, 157.4790, 5027,   1082.2,     1071,   2.4354,  34.4558,2,     32.6,2,  34.4557,2,    31.83,2,   158.68,2,    43.28,2,     0.00,2,    3.080,2,     -999,9,     -999,9,-999,9,-999,9,     -999,9,     -999,9,     -999,9,     -999,     -999,9,     -999,9,   2.4357,2
  49UP20110515,   P01,    35,  1,     20,      93,3,20110610,0520,0714, 45.5607, 157.4790, 5027,   1285.2,     1271,   2.2547,  34.5054,2,     42.5,2,  34.5064,2,    41.93,2,   162.45,2,    42.84,2,     0.00,2,    3.040,2,     -999,9,     -999,9,-999,9,-999,9,     -999,9,     -999,9,     -999,9,     -999,     -999,9,     -999,9,   2.2548,2
  49UP20110515,   P01,    35,  1,     19,      92,3,20110610,0520,0707, 45.5607, 157.4790, 5027,   1487.5,     1470,   2.0957,  34.5452,2,     51.4,2,  34.5457,2,    50.89,2,   165.39,2,    42.40,2,     0.00,2,    2.980,3,     -999,9,     -999,9,-999,9,-999,9,     -999,9,     -999,9,     -999,9,     -999,     -999,9,     -999,9,   2.0959,2
  49UP20110515,   P01,    35,  1,     18,      91,2,20110610,0520,0703, 45.5607, 157.4790, 5027,   1691.3,     1671,   1.9637,  34.5750,2,     61.3,2,  34.5755,6,    60.66,2,   167.58,2,    41.69,2,     0.00,2,    2.940,2,     -999,9,     -999,9,-999,9,-999,9,     -999,9,     -999,9,     -999,9,     -999,     -999,9,     -999,9,   1.9638,2
  49UP20110515,   P01,    35,  1,     17,      90,2,20110610,0520,0652, 45.5607, 157.4790, 5027,   1894.8,     1871,   1.8379,  34.6025,2,     75.2,2,  34.6029,2,    74.83,2,   167.67,2,    40.98,6,     0.00,6,    2.890,6,     -999,9,     -999,9,-999,9,-999,9,     -999,9,     -999,9,     -999,9,     -999,     -999,9,     -999,9,   1.8379,2
  49UP20110515,   P01,    35,  1,     16,      89,2,20110610,0520,0646, 45.5607, 157.4790, 5027,   2098.6,     2071,   1.7354,  34.6238,2,     91.1,2,  34.6242,2,    90.60,6,   164.83,2,    39.99,2,     0.00,2,    2.810,2,     -999,9,     -999,9,-999,9,-999,9,     -999,9,     -999,9,     -999,9,     -999,     -999,9,     -999,9,   1.7354,2
  49UP20110515,   P01,    35,  1,     15,      88,2,20110610,0520,0642, 45.5607, 157.4790, 5027,   2302.7,     2271,   1.6629,  34.6373,2,    101.6,2,  34.6382,2,   101.37,2,   163.65,2,    39.33,2,     0.00,2,    2.760,2,     -999,9,     -999,9,-999,9,-999,9,     -999,9,     -999,9,     -999,9,     -999,     -999,9,     -999,9,   1.6629,2
  49UP20110515,   P01,    35,  1,     14,      87,2,20110610,0520,0631, 45.5607, 157.4790, 5027,   2505.5,     2470,   1.6125,  34.6470,2,    110.2,2,  34.6480,2,   109.81,2,   162.25,2,    38.80,2,     0.00,2,    2.720,2,     -999,9,     -999,9,-999,9,-999,9,     -999,9,     -999,9,     -999,9,     -999,     -999,9,     -999,9,   1.6126,2
  49UP20110515,   P01,    35,  1,     13,      86,2,20110610,0520,0627, 45.5607, 157.4790, 5027,   2709.8,     2670,   1.5705,  34.6556,2,    119.2,2,  34.6559,2,   118.86,2,   159.48,2,    38.27,2,     0.00,2,    2.660,2,     -999,9,     -999,9,-999,9,-999,9,     -999,9,     -999,9,     -999,9,     -999,     -999,9,     -999,9,   1.5705,2
  49UP20110515,   P01,    35,  1,     12,      85,2,20110610,0520,0623, 45.5607, 157.4790, 5027,   2915.0,     2871,   1.5303,  34.6629,2,    126.7,2,  34.6635,2,   126.29,2,   157.36,2,    37.76,2,     0.00,2,    2.630,2,     -999,9,     -999,9,-999,9,-999,9,     -999,9,     -999,9,     -999,9,     -999,     -999,9,     -999,9,   1.5303,2
  49UP20110515,   P01,    35,  1,     11,     110,2,20110610,0520,0613, 45.5607, 157.4790, 5027,   3129.0,     3081,   1.4971,  34.6694,2,    133.6,2,  34.6696,2,   132.97,2,   156.20,2,    37.41,2,     0.00,2,    2.600,2,     -999,9,     -999,9,-999,9,-999,9,     -999,9,     -999,9,     -999,9,     -999,     -999,9,     -999,9,   1.4971,2
  49UP20110515,   P01,    35,  1,     10,      83,2,20110610,0520,0607, 45.5607, 157.4790, 5027,   3385.1,     3331,   1.4731,  34.6748,2,    140.0,2,  34.6754,2,   140.17,2,   154.04,2,    36.93,2,     0.00,2,    2.560,2,     -999,9,     -999,9,-999,9,-999,9,     -999,9,     -999,9,     -999,9,     -999,     -999,9,     -999,9,   1.4733,2
  49UP20110515,   P01,    35,  1,      9,      82,2,20110610,0520,0556, 45.5607, 157.4790, 5027,   3641.3,     3581,   1.4660,  34.6784,2,    144.4,2,  34.6790,6,   144.11,2,   152.57,2,    36.70,2,     0.00,2,    2.540,2,     -999,9,     -999,9,-999,9,-999,9,     -999,9,     -999,9,     -999,9,     -999,     -999,9,     -999,9,   1.4660,2
  49UP20110515,   P01,    35,  1,      8,      81,2,20110610,0520,0551, 45.5607, 157.4790, 5027,   3897.7,     3831,   1.4542,  34.6826,2,    149.6,2,  34.6833,2,   149.48,2,   151.33,3,    36.40,2,     0.00,2,    2.510,2,     -999,9,     -999,9,-999,9,-999,9,     -999,9,     -999,9,     -999,9,     -999,     -999,9,     -999,9,   1.4542,2
  49UP20110515,   P01,    35,  1,      7,      80,3,20110610,0520,0551, 45.5607, 157.4790, 5027,   3897.7,     3831,   1.4542,  34.6826,2,    149.6,2,  34.6846,4,   148.95,4,   151.32,2,    36.34,2,     0.00,2,    2.520,2,     -999,9,     -999,9,-999,9,-999,9,     -999,9,     -999,9,     -999,9,     -999,     -999,9,     -999,9,   1.4542,2
  49UP20110515,   P01,    35,  1,      6,      79,2,20110610,0520,0544, 45.5607, 157.4790, 5027,   4155.1,     4081,   1.4554,  34.6855,2,    153.1,2,  34.6860,2,   152.83,2,   150.40,2,    36.08,2,     0.00,2,    2.490,2,     -999,9,     -999,9,-999,9,-999,9,     -999,9,     -999,9,     -999,9,     -999,     -999,9,     -999,9,   1.4555,2
  49UP20110515,   P01,    35,  1,      5,      78,2,20110610,0520,0539, 45.5607, 157.4790, 5027,   4411.8,     4331,   1.4646,  34.6877,2,    155.6,2,  34.6874,2,   155.28,2,   150.36,3,    35.95,2,     0.00,2,    2.480,2,     -999,9,     -999,9,-999,9,-999,9,     -999,9,     -999,9,     -999,9,     -999,     -999,9,     -999,9,   1.4646,2
  49UP20110515,   P01,    35,  1,      4,      77,2,20110610,0520,0531, 45.5607, 157.4790, 5027,   4668.7,     4580,   1.4839,  34.6889,2,    156.8,2,  34.6896,2,   156.67,2,   150.30,6,    35.88,6,     0.00,6,    2.480,6,     -999,9,     -999,9,-999,9,-999,9,     -999,9,     -999,9,     -999,9,     -999,     -999,9,     -999,9,   1.4837,2
  49UP20110515,   P01,    35,  1,      3,      76,2,20110610,0520,0527, 45.5607, 157.4790, 5027,   4926.1,     4830,   1.5073,  34.6900,2,    157.7,2,  34.6899,2,   157.53,2,   150.16,2,    35.76,2,     0.00,2,    2.480,2,     -999,9,     -999,9,-999,9,-999,9,     -999,9,     -999,9,     -999,9,     -999,     -999,9,     -999,9,   1.5073,2
  49UP20110515,   P01,    35,  1,      2,      75,2,20110610,0520,0521, 45.5607, 157.4790, 5027,   5121.0,     5019,   1.5262,  34.6904,2,    158.5,2,  34.6873,4,   158.08,2,   150.72,2,    35.66,2,     0.00,2,    2.480,2,     -999,9,     -999,9,-999,9,-999,9,     -999,9,     -999,9,     -999,9,     -999,     -999,9,     -999,9,   1.5259,2
  49UP20110515,   P01,    35,  1,      1,      74,3,20110610,0520,0521, 45.5607, 157.4790, 5027,   5121.0,     5019,   1.5262,  34.6904,2,    158.5,2,  34.6906,2,   159.10,4,   150.50,2,    35.77,2,     0.00,2,    2.480,2,     -999,9,     -999,9,-999,9,-999,9,     -999,9,     -999,9,     -999,9,     -999,     -999,9,     -999,9,   1.5259,2