BOTTLE,20240116CCHSIOVAJ
EXPOCODE,SECT_ID,STNNBR,CASTNO,SAMPNO,BTLNBR,BTLNBR_FLAG_W,DATE,TIME,BTL_TIME,LATITUDE,LONGITUDE,DEPTH,CTDPRS,CTDDEPTH,CTDTMP,CTDSAL,CTDSAL_FLAG_W,CTDOXY,CTDOXY_FLAG_W,SALNTY,SALNTY_FLAG_W,OXYGEN,OXYGEN_FLAG_W,SILCAT,SILCAT_FLAG_W,NO2+NO3,NO2+NO3_FLAG_W,NITRIT,NITRIT_FLAG_W,PHSPHT,PHSPHT_FLAG_W,CFC-11,CFC-11_FLAG_W,CFC-12,CFC-12_FLAG_W,DELC14,DELC14_FLAG_W,DELC13,DELC13_FLAG_W,TCARBN,TCARBN_FLAG_W,ALKALI,ALKALI_FLAG_W,PH_TOT,PH_TOT_FLAG_W,PH_TMP,CHLORA,CHLORA_FLAG_W,PPHYTN,PPHYTN_FLAG_W,REFTMP,REFTMP_FLAG_W
,,,,,,,,,,,,METERS,DBAR,METERS,ITS-90,PSS-78,,UMOL/KG,,PSS-78,,UMOL/KG,,UMOL/KG,,UMOL/KG,,UMOL/KG,,UMOL/KG,,PMOL/KG,,PMOL/KG,,/MILLE,,/MILLE,,UMOL/KG,,UMOL/KG,,,,DEG C,UG/KG,,UG/KG,,ITS-90,
  49UP20110515,   P13,   149,  1,      0,     BUC,2,20110814,2014,2110, -7.6158, 161.4853, 1713,      0.0,        0,  28.9964,  35.1436,2,    194.6,2,     -999,9,   194.24,2,     0.71,2,     0.00,2,     0.00,2,    0.180,2,     -999,9,     -999,9,-999,9,-999,9,     -999,9,     -999,9,     -999,9,     -999,     -999,9,     -999,9,     -999,9
  49UP20110515,   P13,   149,  1,     36,     109,2,20110814,2014,2131, -7.6158, 161.4853, 1713,     10.9,       11,  29.0000,  35.1441,2,    194.4,2,  35.1427,6,   194.75,2,     0.64,2,     0.00,2,     0.00,2,    0.170,2,     -999,9,     -999,9,-999,9,-999,9,     -999,9,     -999,9,     -999,9,     -999,     -999,9,     -999,9,  28.9992,2
  49UP20110515,   P13,   149,  1,     35,     108,2,20110814,2014,2130, -7.6158, 161.4853, 1713,     25.6,       25,  28.9980,  35.1420,2,    194.5,2,  35.1404,2,   194.72,2,     0.79,2,     0.00,2,     0.00,2,    0.170,2,     -999,9,     -999,9,-999,9,-999,9,     -999,9,     -999,9,     -999,9,     -999,     -999,9,     -999,9,  28.9986,2
  49UP20110515,   P13,   149,  1,     34,     107,2,20110814,2014,2127, -7.6158, 161.4853, 1713,     50.7,       50,  29.0761,  35.2755,2,    193.3,2,  35.2755,2,   193.74,2,     0.83,6,     0.07,6,     0.02,6,    0.210,6,     -999,9,     -999,9,-999,9,-999,9,     -999,9,     -999,9,     -999,9,     -999,     -999,9,     -999,9,  29.0767,2
  49UP20110515,   P13,   149,  1,     33,     106,2,20110814,2014,2126, -7.6158, 161.4853, 1713,     76.9,       76,  29.0674,  35.3140,2,    190.3,2,  35.3122,2,   190.78,2,     0.89,2,     0.37,2,     0.06,2,    0.230,2,     -999,9,     -999,9,-999,9,-999,9,     -999,9,     -999,9,     -999,9,     -999,     -999,9,     -999,9,  29.0674,2
  49UP20110515,   P13,   149,  1,     32,     105,2,20110814,2014,2125, -7.6158, 161.4853, 1713,    101.0,      100,  28.4847,  35.5875,2,    170.2,2,  35.5803,4,   170.75,2,     1.37,2,     4.14,2,     0.72,2,    0.480,2,     -999,9,     -999,9,-999,9,-999,9,     -999,9,     -999,9,     -999,9,     -999,     -999,9,     -999,9,  28.4845,2
  49UP20110515,   P13,   149,  1,     31,     104,2,20110814,2014,2124, -7.6158, 161.4853, 1713,    126.4,      126,  27.1294,  35.6277,2,    154.7,2,  35.6123,4,   154.72,2,     1.60,2,     6.22,2,     0.04,2,    0.580,2,     -999,9,     -999,9,-999,9,-999,9,     -999,9,     -999,9,     -999,9,     -999,     -999,9,     -999,9,  27.1384,2
  49UP20110515,   P13,   149,  1,     30,     103,2,20110814,2014,2122, -7.6158, 161.4853, 1713,    151.2,      150,  25.3708,  35.7458,2,    138.2,2,  35.7448,2,   138.02,6,     1.66,2,     7.48,2,     0.01,2,    0.670,2,     -999,9,     -999,9,-999,9,-999,9,     -999,9,     -999,9,     -999,9,     -999,     -999,9,     -999,9,  25.3732,2
  49UP20110515,   P13,   149,  1,     29,     102,2,20110814,2014,2120, -7.6158, 161.4853, 1713,    201.9,      201,  21.2276,  35.7865,2,    132.1,2,  35.7872,2,   131.96,2,     2.44,6,     9.22,6,     0.01,6,    0.820,6,     -999,9,     -999,9,-999,9,-999,9,     -999,9,     -999,9,     -999,9,     -999,     -999,9,     -999,9,  21.2305,2
  49UP20110515,   P13,   149,  1,     27,     100,2,20110814,2014,2119, -7.6158, 161.4853, 1713,    251.8,      250,  18.5710,  35.5357,2,    128.7,2,  35.5269,4,   128.98,2,     4.25,2,    11.78,2,     0.01,2,    1.000,2,     -999,9,     -999,9,-999,9,-999,9,     -999,9,     -999,9,     -999,9,     -999,     -999,9,     -999,9,  18.5646,2
  49UP20110515,   P13,   149,  1,     28,     101,2,20110814,2014,2119, -7.6158, 161.4853, 1713,    252.0,      250,  18.5072,  35.5319,2,    128.8,2,  35.5341,6,   128.88,2,     4.22,2,    11.71,2,     0.01,2,    1.000,2,     -999,9,     -999,9,-999,9,-999,9,     -999,9,     -999,9,     -999,9,     -999,     -999,9,     -999,9,  18.4923,2
  49UP20110515,   P13,   149,  1,     26,      99,2,20110814,2014,2117, -7.6158, 161.4853, 1713,    281.3,      280,  14.1724,  35.0847,2,    117.0,2,  35.1018,4,   116.24,2,     9.62,2,    18.15,2,     0.00,2,    1.430,2,     -999,9,     -999,9,-999,9,-999,9,     -999,9,     -999,9,     -999,9,     -999,     -999,9,     -999,9,  14.1952,2
  49UP20110515,   P13,   149,  1,     25,      98,2,20110814,2014,2115, -7.6158, 161.4853, 1713,    332.6,      330,  11.4871,  34.8513,2,     99.3,2,  34.8508,2,    98.95,6,    16.78,2,    24.98,2,     0.00,2,    1.850,2,     -999,9,     -999,9,-999,9,-999,9,     -999,9,     -999,9,     -999,9,     -999,     -999,9,     -999,9,  11.4924,2
  49UP20110515,   P13,   149,  1,     24,      97,2,20110814,2014,2114, -7.6158, 161.4853, 1713,    373.2,      371,   9.7118,  34.7225,2,    103.9,2,  34.7181,2,   105.08,2,    22.22,6,    28.39,6,     0.00,6,    2.020,6,     -999,9,     -999,9,-999,9,-999,9,     -999,9,     -999,9,     -999,9,     -999,     -999,9,     -999,9,   9.7130,2
  49UP20110515,   P13,   149,  1,     23,      96,2,20110814,2014,2105, -7.6158, 161.4853, 1713,    474.3,      471,   7.6934,  34.5891,2,    118.1,2,  34.5893,2,   118.38,2,    30.50,2,    31.48,2,     0.00,2,    2.170,2,     -999,9,     -999,9,-999,9,-999,9,     -999,9,     -999,9,     -999,9,     -999,     -999,9,     -999,9,   7.6896,2
  49UP20110515,   P13,   149,  1,     21,      94,2,20110814,2014,2102, -7.6158, 161.4853, 1713,    575.1,      571,   6.7810,  34.5466,2,    117.7,2,  34.5448,2,   117.91,2,    38.05,2,    33.40,2,     0.00,2,    2.310,2,     -999,9,     -999,9,-999,9,-999,9,     -999,9,     -999,9,     -999,9,     -999,     -999,9,     -999,9,   6.7812,2
  49UP20110515,   P13,   149,  1,     22,      95,4,20110814,2014,2102, -7.6158, 161.4853, 1713,    576.4,      572,   6.7809,  34.5465,2,    117.8,2,     -999,9,     -999,9,     -999,9,     -999,9,     -999,9,     -999,9,     -999,9,     -999,9,-999,9,-999,9,     -999,9,     -999,9,     -999,9,     -999,     -999,9,     -999,9,   6.7813,2
  49UP20110515,   P13,   149,  1,     20,      93,2,20110814,2014,2059, -7.6158, 161.4853, 1713,    675.4,      671,   6.0915,  34.5277,2,    115.3,2,  34.5254,2,   115.26,2,    46.55,2,    34.98,2,     0.00,2,    2.430,2,     -999,9,     -999,9,-999,9,-999,9,     -999,9,     -999,9,     -999,9,     -999,     -999,9,     -999,9,   6.0917,2
  49UP20110515,   P13,   149,  1,     19,      92,2,20110814,2014,2056, -7.6158, 161.4853, 1713,    776.1,      770,   5.5345,  34.5224,2,    113.1,2,  34.5220,6,   113.26,6,    54.35,2,    36.04,2,     0.00,2,    2.510,2,     -999,9,     -999,9,-999,9,-999,9,     -999,9,     -999,9,     -999,9,     -999,     -999,9,     -999,9,   5.5349,2
  49UP20110515,   P13,   149,  1,     18,      91,2,20110814,2014,2053, -7.6158, 161.4853, 1713,    877.5,      871,   5.0959,  34.5215,2,    117.9,2,  34.5214,2,   117.90,2,    60.96,2,    36.19,2,     0.00,2,    2.530,2,     -999,9,     -999,9,-999,9,-999,9,     -999,9,     -999,9,     -999,9,     -999,     -999,9,     -999,9,   5.0959,2
  49UP20110515,   P13,   149,  1,     17,      90,2,20110814,2014,2045, -7.6158, 161.4853, 1713,    978.0,      970,   4.5972,  34.5219,2,    128.8,2,  34.5226,2,   129.06,2,    67.53,6,    35.65,6,     0.00,6,    2.490,6,     -999,9,     -999,9,-999,9,-999,9,     -999,9,     -999,9,     -999,9,     -999,     -999,9,     -999,9,   4.5971,2
  49UP20110515,   P13,   149,  1,     15,      88,2,20110814,2014,2041, -7.6158, 161.4853, 1713,   1141.9,     1132,   3.9057,  34.5438,2,    128.2,2,  34.5423,2,   128.42,2,    81.60,2,    36.42,2,     0.00,2,    2.550,2,     -999,9,     -999,9,-999,9,-999,9,     -999,9,     -999,9,     -999,9,     -999,     -999,9,     -999,9,   3.9031,2
  49UP20110515,   P13,   149,  1,     16,      89,2,20110814,2014,2041, -7.6158, 161.4853, 1713,   1143.0,     1133,   3.8883,  34.5449,2,    128.1,2,  34.5431,2,   128.74,2,    81.77,2,    36.42,2,     0.00,2,    2.540,2,     -999,9,     -999,9,-999,9,-999,9,     -999,9,     -999,9,     -999,9,     -999,     -999,9,     -999,9,   3.8893,2
  49UP20110515,   P13,   149,  1,     14,      87,2,20110814,2014,2036, -7.6158, 161.4853, 1713,   1341.5,     1330,   3.1215,  34.5763,2,    132.0,2,  34.5760,2,   132.20,6,    98.32,2,    36.76,2,     0.00,2,    2.570,2,     -999,9,     -999,9,-999,9,-999,9,     -999,9,     -999,9,     -999,9,     -999,     -999,9,     -999,9,   3.1216,2
  49UP20110515,   P13,   149,  1,     13,      86,2,20110814,2014,2021, -7.6158, 161.4853, 1713,   1544.5,     1530,   2.6033,  34.6094,2,    130.7,2,  34.6097,6,   130.69,2,   113.66,2,    37.20,2,     0.00,2,    2.590,2,     -999,9,     -999,9,-999,9,-999,9,     -999,9,     -999,9,     -999,9,     -999,     -999,9,     -999,9,   2.6029,2
  49UP20110515,   P13,   149,  1,     12,      74,2,20110814,2014,2017, -7.6158, 161.4853, 1713,   1704.2,     1688,   2.4030,  34.6228,2,    130.8,2,  34.6219,2,   131.00,2,   120.23,2,    37.23,2,     0.00,2,    2.600,2,     -999,9,     -999,9,-999,9,-999,9,     -999,9,     -999,9,     -999,9,     -999,     -999,9,     -999,9,   2.4018,2
  49UP20110515,   P13,   149,  1,     10,      83,2,20110814,2014,2017, -7.6158, 161.4853, 1713,   1704.7,     1688,   2.4059,  34.6226,2,    130.9,2,  34.6231,2,   130.92,2,     -999,9,     -999,9,     -999,9,     -999,9,     -999,9,     -999,9,-999,9,-999,9,     -999,9,     -999,9,     -999,9,     -999,     -999,9,     -999,9,   2.4056,2
  49UP20110515,   P13,   149,  1,     11,     110,2,20110814,2014,2017, -7.6158, 161.4853, 1713,   1704.9,     1688,   2.4046,  34.6227,2,    130.9,2,  34.6220,2,   131.08,2,   120.38,2,    37.26,2,     0.00,2,    2.590,2,     -999,9,     -999,9,-999,9,-999,9,     -999,9,     -999,9,     -999,9,     -999,     -999,9,     -999,9,   2.4046,2
  49UP20110515,   P13,   149,  1,      8,      81,2,20110814,2014,2016, -7.6158, 161.4853, 1713,   1725.5,     1709,   2.4040,  34.6228,2,    130.9,2,  34.6229,2,   131.15,2,   120.31,2,    37.28,2,     0.00,2,    2.600,2,     -999,9,     -999,9,-999,9,-999,9,     -999,9,     -999,9,     -999,9,     -999,     -999,9,     -999,9,   2.4041,2
  49UP20110515,   P13,   149,  1,      2,      75,2,20110814,2014,2014, -7.6158, 161.4853, 1713,   1740.7,     1724,   2.4061,  34.6228,2,    130.9,2,  34.6225,2,   131.10,2,     -999,9,     -999,9,     -999,9,     -999,9,     -999,9,     -999,9,-999,9,-999,9,     -999,9,     -999,9,     -999,9,     -999,     -999,9,     -999,9,   2.4068,2
  49UP20110515,   P13,   149,  1,      1,     112,2,20110814,2014,2014, -7.6158, 161.4853, 1713,   1741.1,     1724,   2.4073,  34.6227,2,    130.9,2,  34.6236,2,   130.86,2,   120.15,2,    37.31,2,     0.00,2,    2.600,2,     -999,9,     -999,9,-999,9,-999,9,     -999,9,     -999,9,     -999,9,     -999,     -999,9,     -999,9,   2.4068,2