BOTTLE,20240116CCHSIOVAJ
EXPOCODE,SECT_ID,STNNBR,CASTNO,SAMPNO,BTLNBR,BTLNBR_FLAG_W,DATE,TIME,BTL_TIME,LATITUDE,LONGITUDE,DEPTH,CTDPRS,CTDDEPTH,CTDTMP,CTDSAL,CTDSAL_FLAG_W,CTDOXY,CTDOXY_FLAG_W,SALNTY,SALNTY_FLAG_W,OXYGEN,OXYGEN_FLAG_W,SILCAT,SILCAT_FLAG_W,NO2+NO3,NO2+NO3_FLAG_W,NITRIT,NITRIT_FLAG_W,PHSPHT,PHSPHT_FLAG_W,CFC-11,CFC-11_FLAG_W,CFC-12,CFC-12_FLAG_W,DELC14,DELC14_FLAG_W,DELC13,DELC13_FLAG_W,TCARBN,TCARBN_FLAG_W,ALKALI,ALKALI_FLAG_W,PH_TOT,PH_TOT_FLAG_W,PH_TMP,CHLORA,CHLORA_FLAG_W,PPHYTN,PPHYTN_FLAG_W,REFTMP,REFTMP_FLAG_W
,,,,,,,,,,,,METERS,DBAR,METERS,ITS-90,PSS-78,,UMOL/KG,,PSS-78,,UMOL/KG,,UMOL/KG,,UMOL/KG,,UMOL/KG,,UMOL/KG,,PMOL/KG,,PMOL/KG,,/MILLE,,/MILLE,,UMOL/KG,,UMOL/KG,,,,DEG C,UG/KG,,UG/KG,,ITS-90,
  49UP20110515,   P13,   144,  1,      0,     BUC,2,20110813,2133,2307, -6.5097, 162.9768, 3490,      0.0,        0,  29.3598,  35.1321,2,    194.7,2,     -999,9,   194.16,2,     0.80,2,     0.01,2,     0.00,2,    0.180,2,     -999,9,     -999,9,-999,9,-999,9,     -999,9,     -999,9,     -999,9,     -999,     0.09,2,     0.04,2,     -999,9
  49UP20110515,   P13,   144,  1,     36,     109,2,20110813,2133,2330, -6.5097, 162.9768, 3490,     10.4,       10,  29.3707,  35.1315,2,    194.7,2,  35.1307,2,   194.27,2,     0.76,2,     0.01,2,     0.00,2,    0.170,2,    1.613,3,    1.018,2,-999,9,-999,9,   1962.3,2,   2310.0,2,   8.1198,2,    25.00,     0.08,2,     0.04,2,  29.3723,2
  49UP20110515,   P13,   144,  1,     35,     108,2,20110813,2133,2329, -6.5097, 162.9768, 3490,     25.4,       25,  29.3525,  35.1312,2,    194.6,2,  35.1303,2,   194.31,2,     0.72,2,     0.02,2,     0.00,2,    0.170,2,    1.633,3,    1.018,2,-999,9,-999,9,   1963.6,2,   2309.5,2,   8.1232,2,    25.00,     0.09,2,     0.04,2,  29.3548,2
  49UP20110515,   P13,   144,  1,     34,     107,2,20110813,2133,2325, -6.5097, 162.9768, 3490,     49.3,       49,  29.2514,  35.1922,2,    194.7,2,  35.1908,2,   194.51,2,     0.63,2,     0.00,2,     0.00,2,    0.170,2,    1.617,3,    1.025,2,-999,9,-999,9,   1966.4,6,   2312.2,6,   8.1194,2,    25.00,     0.12,2,     0.06,2,  29.2540,2
  49UP20110515,   P13,   144,  1,     33,     106,2,20110813,2133,2323, -6.5097, 162.9768, 3490,     75.7,       75,  29.2216,  35.2789,2,    193.7,2,  35.2829,2,   193.24,2,     0.74,2,     0.05,2,     0.01,2,    0.200,2,    1.620,3,    1.028,2,-999,9,-999,9,   1970.5,2,   2318.5,2,   8.1153,6,    25.00,     0.23,2,     0.15,2,  29.2234,2
  49UP20110515,   P13,   144,  1,     32,     105,2,20110813,2133,2322, -6.5097, 162.9768, 3490,     98.6,       98,  28.3543,  35.5324,2,    170.0,2,  35.5294,2,   169.38,2,     1.10,2,     3.77,2,     0.71,2,    0.440,2,    1.619,3,    1.085,2,-999,9,-999,9,   2022.6,2,   2331.0,2,   8.0483,2,    25.00,     0.22,2,     0.33,2,  28.3438,2
  49UP20110515,   P13,   144,  1,     31,     104,2,20110813,2133,2320, -6.5097, 162.9768, 3490,    126.1,      125,  26.5717,  35.6287,2,    148.1,2,  35.6285,6,   147.37,2,     1.42,2,     6.73,2,     0.03,2,    0.600,2,    1.680,3,    1.151,6,-999,9,-999,9,   2053.3,2,   2337.8,2,   7.9946,2,    25.00,     0.09,2,     0.21,2,  26.5758,2
  49UP20110515,   P13,   144,  1,     30,     103,2,20110813,2133,2318, -6.5097, 162.9768, 3490,    150.3,      149,  26.0590,  35.7371,2,    142.4,2,  35.7386,2,   142.27,2,     1.57,2,     7.72,2,     0.02,2,    0.690,2,    1.702,3,    1.173,2,-999,9,-999,9,   2070.9,2,   2345.4,2,   7.9805,2,    25.00,     0.06,2,     0.11,2,  26.0658,2
  49UP20110515,   P13,   144,  1,     29,     102,2,20110813,2133,2315, -6.5097, 162.9768, 3490,    205.0,      204,  21.2005,  35.8299,2,    128.8,2,  35.8414,4,   128.79,6,     2.34,6,    10.03,6,     0.01,6,    0.900,6,    2.008,3,    1.345,2,-999,9,-999,9,   2130.9,2,   2356.8,2,   7.8906,2,    25.00,     0.00,2,     0.02,2,  21.2014,2
  49UP20110515,   P13,   144,  1,     27,     100,2,20110813,2133,2313, -6.5097, 162.9768, 3490,    255.9,      254,  15.3746,  35.1845,2,     96.9,2,  35.2140,4,    97.34,2,     8.50,2,    18.21,2,     0.00,2,    1.470,2,    1.747,3,    1.129,6,-999,9,-999,9,   2175.8,2,   2319.8,2,   7.7268,2,    25.00,     -999,9,     -999,9,  15.4014,2
  49UP20110515,   P13,   144,  1,     28,     101,2,20110813,2133,2314, -6.5097, 162.9768, 3490,    256.0,      254,  15.3452,  35.1801,2,     95.9,2,  35.1882,2,    95.86,2,     9.03,2,    18.64,2,     0.00,2,    1.500,2,    1.737,3,    1.102,2,-999,9,-999,9,   2171.9,2,   2318.9,2,   7.7200,3,    25.00,     -999,9,     -999,9,  15.3384,2
  49UP20110515,   P13,   144,  1,     26,      99,2,20110813,2133,2311, -6.5097, 162.9768, 3490,    302.6,      301,  12.8914,  34.9614,2,     89.6,2,  34.9636,2,    89.27,2,    13.83,2,    23.09,2,     0.00,2,    1.760,2,    1.328,3,    0.803,2,-999,9,-999,9,   2193.0,2,   2309.6,2,   7.6579,2,    25.00,     -999,9,     -999,9,  12.8975,2
  49UP20110515,   P13,   144,  1,     25,      98,2,20110813,2133,2309, -6.5097, 162.9768, 3490,    353.6,      351,  10.2131,  34.7604,2,    104.7,2,  34.7628,2,   106.11,2,    19.93,2,    26.91,2,     0.00,2,    1.920,2,    0.930,3,    0.551,2,-999,9,-999,9,   2200.5,2,   2303.1,2,   7.6200,2,    25.00,     -999,9,     -999,9,  10.2219,2
  49UP20110515,   P13,   144,  1,     24,      97,2,20110813,2133,2306, -6.5097, 162.9768, 3490,    404.7,      402,   9.0677,  34.6757,2,    116.7,2,  34.6790,2,   114.74,2,    23.42,2,    28.62,2,     0.00,2,    2.000,2,    0.787,3,    0.442,2,-999,9,-999,9,   2203.9,2,   2301.8,2,   7.6122,2,    25.00,     -999,9,     -999,9,   9.0700,2
  49UP20110515,   P13,   144,  1,     23,      96,2,20110813,2133,2302, -6.5097, 162.9768, 3490,    504.6,      501,   7.4170,  34.5752,2,    116.4,2,  34.5757,2,   116.38,6,    32.60,2,    32.18,2,     0.00,2,    2.220,2,    0.412,3,    0.231,2,-999,9,-999,9,   2219.3,2,   2305.6,2,   7.5701,2,    25.00,     -999,9,     -999,9,   7.4172,2
  49UP20110515,   P13,   144,  1,     21,      94,2,20110813,2133,2259, -6.5097, 162.9768, 3490,    605.6,      601,   6.4592,  34.5375,2,    114.2,2,  34.5374,2,   114.07,2,    41.79,2,    34.31,2,     0.00,2,    2.380,2,    0.242,3,    0.125,2,-999,9,-999,9,   2233.6,2,   2312.8,2,   7.5471,2,    25.00,     -999,9,     -999,9,   6.4603,2
  49UP20110515,   P13,   144,  1,     22,      95,2,20110813,2133,2259, -6.5097, 162.9768, 3490,    607.0,      603,   6.4517,  34.5370,2,    114.5,2,  34.5377,6,   114.48,2,    41.70,2,    34.28,2,     0.00,2,    2.380,2,    0.256,3,    0.145,2,-999,9,-999,9,   2235.1,2,   2312.2,2,   7.5513,3,    25.00,     -999,9,     -999,9,   6.4530,2
  49UP20110515,   P13,   144,  1,     20,      93,2,20110813,2133,2256, -6.5097, 162.9768, 3490,    706.3,      701,   5.8317,  34.5252,2,    113.0,2,  34.5247,2,   113.84,2,    50.00,6,    35.47,6,     0.00,6,    2.470,6,    0.161,3,    0.081,2,-999,9,-999,9,   2242.4,6,   2318.8,6,   7.5395,2,    25.00,     -999,9,     -999,9,   5.8327,2
  49UP20110515,   P13,   144,  1,     19,      92,2,20110813,2133,2253, -6.5097, 162.9768, 3490,    807.6,      802,   5.2481,  34.5234,2,    115.0,2,  34.5239,2,   115.05,2,    59.40,2,    36.05,2,     0.00,2,    2.520,2,    0.125,3,    0.058,2,-999,9,-999,9,   2259.0,2,   2329.9,2,   7.5319,2,    25.00,     -999,9,     -999,9,   5.2490,2
  49UP20110515,   P13,   144,  1,     18,      91,2,20110813,2133,2247, -6.5097, 162.9768, 3490,    908.7,      902,   4.8144,  34.5291,2,    113.5,2,  34.5301,2,   113.83,2,    67.69,2,    36.73,2,     0.00,2,    2.580,2,    0.067,3,    0.029,2,-999,9,-999,9,   2269.2,2,   2336.2,2,   7.5271,2,    25.00,     -999,9,     -999,9,   4.8147,2
  49UP20110515,   P13,   144,  1,     17,      90,2,20110813,2133,2243, -6.5097, 162.9768, 3490,   1009.1,     1001,   4.3913,  34.5376,2,    114.6,2,  34.5370,2,   114.85,2,    75.89,2,    37.09,2,     0.00,2,    2.600,2,    0.048,3,    0.018,2,-999,9,-999,9,   2276.9,2,   2345.1,2,   7.5243,2,    25.00,     -999,9,     -999,9,   4.3913,2
  49UP20110515,   P13,   144,  1,     16,      89,2,20110813,2133,2237, -6.5097, 162.9768, 3490,   1209.8,     1200,   3.5985,  34.5680,2,    110.7,2,  34.5671,2,   110.99,6,    95.42,2,    38.12,2,     0.00,2,    2.680,2,    0.012,3,    0.000,2,-999,9,-999,9,   2294.6,2,   2366.6,2,   7.5144,2,    25.00,     -999,9,     -999,9,   3.5986,2
  49UP20110515,   P13,   144,  1,     14,      87,2,20110813,2133,2225, -6.5097, 162.9768, 3490,   1416.1,     1403,   3.0787,  34.5886,2,    118.6,2,  34.5903,2,   118.76,2,   105.67,2,    37.78,2,     0.00,2,    2.650,2,    0.065,3,    0.005,2,-999,9,-999,9,   2302.3,2,   2376.7,2,   7.5341,3,    25.00,     -999,9,     -999,9,   3.0785,2
  49UP20110515,   P13,   144,  1,     15,      88,2,20110813,2133,2225, -6.5097, 162.9768, 3490,   1417.1,     1404,   3.0753,  34.5888,2,    118.6,2,  34.5881,2,   119.06,2,   105.98,2,    37.82,2,     0.00,2,    2.650,2,    0.038,3,    0.000,2,-999,9,-999,9,   2302.4,2,   2375.7,2,   7.5265,2,    25.00,     -999,9,     -999,9,   3.0747,2
  49UP20110515,   P13,   144,  1,     13,      86,2,20110813,2133,2220, -6.5097, 162.9768, 3490,   1615.1,     1600,   2.7704,  34.6060,2,    119.0,2,  34.6065,2,   119.27,2,   114.77,6,    37.97,6,     0.00,6,    2.670,6,    0.010,3,    0.000,2,-999,9,-999,9,   2314.7,2,   2386.6,2,   7.5310,2,    25.00,     -999,9,     -999,9,   2.7701,2
  49UP20110515,   P13,   144,  1,     12,      74,2,20110813,2133,2215, -6.5097, 162.9768, 3490,   1818.2,     1800,   2.4168,  34.6252,2,    124.6,2,  34.6251,2,   124.77,2,   123.20,2,    37.67,2,     0.00,2,    2.640,2,     -999,9,     -999,9,-999,9,-999,9,   2325.1,2,   2397.2,2,   7.5404,2,    25.00,     -999,9,     -999,9,   2.4168,2
  49UP20110515,   P13,   144,  1,     11,     110,2,20110813,2133,2207, -6.5097, 162.9768, 3490,   2021.7,     2001,   2.1984,  34.6394,2,    120.7,2,  34.6388,2,   120.63,2,   133.31,2,    38.11,2,     0.00,2,    2.660,2,     -999,9,     -999,9,-999,9,-999,9,   2330.2,2,   2407.6,2,   7.5334,2,    25.00,     -999,9,     -999,9,   2.1982,2
  49UP20110515,   P13,   144,  1,     10,      83,2,20110813,2133,2207, -6.5097, 162.9768, 3490,   2021.9,     2001,   2.1984,  34.6394,2,    120.7,2,  34.6399,6,   121.14,4,   133.19,2,    38.13,2,     0.00,2,    2.660,2,     -999,9,     -999,9,-999,9,-999,9,   2336.2,3,   2407.1,2,   7.5367,2,    25.00,     -999,9,     -999,9,   2.1983,2
  49UP20110515,   P13,   144,  1,      9,      82,2,20110813,2133,2202, -6.5097, 162.9768, 3490,   2224.9,     2201,   1.9838,  34.6512,2,    126.5,2,  34.6515,2,   126.54,2,   137.43,2,    37.77,2,     0.00,2,    2.630,2,     -999,9,     -999,9,-999,9,-999,9,   2331.3,2,   2411.2,2,   7.5432,2,    25.00,     -999,9,     -999,9,   1.9835,2
  49UP20110515,   P13,   144,  1,      8,      81,2,20110813,2133,2157, -6.5097, 162.9768, 3490,   2426.9,     2400,   1.8920,  34.6565,2,    130.0,2,  34.6563,2,   130.04,2,   139.26,2,    37.52,2,     0.00,2,    2.610,2,     -999,9,     -999,9,-999,9,-999,9,   2334.3,2,   2413.0,6,   7.5489,2,    25.00,     -999,9,     -999,9,   1.8919,2
  49UP20110515,   P13,   144,  1,      7,      80,2,20110813,2133,2153, -6.5097, 162.9768, 3490,   2631.0,     2600,   1.8028,  34.6619,2,    131.6,2,  34.6622,2,   131.52,2,   141.90,6,    37.49,6,     0.00,6,    2.610,6,    0.003,3,    0.000,2,-999,9,-999,9,   2329.9,2,   2415.6,2,   7.5520,6,    25.00,     -999,9,     -999,9,   1.8026,2
  49UP20110515,   P13,   144,  1,      6,      79,2,20110813,2133,2149, -6.5097, 162.9768, 3490,   2837.3,     2803,   1.7569,  34.6652,2,    134.3,2,  34.6656,2,   134.59,2,   143.12,2,    37.36,2,     0.00,2,    2.590,2,     -999,9,     -999,9,-999,9,-999,9,   2331.1,2,   2417.6,2,   7.5497,3,    25.00,     -999,9,     -999,9,   1.7565,2
  49UP20110515,   P13,   144,  1,      5,      78,2,20110813,2133,2144, -6.5097, 162.9768, 3490,   3039.5,     3001,   1.7034,  34.6692,2,    138.7,2,  34.6709,2,   138.74,2,   142.27,2,    37.00,2,     0.00,2,    2.570,2,     -999,9,     -999,9,-999,9,-999,9,   2333.7,2,   2416.0,2,   7.5608,2,    25.00,     -999,9,     -999,9,   1.7030,2
  49UP20110515,   P13,   144,  1,      4,      77,2,20110813,2133,2139, -6.5097, 162.9768, 3490,   3295.5,     3252,   1.6436,  34.6742,2,    143.5,2,  34.6743,2,   143.53,2,   141.98,2,    36.73,2,     0.00,2,    2.540,2,     -999,9,     -999,9,-999,9,-999,9,   2324.8,2,   2417.1,2,   7.5699,2,    25.00,     -999,9,     -999,9,   1.6436,2
  49UP20110515,   P13,   144,  1,      1,     112,2,20110813,2133,2133, -6.5097, 162.9768, 3490,   3528.6,     3480,   1.4794,  34.6857,2,    158.7,2,  34.6860,2,   158.55,6,   137.61,2,    35.66,2,     0.00,2,    2.470,2,    0.000,3,    0.000,2,-999,9,-999,9,   2315.2,2,   2410.1,3,   7.5811,2,    25.00,     -999,9,     -999,9,   1.4791,2