BOTTLE,20240116CCHSIOVAJ
EXPOCODE,SECT_ID,STNNBR,CASTNO,SAMPNO,BTLNBR,BTLNBR_FLAG_W,DATE,TIME,BTL_TIME,LATITUDE,LONGITUDE,DEPTH,CTDPRS,CTDDEPTH,CTDTMP,CTDSAL,CTDSAL_FLAG_W,CTDOXY,CTDOXY_FLAG_W,SALNTY,SALNTY_FLAG_W,OXYGEN,OXYGEN_FLAG_W,SILCAT,SILCAT_FLAG_W,NO2+NO3,NO2+NO3_FLAG_W,NITRIT,NITRIT_FLAG_W,PHSPHT,PHSPHT_FLAG_W,CFC-11,CFC-11_FLAG_W,CFC-12,CFC-12_FLAG_W,DELC14,DELC14_FLAG_W,DELC13,DELC13_FLAG_W,TCARBN,TCARBN_FLAG_W,ALKALI,ALKALI_FLAG_W,PH_TOT,PH_TOT_FLAG_W,PH_TMP,CHLORA,CHLORA_FLAG_W,PPHYTN,PPHYTN_FLAG_W,REFTMP,REFTMP_FLAG_W
,,,,,,,,,,,,METERS,DBAR,METERS,ITS-90,PSS-78,,UMOL/KG,,PSS-78,,UMOL/KG,,UMOL/KG,,UMOL/KG,,UMOL/KG,,UMOL/KG,,PMOL/KG,,PMOL/KG,,/MILLE,,/MILLE,,UMOL/KG,,UMOL/KG,,,,DEG C,UG/KG,,UG/KG,,ITS-90,
  49UP20110515,   P01,    33,  1,      0,     BUC,2,20110609,1305,1537, 44.5885, 155.7993, 5122,      0.0,        0,   6.1647,  32.9590,2,    323.6,2,     -999,9,   322.85,2,    28.86,3,    16.38,2,     0.18,2,    1.450,2,     -999,9,     -999,9,-999,9,-999,9,     -999,9,     -999,9,     -999,9,     -999,     1.06,2,     0.18,2,     -999,9
  49UP20110515,   P01,    33,  1,     36,     109,2,20110609,1305,1606, 44.5885, 155.7993, 5122,     10.3,       10,   6.1836,  32.9610,2,    323.3,2,  32.9636,2,   322.32,6,    28.51,2,    16.31,2,     0.18,2,    1.450,2,     -999,9,     -999,9,-999,9,-999,9,     -999,9,     -999,9,     -999,9,     -999,     0.62,2,     0.15,2,   6.1833,2
  49UP20110515,   P01,    33,  1,     35,     108,2,20110609,1305,1600, 44.5885, 155.7993, 5122,     51.2,       51,   3.5255,  32.9938,2,    332.0,2,  33.0013,6,   332.77,2,    38.98,6,    21.06,6,     0.29,6,    1.770,6,     -999,9,     -999,9,-999,9,-999,9,     -999,9,     -999,9,     -999,9,     -999,     0.63,2,     0.37,2,   3.5168,2
  49UP20110515,   P01,    33,  1,     34,     107,2,20110609,1305,1559, 44.5885, 155.7993, 5122,     76.1,       75,   1.8333,  33.0450,2,    328.6,2,  33.0448,2,   329.94,2,    42.52,2,    24.31,2,     0.46,2,    1.930,2,     -999,9,     -999,9,-999,9,-999,9,     -999,9,     -999,9,     -999,9,     -999,     0.23,2,     0.25,2,   1.8363,2
  49UP20110515,   P01,    33,  1,     33,     106,2,20110609,1305,1556, 44.5885, 155.7993, 5122,    101.6,      101,   1.6886,  33.1172,2,    325.2,2,  33.1223,2,   325.07,2,    44.92,2,    24.92,2,     0.12,2,    1.970,2,     -999,9,     -999,9,-999,9,-999,9,     -999,9,     -999,9,     -999,9,     -999,     -999,9,     -999,9,   1.6893,2
  49UP20110515,   P01,    33,  1,     32,     105,2,20110609,1305,1556, 44.5885, 155.7993, 5122,    101.6,      101,   1.6886,  33.1172,2,    325.2,2,  33.1193,2,   325.48,2,    45.15,2,    24.99,2,     0.12,2,    1.970,2,     -999,9,     -999,9,-999,9,-999,9,     -999,9,     -999,9,     -999,9,     -999,     -999,5,     -999,5,   1.6893,2
  49UP20110515,   P01,    33,  1,     31,     104,2,20110609,1305,1553, 44.5885, 155.7993, 5122,    150.8,      150,   2.2438,  33.4291,2,    194.0,2,  33.4625,4,   182.38,2,    70.76,2,    35.34,6,     0.02,6,    2.610,6,     -999,9,     -999,9,-999,9,-999,9,     -999,9,     -999,9,     -999,9,     -999,     0.03,2,     0.08,2,   2.2446,2
  49UP20110515,   P01,    33,  1,     30,     103,2,20110609,1305,1549, 44.5885, 155.7993, 5122,    203.1,      201,   2.9898,  33.7033,2,     98.0,2,  33.7040,2,    97.51,2,    87.01,4,    40.46,2,     0.01,2,    2.920,2,     -999,9,     -999,9,-999,9,-999,9,     -999,9,     -999,9,     -999,9,     -999,     0.01,2,     0.06,2,   2.9887,2
  49UP20110515,   P01,    33,  1,     29,     102,2,20110609,1305,1547, 44.5885, 155.7993, 5122,    253.0,      251,   3.2781,  33.8400,2,     61.2,2,  33.8314,2,    60.29,2,    95.63,2,    42.70,2,     0.01,2,    3.040,2,     -999,9,     -999,9,-999,9,-999,9,     -999,9,     -999,9,     -999,9,     -999,     -999,9,     -999,9,   3.2672,2
  49UP20110515,   P01,    33,  1,     28,     101,3,20110609,1305,1546, 44.5885, 155.7993, 5122,    283.1,      281,   3.2381,  33.8735,2,     61.9,2,  33.8785,2,    59.95,2,    98.95,2,    42.26,2,     0.01,2,    3.020,2,     -999,9,     -999,9,-999,9,-999,9,     -999,9,     -999,9,     -999,9,     -999,     -999,9,     -999,9,   3.2386,2
  49UP20110515,   P01,    33,  1,     27,     100,3,20110609,1305,1543, 44.5885, 155.7993, 5122,    374.1,      371,   3.3182,  34.0047,2,     44.7,2,  34.0069,2,    44.54,2,   108.38,2,    42.71,2,     0.00,2,    3.060,2,     -999,9,     -999,9,-999,9,-999,9,     -999,9,     -999,9,     -999,9,     -999,     -999,9,     -999,9,   3.3187,2
  49UP20110515,   P01,    33,  1,     26,      99,3,20110609,1305,1540, 44.5885, 155.7993, 5122,    475.3,      471,   3.3246,  34.1141,2,     34.9,2,  34.1134,2,    34.76,2,   117.70,2,    43.07,2,     0.01,2,    3.070,2,     -999,9,     -999,9,-999,9,-999,9,     -999,9,     -999,9,     -999,9,     -999,     -999,9,     -999,9,   3.3241,2
  49UP20110515,   P01,    33,  1,     25,      98,2,20110609,1305,1537, 44.5885, 155.7993, 5122,    576.0,      571,   3.2946,  34.2054,2,     30.1,2,  34.2045,2,    29.49,6,   125.37,2,    43.13,2,     0.01,2,    3.080,2,     -999,9,     -999,9,-999,9,-999,9,     -999,9,     -999,9,     -999,9,     -999,     -999,9,     -999,9,   3.2950,2
  49UP20110515,   P01,    33,  1,     24,      97,2,20110609,1305,1534, 44.5885, 155.7993, 5122,    677.0,      670,   3.0654,  34.2666,2,     24.2,2,  34.2663,2,    23.34,2,   135.20,2,    43.70,2,     0.00,2,    3.120,2,     -999,9,     -999,9,-999,9,-999,9,     -999,9,     -999,9,     -999,9,     -999,     -999,9,     -999,9,   3.0656,2
  49UP20110515,   P01,    33,  1,     23,      96,2,20110609,1305,1528, 44.5885, 155.7993, 5122,    778.3,      771,   2.8791,  34.3116,2,     26.8,2,  34.3107,2,    26.86,2,   141.26,2,    43.49,2,     0.00,2,    3.100,2,     -999,9,     -999,9,-999,9,-999,9,     -999,9,     -999,9,     -999,9,     -999,     -999,9,     -999,9,   2.8792,2
  49UP20110515,   P01,    33,  1,     22,      95,2,20110609,1305,1525, 44.5885, 155.7993, 5122,    879.9,      871,   2.7458,  34.3573,2,     29.2,2,  34.3561,6,    29.13,2,   145.82,3,    43.44,2,     0.00,2,    3.100,2,     -999,9,     -999,9,-999,9,-999,9,     -999,9,     -999,9,     -999,9,     -999,     -999,9,     -999,9,   2.7462,2
  49UP20110515,   P01,    33,  1,     21,      94,2,20110609,1305,1523, 44.5885, 155.7993, 5122,    981.3,      971,   2.6049,  34.3931,2,     32.8,2,  34.3929,2,    32.30,2,   150.24,2,    43.21,2,     0.00,2,    3.080,2,     -999,9,     -999,9,-999,9,-999,9,     -999,9,     -999,9,     -999,9,     -999,     -999,9,     -999,9,   2.6054,2
  49UP20110515,   P01,    33,  1,     20,      93,2,20110609,1305,1519, 44.5885, 155.7993, 5122,   1144.0,     1132,   2.4525,  34.4527,2,     36.6,2,  34.4532,2,    36.24,2,   155.61,2,    43.07,2,     0.00,2,    3.070,2,     -999,9,     -999,9,-999,9,-999,9,     -999,9,     -999,9,     -999,9,     -999,     -999,9,     -999,9,   2.4522,2
  49UP20110515,   P01,    33,  1,     19,      92,3,20110609,1305,1512, 44.5885, 155.7993, 5122,   1346.4,     1331,   2.2975,  34.4999,2,     44.8,2,  34.4996,2,    44.33,2,   158.35,6,    42.64,6,     0.00,6,    3.020,2,     -999,9,     -999,9,-999,9,-999,9,     -999,9,     -999,9,     -999,9,     -999,     -999,9,     -999,9,   2.2981,2
  49UP20110515,   P01,    33,  1,     18,      91,2,20110609,1305,1507, 44.5885, 155.7993, 5122,   1549.3,     1531,   2.1442,  34.5387,2,     52.9,2,  34.5388,2,    52.92,6,   161.28,2,    42.16,2,     0.00,2,    2.980,2,     -999,9,     -999,9,-999,9,-999,9,     -999,9,     -999,9,     -999,9,     -999,     -999,9,     -999,9,   2.1444,2
  49UP20110515,   P01,    33,  1,     17,      90,2,20110609,1305,1502, 44.5885, 155.7993, 5122,   1752.4,     1731,   1.9988,  34.5727,2,     62.2,2,  34.5731,2,    73.38,4,   163.99,2,    41.67,2,     0.00,2,    2.950,2,     -999,9,     -999,9,-999,9,-999,9,     -999,9,     -999,9,     -999,9,     -999,     -999,9,     -999,9,   1.9983,2
  49UP20110515,   P01,    33,  1,     16,      89,2,20110609,1305,1450, 44.5885, 155.7993, 5122,   1956.6,     1932,   1.8926,  34.5950,2,     71.7,2,  34.5954,2,    71.68,2,   165.36,2,    41.16,2,     0.00,2,    2.900,2,     -999,9,     -999,9,-999,9,-999,9,     -999,9,     -999,9,     -999,9,     -999,     -999,9,     -999,9,   1.8927,2
  49UP20110515,   P01,    33,  1,     15,      88,2,20110609,1305,1450, 44.5885, 155.7993, 5122,   1956.6,     1932,   1.8926,  34.5950,2,     71.7,2,  34.5952,2,    72.04,2,   165.20,2,    41.20,2,     0.00,2,    2.900,2,     -999,9,     -999,9,-999,9,-999,9,     -999,9,     -999,9,     -999,9,     -999,     -999,9,     -999,9,   1.8927,2
  49UP20110515,   P01,    33,  1,     14,      87,3,20110609,1305,1445, 44.5885, 155.7993, 5122,   2159.1,     2131,   1.7940,  34.6150,2,     83.8,2,  34.6150,2,    83.70,2,   164.56,2,    40.34,2,     0.00,2,    2.840,2,     -999,9,     -999,9,-999,9,-999,9,     -999,9,     -999,9,     -999,9,     -999,     -999,9,     -999,9,   1.7940,2
  49UP20110515,   P01,    33,  1,     13,      86,2,20110609,1305,1440, 44.5885, 155.7993, 5122,   2362.4,     2330,   1.7072,  34.6315,2,     96.0,2,  34.6311,2,    96.05,2,   163.20,2,    39.61,2,     0.00,2,    2.780,2,     -999,9,     -999,9,-999,9,-999,9,     -999,9,     -999,9,     -999,9,     -999,     -999,9,     -999,9,   1.7071,2
  49UP20110515,   P01,    33,  1,     12,      85,2,20110609,1305,1428, 44.5885, 155.7993, 5122,   2567.3,     2531,   1.6352,  34.6448,2,    107.8,2,  34.6448,2,   107.93,2,   160.93,2,    38.97,2,     0.00,2,    2.730,2,     -999,9,     -999,9,-999,9,-999,9,     -999,9,     -999,9,     -999,9,     -999,     -999,9,     -999,9,   1.6352,2
  49UP20110515,   P01,    33,  1,     11,     110,3,20110609,1305,1422, 44.5885, 155.7993, 5122,   2771.4,     2731,   1.5785,  34.6551,2,    117.8,2,  34.6553,2,   117.77,2,   158.53,2,    38.35,2,     0.00,2,    2.680,2,     -999,9,     -999,9,-999,9,-999,9,     -999,9,     -999,9,     -999,9,     -999,     -999,9,     -999,9,   1.5785,2
  49UP20110515,   P01,    33,  1,     10,      83,2,20110609,1305,1411, 44.5885, 155.7993, 5122,   2976.2,     2931,   1.5434,  34.6621,2,    125.3,2,  34.6623,2,   124.58,2,   156.51,2,    37.82,2,     0.00,2,    2.650,2,     -999,9,     -999,9,-999,9,-999,9,     -999,9,     -999,9,     -999,9,     -999,     -999,9,     -999,9,   1.5434,2
  49UP20110515,   P01,    33,  1,      9,      82,2,20110609,1305,1403, 44.5885, 155.7993, 5122,   3221.0,     3171,   1.5062,  34.6693,2,    133.4,2,  34.6696,2,   133.16,6,   154.45,2,    37.31,2,     0.00,2,    2.590,2,     -999,9,     -999,9,-999,9,-999,9,     -999,9,     -999,9,     -999,9,     -999,     -999,9,     -999,9,   1.5062,2
  49UP20110515,   P01,    33,  1,      8,      81,2,20110609,1305,1357, 44.5885, 155.7993, 5122,   3476.9,     3421,   1.4790,  34.6753,2,    140.3,2,  34.6757,2,   139.81,2,   152.67,2,    36.88,2,     0.00,2,    2.570,2,     -999,9,     -999,9,-999,9,-999,9,     -999,9,     -999,9,     -999,9,     -999,     -999,9,     -999,9,   1.4790,2
  49UP20110515,   P01,    33,  1,      7,      80,3,20110609,1305,1348, 44.5885, 155.7993, 5122,   3733.5,     3671,   1.4660,  34.6795,2,    145.5,2,  34.6791,2,   144.95,2,   151.30,2,    36.59,2,     0.00,2,    2.540,2,     -999,9,     -999,9,-999,9,-999,9,     -999,9,     -999,9,     -999,9,     -999,     -999,9,     -999,9,   1.4659,2
  49UP20110515,   P01,    33,  1,      6,      79,2,20110609,1305,1342, 44.5885, 155.7993, 5122,   3990.7,     3922,   1.4590,  34.6833,2,    150.0,2,  34.6798,4,   149.57,2,   150.18,6,    36.25,6,     0.00,6,    2.520,6,     -999,9,     -999,9,-999,9,-999,9,     -999,9,     -999,9,     -999,9,     -999,     -999,9,     -999,9,   1.4591,2
  49UP20110515,   P01,    33,  1,      5,      78,2,20110609,1305,1334, 44.5885, 155.7993, 5122,   4247.7,     4172,   1.4638,  34.6857,2,    153.2,2,  34.6854,2,   154.20,2,   149.61,2,    36.03,2,     0.00,2,    2.500,2,     -999,9,     -999,9,-999,9,-999,9,     -999,9,     -999,9,     -999,9,     -999,     -999,9,     -999,9,   1.4638,2
  49UP20110515,   P01,    33,  1,      4,      77,2,20110609,1305,1326, 44.5885, 155.7993, 5122,   4504.5,     4421,   1.4745,  34.6878,2,    155.6,2,  34.6878,2,   156.33,2,   148.96,2,    35.83,2,     0.00,2,    2.490,2,     -999,9,     -999,9,-999,9,-999,9,     -999,9,     -999,9,     -999,9,     -999,     -999,9,     -999,9,   1.4745,2
  49UP20110515,   P01,    33,  1,      3,      76,2,20110609,1305,1319, 44.5885, 155.7993, 5122,   4761.9,     4671,   1.4943,  34.6892,2,    156.9,2,  34.6890,6,   157.48,2,   149.17,2,    35.75,2,     0.00,2,    2.480,2,     -999,9,     -999,9,-999,9,-999,9,     -999,9,     -999,9,     -999,9,     -999,     -999,9,     -999,9,   1.4942,2
  49UP20110515,   P01,    33,  1,      2,      75,2,20110609,1305,1310, 44.5885, 155.7993, 5122,   5019.9,     4922,   1.5192,  34.6900,2,    157.7,2,  34.6918,4,   158.46,2,   149.14,2,    35.75,2,     0.00,2,    2.480,2,     -999,9,     -999,9,-999,9,-999,9,     -999,9,     -999,9,     -999,9,     -999,     -999,9,     -999,9,   1.5191,2
  49UP20110515,   P01,    33,  1,      1,      74,2,20110609,1305,1305, 44.5885, 155.7993, 5122,   5226.2,     5121,   1.5432,  34.6903,2,    157.9,2,  34.6868,4,   158.75,2,   149.59,2,    35.63,2,     0.00,2,    2.470,2,     -999,9,     -999,9,-999,9,-999,9,     -999,9,     -999,9,     -999,9,     -999,     -999,9,     -999,9,   1.5432,2