BOTTLE,20240116CCHSIOVAJ
EXPOCODE,SECT_ID,STNNBR,CASTNO,SAMPNO,BTLNBR,BTLNBR_FLAG_W,DATE,TIME,BTL_TIME,LATITUDE,LONGITUDE,DEPTH,CTDPRS,CTDDEPTH,CTDTMP,CTDSAL,CTDSAL_FLAG_W,CTDOXY,CTDOXY_FLAG_W,SALNTY,SALNTY_FLAG_W,OXYGEN,OXYGEN_FLAG_W,SILCAT,SILCAT_FLAG_W,NO2+NO3,NO2+NO3_FLAG_W,NITRIT,NITRIT_FLAG_W,PHSPHT,PHSPHT_FLAG_W,CFC-11,CFC-11_FLAG_W,CFC-12,CFC-12_FLAG_W,DELC14,DELC14_FLAG_W,DELC13,DELC13_FLAG_W,TCARBN,TCARBN_FLAG_W,ALKALI,ALKALI_FLAG_W,PH_TOT,PH_TOT_FLAG_W,PH_TMP,CHLORA,CHLORA_FLAG_W,PPHYTN,PPHYTN_FLAG_W,REFTMP,REFTMP_FLAG_W
,,,,,,,,,,,,METERS,DBAR,METERS,ITS-90,PSS-78,,UMOL/KG,,PSS-78,,UMOL/KG,,UMOL/KG,,UMOL/KG,,UMOL/KG,,UMOL/KG,,PMOL/KG,,PMOL/KG,,/MILLE,,/MILLE,,UMOL/KG,,UMOL/KG,,,,DEG C,UG/KG,,UG/KG,,ITS-90,
  49UP20110515,   P01,    32,  1,      0,     BUC,2,20110609,0504,0740, 44.0962, 154.9725, 5334,      0.0,        0,   6.4751,  32.8948,2,    328.5,2,     -999,9,   327.72,2,    29.85,2,    16.31,2,     0.19,2,    1.480,2,     -999,9,     -999,9,-999,9,-999,9,     -999,9,     -999,9,     -999,9,     -999,     0.78,2,     0.17,2,     -999,9
  49UP20110515,   P01,    32,  1,     36,     109,2,20110609,0504,0750, 44.0962, 154.9725, 5334,     11.4,       11,   6.4747,  32.8934,2,    327.8,2,  32.8929,2,   328.09,2,    30.37,4,    16.32,2,     0.18,2,    1.460,2,    5.088,2,    2.741,2,-999,9,-999,9,   2071.7,2,   2232.9,2,   7.7880,2,    25.00,     0.62,2,     0.19,2,   6.4745,2
  49UP20110515,   P01,    32,  1,     35,     108,3,20110609,0504,0746, 44.0962, 154.9725, 5334,     51.0,       51,   3.6435,  32.9443,2,    330.7,2,  32.9474,2,   330.61,2,    35.87,6,    20.04,6,     0.28,6,    1.730,6,    5.373,2,    2.998,2,-999,9,-999,9,   2101.8,2,   2232.4,2,   7.7178,2,    25.00,     0.64,2,     0.40,2,   3.6564,2
  49UP20110515,   P01,    32,  1,     34,     107,2,20110609,0504,0744, 44.0962, 154.9725, 5334,     76.0,       75,   1.7076,  33.0523,2,    329.1,2,  33.0500,2,   329.89,2,    43.19,2,    24.55,2,     0.30,2,    1.950,2,    5.549,2,    3.166,2,-999,9,-999,9,   2127.8,2,   2236.0,2,   7.6386,2,    25.00,     0.19,2,     0.16,2,   1.7106,2
  49UP20110515,   P01,    32,  1,     33,     106,2,20110609,0504,0742, 44.0962, 154.9725, 5334,    101.2,      100,   1.5213,  33.1116,2,    316.5,2,  33.1095,2,   316.48,2,    47.10,6,    25.94,6,     0.03,6,    2.040,6,    5.203,2,    3.094,2,-999,9,-999,9,   2144.4,6,   2241.7,6,   7.6245,2,    25.00,     0.07,2,     0.09,2,   1.5221,2
  49UP20110515,   P01,    32,  1,     32,     105,2,20110609,0504,0739, 44.0962, 154.9725, 5334,    152.2,      151,   2.2913,  33.4491,2,    187.2,2,  33.4464,2,   186.49,2,    70.39,2,    34.86,2,     0.01,2,    2.600,2,    3.908,2,    2.308,2,-999,9,-999,9,   2223.6,2,   2266.5,2,   7.4238,6,    25.00,     0.02,2,     0.08,2,   2.2927,2
  49UP20110515,   P01,    32,  1,     31,     104,2,20110609,0504,0737, 44.0962, 154.9725, 5334,    203.1,      201,   2.9505,  33.6830,2,    104.3,2,  33.6758,2,   104.63,2,    85.82,2,    40.18,2,     0.01,2,    2.900,2,    3.246,6,    1.726,6,-999,9,-999,9,   2288.1,2,   2283.9,2,   7.3147,2,    25.00,     0.01,2,     0.05,2,   2.9504,2
  49UP20110515,   P01,    32,  1,     30,     103,2,20110609,0504,0737, 44.0962, 154.9725, 5334,    203.1,      201,   2.9505,  33.6830,2,    104.3,2,  33.6763,2,   104.78,2,    85.82,2,    40.13,2,     0.01,2,    2.900,2,    3.211,2,    1.732,2,-999,9,-999,9,   2289.1,2,   2282.1,2,   7.3144,2,    25.00,     -999,9,     -999,9,   2.9504,2
  49UP20110515,   P01,    32,  1,     29,     102,2,20110609,0504,0734, 44.0962, 154.9725, 5334,    254.4,      252,   3.2724,  33.8333,2,     57.2,2,  33.8299,6,    58.06,2,    96.45,2,    43.11,2,     0.01,2,    3.080,2,    2.510,2,    1.334,2,-999,9,-999,9,   2319.9,2,   2300.0,2,   7.2617,2,    25.00,     -999,9,     -999,9,   3.2728,2
  49UP20110515,   P01,    32,  1,     28,     101,2,20110609,0504,0732, 44.0962, 154.9725, 5334,    335.1,      332,   3.3926,  33.9978,2,     30.2,2,  33.9963,2,    31.10,6,   109.61,2,    44.22,2,     0.00,2,    3.160,2,    1.691,2,    0.871,2,-999,9,-999,9,   2340.1,2,   2315.7,2,   7.2517,2,    25.00,     -999,9,     -999,9,   3.3932,2
  49UP20110515,   P01,    32,  1,     27,     100,2,20110609,0504,0729, 44.0962, 154.9725, 5334,    437.2,      433,   3.3133,  34.1225,2,     24.8,2,  34.1200,2,    30.03,3,   120.90,2,    43.86,2,     0.00,2,    3.130,2,    1.176,6,    0.578,6,-999,9,-999,9,   2353.5,2,   2333.4,2,   7.2720,2,    25.00,     -999,9,     -999,9,   3.3142,2
  49UP20110515,   P01,    32,  1,     26,      99,3,20110609,0504,0726, 44.0962, 154.9725, 5334,    537.2,      532,   3.1866,  34.2096,2,     22.2,2,  34.2083,2,    22.10,2,   129.70,2,    44.00,2,     0.00,2,    3.130,2,    0.813,2,    0.391,2,-999,9,-999,9,   2361.8,2,   2348.5,2,   7.2954,2,    25.00,     -999,9,     -999,9,   3.1868,2
  49UP20110515,   P01,    32,  1,     25,      98,2,20110609,0504,0721, 44.0962, 154.9725, 5334,    637.4,      631,   3.0178,  34.2812,2,     22.3,2,  34.2806,2,    22.04,2,   137.78,3,    43.84,2,     0.00,2,    3.130,2,    0.543,2,    0.272,2,-999,9,-999,9,   2370.5,2,   2360.1,2,   7.2939,2,    25.00,     -999,9,     -999,9,   3.0179,2
  49UP20110515,   P01,    32,  1,     24,      97,2,20110609,0504,0716, 44.0962, 154.9725, 5334,    739.4,      732,   2.8626,  34.3328,2,     24.3,2,  34.3328,2,    24.43,6,   144.08,2,    43.72,2,     0.00,2,    3.120,2,    0.389,2,    0.192,2,-999,9,-999,9,   2376.6,2,   2368.1,2,   7.3102,2,    25.00,     -999,9,     -999,9,   2.8628,2
  49UP20110515,   P01,    32,  1,     23,      96,2,20110609,0504,0713, 44.0962, 154.9725, 5334,    840.4,      832,   2.7110,  34.3778,2,     25.1,2,  34.3774,2,    24.49,2,   149.92,2,    43.76,2,     0.00,2,    3.120,2,    0.291,2,    0.149,2,-999,9,-999,9,   2378.7,2,   2374.8,2,   7.3163,6,    25.00,     -999,9,     -999,9,   2.7113,2
  49UP20110515,   P01,    32,  1,     22,      95,3,20110609,0504,0710, 44.0962, 154.9725, 5334,    940.5,      931,   2.5833,  34.4132,2,     27.6,2,  34.4128,2,    26.95,2,   154.00,2,    43.65,2,     0.00,2,    3.110,2,    0.192,2,    0.115,2,-999,9,-999,9,   2381.4,6,   2380.5,6,   7.3256,2,    25.00,     -999,9,     -999,9,   2.5835,2
  49UP20110515,   P01,    32,  1,     21,      94,2,20110609,0504,0706, 44.0962, 154.9725, 5334,   1083.9,     1072,   2.4223,  34.4541,2,     33.3,2,  34.4538,2,    32.92,2,   158.52,2,    43.26,2,     0.00,2,    3.080,2,    0.146,2,    0.082,2,-999,9,-999,9,   2380.3,2,   2388.2,2,   7.3399,2,    25.00,     -999,9,     -999,9,   2.4227,2
  49UP20110515,   P01,    32,  1,     20,      93,2,20110609,0504,0658, 44.0962, 154.9725, 5334,   1285.1,     1271,   2.2571,  34.5025,2,     43.4,2,  34.5021,2,    43.21,2,   161.79,3,    42.80,2,     0.00,2,    3.040,2,    0.079,2,    0.049,2,-999,9,-999,9,   2378.4,2,   2395.8,2,   7.3679,2,    25.00,     -999,9,     -999,9,   2.2572,2
  49UP20110515,   P01,    32,  1,     19,      92,2,20110609,0504,0653, 44.0962, 154.9725, 5334,   1487.6,     1470,   2.1237,  34.5422,2,     54.7,2,  34.5415,2,    54.35,2,   162.93,2,    42.02,2,     0.00,2,    2.980,3,    0.055,2,    0.040,2,-999,9,-999,9,   2380.5,2,   2402.7,2,   7.3944,2,    25.00,     -999,9,     -999,9,   2.1236,2
  49UP20110515,   P01,    32,  1,     18,      91,2,20110609,0504,0649, 44.0962, 154.9725, 5334,   1691.6,     1671,   2.0032,  34.5715,2,     63.8,2,  34.5716,2,    63.88,2,   164.16,2,    41.51,2,     0.00,2,    2.930,2,    0.000,2,    0.019,2,-999,9,-999,9,   2379.2,2,   2407.2,2,   7.4155,2,    25.00,     -999,9,     -999,9,   2.0034,2
  49UP20110515,   P01,    32,  1,     17,      90,2,20110609,0504,0641, 44.0962, 154.9725, 5334,   1896.2,     1872,   1.8877,  34.5975,2,     75.2,2,  34.5974,2,    75.06,2,   164.26,6,    40.94,6,     0.00,6,    2.890,6,    0.000,2,    0.008,2,-999,9,-999,9,   2373.7,2,   2411.0,2,   7.4396,2,    25.00,     -999,9,     -999,9,   1.8878,2
  49UP20110515,   P01,    32,  1,     16,      89,2,20110609,0504,0636, 44.0962, 154.9725, 5334,   2098.2,     2071,   1.7702,  34.6202,2,     89.4,2,  34.6205,2,    89.86,2,   163.21,2,    40.04,2,     0.00,2,    2.820,2,    0.000,2,    0.013,2,-999,9,-999,9,   2367.7,2,   2413.7,2,   7.4648,2,    25.00,     -999,9,     -999,9,   1.7702,2
  49UP20110515,   P01,    32,  1,     15,      88,2,20110609,0504,0630, 44.0962, 154.9725, 5334,   2303.0,     2272,   1.6858,  34.6350,2,    100.3,2,  34.6354,2,   109.83,4,   162.45,2,    39.33,2,     0.00,2,    2.770,2,    0.000,2,    0.003,2,-999,9,-999,9,   2359.0,2,   2416.7,2,   7.4899,2,    25.00,     -999,9,     -999,9,   1.6857,2
  49UP20110515,   P01,    32,  1,     14,      87,2,20110609,0504,0623, 44.0962, 154.9725, 5334,   2506.3,     2471,   1.6198,  34.6469,2,    110.5,2,  34.6471,2,   110.36,6,   160.72,2,    38.70,2,     0.00,2,    2.720,2,    0.000,2,    0.000,2,-999,9,-999,9,   2350.2,2,   2416.3,2,   7.5059,2,    25.00,     -999,9,     -999,9,   1.6198,2
  49UP20110515,   P01,    32,  1,     13,      86,2,20110609,0504,0618, 44.0962, 154.9725, 5334,   2710.4,     2671,   1.5631,  34.6566,2,    119.5,2,  34.6567,2,   119.77,2,   159.38,2,    38.24,2,     0.00,2,    2.680,2,     -999,9,     -999,9,-999,9,-999,9,   2346.7,2,   2415.5,2,   7.5214,2,    25.00,     -999,9,     -999,9,   1.5631,2
  49UP20110515,   P01,    32,  1,     12,      85,2,20110609,0504,0609, 44.0962, 154.9725, 5334,   2915.1,     2872,   1.5294,  34.6630,2,    126.0,2,  34.6632,2,   126.00,2,   158.06,2,    37.81,2,     0.00,2,    2.640,2,     -999,9,     -999,9,-999,9,-999,9,   2344.2,2,   2416.9,2,   7.5323,2,    25.00,     -999,9,     -999,9,   1.5294,2
  49UP20110515,   P01,    32,  1,     11,     110,2,20110609,0504,0604, 44.0962, 154.9725, 5334,   3128.2,     3080,   1.5009,  34.6687,2,    132.6,2,  34.6686,2,   132.33,2,   156.80,2,    37.48,2,     0.00,2,    2.620,2,     -999,9,     -999,9,-999,9,-999,9,   2340.5,2,   2415.9,2,   7.5446,2,    25.00,     -999,9,     -999,9,   1.5008,2
  49UP20110515,   P01,    32,  1,     10,      83,2,20110609,0504,0557, 44.0962, 154.9725, 5334,   3384.0,     3330,   1.4768,  34.6744,2,    139.3,2,  34.6748,2,   140.08,2,   154.68,2,    36.95,2,     0.00,2,    2.580,2,    0.011,2,    0.021,2,-999,9,-999,9,   2333.7,2,   2414.1,2,   7.5578,2,    25.00,     -999,9,     -999,9,   1.4768,2
  49UP20110515,   P01,    32,  1,      9,      82,2,20110609,0504,0552, 44.0962, 154.9725, 5334,   3638.7,     3579,   1.4591,  34.6792,2,    145.1,2,  34.6793,6,   144.70,2,   152.86,2,    36.59,2,     0.00,2,    2.550,2,     -999,9,     -999,9,-999,9,-999,9,   2330.1,2,   2415.8,2,   7.5683,2,    25.00,     -999,9,     -999,9,   1.4591,2
  49UP20110515,   P01,    32,  1,      8,      81,2,20110609,0504,0547, 44.0962, 154.9725, 5334,   3896.0,     3830,   1.4546,  34.6826,2,    149.3,2,  34.6828,2,   149.32,2,   151.78,2,    36.36,2,     0.00,2,    2.530,2,     -999,9,     -999,9,-999,9,-999,9,   2318.6,3,   2414.8,2,   7.5733,2,    25.00,     -999,9,     -999,9,   1.4547,2
  49UP20110515,   P01,    32,  1,      7,      80,3,20110609,0504,0547, 44.0962, 154.9725, 5334,   3896.0,     3830,   1.4546,  34.6826,2,    149.3,2,  34.6829,2,   148.88,2,   151.45,2,    36.27,2,     0.00,2,    2.530,2,     -999,9,     -999,9,-999,9,-999,9,   2327.1,2,   2416.6,2,   7.5718,3,    25.00,     -999,9,     -999,9,   1.4547,2
  49UP20110515,   P01,    32,  1,      6,      79,2,20110609,0504,0538, 44.0962, 154.9725, 5334,   4153.0,     4080,   1.4588,  34.6853,2,    152.5,2,  34.6855,2,   152.13,2,   150.48,2,    36.13,2,     0.00,2,    2.520,2,    0.000,2,    0.008,2,-999,9,-999,9,   2326.2,2,   2414.3,6,   7.5776,2,    25.00,     -999,9,     -999,9,   1.4589,2
  49UP20110515,   P01,    32,  1,      5,      78,2,20110609,0504,0532, 44.0962, 154.9725, 5334,   4410.6,     4330,   1.4682,  34.6875,2,    155.1,2,  34.6875,6,   155.67,2,   150.30,2,    35.95,2,     0.00,2,    2.510,2,     -999,9,     -999,9,-999,9,-999,9,   2321.7,2,   2415.3,2,   7.5804,2,    25.00,     -999,9,     -999,9,   1.4684,2
  49UP20110515,   P01,    32,  1,      4,      77,2,20110609,0504,0526, 44.0962, 154.9725, 5334,   4664.4,     4577,   1.4838,  34.6891,2,    156.9,2,  34.6889,2,   157.78,2,   150.39,2,    35.84,2,     0.00,2,    2.510,2,     -999,9,     -999,9,-999,9,-999,9,   2322.8,2,   2415.8,2,   7.5874,2,    25.00,     -999,9,     -999,9,   1.4839,2
  49UP20110515,   P01,    32,  1,      3,      76,2,20110609,0504,0518, 44.0962, 154.9725, 5334,   4924.9,     4830,   1.5078,  34.6901,2,    157.9,2,  34.6901,2,   158.28,2,   150.45,2,    35.72,2,     0.00,2,    2.480,2,     -999,9,     -999,9,-999,9,-999,9,   2322.1,2,   2413.4,2,   7.5843,2,    25.00,     -999,9,     -999,9,   1.5078,2
  49UP20110515,   P01,    32,  1,      2,      75,2,20110609,0504,0512, 44.0962, 154.9725, 5334,   5183.9,     5081,   1.5357,  34.6907,2,    158.2,2,  34.6906,2,   158.84,6,   150.38,2,    35.53,2,     0.00,2,    2.480,2,    0.000,2,    0.004,2,-999,9,-999,9,   2316.1,2,   2413.5,2,   7.5868,2,    25.00,     -999,9,     -999,9,   1.5356,2
  49UP20110515,   P01,    32,  1,      1,      74,3,20110609,0504,0504, 44.0962, 154.9725, 5334,   5446.0,     5335,   1.5687,  34.6910,2,    158.3,2,  34.6903,2,   158.01,2,   150.81,2,    35.63,6,     0.00,6,    2.480,6,     -999,9,     -999,9,-999,9,-999,9,   2322.1,2,   2415.0,2,   7.5859,2,    25.00,     -999,9,     -999,9,   1.5686,2