BOTTLE,20240116CCHSIOVAJ
EXPOCODE,SECT_ID,STNNBR,CASTNO,SAMPNO,BTLNBR,BTLNBR_FLAG_W,DATE,TIME,BTL_TIME,LATITUDE,LONGITUDE,DEPTH,CTDPRS,CTDDEPTH,CTDTMP,CTDSAL,CTDSAL_FLAG_W,CTDOXY,CTDOXY_FLAG_W,SALNTY,SALNTY_FLAG_W,OXYGEN,OXYGEN_FLAG_W,SILCAT,SILCAT_FLAG_W,NO2+NO3,NO2+NO3_FLAG_W,NITRIT,NITRIT_FLAG_W,PHSPHT,PHSPHT_FLAG_W,CFC-11,CFC-11_FLAG_W,CFC-12,CFC-12_FLAG_W,DELC14,DELC14_FLAG_W,DELC13,DELC13_FLAG_W,TCARBN,TCARBN_FLAG_W,ALKALI,ALKALI_FLAG_W,PH_TOT,PH_TOT_FLAG_W,PH_TMP,CHLORA,CHLORA_FLAG_W,PPHYTN,PPHYTN_FLAG_W,REFTMP,REFTMP_FLAG_W
,,,,,,,,,,,,METERS,DBAR,METERS,ITS-90,PSS-78,,UMOL/KG,,PSS-78,,UMOL/KG,,UMOL/KG,,UMOL/KG,,UMOL/KG,,UMOL/KG,,PMOL/KG,,PMOL/KG,,/MILLE,,/MILLE,,UMOL/KG,,UMOL/KG,,,,DEG C,UG/KG,,UG/KG,,ITS-90,
  49UP20110515,   P13,    44,  1,      0,     BUC,2,20110615,1028,1310, 49.9967, 164.9750, 5503,      0.0,        0,   5.8846,  32.8285,2,    320.3,2,     -999,9,   319.33,2,    39.34,2,    19.08,2,     0.26,2,    1.590,2,     -999,9,     -999,9,-999,9,-999,9,     -999,9,     -999,9,     -999,9,     -999,     0.80,2,     0.22,2,     -999,9
  49UP20110515,   P13,    44,  1,     36,     109,2,20110615,1028,1332, 49.9967, 164.9750, 5503,     11.4,       11,   5.8919,  32.8284,2,    319.8,2,  32.8307,2,   320.39,2,    39.39,2,    19.12,6,     0.26,6,    1.610,6,    4.878,2,    2.742,2,-36.8,2,1.0,2,   2074.4,2,   2216.4,2,   7.7509,2,    25.00,     0.74,2,     0.22,2,   5.8934,2
  49UP20110515,   P13,    44,  1,     35,     108,2,20110615,1028,1328, 49.9967, 164.9750, 5503,     51.2,       51,   4.2381,  32.8941,2,    317.8,2,  32.8941,2,   318.17,2,    41.29,3,    21.64,2,     0.37,2,    1.800,2,    5.016,2,    2.870,2,-34.2,2,0.7,2,   2098.2,2,   2217.8,2,   7.6861,2,    25.00,     0.38,2,     0.20,2,   4.2381,2
  49UP20110515,   P13,    44,  1,     34,     107,2,20110615,1028,1326, 49.9967, 164.9750, 5503,     76.5,       76,   3.7529,  33.0001,2,    303.4,2,  32.9999,2,   304.05,6,    45.37,6,    24.67,6,     0.27,6,    1.960,6,    5.240,2,    2.813,2,-999,9,-999,9,   2121.5,2,   2224.1,2,   7.6424,2,    25.00,     0.24,2,     0.13,2,   3.7551,2
  49UP20110515,   P13,    44,  1,     33,     106,2,20110615,1028,1324, 49.9967, 164.9750, 5503,    102.4,      101,   3.9819,  33.3103,2,    209.0,2,  33.3068,2,   208.37,2,    58.04,2,    30.98,2,     0.02,2,    2.330,2,    4.186,2,    2.264,2,-67.2,2,0.0,2,   2189.1,2,   2248.9,2,   7.5127,2,    25.00,     0.05,2,     0.04,2,   3.9812,2
  49UP20110515,   P13,    44,  1,     32,     105,2,20110615,1028,1321, 49.9967, 164.9750, 5503,    152.9,      152,   4.2135,  33.7571,2,     85.8,2,  33.7514,2,    86.20,2,    78.65,2,    39.50,2,     0.01,2,    2.840,2,    2.743,2,    1.478,2,-93.1,2,-0.6,2,   2282.9,2,   2283.2,2,   7.3389,2,    25.00,     0.00,2,     0.03,2,   4.2138,2
  49UP20110515,   P13,    44,  1,     31,     104,2,20110615,1028,1318, 49.9967, 164.9750, 5503,    203.3,      201,   4.1370,  33.8741,2,     51.1,2,  33.8728,2,    52.14,2,    86.92,2,    42.11,2,     0.01,2,    3.000,2,    2.286,6,    1.214,6,-103.1,2,-0.7,2,   2306.0,2,   2292.0,2,   7.2825,2,    25.00,     0.00,2,     0.02,2,   4.1386,2
  49UP20110515,   P13,    44,  1,     30,     103,2,20110615,1028,1316, 49.9967, 164.9750, 5503,    252.9,      251,   3.9815,  33.9596,2,     27.9,2,  33.9575,6,    28.17,2,    95.99,2,    44.24,2,     0.01,2,    3.130,2,    1.897,2,    0.950,2,-999,9,-999,9,   2333.8,2,   2303.8,2,   7.2466,2,    25.00,     -999,9,     -999,9,   3.9813,2
  49UP20110515,   P13,    44,  1,     29,     102,2,20110615,1028,1313, 49.9967, 164.9750, 5503,    334.4,      331,   3.7656,  34.0508,2,     17.9,2,  34.0468,2,    18.04,2,   107.14,2,    44.85,2,     0.00,2,    3.190,2,     -999,5,     -999,5,-133.6,2,-0.8,2,   2347.7,2,   2317.2,2,   7.2441,2,    25.00,     -999,9,     -999,9,   3.7657,2
  49UP20110515,   P13,    44,  1,     28,     101,2,20110615,1028,1310, 49.9967, 164.9750, 5503,    435.5,      431,   3.6287,  34.1423,2,     17.0,2,  34.1415,2,    17.21,6,   116.64,2,    44.41,2,     0.00,2,    3.160,2,     -999,5,     -999,5,-151.4,2,-0.8,2,   2356.0,2,   2332.9,2,   7.2715,2,    25.00,     -999,9,     -999,9,   3.6291,2
  49UP20110515,   P13,    44,  1,     27,     100,2,20110615,1028,1305, 49.9967, 164.9750, 5503,    534.0,      529,   3.4297,  34.2142,2,     15.8,2,  34.2131,2,    15.45,2,   126.08,2,    44.43,2,     0.00,2,    3.160,2,    0.643,6,    0.290,6,-172.1,2,-0.7,2,   2365.3,2,   2345.2,2,   7.2805,2,    25.00,     -999,9,     -999,9,   3.4300,2
  49UP20110515,   P13,    44,  1,     26,      99,3,20110615,1028,1302, 49.9967, 164.9750, 5503,    637.6,      631,   3.2938,  34.2752,2,     15.5,2,  34.2754,2,    15.01,2,   132.65,2,    44.36,2,     0.00,2,    3.170,2,    0.410,2,    0.168,2,-186.4,2,-0.7,2,   2370.7,2,   2356.8,2,   7.2879,2,    25.00,     -999,9,     -999,9,   3.2941,2
  49UP20110515,   P13,    44,  1,     25,      98,2,20110615,1028,1258, 49.9967, 164.9750, 5503,    738.2,      731,   3.1384,  34.3164,2,     15.4,2,  34.3162,2,    14.74,2,   137.87,2,    44.40,2,     0.00,2,    3.170,2,    0.252,2,    0.122,2,-193.1,2,-0.7,2,   2375.3,2,   2365.0,2,   7.2944,2,    25.00,     -999,9,     -999,9,   3.1386,2
  49UP20110515,   P13,    44,  1,     24,      97,2,20110615,1028,1254, 49.9967, 164.9750, 5503,    839.8,      831,   2.9633,  34.3536,2,     16.7,2,  34.3528,2,    16.19,2,   143.90,2,    44.40,2,     0.00,2,    3.170,2,    0.194,2,    0.089,2,-201.7,2,-0.7,2,   2381.4,2,   2372.0,2,   7.2997,2,    25.00,     -999,9,     -999,9,   2.9636,2
  49UP20110515,   P13,    44,  1,     23,      96,2,20110615,1028,1251, 49.9967, 164.9750, 5503,    942.0,      932,   2.8120,  34.3876,2,     18.2,2,  34.3865,2,    18.80,2,   148.88,2,    44.33,2,     0.00,2,    3.160,2,    0.166,2,    0.055,2,-219.0,2,-0.7,2,   2385.9,2,   2375.9,2,   7.3063,2,    25.00,     -999,9,     -999,9,   2.8130,2
  49UP20110515,   P13,    44,  1,     22,      95,2,20110615,1028,1244, 49.9967, 164.9750, 5503,   1082.1,     1070,   2.6055,  34.4331,2,     21.5,2,  34.4325,2,    21.40,6,   155.38,2,    44.25,2,     0.00,2,    3.140,2,    0.143,2,    0.049,2,-217.8,2,-0.6,2,   2388.3,2,   2384.1,2,   7.3135,2,    25.00,     -999,9,     -999,9,   2.6056,2
  49UP20110515,   P13,    44,  1,     21,      94,2,20110615,1028,1239, 49.9967, 164.9750, 5503,   1286.7,     1272,   2.3296,  34.4927,2,     30.5,2,  34.4925,2,    29.84,2,   162.73,2,    43.71,6,     0.00,6,    3.100,6,    0.056,2,    0.014,2,-224.0,2,-0.6,2,   2393.5,2,   2397.6,2,   7.3435,2,    25.00,     -999,9,     -999,9,   2.3297,2
  49UP20110515,   P13,    44,  1,     20,      93,2,20110615,1028,1232, 49.9967, 164.9750, 5503,   1489.3,     1471,   2.1399,  34.5325,2,     40.4,2,  34.5321,2,    40.81,2,   169.03,2,    42.98,2,     0.00,2,    3.050,3,    0.043,2,    0.009,2,-233.2,2,-0.5,2,   2392.3,2,   2405.7,2,   7.3634,2,    25.00,     -999,9,     -999,9,   2.1402,2
  49UP20110515,   P13,    44,  1,     19,      92,2,20110615,1028,1225, 49.9967, 164.9750, 5503,   1693.1,     1672,   1.9871,  34.5672,2,     53.4,2,  34.5670,6,    53.18,2,   171.64,2,    42.22,2,     0.00,2,    3.000,2,    0.065,2,    0.013,2,-999,9,-999,9,   2387.1,2,   2407.6,2,   7.3939,2,    25.00,     -999,9,     -999,9,   1.9875,2
  49UP20110515,   P13,    44,  1,     18,      91,2,20110615,1028,1218, 49.9967, 164.9750, 5503,   1895.8,     1871,   1.8717,  34.5926,2,     66.0,2,  34.5938,2,    87.23,4,   172.22,2,    41.43,2,     0.00,2,    2.950,2,    0.024,2,    0.000,2,-237.4,2,-0.4,2,   2379.9,2,   2413.3,2,   7.4185,6,    25.00,     -999,9,     -999,9,   1.8718,2
  49UP20110515,   P13,    44,  1,     17,      90,2,20110615,1028,1212, 49.9967, 164.9750, 5503,   2099.3,     2071,   1.7710,  34.6144,2,     80.3,2,  34.6151,2,    80.16,2,   171.35,2,    40.67,2,     0.00,2,    2.890,2,    0.015,2,    0.000,2,-999,9,-999,9,   2374.2,2,   2415.1,2,   7.4469,2,    25.00,     -999,9,     -999,9,   1.7713,2
  49UP20110515,   P13,    44,  1,     16,      89,2,20110615,1028,1207, 49.9967, 164.9750, 5503,   2303.8,     2272,   1.6987,  34.6299,2,     93.1,2,  34.6301,2,    92.67,2,   168.40,2,    39.83,2,     0.00,2,    2.840,2,    0.010,2,    0.000,2,-242.4,2,-0.2,2,   2366.2,6,   2416.0,6,   7.4719,2,    25.00,     -999,9,     -999,9,   1.6987,2
  49UP20110515,   P13,    44,  1,     15,      88,2,20110615,1028,1159, 49.9967, 164.9750, 5503,   2507.9,     2472,   1.6365,  34.6422,2,    103.9,2,  34.6430,6,   104.14,2,   166.27,2,    39.05,2,     0.00,2,    2.770,2,    0.015,2,    0.000,2,-999,9,-999,9,   2357.2,2,   2417.2,2,   7.4952,2,    25.00,     -999,9,     -999,9,   1.6366,2
  49UP20110515,   P13,    44,  1,     14,      87,2,20110615,1028,1153, 49.9967, 164.9750, 5503,   2712.5,     2672,   1.5872,  34.6517,2,    113.4,2,  34.6529,2,   113.68,2,   163.84,2,    38.49,2,     0.00,2,    2.730,2,    0.007,2,    0.000,2,-236.9,2,-0.1,2,   2347.5,2,   2416.4,2,   7.5139,2,    25.00,     -999,9,     -999,9,   1.5871,2
  49UP20110515,   P13,    44,  1,     13,      86,2,20110615,1028,1146, 49.9967, 164.9750, 5503,   2916.6,     2872,   1.5561,  34.6584,2,    120.4,2,  34.6589,2,   120.58,2,   162.00,2,    38.09,2,     0.00,2,    2.690,2,    0.018,2,    0.000,2,-999,9,-999,9,   2347.6,6,   2418.5,6,   7.5221,2,    25.00,     -999,9,     -999,9,   1.5560,2
  49UP20110515,   P13,    44,  1,     12,      85,2,20110615,1028,1139, 49.9967, 164.9750, 5503,   3132.6,     3083,   1.5219,  34.6656,2,    128.8,2,  34.6660,2,   128.79,2,   159.25,2,    37.64,2,     0.00,2,    2.650,2,    0.020,2,    0.000,2,-229.2,2,0.0,2,   2341.2,6,   2417.3,6,   7.5394,2,    25.00,     -999,9,     -999,9,   1.5219,2
  49UP20110515,   P13,    44,  1,     11,     110,2,20110615,1028,1133, 49.9967, 164.9750, 5503,   3387.6,     3332,   1.4976,  34.6718,2,    136.3,2,  34.6725,2,   135.89,2,   156.30,2,    37.12,2,     0.00,2,    2.610,2,    0.005,2,    0.000,2,-999,9,-999,9,   2338.0,2,   2417.5,2,   7.5536,2,    25.00,     -999,9,     -999,9,   1.4977,2
  49UP20110515,   P13,    44,  1,     10,      83,2,20110615,1028,1124, 49.9967, 164.9750, 5503,   3642.9,     3581,   1.4812,  34.6766,2,    142.3,2,  34.6771,2,   141.74,2,   154.66,2,    36.81,2,     0.00,2,    2.580,2,    0.044,2,    0.004,2,-223.3,2,0.1,2,   2335.5,2,   2417.7,2,   7.5625,2,    25.00,     -999,9,     -999,9,   1.4812,2
  49UP20110515,   P13,    44,  1,      9,      82,2,20110615,1028,1118, 49.9967, 164.9750, 5503,   3901.3,     3833,   1.4760,  34.6799,2,    146.6,2,  34.6806,2,   147.11,2,   153.08,2,    36.53,2,     0.00,2,    2.560,2,    0.032,2,    0.000,2,-999,9,-999,9,   2329.6,2,   2415.1,2,   7.5714,2,    25.00,     -999,9,     -999,9,   1.4759,2
  49UP20110515,   P13,    44,  1,      8,      81,2,20110615,1028,1110, 49.9967, 164.9750, 5503,   4157.2,     4082,   1.4764,  34.6831,2,    150.5,2,  34.6844,4,   149.95,2,   152.20,2,    36.31,2,     0.00,2,    2.540,2,     -999,9,     -999,9,-218.0,2,0.1,2,   2327.8,2,   2415.3,2,   7.5748,2,    25.00,     -999,9,     -999,9,   1.4766,2
  49UP20110515,   P13,    44,  1,      7,      80,2,20110615,1028,1102, 49.9967, 164.9750, 5503,   4414.7,     4332,   1.4813,  34.6857,2,    153.8,2,  34.6857,2,   153.64,2,   151.08,2,    36.03,2,     0.00,2,    2.520,2,     -999,9,     -999,9,-999,9,-999,9,   2327.4,2,   2414.4,2,   7.5772,2,    25.00,     -999,9,     -999,9,   1.4814,2
  49UP20110515,   P13,    44,  1,      6,      79,2,20110615,1028,1056, 49.9967, 164.9750, 5503,   4670.7,     4580,   1.4928,  34.6877,2,    156.4,2,  34.6877,2,   155.99,2,   150.22,2,    35.84,2,     0.00,2,    2.500,2,     -999,9,     -999,9,-218.5,2,0.2,2,   2324.9,2,   2413.0,2,   7.5848,2,    25.00,     -999,9,     -999,9,   1.4929,2
  49UP20110515,   P13,    44,  1,      5,      78,2,20110615,1028,1048, 49.9967, 164.9750, 5503,   4928.8,     4831,   1.5117,  34.6890,2,    157.9,2,  34.6905,2,   158.03,2,   150.36,2,    35.66,2,     0.00,2,    2.500,2,     -999,9,     -999,9,-999,9,-999,9,   2316.7,2,   2415.4,3,   7.5858,2,    25.00,     -999,9,     -999,9,   1.5120,2
  49UP20110515,   P13,    44,  1,      4,      77,2,20110615,1028,1042, 49.9967, 164.9750, 5503,   5187.2,     5081,   1.5368,  34.6897,2,    159.0,2,  34.6897,2,   159.43,2,   149.99,2,    35.74,2,     0.00,2,    2.490,2,     -999,9,     -999,9,-212.7,2,0.2,2,   2321.1,2,   2414.6,2,   7.5882,2,    25.00,     -999,9,     -999,9,   1.5370,2
  49UP20110515,   P13,    44,  1,      3,      76,2,20110615,1028,1033, 49.9967, 164.9750, 5503,   5444.0,     5330,   1.5662,  34.6902,2,    159.4,2,  34.6907,6,   160.01,2,   149.94,2,    35.68,2,     0.00,2,    2.520,2,     -999,9,     -999,9,-999,9,-999,9,   2321.2,2,   2413.9,2,   7.5861,2,    25.00,     -999,9,     -999,9,   1.5661,2
  49UP20110515,   P13,    44,  1,      2,      75,2,20110615,1028,1029, 49.9967, 164.9750, 5503,   5600.1,     5481,   1.5836,  34.6905,2,    159.9,2,  34.6919,2,   159.97,2,   149.32,6,    35.65,6,     0.00,6,    2.490,6,     -999,9,     -999,9,-999,9,-999,9,   2319.1,2,   2413.3,3,   7.5873,3,    25.00,     -999,9,     -999,9,   1.5836,2
  49UP20110515,   P13,    44,  1,      1,      74,2,20110615,1028,1029, 49.9967, 164.9750, 5503,   5600.1,     5481,   1.5836,  34.6905,2,    159.9,2,  34.6907,2,   159.74,2,   149.76,2,    35.61,2,     0.00,2,    2.510,2,     -999,9,     -999,9,-210.3,2,0.2,2,   2322.2,2,   2411.9,3,   7.5818,3,    25.00,     -999,9,     -999,9,   1.5836,2