BOTTLE,20240116CCHSIOVAJ
EXPOCODE,SECT_ID,STNNBR,CASTNO,SAMPNO,BTLNBR,BTLNBR_FLAG_W,DATE,TIME,BTL_TIME,LATITUDE,LONGITUDE,DEPTH,CTDPRS,CTDDEPTH,CTDTMP,CTDSAL,CTDSAL_FLAG_W,CTDOXY,CTDOXY_FLAG_W,SALNTY,SALNTY_FLAG_W,OXYGEN,OXYGEN_FLAG_W,SILCAT,SILCAT_FLAG_W,NO2+NO3,NO2+NO3_FLAG_W,NITRIT,NITRIT_FLAG_W,PHSPHT,PHSPHT_FLAG_W,CFC-11,CFC-11_FLAG_W,CFC-12,CFC-12_FLAG_W,DELC14,DELC14_FLAG_W,DELC13,DELC13_FLAG_W,TCARBN,TCARBN_FLAG_W,ALKALI,ALKALI_FLAG_W,PH_TOT,PH_TOT_FLAG_W,PH_TMP,CHLORA,CHLORA_FLAG_W,PPHYTN,PPHYTN_FLAG_W,REFTMP,REFTMP_FLAG_W
,,,,,,,,,,,,METERS,DBAR,METERS,ITS-90,PSS-78,,UMOL/KG,,PSS-78,,UMOL/KG,,UMOL/KG,,UMOL/KG,,UMOL/KG,,UMOL/KG,,PMOL/KG,,PMOL/KG,,/MILLE,,/MILLE,,UMOL/KG,,UMOL/KG,,,,DEG C,UG/KG,,UG/KG,,ITS-90,
  49UP20110515,   P13,   105,  1,      0,     BUC,2,20110725,0640,0845,  8.9940, 163.9735, 5216,      0.0,        0,  28.7103,  34.3283,2,    196.3,2,     -999,9,   196.64,2,     1.16,2,     0.04,2,     0.00,2,    0.130,2,     -999,9,     -999,9,-999,9,-999,9,     -999,9,     -999,9,     -999,9,     -999,     0.06,2,     0.02,2,     -999,9
  49UP20110515,   P13,   105,  1,     36,     109,2,20110725,0640,0913,  8.9940, 163.9735, 5216,     10.8,       11,  28.7161,  34.3270,2,    196.3,2,  34.3327,2,   196.57,2,     1.10,2,     0.03,2,     0.00,2,    0.110,2,    1.747,3,    1.052,2,-999,9,-999,9,   1922.9,2,   2254.6,2,   8.1132,2,    25.00,     0.05,2,     0.02,2,  28.7175,2
  49UP20110515,   P13,   105,  1,     35,     108,2,20110725,0640,0909,  8.9940, 163.9735, 5216,     50.8,       51,  28.6816,  34.4681,2,    195.6,2,  34.4815,4,   195.92,2,     1.06,2,     0.04,2,     0.00,2,    0.100,2,    1.737,3,    1.069,2,-999,9,-999,9,   1931.3,2,   2262.3,2,   8.1120,2,    25.00,     0.07,2,     0.02,2,  28.6828,2
  49UP20110515,   P13,   105,  1,     34,     107,2,20110725,0640,0907,  8.9940, 163.9735, 5216,     76.1,       76,  27.9128,  34.9434,2,    202.5,2,  34.9433,2,   203.31,6,     0.98,2,     0.03,2,     0.00,2,    0.090,2,    2.013,3,    1.098,2,-999,9,-999,9,   1967.9,2,   2296.0,2,   8.1011,2,    25.00,     0.10,2,     0.04,2,  27.9129,2
  49UP20110515,   P13,   105,  1,     33,     106,2,20110725,0640,0906,  8.9940, 163.9735, 5216,    102.6,      102,  26.7240,  35.0294,2,    202.5,2,  35.0244,2,   203.46,2,     1.02,2,     0.05,2,     0.00,2,    0.100,2,    2.072,3,    1.154,2,-999,9,-999,9,   1980.0,6,   2301.7,6,   8.0854,2,    25.00,     0.16,2,     0.08,2,  26.7125,2
  49UP20110515,   P13,   105,  1,     32,     105,2,20110725,0640,0905,  8.9940, 163.9735, 5216,    126.0,      125,  24.0646,  35.1497,2,    192.9,2,  35.1543,2,   193.53,2,     1.48,2,     0.28,2,     0.10,2,    0.150,2,    2.073,3,    1.280,2,-999,9,-999,9,   2021.8,2,   2312.3,2,   8.0278,2,    25.00,     0.18,2,     0.30,2,  24.0636,2
  49UP20110515,   P13,   105,  1,     31,     104,2,20110725,0640,0903,  8.9940, 163.9735, 5216,    151.1,      150,  21.9631,  35.1537,2,    181.7,2,  35.1584,2,   183.81,2,     2.06,2,     1.83,2,     0.04,2,    0.250,2,    2.043,3,    1.366,6,-999,9,-999,9,   2051.0,2,   2313.2,2,   7.9864,2,    25.00,     0.10,2,     0.24,2,  21.9888,2
  49UP20110515,   P13,   105,  1,     30,     103,2,20110725,0640,0901,  8.9940, 163.9735, 5216,    202.5,      201,  14.8710,  34.5343,2,    134.1,2,  34.5354,2,   126.76,2,    13.48,2,    15.66,2,     0.01,2,    1.200,2,    2.290,3,    1.363,2,-999,9,-999,9,   2131.4,2,   2279.1,2,   7.7426,2,    25.00,     0.03,2,     0.06,2,  14.8704,2
  49UP20110515,   P13,   105,  1,     29,     102,2,20110725,0640,0900,  8.9940, 163.9735, 5216,    252.4,      251,  11.1885,  34.5030,2,     69.4,2,  34.4960,2,    69.92,2,    27.80,6,    27.71,6,     0.00,6,    2.030,6,    1.452,3,    0.803,2,-999,9,-999,9,   2207.7,2,   2284.1,2,   7.5609,2,    25.00,     -999,9,     -999,9,  11.1880,2
  49UP20110515,   P13,   105,  1,     28,     101,2,20110725,0640,0857,  8.9940, 163.9735, 5216,    335.1,      333,   9.5446,  34.5834,2,     48.7,2,  34.5795,2,    49.17,2,    36.07,2,    33.19,2,     0.00,2,    2.360,2,    0.612,3,    0.332,2,-999,9,-999,9,   2245.7,2,   2302.1,2,   7.4910,2,    25.00,     -999,9,     -999,9,   9.5454,2
  49UP20110515,   P13,   105,  1,     27,     100,2,20110725,0640,0855,  8.9940, 163.9735, 5216,    384.6,      382,   8.9612,  34.5890,2,     51.6,2,  34.5912,2,    51.01,2,    38.73,2,    34.44,2,     0.00,2,    2.430,2,    0.425,3,    0.234,6,-999,9,-999,9,   2253.7,2,   2304.6,2,   7.4865,2,    25.00,     -999,9,     -999,9,   8.9611,2
  49UP20110515,   P13,   105,  1,     26,      99,2,20110725,0640,0854,  8.9940, 163.9735, 5216,    434.3,      431,   8.4936,  34.5868,2,     53.6,2,  34.5864,2,    53.96,2,    41.25,2,    35.00,2,     0.00,2,    2.490,2,    0.316,3,    0.173,2,-999,9,-999,9,   2253.9,6,   2305.8,6,   7.4808,2,    25.00,     -999,9,     -999,9,   8.4948,2
  49UP20110515,   P13,   105,  1,     25,      98,2,20110725,0640,0850,  8.9940, 163.9735, 5216,    534.6,      531,   7.5652,  34.5554,2,     58.2,2,  34.5536,2,    58.28,2,    49.04,6,    36.36,6,     0.00,6,    2.590,6,    0.195,3,    0.111,2,-999,9,-999,9,   2263.4,2,   2314.6,2,   7.4759,6,    25.00,     -999,9,     -999,9,   7.5663,2
  49UP20110515,   P13,   105,  1,     24,      97,2,20110725,0640,0845,  8.9940, 163.9735, 5216,    636.6,      632,   6.6272,  34.5295,2,     66.2,2,  34.5285,6,    66.30,2,    59.21,2,    37.32,2,     0.00,3,    2.660,2,    0.136,3,    0.079,2,-999,9,-999,9,   2269.4,2,   2325.0,2,   7.4762,2,    25.00,     -999,9,     -999,9,   6.6274,2
  49UP20110515,   P13,   105,  1,     23,      96,2,20110725,0640,0842,  8.9940, 163.9735, 5216,    737.0,      732,   6.0586,  34.5337,2,     58.3,2,  34.5339,2,    58.16,6,    67.24,2,    39.00,2,     0.00,2,    2.800,2,    0.038,3,    0.032,2,-999,9,-999,9,   2286.4,2,   2330.0,2,   7.4528,2,    25.00,     -999,9,     -999,9,   6.0577,2
  49UP20110515,   P13,   105,  1,     22,      95,2,20110725,0640,0839,  8.9940, 163.9735, 5216,    838.1,      832,   5.4433,  34.5346,2,     66.3,2,  34.5350,2,    66.06,2,    76.96,2,    39.28,2,     0.00,2,    2.800,2,    0.016,3,    0.025,2,-999,9,-999,9,   2293.9,2,   2341.4,2,   7.4571,2,    25.00,     -999,9,     -999,9,   5.4438,2
  49UP20110515,   P13,   105,  1,     21,      94,2,20110725,0640,0837,  8.9940, 163.9735, 5216,    940.7,      933,   4.9500,  34.5430,2,     71.9,2,  34.5434,2,    72.05,2,    85.19,2,    39.43,2,     0.00,2,    2.820,2,    0.005,3,    0.006,2,-999,9,-999,9,   2300.7,2,   2349.9,2,   7.4704,2,    25.00,     -999,9,     -999,9,   4.9504,2
  49UP20110515,   P13,   105,  1,     20,      93,2,20110725,0640,0833,  8.9940, 163.9735, 5216,   1080.6,     1072,   4.3324,  34.5558,2,     77.5,2,  34.5559,2,    77.47,2,    97.23,2,    39.76,2,     0.00,2,    2.830,2,    0.000,3,    0.012,2,-999,9,-999,9,   2312.4,2,   2363.7,2,   7.4713,2,    25.00,     -999,9,     -999,9,   4.3322,2
  49UP20110515,   P13,   105,  1,     19,      92,2,20110725,0640,0825,  8.9940, 163.9735, 5216,   1284.4,     1273,   3.6187,  34.5749,2,     84.1,2,  34.5748,2,    84.15,2,   111.41,6,    39.72,6,     0.00,6,    2.830,6,    0.000,3,    0.001,2,-999,9,-999,9,   2324.6,2,   2378.5,2,   7.4800,2,    25.00,     -999,9,     -999,9,   3.6180,2
  49UP20110515,   P13,   105,  1,     18,      91,4,20110725,0640,0820,  8.9940, 163.9735, 5216,   1485.5,     1472,   2.9250,  34.6002,2,     91.6,2,     -999,9,     -999,9,     -999,9,     -999,9,     -999,9,     -999,9,     -999,9,     -999,9,-999,9,-999,9,     -999,9,     -999,9,     -999,9,     -999,     -999,9,     -999,9,   2.9251,2
  49UP20110515,   P13,   105,  1,     17,      90,2,20110725,0640,0812,  8.9940, 163.9735, 5216,   1688.4,     1672,   2.5843,  34.6141,2,     95.1,2,  34.6147,2,    95.25,2,   134.95,2,    39.80,2,     0.00,2,    2.800,2,     -999,9,     -999,9,-999,9,-999,9,   2348.5,2,   2402.4,2,   7.4888,2,    25.00,     -999,9,     -999,9,   2.5845,2
  49UP20110515,   P13,   105,  1,     16,      89,2,20110725,0640,0807,  8.9940, 163.9735, 5216,   1891.2,     1872,   2.2834,  34.6323,2,    102.7,2,  34.6326,2,   102.91,2,   140.76,2,    39.43,2,     0.00,2,    2.780,2,     -999,9,     -999,9,-999,9,-999,9,   2347.6,2,   2410.0,2,   7.5057,2,    25.00,     -999,9,     -999,9,   2.2834,2
  49UP20110515,   P13,   105,  1,     15,      88,2,20110725,0640,0802,  8.9940, 163.9735, 5216,   2094.1,     2072,   2.0721,  34.6443,2,    109.1,2,  34.6444,6,   109.48,2,   145.31,2,    39.21,2,     0.00,2,    2.740,2,     -999,9,     -999,9,-999,9,-999,9,   2348.0,2,   2413.5,2,   7.5145,2,    25.00,     -999,9,     -999,9,   2.0724,2
  49UP20110515,   P13,   105,  1,     14,      87,2,20110725,0640,0752,  8.9940, 163.9735, 5216,   2297.1,     2272,   1.9573,  34.6510,2,    113.3,2,  34.6522,2,   113.62,2,   147.46,2,    38.69,2,     0.00,2,    2.720,2,     -999,9,     -999,9,-999,9,-999,9,   2361.3,3,   2415.1,2,   7.5219,2,    25.00,     -999,9,     -999,9,   1.9572,2
  49UP20110515,   P13,   105,  1,     13,      86,2,20110725,0640,0747,  8.9940, 163.9735, 5216,   2500.4,     2472,   1.8506,  34.6585,2,    120.0,2,  34.6587,2,   120.37,2,   148.30,2,    38.44,2,     0.00,2,    2.670,2,     -999,9,     -999,9,-999,9,-999,9,   2349.8,6,   2417.5,2,   7.5329,2,    25.00,     -999,9,     -999,9,   1.8508,2
  49UP20110515,   P13,   105,  1,     12,      74,2,20110725,0640,0741,  8.9940, 163.9735, 5216,   2704.3,     2672,   1.7636,  34.6638,2,    125.3,2,  34.6653,2,   125.84,2,   149.22,2,    37.96,2,     0.00,2,    2.660,2,    0.000,3,    0.002,2,-999,9,-999,9,   2348.0,2,   2417.9,2,   7.5425,6,    25.00,     -999,9,     -999,9,   1.7634,2
  49UP20110515,   P13,   105,  1,     11,     110,2,20110725,0640,0736,  8.9940, 163.9735, 5216,   2907.2,     2871,   1.6933,  34.6684,2,    130.5,2,  34.6683,2,   130.76,2,   148.97,2,    37.72,2,     0.00,2,    2.630,2,     -999,9,     -999,9,-999,9,-999,9,   2345.9,2,   2418.0,2,   7.5483,2,    25.00,     -999,9,     -999,9,   1.6933,2
  49UP20110515,   P13,   105,  1,     10,      83,2,20110725,0640,0731,  8.9940, 163.9735, 5216,   3121.2,     3081,   1.6165,  34.6735,2,    136.9,2,  34.6741,2,   137.29,2,   148.62,6,    37.32,6,     0.00,6,    2.590,6,     -999,9,     -999,9,-999,9,-999,9,   2339.5,2,   2416.3,2,   7.5569,2,    25.00,     -999,9,     -999,9,   1.6166,2
  49UP20110515,   P13,   105,  1,      9,      82,2,20110725,0640,0724,  8.9940, 163.9735, 5216,   3376.3,     3331,   1.5444,  34.6790,2,    143.8,2,  34.6771,4,   143.95,2,   147.33,2,    36.82,2,     0.00,2,    2.550,2,     -999,9,     -999,9,-999,9,-999,9,   2332.4,2,   2420.2,3,   7.5628,2,    25.00,     -999,9,     -999,9,   1.5444,2
  49UP20110515,   P13,   105,  1,      8,      81,2,20110725,0640,0719,  8.9940, 163.9735, 5216,   3631.0,     3580,   1.4858,  34.6839,2,    151.4,2,  34.6841,2,   151.76,2,   145.22,2,    36.46,2,     0.00,2,    2.510,2,     -999,9,     -999,9,-999,9,-999,9,   2327.3,2,   2414.2,2,   7.5756,2,    25.00,     -999,9,     -999,9,   1.4857,2
  49UP20110515,   P13,   105,  1,      7,      80,2,20110725,0640,0714,  8.9940, 163.9735, 5216,   3887.9,     3831,   1.4555,  34.6877,2,    157.6,2,  34.6876,2,   157.05,2,   142.74,2,    35.94,2,     0.00,2,    2.490,2,     -999,9,     -999,9,-999,9,-999,9,   2322.5,2,   2410.4,2,   7.5809,2,    25.00,     -999,9,     -999,9,   1.4557,2
  49UP20110515,   P13,   105,  1,      6,      79,2,20110725,0640,0708,  8.9940, 163.9735, 5216,   4144.4,     4081,   1.4242,  34.6916,2,    164.9,2,  34.6906,2,   165.39,6,   138.10,2,    35.06,2,     0.00,2,    2.430,2,    0.000,3,    0.000,2,-999,9,-999,9,   2313.7,2,   2404.8,2,   7.5911,2,    25.00,     -999,9,     -999,9,   1.4242,2
  49UP20110515,   P13,   105,  1,      5,      78,2,20110725,0640,0701,  8.9940, 163.9735, 5216,   4400.3,     4331,   1.4112,  34.6949,2,    170.7,2,  34.6946,2,   170.70,2,   134.56,2,    34.79,2,     0.00,2,    2.390,2,    0.000,3,    0.004,2,-999,9,-999,9,   2306.6,2,   2400.7,2,   7.5991,2,    25.00,     -999,9,     -999,9,   1.4111,2
  49UP20110515,   P13,   105,  1,      4,      77,2,20110725,0640,0653,  8.9940, 163.9735, 5216,   4657.6,     4581,   1.4144,  34.6968,2,    174.1,2,  34.6972,2,   174.25,2,   132.68,2,    34.29,2,     0.00,2,    2.380,2,    0.000,3,    0.003,2,-999,9,-999,9,   2304.2,2,   2401.1,2,   7.5987,2,    25.00,     -999,9,     -999,9,   1.4145,2
  49UP20110515,   P13,   105,  1,      3,      76,2,20110725,0640,0648,  8.9940, 163.9735, 5216,   4913.9,     4831,   1.4048,  34.6992,2,    178.9,2,  34.6991,2,   178.83,2,   130.21,2,    34.18,2,     0.00,2,    2.350,2,    0.000,3,    0.003,2,-999,9,-999,9,   2300.1,2,   2396.0,2,   7.6057,2,    25.00,     -999,9,     -999,9,   1.4048,2
  49UP20110515,   P13,   105,  1,      2,      75,2,20110725,0640,0643,  8.9940, 163.9735, 5216,   5171.8,     5081,   1.4081,  34.7009,2,    182.0,2,  34.7009,2,   182.37,2,   128.62,2,    33.82,2,     0.00,2,    2.330,2,    0.000,3,    0.001,2,-999,9,-999,9,   2295.8,2,   2391.1,2,   7.6073,2,    25.00,     -999,9,     -999,9,   1.4081,2
  49UP20110515,   P13,   105,  1,      1,     112,2,20110725,0640,0640,  8.9940, 163.9735, 5216,   5291.9,     5198,   1.4153,  34.7014,2,    183.1,2,  34.7014,2,   183.08,6,   128.21,2,    33.85,2,     0.00,2,    2.320,2,    0.025,3,    0.005,6,-999,9,-999,9,   2291.5,2,   2390.2,2,   7.5999,2,    25.00,     -999,9,     -999,9,   1.4152,2