BOTTLE,20240116CCHSIOVAJ
EXPOCODE,SECT_ID,STNNBR,CASTNO,SAMPNO,BTLNBR,BTLNBR_FLAG_W,DATE,TIME,BTL_TIME,LATITUDE,LONGITUDE,DEPTH,CTDPRS,CTDDEPTH,CTDTMP,CTDSAL,CTDSAL_FLAG_W,CTDOXY,CTDOXY_FLAG_W,SALNTY,SALNTY_FLAG_W,OXYGEN,OXYGEN_FLAG_W,SILCAT,SILCAT_FLAG_W,NO2+NO3,NO2+NO3_FLAG_W,NITRIT,NITRIT_FLAG_W,PHSPHT,PHSPHT_FLAG_W,CFC-11,CFC-11_FLAG_W,CFC-12,CFC-12_FLAG_W,DELC14,DELC14_FLAG_W,DELC13,DELC13_FLAG_W,TCARBN,TCARBN_FLAG_W,ALKALI,ALKALI_FLAG_W,PH_TOT,PH_TOT_FLAG_W,PH_TMP,CHLORA,CHLORA_FLAG_W,PPHYTN,PPHYTN_FLAG_W,REFTMP,REFTMP_FLAG_W
,,,,,,,,,,,,METERS,DBAR,METERS,ITS-90,PSS-78,,UMOL/KG,,PSS-78,,UMOL/KG,,UMOL/KG,,UMOL/KG,,UMOL/KG,,UMOL/KG,,PMOL/KG,,PMOL/KG,,/MILLE,,/MILLE,,UMOL/KG,,UMOL/KG,,,,DEG C,UG/KG,,UG/KG,,ITS-90,
  49UP20110515,   P13,    53,  1,      0,     BUC,2,20110618,2355,0220, 42.0135, 164.9727, 5000,      0.0,        0,   8.1085,  33.1377,2,    299.0,2,     -999,9,   297.81,2,    19.83,3,    10.98,2,     0.18,2,    1.080,2,     -999,9,     -999,9,-999,9,-999,9,     -999,9,     -999,9,     -999,9,     -999,     1.10,2,     0.02,2,     -999,9
  49UP20110515,   P13,    53,  1,     36,     109,2,20110618,2355,0251, 42.0135, 164.9727, 5000,     10.3,       10,   8.0983,  33.1386,2,    298.9,2,  33.1401,2,   297.53,2,    19.80,6,    10.97,6,     0.18,6,    1.080,6,    4.464,2,    2.424,2,-999,9,-999,9,   2068.1,2,   2228.6,2,   7.8095,2,    25.00,     0.32,2,     0.05,2,   8.0988,2
  49UP20110515,   P13,    53,  1,     35,     108,2,20110618,2355,0248, 42.0135, 164.9727, 5000,     51.0,       51,   7.8176,  33.1639,2,    298.5,2,  33.1657,2,   298.37,2,    19.47,4,    10.84,2,     0.18,2,    1.070,2,    4.092,2,    2.436,2,-999,9,-999,9,   2072.4,2,   2230.0,2,   7.8125,2,    25.00,     0.37,2,     0.11,2,   7.8181,2
  49UP20110515,   P13,    53,  1,     34,     107,2,20110618,2355,0235, 42.0135, 164.9727, 5000,    101.8,      101,   6.4376,  33.5158,2,    284.8,2,  33.5156,6,   284.86,2,    22.93,6,    14.81,6,     0.02,6,    1.210,6,    3.904,2,    2.342,2,-999,9,-999,9,   2097.1,2,   2246.0,2,   7.7668,2,    25.00,     0.09,2,     0.09,2,   6.4418,2
  49UP20110515,   P13,    53,  1,     33,     106,2,20110618,2355,0233, 42.0135, 164.9727, 5000,    151.3,      150,   5.7091,  33.7369,2,    220.1,2,  33.7340,2,   222.15,6,    40.34,2,    23.21,2,     0.01,2,    1.760,2,    3.795,2,    2.155,2,-999,9,-999,9,   2167.9,2,   2266.1,2,   7.6334,6,    25.00,     0.01,2,     0.06,2,   5.7105,2
  49UP20110515,   P13,    53,  1,     32,     105,2,20110618,2355,0231, 42.0135, 164.9727, 5000,    204.5,      203,   5.2424,  33.8151,2,    174.2,2,  33.8121,2,   175.06,2,    54.89,2,    28.36,2,     0.01,2,    2.100,2,    3.456,2,    1.846,2,-999,9,-999,9,   2202.2,2,   2276.2,2,   7.5448,2,    25.00,     0.00,2,     0.05,2,   5.2501,2
  49UP20110515,   P13,    53,  1,     31,     104,2,20110618,2355,0231, 42.0135, 164.9727, 5000,    204.5,      203,   5.2424,  33.8151,2,    174.2,2,  33.8121,2,   175.16,2,    54.57,2,    28.35,2,     0.01,2,    2.110,2,    3.443,6,    1.822,6,-999,9,-999,9,   2204.0,2,   2277.0,2,   7.5437,2,    25.00,     -999,9,     -999,9,   5.2501,2
  49UP20110515,   P13,    53,  1,     30,     103,2,20110618,2355,0228, 42.0135, 164.9727, 5000,    255.6,      253,   3.5795,  33.7005,2,    150.9,2,  33.6944,2,   152.32,2,    70.49,2,    33.88,2,     0.00,2,    2.510,2,    3.458,2,    1.904,2,-999,9,-999,9,   2247.0,6,   2279.0,6,   7.4444,2,    25.00,     -999,9,     -999,9,   3.5798,2
  49UP20110515,   P13,    53,  1,     29,     102,2,20110618,2355,0225, 42.0135, 164.9727, 5000,    336.2,      333,   3.6345,  33.8530,2,     98.0,2,  33.8526,2,    98.72,6,    86.53,2,    38.17,2,     0.00,2,    2.780,2,    2.373,2,    1.450,2,-999,9,-999,9,   2287.2,2,   2293.0,2,   7.3597,2,    25.00,     -999,9,     -999,9,   3.6353,2
  49UP20110515,   P13,    53,  1,     28,     101,2,20110618,2355,0221, 42.0135, 164.9727, 5000,    434.6,      431,   3.5824,  33.9874,2,     58.7,2,  33.9843,2,    59.63,2,   101.91,3,    41.30,2,     0.00,2,    2.980,2,    1.828,2,    0.979,2,-999,9,-999,9,   2318.9,2,   2309.8,2,   7.3134,2,    25.00,     -999,9,     -999,9,   3.5826,2
  49UP20110515,   P13,    53,  1,     27,     100,2,20110618,2355,0215, 42.0135, 164.9727, 5000,    535.5,      531,   3.6370,  34.1151,2,     48.5,2,  34.1129,2,    49.56,6,   111.07,2,    41.43,2,     0.00,2,    2.990,2,    1.257,6,    0.644,6,-999,9,-999,9,   2334.6,2,   2329.2,2,   7.3304,2,    25.00,     -999,9,     -999,9,   3.6371,2
  49UP20110515,   P13,    53,  1,     26,      99,2,20110618,2355,0211, 42.0135, 164.9727, 5000,    637.3,      631,   3.3722,  34.2033,2,     36.5,2,  34.2019,2,    37.17,2,   123.39,2,    42.70,2,     0.00,2,    3.050,2,    0.884,2,    0.411,2,-999,9,-999,9,   2330.6,3,   2342.9,2,   7.3162,2,    25.00,     -999,9,     -999,9,   3.3720,2
  49UP20110515,   P13,    53,  1,     25,      98,2,20110618,2355,0208, 42.0135, 164.9727, 5000,    739.0,      732,   3.2845,  34.2888,2,     33.9,2,  34.2882,2,    34.01,2,   129.96,2,    42.72,2,     0.00,2,    3.060,2,     -999,5,     -999,5,-999,9,-999,9,   2338.8,3,   2358.4,2,   7.3283,2,    25.00,     -999,9,     -999,9,   3.2840,2
  49UP20110515,   P13,    53,  1,     24,      97,2,20110618,2355,0204, 42.0135, 164.9727, 5000,    839.9,      832,   3.1113,  34.3375,2,     32.7,2,  34.3378,2,    33.29,2,   136.42,2,    42.92,2,     0.00,2,    3.080,2,     -999,5,     -999,5,-999,9,-999,9,   2324.4,3,   2367.2,2,   7.3342,2,    25.00,     -999,9,     -999,9,   3.1110,2
  49UP20110515,   P13,    53,  1,     23,      96,2,20110618,2355,0159, 42.0135, 164.9727, 5000,    941.7,      932,   2.9671,  34.3885,2,     33.0,2,  34.3878,2,    33.34,2,   141.47,2,    43.04,2,     0.00,2,    3.080,2,    0.222,2,    0.086,2,-999,9,-999,9,   2372.3,2,   2375.9,2,   7.3421,6,    25.00,     -999,9,     -999,9,   2.9664,2
  49UP20110515,   P13,    53,  1,     22,      95,2,20110618,2355,0153, 42.0135, 164.9727, 5000,   1085.3,     1074,   2.7432,  34.4324,2,     32.8,2,  34.4313,2,    32.98,2,   148.25,2,    43.32,2,     0.00,2,    3.090,2,    0.125,2,    0.042,2,-999,9,-999,9,   2378.9,6,   2382.3,6,   7.3479,2,    25.00,     -999,9,     -999,9,   2.7434,2
  49UP20110515,   P13,    53,  1,     21,      94,2,20110618,2355,0146, 42.0135, 164.9727, 5000,   1286.7,     1273,   2.4167,  34.4799,2,     37.9,2,  34.4804,6,    37.79,2,   158.23,2,    43.44,2,     0.00,2,    3.080,2,    0.077,2,    0.029,2,-999,9,-999,9,   2384.9,2,   2391.4,2,   7.3568,2,    25.00,     -999,9,     -999,9,   2.4163,2
  49UP20110515,   P13,    53,  1,     20,      93,2,20110618,2355,0146, 42.0135, 164.9727, 5000,   1286.7,     1273,   2.4167,  34.4799,2,     37.9,2,  34.4797,2,    37.90,2,   158.06,2,    43.28,2,     0.00,2,    3.080,2,    0.126,2,    0.036,2,-999,9,-999,9,   2384.8,2,   2391.6,2,   7.3570,2,    25.00,     -999,9,     -999,9,   2.4163,2
  49UP20110515,   P13,    53,  1,     19,      92,2,20110618,2355,0137, 42.0135, 164.9727, 5000,   1490.6,     1474,   2.2400,  34.5223,2,     46.0,2,  34.5213,2,    47.35,2,   162.09,6,    42.83,6,     0.00,6,    3.030,2,    0.079,2,    0.008,2,-999,9,-999,9,   2383.5,2,   2401.5,2,   7.3773,2,    25.00,     -999,9,     -999,9,   2.2398,2
  49UP20110515,   P13,    53,  1,     18,      91,2,20110618,2355,0131, 42.0135, 164.9727, 5000,   1691.5,     1671,   2.0775,  34.5595,2,     57.3,2,  34.5600,2,    58.43,2,   164.48,2,    42.45,2,     0.00,2,    3.000,2,    0.016,2,    0.000,2,-999,9,-999,9,   2383.8,2,   2405.5,2,   7.4003,2,    25.00,     -999,9,     -999,9,   2.0772,2
  49UP20110515,   P13,    53,  1,     17,      90,2,20110618,2355,0131, 42.0135, 164.9727, 5000,   1691.5,     1671,   2.0775,  34.5595,2,     57.3,2,  34.5594,2,    59.11,4,   164.29,2,    42.16,2,     0.00,2,    2.990,2,    0.024,2,    0.000,2,-999,9,-999,9,   2386.1,2,   2406.7,2,   7.4024,2,    25.00,     -999,9,     -999,9,   2.0772,2
  49UP20110515,   P13,    53,  1,     16,      89,2,20110618,2355,0125, 42.0135, 164.9727, 5000,   1895.0,     1872,   1.9478,  34.5862,2,     67.8,2,  34.5873,2,    67.64,2,   166.15,2,    41.88,2,     0.00,2,    2.940,2,    0.007,2,    0.000,2,-999,9,-999,9,   2380.4,2,   2408.9,2,   7.4251,3,    25.00,     -999,9,     -999,9,   1.9478,2
  49UP20110515,   P13,    53,  1,     15,      88,2,20110618,2355,0119, 42.0135, 164.9727, 5000,   2098.1,     2071,   1.8403,  34.6076,2,     79.7,2,  34.6080,2,    79.92,2,   165.99,2,    40.94,2,     0.00,2,    2.880,2,    0.000,2,    0.000,2,-999,9,-999,9,   2375.3,2,   2411.8,2,   7.4445,2,    25.00,     -999,9,     -999,9,   1.8400,2
  49UP20110515,   P13,    53,  1,     14,      87,3,20110618,2355,0113, 42.0135, 164.9727, 5000,   2302.2,     2272,   1.7467,  34.6251,2,     91.8,2,  34.6254,2,    92.06,2,   164.91,2,    40.11,2,     0.00,2,    2.820,2,    0.000,2,    0.000,2,-999,9,-999,9,   2369.9,2,   2414.3,2,   7.4713,2,    25.00,     -999,9,     -999,9,   1.7465,2
  49UP20110515,   P13,    53,  1,     13,      86,2,20110618,2355,0105, 42.0135, 164.9727, 5000,   2505.6,     2471,   1.6731,  34.6385,2,    102.5,2,  34.6391,2,   104.18,4,   163.25,2,    39.60,2,     0.00,2,    2.770,2,     -999,9,     -999,9,-999,9,-999,9,   2365.1,2,   2414.5,2,   7.4913,2,    25.00,     -999,9,     -999,9,   1.6728,2
  49UP20110515,   P13,    53,  1,     12,      85,2,20110618,2355,0100, 42.0135, 164.9727, 5000,   2708.4,     2670,   1.6094,  34.6500,2,    112.9,2,  34.6501,6,   113.72,2,   161.49,3,    38.86,2,     0.00,2,    2.720,2,    0.000,2,    0.000,2,-999,9,-999,9,   2358.1,2,   2415.7,2,   7.5124,2,    25.00,     -999,9,     -999,9,   1.6091,2
  49UP20110515,   P13,    53,  1,     11,     110,2,20110618,2355,0055, 42.0135, 164.9727, 5000,   2913.1,     2870,   1.5548,  34.6596,2,    122.6,2,  34.6598,2,   122.95,2,   159.90,2,    38.34,2,     0.00,2,    2.670,2,     -999,9,     -999,9,-999,9,-999,9,   2352.8,2,   2415.4,2,   7.5277,2,    25.00,     -999,9,     -999,9,   1.5547,2
  49UP20110515,   P13,    53,  1,     10,      83,3,20110618,2355,0047, 42.0135, 164.9727, 5000,   3128.4,     3081,   1.5218,  34.6658,2,    129.7,2,  34.6640,4,   130.02,2,   157.55,2,    37.85,2,     0.00,2,    2.640,2,     -999,9,     -999,9,-999,9,-999,9,   2344.9,2,   2419.3,3,   7.5435,2,    25.00,     -999,9,     -999,9,   1.5216,2
  49UP20110515,   P13,    53,  1,      9,      82,2,20110618,2355,0047, 42.0135, 164.9727, 5000,   3128.4,     3081,   1.5218,  34.6658,2,    129.7,2,  34.6655,2,   130.12,2,   157.73,2,    37.81,2,     0.00,2,    2.640,2,     -999,9,     -999,9,-999,9,-999,9,   2346.1,2,   2414.5,2,   7.5428,2,    25.00,     -999,9,     -999,9,   1.5216,2
  49UP20110515,   P13,    53,  1,      8,      81,2,20110618,2355,0042, 42.0135, 164.9727, 5000,   3384.2,     3331,   1.4897,  34.6724,2,    137.3,2,  34.6727,2,   137.45,2,   155.34,2,    37.32,2,     0.00,2,    2.600,2,    0.000,2,    0.000,2,-999,9,-999,9,   2342.1,2,   2416.3,6,   7.5521,2,    25.00,     -999,9,     -999,9,   1.4897,2
  49UP20110515,   P13,    53,  1,      7,      80,2,20110618,2355,0033, 42.0135, 164.9727, 5000,   3639.7,     3580,   1.4738,  34.6769,2,    142.8,2,  34.6776,2,   142.93,2,   154.42,2,    37.04,2,     0.00,2,    2.570,2,     -999,9,     -999,9,-999,9,-999,9,   2337.6,2,   2416.2,2,   7.5639,2,    25.00,     -999,9,     -999,9,   1.4736,2
  49UP20110515,   P13,    53,  1,      6,      79,2,20110618,2355,0028, 42.0135, 164.9727, 5000,   3897.4,     3832,   1.4552,  34.6819,2,    148.8,2,  34.6819,2,   148.99,6,   152.92,2,    36.54,2,     0.00,2,    2.530,2,     -999,9,     -999,9,-999,9,-999,9,   2332.9,2,   2414.2,2,   7.5757,2,    25.00,     -999,9,     -999,9,   1.4551,2
  49UP20110515,   P13,    53,  1,      5,      78,2,20110618,2355,0020, 42.0135, 164.9727, 5000,   4152.9,     4080,   1.4497,  34.6855,2,    153.2,2,  34.6859,2,   153.49,2,   151.67,2,    36.12,2,     0.00,2,    2.520,2,     -999,9,     -999,9,-999,9,-999,9,   2331.8,2,   2414.6,2,   7.5821,2,    25.00,     -999,9,     -999,9,   1.4497,2
  49UP20110515,   P13,    53,  1,      4,      77,2,20110618,2355,0015, 42.0135, 164.9727, 5000,   4410.2,     4331,   1.4635,  34.6871,2,    155.2,2,  34.6874,2,   155.21,2,   151.73,6,    36.08,6,     0.00,6,    2.510,6,    0.000,2,    0.000,2,-999,9,-999,9,   2330.6,2,   2413.4,2,   7.5861,2,    25.00,     -999,9,     -999,9,   1.4635,2
  49UP20110515,   P13,    53,  1,      3,      76,2,20110618,2355,0007, 42.0135, 164.9727, 5000,   4666.8,     4580,   1.4848,  34.6881,2,    156.3,2,  34.6884,6,   156.30,2,   152.15,2,    36.09,2,     0.00,2,    2.500,2,     -999,9,     -999,9,-999,9,-999,9,   2329.1,2,   2415.8,2,   7.5862,2,    25.00,     -999,9,     -999,9,   1.4846,2
  49UP20110515,   P13,    53,  1,      2,      75,2,20110618,2355,0000, 42.0135, 164.9727, 5000,   4923.6,     4829,   1.5117,  34.6886,2,    156.8,2,  34.6886,2,   156.83,6,   152.20,3,    36.01,2,     0.00,2,    2.490,2,     -999,9,     -999,9,-999,9,-999,9,   2328.0,2,   2408.5,2,   7.5866,2,    25.00,     -999,9,     -999,9,   1.5114,2
  49UP20110515,   P13,    53,  1,      1,      74,2,20110618,2355,2356, 42.0135, 164.9727, 5000,   5063.1,     4965,   1.5285,  34.6887,2,    156.9,2,  34.6880,2,   155.77,4,   152.08,2,    35.95,2,     0.00,2,    2.500,2,     -999,9,     -999,9,-999,9,-999,9,   2328.3,2,   2408.8,2,   7.5849,2,    25.00,     -999,9,     -999,9,   1.5284,2