BOTTLE,20240116CCHSIOVAJ
EXPOCODE,SECT_ID,STNNBR,CASTNO,SAMPNO,BTLNBR,BTLNBR_FLAG_W,DATE,TIME,BTL_TIME,LATITUDE,LONGITUDE,DEPTH,CTDPRS,CTDDEPTH,CTDTMP,CTDSAL,CTDSAL_FLAG_W,CTDOXY,CTDOXY_FLAG_W,SALNTY,SALNTY_FLAG_W,OXYGEN,OXYGEN_FLAG_W,SILCAT,SILCAT_FLAG_W,NO2+NO3,NO2+NO3_FLAG_W,NITRIT,NITRIT_FLAG_W,PHSPHT,PHSPHT_FLAG_W,CFC-11,CFC-11_FLAG_W,CFC-12,CFC-12_FLAG_W,DELC14,DELC14_FLAG_W,DELC13,DELC13_FLAG_W,TCARBN,TCARBN_FLAG_W,ALKALI,ALKALI_FLAG_W,PH_TOT,PH_TOT_FLAG_W,PH_TMP,CHLORA,CHLORA_FLAG_W,PPHYTN,PPHYTN_FLAG_W,REFTMP,REFTMP_FLAG_W
,,,,,,,,,,,,METERS,DBAR,METERS,ITS-90,PSS-78,,UMOL/KG,,PSS-78,,UMOL/KG,,UMOL/KG,,UMOL/KG,,UMOL/KG,,UMOL/KG,,PMOL/KG,,PMOL/KG,,/MILLE,,/MILLE,,UMOL/KG,,UMOL/KG,,,,DEG C,UG/KG,,UG/KG,,ITS-90,
  49UP20110515,   P13,    97,  1,      0,     BUC,2,20110723,0018,0230, 12.9927, 164.9708, 5217,      0.0,        0,  29.0025,  34.6721,2,    196.5,2,     -999,9,   195.73,2,     1.04,2,     0.04,2,     0.00,2,    0.190,2,     -999,9,     -999,9,-999,9,-999,9,     -999,9,     -999,9,     -999,9,     -999,     0.05,2,     0.01,2,     -999,9
  49UP20110515,   P13,    97,  1,     36,     109,2,20110723,0018,0253, 12.9927, 164.9708, 5217,     10.5,       10,  28.8594,  34.6693,2,    196.7,2,  34.6690,2,   196.41,2,     0.99,2,     0.01,2,     0.00,2,    0.120,2,    1.718,3,    1.020,2,-999,9,-999,9,   1941.7,2,   2277.7,2,   8.1076,2,    25.00,     0.05,2,     0.01,2,  28.8588,2
  49UP20110515,   P13,    97,  1,     35,     108,2,20110723,0018,0248, 12.9927, 164.9708, 5217,     50.1,       50,  28.7539,  34.6677,2,    196.3,2,  34.6675,2,   196.15,6,     1.05,2,     0.00,2,     0.00,2,    0.110,2,    1.748,3,    1.032,2,-999,9,-999,9,   1941.4,2,   2275.6,2,   8.1078,2,    25.00,     0.05,2,     0.01,2,  28.7539,2
  49UP20110515,   P13,    97,  1,     34,     107,2,20110723,0018,0246, 12.9927, 164.9708, 5217,    101.5,      101,  26.8163,  35.1916,2,    207.5,2,  35.1836,4,   207.44,2,     0.97,2,     0.02,2,     0.00,2,    0.060,2,    2.056,3,    1.131,2,-999,9,-999,9,   1972.7,2,   2311.1,2,   8.1044,2,    25.00,     0.14,2,     0.07,2,  26.8157,2
  49UP20110515,   P13,    97,  1,     33,     106,2,20110723,0018,0244, 12.9927, 164.9708, 5217,    126.5,      126,  26.0088,  35.3192,2,    202.5,2,  35.3194,2,   202.79,2,     0.97,2,     0.02,2,     0.00,2,    0.040,2,    2.016,3,    1.140,2,-999,9,-999,9,   1984.6,2,   2317.4,2,   8.0931,2,    25.00,     0.23,2,     0.14,2,  26.0095,2
  49UP20110515,   P13,    97,  1,     32,     105,2,20110723,0018,0243, 12.9927, 164.9708, 5217,    152.3,      151,  23.9223,  35.2783,2,    194.5,2,  35.2778,2,   195.62,2,     1.27,2,     0.10,2,     0.07,2,    0.050,2,    2.031,3,    1.261,2,-999,9,-999,9,   2006.4,2,   2314.6,2,   8.0551,2,    25.00,     0.18,2,     0.31,2,  23.9209,2
  49UP20110515,   P13,    97,  1,     31,     104,2,20110723,0018,0241, 12.9927, 164.9708, 5217,    200.3,      199,  19.6144,  34.9775,2,    178.8,2,  34.9689,4,   180.29,2,     3.16,6,     3.76,6,     0.01,6,    0.370,6,    2.370,3,    1.460,6,-999,9,-999,9,   2062.5,2,   2300.0,2,   7.9342,2,    25.00,     0.04,2,     0.07,2,  19.6107,2
  49UP20110515,   P13,    97,  1,     30,     103,2,20110723,0018,0239, 12.9927, 164.9708, 5217,    252.3,      251,  13.5647,  34.3893,2,    156.0,2,  34.3908,2,   156.38,2,    12.49,2,    13.79,2,     0.00,2,    1.080,2,    2.748,3,    1.637,2,-999,9,-999,9,   2114.3,2,   2268.1,2,   7.7585,6,    25.00,     -999,9,     -999,9,  13.5650,2
  49UP20110515,   P13,    97,  1,     29,     102,2,20110723,0018,0238, 12.9927, 164.9708, 5217,    282.8,      281,  12.1413,  34.3360,2,    133.4,2,  34.3375,2,   133.56,6,    18.53,2,    18.51,2,     0.00,2,    1.420,2,    2.571,3,    1.471,2,-999,9,-999,9,   2143.7,2,   2268.5,2,   7.6894,2,    25.00,     -999,9,     -999,9,  12.1416,2
  49UP20110515,   P13,    97,  1,     28,     101,3,20110723,0018,0236, 12.9927, 164.9708, 5217,    333.5,      331,   9.8927,  34.3532,2,     77.1,2,  34.3525,2,    77.16,2,    32.25,2,    28.03,2,     0.00,2,    2.150,2,    1.699,3,    0.895,2,-999,9,-999,9,   2213.2,6,   2279.6,2,   7.5232,2,    25.00,     -999,9,     -999,9,   9.8934,2
  49UP20110515,   P13,    97,  1,     27,     100,3,20110723,0018,0234, 12.9927, 164.9708, 5217,    373.3,      371,   8.9674,  34.4122,2,     60.9,2,  34.4087,2,    61.10,2,    39.62,2,    31.83,2,     0.00,2,    2.350,2,    1.055,3,    0.547,6,-999,9,-999,9,   2236.9,2,   2291.2,2,   7.4856,2,    25.00,     -999,9,     -999,9,   8.9687,2
  49UP20110515,   P13,    97,  1,     26,      99,3,20110723,0018,0232, 12.9927, 164.9708, 5217,    424.0,      421,   8.4563,  34.4595,2,     51.6,2,  34.4582,2,    51.68,2,    44.12,2,    34.00,2,     0.00,2,    2.490,2,    0.624,3,    0.333,2,-999,9,-999,9,   2252.2,2,   2300.7,2,   7.4653,2,    25.00,     -999,9,     -999,9,   8.4494,2
  49UP20110515,   P13,    97,  1,     25,      98,2,20110723,0018,0229, 12.9927, 164.9708, 5217,    474.1,      471,   7.6431,  34.4923,2,     53.1,2,  34.4915,2,    53.45,2,    50.79,6,    35.90,6,     0.00,6,    2.600,6,    0.311,3,    0.170,2,-999,9,-999,9,   2264.2,2,   2311.7,2,   7.4597,2,    25.00,     -999,9,     -999,9,   7.6441,2
  49UP20110515,   P13,    97,  1,     24,      97,2,20110723,0018,0221, 12.9927, 164.9708, 5217,    576.8,      573,   6.9952,  34.5089,2,     57.1,2,  34.5068,2,    56.77,2,    56.96,2,    37.05,2,     0.00,2,    2.700,2,    0.174,3,    0.094,2,-999,9,-999,9,   2272.8,2,   2318.6,2,   7.4605,2,    25.00,     -999,9,     -999,9,   6.9956,2
  49UP20110515,   P13,    97,  1,     23,      96,2,20110723,0018,0218, 12.9927, 164.9708, 5217,    676.1,      671,   6.1679,  34.5152,2,     63.1,2,  34.5131,2,    63.16,2,    66.07,2,    38.06,2,     0.00,2,    2.740,2,    0.098,3,    0.061,2,-999,9,-999,9,   2281.7,2,   2328.2,2,   7.4619,2,    25.00,     -999,9,     -999,9,   6.1707,2
  49UP20110515,   P13,    97,  1,     22,      95,2,20110723,0018,0215, 12.9927, 164.9708, 5217,    777.8,      772,   5.6716,  34.5238,2,     59.7,2,  34.5238,2,    59.52,2,    74.09,2,    39.39,2,     0.00,2,    2.830,2,    0.061,3,    0.033,2,-999,9,-999,9,   2294.9,2,   2337.0,2,   7.4490,2,    25.00,     -999,9,     -999,9,   5.6720,2
  49UP20110515,   P13,    97,  1,     21,      94,2,20110723,0018,0212, 12.9927, 164.9708, 5217,    876.7,      870,   5.3094,  34.5265,2,     59.9,2,  34.5264,2,    59.75,6,    80.47,2,    39.93,2,     0.00,2,    2.880,2,    0.012,3,    0.018,2,-999,9,-999,9,   2302.4,2,   2342.2,2,   7.4465,2,    25.00,     -999,9,     -999,9,   5.3111,2
  49UP20110515,   P13,    97,  1,     20,      93,2,20110723,0018,0207, 12.9927, 164.9708, 5217,    978.6,      971,   4.8333,  34.5380,2,     57.9,2,  34.5381,6,    57.89,2,    89.34,2,    40.89,2,     0.00,2,    2.940,2,    0.000,3,    0.011,2,-999,9,-999,9,   2314.5,2,   2354.5,2,   7.4363,2,    25.00,     -999,9,     -999,9,   4.8334,2
  49UP20110515,   P13,    97,  1,     19,      92,2,20110723,0018,0201, 12.9927, 164.9708, 5217,   1142.6,     1133,   4.1692,  34.5533,2,     63.5,2,  34.5544,2,    63.35,2,   102.46,2,    41.07,2,     0.00,2,    2.950,2,    0.000,3,    0.010,2,-999,9,-999,9,   2325.7,2,   2367.0,2,   7.4448,2,    25.00,     -999,9,     -999,9,   4.1695,2
  49UP20110515,   P13,    97,  1,     18,      91,2,20110723,0018,0156, 12.9927, 164.9708, 5217,   1343.2,     1331,   3.5042,  34.5712,2,     74.3,2,  34.5707,2,    74.53,2,   116.71,6,    40.70,6,     0.00,6,    2.910,6,    0.000,3,    0.007,2,-999,9,-999,9,   2339.5,2,   2382.9,2,   7.4578,2,    25.00,     -999,9,     -999,9,   3.5051,2
  49UP20110515,   P13,    97,  1,     17,      90,2,20110723,0018,0143, 12.9927, 164.9708, 5217,   1547.4,     1533,   3.0608,  34.5890,2,     82.4,2,  34.5886,2,    82.23,2,   126.16,2,    40.43,2,     0.00,2,    2.870,2,    0.000,3,    0.000,2,-999,9,-999,9,   2343.8,2,   2393.7,2,   7.4707,2,    25.00,     -999,9,     -999,9,   3.0611,2
  49UP20110515,   P13,    97,  1,     16,      89,2,20110723,0018,0138, 12.9927, 164.9708, 5217,   1749.6,     1732,   2.6633,  34.6085,2,     92.8,2,  34.6075,2,    92.83,2,   133.81,2,    39.84,2,     0.00,2,    2.830,2,     -999,9,     -999,9,-999,9,-999,9,   2347.9,2,   2400.9,2,   7.4860,6,    25.00,     -999,9,     -999,9,   2.6629,2
  49UP20110515,   P13,    97,  1,     15,      88,2,20110723,0018,0129, 12.9927, 164.9708, 5217,   1952.5,     1932,   2.3123,  34.6230,2,    100.1,2,  34.6225,2,    99.98,2,   141.66,2,    39.55,2,     0.00,2,    2.790,2,     -999,9,     -999,9,-999,9,-999,9,   2350.0,6,   2408.7,6,   7.4963,2,    25.00,     -999,9,     -999,9,   2.3126,2
  49UP20110515,   P13,    97,  1,     14,      87,2,20110723,0018,0125, 12.9927, 164.9708, 5217,   2156.1,     2133,   2.0968,  34.6365,2,    107.5,2,  34.6371,6,   107.32,2,   145.06,2,    39.01,2,     0.00,2,    2.740,2,     -999,9,     -999,9,-999,9,-999,9,   2348.5,2,   2413.4,2,   7.5115,2,    25.00,     -999,9,     -999,9,   2.0968,2
  49UP20110515,   P13,    97,  1,     13,      86,2,20110723,0018,0120, 12.9927, 164.9708, 5217,   2357.3,     2331,   1.9265,  34.6483,2,    114.4,2,  34.6481,2,   114.24,2,   148.11,2,    38.64,2,     0.00,2,    2.730,2,    0.000,3,    0.001,2,-999,9,-999,9,   2345.8,2,   2418.6,2,   7.5193,2,    25.00,     -999,9,     -999,9,   1.9266,2
  49UP20110515,   P13,    97,  1,     12,      74,2,20110723,0018,0115, 12.9927, 164.9708, 5217,   2561.3,     2531,   1.8070,  34.6571,2,    120.6,2,  34.6568,2,   120.10,2,   149.89,2,    38.31,2,     0.00,2,    2.670,2,     -999,9,     -999,9,-999,9,-999,9,   2344.3,2,   2420.8,2,   7.5343,2,    25.00,     -999,9,     -999,9,   1.8070,2
  49UP20110515,   P13,    97,  1,     11,     110,2,20110723,0018,0111, 12.9927, 164.9708, 5217,   2764.4,     2731,   1.7252,  34.6642,2,    126.2,2,  34.6638,2,   125.93,2,   150.45,2,    37.98,2,     0.00,2,    2.650,2,     -999,9,     -999,9,-999,9,-999,9,   2344.6,2,   2418.8,2,   7.5411,2,    25.00,     -999,9,     -999,9,   1.7248,2
  49UP20110515,   P13,    97,  1,     10,      83,2,20110723,0018,0106, 12.9927, 164.9708, 5217,   2968.2,     2930,   1.6351,  34.6698,2,    131.7,2,  34.6699,2,   131.62,6,   151.21,2,    37.61,2,     0.00,2,    2.620,2,     -999,9,     -999,9,-999,9,-999,9,   2341.5,2,   2419.9,2,   7.5475,2,    25.00,     -999,9,     -999,9,   1.6353,2
  49UP20110515,   P13,    97,  1,      9,      82,2,20110723,0018,0101, 12.9927, 164.9708, 5217,   3213.1,     3170,   1.5694,  34.6750,2,    137.8,2,  34.6754,2,   137.62,2,   150.84,2,    37.14,2,     0.00,2,    2.590,2,     -999,9,     -999,9,-999,9,-999,9,   2337.2,2,   2418.5,2,   7.5586,2,    25.00,     -999,9,     -999,9,   1.5696,2
  49UP20110515,   P13,    97,  1,      8,      81,2,20110723,0018,0056, 12.9927, 164.9708, 5217,   3469.0,     3421,   1.5046,  34.6805,2,    145.4,2,  34.6811,2,   145.28,2,   149.09,6,    36.66,6,     0.00,6,    2.540,6,    0.000,3,    0.006,2,-999,9,-999,9,   2335.5,2,   2418.1,2,   7.5676,2,    25.00,     -999,9,     -999,9,   1.5046,2
  49UP20110515,   P13,    97,  1,      7,      80,2,20110723,0018,0050, 12.9927, 164.9708, 5217,   3723.2,     3670,   1.4617,  34.6847,2,    151.8,2,  34.6838,2,   150.84,2,   147.00,2,    36.35,2,     0.00,2,    2.510,2,     -999,9,     -999,9,-999,9,-999,9,   2329.8,2,   2413.4,2,   7.5762,2,    25.00,     -999,9,     -999,9,   1.4617,2
  49UP20110515,   P13,    97,  1,      6,      79,2,20110723,0018,0045, 12.9927, 164.9708, 5217,   3979.3,     3920,   1.4472,  34.6882,2,    158.5,2,  34.6878,2,   158.31,2,   143.00,2,    35.78,2,     0.00,2,    2.470,2,     -999,9,     -999,9,-999,9,-999,9,   2319.4,2,   2411.4,2,   7.5859,6,    25.00,     -999,9,     -999,9,   1.4472,2
  49UP20110515,   P13,    97,  1,      5,      78,2,20110723,0018,0040, 12.9927, 164.9708, 5217,   4237.2,     4171,   1.4360,  34.6903,2,    161.9,2,  34.6898,2,   161.24,2,   141.83,2,    35.59,2,     0.00,2,    2.460,2,     -999,9,     -999,9,-999,9,-999,9,   2316.1,6,   2408.9,2,   7.5893,2,    25.00,     -999,9,     -999,9,   1.4360,2
  49UP20110515,   P13,    97,  1,      4,      77,2,20110723,0018,0035, 12.9927, 164.9708, 5217,   4492.1,     4420,   1.4346,  34.6924,2,    165.9,2,  34.6922,2,   165.99,2,   139.42,2,    35.26,2,     0.00,2,    2.450,2,     -999,9,     -999,9,-999,9,-999,9,   2312.7,2,   2405.9,2,   7.5938,2,    25.00,     -999,9,     -999,9,   1.4346,2
  49UP20110515,   P13,    97,  1,      3,      76,2,20110723,0018,0030, 12.9927, 164.9708, 5217,   4749.7,     4670,   1.4320,  34.6947,2,    170.3,2,  34.6951,6,   170.14,2,   136.85,2,    34.87,2,     0.00,2,    2.410,2,    0.000,3,    0.000,2,-999,9,-999,9,   2307.0,2,   2404.2,2,   7.5977,2,    25.00,     -999,9,     -999,9,   1.4319,2
  49UP20110515,   P13,    97,  1,      2,      75,2,20110723,0018,0024, 12.9927, 164.9708, 5217,   5005.4,     4919,   1.4299,  34.6970,2,    174.5,2,  34.6966,2,   174.76,2,   133.94,2,    34.58,2,     0.00,2,    2.390,2,     -999,9,     -999,9,-999,9,-999,9,   2302.8,2,   2403.3,2,   7.6028,2,    25.00,     -999,9,     -999,9,   1.4299,2
  49UP20110515,   P13,    97,  1,      1,     112,2,20110723,0018,0019, 12.9927, 164.9708, 5217,   5298.0,     5203,   1.3771,  34.7017,2,    184.6,2,  34.7014,2,   184.27,2,   128.93,2,    33.79,2,     0.00,2,    2.330,2,     -999,9,     -999,9,-999,9,-999,9,   2290.8,2,   2389.6,2,   7.6096,2,    25.00,     -999,9,     -999,9,   1.3772,2