BOTTLE,20240116CCHSIOVAJ
EXPOCODE,SECT_ID,STNNBR,CASTNO,SAMPNO,BTLNBR,BTLNBR_FLAG_W,DATE,TIME,BTL_TIME,LATITUDE,LONGITUDE,DEPTH,CTDPRS,CTDDEPTH,CTDTMP,CTDSAL,CTDSAL_FLAG_W,CTDOXY,CTDOXY_FLAG_W,SALNTY,SALNTY_FLAG_W,OXYGEN,OXYGEN_FLAG_W,SILCAT,SILCAT_FLAG_W,NO2+NO3,NO2+NO3_FLAG_W,NITRIT,NITRIT_FLAG_W,PHSPHT,PHSPHT_FLAG_W,CFC-11,CFC-11_FLAG_W,CFC-12,CFC-12_FLAG_W,DELC14,DELC14_FLAG_W,DELC13,DELC13_FLAG_W,TCARBN,TCARBN_FLAG_W,ALKALI,ALKALI_FLAG_W,PH_TOT,PH_TOT_FLAG_W,PH_TMP,CHLORA,CHLORA_FLAG_W,PPHYTN,PPHYTN_FLAG_W,REFTMP,REFTMP_FLAG_W
,,,,,,,,,,,,METERS,DBAR,METERS,ITS-90,PSS-78,,UMOL/KG,,PSS-78,,UMOL/KG,,UMOL/KG,,UMOL/KG,,UMOL/KG,,UMOL/KG,,PMOL/KG,,PMOL/KG,,/MILLE,,/MILLE,,UMOL/KG,,UMOL/KG,,,,DEG C,UG/KG,,UG/KG,,ITS-90,
  49UP20110515,   P13,    74,  1,      0,     BUC,2,20110715,1806,2005, 27.0085, 165.0117, 5834,      0.0,        0,  29.2417,  35.3746,2,    197.7,2,     -999,9,   194.82,2,     1.21,2,     0.06,2,     0.00,2,    0.030,2,     -999,9,     -999,9,-999,9,-999,9,     -999,9,     -999,9,     -999,9,     -999,     0.12,2,     0.00,2,     -999,9
  49UP20110515,   P13,    74,  1,     36,     109,2,20110715,1806,2024, 27.0085, 165.0117, 5834,     11.1,       11,  28.6077,  35.3562,2,    199.6,2,  35.3593,2,   199.34,2,     1.26,2,     0.03,2,     0.00,2,    0.020,2,    1.760,3,    1.058,2,-999,9,-999,9,   1993.2,2,   2320.3,2,   8.0844,2,    25.00,     0.04,2,     0.01,2,  28.6037,2
  49UP20110515,   P13,    74,  1,     35,     108,2,20110715,1806,2019, 27.0085, 165.0117, 5834,     50.5,       50,  22.7549,  35.1026,2,    234.0,2,  35.1047,2,   233.92,2,     1.69,2,     0.02,2,     0.00,2,    0.010,2,    2.349,3,    1.419,2,-999,9,-999,9,   1997.6,2,   2304.1,2,   8.0540,2,    25.00,     0.08,2,     0.01,2,  22.7592,2
  49UP20110515,   P13,    74,  1,     34,     107,2,20110715,1806,2017, 27.0085, 165.0117, 5834,    102.1,      101,  19.3803,  34.9078,2,    232.4,2,  34.8864,4,   231.55,2,     2.01,6,     0.04,6,     0.00,6,    0.040,6,    2.363,3,    1.467,2,-999,9,-999,9,   2006.0,2,   2296.5,2,   8.0222,2,    25.00,     0.16,2,     0.10,2,  19.3783,2
  49UP20110515,   P13,    74,  1,     33,     106,2,20110715,1806,2016, 27.0085, 165.0117, 5834,    151.6,      151,  17.7823,  34.7078,2,    221.8,2,  34.7081,6,   220.86,2,     2.94,2,     2.31,2,     0.03,2,    0.170,2,    2.427,3,    1.540,2,-999,9,-999,9,   2018.6,2,   2276.5,6,   7.9830,2,    25.00,     0.13,2,     0.20,2,  17.7831,2
  49UP20110515,   P13,    74,  1,     32,     105,2,20110715,1806,2014, 27.0085, 165.0117, 5834,    202.6,      201,  17.1662,  34.6851,2,    224.2,2,  34.6850,2,   223.71,6,     3.60,2,     3.19,2,     0.01,2,    0.230,2,    2.488,3,    1.568,2,-999,9,-999,9,   1914.9,4,   2273.5,2,   7.9690,6,    25.00,     0.02,2,     0.02,2,  17.1668,2
  49UP20110515,   P13,    74,  1,     31,     104,2,20110715,1806,2012, 27.0085, 165.0117, 5834,    252.5,      251,  16.6679,  34.6621,2,    218.7,2,  34.6602,2,   217.92,2,     4.77,2,     4.74,2,     0.01,2,    0.310,2,    2.447,3,    1.579,6,-999,9,-999,9,   2030.4,4,   2273.0,2,   7.9506,2,    25.00,     -999,9,     -999,9,  16.6687,2
  49UP20110515,   P13,    74,  1,     30,     103,2,20110715,1806,2010, 27.0085, 165.0117, 5834,    302.9,      301,  15.5625,  34.5737,2,    202.5,2,  34.5722,2,   202.24,2,     7.14,6,     7.38,6,     0.00,6,    0.500,6,    2.615,3,    1.659,2,-999,9,-999,9,   2057.5,4,   2270.8,2,   7.9030,2,    25.00,     -999,9,     -999,9,  15.5616,2
  49UP20110515,   P13,    74,  1,     29,     102,2,20110715,1806,2008, 27.0085, 165.0117, 5834,    404.5,      401,  12.7166,  34.3957,2,    193.4,2,  34.3956,2,   192.78,2,    15.79,2,    13.09,2,     0.00,2,    0.900,2,    2.777,3,    1.691,2,-999,9,-999,9,   2089.3,4,   2270.1,2,   7.8175,2,    25.00,     -999,9,     -999,9,  12.7165,2
  49UP20110515,   P13,    74,  1,     28,     101,2,20110715,1806,2005, 27.0085, 165.0117, 5834,    505.1,      501,   9.8553,  34.1910,2,    186.7,2,  34.1914,2,   186.25,2,    26.47,2,    18.68,2,     0.00,2,    1.320,2,    2.914,3,    1.733,2,-999,9,-999,9,   2135.7,2,   2270.1,2,   7.7212,2,    25.00,     -999,9,     -999,9,   9.8612,2
  49UP20110515,   P13,    74,  1,     27,     100,2,20110715,1806,2002, 27.0085, 165.0117, 5834,    605.5,      601,   7.5635,  34.0632,2,    155.9,2,  34.0646,2,   154.68,2,    44.05,2,    25.68,2,     0.00,2,    1.830,2,    2.610,3,    1.467,6,-999,9,-999,9,   2189.1,2,   2278.6,2,   7.6000,2,    25.00,     -999,9,     -999,9,   7.5649,2
  49UP20110515,   P13,    74,  1,     26,      99,2,20110715,1806,1959, 27.0085, 165.0117, 5834,    706.2,      700,   5.6657,  34.0492,2,    108.0,2,  34.0484,2,   107.56,2,    69.37,2,    33.42,2,     0.00,2,    2.400,2,    1.868,3,    1.003,2,-999,9,-999,9,   2256.3,2,   2296.8,2,   7.4676,2,    25.00,     -999,9,     -999,9,   5.6664,2
  49UP20110515,   P13,    74,  1,     25,      98,2,20110715,1806,1957, 27.0085, 165.0117, 5834,    808.5,      802,   4.7217,  34.1371,2,     66.5,2,  34.1389,6,    65.43,2,    91.62,2,    38.61,2,     0.00,2,    2.770,2,    0.999,3,    0.508,2,-999,9,-999,9,   2305.1,2,   2320.5,2,   7.4026,2,    25.00,     -999,9,     -999,9,   4.7217,2
  49UP20110515,   P13,    74,  1,     24,      97,2,20110715,1806,1954, 27.0085, 165.0117, 5834,    909.6,      902,   4.1158,  34.2360,2,     43.7,2,  34.2352,2,    49.78,4,   108.17,2,    41.19,2,     0.00,2,    2.960,2,    0.482,3,    0.235,2,-999,9,-999,9,   2336.1,6,   2341.6,6,   7.3552,2,    25.00,     -999,9,     -999,9,   4.1158,2
  49UP20110515,   P13,    74,  1,     23,      96,2,20110715,1806,1951, 27.0085, 165.0117, 5834,   1010.0,     1001,   3.7764,  34.3113,2,     34.7,2,  34.3111,2,    35.16,2,   117.55,6,    42.35,6,     0.00,6,    3.030,6,    0.239,3,    0.119,2,-999,9,-999,9,   2353.0,2,   2354.7,2,   7.3438,2,    25.00,     -999,9,     -999,9,   3.7762,2
  49UP20110515,   P13,    74,  1,     22,      95,2,20110715,1806,1947, 27.0085, 165.0117, 5834,   1212.3,     1201,   3.1947,  34.4341,2,     37.3,2,  34.4346,2,    37.00,2,   133.85,2,    42.96,2,     0.00,2,    3.060,2,    0.059,3,    0.018,2,-999,9,-999,9,   2374.2,2,   2378.3,2,   7.3644,2,    25.00,     -999,9,     -999,9,   3.1948,2
  49UP20110515,   P13,    74,  1,     21,      94,2,20110715,1806,1942, 27.0085, 165.0117, 5834,   1416.4,     1402,   2.7407,  34.5153,2,     53.9,2,  34.5150,2,    53.45,6,   143.19,2,    42.17,2,     0.00,2,    2.980,2,    0.021,3,    0.000,2,-999,9,-999,9,   2370.8,2,   2392.3,2,   7.3990,2,    25.00,     -999,9,     -999,9,   2.7408,2
  49UP20110515,   P13,    74,  1,     20,      93,2,20110715,1806,1938, 27.0085, 165.0117, 5834,   1617.9,     1601,   2.4398,  34.5517,2,     67.3,2,  34.5519,2,    67.23,2,   147.99,2,    41.29,2,     0.00,2,    2.910,2,    0.000,3,    0.000,2,-999,9,-999,9,   2370.8,2,   2399.1,2,   7.4262,2,    25.00,     -999,9,     -999,9,   2.4398,2
  49UP20110515,   P13,    74,  1,     19,      92,2,20110715,1806,1933, 27.0085, 165.0117, 5834,   1822.1,     1802,   2.1242,  34.5828,2,     74.1,2,  34.5779,4,    73.80,2,   154.81,2,    41.04,2,     0.00,2,    2.880,2,    0.065,3,    0.009,2,-999,9,-999,9,   2369.0,2,   2407.3,2,   7.4334,2,    25.00,     -999,9,     -999,9,   2.1244,2
  49UP20110515,   P13,    74,  1,     18,      91,2,20110715,1806,1929, 27.0085, 165.0117, 5834,   2024.3,     2001,   1.9591,  34.6089,2,     90.9,2,  34.6093,6,    90.67,2,   155.07,2,    40.02,2,     0.00,2,    2.800,2,    0.000,3,    0.000,2,-999,9,-999,9,   2358.6,2,   2412.0,2,   7.4696,2,    25.00,     -999,9,     -999,9,   1.9591,2
  49UP20110515,   P13,    74,  1,     17,      90,2,20110715,1806,1925, 27.0085, 165.0117, 5834,   2227.7,     2201,   1.8148,  34.6291,2,    104.1,2,  34.6291,2,   103.53,2,   155.02,2,    39.29,2,     0.00,2,    2.740,2,    0.000,3,    0.000,2,-999,9,-999,9,   2347.5,2,   2414.3,2,   7.4902,2,    25.00,     -999,9,     -999,9,   1.8147,2
  49UP20110515,   P13,    74,  1,     16,      89,2,20110715,1806,1920, 27.0085, 165.0117, 5834,   2432.2,     2402,   1.7497,  34.6413,2,    113.6,2,  34.6416,2,   113.42,2,   153.41,2,    38.67,2,     0.00,2,    2.690,2,    0.000,3,    0.000,2,-999,9,-999,9,   2345.5,2,   2416.3,2,   7.5096,2,    25.00,     -999,9,     -999,9,   1.7500,2
  49UP20110515,   P13,    74,  1,     15,      88,2,20110715,1806,1916, 27.0085, 165.0117, 5834,   2635.1,     2601,   1.6744,  34.6519,2,    121.2,2,  34.6514,2,   120.99,2,   153.12,2,    38.17,2,     0.00,2,    2.660,2,    0.000,3,    0.000,2,-999,9,-999,9,   2346.4,2,   2415.9,2,   7.5228,2,    25.00,     -999,9,     -999,9,   1.6746,2
  49UP20110515,   P13,    74,  1,     14,      87,2,20110715,1806,1911, 27.0085, 165.0117, 5834,   2838.8,     2801,   1.6253,  34.6586,2,    126.4,2,  34.6595,2,   126.22,2,   153.02,2,    37.85,2,     0.00,2,    2.620,2,     -999,9,     -999,9,-999,9,-999,9,   2342.5,2,   2418.7,2,   7.5322,2,    25.00,     -999,9,     -999,9,   1.6252,2
  49UP20110515,   P13,    74,  1,     13,      86,2,20110715,1806,1907, 27.0085, 165.0117, 5834,   3042.7,     3001,   1.5825,  34.6638,2,    131.1,2,  34.6642,2,   130.87,2,   152.42,2,    37.55,2,     0.00,2,    2.600,2,     -999,9,     -999,9,-999,9,-999,9,   2340.1,2,   2418.2,2,   7.5410,2,    25.00,     -999,9,     -999,9,   1.5826,2
  49UP20110515,   P13,    74,  1,     12,      85,3,20110715,1806,1857, 27.0085, 165.0117, 5834,   3554.0,     3501,   1.5045,  34.6761,2,    143.4,2,  34.6766,2,   143.54,6,   150.17,2,    36.71,2,     0.00,2,    2.540,2,     -999,9,     -999,9,-999,9,-999,9,   2333.7,2,   2417.7,2,   7.5623,2,    25.00,     -999,9,     -999,9,   1.5046,2
  49UP20110515,   P13,    74,  1,     11,     110,2,20110715,1806,1851, 27.0085, 165.0117, 5834,   3810.9,     3752,   1.4850,  34.6801,2,    148.1,2,  34.6804,2,   147.85,2,   148.87,2,    36.38,2,     0.00,2,    2.510,2,     -999,9,     -999,9,-999,9,-999,9,   2326.8,6,   2416.5,6,   7.5685,2,    25.00,     -999,9,     -999,9,   1.4849,2
  49UP20110515,   P13,    74,  1,     10,      83,2,20110715,1806,1845, 27.0085, 165.0117, 5834,   4067.4,     4002,   1.4727,  34.6836,2,    152.9,2,  34.6840,2,   152.49,2,   146.88,2,    36.01,2,     0.00,2,    2.490,2,    0.032,3,    0.014,2,-999,9,-999,9,   2325.8,2,   2414.4,2,   7.5767,6,    25.00,     -999,9,     -999,9,   1.4727,2
  49UP20110515,   P13,    74,  1,      9,      82,2,20110715,1806,1840, 27.0085, 165.0117, 5834,   4322.8,     4251,   1.4690,  34.6867,2,    157.0,2,  34.6868,2,   157.25,2,   145.29,2,    35.78,2,     0.00,2,    2.500,2,     -999,9,     -999,9,-999,9,-999,9,   2309.4,3,   2412.5,2,   7.5805,2,    25.00,     -999,9,     -999,9,   1.4692,2
  49UP20110515,   P13,    74,  1,      8,      81,2,20110715,1806,1836, 27.0085, 165.0117, 5834,   4579.0,     4501,   1.4572,  34.6902,2,    163.1,2,  34.6898,2,   162.57,2,   141.45,2,    35.35,2,     0.00,2,    2.460,2,     -999,9,     -999,9,-999,9,-999,9,   2309.6,3,   2408.5,2,   7.5861,2,    25.00,     -999,9,     -999,9,   1.4573,2
  49UP20110515,   P13,    74,  1,      7,      80,2,20110715,1806,1830, 27.0085, 165.0117, 5834,   4835.6,     4750,   1.4562,  34.6928,2,    167.6,2,  34.6916,2,   166.35,3,   139.13,2,    35.08,2,     0.00,2,    2.440,2,     -999,9,     -999,9,-999,9,-999,9,   2310.1,2,   2408.9,2,   7.5886,2,    25.00,     -999,9,     -999,9,   1.4561,2
  49UP20110515,   P13,    74,  1,      6,      79,2,20110715,1806,1825, 27.0085, 165.0117, 5834,   5094.1,     5001,   1.4561,  34.6953,2,    172.0,2,  34.6947,6,   171.96,2,   136.11,6,    34.70,6,     0.00,6,    2.410,6,     -999,9,     -999,9,-999,9,-999,9,   2305.2,2,   2403.6,2,   7.5972,2,    25.00,     -999,9,     -999,9,   1.4563,2
  49UP20110515,   P13,    74,  1,      5,      78,2,20110715,1806,1820, 27.0085, 165.0117, 5834,   5351.3,     5251,   1.4652,  34.6971,2,    175.1,2,  34.6969,2,   175.02,2,   134.15,2,    34.34,2,     0.00,2,    2.400,2,    0.010,3,    0.010,2,-999,9,-999,9,   2303.0,2,   2399.9,2,   7.5999,2,    25.00,     -999,9,     -999,9,   1.4652,2
  49UP20110515,   P13,    74,  1,      4,      77,2,20110715,1806,1815, 27.0085, 165.0117, 5834,   5609.8,     5501,   1.4836,  34.6980,2,    177.1,2,  34.6985,2,   177.02,2,   132.82,2,    34.23,2,     0.00,2,    2.380,2,     -999,9,     -999,9,-999,9,-999,9,   2287.3,3,   2398.3,2,   7.5977,2,    25.00,     -999,9,     -999,9,   1.4836,2
  49UP20110515,   P13,    74,  1,      3,      76,2,20110715,1806,1809, 27.0085, 165.0117, 5834,   5868.5,     5751,   1.5124,  34.6985,2,    177.9,2,  34.6983,2,   177.96,2,   132.49,2,    34.28,2,     0.00,2,    2.390,2,     -999,9,     -999,9,-999,9,-999,9,   2297.6,2,   2395.8,2,   7.5990,2,    25.00,     -999,9,     -999,9,   1.5125,2
  49UP20110515,   P13,    74,  1,      2,      75,2,20110715,1806,1807, 27.0085, 165.0117, 5834,   5938.1,     5819,   1.5212,  34.6986,2,    178.0,2,  34.6989,6,   178.20,2,   132.25,2,    34.24,2,     0.00,2,    2.380,2,     -999,9,     -999,9,-999,9,-999,9,   2299.2,2,   2398.9,2,   7.5995,2,    25.00,     -999,9,     -999,9,   1.5213,2
  49UP20110515,   P13,    74,  1,      1,      74,2,20110715,1806,1807, 27.0085, 165.0117, 5834,   5938.1,     5819,   1.5212,  34.6986,2,    178.0,2,  34.6970,4,   176.34,3,   133.23,3,    34.41,3,     0.00,3,    2.390,3,    0.027,3,    0.003,2,-999,9,-999,9,   2303.0,2,   2397.6,2,   7.6000,2,    25.00,     -999,9,     -999,9,   1.5213,2