BOTTLE,20240116CCHSIOVAJ
EXPOCODE,SECT_ID,STNNBR,CASTNO,SAMPNO,BTLNBR,BTLNBR_FLAG_W,DATE,TIME,BTL_TIME,LATITUDE,LONGITUDE,DEPTH,CTDPRS,CTDDEPTH,CTDTMP,CTDSAL,CTDSAL_FLAG_W,CTDOXY,CTDOXY_FLAG_W,SALNTY,SALNTY_FLAG_W,OXYGEN,OXYGEN_FLAG_W,SILCAT,SILCAT_FLAG_W,NO2+NO3,NO2+NO3_FLAG_W,NITRIT,NITRIT_FLAG_W,PHSPHT,PHSPHT_FLAG_W,CFC-11,CFC-11_FLAG_W,CFC-12,CFC-12_FLAG_W,DELC14,DELC14_FLAG_W,DELC13,DELC13_FLAG_W,TCARBN,TCARBN_FLAG_W,ALKALI,ALKALI_FLAG_W,PH_TOT,PH_TOT_FLAG_W,PH_TMP,CHLORA,CHLORA_FLAG_W,PPHYTN,PPHYTN_FLAG_W,REFTMP,REFTMP_FLAG_W
,,,,,,,,,,,,METERS,DBAR,METERS,ITS-90,PSS-78,,UMOL/KG,,PSS-78,,UMOL/KG,,UMOL/KG,,UMOL/KG,,UMOL/KG,,UMOL/KG,,PMOL/KG,,PMOL/KG,,/MILLE,,/MILLE,,UMOL/KG,,UMOL/KG,,,,DEG C,UG/KG,,UG/KG,,ITS-90,
  49UP20110515,   P13,    64,  1,      0,     BUC,2,20110711,2355,0210, 35.0297, 165.0312, 5922,      0.0,        0,  22.7410,  34.5204,2,    222.7,2,     -999,9,   222.68,2,     2.13,2,     0.05,2,     0.00,2,    0.040,2,     -999,9,     -999,9,-999,9,-999,9,     -999,9,     -999,9,     -999,9,     -999,     0.23,2,     0.03,2,     -999,9
  49UP20110515,   P13,    64,  1,     36,     109,2,20110711,2355,0231, 35.0297, 165.0312, 5922,     10.2,       10,  22.7013,  34.5187,2,    222.4,2,  34.5218,2,   223.98,2,     2.17,2,     0.03,2,     0.00,2,    0.030,2,    2.112,3,    1.361,2,-999,9,-999,9,   1988.8,2,   2270.5,2,   8.0374,4,    25.00,     0.18,2,     0.03,2,  22.7170,2
  49UP20110515,   P13,    64,  1,     35,     108,2,20110711,2355,0227, 35.0297, 165.0312, 5922,     49.1,       49,  16.3679,  34.5673,2,    223.2,2,  34.5706,6,   223.85,2,     6.06,2,     4.52,2,     0.27,2,    0.340,2,    2.461,3,    1.569,2,-999,9,-999,9,   2032.6,2,   2277.2,2,   7.9956,4,    25.00,     0.61,2,     0.19,2,  16.3676,2
  49UP20110515,   P13,    64,  1,     34,     107,2,20110711,2355,0224, 35.0297, 165.0312, 5922,    101.0,      100,  14.1388,  34.5017,2,    224.6,2,  34.5052,2,   224.24,2,    10.60,6,     8.25,6,     0.02,6,    0.580,6,    2.637,3,    1.688,2,-999,9,-999,9,   2059.9,2,   2276.6,2,   7.9096,4,    25.00,     0.04,2,     0.03,2,  14.1403,2
  49UP20110515,   P13,    64,  1,     33,     106,2,20110711,2355,0222, 35.0297, 165.0312, 5922,    151.9,      151,  13.0374,  34.4470,2,    180.5,2,  34.4424,2,   186.28,6,    18.46,2,    13.44,2,     0.01,2,    0.940,2,    2.490,3,    1.560,2,-999,9,-999,9,   2096.3,2,   2279.0,2,   7.8219,2,    25.00,     0.01,2,     0.02,2,  13.0382,2
  49UP20110515,   P13,    64,  1,     32,     105,2,20110711,2355,0220, 35.0297, 165.0312, 5922,    202.3,      201,  11.6577,  34.3105,2,    209.7,2,  34.3123,2,   209.24,2,    18.80,2,    13.41,2,     0.01,2,    0.950,2,    2.748,3,    1.740,2,-999,9,-999,9,   2094.8,6,   2274.0,6,   7.8387,4,    25.00,     0.00,2,     0.03,2,  11.6580,2
  49UP20110515,   P13,    64,  1,     31,     104,2,20110711,2355,0218, 35.0297, 165.0312, 5922,    252.9,      251,  10.2522,  34.1838,2,    208.2,2,  34.1950,4,   209.27,2,    22.98,2,    15.49,2,     0.01,2,    1.100,2,    2.808,3,    1.799,6,-999,9,-999,9,   2109.2,2,   2272.8,2,   7.7733,4,    25.00,     -999,9,     -999,9,  10.2520,2
  49UP20110515,   P13,    64,  1,     30,     103,2,20110711,2355,0216, 35.0297, 165.0312, 5922,    284.6,      282,   9.3420,  34.1104,2,    207.2,2,  34.1146,2,   207.89,2,    27.00,6,    17.57,6,     0.01,6,    1.270,6,    2.957,3,    1.868,2,-999,9,-999,9,   2124.6,2,   2271.1,2,   7.7385,2,    25.00,     -999,9,     -999,9,   9.3406,2
  49UP20110515,   P13,    64,  1,     29,     102,2,20110711,2355,0212, 35.0297, 165.0312, 5922,    375.4,      372,   7.0707,  34.0046,2,    169.1,2,  34.0068,2,   169.31,2,    46.32,2,    25.30,2,     0.01,2,    1.830,2,    2.701,3,    1.669,2,-999,9,-999,9,   2185.4,2,   2280.4,2,   7.6251,4,    25.00,     -999,9,     -999,9,   7.0740,2
  49UP20110515,   P13,    64,  1,     28,     101,2,20110711,2355,0209, 35.0297, 165.0312, 5922,    476.3,      472,   5.2927,  33.9773,2,    128.6,2,  33.9756,2,   129.14,2,    68.92,2,    32.28,2,     0.01,2,    2.340,2,    2.308,3,    1.373,2,-999,9,-999,9,   2235.8,2,   2296.7,2,   7.4998,4,    25.00,     -999,9,     -999,9,   5.2930,2
  49UP20110515,   P13,    64,  1,     27,     100,2,20110711,2355,0205, 35.0297, 165.0312, 5922,    576.8,      572,   4.6502,  34.0760,2,     87.0,2,  34.0723,2,    88.27,6,    87.20,2,    36.75,2,     0.01,2,    2.650,2,    1.583,3,    0.914,6,-999,9,-999,9,   2278.5,2,   2318.1,2,   7.4249,2,    25.00,     -999,9,     -999,9,   4.6490,2
  49UP20110515,   P13,    64,  1,     26,      99,2,20110711,2355,0202, 35.0297, 165.0312, 5922,    679.2,      673,   4.1634,  34.1773,2,     59.0,2,  34.1742,6,    59.66,2,   104.04,2,    39.78,2,     0.00,2,    2.850,2,    0.955,3,    0.530,2,-999,9,-999,9,   2314.0,2,   2332.6,2,   7.3648,4,    25.00,     -999,9,     -999,9,   4.1633,2
  49UP20110515,   P13,    64,  1,     25,      98,2,20110711,2355,0158, 35.0297, 165.0312, 5922,    778.5,      771,   3.7763,  34.2518,2,     45.2,2,  34.2496,2,    45.61,2,   116.57,2,    41.29,2,     0.00,2,    2.950,2,    0.598,3,    0.320,2,-999,9,-999,9,   2336.1,2,   2347.9,2,   7.3571,4,    25.00,     -999,9,     -999,9,   3.7755,2
  49UP20110515,   P13,    64,  1,     24,      97,2,20110711,2355,0154, 35.0297, 165.0312, 5922,    881.9,      874,   3.4626,  34.3100,2,     37.9,2,  34.3097,2,    38.19,2,   126.39,2,    42.20,2,     0.00,2,    3.010,2,    0.351,3,    0.190,2,-999,9,-999,9,   2351.8,6,   2359.7,6,   7.3678,4,    25.00,     -999,9,     -999,9,   3.4627,2
  49UP20110515,   P13,    64,  1,     23,      96,2,20110711,2355,0151, 35.0297, 165.0312, 5922,    981.6,      972,   3.2327,  34.3529,2,     34.8,2,  34.3485,4,    36.47,3,   132.28,2,    42.43,2,     0.00,2,    3.030,2,    0.247,3,    0.133,2,-999,9,-999,9,   2358.1,2,   2365.9,2,   7.3478,2,    25.00,     -999,9,     -999,9,   3.2328,2
  49UP20110515,   P13,    64,  1,     22,      95,2,20110711,2355,0147, 35.0297, 165.0312, 5922,   1143.3,     1132,   2.8704,  34.4170,2,     32.5,2,  34.4170,2,    32.22,2,   144.62,2,    43.25,2,     0.00,2,    3.070,2,    0.092,3,    0.057,2,-999,9,-999,9,   2372.5,2,   2382.9,2,   7.4051,4,    25.00,     -999,9,     -999,9,   2.8704,2
  49UP20110515,   P13,    64,  1,     21,      94,2,20110711,2355,0141, 35.0297, 165.0312, 5922,   1347.1,     1333,   2.5057,  34.4821,2,     36.8,2,  34.4812,2,    37.46,2,   155.15,6,    43.32,6,     0.00,6,    3.070,6,    0.039,3,    0.024,2,-999,9,-999,9,   2382.6,2,   2394.5,2,     -999,5,     -999,     -999,9,     -999,9,   2.5056,2
  49UP20110515,   P13,    64,  1,     20,      93,2,20110711,2355,0135, 35.0297, 165.0312, 5922,   1550.3,     1533,   2.2590,  34.5277,2,     45.5,2,  34.5268,2,    45.34,2,   160.98,2,    42.89,2,     0.00,2,    3.020,2,    0.036,3,    0.015,2,-999,9,-999,9,   2384.6,2,   2401.7,2,   7.4446,4,    25.00,     -999,9,     -999,9,   2.2590,2
  49UP20110515,   P13,    64,  1,     19,      92,2,20110711,2355,0130, 35.0297, 165.0312, 5922,   1752.4,     1732,   2.0594,  34.5649,2,     57.8,2,  34.5624,4,    57.39,6,   164.53,2,    42.18,2,     0.00,2,    2.970,2,    0.000,3,    0.000,2,-999,9,-999,9,   2379.6,2,   2410.5,2,   7.3940,2,    25.00,     -999,9,     -999,9,   2.0592,2
  49UP20110515,   P13,    64,  1,     18,      91,2,20110711,2355,0125, 35.0297, 165.0312, 5922,   1954.6,     1931,   1.9104,  34.5957,2,     72.6,2,  34.5953,2,    72.65,2,   165.79,2,    41.30,2,     0.00,2,    2.900,2,    0.000,3,    0.000,2,-999,9,-999,9,   2373.3,2,   2404.5,3,   7.4291,2,    25.00,     -999,9,     -999,9,   1.9104,2
  49UP20110515,   P13,    64,  1,     17,      90,2,20110711,2355,0121, 35.0297, 165.0312, 5922,   2157.8,     2131,   1.7981,  34.6165,2,     85.7,2,  34.6168,2,    85.50,2,   164.69,2,    40.47,2,     0.00,2,    2.840,2,    0.000,3,    0.000,2,-999,9,-999,9,   2368.2,2,   2413.6,2,   7.4533,2,    25.00,     -999,9,     -999,9,   1.7982,2
  49UP20110515,   P13,    64,  1,     16,      89,2,20110711,2355,0116, 35.0297, 165.0312, 5922,   2360.5,     2330,   1.6969,  34.6352,2,    101.0,2,  34.6353,2,   100.86,2,   162.03,2,    39.51,2,     0.00,2,    2.760,2,    0.000,3,    0.000,2,-999,9,-999,9,   2357.2,2,   2416.0,2,   7.4827,2,    25.00,     -999,9,     -999,9,   1.6968,2
  49UP20110515,   P13,    64,  1,     15,      88,2,20110711,2355,0111, 35.0297, 165.0312, 5922,   2564.6,     2531,   1.6287,  34.6464,2,    110.7,2,  34.6468,6,   111.91,2,   160.79,2,    38.89,2,     0.00,2,    2.710,2,    0.016,3,    0.013,2,-999,9,-999,9,   2359.7,2,   2417.4,2,   7.5032,2,    25.00,     -999,9,     -999,9,   1.6286,2
  49UP20110515,   P13,    64,  1,     14,      87,2,20110711,2355,0106, 35.0297, 165.0312, 5922,   2767.6,     2730,   1.5710,  34.6570,2,    121.2,2,  34.6574,2,   121.54,2,   158.34,2,    38.22,2,     0.00,2,    2.660,2,     -999,9,     -999,9,-999,9,-999,9,   2346.2,2,   2417.1,2,   7.5212,2,    25.00,     -999,9,     -999,9,   1.5710,2
  49UP20110515,   P13,    64,  1,     13,      86,2,20110711,2355,0101, 35.0297, 165.0312, 5922,   2972.8,     2931,   1.5314,  34.6640,2,    128.3,2,  34.6644,2,   128.25,2,   156.58,2,    37.73,2,     0.00,2,    2.620,2,     -999,9,     -999,9,-999,9,-999,9,   2346.4,2,   2418.8,2,   7.5323,2,    25.00,     -999,9,     -999,9,   1.5313,2
  49UP20110515,   P13,    64,  1,     12,      85,2,20110711,2355,0056, 35.0297, 165.0312, 5922,   3217.1,     3170,   1.4989,  34.6706,2,    135.7,2,  34.6713,2,   136.04,2,   155.01,2,    37.29,2,     0.00,2,    2.590,2,     -999,9,     -999,9,-999,9,-999,9,   2343.9,2,   2417.8,2,   7.5475,2,    25.00,     -999,9,     -999,9,   1.4988,2
  49UP20110515,   P13,    64,  1,     11,     110,2,20110711,2355,0050, 35.0297, 165.0312, 5922,   3473.8,     3421,   1.4806,  34.6757,2,    141.4,2,  34.6758,2,   141.38,2,   152.86,2,    36.83,2,     0.00,2,    2.560,2,    0.000,3,    0.001,2,-999,9,-999,9,   2333.6,2,   2415.1,2,   7.5508,2,    25.00,     -999,9,     -999,9,   1.4807,2
  49UP20110515,   P13,    64,  1,     10,      83,2,20110711,2355,0045, 35.0297, 165.0312, 5922,   3728.5,     3669,   1.4684,  34.6796,2,    146.3,2,  34.6803,2,   146.41,2,   151.61,2,    36.60,2,     0.00,2,    2.530,2,     -999,9,     -999,9,-999,9,-999,9,   2333.8,2,   2415.2,2,   7.5692,2,    25.00,     -999,9,     -999,9,   1.4684,2
  49UP20110515,   P13,    64,  1,      9,      82,2,20110711,2355,0040, 35.0297, 165.0312, 5922,   3984.4,     3919,   1.4614,  34.6830,2,    150.9,2,  34.6827,2,   150.73,2,   149.80,2,    36.22,2,     0.00,2,    2.500,2,     -999,9,     -999,9,-999,9,-999,9,   2330.0,6,   2414.7,6,   7.5715,2,    25.00,     -999,9,     -999,9,   1.4613,2
  49UP20110515,   P13,    64,  1,      8,      81,2,20110711,2355,0034, 35.0297, 165.0312, 5922,   4242.0,     4170,   1.4608,  34.6859,2,    154.5,2,  34.6856,2,   154.29,6,   148.56,2,    35.99,2,     0.00,2,    2.490,2,     -999,9,     -999,9,-999,9,-999,9,   2325.3,2,   2415.0,2,   7.5758,2,    25.00,     -999,9,     -999,9,   1.4608,2
  49UP20110515,   P13,    64,  1,      7,      80,2,20110711,2355,0029, 35.0297, 165.0312, 5922,   4499.4,     4420,   1.4668,  34.6883,2,    157.7,2,  34.6877,2,   157.46,2,   147.77,2,    35.76,2,     0.00,2,    2.470,2,    0.000,3,    0.000,2,-999,9,-999,9,   2319.5,2,   2415.2,2,   7.5800,2,    25.00,     -999,9,     -999,9,   1.4669,2
  49UP20110515,   P13,    64,  1,      6,      79,2,20110711,2355,0023, 35.0297, 165.0312, 5922,   4756.1,     4670,   1.4750,  34.6902,2,    161.3,2,  34.6913,2,   161.31,2,   145.59,2,    35.52,2,     0.00,2,    2.450,2,     -999,9,     -999,9,-999,9,-999,9,   2316.2,2,   2412.8,2,   7.5872,2,    25.00,     -999,9,     -999,9,   1.4749,2
  49UP20110515,   P13,    64,  1,      5,      78,2,20110711,2355,0018, 35.0297, 165.0312, 5922,   5013.9,     4920,   1.4812,  34.6924,2,    166.1,2,  34.6927,2,   165.77,2,   140.95,2,    35.16,2,     0.00,2,    2.430,2,     -999,9,     -999,9,-999,9,-999,9,   2312.2,2,   2409.2,2,   7.5839,2,    25.00,     -999,9,     -999,9,   1.4811,2
  49UP20110515,   P13,    64,  1,      4,      77,2,20110711,2355,0013, 35.0297, 165.0312, 5922,   5271.6,     5170,   1.4959,  34.6940,2,    169.1,2,  34.6938,2,   168.84,2,   138.32,2,    34.92,2,     0.00,2,    2.410,2,     -999,9,     -999,9,-999,9,-999,9,   2308.5,2,   2404.5,2,   7.5888,2,    25.00,     -999,9,     -999,9,   1.4958,2
  49UP20110515,   P13,    64,  1,      3,      76,2,20110711,2355,0007, 35.0297, 165.0312, 5922,   5529.2,     5419,   1.5131,  34.6951,2,    171.3,2,  34.6950,2,   170.84,2,   137.05,2,    34.77,2,     0.00,2,    2.400,2,    0.000,3,    0.000,2,-999,9,-999,9,   2304.5,2,   2404.8,2,   7.5969,2,    25.00,     -999,9,     -999,9,   1.5130,2
  49UP20110515,   P13,    64,  1,      2,      75,2,20110711,2355,0001, 35.0297, 165.0312, 5922,   5788.7,     5671,   1.5362,  34.6963,2,    172.8,2,  34.6977,4,   173.52,4,   135.78,6,    34.67,6,     0.00,6,    2.390,6,     -999,9,     -999,9,-999,9,-999,9,   2304.5,2,   2403.4,2,   7.5984,2,    25.00,     -999,9,     -999,9,   1.5362,2
  49UP20110515,   P13,    64,  1,      1,      74,2,20110711,2355,2356, 35.0297, 165.0312, 5922,   6015.5,     5890,   1.5605,  34.6967,2,    173.6,2,  34.6963,2,   173.46,2,   135.55,2,    34.65,2,     0.00,2,    2.400,2,     -999,9,     -999,9,-999,9,-999,9,   2305.5,2,   2403.4,2,   7.5974,2,    25.00,     -999,9,     -999,9,   1.5605,2