BOTTLE,20240116CCHSIOVAJ
EXPOCODE,SECT_ID,STNNBR,CASTNO,SAMPNO,BTLNBR,BTLNBR_FLAG_W,DATE,TIME,BTL_TIME,LATITUDE,LONGITUDE,DEPTH,CTDPRS,CTDDEPTH,CTDTMP,CTDSAL,CTDSAL_FLAG_W,CTDOXY,CTDOXY_FLAG_W,SALNTY,SALNTY_FLAG_W,OXYGEN,OXYGEN_FLAG_W,SILCAT,SILCAT_FLAG_W,NO2+NO3,NO2+NO3_FLAG_W,NITRIT,NITRIT_FLAG_W,PHSPHT,PHSPHT_FLAG_W,CFC-11,CFC-11_FLAG_W,CFC-12,CFC-12_FLAG_W,DELC14,DELC14_FLAG_W,DELC13,DELC13_FLAG_W,TCARBN,TCARBN_FLAG_W,ALKALI,ALKALI_FLAG_W,PH_TOT,PH_TOT_FLAG_W,PH_TMP,CHLORA,CHLORA_FLAG_W,PPHYTN,PPHYTN_FLAG_W,REFTMP,REFTMP_FLAG_W
,,,,,,,,,,,,METERS,DBAR,METERS,ITS-90,PSS-78,,UMOL/KG,,PSS-78,,UMOL/KG,,UMOL/KG,,UMOL/KG,,UMOL/KG,,UMOL/KG,,PMOL/KG,,PMOL/KG,,/MILLE,,/MILLE,,UMOL/KG,,UMOL/KG,,,,DEG C,UG/KG,,UG/KG,,ITS-90,
  49UP20110515,   P13,    79,  1,      0,     BUC,2,20110717,2121,2320, 21.9788, 165.0207, 5488,      0.0,        0,  29.2396,  35.1853,2,    197.6,2,     -999,9,   196.49,2,     0.83,2,     0.03,2,     0.00,2,    0.050,2,     -999,9,     -999,9,-999,9,-999,9,     -999,9,     -999,9,     -999,9,     -999,     0.07,2,     0.01,2,     -999,9
  49UP20110515,   P13,    79,  1,     36,     109,2,20110717,2121,2335, 21.9788, 165.0207, 5488,     10.4,       10,  29.1098,  35.1817,2,    197.9,2,  35.1811,2,   197.44,2,     0.81,2,     0.02,2,     0.00,2,    0.020,2,    1.711,3,    1.043,2,-999,9,-999,9,   1964.0,2,   2311.4,3,   8.1189,2,    25.00,     0.07,2,     0.01,2,  29.1108,2
  49UP20110515,   P13,    79,  1,     35,     108,2,20110717,2121,2330, 21.9788, 165.0207, 5488,     49.9,       50,  26.2692,  35.3490,2,    218.1,2,  35.3622,4,   219.19,2,     0.84,2,     0.04,2,     0.00,2,    0.010,2,    2.138,3,    1.186,2,-999,9,-999,9,   1986.4,2,   2322.5,3,   8.0943,2,    25.00,     0.07,2,     0.02,2,  26.2793,2
  49UP20110515,   P13,    79,  1,     34,     107,2,20110717,2121,2329, 21.9788, 165.0207, 5488,    100.1,       99,  22.0634,  35.2273,2,    207.2,2,  35.2270,2,   207.20,2,     1.53,6,     0.01,6,     0.00,6,    0.040,6,    2.180,3,    1.350,2,-999,9,-999,9,   2017.9,2,   2317.6,3,   8.0314,2,    25.00,     0.14,2,     0.12,2,  22.0653,2
  49UP20110515,   P13,    79,  1,     33,     106,2,20110717,2121,2327, 21.9788, 165.0207, 5488,    150.3,      149,  19.1121,  34.8554,2,    215.9,2,  34.8556,2,   216.98,2,     1.95,2,     0.92,2,     0.09,2,    0.090,2,    2.357,3,    1.491,2,-999,9,-999,9,   2014.8,2,   2287.7,3,   8.0039,2,    25.00,     0.09,2,     0.14,2,  19.1025,2
  49UP20110515,   P13,    79,  1,     32,     105,2,20110717,2121,2325, 21.9788, 165.0207, 5488,    205.2,      204,  17.5413,  34.6918,2,    215.2,2,  34.6923,2,   215.38,6,     3.35,2,     3.32,2,     0.01,2,    0.230,2,    2.449,3,    1.545,2,-999,9,-999,9,   2022.0,6,   2277.9,3,   7.9674,2,    25.00,     0.01,2,     0.02,2,  17.5428,2
  49UP20110515,   P13,    79,  1,     31,     104,2,20110717,2121,2322, 21.9788, 165.0207, 5488,    253.4,      252,  16.5952,  34.6443,2,    201.9,2,  34.6463,6,   201.44,2,     5.15,2,     5.85,2,     0.01,2,    0.400,2,    2.541,3,    1.604,6,-999,9,-999,9,   2043.5,2,   2274.9,3,   7.9255,6,    25.00,     -999,9,     -999,9,  16.5931,2
  49UP20110515,   P13,    79,  1,     30,     103,2,20110717,2121,2319, 21.9788, 165.0207, 5488,    372.6,      370,  12.9615,  34.4175,2,    192.3,2,  34.4183,2,   191.76,2,    15.33,6,    12.76,6,     0.00,6,    0.870,6,    2.764,3,    1.680,2,-999,9,-999,9,   2091.8,2,   2276.4,3,   7.8234,2,    25.00,     -999,9,     -999,9,  12.9592,2
  49UP20110515,   P13,    79,  1,     28,     101,2,20110717,2121,2314, 21.9788, 165.0207, 5488,    474.0,      471,   9.5120,  34.1651,2,    172.8,2,  34.1663,2,   172.58,2,    27.79,2,    20.32,2,     0.00,2,    1.430,2,    2.859,3,    1.636,2,-999,9,-999,9,   2142.5,2,   2270.9,3,   7.6829,3,    25.00,     -999,9,     -999,9,   9.5124,2
  49UP20110515,   P13,    79,  1,     29,     102,2,20110717,2121,2314, 21.9788, 165.0207, 5488,    474.7,      471,   9.5090,  34.1650,2,    172.9,2,  34.1655,2,   172.41,2,    27.87,2,    20.27,2,     0.00,2,    1.430,2,    2.898,3,    1.617,2,-999,9,-999,9,   2144.0,2,   2271.4,3,   7.6885,2,    25.00,     -999,9,     -999,9,     -999,5
  49UP20110515,   P13,    79,  1,     27,     100,2,20110717,2121,2312, 21.9788, 165.0207, 5488,    577.1,      573,   7.0835,  34.0669,2,    131.4,2,  34.0665,2,   131.11,2,    50.21,2,    28.73,2,     0.00,2,    2.040,2,    2.265,3,    0.854,6,-999,9,-999,9,   2206.9,2,   2285.9,3,   7.5584,2,    25.00,     -999,9,     -999,9,   7.0798,2
  49UP20110515,   P13,    79,  1,     26,      99,2,20110717,2121,2309, 21.9788, 165.0207, 5488,    676.2,      671,   5.9936,  34.1354,2,     78.7,2,  34.1354,2,    77.97,2,    69.02,2,    35.22,2,     0.00,2,    2.530,2,    1.124,3,    0.581,2,-999,9,-999,9,   2263.3,2,   2306.6,3,   7.4350,2,    25.00,     -999,9,     -999,9,   5.9936,2
  49UP20110515,   P13,    79,  1,     25,      98,2,20110717,2121,2306, 21.9788, 165.0207, 5488,    778.6,      772,   4.9600,  34.2345,2,     50.8,2,  34.2342,2,    50.70,2,    89.66,2,    39.57,2,     0.00,2,    2.850,2,    0.431,3,    0.215,2,-999,9,-999,9,   2305.5,6,   2328.7,3,   7.3831,2,    25.00,     -999,9,     -999,9,   4.9593,2
  49UP20110515,   P13,    79,  1,     24,      97,2,20110717,2121,2303, 21.9788, 165.0207, 5488,    878.4,      871,   4.4322,  34.3428,2,     44.9,2,  34.3405,2,    45.35,2,   102.03,6,    41.00,6,     0.00,6,    2.950,6,    0.139,3,    0.075,2,-999,9,-999,9,   2328.9,2,   2336.8,3,   7.3828,6,    25.00,     -999,9,     -999,9,   4.4313,2
  49UP20110515,   P13,    79,  1,     23,      96,3,20110717,2121,2300, 21.9788, 165.0207, 5488,    979.7,      971,   4.0257,  34.4195,2,     50.6,2,  34.4195,2,    51.34,2,   110.12,2,    40.95,2,     0.00,2,    2.930,2,    0.063,3,    0.043,2,-999,9,-999,9,   2333.3,2,   2348.6,3,   7.4040,2,    25.00,     -999,9,     -999,9,   4.0263,2
  49UP20110515,   P13,    79,  1,     22,      95,2,20110717,2121,2256, 21.9788, 165.0207, 5488,   1142.0,     1132,   3.4474,  34.4862,2,     61.4,2,  34.4861,2,    61.35,2,   122.81,2,    40.91,2,     0.00,2,    2.910,2,    0.043,3,    0.019,2,-999,9,-999,9,   2342.4,2,   2369.3,3,   7.4221,2,    25.00,     -999,9,     -999,9,   3.4470,2
  49UP20110515,   P13,    79,  1,     21,      94,2,20110717,2121,2250, 21.9788, 165.0207, 5488,   1346.0,     1333,   2.9101,  34.5374,2,     73.8,2,  34.5386,2,    74.02,2,   133.49,2,    40.50,2,     0.00,2,    2.860,2,    0.000,3,    0.000,2,-999,9,-999,9,   2348.6,2,   2383.7,3,   7.4405,2,    25.00,     -999,9,     -999,9,   2.9097,2
  49UP20110515,   P13,    79,  1,     20,      93,2,20110717,2121,2245, 21.9788, 165.0207, 5488,   1548.5,     1533,   2.5140,  34.5707,2,     83.4,2,  34.5709,2,    83.42,2,   140.68,2,    40.04,2,     0.00,2,    2.810,2,    0.000,3,    0.003,2,-999,9,-999,9,   2353.9,2,   2392.0,3,   7.4549,2,    25.00,     -999,9,     -999,9,   2.5142,2
  49UP20110515,   P13,    79,  1,     19,      92,2,20110717,2121,2240, 21.9788, 165.0207, 5488,   1751.2,     1733,   2.2404,  34.5966,2,     93.0,2,  34.5949,2,    92.50,2,   144.95,2,    39.66,2,     0.00,2,    2.770,2,    0.000,3,    0.012,2,-999,9,-999,9,   2360.6,3,   2398.3,3,   7.4738,2,    25.00,     -999,9,     -999,9,   2.2405,2
  49UP20110515,   P13,    79,  1,     18,      91,2,20110717,2121,2235, 21.9788, 165.0207, 5488,   1954.6,     1933,   2.0521,  34.6189,2,    102.3,2,  34.6198,2,   102.49,2,   147.88,2,    39.23,2,     0.00,2,    2.730,2,    0.000,3,    0.000,2,-999,9,-999,9,   2350.1,2,   2405.8,3,   7.4951,2,    25.00,     -999,9,     -999,9,   2.0520,2
  49UP20110515,   P13,    79,  1,     17,      90,2,20110717,2121,2230, 21.9788, 165.0207, 5488,   2157.5,     2133,   1.9013,  34.6331,2,    109.6,2,  34.6330,2,   109.43,2,   150.19,2,    38.88,2,     0.00,2,    2.700,2,    0.000,3,    0.005,2,-999,9,-999,9,   2348.0,2,   2406.0,3,   7.5042,2,    25.00,     -999,9,     -999,9,   1.9013,2
  49UP20110515,   P13,    79,  1,     16,      89,2,20110717,2121,2225, 21.9788, 165.0207, 5488,   2360.5,     2333,   1.7926,  34.6434,2,    115.6,2,  34.6447,2,   115.76,2,   151.55,2,    38.46,2,     0.00,2,    2.670,2,     -999,9,     -999,9,-999,9,-999,9,   2346.7,2,   2410.3,3,   7.5140,2,    25.00,     -999,9,     -999,9,   1.7925,2
  49UP20110515,   P13,    79,  1,     15,      88,2,20110717,2121,2221, 21.9788, 165.0207, 5488,   2563.9,     2532,   1.7062,  34.6531,2,    121.4,2,  34.6536,6,   121.38,6,   152.55,2,    38.12,2,     0.00,2,    2.640,2,     -999,9,     -999,9,-999,9,-999,9,   2343.4,2,   2412.6,3,   7.5225,2,    25.00,     -999,9,     -999,9,   1.7061,2
  49UP20110515,   P13,    79,  1,     14,      87,2,20110717,2121,2216, 21.9788, 165.0207, 5488,   2767.6,     2732,   1.6444,  34.6601,2,    127.0,2,  34.6602,2,   127.23,2,   152.47,2,    37.66,2,     0.00,2,    2.600,2,     -999,9,     -999,9,-999,9,-999,9,   2339.5,2,   2412.7,3,   7.5423,3,    25.00,     -999,9,     -999,9,   1.6443,2
  49UP20110515,   P13,    79,  1,     13,      86,2,20110717,2121,2211, 21.9788, 165.0207, 5488,   2971.1,     2932,   1.5930,  34.6662,2,    132.2,2,  34.6670,2,   132.46,2,   151.69,2,    37.44,2,     0.00,2,    2.570,2,    0.000,3,    0.000,2,-999,9,-999,9,   2340.3,2,   2414.2,3,   7.5431,2,    25.00,     -999,9,     -999,9,   1.5931,2
  49UP20110515,   P13,    79,  1,     12,      85,2,20110717,2121,2206, 21.9788, 165.0207, 5488,   3215.4,     3171,   1.5481,  34.6714,2,    137.8,2,  34.6715,2,   137.98,2,   150.86,2,    37.05,2,     0.00,2,    2.540,2,     -999,9,     -999,9,-999,9,-999,9,   2335.1,2,   2413.1,3,   7.5514,2,    25.00,     -999,9,     -999,9,   1.5479,2
  49UP20110515,   P13,    79,  1,     11,     110,2,20110717,2121,2201, 21.9788, 165.0207, 5488,   3472.5,     3423,   1.5188,  34.6760,2,    142.8,2,  34.6756,2,   142.80,2,   149.89,6,    36.68,6,     0.00,6,    2.520,6,     -999,9,     -999,9,-999,9,-999,9,   2333.3,6,   2413.3,3,   7.5609,2,    25.00,     -999,9,     -999,9,   1.5192,2
  49UP20110515,   P13,    79,  1,     10,      83,2,20110717,2121,2155, 21.9788, 165.0207, 5488,   3728.2,     3673,   1.4955,  34.6799,2,    147.7,2,  34.6843,4,   147.46,6,   145.77,2,    35.93,2,     0.00,2,    2.460,2,     -999,9,     -999,9,-999,9,-999,9,   2331.1,2,   2411.2,3,   7.5679,6,    25.00,     -999,9,     -999,9,   1.4954,2
  49UP20110515,   P13,    79,  1,      9,      82,2,20110717,2121,2149, 21.9788, 165.0207, 5488,   3983.0,     3921,   1.4728,  34.6834,2,    153.0,2,  34.6849,4,   153.19,2,   146.09,2,    35.97,2,     0.00,2,    2.460,2,     -999,9,     -999,9,-999,9,-999,9,   2325.6,2,   2410.1,3,   7.5756,2,    25.00,     -999,9,     -999,9,   1.4727,2
  49UP20110515,   P13,    79,  1,      8,      81,2,20110717,2121,2143, 21.9788, 165.0207, 5488,   4238.4,     4170,   1.4594,  34.6871,2,    158.0,2,  34.6873,6,   157.83,2,   143.96,2,    35.60,2,     0.00,2,    2.430,2,    0.000,3,    0.000,2,-999,9,-999,9,   2321.1,2,   2409.5,3,   7.5791,2,    25.00,     -999,9,     -999,9,   1.4595,2
  49UP20110515,   P13,    79,  1,      7,      80,2,20110717,2121,2138, 21.9788, 165.0207, 5488,   4496.8,     4422,   1.4479,  34.6903,2,    163.3,2,  34.6893,2,   162.49,2,   141.53,2,    35.32,2,     0.00,2,    2.410,2,     -999,9,     -999,9,-999,9,-999,9,   2314.6,2,   2406.3,3,   7.5865,2,    25.00,     -999,9,     -999,9,   1.4480,2
  49UP20110515,   P13,    79,  1,      6,      79,2,20110717,2121,2132, 21.9788, 165.0207, 5488,   4751.9,     4670,   1.4447,  34.6930,2,    167.9,2,  34.6933,2,   167.94,2,   138.45,2,    34.95,2,     0.00,2,    2.390,2,     -999,9,     -999,9,-999,9,-999,9,   2313.0,2,   2401.9,3,   7.5954,3,    25.00,     -999,9,     -999,9,   1.4448,2
  49UP20110515,   P13,    79,  1,      5,      78,2,20110717,2121,2127, 21.9788, 165.0207, 5488,   5009.7,     4921,   1.4485,  34.6952,2,    171.6,2,  34.6955,2,   171.77,6,   136.04,2,    34.69,2,     0.00,2,    2.370,2,     -999,9,     -999,9,-999,9,-999,9,   2307.8,2,   2401.0,3,   7.5918,2,    25.00,     -999,9,     -999,9,   1.4485,2
  49UP20110515,   P13,    79,  1,      4,      77,2,20110717,2121,2122, 21.9788, 165.0207, 5488,   5205.5,     5111,   1.4457,  34.6969,2,    175.3,2,  34.6963,2,   175.66,2,   133.90,2,    34.43,2,     0.00,2,    2.350,2,     -999,9,     -999,9,-999,9,-999,9,   2304.1,2,   2397.8,3,   7.5970,2,    25.00,     -999,9,     -999,9,   1.4456,2
  49UP20110515,   P13,    79,  1,      3,      76,2,20110717,2121,2121, 21.9788, 165.0207, 5488,   5206.1,     5112,   1.4452,  34.6969,2,    175.4,2,  34.6963,2,   175.25,2,   133.58,2,    34.44,2,     0.00,2,    2.350,2,    0.000,3,    0.007,2,-999,9,-999,9,   2303.4,2,   2398.6,3,   7.5962,2,    25.00,     -999,9,     -999,9,   1.4449,2
  49UP20110515,   P13,    79,  1,      1,     112,2,20110717,2121,2121, 21.9788, 165.0207, 5488,   5206.8,     5112,   1.4446,  34.6970,2,    175.5,2,  34.6969,2,   175.41,2,   133.85,2,    34.44,2,     0.00,2,    2.360,2,     -999,9,     -999,9,-999,9,-999,9,   2302.3,2,   2400.5,3,   7.5957,2,    25.00,     -999,9,     -999,9,   1.4445,2
  49UP20110515,   P13,    79,  1,      2,      75,2,20110717,2121,2121, 21.9788, 165.0207, 5488,   5207.3,     5113,   1.4449,  34.6970,2,    175.5,2,  34.6977,2,   175.33,2,   133.74,2,    34.40,2,     0.00,2,    2.350,2,     -999,9,     -999,9,-999,9,-999,9,   2304.1,2,   2397.8,3,   7.5981,2,    25.00,     -999,9,     -999,9,   1.4448,2