BOTTLE,20240116CCHSIOVAJ
EXPOCODE,SECT_ID,STNNBR,CASTNO,SAMPNO,BTLNBR,BTLNBR_FLAG_W,DATE,TIME,BTL_TIME,LATITUDE,LONGITUDE,DEPTH,CTDPRS,CTDDEPTH,CTDTMP,CTDSAL,CTDSAL_FLAG_W,CTDOXY,CTDOXY_FLAG_W,SALNTY,SALNTY_FLAG_W,OXYGEN,OXYGEN_FLAG_W,SILCAT,SILCAT_FLAG_W,NO2+NO3,NO2+NO3_FLAG_W,NITRIT,NITRIT_FLAG_W,PHSPHT,PHSPHT_FLAG_W,CFC-11,CFC-11_FLAG_W,CFC-12,CFC-12_FLAG_W,DELC14,DELC14_FLAG_W,DELC13,DELC13_FLAG_W,TCARBN,TCARBN_FLAG_W,ALKALI,ALKALI_FLAG_W,PH_TOT,PH_TOT_FLAG_W,PH_TMP,CHLORA,CHLORA_FLAG_W,PPHYTN,PPHYTN_FLAG_W,REFTMP,REFTMP_FLAG_W
,,,,,,,,,,,,METERS,DBAR,METERS,ITS-90,PSS-78,,UMOL/KG,,PSS-78,,UMOL/KG,,UMOL/KG,,UMOL/KG,,UMOL/KG,,UMOL/KG,,PMOL/KG,,PMOL/KG,,/MILLE,,/MILLE,,UMOL/KG,,UMOL/KG,,,,DEG C,UG/KG,,UG/KG,,ITS-90,
  49UP20110515,   P13,    91,  1,      0,     BUC,2,20110721,0045,0255, 15.9902, 164.9950, 5396,      0.0,        0,  28.9073,  34.9293,2,    197.8,2,     -999,9,   196.13,2,     0.96,2,     0.10,2,     0.00,2,    0.090,2,     -999,9,     -999,9,-999,9,-999,9,     -999,9,     -999,9,     -999,9,     -999,     0.06,2,     0.02,2,     -999,9
  49UP20110515,   P13,    91,  1,     36,     109,2,20110721,0045,0318, 15.9902, 164.9950, 5396,     11.3,       11,  28.9081,  34.9299,2,    197.4,2,  34.9290,2,   197.33,2,     0.83,2,     0.00,2,     0.00,2,    0.080,2,    1.665,3,    1.003,2,47.6,2,1.0,2,   1955.7,2,   2297.4,3,   8.1139,2,    25.00,     0.07,2,     0.01,2,  28.9071,2
  49UP20110515,   P13,    91,  1,     35,     108,2,20110721,0045,0316, 15.9902, 164.9950, 5396,     51.0,       51,  28.8473,  34.9390,2,    197.6,2,  34.9386,2,   197.57,2,     0.92,2,     0.00,2,     0.00,2,    0.070,2,     -999,5,     -999,5,47.8,2,1.1,2,   1956.4,6,   2296.0,6,   8.1148,2,    25.00,     0.07,2,     0.02,2,  28.8477,2
  49UP20110515,   P13,    91,  1,     34,     107,2,20110721,0045,0313, 15.9902, 164.9950, 5396,    101.3,      101,  26.3844,  35.2232,2,    209.4,2,  35.2264,2,   209.44,2,     1.01,6,     0.00,6,     0.00,6,    0.060,6,    2.022,3,    1.140,2,57.4,2,1.0,2,   1984.0,2,   2317.8,2,   8.0942,6,    25.00,     0.18,2,     0.07,2,  26.3830,2
  49UP20110515,   P13,    91,  1,     33,     106,2,20110721,0045,0312, 15.9902, 164.9950, 5396,    149.8,      149,  23.6781,  35.2820,2,    195.2,2,  35.2855,2,   196.10,2,     1.31,2,     0.02,2,     0.03,2,    0.100,2,    2.033,3,    1.262,2,49.2,2,0.8,2,   2023.4,2,   2320.5,2,   8.0388,2,    25.00,     0.20,2,     0.27,2,  23.6830,2
  49UP20110515,   P13,    91,  1,     32,     105,2,20110721,0045,0307, 15.9902, 164.9950, 5396,    199.8,      199,  18.3582,  34.8046,2,    191.9,2,  34.8049,2,   192.76,2,     3.47,2,     3.80,2,     0.01,2,    0.300,2,    2.409,3,    1.495,2,58.3,2,0.5,2,   2044.2,2,   2285.7,2,   7.9457,2,    25.00,     0.01,2,     0.03,2,  18.3212,2
  49UP20110515,   P13,    91,  1,     31,     104,2,20110721,0045,0305, 15.9902, 164.9950, 5396,    254.5,      253,  14.3561,  34.4828,2,    190.7,2,  34.4960,4,   190.48,2,     9.03,2,     9.61,2,     0.01,2,    0.690,2,    2.747,3,    1.666,6,-999,9,-999,9,   2077.8,2,   2273.5,2,   7.8507,2,    25.00,     -999,9,     -999,9,  14.3586,2
  49UP20110515,   P13,    91,  1,     30,     103,2,20110721,0045,0304, 15.9902, 164.9950, 5396,    284.9,      283,  13.1195,  34.3906,2,    191.2,2,  34.3947,2,   191.58,2,    11.85,2,    11.76,2,     0.00,2,    0.850,2,    2.982,3,    1.753,2,33.8,2,0.3,2,   2089.7,2,   2269.7,2,   7.8169,2,    25.00,     -999,9,     -999,9,  13.1143,2
  49UP20110515,   P13,    91,  1,     29,     102,2,20110721,0045,0302, 15.9902, 164.9950, 5396,    335.6,      333,  11.2960,  34.2709,2,    169.9,2,  34.2796,2,   170.49,2,    18.35,6,    16.54,6,     0.00,6,    1.220,6,    2.842,3,    1.644,2,-999,9,-999,9,   2121.9,2,   2266.4,2,   7.7421,2,    25.00,     -999,9,     -999,9,  11.2928,2
  49UP20110515,   P13,    91,  1,     28,     101,2,20110721,0045,0301, 15.9902, 164.9950, 5396,    373.8,      371,  10.1110,  34.2112,2,    159.8,2,  34.2156,2,   160.24,2,    24.82,2,    19.90,2,     0.00,2,    1.450,2,    2.726,3,    1.562,2,21.4,2,0.1,2,   2145.4,2,   2269.5,2,   7.6863,2,    25.00,     -999,9,     -999,9,  10.1037,2
  49UP20110515,   P13,    91,  1,     27,     100,2,20110721,0045,0259, 15.9902, 164.9950, 5396,    424.0,      421,   8.9963,  34.2497,2,    101.2,2,  34.2423,2,   104.79,4,    36.23,2,    27.16,2,     0.00,2,    2.020,2,    1.913,3,    1.028,6,-999,9,-999,9,   2202.5,2,   2279.0,2,   7.5512,2,    25.00,     -999,9,     -999,9,   8.9967,2
  49UP20110515,   P13,    91,  1,     26,      99,2,20110721,0045,0257, 15.9902, 164.9950, 5396,    476.8,      473,   8.3073,  34.2995,2,     69.4,2,  34.2960,2,    70.26,2,    43.52,2,    31.46,2,     0.00,2,    2.350,2,    1.258,3,    0.666,2,-61.1,2,-0.1,2,   2238.7,6,   2289.5,6,   7.4857,2,    25.00,     -999,9,     -999,9,   8.2733,2
  49UP20110515,   P13,    91,  1,     25,      98,2,20110721,0045,0250, 15.9902, 164.9950, 5396,    574.0,      570,   6.8037,  34.3276,2,     55.1,2,  34.3274,2,    55.16,2,    61.10,2,    36.21,2,     0.00,2,    2.660,2,    0.520,3,    0.265,2,-116.8,2,-0.2,2,   2273.6,2,   2310.5,2,   7.4329,6,    25.00,     -999,9,     -999,9,   6.8033,2
  49UP20110515,   P13,    91,  1,     24,      97,2,20110721,0045,0246, 15.9902, 164.9950, 5396,    676.2,      671,   5.9286,  34.4025,2,     47.0,2,  34.3997,2,    46.88,2,    74.01,6,    38.96,6,     0.00,6,    2.840,6,    0.141,3,    0.071,2,-156.8,2,-0.2,2,   2293.4,2,   2328.3,2,   7.4204,2,    25.00,     -999,9,     -999,9,   5.9304,2
  49UP20110515,   P13,    91,  1,     23,      96,2,20110721,0045,0243, 15.9902, 164.9950, 5396,    776.6,      771,   5.4259,  34.4632,2,     54.7,2,  34.4653,2,    54.81,6,    81.29,2,    39.46,2,     0.00,2,    2.900,2,    0.100,3,    0.041,2,-173.5,2,-0.1,2,   2303.1,2,   2340.0,2,   7.4346,2,    25.00,     -999,9,     -999,9,   5.4264,2
  49UP20110515,   P13,    91,  1,     22,      95,2,20110721,0045,0240, 15.9902, 164.9950, 5396,    878.5,      871,   4.8993,  34.5016,2,     62.1,2,  34.5013,2,    61.92,2,    89.66,2,    39.79,2,     0.00,2,    2.870,2,    0.058,3,    0.025,2,-194.1,2,-0.0,2,   2309.0,2,   2352.4,2,   7.4417,2,    25.00,     -999,9,     -999,9,   4.8994,2
  49UP20110515,   P13,    91,  1,     21,      94,3,20110721,0045,0237, 15.9902, 164.9950, 5396,    981.5,      973,   4.4487,  34.5221,2,     64.8,2,  34.5213,2,    64.60,2,    98.27,2,    40.23,2,     0.00,2,    2.890,2,    0.000,3,    0.000,2,-196.9,2,-0.1,2,   2321.6,2,   2364.6,2,   7.4467,2,    25.00,     -999,9,     -999,9,   4.4484,2
  49UP20110515,   P13,    91,  1,     20,      93,3,20110721,0045,0228, 15.9902, 164.9950, 5396,   1141.1,     1131,   3.9062,  34.5431,2,     70.7,2,  34.5446,2,    71.18,2,   108.96,2,    40.24,2,     0.00,2,    2.880,2,    0.000,3,    0.002,2,-209.5,2,-0.0,2,   2330.9,2,   2373.5,2,   7.4543,2,    25.00,     -999,9,     -999,9,   3.9061,2
  49UP20110515,   P13,    91,  1,     19,      92,2,20110721,0045,0223, 15.9902, 164.9950, 5396,   1343.5,     1331,   3.3048,  34.5642,2,     76.8,2,     -999,5,    77.15,2,   121.51,2,    40.34,2,     0.00,2,    2.880,2,    0.024,3,    0.009,2,-224.7,2,-0.1,2,   2339.6,2,   2387.6,2,   7.4593,2,    25.00,     -999,9,     -999,9,   3.3046,2
  49UP20110515,   P13,    91,  1,     18,      91,2,20110721,0045,0218, 15.9902, 164.9950, 5396,   1546.7,     1532,   2.8481,  34.5837,2,     84.6,2,  34.5839,6,    84.80,2,   131.19,2,    40.07,2,     0.00,2,    2.850,2,    0.000,3,    0.000,2,-999,9,-999,9,   2345.6,2,   2399.1,2,   7.4708,2,    25.00,     -999,9,     -999,9,   2.8478,2
  49UP20110515,   P13,    91,  1,     17,      90,2,20110721,0045,0210, 15.9902, 164.9950, 5396,   1749.9,     1732,   2.4583,  34.6038,2,     93.1,2,  34.6040,2,    93.35,2,   138.89,2,    39.72,2,     0.00,2,    2.810,2,    0.000,3,    0.000,2,-234.6,2,-0.1,2,   2348.1,2,   2404.8,2,   7.4847,2,    25.00,     -999,9,     -999,9,   2.4582,2
  49UP20110515,   P13,    91,  1,     16,      89,2,20110721,0045,0205, 15.9902, 164.9950, 5396,   1950.9,     1930,   2.1906,  34.6222,2,    101.4,2,  34.6214,2,   101.65,2,   143.68,2,    39.40,2,     0.00,2,    2.770,2,     -999,9,     -999,9,-999,9,-999,9,   2348.6,2,   2410.8,2,   7.4966,2,    25.00,     -999,9,     -999,9,   2.1915,2
  49UP20110515,   P13,    91,  1,     15,      88,2,20110721,0045,0155, 15.9902, 164.9950, 5396,   2154.9,     2131,   1.9835,  34.6372,2,    109.1,2,  34.6367,2,   109.42,2,   147.84,2,    38.99,2,     0.00,2,    2.740,2,     -999,9,     -999,9,-236.0,2,-0.2,3,   2351.4,2,   2416.1,2,   7.5094,2,    25.00,     -999,9,     -999,9,   1.9833,2
  49UP20110515,   P13,    91,  1,     14,      87,2,20110721,0045,0151, 15.9902, 164.9950, 5396,   2357.5,     2331,   1.8296,  34.6475,2,    115.6,2,  34.6470,2,   115.47,2,   150.70,6,    38.63,6,     0.00,6,    2.710,6,     -999,9,     -999,9,-999,9,-999,9,   2349.9,2,   2419.6,2,   7.5192,2,    25.00,     -999,9,     -999,9,   1.8301,2
  49UP20110515,   P13,    91,  1,     13,      86,2,20110721,0045,0146, 15.9902, 164.9950, 5396,   2559.4,     2529,   1.7108,  34.6563,2,    122.5,2,  34.6565,2,   122.50,2,   151.70,2,    38.15,2,     0.00,2,    2.660,2,    0.000,3,    0.000,2,-252.0,3,-0.5,4,   2346.5,2,   2418.8,2,   7.5265,2,    25.00,     -999,9,     -999,9,   1.7109,2
  49UP20110515,   P13,    91,  1,     12,      85,2,20110721,0045,0142, 15.9902, 164.9950, 5396,   2763.3,     2729,   1.6472,  34.6624,2,    127.5,2,  34.6628,2,   127.62,6,   152.11,2,    37.92,2,     0.00,2,    2.640,2,     -999,9,     -999,9,-999,9,-999,9,   2343.9,6,   2420.8,6,   7.5369,2,    25.00,     -999,9,     -999,9,   1.6471,2
  49UP20110515,   P13,    91,  1,     11,     110,2,20110721,0045,0137, 15.9902, 164.9950, 5396,   2969.6,     2931,   1.5857,  34.6686,2,    132.9,2,  34.6676,2,   133.00,2,   152.12,2,    37.54,2,     0.00,2,    2.610,2,     -999,9,     -999,9,-240.1,2,0.1,2,   2333.7,3,   2418.5,3,   7.5468,6,    25.00,     -999,9,     -999,9,   1.5857,2
  49UP20110515,   P13,    91,  1,     10,      83,2,20110721,0045,0132, 15.9902, 164.9950, 5396,   3213.2,     3170,   1.5489,  34.6739,2,    137.3,2,  34.6739,2,   137.46,2,   151.87,2,    37.24,2,     0.00,2,    2.580,2,     -999,9,     -999,9,-999,9,-999,9,   2336.5,2,   2421.4,2,   7.5576,2,    25.00,     -999,9,     -999,9,   1.5487,2
  49UP20110515,   P13,    91,  1,      9,      82,2,20110721,0045,0127, 15.9902, 164.9950, 5396,   3468.1,     3420,   1.4995,  34.6789,2,    143.6,2,  34.6791,2,   143.78,2,   150.27,2,    36.62,2,     0.00,2,    2.550,2,     -999,9,     -999,9,-236.8,2,0.1,2,   2329.3,3,   2419.8,2,   7.5628,2,    25.00,     -999,9,     -999,9,   1.4997,2
  49UP20110515,   P13,    91,  1,      8,      81,2,20110721,0045,0122, 15.9902, 164.9950, 5396,   3723.6,     3669,   1.4601,  34.6836,2,    150.5,2,  34.6841,6,   150.61,2,   147.91,2,    36.29,2,     0.00,2,    2.510,2,    0.000,3,    0.000,2,-999,9,-999,9,   2330.5,2,   2417.8,2,   7.5748,2,    25.00,     -999,9,     -999,9,   1.4602,2
  49UP20110515,   P13,    91,  1,      7,      80,2,20110721,0045,0116, 15.9902, 164.9950, 5396,   3980.4,     3920,   1.4292,  34.6877,2,    158.1,2,  34.6875,2,   157.75,2,   143.59,2,    35.79,2,     0.00,2,    2.480,2,     -999,9,     -999,9,-212.7,2,0.2,2,   2320.4,2,   2411.9,2,   7.5803,2,    25.00,     -999,9,     -999,9,   1.4291,2
  49UP20110515,   P13,    91,  1,      6,      79,2,20110721,0045,0111, 15.9902, 164.9950, 5396,   4236.4,     4170,   1.4039,  34.6918,2,    165.1,2,  34.6919,2,   165.21,2,   139.47,2,    35.23,2,     0.00,2,    2.430,2,     -999,9,     -999,9,-999,9,-999,9,   2311.2,2,   2406.9,2,   7.5903,2,    25.00,     -999,9,     -999,9,   1.4040,2
  49UP20110515,   P13,    91,  1,      5,      78,2,20110721,0045,0106, 15.9902, 164.9950, 5396,   4493.5,     4420,   1.3886,  34.6949,2,    171.0,2,  34.6957,2,   170.94,2,   136.25,2,    34.85,2,     0.00,2,    2.400,2,     -999,9,     -999,9,-216.9,2,0.3,2,   2305.5,2,   2402.5,2,   7.5922,2,    25.00,     -999,9,     -999,9,   1.3887,2
  49UP20110515,   P13,    91,  1,      4,      77,2,20110721,0045,0100, 15.9902, 164.9950, 5396,   4750.4,     4670,   1.3724,  34.6978,2,    177.0,2,  34.6977,2,   177.32,6,   132.65,2,    34.32,2,     0.00,2,    2.360,2,     -999,9,     -999,9,-999,9,-999,9,   2302.4,2,   2397.0,2,   7.6026,2,    25.00,     -999,9,     -999,9,   1.3725,2
  49UP20110515,   P13,    91,  1,      3,      76,2,20110721,0045,0055, 15.9902, 164.9950, 5396,   5007.2,     4920,   1.3622,  34.7005,2,    182.0,2,  34.7016,2,   182.55,2,   129.97,2,    34.00,2,     0.00,2,    2.340,2,    0.000,3,    0.000,2,-198.6,2,0.3,2,   2294.0,2,   2393.5,2,   7.6056,2,    25.00,     -999,9,     -999,9,   1.3622,2
  49UP20110515,   P13,    91,  1,      2,      75,2,20110721,0045,0050, 15.9902, 164.9950, 5396,   5263.5,     5169,   1.3791,  34.7013,2,    183.9,2,  34.7012,6,   184.35,2,   128.92,2,    33.86,2,     0.00,2,    2.330,2,     -999,9,     -999,9,-999,9,-999,9,   2291.0,2,   2393.6,2,   7.6067,2,    25.00,     -999,9,     -999,9,   1.3790,2
  49UP20110515,   P13,    91,  1,      1,     112,2,20110721,0045,0045, 15.9902, 164.9950, 5396,   5479.0,     5378,   1.4038,  34.7014,2,    184.3,2,  34.7014,2,   184.48,2,   128.74,2,    33.88,2,     0.00,2,    2.330,2,     -999,9,     -999,9,-200.3,2,0.4,2,   2286.0,2,   2391.0,2,   7.6028,2,    25.00,     -999,9,     -999,9,   1.4037,2