BOTTLE,20240116CCHSIOVAJ
EXPOCODE,SECT_ID,STNNBR,CASTNO,SAMPNO,BTLNBR,BTLNBR_FLAG_W,DATE,TIME,BTL_TIME,LATITUDE,LONGITUDE,DEPTH,CTDPRS,CTDDEPTH,CTDTMP,CTDSAL,CTDSAL_FLAG_W,CTDOXY,CTDOXY_FLAG_W,SALNTY,SALNTY_FLAG_W,OXYGEN,OXYGEN_FLAG_W,SILCAT,SILCAT_FLAG_W,NO2+NO3,NO2+NO3_FLAG_W,NITRIT,NITRIT_FLAG_W,PHSPHT,PHSPHT_FLAG_W,CFC-11,CFC-11_FLAG_W,CFC-12,CFC-12_FLAG_W,DELC14,DELC14_FLAG_W,DELC13,DELC13_FLAG_W,TCARBN,TCARBN_FLAG_W,ALKALI,ALKALI_FLAG_W,PH_TOT,PH_TOT_FLAG_W,PH_TMP,CHLORA,CHLORA_FLAG_W,PPHYTN,PPHYTN_FLAG_W,REFTMP,REFTMP_FLAG_W
,,,,,,,,,,,,METERS,DBAR,METERS,ITS-90,PSS-78,,UMOL/KG,,PSS-78,,UMOL/KG,,UMOL/KG,,UMOL/KG,,UMOL/KG,,UMOL/KG,,PMOL/KG,,PMOL/KG,,/MILLE,,/MILLE,,UMOL/KG,,UMOL/KG,,,,DEG C,UG/KG,,UG/KG,,ITS-90,
  49UP20110515,   P13,   141,  1,      0,     BUC,2,20110813,0154,0247, -5.3852, 164.4835, 2458,      0.0,        0,  29.4791,  35.2390,2,    197.8,2,     -999,9,   195.69,2,     1.32,2,     0.36,2,     0.01,2,    0.250,2,     -999,9,     -999,9,-999,9,-999,9,     -999,9,     -999,9,     -999,9,     -999,     -999,9,     -999,9,     -999,9
  49UP20110515,   P13,   141,  1,     36,     109,2,20110813,0154,0313, -5.3852, 164.4835, 2458,     11.0,       11,  29.4279,  35.2375,2,    198.1,2,  35.2371,2,   197.65,2,     1.26,6,     0.36,6,     0.01,6,    0.240,6,     -999,9,     -999,9,-999,9,-999,9,     -999,9,     -999,9,     -999,9,     -999,     -999,9,     -999,9,  29.4301,2
  49UP20110515,   P13,   141,  1,     35,     108,2,20110813,0154,0312, -5.3852, 164.4835, 2458,     26.0,       26,  29.2831,  35.2748,2,    199.4,2,  35.2719,2,   199.00,2,     1.29,2,     0.39,2,     0.02,2,    0.240,2,     -999,9,     -999,9,-999,9,-999,9,     -999,9,     -999,9,     -999,9,     -999,     -999,9,     -999,9,  29.2845,2
  49UP20110515,   P13,   141,  1,     34,     107,2,20110813,0154,0308, -5.3852, 164.4835, 2458,     49.3,       49,  29.1664,  35.3848,2,    195.0,2,  35.3831,2,   194.67,2,     1.31,2,     0.58,2,     0.02,2,    0.270,2,     -999,9,     -999,9,-999,9,-999,9,     -999,9,     -999,9,     -999,9,     -999,     -999,9,     -999,9,  29.1680,2
  49UP20110515,   P13,   141,  1,     33,     106,2,20110813,0154,0307, -5.3852, 164.4835, 2458,     75.6,       75,  29.0871,  35.4839,2,    192.3,2,  35.4824,2,   192.02,2,     1.35,2,     1.23,2,     0.03,2,    0.340,2,     -999,9,     -999,9,-999,9,-999,9,     -999,9,     -999,9,     -999,9,     -999,     -999,9,     -999,9,  29.0873,2
  49UP20110515,   P13,   141,  1,     32,     105,2,20110813,0154,0306, -5.3852, 164.4835, 2458,    101.5,      101,  28.8393,  35.5294,2,    186.4,2,  35.5310,2,   186.44,2,     1.40,2,     1.94,2,     0.32,2,    0.390,2,     -999,9,     -999,9,-999,9,-999,9,     -999,9,     -999,9,     -999,9,     -999,     -999,9,     -999,9,  28.8455,2
  49UP20110515,   P13,   141,  1,     31,     104,2,20110813,0154,0305, -5.3852, 164.4835, 2458,    124.8,      124,  27.8885,  35.6285,2,    170.3,2,  35.6290,6,   169.40,2,     1.46,2,     5.43,2,     1.28,2,    0.560,2,     -999,9,     -999,9,-999,9,-999,9,     -999,9,     -999,9,     -999,9,     -999,     -999,9,     -999,9,  27.8936,2
  49UP20110515,   P13,   141,  1,     30,     103,2,20110813,0154,0303, -5.3852, 164.4835, 2458,    152.1,      151,  26.8998,  35.6836,2,    155.0,2,  35.6784,2,   155.95,6,     1.63,2,     6.98,2,     0.14,2,    0.660,2,     -999,9,     -999,9,-999,9,-999,9,     -999,9,     -999,9,     -999,9,     -999,     -999,9,     -999,9,  26.8894,2
  49UP20110515,   P13,   141,  1,     28,     101,2,20110813,0154,0301, -5.3852, 164.4835, 2458,    201.3,      200,  21.1973,  35.8331,2,    132.9,2,  35.8566,4,   133.16,2,     2.33,2,     9.70,2,     0.01,2,    0.890,2,     -999,9,     -999,9,-999,9,-999,9,     -999,9,     -999,9,     -999,9,     -999,     -999,9,     -999,9,  21.2077,2
  49UP20110515,   P13,   141,  1,     29,     102,2,20110813,0154,0301, -5.3852, 164.4835, 2458,    203.1,      202,  21.0018,  35.8126,2,    131.8,2,  35.8448,4,   132.69,2,     2.47,2,     9.77,2,     0.01,2,    0.900,2,     -999,9,     -999,9,-999,9,-999,9,     -999,9,     -999,9,     -999,9,     -999,     -999,9,     -999,9,  20.9579,2
  49UP20110515,   P13,   141,  1,     27,     100,2,20110813,0154,0259, -5.3852, 164.4835, 2458,    252.9,      251,  13.6029,  35.0390,2,     94.0,2,  35.0638,4,    92.33,2,    12.10,6,    21.42,6,     0.00,6,    1.660,6,     -999,9,     -999,9,-999,9,-999,9,     -999,9,     -999,9,     -999,9,     -999,     -999,9,     -999,9,  13.6111,2
  49UP20110515,   P13,   141,  1,     26,      99,2,20110813,0154,0257, -5.3852, 164.4835, 2458,    302.8,      301,  10.8963,  34.8172,2,    108.2,2,  34.8181,2,   107.53,2,    18.32,2,    25.55,2,     0.00,2,    1.830,2,     -999,9,     -999,9,-999,9,-999,9,     -999,9,     -999,9,     -999,9,     -999,     -999,9,     -999,9,  10.8973,2
  49UP20110515,   P13,   141,  1,     25,      98,2,20110813,0154,0252, -5.3852, 164.4835, 2458,    353.8,      352,   9.8941,  34.7373,2,    112.6,2,  34.7393,6,   110.33,2,    21.59,2,    27.34,2,     0.00,2,    1.920,2,     -999,9,     -999,9,-999,9,-999,9,     -999,9,     -999,9,     -999,9,     -999,     -999,9,     -999,9,   9.8918,2
  49UP20110515,   P13,   141,  1,     24,      97,2,20110813,0154,0250, -5.3852, 164.4835, 2458,    402.5,      400,   8.7014,  34.6486,2,    121.5,2,  34.6491,2,   121.11,2,    24.95,2,    28.82,2,     0.00,2,    2.010,2,     -999,9,     -999,9,-999,9,-999,9,     -999,9,     -999,9,     -999,9,     -999,     -999,9,     -999,9,   8.7024,2
  49UP20110515,   P13,   141,  1,     23,      96,2,20110813,0154,0247, -5.3852, 164.4835, 2458,    505.4,      502,   7.8129,  34.5980,2,    103.2,2,  34.5977,2,   103.01,2,    32.54,2,    32.65,2,     0.00,2,    2.260,2,     -999,9,     -999,9,-999,9,-999,9,     -999,9,     -999,9,     -999,9,     -999,     -999,9,     -999,9,   7.8133,2
  49UP20110515,   P13,   141,  1,     21,      94,2,20110813,0154,0243, -5.3852, 164.4835, 2458,    607.5,      603,   7.0792,  34.5580,2,    116.3,2,  34.5584,2,   115.55,2,    35.90,2,    32.90,2,     0.00,2,    2.270,2,     -999,9,     -999,9,-999,9,-999,9,     -999,9,     -999,9,     -999,9,     -999,     -999,9,     -999,9,   7.0788,2
  49UP20110515,   P13,   141,  1,     22,      95,2,20110813,0154,0243, -5.3852, 164.4835, 2458,    609.8,      606,   7.0532,  34.5570,2,    116.3,2,  34.5573,2,   115.79,2,    35.96,2,    32.86,2,     0.00,2,    2.270,2,     -999,9,     -999,9,-999,9,-999,9,     -999,9,     -999,9,     -999,9,     -999,     -999,9,     -999,9,   7.0539,2
  49UP20110515,   P13,   141,  1,     20,      93,2,20110813,0154,0240, -5.3852, 164.4835, 2458,    706.2,      701,   6.1302,  34.5322,2,    109.5,2,  34.5312,6,   109.72,2,    47.28,6,    35.28,6,     0.00,6,    2.460,6,     -999,9,     -999,9,-999,9,-999,9,     -999,9,     -999,9,     -999,9,     -999,     -999,9,     -999,9,   6.1305,2
  49UP20110515,   P13,   141,  1,     19,      92,2,20110813,0154,0236, -5.3852, 164.4835, 2458,    807.8,      802,   5.3125,  34.5222,2,    114.1,2,  34.5241,2,   113.59,2,    57.90,2,    36.09,2,     0.00,2,    2.530,2,     -999,9,     -999,9,-999,9,-999,9,     -999,9,     -999,9,     -999,9,     -999,     -999,9,     -999,9,   5.3135,2
  49UP20110515,   P13,   141,  1,     18,      91,3,20110813,0154,0233, -5.3852, 164.4835, 2458,    908.4,      901,   4.8290,  34.5253,2,    116.6,2,  34.5270,2,   116.69,6,    65.92,2,    36.32,2,     0.00,2,    2.550,2,     -999,9,     -999,9,-999,9,-999,9,     -999,9,     -999,9,     -999,9,     -999,     -999,9,     -999,9,   4.8295,2
  49UP20110515,   P13,   141,  1,     17,      90,2,20110813,0154,0230, -5.3852, 164.4835, 2458,   1011.9,     1004,   4.2410,  34.5407,2,    115.4,2,  34.5404,2,   115.49,2,    78.39,2,    37.04,2,     0.00,2,    2.610,2,     -999,9,     -999,9,-999,9,-999,9,     -999,9,     -999,9,     -999,9,     -999,     -999,9,     -999,9,   4.2409,2
  49UP20110515,   P13,   141,  1,     16,      89,2,20110813,0154,0226, -5.3852, 164.4835, 2458,   1209.4,     1199,   3.6280,  34.5637,2,    114.2,2,  34.5630,2,   114.14,2,    93.31,2,    37.80,2,     0.00,2,    2.660,2,     -999,9,     -999,9,-999,9,-999,9,     -999,9,     -999,9,     -999,9,     -999,     -999,9,     -999,9,   3.6281,2
  49UP20110515,   P13,   141,  1,     15,      88,2,20110813,0154,0219, -5.3852, 164.4835, 2458,   1413.1,     1401,   2.9678,  34.5938,2,    118.6,2,  34.5933,2,   118.12,2,   109.18,6,    37.76,6,     0.00,6,    2.670,6,     -999,9,     -999,9,-999,9,-999,9,     -999,9,     -999,9,     -999,9,     -999,     -999,9,     -999,9,   2.9677,2
  49UP20110515,   P13,   141,  1,     14,      87,2,20110813,0154,0215, -5.3852, 164.4835, 2458,   1614.3,     1599,   2.6537,  34.6139,2,    115.2,2,  34.6138,2,   115.26,6,   121.08,2,    38.18,2,     0.00,2,    2.680,2,     -999,9,     -999,9,-999,9,-999,9,     -999,9,     -999,9,     -999,9,     -999,     -999,9,     -999,9,   2.6537,2
  49UP20110515,   P13,   141,  1,     13,      86,2,20110813,0154,0210, -5.3852, 164.4835, 2458,   1817.9,     1800,   2.4824,  34.6229,2,    117.7,2,  34.6218,2,   117.77,2,   125.26,2,    38.09,2,     0.00,2,    2.680,2,     -999,9,     -999,9,-999,9,-999,9,     -999,9,     -999,9,     -999,9,     -999,     -999,9,     -999,9,   2.4826,2
  49UP20110515,   P13,   141,  1,     12,      74,2,20110813,0154,0205, -5.3852, 164.4835, 2458,   2020.0,     1999,   2.3384,  34.6291,2,    128.0,2,  34.6321,4,   128.31,2,   124.08,2,    37.26,2,     0.00,2,    2.610,2,     -999,9,     -999,9,-999,9,-999,9,     -999,9,     -999,9,     -999,9,     -999,     -999,9,     -999,9,   2.3385,2
  49UP20110515,   P13,   141,  1,     11,     110,2,20110813,0154,0201, -5.3852, 164.4835, 2458,   2222.3,     2198,   2.0684,  34.6458,2,    127.6,2,  34.6458,2,   127.72,6,   134.20,2,    37.52,2,     0.00,2,    2.620,2,     -999,9,     -999,9,-999,9,-999,9,     -999,9,     -999,9,     -999,9,     -999,     -999,9,     -999,9,   2.0684,2
  49UP20110515,   P13,   141,  1,     10,      83,2,20110813,0154,0157, -5.3852, 164.4835, 2458,   2428.4,     2401,   1.9866,  34.6509,2,    126.7,2,  34.6516,6,   126.24,2,   138.09,2,    37.70,2,     0.00,2,    2.630,2,     -999,9,     -999,9,-999,9,-999,9,     -999,9,     -999,9,     -999,9,     -999,     -999,9,     -999,9,   1.9860,2
  49UP20110515,   P13,   141,  1,      7,      80,2,20110813,0154,0156, -5.3852, 164.4835, 2458,   2440.2,     2413,   1.9834,  34.6512,2,    126.7,2,  34.6526,2,   126.36,2,   137.98,2,    37.68,2,     0.00,2,    2.630,2,     -999,9,     -999,9,-999,9,-999,9,     -999,9,     -999,9,     -999,9,     -999,     -999,9,     -999,9,   1.9831,2
  49UP20110515,   P13,   141,  1,      4,      77,2,20110813,0154,0155, -5.3852, 164.4835, 2458,   2446.3,     2419,   1.9843,  34.6512,2,    126.7,2,  34.6525,2,   126.45,2,   138.35,2,    37.64,2,     0.00,2,    2.630,2,     -999,9,     -999,9,-999,9,-999,9,     -999,9,     -999,9,     -999,9,     -999,     -999,9,     -999,9,   1.9840,2
  49UP20110515,   P13,   141,  1,      1,     112,2,20110813,0154,0155, -5.3852, 164.4835, 2458,   2452.5,     2425,   1.9834,  34.6512,2,    126.7,2,  34.6529,2,   126.25,2,   138.37,2,    37.72,2,     0.00,2,    2.630,2,     -999,9,     -999,9,-999,9,-999,9,     -999,9,     -999,9,     -999,9,     -999,     -999,9,     -999,9,   1.9830,2