BOTTLE,20240116CCHSIOVAJ
EXPOCODE,SECT_ID,STNNBR,CASTNO,SAMPNO,BTLNBR,BTLNBR_FLAG_W,DATE,TIME,BTL_TIME,LATITUDE,LONGITUDE,DEPTH,CTDPRS,CTDDEPTH,CTDTMP,CTDSAL,CTDSAL_FLAG_W,CTDOXY,CTDOXY_FLAG_W,SALNTY,SALNTY_FLAG_W,OXYGEN,OXYGEN_FLAG_W,SILCAT,SILCAT_FLAG_W,NO2+NO3,NO2+NO3_FLAG_W,NITRIT,NITRIT_FLAG_W,PHSPHT,PHSPHT_FLAG_W,CFC-11,CFC-11_FLAG_W,CFC-12,CFC-12_FLAG_W,DELC14,DELC14_FLAG_W,DELC13,DELC13_FLAG_W,TCARBN,TCARBN_FLAG_W,ALKALI,ALKALI_FLAG_W,PH_TOT,PH_TOT_FLAG_W,PH_TMP,CHLORA,CHLORA_FLAG_W,PPHYTN,PPHYTN_FLAG_W,REFTMP,REFTMP_FLAG_W
,,,,,,,,,,,,METERS,DBAR,METERS,ITS-90,PSS-78,,UMOL/KG,,PSS-78,,UMOL/KG,,UMOL/KG,,UMOL/KG,,UMOL/KG,,UMOL/KG,,PMOL/KG,,PMOL/KG,,/MILLE,,/MILLE,,UMOL/KG,,UMOL/KG,,,,DEG C,UG/KG,,UG/KG,,ITS-90,
  49UP20110515,   P01,    13,  1,      0,     BUC,2,20110520,1308,1530, 40.0202, 147.6308, 5273,      0.0,        0,   7.1219,  32.9927,2,    328.8,2,     -999,9,   328.52,2,     0.83,2,     9.74,2,     0.19,2,    1.030,2,     -999,9,     -999,9,-999,9,-999,9,     -999,9,     -999,9,     -999,9,     -999,     0.77,2,     0.06,2,     -999,9
  49UP20110515,   P01,    13,  1,     36,     109,2,20110520,1308,1548, 40.0202, 147.6308, 5273,      9.7,       10,   6.8813,  32.9892,2,    332.9,2,  32.9971,4,   337.01,2,     1.50,2,     9.94,2,     0.20,2,    1.040,2,     -999,9,     -999,9,-999,9,-999,9,     -999,9,     -999,9,     -999,9,     -999,     0.66,2,     0.08,2,   6.7051,2
  49UP20110515,   P01,    13,  1,     35,     108,2,20110520,1308,1544, 40.0202, 147.6308, 5273,     51.3,       51,   3.6424,  33.0622,2,    331.5,2,     -999,9,   333.90,2,    21.06,2,    15.14,2,     0.26,2,    1.420,2,     -999,9,     -999,9,-999,9,-999,9,     -999,9,     -999,9,     -999,9,     -999,     0.95,2,     0.44,2,   3.6411,2
  49UP20110515,   P01,    13,  1,     34,     107,2,20110520,1308,1539, 40.0202, 147.6308, 5273,    103.6,      103,   1.5752,  33.1970,2,    297.4,2,  33.1988,2,   298.01,2,    49.65,6,    26.49,6,     0.21,6,    2.070,6,     -999,9,     -999,9,-999,9,-999,9,     -999,9,     -999,9,     -999,9,     -999,     0.11,2,     0.18,2,   1.5750,2
  49UP20110515,   P01,    13,  1,     33,     106,2,20110520,1308,1533, 40.0202, 147.6308, 5273,    152.3,      151,   2.1788,  33.4149,2,    211.7,2,  33.4146,2,   212.27,2,    65.75,2,    32.44,2,     0.02,2,    2.440,2,     -999,9,     -999,9,-999,9,-999,9,     -999,9,     -999,9,     -999,9,     -999,     0.04,2,     0.16,2,   2.1755,2
  49UP20110515,   P01,    13,  1,     32,     105,2,20110520,1308,1532, 40.0202, 147.6308, 5273,    202.2,      201,   2.6599,  33.6116,2,    143.7,2,  33.6128,6,   142.70,2,    80.89,2,    37.00,2,     0.01,2,    2.720,2,     -999,9,     -999,9,-999,9,-999,9,     -999,9,     -999,9,     -999,9,     -999,     0.04,2,     0.15,2,   2.6588,2
  49UP20110515,   P01,    13,  1,     31,     104,2,20110520,1308,1530, 40.0202, 147.6308, 5273,    253.3,      251,   2.8404,  33.7305,2,    110.9,2,     -999,9,   110.28,6,    89.25,2,    38.66,2,     0.00,2,    2.820,2,     -999,9,     -999,9,-999,9,-999,9,     -999,9,     -999,9,     -999,9,     -999,     -999,9,     -999,9,   2.8399,2
  49UP20110515,   P01,    13,  1,     30,     103,2,20110520,1308,1528, 40.0202, 147.6308, 5273,    304.2,      302,   3.2159,  33.8596,2,     76.4,2,  33.8593,6,    76.12,2,    97.22,2,    40.88,2,     0.00,2,    2.940,2,     -999,9,     -999,9,-999,9,-999,9,     -999,9,     -999,9,     -999,9,     -999,     -999,9,     -999,9,   3.2152,2
  49UP20110515,   P01,    13,  1,     29,     102,2,20110520,1308,1528, 40.0202, 147.6308, 5273,    304.2,      302,   3.2159,  33.8596,2,     76.4,2,  33.8598,2,    75.99,2,    97.29,6,    40.90,6,     0.00,6,    2.940,6,     -999,9,     -999,9,-999,9,-999,9,     -999,9,     -999,9,     -999,9,     -999,     -999,9,     -999,9,   3.2152,2
  49UP20110515,   P01,    13,  1,     28,     101,2,20110520,1308,1526, 40.0202, 147.6308, 5273,    405.3,      402,   3.4169,  34.0323,2,     50.3,2,  34.0409,4,    51.17,2,   109.38,2,    41.84,2,     0.00,2,    3.000,2,     -999,9,     -999,9,-999,9,-999,9,     -999,9,     -999,9,     -999,9,     -999,     -999,9,     -999,9,   3.4160,2
  49UP20110515,   P01,    13,  1,     27,     100,2,20110520,1308,1523, 40.0202, 147.6308, 5273,    505.3,      501,   3.3709,  34.1366,2,     41.2,2,  34.1348,2,    41.01,2,   118.95,2,    42.41,2,     0.00,2,    3.040,2,     -999,9,     -999,9,-999,9,-999,9,     -999,9,     -999,9,     -999,9,     -999,     -999,9,     -999,9,   3.3712,2
  49UP20110515,   P01,    13,  1,     26,      99,2,20110520,1308,1521, 40.0202, 147.6308, 5273,    607.1,      602,   3.5714,  34.2672,2,     45.2,2,  34.2674,2,    45.08,2,   122.00,2,    41.47,2,     0.00,2,    2.980,2,     -999,9,     -999,9,-999,9,-999,9,     -999,9,     -999,9,     -999,9,     -999,     -999,9,     -999,9,   3.5712,2
  49UP20110515,   P01,    13,  1,     25,      98,2,20110520,1308,1516, 40.0202, 147.6308, 5273,    709.4,      703,   3.4030,  34.3281,2,     44.1,2,  34.3264,2,    43.79,2,   127.98,2,    41.72,2,     0.00,2,    2.990,2,     -999,9,     -999,9,-999,9,-999,9,     -999,9,     -999,9,     -999,9,     -999,     -999,9,     -999,9,   3.4028,2
  49UP20110515,   P01,    13,  1,     24,      97,2,20110520,1308,1511, 40.0202, 147.6308, 5273,    809.2,      801,   3.1734,  34.3651,2,     41.7,2,  34.3639,6,    41.52,2,   134.54,2,    42.17,2,     0.00,2,    3.020,2,     -999,9,     -999,9,-999,9,-999,9,     -999,9,     -999,9,     -999,9,     -999,     -999,9,     -999,9,   3.1735,2
  49UP20110515,   P01,    13,  1,     23,      96,2,20110520,1308,1509, 40.0202, 147.6308, 5273,    911.7,      903,   2.8834,  34.3863,2,     38.6,2,  34.3855,2,    38.04,6,   143.04,2,    42.58,2,     0.00,2,    3.050,2,     -999,9,     -999,9,-999,9,-999,9,     -999,9,     -999,9,     -999,9,     -999,     -999,9,     -999,9,   2.8829,2
  49UP20110515,   P01,    13,  1,     22,      95,2,20110520,1308,1506, 40.0202, 147.6308, 5273,   1012.7,     1002,   2.6587,  34.4255,2,     38.5,2,  34.4249,6,    38.15,2,   149.99,2,    42.84,2,     0.00,2,    3.070,2,     -999,9,     -999,9,-999,9,-999,9,     -999,9,     -999,9,     -999,9,     -999,     -999,9,     -999,9,   2.6586,2
  49UP20110515,   P01,    13,  1,     21,      94,2,20110520,1308,1502, 40.0202, 147.6308, 5273,   1214.8,     1202,   2.4688,  34.4821,2,     42.7,2,  34.4811,6,    42.11,2,   155.30,2,    42.73,2,     0.00,2,    3.050,2,     -999,9,     -999,9,-999,9,-999,9,     -999,9,     -999,9,     -999,9,     -999,     -999,9,     -999,9,   2.4693,2
  49UP20110515,   P01,    13,  1,     20,      93,2,20110520,1308,1453, 40.0202, 147.6308, 5273,   1417.0,     1401,   2.2800,  34.5241,2,     49.6,2,  34.5234,2,    49.50,2,   159.68,2,    42.53,2,     0.00,2,    3.030,2,     -999,9,     -999,9,-999,9,-999,9,     -999,9,     -999,9,     -999,9,     -999,     -999,9,     -999,9,   2.2803,2
  49UP20110515,   P01,    13,  1,     19,      92,2,20110520,1308,1449, 40.0202, 147.6308, 5273,   1620.1,     1601,   2.1404,  34.5551,2,     58.2,2,  34.5520,4,    57.73,2,   162.00,2,    42.01,2,     0.00,2,    2.980,2,     -999,9,     -999,9,-999,9,-999,9,     -999,9,     -999,9,     -999,9,     -999,     -999,9,     -999,9,   2.1405,2
  49UP20110515,   P01,    13,  1,     18,      91,2,20110520,1308,1442, 40.0202, 147.6308, 5273,   1823.4,     1802,   1.9926,  34.5837,2,     69.8,2,  34.5837,2,    69.65,2,   163.50,2,    41.44,2,     0.00,2,    2.890,3,     -999,9,     -999,9,-999,9,-999,9,     -999,9,     -999,9,     -999,9,     -999,     -999,9,     -999,9,   1.9926,2
  49UP20110515,   P01,    13,  1,     17,      90,2,20110520,1308,1436, 40.0202, 147.6308, 5273,   2026.7,     2001,   1.8553,  34.6084,2,     83.3,2,  34.6078,6,    83.40,2,   162.75,2,    40.62,2,     0.00,2,    2.850,2,     -999,9,     -999,9,-999,9,-999,9,     -999,9,     -999,9,     -999,9,     -999,     -999,9,     -999,9,   1.8558,2
  49UP20110515,   P01,    13,  1,     16,      89,2,20110520,1308,1431, 40.0202, 147.6308, 5273,   2231.6,     2203,   1.7564,  34.6263,2,     95.7,2,  34.6260,2,    96.08,2,   161.83,2,    39.87,2,     0.00,2,    2.790,2,     -999,9,     -999,9,-999,9,-999,9,     -999,9,     -999,9,     -999,9,     -999,     -999,9,     -999,9,   1.7564,2
  49UP20110515,   P01,    13,  1,     15,      88,2,20110520,1308,1424, 40.0202, 147.6308, 5273,   2434.2,     2402,   1.6736,  34.6403,2,    106.3,2,  34.6400,2,   106.49,2,   160.64,2,    39.15,2,     0.00,2,    2.740,2,     -999,9,     -999,9,-999,9,-999,9,     -999,9,     -999,9,     -999,9,     -999,     -999,9,     -999,9,   1.6736,2
  49UP20110515,   P01,    13,  1,     14,      87,2,20110520,1308,1424, 40.0202, 147.6308, 5273,   2434.2,     2402,   1.6736,  34.6403,2,    106.3,2,  34.6398,2,   106.28,2,   160.72,2,    39.16,2,     0.00,2,    2.740,2,     -999,9,     -999,9,-999,9,-999,9,     -999,9,     -999,9,     -999,9,     -999,     -999,9,     -999,9,   1.6736,2
  49UP20110515,   P01,    13,  1,     13,      86,2,20110520,1308,1419, 40.0202, 147.6308, 5273,   2637.6,     2601,   1.6104,  34.6509,2,    115.5,2,  34.6499,2,   115.60,2,   159.31,6,    38.50,6,     0.00,6,    2.700,6,     -999,9,     -999,9,-999,9,-999,9,     -999,9,     -999,9,     -999,9,     -999,     -999,9,     -999,9,   1.6105,2
  49UP20110515,   P01,    13,  1,     12,      85,2,20110520,1308,1415, 40.0202, 147.6308, 5273,   2842.4,     2802,   1.5645,  34.6587,2,    122.8,2,  34.6594,2,   122.76,6,   158.46,2,    38.14,2,     0.00,2,    2.670,2,     -999,9,     -999,9,-999,9,-999,9,     -999,9,     -999,9,     -999,9,     -999,     -999,9,     -999,9,   1.5647,2
  49UP20110515,   P01,    13,  1,     11,     110,2,20110520,1308,1408, 40.0202, 147.6308, 5273,   3046.8,     3002,   1.5292,  34.6654,2,    129.5,2,  34.6648,6,   130.14,2,   156.83,2,    37.69,2,     0.00,2,    2.630,2,     -999,9,     -999,9,-999,9,-999,9,     -999,9,     -999,9,     -999,9,     -999,     -999,9,     -999,9,   1.5292,2
  49UP20110515,   P01,    13,  1,     10,      83,2,20110520,1308,1402, 40.0202, 147.6308, 5273,   3301.9,     3251,   1.5016,  34.6712,2,    135.9,2,  34.6710,2,   135.59,2,   155.70,2,    37.19,2,     0.00,2,    2.600,2,     -999,9,     -999,9,-999,9,-999,9,     -999,9,     -999,9,     -999,9,     -999,     -999,9,     -999,9,   1.5016,2
  49UP20110515,   P01,    13,  1,      9,      82,2,20110520,1308,1355, 40.0202, 147.6308, 5273,   3558.0,     3501,   1.4800,  34.6762,2,    141.4,2,  34.6761,2,   141.58,2,   154.23,2,    36.85,2,     0.00,2,    2.570,2,     -999,9,     -999,9,-999,9,-999,9,     -999,9,     -999,9,     -999,9,     -999,     -999,9,     -999,9,   1.4800,2
  49UP20110515,   P01,    13,  1,      8,      81,2,20110520,1308,1349, 40.0202, 147.6308, 5273,   3814.5,     3752,   1.4628,  34.6809,2,    147.3,2,  34.6808,2,   147.59,2,   152.36,2,    36.52,2,     0.00,2,    2.540,2,     -999,9,     -999,9,-999,9,-999,9,     -999,9,     -999,9,     -999,9,     -999,     -999,9,     -999,9,   1.4628,2
  49UP20110515,   P01,    13,  1,      7,      80,3,20110520,1308,1342, 40.0202, 147.6308, 5273,   4071.2,     4002,   1.4578,  34.6842,2,    151.4,2,  34.6838,6,   151.50,2,   151.28,2,    36.27,2,     0.00,2,    2.510,2,     -999,9,     -999,9,-999,9,-999,9,     -999,9,     -999,9,     -999,9,     -999,     -999,9,     -999,9,   1.4578,2
  49UP20110515,   P01,    13,  1,      6,      79,2,20110520,1308,1337, 40.0202, 147.6308, 5273,   4328.2,     4252,   1.4622,  34.6869,2,    154.6,2,  34.6871,2,   155.57,2,   150.67,2,    36.07,2,     0.00,2,    2.500,2,     -999,9,     -999,9,-999,9,-999,9,     -999,9,     -999,9,     -999,9,     -999,     -999,9,     -999,9,   1.4623,2
  49UP20110515,   P01,    13,  1,      5,      78,2,20110520,1308,1328, 40.0202, 147.6308, 5273,   4585.1,     4502,   1.4746,  34.6887,2,    156.9,2,  34.6882,6,   156.78,6,   150.51,2,    35.85,2,     0.00,2,    2.480,2,     -999,9,     -999,9,-999,9,-999,9,     -999,9,     -999,9,     -999,9,     -999,     -999,9,     -999,9,   1.4747,2
  49UP20110515,   P01,    13,  1,      4,      77,2,20110520,1308,1321, 40.0202, 147.6308, 5273,   4842.4,     4751,   1.4968,  34.6898,2,    157.9,2,  34.6897,2,   158.26,2,   150.48,6,    35.79,6,     0.00,6,    2.480,6,     -999,9,     -999,9,-999,9,-999,9,     -999,9,     -999,9,     -999,9,     -999,     -999,9,     -999,9,   1.4969,2
  49UP20110515,   P01,    13,  1,      3,      76,2,20110520,1308,1315, 40.0202, 147.6308, 5273,   5099.9,     5001,   1.5202,  34.6908,2,    159.1,2,  34.6901,2,   159.11,2,   149.80,2,    35.68,2,     0.00,2,    2.470,2,     -999,9,     -999,9,-999,9,-999,9,     -999,9,     -999,9,     -999,9,     -999,     -999,9,     -999,9,   1.5203,2
  49UP20110515,   P01,    13,  1,      2,      75,2,20110520,1308,1315, 40.0202, 147.6308, 5273,   5099.9,     5001,   1.5202,  34.6908,2,    159.1,2,  34.6904,2,   159.04,2,   150.35,2,    35.76,2,     0.00,2,    2.480,2,     -999,9,     -999,9,-999,9,-999,9,     -999,9,     -999,9,     -999,9,     -999,     -999,9,     -999,9,   1.5203,2
  49UP20110515,   P01,    13,  1,      1,      74,2,20110520,1308,1308, 40.0202, 147.6308, 5273,   5363.5,     5257,   1.5463,  34.6917,2,    160.0,2,  34.6912,6,   159.95,2,   149.79,2,    35.64,2,     0.00,2,    2.480,2,     -999,9,     -999,9,-999,9,-999,9,     -999,9,     -999,9,     -999,9,     -999,     -999,9,     -999,9,   1.5463,2