BOTTLE,20240116CCHSIOVAJ
EXPOCODE,SECT_ID,STNNBR,CASTNO,SAMPNO,BTLNBR,BTLNBR_FLAG_W,DATE,TIME,BTL_TIME,LATITUDE,LONGITUDE,DEPTH,CTDPRS,CTDDEPTH,CTDTMP,CTDSAL,CTDSAL_FLAG_W,CTDOXY,CTDOXY_FLAG_W,SALNTY,SALNTY_FLAG_W,OXYGEN,OXYGEN_FLAG_W,SILCAT,SILCAT_FLAG_W,NO2+NO3,NO2+NO3_FLAG_W,NITRIT,NITRIT_FLAG_W,PHSPHT,PHSPHT_FLAG_W,CFC-11,CFC-11_FLAG_W,CFC-12,CFC-12_FLAG_W,DELC14,DELC14_FLAG_W,DELC13,DELC13_FLAG_W,TCARBN,TCARBN_FLAG_W,ALKALI,ALKALI_FLAG_W,PH_TOT,PH_TOT_FLAG_W,PH_TMP,CHLORA,CHLORA_FLAG_W,PPHYTN,PPHYTN_FLAG_W,REFTMP,REFTMP_FLAG_W
,,,,,,,,,,,,METERS,DBAR,METERS,ITS-90,PSS-78,,UMOL/KG,,PSS-78,,UMOL/KG,,UMOL/KG,,UMOL/KG,,UMOL/KG,,UMOL/KG,,PMOL/KG,,PMOL/KG,,/MILLE,,/MILLE,,UMOL/KG,,UMOL/KG,,,,DEG C,UG/KG,,UG/KG,,ITS-90,
  49UP20110515,   P13,    78,  1,      0,     BUC,2,20110717,1110,1315, 23.0103, 164.9723, 5846,      0.0,        0,  28.8130,  35.3273,2,    198.4,2,     -999,9,   197.20,2,     1.48,2,     0.02,2,     0.00,2,    0.040,2,     -999,9,     -999,9,-999,9,-999,9,     -999,9,     -999,9,     -999,9,     -999,     0.08,2,     0.01,2,     -999,9
  49UP20110515,   P13,    78,  1,     36,     109,2,20110717,1110,1329, 23.0103, 164.9723, 5846,     11.0,       11,  28.6664,  35.3201,2,    198.4,2,  35.3174,2,   198.77,6,     1.48,2,     0.00,2,     0.00,2,    0.030,3,    1.757,3,    1.077,2,-999,9,-999,9,   1993.2,2,   2315.8,2,   8.0774,2,    25.00,     0.03,2,     0.01,2,  28.6695,2
  49UP20110515,   P13,    78,  1,     35,     108,2,20110717,1110,1324, 23.0103, 164.9723, 5846,     50.9,       51,  22.2211,  35.1055,2,    235.3,2,  35.0951,4,   234.90,2,     1.81,2,     0.00,2,     0.00,2,    0.020,3,    2.487,3,    1.385,2,-999,9,-999,9,   1996.1,2,   2301.2,2,   8.0518,2,    25.00,     0.06,2,     0.01,2,  22.2069,2
  49UP20110515,   P13,    78,  1,     34,     107,2,20110717,1110,1323, 23.0103, 164.9723, 5846,    101.1,      100,  19.0075,  34.8440,2,    227.3,2,  34.8447,2,   226.46,2,     2.31,6,     0.01,6,     0.00,6,    0.060,6,    2.516,3,    1.500,2,-999,9,-999,9,   2006.0,2,   2286.5,2,   8.0070,2,    25.00,     0.18,2,     0.19,2,  19.0120,2
  49UP20110515,   P13,    78,  1,     33,     106,2,20110717,1110,1321, 23.0103, 164.9723, 5846,    151.5,      150,  17.5614,  34.7129,2,    210.2,2,  34.7120,2,   210.30,2,     3.62,2,     3.63,2,     0.03,2,    0.260,2,    2.577,3,    1.587,2,-999,9,-999,9,   2026.8,2,   2276.1,2,   7.9594,2,    25.00,     0.11,2,     0.14,2,  17.5758,2
  49UP20110515,   P13,    78,  1,     32,     105,2,20110717,1110,1319, 23.0103, 164.9723, 5846,    201.8,      200,  16.7306,  34.6440,2,    209.4,2,  34.6428,2,   208.55,2,     5.09,2,     5.43,2,     0.01,2,    0.380,2,    2.606,3,    1.599,2,-999,9,-999,9,   2030.8,2,   2273.7,2,   7.9427,2,    25.00,     0.00,2,     0.01,2,  16.7323,2
  49UP20110515,   P13,    78,  1,     31,     104,2,20110717,1110,1317, 23.0103, 164.9723, 5846,    251.8,      250,  15.6689,  34.5859,2,    200.4,2,  34.5841,2,   199.54,2,     7.41,2,     7.61,2,     0.01,2,    0.530,2,    2.754,3,    1.664,6,-999,9,-999,9,   2053.5,6,   2273.7,6,   7.8987,2,    25.00,     -999,9,     -999,9,  15.6730,2
  49UP20110515,   P13,    78,  1,     30,     103,2,20110717,1110,1315, 23.0103, 164.9723, 5846,    333.7,      331,  13.3744,  34.4392,2,    196.2,2,  34.4395,2,   196.41,2,    13.52,6,    11.66,6,     0.00,6,    0.820,6,    2.895,3,    1.696,2,-999,9,-999,9,   2082.1,2,   2271.9,2,   7.8335,6,    25.00,     -999,9,     -999,9,  13.3749,2
  49UP20110515,   P13,    78,  1,     29,     102,2,20110717,1110,1312, 23.0103, 164.9723, 5846,    433.4,      430,  10.4233,  34.2263,2,    191.8,2,  34.2259,2,   190.97,2,    23.04,2,    17.14,2,     0.00,2,    1.210,2,    3.114,3,    1.758,2,-999,9,-999,9,   2119.5,2,   2268.1,2,   7.7497,2,    25.00,     -999,9,     -999,9,  10.4226,2
  49UP20110515,   P13,    78,  1,     28,     101,2,20110717,1110,1310, 23.0103, 164.9723, 5846,    533.8,      530,   7.5727,  34.0757,2,    144.1,2,  34.0767,2,   143.82,2,    44.71,2,    26.69,2,     0.00,2,    1.900,2,    2.566,3,    1.368,2,-999,9,-999,9,   2190.4,2,   2279.9,2,   7.5814,2,    25.00,     -999,9,     -999,9,   7.5654,2
  49UP20110515,   P13,    78,  1,     27,     100,2,20110717,1110,1307, 23.0103, 164.9723, 5846,    635.6,      631,   5.8371,  34.0796,2,     95.2,2,  34.0799,6,    94.81,2,    69.23,2,    34.25,2,     0.00,2,    2.460,2,    1.603,3,    0.817,6,-999,9,-999,9,   2253.1,2,   2299.0,2,   7.4691,2,    25.00,     -999,9,     -999,9,   5.8375,2
  49UP20110515,   P13,    78,  1,     26,      99,2,20110717,1110,1304, 23.0103, 164.9723, 5846,    736.3,      730,   4.8303,  34.1793,2,     56.2,2,  34.1774,2,    56.51,2,    91.02,2,    39.26,2,     0.00,2,    2.820,2,    0.693,3,    0.355,2,-999,9,-999,9,   2300.6,2,   2322.3,2,   7.3818,2,    25.00,     -999,9,     -999,9,   4.8314,2
  49UP20110515,   P13,    78,  1,     25,      98,2,20110717,1110,1301, 23.0103, 164.9723, 5846,    836.5,      830,   4.2875,  34.2904,2,     43.3,2,  34.2888,2,    43.06,2,   105.32,6,    41.18,6,     0.00,6,    2.960,6,    0.248,3,    0.137,2,-999,9,-999,9,   2324.2,2,   2344.5,2,   7.3701,2,    25.00,     -999,9,     -999,9,   4.2886,2
  49UP20110515,   P13,    78,  1,     24,      97,2,20110717,1110,1258, 23.0103, 164.9723, 5846,    940.3,      932,   3.8207,  34.3841,2,     43.7,2,  34.3827,2,    44.03,6,   116.97,2,    41.81,2,     0.00,2,    3.000,2,    0.071,3,    0.058,2,-999,9,-999,9,   2342.9,2,   2361.4,6,   7.3748,2,    25.00,     -999,9,     -999,9,   3.8208,2
  49UP20110515,   P13,    78,  1,     23,      96,2,20110717,1110,1255, 23.0103, 164.9723, 5846,   1080.6,     1071,   3.4057,  34.4593,2,     53.3,2,  34.4561,4,    54.02,2,   125.28,2,    41.48,2,     0.00,2,    2.960,2,    0.078,3,    0.051,2,-999,9,-999,9,   2345.4,2,   2375.1,2,   7.3965,2,    25.00,     -999,9,     -999,9,   3.4060,2
  49UP20110515,   P13,    78,  1,     22,      95,2,20110717,1110,1250, 23.0103, 164.9723, 5846,   1285.9,     1274,   2.8833,  34.5248,2,     68.6,2,  34.5237,2,    68.68,2,   135.81,2,    40.92,2,     0.00,2,    2.910,2,    0.047,3,    0.023,2,-999,9,-999,9,   2348.9,2,   2388.5,2,   7.4295,2,    25.00,     -999,9,     -999,9,   2.8841,2
  49UP20110515,   P13,    78,  1,     21,      94,2,20110717,1110,1245, 23.0103, 164.9723, 5846,   1486.9,     1472,   2.5318,  34.5640,2,     80.2,2,  34.5639,2,    80.81,2,   141.66,2,    40.46,2,     0.00,2,    2.870,2,    0.000,3,    0.008,2,-999,9,-999,9,   2349.6,2,   2399.8,2,   7.4504,2,    25.00,     -999,9,     -999,9,   2.5319,2
  49UP20110515,   P13,    78,  1,     20,      93,2,20110717,1110,1241, 23.0103, 164.9723, 5846,   1690.2,     1673,   2.2272,  34.5942,2,     90.0,2,  34.5942,2,    90.64,2,   147.26,2,    39.95,2,     0.00,2,    2.810,2,    0.000,3,    0.010,2,-999,9,-999,9,   2351.7,2,   2406.1,2,   7.4701,2,    25.00,     -999,9,     -999,9,   2.2274,2
  49UP20110515,   P13,    78,  1,     19,      92,2,20110717,1110,1236, 23.0103, 164.9723, 5846,   1890.8,     1870,   2.0344,  34.6148,2,     99.9,2,  34.6128,2,    99.91,2,   148.94,2,    39.34,2,     0.00,2,    2.760,2,    0.000,3,    0.016,2,-999,9,-999,9,   2350.0,2,   2409.4,2,   7.4871,2,    25.00,     -999,9,     -999,9,   2.0342,2
  49UP20110515,   P13,    78,  1,     18,      91,2,20110717,1110,1232, 23.0103, 164.9723, 5846,   2094.8,     2071,   1.8911,  34.6312,2,    107.8,2,  34.6321,2,   108.05,2,   151.58,6,    38.94,6,     0.00,6,    2.740,6,    0.000,3,    0.008,2,-999,9,-999,9,   2346.5,2,   2413.3,2,   7.5021,2,    25.00,     -999,9,     -999,9,   1.8911,2
  49UP20110515,   P13,    78,  1,     17,      90,2,20110717,1110,1227, 23.0103, 164.9723, 5846,   2298.7,     2272,   1.7794,  34.6434,2,    114.9,2,  34.6435,2,   114.79,6,   152.69,2,    38.55,2,     0.00,2,    2.700,2,     -999,9,     -999,9,-999,9,-999,9,   2345.6,2,   2416.0,2,   7.5142,2,    25.00,     -999,9,     -999,9,   1.7795,2
  49UP20110515,   P13,    78,  1,     16,      89,2,20110717,1110,1223, 23.0103, 164.9723, 5846,   2501.2,     2471,   1.6938,  34.6534,2,    121.8,2,  34.6532,2,   122.07,2,   152.63,2,    38.10,2,     0.00,2,    2.660,2,    0.000,3,    0.009,2,-999,9,-999,9,   2342.4,2,   2417.3,2,   7.5248,2,    25.00,     -999,9,     -999,9,   1.6939,2
  49UP20110515,   P13,    78,  1,     15,      88,2,20110717,1110,1218, 23.0103, 164.9723, 5846,   2705.6,     2671,   1.6404,  34.6597,2,    126.8,2,  34.6597,2,   126.67,2,   152.78,2,    37.60,2,     0.00,2,    2.640,2,     -999,9,     -999,9,-999,9,-999,9,   2338.8,2,   2417.8,2,   7.5348,2,    25.00,     -999,9,     -999,9,   1.6404,2
  49UP20110515,   P13,    78,  1,     14,      87,2,20110717,1110,1214, 23.0103, 164.9723, 5846,   2908.9,     2871,   1.6049,  34.6643,2,    130.7,2,  34.6645,6,   130.77,2,   152.46,2,    37.54,2,     0.00,2,    2.610,2,     -999,9,     -999,9,-999,9,-999,9,   2337.3,2,   2419.0,2,   7.5444,2,    25.00,     -999,9,     -999,9,   1.6051,2
  49UP20110515,   P13,    78,  1,     13,      86,2,20110717,1110,1209, 23.0103, 164.9723, 5846,   3123.6,     3081,   1.5636,  34.6692,2,    135.5,2,  34.6703,2,   135.47,2,   151.29,2,    37.16,2,     0.00,2,    2.580,2,     -999,9,     -999,9,-999,9,-999,9,   2328.8,3,   2417.7,2,   7.5505,2,    25.00,     -999,9,     -999,9,   1.5633,2
  49UP20110515,   P13,    78,  1,     12,      85,2,20110717,1110,1204, 23.0103, 164.9723, 5846,   3378.2,     3330,   1.5294,  34.6741,2,    140.7,2,  34.6742,2,   140.61,2,   150.91,2,    36.90,2,     0.00,2,    2.560,2,    0.000,3,    0.010,2,-999,9,-999,9,   2330.0,2,   2418.5,2,   7.5570,2,    25.00,     -999,9,     -999,9,   1.5292,2
  49UP20110515,   P13,    78,  1,     11,     110,3,20110717,1110,1158, 23.0103, 164.9723, 5846,   3634.3,     3581,   1.5046,  34.6780,2,    145.3,2,  34.6784,2,   145.11,2,   149.55,2,    36.39,2,     0.00,2,    2.530,2,     -999,9,     -999,9,-999,9,-999,9,   2328.1,6,   2415.4,6,   7.5664,2,    25.00,     -999,9,     -999,9,   1.5046,2
  49UP20110515,   P13,    78,  1,     10,      83,3,20110717,1110,1153, 23.0103, 164.9723, 5846,   3891.5,     3832,   1.4865,  34.6814,2,    150.0,2,  34.6841,4,   150.15,2,   147.85,2,    36.16,2,     0.00,2,    2.510,2,     -999,9,     -999,9,-999,9,-999,9,   2325.7,2,   2416.0,2,   7.5700,2,    25.00,     -999,9,     -999,9,   1.4864,2
  49UP20110515,   P13,    78,  1,      9,      82,2,20110717,1110,1147, 23.0103, 164.9723, 5846,   4147.1,     4081,   1.4676,  34.6854,2,    155.3,2,  34.6861,2,   155.34,2,   145.76,2,    35.83,2,     0.00,2,    2.480,2,     -999,9,     -999,9,-999,9,-999,9,   2320.1,2,   2412.5,2,   7.5760,2,    25.00,     -999,9,     -999,9,   1.4676,2
  49UP20110515,   P13,    78,  1,      8,      81,2,20110717,1110,1142, 23.0103, 164.9723, 5846,   4403.4,     4331,   1.4571,  34.6887,2,    160.3,2,  34.6888,2,   160.45,2,   143.39,2,    35.53,2,     0.00,2,    2.450,2,     -999,9,     -999,9,-999,9,-999,9,   2310.0,3,   2410.4,2,   7.5840,2,    25.00,     -999,9,     -999,9,   1.4573,2
  49UP20110515,   P13,    78,  1,      7,      80,2,20110717,1110,1137, 23.0103, 164.9723, 5846,   4660.5,     4581,   1.4509,  34.6918,2,    165.4,2,  34.6915,6,   165.15,2,   140.66,2,    35.17,2,     0.00,2,    2.430,2,    0.000,3,    0.012,2,-999,9,-999,9,   2308.3,2,   2407.0,2,   7.5900,2,    25.00,     -999,9,     -999,9,   1.4508,2
  49UP20110515,   P13,    78,  1,      6,      79,2,20110717,1110,1131, 23.0103, 164.9723, 5846,   4917.9,     4831,   1.4538,  34.6939,2,    169.3,2,  34.6950,2,   169.49,2,   138.09,2,    34.89,2,     0.00,2,    2.410,2,     -999,9,     -999,9,-999,9,-999,9,   2305.7,2,   2403.3,2,   7.5895,3,    25.00,     -999,9,     -999,9,   1.4538,2
  49UP20110515,   P13,    78,  1,      5,      78,2,20110717,1110,1126, 23.0103, 164.9723, 5846,   5174.6,     5081,   1.4585,  34.6961,2,    173.0,2,  34.6956,2,   173.06,2,   135.90,2,    34.52,2,     0.00,2,    2.390,2,     -999,9,     -999,9,-999,9,-999,9,   2302.0,2,   2400.9,2,   7.5972,2,    25.00,     -999,9,     -999,9,   1.4587,2
  49UP20110515,   P13,    78,  1,      4,      77,2,20110717,1110,1121, 23.0103, 164.9723, 5846,   5432.5,     5331,   1.4709,  34.6973,2,    175.6,2,  34.6976,2,   175.90,2,   133.78,2,    34.26,2,     0.00,2,    2.380,2,     -999,9,     -999,9,-999,9,-999,9,   2297.1,2,   2399.0,2,   7.6021,2,    25.00,     -999,9,     -999,9,   1.4709,2
  49UP20110515,   P13,    78,  1,      3,      76,2,20110717,1110,1116, 23.0103, 164.9723, 5846,   5690.6,     5581,   1.4932,  34.6983,2,    177.2,2,  34.6987,2,   177.60,2,   132.94,2,    34.28,2,     0.00,2,    2.360,2,     -999,9,     -999,9,-999,9,-999,9,   2296.1,2,   2397.3,2,   7.6013,2,    25.00,     -999,9,     -999,9,   1.4933,2
  49UP20110515,   P13,    78,  1,      1,     112,3,20110717,1110,1110, 23.0103, 164.9723, 5846,   5954.0,     5836,   1.5203,  34.6989,2,    178.4,2,  34.6989,6,   178.76,2,   132.50,2,    34.25,2,     0.00,2,    2.370,2,     -999,9,     -999,9,-999,9,-999,9,   2284.2,3,   2397.2,2,   7.6024,2,    25.00,     -999,9,     -999,9,   1.5203,2
  49UP20110515,   P13,    78,  1,      2,      75,2,20110717,1110,1110, 23.0103, 164.9723, 5846,   5955.2,     5837,   1.5203,  34.6989,2,    178.4,2,  34.6987,2,   178.80,6,   132.55,2,    34.20,2,     0.00,2,    2.360,2,    0.000,3,    0.000,2,-999,9,-999,9,   2291.8,2,   2395.6,2,   7.6019,2,    25.00,     -999,9,     -999,9,   1.5204,2