BOTTLE,20240116CCHSIOVAJ
EXPOCODE,SECT_ID,STNNBR,CASTNO,SAMPNO,BTLNBR,BTLNBR_FLAG_W,DATE,TIME,BTL_TIME,LATITUDE,LONGITUDE,DEPTH,CTDPRS,CTDDEPTH,CTDTMP,CTDSAL,CTDSAL_FLAG_W,CTDOXY,CTDOXY_FLAG_W,SALNTY,SALNTY_FLAG_W,OXYGEN,OXYGEN_FLAG_W,SILCAT,SILCAT_FLAG_W,NO2+NO3,NO2+NO3_FLAG_W,NITRIT,NITRIT_FLAG_W,PHSPHT,PHSPHT_FLAG_W,CFC-11,CFC-11_FLAG_W,CFC-12,CFC-12_FLAG_W,DELC14,DELC14_FLAG_W,DELC13,DELC13_FLAG_W,TCARBN,TCARBN_FLAG_W,ALKALI,ALKALI_FLAG_W,PH_TOT,PH_TOT_FLAG_W,PH_TMP,CHLORA,CHLORA_FLAG_W,PPHYTN,PPHYTN_FLAG_W,REFTMP,REFTMP_FLAG_W
,,,,,,,,,,,,METERS,DBAR,METERS,ITS-90,PSS-78,,UMOL/KG,,PSS-78,,UMOL/KG,,UMOL/KG,,UMOL/KG,,UMOL/KG,,UMOL/KG,,PMOL/KG,,PMOL/KG,,/MILLE,,/MILLE,,UMOL/KG,,UMOL/KG,,,,DEG C,UG/KG,,UG/KG,,ITS-90,
  49UP20110515,   P01,    30,  1,      0,     BUC,2,20110608,1208,1450, 43.0917, 153.3390, 5171,      0.0,        0,   6.8487,  32.9086,2,    321.3,2,     -999,9,   319.72,2,    31.74,2,    17.41,2,     0.22,2,    1.550,2,     -999,9,     -999,9,-999,9,-999,9,     -999,9,     -999,9,     -999,9,     -999,     0.24,2,     0.01,2,     -999,9
  49UP20110515,   P01,    30,  1,     36,     109,2,20110608,1208,1509, 43.0917, 153.3390, 5171,     10.7,       11,   6.8281,  32.8998,2,    321.2,2,  32.9098,4,   321.41,2,    31.86,2,    17.35,2,     0.22,2,    1.550,2,    4.714,2,    2.693,2,-999,9,-999,9,   2080.0,2,   2231.7,2,   7.7741,2,    25.00,     0.27,2,     0.01,2,   6.8059,2
  49UP20110515,   P01,    30,  1,     35,     108,2,20110608,1208,1504, 43.0917, 153.3390, 5171,     52.1,       52,   3.5345,  32.9911,2,    337.8,2,  32.9930,2,   338.52,2,    38.45,6,    20.99,6,     0.26,6,    1.780,6,    5.820,2,    2.979,2,-999,9,-999,9,   2106.6,2,   2234.7,2,   7.7170,2,    25.00,     0.36,2,     0.09,2,   3.5304,2
  49UP20110515,   P01,    30,  1,     34,     107,2,20110608,1208,1503, 43.0917, 153.3390, 5171,     76.0,       75,   1.8471,  33.0657,2,    330.0,2,  33.0654,2,   331.28,2,    43.58,2,    24.40,2,     0.73,2,    1.960,2,    5.788,2,    3.123,2,-999,9,-999,9,   2131.3,2,   2238.8,2,   7.6430,2,    25.00,     0.14,2,     0.08,2,   1.8483,2
  49UP20110515,   P01,    30,  1,     33,     106,2,20110608,1208,1501, 43.0917, 153.3390, 5171,    101.4,      101,   1.5179,  33.1022,2,    321.6,2,  33.1028,2,   321.86,2,    46.38,6,    25.59,6,     0.05,6,    2.020,6,    5.440,2,    3.093,2,-999,9,-999,9,   2138.5,2,   2237.9,2,   7.6218,2,    25.00,     0.09,2,     0.11,2,   1.5185,2
  49UP20110515,   P01,    30,  1,     32,     105,2,20110608,1208,1457, 43.0917, 153.3390, 5171,    152.2,      151,   2.3085,  33.4577,2,    190.7,2,  33.4481,2,   188.80,6,    70.73,2,    34.73,2,     0.02,2,    2.580,2,    3.873,2,    2.265,2,-999,9,-999,9,   2229.1,2,   2266.1,2,   7.4394,2,    25.00,     0.04,2,     0.10,2,   2.3162,2
  49UP20110515,   P01,    30,  1,     31,     104,2,20110608,1208,1454, 43.0917, 153.3390, 5171,    202.5,      201,   2.9653,  33.6969,2,    112.2,2,  33.6949,2,   111.85,2,    86.51,2,    39.12,2,     0.02,2,    2.840,2,    3.066,6,    1.664,6,-999,9,-999,9,   2287.4,2,   2285.8,2,   7.3354,6,    25.00,     0.06,2,     0.11,2,   2.9643,2
  49UP20110515,   P01,    30,  1,     30,     103,2,20110608,1208,1451, 43.0917, 153.3390, 5171,    253.5,      251,   3.2511,  33.8282,2,     67.3,2,  33.8257,2,    68.52,2,    95.80,2,    41.82,2,     0.02,2,    3.000,2,    2.473,2,    1.300,2,-999,9,-999,9,   2313.8,6,   2298.1,6,   7.2841,2,    25.00,     -999,9,     -999,9,   3.2521,2
  49UP20110515,   P01,    30,  1,     29,     102,2,20110608,1208,1449, 43.0917, 153.3390, 5171,    283.5,      281,   3.3310,  33.8878,2,     53.1,2,  33.8899,6,    52.13,2,   100.65,2,    42.90,2,     0.01,2,    3.070,2,    2.112,2,    1.142,2,-999,9,-999,9,   2323.5,2,   2300.8,2,   7.2654,2,    25.00,     -999,9,     -999,9,   3.3298,2
  49UP20110515,   P01,    30,  1,     28,     101,3,20110608,1208,1447, 43.0917, 153.3390, 5171,    375.3,      372,   3.4117,  34.0339,2,     30.7,2,  34.0301,2,    30.74,4,   112.79,2,    43.99,2,     0.00,2,    3.130,2,    1.456,2,    0.773,2,-999,9,-999,9,   2345.8,2,   2320.9,2,   7.2646,2,    25.00,     -999,9,     -999,9,   3.4081,2
  49UP20110515,   P01,    30,  1,     27,     100,2,20110608,1208,1444, 43.0917, 153.3390, 5171,    476.4,      472,   3.2459,  34.1413,2,     26.8,2,  34.1414,2,    26.55,2,   124.20,2,    43.83,2,     0.00,2,    3.120,2,    1.020,6,    0.513,6,-999,9,-999,9,   2354.1,2,   2337.6,2,   7.2839,2,    25.00,     -999,9,     -999,9,   3.2440,2
  49UP20110515,   P01,    30,  1,     26,      99,2,20110608,1208,1441, 43.0917, 153.3390, 5171,    575.2,      570,   3.1905,  34.2271,2,     21.1,2,  34.2253,2,    20.88,2,   131.98,2,    43.96,2,     0.00,2,    3.130,2,    4.534,4,    9.197,4,-999,9,-999,9,   2363.7,2,   2348.1,2,   7.2847,6,    25.00,     -999,9,     -999,9,   3.1891,2
  49UP20110515,   P01,    30,  1,     25,      98,2,20110608,1208,1438, 43.0917, 153.3390, 5171,    677.3,      671,   3.0510,  34.2939,2,     16.0,2,  34.2932,2,    15.55,2,   140.48,2,    44.20,2,     0.00,2,    3.150,2,    0.452,2,    0.199,2,-999,9,-999,9,   2371.6,6,   2359.9,6,   7.2936,2,    25.00,     -999,9,     -999,9,   3.0514,2
  49UP20110515,   P01,    30,  1,     24,      97,2,20110608,1208,1431, 43.0917, 153.3390, 5171,    779.2,      772,   2.8748,  34.3320,2,     24.9,2,  34.3321,2,    24.76,6,   144.33,2,    43.58,2,     0.00,2,    3.110,2,    0.407,2,    0.193,2,-999,9,-999,9,   2372.0,2,   2366.8,2,   7.3088,2,    25.00,     -999,9,     -999,9,   2.8754,2
  49UP20110515,   P01,    30,  1,     23,      96,2,20110608,1208,1428, 43.0917, 153.3390, 5171,    878.5,      870,   2.7394,  34.3786,2,     28.2,2,  34.3766,2,    27.62,2,   149.01,2,    43.36,2,     0.00,2,    3.100,2,    0.321,2,    0.156,2,-999,9,-999,9,   2377.6,2,   2373.2,2,   7.3220,2,    25.00,     -999,9,     -999,9,   2.7397,2
  49UP20110515,   P01,    30,  1,     22,      95,2,20110608,1208,1427, 43.0917, 153.3390, 5171,    879.1,      870,   2.7398,  34.3787,2,     28.3,2,  34.3779,2,    27.67,2,   148.99,3,    43.47,2,     0.00,2,    3.120,2,    0.360,2,    0.143,2,-999,9,-999,9,   2377.6,2,   2373.9,2,   7.3263,2,    25.00,     -999,9,     -999,9,   2.7401,2
  49UP20110515,   P01,    30,  1,     21,      94,2,20110608,1208,1424, 43.0917, 153.3390, 5171,    980.5,      970,   2.5965,  34.4160,2,     25.6,2,  34.4160,6,    26.36,2,   155.59,2,    43.67,2,     0.00,2,    3.110,2,    0.231,2,    0.085,2,-999,9,-999,9,   2380.1,2,   2383.5,2,   7.3254,2,    25.00,     -999,9,     -999,9,   2.5968,2
  49UP20110515,   P01,    30,  1,     20,      93,3,20110608,1208,1419, 43.0917, 153.3390, 5171,   1143.0,     1131,   2.4067,  34.4654,2,     36.9,2,  34.4640,2,    36.30,2,   158.93,4,    43.03,2,     0.00,2,    3.070,2,    0.187,2,    0.061,2,-999,9,-999,9,   2379.9,2,   2391.6,2,   7.3492,2,    25.00,     -999,9,     -999,9,   2.4070,2
  49UP20110515,   P01,    30,  1,     19,      92,2,20110608,1208,1411, 43.0917, 153.3390, 5171,   1345.1,     1330,   2.2372,  34.5149,2,     46.7,2,  34.5143,2,    46.53,2,   162.02,2,    42.58,2,     0.00,2,    3.000,3,     -999,9,     -999,9,-999,9,-999,9,   2380.1,2,   2401.1,2,   7.3781,2,    25.00,     -999,9,     -999,9,   2.2374,2
  49UP20110515,   P01,    30,  1,     18,      91,2,20110608,1208,1411, 43.0917, 153.3390, 5171,   1345.8,     1331,   2.2335,  34.5151,2,     46.7,2,  34.5148,2,    46.70,2,   162.20,2,    42.53,2,     0.00,2,    3.010,2,     -999,9,     -999,9,-999,9,-999,9,   2381.6,2,   2400.0,2,   7.3783,2,    25.00,     -999,9,     -999,9,   2.2340,2
  49UP20110515,   P01,    30,  1,     17,      90,2,20110608,1208,1405, 43.0917, 153.3390, 5171,   1549.1,     1531,   2.0871,  34.5506,2,     55.3,2,  34.5506,2,    55.88,2,   164.73,2,    42.04,2,     0.00,2,    2.980,2,    0.085,2,    0.024,2,-999,9,-999,9,   2383.5,2,   2404.5,2,   7.3974,2,    25.00,     -999,9,     -999,9,   2.0874,2
  49UP20110515,   P01,    30,  1,     16,      89,2,20110608,1208,1400, 43.0917, 153.3390, 5171,   1751.9,     1731,   1.9646,  34.5800,2,     65.8,2,  34.5797,2,    65.77,2,   165.94,2,    41.48,2,     0.00,2,    2.920,2,    0.083,2,    0.018,2,-999,9,-999,9,   2378.9,2,   2411.7,2,   7.4213,2,    25.00,     -999,9,     -999,9,   1.9660,2
  49UP20110515,   P01,    30,  1,     15,      88,2,20110608,1208,1352, 43.0917, 153.3390, 5171,   1956.1,     1932,   1.8461,  34.6039,2,     77.3,2,  34.6039,2,    77.12,2,   166.92,6,    40.83,6,     0.00,6,    2.880,6,    0.060,2,    0.001,2,-999,9,-999,9,   2375.3,2,   2412.4,2,   7.4402,2,    25.00,     -999,9,     -999,9,   1.8462,2
  49UP20110515,   P01,    30,  1,     14,      87,2,20110608,1208,1347, 43.0917, 153.3390, 5171,   2159.6,     2131,   1.7480,  34.6230,2,     89.8,2,  34.6230,2,    89.83,2,   166.06,2,    40.04,2,     0.00,2,    2.820,2,     -999,5,     -999,5,-999,9,-999,9,   2369.8,2,   2414.8,2,   7.4724,3,    25.00,     -999,9,     -999,9,   1.7479,2
  49UP20110515,   P01,    30,  1,     13,      86,2,20110608,1208,1343, 43.0917, 153.3390, 5171,   2362.8,     2331,   1.6674,  34.6379,2,    101.8,2,  34.6364,4,   102.16,2,   164.21,2,    39.33,2,     0.00,2,    2.760,2,     -999,9,     -999,9,-999,9,-999,9,   2362.5,2,   2414.7,2,   7.4895,2,    25.00,     -999,9,     -999,9,   1.6675,2
  49UP20110515,   P01,    30,  1,     12,      85,2,20110608,1208,1329, 43.0917, 153.3390, 5171,   2565.9,     2530,   1.6101,  34.6484,2,    111.1,2,  34.6484,2,   111.02,2,   162.42,2,    38.77,2,     0.00,2,    2.720,2,     -999,9,     -999,9,-999,9,-999,9,   2357.7,2,   2418.6,2,   7.5050,2,    25.00,     -999,9,     -999,9,   1.6101,2
  49UP20110515,   P01,    30,  1,     11,     110,2,20110608,1208,1325, 43.0917, 153.3390, 5171,   2770.1,     2730,   1.5603,  34.6576,2,    120.1,2,  34.6579,6,   120.40,2,   160.23,2,    38.14,2,     0.00,2,    2.680,2,     -999,5,     -999,5,-999,9,-999,9,   2347.6,2,   2418.7,2,   7.5211,2,    25.00,     -999,9,     -999,9,   1.5603,2
  49UP20110515,   P01,    30,  1,     10,      83,2,20110608,1208,1309, 43.0917, 153.3390, 5171,   2976.7,     2932,   1.5333,  34.6634,2,    126.7,2,  34.6641,2,   127.05,2,   158.58,2,    37.81,2,     0.00,2,    2.650,2,     -999,9,     -999,9,-999,9,-999,9,   2345.8,2,   2415.9,2,   7.5340,2,    25.00,     -999,9,     -999,9,   1.5331,2
  49UP20110515,   P01,    30,  1,      9,      82,2,20110608,1208,1301, 43.0917, 153.3390, 5171,   3220.9,     3171,   1.4991,  34.6702,2,    134.3,2,  34.6701,2,   134.66,2,   156.52,2,    37.33,2,     0.00,2,    2.610,2,     -999,9,     -999,9,-999,9,-999,9,   2339.4,2,   2419.4,2,   7.5486,2,    25.00,     -999,9,     -999,9,   1.4991,2
  49UP20110515,   P01,    30,  1,      8,      81,2,20110608,1208,1256, 43.0917, 153.3390, 5171,   3476.0,     3420,   1.4759,  34.6758,2,    140.6,2,  34.6759,2,   140.60,2,   155.00,2,    37.01,2,     0.00,2,    2.580,2,     -999,9,     -999,9,-999,9,-999,9,   2334.0,2,   2417.2,2,   7.5597,2,    25.00,     -999,9,     -999,9,   1.4761,2
  49UP20110515,   P01,    30,  1,      7,      80,2,20110608,1208,1248, 43.0917, 153.3390, 5171,   3732.8,     3671,   1.4616,  34.6800,2,    145.9,2,  34.6794,2,   145.93,2,   153.17,2,    36.56,2,     0.00,2,    2.550,2,    0.054,2,    0.000,2,-999,9,-999,9,   2334.4,2,   2416.9,2,   7.5680,2,    25.00,     -999,9,     -999,9,   1.4614,2
  49UP20110515,   P01,    30,  1,      6,      79,2,20110608,1208,1242, 43.0917, 153.3390, 5171,   3990.3,     3922,   1.4539,  34.6840,2,    150.6,2,  34.6847,2,   150.52,2,   152.43,2,    36.31,2,     0.00,2,    2.520,2,     -999,9,     -999,9,-999,9,-999,9,   2328.9,6,   2415.8,6,   7.5740,2,    25.00,     -999,9,     -999,9,   1.4540,2
  49UP20110515,   P01,    30,  1,      5,      78,2,20110608,1208,1235, 43.0917, 153.3390, 5171,   4245.7,     4170,   1.4580,  34.6865,2,    153.7,2,  34.6867,2,   154.04,2,   151.64,2,    35.97,2,     0.00,2,    2.500,2,     -999,9,     -999,9,-999,9,-999,9,   2326.0,2,   2416.6,2,   7.5840,2,    25.00,     -999,9,     -999,9,   1.4582,2
  49UP20110515,   P01,    30,  1,      4,      77,2,20110608,1208,1229, 43.0917, 153.3390, 5171,   4504.9,     4422,   1.4692,  34.6885,2,    156.3,2,  34.6885,2,   157.54,3,   150.54,2,    35.88,2,     0.00,2,    2.490,2,     -999,9,     -999,9,-999,9,-999,9,   2322.8,2,   2415.1,2,   7.5844,2,    25.00,     -999,9,     -999,9,   1.4692,2
  49UP20110515,   P01,    30,  1,      3,      76,2,20110608,1208,1222, 43.0917, 153.3390, 5171,   4761.3,     4671,   1.4889,  34.6900,2,    157.7,2,  34.6898,2,   157.58,2,   150.87,6,    35.75,6,     0.00,6,    2.490,6,    0.056,2,    0.000,2,-999,9,-999,9,   2322.8,2,   2415.8,2,   7.5888,2,    25.00,     -999,9,     -999,9,   1.4890,2
  49UP20110515,   P01,    30,  1,      2,      75,2,20110608,1208,1214, 43.0917, 153.3390, 5171,   5018.8,     4921,   1.5160,  34.6905,2,    158.2,2,  34.6908,6,   158.30,2,   150.95,2,    35.65,2,     0.00,2,    2.480,2,     -999,9,     -999,9,-999,9,-999,9,   2321.9,2,   2416.7,2,   7.5863,2,    25.00,     -999,9,     -999,9,   1.5160,2
  49UP20110515,   P01,    30,  1,      1,      74,3,20110608,1208,1209, 43.0917, 153.3390, 5171,   5265.1,     5160,   1.5441,  34.6909,2,    158.7,2,  34.6889,4,   158.66,2,   150.11,4,    35.63,2,     0.00,2,    2.480,2,     -999,9,     -999,9,-999,9,-999,9,   2323.2,2,   2414.5,2,   7.5856,2,    25.00,     -999,9,     -999,9,   1.5439,2