BOTTLE,20240116CCHSIOVAJ
EXPOCODE,SECT_ID,STNNBR,CASTNO,SAMPNO,BTLNBR,BTLNBR_FLAG_W,DATE,TIME,BTL_TIME,LATITUDE,LONGITUDE,DEPTH,CTDPRS,CTDDEPTH,CTDTMP,CTDSAL,CTDSAL_FLAG_W,CTDOXY,CTDOXY_FLAG_W,SALNTY,SALNTY_FLAG_W,OXYGEN,OXYGEN_FLAG_W,SILCAT,SILCAT_FLAG_W,NO2+NO3,NO2+NO3_FLAG_W,NITRIT,NITRIT_FLAG_W,PHSPHT,PHSPHT_FLAG_W,CFC-11,CFC-11_FLAG_W,CFC-12,CFC-12_FLAG_W,DELC14,DELC14_FLAG_W,DELC13,DELC13_FLAG_W,TCARBN,TCARBN_FLAG_W,ALKALI,ALKALI_FLAG_W,PH_TOT,PH_TOT_FLAG_W,PH_TMP,CHLORA,CHLORA_FLAG_W,PPHYTN,PPHYTN_FLAG_W,REFTMP,REFTMP_FLAG_W
,,,,,,,,,,,,METERS,DBAR,METERS,ITS-90,PSS-78,,UMOL/KG,,PSS-78,,UMOL/KG,,UMOL/KG,,UMOL/KG,,UMOL/KG,,UMOL/KG,,PMOL/KG,,PMOL/KG,,/MILLE,,/MILLE,,UMOL/KG,,UMOL/KG,,,,DEG C,UG/KG,,UG/KG,,ITS-90,
  49UP20110515,   P13,   128,  1,      0,     BUC,2,20110809,1146,1325, -0.3387, 164.9955, 4402,      0.0,        0,  29.7017,  34.8784,2,    195.9,2,     -999,9,   193.86,2,     1.34,2,     0.17,2,     0.00,2,    0.210,2,     -999,9,     -999,9,-999,9,-999,9,     -999,9,     -999,9,     -999,9,     -999,     -999,9,     -999,9,     -999,9
  49UP20110515,   P13,   128,  1,     36,     109,2,20110809,1146,1353, -0.3387, 164.9955, 4402,     10.8,       11,  29.6984,  34.8777,2,    195.9,2,  34.8779,2,   194.94,2,     1.25,2,     0.00,2,     0.00,2,    0.160,2,     -999,9,     -999,9,-999,9,-999,9,   1953.5,2,   2291.6,2,     -999,9,     -999,     -999,9,     -999,9,  29.6983,2
  49UP20110515,   P13,   128,  1,     35,     108,2,20110809,1146,1351, -0.3387, 164.9955, 4402,     24.4,       24,  29.6966,  34.8777,2,    195.9,2,  34.8783,2,   195.07,2,     1.23,2,     0.00,2,     0.00,2,    0.160,2,     -999,9,     -999,9,-999,9,-999,9,   1951.0,2,   2290.3,2,     -999,9,     -999,     -999,9,     -999,9,  29.6979,2
  49UP20110515,   P13,   128,  1,     34,     107,2,20110809,1146,1349, -0.3387, 164.9955, 4402,     51.4,       51,  29.6371,  34.8577,2,    196.1,2,  34.8573,2,   195.59,2,     1.20,2,     0.00,2,     0.00,2,    0.160,2,     -999,9,     -999,9,-999,9,-999,9,   1955.5,2,   2287.5,2,     -999,9,     -999,     -999,9,     -999,9,  29.6370,2
  49UP20110515,   P13,   128,  1,     33,     106,2,20110809,1146,1348, -0.3387, 164.9955, 4402,     76.3,       76,  29.5676,  34.8595,2,    196.2,2,  34.8570,2,   195.58,2,     1.22,2,     0.03,2,     0.00,2,    0.170,2,     -999,9,     -999,9,-999,9,-999,9,   1955.8,2,   2288.5,2,     -999,9,     -999,     -999,9,     -999,9,  29.5604,2
  49UP20110515,   P13,   128,  1,     32,     105,2,20110809,1146,1344, -0.3387, 164.9955, 4402,    100.7,      100,  29.1785,  35.3054,2,    193.7,2,  35.3045,2,   193.74,6,     1.51,2,     1.19,2,     0.10,2,    0.310,2,     -999,9,     -999,9,-999,9,-999,9,   1995.5,2,   2320.3,2,     -999,9,     -999,     -999,9,     -999,9,  29.1810,2
  49UP20110515,   P13,   128,  1,     31,     104,2,20110809,1146,1342, -0.3387, 164.9955, 4402,    126.5,      126,  27.2557,  35.5672,2,    165.4,2,  35.5683,2,   166.79,2,     1.97,2,     6.08,2,     0.51,2,    0.590,2,     -999,9,     -999,9,-999,9,-999,9,   2044.8,2,   2335.2,2,     -999,9,     -999,     -999,9,     -999,9,  27.2609,2
  49UP20110515,   P13,   128,  1,     30,     103,2,20110809,1146,1340, -0.3387, 164.9955, 4402,    153.7,      153,  20.5142,  35.4641,2,    138.2,2,  35.5439,4,   136.42,2,     4.28,2,    10.14,2,     0.01,2,    0.840,2,     -999,9,     -999,9,-999,9,-999,9,   2103.1,2,   2334.9,2,     -999,9,     -999,     -999,9,     -999,9,  20.5334,2
  49UP20110515,   P13,   128,  1,     29,     102,2,20110809,1146,1338, -0.3387, 164.9955, 4402,    199.4,      198,  16.9088,  35.2693,2,    142.2,2,  35.2716,2,   142.19,2,     7.19,2,    12.94,2,     0.00,2,    1.000,2,     -999,9,     -999,9,-999,9,-999,9,   2125.1,2,   2321.3,2,     -999,9,     -999,     -999,9,     -999,9,  16.9100,2
  49UP20110515,   P13,   128,  1,     28,     101,2,20110809,1146,1336, -0.3387, 164.9955, 4402,    252.9,      251,  12.5897,  34.8904,2,    141.0,2,  34.8996,2,   140.90,2,    16.02,2,    19.30,2,     0.00,2,    1.390,2,     -999,9,     -999,9,-999,9,-999,9,   2155.8,2,   2305.7,2,     -999,9,     -999,     -999,9,     -999,9,  12.6411,2
  49UP20110515,   P13,   128,  1,     27,     100,2,20110809,1146,1334, -0.3387, 164.9955, 4402,    283.0,      281,  11.6298,  34.8421,2,    139.0,2,  34.8396,2,   138.14,2,    17.43,6,    21.44,6,     0.00,6,    1.530,6,     -999,9,     -999,9,-999,9,-999,9,   2163.9,2,   2305.1,2,     -999,9,     -999,     -999,9,     -999,9,  11.6408,2
  49UP20110515,   P13,   128,  1,     26,      99,2,20110809,1146,1332, -0.3387, 164.9955, 4402,    333.0,      331,  10.4684,  34.7483,2,     97.2,2,  34.7499,6,    97.00,2,    24.81,2,    27.62,2,     0.00,2,    1.930,2,     -999,9,     -999,9,-999,9,-999,9,   2205.3,2,   2303.6,2,     -999,9,     -999,     -999,9,     -999,9,  10.4782,2
  49UP20110515,   P13,   128,  1,     25,      98,2,20110809,1146,1331, -0.3387, 164.9955, 4402,    373.4,      371,   9.8679,  34.7204,2,    102.0,2,  34.7265,2,   101.01,2,    24.47,2,    28.26,2,     0.00,2,    1.970,2,     -999,9,     -999,9,-999,9,-999,9,   2203.8,2,   2302.8,2,     -999,9,     -999,     -999,9,     -999,9,   9.8891,2
  49UP20110515,   P13,   128,  1,     24,      97,2,20110809,1146,1326, -0.3387, 164.9955, 4402,    474.3,      471,   8.1347,  34.6058,2,    120.9,2,  34.6046,2,   121.36,2,    30.27,2,    30.18,2,     0.00,2,    2.090,2,     -999,9,     -999,9,-999,9,-999,9,   2206.7,2,   2303.5,2,     -999,9,     -999,     -999,9,     -999,9,   8.1395,2
  49UP20110515,   P13,   128,  1,     22,      95,4,20110809,1146,1323, -0.3387, 164.9955, 4402,    577.0,      573,   6.9439,  34.5539,2,    112.4,2,     -999,9,     -999,9,     -999,9,     -999,9,     -999,9,     -999,9,     -999,9,     -999,9,-999,9,-999,9,     -999,9,     -999,9,     -999,9,     -999,     -999,9,     -999,9,   6.9443,2
  49UP20110515,   P13,   128,  1,     23,      96,2,20110809,1146,1323, -0.3387, 164.9955, 4402,    577.2,      573,   6.9355,  34.5544,2,    112.1,2,  34.5545,6,   111.93,2,    40.69,2,    33.44,2,     0.00,2,    2.330,2,     -999,9,     -999,9,-999,9,-999,9,   2229.4,2,   2310.9,2,     -999,9,     -999,     -999,9,     -999,9,   6.9370,2
  49UP20110515,   P13,   128,  1,     21,      94,2,20110809,1146,1320, -0.3387, 164.9955, 4402,    676.9,      672,   6.1014,  34.5468,2,     85.4,2,  34.5469,2,    85.35,6,    55.77,2,    37.45,2,     0.00,2,    2.640,2,     -999,9,     -999,9,-999,9,-999,9,   2267.5,2,   2322.8,2,     -999,9,     -999,     -999,9,     -999,9,   6.1031,2
  49UP20110515,   P13,   128,  1,     20,      93,2,20110809,1146,1317, -0.3387, 164.9955, 4402,    774.8,      769,   5.7029,  34.5407,2,     90.3,2,  34.5415,2,    90.09,2,    60.72,2,    37.62,2,     0.00,2,    2.650,2,     -999,9,     -999,9,-999,9,-999,9,   2265.1,2,   2328.1,2,     -999,9,     -999,     -999,9,     -999,9,   5.7038,2
  49UP20110515,   P13,   128,  1,     19,      92,2,20110809,1146,1314, -0.3387, 164.9955, 4402,    878.0,      871,   5.2227,  34.5403,2,     92.5,2,  34.5427,2,    92.19,2,    68.55,2,    38.01,2,     0.00,2,    2.690,2,     -999,9,     -999,9,-999,9,-999,9,   2270.9,2,   2337.9,2,     -999,9,     -999,     -999,9,     -999,9,   5.2230,2
  49UP20110515,   P13,   128,  1,     18,      91,2,20110809,1146,1311, -0.3387, 164.9955, 4402,    977.3,      970,   4.6201,  34.5512,2,     89.0,2,  34.5517,2,    88.65,2,    82.02,6,    39.05,6,     0.00,6,    2.760,6,     -999,9,     -999,9,-999,9,-999,9,     -999,9,     -999,9,     -999,9,     -999,     -999,9,     -999,9,   4.6206,2
  49UP20110515,   P13,   128,  1,     16,      89,2,20110809,1146,1306, -0.3387, 164.9955, 4402,   1140.9,     1132,   4.0811,  34.5645,2,     93.6,2,  34.5646,2,    93.42,2,    94.36,2,    38.94,2,     0.00,2,    2.760,2,     -999,9,     -999,9,-999,9,-999,9,     -999,9,     -999,9,     -999,9,     -999,     -999,9,     -999,9,   4.0814,2
  49UP20110515,   P13,   128,  1,     17,      90,2,20110809,1146,1307, -0.3387, 164.9955, 4402,   1141.1,     1132,   4.0810,  34.5644,2,     93.7,2,  34.5646,2,    93.69,2,    94.29,2,    38.77,2,     0.00,2,    2.760,2,     -999,9,     -999,9,-999,9,-999,9,     -999,9,     -999,9,     -999,9,     -999,     -999,9,     -999,9,   4.0816,2
  49UP20110515,   P13,   128,  1,     15,      88,2,20110809,1146,1302, -0.3387, 164.9955, 4402,   1342.3,     1331,   3.4891,  34.5845,2,     92.1,2,  34.5844,2,    92.10,2,   108.42,2,    39.61,2,     0.00,2,    2.820,2,     -999,9,     -999,9,-999,9,-999,9,     -999,9,     -999,9,     -999,9,     -999,     -999,9,     -999,9,   3.4900,2
  49UP20110515,   P13,   128,  1,     14,      87,2,20110809,1146,1255, -0.3387, 164.9955, 4402,   1544.9,     1531,   2.9059,  34.6062,2,    102.5,2,  34.6067,6,   102.37,2,   120.44,2,    39.20,2,     0.00,2,    2.760,2,     -999,9,     -999,9,-999,9,-999,9,     -999,9,     -999,9,     -999,9,     -999,     -999,9,     -999,9,   2.9060,2
  49UP20110515,   P13,   128,  1,     13,      86,2,20110809,1146,1250, -0.3387, 164.9955, 4402,   1748.1,     1731,   2.5306,  34.6224,2,    110.3,2,  34.6241,2,   110.54,6,   128.11,2,    38.71,2,     0.00,2,    2.710,2,     -999,9,     -999,9,-999,9,-999,9,     -999,9,     -999,9,     -999,9,     -999,     -999,9,     -999,9,   2.5315,2
  49UP20110515,   P13,   128,  1,     12,      74,2,20110809,1146,1245, -0.3387, 164.9955, 4402,   1950.4,     1931,   2.3197,  34.6341,2,    113.2,2,  34.6360,2,   113.27,2,   133.77,6,    38.46,6,     0.00,6,    2.700,6,     -999,9,     -999,9,-999,9,-999,9,     -999,9,     -999,9,     -999,9,     -999,     -999,9,     -999,9,   2.3196,2
  49UP20110515,   P13,   128,  1,     11,     110,2,20110809,1146,1237, -0.3387, 164.9955, 4402,   2153.8,     2131,   2.1084,  34.6453,2,    118.4,2,  34.6456,2,   118.57,2,   138.53,2,    38.33,2,     0.00,2,    2.670,2,     -999,9,     -999,9,-999,9,-999,9,     -999,9,     -999,9,     -999,9,     -999,     -999,9,     -999,9,   2.1082,2
  49UP20110515,   P13,   128,  1,     10,      83,2,20110809,1146,1233, -0.3387, 164.9955, 4402,   2356.1,     2330,   1.9737,  34.6524,2,    122.8,2,  34.6521,2,   122.49,2,   141.28,2,    38.08,2,     0.00,2,    2.660,2,     -999,9,     -999,9,-999,9,-999,9,     -999,9,     -999,9,     -999,9,     -999,     -999,9,     -999,9,   1.9739,2
  49UP20110515,   P13,   128,  1,      9,      82,2,20110809,1146,1228, -0.3387, 164.9955, 4402,   2560.0,     2531,   1.8308,  34.6599,2,    128.1,2,  34.6607,2,   127.84,2,   143.43,2,    37.83,2,     0.00,2,    2.620,2,     -999,9,     -999,9,-999,9,-999,9,     -999,9,     -999,9,     -999,9,     -999,     -999,9,     -999,9,   1.8276,2
  49UP20110515,   P13,   128,  1,      8,      81,2,20110809,1146,1223, -0.3387, 164.9955, 4402,   2764.0,     2731,   1.7327,  34.6652,2,    131.9,2,  34.6650,2,   131.74,2,   145.64,2,    37.57,2,     0.00,2,    2.600,2,     -999,9,     -999,9,-999,9,-999,9,     -999,9,     -999,9,     -999,9,     -999,     -999,9,     -999,9,   1.7327,2
  49UP20110515,   P13,   128,  1,      7,      80,2,20110809,1146,1218, -0.3387, 164.9955, 4402,   2967.6,     2931,   1.6651,  34.6695,2,    136.3,2,  34.6704,2,   135.93,2,   145.84,2,    37.27,2,     0.00,2,    2.570,2,     -999,9,     -999,9,-999,9,-999,9,     -999,9,     -999,9,     -999,9,     -999,     -999,9,     -999,9,   1.6654,2
  49UP20110515,   P13,   128,  1,      6,      79,3,20110809,1146,1213, -0.3387, 164.9955, 4402,   3212.9,     3171,   1.5921,  34.6747,2,    142.2,2,  34.6744,2,   142.22,2,   145.32,2,    36.67,2,     0.00,2,    2.540,2,     -999,9,     -999,9,-999,9,-999,9,     -999,9,     -999,9,     -999,9,     -999,     -999,9,     -999,9,   1.5921,2
  49UP20110515,   P13,   128,  1,      5,      78,2,20110809,1146,1208, -0.3387, 164.9955, 4402,   3469.6,     3422,   1.5638,  34.6780,2,    146.2,2,  34.6783,6,   146.01,2,   144.91,2,    36.53,6,     0.00,6,    2.520,6,     -999,9,     -999,9,-999,9,-999,9,     -999,9,     -999,9,     -999,9,     -999,     -999,9,     -999,9,   1.5639,2
  49UP20110515,   P13,   128,  1,      4,      77,2,20110809,1146,1202, -0.3387, 164.9955, 4402,   3725.0,     3672,   1.4947,  34.6843,2,    154.5,2,  34.6837,2,   154.59,6,   142.01,2,    36.04,2,     0.00,2,    2.470,2,     -999,9,     -999,9,-999,9,-999,9,     -999,9,     -999,9,     -999,9,     -999,     -999,9,     -999,9,   1.4949,2
  49UP20110515,   P13,   128,  1,      3,      76,3,20110809,1146,1157, -0.3387, 164.9955, 4402,   3979.8,     3921,   1.4298,  34.6905,2,    164.2,2,  34.6906,2,   164.09,2,   138.08,2,    35.28,2,     0.00,2,    2.420,2,     -999,9,     -999,9,-999,9,-999,9,     -999,9,     -999,9,     -999,9,     -999,     -999,9,     -999,9,   1.4298,2
  49UP20110515,   P13,   128,  1,      2,      75,3,20110809,1146,1152, -0.3387, 164.9955, 4402,   4236.2,     4171,   1.3769,  34.6955,2,    173.7,2,  34.6958,2,   173.72,2,   133.23,2,    34.60,2,     0.00,2,    2.370,2,     -999,9,     -999,9,-999,9,-999,9,     -999,9,     -999,9,     -999,9,     -999,     -999,9,     -999,9,   1.3769,2
  49UP20110515,   P13,   128,  1,      1,     112,2,20110809,1146,1147, -0.3387, 164.9955, 4402,   4460.5,     4390,   1.3376,  34.6996,2,    180.7,2,  34.7004,2,   180.03,2,   129.38,2,    34.03,2,     0.00,2,    2.330,2,     -999,9,     -999,9,-999,9,-999,9,     -999,9,     -999,9,     -999,9,     -999,     -999,9,     -999,9,   1.3376,2