BOTTLE,20240116CCHSIOVAJ
EXPOCODE,SECT_ID,STNNBR,CASTNO,SAMPNO,BTLNBR,BTLNBR_FLAG_W,DATE,TIME,BTL_TIME,LATITUDE,LONGITUDE,DEPTH,CTDPRS,CTDDEPTH,CTDTMP,CTDSAL,CTDSAL_FLAG_W,CTDOXY,CTDOXY_FLAG_W,SALNTY,SALNTY_FLAG_W,OXYGEN,OXYGEN_FLAG_W,SILCAT,SILCAT_FLAG_W,NO2+NO3,NO2+NO3_FLAG_W,NITRIT,NITRIT_FLAG_W,PHSPHT,PHSPHT_FLAG_W,CFC-11,CFC-11_FLAG_W,CFC-12,CFC-12_FLAG_W,DELC14,DELC14_FLAG_W,DELC13,DELC13_FLAG_W,TCARBN,TCARBN_FLAG_W,ALKALI,ALKALI_FLAG_W,PH_TOT,PH_TOT_FLAG_W,PH_TMP,CHLORA,CHLORA_FLAG_W,PPHYTN,PPHYTN_FLAG_W,REFTMP,REFTMP_FLAG_W
,,,,,,,,,,,,METERS,DBAR,METERS,ITS-90,PSS-78,,UMOL/KG,,PSS-78,,UMOL/KG,,UMOL/KG,,UMOL/KG,,UMOL/KG,,UMOL/KG,,PMOL/KG,,PMOL/KG,,/MILLE,,/MILLE,,UMOL/KG,,UMOL/KG,,,,DEG C,UG/KG,,UG/KG,,ITS-90,
  49UP20110515,   KSE,    16,  1,      0,     BUC,2,20110521,1444,1718, 39.0383, 148.3610, 5601,      0.0,        0,  12.4077,  34.1704,2,    275.7,2,     -999,9,   274.17,2,     7.91,2,     5.82,2,     0.16,2,    0.510,2,     -999,9,     -999,9,-999,9,-999,9,     -999,9,     -999,9,     -999,9,     -999,     0.43,2,     0.10,2,     -999,9
  49UP20110515,   KSE,    16,  1,     36,     109,2,20110521,1444,1748, 39.0383, 148.3610, 5601,     11.9,       12,  12.3867,  34.1699,2,    275.4,2,  34.1715,2,   274.95,2,     7.88,2,     5.78,2,     0.16,2,    0.510,2,     -999,9,     -999,9,-999,9,-999,9,     -999,9,     -999,9,     -999,9,     -999,     0.40,2,     0.13,2,  12.3831,2
  49UP20110515,   KSE,    16,  1,     35,     108,2,20110521,1444,1743, 39.0383, 148.3610, 5601,     52.0,       52,  10.9673,  34.1940,2,    272.5,2,     -999,9,   271.39,6,    10.60,2,     7.39,2,     0.29,2,    0.630,2,     -999,9,     -999,9,-999,9,-999,9,     -999,9,     -999,9,     -999,9,     -999,     0.49,2,     0.26,2,  10.9666,2
  49UP20110515,   KSE,    16,  1,     34,     107,2,20110521,1444,1740, 39.0383, 148.3610, 5601,    102.7,      102,  10.3378,  34.2159,2,    266.6,2,  34.2159,6,   265.46,2,    13.22,6,     9.65,6,     0.02,6,    0.710,6,     -999,9,     -999,9,-999,9,-999,9,     -999,9,     -999,9,     -999,9,     -999,     0.12,2,     0.08,2,  10.3377,2
  49UP20110515,   KSE,    16,  1,     33,     106,2,20110521,1444,1735, 39.0383, 148.3610, 5601,    154.0,      153,  10.2268,  34.2116,2,    261.6,2,     -999,9,   260.65,2,    14.27,2,    10.36,2,     0.01,2,    0.760,2,     -999,9,     -999,9,-999,9,-999,9,     -999,9,     -999,9,     -999,9,     -999,     0.05,2,     0.09,2,  10.2267,2
  49UP20110515,   KSE,    16,  1,     32,     105,2,20110521,1444,1733, 39.0383, 148.3610, 5601,    203.2,      202,  10.1945,  34.2116,2,    261.5,2,  34.2108,6,   260.82,6,    14.38,2,    10.42,2,     0.01,2,    0.760,2,     -999,9,     -999,9,-999,9,-999,9,     -999,9,     -999,9,     -999,9,     -999,     0.04,2,     0.07,2,  10.1948,2
  49UP20110515,   KSE,    16,  1,     31,     104,2,20110521,1444,1731, 39.0383, 148.3610, 5601,    255.5,      253,  10.1254,  34.1987,2,    259.6,2,     -999,9,   259.35,2,    14.88,2,    10.73,2,     0.01,2,    0.790,2,     -999,9,     -999,9,-999,9,-999,9,     -999,9,     -999,9,     -999,9,     -999,     -999,9,     -999,9,  10.1266,2
  49UP20110515,   KSE,    16,  1,     30,     103,2,20110521,1444,1728, 39.0383, 148.3610, 5601,    307.0,      304,   7.6946,  33.8518,2,    244.1,2,  33.8630,4,   244.02,2,    24.60,6,    15.54,6,     0.02,6,    1.180,6,     -999,9,     -999,9,-999,9,-999,9,     -999,9,     -999,9,     -999,9,     -999,     -999,9,     -999,9,   7.7028,2
  49UP20110515,   KSE,    16,  1,     29,     102,2,20110521,1444,1725, 39.0383, 148.3610, 5601,    406.7,      403,   4.5558,  33.6610,2,    223.7,2,  33.6662,2,   223.22,2,    47.37,2,    24.57,2,     0.01,2,    1.870,2,     -999,9,     -999,9,-999,9,-999,9,     -999,9,     -999,9,     -999,9,     -999,     -999,9,     -999,9,   4.5582,2
  49UP20110515,   KSE,    16,  1,     28,     101,2,20110521,1444,1722, 39.0383, 148.3610, 5601,    509.7,      505,   4.2625,  33.8029,2,    156.4,2,  33.8052,2,   158.23,2,    68.05,2,    31.58,2,     0.00,2,    2.340,2,     -999,9,     -999,9,-999,9,-999,9,     -999,9,     -999,9,     -999,9,     -999,     -999,9,     -999,9,   4.2633,2
  49UP20110515,   KSE,    16,  1,     27,     100,2,20110521,1444,1714, 39.0383, 148.3610, 5601,    613.4,      608,   4.0582,  33.9959,2,     88.4,2,  33.9836,4,    90.79,2,    90.71,2,    37.54,2,     0.00,2,    2.730,2,     -999,9,     -999,9,-999,9,-999,9,     -999,9,     -999,9,     -999,9,     -999,     -999,9,     -999,9,   4.0580,2
  49UP20110515,   KSE,    16,  1,     26,      99,2,20110521,1444,1710, 39.0383, 148.3610, 5601,    713.9,      707,   3.8534,  34.0940,2,     61.4,2,  34.0894,2,    61.31,2,   104.80,2,    40.11,2,     0.00,2,    2.900,2,     -999,9,     -999,9,-999,9,-999,9,     -999,9,     -999,9,     -999,9,     -999,     -999,9,     -999,9,   3.8530,2
  49UP20110515,   KSE,    16,  1,     25,      98,2,20110521,1444,1707, 39.0383, 148.3610, 5601,    811.8,      804,   3.9686,  34.2294,2,     54.4,2,  34.2283,2,    54.29,2,   111.92,2,    40.15,2,     0.00,2,    2.890,2,     -999,9,     -999,9,-999,9,-999,9,     -999,9,     -999,9,     -999,9,     -999,     -999,9,     -999,9,   3.9690,2
  49UP20110515,   KSE,    16,  1,     24,      97,2,20110521,1444,1704, 39.0383, 148.3610, 5601,    913.2,      904,   3.6120,  34.2909,2,     46.8,2,  34.2899,2,    46.75,2,   122.63,2,    41.08,2,     0.00,2,    2.960,2,     -999,9,     -999,9,-999,9,-999,9,     -999,9,     -999,9,     -999,9,     -999,     -999,9,     -999,9,   3.6119,2
  49UP20110515,   KSE,    16,  1,     23,      96,2,20110521,1444,1655, 39.0383, 148.3610, 5601,   1016.8,     1007,   3.1559,  34.3285,2,     38.6,2,  34.3268,2,    38.29,2,   134.98,2,    42.22,2,     0.00,2,    3.030,2,     -999,9,     -999,9,-999,9,-999,9,     -999,9,     -999,9,     -999,9,     -999,     -999,9,     -999,9,   3.1558,2
  49UP20110515,   KSE,    16,  1,     22,      95,2,20110521,1444,1649, 39.0383, 148.3610, 5601,   1218.8,     1206,   2.8024,  34.4209,2,     39.8,2,  34.4194,2,    40.54,2,   146.27,2,    42.63,2,     0.00,2,    3.050,2,     -999,9,     -999,9,-999,9,-999,9,     -999,9,     -999,9,     -999,9,     -999,     -999,9,     -999,9,   2.8024,2
  49UP20110515,   KSE,    16,  1,     21,      94,2,20110521,1444,1641, 39.0383, 148.3610, 5601,   1421.7,     1406,   2.4989,  34.4775,2,     42.4,2,  34.4767,2,    42.30,2,   154.63,2,    42.78,2,     0.00,2,    3.050,2,     -999,9,     -999,9,-999,9,-999,9,     -999,9,     -999,9,     -999,9,     -999,     -999,9,     -999,9,   2.4989,2
  49UP20110515,   KSE,    16,  1,     20,      93,2,20110521,1444,1635, 39.0383, 148.3610, 5601,   1624.0,     1605,   2.2948,  34.5198,2,     49.6,2,  34.5195,2,    49.29,2,   160.04,6,    42.30,6,     0.00,6,    3.020,2,     -999,9,     -999,9,-999,9,-999,9,     -999,9,     -999,9,     -999,9,     -999,     -999,9,     -999,9,   2.2948,2
  49UP20110515,   KSE,    16,  1,     19,      92,2,20110521,1444,1630, 39.0383, 148.3610, 5601,   1823.2,     1802,   2.1227,  34.5596,2,     60.1,2,  34.5589,6,    59.56,6,   162.25,2,    41.71,2,     0.00,2,    2.960,2,     -999,9,     -999,9,-999,9,-999,9,     -999,9,     -999,9,     -999,9,     -999,     -999,9,     -999,9,   2.1227,2
  49UP20110515,   KSE,    16,  1,     18,      91,2,20110521,1444,1621, 39.0383, 148.3610, 5601,   2027.5,     2002,   1.9680,  34.5902,2,     72.3,2,  34.5909,2,    71.86,2,   163.55,2,    41.18,2,     0.00,2,    2.910,2,     -999,9,     -999,9,-999,9,-999,9,     -999,9,     -999,9,     -999,9,     -999,     -999,9,     -999,9,   1.9680,2
  49UP20110515,   KSE,    16,  1,     17,      90,2,20110521,1444,1617, 39.0383, 148.3610, 5601,   2232.0,     2203,   1.8390,  34.6131,2,     85.9,2,  34.6138,2,    85.49,2,   163.13,2,    40.38,2,     0.00,2,    2.850,2,     -999,9,     -999,9,-999,9,-999,9,     -999,9,     -999,9,     -999,9,     -999,     -999,9,     -999,9,   1.8400,2
  49UP20110515,   KSE,    16,  1,     16,      89,2,20110521,1444,1609, 39.0383, 148.3610, 5601,   2435.7,     2403,   1.7431,  34.6301,2,     98.2,2,  34.6311,2,    98.08,2,   162.24,2,    39.57,2,     0.00,2,    2.790,2,     -999,9,     -999,9,-999,9,-999,9,     -999,9,     -999,9,     -999,9,     -999,     -999,9,     -999,9,   1.7431,2
  49UP20110515,   KSE,    16,  1,     15,      88,2,20110521,1444,1604, 39.0383, 148.3610, 5601,   2636.6,     2600,   1.6736,  34.6422,2,    107.9,2,  34.6425,2,   107.75,2,   160.91,2,    38.84,2,     0.00,2,    2.750,2,     -999,9,     -999,9,-999,9,-999,9,     -999,9,     -999,9,     -999,9,     -999,     -999,9,     -999,9,   1.6740,2
  49UP20110515,   KSE,    16,  1,     14,      87,2,20110521,1444,1600, 39.0383, 148.3610, 5601,   2841.0,     2801,   1.6234,  34.6513,2,    115.9,2,  34.6520,2,   115.60,2,   159.13,2,    38.40,2,     0.00,2,    2.700,2,     -999,9,     -999,9,-999,9,-999,9,     -999,9,     -999,9,     -999,9,     -999,     -999,9,     -999,9,   1.6235,2
  49UP20110515,   KSE,    16,  1,     13,      86,2,20110521,1444,1554, 39.0383, 148.3610, 5601,   3045.9,     3001,   1.5633,  34.6612,2,    125.5,2,  34.6609,2,   125.48,2,   157.54,2,    37.73,2,     0.00,2,    2.660,2,     -999,9,     -999,9,-999,9,-999,9,     -999,9,     -999,9,     -999,9,     -999,     -999,9,     -999,9,   1.5633,2
  49UP20110515,   KSE,    16,  1,     12,      85,2,20110521,1444,1549, 39.0383, 148.3610, 5601,   3301.1,     3251,   1.5164,  34.6696,2,    134.2,2,  34.6695,2,   133.88,2,   155.57,2,    37.20,2,     0.00,2,    2.610,2,     -999,9,     -999,9,-999,9,-999,9,     -999,9,     -999,9,     -999,9,     -999,     -999,9,     -999,9,   1.5165,2
  49UP20110515,   KSE,    16,  1,     11,     110,2,20110521,1444,1549, 39.0383, 148.3610, 5601,   3301.1,     3251,   1.5164,  34.6696,2,    134.2,2,  34.6696,2,   134.07,2,   155.60,2,    37.21,2,     0.00,2,    2.620,2,     -999,9,     -999,9,-999,9,-999,9,     -999,9,     -999,9,     -999,9,     -999,     -999,9,     -999,9,   1.5165,2
  49UP20110515,   KSE,    16,  1,     10,      83,2,20110521,1444,1540, 39.0383, 148.3610, 5601,   3556.4,     3500,   1.4868,  34.6752,2,    141.1,2,  34.6761,2,   140.93,2,   153.91,2,    36.83,2,     0.00,2,    2.580,2,     -999,9,     -999,9,-999,9,-999,9,     -999,9,     -999,9,     -999,9,     -999,     -999,9,     -999,9,   1.4867,2
  49UP20110515,   KSE,    16,  1,      9,      82,2,20110521,1444,1535, 39.0383, 148.3610, 5601,   3813.2,     3751,   1.4711,  34.6798,2,    146.6,2,  34.6797,2,   146.22,2,   152.76,2,    36.41,2,     0.00,2,    2.550,2,     -999,9,     -999,9,-999,9,-999,9,     -999,9,     -999,9,     -999,9,     -999,     -999,9,     -999,9,   1.4711,2
  49UP20110515,   KSE,    16,  1,      8,      81,2,20110521,1444,1526, 39.0383, 148.3610, 5601,   4070.6,     4001,   1.4655,  34.6834,2,    150.8,2,  34.6856,4,   150.40,2,   151.55,2,    36.17,2,     0.00,2,    2.520,2,     -999,9,     -999,9,-999,9,-999,9,     -999,9,     -999,9,     -999,9,     -999,     -999,9,     -999,9,   1.4656,2
  49UP20110515,   KSE,    16,  1,      7,      80,2,20110521,1444,1521, 39.0383, 148.3610, 5601,   4329.2,     4253,   1.4668,  34.6863,2,    154.6,2,  34.6863,2,   154.34,2,   150.39,2,    35.89,2,     0.00,2,    2.510,2,     -999,9,     -999,9,-999,9,-999,9,     -999,9,     -999,9,     -999,9,     -999,     -999,9,     -999,9,   1.4669,2
  49UP20110515,   KSE,    16,  1,      6,      79,2,20110521,1444,1513, 39.0383, 148.3610, 5601,   4584.9,     4502,   1.4765,  34.6884,2,    157.8,2,  34.6892,2,   157.47,2,   148.09,6,    35.69,6,     0.00,6,    2.490,6,     -999,9,     -999,9,-999,9,-999,9,     -999,9,     -999,9,     -999,9,     -999,     -999,9,     -999,9,   1.4766,2
  49UP20110515,   KSE,    16,  1,      5,      78,2,20110521,1444,1505, 39.0383, 148.3610, 5601,   4843.2,     4753,   1.4920,  34.6900,2,    160.0,2,  34.6906,2,   159.70,2,   147.40,2,    35.50,2,     0.00,2,    2.480,2,     -999,9,     -999,9,-999,9,-999,9,     -999,9,     -999,9,     -999,9,     -999,     -999,9,     -999,9,   1.4921,2
  49UP20110515,   KSE,    16,  1,      4,      77,2,20110521,1444,1500, 39.0383, 148.3610, 5601,   5100.1,     5002,   1.5124,  34.6913,2,    161.8,2,  34.6912,2,   161.75,2,   146.28,2,    35.36,2,     0.00,2,    2.470,2,     -999,9,     -999,9,-999,9,-999,9,     -999,9,     -999,9,     -999,9,     -999,     -999,9,     -999,9,   1.5124,2
  49UP20110515,   KSE,    16,  1,      3,      76,2,20110521,1444,1453, 39.0383, 148.3610, 5601,   5358.2,     5252,   1.5353,  34.6923,2,    163.9,2,  34.6932,2,   163.59,2,   143.94,2,    35.17,2,     0.00,2,    2.460,2,     -999,9,     -999,9,-999,9,-999,9,     -999,9,     -999,9,     -999,9,     -999,     -999,9,     -999,9,   1.5353,2
  49UP20110515,   KSE,    16,  1,      2,      75,2,20110521,1444,1448, 39.0383, 148.3610, 5601,   5615.0,     5501,   1.5631,  34.6931,2,    164.8,2,  34.6930,2,   164.56,6,   143.38,2,    35.15,2,     0.00,2,    2.450,2,     -999,9,     -999,9,-999,9,-999,9,     -999,9,     -999,9,     -999,9,     -999,     -999,9,     -999,9,   1.5632,2
  49UP20110515,   KSE,    16,  1,      1,      74,3,20110521,1444,1445, 39.0383, 148.3610, 5601,   5637.4,     5522,   1.5663,  34.6930,2,    164.8,2,  34.6933,2,   164.70,2,   143.22,2,    35.17,2,     0.00,2,    2.450,2,     -999,9,     -999,9,-999,9,-999,9,     -999,9,     -999,9,     -999,9,     -999,     -999,9,     -999,9,   1.5662,2