BOTTLE,20240116CCHSIOVAJ
EXPOCODE,SECT_ID,STNNBR,CASTNO,SAMPNO,BTLNBR,BTLNBR_FLAG_W,DATE,TIME,BTL_TIME,LATITUDE,LONGITUDE,DEPTH,CTDPRS,CTDDEPTH,CTDTMP,CTDSAL,CTDSAL_FLAG_W,CTDOXY,CTDOXY_FLAG_W,SALNTY,SALNTY_FLAG_W,OXYGEN,OXYGEN_FLAG_W,SILCAT,SILCAT_FLAG_W,NO2+NO3,NO2+NO3_FLAG_W,NITRIT,NITRIT_FLAG_W,PHSPHT,PHSPHT_FLAG_W,CFC-11,CFC-11_FLAG_W,CFC-12,CFC-12_FLAG_W,DELC14,DELC14_FLAG_W,DELC13,DELC13_FLAG_W,TCARBN,TCARBN_FLAG_W,ALKALI,ALKALI_FLAG_W,PH_TOT,PH_TOT_FLAG_W,PH_TMP,CHLORA,CHLORA_FLAG_W,PPHYTN,PPHYTN_FLAG_W,REFTMP,REFTMP_FLAG_W
,,,,,,,,,,,,METERS,DBAR,METERS,ITS-90,PSS-78,,UMOL/KG,,PSS-78,,UMOL/KG,,UMOL/KG,,UMOL/KG,,UMOL/KG,,UMOL/KG,,PMOL/KG,,PMOL/KG,,/MILLE,,/MILLE,,UMOL/KG,,UMOL/KG,,,,DEG C,UG/KG,,UG/KG,,ITS-90,
  49UP20110515,   P13,   124,  1,      0,     BUC,2,20110808,1232,1410,  0.9868, 164.9978, 4333,      0.0,        0,  29.7431,  34.3500,2,    195.0,2,     -999,9,   193.78,2,     1.08,2,     0.01,2,     0.00,2,    0.120,2,     -999,9,     -999,9,-999,9,-999,9,     -999,9,     -999,9,     -999,9,     -999,     0.05,2,     0.02,2,     -999,9
  49UP20110515,   P13,   124,  1,     36,     109,2,20110808,1232,1427,  0.9868, 164.9978, 4333,     11.1,       11,  29.7274,  34.3812,2,    195.4,2,  34.4431,4,   194.56,2,     1.09,2,     0.03,2,     0.00,2,    0.120,2,    1.684,3,    1.028,2,-999,9,-999,9,   1924.2,2,   2260.4,2,   8.1217,2,    25.00,     0.05,2,     0.03,2,  29.7279,2
  49UP20110515,   P13,   124,  1,     35,     108,2,20110808,1232,1426,  0.9868, 164.9978, 4333,     25.4,       25,  29.5580,  34.7204,2,    196.1,2,  34.7199,2,   195.34,2,     1.18,6,     0.02,6,     0.00,6,    0.160,6,    1.635,3,    1.023,2,-999,9,-999,9,   1943.7,2,   2279.9,2,   8.1172,2,    25.00,     0.07,2,     0.04,2,  29.5587,2
  49UP20110515,   P13,   124,  1,     34,     107,2,20110808,1232,1421,  0.9868, 164.9978, 4333,     51.1,       51,  29.5349,  34.9831,2,    197.2,2,  34.9817,2,   196.82,2,     1.16,2,     0.03,2,     0.00,2,    0.190,2,    1.645,3,    1.022,2,-999,9,-999,9,   1958.2,6,   2298.5,6,   8.1049,2,    25.00,     0.12,2,     0.07,2,  29.5256,2
  49UP20110515,   P13,   124,  1,     33,     106,2,20110808,1232,1420,  0.9868, 164.9978, 4333,     76.5,       76,  29.3478,  35.2192,2,    193.3,2,  35.2116,4,   193.15,2,     1.27,2,     0.66,2,     0.18,2,    0.260,2,    1.664,3,    1.032,2,-999,9,-999,9,   1979.8,2,   2313.2,2,   8.0906,6,    25.00,     0.37,2,     0.30,2,  29.3414,2
  49UP20110515,   P13,   124,  1,     32,     105,2,20110808,1232,1419,  0.9868, 164.9978, 4333,    101.0,      100,  28.8957,  35.4147,2,    186.3,2,  35.4132,6,   187.16,2,     1.46,2,     2.20,2,     0.32,2,    0.400,2,    1.590,3,    1.047,2,-999,9,-999,9,   2013.2,2,   2325.0,2,   8.0612,2,    25.00,     0.19,2,     0.17,2,  28.8835,2
  49UP20110515,   P13,   124,  1,     31,     104,2,20110808,1232,1418,  0.9868, 164.9978, 4333,    125.5,      125,  27.4919,  35.4568,2,    163.4,2,  35.4615,2,   163.53,2,     2.12,2,     5.88,2,     0.10,2,    0.560,2,    1.522,3,    1.084,6,-999,9,-999,9,   2041.8,2,   2327.1,2,   8.0150,2,    25.00,     0.11,2,     0.21,2,  27.4875,2
  49UP20110515,   P13,   124,  1,     30,     103,2,20110808,1232,1415,  0.9868, 164.9978, 4333,    152.4,      152,  24.5912,  35.4045,2,    143.3,2,  35.4188,4,   143.11,2,     3.49,2,     8.19,2,     0.03,2,    0.690,2,    1.751,3,    1.189,2,-999,9,-999,9,   2068.9,2,   2325.2,2,   7.9589,2,    25.00,     0.04,2,     0.07,2,  24.5678,2
  49UP20110515,   P13,   124,  1,     29,     102,2,20110808,1232,1414,  0.9868, 164.9978, 4333,    202.0,      201,  16.8637,  34.8523,2,    141.6,2,  34.8598,2,   141.35,2,    12.44,2,    13.20,2,     0.01,2,    0.970,2,    2.006,3,    1.266,2,-999,9,-999,9,   2111.0,2,   2298.0,2,   7.8290,2,    25.00,     0.00,2,     0.03,2,  16.8810,2
  49UP20110515,   P13,   124,  1,     28,     101,2,20110808,1232,1412,  0.9868, 164.9978, 4333,    251.6,      250,  11.3887,  34.7864,2,    130.3,2,  34.7863,2,   130.36,2,    20.80,6,    22.64,6,     0.00,6,    1.600,6,    1.450,3,    0.860,2,-999,9,-999,9,   2175.8,2,   2305.5,2,   7.7004,2,    25.00,     -999,9,     -999,9,  11.3916,2
  49UP20110515,   P13,   124,  1,     27,     100,2,20110808,1232,1409,  0.9868, 164.9978, 4333,    334.8,      333,  10.5522,  34.7598,2,    104.2,2,  34.7593,2,   103.79,2,    23.42,2,    27.00,2,     0.00,2,    1.880,2,    1.094,3,    0.645,6,-999,9,-999,9,   2195.5,2,   2303.4,2,   7.6259,2,    25.00,     -999,9,     -999,9,  10.5529,2
  49UP20110515,   P13,   124,  1,     26,      99,2,20110808,1232,1407,  0.9868, 164.9978, 4333,    384.2,      382,   9.6941,  34.6926,2,    102.4,2,  34.6929,2,   101.89,6,    27.65,2,    28.76,2,     0.00,2,    1.990,2,    0.872,3,    0.532,2,-999,9,-999,9,   2210.0,2,   2305.2,2,   7.6025,2,    25.00,     -999,9,     -999,9,   9.6950,2
  49UP20110515,   P13,   124,  1,     25,      98,2,20110808,1232,1405,  0.9868, 164.9978, 4333,    433.9,      431,   8.9309,  34.6377,2,    105.1,2,  34.6319,2,   103.56,2,    31.77,2,    30.19,2,     0.00,2,    2.090,2,    0.729,3,    0.441,2,-999,9,-999,9,   2215.2,6,   2304.9,6,   7.5822,2,    25.00,     -999,9,     -999,9,   8.9310,2
  49UP20110515,   P13,   124,  1,     24,      97,2,20110808,1232,1402,  0.9868, 164.9978, 4333,    535.2,      532,   6.9625,  34.5623,2,     91.5,2,  34.5618,2,    91.01,2,    44.41,2,    35.43,2,     0.00,2,    2.470,2,    0.243,3,    0.143,2,-999,9,-999,9,   2244.6,2,   2313.4,2,   7.5226,2,    25.00,     -999,9,     -999,9,   6.9635,2
  49UP20110515,   P13,   124,  1,     23,      96,2,20110808,1232,1402,  0.9868, 164.9978, 4333,    535.2,      532,   6.9625,  34.5623,2,     91.5,2,  34.5623,6,    91.37,2,    44.56,2,    35.34,2,     0.00,2,    2.460,2,    0.238,3,    0.141,2,-999,9,-999,9,   2247.6,2,   2313.9,2,   7.5217,2,    25.00,     -999,9,     -999,9,   6.9635,2
  49UP20110515,   P13,   124,  1,     22,      95,3,20110808,1232,1359,  0.9868, 164.9978, 4333,    636.2,      632,   6.4789,  34.5483,2,     94.6,2,  34.5490,2,    94.98,6,    48.45,6,    36.01,6,     0.00,6,    2.510,6,    0.196,3,    0.117,2,-999,9,-999,9,   2249.1,2,   2317.1,2,   7.5247,2,    25.00,     -999,9,     -999,9,   6.4775,2
  49UP20110515,   P13,   124,  1,     21,      94,2,20110808,1232,1356,  0.9868, 164.9978, 4333,    736.9,      732,   5.7600,  34.5417,2,     88.5,2,  34.5418,2,    88.54,2,    60.29,2,    37.74,2,     0.00,2,    2.650,2,    0.064,3,    0.044,2,-999,9,-999,9,   2265.5,2,   2328.4,2,   7.4999,6,    25.00,     -999,9,     -999,9,   5.7603,2
  49UP20110515,   P13,   124,  1,     20,      93,2,20110808,1232,1354,  0.9868, 164.9978, 4333,    837.1,      831,   5.3275,  34.5388,2,     95.7,2,  34.5384,2,    95.33,2,    67.33,2,    37.45,2,     0.00,2,    2.630,2,    0.068,3,    0.032,2,-999,9,-999,9,   2273.0,2,   2335.6,2,   7.5058,2,    25.00,     -999,9,     -999,9,   5.3276,2
  49UP20110515,   P13,   124,  1,     19,      92,2,20110808,1232,1351,  0.9868, 164.9978, 4333,    937.1,      930,   4.9025,  34.5468,2,     87.2,2,  34.5485,2,    87.24,2,    76.26,2,    38.89,2,     0.00,2,    2.740,2,    0.000,3,    0.004,2,-999,9,-999,9,   2287.3,2,   2345.1,2,   7.4881,2,    25.00,     -999,9,     -999,9,   4.9028,2
  49UP20110515,   P13,   124,  1,     18,      91,2,20110808,1232,1351,  0.9868, 164.9978, 4333,    937.1,      930,   4.9025,  34.5468,2,     87.2,2,  34.5466,2,    86.70,2,    76.20,2,    38.91,2,     0.00,2,    2.750,2,    0.042,3,    0.015,2,-999,9,-999,9,   2289.0,2,   2345.4,2,   7.4889,2,    25.00,     -999,9,     -999,9,   4.9028,2
  49UP20110515,   P13,   124,  1,     17,      90,2,20110808,1232,1346,  0.9868, 164.9978, 4333,   1081.3,     1073,   4.2183,  34.5595,2,     95.8,2,  34.5590,2,    96.05,2,    89.67,2,    38.57,2,     0.00,2,    2.730,2,    0.000,3,    0.004,2,-999,9,-999,9,   2300.3,2,   2363.2,2,   7.4993,2,    25.00,     -999,9,     -999,9,   4.2185,2
  49UP20110515,   P13,   124,  1,     16,      89,2,20110808,1232,1342,  0.9868, 164.9978, 4333,   1282.0,     1271,   3.5824,  34.5812,2,     92.0,2,  34.5810,2,    92.13,2,   106.05,2,    39.54,2,     0.00,2,    2.800,2,    0.000,3,    0.000,2,-999,9,-999,9,   2319.6,2,   2377.7,2,   7.4870,2,    25.00,     -999,9,     -999,9,   3.5826,2
  49UP20110515,   P13,   124,  1,     15,      88,2,20110808,1232,1336,  0.9868, 164.9978, 4333,   1484.3,     1471,   3.0953,  34.5987,2,     98.5,2,  34.5986,6,    98.84,2,   116.32,2,    39.28,2,     0.00,2,    2.780,2,    0.017,3,    0.000,2,-999,9,-999,9,   2329.0,2,   2387.8,2,   7.5001,2,    25.00,     -999,9,     -999,9,   3.0956,2
  49UP20110515,   P13,   124,  1,     14,      87,2,20110808,1232,1331,  0.9868, 164.9978, 4333,   1686.7,     1671,   2.7081,  34.6153,2,    104.3,2,  34.6159,2,   104.26,2,   125.58,2,    39.04,2,     0.00,2,    2.740,2,     -999,9,     -999,9,-999,9,-999,9,   2335.5,2,   2398.7,2,   7.5078,2,    25.00,     -999,9,     -999,9,   2.7082,2
  49UP20110515,   P13,   124,  1,     13,      86,2,20110808,1232,1331,  0.9868, 164.9978, 4333,   1686.7,     1671,   2.7081,  34.6153,2,    104.3,2,  34.6159,2,   104.32,2,   125.86,6,    39.10,6,     0.00,6,    2.750,6,     -999,9,     -999,9,-999,9,-999,9,   2332.6,2,   2397.3,2,   7.5048,2,    25.00,     -999,9,     -999,9,   2.7082,2
  49UP20110515,   P13,   124,  1,     12,      74,2,20110808,1232,1326,  0.9868, 164.9978, 4333,   1890.3,     1871,   2.3690,  34.6306,2,    113.9,2,  34.6313,2,   113.98,6,   131.66,2,    38.40,2,     0.00,2,    2.690,2,     -999,9,     -999,9,-999,9,-999,9,   2327.6,2,   2406.4,2,   7.5260,2,    25.00,     -999,9,     -999,9,   2.3693,2
  49UP20110515,   P13,   124,  1,     11,     110,2,20110808,1232,1321,  0.9868, 164.9978, 4333,   2094.6,     2073,   2.1250,  34.6433,2,    119.2,2,  34.6431,2,   119.16,2,   137.10,2,    38.25,2,     0.00,2,    2.670,2,     -999,9,     -999,9,-999,9,-999,9,   2337.2,2,   2412.4,2,   7.5349,6,    25.00,     -999,9,     -999,9,   2.1250,2
  49UP20110515,   P13,   124,  1,     10,      83,2,20110808,1232,1317,  0.9868, 164.9978, 4333,   2296.5,     2271,   1.9380,  34.6534,2,    122.3,2,  34.6531,2,   122.02,2,   142.73,2,    38.07,2,     0.00,2,    2.650,2,     -999,9,     -999,9,-999,9,-999,9,   2340.1,6,   2415.7,6,   7.5375,2,    25.00,     -999,9,     -999,9,   1.9383,2
  49UP20110515,   P13,   124,  1,      9,      82,2,20110808,1232,1312,  0.9868, 164.9978, 4333,   2499.9,     2471,   1.8347,  34.6598,2,    125.9,2,  34.6600,2,   125.51,2,   143.13,2,    37.90,2,     0.00,2,    2.630,2,    0.000,3,    0.000,2,-999,9,-999,9,   2340.8,2,   2418.9,2,   7.5440,2,    25.00,     -999,9,     -999,9,   1.8348,2
  49UP20110515,   P13,   124,  1,      8,      81,2,20110808,1232,1307,  0.9868, 164.9978, 4333,   2702.5,     2670,   1.7695,  34.6639,2,    129.5,2,  34.6626,2,   129.24,2,   145.20,2,    37.67,2,     0.00,2,    2.610,2,     -999,9,     -999,9,-999,9,-999,9,   2335.7,2,   2419.2,2,   7.5467,2,    25.00,     -999,9,     -999,9,   1.7698,2
  49UP20110515,   P13,   124,  1,      7,      80,2,20110808,1232,1303,  0.9868, 164.9978, 4333,   2906.8,     2871,   1.7026,  34.6675,2,    133.9,2,  34.6672,2,   133.59,6,   145.67,2,    37.41,2,     0.00,2,    2.580,2,     -999,9,     -999,9,-999,9,-999,9,   2330.3,3,   2419.2,2,   7.5513,2,    25.00,     -999,9,     -999,9,   1.7026,2
  49UP20110515,   P13,   124,  1,      6,      79,2,20110808,1232,1258,  0.9868, 164.9978, 4333,   3122.5,     3083,   1.6261,  34.6724,2,    139.4,2,  34.6716,6,   139.17,2,   145.04,2,    36.98,2,     0.00,2,    2.560,2,     -999,9,     -999,9,-999,9,-999,9,   2331.2,2,   2419.0,2,   7.5637,2,    25.00,     -999,9,     -999,9,   1.6261,2
  49UP20110515,   P13,   124,  1,      5,      78,3,20110808,1232,1253,  0.9868, 164.9978, 4333,   3376.8,     3332,   1.5662,  34.6772,2,    145.2,2,  34.6768,2,   144.95,2,   144.51,2,    36.63,2,     0.00,2,    2.520,2,     -999,9,     -999,9,-999,9,-999,9,   2324.0,3,   2418.5,2,   7.5685,2,    25.00,     -999,9,     -999,9,   1.5662,2
  49UP20110515,   P13,   124,  1,      4,      77,2,20110808,1232,1248,  0.9868, 164.9978, 4333,   3631.6,     3581,   1.5272,  34.6813,2,    150.2,2,  34.6832,4,   150.29,2,   143.12,2,    36.16,2,     0.00,2,    2.490,2,     -999,9,     -999,9,-999,9,-999,9,   2325.7,2,   2415.5,2,   7.5770,2,    25.00,     -999,9,     -999,9,   1.5272,2
  49UP20110515,   P13,   124,  1,      3,      76,2,20110808,1232,1242,  0.9868, 164.9978, 4333,   3888.9,     3832,   1.4647,  34.6873,2,    158.6,2,  34.6878,2,   158.61,2,   139.95,2,    35.65,2,     0.00,2,    2.440,2,    0.000,3,    0.000,2,-999,9,-999,9,   2317.7,2,   2413.2,2,   7.5870,2,    25.00,     -999,9,     -999,9,   1.4650,2
  49UP20110515,   P13,   124,  1,      2,      75,2,20110808,1232,1237,  0.9868, 164.9978, 4333,   4142.9,     4080,   1.3922,  34.6941,2,    170.6,2,  34.6952,2,   171.07,2,   134.24,2,    34.86,2,     0.00,2,    2.370,2,     -999,9,     -999,9,-999,9,-999,9,   2305.3,2,   2402.6,2,   7.5969,2,    25.00,     -999,9,     -999,9,   1.3921,2
  49UP20110515,   P13,   124,  1,      1,     112,3,20110808,1232,1232,  0.9868, 164.9978, 4333,   4385.8,     4317,   1.3427,  34.6988,2,    179.4,2,  34.6992,2,   179.43,2,   129.78,2,    34.16,2,     0.00,2,    2.330,2,     -999,9,     -999,9,-999,9,-999,9,   2294.2,2,   2393.9,2,   7.6017,2,    25.00,     -999,9,     -999,9,   1.3426,2