BOTTLE,20240116CCHSIOVAJ
EXPOCODE,SECT_ID,STNNBR,CASTNO,SAMPNO,BTLNBR,BTLNBR_FLAG_W,DATE,TIME,BTL_TIME,LATITUDE,LONGITUDE,DEPTH,CTDPRS,CTDDEPTH,CTDTMP,CTDSAL,CTDSAL_FLAG_W,CTDOXY,CTDOXY_FLAG_W,SALNTY,SALNTY_FLAG_W,OXYGEN,OXYGEN_FLAG_W,SILCAT,SILCAT_FLAG_W,NO2+NO3,NO2+NO3_FLAG_W,NITRIT,NITRIT_FLAG_W,PHSPHT,PHSPHT_FLAG_W,CFC-11,CFC-11_FLAG_W,CFC-12,CFC-12_FLAG_W,DELC14,DELC14_FLAG_W,DELC13,DELC13_FLAG_W,TCARBN,TCARBN_FLAG_W,ALKALI,ALKALI_FLAG_W,PH_TOT,PH_TOT_FLAG_W,PH_TMP,CHLORA,CHLORA_FLAG_W,PPHYTN,PPHYTN_FLAG_W,REFTMP,REFTMP_FLAG_W
,,,,,,,,,,,,METERS,DBAR,METERS,ITS-90,PSS-78,,UMOL/KG,,PSS-78,,UMOL/KG,,UMOL/KG,,UMOL/KG,,UMOL/KG,,UMOL/KG,,PMOL/KG,,PMOL/KG,,/MILLE,,/MILLE,,UMOL/KG,,UMOL/KG,,,,DEG C,UG/KG,,UG/KG,,ITS-90,
  49UP20110515,   P13,   112,  1,      0,     BUC,2,20110805,1246,1432,  6.0022, 165.0087, 5003,      0.0,        0,  29.0709,  33.9505,2,    196.5,2,     -999,9,   193.74,2,     0.96,2,     0.00,2,     0.00,2,    0.100,2,     -999,9,     -999,9,-999,9,-999,9,     -999,9,     -999,9,     -999,9,     -999,     0.05,2,     0.02,2,     -999,9
  49UP20110515,   P13,   112,  1,     36,     109,2,20110805,1246,1456,  6.0022, 165.0087, 5003,     11.0,       11,  29.1984,  34.0474,2,    196.3,2,  34.0537,2,   195.59,2,     0.90,2,     0.00,2,     0.00,2,    0.090,2,    1.725,3,    1.032,2,-999,9,-999,9,   1900.9,2,   2233.1,2,   8.1144,2,    25.00,     0.05,2,     0.02,2,  29.1986,2
  49UP20110515,   P13,   112,  1,     35,     108,2,20110805,1246,1455,  6.0022, 165.0087, 5003,     25.9,       26,  29.1321,  34.2780,2,    197.4,2,  34.2828,2,   196.77,6,     0.97,2,     0.00,2,     0.00,2,    0.100,2,    1.777,3,    1.028,2,-999,9,-999,9,   1914.3,2,   2249.5,2,   8.1196,2,    25.00,     0.06,2,     0.03,2,  29.1324,2
  49UP20110515,   P13,   112,  1,     34,     107,4,20110805,1246,1452,  6.0022, 165.0087, 5003,     51.8,       52,  29.1083,  34.4802,2,    196.8,2,     -999,9,     -999,9,     -999,9,     -999,9,     -999,9,     -999,9,     -999,9,     -999,9,-999,9,-999,9,     -999,9,     -999,9,     -999,9,     -999,     -999,9,     -999,9,  29.1083,2
  49UP20110515,   P13,   112,  1,     33,     106,2,20110805,1246,1451,  6.0022, 165.0087, 5003,     75.6,       75,  29.0531,  34.6359,2,    194.6,2,  34.6306,4,   194.72,2,     0.97,2,     0.00,2,     0.00,2,    0.140,2,    1.738,3,    1.023,2,-999,9,-999,9,   1945.0,2,   2273.7,2,   8.1008,2,    25.00,     0.18,2,     0.09,2,  29.0470,2
  49UP20110515,   P13,   112,  1,     32,     105,2,20110805,1246,1449,  6.0022, 165.0087, 5003,    101.5,      101,  26.3125,  34.9442,2,    185.1,2,  34.9461,2,   185.36,2,     1.47,2,     0.91,2,     0.21,2,    0.210,2,    1.915,3,    1.151,2,-999,9,-999,9,   1996.3,6,   2297.7,6,   8.0492,2,    25.00,     0.17,2,     0.28,2,  26.3034,2
  49UP20110515,   P13,   112,  1,     31,     104,2,20110805,1246,1448,  6.0022, 165.0087, 5003,    127.4,      127,  23.2563,  34.9910,2,    172.4,2,  34.9923,2,   172.46,2,     2.47,2,     3.05,2,     0.29,2,    0.360,2,    2.006,3,    1.290,6,-999,9,-999,9,   2035.7,2,   2299.2,2,   7.9782,6,    25.00,     0.11,2,     0.18,2,  23.2663,2
  49UP20110515,   P13,   112,  1,     30,     103,2,20110805,1246,1447,  6.0022, 165.0087, 5003,    153.0,      152,  18.3642,  34.7513,2,    141.5,2,  34.7529,2,   141.69,6,     7.74,2,    10.18,2,     0.02,2,    0.830,2,    2.239,3,    1.377,2,-999,9,-999,9,   2094.3,2,   2287.6,2,   7.8469,2,    25.00,     0.06,2,     0.11,2,  18.3628,2
  49UP20110515,   P13,   112,  1,     29,     102,2,20110805,1246,1445,  6.0022, 165.0087, 5003,    202.1,      201,  12.3042,  34.5404,2,     64.1,2,  34.5423,2,    63.05,2,    23.67,6,    26.36,6,     0.00,6,    1.970,6,    1.398,3,    0.864,2,-999,9,-999,9,   2201.8,2,   2285.1,6,   7.5723,2,    25.00,     0.01,2,     0.02,2,  12.3041,2
  49UP20110515,   P13,   112,  1,     28,     101,2,20110805,1246,1443,  6.0022, 165.0087, 5003,    252.6,      251,  10.5351,  34.6264,2,     43.7,2,  34.6259,6,    43.64,2,    31.33,2,    32.00,2,     0.00,2,    2.300,2,    0.769,3,    0.449,2,-999,9,-999,9,   2237.3,2,   2295.4,2,   7.5003,6,    25.00,     -999,9,     -999,9,  10.5361,2
  49UP20110515,   P13,   112,  1,     27,     100,2,20110805,1246,1441,  6.0022, 165.0087, 5003,    332.6,      330,   9.4253,  34.6390,2,     45.6,2,  34.6372,2,    45.49,2,    34.96,2,    34.04,2,     0.00,2,    2.410,2,    0.485,3,    0.250,6,-999,9,-999,9,   2248.8,2,   2301.6,2,   7.4814,2,    25.00,     -999,9,     -999,9,   9.4256,2
  49UP20110515,   P13,   112,  1,     26,      99,2,20110805,1246,1439,  6.0022, 165.0087, 5003,    383.1,      381,   9.1145,  34.6509,2,     59.8,2,  34.6495,2,    59.28,2,    34.19,2,    33.68,2,     0.00,2,    2.360,2,    0.515,3,    0.266,2,-999,9,-999,9,   2235.3,2,   2305.1,2,   7.5079,3,    25.00,     -999,9,     -999,9,   9.1154,2
  49UP20110515,   P13,   112,  1,     25,      98,2,20110805,1246,1436,  6.0022, 165.0087, 5003,    433.9,      431,   8.5798,  34.6094,2,     55.4,2,  34.6077,2,    55.32,2,    38.93,6,    34.82,6,     0.00,6,    2.460,6,    0.373,3,    0.185,2,-999,9,-999,9,   2247.0,2,   2306.0,2,   7.4867,2,    25.00,     -999,9,     -999,9,   8.5809,2
  49UP20110515,   P13,   112,  1,     24,      97,2,20110805,1246,1433,  6.0022, 165.0087, 5003,    534.9,      531,   7.7692,  34.5775,2,     53.8,2,  34.5770,2,    53.97,2,    45.44,2,    36.26,2,     0.00,2,    2.600,2,    0.236,3,    0.106,2,-999,9,-999,9,   2258.0,2,   2311.4,2,   7.4671,2,    25.00,     -999,9,     -999,9,   7.7701,2
  49UP20110515,   P13,   112,  1,     23,      96,2,20110805,1246,1430,  6.0022, 165.0087, 5003,    635.8,      631,   7.0184,  34.5553,2,     54.8,2,  34.5549,6,    54.84,2,    52.97,2,    37.82,2,     0.00,2,    2.710,2,    0.210,3,    0.074,2,-999,9,-999,9,   2274.2,2,   2315.9,2,   7.4553,2,    25.00,     -999,9,     -999,9,   7.0205,2
  49UP20110515,   P13,   112,  1,     22,      95,2,20110805,1246,1427,  6.0022, 165.0087, 5003,    740.1,      735,   5.9632,  34.5395,2,     55.5,2,  34.5387,2,    55.06,2,    66.95,2,    39.69,2,     0.00,2,    2.830,2,    0.128,3,    0.031,2,-999,9,-999,9,   2291.5,2,   2331.3,2,   7.4459,2,    25.00,     -999,9,     -999,9,   5.9644,2
  49UP20110515,   P13,   112,  1,     21,      94,2,20110805,1246,1424,  6.0022, 165.0087, 5003,    838.7,      832,   5.3393,  34.5429,2,     61.3,2,  34.5422,2,    61.44,6,    76.07,2,    40.18,2,     0.00,2,    2.860,2,    0.071,3,    0.004,2,-999,9,-999,9,   2298.2,2,   2341.2,2,   7.4503,2,    25.00,     -999,9,     -999,9,   5.3383,2
  49UP20110515,   P13,   112,  1,     20,      93,2,20110805,1246,1421,  6.0022, 165.0087, 5003,    937.5,      930,   4.7506,  34.5513,2,     66.8,2,  34.5509,2,    67.26,2,    86.89,2,    40.37,2,     0.00,2,    2.890,2,    0.057,3,    0.000,2,-999,9,-999,9,   2306.3,2,   2350.9,2,   7.4540,2,    25.00,     -999,9,     -999,9,   4.7507,2
  49UP20110515,   P13,   112,  1,     19,      92,2,20110805,1246,1416,  6.0022, 165.0087, 5003,   1081.9,     1073,   4.0871,  34.5665,2,     77.3,2,  34.5668,2,    77.36,2,    99.26,2,    39.94,2,     0.00,2,    2.850,2,     -999,9,     -999,9,-999,9,-999,9,   2317.7,2,   2369.0,2,   7.4636,2,    25.00,     -999,9,     -999,9,   4.0864,2
  49UP20110515,   P13,   112,  1,     18,      91,2,20110805,1246,1411,  6.0022, 165.0087, 5003,   1283.5,     1272,   3.4595,  34.5847,2,     82.3,2,  34.5847,2,    82.38,2,   113.48,6,    40.15,6,     0.00,6,    2.860,6,     -999,9,     -999,9,-999,9,-999,9,   2332.6,2,   2380.8,2,   7.4769,2,    25.00,     -999,9,     -999,9,   3.4582,2
  49UP20110515,   P13,   112,  1,     17,      90,2,20110805,1246,1407,  6.0022, 165.0087, 5003,   1484.2,     1471,   2.9873,  34.6038,2,     89.4,2,  34.6032,2,    89.28,2,   123.12,2,    40.01,2,     0.00,2,    2.850,2,     -999,9,     -999,9,-999,9,-999,9,   2337.6,2,   2392.8,2,   7.4833,2,    25.00,     -999,9,     -999,9,   2.9877,2
  49UP20110515,   P13,   112,  1,     16,      89,2,20110805,1246,1400,  6.0022, 165.0087, 5003,   1688.7,     1673,   2.5832,  34.6207,2,     98.8,2,  34.6203,2,    98.70,2,   131.96,2,    39.51,2,     0.00,2,    2.790,2,     -999,9,     -999,9,-999,9,-999,9,   2343.6,2,   2403.6,2,   7.5001,2,    25.00,     -999,9,     -999,9,   2.5837,2
  49UP20110515,   P13,   112,  1,     15,      88,2,20110805,1246,1356,  6.0022, 165.0087, 5003,   1888.6,     1870,   2.3593,  34.6316,2,    105.4,2,  34.6315,2,   105.49,2,   136.38,2,    39.18,2,     0.00,2,    2.750,2,    0.035,3,    0.000,2,-999,9,-999,9,   2345.2,6,   2408.7,6,   7.5138,2,    25.00,     -999,9,     -999,9,   2.3597,2
  49UP20110515,   P13,   112,  1,     14,      87,2,20110805,1246,1351,  6.0022, 165.0087, 5003,   2093.2,     2071,   2.1297,  34.6439,2,    110.2,2,  34.6442,2,   110.12,2,   141.85,2,    38.89,2,     0.00,2,    2.720,2,     -999,9,     -999,9,-999,9,-999,9,   2347.1,2,   2414.8,2,   7.5181,2,    25.00,     -999,9,     -999,9,   2.1299,2
  49UP20110515,   P13,   112,  1,     13,      86,2,20110805,1246,1347,  6.0022, 165.0087, 5003,   2296.1,     2271,   1.9738,  34.6526,2,    115.8,2,  34.6526,2,   115.73,6,   144.77,2,    38.50,2,     0.00,2,    2.690,2,     -999,9,     -999,9,-999,9,-999,9,   2347.5,2,   2417.4,2,   7.5287,2,    25.00,     -999,9,     -999,9,   1.9743,2
  49UP20110515,   P13,   112,  1,     12,      74,2,20110805,1246,1342,  6.0022, 165.0087, 5003,   2499.7,     2471,   1.8530,  34.6595,2,    120.1,2,  34.6593,2,   120.20,2,   147.30,2,    38.25,2,     0.00,2,    2.670,2,     -999,9,     -999,9,-999,9,-999,9,   2348.1,2,   2421.8,2,   7.5356,6,    25.00,     -999,9,     -999,9,   1.8529,2
  49UP20110515,   P13,   112,  1,     11,     110,2,20110805,1246,1337,  6.0022, 165.0087, 5003,   2703.2,     2671,   1.7661,  34.6646,2,    125.8,2,  34.6643,2,   125.85,2,   147.98,2,    37.89,2,     0.00,2,    2.650,2,     -999,9,     -999,9,-999,9,-999,9,   2341.5,2,   2421.3,2,   7.5430,2,    25.00,     -999,9,     -999,9,   1.7662,2
  49UP20110515,   P13,   112,  1,     10,      83,2,20110805,1246,1333,  6.0022, 165.0087, 5003,   2906.2,     2870,   1.6928,  34.6687,2,    131.7,2,  34.6693,2,   131.95,2,   147.45,2,    37.51,2,     0.00,2,    2.610,2,    0.034,3,    0.000,2,-999,9,-999,9,   2336.2,2,   2420.2,2,   7.5524,2,    25.00,     -999,9,     -999,9,   1.6929,2
  49UP20110515,   P13,   112,  1,      9,      82,2,20110805,1246,1328,  6.0022, 165.0087, 5003,   3121.1,     3081,   1.6296,  34.6728,2,    137.4,2,  34.6736,2,   137.49,2,   146.62,2,    37.09,2,     0.00,2,    2.570,2,     -999,9,     -999,9,-999,9,-999,9,   2334.2,2,   2418.1,2,   7.5612,2,    25.00,     -999,9,     -999,9,   1.6295,2
  49UP20110515,   P13,   112,  1,      8,      81,2,20110805,1246,1323,  6.0022, 165.0087, 5003,   3375.6,     3330,   1.5602,  34.6779,2,    144.3,2,  34.6780,2,   144.60,2,   145.51,2,    36.66,2,     0.00,2,    2.540,2,    0.047,3,    0.000,2,-999,9,-999,9,   2329.3,2,   2417.5,2,   7.5664,2,    25.00,     -999,9,     -999,9,   1.5603,2
  49UP20110515,   P13,   112,  1,      7,      80,2,20110805,1246,1317,  6.0022, 165.0087, 5003,   3630.8,     3580,   1.5105,  34.6826,2,    150.2,2,  34.6820,2,   149.58,2,   143.91,2,    36.22,2,     0.00,2,    2.510,2,    0.039,3,    0.000,2,-999,9,-999,9,   2325.1,2,   2413.2,2,   7.5717,2,    25.00,     -999,9,     -999,9,   1.5105,2
  49UP20110515,   P13,   112,  1,      6,      79,2,20110805,1246,1312,  6.0022, 165.0087, 5003,   3887.0,     3830,   1.4667,  34.6869,2,    157.5,2,  34.6870,2,   157.58,2,   141.28,2,    35.77,2,     0.00,2,    2.470,2,    0.043,3,    0.000,2,-999,9,-999,9,   2321.5,2,   2410.5,2,   7.5814,2,    25.00,     -999,9,     -999,9,   1.4667,2
  49UP20110515,   P13,   112,  1,      5,      78,2,20110805,1246,1307,  6.0022, 165.0087, 5003,   4142.1,     4079,   1.4394,  34.6906,2,    163.5,2,  34.6901,2,   162.66,2,   138.21,2,    35.31,2,     0.00,2,    2.440,2,    0.063,3,    0.003,2,-999,9,-999,9,   2319.4,2,   2407.5,2,   7.5889,2,    25.00,     -999,9,     -999,9,   1.4395,2
  49UP20110515,   P13,   112,  1,      4,      77,2,20110805,1246,1301,  6.0022, 165.0087, 5003,   4399.3,     4330,   1.4106,  34.6950,2,    171.3,2,  34.6969,4,   171.67,2,   133.80,2,    34.62,2,     0.00,2,    2.390,2,    0.084,3,    0.006,2,-999,9,-999,9,   2309.1,2,   2403.1,2,   7.6023,2,    25.00,     -999,9,     -999,9,   1.4106,2
  49UP20110515,   P13,   112,  1,      3,      76,2,20110805,1246,1256,  6.0022, 165.0087, 5003,   4657.4,     4582,   1.4058,  34.6970,2,    175.4,2,  34.6975,6,   175.20,2,   131.96,6,    34.40,6,     0.00,6,    2.370,6,    0.033,3,    0.000,2,-999,9,-999,9,   2303.9,2,   2398.3,2,   7.6040,2,    25.00,     -999,9,     -999,9,   1.4060,2
  49UP20110515,   P13,   112,  1,      2,      75,2,20110805,1246,1250,  6.0022, 165.0087, 5003,   4914.0,     4831,   1.3923,  34.6994,2,    180.3,2,  34.7004,2,   180.84,2,   129.30,2,    34.02,2,     0.00,2,    2.340,2,    0.030,3,    0.000,2,-999,9,-999,9,   2297.6,2,   2394.3,2,   7.6009,2,    25.00,     -999,9,     -999,9,   1.3925,2
  49UP20110515,   P13,   112,  1,      1,     112,2,20110805,1246,1246,  6.0022, 165.0087, 5003,   5071.0,     4984,   1.3864,  34.7010,2,    183.1,2,  34.7012,6,   182.98,2,   128.06,2,    33.80,2,     0.00,2,    2.330,2,    0.076,3,    0.002,6,-999,9,-999,9,   2294.8,2,   2390.6,2,   7.6026,2,    25.00,     -999,9,     -999,9,   1.3863,2