BOTTLE,20240116CCHSIOVAJ
EXPOCODE,SECT_ID,STNNBR,CASTNO,SAMPNO,BTLNBR,BTLNBR_FLAG_W,DATE,TIME,BTL_TIME,LATITUDE,LONGITUDE,DEPTH,CTDPRS,CTDDEPTH,CTDTMP,CTDSAL,CTDSAL_FLAG_W,CTDOXY,CTDOXY_FLAG_W,SALNTY,SALNTY_FLAG_W,OXYGEN,OXYGEN_FLAG_W,SILCAT,SILCAT_FLAG_W,NO2+NO3,NO2+NO3_FLAG_W,NITRIT,NITRIT_FLAG_W,PHSPHT,PHSPHT_FLAG_W,CFC-11,CFC-11_FLAG_W,CFC-12,CFC-12_FLAG_W,DELC14,DELC14_FLAG_W,DELC13,DELC13_FLAG_W,TCARBN,TCARBN_FLAG_W,ALKALI,ALKALI_FLAG_W,PH_TOT,PH_TOT_FLAG_W,PH_TMP,CHLORA,CHLORA_FLAG_W,PPHYTN,PPHYTN_FLAG_W,REFTMP,REFTMP_FLAG_W
,,,,,,,,,,,,METERS,DBAR,METERS,ITS-90,PSS-78,,UMOL/KG,,PSS-78,,UMOL/KG,,UMOL/KG,,UMOL/KG,,UMOL/KG,,UMOL/KG,,PMOL/KG,,PMOL/KG,,/MILLE,,/MILLE,,UMOL/KG,,UMOL/KG,,,,DEG C,UG/KG,,UG/KG,,ITS-90,
  49UP20110515,   P13,   109,  1,      0,     BUC,2,20110804,1429,1635,  7.5188, 164.2162, 5146,      0.0,        0,  28.9731,  34.1361,2,    196.9,2,     -999,9,   195.70,2,     1.10,2,     0.00,2,     0.00,2,    0.110,2,     -999,9,     -999,9,-999,9,-999,9,     -999,9,     -999,9,     -999,9,     -999,     -999,9,     -999,9,     -999,9
  49UP20110515,   P13,   109,  1,     36,     109,2,20110804,1429,1653,  7.5188, 164.2162, 5146,     11.3,       11,  28.9794,  34.1363,2,    196.9,2,  34.1360,2,   195.83,2,     1.14,2,     0.00,2,     0.00,2,    0.110,2,     -999,9,     -999,9,-999,9,-999,9,     -999,9,     -999,9,     -999,9,     -999,     -999,9,     -999,9,  28.9797,2
  49UP20110515,   P13,   109,  1,     35,     108,2,20110804,1429,1651,  7.5188, 164.2162, 5146,     26.7,       27,  28.9828,  34.1371,2,    196.7,2,  34.1364,6,   196.03,6,     1.06,2,     0.00,2,     0.00,2,    0.100,2,     -999,9,     -999,9,-999,9,-999,9,     -999,9,     -999,9,     -999,9,     -999,     -999,9,     -999,9,  28.9836,2
  49UP20110515,   P13,   109,  1,     34,     107,2,20110804,1429,1648,  7.5188, 164.2162, 5146,     51.2,       51,  28.9878,  34.1406,2,    196.2,2,  34.1396,2,   196.02,2,     0.97,2,     0.00,2,     0.00,2,    0.110,2,     -999,9,     -999,9,-999,9,-999,9,     -999,9,     -999,9,     -999,9,     -999,     -999,9,     -999,9,  28.9879,2
  49UP20110515,   P13,   109,  1,     33,     106,2,20110804,1429,1647,  7.5188, 164.2162, 5146,     80.4,       80,  28.9559,  34.3373,2,    196.5,2,  34.3357,2,   196.39,2,     1.07,2,     0.00,2,     0.00,2,    0.100,2,     -999,9,     -999,9,-999,9,-999,9,     -999,9,     -999,9,     -999,9,     -999,     -999,9,     -999,9,  28.9574,2
  49UP20110515,   P13,   109,  1,     32,     105,2,20110804,1429,1646,  7.5188, 164.2162, 5146,    102.7,      102,  28.1891,  34.6925,2,    189.0,2,  34.6283,4,   194.51,2,     0.99,2,     0.00,2,     0.00,2,    0.130,2,     -999,9,     -999,9,-999,9,-999,9,     -999,9,     -999,9,     -999,9,     -999,     -999,9,     -999,9,  28.1350,2
  49UP20110515,   P13,   109,  1,     31,     104,2,20110804,1429,1644,  7.5188, 164.2162, 5146,    126.5,      126,  24.9034,  35.0140,2,    183.7,2,  34.9823,4,   182.73,2,     1.82,2,     1.36,2,     0.38,2,    0.250,2,     -999,9,     -999,9,-999,9,-999,9,     -999,9,     -999,9,     -999,9,     -999,     -999,9,     -999,9,  25.0314,2
  49UP20110515,   P13,   109,  1,     30,     103,2,20110804,1429,1643,  7.5188, 164.2162, 5146,    151.2,      150,  20.5532,  34.9468,2,    165.6,2,  34.9508,2,   167.21,2,     4.02,6,     4.81,6,     0.07,6,    0.480,6,     -999,9,     -999,9,-999,9,-999,9,     -999,9,     -999,9,     -999,9,     -999,     -999,9,     -999,9,  20.5428,2
  49UP20110515,   P13,   109,  1,     29,     102,2,20110804,1429,1641,  7.5188, 164.2162, 5146,    200.4,      199,  12.4387,  34.4692,2,     93.7,2,  34.4696,2,    93.72,2,    21.22,2,    22.50,2,     0.01,2,    1.690,2,     -999,9,     -999,9,-999,9,-999,9,     -999,9,     -999,9,     -999,9,     -999,     -999,9,     -999,9,  12.4532,2
  49UP20110515,   P13,   109,  1,     28,     101,2,20110804,1429,1640,  7.5188, 164.2162, 5146,    251.2,      250,  10.4868,  34.5761,2,     46.1,2,  34.5777,2,    46.07,2,    31.37,2,    31.41,2,     0.00,2,    2.280,2,     -999,9,     -999,9,-999,9,-999,9,     -999,9,     -999,9,     -999,9,     -999,     -999,9,     -999,9,  10.4878,2
  49UP20110515,   P13,   109,  1,     27,     100,2,20110804,1429,1637,  7.5188, 164.2162, 5146,    333.2,      331,   9.5636,  34.6347,2,     40.6,2,  34.6361,2,    41.09,2,    34.68,2,    33.92,2,     0.00,2,    2.410,2,     -999,9,     -999,9,-999,9,-999,9,     -999,9,     -999,9,     -999,9,     -999,     -999,9,     -999,9,   9.5641,2
  49UP20110515,   P13,   109,  1,     26,      99,2,20110804,1429,1632,  7.5188, 164.2162, 5146,    435.6,      433,   8.7253,  34.6148,2,     52.3,2,  34.6156,2,    52.47,2,    38.01,2,    34.61,2,     0.00,2,    2.460,2,     -999,9,     -999,9,-999,9,-999,9,     -999,9,     -999,9,     -999,9,     -999,     -999,9,     -999,9,   8.7258,2
  49UP20110515,   P13,   109,  1,     25,      98,2,20110804,1429,1628,  7.5188, 164.2162, 5146,    533.6,      530,   7.7692,  34.5675,2,     54.2,2,  34.5662,2,    54.47,2,    46.40,6,    36.18,6,     0.00,6,    2.590,6,     -999,9,     -999,9,-999,9,-999,9,     -999,9,     -999,9,     -999,9,     -999,     -999,9,     -999,9,   7.7674,2
  49UP20110515,   P13,   109,  1,     24,      97,2,20110804,1429,1625,  7.5188, 164.2162, 5146,    635.7,      631,   6.7271,  34.5378,2,     53.8,2,  34.5374,2,    54.47,2,    58.12,2,    38.09,2,     0.00,2,    2.740,2,     -999,9,     -999,9,-999,9,-999,9,     -999,9,     -999,9,     -999,9,     -999,     -999,9,     -999,9,   6.7262,2
  49UP20110515,   P13,   109,  1,     23,      96,2,20110804,1429,1623,  7.5188, 164.2162, 5146,    734.2,      729,   6.0128,  34.5352,2,     55.8,2,  34.5345,2,    56.04,6,    67.43,2,    39.28,2,     0.00,2,    2.820,2,     -999,9,     -999,9,-999,9,-999,9,     -999,9,     -999,9,     -999,9,     -999,     -999,9,     -999,9,   6.0133,2
  49UP20110515,   P13,   109,  1,     22,      95,2,20110804,1429,1620,  7.5188, 164.2162, 5146,    837.4,      831,   5.3172,  34.5414,2,     61.8,2,  34.5411,2,    61.69,2,    77.32,2,    39.97,2,     0.00,2,    2.870,2,     -999,9,     -999,9,-999,9,-999,9,     -999,9,     -999,9,     -999,9,     -999,     -999,9,     -999,9,   5.3174,2
  49UP20110515,   P13,   109,  1,     21,      94,2,20110804,1429,1617,  7.5188, 164.2162, 5146,    938.5,      931,   4.8032,  34.5476,2,     71.7,2,  34.5466,6,    71.78,2,    86.96,2,    39.57,2,     0.00,2,    2.840,2,     -999,9,     -999,9,-999,9,-999,9,     -999,9,     -999,9,     -999,9,     -999,     -999,9,     -999,9,   4.8016,2
  49UP20110515,   P13,   109,  1,     20,      93,2,20110804,1429,1613,  7.5188, 164.2162, 5146,   1080.0,     1071,   4.1873,  34.5628,2,     74.5,2,  34.5625,2,    74.59,2,    98.44,2,    40.13,2,     0.00,2,    2.870,2,     -999,9,     -999,9,-999,9,-999,9,     -999,9,     -999,9,     -999,9,     -999,     -999,9,     -999,9,   4.1874,2
  49UP20110515,   P13,   109,  1,     19,      92,2,20110804,1429,1608,  7.5188, 164.2162, 5146,   1280.8,     1270,   3.6343,  34.5780,2,     82.7,2,  34.5788,2,    82.51,2,   109.48,2,    39.72,2,     0.00,2,    2.830,2,     -999,9,     -999,9,-999,9,-999,9,     -999,9,     -999,9,     -999,9,     -999,     -999,9,     -999,9,   3.6357,2
  49UP20110515,   P13,   109,  1,     18,      91,2,20110804,1429,1600,  7.5188, 164.2162, 5146,   1484.3,     1471,   3.0769,  34.5973,2,     88.7,2,  34.5967,2,    88.49,2,   121.91,2,    39.74,2,     0.00,2,    2.830,2,     -999,9,     -999,9,-999,9,-999,9,     -999,9,     -999,9,     -999,9,     -999,     -999,9,     -999,9,   3.0765,2
  49UP20110515,   P13,   109,  1,     17,      90,2,20110804,1429,1556,  7.5188, 164.2162, 5146,   1687.5,     1671,   2.6410,  34.6145,2,     93.9,2,  34.6142,2,    94.12,2,   132.49,6,    39.68,6,     0.00,6,    2.810,6,     -999,9,     -999,9,-999,9,-999,9,     -999,9,     -999,9,     -999,9,     -999,     -999,9,     -999,9,   2.6402,2
  49UP20110515,   P13,   109,  1,     16,      89,2,20110804,1429,1551,  7.5188, 164.2162, 5146,   1889.2,     1870,   2.3263,  34.6311,2,    100.5,2,  34.6300,2,   100.59,2,   139.54,2,    39.37,2,     0.00,2,    2.780,2,     -999,9,     -999,9,-999,9,-999,9,     -999,9,     -999,9,     -999,9,     -999,     -999,9,     -999,9,   2.3264,2
  49UP20110515,   P13,   109,  1,     15,      88,2,20110804,1429,1547,  7.5188, 164.2162, 5146,   2092.2,     2070,   2.0897,  34.6453,2,    109.4,2,  34.6446,2,   109.45,2,   143.65,2,    38.87,2,     0.00,2,    2.730,2,     -999,9,     -999,9,-999,9,-999,9,     -999,9,     -999,9,     -999,9,     -999,     -999,9,     -999,9,   2.0898,2
  49UP20110515,   P13,   109,  1,     14,      87,2,20110804,1429,1541,  7.5188, 164.2162, 5146,   2298.1,     2273,   1.9479,  34.6530,2,    114.2,2,  34.6530,2,   114.39,2,   146.41,2,    38.51,2,     0.00,2,    2.700,2,     -999,9,     -999,9,-999,9,-999,9,     -999,9,     -999,9,     -999,9,     -999,     -999,9,     -999,9,   1.9480,2
  49UP20110515,   P13,   109,  1,     13,      86,2,20110804,1429,1536,  7.5188, 164.2162, 5146,   2500.8,     2472,   1.8522,  34.6593,2,    120.1,2,  34.6602,2,   120.08,2,   147.38,2,    38.17,2,     0.00,2,    2.670,2,     -999,9,     -999,9,-999,9,-999,9,     -999,9,     -999,9,     -999,9,     -999,     -999,9,     -999,9,   1.8523,2
  49UP20110515,   P13,   109,  1,     12,      74,2,20110804,1429,1531,  7.5188, 164.2162, 5146,   2702.5,     2670,   1.7605,  34.6648,2,    125.6,2,  34.6654,2,   125.63,2,   147.98,2,    37.87,2,     0.00,2,    2.640,2,     -999,9,     -999,9,-999,9,-999,9,     -999,9,     -999,9,     -999,9,     -999,     -999,9,     -999,9,   1.7607,2
  49UP20110515,   P13,   109,  1,     11,     110,2,20110804,1429,1525,  7.5188, 164.2162, 5146,   2909.8,     2874,   1.6974,  34.6686,2,    130.5,2,  34.6685,6,   130.43,6,   148.09,2,    37.55,2,     0.00,2,    2.610,2,     -999,9,     -999,9,-999,9,-999,9,     -999,9,     -999,9,     -999,9,     -999,     -999,9,     -999,9,   1.6975,2
  49UP20110515,   P13,   109,  1,     10,      83,2,20110804,1429,1520,  7.5188, 164.2162, 5146,   3121.3,     3081,   1.6317,  34.6726,2,    136.6,2,  34.6735,2,   136.71,2,   147.26,2,    37.16,2,     0.00,2,    2.580,2,     -999,9,     -999,9,-999,9,-999,9,     -999,9,     -999,9,     -999,9,     -999,     -999,9,     -999,9,   1.6316,2
  49UP20110515,   P13,   109,  1,      9,      82,2,20110804,1429,1514,  7.5188, 164.2162, 5146,   3376.1,     3331,   1.5680,  34.6776,2,    142.8,2,  34.6776,2,   143.00,2,   146.17,2,    36.62,2,     0.00,2,    2.550,2,     -999,9,     -999,9,-999,9,-999,9,     -999,9,     -999,9,     -999,9,     -999,     -999,9,     -999,9,   1.5680,2
  49UP20110515,   P13,   109,  1,      8,      81,2,20110804,1429,1507,  7.5188, 164.2162, 5146,   3635.5,     3584,   1.5069,  34.6827,2,    149.9,2,  34.6822,2,   150.04,2,   144.60,2,    36.25,2,     0.00,2,    2.510,2,     -999,9,     -999,9,-999,9,-999,9,     -999,9,     -999,9,     -999,9,     -999,     -999,9,     -999,9,   1.5071,2
  49UP20110515,   P13,   109,  1,      7,      80,2,20110804,1429,1500,  7.5188, 164.2162, 5146,   3890.7,     3834,   1.4592,  34.6874,2,    158.1,2,  34.6865,2,   158.06,2,   140.75,2,    35.61,2,     0.00,2,    2.470,2,     -999,9,     -999,9,-999,9,-999,9,     -999,9,     -999,9,     -999,9,     -999,     -999,9,     -999,9,   1.4591,2
  49UP20110515,   P13,   109,  1,      6,      79,2,20110804,1429,1455,  7.5188, 164.2162, 5146,   4145.4,     4082,   1.4327,  34.6912,2,    164.3,2,  34.6899,4,   164.56,2,   137.80,2,    35.19,2,     0.00,2,    2.430,2,     -999,9,     -999,9,-999,9,-999,9,     -999,9,     -999,9,     -999,9,     -999,     -999,9,     -999,9,   1.4328,2
  49UP20110515,   P13,   109,  1,      5,      78,2,20110804,1429,1449,  7.5188, 164.2162, 5146,   4400.7,     4331,   1.4069,  34.6948,2,    170.9,2,  34.6947,6,   171.42,6,   134.37,2,    34.66,2,     0.00,2,    2.400,2,     -999,9,     -999,9,-999,9,-999,9,     -999,9,     -999,9,     -999,9,     -999,     -999,9,     -999,9,   1.4070,2
  49UP20110515,   P13,   109,  1,      4,      77,2,20110804,1429,1443,  7.5188, 164.2162, 5146,   4657.2,     4581,   1.4065,  34.6969,2,    174.9,2,  34.6968,2,   175.70,2,   132.09,6,    34.37,6,     0.00,6,    2.370,6,     -999,9,     -999,9,-999,9,-999,9,     -999,9,     -999,9,     -999,9,     -999,     -999,9,     -999,9,   1.4067,2
  49UP20110515,   P13,   109,  1,      3,      76,2,20110804,1429,1437,  7.5188, 164.2162, 5146,   4912.5,     4830,   1.3912,  34.6996,2,    180.2,2,  34.7002,2,   180.92,2,   129.25,2,    33.96,2,     0.00,2,    2.340,2,     -999,9,     -999,9,-999,9,-999,9,     -999,9,     -999,9,     -999,9,     -999,     -999,9,     -999,9,   1.3912,2
  49UP20110515,   P13,   109,  1,      2,      75,2,20110804,1429,1432,  7.5188, 164.2162, 5146,   5168.7,     5079,   1.3958,  34.7013,2,    183.4,2,  34.7020,2,   184.08,2,   127.74,2,    33.79,2,     0.00,2,    2.330,2,     -999,9,     -999,9,-999,9,-999,9,     -999,9,     -999,9,     -999,9,     -999,     -999,9,     -999,9,   1.3960,2
  49UP20110515,   P13,   109,  1,      1,     112,2,20110804,1429,1429,  7.5188, 164.2162, 5146,   5217.3,     5126,   1.4021,  34.7011,2,    183.4,2,  34.7015,2,   182.52,3,   128.08,2,    33.80,2,     0.00,2,    2.330,2,     -999,9,     -999,9,-999,9,-999,9,     -999,9,     -999,9,     -999,9,     -999,     -999,9,     -999,9,   1.4021,2