BOTTLE,20240116CCHSIOVAJ
EXPOCODE,SECT_ID,STNNBR,CASTNO,SAMPNO,BTLNBR,BTLNBR_FLAG_W,DATE,TIME,BTL_TIME,LATITUDE,LONGITUDE,DEPTH,CTDPRS,CTDDEPTH,CTDTMP,CTDSAL,CTDSAL_FLAG_W,CTDOXY,CTDOXY_FLAG_W,SALNTY,SALNTY_FLAG_W,OXYGEN,OXYGEN_FLAG_W,SILCAT,SILCAT_FLAG_W,NO2+NO3,NO2+NO3_FLAG_W,NITRIT,NITRIT_FLAG_W,PHSPHT,PHSPHT_FLAG_W,CFC-11,CFC-11_FLAG_W,CFC-12,CFC-12_FLAG_W,DELC14,DELC14_FLAG_W,DELC13,DELC13_FLAG_W,TCARBN,TCARBN_FLAG_W,ALKALI,ALKALI_FLAG_W,PH_TOT,PH_TOT_FLAG_W,PH_TMP,CHLORA,CHLORA_FLAG_W,PPHYTN,PPHYTN_FLAG_W,REFTMP,REFTMP_FLAG_W
,,,,,,,,,,,,METERS,DBAR,METERS,ITS-90,PSS-78,,UMOL/KG,,PSS-78,,UMOL/KG,,UMOL/KG,,UMOL/KG,,UMOL/KG,,UMOL/KG,,PMOL/KG,,PMOL/KG,,/MILLE,,/MILLE,,UMOL/KG,,UMOL/KG,,,,DEG C,UG/KG,,UG/KG,,ITS-90,
  49UP20110515,   P13,    89,  1,      0,     BUC,2,20110720,1124,1340, 16.9718, 164.9822, 5446,      0.0,        0,  28.8959,  34.8975,2,    198.2,2,     -999,9,   197.13,2,     0.41,2,     0.09,2,     0.00,2,    0.180,4,     -999,9,     -999,9,-999,9,-999,9,     -999,9,     -999,9,     -999,9,     -999,     0.06,2,     0.02,2,     -999,9
  49UP20110515,   P13,    89,  1,     36,     109,2,20110720,1124,1347, 16.9718, 164.9822, 5446,     11.0,       11,  28.9008,  34.8977,2,    198.0,2,  34.8968,2,   197.48,2,     0.32,2,     0.03,2,     0.00,2,    0.090,3,    1.689,3,    1.023,2,-999,9,-999,9,   1949.4,2,   2293.3,2,   8.1205,2,    25.00,     0.05,2,     0.02,2,  28.9026,2
  49UP20110515,   P13,    89,  1,     35,     108,2,20110720,1124,1343, 16.9718, 164.9822, 5446,     50.2,       50,  28.8999,  34.9815,2,    198.2,2,  34.9780,2,   198.37,2,     0.26,2,     0.01,2,     0.00,2,    0.070,3,    1.730,3,    1.051,2,-999,9,-999,9,   1952.3,2,   2297.8,2,   8.1228,2,    25.00,     0.08,2,     0.02,2,  28.9032,2
  49UP20110515,   P13,    89,  1,     34,     107,2,20110720,1124,1341, 16.9718, 164.9822, 5446,    100.8,      100,  25.8625,  35.2773,2,    209.1,2,  35.2815,2,   209.47,2,     0.49,6,     0.02,6,     0.00,6,    0.070,3,    2.028,3,    1.177,2,-999,9,-999,9,   1987.1,2,   2317.8,2,   8.0961,2,    25.00,     0.21,2,     0.12,2,  25.8730,2
  49UP20110515,   P13,    89,  1,     33,     106,2,20110720,1124,1339, 16.9718, 164.9822, 5446,    151.8,      151,  22.8537,  35.2664,2,    189.8,2,  35.2651,2,   190.45,2,     0.92,2,     0.46,2,     0.18,2,    0.160,3,    2.029,3,    1.323,2,-999,9,-999,9,   2032.3,2,   2322.0,2,   8.0225,2,    25.00,     0.11,2,     0.20,2,  22.8657,2
  49UP20110515,   P13,    89,  1,     32,     105,3,20110720,1124,1337, 16.9718, 164.9822, 5446,    202.6,      201,  19.0707,  34.9041,2,    183.3,2,  34.9143,4,   184.85,2,     2.66,2,     3.62,2,     0.01,2,    0.340,3,    2.301,3,    1.474,2,-999,9,-999,9,   2051.8,2,   2295.3,2,   7.9454,2,    25.00,     0.02,2,     0.05,2,  19.0677,2
  49UP20110515,   P13,    89,  1,     31,     104,3,20110720,1124,1335, 16.9718, 164.9822, 5446,    255.9,      254,  16.3067,  34.6331,2,    190.8,2,  34.6415,2,   191.43,6,     5.30,2,     6.93,2,     0.00,2,    0.510,3,    2.611,3,    1.621,6,-999,9,-999,9,   2056.0,2,   2277.7,2,   7.9081,2,    25.00,     -999,9,     -999,9,  16.2879,2
  49UP20110515,   P13,    89,  1,     30,     103,2,20110720,1124,1332, 16.9718, 164.9822, 5446,    306.0,      304,  13.2494,  34.3630,2,    157.7,2,  34.3651,2,   158.18,2,    12.58,6,    14.17,6,     0.00,6,    1.100,3,    2.728,3,    1.635,2,-999,9,-999,9,   2112.7,2,   2270.3,2,   7.7697,2,    25.00,     -999,9,     -999,9,  13.2483,2
  49UP20110515,   P13,    89,  1,     29,     102,2,20110720,1124,1330, 16.9718, 164.9822, 5446,    353.1,      351,  11.1865,  34.2592,2,    173.6,2,  34.2620,6,   173.73,2,    18.81,2,    16.86,2,     0.00,2,    1.230,3,    2.856,3,    1.660,2,-999,9,-999,9,   2124.9,2,   2265.4,2,   7.7415,2,    25.00,     -999,9,     -999,9,  11.1898,2
  49UP20110515,   P13,    89,  1,     28,     101,2,20110720,1124,1327, 16.9718, 164.9822, 5446,    405.8,      403,   9.3443,  34.1752,2,    148.9,2,  34.1821,2,   146.35,2,    29.68,2,    22.62,2,     0.00,2,    1.670,3,    2.563,3,    1.434,2,-999,9,-999,9,   2165.5,6,   2273.0,6,   7.6448,2,    25.00,     -999,9,     -999,9,   9.3312,2
  49UP20110515,   P13,    89,  1,     27,     100,2,20110720,1124,1325, 16.9718, 164.9822, 5446,    456.4,      453,   8.1807,  34.1662,2,    114.7,2,  34.1614,2,   116.94,2,    41.32,2,    27.72,2,     0.00,2,    2.040,3,    1.940,3,    1.089,6,-999,9,-999,9,   2204.1,2,   2279.7,2,   7.5702,2,    25.00,     -999,9,     -999,9,   8.1817,2
  49UP20110515,   P13,    89,  1,     26,      99,2,20110720,1124,1322, 16.9718, 164.9822, 5446,    505.6,      502,   6.9922,  34.1573,2,     90.7,2,  34.1566,2,    91.36,2,    54.94,2,    32.38,2,     0.00,2,    2.360,3,    1.372,3,    0.737,2,-999,9,-999,9,   2238.3,2,   2294.7,2,   7.4918,6,    25.00,     -999,9,     -999,9,   6.9925,2
  49UP20110515,   P13,    89,  1,     25,      98,2,20110720,1124,1318, 16.9718, 164.9822, 5446,    608.7,      604,   5.7885,  34.3018,2,     61.0,2,  34.2986,2,    61.21,2,    75.43,2,    37.46,2,     0.00,2,    2.730,3,    0.459,3,    0.238,2,-999,9,-999,9,   2284.1,2,   2321.4,2,   7.4365,2,    25.00,     -999,9,     -999,9,   5.7888,2
  49UP20110515,   P13,    89,  1,     24,      97,2,20110720,1124,1315, 16.9718, 164.9822, 5446,    707.0,      702,   5.4395,  34.4067,2,     62.4,2,  34.4055,2,    62.44,6,    82.00,2,    38.41,2,     0.00,2,    2.790,3,    0.210,3,    0.121,2,-999,9,-999,9,   2296.7,2,   2336.4,2,   7.4533,2,    25.00,     -999,9,     -999,9,   5.4401,2
  49UP20110515,   P13,    89,  1,     23,      96,2,20110720,1124,1311, 16.9718, 164.9822, 5446,    810.3,      804,   5.0037,  34.4728,2,     64.4,2,  34.4707,2,    64.40,2,    88.51,6,    39.17,6,     0.00,6,    2.830,3,    0.083,3,    0.053,2,-999,9,-999,9,   2316.8,2,   2352.0,2,   7.4634,2,    25.00,     -999,9,     -999,9,   5.0026,2
  49UP20110515,   P13,    89,  1,     22,      95,2,20110720,1124,1308, 16.9718, 164.9822, 5446,    909.9,      903,   4.5958,  34.5057,2,     65.0,2,  34.5047,2,    64.84,2,    95.54,2,    39.87,2,     0.00,2,    2.870,3,    0.000,3,    0.022,2,-999,9,-999,9,   2315.9,6,   2357.0,6,   7.4560,2,    25.00,     -999,9,     -999,9,   4.5964,2
  49UP20110515,   P13,    89,  1,     21,      94,2,20110720,1124,1304, 16.9718, 164.9822, 5446,   1011.7,     1003,   4.2173,  34.5299,2,     65.7,2,  34.5295,6,    65.54,2,   102.70,2,    40.48,2,     0.00,2,    2.920,3,    0.001,3,    0.010,2,-999,9,-999,9,   2327.5,2,   2368.0,2,   7.4552,2,    25.00,     -999,9,     -999,9,   4.2174,2
  49UP20110515,   P13,    89,  1,     20,      93,2,20110720,1124,1259, 16.9718, 164.9822, 5446,   1212.3,     1202,   3.5327,  34.5518,2,     74.6,2,     -999,5,    74.92,2,   116.52,2,    40.17,2,     0.00,2,    2.880,3,    0.000,3,    0.021,2,-999,9,-999,9,   2336.4,2,   2378.0,2,   7.4636,2,    25.00,     -999,9,     -999,9,   3.5329,2
  49UP20110515,   P13,    89,  1,     19,      92,2,20110720,1124,1255, 16.9718, 164.9822, 5446,   1414.3,     1401,   3.0506,  34.5708,2,     81.0,2,  34.5684,4,    81.30,2,   126.33,2,    40.15,2,     0.00,2,    2.880,3,    0.000,3,    0.008,2,-999,9,-999,9,   2327.8,3,   2390.4,2,   7.4746,2,    25.00,     -999,9,     -999,9,   3.0508,2
  49UP20110515,   P13,    89,  1,     18,      91,2,20110720,1124,1250, 16.9718, 164.9822, 5446,   1617.3,     1601,   2.6627,  34.5921,2,     87.6,2,  34.5918,2,    87.65,2,   134.96,2,    40.07,2,     0.00,2,    2.850,3,    0.000,3,    0.006,2,-999,9,-999,9,   2338.6,2,   2397.2,2,   7.4840,2,    25.00,     -999,9,     -999,9,   2.6628,2
  49UP20110515,   P13,    89,  1,     17,      90,2,20110720,1124,1245, 16.9718, 164.9822, 5446,   1820.5,     1802,   2.3409,  34.6102,2,     95.0,2,  34.6103,2,    94.98,2,   141.93,2,    39.76,2,     0.00,2,    2.810,3,     -999,9,     -999,9,-999,9,-999,9,   2339.1,2,   2407.1,2,   7.4961,2,    25.00,     -999,9,     -999,9,   2.3410,2
  49UP20110515,   P13,    89,  1,     16,      89,2,20110720,1124,1241, 16.9718, 164.9822, 5446,   2022.0,     2000,   2.1122,  34.6247,2,    102.4,2,  34.6244,2,   102.77,2,   146.15,2,    39.38,2,     0.00,2,    2.770,3,    0.000,3,    0.000,2,-999,9,-999,9,   2339.1,2,   2410.7,2,   7.5032,2,    25.00,     -999,9,     -999,9,   2.1117,2
  49UP20110515,   P13,    89,  1,     15,      88,2,20110720,1124,1237, 16.9718, 164.9822, 5446,   2224.3,     2199,   1.9366,  34.6382,2,    109.9,2,  34.6380,2,   110.44,2,   148.85,2,    38.91,2,     0.00,2,    2.730,3,     -999,9,     -999,9,-999,9,-999,9,   2349.7,2,   2414.7,2,   7.5176,2,    25.00,     -999,9,     -999,9,   1.9368,2
  49UP20110515,   P13,    89,  1,     14,      87,2,20110720,1124,1232, 16.9718, 164.9822, 5446,   2426.4,     2398,   1.8017,  34.6488,2,    117.1,2,  34.6486,6,   117.28,2,   150.23,2,    38.49,2,     0.00,2,    2.700,3,     -999,9,     -999,9,-999,9,-999,9,   2347.2,2,   2416.1,2,   7.5291,2,    25.00,     -999,9,     -999,9,   1.8018,2
  49UP20110515,   P13,    89,  1,     13,      86,2,20110720,1124,1228, 16.9718, 164.9822, 5446,   2630.3,     2598,   1.7114,  34.6579,2,    122.9,2,  34.6565,2,   123.04,2,   151.06,2,    38.06,2,     0.00,2,    2.660,3,     -999,9,     -999,9,-999,9,-999,9,   2342.3,2,   2420.4,2,   7.5434,2,    25.00,     -999,9,     -999,9,   1.7116,2
  49UP20110515,   P13,    89,  1,     12,      85,3,20110720,1124,1223, 16.9718, 164.9822, 5446,   2835.6,     2800,   1.6402,  34.6636,2,    128.3,2,  34.6641,2,   129.09,2,   151.60,2,    37.74,2,     0.00,2,    2.640,3,     -999,9,     -999,9,-999,9,-999,9,   2341.2,2,   2419.4,2,   7.5471,2,    25.00,     -999,9,     -999,9,   1.6403,2
  49UP20110515,   P13,    89,  1,     11,     110,2,20110720,1124,1219, 16.9718, 164.9822, 5446,   3036.6,     2997,   1.5847,  34.6692,2,    133.6,2,  34.6686,2,   133.84,6,   151.30,2,    37.48,2,     0.00,2,    2.610,3,    0.009,3,    0.000,2,-999,9,-999,9,   2339.2,2,   2420.4,2,   7.5590,2,    25.00,     -999,9,     -999,9,   1.5848,2
  49UP20110515,   P13,    89,  1,     10,      83,2,20110720,1124,1214, 16.9718, 164.9822, 5446,   3294.7,     3250,   1.5379,  34.6744,2,    139.4,2,  34.6759,2,   139.22,2,   150.36,2,    37.03,2,     0.00,2,    2.580,3,     -999,9,     -999,9,-999,9,-999,9,   2340.0,2,   2418.2,2,   7.5690,2,    25.00,     -999,9,     -999,9,   1.5380,2
  49UP20110515,   P13,    89,  1,      9,      82,2,20110720,1124,1209, 16.9718, 164.9822, 5446,   3549.8,     3499,   1.5029,  34.6792,2,    145.0,2,  34.6803,2,   145.16,2,   148.73,2,    36.68,2,     0.00,2,    2.550,3,     -999,9,     -999,9,-999,9,-999,9,   2333.9,2,   2418.6,2,   7.5744,2,    25.00,     -999,9,     -999,9,   1.5030,2
  49UP20110515,   P13,    89,  1,      8,      81,2,20110720,1124,1204, 16.9718, 164.9822, 5446,   3807.0,     3751,   1.4709,  34.6836,2,    151.2,2,  34.6833,2,   151.45,2,   146.39,6,    36.24,6,     0.00,6,    2.510,3,     -999,9,     -999,9,-999,9,-999,9,   2325.7,2,   2416.7,2,   7.5826,2,    25.00,     -999,9,     -999,9,   1.4709,2
  49UP20110515,   P13,    89,  1,      7,      80,2,20110720,1124,1158, 16.9718, 164.9822, 5446,   4063.7,     4001,   1.4442,  34.6879,2,    157.7,2,  34.6862,4,   157.05,2,   143.09,2,    35.88,2,     0.00,2,    2.480,3,     -999,9,     -999,9,-999,9,-999,9,   2321.1,2,   2412.5,2,   7.5848,2,    25.00,     -999,9,     -999,9,   1.4441,2
  49UP20110515,   P13,    89,  1,      6,      79,2,20110720,1124,1153, 16.9718, 164.9822, 5446,   4318.5,     4250,   1.4202,  34.6919,2,    164.6,2,  34.6912,2,   164.98,2,   139.47,2,    35.28,2,     0.00,2,    2.440,3,    0.001,3,    0.007,2,-999,9,-999,9,   2315.0,2,   2408.7,2,   7.5997,2,    25.00,     -999,9,     -999,9,   1.4204,2
  49UP20110515,   P13,    89,  1,      5,      78,3,20110720,1124,1147, 16.9718, 164.9822, 5446,   4574.9,     4499,   1.4116,  34.6943,2,    169.8,2,  34.6943,2,   170.12,2,   136.60,2,    34.95,2,     0.00,2,    2.410,3,     -999,9,     -999,9,-999,9,-999,9,   2309.1,2,   2402.8,2,   7.6000,2,    25.00,     -999,9,     -999,9,   1.4117,2
  49UP20110515,   P13,    89,  1,      4,      77,2,20110720,1124,1141, 16.9718, 164.9822, 5446,   4832.6,     4750,   1.3963,  34.6973,2,    175.4,2,  34.6969,2,   175.65,2,   133.27,2,    34.50,2,     0.00,2,    2.380,3,     -999,9,     -999,9,-999,9,-999,9,   2304.0,2,   2400.8,6,   7.6100,2,    25.00,     -999,9,     -999,9,   1.3962,2
  49UP20110515,   P13,    89,  1,      3,      76,3,20110720,1124,1134, 16.9718, 164.9822, 5446,   5093.7,     5004,   1.3916,  34.6996,2,    179.9,2,  34.6978,4,   180.24,6,   130.73,2,    34.14,2,     0.00,2,    2.360,3,     -999,9,     -999,9,-999,9,-999,9,   2296.1,2,   2393.3,2,   7.6141,2,    25.00,     -999,9,     -999,9,   1.3916,2
  49UP20110515,   P13,    89,  1,      2,      75,3,20110720,1124,1128, 16.9718, 164.9822, 5446,   5346.3,     5249,   1.4003,  34.7007,2,    182.5,2,  34.7009,6,   183.00,2,   129.37,2,    34.02,2,     0.00,2,    2.340,3,     -999,9,     -999,9,-999,9,-999,9,   2293.5,2,   2392.3,2,   7.6112,2,    25.00,     -999,9,     -999,9,   1.4004,2
  49UP20110515,   P13,    89,  1,      1,     112,2,20110720,1124,1124, 16.9718, 164.9822, 5446,   5533.3,     5430,   1.4118,  34.7014,2,    184.1,2,  34.7017,2,   185.29,4,   128.54,2,    33.90,2,     0.00,2,    2.350,3,    0.000,3,    0.000,2,-999,9,-999,9,   2288.8,2,   2390.0,2,   7.6197,2,    25.00,     -999,9,     -999,9,   1.4118,2