BOTTLE,20240105CCHSIOVAJ
# Changed SAMPNO values of 99 to 0 to reflect bucket sampling
# Changed BTLNBR values of 99 to BUC to reflect bucket sampling
# Added CCHDO citation information
# These data are under a CC0 license. For more information on how to cite, please visit cchdo.ucsd.edu.
#BOTTLE,20200304PRINUNIVRMK
# 08/30/2019 Initialized README file  
# Data source:  Masao Ishii 2018/11/30 
# SHIP: R/V Ryofu Maru III 
# Cruise: RF15.05 
# Region: North Pacific Ocean 
# EXPOCODE: 49UP20150604 
# DATES: 20150604-20150623 
# Chief Scientist: Nobumi Kato 
# 20 stations with 36 place Rosette 
# CTD: Who - Kazuhiro Nemoto; Status - final 
# 	Includes: CTDSAL 
# SALNTY: Who - Kazuhiro Nemoto; Status - final 
# 	Notes: 	 
# Nutrients: Who - Kazuhiro Nemoto; Status - final 
# 	Includes: nitrate, nitrite, silicate, phosphate 
# 	Nitrite and NO3+NO2 reported. Separated by subtraction 
# OXYGEN: Who - Kazuhiro Nemoto; Status - final 
# 	Notes: 
# TCARBN: Who - Kazuhiro Nemoto; Status - final 
# 	Notes:  
# ALKALI: Who - Kazuhiro Nemoto; Status - final 
# 	Notes:  
# PH: Who - Kazuhiro Nemoto; Status - final- 
# 	Notes: total H+ scale at 25C 
# These data should be cited as:               
# References that have used data from this cruise: 
EXPOCODE,SECT_ID,STNNBR,CASTNO,SAMPNO,BTLNBR,BTLNBR_FLAG_W,DATE,TIME,BTL_TIME,LATITUDE,LONGITUDE,DEPTH,CTDPRS,CTDTMP,CTDSAL,CTDSAL_FLAG_W,SALNTY,SALNTY_FLAG_W,OXYGEN,OXYGEN_FLAG_W,SILCAT,SILCAT_FLAG_W,NITRAT,NITRAT_FLAG_W,NITRIT,NITRIT_FLAG_W,PHSPHT,PHSPHT_FLAG_W,TCARBN,TCARBN_FLAG_W,ALKALI,ALKALI_FLAG_W,PH_TOT,PH_TOT_FLAG_W,PH_TMP
,,,,,,,,,,,,METERS,DBAR,ITS-90,PSS-78,,PSS-78,,UMOL/KG,,UMOL/KG,,UMOL/KG,,UMOL/KG,,UMOL/KG,,UMOL/KG,,UMOL/KG,,,,DEG C
  49UP20150604,RF1505,5447,1, 0,    BUC,2,20150608,0435,0655,34.9993,165.0435,5871,   0.0,17.8851,34.3157,2,34.3127,2,255.6,2,  4.47,2, 0.00,2,0.00,2,0.08,2,1994.9,2,2263.6,2,8.0035,2,25.0
  49UP20150604,RF1505,5447,1,36,  22109,2,20150608,0435,0738,34.9993,165.0435,5871,  12.0,17.8850,34.3144,2,34.3148,2,255.3,2,  4.42,2, 0.00,2,0.00,2,0.07,2,1996.7,2,2262.4,2,8.0045,2,25.0
  49UP20150604,RF1505,5447,1,35,  22112,2,20150608,0435,0737,34.9993,165.0435,5871,  26.9,16.1453,34.4549,2,   -999,9,269.7,2,  1.43,2, 0.00,2,0.00,2,0.06,2,2002.5,2,2267.8,2,8.0025,2,25.0
  49UP20150604,RF1505,5447,1,34,  22083,2,20150608,0435,0735,34.9993,165.0435,5871,  52.9,14.9288,34.4702,2,   -999,9,248.2,2,  5.92,2, 2.72,2,0.18,2,0.35,2,2036.5,2,2272.8,2,7.9496,2,25.0
  49UP20150604,RF1505,5447,1,33,  24469,4,20150608,0435,0733,34.9993,165.0435,5871,  77.6,14.1306,34.4479,2,   -999,9, -999,9,-999.0,9, -999,9,-999,9,-999,9,-999.0,9,-999.0,9,-999.0,9,-999
  49UP20150604,RF1505,5447,1,32,  22105,2,20150608,0435,0731,34.9993,165.0435,5871, 104.0,13.5212,34.4161,2,34.4011,4,242.4,2,  8.40,2, 6.68,2,0.06,2,0.51,2,2050.8,2,2266.8,2,7.9058,2,25.0
  49UP20150604,RF1505,5447,1,31,  23515,2,20150608,0435,0729,34.9993,165.0435,5871, 126.5,13.0361,34.3855,2,   -999,9,240.6,2,  9.32,2, 7.69,2,0.02,2,0.57,2,2055.9,2,2268.0,2,7.8951,2,25.0
  49UP20150604,RF1505,5447,1,30,  22097,2,20150608,0435,0724,34.9993,165.0435,5871, 149.7,12.5600,34.3415,2,   -999,9,241.8,2, 10.52,2, 8.30,2,0.01,2,0.62,2,2060.5,2,2267.1,2,7.8866,2,25.0
  49UP20150604,RF1505,5447,1,29,  22102,2,20150608,0435,0722,34.9993,165.0435,5871, 201.2,11.0168,34.1721,2,34.1715,6,245.8,2, 14.10,2,10.37,2,0.01,2,0.79,2,2074.0,2,2262.2,2,7.8479,2,25.0
  49UP20150604,RF1505,5447,1,28,  22108,2,20150608,0435,0720,34.9993,165.0435,5871, 252.8,10.0516,34.1370,2,   -999,9,216.4,2, 21.89,2,15.07,2,0.01,2,1.09,2,2111.3,2,2267.5,2,7.7780,2,25.0
  49UP20150604,RF1505,5447,1,27,  21998,2,20150608,0435,0718,34.9993,165.0435,5871, 303.8, 8.8988,34.0689,2,   -999,9,203.5,2, 28.89,2,18.53,2,0.01,2,1.34,2,2134.2,6,2270.0,6,7.7244,2,25.0
  49UP20150604,RF1505,5447,1,26,  22084,2,20150608,0435,0714,34.9993,165.0435,5871, 405.2, 6.7975,33.9711,2,33.9707,2,174.3,2, 46.04,2,25.09,2,0.00,2,1.83,2,2185.4,2,2278.9,2,7.6173,6,25.0
  49UP20150604,RF1505,5447,1,25,  22098,2,20150608,0435,0711,34.9993,165.0435,5871, 506.1, 5.2511,34.0106,2,   -999,9,117.5,6, 72.59,6,33.08,6,0.00,6,2.41,6,2249.7,2,2299.2,2,7.4834,2,25.0
  49UP20150604,RF1505,5447,1,24,  22110,2,20150608,0435,0707,34.9993,165.0435,5871, 605.2, 4.5875,34.0924,2,34.0934,2, 80.2,2, 90.69,2,37.38,2,0.00,2,2.70,2,2290.5,2,2318.3,2,7.4147,2,25.0
  49UP20150604,RF1505,5447,1,23,  22096,2,20150608,0435,0704,34.9993,165.0435,5871, 709.9, 4.2055,34.1784,2,   -999,9, 57.0,2,103.76,2,39.78,2,0.00,2,2.87,2,2315.2,2,2332.0,2,7.3799,2,25.0
  49UP20150604,RF1505,5447,1,22,  22111,2,20150608,0435,0700,34.9993,165.0435,5871, 810.3, 3.8043,34.2518,2,34.2512,2, 44.0,2,116.52,2,41.33,2,0.00,2,2.97,2,2334.6,2,2348.5,2,7.3639,2,25.0
  49UP20150604,RF1505,5447,1,21,  22078,2,20150608,0435,0650,34.9993,165.0435,5871, 911.6, 3.5143,34.3041,2,   -999,9, 38.7,2,125.30,2,42.07,2,0.00,2,3.02,2,2350.9,2,2358.1,2,7.3551,2,25.0
  49UP20150604,RF1505,5447,1,20,  22093,2,20150608,0435,0647,34.9993,165.0435,5871,1014.7, 3.1895,34.3573,2,34.3565,2, 33.9,6,134.98,6,42.66,6,0.00,6,3.07,6,2361.9,2,2369.3,2,7.3525,2,25.0
  49UP20150604,RF1505,5447,1,19,  22092,2,20150608,0435,0642,34.9993,165.0435,5871,1214.5, 2.7938,34.4342,2,34.4339,6, 32.2,2,147.24,2,43.27,2,0.00,2,3.09,2,2374.1,2,2386.7,2,7.3546,2,25.0
  49UP20150604,RF1505,5447,1,18,  22101,2,20150608,0435,0629,34.9993,165.0435,5871,1418.2, 2.4629,34.4900,2,34.4891,2, 37.3,2,156.70,2,43.27,2,0.00,2,3.07,2,2382.9,2,2396.4,2,7.3665,2,25.0
  49UP20150604,RF1505,5447,1,17,  22090,2,20150608,0435,0623,34.9993,165.0435,5871,1621.0, 2.2197,34.5351,2,34.5354,2, 46.6,2,162.59,2,42.64,2,0.00,2,3.03,2,2383.0,6,2404.7,6,7.3862,2,25.0
  49UP20150604,RF1505,5447,1,16,  22089,2,20150608,0435,0619,34.9993,165.0435,5871,1822.5, 2.0442,34.5698,2,34.5705,6, 60.0,2,165.21,2,42.01,2,0.00,2,2.97,2,2374.9,2,2408.8,2,7.4133,6,25.0
  49UP20150604,RF1505,5447,1,15,  22088,2,20150608,0435,0608,34.9993,165.0435,5871,2024.9, 1.9105,34.5948,2,34.5952,6, 72.0,2,165.92,2,41.27,2,0.00,2,2.90,2,2374.4,2,2412.2,2,7.4376,2,25.0
  49UP20150604,RF1505,5447,1,14,  21999,2,20150608,0435,0602,34.9993,165.0435,5871,2279.6, 1.7755,34.6197,2,   -999,9, 88.7,2,164.77,2,40.09,2,0.00,2,2.82,2,2366.5,2,2414.1,2,7.4710,2,25.0
  49UP20150604,RF1505,5447,1,13,  22667,2,20150608,0435,0557,34.9993,165.0435,5871,2534.7, 1.6622,34.6392,2,34.6378,4,104.0,2,162.43,2,39.03,2,0.00,2,2.76,2,2357.9,2,2417.8,2,7.5007,2,25.0
  49UP20150604,RF1505,5447,1,12,  22074,2,20150608,0435,0549,34.9993,165.0435,5871,2790.2, 1.5979,34.6508,2,   -999,9,115.1,2,160.78,2,38.58,2,0.00,2,2.70,2,2347.9,2,2416.8,2,7.5201,2,25.0
  49UP20150604,RF1505,5447,1,11,  24268,2,20150608,0435,0544,34.9993,165.0435,5871,3044.7, 1.5368,34.6618,2,34.6629,6,126.1,2,158.25,2,37.72,2,0.00,2,2.63,2,2341.5,2,2418.3,2,7.5410,2,25.0
  49UP20150604,RF1505,5447,1,10,  24267,2,20150608,0435,0539,34.9993,165.0435,5871,3299.0, 1.4989,34.6691,2,   -999,9,134.3,2,156.20,2,37.22,2,0.00,2,2.59,2,2335.1,2,2417.0,2,7.5560,2,25.0
  49UP20150604,RF1505,5447,1, 9,  23518,2,20150608,0435,0533,34.9993,165.0435,5871,3554.7, 1.4738,34.6750,2,34.6760,2,141.1,2,154.57,2,36.75,2,0.00,2,2.56,2,2335.7,2,2417.7,2,7.5674,2,25.0
  49UP20150604,RF1505,5447,1, 8,  22081,2,20150608,0435,0528,34.9993,165.0435,5871,3809.9, 1.4639,34.6791,2,   -999,9,146.2,2,152.93,2,36.46,2,0.00,2,2.53,2,2331.0,2,2418.9,2,7.5755,2,25.0
  49UP20150604,RF1505,5447,1, 7,  23516,2,20150608,0435,0521,34.9993,165.0435,5871,4067.3, 1.4611,34.6822,2,34.6827,2,150.4,2,151.80,2,36.25,2,0.00,2,2.51,2,2323.9,6,2417.0,6,7.5831,2,25.0
  49UP20150604,RF1505,5447,1, 6,  22113,2,20150608,0435,0512,34.9993,165.0435,5871,4582.5, 1.4817,34.6866,2,34.6872,6,155.5,2,150.89,2,35.97,2,0.00,2,2.48,2,2318.9,2,2415.6,2,7.5913,6,25.0
  49UP20150604,RF1505,5447,1, 5,  22094,2,20150608,0435,0459,34.9993,165.0435,5871,5098.1, 1.5125,34.6897,2,34.6900,6,161.9,6,145.27,6,35.42,6,0.00,6,2.44,6,2317.2,2,2411.3,2,7.5968,2,25.0
  49UP20150604,RF1505,5447,1, 4,  22077,2,20150608,0435,0451,34.9993,165.0435,5871,5352.7, 1.5208,34.6919,2,34.6899,4,165.9,2,141.60,2,35.07,2,0.00,2,2.42,2,2312.6,2,2408.2,2,7.6018,2,25.0
  49UP20150604,RF1505,5447,1, 3,  22104,2,20150608,0435,0446,34.9993,165.0435,5871,5609.0, 1.5343,34.6937,2,34.6942,2,169.0,2,138.90,2,34.91,2,0.00,2,2.40,2,2308.9,2,2408.8,2,7.6090,2,25.0
  49UP20150604,RF1505,5447,1, 2,  22075,2,20150608,0435,0439,34.9993,165.0435,5871,5872.7, 1.5536,34.6950,2,34.6945,2,171.7,2,136.61,2,34.73,2,0.00,2,2.39,2,2308.2,2,2407.1,2,7.6098,2,25.0
  49UP20150604,RF1505,5447,1, 1,  21997,2,20150608,0435,0435,34.9993,165.0435,5871,6011.5, 1.5649,34.6958,2,34.6955,6,172.8,6,136.58,6,34.65,6,0.00,6,2.39,6,2301.9,2,2405.6,2,7.6104,2,25.0
  49UP20150604,RF1505,5448,1, 0,    BUC,2,20150608,1407,1409,35.9902,164.9943,5555,   0.0,16.8745,34.4389,2,   -999,9, -999,9,-999.0,9, -999,9,-999,9,-999,9,-999.0,9,-999.0,9,-999.0,9,-999
  49UP20150604,RF1505,5448,1,35,  22112,2,20150608,1407,1434,35.9902,164.9943,5555,  51.7,14.3402,34.4129,2,   -999,9, -999,9,  7.08,2, 4.10,2,0.16,2,0.37,2,-999.0,9,-999.0,9,-999.0,9,-999
  49UP20150604,RF1505,5448,1,29,  22102,2,20150608,1407,1431,35.9902,164.9943,5555, 102.6,13.0220,34.3523,2,   -999,9, -999,9,  9.86,2, 7.71,2,0.10,2,0.57,2,-999.0,9,-999.0,9,-999.0,9,-999
  49UP20150604,RF1505,5448,1,25,  22098,2,20150608,1407,1428,35.9902,164.9943,5555, 154.4,12.2220,34.3085,2,   -999,9, -999,9, 11.79,2, 9.35,2,0.02,2,0.67,2,-999.0,9,-999.0,9,-999.0,9,-999
  49UP20150604,RF1505,5448,1,21,  22078,2,20150608,1407,1423,35.9902,164.9943,5555, 205.4,11.2301,34.2221,2,   -999,9, -999,9, 14.52,2,11.04,2,0.01,2,0.79,2,-999.0,9,-999.0,9,-999.0,9,-999
  49UP20150604,RF1505,5448,1,17,  22090,2,20150608,1407,1420,35.9902,164.9943,5555, 305.7, 9.0190,34.0486,2,   -999,9, -999,9, 26.60,2,17.63,2,0.02,2,1.26,2,-999.0,9,-999.0,9,-999.0,9,-999
  49UP20150604,RF1505,5448,1,11,  24268,2,20150608,1407,1417,35.9902,164.9943,5555, 406.5, 6.8769,33.9532,2,   -999,9, -999,9, 43.98,2,24.58,2,0.00,2,1.76,2,-999.0,9,-999.0,9,-999.0,9,-999
  49UP20150604,RF1505,5448,1, 7,  23516,2,20150608,1407,1412,35.9902,164.9943,5555, 608.9, 4.5775,34.0675,2,   -999,9, -999,9, 87.20,2,37.12,2,0.00,2,2.66,2,-999.0,9,-999.0,9,-999.0,9,-999
  49UP20150604,RF1505,5448,1, 3,  22104,2,20150608,1407,1407,35.9902,164.9943,5555, 809.5, 3.7876,34.2537,2,   -999,9, -999,9,116.36,2,41.34,2,0.00,2,2.94,2,-999.0,9,-999.0,9,-999.0,9,-999
  49UP20150604,RF1505,5450,1, 0,    BUC,2,20150609,0304,0342,37.9995,165.0030,5438,   0.0,17.1824,34.4723,2,   -999,9,249.0,2,  3.77,2, 0.10,2,0.02,2,0.09,2,-999.0,9,-999.0,9,-999.0,9,-999
  49UP20150604,RF1505,5450,1,33,  24469,2,20150609,0304,0408,37.9995,165.0030,5438,  10.3,17.1578,34.4709,2,   -999,9,249.3,2,  3.70,2, 0.13,2,0.02,2,0.09,2,-999.0,9,-999.0,9,-999.0,9,-999
  49UP20150604,RF1505,5450,1,32,  22105,2,20150609,0304,0407,37.9995,165.0030,5438,  27.2,16.7309,34.4503,2,   -999,9,251.2,2,  3.97,2, 0.31,2,0.03,2,0.10,2,-999.0,9,-999.0,9,-999.0,9,-999
  49UP20150604,RF1505,5450,1,31,  23515,2,20150609,0304,0403,37.9995,165.0030,5438,  51.4,15.5848,34.5089,2,   -999,9,239.1,2,  6.22,2, 3.34,2,0.37,2,0.32,2,-999.0,9,-999.0,9,-999.0,9,-999
  49UP20150604,RF1505,5450,1,30,  22097,2,20150609,0304,0402,37.9995,165.0030,5438,  75.9,14.1455,34.4619,2,   -999,9,239.1,2,  8.17,2, 6.24,2,0.18,2,0.46,2,-999.0,9,-999.0,9,-999.0,9,-999
  49UP20150604,RF1505,5450,1,29,  22102,2,20150609,0304,0400,37.9995,165.0030,5438, 102.2,13.5584,34.4575,2,   -999,9,227.7,2,  9.84,2, 8.41,2,0.03,2,0.58,2,-999.0,9,-999.0,9,-999.0,9,-999
  49UP20150604,RF1505,5450,1,28,  22108,2,20150609,0304,0359,37.9995,165.0030,5438, 127.6,13.1913,34.4281,2,   -999,9,229.1,2, 10.58,2, 8.89,2,0.02,2,0.62,2,-999.0,9,-999.0,9,-999.0,9,-999
  49UP20150604,RF1505,5450,1,24,  22110,2,20150609,0304,0357,37.9995,165.0030,5438, 152.3,12.5789,34.3725,2,   -999,9,234.7,2, 11.53,2, 9.33,2,0.02,2,0.66,2,-999.0,9,-999.0,9,-999.0,9,-999
  49UP20150604,RF1505,5450,1,23,  22096,2,20150609,0304,0355,37.9995,165.0030,5438, 203.9,11.4843,34.2424,2,   -999,9,238.6,2, 13.84,2,10.52,2,0.01,2,0.75,2,-999.0,9,-999.0,9,-999.0,9,-999
  49UP20150604,RF1505,5450,1,22,  22111,2,20150609,0304,0353,37.9995,165.0030,5438, 253.6,10.4092,34.1453,2,   -999,9,229.3,2, 18.73,2,13.38,2,0.01,2,0.96,2,-999.0,9,-999.0,9,-999.0,9,-999
  49UP20150604,RF1505,5450,1,21,  22078,2,20150609,0304,0351,37.9995,165.0030,5438, 304.3, 9.1486,34.0408,2,   -999,9,220.6,2, 24.44,2,16.36,2,0.01,2,1.18,2,-999.0,9,-999.0,9,-999.0,9,-999
  49UP20150604,RF1505,5450,1,20,  22093,2,20150609,0304,0348,37.9995,165.0030,5438, 407.4, 7.0849,33.9613,2,   -999,9,182.0,2, 42.49,2,23.88,2,0.01,2,1.72,2,-999.0,9,-999.0,9,-999.0,9,-999
  49UP20150604,RF1505,5450,1,19,  22092,2,20150609,0304,0345,37.9995,165.0030,5438, 506.0, 5.5522,33.9818,2,   -999,9,133.1,2, 65.40,2,31.16,2,0.00,2,2.25,2,-999.0,9,-999.0,9,-999.0,9,-999
  49UP20150604,RF1505,5450,1,15,  22088,2,20150609,0304,0342,37.9995,165.0030,5438, 607.9, 4.7714,34.0641,2,   -999,9, 89.7,2, 84.84,2,36.36,2,0.00,2,2.63,2,-999.0,9,-999.0,9,-999.0,9,-999
  49UP20150604,RF1505,5450,1,14,  21999,2,20150609,0304,0339,37.9995,165.0030,5438, 707.8, 4.2682,34.1634,2,   -999,9, 61.9,2,101.56,2,39.41,2,0.00,2,2.81,2,-999.0,9,-999.0,9,-999.0,9,-999
  49UP20150604,RF1505,5450,1,13,  22667,2,20150609,0304,0336,37.9995,165.0030,5438, 810.2, 3.8963,34.2438,2,   -999,9, 47.8,2,113.87,3,40.92,2,0.00,2,2.91,2,-999.0,9,-999.0,9,-999.0,9,-999
  49UP20150604,RF1505,5450,1,12,  22074,2,20150609,0304,0332,37.9995,165.0030,5438, 909.3, 3.5691,34.2997,2,   -999,9, 40.6,2,123.49,2,41.88,2,0.00,2,2.97,2,-999.0,9,-999.0,9,-999.0,9,-999
  49UP20150604,RF1505,5450,1,11,  24268,2,20150609,0304,0329,37.9995,165.0030,5438,1013.4, 3.3108,34.3456,2,   -999,9, 37.4,2,131.23,2,42.40,2,0.00,2,3.02,2,-999.0,9,-999.0,9,-999.0,9,-999
  49UP20150604,RF1505,5450,1, 6,  22113,2,20150609,0304,0324,37.9995,165.0030,5438,1215.3, 2.9167,34.4107,2,   -999,9, 34.1,2,142.97,2,42.87,3,0.00,2,3.06,2,-999.0,9,-999.0,9,-999.0,9,-999
  49UP20150604,RF1505,5450,1,10,  24267,2,20150609,0304,0324,37.9995,165.0030,5438,1217.5, 2.9105,34.4120,2,   -999,9, 34.2,6,143.01,6,43.02,6,0.00,6,3.06,6,-999.0,9,-999.0,9,-999.0,9,-999
  49UP20150604,RF1505,5450,1, 5,  22094,2,20150609,0304,0319,37.9995,165.0030,5438,1418.1, 2.5673,34.4726,2,   -999,9, 36.5,6,153.19,6,43.31,6,0.00,6,3.06,6,-999.0,9,-999.0,9,-999.0,9,-999
  49UP20150604,RF1505,5450,1, 3,  22104,2,20150609,0304,0314,37.9995,165.0030,5438,1621.6, 2.3072,34.5169,2,   -999,9, 42.9,2,160.61,2,42.95,2,0.00,2,3.03,2,-999.0,9,-999.0,9,-999.0,9,-999
  49UP20150604,RF1505,5450,1, 4,  22077,2,20150609,0304,0314,37.9995,165.0030,5438,1623.3, 2.3047,34.5175,2,   -999,9, 43.2,2,160.54,2,43.00,2,0.00,2,3.03,2,-999.0,9,-999.0,9,-999.0,9,-999
  49UP20150604,RF1505,5450,1, 2,  22075,2,20150609,0304,0309,37.9995,165.0030,5438,1826.5, 2.1106,34.5547,2,   -999,9, 54.3,2,165.01,3,42.42,2,0.00,2,3.00,3,-999.0,9,-999.0,9,-999.0,9,-999
  49UP20150604,RF1505,5450,1, 1,  21997,2,20150609,0304,0304,37.9995,165.0030,5438,2026.7, 1.9530,34.5854,2,   -999,9, 68.2,2,166.10,2,41.61,2,0.00,2,2.92,2,-999.0,9,-999.0,9,-999.0,9,-999
  49UP20150604,RF1505,5451,1, 0,    BUC,2,20150609,1003,1005,38.9908,165.0143,5339,   0.0,10.5892,33.2969,2,   -999,9, -999,9,-999.0,9, -999,9,-999,9,-999,9,-999.0,9,-999.0,9,-999.0,9,-999
  49UP20150604,RF1505,5451,1,35,  22112,2,20150609,1003,1031,38.9908,165.0143,5339,  52.1, 7.2808,33.2597,2,   -999,9, -999,9, 19.54,2,11.16,2,0.21,2,1.06,2,-999.0,9,-999.0,9,-999.0,9,-999
  49UP20150604,RF1505,5451,1,29,  22102,2,20150609,1003,1028,38.9908,165.0143,5339, 101.3, 8.4868,33.7390,2,   -999,9, -999,9, 17.36,2,11.74,2,0.05,2,0.96,2,-999.0,9,-999.0,9,-999.0,9,-999
  49UP20150604,RF1505,5451,1,26,  22084,2,20150609,1003,1023,38.9908,165.0143,5339, 152.2, 8.3760,33.8653,2,   -999,9, -999,9, 19.09,2,13.05,2,0.02,2,0.99,2,-999.0,9,-999.0,9,-999.0,9,-999
  49UP20150604,RF1505,5451,1,21,  22078,2,20150609,1003,1021,38.9908,165.0143,5339, 202.7, 7.5004,33.8363,2,   -999,9, -999,9, 27.08,2,17.32,2,0.02,2,1.33,2,-999.0,9,-999.0,9,-999.0,9,-999
  49UP20150604,RF1505,5451,1,17,  22090,2,20150609,1003,1018,38.9908,165.0143,5339, 304.9, 6.4936,33.9366,2,   -999,9, -999,9, 47.97,2,25.74,2,0.01,2,1.87,2,-999.0,9,-999.0,9,-999.0,9,-999
  49UP20150604,RF1505,5451,1,11,  24268,2,20150609,1003,1014,38.9908,165.0143,5339, 405.9, 5.1048,33.9431,2,   -999,9, -999,9, 68.34,2,32.18,2,0.00,2,2.34,2,-999.0,9,-999.0,9,-999.0,9,-999
  49UP20150604,RF1505,5451,1, 7,  23516,2,20150609,1003,1008,38.9908,165.0143,5339, 608.4, 4.1888,34.1276,2,   -999,9, -999,9,100.54,2,39.34,2,0.00,2,2.83,2,-999.0,9,-999.0,9,-999.0,9,-999
  49UP20150604,RF1505,5451,1, 3,  22104,2,20150609,1003,1003,38.9908,165.0143,5339, 809.5, 3.5507,34.2746,2,   -999,9, -999,9,123.35,2,41.84,2,0.00,2,2.99,2,-999.0,9,-999.0,9,-999.0,9,-999