BOTTLE,20240105CCHSIOVAJ
EXPOCODE,SECT_ID,STNNBR,CASTNO,SAMPNO,BTLNBR,BTLNBR_FLAG_W,DATE,TIME,BTL_TIME,LATITUDE,LONGITUDE,DEPTH,CTDPRS,CTDTMP,CTDSAL,CTDSAL_FLAG_W,SALNTY,SALNTY_FLAG_W,OXYGEN,OXYGEN_FLAG_W,SILCAT,SILCAT_FLAG_W,NITRAT,NITRAT_FLAG_W,NITRIT,NITRIT_FLAG_W,PHSPHT,PHSPHT_FLAG_W,TCARBN,TCARBN_FLAG_W,ALKALI,ALKALI_FLAG_W,PH_TOT,PH_TOT_FLAG_W,PH_TMP
,,,,,,,,,,,,METERS,DBAR,ITS-90,PSS-78,,PSS-78,,UMOL/KG,,UMOL/KG,,UMOL/KG,,UMOL/KG,,UMOL/KG,,UMOL/KG,,UMOL/KG,,,,DEG C
  49UP20150604,RF1505,5452,1, 0,    BUC,2,20150609,1743,1955,39.9933,164.9920,5465,   0.0,11.6896,33.5379,2,33.5287,2,287.2,2,  9.92,2, 5.25,2,0.11,2,0.55,2,2032.6,2,2241.3,2,7.9063,2,25.0
  49UP20150604,RF1505,5452,1,36,  22109,2,20150609,1743,2018,39.9933,164.9920,5465,  11.3,11.6924,33.5393,2,33.5415,2,287.2,2,  9.95,2, 5.36,2,0.11,2,0.55,2,2034.5,2,2245.6,2,7.9068,2,25.0
  49UP20150604,RF1505,5452,1,35,  22112,2,20150609,1743,2017,39.9933,164.9920,5465,  26.5,11.4275,33.5734,2,   -999,9,285.2,2, 10.54,2, 5.75,2,0.12,2,0.58,2,2038.2,2,2241.5,2,7.8993,2,25.0
  49UP20150604,RF1505,5452,1,34,  22083,2,20150609,1743,2015,39.9933,164.9920,5465,  51.9,10.4324,33.6215,2,   -999,9,283.4,2, 14.20,2, 7.58,2,0.18,2,0.75,2,2054.5,2,2244.7,2,7.8588,2,25.0
  49UP20150604,RF1505,5452,1,33,  24469,2,20150609,1743,2014,39.9933,164.9920,5465,  76.7, 7.7725,33.5333,2,   -999,9,289.2,2, 16.65,2,11.25,2,0.20,2,0.94,2,2077.8,2,2241.3,2,7.8017,2,25.0
  49UP20150604,RF1505,5452,1,32,  22105,2,20150609,1743,2010,39.9933,164.9920,5465, 101.0, 7.6755,33.6141,2,33.6280,4,282.8,2, 17.10,2,12.01,2,0.02,2,0.96,2,2086.1,2,2244.8,2,7.7967,2,25.0
  49UP20150604,RF1505,5452,1,31,  23515,2,20150609,1743,2009,39.9933,164.9920,5465, 125.8, 7.5952,33.7354,2,   -999,9,266.5,2, 20.80,2,14.22,2,0.02,2,1.09,2,2098.8,2,2252.3,2,7.7693,2,25.0
  49UP20150604,RF1505,5452,1,30,  22097,2,20150609,1743,2007,39.9933,164.9920,5465, 152.1, 6.9689,33.7564,2,   -999,9,242.0,2, 28.50,2,18.19,2,0.01,2,1.36,2,2128.7,2,2258.9,2,7.7134,2,25.0
  49UP20150604,RF1505,5452,1,29,  22102,2,20150609,1743,2005,39.9933,164.9920,5465, 205.0, 6.2186,33.8036,2,33.8019,6,210.0,6, 39.54,6,22.93,6,0.01,6,1.68,6,2161.6,2,2267.7,2,7.6420,2,25.0
  49UP20150604,RF1505,5452,1,28,  22108,2,20150609,1743,2004,39.9933,164.9920,5465, 253.4, 5.5934,33.8239,2,   -999,9,180.9,2, 50.18,2,26.84,2,0.00,2,1.96,2,2195.0,2,2276.1,2,7.5753,2,25.0
  49UP20150604,RF1505,5452,1,27,  21998,2,20150609,1743,2002,39.9933,164.9920,5465, 302.7, 5.0753,33.8294,2,   -999,9,161.6,2, 58.41,2,29.68,2,0.00,2,2.16,2,2219.2,2,2280.5,2,7.5273,2,25.0
  49UP20150604,RF1505,5452,1,26,  22084,2,20150609,1743,1959,39.9933,164.9920,5465, 404.9, 4.3886,33.9185,2,33.9166,2,113.0,2, 77.68,2,35.30,2,0.00,2,2.55,2,2266.7,6,2294.4,6,7.4314,2,25.0
  49UP20150604,RF1505,5452,1,25,  22098,4,20150609,1743,1956,39.9933,164.9920,5465, 506.4, 4.3241,34.0821,2,   -999,9,166.6,4, 57.13,4,27.98,4,0.00,4,2.04,4,2206.6,4,2282.2,4,7.5575,4,25.0
  49UP20150604,RF1505,5452,1,24,  22110,2,20150609,1743,1953,39.9933,164.9920,5465, 605.8, 4.1417,34.1885,2,34.1919,4, 56.6,2,105.84,2,40.12,2,0.00,2,2.86,2,2322.0,2,2334.8,2,7.3806,2,25.0
  49UP20150604,RF1505,5452,1,23,  22096,2,20150609,1743,1950,39.9933,164.9920,5465, 706.7, 3.7655,34.2657,2,   -999,9, 45.1,2,117.66,2,41.35,2,0.00,2,2.95,2,2340.3,2,2351.4,2,7.3644,2,25.0
  49UP20150604,RF1505,5452,1,22,  22111,2,20150609,1743,1947,39.9933,164.9920,5465, 808.3, 3.4864,34.3130,2,34.3131,2, 40.6,2,125.83,2,42.07,2,0.00,2,2.99,2,2351.3,2,2360.0,2,7.3545,2,25.0
  49UP20150604,RF1505,5452,1,21,  22078,2,20150609,1743,1944,39.9933,164.9920,5465, 909.0, 3.2317,34.3529,2,   -999,9, 37.4,2,133.10,2,42.56,2,0.00,2,3.03,2,2359.3,2,2367.0,2,7.3543,2,25.0
  49UP20150604,RF1505,5452,1,20,  22093,2,20150609,1743,1939,39.9933,164.9920,5465,1010.5, 3.0278,34.3866,2,34.3864,6, 33.6,2,139.58,2,43.04,2,0.00,2,3.07,2,2375.8,2,2376.4,2,7.3500,2,25.0
  49UP20150604,RF1505,5452,1,19,  22092,2,20150609,1743,1934,39.9933,164.9920,5465,1213.0, 2.6534,34.4485,2,34.4485,2, 35.0,2,150.85,2,43.31,2,0.00,2,3.07,2,2378.2,2,2388.4,2,7.3544,2,25.0
  49UP20150604,RF1505,5452,1,18,  22101,2,20150609,1743,1930,39.9933,164.9920,5465,1415.2, 2.3925,34.4969,2,34.4970,2, 41.1,2,158.11,2,43.09,2,0.00,2,3.05,2,2388.4,2,2398.8,2,7.3713,2,25.0
  49UP20150604,RF1505,5452,1,17,  22090,2,20150609,1743,1926,39.9933,164.9920,5465,1618.6, 2.1976,34.5328,2,34.5335,6, 48.5,6,162.95,6,42.66,6,0.00,6,3.01,6,2382.1,2,2402.7,2,7.3846,2,25.0
  49UP20150604,RF1505,5452,1,16,  22089,2,20150609,1743,1918,39.9933,164.9920,5465,1821.9, 2.0711,34.5608,2,34.5630,4, 56.8,2,165.39,2,42.15,2,0.00,2,2.97,2,2379.7,6,2408.2,6,7.4061,2,25.0
  49UP20150604,RF1505,5452,1,15,  22088,2,20150609,1743,1913,39.9933,164.9920,5465,2025.5, 1.9251,34.5909,2,34.5908,2, 70.3,2,166.34,2,41.40,2,0.00,2,2.92,2,2376.1,2,2409.3,2,7.4307,6,25.0
  49UP20150604,RF1505,5452,1,14,  21999,2,20150609,1743,1908,39.9933,164.9920,5465,2280.8, 1.7835,34.6175,2,34.6178,2, 86.6,2,165.99,2,40.38,2,0.00,2,2.84,2,2369.1,2,2414.8,2,7.4626,2,25.0
  49UP20150604,RF1505,5452,1,13,  22667,4,20150609,1743,1858,39.9933,164.9920,5465,2535.2, 1.6873,34.6354,2,   -999,9, 98.4,4,164.50,4,39.67,4,0.00,4,2.78,4,2361.2,4,2418.0,4,7.4838,4,25.0
  49UP20150604,RF1505,5452,1,12,  22074,2,20150609,1743,1852,39.9933,164.9920,5465,2791.4, 1.5999,34.6506,2,34.6516,2,114.5,2,161.70,2,38.61,2,0.00,2,2.71,2,2350.0,2,2418.1,2,7.5148,2,25.0
  49UP20150604,RF1505,5452,1,11,  24268,2,20150609,1743,1844,39.9933,164.9920,5465,3047.4, 1.5476,34.6605,2,   -999,9,124.6,2,159.28,2,37.96,2,0.00,2,2.65,2,2342.2,2,2417.0,2,7.5333,2,25.0
  49UP20150604,RF1505,5452,1,10,  24267,2,20150609,1743,1838,39.9933,164.9920,5465,3301.2, 1.5136,34.6677,2,34.6683,6,132.4,2,157.21,2,37.44,2,0.00,2,2.61,2,2337.7,2,2417.1,2,7.5484,2,25.0
  49UP20150604,RF1505,5452,1, 9,  23518,2,20150609,1743,1830,39.9933,164.9920,5465,3558.1, 1.4861,34.6737,2,   -999,9,139.5,2,155.64,2,36.97,2,0.00,2,2.57,2,2334.6,2,2417.1,2,7.5595,2,25.0
  49UP20150604,RF1505,5452,1, 8,  22081,2,20150609,1743,1824,39.9933,164.9920,5465,3814.5, 1.4738,34.6780,2,34.7672,4,144.5,6,154.14,6,36.60,6,0.00,6,2.55,6,2330.9,2,2417.1,2,7.5700,2,25.0
  49UP20150604,RF1505,5452,1, 7,  23516,2,20150609,1743,1818,39.9933,164.9920,5465,4071.5, 1.4700,34.6813,2,34.6816,2,148.7,2,153.44,2,36.29,2,0.00,2,2.52,2,2328.3,2,2415.5,2,7.5765,2,25.0
  49UP20150604,RF1505,5452,1, 6,  22113,2,20150609,1743,1812,39.9933,164.9920,5465,4328.1, 1.4743,34.6842,2,34.6847,2,152.2,2,152.32,2,36.08,2,0.00,2,2.50,2,2327.1,6,2416.2,6,7.5836,2,25.0
  49UP20150604,RF1505,5452,1, 5,  22094,2,20150609,1743,1806,39.9933,164.9920,5465,4586.3, 1.4857,34.6863,2,34.6862,6,154.6,2,152.19,2,35.88,2,0.00,2,2.49,2,2325.7,2,2417.4,2,7.5877,2,25.0
  49UP20150604,RF1505,5452,1, 4,  22077,2,20150609,1743,1800,39.9933,164.9920,5465,4842.2, 1.5060,34.6876,2,34.6899,4,156.0,2,152.09,2,35.81,2,0.00,2,2.48,2,2329.0,2,2418.3,2,7.5872,2,25.0
  49UP20150604,RF1505,5452,1, 3,  22104,2,20150609,1743,1754,39.9933,164.9920,5465,5101.3, 1.5323,34.6885,2,34.6889,2,156.5,2,152.42,2,35.76,2,0.00,2,2.48,2,2328.9,2,2416.9,2,7.5922,2,25.0
  49UP20150604,RF1505,5452,1, 2,  22075,2,20150609,1743,1748,39.9933,164.9920,5465,5358.4, 1.5614,34.6891,2,34.6930,4,157.4,2,152.53,2,35.70,2,0.00,2,2.47,2,2322.8,2,2418.3,2,7.5928,2,25.0
  49UP20150604,RF1505,5452,1, 1,  21997,2,20150609,1743,1743,39.9933,164.9920,5465,5566.7, 1.5868,34.6895,2,34.6889,2,157.7,6,152.89,6,35.70,6,0.00,6,2.48,6,2323.8,2,2416.6,2,7.5946,2,25.0
  49UP20150604,RF1505,5453,1, 0,    BUC,2,20150610,1811,2025,39.9960,170.8003,6269,   0.0,10.8316,33.7103,2,33.6872,2,284.9,2, 11.44,2, 6.66,2,0.14,2,0.63,2,2049.2,2,2245.8,2,7.8765,2,25.0
  49UP20150604,RF1505,5453,1,36,  22109,2,20150610,1811,2054,39.9960,170.8003,6269,  10.4,10.8332,33.7105,2,33.7124,2,284.6,2, 11.15,2, 6.48,2,0.13,2,0.60,2,2049.0,2,2246.3,2,7.8851,2,25.0
  49UP20150604,RF1505,5453,1,35,  22112,2,20150610,1811,2052,39.9960,170.8003,6269,  26.4,10.9424,33.7642,2,   -999,9,283.6,2, 10.53,2, 6.15,2,0.13,2,0.57,2,2045.6,2,2250.7,2,7.8882,2,25.0
  49UP20150604,RF1505,5453,1,34,  22083,2,20150610,1811,2051,39.9960,170.8003,6269,  52.0,11.0587,33.8445,2,   -999,9,277.8,2, 10.63,2, 6.23,2,0.14,2,0.58,2,2051.9,2,2252.2,2,7.8870,2,25.0
  49UP20150604,RF1505,5453,1,33,  24469,2,20150610,1811,2049,39.9960,170.8003,6269,  77.3,10.6661,33.8180,2,   -999,9,275.9,2, 11.67,2, 7.09,2,0.16,2,0.64,2,2055.9,2,2250.7,2,7.8726,2,25.0
  49UP20150604,RF1505,5453,1,32,  22105,2,20150610,1811,2045,39.9960,170.8003,6269, 102.3, 9.9220,33.9872,2,33.9904,2,264.1,2, 14.14,2,10.15,2,0.02,2,0.78,2,2075.5,2,2256.0,2,7.8369,2,25.0
  49UP20150604,RF1505,5453,1,31,  23515,2,20150610,1811,2044,39.9960,170.8003,6269, 126.5, 9.5828,33.9857,2,   -999,9,259.3,2, 15.76,2,11.33,2,0.02,2,0.86,2,2082.7,2,2259.0,2,7.8200,2,25.0
  49UP20150604,RF1505,5453,1,30,  22097,2,20150610,1811,2043,39.9960,170.8003,6269, 154.4, 9.3739,33.9759,2,   -999,9,256.7,6, 16.97,6,12.04,6,0.02,6,0.91,6,2091.0,2,2257.1,2,7.8114,2,25.0
  49UP20150604,RF1505,5453,1,29,  22102,2,20150610,1811,2040,39.9960,170.8003,6269, 204.0, 8.8532,33.9728,2,33.9727,2,229.4,2, 23.52,2,15.79,2,0.02,2,1.16,2,2114.4,2,2262.6,2,7.7563,2,25.0
  49UP20150604,RF1505,5453,1,28,  22108,2,20150610,1811,2039,39.9960,170.8003,6269, 253.8, 7.7485,33.9345,2,   -999,9,213.9,2, 31.36,2,19.63,2,0.02,2,1.43,2,2144.3,2,2266.5,2,7.7015,2,25.0
  49UP20150604,RF1505,5453,1,27,  21998,2,20150610,1811,2036,39.9960,170.8003,6269, 305.1, 6.4098,33.8978,2,   -999,9,183.8,2, 44.92,2,24.83,2,0.01,2,1.81,2,2183.1,2,2273.9,2,7.6130,2,25.0
  49UP20150604,RF1505,5453,1,26,  22084,2,20150610,1811,2032,39.9960,170.8003,6269, 405.8, 5.5811,33.9712,2,33.9696,6,137.5,2, 63.30,2,30.62,2,0.01,2,2.22,2,2227.7,2,2291.6,2,7.5222,2,25.0
  49UP20150604,RF1505,5453,1,25,  22098,2,20150610,1811,2029,39.9960,170.8003,6269, 507.2, 4.5528,33.9857,2,   -999,9,100.5,2, 81.57,2,35.89,2,0.00,2,2.59,2,2272.8,6,2304.6,6,7.4273,2,25.0
  49UP20150604,RF1505,5453,1,24,  22110,2,20150610,1811,2026,39.9960,170.8003,6269, 609.4, 4.1445,34.0883,2,34.0864,2, 65.6,2, 98.46,2,39.38,2,0.00,2,2.83,2,2309.2,2,2321.0,2,7.3704,6,25.0
  49UP20150604,RF1505,5453,1,23,  22096,2,20150610,1811,2023,39.9960,170.8003,6269, 709.2, 3.9226,34.1916,2,   -999,9, 48.4,2,110.75,2,40.89,2,0.00,2,2.93,2,2328.8,2,2336.9,2,7.3556,2,25.0
  49UP20150604,RF1505,5453,1,22,  22111,2,20150610,1811,2020,39.9960,170.8003,6269, 810.6, 3.5717,34.2676,2,34.2694,4, 37.8,2,122.47,2,41.98,2,0.00,2,3.00,2,2347.9,2,2351.9,2,7.3472,2,25.0
  49UP20150604,RF1505,5453,1,21,  22078,2,20150610,1811,2014,39.9960,170.8003,6269, 911.6, 3.3183,34.3025,2,   -999,9, 34.9,2,129.19,4,42.42,2,0.00,2,3.03,2,2357.1,2,2358.9,2,7.3386,2,25.0
  49UP20150604,RF1505,5453,1,20,  22093,2,20150610,1811,2011,39.9960,170.8003,6269,1012.3, 3.0735,34.3437,2,34.3430,2, 32.1,2,137.67,2,42.83,2,0.00,2,3.06,2,2366.6,2,2368.1,2,7.3366,2,25.0
  49UP20150604,RF1505,5453,1,19,  22092,2,20150610,1811,2007,39.9960,170.8003,6269,1214.0, 2.7283,34.4155,2,34.4142,2, 32.8,6,149.08,6,43.05,6,0.00,6,3.08,6,2378.1,2,2382.8,2,7.3451,2,25.0
  49UP20150604,RF1505,5453,1,18,  22101,2,20150610,1811,2002,39.9960,170.8003,6269,1416.6, 2.4802,34.4743,2,34.4738,2, 36.7,2,156.37,2,43.06,2,0.00,2,3.06,2,2383.5,2,2392.6,2,7.3571,2,25.0
  49UP20150604,RF1505,5453,1,17,  22090,2,20150610,1811,1955,39.9960,170.8003,6269,1618.2, 2.2729,34.5184,2,34.5193,2, 41.4,2,162.59,2,42.92,2,0.00,2,3.04,2,2385.0,2,2401.3,2,7.3718,2,25.0
  49UP20150604,RF1505,5453,1,16,  22089,3,20150610,1811,1950,39.9960,170.8003,6269,1822.5, 2.0913,34.5564,2,34.5600,4, 54.0,2,165.67,2,42.20,2,0.00,2,2.98,2,2387.0,2,2405.7,2,7.4000,2,25.0
  49UP20150604,RF1505,5453,1,15,  22088,2,20150610,1811,1945,39.9960,170.8003,6269,2024.6, 1.9705,34.5806,2,34.5822,2, 63.6,2,167.41,2,41.62,2,0.00,2,2.94,2,2378.3,6,2410.2,6,7.4202,2,25.0
  49UP20150604,RF1505,5453,1,14,  21999,2,20150610,1811,1938,39.9960,170.8003,6269,2280.4, 1.8324,34.6081,2,   -999,9, 79.3,2,167.27,2,40.64,2,0.00,2,2.87,2,2372.9,2,2412.8,2,7.4498,6,25.0
  49UP20150604,RF1505,5453,1,13,  22667,2,20150610,1811,1932,39.9960,170.8003,6269,2534.0, 1.7063,34.6309,2,34.6313,6, 97.1,2,165.55,2,39.56,2,0.00,2,2.79,2,2362.3,2,2417.7,2,7.4794,2,25.0
  49UP20150604,RF1505,5453,1,12,  22074,2,20150610,1811,1926,39.9960,170.8003,6269,2789.8, 1.6248,34.6460,2,   -999,9,110.1,2,163.49,2,38.76,2,0.00,2,2.72,2,2352.7,2,2416.9,2,7.5058,2,25.0
  49UP20150604,RF1505,5453,1,11,  24268,2,20150610,1811,1920,39.9960,170.8003,6269,3046.1, 1.5673,34.6570,2,34.6575,2,120.8,2,161.00,2,38.08,2,0.00,2,2.67,2,2351.4,2,2417.3,2,7.5266,2,25.0
  49UP20150604,RF1505,5453,1,10,  24267,2,20150610,1811,1914,39.9960,170.8003,6269,3302.0, 1.5208,34.6662,2,   -999,9,131.0,2,158.63,2,37.44,2,0.00,2,2.62,2,2341.7,2,2417.8,2,7.5445,2,25.0
  49UP20150604,RF1505,5453,1, 9,  23518,2,20150610,1811,1908,39.9960,170.8003,6269,3557.6, 1.4973,34.6721,2,34.6727,2,137.4,6,156.86,6,37.02,6,0.00,6,2.58,6,2333.7,2,2415.6,2,7.5571,2,25.0
  49UP20150604,RF1505,5453,1, 8,  22081,2,20150610,1811,1902,39.9960,170.8003,6269,3813.5, 1.4830,34.6769,2,   -999,9,143.1,2,155.49,2,36.63,2,0.00,2,2.55,2,2332.9,2,2416.8,2,7.5682,2,25.0
  49UP20150604,RF1505,5453,1, 7,  23516,2,20150610,1811,1856,39.9960,170.8003,6269,4071.2, 1.4823,34.6801,2,34.6813,6,146.9,2,154.57,2,36.41,2,0.00,2,2.53,2,2330.6,2,2416.8,2,7.5756,2,25.0
  49UP20150604,RF1505,5453,1, 6,  22113,2,20150610,1811,1845,39.9960,170.8003,6269,4584.9, 1.5010,34.6846,2,34.6847,2,152.0,2,153.38,2,36.03,2,0.00,2,2.50,2,2325.9,2,2417.2,2,7.5826,2,25.0
  49UP20150604,RF1505,5453,1, 5,  22094,2,20150610,1811,1835,39.9960,170.8003,6269,5100.3, 1.5443,34.6872,2,34.6850,4,154.7,2,153.01,2,35.91,2,0.00,2,2.49,2,2322.6,6,2416.7,6,7.5901,2,25.0
  49UP20150604,RF1505,5453,1, 4,  22077,2,20150610,1811,1829,39.9960,170.8003,6269,5357.2, 1.5706,34.6881,2,34.6867,4,155.8,2,152.96,2,35.82,2,0.00,2,2.48,2,2322.4,2,2416.0,2,7.5917,6,25.0
  49UP20150604,RF1505,5453,1, 3,  22104,2,20150610,1811,1823,39.9960,170.8003,6269,5616.2, 1.6007,34.6889,2,34.6887,6,155.9,2,153.52,2,35.81,2,0.00,2,2.48,2,2322.5,2,2416.1,2,7.5932,2,25.0
  49UP20150604,RF1505,5453,1, 2,  22075,2,20150610,1811,1817,39.9960,170.8003,6269,5874.3, 1.6359,34.6889,2,34.6889,6,156.0,6,153.45,6,35.84,6,0.00,6,2.48,6,2323.1,2,2417.2,2,7.5945,2,25.0
  49UP20150604,RF1505,5453,1, 1,  21997,2,20150610,1811,1811,39.9960,170.8003,6269,6134.7, 1.6724,34.6891,2,34.6883,2,155.9,2,153.36,2,35.86,2,0.00,2,2.49,2,2323.9,2,2417.1,2,7.5919,2,25.0