BOTTLE,20240105CCHSIOVAJ
EXPOCODE,SECT_ID,STNNBR,CASTNO,SAMPNO,BTLNBR,BTLNBR_FLAG_W,DATE,TIME,BTL_TIME,LATITUDE,LONGITUDE,DEPTH,CTDPRS,CTDTMP,CTDSAL,CTDSAL_FLAG_W,SALNTY,SALNTY_FLAG_W,OXYGEN,OXYGEN_FLAG_W,SILCAT,SILCAT_FLAG_W,NITRAT,NITRAT_FLAG_W,NITRIT,NITRIT_FLAG_W,PHSPHT,PHSPHT_FLAG_W,TCARBN,TCARBN_FLAG_W,ALKALI,ALKALI_FLAG_W,PH_TOT,PH_TOT_FLAG_W,PH_TMP
,,,,,,,,,,,,METERS,DBAR,ITS-90,PSS-78,,PSS-78,,UMOL/KG,,UMOL/KG,,UMOL/KG,,UMOL/KG,,UMOL/KG,,UMOL/KG,,UMOL/KG,,,,DEG C
  49UP20150604,RF1505,5459,1, 0,    BUC,2,20150613,0838,1108,45.0105,165.0507,5907,   0.0, 6.7687,33.1862,2,33.1903,2,305.5,2, 24.21,2,13.94,2,0.22,2,1.29,2,2083.6,2,2237.4,2,7.7841,2,25.0
  49UP20150604,RF1505,5459,1,36,  22109,2,20150613,0838,1131,45.0105,165.0507,5907,  11.2, 6.7699,33.1859,2,33.1894,2,305.3,2, 24.21,2,13.91,2,0.22,2,1.28,2,2084.3,2,2238.8,2,7.7830,2,25.0
  49UP20150604,RF1505,5459,1,35,  22112,2,20150613,0838,1130,45.0105,165.0507,5907,  27.0, 6.7747,33.1904,2,   -999,9,305.6,6, 24.17,6,13.92,6,0.22,6,1.28,6,2085.4,2,2238.9,2,7.7837,2,25.0
  49UP20150604,RF1505,5459,1,34,  22083,2,20150613,0838,1128,45.0105,165.0507,5907,  52.0, 6.6598,33.2042,2,   -999,9,305.4,2, 24.06,2,13.83,2,0.22,2,1.27,2,2087.2,2,2239.4,2,7.7825,2,25.0
  49UP20150604,RF1505,5459,1,33,  24469,3,20150613,0838,1127,45.0105,165.0507,5907,  76.6, 6.3855,33.4834,2,   -999,9,296.4,2, 25.21,2,15.58,2,0.16,2,1.27,2,2100.9,2,2247.0,2,7.7589,2,25.0
  49UP20150604,RF1505,5459,1,32,  22105,2,20150613,0838,1125,45.0105,165.0507,5907, 103.8, 6.0957,33.5875,2,33.5802,4,290.7,2, 26.21,2,16.40,2,0.01,2,1.29,2,2110.7,2,2249.2,2,7.7467,2,25.0
  49UP20150604,RF1505,5459,1,31,  23515,2,20150613,0838,1124,45.0105,165.0507,5907, 126.9, 5.8857,33.5943,2,   -999,9,284.4,2, 27.75,2,17.29,2,0.01,2,1.35,2,2116.3,2,2251.1,2,7.7343,2,25.0
  49UP20150604,RF1505,5459,1,30,  22097,2,20150613,0838,1120,45.0105,165.0507,5907, 152.7, 5.8741,33.6332,2,   -999,9,270.8,2, 31.07,2,18.58,2,0.01,2,1.43,2,2122.9,2,2253.3,2,7.7122,2,25.0
  49UP20150604,RF1505,5459,1,29,  22102,2,20150613,0838,1119,45.0105,165.0507,5907, 204.8, 4.8203,33.6574,2,33.6650,4,203.9,2, 48.78,2,26.06,2,0.01,2,1.94,2,2186.5,2,2268.3,2,7.5831,2,25.0
  49UP20150604,RF1505,5459,1,28,  22108,2,20150613,0838,1117,45.0105,165.0507,5907, 251.4, 4.1234,33.7006,2,   -999,9,166.7,2, 62.18,2,30.70,2,0.01,2,2.27,2,2226.6,2,2277.3,2,7.4962,2,25.0
  49UP20150604,RF1505,5459,1,27,  21998,2,20150613,0838,1115,45.0105,165.0507,5907, 304.8, 3.4468,33.7074,2,   -999,9,138.1,2, 74.32,2,34.65,2,0.01,2,2.54,2,2257.1,2,2283.1,2,7.4188,2,25.0
  49UP20150604,RF1505,5459,1,26,  22084,2,20150613,0838,1111,45.0105,165.0507,5907, 406.4, 3.5413,33.9056,2,33.9021,2, 80.5,2, 93.39,2,39.27,2,0.00,2,2.84,2,2302.1,2,2304.8,2,7.3473,2,25.0
  49UP20150604,RF1505,5459,1,25,  22098,2,20150613,0838,1109,45.0105,165.0507,5907, 505.7, 3.7790,34.0712,2,   -999,9, 57.4,6,104.49,6,40.63,6,0.00,6,2.92,6,2318.3,2,2324.0,2,7.3388,2,25.0
  49UP20150604,RF1505,5459,1,24,  22110,2,20150613,0838,1106,45.0105,165.0507,5907, 606.9, 3.5828,34.1602,2,34.1590,2, 41.4,2,116.20,2,41.77,2,0.00,2,2.99,2,2338.0,2,2338.1,2,7.3238,2,25.0
  49UP20150604,RF1505,5459,1,23,  22096,3,20150613,0838,1103,45.0105,165.0507,5907, 708.7, 3.3333,34.2213,2,   -999,9, 31.2,2,126.41,2,42.78,2,0.00,2,3.06,2,2356.1,6,2349.3,6,7.3096,2,25.0
  49UP20150604,RF1505,5459,1,22,  22111,2,20150613,0838,1100,45.0105,165.0507,5907, 809.0, 3.1902,34.2785,2,34.2771,2, 29.4,2,133.09,2,43.08,2,0.00,2,3.08,2,2360.9,2,2358.8,2,7.3184,6,25.0
  49UP20150604,RF1505,5459,1,21,  22078,2,20150613,0838,1058,45.0105,165.0507,5907, 912.0, 3.0887,34.3423,2,   -999,9, 33.4,2,136.73,2,42.69,2,0.00,2,3.05,2,2364.4,2,2369.2,2,7.3402,2,25.0
  49UP20150604,RF1505,5459,1,20,  22093,2,20150613,0838,1053,45.0105,165.0507,5907,1012.6, 2.9043,34.3790,2,34.3769,6, 32.0,2,143.31,2,42.98,2,0.00,2,3.07,2,2371.7,2,2376.1,2,7.3392,2,25.0
  49UP20150604,RF1505,5459,1,19,  22092,2,20150613,0838,1047,45.0105,165.0507,5907,1217.6, 2.5938,34.4413,2,34.4405,2, 33.8,2,153.28,2,43.11,2,0.00,2,3.07,2,2383.0,2,2388.7,2,7.3516,2,25.0
  49UP20150604,RF1505,5459,1,18,  22101,2,20150613,0838,1042,45.0105,165.0507,5907,1419.8, 2.3713,34.4900,2,34.4886,2, 40.5,2,158.98,2,42.87,2,0.00,2,3.05,2,2386.1,2,2397.7,2,7.3677,2,25.0
  49UP20150604,RF1505,5459,1,17,  22090,2,20150613,0838,1034,45.0105,165.0507,5907,1621.7, 2.1987,34.5300,2,34.5299,2, 48.2,2,163.28,2,42.47,2,0.00,2,3.01,2,2382.6,2,2403.6,2,7.3849,2,25.0
  49UP20150604,RF1505,5459,1,16,  22089,3,20150613,0838,1028,45.0105,165.0507,5907,1824.6, 2.0542,34.5623,2,34.5623,6, 57.7,2,165.95,2,41.86,2,0.00,2,2.97,2,2383.1,2,2410.3,2,7.4007,2,25.0
  49UP20150604,RF1505,5459,1,15,  22088,2,20150613,0838,1023,45.0105,165.0507,5907,2028.5, 1.9268,34.5881,2,34.5880,2, 67.0,6,168.23,6,41.38,6,0.00,6,2.92,6,2378.8,2,2410.9,2,7.4247,2,25.0
  49UP20150604,RF1505,5459,1,14,  21999,2,20150613,0838,1015,45.0105,165.0507,5907,2286.5, 1.7913,34.6163,2,   -999,9, 84.9,2,166.48,2,40.38,2,0.00,2,2.84,2,2366.8,2,2415.6,2,7.4615,2,25.0
  49UP20150604,RF1505,5459,1,13,  22667,2,20150613,0838,1008,45.0105,165.0507,5907,2537.1, 1.6822,34.6373,2,34.6377,2,102.1,2,162.97,2,39.40,2,0.00,2,2.76,2,2358.1,6,2417.9,6,7.4961,2,25.0
  49UP20150604,RF1505,5459,1,12,  22074,2,20150613,0838,0958,45.0105,165.0507,5907,2794.1, 1.6020,34.6506,2,   -999,9,113.2,2,162.25,2,38.60,2,0.00,2,2.70,2,2351.6,2,2417.6,2,7.5170,6,25.0
  49UP20150604,RF1505,5459,1,11,  24268,2,20150613,0838,0951,45.0105,165.0507,5907,3047.9, 1.5442,34.6610,2,34.6618,2,123.6,2,160.45,2,37.91,2,0.00,2,2.65,2,2346.6,2,2418.6,2,7.5336,2,25.0
  49UP20150604,RF1505,5459,1,10,  24267,2,20150613,0838,0945,45.0105,165.0507,5907,3303.0, 1.5262,34.6657,2,   -999,9,128.3,2,160.26,2,37.56,2,0.00,2,2.62,2,2341.5,2,2419.0,2,7.5452,2,25.0
  49UP20150604,RF1505,5459,1, 9,  23518,2,20150613,0838,0939,45.0105,165.0507,5907,3558.0, 1.5187,34.6701,2,34.6706,2,134.4,2,157.61,2,37.14,2,0.00,2,2.59,2,2336.0,2,2415.9,2,7.5533,2,25.0
  49UP20150604,RF1505,5459,1, 8,  22081,2,20150613,0838,0933,45.0105,165.0507,5907,3815.8, 1.5020,34.6753,2,   -999,9,140.8,2,154.89,2,36.76,2,0.00,2,2.56,2,2338.0,2,2418.2,2,7.5646,2,25.0
  49UP20150604,RF1505,5459,1, 7,  23516,2,20150613,0838,0927,45.0105,165.0507,5907,4072.5, 1.4930,34.6791,2,34.6793,2,146.1,2,153.43,2,36.41,2,0.00,2,2.53,2,2331.7,2,2416.8,2,7.5742,2,25.0
  49UP20150604,RF1505,5459,1, 6,  22113,2,20150613,0838,0915,45.0105,165.0507,5907,4586.0, 1.5001,34.6847,2,34.6849,2,152.5,2,151.58,2,36.02,2,0.00,2,2.49,2,2327.0,2,2417.2,2,7.5852,2,25.0
  49UP20150604,RF1505,5459,1, 5,  22094,2,20150613,0838,0904,45.0105,165.0507,5907,5103.1, 1.5351,34.6881,2,34.6884,6,156.2,6,151.68,6,35.78,6,0.00,6,2.48,6,2323.5,2,2415.8,2,7.5909,2,25.0
  49UP20150604,RF1505,5459,1, 4,  22077,2,20150613,0838,0857,45.0105,165.0507,5907,5360.2, 1.5624,34.6889,2,34.6884,6,156.8,2,152.34,2,35.76,2,0.00,2,2.47,2,2322.0,2,2417.2,2,7.5932,2,25.0
  49UP20150604,RF1505,5459,1, 3,  22104,2,20150613,0838,0850,45.0105,165.0507,5907,5617.8, 1.5951,34.6895,2,34.6897,6,156.9,2,152.72,2,35.73,2,0.00,2,2.47,2,2321.4,6,2417.2,6,7.5950,2,25.0
  49UP20150604,RF1505,5459,1, 2,  22075,2,20150613,0838,0844,45.0105,165.0507,5907,5875.2, 1.6295,34.6897,2,34.6890,2,157.1,2,152.73,2,35.68,2,0.00,2,2.47,2,2323.4,2,2416.1,2,7.5916,6,25.0
  49UP20150604,RF1505,5459,1, 1,  21997,2,20150613,0838,0838,45.0105,165.0507,5907,6048.1, 1.6533,34.6898,2,34.6898,6,157.0,2,153.04,2,35.69,2,0.00,2,2.47,2,2321.5,2,2416.9,2,7.5914,2,25.0
  49UP20150604,RF1505,5461,1, 0,    BUC,2,20150614,0202,0405,46.9943,165.0027,5869,   0.0, 4.9648,32.8287,2,32.8225,2,330.8,2, 28.59,2,16.18,2,0.22,2,1.42,2,2075.3,2,2222.7,2,7.7718,2,25.0
  49UP20150604,RF1505,5461,1,36,  22109,2,20150614,0202,0438,46.9943,165.0027,5869,  12.0, 4.9628,32.8293,2,32.8290,2,330.5,2, 29.14,2,16.43,2,0.22,2,1.44,2,2079.0,2,2222.9,2,7.7674,2,25.0
  49UP20150604,RF1505,5461,1,35,  22112,2,20150614,0202,0437,46.9943,165.0027,5869,  26.5, 4.9215,32.8278,2,   -999,9,330.8,2, 29.13,2,16.51,2,0.22,2,1.44,2,2079.4,2,2222.4,2,7.7599,2,25.0
  49UP20150604,RF1505,5461,1,34,  22083,2,20150614,0202,0435,46.9943,165.0027,5869,  54.0, 4.0256,32.8549,2,   -999,9,325.8,2, 33.09,2,19.00,2,0.27,2,1.63,2,2098.3,2,2223.5,2,7.7184,2,25.0
  49UP20150604,RF1505,5461,1,33,  24469,2,20150614,0202,0434,46.9943,165.0027,5869,  78.4, 3.0923,32.9072,2,   -999,9,325.2,2, 33.28,2,19.96,2,0.38,2,1.69,2,-999.0,5,-999.0,5,7.6892,2,25.0
  49UP20150604,RF1505,5461,1,32,  22105,2,20150614,0202,0432,46.9943,165.0027,5869, 103.0, 3.0784,33.0899,2,33.0933,2,291.7,2, 38.13,2,22.95,2,0.01,2,1.82,2,2135.3,2,2234.7,2,-999.0,5,-999
  49UP20150604,RF1505,5461,1,31,  23515,2,20150614,0202,0431,46.9943,165.0027,5869, 127.8, 3.3304,33.3775,2,   -999,9,228.9,2, 51.17,2,27.60,2,0.01,2,2.09,2,2185.6,2,2254.2,2,7.5531,2,25.0
  49UP20150604,RF1505,5461,1,30,  22097,2,20150614,0202,0428,46.9943,165.0027,5869, 153.3, 3.2012,33.4981,2,   -999,9,189.7,2, 61.51,2,31.02,2,0.00,2,2.32,2,2218.6,2,2265.0,2,7.4838,2,25.0
  49UP20150604,RF1505,5461,1,29,  22102,2,20150614,0202,0426,46.9943,165.0027,5869, 204.4, 3.0885,33.5984,2,33.5995,6,152.4,2, 71.74,2,34.39,2,0.01,2,2.54,2,2252.8,2,2274.1,2,7.4197,2,25.0
  49UP20150604,RF1505,5461,1,28,  22108,2,20150614,0202,0423,46.9943,165.0027,5869, 255.3, 3.2218,33.7240,2,   -999,9,117.9,6, 81.20,6,37.18,6,0.00,6,2.71,6,2274.3,2,2285.9,2,7.3720,2,25.0
  49UP20150604,RF1505,5461,1,27,  21998,2,20150614,0202,0421,46.9943,165.0027,5869, 303.5, 3.2632,33.8227,2,   -999,9, 79.7,2, 92.57,2,40.46,2,0.01,2,2.91,2,2307.3,2,2295.8,2,7.3137,2,25.0
  49UP20150604,RF1505,5461,1,26,  22084,2,20150614,0202,0418,46.9943,165.0027,5869, 405.6, 3.4317,33.9855,2,33.9851,2, 45.1,6,106.87,6,42.71,6,0.00,6,3.05,6,2331.2,2,2314.9,2,7.2876,2,25.0
  49UP20150604,RF1505,5461,1,25,  22098,2,20150614,0202,0415,46.9943,165.0027,5869, 507.5, 3.4655,34.1222,2,   -999,9, 33.3,2,117.70,2,43.04,2,0.00,2,3.06,2,2346.2,2,2334.9,2,7.2970,2,25.0
  49UP20150604,RF1505,5461,1,24,  22110,3,20150614,0202,0412,46.9943,165.0027,5869, 608.3, 3.3782,34.2039,2,34.2038,6, 30.7,2,124.94,2,43.02,2,0.00,2,3.06,2,2355.7,2,2346.1,2,7.3073,2,25.0
  49UP20150604,RF1505,5461,1,23,  22096,3,20150614,0202,0409,46.9943,165.0027,5869, 709.2, 3.1951,34.2699,2,   -999,9, 27.7,2,133.23,2,43.41,2,0.00,2,3.09,2,2364.3,2,2355.5,2,7.3069,2,25.0
  49UP20150604,RF1505,5461,1,22,  22111,2,20150614,0202,0406,46.9943,165.0027,5869, 810.4, 3.0133,34.3173,2,34.3171,2, 25.0,2,140.38,2,43.71,2,0.00,2,3.11,2,2372.2,6,2367.3,6,7.3122,2,25.0
  49UP20150604,RF1505,5461,1,21,  22078,2,20150614,0202,0403,46.9943,165.0027,5869, 910.7, 2.9211,34.3585,2,   -999,9, 28.4,2,143.27,2,43.44,2,0.00,2,3.09,2,2373.0,2,2373.2,2,7.3268,6,25.0
  49UP20150604,RF1505,5461,1,20,  22093,2,20150614,0202,0359,46.9943,165.0027,5869,1012.9, 2.7322,34.3899,2,34.3911,2, 19.9,2,152.13,2,44.25,2,0.00,2,3.13,2,2385.3,2,2380.4,2,7.3149,2,25.0
  49UP20150604,RF1505,5461,1,19,  22092,4,20150614,0202,0354,46.9943,165.0027,5869,1217.6, 2.4530,34.4591,2,   -999,9, -999,9,-999.0,9, -999,9,-999,9,-999,9,-999.0,9,-999.0,9,-999.0,9,-999
  49UP20150604,RF1505,5461,1,18,  22101,2,20150614,0202,0349,46.9943,165.0027,5869,1420.1, 2.2656,34.5037,2,34.5045,2, 36.8,2,165.16,2,43.27,2,0.00,2,3.06,2,2389.6,2,2397.3,2,7.3617,2,25.0
  49UP20150604,RF1505,5461,1,17,  22090,2,20150614,0202,0343,46.9943,165.0027,5869,1622.1, 2.1078,34.5429,2,34.5435,2, 47.9,2,168.11,2,42.77,2,0.00,2,3.02,2,2387.1,2,2406.3,2,7.3817,2,25.0
  49UP20150604,RF1505,5461,1,16,  22089,2,20150614,0202,0337,46.9943,165.0027,5869,1825.8, 1.9849,34.5725,2,34.5730,2, 59.4,2,169.05,6,42.05,6,0.00,6,2.96,6,2382.1,2,2409.6,2,7.4088,2,25.0
  49UP20150604,RF1505,5461,1,15,  22088,2,20150614,0202,0332,46.9943,165.0027,5869,2029.8, 1.8669,34.5988,2,34.5986,2, 73.6,2,168.29,2,41.20,2,0.00,2,2.90,2,2372.9,2,2412.2,2,7.4367,2,25.0
  49UP20150604,RF1505,5461,1,14,  21999,2,20150614,0202,0325,46.9943,165.0027,5869,2284.2, 1.7433,34.6222,2,34.6231,2, 87.5,2,168.66,2,40.22,2,0.00,2,2.83,2,2367.6,2,2415.1,2,7.4667,2,25.0
  49UP20150604,RF1505,5461,1,13,  22667,2,20150614,0202,0319,46.9943,165.0027,5869,2537.9, 1.6581,34.6391,2,   -999,9,102.4,2,165.73,2,39.44,2,0.00,2,2.76,2,2361.4,2,2416.5,2,7.4930,2,25.0
  49UP20150604,RF1505,5461,1,12,  22074,2,20150614,0202,0313,46.9943,165.0027,5869,2793.6, 1.5885,34.6524,2,34.6537,2,115.2,2,162.37,2,38.52,2,0.00,2,2.70,2,2352.2,6,2416.9,6,7.5145,2,25.0
  49UP20150604,RF1505,5461,1,11,  24268,2,20150614,0202,0306,46.9943,165.0027,5869,3049.4, 1.5389,34.6619,2,   -999,9,125.8,2,159.57,2,37.92,2,0.00,2,2.64,2,2344.2,2,2420.4,2,7.5378,6,25.0
  49UP20150604,RF1505,5461,1,10,  24267,2,20150614,0202,0300,46.9943,165.0027,5869,3304.6, 1.5019,34.6693,2,34.6699,2,133.8,2,157.18,2,37.45,2,0.00,2,2.60,2,2339.0,2,2417.1,2,7.5528,2,25.0
  49UP20150604,RF1505,5461,1, 9,  23518,2,20150614,0202,0254,46.9943,165.0027,5869,3558.1, 1.4875,34.6738,2,   -999,9,139.4,2,155.79,2,37.03,2,0.00,2,2.57,2,2333.1,2,2417.7,2,7.5643,2,25.0
  49UP20150604,RF1505,5461,1, 8,  22081,2,20150614,0202,0248,46.9943,165.0027,5869,3816.3, 1.4781,34.6779,2,34.6787,2,144.2,2,154.61,2,36.74,2,0.00,2,2.54,2,2332.1,2,2417.4,2,7.5704,2,25.0
  49UP20150604,RF1505,5461,1, 7,  23516,2,20150614,0202,0242,46.9943,165.0027,5869,4073.1, 1.4753,34.6811,2,34.6823,2,148.5,2,153.26,2,36.44,2,0.00,2,2.52,2,2331.3,2,2416.2,2,7.5780,2,25.0
  49UP20150604,RF1505,5461,1, 6,  22113,2,20150614,0202,0232,46.9943,165.0027,5869,4589.5, 1.4976,34.6852,2,34.6863,6,153.4,6,152.08,6,36.10,6,0.00,6,2.49,6,2330.1,2,2416.0,2,7.5859,2,25.0
  49UP20150604,RF1505,5461,1, 5,  22094,2,20150614,0202,0221,46.9943,165.0027,5869,5104.3, 1.5354,34.6882,2,34.6880,2,156.7,2,151.89,2,35.82,2,0.00,2,2.48,2,2322.8,2,2415.1,2,7.5932,2,25.0
  49UP20150604,RF1505,5461,1, 4,  22077,2,20150614,0202,0216,46.9943,165.0027,5869,5359.9, 1.5624,34.6891,2,34.6889,2,157.0,2,153.16,2,35.83,2,0.00,2,2.47,2,2320.7,2,2414.8,2,7.5930,2,25.0
  49UP20150604,RF1505,5461,1, 3,  22104,2,20150614,0202,0210,46.9943,165.0027,5869,5621.1, 1.5961,34.6895,2,34.6896,2,157.2,2,153.31,2,35.84,2,0.00,2,2.47,2,2324.7,2,2415.0,2,7.5951,2,25.0
  49UP20150604,RF1505,5461,1, 2,  22075,2,20150614,0202,0205,46.9943,165.0027,5869,5877.3, 1.6313,34.6895,2,34.6899,6,157.2,2,153.46,2,35.85,2,0.00,2,2.47,2,2324.9,6,2415.9,6,7.5958,2,25.0
  49UP20150604,RF1505,5461,1, 1,  21997,2,20150614,0202,0202,46.9943,165.0027,5869,6007.6, 1.6496,34.6896,2,34.6894,6,157.2,2,153.51,2,35.81,2,0.00,2,2.47,2,2326.6,2,2415.5,2,7.5929,6,25.0
  49UP20150604,RF1505,5463,1, 0,    BUC,2,20150615,0620,0630,48.9973,165.0198,5554,   0.0, 5.1265,32.8432,2,   -999,9, -999,9,-999.0,9, -999,9,-999,9,-999,9,-999.0,9,-999.0,9,-999.0,9,-999
  49UP20150604,RF1505,5463,1,35,  22112,2,20150615,0620,0640,48.9973,165.0198,5554,  52.0, 3.6861,32.8543,2,   -999,9, -999,9, 35.11,2,20.37,2,0.31,2,1.72,2,-999.0,9,-999.0,9,-999.0,9,-999
  49UP20150604,RF1505,5463,1,29,  22102,2,20150615,0620,0638,48.9973,165.0198,5554, 102.7, 2.4414,32.9561,2,   -999,9, -999,9, 39.69,2,23.48,2,0.34,2,1.88,2,-999.0,9,-999.0,9,-999.0,9,-999
  49UP20150604,RF1505,5463,1,26,  22084,2,20150615,0620,0637,48.9973,165.0198,5554, 155.3, 3.0446,33.5755,2,   -999,9, -999,9, 76.41,2,38.08,2,0.00,2,2.75,2,-999.0,9,-999.0,9,-999.0,9,-999
  49UP20150604,RF1505,5463,1,21,  22078,2,20150615,0620,0635,48.9973,165.0198,5554, 202.3, 3.2771,33.7470,2,   -999,9, -999,9, 89.92,2,42.15,2,0.00,2,3.00,2,-999.0,9,-999.0,9,-999.0,9,-999
  49UP20150604,RF1505,5463,1,17,  22090,2,20150615,0620,0632,48.9973,165.0198,5554, 304.2, 3.5631,33.9778,2,   -999,9, -999,9,106.68,2,44.98,2,0.00,2,3.18,2,-999.0,9,-999.0,9,-999.0,9,-999
  49UP20150604,RF1505,5463,1,11,  24268,2,20150615,0620,0629,48.9973,165.0198,5554, 406.7, 3.4771,34.1009,2,   -999,9, -999,9,117.87,2,44.49,2,0.00,2,3.15,2,-999.0,9,-999.0,9,-999.0,9,-999
  49UP20150604,RF1505,5463,1, 7,  23516,2,20150615,0620,0624,48.9973,165.0198,5554, 608.8, 3.2495,34.2450,2,   -999,9, -999,9,132.81,2,44.58,2,0.00,2,3.15,2,-999.0,9,-999.0,9,-999.0,9,-999
  49UP20150604,RF1505,5463,1, 3,  22104,2,20150615,0620,0620,48.9973,165.0198,5554, 809.7, 2.9290,34.3382,2,   -999,9, -999,9,145.70,2,44.47,2,0.00,2,3.15,2,-999.0,9,-999.0,9,-999.0,9,-999