BOTTLE,20240105CCHSIOVAJ
EXPOCODE,SECT_ID,STNNBR,CASTNO,SAMPNO,BTLNBR,BTLNBR_FLAG_W,DATE,TIME,BTL_TIME,LATITUDE,LONGITUDE,DEPTH,CTDPRS,CTDTMP,CTDSAL,CTDSAL_FLAG_W,SALNTY,SALNTY_FLAG_W,OXYGEN,OXYGEN_FLAG_W,SILCAT,SILCAT_FLAG_W,NITRAT,NITRAT_FLAG_W,NITRIT,NITRIT_FLAG_W,PHSPHT,PHSPHT_FLAG_W,TCARBN,TCARBN_FLAG_W,ALKALI,ALKALI_FLAG_W,PH_TOT,PH_TOT_FLAG_W,PH_TMP
,,,,,,,,,,,,METERS,DBAR,ITS-90,PSS-78,,PSS-78,,UMOL/KG,,UMOL/KG,,UMOL/KG,,UMOL/KG,,UMOL/KG,,UMOL/KG,,UMOL/KG,,,,DEG C
  49UP20150604,RF1505,5471,1, 0,    BUC,2,20150619,0530,0745,39.6895,147.8297,5318,   0.0,17.0033,34.2312,2,34.1893,2,256.0,2,  3.26,2, 0.00,2,0.00,2,0.12,2,2006.9,2,2265.9,2,8.0063,2,25.0
  49UP20150604,RF1505,5471,1,36,  22109,2,20150619,0530,0816,39.6895,147.8297,5318,  10.4,17.0115,34.2309,2,34.2313,2,254.7,2,  2.94,2, 0.00,2,0.00,2,0.11,2,2012.9,2,2267.7,2,8.0095,2,25.0
  49UP20150604,RF1505,5471,1,35,  22112,2,20150619,0530,0815,39.6895,147.8297,5318,  25.8,14.9021,34.1968,2,   -999,9,274.7,2,  3.64,2, 0.37,2,0.04,2,0.16,2,2008.6,2,2267.6,2,8.0022,2,25.0
  49UP20150604,RF1505,5471,1,34,  22083,2,20150619,0530,0811,39.6895,147.8297,5318,  50.4,13.7088,34.1460,2,   -999,9,263.5,2,  4.54,2, 2.20,2,0.15,2,0.33,2,2030.8,2,2266.4,2,7.9581,2,25.0
  49UP20150604,RF1505,5471,1,33,  24469,2,20150619,0530,0809,39.6895,147.8297,5318,  76.8,12.1368,34.3019,2,   -999,9,250.0,2, 12.05,2, 8.42,2,0.36,2,0.69,2,2073.8,2,2269.4,2,7.8786,2,25.0
  49UP20150604,RF1505,5471,1,32,  22105,2,20150619,0530,0808,39.6895,147.8297,5318, 101.0,11.0594,34.2337,2,34.2320,2,249.6,6, 15.19,6,10.67,6,0.02,6,0.79,6,2090.2,2,2268.8,2,7.8488,2,25.0
  49UP20150604,RF1505,5471,1,31,  23515,2,20150619,0530,0807,39.6895,147.8297,5318, 125.7,10.4239,34.2013,2,   -999,9,251.4,2, 16.55,2,11.44,2,0.04,2,0.85,2,2087.3,2,2268.2,2,7.8353,2,25.0
  49UP20150604,RF1505,5471,1,30,  22097,2,20150619,0530,0804,39.6895,147.8297,5318, 152.1,10.2065,34.2050,2,   -999,9,256.5,2, 16.32,2,11.28,2,0.02,2,0.83,2,2086.8,2,2268.0,2,7.8405,2,25.0
  49UP20150604,RF1505,5471,1,29,  22102,2,20150619,0530,0802,39.6895,147.8297,5318, 202.9, 8.8687,34.0130,2,34.0173,2,262.4,2, 19.59,2,13.05,2,0.02,2,0.98,2,2097.1,2,2262.9,2,7.8076,2,25.0
  49UP20150604,RF1505,5471,1,28,  22108,2,20150619,0530,0759,39.6895,147.8297,5318, 252.6, 7.6822,33.8603,2,   -999,9,264.0,2, 24.07,2,15.28,2,0.02,2,1.17,2,2113.1,2,2259.7,2,7.7678,2,25.0
  49UP20150604,RF1505,5471,1,27,  21998,2,20150619,0530,0757,39.6895,147.8297,5318, 304.1, 6.4343,33.7834,2,   -999,9,224.7,2, 36.60,2,21.00,2,0.02,2,1.57,2,2153.2,2,2263.9,2,7.6744,2,25.0
  49UP20150604,RF1505,5471,1,26,  22084,2,20150619,0530,0754,39.6895,147.8297,5318, 404.4, 4.2548,33.7462,2,33.7367,4,164.9,2, 62.90,2,30.60,2,0.01,2,2.27,2,2226.0,2,2277.6,2,7.5086,2,25.0
  49UP20150604,RF1505,5471,1,25,  22098,2,20150619,0530,0751,39.6895,147.8297,5318, 505.8, 4.3463,33.9631,2,   -999,9,102.7,2, 82.65,2,36.08,2,0.00,2,2.62,2,2276.1,6,2301.5,6,7.4238,2,25.0
  49UP20150604,RF1505,5471,1,24,  22110,2,20150619,0530,0748,39.6895,147.8297,5318, 606.4, 4.2868,34.1099,2,34.1051,2, 69.6,2, 97.54,2,38.80,2,0.00,2,2.80,2,2305.8,2,2320.9,2,7.3874,6,25.0
  49UP20150604,RF1505,5471,1,23,  22096,2,20150619,0530,0745,39.6895,147.8297,5318, 707.7, 3.8177,34.1758,2,   -999,9, 49.5,2,112.00,2,40.97,2,0.00,2,2.94,2,2335.4,2,2336.6,2,7.3500,2,25.0
  49UP20150604,RF1505,5471,1,22,  22111,2,20150619,0530,0741,39.6895,147.8297,5318, 808.5, 3.6491,34.2736,2,34.2719,6, 43.0,6,121.11,6,41.61,6,0.00,6,2.99,6,2344.5,2,2351.2,2,7.3575,2,25.0
  49UP20150604,RF1505,5471,1,21,  22078,2,20150619,0530,0729,39.6895,147.8297,5318, 910.1, 3.3169,34.3180,2,   -999,9, 38.1,2,130.83,2,42.35,2,0.00,2,3.03,2,2357.5,2,2361.9,2,7.3513,2,25.0
  49UP20150604,RF1505,5471,1,20,  22093,2,20150619,0530,0724,39.6895,147.8297,5318,1016.4, 3.0953,34.3634,2,34.3620,2, 36.1,2,137.75,2,42.75,2,0.00,2,3.06,2,2367.3,2,2368.2,2,7.3537,2,25.0
  49UP20150604,RF1505,5471,1,19,  22092,2,20150619,0530,0718,39.6895,147.8297,5318,1216.9, 2.6486,34.4185,2,34.4159,2, 34.5,2,151.54,2,43.13,2,0.00,2,3.08,2,2378.2,2,2382.1,2,7.3474,2,25.0
  49UP20150604,RF1505,5471,1,18,  22101,2,20150619,0530,0707,39.6895,147.8297,5318,1417.6, 2.5049,34.4862,2,34.4852,6, 41.3,2,154.46,2,42.96,2,0.00,2,3.06,2,2380.5,2,2394.0,2,7.3724,2,25.0
  49UP20150604,RF1505,5471,1,17,  22090,2,20150619,0530,0658,39.6895,147.8297,5318,1623.2, 2.2876,34.5281,2,34.5272,2, 49.2,2,159.68,2,42.61,2,0.00,2,3.02,2,2382.5,2,2400.2,2,7.3908,2,25.0
  49UP20150604,RF1505,5471,1,16,  22089,2,20150619,0530,0653,39.6895,147.8297,5318,1825.7, 2.1044,34.5563,2,34.5553,6, 59.6,2,163.43,2,41.98,2,0.00,2,2.98,2,2380.4,2,2404.0,2,7.4121,2,25.0
  49UP20150604,RF1505,5471,1,15,  22088,2,20150619,0530,0646,39.6895,147.8297,5318,2029.8, 1.9843,34.5866,2,34.5856,2, 71.6,2,163.30,2,41.25,2,0.00,2,2.91,2,2378.4,6,2409.6,6,7.4384,2,25.0
  49UP20150604,RF1505,5471,1,14,  21999,2,20150619,0530,0641,39.6895,147.8297,5318,2280.8, 1.8345,34.6140,2,34.6130,2, 88.0,2,162.76,2,40.32,2,0.00,2,2.84,2,2369.5,2,2411.3,2,7.4723,6,25.0
  49UP20150604,RF1505,5471,1,13,  22667,2,20150619,0530,0633,39.6895,147.8297,5318,2538.7, 1.7161,34.6345,2,34.6345,2,102.6,2,161.38,2,39.40,2,0.00,2,2.77,2,2360.4,2,2416.0,2,7.4964,2,25.0
  49UP20150604,RF1505,5471,1,12,  22074,2,20150619,0530,0627,39.6895,147.8297,5318,2792.8, 1.6365,34.6480,2,34.6475,2,113.6,6,160.10,6,38.76,6,0.00,6,2.71,6,2352.3,2,2415.5,2,7.5191,2,25.0
  49UP20150604,RF1505,5471,1,11,  24268,2,20150619,0530,0620,39.6895,147.8297,5318,3047.1, 1.5761,34.6585,2,34.6583,2,123.5,2,158.29,2,38.12,2,0.00,2,2.66,2,2352.3,2,2418.9,2,7.5351,2,25.0
  49UP20150604,RF1505,5471,1,10,  24267,2,20150619,0530,0614,39.6895,147.8297,5318,3303.3, 1.5276,34.6670,2,34.6660,4,132.2,2,156.34,2,37.60,2,0.00,2,2.62,2,2350.8,2,2418.1,2,7.5517,2,25.0
  49UP20150604,RF1505,5471,1, 9,  23518,2,20150619,0530,0609,39.6895,147.8297,5318,3557.7, 1.4957,34.6734,2,34.6733,2,139.4,2,154.59,2,37.10,2,0.00,2,2.58,2,2337.1,2,2418.0,2,7.5651,2,25.0
  49UP20150604,RF1505,5471,1, 8,  22081,2,20150619,0530,0603,39.6895,147.8297,5318,3814.0, 1.4799,34.6778,2,34.6777,2,144.4,2,153.12,2,36.69,2,0.00,2,2.55,2,2333.3,2,2414.7,2,7.5877,4,25.0
  49UP20150604,RF1505,5471,1, 7,  23516,2,20150619,0530,0557,39.6895,147.8297,5318,4071.3, 1.4672,34.6820,2,34.6814,2,150.0,2,151.91,2,36.37,2,0.00,2,2.52,2,2332.8,2,2416.9,2,7.5798,2,25.0
  49UP20150604,RF1505,5471,1, 6,  22113,2,20150619,0530,0552,39.6895,147.8297,5318,4328.0, 1.4675,34.6850,2,34.6846,2,154.0,2,150.66,2,36.11,2,0.00,2,2.50,2,2323.7,2,2416.0,2,7.5901,2,25.0
  49UP20150604,RF1505,5471,1, 5,  22094,2,20150619,0530,0547,39.6895,147.8297,5318,4585.3, 1.4790,34.6871,2,34.6862,2,156.1,2,150.52,2,35.94,2,0.00,2,2.48,2,2324.7,2,2415.1,2,7.5910,2,25.0
  49UP20150604,RF1505,5471,1, 4,  22077,2,20150619,0530,0542,39.6895,147.8297,5318,4843.3, 1.5001,34.6882,2,34.6874,2,157.3,2,150.30,2,35.83,2,0.00,2,2.48,2,2325.8,2,2416.0,2,7.5948,6,25.0
  49UP20150604,RF1505,5471,1, 3,  22104,2,20150619,0530,0537,39.6895,147.8297,5318,5100.1, 1.5230,34.6892,2,34.6886,2,158.7,2,149.87,2,35.76,2,0.00,2,2.47,2,2324.8,2,2415.7,2,7.5990,2,25.0
  49UP20150604,RF1505,5471,1, 2,  22075,2,20150619,0530,0531,39.6895,147.8297,5318,5356.7, 1.5481,34.6904,2,34.6894,2,159.6,2,149.79,2,35.65,2,0.00,2,2.46,2,2321.8,2,2416.0,2,7.5940,2,25.0
  49UP20150604,RF1505,5471,1, 1,  21997,2,20150619,0530,0530,39.6895,147.8297,5318,5410.6, 1.5554,34.6902,2,34.6894,6,159.4,6,149.65,6,35.63,6,0.00,6,2.47,6,2322.4,2,2414.3,2,7.5966,2,25.0