BOTTLE,20240105CCHSIOVAJ
EXPOCODE,SECT_ID,STNNBR,CASTNO,SAMPNO,BTLNBR,BTLNBR_FLAG_W,DATE,TIME,BTL_TIME,LATITUDE,LONGITUDE,DEPTH,CTDPRS,CTDTMP,CTDSAL,CTDSAL_FLAG_W,SALNTY,SALNTY_FLAG_W,OXYGEN,OXYGEN_FLAG_W,SILCAT,SILCAT_FLAG_W,NITRAT,NITRAT_FLAG_W,NITRIT,NITRIT_FLAG_W,PHSPHT,PHSPHT_FLAG_W,TCARBN,TCARBN_FLAG_W,ALKALI,ALKALI_FLAG_W,PH_TOT,PH_TOT_FLAG_W,PH_TMP
,,,,,,,,,,,,METERS,DBAR,ITS-90,PSS-78,,PSS-78,,UMOL/KG,,UMOL/KG,,UMOL/KG,,UMOL/KG,,UMOL/KG,,UMOL/KG,,UMOL/KG,,,,DEG C
  49UP20150604,RF1505,5454,1, 0,    BUC,2,20150611,0433,0641,39.0288,169.9748,5806,   0.0,12.7263,34.0669,2,34.0649,2,275.7,2,  6.52,2, 5.15,2,0.11,2,0.46,3,2048.2,2,2258.9,2,7.9075,2,25.0
  49UP20150604,RF1505,5454,1,36,  22109,2,20150611,0433,0710,39.0288,169.9748,5806,  11.2,12.7199,34.0695,2,34.0691,6,275.9,2,  6.54,2, 5.15,2,0.11,2,0.45,2,2049.1,2,2257.1,2,7.9095,2,25.0
  49UP20150604,RF1505,5454,1,35,  22112,2,20150611,0433,0709,39.0288,169.9748,5806,  27.4,12.4520,34.0670,2,   -999,9,275.8,2,  6.88,2, 5.41,2,0.11,2,0.47,2,2051.2,2,2259.3,2,7.9020,2,25.0
  49UP20150604,RF1505,5454,1,34,  22083,2,20150611,0433,0708,39.0288,169.9748,5806,  52.6,11.3543,34.1007,2,   -999,9,275.9,2,  9.12,2, 6.40,2,0.14,2,0.57,2,2056.9,2,2259.3,2,7.8836,2,25.0
  49UP20150604,RF1505,5454,1,33,  24469,2,20150611,0433,0706,39.0288,169.9748,5806,  77.1,11.0529,34.1155,2,   -999,9,272.0,2, 11.08,2, 7.19,2,0.18,2,0.62,2,2067.1,2,2261.0,2,7.8760,2,25.0
  49UP20150604,RF1505,5454,1,32,  22105,2,20150611,0433,0704,39.0288,169.9748,5806, 102.0,10.6510,34.1183,2,34.1162,2,267.5,2, 12.22,2, 8.69,2,0.13,2,0.68,2,2071.4,2,2260.1,2,7.8595,2,25.0
  49UP20150604,RF1505,5454,1,31,  23515,2,20150611,0433,0703,39.0288,169.9748,5806, 128.1,10.3633,34.1306,2,   -999,9,267.4,6, 12.61,6, 9.37,6,0.02,6,0.71,6,2072.7,2,2259.9,2,7.8538,2,25.0
  49UP20150604,RF1505,5454,1,30,  22097,2,20150611,0433,0659,39.0288,169.9748,5806, 154.9,10.3543,34.1364,2,   -999,9,267.1,2, 12.70,2, 9.44,2,0.01,2,0.71,2,2073.9,2,2280.8,2,7.8523,2,25.0
  49UP20150604,RF1505,5454,1,29,  22102,2,20150611,0433,0657,39.0288,169.9748,5806, 206.9,10.2984,34.1341,2,34.1346,2,265.0,2, 13.21,2, 9.76,2,0.01,2,0.73,2,2076.6,2,2290.0,2,7.8509,2,25.0
  49UP20150604,RF1505,5454,1,28,  22108,2,20150611,0433,0655,39.0288,169.9748,5806, 254.7, 9.3274,34.0567,2,   -999,9,228.4,2, 22.23,2,15.25,2,0.01,2,1.11,2,2113.3,2,2266.1,2,7.7659,2,25.0
  49UP20150604,RF1505,5454,1,27,  21998,2,20150611,0433,0653,39.0288,169.9748,5806, 306.6, 7.8709,33.9739,2,   -999,9,212.6,2, 31.57,2,19.69,2,0.01,2,1.42,2,2145.3,2,2268.1,2,7.7031,2,25.0
  49UP20150604,RF1505,5454,1,26,  22084,2,20150611,0433,0649,39.0288,169.9748,5806, 406.3, 6.3061,33.9311,2,33.9306,2,171.4,2, 49.21,2,26.35,2,0.01,2,1.91,2,2194.4,2,2278.5,2,7.5917,2,25.0
  49UP20150604,RF1505,5454,1,25,  22098,2,20150611,0433,0646,39.0288,169.9748,5806, 509.8, 4.9425,33.9458,2,   -999,9,124.0,2, 70.89,2,33.15,2,0.00,2,2.40,2,2248.5,2,2293.3,2,7.4729,2,25.0
  49UP20150604,RF1505,5454,1,24,  22110,2,20150611,0433,0643,39.0288,169.9748,5806, 611.3, 4.4149,34.0396,2,34.0376,6, 84.0,2, 88.91,2,37.40,2,0.00,2,2.70,2,2292.1,6,2311.3,6,7.4046,2,25.0
  49UP20150604,RF1505,5454,1,23,  22096,2,20150611,0433,0640,39.0288,169.9748,5806, 711.0, 4.1828,34.1529,2,   -999,9, 59.4,2,102.43,2,39.70,2,0.00,2,2.85,2,2315.9,2,2329.2,2,7.3749,6,25.0
  49UP20150604,RF1505,5454,1,22,  22111,2,20150611,0433,0637,39.0288,169.9748,5806, 812.7, 3.7922,34.2398,2,34.2364,4, 44.8,2,115.68,2,41.19,2,0.00,2,2.95,2,2336.6,2,2345.9,2,7.3546,2,25.0
  49UP20150604,RF1505,5454,1,21,  22078,2,20150611,0433,0631,39.0288,169.9748,5806, 911.6, 3.4704,34.2845,2,   -999,9, 36.4,2,126.03,2,42.16,2,0.00,2,3.01,2,2350.3,2,2356.4,2,7.3458,2,25.0
  49UP20150604,RF1505,5454,1,20,  22093,2,20150611,0433,0628,39.0288,169.9748,5806,1015.0, 3.1948,34.3464,2,34.3440,2, 34.3,6,134.23,6,42.58,6,0.00,6,3.04,6,2364.5,2,2366.2,2,7.3441,2,25.0
  49UP20150604,RF1505,5454,1,19,  22092,2,20150611,0433,0623,39.0288,169.9748,5806,1216.7, 2.7608,34.4242,2,34.4231,2, 32.8,2,148.11,2,43.08,2,0.00,2,3.07,2,2378.7,2,2383.3,2,7.3501,2,25.0
  49UP20150604,RF1505,5454,1,18,  22101,2,20150611,0433,0617,39.0288,169.9748,5806,1419.7, 2.5243,34.4683,2,34.4669,2, 35.7,2,155.14,2,42.99,2,0.00,2,3.07,2,2382.8,2,2392.5,2,7.3526,2,25.0
  49UP20150604,RF1505,5454,1,17,  22090,2,20150611,0433,0611,39.0288,169.9748,5806,1620.4, 2.2863,34.5154,2,34.5151,2, 42.8,2,161.77,2,42.83,2,0.00,2,3.04,2,2386.7,2,2401.6,2,7.3761,2,25.0
  49UP20150604,RF1505,5454,1,16,  22089,2,20150611,0433,0606,39.0288,169.9748,5806,1826.3, 2.1028,34.5534,2,34.5527,2, 55.2,2,164.57,2,42.18,2,0.00,2,2.99,2,2381.9,2,2406.2,2,7.4006,2,25.0
  49UP20150604,RF1505,5454,1,15,  22088,2,20150611,0433,0558,39.0288,169.9748,5806,2028.5, 1.9651,34.5815,2,34.5811,2, 66.1,2,166.29,2,41.48,2,0.00,2,2.93,2,2380.4,2,2410.1,2,7.4234,2,25.0
  49UP20150604,RF1505,5454,1,14,  21999,2,20150611,0433,0552,39.0288,169.9748,5806,2281.9, 1.8084,34.6112,2,34.6118,2, 83.6,2,166.06,2,40.37,2,0.00,2,2.85,2,2375.0,6,2415.0,6,7.4601,2,25.0
  49UP20150604,RF1505,5454,1,13,  22667,2,20150611,0433,0546,39.0288,169.9748,5806,2537.7, 1.7047,34.6314,2,   -999,9, 94.8,2,166.46,2,39.77,2,0.00,2,2.79,2,2369.4,2,2417.5,2,7.4813,6,25.0
  49UP20150604,RF1505,5454,1,12,  22074,2,20150611,0433,0540,39.0288,169.9748,5806,2791.8, 1.6056,34.6486,2,34.6491,2,111.5,2,163.49,2,38.72,2,0.00,2,2.72,2,2358.9,2,2418.4,2,7.5110,2,25.0
  49UP20150604,RF1505,5454,1,11,  24268,2,20150611,0433,0534,39.0288,169.9748,5806,3046.5, 1.5467,34.6595,2,   -999,9,122.7,2,160.50,2,37.93,2,0.00,2,2.66,2,2348.3,2,2417.5,2,7.5333,2,25.0
  49UP20150604,RF1505,5454,1,10,  24267,2,20150611,0433,0528,39.0288,169.9748,5806,3303.4, 1.5064,34.6677,2,34.6681,2,132.0,6,158.32,6,37.38,6,0.00,6,2.61,6,2339.5,2,2418.0,2,7.5476,2,25.0
  49UP20150604,RF1505,5454,1, 9,  23518,2,20150611,0433,0522,39.0288,169.9748,5806,3559.0, 1.4790,34.6740,2,   -999,9,139.2,2,156.18,2,36.93,2,0.00,2,2.57,2,2336.2,2,2419.0,2,7.5630,2,25.0
  49UP20150604,RF1505,5454,1, 8,  22081,2,20150611,0433,0517,39.0288,169.9748,5806,3815.7, 1.4688,34.6783,2,34.6789,6,144.4,2,154.84,2,36.53,2,0.00,2,2.54,2,2330.1,2,2419.0,2,7.5704,2,25.0
  49UP20150604,RF1505,5454,1, 7,  23516,2,20150611,0433,0512,39.0288,169.9748,5806,4069.4, 1.4714,34.6813,2,34.6814,6,147.8,2,154.12,2,36.37,2,0.00,2,2.52,2,2328.5,2,2418.3,2,7.5788,2,25.0
  49UP20150604,RF1505,5454,1, 6,  22113,2,20150611,0433,0502,39.0288,169.9748,5806,4583.7, 1.4946,34.6855,2,34.6852,6,152.8,2,153.09,2,36.03,2,0.00,2,2.49,2,2330.1,2,2417.9,2,7.5883,2,25.0
  49UP20150604,RF1505,5454,1, 5,  22094,2,20150611,0433,0452,39.0288,169.9748,5806,5099.3, 1.5378,34.6879,2,34.6879,2,155.2,2,152.63,2,35.84,2,0.00,2,2.48,2,2321.7,2,2417.7,2,7.5924,2,25.0
  49UP20150604,RF1505,5454,1, 4,  22077,2,20150611,0433,0446,39.0288,169.9748,5806,5355.0, 1.5675,34.6886,2,34.6878,2,155.9,6,152.78,6,35.81,6,0.00,6,2.48,6,2322.3,2,2418.4,2,7.5915,2,25.0
  49UP20150604,RF1505,5454,1, 3,  22104,2,20150611,0433,0441,39.0288,169.9748,5806,5614.6, 1.6013,34.6888,2,34.6899,2,155.7,2,152.83,2,35.75,2,0.00,2,2.48,2,2323.6,6,2417.0,6,7.5935,2,25.0
  49UP20150604,RF1505,5454,1, 2,  22075,2,20150611,0433,0435,39.0288,169.9748,5806,5870.9, 1.6354,34.6890,2,34.6881,6,155.8,2,152.81,2,35.72,2,0.00,2,2.47,2,2323.5,2,2417.0,2,7.5954,6,25.0
  49UP20150604,RF1505,5454,1, 1,  21997,2,20150611,0433,0433,39.0288,169.9748,5806,5955.0, 1.6459,34.6892,2,34.6896,2,156.2,2,152.88,2,35.75,2,0.00,2,2.47,2,2323.9,2,2417.1,2,7.5933,2,25.0
  49UP20150604,RF1505,5457,1, 0,    BUC,2,20150612,1751,1835,43.0087,165.0218,5398,   0.0, 8.0431,33.0548,2,   -999,9,297.8,2, 19.59,2,10.88,2,0.15,2,1.05,2,-999.0,9,-999.0,9,-999.0,9,-999
  49UP20150604,RF1505,5457,1,33,  24469,2,20150612,1751,1904,43.0087,165.0218,5398,  11.7, 8.0375,33.0550,2,   -999,9,298.6,2, 19.69,2,10.95,2,0.15,2,1.05,2,-999.0,9,-999.0,9,-999.0,9,-999
  49UP20150604,RF1505,5457,1,32,  22105,2,20150612,1751,1903,43.0087,165.0218,5398,  27.2, 7.9122,33.0692,2,   -999,9,299.4,2, 19.69,2,10.95,2,0.16,2,1.05,2,-999.0,9,-999.0,9,-999.0,9,-999
  49UP20150604,RF1505,5457,1,31,  23515,2,20150612,1751,1901,43.0087,165.0218,5398,  51.5, 7.2147,33.0513,2,   -999,9,303.7,2, 20.61,2,11.64,2,0.16,2,1.12,2,-999.0,9,-999.0,9,-999.0,9,-999
  49UP20150604,RF1505,5457,1,30,  22097,2,20150612,1751,1858,43.0087,165.0218,5398,  77.7, 5.4555,33.1052,2,   -999,9,308.6,2, 21.91,2,13.84,2,0.28,2,1.23,2,-999.0,9,-999.0,9,-999.0,9,-999
  49UP20150604,RF1505,5457,1,29,  22102,2,20150612,1751,1857,43.0087,165.0218,5398, 102.6, 5.6662,33.2900,2,   -999,9,298.9,2, 21.52,2,14.64,2,0.01,2,1.21,2,-999.0,9,-999.0,9,-999.0,9,-999
  49UP20150604,RF1505,5457,1,28,  22108,2,20150612,1751,1855,43.0087,165.0218,5398, 130.9, 5.3043,33.3961,2,   -999,9,288.1,2, 26.04,2,16.94,2,0.01,2,1.35,2,-999.0,9,-999.0,9,-999.0,9,-999
  49UP20150604,RF1505,5457,1,24,  22110,2,20150612,1751,1853,43.0087,165.0218,5398, 154.2, 5.1599,33.4853,2,   -999,9,261.0,2, 33.08,2,20.14,2,0.01,2,1.55,2,-999.0,9,-999.0,9,-999.0,9,-999
  49UP20150604,RF1505,5457,1,23,  22096,2,20150612,1751,1850,43.0087,165.0218,5398, 204.6, 4.5385,33.6503,2,   -999,9,203.0,2, 49.59,2,26.72,2,0.00,2,1.98,2,-999.0,9,-999.0,9,-999.0,9,-999
  49UP20150604,RF1505,5457,1,22,  22111,2,20150612,1751,1847,43.0087,165.0218,5398, 254.2, 4.1002,33.7114,2,   -999,9,166.3,2, 62.15,2,31.02,2,0.01,2,2.27,2,-999.0,9,-999.0,9,-999.0,9,-999
  49UP20150604,RF1505,5457,1,21,  22078,2,20150612,1751,1845,43.0087,165.0218,5398, 304.3, 4.0271,33.8023,2,   -999,9,133.7,6, 72.51,6,34.03,6,0.00,6,2.49,6,-999.0,9,-999.0,9,-999.0,9,-999
  49UP20150604,RF1505,5457,1,20,  22093,2,20150612,1751,1842,43.0087,165.0218,5398, 404.9, 4.1182,33.9843,2,   -999,9, 83.2,2, 90.02,2,38.26,2,0.01,2,2.75,2,-999.0,9,-999.0,9,-999.0,9,-999
  49UP20150604,RF1505,5457,1,19,  22092,2,20150612,1751,1842,43.0087,165.0218,5398, 406.5, 4.1175,33.9854,2,   -999,9, 83.1,2, 90.11,2,38.20,2,0.00,2,2.75,2,-999.0,9,-999.0,9,-999.0,9,-999
  49UP20150604,RF1505,5457,1,15,  22088,2,20150612,1751,1838,43.0087,165.0218,5398, 506.7, 3.9230,34.1018,2,   -999,9, 55.2,2,104.69,2,40.54,2,0.00,2,2.90,2,-999.0,9,-999.0,9,-999.0,9,-999
  49UP20150604,RF1505,5457,1,14,  21999,2,20150612,1751,1834,43.0087,165.0218,5398, 608.3, 3.6868,34.1907,2,   -999,9, 41.2,2,116.40,2,41.67,2,0.00,2,2.99,2,-999.0,9,-999.0,9,-999.0,9,-999
  49UP20150604,RF1505,5457,1,13,  22667,2,20150612,1751,1831,43.0087,165.0218,5398, 708.5, 3.4799,34.2554,2,   -999,9, 36.8,2,124.65,2,42.19,2,0.00,2,3.02,2,-999.0,9,-999.0,9,-999.0,9,-999
  49UP20150604,RF1505,5457,1,12,  22074,2,20150612,1751,1828,43.0087,165.0218,5398, 810.7, 3.2517,34.3050,2,   -999,9, 33.4,2,132.41,2,42.56,2,0.00,2,3.06,2,-999.0,9,-999.0,9,-999.0,9,-999
  49UP20150604,RF1505,5457,1,11,  24268,2,20150612,1751,1824,43.0087,165.0218,5398, 913.7, 3.0181,34.3539,2,   -999,9, 32.2,2,140.03,2,42.84,2,0.00,2,3.08,2,-999.0,9,-999.0,9,-999.0,9,-999
  49UP20150604,RF1505,5457,1,10,  24267,3,20150612,1751,1820,43.0087,165.0218,5398,1013.9, 2.8571,34.3871,2,   -999,9, 32.8,2,145.06,2,43.00,2,0.00,2,3.08,2,-999.0,9,-999.0,9,-999.0,9,-999
  49UP20150604,RF1505,5457,1, 5,  22094,2,20150612,1751,1814,43.0087,165.0218,5398,1216.0, 2.5787,34.4568,2,   -999,9, 36.7,2,153.22,2,43.00,2,0.00,2,3.07,2,-999.0,9,-999.0,9,-999.0,9,-999
  49UP20150604,RF1505,5457,1, 6,  22113,2,20150612,1751,1815,43.0087,165.0218,5398,1217.6, 2.5784,34.4568,2,   -999,9, 36.1,2,153.25,2,43.06,2,0.00,2,3.07,2,-999.0,9,-999.0,9,-999.0,9,-999
  49UP20150604,RF1505,5457,1, 4,  22077,3,20150612,1751,1809,43.0087,165.0218,5398,1418.8, 2.3564,34.4967,2,   -999,9, 42.4,6,159.43,6,42.76,6,0.00,6,3.05,6,-999.0,9,-999.0,9,-999.0,9,-999
  49UP20150604,RF1505,5457,1, 3,  22104,2,20150612,1751,1801,43.0087,165.0218,5398,1623.7, 2.1915,34.5389,2,   -999,9, 51.1,2,162.96,2,42.32,2,0.00,2,3.01,2,-999.0,9,-999.0,9,-999.0,9,-999
  49UP20150604,RF1505,5457,1, 2,  22075,2,20150612,1751,1756,43.0087,165.0218,5398,1825.6, 2.0505,34.5687,2,   -999,9, 61.6,2,164.59,2,41.85,2,0.00,2,2.95,2,-999.0,9,-999.0,9,-999.0,9,-999
  49UP20150604,RF1505,5457,1, 1,  21997,2,20150612,1751,1751,43.0087,165.0218,5398,2026.8, 1.9284,34.5923,2,   -999,9, 72.0,2,165.43,2,41.16,2,0.00,2,2.91,2,-999.0,9,-999.0,9,-999.0,9,-999
  49UP20150604,RF1505,5458,1, 0,    BUC,2,20150613,0107,0108,44.0002,165.0088,5708,   0.0, 6.8132,33.0693,2,   -999,9, -999,9,-999.0,9, -999,9,-999,9,-999,9,-999.0,9,-999.0,9,-999.0,9,-999
  49UP20150604,RF1505,5458,1,36,  22109,2,20150613,0107,0132,44.0002,165.0088,5708,  52.7, 6.2618,33.0475,2,   -999,9, -999,9, 21.98,2,12.99,2,0.18,2,1.21,2,-999.0,9,-999.0,9,-999.0,9,-999
  49UP20150604,RF1505,5458,1,29,  22102,2,20150613,0107,0126,44.0002,165.0088,5708, 103.6, 4.6103,33.1147,2,   -999,9, -999,9, 24.97,2,16.72,2,0.01,2,1.38,2,-999.0,9,-999.0,9,-999.0,9,-999
  49UP20150604,RF1505,5458,1,25,  22098,2,20150613,0107,0124,44.0002,165.0088,5708, 152.4, 5.1286,33.4730,2,   -999,9, -999,9, 31.88,2,19.54,2,0.01,2,1.52,2,-999.0,9,-999.0,9,-999.0,9,-999
  49UP20150604,RF1505,5458,1,21,  22078,2,20150613,0107,0122,44.0002,165.0088,5708, 203.4, 4.2046,33.6290,2,   -999,9, -999,9, 52.05,2,27.72,2,0.00,2,2.06,2,-999.0,9,-999.0,9,-999.0,9,-999
  49UP20150604,RF1505,5458,1,18,  22101,2,20150613,0107,0119,44.0002,165.0088,5708, 306.6, 3.4135,33.7554,2,   -999,9, -999,9, 79.21,2,36.09,2,0.00,2,2.63,2,-999.0,9,-999.0,9,-999.0,9,-999
  49UP20150604,RF1505,5458,1,11,  24268,2,20150613,0107,0116,44.0002,165.0088,5708, 408.6, 3.6571,33.9398,2,   -999,9, -999,9, 97.22,2,41.77,2,0.00,2,2.99,2,-999.0,9,-999.0,9,-999.0,9,-999
  49UP20150604,RF1505,5458,1, 7,  23516,2,20150613,0107,0111,44.0002,165.0088,5708, 610.6, 3.5951,34.1715,2,   -999,9, -999,9,117.50,2,42.63,2,0.00,2,3.03,2,-999.0,9,-999.0,9,-999.0,9,-999
  49UP20150604,RF1505,5458,1, 3,  22104,2,20150613,0107,0107,44.0002,165.0088,5708, 810.8, 3.2492,34.3001,2,   -999,9, -999,9,131.67,2,42.57,2,0.00,2,3.05,2,-999.0,9,-999.0,9,-999.0,9,-999