BOTTLE,20240105CCHSIOVAJ
EXPOCODE,SECT_ID,STNNBR,CASTNO,SAMPNO,BTLNBR,BTLNBR_FLAG_W,DATE,TIME,BTL_TIME,LATITUDE,LONGITUDE,DEPTH,CTDPRS,CTDTMP,CTDSAL,CTDSAL_FLAG_W,SALNTY,SALNTY_FLAG_W,OXYGEN,OXYGEN_FLAG_W,SILCAT,SILCAT_FLAG_W,NITRAT,NITRAT_FLAG_W,NITRIT,NITRIT_FLAG_W,PHSPHT,PHSPHT_FLAG_W,TCARBN,TCARBN_FLAG_W,ALKALI,ALKALI_FLAG_W,PH_TOT,PH_TOT_FLAG_W,PH_TMP
,,,,,,,,,,,,METERS,DBAR,ITS-90,PSS-78,,PSS-78,,UMOL/KG,,UMOL/KG,,UMOL/KG,,UMOL/KG,,UMOL/KG,,UMOL/KG,,UMOL/KG,,,,DEG C
  49UP20150604,RF1505,5467,1, 0,    BUC,2,20150617,0358,0442,45.5775,157.5352,4999,   0.0, 5.7081,32.7989,2,   -999,9,328.8,2, 28.00,2,15.64,2,0.18,2,1.40,2,-999.0,9,-999.0,9,-999.0,9,-999
  49UP20150604,RF1505,5467,1,33,  24469,2,20150617,0358,0504,45.5775,157.5352,4999,  11.6, 5.6626,32.7976,2,   -999,9,331.3,2, 27.99,2,15.60,2,0.18,2,1.40,2,-999.0,9,-999.0,9,-999.0,9,-999
  49UP20150604,RF1505,5467,1,32,  22105,2,20150617,0358,0502,45.5775,157.5352,4999,  27.0, 4.9127,32.8040,2,   -999,9,330.1,2, 28.47,2,16.33,2,0.18,2,1.45,2,-999.0,9,-999.0,9,-999.0,9,-999
  49UP20150604,RF1505,5467,1,31,  23515,2,20150617,0358,0500,45.5775,157.5352,4999,  53.0, 4.4000,32.8097,2,   -999,9,324.4,2, 29.82,2,17.41,2,0.22,2,1.56,2,-999.0,9,-999.0,9,-999.0,9,-999
  49UP20150604,RF1505,5467,1,30,  22097,2,20150617,0358,0459,45.5775,157.5352,4999,  77.7, 2.8317,32.9211,2,   -999,9,321.5,2, 34.07,2,21.19,2,0.17,2,1.74,2,-999.0,9,-999.0,9,-999.0,9,-999
  49UP20150604,RF1505,5467,1,29,  22102,2,20150617,0358,0458,45.5775,157.5352,4999, 102.8, 2.3959,33.0291,2,   -999,9,289.9,2, 42.44,2,24.82,2,0.01,2,1.95,2,-999.0,9,-999.0,9,-999.0,9,-999
  49UP20150604,RF1505,5467,1,28,  22108,2,20150617,0358,0456,45.5775,157.5352,4999, 129.1, 2.6284,33.4434,2,   -999,9,167.9,2, 70.13,2,35.41,2,0.01,2,2.60,2,-999.0,9,-999.0,9,-999.0,9,-999
  49UP20150604,RF1505,5467,1,24,  22110,3,20150617,0358,0453,45.5775,157.5352,4999, 152.4, 2.8581,33.5819,2,   -999,9,124.9,2, 79.74,2,38.59,2,0.00,2,2.79,2,-999.0,9,-999.0,9,-999.0,9,-999
  49UP20150604,RF1505,5467,1,23,  22096,3,20150617,0358,0451,45.5775,157.5352,4999, 204.5, 3.0529,33.7364,2,   -999,9, 84.1,2, 90.09,2,41.09,2,0.00,2,2.94,2,-999.0,9,-999.0,9,-999.0,9,-999
  49UP20150604,RF1505,5467,1,22,  22111,2,20150617,0358,0449,45.5775,157.5352,4999, 253.6, 3.3895,33.8658,2,   -999,9, 45.4,2, 99.55,2,43.77,2,0.00,2,3.10,2,-999.0,9,-999.0,9,-999.0,9,-999
  49UP20150604,RF1505,5467,1,21,  22078,2,20150617,0358,0447,45.5775,157.5352,4999, 304.3, 3.4652,33.9670,2,   -999,9, 33.8,2,106.65,2,44.09,2,0.00,2,3.13,2,-999.0,9,-999.0,9,-999.0,9,-999
  49UP20150604,RF1505,5467,1,20,  22093,2,20150617,0358,0446,45.5775,157.5352,4999, 304.3, 3.4650,33.9669,2,   -999,9, 33.9,2,106.62,2,44.11,2,0.00,2,3.12,2,-999.0,9,-999.0,9,-999.0,9,-999
  49UP20150604,RF1505,5467,1,19,  22092,2,20150617,0358,0443,45.5775,157.5352,4999, 406.9, 3.4152,34.1059,2,   -999,9, 25.5,2,118.79,2,44.02,2,0.00,2,3.12,2,-999.0,9,-999.0,9,-999.0,9,-999
  49UP20150604,RF1505,5467,1,15,  22088,2,20150617,0358,0440,45.5775,157.5352,4999, 507.6, 3.3178,34.1911,2,   -999,9, 20.4,2,127.12,2,44.07,2,0.00,2,3.12,2,-999.0,9,-999.0,9,-999.0,9,-999
  49UP20150604,RF1505,5467,1,14,  21999,2,20150617,0358,0437,45.5775,157.5352,4999, 607.4, 3.1557,34.2604,2,   -999,9, 15.4,6,135.92,6,44.45,6,0.00,6,3.15,6,-999.0,9,-999.0,9,-999.0,9,-999
  49UP20150604,RF1505,5467,1,13,  22667,2,20150617,0358,0434,45.5775,157.5352,4999, 709.7, 2.9829,34.3154,2,   -999,9, 16.2,2,143.01,2,44.43,2,0.00,2,3.15,2,-999.0,9,-999.0,9,-999.0,9,-999
  49UP20150604,RF1505,5467,1,12,  22074,2,20150617,0358,0431,45.5775,157.5352,4999, 809.9, 2.8415,34.3570,2,   -999,9, 17.3,2,148.33,2,44.30,2,0.00,2,3.14,2,-999.0,9,-999.0,9,-999.0,9,-999
  49UP20150604,RF1505,5467,1,11,  24268,2,20150617,0358,0428,45.5775,157.5352,4999, 911.5, 2.7161,34.3901,2,   -999,9, 18.4,2,152.79,2,44.29,2,0.00,2,3.13,2,-999.0,9,-999.0,9,-999.0,9,-999
  49UP20150604,RF1505,5467,1,10,  24267,2,20150617,0358,0425,45.5775,157.5352,4999,1012.2, 2.5564,34.4281,2,   -999,9, 21.9,2,158.02,2,44.08,2,0.00,2,3.12,2,-999.0,9,-999.0,9,-999.0,9,-999
  49UP20150604,RF1505,5467,1, 6,  22113,2,20150617,0358,0419,45.5775,157.5352,4999,1216.9, 2.3007,34.4875,2,   -999,9, 33.9,6,164.50,6,43.38,6,0.00,6,3.07,6,-999.0,9,-999.0,9,-999.0,9,-999
  49UP20150604,RF1505,5467,1, 4,  22077,2,20150617,0358,0414,45.5775,157.5352,4999,1419.2, 2.1429,34.5266,2,   -999,9, 44.3,2,167.72,2,42.75,2,0.00,2,3.02,2,-999.0,9,-999.0,9,-999.0,9,-999
  49UP20150604,RF1505,5467,1, 5,  22094,2,20150617,0358,0414,45.5775,157.5352,4999,1420.1, 2.1421,34.5267,2,   -999,9, 44.0,2,167.73,2,42.76,2,0.00,2,3.03,2,-999.0,9,-999.0,9,-999.0,9,-999
  49UP20150604,RF1505,5467,1, 3,  22104,2,20150617,0358,0409,45.5775,157.5352,4999,1620.3, 1.9974,34.5644,2,   -999,9, 55.2,2,169.68,2,42.14,2,0.00,2,2.98,2,-999.0,9,-999.0,9,-999.0,9,-999
  49UP20150604,RF1505,5467,1, 2,  22075,2,20150617,0358,0403,45.5775,157.5352,4999,1823.7, 1.8751,34.5928,2,   -999,9, 70.1,2,169.43,2,41.28,2,0.00,2,2.92,2,-999.0,9,-999.0,9,-999.0,9,-999
  49UP20150604,RF1505,5467,1, 1,  21997,2,20150617,0358,0358,45.5775,157.5352,4999,2029.0, 1.7759,34.6146,2,   -999,9, 84.2,2,167.27,2,40.42,2,0.00,2,2.84,2,-999.0,9,-999.0,9,-999.0,9,-999
  49UP20150604,RF1505,5468,1, 0,    BUC,2,20150617,1559,1645,44.0853,154.9685,5350,   0.0, 7.8867,32.8337,2,32.8308,2,306.2,2, 29.00,2,14.78,2,0.14,2,1.43,2,2069.7,2,2226.7,2,7.8041,2,25.0
  49UP20150604,RF1505,5468,1,33,  24469,2,20150617,1559,1707,44.0853,154.9685,5350,  11.0, 7.1439,32.8504,2,32.8504,2,314.8,2, 29.74,2,15.10,2,0.14,2,1.45,2,2069.3,2,2228.6,2,7.8035,2,25.0
  49UP20150604,RF1505,5468,1,32,  22105,2,20150617,1559,1706,44.0853,154.9685,5350,  26.5, 6.7950,32.8531,2,   -999,9,316.3,2, 30.03,2,15.40,2,0.14,2,1.48,2,2074.2,2,2228.1,2,7.7947,2,25.0
  49UP20150604,RF1505,5468,1,31,  23515,2,20150617,1559,1705,44.0853,154.9685,5350,  52.9, 3.7746,32.9381,2,   -999,9,323.2,2, 34.97,2,20.05,2,0.44,2,1.73,2,2113.7,2,2225.0,2,7.6901,2,25.0
  49UP20150604,RF1505,5468,1,30,  22097,2,20150617,1559,1704,44.0853,154.9685,5350,  77.9, 3.0953,33.0862,2,   -999,9,300.8,2, 38.68,2,22.67,2,0.01,2,1.78,2,2134.8,2,2236.7,2,7.6496,2,25.0
  49UP20150604,RF1505,5468,1,29,  22102,2,20150617,1559,1700,44.0853,154.9685,5350, 102.0, 3.1072,33.2762,2,33.3059,4,253.6,2, 48.54,2,26.20,2,0.01,2,2.00,2,2171.4,2,2247.9,2,7.5799,2,25.0
  49UP20150604,RF1505,5468,1,28,  22108,2,20150617,1559,1659,44.0853,154.9685,5350, 128.4, 2.7834,33.3831,2,   -999,9,209.4,2, 59.84,2,30.50,2,0.01,2,2.29,2,2205.8,2,2253.8,2,7.4963,2,25.0
  49UP20150604,RF1505,5468,1,24,  22110,2,20150617,1559,1658,44.0853,154.9685,5350, 152.3, 2.6018,33.4581,2,   -999,9,173.4,2, 69.20,2,33.94,2,0.00,2,2.52,2,2238.8,2,2265.1,2,7.4311,2,25.0
  49UP20150604,RF1505,5468,1,23,  22096,2,20150617,1559,1655,44.0853,154.9685,5350, 204.3, 2.8685,33.6589,2,33.6621,2,113.1,2, 83.91,2,38.70,2,0.01,2,2.80,2,2279.5,2,2277.1,2,7.3405,2,25.0
  49UP20150604,RF1505,5468,1,22,  22111,2,20150617,1559,1653,44.0853,154.9685,5350, 253.0, 3.2828,33.8230,2,33.8221,2, 86.0,2, 91.60,2,39.82,2,0.01,2,2.86,2,2302.3,2,2295.4,2,7.3285,2,25.0
  49UP20150604,RF1505,5468,1,21,  22078,2,20150617,1559,1653,44.0853,154.9685,5350, 253.3, 3.2838,33.8231,2,33.8226,2, 84.7,2, 91.79,2,39.86,2,0.01,2,2.86,2,2302.4,2,2296.0,2,7.3251,2,25.0
  49UP20150604,RF1505,5468,1,20,  22093,2,20150617,1559,1651,44.0853,154.9685,5350, 304.2, 3.2510,33.8940,2,   -999,9, 54.8,6,102.11,6,42.50,6,0.01,6,3.03,6,2323.6,2,2304.1,2,7.2770,2,25.0
  49UP20150604,RF1505,5468,1,19,  22092,2,20150617,1559,1648,44.0853,154.9685,5350, 404.3, 3.4163,34.0690,2,34.0690,2, 46.6,2,112.20,2,42.11,2,0.00,2,3.00,2,2334.4,6,2324.2,6,7.3098,2,25.0
  49UP20150604,RF1505,5468,1,15,  22088,2,20150617,1559,1645,44.0853,154.9685,5350, 506.9, 3.4202,34.1724,2,   -999,9, 39.6,2,120.54,2,42.38,2,0.00,2,3.02,2,2349.9,2,2337.7,2,7.3218,6,25.0
  49UP20150604,RF1505,5468,1,14,  21999,2,20150617,1559,1641,44.0853,154.9685,5350, 609.3, 3.2563,34.2424,2,34.2411,2, 34.2,2,128.96,2,42.74,2,0.00,2,3.05,2,2354.9,2,2349.6,2,7.3228,2,25.0
  49UP20150604,RF1505,5468,1,13,  22667,2,20150617,1559,1638,44.0853,154.9685,5350, 708.4, 2.9921,34.2867,2,   -999,9, 30.8,2,138.15,2,43.23,2,0.00,2,3.08,2,2370.0,2,2359.1,2,7.3195,2,25.0
  49UP20150604,RF1505,5468,1,12,  22074,2,20150617,1559,1635,44.0853,154.9685,5350, 810.2, 2.8510,34.3391,2,34.3397,2, 33.1,2,143.18,2,43.11,2,0.00,2,3.07,2,2375.3,2,2368.5,2,7.3293,2,25.0
  49UP20150604,RF1505,5468,1,11,  24268,2,20150617,1559,1632,44.0853,154.9685,5350, 911.4, 2.7573,34.3840,2,   -999,9, 28.5,2,148.68,2,43.54,2,0.00,2,3.10,2,2378.2,2,2374.9,2,7.3328,2,25.0
  49UP20150604,RF1505,5468,1,10,  24267,2,20150617,1559,1628,44.0853,154.9685,5350,1013.8, 2.5874,34.4211,2,34.4203,6, 30.2,2,154.54,2,43.59,2,0.00,2,3.11,2,2383.5,2,2383.0,2,7.3395,2,25.0
  49UP20150604,RF1505,5468,1, 6,  22113,2,20150617,1559,1622,44.0853,154.9685,5350,1214.4, 2.3691,34.4717,2,34.4710,2, 38.2,2,160.61,2,43.18,2,0.00,2,3.06,2,2383.0,2,2390.6,2,7.3607,2,25.0
  49UP20150604,RF1505,5468,1, 5,  22094,2,20150617,1559,1622,44.0853,154.9685,5350,1214.6, 2.3689,34.4717,2,34.4722,2, 37.9,2,160.64,2,43.14,2,0.00,2,3.06,2,2383.6,2,2390.8,2,7.3579,2,25.0
  49UP20150604,RF1505,5468,1, 4,  22077,3,20150617,1559,1617,44.0853,154.9685,5350,1418.4, 2.2207,34.5149,2,34.5162,2, 47.5,6,163.27,6,42.61,6,0.00,6,3.02,6,2387.3,2,2398.3,2,7.3825,2,25.0
  49UP20150604,RF1505,5468,1, 3,  22104,2,20150617,1559,1611,44.0853,154.9685,5350,1621.3, 2.0931,34.5532,2,34.5543,2, 57.0,2,164.55,2,42.17,2,0.00,2,2.97,2,2380.5,2,2403.2,2,7.4042,2,25.0
  49UP20150604,RF1505,5468,1, 2,  22075,2,20150617,1559,1605,44.0853,154.9685,5350,1824.1, 1.9522,34.5810,2,34.5755,4, 63.9,4,167.15,2,41.65,2,0.00,2,2.94,2,2379.4,6,2407.2,6,7.4200,2,25.0
  49UP20150604,RF1505,5468,1, 1,  21997,2,20150617,1559,1559,44.0853,154.9685,5350,2027.9, 1.8382,34.6050,2,34.6065,6, 79.2,2,166.90,2,40.78,2,0.00,2,2.87,2,2371.0,2,2410.9,2,7.4528,6,25.0
  49UP20150604,RF1505,5469,1, 0,    BUC,2,20150618,0338,0420,42.6662,152.6642,5302,   0.0, 9.1803,32.7214,2,   -999,9,300.3,2, 22.80,2,12.99,2,0.14,2,1.29,2,-999.0,9,-999.0,9,-999.0,9,-999
  49UP20150604,RF1505,5469,1,33,  24469,2,20150618,0338,0449,42.6662,152.6642,5302,  11.2, 8.2985,32.7763,2,32.7885,4,308.9,2, 26.13,2,13.81,2,0.14,2,1.36,2,-999.0,9,-999.0,9,-999.0,9,-999
  49UP20150604,RF1505,5469,1,32,  22105,2,20150618,0338,0448,42.6662,152.6642,5302,  26.6, 7.3668,32.8417,2,   -999,9,311.7,2, 28.76,2,14.81,2,0.14,2,1.46,2,-999.0,9,-999.0,9,-999.0,9,-999
  49UP20150604,RF1505,5469,1,31,  23515,2,20150618,0338,0445,42.6662,152.6642,5302,  52.8, 3.1093,32.9577,2,   -999,9,320.4,2, 36.78,2,21.42,2,0.48,2,1.80,2,-999.0,9,-999.0,9,-999.0,9,-999
  49UP20150604,RF1505,5469,1,30,  22097,2,20150618,0338,0443,42.6662,152.6642,5302,  77.1, 2.7471,33.0504,2,   -999,9,303.5,2, 40.49,2,23.64,2,0.01,2,1.87,2,-999.0,9,-999.0,9,-999.0,9,-999
  49UP20150604,RF1505,5469,1,29,  22102,2,20150618,0338,0442,42.6662,152.6642,5302, 103.2, 2.6966,33.1811,2,33.2107,2,269.8,2, 45.79,2,25.62,2,0.01,2,1.98,2,-999.0,9,-999.0,9,-999.0,9,-999
  49UP20150604,RF1505,5469,1,28,  22108,2,20150618,0338,0440,42.6662,152.6642,5302, 127.3, 2.2559,33.2985,2,   -999,9,216.4,2, 59.75,2,31.06,2,0.01,2,2.35,2,-999.0,9,-999.0,9,-999.0,9,-999
  49UP20150604,RF1505,5469,1,24,  22110,2,20150618,0338,0439,42.6662,152.6642,5302, 153.0, 2.5636,33.4775,2,   -999,9,170.5,6, 69.89,6,34.15,6,0.01,6,2.54,6,-999.0,9,-999.0,9,-999.0,9,-999
  49UP20150604,RF1505,5469,1,22,  22111,2,20150618,0338,0437,42.6662,152.6642,5302, 204.9, 3.1115,33.6946,2,33.6945,2,119.8,2, 80.97,2,37.27,2,0.01,2,2.72,2,-999.0,9,-999.0,9,-999.0,9,-999
  49UP20150604,RF1505,5469,1,23,  22096,2,20150618,0338,0437,42.6662,152.6642,5302, 205.1, 3.1114,33.6946,2,33.6938,2,120.3,2, 80.93,2,37.22,2,0.01,2,2.72,2,-999.0,9,-999.0,9,-999.0,9,-999
  49UP20150604,RF1505,5469,1,21,  22078,2,20150618,0338,0435,42.6662,152.6642,5302, 254.6, 3.4687,33.8220,2,   -999,9, 97.9,2, 86.85,2,38.24,2,0.02,2,2.77,2,-999.0,9,-999.0,9,-999.0,9,-999
  49UP20150604,RF1505,5469,1,20,  22093,2,20150618,0338,0433,42.6662,152.6642,5302, 304.4, 3.6210,33.9151,2,   -999,9, 79.4,2, 93.04,2,39.43,2,0.02,2,2.84,2,-999.0,9,-999.0,9,-999.0,9,-999
  49UP20150604,RF1505,5469,1,19,  22092,2,20150618,0338,0429,42.6662,152.6642,5302, 405.1, 3.4599,34.0357,2,34.0355,6, 49.4,2,109.25,2,41.96,2,0.00,2,3.00,2,-999.0,9,-999.0,9,-999.0,9,-999
  49UP20150604,RF1505,5469,1,15,  22088,2,20150618,0338,0426,42.6662,152.6642,5302, 506.4, 3.4450,34.1648,2,   -999,9, 40.3,2,119.51,2,42.26,2,0.00,2,3.02,2,-999.0,9,-999.0,9,-999.0,9,-999
  49UP20150604,RF1505,5469,1,14,  21999,2,20150618,0338,0422,42.6662,152.6642,5302, 608.1, 3.1607,34.2273,2,34.2269,2, 31.9,2,130.63,2,42.97,2,0.00,2,3.08,2,-999.0,9,-999.0,9,-999.0,9,-999
  49UP20150604,RF1505,5469,1,13,  22667,2,20150618,0338,0417,42.6662,152.6642,5302, 708.1, 3.0144,34.2883,2,   -999,9, 31.9,2,137.14,2,43.07,2,0.00,2,3.08,2,-999.0,9,-999.0,9,-999.0,9,-999
  49UP20150604,RF1505,5469,1,12,  22074,2,20150618,0338,0413,42.6662,152.6642,5302, 809.7, 2.9016,34.3358,2,34.3361,2, 32.0,2,142.05,2,43.10,2,0.00,2,3.08,2,-999.0,9,-999.0,9,-999.0,9,-999
  49UP20150604,RF1505,5469,1,11,  24268,2,20150618,0338,0410,42.6662,152.6642,5302, 911.8, 2.8675,34.4019,2,   -999,9, 37.0,6,143.64,6,42.87,6,0.00,6,3.05,6,-999.0,9,-999.0,9,-999.0,9,-999
  49UP20150604,RF1505,5469,1, 6,  22113,2,20150618,0338,0405,42.6662,152.6642,5302,1012.2, 2.6356,34.4218,2,34.4229,2, 35.1,2,151.42,2,43.22,2,0.00,2,3.07,2,-999.0,9,-999.0,9,-999.0,9,-999
  49UP20150604,RF1505,5469,1,10,  24267,2,20150618,0338,0406,42.6662,152.6642,5302,1012.4, 2.6359,34.4219,2,34.4212,2, 35.0,2,151.25,2,43.09,2,0.00,2,3.07,2,-999.0,9,-999.0,9,-999.0,9,-999
  49UP20150604,RF1505,5469,1, 5,  22094,2,20150618,0338,0400,42.6662,152.6642,5302,1215.5, 2.4110,34.4813,2,34.4809,2, 40.7,2,157.52,2,42.96,2,0.00,2,3.05,2,-999.0,9,-999.0,9,-999.0,9,-999
  49UP20150604,RF1505,5469,1, 4,  22077,2,20150618,0338,0355,42.6662,152.6642,5302,1418.4, 2.2413,34.5252,2,34.5247,2, 48.8,2,160.84,2,42.64,2,0.00,2,3.01,2,-999.0,9,-999.0,9,-999.0,9,-999
  49UP20150604,RF1505,5469,1, 3,  22104,2,20150618,0338,0350,42.6662,152.6642,5302,1621.2, 2.0770,34.5622,2,34.5620,6, 59.8,2,163.33,2,42.08,2,0.00,2,2.96,2,-999.0,9,-999.0,9,-999.0,9,-999
  49UP20150604,RF1505,5469,1, 2,  22075,2,20150618,0338,0343,42.6662,152.6642,5302,1825.3, 1.9447,34.5877,2,34.5885,2, 71.3,2,164.37,2,41.44,2,0.00,2,2.91,2,-999.0,9,-999.0,9,-999.0,9,-999
  49UP20150604,RF1505,5469,1, 1,  21997,2,20150618,0338,0338,42.6662,152.6642,5302,2028.0, 1.8291,34.6094,2,34.6103,6, 83.8,2,164.24,2,40.68,2,0.00,2,2.85,2,-999.0,9,-999.0,9,-999.0,9,-999
  49UP20150604,RF1505,5470,1, 0,    BUC,2,20150618,1723,1807,40.9220,149.8583,5374,   0.0, 9.0928,32.6777,2,   -999,9,394.5,2,  0.07,2, 0.09,2,0.00,3,0.14,3,-999.0,9,-999.0,9,-999.0,9,-999
  49UP20150604,RF1505,5470,1,33,  24469,3,20150618,1723,1829,40.9220,149.8583,5374,  12.4, 8.1589,32.6569,2,32.7574,4,424.1,2,  0.62,2, 3.07,2,0.09,3,0.48,3,-999.0,9,-999.0,9,-999.0,9,-999
  49UP20150604,RF1505,5470,1,32,  22105,2,20150618,1723,1828,40.9220,149.8583,5374,  27.7, 3.9936,32.7987,2,   -999,9,346.4,2, 16.34,2,12.16,2,0.20,2,1.23,2,-999.0,9,-999.0,9,-999.0,9,-999
  49UP20150604,RF1505,5470,1,31,  23515,2,20150618,1723,1825,40.9220,149.8583,5374,  51.9, 2.2379,32.9075,2,   -999,9,314.1,2, 37.73,2,20.29,2,0.21,2,1.75,2,-999.0,9,-999.0,9,-999.0,9,-999
  49UP20150604,RF1505,5470,1,30,  22097,2,20150618,1723,1823,40.9220,149.8583,5374,  75.2, 1.5848,33.0150,2,   -999,9,284.5,2, 47.46,2,23.39,2,0.21,2,1.93,2,-999.0,9,-999.0,9,-999.0,9,-999
  49UP20150604,RF1505,5470,1,29,  22102,3,20150618,1723,1822,40.9220,149.8583,5374, 103.0, 1.5592,33.0556,2,33.0538,2,276.8,2, 49.57,2,24.43,2,0.19,2,1.97,2,-999.0,9,-999.0,9,-999.0,9,-999
  49UP20150604,RF1505,5470,1,28,  22108,2,20150618,1723,1820,40.9220,149.8583,5374, 127.3, 1.5223,33.0951,2,   -999,9,270.3,2, 51.60,2,25.35,2,0.16,2,2.03,2,-999.0,9,-999.0,9,-999.0,9,-999
  49UP20150604,RF1505,5470,1,23,  22096,3,20150618,1723,1819,40.9220,149.8583,5374, 151.3, 1.3464,33.1334,2,33.1322,2,263.1,2, 53.35,2,26.42,2,0.02,2,2.09,2,-999.0,9,-999.0,9,-999.0,9,-999
  49UP20150604,RF1505,5470,1,24,  22110,2,20150618,1723,1819,40.9220,149.8583,5374, 152.3, 1.3232,33.1336,2,33.1323,2,263.1,2, 53.30,2,26.39,2,0.02,2,2.09,2,-999.0,9,-999.0,9,-999.0,9,-999
  49UP20150604,RF1505,5470,1,22,  22111,2,20150618,1723,1817,40.9220,149.8583,5374, 203.0, 1.4959,33.2809,2,33.2708,4,229.7,6, 61.21,6,29.53,6,0.00,6,2.29,6,-999.0,9,-999.0,9,-999.0,9,-999
  49UP20150604,RF1505,5470,1,21,  22078,2,20150618,1723,1815,40.9220,149.8583,5374, 252.4, 1.7384,33.4564,2,   -999,9,178.6,2, 73.43,2,33.56,2,0.00,2,2.55,2,-999.0,9,-999.0,9,-999.0,9,-999
  49UP20150604,RF1505,5470,1,20,  22093,2,20150618,1723,1813,40.9220,149.8583,5374, 304.4, 2.4350,33.6280,2,   -999,9,129.1,2, 85.67,2,37.31,2,0.00,2,2.75,2,-999.0,9,-999.0,9,-999.0,9,-999
  49UP20150604,RF1505,5470,1,19,  22092,2,20150618,1723,1810,40.9220,149.8583,5374, 404.6, 2.8395,33.8347,2,33.8328,2, 78.0,2,100.74,2,40.76,2,0.00,2,2.94,2,-999.0,9,-999.0,9,-999.0,9,-999
  49UP20150604,RF1505,5470,1,15,  22088,2,20150618,1723,1807,40.9220,149.8583,5374, 505.3, 3.1085,34.0168,2,   -999,9, 42.1,2,115.60,2,43.02,2,0.00,2,3.07,2,-999.0,9,-999.0,9,-999.0,9,-999
  49UP20150604,RF1505,5470,1,14,  21999,2,20150618,1723,1804,40.9220,149.8583,5374, 607.6, 3.1473,34.1424,2,34.1384,2, 29.4,2,126.43,2,43.54,2,0.00,2,3.10,2,-999.0,9,-999.0,9,-999.0,9,-999
  49UP20150604,RF1505,5470,1,13,  22667,2,20150618,1723,1801,40.9220,149.8583,5374, 709.6, 3.1152,34.2377,2,   -999,9, 27.3,2,133.28,2,43.46,2,0.00,2,3.09,2,-999.0,9,-999.0,9,-999.0,9,-999
  49UP20150604,RF1505,5470,1,12,  22074,2,20150618,1723,1758,40.9220,149.8583,5374, 808.0, 2.9956,34.2914,2,34.2905,6, 28.4,6,138.79,6,43.51,6,0.00,6,3.10,6,-999.0,9,-999.0,9,-999.0,9,-999
  49UP20150604,RF1505,5470,1,10,  24267,2,20150618,1723,1755,40.9220,149.8583,5374, 910.1, 2.8313,34.3377,2,34.3358,2, 29.4,2,144.63,2,43.47,2,0.00,2,3.09,2,-999.0,9,-999.0,9,-999.0,9,-999
  49UP20150604,RF1505,5470,1,11,  24268,2,20150618,1723,1755,40.9220,149.8583,5374, 910.2, 2.8311,34.3377,2,34.3360,2, 29.5,2,144.84,2,43.39,2,0.00,2,3.09,2,-999.0,9,-999.0,9,-999.0,9,-999
  49UP20150604,RF1505,5470,1, 6,  22113,2,20150618,1723,1749,40.9220,149.8583,5374,1012.0, 2.7729,34.3933,2,34.3924,2, 34.2,2,147.26,2,43.02,2,0.00,2,3.07,2,-999.0,9,-999.0,9,-999.0,9,-999
  49UP20150604,RF1505,5470,1, 5,  22094,2,20150618,1723,1744,40.9220,149.8583,5374,1217.2, 2.4626,34.4606,2,34.4606,2, 39.4,2,155.98,2,42.97,2,0.00,2,3.05,2,-999.0,9,-999.0,9,-999.0,9,-999
  49UP20150604,RF1505,5470,1, 4,  22077,2,20150618,1723,1739,40.9220,149.8583,5374,1417.5, 2.3275,34.5070,2,34.5054,2, 46.3,2,159.05,2,42.59,2,0.00,2,3.02,2,-999.0,9,-999.0,9,-999.0,9,-999
  49UP20150604,RF1505,5470,1, 3,  22104,2,20150618,1723,1734,40.9220,149.8583,5374,1622.1, 2.1608,34.5486,2,34.5481,2, 56.5,2,161.65,2,42.10,2,0.00,2,2.97,2,-999.0,9,-999.0,9,-999.0,9,-999
  49UP20150604,RF1505,5470,1, 2,  22075,4,20150618,1723,1728,40.9220,149.8583,5374,1823.2, 2.0138,34.5784,2,32.6730,4,398.8,4,  0.07,4, 0.10,4,0.00,4,0.13,4,-999.0,9,-999.0,9,-999.0,9,-999
  49UP20150604,RF1505,5470,1, 1,  21997,2,20150618,1723,1723,40.9220,149.8583,5374,2027.4, 1.8904,34.6017,2,34.6009,2, 80.3,2,162.85,2,40.68,2,0.00,2,2.86,2,-999.0,9,-999.0,9,-999.0,9,-999