BOTTLE,20240105CCHSIOVAJ
EXPOCODE,SECT_ID,STNNBR,CASTNO,SAMPNO,BTLNBR,BTLNBR_FLAG_W,DATE,TIME,BTL_TIME,LATITUDE,LONGITUDE,DEPTH,CTDPRS,CTDTMP,CTDSAL,CTDSAL_FLAG_W,SALNTY,SALNTY_FLAG_W,OXYGEN,OXYGEN_FLAG_W,SILCAT,SILCAT_FLAG_W,NITRAT,NITRAT_FLAG_W,NITRIT,NITRIT_FLAG_W,PHSPHT,PHSPHT_FLAG_W,TCARBN,TCARBN_FLAG_W,ALKALI,ALKALI_FLAG_W,PH_TOT,PH_TOT_FLAG_W,PH_TMP
,,,,,,,,,,,,METERS,DBAR,ITS-90,PSS-78,,PSS-78,,UMOL/KG,,UMOL/KG,,UMOL/KG,,UMOL/KG,,UMOL/KG,,UMOL/KG,,UMOL/KG,,,,DEG C
  49UP20150604,RF1505,5464,1, 0,    BUC,2,20150615,1329,1529,50.0007,164.9800,5494,   0.0, 5.6184,32.8543,2,32.8532,2,325.6,2, 31.79,2,17.74,2,0.22,2,1.52,2,2074.4,2,2250.5,4,7.7713,2,25.0
  49UP20150604,RF1505,5464,1,36,  22109,2,20150615,1329,1557,50.0007,164.9800,5494,  11.0, 5.5509,32.8534,2,32.8529,6,326.4,2, 31.76,2,17.75,2,0.22,2,1.52,2,2077.8,2,2220.0,2,7.7702,2,25.0
  49UP20150604,RF1505,5464,1,35,  22112,2,20150615,1329,1556,50.0007,164.9800,5494,  26.8, 5.1239,32.8538,2,   -999,9,328.0,2, 31.84,2,17.89,2,0.22,2,1.53,2,2077.0,2,2220.4,2,7.7696,2,25.0
  49UP20150604,RF1505,5464,1,34,  22083,2,20150615,1329,1552,50.0007,164.9800,5494,  52.9, 4.4990,32.8696,2,   -999,9,322.9,2, 32.41,2,19.06,2,0.24,2,1.63,2,2088.9,2,2219.5,2,7.7411,2,25.0
  49UP20150604,RF1505,5464,1,33,  24469,2,20150615,1329,1551,50.0007,164.9800,5494,  77.7, 3.8206,32.8892,2,   -999,9,322.1,2, 33.09,2,19.85,2,0.30,2,1.70,2,2097.8,2,2221.8,2,7.7184,2,25.0
  49UP20150604,RF1505,5464,1,32,  22105,2,20150615,1329,1550,50.0007,164.9800,5494, 101.1, 3.4638,32.8958,2,32.8984,2,322.6,2, 33.54,2,20.73,2,0.40,2,1.74,2,2103.6,2,2220.5,2,7.7030,2,25.0
  49UP20150604,RF1505,5464,1,31,  23515,2,20150615,1329,1549,50.0007,164.9800,5494, 126.8, 3.3037,32.9055,2,   -999,9,319.6,2, 34.48,2,21.80,2,0.30,2,1.77,2,2107.1,2,2219.9,2,7.6916,2,25.0
  49UP20150604,RF1505,5464,1,30,  22097,2,20150615,1329,1547,50.0007,164.9800,5494, 153.5, 3.1877,32.9931,2,   -999,9,299.4,2, 40.17,2,24.59,2,0.02,2,1.92,2,2127.5,2,2227.9,2,7.6529,2,25.0
  49UP20150604,RF1505,5464,1,29,  22102,2,20150615,1329,1546,50.0007,164.9800,5494, 204.4, 3.6518,33.5775,2,33.5853,4, 98.6,2, 76.49,2,40.61,2,0.00,2,2.90,2,2278.5,2,2268.1,2,7.3228,2,25.0
  49UP20150604,RF1505,5464,1,28,  22108,2,20150615,1329,1544,50.0007,164.9800,5494, 256.4, 3.7941,33.8354,2,   -999,9, 28.3,2, 91.85,2,45.76,2,0.00,2,3.22,2,2334.1,2,2289.6,2,7.2222,2,25.0
  49UP20150604,RF1505,5464,1,27,  21998,2,20150615,1329,1543,50.0007,164.9800,5494, 304.2, 3.8494,33.9711,2,   -999,9,  7.3,6,101.74,6,46.48,6,0.00,6,3.29,6,2351.8,2,2305.5,2,7.2166,2,25.0
  49UP20150604,RF1505,5464,1,26,  22084,2,20150615,1329,1540,50.0007,164.9800,5494, 406.1, 3.5211,34.1945,2,34.1934,2,  8.2,2,123.67,2,45.04,2,0.00,2,3.20,2,2367.4,2,2341.4,2,7.2668,2,25.0
  49UP20150604,RF1505,5464,1,25,  22098,2,20150615,1329,1537,50.0007,164.9800,5494, 506.8, 3.0957,34.3171,2,   -999,9, 11.3,2,139.81,2,44.76,2,0.00,2,3.18,2,2381.1,2,2364.1,2,7.2905,2,25.0
  49UP20150604,RF1505,5464,1,24,  22110,2,20150615,1329,1535,50.0007,164.9800,5494, 606.4, 2.8853,34.3651,2,34.3640,6, 14.2,2,146.69,2,44.54,2,0.00,2,3.16,2,2384.8,2,2375.1,2,7.2993,2,25.0
  49UP20150604,RF1505,5464,1,23,  22096,2,20150615,1329,1532,50.0007,164.9800,5494, 708.8, 2.7164,34.4032,2,   -999,9, 17.4,2,152.12,2,44.41,2,0.00,2,3.15,2,2388.7,2,2381.5,2,7.3162,2,25.0
  49UP20150604,RF1505,5464,1,22,  22111,2,20150615,1329,1530,50.0007,164.9800,5494, 810.4, 2.5660,34.4363,2,34.4354,2, 20.7,2,156.66,2,44.32,2,0.00,2,3.14,2,2393.2,2,2387.4,2,7.3258,2,25.0
  49UP20150604,RF1505,5464,1,21,  22078,2,20150615,1329,1527,50.0007,164.9800,5494, 912.7, 2.4533,34.4611,2,   -999,9, 24.2,2,159.87,2,44.20,2,0.00,2,3.13,2,2395.4,6,2392.6,6,7.3335,2,25.0
  49UP20150604,RF1505,5464,1,20,  22093,2,20150615,1329,1522,50.0007,164.9800,5494,1013.5, 2.3473,34.4849,2,34.4866,2, 28.0,2,162.63,2,43.95,2,0.00,2,3.11,2,2403.3,2,2396.9,2,7.3401,6,25.0
  49UP20150604,RF1505,5464,1,19,  22092,4,20150615,1329,1517,50.0007,164.9800,5494,1216.4, 2.1793,34.5225,2,   -999,9, -999,9,-999.0,9, -999,9,-999,9,-999,9,-999.0,9,-999.0,9,-999.0,9,-999
  49UP20150604,RF1505,5464,1,18,  22101,2,20150615,1329,1512,50.0007,164.9800,5494,1417.4, 2.0302,34.5552,2,34.5553,6, 48.8,2,169.33,2,42.73,2,0.00,2,3.01,2,2390.3,2,2408.4,2,7.3860,2,25.0
  49UP20150604,RF1505,5464,1,17,  22090,2,20150615,1329,1507,50.0007,164.9800,5494,1622.1, 1.9227,34.5785,2,34.5786,2, 59.6,6,170.66,6,42.15,6,0.00,6,2.97,6,2382.8,2,2409.9,2,7.4090,2,25.0
  49UP20150604,RF1505,5464,1,16,  22089,3,20150615,1329,1500,50.0007,164.9800,5494,1826.5, 1.8108,34.6011,2,34.6012,2, 72.1,2,171.90,2,41.33,2,0.00,2,2.92,2,2377.5,2,2413.9,2,7.4345,2,25.0
  49UP20150604,RF1505,5464,1,15,  22088,2,20150615,1329,1456,50.0007,164.9800,5494,2029.2, 1.7323,34.6176,2,34.6172,2, 82.7,2,171.49,2,40.62,2,0.00,2,2.87,2,2373.9,2,2416.3,2,7.4574,2,25.0
  49UP20150604,RF1505,5464,1,14,  21999,2,20150615,1329,1449,50.0007,164.9800,5494,2282.4, 1.6562,34.6336,2,   -999,9, 96.2,2,170.01,2,39.79,2,0.00,2,2.80,2,2369.1,2,2418.1,2,7.4839,2,25.0
  49UP20150604,RF1505,5464,1,13,  22667,2,20150615,1329,1440,50.0007,164.9800,5494,2538.5, 1.5993,34.6461,2,34.6467,2,107.9,2,166.67,2,39.08,2,0.00,2,2.74,2,2358.1,2,2417.1,2,7.5061,2,25.0
  49UP20150604,RF1505,5464,1,12,  22074,2,20150615,1329,1435,50.0007,164.9800,5494,2794.8, 1.5447,34.6572,2,   -999,9,119.4,2,163.11,2,38.32,2,0.00,2,2.68,2,2350.9,2,2416.5,2,7.5279,2,25.0
  49UP20150604,RF1505,5464,1,11,  24268,2,20150615,1329,1427,50.0007,164.9800,5494,3048.7, 1.5079,34.6650,2,34.6653,2,128.3,2,159.98,2,37.78,2,0.00,2,2.63,2,2344.3,6,2417.4,6,7.5451,2,25.0
  49UP20150604,RF1505,5464,1,10,  24267,2,20150615,1329,1421,50.0007,164.9800,5494,3304.4, 1.4862,34.6711,2,   -999,9,136.1,2,156.79,2,37.36,2,0.00,2,2.59,2,2338.7,2,2415.6,2,7.5584,6,25.0
  49UP20150604,RF1505,5464,1, 9,  23518,2,20150615,1329,1413,50.0007,164.9800,5494,3560.1, 1.4701,34.6757,2,34.6762,6,141.7,2,155.07,2,37.00,2,0.00,2,2.56,2,2332.7,2,2416.0,2,7.5689,2,25.0
  49UP20150604,RF1505,5464,1, 8,  22081,2,20150615,1329,1408,50.0007,164.9800,5494,3817.1, 1.4645,34.6792,2,   -999,9,146.0,2,154.00,2,36.69,2,0.00,2,2.54,2,2331.9,2,2416.2,2,7.5765,2,25.0
  49UP20150604,RF1505,5464,1, 7,  23516,2,20150615,1329,1402,50.0007,164.9800,5494,4075.5, 1.4631,34.6825,2,34.6830,6,150.2,6,152.65,6,36.39,6,0.00,6,2.51,6,2328.3,2,2416.3,2,7.5844,2,25.0
  49UP20150604,RF1505,5464,1, 6,  22113,2,20150615,1329,1357,50.0007,164.9800,5494,4332.1, 1.4754,34.6843,2,34.6855,2,152.8,2,152.46,2,36.27,2,0.00,2,2.50,2,2329.3,2,2415.2,2,7.5851,2,25.0
  49UP20150604,RF1505,5464,1, 5,  22094,2,20150615,1329,1352,50.0007,164.9800,5494,4588.7, 1.4893,34.6862,2,34.6857,2,154.9,2,151.80,2,36.06,2,0.00,2,2.49,2,2326.9,2,2416.8,2,7.5908,2,25.0
  49UP20150604,RF1505,5464,1, 4,  22077,2,20150615,1329,1346,50.0007,164.9800,5494,4847.1, 1.5069,34.6876,2,34.6871,2,157.0,2,151.87,2,35.97,2,0.00,2,2.48,2,2327.6,2,2414.6,2,7.5919,2,25.0
  49UP20150604,RF1505,5464,1, 3,  22104,2,20150615,1329,1340,50.0007,164.9800,5494,5105.7, 1.5313,34.6888,2,34.6884,2,157.4,2,152.26,2,35.90,2,0.00,2,2.48,2,2326.8,6,2415.6,6,7.5951,2,25.0
  49UP20150604,RF1505,5464,1, 2,  22075,2,20150615,1329,1335,50.0007,164.9800,5494,5364.2, 1.5611,34.6892,2,34.6883,2,158.4,2,151.23,2,35.94,2,0.00,2,2.47,2,2322.7,2,2416.1,2,7.5969,6,25.0
  49UP20150604,RF1505,5464,1, 1,  21997,2,20150615,1329,1329,50.0007,164.9800,5494,5617.1, 1.5876,34.6902,2,34.6893,2,159.4,6,149.87,6,35.77,6,0.00,6,2.47,6,2321.7,2,2413.6,2,7.5939,2,25.0
  49UP20150604,RF1505,5465,1, 0,    BUC,2,20150616,0230,0318,48.4750,162.5203,5686,   0.0, 5.4499,32.8126,2,   -999,9,330.0,2, 26.03,2,15.11,2,0.20,2,1.36,2,-999.0,9,-999.0,9,-999.0,9,-999
  49UP20150604,RF1505,5465,1,36,  22109,2,20150616,0230,0340,48.4750,162.5203,5686,  10.8, 5.4549,32.8119,2,   -999,9,331.6,2, 26.13,2,15.10,2,0.21,2,1.36,2,-999.0,9,-999.0,9,-999.0,9,-999
  49UP20150604,RF1505,5465,1,35,  22112,2,20150616,0230,0339,48.4750,162.5203,5686,  26.2, 5.0432,32.8118,2,   -999,9,328.4,2, 26.44,2,15.48,2,0.20,2,1.39,2,-999.0,9,-999.0,9,-999.0,9,-999
  49UP20150604,RF1505,5465,1,34,  22083,2,20150616,0230,0335,48.4750,162.5203,5686,  51.8, 3.1060,32.8675,2,   -999,9,326.0,2, 32.78,2,19.74,2,0.42,2,1.70,2,-999.0,9,-999.0,9,-999.0,9,-999
  49UP20150604,RF1505,5465,1,33,  24469,2,20150616,0230,0334,48.4750,162.5203,5686,  77.5, 2.5697,32.9204,2,   -999,9,319.2,2, 36.46,2,22.21,2,0.13,2,1.80,2,-999.0,9,-999.0,9,-999.0,9,-999
  49UP20150604,RF1505,5465,1,32,  22105,2,20150616,0230,0332,48.4750,162.5203,5686, 103.1, 3.5352,33.3133,2,   -999,9,250.4,2, 44.30,2,24.95,2,0.01,2,1.91,2,-999.0,9,-999.0,9,-999.0,9,-999
  49UP20150604,RF1505,5465,1,31,  23515,2,20150616,0230,0331,48.4750,162.5203,5686, 127.4, 3.4119,33.4769,2,   -999,9,191.8,2, 60.77,2,31.16,2,0.01,2,2.32,2,-999.0,9,-999.0,9,-999.0,9,-999
  49UP20150604,RF1505,5465,1,27,  21998,2,20150616,0230,0330,48.4750,162.5203,5686, 153.1, 2.8201,33.5272,2,   -999,9,157.9,2, 71.18,2,34.71,2,0.01,2,2.56,2,-999.0,9,-999.0,9,-999.0,9,-999
  49UP20150604,RF1505,5465,1,26,  22084,2,20150616,0230,0328,48.4750,162.5203,5686, 205.1, 2.9139,33.6589,2,   -999,9,115.1,2, 82.44,2,38.32,2,0.00,2,2.79,2,-999.0,9,-999.0,9,-999.0,9,-999
  49UP20150604,RF1505,5465,1,25,  22098,3,20150616,0230,0325,48.4750,162.5203,5686, 254.0, 3.1533,33.7879,2,   -999,9, 79.1,2, 92.09,2,40.70,2,0.00,2,2.93,2,-999.0,9,-999.0,9,-999.0,9,-999
  49UP20150604,RF1505,5465,1,23,  22096,2,20150616,0230,0323,48.4750,162.5203,5686, 304.2, 3.2952,33.8926,2,   -999,9, 53.4,2,100.50,2,42.46,2,0.00,2,3.04,2,-999.0,9,-999.0,9,-999.0,9,-999
  49UP20150604,RF1505,5465,1,24,  22110,3,20150616,0230,0323,48.4750,162.5203,5686, 304.9, 3.3103,33.8960,2,   -999,9, 53.4,2,100.64,2,42.38,2,0.00,2,3.04,2,-999.0,9,-999.0,9,-999.0,9,-999
  49UP20150604,RF1505,5465,1,22,  22111,3,20150616,0230,0320,48.4750,162.5203,5686, 405.6, 3.5750,34.0607,2,   -999,9, 21.4,6,112.94,6,44.28,6,0.00,6,3.15,6,-999.0,9,-999.0,9,-999.0,9,-999
  49UP20150604,RF1505,5465,1,18,  22101,2,20150616,0230,0317,48.4750,162.5203,5686, 506.4, 3.4622,34.1507,2,   -999,9, 20.4,2,121.21,2,43.97,2,0.00,2,3.13,2,-999.0,9,-999.0,9,-999.0,9,-999
  49UP20150604,RF1505,5465,1,17,  22090,2,20150616,0230,0314,48.4750,162.5203,5686, 608.6, 3.3180,34.2242,2,   -999,9, 15.9,2,129.75,2,44.20,2,0.00,2,3.14,2,-999.0,9,-999.0,9,-999.0,9,-999
  49UP20150604,RF1505,5465,1,16,  22089,2,20150616,0230,0311,48.4750,162.5203,5686, 708.3, 3.1421,34.2814,2,   -999,9, 16.1,2,137.28,2,44.25,2,0.00,2,3.15,2,-999.0,9,-999.0,9,-999.0,9,-999
  49UP20150604,RF1505,5465,1,15,  22088,2,20150616,0230,0308,48.4750,162.5203,5686, 809.1, 2.9757,34.3304,2,   -999,9, 16.5,2,143.47,2,44.17,2,0.00,2,3.15,2,-999.0,9,-999.0,9,-999.0,9,-999
  49UP20150604,RF1505,5465,1,14,  21999,2,20150616,0230,0304,48.4750,162.5203,5686, 910.6, 2.8221,34.3741,2,   -999,9, 16.6,2,149.30,2,44.30,2,0.00,2,3.16,2,-999.0,9,-999.0,9,-999.0,9,-999
  49UP20150604,RF1505,5465,1,13,  22667,2,20150616,0230,0259,48.4750,162.5203,5686,1012.3, 2.6483,34.4136,2,   -999,9, 21.4,2,154.60,2,44.05,2,0.00,2,3.13,2,-999.0,9,-999.0,9,-999.0,9,-999
  49UP20150604,RF1505,5465,1, 9,  23518,2,20150616,0230,0254,48.4750,162.5203,5686,1215.3, 2.3915,34.4742,2,   -999,9, 26.6,2,162.68,2,43.79,2,0.00,2,3.10,2,-999.0,9,-999.0,9,-999.0,9,-999
  49UP20150604,RF1505,5465,1, 8,  22081,2,20150616,0230,0249,48.4750,162.5203,5686,1419.5, 2.2008,34.5172,2,   -999,9, 37.1,2,168.30,2,43.13,2,0.00,2,3.07,2,-999.0,9,-999.0,9,-999.0,9,-999
  49UP20150604,RF1505,5465,1, 7,  23516,2,20150616,0230,0244,48.4750,162.5203,5686,1620.2, 2.0634,34.5506,2,   -999,9, 48.0,2,169.76,2,42.52,2,0.00,2,3.01,2,-999.0,9,-999.0,9,-999.0,9,-999
  49UP20150604,RF1505,5465,1, 5,  22094,2,20150616,0230,0235,48.4750,162.5203,5686,1824.1, 1.9285,34.5811,2,   -999,9, 61.2,2,170.99,2,41.69,2,0.00,2,2.95,2,-999.0,9,-999.0,9,-999.0,9,-999
  49UP20150604,RF1505,5465,1, 6,  22113,2,20150616,0230,0235,48.4750,162.5203,5686,1824.5, 1.9285,34.5811,2,   -999,9, 61.2,2,171.20,2,41.69,2,0.00,2,2.95,2,-999.0,9,-999.0,9,-999.0,9,-999
  49UP20150604,RF1505,5465,1, 4,  22077,2,20150616,0230,0230,48.4750,162.5203,5686,2027.7, 1.8290,34.6030,2,   -999,9, 73.8,6,170.77,6,40.99,6,0.00,6,2.90,6,-999.0,9,-999.0,9,-999.0,9,-999
  49UP20150604,RF1505,5466,1, 0,    BUC,2,20150616,1450,1644,47.0807,160.0572,5194,   0.0, 5.2848,32.7946,2,32.8000,2,328.8,2, 29.13,2,16.72,2,0.21,2,1.45,2,2079.9,2,2221.7,2,7.7565,2,25.0
  49UP20150604,RF1505,5466,1,36,  22109,2,20150616,1450,1712,47.0807,160.0572,5194,  10.6, 5.2839,32.7941,2,32.7942,2,329.4,2, 29.03,2,16.68,2,0.21,2,1.45,2,2088.8,2,2220.4,2,7.7578,2,25.0
  49UP20150604,RF1505,5466,1,35,  22112,2,20150616,1450,1711,47.0807,160.0572,5194,  26.6, 4.6862,32.7913,2,   -999,9,332.4,2, 29.08,2,16.74,2,0.20,2,1.46,2,2080.2,2,2219.2,2,7.7607,2,25.0
  49UP20150604,RF1505,5466,1,34,  22083,2,20150616,1450,1708,47.0807,160.0572,5194,  51.0, 4.3537,32.7969,2,   -999,9,327.2,2, 30.19,2,17.68,2,0.22,2,1.53,2,2088.1,2,2219.9,2,7.7334,2,25.0
  49UP20150604,RF1505,5466,1,33,  24469,2,20150616,1450,1706,47.0807,160.0572,5194,  76.3, 2.7403,32.8608,2,   -999,9,328.9,2, 34.48,2,20.62,2,0.48,2,1.74,2,2111.4,2,2222.4,2,7.6834,2,25.0
  49UP20150604,RF1505,5466,1,32,  22105,2,20150616,1450,1705,47.0807,160.0572,5194, 101.6, 2.4483,32.9634,2,32.9817,4,301.7,6, 39.10,6,23.57,6,0.01,6,1.87,6,2132.9,2,2228.9,2,7.6384,2,25.0
  49UP20150604,RF1505,5466,1,31,  23515,2,20150616,1450,1704,47.0807,160.0572,5194, 127.1, 2.5536,33.3302,2,   -999,9,196.4,2, 63.24,2,33.21,2,0.01,2,2.45,2,2217.7,2,2255.6,2,7.4591,2,25.0
  49UP20150604,RF1505,5466,1,30,  22097,2,20150616,1450,1702,47.0807,160.0572,5194, 153.4, 2.9492,33.5899,2,   -999,9,125.4,2, 79.24,2,38.51,2,0.00,2,2.77,2,2270.7,2,2275.6,2,7.3532,2,25.0
  49UP20150604,RF1505,5466,1,29,  22102,2,20150616,1450,1700,47.0807,160.0572,5194, 204.0, 3.2234,33.7609,2,33.7649,2, 71.8,2, 91.42,2,42.22,2,0.00,2,2.99,2,2311.0,2,2289.9,2,7.2861,2,25.0
  49UP20150604,RF1505,5466,1,28,  22108,2,20150616,1450,1658,47.0807,160.0572,5194, 253.3, 3.4305,33.8817,2,   -999,9, 42.2,2, 99.97,2,43.98,2,0.00,2,3.10,2,2331.4,2,2301.8,2,7.2511,2,25.0
  49UP20150604,RF1505,5466,1,27,  21998,2,20150616,1450,1656,47.0807,160.0572,5194, 304.8, 3.4971,33.9672,2,   -999,9, 48.0,2,103.89,2,42.56,2,0.00,2,3.02,2,2330.4,6,2312.0,6,7.2817,2,25.0
  49UP20150604,RF1505,5466,1,26,  22084,2,20150616,1450,1652,47.0807,160.0572,5194, 405.0, 3.4449,34.0817,2,34.0816,6, 35.8,2,114.77,2,43.09,2,0.00,2,3.06,2,2342.1,2,2329.1,2,7.2892,6,25.0
  49UP20150604,RF1505,5466,1,25,  22098,2,20150616,1450,1649,47.0807,160.0572,5194, 507.4, 3.4245,34.1897,2,   -999,9, 29.9,2,123.48,2,43.12,2,0.00,2,3.06,2,2351.3,2,2344.2,2,7.2999,2,25.0
  49UP20150604,RF1505,5466,1,24,  22110,2,20150616,1450,1646,47.0807,160.0572,5194, 607.5, 3.2085,34.2479,2,34.2468,2, 23.5,2,132.56,2,43.75,2,0.00,2,3.10,2,2367.7,2,2353.3,2,7.2985,2,25.0
  49UP20150604,RF1505,5466,1,23,  22096,2,20150616,1450,1643,47.0807,160.0572,5194, 709.2, 3.0296,34.3025,2,   -999,9, 18.9,6,140.62,6,44.10,6,0.00,6,3.13,6,2373.9,2,2363.9,2,7.3022,2,25.0
  49UP20150604,RF1505,5466,1,22,  22111,2,20150616,1450,1640,47.0807,160.0572,5194, 810.1, 2.9051,34.3463,2,34.3454,6, 17.8,2,146.10,2,44.24,2,0.00,2,3.13,2,2379.8,2,2370.7,2,7.3062,2,25.0
  49UP20150604,RF1505,5466,1,21,  22078,2,20150616,1450,1636,47.0807,160.0572,5194, 911.9, 2.7618,34.3894,2,   -999,9, 17.8,2,151.43,2,44.36,2,0.00,2,3.13,2,2384.0,2,2378.9,2,7.3119,2,25.0
  49UP20150604,RF1505,5466,1,20,  22093,2,20150616,1450,1633,47.0807,160.0572,5194,1013.3, 2.5920,34.4249,2,34.4236,2, 27.3,2,155.24,2,43.78,2,0.00,2,3.10,2,2382.8,2,2386.6,2,7.3274,2,25.0
  49UP20150604,RF1505,5466,1,19,  22092,2,20150616,1450,1628,47.0807,160.0572,5194,1216.3, 2.3281,34.4875,2,34.4856,6, 28.8,2,164.85,2,43.81,2,0.00,2,3.09,2,2394.1,2,2396.4,2,7.3410,2,25.0
  49UP20150604,RF1505,5466,1,18,  22101,2,20150616,1450,1623,47.0807,160.0572,5194,1419.2, 2.1437,34.5305,2,34.5334,4, 42.6,2,167.85,2,42.93,2,0.00,2,3.03,2,2387.2,2,2403.6,2,7.3693,2,25.0
  49UP20150604,RF1505,5466,1,17,  22090,2,20150616,1450,1618,47.0807,160.0572,5194,1621.6, 2.0113,34.5616,2,34.5627,2, 52.6,2,170.40,2,42.41,2,0.00,2,2.98,2,2384.1,6,2408.6,6,7.3953,2,25.0
  49UP20150604,RF1505,5466,1,16,  22089,2,20150616,1450,1612,47.0807,160.0572,5194,1825.2, 1.8835,34.5906,2,34.5914,2, 66.9,2,170.81,2,41.55,2,0.00,2,2.92,2,2376.2,2,2414.1,2,7.4252,6,25.0
  49UP20150604,RF1505,5466,1,15,  22088,2,20150616,1450,1607,47.0807,160.0572,5194,2029.4, 1.7847,34.6119,2,34.6123,2, 81.2,2,169.42,2,40.65,2,0.00,2,2.86,2,2372.1,2,2413.9,2,7.4521,2,25.0
  49UP20150604,RF1505,5466,1,14,  21999,2,20150616,1450,1601,47.0807,160.0572,5194,2281.0, 1.6872,34.6312,2,34.6312,6, 96.2,6,167.39,6,39.76,6,0.00,6,2.79,6,2359.8,2,2417.1,2,7.4814,2,25.0
  49UP20150604,RF1505,5466,1,13,  22667,2,20150616,1450,1554,47.0807,160.0572,5194,2538.5, 1.6042,34.6471,2,   -999,9,110.5,2,163.65,2,38.83,2,0.00,2,2.71,2,2352.8,2,2418.1,2,7.5107,2,25.0
  49UP20150604,RF1505,5466,1,12,  22074,2,20150616,1450,1548,47.0807,160.0572,5194,2792.7, 1.5479,34.6581,2,34.6587,6,122.5,2,159.39,2,38.09,2,0.00,2,2.65,2,2344.5,2,2419.0,2,7.5342,2,25.0
  49UP20150604,RF1505,5466,1,11,  24268,2,20150616,1450,1541,47.0807,160.0572,5194,3049.1, 1.5078,34.6662,2,   -999,9,131.4,2,156.77,2,37.53,2,0.00,2,2.61,2,2338.0,2,2416.9,2,7.5485,2,25.0
  49UP20150604,RF1505,5466,1,10,  24267,2,20150616,1450,1535,47.0807,160.0572,5194,3303.6, 1.4846,34.6714,2,34.6719,2,137.0,2,155.64,2,37.18,2,0.00,2,2.58,2,2334.0,2,2419.0,2,7.5567,2,25.0
  49UP20150604,RF1505,5466,1, 9,  23518,2,20150616,1450,1528,47.0807,160.0572,5194,3561.2, 1.4770,34.6752,2,   -999,9,141.5,2,154.24,2,36.91,2,0.00,2,2.55,2,2331.0,2,2418.9,2,7.5680,2,25.0
  49UP20150604,RF1505,5466,1, 8,  22081,2,20150616,1450,1523,47.0807,160.0572,5194,3817.0, 1.4656,34.6792,2,34.6795,2,146.5,2,152.91,2,36.54,2,0.00,2,2.53,2,2329.2,2,2416.3,2,7.5753,2,25.0
  49UP20150604,RF1505,5466,1, 7,  23516,2,20150616,1450,1518,47.0807,160.0572,5194,4072.6, 1.4620,34.6827,2,34.6828,2,150.6,2,151.87,2,36.31,2,0.00,2,2.50,2,2325.9,6,2416.0,6,7.5829,2,25.0
  49UP20150604,RF1505,5466,1, 6,  22113,2,20150616,1450,1511,47.0807,160.0572,5194,4329.7, 1.4689,34.6850,2,34.6852,2,153.5,2,151.31,2,36.08,2,0.00,2,2.49,2,2327.3,2,2416.9,2,7.5882,6,25.0
  49UP20150604,RF1505,5466,1, 5,  22094,2,20150616,1450,1506,47.0807,160.0572,5194,4588.3, 1.4834,34.6867,2,34.6866,6,155.4,6,151.35,6,35.93,6,0.00,6,2.48,6,2322.1,2,2415.2,2,7.5900,2,25.0
  49UP20150604,RF1505,5466,1, 3,  22104,2,20150616,1450,1500,47.0807,160.0572,5194,4845.2, 1.5042,34.6881,2,34.6877,2,156.9,2,151.30,2,35.81,2,0.00,2,2.49,2,2320.8,2,2415.0,2,7.5949,2,25.0
  49UP20150604,RF1505,5466,1, 4,  22077,2,20150616,1450,1500,47.0807,160.0572,5194,4845.3, 1.5042,34.6880,2,34.6885,2,156.9,2,151.33,2,35.83,2,0.00,2,2.47,2,2320.9,2,2416.4,2,7.5926,2,25.0
  49UP20150604,RF1505,5466,1, 2,  22075,2,20150616,1450,1454,47.0807,160.0572,5194,5103.2, 1.5258,34.6892,2,34.6919,4,158.2,2,150.64,2,35.72,2,0.00,2,2.46,2,2322.2,2,2417.0,2,7.5956,2,25.0
  49UP20150604,RF1505,5466,1, 1,  21997,2,20150616,1450,1450,47.0807,160.0572,5194,5286.3, 1.5412,34.6901,2,34.6899,2,159.0,2,149.80,2,35.60,2,0.00,2,2.46,2,2323.2,2,2415.5,2,7.5968,2,25.0