BOTTLE,20021108WHPSIOdm
EXPOCODE,SECT_ID,STNNBR,CASTNO,SAMPNO,BTLNBR,BTLNBR_FLAG_W,DATE,TIME,LATITUDE,LONGITUDE,DEPTH,CTDPRS,CTDTMP,CTDSAL,CTDSAL_FLAG_W,SALNTY,SALNTY_FLAG_W,OXYGEN,OXYGEN_FLAG_W,SILCAT,SILCAT_FLAG_W,NITRAT,NITRAT_FLAG_W,NITRIT,NITRIT_FLAG_W,PHSPHT,PHSPHT_FLAG_W,CFC-11,CFC-11_FLAG_W,CFC-12,CFC-12_FLAG_W,TRITUM,TRITUM_FLAG_W,HELIUM,HELIUM_FLAG_W,DELHE3,DELHE3_FLAG_W,DELC14,DELC14_FLAG_W,DELC13,DELC13_FLAG_W,NEON,NEON_FLAG_W,TCARBN,TCARBN_FLAG_W,ALKALI,ALKALI_FLAG_W,PH,PH_FLAG_W,CTDRAW,C14ERR,HELIER,DELHER,NEONER,THETA,TRITER
,,,,,,,,,,,,DBAR,ITS-90,PSS-78,,PSS-78,,UMOL/KG,,UMOL/KG,,UMOL/KG,,UMOL/KG,,UMOL/KG,,PMOL/KG,,PMOL/KG,,TU,,NMOL/KG,,PERCNT,,/MILLE,,/MILLE,,NMOL/KG,,UMOL/KG,,UMOL/KG,,,,DBAR,/MILLE,NMOL/KG,PERCNT,NMOL/KG,DEG C,TU
   31DSCGC91_2,  P16N,    25,  2,   3823,   1016,2,19910313,2220, 26.0040,-151.9995, 5373,    695.4,   4.5918,  34.1704,2,  34.1650,2,     33.5,2,    97.19,2,    42.41,2,     0.00,2,     3.02,2,    0.027,2,    0.018,2,    0.444,2,   1.8400,2,    11.83,2,   -999.0,9,  -999.00,9,   7.857,2,   2315.6,2,   -999.0,9,     7.32,2,   7333,  -999.0,  0.0100,   0.150,   0.042,  4.5380,   0.068
   31DSCGC91_2,  P16N,    25,  2,   3822,   1026,2,19910313,2220, 26.0040,-151.9995, 5373,    898.0,   4.1127,  34.3957,2,  34.3950,2,     29.3,2,   113.45,2,    42.82,2,     0.00,2,     3.10,2,   -0.001,2,    0.000,2,    0.009,2,   1.8640,2,    16.24,2,   -999.0,9,  -999.00,9,   7.878,2,   2343.3,2,   -999.0,9,     7.34,2,   9363,  -999.0,  0.0100,   0.150,   0.042,  4.0448,   0.047
   31DSCGC91_2,  P16N,    25,  2,   3821,   1004,2,19910313,2220, 26.0040,-151.9995, 5373,   1001.0,   3.8296,  34.4628,2,  34.4640,2,     41.0,2,   118.96,2,    42.93,2,     0.00,2,     3.04,2,    0.001,2,    0.000,2, -999.000,9,-999.0000,9,  -999.00,9,   -999.0,9,  -999.00,9,-999.000,9,   2350.3,2,   -999.0,9,     7.37,2,  10394,  -999.0,-999.0000,-999.000,-999.000,  3.7552,-999.000
   31DSCGC91_2,  P16N,    25,  2,   3819,   1031,2,19910313,2220, 26.0040,-151.9995, 5373,   1100.0,   3.6145,  34.4979,2,  34.4940,2,     46.0,2,   123.05,2,    42.64,2,     0.00,2,     3.04,2,    0.000,2,    0.000,2, -999.000,9,   1.8990,2,    20.80,2,   -999.0,9,  -999.00,9,-999.000,9,   2351.9,2,   -999.0,9,     7.38,2,  11384,  -999.0,-999.0000,-999.000,-999.000,  3.5337,-999.000
   31DSCGC91_2,  P16N,    25,  2,   3820,   1025,4,19910313,2220, 26.0040,-151.9995, 5373,   1100.0,   3.6145,  34.4979,2,  34.4920,2,     47.5,2,   122.85,2,    42.66,2,     0.00,2,     3.04,2,    0.005,2,    0.009,2, -999.000,9,   1.8900,2,    20.68,2,   -999.0,9,  -999.00,9,-999.000,9,   -999.0,9,   -999.0,9,     7.39,2,  11384,  -999.0,-999.0000,-999.000,-999.000,  3.5337,-999.000
   31DSCGC91_2,  P16N,    25,  2,   3818,   1036,2,19910313,2220, 26.0040,-151.9995, 5373,   1303.0,   3.1534,  34.5375,2,  34.5370,2,     60.1,2,   132.93,2,    41.75,2,     0.00,2,     2.99,2,    0.002,2,    0.000,2, -999.000,9,   1.8980,2,    20.99,2,   -999.0,9,  -999.00,9,-999.000,9,   2356.4,2,   -999.0,9,     7.41,2,  13414,  -999.0,-999.0000,-999.000,-999.000,  3.0602,-999.000
   31DSCGC91_2,  P16N,    25,  2,   3817,     26,2,19910313,2220, 26.0040,-151.9995, 5373,   1596.0,   2.5932,  34.5798,2,  34.5760,2,     72.6,2,   146.42,2,    41.23,2,     0.00,2,     2.92,2,   -0.004,2,    0.000,2, -999.000,9,   1.9210,2,    21.67,2,   -999.0,9,  -999.00,9,-999.000,9,   2364.2,2,   -999.0,9,     7.43,2,  16341,  -999.0,-999.0000,-999.000,-999.000,  2.4822,-999.000
   31DSCGC91_2,  P16N,    25,  2,   3816,   1037,2,19910313,2220, 26.0040,-151.9995, 5373,   1901.5,   2.1640,  34.6101,2,  34.6080,2,     84.0,2,   159.39,2,    40.84,2,     0.00,2,     2.86,2,    0.012,3,    0.000,2, -999.000,9,   1.9160,2,    21.96,2,   -999.0,9,  -999.00,9,-999.000,9,   2366.4,2,   -999.0,9,     7.45,2,  19392,  -999.0,-999.0000,-999.000,-999.000,  2.0335,-999.000
   31DSCGC91_2,  P16N,    25,  2,   3815,   1032,2,19910313,2220, 26.0040,-151.9995, 5373,   2103.1,   1.9770,  34.6247,2,  34.6240,2,     88.7,2,   165.71,2,    40.26,2,     0.00,2,     2.82,2,    0.001,2,    0.000,2, -999.000,9,   1.9140,2,    22.04,2,   -999.0,9,  -999.00,9,-999.000,9,   2367.0,2,   -999.0,9,     7.46,2,  21403,  -999.0,-999.0000,-999.000,-999.000,  1.8322,-999.000
   31DSCGC91_2,  P16N,    25,  2,   3813,   1033,2,19910313,2220, 26.0040,-151.9995, 5373,   2497.0,   1.6909,  34.6503,2,  34.6510,2,    111.3,2,   167.38,2,    38.87,2,     0.00,2,     2.72,2,    0.001,2,    0.000,2, -999.000,9,   1.9130,2,    19.97,2,   -999.0,9,  -999.00,9,-999.000,9,   2358.8,2,   -999.0,9,     7.50,2,  25332,  -999.0,-999.0000,-999.000,-999.000,  1.5166,-999.000
   31DSCGC91_2,  P16N,    25,  2,   3812,   1019,2,19910313,2220, 26.0040,-151.9995, 5373,   2805.9,   1.5919,  34.6633,2,  34.6620,2,    121.5,2,   167.80,2,    38.23,2,     0.00,2,     2.66,2,    0.005,2,    0.000,2, -999.000,9,   1.9140,2,    19.61,2,   -999.0,9,  -999.00,9,-999.000,9,   2352.7,2,   -999.0,9,     7.52,2,  28411,  -999.0,-999.0000,-999.000,-999.000,  1.3914,-999.000
   31DSCGC91_2,  P16N,    25,  2,   3811,   1041,2,19910313,2220, 26.0040,-151.9995, 5373,   3103.5,   1.5308,  34.6725,2,  34.6720,2,    130.3,2,   165.88,2,    37.78,2,     0.00,2,     2.61,2,    0.006,3,    0.000,2, -999.000,9,   1.9170,2,    18.80,2,   -999.0,9,  -999.00,9,-999.000,9,   2346.5,2,   -999.0,9,     7.54,2,  31377,  -999.0,-999.0000,-999.000,-999.000,  1.3034,-999.000
   31DSCGC91_2,  P16N,    25,  2,   3809,   1003,2,19910313,2220, 26.0040,-151.9995, 5373,   3403.3,   1.4928,  34.6776,2,  34.6770,2,    137.6,2,   163.13,2,    37.08,2,     0.00,2,     2.56,2,   -0.005,2,    0.000,2, -999.000,9,-999.0000,5,    17.96,2,   -999.0,9,  -999.00,9,-999.000,9,   2339.6,2,   -999.0,9,     7.55,2,  34365,  -999.0,-999.0000,-999.000,-999.000,  1.2367,-999.000
   31DSCGC91_2,  P16N,    25,  2,   3810,   1002,2,19910313,2220, 26.0040,-151.9995, 5373,   3407.5,   1.4928,  34.6770,2,  34.6760,2,   -999.0,9,  -999.00,9,  -999.00,9,  -999.00,9,  -999.00,9,    0.012,3,    0.000,2, -999.000,9,-999.0000,9,  -999.00,9,   -999.0,9,  -999.00,9,-999.000,9,   2339.2,2,   -999.0,9,     7.55,2,  34407,  -999.0,-999.0000,-999.000,-999.000,  1.2362,-999.000
   31DSCGC91_2,  P16N,    25,  2,   3808,      6,2,19910313,2220, 26.0040,-151.9995, 5373,   3704.0,   1.4738,  34.6812,2,  34.6820,2,    145.3,2,   160.59,2,    36.38,2,     0.00,2,     2.53,2, -999.000,5, -999.000,5, -999.000,9,   1.9090,2,    16.36,2,   -999.0,9,  -999.00,9,-999.000,9,   2334.5,2,   -999.0,9,     7.57,2,  37362,  -999.0,-999.0000,-999.000,-999.000,  1.1872,-999.000
   31DSCGC91_2,  P16N,    25,  2,   3807,   1013,2,19910313,2220, 26.0040,-151.9995, 5373,   4009.4,   1.4658,  34.6852,2,  34.6850,2,    149.4,2,   157.64,2,    36.24,2,     0.00,2,     2.48,2,   -0.002,2,    0.000,2, -999.000,9,   1.9430,3,    16.18,2,   -999.0,9,  -999.00,9,-999.000,9,   2330.6,2,   -999.0,9,     7.57,2,  40407,  -999.0,-999.0000,-999.000,-999.000,  1.1468,-999.000
   31DSCGC91_2,  P16N,    25,  2,   3806,   1012,2,19910313,2220, 26.0040,-151.9995, 5373,   4308.1,   1.4648,  34.6876,2,  34.6870,2,    153.5,2,   154.69,2,    35.79,2,     0.00,2,     2.47,2,   -0.008,3,    0.000,2, -999.000,9,   1.9160,2,    15.44,2,   -999.0,9,  -999.00,9,-999.000,9,   2325.9,2,   -999.0,9,     7.58,2,  43387,  -999.0,-999.0000,-999.000,-999.000,  1.1127,-999.000
   31DSCGC91_2,  P16N,    25,  2,   3805,   1007,2,19910313,2220, 26.0040,-151.9995, 5373,   4607.4,   1.4668,  34.6896,2,  34.6900,2,    158.6,2,   150.71,2,    35.28,2,     0.00,2,     2.44,2,    0.001,2,    0.008,3, -999.000,9,   1.9070,2,    15.07,2,   -999.0,9,  -999.00,9,-999.000,9,   2321.7,2,   -999.0,9,     7.59,2,  46374,  -999.0,-999.0000,-999.000,-999.000,  1.0803,-999.000
   31DSCGC91_2,  P16N,    25,  2,   3803,   1029,4,19910313,2220, 26.0040,-151.9995, 5373,   4805.1,   1.4738,  34.6902,2,  34.6910,2,    161.3,2,   148.39,2,    35.25,2,     0.00,2,     2.43,2,    0.000,2,    0.014,3, -999.000,9,   1.8900,2,    15.36,2,   -999.0,9,  -999.00,9,-999.000,9,   -999.0,9,   -999.0,9,     7.59,2,  48349,  -999.0,-999.0000,-999.000,-999.000,  1.0638,-999.000
   31DSCGC91_2,  P16N,    25,  2,   3804,   1038,2,19910313,2220, 26.0040,-151.9995, 5373,   4805.1,   1.4738,  34.6902,2,  34.6920,2,    161.0,2,   148.40,2,    35.07,2,     0.00,2,     2.43,2,    0.014,4,    0.007,3, -999.000,9,   1.9140,2,    15.25,2,   -999.0,9,  -999.00,9,-999.000,9,   2316.6,2,   -999.0,9,     7.59,2,  48349,  -999.0,-999.0000,-999.000,-999.000,  1.0638,-999.000
   31DSCGC91_2,  P16N,    25,  2,   3802,   1028,2,19910313,2220, 26.0040,-151.9995, 5373,   5205.8,   1.4908,  34.6923,2,  34.6930,2,    166.2,2,   144.42,2,    34.98,2,     0.00,2,     2.39,2,    0.004,2,    0.007,3, -999.000,9,   1.9070,2,    14.51,2,   -999.0,9,  -999.00,9,-999.000,9,   2311.9,2,   -999.0,9,     7.59,2,  52354,  -999.0,-999.0000,-999.000,-999.000,  1.0315,-999.000
   31DSCGC91_2,  P16N,    25,  2,   3801,   1017,2,19910313,2220, 26.0040,-151.9995, 5373,   5409.5,   1.5138,  34.6910,2,  34.6930,2,    169.0,2,   144.00,2,    34.97,2,     0.00,2,     2.40,2,    0.000,2,    0.009,3, -999.000,9,-999.0000,9,  -999.00,9,   -999.0,9,  -999.00,9,-999.000,9,   2310.9,2,   -999.0,9,     7.60,2,  54392,  -999.0,-999.0000,-999.000,-999.000,  1.0282,-999.000
   31DSCGC91_2,  P16N,    26,  1,   3922,   1026,2,19910314,0725, 26.6658,-152.0007, 5428,     50.9,  20.2107,  35.3640,2,  35.3690,2,    224.4,2,     2.87,2,     0.01,2,     0.00,2,     0.05,2,    2.353,2,    1.195,2, -999.000,9,-999.0000,9,  -999.00,9,   -999.0,9,  -999.00,9,-999.000,9,   2009.3,2,   -999.0,9,  -999.00,9,    864,  -999.0,-999.0000,-999.000,-999.000, 20.2012,-999.000
   31DSCGC91_2,  P16N,    26,  1,   3920,   1025,4,19910314,0725, 26.6658,-152.0007, 5428,     74.0,  20.2027,  35.3625,2,  35.3670,2,    224.4,2,     2.65,2,     0.01,2,     0.00,2,     0.05,2,    2.384,2,    1.224,2, -999.000,9,-999.0000,9,  -999.00,9,   -999.0,9,  -999.00,9,-999.000,9,   -999.0,9,   -999.0,9,  -999.00,9,   1096,  -999.0,-999.0000,-999.000,-999.000, 20.1889,-999.000
   31DSCGC91_2,  P16N,    26,  1,   3921,   1004,2,19910314,0725, 26.6658,-152.0007, 5428,     74.0,  20.2027,  35.3625,2,  35.3670,2,    224.3,2,     2.66,2,     0.01,2,     0.00,2,     0.05,2,    2.381,2,    1.219,2, -999.000,9,-999.0000,9,  -999.00,9,   -999.0,9,  -999.00,9,-999.000,9,   2009.0,2,   -999.0,9,  -999.00,9,   1096,  -999.0,-999.0000,-999.000,-999.000, 20.1889,-999.000
   31DSCGC91_2,  P16N,    26,  1,   3918,   1036,4,19910314,0725, 26.6658,-152.0007, 5428,    151.3,  16.6416,  34.7986,2,  34.8000,2,    204.9,2,     4.61,2,     3.17,2,     0.01,2,     0.31,2,    2.579,2,    1.250,2, -999.000,9,-999.0000,9,  -999.00,9,   -999.0,9,  -999.00,9,-999.000,9,   -999.0,9,   -999.0,9,  -999.00,9,   1873,  -999.0,-999.0000,-999.000,-999.000, 16.6170,-999.000
   31DSCGC91_2,  P16N,    26,  1,   3919,   1031,2,19910314,0725, 26.6658,-152.0007, 5428,    151.3,  16.6416,  34.7986,2,  34.8010,2,    205.6,2,     4.42,2,     3.05,2,     0.01,2,     0.31,2,    2.552,2,    1.280,2, -999.000,9,-999.0000,9,  -999.00,9,   -999.0,9,  -999.00,9,-999.000,9,   2037.1,2,   -999.0,9,  -999.00,9,   1873,  -999.0,-999.0000,-999.000,-999.000, 16.6170,-999.000
   31DSCGC91_2,  P16N,    26,  1,   3917,     26,2,19910314,0725, 26.6658,-152.0007, 5428,    301.6,  10.5227,  34.1503,2,  34.1430,2,    210.0,2,    15.70,2,    13.85,2,     0.00,2,     1.00,2,    2.600,2,    1.237,2, -999.000,9,-999.0000,9,  -999.00,9,   -999.0,9,  -999.00,9,-999.000,9,   2081.7,2,   -999.0,9,  -999.00,9,   3382,  -999.0,-999.0000,-999.000,-999.000, 10.4867,-999.000
   31DSCGC91_2,  P16N,    26,  1,   3916,   1037,2,19910314,0725, 26.6658,-152.0007, 5428,    399.4,   8.5911,  34.0651,2,  34.0640,2,    185.0,2,    28.97,2,    20.58,2,     0.00,2,     1.46,2,    1.944,2,    0.921,2, -999.000,9,-999.0000,9,  -999.00,9,   -999.0,9,  -999.00,9,-999.000,9,   2128.7,2,   -999.0,9,  -999.00,9,   4365,  -999.0,-999.0000,-999.000,-999.000,  8.5489,-999.000
   31DSCGC91_2,  P16N,    26,  1,   3915,   1032,2,19910314,0725, 26.6658,-152.0007, 5428,    499.5,   6.6755,  34.0106,2,  34.0090,2,    126.4,2,    51.81,2,    30.31,2,     0.00,2,     2.12,2,    0.905,2,    0.438,2, -999.000,9,-999.0000,9,  -999.00,9,   -999.0,9,  -999.00,9,-999.000,9,   2200.2,2,   -999.0,9,  -999.00,9,   5369,  -999.0,-999.0000,-999.000,-999.000,  6.6296,-999.000
   31DSCGC91_2,  P16N,    26,  1,   3914,      4,3,19910314,0725, 26.6658,-152.0007, 5428,    600.4,   5.2850,  34.0640,2,  34.0590,2,     62.1,2,    78.00,2,    38.35,2,     0.00,2,     2.72,2,    0.204,2,    0.115,2, -999.000,9,-999.0000,9,  -999.00,9,   -999.0,9,  -999.00,9,-999.000,9,   -999.0,9,   -999.0,9,  -999.00,9,   6380,  -999.0,-999.0000,-999.000,-999.000,  5.2359,-999.000
   31DSCGC91_2,  P16N,    26,  1,   3913,   1033,2,19910314,0725, 26.6658,-152.0007, 5428,    700.7,   4.5848,  34.1610,2,  34.1570,2,     30.8,2,    97.52,2,    41.94,2,     0.00,2,     3.00,2,    0.039,2,    0.023,2, -999.000,9,-999.0000,9,  -999.00,9,   -999.0,9,  -999.00,9,-999.000,9,   2314.1,2,   -999.0,9,  -999.00,9,   7385,  -999.0,-999.0000,-999.000,-999.000,  4.5306,-999.000
   31DSCGC91_2,  P16N,    26,  1,   3912,   1019,2,19910314,0725, 26.6658,-152.0007, 5428,    898.8,   4.1167,  34.3818,2,  34.8090,4,   -999.0,9,    65.86,4,    25.12,4,     0.00,4,     1.79,4, -999.000,9, -999.000,9, -999.000,9,-999.0000,9,  -999.00,9,   -999.0,9,  -999.00,9,-999.000,9,   -999.0,9,   -999.0,9,  -999.00,9,   9371,  -999.0,-999.0000,-999.000,-999.000,  4.0487,-999.000
   31DSCGC91_2,  P16N,    26,  1,   3911,   1041,2,19910314,0725, 26.6658,-152.0007, 5428,   1148.7,   3.3974,  34.5022,2,  34.4990,2,     44.3,2,   129.26,2,    42.33,2,     0.00,2,     3.00,2,    0.002,2,    0.000,2, -999.000,9,-999.0000,9,  -999.00,9,   -999.0,9,  -999.00,9,-999.000,9,   2354.4,2,   -999.0,9,  -999.00,9,  11871,  -999.0,-999.0000,-999.000,-999.000,  3.3146,-999.000
   31DSCGC91_2,  P16N,    26,  1,   3910,   1002,2,19910314,0725, 26.6658,-152.0007, 5428,   1398.6,   2.9213,  34.5503,2,  34.5460,2,     57.1,2,   139.75,2,    41.71,2,     0.00,2,     2.96,2,    0.000,2,    0.000,2, -999.000,9,-999.0000,9,  -999.00,9,   -999.0,9,  -999.00,9,-999.000,9,   2358.3,2,   -999.0,9,  -999.00,9,  14370,  -999.0,-999.0000,-999.000,-999.000,  2.8227,-999.000
   31DSCGC91_2,  P16N,    26,  1,   3909,   1003,2,19910314,0725, 26.6658,-152.0007, 5428,   1699.6,   2.4041,  34.5891,2,  34.5870,2,     69.3,2,   154.05,2,    41.27,2,     0.00,2,     2.90,2, -999.000,9, -999.000,9, -999.000,9,-999.0000,9,  -999.00,9,   -999.0,9,  -999.00,9,-999.000,9,   2364.5,2,   -999.0,9,  -999.00,9,  17377,  -999.0,-999.0000,-999.000,-999.000,  2.2870,-999.000
   31DSCGC91_2,  P16N,    26,  1,   3908,      6,2,19910314,0725, 26.6658,-152.0007, 5428,   1998.6,   2.0360,  34.6179,2,  34.6160,2,     81.9,2,   165.12,2,    40.65,2,     0.00,2,     2.84,2, -999.000,9, -999.000,9, -999.000,9,-999.0000,9,  -999.00,9,   -999.0,9,  -999.00,9,-999.000,9,   2367.6,2,   -999.0,9,  -999.00,9,  20361,  -999.0,-999.0000,-999.000,-999.000,  1.8992,-999.000
   31DSCGC91_2,  P16N,    26,  1,   3907,   1013,2,19910314,0725, 26.6658,-152.0007, 5428,   2500.4,   1.6909,  34.6499,2,  34.6490,2,    104.1,2,   170.55,2,    38.95,2,     0.00,2,     2.71,2, -999.000,9, -999.000,9, -999.000,9,-999.0000,9,  -999.00,9,   -999.0,9,  -999.00,9,-999.000,9,   2358.4,2,   -999.0,9,  -999.00,9,  25366,  -999.0,-999.0000,-999.000,-999.000,  1.5163,-999.000
   31DSCGC91_2,  P16N,    26,  1,   3906,   1012,2,19910314,0725, 26.6658,-152.0007, 5428,   3003.0,   1.5499,  34.6699,2,  34.6670,2,    123.6,2,   167.09,2,    37.89,2,     0.00,2,     2.62,2, -999.000,9, -999.000,9, -999.000,9,-999.0000,9,  -999.00,9,   -999.0,9,  -999.00,9,-999.000,9,   2346.6,2,   -999.0,9,  -999.00,9,  30375,  -999.0,-999.0000,-999.000,-999.000,  1.3317,-999.000
   31DSCGC91_2,  P16N,    26,  1,   3905,   1007,2,19910314,0725, 26.6658,-152.0007, 5428,   3505.7,   1.4978,  34.6786,2,  34.6770,2,    135.4,2,   164.29,2,    37.09,2,     0.00,2,     2.56,2, -999.000,9, -999.000,9, -999.000,9,-999.0000,9,  -999.00,9,   -999.0,9,  -999.00,9,-999.000,9,   2339.6,2,   -999.0,9,  -999.00,9,  35385,  -999.0,-999.0000,-999.000,-999.000,  1.2311,-999.000
   31DSCGC91_2,  P16N,    26,  1,   3903,   1029,4,19910314,0725, 26.6658,-152.0007, 5428,   4007.1,   1.4738,  34.6838,2,  34.6830,2,    145.1,2,   159.53,2,    35.92,2,     0.00,2,     2.50,2, -999.000,9, -999.000,9, -999.000,9,-999.0000,9,  -999.00,9,   -999.0,9,  -999.00,9,-999.000,9,   -999.0,9,   -999.0,9,  -999.00,9,  40384,  -999.0,-999.0000,-999.000,-999.000,  1.1548,-999.000
   31DSCGC91_2,  P16N,    26,  1,   3904,   1038,2,19910314,0725, 26.6658,-152.0007, 5428,   4007.1,   1.4738,  34.6838,2,  34.6830,2,    146.1,2,   159.60,2,    36.28,2,     0.00,2,     2.51,2, -999.000,9, -999.000,9, -999.000,9,-999.0000,9,  -999.00,9,   -999.0,9,  -999.00,9,-999.000,9,   2329.2,2,   -999.0,9,  -999.00,9,  40384,  -999.0,-999.0000,-999.000,-999.000,  1.1548,-999.000
   31DSCGC91_2,  P16N,    26,  1,   3902,   1028,2,19910314,0725, 26.6658,-152.0007, 5428,   5007.3,   1.4878,  34.6914,2,  34.6910,2,    159.6,2,   147.77,2,    34.62,2,     0.00,2,     2.42,2, -999.000,9, -999.000,9, -999.000,9,-999.0000,9,  -999.00,9,   -999.0,9,  -999.00,9,-999.000,9,   2313.7,2,   -999.0,9,  -999.00,9,  50369,  -999.0,-999.0000,-999.000,-999.000,  1.0530,-999.000
   31DSCGC91_2,  P16N,    26,  1,   3901,   1017,2,19910314,0725, 26.6658,-152.0007, 5428,   5487.7,   1.5288,  34.6923,2,  34.6920,2,    163.2,2,   145.22,2,    34.08,2,     0.00,2,     2.40,2, -999.000,9, -999.000,9, -999.000,9,-999.0000,9,  -999.00,9,   -999.0,9,  -999.00,9,-999.000,9,   2311.3,2,   -999.0,9,  -999.00,9,  55176,  -999.0,-999.0000,-999.000,-999.000,  1.0327,-999.000