BOTTLE,20021108WHPSIOdm
EXPOCODE,SECT_ID,STNNBR,CASTNO,SAMPNO,BTLNBR,BTLNBR_FLAG_W,DATE,TIME,LATITUDE,LONGITUDE,DEPTH,CTDPRS,CTDTMP,CTDSAL,CTDSAL_FLAG_W,SALNTY,SALNTY_FLAG_W,OXYGEN,OXYGEN_FLAG_W,SILCAT,SILCAT_FLAG_W,NITRAT,NITRAT_FLAG_W,NITRIT,NITRIT_FLAG_W,PHSPHT,PHSPHT_FLAG_W,CFC-11,CFC-11_FLAG_W,CFC-12,CFC-12_FLAG_W,TRITUM,TRITUM_FLAG_W,HELIUM,HELIUM_FLAG_W,DELHE3,DELHE3_FLAG_W,DELC14,DELC14_FLAG_W,DELC13,DELC13_FLAG_W,NEON,NEON_FLAG_W,TCARBN,TCARBN_FLAG_W,ALKALI,ALKALI_FLAG_W,PH,PH_FLAG_W,CTDRAW,C14ERR,HELIER,DELHER,NEONER,THETA,TRITER
,,,,,,,,,,,,DBAR,ITS-90,PSS-78,,PSS-78,,UMOL/KG,,UMOL/KG,,UMOL/KG,,UMOL/KG,,UMOL/KG,,PMOL/KG,,PMOL/KG,,TU,,NMOL/KG,,PERCNT,,/MILLE,,/MILLE,,NMOL/KG,,UMOL/KG,,UMOL/KG,,,,DBAR,/MILLE,NMOL/KG,PERCNT,NMOL/KG,DEG C,TU
   31DSCGC91_2,  P16N,    21,  1,   3224,   1027,2,19910311,1030, 22.6775,-151.9918, 5576,      6.0,  22.9475,  34.9949,2,  34.9920,2,    215.8,2,     2.21,2,     0.00,2,     0.01,2,     0.11,2,    2.033,2,    1.078,2, -999.000,9,-999.0000,9,  -999.00,9,   -999.0,9,  -999.00,9,-999.000,9,   1965.3,2,   -999.0,9,  -999.00,9,    413,  -999.0,-999.0000,-999.000,-999.000, 22.9463,-999.000
   31DSCGC91_2,  P16N,    21,  1,   3223,   1016,2,19910311,1030, 22.6775,-151.9918, 5576,     27.9,  22.9525,  34.9959,2,  34.9930,2,    215.1,2,     2.20,2,     0.00,2,     0.00,2,     0.12,2,    2.003,2,    1.083,2, -999.000,9,-999.0000,9,  -999.00,9,   -999.0,9,  -999.00,9,-999.000,9,   1969.2,2,   -999.0,9,  -999.00,9,    633,  -999.0,-999.0000,-999.000,-999.000, 22.9469,-999.000
   31DSCGC91_2,  P16N,    21,  1,   3222,   1026,2,19910311,1030, 22.6775,-151.9918, 5576,     49.1,  22.9505,  34.9936,2,  34.9910,2,    216.3,2,     2.00,2,     0.00,2,     0.00,2,     0.11,2,    1.987,2,    1.072,2, -999.000,9,-999.0000,9,  -999.00,9,   -999.0,9,  -999.00,9,-999.000,9,   1963.9,2,   -999.0,9,  -999.00,9,    846,  -999.0,-999.0000,-999.000,-999.000, 22.9406,-999.000
   31DSCGC91_2,  P16N,    21,  1,   3221,   1004,2,19910311,1030, 22.6775,-151.9918, 5576,     79.0,  22.9615,  34.9941,2,  34.9910,2,    216.5,2,     2.00,2,     0.00,2,     0.00,2,     0.11,2,    2.022,2,    1.083,2, -999.000,9,-999.0000,9,  -999.00,9,   -999.0,9,  -999.00,9,-999.000,9,   1968.9,2,   -999.0,9,  -999.00,9,   1147,  -999.0,-999.0000,-999.000,-999.000, 22.9454,-999.000
   31DSCGC91_2,  P16N,    21,  1,   3220,   1025,2,19910311,1030, 22.6775,-151.9918, 5576,     99.9,  22.8235,  35.0349,2,  34.9910,3,    215.3,3,     2.00,3,     0.00,3,     0.00,3,     0.10,3,    2.032,2,    1.080,2, -999.000,9,-999.0000,9,  -999.00,9,   -999.0,9,  -999.00,9,-999.000,9,   1970.4,2,   -999.0,9,  -999.00,9,   1357,  -999.0,-999.0000,-999.000,-999.000, 22.8032,-999.000
   31DSCGC91_2,  P16N,    21,  1,   3218,   1036,4,19910311,1030, 22.6775,-151.9918, 5576,    147.3,  19.7335,  35.1276,2,  35.1340,2,    198.9,2,     2.60,2,     0.96,2,     0.07,2,     0.20,2,    2.271,6,    1.176,6, -999.000,9,-999.0000,9,  -999.00,9,   -999.0,9,  -999.00,9,-999.000,9,   -999.0,9,   -999.0,9,  -999.00,9,   1833,  -999.0,-999.0000,-999.000,-999.000, 19.7066,-999.000
   31DSCGC91_2,  P16N,    21,  1,   3219,   1031,2,19910311,1030, 22.6775,-151.9918, 5576,    147.3,  19.7335,  35.1276,2,  35.1350,2,    200.2,2,     2.40,2,     0.91,2,     0.07,2,     0.19,2,    2.212,2,    1.165,2, -999.000,9,-999.0000,9,  -999.00,9,   -999.0,9,  -999.00,9,-999.000,9,   2026.2,2,   -999.0,9,  -999.00,9,   1833,  -999.0,-999.0000,-999.000,-999.000, 19.7066,-999.000
   31DSCGC91_2,  P16N,    21,  1,   3217,     26,2,19910311,1030, 22.6775,-151.9918, 5576,    305.2,  11.5910,  34.1990,2,  34.1990,2,    211.5,2,    11.99,2,    11.59,2,     0.00,2,     0.85,2,    2.578,2,    1.285,2, -999.000,9,-999.0000,9,  -999.00,9,   -999.0,9,  -999.00,9,-999.000,9,   2067.7,2,   -999.0,9,  -999.00,9,   3419,  -999.0,-999.0000,-999.000,-999.000, 11.5522,-999.000
   31DSCGC91_2,  P16N,    21,  1,   3216,   1037,2,19910311,1030, 22.6775,-151.9918, 5576,    398.8,   8.8531,  34.0833,2,  34.0790,2,    171.1,2,    28.78,2,    21.43,2,     0.01,2,     1.55,2,    1.607,2,    0.782,2, -999.000,9,-999.0000,9,  -999.00,9,   -999.0,9,  -999.00,9,-999.000,9,   2136.7,2,   -999.0,9,  -999.00,9,   4359,  -999.0,-999.0000,-999.000,-999.000,  8.8103,-999.000
   31DSCGC91_2,  P16N,    21,  1,   3215,   1032,2,19910311,1030, 22.6775,-151.9918, 5576,    502.5,   6.9035,  34.0761,2,  34.0730,2,     97.9,2,    54.83,2,    32.15,2,     0.01,2,     2.33,2,    0.457,2,    0.240,2, -999.000,9,-999.0000,9,  -999.00,9,   -999.0,9,  -999.00,9,-999.000,9,   2233.6,2,   -999.0,9,  -999.00,9,   5399,  -999.0,-999.0000,-999.000,-999.000,  6.8565,-999.000
   31DSCGC91_2,  P16N,    21,  1,   3214,      4,2,19910311,1030, 22.6775,-151.9918, 5576,    602.4,   5.6611,  34.1611,2,  34.1700,2,     44.5,2,    78.00,2,    38.98,2,     0.01,2,     2.83,2,    0.065,2,    0.054,2, -999.000,9,-999.0000,9,  -999.00,9,   -999.0,9,  -999.00,9,-999.000,9,   2283.7,2,   -999.0,9,  -999.00,9,   6400,  -999.0,-999.0000,-999.000,-999.000,  5.6100,-999.000
   31DSCGC91_2,  P16N,    21,  1,   3213,   1033,2,19910311,1030, 22.6775,-151.9918, 5576,    701.2,   5.1660,  34.2708,2,  34.2760,2,     29.5,2,    90.33,2,    41.00,2,     0.00,2,     3.00,2,    0.015,2,    0.016,2, -999.000,9,-999.0000,9,  -999.00,9,   -999.0,9,  -999.00,9,-999.000,9,   2286.1,3,   -999.0,9,  -999.00,9,   7390,  -999.0,-999.0000,-999.000,-999.000,  5.1085,-999.000
   31DSCGC91_2,  P16N,    21,  1,   3212,   1019,2,19910311,1030, 22.6775,-151.9918, 5576,    903.8,   4.2907,  34.4248,2,  34.4310,2,     34.7,2,   109.26,2,    41.89,2,     0.00,2,     3.06,2,   -0.003,2,    0.000,2, -999.000,9,-999.0000,9,  -999.00,9,   -999.0,9,  -999.00,9,-999.000,9,   2339.0,2,   -999.0,9,  -999.00,9,   9421,  -999.0,-999.0000,-999.000,-999.000,  4.2211,-999.000
   31DSCGC91_2,  P16N,    21,  1,   3211,   1041,2,19910311,1030, 22.6775,-151.9918, 5576,   1149.2,   3.7075,  34.5217,2,  34.5160,2,     47.1,2,   119.89,2,    42.18,2,     0.00,2,     3.06,2,    0.009,3,    0.000,2, -999.000,9,-999.0000,9,  -999.00,9,   -999.0,9,  -999.00,9,-999.000,9,   2345.4,2,   -999.0,9,  -999.00,9,  11876,  -999.0,-999.0000,-999.000,-999.000,  3.6218,-999.000
   31DSCGC91_2,  P16N,    21,  1,   3210,   1002,2,19910311,1030, 22.6775,-151.9918, 5576,   1394.7,   3.1173,  34.5606,2,  34.5560,2,     58.8,2,   133.27,2,    42.00,2,     0.00,2,     3.00,2,    0.095,4,    0.000,2, -999.000,9,-999.0000,9,  -999.00,9,   -999.0,9,  -999.00,9,-999.000,9,   2351.7,2,   -999.0,9,  -999.00,9,  14331,  -999.0,-999.0000,-999.000,-999.000,  3.0170,-999.000
   31DSCGC91_2,  P16N,    21,  1,   3209,   1003,2,19910311,1030, 22.6775,-151.9918, 5576,   1701.8,   2.5752,  34.5935,2,  34.5910,2,     74.4,2,   146.33,2,    41.16,2,     0.00,2,     2.91,2,   -0.002,2,    0.000,2, -999.000,9,-999.0000,9,  -999.00,9,   -999.0,9,  -999.00,9,-999.000,9,   2357.9,2,   -999.0,9,  -999.00,9,  17399,  -999.0,-999.0000,-999.000,-999.000,  2.4556,-999.000
   31DSCGC91_2,  P16N,    21,  1,   3208,      6,2,19910311,1030, 22.6775,-151.9918, 5576,   2006.9,   2.1660,  34.6185,2,  34.6170,2,     89.2,2,   156.33,2,    40.04,2,     0.00,2,     2.82,2,    0.005,2,    0.000,2, -999.000,9,-999.0000,9,  -999.00,9,   -999.0,9,  -999.00,9,-999.000,9,   2357.0,2,   -999.0,9,  -999.00,9,  20444,  -999.0,-999.0000,-999.000,-999.000,  2.0265,-999.000
   31DSCGC91_2,  P16N,    21,  1,   3207,   1013,2,19910311,1030, 22.6775,-151.9918, 5576,   2445.2,   1.7979,  34.6505,2,  34.6450,2,    104.8,2,   164.05,2,    39.21,2,     0.00,2,     2.73,2,    0.000,2,    0.000,2, -999.000,9,-999.0000,9,  -999.00,9,   -999.0,9,  -999.00,9,-999.000,9,   2353.4,2,   -999.0,9,  -999.00,9,  24816,  -999.0,-999.0000,-999.000,-999.000,  1.6263,-999.000
   31DSCGC91_2,  P16N,    21,  1,   3206,   1012,2,19910311,1030, 22.6775,-151.9918, 5576,   3002.1,   1.6109,  34.6667,2,  34.6640,2,    122.6,2,   165.44,2,    38.15,2,     0.00,2,     2.64,2,    0.005,2,    0.000,2, -999.000,9,-999.0000,9,  -999.00,9,   -999.0,9,  -999.00,9,-999.000,9,   2345.8,2,   -999.0,9,  -999.00,9,  30367,  -999.0,-999.0000,-999.000,-999.000,  1.3914,-999.000
   31DSCGC91_2,  P16N,    21,  1,   3205,   1007,2,19910311,1030, 22.6775,-151.9918, 5576,   3506.9,   1.5168,  34.6775,2,  34.6760,2,    135.7,2,   164.51,2,    37.04,2,     0.00,2,     2.56,2,    0.013,4,    0.010,3, -999.000,9,-999.0000,9,  -999.00,9,   -999.0,9,  -999.00,9,-999.000,9,   2339.4,2,   -999.0,9,  -999.00,9,  35397,  -999.0,-999.0000,-999.000,-999.000,  1.2496,-999.000
   31DSCGC91_2,  P16N,    21,  1,   3204,   1038,2,19910311,1030, 22.6775,-151.9918, 5576,   4003.3,   1.4778,  34.6848,2,  34.6840,2,    146.7,2,   158.92,2,    36.34,2,     0.00,2,     2.51,2,    0.021,4,    0.020,3, -999.000,9,-999.0000,9,  -999.00,9,   -999.0,9,  -999.00,9,-999.000,9,   2327.6,2,   -999.0,9,  -999.00,9,  40346,  -999.0,-999.0000,-999.000,-999.000,  1.1591,-999.000
   31DSCGC91_2,  P16N,    21,  1,   3203,   1029,2,19910311,1030, 22.6775,-151.9918, 5576,   4501.4,   1.4618,  34.6888,2,  34.6870,2,    161.0,2,   151.48,2,    35.64,2,     0.00,2,     2.45,2,    0.022,4,    0.000,2, -999.000,9,-999.0000,9,  -999.00,9,   -999.0,9,  -999.00,9,-999.000,9,   2318.3,2,   -999.0,9,  -999.00,9,  45316,  -999.0,-999.0000,-999.000,-999.000,  1.0878,-999.000
   31DSCGC91_2,  P16N,    21,  1,   3202,   1028,2,19910311,1030, 22.6775,-151.9918, 5576,   5008.7,   1.4608,  34.6937,2,  34.6930,2,    166.9,2,   145.13,2,    35.06,2,     0.00,2,     2.40,2,    0.032,4,    0.011,3, -999.000,9,-999.0000,9,  -999.00,9,   -999.0,9,  -999.00,9,-999.000,9,   2306.7,2,   -999.0,9,  -999.00,9,  50382,  -999.0,-999.0000,-999.000,-999.000,  1.0267,-999.000
   31DSCGC91_2,  P16N,    21,  1,   3201,   1017,2,19910311,1030, 22.6775,-151.9918, 5576,   5501.6,   1.5088,  34.6948,2,  34.6930,2,    169.8,2,   142.76,2,    34.89,2,     0.00,2,     2.38,2,    0.021,4,    0.000,2, -999.000,9,-999.0000,9,  -999.00,9,   -999.0,9,  -999.00,9,-999.000,9,   2303.9,2,   -999.0,9,  -999.00,9,  55315,  -999.0,-999.0000,-999.000,-999.000,  1.0116,-999.000
   31DSCGC91_2,  P16N,    22,  1,   3323,   1016,2,19910312,0452, 23.9973,-151.9793, 5617,    998.3,   3.6925,  34.4464,2,  34.4460,2,     33.4,2,   124.03,2,    43.23,2,     0.00,2,     3.08,2,    0.012,2,    0.025,4, -999.000,9,   1.8800,2,    18.38,2,   -999.0,9,  -999.00,9,-999.000,9,   2348.7,2,   -999.0,9,     7.36,2,  10366,  -999.0,-999.0000,-999.000,-999.000,  3.6195,-999.000
   31DSCGC91_2,  P16N,    22,  1,   3321,   1004,4,19910312,0452, 23.9973,-151.9793, 5617,   1096.3,   3.4775,  34.5008,2,  34.4970,2,     46.4,2,   126.84,2,    42.59,2,     0.00,2,     3.02,2,    0.000,2,    0.000,2, -999.000,9,-999.0000,5,    19.90,2,   -999.0,9,  -999.00,9,-999.000,9,   -999.0,9,   -999.0,9,     7.39,2,  11346,  -999.0,-999.0000,-999.000,-999.000,  3.3981,-999.000
   31DSCGC91_2,  P16N,    22,  1,   3322,   1026,2,19910312,0452, 23.9973,-151.9793, 5617,   1096.3,   3.4775,  34.5008,2,  34.4970,2,     46.9,2,   126.87,2,    42.56,2,     0.00,2,     3.02,2,    0.006,3,    0.012,3, -999.000,9,   1.8890,2,    20.04,2,   -999.0,9,  -999.00,9,-999.000,9,   2346.7,2,   -999.0,9,     7.39,2,  11346,  -999.0,-999.0000,-999.000,-999.000,  3.3981,-999.000
   31DSCGC91_2,  P16N,    22,  1,   3320,   1025,4,19910312,0452, 23.9973,-151.9793, 5617,   1298.9,   3.0423,  34.5438,2,  34.5430,2,     58.0,2,   136.69,2,    41.98,2,     0.00,2,     2.97,2,    0.011,3,    0.020,3, -999.000,9,   1.9000,2,    20.86,2,   -999.0,9,  -999.00,9,-999.000,9,   -999.0,9,   -999.0,9,     7.41,2,  13373,  -999.0,-999.0000,-999.000,-999.000,  2.9506,-999.000
   31DSCGC91_2,  P16N,    22,  1,   3318,   1036,4,19910312,0452, 23.9973,-151.9793, 5617,   1901.4,   2.1741,  34.6130,2,  34.6140,2,     84.4,2,   157.42,2,    40.70,2,     0.00,2,     2.84,2,    0.010,2,    0.000,2, -999.000,9,   1.9080,2,    21.79,2,   -999.0,9,  -999.00,9,-999.000,9,   -999.0,9,   -999.0,9,     7.46,2,  19391,  -999.0,-999.0000,-999.000,-999.000,  2.0433,-999.000
   31DSCGC91_2,  P16N,    22,  1,   3319,   1031,2,19910312,0452, 23.9973,-151.9793, 5617,   1901.4,   2.1741,  34.6130,2,  34.6130,2,     84.4,2,   157.24,2,    40.72,2,     0.00,2,     2.84,2,    0.001,2,    0.012,3, -999.000,9,   1.9080,2,    21.91,2,   -999.0,9,  -999.00,9,-999.000,9,   -999.0,9,   -999.0,9,     7.46,2,  19391,  -999.0,-999.0000,-999.000,-999.000,  2.0433,-999.000
   31DSCGC91_2,  P16N,    22,  1,   3317,     26,2,19910312,0452, 23.9973,-151.9793, 5617,   2501.2,   1.7369,  34.6496,2,  34.6500,2,    106.9,2,   166.62,2,    39.22,2,     0.00,2,     2.73,2, -999.000,5, -999.000,5, -999.000,9,   1.9160,2,    20.72,2,   -999.0,9,  -999.00,9,-999.000,9,   2351.6,2,   -999.0,9,     7.51,2,  25373,  -999.0,-999.0000,-999.000,-999.000,  1.5614,-999.000
   31DSCGC91_2,  P16N,    22,  1,   3316,   1037,2,19910312,0452, 23.9973,-151.9793, 5617,   2803.3,   1.6229,  34.6622,2,  34.6610,2,    116.3,2,   167.65,2,    38.44,2,     0.00,2,     2.66,2,    0.007,3,    0.000,2, -999.000,9,   1.9110,2,    19.75,2,   -999.0,9,  -999.00,9,-999.000,9,   2350.6,2,   -999.0,9,     7.52,2,  28385,  -999.0,-999.0000,-999.000,-999.000,  1.4220,-999.000
   31DSCGC91_2,  P16N,    22,  1,   3315,   1032,2,19910312,0452, 23.9973,-151.9793, 5617,   3102.3,   1.5519,  34.6703,2,  34.6690,2,    126.0,2,   167.82,2,    38.01,2,     0.00,2,     2.63,2,    0.038,4,    0.014,4, -999.000,9,   1.9060,2,    18.90,2,   -999.0,9,  -999.00,9,-999.000,9,   2348.0,2,   -999.0,9,     7.54,2,  31365,  -999.0,-999.0000,-999.000,-999.000,  1.3241,-999.000
   31DSCGC91_2,  P16N,    22,  1,   3314,      4,2,19910312,0452, 23.9973,-151.9793, 5617,   3401.5,   1.5038,  34.6778,2,  34.6760,2,    133.9,2,   166.10,2,    37.35,2,     0.00,2,     2.58,2,    0.009,3,    0.000,2, -999.000,9,-999.0000,9,  -999.00,9,   -999.0,9,  -999.00,9,-999.000,9,   2337.8,2,   -999.0,9,     7.55,2,  34347,  -999.0,-999.0000,-999.000,-999.000,  1.2476,-999.000
   31DSCGC91_2,  P16N,    22,  1,   3313,   1033,2,19910312,0452, 23.9973,-151.9793, 5617,   3402.6,   1.5038,  34.6773,2,  34.6760,2,    133.2,2,  -999.00,5,  -999.00,5,  -999.00,5,  -999.00,5,    0.006,3,    0.000,2, -999.000,9,-999.0000,9,  -999.00,9,   -999.0,9,  -999.00,9,-999.000,9,   2340.1,2,   -999.0,9,     7.55,2,  34358,  -999.0,-999.0000,-999.000,-999.000,  1.2475,-999.000
   31DSCGC91_2,  P16N,    22,  1,   3310,   1002,2,19910312,0452, 23.9973,-151.9793, 5617,   3403.3,   1.5038,  34.6770,2,  34.6760,2,    134.6,2,  -999.00,5,  -999.00,5,  -999.00,5,  -999.00,5,    0.018,4,    0.000,2, -999.000,9,-999.0000,9,  -999.00,9,   -999.0,9,  -999.00,9,-999.000,9,   2339.6,2,   -999.0,9,     7.55,2,  34365,  -999.0,-999.0000,-999.000,-999.000,  1.2474,-999.000
   31DSCGC91_2,  P16N,    22,  1,   3311,   1041,2,19910312,0452, 23.9973,-151.9793, 5617,   3406.0,   1.5038,  34.6770,2,  34.6730,3,   -999.0,9,  -999.00,5,  -999.00,5,  -999.00,5,  -999.00,5,    0.083,4,    0.108,4, -999.000,9,-999.0000,9,  -999.00,9,   -999.0,9,  -999.00,9,-999.000,9,   -999.0,9,   -999.0,9,  -999.00,9,  34392,  -999.0,-999.0000,-999.000,-999.000,  1.2471,-999.000
   31DSCGC91_2,  P16N,    22,  1,   3309,   1003,2,19910312,0452, 23.9973,-151.9793, 5617,   3406.3,   1.5048,  34.6770,2,  34.6750,2,    133.3,2,  -999.00,5,  -999.00,5,  -999.00,5,  -999.00,5,    0.015,4,    0.000,2, -999.000,9,   1.9120,2,    17.38,2,   -999.0,9,  -999.00,9,-999.000,9,   2337.3,2,   -999.0,9,     7.55,2,  34395,  -999.0,-999.0000,-999.000,-999.000,  1.2481,-999.000
   31DSCGC91_2,  P16N,    22,  1,   3312,   1019,2,19910312,0452, 23.9973,-151.9793, 5617,   3407.6,   1.5038,  34.6775,2,  34.6760,2,    135.0,2,  -999.00,5,  -999.00,5,  -999.00,5,  -999.00,5,    0.017,4,    0.000,2, -999.000,9,-999.0000,9,  -999.00,9,   -999.0,9,  -999.00,9,-999.000,9,   2338.3,2,   -999.0,9,     7.55,2,  34408,  -999.0,-999.0000,-999.000,-999.000,  1.2470,-999.000
   31DSCGC91_2,  P16N,    22,  1,   3308,      6,2,19910312,0452, 23.9973,-151.9793, 5617,   3704.7,   1.4788,  34.6817,2,  34.6810,2,    141.0,2,   163.13,2,    37.32,2,     0.00,2,     2.53,2,    0.010,4,    0.000,2, -999.000,9,   1.9080,2,    17.09,2,   -999.0,9,  -999.00,9,-999.000,9,   2332.5,2,   -999.0,9,     7.57,2,  37369,  -999.0,-999.0000,-999.000,-999.000,  1.1920,-999.000
   31DSCGC91_2,  P16N,    22,  1,   3307,   1013,2,19910312,0452, 23.9973,-151.9793, 5617,   4008.9,   1.4698,  34.6848,2,  34.6840,2,    148.1,2,   159.11,2,    36.54,2,     0.00,2,     2.51,2,    0.018,4,    0.000,2, -999.000,9,   1.9070,2,    16.29,2,   -999.0,9,  -999.00,9,-999.000,9,   2323.7,2,   -999.0,9,     7.57,2,  40402,  -999.0,-999.0000,-999.000,-999.000,  1.1507,-999.000
   31DSCGC91_2,  P16N,    22,  1,   3306,   1012,2,19910312,0452, 23.9973,-151.9793, 5617,   4305.0,   1.4638,  34.6875,2,  34.6880,2,    153.5,2,   154.90,2,    36.23,2,     0.00,2,     2.47,2,    0.011,4,    0.000,2, -999.000,9,   1.9070,2,    16.27,2,   -999.0,9,  -999.00,9,-999.000,9,   2319.9,2,   -999.0,9,     7.58,2,  43356,  -999.0,-999.0000,-999.000,-999.000,  1.1121,-999.000
   31DSCGC91_2,  P16N,    22,  1,   3305,   1007,2,19910312,0452, 23.9973,-151.9793, 5617,   4606.1,   1.4558,  34.6896,2,  34.6900,2,    159.9,2,   150.28,2,    35.92,2,     0.00,2,     2.44,2,    0.019,4,    0.000,2, -999.000,9,   1.9000,2,    14.93,2,   -999.0,9,  -999.00,9,-999.000,9,   2315.2,2,   -999.0,9,     7.59,2,  46361,  -999.0,-999.0000,-999.000,-999.000,  1.0698,-999.000
   31DSCGC91_2,  P16N,    22,  1,   3304,   1038,2,19910312,0452, 23.9973,-151.9793, 5617,   4804.4,   1.4578,  34.6915,2,  34.6910,2,    162.0,2,   147.97,2,    35.49,2,     0.00,2,     2.42,2,    0.029,4,    0.000,2, -999.000,9,   1.9000,2,    14.80,2,   -999.0,9,  -999.00,9,-999.000,9,   2311.3,2,   -999.0,9,     7.59,2,  48342,  -999.0,-999.0000,-999.000,-999.000,  1.0484,-999.000
   31DSCGC91_2,  P16N,    22,  1,   3303,   1029,2,19910312,0452, 23.9973,-151.9793, 5617,   5001.5,   1.4638,  34.6921,2,  34.6930,2,    165.7,2,   146.07,2,    35.35,2,     0.00,2,     2.41,2,    0.017,4,    0.000,2, -999.000,9,   1.8990,2,    14.86,2,   -999.0,9,  -999.00,9,-999.000,9,   2307.0,2,   -999.0,9,     7.59,2,  50311,  -999.0,-999.0000,-999.000,-999.000,  1.0305,-999.000
   31DSCGC91_2,  P16N,    22,  1,   3302,   1028,2,19910312,0452, 23.9973,-151.9793, 5617,   5211.1,   1.4798,  34.6934,2,  34.6920,2,    167.1,2,   144.80,2,    35.10,2,     0.00,2,     2.40,2,    0.022,4,    0.010,4, -999.000,9,-999.0000,5,    15.27,2,   -999.0,9,  -999.00,9,-999.000,9,   2307.9,2,   -999.0,9,  -999.00,9,  52407,  -999.0,-999.0000,-999.000,-999.000,  1.0202,-999.000
   31DSCGC91_2,  P16N,    22,  1,   3301,   1017,2,19910312,0452, 23.9973,-151.9793, 5617,   5460.1,   1.5048,  34.6937,2,  34.6940,2,    167.7,2,   143.94,2,    35.01,2,     0.00,2,     2.39,2,    0.010,4,    0.000,2, -999.000,9,-999.0000,9,  -999.00,9,   -999.0,9,  -999.00,9,-999.000,9,   2310.5,2,   -999.0,9,  -999.00,9,  54900,  -999.0,-999.0000,-999.000,-999.000,  1.0130,-999.000