BOTTLE,20021108WHPSIOdm
EXPOCODE,SECT_ID,STNNBR,CASTNO,SAMPNO,BTLNBR,BTLNBR_FLAG_W,DATE,TIME,LATITUDE,LONGITUDE,DEPTH,CTDPRS,CTDTMP,CTDSAL,CTDSAL_FLAG_W,SALNTY,SALNTY_FLAG_W,OXYGEN,OXYGEN_FLAG_W,SILCAT,SILCAT_FLAG_W,NITRAT,NITRAT_FLAG_W,NITRIT,NITRIT_FLAG_W,PHSPHT,PHSPHT_FLAG_W,CFC-11,CFC-11_FLAG_W,CFC-12,CFC-12_FLAG_W,TRITUM,TRITUM_FLAG_W,HELIUM,HELIUM_FLAG_W,DELHE3,DELHE3_FLAG_W,DELC14,DELC14_FLAG_W,DELC13,DELC13_FLAG_W,NEON,NEON_FLAG_W,TCARBN,TCARBN_FLAG_W,ALKALI,ALKALI_FLAG_W,PH,PH_FLAG_W,CTDRAW,C14ERR,HELIER,DELHER,NEONER,THETA,TRITER
,,,,,,,,,,,,DBAR,ITS-90,PSS-78,,PSS-78,,UMOL/KG,,UMOL/KG,,UMOL/KG,,UMOL/KG,,UMOL/KG,,PMOL/KG,,PMOL/KG,,TU,,NMOL/KG,,PERCNT,,/MILLE,,/MILLE,,NMOL/KG,,UMOL/KG,,UMOL/KG,,,,DBAR,/MILLE,NMOL/KG,PERCNT,NMOL/KG,DEG C,TU
   31DSCGC91_2,  P16N,    62,  1,   8324,   1031,2,19910331,2122, 56.0272,-153.0443, 1977,      8.2,   3.5735,  32.5979,2,  32.5940,2,    318.3,2,    31.98,2,    19.45,2,     0.15,2,     1.62,2,    5.196,2,    2.588,2, -999.000,9,-999.0000,9,  -999.00,9,   -999.0,9,  -999.00,9,-999.000,9,   2061.9,2,   -999.0,9,     7.71,2,    435,  -999.0,-999.0000,-999.000,-999.000,  3.5730,-999.000
   31DSCGC91_2,  P16N,    62,  1,   8323,   1023,2,19910331,2122, 56.0272,-153.0443, 1977,     32.2,   3.5475,  32.5946,2,  32.5920,2,    317.8,2,    32.19,2,    19.63,2,     0.15,2,     1.63,2, -999.000,9, -999.000,9, -999.000,9,-999.0000,9,  -999.00,9,   -999.0,9,  -999.00,9,-999.000,9,   2060.8,2,   -999.0,9,     7.71,2,    676,  -999.0,-999.0000,-999.000,-999.000,  3.5455,-999.000
   31DSCGC91_2,  P16N,    62,  1,   8322,   1028,2,19910331,2122, 56.0272,-153.0443, 1977,     61.2,   3.4595,  32.5864,2,  32.5830,2,    317.3,2,    32.79,2,    19.89,2,     0.15,2,     1.67,2,    4.925,2,    2.451,2, -999.000,9,-999.0000,9,  -999.00,9,   -999.0,9,  -999.00,9,-999.000,9,   2063.6,2,   -999.0,9,     7.71,2,    968,  -999.0,-999.0000,-999.000,-999.000,  3.4557,-999.000
   31DSCGC91_2,  P16N,    62,  1,   8321,   1032,2,19910331,2122, 56.0272,-153.0443, 1977,    101.6,   3.9976,  32.7617,2,  32.7250,2,    296.4,2,    32.98,2,    20.49,2,     0.13,2,     1.68,2,    4.956,2,    2.393,2, -999.000,9,-999.0000,9,  -999.00,9,   -999.0,9,  -999.00,9,-999.000,9,   2075.4,2,   -999.0,9,     7.69,2,   1373,  -999.0,-999.0000,-999.000,-999.000,  3.9909,-999.000
   31DSCGC91_2,  P16N,    62,  1,   8320,   1027,2,19910331,2122, 56.0272,-153.0443, 1977,    111.7,   4.5068,  32.8735,2,  32.8710,2,    261.1,2,    35.37,2,    21.75,2,     0.05,2,     1.76,2,    4.558,2,    2.129,2, -999.000,9,-999.0000,9,  -999.00,9,   -999.0,9,  -999.00,9,-999.000,9,   2095.6,2,   -999.0,9,     7.66,2,   1475,  -999.0,-999.0000,-999.000,-999.000,  4.4989,-999.000
   31DSCGC91_2,  P16N,    62,  1,   8319,   1007,2,19910331,2122, 56.0272,-153.0443, 1977,    126.8,   4.5148,  32.9614,2,  32.9460,2,    252.9,2,    36.77,2,    22.51,2,     0.06,2,     1.81,2,    4.416,2,    2.050,2, -999.000,9,-999.0000,9,  -999.00,9,   -999.0,9,  -999.00,9,-999.000,9,   2103.1,2,   -999.0,9,     7.64,2,   1627,  -999.0,-999.0000,-999.000,-999.000,  4.5058,-999.000
   31DSCGC91_2,  P16N,    62,  1,   8318,   1041,2,19910331,2122, 56.0272,-153.0443, 1977,    151.3,   5.4141,  33.3871,2,  33.3590,2,    176.9,2,    45.93,2,    28.01,2,     0.01,2,     2.11,2,    3.253,2,    1.480,2, -999.000,9,-999.0000,9,  -999.00,9,   -999.0,9,  -999.00,9,-999.000,9,   2163.1,2,   -999.0,9,     7.54,2,   1873,  -999.0,-999.0000,-999.000,-999.000,  5.4022,-999.000
   31DSCGC91_2,  P16N,    62,  1,   8317,   1033,2,19910331,2122, 56.0272,-153.0443, 1977,    200.3,   4.9579,  33.8390,2,  33.8270,2,     97.8,2,    67.12,2,    35.98,2,     0.00,2,     2.56,2,    1.782,4,    0.805,4, -999.000,9,-999.0000,9,  -999.00,9,   -999.0,9,  -999.00,9,-999.000,9,   2242.4,2,   -999.0,9,     7.40,2,   2366,  -999.0,-999.0000,-999.000,-999.000,  4.9427,-999.000
   31DSCGC91_2,  P16N,    62,  1,   8316,   1025,2,19910331,2122, 56.0272,-153.0443, 1977,    250.8,   4.6098,  33.8835,2,  33.8810,2,     79.2,2,    74.56,2,    38.02,2,     0.00,2,     2.70,2, -999.000,9, -999.000,9, -999.000,9,-999.0000,9,  -999.00,9,   -999.0,9,  -999.00,9,-999.000,9,   2263.5,2,   -999.0,9,     7.36,2,   2872,  -999.0,-999.0000,-999.000,-999.000,  4.5913,-999.000
   31DSCGC91_2,  P16N,    62,  1,   8315,   1017,2,19910331,2122, 56.0272,-153.0443, 1977,    299.9,   4.4027,  33.9348,2,  33.9310,2,     62.3,2,    82.83,2,    39.73,2,     0.00,2,     2.83,2,    1.076,2,    0.498,2, -999.000,9,-999.0000,9,  -999.00,9,   -999.0,9,  -999.00,9,-999.000,9,   2284.3,2,   -999.0,9,     7.32,2,   3366,  -999.0,-999.0000,-999.000,-999.000,  4.3810,-999.000
   31DSCGC91_2,  P16N,    62,  1,   8314,   1036,2,19910331,2122, 56.0272,-153.0443, 1977,    400.9,   4.0116,  34.0088,2,  34.0090,2,     24.5,2,    97.82,2,    43.83,2,     0.00,2,     3.08,2,    0.606,2,    0.270,2, -999.000,9,-999.0000,9,  -999.00,9,   -999.0,9,  -999.00,9,-999.000,9,   2320.7,2,   -999.0,9,     7.25,2,   4380,  -999.0,-999.0000,-999.000,-999.000,  3.9834,-999.000
   31DSCGC91_2,  P16N,    62,  1,   8313,   1013,2,19910331,2122, 56.0272,-153.0443, 1977,    501.3,   3.9096,  34.1095,2,  34.1100,2,     23.8,2,   108.01,2,    43.35,2,     0.00,2,     3.07,2, -999.000,9, -999.000,9, -999.000,9,-999.0000,9,  -999.00,9,   -999.0,9,  -999.00,9,-999.000,9,   2329.6,2,   -999.0,9,     7.27,2,   5387,  -999.0,-999.0000,-999.000,-999.000,  3.8743,-999.000
   31DSCGC91_2,  P16N,    62,  1,   8312,   1037,2,19910331,2122, 56.0272,-153.0443, 1977,    600.4,   3.7065,  34.1885,2,  34.1850,2,     20.1,2,   117.84,2,    43.27,2,     0.00,2,     3.08,2,    0.131,2,    0.066,2, -999.000,9,-999.0000,9,  -999.00,9,   -999.0,9,  -999.00,9,-999.000,9,   2344.6,2,   -999.0,9,     7.28,2,   6380,  -999.0,-999.0000,-999.000,-999.000,  3.6646,-999.000
   31DSCGC91_2,  P16N,    62,  1,   8311,   1003,2,19910331,2122, 56.0272,-153.0443, 1977,    699.8,   3.5035,  34.2428,2,  34.2400,2,     16.0,2,   125.46,2,    43.78,2,     0.00,2,     3.10,2, -999.000,9, -999.000,9, -999.000,9,-999.0000,9,  -999.00,9,   -999.0,9,  -999.00,9,-999.000,9,   2358.6,2,   -999.0,9,     7.28,2,   7377,  -999.0,-999.0000,-999.000,-999.000,  3.4551,-999.000
   31DSCGC91_2,  P16N,    62,  1,   8310,   1011,2,19910331,2122, 56.0272,-153.0443, 1977,    798.0,   3.3254,  34.2898,2,  34.2890,2,     14.4,2,   132.50,2,    43.70,2,     0.00,2,     3.12,2,    0.034,2,    0.019,2, -999.000,9,-999.0000,9,  -999.00,9,   -999.0,9,  -999.00,9,-999.000,9,   2363.8,2,   -999.0,9,     7.28,2,   8361,  -999.0,-999.0000,-999.000,-999.000,  3.2707,-999.000
   31DSCGC91_2,  P16N,    62,  1,   8309,     26,2,19910331,2122, 56.0272,-153.0443, 1977,    898.1,   3.1554,  34.3277,2,  34.3250,2,     14.6,2,   138.94,2,    43.36,2,     0.00,2,     3.13,2,    0.024,2,    0.012,2, -999.000,9,-999.0000,9,  -999.00,9,   -999.0,9,  -999.00,9,-999.000,9,   2371.5,2,   -999.0,9,     7.28,2,   9364,  -999.0,-999.0000,-999.000,-999.000,  3.0943,-999.000
   31DSCGC91_2,  P16N,    62,  1,   8308,   1019,2,19910331,2122, 56.0272,-153.0443, 1977,    995.8,   2.9763,  34.3621,2,  34.3610,2,     15.1,2,   145.41,2,    43.80,2,     0.00,2,     3.13,2,    0.022,2,    0.010,2, -999.000,9,-999.0000,9,  -999.00,9,   -999.0,9,  -999.00,9,-999.000,9,   2377.6,2,   -999.0,9,     7.29,2,  10341,  -999.0,-999.0000,-999.000,-999.000,  2.9091,-999.000
   31DSCGC91_2,  P16N,    62,  1,   8306,   1002,4,19910331,2122, 56.0272,-153.0443, 1977,   1096.3,   2.8133,  34.3966,2,  34.3970,2,     16.3,2,   150.87,2,    43.18,2,     0.00,2,     3.12,2,    0.012,2,    0.007,2, -999.000,9,-999.0000,9,  -999.00,9,   -999.0,9,  -999.00,9,-999.000,9,   -999.0,9,   -999.0,9,     7.29,2,  11346,  -999.0,-999.0000,-999.000,-999.000,  2.7398,-999.000
   31DSCGC91_2,  P16N,    62,  1,   8307,   1004,2,19910331,2122, 56.0272,-153.0443, 1977,   1096.3,   2.8133,  34.3966,2,  34.3970,2,     16.1,2,   150.86,2,    43.72,2,     0.00,2,     3.11,2, -999.000,9, -999.000,9, -999.000,9,-999.0000,9,  -999.00,9,   -999.0,9,  -999.00,9,-999.000,9,   2381.0,2,   -999.0,9,     7.29,2,  11346,  -999.0,-999.0000,-999.000,-999.000,  2.7398,-999.000
   31DSCGC91_2,  P16N,    62,  1,   8305,   1026,2,19910331,2122, 56.0272,-153.0443, 1977,   1399.5,   2.4391,  34.4750,2,  34.4760,2,     24.3,2,   162.45,2,    43.23,2,     0.00,2,     3.09,2, -999.000,9, -999.000,9, -999.000,9,-999.0000,9,  -999.00,9,   -999.0,9,  -999.00,9,-999.000,9,   2389.1,2,   -999.0,9,     7.32,2,  14379,  -999.0,-999.0000,-999.000,-999.000,  2.3459,-999.000
   31DSCGC91_2,  P16N,    62,  1,   8304,      6,2,19910331,2122, 56.0272,-153.0443, 1977,   1597.8,   2.2361,  34.5197,2,  34.5180,2,     32.5,2,   167.76,2,    42.95,2,     0.00,2,     3.03,2, -999.000,9, -999.000,9, -999.000,9,-999.0000,9,  -999.00,9,   -999.0,9,  -999.00,9,-999.000,9,   -999.0,9,   -999.0,9,     7.34,2,  16360,  -999.0,-999.0000,-999.000,-999.000,  2.1295,-999.000
   31DSCGC91_2,  P16N,    62,  1,   8302,   1012,2,19910331,2122, 56.0272,-153.0443, 1977,   1799.3,   2.0730,  34.5557,2,  34.5540,2,     43.6,2,   171.38,2,    41.81,2,     0.00,2,     2.98,2, -999.000,9, -999.000,9, -999.000,9,-999.0000,9,  -999.00,9,   -999.0,9,  -999.00,9,-999.000,9,   -999.0,9,   -999.0,9,     7.36,2,  18372,  -999.0,-999.0000,-999.000,-999.000,  1.9523,-999.000
   31DSCGC91_2,  P16N,    62,  1,   8301,   1016,2,19910331,2122, 56.0272,-153.0443, 1977,   1940.4,   1.9230,  34.5855,2,  34.5840,2,     57.7,2,   174.16,2,    41.27,2,     0.00,2,     2.93,2,    0.010,3,    0.000,2, -999.000,9,-999.0000,9,  -999.00,9,   -999.0,9,  -999.00,9,-999.000,9,   -999.0,9,   -999.0,9,     7.39,2,  19780,  -999.0,-999.0000,-999.000,-999.000,  1.7928,-999.000
   31DSCGC91_2,  P16N,    63,  1,   8414,   1036,2,19910401,0100, 56.2417,-153.1793,  964,     61.7,   3.8596,  32.6461,2,  32.6420,2,    309.9,2,    32.27,2,    19.79,2,     0.12,2,     1.63,2,    5.213,2,    2.467,2, -999.000,9,-999.0000,9,  -999.00,9,   -999.0,9,  -999.00,9,-999.000,9,   2062.6,2,   -999.0,9,  -999.00,9,    973,  -999.0,-999.0000,-999.000,-999.000,  3.8556,-999.000
   31DSCGC91_2,  P16N,    63,  1,   8413,   1013,2,19910401,0100, 56.2417,-153.1793,  964,    101.4,   4.1527,  32.7600,2,  32.7340,2,    287.6,2,    34.48,2,    21.52,2,     0.09,2,     1.72,2,    4.868,2,    2.310,2, -999.000,9,-999.0000,9,  -999.00,9,   -999.0,9,  -999.00,9,-999.000,9,   2078.6,2,   -999.0,9,  -999.00,9,   1372,  -999.0,-999.0000,-999.000,-999.000,  4.1459,-999.000
   31DSCGC91_2,  P16N,    63,  1,   8412,   1037,2,19910401,0100, 56.2417,-153.1793,  964,    152.1,   5.3200,  33.2601,2,  33.2580,2,    189.9,2,    45.01,2,    27.08,2,     0.00,2,     2.05,2,    3.501,2,    1.591,2, -999.000,9,-999.0000,9,  -999.00,9,   -999.0,9,  -999.00,9,-999.000,9,   2146.8,2,   -999.0,9,  -999.00,9,   1881,  -999.0,-999.0000,-999.000,-999.000,  5.3082,-999.000
   31DSCGC91_2,  P16N,    63,  1,   8411,   1003,2,19910401,0100, 56.2417,-153.1793,  964,    201.4,   5.6351,  33.5419,2,  33.5400,2,    144.7,2,    52.09,2,    31.45,2,     0.00,2,     2.25,2,    2.693,2,    1.217,2, -999.000,9,-999.0000,9,  -999.00,9,   -999.0,9,  -999.00,9,-999.000,9,   2184.6,2,   -999.0,9,  -999.00,9,   2377,  -999.0,-999.0000,-999.000,-999.000,  5.6188,-999.000
   31DSCGC91_2,  P16N,    63,  1,   8410,   1011,2,19910401,0100, 56.2417,-153.1793,  964,    300.6,   4.7609,  33.8722,2,  33.8680,2,     86.8,2,    72.25,2,    37.69,2,     0.00,2,     2.66,2,    1.554,2,    0.703,2, -999.000,9,-999.0000,9,  -999.00,9,   -999.0,9,  -999.00,9,-999.000,9,   2256.0,2,   -999.0,9,  -999.00,9,   3372,  -999.0,-999.0000,-999.000,-999.000,  4.7382,-999.000
   31DSCGC91_2,  P16N,    63,  1,   8409,     26,2,19910401,0100, 56.2417,-153.1793,  964,    399.9,   4.1757,  33.9803,2,  33.9790,2,     43.2,2,    92.52,2,    42.46,2,     0.00,2,     2.98,2,    0.773,2,    0.342,2, -999.000,9,-999.0000,9,  -999.00,9,   -999.0,9,  -999.00,9,-999.000,9,   2304.0,2,   -999.0,9,  -999.00,9,   4370,  -999.0,-999.0000,-999.000,-999.000,  4.1470,-999.000
   31DSCGC91_2,  P16N,    63,  1,   8408,   1019,2,19910401,0100, 56.2417,-153.1793,  964,    499.7,   4.0236,  34.0785,2,  34.0750,2,     31.3,2,   103.40,2,    43.62,2,     0.00,2,     3.03,2,    0.396,2,    0.187,2, -999.000,9,-999.0000,9,  -999.00,9,   -999.0,9,  -999.00,9,-999.000,9,   2317.7,2,   -999.0,9,  -999.00,9,   5370,  -999.0,-999.0000,-999.000,-999.000,  3.9880,-999.000
   31DSCGC91_2,  P16N,    63,  1,   8407,   1004,2,19910401,0100, 56.2417,-153.1793,  964,    598.6,   3.8256,  34.1451,2,  34.1420,2,     23.5,2,   112.86,2,    44.16,2,     0.00,2,     3.08,2,    0.239,2,    0.100,2, -999.000,9,-999.0000,9,  -999.00,9,   -999.0,9,  -999.00,9,-999.000,9,   2333.0,2,   -999.0,9,  -999.00,9,   6363,  -999.0,-999.0000,-999.000,-999.000,  3.7833,-999.000
   31DSCGC91_2,  P16N,    63,  1,   8405,   1026,2,19910401,0100, 56.2417,-153.1793,  964,    699.2,   3.6505,  34.2028,2,  34.1980,2,     20.1,2,   121.25,2,    44.96,2,     0.00,2,     3.11,2,    0.131,2,    0.059,2, -999.000,9,-999.0000,9,  -999.00,9,   -999.0,9,  -999.00,9,-999.000,9,   2340.7,2,   -999.0,9,  -999.00,9,   7370,  -999.0,-999.0000,-999.000,-999.000,  3.6015,-999.000
   31DSCGC91_2,  P16N,    63,  1,   8406,   1002,4,19910401,0100, 56.2417,-153.1793,  964,    699.2,   3.6505,  34.2028,2,  34.1980,2,     20.2,2,   120.70,2,    44.01,2,     0.00,2,     3.11,2,    0.123,2,    0.057,2, -999.000,9,-999.0000,9,  -999.00,9,   -999.0,9,  -999.00,9,-999.000,9,   -999.0,9,   -999.0,9,  -999.00,9,   7370,  -999.0,-999.0000,-999.000,-999.000,  3.6015,-999.000
   31DSCGC91_2,  P16N,    63,  1,   8404,      6,2,19910401,0100, 56.2417,-153.1793,  964,    798.0,   3.4424,  34.2569,2,  34.3110,4,     17.1,2,   138.55,2,    45.21,2,     0.00,2,     3.14,2,    0.048,3,    0.012,3, -999.000,9,-999.0000,9,  -999.00,9,   -999.0,9,  -999.00,9,-999.000,9,   2364.7,2,   -999.0,9,  -999.00,9,   8361,  -999.0,-999.0000,-999.000,-999.000,  3.3871,-999.000
   31DSCGC91_2,  P16N,    63,  1,   8403,   1029,2,19910401,0100, 56.2417,-153.1793,  964,    898.5,   3.1884,  34.3168,2,  34.3280,2,     15.9,2,   141.41,2,    45.61,2,     0.00,2,     3.14,2,    0.030,2,    0.015,4, -999.000,9,-999.0000,9,  -999.00,9,   -999.0,9,  -999.00,9,-999.000,9,   2368.5,2,   -999.0,9,  -999.00,9,   9368,  -999.0,-999.0000,-999.000,-999.000,  3.1270,-999.000
   31DSCGC91_2,  P16N,    63,  1,   8401,   1016,2,19910401,0100, 56.2417,-153.1793,  964,    932.6,   3.0583,  34.3445,2,  34.3360,2,     16.7,2,   143.13,2,    44.82,2,     0.00,2,     3.14,2,    0.030,2,    0.015,4, -999.000,9,-999.0000,9,  -999.00,9,   -999.0,9,  -999.00,9,-999.000,9,   2370.1,2,   -999.0,9,  -999.00,9,   9709,  -999.0,-999.0000,-999.000,-999.000,  2.9953,-999.000
   31DSCGC91_2,  P16N,    63,  1,   8402,   1012,4,19910401,0100, 56.2417,-153.1793,  964,    932.6,   3.0583,  34.3445,2,  34.3350,2,     17.6,2,   142.59,2,    44.63,2,     0.00,2,     3.15,2,    0.035,3,    0.005,2, -999.000,9,-999.0000,9,  -999.00,9,   -999.0,9,  -999.00,9,-999.000,9,   -999.0,9,   -999.0,9,  -999.00,9,   9709,  -999.0,-999.0000,-999.000,-999.000,  2.9953,-999.000
   31DSCGC91_2,  P16N,    64,  1,   8512,   1037,4,19910401,0400, 56.2948,-153.2328,  272,      7.1,   3.6955,  32.6643,2,  32.6590,2,    314.1,2,    33.00,2,    20.14,2,     0.14,2,     1.64,2,    5.163,2,    2.492,2,    2.151,2,   1.8240,2,    -1.04,2,     19.7,2,     0.81,2,   7.884,2,   -999.0,9,   -999.0,9,     7.71,2,    424,     3.1,  0.0090,   0.150,   0.042,  3.6951,   0.006
   31DSCGC91_2,  P16N,    64,  1,   8511,   1003,4,19910401,0400, 56.2948,-153.2328,  272,     21.2,   3.6965,  32.6607,2,  32.6630,2,    311.8,2,    32.98,2,    20.31,2,     0.13,2,     1.65,2,    5.107,2,    2.474,2, -999.000,9,-999.0000,9,  -999.00,9,   -999.0,9,  -999.00,9,-999.000,9,   -999.0,9,   -999.0,9,     7.71,2,    566,  -999.0,-999.0000,-999.000,-999.000,  3.6952,-999.000
   31DSCGC91_2,  P16N,    64,  1,   8510,   1011,2,19910401,0400, 56.2948,-153.2328,  272,     29.2,   3.7165,  32.6650,2,  32.6670,2,    311.4,2,    32.96,2,    20.41,2,     0.13,2,     1.65,2,    5.187,2,    2.515,2, -999.000,9,   1.8240,2,    -0.60,2,      9.3,2,     1.02,2,   7.896,2,   2067.0,2,   -999.0,9,     7.71,2,    646,     3.1,  0.0090,   0.150,   0.042,  3.7147,-999.000
   31DSCGC91_2,  P16N,    64,  1,   8509,     26,2,19910401,0400, 56.2948,-153.2328,  272,     51.4,   3.7445,  32.6765,2,  32.6860,2,    307.7,2,    33.34,2,    20.84,2,     0.13,2,     1.67,2,    5.149,2,    2.474,2,    2.150,2,   1.8190,2,    -0.95,2,    132.2,4,     0.85,2,   7.863,2,   2070.8,2,   -999.0,9,     7.70,2,    869,     3.4,  0.0090,   0.150,   0.042,  3.7413,   0.006
   31DSCGC91_2,  P16N,    64,  1,   8508,   1019,2,19910401,0400, 56.2948,-153.2328,  272,     77.6,   3.6575,  32.7013,2,  32.6970,2,    306.8,2,    33.72,2,    20.87,2,     0.13,2,     1.68,2,    5.080,2,    2.435,2,    2.140,2,   1.8240,2,    -0.74,2,     23.5,2,     0.81,2,   7.909,2,   2072.5,2,   -999.0,9,     7.70,2,   1133,     3.1,  0.0090,   0.150,   0.042,  3.6526,   0.006
   31DSCGC91_2,  P16N,    64,  1,   8507,   1004,2,19910401,0400, 56.2948,-153.2328,  272,     97.8,   3.7135,  32.7190,2,  32.7140,2,    302.5,2,    34.30,2,    21.16,2,     0.13,2,     1.69,2,    5.046,2,    2.431,2,    2.116,2,   1.8190,2,    -0.65,2,     16.4,2,     0.91,2,   7.902,2,   2074.6,2,   -999.0,9,     7.69,2,   1336,     3.1,  0.0090,   0.150,   0.042,  3.7073,   0.007
   31DSCGC91_2,  P16N,    64,  1,   8505,   1026,4,19910401,0400, 56.2948,-153.2328,  272,    125.5,   4.0546,  32.8055,2,  32.7860,2,    285.1,2,    34.66,2,    21.32,2,     0.09,2,     1.71,2,    4.926,2,    2.313,2, -999.000,9,   1.8200,2,     0.72,2,     23.2,2,     0.48,2,   7.857,2,   -999.0,9,   -999.0,9,     7.68,2,   1613,     3.0,  0.0090,   0.150,   0.042,  4.0463,-999.000
   31DSCGC91_2,  P16N,    64,  1,   8506,   1002,2,19910401,0400, 56.2948,-153.2328,  272,    125.5,   4.0546,  32.8055,2,  32.7850,2,    285.0,2,    34.68,2,    21.43,2,     0.09,2,     1.72,2,    4.876,2,    2.320,2, -999.000,9,-999.0000,9,  -999.00,9,   -999.0,9,  -999.00,9,-999.000,9,   2082.8,2,   -999.0,9,     7.68,2,   1613,  -999.0,-999.0000,-999.000,-999.000,  4.0463,-999.000
   31DSCGC91_2,  P16N,    64,  1,   8504,      6,2,19910401,0400, 56.2948,-153.2328,  272,    177.5,   4.8079,  33.0833,2,  33.1530,4,    212.6,2,    42.86,2,    25.99,2,     0.03,2,     1.97,2, -999.000,5, -999.000,5, -999.000,9,-999.0000,9,  -999.00,9,   -999.0,9,  -999.00,9,-999.000,9,   2130.5,2,   -999.0,9,     7.59,2,   2137,  -999.0,-999.0000,-999.000,-999.000,  4.7948,-999.000
   31DSCGC91_2,  P16N,    64,  1,   8503,   1029,2,19910401,0400, 56.2948,-153.2328,  272,    199.6,   5.3330,  33.5462,2,  33.1370,4,    215.3,3,    42.23,3,    25.74,3,     0.02,3,     1.95,3,    3.860,2,    1.764,2, -999.000,9,   1.8150,2,     5.01,2,      7.3,2,     0.56,2,   7.788,2,   2129.1,2,   -999.0,9,     7.59,2,   2359,     3.0,  0.0090,   0.150,   0.041,  5.3174,-999.000
   31DSCGC91_2,  P16N,    64,  1,   8502,   1012,2,19910401,0400, 56.2948,-153.2328,  272,    222.2,   5.2970,  33.7126,2,  33.7220,2,    117.2,2,    61.48,2,    33.53,2,     0.02,2,     2.44,2,    2.087,2,    0.964,2, -999.000,9,-999.0000,9,  -999.00,9,   -999.0,9,  -999.00,9,-999.000,9,   2218.5,2,   -999.0,9,     7.44,2,   2586,  -999.0,-999.0000,-999.000,-999.000,  5.2796,-999.000
   31DSCGC91_2,  P16N,    64,  1,   8501,   1016,2,19910401,0400, 56.2948,-153.2328,  272,    238.9,   5.1240,  33.7869,2,  33.7650,2,    109.7,2,    64.06,2,    35.12,2,     0.02,2,     2.46,2,    1.982,2,    0.887,2,    1.715,2,   1.8250,2,    12.97,2,    -36.6,2,    -0.22,2,   7.781,2,   2227.2,2,   -999.0,9,     7.42,2,   2752,     2.9,  0.0090,   0.150,   0.041,  5.1055,   0.006