BOTTLE,20021108WHPSIOdm
EXPOCODE,SECT_ID,STNNBR,CASTNO,SAMPNO,BTLNBR,BTLNBR_FLAG_W,DATE,TIME,LATITUDE,LONGITUDE,DEPTH,CTDPRS,CTDTMP,CTDSAL,CTDSAL_FLAG_W,SALNTY,SALNTY_FLAG_W,OXYGEN,OXYGEN_FLAG_W,SILCAT,SILCAT_FLAG_W,NITRAT,NITRAT_FLAG_W,NITRIT,NITRIT_FLAG_W,PHSPHT,PHSPHT_FLAG_W,CFC-11,CFC-11_FLAG_W,CFC-12,CFC-12_FLAG_W,TRITUM,TRITUM_FLAG_W,HELIUM,HELIUM_FLAG_W,DELHE3,DELHE3_FLAG_W,DELC14,DELC14_FLAG_W,DELC13,DELC13_FLAG_W,NEON,NEON_FLAG_W,TCARBN,TCARBN_FLAG_W,ALKALI,ALKALI_FLAG_W,PH,PH_FLAG_W,CTDRAW,C14ERR,HELIER,DELHER,NEONER,THETA,TRITER
,,,,,,,,,,,,DBAR,ITS-90,PSS-78,,PSS-78,,UMOL/KG,,UMOL/KG,,UMOL/KG,,UMOL/KG,,UMOL/KG,,PMOL/KG,,PMOL/KG,,TU,,NMOL/KG,,PERCNT,,/MILLE,,/MILLE,,NMOL/KG,,UMOL/KG,,UMOL/KG,,,,DBAR,/MILLE,NMOL/KG,PERCNT,NMOL/KG,DEG C,TU
   31DSCGC91_2,  P16N,    31,  2,   4624,   1027,2,19910316,1425, 29.9997,-152.0090, 5400,     51.3,  18.8693,  35.2598,2,  35.2610,2,    229.6,2,     2.64,2,     0.00,2,     0.00,2,     0.06,2,    2.416,2,    1.267,2,    2.075,2,   1.7390,2,    -1.15,2,    123.5,6,     1.30,2,   6.987,2,   2011.6,2,   -999.0,9,     8.04,2,    868,    11.7,  0.0090,   0.150,   0.037, 18.8602,   0.064
   31DSCGC91_2,  P16N,    31,  2,   4623,   1016,2,19910316,1425, 29.9997,-152.0090, 5400,     99.7,  18.8753,  35.2586,2,  35.2590,2,    229.6,2,     2.83,2,     0.00,2,     0.00,2,     0.06,2,    2.424,2,    1.265,2, -999.000,9,-999.0000,9,  -999.00,9,   -999.0,9,  -999.00,9,-999.000,9,   2012.2,2,   -999.0,9,     8.05,2,   1355,  -999.0,-999.0000,-999.000,-999.000, 18.8576,-999.000
   31DSCGC91_2,  P16N,    31,  2,   4622,   1026,2,19910316,1425, 29.9997,-152.0090, 5400,    151.8,  16.9737,  34.8724,2,  34.8850,2,    213.4,2,     3.91,2,     2.15,2,     0.05,2,     0.24,2,    2.506,2,    1.290,2,    2.150,2,-999.0000,9,  -999.00,9,    109.0,6,     0.94,2,-999.000,9,   2028.8,2,   -999.0,9,     7.98,2,   1878,     3.3,-999.0000,-999.000,-999.000, 16.9487,   0.006
   31DSCGC91_2,  P16N,    31,  2,   4621,   1004,2,19910316,1425, 29.9997,-152.0090, 5400,    199.9,  14.5959,  34.5249,2,  34.5250,2,    212.0,2,     6.45,2,     5.57,2,     0.01,2,     0.47,2,    2.584,2,    1.351,2, -999.000,9,-999.0000,9,  -999.00,9,   -999.0,9,     1.08,2,-999.000,9,   2041.1,2,   -999.0,9,     7.92,2,   2362,  -999.0,-999.0000,-999.000,-999.000, 14.5663,-999.000
   31DSCGC91_2,  P16N,    31,  2,   4602,   1028,4,19910316,1425, 29.9997,-152.0090, 5400,    298.5,  11.2539,  34.2082,2,  34.1930,2,    217.2,2,    14.86,2,    12.61,2,     0.01,2,     0.93,2,    2.627,2,    1.314,2, -999.000,9,   1.7800,6,     5.26,6,   -999.0,9,  -999.00,9,-999.000,9,   -999.0,9,   -999.0,9,  -999.00,9,   3352,  -999.0,-999.0000,-999.000,-999.000, 11.2167,-999.000
   31DSCGC91_2,  P16N,    31,  2,   4620,   1025,2,19910316,1425, 29.9997,-152.0090, 5400,    298.5,  11.2539,  34.2082,2,  34.2100,2,    217.2,2,    12.52,2,    11.73,2,     0.00,2,     0.86,2,    2.673,2,    1.326,2,    2.253,2,-999.0000,9,  -999.00,9,   -999.0,9,     0.74,2,-999.000,9,   2072.4,2,   -999.0,9,     7.84,2,   3352,  -999.0,-999.0000,-999.000,-999.000, 11.2167,   0.007
   31DSCGC91_2,  P16N,    31,  2,   4619,   1031,2,19910316,1425, 29.9997,-152.0090, 5400,    398.9,   9.4483,  34.1175,2,  34.1170,2,    204.9,2,    21.51,2,    17.11,2,     0.00,2,     1.20,2,    2.227,2,    1.091,2,    2.198,2,   1.7740,2,     8.49,2,   -999.0,9,     0.44,2,   7.500,2,   2103.1,2,   -999.0,9,     7.77,2,   4360,  -999.0,  0.0090,   0.150,   0.040,  9.4037,   0.006
   31DSCGC91_2,  P16N,    31,  2,   4618,   1036,2,19910316,1425, 29.9997,-152.0090, 5400,    498.8,   7.6888,  34.0362,2,  34.0380,2,    169.2,2,    37.84,2,    24.35,2,     0.00,2,     1.69,2,    1.502,2,    0.743,2,    2.045,2,   1.7940,2,    15.62,2,     11.8,2,     0.28,2,   7.599,2,   2156.3,2,   -999.0,9,     7.66,2,   5362,     2.8,  0.0090,   0.150,   0.040,  7.6392,   0.006
   31DSCGC91_2,  P16N,    31,  2,   4617,     26,2,19910316,1425, 29.9997,-152.0090, 5400,    601.1,   5.8672,  34.0077,2,  34.0080,2,    103.9,2,    63.86,2,    34.03,2,     0.00,2,     2.40,2,    0.523,2,    0.273,2,    1.455,2,   1.8180,2,    19.12,2,    -97.5,2,     0.01,2,   7.748,2,   2233.3,2,   -999.0,9,     7.47,2,   6388,    16.2,  0.0090,   0.150,   0.041,  5.8153,   0.005
   31DSCGC91_2,  P16N,    31,  2,   4616,   1037,2,19910316,1425, 29.9997,-152.0090, 5400,    700.3,   4.8459,  34.0702,2,  34.0720,2,     57.4,2,    86.54,2,    39.80,2,     0.00,2,     2.82,2,    0.104,2,    0.077,2,    0.614,2,   1.8470,2,    14.76,2,   -120.1,2,    -0.37,2,   7.846,2,   2290.1,2,   -999.0,9,     7.36,2,   7382,     9.4,  0.0100,   0.150,   0.042,  4.7904,   0.003
   31DSCGC91_2,  P16N,    31,  2,   4615,   1032,2,19910316,1425, 29.9997,-152.0090, 5400,    799.8,   4.3547,  34.1646,2,  34.1630,2,     30.9,2,   102.47,2,    42.53,2,     0.00,2,     3.02,2,    0.016,2,    0.020,2,    0.141,2,-999.0000,9,  -999.00,9,   -160.5,2,    -0.47,2,-999.000,9,   2324.8,2,   -999.0,9,     7.31,2,   8379,     8.6,-999.0000,-999.000,-999.000,  4.2937,   0.002
   31DSCGC91_2,  P16N,    31,  2,   4614,   1011,2,19910316,1425, 29.9997,-152.0090, 5400,    898.0,   4.0316,  34.2741,2,  34.2740,2,     20.0,2,   115.17,2,    43.80,2,     0.00,2,     3.10,2,   -0.017,3,    0.000,2,    0.018,2,   1.8540,2,    13.46,2,   -175.0,6,  -999.00,5,   7.822,2,   2350.3,2,   -999.0,9,     7.30,2,   9363,    18.5,  0.0100,   0.150,   0.041,  3.9645,   0.002
   31DSCGC91_2,  P16N,    31,  2,   4613,   1033,2,19910316,1425, 29.9997,-152.0090, 5400,    998.1,   3.7145,  34.3476,2,  34.3470,2,     16.5,2,   125.34,2,    44.19,2,     0.00,2,     3.15,2,   -0.009,4,    0.000,2,    0.006,2,-999.0000,9,  -999.00,9,   -192.3,2,    -0.42,2,-999.000,9,   2361.3,2,   -999.0,9,     7.30,2,  10365,     8.6,-999.0000,-999.000,-999.000,  3.6415,   0.002
   31DSCGC91_2,  P16N,    31,  2,   4612,   1019,2,19910316,1425, 29.9997,-152.0090, 5400,   1297.6,   3.0343,  34.5012,2,  34.4990,2,     36.1,2,   142.92,2,    43.50,2,     0.00,2,     3.07,2,    0.000,2,    0.000,2,    0.000,2,-999.0000,9,  -999.00,9,   -999.0,9,  -999.00,9,-999.000,9,   2371.4,2,   -999.0,9,     7.35,2,  13360,  -999.0,-999.0000,-999.000,-999.000,  2.9429,   0.002
   31DSCGC91_2,  P16N,    31,  2,   4611,   1041,2,19910316,1425, 29.9997,-152.0090, 5400,   1599.8,   2.4791,  34.5678,2,  34.5670,2,     59.1,2,   154.93,2,    42.23,2,     0.00,2,     2.95,2,   -0.002,2,    0.000,2,    0.005,2,   1.9020,2,    21.73,2,   -238.8,2,    -0.31,2,-999.000,9,   2371.1,2,   -999.0,9,     7.41,2,  16380,     8.6,-999.0000,-999.000,-999.000,  2.3693,   0.002
   31DSCGC91_2,  P16N,    31,  2,   4609,   1003,2,19910316,1425, 29.9997,-152.0090, 5400,   1900.0,   2.0880,  34.6074,2,  34.6060,2,     76.9,2,   163.92,2,    41.05,2,     0.00,2,     2.86,2,   -0.001,2,    0.012,4,    0.002,2,   1.9110,2,    22.19,2,   -263.1,2,    -0.26,2,-999.000,9,   2368.1,2,   -999.0,9,     7.44,2,  19377,     5.4,-999.0000,-999.000,-999.000,  1.9587,   0.002
   31DSCGC91_2,  P16N,    31,  2,   4610,   1002,4,19910316,1425, 29.9997,-152.0090, 5400,   1900.0,   2.0880,  34.6074,2,  34.6050,2,     77.8,2,   163.92,2,    41.05,2,     0.00,2,     2.86,2,    0.087,4,    0.672,4,    0.003,2,   1.9060,2,    22.05,2,   -265.8,2,    -0.56,2,-999.000,9,   -999.0,9,   -999.0,9,     7.44,2,  19377,     2.4,-999.0000,-999.000,-999.000,  1.9587,   0.002
   31DSCGC91_2,  P16N,    31,  2,   4607,   1013,2,19910316,1425, 29.9997,-152.0090, 5400,   2902.2,   1.5749,  34.6638,2,  34.6610,2,    119.1,2,   170.76,2,    38.71,2,     0.00,2,     2.65,2,    0.001,2,    0.000,2, -999.000,9,   1.9100,2,    19.34,2,   -999.0,9,  -999.00,9,-999.000,9,   2352.1,2,   -999.0,9,     7.52,2,  29371,  -999.0,-999.0000,-999.000,-999.000,  1.3657,-999.000
   31DSCGC91_2,  P16N,    31,  2,   4608,      6,4,19910316,1425, 29.9997,-152.0090, 5400,   2902.2,   1.5749,  34.6638,2,  34.6620,2,    117.8,2,   170.86,2,    38.71,2,     0.00,2,     2.66,2,    0.000,2,    0.000,2, -999.000,9,   1.9180,2,    19.13,2,   -999.0,9,  -999.00,9,-999.000,9,   -999.0,9,   -999.0,9,     7.52,2,  29371,  -999.0,-999.0000,-999.000,-999.000,  1.3657,-999.000
   31DSCGC91_2,  P16N,    31,  2,   4606,   1012,2,19910316,1425, 29.9997,-152.0090, 5400,   3405.4,   1.4908,  34.6764,2,  34.6750,2,    135.6,2,   166.46,2,    37.83,2,     0.00,2,     2.57,2,   -0.003,2,    0.000,2, -999.000,9,   1.9080,2,    17.31,2,   -999.0,9,  -999.00,9,-999.000,9,   2339.9,2,   -999.0,9,     7.55,2,  34386,  -999.0,-999.0000,-999.000,-999.000,  1.2345,-999.000
   31DSCGC91_2,  P16N,    31,  2,   4605,   1007,2,19910316,1425, 29.9997,-152.0090, 5400,   3904.2,   1.4628,  34.6828,2,  34.6820,2,    144.7,2,   163.13,2,    36.95,2,     0.00,2,     2.52,2,    0.003,2,    0.010,4, -999.000,9,   1.9020,2,    16.19,2,   -999.0,9,  -999.00,9,-999.000,9,   2332.1,2,   -999.0,9,     7.57,2,  39358,  -999.0,-999.0000,-999.000,-999.000,  1.1553,-999.000
   31DSCGC91_2,  P16N,    31,  2,   4604,   1038,2,19910316,1425, 29.9997,-152.0090, 5400,   4407.6,   1.4828,  34.6877,2,  34.6880,2,    151.2,2,   158.83,2,    36.16,2,     0.00,2,     2.47,2,   -0.001,2,    0.000,2, -999.000,9,   1.9040,2,    15.98,2,   -230.3,2,     0.19,2,-999.000,9,   2327.1,2,   -999.0,9,     7.58,2,  44379,     4.0,-999.0000,-999.000,-999.000,  1.1189,-999.000
   31DSCGC91_2,  P16N,    31,  2,   4603,   1029,2,19910316,1425, 29.9997,-152.0090, 5400,   5112.7,   1.5419,  34.6900,2,  34.6890,2,    157.3,2,   152.87,2,    35.68,2,     0.00,2,     2.45,2,    0.001,2,    0.012,4,    0.003,2,   1.9040,2,    15.00,2,   -999.0,9,  -999.00,9,-999.000,9,   2321.6,2,   -999.0,9,     7.59,2,  51422,  -999.0,-999.0000,-999.000,-999.000,  1.0923,   0.002
   31DSCGC91_2,  P16N,    32,  1,   4724,   1027,2,19910317,1030, 30.6657,-151.9917, 5449,    100.9,  17.5248,  34.9856,2,  34.9860,2,    236.5,2,     3.34,2,     0.05,2,     0.00,2,     0.08,2,    2.576,6,    1.346,6, -999.000,9,-999.0000,9,  -999.00,9,   -999.0,9,  -999.00,9,-999.000,9,   2008.5,2,   -999.0,9,     8.03,2,   1367,  -999.0,-999.0000,-999.000,-999.000, 17.5079,-999.000
   31DSCGC91_2,  P16N,    32,  1,   4723,   1016,2,19910317,1030, 30.6657,-151.9917, 5449,    200.9,  12.9484,  34.3556,2,  34.3520,2,    213.5,2,     9.35,2,     9.08,2,     0.00,2,     0.69,2,    2.723,2,    1.389,2, -999.000,9,-999.0000,9,  -999.00,9,   -999.0,9,  -999.00,9,-999.000,9,   2055.0,2,   -999.0,9,     7.88,2,   2372,  -999.0,-999.0000,-999.000,-999.000, 12.9210,-999.000
   31DSCGC91_2,  P16N,    32,  1,   4722,   1026,2,19910317,1030, 30.6657,-151.9917, 5449,    302.1,  10.7767,  34.2092,2,  34.2100,2,    223.0,2,    14.77,2,    12.84,2,     0.00,2,     0.94,2,    2.593,2,    1.334,2, -999.000,9,-999.0000,9,  -999.00,9,   -999.0,9,  -999.00,9,-999.000,9,   2076.1,2,   -999.0,9,     7.83,2,   3387,  -999.0,-999.0000,-999.000,-999.000, 10.7401,-999.000
   31DSCGC91_2,  P16N,    32,  1,   4721,   1004,2,19910317,1030, 30.6657,-151.9917, 5449,    399.6,   9.4243,  34.1276,2,  34.1300,2,    210.6,2,    21.99,2,    16.78,2,     0.00,2,     1.20,2,    2.380,2,    1.179,2, -999.000,9,-999.0000,9,  -999.00,9,   -999.0,9,  -999.00,9,-999.000,9,   2102.3,2,   -999.0,9,     7.78,2,   4367,  -999.0,-999.0000,-999.000,-999.000,  9.3797,-999.000
   31DSCGC91_2,  P16N,    32,  1,   4720,   1025,2,19910317,1030, 30.6657,-151.9917, 5449,    501.1,   7.4947,  34.0305,2,  34.0320,2,    167.2,2,    39.88,2,    24.95,2,     0.00,2,     1.75,2,    1.512,2,    0.725,2, -999.000,9,-999.0000,9,  -999.00,9,   -999.0,9,  -999.00,9,-999.000,9,   2161.2,2,   -999.0,9,     7.65,2,   5385,  -999.0,-999.0000,-999.000,-999.000,  7.4456,-999.000
   31DSCGC91_2,  P16N,    32,  1,   4719,   1031,2,19910317,1030, 30.6657,-151.9917, 5449,    649.6,   5.2710,  34.0128,2,  34.0120,2,     92.4,2,    74.06,2,    36.04,2,     0.00,2,     2.54,2,    0.411,2,    0.213,2, -999.000,9,-999.0000,9,  -999.00,9,   -999.0,9,  -999.00,9,-999.000,9,   2253.2,2,   -999.0,9,     7.44,2,   6874,  -999.0,-999.0000,-999.000,-999.000,  5.2177,-999.000
   31DSCGC91_2,  P16N,    32,  1,   4718,   1036,2,19910317,1030, 30.6657,-151.9917, 5449,    800.0,   4.1407,  34.1580,2,  34.3500,4,     33.3,2,   105.93,2,    42.96,2,     0.00,2,     3.03,2,    0.028,2,    0.020,2, -999.000,9,-999.0000,9,  -999.00,9,   -999.0,9,  -999.00,9,-999.000,9,   2328.6,2,   -999.0,9,     7.31,2,   8381,  -999.0,-999.0000,-999.000,-999.000,  4.0809,-999.000
   31DSCGC91_2,  P16N,    32,  1,   4717,     26,2,19910317,1030, 30.6657,-151.9917, 5449,    899.7,   3.7966,  34.2718,2,  34.2720,2,     15.6,2,   121.64,2,    44.20,2,     0.01,2,     3.17,2,   -0.014,3,    0.000,2, -999.000,9,-999.0000,9,  -999.00,9,   -999.0,9,  -999.00,9,-999.000,9,   2356.3,2,   -999.0,9,     7.29,2,   9380,  -999.0,-999.0000,-999.000,-999.000,  3.7309,-999.000
   31DSCGC91_2,  P16N,    32,  1,   4716,   1037,2,19910317,1030, 30.6657,-151.9917, 5449,   1246.4,   3.0723,  34.4833,2,  34.4820,2,     25.1,2,   144.38,2,    44.13,2,     0.01,2,     3.15,2,    0.008,3,    0.000,2, -999.000,9,-999.0000,9,  -999.00,9,   -999.0,9,  -999.00,9,-999.000,9,   2376.1,2,   -999.0,9,     7.33,2,  12849,  -999.0,-999.0000,-999.000,-999.000,  2.9846,-999.000
   31DSCGC91_2,  P16N,    32,  1,   4715,   1032,2,19910317,1030, 30.6657,-151.9917, 5449,   1500.0,   2.6262,  34.5456,2,  34.5440,2,     45.5,2,   155.11,2,    43.03,2,     0.00,2,     3.07,2,    0.003,2,    0.000,2, -999.000,9,-999.0000,9,  -999.00,9,   -999.0,9,  -999.00,9,-999.000,9,   2379.4,2,   -999.0,9,     7.37,2,  15383,  -999.0,-999.0000,-999.000,-999.000,  2.5227,-999.000
   31DSCGC91_2,  P16N,    32,  1,   4714,   1011,2,19910317,1030, 30.6657,-151.9917, 5449,   1750.8,   2.2081,  34.5879,2,  34.5850,2,     61.0,2,   166.35,2,    42.42,2,     0.00,2,     2.96,2,   -0.002,2,    0.000,2, -999.000,9,-999.0000,9,  -999.00,9,   -999.0,9,  -999.00,9,-999.000,9,   2379.8,2,   -999.0,9,     7.40,2,  17888,  -999.0,-999.0000,-999.000,-999.000,  2.0894,-999.000
   31DSCGC91_2,  P16N,    32,  1,   4713,   1033,2,19910317,1030, 30.6657,-151.9917, 5449,   2098.4,   1.8770,  34.6270,2,  34.6250,2,     86.7,3,   173.59,2,    41.01,2,     0.00,2,     2.86,2,    0.005,2,    0.000,2, -999.000,9,-999.0000,9,  -999.00,9,   -999.0,9,  -999.00,9,-999.000,9,   2372.7,2,   -999.0,9,     7.45,2,  21357,  -999.0,-999.0000,-999.000,-999.000,  1.7341,-999.000
   31DSCGC91_2,  P16N,    32,  1,   4711,   1041,2,19910317,1030, 30.6657,-151.9917, 5449,   2250.0,   1.7909,  34.6351,2,  34.6350,2,     86.8,2,   175.44,2,    40.16,2,     0.00,2,     2.83,2,   -0.001,2,    0.000,2, -999.000,9,-999.0000,9,  -999.00,9,   -999.0,9,  -999.00,9,-999.000,9,   2370.4,2,   -999.0,9,     7.47,2,  22868,  -999.0,-999.0000,-999.000,-999.000,  1.6366,-999.000
   31DSCGC91_2,  P16N,    32,  1,   4712,   1019,4,19910317,1030, 30.6657,-151.9917, 5449,   2250.0,   1.7909,  34.6351,2,  34.6350,2,     87.1,2,   175.48,2,    40.34,2,     0.00,2,     2.84,2,    0.007,2,    0.000,2, -999.000,9,-999.0000,9,  -999.00,9,   -999.0,9,  -999.00,9,-999.000,9,   -999.0,9,   -999.0,9,     7.47,2,  22868,  -999.0,-999.0000,-999.000,-999.000,  1.6366,-999.000
   31DSCGC91_2,  P16N,    32,  1,   4710,   1002,2,19910317,1030, 30.6657,-151.9917, 5449,   2500.8,   1.6709,  34.6489,2,  34.6480,2,     97.3,2,   175.83,2,    39.80,2,     0.00,2,     2.76,2,    0.004,2,    0.000,2, -999.000,9,-999.0000,9,  -999.00,9,   -999.0,9,  -999.00,9,-999.000,9,   2364.6,2,   -999.0,9,     7.49,2,  25370,  -999.0,-999.0000,-999.000,-999.000,  1.4967,-999.000
   31DSCGC91_2,  P16N,    32,  1,   4709,   1003,2,19910317,1030, 30.6657,-151.9917, 5449,   2752.7,   1.5779,  34.6600,2,  34.6680,3,    110.1,2,   173.63,2,    39.20,2,     0.00,2,     2.70,2,    0.007,2,    0.000,2, -999.000,9,-999.0000,9,  -999.00,9,   -999.0,9,  -999.00,9,-999.000,9,   2355.1,2,   -999.0,9,     7.51,2,  27881,  -999.0,-999.0000,-999.000,-999.000,  1.3826,-999.000
   31DSCGC91_2,  P16N,    32,  1,   4707,   1013,2,19910317,1030, 30.6657,-151.9917, 5449,   3251.0,   1.4808,  34.6762,2,  34.6740,2,    132.1,2,   166.49,2,    37.63,2,     0.00,2,     2.59,2,    0.005,2,    0.000,2, -999.000,9,-999.0000,9,  -999.00,9,   -999.0,9,  -999.00,9,-999.000,9,   2341.4,2,   -999.0,9,     7.55,2,  32847,  -999.0,-999.0000,-999.000,-999.000,  1.2401,-999.000
   31DSCGC91_2,  P16N,    32,  1,   4708,      6,4,19910317,1030, 30.6657,-151.9917, 5449,   3251.0,   1.4808,  34.6762,2,  34.6750,2,    131.9,2,   166.53,2,    37.68,2,     0.00,2,     2.61,2,    0.001,2,    0.000,2, -999.000,9,-999.0000,9,  -999.00,9,   -999.0,9,  -999.00,9,-999.000,9,   -999.0,9,   -999.0,9,     7.55,2,  32847,  -999.0,-999.0000,-999.000,-999.000,  1.2401,-999.000
   31DSCGC91_2,  P16N,    32,  1,   4706,   1012,2,19910317,1030, 30.6657,-151.9917, 5449,   3506.1,   1.4628,  34.6800,2,  34.6790,2,    139.4,2,   164.52,2,    37.03,2,     0.00,2,     2.56,2,    0.000,2,    0.000,2, -999.000,9,-999.0000,9,  -999.00,9,   -999.0,9,  -999.00,9,-999.000,9,   2336.8,2,   -999.0,9,     7.56,2,  35389,  -999.0,-999.0000,-999.000,-999.000,  1.1970,-999.000
   31DSCGC91_2,  P16N,    32,  1,   4705,   1007,2,19910317,1030, 30.6657,-151.9917, 5449,   3755.9,   1.4568,  34.6829,2,  34.6820,2,    142.4,2,   162.35,2,    37.16,2,     0.00,2,     2.54,2,    0.005,2,    0.000,2, -999.000,9,-999.0000,9,  -999.00,9,   -999.0,9,  -999.00,9,-999.000,9,   2333.7,2,   -999.0,9,     7.57,2,  37879,  -999.0,-999.0000,-999.000,-999.000,  1.1652,-999.000
   31DSCGC91_2,  P16N,    32,  1,   4704,   1038,2,19910317,1030, 30.6657,-151.9917, 5449,   4255.0,   1.4728,  34.6864,2,  34.6860,2,    149.4,2,   158.70,2,    36.75,2,     0.00,2,     2.51,2,    0.004,2,    0.000,2, -999.000,9,-999.0000,9,  -999.00,9,   -999.0,9,  -999.00,9,-999.000,9,   2327.0,2,   -999.0,9,     7.58,2,  42857,  -999.0,-999.0000,-999.000,-999.000,  1.1265,-999.000
   31DSCGC91_2,  P16N,    32,  1,   4703,   1029,2,19910317,1030, 30.6657,-151.9917, 5449,   4759.4,   1.5028,  34.6886,2,  34.6890,2,    154.9,2,   154.00,2,    36.03,2,     0.00,2,     2.47,2,    0.007,3,    0.016,4, -999.000,9,-999.0000,9,  -999.00,9,   -999.0,9,  -999.00,9,-999.000,9,   2322.8,2,   -999.0,9,     7.59,2,  47892,  -999.0,-999.0000,-999.000,-999.000,  1.0973,-999.000
   31DSCGC91_2,  P16N,    32,  1,   4702,   1028,2,19910317,1030, 30.6657,-151.9917, 5449,   5005.6,   1.5278,  34.6901,2,  34.6890,2,    155.0,2,   152.91,2,    35.74,2,     0.00,2,     2.46,2,   -0.002,2,    0.000,2, -999.000,9,-999.0000,9,  -999.00,9,   -999.0,9,  -999.00,9,-999.000,9,   2322.9,2,   -999.0,9,     7.59,2,  50352,  -999.0,-999.0000,-999.000,-999.000,  1.0919,-999.000
   31DSCGC91_2,  P16N,    32,  1,   4701,   1017,2,19910317,1030, 30.6657,-151.9917, 5449,   5422.6,   1.5699,  34.6904,2,  34.6900,2,    156.4,2,   150.97,2,    35.81,2,     0.00,2,     2.45,2,   -0.004,2,    0.010,3, -999.000,9,-999.0000,9,  -999.00,9,   -999.0,9,  -999.00,9,-999.000,9,   2318.6,2,   -999.0,9,     7.59,2,  54524,  -999.0,-999.0000,-999.000,-999.000,  1.0805,-999.000