BOTTLE,20021108WHPSIOdm
EXPOCODE,SECT_ID,STNNBR,CASTNO,SAMPNO,BTLNBR,BTLNBR_FLAG_W,DATE,TIME,LATITUDE,LONGITUDE,DEPTH,CTDPRS,CTDTMP,CTDSAL,CTDSAL_FLAG_W,SALNTY,SALNTY_FLAG_W,OXYGEN,OXYGEN_FLAG_W,SILCAT,SILCAT_FLAG_W,NITRAT,NITRAT_FLAG_W,NITRIT,NITRIT_FLAG_W,PHSPHT,PHSPHT_FLAG_W,CFC-11,CFC-11_FLAG_W,CFC-12,CFC-12_FLAG_W,TRITUM,TRITUM_FLAG_W,HELIUM,HELIUM_FLAG_W,DELHE3,DELHE3_FLAG_W,DELC14,DELC14_FLAG_W,DELC13,DELC13_FLAG_W,NEON,NEON_FLAG_W,TCARBN,TCARBN_FLAG_W,ALKALI,ALKALI_FLAG_W,PH,PH_FLAG_W,CTDRAW,C14ERR,HELIER,DELHER,NEONER,THETA,TRITER
,,,,,,,,,,,,DBAR,ITS-90,PSS-78,,PSS-78,,UMOL/KG,,UMOL/KG,,UMOL/KG,,UMOL/KG,,UMOL/KG,,PMOL/KG,,PMOL/KG,,TU,,NMOL/KG,,PERCNT,,/MILLE,,/MILLE,,NMOL/KG,,UMOL/KG,,UMOL/KG,,,,DBAR,/MILLE,NMOL/KG,PERCNT,NMOL/KG,DEG C,TU
   31DSCGC91_2,  P16N,    59,  1,   7924,   1031,2,19910330,1117, 54.6607,-151.9963, 4291,      7.5,   3.4394,  32.8795,2,  32.8760,2,    318.3,2,    35.85,2,    20.53,2,     0.16,2,     1.67,2,    5.316,6,    2.598,6, -999.000,9,-999.0000,9,  -999.00,9,   -999.0,9,  -999.00,9,-999.000,9,   2080.8,2,   -999.0,9,     7.71,2,    428,  -999.0,-999.0000,-999.000,-999.000,  3.4390,-999.000
   31DSCGC91_2,  P16N,    59,  1,   7923,   1023,2,19910330,1117, 54.6607,-151.9963, 4291,     31.9,   3.4384,  32.8771,2,  32.8760,2,    317.3,2,    35.83,2,    20.78,2,     0.16,2,     1.69,2,    5.245,2,    2.601,2, -999.000,9,-999.0000,9,  -999.00,9,   -999.0,9,  -999.00,9,-999.000,9,   2082.2,2,   -999.0,9,     7.72,2,    673,  -999.0,-999.0000,-999.000,-999.000,  3.4365,-999.000
   31DSCGC91_2,  P16N,    59,  1,   7922,   1028,2,19910330,1117, 54.6607,-151.9963, 4291,     62.8,   3.4444,  32.8798,2,  32.8760,2,    317.7,2,    35.81,2,    20.74,2,     0.16,2,     1.68,2,    5.208,2,    2.583,2, -999.000,9,-999.0000,9,  -999.00,9,   -999.0,9,  -999.00,9,-999.000,9,   2080.7,2,   -999.0,9,     7.71,2,    984,  -999.0,-999.0000,-999.000,-999.000,  3.4406,-999.000
   31DSCGC91_2,  P16N,    59,  1,   7921,   1032,2,19910330,1117, 54.6607,-151.9963, 4291,     99.5,   3.4555,  32.8828,2,  32.8930,2,    312.6,2,    36.39,2,    21.27,2,     0.17,2,     1.71,2,    5.151,2,    2.562,2, -999.000,9,-999.0000,9,  -999.00,9,   -999.0,9,  -999.00,9,-999.000,9,   2085.4,2,   -999.0,9,     7.70,2,   1353,  -999.0,-999.0000,-999.000,-999.000,  3.4493,-999.000
   31DSCGC91_2,  P16N,    59,  1,   7920,   1027,2,19910330,1117, 54.6607,-151.9963, 4291,    152.8,   4.1877,  33.8346,2,  33.8170,2,     66.6,2,    78.51,2,    40.68,2,     0.01,2,     2.87,2,    1.590,2,    0.719,2, -999.000,9,-999.0000,9,  -999.00,9,   -999.0,9,  -999.00,9,-999.000,9,   2279.6,2,   -999.0,9,     7.30,2,   1888,  -999.0,-999.0000,-999.000,-999.000,  4.1771,-999.000
   31DSCGC91_2,  P16N,    59,  1,   7919,   1007,2,19910330,1117, 54.6607,-151.9963, 4291,    201.5,   4.0686,  33.9234,2,  33.9200,2,     37.3,2,    89.76,2,    43.37,2,     0.01,2,     3.02,2,    1.024,2,    0.464,2, -999.000,9,-999.0000,9,  -999.00,9,   -999.0,9,  -999.00,9,-999.000,9,   2309.3,2,   -999.0,9,     7.25,2,   2378,  -999.0,-999.0000,-999.000,-999.000,  4.0547,-999.000
   31DSCGC91_2,  P16N,    59,  1,   7918,   1041,2,19910330,1117, 54.6607,-151.9963, 4291,    300.7,   3.9106,  34.0288,2,  34.0240,2,     22.9,2,   102.29,2,    44.39,2,     0.01,2,     3.07,2,    0.673,3,    0.238,3, -999.000,9,-999.0000,9,  -999.00,9,   -999.0,9,  -999.00,9,-999.000,9,   2328.3,2,   -999.0,9,     7.24,2,   3374,  -999.0,-999.0000,-999.000,-999.000,  3.8899,-999.000
   31DSCGC91_2,  P16N,    59,  1,   7917,   1033,2,19910330,1117, 54.6607,-151.9963, 4291,    401.9,   3.7746,  34.1121,2,  34.1110,2,     20.5,2,   112.24,2,    44.19,2,     0.00,2,     3.10,2,    0.287,2,    0.123,2, -999.000,9,-999.0000,9,  -999.00,9,   -999.0,9,  -999.00,9,-999.000,9,   2335.4,2,   -999.0,9,     7.26,2,   4390,  -999.0,-999.0000,-999.000,-999.000,  3.7470,-999.000
   31DSCGC91_2,  P16N,    59,  1,   7916,   1025,2,19910330,1117, 54.6607,-151.9963, 4291,    502.7,   3.5875,  34.1887,2,  34.1880,2,     19.4,2,   121.21,2,    43.71,2,     0.00,2,     3.10,2,    0.149,2,    0.049,4, -999.000,9,-999.0000,9,  -999.00,9,   -999.0,9,  -999.00,9,-999.000,9,   2347.8,2,   -999.0,9,     7.27,2,   5400,  -999.0,-999.0000,-999.000,-999.000,  3.5533,-999.000
   31DSCGC91_2,  P16N,    59,  1,   7915,   1017,2,19910330,1117, 54.6607,-151.9963, 4291,    600.7,   3.4094,  34.2411,2,  34.2420,2,     21.0,2,   128.58,2,    44.04,2,     0.00,2,     3.10,2,    0.100,2,    0.046,2, -999.000,9,-999.0000,9,  -999.00,9,   -999.0,9,  -999.00,9,-999.000,9,   2355.0,2,   -999.0,9,     7.28,2,   6384,  -999.0,-999.0000,-999.000,-999.000,  3.3689,-999.000
   31DSCGC91_2,  P16N,    59,  1,   7914,   1036,2,19910330,1117, 54.6607,-151.9963, 4291,    698.5,   3.2374,  34.2889,2,  34.2900,2,     17.1,2,   135.98,2,    44.02,2,     0.00,2,     3.09,2,    0.054,6,    0.029,6, -999.000,9,-999.0000,9,  -999.00,9,   -999.0,9,  -999.00,9,-999.000,9,   2362.4,2,   -999.0,9,     7.28,2,   7364,  -999.0,-999.0000,-999.000,-999.000,  3.1906,-999.000
   31DSCGC91_2,  P16N,    59,  1,   7913,   1013,2,19910330,1117, 54.6607,-151.9963, 4291,    795.9,   3.0723,  34.3298,2,  34.3290,2,     17.8,2,   141.95,2,    44.47,2,     0.00,2,     3.08,2,    0.036,2,    0.017,2, -999.000,9,-999.0000,9,  -999.00,9,   -999.0,9,  -999.00,9,-999.000,9,   2371.4,2,   -999.0,9,     7.29,2,   8340,  -999.0,-999.0000,-999.000,-999.000,  3.0193,-999.000
   31DSCGC91_2,  P16N,    59,  1,   7912,   1037,2,19910330,1117, 54.6607,-151.9963, 4291,    897.3,   2.9293,  34.3650,2,  34.3660,2,     18.0,2,   147.53,2,    44.16,2,     0.00,2,     3.09,2,    0.036,3,    0.005,2, -999.000,9,-999.0000,9,  -999.00,9,   -999.0,9,  -999.00,9,-999.000,9,   2373.1,2,   -999.0,9,     7.29,2,   9356,  -999.0,-999.0000,-999.000,-999.000,  2.8698,-999.000
   31DSCGC91_2,  P16N,    59,  1,   7911,   1003,2,19910330,1117, 54.6607,-151.9963, 4291,    999.4,   2.7952,  34.3943,2,  34.3960,2,     20.5,2,   151.67,2,    44.14,2,     0.00,2,     3.10,2,    0.032,3,    0.006,3, -999.000,9,-999.0000,9,  -999.00,9,   -999.0,9,  -999.00,9,-999.000,9,   2378.9,2,   -999.0,9,     7.30,2,  10378,  -999.0,-999.0000,-999.000,-999.000,  2.7292,-999.000
   31DSCGC91_2,  P16N,    59,  1,   7910,   1011,2,19910330,1117, 54.6607,-151.9963, 4291,   1199.4,   2.5272,  34.4523,2,  34.4530,2,     23.5,2,   160.22,2,    44.12,2,     0.00,2,     3.09,2,    0.030,3,   -0.007,3, -999.000,9,-999.0000,9,  -999.00,9,   -999.0,9,  -999.00,9,-999.000,9,   2382.3,2,   -999.0,9,     7.31,2,  12379,  -999.0,-999.0000,-999.000,-999.000,  2.4484,-999.000
   31DSCGC91_2,  P16N,    59,  1,   7909,     26,2,19910330,1117, 54.6607,-151.9963, 4291,   1450.5,   2.2801,  34.5083,2,  34.5070,2,     31.2,2,   167.56,2,    43.52,2,     0.00,2,     3.05,2,    0.006,3,   -0.006,3, -999.000,9,-999.0000,9,  -999.00,9,   -999.0,9,  -999.00,9,-999.000,9,   2387.1,2,   -999.0,9,     7.33,2,  14889,  -999.0,-999.0000,-999.000,-999.000,  2.1846,-999.000
   31DSCGC91_2,  P16N,    59,  1,   7908,   1019,2,19910330,1117, 54.6607,-151.9963, 4291,   1699.2,   2.0890,  34.5506,2,  34.5500,2,     45.5,2,   171.96,2,    43.09,2,     0.00,2,     3.00,2,    0.006,3,   -0.008,3, -999.000,9,-999.0000,9,  -999.00,9,   -999.0,9,  -999.00,9,-999.000,9,   2381.8,2,   -999.0,9,     7.36,2,  17373,  -999.0,-999.0000,-999.000,-999.000,  1.9762,-999.000
   31DSCGC91_2,  P16N,    59,  1,   7907,   1004,2,19910330,1117, 54.6607,-151.9963, 4291,   2002.8,   1.9140,  34.5877,2,  34.5870,2,     59.6,2,   174.25,2,    42.02,2,     0.00,2,     2.92,2,   -0.004,2,   -0.005,2, -999.000,9,-999.0000,9,  -999.00,9,   -999.0,9,  -999.00,9,-999.000,9,   2379.3,2,   -999.0,9,     7.39,2,  20403,  -999.0,-999.0000,-999.000,-999.000,  1.7787,-999.000
   31DSCGC91_2,  P16N,    59,  1,   7906,   1002,2,19910330,1117, 54.6607,-151.9963, 4291,   2499.1,   1.7089,  34.6288,2,  34.6530,4,     85.7,2,   175.48,2,    40.42,2,     0.00,2,     2.81,2,   -0.004,2,    0.000,2, -999.000,9,-999.0000,9,  -999.00,9,   -999.0,9,  -999.00,9,-999.000,9,   2369.7,2,   -999.0,9,     7.45,2,  25353,  -999.0,-999.0000,-999.000,-999.000,  1.5342,-999.000
   31DSCGC91_2,  P16N,    59,  1,   7904,      6,4,19910330,1117, 54.6607,-151.9963, 4291,   3003.7,   1.5899,  34.6540,2,  34.6530,2,    109.2,2,   172.86,2,    39.10,2,     0.00,2,     2.71,2,   -0.004,2,    0.000,2, -999.000,9,-999.0000,9,  -999.00,9,   -999.0,9,  -999.00,9,-999.000,9,   -999.0,9,   -999.0,9,     7.50,2,  30382,  -999.0,-999.0000,-999.000,-999.000,  1.3708,-999.000
   31DSCGC91_2,  P16N,    59,  1,   7905,   1026,2,19910330,1117, 54.6607,-151.9963, 4291,   3003.7,   1.5899,  34.6540,2,  34.6530,2,    108.6,2,   173.11,2,    39.18,2,     0.00,2,     2.68,2,    0.007,3,    0.000,2, -999.000,9,-999.0000,9,  -999.00,9,   -999.0,9,  -999.00,9,-999.000,9,   2352.2,2,   -999.0,9,     7.50,2,  30382,  -999.0,-999.0000,-999.000,-999.000,  1.3708,-999.000
   31DSCGC91_2,  P16N,    59,  1,   7903,      1,2,19910330,1117, 54.6607,-151.9963, 4291,   3505.9,   1.5158,  34.6704,2,  34.6690,2,    134.8,4,   170.70,2,    38.20,2,     0.00,2,     2.62,2,   -0.004,2,    0.005,2, -999.000,9,-999.0000,9,  -999.00,9,   -999.0,9,  -999.00,9,-999.000,9,   -999.0,9,   -999.0,9,  -999.00,9,  35387,  -999.0,-999.0000,-999.000,-999.000,  1.2487,-999.000
   31DSCGC91_2,  P16N,    59,  1,   7902,   1012,2,19910330,1117, 54.6607,-151.9963, 4291,   4005.9,   1.5098,  34.6780,2,  34.6780,2,    135.9,2,   169.61,2,    37.36,2,     0.00,2,     2.58,2,    0.006,3,    0.000,2, -999.000,9,-999.0000,9,  -999.00,9,   -999.0,9,  -999.00,9,-999.000,9,   2336.7,2,   -999.0,9,     7.55,2,  40372,  -999.0,-999.0000,-999.000,-999.000,  1.1900,-999.000
   31DSCGC91_2,  P16N,    59,  1,   7901,   1016,2,19910330,1117, 54.6607,-151.9963, 4291,   4351.6,   1.5048,  34.6824,2,  34.6840,2,    142.4,2,   168.51,2,    36.58,2,     0.00,2,     2.54,2,   -0.004,2,   -0.003,2, -999.000,9,-999.0000,9,  -999.00,9,   -999.0,9,  -999.00,9,-999.000,9,   2334.6,2,   -999.0,9,     7.56,2,  43821,  -999.0,-999.0000,-999.000,-999.000,  1.1467,-999.000
   31DSCGC91_2,  P16N,    60,  3,   8024,   1031,2,19910331,0757, 55.4453,-152.6280, 5158,    448.5,   3.6465,  34.1734,2,  34.1730,2,     17.2,2,   119.36,2,    44.98,2,     0.00,2,     3.12,2,    0.155,2,    0.074,2, -999.000,9,-999.0000,9,  -999.00,9,   -999.0,9,  -999.00,9,-999.000,9,   2342.1,2,   -999.0,9,     7.27,2,   4858,  -999.0,-999.0000,-999.000,-999.000,  3.6160,-999.000
   31DSCGC91_2,  P16N,    60,  3,   8023,   1023,2,19910331,0757, 55.4453,-152.6280, 5158,    499.7,   3.5565,  34.2060,2,  34.2050,2,     15.9,2,   123.64,2,    44.49,2,     0.00,2,     3.08,2,    0.097,2,    0.051,2,    0.323,2,   1.8720,2,    15.99,2,   -145.4,2,    -0.72,2,   7.909,2,   2350.3,2,   -999.0,9,     7.27,2,   5370,     8.3,  0.0100,   0.150,   0.042,  3.5226,   0.004
   31DSCGC91_2,  P16N,    60,  3,   8022,   1028,2,19910331,0757, 55.4453,-152.6280, 5158,    549.5,   3.4735,  34.2332,2,  34.2320,2,     15.8,2,   127.29,2,    44.98,2,     0.00,2,     3.13,2,    0.085,2,    0.037,2, -999.000,9,-999.0000,9,  -999.00,9,   -999.0,9,  -999.00,9,-999.000,9,   2353.7,2,   -999.0,9,     7.27,2,   5870,  -999.0,-999.0000,-999.000,-999.000,  3.4363,-999.000
   31DSCGC91_2,  P16N,    60,  3,   8021,   1032,2,19910331,0757, 55.4453,-152.6280, 5158,    599.7,   3.3894,  34.2566,2,  34.2570,2,     14.8,2,   131.16,2,    44.75,2,     0.00,2,     3.14,2,    0.067,2,    0.039,2,    0.209,2,-999.0000,9,  -999.00,9,   -213.1,3,    -0.90,2,-999.000,9,   -999.0,9,   -999.0,9,     7.28,2,   6374,    18.1,-999.0000,-999.000,-999.000,  3.3490,   0.002
   31DSCGC91_2,  P16N,    60,  3,   8020,   1027,2,19910331,0757, 55.4453,-152.6280, 5158,    649.3,   3.3134,  34.2756,2,  34.2760,2,     15.4,2,   133.99,2,    44.71,2,     0.00,2,     3.14,2,    0.058,2,    0.037,4, -999.000,9,-999.0000,9,  -999.00,9,   -999.0,9,  -999.00,9,-999.000,9,   2360.0,2,   -999.0,9,     7.28,2,   6870,  -999.0,-999.0000,-999.000,-999.000,  3.2698,-999.000
   31DSCGC91_2,  P16N,    60,  3,   8019,   1007,2,19910331,0757, 55.4453,-152.6280, 5158,    700.9,   3.2334,  34.2978,2,  34.2990,2,     14.1,2,   137.24,2,    44.94,2,     0.00,2,     3.14,2,    0.023,3,    0.022,2,    0.141,2,   1.8530,2,    15.92,2,   -173.6,2,    -1.00,2,   7.906,2,   2368.0,2,   -999.0,9,     7.28,2,   7388,     7.0,  0.0100,   0.150,   0.042,  3.1864,   0.002
   31DSCGC91_2,  P16N,    60,  3,   8018,   1041,2,19910331,0757, 55.4453,-152.6280, 5158,    799.5,   3.0503,  34.3366,2,  34.3360,2,     15.7,2,   143.21,2,    44.64,2,     0.00,2,     3.13,2,    0.033,2,    0.016,2, -999.000,9,-999.0000,9,  -999.00,9,   -999.0,9,  -999.00,9,-999.000,9,   2369.2,2,   -999.0,9,     7.29,2,   8376,  -999.0,-999.0000,-999.000,-999.000,  2.9972,-999.000
   31DSCGC91_2,  P16N,    60,  3,   8017,   1033,2,19910331,0757, 55.4453,-152.6280, 5158,    901.0,   2.9163,  34.3659,2,  34.3670,2,     16.9,2,   147.73,2,    44.67,2,     0.00,2,     3.13,2,    0.019,2,    0.010,2,    0.077,2,   1.8760,2,    16.77,2,   -195.7,2,    -0.62,2,   7.944,2,   2376.0,2,   -999.0,9,     7.29,2,   9393,     6.7,  0.0100,   0.150,   0.042,  2.8566,   0.002
   31DSCGC91_2,  P16N,    60,  3,   8016,   1025,2,19910331,0757, 55.4453,-152.6280, 5158,    996.5,   2.7632,  34.4006,2,  34.4000,2,     18.8,2,   153.10,2,    44.63,2,     0.00,2,     3.11,2,    0.021,2,    0.010,3, -999.000,9,-999.0000,9,  -999.00,9,   -999.0,9,  -999.00,9,-999.000,9,   2381.7,2,   -999.0,9,     7.30,2,  10349,  -999.0,-999.0000,-999.000,-999.000,  2.6976,-999.000
   31DSCGC91_2,  P16N,    60,  3,   8015,   1017,2,19910331,0757, 55.4453,-152.6280, 5158,   1074.7,   2.6512,  34.4241,2,  34.4250,2,     19.5,2,   156.79,2,    44.53,2,     0.00,2,     3.10,2,    0.014,3,    0.000,2,    0.043,2,   1.8890,2,    16.47,2,   -214.0,2,    -1.11,2,-999.000,9,   2379.6,2,   -999.0,9,     7.30,2,  11131,     4.0,-999.0000,-999.000,-999.000,  2.5807,   0.002
   31DSCGC91_2,  P16N,    60,  3,   8014,   1036,2,19910331,0757, 55.4453,-152.6280, 5158,   1248.4,   2.4111,  34.4760,2,  34.4770,2,     25.8,2,   164.09,2,    44.30,2,     0.00,2,     3.09,2, -999.000,9, -999.000,9, -999.000,9,   1.9080,2,    17.34,2,   -999.0,9,  -999.00,9,-999.000,9,   2385.0,2,   -999.0,9,     7.32,2,  12869,  -999.0,-999.0000,-999.000,-999.000,  2.3297,-999.000
   31DSCGC91_2,  P16N,    60,  3,   8013,   1013,2,19910331,0757, 55.4453,-152.6280, 5158,   1498.3,   2.1610,  34.5325,2,  34.5320,2,     37.2,2,   170.35,2,    43.88,2,     0.00,2,     3.04,2, -999.000,9, -999.000,9,    0.007,2,   1.9220,2,    18.13,2,   -233.3,2,    -0.69,2,-999.000,9,   2388.0,2,   -999.0,9,     7.35,2,  15366,     3.9,-999.0000,-999.000,-999.000,  2.0631,   0.002
   31DSCGC91_2,  P16N,    60,  3,   8012,   1037,2,19910331,0757, 55.4453,-152.6280, 5158,   1749.1,   1.9900,  34.5687,2,  34.5690,2,     50.0,2,   174.28,2,    43.14,2,     0.00,2,     3.00,2, -999.000,9, -999.000,9, -999.000,9,   1.9150,2,    18.20,2,   -999.0,9,  -999.00,9,-999.000,9,   2383.2,2,   -999.0,9,     7.38,2,  17871,  -999.0,-999.0000,-999.000,-999.000,  1.8744,-999.000
   31DSCGC91_2,  P16N,    60,  3,   8011,   1003,2,19910331,0757, 55.4453,-152.6280, 5158,   1997.9,   1.8690,  34.5951,2,  34.5950,2,     63.2,2,   175.23,2,    42.59,2,     0.00,2,     2.93,2, -999.000,9, -999.000,9, -999.000,9,   1.9060,2,    17.90,2,   -999.0,9,  -999.00,9,-999.000,9,   2375.5,2,   -999.0,9,     7.40,2,  20354,  -999.0,-999.0000,-999.000,-999.000,  1.7348,-999.000
   31DSCGC91_2,  P16N,    60,  3,   8010,      0,3,19910331,0757, 55.4453,-152.6280, 5158,   2251.0,   1.7549,  34.6177,2,  34.6170,2,     76.8,2,   175.96,2,    41.27,2,     0.00,2,     2.87,2,    0.003,2,    0.014,3, -999.000,9,-999.0000,9,  -999.00,9,   -999.0,9,  -999.00,9,-999.000,9,   -999.0,9,   -999.0,9,  -999.00,9,  22878,  -999.0,-999.0000,-999.000,-999.000,  1.6012,-999.000
   31DSCGC91_2,  P16N,    60,  3,   8009,     26,2,19910331,0757, 55.4453,-152.6280, 5158,   2502.0,   1.6709,  34.6347,2,  34.6340,2,     89.8,2,   174.78,2,    40.46,2,     0.00,2,     2.80,2,    0.010,3,    0.000,2, -999.000,9,   1.9090,2,    17.67,2,   -999.0,9,  -999.00,9,-999.000,9,   2364.6,2,   -999.0,9,     7.46,2,  25382,  -999.0,-999.0000,-999.000,-999.000,  1.4966,-999.000
   31DSCGC91_2,  P16N,    60,  3,   8008,   1019,2,19910331,0757, 55.4453,-152.6280, 5158,   2751.2,   1.5949,  34.6487,2,  34.6490,2,    103.5,2,   174.02,2,    39.47,2,     0.00,2,     2.74,2, -999.000,9, -999.000,9, -999.000,9,   1.9090,2,    17.44,2,   -999.0,9,  -999.00,9,-999.000,9,   2357.4,2,   -999.0,9,  -999.00,9,  27866,  -999.0,-999.0000,-999.000,-999.000,  1.3994,-999.000
   31DSCGC91_2,  P16N,    60,  3,   8007,   1004,2,19910331,0757, 55.4453,-152.6280, 5158,   3004.6,   1.5499,  34.6581,2,  34.6570,2,    113.0,2,   172.62,2,    38.67,2,     0.00,2,     2.69,2, -999.000,9, -999.000,9, -999.000,9,   1.9250,2,    17.18,2,   -999.0,9,  -999.00,9,-999.000,9,   2349.7,2,   -999.0,9,     7.51,2,  30391,  -999.0,-999.0000,-999.000,-999.000,  1.3316,-999.000
   31DSCGC91_2,  P16N,    60,  3,   8005,   1026,4,19910331,0757, 55.4453,-152.6280, 5158,   3502.4,   1.4848,  34.6729,2,  34.6730,2,    131.9,2,   169.20,2,    37.78,2,     0.00,2,     2.60,2, -999.000,9, -999.000,9, -999.000,9,   1.9110,2,    16.60,2,   -999.0,9,  -999.00,9,-999.000,9,   -999.0,9,   -999.0,9,     7.54,2,  35353,  -999.0,-999.0000,-999.000,-999.000,  1.2188,-999.000
   31DSCGC91_2,  P16N,    60,  3,   8006,   1002,2,19910331,0757, 55.4453,-152.6280, 5158,   3502.4,   1.4848,  34.6729,2,  34.6730,2,    131.7,2,   169.10,2,    37.43,2,     0.00,2,     2.60,2,   -0.005,2,    0.000,2, -999.000,9,-999.0000,9,  -999.00,9,   -999.0,9,  -999.00,9,-999.000,9,   2338.9,2,   -999.0,9,     7.54,2,  35353,  -999.0,-999.0000,-999.000,-999.000,  1.2188,-999.000
   31DSCGC91_2,  P16N,    60,  3,   8004,      6,2,19910331,0757, 55.4453,-152.6280, 5158,   4506.8,   1.4828,  34.6852,2,  34.6870,2,    151.5,2,   161.05,2,    36.16,2,     0.00,2,     2.51,2, -999.000,9, -999.000,9, -999.000,9,   1.9140,2,    16.44,2,   -999.0,9,  -999.00,9,-999.000,9,   2323.9,2,   -999.0,9,     7.57,2,  45370,  -999.0,-999.0000,-999.000,-999.000,  1.1075,-999.000
   31DSCGC91_2,  P16N,    60,  3,   8003,      1,2,19910331,0757, 55.4453,-152.6280, 5158,   4507.0,   1.4828,  34.6851,2,  34.6860,2,    156.7,3,   160.94,2,    36.45,2,     0.00,2,     2.51,2,   -0.004,2,    0.000,2, -999.000,9,-999.0000,9,  -999.00,9,   -999.0,9,  -999.00,9,-999.000,9,   -999.0,9,   -999.0,9,  -999.00,9,  45372,  -999.0,-999.0000,-999.000,-999.000,  1.1075,-999.000
   31DSCGC91_2,  P16N,    60,  3,   8002,   1012,2,19910331,0757, 55.4453,-152.6280, 5158,   5006.7,   1.5098,  34.6880,2,  34.6910,2,    157.6,2,   155.16,2,    36.16,2,     0.00,2,     2.48,2, -999.000,9, -999.000,9, -999.000,9,   1.9180,2,    15.80,2,   -999.0,9,  -999.00,9,-999.000,9,   2317.4,2,   -999.0,9,     7.58,2,  50362,  -999.0,-999.0000,-999.000,-999.000,  1.0744,-999.000
   31DSCGC91_2,  P16N,    60,  3,   8001,   1016,2,19910331,0757, 55.4453,-152.6280, 5158,   5244.9,   1.5308,  34.6901,2,  34.6910,2,    158.1,2,   154.43,2,    35.50,2,     0.00,2,     2.46,2, -999.000,9, -999.000,9, -999.000,9,   1.9140,2,    15.34,2,   -999.0,9,  -999.00,9,-999.000,9,   2315.9,2,   -999.0,9,     7.58,2,  52746,  -999.0,-999.0000,-999.000,-999.000,  1.0653,-999.000