BOTTLE,20021108WHPSIOdm
EXPOCODE,SECT_ID,STNNBR,CASTNO,SAMPNO,BTLNBR,BTLNBR_FLAG_W,DATE,TIME,LATITUDE,LONGITUDE,DEPTH,CTDPRS,CTDTMP,CTDSAL,CTDSAL_FLAG_W,SALNTY,SALNTY_FLAG_W,OXYGEN,OXYGEN_FLAG_W,SILCAT,SILCAT_FLAG_W,NITRAT,NITRAT_FLAG_W,NITRIT,NITRIT_FLAG_W,PHSPHT,PHSPHT_FLAG_W,CFC-11,CFC-11_FLAG_W,CFC-12,CFC-12_FLAG_W,TRITUM,TRITUM_FLAG_W,HELIUM,HELIUM_FLAG_W,DELHE3,DELHE3_FLAG_W,DELC14,DELC14_FLAG_W,DELC13,DELC13_FLAG_W,NEON,NEON_FLAG_W,TCARBN,TCARBN_FLAG_W,ALKALI,ALKALI_FLAG_W,PH,PH_FLAG_W,CTDRAW,C14ERR,HELIER,DELHER,NEONER,THETA,TRITER
,,,,,,,,,,,,DBAR,ITS-90,PSS-78,,PSS-78,,UMOL/KG,,UMOL/KG,,UMOL/KG,,UMOL/KG,,UMOL/KG,,PMOL/KG,,PMOL/KG,,TU,,NMOL/KG,,PERCNT,,/MILLE,,/MILLE,,NMOL/KG,,UMOL/KG,,UMOL/KG,,,,DBAR,/MILLE,NMOL/KG,PERCNT,NMOL/KG,DEG C,TU
   31DSCGC91_2,  P16N,    46,  1,   6324,   1027,4,19910323,0038, 40.6742,-152.0222, 5021,     31.8,  11.3659,  33.5113,2,  33.5120,2,    277.9,2,     4.15,2,     1.02,2,     0.03,2,     0.34,2,    3.684,2,    1.806,2,    2.100,2,-999.0000,9,  -999.00,9,     71.3,2,     1.33,2,-999.000,9,   -999.0,9,   -999.0,9,     7.94,2,    671,     4.2,-999.0000,-999.000,-999.000, 11.3620,   0.006
   31DSCGC91_2,  P16N,    46,  1,   6322,   1026,2,19910323,0038, 40.6742,-152.0222, 5021,    126.7,  10.0685,  33.8919,2,  33.8910,2,    246.9,2,    12.53,2,    10.48,2,     0.01,2,     0.86,2,    3.653,2,    1.790,2, -999.000,9,-999.0000,9,  -999.00,9,     70.0,2,     1.19,2,-999.000,9,   2059.6,2,   -999.0,9,     7.84,2,   1626,     4.7,-999.0000,-999.000,-999.000, 10.0540,-999.000
   31DSCGC91_2,  P16N,    46,  1,   6321,   1004,2,19910323,0038, 40.6742,-152.0222, 5021,    150.0,   9.7994,  33.9558,2,  33.9660,2,    235.1,2,    15.52,2,    12.94,2,     0.01,2,     0.99,2,    3.499,2,    1.699,2,    2.046,2,-999.0000,9,  -999.00,9,     72.5,2,     0.55,2,-999.000,9,   2073.4,2,   -999.0,9,     7.81,2,   1860,     3.9,-999.0000,-999.000,-999.000,  9.7825,   0.006
   31DSCGC91_2,  P16N,    46,  1,   6320,   1025,2,19910323,0038, 40.6742,-152.0222, 5021,    199.6,   9.3683,  34.0421,2,  34.0470,2,    223.8,2,    20.31,2,    15.83,2,     0.00,2,     1.16,2,    3.295,2,    1.571,2,    2.046,2,-999.0000,9,  -999.00,9,     42.0,2,     0.54,2,-999.000,9,   2095.8,2,   -999.0,9,     7.78,2,   2359,     5.9,-999.0000,-999.000,-999.000,  9.3463,   0.006
   31DSCGC91_2,  P16N,    46,  1,   6319,   1031,2,19910323,0038, 40.6742,-152.0222, 5021,    300.3,   7.7438,  33.9878,2,  33.9870,2,    214.1,2,    29.70,2,    20.02,2,     0.00,2,     1.44,2,    3.120,2,    1.435,2,    1.975,2,-999.0000,9,  -999.00,9,   -999.0,9,  -999.00,9,-999.000,9,   2126.6,2,   -999.0,9,     7.72,2,   3370,  -999.0,-999.0000,-999.000,-999.000,  7.7142,   0.006
   31DSCGC91_2,  P16N,    46,  1,   6318,   1036,2,19910323,0038, 40.6742,-152.0222, 5021,    350.7,   7.2326,  33.9755,2,  33.9740,2,    199.2,2,    35.49,2,    22.56,2,     0.00,2,     1.61,2,    2.789,2,    1.298,2,    1.965,2,-999.0000,9,  -999.00,9,     21.8,2,  -999.00,5,-999.000,9,   2146.2,2,   -999.0,9,     7.68,2,   3876,     9.3,-999.0000,-999.000,-999.000,  7.1994,   0.006
   31DSCGC91_2,  P16N,    46,  1,   6317,     26,2,19910323,0038, 40.6742,-152.0222, 5021,    449.1,   6.1623,  33.9563,2,  33.9550,2,    154.9,2,    52.52,2,    29.06,2,     0.00,2,     2.06,2,    1.937,2,    0.869,2,    1.731,2,-999.0000,9,  -999.00,9,    -29.4,2,    -0.07,2,-999.000,9,   2196.4,2,   -999.0,9,     7.56,2,   4864,     9.1,-999.0000,-999.000,-999.000,  6.1230,   0.006
   31DSCGC91_2,  P16N,    46,  1,   6316,   1037,2,19910323,0038, 40.6742,-152.0222, 5021,    548.9,   5.2110,  33.9954,2,  33.9970,2,    102.5,2,    72.86,2,    35.11,2,     0.00,2,     2.50,2,    0.983,2,    0.442,2,    1.363,2,-999.0000,9,  -999.00,9,    -82.5,2,    -0.01,2,-999.000,9,   2247.1,2,   -999.0,9,     7.46,2,   5865,     5.8,-999.0000,-999.000,-999.000,  5.1666,   0.005
   31DSCGC91_2,  P16N,    46,  1,   6315,   1032,2,19910323,0038, 40.6742,-152.0222, 5021,    648.0,   4.4858,  34.0740,2,  34.0730,2,     65.3,2,    92.31,2,    39.23,2,     0.00,2,     2.79,2,    0.440,2,    0.200,2,    0.905,2,-999.0000,9,  -999.00,9,   -125.3,2,    -0.39,2,-999.000,9,   2290.7,2,   -999.0,9,     7.37,2,   6858,     5.2,-999.0000,-999.000,-999.000,  4.4365,   0.004
   31DSCGC91_2,  P16N,    46,  1,   6314,   1011,2,19910323,0038, 40.6742,-152.0222, 5021,    749.5,   4.0586,  34.1497,2,  34.1500,2,     42.5,2,   106.99,2,    41.67,2,     0.00,2,     2.94,2,    0.172,2,    0.075,2,    0.520,2,-999.0000,9,  -999.00,9,   -154.3,2,    -0.53,2,-999.000,9,   2321.7,2,   -999.0,9,     7.33,2,   7875,     8.2,-999.0000,-999.000,-999.000,  4.0034,   0.003
   31DSCGC91_2,  P16N,    46,  1,   6313,   1033,2,19910323,0038, 40.6742,-152.0222, 5021,    849.2,   3.7115,  34.2166,2,  34.2180,2,     27.5,2,   119.30,2,    43.02,2,     0.00,2,     3.06,2,    0.031,2,    0.020,2,    0.222,2,-999.0000,9,  -999.00,9,   -173.1,2,    -0.58,2,-999.000,9,   2345.7,2,   -999.0,9,     7.31,2,   8874,     3.1,-999.0000,-999.000,-999.000,  3.6506,   0.004
   31DSCGC91_2,  P16N,    46,  1,   6312,   1019,2,19910323,0038, 40.6742,-152.0222, 5021,    923.1,   3.5025,  34.2623,2,  34.2620,2,     21.2,2,   126.92,2,    43.88,2,     0.00,2,     3.11,2,    0.020,2,    0.011,2,    0.127,2,-999.0000,9,  -999.00,9,   -181.0,2,    -0.64,2,-999.000,9,   2356.1,2,   -999.0,9,     7.30,2,   9614,     4.6,-999.0000,-999.000,-999.000,  3.4371,   0.004
   31DSCGC91_2,  P16N,    46,  1,   6311,   1041,2,19910323,0038, 40.6742,-152.0222, 5021,   1072.5,   3.1644,  34.3331,2,  34.3350,2,     12.0,2,   139.98,2,    44.46,2,     0.00,2,     3.15,2,    0.006,2,    0.000,2,    0.028,2,-999.0000,9,  -999.00,9,   -196.7,2,    -0.72,2,-999.000,9,   2374.7,2,   -999.0,9,     7.29,2,  11109,     3.0,-999.0000,-999.000,-999.000,  3.0899,   0.002
   31DSCGC91_2,  P16N,    46,  1,   6310,   1002,2,19910323,0038, 40.6742,-152.0222, 5021,   1175.5,   2.9383,  34.3799,2,  34.3810,2,     10.8,2,   148.11,2,    44.61,2,     0.00,2,     3.17,2,   -0.002,2,    0.000,2,    0.018,2,-999.0000,9,  -999.00,9,   -218.7,2,    -0.76,2,-999.000,9,   2383.3,2,   -999.0,9,     7.29,2,  12140,     5.9,-999.0000,-999.000,-999.000,  2.8577,   0.002
   31DSCGC91_2,  P16N,    46,  1,   6309,   1003,2,19910323,0038, 40.6742,-152.0222, 5021,   1375.9,   2.6342,  34.4517,2,  34.4520,2,     11.2,2,   159.23,2,    44.81,2,     0.00,2,     3.17,2,    0.000,2,    0.000,2,   -0.005,2,-999.0000,9,  -999.00,9,   -216.9,2,    -0.80,2,-999.000,9,   2393.9,2,   -999.0,9,     7.29,2,  14143,     4.4,-999.0000,-999.000,-999.000,  2.5408,   0.002
   31DSCGC91_2,  P16N,    46,  1,   6307,   1013,2,19910323,0038, 40.6742,-152.0222, 5021,   1502.2,   2.4811,  34.4880,2,  34.4860,2,     15.1,2,   164.02,2,    44.66,2,     0.00,2,     3.15,2,   -0.002,2,    0.000,2, -999.000,9,-999.0000,9,  -999.00,9,   -999.0,9,  -999.00,9,-999.000,9,   2394.7,2,   -999.0,9,     7.30,2,  15405,  -999.0,-999.0000,-999.000,-999.000,  2.3793,-999.000
   31DSCGC91_2,  P16N,    46,  1,   6308,      6,4,19910323,0038, 40.6742,-152.0222, 5021,   1502.2,   2.4811,  34.4880,2,  34.4860,2,     14.9,2,   164.06,2,    44.79,2,     0.00,2,     3.15,2,    0.009,2,    0.000,2,    0.004,2,-999.0000,9,  -999.00,9,   -233.8,2,    -0.70,2,-999.000,9,   -999.0,9,   -999.0,9,     7.30,2,  15405,     5.8,-999.0000,-999.000,-999.000,  2.3793,   0.002
   31DSCGC91_2,  P16N,    46,  1,   6306,   1012,2,19910323,0038, 40.6742,-152.0222, 5021,   1998.9,   1.9860,  34.5926,2,  34.5890,2,     51.9,2,   176.11,2,    42.65,2,     0.00,2,     2.99,2,    0.007,3,    0.000,2, -999.000,9,-999.0000,9,  -999.00,9,   -999.0,9,  -999.00,9,-999.000,9,   2388.0,2,   -999.0,9,     7.39,2,  20364,  -999.0,-999.0000,-999.000,-999.000,  1.8500,-999.000
   31DSCGC91_2,  P16N,    46,  1,   6305,   1007,2,19910323,0038, 40.6742,-152.0222, 5021,   2999.9,   1.5699,  34.6586,2,  34.6580,2,    109.2,2,   172.21,2,    38.82,2,     0.00,2,     2.71,2, -999.000,9, -999.000,9, -999.000,9,-999.0000,9,  -999.00,9,   -999.0,9,  -999.00,9,-999.000,9,   2353.8,2,   -999.0,9,     7.50,2,  30345,  -999.0,-999.0000,-999.000,-999.000,  1.3516,-999.000
   31DSCGC91_2,  P16N,    46,  1,   6303,   1029,4,19910323,0038, 40.6742,-152.0222, 5021,   4007.1,   1.4878,  34.6824,2,  34.6820,2,    136.5,2,   171.91,2,    37.11,2,     0.00,2,     2.57,2, -999.000,9, -999.000,9, -999.000,9,-999.0000,9,  -999.00,9,   -999.0,9,  -999.00,9,-999.000,9,   -999.0,9,   -999.0,9,     7.56,2,  40384,  -999.0,-999.0000,-999.000,-999.000,  1.1685,-999.000
   31DSCGC91_2,  P16N,    46,  1,   6304,   1038,2,19910323,0038, 40.6742,-152.0222, 5021,   4007.1,   1.4878,  34.6824,2,  34.6820,2,    136.8,2,   172.16,2,    36.92,2,     0.00,2,     2.58,2, -999.000,9, -999.000,9, -999.000,9,-999.0000,9,  -999.00,9,   -999.0,9,  -999.00,9,-999.000,9,   2339.8,2,   -999.0,9,     7.56,2,  40384,  -999.0,-999.0000,-999.000,-999.000,  1.1685,-999.000
   31DSCGC91_2,  P16N,    46,  1,   6302,   1028,2,19910323,0038, 40.6742,-152.0222, 5021,   5065.6,   1.5829,  34.6869,2,  34.6860,2,    142.3,2,   173.53,2,    36.95,2,     0.00,2,     2.55,2, -999.000,9, -999.000,9, -999.000,9,-999.0000,9,  -999.00,9,   -999.0,9,  -999.00,9,-999.000,9,   2341.6,2,   -999.0,9,     7.57,2,  50952,  -999.0,-999.0000,-999.000,-999.000,  1.1377,-999.000
   31DSCGC91_2,  P16N,    47,  1,   6424,   1027,2,19910323,0801, 41.3498,-152.0050, 5218,      6.7,  11.4750,  33.5411,2,  33.5390,2,    277.4,2,     4.19,2,     0.80,2,     0.03,2,     0.32,2,    3.636,2,    1.822,2, -999.000,9,-999.0000,9,  -999.00,9,   -999.0,9,  -999.00,9,-999.000,9,   1995.9,2,   -999.0,9,  -999.00,9,    420,  -999.0,-999.0000,-999.000,-999.000, 11.4741,-999.000
   31DSCGC91_2,  P16N,    47,  1,   6423,   1016,2,19910323,0801, 41.3498,-152.0050, 5218,     53.7,  11.3449,  33.5367,2,  33.5350,2,    276.8,2,     4.19,2,     0.91,2,     0.03,2,     0.33,2,    3.627,2,    1.805,2, -999.000,9,-999.0000,9,  -999.00,9,   -999.0,9,  -999.00,9,-999.000,9,   1995.5,2,   -999.0,9,  -999.00,9,    891,  -999.0,-999.0000,-999.000,-999.000, 11.3383,-999.000
   31DSCGC91_2,  P16N,    47,  1,   6422,   1026,2,19910323,0801, 41.3498,-152.0050, 5218,    102.3,  10.0975,  33.8391,2,  33.8270,2,    248.9,2,    11.17,2,     9.47,2,     0.02,2,     0.80,2,    3.687,4,    1.841,4, -999.000,9,-999.0000,9,  -999.00,9,   -999.0,9,  -999.00,9,-999.000,9,   2052.3,2,   -999.0,9,  -999.00,9,   1381,  -999.0,-999.0000,-999.000,-999.000, 10.0858,-999.000
   31DSCGC91_2,  P16N,    47,  1,   6421,   1004,2,19910323,0801, 41.3498,-152.0050, 5218,    250.2,   7.9779,  33.9951,2,  33.9920,2,    223.5,2,    26.94,2,    18.45,2,     0.00,2,     1.35,2,    3.250,2,    1.549,2, -999.000,9,-999.0000,9,  -999.00,9,   -999.0,9,  -999.00,9,-999.000,9,   2114.1,2,   -999.0,9,  -999.00,9,   2867,  -999.0,-999.0000,-999.000,-999.000,  7.9529,-999.000
   31DSCGC91_2,  P16N,    47,  1,   6420,   1025,2,19910323,0801, 41.3498,-152.0050, 5218,    400.3,   6.2713,  33.9553,2,  33.9530,2,    161.5,2,    48.75,2,    27.72,2,     0.00,2,     1.96,2,    2.138,2,    0.978,2, -999.000,9,-999.0000,9,  -999.00,9,   -999.0,9,  -999.00,9,-999.000,9,   2182.7,2,   -999.0,9,  -999.00,9,   4374,  -999.0,-999.0000,-999.000,-999.000,  6.2362,-999.000
   31DSCGC91_2,  P16N,    47,  1,   6419,   1031,2,19910323,0801, 41.3498,-152.0050, 5218,    500.3,   5.3350,  33.9868,2,  33.9850,2,    109.8,2,    69.25,2,    33.94,2,     0.00,2,     2.42,2,    1.109,2,    0.512,2, -999.000,9,-999.0000,9,  -999.00,9,   -999.0,9,  -999.00,9,-999.000,9,   2235.4,2,   -999.0,9,  -999.00,9,   5377,  -999.0,-999.0000,-999.000,-999.000,  5.2943,-999.000
   31DSCGC91_2,  P16N,    47,  1,   6418,   1036,2,19910323,0801, 41.3498,-152.0050, 5218,    599.1,   4.6318,  34.0572,2,  34.0550,2,     72.3,2,    88.07,2,    38.38,2,     0.00,2,     2.72,2,    0.509,2,    0.228,2, -999.000,9,-999.0000,9,  -999.00,9,   -999.0,9,  -999.00,9,-999.000,9,   2280.7,2,   -999.0,9,  -999.00,9,   6368,  -999.0,-999.0000,-999.000,-999.000,  4.5858,-999.000
   31DSCGC91_2,  P16N,    47,  1,   6417,     26,2,19910323,0801, 41.3498,-152.0050, 5218,    699.4,   4.1357,  34.1332,2,  34.1290,2,     46.3,2,   103.34,2,    41.12,2,     0.00,2,     2.91,2,    0.191,2,    0.091,2, -999.000,9,-999.0000,9,  -999.00,9,   -999.0,9,  -999.00,9,-999.000,9,   2314.0,2,   -999.0,9,  -999.00,9,   7373,  -999.0,-999.0000,-999.000,-999.000,  4.0840,-999.000
   31DSCGC91_2,  P16N,    47,  1,   6416,   1037,2,19910323,0801, 41.3498,-152.0050, 5218,    798.3,   3.8326,  34.1962,2,  34.1940,2,     35.7,2,   115.01,2,    42.16,2,     0.00,2,     2.98,2,    0.102,2,    0.053,2, -999.000,9,-999.0000,9,  -999.00,9,   -999.0,9,  -999.00,9,-999.000,9,   2331.8,2,   -999.0,9,  -999.00,9,   8364,  -999.0,-999.0000,-999.000,-999.000,  3.7748,-999.000
   31DSCGC91_2,  P16N,    47,  1,   6415,   1032,2,19910323,0801, 41.3498,-152.0050, 5218,    998.1,   3.2514,  34.3146,2,  34.3140,2,     13.9,2,   136.10,2,    44.17,2,     0.00,2,     3.10,2,   -0.003,2,    0.000,2, -999.000,9,-999.0000,9,  -999.00,9,   -999.0,9,  -999.00,9,-999.000,9,   2368.3,2,   -999.0,9,  -999.00,9,  10365,  -999.0,-999.0000,-999.000,-999.000,  3.1820,-999.000
   31DSCGC91_2,  P16N,    47,  1,   6414,   1011,2,19910323,0801, 41.3498,-152.0050, 5218,   1250.0,   2.7942,  34.4154,2,  34.5300,3,      8.8,2,   153.65,2,    44.63,2,     0.00,2,     3.17,2,   -0.001,2,    0.000,2, -999.000,9,-999.0000,9,  -999.00,9,   -999.0,9,  -999.00,9,-999.000,9,   2388.9,2,   -999.0,9,  -999.00,9,  12885,  -999.0,-999.0000,-999.000,-999.000,  2.7091,-999.000
   31DSCGC91_2,  P16N,    47,  1,   6413,   1033,2,19910323,0801, 41.3498,-152.0050, 5218,   1499.7,   2.4521,  34.4884,2,  34.4850,2,     14.4,2,   165.27,2,    44.76,2,     0.00,2,     3.13,2,    0.003,2,    0.000,2, -999.000,9,-999.0000,9,  -999.00,9,   -999.0,9,  -999.00,9,-999.000,9,   2396.1,2,   -999.0,9,  -999.00,9,  15380,  -999.0,-999.0000,-999.000,-999.000,  2.3508,-999.000
   31DSCGC91_2,  P16N,    47,  1,   6412,   1019,2,19910323,0801, 41.3498,-152.0050, 5218,   1751.5,   2.1881,  34.5488,2,  34.5460,2,     29.9,2,   172.05,2,    43.75,2,     0.00,2,     3.07,2,   -0.004,2,    0.000,2, -999.000,9,-999.0000,9,  -999.00,9,   -999.0,9,  -999.00,9,-999.000,9,   2388.5,2,   -999.0,9,  -999.00,9,  17895,  -999.0,-999.0000,-999.000,-999.000,  2.0697,-999.000
   31DSCGC91_2,  P16N,    47,  1,   6411,   1041,2,19910323,0801, 41.3498,-152.0050, 5218,   2250.9,   1.8439,  34.6162,2,  34.6130,2,     66.1,2,   178.44,2,    41.82,2,     0.00,2,     2.92,2,   -0.002,2,    0.000,2, -999.000,9,-999.0000,9,  -999.00,9,   -999.0,9,  -999.00,9,-999.000,9,   2383.7,2,   -999.0,9,  -999.00,9,  22878,  -999.0,-999.0000,-999.000,-999.000,  1.6887,-999.000
   31DSCGC91_2,  P16N,    47,  1,   6410,   1002,2,19910323,0801, 41.3498,-152.0050, 5218,   2500.5,   1.7329,  34.6345,2,  34.6320,2,     81.5,2,   177.55,2,    40.69,2,     0.00,2,     2.85,2,   -0.002,2,    0.000,2, -999.000,9,-999.0000,9,  -999.00,9,   -999.0,9,  -999.00,9,-999.000,9,   2375.4,2,   -999.0,9,  -999.00,9,  25367,  -999.0,-999.0000,-999.000,-999.000,  1.5576,-999.000
   31DSCGC91_2,  P16N,    47,  1,   6409,   1003,2,19910323,0801, 41.3498,-152.0050, 5218,   2752.2,   1.6349,  34.6499,2,  34.6470,2,     96.8,2,   176.02,2,    39.67,2,     0.00,2,     2.77,2,    0.002,2,    0.007,3, -999.000,9,-999.0000,9,  -999.00,9,   -999.0,9,  -999.00,9,-999.000,9,   2363.7,2,   -999.0,9,  -999.00,9,  27876,  -999.0,-999.0000,-999.000,-999.000,  1.4385,-999.000
   31DSCGC91_2,  P16N,    47,  1,   6407,   1013,4,19910323,0801, 41.3498,-152.0050, 5218,   3254.0,   1.5158,  34.6695,2,  34.6670,2,    120.1,2,   171.91,2,    38.10,2,     0.00,2,     2.65,2,   -0.001,2,    0.000,2, -999.000,9,-999.0000,9,  -999.00,9,   -999.0,9,  -999.00,9,-999.000,9,   -999.0,9,   -999.0,9,  -999.00,9,  32877,  -999.0,-999.0000,-999.000,-999.000,  1.2740,-999.000
   31DSCGC91_2,  P16N,    47,  1,   6408,      6,2,19910323,0801, 41.3498,-152.0050, 5218,   3254.0,   1.5158,  34.6695,2,  34.6670,2,    120.4,2,   171.93,2,    38.20,2,     0.00,2,     2.65,2,   -0.005,2,    0.000,2, -999.000,9,-999.0000,9,  -999.00,9,   -999.0,9,  -999.00,9,-999.000,9,   2348.9,2,   -999.0,9,  -999.00,9,  32877,  -999.0,-999.0000,-999.000,-999.000,  1.2740,-999.000
   31DSCGC91_2,  P16N,    47,  1,   6406,   1012,2,19910323,0801, 41.3498,-152.0050, 5218,   3755.5,   1.4828,  34.6800,2,  34.6780,2,    134.4,2,   171.88,2,    37.15,2,     0.00,2,     2.59,2,    0.007,3,    0.011,3, -999.000,9,-999.0000,9,  -999.00,9,   -999.0,9,  -999.00,9,-999.000,9,   2341.3,2,   -999.0,9,  -999.00,9,  37875,  -999.0,-999.0000,-999.000,-999.000,  1.1906,-999.000
   31DSCGC91_2,  P16N,    47,  1,   6405,   1007,2,19910323,0801, 41.3498,-152.0050, 5218,   4257.6,   1.4978,  34.6845,2,  34.6840,2,    141.8,2,   172.71,2,    36.99,2,     0.00,2,     2.55,2,    0.012,3,    0.011,3, -999.000,9,-999.0000,9,  -999.00,9,   -999.0,9,  -999.00,9,-999.000,9,   2337.8,2,   -999.0,9,  -999.00,9,  42882,  -999.0,-999.0000,-999.000,-999.000,  1.1505,-999.000
   31DSCGC91_2,  P16N,    47,  1,   6404,   1038,2,19910323,0801, 41.3498,-152.0050, 5218,   4505.5,   1.5178,  34.6853,2,  34.6850,2,    142.5,2,   173.75,2,    36.77,2,     0.00,2,     2.55,2,    0.009,3,    0.011,3, -999.000,9,-999.0000,9,  -999.00,9,   -999.0,9,  -999.00,9,-999.000,9,   2337.3,2,   -999.0,9,  -999.00,9,  45357,  -999.0,-999.0000,-999.000,-999.000,  1.1416,-999.000
   31DSCGC91_2,  P16N,    47,  1,   6403,   1029,2,19910323,0801, 41.3498,-152.0050, 5218,   4756.5,   1.5459,  34.6870,2,  34.6860,2,    142.0,2,   173.72,2,    36.61,2,     0.00,2,     2.55,2,   -0.004,2,    0.000,2, -999.000,9,-999.0000,9,  -999.00,9,   -999.0,9,  -999.00,9,-999.000,9,   2339.3,2,   -999.0,9,  -999.00,9,  47862,  -999.0,-999.0000,-999.000,-999.000,  1.1393,-999.000
   31DSCGC91_2,  P16N,    47,  1,   6402,   1028,2,19910323,0801, 41.3498,-152.0050, 5218,   5006.5,   1.5739,  34.6875,2,  34.6860,2,    141.9,2,   174.55,2,    36.80,2,     0.00,2,     2.54,2,    0.004,2,    0.000,2, -999.000,9,-999.0000,9,  -999.00,9,   -999.0,9,  -999.00,9,-999.000,9,   2338.1,2,   -999.0,9,  -999.00,9,  50361,  -999.0,-999.0000,-999.000,-999.000,  1.1363,-999.000
   31DSCGC91_2,  P16N,    47,  1,   6401,   1017,2,19910323,0801, 41.3498,-152.0050, 5218,   5281.1,   1.6079,  34.6865,2,  34.6860,2,    141.7,2,   174.53,2,    36.93,2,     0.00,2,     2.54,2,   -0.003,2,    0.000,2, -999.000,9,-999.0000,9,  -999.00,9,   -999.0,9,  -999.00,9,-999.000,9,   2338.1,2,   -999.0,9,  -999.00,9,  53107,  -999.0,-999.0000,-999.000,-999.000,  1.1351,-999.000