BOTTLE,20021108WHPSIOdm
#code : jjward hyd_to_exchange.pl 
#original files copied from HTML directory: 20021108
#original HYD file: p16nhy.txt   Fri Nov  8 13:57:58 2002
#original SUM file: p16nsu.txt   Fri Nov  8 13:59:49 2002
EXPOCODE,SECT_ID,STNNBR,CASTNO,SAMPNO,BTLNBR,BTLNBR_FLAG_W,DATE,TIME,LATITUDE,LONGITUDE,DEPTH,CTDPRS,CTDTMP,CTDSAL,CTDSAL_FLAG_W,SALNTY,SALNTY_FLAG_W,OXYGEN,OXYGEN_FLAG_W,SILCAT,SILCAT_FLAG_W,NITRAT,NITRAT_FLAG_W,NITRIT,NITRIT_FLAG_W,PHSPHT,PHSPHT_FLAG_W,CFC-11,CFC-11_FLAG_W,CFC-12,CFC-12_FLAG_W,TRITUM,TRITUM_FLAG_W,HELIUM,HELIUM_FLAG_W,DELHE3,DELHE3_FLAG_W,DELC14,DELC14_FLAG_W,DELC13,DELC13_FLAG_W,NEON,NEON_FLAG_W,TCARBN,TCARBN_FLAG_W,ALKALI,ALKALI_FLAG_W,PH,PH_FLAG_W,CTDRAW,C14ERR,HELIER,DELHER,NEONER,THETA,TRITER
,,,,,,,,,,,,DBAR,ITS-90,PSS-78,,PSS-78,,UMOL/KG,,UMOL/KG,,UMOL/KG,,UMOL/KG,,UMOL/KG,,PMOL/KG,,PMOL/KG,,TU,,NMOL/KG,,PERCNT,,/MILLE,,/MILLE,,NMOL/KG,,UMOL/KG,,UMOL/KG,,,,DBAR,/MILLE,NMOL/KG,PERCNT,NMOL/KG,DEG C,TU
   31DSCGC91_1,  P16N,    13,  1,   2115,   1032,2,19910228,2011, 21.3333,-152.8333, 5255,      8.4,  23.7918,  34.9369,2,  34.9350,2,    235.8,2,     2.60,2,     0.00,2,     0.00,2,     0.12,2,    1.851,2,    1.035,2, -999.000,9,-999.0000,9,  -999.00,9,   -999.0,9,  -999.00,9,-999.000,9,   1962.5,2,   -999.0,9,  -999.00,9,    437,  -999.0,-999.0000,-999.000,-999.000, 23.7901,-999.000
   31DSCGC91_1,  P16N,    13,  1,   2114,   1035,2,19910228,2011, 21.3333,-152.8333, 5255,     22.2,  23.7858,  34.9371,2,  34.9360,2,    238.8,2,     2.60,2,     0.00,2,     0.00,2,     0.12,2,    1.940,2,    1.062,2, -999.000,9,-999.0000,9,  -999.00,9,   -999.0,9,  -999.00,9,-999.000,9,   1962.6,2,   -999.0,9,  -999.00,9,    576,  -999.0,-999.0000,-999.000,-999.000, 23.7812,-999.000
   31DSCGC91_1,  P16N,    13,  1,   2113,   1033,2,19910228,2011, 21.3333,-152.8333, 5255,     42.1,  23.7818,  34.9376,2,  34.9350,2,    240.9,2,     2.41,2,     0.00,2,     0.00,2,     0.12,2,    1.917,2,    1.061,2, -999.000,9,-999.0000,9,  -999.00,9,   -999.0,9,  -999.00,9,-999.000,9,   1963.8,2,   -999.0,9,  -999.00,9,    776,  -999.0,-999.0000,-999.000,-999.000, 23.7730,-999.000
   31DSCGC91_1,  P16N,    13,  1,   2109,    118,2,19910228,2011, 21.3333,-152.8333, 5255,     80.4,  23.5357,  35.0875,2,  35.0810,2,    231.7,2,     2.21,2,     0.00,2,     0.01,2,     0.08,2,    1.951,2,    1.035,2, -999.000,9,-999.0000,9,  -999.00,9,   -999.0,9,  -999.00,9,-999.000,9,   -999.0,9,   -999.0,9,  -999.00,9,   1161,  -999.0,-999.0000,-999.000,-999.000, 23.5190,-999.000
   31DSCGC91_1,  P16N,    13,  1,   2110,   1037,2,19910228,2011, 21.3333,-152.8333, 5255,     80.5,  23.5577,  35.0807,2,  35.0800,2,    250.2,3,  -999.00,9,  -999.00,9,  -999.00,9,  -999.00,9,    1.919,2,    1.056,2, -999.000,9,-999.0000,9,  -999.00,9,   -999.0,9,  -999.00,9,-999.000,9,   1968.8,2,   -999.0,9,  -999.00,9,   1162,  -999.0,-999.0000,-999.000,-999.000, 23.5410,-999.000
   31DSCGC91_1,  P16N,    13,  1,   2108,      6,2,19910228,2011, 21.3333,-152.8333, 5255,    101.4,  22.9105,  35.1205,2,  35.1090,2,    232.9,2,     2.22,2,     0.00,2,     0.00,2,     0.09,2,    1.965,2,    1.101,2, -999.000,9,-999.0000,9,  -999.00,9,   -999.0,9,  -999.00,9,-999.000,9,   1984.1,2,   -999.0,9,  -999.00,9,   1372,  -999.0,-999.0000,-999.000,-999.000, 22.8899,-999.000
   31DSCGC91_1,  P16N,    13,  1,   2107,   1013,2,19910228,2011, 21.3333,-152.8333, 5255,    125.4,  22.0303,  35.1653,2,  35.1670,2,    238.0,2,     2.22,2,     0.00,2,     0.01,2,     0.10,2,    2.048,2,    1.120,2, -999.000,9,-999.0000,9,  -999.00,9,   -999.0,9,  -999.00,9,-999.000,9,   2001.8,2,   -999.0,9,  -999.00,9,   1613,  -999.0,-999.0000,-999.000,-999.000, 22.0054,-999.000
   31DSCGC91_1,  P16N,    13,  1,   2106,   1012,2,19910228,2011, 21.3333,-152.8333, 5255,    153.4,  20.6438,  35.1944,2,  35.2020,2,    225.0,2,     2.22,2,     0.68,2,     0.05,2,     0.14,2,    2.141,2,    1.144,2, -999.000,9,-999.0000,9,  -999.00,9,   -999.0,9,  -999.00,9,-999.000,9,   2019.0,2,   -999.0,9,  -999.00,9,   1895,  -999.0,-999.0000,-999.000,-999.000, 20.6148,-999.000
   31DSCGC91_1,  P16N,    13,  1,   2105,   1007,2,19910228,2011, 21.3333,-152.8333, 5255,    177.0,  19.4735,  35.1053,2,  35.1280,2,    204.6,2,     2.82,2,     1.97,2,     0.03,2,     0.22,2,    2.194,2,    1.164,2, -999.000,9,-999.0000,9,  -999.00,9,   -999.0,9,  -999.00,9,-999.000,9,   2032.6,2,   -999.0,9,  -999.00,9,   2132,  -999.0,-999.0000,-999.000,-999.000, 19.4413,-999.000
   31DSCGC91_1,  P16N,    13,  1,   2104,   1038,2,19910228,2011, 21.3333,-152.8333, 5255,    203.2,  17.8419,  34.9079,2,  34.9230,2,    212.7,2,     4.00,2,     3.62,2,     0.02,2,     0.34,2,    2.295,2,    1.179,2, -999.000,9,-999.0000,9,  -999.00,9,   -999.0,9,  -999.00,9,-999.000,9,   2041.0,2,   -999.0,9,  -999.00,9,   2395,  -999.0,-999.0000,-999.000,-999.000, 17.8073,-999.000
   31DSCGC91_1,  P16N,    13,  1,   2103,   1029,2,19910228,2011, 21.3333,-152.8333, 5255,    250.6,  14.6600,  34.5041,2,  34.5170,2,    223.2,2,     6.76,2,     6.81,2,     0.01,2,     0.55,2,    2.337,2,    1.212,2, -999.000,9,-999.0000,9,  -999.00,9,   -999.0,9,  -999.00,9,-999.000,9,   2051.9,2,   -999.0,9,  -999.00,9,   2871,  -999.0,-999.0000,-999.000,-999.000, 14.6227,-999.000
   31DSCGC91_1,  P16N,    13,  1,   2102,   1028,2,19910228,2011, 21.3333,-152.8333, 5255,    299.8,  11.5230,  34.2253,2,  34.2220,2,    216.8,2,    14.04,2,    13.10,2,     0.00,2,     0.96,2,   -0.007,4,    1.109,2, -999.000,9,-999.0000,9,  -999.00,9,   -999.0,9,  -999.00,9,-999.000,9,   2079.4,2,   -999.0,9,  -999.00,9,   3365,  -999.0,-999.0000,-999.000,-999.000, 11.4850,-999.000
   31DSCGC91_1,  P16N,    13,  1,   2101,   1017,2,19910228,2011, 21.3333,-152.8333, 5255,    349.9,   9.9775,  34.1409,2,  34.1450,2,    211.6,2,    20.14,2,    16.84,2,     0.01,2,     1.17,2,   -0.004,4,    1.032,2, -999.000,9,-999.0000,9,  -999.00,9,   -999.0,9,  -999.00,9,-999.000,9,   2099.0,2,   -999.0,9,  -999.00,9,   3867,  -999.0,-999.0000,-999.000,-999.000,  9.9371,-999.000
   31DSCGC91_1,  P16N,    13,  2,   2224,   1027,2,19910228,2333, 21.3352,-152.8425, 5249,    403.4,   8.5650,  34.1004,2,  34.1010,2,    168.6,2,    33.34,2,    24.24,2,     0.00,2,     1.70,2,    1.383,2,    0.605,2, -999.000,9,-999.0000,9,  -999.00,9,   -999.0,9,  -999.00,9,-999.000,9,   2151.9,2,   -999.0,9,  -999.00,9,   4405,  -999.0,-999.0000,-999.000,-999.000,  8.5225,-999.000
   31DSCGC91_1,  P16N,    13,  2,   2223,   1016,2,19910228,2333, 21.3352,-152.8425, 5249,    448.2,   7.7948,  34.1031,2,  34.1070,2,    122.9,2,    43.79,2,    28.75,2,     0.00,2,     2.07,2,    0.818,2,    0.357,2, -999.000,9,-999.0000,9,  -999.00,9,   -999.0,9,  -999.00,9,-999.000,9,   2196.5,2,   -999.0,9,  -999.00,9,   4855,  -999.0,-999.0000,-999.000,-999.000,  7.7500,-999.000
   31DSCGC91_1,  P16N,    13,  2,   2222,   1026,2,19910228,2333, 21.3352,-152.8425, 5249,    502.5,   6.8395,  34.1487,2,  34.1530,2,     78.1,2,    58.21,2,    34.61,2,     0.00,2,     2.51,2,    0.448,3,    0.119,2, -999.000,9,-999.0000,9,  -999.00,9,   -999.0,9,  -999.00,9,-999.000,9,   2248.5,2,   -999.0,9,  -999.00,9,   5399,  -999.0,-999.0000,-999.000,-999.000,  6.7927,-999.000
   31DSCGC91_1,  P16N,    13,  2,   2221,   1004,2,19910228,2333, 21.3352,-152.8425, 5249,    598.6,   5.6051,  34.2586,2,  34.2600,2,     33.2,2,    81.46,2,    40.73,2,     0.00,2,     2.92,2,    0.092,3,    0.006,2, -999.000,9,-999.0000,9,  -999.00,9,   -999.0,9,  -999.00,9,-999.000,9,   2303.8,2,   -999.0,9,  -999.00,9,   6363,  -999.0,-999.0000,-999.000,-999.000,  5.5544,-999.000
   31DSCGC91_1,  P16N,    13,  2,   2220,   1025,2,19910228,2333, 21.3352,-152.8425, 5249,    701.9,   5.2060,  34.3869,2,  34.3870,2,     31.6,2,    90.63,2,    42.08,2,     0.00,2,     3.01,2,    0.080,3,   -0.002,2, -999.000,9,-999.0000,9,  -999.00,9,   -999.0,9,  -999.00,9,-999.000,9,   2320.6,2,   -999.0,9,  -999.00,9,   7398,  -999.0,-999.0000,-999.000,-999.000,  5.1481,-999.000
   31DSCGC91_1,  P16N,    13,  2,   2219,   1031,2,19910228,2333, 21.3352,-152.8425, 5249,    801.9,   4.7268,  34.4376,2,  34.4440,2,     32.8,2,    99.84,2,    42.46,2,     0.00,2,     3.03,2,    0.018,3,   -0.002,2, -999.000,9,-999.0000,9,  -999.00,9,   -999.0,9,  -999.00,9,-999.000,9,   2328.8,2,   -999.0,9,  -999.00,9,   8400,  -999.0,-999.0000,-999.000,-999.000,  4.6630,-999.000
   31DSCGC91_1,  P16N,    13,  2,   2218,   1036,2,19910228,2333, 21.3352,-152.8425, 5249,    900.3,   4.4097,  34.4801,2,  34.4800,2,     48.7,3,   105.64,2,    43.04,2,     0.00,2,     3.03,2,    0.022,3,   -0.002,2, -999.000,9,-999.0000,9,  -999.00,9,   -999.0,9,  -999.00,9,-999.000,9,   2334.8,2,   -999.0,9,  -999.00,9,   9386,  -999.0,-999.0000,-999.000,-999.000,  4.3395,-999.000
   31DSCGC91_1,  P16N,    13,  2,   2217,     26,2,19910228,2333, 21.3352,-152.8425, 5249,    999.3,   4.0846,  34.5000,2,  34.4940,2,     45.8,2,   111.87,2,    42.97,2,     0.00,2,     3.01,2,    0.006,3,    0.002,2, -999.000,9,   1.8850,2,    25.68,2,   -999.0,9,  -999.00,9,-999.000,9,   2338.4,2,   -999.0,9,  -999.00,9,  10376,  -999.0,-999.0000,-999.000,-999.000,  4.0084,-999.000
   31DSCGC91_1,  P16N,    13,  2,   2216,   1011,2,19910228,2333, 21.3352,-152.8425, 5249,   1103.0,   3.9016,  34.5234,2,  34.5200,2,     44.3,2,   116.09,2,    43.22,2,     0.00,2,     3.03,2,    0.123,4,   -0.002,2, -999.000,9,   1.8850,2,    27.39,2,   -999.0,9,  -999.00,9,-999.000,9,   2343.8,2,   -999.0,9,  -999.00,9,  11414,  -999.0,-999.0000,-999.000,-999.000,  3.8181,-999.000
   31DSCGC91_1,  P16N,    13,  2,   2215,   1032,2,19910228,2333, 21.3352,-152.8425, 5249,   1295.8,   3.4264,  34.5473,2,  34.5460,2,     53.4,2,   126.01,2,    42.32,2,     0.00,2,     2.98,2,    0.019,3,   -0.002,2, -999.000,9,   1.8890,2,    25.09,2,   -999.0,9,  -999.00,9,-999.000,9,   2349.9,2,   -999.0,9,  -999.00,9,  13341,  -999.0,-999.0000,-999.000,-999.000,  3.3311,-999.000
   31DSCGC91_1,  P16N,    13,  2,   2214,   1035,2,19910228,2333, 21.3352,-152.8425, 5249,   1604.2,   2.7222,  34.5849,2,  34.5860,2,     71.8,2,   142.56,2,    41.80,2,     0.00,2,     2.91,2,    0.040,4,   -0.002,2, -999.000,9,   1.9180,2,    22.67,2,   -999.0,9,  -999.00,9,-999.000,9,   2355.4,2,   -999.0,9,  -999.00,9,  16424,  -999.0,-999.0000,-999.000,-999.000,  2.6090,-999.000
   31DSCGC91_1,  P16N,    13,  2,   2213,   1033,2,19910228,2333, 21.3352,-152.8425, 5249,   1900.6,   2.2881,  34.6123,2,  34.6120,2,     85.2,2,   152.01,2,    41.04,2,     0.00,2,     2.82,2,    0.001,2,   -0.002,2, -999.000,9,   1.9250,2,    22.48,2,   -999.0,9,  -999.00,9,-999.000,9,   2356.3,2,   -999.0,9,  -999.00,9,  19383,  -999.0,-999.0000,-999.000,-999.000,  2.1558,-999.000
   31DSCGC91_1,  P16N,    13,  2,   2212,   1019,2,19910228,2333, 21.3352,-152.8425, 5249,   2098.0,   2.0620,  34.6279,2,  34.6280,2,     93.9,2,   156.74,2,    40.40,2,     0.00,2,     2.77,2,    0.006,3,    0.000,2, -999.000,9,   1.9130,2,    22.52,2,   -999.0,9,  -999.00,9,-999.000,9,   2354.7,2,   -999.0,9,  -999.00,9,  21353,  -999.0,-999.0000,-999.000,-999.000,  1.9163,-999.000
   31DSCGC91_1,  P16N,    13,  2,   2210,   1037,2,19910228,2333, 21.3352,-152.8425, 5249,   2301.8,   1.9100,  34.6397,2,  34.6380,2,    101.8,2,   159.75,2,    39.64,2,     0.00,2,     2.73,2, -999.000,9, -999.000,9, -999.000,9,-999.0000,9,  -999.00,9,   -999.0,9,  -999.00,9,-999.000,9,   2353.3,2,   -999.0,9,  -999.00,9,  23386,  -999.0,-999.0000,-999.000,-999.000,  1.7490,-999.000
   31DSCGC91_1,  P16N,    13,  2,   2209,    118,2,19910228,2333, 21.3352,-152.8425, 5249,   2304.5,   1.9080,  34.6393,2,  34.6390,2,    101.3,2,   159.69,2,    39.64,2,     0.00,2,     2.72,2,    0.001,2,    0.000,2, -999.000,9,-999.0000,9,  -999.00,9,   -999.0,9,  -999.00,9,-999.000,9,   -999.0,9,   -999.0,9,  -999.00,9,  23413,  -999.0,-999.0000,-999.000,-999.000,  1.7468,-999.000
   31DSCGC91_1,  P16N,    13,  2,   2208,      6,2,19910228,2333, 21.3352,-152.8425, 5249,   2498.4,   1.7759,  34.6493,2,  34.6490,2,    108.5,2,   162.34,2,    38.82,2,     0.00,2,     2.69,2,    0.000,2,    0.007,3, -999.000,9,-999.0000,5,    22.13,3,   -999.0,9,  -999.00,9,-999.000,9,   2349.9,2,   -999.0,9,  -999.00,9,  25346,  -999.0,-999.0000,-999.000,-999.000,  1.5999,-999.000
   31DSCGC91_1,  P16N,    13,  2,   2207,   1013,3,19910228,2333, 21.3352,-152.8425, 5249,   2809.2,   1.6519,  34.6611,2,  34.6600,2,    119.1,2,   163.33,2,    38.44,2,     0.00,2,     2.64,2,    0.000,2,    0.002,2, -999.000,9,   1.9180,2,    20.75,2,   -999.0,9,  -999.00,9,-999.000,9,   -999.0,9,   -999.0,9,  -999.00,9,  28443,  -999.0,-999.0000,-999.000,-999.000,  1.4499,-999.000
   31DSCGC91_1,  P16N,    13,  2,   2206,   1012,2,19910228,2333, 21.3352,-152.8425, 5249,   3104.8,   1.5629,  34.6692,2,  34.6690,2,    129.9,2,   164.32,2,    38.00,2,     0.00,2,     2.60,2,   -0.001,6,    0.003,6, -999.000,9,   1.9110,2,    19.20,2,   -999.0,9,  -999.00,9,-999.000,9,   2343.9,2,   -999.0,9,  -999.00,9,  31390,  -999.0,-999.0000,-999.000,-999.000,  1.3346,-999.000
   31DSCGC91_1,  P16N,    13,  2,   2205,   1007,2,19910228,2333, 21.3352,-152.8425, 5249,   3407.4,   1.5018,  34.6754,2,  34.6750,2,    137.5,2,   163.63,2,    37.37,2,     0.00,2,     2.55,2, -999.000,9, -999.000,9, -999.000,9,   1.9110,2,    18.02,2,   -999.0,9,  -999.00,9,-999.000,9,   2337.8,2,   -999.0,9,  -999.00,9,  34406,  -999.0,-999.0000,-999.000,-999.000,  1.2450,-999.000
   31DSCGC91_1,  P16N,    13,  2,   2204,   1038,2,19910228,2333, 21.3352,-152.8425, 5249,   3806.3,   1.4628,  34.6824,2,  34.6840,2,    145.1,2,   159.83,2,    36.75,2,     0.00,2,     2.51,2,   -0.002,2,   -0.002,2, -999.000,9,   1.9070,2,    16.68,2,   -999.0,9,  -999.00,9,-999.000,9,   2330.0,2,   -999.0,9,  -999.00,9,  38382,  -999.0,-999.0000,-999.000,-999.000,  1.1657,-999.000
   31DSCGC91_1,  P16N,    13,  2,   2203,   1029,2,19910228,2333, 21.3352,-152.8425, 5249,   4317.8,   1.4538,  34.6873,2,  34.6870,2,    155.8,2,   154.17,2,    35.50,2,     0.00,2,     2.46,2,   -0.004,2,   -0.002,2, -999.000,9,   1.8860,2,    15.22,2,   -999.0,9,  -999.00,9,-999.000,9,   2321.5,2,   -999.0,9,  -999.00,9,  43482,  -999.0,-999.0000,-999.000,-999.000,  1.1010,-999.000
   31DSCGC91_1,  P16N,    13,  2,   2202,   1028,2,19910228,2333, 21.3352,-152.8425, 5249,   4808.8,   1.4648,  34.6903,2,  34.6910,2,    162.2,2,   148.34,2,    35.19,2,     0.00,2,     2.42,2, -999.000,9, -999.000,9, -999.000,9,   1.9230,3,    15.00,2,   -999.0,9,  -999.00,9,-999.000,9,   2313.0,2,   -999.0,9,  -999.00,9,  48385,  -999.0,-999.0000,-999.000,-999.000,  1.0547,-999.000
   31DSCGC91_1,  P16N,    13,  2,   2201,   1017,2,19910228,2333, 21.3352,-152.8425, 5249,   5333.1,   1.5108,  34.6918,2,  34.6880,2,    144.8,3,   148.29,3,    35.01,2,     0.00,2,     2.43,2,   -0.004,2,    0.002,2, -999.000,9,-999.0000,9,  -999.00,9,   -999.0,9,  -999.00,9,-999.000,9,   2313.3,2,   -999.0,9,  -999.00,9,  53627,  -999.0,-999.0000,-999.000,-999.000,  1.0349,-999.000