BOTTLE,20021108WHPSIOdm
EXPOCODE,SECT_ID,STNNBR,CASTNO,SAMPNO,BTLNBR,BTLNBR_FLAG_W,DATE,TIME,LATITUDE,LONGITUDE,DEPTH,CTDPRS,CTDTMP,CTDSAL,CTDSAL_FLAG_W,SALNTY,SALNTY_FLAG_W,OXYGEN,OXYGEN_FLAG_W,SILCAT,SILCAT_FLAG_W,NITRAT,NITRAT_FLAG_W,NITRIT,NITRIT_FLAG_W,PHSPHT,PHSPHT_FLAG_W,CFC-11,CFC-11_FLAG_W,CFC-12,CFC-12_FLAG_W,TRITUM,TRITUM_FLAG_W,HELIUM,HELIUM_FLAG_W,DELHE3,DELHE3_FLAG_W,DELC14,DELC14_FLAG_W,DELC13,DELC13_FLAG_W,NEON,NEON_FLAG_W,TCARBN,TCARBN_FLAG_W,ALKALI,ALKALI_FLAG_W,PH,PH_FLAG_W,CTDRAW,C14ERR,HELIER,DELHER,NEONER,THETA,TRITER
,,,,,,,,,,,,DBAR,ITS-90,PSS-78,,PSS-78,,UMOL/KG,,UMOL/KG,,UMOL/KG,,UMOL/KG,,UMOL/KG,,PMOL/KG,,PMOL/KG,,TU,,NMOL/KG,,PERCNT,,/MILLE,,/MILLE,,NMOL/KG,,UMOL/KG,,UMOL/KG,,,,DBAR,/MILLE,NMOL/KG,PERCNT,NMOL/KG,DEG C,TU
   31DSCGC91_2,  P16N,    33,  1,   4807,   1013,4,19910317,1841, 31.3343,-152.0012, 5465,    749.6,   4.3687,  34.1032,2,  34.1020,2,     41.2,2,    98.05,2,    41.87,2,     0.00,2,     2.94,2,    0.063,2,    0.045,2, -999.000,9,-999.0000,9,  -999.00,9,   -999.0,9,  -999.00,9,-999.000,9,   -999.0,9,   -999.0,9,  -999.00,9,   7875,  -999.0,-999.0000,-999.000,-999.000,  4.3118,-999.000
   31DSCGC91_2,  P16N,    33,  1,   4806,   1012,2,19910317,1841, 31.3343,-152.0012, 5465,   1999.7,   1.9850,  34.6154,2,  34.6130,2,     66.5,2,   171.72,2,    41.01,2,     0.00,2,     2.90,2,   -0.003,2,    0.000,2, -999.000,9,-999.0000,9,  -999.00,9,   -999.0,9,  -999.00,9,-999.000,9,   -999.0,9,   -999.0,9,  -999.00,9,  20372,  -999.0,-999.0000,-999.000,-999.000,  1.8488,-999.000
   31DSCGC91_2,  P16N,    33,  1,   4805,   1007,2,19910317,1841, 31.3343,-152.0012, 5465,   3002.5,   1.5328,  34.6673,2,  34.6640,2,    116.4,2,   171.46,2,    38.49,2,     0.00,2,     2.66,2,    0.028,4,    0.000,2, -999.000,9,-999.0000,9,  -999.00,9,   -999.0,9,  -999.00,9,-999.000,9,   -999.0,9,   -999.0,9,  -999.00,9,  30371,  -999.0,-999.0000,-999.000,-999.000,  1.3151,-999.000
   31DSCGC91_2,  P16N,    33,  1,   4804,   1038,2,19910317,1841, 31.3343,-152.0012, 5465,   4005.9,   1.4638,  34.6851,2,  34.6830,2,    145.3,2,   161.40,2,    36.63,2,     0.00,2,     2.53,2,    0.007,3,    0.000,2, -999.000,9,-999.0000,9,  -999.00,9,   -999.0,9,  -999.00,9,-999.000,9,   -999.0,9,   -999.0,9,  -999.00,9,  40372,  -999.0,-999.0000,-999.000,-999.000,  1.1452,-999.000
   31DSCGC91_2,  P16N,    33,  1,   4803,   1029,2,19910317,1841, 31.3343,-152.0012, 5465,   4506.1,   1.4878,  34.6875,2,  34.6870,2,    151.3,2,   157.33,2,    36.28,2,     0.00,2,     2.49,2,   -0.003,2,    0.000,2, -999.000,9,-999.0000,9,  -999.00,9,   -999.0,9,  -999.00,9,-999.000,9,   -999.0,9,   -999.0,9,  -999.00,9,  45362,  -999.0,-999.0000,-999.000,-999.000,  1.1125,-999.000
   31DSCGC91_2,  P16N,    33,  1,   4802,   1028,2,19910317,1841, 31.3343,-152.0012, 5465,   5004.7,   1.5298,  34.6896,2,  34.6890,2,    145.9,4,   153.06,4,    35.87,4,     0.00,4,     2.46,4,    0.003,2,    0.007,3, -999.000,9,-999.0000,9,  -999.00,9,   -999.0,9,  -999.00,9,-999.000,9,   -999.0,9,   -999.0,9,  -999.00,9,  50342,  -999.0,-999.0000,-999.000,-999.000,  1.0939,-999.000
   31DSCGC91_2,  P16N,    33,  1,   4801,   1017,2,19910317,1841, 31.3343,-152.0012, 5465,   5511.6,   1.5819,  34.6908,2,  34.6890,2,    156.7,2,   151.13,2,    35.53,2,     0.00,2,     2.45,2,    0.002,2,    0.008,3, -999.000,9,-999.0000,9,  -999.00,9,   -999.0,9,  -999.00,9,-999.000,9,   -999.0,9,   -999.0,9,  -999.00,9,  55416,  -999.0,-999.0000,-999.000,-999.000,  1.0807,-999.000
   31DSCGC91_2,  P16N,    34,  1,   4924,   1027,2,19910318,0339, 32.1682,-152.0043, 5262,    499.0,   7.1816,  34.0192,2,  34.0180,2,    166.4,2,    41.77,2,    25.59,2,     0.00,2,     1.78,2,    1.676,2,    0.790,2, -999.000,9,-999.0000,9,  -999.00,9,   -999.0,9,  -999.00,9,-999.000,9,   2165.9,2,   -999.0,9,     7.64,2,   5364,  -999.0,-999.0000,-999.000,-999.000,  7.1339,-999.000
   31DSCGC91_2,  P16N,    34,  1,   4923,   1016,2,19910318,0339, 32.1682,-152.0043, 5262,    550.6,   6.2443,  33.9915,2,  33.9930,2,    137.4,2,    55.23,2,    29.96,2,     0.00,2,     2.12,2,    1.164,2,    0.567,2, -999.000,9,-999.0000,9,  -999.00,9,    -62.9,2,    -0.17,2,-999.000,9,   2202.7,2,   -999.0,9,     7.56,2,   5882,     4.8,-999.0000,-999.000,-999.000,  6.1954,-999.000
   31DSCGC91_2,  P16N,    34,  1,   4922,   1026,2,19910318,0339, 32.1682,-152.0043, 5262,    599.5,   5.5321,  34.0084,2,  33.9940,3,    110.0,2,    66.72,2,    33.55,2,     0.00,2,     2.38,2,    0.691,2,    0.315,2, -999.000,9,-999.0000,9,  -999.00,9,   -999.0,9,  -999.00,9,-999.000,9,   2234.3,2,   -999.0,9,     7.48,2,   6372,  -999.0,-999.0000,-999.000,-999.000,  5.4819,-999.000
   31DSCGC91_2,  P16N,    34,  1,   4921,   1004,2,19910318,0339, 32.1682,-152.0043, 5262,    650.8,   5.0139,  34.0184,2,  34.0180,2,     84.9,2,    78.65,2,    36.85,2,     0.00,2,     2.61,2,    0.353,2,    0.177,2, -999.000,9,-999.0000,9,  -999.00,9,   -104.0,2,    -0.49,2,-999.000,9,   2262.4,2,   -999.0,9,     7.42,2,   6885,     3.5,-999.0000,-999.000,-999.000,  4.9618,-999.000
   31DSCGC91_2,  P16N,    34,  1,   4920,   1025,2,19910318,0339, 32.1682,-152.0043, 5262,    699.2,   4.6938,  34.0479,2,  34.0470,2,     66.0,2,    87.17,2,    39.07,2,     0.00,2,     2.75,2,    0.204,2,    0.107,2, -999.000,9,-999.0000,9,  -999.00,9,   -999.0,9,  -999.00,9,-999.000,9,   2285.0,2,   -999.0,9,     7.38,2,   7370,  -999.0,-999.0000,-999.000,-999.000,  4.6393,-999.000
   31DSCGC91_2,  P16N,    34,  1,   4919,   1031,2,19910318,0339, 32.1682,-152.0043, 5262,    798.8,   4.1627,  34.1418,2,  34.1400,2,     33.9,2,   104.51,2,    41.77,2,     0.00,2,     2.98,2,    0.031,2,    0.021,2, -999.000,9,-999.0000,9,  -999.00,9,   -172.4,2,    -1.18,2,-999.000,9,   2324.7,2,   -999.0,9,     7.31,2,   8369,     3.5,-999.0000,-999.000,-999.000,  4.1029,-999.000
   31DSCGC91_2,  P16N,    34,  1,   4918,   1036,2,19910318,0339, 32.1682,-152.0043, 5262,    899.1,   3.8486,  34.2311,2,  34.2290,2,     17.8,2,   117.66,2,    43.51,2,     0.00,2,     3.10,2, -999.000,5, -999.000,5, -999.000,9,-999.0000,9,  -999.00,9,   -184.5,2,    -0.86,2,-999.000,9,   2348.4,2,   -999.0,9,     7.29,2,   9374,     3.5,-999.0000,-999.000,-999.000,  3.7827,-999.000
   31DSCGC91_2,  P16N,    34,  1,   4917,     26,2,19910318,0339, 32.1682,-152.0043, 5262,    999.0,   3.5925,  34.3273,2,  34.3260,2,     10.3,2,   128.81,2,    44.16,2,     0.00,2,     3.16,2,    0.004,2,    0.000,2, -999.000,9,-999.0000,9,  -999.00,9,   -197.5,2,    -0.65,2,-999.000,9,   2363.5,2,   -999.0,9,     7.29,2,  10374,     3.9,-999.0000,-999.000,-999.000,  3.5203,-999.000
   31DSCGC91_2,  P16N,    34,  1,   4916,   1037,2,19910318,0339, 32.1682,-152.0043, 5262,   1098.8,   3.3844,  34.3895,2,  34.3890,2,     10.6,2,   135.86,2,    44.57,2,     0.00,2,     3.18,2,    0.045,4,    0.000,2, -999.000,9,   1.8860,2,    16.23,2,   -213.9,2,    -0.70,2,-999.000,9,   2374.3,2,   -999.0,9,     7.30,2,  11371,     4.8,-999.0000,-999.000,-999.000,  3.3059,-999.000
   31DSCGC91_2,  P16N,    34,  1,   4914,   1011,2,19910318,0339, 32.1682,-152.0043, 5262,   1298.1,   2.9673,  34.4885,2,  34.4860,2,     22.2,2,   147.32,2,    44.25,2,     0.00,2,     3.13,2,    0.001,2,    0.000,2, -999.000,9,   1.8820,2,    19.38,2,   -227.9,2,    -0.53,2,-999.000,9,   2381.9,2,   -999.0,9,     7.33,2,  13365,     3.4,-999.0000,-999.000,-999.000,  2.8765,-999.000
   31DSCGC91_2,  P16N,    34,  1,   4915,   1032,4,19910318,0339, 32.1682,-152.0043, 5262,   1298.1,   2.9673,  34.4885,2,  34.4860,2,     22.9,2,   147.34,2,    44.26,2,     0.00,2,     3.14,2,    0.006,2,    0.000,2, -999.000,9,   1.8980,2,    19.45,2,   -225.6,2,  -999.00,5,-999.000,9,   -999.0,9,   -999.0,9,     7.33,2,  13365,     3.3,-999.0000,-999.000,-999.000,  2.8765,-999.000
   31DSCGC91_2,  P16N,    34,  1,   4913,   1033,2,19910318,0339, 32.1682,-152.0043, 5262,   1897.8,   2.0550,  34.6020,2,  34.6000,2,     63.4,2,   171.00,2,    41.81,2,     0.00,2,     2.94,2,   -0.003,2,    0.000,2, -999.000,9,   1.9210,2,    23.23,2,   -245.5,2,    -0.17,2,-999.000,9,   2377.4,2,   -999.0,9,     7.41,2,  19355,     3.6,-999.0000,-999.000,-999.000,  1.9263,-999.000
   31DSCGC91_2,  P16N,    34,  1,   4911,   1041,2,19910318,0339, 32.1682,-152.0043, 5262,   2100.9,   1.8820,  34.6229,2,  34.6220,2,     76.5,2,   174.35,2,    40.77,2,     0.00,2,     2.87,2,    0.017,4,   -0.004,2, -999.000,9,   1.9190,2,    23.19,2,   -999.0,9,  -999.00,9,-999.000,9,   2374.8,2,   -999.0,9,     7.44,2,  21382,  -999.0,-999.0000,-999.000,-999.000,  1.7389,-999.000
   31DSCGC91_2,  P16N,    34,  1,   4912,   1019,4,19910318,0339, 32.1682,-152.0043, 5262,   2100.9,   1.8820,  34.6229,2,  34.6210,2,     76.4,2,   174.39,2,    40.66,2,     0.00,2,     2.87,2,   -0.002,2,    0.000,2, -999.000,9,-999.0000,5,    23.30,2,   -999.0,9,  -999.00,9,-999.000,9,   -999.0,9,   -999.0,9,     7.44,2,  21382,  -999.0,-999.0000,-999.000,-999.000,  1.7389,-999.000
   31DSCGC91_2,  P16N,    34,  1,   4910,   1002,2,19910318,0339, 32.1682,-152.0043, 5262,   2502.2,   1.6649,  34.6485,2,  34.6470,2,     98.0,2,   175.39,2,    39.73,2,     0.00,2,     2.76,2, -999.000,5, -999.000,5, -999.000,9,   1.9180,2,    20.20,2,   -999.0,9,  -999.00,9,-999.000,9,   2363.2,2,   -999.0,9,     7.48,2,  25383,  -999.0,-999.0000,-999.000,-999.000,  1.4906,-999.000
   31DSCGC91_2,  P16N,    34,  1,   4909,   1003,2,19910318,0339, 32.1682,-152.0043, 5262,   2802.4,   1.5709,  34.6603,2,  34.6590,2,    111.1,2,   173.43,2,    39.00,2,     0.00,2,     2.68,2,    0.009,3,    0.000,2, -999.000,9,   1.9080,2,    18.84,2,   -999.0,9,  -999.00,9,-999.000,9,   2353.7,2,   -999.0,9,     7.51,2,  28376,  -999.0,-999.0000,-999.000,-999.000,  1.3711,-999.000
   31DSCGC91_2,  P16N,    34,  1,   4907,   1013,2,19910318,0339, 32.1682,-152.0043, 5262,   3101.2,   1.5058,  34.6707,2,  34.6690,2,    124.9,2,   169.51,2,    38.08,2,     0.00,2,     2.62,2,    0.003,2,    0.000,6, -999.000,9,   1.9180,2,    17.45,2,   -999.0,9,  -999.00,9,-999.000,9,   2345.5,2,   -999.0,9,     7.53,2,  31353,  -999.0,-999.0000,-999.000,-999.000,  1.2792,-999.000
   31DSCGC91_2,  P16N,    34,  1,   4908,      6,4,19910318,0339, 32.1682,-152.0043, 5262,   3101.2,   1.5058,  34.6707,2,  34.6690,2,    124.6,2,   169.55,2,    38.09,2,     0.00,2,     2.62,2,    0.006,2,    0.000,2, -999.000,9,   1.9100,2,    17.48,2,   -999.0,9,  -999.00,9,-999.000,9,   -999.0,9,   -999.0,9,     7.53,2,  31353,  -999.0,-999.0000,-999.000,-999.000,  1.2792,-999.000
   31DSCGC91_2,  P16N,    34,  1,   4906,   1012,2,19910318,0339, 32.1682,-152.0043, 5262,   3403.6,   1.4718,  34.6777,2,  34.6760,2,    135.2,2,   165.65,2,    37.41,2,     0.00,2,     2.57,2,    0.006,3,    0.000,2, -999.000,9,   1.9110,2,    17.05,2,   -999.0,9,  -999.00,9,-999.000,9,   2339.0,2,   -999.0,9,     7.55,2,  34368,  -999.0,-999.0000,-999.000,-999.000,  1.2161,-999.000
   31DSCGC91_2,  P16N,    34,  1,   4905,   1007,2,19910318,0339, 32.1682,-152.0043, 5262,   3704.4,   1.4578,  34.6821,2,  34.6810,2,    141.7,2,   163.07,2,    36.80,2,     0.00,2,     2.53,2,   -0.007,3,    0.000,2, -999.000,9,   1.9110,2,    16.44,2,   -999.0,9,  -999.00,9,-999.000,9,   2333.7,2,   -999.0,9,     7.56,2,  37366,  -999.0,-999.0000,-999.000,-999.000,  1.1716,-999.000
   31DSCGC91_2,  P16N,    34,  1,   4904,   1038,2,19910318,0339, 32.1682,-152.0043, 5262,   4106.0,   1.4628,  34.6857,2,  34.6850,2,    148.2,2,   159.86,2,    36.55,2,     0.00,2,     2.49,2,    0.018,4,    0.000,2, -999.000,9,   1.9040,2,    15.72,2,   -999.0,9,  -999.00,9,-999.000,9,   2328.9,2,   -999.0,9,     7.58,2,  41370,  -999.0,-999.0000,-999.000,-999.000,  1.1333,-999.000
   31DSCGC91_2,  P16N,    34,  1,   4903,   1029,2,19910318,0339, 32.1682,-152.0043, 5262,   4607.6,   1.4898,  34.6897,2,  34.6870,3,    153.5,2,   154.75,2,    36.24,2,     0.00,2,     2.46,2,    0.002,2,    0.009,2, -999.000,9,   1.9070,2,    15.47,2,   -999.0,9,  -999.00,9,-999.000,9,   2323.9,2,   -999.0,9,     7.58,2,  46376,  -999.0,-999.0000,-999.000,-999.000,  1.1026,-999.000
   31DSCGC91_2,  P16N,    34,  1,   4902,   1028,2,19910318,0339, 32.1682,-152.0043, 5262,   5004.1,   1.5288,  34.6896,2,  34.6900,2,    156.1,2,   152.41,2,    35.87,2,     0.00,2,     2.44,2,    0.003,2,    0.012,4, -999.000,9,-999.0000,9,  -999.00,9,   -999.0,9,  -999.00,9,-999.000,9,   2321.7,2,   -999.0,9,     7.59,2,  50337,  -999.0,-999.0000,-999.000,-999.000,  1.0930,-999.000
   31DSCGC91_2,  P16N,    34,  2,   5019,   1031,2,19910318,0747, 32.1753,-152.0102, 5256,      8.7,  16.6226,  34.7498,2,  34.7470,2,    242.2,2,     4.17,2,     0.10,2,     0.00,2,     0.09,2,    2.712,2,    1.404,2, -999.000,9,-999.0000,9,  -999.00,9,   -999.0,9,  -999.00,9,-999.000,9,   2011.4,2,   -999.0,9,     8.01,2,    440,  -999.0,-999.0000,-999.000,-999.000, 16.6212,-999.000
   31DSCGC91_2,  P16N,    34,  2,   5017,     26,2,19910318,0747, 32.1753,-152.0102, 5256,     21.9,  16.6316,  34.7500,2,  34.7470,2,   -999.0,2,     4.17,2,     0.09,2,     0.00,2,     0.09,2,    2.692,2,    1.413,2, -999.000,9,-999.0000,9,  -999.00,9,   -999.0,9,  -999.00,9,-999.000,9,   2011.0,2,   -999.0,9,     8.01,2,    573,  -999.0,-999.0000,-999.000,-999.000, 16.6280,-999.000
   31DSCGC91_2,  P16N,    34,  2,   5013,   1033,2,19910318,0747, 32.1753,-152.0102, 5256,     41.6,  16.6296,  34.7503,2,  34.7460,2,    242.3,2,     4.16,2,     0.09,2,     0.00,2,     0.09,2,    2.680,2,    1.430,2, -999.000,9,-999.0000,9,  -999.00,9,   -999.0,9,  -999.00,9,-999.000,9,   2010.5,2,   -999.0,9,     8.01,2,    771,  -999.0,-999.0000,-999.000,-999.000, 16.6228,-999.000
   31DSCGC91_2,  P16N,    34,  2,   5011,   1041,2,19910318,0747, 32.1753,-152.0102, 5256,     81.2,  16.6386,  34.7491,2,  34.7470,2,    242.3,2,     4.16,2,     0.09,2,     0.00,2,     0.09,2,    2.679,2,    1.384,2, -999.000,9,-999.0000,9,  -999.00,9,    123.4,2,     1.13,2,-999.000,9,   2009.5,2,   -999.0,9,     8.01,2,   1169,     4.8,-999.0000,-999.000,-999.000, 16.6254,-999.000
   31DSCGC91_2,  P16N,    34,  2,   5009,   1003,2,19910318,0747, 32.1753,-152.0102, 5256,    100.2,  16.6376,  34.7506,2,  34.7470,2,    242.8,2,     4.15,2,     0.09,2,     0.00,2,     0.10,2,    2.726,2,    1.358,2, -999.000,9,-999.0000,9,  -999.00,9,   -999.0,9,  -999.00,9,-999.000,9,   2009.1,2,   -999.0,9,     8.01,2,   1360,  -999.0,-999.0000,-999.000,-999.000, 16.6213,-999.000
   31DSCGC91_2,  P16N,    34,  2,   5007,   1013,2,19910318,0747, 32.1753,-152.0102, 5256,    124.4,  16.6326,  34.7509,2,  34.7470,2,    242.4,2,     4.15,2,     0.08,2,     0.01,2,     0.12,2,    2.735,2,    1.422,2, -999.000,9,-999.0000,9,  -999.00,9,    109.6,2,     1.25,2,-999.000,9,   2009.5,2,   -999.0,9,     8.01,2,   1603,     4.6,-999.0000,-999.000,-999.000, 16.6124,-999.000
   31DSCGC91_2,  P16N,    34,  2,   5006,   1012,2,19910318,0747, 32.1753,-152.0102, 5256,    149.3,  16.6206,  34.7509,2,  34.7460,2,    241.4,2,     3.94,2,     0.08,2,     0.01,2,     0.09,2,    2.672,2,    1.393,2, -999.000,9,-999.0000,9,  -999.00,9,   -999.0,9,  -999.00,9,-999.000,9,   2011.5,2,   -999.0,9,     8.01,2,   1853,  -999.0,-999.0000,-999.000,-999.000, 16.5964,-999.000
   31DSCGC91_2,  P16N,    34,  2,   5005,   1007,2,19910318,0747, 32.1753,-152.0102, 5256,    176.2,  13.0665,  34.2145,2,  34.2280,2,    232.1,2,     7.14,2,     5.12,2,     0.02,2,     0.47,2,    3.091,2,    1.570,2, -999.000,9,-999.0000,9,  -999.00,9,     88.6,2,     0.91,2,-999.000,9,   2036.7,2,   -999.0,9,     7.91,2,   2124,     4.6,-999.0000,-999.000,-999.000, 13.0423,-999.000
   31DSCGC91_2,  P16N,    34,  2,   5004,   1038,2,19910318,0747, 32.1753,-152.0102, 5256,    249.1,  11.0828,  34.1972,2,  34.1940,2,    223.6,2,    12.54,2,    11.80,2,     0.01,2,     0.85,2,    2.838,2,    1.404,2, -999.000,9,-999.0000,9,  -999.00,9,     82.3,2,     0.68,2,-999.000,9,   2071.7,2,   -999.0,9,     7.84,2,   2856,     4.7,-999.0000,-999.000,-999.000, 11.0522,-999.000
   31DSCGC91_2,  P16N,    34,  2,   5003,   1029,2,19910318,0747, 32.1753,-152.0102, 5256,    300.4,  10.2956,  34.1631,2,  34.1610,2,    223.9,2,    15.74,2,    13.46,2,     0.00,2,     0.98,2, -999.000,5, -999.000,5, -999.000,9,-999.0000,9,  -999.00,9,     73.2,2,    -0.01,3,-999.000,9,   2080.1,2,   -999.0,9,     7.82,2,   3371,     5.0,-999.0000,-999.000,-999.000, 10.2603,-999.000
   31DSCGC91_2,  P16N,    34,  2,   5002,   1028,2,19910318,0747, 32.1753,-152.0102, 5256,    352.3,   9.6654,  34.1308,2,  34.1320,2,    216.9,2,    19.13,2,    15.54,2,     0.00,2,     1.10,2,    2.604,2,    1.273,2, -999.000,9,-999.0000,9,  -999.00,9,   -999.0,9,  -999.00,9,-999.000,9,   2093.9,2,   -999.0,9,     7.79,2,   3892,  -999.0,-999.0000,-999.000,-999.000,  9.6255,-999.000
   31DSCGC91_2,  P16N,    34,  2,   5001,   1017,2,19910318,0747, 32.1753,-152.0102, 5256,    402.0,   8.7991,  34.0897,2,  34.0890,2,    199.8,2,    25.93,2,    19.04,2,     0.00,2,     1.33,2,    2.240,6,    1.096,6, -999.000,9,-999.0000,9,  -999.00,9,   -999.0,9,  -999.00,9,-999.000,9,   2118.9,2,   -999.0,9,     7.74,2,   4391,  -999.0,-999.0000,-999.000,-999.000,  8.7561,-999.000