BOTTLE,20021108WHPSIOdm
EXPOCODE,SECT_ID,STNNBR,CASTNO,SAMPNO,BTLNBR,BTLNBR_FLAG_W,DATE,TIME,LATITUDE,LONGITUDE,DEPTH,CTDPRS,CTDTMP,CTDSAL,CTDSAL_FLAG_W,SALNTY,SALNTY_FLAG_W,OXYGEN,OXYGEN_FLAG_W,SILCAT,SILCAT_FLAG_W,NITRAT,NITRAT_FLAG_W,NITRIT,NITRIT_FLAG_W,PHSPHT,PHSPHT_FLAG_W,CFC-11,CFC-11_FLAG_W,CFC-12,CFC-12_FLAG_W,TRITUM,TRITUM_FLAG_W,HELIUM,HELIUM_FLAG_W,DELHE3,DELHE3_FLAG_W,DELC14,DELC14_FLAG_W,DELC13,DELC13_FLAG_W,NEON,NEON_FLAG_W,TCARBN,TCARBN_FLAG_W,ALKALI,ALKALI_FLAG_W,PH,PH_FLAG_W,CTDRAW,C14ERR,HELIER,DELHER,NEONER,THETA,TRITER
,,,,,,,,,,,,DBAR,ITS-90,PSS-78,,PSS-78,,UMOL/KG,,UMOL/KG,,UMOL/KG,,UMOL/KG,,UMOL/KG,,PMOL/KG,,PMOL/KG,,TU,,NMOL/KG,,PERCNT,,/MILLE,,/MILLE,,NMOL/KG,,UMOL/KG,,UMOL/KG,,,,DBAR,/MILLE,NMOL/KG,PERCNT,NMOL/KG,DEG C,TU
   31DSCGC91_2,  P16N,    42,  1,   5924,   1027,2,19910321,1904, 37.9985,-152.0005, 4973,      8.3,  13.4576,  33.7737,2,  33.7730,2,    261.2,2,     4.46,2,     0.01,2,     0.00,2,     0.20,2,    3.214,2,    1.633,2, -999.000,9,-999.0000,9,  -999.00,9,   -999.0,9,  -999.00,9,-999.000,9,   1991.2,2,   -999.0,9,  -999.00,9,    435,  -999.0,-999.0000,-999.000,-999.000, 13.4564,-999.000
   31DSCGC91_2,  P16N,    42,  1,   5923,   1016,2,19910321,1904, 37.9985,-152.0005, 4973,     75.8,  13.3786,  33.7907,2,  33.7880,2,    259.7,2,     4.46,2,     0.02,2,     0.00,2,     0.21,2, -999.000,5, -999.000,5, -999.000,9,-999.0000,9,  -999.00,9,   -999.0,9,  -999.00,9,-999.000,9,   1990.1,2,   -999.0,9,  -999.00,9,   1115,  -999.0,-999.0000,-999.000,-999.000, 13.3681,-999.000
   31DSCGC91_2,  P16N,    42,  1,   5922,   1026,2,19910321,1904, 37.9985,-152.0005, 4973,    125.6,  11.5100,  34.0052,2,  34.0100,2,    234.6,2,     8.95,2,     8.09,2,     0.02,2,     0.67,2,    3.369,2,    1.657,2, -999.000,9,-999.0000,9,  -999.00,9,   -999.0,9,  -999.00,9,-999.000,9,   2048.0,2,   -999.0,9,  -999.00,9,   1615,  -999.0,-999.0000,-999.000,-999.000, 11.4942,-999.000
   31DSCGC91_2,  P16N,    42,  1,   5921,   1004,2,19910321,1904, 37.9985,-152.0005, 4973,    150.9,  11.0338,  34.0402,2,  34.0320,2,    233.3,2,    10.71,2,     9.79,2,     0.01,2,     0.78,2,    3.178,2,    1.614,2, -999.000,9,-999.0000,9,  -999.00,9,   -999.0,9,  -999.00,9,-999.000,9,   2058.6,2,   -999.0,9,  -999.00,9,   1868,  -999.0,-999.0000,-999.000,-999.000, 11.0154,-999.000
   31DSCGC91_2,  P16N,    42,  1,   5920,   1025,2,19910321,1904, 37.9985,-152.0005, 4973,    176.0,  10.9188,  34.1191,2,  34.1180,2,    224.5,2,    12.66,2,    12.00,2,     0.01,2,     0.90,2,    3.210,2,    1.613,2, -999.000,9,-999.0000,9,  -999.00,9,   -999.0,9,  -999.00,9,-999.000,9,   2070.9,2,   -999.0,9,  -999.00,9,   2122,  -999.0,-999.0000,-999.000,-999.000, 10.8974,-999.000
   31DSCGC91_2,  P16N,    42,  1,   5919,   1031,2,19910321,1904, 37.9985,-152.0005, 4973,    201.0,  10.5157,  34.1076,2,  34.1100,2,    225.9,2,    14.41,2,    12.72,2,     0.01,2,     0.95,2,    3.116,6,    1.553,6, -999.000,9,-999.0000,9,  -999.00,9,   -999.0,9,  -999.00,9,-999.000,9,   2079.5,2,   -999.0,9,  -999.00,9,   2373,  -999.0,-999.0000,-999.000,-999.000, 10.4918,-999.000
   31DSCGC91_2,  P16N,    42,  1,   5918,   1036,2,19910321,1904, 37.9985,-152.0005, 4973,    298.8,   9.1832,  34.0769,2,  34.0830,2,    221.4,2,    20.66,2,    16.05,2,     0.00,2,     1.16,2,    2.814,2,    1.412,2, -999.000,9,-999.0000,9,  -999.00,9,   -999.0,9,  -999.00,9,-999.000,9,   2097.0,2,   -999.0,9,  -999.00,9,   3355,  -999.0,-999.0000,-999.000,-999.000,  9.1506,-999.000
   31DSCGC91_2,  P16N,    42,  1,   5917,     26,2,19910321,1904, 37.9985,-152.0005, 4973,    348.0,   8.2369,  34.0117,2,  34.0140,2,    220.3,2,    25.55,2,    18.08,2,     0.00,2,     1.32,2,    2.883,2,    1.446,2, -999.000,9,-999.0000,9,  -999.00,9,   -999.0,9,  -999.00,9,-999.000,9,   2112.3,2,   -999.0,9,  -999.00,9,   3849,  -999.0,-999.0000,-999.000,-999.000,  8.2013,-999.000
   31DSCGC91_2,  P16N,    42,  1,   5916,   1037,2,19910321,1904, 37.9985,-152.0005, 4973,    449.7,   6.9485,  33.9934,2,  33.9900,2,    170.9,2,    41.82,2,    25.22,2,     0.00,2,     1.79,2,    2.019,2,    0.973,2, -999.000,9,-999.0000,9,  -999.00,9,   -999.0,9,  -999.00,9,-999.000,9,   2167.8,2,   -999.0,9,  -999.00,9,   4870,  -999.0,-999.0000,-999.000,-999.000,  6.9065,-999.000
   31DSCGC91_2,  P16N,    42,  1,   5915,   1032,2,19910321,1904, 37.9985,-152.0005, 4973,    548.8,   5.7112,  33.9846,2,  33.9840,2,    120.7,2,    63.07,2,    32.26,2,     0.00,2,     2.30,2,    1.091,2,    0.523,2, -999.000,9,-999.0000,9,  -999.00,9,   -999.0,9,  -999.00,9,-999.000,9,   2224.4,2,   -999.0,9,  -999.00,9,   5864,  -999.0,-999.0000,-999.000,-999.000,  5.6647,-999.000
   31DSCGC91_2,  P16N,    42,  1,   5914,   1011,2,19910321,1904, 37.9985,-152.0005, 4973,    648.7,   4.8089,  34.0345,2,  34.0350,2,     80.1,2,    83.46,2,    37.22,2,     0.00,2,     2.65,2,    0.495,2,    0.229,2, -999.000,9,-999.0000,9,  -999.00,9,   -999.0,9,  -999.00,9,-999.000,9,   2273.5,2,   -999.0,9,  -999.00,9,   6865,  -999.0,-999.0000,-999.000,-999.000,  4.7579,-999.000
   31DSCGC91_2,  P16N,    42,  1,   5913,   1033,2,19910321,1904, 37.9985,-152.0005, 4973,    749.4,   4.2457,  34.1059,2,  34.1050,2,     48.6,2,    99.81,2,    40.93,2,     0.00,2,     2.88,2,    0.158,2,    0.088,2, -999.000,9,-999.0000,9,  -999.00,9,   -999.0,9,  -999.00,9,-999.000,9,   2310.6,2,   -999.0,9,  -999.00,9,   7874,  -999.0,-999.0000,-999.000,-999.000,  4.1895,-999.000
   31DSCGC91_2,  P16N,    42,  1,   5912,   1019,2,19910321,1904, 37.9985,-152.0005, 4973,    850.9,   3.8596,  34.1768,2,  34.1750,2,     28.3,2,   113.87,2,    42.66,2,     0.00,2,     3.02,2,    0.041,2,    0.023,2, -999.000,9,-999.0000,9,  -999.00,9,   -999.0,9,  -999.00,9,-999.000,9,   2339.8,2,   -999.0,9,  -999.00,9,   8891,  -999.0,-999.0000,-999.000,-999.000,  3.7975,-999.000
   31DSCGC91_2,  P16N,    42,  1,   5911,   1041,2,19910321,1904, 37.9985,-152.0005, 4973,    924.1,   3.6155,  34.2332,2,  34.2310,2,     16.0,2,   122.94,2,    43.26,2,     0.00,2,     3.09,2,    0.008,2,    0.000,2, -999.000,9,-999.0000,9,  -999.00,9,   -999.0,9,  -999.00,9,-999.000,9,   2354.1,2,   -999.0,9,  -999.00,9,   9624,  -999.0,-999.0000,-999.000,-999.000,  3.5493,-999.000
   31DSCGC91_2,  P16N,    42,  1,   5910,   1002,2,19910321,1904, 37.9985,-152.0005, 4973,   1075.3,   3.2984,  34.3146,2,  34.3120,2,      9.0,2,   136.15,2,    44.46,2,     0.00,2,     3.15,2,    0.001,2,    0.000,2, -999.000,9,-999.0000,9,  -999.00,9,   -999.0,9,  -999.00,9,-999.000,9,   2373.9,2,   -999.0,9,  -999.00,9,  11136,  -999.0,-999.0000,-999.000,-999.000,  3.2226,-999.000
   31DSCGC91_2,  P16N,    42,  1,   5907,   1013,4,19910321,1904, 37.9985,-152.0005, 4973,   1173.6,   3.0643,  34.3759,2,  34.3750,2,      7.5,2,   145.07,2,    44.74,2,     0.00,2,     3.17,2,   -0.001,2,    0.000,2, -999.000,9,-999.0000,9,  -999.00,9,   -999.0,9,  -999.00,9,-999.000,9,   -999.0,9,   -999.0,9,  -999.00,9,  12121,  -999.0,-999.0000,-999.000,-999.000,  2.9827,-999.000
   31DSCGC91_2,  P16N,    42,  1,   5908,      6,2,19910321,1904, 37.9985,-152.0005, 4973,   1173.6,   3.0643,  34.3759,2,  34.3740,2,      7.8,2,   145.11,2,    44.20,2,     0.00,2,     3.17,2,   -0.001,2,    0.000,2, -999.000,9,-999.0000,9,  -999.00,9,   -999.0,9,  -999.00,9,-999.000,9,   2386.6,2,   -999.0,9,  -999.00,9,  12121,  -999.0,-999.0000,-999.000,-999.000,  2.9827,-999.000
   31DSCGC91_2,  P16N,    42,  1,   5909,   1003,4,19910321,1904, 37.9985,-152.0005, 4973,   1173.6,   3.0643,  34.3759,2,  34.3730,2,      6.7,2,   145.14,2,    44.73,2,     0.00,2,     3.17,2,    0.007,2,    0.000,2, -999.000,9,-999.0000,9,  -999.00,9,   -999.0,9,  -999.00,9,-999.000,9,   -999.0,9,   -999.0,9,  -999.00,9,  12121,  -999.0,-999.0000,-999.000,-999.000,  2.9827,-999.000
   31DSCGC91_2,  P16N,    42,  1,   5906,   1012,2,19910321,1904, 37.9985,-152.0005, 4973,   1499.0,   2.5932,  34.5010,2,  34.4990,2,     19.1,2,   160.12,2,    44.14,2,     0.00,2,     3.13,2,   -0.005,2,    0.000,2, -999.000,9,-999.0000,9,  -999.00,9,   -999.0,9,  -999.00,9,-999.000,9,   2394.3,2,   -999.0,9,  -999.00,9,  15373,  -999.0,-999.0000,-999.000,-999.000,  2.4903,-999.000
   31DSCGC91_2,  P16N,    42,  1,   5905,   1007,2,19910321,1904, 37.9985,-152.0005, 4973,   1999.5,   2.0130,  34.5991,2,  34.5960,2,     56.7,2,   174.29,2,    41.82,2,     0.00,2,     2.96,2,    0.000,2,    0.000,2, -999.000,9,-999.0000,9,  -999.00,9,   -999.0,9,  -999.00,9,-999.000,9,   2384.7,2,   -999.0,9,  -999.00,9,  20370,  -999.0,-999.0000,-999.000,-999.000,  1.8765,-999.000
   31DSCGC91_2,  P16N,    42,  1,   5904,   1038,2,19910321,1904, 37.9985,-152.0005, 4973,   3002.4,   1.5539,  34.6622,2,  34.6600,2,    114.9,2,   169.20,2,    38.05,2,     0.00,2,     2.68,2,   -0.004,2,    0.000,2, -999.000,9,-999.0000,9,  -999.00,9,   -999.0,9,  -999.00,9,-999.000,9,   2353.3,2,   -999.0,9,  -999.00,9,  30370,  -999.0,-999.0000,-999.000,-999.000,  1.3357,-999.000
   31DSCGC91_2,  P16N,    42,  1,   5903,   1029,2,19910321,1904, 37.9985,-152.0005, 4973,   4005.0,   1.4768,  34.6827,2,  34.6810,2,    141.7,2,   164.35,2,    36.60,2,     0.00,2,     2.55,2,   -0.003,2,    0.006,3, -999.000,9,-999.0000,9,  -999.00,9,   -999.0,9,  -999.00,9,-999.000,9,   2335.7,2,   -999.0,9,  -999.00,9,  40363,  -999.0,-999.0000,-999.000,-999.000,  1.1580,-999.000
   31DSCGC91_2,  P16N,    42,  1,   5902,   1028,2,19910321,1904, 37.9985,-152.0005, 4973,   4755.4,   1.5158,  34.6887,2,  34.6870,2,    149.3,2,   160.14,2,    35.88,2,     0.00,2,     2.50,2,   -0.001,2,    0.000,2, -999.000,9,-999.0000,9,  -999.00,9,   -999.0,9,  -999.00,9,-999.000,9,   2331.3,2,   -999.0,9,  -999.00,9,  47852,  -999.0,-999.0000,-999.000,-999.000,  1.1104,-999.000
   31DSCGC91_2,  P16N,    42,  1,   5901,   1017,2,19910321,1904, 37.9985,-152.0005, 4973,   5021.6,   1.5449,  34.6879,2,  34.6880,2,    151.0,2,   158.65,2,    35.89,2,     0.00,2,     2.49,2,   -0.001,2,    0.012,3, -999.000,9,-999.0000,9,  -999.00,9,   -999.0,9,  -999.00,9,-999.000,9,   2330.8,2,   -999.0,9,  -999.00,9,  50512,  -999.0,-999.0000,-999.000,-999.000,  1.1064,-999.000
   31DSCGC91_2,  P16N,    43,  1,   6024,   1027,2,19910322,0215, 38.6703,-151.9992, 5338,      5.9,  13.0144,  33.6546,2,  33.6570,2,    267.4,2,     4.33,2,     0.00,2,     0.00,2,     0.23,2,    2.978,3,    1.755,2, -999.000,9,-999.0000,9,  -999.00,9,   -999.0,9,  -999.00,9,-999.000,9,   1990.2,2,   -999.0,9,     7.96,2,    412,  -999.0,-999.0000,-999.000,-999.000, 13.0136,-999.000
   31DSCGC91_2,  P16N,    43,  1,   6023,   1016,2,19910322,0215, 38.6703,-151.9992, 5338,     50.5,  12.5213,  33.6354,2,  33.6340,2,    268.5,2,     4.13,2,     0.00,2,     0.00,2,     0.24,2,    3.352,2,    1.683,2, -999.000,9,-999.0000,9,  -999.00,9,   -999.0,9,  -999.00,9,-999.000,9,   1989.5,2,   -999.0,9,     7.96,2,    860,  -999.0,-999.0000,-999.000,-999.000, 12.5146,-999.000
   31DSCGC91_2,  P16N,    43,  1,   6022,   1026,2,19910322,0215, 38.6703,-151.9992, 5338,    101.1,  11.6900,  33.7091,2,  33.7100,2,    260.7,2,     5.11,2,     2.21,2,     0.09,2,     0.38,2,    3.370,2,    1.734,2, -999.000,9,-999.0000,9,  -999.00,9,   -999.0,9,  -999.00,9,-999.000,9,   2009.7,2,   -999.0,9,     7.93,2,   1368,  -999.0,-999.0000,-999.000,-999.000, 11.6773,-999.000
   31DSCGC91_2,  P16N,    43,  1,   6021,   1004,2,19910322,0215, 38.6703,-151.9992, 5338,    250.5,   9.3983,  34.0742,2,  34.0780,2,    223.9,2,    19.80,2,    15.68,2,     0.00,2,     1.12,2,    3.013,2,    1.511,2, -999.000,9,-999.0000,9,  -999.00,9,   -999.0,9,  -999.00,9,-999.000,9,   2095.3,2,   -999.0,9,     7.79,2,   2870,  -999.0,-999.0000,-999.000,-999.000,  9.3706,-999.000
   31DSCGC91_2,  P16N,    43,  1,   6020,   1025,2,19910322,0215, 38.6703,-151.9992, 5338,    399.4,   7.4937,  34.0070,2,  34.0070,2,    188.1,2,    35.90,2,    22.96,2,     0.00,2,     1.61,2,    2.303,2,    1.137,2, -999.000,9,-999.0000,9,  -999.00,9,   -999.0,9,  -999.00,9,-999.000,9,   2148.7,2,   -999.0,9,     7.67,2,   4365,  -999.0,-999.0000,-999.000,-999.000,  7.4549,-999.000
   31DSCGC91_2,  P16N,    43,  1,   6019,   1031,2,19910322,0215, 38.6703,-151.9992, 5338,    497.3,   6.1313,  33.9771,2,  33.9780,2,    140.6,2,    55.62,2,    30.23,2,     0.00,2,     2.12,2,    1.456,6,    0.682,6, -999.000,9,-999.0000,9,  -999.00,9,   -999.0,9,  -999.00,9,-999.000,9,   2205.3,2,   -999.0,9,     7.55,2,   5347,  -999.0,-999.0000,-999.000,-999.000,  6.0878,-999.000
   31DSCGC91_2,  P16N,    43,  1,   6018,   1036,2,19910322,0215, 38.6703,-151.9992, 5338,    599.9,   5.1520,  34.0104,2,  34.0090,2,    101.6,2,    74.43,2,    35.41,2,     0.00,2,     2.49,2,    0.694,6,    0.330,6, -999.000,9,-999.0000,9,  -999.00,9,   -999.0,9,  -999.00,9,-999.000,9,   2250.4,2,   -999.0,9,     7.45,2,   6375,  -999.0,-999.0000,-999.000,-999.000,  5.1035,-999.000
   31DSCGC91_2,  P16N,    43,  1,   6016,   1037,4,19910322,0215, 38.6703,-151.9992, 5338,    699.2,   4.3997,  34.0839,2,  34.0770,2,     62.5,2,    94.52,2,    40.29,2,     0.00,2,     2.80,2,    0.229,2,    0.121,2, -999.000,9,-999.0000,9,  -999.00,9,   -999.0,9,  -999.00,9,-999.000,9,   -999.0,9,   -999.0,9,     7.37,2,   7370,  -999.0,-999.0000,-999.000,-999.000,  4.3467,-999.000
   31DSCGC91_2,  P16N,    43,  1,   6017,     26,2,19910322,0215, 38.6703,-151.9992, 5338,    699.2,   4.3997,  34.0839,2,  34.0750,2,     61.7,2,    94.57,2,    39.99,2,     0.00,2,     2.81,2,    0.228,2,    0.115,2, -999.000,9,-999.0000,9,  -999.00,9,   -999.0,9,  -999.00,9,-999.000,9,   2301.1,2,   -999.0,9,     7.36,2,   7370,  -999.0,-999.0000,-999.000,-999.000,  4.3467,-999.000
   31DSCGC91_2,  P16N,    43,  1,   6015,   1032,2,19910322,0215, 38.6703,-151.9992, 5338,    998.4,   3.3914,  34.2898,2,  34.2860,2,     14.3,2,   132.50,2,    44.78,2,     0.00,2,     3.14,2,    0.005,2,    0.001,2, -999.000,9,   1.8800,2,    13.54,2,   -999.0,9,  -999.00,9,-999.000,9,   2385.2,3,   -999.0,9,     7.28,2,  10368,  -999.0,-999.0000,-999.000,-999.000,  3.3210,-999.000
   31DSCGC91_2,  P16N,    43,  1,   6014,   1011,2,19910322,0215, 38.6703,-151.9992, 5338,   1246.4,   2.9183,  34.4168,2,  34.4140,2,     11.6,2,   150.72,2,    45.00,2,     0.00,2,     3.18,2,    0.003,2,    0.000,2, -999.000,9,   1.8880,2,    16.73,2,   -999.0,9,  -999.00,9,-999.000,9,   2389.9,2,   -999.0,9,     7.29,2,  12849,  -999.0,-999.0000,-999.000,-999.000,  2.8322,-999.000
   31DSCGC91_2,  P16N,    43,  1,   6013,   1033,2,19910322,0215, 38.6703,-151.9992, 5338,   1496.0,   2.5682,  34.5035,2,  34.5010,2,     22.0,2,   161.33,2,    44.85,2,     0.00,2,     3.13,2,    0.007,3,    0.001,2, -999.000,9,   1.9010,2,    19.79,2,   -999.0,9,  -999.00,9,-999.000,9,   2394.2,2,   -999.0,9,     7.32,2,  15343,  -999.0,-999.0000,-999.000,-999.000,  2.4658,-999.000
   31DSCGC91_2,  P16N,    43,  1,   6012,   1019,2,19910322,0215, 38.6703,-151.9992, 5338,   1748.8,   2.2721,  34.5586,2,  34.5560,2,     41.4,2,   168.85,2,    43.54,2,     0.00,2,     3.06,2,   -0.003,2,   -0.001,2, -999.000,9,   1.9070,2,    21.89,2,   -999.0,9,  -999.00,9,-999.000,9,   2392.3,2,   -999.0,9,     7.36,2,  17868,  -999.0,-999.0000,-999.000,-999.000,  2.1528,-999.000
   31DSCGC91_2,  P16N,    43,  1,   6011,   1041,2,19910322,0215, 38.6703,-151.9992, 5338,   2248.3,   1.8449,  34.6164,2,  34.6140,2,     71.2,2,   177.47,2,    41.60,2,     0.00,2,     2.91,2,    0.007,3,    0.000,2, -999.000,9,   1.9130,2,    20.99,2,   -999.0,9,  -999.00,9,-999.000,9,   2382.6,2,   -999.0,9,     7.42,2,  22852,  -999.0,-999.0000,-999.000,-999.000,  1.6899,-999.000
   31DSCGC91_2,  P16N,    43,  1,   6010,   1002,2,19910322,0215, 38.6703,-151.9992, 5338,   2500.1,   1.7169,  34.6370,2,  34.6340,2,     87.8,2,   175.46,2,    40.45,2,     0.00,2,     2.82,2,    0.006,3,    0.001,2, -999.000,9,   1.9060,2,    19.90,2,   -999.0,9,  -999.00,9,-999.000,9,   2372.4,2,   -999.0,9,     7.46,2,  25363,  -999.0,-999.0000,-999.000,-999.000,  1.5419,-999.000
   31DSCGC91_2,  P16N,    43,  1,   6009,   1003,2,19910322,0215, 38.6703,-151.9992, 5338,   2751.0,   1.6409,  34.6477,2,  34.6460,2,    102.4,2,   172.62,2,    39.52,2,     0.00,2,     2.76,2, -999.000,9, -999.000,9, -999.000,9,   1.9110,2,    18.64,2,   -999.0,9,  -999.00,9,-999.000,9,   2363.8,2,   -999.0,9,     7.48,2,  27863,  -999.0,-999.0000,-999.000,-999.000,  1.4445,-999.000
   31DSCGC91_2,  P16N,    43,  1,   6008,      6,2,19910322,0215, 38.6703,-151.9992, 5338,   3251.6,   1.5328,  34.6672,2,  34.6650,2,    123.8,2,   168.09,2,    38.60,2,     0.00,2,     2.65,2, -999.000,9, -999.000,9, -999.000,9,   1.9110,2,    17.34,2,   -999.0,9,  -999.00,9,-999.000,9,   2347.3,2,   -999.0,9,     7.53,2,  32853,  -999.0,-999.0000,-999.000,-999.000,  1.2909,-999.000
   31DSCGC91_2,  P16N,    43,  1,   6007,   1013,2,19910322,0215, 38.6703,-151.9992, 5338,   3505.4,   1.4988,  34.6740,2,  34.6740,2,    135.8,2,   165.68,2,    37.46,2,     0.00,2,     2.59,2, -999.000,9, -999.000,9, -999.000,9,   1.9090,2,    16.70,2,   -999.0,9,  -999.00,9,-999.000,9,   2342.7,2,   -999.0,9,     7.55,2,  35382,  -999.0,-999.0000,-999.000,-999.000,  1.2322,-999.000
   31DSCGC91_2,  P16N,    43,  1,   6006,   1012,2,19910322,0215, 38.6703,-151.9992, 5338,   3754.6,   1.4848,  34.6783,2,  34.6770,2,    139.2,2,   164.34,2,    36.97,2,     0.00,2,     2.56,2, -999.000,9, -999.000,9, -999.000,9,   1.9010,2,    16.78,2,   -999.0,9,  -999.00,9,-999.000,9,   2338.7,2,   -999.0,9,     7.56,2,  37866,  -999.0,-999.0000,-999.000,-999.000,  1.1926,-999.000
   31DSCGC91_2,  P16N,    43,  1,   6005,   1007,2,19910322,0215, 38.6703,-151.9992, 5338,   4254.3,   1.4908,  34.6835,2,  34.6830,2,    146.5,2,   162.79,2,    36.70,2,     0.00,2,     2.52,2, -999.000,9, -999.000,9, -999.000,9,   1.9090,2,    15.94,2,   -999.0,9,  -999.00,9,-999.000,9,   2334.1,2,   -999.0,9,     7.57,2,  42850,  -999.0,-999.0000,-999.000,-999.000,  1.1440,-999.000
   31DSCGC91_2,  P16N,    43,  1,   6004,   1038,2,19910322,0215, 38.6703,-151.9992, 5338,   4507.9,   1.5098,  34.6855,2,  34.6850,2,    146.0,2,   167.13,2,    36.50,2,     0.00,2,     2.52,2, -999.000,9, -999.000,9, -999.000,9,   1.9150,2,    16.27,2,   -999.0,9,  -999.00,9,-999.000,9,   2334.3,2,   -999.0,9,     7.57,2,  45381,  -999.0,-999.0000,-999.000,-999.000,  1.1336,-999.000
   31DSCGC91_2,  P16N,    43,  1,   6003,   1029,2,19910322,0215, 38.6703,-151.9992, 5338,   4756.4,   1.5298,  34.6857,2,  34.6860,2,    148.0,2,   164.10,2,    35.94,2,     0.00,2,     2.51,2, -999.000,9, -999.000,9, -999.000,9,   1.9050,2,    15.64,2,   -999.0,9,  -999.00,9,-999.000,9,   2331.4,2,   -999.0,9,     7.58,2,  47862,  -999.0,-999.0000,-999.000,-999.000,  1.1238,-999.000
   31DSCGC91_2,  P16N,    43,  1,   6002,   1028,2,19910322,0215, 38.6703,-151.9992, 5338,   5006.8,   1.5499,  34.6871,2,  34.6870,2,    150.6,2,   160.87,2,    36.30,2,     0.00,2,     2.50,2, -999.000,9, -999.000,9, -999.000,9,   1.9000,2,    15.65,2,   -999.0,9,  -999.00,9,-999.000,9,   2330.3,2,   -999.0,9,     7.58,2,  50364,  -999.0,-999.0000,-999.000,-999.000,  1.1130,-999.000
   31DSCGC91_2,  P16N,    43,  1,   6001,   1017,2,19910322,0215, 38.6703,-151.9992, 5338,   5353.0,   1.5809,  34.6879,2,  34.6890,2,    155.7,2,   156.81,2,    35.82,2,     0.00,2,     2.47,2, -999.000,9, -999.000,9, -999.000,9,-999.0000,9,  -999.00,9,   -999.0,9,  -999.00,9,-999.000,9,   2327.5,2,   -999.0,9,     7.58,2,  53827,  -999.0,-999.0000,-999.000,-999.000,  1.1000,-999.000