BOTTLE,20021108WHPSIOdm
EXPOCODE,SECT_ID,STNNBR,CASTNO,SAMPNO,BTLNBR,BTLNBR_FLAG_W,DATE,TIME,LATITUDE,LONGITUDE,DEPTH,CTDPRS,CTDTMP,CTDSAL,CTDSAL_FLAG_W,SALNTY,SALNTY_FLAG_W,OXYGEN,OXYGEN_FLAG_W,SILCAT,SILCAT_FLAG_W,NITRAT,NITRAT_FLAG_W,NITRIT,NITRIT_FLAG_W,PHSPHT,PHSPHT_FLAG_W,CFC-11,CFC-11_FLAG_W,CFC-12,CFC-12_FLAG_W,TRITUM,TRITUM_FLAG_W,HELIUM,HELIUM_FLAG_W,DELHE3,DELHE3_FLAG_W,DELC14,DELC14_FLAG_W,DELC13,DELC13_FLAG_W,NEON,NEON_FLAG_W,TCARBN,TCARBN_FLAG_W,ALKALI,ALKALI_FLAG_W,PH,PH_FLAG_W,CTDRAW,C14ERR,HELIER,DELHER,NEONER,THETA,TRITER
,,,,,,,,,,,,DBAR,ITS-90,PSS-78,,PSS-78,,UMOL/KG,,UMOL/KG,,UMOL/KG,,UMOL/KG,,UMOL/KG,,PMOL/KG,,PMOL/KG,,TU,,NMOL/KG,,PERCNT,,/MILLE,,/MILLE,,NMOL/KG,,UMOL/KG,,UMOL/KG,,,,DBAR,/MILLE,NMOL/KG,PERCNT,NMOL/KG,DEG C,TU
   31DSCGC91_2,  P16N,    15,  1,   2424,   1027,2,19910308,0402, 19.8878,-154.9212,  962,      8.3,  23.5667,  34.9825,2,  34.9770,2,    215.4,2,     2.37,2,     0.00,2,     0.00,2,     0.10,2,    2.111,2,    1.101,2, -999.000,9,-999.0000,9,  -999.00,9,   -999.0,9,  -999.00,9,-999.000,9,   1964.4,2,   -999.0,9,  -999.00,9,    435,  -999.0,-999.0000,-999.000,-999.000, 23.5650,-999.000
   31DSCGC91_2,  P16N,    15,  1,   2423,   1016,2,19910308,0402, 19.8878,-154.9212,  962,     20.9,  23.5787,  34.9818,2,  34.9770,2,    213.7,2,     2.37,2,     0.00,2,     0.00,2,     0.10,2,    2.030,2,    1.154,2, -999.000,9,-999.0000,9,  -999.00,9,   -999.0,9,  -999.00,9,-999.000,9,   1965.4,2,   -999.0,9,  -999.00,9,    563,  -999.0,-999.0000,-999.000,-999.000, 23.5744,-999.000
   31DSCGC91_2,  P16N,    15,  1,   2422,   1026,2,19910308,0402, 19.8878,-154.9212,  962,     39.9,  23.5827,  34.9824,2,  34.9770,2,    213.4,2,     2.17,2,     0.00,2,     0.00,2,     0.10,2,    2.064,2,    1.087,2, -999.000,9,-999.0000,9,  -999.00,9,   -999.0,9,  -999.00,9,-999.000,9,   1964.3,2,   -999.0,9,  -999.00,9,    754,  -999.0,-999.0000,-999.000,-999.000, 23.5745,-999.000
   31DSCGC91_2,  P16N,    15,  1,   2421,   1004,2,19910308,0402, 19.8878,-154.9212,  962,     61.9,  23.5767,  34.9845,2,  34.9790,2,    214.7,2,     2.17,2,     0.00,2,     0.00,2,     0.11,2,    2.006,2,    1.157,2, -999.000,9,-999.0000,9,  -999.00,9,   -999.0,9,  -999.00,9,-999.000,9,   1966.1,2,   -999.0,9,  -999.00,9,    975,  -999.0,-999.0000,-999.000,-999.000, 23.5639,-999.000
   31DSCGC91_2,  P16N,    15,  1,   2420,   1025,2,19910308,0402, 19.8878,-154.9212,  962,     80.4,  23.1486,  35.1417,2,  35.1310,2,    213.7,2,     1.97,2,     0.00,2,     0.00,2,     0.07,2,    2.088,2,    1.149,2, -999.000,9,-999.0000,9,  -999.00,9,   -999.0,9,  -999.00,9,-999.000,9,   1979.0,2,   -999.0,9,  -999.00,9,   1161,  -999.0,-999.0000,-999.000,-999.000, 23.1321,-999.000
   31DSCGC91_2,  P16N,    15,  1,   2419,   1031,2,19910308,0402, 19.8878,-154.9212,  962,    101.3,  22.6455,  35.1944,2,  35.1920,2,    214.4,2,     2.17,2,     0.00,2,     0.00,2,     0.07,2,    2.065,2,    1.193,2, -999.000,9,-999.0000,9,  -999.00,9,   -999.0,9,  -999.00,9,-999.000,9,   1985.1,2,   -999.0,9,  -999.00,9,   1371,  -999.0,-999.0000,-999.000,-999.000, 22.6250,-999.000
   31DSCGC91_2,  P16N,    15,  1,   2418,   1036,2,19910308,0402, 19.8878,-154.9212,  962,    126.6,  20.7989,  35.1461,2,  35.1490,2,    201.0,2,     2.56,2,     0.65,2,     0.03,2,     0.18,2,    2.213,2,    1.196,2, -999.000,9,-999.0000,9,  -999.00,9,   -999.0,9,  -999.00,9,-999.000,9,   2020.6,2,   -999.0,9,  -999.00,9,   1625,  -999.0,-999.0000,-999.000,-999.000, 20.7748,-999.000
   31DSCGC91_2,  P16N,    15,  1,   2417,     26,2,19910308,0402, 19.8878,-154.9212,  962,    154.8,  19.4124,  35.1071,2,  35.1090,2,    195.8,2,     2.75,2,     2.15,2,     0.02,2,     0.24,2,    2.263,2,    1.239,2, -999.000,9,-999.0000,9,  -999.00,9,   -999.0,9,  -999.00,9,-999.000,9,   2035.2,2,   -999.0,9,  -999.00,9,   1908,  -999.0,-999.0000,-999.000,-999.000, 19.3844,-999.000
   31DSCGC91_2,  P16N,    15,  1,   2416,   1037,2,19910308,0402, 19.8878,-154.9212,  962,    176.1,  18.5382,  35.0219,2,  35.0300,2,    197.3,2,     3.34,2,     2.83,2,     0.01,2,     0.28,2,    2.310,2,    1.280,2, -999.000,9,-999.0000,9,  -999.00,9,   -999.0,9,  -999.00,9,-999.000,9,   2037.2,2,   -999.0,9,  -999.00,9,   2123,  -999.0,-999.0000,-999.000,-999.000, 18.5073,-999.000
   31DSCGC91_2,  P16N,    15,  1,   2415,   1032,2,19910308,0402, 19.8878,-154.9212,  962,    201.5,  16.5385,  34.7423,2,  34.8090,3,    194.8,2,     4.52,2,     4.31,2,     0.01,2,     0.38,2, -999.000,5, -999.000,5, -999.000,9,-999.0000,9,  -999.00,9,   -999.0,9,  -999.00,9,-999.000,9,   2044.7,2,   -999.0,9,  -999.00,9,   2378,  -999.0,-999.0000,-999.000,-999.000, 16.5060,-999.000
   31DSCGC91_2,  P16N,    15,  1,   2414,   1040,2,19910308,0402, 19.8878,-154.9212,  962,    248.2,  14.0558,  34.4205,2,  34.4160,2,    187.3,2,     8.45,2,     8.82,2,     0.00,2,     0.70,2,    2.290,2,    1.229,2, -999.000,9,-999.0000,9,  -999.00,9,   -999.0,9,  -999.00,9,-999.000,9,   2043.6,2,   -999.0,9,  -999.00,9,   2847,  -999.0,-999.0000,-999.000,-999.000, 14.0199,-999.000
   31DSCGC91_2,  P16N,    15,  1,   2413,   1033,2,19910308,0402, 19.8878,-154.9212,  962,    300.7,  10.7077,  34.1803,2,  34.1740,2,    196.8,2,    16.12,2,    14.66,2,     0.00,2,     1.07,2,    2.241,2,    1.167,2, -999.000,9,-999.0000,9,  -999.00,9,   -999.0,9,  -999.00,9,-999.000,9,   2093.5,2,   -999.0,9,  -999.00,9,   3374,  -999.0,-999.0000,-999.000,-999.000, 10.6714,-999.000
   31DSCGC91_2,  P16N,    15,  1,   2412,   1019,3,19910308,0402, 19.8878,-154.9212,  962,    347.5,   9.1702,  34.1346,2,  34.1160,2,    169.2,2,    26.92,2,    20.90,2,     0.00,2,     1.50,2,    1.614,2,    0.848,2, -999.000,9,-999.0000,9,  -999.00,9,   -999.0,9,  -999.00,9,-999.000,9,   -999.0,9,   -999.0,9,  -999.00,9,   3844,  -999.0,-999.0000,-999.000,-999.000,  9.1322,-999.000
   31DSCGC91_2,  P16N,    15,  1,   2411,   1038,3,19910308,0402, 19.8878,-154.9212,  962,    397.8,   7.9088,  34.1532,2,  34.1620,2,   -999.0,9,    41.09,2,    27.25,2,     0.00,2,     2.03,2, -999.000,5, -999.000,5, -999.000,9,-999.0000,9,  -999.00,9,   -999.0,9,  -999.00,9,-999.000,9,   -999.0,9,   -999.0,9,  -999.00,9,   4349,  -999.0,-999.0000,-999.000,-999.000,  7.8688,-999.000
   31DSCGC91_2,  P16N,    15,  1,   2410,   1009,3,19910308,0402, 19.8878,-154.9212,  962,    449.9,   6.8765,  34.1334,2,  34.1300,2,   -999.0,9,    56.08,2,    32.99,2,     0.00,2,     2.42,2, -999.000,5, -999.000,5, -999.000,9,-999.0000,9,  -999.00,9,   -999.0,9,  -999.00,9,-999.000,9,   -999.0,9,   -999.0,9,  -999.00,5,   4872,  -999.0,-999.0000,-999.000,-999.000,  6.8346,-999.000
   31DSCGC91_2,  P16N,    15,  1,   2409,   1001,3,19910308,0402, 19.8878,-154.9212,  962,    499.5,   6.5784,  34.1830,2,  34.1860,2,   -999.0,9,    62.39,2,    35.26,2,     0.00,2,     2.61,2, -999.000,5, -999.000,5, -999.000,9,-999.0000,9,  -999.00,9,   -999.0,9,  -999.00,9,-999.000,9,   -999.0,9,   -999.0,9,  -999.00,5,   5369,  -999.0,-999.0000,-999.000,-999.000,  6.5328,-999.000
   31DSCGC91_2,  P16N,    15,  1,   2408,   5106,2,19910308,0402, 19.8878,-154.9212,  962,    598.0,   5.8482,  34.3421,2,  34.3290,2,     30.1,2,    77.84,2,    39.75,2,     0.00,2,     2.91,2,    0.021,2,    0.024,2, -999.000,9,-999.0000,9,  -999.00,9,   -999.0,9,  -999.00,9,-999.000,9,   2294.8,2,   -999.0,9,     7.36,2,   6357,  -999.0,-999.0000,-999.000,-999.000,  5.7964,-999.000
   31DSCGC91_2,  P16N,    15,  1,   2407,   1013,2,19910308,0402, 19.8878,-154.9212,  962,    698.2,   5.4001,  34.4080,2,  34.4240,2,     28.5,2,    85.97,2,    41.32,2,     0.00,2,     2.98,2,   -0.004,2,    0.000,2, -999.000,9,-999.0000,9,  -999.00,9,   -999.0,9,  -999.00,9,-999.000,9,   2302.1,2,   -999.0,9,     7.37,2,   7360,  -999.0,-999.0000,-999.000,-999.000,  5.3414,-999.000
   31DSCGC91_2,  P16N,    15,  1,   2406,   1012,2,19910308,0402, 19.8878,-154.9212,  962,    785.8,   4.9849,  34.4529,2,  34.4510,2,     33.9,2,    93.73,2,    41.81,2,     0.00,2,     3.02,2,   -0.001,2,    0.000,2, -999.000,9,-999.0000,9,  -999.00,9,   -999.0,9,  -999.00,9,-999.000,9,   2322.7,2,   -999.0,9,     7.37,2,   8239,  -999.0,-999.0000,-999.000,-999.000,  4.9208,-999.000
   31DSCGC91_2,  P16N,    15,  1,   2405,   1007,2,19910308,0402, 19.8878,-154.9212,  962,    895.2,   4.5828,  34.4799,2,  34.4720,2,     35.8,2,   100.51,2,    42.09,2,     0.00,2,     3.06,2,   -0.003,2,    0.000,2, -999.000,9,-999.0000,9,  -999.00,9,   -999.0,9,  -999.00,9,-999.000,9,   2329.4,2,   -999.0,9,     7.38,2,   9335,  -999.0,-999.0000,-999.000,-999.000,  4.5118,-999.000
   31DSCGC91_2,  P16N,    15,  1,   2401,   1017,2,19910308,0402, 19.8878,-154.9212,  962,    916.8,   4.4298,  34.4937,2,  34.4920,2,     41.8,2,   104.14,2,    42.21,2,     0.00,2,     3.05,2,    0.001,2,    0.000,2, -999.000,9,-999.0000,9,  -999.00,9,   -999.0,9,  -999.00,9,-999.000,9,   2335.1,2,   -999.0,9,     7.38,2,   9551,  -999.0,-999.0000,-999.000,-999.000,  4.3579,-999.000
   31DSCGC91_2,  P16N,    15,  1,   2403,   1029,2,19910308,0402, 19.8878,-154.9212,  962,    916.8,   4.4348,  34.4955,2,  34.4900,2,     39.5,2,   104.04,2,    42.05,2,     0.00,2,     3.04,2,   -0.001,2,    0.000,2, -999.000,9,-999.0000,9,  -999.00,9,   -999.0,9,  -999.00,9,-999.000,9,   2332.9,2,   -999.0,9,     7.38,2,   9551,  -999.0,-999.0000,-999.000,-999.000,  4.3629,-999.000
   31DSCGC91_2,  P16N,    15,  1,   2402,   1028,2,19910308,0402, 19.8878,-154.9212,  962,    919.7,   4.4308,  34.4947,2,  34.4900,2,     37.0,2,   104.19,2,    42.26,2,     0.00,2,     3.04,2,    0.008,3,    0.000,2, -999.000,9,-999.0000,9,  -999.00,9,   -999.0,9,  -999.00,9,-999.000,9,   2334.6,2,   -999.0,9,     7.37,2,   9580,  -999.0,-999.0000,-999.000,-999.000,  4.3587,-999.000
   31DSCGC91_2,  P16N,    15,  1,   2404,   1038,2,19910308,0402, 19.8878,-154.9212,  962,    920.5,   4.4428,  34.4935,2,  34.4900,2,     37.7,2,   103.88,2,    42.10,2,     0.00,2,     3.05,2,    0.000,2,    0.000,2, -999.000,9,-999.0000,9,  -999.00,9,   -999.0,9,  -999.00,9,-999.000,9,   2333.2,2,   -999.0,9,     7.38,2,   9588,  -999.0,-999.0000,-999.000,-999.000,  4.3705,-999.000
   31DSCGC91_2,  P16N,    16,  1,   2524,   1027,2,19910308,0831, 20.0658,-154.6757, 2531,      8.9,  23.5977,  34.9738,2,  34.9700,2,    216.8,2,     2.59,2,     0.00,2,     0.00,2,     0.12,2,    2.132,3,    1.037,2, -999.000,9,-999.0000,9,  -999.00,9,   -999.0,9,  -999.00,9,-999.000,9,   -999.0,9,   -999.0,9,  -999.00,9,    442,  -999.0,-999.0000,-999.000,-999.000, 23.5959,-999.000
   31DSCGC91_2,  P16N,    16,  1,   2523,   1016,2,19910308,0831, 20.0658,-154.6757, 2531,     21.7,  23.5967,  34.9750,2,  34.9700,2,    214.6,2,     2.58,2,     0.00,2,     0.00,2,     0.11,2,    2.059,2,    1.034,2, -999.000,9,-999.0000,9,  -999.00,9,   -999.0,9,  -999.00,9,-999.000,9,   -999.0,9,   -999.0,9,  -999.00,9,    571,  -999.0,-999.0000,-999.000,-999.000, 23.5922,-999.000
   31DSCGC91_2,  P16N,    16,  1,   2522,   1026,2,19910308,0831, 20.0658,-154.6757, 2531,     55.7,  23.4537,  35.0909,2,  35.0810,2,    216.3,2,     2.36,2,     0.00,2,     0.00,2,     0.10,2,    2.024,2,    1.032,2, -999.000,9,-999.0000,9,  -999.00,9,   -999.0,9,  -999.00,9,-999.000,9,   -999.0,9,   -999.0,9,  -999.00,9,    911,  -999.0,-999.0000,-999.000,-999.000, 23.4422,-999.000
   31DSCGC91_2,  P16N,    16,  1,   2521,   1004,2,19910308,0831, 20.0658,-154.6757, 2531,     74.0,  22.6264,  35.1971,2,  35.1870,2,    213.5,2,     2.15,2,     0.00,2,     0.00,2,     0.08,2,    2.052,2,    1.062,2, -999.000,9,-999.0000,9,  -999.00,9,   -999.0,9,  -999.00,9,-999.000,9,   -999.0,9,   -999.0,9,  -999.00,9,   1096,  -999.0,-999.0000,-999.000,-999.000, 22.6115,-999.000
   31DSCGC91_2,  P16N,    16,  1,   2520,   1025,2,19910308,0831, 20.0658,-154.6757, 2531,    102.9,  21.2580,  35.2244,2,  35.2170,2,    207.0,2,     2.33,2,     0.08,2,     0.07,2,     0.12,2,    2.593,4,    1.311,4, -999.000,9,-999.0000,9,  -999.00,9,   -999.0,9,  -999.00,9,-999.000,9,   -999.0,9,   -999.0,9,  -999.00,9,   1387,  -999.0,-999.0000,-999.000,-999.000, 21.2381,-999.000
   31DSCGC91_2,  P16N,    16,  1,   2519,   1031,2,19910308,0831, 20.0658,-154.6757, 2531,    150.8,  19.0993,  35.0532,2,  35.0490,2,    191.8,2,     3.28,2,     2.69,2,     0.02,2,     0.30,2,    2.232,2,    1.132,2, -999.000,9,-999.0000,9,  -999.00,9,   -999.0,9,  -999.00,9,-999.000,9,   -999.0,9,   -999.0,9,  -999.00,9,   1868,  -999.0,-999.0000,-999.000,-999.000, 19.0724,-999.000
   31DSCGC91_2,  P16N,    16,  1,   2518,   1036,2,19910308,0831, 20.0658,-154.6757, 2531,    202.3,  16.6556,  34.7476,2,  34.7690,2,    192.1,2,     4.82,2,     4.87,2,     0.01,2,     0.44,2,    2.373,2,    0.075,4, -999.000,9,-999.0000,9,  -999.00,9,   -999.0,9,  -999.00,9,-999.000,9,   -999.0,9,   -999.0,9,  -999.00,9,   2386,  -999.0,-999.0000,-999.000,-999.000, 16.6227,-999.000
   31DSCGC91_2,  P16N,    16,  1,   2517,     26,2,19910308,0831, 20.0658,-154.6757, 2531,    302.9,  10.7957,  34.1762,2,  34.1730,2,    194.1,2,    16.29,2,    14.87,2,     0.00,2,     1.10,2,    2.198,2,    1.081,2, -999.000,9,-999.0000,9,  -999.00,9,   -999.0,9,  -999.00,9,-999.000,9,   -999.0,9,   -999.0,9,  -999.00,9,   3396,  -999.0,-999.0000,-999.000,-999.000, 10.7590,-999.000
   31DSCGC91_2,  P16N,    16,  1,   2516,   1037,2,19910308,0831, 20.0658,-154.6757, 2531,    404.1,   8.4190,  34.1085,2,  34.0980,2,    151.6,2,    34.58,2,    24.19,2,     0.00,2,     1.75,2,    1.989,4,    0.608,4, -999.000,9,-999.0000,9,  -999.00,9,   -999.0,9,  -999.00,9,-999.000,9,   -999.0,9,   -999.0,9,  -999.00,9,   4412,  -999.0,-999.0000,-999.000,-999.000,  8.3768,-999.000
   31DSCGC91_2,  P16N,    16,  1,   2515,   1032,2,19910308,0831, 20.0658,-154.6757, 2531,    497.6,   6.9445,  34.1946,2,  34.1910,2,     55.8,2,    58.21,2,    34.57,2,     0.00,2,     2.56,2,    0.232,2,    0.104,2, -999.000,9,-999.0000,9,  -999.00,9,   -999.0,9,  -999.00,9,-999.000,9,   -999.0,9,   -999.0,9,  -999.00,9,   5350,  -999.0,-999.0000,-999.000,-999.000,  6.8977,-999.000
   31DSCGC91_2,  P16N,    16,  1,   2514,   1040,2,19910308,0831, 20.0658,-154.6757, 2531,    600.0,   5.7062,  34.2795,2,  34.2850,2,     29.2,2,    79.23,2,    39.84,2,     0.00,2,     2.91,2,    0.040,2,    0.018,2, -999.000,9,-999.0000,9,  -999.00,9,   -999.0,9,  -999.00,9,-999.000,9,   -999.0,9,   -999.0,9,  -999.00,9,   6377,  -999.0,-999.0000,-999.000,-999.000,  5.6549,-999.000
   31DSCGC91_2,  P16N,    16,  1,   2513,   1033,2,19910308,0831, 20.0658,-154.6757, 2531,    700.1,   5.2330,  34.3905,2,  34.3870,2,     25.8,2,    88.87,2,    41.40,2,     0.00,2,     3.02,2,    0.013,3,    0.004,2, -999.000,9,-999.0000,9,  -999.00,9,   -999.0,9,  -999.00,9,-999.000,9,   -999.0,9,   -999.0,9,  -999.00,9,   7380,  -999.0,-999.0000,-999.000,-999.000,  5.1751,-999.000
   31DSCGC91_2,  P16N,    16,  1,   2512,   1019,2,19910308,0831, 20.0658,-154.6757, 2531,    793.2,   5.0069,  34.4565,2,  34.4540,2,     29.4,2,    92.79,2,    41.78,2,     0.00,2,     3.04,2,    0.016,3,    0.000,2, -999.000,9,-999.0000,9,  -999.00,9,   -999.0,9,  -999.00,9,-999.000,9,   -999.0,9,   -999.0,9,  -999.00,9,   8313,  -999.0,-999.0000,-999.000,-999.000,  4.9421,-999.000
   31DSCGC91_2,  P16N,    16,  1,   2510,   1009,2,19910308,0831, 20.0658,-154.6757, 2531,    993.2,   4.1787,  34.5009,2,  34.4980,2,     39.0,2,   108.89,2,    42.50,2,     0.00,2,     3.07,2,    0.029,4,   -0.005,2, -999.000,9,   1.8920,2,    25.21,2,   -999.0,9,  -999.00,9,-999.000,9,   -999.0,9,   -999.0,9,  -999.00,9,  10316,  -999.0,-999.0000,-999.000,-999.000,  4.1022,-999.000
   31DSCGC91_2,  P16N,    16,  1,   2508,   5106,2,19910308,0831, 20.0658,-154.6757, 2531,   1293.7,   3.3614,  34.5541,2,  34.5510,2,     55.0,2,   126.14,2,    41.72,2,     0.00,2,     3.03,2,    0.006,3,    0.005,2, -999.000,9,-999.0000,9,  -999.00,9,   -999.0,9,  -999.00,9,-999.000,9,   -999.0,9,   -999.0,9,  -999.00,9,  13321,  -999.0,-999.0000,-999.000,-999.000,  3.2669,-999.000
   31DSCGC91_2,  P16N,    16,  1,   2507,   1013,2,19910308,0831, 20.0658,-154.6757, 2531,   1443.3,   2.9873,  34.5761,2,  34.5730,2,     60.5,2,   134.99,2,    41.39,2,     0.00,2,     2.96,3,   -0.002,2,   -0.005,2, -999.000,9,   1.8970,2,    23.53,2,   -999.0,9,  -999.00,9,-999.000,9,   -999.0,9,   -999.0,9,  -999.00,9,  14816,  -999.0,-999.0000,-999.000,-999.000,  2.8843,-999.000
   31DSCGC91_2,  P16N,    16,  1,   2506,   1012,2,19910308,0831, 20.0658,-154.6757, 2531,   1596.2,   2.7182,  34.5938,2,  34.5890,2,     70.6,2,   141.04,2,    41.33,2,     0.00,2,     2.92,2,    0.001,2,    0.003,2, -999.000,9,-999.0000,9,  -999.00,9,   -999.0,9,  -999.00,9,-999.000,9,   -999.0,9,   -999.0,9,  -999.00,9,  16344,  -999.0,-999.0000,-999.000,-999.000,  2.6057,-999.000
   31DSCGC91_2,  P16N,    16,  1,   2505,   1007,2,19910308,0831, 20.0658,-154.6757, 2531,   1746.8,   2.4972,  34.6054,2,  34.6010,2,     76.9,2,   145.68,2,    40.81,2,     0.00,2,     2.88,2,   -0.002,2,    0.005,2, -999.000,9,-999.0000,9,  -999.00,9,   -999.0,9,  -999.00,9,-999.000,9,   -999.0,9,   -999.0,9,  -999.00,9,  17848,  -999.0,-999.0000,-999.000,-999.000,  2.3749,-999.000
   31DSCGC91_2,  P16N,    16,  1,   2504,   1038,2,19910308,0831, 20.0658,-154.6757, 2531,   1897.6,   2.3511,  34.6144,2,  34.6090,2,     76.5,3,   148.68,2,    39.79,3,     0.00,2,     2.85,2,    0.001,2,    0.063,4, -999.000,9,   1.9110,2,    23.12,2,   -999.0,9,  -999.00,9,-999.000,9,   -999.0,9,   -999.0,9,  -999.00,9,  19353,  -999.0,-999.0000,-999.000,-999.000,  2.2181,-999.000
   31DSCGC91_2,  P16N,    16,  1,   2503,   1029,2,19910308,0831, 20.0658,-154.6757, 2531,   2094.8,   2.0800,  34.6317,2,  34.6270,2,     93.8,2,   154.16,2,    39.66,2,     0.00,2,     2.79,2,    0.003,2,    0.009,3, -999.000,9,-999.0000,9,  -999.00,9,   -999.0,9,  -999.00,9,-999.000,9,   -999.0,9,   -999.0,9,  -999.00,9,  21321,  -999.0,-999.0000,-999.000,-999.000,  1.9343,-999.000
   31DSCGC91_2,  P16N,    16,  1,   2502,   1028,2,19910308,0831, 20.0658,-154.6757, 2531,   2292.2,   1.9270,  34.6415,2,  34.6370,2,    102.4,2,   156.97,2,    38.96,2,     0.00,2,     2.74,2,    0.010,3,    0.074,4, -999.000,9,   1.9380,2,    22.22,2,   -999.0,9,  -999.00,9,-999.000,9,   -999.0,9,   -999.0,9,  -999.00,9,  23290,  -999.0,-999.0000,-999.000,-999.000,  1.7666,-999.000
   31DSCGC91_2,  P16N,    16,  1,   2501,   1017,2,19910308,0831, 20.0658,-154.6757, 2531,   2516.4,   1.7859,  34.6528,2,  34.6490,2,    114.1,2,   158.97,2,    38.39,2,     0.00,2,     2.70,2,    0.005,2,    0.049,4, -999.000,9,-999.0000,9,  -999.00,9,   -999.0,9,  -999.00,9,-999.000,9,   -999.0,9,   -999.0,9,  -999.00,9,  25525,  -999.0,-999.0000,-999.000,-999.000,  1.6081,-999.000