BOTTLE,20021108WHPSIOdm
EXPOCODE,SECT_ID,STNNBR,CASTNO,SAMPNO,BTLNBR,BTLNBR_FLAG_W,DATE,TIME,LATITUDE,LONGITUDE,DEPTH,CTDPRS,CTDTMP,CTDSAL,CTDSAL_FLAG_W,SALNTY,SALNTY_FLAG_W,OXYGEN,OXYGEN_FLAG_W,SILCAT,SILCAT_FLAG_W,NITRAT,NITRAT_FLAG_W,NITRIT,NITRIT_FLAG_W,PHSPHT,PHSPHT_FLAG_W,CFC-11,CFC-11_FLAG_W,CFC-12,CFC-12_FLAG_W,TRITUM,TRITUM_FLAG_W,HELIUM,HELIUM_FLAG_W,DELHE3,DELHE3_FLAG_W,DELC14,DELC14_FLAG_W,DELC13,DELC13_FLAG_W,NEON,NEON_FLAG_W,TCARBN,TCARBN_FLAG_W,ALKALI,ALKALI_FLAG_W,PH,PH_FLAG_W,CTDRAW,C14ERR,HELIER,DELHER,NEONER,THETA,TRITER
,,,,,,,,,,,,DBAR,ITS-90,PSS-78,,PSS-78,,UMOL/KG,,UMOL/KG,,UMOL/KG,,UMOL/KG,,UMOL/KG,,PMOL/KG,,PMOL/KG,,TU,,NMOL/KG,,PERCNT,,/MILLE,,/MILLE,,NMOL/KG,,UMOL/KG,,UMOL/KG,,,,DBAR,/MILLE,NMOL/KG,PERCNT,NMOL/KG,DEG C,TU
   31DSCGC91_2,  P16N,    17,  1,   2623,   1016,2,19910308,1449, 20.3673,-154.2345, 5369,      6.9,  23.7728,  34.9216,2,  34.9150,2,    213.9,2,     2.45,2,     0.00,2,     0.00,2,     0.12,2,    1.968,2,    1.025,2,    1.695,2,   1.7050,2,    -1.65,2,    104.6,2,     1.47,2,   6.755,2,   1964.4,2,   -999.0,9,     8.10,2,    422,     3.4,  0.0090,   0.150,   0.036, 23.7714,   0.006
   31DSCGC91_2,  P16N,    17,  1,   2620,   1025,2,19910308,1449, 20.3673,-154.2345, 5369,     27.5,  23.7778,  34.9246,2,  34.9190,2,    213.7,2,     2.44,2,     0.00,2,     0.00,2,     0.14,2,    2.025,2,    1.032,2, -999.000,9,-999.0000,9,  -999.00,9,   -999.0,9,  -999.00,9,-999.000,9,   1964.2,2,   -999.0,9,     8.10,2,    629,  -999.0,-999.0000,-999.000,-999.000, 23.7721,-999.000
   31DSCGC91_2,  P16N,    17,  1,   2618,   1036,2,19910308,1449, 20.3673,-154.2345, 5369,     49.2,  23.4477,  35.0160,2,  35.0170,2,    214.2,2,     2.44,2,     0.00,2,     0.00,2,     0.36,3, -999.000,5, -999.000,5,    1.750,2,-999.0000,9,  -999.00,9,    110.2,2,     1.36,2,-999.000,9,   1968.4,2,   -999.0,9,     8.10,2,    846,     4.0,-999.0000,-999.000,-999.000, 23.4375,   0.005
   31DSCGC91_2,  P16N,    17,  1,   2616,   1037,2,19910308,1449, 20.3673,-154.2345, 5369,     74.8,  23.3267,  35.0546,2,  35.0550,2,    218.0,2,     2.43,2,     0.00,2,     0.00,2,     0.10,2,    2.004,6,    1.069,2, -999.000,9,-999.0000,9,  -999.00,9,   -999.0,9,  -999.00,9,-999.000,9,   1968.9,2,   -999.0,9,     8.10,2,   1105,  -999.0,-999.0000,-999.000,-999.000, 23.3112,-999.000
   31DSCGC91_2,  P16N,    17,  1,   2614,   1040,2,19910308,1449, 20.3673,-154.2345, 5369,    101.1,  22.6404,  35.2637,2,  35.2620,2,    215.1,2,     2.23,2,     0.00,2,     0.00,2,     0.13,2,    2.043,2,    1.086,2, -999.000,9,-999.0000,9,  -999.00,9,    120.2,2,     1.28,2,-999.000,9,   1987.5,2,   -999.0,9,     8.09,2,   1368,     4.0,-999.0000,-999.000,-999.000, 22.6200,-999.000
   31DSCGC91_2,  P16N,    17,  1,   2613,   1033,2,19910308,1449, 20.3673,-154.2345, 5369,    124.2,  22.0573,  35.3635,2,  35.3470,2,    214.9,2,     2.22,2,     0.00,2,     0.00,2,     0.06,2,    2.082,2,    1.086,2,    1.894,2,   1.6980,2,    -1.12,2,    122.8,2,  -999.00,5,   6.811,2,   1992.6,2,   -999.0,9,     8.09,2,   1601,     4.4,  0.0090,   0.150,   0.036, 22.0326,   0.006
   31DSCGC91_2,  P16N,    17,  1,   2612,   1019,3,19910308,1449, 20.3673,-154.2345, 5369,    151.3,  19.4505,  35.0814,2,  34.6680,3,   -999.0,9,  -999.00,9,  -999.00,9,  -999.00,9,  -999.00,9, -999.000,5, -999.000,5, -999.000,9,-999.0000,9,  -999.00,9,   -999.0,9,  -999.00,9,-999.000,9,   -999.0,9,   -999.0,9,  -999.00,9,   1873,  -999.0,-999.0000,-999.000,-999.000, 19.4230,-999.000
   31DSCGC91_2,  P16N,    17,  1,   2611,   1024,2,19910308,1449, 20.3673,-154.2345, 5369,    203.3,  16.2094,  34.6918,2,  34.6860,2,    191.9,2,     5.50,2,     5.44,2,     0.01,2,     0.48,2,    2.273,2,    1.171,2,    2.224,2,-999.0000,9,  -999.00,9,    121.4,2,     0.81,2,-999.000,9,   2050.5,2,   -999.0,9,     7.92,2,   2396,     6.0,-999.0000,-999.000,-999.000, 16.1770,   0.006
   31DSCGC91_2,  P16N,    17,  1,   2610,   1009,2,19910308,1449, 20.3673,-154.2345, 5369,    245.6,  13.9527,  34.4273,2,  34.4340,2,    195.5,2,     8.40,2,     8.05,2,     0.01,2,     0.66,2,    2.346,2,    1.212,2,    2.257,2,   1.7380,2,     3.54,2,    100.8,2,     0.77,2,   7.230,2,   2059.1,2,   -999.0,9,     7.88,2,   2821,     5.9,  0.0090,   0.150,   0.038, 13.9174,   0.007
   31DSCGC91_2,  P16N,    17,  1,   2609,   1003,2,19910308,1449, 20.3673,-154.2345, 5369,    302.9,  11.1519,  34.1941,2,  34.2090,2,    209.0,2,    13.42,2,    12.68,2,     0.00,2,     0.92,2,    2.371,2,    1.194,2,    2.255,2,   1.7800,2,     5.79,2,     78.4,2,     0.73,2,   7.435,2,   2074.8,2,   -999.0,9,  -999.00,9,   3396,     7.8,  0.0090,   0.150,   0.039, 11.1143,   0.007
   31DSCGC91_2,  P16N,    17,  1,   2608,      6,2,19910308,1449, 20.3673,-154.2345, 5369,    349.2,   9.8054,  34.1318,2,  34.1320,2,    198.3,2,    20.58,2,    16.80,2,     0.00,2,     1.21,2,    2.083,2,    1.014,2, -999.000,9,   1.7840,2,     9.94,2,     52.1,2,     0.44,2,   7.498,2,   2103.2,2,   -999.0,9,     7.77,2,   3861,     9.3,  0.0090,   0.150,   0.040,  9.7655,-999.000
   31DSCGC91_2,  P16N,    17,  1,   2607,   1013,3,19910308,1449, 20.3673,-154.2345, 5369,    403.4,   8.5931,  34.1370,2,  34.1320,2,    131.3,2,    36.29,2,    25.65,2,     0.00,2,     1.90,2,    0.963,2,    0.489,2,    1.813,2,   1.7900,2,    16.54,2,    -25.0,2,     0.14,2,   7.594,2,   -999.0,9,   -999.0,9,     7.60,2,   4405,     3.5,  0.0090,   0.150,   0.040,  8.5504,   0.006
   31DSCGC91_2,  P16N,    17,  1,   2606,   1012,2,19910308,1449, 20.3673,-154.2345, 5369,    498.3,   7.0766,  34.1981,2,  34.1980,2,     62.0,2,    56.71,2,    34.04,2,     0.00,2,     2.54,2,    0.199,2,    0.131,2,    0.756,2,   1.8050,2,    13.42,2,   -117.4,2,    -0.19,2,   7.614,2,   2250.1,2,   -999.0,9,     7.44,2,   5357,     8.9,  0.0090,   0.150,   0.040,  7.0292,   0.004
   31DSCGC91_2,  P16N,    17,  1,   2605,   1007,2,19910308,1449, 20.3673,-154.2345, 5369,    599.5,   5.9492,  34.2956,2,  34.2830,2,     37.4,2,    74.91,2,    38.52,2,     0.00,2,     2.85,2,    0.046,2,    0.031,2,    0.199,2,   1.8250,2,    11.13,2,   -142.8,2,    -0.45,2,   7.723,2,   2293.5,2,   -999.0,9,     7.38,2,   6372,     5.2,  0.0090,   0.150,   0.041,  5.8969,   0.002
   31DSCGC91_2,  P16N,    17,  1,   2604,   1038,2,19910308,1449, 20.3673,-154.2345, 5369,    685.5,   5.7282,  34.3981,2,  34.3950,2,     27.7,2,    80.00,2,    40.71,2,     0.00,2,     2.98,2,    0.005,2,    0.008,2,    0.029,2,   1.8210,2,    11.18,2,   -162.2,2,    -0.17,2,   7.740,2,   2309.3,2,   -999.0,9,     7.36,2,   7234,     4.7,  0.0090,   0.150,   0.041,  5.6689,   0.003
   31DSCGC91_2,  P16N,    17,  1,   2603,   1029,2,19910308,1449, 20.3673,-154.2345, 5369,    800.1,   5.0530,  34.4335,2,  34.4370,2,     35.8,2,    91.62,2,    41.20,2,     0.00,2,     2.98,2,    0.004,2,    0.019,4,    0.005,2,   1.8410,2,    14.81,2,   -185.5,2,    -0.24,2,   7.798,2,   2317.7,2,   -999.0,9,     7.38,2,   8382,     6.3,  0.0100,   0.150,   0.041,  4.9872,   0.002
   31DSCGC91_2,  P16N,    17,  1,   2602,   1028,2,19910308,1449, 20.3673,-154.2345, 5369,    898.5,   4.6348,  34.4721,2,  34.4680,2,     35.9,2,    99.73,2,    42.45,2,     0.00,2,     3.03,2,    0.008,3,    0.015,3,   -0.003,2,-999.0000,9,  -999.00,9,   -200.9,2,    -0.29,2,-999.000,9,   2331.2,2,   -999.0,9,     7.38,2,   9368,     4.5,-999.0000,-999.000,-999.000,  4.5632,   0.002
   31DSCGC91_2,  P16N,    17,  1,   2601,   1017,2,19910308,1449, 20.3673,-154.2345, 5369,    997.5,   4.2197,  34.4995,2,  34.4910,2,     41.8,2,   107.67,2,    41.85,2,     0.00,2,     3.02,2,   -0.006,2,    0.011,3,    0.006,2,   1.8790,2,    24.44,2,   -187.4,2,    -0.97,2,-999.000,9,   2334.5,2,   -999.0,9,     7.39,2,  10359,     8.9,-999.0000,-999.000,-999.000,  4.1425,   0.002
   31DSCGC91_2,  P16N,    17,  2,   2724,   1027,2,19910308,1948, 20.3975,-154.2363, 5455,   1102.7,   3.9026,  34.5196,2,  34.5180,2,     43.5,2,   114.64,2,    41.77,2,     0.00,2,     3.02,2,    0.003,2,    0.000,2, -999.000,9,   1.8800,2,    27.89,2,   -999.0,9,  -999.00,9,-999.000,9,   2339.9,2,   -999.0,9,     7.40,2,  11411,  -999.0,-999.0000,-999.000,-999.000,  3.8191,-999.000
   31DSCGC91_2,  P16N,    17,  2,   2722,   1026,4,19910308,1948, 20.3975,-154.2363, 5455,   1302.4,   3.4424,  34.5552,2,  34.5510,2,     52.5,2,   124.44,2,    41.79,2,     0.00,2,     2.99,2,    0.001,2,    0.000,2, -999.000,9,-999.0000,9,  -999.00,9,   -999.0,9,  -999.00,9,-999.000,9,   -999.0,9,   -999.0,9,  -999.00,9,  13408,  -999.0,-999.0000,-999.000,-999.000,  3.3464,-999.000
   31DSCGC91_2,  P16N,    17,  2,   2723,   1016,2,19910308,1948, 20.3975,-154.2363, 5455,   1302.4,   3.4424,  34.5552,2,  34.5510,2,     51.7,2,   124.46,2,    42.06,2,     0.00,2,     2.99,2,    0.008,3,    0.000,2,    0.006,2,   1.8890,2,    25.11,2,   -223.0,2,    -0.33,2,-999.000,9,   2348.1,2,   -999.0,9,     7.41,2,  13408,     4.4,-999.0000,-999.000,-999.000,  3.3464,   0.002
   31DSCGC91_2,  P16N,    17,  2,   2721,   1004,2,19910308,1948, 20.3975,-154.2363, 5455,   1899.8,   2.2771,  34.6177,2,  34.6160,2,     84.7,2,   150.61,2,    40.50,2,     0.00,2,     2.82,2,    0.001,2,    0.010,3, -999.000,9,   1.9130,2,    23.36,2,   -999.0,9,  -999.00,9,-999.000,9,   2356.4,2,   -999.0,9,     7.47,2,  19375,  -999.0,-999.0000,-999.000,-999.000,  2.1450,-999.000
   31DSCGC91_2,  P16N,    17,  2,   2720,   1025,2,19910308,1948, 20.3975,-154.2363, 5455,   2098.2,   2.0530,  34.6331,2,  34.6300,2,     93.8,2,   154.69,2,    39.53,2,     0.00,2,     2.76,2,    0.007,3,    0.000,2, -999.000,9,   1.9180,2,    22.68,2,   -999.0,9,  -999.00,9,-999.000,9,   2354.1,2,   -999.0,9,  -999.00,9,  21355,  -999.0,-999.0000,-999.000,-999.000,  1.9074,-999.000
   31DSCGC91_2,  P16N,    17,  2,   2719,   1031,2,19910308,1948, 20.3975,-154.2363, 5455,   2301.5,   1.9100,  34.6429,2,  34.6410,2,    109.8,3,   157.13,2,    39.32,2,     0.00,2,     2.71,2,    0.000,2,    0.000,2, -999.000,9,   1.9110,2,    22.64,2,   -999.0,9,  -999.00,9,-999.000,9,   2351.7,2,   -999.0,9,     7.50,2,  23383,  -999.0,-999.0000,-999.000,-999.000,  1.7491,-999.000
   31DSCGC91_2,  P16N,    17,  2,   2718,   1036,2,19910308,1948, 20.3975,-154.2363, 5455,   2501.4,   1.8089,  34.6526,2,  34.6490,2,    108.4,2,   157.93,2,    38.66,2,     0.00,2,     2.68,2, -999.000,5, -999.000,5, -999.000,9,   1.9160,2,    22.96,2,   -999.0,9,  -999.00,9,-999.000,9,   2350.4,2,   -999.0,9,  -999.00,9,  25376,  -999.0,-999.0000,-999.000,-999.000,  1.6321,-999.000
   31DSCGC91_2,  P16N,    17,  2,   2717,     26,2,19910308,1948, 20.3975,-154.2363, 5455,   2702.0,   1.7249,  34.6585,2,  34.6560,2,    113.5,2,   159.76,2,    38.52,2,     0.00,2,     2.65,2, -999.000,5, -999.000,5, -999.000,9,-999.0000,9,  -999.00,9,   -999.0,9,  -999.00,9,-999.000,9,   2346.5,2,   -999.0,9,     7.53,2,  27376,  -999.0,-999.0000,-999.000,-999.000,  1.5313,-999.000
   31DSCGC91_2,  P16N,    17,  2,   2716,   1037,2,19910308,1948, 20.3975,-154.2363, 5455,   2901.1,   1.6629,  34.6664,2,  34.6640,2,    119.2,2,   160.35,2,    38.25,2,     0.00,2,     2.62,2, -999.000,5, -999.000,5, -999.000,9,   1.9250,2,    21.79,2,   -999.0,9,  -999.00,9,-999.000,9,   2344.3,2,   -999.0,9,     7.54,2,  29360,  -999.0,-999.0000,-999.000,-999.000,  1.4520,-999.000
   31DSCGC91_2,  P16N,    17,  2,   2714,   1040,2,19910308,1948, 20.3975,-154.2363, 5455,   3102.2,   1.5809,  34.6690,2,  34.6670,2,    125.7,2,  -999.00,9,  -999.00,9,  -999.00,9,  -999.00,9, -999.000,5, -999.000,5, -999.000,9,-999.0000,9,  -999.00,9,   -999.0,9,  -999.00,9,-999.000,9,   2344.4,2,   -999.0,9,     7.54,2,  31363,  -999.0,-999.0000,-999.000,-999.000,  1.3524,-999.000
   31DSCGC91_2,  P16N,    17,  2,   2713,   1033,2,19910308,1948, 20.3975,-154.2363, 5455,   3102.4,   1.5819,  34.6678,2,  34.6660,2,    125.5,2,   161.98,2,    37.60,2,     0.00,2,     2.59,2,    0.007,3,    0.006,3, -999.000,9,   1.9090,2,    19.46,2,   -999.0,9,  -999.00,9,-999.000,9,   2344.0,2,   -999.0,9,     7.54,2,  31366,  -999.0,-999.0000,-999.000,-999.000,  1.3534,-999.000
   31DSCGC91_2,  P16N,    17,  2,   2715,   1032,2,19910308,1948, 20.3975,-154.2363, 5455,   3103.5,   1.5819,  34.6698,2,  34.6660,2,    124.9,2,  -999.00,9,  -999.00,9,  -999.00,9,  -999.00,9, -999.000,5, -999.000,5, -999.000,9,-999.0000,9,  -999.00,9,   -999.0,9,  -999.00,9,-999.000,9,   2342.2,2,   -999.0,9,     7.54,2,  31377,  -999.0,-999.0000,-999.000,-999.000,  1.3533,-999.000
   31DSCGC91_2,  P16N,    17,  2,   2711,   1024,2,19910308,1948, 20.3975,-154.2363, 5455,   3403.0,   1.5188,  34.6759,2,  34.6730,2,    132.5,2,  -999.00,9,  -999.00,9,  -999.00,9,  -999.00,9,    0.021,4,    0.000,2, -999.000,9,-999.0000,9,  -999.00,9,   -999.0,9,  -999.00,9,-999.000,9,   2338.9,2,   -999.0,9,     7.55,2,  34362,  -999.0,-999.0000,-999.000,-999.000,  1.2621,-999.000
   31DSCGC91_2,  P16N,    17,  2,   2710,   1009,2,19910308,1948, 20.3975,-154.2363, 5455,   3407.5,   1.5188,  34.6751,2,  34.6730,2,    133.0,2,   161.34,2,    37.39,2,     0.00,2,     2.54,2,    0.193,4,    0.005,2, -999.000,9,   1.9040,2,    17.86,2,   -999.0,9,  -999.00,9,-999.000,9,   2337.1,2,   -999.0,9,     7.56,2,  34407,  -999.0,-999.0000,-999.000,-999.000,  1.2616,-999.000
   31DSCGC91_2,  P16N,    17,  2,   2707,   1013,2,19910308,1948, 20.3975,-154.2363, 5455,   3701.5,   1.4768,  34.6815,2,  34.6790,2,    141.1,2,   158.84,2,    36.74,2,     0.00,2,     2.51,2,    0.001,2,    0.000,2, -999.000,9,   1.9050,2,    17.11,2,   -999.0,9,  -999.00,9,-999.000,9,   2332.3,2,   -999.0,9,     7.57,2,  37337,  -999.0,-999.0000,-999.000,-999.000,  1.1904,-999.000
   31DSCGC91_2,  P16N,    17,  2,   2708,      6,2,19910308,1948, 20.3975,-154.2363, 5455,   3704.0,   1.4758,  34.6815,2,  34.6800,2,    141.2,2,  -999.00,9,  -999.00,9,  -999.00,9,  -999.00,9,    0.006,3,    0.005,2, -999.000,9,-999.0000,9,  -999.00,9,   -999.0,9,  -999.00,9,-999.000,9,   2330.3,2,   -999.0,9,     7.57,2,  37362,  -999.0,-999.0000,-999.000,-999.000,  1.1892,-999.000
   31DSCGC91_2,  P16N,    17,  2,   2709,   1003,2,19910308,1948, 20.3975,-154.2363, 5455,   3705.4,   1.4748,  34.6807,2,  34.6790,2,    126.8,3,  -999.00,9,  -999.00,9,  -999.00,9,  -999.00,9,    0.017,4,    0.000,2, -999.000,9,-999.0000,9,  -999.00,9,   -999.0,9,  -999.00,9,-999.000,9,   2327.3,2,   -999.0,9,     7.57,2,  37376,  -999.0,-999.0000,-999.000,-999.000,  1.1880,-999.000
   31DSCGC91_2,  P16N,    17,  2,   2706,   1012,2,19910308,1948, 20.3975,-154.2363, 5455,   4009.3,   1.4628,  34.6835,2,  34.6820,2,    147.6,2,   155.52,2,    36.34,2,     0.00,2,     2.48,2,    0.001,2,    0.000,2, -999.000,9,   1.9110,2,    15.87,2,   -999.0,9,  -999.00,9,-999.000,9,   2326.2,2,   -999.0,9,     7.58,2,  40406,  -999.0,-999.0000,-999.000,-999.000,  1.1439,-999.000
   31DSCGC91_2,  P16N,    17,  2,   2705,   1007,2,19910308,1948, 20.3975,-154.2363, 5455,   4308.5,   1.4678,  34.6879,2,  34.6860,2,    150.9,2,   153.23,2,    35.95,2,     0.00,2,     2.46,2,    0.003,2,    0.006,3, -999.000,9,   1.9040,2,    15.59,2,   -999.0,9,  -999.00,9,-999.000,9,   2318.2,2,   -999.0,9,     7.58,2,  43391,  -999.0,-999.0000,-999.000,-999.000,  1.1156,-999.000
   31DSCGC91_2,  P16N,    17,  2,   2704,   1038,2,19910308,1948, 20.3975,-154.2363, 5455,   4607.9,   1.4768,  34.6886,2,  34.6870,2,    156.5,2,   150.96,2,    35.86,2,     0.00,2,     2.44,2,    0.007,3,    0.005,2, -999.000,9,   1.9030,2,    15.33,2,   -999.0,9,  -999.00,9,-999.000,9,   2316.5,2,   -999.0,9,     7.59,2,  46379,  -999.0,-999.0000,-999.000,-999.000,  1.0900,-999.000
   31DSCGC91_2,  P16N,    17,  2,   2703,   1029,2,19910308,1948, 20.3975,-154.2363, 5455,   4909.2,   1.4838,  34.6911,2,  34.6900,2,    160.0,2,   147.46,2,    35.41,2,     0.00,2,     2.42,2,    0.001,2,    0.000,2, -999.000,9,-999.0000,9,  -999.00,9,   -999.0,9,  -999.00,9,-999.000,9,   2308.8,2,   -999.0,9,     7.59,2,  49389,  -999.0,-999.0000,-999.000,-999.000,  1.0610,-999.000
   31DSCGC91_2,  P16N,    17,  2,   2702,   1028,2,19910308,1948, 20.3975,-154.2363, 5455,   5007.2,   1.4868,  34.6913,2,  34.6900,2,    160.3,2,   147.43,2,    34.82,2,     0.00,2,     2.41,2,    0.002,2,    0.004,2, -999.000,9,   1.9040,2,    14.84,2,   -999.0,9,  -999.00,9,-999.000,9,   2314.3,2,   -999.0,9,     7.58,2,  50367,  -999.0,-999.0000,-999.000,-999.000,  1.0521,-999.000
   31DSCGC91_2,  P16N,    17,  2,   2701,   1017,2,19910308,1948, 20.3975,-154.2363, 5455,   5213.4,   1.4858,  34.6935,2,  34.6920,2,    165.8,2,   143.74,2,    34.74,2,     0.00,2,     2.39,2,    0.016,4,    0.004,2, -999.000,9,-999.0000,9,  -999.00,9,   -999.0,9,  -999.00,9,-999.000,9,   2309.0,2,   -999.0,9,     7.59,2,  52430,  -999.0,-999.0000,-999.000,-999.000,  1.0257,-999.000