BOTTLE,20021108WHPSIOdm
EXPOCODE,SECT_ID,STNNBR,CASTNO,SAMPNO,BTLNBR,BTLNBR_FLAG_W,DATE,TIME,LATITUDE,LONGITUDE,DEPTH,CTDPRS,CTDTMP,CTDSAL,CTDSAL_FLAG_W,SALNTY,SALNTY_FLAG_W,OXYGEN,OXYGEN_FLAG_W,SILCAT,SILCAT_FLAG_W,NITRAT,NITRAT_FLAG_W,NITRIT,NITRIT_FLAG_W,PHSPHT,PHSPHT_FLAG_W,CFC-11,CFC-11_FLAG_W,CFC-12,CFC-12_FLAG_W,TRITUM,TRITUM_FLAG_W,HELIUM,HELIUM_FLAG_W,DELHE3,DELHE3_FLAG_W,DELC14,DELC14_FLAG_W,DELC13,DELC13_FLAG_W,NEON,NEON_FLAG_W,TCARBN,TCARBN_FLAG_W,ALKALI,ALKALI_FLAG_W,PH,PH_FLAG_W,CTDRAW,C14ERR,HELIER,DELHER,NEONER,THETA,TRITER
,,,,,,,,,,,,DBAR,ITS-90,PSS-78,,PSS-78,,UMOL/KG,,UMOL/KG,,UMOL/KG,,UMOL/KG,,UMOL/KG,,PMOL/KG,,PMOL/KG,,TU,,NMOL/KG,,PERCNT,,/MILLE,,/MILLE,,NMOL/KG,,UMOL/KG,,UMOL/KG,,,,DBAR,/MILLE,NMOL/KG,PERCNT,NMOL/KG,DEG C,TU
   31DSCGC91_2,  P16N,    49,  1,   6724,   1027,2,19910324,1628, 42.6800,-151.9750, 5233,      7.8,   9.6434,  33.1004,2,  33.1000,2,    288.1,2,     8.80,2,     4.84,2,     0.10,2,     0.64,2,    2.213,4,    0.936,4, -999.000,9,-999.0000,9,  -999.00,9,   -999.0,9,  -999.00,9,-999.000,9,   -999.0,9,   -999.0,9,  -999.00,9,    430,  -999.0,-999.0000,-999.000,-999.000,  9.6425,-999.000
   31DSCGC91_2,  P16N,    49,  1,   6723,   1016,2,19910324,1628, 42.6800,-151.9750, 5233,     30.9,   9.6364,  33.1006,2,  33.1010,2,    288.6,2,     8.79,2,     4.84,2,     0.10,2,     0.64,2,    3.989,2,    2.008,2, -999.000,9,-999.0000,9,  -999.00,9,   -999.0,9,  -999.00,9,-999.000,9,   -999.0,9,   -999.0,9,  -999.00,9,    663,  -999.0,-999.0000,-999.000,-999.000,  9.6330,-999.000
   31DSCGC91_2,  P16N,    49,  1,   6722,   1026,2,19910324,1628, 42.6800,-151.9750, 5233,     77.5,   9.2613,  33.1974,2,  33.2020,2,    278.1,2,    10.95,2,     7.07,2,     0.22,2,     0.78,2,    3.947,2,    1.976,2, -999.000,9,-999.0000,9,  -999.00,9,   -999.0,9,  -999.00,9,-999.000,9,   -999.0,9,   -999.0,9,  -999.00,9,   1132,  -999.0,-999.0000,-999.000,-999.000,  9.2530,-999.000
   31DSCGC91_2,  P16N,    49,  1,   6721,   1004,2,19910324,1628, 42.6800,-151.9750, 5233,    126.4,   8.1339,  33.7490,2,  33.7390,2,    265.0,2,    20.21,2,    13.80,2,     0.02,2,     1.10,2,    4.036,2,    2.004,2, -999.000,9,-999.0000,9,  -999.00,9,   -999.0,9,  -999.00,9,-999.000,9,   -999.0,9,   -999.0,9,  -999.00,9,   1623,  -999.0,-999.0000,-999.000,-999.000,  8.1213,-999.000
   31DSCGC91_2,  P16N,    49,  1,   6720,   1025,2,19910324,1628, 42.6800,-151.9750, 5233,    151.4,   8.2870,  33.8759,2,  33.8480,2,    255.8,2,    21.58,2,    14.65,2,     0.02,2,     1.14,2,    3.860,2,    1.901,2, -999.000,9,-999.0000,9,  -999.00,9,   -999.0,9,  -999.00,9,-999.000,9,   -999.0,9,   -999.0,9,  -999.00,9,   1873,  -999.0,-999.0000,-999.000,-999.000,  8.2716,-999.000
   31DSCGC91_2,  P16N,    49,  1,   6719,   1031,2,19910324,1628, 42.6800,-151.9750, 5233,    175.2,   8.2630,  33.9685,2,  33.9530,2,    237.3,2,    24.53,2,    16.48,2,     0.01,2,     1.25,2,    3.579,2,    1.738,2, -999.000,9,-999.0000,9,  -999.00,9,   -999.0,9,  -999.00,9,-999.000,9,   -999.0,9,   -999.0,9,  -999.00,9,   2114,  -999.0,-999.0000,-999.000,-999.000,  8.2452,-999.000
   31DSCGC91_2,  P16N,    49,  1,   6718,   1036,2,19910324,1628, 42.6800,-151.9750, 5233,    201.7,   7.8568,  33.9781,2,  33.9780,2,    225.6,2,    27.87,2,    18.48,2,     0.01,2,     1.37,2,    3.315,2,    1.621,2, -999.000,9,-999.0000,9,  -999.00,9,   -999.0,9,  -999.00,9,-999.000,9,   -999.0,9,   -999.0,9,  -999.00,9,   2380,  -999.0,-999.0000,-999.000,-999.000,  7.8369,-999.000
   31DSCGC91_2,  P16N,    49,  1,   6717,     26,2,19910324,1628, 42.6800,-151.9750, 5233,    300.7,   6.4274,  33.9157,2,  33.9170,2,    200.0,2,    40.72,2,    23.72,2,     0.01,2,     1.73,2,    2.844,2,    1.359,2, -999.000,9,-999.0000,9,  -999.00,9,   -999.0,9,  -999.00,9,-999.000,9,   -999.0,9,   -999.0,9,  -999.00,9,   3374,  -999.0,-999.0000,-999.000,-999.000,  6.4008,-999.000
   31DSCGC91_2,  P16N,    49,  1,   6716,   1037,2,19910324,1628, 42.6800,-151.9750, 5233,    347.2,   5.7872,  33.9030,2,  33.9020,2,    173.7,2,    50.22,2,    27.14,2,     0.01,2,     1.98,2,    2.526,2,    1.168,2, -999.000,9,-999.0000,9,  -999.00,9,   -999.0,9,  -999.00,9,-999.000,9,   -999.0,9,   -999.0,9,  -999.00,9,   3841,  -999.0,-999.0000,-999.000,-999.000,  5.7581,-999.000
   31DSCGC91_2,  P16N,    49,  1,   6715,   1032,2,19910324,1628, 42.6800,-151.9750, 5233,    450.0,   5.0339,  33.9550,2,  33.9510,2,    112.8,2,    70.70,2,    34.06,2,     0.01,2,     2.44,2,    1.459,2,    0.647,2, -999.000,9,-999.0000,9,  -999.00,9,   -999.0,9,  -999.00,9,-999.000,9,   -999.0,9,   -999.0,9,  -999.00,9,   4873,  -999.0,-999.0000,-999.000,-999.000,  4.9985,-999.000
   31DSCGC91_2,  P16N,    49,  1,   6714,   1011,2,19910324,1628, 42.6800,-151.9750, 5233,    549.3,   4.5798,  34.0474,2,  34.0450,2,     75.6,2,    87.51,2,    37.74,2,     0.01,2,     2.69,2,    0.669,6,    0.312,6, -999.000,9,-999.0000,9,  -999.00,9,   -999.0,9,  -999.00,9,-999.000,9,   -999.0,9,   -999.0,9,  -999.00,9,   5869,  -999.0,-999.0000,-999.000,-999.000,  4.5380,-999.000
   31DSCGC91_2,  P16N,    49,  1,   6713,   1033,2,19910324,1628, 42.6800,-151.9750, 5233,    649.0,   4.1807,  34.1231,2,  34.1190,2,     49.5,2,   101.61,2,    40.63,2,     0.01,2,     2.86,2,    0.325,3,    0.120,3, -999.000,9,-999.0000,9,  -999.00,9,   -999.0,9,  -999.00,9,-999.000,9,   -999.0,9,   -999.0,9,  -999.00,9,   6868,  -999.0,-999.0000,-999.000,-999.000,  4.1328,-999.000
   31DSCGC91_2,  P16N,    49,  1,   6712,   1019,2,19910324,1628, 42.6800,-151.9750, 5233,    748.8,   3.8686,  34.1900,2,  34.1890,2,     36.9,2,   113.56,2,    41.43,2,     0.00,2,     2.96,2,    0.148,2,    0.066,4, -999.000,9,-999.0000,9,  -999.00,9,   -999.0,9,  -999.00,9,-999.000,9,   -999.0,9,   -999.0,9,  -999.00,9,   7868,  -999.0,-999.0000,-999.000,-999.000,  3.8145,-999.000
   31DSCGC91_2,  P16N,    49,  1,   6711,   1041,2,19910324,1628, 42.6800,-151.9750, 5233,    848.3,   3.6085,  34.2412,2,  34.2420,2,     29.4,2,   122.72,2,    42.41,2,     0.00,2,     3.01,2,    0.072,2,    0.036,2, -999.000,9,-999.0000,9,  -999.00,9,   -999.0,9,  -999.00,9,-999.000,9,   -999.0,9,   -999.0,9,  -999.00,9,   8865,  -999.0,-999.0000,-999.000,-999.000,  3.5482,-999.000
   31DSCGC91_2,  P16N,    49,  1,   6710,   1002,2,19910324,1628, 42.6800,-151.9750, 5233,    921.6,   3.4184,  34.2817,2,  34.2790,2,     22.9,2,   129.25,2,    43.01,2,     0.00,2,     3.06,2,    0.039,2,    0.015,3, -999.000,9,-999.0000,9,  -999.00,9,   -999.0,9,  -999.00,9,-999.000,9,   -999.0,9,   -999.0,9,  -999.00,9,   9599,  -999.0,-999.0000,-999.000,-999.000,  3.3538,-999.000
   31DSCGC91_2,  P16N,    49,  1,   6709,   1003,2,19910324,1628, 42.6800,-151.9750, 5233,   1073.5,   3.0853,  34.3471,2,  34.3470,2,     17.8,2,   141.60,2,    43.56,2,     0.00,2,     3.10,2,    0.026,2,    0.013,2, -999.000,9,-999.0000,9,  -999.00,9,   -999.0,9,  -999.00,9,-999.000,9,   -999.0,9,   -999.0,9,  -999.00,9,  11119,  -999.0,-999.0000,-999.000,-999.000,  3.0114,-999.000
   31DSCGC91_2,  P16N,    49,  1,   6708,      6,2,19910324,1628, 42.6800,-151.9750, 5233,   1176.3,   2.8823,  34.3903,2,  34.3920,2,     12.8,2,   150.09,2,    44.35,2,     0.00,2,     3.14,2,    0.019,3,    0.000,2, -999.000,9,-999.0000,9,  -999.00,9,   -999.0,9,  -999.00,9,-999.000,9,   -999.0,9,   -999.0,9,  -999.00,9,  12148,  -999.0,-999.0000,-999.000,-999.000,  2.8021,-999.000
   31DSCGC91_2,  P16N,    49,  1,   6707,   1013,2,19910324,1628, 42.6800,-151.9750, 5233,   1331.4,   2.6472,  34.4423,2,  34.4390,2,     12.2,2,   158.20,2,    44.34,2,     0.00,2,     3.13,2,    0.003,2,    0.000,2, -999.000,9,-999.0000,9,  -999.00,9,   -999.0,9,  -999.00,9,-999.000,9,   -999.0,9,   -999.0,9,  -999.00,9,  13698,  -999.0,-999.0000,-999.000,-999.000,  2.5571,-999.000
   31DSCGC91_2,  P16N,    49,  1,   6706,   1012,2,19910324,1628, 42.6800,-151.9750, 5233,   1499.8,   2.4511,  34.4882,2,  34.4880,2,     14.8,2,   165.52,2,    44.27,2,     0.00,2,     3.13,2, -999.000,9, -999.000,9, -999.000,9,-999.0000,9,  -999.00,9,   -999.0,9,  -999.00,9,-999.000,9,   -999.0,9,   -999.0,9,  -999.00,9,  15381,  -999.0,-999.0000,-999.000,-999.000,  2.3499,-999.000
   31DSCGC91_2,  P16N,    49,  1,   6705,   1007,2,19910324,1628, 42.6800,-151.9750, 5233,   1998.9,   1.9900,  34.5871,2,  34.5850,2,     47.5,2,   176.90,2,    42.72,2,     0.00,2,     2.97,2, -999.000,9, -999.000,9, -999.000,9,-999.0000,9,  -999.00,9,   -999.0,9,  -999.00,9,-999.000,9,   -999.0,9,   -999.0,9,  -999.00,9,  20364,  -999.0,-999.0000,-999.000,-999.000,  1.8539,-999.000
   31DSCGC91_2,  P16N,    49,  1,   6704,   1038,2,19910324,1628, 42.6800,-151.9750, 5233,   3002.4,   1.5739,  34.6581,2,  34.6580,2,    106.9,2,   174.32,2,    38.83,2,     0.00,2,     2.71,2, -999.000,9, -999.000,9, -999.000,9,-999.0000,9,  -999.00,9,   -999.0,9,  -999.00,9,-999.000,9,   -999.0,9,   -999.0,9,  -999.00,9,  30370,  -999.0,-999.0000,-999.000,-999.000,  1.3553,-999.000
   31DSCGC91_2,  P16N,    49,  1,   6703,   1029,2,19910324,1628, 42.6800,-151.9750, 5233,   4005.5,   1.4828,  34.6835,2,  34.6830,2,    138.0,2,   170.91,2,    36.73,2,     0.00,2,     2.54,2, -999.000,9, -999.000,9, -999.000,9,-999.0000,9,  -999.00,9,   -999.0,9,  -999.00,9,-999.000,9,   -999.0,9,   -999.0,9,  -999.00,9,  40368,  -999.0,-999.0000,-999.000,-999.000,  1.1638,-999.000
   31DSCGC91_2,  P16N,    49,  1,   6702,   1028,2,19910324,1628, 42.6800,-151.9750, 5233,   5007.7,   1.5719,  34.6867,2,  34.6860,2,    142.1,2,   174.90,2,    36.85,2,     0.00,2,     2.54,2, -999.000,9, -999.000,9, -999.000,9,-999.0000,9,  -999.00,9,   -999.0,9,  -999.00,9,-999.000,9,   -999.0,9,   -999.0,9,  -999.00,9,  50372,  -999.0,-999.0000,-999.000,-999.000,  1.1342,-999.000
   31DSCGC91_2,  P16N,    49,  1,   6701,   1017,2,19910324,1628, 42.6800,-151.9750, 5233,   5221.8,   1.5979,  34.6867,2,  34.6880,2,    142.1,2,   174.45,2,    36.53,2,     0.00,2,     2.53,2, -999.000,9, -999.000,9, -999.000,9,-999.0000,9,  -999.00,9,   -999.0,9,  -999.00,9,-999.000,9,   -999.0,9,   -999.0,9,  -999.00,9,  52515,  -999.0,-999.0000,-999.000,-999.000,  1.1329,-999.000
   31DSCGC91_2,  P16N,    50,  1,   6823,   1016,2,19910324,2358, 43.3337,-151.9932, 4932,      7.8,   9.2813,  33.0656,2,  33.0640,2,    289.9,2,     9.53,2,     5.94,2,     0.13,2,     0.71,2,    3.985,2,    1.990,2, -999.000,9,-999.0000,9,  -999.00,9,   -999.0,9,  -999.00,9,-999.000,9,   2013.4,2,   -999.0,9,     7.89,2,    430,  -999.0,-999.0000,-999.000,-999.000,  9.2804,-999.000
   31DSCGC91_2,  P16N,    50,  1,   6824,   1027,2,19910324,2358, 43.3337,-151.9932, 4932,      7.8,   9.2813,  33.0656,2,  33.0640,2,    289.2,2,     9.54,2,     5.94,2,     0.13,2,     0.72,2, -999.000,5, -999.000,5, -999.000,9,-999.0000,9,  -999.00,9,   -999.0,9,  -999.00,9,-999.000,9,   2012.7,2,   -999.0,9,     7.89,2,    430,  -999.0,-999.0000,-999.000,-999.000,  9.2804,-999.000
   31DSCGC91_2,  P16N,    50,  1,   6822,   1026,2,19910324,2358, 43.3337,-151.9932, 4932,     50.0,   9.2553,  33.0655,2,  33.0640,2,    289.1,2,     9.52,2,     5.99,2,     0.13,2,     0.72,2,    4.006,6,    1.957,6, -999.000,9,-999.0000,9,  -999.00,9,   -999.0,9,  -999.00,9,-999.000,9,   2013.1,2,   -999.0,9,     7.89,2,    855,  -999.0,-999.0000,-999.000,-999.000,  9.2499,-999.000
   31DSCGC91_2,  P16N,    50,  1,   6821,   1004,2,19910324,2358, 43.3337,-151.9932, 4932,    100.1,   8.7801,  33.2078,2,  33.1490,4,    279.7,2,    11.87,2,     8.53,2,     0.19,2,     0.87,2,    4.004,2,    2.020,2, -999.000,9,-999.0000,9,  -999.00,9,   -999.0,9,  -999.00,9,-999.000,9,   2028.3,2,   -999.0,9,     7.86,2,   1358,  -999.0,-999.0000,-999.000,-999.000,  8.7697,-999.000
   31DSCGC91_2,  P16N,    50,  1,   6820,   1025,2,19910324,2358, 43.3337,-151.9932, 4932,    249.7,   7.0816,  33.9313,2,  33.9440,2,    219.7,2,    32.68,2,    20.66,2,     0.01,2,     1.52,2,    3.274,2,    1.531,2, -999.000,9,-999.0000,9,  -999.00,9,   -999.0,9,  -999.00,9,-999.000,9,   2132.6,2,   -999.0,9,     7.71,2,   2862,  -999.0,-999.0000,-999.000,-999.000,  7.0584,-999.000
   31DSCGC91_2,  P16N,    50,  1,   6819,   1031,2,19910324,2358, 43.3337,-151.9932, 4932,    399.6,   5.3350,  33.9082,2,  33.9060,2,    141.9,2,    60.10,2,    31.46,2,     0.00,2,     2.22,2,    2.006,2,    0.922,2, -999.000,9,-999.0000,9,  -999.00,9,   -999.0,9,  -999.00,9,-999.000,9,   2216.7,2,   -999.0,9,     7.51,2,   4367,  -999.0,-999.0000,-999.000,-999.000,  5.3028,-999.000
   31DSCGC91_2,  P16N,    50,  1,   6818,   1036,2,19910324,2358, 43.3337,-151.9932, 4932,    499.7,   4.8409,  33.9844,2,  33.9820,2,     98.5,2,    77.56,2,    35.88,2,     0.00,2,     2.55,2,    1.106,2,    0.497,2, -999.000,9,-999.0000,9,  -999.00,9,   -999.0,9,  -999.00,9,-999.000,9,   2259.2,2,   -999.0,9,     7.43,2,   5370,  -999.0,-999.0000,-999.000,-999.000,  4.8021,-999.000
   31DSCGC91_2,  P16N,    50,  1,   6817,     26,2,19910324,2358, 43.3337,-151.9932, 4932,    597.4,   4.3187,  34.0646,2,  34.0620,2,     64.3,2,    94.94,2,    39.75,2,     0.00,2,     2.80,2,    0.570,2,    0.257,2, -999.000,9,-999.0000,9,  -999.00,9,   -999.0,9,  -999.00,9,-999.000,9,   2295.9,2,   -999.0,9,     7.36,2,   6350,  -999.0,-999.0000,-999.000,-999.000,  4.2743,-999.000
   31DSCGC91_2,  P16N,    50,  1,   6816,   1037,2,19910324,2358, 43.3337,-151.9932, 4932,    697.6,   4.0246,  34.1548,2,  34.1520,2,     46.5,2,   107.39,2,    41.27,2,     0.00,2,     2.94,2,    0.212,6,    0.099,6, -999.000,9,-999.0000,9,  -999.00,9,   -999.0,9,  -999.00,9,-999.000,9,   2321.2,2,   -999.0,9,     7.33,2,   7355,  -999.0,-999.0000,-999.000,-999.000,  3.9737,-999.000
   31DSCGC91_2,  P16N,    50,  1,   6815,   1032,2,19910324,2358, 43.3337,-151.9932, 4932,    797.0,   3.6415,  34.2319,2,  34.2290,2,     33.0,2,   120.94,2,    42.86,2,     0.00,2,     3.02,2,    0.071,2,    0.033,2, -999.000,9,   1.8740,2,    15.67,2,   -999.0,9,  -999.00,9,-999.000,9,   2344.1,2,   -999.0,9,     7.31,2,   8351,  -999.0,-999.0000,-999.000,-999.000,  3.5850,-999.000
   31DSCGC91_2,  P16N,    50,  1,   6814,   1011,2,19910324,2358, 43.3337,-151.9932, 4932,    998.3,   3.1794,  34.3277,2,  34.3250,2,     16.0,2,   138.30,2,    43.94,2,     0.00,2,     3.08,2, -999.000,9, -999.000,9, -999.000,9,   1.8890,2,    15.00,2,   -999.0,9,  -999.00,9,-999.000,9,   2371.0,2,   -999.0,9,     7.29,2,  10366,  -999.0,-999.0000,-999.000,-999.000,  3.1105,-999.000
   31DSCGC91_2,  P16N,    50,  1,   6813,   1033,2,19910324,2358, 43.3337,-151.9932, 4932,   1247.8,   2.7582,  34.4171,2,  34.4160,2,     11.5,2,   154.39,2,    44.59,2,     0.00,2,     3.13,2,    0.008,3,    0.000,2, -999.000,9,   1.8890,2,    16.60,2,   -999.0,9,  -999.00,9,-999.000,9,   2390.0,2,   -999.0,9,     7.29,2,  12863,  -999.0,-999.0000,-999.000,-999.000,  2.6736,-999.000
   31DSCGC91_2,  P16N,    50,  1,   6812,   1019,2,19910324,2358, 43.3337,-151.9932, 4932,   1498.6,   2.4191,  34.4936,2,  34.4910,2,     16.0,2,   166.04,2,    44.37,2,     0.00,2,     3.11,2, -999.000,9, -999.000,9, -999.000,9,   1.8990,2,    18.57,2,   -999.0,9,  -999.00,9,-999.000,9,   2397.1,2,   -999.0,9,     7.31,2,  15369,  -999.0,-999.0000,-999.000,-999.000,  2.3183,-999.000
   31DSCGC91_2,  P16N,    50,  1,   6809,   1003,4,19910324,2358, 43.3337,-151.9932, 4932,   1749.6,   2.1620,  34.5481,2,  34.5450,2,     31.1,2,   172.44,2,    43.85,2,     0.00,2,     3.05,2,    0.009,2,    0.000,2, -999.000,9,   1.9220,2,    20.08,2,   -999.0,9,  -999.00,9,-999.000,9,   -999.0,9,   -999.0,9,     7.34,2,  17876,  -999.0,-999.0000,-999.000,-999.000,  2.0442,-999.000
   31DSCGC91_2,  P16N,    50,  1,   6810,   1002,4,19910324,2358, 43.3337,-151.9932, 4932,   1749.6,   2.1620,  34.5481,2,  34.5450,2,     29.9,2,   172.27,2,    43.57,2,     0.00,2,     3.05,2, -999.000,9, -999.000,9, -999.000,9,   1.9100,2,    19.80,2,   -999.0,9,  -999.00,9,-999.000,9,   -999.0,9,   -999.0,9,     7.34,2,  17876,  -999.0,-999.0000,-999.000,-999.000,  2.0442,-999.000
   31DSCGC91_2,  P16N,    50,  1,   6811,   1041,4,19910324,2358, 43.3337,-151.9932, 4932,   1749.6,   2.1620,  34.5481,2,  34.5450,2,     29.8,2,   172.73,2,    44.03,2,     0.00,2,     3.05,2,    0.004,2,    0.000,2, -999.000,9,   1.9020,2,    19.93,2,   -999.0,9,  -999.00,9,-999.000,9,   -999.0,9,   -999.0,9,     7.34,2,  17876,  -999.0,-999.0000,-999.000,-999.000,  2.0442,-999.000
   31DSCGC91_2,  P16N,    50,  1,   6807,   1013,4,19910324,2358, 43.3337,-151.9932, 4932,   2499.6,   1.7139,  34.6343,2,  34.6330,2,     81.7,2,   177.84,2,    40.47,2,     0.00,2,     2.83,2,    0.005,2,    0.000,2, -999.000,9,   1.9330,2,    19.78,2,   -999.0,9,  -999.00,9,-999.000,9,   -999.0,9,   -999.0,9,     7.45,2,  25358,  -999.0,-999.0000,-999.000,-999.000,  1.5390,-999.000
   31DSCGC91_2,  P16N,    50,  1,   6808,      6,4,19910324,2358, 43.3337,-151.9932, 4932,   2499.6,   1.7139,  34.6343,2,  34.6320,2,     83.0,2,   177.88,2,    40.43,2,     0.00,2,     2.83,2, -999.000,9, -999.000,9, -999.000,9,   1.9160,2,    19.80,2,   -999.0,9,  -999.00,9,-999.000,9,   -999.0,9,   -999.0,9,     7.45,2,  25358,  -999.0,-999.0000,-999.000,-999.000,  1.5390,-999.000
   31DSCGC91_2,  P16N,    50,  1,   6806,   1012,2,19910324,2358, 43.3337,-151.9932, 4932,   2750.7,   1.6229,  34.6486,2,  34.6470,2,     96.1,2,   175.90,2,    39.76,2,     0.00,2,     2.75,2, -999.000,9, -999.000,9, -999.000,9,   1.9070,2,    18.56,2,   -999.0,9,  -999.00,9,-999.000,9,   2362.5,2,   -999.0,9,     7.48,2,  27861,  -999.0,-999.0000,-999.000,-999.000,  1.4269,-999.000
   31DSCGC91_2,  P16N,    50,  1,   6805,   1007,2,19910324,2358, 43.3337,-151.9932, 4932,   3753.4,   1.4768,  34.6800,2,  34.6840,3,    143.4,3,   170.80,3,    36.48,2,     0.00,2,     2.53,3,   -0.002,2,    0.000,2, -999.000,9,   1.9150,2,    16.21,2,   -999.0,9,  -999.00,9,-999.000,9,   2335.1,2,   -999.0,9,     7.57,2,  37854,  -999.0,-999.0000,-999.000,-999.000,  1.1850,-999.000
   31DSCGC91_2,  P16N,    50,  1,   6804,   1038,2,19910324,2358, 43.3337,-151.9932, 4932,   4255.1,   1.4918,  34.6846,2,  34.6860,2,    142.8,2,   173.08,2,    36.70,2,     0.00,2,     2.53,2, -999.000,9, -999.000,9, -999.000,9,   1.9150,2,    16.19,2,   -999.0,9,  -999.00,9,-999.000,9,   2336.3,2,   -999.0,9,     7.57,2,  42857,  -999.0,-999.0000,-999.000,-999.000,  1.1449,-999.000
   31DSCGC91_2,  P16N,    50,  1,   6803,   1029,2,19910324,2358, 43.3337,-151.9932, 4932,   4504.1,   1.5128,  34.6863,2,  34.6880,2,    143.9,2,   173.04,2,    36.31,2,     0.00,2,     2.53,2,   -0.001,2,    0.000,2, -999.000,9,   1.9090,2,    16.46,2,   -999.0,9,  -999.00,9,-999.000,9,   2335.5,2,   -999.0,9,     7.57,2,  45342,  -999.0,-999.0000,-999.000,-999.000,  1.1369,-999.000
   31DSCGC91_2,  P16N,    50,  1,   6802,   1028,2,19910324,2358, 43.3337,-151.9932, 4932,   4756.8,   1.5389,  34.6870,2,  34.6850,2,    143.7,2,   173.43,2,    36.60,2,     0.00,2,     2.52,2, -999.000,9, -999.000,9, -999.000,9,   1.9020,2,    16.20,2,   -999.0,9,  -999.00,9,-999.000,9,   2334.4,2,   -999.0,9,     7.57,2,  47866,  -999.0,-999.0000,-999.000,-999.000,  1.1325,-999.000
   31DSCGC91_2,  P16N,    50,  1,   6801,   1017,4,19910324,2358, 43.3337,-151.9932, 4932,   5008.7,   1.5689,  34.6871,2,  34.6870,2,    143.8,2,   173.39,2,    36.45,2,     0.00,2,     2.52,2,   -0.002,2,    0.000,2, -999.000,9,   1.9140,2,    16.09,2,   -999.0,9,  -999.00,9,-999.000,9,   -999.0,9,   -999.0,9,     7.57,2,  50382,  -999.0,-999.0000,-999.000,-999.000,  1.1312,-999.000