BOTTLE,20021108WHPSIOdm
EXPOCODE,SECT_ID,STNNBR,CASTNO,SAMPNO,BTLNBR,BTLNBR_FLAG_W,DATE,TIME,LATITUDE,LONGITUDE,DEPTH,CTDPRS,CTDTMP,CTDSAL,CTDSAL_FLAG_W,SALNTY,SALNTY_FLAG_W,OXYGEN,OXYGEN_FLAG_W,SILCAT,SILCAT_FLAG_W,NITRAT,NITRAT_FLAG_W,NITRIT,NITRIT_FLAG_W,PHSPHT,PHSPHT_FLAG_W,CFC-11,CFC-11_FLAG_W,CFC-12,CFC-12_FLAG_W,TRITUM,TRITUM_FLAG_W,HELIUM,HELIUM_FLAG_W,DELHE3,DELHE3_FLAG_W,DELC14,DELC14_FLAG_W,DELC13,DELC13_FLAG_W,NEON,NEON_FLAG_W,TCARBN,TCARBN_FLAG_W,ALKALI,ALKALI_FLAG_W,PH,PH_FLAG_W,CTDRAW,C14ERR,HELIER,DELHER,NEONER,THETA,TRITER
,,,,,,,,,,,,DBAR,ITS-90,PSS-78,,PSS-78,,UMOL/KG,,UMOL/KG,,UMOL/KG,,UMOL/KG,,UMOL/KG,,PMOL/KG,,PMOL/KG,,TU,,NMOL/KG,,PERCNT,,/MILLE,,/MILLE,,NMOL/KG,,UMOL/KG,,UMOL/KG,,,,DBAR,/MILLE,NMOL/KG,PERCNT,NMOL/KG,DEG C,TU
   31DSCGC91_2,  P16N,    60,  4,   8121,   1032,2,19910331,1143, 55.4513,-152.5590, 5159,      7.8,   3.1394,  32.8652,2,  32.8610,2,    320.4,2,    35.27,2,    21.12,2,     0.15,2,     1.70,2, -999.000,5, -999.000,5,    2.100,2,   1.8230,2,    -1.20,2,     13.3,2,     0.97,2,   7.910,2,   -999.0,9,   -999.0,9,     7.71,2,    430,     6.1,  0.0090,   0.150,   0.042,  3.1389,   0.006
   31DSCGC91_2,  P16N,    60,  4,   8119,   1007,2,19910331,1143, 55.4513,-152.5590, 5159,     23.0,   3.1394,  32.8643,2,  32.8610,2,    320.5,2,    35.24,2,    20.90,2,     0.16,2,     1.70,2,    5.356,2,    2.608,2, -999.000,9,-999.0000,9,  -999.00,9,   -999.0,9,  -999.00,9,-999.000,9,   -999.0,9,   -999.0,9,     7.70,2,    584,  -999.0,-999.0000,-999.000,-999.000,  3.1380,-999.000
   31DSCGC91_2,  P16N,    60,  4,   8118,   1041,2,19910331,1143, 55.4513,-152.5590, 5159,     33.5,   3.1213,  32.8638,2,  32.8610,2,    319.6,2,    35.42,2,    21.09,2,     0.15,2,     1.68,2, -999.000,9, -999.000,9, -999.000,9,   1.8260,2,    -0.99,2,      6.8,2,     0.67,2,   7.972,2,   -999.0,9,   -999.0,9,     7.70,2,    689,     5.9,  0.0090,   0.150,   0.042,  3.1194,-999.000
   31DSCGC91_2,  P16N,    60,  4,   8117,   1033,2,19910331,1143, 55.4513,-152.5590, 5159,     41.9,   3.0853,  32.8645,2,  32.8600,2,    319.1,2,    35.59,2,    20.94,2,     0.16,2,     1.71,2,    5.352,2,    2.645,2, -999.000,9,-999.0000,9,  -999.00,9,   -999.0,9,  -999.00,9,-999.000,9,   -999.0,9,   -999.0,9,     7.70,2,    774,  -999.0,-999.0000,-999.000,-999.000,  3.0829,-999.000
   31DSCGC91_2,  P16N,    60,  4,   8115,   1017,2,19910331,1143, 55.4513,-152.5590, 5159,     61.5,   3.0533,  32.8636,2,  32.8600,2,    319.9,2,    35.36,2,    20.99,2,     0.16,2,     1.69,2,    5.360,2,    2.629,2,    2.142,2,   1.8260,2,    -0.90,2,      7.2,2,     0.73,2,   7.951,2,   -999.0,9,   -999.0,9,     7.70,2,    971,     5.9,  0.0090,   0.150,   0.042,  3.0498,   0.067
   31DSCGC91_2,  P16N,    60,  4,   8113,   1013,2,19910331,1143, 55.4513,-152.5590, 5159,     82.6,   3.0353,  32.8634,2,  32.8590,2,    320.0,2,    35.13,2,    20.91,2,     0.15,2,     1.70,2,    5.363,2,    2.626,2,    2.081,2,-999.0000,9,  -999.00,9,     13.7,2,     0.62,2,-999.000,9,   -999.0,9,   -999.0,9,     7.70,2,   1183,     7.4,-999.0000,-999.000,-999.000,  3.0305,   0.006
   31DSCGC91_2,  P16N,    60,  4,   8111,   1003,2,19910331,1143, 55.4513,-152.5590, 5159,    102.5,   3.0353,  32.8685,2,  32.8640,2,    317.5,2,    35.50,2,    21.28,2,     0.15,2,     1.71,2,    5.290,2,    2.592,2, -999.000,9,-999.0000,9,  -999.00,9,   -999.0,9,     0.57,2,-999.000,9,   -999.0,9,   -999.0,9,     7.70,2,   1383,  -999.0,-999.0000,-999.000,-999.000,  3.0294,-999.000
   31DSCGC91_2,  P16N,    60,  4,   8109,     26,2,19910331,1143, 55.4513,-152.5590, 5159,    120.7,   4.0947,  33.6888,2,  33.6400,2,    105.6,2,    70.22,2,    38.63,2,     0.01,2,     2.70,2,    2.246,2,    1.029,2, -999.000,9,-999.0000,9,  -999.00,9,   -999.0,9,  -999.00,9,-999.000,9,   2247.4,2,   -999.0,9,     7.36,2,   1566,  -999.0,-999.0000,-999.000,-999.000,  4.0864,-999.000
   31DSCGC91_2,  P16N,    60,  4,   8108,   1019,2,19910331,1143, 55.4513,-152.5590, 5159,    140.8,   4.1267,  33.8294,2,  33.8210,2,     58.9,2,    80.79,2,    42.06,2,     0.00,2,     2.94,2,    1.922,4,    0.664,4,    1.498,2,   1.8440,2,    15.56,2,    -82.7,2,    -0.81,2,   7.857,2,   2287.0,2,   -999.0,9,     7.28,2,   1768,     4.7,  0.0100,   0.150,   0.042,  4.1170,   0.005
   31DSCGC91_2,  P16N,    60,  4,   8107,   1004,2,19910331,1143, 55.4513,-152.5590, 5159,    161.1,   4.1067,  33.8960,2,  33.8840,2,     43.8,2,    86.06,2,    43.92,2,     0.00,2,     3.01,2,    1.145,6,    0.524,6, -999.000,9,-999.0000,9,  -999.00,9,   -999.0,9,  -999.00,9,-999.000,9,   2298.3,2,   -999.0,9,     7.26,2,   1972,  -999.0,-999.0000,-999.000,-999.000,  4.0955,-999.000
   31DSCGC91_2,  P16N,    60,  4,   8106,   1002,2,19910331,1143, 55.4513,-152.5590, 5159,    181.9,   4.0686,  33.9267,2,  33.9230,2,     33.3,2,    90.10,2,    44.54,2,     0.00,2,     3.06,2,    0.960,2,    0.436,2, -999.000,9,-999.0000,9,  -999.00,9,   -999.0,9,  -999.00,9,-999.000,9,   2309.4,2,   -999.0,9,     7.25,2,   2181,  -999.0,-999.0000,-999.000,-999.000,  4.0561,-999.000
   31DSCGC91_2,  P16N,    60,  4,   8105,   1026,2,19910331,1143, 55.4513,-152.5590, 5159,    201.2,   4.0436,  33.9529,2,  33.9500,2,     27.6,2,    93.11,2,    44.97,2,     0.00,2,     3.08,2,    0.804,2,    0.369,2, -999.000,9,   1.8360,2,    17.32,2,   -102.4,2,    -0.82,2,   7.873,2,   2316.2,2,   -999.0,9,     7.24,2,   2375,    15.0,  0.0100,   0.150,   0.042,  4.0298,-999.000
   31DSCGC91_2,  P16N,    60,  4,   8104,      6,2,19910331,1143, 55.4513,-152.5590, 5159,    247.8,   3.9886,  34.0030,2,  34.0000,2,     20.1,2,    99.01,2,    45.19,2,     0.00,2,     3.12,2,    0.587,2,    0.271,2,    1.055,2,   1.8380,2,    17.53,2,   -117.2,2,    -0.76,2,   7.850,2,   2324.7,2,   -999.0,9,     7.23,2,   2842,     5.3,  0.0100,   0.150,   0.042,  3.9715,   0.004
   31DSCGC91_2,  P16N,    60,  4,   8103,      1,2,19910331,1143, 55.4513,-152.5590, 5159,    301.3,   3.9106,  34.0534,2,  34.0490,2,     20.6,2,   104.50,2,    44.96,2,     0.00,2,     3.12,2,    0.419,2,    0.189,2, -999.000,9,-999.0000,9,  -999.00,9,   -999.0,9,  -999.00,9,-999.000,9,   -999.0,9,   -999.0,9,     7.24,2,   3380,  -999.0,-999.0000,-999.000,-999.000,  3.8898,-999.000
   31DSCGC91_2,  P16N,    60,  4,   8101,   1016,4,19910331,1143, 55.4513,-152.5590, 5159,    350.0,   3.8426,  34.0912,2,  34.0890,2,     19.9,2,   109.09,2,    44.56,2,     0.00,2,     3.11,2,    0.319,6,    0.151,6, -999.000,9,   1.8570,2,    17.02,2,   -149.8,2,    -0.78,2,   7.893,2,   -999.0,9,   -999.0,9,     7.26,2,   3869,     4.9,  0.0100,   0.150,   0.042,  3.8185,-999.000
   31DSCGC91_2,  P16N,    60,  4,   8102,   1012,2,19910331,1143, 55.4513,-152.5590, 5159,    350.0,   3.8426,  34.0912,2,  34.0880,2,     19.8,2,   108.96,2,    44.66,2,     0.00,2,     3.10,2,    0.324,2,    0.149,2,    0.717,2,   1.8490,2,    16.82,2,   -150.6,6,    -0.68,2,   7.859,2,   2332.8,2,   -999.0,9,     7.26,2,   3869,     4.0,  0.0100,   0.150,   0.042,  3.8185,   0.004
   31DSCGC91_2,  P16N,    61,  1,   8224,   1031,2,19910331,1715, 55.8658,-152.9283, 4051,      7.9,   3.6695,  32.6686,2,  32.6640,2,    321.8,2,    30.57,2,    18.39,2,     0.14,2,     1.56,2,    5.141,2,    2.571,2, -999.000,9,-999.0000,9,  -999.00,9,   -999.0,9,  -999.00,9,-999.000,9,   -999.0,9,   -999.0,9,  -999.00,9,    432,  -999.0,-999.0000,-999.000,-999.000,  3.6690,-999.000
   31DSCGC91_2,  P16N,    61,  1,   8223,   1023,2,19910331,1715, 55.8658,-152.9283, 4051,     32.6,   3.6535,  32.6801,2,  32.6700,2,    314.0,2,    30.77,2,    18.71,2,     0.14,2,     1.57,2,    5.172,2,    2.579,2, -999.000,9,-999.0000,9,  -999.00,9,   -999.0,9,  -999.00,9,-999.000,9,   -999.0,9,   -999.0,9,  -999.00,9,    680,  -999.0,-999.0000,-999.000,-999.000,  3.6515,-999.000
   31DSCGC91_2,  P16N,    61,  1,   8222,   1028,2,19910331,1715, 55.8658,-152.9283, 4051,     62.4,   3.3044,  32.8516,2,  32.8450,2,    320.3,2,    34.74,2,    20.08,2,     0.17,2,     1.67,2,    5.112,2,    2.619,2, -999.000,9,-999.0000,9,  -999.00,9,   -999.0,9,  -999.00,9,-999.000,9,   -999.0,9,   -999.0,9,  -999.00,9,    980,  -999.0,-999.0000,-999.000,-999.000,  3.3007,-999.000
   31DSCGC91_2,  P16N,    61,  1,   8221,   1032,2,19910331,1715, 55.8658,-152.9283, 4051,     98.5,   3.2594,  32.8660,2,  32.8630,2,    314.9,2,    35.13,2,    20.40,2,     0.17,2,     1.68,2,    5.173,2,    2.613,2, -999.000,9,-999.0000,9,  -999.00,9,   -999.0,9,  -999.00,9,-999.000,9,   -999.0,9,   -999.0,9,  -999.00,9,   1343,  -999.0,-999.0000,-999.000,-999.000,  3.2535,-999.000
   31DSCGC91_2,  P16N,    61,  1,   8220,   1027,4,19910331,1715, 55.8658,-152.9283, 4051,    125.0,   3.4284,  33.0262,2,  33.0110,2,    274.6,2,    41.69,2,    24.01,2,     0.12,2,     1.89,2,    4.778,2,    2.321,2, -999.000,9,-999.0000,9,  -999.00,9,   -999.0,9,  -999.00,9,-999.000,9,   -999.0,9,   -999.0,9,  -999.00,9,   1608,  -999.0,-999.0000,-999.000,-999.000,  3.4207,-999.000
   31DSCGC91_2,  P16N,    61,  1,   8219,   1007,2,19910331,1715, 55.8658,-152.9283, 4051,    149.1,   4.1427,  33.6777,2,  33.6580,2,    103.1,2,    69.83,2,    38.03,2,     0.01,2,     2.69,2,    2.241,2,    1.019,2, -999.000,9,-999.0000,9,  -999.00,9,   -999.0,9,  -999.00,9,-999.000,9,   -999.0,9,   -999.0,9,  -999.00,9,   1851,  -999.0,-999.0000,-999.000,-999.000,  4.1324,-999.000
   31DSCGC91_2,  P16N,    61,  1,   8218,   1041,2,19910331,1715, 55.8658,-152.9283, 4051,    175.4,   4.1307,  33.8484,2,  33.8470,2,     56.3,2,    82.08,2,    41.77,2,     0.00,2,     2.94,2,    1.377,2,    0.635,2, -999.000,9,-999.0000,9,  -999.00,9,   -999.0,9,  -999.00,9,-999.000,9,   -999.0,9,   -999.0,9,  -999.00,9,   2116,  -999.0,-999.0000,-999.000,-999.000,  4.1185,-999.000
   31DSCGC91_2,  P16N,    61,  1,   8217,   1033,2,19910331,1715, 55.8658,-152.9283, 4051,    200.5,   4.0706,  33.8970,2,  33.8880,2,     42.6,2,    86.31,2,    42.68,2,     0.00,2,     3.01,2,    1.169,2,    0.530,2, -999.000,9,-999.0000,9,  -999.00,9,   -999.0,9,  -999.00,9,-999.000,9,   -999.0,9,   -999.0,9,  -999.00,9,   2368,  -999.0,-999.0000,-999.000,-999.000,  4.0568,-999.000
   31DSCGC91_2,  P16N,    61,  1,   8216,   1025,2,19910331,1715, 55.8658,-152.9283, 4051,    300.1,   3.9686,  34.0092,2,  34.0080,2,     24.1,2,    99.24,2,    44.44,2,     0.00,2,     3.09,2,    0.590,2,    0.270,2, -999.000,9,-999.0000,9,  -999.00,9,   -999.0,9,  -999.00,9,-999.000,9,   -999.0,9,   -999.0,9,  -999.00,9,   3367,  -999.0,-999.0000,-999.000,-999.000,  3.9478,-999.000
   31DSCGC91_2,  P16N,    61,  1,   8215,   1017,2,19910331,1715, 55.8658,-152.9283, 4051,    399.6,   3.9006,  34.1116,2,  34.1080,2,     23.9,2,   107.97,2,    43.55,2,     0.00,2,     3.05,2,    0.274,2,    0.140,2, -999.000,9,-999.0000,9,  -999.00,9,   -999.0,9,  -999.00,9,-999.000,9,   -999.0,9,   -999.0,9,  -999.00,9,   4367,  -999.0,-999.0000,-999.000,-999.000,  3.8728,-999.000
   31DSCGC91_2,  P16N,    61,  1,   8214,   1036,2,19910331,1715, 55.8658,-152.9283, 4051,    499.0,   3.7095,  34.1550,2,  34.1550,2,     19.0,2,   115.93,2,    44.01,2,     0.00,2,     3.10,2,    0.909,4,    0.092,2, -999.000,9,-999.0000,9,  -999.00,9,   -999.0,9,  -999.00,9,-999.000,9,   -999.0,9,   -999.0,9,  -999.00,9,   5364,  -999.0,-999.0000,-999.000,-999.000,  3.6751,-999.000
   31DSCGC91_2,  P16N,    61,  1,   8213,   1013,2,19910331,1715, 55.8658,-152.9283, 4051,    601.3,   3.5475,  34.2242,2,  34.2220,2,     16.1,2,   124.12,2,    44.02,2,     0.00,2,     3.09,2,    0.091,2,    0.042,4, -999.000,9,-999.0000,9,  -999.00,9,   -999.0,9,  -999.00,9,-999.000,9,   -999.0,9,   -999.0,9,  -999.00,9,   6390,  -999.0,-999.0000,-999.000,-999.000,  3.5062,-999.000
   31DSCGC91_2,  P16N,    61,  1,   8212,   1037,2,19910331,1715, 55.8658,-152.9283, 4051,    696.8,   3.3994,  34.2708,2,  34.2720,2,     14.6,2,   130.28,2,    43.97,2,     0.00,2,     3.11,2,    0.044,2,    0.022,2, -999.000,9,-999.0000,9,  -999.00,9,   -999.0,9,  -999.00,9,-999.000,9,   -999.0,9,   -999.0,9,  -999.00,9,   7347,  -999.0,-999.0000,-999.000,-999.000,  3.3519,-999.000
   31DSCGC91_2,  P16N,    61,  1,   8211,   1003,2,19910331,1715, 55.8658,-152.9283, 4051,    795.0,   3.2164,  34.3122,2,  34.3110,2,     13.8,2,   137.30,2,    43.99,2,     0.00,2,     3.13,2,    0.029,2,    0.016,4, -999.000,9,-999.0000,9,  -999.00,9,   -999.0,9,  -999.00,9,-999.000,9,   -999.0,9,   -999.0,9,  -999.00,9,   8331,  -999.0,-999.0000,-999.000,-999.000,  3.1626,-999.000
   31DSCGC91_2,  P16N,    61,  1,   8210,   1011,2,19910331,1715, 55.8658,-152.9283, 4051,    897.9,   3.0463,  34.3474,2,  34.3480,2,     14.2,2,   143.30,2,    43.87,2,     0.00,2,     3.13,2,    0.021,2,    0.010,2, -999.000,9,-999.0000,9,  -999.00,9,   -999.0,9,  -999.00,9,-999.000,9,   -999.0,9,   -999.0,9,  -999.00,9,   9362,  -999.0,-999.0000,-999.000,-999.000,  2.9860,-999.000
   31DSCGC91_2,  P16N,    61,  1,   8209,     26,2,19910331,1715, 55.8658,-152.9283, 4051,    997.3,   2.8843,  34.3775,2,  34.3780,2,     16.1,2,   148.49,2,    44.14,2,     0.00,2,     3.13,2,    0.024,3,    0.018,3, -999.000,9,   1.9000,2,    15.87,2,   -999.0,9,  -999.00,9,-999.000,9,   -999.0,9,   -999.0,9,  -999.00,9,  10356,  -999.0,-999.0000,-999.000,-999.000,  2.8177,-999.000
   31DSCGC91_2,  P16N,    61,  1,   8208,   1019,2,19910331,1715, 55.8658,-152.9283, 4051,   1197.7,   2.6152,  34.4364,2,  34.4370,2,     19.0,2,   157.27,2,    44.16,2,     0.00,2,     3.12,2, -999.000,9, -999.000,9, -999.000,9,   1.8930,2,    16.66,2,   -999.0,9,  -999.00,9,-999.000,9,   -999.0,9,   -999.0,9,  -999.00,9,  12361,  -999.0,-999.0000,-999.000,-999.000,  2.5357,-999.000
   31DSCGC91_2,  P16N,    61,  1,   8207,   1004,2,19910331,1715, 55.8658,-152.9283, 4051,   1448.9,   2.3021,  34.5028,2,  34.5020,2,     29.5,2,   166.94,2,    43.46,2,     0.00,2,     3.06,2, -999.000,9, -999.000,9, -999.000,9,   1.9020,2,    17.71,2,   -999.0,9,  -999.00,9,-999.000,9,   -999.0,9,   -999.0,9,  -999.00,9,  14873,  -999.0,-999.0000,-999.000,-999.000,  2.2065,-999.000
   31DSCGC91_2,  P16N,    61,  1,   8205,   1026,4,19910331,1715, 55.8658,-152.9283, 4051,   1697.7,   2.0940,  34.5485,2,  34.5480,2,     42.0,2,   171.56,2,    43.23,2,     0.00,2,     3.01,2, -999.000,9, -999.000,9, -999.000,9,   1.9130,2,    18.53,2,   -999.0,9,  -999.00,9,-999.000,9,   -999.0,9,   -999.0,9,  -999.00,9,  17358,  -999.0,-999.0000,-999.000,-999.000,  1.9812,-999.000
   31DSCGC91_2,  P16N,    61,  1,   8206,   1002,2,19910331,1715, 55.8658,-152.9283, 4051,   1697.7,   2.0940,  34.5485,2,  34.5480,2,     42.4,2,   171.58,2,    43.09,2,     0.00,2,     3.00,2,    0.008,3,    0.000,2, -999.000,9,   1.9050,2,    18.43,2,   -999.0,9,  -999.00,9,-999.000,9,   -999.0,9,   -999.0,9,  -999.00,9,  17358,  -999.0,-999.0000,-999.000,-999.000,  1.9812,-999.000
   31DSCGC91_2,  P16N,    61,  1,   8204,      6,2,19910331,1715, 55.8658,-152.9283, 4051,   2499.6,   1.6969,  34.6315,2,  34.6300,2,     86.5,2,   175.57,2,    40.27,2,     0.00,2,     2.82,2, -999.000,9, -999.000,9, -999.000,9,   1.9140,2,    17.97,2,   -999.0,9,  -999.00,9,-999.000,9,   -999.0,9,   -999.0,9,  -999.00,9,  25358,  -999.0,-999.0000,-999.000,-999.000,  1.5224,-999.000
   31DSCGC91_2,  P16N,    61,  1,   8203,      1,2,19910331,1715, 55.8658,-152.9283, 4051,   3000.1,   1.5789,  34.6550,2,  34.6540,2,    111.9,2,   172.79,2,    39.06,2,     0.00,2,     2.70,2,   -0.004,2,    0.000,2, -999.000,9,   1.9140,2,    17.39,2,   -999.0,9,  -999.00,9,-999.000,9,   -999.0,9,   -999.0,9,  -999.00,9,  30347,  -999.0,-999.0000,-999.000,-999.000,  1.3604,-999.000
   31DSCGC91_2,  P16N,    61,  1,   8201,   1016,4,19910331,1715, 55.8658,-152.9283, 4051,   3502.2,   1.4958,  34.6724,2,  34.6720,2,    129.7,2,   168.53,2,    37.60,2,     0.00,2,     2.60,2, -999.000,9, -999.000,9, -999.000,9,   1.9120,2,    17.27,2,   -999.0,9,  -999.00,9,-999.000,9,   -999.0,9,   -999.0,9,  -999.00,9,  35351,  -999.0,-999.0000,-999.000,-999.000,  1.2296,-999.000
   31DSCGC91_2,  P16N,    61,  1,   8202,   1012,2,19910331,1715, 55.8658,-152.9283, 4051,   3502.2,   1.4958,  34.6724,2,  34.6720,2,    130.1,2,   168.75,2,    37.59,2,     0.00,2,     2.59,2, -999.000,9, -999.000,9, -999.000,9,   1.9110,2,    17.17,2,   -999.0,9,  -999.00,9,-999.000,9,   -999.0,9,   -999.0,9,  -999.00,9,  35351,  -999.0,-999.0000,-999.000,-999.000,  1.2296,-999.000