BOTTLE,20021108WHPSIOdm
EXPOCODE,SECT_ID,STNNBR,CASTNO,SAMPNO,BTLNBR,BTLNBR_FLAG_W,DATE,TIME,LATITUDE,LONGITUDE,DEPTH,CTDPRS,CTDTMP,CTDSAL,CTDSAL_FLAG_W,SALNTY,SALNTY_FLAG_W,OXYGEN,OXYGEN_FLAG_W,SILCAT,SILCAT_FLAG_W,NITRAT,NITRAT_FLAG_W,NITRIT,NITRIT_FLAG_W,PHSPHT,PHSPHT_FLAG_W,CFC-11,CFC-11_FLAG_W,CFC-12,CFC-12_FLAG_W,TRITUM,TRITUM_FLAG_W,HELIUM,HELIUM_FLAG_W,DELHE3,DELHE3_FLAG_W,DELC14,DELC14_FLAG_W,DELC13,DELC13_FLAG_W,NEON,NEON_FLAG_W,TCARBN,TCARBN_FLAG_W,ALKALI,ALKALI_FLAG_W,PH,PH_FLAG_W,CTDRAW,C14ERR,HELIER,DELHER,NEONER,THETA,TRITER
,,,,,,,,,,,,DBAR,ITS-90,PSS-78,,PSS-78,,UMOL/KG,,UMOL/KG,,UMOL/KG,,UMOL/KG,,UMOL/KG,,PMOL/KG,,PMOL/KG,,TU,,NMOL/KG,,PERCNT,,/MILLE,,/MILLE,,NMOL/KG,,UMOL/KG,,UMOL/KG,,,,DBAR,/MILLE,NMOL/KG,PERCNT,NMOL/KG,DEG C,TU
   31DSCGC91_2,  P16N,    37,  1,   5311,   1041,2,19910319,0824, 34.0010,-152.0023, 5559,      7.3,  15.5322,  34.4033,2,  34.4020,2,    249.0,2,     5.09,2,     0.00,2,     0.00,2,     0.14,2,    2.850,2,    1.475,2, -999.000,9,-999.0000,9,  -999.00,9,   -999.0,9,  -999.00,9,-999.000,9,   2002.9,2,   -999.0,9,     7.99,2,    425,  -999.0,-999.0000,-999.000,-999.000, 15.5311,-999.000
   31DSCGC91_2,  P16N,    37,  1,   5310,   1002,2,19910319,0824, 34.0010,-152.0023, 5559,     54.1,  15.5122,  34.3978,2,  34.3970,2,    249.2,2,     5.07,2,     0.00,2,     0.00,2,     0.13,2,    2.828,2,    1.487,2, -999.000,9,-999.0000,9,  -999.00,9,   -999.0,9,  -999.00,9,-999.000,9,   2002.2,2,   -999.0,9,     7.99,2,    896,  -999.0,-999.0000,-999.000,-999.000, 15.5039,-999.000
   31DSCGC91_2,  P16N,    37,  1,   5309,   1003,4,19910319,0824, 34.0010,-152.0023, 5559,    251.3,  10.7587,  34.2063,2,  34.2040,2,    224.0,2,    15.01,2,    12.70,2,     0.00,2,     0.92,2,    2.813,2,    1.437,2, -999.000,9,-999.0000,9,  -999.00,9,   -999.0,9,  -999.00,9,-999.000,9,   -999.0,9,   -999.0,9,     7.83,2,   2877,  -999.0,-999.0000,-999.000,-999.000, 10.7284,-999.000
   31DSCGC91_2,  P16N,    37,  1,   5307,   1013,2,19910319,0824, 34.0010,-152.0023, 5559,    402.0,   8.4930,  34.0603,2,  34.0610,2,    205.1,2,    26.92,2,    19.22,2,     0.00,2,     1.35,2,    2.467,2,    1.225,2, -999.000,9,-999.0000,9,  -999.00,9,   -999.0,9,  -999.00,9,-999.000,9,   2120.5,2,   -999.0,9,     7.74,2,   4391,  -999.0,-999.0000,-999.000,-999.000,  8.4509,-999.000
   31DSCGC91_2,  P16N,    37,  1,   5308,      6,4,19910319,0824, 34.0010,-152.0023, 5559,    402.0,   8.4930,  34.0603,2,  34.0610,2,    205.2,2,    26.94,2,    19.05,2,     0.00,2,     1.35,2,    2.418,6,    1.215,6, -999.000,9,-999.0000,9,  -999.00,9,   -999.0,9,  -999.00,9,-999.000,9,   -999.0,9,   -999.0,9,     7.74,2,   4391,  -999.0,-999.0000,-999.000,-999.000,  8.4509,-999.000
   31DSCGC91_2,  P16N,    37,  1,   5306,   1012,2,19910319,0824, 34.0010,-152.0023, 5559,    598.0,   5.7322,  33.9925,2,  33.9940,2,    120.5,2,    63.67,2,    32.51,2,     0.00,2,     2.29,2,    0.959,2,    0.459,2, -999.000,9,-999.0000,9,  -999.00,9,   -999.0,9,  -999.00,9,-999.000,9,   2223.8,2,   -999.0,9,     7.51,2,   6357,  -999.0,-999.0000,-999.000,-999.000,  5.6812,-999.000
   31DSCGC91_2,  P16N,    37,  1,   5305,   1007,2,19910319,0824, 34.0010,-152.0023, 5559,    699.7,   4.6768,  34.0499,2,  34.0480,2,     69.5,2,    87.23,2,    38.93,2,     0.00,2,     2.72,2,    0.266,2,    0.146,2, -999.000,9,-999.0000,9,  -999.00,9,   -999.0,9,  -999.00,9,-999.000,9,   2284.3,2,   -999.0,9,     7.39,2,   7375,  -999.0,-999.0000,-999.000,-999.000,  4.6223,-999.000
   31DSCGC91_2,  P16N,    37,  1,   5304,   1038,2,19910319,0824, 34.0010,-152.0023, 5559,    803.4,   4.0436,  34.1484,2,  34.1470,2,     33.2,2,   107.74,2,    42.75,2,     0.00,2,     2.99,2,    0.045,2,    0.026,2, -999.000,9,-999.0000,9,  -999.00,9,   -999.0,9,  -999.00,9,-999.000,9,   2327.7,2,   -999.0,9,     7.32,2,   8415,  -999.0,-999.0000,-999.000,-999.000,  3.9842,-999.000
   31DSCGC91_2,  P16N,    37,  1,   5302,   1028,2,19910319,0824, 34.0010,-152.0023, 5559,   1000.2,   3.4054,  34.3232,2,  34.3220,2,      9.8,2,   133.16,2,    44.00,2,     0.00,2,     3.15,2,    0.005,2,    0.000,2, -999.000,9,   1.8900,2,    14.18,2,   -999.0,9,  -999.00,9,-999.000,9,   2370.2,2,   -999.0,9,     7.28,2,  10386,  -999.0,-999.0000,-999.000,-999.000,  3.3347,-999.000
   31DSCGC91_2,  P16N,    37,  1,   5303,   1029,4,19910319,0824, 34.0010,-152.0023, 5559,   1000.2,   3.4054,  34.3232,2,  34.3220,2,      9.5,2,   133.00,2,    44.90,2,     0.00,2,     3.16,2,   -0.001,2,    0.000,2, -999.000,9,-999.0000,9,  -999.00,9,   -999.0,9,  -999.00,9,-999.000,9,   -999.0,9,   -999.0,9,     7.28,2,  10386,  -999.0,-999.0000,-999.000,-999.000,  3.3347,-999.000
   31DSCGC91_2,  P16N,    37,  1,   5301,   1017,4,19910319,0824, 34.0010,-152.0023, 5559,   1498.6,   2.5772,  34.5376,2,  34.5350,2,     33.4,2,   158.17,2,    43.09,2,     0.00,2,     3.07,2,    0.008,3,    0.017,3, -999.000,9,   1.9090,2,    21.78,2,   -999.0,9,  -999.00,9,-999.000,9,   -999.0,9,   -999.0,9,     7.35,2,  15369,  -999.0,-999.0000,-999.000,-999.000,  2.4744,-999.000
   31DSCGC91_2,  P16N,    37,  1,   5324,   1027,2,19910319,0824, 34.0010,-152.0023, 5559,   1498.6,   2.5772,  34.5376,2,  34.5350,2,     34.7,2,   158.12,2,    42.94,2,     0.00,2,     3.07,2,   -0.004,2,    0.000,2, -999.000,9,   1.9060,2,    21.31,2,   -999.0,9,  -999.00,9,-999.000,9,   2386.3,2,   -999.0,9,     7.35,2,  15369,  -999.0,-999.0000,-999.000,-999.000,  2.4744,-999.000
   31DSCGC91_2,  P16N,    37,  1,   5323,   1016,2,19910319,0824, 34.0010,-152.0023, 5559,   2251.8,   1.7979,  34.6317,2,  34.6310,2,     82.6,2,   175.45,2,    40.18,2,     0.00,2,     2.84,2,   -0.007,3,    0.000,2, -999.000,9,   1.9300,2,    22.11,2,   -999.0,9,  -999.00,9,-999.000,9,   2374.3,2,   -999.0,9,     7.45,2,  22887,  -999.0,-999.0000,-999.000,-999.000,  1.6433,-999.000
   31DSCGC91_2,  P16N,    37,  1,   5322,   1026,2,19910319,0824, 34.0010,-152.0023, 5559,   2500.2,   1.6839,  34.6451,2,  34.6440,2,     95.7,2,   174.75,2,    39.28,2,     0.00,2,     2.76,2,    0.005,3,    0.000,2, -999.000,9,   1.9110,2,    20.67,2,   -999.0,9,  -999.00,9,-999.000,9,   2368.1,2,   -999.0,9,     7.48,2,  25363,  -999.0,-999.0000,-999.000,-999.000,  1.5095,-999.000
   31DSCGC91_2,  P16N,    37,  1,   5321,   1004,2,19910319,0824, 34.0010,-152.0023, 5559,   2753.8,   1.5989,  34.6568,2,  34.6560,2,    107.5,2,   172.99,2,    38.58,2,     0.00,2,     2.70,2,    0.000,2,    0.000,2, -999.000,9,   1.9080,2,    19.22,2,   -999.0,9,  -999.00,9,-999.000,9,   2363.1,2,   -999.0,9,     7.50,2,  27892,  -999.0,-999.0000,-999.000,-999.000,  1.4031,-999.000
   31DSCGC91_2,  P16N,    37,  1,   5320,   1025,2,19910319,0824, 34.0010,-152.0023, 5559,   3252.5,   1.4978,  34.6721,2,  34.6710,2,    127.5,2,   167.63,2,    37.81,2,     0.00,2,     2.61,2,   -0.004,2,    0.000,2, -999.000,9,   1.9060,2,    16.44,2,   -999.0,9,  -999.00,9,-999.000,9,   2344.1,2,   -999.0,9,     7.54,2,  32862,  -999.0,-999.0000,-999.000,-999.000,  1.2566,-999.000
   31DSCGC91_2,  P16N,    37,  1,   5319,   1031,2,19910319,0824, 34.0010,-152.0023, 5559,   3507.9,   1.4768,  34.6778,2,  34.6770,2,    134.6,2,   165.04,2,    37.78,2,     0.00,2,     2.56,2,   -0.003,2,    0.000,2, -999.000,9,   1.9030,2,    16.65,2,   -999.0,9,  -999.00,9,-999.000,9,   2341.5,2,   -999.0,9,     7.55,2,  35407,  -999.0,-999.0000,-999.000,-999.000,  1.2104,-999.000
   31DSCGC91_2,  P16N,    37,  1,   5318,   1036,2,19910319,0824, 34.0010,-152.0023, 5559,   3755.9,   1.4658,  34.6807,2,  34.6800,2,    140.9,2,   162.88,2,    37.02,2,     0.00,2,     2.53,2, -999.000,5, -999.000,5, -999.000,9,   1.9110,2,    15.56,2,   -999.0,9,  -999.00,9,-999.000,9,   2336.5,2,   -999.0,9,     7.56,2,  37879,  -999.0,-999.0000,-999.000,-999.000,  1.1740,-999.000
   31DSCGC91_2,  P16N,    37,  1,   5317,     26,2,19910319,0824, 34.0010,-152.0023, 5559,   4254.5,   1.4748,  34.6857,2,  34.6850,2,    150.1,2,   159.45,2,    37.06,2,     0.00,2,     2.49,2, -999.000,5, -999.000,5, -999.000,9,   1.9020,2,    15.65,2,   -999.0,9,  -999.00,9,-999.000,9,   2330.9,2,   -999.0,9,     7.58,2,  42852,  -999.0,-999.0000,-999.000,-999.000,  1.1285,-999.000
   31DSCGC91_2,  P16N,    37,  1,   5316,   1037,2,19910319,0824, 34.0010,-152.0023, 5559,   4503.3,   1.4898,  34.6865,2,  34.6870,2,    151.4,2,   157.51,2,    36.78,2,     0.00,2,     2.47,2, -999.000,5, -999.000,5, -999.000,9,   1.9000,2,    15.15,2,   -999.0,9,  -999.00,9,-999.000,9,   2329.4,2,   -999.0,9,     7.58,2,  45335,  -999.0,-999.0000,-999.000,-999.000,  1.1147,-999.000
   31DSCGC91_2,  P16N,    37,  1,   5315,   1032,2,19910319,0824, 34.0010,-152.0023, 5559,   4758.5,   1.5078,  34.6886,2,  34.6880,2,    154.2,2,   154.52,2,    36.57,2,     0.00,2,     2.47,2, -999.000,5, -999.000,5, -999.000,9,   1.9020,2,    15.37,2,   -999.0,9,  -999.00,9,-999.000,9,   2327.7,2,   -999.0,9,     7.58,2,  47882,  -999.0,-999.0000,-999.000,-999.000,  1.1023,-999.000
   31DSCGC91_2,  P16N,    37,  1,   5314,   1011,2,19910319,0824, 34.0010,-152.0023, 5559,   5004.3,   1.5308,  34.6887,2,  34.6890,2,    154.5,2,   153.01,2,    36.67,2,     0.00,2,     2.45,2, -999.000,5, -999.000,5, -999.000,9,   1.9080,2,    15.13,2,   -999.0,9,  -999.00,9,-999.000,9,   2323.8,2,   -999.0,9,     7.59,2,  50339,  -999.0,-999.0000,-999.000,-999.000,  1.0950,-999.000
   31DSCGC91_2,  P16N,    37,  1,   5312,   1019,2,19910319,0824, 34.0010,-152.0023, 5559,   5632.4,   1.6029,  34.6898,2,  34.6900,2,    156.2,2,   150.82,2,    35.88,2,     0.00,2,     2.45,2, -999.000,5, -999.000,5, -999.000,9,-999.0000,9,  -999.00,9,   -999.0,9,  -999.00,9,-999.000,9,   2322.8,2,   -999.0,9,     7.59,2,  56626,  -999.0,-999.0000,-999.000,-999.000,  1.0854,-999.000
   31DSCGC91_2,  P16N,    37,  1,   5313,   1033,4,19910319,0824, 34.0010,-152.0023, 5559,   5632.4,   1.6029,  34.6898,2,  34.6910,2,    156.3,2,   150.87,2,    35.97,2,     0.00,2,     2.44,2, -999.000,5, -999.000,5, -999.000,9,   1.8970,2,    14.96,2,   -999.0,9,  -999.00,9,-999.000,9,   -999.0,9,   -999.0,9,     7.59,2,  56626,  -999.0,-999.0000,-999.000,-999.000,  1.0854,-999.000
   31DSCGC91_2,  P16N,    39,  1,   5519,   1031,2,19910320,0224, 35.6080,-152.0072, 5705,      6.0,  14.7210,  33.9312,2,  33.9300,2,    250.4,2,     4.37,2,     0.03,2,     0.00,2,     0.18,2,    2.973,2,    1.523,2, -999.000,9,-999.0000,9,  -999.00,9,    105.5,2,     1.58,2,-999.000,9,   1994.7,2,   -999.0,9,     7.97,2,    413,     5.5,-999.0000,-999.000,-999.000, 14.7201,-999.000
   31DSCGC91_2,  P16N,    39,  1,   5518,   1036,2,19910320,0224, 35.6080,-152.0072, 5705,     75.6,  14.6139,  33.9723,2,  33.9670,2,    249.7,2,     4.35,2,     0.03,2,     0.00,2,     0.17,2,    2.610,4,    1.563,2, -999.000,9,-999.0000,9,  -999.00,9,     96.1,2,     1.53,2,-999.000,9,   1995.4,2,   -999.0,9,     7.97,2,   1113,     4.2,-999.0000,-999.000,-999.000, 14.6028,-999.000
   31DSCGC91_2,  P16N,    39,  1,   5517,     26,2,19910320,0224, 35.6080,-152.0072, 5705,    123.4,  13.3656,  33.9511,2,  33.9980,3,    243.9,2,     5.32,2,     1.89,2,     0.10,2,     0.32,2,    3.087,2,    1.580,2, -999.000,9,-999.0000,9,  -999.00,9,     99.1,2,     1.43,2,-999.000,9,   2011.0,2,   -999.0,9,     7.94,2,   1593,    10.6,-999.0000,-999.000,-999.000, 13.3485,-999.000
   31DSCGC91_2,  P16N,    39,  1,   5516,   1037,2,19910320,0224, 35.6080,-152.0072, 5705,    151.0,  11.5150,  33.9455,2,  33.9450,2,   -999.0,2,     8.46,2,     7.55,2,     0.02,2,     0.65,2,    3.273,2,    1.660,2, -999.000,9,-999.0000,9,  -999.00,9,     86.4,2,     1.14,2,-999.000,9,   2036.1,2,   -999.0,9,     7.87,2,   1870,     6.1,-999.0000,-999.000,-999.000, 11.4961,-999.000
   31DSCGC91_2,  P16N,    39,  1,   5515,   1032,2,19910320,0224, 35.6080,-152.0072, 5705,    176.1,  10.6457,  33.9672,2,  33.9660,2,    229.0,2,    10.82,2,    10.92,2,     0.01,2,     0.84,2,    3.229,2,    1.637,2, -999.000,9,-999.0000,9,  -999.00,9,     98.1,2,  -999.00,5,-999.000,9,   2063.7,2,   -999.0,9,     7.83,2,   2123,    10.5,-999.0000,-999.000,-999.000, 10.6247,-999.000
   31DSCGC91_2,  P16N,    39,  1,   5514,   1011,2,19910320,0224, 35.6080,-152.0072, 5705,    199.7,  10.2666,  33.9903,2,  33.9920,2,    231.4,2,    12.77,2,    12.32,2,     0.01,2,     0.92,2,    3.211,2,    1.627,2, -999.000,9,-999.0000,9,  -999.00,9,     86.9,2,     0.69,2,-999.000,9,   2071.3,2,   -999.0,9,     7.82,2,   2360,     5.6,-999.0000,-999.000,-999.000, 10.2433,-999.000
   31DSCGC91_2,  P16N,    39,  1,   5513,   1033,2,19910320,0224, 35.6080,-152.0072, 5705,    301.5,   9.0762,  34.0458,2,  34.0500,2,    219.3,2,    20.86,2,    16.35,2,     0.00,2,     1.17,2,    2.861,2,    1.427,2, -999.000,9,-999.0000,9,  -999.00,9,     59.7,2,     0.44,2,-999.000,9,   2099.3,2,   -999.0,9,     7.77,2,   3382,     3.6,-999.0000,-999.000,-999.000,  9.0435,-999.000
   31DSCGC91_2,  P16N,    39,  1,   5512,   1019,2,19910320,0224, 35.6080,-152.0072, 5705,    351.0,   8.4450,  34.0287,2,  34.0320,2,    197.7,2,    26.18,2,    18.89,2,     0.00,2,     1.34,2,    2.625,2,    1.309,2, -999.000,9,-999.0000,9,  -999.00,9,     39.6,2,     0.36,2,-999.000,9,   2115.7,2,   -999.0,9,     7.74,2,   3879,     3.4,-999.0000,-999.000,-999.000,  8.4085,-999.000
   31DSCGC91_2,  P16N,    39,  1,   5511,   1041,2,19910320,0224, 35.6080,-152.0072, 5705,    453.2,   7.0556,  33.9903,2,  33.9900,2,    157.2,2,    43.40,2,    26.57,2,     0.00,2,     1.84,2,    1.812,2,    0.952,2, -999.000,9,-999.0000,9,  -999.00,9,      3.8,2,     0.09,2,-999.000,9,   2173.7,2,   -999.0,9,     7.61,2,   4905,     4.9,-999.0000,-999.000,-999.000,  7.0129,-999.000
   31DSCGC91_2,  P16N,    39,  1,   5510,   1002,2,19910320,0224, 35.6080,-152.0072, 5705,    547.0,   5.5621,  33.9939,2,  33.9900,2,    114.6,2,    66.26,2,    33.44,2,     0.00,2,     2.35,2,    0.917,2,    0.448,2, -999.000,9,-999.0000,9,  -999.00,9,    -71.5,2,  -999.00,5,-999.000,9,   2236.8,2,   -999.0,9,     7.49,2,   5845,     5.9,-999.0000,-999.000,-999.000,  5.5164,-999.000
   31DSCGC91_2,  P16N,    39,  1,   5509,   1003,2,19910320,0224, 35.6080,-152.0072, 5705,    646.7,   4.5348,  34.0593,2,  34.0610,2,     63.8,2,    91.09,2,    39.10,2,     0.00,2,     2.76,2,    0.298,2,    0.163,2, -999.000,9,-999.0000,9,  -999.00,9,   -121.2,2,    -0.61,2,-999.000,9,   2290.4,2,   -999.0,9,     7.37,2,   6845,     6.5,-999.0000,-999.000,-999.000,  4.4854,-999.000
   31DSCGC91_2,  P16N,    39,  1,   5508,      6,2,19910320,0224, 35.6080,-152.0072, 5705,    747.9,   4.0886,  34.1313,2,  34.1320,2,     37.8,2,   105.19,2,    41.77,2,     0.00,2,     2.89,2,    0.091,2,    0.052,2, -999.000,9,-999.0000,9,  -999.00,9,   -153.2,2,    -0.74,2,-999.000,9,   2320.3,2,   -999.0,9,     7.33,2,   7859,     3.7,-999.0000,-999.000,-999.000,  4.0334,-999.000
   31DSCGC91_2,  P16N,    39,  1,   5507,   1013,4,19910320,0224, 35.6080,-152.0072, 5705,    847.2,   3.6915,  34.2206,2,  34.2220,2,     22.6,2,   120.81,2,    43.89,2,     0.00,2,     3.09,2,    0.010,2,    0.011,2, -999.000,9,-999.0000,9,  -999.00,9,   -181.9,2,    -0.92,2,-999.000,9,   -999.0,9,   -999.0,9,     7.29,2,   8854,     8.7,-999.0000,-999.000,-999.000,  3.6308,-999.000
   31DSCGC91_2,  P16N,    39,  1,   5506,   1012,2,19910320,0224, 35.6080,-152.0072, 5705,   1073.0,   3.2234,  34.3705,2,  34.3700,2,      8.5,2,   140.48,2,    45.46,2,     0.00,2,     3.16,2,    0.005,2,    0.000,2, -999.000,9,-999.0000,9,  -999.00,9,   -203.0,2,    -0.87,2,-999.000,9,   2377.3,2,   -999.0,9,     7.29,2,  11114,     5.5,-999.0000,-999.000,-999.000,  3.1483,-999.000
   31DSCGC91_2,  P16N,    39,  1,   5505,   1007,4,19910320,0224, 35.6080,-152.0072, 5705,   1175.4,   3.0803,  34.4147,2,  34.4410,3,     11.7,2,   148.70,2,    45.34,2,     0.00,2,     3.17,2,    0.016,3,    0.014,3, -999.000,9,-999.0000,9,  -999.00,9,   -225.0,2,  -999.00,5,-999.000,9,   -999.0,9,   -999.0,9,     7.30,2,  12139,     9.6,-999.0000,-999.000,-999.000,  2.9983,-999.000
   31DSCGC91_2,  P16N,    39,  1,   5504,   1038,2,19910320,0224, 35.6080,-152.0072, 5705,   4006.2,   1.4748,  34.6831,2,  34.6830,2,    142.3,2,   162.60,2,    37.10,2,     0.00,2,     2.53,2,   -0.001,2,    0.000,2, -999.000,9,-999.0000,9,  -999.00,9,   -228.6,2,     0.25,2,-999.000,9,   2333.0,2,   -999.0,9,     7.57,2,  40375,     6.5,-999.0000,-999.000,-999.000,  1.1559,-999.000
   31DSCGC91_2,  P16N,    39,  1,   5503,   1029,2,19910320,0224, 35.6080,-152.0072, 5705,   5010.8,   1.5349,  34.6880,2,  34.6870,2,    154.0,2,   155.39,2,    36.45,2,     0.00,2,     2.47,2,    0.007,3,    0.000,2, -999.000,9,-999.0000,9,  -999.00,9,   -999.0,9,  -999.00,9,-999.000,9,   2324.2,2,   -999.0,9,     7.59,2,  50404,  -999.0,-999.0000,-999.000,-999.000,  1.0980,-999.000
   31DSCGC91_2,  P16N,    39,  1,   5502,   1028,2,19910320,0224, 35.6080,-152.0072, 5705,   5759.8,   1.6229,  34.6892,2,  34.6900,2,    158.0,2,   152.38,2,    35.80,2,     0.00,2,     2.44,2,    0.000,2,    0.000,2, -999.000,9,-999.0000,9,  -999.00,9,   -999.0,9,  -999.00,9,-999.000,9,   2322.5,2,   -999.0,9,     7.59,2,  57902,  -999.0,-999.0000,-999.000,-999.000,  1.0880,-999.000