BOTTLE,20021108WHPSIOdm
EXPOCODE,SECT_ID,STNNBR,CASTNO,SAMPNO,BTLNBR,BTLNBR_FLAG_W,DATE,TIME,LATITUDE,LONGITUDE,DEPTH,CTDPRS,CTDTMP,CTDSAL,CTDSAL_FLAG_W,SALNTY,SALNTY_FLAG_W,OXYGEN,OXYGEN_FLAG_W,SILCAT,SILCAT_FLAG_W,NITRAT,NITRAT_FLAG_W,NITRIT,NITRIT_FLAG_W,PHSPHT,PHSPHT_FLAG_W,CFC-11,CFC-11_FLAG_W,CFC-12,CFC-12_FLAG_W,TRITUM,TRITUM_FLAG_W,HELIUM,HELIUM_FLAG_W,DELHE3,DELHE3_FLAG_W,DELC14,DELC14_FLAG_W,DELC13,DELC13_FLAG_W,NEON,NEON_FLAG_W,TCARBN,TCARBN_FLAG_W,ALKALI,ALKALI_FLAG_W,PH,PH_FLAG_W,CTDRAW,C14ERR,HELIER,DELHER,NEONER,THETA,TRITER
,,,,,,,,,,,,DBAR,ITS-90,PSS-78,,PSS-78,,UMOL/KG,,UMOL/KG,,UMOL/KG,,UMOL/KG,,UMOL/KG,,PMOL/KG,,PMOL/KG,,TU,,NMOL/KG,,PERCNT,,/MILLE,,/MILLE,,NMOL/KG,,UMOL/KG,,UMOL/KG,,,,DBAR,/MILLE,NMOL/KG,PERCNT,NMOL/KG,DEG C,TU
   31DSCGC91_2,  P16N,    27,  1,   4011,   1041,2,19910314,1602, 27.3338,-151.9978, 5681,   1149.9,   3.3374,  34.4822,2,  34.4810,2,   -999.0,9,  -999.00,9,  -999.00,9,  -999.00,9,  -999.00,9, -999.000,9, -999.000,9, -999.000,9,-999.0000,9,  -999.00,9,   -999.0,9,  -999.00,9,-999.000,9,   -999.0,9,   -999.0,9,  -999.00,9,  11883,  -999.0,-999.0000,-999.000,-999.000,  3.2550,-999.000
   31DSCGC91_2,  P16N,    27,  1,   4010,   1002,2,19910314,1602, 27.3338,-151.9978, 5681,   1398.8,   2.8553,  34.5464,2,  34.5460,2,   -999.0,9,  -999.00,9,  -999.00,9,  -999.00,9,  -999.00,9, -999.000,9, -999.000,9, -999.000,9,-999.0000,9,  -999.00,9,   -999.0,9,  -999.00,9,-999.000,9,   -999.0,9,   -999.0,9,  -999.00,9,  14371,  -999.0,-999.0000,-999.000,-999.000,  2.7574,-999.000
   31DSCGC91_2,  P16N,    27,  1,   4009,   1003,2,19910314,1602, 27.3338,-151.9978, 5681,   1699.4,   2.4031,  34.5878,2,  34.5860,2,   -999.0,9,  -999.00,9,  -999.00,9,  -999.00,9,  -999.00,9, -999.000,9, -999.000,9, -999.000,9,-999.0000,9,  -999.00,9,   -999.0,9,  -999.00,9,-999.000,9,   -999.0,9,   -999.0,9,  -999.00,9,  17375,  -999.0,-999.0000,-999.000,-999.000,  2.2860,-999.000
   31DSCGC91_2,  P16N,    27,  1,   4008,      6,2,19910314,1602, 27.3338,-151.9978, 5681,   1998.7,   2.0630,  34.6148,2,  34.6140,2,   -999.0,9,  -999.00,9,  -999.00,9,  -999.00,9,  -999.00,9, -999.000,9, -999.000,9, -999.000,9,-999.0000,9,  -999.00,9,   -999.0,9,  -999.00,9,-999.000,9,   -999.0,9,   -999.0,9,  -999.00,9,  20362,  -999.0,-999.0000,-999.000,-999.000,  1.9258,-999.000
   31DSCGC91_2,  P16N,    27,  1,   4007,   1013,2,19910314,1602, 27.3338,-151.9978, 5681,   2518.4,   1.6859,  34.6516,2,  34.6490,2,   -999.0,9,  -999.00,9,  -999.00,9,  -999.00,9,  -999.00,9, -999.000,9, -999.000,9, -999.000,9,-999.0000,9,  -999.00,9,   -999.0,9,  -999.00,9,-999.000,9,   -999.0,9,   -999.0,9,  -999.00,9,  25545,  -999.0,-999.0000,-999.000,-999.000,  1.5098,-999.000
   31DSCGC91_2,  P16N,    27,  1,   4004,   1038,4,19910314,1602, 27.3338,-151.9978, 5681,   2999.4,   1.5489,  34.6689,2,  34.6670,2,   -999.0,9,  -999.00,9,  -999.00,9,  -999.00,9,  -999.00,9, -999.000,9, -999.000,9, -999.000,9,-999.0000,9,  -999.00,9,   -999.0,9,  -999.00,9,-999.000,9,   -999.0,9,   -999.0,9,  -999.00,9,  30340,  -999.0,-999.0000,-999.000,-999.000,  1.3310,-999.000
   31DSCGC91_2,  P16N,    27,  1,   4006,   1012,2,19910314,1602, 27.3338,-151.9978, 5681,   2999.4,   1.5489,  34.6689,2,  34.6670,2,   -999.0,9,  -999.00,9,  -999.00,9,  -999.00,9,  -999.00,9, -999.000,9, -999.000,9, -999.000,9,-999.0000,9,  -999.00,9,   -999.0,9,  -999.00,9,-999.000,9,   -999.0,9,   -999.0,9,  -999.00,9,  30340,  -999.0,-999.0000,-999.000,-999.000,  1.3310,-999.000
   31DSCGC91_2,  P16N,    27,  1,   4002,   1028,2,19910314,1602, 27.3338,-151.9978, 5681,   5005.3,   1.4998,  34.6905,2,  34.6900,2,   -999.0,9,  -999.00,9,  -999.00,9,  -999.00,9,  -999.00,9, -999.000,9, -999.000,9, -999.000,9,-999.0000,9,  -999.00,9,   -999.0,9,  -999.00,9,-999.000,9,   -999.0,9,   -999.0,9,  -999.00,9,  50349,  -999.0,-999.0000,-999.000,-999.000,  1.0649,-999.000
   31DSCGC91_2,  P16N,    27,  1,   4001,   1017,2,19910314,1602, 27.3338,-151.9978, 5681,   5739.9,   1.5639,  34.6916,2,  34.6930,2,   -999.0,9,  -999.00,9,  -999.00,9,  -999.00,9,  -999.00,9, -999.000,9, -999.000,9, -999.000,9,-999.0000,9,  -999.00,9,   -999.0,9,  -999.00,9,-999.000,9,   -999.0,9,   -999.0,9,  -999.00,9,  57704,  -999.0,-999.0000,-999.000,-999.000,  1.0338,-999.000
   31DSCGC91_2,  P16N,    28,  1,   4123,   1016,2,19910315,0100, 28.0223,-151.9882, 5333,    399.6,   9.9575,  34.1494,2,  34.2000,4,    222.4,3,    14.13,3,    12.31,3,     0.00,3,     0.90,3,    2.720,2,    1.381,2, -999.000,9,-999.0000,9,  -999.00,9,     77.7,2,     0.18,2,-999.000,9,   2076.0,2,   -999.0,9,     7.83,2,   4367,     5.2,-999.0000,-999.000,-999.000,  9.9112,-999.000
   31DSCGC91_2,  P16N,    28,  1,   4122,   1026,2,19910315,0100, 28.0223,-151.9882, 5333,    447.0,   8.7061,  34.0788,2,  34.0770,2,    192.5,2,    27.72,2,    19.79,2,     0.00,2,     1.40,2,    1.970,2,    0.962,2, -999.000,9,-999.0000,9,  -999.00,9,     33.6,2,     0.32,2,-999.000,9,   2126.2,2,   -999.0,9,     7.72,2,   4843,     4.5,-999.0000,-999.000,-999.000,  8.6584,-999.000
   31DSCGC91_2,  P16N,    28,  1,   4120,   1025,4,19910315,0100, 28.0223,-151.9882, 5333,    494.0,   7.8418,  34.0355,2,  34.0380,2,    171.1,2,    36.20,2,    23.80,2,     0.00,2,     1.67,2,    1.576,2,    0.774,2, -999.000,9,-999.0000,9,  -999.00,9,     -3.8,2,    -0.16,2,-999.000,9,   -999.0,9,   -999.0,9,     7.66,2,   5314,     9.0,-999.0000,-999.000,-999.000,  7.7922,-999.000
   31DSCGC91_2,  P16N,    28,  1,   4121,   1004,2,19910315,0100, 28.0223,-151.9882, 5333,    494.0,   7.8418,  34.0355,2,  34.0380,2,    170.8,2,    36.21,2,    23.88,2,     0.00,2,     1.67,2,    1.583,2,    0.774,2, -999.000,9,-999.0000,9,  -999.00,9,     -3.0,2,    -0.16,2,-999.000,9,   2154.6,2,   -999.0,9,     7.66,2,   5314,     6.6,-999.0000,-999.000,-999.000,  7.7922,-999.000
   31DSCGC91_2,  P16N,    28,  1,   4118,   1036,4,19910315,0100, 28.0223,-151.9882, 5333,    701.3,   4.7849,  34.0754,2,  34.0800,2,     56.3,2,    88.72,2,    40.27,2,     0.00,2,     2.84,2,    0.097,4,    0.063,2, -999.000,9,-999.0000,9,  -999.00,9,   -145.0,2,    -0.68,2,-999.000,9,   -999.0,9,   -999.0,9,     7.35,2,   7392,     3.8,-999.0000,-999.000,-999.000,  4.7296,-999.000
   31DSCGC91_2,  P16N,    28,  1,   4119,   1031,2,19910315,0100, 28.0223,-151.9882, 5333,    701.3,   4.7849,  34.0754,2,  34.0790,2,     56.0,2,    88.52,2,    40.22,2,     0.00,2,     2.84,2,    0.105,2,    0.069,2, -999.000,9,-999.0000,9,  -999.00,9,   -140.8,2,  -999.00,5,-999.000,9,   2298.5,2,   -999.0,9,     7.35,2,   7392,     5.3,-999.0000,-999.000,-999.000,  4.7296,-999.000
   31DSCGC91_2,  P16N,    28,  1,   4117,     26,2,19910315,0100, 28.0223,-151.9882, 5333,    899.9,   4.0076,  34.2933,2,  34.2930,2,     19.0,2,   116.40,2,    43.88,2,     0.00,2,     3.14,2,    0.008,2,    0.000,2, -999.000,9,-999.0000,9,  -999.00,9,   -199.9,2,    -0.60,2,-999.000,9,   2351.2,2,   -999.0,9,     7.30,2,   9382,     4.7,-999.0000,-999.000,-999.000,  3.9405,-999.000
   31DSCGC91_2,  P16N,    28,  1,   4116,   1037,2,19910315,0100, 28.0223,-151.9882, 5333,    998.8,   3.7986,  34.3639,2,  34.3650,2,     18.6,2,   123.54,2,    43.85,2,     0.00,2,     3.15,2, -999.000,5, -999.000,5, -999.000,9,   1.8750,2,    15.66,2,   -201.0,2,    -0.92,2,-999.000,9,   2360.2,2,   -999.0,9,     7.31,2,  10371,     9.1,-999.0000,-999.000,-999.000,  3.7248,-999.000
   31DSCGC91_2,  P16N,    28,  1,   4115,   1032,2,19910315,0100, 28.0223,-151.9882, 5333,   1099.6,   3.5645,  34.4233,2,  34.4240,2,     26.2,2,   129.47,2,    43.77,2,     0.00,2,     3.13,2,    0.013,4,    0.000,2, -999.000,9,   1.8830,2,    17.33,2,   -207.8,2,    -0.82,2,-999.000,9,   2364.8,2,   -999.0,9,     7.33,2,  11380,     4.3,-999.0000,-999.000,-999.000,  3.4843,-999.000
   31DSCGC91_2,  P16N,    28,  1,   4114,      4,3,19910315,0100, 28.0223,-151.9882, 5333,   1300.6,   3.1033,  34.5086,2,  34.5080,2,     41.9,2,   139.34,2,    42.98,2,     0.00,2,     3.05,2,   -0.004,2,    0.000,2, -999.000,9,   1.9380,3,    19.80,2,   -999.0,9,  -999.00,9,-999.000,9,   -999.0,9,   -999.0,9,  -999.00,9,  13390,  -999.0,-999.0000,-999.000,-999.000,  3.0109,-999.000
   31DSCGC91_2,  P16N,    28,  1,   4113,   1033,2,19910315,0100, 28.0223,-151.9882, 5333,   1600.0,   2.5002,  34.5721,2,  34.5720,2,     69.9,2,   152.81,2,    41.36,2,     0.00,2,     2.95,2,    0.000,2,    0.000,2, -999.000,9,   1.9050,2,    21.46,2,   -999.0,9,  -999.00,9,-999.000,9,   2368.1,2,   -999.0,9,     7.42,2,  16381,  -999.0,-999.0000,-999.000,-999.000,  2.3900,-999.000
   31DSCGC91_2,  P16N,    28,  1,   4111,   1041,4,19910315,0100, 28.0223,-151.9882, 5333,   1802.0,   2.2371,  34.5963,2,  34.5960,2,     79.5,4,   160.12,2,    41.26,2,     0.00,2,     2.89,2,    0.001,2,    0.009,3, -999.000,9,   1.9070,2,    22.06,2,   -999.0,9,  -999.00,9,-999.000,9,   -999.0,9,   -999.0,9,     7.43,2,  18399,  -999.0,-999.0000,-999.000,-999.000,  2.1138,-999.000
   31DSCGC91_2,  P16N,    28,  1,   4112,   1019,2,19910315,0100, 28.0223,-151.9882, 5333,   1802.0,   2.2371,  34.5963,2,  34.5960,2,     74.1,2,   160.12,2,    41.34,2,     0.00,2,     2.90,2,    0.002,2,    0.000,2, -999.000,9,   1.9170,2,    21.78,2,   -999.0,9,  -999.00,9,-999.000,9,   2368.3,2,   -999.0,9,     7.43,2,  18399,  -999.0,-999.0000,-999.000,-999.000,  2.1138,-999.000
   31DSCGC91_2,  P16N,    28,  1,   4110,   1002,2,19910315,0100, 28.0223,-151.9882, 5333,   2302.0,   1.8159,  34.6361,2,  34.6370,2,     94.1,2,   170.84,2,    39.97,2,     0.00,2,     2.78,2,    0.006,3,    0.015,4, -999.000,9,   1.9140,2,    21.63,2,   -999.0,9,  -999.00,9,-999.000,9,   2364.3,2,   -999.0,9,     7.48,2,  23388,  -999.0,-999.0000,-999.000,-999.000,  1.6566,-999.000
   31DSCGC91_2,  P16N,    28,  1,   4109,   1003,2,19910315,0100, 28.0223,-151.9882, 5333,   2504.3,   1.7139,  34.6481,2,  34.6480,2,    103.6,2,   171.67,2,    39.56,2,     0.00,2,     2.73,2,    0.010,3,    0.000,2, -999.000,9,   1.9090,2,    20.04,2,   -999.0,9,  -999.00,9,-999.000,9,   2360.1,2,   -999.0,9,     7.49,2,  25405,  -999.0,-999.0000,-999.000,-999.000,  1.5386,-999.000
   31DSCGC91_2,  P16N,    28,  1,   4108,      6,2,19910315,0100, 28.0223,-151.9882, 5333,   2799.5,   1.6009,  34.6592,2,  34.6600,2,    115.0,2,   171.03,2,    38.78,2,     0.00,2,     2.67,2,    0.003,2,    0.000,2, -999.000,9,   1.9120,2,    19.26,2,   -999.0,9,  -999.00,9,-999.000,9,   2353.2,2,   -999.0,9,     7.52,2,  28347,  -999.0,-999.0000,-999.000,-999.000,  1.4008,-999.000
   31DSCGC91_2,  P16N,    28,  1,   4107,   1013,2,19910315,0100, 28.0223,-151.9882, 5333,   3089.9,   1.5389,  34.6689,2,  34.6680,2,    126.1,2,   168.49,2,    38.13,2,     0.00,2,     2.62,2,    0.004,2,    0.000,2, -999.000,9,   1.9100,2,    18.37,2,   -999.0,9,  -999.00,9,-999.000,9,   2349.1,2,   -999.0,9,     7.53,2,  31242,  -999.0,-999.0000,-999.000,-999.000,  1.3126,-999.000
   31DSCGC91_2,  P16N,    28,  1,   4106,   1012,2,19910315,0100, 28.0223,-151.9882, 5333,   3393.4,   1.4988,  34.6769,2,  34.6740,2,    135.9,2,   165.33,2,    37.61,2,     0.00,2,     2.57,2,    0.002,2,    0.000,2, -999.000,9,   1.9120,2,    17.38,2,   -999.0,9,  -999.00,9,-999.000,9,   2341.6,2,   -999.0,9,     7.55,2,  34266,  -999.0,-999.0000,-999.000,-999.000,  1.2435,-999.000
   31DSCGC91_2,  P16N,    28,  1,   4105,   1007,2,19910315,0100, 28.0223,-151.9882, 5333,   3698.6,   1.4858,  34.6794,2,  34.6790,2,    141.4,2,   163.01,2,    37.21,2,     0.00,2,     2.54,2,    0.006,3,    0.011,4, -999.000,9,   1.9050,2,    17.09,2,   -999.0,9,  -999.00,9,-999.000,9,   2336.1,2,   -999.0,9,     7.56,2,  37308,  -999.0,-999.0000,-999.000,-999.000,  1.1995,-999.000
   31DSCGC91_2,  P16N,    28,  1,   4103,   1029,4,19910315,0100, 28.0223,-151.9882, 5333,   4102.9,   1.4788,  34.6847,2,  34.6840,2,    148.2,2,   159.01,2,    36.98,2,     0.00,2,     2.50,2,    0.010,3,    0.000,2,    0.004,2,   1.9110,2,    16.45,2,   -999.0,9,  -999.00,9,-999.000,9,   -999.0,9,   -999.0,9,     7.59,2,  41339,  -999.0,-999.0000,-999.000,-999.000,  1.1492,   0.002
   31DSCGC91_2,  P16N,    28,  1,   4104,   1038,2,19910315,0100, 28.0223,-151.9882, 5333,   4102.9,   1.4788,  34.6847,2,  34.6840,2,    148.8,2,   159.02,2,    36.62,2,     0.00,2,     2.50,2, -999.000,5, -999.000,5,    0.003,2,   1.8980,2,    15.56,2,   -999.0,9,  -999.00,9,-999.000,9,   2330.7,2,   -999.0,9,     7.57,2,  41339,  -999.0,-999.0000,-999.000,-999.000,  1.1492,   0.002
   31DSCGC91_2,  P16N,    28,  1,   4102,   1028,2,19910315,0100, 28.0223,-151.9882, 5333,   5120.2,   1.4998,  34.6912,2,  34.6920,2,    162.9,2,   147.33,2,    35.45,2,     0.00,2,     2.41,2,    0.003,2,    0.014,4,    0.007,2,   1.9030,2,    14.84,2,   -999.0,9,  -999.00,9,-999.000,9,   2311.5,2,   -999.0,9,     7.59,2,  51497,  -999.0,-999.0000,-999.000,-999.000,  1.0508,   0.002
   31DSCGC91_2,  P16N,    28,  1,   4101,   1017,2,19910315,0100, 28.0223,-151.9882, 5333,   5499.8,   1.5359,  34.6926,2,  34.6910,2,    164.5,2,   147.32,2,    35.43,2,     0.00,2,     2.41,2,    0.008,3,    0.019,4, -999.000,9,-999.0000,9,  -999.00,9,   -999.0,9,  -999.00,9,-999.000,9,   2314.4,2,   -999.0,9,     7.59,2,  55297,  -999.0,-999.0000,-999.000,-999.000,  1.0379,-999.000
   31DSCGC91_2,  P16N,    28,  2,   4218,   1036,2,19910315,0855, 27.9993,-151.9948, 5516,      7.0,  20.0266,  35.3667,2,  35.3670,2,    227.6,2,     2.81,2,     0.00,2,     0.00,2,     0.06,2,    2.353,2,    1.232,2, -999.000,9,-999.0000,9,  -999.00,9,    122.9,2,     1.40,2,-999.000,9,   -999.0,9,   -999.0,9,     8.06,2,    423,     6.4,-999.0000,-999.000,-999.000, 20.0253,-999.000
   31DSCGC91_2,  P16N,    28,  2,   4217,      6,2,19910315,0855, 27.9993,-151.9948, 5516,     21.7,  20.0226,  35.3664,2,  35.3650,2,    226.6,2,     2.61,2,     0.00,2,     0.00,2,     0.05,2,    2.340,2,    1.212,2, -999.000,9,-999.0000,9,  -999.00,9,   -999.0,9,  -999.00,9,-999.000,9,   2010.3,2,   -999.0,9,     8.06,2,    571,  -999.0,-999.0000,-999.000,-999.000, 20.0186,-999.000
   31DSCGC91_2,  P16N,    28,  2,   4216,   1037,2,19910315,0855, 27.9993,-151.9948, 5516,     40.9,  19.4074,  35.3485,2,  35.3210,3,    229.8,2,     2.60,2,     0.00,2,     0.00,2,     0.06,2,    2.379,2,    1.234,2, -999.000,9,-999.0000,9,  -999.00,9,   -999.0,9,  -999.00,9,-999.000,9,   2010.2,2,   -999.0,9,     8.05,2,    764,  -999.0,-999.0000,-999.000,-999.000, 19.4000,-999.000
   31DSCGC91_2,  P16N,    28,  2,   4215,   1032,2,19910315,0855, 27.9993,-151.9948, 5516,     60.9,  18.8873,  35.2459,2,  35.2450,2,    230.6,2,     2.80,2,     0.00,2,     0.00,2,     0.06,2,    2.409,2,    1.258,2, -999.000,9,-999.0000,9,  -999.00,9,    120.1,2,     1.19,2,-999.000,9,   2010.7,2,   -999.0,9,  -999.00,9,    965,     6.0,-999.0000,-999.000,-999.000, 18.8765,-999.000
   31DSCGC91_2,  P16N,    28,  2,   4214,      4,2,19910315,0855, 27.9993,-151.9948, 5516,     81.3,  18.6042,  35.1610,2,  35.2010,3,    230.2,2,     2.80,2,     0.03,2,     0.00,2,     0.06,2,    2.422,2,    1.271,2, -999.000,9,-999.0000,9,  -999.00,9,   -999.0,9,  -999.00,9,-999.000,9,   2012.6,2,   -999.0,9,     8.04,2,   1170,  -999.0,-999.0000,-999.000,-999.000, 18.5899,-999.000
   31DSCGC91_2,  P16N,    28,  2,   4213,   1033,2,19910315,0855, 27.9993,-151.9948, 5516,    101.9,  18.4381,  35.1618,2,  35.1620,2,    229.1,2,     3.00,2,     0.07,2,     0.01,2,     0.07,2,    2.454,2,    1.285,2, -999.000,9,-999.0000,9,  -999.00,9,    121.8,2,     0.99,2,-999.000,9,   2011.7,2,   -999.0,9,  -999.00,9,   1377,     5.7,-999.0000,-999.000,-999.000, 18.4204,-999.000
   31DSCGC91_2,  P16N,    28,  2,   4212,   1019,2,19910315,0855, 27.9993,-151.9948, 5516,    127.3,  18.3381,  35.1337,2,  35.1350,2,    227.6,2,     3.20,2,     0.22,2,     0.03,2,     0.08,2,    2.471,2,    1.270,2, -999.000,9,-999.0000,9,  -999.00,9,   -999.0,9,  -999.00,9,-999.000,9,   2011.0,2,   -999.0,9,     8.03,2,   1632,  -999.0,-999.0000,-999.000,-999.000, 18.3160,-999.000
   31DSCGC91_2,  P16N,    28,  2,   4211,   1041,2,19910315,0855, 27.9993,-151.9948, 5516,    153.7,  17.8660,  35.0337,2,  35.0360,2,    225.5,2,     3.40,2,     0.63,2,     0.06,2,     0.12,2,    2.531,2,    1.289,2, -999.000,9,-999.0000,9,  -999.00,9,    134.7,2,     1.00,2,-999.000,9,   2013.4,2,   -999.0,9,     8.02,2,   1898,     7.3,-999.0000,-999.000,-999.000, 17.8397,-999.000
   31DSCGC91_2,  P16N,    28,  2,   4210,   1002,2,19910315,0855, 27.9993,-151.9948, 5516,    177.3,  16.8316,  34.8557,2,  34.8310,3,    217.5,2,     4.40,2,     2.13,2,     0.05,2,     0.24,2,    2.514,2,    1.308,2, -999.000,9,-999.0000,9,  -999.00,9,   -999.0,9,  -999.00,9,-999.000,9,   2016.6,2,   -999.0,9,     7.98,2,   2135,  -999.0,-999.0000,-999.000,-999.000, 16.8026,-999.000
   31DSCGC91_2,  P16N,    28,  2,   4208,     26,2,19910315,0855, 27.9993,-151.9948, 5516,    199.5,  15.6663,  34.6634,2,  34.6620,2,    213.8,2,     5.39,2,     3.49,2,     0.02,2,     0.34,2,    2.612,2,    1.342,2, -999.000,9,-999.0000,9,  -999.00,9,    115.8,2,     0.62,2,-999.000,9,   2047.0,2,   -999.0,9,     7.95,2,   2358,     6.3,-999.0000,-999.000,-999.000, 15.6352,-999.000
   31DSCGC91_2,  P16N,    28,  2,   4209,   1003,2,19910315,0855, 27.9993,-151.9948, 5516,    252.0,  13.5976,  34.4119,2,  34.4210,2,    211.0,2,     7.79,2,     7.35,2,     0.00,2,     0.58,2,    2.653,2,    1.362,2, -999.000,9,-999.0000,9,  -999.00,9,    115.9,2,     0.65,2,-999.000,9,   2025.4,3,   -999.0,9,     7.90,2,   2885,     9.7,-999.0000,-999.000,-999.000, 13.5620,-999.000
   31DSCGC91_2,  P16N,    28,  2,   4207,   1013,2,19910315,0855, 27.9993,-151.9948, 5516,    299.6,  11.9941,  34.2863,2,  34.2850,2,    214.9,2,    11.38,2,    10.73,2,     0.00,2,     0.79,2,    2.788,2,    1.372,2, -999.000,9,-999.0000,9,  -999.00,9,     83.5,2,     0.71,2,-999.000,9,   2032.1,3,   -999.0,9,     7.86,2,   3362,     6.3,-999.0000,-999.000,-999.000, 11.9552,-999.000
   31DSCGC91_2,  P16N,    28,  2,   4205,   1007,2,19910315,0855, 27.9993,-151.9948, 5516,    997.9,   3.6915,  34.3942,2,  34.3930,2,   -999.0,9,  -999.00,9,  -999.00,9,  -999.00,9,  -999.00,9, -999.000,9, -999.000,9, -999.000,9,-999.0000,9,  -999.00,9,   -999.0,9,  -999.00,9,-999.000,9,   -999.0,9,   -999.0,9,     7.32,2,  10363,  -999.0,-999.0000,-999.000,-999.000,  3.6186,-999.000
   31DSCGC91_2,  P16N,    28,  2,   4201,   1017,2,19910315,0855, 27.9993,-151.9948, 5516,    999.2,   3.7025,  34.3928,2,  34.3900,2,   -999.0,9,  -999.00,9,  -999.00,9,  -999.00,9,  -999.00,9, -999.000,9, -999.000,9, -999.000,9,-999.0000,9,  -999.00,9,   -999.0,9,  -999.00,9,-999.000,9,   -999.0,9,   -999.0,9,     7.31,2,  10376,  -999.0,-999.0000,-999.000,-999.000,  3.6294,-999.000
   31DSCGC91_2,  P16N,    28,  2,   4204,   1038,2,19910315,0855, 27.9993,-151.9948, 5516,   1000.6,   3.6995,  34.3928,2,  34.3900,2,   -999.0,9,  -999.00,9,  -999.00,9,  -999.00,9,  -999.00,9, -999.000,9, -999.000,9, -999.000,9,-999.0000,9,  -999.00,9,   -999.0,9,  -999.00,9,-999.000,9,   -999.0,9,   -999.0,9,     7.31,2,  10390,  -999.0,-999.0000,-999.000,-999.000,  3.6263,-999.000
   31DSCGC91_2,  P16N,    28,  2,   4202,   1028,2,19910315,0855, 27.9993,-151.9948, 5516,   1001.1,   3.6995,  34.3938,2,  34.3920,2,   -999.0,9,  -999.00,9,  -999.00,9,  -999.00,9,  -999.00,9, -999.000,9, -999.000,9, -999.000,9,-999.0000,9,  -999.00,9,   -999.0,9,  -999.00,9,-999.000,9,   -999.0,9,   -999.0,9,     7.31,2,  10395,  -999.0,-999.0000,-999.000,-999.000,  3.6263,-999.000
   31DSCGC91_2,  P16N,    28,  2,   4203,   1029,2,19910315,0855, 27.9993,-151.9948, 5516,   1003.9,   3.6905,  34.3946,2,  34.3930,2,   -999.0,9,  -999.00,9,  -999.00,9,  -999.00,9,  -999.00,9, -999.000,9, -999.000,9, -999.000,9,-999.0000,9,  -999.00,9,   -999.0,9,  -999.00,9,-999.000,9,   -999.0,9,   -999.0,9,     7.31,2,  10423,  -999.0,-999.0000,-999.000,-999.000,  3.6171,-999.000