BOTTLE,20021108WHPSIOdm
EXPOCODE,SECT_ID,STNNBR,CASTNO,SAMPNO,BTLNBR,BTLNBR_FLAG_W,DATE,TIME,LATITUDE,LONGITUDE,DEPTH,CTDPRS,CTDTMP,CTDSAL,CTDSAL_FLAG_W,SALNTY,SALNTY_FLAG_W,OXYGEN,OXYGEN_FLAG_W,SILCAT,SILCAT_FLAG_W,NITRAT,NITRAT_FLAG_W,NITRIT,NITRIT_FLAG_W,PHSPHT,PHSPHT_FLAG_W,CFC-11,CFC-11_FLAG_W,CFC-12,CFC-12_FLAG_W,TRITUM,TRITUM_FLAG_W,HELIUM,HELIUM_FLAG_W,DELHE3,DELHE3_FLAG_W,DELC14,DELC14_FLAG_W,DELC13,DELC13_FLAG_W,NEON,NEON_FLAG_W,TCARBN,TCARBN_FLAG_W,ALKALI,ALKALI_FLAG_W,PH,PH_FLAG_W,CTDRAW,C14ERR,HELIER,DELHER,NEONER,THETA,TRITER
,,,,,,,,,,,,DBAR,ITS-90,PSS-78,,PSS-78,,UMOL/KG,,UMOL/KG,,UMOL/KG,,UMOL/KG,,UMOL/KG,,PMOL/KG,,PMOL/KG,,TU,,NMOL/KG,,PERCNT,,/MILLE,,/MILLE,,NMOL/KG,,UMOL/KG,,UMOL/KG,,,,DBAR,/MILLE,NMOL/KG,PERCNT,NMOL/KG,DEG C,TU
   31DSCGC91_2,  P16N,    48,  1,   6524,   1027,4,19910323,1556, 41.9977,-151.9868, 5117,     41.7,   9.8725,  33.2215,2,  33.2240,2,   -999.0,9,     7.04,2,     4.11,2,     0.11,2,     0.56,2, -999.000,9, -999.000,9, -999.000,9,-999.0000,9,  -999.00,9,   -999.0,9,  -999.00,9,-999.000,9,   -999.0,9,   -999.0,9,  -999.00,9,    771,  -999.0,-999.0000,-999.000,-999.000,  9.8678,-999.000
   31DSCGC91_2,  P16N,    48,  1,   6518,   1036,2,19910323,1556, 41.9977,-151.9868, 5117,    798.3,   3.6985,  34.2229,2,  34.2200,2,     32.2,2,   119.48,2,    42.43,2,     0.00,2,     2.99,2,    0.094,2,    0.048,2, -999.000,9,-999.0000,9,  -999.00,9,   -173.8,2,    -0.68,2,-999.000,9,   2341.1,2,   -999.0,9,     7.32,2,   8364,     3.2,-999.0000,-999.000,-999.000,  3.6416,-999.000
   31DSCGC91_2,  P16N,    48,  1,   6517,     26,2,19910323,1556, 41.9977,-151.9868, 5117,    849.4,   3.5595,  34.2501,2,  34.2470,2,     27.0,2,   124.47,2,    43.02,2,     0.00,2,     3.02,2,    0.056,2,    0.023,2, -999.000,9,-999.0000,9,  -999.00,9,   -180.5,2,    -0.54,2,-999.000,9,   2349.0,2,   -999.0,9,     7.31,2,   8876,     4.4,-999.0000,-999.000,-999.000,  3.4994,-999.000
   31DSCGC91_2,  P16N,    48,  1,   6516,   1037,2,19910323,1556, 41.9977,-151.9868, 5117,    900.1,   3.4494,  34.2722,2,  34.2730,2,     19.1,2,   128.96,2,    43.41,2,     0.00,2,     3.08,2,    0.638,4,    0.007,2, -999.000,9,-999.0000,9,  -999.00,9,   -999.0,9,  -999.00,9,-999.000,9,   2359.1,2,   -999.0,9,     7.30,2,   9384,  -999.0,-999.0000,-999.000,-999.000,  3.3862,-999.000
   31DSCGC91_2,  P16N,    48,  1,   6515,   1032,2,19910323,1556, 41.9977,-151.9868, 5117,    997.7,   3.2084,  34.3239,2,  34.3210,2,     14.8,2,   137.76,2,    44.09,2,     0.00,2,     3.12,2,    0.015,3,    0.000,2, -999.000,9,-999.0000,9,  -999.00,9,   -199.4,2,  -999.00,5,-999.000,9,   2371.2,2,   -999.0,9,     7.29,2,  10361,     2.8,-999.0000,-999.000,-999.000,  3.1393,-999.000
   31DSCGC91_2,  P16N,    48,  1,   6514,   1011,2,19910323,1556, 41.9977,-151.9868, 5117,   1247.6,   2.7682,  34.4175,2,  34.4160,2,     10.0,2,   154.85,2,    44.68,2,     0.00,2,     3.13,2,    0.002,2,    0.000,2, -999.000,9,   1.8830,2,    16.14,2,   -220.8,2,    -0.59,2,-999.000,9,   2388.5,2,   -999.0,9,     7.29,2,  12861,     3.2,-999.0000,-999.000,-999.000,  2.6835,-999.000
   31DSCGC91_2,  P16N,    48,  1,   6513,   1033,2,19910323,1556, 41.9977,-151.9868, 5117,   1499.5,   2.4221,  34.4973,2,  34.4930,2,     15.2,2,   166.09,2,    44.58,2,     0.00,2,     3.11,2,    0.012,4,    0.000,2, -999.000,9,   1.9010,2,    18.35,2,   -234.4,2,    -0.75,2,-999.000,9,   2398.2,2,   -999.0,9,     7.31,2,  15378,     3.8,-999.0000,-999.000,-999.000,  2.3212,-999.000
   31DSCGC91_2,  P16N,    48,  1,   6511,   1041,2,19910323,1556, 41.9977,-151.9868, 5117,   1747.9,   2.1670,  34.5510,2,  34.5490,2,     31.3,2,   173.31,2,    43.50,2,     0.00,2,     3.05,2,    0.018,4,    0.000,2, -999.000,9,-999.0000,9,  -999.00,9,   -999.0,9,  -999.00,9,-999.000,9,   2395.6,2,   -999.0,9,     7.34,2,  17859,  -999.0,-999.0000,-999.000,-999.000,  2.0492,-999.000
   31DSCGC91_2,  P16N,    48,  1,   6512,   1019,4,19910323,1556, 41.9977,-151.9868, 5117,   1747.9,   2.1670,  34.5510,2,  34.5490,2,     31.7,2,   173.12,2,    43.69,2,     0.00,2,     3.05,2,    0.001,2,    0.000,2, -999.000,9,   1.9170,2,    21.16,2,   -999.0,9,  -999.00,9,-999.000,9,   -999.0,9,   -999.0,9,     7.34,2,  17859,  -999.0,-999.0000,-999.000,-999.000,  2.0492,-999.000
   31DSCGC91_2,  P16N,    48,  1,   6510,   1002,2,19910323,1556, 41.9977,-151.9868, 5117,   2249.2,   1.8529,  34.6148,2,  34.6120,2,     64.7,2,   179.27,2,    41.54,2,     0.00,2,     2.90,2,   -0.005,2,    0.000,2, -999.000,9,   1.9260,2,    22.32,2,   -999.0,9,  -999.00,9,-999.000,9,   2382.4,2,   -999.0,9,     7.41,2,  22861,  -999.0,-999.0000,-999.000,-999.000,  1.6977,-999.000
   31DSCGC91_2,  P16N,    48,  1,   6509,   1003,2,19910323,1556, 41.9977,-151.9868, 5117,   2499.0,   1.7389,  34.6325,2,  34.6310,2,     78.7,2,   178.58,2,    40.66,2,     0.00,2,     2.83,2,    0.002,2,    0.000,2, -999.000,9,   1.9240,2,    20.52,2,   -999.0,9,  -999.00,9,-999.000,9,   2374.6,2,   -999.0,9,     7.44,2,  25352,  -999.0,-999.0000,-999.000,-999.000,  1.5636,-999.000
   31DSCGC91_2,  P16N,    48,  1,   6507,   1013,2,19910323,1556, 41.9977,-151.9868, 5117,   2750.2,   1.6429,  34.6472,2,  34.6450,2,     93.9,2,   176.33,2,    39.59,2,     0.00,2,     2.76,2,    0.000,2,    0.000,2, -999.000,9,   1.9160,2,    19.02,2,   -999.0,9,  -999.00,9,-999.000,9,   2363.8,2,   -999.0,9,     7.47,2,  27856,  -999.0,-999.0000,-999.000,-999.000,  1.4466,-999.000
   31DSCGC91_2,  P16N,    48,  1,   6508,      6,4,19910323,1556, 41.9977,-151.9868, 5117,   2750.2,   1.6429,  34.6472,2,  34.6460,2,     94.3,2,   176.23,2,    39.78,2,     0.00,2,     2.77,2,    0.014,3,    0.008,3, -999.000,9,   1.9150,2,    18.91,2,   -999.0,9,  -999.00,9,-999.000,9,   -999.0,9,   -999.0,9,     7.47,2,  27856,  -999.0,-999.0000,-999.000,-999.000,  1.4466,-999.000
   31DSCGC91_2,  P16N,    48,  1,   6506,   1012,2,19910323,1556, 41.9977,-151.9868, 5117,   3503.2,   1.4948,  34.6742,2,  34.6740,2,    127.7,2,   171.44,2,    37.44,2,     0.00,2,     2.60,2,    0.000,2,    0.000,2, -999.000,9,   1.9070,2,    16.98,2,   -999.0,9,  -999.00,9,-999.000,9,   2344.1,2,   -999.0,9,     7.54,2,  35361,  -999.0,-999.0000,-999.000,-999.000,  1.2285,-999.000
   31DSCGC91_2,  P16N,    48,  1,   6504,   1038,2,19910323,1556, 41.9977,-151.9868, 5117,   4007.1,   1.4878,  34.6824,2,  34.6820,2,    137.3,2,   172.91,2,    36.75,2,     0.00,2,     2.54,2,   -0.006,3,    0.000,2, -999.000,9,   1.9130,2,    16.47,2,   -999.0,9,  -999.00,9,-999.000,9,   2338.8,2,   -999.0,9,     7.56,2,  40384,  -999.0,-999.0000,-999.000,-999.000,  1.1685,-999.000
   31DSCGC91_2,  P16N,    48,  1,   6505,   1007,4,19910323,1556, 41.9977,-151.9868, 5117,   4007.1,   1.4878,  34.6824,2,  34.6820,2,    137.7,2,   172.91,2,    37.04,2,     0.00,2,     2.55,2,    0.004,2,    0.000,2, -999.000,9,   1.9090,2,    16.50,2,   -999.0,9,  -999.00,9,-999.000,9,   -999.0,9,   -999.0,9,     7.56,2,  40384,  -999.0,-999.0000,-999.000,-999.000,  1.1685,-999.000
   31DSCGC91_2,  P16N,    48,  1,   6503,   1029,2,19910323,1556, 41.9977,-151.9868, 5117,   4515.1,   1.5188,  34.6865,2,  34.6860,2,    141.7,2,   174.37,2,    36.56,2,     0.00,2,     2.54,2,    0.007,3,    0.000,2, -999.000,9,   1.9090,2,    16.54,2,   -999.0,9,  -999.00,9,-999.000,9,   2337.0,2,   -999.0,9,     7.57,2,  45452,  -999.0,-999.0000,-999.000,-999.000,  1.1415,-999.000
   31DSCGC91_2,  P16N,    48,  1,   6502,   1028,2,19910323,1556, 41.9977,-151.9868, 5117,   4756.3,   1.5459,  34.6871,2,  34.6860,2,    142.1,2,   175.64,2,    36.75,2,     0.00,2,     2.53,2,   -0.001,2,    0.000,2, -999.000,9,   1.9090,2,    16.25,2,   -999.0,9,  -999.00,9,-999.000,9,   2337.7,2,   -999.0,9,     7.57,2,  47861,  -999.0,-999.0000,-999.000,-999.000,  1.1393,-999.000
   31DSCGC91_2,  P16N,    48,  1,   6501,   1017,2,19910323,1556, 41.9977,-151.9868, 5117,   5142.6,   1.5929,  34.6869,2,  34.6900,2,    141.7,2,   175.54,2,    36.85,2,     0.00,2,     2.53,2,    0.002,2,    0.000,2, -999.000,9,   1.9070,2,    16.49,2,   -999.0,9,  -999.00,9,-999.000,9,   2337.5,2,   -999.0,9,     7.57,2,  51722,  -999.0,-999.0000,-999.000,-999.000,  1.1379,-999.000
   31DSCGC91_2,  P16N,    48,  4,   6621,   1004,2,19910324,0931, 41.9925,-151.9853, 5139,      7.9,  10.0415,  33.2284,2,  33.2290,2,   -999.0,9,     6.56,2,     4.01,2,     0.10,2,     0.56,2, -999.000,9, -999.000,9, -999.000,9,-999.0000,9,  -999.00,9,   -999.0,9,  -999.00,9,-999.000,9,   -999.0,9,   -999.0,9,     7.91,2,    432,  -999.0,-999.0000,-999.000,-999.000, 10.0406,-999.000
   31DSCGC91_2,  P16N,    48,  4,   6622,   1026,2,19910324,0931, 41.9925,-151.9853, 5139,      8.1,  10.0475,  33.2309,2,  33.2310,2,    287.8,2,     6.56,2,     4.01,2,     0.10,2,     0.56,2,    3.926,2,    1.954,2, -999.000,9,-999.0000,9,  -999.00,9,     59.1,2,     1.54,2,-999.000,9,   2007.7,2,   -999.0,9,     7.91,2,    434,     6.8,-999.0000,-999.000,-999.000, 10.0466,-999.000
   31DSCGC91_2,  P16N,    48,  4,   6623,   1016,2,19910324,0931, 41.9925,-151.9853, 5139,      8.4,  10.0435,  33.2294,2,  33.2320,2,   -999.0,9,     6.56,2,     3.91,2,     0.10,2,     0.56,2, -999.000,9, -999.000,9, -999.000,9,-999.0000,9,  -999.00,9,   -999.0,9,  -999.00,9,-999.000,9,   -999.0,9,   -999.0,9,  -999.00,9,    437,  -999.0,-999.0000,-999.000,-999.000, 10.0426,-999.000
   31DSCGC91_2,  P16N,    48,  4,   6624,   1027,2,19910324,0931, 41.9925,-151.9853, 5139,      8.4,  10.0435,  33.2294,2,  33.2320,2,   -999.0,9,  -999.00,9,  -999.00,9,  -999.00,9,  -999.00,9, -999.000,9, -999.000,9, -999.000,9,-999.0000,9,  -999.00,9,   -999.0,9,  -999.00,9,-999.000,9,   -999.0,9,   -999.0,9,     7.91,2,    437,  -999.0,-999.0000,-999.000,-999.000, 10.0426,-999.000
   31DSCGC91_2,  P16N,    48,  4,   6620,   1025,4,19910324,0931, 41.9925,-151.9853, 5139,     22.7,  10.0315,  33.2239,2,  33.2260,2,   -999.0,9,     6.75,2,     4.11,2,     0.11,2,     0.57,2, -999.000,9, -999.000,9, -999.000,9,-999.0000,9,  -999.00,9,   -999.0,9,  -999.00,9,-999.000,9,   -999.0,9,   -999.0,9,     7.91,2,    581,  -999.0,-999.0000,-999.000,-999.000, 10.0289,-999.000
   31DSCGC91_2,  P16N,    48,  4,   6619,   1031,2,19910324,0931, 41.9925,-151.9853, 5139,     60.7,   9.7994,  33.1967,2,  33.1930,2,    287.4,2,     7.63,2,     4.70,2,     0.11,2,     0.62,2,    3.920,2,    2.003,2, -999.000,9,-999.0000,9,  -999.00,9,   -999.0,9,  -999.00,9,-999.000,9,   2008.6,2,   -999.0,9,     7.90,2,    963,  -999.0,-999.0000,-999.000,-999.000,  9.7927,-999.000
   31DSCGC91_2,  P16N,    48,  4,   6618,   1036,2,19910324,0931, 41.9925,-151.9853, 5139,     82.2,   9.4633,  33.2809,2,  33.2690,2,   -999.0,9,    10.18,2,     6.75,2,     0.22,2,     0.75,2, -999.000,9, -999.000,9, -999.000,9,-999.0000,9,  -999.00,9,   -999.0,9,  -999.00,9,-999.000,9,   -999.0,9,   -999.0,9,  -999.00,9,   1179,  -999.0,-999.0000,-999.000,-999.000,  9.4544,-999.000
   31DSCGC91_2,  P16N,    48,  4,   6617,     26,2,19910324,0931, 41.9925,-151.9853, 5139,    103.2,   9.0022,  33.7468,2,  33.7080,2,    259.4,2,    15.55,2,    11.74,2,     0.04,2,     0.97,2,    3.926,2,    1.936,2, -999.000,9,-999.0000,9,  -999.00,9,     58.7,2,     1.00,2,-999.000,9,   2061.9,2,   -999.0,9,     7.82,2,   1390,     8.0,-999.0000,-999.000,-999.000,  8.9912,-999.000
   31DSCGC91_2,  P16N,    48,  4,   6616,   1037,2,19910324,0931, 41.9925,-151.9853, 5139,    127.8,   8.9082,  33.8112,2,  33.8110,2,    258.9,2,    17.31,2,    12.42,2,     0.02,2,     0.99,2,    3.887,2,    1.951,2, -999.000,9,-999.0000,9,  -999.00,9,     53.3,6,     1.01,2,-999.000,9,   2067.7,2,   -999.0,9,     7.82,2,   1637,     5.6,-999.0000,-999.000,-999.000,  8.8946,-999.000
   31DSCGC91_2,  P16N,    48,  4,   6615,   1032,2,19910324,0931, 41.9925,-151.9853, 5139,    151.0,   8.6871,  33.8658,2,  33.8640,2,    253.3,2,    19.76,2,    14.08,2,     0.01,2,     1.09,2,    3.840,2,    1.893,2, -999.000,9,-999.0000,9,  -999.00,9,     41.3,2,     0.79,2,-999.000,9,   2078.7,2,   -999.0,9,     7.80,2,   1870,     6.4,-999.0000,-999.000,-999.000,  8.6713,-999.000
   31DSCGC91_2,  P16N,    48,  4,   6614,   1011,2,19910324,0931, 41.9925,-151.9853, 5139,    175.9,   8.8191,  34.0226,2,  34.0040,2,    226.3,2,    23.08,2,    17.02,2,     0.01,2,     1.24,2,    3.387,2,    1.687,2, -999.000,9,-999.0000,9,  -999.00,9,   -999.0,9,  -999.00,9,-999.000,9,   2103.1,2,   -999.0,9,     7.77,2,   2121,  -999.0,-999.0000,-999.000,-999.000,  8.8005,-999.000
   31DSCGC91_2,  P16N,    48,  4,   6613,   1033,2,19910324,0931, 41.9925,-151.9853, 5139,    202.5,   8.4780,  34.0141,2,  34.0130,2,    224.1,2,    24.64,2,    17.90,2,     0.01,2,     1.28,2,    3.337,2,    1.582,2, -999.000,9,-999.0000,9,  -999.00,9,     56.3,2,     0.69,2,-999.000,9,   2107.7,2,   -999.0,9,     7.76,2,   2388,     4.2,-999.0000,-999.000,-999.000,  8.4571,-999.000
   31DSCGC91_2,  P16N,    48,  4,   6612,   1019,2,19910324,0931, 41.9925,-151.9853, 5139,    250.7,   7.8808,  33.9820,2,  33.9840,2,    222.3,2,    27.68,2,    19.07,2,     0.00,2,     1.37,2,    3.224,2,    1.534,2, -999.000,9,-999.0000,9,  -999.00,9,     21.2,2,     0.42,2,-999.000,9,   2117.7,2,   -999.0,9,     7.74,2,   2872,    10.4,-999.0000,-999.000,-999.000,  7.8560,-999.000
   31DSCGC91_2,  P16N,    48,  4,   6611,   1041,2,19910324,0931, 41.9925,-151.9853, 5139,    298.9,   7.2436,  33.9645,2,  33.9680,2,    207.5,2,    34.23,2,    21.91,2,     0.00,2,     1.55,2,    3.000,2,    1.391,2, -999.000,9,-999.0000,9,  -999.00,9,     16.0,2,     0.40,2,-999.000,9,   2139.0,2,   -999.0,9,     7.69,2,   3356,     5.7,-999.0000,-999.000,-999.000,  7.2154,-999.000
   31DSCGC91_2,  P16N,    48,  4,   6610,   1002,2,19910324,0931, 41.9925,-151.9853, 5139,    350.3,   6.4024,  33.9296,2,  33.9300,2,    187.0,2,    43.32,2,    25.43,2,     0.00,2,     1.81,2,    2.673,2,    1.254,2, -999.000,9,-999.0000,9,  -999.00,9,     -3.5,2,     0.15,2,-999.000,9,   2166.8,2,   -999.0,9,  -999.00,9,   3872,     5.9,-999.0000,-999.000,-999.000,  6.3714,-999.000
   31DSCGC91_2,  P16N,    48,  4,   6608,      6,2,19910324,0931, 41.9925,-151.9853, 5139,    449.0,   5.4891,  33.9355,2,  33.9310,2,    140.9,2,    59.85,2,    31.20,2,     0.00,2,     2.21,2,    1.950,2,    0.879,2, -999.000,9,-999.0000,9,  -999.00,9,    -36.0,2,    -0.09,2,-999.000,9,   2215.0,2,   -999.0,9,     7.52,2,   4863,     3.9,-999.0000,-999.000,-999.000,  5.4522,-999.000
   31DSCGC91_2,  P16N,    48,  4,   6607,   1013,2,19910324,0931, 41.9925,-151.9853, 5139,    501.6,   5.0309,  33.9677,2,  33.9600,2,    110.5,2,    71.88,2,    34.62,2,     0.00,2,     2.45,2,    1.362,2,    0.632,2, -999.000,9,-999.0000,9,  -999.00,9,   -999.0,9,  -999.00,9,-999.000,9,   2245.0,2,   -999.0,9,     7.46,2,   5390,  -999.0,-999.0000,-999.000,-999.000,  4.9913,-999.000
   31DSCGC91_2,  P16N,    48,  4,   6606,   1012,2,19910324,0931, 41.9925,-151.9853, 5139,    552.4,   4.7729,  33.9924,2,  33.9910,2,     91.8,2,    80.29,2,    36.87,2,     0.00,2,     2.60,2,    1.044,2,    0.461,2, -999.000,9,-999.0000,9,  -999.00,9,    -93.1,2,    -0.24,2,-999.000,9,   2264.7,2,   -999.0,9,     7.42,2,   5900,     3.3,-999.0000,-999.000,-999.000,  4.7301,-999.000
   31DSCGC91_2,  P16N,    48,  4,   6605,   1007,2,19910324,0931, 41.9925,-151.9853, 5139,    599.7,   4.5398,  34.0408,2,  34.0320,2,     77.0,2,    87.91,2,    38.14,2,     0.00,2,     2.72,2,    0.764,2,    0.359,2, -999.000,9,-999.0000,9,  -999.00,9,   -999.0,9,  -999.00,9,-999.000,9,   2281.4,2,   -999.0,9,     7.39,2,   6374,  -999.0,-999.0000,-999.000,-999.000,  4.4942,-999.000
   31DSCGC91_2,  P16N,    48,  4,   6604,   1038,2,19910324,0931, 41.9925,-151.9853, 5139,    648.8,   4.3127,  34.0879,2,  34.0890,2,     59.1,2,    97.39,2,    39.80,2,     0.00,2,     2.83,2,    0.484,6,    0.218,6, -999.000,9,-999.0000,9,  -999.00,9,   -131.2,2,    -0.29,2,-999.000,9,   2301.4,2,   -999.0,9,     7.36,2,   6865,     3.5,-999.0000,-999.000,-999.000,  4.2642,-999.000
   31DSCGC91_2,  P16N,    48,  4,   6603,   1029,2,19910324,0931, 41.9925,-151.9853, 5139,    690.7,   4.1557,  34.1252,2,  34.1210,2,     50.0,2,   102.77,2,    40.78,2,     0.00,2,     2.87,2,    0.345,2,    0.162,2, -999.000,9,-999.0000,9,  -999.00,9,   -999.0,9,  -999.00,9,-999.000,9,   2311.7,2,   -999.0,9,     7.34,2,   7285,  -999.0,-999.0000,-999.000,-999.000,  4.1046,-999.000
   31DSCGC91_2,  P16N,    48,  4,   6602,   1028,2,19910324,0931, 41.9925,-151.9853, 5139,    749.1,   3.9476,  34.1729,2,  34.1690,2,     39.1,2,   111.08,2,    41.46,2,     0.00,2,     2.95,2, -999.000,5, -999.000,5, -999.000,9,-999.0000,9,  -999.00,9,   -999.0,9,  -999.00,9,-999.000,9,   2332.5,2,   -999.0,9,  -999.00,9,   7870,  -999.0,-999.0000,-999.000,-999.000,  3.8931,-999.000
   31DSCGC91_2,  P16N,    48,  4,   6601,   1017,2,19910324,0931, 41.9925,-151.9853, 5139,    749.4,   3.9486,  34.1717,2,  34.1700,2,   -999.0,9,  -999.00,9,  -999.00,9,  -999.00,9,  -999.00,9,    0.200,2,    0.091,2, -999.000,9,-999.0000,9,  -999.00,9,   -999.0,9,  -999.00,9,-999.000,9,   -999.0,9,   -999.0,9,     7.42,3,   7874,  -999.0,-999.0000,-999.000,-999.000,  3.8940,-999.000