BOTTLE,20021108WHPSIOdm
EXPOCODE,SECT_ID,STNNBR,CASTNO,SAMPNO,BTLNBR,BTLNBR_FLAG_W,DATE,TIME,LATITUDE,LONGITUDE,DEPTH,CTDPRS,CTDTMP,CTDSAL,CTDSAL_FLAG_W,SALNTY,SALNTY_FLAG_W,OXYGEN,OXYGEN_FLAG_W,SILCAT,SILCAT_FLAG_W,NITRAT,NITRAT_FLAG_W,NITRIT,NITRIT_FLAG_W,PHSPHT,PHSPHT_FLAG_W,CFC-11,CFC-11_FLAG_W,CFC-12,CFC-12_FLAG_W,TRITUM,TRITUM_FLAG_W,HELIUM,HELIUM_FLAG_W,DELHE3,DELHE3_FLAG_W,DELC14,DELC14_FLAG_W,DELC13,DELC13_FLAG_W,NEON,NEON_FLAG_W,TCARBN,TCARBN_FLAG_W,ALKALI,ALKALI_FLAG_W,PH,PH_FLAG_W,CTDRAW,C14ERR,HELIER,DELHER,NEONER,THETA,TRITER
,,,,,,,,,,,,DBAR,ITS-90,PSS-78,,PSS-78,,UMOL/KG,,UMOL/KG,,UMOL/KG,,UMOL/KG,,UMOL/KG,,PMOL/KG,,PMOL/KG,,TU,,NMOL/KG,,PERCNT,,/MILLE,,/MILLE,,NMOL/KG,,UMOL/KG,,UMOL/KG,,,,DBAR,/MILLE,NMOL/KG,PERCNT,NMOL/KG,DEG C,TU
   31DSCGC91_2,  P16N,    40,  1,   5609,   1003,4,19910320,1058, 36.2952,-152.0453, 5629,      7.4,  14.3929,  33.8656,2,  33.8640,2,    254.4,2,     4.04,2,     0.11,2,     0.00,2,     0.19,2,    3.043,2,    1.563,2, -999.000,9,-999.0000,9,  -999.00,9,   -999.0,9,  -999.00,9,-999.000,9,   -999.0,9,   -999.0,9,  -999.00,9,    427,  -999.0,-999.0000,-999.000,-999.000, 14.3918,-999.000
   31DSCGC91_2,  P16N,    40,  1,   5607,   1013,4,19910320,1058, 36.2952,-152.0453, 5629,     52.9,  14.3058,  33.8850,2,  33.8840,2,    255.4,2,     4.47,2,     0.10,2,     0.00,2,     0.20,2,    3.051,2,    1.566,2, -999.000,9,-999.0000,9,  -999.00,9,   -999.0,9,  -999.00,9,-999.000,9,   -999.0,9,   -999.0,9,  -999.00,9,    884,  -999.0,-999.0000,-999.000,-999.000, 14.2982,-999.000
   31DSCGC91_2,  P16N,    40,  1,   5608,      6,4,19910320,1058, 36.2952,-152.0453, 5629,     52.9,  14.3058,  33.8850,2,  33.8840,2,    255.5,2,     4.06,2,     0.11,2,     0.00,2,     0.19,2,    3.038,2,    1.592,2, -999.000,9,-999.0000,9,  -999.00,9,   -999.0,9,  -999.00,9,-999.000,9,   -999.0,9,   -999.0,9,  -999.00,9,    884,  -999.0,-999.0000,-999.000,-999.000, 14.2982,-999.000
   31DSCGC91_2,  P16N,    40,  1,   5606,   1012,4,19910320,1058, 36.2952,-152.0453, 5629,    403.5,   7.9959,  34.0190,2,  34.0250,2,    191.7,2,    31.83,2,    21.63,2,     0.00,2,     1.52,2,    2.279,2,    1.118,2, -999.000,9,-999.0000,9,  -999.00,9,   -999.0,9,  -999.00,9,-999.000,9,   -999.0,9,   -999.0,9,  -999.00,9,   4406,  -999.0,-999.0000,-999.000,-999.000,  7.9551,-999.000
   31DSCGC91_2,  P16N,    40,  1,   5605,   1007,4,19910320,1058, 36.2952,-152.0453, 5629,    601.4,   5.2370,  33.9956,2,  33.9960,2,     99.7,2,    72.86,2,    35.38,2,     0.00,2,     2.52,2,    0.704,2,    0.345,2, -999.000,9,-999.0000,9,  -999.00,9,   -999.0,9,  -999.00,9,-999.000,9,   -999.0,9,   -999.0,9,  -999.00,9,   6390,  -999.0,-999.0000,-999.000,-999.000,  5.1880,-999.000
   31DSCGC91_2,  P16N,    40,  1,   5604,   1038,4,19910320,1058, 36.2952,-152.0453, 5629,   2251.5,   1.8329,  34.6227,2,  34.6220,2,     75.2,2,   176.72,2,    41.04,2,     0.00,2,     2.88,2,    0.005,2,    0.000,2, -999.000,9,-999.0000,9,  -999.00,9,   -999.0,9,  -999.00,9,-999.000,9,   -999.0,9,   -999.0,9,  -999.00,9,  22883,  -999.0,-999.0000,-999.000,-999.000,  1.6778,-999.000
   31DSCGC91_2,  P16N,    40,  1,   5603,   1029,4,19910320,1058, 36.2952,-152.0453, 5629,   3502.0,   1.4928,  34.6757,2,  34.6750,2,    134.2,2,   166.03,2,    37.06,2,     0.00,2,     2.57,2,    0.016,3,    0.000,2, -999.000,9,-999.0000,9,  -999.00,9,   -999.0,9,  -999.00,9,-999.000,9,   -999.0,9,   -999.0,9,  -999.00,9,  35349,  -999.0,-999.0000,-999.000,-999.000,  1.2267,-999.000
   31DSCGC91_2,  P16N,    40,  1,   5602,   1028,4,19910320,1058, 36.2952,-152.0453, 5629,   4759.2,   1.5148,  34.6882,2,  34.6880,2,    152.9,2,   158.35,2,    35.96,2,     0.00,2,     2.49,2,    0.004,2,    0.000,2, -999.000,9,-999.0000,9,  -999.00,9,   -999.0,9,  -999.00,9,-999.000,9,   -999.0,9,   -999.0,9,  -999.00,9,  47890,  -999.0,-999.0000,-999.000,-999.000,  1.1090,-999.000
   31DSCGC91_2,  P16N,    41,  3,   5724,   1027,2,19910321,0715, 37.1833,-151.9670, 5572,    450.7,   7.5167,  34.0132,2,  34.0130,2,    188.3,2,    36.16,2,    22.84,2,     0.00,2,     1.60,2,    2.363,2,    1.126,2, -999.000,9,-999.0000,9,  -999.00,9,   -999.0,9,  -999.00,9,-999.000,9,   2148.5,2,   -999.0,9,     7.68,2,   4880,  -999.0,-999.0000,-999.000,-999.000,  7.4727,-999.000
   31DSCGC91_2,  P16N,    41,  3,   5723,   1016,2,19910321,0715, 37.1833,-151.9670, 5572,    499.4,   6.9185,  33.9971,2,  33.9960,2,    167.6,2,    44.20,2,    25.84,2,     0.00,2,     1.82,2,    1.923,2,    0.909,2,    2.084,2,   1.8110,2,    11.99,2,     -4.8,2,     0.14,2,   7.693,2,   2172.3,2,   -999.0,9,     7.62,2,   5368,     8.7,  0.0090,   0.150,   0.041,  6.8718,   0.067
   31DSCGC91_2,  P16N,    41,  3,   5722,   1026,2,19910321,0715, 37.1833,-151.9670, 5572,    548.9,   6.1403,  33.9833,2,  33.9830,2,    138.4,2,    56.01,2,    30.02,2,     0.00,2,     2.10,2,    1.408,2,    0.659,2, -999.000,9,-999.0000,9,  -999.00,9,   -999.0,9,  -999.00,9,-999.000,9,   2206.0,2,   -999.0,9,     7.55,2,   5865,  -999.0,-999.0000,-999.000,-999.000,  6.0920,-999.000
   31DSCGC91_2,  P16N,    41,  3,   5721,   1004,2,19910321,0715, 37.1833,-151.9670, 5572,    599.9,   5.6661,  33.9878,2,  33.9890,2,    118.4,2,    65.29,2,    32.56,2,     0.00,2,     2.31,2,    1.072,2,    0.478,2,    1.515,2,   1.8200,2,    17.13,2,    -69.5,2,    -0.34,2,   7.757,2,   2228.8,2,   -999.0,9,     7.50,2,   6375,     8.8,  0.0090,   0.150,   0.041,  5.6153,   0.005
   31DSCGC91_2,  P16N,    41,  3,   5720,   1025,2,19910321,0715, 37.1833,-151.9670, 5572,    649.5,   5.1400,  34.0037,2,  34.0040,2,     97.1,2,    74.98,2,    35.37,2,     0.00,2,     2.51,2,    0.748,2,    0.347,2, -999.000,9,-999.0000,9,  -999.00,9,   -999.0,9,  -999.00,9,-999.000,9,   2253.3,2,   -999.0,9,     7.45,2,   6873,  -999.0,-999.0000,-999.000,-999.000,  5.0873,-999.000
   31DSCGC91_2,  P16N,    41,  3,   5719,   1031,2,19910321,0715, 37.1833,-151.9670, 5572,    699.1,   4.7399,  34.0392,2,  34.0390,2,     77.8,2,    85.31,2,    37.25,2,     0.00,2,     2.67,2,    0.432,2,    0.208,2,    1.044,2,   1.8350,2,    18.14,2,   -116.7,2,    -4.79,4,   7.832,2,   2277.3,2,   -999.0,9,     7.40,2,   7370,     3.4,  0.0100,   0.150,   0.042,  4.6851,   0.004
   31DSCGC91_2,  P16N,    41,  3,   5718,   1036,2,19910321,0715, 37.1833,-151.9670, 5572,    797.6,   4.1107,  34.1233,2,  34.1240,2,     39.8,2,   104.92,2,    41.58,2,     0.00,2,     2.92,2,    0.099,2,    0.053,2,    0.464,2,   1.8410,2,    15.53,2,   -999.0,9,  -999.00,9,   7.867,2,   2321.1,2,   -999.0,9,     7.33,2,   8357,  -999.0,  0.0100,   0.150,   0.042,  4.0513,   0.003
   31DSCGC91_2,  P16N,    41,  3,   5717,     26,2,19910321,0715, 37.1833,-151.9670, 5572,    899.4,   3.7385,  34.2080,2,  34.2100,2,     21.0,2,   119.23,2,    42.93,2,     0.00,2,     3.06,2,    0.016,2,    0.013,2,    0.101,2,   1.8580,2,    13.19,2,   -176.7,2,  -999.00,5,   7.898,2,   2348.2,2,   -999.0,9,     7.29,2,   9377,     3.0,  0.0100,   0.150,   0.042,  3.6734,   0.002
   31DSCGC91_2,  P16N,    41,  3,   5716,   1037,2,19910321,0715, 37.1833,-151.9670, 5572,    998.1,   3.4474,  34.2756,2,  34.2750,2,     12.8,2,   131.01,2,    43.90,2,     0.00,2,     3.11,2,    0.006,2,    0.006,2,    0.022,2,   1.8420,2,    14.29,2,   -999.0,9,    -0.59,2,-999.000,9,   2365.4,2,   -999.0,9,     7.28,2,  10365,  -999.0,-999.0000,-999.000,-999.000,  3.3766,   0.002
   31DSCGC91_2,  P16N,    41,  3,   5715,   1032,2,19910321,0715, 37.1833,-151.9670, 5572,   1074.0,   3.2544,  34.3254,2,  34.3260,2,      9.9,2,   138.34,2,    44.40,2,     0.00,2,     3.14,2,    0.009,2,    0.000,2, -999.000,9,-999.0000,9,  -999.00,9,   -999.0,9,  -999.00,9,-999.000,9,   2373.9,2,   -999.0,9,     7.28,2,  11124,  -999.0,-999.0000,-999.000,-999.000,  3.1790,-999.000
   31DSCGC91_2,  P16N,    41,  3,   5714,   1011,2,19910321,0715, 37.1833,-151.9670, 5572,   1249.1,   2.9383,  34.4113,2,  34.4120,2,      7.9,2,   150.26,2,    44.30,2,     0.00,2,     3.15,2,   -0.004,2,    0.000,2,   -0.002,2,   1.8850,2,    16.41,2,   -999.0,9,  -999.00,9,-999.000,9,   2388.2,2,   -999.0,9,     7.29,2,  12876,  -999.0,-999.0000,-999.000,-999.000,  2.8518,   0.002
   31DSCGC91_2,  P16N,    41,  3,   5713,   1033,2,19910321,0715, 37.1833,-151.9670, 5572,   1496.9,   2.5972,  34.5039,2,  34.5030,2,     20.6,2,   160.18,2,    44.07,2,     0.00,2,     3.11,2,    0.005,2,    0.000,2, -999.000,9,   1.9030,2,    20.10,2,   -999.0,9,  -999.00,9,-999.000,9,   2393.8,2,   -999.0,9,     7.32,2,  15351,  -999.0,-999.0000,-999.000,-999.000,  2.4944,-999.000
   31DSCGC91_2,  P16N,    41,  3,   5712,   1019,2,19910321,0715, 37.1833,-151.9670, 5572,   1749.1,   2.2951,  34.5620,2,  34.5610,2,     40.9,2,   167.66,2,    42.73,2,     0.00,2,     3.03,2,   -0.006,3,    0.000,2, -999.000,9,   1.9100,2,    22.29,2,   -999.0,9,  -999.00,9,-999.000,9,   2389.2,2,   -999.0,9,     7.37,2,  17871,  -999.0,-999.0000,-999.000,-999.000,  2.1754,-999.000
   31DSCGC91_2,  P16N,    41,  3,   5711,   1041,2,19910321,0715, 37.1833,-151.9670, 5572,   2001.2,   2.0600,  34.5959,2,  34.5940,2,     57.3,2,   173.49,2,    41.39,2,     0.00,2,     2.96,2,    0.015,4,    0.000,2, -999.000,9,   1.9120,2,    23.07,2,   -999.0,9,  -999.00,9,-999.000,9,   2384.5,2,   -999.0,9,     7.40,2,  20387,  -999.0,-999.0000,-999.000,-999.000,  1.9227,-999.000
   31DSCGC91_2,  P16N,    41,  3,   5710,   1002,2,19910321,0715, 37.1833,-151.9670, 5572,   2251.9,   1.8650,  34.6216,2,  34.6190,2,     73.1,2,   176.61,2,    41.10,2,     0.00,2,     2.86,2,   -0.001,2,    0.000,2, -999.000,9,   1.9260,2,    22.60,2,   -999.0,9,  -999.00,9,-999.000,9,   2379.6,2,   -999.0,9,     7.43,2,  22888,  -999.0,-999.0000,-999.000,-999.000,  1.7092,-999.000
   31DSCGC91_2,  P16N,    41,  3,   5709,   1003,2,19910321,0715, 37.1833,-151.9670, 5572,   2501.3,   1.7299,  34.6361,2,  34.6350,2,     86.0,2,   176.14,2,    39.96,2,     0.00,2,     2.81,2,   -0.005,2,    0.000,2, -999.000,9,   1.9190,2,    20.15,2,   -999.0,9,  -999.00,9,-999.000,9,   2372.3,2,   -999.0,9,     7.46,2,  25375,  -999.0,-999.0000,-999.000,-999.000,  1.5546,-999.000
   31DSCGC91_2,  P16N,    41,  3,   5707,   1013,4,19910321,0715, 37.1833,-151.9670, 5572,   2752.2,   1.6219,  34.6514,2,  34.6500,2,    102.9,2,   172.89,2,    38.87,2,     0.00,2,     2.72,2,   -0.005,2,    0.000,2, -999.000,9,   1.9160,2,    18.86,2,   -999.0,9,  -999.00,9,-999.000,9,   -999.0,9,   -999.0,9,     7.49,2,  27876,  -999.0,-999.0000,-999.000,-999.000,  1.4258,-999.000
   31DSCGC91_2,  P16N,    41,  3,   5708,      6,2,19910321,0715, 37.1833,-151.9670, 5572,   2752.2,   1.6219,  34.6514,2,  34.6510,2,    101.6,2,   172.93,2,    39.08,2,     0.00,2,     2.72,2,   -0.001,2,    0.000,2, -999.000,9,   1.9090,2,    18.94,2,   -999.0,9,  -999.00,9,-999.000,9,   2360.1,2,   -999.0,9,     7.49,2,  27876,  -999.0,-999.0000,-999.000,-999.000,  1.4258,-999.000
   31DSCGC91_2,  P16N,    41,  3,   5706,   1012,2,19910321,0715, 37.1833,-151.9670, 5572,   3503.5,   1.4878,  34.6754,2,  34.6740,2,    132.5,2,   166.55,2,    37.14,2,     0.00,2,     2.56,2,    0.006,3,    0.000,2, -999.000,9,   1.9090,2,    16.57,2,   -999.0,9,  -999.00,9,-999.000,9,   2341.2,2,   -999.0,9,     7.55,2,  35364,  -999.0,-999.0000,-999.000,-999.000,  1.2216,-999.000
   31DSCGC91_2,  P16N,    41,  3,   5705,   1007,2,19910321,0715, 37.1833,-151.9670, 5572,   4007.6,   1.4778,  34.6830,2,  34.6820,2,    142.4,2,   165.04,2,    36.47,2,     0.00,2,     2.53,2,    0.004,2,    0.000,2, -999.000,9,   1.9030,2,    16.51,2,   -999.0,9,  -999.00,9,-999.000,9,   2336.3,2,   -999.0,9,     7.57,2,  40389,  -999.0,-999.0000,-999.000,-999.000,  1.1587,-999.000
   31DSCGC91_2,  P16N,    41,  3,   5704,   1038,2,19910321,0715, 37.1833,-151.9670, 5572,   4507.3,   1.5038,  34.6860,2,  34.6860,2,    146.3,2,   164.37,2,    36.18,2,     0.00,2,     2.49,2,    0.002,2,    0.000,2, -999.000,9,   1.9020,2,    15.75,2,   -999.0,9,  -999.00,9,-999.000,9,   2333.6,2,   -999.0,9,     7.58,2,  45375,  -999.0,-999.0000,-999.000,-999.000,  1.1278,-999.000
   31DSCGC91_2,  P16N,    41,  3,   5703,   1029,2,19910321,0715, 37.1833,-151.9670, 5572,   5008.2,   1.5439,  34.6868,2,  34.6880,2,    152.5,2,   158.49,2,    36.23,2,     0.00,2,     2.47,2,    0.001,2,    0.000,2, -999.000,9,   1.8930,2,    15.21,2,   -999.0,9,  -999.00,9,-999.000,9,   2329.0,2,   -999.0,9,     7.58,2,  50377,  -999.0,-999.0000,-999.000,-999.000,  1.1071,-999.000
   31DSCGC91_2,  P16N,    41,  3,   5702,   1028,2,19910321,0715, 37.1833,-151.9670, 5572,   5620.2,   1.6099,  34.6882,2,  34.6890,2,    155.4,2,   153.88,2,    35.55,2,     0.00,2,     2.44,2,    0.007,3,    0.000,2, -999.000,9,-999.0000,9,  -999.00,9,   -999.0,9,  -999.00,9,-999.000,9,   2326.8,2,   -999.0,9,     7.59,2,  56504,  -999.0,-999.0000,-999.000,-999.000,  1.0937,-999.000
   31DSCGC91_2,  P16N,    41,  4,   5820,   1025,2,19910321,1129, 37.1653,-151.9602, 5511,      8.6,  14.4329,  33.8834,2,  33.8830,2,    254.6,2,     4.39,2,     0.05,2,     0.00,2,     0.18,2,    3.041,2,    1.570,2, -999.000,9,-999.0000,9,  -999.00,9,   -999.0,9,  -999.00,9,-999.000,9,   1993.8,2,   -999.0,9,     7.97,2,    439,  -999.0,-999.0000,-999.000,-999.000, 14.4316,-999.000
   31DSCGC91_2,  P16N,    41,  4,   5822,   1026,9,19910321,1129, 37.1653,-151.9602, 5511,      8.6,  14.4329,-999.0000,9,-999.0000,9,   -999.0,9,  -999.00,9,  -999.00,9,  -999.00,9,  -999.00,9, -999.000,9, -999.000,9, -999.000,9,-999.0000,9,  -999.00,9,     92.0,6,     1.48,6,-999.000,9,   -999.0,9,   -999.0,9,  -999.00,9,    439,     3.3,-999.0000,-999.000,-999.000, 14.4316,-999.000
   31DSCGC91_2,  P16N,    41,  4,   5818,   1036,2,19910321,1129, 37.1653,-151.9602, 5511,     22.8,  14.4209,  33.8836,2,  33.8830,2,    254.9,2,     4.37,2,     0.05,2,     0.00,2,     0.18,2,    3.043,2,    1.547,2, -999.000,9,-999.0000,9,  -999.00,9,   -999.0,9,  -999.00,9,-999.000,9,   -999.0,9,   -999.0,9,     7.97,2,    582,  -999.0,-999.0000,-999.000,-999.000, 14.4176,-999.000
   31DSCGC91_2,  P16N,    41,  4,   5814,   1011,2,19910321,1129, 37.1653,-151.9602, 5511,     42.5,  14.3178,  33.8896,2,  33.8890,2,    254.4,2,     4.55,2,     0.05,2,     0.00,2,     0.19,2,    3.097,2,    1.632,2, -999.000,9,-999.0000,9,  -999.00,9,   -999.0,9,  -999.00,9,-999.000,9,   1994.2,2,   -999.0,9,     7.97,2,    780,  -999.0,-999.0000,-999.000,-999.000, 14.3117,-999.000
   31DSCGC91_2,  P16N,    41,  4,   5812,   1019,2,19910321,1129, 37.1653,-151.9602, 5511,     62.1,  13.9867,  33.8946,2,  33.8940,2,    257.9,2,     4.73,2,     0.05,2,     0.00,2,     0.20,2,    3.148,2,    1.599,2,    2.130,2,-999.0000,9,  -999.00,9,     99.8,2,     1.50,2,-999.000,9,   1995.1,2,   -999.0,9,     7.97,2,    976,     4.2,-999.0000,-999.000,-999.000, 13.9779,   0.006
   31DSCGC91_2,  P16N,    41,  4,   5810,   1002,2,19910321,1129, 37.1653,-151.9602, 5511,     81.2,  13.8647,  33.9119,2,  33.9040,2,    260.2,2,     4.91,2,     0.05,2,     0.00,2,     0.19,2,    3.173,2,    1.776,3, -999.000,9,-999.0000,9,  -999.00,9,   -999.0,9,  -999.00,9,-999.000,9,   1992.9,2,   -999.0,9,     7.97,2,   1169,  -999.0,-999.0000,-999.000,-999.000, 13.8532,-999.000
   31DSCGC91_2,  P16N,    41,  4,   5807,   1013,4,19910321,1129, 37.1653,-151.9602, 5511,    101.6,  14.0088,  34.0021,2,  34.0010,2,    255.5,2,     5.27,2,     0.04,2,     0.01,2,     0.19,2,    3.075,2,    1.573,2, -999.000,9,-999.0000,9,  -999.00,9,   -999.0,9,  -999.00,9,-999.000,9,   -999.0,9,   -999.0,9,     7.97,2,   1373,  -999.0,-999.0000,-999.000,-999.000, 13.9942,-999.000
   31DSCGC91_2,  P16N,    41,  4,   5808,      6,2,19910321,1129, 37.1653,-151.9602, 5511,    101.6,  14.0088,  34.0021,2,  34.0000,2,    254.5,2,     5.29,2,     0.04,2,     0.01,2,     0.19,2,    3.085,2,    1.586,2,    2.267,2,   1.7440,2,    -1.03,2,    100.7,2,     1.37,2,   7.150,2,   1997.0,2,   -999.0,9,     7.97,2,   1373,     5.7,  0.0090,   0.150,   0.038, 13.9942,   0.067
   31DSCGC91_2,  P16N,    41,  4,   5806,   1012,2,19910321,1129, 37.1653,-151.9602, 5511,    151.2,  11.8661,  33.9939,2,  33.9860,2,    240.8,2,     8.00,2,     6.05,2,     0.03,2,     0.57,2,    3.326,2,    1.680,2,    2.195,2,   1.7740,2,    -0.44,2,    100.9,2,     0.92,2,   7.398,2,   2038.2,2,   -999.0,9,     7.89,2,   1872,     6.9,  0.0090,   0.150,   0.039, 11.8468,   0.007
   31DSCGC91_2,  P16N,    41,  4,   5805,   1007,2,19910321,1129, 37.1653,-151.9602, 5511,    176.1,  11.3429,  34.0465,2,  34.0460,2,    229.5,2,    10.34,2,     9.63,2,     0.01,2,     0.76,2,    3.233,2,    1.625,2, -999.000,9,-999.0000,9,  -999.00,9,   -999.0,9,  -999.00,9,-999.000,9,   2058.2,2,   -999.0,9,     7.85,2,   2123,  -999.0,-999.0000,-999.000,-999.000, 11.3210,-999.000
   31DSCGC91_2,  P16N,    41,  4,   5804,   1038,2,19910321,1129, 37.1653,-151.9602, 5511,    250.3,  10.1335,  34.1230,2,  34.1260,2,    225.2,2,    16.40,2,    13.74,2,     0.01,2,     1.00,2,    3.004,2,    1.501,2,    2.142,2,   1.7860,2,     2.70,2,   -999.0,9,  -999.00,9,   7.475,2,   2083.1,2,   -999.0,9,     7.81,2,   2867,  -999.0,  0.0090,   0.150,   0.040, 10.1045,   0.067
   31DSCGC91_2,  P16N,    41,  4,   5803,   1029,2,19910321,1129, 37.1653,-151.9602, 5511,    306.0,   9.2453,  34.0653,2,  34.0690,2,    224.3,2,    20.50,2,    15.68,2,     0.01,2,     1.15,2,    2.971,2,    1.467,2,    2.163,2,   1.7820,2,     3.55,2,     62.2,2,     0.57,2,   7.484,2,   2097.8,2,   -999.0,9,     7.78,2,   3427,    10.2,  0.0090,   0.150,   0.040,  9.2117,   0.068
   31DSCGC91_2,  P16N,    41,  4,   5802,   1028,2,19910321,1129, 37.1653,-151.9602, 5511,    350.5,   8.6801,  34.0430,2,  34.0400,2,    213.6,2,    24.41,2,    17.83,2,     0.00,2,     1.28,2,    2.770,2,    1.360,2,    2.212,2,   1.7850,2,     5.91,2,     45.1,2,     0.49,2,   7.534,2,   2112.6,2,   -999.0,9,     7.75,2,   3874,    10.0,  0.0090,   0.150,   0.040,  8.6430,   0.064
   31DSCGC91_2,  P16N,    41,  4,   5801,   1017,2,19910321,1129, 37.1653,-151.9602, 5511,    395.7,   8.1459,  34.0297,2,  34.0290,2,    197.1,2,    30.08,2,    20.69,2,     0.00,2,     1.46,2,    2.454,2,    1.186,2,    2.189,2,   1.8210,2,     7.84,2,     17.3,2,     0.30,2,   7.677,2,   2132.2,2,   -999.0,9,     7.71,2,   4328,     5.7,  0.0090,   0.150,   0.041,  8.1055,   0.068