BOTTLE,20021108WHPSIOdm
EXPOCODE,SECT_ID,STNNBR,CASTNO,SAMPNO,BTLNBR,BTLNBR_FLAG_W,DATE,TIME,LATITUDE,LONGITUDE,DEPTH,CTDPRS,CTDTMP,CTDSAL,CTDSAL_FLAG_W,SALNTY,SALNTY_FLAG_W,OXYGEN,OXYGEN_FLAG_W,SILCAT,SILCAT_FLAG_W,NITRAT,NITRAT_FLAG_W,NITRIT,NITRIT_FLAG_W,PHSPHT,PHSPHT_FLAG_W,CFC-11,CFC-11_FLAG_W,CFC-12,CFC-12_FLAG_W,TRITUM,TRITUM_FLAG_W,HELIUM,HELIUM_FLAG_W,DELHE3,DELHE3_FLAG_W,DELC14,DELC14_FLAG_W,DELC13,DELC13_FLAG_W,NEON,NEON_FLAG_W,TCARBN,TCARBN_FLAG_W,ALKALI,ALKALI_FLAG_W,PH,PH_FLAG_W,CTDRAW,C14ERR,HELIER,DELHER,NEONER,THETA,TRITER
,,,,,,,,,,,,DBAR,ITS-90,PSS-78,,PSS-78,,UMOL/KG,,UMOL/KG,,UMOL/KG,,UMOL/KG,,UMOL/KG,,PMOL/KG,,PMOL/KG,,TU,,NMOL/KG,,PERCNT,,/MILLE,,/MILLE,,NMOL/KG,,UMOL/KG,,UMOL/KG,,,,DBAR,/MILLE,NMOL/KG,PERCNT,NMOL/KG,DEG C,TU
   31DSCGC91_2,  P16N,    18,  1,   2824,   1024,2,19910309,0411, 20.7075,-153.7665, 5064,     34.4,  23.7138,  34.9447,2,  34.9390,2,   -999.0,9,  -999.00,9,  -999.00,9,  -999.00,9,  -999.00,9, -999.000,9, -999.000,9, -999.000,9,-999.0000,9,  -999.00,9,   -999.0,9,  -999.00,9,-999.000,9,   -999.0,9,   -999.0,9,  -999.00,9,    698,  -999.0,-999.0000,-999.000,-999.000, 23.7066,-999.000
   31DSCGC91_2,  P16N,    18,  1,   2823,   1009,2,19910309,0411, 20.7075,-153.7665, 5064,    104.5,  22.9936,  35.1707,2,  35.1630,2,   -999.0,9,  -999.00,9,  -999.00,9,  -999.00,9,  -999.00,9, -999.000,9, -999.000,9, -999.000,9,-999.0000,9,  -999.00,9,   -999.0,9,  -999.00,9,-999.000,9,   -999.0,9,   -999.0,9,  -999.00,9,   1403,  -999.0,-999.0000,-999.000,-999.000, 22.9722,-999.000
   31DSCGC91_2,  P16N,    18,  1,   2822,   1003,2,19910309,0411, 20.7075,-153.7665, 5064,    491.6,   7.3497,  34.2009,2,  34.1800,2,   -999.0,9,  -999.00,9,  -999.00,9,  -999.00,9,  -999.00,9, -999.000,9, -999.000,9, -999.000,9,-999.0000,9,  -999.00,9,   -999.0,9,  -999.00,9,-999.000,9,   -999.0,9,   -999.0,9,  -999.00,9,   5290,  -999.0,-999.0000,-999.000,-999.000,  7.3019,-999.000
   31DSCGC91_2,  P16N,    18,  1,   2821,      6,2,19910309,0411, 20.7075,-153.7665, 5064,    996.7,   4.0977,  34.4872,2,  34.4870,2,   -999.0,9,  -999.00,9,  -999.00,9,  -999.00,9,  -999.00,9, -999.000,9, -999.000,9, -999.000,9,-999.0000,9,  -999.00,9,   -999.0,9,  -999.00,9,-999.000,9,   -999.0,9,   -999.0,9,  -999.00,9,  10351,  -999.0,-999.0000,-999.000,-999.000,  4.0215,-999.000
   31DSCGC91_2,  P16N,    18,  1,   2820,   1013,2,19910309,0411, 20.7075,-153.7665, 5064,   1500.4,   2.9153,  34.5791,2,  34.5750,2,   -999.0,9,  -999.00,9,  -999.00,9,  -999.00,9,  -999.00,9, -999.000,9, -999.000,9, -999.000,9,-999.0000,9,  -999.00,9,   -999.0,9,  -999.00,9,-999.000,9,   -999.0,9,   -999.0,9,  -999.00,9,  15386,  -999.0,-999.0000,-999.000,-999.000,  2.8084,-999.000
   31DSCGC91_2,  P16N,    18,  1,   2819,   1012,2,19910309,0411, 20.7075,-153.7665, 5064,   2001.8,   2.1500,  34.6222,2,  34.6200,2,   -999.0,9,  -999.00,9,  -999.00,9,  -999.00,9,  -999.00,9, -999.000,9, -999.000,9, -999.000,9,-999.0000,9,  -999.00,9,   -999.0,9,  -999.00,9,-999.000,9,   -999.0,9,   -999.0,9,  -999.00,9,  20393,  -999.0,-999.0000,-999.000,-999.000,  2.0112,-999.000
   31DSCGC91_2,  P16N,    18,  1,   2818,   1007,2,19910309,0411, 20.7075,-153.7665, 5064,   2501.6,   1.7599,  34.6495,2,  34.6490,2,   -999.0,9,  -999.00,9,  -999.00,9,  -999.00,9,  -999.00,9, -999.000,9, -999.000,9, -999.000,9,-999.0000,9,  -999.00,9,   -999.0,9,  -999.00,9,-999.000,9,   -999.0,9,   -999.0,9,  -999.00,9,  25378,  -999.0,-999.0000,-999.000,-999.000,  1.5840,-999.000
   31DSCGC91_2,  P16N,    18,  1,   2817,   1038,2,19910309,0411, 20.7075,-153.7665, 5064,   2985.6,   1.5689,  34.6662,2,  34.6650,2,   -999.0,9,  -999.00,9,  -999.00,9,  -999.00,9,  -999.00,9, -999.000,9, -999.000,9, -999.000,9,-999.0000,9,  -999.00,9,   -999.0,9,  -999.00,9,-999.000,9,   -999.0,9,   -999.0,9,  -999.00,9,  30202,  -999.0,-999.0000,-999.000,-999.000,  1.3519,-999.000
   31DSCGC91_2,  P16N,    18,  1,   2811,   1026,2,19910309,0411, 20.7075,-153.7665, 5064,   3602.1,   1.4628,  34.6808,2,  34.6780,2,   -999.0,9,  -999.00,9,  -999.00,9,  -999.00,9,  -999.00,9,    0.006,3,    0.000,2, -999.000,9,-999.0000,9,  -999.00,9,   -999.0,9,  -999.00,9,-999.000,9,   -999.0,9,   -999.0,9,  -999.00,9,  36346,  -999.0,-999.0000,-999.000,-999.000,  1.1871,-999.000
   31DSCGC91_2,  P16N,    18,  1,   2809,   1025,2,19910309,0411, 20.7075,-153.7665, 5064,   3604.4,   1.4618,  34.6809,2,  34.6840,3,   -999.0,9,  -999.00,9,  -999.00,9,  -999.00,9,  -999.00,9,    0.003,2,    0.003,2, -999.000,9,-999.0000,9,  -999.00,9,   -999.0,9,  -999.00,9,-999.000,9,   -999.0,9,   -999.0,9,  -999.00,9,  36369,  -999.0,-999.0000,-999.000,-999.000,  1.1859,-999.000
   31DSCGC91_2,  P16N,    18,  1,   2812,   1016,2,19910309,0411, 20.7075,-153.7665, 5064,   3607.1,   1.4618,  34.6809,2,  34.6780,2,   -999.0,9,  -999.00,9,  -999.00,9,  -999.00,9,  -999.00,9, -999.000,5, -999.000,5, -999.000,9,-999.0000,9,  -999.00,9,   -999.0,9,  -999.00,9,-999.000,9,   -999.0,9,   -999.0,9,  -999.00,9,  36396,  -999.0,-999.0000,-999.000,-999.000,  1.1856,-999.000
   31DSCGC91_2,  P16N,    18,  1,   2814,   1017,2,19910309,0411, 20.7075,-153.7665, 5064,   3608.7,   1.4628,  34.6804,2,  34.6790,2,   -999.0,9,  -999.00,9,  -999.00,9,  -999.00,9,  -999.00,9, -999.000,9, -999.000,9, -999.000,9,-999.0000,9,  -999.00,9,   -999.0,9,  -999.00,9,-999.000,9,   -999.0,9,   -999.0,9,  -999.00,9,  36412,  -999.0,-999.0000,-999.000,-999.000,  1.1864,-999.000
   31DSCGC91_2,  P16N,    18,  1,   2813,   1027,2,19910309,0411, 20.7075,-153.7665, 5064,   3609.0,   1.4618,  34.6813,2,  34.6790,2,   -999.0,9,  -999.00,9,  -999.00,9,  -999.00,9,  -999.00,9, -999.000,5, -999.000,5, -999.000,9,-999.0000,9,  -999.00,9,   -999.0,9,  -999.00,9,-999.000,9,   -999.0,9,   -999.0,9,  -999.00,9,  36415,  -999.0,-999.0000,-999.000,-999.000,  1.1854,-999.000
   31DSCGC91_2,  P16N,    18,  1,   2815,   1028,2,19910309,0411, 20.7075,-153.7665, 5064,   3613.9,   1.4618,  34.6816,2,  34.6790,2,   -999.0,9,  -999.00,9,  -999.00,9,  -999.00,9,  -999.00,9, -999.000,9, -999.000,9, -999.000,9,-999.0000,9,  -999.00,9,   -999.0,9,  -999.00,9,-999.000,9,   -999.0,9,   -999.0,9,  -999.00,9,  36464,  -999.0,-999.0000,-999.000,-999.000,  1.1849,-999.000
   31DSCGC91_2,  P16N,    18,  1,   2816,   1029,4,19910309,0411, 20.7075,-153.7665, 5064,   3613.9,   1.4618,  34.6816,2,  34.6790,2,   -999.0,9,  -999.00,9,  -999.00,9,  -999.00,9,  -999.00,9, -999.000,9, -999.000,9, -999.000,9,-999.0000,9,  -999.00,9,   -999.0,9,  -999.00,9,-999.000,9,   -999.0,9,   -999.0,9,  -999.00,9,  36464,  -999.0,-999.0000,-999.000,-999.000,  1.1849,-999.000
   31DSCGC91_2,  P16N,    18,  1,   2810,   1004,2,19910309,0411, 20.7075,-153.7665, 5064,   3617.0,   1.4618,  34.6815,2,  34.6790,2,   -999.0,9,  -999.00,9,  -999.00,9,  -999.00,9,  -999.00,9,    0.001,2,    0.005,2, -999.000,9,-999.0000,9,  -999.00,9,   -999.0,9,  -999.00,9,-999.000,9,   -999.0,9,   -999.0,9,  -999.00,9,  36495,  -999.0,-999.0000,-999.000,-999.000,  1.1846,-999.000
   31DSCGC91_2,  P16N,    18,  1,   2808,   1031,2,19910309,0411, 20.7075,-153.7665, 5064,   4001.7,   1.4428,  34.6859,2,  34.6880,2,   -999.0,9,  -999.00,9,  -999.00,9,  -999.00,9,  -999.00,9,   -0.001,2,    0.000,2, -999.000,9,-999.0000,9,  -999.00,9,   -999.0,9,  -999.00,9,-999.000,9,   -999.0,9,   -999.0,9,  -999.00,9,  40330,  -999.0,-999.0000,-999.000,-999.000,  1.1253,-999.000
   31DSCGC91_2,  P16N,    18,  1,   2807,   1036,4,19910309,0411, 20.7075,-153.7665, 5064,   4516.6,   1.4568,  34.6904,2,  34.6920,2,   -999.0,9,  -999.00,9,  -999.00,9,  -999.00,9,  -999.00,9, -999.000,5, -999.000,5, -999.000,9,-999.0000,9,  -999.00,9,   -999.0,9,  -999.00,9,-999.000,9,   -999.0,9,   -999.0,9,  -999.00,9,  45467,  -999.0,-999.0000,-999.000,-999.000,  1.0812,-999.000
   31DSCGC91_2,  P16N,    18,  1,   2801,   1019,2,19910309,0411, 20.7075,-153.7665, 5064,   5079.2,   1.4598,  34.6943,2,  34.6920,2,   -999.0,9,  -999.00,9,  -999.00,9,  -999.00,9,  -999.00,9, -999.000,5, -999.000,5, -999.000,9,-999.0000,9,  -999.00,9,   -999.0,9,  -999.00,9,-999.000,9,   -999.0,9,   -999.0,9,  -999.00,9,  51087,  -999.0,-999.0000,-999.000,-999.000,  1.0172,-999.000
   31DSCGC91_2,  P16N,    19,  1,   2924,   1027,2,19910310,0521, 21.6133,-152.4373, 5339,      7.3,  22.8645,  35.0539,2,  35.0550,2,    217.5,2,     2.71,2,     0.00,2,     0.00,2,     0.11,2,    1.950,2,    1.001,2, -999.000,9,-999.0000,9,  -999.00,9,   -999.0,9,  -999.00,9,-999.000,9,   1973.5,2,   -999.0,9,  -999.00,9,    425,  -999.0,-999.0000,-999.000,-999.000, 22.8630,-999.000
   31DSCGC91_2,  P16N,    19,  1,   2923,   1016,2,19910310,0521, 21.6133,-152.4373, 5339,     27.2,  22.8655,  35.0534,2,  35.0540,2,    218.4,2,     2.70,2,     0.00,2,     0.00,2,     0.10,2,    2.151,2,    1.091,2, -999.000,9,-999.0000,9,  -999.00,9,   -999.0,9,  -999.00,9,-999.000,9,   1970.8,2,   -999.0,9,  -999.00,9,    626,  -999.0,-999.0000,-999.000,-999.000, 22.8600,-999.000
   31DSCGC91_2,  P16N,    19,  1,   2922,   1026,2,19910310,0521, 21.6133,-152.4373, 5339,     50.9,  22.8435,  35.0561,2,  35.0550,2,    216.9,2,     2.50,2,     0.00,2,     0.00,2,     0.10,2,    2.194,2,    1.093,2, -999.000,9,-999.0000,9,  -999.00,9,   -999.0,9,  -999.00,9,-999.000,9,   1973.4,2,   -999.0,9,  -999.00,9,    864,  -999.0,-999.0000,-999.000,-999.000, 22.8332,-999.000
   31DSCGC91_2,  P16N,    19,  1,   2920,   1025,4,19910310,0521, 21.6133,-152.4373, 5339,     67.2,  22.8395,  35.0562,2,  35.0550,2,    215.6,2,     2.49,2,     0.00,2,     0.00,2,     0.10,2,    2.079,2,    1.083,2, -999.000,9,-999.0000,9,  -999.00,9,   -999.0,9,  -999.00,9,-999.000,9,   -999.0,9,   -999.0,9,  -999.00,9,   1028,  -999.0,-999.0000,-999.000,-999.000, 22.8259,-999.000
   31DSCGC91_2,  P16N,    19,  1,   2921,   1004,2,19910310,0521, 21.6133,-152.4373, 5339,     67.2,  22.8395,  35.0562,2,  35.0550,2,    216.0,2,     2.49,2,     0.00,2,     0.00,2,     0.10,2,    2.098,2,    1.100,2, -999.000,9,-999.0000,9,  -999.00,9,   -999.0,9,  -999.00,9,-999.000,9,   1974.8,2,   -999.0,9,  -999.00,9,   1028,  -999.0,-999.0000,-999.000,-999.000, 22.8259,-999.000
   31DSCGC91_2,  P16N,    19,  1,   2919,   1031,2,19910310,0521, 21.6133,-152.4373, 5339,    151.7,  19.3704,  35.1254,2,  35.1280,2,    197.9,2,     3.07,2,     1.60,2,     0.04,2,     0.22,2,    2.243,2,    1.173,2, -999.000,9,-999.0000,9,  -999.00,9,   -999.0,9,  -999.00,9,-999.000,9,   2033.0,2,   -999.0,9,  -999.00,9,   1877,  -999.0,-999.0000,-999.000,-999.000, 19.3430,-999.000
   31DSCGC91_2,  P16N,    19,  1,   2918,   1036,2,19910310,0521, 21.6133,-152.4373, 5339,    201.0,  17.9940,  34.9883,2,  35.0190,3,    205.7,2,     3.65,2,     1.86,2,     0.02,2,     0.22,2,    2.390,2,    1.229,2, -999.000,9,-999.0000,9,  -999.00,9,   -999.0,9,  -999.00,9,-999.000,9,   2030.6,2,   -999.0,9,  -999.00,9,   2373,  -999.0,-999.0000,-999.000,-999.000, 17.9595,-999.000
   31DSCGC91_2,  P16N,    19,  1,   2917,     26,2,19910310,0521, 21.6133,-152.4373, 5339,    302.9,  11.2119,  34.1810,2,  34.1870,2,    204.1,2,    13.86,2,    12.72,2,     0.00,2,     0.94,2,    2.410,6,    1.199,6, -999.000,9,-999.0000,9,  -999.00,9,   -999.0,9,  -999.00,9,-999.000,9,   -999.0,9,   -999.0,9,  -999.00,9,   3396,  -999.0,-999.0000,-999.000,-999.000, 11.1742,-999.000
   31DSCGC91_2,  P16N,    19,  1,   2916,   1037,2,19910310,0521, 21.6133,-152.4373, 5339,    399.7,   8.4660,  34.0673,2,  34.0720,2,    175.0,2,    30.94,2,    21.59,2,     0.00,2,     1.54,2,    1.699,2,    2.213,4, -999.000,9,-999.0000,9,  -999.00,9,   -999.0,9,  -999.00,9,-999.000,9,   2135.2,2,   -999.0,9,  -999.00,9,   4368,  -999.0,-999.0000,-999.000,-999.000,  8.4242,-999.000
   31DSCGC91_2,  P16N,    19,  1,   2915,   1032,2,19910310,0521, 21.6133,-152.4373, 5339,    501.9,   6.2853,  34.0344,2,  34.0330,2,    100.4,2,    59.93,2,    32.97,2,     0.00,2,     2.34,2,    0.458,2,    0.242,2, -999.000,9,-999.0000,9,  -999.00,9,   -999.0,9,  -999.00,9,-999.000,9,   2226.3,2,   -999.0,9,  -999.00,9,   5393,  -999.0,-999.0000,-999.000,-999.000,  6.2408,-999.000
   31DSCGC91_2,  P16N,    19,  1,   2914,   1040,2,19910310,0521, 21.6133,-152.4373, 5339,    700.4,   4.7629,  34.2763,2,  34.2770,2,     26.8,2,    99.78,2,    41.82,2,     0.00,2,     3.00,2,    0.273,4,    0.000,2, -999.000,9,-999.0000,9,  -999.00,9,   -999.0,9,  -999.00,9,-999.000,9,   2318.8,2,   -999.0,9,  -999.00,9,   7383,  -999.0,-999.0000,-999.000,-999.000,  4.7076,-999.000
   31DSCGC91_2,  P16N,    19,  1,   2913,   1033,2,19910310,0521, 21.6133,-152.4373, 5339,    900.1,   4.2097,  34.4698,2,  34.4700,2,     38.7,2,   109.82,2,    42.12,2,     0.00,2,     3.00,2,    0.003,2,    0.000,2,    0.003,2,   1.8510,2,    20.79,2,   -999.0,9,  -999.00,9,   7.826,2,   2333.9,2,   -999.0,9,  -999.00,9,   9384,  -999.0,  0.0100,   0.150,   0.041,  4.1408,   0.047
   31DSCGC91_2,  P16N,    19,  1,   2912,   1019,2,19910310,0521, 21.6133,-152.4373, 5339,   1149.7,   3.5575,  34.5302,2,  34.5310,2,     50.9,2,   123.57,2,    41.91,2,     0.00,2,     2.98,2,    0.010,3,    0.000,2, -999.000,9,   1.8960,2,    24.10,2,   -999.0,9,  -999.00,9,-999.000,9,   2346.5,2,   -999.0,9,  -999.00,9,  11881,  -999.0,-999.0000,-999.000,-999.000,  3.4731,-999.000
   31DSCGC91_2,  P16N,    19,  1,   2911,   1024,2,19910310,0521, 21.6133,-152.4373, 5339,   1400.2,   2.9933,  34.5674,2,  34.5660,2,     62.2,2,   136.41,2,    41.55,2,     0.00,2,     2.95,2,    0.081,4,    0.008,3, -999.000,9,   1.9100,2,    22.61,2,   -999.0,9,  -999.00,9,-999.000,9,   2353.1,2,   -999.0,9,  -999.00,9,  14386,  -999.0,-999.0000,-999.000,-999.000,  2.8938,-999.000
   31DSCGC91_2,  P16N,    19,  1,   2910,   1009,2,19910310,0521, 21.6133,-152.4373, 5339,   1699.4,   2.4561,  34.6008,2,  34.5980,2,     78.0,2,   148.32,2,    40.74,2,     0.00,2,     2.87,2,    0.054,4,    0.005,2, -999.000,9,-999.0000,9,  -999.00,9,   -999.0,9,  -999.00,9,-999.000,9,   -999.0,9,   -999.0,9,  -999.00,9,  17375,  -999.0,-999.0000,-999.000,-999.000,  2.3383,-999.000
   31DSCGC91_2,  P16N,    19,  1,   2909,   1003,2,19910310,0521, 21.6133,-152.4373, 5339,   2001.5,   2.0990,  34.6240,2,  34.6240,2,     90.8,2,   156.36,2,    39.92,2,     0.00,2,     2.77,2,    0.003,2,    0.000,2, -999.000,9,   1.9180,2,    22.33,2,   -999.0,9,  -999.00,9,-999.000,9,   2353.7,2,   -999.0,9,  -999.00,9,  20390,  -999.0,-999.0000,-999.000,-999.000,  1.9610,-999.000
   31DSCGC91_2,  P16N,    19,  1,   2908,      6,2,19910310,0521, 21.6133,-152.4373, 5339,   2500.9,   1.7569,  34.6505,2,  34.6500,2,    108.2,2,   163.61,2,    39.00,2,     0.00,2,     2.70,2,    0.001,2,    0.000,2, -999.000,9,   1.9130,2,    21.46,2,   -999.0,9,  -999.00,9,-999.000,9,   2352.0,2,   -999.0,9,  -999.00,9,  25371,  -999.0,-999.0000,-999.000,-999.000,  1.5811,-999.000
   31DSCGC91_2,  P16N,    19,  1,   2907,   1013,2,19910310,0521, 21.6133,-152.4373, 5339,   2998.8,   1.5579,  34.6694,2,  34.6680,2,    124.6,2,   165.86,2,    37.73,2,     0.00,2,     2.59,2,    0.004,2,    0.000,2, -999.000,9,-999.0000,9,  -999.00,9,   -999.0,9,  -999.00,9,-999.000,9,   2342.6,3,   -999.0,9,  -999.00,5,  30333,  -999.0,-999.0000,-999.000,-999.000,  1.3399,-999.000
   31DSCGC91_2,  P16N,    19,  1,   2906,   1012,2,19910310,0521, 21.6133,-152.4373, 5339,   3000.1,   1.5579,  34.6688,2,  34.6670,2,   -999.0,9,   166.01,2,    37.87,2,     0.00,2,     2.62,2, -999.000,9, -999.000,9, -999.000,9,   1.9140,2,    19.17,2,   -999.0,9,  -999.00,9,-999.000,9,   -999.0,9,   -999.0,9,  -999.00,5,  30347,  -999.0,-999.0000,-999.000,-999.000,  1.3398,-999.000
   31DSCGC91_2,  P16N,    19,  1,   2905,   1007,2,19910310,0521, 21.6133,-152.4373, 5339,   3505.2,   1.4658,  34.6809,2,  34.6790,2,    139.8,2,   162.40,2,    37.00,2,     0.00,2,     2.54,2,    0.005,2,    0.000,2, -999.000,9,   1.9180,2,    16.70,2,   -999.0,9,  -999.00,9,-999.000,9,   2338.6,2,   -999.0,9,  -999.00,9,  35380,  -999.0,-999.0000,-999.000,-999.000,  1.2000,-999.000
   31DSCGC91_2,  P16N,    19,  1,   2904,   1038,2,19910310,0521, 21.6133,-152.4373, 5339,   4004.7,   1.4418,  34.6869,2,  34.6860,2,    150.6,2,   156.31,2,    36.28,2,     0.00,2,     2.48,2,    0.009,3,    0.000,2, -999.000,9,   1.9060,2,    16.02,2,   -999.0,9,  -999.00,9,-999.000,9,   2324.8,2,   -999.0,9,  -999.00,9,  40360,  -999.0,-999.0000,-999.000,-999.000,  1.1240,-999.000
   31DSCGC91_2,  P16N,    19,  1,   2903,   1029,2,19910310,0521, 21.6133,-152.4373, 5339,   4507.7,   1.4428,  34.6904,2,  34.6900,2,    161.4,2,   150.04,2,    35.26,2,     0.00,2,     2.44,2,    0.009,3,    0.005,2, -999.000,9,   1.9050,2,    15.05,2,   -999.0,9,  -999.00,9,-999.000,9,   2314.3,2,   -999.0,9,  -999.00,9,  45379,  -999.0,-999.0000,-999.000,-999.000,  1.0686,-999.000
   31DSCGC91_2,  P16N,    19,  1,   2902,   1028,2,19910310,0521, 21.6133,-152.4373, 5339,   5007.5,   1.4658,  34.6938,2,  34.6940,2,    164.2,2,   145.86,2,    35.04,2,     0.00,2,     2.41,2,    0.030,4,    0.008,3, -999.000,9,   1.9070,2,    14.58,2,   -999.0,9,  -999.00,9,-999.000,9,   2307.0,2,   -999.0,9,  -999.00,9,  50371,  -999.0,-999.0000,-999.000,-999.000,  1.0317,-999.000
   31DSCGC91_2,  P16N,    19,  1,   2901,   1017,2,19910310,0521, 21.6133,-152.4373, 5339,   5375.3,   1.4998,  34.6942,2,  34.6940,2,    168.9,2,   144.37,2,    35.09,2,     0.00,2,     2.40,2,    0.006,3,    0.005,2, -999.000,9,-999.0000,9,  -999.00,9,   -999.0,9,  -999.00,9,-999.000,9,   2306.6,2,   -999.0,9,  -999.00,9,  54051,  -999.0,-999.0000,-999.000,-999.000,  1.0190,-999.000