BOTTLE,20021108WHPSIOdm
EXPOCODE,SECT_ID,STNNBR,CASTNO,SAMPNO,BTLNBR,BTLNBR_FLAG_W,DATE,TIME,LATITUDE,LONGITUDE,DEPTH,CTDPRS,CTDTMP,CTDSAL,CTDSAL_FLAG_W,SALNTY,SALNTY_FLAG_W,OXYGEN,OXYGEN_FLAG_W,SILCAT,SILCAT_FLAG_W,NITRAT,NITRAT_FLAG_W,NITRIT,NITRIT_FLAG_W,PHSPHT,PHSPHT_FLAG_W,CFC-11,CFC-11_FLAG_W,CFC-12,CFC-12_FLAG_W,TRITUM,TRITUM_FLAG_W,HELIUM,HELIUM_FLAG_W,DELHE3,DELHE3_FLAG_W,DELC14,DELC14_FLAG_W,DELC13,DELC13_FLAG_W,NEON,NEON_FLAG_W,TCARBN,TCARBN_FLAG_W,ALKALI,ALKALI_FLAG_W,PH,PH_FLAG_W,CTDRAW,C14ERR,HELIER,DELHER,NEONER,THETA,TRITER
,,,,,,,,,,,,DBAR,ITS-90,PSS-78,,PSS-78,,UMOL/KG,,UMOL/KG,,UMOL/KG,,UMOL/KG,,UMOL/KG,,PMOL/KG,,PMOL/KG,,TU,,NMOL/KG,,PERCNT,,/MILLE,,/MILLE,,NMOL/KG,,UMOL/KG,,UMOL/KG,,,,DBAR,/MILLE,NMOL/KG,PERCNT,NMOL/KG,DEG C,TU
   31DSCGC91_2,  P16N,    65,  1,   8624,   1031,2,19910401,2021, 55.0693,-152.2987, 4157,      8.4,   3.5385,  32.8314,2,  32.8270,2,    318.9,2,    34.31,2,    20.01,2,     0.17,2,     1.64,2,    5.228,2,    2.571,2, -999.000,9,-999.0000,9,  -999.00,9,   -999.0,9,  -999.00,9,-999.000,9,   -999.0,9,   -999.0,9,     7.72,2,    437,  -999.0,-999.0000,-999.000,-999.000,  3.5380,-999.000
   31DSCGC91_2,  P16N,    65,  1,   8623,   1023,2,19910401,2021, 55.0693,-152.2987, 4157,     31.8,   3.5195,  32.8323,2,  32.8280,2,    318.6,2,    34.30,2,    20.00,2,     0.17,2,     1.65,2,    5.199,2,    2.560,2, -999.000,9,-999.0000,9,  -999.00,9,   -999.0,9,  -999.00,9,-999.000,9,   -999.0,9,   -999.0,9,     7.72,2,    671,  -999.0,-999.0000,-999.000,-999.000,  3.5175,-999.000
   31DSCGC91_2,  P16N,    65,  1,   8622,   1028,2,19910401,2021, 55.0693,-152.2987, 4157,     64.9,   3.2794,  32.8251,2,  32.8360,2,    319.9,2,    51.22,2,    19.92,2,     0.18,2,     1.67,2,    4.821,2,    2.435,2, -999.000,9,-999.0000,9,  -999.00,9,   -999.0,9,  -999.00,9,-999.000,9,   -999.0,9,   -999.0,9,     7.71,2,   1005,  -999.0,-999.0000,-999.000,-999.000,  3.2755,-999.000
   31DSCGC91_2,  P16N,    65,  1,   8621,   1032,2,19910401,2021, 55.0693,-152.2987, 4157,    101.1,   3.5115,  33.0765,2,  33.0720,2,    254.5,2,    61.60,2,    25.48,2,     0.12,2,     1.97,2,    4.514,2,    2.140,2, -999.000,9,-999.0000,9,  -999.00,9,   -999.0,9,  -999.00,9,-999.000,9,   -999.0,9,   -999.0,9,     7.61,2,   1368,  -999.0,-999.0000,-999.000,-999.000,  3.5052,-999.000
   31DSCGC91_2,  P16N,    65,  1,   8620,   1027,4,19910401,2021, 55.0693,-152.2987, 4157,    126.1,   4.2637,  33.7388,2,  33.7240,2,     90.1,2,    88.70,2,    38.80,2,     0.00,2,     2.75,2,    2.019,2,    0.889,2, -999.000,9,-999.0000,9,  -999.00,9,   -999.0,9,  -999.00,9,-999.000,9,   -999.0,9,   -999.0,9,  -999.00,9,   1620,  -999.0,-999.0000,-999.000,-999.000,  4.2549,-999.000
   31DSCGC91_2,  P16N,    65,  1,   8619,   1007,2,19910401,2021, 55.0693,-152.2987, 4157,    151.1,   4.1077,  33.8495,2,  33.8460,2,     56.6,2,    81.82,2,    42.29,2,     0.00,2,     2.93,2,    1.409,2,    0.666,2, -999.000,9,-999.0000,9,  -999.00,9,   -999.0,9,  -999.00,9,-999.000,9,   -999.0,9,   -999.0,9,     7.28,2,   1871,  -999.0,-999.0000,-999.000,-999.000,  4.0972,-999.000
   31DSCGC91_2,  P16N,    65,  1,   8618,   1041,2,19910401,2021, 55.0693,-152.2987, 4157,    201.6,   4.0106,  33.9265,2,  33.9240,2,     33.3,2,    90.48,2,    43.26,2,     0.00,2,     3.07,2,    0.979,2,    0.458,2, -999.000,9,-999.0000,9,  -999.00,9,   -999.0,9,  -999.00,9,-999.000,9,   -999.0,9,   -999.0,9,     7.25,2,   2379,  -999.0,-999.0000,-999.000,-999.000,  3.9968,-999.000
   31DSCGC91_2,  P16N,    65,  1,   8617,   1033,2,19910401,2021, 55.0693,-152.2987, 4157,    301.1,   3.8636,  34.0287,2,  34.0250,2,     20.9,2,   102.82,2,    43.84,2,     0.00,2,     3.12,2,    0.544,2,    0.261,2, -999.000,9,-999.0000,9,  -999.00,9,   -999.0,9,  -999.00,9,-999.000,9,   -999.0,9,   -999.0,9,     7.24,2,   3377,  -999.0,-999.0000,-999.000,-999.000,  3.8430,-999.000
   31DSCGC91_2,  P16N,    65,  1,   8616,   1025,2,19910401,2021, 55.0693,-152.2987, 4157,    398.7,   3.7575,  34.1113,2,  34.1110,2,     20.0,2,   111.97,2,    44.48,2,     0.00,2,     3.10,2,    0.285,6,    0.144,6, -999.000,9,-999.0000,9,  -999.00,9,   -999.0,9,  -999.00,9,-999.000,9,   -999.0,9,   -999.0,9,     7.26,2,   4358,  -999.0,-999.0000,-999.000,-999.000,  3.7302,-999.000
   31DSCGC91_2,  P16N,    65,  1,   8615,   1017,2,19910401,2021, 55.0693,-152.2987, 4157,    501.7,   3.5945,  34.1807,2,  34.1760,2,     17.6,2,   119.73,2,    43.93,2,     0.00,2,     3.10,2,    0.147,2,    0.081,2, -999.000,9,-999.0000,9,  -999.00,9,   -999.0,9,  -999.00,9,-999.000,9,   -999.0,9,   -999.0,9,     7.27,2,   5390,  -999.0,-999.0000,-999.000,-999.000,  3.5603,-999.000
   31DSCGC91_2,  P16N,    65,  1,   8614,   1036,2,19910401,2021, 55.0693,-152.2987, 4157,    599.3,   3.4414,  34.2346,2,  34.2330,2,     17.3,2,   127.11,2,    44.31,2,     0.00,2,     3.12,2,    0.092,2,    0.062,2, -999.000,9,-999.0000,9,  -999.00,9,   -999.0,9,  -999.00,9,-999.000,9,   -999.0,9,   -999.0,9,     7.28,2,   6370,  -999.0,-999.0000,-999.000,-999.000,  3.4008,-999.000
   31DSCGC91_2,  P16N,    65,  1,   8613,   1013,2,19910401,2021, 55.0693,-152.2987, 4157,    701.6,   3.2034,  34.2929,2,  34.2900,2,     18.6,2,   135.14,2,    43.17,2,     0.00,2,     3.11,2,    0.041,2,    0.027,2, -999.000,9,-999.0000,9,  -999.00,9,   -999.0,9,  -999.00,9,-999.000,9,   -999.0,9,   -999.0,9,     7.29,2,   7395,  -999.0,-999.0000,-999.000,-999.000,  3.1565,-999.000
   31DSCGC91_2,  P16N,    65,  1,   8612,   1037,2,19910401,2021, 55.0693,-152.2987, 4157,    798.6,   3.0253,  34.3357,2,  34.3340,2,     18.7,2,   141.55,2,    44.40,2,     0.00,2,     3.11,2,    0.034,2,    0.018,2, -999.000,9,-999.0000,9,  -999.00,9,   -999.0,9,  -999.00,9,-999.000,9,   -999.0,9,   -999.0,9,     7.29,2,   8367,  -999.0,-999.0000,-999.000,-999.000,  2.9724,-999.000
   31DSCGC91_2,  P16N,    65,  1,   8611,   1003,2,19910401,2021, 55.0693,-152.2987, 4157,    900.1,   2.8793,  34.4383,2,  34.3700,3,     19.1,2,   146.94,2,    43.53,2,     0.00,2,     3.11,2,    0.034,2,    0.017,2, -999.000,9,-999.0000,9,  -999.00,9,   -999.0,9,  -999.00,9,-999.000,9,   -999.0,9,   -999.0,9,     7.30,2,   9384,  -999.0,-999.0000,-999.000,-999.000,  2.8198,-999.000
   31DSCGC91_2,  P16N,    65,  1,   8610,   1011,2,19910401,2021, 55.0693,-152.2987, 4157,   1000.3,   2.7472,  34.4046,2,  34.4020,2,     18.6,2,   151.31,2,    43.71,2,     0.00,2,     3.11,2,    0.015,3,    0.002,3, -999.000,9,-999.0000,9,  -999.00,9,   -999.0,9,  -999.00,9,-999.000,9,   -999.0,9,   -999.0,9,     7.30,2,  10386,  -999.0,-999.0000,-999.000,-999.000,  2.6814,-999.000
   31DSCGC91_2,  P16N,    65,  1,   8609,     26,2,19910401,2021, 55.0693,-152.2987, 4157,   1199.3,   2.5232,  34.4554,2,  34.4530,2,     21.4,2,   159.67,2,    43.42,2,     0.00,2,     3.11,2,    0.016,3,    0.002,2, -999.000,9,-999.0000,9,  -999.00,9,   -999.0,9,  -999.00,9,-999.000,9,   -999.0,9,   -999.0,9,  -999.00,9,  12378,  -999.0,-999.0000,-999.000,-999.000,  2.4444,-999.000
   31DSCGC91_2,  P16N,    65,  1,   8608,   1019,2,19910401,2021, 55.0693,-152.2987, 4157,   1447.4,   2.2541,  34.5156,2,  34.5140,2,     29.0,2,   167.87,2,    44.20,2,     0.00,2,     3.07,2,    0.004,2,    0.002,2, -999.000,9,-999.0000,9,  -999.00,9,   -999.0,9,  -999.00,9,-999.000,9,   -999.0,9,   -999.0,9,  -999.00,9,  14858,  -999.0,-999.0000,-999.000,-999.000,  2.1591,-999.000
   31DSCGC91_2,  P16N,    65,  1,   8607,   1004,2,19910401,2021, 55.0693,-152.2987, 4157,   1698.7,   2.0970,  34.5510,2,  34.5500,2,     38.6,2,   171.87,2,    43.32,2,     0.00,2,     3.03,2,    0.000,2,    0.002,2, -999.000,9,-999.0000,9,  -999.00,9,   -999.0,9,  -999.00,9,-999.000,9,   -999.0,9,   -999.0,9,  -999.00,9,  17368,  -999.0,-999.0000,-999.000,-999.000,  1.9841,-999.000
   31DSCGC91_2,  P16N,    65,  1,   8605,   1026,4,19910401,2021, 55.0693,-152.2987, 4157,   2000.7,   1.9360,  34.5873,2,  34.5850,2,     53.5,2,   174.38,2,    42.76,2,     0.00,2,     2.97,2,    0.006,2,    0.002,2, -999.000,9,-999.0000,9,  -999.00,9,   -999.0,9,  -999.00,9,-999.000,9,   -999.0,9,   -999.0,9,  -999.00,9,  20382,  -999.0,-999.0000,-999.000,-999.000,  1.8006,-999.000
   31DSCGC91_2,  P16N,    65,  1,   8606,   1002,2,19910401,2021, 55.0693,-152.2987, 4157,   2000.7,   1.9360,  34.5873,2,  34.5850,2,     53.6,2,   173.97,2,    42.38,2,     0.00,2,     2.98,2,   -0.004,2,    0.002,2, -999.000,9,-999.0000,9,  -999.00,9,   -999.0,9,  -999.00,9,-999.000,9,   -999.0,9,   -999.0,9,  -999.00,9,  20382,  -999.0,-999.0000,-999.000,-999.000,  1.8006,-999.000
   31DSCGC91_2,  P16N,    65,  1,   8603,   1029,4,19910401,2021, 55.0693,-152.2987, 4157,   3000.0,   1.5999,  34.6536,2,  34.6490,2,    106.1,2,   172.20,2,    39.24,2,     0.00,2,     2.74,2,    0.016,4,    0.002,2, -999.000,9,-999.0000,9,  -999.00,9,   -999.0,9,  -999.00,9,-999.000,9,   -999.0,9,   -999.0,9,  -999.00,9,  30346,  -999.0,-999.0000,-999.000,-999.000,  1.3809,-999.000
   31DSCGC91_2,  P16N,    65,  1,   8604,      6,2,19910401,2021, 55.0693,-152.2987, 4157,   3000.0,   1.5999,  34.6536,2,  34.6520,2,    106.4,2,   172.22,2,    38.60,2,     0.00,2,     2.71,2,    0.000,2,    0.002,2, -999.000,9,-999.0000,9,  -999.00,9,   -999.0,9,  -999.00,9,-999.000,9,   -999.0,9,   -999.0,9,  -999.00,9,  30346,  -999.0,-999.0000,-999.000,-999.000,  1.3809,-999.000
   31DSCGC91_2,  P16N,    65,  1,   8602,   1012,2,19910401,2021, 55.0693,-152.2987, 4157,   4002.7,   1.4968,  34.6809,2,  34.6790,2,    137.0,2,   168.79,2,    36.93,2,     0.00,2,     2.58,2,    0.015,4,    0.012,3, -999.000,9,-999.0000,9,  -999.00,9,   -999.0,9,  -999.00,9,-999.000,9,   -999.0,9,   -999.0,9,  -999.00,9,  40340,  -999.0,-999.0000,-999.000,-999.000,  1.1777,-999.000
   31DSCGC91_2,  P16N,    65,  1,   8601,   1016,2,19910401,2021, 55.0693,-152.2987, 4157,   4172.6,   1.5018,  34.6826,2,  34.6820,2,    139.6,2,   168.35,2,    36.91,2,     0.00,2,     2.56,2,   -0.002,2,    0.002,2, -999.000,9,-999.0000,9,  -999.00,9,   -999.0,9,  -999.00,9,-999.000,9,   -999.0,9,   -999.0,9,  -999.00,9,  42035,  -999.0,-999.0000,-999.000,-999.000,  1.1638,-999.000
   31DSCGC91_2,  P16N,    66,  1,   8724,   1031,2,19910402,2205, 52.4905,-152.0203, 4403,     31.9,   4.1057,  32.7170,2,  32.7140,2,   -999.0,9,  -999.00,9,  -999.00,9,  -999.00,9,  -999.00,9,    5.087,2,    2.523,2, -999.000,9,-999.0000,9,  -999.00,9,     24.1,2,     1.13,2,-999.000,9,   2053.7,2,   -999.0,5,     7.74,2,    673,     4.8,-999.0000,-999.000,-999.000,  4.1035,-999.000
   31DSCGC91_2,  P16N,    66,  1,   8723,   1023,2,19910402,2205, 52.4905,-152.0203, 4403,     61.6,   4.0626,  32.7221,2,  32.7180,2,    315.3,2,    32.29,2,    18.62,2,     0.18,2,     1.57,2,    5.117,2,    2.516,2, -999.000,9,-999.0000,9,  -999.00,9,   -999.0,9,     1.15,2,-999.000,9,   2057.8,2,   -999.0,5,     7.74,2,    971,  -999.0,-999.0000,-999.000,-999.000,  4.0586,-999.000
   31DSCGC91_2,  P16N,    66,  1,   8722,   1028,2,19910402,2205, 52.4905,-152.0203, 4403,    105.7,   4.3597,  33.5117,2,  33.3320,3,    181.6,2,    53.83,2,    31.11,2,     0.02,2,     2.28,2,    4.904,4,    1.614,4, -999.000,9,-999.0000,9,  -999.00,9,    -25.1,2,    -0.11,2,-999.000,9,   2172.6,2,   -999.0,5,     7.51,2,   1415,     4.3,-999.0000,-999.000,-999.000,  4.3523,-999.000
   31DSCGC91_2,  P16N,    66,  1,   8721,   1032,2,19910402,2205, 52.4905,-152.0203, 4403,    131.4,   4.3447,  33.7693,2,  33.7660,2,     85.9,2,    71.52,2,    38.84,2,     0.00,2,     2.74,2,    1.851,2,    0.870,2, -999.000,9,-999.0000,9,  -999.00,9,    -49.2,2,    -0.72,2,-999.000,9,   2252.7,2,   -999.0,5,     7.34,2,   1673,     3.3,-999.0000,-999.000,-999.000,  4.3355,-999.000
   31DSCGC91_2,  P16N,    66,  1,   8720,   1027,2,19910402,2205, 52.4905,-152.0203, 4403,    151.7,   4.1177,  33.8460,2,  33.8440,2,     59.9,2,    81.38,2,    41.50,2,     0.00,2,     2.91,2,    1.484,2,    0.685,2, -999.000,9,-999.0000,9,  -999.00,9,    -75.0,2,    -0.77,2,-999.000,9,   2279.7,2,   -999.0,5,     7.29,2,   1877,     3.9,-999.0000,-999.000,-999.000,  4.1072,-999.000
   31DSCGC91_2,  P16N,    66,  1,   8719,   1007,2,19910402,2205, 52.4905,-152.0203, 4403,    203.3,   3.9426,  33.9166,2,  33.9120,2,     35.4,2,    90.87,2,    43.85,2,     0.00,2,     3.06,2,    1.073,6,    0.493,6, -999.000,9,-999.0000,9,  -999.00,9,    -93.5,2,    -0.93,2,-999.000,9,   2305.7,2,   -999.0,5,     7.24,2,   2396,     4.1,-999.0000,-999.000,-999.000,  3.9288,-999.000
   31DSCGC91_2,  P16N,    66,  1,   8718,   1041,2,19910402,2205, 52.4905,-152.0203, 4403,    298.8,   3.7836,  34.0108,2,  34.0090,2,     25.4,2,   102.60,2,    44.44,2,     0.00,2,     3.10,2,    0.645,2,    0.312,2, -999.000,9,-999.0000,9,  -999.00,9,   -122.0,2,    -0.83,2,-999.000,9,   2316.4,2,   -999.0,5,     7.25,2,   3355,     4.0,-999.0000,-999.000,-999.000,  3.7633,-999.000
   31DSCGC91_2,  P16N,    66,  1,   8717,   1033,2,19910402,2205, 52.4905,-152.0203, 4403,    399.0,   3.7435,  34.1174,2,  34.1080,2,     20.5,2,   111.77,2,    44.34,2,     0.00,2,     3.10,2,    0.308,2,    0.143,2, -999.000,9,-999.0000,9,  -999.00,9,   -138.0,2,    -0.80,2,-999.000,9,   2329.4,2,   -999.0,5,     7.26,2,   4361,     3.6,-999.0000,-999.000,-999.000,  3.7162,-999.000
   31DSCGC91_2,  P16N,    66,  1,   8716,   1025,2,19910402,2205, 52.4905,-152.0203, 4403,    499.0,   3.5525,  34.1795,2,  34.1780,2,     19.2,2,   120.78,2,    43.81,2,     0.00,2,     3.10,2,    0.195,2,    0.091,2, -999.000,9,-999.0000,9,  -999.00,9,   -157.7,2,    -0.77,2,-999.000,9,   2342.3,2,   -999.0,5,     7.27,2,   5364,     4.1,-999.0000,-999.000,-999.000,  3.5187,-999.000
   31DSCGC91_2,  P16N,    66,  1,   8715,   1017,2,19910402,2205, 52.4905,-152.0203, 4403,    600.1,   3.3844,  34.2437,2,  34.2380,2,     18.8,2,   128.42,2,    43.90,2,     0.00,2,     3.10,2,    0.102,2,    0.047,2, -999.000,9,-999.0000,9,  -999.00,9,   -180.1,2,    -0.79,2,-999.000,9,   2346.0,2,   -999.0,5,     7.28,2,   6378,     5.0,-999.0000,-999.000,-999.000,  3.3440,-999.000
   31DSCGC91_2,  P16N,    66,  1,   8714,   1036,2,19910402,2205, 52.4905,-152.0203, 4403,    701.2,   3.1974,  34.2923,2,  34.2910,2,     19.7,2,   136.29,2,    43.86,2,     0.00,2,     3.10,2,    0.057,2,    0.029,2, -999.000,9,-999.0000,9,  -999.00,9,   -191.1,2,    -0.73,2,-999.000,9,   2353.0,2,   -999.0,5,     7.29,2,   7390,     4.5,-999.0000,-999.000,-999.000,  3.1506,-999.000
   31DSCGC91_2,  P16N,    66,  1,   8713,   1013,2,19910402,2205, 52.4905,-152.0203, 4403,    803.2,   3.0363,  34.3301,2,  34.3310,2,     20.0,2,   141.94,2,    43.89,2,     0.00,2,     3.11,2,    0.037,2,    0.019,4, -999.000,9,-999.0000,9,  -999.00,9,   -201.0,2,  -999.00,5,-999.000,9,   2356.0,2,   -999.0,5,     7.30,2,   8413,     3.0,-999.0000,-999.000,-999.000,  2.9830,-999.000
   31DSCGC91_2,  P16N,    66,  1,   8712,   1037,2,19910402,2205, 52.4905,-152.0203, 4403,    898.9,   2.8893,  34.3665,2,  34.3680,2,     21.9,2,   146.99,2,    43.73,2,     0.00,2,     3.10,2,    0.025,2,    0.008,2, -999.000,9,-999.0000,9,  -999.00,9,   -214.3,2,    -0.67,2,-999.000,9,   2361.1,2,   -999.0,5,     7.30,2,   9372,     3.0,-999.0000,-999.000,-999.000,  2.8299,-999.000
   31DSCGC91_2,  P16N,    66,  1,   8711,   1003,2,19910402,2205, 52.4905,-152.0203, 4403,   1003.2,   2.7552,  34.3995,2,  34.4000,2,     21.0,2,   151.65,2,    43.76,2,     0.00,2,     3.11,2,    0.017,3,   -0.002,2, -999.000,9,-999.0000,9,  -999.00,9,   -999.0,9,  -999.00,9,-999.000,9,   2370.2,2,   -999.0,5,     7.31,2,  10416,  -999.0,-999.0000,-999.000,-999.000,  2.6892,-999.000
   31DSCGC91_2,  P16N,    66,  1,   8710,   1011,2,19910402,2205, 52.4905,-152.0203, 4403,   1201.2,   2.5422,  34.4500,2,  34.4500,2,     20.4,2,   159.22,2,    43.92,2,     0.00,2,     3.11,2,   -0.004,2,   -0.003,2, -999.000,9,-999.0000,9,  -999.00,9,   -225.2,2,    -0.62,2,-999.000,9,   2377.0,2,   -999.0,5,     7.31,2,  12396,     2.9,-999.0000,-999.000,-999.000,  2.4631,-999.000
   31DSCGC91_2,  P16N,    66,  1,   8709,     26,2,19910402,2205, 52.4905,-152.0203, 4403,   1447.8,   2.2921,  34.5055,2,  34.5060,2,     29.1,2,   167.03,2,    43.82,2,     0.00,2,     3.07,2,    0.005,2,   -0.004,2, -999.000,9,-999.0000,9,  -999.00,9,   -203.0,3,    -0.43,2,-999.000,9,   2382.7,2,   -999.0,5,     7.33,2,  14861,     4.4,-999.0000,-999.000,-999.000,  2.1966,-999.000
   31DSCGC91_2,  P16N,    66,  1,   8708,   1019,2,19910402,2205, 52.4905,-152.0203, 4403,   1697.9,   2.1130,  34.5465,2,  34.5440,2,     40.2,2,   170.91,2,    42.98,2,     0.00,2,     3.01,2,    0.006,2,    0.007,3, -999.000,9,-999.0000,9,  -999.00,9,   -236.8,2,    -0.47,2,-999.000,9,   2380.0,2,   -999.0,5,     7.36,2,  17360,     4.8,-999.0000,-999.000,-999.000,  2.0000,-999.000
   31DSCGC91_2,  P16N,    66,  1,   8707,   1004,2,19910402,2205, 52.4905,-152.0203, 4403,   1998.9,   1.9410,  34.5841,2,  34.5820,2,     55.3,2,   173.76,2,    42.14,2,     0.00,2,     2.95,2,    0.006,3,   -0.002,2, -999.000,9,-999.0000,9,  -999.00,9,   -999.0,9,  -999.00,9,-999.000,9,   2373.1,2,   -999.0,5,     7.39,2,  20364,  -999.0,-999.0000,-999.000,-999.000,  1.8057,-999.000
   31DSCGC91_2,  P16N,    66,  1,   8705,   1026,2,19910402,2205, 52.4905,-152.0203, 4403,   2501.8,   1.7099,  34.6313,2,  34.6280,2,     82.7,2,   175.69,2,    40.40,2,     0.00,2,     2.83,2,   -0.004,2,    0.000,2, -999.000,9,-999.0000,9,  -999.00,9,   -999.0,9,  -999.00,9,-999.000,9,   2358.9,2,   -999.0,5,     7.45,2,  25380,  -999.0,-999.0000,-999.000,-999.000,  1.5349,-999.000
   31DSCGC91_2,  P16N,    66,  1,   8706,   1002,4,19910402,2205, 52.4905,-152.0203, 4403,   2501.8,   1.7099,  34.6313,2,  34.6280,2,     83.5,2,   175.56,2,    40.61,2,     0.00,2,     2.83,2,    0.005,2,   -0.001,2, -999.000,9,-999.0000,9,  -999.00,9,   -999.0,9,  -999.00,9,-999.000,9,   -999.0,9,   -999.0,5,     7.45,2,  25380,  -999.0,-999.0000,-999.000,-999.000,  1.5349,-999.000
   31DSCGC91_2,  P16N,    66,  1,   8704,      6,2,19910402,2205, 52.4905,-152.0203, 4403,   3004.0,   1.5769,  34.6566,2,  34.6530,2,    109.4,2,   172.06,2,    38.94,2,     0.00,2,     2.71,2,    0.008,3,    0.001,2, -999.000,9,-999.0000,9,  -999.00,9,   -999.0,9,  -999.00,9,-999.000,9,   2346.3,2,   -999.0,5,     7.50,2,  30385,  -999.0,-999.0000,-999.000,-999.000,  1.3580,-999.000
   31DSCGC91_2,  P16N,    66,  1,   8703,   1029,2,19910402,2205, 52.4905,-152.0203, 4403,   3508.5,   1.4938,  34.6730,2,  34.6720,2,    129.4,2,   168.64,2,    37.19,2,     0.00,2,     2.60,2,    0.008,3,   -0.001,2, -999.000,9,-999.0000,9,  -999.00,9,   -999.0,9,  -999.00,9,-999.000,9,   2337.5,2,   -999.0,5,     7.54,2,  35413,  -999.0,-999.0000,-999.000,-999.000,  1.2270,-999.000
   31DSCGC91_2,  P16N,    66,  1,   8702,   1012,2,19910402,2205, 52.4905,-152.0203, 4403,   4004.5,   1.4818,  34.6813,2,  34.6810,2,    139.3,2,   168.15,2,    36.91,2,     0.00,2,     2.55,2,   -0.004,2,    0.001,2, -999.000,9,-999.0000,9,  -999.00,9,   -999.0,9,  -999.00,9,-999.000,9,   2331.6,2,   -999.0,5,     7.56,2,  40358,  -999.0,-999.0000,-999.000,-999.000,  1.1629,-999.000
   31DSCGC91_2,  P16N,    66,  1,   8701,   1016,2,19910402,2205, 52.4905,-152.0203, 4403,   4507.6,   1.4948,  34.6868,2,  34.6860,2,    147.4,2,   164.96,2,    36.27,2,     0.00,2,     2.51,2,    0.004,2,    0.001,2, -999.000,9,-999.0000,9,  -999.00,9,   -999.0,9,  -999.00,9,-999.000,9,   2323.9,2,   -999.0,5,     7.57,2,  45377,  -999.0,-999.0000,-999.000,-999.000,  1.1191,-999.000