BOTTLE,20021108WHPSIOdm
EXPOCODE,SECT_ID,STNNBR,CASTNO,SAMPNO,BTLNBR,BTLNBR_FLAG_W,DATE,TIME,LATITUDE,LONGITUDE,DEPTH,CTDPRS,CTDTMP,CTDSAL,CTDSAL_FLAG_W,SALNTY,SALNTY_FLAG_W,OXYGEN,OXYGEN_FLAG_W,SILCAT,SILCAT_FLAG_W,NITRAT,NITRAT_FLAG_W,NITRIT,NITRIT_FLAG_W,PHSPHT,PHSPHT_FLAG_W,CFC-11,CFC-11_FLAG_W,CFC-12,CFC-12_FLAG_W,TRITUM,TRITUM_FLAG_W,HELIUM,HELIUM_FLAG_W,DELHE3,DELHE3_FLAG_W,DELC14,DELC14_FLAG_W,DELC13,DELC13_FLAG_W,NEON,NEON_FLAG_W,TCARBN,TCARBN_FLAG_W,ALKALI,ALKALI_FLAG_W,PH,PH_FLAG_W,CTDRAW,C14ERR,HELIER,DELHER,NEONER,THETA,TRITER
,,,,,,,,,,,,DBAR,ITS-90,PSS-78,,PSS-78,,UMOL/KG,,UMOL/KG,,UMOL/KG,,UMOL/KG,,UMOL/KG,,PMOL/KG,,PMOL/KG,,TU,,NMOL/KG,,PERCNT,,/MILLE,,/MILLE,,NMOL/KG,,UMOL/KG,,UMOL/KG,,,,DBAR,/MILLE,NMOL/KG,PERCNT,NMOL/KG,DEG C,TU
   31DSCGC91_2,  P16N,    44,  1,   6123,   1016,2,19910322,0933, 39.3505,-151.9867, 5346,      8.6,  12.8884,  33.6631,2,  33.6620,2,    267.1,2,     4.14,2,     0.07,2,     0.00,2,     0.22,2,    3.237,2,    1.675,2, -999.000,9,-999.0000,9,  -999.00,9,     95.4,2,     1.51,2,-999.000,9,   1986.7,2,   -999.0,9,     7.96,2,    439,     7.4,-999.0000,-999.000,-999.000, 12.8872,-999.000
   31DSCGC91_2,  P16N,    44,  1,   6122,   1026,2,19910322,0933, 39.3505,-151.9867, 5346,     32.8,  12.7904,  33.6528,2,  33.6540,2,    266.6,2,     3.94,2,     0.07,2,     0.00,2,     0.23,2,    3.232,2,    1.652,2, -999.000,9,-999.0000,9,  -999.00,9,   -999.0,9,  -999.00,9,-999.000,9,   -999.0,9,   -999.0,9,     7.96,2,    681,  -999.0,-999.0000,-999.000,-999.000, 12.7860,-999.000
   31DSCGC91_2,  P16N,    44,  1,   6121,   1004,2,19910322,0933, 39.3505,-151.9867, 5346,     77.2,  12.6253,  33.6586,2,  33.6570,2,    267.4,2,     3.75,2,     0.07,2,     0.00,2,     0.24,2,    3.353,2,    1.699,2, -999.000,9,-999.0000,9,  -999.00,9,     90.6,2,     1.50,2,-999.000,9,   1989.7,2,   -999.0,9,     7.95,2,   1129,     6.3,-999.0000,-999.000,-999.000, 12.6151,-999.000
   31DSCGC91_2,  P16N,    44,  1,   6120,   1025,2,19910322,0933, 39.3505,-151.9867, 5346,    127.0,  10.9258,  33.8094,2,  33.7980,2,    246.9,2,     7.88,2,     6.94,2,     0.03,2,     0.64,2,    3.500,2,    1.780,2, -999.000,9,-999.0000,9,  -999.00,9,     79.3,2,     1.06,2,-999.000,9,   2037.5,2,   -999.0,9,     7.87,2,   1628,     6.2,-999.0000,-999.000,-999.000, 10.9105,-999.000
   31DSCGC91_2,  P16N,    44,  1,   6119,   1021,2,19910322,0933, 39.3505,-151.9867, 5346,    151.5,  10.3426,  33.8629,2,  33.8480,2,    242.2,2,    10.44,2,     9.64,2,     0.02,2,     0.78,2,    3.494,2,    1.757,2, -999.000,9,-999.0000,9,  -999.00,9,     72.0,2,     0.83,2,-999.000,9,   2053.9,2,   -999.0,9,     7.84,2,   1875,     5.7,-999.0000,-999.000,-999.000, 10.3249,-999.000
   31DSCGC91_2,  P16N,    44,  1,   6118,   1036,2,19910322,0933, 39.3505,-151.9867, 5346,    177.0,  10.1716,  33.9455,2,  33.9440,2,    232.8,2,    13.20,2,    11.98,2,     0.01,2,     0.92,2,    3.355,2,    1.689,2, -999.000,9,-999.0000,9,  -999.00,9,     69.4,2,     0.81,2,-999.000,9,   2068.9,2,   -999.0,9,     7.82,2,   2132,     5.7,-999.0000,-999.000,-999.000, 10.1511,-999.000
   31DSCGC91_2,  P16N,    44,  1,   6116,   1037,4,19910322,0933, 39.3505,-151.9867, 5346,    201.5,  10.1185,  34.0696,2,  34.0580,2,    224.8,2,    15.75,2,    13.74,2,     0.01,2,     1.01,2,    3.182,2,    1.588,2, -999.000,9,-999.0000,9,  -999.00,9,     75.8,2,     0.70,2,-999.000,9,   -999.0,9,   -999.0,9,     7.81,2,   2378,     6.2,-999.0000,-999.000,-999.000, 10.0952,-999.000
   31DSCGC91_2,  P16N,    44,  1,   6117,     26,2,19910322,0933, 39.3505,-151.9867, 5346,    201.5,  10.1185,  34.0696,2,  34.0590,2,    225.8,2,    15.75,2,    13.76,2,     0.01,2,     1.01,2,    3.168,2,    1.579,2, -999.000,9,-999.0000,9,  -999.00,9,     76.1,2,     0.70,2,-999.000,9,   2079.7,2,   -999.0,9,     7.81,2,   2378,     6.0,-999.0000,-999.000,-999.000, 10.0952,-999.000
   31DSCGC91_2,  P16N,    44,  1,   6114,   1011,4,19910322,0933, 39.3505,-151.9867, 5346,    349.4,   8.1279,  34.0144,2,  34.0150,2,    211.9,2,    27.37,2,    19.16,2,     0.00,2,     1.35,2,    2.785,6,    1.369,6, -999.000,9,-999.0000,9,  -999.00,9,     33.3,2,     0.40,2,-999.000,9,   -999.0,9,   -999.0,9,     7.73,2,   3862,     6.0,-999.0000,-999.000,-999.000,  8.0924,-999.000
   31DSCGC91_2,  P16N,    44,  1,   6115,   1032,2,19910322,0933, 39.3505,-151.9867, 5346,    349.4,   8.1279,  34.0144,2,  34.0150,2,    212.8,2,    27.37,2,    18.91,2,     0.01,2,     1.36,2,    2.800,6,    1.383,6, -999.000,9,-999.0000,9,  -999.00,9,     36.8,2,     0.41,2,-999.000,9,   2120.5,2,   -999.0,9,     7.73,2,   3862,     6.0,-999.0000,-999.000,-999.000,  8.0924,-999.000
   31DSCGC91_2,  P16N,    44,  1,   6113,   1033,4,19910322,0933, 39.3505,-151.9867, 5346,    450.2,   6.9105,  33.9923,2,  33.9850,2,    117.7,2,    64.96,2,    32.84,2,     0.00,2,     2.31,2,    1.098,2,    0.524,2, -999.000,9,-999.0000,9,  -999.00,9,    -74.1,2,    -0.07,2,-999.000,9,   -999.0,9,   -999.0,9,     7.50,2,   4875,     2.9,-999.0000,-999.000,-999.000,  6.8686,-999.000
   31DSCGC91_2,  P16N,    44,  1,   6111,   1041,4,19910322,0933, 39.3505,-151.9867, 5346,    651.8,   4.7268,  34.0437,2,  34.0420,2,     78.2,2,    84.27,2,    37.55,2,     0.00,2,     2.66,2,    0.482,2,    0.238,2, -999.000,9,-999.0000,9,  -999.00,9,   -110.9,2,    -0.27,2,-999.000,9,   -999.0,9,   -999.0,9,     7.41,2,   6895,     4.4,-999.0000,-999.000,-999.000,  4.6761,-999.000
   31DSCGC91_2,  P16N,    44,  1,   6112,   1019,2,19910322,0933, 39.3505,-151.9867, 5346,    651.8,   4.7268,  34.0437,2,  34.0410,2,     78.0,2,    84.29,2,    37.59,2,     0.00,2,     2.65,2,    0.491,2,    0.244,2, -999.000,9,-999.0000,9,  -999.00,9,   -109.2,2,    -0.25,2,-999.000,9,   2276.2,2,   -999.0,9,     7.41,2,   6895,     4.3,-999.0000,-999.000,-999.000,  4.6761,-999.000
   31DSCGC91_2,  P16N,    44,  1,   6110,   1002,2,19910322,0933, 39.3505,-151.9867, 5346,    819.4,   3.6655,  34.3404,2,  34.1940,3,     27.2,2,   115.51,2,    43.05,2,     0.00,2,     3.01,2,    0.047,2,    0.027,2, -999.000,9,-999.0000,9,  -999.00,9,   -170.3,6,    -0.54,2,-999.000,9,   2341.3,2,   -999.0,9,     7.31,2,   8576,     3.1,-999.0000,-999.000,-999.000,  3.6070,-999.000
   31DSCGC91_2,  P16N,    44,  1,   6109,   1003,2,19910322,0933, 39.3505,-151.9867, 5346,    924.4,   3.5555,  34.2457,2,  34.2430,2,     17.2,2,   124.44,2,    43.83,2,     0.00,2,     3.10,2,    0.011,2,    0.000,2, -999.000,9,-999.0000,9,  -999.00,9,   -181.7,2,    -0.58,2,-999.000,9,   2357.0,2,   -999.0,9,     7.29,2,   9627,     5.2,-999.0000,-999.000,-999.000,  3.4896,-999.000
   31DSCGC91_2,  P16N,    44,  1,   6107,   1013,4,19910322,0933, 39.3505,-151.9867, 5346,   1074.9,   3.1944,  34.3328,2,  34.3320,2,      8.4,2,   139.15,2,    45.03,2,     0.00,2,     3.13,2,   -0.003,2,    0.000,2, -999.000,9,-999.0000,9,  -999.00,9,   -198.7,6,    -0.65,2,-999.000,9,   -999.0,9,   -999.0,9,     7.28,2,  11133,     2.6,-999.0000,-999.000,-999.000,  3.1194,-999.000
   31DSCGC91_2,  P16N,    44,  1,   6108,      6,4,19910322,0933, 39.3505,-151.9867, 5346,   1074.9,   3.1944,  34.3328,2,  34.3310,2,      8.5,2,   138.56,2,    44.46,2,     0.00,2,     3.16,2,   -0.003,2,    0.000,2, -999.000,9,-999.0000,9,  -999.00,9,   -197.9,2,    -0.67,2,-999.000,9,   -999.0,9,   -999.0,9,     7.28,2,  11133,     4.1,-999.0000,-999.000,-999.000,  3.1194,-999.000
   31DSCGC91_2,  P16N,    44,  1,   6106,   1012,2,19910322,0933, 39.3505,-151.9867, 5346,   1500.2,   2.5452,  34.5039,2,  34.5010,2,     19.0,2,   161.11,2,    44.55,2,     0.00,2,     3.11,2, -999.000,9, -999.000,9, -999.000,9,-999.0000,9,  -999.00,9,   -999.0,9,  -999.00,9,-999.000,9,   2394.5,2,   -999.0,9,     7.32,2,  15385,  -999.0,-999.0000,-999.000,-999.000,  2.4427,-999.000
   31DSCGC91_2,  P16N,    44,  1,   6105,   1007,2,19910322,0933, 39.3505,-151.9867, 5346,   1999.4,   2.0250,  34.5949,2,  34.5930,2,     56.1,2,   173.46,2,    42.48,2,     0.00,2,     2.97,2, -999.000,9, -999.000,9, -999.000,9,-999.0000,9,  -999.00,9,   -999.0,9,  -999.00,9,-999.000,9,   2387.5,2,   -999.0,9,     7.40,2,  20369,  -999.0,-999.0000,-999.000,-999.000,  1.8883,-999.000
   31DSCGC91_2,  P16N,    44,  1,   6104,   1038,2,19910322,0933, 39.3505,-151.9867, 5346,   3002.0,   1.5679,  34.6597,2,  34.6580,2,    112.2,2,   170.04,2,    38.77,2,     0.00,2,     2.69,2, -999.000,9, -999.000,9, -999.000,9,-999.0000,9,  -999.00,9,   -999.0,9,  -999.00,9,-999.000,9,   2355.6,2,   -999.0,9,     7.51,2,  30366,  -999.0,-999.0000,-999.000,-999.000,  1.3494,-999.000
   31DSCGC91_2,  P16N,    44,  1,   6103,   1029,2,19910322,0933, 39.3505,-151.9867, 5346,   4008.1,   1.4868,  34.6818,2,  34.6810,2,    138.8,2,   170.42,2,    36.93,2,     0.00,2,     2.55,2, -999.000,9, -999.000,9, -999.000,9,-999.0000,9,  -999.00,9,   -999.0,9,  -999.00,9,-999.000,9,   2341.0,2,   -999.0,9,     7.56,2,  40394,  -999.0,-999.0000,-999.000,-999.000,  1.1674,-999.000
   31DSCGC91_2,  P16N,    44,  1,   6102,   1028,2,19910322,0933, 39.3505,-151.9867, 5346,   5005.3,   1.5669,  34.6869,2,  34.6850,2,    143.7,2,   168.90,2,    36.33,2,     0.00,2,     2.53,2, -999.000,9, -999.000,9, -999.000,9,-999.0000,9,  -999.00,9,   -999.0,9,  -999.00,9,-999.000,9,   2337.1,2,   -999.0,9,     7.58,2,  50349,  -999.0,-999.0000,-999.000,-999.000,  1.1296,-999.000
   31DSCGC91_2,  P16N,    44,  1,   6101,   1017,2,19910322,0933, 39.3505,-151.9867, 5346,   5512.9,   1.6149,  34.6872,2,  34.6870,2,    149.9,2,   171.60,2,    35.87,2,     0.00,2,     2.49,2, -999.000,9, -999.000,9, -999.000,9,-999.0000,9,  -999.00,9,   -999.0,9,  -999.00,9,-999.000,9,   2330.5,2,   -999.0,9,     7.58,2,  55429,  -999.0,-999.0000,-999.000,-999.000,  1.1124,-999.000
   31DSCGC91_2,  P16N,    45,  1,   6224,   1027,2,19910322,1709, 40.0150,-151.9937, 5253,      8.1,  11.8771,  33.5054,2,  33.5040,2,    276.7,2,     3.66,2,     0.24,2,     0.01,2,     0.29,2,    3.521,2,    1.757,2, -999.000,9,-999.0000,9,  -999.00,9,   -999.0,9,  -999.00,9,-999.000,9,   1988.7,2,   -999.0,9,  -999.00,9,    434,  -999.0,-999.0000,-999.000,-999.000, 11.8761,-999.000
   31DSCGC91_2,  P16N,    45,  1,   6223,   1016,2,19910322,1709, 40.0150,-151.9937, 5253,     52.0,  11.7631,  33.5038,2,  33.5030,2,    273.5,2,     3.66,2,     0.34,2,     0.02,2,     0.28,2,    3.560,2,    1.789,2, -999.000,9,-999.0000,9,  -999.00,9,   -999.0,9,  -999.00,9,-999.000,9,   1991.4,2,   -999.0,9,  -999.00,9,    875,  -999.0,-999.0000,-999.000,-999.000, 11.7565,-999.000
   31DSCGC91_2,  P16N,    45,  1,   6222,   1026,2,19910322,1709, 40.0150,-151.9937, 5253,    103.0,  10.9698,  33.7793,2,  33.8100,3,    236.0,2,     8.33,2,     6.68,2,     0.08,2,     0.62,2,    3.593,2,    1.739,2, -999.000,9,-999.0000,9,  -999.00,9,   -999.0,9,  -999.00,9,-999.000,9,   2036.4,2,   -999.0,9,  -999.00,9,   1388,  -999.0,-999.0000,-999.000,-999.000, 10.9574,-999.000
   31DSCGC91_2,  P16N,    45,  1,   6221,   1004,3,19910322,1709, 40.0150,-151.9937, 5253,    251.3,   8.9502,  34.0391,2,  34.0380,2,   -999.0,5,    22.13,2,    16.39,2,     0.01,2,     1.17,2, -999.000,9, -999.000,9, -999.000,9,-999.0000,9,  -999.00,9,   -999.0,9,  -999.00,9,-999.000,9,   -999.0,9,   -999.0,9,  -999.00,9,   2877,  -999.0,-999.0000,-999.000,-999.000,  8.9232,-999.000
   31DSCGC91_2,  P16N,    45,  1,   6220,   1025,2,19910322,1709, 40.0150,-151.9937, 5253,    399.6,   7.0166,  33.9800,2,  33.9800,2,    181.0,2,    40.21,2,    24.16,2,     0.00,2,     1.69,2,    2.434,2,    1.117,2, -999.000,9,-999.0000,9,  -999.00,9,   -999.0,9,  -999.00,9,-999.000,9,   2156.0,2,   -999.0,9,  -999.00,9,   4367,  -999.0,-999.0000,-999.000,-999.000,  6.9792,-999.000
   31DSCGC91_2,  P16N,    45,  1,   6219,   1031,2,19910322,1709, 40.0150,-151.9937, 5253,    500.7,   5.8722,  33.9697,2,  33.9710,2,    131.7,2,    59.35,2,    30.58,2,     0.00,2,     2.19,2,    1.497,2,    0.686,2, -999.000,9,-999.0000,9,  -999.00,9,   -999.0,9,  -999.00,9,-999.000,9,   2210.9,2,   -999.0,9,  -999.00,9,   5380,  -999.0,-999.0000,-999.000,-999.000,  5.8294,-999.000
   31DSCGC91_2,  P16N,    45,  1,   6218,   1036,2,19910322,1709, 40.0150,-151.9937, 5253,    600.0,   4.9239,  34.0179,2,  34.0180,2,     89.3,2,    80.21,2,    35.92,2,     0.00,2,     2.56,2,    0.795,6,    0.367,6, -999.000,9,-999.0000,9,  -999.00,9,   -999.0,9,  -999.00,9,-999.000,9,   2260.1,2,   -999.0,9,  -999.00,9,   6377,  -999.0,-999.0000,-999.000,-999.000,  4.8765,-999.000
   31DSCGC91_2,  P16N,    45,  1,   6216,   1037,4,19910322,1709, 40.0150,-151.9937, 5253,    701.4,   4.3297,  34.1022,2,  34.1050,2,     54.0,2,    99.08,2,    40.06,2,     0.00,2,     2.84,2,    0.269,2,    0.129,2, -999.000,9,-999.0000,9,  -999.00,9,   -999.0,9,  -999.00,9,-999.000,9,   -999.0,9,   -999.0,9,  -999.00,9,   7393,  -999.0,-999.0000,-999.000,-999.000,  4.2769,-999.000
   31DSCGC91_2,  P16N,    45,  1,   6217,     26,2,19910322,1709, 40.0150,-151.9937, 5253,    701.4,   4.3297,  34.1022,2,  34.1040,2,     54.2,2,    99.14,2,    39.64,2,     0.00,2,     2.85,2,    0.273,2,    0.131,2, -999.000,9,-999.0000,9,  -999.00,9,   -999.0,9,  -999.00,9,-999.000,9,   2303.3,2,   -999.0,9,  -999.00,9,   7393,  -999.0,-999.0000,-999.000,-999.000,  4.2769,-999.000
   31DSCGC91_2,  P16N,    45,  1,   6215,   1032,2,19910322,1709, 40.0150,-151.9937, 5253,    998.6,   3.3384,  34.2962,2,  34.2960,2,     11.1,2,   134.28,2,    44.17,2,     0.00,2,     3.13,2,   -0.001,2,    0.012,4, -999.000,9,   1.8790,2,    13.86,2,   -999.0,9,  -999.00,9,-999.000,9,   2365.9,2,   -999.0,9,  -999.00,9,  10370,  -999.0,-999.0000,-999.000,-999.000,  3.2683,-999.000
   31DSCGC91_2,  P16N,    45,  1,   6214,   1011,2,19910322,1709, 40.0150,-151.9937, 5253,   1248.1,   2.8773,  34.4206,2,  34.4210,2,      8.2,2,   151.76,2,    44.64,2,     0.00,2,     3.16,2,    0.006,3,    0.000,2, -999.000,9,   1.8800,2,    16.76,2,   -999.0,9,  -999.00,9,-999.000,9,   2387.7,2,   -999.0,9,  -999.00,9,  12866,  -999.0,-999.0000,-999.000,-999.000,  2.7915,-999.000
   31DSCGC91_2,  P16N,    45,  1,   6213,   1033,2,19910322,1709, 40.0150,-151.9937, 5253,   1748.5,   2.2681,  34.5568,2,  34.5530,2,     35.8,2,   168.78,2,    42.97,2,     0.00,2,     3.04,2, -999.000,9, -999.000,9, -999.000,9,   1.9020,2,    22.05,2,   -999.0,9,  -999.00,9,-999.000,9,   2391.8,2,   -999.0,9,  -999.00,9,  17865,  -999.0,-999.0000,-999.000,-999.000,  2.1489,-999.000
   31DSCGC91_2,  P16N,    45,  1,   6211,   1041,2,19910322,1709, 40.0150,-151.9937, 5253,   2249.6,   1.8349,  34.6203,2,  34.6170,2,     69.2,2,   177.19,2,    41.10,2,     0.00,2,     2.88,2, -999.000,9, -999.000,9, -999.000,9,   1.9120,2,    22.22,2,   -999.0,9,  -999.00,9,-999.000,9,   2379.0,2,   -999.0,9,  -999.00,9,  22865,  -999.0,-999.0000,-999.000,-999.000,  1.6799,-999.000
   31DSCGC91_2,  P16N,    45,  1,   6212,   1019,4,19910322,1709, 40.0150,-151.9937, 5253,   2249.6,   1.8349,  34.6203,2,  34.6170,2,     68.3,2,   177.52,2,    41.20,2,     0.00,2,     2.88,2, -999.000,9, -999.000,9, -999.000,9,   1.9290,2,    21.46,2,   -999.0,9,  -999.00,9,-999.000,9,   -999.0,9,   -999.0,9,  -999.00,9,  22865,  -999.0,-999.0000,-999.000,-999.000,  1.6799,-999.000
   31DSCGC91_2,  P16N,    45,  1,   6210,   1002,2,19910322,1709, 40.0150,-151.9937, 5253,   2749.4,   1.6299,  34.6491,2,  34.6490,2,     96.4,2,   174.48,2,    39.48,2,     0.00,2,     2.74,2, -999.000,9, -999.000,9, -999.000,9,   1.9070,2,    18.74,2,   -999.0,9,  -999.00,9,-999.000,9,   2361.8,2,   -999.0,9,  -999.00,9,  27848,  -999.0,-999.0000,-999.000,-999.000,  1.4339,-999.000
   31DSCGC91_2,  P16N,    45,  1,   6208,      6,2,19910322,1709, 40.0150,-151.9937, 5253,   3252.1,   1.5228,  34.6678,2,  34.6670,2,    119.5,2,   171.25,2,    38.17,2,     0.00,2,     2.64,2, -999.000,9, -999.000,9, -999.000,9,   1.9030,2,    17.14,2,   -999.0,9,  -999.00,9,-999.000,9,   2347.6,2,   -999.0,9,  -999.00,9,  32858,  -999.0,-999.0000,-999.000,-999.000,  1.2811,-999.000
   31DSCGC91_2,  P16N,    45,  1,   6209,   1003,4,19910322,1709, 40.0150,-151.9937, 5253,   3252.1,   1.5228,  34.6678,2,  34.6660,2,    121.9,2,   171.35,2,    38.17,2,     0.00,2,     2.64,2, -999.000,9, -999.000,9, -999.000,9,   1.9110,2,    16.96,2,   -999.0,9,  -999.00,9,-999.000,9,   -999.0,9,   -999.0,9,  -999.00,9,  32858,  -999.0,-999.0000,-999.000,-999.000,  1.2811,-999.000
   31DSCGC91_2,  P16N,    45,  1,   6207,   1013,2,19910322,1709, 40.0150,-151.9937, 5253,   3505.7,   1.4978,  34.6749,2,  34.6730,2,    128.3,2,   170.50,2,    37.49,2,     0.00,2,     2.59,2, -999.000,9, -999.000,9, -999.000,9,   1.9220,2,    17.45,2,   -999.0,9,  -999.00,9,-999.000,9,   2344.1,2,   -999.0,9,  -999.00,9,  35385,  -999.0,-999.0000,-999.000,-999.000,  1.2312,-999.000
   31DSCGC91_2,  P16N,    45,  1,   6206,   1012,2,19910322,1709, 40.0150,-151.9937, 5253,   3754.8,   1.4878,  34.6799,2,  34.6830,3,    138.4,2,   173.61,2,    36.96,2,     0.00,2,     2.55,2, -999.000,9, -999.000,9, -999.000,9,   1.9230,2,    16.35,2,   -999.0,9,  -999.00,9,-999.000,9,   2338.6,2,   -999.0,9,  -999.00,9,  37868,  -999.0,-999.0000,-999.000,-999.000,  1.1955,-999.000
   31DSCGC91_2,  P16N,    45,  1,   6205,   1007,2,19910322,1709, 40.0150,-151.9937, 5253,   4255.2,   1.5038,  34.6853,2,  34.6850,2,    140.1,2,   173.94,2,    36.80,2,     0.00,2,     2.53,2, -999.000,9, -999.000,9, -999.000,9,   1.9090,2,    16.79,2,   -999.0,9,  -999.00,9,-999.000,9,   2342.7,2,   -999.0,9,  -999.00,9,  42859,  -999.0,-999.0000,-999.000,-999.000,  1.1565,-999.000
   31DSCGC91_2,  P16N,    45,  1,   6204,   1038,2,19910322,1709, 40.0150,-151.9937, 5253,   4506.0,   1.5218,  34.6858,2,  34.6860,2,    126.8,4,   172.54,2,    36.69,2,     0.00,2,     2.53,2,    0.007,3,    0.011,3, -999.000,9,   1.9100,2,    16.15,2,   -999.0,9,  -999.00,9,-999.000,9,   2336.6,2,   -999.0,9,  -999.00,9,  45362,  -999.0,-999.0000,-999.000,-999.000,  1.1454,-999.000
   31DSCGC91_2,  P16N,    45,  1,   6203,   1029,2,19910322,1709, 40.0150,-151.9937, 5253,   4758.4,   1.5449,  34.6861,2,  34.6850,2,    142.4,2,   172.64,2,    36.74,2,     0.00,2,     2.52,2,    0.001,2,    0.000,2, -999.000,9,   1.9060,2,    16.46,2,   -999.0,9,  -999.00,9,-999.000,9,   2337.2,2,   -999.0,9,  -999.00,9,  47882,  -999.0,-999.0000,-999.000,-999.000,  1.1381,-999.000
   31DSCGC91_2,  P16N,    45,  1,   6202,   1028,2,19910322,1709, 40.0150,-151.9937, 5253,   5006.5,   1.5669,  34.6876,2,  34.6890,2,    143.4,2,   169.75,2,    36.58,2,     0.00,2,     2.50,2,    0.002,2,    0.000,2, -999.000,9,   1.9110,2,    15.94,2,   -999.0,9,  -999.00,9,-999.000,9,   2334.4,2,   -999.0,9,  -999.00,9,  50361,  -999.0,-999.0000,-999.000,-999.000,  1.1295,-999.000
   31DSCGC91_2,  P16N,    45,  1,   6201,   1017,2,19910322,1709, 40.0150,-151.9937, 5253,   5277.3,   1.5969,  34.6874,2,  34.6890,2,    145.4,2,   167.08,2,    36.63,2,     0.00,2,     2.51,2,    0.001,2,    0.000,2, -999.000,9,-999.0000,9,  -999.00,9,   -999.0,9,  -999.00,9,-999.000,9,   2332.9,2,   -999.0,9,  -999.00,9,  53070,  -999.0,-999.0000,-999.000,-999.000,  1.1249,-999.000