BOTTLE,20021108WHPSIOdm
EXPOCODE,SECT_ID,STNNBR,CASTNO,SAMPNO,BTLNBR,BTLNBR_FLAG_W,DATE,TIME,LATITUDE,LONGITUDE,DEPTH,CTDPRS,CTDTMP,CTDSAL,CTDSAL_FLAG_W,SALNTY,SALNTY_FLAG_W,OXYGEN,OXYGEN_FLAG_W,SILCAT,SILCAT_FLAG_W,NITRAT,NITRAT_FLAG_W,NITRIT,NITRIT_FLAG_W,PHSPHT,PHSPHT_FLAG_W,CFC-11,CFC-11_FLAG_W,CFC-12,CFC-12_FLAG_W,TRITUM,TRITUM_FLAG_W,HELIUM,HELIUM_FLAG_W,DELHE3,DELHE3_FLAG_W,DELC14,DELC14_FLAG_W,DELC13,DELC13_FLAG_W,NEON,NEON_FLAG_W,TCARBN,TCARBN_FLAG_W,ALKALI,ALKALI_FLAG_W,PH,PH_FLAG_W,CTDRAW,C14ERR,HELIER,DELHER,NEONER,THETA,TRITER
,,,,,,,,,,,,DBAR,ITS-90,PSS-78,,PSS-78,,UMOL/KG,,UMOL/KG,,UMOL/KG,,UMOL/KG,,UMOL/KG,,PMOL/KG,,PMOL/KG,,TU,,NMOL/KG,,PERCNT,,/MILLE,,/MILLE,,NMOL/KG,,UMOL/KG,,UMOL/KG,,,,DBAR,/MILLE,NMOL/KG,PERCNT,NMOL/KG,DEG C,TU
   31DSCGC91_2,  P16N,    55,  4,   7524,   1031,2,19910327,0739, 47.0000,-152.0000, 5167,    448.8,   4.2117,  33.9766,2,  33.9770,2,     73.9,2,    89.58,2,    39.21,2,     0.00,2,     2.76,2,    1.071,2,    0.472,2, -999.000,9,-999.0000,9,  -999.00,9,   -999.0,9,  -999.00,9,-999.000,9,   2282.8,2,   -999.0,9,  -999.00,9,   4861,  -999.0,-999.0000,-999.000,-999.000,  4.1793,-999.000
   31DSCGC91_2,  P16N,    55,  4,   7523,   1023,2,19910327,0739, 47.0000,-152.0000, 5167,    500.8,   4.1177,  34.0303,2,  34.0290,2,     60.0,2,    96.52,2,    40.39,2,     0.00,2,     2.82,2,    0.763,2,    0.340,2, -999.000,9,-999.0000,9,  -999.00,9,   -120.5,2,    -0.75,2,-999.000,9,   -999.0,9,   -999.0,9,  -999.00,9,   5382,     3.6,-999.0000,-999.000,-999.000,  4.0816,-999.000
   31DSCGC91_2,  P16N,    55,  4,   7522,   1028,2,19910327,0739, 47.0000,-152.0000, 5167,    548.6,   4.0166,  34.0781,2,  34.0760,2,     49.6,2,   102.77,2,    41.75,2,     0.00,2,     2.89,2,    0.532,2,    0.245,2, -999.000,9,-999.0000,9,  -999.00,9,   -999.0,9,  -999.00,9,-999.000,9,   -999.0,9,   -999.0,9,  -999.00,9,   5862,  -999.0,-999.0000,-999.000,-999.000,  3.9773,-999.000
   31DSCGC91_2,  P16N,    55,  4,   7521,   1032,2,19910327,0739, 47.0000,-152.0000, 5167,    599.4,   3.9126,  34.1206,2,  34.1180,2,     43.0,2,   108.15,2,    42.14,2,     0.00,2,     2.91,2,    0.398,2,    0.184,2, -999.000,9,-999.0000,9,  -999.00,9,   -148.0,2,    -0.74,2,-999.000,9,   2320.5,2,   -999.0,9,  -999.00,9,   6370,     4.5,-999.0000,-999.000,-999.000,  3.8699,-999.000
   31DSCGC91_2,  P16N,    55,  4,   7519,   1007,2,19910327,0739, 47.0000,-152.0000, 5167,    648.5,   3.8096,  34.1584,2,  34.1870,3,     34.8,3,   117.92,3,    42.83,3,     0.00,3,     2.97,3,    0.203,2,    0.096,2, -999.000,9,-999.0000,9,  -999.00,9,   -163.3,2,    -0.60,2,-999.000,9,   2331.3,2,   -999.0,9,  -999.00,9,   6863,     3.0,-999.0000,-999.000,-999.000,  3.7636,-999.000
   31DSCGC91_2,  P16N,    55,  4,   7520,   1027,2,19910327,0739, 47.0000,-152.0000, 5167,    648.5,   3.8096,  34.1584,2,  34.1600,2,     37.8,2,   114.01,2,    42.63,2,     0.00,2,     2.96,2,    0.261,2,    0.126,2, -999.000,9,-999.0000,9,  -999.00,9,   -999.0,9,  -999.00,9,-999.000,9,   2327.5,2,   -999.0,9,  -999.00,9,   6863,  -999.0,-999.0000,-999.000,-999.000,  3.7636,-999.000
   31DSCGC91_2,  P16N,    55,  4,   7518,   1041,2,19910327,0739, 47.0000,-152.0000, 5167,    748.9,   3.5785,  34.2212,2,  34.2220,2,     30.9,2,   123.00,2,    43.41,2,     0.00,2,     3.00,2,    0.146,2,    0.071,2, -999.000,9,-999.0000,9,  -999.00,9,   -999.0,9,  -999.00,9,-999.000,9,   2336.8,2,   -999.0,9,  -999.00,9,   7869,  -999.0,-999.0000,-999.000,-999.000,  3.5261,-999.000
   31DSCGC91_2,  P16N,    55,  4,   7517,   1033,2,19910327,0739, 47.0000,-152.0000, 5167,    797.8,   3.4384,  34.2564,2,  34.2570,2,     30.0,2,   128.08,2,    43.31,2,     0.00,2,     3.03,2,    0.090,2,    0.046,2, -999.000,9,-999.0000,9,  -999.00,9,   -179.4,2,    -0.68,2,-999.000,9,   2344.8,2,   -999.0,9,  -999.00,9,   8359,     3.0,-999.0000,-999.000,-999.000,  3.3831,-999.000
   31DSCGC91_2,  P16N,    55,  4,   7516,   1025,2,19910327,0739, 47.0000,-152.0000, 5167,    899.1,   3.2394,  34.3049,2,  34.3100,2,     23.9,2,   135.80,2,    43.90,2,     0.00,2,     3.07,2,    0.038,2,    0.022,2, -999.000,9,-999.0000,9,  -999.00,9,   -999.0,9,  -999.00,9,-999.000,9,   2357.6,2,   -999.0,9,  -999.00,9,   9374,  -999.0,-999.0000,-999.000,-999.000,  3.1777,-999.000
   31DSCGC91_2,  P16N,    55,  4,   7515,   1017,2,19910327,0739, 47.0000,-152.0000, 5167,    997.1,   3.0543,  34.3467,2,  34.3470,2,     20.9,2,   142.54,2,    43.99,2,     0.00,2,     3.10,2,    0.013,2,    0.008,2, -999.000,9,   1.8940,2,    15.19,2,   -194.9,2,    -0.70,2,-999.000,9,   2365.1,2,   -999.0,9,  -999.00,9,  10355,     3.6,-999.0000,-999.000,-999.000,  2.9865,-999.000
   31DSCGC91_2,  P16N,    55,  4,   7514,   1036,2,19910327,0739, 47.0000,-152.0000, 5167,   1073.6,   2.9143,  34.3778,2,  34.3780,2,     19.1,2,   147.72,2,    44.58,2,     0.00,2,     3.10,2,   -0.008,3,    0.007,3, -999.000,9,   1.9030,2,    16.09,2,   -999.0,9,  -999.00,9,-999.000,9,   2371.4,2,   -999.0,9,  -999.00,9,  11120,  -999.0,-999.0000,-999.000,-999.000,  2.8417,-999.000
   31DSCGC91_2,  P16N,    55,  4,   7513,   1013,2,19910327,0739, 47.0000,-152.0000, 5167,   1250.1,   2.6662,  34.4357,2,  34.4360,2,     13.5,2,   157.78,2,    44.87,2,     0.00,2,     3.12,2,   -0.013,3,    0.000,2, -999.000,9,   1.8950,2,    17.00,2,   -212.3,2,    -0.91,2,-999.000,9,   2385.4,2,   -999.0,9,  -999.00,9,  12886,     3.6,-999.0000,-999.000,-999.000,  2.5823,-999.000
   31DSCGC91_2,  P16N,    55,  4,   7512,   1037,2,19910327,0739, 47.0000,-152.0000, 5167,   1497.0,   2.3971,  34.4909,2,  34.4900,2,     20.4,2,   166.38,2,    44.58,2,     0.00,2,     3.11,2,    0.022,4,    0.000,2, -999.000,9,   1.9030,2,    17.83,2,   -999.0,9,  -999.00,9,-999.000,9,   2391.4,2,   -999.0,9,  -999.00,9,  15353,  -999.0,-999.0000,-999.000,-999.000,  2.2967,-999.000
   31DSCGC91_2,  P16N,    55,  4,   7511,   1003,2,19910327,0739, 47.0000,-152.0000, 5167,   1748.3,   2.1881,  34.5394,2,  34.5400,2,     30.0,2,   172.63,2,    44.18,2,     0.00,2,     3.06,2,    0.003,2,    0.009,3, -999.000,9,   1.9080,2,    19.34,2,   -999.0,9,  -999.00,9,-999.000,9,   2390.5,2,   -999.0,9,  -999.00,9,  17863,  -999.0,-999.0000,-999.000,-999.000,  2.0700,-999.000
   31DSCGC91_2,  P16N,    55,  4,   7510,   1011,2,19910327,0739, 47.0000,-152.0000, 5167,   1997.7,   2.0000,  34.5782,2,  34.5800,2,     45.6,2,   176.34,2,    43.01,2,     0.00,2,     2.98,2,    0.018,4,    0.000,2, -999.000,9,   1.9150,2,    19.90,2,   -999.0,9,  -999.00,9,-999.000,9,   2386.1,2,   -999.0,9,  -999.00,9,  20352,  -999.0,-999.0000,-999.000,-999.000,  1.8639,-999.000
   31DSCGC91_2,  P16N,    55,  4,   7509,     26,2,19910327,0739, 47.0000,-152.0000, 5167,   2250.3,   1.8650,  34.6039,2,  34.6060,2,     62.1,2,   177.70,2,    42.32,2,     0.00,2,     2.93,2,    0.027,4,    0.011,4, -999.000,9,   1.9110,2,    19.99,2,   -999.0,9,  -999.00,9,-999.000,9,   2376.1,2,   -999.0,9,  -999.00,9,  22872,  -999.0,-999.0000,-999.000,-999.000,  1.7094,-999.000
   31DSCGC91_2,  P16N,    55,  4,   7508,   1019,2,19910327,0739, 47.0000,-152.0000, 5167,   2500.1,   1.7609,  34.6245,2,  34.6250,2,     76.5,2,   178.58,2,    41.44,2,     0.00,2,     2.86,2,   -0.002,2,    0.000,2, -999.000,9,   1.9220,2,    19.31,2,   -999.0,9,  -999.00,9,-999.000,9,   2371.6,2,   -999.0,9,  -999.00,9,  25363,  -999.0,-999.0000,-999.000,-999.000,  1.5852,-999.000
   31DSCGC91_2,  P16N,    55,  4,   7507,   1004,2,19910327,0739, 47.0000,-152.0000, 5167,   2752.9,   1.6669,  34.6412,2,  34.6390,2,     90.8,2,   176.92,2,    40.47,2,     0.00,2,     2.78,2,    0.010,3,    0.000,2, -999.000,9,   1.9170,2,    18.61,2,   -999.0,9,  -999.00,9,-999.000,9,   2363.9,2,   -999.0,9,  -999.00,9,  27883,  -999.0,-999.0000,-999.000,-999.000,  1.4699,-999.000
   31DSCGC91_2,  P16N,    55,  4,   7505,   1026,4,19910327,0739, 47.0000,-152.0000, 5167,   3254.2,   1.5509,  34.6641,2,  34.6640,2,    116.9,2,   172.13,2,    38.71,2,     0.00,2,     2.66,2,    0.026,4,    0.000,2, -999.000,9,   1.9210,2,    17.52,2,   -999.0,9,  -999.00,9,-999.000,9,   -999.0,9,   -999.0,9,  -999.00,9,  32879,  -999.0,-999.0000,-999.000,-999.000,  1.3082,-999.000
   31DSCGC91_2,  P16N,    55,  4,   7506,   1002,2,19910327,0739, 47.0000,-152.0000, 5167,   3254.2,   1.5509,  34.6641,2,  34.6640,2,    116.5,2,   172.22,2,    38.51,2,     0.00,2,     2.67,2,    0.007,3,    0.000,2, -999.000,9,-999.0000,9,  -999.00,9,   -999.0,9,  -999.00,9,-999.000,9,   2347.3,2,   -999.0,9,  -999.00,9,  32879,  -999.0,-999.0000,-999.000,-999.000,  1.3082,-999.000
   31DSCGC91_2,  P16N,    55,  4,   7504,      6,2,19910327,0739, 47.0000,-152.0000, 5167,   4007.6,   1.4878,  34.6822,2,  34.6820,2,    139.5,2,   168.12,2,    36.85,2,     0.00,2,     2.55,2,    0.018,4,    0.000,2, -999.000,9,   1.9070,2,    16.67,2,   -999.0,9,  -999.00,9,-999.000,9,   2330.8,2,   -999.0,9,  -999.00,9,  40389,  -999.0,-999.0000,-999.000,-999.000,  1.1684,-999.000
   31DSCGC91_2,  P16N,    55,  4,   7503,   1029,2,19910327,0739, 47.0000,-152.0000, 5167,   4509.1,   1.5158,  34.6860,2,  34.6900,3,    143.0,2,   170.95,2,    36.65,2,     0.00,2,     2.52,2,    0.009,3,    0.008,3, -999.000,9,   1.8970,2,    16.59,2,   -999.0,9,  -999.00,9,-999.000,9,   2330.6,2,   -999.0,9,  -999.00,9,  45392,  -999.0,-999.0000,-999.000,-999.000,  1.1393,-999.000
   31DSCGC91_2,  P16N,    55,  4,   7502,   1012,2,19910327,0739, 47.0000,-152.0000, 5167,   5007.4,   1.5609,  34.6875,2,  34.6880,2,    145.6,2,   171.83,2,    36.65,2,     0.00,2,     2.51,2,   -0.007,3,    0.000,2, -999.000,9,   1.9130,2,    16.19,2,   -999.0,9,  -999.00,9,-999.000,9,   2329.0,2,   -999.0,9,  -999.00,9,  50370,  -999.0,-999.0000,-999.000,-999.000,  1.1236,-999.000
   31DSCGC91_2,  P16N,    55,  4,   7501,   1016,2,19910327,0739, 47.0000,-152.0000, 5167,   5234.7,   1.5889,  34.6876,2,  34.6880,2,    145.1,2,   171.73,2,    36.16,2,     0.00,2,     2.52,2,    0.015,4,    0.000,2, -999.000,9,   1.9040,2,    16.05,2,   -999.0,9,  -999.00,9,-999.000,9,   2329.1,2,   -999.0,9,  -999.00,9,  52644,  -999.0,-999.0000,-999.000,-999.000,  1.1225,-999.000
   31DSCGC91_2,  P16N,    56,  1,   7624,   1031,2,19910327,1545, 47.6657,-152.0070, 5116,     29.7,   6.3574,  32.6662,2,  32.6670,2,    308.2,2,    23.87,2,    14.70,2,     0.19,2,     1.33,2,    4.804,2,    2.332,2, -999.000,9,-999.0000,9,  -999.00,9,   -999.0,9,  -999.00,9,-999.000,9,   -999.0,9,   -999.0,9,     7.82,2,    651,  -999.0,-999.0000,-999.000,-999.000,  6.3549,-999.000
   31DSCGC91_2,  P16N,    56,  1,   7623,   1023,2,19910327,1545, 47.6657,-152.0070, 5116,     76.3,   6.3604,  32.6662,2,  32.6660,2,    308.5,2,    23.65,2,    14.70,2,     0.19,2,     1.34,2,    4.720,3,    2.298,3, -999.000,9,-999.0000,9,  -999.00,9,   -999.0,9,  -999.00,9,-999.000,9,   -999.0,9,   -999.0,9,     7.82,2,   1120,  -999.0,-999.0000,-999.000,-999.000,  6.3539,-999.000
   31DSCGC91_2,  P16N,    56,  1,   7622,   1028,2,19910327,1545, 47.6657,-152.0070, 5116,    123.1,   5.0049,  33.1604,2,  33.1870,3,    283.1,2,    30.37,2,    19.50,2,     0.01,2,     1.57,2,    4.825,2,    2.369,2, -999.000,9,-999.0000,9,  -999.00,9,   -999.0,9,  -999.00,9,-999.000,9,   -999.0,9,   -999.0,9,     7.73,2,   1590,  -999.0,-999.0000,-999.000,-999.000,  4.9957,-999.000
   31DSCGC91_2,  P16N,    56,  1,   7621,   1032,2,19910327,1545, 47.6657,-152.0070, 5116,    149.4,   5.8272,  33.7326,2,  33.7140,3,    231.2,2,    37.69,2,    22.28,2,     0.00,2,     1.67,2,    3.884,2,    1.839,2, -999.000,9,-999.0000,9,  -999.00,9,   -999.0,9,  -999.00,9,-999.000,9,   -999.0,9,   -999.0,9,     7.68,2,   1853,  -999.0,-999.0000,-999.000,-999.000,  5.8149,-999.000
   31DSCGC91_2,  P16N,    56,  1,   7620,   1027,2,19910327,1545, 47.6657,-152.0070, 5116,    174.4,   5.5431,  33.7950,2,  33.7960,2,    209.1,2,    43.63,2,    24.67,2,     0.00,2,     1.82,2,    3.439,2,    1.625,2, -999.000,9,-999.0000,9,  -999.00,9,   -999.0,9,  -999.00,9,-999.000,9,   -999.0,9,   -999.0,9,     7.64,2,   2106,  -999.0,-999.0000,-999.000,-999.000,  5.5291,-999.000
   31DSCGC91_2,  P16N,    56,  1,   7619,   1007,2,19910327,1545, 47.6657,-152.0070, 5116,    199.8,   5.1890,  33.7847,2,  33.7870,2,    205.3,2,    47.59,2,    26.06,2,     0.00,2,     1.91,2,    3.367,3,    1.608,3, -999.000,9,-999.0000,9,  -999.00,9,   -999.0,9,  -999.00,9,-999.000,9,   -999.0,9,   -999.0,9,     7.61,2,   2361,  -999.0,-999.0000,-999.000,-999.000,  5.1735,-999.000
   31DSCGC91_2,  P16N,    56,  1,   7618,   1041,2,19910327,1545, 47.6657,-152.0070, 5116,    300.0,   4.2647,  33.8231,2,  33.8160,2,    132.5,2,    70.34,2,    33.92,2,     0.00,2,     2.44,2,    2.304,3,    1.079,3, -999.000,9,-999.0000,9,  -999.00,9,   -999.0,9,  -999.00,9,-999.000,9,   -999.0,9,   -999.0,9,     7.45,2,   3367,  -999.0,-999.0000,-999.000,-999.000,  4.2433,-999.000
   31DSCGC91_2,  P16N,    56,  1,   7617,   1033,2,19910327,1545, 47.6657,-152.0070, 5116,    351.6,   4.1757,  33.8866,2,  33.8850,2,    101.1,2,    80.55,2,    36.71,2,     0.00,2,     2.64,2,    1.790,3,    0.804,3, -999.000,9,-999.0000,9,  -999.00,9,   -999.0,9,  -999.00,9,-999.000,9,   -999.0,9,   -999.0,9,     7.40,2,   3885,  -999.0,-999.0000,-999.000,-999.000,  4.1507,-999.000
   31DSCGC91_2,  P16N,    56,  1,   7616,   1025,2,19910327,1545, 47.6657,-152.0070, 5116,    452.2,   3.8756,  33.9867,2,  33.9950,2,     58.4,2,    98.48,2,    40.65,2,     0.00,2,     2.91,2,    0.956,3,    0.444,3, -999.000,9,-999.0000,9,  -999.00,9,   -999.0,9,  -999.00,9,-999.000,9,   -999.0,9,   -999.0,9,     7.32,2,   4895,  -999.0,-999.0000,-999.000,-999.000,  3.8441,-999.000
   31DSCGC91_2,  P16N,    56,  1,   7615,   1017,2,19910327,1545, 47.6657,-152.0070, 5116,    546.6,   3.7786,  34.0845,2,  34.0780,2,     42.0,2,   108.20,2,    41.84,2,     0.00,2,     2.98,2,    0.599,3,    0.263,3, -999.000,9,-999.0000,9,  -999.00,9,   -999.0,9,  -999.00,9,-999.000,9,   -999.0,9,   -999.0,9,     7.31,2,   5842,  -999.0,-999.0000,-999.000,-999.000,  3.7404,-999.000
   31DSCGC91_2,  P16N,    56,  1,   7614,   1036,2,19910327,1545, 47.6657,-152.0070, 5116,    648.1,   3.6765,  34.1748,2,  34.1760,2,     34.8,2,   117.55,2,    42.16,2,     0.00,2,     3.00,2,    0.265,3,    0.128,3, -999.000,9,-999.0000,9,  -999.00,9,   -999.0,9,  -999.00,9,-999.000,9,   -999.0,9,   -999.0,9,     7.31,2,   6859,  -999.0,-999.0000,-999.000,-999.000,  3.6312,-999.000
   31DSCGC91_2,  P16N,    56,  1,   7613,   1013,2,19910327,1545, 47.6657,-152.0070, 5116,    746.1,   3.4454,  34.2412,2,  34.2410,2,     27.9,2,   127.57,2,    42.88,2,     0.00,2,     3.05,2,    0.151,3,    0.068,3, -999.000,9,-999.0000,9,  -999.00,9,   -999.0,9,  -999.00,9,-999.000,9,   -999.0,9,   -999.0,9,     7.30,2,   7840,  -999.0,-999.0000,-999.000,-999.000,  3.3940,-999.000
   31DSCGC91_2,  P16N,    56,  1,   7612,   1037,2,19910327,1545, 47.6657,-152.0070, 5116,    848.2,   3.2514,  34.2922,2,  34.2930,2,     25.7,2,   134.75,2,    43.47,2,     0.00,2,     3.06,2,    0.078,3,    0.039,3, -999.000,9,-999.0000,9,  -999.00,9,   -999.0,9,  -999.00,9,-999.000,9,   -999.0,9,   -999.0,9,     7.30,2,   8864,  -999.0,-999.0000,-999.000,-999.000,  3.1934,-999.000
   31DSCGC91_2,  P16N,    56,  1,   7611,   1003,2,19910327,1545, 47.6657,-152.0070, 5116,    923.2,   3.1013,  34.3282,2,  34.3260,2,     24.2,2,   140.09,2,    43.52,2,     0.00,2,     3.08,2,    0.045,3,    0.029,3, -999.000,9,-999.0000,9,  -999.00,9,   -999.0,9,  -999.00,9,-999.000,9,   -999.0,9,   -999.0,9,     7.30,2,   9615,  -999.0,-999.0000,-999.000,-999.000,  3.0387,-999.000
   31DSCGC91_2,  P16N,    56,  1,   7610,   1011,2,19910327,1545, 47.6657,-152.0070, 5116,   1076.1,   2.8373,  34.3865,2,  34.3930,2,     21.9,2,   149.83,2,    43.84,2,     0.00,2,     3.10,2,    0.032,3,    0.029,3, -999.000,9,-999.0000,9,  -999.00,9,   -999.0,9,  -999.00,9,-999.000,9,   -999.0,9,   -999.0,9,     7.31,2,  11145,  -999.0,-999.0000,-999.000,-999.000,  2.7651,-999.000
   31DSCGC91_2,  P16N,    56,  1,   7609,     26,2,19910327,1545, 47.6657,-152.0070, 5116,   1174.6,   2.7152,  34.4152,2,  34.4190,2,     21.9,2,   153.96,2,    43.82,2,     0.00,2,     3.11,2,    0.015,3,    0.008,3, -999.000,9,-999.0000,9,  -999.00,9,   -999.0,9,  -999.00,9,-999.000,9,   -999.0,9,   -999.0,9,     7.31,2,  12131,  -999.0,-999.0000,-999.000,-999.000,  2.6366,-999.000
   31DSCGC91_2,  P16N,    56,  1,   7608,   1019,2,19910327,1545, 47.6657,-152.0070, 5116,   1371.1,   2.4571,  34.4716,2,  34.4720,2,     23.0,2,   162.31,2,    44.21,2,     0.00,2,     3.11,2,    0.000,2,    0.000,2, -999.000,9,-999.0000,9,  -999.00,9,   -999.0,9,  -999.00,9,-999.000,9,   -999.0,9,   -999.0,9,     7.32,2,  14095,  -999.0,-999.0000,-999.000,-999.000,  2.3659,-999.000
   31DSCGC91_2,  P16N,    56,  1,   7607,   1004,2,19910327,1545, 47.6657,-152.0070, 5116,   1495.3,   2.3481,  34.4951,2,  34.4960,2,     24.7,2,   166.70,2,    44.39,2,     0.00,2,     3.10,2, -999.000,9, -999.000,9, -999.000,9,-999.0000,9,  -999.00,9,   -999.0,9,  -999.00,9,-999.000,9,   -999.0,9,   -999.0,9,     7.32,2,  15336,  -999.0,-999.0000,-999.000,-999.000,  2.2484,-999.000
   31DSCGC91_2,  P16N,    56,  1,   7606,   1002,2,19910327,1545, 47.6657,-152.0070, 5116,   1999.7,   1.9750,  34.5806,2,  34.5810,2,     45.8,2,   177.03,2,    42.90,2,     0.00,2,     3.01,2, -999.000,9, -999.000,9, -999.000,9,-999.0000,9,  -999.00,9,   -999.0,9,  -999.00,9,-999.000,9,   -999.0,9,   -999.0,9,     7.37,2,  20372,  -999.0,-999.0000,-999.000,-999.000,  1.8391,-999.000
   31DSCGC91_2,  P16N,    56,  1,   7605,   1026,2,19910327,1545, 47.6657,-152.0070, 5116,   3002.2,   1.5949,  34.6530,2,  34.6540,2,    101.7,2,   174.85,2,    39.41,2,     0.00,2,     2.73,2, -999.000,9, -999.000,9, -999.000,9,-999.0000,9,  -999.00,9,   -999.0,9,  -999.00,9,-999.000,9,   -999.0,9,   -999.0,9,     7.49,2,  30368,  -999.0,-999.0000,-999.000,-999.000,  1.3758,-999.000
   31DSCGC91_2,  P16N,    56,  1,   7604,      6,2,19910327,1545, 47.6657,-152.0070, 5116,   4006.3,   1.4858,  34.6800,2,  34.6820,2,    139.4,2,   169.09,2,    37.00,2,     0.00,2,     2.57,2, -999.000,9, -999.000,9, -999.000,9,-999.0000,9,  -999.00,9,   -999.0,9,  -999.00,9,-999.000,9,   -999.0,9,   -999.0,9,     7.56,2,  40376,  -999.0,-999.0000,-999.000,-999.000,  1.1666,-999.000
   31DSCGC91_2,  P16N,    56,  1,   7602,   1012,2,19910327,1545, 47.6657,-152.0070, 5116,   5004.4,   1.5649,  34.6845,2,  34.6890,2,    139.1,3,   172.39,2,    36.70,2,     0.00,2,     2.54,2, -999.000,9, -999.000,9, -999.000,9,-999.0000,9,  -999.00,9,   -999.0,9,  -999.00,9,-999.000,9,   -999.0,9,   -999.0,9,     7.58,2,  50340,  -999.0,-999.0000,-999.000,-999.000,  1.1278,-999.000
   31DSCGC91_2,  P16N,    56,  1,   7603,   1029,4,19910327,1545, 47.6657,-152.0070, 5116,   5004.4,   1.5649,  34.6845,2,  34.6890,2,    140.8,3,   172.22,2,    36.85,2,     0.00,2,     2.54,2, -999.000,9, -999.000,9, -999.000,9,-999.0000,9,  -999.00,9,   -999.0,9,  -999.00,9,-999.000,9,   -999.0,9,   -999.0,9,     7.58,2,  50340,  -999.0,-999.0000,-999.000,-999.000,  1.1278,-999.000
   31DSCGC91_2,  P16N,    56,  1,   7601,   1016,2,19910327,1545, 47.6657,-152.0070, 5116,   5161.4,   1.5839,  34.6844,2,  34.6860,2,    141.4,3,   172.35,2,    36.76,2,     0.00,2,     2.54,2, -999.000,9, -999.000,9, -999.000,9,-999.0000,9,  -999.00,9,   -999.0,9,  -999.00,9,-999.000,9,   -999.0,9,   -999.0,9,     7.58,2,  51910,  -999.0,-999.0000,-999.000,-999.000,  1.1269,-999.000