BOTTLE,20021108WHPSIOdm
EXPOCODE,SECT_ID,STNNBR,CASTNO,SAMPNO,BTLNBR,BTLNBR_FLAG_W,DATE,TIME,LATITUDE,LONGITUDE,DEPTH,CTDPRS,CTDTMP,CTDSAL,CTDSAL_FLAG_W,SALNTY,SALNTY_FLAG_W,OXYGEN,OXYGEN_FLAG_W,SILCAT,SILCAT_FLAG_W,NITRAT,NITRAT_FLAG_W,NITRIT,NITRIT_FLAG_W,PHSPHT,PHSPHT_FLAG_W,CFC-11,CFC-11_FLAG_W,CFC-12,CFC-12_FLAG_W,TRITUM,TRITUM_FLAG_W,HELIUM,HELIUM_FLAG_W,DELHE3,DELHE3_FLAG_W,DELC14,DELC14_FLAG_W,DELC13,DELC13_FLAG_W,NEON,NEON_FLAG_W,TCARBN,TCARBN_FLAG_W,ALKALI,ALKALI_FLAG_W,PH,PH_FLAG_W,CTDRAW,C14ERR,HELIER,DELHER,NEONER,THETA,TRITER
,,,,,,,,,,,,DBAR,ITS-90,PSS-78,,PSS-78,,UMOL/KG,,UMOL/KG,,UMOL/KG,,UMOL/KG,,UMOL/KG,,PMOL/KG,,PMOL/KG,,TU,,NMOL/KG,,PERCNT,,/MILLE,,/MILLE,,NMOL/KG,,UMOL/KG,,UMOL/KG,,,,DBAR,/MILLE,NMOL/KG,PERCNT,NMOL/KG,DEG C,TU
   31DSCGC91_2,  P16N,    24,  1,   3624,   1027,2,19910313,0910, 25.3367,-151.9948, 5498,      7.5,  21.3460,  35.3409,2,  35.3420,2,    220.4,2,     2.39,2,     0.00,2,     0.00,2,     0.05,2,    2.137,2,    1.139,2, -999.000,9,-999.0000,9,  -999.00,9,   -999.0,9,  -999.00,9,-999.000,9,   -999.0,9,   -999.0,9,  -999.00,9,    428,  -999.0,-999.0000,-999.000,-999.000, 21.3446,-999.000
   31DSCGC91_2,  P16N,    24,  1,   3623,   1016,2,19910313,0910, 25.3367,-151.9948, 5498,     27.3,  21.3530,  35.3402,2,  35.3420,2,    220.1,2,     2.39,2,     0.00,2,     0.00,2,     0.05,2,    2.145,2,    1.144,2, -999.000,9,-999.0000,9,  -999.00,9,   -999.0,9,  -999.00,9,-999.000,9,   -999.0,9,   -999.0,9,  -999.00,9,    627,  -999.0,-999.0000,-999.000,-999.000, 21.3478,-999.000
   31DSCGC91_2,  P16N,    24,  1,   3622,   1026,2,19910313,0910, 25.3367,-151.9948, 5498,     55.4,  21.3460,  35.3433,2,  35.3510,2,    220.4,2,     2.19,2,     0.00,2,     0.00,2,     0.04,2,    2.162,2,    1.145,2, -999.000,9,-999.0000,9,  -999.00,9,   -999.0,9,  -999.00,9,-999.000,9,   -999.0,9,   -999.0,9,  -999.00,9,    909,  -999.0,-999.0000,-999.000,-999.000, 21.3353,-999.000
   31DSCGC91_2,  P16N,    24,  1,   3621,   1004,2,19910313,0910, 25.3367,-151.9948, 5498,     78.6,  20.9229,  35.3784,2,  35.3800,2,    220.8,2,     2.19,2,     0.00,2,     0.00,2,     0.04,2,    2.168,6,    1.162,6, -999.000,9,-999.0000,9,  -999.00,9,   -999.0,9,  -999.00,9,-999.000,9,   -999.0,9,   -999.0,9,  -999.00,9,   1143,  -999.0,-999.0000,-999.000,-999.000, 20.9079,-999.000
   31DSCGC91_2,  P16N,    24,  1,   3620,   1025,2,19910313,0910, 25.3367,-151.9948, 5498,    102.8,  20.6768,  35.3688,2,  35.3680,2,    221.5,2,     2.19,2,     0.00,2,     0.00,2,     0.03,2,    2.213,2,    1.166,2, -999.000,9,-999.0000,9,  -999.00,9,   -999.0,9,  -999.00,9,-999.000,9,   -999.0,9,   -999.0,9,  -999.00,9,   1386,  -999.0,-999.0000,-999.000,-999.000, 20.6574,-999.000
   31DSCGC91_2,  P16N,    24,  1,   3619,   1031,2,19910313,0910, 25.3367,-151.9948, 5498,    152.6,  18.6572,  35.0887,2,  35.0870,2,    207.8,2,     3.18,2,     1.25,2,     0.10,2,     0.17,2,    2.362,2,    1.230,2, -999.000,9,-999.0000,9,  -999.00,9,   -999.0,9,  -999.00,9,-999.000,9,   -999.0,9,   -999.0,9,  -999.00,9,   1886,  -999.0,-999.0000,-999.000,-999.000, 18.6303,-999.000
   31DSCGC91_2,  P16N,    24,  1,   3618,   1036,2,19910313,0910, 25.3367,-151.9948, 5498,    209.4,  15.8553,  34.6566,2,  34.6180,2,    200.2,2,     5.77,2,     5.27,2,     0.01,2,     0.45,2,    2.396,2,    1.232,2, -999.000,9,-999.0000,9,  -999.00,9,   -999.0,9,  -999.00,9,-999.000,9,   -999.0,9,   -999.0,9,  -999.00,9,   2457,  -999.0,-999.0000,-999.000,-999.000, 15.8225,-999.000
   31DSCGC91_2,  P16N,    24,  1,   3617,     26,2,19910313,0910, 25.3367,-151.9948, 5498,    290.5,  11.8741,  34.2029,2,  34.2120,2,    195.3,2,    11.94,2,    11.72,2,     0.01,2,     0.90,2,    2.349,2,    1.168,2, -999.000,9,-999.0000,9,  -999.00,9,   -999.0,9,  -999.00,9,-999.000,9,   -999.0,9,   -999.0,9,  -999.00,9,   3272,  -999.0,-999.0000,-999.000,-999.000, 11.8366,-999.000
   31DSCGC91_2,  P16N,    24,  1,   3616,   1037,2,19910313,0910, 25.3367,-151.9948, 5498,    397.8,   8.8581,  34.0811,2,  34.0820,2,    162.9,2,    29.26,2,    22.02,2,     0.00,2,     1.58,2,    1.613,2,    0.788,2, -999.000,9,-999.0000,9,  -999.00,9,   -999.0,9,  -999.00,9,-999.000,9,   -999.0,9,   -999.0,9,  -999.00,9,   4349,  -999.0,-999.0000,-999.000,-999.000,  8.8154,-999.000
   31DSCGC91_2,  P16N,    24,  1,   3615,   1032,2,19910313,0910, 25.3367,-151.9948, 5498,    502.4,   6.7045,  34.0246,2,  34.0240,2,    113.6,2,    53.21,2,    31.53,2,     0.01,2,     2.20,2,    0.688,2,    0.339,2, -999.000,9,-999.0000,9,  -999.00,9,   -999.0,9,  -999.00,9,-999.000,9,   -999.0,9,   -999.0,9,  -999.00,9,   5398,  -999.0,-999.0000,-999.000,-999.000,  6.6583,-999.000
   31DSCGC91_2,  P16N,    24,  1,   3614,      4,2,19910313,0910, 25.3367,-151.9948, 5498,    593.3,   5.4931,  34.0700,2,  34.0670,2,     62.2,2,    75.09,2,    38.10,2,     0.00,2,     2.70,2,    0.176,2,    0.100,2, -999.000,9,-999.0000,9,  -999.00,9,   -999.0,9,  -999.00,9,-999.000,9,   -999.0,9,   -999.0,9,  -999.00,9,   6310,  -999.0,-999.0000,-999.000,-999.000,  5.4436,-999.000
   31DSCGC91_2,  P16N,    24,  1,   3613,   1033,2,19910313,0910, 25.3367,-151.9948, 5498,    706.5,   4.6658,  34.1991,2,  34.2020,2,     24.8,2,    97.93,2,    42.25,2,     0.00,2,     3.03,2,    0.014,2,    0.010,2, -999.000,9,-999.0000,9,  -999.00,9,   -999.0,9,  -999.00,9,-999.000,9,   -999.0,9,   -999.0,9,  -999.00,9,   7444,  -999.0,-999.0000,-999.000,-999.000,  4.6106,-999.000
   31DSCGC91_2,  P16N,    24,  1,   3612,   1019,2,19910313,0910, 25.3367,-151.9948, 5498,    896.7,   4.1367,  34.3926,2,  34.3930,2,     23.8,2,   113.61,2,    43.14,2,     0.00,2,     3.10,2,    0.000,2,    0.000,2, -999.000,9,-999.0000,9,  -999.00,9,   -999.0,9,  -999.00,9,-999.000,9,   -999.0,9,   -999.0,9,  -999.00,9,   9350,  -999.0,-999.0000,-999.000,-999.000,  4.0687,-999.000
   31DSCGC91_2,  P16N,    24,  1,   3611,   1041,2,19910313,0910, 25.3367,-151.9948, 5498,   1134.6,   3.4464,  34.5008,2,  34.4920,2,     44.0,2,   127.15,2,    42.83,2,     0.00,2,     3.02,2,    0.003,2,    0.000,2, -999.000,9,-999.0000,9,  -999.00,9,   -999.0,9,  -999.00,9,-999.000,9,   -999.0,9,   -999.0,9,  -999.00,9,  11730,  -999.0,-999.0000,-999.000,-999.000,  3.3643,-999.000
   31DSCGC91_2,  P16N,    24,  1,   3610,   1002,2,19910313,0910, 25.3367,-151.9948, 5498,   1395.7,   2.9133,  34.5554,2,  34.5530,2,     60.9,2,   139.96,2,    42.07,2,     0.00,2,     2.95,2,    0.001,2,    0.000,2, -999.000,9,-999.0000,9,  -999.00,9,   -999.0,9,  -999.00,9,-999.000,9,   -999.0,9,   -999.0,9,  -999.00,9,  14341,  -999.0,-999.0000,-999.000,-999.000,  2.8150,-999.000
   31DSCGC91_2,  P16N,    24,  1,   3609,   1003,2,19910313,0910, 25.3367,-151.9948, 5498,   1696.6,   2.4211,  34.5920,2,  34.5890,2,     74.6,2,   150.77,2,    41.26,2,     0.00,2,     2.88,2,    0.000,2,    0.000,2, -999.000,9,-999.0000,9,  -999.00,9,   -999.0,9,  -999.00,9,-999.000,9,   -999.0,9,   -999.0,9,  -999.00,9,  17347,  -999.0,-999.0000,-999.000,-999.000,  2.3040,-999.000
   31DSCGC91_2,  P16N,    24,  1,   3608,      6,2,19910313,0910, 25.3367,-151.9948, 5498,   2001.8,   2.0440,  34.6176,2,  34.6170,2,     86.3,2,   161.02,2,    40.13,2,     0.00,2,     2.82,2,    0.001,2,    0.000,2, -999.000,9,-999.0000,9,  -999.00,9,   -999.0,9,  -999.00,9,-999.000,9,   -999.0,9,   -999.0,9,  -999.00,9,  20393,  -999.0,-999.0000,-999.000,-999.000,  1.9068,-999.000
   31DSCGC91_2,  P16N,    24,  1,   3607,   1013,2,19910313,0910, 25.3367,-151.9948, 5498,   2505.7,   1.7329,  34.6468,2,  34.6470,2,    104.0,2,   166.89,2,    39.44,2,     0.00,2,     2.71,2,    0.001,2,    0.000,2, -999.000,9,-999.0000,9,  -999.00,9,   -999.0,9,  -999.00,9,-999.000,9,   -999.0,9,   -999.0,9,  -999.00,9,  25418,  -999.0,-999.0000,-999.000,-999.000,  1.5571,-999.000
   31DSCGC91_2,  P16N,    24,  1,   3606,   1012,2,19910313,0910, 25.3367,-151.9948, 5498,   3004.8,   1.5639,  34.6689,2,  34.6670,2,    122.9,2,   166.62,2,    38.70,2,     0.00,2,     2.61,2,    0.005,2,    0.000,2, -999.000,9,-999.0000,9,  -999.00,9,   -999.0,9,  -999.00,9,-999.000,9,   -999.0,9,   -999.0,9,  -999.00,9,  30393,  -999.0,-999.0000,-999.000,-999.000,  1.3452,-999.000
   31DSCGC91_2,  P16N,    24,  1,   3605,   1007,2,19910313,0910, 25.3367,-151.9948, 5498,   3500.8,   1.4918,  34.6785,2,  34.6870,4,    135.8,2,   163.39,2,    37.52,2,     0.00,2,     2.56,2,    0.007,2,    0.000,2, -999.000,9,-999.0000,9,  -999.00,9,   -999.0,9,  -999.00,9,-999.000,9,   -999.0,9,   -999.0,9,  -999.00,9,  35337,  -999.0,-999.0000,-999.000,-999.000,  1.2258,-999.000
   31DSCGC91_2,  P16N,    24,  1,   3604,   1038,2,19910313,0910, 25.3367,-151.9948, 5498,   4005.7,   1.4718,  34.6841,2,  34.6830,2,    145.6,2,   159.12,2,    36.78,2,     0.00,2,     2.50,2,    0.014,4,    0.000,2, -999.000,9,-999.0000,9,  -999.00,9,   -999.0,9,  -999.00,9,-999.000,9,   -999.0,9,   -999.0,9,  -999.00,9,  40370,  -999.0,-999.0000,-999.000,-999.000,  1.1530,-999.000
   31DSCGC91_2,  P16N,    24,  1,   3603,   1029,2,19910313,0910, 25.3367,-151.9948, 5498,   4505.4,   1.4748,  34.6881,2,  34.6880,2,    153.9,2,   153.40,2,    36.29,2,     0.00,2,     2.44,2,    0.027,4,    0.005,2, -999.000,9,-999.0000,9,  -999.00,9,   -999.0,9,  -999.00,9,-999.000,9,   -999.0,9,   -999.0,9,  -999.00,9,  45356,  -999.0,-999.0000,-999.000,-999.000,  1.0999,-999.000
   31DSCGC91_2,  P16N,    24,  1,   3602,   1028,2,19910313,0910, 25.3367,-151.9948, 5498,   5006.1,   1.4758,  34.6923,2,  34.6920,2,    162.2,2,   146.45,2,    35.62,2,     0.00,2,     2.40,2,    0.009,3,    0.000,2, -999.000,9,-999.0000,9,  -999.00,9,   -999.0,9,  -999.00,9,-999.000,9,   -999.0,9,   -999.0,9,  -999.00,9,  50357,  -999.0,-999.0000,-999.000,-999.000,  1.0416,-999.000
   31DSCGC91_2,  P16N,    24,  1,   3601,   1017,2,19910313,0910, 25.3367,-151.9948, 5498,   5544.0,   1.5258,  34.6928,2,  34.6930,2,    164.5,2,   144.11,2,    35.13,2,     0.00,2,     2.40,2,    0.001,2,    0.007,3, -999.000,9,-999.0000,9,  -999.00,9,   -999.0,9,  -999.00,9,-999.000,9,   -999.0,9,   -999.0,9,  -999.00,9,  55740,  -999.0,-999.0000,-999.000,-999.000,  1.0226,-999.000
   31DSCGC91_2,  P16N,    25,  1,   3723,   1016,2,19910313,1625, 26.0023,-151.9947, 5372,      8.2,  20.9739,  35.3753,2,  35.3770,2,    221.2,2,     2.18,2,     0.00,2,     0.00,2,     0.04,2,    2.204,2,    1.182,2,    1.889,2,   1.7160,2,    -1.88,2,   -999.0,9,  -999.00,9,   6.859,2,   1999.7,2,   -999.0,9,     8.08,2,    435,  -999.0,  0.0090,   0.150,   0.036, 20.9724,   0.006
   31DSCGC91_2,  P16N,    25,  1,   3721,   1004,2,19910313,1625, 26.0023,-151.9947, 5372,     21.9,  20.9809,  35.3759,2,  35.3790,2,    222.5,2,     2.18,2,     0.00,2,     0.00,2,     0.04,2,    2.176,2,    1.155,2, -999.000,9,-999.0000,9,  -999.00,9,   -999.0,9,  -999.00,9,-999.000,9,   1999.3,2,   -999.0,9,     8.08,2,    573,  -999.0,-999.0000,-999.000,-999.000, 20.9767,-999.000
   31DSCGC91_2,  P16N,    25,  1,   3719,   1031,2,19910313,1625, 26.0023,-151.9947, 5372,     39.4,  20.9829,  35.3753,2,  35.3760,2,    221.4,2,     2.18,2,     0.00,2,     0.00,2,     0.04,2,    2.153,2,    1.251,3, -999.000,9,-999.0000,9,  -999.00,9,   -999.0,9,  -999.00,9,-999.000,9,   2000.1,2,   -999.0,9,     8.08,2,    749,  -999.0,-999.0000,-999.000,-999.000, 20.9754,-999.000
   31DSCGC91_2,  P16N,    25,  1,   3717,     26,2,19910313,1625, 26.0023,-151.9947, 5372,     60.6,  20.6858,  35.3778,2,  35.3770,2,    220.2,2,     2.18,2,     0.00,2,     0.00,2,     0.04,2,    2.128,2,    1.174,2, -999.000,9,-999.0000,9,  -999.00,9,   -999.0,9,  -999.00,9,-999.000,9,   2005.6,2,   -999.0,9,     8.07,2,    961,  -999.0,-999.0000,-999.000,-999.000, 20.6744,-999.000
   31DSCGC91_2,  P16N,    25,  1,   3715,   1032,2,19910313,1625, 26.0023,-151.9947, 5372,     81.3,  20.5518,  35.3721,2,  35.3750,2,    221.2,2,     2.18,2,     0.00,2,     0.00,2,     0.04,2,    2.224,2,    1.163,2,    1.996,2,   1.7150,2,    -1.37,2,   -999.0,9,  -999.00,9,   6.829,2,   2006.9,2,   -999.0,9,     8.06,2,   1170,  -999.0,  0.0090,   0.150,   0.036, 20.5365,   0.064
   31DSCGC91_2,  P16N,    25,  1,   3713,   1033,2,19910313,1625, 26.0023,-151.9947, 5372,    100.9,  20.3967,  35.3745,2,  35.3750,2,    221.3,2,     2.18,2,     0.00,2,     0.00,2,     0.04,2,    2.218,2,    1.193,2, -999.000,9,-999.0000,9,  -999.00,9,   -999.0,9,  -999.00,9,-999.000,9,   2007.6,2,   -999.0,9,     8.06,2,   1367,  -999.0,-999.0000,-999.000,-999.000, 20.3778,-999.000
   31DSCGC91_2,  P16N,    25,  1,   3712,   1019,2,19910313,1625, 26.0023,-151.9947, 5372,    126.4,  20.3267,  35.3638,2,  35.3680,2,    222.0,2,     2.18,2,     0.00,2,     0.00,2,     0.04,2,    2.252,2,    1.197,2,    1.956,2,   1.7250,2,    -1.24,2,   -999.0,9,  -999.00,9,   6.875,2,   2006.9,2,   -999.0,9,     8.06,2,   1623,  -999.0,  0.0090,   0.150,   0.036, 20.3031,   0.006
   31DSCGC91_2,  P16N,    25,  1,   3711,   1041,2,19910313,1625, 26.0023,-151.9947, 5372,    151.4,  18.7022,  35.1097,2,  35.1130,2,    212.1,2,     2.77,2,     0.87,2,     0.09,2,     0.14,2,    2.379,2,    1.238,2, -999.000,9,-999.0000,9,  -999.00,9,   -999.0,9,  -999.00,9,-999.000,9,   2026.1,2,   -999.0,9,     8.01,2,   1873,  -999.0,-999.0000,-999.000,-999.000, 18.6755,-999.000
   31DSCGC91_2,  P16N,    25,  1,   3710,   1002,2,19910313,1625, 26.0023,-151.9947, 5372,    177.3,  17.3338,  34.9004,2,  34.9240,2,    207.0,2,     3.37,2,     2.34,2,     0.03,2,     0.25,2,    2.382,2,    1.248,2, -999.000,9,-999.0000,9,  -999.00,9,   -999.0,9,  -999.00,9,-999.000,9,   2032.3,2,   -999.0,9,     7.97,2,   2135,  -999.0,-999.0000,-999.000,-999.000, 17.3042,-999.000
   31DSCGC91_2,  P16N,    25,  1,   3709,   1003,2,19910313,1625, 26.0023,-151.9947, 5372,    199.9,  15.8343,  34.7019,2,  34.6940,2,    207.2,2,     4.75,2,     3.76,2,     0.01,2,     0.35,2,    2.513,2,    1.311,2,    2.168,2,   1.7310,2,     1.25,2,   -999.0,9,  -999.00,9,   7.119,2,   2036.1,2,   -999.0,9,     7.94,2,   2362,  -999.0,  0.0090,   0.150,   0.038, 15.8030,   0.007
   31DSCGC91_2,  P16N,    25,  1,   3708,      6,2,19910313,1625, 26.0023,-151.9947, 5372,    251.3,  12.9244,  34.3156,2,  34.3060,2,    208.3,2,     8.52,2,     8.62,2,     0.01,2,     0.68,2,    2.571,2,    1.298,2,    2.168,2,   1.7710,2,     3.21,2,   -999.0,9,  -999.00,9,   7.347,2,   2053.4,2,   -999.0,9,     7.87,2,   2877,  -999.0,  0.0090,   0.150,   0.039, 12.8901,   0.068
   31DSCGC91_2,  P16N,    25,  1,   3707,   1013,2,19910313,1625, 26.0023,-151.9947, 5372,    300.2,  11.3819,  34.2103,2,  34.2080,2,    214.6,2,    12.08,2,    11.76,2,     0.01,2,     0.86,2,    2.609,2,    1.318,2,    2.394,2,   1.7670,2,     4.10,2,   -999.0,9,  -999.00,9,   7.362,2,   2067.3,2,   -999.0,9,     7.84,2,   3369,  -999.0,  0.0090,   0.150,   0.039, 11.3442,   0.066
   31DSCGC91_2,  P16N,    25,  1,   3706,   1012,2,19910313,1625, 26.0023,-151.9947, 5372,    352.1,  10.2566,  34.1506,2,  34.1480,2,    212.2,2,    16.64,2,    14.53,2,     0.00,2,     1.05,2,    2.456,2,    1.238,2,    2.202,2,   1.7640,2,     5.93,2,   -999.0,9,  -999.00,9,   7.452,2,   2084.5,2,   -999.0,9,     7.80,2,   3890,  -999.0,  0.0090,   0.150,   0.039, 10.2152,   0.006
   31DSCGC91_2,  P16N,    25,  1,   3705,   1007,2,19910313,1625, 26.0023,-151.9947, 5372,    400.8,   8.8021,  34.0780,2,  34.0760,2,    188.2,2,    26.95,2,    20.03,2,     0.00,2,     1.42,2,    1.973,2,    0.974,2,    2.263,2,   1.7930,2,    11.77,2,   -999.0,9,  -999.00,9,   7.539,2,   2121.9,2,   -999.0,9,     7.72,2,   4379,  -999.0,  0.0090,   0.150,   0.040,  8.7592,   0.066
   31DSCGC91_2,  P16N,    25,  1,   3704,   1038,2,19910313,1625, 26.0023,-151.9947, 5372,    450.3,   7.7958,  34.0384,2,  34.0360,2,    160.3,2,    37.47,2,    25.17,2,     0.00,2,     1.77,2,    1.452,2,    0.729,2,    2.236,2,   1.7990,2,    15.82,2,   -999.0,9,  -999.00,9,   7.623,2,   2158.3,2,   -999.0,9,     7.64,2,   4876,  -999.0,  0.0090,   0.150,   0.040,  7.7508,   0.065
   31DSCGC91_2,  P16N,    25,  1,   3703,   1029,2,19910313,1625, 26.0023,-151.9947, 5372,    499.7,   6.4334,  34.0060,2,  34.0040,2,    123.3,2,    54.20,2,    30.76,2,     0.00,2,     2.19,2,    0.817,2,    0.428,2,    1.878,2,   1.8080,2,    19.63,2,   -999.0,9,  -999.00,9,   7.696,2,   2206.1,2,   -999.0,9,     7.53,2,   5370,  -999.0,  0.0090,   0.150,   0.041,  6.3885,   0.067
   31DSCGC91_2,  P16N,    25,  1,   3702,   1028,2,19910313,1625, 26.0023,-151.9947, 5372,    550.1,   5.6731,  34.0199,2,  34.0190,2,     87.9,2,    68.59,2,    35.87,2,     0.00,2,     2.54,2,    0.366,2,    0.199,2, -999.000,9,-999.0000,9,  -999.00,9,   -999.0,9,  -999.00,9,-999.000,9,   2247.9,2,   -999.0,9,     7.44,2,   5877,  -999.0,-999.0000,-999.000,-999.000,  5.6267,-999.000
   31DSCGC91_2,  P16N,    25,  1,   3701,   1017,2,19910313,1625, 26.0023,-151.9947, 5372,    602.2,   5.1810,  34.0656,2,  34.0620,2,     60.0,2,    79.83,2,    39.04,2,     0.00,2,     2.78,2,    0.176,2,    0.128,2,    0.736,2,-999.0000,9,  -999.00,9,   -999.0,9,  -999.00,9,-999.000,9,   2277.8,2,   -999.0,9,     7.38,2,   6399,  -999.0,-999.0000,-999.000,-999.000,  5.1321,   0.051