BOTTLE,20021108WHPSIOdm
EXPOCODE,SECT_ID,STNNBR,CASTNO,SAMPNO,BTLNBR,BTLNBR_FLAG_W,DATE,TIME,LATITUDE,LONGITUDE,DEPTH,CTDPRS,CTDTMP,CTDSAL,CTDSAL_FLAG_W,SALNTY,SALNTY_FLAG_W,OXYGEN,OXYGEN_FLAG_W,SILCAT,SILCAT_FLAG_W,NITRAT,NITRAT_FLAG_W,NITRIT,NITRIT_FLAG_W,PHSPHT,PHSPHT_FLAG_W,CFC-11,CFC-11_FLAG_W,CFC-12,CFC-12_FLAG_W,TRITUM,TRITUM_FLAG_W,HELIUM,HELIUM_FLAG_W,DELHE3,DELHE3_FLAG_W,DELC14,DELC14_FLAG_W,DELC13,DELC13_FLAG_W,NEON,NEON_FLAG_W,TCARBN,TCARBN_FLAG_W,ALKALI,ALKALI_FLAG_W,PH,PH_FLAG_W,CTDRAW,C14ERR,HELIER,DELHER,NEONER,THETA,TRITER
,,,,,,,,,,,,DBAR,ITS-90,PSS-78,,PSS-78,,UMOL/KG,,UMOL/KG,,UMOL/KG,,UMOL/KG,,UMOL/KG,,PMOL/KG,,PMOL/KG,,TU,,NMOL/KG,,PERCNT,,/MILLE,,/MILLE,,NMOL/KG,,UMOL/KG,,UMOL/KG,,,,DBAR,/MILLE,NMOL/KG,PERCNT,NMOL/KG,DEG C,TU
   31DSCGC91_2,  P16N,    53,  2,   7212,   1028,2,19910326,0405, 45.6845,-151.9927, 5250,      8.0,   7.9449,  32.8788,2,  32.8760,2,    298.2,2,    13.20,2,     9.48,2,     0.21,2,     0.98,2,    4.222,2,    2.171,2, -999.000,9,-999.0000,9,  -999.00,9,   -999.0,9,  -999.00,9,-999.000,9,   2020.1,2,   -999.0,9,     7.86,2,    433,  -999.0,-999.0000,-999.000,-999.000,  7.9441,-999.000
   31DSCGC91_2,  P16N,    53,  2,   7211,   1027,2,19910326,0405, 45.6845,-151.9927, 5250,     31.5,   7.9439,  32.8794,2,  32.8750,2,    300.1,2,    13.17,2,     9.49,2,     0.21,2,     0.99,2,    4.228,2,    2.127,2, -999.000,9,-999.0000,9,  -999.00,9,   -999.0,9,  -999.00,9,-999.000,9,   2020.8,2,   -999.0,9,     7.85,2,    669,  -999.0,-999.0000,-999.000,-999.000,  7.9408,-999.000
   31DSCGC91_2,  P16N,    53,  2,   7210,   1041,2,19910326,0405, 45.6845,-151.9927, 5250,     75.4,   7.8838,  32.8759,2,  32.8730,2,    296.3,2,    13.15,2,     9.66,2,     0.23,2,     1.00,2,    4.214,2,    2.148,2, -999.000,9,-999.0000,9,  -999.00,9,   -999.0,9,  -999.00,9,-999.000,9,   2023.2,2,   -999.0,9,     7.85,2,   1111,  -999.0,-999.0000,-999.000,-999.000,  7.8766,-999.000
   31DSCGC91_2,  P16N,    53,  2,   7209,   1025,2,19910326,0405, 45.6845,-151.9927, 5250,    125.6,   6.4764,  33.3927,2,  33.3310,4,    277.4,2,    24.45,2,    16.26,2,     0.02,2,     1.35,2,    4.330,2,    2.200,2, -999.000,9,-999.0000,9,  -999.00,9,   -999.0,9,  -999.00,9,-999.000,9,   2076.7,2,   -999.0,9,     7.77,2,   1615,  -999.0,-999.0000,-999.000,-999.000,  6.4655,-999.000
   31DSCGC91_2,  P16N,    53,  2,   7208,   1036,2,19910326,0405, 45.6845,-151.9927, 5250,    150.0,   6.5834,  33.5938,2,  33.5960,2,    255.9,2,    28.98,2,    18.26,2,     0.01,2,     1.43,2,    3.983,2,    1.975,2, -999.000,9,-999.0000,9,  -999.00,9,   -999.0,9,  -999.00,9,-999.000,9,   2100.9,2,   -999.0,9,     7.74,2,   1860,  -999.0,-999.0000,-999.000,-999.000,  6.5702,-999.000
   31DSCGC91_2,  P16N,    53,  2,   7207,   1037,2,19910326,0405, 45.6845,-151.9927, 5250,    174.9,   6.4684,  33.7891,2,  33.7820,2,    234.8,2,    33.92,2,    20.62,2,     0.01,2,     1.57,2,    3.625,2,    1.758,2, -999.000,9,-999.0000,9,  -999.00,9,   -999.0,9,  -999.00,9,-999.000,9,   2125.9,2,   -999.0,9,     7.70,2,   2111,  -999.0,-999.0000,-999.000,-999.000,  6.4531,-999.000
   31DSCGC91_2,  P16N,    53,  2,   7206,   1011,2,19910326,0405, 45.6845,-151.9927, 5250,    199.3,   6.2273,  33.8380,2,  33.8390,2,    222.4,2,    38.65,2,    22.50,2,     0.00,2,     1.68,2,    3.333,2,    1.668,2, -999.000,9,-999.0000,9,  -999.00,9,   -999.0,9,  -999.00,9,-999.000,9,   2142.1,2,   -999.0,9,     7.67,2,   2356,  -999.0,-999.0000,-999.000,-999.000,  6.2102,-999.000
   31DSCGC91_2,  P16N,    53,  2,   7205,   1019,2,19910326,0405, 45.6845,-151.9927, 5250,    302.4,   5.0459,  33.8428,2,  33.8420,2,    161.0,2,    59.13,2,    30.08,2,     0.00,2,     2.20,2,    2.446,2,    1.158,2, -999.000,9,-999.0000,9,  -999.00,9,   -999.0,9,  -999.00,9,-999.000,9,   2202.6,2,   -999.0,9,     7.52,2,   3391,  -999.0,-999.0000,-999.000,-999.000,  5.0225,-999.000
   31DSCGC91_2,  P16N,    53,  2,   7204,   1002,2,19910326,0405, 45.6845,-151.9927, 5250,    347.8,   4.7168,  33.8732,2,  33.8680,2,    131.4,2,    68.48,2,    33.14,2,     0.00,2,     2.39,2,    1.984,2,    0.938,2, -999.000,9,-999.0000,9,  -999.00,9,   -999.0,9,  -999.00,9,-999.000,9,   2229.9,2,   -999.0,9,     7.47,2,   3847,  -999.0,-999.0000,-999.000,-999.000,  4.6907,-999.000
   31DSCGC91_2,  P16N,    53,  2,   7203,      6,2,19910326,0405, 45.6845,-151.9927, 5250,    450.1,   4.2737,  33.9650,2,  33.9550,2,     86.0,2,    86.29,2,    37.55,2,     0.00,2,     2.72,2,    1.228,2,    0.557,2, -999.000,9,-999.0000,9,  -999.00,9,   -999.0,9,  -999.00,9,-999.000,9,   2273.0,2,   -999.0,9,     7.38,2,   4874,  -999.0,-999.0000,-999.000,-999.000,  4.2410,-999.000
   31DSCGC91_2,  P16N,    53,  2,   7202,   1012,2,19910326,0405, 45.6845,-151.9927, 5250,    549.5,   4.0446,  34.0817,2,  34.0780,2,     56.1,2,   102.59,2,    40.50,2,     0.00,2,     2.90,2,    0.545,2,    0.253,2, -999.000,9,-999.0000,9,  -999.00,9,   -999.0,9,  -999.00,9,-999.000,9,   2306.5,2,   -999.0,9,     7.33,2,   5870,  -999.0,-999.0000,-999.000,-999.000,  4.0051,-999.000
   31DSCGC91_2,  P16N,    53,  2,   7201,   1031,2,19910326,0405, 45.6845,-151.9927, 5250,    646.8,   3.7936,  34.1546,2,  34.1480,2,     42.6,2,   113.50,2,    41.69,2,     0.00,2,     2.99,2,    0.323,2,    0.148,2, -999.000,9,-999.0000,9,  -999.00,9,   -999.0,9,  -999.00,9,-999.000,9,   2327.1,2,   -999.0,9,     7.31,2,   6845,  -999.0,-999.0000,-999.000,-999.000,  3.7478,-999.000
   31DSCGC91_2,  P16N,    54,  1,   7324,   1031,2,19910326,1006, 46.3368,-151.9878, 5402,      8.2,   7.8478,  32.8525,2,  32.8780,3,    299.7,2,    12.68,2,     9.73,2,     0.23,2,     1.00,2,    4.432,6,    2.177,6, -999.000,9,-999.0000,9,  -999.00,9,   -999.0,9,  -999.00,9,-999.000,9,   -999.0,9,   -999.0,9,  -999.00,9,    435,  -999.0,-999.0000,-999.000,-999.000,  7.8470,-999.000
   31DSCGC91_2,  P16N,    54,  1,   7323,   1024,3,19910326,1006, 46.3368,-151.9878, 5402,     51.1,   7.7368,  32.8428,2,  32.8840,4,    299.8,2,    13.06,2,     9.91,2,     0.23,2,     1.00,2,    4.729,3,    2.177,2, -999.000,9,-999.0000,9,  -999.00,9,   -999.0,9,  -999.00,9,-999.000,9,   -999.0,9,   -999.0,9,  -999.00,9,    866,  -999.0,-999.0000,-999.000,-999.000,  7.7319,-999.000
   31DSCGC91_2,  P16N,    54,  1,   7322,   1028,2,19910326,1006, 46.3368,-151.9878, 5402,    102.0,   7.4947,  32.8702,2,  32.8630,2,    297.1,2,    14.42,2,    10.95,2,     0.23,2,     1.07,2,    4.425,2,    2.208,2, -999.000,9,-999.0000,9,  -999.00,9,   -999.0,9,  -999.00,9,-999.000,9,   -999.0,9,   -999.0,9,  -999.00,9,   1378,  -999.0,-999.0000,-999.000,-999.000,  7.4852,-999.000
   31DSCGC91_2,  P16N,    54,  1,   7321,   1032,2,19910326,1006, 46.3368,-151.9878, 5402,    250.6,   5.4661,  33.8146,2,  33.8180,2,    206.2,2,    45.69,2,    25.14,2,     0.01,2,     1.84,2,    3.292,2,    1.549,2, -999.000,9,-999.0000,9,  -999.00,9,   -999.0,9,  -999.00,9,-999.000,9,   -999.0,9,   -999.0,9,  -999.00,9,   2871,  -999.0,-999.0000,-999.000,-999.000,  5.4459,-999.000
   31DSCGC91_2,  P16N,    54,  1,   7320,   1027,2,19910326,1006, 46.3368,-151.9878, 5402,    399.7,   4.4087,  33.9250,2,  33.9200,2,     90.3,2,    80.38,2,    36.69,2,     0.01,2,     2.62,2,    1.372,2,    0.618,2, -999.000,9,-999.0000,9,  -999.00,9,   -999.0,9,  -999.00,9,-999.000,9,   -999.0,9,   -999.0,9,  -999.00,9,   4368,  -999.0,-999.0000,-999.000,-999.000,  4.3794,-999.000
   31DSCGC91_2,  P16N,    54,  1,   7319,   1007,2,19910326,1006, 46.3368,-151.9878, 5402,    499.2,   4.2077,  34.0382,2,  34.0340,2,     60.9,2,    95.16,2,    39.89,2,     0.00,2,     2.82,2,    0.713,2,    0.326,6, -999.000,9,-999.0000,9,  -999.00,9,   -999.0,9,  -999.00,9,-999.000,9,   -999.0,9,   -999.0,9,  -999.00,9,   5365,  -999.0,-999.0000,-999.000,-999.000,  4.1714,-999.000
   31DSCGC91_2,  P16N,    54,  1,   7318,   1041,2,19910326,1006, 46.3368,-151.9878, 5402,    599.4,   3.9616,  34.1325,2,  34.1290,2,     41.5,2,   108.01,2,    41.52,2,     0.00,2,     2.94,2,    0.293,2,    0.128,2, -999.000,9,-999.0000,9,  -999.00,9,   -999.0,9,  -999.00,9,-999.000,9,   -999.0,9,   -999.0,9,  -999.00,9,   6370,  -999.0,-999.0000,-999.000,-999.000,  3.9186,-999.000
   31DSCGC91_2,  P16N,    54,  1,   7317,   1033,2,19910326,1006, 46.3368,-151.9878, 5402,    698.7,   3.6935,  34.1998,2,  34.1950,2,     32.8,2,   118.52,2,    42.38,2,     0.00,2,     3.00,2,    0.164,2,    0.078,2, -999.000,9,-999.0000,9,  -999.00,9,   -999.0,9,  -999.00,9,-999.000,9,   -999.0,9,   -999.0,9,  -999.00,9,   7365,  -999.0,-999.0000,-999.000,-999.000,  3.6443,-999.000
   31DSCGC91_2,  P16N,    54,  1,   7316,   1025,2,19910326,1006, 46.3368,-151.9878, 5402,    799.8,   3.4685,  34.2562,2,  34.2510,2,     27.2,2,   127.24,2,    42.74,2,     0.00,2,     3.04,2,    0.087,2,    0.038,2, -999.000,9,-999.0000,9,  -999.00,9,   -999.0,9,  -999.00,9,-999.000,9,   -999.0,9,   -999.0,9,  -999.00,9,   8379,  -999.0,-999.0000,-999.000,-999.000,  3.4128,-999.000
   31DSCGC91_2,  P16N,    54,  1,   7315,   1017,2,19910326,1006, 46.3368,-151.9878, 5402,    999.2,   3.0173,  34.3545,2,  34.3530,2,     19.0,2,   144.04,2,    44.04,2,     0.00,2,     3.08,2,    0.028,3,    0.000,3, -999.000,9,-999.0000,9,  -999.00,9,   -999.0,9,  -999.00,9,-999.000,9,   -999.0,9,   -999.0,9,  -999.00,9,  10376,  -999.0,-999.0000,-999.000,-999.000,  2.9496,-999.000
   31DSCGC91_2,  P16N,    54,  1,   7314,   1036,2,19910326,1006, 46.3368,-151.9878, 5402,   1250.0,   2.6542,  34.4363,2,  34.4330,2,     15.1,2,   157.89,2,    44.08,2,     0.00,2,     3.13,2,   -0.005,2,    0.000,2, -999.000,9,-999.0000,9,  -999.00,9,   -999.0,9,  -999.00,9,-999.000,9,   -999.0,9,   -999.0,9,  -999.00,9,  12885,  -999.0,-999.0000,-999.000,-999.000,  2.5704,-999.000
   31DSCGC91_2,  P16N,    54,  1,   7313,   1013,2,19910326,1006, 46.3368,-151.9878, 5402,   1498.8,   2.3881,  34.4947,2,  34.4950,2,     17.9,2,   167.47,2,    44.62,2,     0.00,2,     3.11,2,    0.025,4,    0.000,2, -999.000,9,-999.0000,9,  -999.00,9,   -999.0,9,  -999.00,9,-999.000,9,   -999.0,9,   -999.0,9,  -999.00,9,  15371,  -999.0,-999.0000,-999.000,-999.000,  2.2876,-999.000
   31DSCGC91_2,  P16N,    54,  1,   7312,   1037,2,19910326,1006, 46.3368,-151.9878, 5402,   1751.5,   2.1540,  34.5446,2,  34.5420,2,     30.6,2,   173.53,2,    43.46,2,     0.00,2,     3.05,2,    0.016,4,    0.014,4, -999.000,9,-999.0000,9,  -999.00,9,   -999.0,9,  -999.00,9,-999.000,9,   -999.0,9,   -999.0,9,  -999.00,9,  17895,  -999.0,-999.0000,-999.000,-999.000,  2.0361,-999.000
   31DSCGC91_2,  P16N,    54,  1,   7311,   1003,2,19910326,1006, 46.3368,-151.9878, 5402,   2250.1,   1.8429,  34.6090,2,  34.6070,2,     63.0,2,   179.19,2,    41.48,2,     0.00,2,     2.91,2,    0.007,3,    0.000,2, -999.000,9,-999.0000,9,  -999.00,9,   -999.0,9,  -999.00,9,-999.000,9,   -999.0,9,   -999.0,9,  -999.00,9,  22870,  -999.0,-999.0000,-999.000,-999.000,  1.6878,-999.000
   31DSCGC91_2,  P16N,    54,  1,   7310,   1011,2,19910326,1006, 46.3368,-151.9878, 5402,   2502.6,   1.7269,  34.6300,2,  34.6280,2,     80.0,2,   178.09,2,    40.51,2,     0.00,2,     2.84,2, -999.000,9, -999.000,9, -999.000,9,-999.0000,9,  -999.00,9,   -999.0,9,  -999.00,9,-999.000,9,   -999.0,9,   -999.0,9,  -999.00,9,  25388,  -999.0,-999.0000,-999.000,-999.000,  1.5515,-999.000
   31DSCGC91_2,  P16N,    54,  1,   7308,   1019,4,19910326,1006, 46.3368,-151.9878, 5402,   2753.1,   1.6489,  34.6443,2,  34.6420,2,     93.1,2,   176.11,2,    39.97,2,     0.00,2,     2.77,2, -999.000,9, -999.000,9, -999.000,9,-999.0000,9,  -999.00,9,   -999.0,9,  -999.00,9,-999.000,9,   -999.0,9,   -999.0,9,  -999.00,9,  27885,  -999.0,-999.0000,-999.000,-999.000,  1.4522,-999.000
   31DSCGC91_2,  P16N,    54,  1,   7309,     26,2,19910326,1006, 46.3368,-151.9878, 5402,   2753.1,   1.6489,  34.6443,2,  34.6420,2,     94.1,2,   176.57,2,    39.42,2,     0.00,2,     2.77,2, -999.000,9, -999.000,9, -999.000,9,-999.0000,9,  -999.00,9,   -999.0,9,  -999.00,9,-999.000,9,   -999.0,9,   -999.0,9,  -999.00,9,  27885,  -999.0,-999.0000,-999.000,-999.000,  1.4522,-999.000
   31DSCGC91_2,  P16N,    54,  1,   7306,   1002,2,19910326,1006, 46.3368,-151.9878, 5402,   3504.2,   1.5078,  34.6723,2,  34.6720,2,    127.7,2,   168.45,2,    37.42,2,     0.00,2,     2.60,2, -999.000,9, -999.000,9, -999.000,9,-999.0000,9,  -999.00,9,   -999.0,9,  -999.00,9,-999.000,9,   -999.0,9,   -999.0,9,  -999.00,9,  35370,  -999.0,-999.0000,-999.000,-999.000,  1.2411,-999.000
   31DSCGC91_2,  P16N,    54,  1,   7307,   1004,2,19910326,1006, 46.3368,-151.9878, 5402,   3504.2,   1.5078,  34.6723,2,  34.6700,2,    127.8,2,   168.28,2,    37.31,2,     0.00,2,     2.60,2, -999.000,9, -999.000,9, -999.000,9,-999.0000,9,  -999.00,9,   -999.0,9,  -999.00,9,-999.000,9,   -999.0,9,   -999.0,9,  -999.00,9,  35370,  -999.0,-999.0000,-999.000,-999.000,  1.2411,-999.000
   31DSCGC91_2,  P16N,    54,  1,   7305,   1026,2,19910326,1006, 46.3368,-151.9878, 5402,   4256.4,   1.4908,  34.6839,2,  34.6830,2,    143.4,2,   167.99,2,    36.58,2,     0.00,2,     2.53,2, -999.000,9, -999.000,9, -999.000,9,-999.0000,9,  -999.00,9,   -999.0,9,  -999.00,9,-999.000,9,   -999.0,9,   -999.0,9,  -999.00,9,  42871,  -999.0,-999.0000,-999.000,-999.000,  1.1438,-999.000
   31DSCGC91_2,  P16N,    54,  1,   7304,      6,2,19910326,1006, 46.3368,-151.9878, 5402,   4750.4,   1.5308,  34.6870,2,  34.6850,2,    144.8,2,   171.10,2,    36.19,2,     0.00,2,     2.53,2, -999.000,9, -999.000,9, -999.000,9,-999.0000,9,  -999.00,9,   -999.0,9,  -999.00,9,-999.000,9,   -999.0,9,   -999.0,9,  -999.00,9,  47802,  -999.0,-999.0000,-999.000,-999.000,  1.1255,-999.000
   31DSCGC91_2,  P16N,    54,  1,   7303,   1009,2,19910326,1006, 46.3368,-151.9878, 5402,   5008.9,   1.5589,  34.6878,2,  34.6890,2,    146.3,2,   171.49,2,    36.54,2,     0.00,2,     2.52,2, -999.000,9, -999.000,9, -999.000,9,-999.0000,9,  -999.00,9,   -999.0,9,  -999.00,9,-999.000,9,   -999.0,9,   -999.0,9,  -999.00,9,  50385,  -999.0,-999.0000,-999.000,-999.000,  1.1215,-999.000
   31DSCGC91_2,  P16N,    54,  1,   7302,   1012,2,19910326,1006, 46.3368,-151.9878, 5402,   5454.3,   1.6149,  34.6859,2,  34.6860,2,    145.8,2,   172.29,2,    36.52,2,     0.00,2,     2.51,2, -999.000,9, -999.000,9, -999.000,9,-999.0000,9,  -999.00,9,   -999.0,9,  -999.00,9,-999.000,9,   -999.0,9,   -999.0,9,  -999.00,9,  54842,  -999.0,-999.0000,-999.000,-999.000,  1.1199,-999.000
   31DSCGC91_2,  P16N,    55,  1,   7415,   1017,4,19910326,1621, 47.0052,-151.9992, 5167,      5.2,   7.5637,  32.8472,2,  32.8440,2,    300.4,2,    13.21,2,    10.67,2,     0.21,2,     1.05,2,    4.338,2,    2.224,2, -999.000,9,-999.0000,9,  -999.00,9,   -999.0,9,  -999.00,9,-999.000,9,   -999.0,9,   -999.0,9,  -999.00,9,    405,  -999.0,-999.0000,-999.000,-999.000,  7.5632,-999.000
   31DSCGC91_2,  P16N,    55,  1,   7417,   1033,2,19910326,1621, 47.0052,-151.9992, 5167,      5.2,   7.5637,  32.8472,2,  32.8450,2,    300.4,2,    13.21,2,    10.47,2,     0.21,2,     1.04,2,    4.325,2,    2.203,2, -999.000,9,-999.0000,9,  -999.00,9,   -999.0,9,  -999.00,9,-999.000,9,   2021.9,2,   -999.0,9,  -999.00,9,    405,  -999.0,-999.0000,-999.000,-999.000,  7.5632,-999.000
   31DSCGC91_2,  P16N,    55,  1,   7419,   1007,2,19910326,1621, 47.0052,-151.9992, 5167,      5.2,   7.5637,  32.8472,2,  32.8440,2,    300.4,2,    13.21,2,    10.47,2,     0.21,2,     1.04,2,    4.429,2,    2.202,2, -999.000,9,-999.0000,9,  -999.00,9,     41.5,6,     1.60,2,-999.000,9,   2021.1,2,   -999.0,9,  -999.00,9,    405,     6.4,-999.0000,-999.000,-999.000,  7.5632,-999.000
   31DSCGC91_2,  P16N,    55,  1,   7413,   1013,4,19910326,1621, 47.0052,-151.9992, 5167,     42.2,   7.5657,  32.8473,2,  32.8470,2,    299.1,2,    13.41,2,    10.67,2,     0.22,2,     1.05,2,    4.306,2,    2.188,2, -999.000,9,-999.0000,9,  -999.00,9,     40.7,2,     1.02,2,-999.000,9,   -999.0,9,   -999.0,9,  -999.00,9,    776,     3.8,-999.0000,-999.000,-999.000,  7.5618,-999.000
   31DSCGC91_2,  P16N,    55,  1,   7411,   1003,2,19910326,1621, 47.0052,-151.9992, 5167,     82.2,   7.1326,  32.8094,2,  32.8070,2,    299.6,2,    16.54,2,    12.23,2,     0.22,2,     1.15,2,    4.388,2,    2.208,2, -999.000,9,-999.0000,9,  -999.00,9,   -999.0,9,  -999.00,9,-999.000,9,   2027.9,2,   -999.0,9,  -999.00,9,   1179,  -999.0,-999.0000,-999.000,-999.000,  7.1252,-999.000
   31DSCGC91_2,  P16N,    55,  1,   7409,     26,2,19910326,1621, 47.0052,-151.9992, 5167,    101.1,   6.4734,  33.3011,2,  33.3130,3,    282.4,2,    23.19,2,    15.95,2,     0.03,2,     1.31,2,    4.495,2,    2.264,2, -999.000,9,-999.0000,9,  -999.00,9,     37.0,2,     0.85,2,-999.000,9,   2071.9,2,   -999.0,9,  -999.00,9,   1368,     3.7,-999.0000,-999.000,-999.000,  6.4647,-999.000
   31DSCGC91_2,  P16N,    55,  1,   7408,   1019,2,19910326,1621, 47.0052,-151.9992, 5167,    126.8,   6.4464,  33.4193,2,  33.4150,2,    281.6,2,    24.16,2,    15.95,2,     0.02,2,     1.29,2,    4.408,2,    2.189,2, -999.000,9,-999.0000,9,  -999.00,9,     36.2,2,     0.90,2,-999.000,9,   2076.9,2,   -999.0,9,  -999.00,9,   1627,     3.7,-999.0000,-999.000,-999.000,  6.4354,-999.000
   31DSCGC91_2,  P16N,    55,  1,   7407,   1004,2,19910326,1621, 47.0052,-151.9992, 5167,    150.8,   6.4344,  33.5769,2,  33.5470,3,    264.6,2,    27.78,2,    17.90,2,     0.01,2,     1.39,2,    4.123,2,    2.067,2, -999.000,9,-999.0000,9,  -999.00,9,     27.0,2,     0.75,2,-999.000,9,   2096.1,2,   -999.0,9,  -999.00,9,   1868,     4.3,-999.0000,-999.000,-999.000,  6.4213,-999.000
   31DSCGC91_2,  P16N,    55,  1,   7406,   1002,2,19910326,1621, 47.0052,-151.9992, 5167,    178.4,   6.0483,  33.7600,2,  33.7400,3,    233.2,2,    35.99,2,    22.11,2,     0.01,2,     1.64,2,    3.772,2,    1.789,2, -999.000,9,-999.0000,9,  -999.00,9,   -999.0,9,  -999.00,9,-999.000,9,   2131.6,2,   -999.0,9,  -999.00,9,   2146,  -999.0,-999.0000,-999.000,-999.000,  6.0332,-999.000
   31DSCGC91_2,  P16N,    55,  1,   7405,   1026,2,19910326,1621, 47.0052,-151.9992, 5167,    202.9,   5.7622,  33.8115,2,  33.8070,2,    218.4,2,    41.47,2,    24.06,2,     0.00,2,     1.77,2,    3.515,2,    1.659,2, -999.000,9,-999.0000,9,  -999.00,9,      0.4,2,     0.41,2,-999.000,9,   2149.6,2,   -999.0,9,  -999.00,9,   2392,     3.6,-999.0000,-999.000,-999.000,  5.7455,-999.000
   31DSCGC91_2,  P16N,    55,  1,   7404,      6,2,19910326,1621, 47.0052,-151.9992, 5167,    251.7,   5.1510,  33.8185,2,  33.8170,2,    184.9,2,    51.84,2,    28.07,2,     0.00,2,     2.03,2,    2.943,2,    1.387,2, -999.000,9,-999.0000,9,  -999.00,9,    -22.3,2,     0.16,2,-999.000,9,   2183.1,2,   -999.0,9,  -999.00,9,   2882,     3.6,-999.0000,-999.000,-999.000,  5.1314,-999.000
   31DSCGC91_2,  P16N,    55,  1,   7403,   1029,2,19910326,1621, 47.0052,-151.9992, 5167,    302.6,   4.7449,  33.8620,2,  33.8930,3,    134.8,2,    66.21,2,    33.35,2,     0.00,2,     2.37,2,    2.125,2,    0.968,2, -999.000,9,-999.0000,9,  -999.00,9,    -68.7,2,    -0.05,2,-999.000,9,   2225.4,2,   -999.0,9,  -999.00,9,   3392,     6.8,-999.0000,-999.000,-999.000,  4.7221,-999.000
   31DSCGC91_2,  P16N,    55,  1,   7402,   1012,2,19910326,1621, 47.0052,-151.9992, 5167,    350.6,   4.4458,  33.8855,2,  33.9060,3,    107.9,2,    75.30,2,    35.89,2,     0.00,2,     2.54,2,    1.726,4,    0.482,4, -999.000,9,-999.0000,9,  -999.00,9,    -75.6,2,    -0.22,2,-999.000,9,   2253.6,2,   -999.0,9,  -999.00,9,   3875,     5.9,-999.0000,-999.000,-999.000,  4.4201,-999.000
   31DSCGC91_2,  P16N,    55,  1,   7401,   1016,2,19910326,1621, 47.0052,-151.9992, 5167,    402.8,   4.3507,  33.9490,2,  33.9680,3,     86.5,2,    83.52,2,    38.14,2,     0.00,2,     2.69,2,    1.231,2,    0.554,2, -999.000,9,-999.0000,9,  -999.00,9,    -88.3,2,    -0.40,2,-999.000,9,   2271.3,2,   -999.0,9,  -999.00,9,   4399,     4.1,-999.0000,-999.000,-999.000,  4.3213,-999.000