BOTTLE,20021108WHPSIOdm
EXPOCODE,SECT_ID,STNNBR,CASTNO,SAMPNO,BTLNBR,BTLNBR_FLAG_W,DATE,TIME,LATITUDE,LONGITUDE,DEPTH,CTDPRS,CTDTMP,CTDSAL,CTDSAL_FLAG_W,SALNTY,SALNTY_FLAG_W,OXYGEN,OXYGEN_FLAG_W,SILCAT,SILCAT_FLAG_W,NITRAT,NITRAT_FLAG_W,NITRIT,NITRIT_FLAG_W,PHSPHT,PHSPHT_FLAG_W,CFC-11,CFC-11_FLAG_W,CFC-12,CFC-12_FLAG_W,TRITUM,TRITUM_FLAG_W,HELIUM,HELIUM_FLAG_W,DELHE3,DELHE3_FLAG_W,DELC14,DELC14_FLAG_W,DELC13,DELC13_FLAG_W,NEON,NEON_FLAG_W,TCARBN,TCARBN_FLAG_W,ALKALI,ALKALI_FLAG_W,PH,PH_FLAG_W,CTDRAW,C14ERR,HELIER,DELHER,NEONER,THETA,TRITER
,,,,,,,,,,,,DBAR,ITS-90,PSS-78,,PSS-78,,UMOL/KG,,UMOL/KG,,UMOL/KG,,UMOL/KG,,UMOL/KG,,PMOL/KG,,PMOL/KG,,TU,,NMOL/KG,,PERCNT,,/MILLE,,/MILLE,,NMOL/KG,,UMOL/KG,,UMOL/KG,,,,DBAR,/MILLE,NMOL/KG,PERCNT,NMOL/KG,DEG C,TU
   31DSCGC91_2,  P16N,    57,  1,   7701,   1016,4,19910327,2320, 48.3250,-152.0047, 5043,      6.0,   6.0243,  32.6347,2,  32.6310,2,    310.7,2,    26.68,2,    15.36,2,     0.19,2,     1.38,2,    4.690,3,    2.372,3, -999.000,9,   1.8150,2,    -0.92,2,   -999.0,9,  -999.00,9,-999.000,9,   -999.0,9,   -999.0,9,     7.81,2,    413,  -999.0,-999.0000,-999.000,-999.000,  6.0238,-999.000
   31DSCGC91_2,  P16N,    57,  1,   7724,   1031,2,19910327,2320, 48.3250,-152.0047, 5043,     52.1,   5.9832,  32.6349,2,  32.6300,2,    311.0,2,    26.14,2,    15.31,2,     0.19,2,     1.38,2,    4.742,3,    2.419,3, -999.000,9,-999.0000,9,  -999.00,9,   -999.0,9,  -999.00,9,-999.000,9,   2033.3,2,   -999.0,9,     7.81,2,    876,  -999.0,-999.0000,-999.000,-999.000,  5.9790,-999.000
   31DSCGC91_2,  P16N,    57,  1,   7723,   1023,2,19910327,2320, 48.3250,-152.0047, 5043,    102.6,   5.8472,  32.6281,2,  32.6260,2,    311.3,2,    26.52,2,    15.49,2,     0.20,2,     1.40,2,    4.688,3,    2.365,3, -999.000,9,-999.0000,9,  -999.00,9,   -999.0,9,  -999.00,9,-999.000,9,   2034.2,2,   -999.0,9,     7.80,2,   1383,  -999.0,-999.0000,-999.000,-999.000,  5.8390,-999.000
   31DSCGC91_2,  P16N,    57,  1,   7722,   1028,2,19910327,2320, 48.3250,-152.0047, 5043,    252.5,   4.1397,  33.7739,2,  33.7720,2,    152.9,2,    66.50,2,    32.78,2,     0.00,2,     2.37,2,    2.645,3,    1.258,3, -999.000,9,-999.0000,9,  -999.00,9,   -999.0,9,  -999.00,9,-999.000,9,   2221.5,2,   -999.0,9,     7.48,2,   2890,  -999.0,-999.0000,-999.000,-999.000,  4.1220,-999.000
   31DSCGC91_2,  P16N,    57,  1,   7721,   1032,2,19910327,2320, 48.3250,-152.0047, 5043,    400.9,   3.8086,  33.9406,2,  33.9300,2,     76.6,2,    92.49,2,    40.08,2,     0.00,2,     2.83,2,    1.321,3,    0.616,3, -999.000,9,-999.0000,9,  -999.00,9,   -999.0,9,  -999.00,9,-999.000,9,   2289.0,2,   -999.0,9,     7.33,2,   4380,  -999.0,-999.0000,-999.000,-999.000,  3.7810,-999.000
   31DSCGC91_2,  P16N,    57,  1,   7720,   1027,2,19910327,2320, 48.3250,-152.0047, 5043,    498.6,   3.7896,  34.0624,2,  33.9300,4,     47.6,3,   105.80,3,    41.55,3,     0.00,3,     2.97,3,    0.672,3,    0.315,3, -999.000,9,-999.0000,9,  -999.00,9,   -999.0,9,  -999.00,9,-999.000,9,   2314.3,2,   -999.0,9,     7.31,2,   5360,  -999.0,-999.0000,-999.000,-999.000,  3.7549,-999.000
   31DSCGC91_2,  P16N,    57,  1,   7719,   1007,2,19910327,2320, 48.3250,-152.0047, 5043,    599.9,   3.6625,  34.1680,2,  34.0590,4,     43.7,3,   116.34,3,    42.54,3,     0.00,3,     3.00,3,    0.325,3,    0.164,3, -999.000,9,-999.0000,9,  -999.00,9,   -999.0,9,  -999.00,9,-999.000,9,   2331.7,2,   -999.0,9,     7.30,2,   6375,  -999.0,-999.0000,-999.000,-999.000,  3.6209,-999.000
   31DSCGC91_2,  P16N,    57,  1,   7718,   1041,2,19910327,2320, 48.3250,-152.0047, 5043,    701.7,   3.4585,  34.2351,2,  34.2320,2,     34.3,2,   126.12,2,    42.66,2,     0.00,2,     3.04,2,    0.152,3,    0.083,3, -999.000,9,-999.0000,9,  -999.00,9,   -999.0,9,  -999.00,9,-999.000,9,   2344.4,2,   -999.0,9,     7.30,2,   7395,  -999.0,-999.0000,-999.000,-999.000,  3.4102,-999.000
   31DSCGC91_2,  P16N,    57,  1,   7717,   1033,4,19910327,2320, 48.3250,-152.0047, 5043,    798.6,   3.2614,  34.2835,2,  34.2820,2,     29.3,2,   133.70,2,    43.52,2,     0.00,2,     3.06,2,    0.096,3,    0.052,3, -999.000,9,-999.0000,9,  -999.00,9,   -999.0,9,  -999.00,9,-999.000,9,   -999.0,9,   -999.0,9,     7.30,2,   8367,  -999.0,-999.0000,-999.000,-999.000,  3.2071,-999.000
   31DSCGC91_2,  P16N,    57,  1,   7716,   1025,2,19910327,2320, 48.3250,-152.0047, 5043,   1250.6,   2.5642,  34.4500,2,  34.4480,2,     28.3,3,   150.84,3,    43.57,3,     0.00,3,     3.07,3,    0.030,3,    0.014,3, -999.000,9,-999.0000,9,  -999.00,9,   -999.0,9,  -999.00,9,-999.000,9,   2372.3,2,   -999.0,9,     7.31,2,  12891,  -999.0,-999.0000,-999.000,-999.000,  2.4811,-999.000
   31DSCGC91_2,  P16N,    57,  1,   7715,   1017,4,19910327,2320, 48.3250,-152.0047, 5043,   1497.7,   2.3381,  34.4996,2,  34.4990,2,     24.3,3,   159.17,3,    43.70,3,     0.00,3,     3.09,3,    0.005,2,    0.000,2, -999.000,9,   1.8980,2,    17.01,2,   -999.0,9,  -999.00,9,-999.000,9,   -999.0,9,   -999.0,9,     7.31,2,  15360,  -999.0,-999.0000,-999.000,-999.000,  2.2383,-999.000
   31DSCGC91_2,  P16N,    57,  1,   7714,   1036,2,19910327,2320, 48.3250,-152.0047, 5043,   1750.6,   2.1470,  34.5440,2,  34.5430,2,     29.3,3,   166.92,3,    44.02,3,     0.00,3,     3.08,3,    0.008,3,    0.000,2, -999.000,9,-999.0000,9,  -999.00,9,   -999.0,9,  -999.00,9,-999.000,9,   2389.9,2,   -999.0,9,     7.32,2,  17886,  -999.0,-999.0000,-999.000,-999.000,  2.0293,-999.000
   31DSCGC91_2,  P16N,    57,  1,   7712,   1037,2,19910327,2320, 48.3250,-152.0047, 5043,   2248.9,   1.8429,  34.6071,2,  32.8460,4,     65.9,2,   178.54,2,    41.80,2,     0.00,2,     2.93,2,    0.001,2,    0.000,2, -999.000,9,   1.9230,2,    19.57,2,   -999.0,9,  -999.00,9,-999.000,9,   -999.0,9,   -999.0,9,     7.41,2,  22858,  -999.0,-999.0000,-999.000,-999.000,  1.6879,-999.000
   31DSCGC91_2,  P16N,    57,  1,   7713,   1013,2,19910327,2320, 48.3250,-152.0047, 5043,   2248.9,   1.8429,  34.6071,2,  34.6070,2,     36.1,4,   172.81,4,    43.88,4,     0.00,4,     3.05,4,    0.002,2,    0.000,2, -999.000,9,-999.0000,9,  -999.00,9,   -999.0,9,  -999.00,9,-999.000,9,   2391.9,2,   -999.0,9,     7.34,2,  22858,  -999.0,-999.0000,-999.000,-999.000,  1.6879,-999.000
   31DSCGC91_2,  P16N,    57,  1,   7711,   1003,2,19910327,2320, 48.3250,-152.0047, 5043,   2500.2,   1.7429,  34.6264,2,  34.6250,2,     80.9,2,   177.87,2,    40.81,2,     0.00,2,     2.85,2,    0.003,3,    0.000,3, -999.000,9,   1.9070,2,    16.86,2,   -999.0,9,  -999.00,9,-999.000,9,   2371.2,2,   -999.0,9,     7.44,2,  25363,  -999.0,-999.0000,-999.000,-999.000,  1.5675,-999.000
   31DSCGC91_2,  P16N,    57,  1,   7710,   1011,2,19910327,2320, 48.3250,-152.0047, 5043,   2751.4,   1.6549,  34.6412,2,  34.6410,2,     94.9,2,   175.95,2,    40.07,2,     0.00,2,     2.77,2, -999.000,9, -999.000,9, -999.000,9,   1.9110,2,    18.40,2,   -999.0,9,  -999.00,9,-999.000,9,   2361.6,2,   -999.0,9,     7.47,2,  27868,  -999.0,-999.0000,-999.000,-999.000,  1.4583,-999.000
   31DSCGC91_2,  P16N,    57,  1,   7709,     26,2,19910327,2320, 48.3250,-152.0047, 5043,   3253.8,   1.5459,  34.6622,2,  34.6620,2,    118.7,2,   171.28,2,    38.00,2,     0.00,2,     2.67,2,   -0.008,3,    0.000,2, -999.000,9,   1.9220,2,    17.61,2,   -999.0,9,  -999.00,9,-999.000,9,   2345.8,2,   -999.0,9,     7.51,2,  32875,  -999.0,-999.0000,-999.000,-999.000,  1.3034,-999.000
   31DSCGC91_2,  P16N,    57,  1,   7708,   1019,2,19910327,2320, 48.3250,-152.0047, 5043,   3501.3,   1.5028,  34.6715,2,  34.6720,2,    130.0,2,   168.94,2,    37.39,2,     0.00,2,     2.61,2, -999.000,9, -999.000,9, -999.000,9,   1.9120,2,    17.10,2,   -999.0,9,  -999.00,9,-999.000,9,   2340.1,2,   -999.0,9,     7.54,2,  35342,  -999.0,-999.0000,-999.000,-999.000,  1.2365,-999.000
   31DSCGC91_2,  P16N,    57,  1,   7707,   1004,2,19910327,2320, 48.3250,-152.0047, 5043,   3755.4,   1.4838,  34.6766,2,  34.6770,2,    137.3,2,   168.51,2,    37.19,2,     0.00,2,     2.56,2,   -0.002,2,    0.000,2, -999.000,9,-999.0000,9,  -999.00,9,   -999.0,9,  -999.00,9,-999.000,9,   2335.5,2,   -999.0,9,     7.55,2,  37874,  -999.0,-999.0000,-999.000,-999.000,  1.1916,-999.000
   31DSCGC91_2,  P16N,    57,  1,   7706,   1002,2,19910327,2320, 48.3250,-152.0047, 5043,   4255.1,   1.4968,  34.6830,2,  34.6840,2,    143.7,2,   171.45,2,    36.98,2,     0.00,2,     2.54,2, -999.000,9, -999.000,9, -999.000,9,   1.9130,2,    16.71,2,   -999.0,9,  -999.00,9,-999.000,9,   2332.5,2,   -999.0,9,     7.57,2,  42857,  -999.0,-999.0000,-999.000,-999.000,  1.1498,-999.000
   31DSCGC91_2,  P16N,    57,  1,   7705,   1026,2,19910327,2320, 48.3250,-152.0047, 5043,   4506.4,   1.5168,  34.6836,2,  34.6840,2,    144.6,2,   171.44,2,    36.71,2,     0.00,2,     2.53,2,    0.000,3,    0.000,3, -999.000,9,   1.9130,2,    16.74,2,   -999.0,9,  -999.00,9,-999.000,9,   2334.3,2,   -999.0,9,     7.57,2,  45366,  -999.0,-999.0000,-999.000,-999.000,  1.1406,-999.000
   31DSCGC91_2,  P16N,    57,  1,   7704,      6,2,19910327,2320, 48.3250,-152.0047, 5043,   4758.3,   1.5389,  34.6852,2,  34.6860,2,    146.9,2,   171.85,2,    36.71,2,     0.00,2,     2.52,2, -999.000,9, -999.000,9, -999.000,9,-999.0000,9,  -999.00,9,   -999.0,9,  -999.00,9,-999.000,9,   2331.7,2,   -999.0,9,     7.57,2,  47881,  -999.0,-999.0000,-999.000,-999.000,  1.1323,-999.000
   31DSCGC91_2,  P16N,    57,  1,   7703,   1029,2,19910327,2320, 48.3250,-152.0047, 5043,   5119.2,   1.5809,  34.6854,2,  34.6870,2,    147.2,2,   172.68,2,    36.44,2,     0.00,2,     2.52,2,    0.017,3,    0.010,3, -999.000,9,   1.9510,3,    16.19,2,   -999.0,9,  -999.00,9,-999.000,9,   2333.8,2,   -999.0,9,     7.58,2,  51487,  -999.0,-999.0000,-999.000,-999.000,  1.1292,-999.000
   31DSCGC91_2,  P16N,    58,  1,   7823,   1023,2,19910330,0137, 53.4955,-152.0012, 4704,     34.7,   4.0446,  32.7801,2,  32.7760,2,    314.5,2,    33.47,2,    18.94,2,     0.17,2,     1.55,2,    5.006,2,    2.516,2,    2.123,2,   1.8150,2,    -0.88,2,     34.7,2,     0.71,2,   7.885,2,   2065.2,2,   -999.0,9,     7.74,2,    701,     3.2,  0.0090,   0.150,   0.042,  4.0424,   0.007
   31DSCGC91_2,  P16N,    58,  1,   7822,   1028,2,19910330,0137, 53.4955,-152.0012, 4704,     63.6,   4.0326,  32.7794,2,  32.7760,2,    314.3,2,    33.46,2,    18.90,2,     0.17,2,     1.58,2,    4.941,2,    2.531,2,    2.130,2,   1.8210,2,    -1.02,2,     29.9,2,     0.91,2,   7.907,2,   2066.6,2,   -999.0,9,     7.74,2,    991,     3.8,  0.0090,   0.150,   0.042,  4.0284,   0.006
   31DSCGC91_2,  P16N,    58,  1,   7821,   1032,2,19910330,0137, 53.4955,-152.0012, 4704,    101.1,   4.0826,  33.0092,2,  33.5950,4,    273.1,2,    39.99,2,    22.52,2,     0.12,2,     1.80,2,    4.494,2,    2.273,2,    2.050,2,   1.8260,2,     1.56,2,     10.6,2,     0.75,2,   7.919,2,   2101.4,2,   -999.0,9,     7.67,2,   1368,     3.1,  0.0090,   0.150,   0.042,  4.0759,   0.006
   31DSCGC91_2,  P16N,    58,  1,   7820,   1027,2,19910330,0137, 53.4955,-152.0012, 4704,    149.0,   4.1857,  33.7986,2,  33.7970,2,     75.8,2,    77.14,2,    39.87,2,     0.01,2,     2.83,2,    1.680,6,    0.794,6,    1.580,2,   1.8270,2,    14.39,2,    -68.5,2,    -0.59,2,   7.877,2,   2274.2,2,   -999.0,9,     7.31,2,   1850,     2.9,  0.0090,   0.150,   0.042,  4.1753,   0.005
   31DSCGC91_2,  P16N,    58,  1,   7819,   1007,2,19910330,0137, 53.4955,-152.0012, 4704,    202.1,   4.0216,  33.9078,2,  33.9010,2,     41.9,2,    88.79,2,    42.66,2,     0.01,2,     3.01,2,    1.106,2,    0.509,2,    1.363,2,   1.8550,2,    16.32,2,    -88.7,2,    -0.87,2,   7.947,2,   2304.0,2,   -999.0,9,     7.26,2,   2384,     2.8,  0.0100,   0.150,   0.042,  4.0077,   0.005
   31DSCGC91_2,  P16N,    58,  1,   7818,   1041,2,19910330,0137, 53.4955,-152.0012, 4704,    297.6,   3.8546,  34.0090,2,  34.0080,2,     25.0,2,   101.93,2,    44.13,2,     0.01,2,     3.12,2,    0.605,2,    0.288,2,    0.989,2,   1.8410,2,    16.88,2,   -123.3,2,    -0.88,2,   7.822,2,   2325.5,2,   -999.0,9,     7.24,2,   3342,     2.4,  0.0100,   0.150,   0.041,  3.8342,   0.004
   31DSCGC91_2,  P16N,    58,  1,   7817,   1033,2,19910330,0137, 53.4955,-152.0012, 4704,    401.8,   3.7285,  34.1065,2,  34.1100,2,     22.0,2,   113.31,2,    43.84,2,     0.00,2,     3.10,2,    0.311,2,    0.136,2,    0.644,2,   1.8520,2,    16.48,2,   -150.0,2,    -0.78,2,   7.887,2,   2334.5,2,   -999.0,9,     7.26,2,   4389,     2.4,  0.0100,   0.150,   0.042,  3.7011,   0.003
   31DSCGC91_2,  P16N,    58,  1,   7816,   1025,2,19910330,0137, 53.4955,-152.0012, 4704,    495.7,   3.5905,  34.1749,2,  34.1710,2,     21.4,2,   120.44,2,    43.60,2,     0.00,2,     3.09,2,    0.175,2,    0.103,2,    0.460,2,   1.8560,2,    16.15,2,   -161.4,2,    -0.83,2,   7.882,2,   2343.9,2,   -999.0,9,     7.27,2,   5330,     2.5,  0.0100,   0.150,   0.042,  3.5568,   0.003
   31DSCGC91_2,  P16N,    58,  1,   7815,   1017,2,19910330,0137, 53.4955,-152.0012, 4704,    600.9,   3.3574,  34.2536,2,  34.2520,2,     19.0,2,   130.90,2,    43.58,2,     0.00,2,     3.10,2,    0.071,2,    0.063,2,    0.254,2,   1.8490,2,    15.85,2,   -188.7,2,    -0.83,2,   7.881,2,   2356.8,2,   -999.0,9,     7.28,2,   6385,     4.6,  0.0100,   0.150,   0.042,  3.3171,   0.002
   31DSCGC91_2,  P16N,    58,  1,   7814,   1036,2,19910330,0137, 53.4955,-152.0012, 4704,    697.2,   3.1834,  34.2983,2,  34.2970,2,     19.1,2,   137.69,2,    43.72,2,     0.00,2,     3.10,2,    0.048,2,    0.041,2,    0.171,2,   1.8560,2,    15.93,2,   -187.0,2,    -0.65,2,   7.950,2,   2361.2,2,   -999.0,9,     7.29,2,   7350,     2.7,  0.0100,   0.150,   0.042,  3.1369,   0.002
   31DSCGC91_2,  P16N,    58,  1,   7813,   1013,2,19910330,0137, 53.4955,-152.0012, 4704,    802.2,   2.9993,  34.3420,2,  34.3420,2,     20.9,2,   144.10,2,    43.71,2,     0.00,2,     3.07,2,    0.022,2,    0.018,2,    0.116,2,   1.8740,2,    15.99,2,   -999.0,9,    -0.81,2,   7.947,2,   2369.3,2,   -999.0,9,     7.29,2,   8403,  -999.0,  0.0100,   0.150,   0.042,  2.9463,   0.002
   31DSCGC91_2,  P16N,    58,  1,   7812,   1037,2,19910330,0137, 53.4955,-152.0012, 4704,    950.8,   2.7902,  34.3897,2,  34.3890,2,     20.8,2,   150.73,2,    43.74,2,     0.00,2,     3.09,2,    0.027,3,    0.000,2,    0.055,2,   1.8730,2,    16.57,2,   -213.3,2,  -999.00,5,   7.988,2,   2374.7,2,   -999.0,9,     7.30,2,   9891,     2.2,  0.0100,   0.150,   0.042,  2.7278,   0.003
   31DSCGC91_2,  P16N,    58,  1,   7811,   1003,2,19910330,0137, 53.4955,-152.0012, 4704,   1200.4,   2.4901,  34.4594,2,  34.4600,2,     23.8,2,   160.97,2,    43.78,2,     0.00,2,     3.08,2,    0.000,3,    0.008,3,    0.024,2,   1.8870,2,    17.08,2,   -224.6,2,    -0.76,2,-999.000,9,   2385.0,2,   -999.0,9,     7.31,2,  12389,     3.3,-999.0000,-999.000,-999.000,  2.4116,   0.002
   31DSCGC91_2,  P16N,    58,  1,   7810,   1011,2,19910330,0137, 53.4955,-152.0012, 4704,   1447.3,   2.2801,  34.5087,2,  34.5080,2,     29.9,2,   167.68,2,    43.82,2,     0.00,2,     3.06,2,    0.006,3,    0.000,3,    0.010,2,   1.9120,2,    18.02,2,   -228.4,2,    -0.79,2,-999.000,9,   2385.8,2,   -999.0,9,     7.33,2,  14856,     2.2,-999.0000,-999.000,-999.000,  2.1848,   0.002
   31DSCGC91_2,  P16N,    58,  1,   7809,     26,2,19910330,0137, 53.4955,-152.0012, 4704,   1693.4,   2.1130,  34.5488,2,  34.5450,2,     38.6,2,   172.51,2,    43.19,2,     0.00,2,     3.02,2,   -0.006,3,    0.000,2, -999.000,9,   1.9130,2,    18.08,2,   -240.9,2,  -999.00,5,-999.000,9,   2385.6,2,   -999.0,9,     7.35,2,  17315,     2.2,-999.0000,-999.000,-999.000,  2.0003,-999.000
   31DSCGC91_2,  P16N,    58,  1,   7808,   1019,2,19910330,0137, 53.4955,-152.0012, 4704,   1999.6,   1.9050,  34.5915,2,  34.5900,2,     58.3,2,   174.81,2,    42.05,2,     0.00,2,     2.92,2,    0.001,3,    0.008,3, -999.000,9,   1.9160,2,    18.51,2,   -999.0,9,  -999.00,9,-999.000,9,   2376.8,2,   -999.0,9,     7.39,2,  20371,  -999.0,-999.0000,-999.000,-999.000,  1.7701,-999.000
   31DSCGC91_2,  P16N,    58,  1,   7807,   1004,2,19910330,0137, 53.4955,-152.0012, 4704,   2501.8,   1.6979,  34.6318,2,  34.6300,2,     86.7,2,   175.20,2,    40.42,2,     0.00,2,     2.81,2,    0.000,2,    0.000,2, -999.000,9,   1.8960,2,    18.00,2,   -999.0,9,  -999.00,9,-999.000,9,   2364.3,2,   -999.0,9,     7.45,2,  25380,  -999.0,-999.0000,-999.000,-999.000,  1.5231,-999.000
   31DSCGC91_2,  P16N,    58,  1,   7806,   1002,2,19910330,0137, 53.4955,-152.0012, 4704,   2998.3,   1.5739,  34.6550,2,  34.6550,2,    110.3,2,   172.41,2,    38.72,2,     0.00,2,     2.70,2,    0.005,2,    0.000,2, -999.000,9,   1.9130,2,    17.46,2,   -999.0,9,  -999.00,9,-999.000,9,   2349.6,2,   -999.0,9,     7.49,2,  30328,  -999.0,-999.0000,-999.000,-999.000,  1.3557,-999.000
   31DSCGC91_2,  P16N,    58,  1,   7805,   1026,2,19910330,0137, 53.4955,-152.0012, 4704,   3500.0,   1.5008,  34.6717,2,  34.6720,2,    128.3,2,   169.20,2,    37.37,2,     0.00,2,     2.59,2,    0.004,2,    0.000,2, -999.000,9,   1.9130,2,    16.76,2,   -999.0,9,  -999.00,9,-999.000,9,   2335.7,2,   -999.0,9,     7.54,2,  35329,  -999.0,-999.0000,-999.000,-999.000,  1.2347,-999.000
   31DSCGC91_2,  P16N,    58,  1,   7804,      6,2,19910330,0137, 53.4955,-152.0012, 4704,   4004.7,   1.4938,  34.6795,2,  34.6780,2,    138.0,2,   168.32,2,    36.84,2,     0.00,2,     2.52,2,    0.004,3,    0.000,3, -999.000,9,   1.9210,2,    16.81,2,   -999.0,9,  -999.00,9,-999.000,9,   2330.9,2,   -999.0,9,     7.56,2,  40360,  -999.0,-999.0000,-999.000,-999.000,  1.1746,-999.000
   31DSCGC91_2,  P16N,    58,  1,   7803,   1029,2,19910330,0137, 53.4955,-152.0012, 4704,   4505.4,   1.5078,  34.6850,2,  34.6870,2,    144.8,2,   166.81,2,    36.20,2,     0.00,2,     2.49,2,    0.005,3,    0.008,3, -999.000,9,   1.9080,2,    16.76,2,   -999.0,9,  -999.00,9,-999.000,9,   2328.1,2,   -999.0,9,     7.57,2,  45356,  -999.0,-999.0000,-999.000,-999.000,  1.1319,-999.000
   31DSCGC91_2,  P16N,    58,  1,   7802,   1012,2,19910330,0137, 53.4955,-152.0012, 4704,   4763.7,   1.5258,  34.6858,2,  34.6860,2,    149.0,2,   165.31,2,    36.18,2,     0.00,2,     2.51,2,    0.004,2,    0.000,2,    0.002,2,-999.0000,9,  -999.00,9,   -999.0,9,  -999.00,9,-999.000,9,   2324.2,2,   -999.0,9,     7.57,2,  47935,  -999.0,-999.0000,-999.000,-999.000,  1.1191,   0.002