BOTTLE,20021108WHPSIOdm
EXPOCODE,SECT_ID,STNNBR,CASTNO,SAMPNO,BTLNBR,BTLNBR_FLAG_W,DATE,TIME,LATITUDE,LONGITUDE,DEPTH,CTDPRS,CTDTMP,CTDSAL,CTDSAL_FLAG_W,SALNTY,SALNTY_FLAG_W,OXYGEN,OXYGEN_FLAG_W,SILCAT,SILCAT_FLAG_W,NITRAT,NITRAT_FLAG_W,NITRIT,NITRIT_FLAG_W,PHSPHT,PHSPHT_FLAG_W,CFC-11,CFC-11_FLAG_W,CFC-12,CFC-12_FLAG_W,TRITUM,TRITUM_FLAG_W,HELIUM,HELIUM_FLAG_W,DELHE3,DELHE3_FLAG_W,DELC14,DELC14_FLAG_W,DELC13,DELC13_FLAG_W,NEON,NEON_FLAG_W,TCARBN,TCARBN_FLAG_W,ALKALI,ALKALI_FLAG_W,PH,PH_FLAG_W,CTDRAW,C14ERR,HELIER,DELHER,NEONER,THETA,TRITER
,,,,,,,,,,,,DBAR,ITS-90,PSS-78,,PSS-78,,UMOL/KG,,UMOL/KG,,UMOL/KG,,UMOL/KG,,UMOL/KG,,PMOL/KG,,PMOL/KG,,TU,,NMOL/KG,,PERCNT,,/MILLE,,/MILLE,,NMOL/KG,,UMOL/KG,,UMOL/KG,,,,DBAR,/MILLE,NMOL/KG,PERCNT,NMOL/KG,DEG C,TU
   31DSCGC91_2,  P16N,    35,  1,   5124,   1027,2,19910318,1336, 32.6673,-152.0012, 5548,    102.2,  16.5756,  34.7448,2,  34.7470,2,    242.4,2,     3.90,2,     0.00,2,     0.00,2,     0.10,2,    2.674,2,    1.396,2, -999.000,9,-999.0000,9,  -999.00,9,   -999.0,9,  -999.00,9,-999.000,9,   2008.9,2,   -999.0,9,  -999.00,9,   1380,  -999.0,-999.0000,-999.000,-999.000, 16.5590,-999.000
   31DSCGC91_2,  P16N,    35,  1,   5123,   1016,2,19910318,1336, 32.6673,-152.0012, 5548,    201.5,  12.1592,  34.2261,2,  34.2280,2,    222.3,2,     9.68,2,     9.45,2,     0.00,2,     0.72,2,    2.955,2,    1.488,2, -999.000,9,-999.0000,9,  -999.00,9,   -999.0,9,  -999.00,9,-999.000,9,   2057.7,2,   -999.0,9,  -999.00,9,   2378,  -999.0,-999.0000,-999.000,-999.000, 12.1329,-999.000
   31DSCGC91_2,  P16N,    35,  1,   5122,   1026,2,19910318,1336, 32.6673,-152.0012, 5548,    297.4,  10.3316,  34.1650,2,  34.1640,2,    226.6,2,    15.85,2,    13.40,2,     0.00,2,     0.97,2,    2.847,2,    1.433,2, -999.000,9,-999.0000,9,  -999.00,9,   -999.0,9,  -999.00,9,-999.000,9,   2081.2,2,   -999.0,9,  -999.00,9,   3341,  -999.0,-999.0000,-999.000,-999.000, 10.2966,-999.000
   31DSCGC91_2,  P16N,    35,  1,   5121,   1004,2,19910318,1336, 32.6673,-152.0012, 5548,    400.4,   8.7651,  34.0812,2,  34.0800,2,    205.1,2,    25.62,2,    18.55,2,     0.00,2,     1.31,2,    2.522,2,    1.170,2, -999.000,9,-999.0000,9,  -999.00,9,   -999.0,9,  -999.00,9,-999.000,9,   2115.7,2,   -999.0,9,  -999.00,9,   4375,  -999.0,-999.0000,-999.000,-999.000,  8.7223,-999.000
   31DSCGC91_2,  P16N,    35,  1,   5120,   1025,2,19910318,1336, 32.6673,-152.0012, 5548,    502.3,   7.0746,  34.0095,2,  34.0050,2,    156.7,2,    45.01,2,    26.58,2,     0.00,2,     1.89,2,    1.418,6,    0.690,6, -999.000,9,-999.0000,9,  -999.00,9,   -999.0,9,  -999.00,9,-999.000,9,   2177.9,2,   -999.0,9,  -999.00,9,   5397,  -999.0,-999.0000,-999.000,-999.000,  7.0270,-999.000
   31DSCGC91_2,  P16N,    35,  1,   5119,   1031,2,19910318,1336, 32.6673,-152.0012, 5548,    640.9,   5.0079,  34.0145,2,  34.0090,2,     91.6,2,    75.78,2,    35.86,2,     0.00,2,     2.55,2,    0.432,2,    0.232,2, -999.000,9,-999.0000,9,  -999.00,9,   -999.0,9,  -999.00,9,-999.000,9,   2257.9,2,   -999.0,9,  -999.00,9,   6787,  -999.0,-999.0000,-999.000,-999.000,  4.9567,-999.000
   31DSCGC91_2,  P16N,    35,  1,   5118,   1036,2,19910318,1336, 32.6673,-152.0012, 5548,    799.7,   4.0606,  34.1527,2,  34.1480,2,     32.2,2,   106.68,2,    42.29,2,     0.00,2,     2.99,2,    0.033,2,    0.025,2, -999.000,9,-999.0000,9,  -999.00,9,   -999.0,9,  -999.00,9,-999.000,9,   2328.8,2,   -999.0,9,  -999.00,9,   8378,  -999.0,-999.0000,-999.000,-999.000,  4.0014,-999.000
   31DSCGC91_2,  P16N,    35,  1,   5117,     26,2,19910318,1336, 32.6673,-152.0012, 5548,    898.4,   3.7155,  34.2549,2,  34.2510,2,     17.0,2,   121.87,2,    43.67,2,     0.00,2,     3.11,2,    0.008,2,    0.000,2, -999.000,9,-999.0000,9,  -999.00,9,   -999.0,9,  -999.00,9,-999.000,9,   2354.6,2,   -999.0,9,  -999.00,9,   9367,  -999.0,-999.0000,-999.000,-999.000,  3.6506,-999.000
   31DSCGC91_2,  P16N,    35,  1,   5116,   1037,2,19910318,1336, 32.6673,-152.0012, 5548,   1246.7,   3.0323,  34.4712,2,  34.4680,2,     21.5,2,   145.54,2,    44.08,2,     0.00,2,     3.15,2,    0.007,3,    0.000,2, -999.000,9,-999.0000,9,  -999.00,9,   -999.0,9,  -999.00,9,-999.000,9,   2381.2,2,   -999.0,9,  -999.00,9,  12851,  -999.0,-999.0000,-999.000,-999.000,  2.9450,-999.000
   31DSCGC91_2,  P16N,    35,  1,   5114,   1011,4,19910318,1336, 32.6673,-152.0012, 5548,   1499.2,   2.6562,  34.5360,2,  34.5350,2,     37.5,2,   155.14,2,    43.65,2,     0.00,2,     3.06,2,    0.007,2,    0.000,2, -999.000,9,-999.0000,9,  -999.00,9,   -999.0,9,  -999.00,9,-999.000,9,   -999.0,9,   -999.0,9,  -999.00,9,  15375,  -999.0,-999.0000,-999.000,-999.000,  2.5525,-999.000
   31DSCGC91_2,  P16N,    35,  1,   5115,   1032,4,19910318,1336, 32.6673,-152.0012, 5548,   1499.2,   2.6562,  34.5360,2,  34.5330,2,     36.5,2,   154.96,2,    42.87,2,     0.00,2,     3.07,2,    0.024,4,    0.000,2, -999.000,9,-999.0000,9,  -999.00,9,   -999.0,9,  -999.00,9,-999.000,9,   -999.0,9,   -999.0,9,  -999.00,9,  15375,  -999.0,-999.0000,-999.000,-999.000,  2.5525,-999.000
   31DSCGC91_2,  P16N,    35,  1,   5113,   1033,2,19910318,1336, 32.6673,-152.0012, 5548,   2100.9,   1.9100,  34.6200,2,  34.6180,2,     77.3,2,   173.77,2,    40.87,2,     0.00,2,     2.88,2,    0.013,4,    0.000,2, -999.000,9,-999.0000,9,  -999.00,9,   -999.0,9,  -999.00,9,-999.000,9,   2376.6,2,   -999.0,9,  -999.00,9,  21382,  -999.0,-999.0000,-999.000,-999.000,  1.7664,-999.000
   31DSCGC91_2,  P16N,    35,  1,   5111,   1041,2,19910318,1336, 32.6673,-152.0012, 5548,   2250.6,   1.8109,  34.6307,2,  34.6300,2,     83.8,2,   175.62,2,    40.38,2,     0.00,2,     2.82,2,    0.004,2,    0.000,2, -999.000,9,-999.0000,9,  -999.00,9,   -999.0,9,  -999.00,9,-999.000,9,   2374.0,2,   -999.0,9,  -999.00,9,  22875,  -999.0,-999.0000,-999.000,-999.000,  1.6562,-999.000
   31DSCGC91_2,  P16N,    35,  1,   5112,   1019,4,19910318,1336, 32.6673,-152.0012, 5548,   2250.6,   1.8109,  34.6307,2,  34.6290,2,     85.7,2,   175.44,2,    40.20,2,     0.00,2,     2.82,2,    0.000,2,    0.000,2, -999.000,9,-999.0000,9,  -999.00,9,   -999.0,9,  -999.00,9,-999.000,9,   -999.0,9,   -999.0,9,  -999.00,9,  22875,  -999.0,-999.0000,-999.000,-999.000,  1.6562,-999.000
   31DSCGC91_2,  P16N,    35,  1,   5108,      6,2,19910318,1336, 32.6673,-152.0012, 5548,   2752.7,   1.6019,  34.6578,2,  34.6560,2,    109.8,2,   173.58,2,    38.99,2,     0.00,2,     2.71,2, -999.000,9, -999.000,9, -999.000,9,-999.0000,9,  -999.00,9,   -999.0,9,  -999.00,9,-999.000,9,   2359.3,2,   -999.0,9,  -999.00,9,  27881,  -999.0,-999.0000,-999.000,-999.000,  1.4061,-999.000
   31DSCGC91_2,  P16N,    35,  1,   5109,   1003,4,19910318,1336, 32.6673,-152.0012, 5548,   2752.7,   1.6019,  34.6578,2,  34.6560,2,    110.6,2,   173.62,2,    38.99,2,     0.00,2,     2.71,2, -999.000,9, -999.000,9, -999.000,9,-999.0000,9,  -999.00,9,   -999.0,9,  -999.00,9,-999.000,9,   -999.0,9,   -999.0,9,  -999.00,9,  27881,  -999.0,-999.0000,-999.000,-999.000,  1.4061,-999.000
   31DSCGC91_2,  P16N,    35,  1,   5110,   1002,4,19910318,1336, 32.6673,-152.0012, 5548,   2752.7,   1.6019,  34.6578,2,  34.6560,2,    109.7,2,   173.44,2,    38.81,2,     0.00,2,     2.70,2,    0.003,2,    0.000,2, -999.000,9,-999.0000,9,  -999.00,9,   -999.0,9,  -999.00,9,-999.000,9,   -999.0,9,   -999.0,9,  -999.00,9,  27881,  -999.0,-999.0000,-999.000,-999.000,  1.4061,-999.000
   31DSCGC91_2,  P16N,    35,  1,   5107,   1013,2,19910318,1336, 32.6673,-152.0012, 5548,   3251.7,   1.4928,  34.6741,2,  34.6710,2,    129.7,2,   167.79,2,    37.60,2,     0.00,2,     2.60,2, -999.000,9, -999.000,9, -999.000,9,-999.0000,9,  -999.00,9,   -999.0,9,  -999.00,9,-999.000,9,   2347.0,2,   -999.0,9,  -999.00,9,  32854,  -999.0,-999.0000,-999.000,-999.000,  1.2518,-999.000
   31DSCGC91_2,  P16N,    35,  1,   5106,   1012,2,19910318,1336, 32.6673,-152.0012, 5548,   3503.9,   1.4698,  34.6785,2,  34.6770,2,    138.6,2,   164.78,2,    37.06,2,     0.00,2,     2.56,2, -999.000,9, -999.000,9, -999.000,9,-999.0000,9,  -999.00,9,   -999.0,9,  -999.00,9,-999.000,9,   2340.3,2,   -999.0,9,  -999.00,9,  35367,  -999.0,-999.0000,-999.000,-999.000,  1.2040,-999.000
   31DSCGC91_2,  P16N,    35,  1,   5105,   1007,2,19910318,1336, 32.6673,-152.0012, 5548,   3752.9,   1.4628,  34.6828,2,  34.6810,2,    143.8,2,   162.83,2,    36.93,2,     0.00,2,     2.52,2, -999.000,9, -999.000,9, -999.000,9,-999.0000,9,  -999.00,9,   -999.0,9,  -999.00,9,-999.000,9,   2335.6,2,   -999.0,9,  -999.00,9,  37849,  -999.0,-999.0000,-999.000,-999.000,  1.1714,-999.000
   31DSCGC91_2,  P16N,    35,  1,   5104,   1038,2,19910318,1336, 32.6673,-152.0012, 5548,   4256.2,   1.4748,  34.6862,2,  34.6850,2,    150.8,2,   158.99,2,    36.27,2,     0.00,2,     2.49,2, -999.000,9, -999.000,9, -999.000,9,-999.0000,9,  -999.00,9,   -999.0,9,  -999.00,9,-999.000,9,   2330.5,2,   -999.0,9,  -999.00,9,  42869,  -999.0,-999.0000,-999.000,-999.000,  1.1283,-999.000
   31DSCGC91_2,  P16N,    35,  1,   5103,   1029,2,19910318,1336, 32.6673,-152.0012, 5548,   4757.1,   1.5078,  34.6891,2,  34.6880,2,    154.0,2,   154.53,2,    35.79,2,     0.00,2,     2.47,2, -999.000,9, -999.000,9, -999.000,9,-999.0000,9,  -999.00,9,   -999.0,9,  -999.00,9,-999.000,9,   2325.2,2,   -999.0,9,  -999.00,9,  47869,  -999.0,-999.0000,-999.000,-999.000,  1.1024,-999.000
   31DSCGC91_2,  P16N,    35,  1,   5102,   1028,2,19910318,1336, 32.6673,-152.0012, 5548,   5008.4,   1.5328,  34.6886,2,  34.6890,2,    157.5,2,   152.60,2,    35.72,2,     0.00,2,     2.45,2, -999.000,9, -999.000,9, -999.000,9,-999.0000,9,  -999.00,9,   -999.0,9,  -999.00,9,-999.000,9,   2324.2,2,   -999.0,9,  -999.00,9,  50380,  -999.0,-999.0000,-999.000,-999.000,  1.0964,-999.000
   31DSCGC91_2,  P16N,    35,  1,   5101,   1017,2,19910318,1336, 32.6673,-152.0012, 5548,   5605.4,   1.5999,  34.6908,2,  34.6900,2,    158.4,2,   150.68,2,    35.84,2,     0.00,2,     2.45,2, -999.000,9, -999.000,9, -999.000,9,-999.0000,9,  -999.00,9,   -999.0,9,  -999.00,9,-999.000,9,   2321.6,2,   -999.0,9,  -999.00,9,  56355,  -999.0,-999.0000,-999.000,-999.000,  1.0860,-999.000
   31DSCGC91_2,  P16N,    36,  1,   5224,   1027,4,19910318,2138, 33.3333,-152.0000, 5563,     31.6,  15.5232,  34.3935,2,  34.3960,2,    248.6,2,     5.52,2,     0.06,2,     0.00,2,     0.15,2, -999.000,5, -999.000,5, -999.000,9,-999.0000,9,  -999.00,9,    100.2,2,     1.19,2,-999.000,9,   -999.0,9,   -999.0,9,     7.99,2,    670,     6.0,-999.0000,-999.000,-999.000, 15.5184,-999.000
   31DSCGC91_2,  P16N,    36,  1,   5223,   1016,2,19910318,2138, 33.3333,-152.0000, 5563,    126.8,  12.7183,  34.1403,2,  34.1360,2,    239.1,2,     7.30,2,     4.64,2,     0.03,2,     0.48,2,    3.165,2,    1.596,2, -999.000,9,-999.0000,9,  -999.00,9,   -999.0,9,  -999.00,9,-999.000,9,   2032.9,2,   -999.0,9,     7.91,2,   1627,  -999.0,-999.0000,-999.000,-999.000, 12.7014,-999.000
   31DSCGC91_2,  P16N,    36,  1,   5222,   1026,2,19910318,2138, 33.3333,-152.0000, 5563,    152.2,  12.0531,  34.1259,2,  34.1270,2,    230.3,2,     9.08,2,     7.83,2,     0.01,2,     0.62,2,    3.150,2,    1.588,2,    2.116,2,-999.0000,9,  -999.00,9,     83.1,2,     0.73,2,-999.000,9,   2048.3,2,   -999.0,9,     7.88,2,   1882,     4.6,-999.0000,-999.000,-999.000, 12.0335,   0.006
   31DSCGC91_2,  P16N,    36,  1,   5220,   1025,4,19910318,2138, 33.3333,-152.0000, 5563,    175.6,  11.6380,  34.1632,2,  34.1660,2,    222.6,2,    11.25,2,    10.50,2,     0.01,2,     0.78,2,    3.079,2,    1.539,2,    2.103,2,-999.0000,9,  -999.00,9,     78.2,2,     0.42,2,-999.000,9,   -999.0,9,   -999.0,9,     7.85,2,   2118,     4.1,-999.0000,-999.000,-999.000, 11.6158,   0.007
   31DSCGC91_2,  P16N,    36,  1,   5221,   1004,4,19910318,2138, 33.3333,-152.0000, 5563,    175.6,  11.6380,  34.1632,2,  34.1660,2,    222.5,2,    11.26,2,    10.51,2,     0.00,2,     0.79,2,    3.087,2,    1.543,2,    2.070,2,-999.0000,9,  -999.00,9,     79.1,2,     0.56,2,-999.000,9,   -999.0,9,   -999.0,9,     7.85,2,   2118,     4.1,-999.0000,-999.000,-999.000, 11.6158,   0.006
   31DSCGC91_2,  P16N,    36,  1,   5219,   1031,2,19910318,2138, 33.3333,-152.0000, 5563,    298.8,  10.1656,  34.1707,2,  34.1710,2,    223.3,2,    17.79,2,    14.16,2,     0.00,2,     1.01,2,    2.809,2,    1.399,2, -999.000,9,-999.0000,9,  -999.00,9,   -999.0,9,  -999.00,9,-999.000,9,   2087.3,2,   -999.0,9,     7.81,2,   3355,  -999.0,-999.0000,-999.000,-999.000, 10.1307,-999.000
   31DSCGC91_2,  P16N,    36,  1,   5218,   1036,2,19910318,2138, 33.3333,-152.0000, 5563,    350.5,   9.3243,  34.1231,2,  34.1230,2,    217.1,2,    22.15,2,    16.42,2,     0.00,2,     1.15,2,    2.679,2,    1.317,2,    2.097,2,-999.0000,9,  -999.00,9,     54.2,2,    -0.16,3,-999.000,9,   2101.1,2,   -999.0,9,     7.78,2,   3874,     3.9,-999.0000,-999.000,-999.000,  9.2855,   0.006
   31DSCGC91_2,  P16N,    36,  1,   5217,     26,2,19910318,2138, 33.3333,-152.0000, 5563,    450.6,   7.6718,  34.0269,2,  34.0350,2,    183.0,2,    36.06,2,    22.85,2,     0.00,2,     1.61,2,    2.074,2,    0.999,2,    1.974,2,-999.0000,9,  -999.00,9,      6.6,2,    -0.15,2,-999.000,9,   2148.3,2,   -999.0,9,     7.68,2,   4879,     4.1,-999.0000,-999.000,-999.000,  7.6272,   0.006
   31DSCGC91_2,  P16N,    36,  1,   5215,   1032,4,19910318,2138, 33.3333,-152.0000, 5563,    550.2,   6.1233,  33.9873,2,  33.9910,2,    136.2,2,    56.78,2,    30.39,2,     0.00,2,     2.14,2,    1.251,2,    0.595,2,    1.696,2,-999.0000,9,  -999.00,9,    -64.3,2,    -0.18,2,-999.000,9,   -999.0,9,   -999.0,9,     7.55,2,   5878,     3.7,-999.0000,-999.000,-999.000,  6.0749,   0.005
   31DSCGC91_2,  P16N,    36,  1,   5216,   1037,4,19910318,2138, 33.3333,-152.0000, 5563,    550.2,   6.1233,  33.9873,2,  33.9910,2,    136.0,2,    56.80,2,    30.59,2,     0.00,2,     2.14,2,    1.238,2,    0.595,2,    1.675,2,-999.0000,9,  -999.00,9,    -50.8,2,    -0.37,2,-999.000,9,   -999.0,9,   -999.0,9,     7.55,2,   5878,     4.0,-999.0000,-999.000,-999.000,  6.0749,   0.006
   31DSCGC91_2,  P16N,    36,  1,   5214,   1011,2,19910318,2138, 33.3333,-152.0000, 5563,    750.7,   4.2987,  34.0940,2,  34.0940,2,     50.2,2,    97.64,2,    40.88,2,     0.00,2,     2.86,2,    0.126,2,    0.067,2,    0.516,2,-999.0000,9,  -999.00,9,   -157.3,2,    -0.52,2,-999.000,9,   2307.1,2,   -999.0,9,     7.35,2,   7887,     4.7,-999.0000,-999.000,-999.000,  4.2421,   0.003
   31DSCGC91_2,  P16N,    36,  1,   5213,   1033,2,19910318,2138, 33.3333,-152.0000, 5563,    849.7,   3.8986,  34.1901,2,  34.1920,2,     22.5,2,   113.92,2,    43.09,2,     0.00,2,     3.04,2,    0.019,2,    0.000,2,    0.074,2,-999.0000,9,  -999.00,9,   -179.5,2,    -1.01,2,-999.000,9,   2340.1,2,   -999.0,9,     7.30,2,   8879,     2.7,-999.0000,-999.000,-999.000,  3.8364,   0.002
   31DSCGC91_2,  P16N,    36,  1,   5211,   1041,2,19910318,2138, 33.3333,-152.0000, 5563,   1000.7,   3.5305,  34.3198,2,  34.3190,2,     10.1,2,   129.89,2,    44.41,2,     0.00,2,     3.16,2,    0.012,4,    0.000,2,    0.009,2,-999.0000,9,  -999.00,9,   -202.6,2,    -0.68,2,-999.000,9,   2368.7,2,   -999.0,9,     7.29,2,  10391,     2.7,-999.0000,-999.000,-999.000,  3.4587,   0.002
   31DSCGC91_2,  P16N,    36,  1,   5212,   1019,4,19910318,2138, 33.3333,-152.0000, 5563,   1000.7,   3.5305,  34.3198,2,  34.3180,2,     11.3,2,   129.92,2,    44.56,2,     0.00,2,     3.16,2,    0.003,2,    0.009,2,    0.006,2,-999.0000,9,  -999.00,9,   -197.8,2,    -0.99,2,-999.000,9,   -999.0,9,   -999.0,9,     7.29,2,  10391,     2.7,-999.0000,-999.000,-999.000,  3.4587,   0.002
   31DSCGC91_2,  P16N,    36,  1,   5209,   1003,2,19910318,2138, 33.3333,-152.0000, 5563,   1246.5,   3.0293,  34.4564,2,  34.4550,2,     14.7,2,   146.22,2,    43.98,2,     0.00,2,     3.16,2,    0.004,2,    0.000,2,    0.000,2,-999.0000,9,  -999.00,9,   -223.4,2,    -0.72,2,-999.000,9,   2383.8,2,   -999.0,9,     7.31,2,  12850,     2.6,-999.0000,-999.000,-999.000,  2.9421,   0.002
   31DSCGC91_2,  P16N,    36,  1,   5210,   1002,4,19910318,2138, 33.3333,-152.0000, 5563,   1246.5,   3.0293,  34.4564,2,  34.4560,2,     15.0,2,   146.25,2,    43.76,2,     0.00,2,     3.14,2,    0.002,2,    0.000,2,    0.009,2,-999.0000,9,  -999.00,9,   -999.0,9,    -0.80,2,-999.000,9,   -999.0,9,   -999.0,9,     7.31,2,  12850,  -999.0,-999.0000,-999.000,-999.000,  2.9421,   0.002
   31DSCGC91_2,  P16N,    36,  1,   5207,   1013,2,19910318,2138, 33.3333,-152.0000, 5563,   1372.8,   2.8143,  34.4954,2,  34.4930,2,     21.1,2,   152.22,2,    44.18,2,     0.00,2,     3.13,2,    0.001,2,    0.000,2,    0.003,2,-999.0000,9,  -999.00,9,   -238.1,2,    -0.95,2,-999.000,9,   2387.2,2,   -999.0,9,     7.33,2,  14111,     3.1,-999.0000,-999.000,-999.000,  2.7190,   0.002
   31DSCGC91_2,  P16N,    36,  1,   5208,      6,4,19910318,2138, 33.3333,-152.0000, 5563,   1372.8,   2.8143,  34.4954,2,  34.4930,2,     21.5,2,   152.25,2,    44.27,2,     0.00,2,     3.11,2,    0.004,2,    0.000,2,   -0.002,2,-999.0000,9,  -999.00,9,   -231.2,2,    -0.82,2,-999.000,9,   -999.0,9,   -999.0,9,     7.33,2,  14111,     2.6,-999.0000,-999.000,-999.000,  2.7190,   0.002
   31DSCGC91_2,  P16N,    36,  1,   5206,   1012,2,19910318,2138, 33.3333,-152.0000, 5563,   1999.3,   1.9830,  34.6103,2,  34.6080,2,     67.7,2,   172.85,2,    40.94,2,     0.00,2,     2.91,2,    0.002,2,    0.000,2, -999.000,9,-999.0000,9,  -999.00,9,   -999.0,9,  -999.00,9,-999.000,9,   2378.9,2,   -999.0,9,     7.43,2,  20368,  -999.0,-999.0000,-999.000,-999.000,  1.8469,-999.000
   31DSCGC91_2,  P16N,    36,  1,   5205,   1007,2,19910318,2138, 33.3333,-152.0000, 5563,   3002.5,   1.5429,  34.6665,2,  34.6630,2,    117.1,2,   171.11,2,    38.01,2,     0.00,2,     2.66,2,   -0.002,2,    0.009,4, -999.000,9,-999.0000,9,  -999.00,9,   -999.0,9,  -999.00,9,-999.000,9,   2353.9,2,   -999.0,9,     7.52,2,  30371,  -999.0,-999.0000,-999.000,-999.000,  1.3249,-999.000
   31DSCGC91_2,  P16N,    36,  1,   5204,   1038,2,19910318,2138, 33.3333,-152.0000, 5563,   4007.4,   1.4678,  34.6851,2,  34.6820,2,    144.1,2,   161.77,2,    36.70,2,     0.00,2,     2.52,2,   -0.001,2,    0.000,2, -999.000,9,-999.0000,9,  -999.00,9,   -999.0,9,  -999.00,9,-999.000,9,   2333.6,2,   -999.0,9,     7.57,2,  40387,  -999.0,-999.0000,-999.000,-999.000,  1.1490,-999.000
   31DSCGC91_2,  P16N,    36,  1,   5202,   1028,2,19910318,2138, 33.3333,-152.0000, 5563,   5008.2,   1.5308,  34.6896,2,  34.6890,2,    155.8,2,   152.88,2,    35.98,2,     0.00,2,     2.45,2,    0.000,2,    0.000,2, -999.000,9,-999.0000,9,  -999.00,9,   -999.0,9,  -999.00,9,-999.000,9,   2324.1,2,   -999.0,9,     7.59,2,  50377,  -999.0,-999.0000,-999.000,-999.000,  1.0945,-999.000
   31DSCGC91_2,  P16N,    36,  1,   5203,   1029,4,19910318,2138, 33.3333,-152.0000, 5563,   5008.2,   1.5308,  34.6896,2,  34.6900,2,    155.7,2,   152.91,2,    36.12,2,     0.00,2,     2.46,2,    0.005,2,    0.005,2, -999.000,9,-999.0000,9,  -999.00,9,   -999.0,9,  -999.00,9,-999.000,9,   -999.0,9,   -999.0,9,     7.59,2,  50377,  -999.0,-999.0000,-999.000,-999.000,  1.0945,-999.000
   31DSCGC91_2,  P16N,    36,  1,   5201,   1017,2,19910318,2138, 33.3333,-152.0000, 5563,   5525.2,   1.5849,  34.6899,2,  34.6900,2,    157.2,2,   150.55,2,    35.77,2,     0.00,2,     2.44,2,    0.002,2,    0.010,4, -999.000,9,-999.0000,9,  -999.00,9,   -999.0,9,  -999.00,9,-999.000,9,   2322.2,2,   -999.0,9,     7.59,2,  55552,  -999.0,-999.0000,-999.000,-999.000,  1.0819,-999.000