BOTTLE,20021108WHPSIOdm
EXPOCODE,SECT_ID,STNNBR,CASTNO,SAMPNO,BTLNBR,BTLNBR_FLAG_W,DATE,TIME,LATITUDE,LONGITUDE,DEPTH,CTDPRS,CTDTMP,CTDSAL,CTDSAL_FLAG_W,SALNTY,SALNTY_FLAG_W,OXYGEN,OXYGEN_FLAG_W,SILCAT,SILCAT_FLAG_W,NITRAT,NITRAT_FLAG_W,NITRIT,NITRIT_FLAG_W,PHSPHT,PHSPHT_FLAG_W,CFC-11,CFC-11_FLAG_W,CFC-12,CFC-12_FLAG_W,TRITUM,TRITUM_FLAG_W,HELIUM,HELIUM_FLAG_W,DELHE3,DELHE3_FLAG_W,DELC14,DELC14_FLAG_W,DELC13,DELC13_FLAG_W,NEON,NEON_FLAG_W,TCARBN,TCARBN_FLAG_W,ALKALI,ALKALI_FLAG_W,PH,PH_FLAG_W,CTDRAW,C14ERR,HELIER,DELHER,NEONER,THETA,TRITER
,,,,,,,,,,,,DBAR,ITS-90,PSS-78,,PSS-78,,UMOL/KG,,UMOL/KG,,UMOL/KG,,UMOL/KG,,UMOL/KG,,PMOL/KG,,PMOL/KG,,TU,,NMOL/KG,,PERCNT,,/MILLE,,/MILLE,,NMOL/KG,,UMOL/KG,,UMOL/KG,,,,DBAR,/MILLE,NMOL/KG,PERCNT,NMOL/KG,DEG C,TU
   31DSCGC91_2,  P16N,    29,  1,   4304,   1038,4,19910315,1638, 28.6640,-151.9978, 5602,     28.1,  19.0403,  35.2526,2,  35.2530,2,    225.9,2,     2.79,2,     0.01,2,     0.00,2,     0.06,2,    2.371,2,    1.248,2, -999.000,9,-999.0000,9,  -999.00,9,   -999.0,9,  -999.00,9,-999.000,9,   -999.0,9,   -999.0,9,  -999.00,9,    635,  -999.0,-999.0000,-999.000,-999.000, 19.0353,-999.000
   31DSCGC91_2,  P16N,    29,  1,   4303,   1029,4,19910315,1638, 28.6640,-151.9978, 5602,    101.8,  19.0443,  35.2496,2,  35.2520,2,    231.9,2,     2.59,2,     0.01,2,     0.00,2,     0.06,2,    2.360,2,    1.252,2, -999.000,9,-999.0000,9,  -999.00,9,   -999.0,9,  -999.00,9,-999.000,9,   -999.0,9,   -999.0,9,  -999.00,9,   1376,  -999.0,-999.0000,-999.000,-999.000, 19.0261,-999.000
   31DSCGC91_2,  P16N,    29,  1,   4302,   1028,4,19910315,1638, 28.6640,-151.9978, 5602,   3504.6,   1.4988,  34.6780,2,  34.6770,2,    115.2,4,   159.96,2,    36.86,4,     0.00,4,     2.49,4,    0.013,3,    0.000,2, -999.000,9,-999.0000,9,  -999.00,9,   -999.0,9,  -999.00,9,-999.000,9,   -999.0,9,   -999.0,9,  -999.00,9,  35374,  -999.0,-999.0000,-999.000,-999.000,  1.2322,-999.000
   31DSCGC91_2,  P16N,    29,  1,   4301,   1017,4,19910315,1638, 28.6640,-151.9978, 5602,   4542.8,   1.4848,  34.6869,2,  34.6840,3,    156.2,2,   154.40,2,    36.15,2,     0.00,2,     2.46,2,    0.003,2,    0.000,2, -999.000,9,-999.0000,9,  -999.00,9,   -999.0,9,  -999.00,9,-999.000,9,   -999.0,9,   -999.0,9,  -999.00,9,  45729,  -999.0,-999.0000,-999.000,-999.000,  1.1053,-999.000
   31DSCGC91_2,  P16N,    30,  1,   4424,   1027,2,19910316,0137, 29.3452,-151.9722, 5267,     75.7,  19.2774,  35.2832,2,  35.2850,2,    226.1,2,     2.58,2,     0.00,2,     0.00,2,     0.05,2,    2.404,2,    1.233,2, -999.000,9,-999.0000,9,  -999.00,9,   -999.0,9,  -999.00,9,-999.000,9,   2003.3,2,   -999.0,9,     8.05,2,   1114,  -999.0,-999.0000,-999.000,-999.000, 19.2638,-999.000
   31DSCGC91_2,  P16N,    30,  1,   4423,   1016,2,19910316,0137, 29.3452,-151.9722, 5267,    100.7,  19.2674,  35.2817,2,  35.2830,2,    228.6,2,     2.58,2,     0.00,2,     0.00,2,     0.05,2,    2.425,2,    1.227,2, -999.000,9,-999.0000,9,  -999.00,9,   -999.0,9,  -999.00,9,-999.000,9,   2007.5,2,   -999.0,9,  -999.00,9,   1365,  -999.0,-999.0000,-999.000,-999.000, 19.2493,-999.000
   31DSCGC91_2,  P16N,    30,  1,   4422,   1026,2,19910316,0137, 29.3452,-151.9722, 5267,    150.4,  18.5232,  35.1430,2,  35.1340,2,    225.0,2,     2.98,2,     0.35,2,     0.03,2,     0.09,2,    2.476,2,    1.357,4, -999.000,9,-999.0000,9,  -999.00,9,   -999.0,9,  -999.00,9,-999.000,9,   2011.0,2,   -999.0,9,  -999.00,9,   1863,  -999.0,-999.0000,-999.000,-999.000, 18.4968,-999.000
   31DSCGC91_2,  P16N,    30,  1,   4421,   1004,2,19910316,0137, 29.3452,-151.9722, 5267,    202.0,  14.5449,  34.5217,2,  34.5200,2,    217.7,2,     6.55,2,     5.27,2,     0.02,2,     0.45,2,    2.745,2,    1.377,2, -999.000,9,-999.0000,9,  -999.00,9,   -999.0,9,  -999.00,9,-999.000,9,   2033.5,2,   -999.0,9,  -999.00,9,   2383,  -999.0,-999.0000,-999.000,-999.000, 14.5151,-999.000
   31DSCGC91_2,  P16N,    30,  1,   4420,   1025,2,19910316,0137, 29.3452,-151.9722, 5267,    300.9,  11.5470,  34.2551,2,  34.2550,2,    216.4,2,    12.70,2,    11.53,2,     0.00,2,     0.86,2,    2.703,2,    1.307,2, -999.000,9,-999.0000,9,  -999.00,9,   -999.0,9,  -999.00,9,-999.000,9,   2069.0,2,   -999.0,9,  -999.00,9,   3376,  -999.0,-999.0000,-999.000,-999.000, 11.5088,-999.000
   31DSCGC91_2,  P16N,    30,  1,   4419,   1031,2,19910316,0137, 29.3452,-151.9722, 5267,    400.3,   9.6324,  34.1263,2,  34.1290,2,    202.7,2,    21.64,2,    17.26,2,     0.00,2,     1.21,2,    2.171,2,    1.076,2, -999.000,9,-999.0000,9,  -999.00,9,   -999.0,9,  -999.00,9,-999.000,9,   2102.8,2,   -999.0,9,  -999.00,9,   4374,  -999.0,-999.0000,-999.000,-999.000,  9.5870,-999.000
   31DSCGC91_2,  P16N,    30,  1,   4418,   1036,2,19910316,0137, 29.3452,-151.9722, 5267,    498.5,   7.5307,  34.0278,2,  34.0310,2,    166.8,2,    39.13,2,    24.70,2,     0.00,2,     1.74,2,    1.496,2,    0.708,2, -999.000,9,-999.0000,9,  -999.00,9,   -999.0,9,  -999.00,9,-999.000,9,   2158.1,2,   -999.0,9,  -999.00,9,   5359,  -999.0,-999.0000,-999.000,-999.000,  7.4818,-999.000
   31DSCGC91_2,  P16N,    30,  1,   4417,     26,2,19910316,0137, 29.3452,-151.9722, 5267,    600.0,   5.9342,  34.0085,2,  34.0080,2,    106.1,2,    62.89,2,    33.59,2,     0.00,2,     2.38,2,    0.604,2,    0.298,2, -999.000,9,-999.0000,9,  -999.00,9,   -999.0,9,  -999.00,9,-999.000,9,   2230.8,2,   -999.0,9,  -999.00,9,   6377,  -999.0,-999.0000,-999.000,-999.000,  5.8822,-999.000
   31DSCGC91_2,  P16N,    30,  1,   4416,   1037,2,19910316,0137, 29.3452,-151.9722, 5267,    698.8,   4.9449,  34.0623,2,  34.0610,2,     63.6,2,    83.79,2,    38.84,2,     0.00,2,     2.78,2,    0.178,6,    0.089,6, -999.000,9,-999.0000,9,  -999.00,9,   -999.0,9,  -999.00,9,-999.000,9,   2283.7,2,   -999.0,9,  -999.00,9,   7367,  -999.0,-999.0000,-999.000,-999.000,  4.8890,-999.000
   31DSCGC91_2,  P16N,    30,  1,   4415,   1032,2,19910316,0137, 29.3452,-151.9722, 5267,    898.2,   4.0836,  34.2848,2,  34.2840,2,     17.9,2,   114.46,2,    43.94,2,     0.00,2,     3.14,2,    0.013,2,    0.000,2, -999.000,9,-999.0000,9,  -999.00,9,   -999.0,9,  -999.00,9,-999.000,9,   2345.8,2,   -999.0,9,  -999.00,9,   9365,  -999.0,-999.0000,-999.000,-999.000,  4.0161,-999.000
   31DSCGC91_2,  P16N,    30,  1,   4414,      4,2,19910316,0137, 29.3452,-151.9722, 5267,   1111.9,   3.4595,  34.4474,2,  34.4430,2,     28.1,2,   131.09,2,    44.27,2,     0.00,2,     3.13,2,    0.024,4,    0.000,2, -999.000,9,-999.0000,9,  -999.00,9,   -999.0,9,  -999.00,9,-999.000,9,   2362.9,2,   -999.0,9,  -999.00,9,  11503,  -999.0,-999.0000,-999.000,-999.000,  3.3791,-999.000
   31DSCGC91_2,  P16N,    30,  1,   4413,   1033,2,19910316,0137, 29.3452,-151.9722, 5267,   1396.4,   2.9463,  34.5250,2,  34.5240,2,     48.9,2,   142.47,2,    43.07,2,     0.00,2,     3.03,2,    0.011,3,    0.000,2, -999.000,9,-999.0000,9,  -999.00,9,   -999.0,9,  -999.00,9,-999.000,9,   2366.4,2,   -999.0,9,  -999.00,9,  14348,  -999.0,-999.0000,-999.000,-999.000,  2.8477,-999.000
   31DSCGC91_2,  P16N,    30,  1,   4412,   1019,2,19910316,0137, 29.3452,-151.9722, 5267,   1698.4,   2.3901,  34.5838,2,  34.5820,2,     69.1,2,   155.40,2,    42.32,2,     0.00,2,     2.92,2,   -0.004,2,    0.000,2, -999.000,9,-999.0000,9,  -999.00,9,   -999.0,9,  -999.00,9,-999.000,9,   2365.2,2,   -999.0,9,  -999.00,9,  17365,  -999.0,-999.0000,-999.000,-999.000,  2.2733,-999.000
   31DSCGC91_2,  P16N,    30,  1,   4411,   1041,2,19910316,0137, 29.3452,-151.9722, 5267,   2001.9,   2.0790,  34.6109,2,  34.6100,2,     81.1,2,   164.01,2,    40.21,2,     0.00,2,     2.86,2,    0.006,3,    0.000,2, -999.000,9,-999.0000,9,  -999.00,9,   -999.0,9,  -999.00,9,-999.000,9,   2365.9,2,   -999.0,9,  -999.00,9,  20394,  -999.0,-999.0000,-999.000,-999.000,  1.9413,-999.000
   31DSCGC91_2,  P16N,    30,  1,   4410,   1002,2,19910316,0137, 29.3452,-151.9722, 5267,   2502.0,   1.7319,  34.6459,2,  34.6440,2,    101.4,2,   170.76,2,    39.35,2,     0.00,2,     2.76,2,    0.001,2,    0.000,2, -999.000,9,-999.0000,9,  -999.00,9,   -999.0,9,  -999.00,9,-999.000,9,   2360.1,2,   -999.0,9,  -999.00,9,  25382,  -999.0,-999.0000,-999.000,-999.000,  1.5564,-999.000
   31DSCGC91_2,  P16N,    30,  1,   4409,   1003,2,19910316,0137, 29.3452,-151.9722, 5267,   3003.2,   1.5639,  34.6660,2,  34.6640,2,    122.1,2,   168.60,2,    38.27,2,     0.00,2,     2.65,2,    0.000,2,    0.000,2, -999.000,9,-999.0000,9,  -999.00,9,   -999.0,9,  -999.00,9,-999.000,9,   2346.4,2,   -999.0,9,  -999.00,9,  30377,  -999.0,-999.0000,-999.000,-999.000,  1.3454,-999.000
   31DSCGC91_2,  P16N,    30,  1,   4407,   1013,4,19910316,0137, 29.3452,-151.9722, 5267,   3508.8,   1.4978,  34.6772,2,  34.6760,2,    136.7,2,   164.31,2,    37.24,2,     0.00,2,     2.56,2,    0.004,2,    0.000,2, -999.000,9,-999.0000,9,  -999.00,9,   -999.0,9,  -999.00,9,-999.000,9,   -999.0,9,   -999.0,9,  -999.00,9,  35416,  -999.0,-999.0000,-999.000,-999.000,  1.2308,-999.000
   31DSCGC91_2,  P16N,    30,  1,   4408,      6,2,19910316,0137, 29.3452,-151.9722, 5267,   3508.8,   1.4978,  34.6772,2,  34.6760,2,    136.9,2,   164.34,2,    37.30,2,     0.00,2,     2.57,2,    0.013,4,    0.000,2, -999.000,9,-999.0000,9,  -999.00,9,   -999.0,9,  -999.00,9,-999.000,9,   2336.3,2,   -999.0,9,  -999.00,9,  35416,  -999.0,-999.0000,-999.000,-999.000,  1.2308,-999.000
   31DSCGC91_2,  P16N,    30,  1,   4405,   1007,4,19910316,0137, 29.3452,-151.9722, 5267,   4104.1,   1.4768,  34.6839,2,  34.6830,2,    147.8,2,   159.41,2,    36.60,2,     0.00,2,     2.50,2,   -0.005,2,    0.011,3, -999.000,9,-999.0000,9,  -999.00,9,   -999.0,9,  -999.00,9,-999.000,9,   -999.0,9,   -999.0,9,  -999.00,9,  41351,  -999.0,-999.0000,-999.000,-999.000,  1.1471,-999.000
   31DSCGC91_2,  P16N,    30,  1,   4406,   1012,2,19910316,0137, 29.3452,-151.9722, 5267,   4104.1,   1.4768,  34.6839,2,  34.6830,2,    148.9,2,   159.43,2,    36.44,2,     0.00,2,     2.50,2,   -0.010,3,    0.000,2, -999.000,9,-999.0000,9,  -999.00,9,   -999.0,9,  -999.00,9,-999.000,9,   2324.4,2,   -999.0,9,  -999.00,9,  41351,  -999.0,-999.0000,-999.000,-999.000,  1.1471,-999.000
   31DSCGC91_2,  P16N,    30,  1,   4403,   1029,2,19910316,0137, 29.3452,-151.9722, 5267,   4607.0,   1.4888,  34.6885,2,  34.6870,2,    156.5,2,   153.05,2,    36.25,2,     0.00,2,     2.46,2, -999.000,5, -999.000,5, -999.000,9,-999.0000,9,  -999.00,9,   -999.0,9,  -999.00,9,-999.000,9,   2318.9,2,   -999.0,9,  -999.00,9,  46370,  -999.0,-999.0000,-999.000,-999.000,  1.1017,-999.000
   31DSCGC91_2,  P16N,    30,  1,   4404,   1038,4,19910316,0137, 29.3452,-151.9722, 5267,   4607.0,   1.4888,  34.6885,2,  34.6880,2,    156.6,2,   153.08,2,    35.92,2,     0.00,2,     2.46,2,    0.001,2,    0.000,2, -999.000,9,-999.0000,9,  -999.00,9,   -999.0,9,  -999.00,9,-999.000,9,   -999.0,9,   -999.0,9,  -999.00,9,  46370,  -999.0,-999.0000,-999.000,-999.000,  1.1017,-999.000
   31DSCGC91_2,  P16N,    30,  1,   4402,   1028,2,19910316,0137, 29.3452,-151.9722, 5267,   5431.0,   1.5419,  34.6912,2,  34.6920,2,    163.8,2,   146.97,2,    35.51,2,     0.00,2,     2.42,2,   -0.001,2,    0.000,2, -999.000,9,-999.0000,9,  -999.00,9,   -999.0,9,  -999.00,9,-999.000,9,   2308.4,2,   -999.0,9,  -999.00,9,  54607,  -999.0,-999.0000,-999.000,-999.000,  1.0524,-999.000