BOTTLE,20021108WHPSIOdm
EXPOCODE,SECT_ID,STNNBR,CASTNO,SAMPNO,BTLNBR,BTLNBR_FLAG_W,DATE,TIME,LATITUDE,LONGITUDE,DEPTH,CTDPRS,CTDTMP,CTDSAL,CTDSAL_FLAG_W,SALNTY,SALNTY_FLAG_W,OXYGEN,OXYGEN_FLAG_W,SILCAT,SILCAT_FLAG_W,NITRAT,NITRAT_FLAG_W,NITRIT,NITRIT_FLAG_W,PHSPHT,PHSPHT_FLAG_W,CFC-11,CFC-11_FLAG_W,CFC-12,CFC-12_FLAG_W,TRITUM,TRITUM_FLAG_W,HELIUM,HELIUM_FLAG_W,DELHE3,DELHE3_FLAG_W,DELC14,DELC14_FLAG_W,DELC13,DELC13_FLAG_W,NEON,NEON_FLAG_W,TCARBN,TCARBN_FLAG_W,ALKALI,ALKALI_FLAG_W,PH,PH_FLAG_W,CTDRAW,C14ERR,HELIER,DELHER,NEONER,THETA,TRITER
,,,,,,,,,,,,DBAR,ITS-90,PSS-78,,PSS-78,,UMOL/KG,,UMOL/KG,,UMOL/KG,,UMOL/KG,,UMOL/KG,,PMOL/KG,,PMOL/KG,,TU,,NMOL/KG,,PERCNT,,/MILLE,,/MILLE,,NMOL/KG,,UMOL/KG,,UMOL/KG,,,,DBAR,/MILLE,NMOL/KG,PERCNT,NMOL/KG,DEG C,TU
   31DSCGC91_2,  P16N,    20,  1,   3013,   1033,2,19910310,1310, 21.9163,-152.0045, 5691,      8.9,  23.1376,  35.0158,2,  35.0150,2,    214.9,2,     2.14,2,     0.00,2,     0.00,2,     0.10,2,    2.011,2,    1.076,2,    1.746,2,   1.6970,2,    -2.05,2,    107.1,2,     1.30,2,   6.758,2,   1965.5,2,   -999.0,9,     8.10,2,    442,     5.6,  0.0090,   0.150,   0.036, 23.1358,   0.006
   31DSCGC91_2,  P16N,    20,  1,   3012,   1019,2,19910310,1310, 21.9163,-152.0045, 5691,     22.5,  23.1496,  35.0155,2,  35.0130,2,    215.3,2,     2.14,2,     0.00,2,     0.00,2,     0.10,2,    2.000,2,    1.048,2, -999.000,9,-999.0000,9,  -999.00,9,   -999.0,9,  -999.00,9,-999.000,9,   1969.1,2,   -999.0,9,  -999.00,9,    579,  -999.0,-999.0000,-999.000,-999.000, 23.1450,-999.000
   31DSCGC91_2,  P16N,    20,  1,   3010,   1009,2,19910310,1310, 21.9163,-152.0045, 5691,     41.9,  23.1566,  35.0166,2,  35.0160,2,    215.1,2,     2.14,2,     0.00,2,     0.00,2,     0.10,2,    2.034,2,    1.095,2, -999.000,9,-999.0000,9,  -999.00,9,   -999.0,9,  -999.00,9,-999.000,9,   1970.5,2,   -999.0,9,     8.10,2,    774,  -999.0,-999.0000,-999.000,-999.000, 23.1480,-999.000
   31DSCGC91_2,  P16N,    20,  1,   3009,   1003,2,19910310,1310, 21.9163,-152.0045, 5691,     61.5,  23.1446,  35.0227,2,  35.0210,2,    215.0,2,     1.95,2,     0.00,2,     0.00,2,     0.11,2,    2.019,2,    1.076,2,    1.742,2,-999.0000,9,  -999.00,9,    113.3,2,     1.45,2,-999.000,9,   1968.1,2,   -999.0,9,     8.10,2,    971,     3.9,-999.0000,-999.000,-999.000, 23.1320,   0.006
   31DSCGC91_2,  P16N,    20,  1,   3008,   5106,2,19910310,1310, 21.9163,-152.0045, 5691,     80.8,  22.5104,  35.1569,2,  35.1530,2,    213.7,2,     2.14,2,     0.00,2,     0.00,2,     0.09,2,    2.066,2,    1.095,2,    2.037,2,   1.7210,2,    -0.96,2,   -999.0,9,  -999.00,9,   6.797,2,   1993.4,2,   -999.0,9,     8.07,2,   1165,  -999.0,  0.0090,   0.150,   0.036, 22.4942,   0.067
   31DSCGC91_2,  P16N,    20,  1,   3007,   1013,2,19910310,1310, 21.9163,-152.0045, 5691,    103.4,  21.8302,  35.2865,2,  35.2830,2,    214.9,2,     2.14,2,     0.00,2,     0.00,2,     0.07,2,    2.131,2,    1.108,2,    1.958,2,-999.0000,9,  -999.00,9,     99.3,2,     1.34,2,-999.000,9,   1997.0,2,   -999.0,9,     8.07,2,   1392,     5.5,-999.0000,-999.000,-999.000, 21.8098,   0.006
   31DSCGC91_2,  P16N,    20,  1,   3006,   1012,2,19910310,1310, 21.9163,-152.0045, 5691,    125.8,  20.7108,  35.2071,2,  35.2110,2,    206.7,2,     2.14,2,     0.05,2,     0.05,2,     0.12,2,    2.199,2,    1.139,2,    2.126,2,   1.7370,2,    -0.43,2,   -999.0,9,  -999.00,9,   6.922,2,   2017.7,2,   -999.0,9,     8.04,2,   1617,  -999.0,  0.0090,   0.150,   0.037, 20.6870,   0.065
   31DSCGC91_2,  P16N,    20,  1,   3005,   1007,2,19910310,1310, 21.9163,-152.0045, 5691,    151.3,  19.5345,  35.1696,2,  35.1640,2,    203.4,2,     2.73,2,     1.16,2,     0.06,2,     0.18,2,    2.256,2,    1.172,2,    2.087,2,-999.0000,9,  -999.00,9,    122.8,2,     1.07,2,-999.000,9,   2029.1,2,   -999.0,9,     8.01,2,   1873,     3.9,-999.0000,-999.000,-999.000, 19.5070,   0.006
   31DSCGC91_2,  P16N,    20,  1,   3004,   1038,2,19910310,1310, 21.9163,-152.0045, 5691,    176.9,  18.4771,  35.0812,2,  35.0790,2,    205.2,2,     2.92,2,     1.76,2,     0.02,2,     0.20,2,    2.383,2,    1.232,2, -999.000,9,-999.0000,9,  -999.00,9,   -999.0,9,  -999.00,9,-999.000,9,   2031.5,2,   -999.0,9,     7.99,2,   2131,  -999.0,-999.0000,-999.000,-999.000, 18.4462,-999.000
   31DSCGC91_2,  P16N,    20,  1,   3003,   1029,2,19910310,1310, 21.9163,-152.0045, 5691,    202.4,  17.1997,  34.8862,2,  34.8780,2,    206.3,2,     3.90,2,     2.64,2,     0.01,2,     0.28,2,    2.454,2,    1.278,2,    2.109,2,   1.7810,2,     0.26,2,    127.0,2,     0.79,2,   7.252,2,   2029.9,2,   -999.0,9,     7.97,2,   2387,     3.9,  0.0090,   0.150,   0.038, 17.1661,   0.006
   31DSCGC91_2,  P16N,    20,  1,   3002,   1028,2,19910310,1310, 21.9163,-152.0045, 5691,    251.9,  14.5469,  34.5156,2,  34.5110,2,    204.8,2,     6.24,2,     5.97,2,     0.01,2,     0.50,2,    2.551,2,    1.298,2,    2.142,2,   1.7540,2,     1.98,2,    110.4,2,     0.62,2,   7.226,2,   2045.3,2,   -999.0,9,     7.91,2,   2884,     3.9,  0.0090,   0.150,   0.038, 14.5096,   0.011
   31DSCGC91_2,  P16N,    20,  1,   3001,   1017,2,19910310,1310, 21.9163,-152.0045, 5691,    308.8,  11.7691,  34.2087,2,  34.2080,2,    203.6,2,    11.89,2,    11.52,2,     0.00,2,     0.87,2,    2.511,2,    1.248,2,    2.273,2,   1.7540,2,     4.64,2,     83.5,2,     0.48,2,   7.362,2,   2070.2,2,   -999.0,9,     7.83,2,   3455,     7.7,  0.0090,   0.150,   0.039, 11.7294,   0.007
   31DSCGC91_2,  P16N,    20,  2,   3124,   1027,2,19910310,1647, 21.9158,-151.9997, 5691,    349.8,   9.6894,  34.1021,2,  34.1020,2,    191.5,2,    21.25,2,    17.32,2,     0.00,2,     1.26,2,    2.041,2,    1.026,2, -999.000,9,   1.7710,2,    10.05,2,     65.7,2,     0.28,2,   7.442,2,   2103.2,2,   -999.0,9,     7.75,2,   3867,     4.8,  0.0090,   0.150,   0.039,  9.6497,-999.000
   31DSCGC91_2,  P16N,    20,  2,   3123,   1016,2,19910310,1647, 21.9158,-151.9997, 5691,    400.7,   8.4350,  34.0735,2,  34.0750,2,    146.8,2,    34.13,2,    24.15,2,     0.00,2,     1.75,2,    1.260,2,    0.640,2,    1.865,2,   1.7870,2,    16.18,2,      4.7,2,     0.01,2,   7.587,2,   2159.2,2,   -999.0,9,     7.63,2,   4378,     4.5,  0.0090,   0.150,   0.040,  8.3932,   0.010
   31DSCGC91_2,  P16N,    20,  2,   3122,   1026,2,19910310,1647, 21.9158,-151.9997, 5691,    450.7,   7.2726,  34.0420,2,  34.0340,2,    139.8,2,    44.30,2,    27.46,2,     0.00,2,     1.93,2,    0.953,2,    0.474,2,    1.564,2,   1.8070,2,    19.43,2,    -43.8,2,    -0.04,2,   7.675,2,   2181.5,2,   -999.0,9,     7.58,2,   4880,     5.9,  0.0090,   0.150,   0.041,  7.2294,   0.009
   31DSCGC91_2,  P16N,    20,  2,   3120,   1025,4,19910310,1647, 21.9158,-151.9997, 5691,    497.7,   6.3834,  34.0423,2,  34.0370,2,    101.3,2,    58.62,2,    32.75,2,     0.00,2,     2.30,2,    0.472,2,    0.252,2,    1.430,2,   1.8120,2,    19.14,2,    -78.9,2,    -0.12,2,   7.707,2,   -999.0,9,   -999.0,9,     7.49,2,   5350,     3.7,  0.0090,   0.150,   0.041,  6.3388,   0.005
   31DSCGC91_2,  P16N,    20,  2,   3121,   1004,2,19910310,1647, 21.9158,-151.9997, 5691,    497.7,   6.3834,  34.0423,2,  34.0370,2,    102.4,2,    58.43,2,    32.78,2,     0.00,2,     2.31,2,    0.479,2,    0.243,2,    1.460,2,   1.8140,2,    18.98,2,    -67.7,2,    -0.18,2,   7.705,2,   2223.2,2,   -999.0,9,     7.49,2,   5350,     3.5,  0.0090,   0.150,   0.041,  6.3388,   0.009
   31DSCGC91_2,  P16N,    20,  2,   3118,   1036,4,19910310,1647, 21.9158,-151.9997, 5691,    698.9,   4.8459,  34.2624,2,  34.2630,2,     25.6,2,    95.20,2,    41.41,2,     0.00,2,     3.00,2,    0.030,2,    0.016,2,    0.035,2,   1.8650,2,    12.38,2,   -159.2,2,    -0.43,2,   7.892,2,   -999.0,9,   -999.0,9,     7.33,2,   7368,     3.1,  0.0100,   0.150,   0.042,  4.7903,   0.002
   31DSCGC91_2,  P16N,    20,  2,   3119,   1031,2,19910310,1647, 21.9158,-151.9997, 5691,    698.9,   4.8459,  34.2624,2,  34.2630,2,     25.3,2,    95.21,2,    41.02,2,     0.00,2,     2.99,2,    0.027,2,    0.015,2,    0.038,2,   1.8400,2,    12.22,2,   -172.0,2,    -0.48,2,   7.815,2,   2314.7,2,   -999.0,9,     7.33,2,   7368,     3.9,  0.0100,   0.150,   0.041,  4.7903,   0.003
   31DSCGC91_2,  P16N,    20,  2,   3117,     26,2,19910310,1647, 21.9158,-151.9997, 5691,    900.3,   4.4138,  34.4672,2,  34.4660,2,     37.4,2,   104.57,2,    42.07,2,     0.00,2,     3.00,2,    0.012,2,    0.005,2,    0.006,2,-999.0000,9,  -999.00,9,   -190.5,2,    -0.19,2,-999.000,9,   2324.7,2,   -999.0,9,     7.38,2,   9386,     3.1,-999.0000,-999.000,-999.000,  4.3435,   0.002
   31DSCGC91_2,  P16N,    20,  2,   3116,   1037,2,19910310,1647, 21.9158,-151.9997, 5691,    997.8,   4.0816,  34.4963,2,  34.4940,2,     41.8,2,   111.78,2,    42.09,2,     0.00,2,     3.00,2,    0.015,3,    0.000,2,   -0.001,2,   1.8950,2,    24.81,2,   -200.7,2,    -0.32,2,-999.000,9,   2330.6,2,   -999.0,9,     7.39,2,  10361,     3.0,-999.0000,-999.000,-999.000,  4.0055,   0.002
   31DSCGC91_2,  P16N,    20,  2,   3114,   1040,4,19910310,1647, 21.9158,-151.9997, 5691,   1095.8,   3.7996,  34.5221,2,  34.5190,2,     46.9,2,   117.60,2,    41.92,2,     0.00,2,     2.99,2,    0.117,4,    0.000,2, -999.000,9,   1.8850,2,    25.57,2,   -999.0,9,  -999.00,9,-999.000,9,   -999.0,9,   -999.0,9,     7.40,2,  11341,  -999.0,-999.0000,-999.000,-999.000,  3.7175,-999.000
   31DSCGC91_2,  P16N,    20,  2,   3115,   1032,2,19910310,1647, 21.9158,-151.9997, 5691,   1095.8,   3.7996,  34.5221,2,  34.5190,2,     46.8,2,   117.61,2,    42.00,2,     0.00,2,     3.00,2,    0.004,2,    0.011,3, -999.000,9,   1.8830,2,    25.64,2,   -999.0,9,  -999.00,9,-999.000,9,   2340.4,2,   -999.0,9,     7.40,2,  11341,  -999.0,-999.0000,-999.000,-999.000,  3.7175,-999.000
   31DSCGC91_2,  P16N,    20,  2,   3113,   1033,2,19910310,1647, 21.9158,-151.9997, 5691,   1600.1,   2.6572,  34.5863,2,  34.5850,2,     71.9,2,   143.00,2,    41.03,2,     0.00,2,     2.88,2,    0.015,3,    0.006,3, -999.000,9,   1.9070,2,    21.92,2,   -999.0,9,  -999.00,9,-999.000,9,   2352.3,2,   -999.0,9,     7.44,2,  16383,  -999.0,-999.0000,-999.000,-999.000,  2.5451,-999.000
   31DSCGC91_2,  P16N,    20,  2,   3112,   1019,2,19910310,1647, 21.9158,-151.9997, 5691,   1902.6,   2.1991,  34.6151,2,  34.6140,2,     87.7,2,   153.68,2,    40.35,2,     0.00,2,     2.80,2,    0.011,3,    0.000,2, -999.000,9,   1.9170,2,    22.24,2,   -999.0,9,  -999.00,9,-999.000,9,   2354.4,2,   -999.0,9,     7.47,2,  19403,  -999.0,-999.0000,-999.000,-999.000,  2.0679,-999.000
   31DSCGC91_2,  P16N,    20,  2,   3111,   1024,2,19910310,1647, 21.9158,-151.9997, 5691,   2201.5,   1.9380,  34.6357,2,  34.6350,2,     99.9,2,   158.63,2,    39.47,2,     0.00,2,     2.73,2,    0.029,4,    0.000,2, -999.000,9,   1.9100,2,    22.10,2,   -999.0,9,  -999.00,9,-999.000,9,   2352.2,2,   -999.0,9,     7.49,2,  22385,  -999.0,-999.0000,-999.000,-999.000,  1.7853,-999.000
   31DSCGC91_2,  P16N,    20,  2,   3110,   1009,2,19910310,1647, 21.9158,-151.9997, 5691,   2601.8,   1.7049,  34.6545,2,  34.6520,2,    111.9,2,   163.39,2,    38.53,2,     0.00,2,     2.66,2,    0.182,4,    0.000,2, -999.000,9,-999.0000,9,  -999.00,9,   -999.0,9,  -999.00,9,-999.000,9,   2347.9,2,   -999.0,9,  -999.00,9,  26377,  -999.0,-999.0000,-999.000,-999.000,  1.5209,-999.000
   31DSCGC91_2,  P16N,    20,  2,   3109,   1003,2,19910310,1647, 21.9158,-151.9997, 5691,   3002.2,   1.5419,  34.6664,2,  34.6660,2,    126.9,2,   164.20,2,    37.54,2,     0.00,2,     2.60,2,    0.012,3,    0.014,4, -999.000,9,   1.9120,2,    18.27,2,   -999.0,9,  -999.00,9,-999.000,9,   2333.9,2,   -999.0,9,     7.54,2,  30368,  -999.0,-999.0000,-999.000,-999.000,  1.3239,-999.000
   31DSCGC91_2,  P16N,    20,  2,   3107,   1013,2,19910310,1647, 21.9158,-151.9997, 5691,   3401.9,   1.4778,  34.6770,2,  34.6760,2,    137.0,2,   161.46,2,    36.77,2,     0.00,2,     2.52,2,    0.005,2,    0.008,3, -999.000,9,-999.0000,9,  -999.00,9,   -999.0,9,  -999.00,9,-999.000,9,   2329.2,3,   -999.0,9,     7.56,2,  34351,  -999.0,-999.0000,-999.000,-999.000,  1.2222,-999.000
   31DSCGC91_2,  P16N,    20,  2,   3108,      6,2,19910310,1647, 21.9158,-151.9997, 5691,   3402.6,   1.4768,  34.6790,2,  34.6760,2,    138.0,2,   161.48,2,    36.76,2,     0.00,2,     2.53,2,    0.003,2,    0.004,2, -999.000,9,-999.0000,9,  -999.00,9,   -999.0,9,  -999.00,9,-999.000,9,   2332.2,2,   -999.0,9,     7.56,2,  34358,  -999.0,-999.0000,-999.000,-999.000,  1.2211,-999.000
   31DSCGC91_2,  P16N,    20,  2,   3106,   1012,2,19910310,1647, 21.9158,-151.9997, 5691,   3405.0,   1.4758,  34.6790,2,  34.6780,2,    137.3,2,   161.45,2,    36.90,2,     0.00,2,     2.53,2,   -0.004,2,    0.000,2, -999.000,9,   1.9030,2,    17.04,2,   -999.0,9,  -999.00,9,-999.000,9,   2334.4,2,   -999.0,9,     7.56,2,  34382,  -999.0,-999.0000,-999.000,-999.000,  1.2199,-999.000
   31DSCGC91_2,  P16N,    20,  2,   3105,   1007,2,19910310,1647, 21.9158,-151.9997, 5691,   3806.9,   1.4498,  34.6843,2,  34.6820,2,    145.8,2,   158.52,2,    36.44,2,     0.00,2,     2.49,2,    0.002,2,    0.000,2, -999.000,9,   1.9070,2,    16.47,2,   -999.0,9,  -999.00,9,-999.000,9,   2327.6,2,   -999.0,9,     7.57,2,  38388,  -999.0,-999.0000,-999.000,-999.000,  1.1530,-999.000
   31DSCGC91_2,  P16N,    20,  2,   3104,   1038,2,19910310,1647, 21.9158,-151.9997, 5691,   4205.1,   1.4508,  34.6876,2,  34.6860,2,    152.2,2,   154.58,2,    35.98,2,     0.00,2,     2.46,2,    0.000,2,    0.000,2, -999.000,9,   1.9150,2,    15.49,2,   -999.0,9,  -999.00,9,-999.000,9,   2319.8,2,   -999.0,9,     7.58,2,  42359,  -999.0,-999.0000,-999.000,-999.000,  1.1107,-999.000
   31DSCGC91_2,  P16N,    20,  2,   3103,   1029,2,19910310,1647, 21.9158,-151.9997, 5691,   4606.9,   1.4558,  34.6904,2,  34.6900,2,    159.1,2,   149.61,2,    35.46,2,     0.00,2,     2.41,2,    0.003,2,    0.006,3, -999.000,9,   1.9000,2,    15.29,2,   -999.0,9,  -999.00,9,-999.000,9,   2305.2,3,   -999.0,9,     7.59,2,  46369,  -999.0,-999.0000,-999.000,-999.000,  1.0697,-999.000
   31DSCGC91_2,  P16N,    20,  2,   3102,   1028,2,19910310,1647, 21.9158,-151.9997, 5691,   5007.2,   1.4768,  34.6921,2,  34.6910,2,    163.2,2,   146.51,2,    35.32,2,     0.00,2,     2.39,2, -999.000,5, -999.000,5, -999.000,9,   1.9110,2,    15.04,2,   -999.0,9,  -999.00,9,-999.000,9,   2310.1,2,   -999.0,9,     7.59,2,  50367,  -999.0,-999.0000,-999.000,-999.000,  1.0424,-999.000
   31DSCGC91_2,  P16N,    20,  2,   3101,   1017,2,19910310,1647, 21.9158,-151.9997, 5691,   5751.4,   1.5559,  34.6934,2,  34.6930,2,    163.0,2,   146.29,2,    34.97,2,     0.00,2,     2.40,2,   -0.005,2,    0.005,2, -999.000,9,-999.0000,9,  -999.00,9,   -999.0,9,  -999.00,9,-999.000,9,   2308.3,2,   -999.0,9,     7.59,2,  57819,  -999.0,-999.0000,-999.000,-999.000,  1.0246,-999.000