BOTTLE,20021108WHPSIOdm
EXPOCODE,SECT_ID,STNNBR,CASTNO,SAMPNO,BTLNBR,BTLNBR_FLAG_W,DATE,TIME,LATITUDE,LONGITUDE,DEPTH,CTDPRS,CTDTMP,CTDSAL,CTDSAL_FLAG_W,SALNTY,SALNTY_FLAG_W,OXYGEN,OXYGEN_FLAG_W,SILCAT,SILCAT_FLAG_W,NITRAT,NITRAT_FLAG_W,NITRIT,NITRIT_FLAG_W,PHSPHT,PHSPHT_FLAG_W,CFC-11,CFC-11_FLAG_W,CFC-12,CFC-12_FLAG_W,TRITUM,TRITUM_FLAG_W,HELIUM,HELIUM_FLAG_W,DELHE3,DELHE3_FLAG_W,DELC14,DELC14_FLAG_W,DELC13,DELC13_FLAG_W,NEON,NEON_FLAG_W,TCARBN,TCARBN_FLAG_W,ALKALI,ALKALI_FLAG_W,PH,PH_FLAG_W,CTDRAW,C14ERR,HELIER,DELHER,NEONER,THETA,TRITER
,,,,,,,,,,,,DBAR,ITS-90,PSS-78,,PSS-78,,UMOL/KG,,UMOL/KG,,UMOL/KG,,UMOL/KG,,UMOL/KG,,PMOL/KG,,PMOL/KG,,TU,,NMOL/KG,,PERCNT,,/MILLE,,/MILLE,,NMOL/KG,,UMOL/KG,,UMOL/KG,,,,DBAR,/MILLE,NMOL/KG,PERCNT,NMOL/KG,DEG C,TU
   31DSCGC91_2,  P16N,    51,  1,   6922,   1026,2,19910325,0950, 44.4190,-151.9972, 5201,      8.4,   8.6131,  33.0005,2,  32.9940,2,    296.0,2,    10.95,2,     7.91,2,     0.17,2,     0.84,2,    4.243,6,    2.096,6,    2.099,2,-999.0000,9,  -999.00,9,     55.8,6,     1.62,2,-999.000,9,   2016.4,2,   -999.0,9,  -999.00,9,    437,     7.8,-999.0000,-999.000,-999.000,  8.6122,   0.006
   31DSCGC91_2,  P16N,    51,  1,   6921,   1004,2,19910325,0950, 44.4190,-151.9972, 5201,     31.3,   8.6101,  33.0001,2,  32.9960,2,    296.7,2,    10.93,2,     7.84,2,     0.17,2,     0.86,2,    4.225,2,    2.101,2, -999.000,9,-999.0000,9,  -999.00,9,   -999.0,9,  -999.00,9,-999.000,9,   2016.4,2,   -999.0,9,  -999.00,9,    666,  -999.0,-999.0000,-999.000,-999.000,  8.6069,-999.000
   31DSCGC91_2,  P16N,    51,  1,   6920,   1025,2,19910325,0950, 44.4190,-151.9972, 5201,     78.8,   8.5821,  33.0087,2,  33.0030,2,    290.9,2,    11.31,2,     8.13,2,     0.19,2,     0.87,2,    4.246,2,    2.108,2,    2.134,2,-999.0000,9,  -999.00,9,     47.0,2,     1.18,2,-999.000,9,   2019.9,2,   -999.0,9,  -999.00,9,   1145,     8.7,-999.0000,-999.000,-999.000,  8.5740,   0.006
   31DSCGC91_2,  P16N,    51,  1,   6919,   1031,2,19910325,0950, 44.4190,-151.9972, 5201,    126.7,   7.1776,  33.5584,2,  33.5150,3,    276.0,3,    22.52,3,    14.90,3,     0.02,3,     1.21,3,    4.420,2,    2.172,2,    2.009,2,-999.0000,9,  -999.00,9,     29.4,2,  -999.00,5,-999.000,9,   2075.8,2,   -999.0,9,  -999.00,9,   1626,    14.0,-999.0000,-999.000,-999.000,  7.1659,   0.006
   31DSCGC91_2,  P16N,    51,  1,   6918,   1036,2,19910325,0950, 44.4190,-151.9972, 5201,    152.6,   7.7558,  33.8129,2,  33.7540,3,    258.2,3,    23.87,3,    15.87,3,     0.01,3,     1.23,3,    3.947,2,    1.942,2,    2.043,2,-999.0000,9,  -999.00,9,     38.2,2,     0.59,2,-999.000,9,   2089.9,2,   -999.0,9,  -999.00,9,   1886,     3.7,-999.0000,-999.000,-999.000,  7.7410,   0.006
   31DSCGC91_2,  P16N,    51,  1,   6917,     26,2,19910325,0950, 44.4190,-151.9972, 5201,    176.6,   7.9919,  33.9553,2,  33.9520,2,    232.8,2,    26.60,2,    18.02,2,     0.00,2,     1.33,2,    3.500,2,    1.706,2,    1.960,2,-999.0000,9,  -999.00,9,     19.4,2,     0.64,2,-999.000,9,   2111.8,2,   -999.0,9,  -999.00,9,   2128,    10.1,-999.0000,-999.000,-999.000,  7.9743,   0.006
   31DSCGC91_2,  P16N,    51,  1,   6915,   1032,4,19910325,0950, 44.4190,-151.9972, 5201,    202.4,   7.4817,  33.9588,2,  33.9670,2,    220.8,2,    31.27,2,    19.88,2,     0.00,2,     1.46,2,    3.205,2,    1.571,2,    1.977,2,-999.0000,9,  -999.00,9,     10.8,2,     0.03,2,-999.000,9,   -999.0,9,   -999.0,9,  -999.00,9,   2387,     8.2,-999.0000,-999.000,-999.000,  7.4623,   0.006
   31DSCGC91_2,  P16N,    51,  1,   6916,   1037,2,19910325,0950, 44.4190,-151.9972, 5201,    202.4,   7.4817,  33.9588,2,  33.9670,2,    221.4,2,    31.29,2,    19.97,2,     0.00,2,     1.46,2,    3.212,2,    1.567,2, -999.000,9,-999.0000,9,  -999.00,9,   -999.0,9,  -999.00,9,-999.000,9,   2127.7,2,   -999.0,9,  -999.00,9,   2387,  -999.0,-999.0000,-999.000,-999.000,  7.4623,-999.000
   31DSCGC91_2,  P16N,    51,  1,   6914,   1011,4,19910325,0950, 44.4190,-151.9972, 5201,    349.4,   5.4201,  33.8807,2,  33.9520,3,    108.7,3,    74.35,3,    34.97,3,     0.00,3,     2.48,3,    1.423,2,    0.645,2,    1.366,2,-999.0000,9,  -999.00,9,    -99.7,2,    -0.41,2,-999.000,9,   -999.0,9,   -999.0,9,  -999.00,9,   3862,     7.7,-999.0000,-999.000,-999.000,  5.3918,   0.005
   31DSCGC91_2,  P16N,    51,  1,   6913,   1033,2,19910325,0950, 44.4190,-151.9972, 5201,    548.8,   4.4558,  34.0537,2,  34.0470,2,     70.1,2,    90.46,2,    38.90,2,     0.00,2,     2.73,2,    0.662,6,    0.302,6,    1.000,2,-999.0000,9,  -999.00,9,   -146.5,2,  -999.00,5,-999.000,9,   2287.6,2,   -999.0,9,  -999.00,9,   5864,     3.8,-999.0000,-999.000,-999.000,  4.4146,   0.004
   31DSCGC91_2,  P16N,    51,  1,   6912,   1019,2,19910325,0950, 44.4190,-151.9972, 5201,    648.7,   4.1207,  34.1253,2,  34.1240,2,     48.6,2,   103.86,2,    41.11,2,     0.00,2,     2.87,2,    0.325,2,    0.151,2,    0.694,2,-999.0000,9,  -999.00,9,   -119.2,2,    -0.83,2,-999.000,9,   2313.6,2,   -999.0,9,  -999.00,9,   6865,     4.8,-999.0000,-999.000,-999.000,  4.0731,   0.003
   31DSCGC91_2,  P16N,    51,  1,   6911,   1041,2,19910325,0950, 44.4190,-151.9972, 5201,    749.1,   3.7936,  34.1956,2,  34.1940,2,     35.9,2,   115.91,2,    42.14,2,     0.00,2,     2.97,2,    0.163,2,    0.074,4,    0.279,2,-999.0000,9,  -999.00,9,   -173.4,2,    -0.85,2,-999.000,9,   2335.3,2,   -999.0,9,  -999.00,9,   7870,    11.4,-999.0000,-999.000,-999.000,  3.7399,   0.004
   31DSCGC91_2,  P16N,    51,  1,   6910,   1002,2,19910325,0950, 44.4190,-151.9972, 5201,    847.6,   3.5165,  34.2566,2,  34.2530,2,     27.6,2,   125.99,2,    43.03,2,     0.00,2,     3.03,2,    0.064,2,    0.030,4,    0.248,2,-999.0000,9,  -999.00,9,   -178.5,2,    -0.57,3,-999.000,9,   2348.4,2,   -999.0,9,  -999.00,9,   8858,     4.8,-999.0000,-999.000,-999.000,  3.4568,   0.002
   31DSCGC91_2,  P16N,    51,  1,   6909,   1003,2,19910325,0950, 44.4190,-151.9972, 5201,    922.6,   3.3394,  34.2934,2,  34.2890,2,     23.7,2,   132.04,2,    43.12,2,     0.00,2,     3.07,2,    0.036,2,    0.017,2,    0.141,2,-999.0000,9,  -999.00,9,   -195.0,2,    -0.84,2,-999.000,9,   2358.9,2,   -999.0,9,  -999.00,9,   9609,     6.9,-999.0000,-999.000,-999.000,  3.2752,   0.003
   31DSCGC91_2,  P16N,    51,  1,   6908,      6,2,19910325,0950, 44.4190,-151.9972, 5201,   1073.0,   3.0163,  34.3622,2,  34.3590,2,     13.7,2,   144.26,2,    44.41,2,     0.00,2,     3.13,2,    0.004,2,    0.000,2, -999.000,9,-999.0000,9,  -999.00,9,   -999.0,9,  -999.00,9,-999.000,9,   2377.3,2,   -999.0,9,  -999.00,9,  11114,  -999.0,-999.0000,-999.000,-999.000,  2.9430,-999.000
   31DSCGC91_2,  P16N,    51,  1,   6907,   1013,2,19910325,0950, 44.4190,-151.9972, 5201,   1172.9,   2.8633,  34.3964,2,  34.3940,2,     11.4,2,   151.19,2,    44.77,2,     0.00,2,     3.16,2,   -0.004,2,    0.000,2,    0.009,2,-999.0000,9,  -999.00,9,   -206.5,2,    -0.92,2,-999.000,9,   2385.4,2,   -999.0,9,  -999.00,9,  12114,     4.6,-999.0000,-999.000,-999.000,  2.7835,   0.002
   31DSCGC91_2,  P16N,    51,  1,   6906,   1012,2,19910325,0950, 44.4190,-151.9972, 5201,   1374.9,   2.5932,  34.4592,2,  34.4570,2,     13.5,2,   160.85,2,    44.66,2,     0.00,2,     3.14,2,    0.005,2,    0.000,2,    0.003,2,-999.0000,9,  -999.00,9,   -228.8,2,    -0.51,2,-999.000,9,   2395.6,2,   -999.0,9,  -999.00,9,  14133,     3.9,-999.0000,-999.000,-999.000,  2.5002,   0.002
   31DSCGC91_2,  P16N,    51,  1,   6905,   1007,2,19910325,0950, 44.4190,-151.9972, 5201,   1498.5,   2.4231,  34.4930,2,  34.4890,2,     16.4,2,   165.97,2,    44.69,2,     0.00,2,     3.12,2, -999.000,9, -999.000,9,   -0.003,2,-999.0000,9,  -999.00,9,   -235.1,2,  -999.00,5,-999.000,9,   2396.4,2,   -999.0,9,  -999.00,9,  15368,     9.6,-999.0000,-999.000,-999.000,  2.3223,   0.002
   31DSCGC91_2,  P16N,    51,  1,   6904,   1038,2,19910325,0950, 44.4190,-151.9972, 5201,   1998.9,   1.9740,  34.5845,2,  34.5810,2,     46.5,2,   176.77,2,    42.81,2,     0.00,2,     2.98,2, -999.000,9, -999.000,9,    0.003,2,-999.0000,9,  -999.00,9,   -252.4,2,    -0.54,2,-999.000,9,   2389.7,2,   -999.0,9,  -999.00,9,  20364,     5.1,-999.0000,-999.000,-999.000,  1.8382,   0.002
   31DSCGC91_2,  P16N,    51,  1,   6903,   1029,2,19910325,0950, 44.4190,-151.9972, 5201,   3002.2,   1.5699,  34.6587,2,  34.6560,2,    108.1,2,   173.09,2,    38.84,2,     0.00,2,     2.71,2, -999.000,9, -999.000,9, -999.000,9,-999.0000,9,  -999.00,9,   -999.0,9,  -999.00,9,-999.000,9,   2355.4,2,   -999.0,9,  -999.00,9,  30368,  -999.0,-999.0000,-999.000,-999.000,  1.3514,-999.000
   31DSCGC91_2,  P16N,    51,  1,   6902,   1028,4,19910325,0950, 44.4190,-151.9972, 5201,   4008.1,   1.4758,  34.6837,2,  34.6810,2,    141.2,2,   167.12,2,    36.91,2,     0.00,2,     2.54,2, -999.000,9, -999.000,9, -999.000,9,-999.0000,9,  -999.00,9,   -999.0,9,  -999.00,9,-999.000,9,   -999.0,9,   -999.0,9,  -999.00,9,  40394,  -999.0,-999.0000,-999.000,-999.000,  1.1567,-999.000
   31DSCGC91_2,  P16N,    52,  1,   7016,   1037,2,19910325,1736, 45.0017,-151.9840, 5222,      9.1,   8.4060,  32.9622,2,  32.9590,2,    293.1,2,    10.30,2,     8.16,2,     0.21,2,     0.88,2,    4.146,2,    2.107,2, -999.000,9,-999.0000,9,  -999.00,9,   -999.0,9,  -999.00,9,-999.000,9,   -999.0,9,   -999.0,9,  -999.00,9,    444,  -999.0,-999.0000,-999.000,-999.000,  8.4051,-999.000
   31DSCGC91_2,  P16N,    52,  1,   7015,   1032,2,19910325,1736, 45.0017,-151.9840, 5222,     50.4,   8.4070,  32.9623,2,  32.9600,2,    298.5,2,    10.29,2,     8.22,2,     0.21,2,     0.88,2,    3.880,2,    2.021,2, -999.000,9,-999.0000,9,  -999.00,9,   -999.0,9,  -999.00,9,-999.000,9,   -999.0,9,   -999.0,9,  -999.00,9,    859,  -999.0,-999.0000,-999.000,-999.000,  8.4019,-999.000
   31DSCGC91_2,  P16N,    52,  1,   7014,   1011,2,19910325,1736, 45.0017,-151.9840, 5222,    101.6,   8.1589,  33.1316,2,  33.1120,2,    263.3,2,    13.79,2,    10.42,2,     0.24,2,     1.01,2,    4.178,2,    2.107,2, -999.000,9,-999.0000,9,  -999.00,9,   -999.0,9,  -999.00,9,-999.000,9,   -999.0,9,   -999.0,9,  -999.00,9,   1373,  -999.0,-999.0000,-999.000,-999.000,  8.1489,-999.000
   31DSCGC91_2,  P16N,    52,  1,   7013,   1033,2,19910325,1736, 45.0017,-151.9840, 5222,    252.1,   6.1123,  33.8738,2,  33.8730,2,    208.0,2,    41.34,2,    23.73,2,     0.01,2,     1.75,2,    3.093,2,    1.505,2, -999.000,9,-999.0000,9,  -999.00,9,   -999.0,9,  -999.00,9,-999.000,9,   -999.0,9,   -999.0,9,  -999.00,9,   2886,  -999.0,-999.0000,-999.000,-999.000,  6.0907,-999.000
   31DSCGC91_2,  P16N,    52,  1,   7012,   1019,2,19910325,1736, 45.0017,-151.9840, 5222,    400.3,   4.7469,  33.8865,2,  33.8850,2,    114.9,2,    69.06,2,    33.65,2,     0.00,2,     2.41,2,    1.869,2,    0.875,2, -999.000,9,-999.0000,9,  -999.00,9,   -999.0,9,  -999.00,9,-999.000,9,   -999.0,9,   -999.0,9,  -999.00,9,   4374,  -999.0,-999.0000,-999.000,-999.000,  4.7165,-999.000
   31DSCGC91_2,  P16N,    52,  1,   7011,   1041,2,19910325,1736, 45.0017,-151.9840, 5222,    499.6,   4.4478,  34.0077,2,  34.0050,2,     80.3,2,    86.68,2,    37.71,2,     0.00,2,     2.70,2,    0.948,2,    0.434,2, -999.000,9,-999.0000,9,  -999.00,9,   -999.0,9,  -999.00,9,-999.000,9,   -999.0,9,   -999.0,9,  -999.00,9,   5370,  -999.0,-999.0000,-999.000,-999.000,  4.4105,-999.000
   31DSCGC91_2,  P16N,    52,  1,   7010,   1002,2,19910325,1736, 45.0017,-151.9840, 5222,    600.3,   4.0526,  34.0850,2,  34.0840,2,     51.7,2,   102.23,2,    40.36,2,     0.00,2,     2.90,2,    0.533,6,    0.248,6, -999.000,9,-999.0000,9,  -999.00,9,   -999.0,9,  -999.00,9,-999.000,9,   -999.0,9,   -999.0,9,  -999.00,9,   6380,  -999.0,-999.0000,-999.000,-999.000,  4.0092,-999.000
   31DSCGC91_2,  P16N,    52,  1,   7009,   1003,2,19910325,1736, 45.0017,-151.9840, 5222,    699.1,   3.8366,  34.1777,2,  34.1750,2,     38.4,2,   113.45,2,    41.86,2,     0.00,2,     2.96,2,    0.220,2,    0.103,2, -999.000,9,-999.0000,9,  -999.00,9,   -999.0,9,  -999.00,9,-999.000,9,   -999.0,9,   -999.0,9,  -999.00,9,   7370,  -999.0,-999.0000,-999.000,-999.000,  3.7865,-999.000
   31DSCGC91_2,  P16N,    52,  1,   7008,      6,4,19910325,1736, 45.0017,-151.9840, 5222,    799.4,   3.5585,  34.2435,2,  34.2420,2,     30.0,2,   124.14,2,    42.51,2,     0.00,2,     3.03,2,    0.098,3,    0.033,3, -999.000,9,-999.0000,9,  -999.00,9,   -999.0,9,  -999.00,9,-999.000,9,   -999.0,9,   -999.0,9,  -999.00,9,   8375,  -999.0,-999.0000,-999.000,-999.000,  3.5023,-999.000
   31DSCGC91_2,  P16N,    52,  1,   7007,   1013,4,19910325,1736, 45.0017,-151.9840, 5222,   1499.6,   2.4291,  34.4885,2,  34.4860,2,     16.2,2,   165.83,2,    44.39,2,     0.00,2,     3.12,2,    0.000,2,    0.000,2, -999.000,9,-999.0000,9,  -999.00,9,   -999.0,9,  -999.00,9,-999.000,9,   -999.0,9,   -999.0,9,  -999.00,9,  15379,  -999.0,-999.0000,-999.000,-999.000,  2.3281,-999.000
   31DSCGC91_2,  P16N,    52,  1,   7006,   1012,2,19910325,1736, 45.0017,-151.9840, 5222,   2750.6,   1.6359,  34.6471,2,  34.6440,2,     95.1,2,   175.41,2,    39.68,2,     0.00,2,     2.78,2,   -0.002,2,    0.000,2, -999.000,9,-999.0000,9,  -999.00,9,   -999.0,9,  -999.00,9,-999.000,9,   2362.1,2,   -999.0,9,  -999.00,9,  27860,  -999.0,-999.0000,-999.000,-999.000,  1.4397,-999.000
   31DSCGC91_2,  P16N,    52,  1,   7005,   1007,4,19910325,1736, 45.0017,-151.9840, 5222,   3253.1,   1.5308,  34.6662,2,  34.6640,2,    119.0,2,   170.35,2,    37.76,2,     0.00,2,     2.65,2,   -0.004,2,    0.017,4, -999.000,9,-999.0000,9,  -999.00,9,   -999.0,9,  -999.00,9,-999.000,9,   -999.0,9,   -999.0,9,  -999.00,9,  32868,  -999.0,-999.0000,-999.000,-999.000,  1.2888,-999.000
   31DSCGC91_2,  P16N,    52,  1,   7004,   1038,2,19910325,1736, 45.0017,-151.9840, 5222,   3756.1,   1.4768,  34.6788,2,  34.6780,2,    136.1,2,   166.35,2,    36.93,2,     0.00,2,     2.57,2,    0.001,3,    0.000,3, -999.000,9,-999.0000,9,  -999.00,9,   -999.0,9,  -999.00,9,-999.000,9,   2335.5,2,   -999.0,9,  -999.00,9,  37881,  -999.0,-999.0000,-999.000,-999.000,  1.1847,-999.000
   31DSCGC91_2,  P16N,    52,  1,   7003,   1029,2,19910325,1736, 45.0017,-151.9840, 5222,   4257.4,   1.4878,  34.6854,2,  34.6720,4,    143.1,2,   167.99,2,    36.29,2,     0.00,2,     2.54,2,   -0.014,3,    0.000,2, -999.000,9,-999.0000,9,  -999.00,9,   -999.0,9,  -999.00,9,-999.000,9,   2331.0,2,   -999.0,9,  -999.00,9,  42881,  -999.0,-999.0000,-999.000,-999.000,  1.1408,-999.000
   31DSCGC91_2,  P16N,    52,  1,   7002,   1028,2,19910325,1736, 45.0017,-151.9840, 5222,   4506.4,   1.5068,  34.6868,2,  34.6850,2,    143.8,2,   169.43,2,    36.37,2,     0.00,2,     2.53,2,   -0.007,3,    0.000,2, -999.000,9,-999.0000,9,  -999.00,9,   -999.0,9,  -999.00,9,-999.000,9,   2333.9,2,   -999.0,9,  -999.00,9,  45366,  -999.0,-999.0000,-999.000,-999.000,  1.1308,-999.000
   31DSCGC91_2,  P16N,    52,  1,   7001,   1017,4,19910325,1736, 45.0017,-151.9840, 5222,   4762.8,   1.5328,  34.6873,2,  34.6800,3,    144.8,2,   171.07,2,    36.44,2,     0.00,2,     2.52,2,   -0.003,2,    0.000,2, -999.000,9,-999.0000,9,  -999.00,9,   -999.0,9,  -999.00,9,-999.000,9,   -999.0,9,   -999.0,9,  -999.00,9,  47926,  -999.0,-999.0000,-999.000,-999.000,  1.1260,-999.000
   31DSCGC91_2,  P16N,    53,  1,   7112,   1028,2,19910326,0113, 45.6837,-151.9957, 5271,    749.8,   3.5715,  34.2233,2,  34.2210,2,     34.7,2,   123.43,2,    42.32,2,     0.00,2,     3.03,2,    0.147,2,    0.075,2, -999.000,9,-999.0000,9,  -999.00,9,   -999.0,9,  -999.00,9,-999.000,9,   2341.0,2,   -999.0,9,     7.31,2,   7878,  -999.0,-999.0000,-999.000,-999.000,  3.5190,-999.000
   31DSCGC91_2,  P16N,    53,  1,   7111,   1027,2,19910326,0113, 45.6837,-151.9957, 5271,    799.2,   3.4645,  34.2488,2,  34.2470,2,     33.2,2,   127.44,2,    42.59,2,     0.00,2,     3.05,2,    0.101,2,    0.057,2, -999.000,9,-999.0000,9,  -999.00,9,   -999.0,9,  -999.00,9,-999.000,9,   2346.6,2,   -999.0,9,     7.31,2,   8373,  -999.0,-999.0000,-999.000,-999.000,  3.4089,-999.000
   31DSCGC91_2,  P16N,    53,  1,   7110,   1041,2,19910326,0113, 45.6837,-151.9957, 5271,    923.1,   3.2174,  34.3145,2,  34.3130,2,     25.2,2,   137.02,2,    43.23,2,     0.00,2,     3.10,2,    0.037,2,    0.013,3, -999.000,9,-999.0000,9,  -999.00,9,   -999.0,9,  -999.00,9,-999.000,9,   2360.0,2,   -999.0,9,     7.30,2,   9614,  -999.0,-999.0000,-999.000,-999.000,  3.1540,-999.000
   31DSCGC91_2,  P16N,    53,  1,   7109,   1025,2,19910326,0113, 45.6837,-151.9957, 5271,   1073.0,   2.9363,  34.3754,2,  34.3730,2,     21.6,2,   147.28,2,    43.63,2,     0.00,2,     3.14,2,    0.018,3,    0.000,3, -999.000,9,-999.0000,9,  -999.00,9,   -999.0,9,  -999.00,9,-999.000,9,   -999.0,9,   -999.0,9,     7.30,2,  11114,  -999.0,-999.0000,-999.000,-999.000,  2.8636,-999.000
   31DSCGC91_2,  P16N,    53,  1,   7108,   1036,2,19910326,0113, 45.6837,-151.9957, 5271,   1173.0,   2.7712,  34.4125,2,  34.4080,2,     17.2,2,   153.21,2,    44.08,2,     0.00,2,     3.15,2,    0.000,2,    0.000,2, -999.000,9,-999.0000,9,  -999.00,9,   -999.0,9,  -999.00,9,-999.000,9,   2382.8,2,   -999.0,9,     7.30,2,  12115,  -999.0,-999.0000,-999.000,-999.000,  2.6923,-999.000
   31DSCGC91_2,  P16N,    53,  1,   7107,   1037,2,19910326,0113, 45.6837,-151.9957, 5271,   1374.4,   2.5372,  34.4629,2,  34.4620,2,     18.1,2,   163.35,2,    44.48,2,     0.00,2,     3.15,2,    0.026,4,    0.000,2, -999.000,9,-999.0000,9,  -999.00,9,   -999.0,9,  -999.00,9,-999.000,9,   2392.0,2,   -999.0,9,     7.30,2,  14128,  -999.0,-999.0000,-999.000,-999.000,  2.4448,-999.000
   31DSCGC91_2,  P16N,    53,  1,   7106,   1011,2,19910326,0113, 45.6837,-151.9957, 5271,   1497.7,   2.3931,  34.4948,2,  34.4910,2,     19.8,2,   167.24,2,    44.01,2,     0.00,2,     3.13,2,    0.003,2,    0.000,2, -999.000,9,-999.0000,9,  -999.00,9,   -999.0,9,  -999.00,9,-999.000,9,   2398.5,2,   -999.0,9,     7.31,2,  15360,  -999.0,-999.0000,-999.000,-999.000,  2.2927,-999.000
   31DSCGC91_2,  P16N,    53,  1,   7104,   1002,2,19910326,0113, 45.6837,-151.9957, 5271,   3003.9,   1.5879,  34.6548,2,  34.6530,2,    109.2,2,   173.43,2,    39.05,2,     0.00,2,     2.72,2,    0.004,2,    0.000,2, -999.000,9,-999.0000,9,  -999.00,9,   -999.0,9,  -999.00,9,-999.000,9,   2353.8,2,   -999.0,9,     7.49,2,  30383,  -999.0,-999.0000,-999.000,-999.000,  1.3688,-999.000
   31DSCGC91_2,  P16N,    53,  1,   7103,      6,2,19910326,0113, 45.6837,-151.9957, 5271,   4006.1,   1.4808,  34.6817,2,  34.6800,2,    144.0,2,   167.20,2,    36.80,2,     0.00,2,     2.56,2,    0.010,3,    0.000,2, -999.000,9,-999.0000,9,  -999.00,9,   -999.0,9,  -999.00,9,-999.000,9,   2334.1,2,   -999.0,9,     7.56,2,  40374,  -999.0,-999.0000,-999.000,-999.000,  1.1618,-999.000
   31DSCGC91_2,  P16N,    53,  1,   7102,   1012,2,19910326,0113, 45.6837,-151.9957, 5271,   5006.9,   1.5619,  34.6879,2,  34.6860,2,    148.1,2,   172.99,2,    36.33,2,     0.00,2,     2.53,2,    0.006,3,    0.000,2, -999.000,9,-999.0000,9,  -999.00,9,   -999.0,9,  -999.00,9,-999.000,9,   2334.9,2,   -999.0,9,     7.58,2,  50365,  -999.0,-999.0000,-999.000,-999.000,  1.1246,-999.000
   31DSCGC91_2,  P16N,    53,  1,   7101,   1031,2,19910326,0113, 45.6837,-151.9957, 5271,   5336.2,   1.6019,  34.6867,2,  34.6860,2,    147.0,2,   171.82,2,    36.35,2,     0.00,2,     2.53,2,   -0.008,3,    0.000,2, -999.000,9,-999.0000,9,  -999.00,9,   -999.0,9,  -999.00,9,-999.000,9,   -999.0,9,   -999.0,9,     7.58,2,  53659,  -999.0,-999.0000,-999.000,-999.000,  1.1224,-999.000