BOTTLE,20021108WHPSIOdm
EXPOCODE,SECT_ID,STNNBR,CASTNO,SAMPNO,BTLNBR,BTLNBR_FLAG_W,DATE,TIME,LATITUDE,LONGITUDE,DEPTH,CTDPRS,CTDTMP,CTDSAL,CTDSAL_FLAG_W,SALNTY,SALNTY_FLAG_W,OXYGEN,OXYGEN_FLAG_W,SILCAT,SILCAT_FLAG_W,NITRAT,NITRAT_FLAG_W,NITRIT,NITRIT_FLAG_W,PHSPHT,PHSPHT_FLAG_W,CFC-11,CFC-11_FLAG_W,CFC-12,CFC-12_FLAG_W,TRITUM,TRITUM_FLAG_W,HELIUM,HELIUM_FLAG_W,DELHE3,DELHE3_FLAG_W,DELC14,DELC14_FLAG_W,DELC13,DELC13_FLAG_W,NEON,NEON_FLAG_W,TCARBN,TCARBN_FLAG_W,ALKALI,ALKALI_FLAG_W,PH,PH_FLAG_W,CTDRAW,C14ERR,HELIER,DELHER,NEONER,THETA,TRITER
,,,,,,,,,,,,DBAR,ITS-90,PSS-78,,PSS-78,,UMOL/KG,,UMOL/KG,,UMOL/KG,,UMOL/KG,,UMOL/KG,,PMOL/KG,,PMOL/KG,,TU,,NMOL/KG,,PERCNT,,/MILLE,,/MILLE,,NMOL/KG,,UMOL/KG,,UMOL/KG,,,,DBAR,/MILLE,NMOL/KG,PERCNT,NMOL/KG,DEG C,TU
   31DSCGC91_2,  P16N,    22,  2,   3423,   1016,3,19910312,1000, 24.0025,-151.9660, 5321,      5.1,  21.0650,  35.3740,2,  35.3750,2,    219.9,2,     2.25,2,     0.00,2,     0.00,2,     0.04,2, -999.000,5, -999.000,5, -999.000,9,-999.0000,9,  -999.00,9,     12.5,2,     1.08,2,-999.000,9,   -999.0,9,   -999.0,9,  -999.00,9,    404,     5.0,-999.0000,-999.000,-999.000, 21.0640,-999.000
   31DSCGC91_2,  P16N,    22,  2,   3421,   1004,2,19910312,1000, 24.0025,-151.9660, 5321,     21.7,  21.0590,  35.3756,2,  35.0810,4,    221.6,2,     2.05,2,     0.00,2,     0.00,2,     0.04,2,    2.200,2,    1.182,2, -999.000,9,-999.0000,9,  -999.00,9,   -999.0,9,  -999.00,9,-999.000,9,   1998.3,2,   -999.0,9,     8.07,2,    571,  -999.0,-999.0000,-999.000,-999.000, 21.0548,-999.000
   31DSCGC91_2,  P16N,    22,  2,   3419,   1031,2,19910312,1000, 24.0025,-151.9660, 5321,     40.5,  21.0410,  35.3783,2,  35.3770,2,    221.6,2,     1.85,2,     0.00,2,     0.00,2,     0.04,2,    2.205,2,    1.167,2, -999.000,9,-999.0000,9,  -999.00,9,    114.8,2,     1.34,2,-999.000,9,   1999.5,2,   -999.0,9,     8.07,2,    760,     5.3,-999.0000,-999.000,-999.000, 21.0332,-999.000
   31DSCGC91_2,  P16N,    22,  2,   3417,     26,3,19910312,1000, 24.0025,-151.9660, 5321,     65.0,  20.9389,  35.3836,2,  35.3830,2,    221.9,2,     1.85,2,     0.00,2,     0.00,2,     0.04,2,    2.194,2,    1.220,2, -999.000,9,-999.0000,9,  -999.00,9,   -999.0,9,  -999.00,9,-999.000,9,   -999.0,9,   -999.0,9,  -999.00,9,   1006,  -999.0,-999.0000,-999.000,-999.000, 20.9265,-999.000
   31DSCGC91_2,  P16N,    22,  2,   3415,   1032,2,19910312,1000, 24.0025,-151.9660, 5321,     81.4,  20.9179,  35.3799,2,  35.3790,2,    221.6,2,     1.84,2,     0.00,2,     0.00,2,     0.04,2,    2.242,2,    1.175,2, -999.000,9,-999.0000,9,  -999.00,9,   -999.0,9,  -999.00,9,-999.000,9,   1979.1,3,   -999.0,9,     8.07,2,   1171,  -999.0,-999.0000,-999.000,-999.000, 20.9024,-999.000
   31DSCGC91_2,  P16N,    22,  2,   3413,   1033,2,19910312,1000, 24.0025,-151.9660, 5321,    100.0,  18.9593,  35.1217,2,  35.1330,2,    210.3,2,     2.82,2,     0.58,2,     0.06,2,     0.13,2,    2.343,2,    1.219,2, -999.000,9,-999.0000,9,  -999.00,9,    135.7,2,     1.08,2,-999.000,9,   2021.3,2,   -999.0,9,     8.01,2,   1358,     5.3,-999.0000,-999.000,-999.000, 18.9415,-999.000
   31DSCGC91_2,  P16N,    22,  2,   3412,   1019,2,19910312,1000, 24.0025,-151.9660, 5321,    126.6,  17.8910,  34.9934,2,  35.0030,2,    208.6,2,     3.41,2,     1.59,2,     0.05,2,     0.20,2,    2.387,6,    1.249,6, -999.000,9,-999.0000,9,  -999.00,9,    129.0,2,     1.03,2,-999.000,9,   2027.1,2,   -999.0,9,     7.99,2,   1625,     6.7,-999.0000,-999.000,-999.000, 17.8694,-999.000
   31DSCGC91_2,  P16N,    22,  2,   3411,   1041,2,19910312,1000, 24.0025,-151.9660, 5321,    151.7,  17.0077,  34.8726,2,  34.8650,2,    207.1,2,     3.99,2,     2.46,2,     0.02,2,     0.27,2,    2.460,2,    1.270,2, -999.000,9,-999.0000,9,  -999.00,9,   -999.0,9,     0.95,2,-999.000,9,   2030.9,2,   -999.0,9,     7.97,2,   1877,  -999.0,-999.0000,-999.000,-999.000, 16.9827,-999.000
   31DSCGC91_2,  P16N,    22,  2,   3410,   1002,2,19910312,1000, 24.0025,-151.9660, 5321,    177.8,  15.3222,  34.5807,2,  34.6440,3,    207.3,2,     5.16,2,     4.24,2,     0.01,2,     0.39,2,    2.496,2,    1.362,2, -999.000,9,-999.0000,9,  -999.00,9,    115.1,2,     2.19,3,-999.000,9,   2035.5,2,   -999.0,9,     7.94,2,   2140,     6.5,-999.0000,-999.000,-999.000, 15.2949,-999.000
   31DSCGC91_2,  P16N,    22,  2,   3409,   1003,2,19910312,1000, 24.0025,-151.9660, 5321,    199.9,  13.8527,  34.4284,2,  34.4270,2,    204.8,2,     7.32,2,     7.02,2,     0.01,2,     0.57,2,    2.558,2,    1.292,2, -999.000,9,-999.0000,9,  -999.00,9,    114.7,2,     0.79,2,-999.000,9,   -999.0,9,   -999.0,9,     7.89,2,   2362,     5.2,-999.0000,-999.000,-999.000, 13.8242,-999.000
   31DSCGC91_2,  P16N,    22,  2,   3408,      6,2,19910312,1000, 24.0025,-151.9660, 5321,    251.9,  11.6220,  34.2236,2,  34.2200,2,    211.9,2,    11.44,2,    10.98,2,     0.00,2,     0.83,2,    2.528,2,    1.321,2, -999.000,9,-999.0000,9,  -999.00,9,     83.7,2,     0.28,2,-999.000,9,   2051.5,3,   -999.0,9,     7.84,2,   2884,     5.1,-999.0000,-999.000,-999.000, 11.5900,-999.000
   31DSCGC91_2,  P16N,    22,  2,   3407,   1013,2,19910312,1000, 24.0025,-151.9660, 5321,    300.3,  10.6667,  34.1797,2,  34.1810,2,    213.8,2,    14.77,2,    12.98,2,     0.00,2,     0.96,2,    2.538,2,    1.261,2, -999.000,9,-999.0000,9,  -999.00,9,     77.3,2,     0.28,2,-999.000,9,   2069.7,2,   -999.0,9,     7.82,2,   3370,     7.6,-999.0000,-999.000,-999.000, 10.6306,-999.000
   31DSCGC91_2,  P16N,    22,  2,   3406,   1012,2,19910312,1000, 24.0025,-151.9660, 5321,    348.8,   9.5364,  34.1213,2,  34.1210,2,    203.5,2,    21.24,2,    16.49,2,     0.00,2,     1.20,2,    2.241,2,    1.104,2, -999.000,9,-999.0000,9,  -999.00,9,     56.0,2,     0.63,2,-999.000,9,   2096.3,2,   -999.0,9,     7.77,2,   3857,    16.3,-999.0000,-999.000,-999.000,  9.4972,-999.000
   31DSCGC91_2,  P16N,    22,  2,   3405,   1007,2,19910312,1000, 24.0025,-151.9660, 5321,    399.0,   8.4390,  34.0609,2,  34.0640,2,    182.7,2,    29.89,2,    20.69,2,     0.00,2,     1.50,2,    1.765,2,    0.875,2, -999.000,9,-999.0000,9,  -999.00,9,     23.5,2,     0.43,2,-999.000,9,   2124.8,2,   -999.0,9,     7.70,2,   4361,     4.9,-999.0000,-999.000,-999.000,  8.3974,-999.000
   31DSCGC91_2,  P16N,    22,  2,   3404,   1038,2,19910312,1000, 24.0025,-151.9660, 5321,    500.1,   6.5784,  34.0192,2,  34.0160,2,    116.1,2,    53.53,2,    30.36,2,     0.00,2,     2.20,2,    0.700,2,    0.358,2, -999.000,9,-999.0000,9,  -999.00,9,    -59.3,2,    -0.27,2,-999.000,9,   2192.6,3,   -999.0,9,     7.52,2,   5375,     5.3,-999.0000,-999.000,-999.000,  6.5329,-999.000
   31DSCGC91_2,  P16N,    22,  2,   3403,   1029,2,19910312,1000, 24.0025,-151.9660, 5321,    598.5,   5.3801,  34.0896,2,  34.0810,2,     54.9,2,    77.32,2,    37.65,2,     0.00,2,     2.76,2,    0.140,2,    0.090,2, -999.000,9,-999.0000,9,  -999.00,9,   -126.9,2,    -0.55,2,-999.000,9,   2273.1,2,   -999.0,9,     7.37,2,   6362,     4.4,-999.0000,-999.000,-999.000,  5.3306,-999.000
   31DSCGC91_2,  P16N,    22,  2,   3402,   1028,2,19910312,1000, 24.0025,-151.9660, 5321,    750.8,   4.4858,  34.2619,2,  34.2590,2,     19.2,2,   103.34,2,    41.88,2,     0.00,2,     3.08,2,    0.003,2,    0.012,2, -999.000,9,-999.0000,9,  -999.00,9,   -176.5,2,    -0.95,2,-999.000,9,   2324.0,2,   -999.0,9,     7.31,2,   7888,     4.2,-999.0000,-999.000,-999.000,  4.4278,-999.000
   31DSCGC91_2,  P16N,    22,  2,   3401,   1017,2,19910312,1000, 24.0025,-151.9660, 5321,    908.5,   3.9076,  34.3906,2,  34.3870,2,     21.1,2,   118.48,2,    42.47,2,     0.00,2,     3.10,2,   -0.004,2,    0.004,6, -999.000,9,-999.0000,9,  -999.00,9,   -201.0,2,    -0.68,2,-999.000,9,   2345.2,2,   -999.0,9,     7.33,2,   9468,     4.1,-999.0000,-999.000,-999.000,  3.8403,-999.000
   31DSCGC91_2,  P16N,    23,  1,   3524,   1027,2,19910312,1824, 24.6655,-152.0028, 5296,     10.1,  21.9162,  35.2010,2,  35.2040,2,    218.9,2,     2.11,2,     0.00,2,     0.00,2,     0.07,2,    2.108,2,    1.124,2, -999.000,9,-999.0000,9,  -999.00,9,   -999.0,9,  -999.00,9,-999.000,9,   1983.8,2,   -999.0,9,     8.09,2,    454,  -999.0,-999.0000,-999.000,-999.000, 21.9142,-999.000
   31DSCGC91_2,  P16N,    23,  1,   3523,   1016,2,19910312,1824, 24.6655,-152.0028, 5296,     26.9,  21.5091,  35.3154,2,  35.3300,2,    219.2,2,     2.10,2,     0.00,2,     0.00,2,     0.05,2,    2.187,6,    1.156,6, -999.000,9,-999.0000,9,  -999.00,9,   -999.0,9,  -999.00,9,-999.000,9,   1997.2,2,   -999.0,9,     8.08,2,    623,  -999.0,-999.0000,-999.000,-999.000, 21.5039,-999.000
   31DSCGC91_2,  P16N,    23,  1,   3522,   1026,2,19910312,1824, 24.6655,-152.0028, 5296,     54.4,  21.3861,  35.3330,2,  35.3350,2,    218.5,2,     2.10,2,     0.00,2,     0.00,2,     0.04,2,    2.176,2,    1.164,2, -999.000,9,-999.0000,9,  -999.00,9,   -999.0,9,  -999.00,9,-999.000,9,   1997.6,2,   -999.0,9,  -999.00,9,    899,  -999.0,-999.0000,-999.000,-999.000, 21.3755,-999.000
   31DSCGC91_2,  P16N,    23,  1,   3521,   1004,2,19910312,1824, 24.6655,-152.0028, 5296,     77.1,  21.0029,  35.3326,2,  35.3340,2,    216.3,2,     2.09,2,     0.04,2,     0.02,2,     0.06,2,    2.213,2,    1.161,2, -999.000,9,-999.0000,9,  -999.00,9,   -999.0,9,  -999.00,9,-999.000,9,   2004.6,2,   -999.0,9,     8.06,2,   1128,  -999.0,-999.0000,-999.000,-999.000, 20.9882,-999.000
   31DSCGC91_2,  P16N,    23,  1,   3520,   1025,2,19910312,1824, 24.6655,-152.0028, 5296,    101.2,  20.8009,  35.3445,2,  35.3440,2,    215.9,2,     2.09,2,     0.09,2,     0.01,2,     0.06,2,    2.238,2,    1.185,2, -999.000,9,-999.0000,9,  -999.00,9,   -999.0,9,  -999.00,9,-999.000,9,   2007.6,2,   -999.0,9,     8.05,2,   1370,  -999.0,-999.0000,-999.000,-999.000, 20.7816,-999.000
   31DSCGC91_2,  P16N,    23,  1,   3518,   1036,4,19910312,1824, 24.6655,-152.0028, 5296,    154.6,  17.9280,  34.9793,2,  34.9820,2,    200.9,2,     3.45,2,     2.50,2,     0.02,2,     0.26,2,    2.359,2,    1.234,2, -999.000,9,-999.0000,9,  -999.00,9,   -999.0,9,  -999.00,9,-999.000,9,   -999.0,9,   -999.0,9,     7.98,2,   1907,  -999.0,-999.0000,-999.000,-999.000, 17.9015,-999.000
   31DSCGC91_2,  P16N,    23,  1,   3519,   1031,2,19910312,1824, 24.6655,-152.0028, 5296,    154.6,  17.9280,  34.9793,2,  34.9820,2,    201.0,2,     3.45,2,     2.50,2,     0.02,2,     0.25,2,    2.361,2,    1.224,2, -999.000,9,-999.0000,9,  -999.00,9,   -999.0,9,  -999.00,9,-999.000,9,   2033.7,2,   -999.0,9,     7.98,2,   1907,  -999.0,-999.0000,-999.000,-999.000, 17.9015,-999.000
   31DSCGC91_2,  P16N,    23,  1,   3517,     26,2,19910312,1824, 24.6655,-152.0028, 5296,    301.1,  10.9858,  34.1416,2,  34.1500,2,    187.2,2,    15.77,2,    14.65,2,     0.01,2,     1.09,2,    2.217,2,    1.091,2, -999.000,9,-999.0000,9,  -999.00,9,   -999.0,9,  -999.00,9,-999.000,9,   2091.6,2,   -999.0,9,     7.78,2,   3377,  -999.0,-999.0000,-999.000,-999.000, 10.9489,-999.000
   31DSCGC91_2,  P16N,    23,  1,   3516,   1037,2,19910312,1824, 24.6655,-152.0028, 5296,    397.5,   8.8571,  34.0602,2,  34.0730,2,    186.8,2,    26.54,2,    19.88,2,     0.00,2,     1.41,2,    1.937,2,    0.926,2, -999.000,9,-999.0000,9,  -999.00,9,   -999.0,9,  -999.00,9,-999.000,9,   2123.2,2,   -999.0,9,     7.72,2,   4346,  -999.0,-999.0000,-999.000,-999.000,  8.8144,-999.000
   31DSCGC91_2,  P16N,    23,  1,   3515,   1032,2,19910312,1824, 24.6655,-152.0028, 5296,    499.7,   6.5984,  34.0062,2,  34.0090,2,    106.8,2,    52.47,2,    30.51,2,     0.00,2,     2.13,2,    0.818,2,    0.401,2, -999.000,9,-999.0000,9,  -999.00,9,   -999.0,9,  -999.00,9,-999.000,9,   2204.6,2,   -999.0,9,     7.54,2,   5370,  -999.0,-999.0000,-999.000,-999.000,  6.5529,-999.000
   31DSCGC91_2,  P16N,    23,  1,   3514,      4,2,19910312,1824, 24.6655,-152.0028, 5296,    600.3,   5.4561,  34.0778,2,  34.0710,2,     54.9,2,    75.40,2,    37.72,2,     0.00,2,     2.69,2,    0.171,2,    0.096,2, -999.000,9,-999.0000,9,  -999.00,9,   -999.0,9,  -999.00,9,-999.000,9,   2272.7,2,   -999.0,9,     7.39,2,   6380,  -999.0,-999.0000,-999.000,-999.000,  5.4061,-999.000
   31DSCGC91_2,  P16N,    23,  1,   3513,   1033,2,19910312,1824, 24.6655,-152.0028, 5296,    698.0,   4.7088,  34.1871,2,  34.1870,2,     28.8,2,    95.72,2,    41.61,2,     0.00,2,     2.98,2,    0.034,2,    0.018,2, -999.000,9,-999.0000,9,  -999.00,9,   -999.0,9,  -999.00,9,-999.000,9,   2317.6,2,   -999.0,9,     7.32,2,   7359,  -999.0,-999.0000,-999.000,-999.000,  4.6541,-999.000
   31DSCGC91_2,  P16N,    23,  1,   3512,   1019,2,19910312,1824, 24.6655,-152.0028, 5296,    898.2,   4.0826,  34.3951,2,  34.4830,3,     48.4,3,   124.94,3,    41.60,3,     0.00,3,     2.94,3,    0.006,2,    0.000,2, -999.000,9,-999.0000,9,  -999.00,9,   -999.0,9,  -999.00,9,-999.000,9,   2343.1,2,   -999.0,9,  -999.00,9,   9365,  -999.0,-999.0000,-999.000,-999.000,  4.0150,-999.000
   31DSCGC91_2,  P16N,    23,  1,   3511,   1041,2,19910312,1824, 24.6655,-152.0028, 5296,   1147.7,   3.4374,  34.5155,2,  34.5120,2,     46.3,2,   126.55,2,    41.82,2,     0.00,2,     2.96,2,    0.015,3,    0.000,2, -999.000,9,-999.0000,9,  -999.00,9,   -999.0,9,  -999.00,9,-999.000,9,   2345.6,2,   -999.0,9,     7.40,2,  11861,  -999.0,-999.0000,-999.000,-999.000,  3.3543,-999.000
   31DSCGC91_2,  P16N,    23,  1,   3510,   1002,2,19910312,1824, 24.6655,-152.0028, 5296,   1399.0,   2.9473,  34.5624,2,  34.5610,2,     61.6,2,   137.56,2,    41.52,2,     0.00,2,     2.93,2,    0.000,2,    0.000,2, -999.000,9,-999.0000,9,  -999.00,9,   -999.0,9,  -999.00,9,-999.000,9,   2353.1,2,   -999.0,9,     7.42,2,  14374,  -999.0,-999.0000,-999.000,-999.000,  2.8484,-999.000
   31DSCGC91_2,  P16N,    23,  1,   3509,   1003,2,19910312,1824, 24.6655,-152.0028, 5296,   1701.3,   2.4952,  34.5925,2,  34.5910,2,     74.1,2,   148.23,2,    40.78,2,     0.00,2,     2.88,2,    0.004,2,    0.000,2, -999.000,9,-999.0000,9,  -999.00,9,   -999.0,9,  -999.00,9,-999.000,9,   2356.5,2,   -999.0,9,     7.44,2,  17394,  -999.0,-999.0000,-999.000,-999.000,  2.3767,-999.000
   31DSCGC91_2,  P16N,    23,  1,   3508,      6,2,19910312,1824, 24.6655,-152.0028, 5296,   2000.2,   2.1040,  34.6206,2,  34.6190,2,     87.9,2,   157.95,2,    40.04,2,     0.00,2,     2.80,2,    0.004,2,    0.000,2, -999.000,9,-999.0000,9,  -999.00,9,   -999.0,9,  -999.00,9,-999.000,9,   2355.7,2,   -999.0,9,     7.47,2,  20377,  -999.0,-999.0000,-999.000,-999.000,  1.9660,-999.000
   31DSCGC91_2,  P16N,    23,  1,   3507,   1013,2,19910312,1824, 24.6655,-152.0028, 5296,   2502.3,   1.7399,  34.6483,2,  34.6460,2,    105.3,2,   166.26,2,    39.07,2,     0.00,2,     2.70,2,    0.006,3,    0.000,2, -999.000,9,-999.0000,9,  -999.00,9,   -999.0,9,  -999.00,9,-999.000,9,   2353.3,2,   -999.0,9,     7.50,2,  25385,  -999.0,-999.0000,-999.000,-999.000,  1.5643,-999.000
   31DSCGC91_2,  P16N,    23,  1,   3506,   1012,2,19910312,1824, 24.6655,-152.0028, 5296,   3003.8,   1.5639,  34.6669,2,  34.6660,2,    123.7,2,   166.02,2,    38.05,2,     0.00,2,     2.62,2,    0.003,2,    0.000,2, -999.000,9,-999.0000,9,  -999.00,9,   -999.0,9,  -999.00,9,-999.000,9,   2343.7,2,   -999.0,9,     7.53,2,  30383,  -999.0,-999.0000,-999.000,-999.000,  1.3453,-999.000
   31DSCGC91_2,  P16N,    23,  1,   3505,   1007,2,19910312,1824, 24.6655,-152.0028, 5296,   3505.2,   1.4998,  34.6791,2,  34.6770,2,    134.9,2,   164.11,2,    37.31,2,     0.00,2,     2.55,2,    0.006,3,    0.000,2, -999.000,9,-999.0000,9,  -999.00,9,   -999.0,9,  -999.00,9,-999.000,9,   2335.4,2,   -999.0,9,  -999.00,9,  35380,  -999.0,-999.0000,-999.000,-999.000,  1.2331,-999.000
   31DSCGC91_2,  P16N,    23,  1,   3504,   1038,2,19910312,1824, 24.6655,-152.0028, 5296,   4005.7,   1.4728,  34.6854,2,  34.6830,2,    130.7,3,   159.08,2,    36.62,2,     0.00,2,     2.50,2,    0.013,4,    0.000,2, -999.000,9,-999.0000,9,  -999.00,9,   -999.0,9,  -999.00,9,-999.000,9,   2320.6,2,   -999.0,9,     7.57,2,  40370,  -999.0,-999.0000,-999.000,-999.000,  1.1540,-999.000
   31DSCGC91_2,  P16N,    23,  1,   3502,   1028,4,19910312,1824, 24.6655,-152.0028, 5296,   4510.0,   1.4688,  34.6889,2,  34.6900,2,    132.1,3,   153.00,2,    35.65,2,     0.00,2,     2.45,2,    0.005,2,    0.008,2, -999.000,9,-999.0000,9,  -999.00,9,   -999.0,9,  -999.00,9,-999.000,9,   -999.0,9,   -999.0,9,     7.58,2,  45402,  -999.0,-999.0000,-999.000,-999.000,  1.0936,-999.000
   31DSCGC91_2,  P16N,    23,  1,   3503,   1029,2,19910312,1824, 24.6655,-152.0028, 5296,   4510.0,   1.4688,  34.6889,2,  34.6880,2,    143.3,3,   153.03,2,    35.94,2,     0.00,2,     2.45,2,    0.023,4,    0.054,4, -999.000,9,-999.0000,9,  -999.00,9,   -999.0,9,  -999.00,9,-999.000,9,   2315.7,2,   -999.0,9,     7.58,2,  45402,  -999.0,-999.0000,-999.000,-999.000,  1.0936,-999.000
   31DSCGC91_2,  P16N,    23,  1,   3501,   1017,2,19910312,1824, 24.6655,-152.0028, 5296,   5343.7,   1.4978,  34.6936,2,  34.6940,2,    158.6,3,   145.75,2,    34.80,2,     0.00,2,     2.40,2,   -0.004,2,    0.000,2, -999.000,9,-999.0000,9,  -999.00,9,   -999.0,9,  -999.00,9,-999.000,9,   2302.9,2,   -999.0,9,     7.59,3,  53734,  -999.0,-999.0000,-999.000,-999.000,  1.0210,-999.000