BOTTLE,20240102CCHSIOVAJ
EXPOCODE,SECT_ID,STNNBR,CASTNO,SAMPNO,BTLNBR,BTLNBR_FLAG_W,DATE,TIME,LATITUDE,LONGITUDE,DEPTH,CTDPRS,CTDTMP,CTDSAL,SALNTY,SALNTY_FLAG_W
,,,,,,,,,,,METERS,DBAR,ITS-90,PSS-78,PSS-78,
74JC20111127,SR1B,16,1, 1, 1,2,20111203,0218, -57.73300, -56.64300,  3480, 3531.1, 0.1352,34.6657,   -999,9
74JC20111127,SR1B,16,1, 2, 2,2,20111203,0218, -57.73300, -56.64300,  3480, 3531.0, 0.1347,34.6659,34.6655,2
74JC20111127,SR1B,16,1, 3, 3,2,20111203,0218, -57.73300, -56.64300,  3480, 2548.0, 0.7809,34.7063,   -999,9
74JC20111127,SR1B,16,1, 4, 4,2,20111203,0218, -57.73300, -56.64300,  3480, 2546.4, 0.7808,34.7063,34.7058,2
74JC20111127,SR1B,16,1, 5, 5,2,20111203,0218, -57.73300, -56.64300,  3480, 1526.1, 1.4531,34.7247,   -999,9
74JC20111127,SR1B,16,1, 6, 6,2,20111203,0218, -57.73300, -56.64300,  3480, 1525.8, 1.4539,34.7248,34.7241,2
74JC20111127,SR1B,16,1, 7, 7,2,20111203,0218, -57.73300, -56.64300,  3480,  765.5, 2.0747,34.6733,   -999,9
74JC20111127,SR1B,16,1, 8, 8,2,20111203,0218, -57.73300, -56.64300,  3480,  764.2, 2.0753,34.6731,34.6718,2
74JC20111127,SR1B,16,1, 9, 9,2,20111203,0218, -57.73300, -56.64300,  3480,  106.7,-0.7301,33.8628,   -999,9
74JC20111127,SR1B,16,1,10,10,2,20111203,0218, -57.73300, -56.64300,  3480,  106.8,-0.7227,33.8609,33.8619,2
74JC20111127,SR1B,16,1,11,11,2,20111203,0218, -57.73300, -56.64300,  3480,   16.2, 0.7071,33.7675,   -999,9
74JC20111127,SR1B,16,1,12,12,2,20111203,0218, -57.73300, -56.64300,  3480,   16.4, 0.7099,33.7677,33.7678,2
74JC20111127,SR1B,17,1, 1, 1,2,20111203,0702, -58.05100, -56.44600,  3957, 4019.6, 0.1278,34.6628,34.6627,2
74JC20111127,SR1B,17,1, 2, 2,2,20111203,0702, -58.05100, -56.44600,  3957, 4020.0, 0.1280,34.6626,   -999,9
74JC20111127,SR1B,17,1, 3, 3,2,20111203,0702, -58.05100, -56.44600,  3957, 3062.1, 0.6718,34.6989,34.6973,2
74JC20111127,SR1B,17,1, 4, 4,2,20111203,0702, -58.05100, -56.44600,  3957, 3059.4, 0.6729,34.6990,   -999,9
74JC20111127,SR1B,17,1, 5, 5,2,20111203,0702, -58.05100, -56.44600,  3957, 2037.1, 1.1139,34.7188,34.7188,2
74JC20111127,SR1B,17,1, 6, 6,2,20111203,0702, -58.05100, -56.44600,  3957, 2036.8, 1.1145,34.7187,   -999,9
74JC20111127,SR1B,17,1, 7, 7,2,20111203,0702, -58.05100, -56.44600,  3957, 1018.3, 2.0151,34.7001,34.6997,2
74JC20111127,SR1B,17,1, 8, 8,2,20111203,0702, -58.05100, -56.44600,  3957, 1018.4, 2.0154,34.7001,   -999,9
74JC20111127,SR1B,17,1, 9, 9,2,20111203,0702, -58.05100, -56.44600,  3957,  410.7, 2.4444,34.5085,34.5084,2
74JC20111127,SR1B,17,1,10,10,2,20111203,0702, -58.05100, -56.44600,  3957,  410.7, 2.4500,34.5080,   -999,9
74JC20111127,SR1B,17,1,11,11,2,20111203,0702, -58.05100, -56.44600,  3957,   17.4, 0.6450,33.7499,33.7502,2
74JC20111127,SR1B,17,1,12,12,2,20111203,0702, -58.05100, -56.44600,  3957,   17.7, 0.6464,33.7499,   -999,9
74JC20111127,SR1B,18,1, 1, 1,2,20111203,1144, -58.36700, -56.25000,  3900, 3958.2, 0.1124,34.6624,   -999,9
74JC20111127,SR1B,18,1, 2, 2,2,20111203,1144, -58.36700, -56.25000,  3900, 3958.2, 0.1124,34.6623,34.6624,2
74JC20111127,SR1B,18,1, 3, 3,2,20111203,1144, -58.36700, -56.25000,  3900, 3058.1, 0.5338,34.6898,   -999,9
74JC20111127,SR1B,18,1, 4, 4,2,20111203,1144, -58.36700, -56.25000,  3900, 3058.1, 0.5337,34.6896,34.6893,2
74JC20111127,SR1B,18,1, 5, 5,2,20111203,1144, -58.36700, -56.25000,  3900, 2035.1, 1.1774,34.7206,   -999,9
74JC20111127,SR1B,18,1, 6, 6,2,20111203,1144, -58.36700, -56.25000,  3900, 2036.7, 1.1775,34.7205,34.7199,2
74JC20111127,SR1B,18,1, 7, 7,2,20111203,1144, -58.36700, -56.25000,  3900, 1220.9, 1.8270,34.7177,   -999,9
74JC20111127,SR1B,18,1, 8, 8,2,20111203,1144, -58.36700, -56.25000,  3900, 1220.6, 1.8272,34.7180,34.7184,2
74JC20111127,SR1B,18,1, 9, 9,2,20111203,1144, -58.36700, -56.25000,  3900,  309.1, 2.1929,34.3412,   -999,9
74JC20111127,SR1B,18,1,10,10,2,20111203,1144, -58.36700, -56.25000,  3900,  308.2, 2.1787,34.3394,34.3397,2
74JC20111127,SR1B,18,1,11,11,2,20111203,1144, -58.36700, -56.25000,  3900,   16.2, 0.6550,33.7471,   -999,9
74JC20111127,SR1B,18,1,12,12,2,20111203,1144, -58.36700, -56.25000,  3900,   16.3, 0.6531,33.7468,33.7478,2
74JC20111127,SR1B,19,1, 1, 1,2,20111203,1621, -58.68400, -56.05400,  3752, 3809.4, 0.0240,34.6594,   -999,9
74JC20111127,SR1B,19,1, 2, 2,2,20111203,1621, -58.68400, -56.05400,  3752, 3810.3, 0.0241,34.6593,34.6588,2
74JC20111127,SR1B,19,1, 3, 3,2,20111203,1621, -58.68400, -56.05400,  3752, 3059.8, 0.3220,34.6793,   -999,9
74JC20111127,SR1B,19,1, 4, 4,2,20111203,1621, -58.68400, -56.05400,  3752, 3059.4, 0.3222,34.6790,34.6789,2
74JC20111127,SR1B,19,1, 5, 5,2,20111203,1621, -58.68400, -56.05400,  3752, 2036.2, 1.0625,34.7180,   -999,9
74JC20111127,SR1B,19,1, 6, 6,2,20111203,1621, -58.68400, -56.05400,  3752, 2037.0, 1.0627,34.7180,34.7174,2
74JC20111127,SR1B,19,1, 7, 7,2,20111203,1621, -58.68400, -56.05400,  3752, 1017.8, 1.8807,34.7117,34.7117,2
74JC20111127,SR1B,19,1, 8, 8,2,20111203,1621, -58.68400, -56.05400,  3752, 1017.9, 1.8805,34.7118,   -999,9
74JC20111127,SR1B,19,1, 9, 9,2,20111203,1621, -58.68400, -56.05400,  3752,  510.4, 2.2793,34.6008,   -999,9
74JC20111127,SR1B,19,1,10,10,2,20111203,1621, -58.68400, -56.05400,  3752,  509.9, 2.2794,34.6007,34.6005,2
74JC20111127,SR1B,19,1,11,11,2,20111203,1621, -58.68400, -56.05400,  3752,   15.8, 0.2108,33.7765,   -999,9
74JC20111127,SR1B,19,1,12,12,2,20111203,1621, -58.68400, -56.05400,  3752,   15.7, 0.2124,33.7766,33.7774,2
74JC20111127,SR1B,20,1, 1, 1,2,20111203,2101, -59.00000, -55.85800,  3773, 3831.6,-0.0020,34.6582,   -999,9
74JC20111127,SR1B,20,1, 2, 2,2,20111203,2101, -59.00000, -55.85800,  3773, 3830.8,-0.0021,34.6584,34.6582,2
74JC20111127,SR1B,20,1, 3, 3,2,20111203,2101, -59.00000, -55.85800,  3773, 3059.4, 0.2542,34.6741,   -999,9
74JC20111127,SR1B,20,1, 4, 4,2,20111203,2101, -59.00000, -55.85800,  3773, 3059.4, 0.2540,34.6743,34.6836,2
74JC20111127,SR1B,20,1, 5, 5,2,20111203,2101, -59.00000, -55.85800,  3773, 2035.9, 0.9813,34.7134,   -999,9
74JC20111127,SR1B,20,1, 6, 6,2,20111203,2101, -59.00000, -55.85800,  3773, 2036.2, 0.9817,34.7132,34.7133,2
74JC20111127,SR1B,20,1, 7, 7,2,20111203,2101, -59.00000, -55.85800,  3773, 1018.4, 1.8285,34.7168,34.7164,2
74JC20111127,SR1B,20,1, 8, 8,2,20111203,2101, -59.00000, -55.85800,  3773, 1017.9, 1.8286,34.7168,   -999,9
74JC20111127,SR1B,20,1, 9, 9,2,20111203,2101, -59.00000, -55.85800,  3773,  408.8, 2.1295,34.5679,34.5679,2
74JC20111127,SR1B,20,1,10,10,2,20111203,2101, -59.00000, -55.85800,  3773,  408.7, 2.1290,34.5677,   -999,9
74JC20111127,SR1B,20,1,11,11,2,20111203,2101, -59.00000, -55.85800,  3773,   15.2, 0.5601,33.7892,   -999,9
74JC20111127,SR1B,20,1,12,12,2,20111203,2101, -59.00000, -55.85800,  3773,   15.4, 0.5719,33.7896,33.7897,2
74JC20111127,SR1B,21,1, 1, 1,2,20111204,0141, -59.33300, -55.65100,  3754, 3812.9, 0.0059,34.6588,   -999,9
74JC20111127,SR1B,21,1, 2, 2,2,20111204,0141, -59.33300, -55.65100,  3754, 3812.5, 0.0059,34.6587,34.6580,2
74JC20111127,SR1B,21,1, 3, 3,2,20111204,0141, -59.33300, -55.65100,  3754, 3056.2, 0.2427,34.6742,   -999,9
74JC20111127,SR1B,21,1, 4, 4,2,20111204,0141, -59.33300, -55.65100,  3754, 3055.5, 0.2428,34.6742,34.6743,2
74JC20111127,SR1B,21,1, 5, 5,2,20111204,0141, -59.33300, -55.65100,  3754, 2032.9, 0.9288,34.7120,   -999,9
74JC20111127,SR1B,21,1, 6, 6,2,20111204,0141, -59.33300, -55.65100,  3754, 2034.4, 0.9329,34.7121,34.7119,2
74JC20111127,SR1B,21,1, 7, 7,2,20111204,0141, -59.33300, -55.65100,  3754, 1015.9, 1.8155,34.7227,   -999,9
74JC20111127,SR1B,21,1, 8, 8,2,20111204,0141, -59.33300, -55.65100,  3754, 1017.1, 1.8156,34.7227,34.7229,2
74JC20111127,SR1B,21,1, 9, 9,2,20111204,0141, -59.33300, -55.65100,  3754,  410.0, 2.2373,34.5764,   -999,9
74JC20111127,SR1B,21,1,10,10,2,20111204,0141, -59.33300, -55.65100,  3754,  410.0, 2.2584,34.5781,34.5753,2
74JC20111127,SR1B,21,1,11,11,2,20111204,0141, -59.33300, -55.65100,  3754,   16.0, 0.2668,33.8206,   -999,9
74JC20111127,SR1B,21,1,12,12,2,20111204,0141, -59.33300, -55.65100,  3754,   15.9, 0.2676,33.8204,33.8202,2
74JC20111127,SR1B,22,1, 1, 1,2,20111204,0610, -59.66700, -55.44400,  3676, 3732.2,-0.0031,34.6586,   -999,9
74JC20111127,SR1B,22,1, 2, 2,2,20111204,0610, -59.66700, -55.44400,  3676, 3732.7,-0.0030,34.6585,34.6580,2
74JC20111127,SR1B,22,1, 3, 3,2,20111204,0610, -59.66700, -55.44400,  3676, 3060.0, 0.1616,34.6677,   -999,9
74JC20111127,SR1B,22,1, 4, 4,2,20111204,0610, -59.66700, -55.44400,  3676, 3059.6, 0.1622,34.6679,34.6667,2
74JC20111127,SR1B,22,1, 5, 5,2,20111204,0610, -59.66700, -55.44400,  3676, 2036.3, 0.7923,34.7066,   -999,9
74JC20111127,SR1B,22,1, 6, 6,2,20111204,0610, -59.66700, -55.44400,  3676, 2036.2, 0.7923,34.7063,34.7050,2
74JC20111127,SR1B,22,1, 7, 7,2,20111204,0610, -59.66700, -55.44400,  3676, 1018.4, 1.5933,34.7216,   -999,9
74JC20111127,SR1B,22,1, 8, 8,2,20111204,0610, -59.66700, -55.44400,  3676, 1017.9, 1.5935,34.7214,34.7201,2
74JC20111127,SR1B,22,1, 9, 9,2,20111204,0610, -59.66700, -55.44400,  3676,  510.5, 1.9274,34.6509,   -999,9
74JC20111127,SR1B,22,1,10,10,2,20111204,0610, -59.66700, -55.44400,  3676,  511.2, 1.9363,34.6502,34.6498,2
74JC20111127,SR1B,22,1,11,11,2,20111204,0610, -59.66700, -55.44400,  3676,   15.8, 0.3336,33.8387,   -999,9
74JC20111127,SR1B,22,1,12,12,2,20111204,0610, -59.66700, -55.44400,  3676,   15.8, 0.3628,33.8394,33.8388,2
74JC20111127,SR1B,23,1, 1, 1,2,20111204,1037, -60.00000, -55.23800,  3499, 3551.4, 0.0233,34.6604,   -999,9
74JC20111127,SR1B,23,1, 2, 2,2,20111204,1037, -60.00000, -55.23800,  3499, 3550.6, 0.0235,34.6605,34.6602,2
74JC20111127,SR1B,23,1, 3, 3,2,20111204,1037, -60.00000, -55.23800,  3499, 3059.8, 0.0716,34.6646,   -999,9
74JC20111127,SR1B,23,1, 4, 4,2,20111204,1037, -60.00000, -55.23800,  3499, 3060.1, 0.0722,34.6645,34.6816,2
74JC20111127,SR1B,23,1, 5, 5,2,20111204,1037, -60.00000, -55.23800,  3499, 2035.9, 0.6755,34.7025,   -999,9
74JC20111127,SR1B,23,1, 6, 6,2,20111204,1037, -60.00000, -55.23800,  3499, 2036.0, 0.6770,34.7029,34.7019,2
74JC20111127,SR1B,23,1, 7, 7,2,20111204,1037, -60.00000, -55.23800,  3499, 1017.8, 1.3765,34.7120,   -999,9
74JC20111127,SR1B,23,1, 8, 8,2,20111204,1037, -60.00000, -55.23800,  3499, 1017.5, 1.3767,34.7122,34.7115,2
74JC20111127,SR1B,23,1, 9, 9,2,20111204,1037, -60.00000, -55.23800,  3499,  561.8, 1.6897,34.6729,   -999,9
74JC20111127,SR1B,23,1,10,10,2,20111204,1037, -60.00000, -55.23800,  3499,  561.6, 1.6018,34.6647,34.6681,2
74JC20111127,SR1B,23,1,11,11,2,20111204,1037, -60.00000, -55.23800,  3499,   15.5, 0.1980,33.9401,   -999,9
74JC20111127,SR1B,23,1,12,12,2,20111204,1037, -60.00000, -55.23800,  3499,   15.5, 0.1988,33.9397,33.9406,2
74JC20111127,SR1B,24,1, 1, 1,2,20111204,1525, -60.33300, -55.03200,  3440, 3490.7,-0.0161,34.6592,   -999,9
74JC20111127,SR1B,24,1, 2, 2,2,20111204,1525, -60.33300, -55.03200,  3440, 3490.8,-0.0153,34.6589,34.6590,2
74JC20111127,SR1B,24,1, 3, 3,2,20111204,1525, -60.33300, -55.03200,  3440, 2546.6, 0.2839,34.6778,   -999,9
74JC20111127,SR1B,24,1, 4, 4,2,20111204,1525, -60.33300, -55.03200,  3440, 2546.3, 0.2843,34.6779,34.6775,2
74JC20111127,SR1B,24,1, 5, 5,2,20111204,1525, -60.33300, -55.03200,  3440, 1831.1, 0.7992,34.7077,   -999,9
74JC20111127,SR1B,24,1, 6, 6,2,20111204,1525, -60.33300, -55.03200,  3440, 1831.2, 0.7992,34.7079,34.7079,2
74JC20111127,SR1B,24,1, 7, 7,2,20111204,1525, -60.33300, -55.03200,  3440, 1219.7, 1.2788,34.7217,   -999,9
74JC20111127,SR1B,24,1, 8, 8,2,20111204,1525, -60.33300, -55.03200,  3440, 1219.7, 1.2788,34.7217,34.7219,2
74JC20111127,SR1B,24,1, 9, 9,2,20111204,1525, -60.33300, -55.03200,  3440,  611.1, 1.9391,34.7085,34.7083,2
74JC20111127,SR1B,24,1,10,10,2,20111204,1525, -60.33300, -55.03200,  3440,  610.6, 1.9381,34.7087,   -999,9
74JC20111127,SR1B,24,1,11,11,2,20111204,1525, -60.33300, -55.03200,  3440,   14.3, 0.2556,33.9044,   -999,9
74JC20111127,SR1B,24,1,12,12,2,20111204,1525, -60.33300, -55.03200,  3440,   13.9, 0.2560,33.9044,   -999,9
74JC20111127,SR1B,25,1, 1, 1,2,20111204,1948, -60.66400, -54.80500,  3073, 3114.6,-0.0465,34.6593,   -999,9
74JC20111127,SR1B,25,1, 2, 2,2,20111204,1948, -60.66400, -54.80500,  3073, 3114.4,-0.0451,34.6595,34.6590,2
74JC20111127,SR1B,25,1, 3, 3,2,20111204,1948, -60.66400, -54.80500,  3073, 2231.4, 0.1551,34.6726,   -999,9
74JC20111127,SR1B,25,1, 4, 4,2,20111204,1948, -60.66400, -54.80500,  3073, 2232.0, 0.1554,34.6726,34.6726,2
74JC20111127,SR1B,25,1, 5, 5,2,20111204,1948, -60.66400, -54.80500,  3073, 1625.0, 0.5041,34.6952,   -999,9
74JC20111127,SR1B,25,1, 6, 6,2,20111204,1948, -60.66400, -54.80500,  3073, 1624.3, 0.5047,34.6953,   -999,9
74JC20111127,SR1B,25,1, 7, 7,2,20111204,1948, -60.66400, -54.80500,  3073, 1015.1, 0.8026,34.6884,   -999,9
74JC20111127,SR1B,25,1, 8, 8,2,20111204,1948, -60.66400, -54.80500,  3073, 1015.2, 0.8010,34.6886,   -999,9
74JC20111127,SR1B,25,1, 9, 9,2,20111204,1948, -60.66400, -54.80500,  3073,  406.9, 0.0528,34.4735,   -999,9
74JC20111127,SR1B,25,1,10,10,2,20111204,1948, -60.66400, -54.80500,  3073,  406.5, 0.0521,34.4735,   -999,9
74JC20111127,SR1B,25,1,11,11,2,20111204,1948, -60.66400, -54.80500,  3073,   13.3, 0.2285,34.1799,   -999,9
74JC20111127,SR1B,25,1,12,12,2,20111204,1948, -60.66400, -54.80500,  3073,   13.2, 0.2280,34.1802,33.9048,2
74JC20111127,SR1B,26,1, 1, 1,2,20111204,2244, -60.79900, -54.74300,  2547, 2576.4, 0.0579,34.6662,34.6669,2
74JC20111127,SR1B,26,1, 2, 2,2,20111204,2244, -60.79900, -54.74300,  2547, 2576.6, 0.0574,34.6662,   -999,9
74JC20111127,SR1B,26,1, 3, 3,2,20111204,2244, -60.79900, -54.74300,  2547, 1524.4, 0.6094,34.6929,   -999,9
74JC20111127,SR1B,26,1, 4, 4,2,20111204,2244, -60.79900, -54.74300,  2547, 1524.7, 0.6029,34.6919,34.6920,2
74JC20111127,SR1B,26,1, 5, 5,2,20111204,2244, -60.79900, -54.74300,  2547, 1015.9, 0.7237,34.6901,   -999,9
74JC20111127,SR1B,26,1, 6, 6,2,20111204,2244, -60.79900, -54.74300,  2547, 1016.2, 0.7245,34.6898,34.6910,2
74JC20111127,SR1B,26,1, 7, 7,2,20111204,2244, -60.79900, -54.74300,  2547,  509.2, 1.4566,34.7239,   -999,9
74JC20111127,SR1B,26,1, 8, 8,2,20111204,2244, -60.79900, -54.74300,  2547,  509.1, 1.4550,34.7240,34.7239,2
74JC20111127,SR1B,26,1, 9, 9,2,20111204,2244, -60.79900, -54.74300,  2547,   13.5, 0.1924,34.1796,   -999,9
74JC20111127,SR1B,26,1,10,10,2,20111204,2244, -60.79900, -54.74300,  2547,   13.7, 0.1954,34.1798,34.1801,2
74JC20111127,SR1B,27,1, 1, 1,2,20111205,0234, -60.83300, -54.72200,  1744, 1757.3, 0.4650,34.6861,   -999,9
74JC20111127,SR1B,27,1, 2, 2,2,20111205,0234, -60.83300, -54.72200,  1744, 1756.7, 0.4650,34.6861,34.6859,2
74JC20111127,SR1B,27,1, 3, 3,2,20111205,0234, -60.83300, -54.72200,  1744, 1015.5, 0.6258,34.6867,   -999,9
74JC20111127,SR1B,27,1, 4, 4,2,20111205,0234, -60.83300, -54.72200,  1744, 1015.4, 0.6254,34.6867,34.6871,2
74JC20111127,SR1B,27,1, 5, 5,2,20111205,0234, -60.83300, -54.72200,  1744,  254.9, 0.1566,34.4507,   -999,9
74JC20111127,SR1B,27,1, 6, 6,2,20111205,0234, -60.83300, -54.72200,  1744,  255.5, 0.1635,34.4505,34.4528,2
74JC20111127,SR1B,27,1, 7, 7,2,20111205,0234, -60.83300, -54.72200,  1744,   13.5, 0.0219,34.1589,   -999,9
74JC20111127,SR1B,27,1, 8, 8,2,20111205,0234, -60.83300, -54.72200,  1744,   13.0, 0.0198,34.1582,34.1722,2
74JC20111127,SR1B,28,1, 1, 1,2,20111205,0401, -60.85000, -54.71100,   991,  992.5, 0.6506,34.6881,   -999,9
74JC20111127,SR1B,28,1, 2, 2,2,20111205,0401, -60.85000, -54.71100,   991,  993.2, 0.6498,34.6880,34.6873,2
74JC20111127,SR1B,28,1, 3, 3,2,20111205,0401, -60.85000, -54.71100,   991,  711.1, 0.8279,34.6853,   -999,9
74JC20111127,SR1B,28,1, 4, 4,2,20111205,0401, -60.85000, -54.71100,   991,  711.2, 0.8250,34.6853,34.6879,2
74JC20111127,SR1B,28,1, 5, 5,2,20111205,0401, -60.85000, -54.71100,   991,  255.5, 0.1985,34.4625,   -999,9
74JC20111127,SR1B,28,1, 6, 6,2,20111205,0401, -60.85000, -54.71100,   991,  255.4, 0.2188,34.4630,34.4624,2
74JC20111127,SR1B,28,1, 7, 7,2,20111205,0401, -60.85000, -54.71100,   991,   12.7, 0.1207,34.1669,   -999,9
74JC20111127,SR1B,28,1, 8, 8,2,20111205,0401, -60.85000, -54.71100,   991,   12.8, 0.1512,34.1601,34.1626,2
74JC20111127,SR1B,29,1, 1, 1,2,20111205,1423, -60.98100, -54.63000,   582,  577.2,-0.1261,34.5654,   -999,9
74JC20111127,SR1B,29,1, 2, 2,2,20111205,1423, -60.98100, -54.63000,   582,  577.1,-0.1262,34.5653,34.5641,2
74JC20111127,SR1B,29,1, 3, 3,2,20111205,1423, -60.98100, -54.63000,   582,  455.6, 0.3702,34.5590,   -999,9
74JC20111127,SR1B,29,1, 4, 4,2,20111205,1423, -60.98100, -54.63000,   582,  455.5, 0.3701,34.5590,34.5580,2
74JC20111127,SR1B,29,1, 5, 5,2,20111205,1423, -60.98100, -54.63000,   582,  203.1, 0.2664,34.3334,   -999,9
74JC20111127,SR1B,29,1, 6, 6,2,20111205,1423, -60.98100, -54.63000,   582,  202.8, 0.2663,34.3333,34.3327,2
74JC20111127,SR1B,29,1, 7, 7,2,20111205,1423, -60.98100, -54.63000,   582,   11.2,-0.0383,34.1520,   -999,9
74JC20111127,SR1B,29,1, 8, 8,2,20111205,1423, -60.98100, -54.63000,   582,   11.0,-0.0263,34.1492,34.1505,2
74JC20111127,SR1B,30,1, 1, 1,2,20111205,1535, -61.05000, -54.58700,   356,  349.3, 0.4730,34.5629,   -999,9
74JC20111127,SR1B,30,1, 2, 2,2,20111205,1535, -61.05000, -54.58700,   356,  349.0, 0.4672,34.5631,34.5596,2
74JC20111127,SR1B,30,1, 3, 3,2,20111205,1535, -61.05000, -54.58700,   356,  152.9, 0.2445,34.3131,   -999,9
74JC20111127,SR1B,30,1, 4, 4,2,20111205,1535, -61.05000, -54.58700,   356,  152.5, 0.2367,34.3093,34.3129,2
74JC20111127,SR1B,30,1, 5, 5,2,20111205,1535, -61.05000, -54.58700,   356,   10.9, 0.3036,34.0864,   -999,9
74JC20111127,SR1B,30,1, 6, 6,2,20111205,1535, -61.05000, -54.58700,   356,   11.1, 0.3090,34.0862,34.0887,2