BOTTLE,20240102CCHSIOVAJ
# Removed blank spaces in units line
# Changed SECT_ID entries from SR1b to SR1B, matching CCHDO labeling
# DEPTH units changed from '' to METERS
# These data are under a CC0 license. For more information on how to cite, please visit cchdo.ucsd.edu.
#BOTTLE,20170706OCPNOCYLF
#SHIP: James Clark Ross
#Cruise JR265; SR1b
#Region: Drake Passage
#EXPOCODE: 74JC20111127
#DATES: 20111127 - 20111224
#Chief Scientist: M. Yelland, NOC
#Supported by NERC National Capability
#30 stations with 24-place rosette
#CTD: Who - B. King; Status - final
#Notes: CTD PRS; TMP; SAL are calibrated and good
#s: Who - Salinity; Status - final
#s: Who -  ; Status - final
#These data should be acknowledged with: "Data were collected and made publicly available by the international Global Ship-based Hydrographic Investigations Program (GO-SHIP; http://www.go-ship.org/) with National Capability funding from the UK Natural Environment Research Council to the National Oceanography Centre."
EXPOCODE,SECT_ID,STNNBR,CASTNO,SAMPNO,BTLNBR,BTLNBR_FLAG_W,DATE,TIME,LATITUDE,LONGITUDE,DEPTH,CTDPRS,CTDTMP,CTDSAL,SALNTY,SALNTY_FLAG_W
,,,,,,,,,,,METERS,DBAR,ITS-90,PSS-78,PSS-78,
74JC20111127,SR1B, 1,1, 1, 1,2,20111128,2201, -54.78900, -57.99600,   262,  252.7, 4.7261,34.0892,   -999,9
74JC20111127,SR1B, 1,1, 2, 2,2,20111128,2201, -54.78900, -57.99600,   262,  253.1, 4.7264,34.0894,34.0889,2
74JC20111127,SR1B, 1,1, 3, 3,2,20111128,2201, -54.78900, -57.99600,   262,   90.7, 5.5616,34.0556,34.0543,2
74JC20111127,SR1B, 1,1, 4, 4,2,20111128,2201, -54.78900, -57.99600,   262,   10.5, 5.8036,34.0537,   -999,9
74JC20111127,SR1B, 1,1, 5, 5,2,20111128,2201, -54.78900, -57.99600,   262,   10.9, 5.8300,34.0505,   -999,9
74JC20111127,SR1B, 1,1, 6, 6,2,20111128,2201, -54.78900, -57.99600,   262,   10.8, 5.8294,34.0505,34.0484,2
74JC20111127,SR1B, 2,1, 1, 1,2,20111128,2332, -54.90900, -57.99400,   621,  616.6, 3.6817,34.1361,34.1358,2
74JC20111127,SR1B, 2,1, 2, 2,2,20111128,2332, -54.90900, -57.99400,   621,  616.4, 3.6763,34.1363,   -999,9
74JC20111127,SR1B, 2,1, 3, 3,2,20111128,2332, -54.90900, -57.99400,   621,  355.8, 4.2153,34.1332,34.1338,2
74JC20111127,SR1B, 2,1, 4, 4,2,20111128,2332, -54.90900, -57.99400,   621,  355.7, 4.2277,34.1340,   -999,9
74JC20111127,SR1B, 2,1, 5, 5,2,20111128,2332, -54.90900, -57.99400,   621,  153.5, 4.5410,34.1231,34.1228,2
74JC20111127,SR1B, 2,1, 6, 6,2,20111128,2332, -54.90900, -57.99400,   621,  153.9, 4.5619,34.1208,   -999,9
74JC20111127,SR1B, 2,1, 7, 7,2,20111128,2332, -54.90900, -57.99400,   621,   12.3, 6.0455,34.0331,34.0311,2
74JC20111127,SR1B, 2,1, 8, 8,2,20111128,2332, -54.90900, -57.99400,   621,   12.3, 6.0741,34.0281,   -999,9
74JC20111127,SR1B, 3,1, 1, 1,2,20111129,0159, -54.98000, -57.97500,  1087, 1089.0, 3.0173,34.3315,34.3305,2
74JC20111127,SR1B, 3,1, 2, 2,2,20111129,0159, -54.98000, -57.97500,  1087, 1088.5, 3.0118,34.3360,   -999,9
74JC20111127,SR1B, 3,1, 3, 3,2,20111129,0159, -54.98000, -57.97500,  1087,  709.6, 3.3999,34.1403,34.1407,2
74JC20111127,SR1B, 3,1, 4, 4,2,20111129,0159, -54.98000, -57.97500,  1087,  709.9, 3.4114,34.1403,   -999,9
74JC20111127,SR1B, 3,1, 5, 5,2,20111129,0159, -54.98000, -57.97500,  1087,  355.0, 4.2768,34.1335,34.1340,2
74JC20111127,SR1B, 3,1, 6, 6,2,20111129,0159, -54.98000, -57.97500,  1087,  355.4, 4.2849,34.1341,   -999,9
74JC20111127,SR1B, 3,1, 7, 7,2,20111129,0159, -54.98000, -57.97500,  1087,  152.9, 4.5222,34.1111,34.1111,2
74JC20111127,SR1B, 3,1, 8, 8,2,20111129,0159, -54.98000, -57.97500,  1087,  152.5, 4.5223,34.1104,   -999,9
74JC20111127,SR1B, 3,1, 9, 9,2,20111129,0159, -54.98000, -57.97500,  1087,   11.8, 6.0446,34.0232,34.0239,2
74JC20111127,SR1B, 3,1,10,10,2,20111129,0159, -54.98000, -57.97500,  1087,   11.2, 6.0440,34.0235,   -999,9
74JC20111127,SR1B, 4,1, 1, 1,2,20111129,0359, -54.99900, -57.99700,  1505, 1513.1, 2.6198,34.5309,34.5309,2
74JC20111127,SR1B, 4,1, 2, 2,2,20111129,0359, -54.99900, -57.99700,  1505, 1513.8, 2.6189,34.5313,   -999,9
74JC20111127,SR1B, 4,1, 3, 3,2,20111129,0359, -54.99900, -57.99700,  1505, 1513.3, 2.6164,34.5322,   -999,9
74JC20111127,SR1B, 4,1, 4, 4,2,20111129,0359, -54.99900, -57.99700,  1505,  710.1, 3.5401,34.1395,34.1389,2
74JC20111127,SR1B, 4,1, 5, 5,2,20111129,0359, -54.99900, -57.99700,  1505,  711.4, 3.5562,34.1394,   -999,9
74JC20111127,SR1B, 4,1, 6, 6,2,20111129,0359, -54.99900, -57.99700,  1505,  710.5, 3.5584,34.1395,   -999,9
74JC20111127,SR1B, 4,1, 7, 7,2,20111129,0359, -54.99900, -57.99700,  1505,  356.4, 4.2831,34.1354,34.1350,2
74JC20111127,SR1B, 4,1, 8, 8,2,20111129,0359, -54.99900, -57.99700,  1505,  355.6, 4.2886,34.1355,   -999,9
74JC20111127,SR1B, 4,1, 9, 9,2,20111129,0359, -54.99900, -57.99700,  1505,  356.4, 4.2913,34.1356,   -999,9
74JC20111127,SR1B, 4,1,10,10,2,20111129,0359, -54.99900, -57.99700,  1505,  153.3, 4.6664,34.1140,34.1142,2
74JC20111127,SR1B, 4,1,11,11,2,20111129,0359, -54.99900, -57.99700,  1505,  153.0, 4.6759,34.1140,   -999,9
74JC20111127,SR1B, 4,1,12,12,2,20111129,0359, -54.99900, -57.99700,  1505,   11.7, 5.9391,34.0298,34.0315,2
74JC20111127,SR1B, 4,1,13,13,2,20111129,0359, -54.99900, -57.99700,  1505,   12.1, 5.9540,34.0281,   -999,9
74JC20111127,SR1B, 5,1, 1, 1,2,20111129,0548, -55.03900, -57.99800,  2042, 2060.2, 2.2627,34.6523,34.6531,2
74JC20111127,SR1B, 5,1, 2, 2,2,20111129,0548, -55.03900, -57.99800,  2042, 2060.1, 2.2602,34.6530,   -999,9
74JC20111127,SR1B, 5,1, 3, 3,2,20111129,0548, -55.03900, -57.99800,  2042, 2059.1, 2.2598,34.6529,   -999,9
74JC20111127,SR1B, 5,1, 4, 4,2,20111129,0548, -55.03900, -57.99800,  2042, 1525.2, 2.5459,34.5563,34.5574,2
74JC20111127,SR1B, 5,1, 5, 5,2,20111129,0548, -55.03900, -57.99800,  2042, 1525.1, 2.5457,34.5565,   -999,9
74JC20111127,SR1B, 5,1, 6, 6,2,20111129,0548, -55.03900, -57.99800,  2042,  711.2, 3.4368,34.1450,34.1450,2
74JC20111127,SR1B, 5,1, 7, 7,2,20111129,0548, -55.03900, -57.99800,  2042,  711.7, 3.4398,34.1449,   -999,9
74JC20111127,SR1B, 5,1, 8, 8,2,20111129,0548, -55.03900, -57.99800,  2042,  358.0, 4.3409,34.1372,34.1377,2
74JC20111127,SR1B, 5,1, 9, 9,2,20111129,0548, -55.03900, -57.99800,  2042,  358.2, 4.3444,34.1372,   -999,9
74JC20111127,SR1B, 5,1,10,10,2,20111129,0548, -55.03900, -57.99800,  2042,  155.4, 4.6231,34.1242,34.1238,2
74JC20111127,SR1B, 5,1,11,11,2,20111129,0548, -55.03900, -57.99800,  2042,  155.5, 4.6634,34.1232,   -999,9
74JC20111127,SR1B, 5,1,12,12,2,20111129,0548, -55.03900, -57.99800,  2042,   13.7, 5.7316,34.0655,34.0660,2
74JC20111127,SR1B, 5,1,13,13,2,20111129,0548, -55.03900, -57.99800,  2042,   13.5, 5.7433,34.0647,   -999,9
74JC20111127,SR1B, 6,1, 1, 1,2,20111129,1150, -55.09500, -57.99900,  2468, 2493.1, 2.0521,34.6920,   -999,9
74JC20111127,SR1B, 6,1, 2, 2,2,20111129,1150, -55.09500, -57.99900,  2468, 2492.1, 2.0517,34.6918,34.6914,2
74JC20111127,SR1B, 6,1, 3, 3,2,20111129,1150, -55.09500, -57.99900,  2468, 2491.0, 2.0518,34.6918,   -999,9
74JC20111127,SR1B, 6,1, 4, 4,2,20111129,1150, -55.09500, -57.99900,  2468, 2134.8, 2.1673,34.6716,   -999,9
74JC20111127,SR1B, 6,1, 5, 5,2,20111129,1150, -55.09500, -57.99900,  2468, 2134.5, 2.1664,34.6715,   -999,9
74JC20111127,SR1B, 6,1, 6, 6,2,20111129,1150, -55.09500, -57.99900,  2468, 2134.2, 2.1668,34.6716,34.6712,2
74JC20111127,SR1B, 6,1, 7, 7,2,20111129,1150, -55.09500, -57.99900,  2468, 1622.7, 2.5538,34.5565,   -999,9
74JC20111127,SR1B, 6,1, 8, 8,2,20111129,1150, -55.09500, -57.99900,  2468, 1626.1, 2.5531,34.5571,34.5569,2
74JC20111127,SR1B, 6,1, 9, 9,2,20111129,1150, -55.09500, -57.99900,  2468,  609.3, 3.6986,34.1423,   -999,9
74JC20111127,SR1B, 6,1,10,10,2,20111129,1150, -55.09500, -57.99900,  2468,  609.6, 3.6986,34.1422,34.1428,2
74JC20111127,SR1B, 6,1,11,11,2,20111129,1150, -55.09500, -57.99900,  2468,   12.0, 5.5721,34.0773,   -999,9
74JC20111127,SR1B, 6,1,12,12,2,20111129,1150, -55.09500, -57.99900,  2468,   11.0, 5.5724,34.0773,34.0776,2
74JC20111127,SR1B, 7,1, 1, 1,2,20111129,1443, -55.15700, -58.00100,  3021, 3057.6, 1.7197,34.7180,   -999,9
74JC20111127,SR1B, 7,1, 2, 2,2,20111129,1443, -55.15700, -58.00100,  3021, 3057.9, 1.7200,34.7179,   -999,9
74JC20111127,SR1B, 7,1, 3, 3,2,20111129,1443, -55.15700, -58.00100,  3021, 3057.3, 1.7200,34.7181,34.7190,2
74JC20111127,SR1B, 7,1, 4, 4,2,20111129,1443, -55.15700, -58.00100,  3021, 2138.6, 2.1580,34.6747,   -999,9
74JC20111127,SR1B, 7,1, 5, 5,2,20111129,1443, -55.15700, -58.00100,  3021, 2135.5, 2.1584,34.6747,34.6747,2
74JC20111127,SR1B, 7,1, 6, 6,2,20111129,1443, -55.15700, -58.00100,  3021,  713.5, 3.3488,34.1307,   -999,9
74JC20111127,SR1B, 7,1, 7, 7,2,20111129,1443, -55.15700, -58.00100,  3021,  713.6, 3.3497,34.1308,34.1307,2
74JC20111127,SR1B, 7,1, 8, 8,2,20111129,1443, -55.15700, -58.00100,  3021,  308.0, 4.3371,34.1295,   -999,9
74JC20111127,SR1B, 7,1, 9, 9,2,20111129,1443, -55.15700, -58.00100,  3021,  308.4, 4.3388,34.1292,34.1293,2
74JC20111127,SR1B, 7,1,10,10,2,20111129,1443, -55.15700, -58.00100,  3021,   14.4, 5.4382,34.0873,   -999,9
74JC20111127,SR1B, 7,1,11,11,2,20111129,1443, -55.15700, -58.00100,  3021,   15.7, 5.4406,34.0871,34.0878,2
74JC20111127,SR1B, 8,1, 1, 1,2,20111129,1745, -55.20000, -57.99000,  3569, 3619.4, 1.0493,34.7093,   -999,9
74JC20111127,SR1B, 8,1, 2, 2,2,20111129,1745, -55.20000, -57.99000,  3569, 3621.3, 1.0492,34.7093,   -999,9
74JC20111127,SR1B, 8,1, 3, 3,2,20111129,1745, -55.20000, -57.99000,  3569, 3620.1, 1.0488,34.7094,34.7093,2
74JC20111127,SR1B, 8,1, 4, 4,2,20111129,1745, -55.20000, -57.99000,  3569, 3055.4, 1.6864,34.7186,   -999,9
74JC20111127,SR1B, 8,1, 5, 5,2,20111129,1745, -55.20000, -57.99000,  3569, 3057.3, 1.6885,34.7182,34.7182,2
74JC20111127,SR1B, 8,1, 6, 6,2,20111129,1745, -55.20000, -57.99000,  3569, 2033.5, 2.2222,34.6604,   -999,9
74JC20111127,SR1B, 8,1, 7, 7,2,20111129,1745, -55.20000, -57.99000,  3569, 2033.4, 2.2218,34.6604,34.6596,2
74JC20111127,SR1B, 8,1, 8, 8,2,20111129,1745, -55.20000, -57.99000,  3569,  605.2, 3.6352,34.1297,   -999,9
74JC20111127,SR1B, 8,1, 9, 9,2,20111129,1745, -55.20000, -57.99000,  3569,  606.2, 3.6363,34.1296,34.1295,2
74JC20111127,SR1B, 8,1,10,10,2,20111129,1745, -55.20000, -57.99000,  3569,    5.5, 5.2023,34.1103,   -999,9
74JC20111127,SR1B, 8,1,11,11,2,20111129,1745, -55.20000, -57.99000,  3569,    5.1, 5.2021,34.1102,34.1101,2
74JC20111127,SR1B, 9,1, 1, 1,2,20111129,2249, -55.52200, -58.02100,  4224, 4293.4, 0.7063,34.6915,34.6906,2
74JC20111127,SR1B, 9,1, 2, 2,2,20111129,2249, -55.52200, -58.02100,  4224, 4294.3, 0.7062,34.6916,   -999,9
74JC20111127,SR1B, 9,1, 3, 3,2,20111129,2249, -55.52200, -58.02100,  4224, 3574.3, 1.1177,34.7142,   -999,9
74JC20111127,SR1B, 9,1, 4, 4,2,20111129,2249, -55.52200, -58.02100,  4224, 3573.3, 1.1185,34.7144,34.7142,2
74JC20111127,SR1B, 9,1, 5, 5,2,20111129,2249, -55.52200, -58.02100,  4224, 2038.6, 2.2611,34.6615,   -999,9
74JC20111127,SR1B, 9,1, 6, 6,2,20111129,2249, -55.52200, -58.02100,  4224, 2038.4, 2.2654,34.6608,34.6610,2
74JC20111127,SR1B, 9,1, 7, 7,2,20111129,2249, -55.52200, -58.02100,  4224,  816.9, 3.3336,34.1542,   -999,9
74JC20111127,SR1B, 9,1, 8, 8,2,20111129,2249, -55.52200, -58.02100,  4224,  817.7, 3.3356,34.1538,34.1540,2
74JC20111127,SR1B, 9,1, 9, 9,2,20111129,2249, -55.52200, -58.02100,  4224,  411.4, 4.2949,34.1383,   -999,9
74JC20111127,SR1B, 9,1,10,10,2,20111129,2249, -55.52200, -58.02100,  4224,  412.9, 4.3040,34.1386,34.1393,2
74JC20111127,SR1B, 9,1,11,11,2,20111129,2249, -55.52200, -58.02100,  4224,   16.6, 5.5157,34.0576,   -999,9
74JC20111127,SR1B, 9,1,12,12,2,20111129,2249, -55.52200, -58.02100,  4224,   17.6, 5.5315,34.0561,34.0566,2
74JC20111127,SR1B,10,1, 1, 1,2,20111201,2011, -55.83200, -57.81200,  4742, 4826.9, 0.4555,34.6751,   -999,9
74JC20111127,SR1B,10,1, 2, 2,2,20111201,2011, -55.83200, -57.81200,  4742, 4826.9, 0.4556,34.6748,34.6753,2
74JC20111127,SR1B,10,1, 3, 3,2,20111201,2011, -55.83200, -57.81200,  4742, 4083.6, 1.0174,34.7086,   -999,9
74JC20111127,SR1B,10,1, 4, 4,2,20111201,2011, -55.83200, -57.81200,  4742, 4084.9, 1.0164,34.7090,34.7089,2
74JC20111127,SR1B,10,1, 5, 5,2,20111201,2011, -55.83200, -57.81200,  4742, 3055.3, 1.6168,34.7214,   -999,9
74JC20111127,SR1B,10,1, 6, 6,2,20111201,2011, -55.83200, -57.81200,  4742, 3056.9, 1.6149,34.7218,34.7215,2
74JC20111127,SR1B,10,1, 7, 7,2,20111201,2011, -55.83200, -57.81200,  4742, 2034.8, 2.2271,34.6590,   -999,9
74JC20111127,SR1B,10,1, 8, 8,2,20111201,2011, -55.83200, -57.81200,  4742, 2038.5, 2.2271,34.6590,34.6590,2
74JC20111127,SR1B,10,1, 9, 9,2,20111201,2011, -55.83200, -57.81200,  4742,  514.0, 4.0157,34.1300,   -999,9
74JC20111127,SR1B,10,1,10,10,2,20111201,2011, -55.83200, -57.81200,  4742,  513.9, 4.0207,34.1301,34.1309,2
74JC20111127,SR1B,10,1,11,11,2,20111201,2011, -55.83200, -57.81200,  4742,   18.6, 5.7772,34.0016,   -999,9
74JC20111127,SR1B,10,1,12,12,2,20111201,2011, -55.83200, -57.81200,  4742,   18.6, 5.7775,34.0014,34.0017,2
74JC20111127,SR1B,11,1, 1, 1,2,20111202,0210, -56.14500, -57.59600,  3504, 3553.3, 0.9659,34.7084,   -999,9
74JC20111127,SR1B,11,1, 2, 2,2,20111202,0210, -56.14500, -57.59600,  3504, 3553.9, 0.9859,34.7092,   -999,9
74JC20111127,SR1B,11,1, 3, 3,2,20111202,0210, -56.14500, -57.59600,  3504, 3053.7, 1.3898,34.7230,   -999,9
74JC20111127,SR1B,11,1, 4, 4,2,20111202,0210, -56.14500, -57.59600,  3504, 3052.0, 1.3892,34.7226,   -999,9
74JC20111127,SR1B,11,1, 5, 5,2,20111202,0210, -56.14500, -57.59600,  3504, 2034.6, 2.1271,34.6941,   -999,9
74JC20111127,SR1B,11,1, 6, 6,2,20111202,0210, -56.14500, -57.59600,  3504, 2034.6, 2.1256,34.6941,   -999,9
74JC20111127,SR1B,11,1, 7, 7,2,20111202,0210, -56.14500, -57.59600,  3504,  408.7, 3.8530,34.1378,   -999,9
74JC20111127,SR1B,11,1, 8, 8,2,20111202,0210, -56.14500, -57.59600,  3504,  409.8, 3.8559,34.1379,   -999,9
74JC20111127,SR1B,11,1, 9, 9,2,20111202,0210, -56.14500, -57.59600,  3504,   18.4, 4.9442,34.1028,   -999,9
74JC20111127,SR1B,11,1,10,10,2,20111202,0210, -56.14500, -57.59600,  3504,   17.8, 4.9440,34.1028,34.1021,2
74JC20111127,SR1B,12,1, 1, 1,2,20111202,0652, -56.46500, -57.41900,  3682, 3737.0, 0.5070,34.6848,   -999,9
74JC20111127,SR1B,12,1, 2, 2,2,20111202,0652, -56.46500, -57.41900,  3682, 3738.5, 0.5071,34.6848,34.6851,2
74JC20111127,SR1B,12,1, 3, 3,2,20111202,0652, -56.46500, -57.41900,  3682, 3057.3, 0.9588,34.7111,   -999,9
74JC20111127,SR1B,12,1, 4, 4,2,20111202,0652, -56.46500, -57.41900,  3682, 3059.7, 0.9597,34.7111,34.7121,2
74JC20111127,SR1B,12,1, 5, 5,2,20111202,0652, -56.46500, -57.41900,  3682, 2036.5, 1.6708,34.7254,   -999,9
74JC20111127,SR1B,12,1, 6, 6,2,20111202,0652, -56.46500, -57.41900,  3682, 2038.6, 1.6718,34.7255,34.7256,2
74JC20111127,SR1B,12,1, 7, 7,2,20111202,0652, -56.46500, -57.41900,  3682, 1019.0, 2.3562,34.5976,   -999,9
74JC20111127,SR1B,12,1, 8, 8,2,20111202,0652, -56.46500, -57.41900,  3682, 1018.8, 2.3567,34.5972,34.5961,2
74JC20111127,SR1B,12,1, 9, 9,2,20111202,0652, -56.46500, -57.41900,  3682,  512.1, 2.4787,34.2981,   -999,9
74JC20111127,SR1B,12,1,10,10,2,20111202,0652, -56.46500, -57.41900,  3682,  512.3, 2.4857,34.2977,34.2987,2
74JC20111127,SR1B,12,1,11,11,2,20111202,0652, -56.46500, -57.41900,  3682,   18.2, 1.9193,33.8435,   -999,9
74JC20111127,SR1B,12,1,12,12,2,20111202,0652, -56.46500, -57.41900,  3682,   17.4, 1.9201,33.8433,33.8429,2
74JC20111127,SR1B,13,1, 1, 1,2,20111202,1143, -56.78400, -57.21900,  3279, 3324.1, 0.8679,34.7061,   -999,9
74JC20111127,SR1B,13,1, 2, 2,2,20111202,1143, -56.78400, -57.21900,  3279, 3324.0, 0.8691,34.7059,34.7058,2
74JC20111127,SR1B,13,1, 3, 3,2,20111202,1143, -56.78400, -57.21900,  3279, 2843.9, 0.8720,34.7085,   -999,9
74JC20111127,SR1B,13,1, 4, 4,2,20111202,1143, -56.78400, -57.21900,  3279, 2843.7, 0.8740,34.7083,34.7089,2
74JC20111127,SR1B,13,1, 5, 5,2,20111202,1143, -56.78400, -57.21900,  3279, 2030.4, 1.4431,34.7219,   -999,9
74JC20111127,SR1B,13,1, 6, 6,2,20111202,1143, -56.78400, -57.21900,  3279, 2029.8, 1.4433,34.7221,34.7229,2
74JC20111127,SR1B,13,1, 7, 7,2,20111202,1143, -56.78400, -57.21900,  3279, 1217.6, 2.0823,34.6937,   -999,9
74JC20111127,SR1B,13,1, 8, 8,2,20111202,1143, -56.78400, -57.21900,  3279, 1216.6, 2.0814,34.6938,34.6936,2
74JC20111127,SR1B,13,1, 9, 9,2,20111202,1143, -56.78400, -57.21900,  3279,   16.2, 0.5527,33.7297,   -999,9
74JC20111127,SR1B,13,1,10,10,2,20111202,1143, -56.78400, -57.21900,  3279,   16.8, 0.5524,33.7296,33.7298,2
74JC20111127,SR1B,14,1, 1, 1,2,20111202,1628, -57.10100, -57.02100,  3889, 3949.6, 0.2189,34.6682,   -999,9
74JC20111127,SR1B,14,1, 2, 2,2,20111202,1628, -57.10100, -57.02100,  3889, 3949.2, 0.2195,34.6683,34.6686,2
74JC20111127,SR1B,14,1, 3, 3,2,20111202,1628, -57.10100, -57.02100,  3889, 3054.9, 0.8434,34.7064,   -999,9
74JC20111127,SR1B,14,1, 4, 4,2,20111202,1628, -57.10100, -57.02100,  3889, 3055.9, 0.8435,34.7066,34.7064,2
74JC20111127,SR1B,14,1, 5, 5,2,20111202,1628, -57.10100, -57.02100,  3889, 2033.7, 1.3897,34.7217,   -999,9
74JC20111127,SR1B,14,1, 6, 6,2,20111202,1628, -57.10100, -57.02100,  3889, 2033.2, 1.3906,34.7217,34.7217,2
74JC20111127,SR1B,14,1, 7, 7,2,20111202,1628, -57.10100, -57.02100,  3889, 1422.5, 1.7217,34.7128,   -999,9
74JC20111127,SR1B,14,1, 8, 8,2,20111202,1628, -57.10100, -57.02100,  3889, 1423.1, 1.7217,34.7127,34.7123,2
74JC20111127,SR1B,14,1, 9, 9,2,20111202,1628, -57.10100, -57.02100,  3889,  612.8, 2.3869,34.5520,   -999,9
74JC20111127,SR1B,14,1,10,10,2,20111202,1628, -57.10100, -57.02100,  3889,  612.1, 2.3872,34.5519,34.5510,2
74JC20111127,SR1B,14,1,11,11,2,20111202,1628, -57.10100, -57.02100,  3889,  107.5,-0.2531,33.8501,   -999,9
74JC20111127,SR1B,14,1,12,12,2,20111202,1628, -57.10100, -57.02100,  3889,  107.1,-0.2530,33.8502,33.8480,2
74JC20111127,SR1B,14,1,13,13,2,20111202,1628, -57.10100, -57.02100,  3889,   16.7, 0.6162,33.7217,33.7226,2
74JC20111127,SR1B,14,1,14,14,2,20111202,1628, -57.10100, -57.02100,  3889,   17.0, 0.6177,33.7225,   -999,9
74JC20111127,SR1B,15,1, 1, 1,2,20111202,2147, -57.41600, -56.82600,  3494, 3543.4, 0.1060,34.6643,   -999,9
74JC20111127,SR1B,15,1, 2, 2,2,20111202,2147, -57.41600, -56.82600,  3494, 3542.7, 0.1060,34.6642,34.6645,2
74JC20111127,SR1B,15,1, 3, 3,2,20111202,2147, -57.41600, -56.82600,  3494, 2545.5, 0.8010,34.7072,   -999,9
74JC20111127,SR1B,15,1, 4, 4,2,20111202,2147, -57.41600, -56.82600,  3494, 2543.6, 0.7999,34.7073,34.7072,2
74JC20111127,SR1B,15,1, 5, 5,2,20111202,2147, -57.41600, -56.82600,  3494, 1626.7, 1.4467,34.7251,   -999,9
74JC20111127,SR1B,15,1, 6, 6,2,20111202,2147, -57.41600, -56.82600,  3494, 1626.8, 1.4464,34.7251,34.7250,2
74JC20111127,SR1B,15,1, 7, 7,2,20111202,2147, -57.41600, -56.82600,  3494,  611.1, 2.2292,34.6070,   -999,9
74JC20111127,SR1B,15,1, 8, 8,2,20111202,2147, -57.41600, -56.82600,  3494,  610.4, 2.2291,34.6071,   -999,9
74JC20111127,SR1B,15,1, 9, 9,2,20111202,2147, -57.41600, -56.82600,  3494,  135.0,-1.0035,33.9292,   -999,9
74JC20111127,SR1B,15,1,10,10,2,20111202,2147, -57.41600, -56.82600,  3494,  135.3,-1.0035,33.9294,   -999,9
74JC20111127,SR1B,15,1,11,11,2,20111202,2147, -57.41600, -56.82600,  3494,   14.1, 0.4052,33.7737,   -999,9
74JC20111127,SR1B,15,1,12,12,2,20111202,2147, -57.41600, -56.82600,  3494,   14.5, 0.4007,33.7737,   -999,9