BOTTLE,20231122CCHSIOVAJ
EXPOCODE,SECT_ID,STNNBR,CASTNO,SAMPNO,BTLNBR,BTLNBR_FLAG_W,DATE,TIME,LATITUDE,LONGITUDE,DEPTH,CTDPRS,CTDTMP,CTDSAL,CTDSAL_FLAG_W,SALNTY,SALNTY_FLAG_W,CTDOXY,CTDOXY_FLAG_W,OXYGEN,OXYGEN_FLAG_W,CFC-11,CFC-11_FLAG_W,CFC-12,CFC-12_FLAG_W
,,,,,,,,,,,METERS,DBAR,ITS-90,PSS-78,,PSS-78,,UMOL/KG,,UMOL/KG,,PMOL/KG,,PMOL/KG,
  06MT20110624,   A02,726,1, 1, 1,2,20110705,0659,51.9652,-36.1437,3864,3913.6, 2.3479,34.9025,2,34.9063,2,282.4,2,281.9,2,2.553,2,1.331,2
  06MT20110624,   A02,726,1, 2, 2,2,20110705,0659,51.9652,-36.1437,3864,3492.5, 2.4829,34.9110,2,   -999,9,278.6,2, -999,9,2.253,2,1.155,2
  06MT20110624,   A02,726,1, 3, 3,2,20110705,0659,51.9652,-36.1437,3864,3299.3, 2.5757,34.9182,2,   -999,9,276.8,2, -999,9,2.192,2,1.125,2
  06MT20110624,   A02,726,1, 4, 4,2,20110705,0659,51.9652,-36.1437,3864,3099.8, 2.7653,34.9371,2,   -999,9,275.2,2, -999,9,2.286,2,1.181,2
  06MT20110624,   A02,726,1, 5, 5,2,20110705,0659,51.9652,-36.1437,3864,2897.0, 2.8312,34.9348,2,   -999,9,276.2,2,275.8,2,2.317,2,1.196,2
  06MT20110624,   A02,726,1, 6, 6,2,20110705,0659,51.9652,-36.1437,3864,2698.3, 2.8741,34.9231,2,   -999,9,277.7,2, -999,9,2.369,2,1.196,2
  06MT20110624,   A02,726,1, 7, 7,2,20110705,0659,51.9652,-36.1437,3864,2497.5, 2.9640,34.9193,2,   -999,9,278.0,2, -999,9,2.404,2,1.230,2
  06MT20110624,   A02,726,1, 8, 8,2,20110705,0659,51.9652,-36.1437,3864,2297.9, 3.0782,34.9183,2,34.9179,2,278.1,2, -999,9,2.543,2,1.265,2
  06MT20110624,   A02,726,1, 9, 9,2,20110705,0659,51.9652,-36.1437,3864,2098.2, 3.1761,34.9144,2,   -999,9,277.7,2, -999,9,2.646,6,1.335,6
  06MT20110624,   A02,726,1,10,10,2,20110705,0659,51.9652,-36.1437,3864,1899.8, 3.3028,34.9155,2,   -999,9,277.4,2,277.4,2,2.778,2,1.411,2
  06MT20110624,   A02,726,1,11,11,2,20110705,0659,51.9652,-36.1437,3864,1697.6, 3.4473,34.9182,2,   -999,9,276.4,2, -999,9,2.991,2,1.511,2
  06MT20110624,   A02,726,1,12,12,2,20110705,0659,51.9652,-36.1437,3864,1498.4, 3.5696,34.9166,2,   -999,9,275.8,2, -999,9,3.170,2,1.614,2
  06MT20110624,   A02,726,1,13,13,2,20110705,0659,51.9652,-36.1437,3864,1310.2, 3.6900,34.9112,2,   -999,9,276.0,2,275.7,2,3.393,2,1.786,2
  06MT20110624,   A02,726,1,14,14,2,20110705,0659,51.9652,-36.1437,3864,1106.8, 3.7781,34.9015,2,   -999,9,279.5,2, -999,9,3.711,2,1.999,2
  06MT20110624,   A02,726,1,15,15,2,20110705,0659,51.9652,-36.1437,3864, 999.1, 3.7525,34.8893,2,   -999,9,282.7,2, -999,9,3.897,2,2.119,2
  06MT20110624,   A02,726,1,16,16,2,20110705,0659,51.9652,-36.1437,3864, 916.0, 3.8359,34.8946,2,   -999,9,281.7,2, -999,9,3.941,2,2.154,2
  06MT20110624,   A02,726,1,17,17,2,20110705,0659,51.9652,-36.1437,3864, 800.3, 3.9233,34.8951,2,   -999,9,283.2,2, -999,9,3.993,2,2.195,2
  06MT20110624,   A02,726,1,18,18,2,20110705,0659,51.9652,-36.1437,3864, 699.8, 4.0455,34.9056,2,34.9083,2,280.1,2, -999,9,3.931,2,2.172,2
  06MT20110624,   A02,726,1,19,19,2,20110705,0659,51.9652,-36.1437,3864, 537.9, 4.3348,34.9207,2,   -999,9,273.4,2,273.8,2,3.805,2,2.116,2
  06MT20110624,   A02,726,1,20,20,2,20110705,0659,51.9652,-36.1437,3864, 453.7, 4.5930,34.9297,2,   -999,9,265.6,2, -999,9,3.677,2,2.003,2
  06MT20110624,   A02,726,1,21,21,2,20110705,0659,51.9652,-36.1437,3864, 301.8, 5.2866,34.9163,2,   -999,9,238.3,2, -999,9,3.348,2,1.827,2
  06MT20110624,   A02,726,1,22,22,2,20110705,0659,51.9652,-36.1437,3864,  13.8,10.6942,34.6127,2,   -999,9,283.5,2,282.7,6,3.423,2,1.984,2
  06MT20110624,   A02,727,1, 1, 1,2,20110705,1156,51.6910,-35.7868,3653,3703.1, 2.4528,34.9074,2,34.9093,2,278.5,2,278.7,2,2.265,2,1.153,2
  06MT20110624,   A02,727,1, 2, 2,2,20110705,1156,51.6910,-35.7868,3653,3598.7, 2.5029,34.9122,2,   -999,9,278.1,2, -999,9,2.247,2,1.143,2
  06MT20110624,   A02,727,1, 3, 3,2,20110705,1156,51.6910,-35.7868,3653,3398.6, 2.6355,34.9243,2,   -999,9,276.4,2,277.9,2,2.233,2,1.149,2
  06MT20110624,   A02,727,1, 4, 4,2,20110705,1156,51.6910,-35.7868,3653,3198.5, 2.7399,34.9329,2,   -999,9,275.6,2, -999,9,2.256,2,1.156,2
  06MT20110624,   A02,727,1, 5, 5,2,20110705,1156,51.6910,-35.7868,3653,2998.6, 2.8491,34.9399,2,   -999,9,275.7,2,275.3,2,2.405,2,1.234,2
  06MT20110624,   A02,727,1, 6, 6,2,20110705,1156,51.6910,-35.7868,3653,2798.4, 2.9384,34.9360,2,34.9398,2,276.9,2, -999,9,2.519,2,1.291,2
  06MT20110624,   A02,727,1, 7, 7,2,20110705,1156,51.6910,-35.7868,3653,2599.2, 2.9572,34.9175,2,   -999,9,278.5,2,277.7,2,2.513,2,1.263,2
  06MT20110624,   A02,727,1, 8, 8,2,20110705,1156,51.6910,-35.7868,3653,2398.9, 3.0772,34.9163,2,   -999,9,278.1,2,277.8,2,2.627,2,1.323,2
  06MT20110624,   A02,727,1, 9, 9,2,20110705,1156,51.6910,-35.7868,3653,2196.9, 3.1967,34.9147,2,   -999,9,278.0,2,278.0,2,2.755,2,1.387,2
  06MT20110624,   A02,727,1,10,10,2,20110705,1156,51.6910,-35.7868,3653,1992.9, 3.3303,34.9148,2,   -999,9,277.2,2,276.5,2,2.839,2,1.420,2
  06MT20110624,   A02,727,1,11,11,2,20110705,1156,51.6910,-35.7868,3653,1798.8, 3.4872,34.9176,2,   -999,9,275.8,2,275.5,2,3.000,2,1.500,2
  06MT20110624,   A02,727,1,12,12,2,20110705,1156,51.6910,-35.7868,3653,1590.1, 3.5976,34.9167,2,   -999,9,275.1,2,274.3,2,3.115,2,1.655,2
  06MT20110624,   A02,727,1,13,13,2,20110705,1156,51.6910,-35.7868,3653,1398.9, 3.6798,34.9071,2,   -999,9,277.4,2,276.4,2,3.412,2,1.829,2
  06MT20110624,   A02,727,1,14,14,2,20110705,1156,51.6910,-35.7868,3653,1198.9, 3.7477,34.8998,2,   -999,9,279.9,2,279.6,2,3.681,2,2.049,2
  06MT20110624,   A02,727,1,15,15,2,20110705,1156,51.6910,-35.7868,3653,1027.4, 3.8142,34.8949,2,   -999,9,281.8,2,280.7,2,3.883,2,2.134,2
  06MT20110624,   A02,727,1,16,16,2,20110705,1156,51.6910,-35.7868,3653, 795.3, 4.0029,34.8991,2,   -999,9,281.6,2,280.9,2,3.931,2,2.196,2
  06MT20110624,   A02,727,1,17,17,2,20110705,1156,51.6910,-35.7868,3653, 722.8, 4.0918,34.9039,2,   -999,9,279.8,2,277.8,2,3.954,6,2.235,6
  06MT20110624,   A02,727,1,18,18,2,20110705,1156,51.6910,-35.7868,3653, 604.1, 4.2614,34.9029,2,34.9030,2,273.7,2,273.5,2,3.806,2,2.164,2
  06MT20110624,   A02,727,1,19,19,2,20110705,1156,51.6910,-35.7868,3653, 499.8, 4.6459,34.9283,2,   -999,9,262.9,2,263.3,2,3.402,2,1.938,2
  06MT20110624,   A02,727,1,20,20,2,20110705,1156,51.6910,-35.7868,3653, 398.9, 5.1199,34.9332,2,   -999,9,243.6,2,245.2,2,3.148,2,1.779,2
  06MT20110624,   A02,727,1,21,21,2,20110705,1156,51.6910,-35.7868,3653, 209.9, 5.4832,34.6919,2,   -999,9,280.9,2,284.8,2,3.890,2,2.310,2
  06MT20110624,   A02,727,1,22,22,2,20110705,1156,51.6910,-35.7868,3653,  12.8,10.7142,34.6148,2,   -999,9,284.8,2,274.7,3,3.302,2,2.039,2
  06MT20110624,   A02,731,1, 1, 1,2,20110705,2356,51.4308,-35.4405,3611,3657.5, 2.5761,34.9168,2,34.9179,2,277.1,2,277.4,2,2.191,2,1.145,2
  06MT20110624,   A02,731,1, 2, 2,2,20110705,2356,51.4308,-35.4405,3611,3398.9, 2.6737,34.9270,2,   -999,9,276.2,2, -999,9,2.216,2,1.165,2
  06MT20110624,   A02,731,1, 3, 3,2,20110705,2356,51.4308,-35.4405,3611,3198.8, 2.8146,34.9418,2,   -999,9,274.9,2, -999,9,2.311,2,1.207,2
  06MT20110624,   A02,731,1, 4, 4,2,20110705,2356,51.4308,-35.4405,3611,2997.7, 2.9281,34.9465,2,   -999,9,275.5,2,275.8,2,2.396,2,1.255,2
  06MT20110624,   A02,731,1, 5, 5,2,20110705,2356,51.4308,-35.4405,3611,2798.7, 2.9802,34.9414,2,   -999,9,276.6,2, -999,9,2.414,2,1.266,2
  06MT20110624,   A02,731,1, 6, 6,2,20110705,2356,51.4308,-35.4405,3611,2598.6, 3.0145,34.9260,2,   -999,9,277.2,2, -999,9,2.374,2,1.231,2
  06MT20110624,   A02,731,1, 7, 7,2,20110705,2356,51.4308,-35.4405,3611,2403.8, 3.1402,34.9218,2,   -999,9,277.3,2, -999,9,2.530,2,1.341,2
  06MT20110624,   A02,731,1, 8, 8,2,20110705,2356,51.4308,-35.4405,3611,2198.5, 3.2468,34.9172,2,   -999,9,277.2,2,277.2,2,2.582,2,1.327,2
  06MT20110624,   A02,731,1, 9, 9,2,20110705,2356,51.4308,-35.4405,3611,2029.8, 3.3578,34.9157,2,   -999,9,276.9,2, -999,9,2.752,2,1.435,2
  06MT20110624,   A02,731,1,10,10,2,20110705,2356,51.4308,-35.4405,3611,1804.8, 3.5255,34.9186,2,34.9187,2,275.1,2, -999,9,2.847,2,1.539,2
  06MT20110624,   A02,731,1,11,11,2,20110705,2356,51.4308,-35.4405,3611,1607.4, 3.6585,34.9196,2,   -999,9,274.1,2,274.4,2,2.998,2,1.645,2
  06MT20110624,   A02,731,1,12,12,2,20110705,2356,51.4308,-35.4405,3611,1411.6, 3.7394,34.9140,2,   -999,9,275.6,2, -999,9,3.230,2,1.750,2
  06MT20110624,   A02,731,1,13,13,2,20110705,2356,51.4308,-35.4405,3611,1216.3, 3.8116,34.9070,2,   -999,9,278.6,2, -999,9,3.567,2,1.964,2
  06MT20110624,   A02,731,1,14,14,2,20110705,2356,51.4308,-35.4405,3611,1019.5, 3.9695,34.9097,2,   -999,9,279.2,2, -999,9,3.739,2,2.091,2
  06MT20110624,   A02,731,1,15,15,2,20110705,2356,51.4308,-35.4405,3611, 904.2, 4.0798,34.9119,2,   -999,9,279.0,2,279.2,6,3.770,2,2.095,2
  06MT20110624,   A02,731,1,16,16,2,20110705,2356,51.4308,-35.4405,3611, 798.8, 4.1838,34.9148,2,   -999,9,278.0,2, -999,9,3.780,2,2.096,2
  06MT20110624,   A02,731,1,17,17,2,20110705,2356,51.4308,-35.4405,3611, 705.1, 4.3198,34.9187,2,   -999,9,273.4,2, -999,9,3.697,2,2.062,2
  06MT20110624,   A02,731,1,18,18,2,20110705,2356,51.4308,-35.4405,3611, 598.3, 4.5444,34.9262,2,34.9254,2,264.7,2, -999,9, -999,9, -999,9
  06MT20110624,   A02,731,1,19,19,2,20110705,2356,51.4308,-35.4405,3611, 523.0, 4.8569,34.9336,2,   -999,9,253.5,2, -999,9,3.314,2,1.842,2
  06MT20110624,   A02,731,1,20,20,2,20110705,2356,51.4308,-35.4405,3611, 312.9, 6.3291,34.8521,2,   -999,9,225.3,2, -999,9,2.846,2,1.605,2
  06MT20110624,   A02,731,1,21,21,2,20110705,2356,51.4308,-35.4405,3611, 100.0, 9.1761,35.0629,2,   -999,9,252.8,2, -999,9,3.138,2,1.863,2
  06MT20110624,   A02,731,1,22,22,2,20110705,2356,51.4308,-35.4405,3611,  13.0,11.5912,34.9810,2,   -999,9,275.4,2,274.6,2,3.129,6,1.871,6
  06MT20110624,   A02,733,1, 1, 1,2,20110706,1113,51.0688,-34.8945,4168,4208.5, 2.3598,34.8997,2,34.8997,2,281.0,2,280.3,2,2.396,6,1.230,6
  06MT20110624,   A02,733,1, 2, 2,2,20110706,1113,51.0688,-34.8945,4168,4100.3, 2.4274,34.9037,2,   -999,9,279.4,2, -999,9,2.307,2,1.179,2
  06MT20110624,   A02,733,1, 3, 3,2,20110706,1113,51.0688,-34.8945,4168,3799.2, 2.5325,34.9129,2,   -999,9,278.2,2, -999,9,2.271,2,1.155,2
  06MT20110624,   A02,733,1, 4, 4,2,20110706,1113,51.0688,-34.8945,4168,3498.0, 2.6592,34.9257,2,   -999,9,276.1,2,276.3,2,2.266,2,1.146,2
  06MT20110624,   A02,733,1, 5, 5,2,20110706,1113,51.0688,-34.8945,4168,3216.1, 2.7947,34.9375,2,   -999,9,274.9,2, -999,9,2.316,2,1.163,2
  06MT20110624,   A02,733,1, 6, 6,2,20110706,1113,51.0688,-34.8945,4168,2894.9, 2.8788,34.9249,2,34.9262,2,276.4,2, -999,9,2.289,2,1.150,2
  06MT20110624,   A02,733,1, 7, 7,2,20110706,1113,51.0688,-34.8945,4168,2700.0, 2.9745,34.9213,2,   -999,9,276.6,2, -999,9,2.368,2,1.191,2
  06MT20110624,   A02,733,1, 8, 8,2,20110706,1113,51.0688,-34.8945,4168,2492.4, 3.0688,34.9182,2,   -999,9,276.9,2, -999,9,2.381,2,1.226,2
  06MT20110624,   A02,733,1, 9, 9,2,20110706,1113,51.0688,-34.8945,4168,2298.2, 3.1822,34.9196,2,   -999,9,277.3,2, -999,9,2.565,2,1.330,2
  06MT20110624,   A02,733,1,10,10,2,20110706,1113,51.0688,-34.8945,4168,2090.9, 3.3010,34.9155,2,   -999,9,277.4,2,277.4,2,2.677,2,1.380,2
  06MT20110624,   A02,733,1,11,11,2,20110706,1113,51.0688,-34.8945,4168,1896.0, 3.4177,34.9159,2,   -999,9,276.0,2, -999,9,2.777,2,1.444,2
  06MT20110624,   A02,733,1,12,12,2,20110706,1113,51.0688,-34.8945,4168,1683.6, 3.5762,34.9193,2,   -999,9,274.5,2, -999,9,2.917,2,1.517,2
  06MT20110624,   A02,733,1,13,13,2,20110706,1113,51.0688,-34.8945,4168,1493.7, 3.6914,34.9167,2,   -999,9,275.0,2,273.9,2,3.191,2,1.683,2
  06MT20110624,   A02,733,1,14,14,2,20110706,1113,51.0688,-34.8945,4168,1283.8, 3.7480,34.9061,2,   -999,9,278.4,2, -999,9,3.525,2,1.888,2
  06MT20110624,   A02,733,1,15,15,2,20110706,1113,51.0688,-34.8945,4168,1072.5, 3.8628,34.9044,2,   -999,9,279.0,2, -999,9,3.682,2,1.999,2
  06MT20110624,   A02,733,1,16,16,2,20110706,1113,51.0688,-34.8945,4168, 899.1, 4.0427,34.9122,2,   -999,9,277.1,2,277.4,2,3.736,6,2.046,6
  06MT20110624,   A02,733,1,17,17,2,20110706,1113,51.0688,-34.8945,4168, 781.1, 4.2039,34.9227,2,   -999,9,273.7,2, -999,9,3.686,2,2.024,2
  06MT20110624,   A02,733,1,18,18,2,20110706,1113,51.0688,-34.8945,4168, 685.2, 4.3849,34.9336,2,34.9319,2,268.3,2, -999,9,3.617,2,2.000,2
  06MT20110624,   A02,733,1,19,19,2,20110706,1113,51.0688,-34.8945,4168, 593.1, 4.5575,34.9355,2,   -999,9,262.8,2, -999,9,3.513,2,1.938,2
  06MT20110624,   A02,733,1,20,20,2,20110706,1113,51.0688,-34.8945,4168, 384.2, 5.2772,34.9203,2,   -999,9,233.4,2, -999,9,3.095,2,1.724,2
  06MT20110624,   A02,733,1,21,21,2,20110706,1113,51.0688,-34.8945,4168, 196.3, 7.0457,34.8529,2,   -999,9,228.3,2, -999,9,3.054,2,1.736,2
  06MT20110624,   A02,733,1,22,22,2,20110706,1113,51.0688,-34.8945,4168,  11.3,11.7346,34.9953,2,   -999,9,277.7,2,277.0,6,3.156,2,1.889,2
  06MT20110624,   A02,735,1, 1, 1,2,20110706,2130,50.5612,-34.4203,4158,4225.6, 2.3749,34.8995,2,34.9014,2,280.3,2,281.5,2,2.307,2,1.193,2
  06MT20110624,   A02,735,1, 2, 2,2,20110706,2130,50.5612,-34.4203,4158,4097.7, 2.4112,34.9024,2,   -999,9,279.4,2, -999,9,2.260,2,1.165,2
  06MT20110624,   A02,735,1, 3, 3,2,20110706,2130,50.5612,-34.4203,4158,3800.1, 2.4867,34.9092,2,   -999,9,278.2,2, -999,9,2.212,2,1.141,2
  06MT20110624,   A02,735,1, 4, 4,2,20110706,2130,50.5612,-34.4203,4158,3498.8, 2.6185,34.9172,2,   -999,9,276.8,2, -999,9,2.147,2,1.107,2
  06MT20110624,   A02,735,1, 5, 5,2,20110706,2130,50.5612,-34.4203,4158,3193.5, 2.8209,34.9361,2,   -999,9,275.4,2, -999,9,2.292,2,1.189,2
  06MT20110624,   A02,735,1, 6, 6,2,20110706,2130,50.5612,-34.4203,4158,2898.5, 2.9272,34.9320,2,   -999,9,276.4,2,276.4,2,2.322,2,1.214,2
  06MT20110624,   A02,735,1, 7, 7,2,20110706,2130,50.5612,-34.4203,4158,2598.2, 3.0478,34.9238,2,   -999,9,276.9,2, -999,9,2.412,6,1.252,6
  06MT20110624,   A02,735,1, 8, 8,2,20110706,2130,50.5612,-34.4203,4158,2290.2, 3.1889,34.9142,2,34.9140,2,277.5,2, -999,9,2.526,2,1.298,2
  06MT20110624,   A02,735,1, 9, 9,2,20110706,2130,50.5612,-34.4203,4158,2100.4, 3.3125,34.9147,2,   -999,9,277.0,2,276.5,2,2.692,2,1.392,2
  06MT20110624,   A02,735,1,10,10,2,20110706,2130,50.5612,-34.4203,4158,1894.9, 3.4380,34.9146,2,   -999,9,275.6,2, -999,9,2.730,2,1.389,2
  06MT20110624,   A02,735,1,11,11,2,20110706,2130,50.5612,-34.4203,4158,1699.3, 3.5742,34.9189,2,   -999,9,274.6,2, -999,9,2.857,2,1.454,2
  06MT20110624,   A02,735,1,12,12,2,20110706,2130,50.5612,-34.4203,4158,1499.2, 3.6992,34.9187,2,   -999,9,274.1,2, -999,9,3.069,2,1.617,2
  06MT20110624,   A02,735,1,13,13,2,20110706,2130,50.5612,-34.4203,4158,1304.6, 3.7988,34.9156,2,   -999,9,274.9,2,275.5,2,3.314,2,1.776,2
  06MT20110624,   A02,735,1,14,14,2,20110706,2130,50.5612,-34.4203,4158,1109.4, 3.9383,34.9158,2,   -999,9,275.2,2, -999,9,3.538,2,1.914,2
  06MT20110624,   A02,735,1,15,15,2,20110706,2130,50.5612,-34.4203,4158,1005.3, 4.0541,34.9214,2,   -999,9,274.1,2, -999,9,3.571,2,1.941,2
  06MT20110624,   A02,735,1,16,16,2,20110706,2130,50.5612,-34.4203,4158, 916.2, 4.1632,34.9265,2,   -999,9,271.8,2, -999,9,3.559,2,1.950,2
  06MT20110624,   A02,735,1,17,17,2,20110706,2130,50.5612,-34.4203,4158, 823.6, 4.3004,34.9337,2,   -999,9,269.1,2, -999,9,3.541,2,1.960,2
  06MT20110624,   A02,735,1,18,18,2,20110706,2130,50.5612,-34.4203,4158, 695.6, 4.5112,34.9458,2,   -999,9,263.8,2, -999,9,3.477,2,1.923,2
  06MT20110624,   A02,735,1,19,19,2,20110706,2130,50.5612,-34.4203,4158, 594.8, 4.7629,34.9540,2,34.9502,2,256.6,2, -999,9,3.431,2,1.840,2
  06MT20110624,   A02,735,1,20,20,2,20110706,2130,50.5612,-34.4203,4158, 452.5, 5.4103,34.9523,2,   -999,9,232.2,2, -999,9,3.045,2,1.628,2
  06MT20110624,   A02,735,1,21,21,2,20110706,2130,50.5612,-34.4203,4158, 296.6, 6.6269,34.8882,2,   -999,9,217.7,2,214.5,2,2.787,2,1.516,2
  06MT20110624,   A02,735,1,22,22,2,20110706,2130,50.5612,-34.4203,4158,  13.5,11.8404,34.9944,2,   -999,9,276.0,2,276.6,6,3.203,2,1.859,2
  06MT20110624,   A02,736,1, 1, 1,2,20110707,0325,50.1720,-33.9708,3712,3771.2, 2.3877,34.9025,2,34.9034,2,279.5,2,279.3,2,2.258,6,1.127,6
  06MT20110624,   A02,736,1, 2, 2,2,20110707,0325,50.1720,-33.9708,3712,3771.1, 2.3835,34.9023,2,   -999,9,279.8,2, -999,9,2.260,6,1.130,6
  06MT20110624,   A02,736,1, 3, 3,2,20110707,0325,50.1720,-33.9708,3712,3699.7, 2.4153,34.9039,2,   -999,9,279.0,2, -999,9,2.223,2,1.108,2
  06MT20110624,   A02,736,1, 4, 4,2,20110707,0325,50.1720,-33.9708,3712,3399.7, 2.5750,34.9145,2,   -999,9,277.1,2, -999,9,2.163,2,1.077,2
  06MT20110624,   A02,736,1, 5, 5,2,20110707,0325,50.1720,-33.9708,3712,3101.7, 2.7500,34.9258,2,   -999,9,276.1,2, -999,9,2.231,2,1.118,2
  06MT20110624,   A02,736,1, 6, 6,2,20110707,0325,50.1720,-33.9708,3712,2797.3, 2.9257,34.9237,2,   -999,9,275.7,2, -999,9,2.308,2,1.165,2
  06MT20110624,   A02,736,1, 7, 7,2,20110707,0325,50.1720,-33.9708,3712,2494.1, 3.0872,34.9172,2,34.9183,2,277.0,2, -999,9,2.463,2,1.235,2
  06MT20110624,   A02,736,1, 8, 8,2,20110707,0325,50.1720,-33.9708,3712,2199.0, 3.2552,34.9128,2,   -999,9,276.9,2,277.2,6,2.654,2,1.329,2
  06MT20110624,   A02,736,1, 9, 9,2,20110707,0325,50.1720,-33.9708,3712,1985.9, 3.3974,34.9153,2,   -999,9,275.8,2,277.7,2, -999,9, -999,9
  06MT20110624,   A02,736,1,10,10,2,20110707,0325,50.1720,-33.9708,3712,1799.5, 3.5157,34.9186,2,   -999,9,274.8,2,275.1,2,2.878,2,1.460,2
  06MT20110624,   A02,736,1,11,11,2,20110707,0325,50.1720,-33.9708,3712,1588.7, 3.6779,34.9201,2,   -999,9,274.1,2,274.8,2,3.135,2,1.625,2
  06MT20110624,   A02,736,1,12,12,2,20110707,0325,50.1720,-33.9708,3712,1398.5, 3.7787,34.9149,2,   -999,9,275.2,2,275.1,2, -999,9, -999,9
  06MT20110624,   A02,736,1,13,13,2,20110707,0325,50.1720,-33.9708,3712,1174.1, 3.9223,34.9164,2,   -999,9,275.8,2,276.2,2,3.611,2,1.902,2
  06MT20110624,   A02,736,1,14,14,2,20110707,0325,50.1720,-33.9708,3712,1077.5, 3.9901,34.9177,2,   -999,9,275.3,2,275.6,2,3.684,2,1.981,2
  06MT20110624,   A02,736,1,15,15,2,20110707,0325,50.1720,-33.9708,3712, 999.7, 4.0629,34.9190,2,   -999,9,275.7,2,275.9,2,3.772,2,2.034,2
  06MT20110624,   A02,736,1,16,16,2,20110707,0325,50.1720,-33.9708,3712, 881.6, 4.1672,34.9237,2,   -999,9,274.5,2,274.9,2, -999,9, -999,9
  06MT20110624,   A02,736,1,17,17,2,20110707,0325,50.1720,-33.9708,3712, 788.7, 4.2649,34.9207,2,   -999,9,274.0,2,274.0,2,3.822,2,2.063,2
  06MT20110624,   A02,736,1,18,18,2,20110707,0325,50.1720,-33.9708,3712, 705.7, 4.4444,34.9242,2,   -999,9,267.6,2,267.7,2,4.020,2,2.130,2
  06MT20110624,   A02,736,1,19,19,2,20110707,0325,50.1720,-33.9708,3712, 559.4, 5.4140,34.9975,2,35.0102,3,243.1,2,238.4,6,2.979,6,1.622,6
  06MT20110624,   A02,736,1,20,20,2,20110707,0325,50.1720,-33.9708,3712, 405.5, 6.1268,34.9476,2,   -999,9,213.7,2, -999,9, -999,9, -999,9
  06MT20110624,   A02,736,1,21,21,2,20110707,0325,50.1720,-33.9708,3712, 255.3, 7.5630,34.9089,2,   -999,9,229.0,2, -999,9, -999,9, -999,9
  06MT20110624,   A02,736,1,22,22,2,20110707,0325,50.1720,-33.9708,3712,  14.1,11.9285,34.9508,2,   -999,9,277.6,2, -999,9, -999,9, -999,9