BOTTLE,20231122CCHSIOVAJ
EXPOCODE,SECT_ID,STNNBR,CASTNO,SAMPNO,BTLNBR,BTLNBR_FLAG_W,DATE,TIME,LATITUDE,LONGITUDE,DEPTH,CTDPRS,CTDTMP,CTDSAL,CTDSAL_FLAG_W,SALNTY,SALNTY_FLAG_W,CTDOXY,CTDOXY_FLAG_W,OXYGEN,OXYGEN_FLAG_W,CFC-11,CFC-11_FLAG_W,CFC-12,CFC-12_FLAG_W
,,,,,,,,,,,METERS,DBAR,ITS-90,PSS-78,,PSS-78,,UMOL/KG,,UMOL/KG,,PMOL/KG,,PMOL/KG,
  06MT20110624,   A02,714,1, 1, 1,2,20110701,1111,47.6632,-31.1417,4090,4147.2, 2.4260,34.9010,2,34.9010,2,279.3,2,279.5,2,2.123,2,1.072,2
  06MT20110624,   A02,714,1, 2, 2,2,20110701,1111,47.6632,-31.1417,4090,4049.0, 2.4321,34.9022,2,   -999,9,278.5,2, -999,9,2.091,2,1.063,2
  06MT20110624,   A02,714,1, 3, 3,2,20110701,1111,47.6632,-31.1417,4090,3898.3, 2.4312,34.9024,2,   -999,9,278.2,2, -999,9,2.085,2,1.056,2
  06MT20110624,   A02,714,1, 4, 4,2,20110701,1111,47.6632,-31.1417,4090,3699.7, 2.4539,34.9046,2,   -999,9,278.5,2, -999,9,2.080,2,1.050,2
  06MT20110624,   A02,714,1, 5, 5,2,20110701,1111,47.6632,-31.1417,4090,3498.4, 2.5255,34.9086,2,   -999,9,277.9,2, -999,9,2.040,2,1.033,2
  06MT20110624,   A02,714,1, 6, 6,2,20110701,1111,47.6632,-31.1417,4090,3298.0, 2.6381,34.9138,2,   -999,9,277.6,2,277.0,2,2.086,2,1.060,2
  06MT20110624,   A02,714,1, 7, 7,2,20110701,1111,47.6632,-31.1417,4090,3099.8, 2.7473,34.9178,2,   -999,9,277.4,2, -999,9,2.126,2,1.062,2
  06MT20110624,   A02,714,1, 8, 8,2,20110701,1111,47.6632,-31.1417,4090,2897.5, 2.8662,34.9201,2,   -999,9,277.2,2, -999,9,2.207,2,1.106,2
  06MT20110624,   A02,714,1, 9, 9,2,20110701,1111,47.6632,-31.1417,4090,2698.7, 3.0168,34.9183,2,   -999,9,276.5,2, -999,9,2.276,2,1.143,2
  06MT20110624,   A02,714,1,10,10,2,20110701,1111,47.6632,-31.1417,4090,2506.2, 3.1412,34.9149,2,34.9166,2,277.0,2, -999,9,2.399,2,1.194,2
  06MT20110624,   A02,714,1,11,11,2,20110701,1111,47.6632,-31.1417,4090,2303.7, 3.2530,34.9121,2,   -999,9,277.1,2,276.8,2,2.550,2,1.273,2
  06MT20110624,   A02,714,1,12,12,2,20110701,1111,47.6632,-31.1417,4090,2096.8, 3.3710,34.9105,2,   -999,9,277.1,2, -999,9,2.670,2,1.324,2
  06MT20110624,   A02,714,1,13,13,2,20110701,1111,47.6632,-31.1417,4090,1914.9, 3.5118,34.9137,2,   -999,9,275.7,2, -999,9,2.810,6,1.396,6
  06MT20110624,   A02,714,1,14,14,2,20110701,1111,47.6632,-31.1417,4090,1706.3, 3.6761,34.9165,2,   -999,9,274.8,2, -999,9,3.026,2,1.522,2
  06MT20110624,   A02,714,1,15,15,2,20110701,1111,47.6632,-31.1417,4090,1492.4, 3.8379,34.9216,2,   -999,9,273.8,2,273.0,2,3.241,2,1.666,2
  06MT20110624,   A02,714,1,16,16,2,20110701,1111,47.6632,-31.1417,4090,1297.8, 4.0744,34.9365,2,   -999,9,270.5,2, -999,9,3.359,2,1.748,2
  06MT20110624,   A02,714,1,17,17,2,20110701,1111,47.6632,-31.1417,4090,1084.6, 4.3667,34.9498,2,   -999,9,266.4,2, -999,9,3.473,2,1.844,2
  06MT20110624,   A02,714,1,18,18,2,20110701,1111,47.6632,-31.1417,4090, 898.6, 4.8802,34.9873,2,   -999,9,254.9,2, -999,9,3.215,2,1.725,2
  06MT20110624,   A02,714,1,19,19,2,20110701,1111,47.6632,-31.1417,4090, 696.6, 6.1355,35.0412,2,35.0325,3,220.2,2, -999,9,2.675,2,1.437,2
  06MT20110624,   A02,714,1,20,20,2,20110701,1111,47.6632,-31.1417,4090, 504.4, 7.9080,35.0505,2,   -999,9,188.8,2,203.1,6,2.302,2,1.259,2
  06MT20110624,   A02,714,1,21,21,2,20110701,1111,47.6632,-31.1417,4090, 307.0,11.1635,35.4472,2,   -999,9,249.1,2, -999,9,2.876,2,1.695,2
  06MT20110624,   A02,714,1,22,22,2,20110701,1111,47.6632,-31.1417,4090,  12.8,14.6375,35.5664,2,35.5665,2,262.8,2,262.3,2,2.737,2,1.641,2
  06MT20110624,   A02,717,1, 1, 1,2,20110702,1146,49.5777,-33.2583,4111,4160.1, 2.3107,34.8970,2,34.8965,2,281.5,2, -999,9, -999,9, -999,9
  06MT20110624,   A02,717,1, 2, 2,2,20110702,1146,49.5777,-33.2583,4111,4159.7, 2.3106,34.8968,2,   -999,9,280.8,2,281.2,2, -999,9, -999,9
  06MT20110624,   A02,717,1, 3, 3,2,20110702,1146,49.5777,-33.2583,4111,4159.4, 2.3104,34.8969,2,   -999,9,281.2,2,280.3,2, -999,9, -999,9
  06MT20110624,   A02,717,1, 4, 4,2,20110702,1146,49.5777,-33.2583,4111,3499.9, 2.4243,34.9050,2,34.9046,2,279.3,2, -999,9, -999,9, -999,9
  06MT20110624,   A02,717,1, 5, 5,2,20110702,1146,49.5777,-33.2583,4111,3498.1, 2.4244,34.9049,2,   -999,9,279.3,2,279.5,2, -999,9, -999,9
  06MT20110624,   A02,717,1, 6, 6,2,20110702,1146,49.5777,-33.2583,4111,3495.9, 2.4262,34.9049,2,   -999,9,279.1,2,278.6,2, -999,9, -999,9
  06MT20110624,   A02,717,1, 7, 7,2,20110702,1146,49.5777,-33.2583,4111,3000.7, 2.7642,34.9202,2,34.9187,2,277.7,2, -999,9, -999,9, -999,9
  06MT20110624,   A02,717,1, 8, 8,2,20110702,1146,49.5777,-33.2583,4111,2998.9, 2.7675,34.9199,2,   -999,9,278.2,2,278.6,2, -999,9, -999,9
  06MT20110624,   A02,717,1, 9, 9,2,20110702,1146,49.5777,-33.2583,4111,2996.9, 2.7688,34.9200,2,   -999,9,277.9,2,278.2,2, -999,9, -999,9
  06MT20110624,   A02,717,1,10,10,2,20110702,1146,49.5777,-33.2583,4111,2498.4, 3.0597,34.9163,2,   -999,9,278.2,2,277.9,2, -999,9, -999,9
  06MT20110624,   A02,717,1,11,11,2,20110702,1146,49.5777,-33.2583,4111,2496.7, 3.0607,34.9161,2,   -999,9,278.0,2,277.6,2, -999,9, -999,9
  06MT20110624,   A02,717,1,12,12,2,20110702,1146,49.5777,-33.2583,4111,1998.6, 3.3361,34.9142,2,   -999,9,277.4,2,277.0,2, -999,9, -999,9
  06MT20110624,   A02,717,1,13,13,2,20110702,1146,49.5777,-33.2583,4111,1996.2, 3.3372,34.9142,2,   -999,9,277.0,2,277.2,2, -999,9, -999,9
  06MT20110624,   A02,717,1,14,14,2,20110702,1146,49.5777,-33.2583,4111,1993.3, 3.3399,34.9139,2,34.9134,2,277.2,2, -999,9, -999,9, -999,9
  06MT20110624,   A02,717,1,15,15,2,20110702,1146,49.5777,-33.2583,4111,1499.3, 3.6593,34.9191,2,   -999,9,275.1,2,274.6,2, -999,9, -999,9
  06MT20110624,   A02,717,1,16,16,2,20110702,1146,49.5777,-33.2583,4111,1497.5, 3.6603,34.9188,2,   -999,9,275.2,2,274.5,2, -999,9, -999,9
  06MT20110624,   A02,717,1,17,17,2,20110702,1146,49.5777,-33.2583,4111,1495.2, 3.6620,34.9191,2,34.9193,2,275.0,2, -999,9, -999,9, -999,9
  06MT20110624,   A02,717,1,18,18,2,20110702,1146,49.5777,-33.2583,4111, 507.4, 4.8354,34.9379,2,   -999,9,252.8,2,253.4,2, -999,9, -999,9
  06MT20110624,   A02,717,1,19,19,2,20110702,1146,49.5777,-33.2583,4111, 506.0, 4.8507,34.9405,2,   -999,9,252.2,2,252.5,2, -999,9, -999,9
  06MT20110624,   A02,717,1,20,20,2,20110702,1146,49.5777,-33.2583,4111,  13.8,11.6507,34.9076,2,   -999,9,279.2,2,277.9,2, -999,9, -999,9
  06MT20110624,   A02,717,1,21,21,2,20110702,1146,49.5777,-33.2583,4111,  13.8,11.6527,34.9079,2,34.9095,2,279.4,2, -999,9, -999,9, -999,9
  06MT20110624,   A02,717,1,22,22,2,20110702,1146,49.5777,-33.2583,4111,  13.7,11.6476,34.9077,2,   -999,9,279.7,2,277.6,2, -999,9, -999,9
  06MT20110624,   A02,719,1, 1, 1,2,20110703,0127,50.3598,-34.2172,3767,3817.2, 2.3792,34.9013,2,34.9010,2,279.5,2, -999,9, -999,9, -999,9
  06MT20110624,   A02,719,1, 2, 2,2,20110703,0127,50.3598,-34.2172,3767,3498.5, 2.5119,34.9095,2,   -999,9,278.2,2, -999,9, -999,9, -999,9
  06MT20110624,   A02,719,1, 3, 3,2,20110703,0127,50.3598,-34.2172,3767,3497.0, 2.5127,34.9093,2,   -999,9,277.9,2, -999,9, -999,9, -999,9
  06MT20110624,   A02,719,1, 4, 4,2,20110703,0127,50.3598,-34.2172,3767,2990.5, 2.8104,34.9258,2,   -999,9,276.6,2, -999,9, -999,9, -999,9
  06MT20110624,   A02,719,1, 5, 5,2,20110703,0127,50.3598,-34.2172,3767,2990.0, 2.8105,34.9263,2,   -999,9,277.0,2, -999,9, -999,9, -999,9
  06MT20110624,   A02,719,1, 6, 6,2,20110703,0127,50.3598,-34.2172,3767,2499.8, 3.0840,34.9153,2,   -999,9,278.0,2, -999,9, -999,9, -999,9
  06MT20110624,   A02,719,1, 7, 7,2,20110703,0127,50.3598,-34.2172,3767,2497.7, 3.0836,34.9159,2,   -999,9,278.2,2, -999,9, -999,9, -999,9
  06MT20110624,   A02,719,1, 8, 8,2,20110703,0127,50.3598,-34.2172,3767,1986.7, 3.3648,34.9124,2,   -999,9,276.9,2, -999,9, -999,9, -999,9
  06MT20110624,   A02,719,1, 9, 9,2,20110703,0127,50.3598,-34.2172,3767,1986.4, 3.3652,34.9128,2,   -999,9,277.0,2, -999,9, -999,9, -999,9
  06MT20110624,   A02,719,1,10,10,2,20110703,0127,50.3598,-34.2172,3767,1794.5, 3.4985,34.9162,2,   -999,9,275.8,2, -999,9, -999,9, -999,9
  06MT20110624,   A02,719,1,11,11,2,20110703,0127,50.3598,-34.2172,3767,1795.2, 3.4975,34.9167,2,   -999,9,275.9,2, -999,9, -999,9, -999,9
  06MT20110624,   A02,719,1,12,12,2,20110703,0127,50.3598,-34.2172,3767,1596.5, 3.6467,34.9193,2,   -999,9,274.8,2, -999,9, -999,9, -999,9
  06MT20110624,   A02,719,1,13,13,2,20110703,0127,50.3598,-34.2172,3767,1595.3, 3.6481,34.9196,2,   -999,9,274.6,2, -999,9, -999,9, -999,9
  06MT20110624,   A02,719,1,14,14,2,20110703,0127,50.3598,-34.2172,3767,1399.0, 3.7537,34.9165,2,   -999,9,275.9,2, -999,9, -999,9, -999,9
  06MT20110624,   A02,719,1,15,15,2,20110703,0127,50.3598,-34.2172,3767,1197.0, 3.8558,34.9107,2,   -999,9,277.2,2, -999,9, -999,9, -999,9
  06MT20110624,   A02,719,1,16,16,2,20110703,0127,50.3598,-34.2172,3767,1006.1, 4.0886,34.9248,2,   -999,9,274.8,2, -999,9, -999,9, -999,9
  06MT20110624,   A02,719,1,17,17,2,20110703,0127,50.3598,-34.2172,3767, 799.6, 4.3316,34.9298,2,   -999,9,271.6,2, -999,9, -999,9, -999,9
  06MT20110624,   A02,719,1,18,18,2,20110703,0127,50.3598,-34.2172,3767, 599.1, 4.8430,34.9539,2,   -999,9,253.4,2, -999,9, -999,9, -999,9
  06MT20110624,   A02,719,1,19,19,2,20110703,0127,50.3598,-34.2172,3767, 382.8, 5.7872,34.9224,2,   -999,9,220.2,2, -999,9, -999,9, -999,9
  06MT20110624,   A02,719,1,20,20,2,20110703,0127,50.3598,-34.2172,3767, 190.5, 8.0271,34.9552,2,   -999,9,234.6,2, -999,9, -999,9, -999,9
  06MT20110624,   A02,719,1,21,21,2,20110703,0127,50.3598,-34.2172,3767,  99.2, 9.2174,35.0637,2,35.0624,2,267.9,2, -999,9, -999,9, -999,9
  06MT20110624,   A02,719,1,22,22,2,20110703,0127,50.3598,-34.2172,3767,  11.2,11.7115,35.0238,2,   -999,9,279.4,2, -999,9, -999,9, -999,9
  06MT20110624,   A02,722,1, 1, 1,2,20110703,1745,49.9353,-33.8488,4137,4214.9, 2.3484,34.8985,2,34.8991,2,281.1,2,280.9,6, -999,9, -999,9
  06MT20110624,   A02,722,1, 2, 2,2,20110703,1745,49.9353,-33.8488,4137,4215.2, 2.3484,34.8987,2,   -999,9,280.9,2,257.5,4, -999,9, -999,9
  06MT20110624,   A02,722,1, 3, 3,2,20110703,1745,49.9353,-33.8488,4137,4215.2, 2.3484,34.8987,2,   -999,9,280.9,2,280.6,2, -999,9, -999,9
  06MT20110624,   A02,722,1, 4, 4,2,20110703,1745,49.9353,-33.8488,4137,4215.5, 2.3484,34.8985,2,   -999,9,280.8,2,280.5,2, -999,9, -999,9
  06MT20110624,   A02,722,1, 5, 5,2,20110703,1745,49.9353,-33.8488,4137,4215.7, 2.3484,34.8989,2,   -999,9,280.8,2,280.7,2, -999,9, -999,9
  06MT20110624,   A02,722,1, 6, 6,2,20110703,1745,49.9353,-33.8488,4137,3499.6, 2.4603,34.9070,2,   -999,9,278.5,2,278.5,2, -999,9, -999,9
  06MT20110624,   A02,722,1, 7, 7,2,20110703,1745,49.9353,-33.8488,4137,3497.8, 2.4601,34.9073,2,   -999,9,278.8,2,278.0,2, -999,9, -999,9
  06MT20110624,   A02,722,1, 8, 8,2,20110703,1745,49.9353,-33.8488,4137,3496.4, 2.4610,34.9071,2,   -999,9,278.5,2,278.5,2, -999,9, -999,9
  06MT20110624,   A02,722,1, 9, 9,2,20110703,1745,49.9353,-33.8488,4137,3495.8, 2.4621,34.9069,2,   -999,9,278.3,2,279.0,2, -999,9, -999,9
  06MT20110624,   A02,722,1,10,10,2,20110703,1745,49.9353,-33.8488,4137,3008.5, 2.7754,34.9198,2,   -999,9,276.9,2, -999,9, -999,9, -999,9
  06MT20110624,   A02,722,1,11,11,2,20110703,1745,49.9353,-33.8488,4137,3008.4, 2.7759,34.9201,2,   -999,9,277.1,2, -999,9, -999,9, -999,9
  06MT20110624,   A02,722,1,12,12,2,20110703,1745,49.9353,-33.8488,4137,2507.5, 3.0862,34.9161,2,   -999,9,278.1,2, -999,9, -999,9, -999,9
  06MT20110624,   A02,722,1,13,13,2,20110703,1745,49.9353,-33.8488,4137,2502.8, 3.0873,34.9166,2,   -999,9,278.0,2, -999,9, -999,9, -999,9
  06MT20110624,   A02,722,1,14,14,2,20110703,1745,49.9353,-33.8488,4137,2005.8, 3.4074,34.9147,2,34.9150,2,276.6,2, -999,9, -999,9, -999,9
  06MT20110624,   A02,722,1,15,15,2,20110703,1745,49.9353,-33.8488,4137,2005.1, 3.4085,34.9152,2,   -999,9,276.5,2, -999,9, -999,9, -999,9
  06MT20110624,   A02,722,1,16,16,2,20110703,1745,49.9353,-33.8488,4137,1006.0, 4.1185,34.9224,2,   -999,9,275.7,2, -999,9, -999,9, -999,9
  06MT20110624,   A02,722,1,17,17,2,20110703,1745,49.9353,-33.8488,4137,1004.9, 4.1212,34.9220,2,   -999,9,275.4,2, -999,9, -999,9, -999,9
  06MT20110624,   A02,722,1,18,18,2,20110703,1745,49.9353,-33.8488,4137, 512.7, 5.5424,34.9447,2,   -999,9,229.8,2, -999,9, -999,9, -999,9
  06MT20110624,   A02,722,1,19,19,2,20110703,1745,49.9353,-33.8488,4137, 512.4, 5.5607,34.9461,2,34.9433,2,229.6,2, -999,9, -999,9, -999,9
  06MT20110624,   A02,722,1,20,20,2,20110703,1745,49.9353,-33.8488,4137,  13.5,12.1699,35.1400,2,   -999,9,276.8,2,275.4,2, -999,9, -999,9
  06MT20110624,   A02,722,1,21,21,2,20110703,1745,49.9353,-33.8488,4137,  13.7,12.1692,35.1407,2,   -999,9,277.0,2,275.8,2, -999,9, -999,9
  06MT20110624,   A02,722,1,22,22,2,20110703,1745,49.9353,-33.8488,4137,  13.6,12.1711,35.1412,2,   -999,9,276.9,2,275.7,2, -999,9, -999,9
  06MT20110624,   A02,724,1, 1, 1,2,20110704,2200,52.5018,-36.8678,3384,3435.1, 2.5714,34.9204,2,34.9235,2,277.6,2,277.2,2,2.333,6,1.184,6
  06MT20110624,   A02,724,1, 2, 2,2,20110704,2200,52.5018,-36.8678,3384,3095.7, 2.8113,34.9446,2,   -999,9,274.6,2, -999,9,2.358,2,1.201,2
  06MT20110624,   A02,724,1, 3, 3,2,20110704,2200,52.5018,-36.8678,3384,2899.3, 2.8909,34.9544,2,   -999,9,274.2,2, -999,9,2.474,2,1.276,2
  06MT20110624,   A02,724,1, 4, 4,2,20110704,2200,52.5018,-36.8678,3384,2695.4, 2.9312,34.9546,2,   -999,9,274.7,2,275.4,2,2.500,2,1.283,2
  06MT20110624,   A02,724,1, 5, 5,2,20110704,2200,52.5018,-36.8678,3384,2498.1, 3.0092,34.9521,2,   -999,9,276.3,2, -999,9,2.560,2,1.311,2
  06MT20110624,   A02,724,1, 6, 6,2,20110704,2200,52.5018,-36.8678,3384,2287.3, 3.0772,34.9496,2,   -999,9,276.7,2, -999,9,2.593,2,1.324,2
  06MT20110624,   A02,724,1, 7, 7,2,20110704,2200,52.5018,-36.8678,3384,2098.1, 3.2489,34.9595,2,   -999,9,276.2,2, -999,9,2.774,2,1.423,2
  06MT20110624,   A02,724,1, 8, 8,2,20110704,2200,52.5018,-36.8678,3384,1898.6, 3.2838,34.9423,2,   -999,9,276.6,2, -999,9,2.809,2,1.438,2
  06MT20110624,   A02,724,1, 9, 9,2,20110704,2200,52.5018,-36.8678,3384,1699.3, 3.3618,34.9289,2,   -999,9,276.5,2,277.3,2,2.858,2,1.456,2
  06MT20110624,   A02,724,1,10,10,2,20110704,2200,52.5018,-36.8678,3384,1511.6, 3.4840,34.9236,2,34.9250,2,276.0,2, -999,9,2.981,2,1.519,2
  06MT20110624,   A02,724,1,11,11,2,20110704,2200,52.5018,-36.8678,3384,1302.8, 3.6213,34.9177,2,   -999,9,275.3,2, -999,9,3.180,2,1.649,2
  06MT20110624,   A02,724,1,12,12,2,20110704,2200,52.5018,-36.8678,3384,1098.8, 3.6952,34.9041,2,   -999,9,278.8,2, -999,9,3.577,2,1.880,2
  06MT20110624,   A02,724,1,13,13,2,20110704,2200,52.5018,-36.8678,3384, 897.4, 3.7544,34.8914,2,   -999,9,282.6,2, -999,9, -999,9, -999,9
  06MT20110624,   A02,724,1,14,14,2,20110704,2200,52.5018,-36.8678,3384, 782.8, 3.8290,34.8900,2,   -999,9,284.6,2, -999,9,3.927,2,2.132,2
  06MT20110624,   A02,724,1,15,15,2,20110704,2200,52.5018,-36.8678,3384, 701.7, 3.9152,34.8953,2,   -999,9,283.4,2,283.0,6,4.014,2,2.181,2
  06MT20110624,   A02,724,1,16,16,2,20110704,2200,52.5018,-36.8678,3384, 619.5, 4.0480,34.9008,2,   -999,9,280.3,2, -999,9,3.988,2,2.169,2
  06MT20110624,   A02,724,1,17,17,2,20110704,2200,52.5018,-36.8678,3384, 514.0, 4.2482,34.9109,2,   -999,9,275.5,2, -999,9,3.889,2,2.149,2
  06MT20110624,   A02,724,1,18,18,2,20110704,2200,52.5018,-36.8678,3384, 407.9, 4.5026,34.9160,2,   -999,9,265.2,2, -999,9,3.712,2,2.050,2
  06MT20110624,   A02,724,1,19,19,2,20110704,2200,52.5018,-36.8678,3384, 300.2, 4.9158,34.9127,2,   -999,9,253.5,2, -999,9,3.568,2,1.949,2
  06MT20110624,   A02,724,1,20,20,2,20110704,2200,52.5018,-36.8678,3384, 200.0, 5.4985,34.8312,2,   -999,9,250.4,2, -999,9,3.260,3,1.606,3
  06MT20110624,   A02,724,1,21,21,2,20110704,2200,52.5018,-36.8678,3384,  99.3, 6.1187,34.6943,2,34.6993,2,291.5,2, -999,9,4.066,2,2.277,2
  06MT20110624,   A02,724,1,22,22,2,20110704,2200,52.5018,-36.8678,3384,  13.0,10.1033,34.6915,2,   -999,9,291.0,2,289.8,2,3.455,2,1.940,2
  06MT20110624,   A02,725,1, 1, 1,2,20110705,0223,52.2423,-36.5018,3632,3653.8, 2.3319,34.9040,2,34.9059,2,282.6,2,281.2,2,2.585,2,1.311,2
  06MT20110624,   A02,725,1, 2, 2,2,20110705,0223,52.2423,-36.5018,3632,3599.3, 2.3579,34.9052,2,   -999,9,282.1,2, -999,9, -999,9, -999,9
  06MT20110624,   A02,725,1, 3, 3,2,20110705,0223,52.2423,-36.5018,3632,3398.8, 2.5034,34.9159,2,   -999,9,278.5,2, -999,9, -999,9, -999,9
  06MT20110624,   A02,725,1, 4, 4,2,20110705,0223,52.2423,-36.5018,3632,3198.9, 2.6105,34.9253,2,   -999,9,276.4,2,276.6,2,2.265,2,1.137,2
  06MT20110624,   A02,725,1, 5, 5,2,20110705,0223,52.2423,-36.5018,3632,2998.6, 2.7959,34.9466,2,34.9481,2,273.7,2, -999,9,2.378,2,1.212,2
  06MT20110624,   A02,725,1, 6, 6,2,20110705,0223,52.2423,-36.5018,3632,2798.7, 2.8135,34.9374,2,   -999,9,275.8,2, -999,9,2.355,2,1.190,2
  06MT20110624,   A02,725,1, 7, 7,2,20110705,0223,52.2423,-36.5018,3632,2611.3, 2.8722,34.9358,2,   -999,9,276.4,2, -999,9,2.374,2,1.193,2
  06MT20110624,   A02,725,1, 8, 8,2,20110705,0223,52.2423,-36.5018,3632,2405.2, 3.0889,34.9520,2,   -999,9,276.3,2,275.6,2,2.678,3,1.357,3
  06MT20110624,   A02,725,1, 9, 9,2,20110705,0223,52.2423,-36.5018,3632,2198.9, 3.0347,34.9207,2,   -999,9,278.0,2, -999,9,2.543,2,1.265,2
  06MT20110624,   A02,725,1,10,10,2,20110705,0223,52.2423,-36.5018,3632,1998.4, 3.1394,34.9156,2,   -999,9,278.3,2, -999,9,2.804,2,1.462,2
  06MT20110624,   A02,725,1,11,11,2,20110705,0223,52.2423,-36.5018,3632,1793.8, 3.2729,34.9146,2,34.9185,2,277.6,2, -999,9, -999,9, -999,9
  06MT20110624,   A02,725,1,12,12,2,20110705,0223,52.2423,-36.5018,3632,1601.3, 3.4265,34.9175,2,   -999,9,275.9,2,276.0,2,3.104,2,1.629,2
  06MT20110624,   A02,725,1,13,13,2,20110705,0223,52.2423,-36.5018,3632,1398.4, 3.5950,34.9167,2,   -999,9,275.7,2, -999,9,3.199,6,1.622,6
  06MT20110624,   A02,725,1,14,14,2,20110705,0223,52.2423,-36.5018,3632,1197.7, 3.7045,34.9121,2,   -999,9,277.5,2, -999,9,3.471,2,1.803,2
  06MT20110624,   A02,725,1,15,15,2,20110705,0223,52.2423,-36.5018,3632, 998.7, 3.7487,34.8977,2,   -999,9,281.2,2, -999,9,3.818,2,2.015,2
  06MT20110624,   A02,725,1,16,16,2,20110705,0223,52.2423,-36.5018,3632, 857.5, 3.7887,34.8918,2,   -999,9,283.2,2, -999,9,3.196,3,1.683,3
  06MT20110624,   A02,725,1,17,17,2,20110705,0223,52.2423,-36.5018,3632, 723.9, 4.0071,34.9117,2,   -999,9,280.1,2, -999,9, -999,9, -999,9
  06MT20110624,   A02,725,1,18,18,2,20110705,0223,52.2423,-36.5018,3632, 548.6, 4.1592,34.9108,2,   -999,9,275.8,2, -999,9,3.944,2,2.108,2
  06MT20110624,   A02,725,1,19,19,2,20110705,0223,52.2423,-36.5018,3632, 392.5, 4.5313,34.9179,2,   -999,9,264.3,2,262.5,6,3.752,2,2.025,2
  06MT20110624,   A02,725,1,20,20,2,20110705,0223,52.2423,-36.5018,3632, 296.7, 4.9094,34.9118,2,   -999,9,255.9,2, -999,9,3.679,2,2.080,2
  06MT20110624,   A02,725,1,21,21,2,20110705,0223,52.2423,-36.5018,3632, 203.1, 5.4369,34.8567,2,   -999,9,260.9,2, -999,9, -999,9, -999,9
  06MT20110624,   A02,725,1,22,22,2,20110705,0223,52.2423,-36.5018,3632,  11.1,10.3784,34.6915,2,34.6969,2,288.5,2,286.5,2,3.430,2,2.017,2