BOTTLE,20231122CCHSIOVAJ
EXPOCODE,SECT_ID,STNNBR,CASTNO,SAMPNO,BTLNBR,BTLNBR_FLAG_W,DATE,TIME,LATITUDE,LONGITUDE,DEPTH,CTDPRS,CTDTMP,CTDSAL,CTDSAL_FLAG_W,SALNTY,SALNTY_FLAG_W,CTDOXY,CTDOXY_FLAG_W,OXYGEN,OXYGEN_FLAG_W,CFC-11,CFC-11_FLAG_W,CFC-12,CFC-12_FLAG_W
,,,,,,,,,,,METERS,DBAR,ITS-90,PSS-78,,PSS-78,,UMOL/KG,,UMOL/KG,,PMOL/KG,,PMOL/KG,
  06MT20110624,   A02,783,1, 1, 1,2,20110716,0046,47.1007,-46.5573, 506, 503.2, 4.0203,34.9008,2,34.9054,2,279.2,2,278.4,2,4.217,2,2.271,2
  06MT20110624,   A02,783,1, 2, 2,2,20110716,0046,47.1007,-46.5573, 506, 502.9, 4.0205,34.9008,2,   -999,9,279.4,2, -999,9, -999,9, -999,9
  06MT20110624,   A02,783,1, 3, 3,2,20110716,0046,47.1007,-46.5573, 506, 502.3, 4.0198,34.9017,2,   -999,9,279.0,2, -999,9, -999,9, -999,9
  06MT20110624,   A02,783,1, 4, 4,2,20110716,0046,47.1007,-46.5573, 506, 443.2, 4.0607,34.9058,2,   -999,9,283.3,2, -999,9, -999,9, -999,9
  06MT20110624,   A02,783,1, 5, 5,2,20110716,0046,47.1007,-46.5573, 506, 441.3, 4.0639,34.9051,2,   -999,9,283.5,2, -999,9, -999,9, -999,9
  06MT20110624,   A02,783,1, 6, 6,2,20110716,0046,47.1007,-46.5573, 506, 438.0, 4.0665,34.9050,2,   -999,9,283.8,2, -999,9, -999,9, -999,9
  06MT20110624,   A02,783,1, 7, 7,2,20110716,0046,47.1007,-46.5573, 506, 402.1, 4.1305,34.9098,2,   -999,9,283.0,2,282.2,2, -999,9, -999,9
  06MT20110624,   A02,783,1, 8, 8,2,20110716,0046,47.1007,-46.5573, 506, 402.2, 4.1303,34.9088,2,   -999,9,283.0,2, -999,9,4.248,2,2.290,2
  06MT20110624,   A02,783,1, 9, 9,2,20110716,0046,47.1007,-46.5573, 506, 400.2, 4.1429,34.9099,2,   -999,9,282.6,2, -999,9, -999,9, -999,9
  06MT20110624,   A02,783,1,10,10,2,20110716,0046,47.1007,-46.5573, 506, 349.5, 4.2191,34.9124,2,   -999,9,280.2,2, -999,9, -999,9, -999,9
  06MT20110624,   A02,783,1,11,11,2,20110716,0046,47.1007,-46.5573, 506, 348.1, 4.2196,34.9128,2,   -999,9,280.0,2, -999,9, -999,9, -999,9
  06MT20110624,   A02,783,1,12,12,2,20110716,0046,47.1007,-46.5573, 506, 346.3, 4.2256,34.9129,2,   -999,9,279.8,2, -999,9, -999,9, -999,9
  06MT20110624,   A02,783,1,13,13,2,20110716,0046,47.1007,-46.5573, 506, 304.7, 4.3710,34.9161,2,   -999,9,278.4,2, -999,9,4.093,2,2.261,2
  06MT20110624,   A02,783,1,14,14,2,20110716,0046,47.1007,-46.5573, 506, 304.6, 4.3714,34.9166,2,   -999,9,278.3,2, -999,9, -999,9, -999,9
  06MT20110624,   A02,783,1,15,15,2,20110716,0046,47.1007,-46.5573, 506, 299.9, 4.3724,34.9166,2,   -999,9,278.4,2, -999,9, -999,9, -999,9
  06MT20110624,   A02,783,1,16,16,2,20110716,0046,47.1007,-46.5573, 506, 248.8, 4.4271,34.9074,2,   -999,9,273.0,2, -999,9, -999,9, -999,9
  06MT20110624,   A02,783,1,17,17,2,20110716,0046,47.1007,-46.5573, 506, 199.5, 4.3488,34.8588,2,   -999,9,264.6,2,265.1,6, -999,9, -999,9
  06MT20110624,   A02,783,1,18,18,2,20110716,0046,47.1007,-46.5573, 506, 196.6, 4.3557,34.8578,2,   -999,9,264.1,2, -999,9, -999,9, -999,9
  06MT20110624,   A02,783,1,19,19,2,20110716,0046,47.1007,-46.5573, 506, 100.4, 3.9152,34.5390,2,   -999,9,290.8,2, -999,9,4.527,2,2.442,2
  06MT20110624,   A02,783,1,20,20,2,20110716,0046,47.1007,-46.5573, 506,  99.9, 3.9167,34.5412,2,   -999,9,290.5,2, -999,9, -999,9, -999,9
  06MT20110624,   A02,783,1,21,21,2,20110716,0046,47.1007,-46.5573, 506,  12.5, 9.0191,32.8450,2,33.0416,3,304.5,2,304.1,2,4.210,2,2.347,2
  06MT20110624,   A02,783,1,22,22,2,20110716,0046,47.1007,-46.5573, 506,  12.1, 9.0104,32.8428,2,   -999,9,305.1,2, -999,9, -999,9, -999,9
  06MT20110624,   A02,784,1, 1, 1,2,20110716,0225,47.0997,-46.7087,1147,1135.3, 3.7749,34.8992,2,34.9010,2,279.2,2,279.2,2,4.051,2,2.148,2
  06MT20110624,   A02,784,1, 2, 2,2,20110716,0225,47.0997,-46.7087,1147,1135.6, 3.7747,34.8994,2,   -999,9,279.0,2, -999,9, -999,9, -999,9
  06MT20110624,   A02,784,1, 3, 3,2,20110716,0225,47.0997,-46.7087,1147, 998.9, 3.8492,34.8987,2,   -999,9,282.4,2, -999,9,4.135,2,2.185,2
  06MT20110624,   A02,784,1, 4, 4,2,20110716,0225,47.0997,-46.7087,1147, 948.8, 3.8666,34.8990,2,   -999,9,282.3,2, -999,9,4.140,2,2.188,2
  06MT20110624,   A02,784,1, 5, 5,2,20110716,0225,47.0997,-46.7087,1147, 850.6, 3.9043,34.8992,2,   -999,9,284.8,2, -999,9,4.196,2,2.281,2
  06MT20110624,   A02,784,1, 6, 6,2,20110716,0225,47.0997,-46.7087,1147, 798.0, 3.9363,34.8998,2,   -999,9,284.9,2,284.3,2, -999,9, -999,9
  06MT20110624,   A02,784,1, 7, 7,2,20110716,0225,47.0997,-46.7087,1147, 748.3, 3.9780,34.9017,2,   -999,9,285.0,2, -999,9, -999,9, -999,9
  06MT20110624,   A02,784,1, 8, 8,2,20110716,0225,47.0997,-46.7087,1147, 698.8, 4.0092,34.9021,2,   -999,9,283.3,2, -999,9,4.109,2,2.212,2
  06MT20110624,   A02,784,1, 9, 9,2,20110716,0225,47.0997,-46.7087,1147, 619.3, 4.0760,34.9037,2,   -999,9,281.4,2, -999,9, -999,9, -999,9
  06MT20110624,   A02,784,1,10,10,2,20110716,0225,47.0997,-46.7087,1147, 598.5, 4.0949,34.9039,2,   -999,9,280.5,2, -999,9, -999,9, -999,9
  06MT20110624,   A02,784,1,11,11,2,20110716,0225,47.0997,-46.7087,1147, 550.4, 4.1432,34.9040,2,   -999,9,278.0,2, -999,9,4.168,2,2.348,2
  06MT20110624,   A02,784,1,12,12,2,20110716,0225,47.0997,-46.7087,1147, 518.1, 4.1722,34.9030,2,   -999,9,283.0,2, -999,9, -999,9, -999,9
  06MT20110624,   A02,784,1,13,13,2,20110716,0225,47.0997,-46.7087,1147, 448.5, 4.2183,34.8960,2,   -999,9,288.9,2, -999,9, -999,9, -999,9
  06MT20110624,   A02,784,1,14,14,2,20110716,0225,47.0997,-46.7087,1147, 403.5, 4.3452,34.9063,2,34.9058,2,286.6,2, -999,9,4.200,2,2.303,2
  06MT20110624,   A02,784,1,15,15,2,20110716,0225,47.0997,-46.7087,1147, 345.5, 4.3968,34.9027,2,   -999,9,286.2,2,284.1,6, -999,9, -999,9
  06MT20110624,   A02,784,1,16,16,2,20110716,0225,47.0997,-46.7087,1147, 299.7, 4.3556,34.8800,2,   -999,9,285.7,2, -999,9, -999,9, -999,9
  06MT20110624,   A02,784,1,17,17,2,20110716,0225,47.0997,-46.7087,1147, 255.2, 4.3815,34.8600,2,   -999,9,285.8,2, -999,9,4.220,2,2.347,2
  06MT20110624,   A02,784,1,18,18,2,20110716,0225,47.0997,-46.7087,1147, 200.9, 4.1447,34.7783,2,   -999,9,291.2,2, -999,9, -999,9, -999,9
  06MT20110624,   A02,784,1,19,19,2,20110716,0225,47.0997,-46.7087,1147, 154.0, 3.7600,34.6672,2,   -999,9,299.0,2, -999,9, -999,9, -999,9
  06MT20110624,   A02,784,1,20,20,2,20110716,0225,47.0997,-46.7087,1147, 100.6, 3.9725,34.6080,2,   -999,9,302.4,2, -999,9,4.651,2,2.622,2
  06MT20110624,   A02,784,1,21,21,2,20110716,0225,47.0997,-46.7087,1147,  11.9, 8.8718,32.5520,2,   -999,9,304.8,2,309.2,2,4.521,2,2.677,2
  06MT20110624,   A02,784,1,22,22,2,20110716,0225,47.0997,-46.7087,1147,  12.3, 8.8888,32.5485,2,   -999,9,304.1,2, -999,9, -999,9, -999,9
  06MT20110624,   A02,785,1, 1, 1,2,20110716,0415,47.1012,-46.8572,1176,1167.0, 3.7264,34.8984,2,34.8981,2,280.0,2,280.1,2,3.921,2,1.973,2
  06MT20110624,   A02,785,1, 2, 2,2,20110716,0415,47.1012,-46.8572,1176,1167.5, 3.7266,34.8983,2,   -999,9,279.8,2, -999,9, -999,9, -999,9
  06MT20110624,   A02,785,1, 3, 3,2,20110716,0415,47.1012,-46.8572,1176, 999.0, 3.8413,34.8964,2,   -999,9,284.0,2, -999,9,4.082,2,2.207,2
  06MT20110624,   A02,785,1, 4, 4,2,20110716,0415,47.1012,-46.8572,1176, 997.2, 3.8421,34.8964,2,   -999,9,284.2,2, -999,9, -999,9, -999,9
  06MT20110624,   A02,785,1, 5, 5,2,20110716,0415,47.1012,-46.8572,1176, 899.1, 3.9234,34.9003,2,   -999,9,283.9,2,284.5,6,4.179,2,2.355,2
  06MT20110624,   A02,785,1, 6, 6,2,20110716,0415,47.1012,-46.8572,1176, 800.3, 4.0299,34.9022,2,   -999,9,285.1,2, -999,9, -999,9, -999,9
  06MT20110624,   A02,785,1, 7, 7,2,20110716,0415,47.1012,-46.8572,1176, 706.7, 4.0939,34.8997,2,   -999,9,287.5,2, -999,9,4.144,2,2.236,2
  06MT20110624,   A02,785,1, 8, 8,2,20110716,0415,47.1012,-46.8572,1176, 599.8, 4.1203,34.8926,2,   -999,9,290.3,2, -999,9, -999,9, -999,9
  06MT20110624,   A02,785,1, 9, 9,2,20110716,0415,47.1012,-46.8572,1176, 505.7, 4.1696,34.8916,2,   -999,9,290.4,2,290.5,2,4.411,2,2.617,2
  06MT20110624,   A02,785,1,10,10,2,20110716,0415,47.1012,-46.8572,1176, 499.7, 4.1822,34.8924,2,   -999,9,290.4,2, -999,9, -999,9, -999,9
  06MT20110624,   A02,785,1,11,11,2,20110716,0415,47.1012,-46.8572,1176, 401.0, 4.2508,34.8873,2,   -999,9,290.6,2, -999,9, -999,9, -999,9
  06MT20110624,   A02,785,1,12,12,2,20110716,0415,47.1012,-46.8572,1176, 298.1, 4.2675,34.8577,2,   -999,9,289.3,2,288.7,2, -999,9, -999,9
  06MT20110624,   A02,785,1,13,13,2,20110716,0415,47.1012,-46.8572,1176, 199.0, 3.9492,34.7521,2,   -999,9,294.0,2, -999,9,4.346,2,2.344,2
  06MT20110624,   A02,785,1,14,14,2,20110716,0415,47.1012,-46.8572,1176,  98.8, 3.3040,34.5214,2,   -999,9,300.8,2, -999,9, -999,9, -999,9
  06MT20110624,   A02,785,1,15,15,2,20110716,0415,47.1012,-46.8572,1176,  11.1, 8.0807,32.5865,2,   -999,9,312.3,2, -999,9, -999,9, -999,9
  06MT20110624,   A02,785,1,16,16,2,20110716,0415,47.1012,-46.8572,1176,  10.7, 8.0946,32.5815,2,32.6338,3,311.7,2,310.5,2,4.382,2,2.398,2
  06MT20110624,   A02,785,1,17,17,2,20110716,0415,47.1012,-46.8572,1176,  10.9, 8.0637,32.5949,2,   -999,9,311.1,2, -999,9, -999,9, -999,9
  06MT20110624,   A02,785,1,18,18,2,20110716,0415,47.1012,-46.8572,1176,  11.5, 8.0369,32.6052,2,   -999,9,311.1,2, -999,9, -999,9, -999,9
  06MT20110624,   A02,785,1,19,19,2,20110716,0415,47.1012,-46.8572,1176,  11.2, 8.1121,32.5766,2,   -999,9,311.6,2, -999,9, -999,9, -999,9
  06MT20110624,   A02,785,1,20,20,2,20110716,0415,47.1012,-46.8572,1176,  10.8, 8.1684,32.5562,2,   -999,9,311.6,2, -999,9, -999,9, -999,9
  06MT20110624,   A02,785,1,21,21,2,20110716,0415,47.1012,-46.8572,1176,  10.6, 8.1536,32.5614,2,   -999,9,310.9,2, -999,9, -999,9, -999,9
  06MT20110624,   A02,785,1,22,22,2,20110716,0415,47.1012,-46.8572,1176,  11.1, 8.1574,32.5616,2,   -999,9,310.4,2, -999,9, -999,9, -999,9
  06MT20110624,   A02,786,1, 1, 1,2,20110716,0610,47.0998,-47.0085,1138,1127.1, 3.7317,34.9027,2,34.9052,2,279.6,2,280.2,2,3.949,2,2.121,2
  06MT20110624,   A02,786,1, 2, 2,2,20110716,0610,47.0998,-47.0085,1138,1127.5, 3.7315,34.9026,2,   -999,9,279.8,2, -999,9, -999,9, -999,9
  06MT20110624,   A02,786,1, 3, 3,2,20110716,0610,47.0998,-47.0085,1138, 997.8, 3.8204,34.9003,2,   -999,9,282.7,2, -999,9, -999,9, -999,9
  06MT20110624,   A02,786,1, 4, 4,2,20110716,0610,47.0998,-47.0085,1138, 996.3, 3.8207,34.8994,2,   -999,9,282.6,2, -999,9, -999,9, -999,9
  06MT20110624,   A02,786,1, 5, 5,2,20110716,0610,47.0998,-47.0085,1138, 897.9, 3.9181,34.9015,2,   -999,9,284.1,2, -999,9, -999,9, -999,9
  06MT20110624,   A02,786,1, 6, 6,2,20110716,0610,47.0998,-47.0085,1138, 900.8, 3.9162,34.9015,2,   -999,9,283.7,2, -999,9,4.206,2,2.358,2
  06MT20110624,   A02,786,1, 7, 7,2,20110716,0610,47.0998,-47.0085,1138, 799.2, 4.0286,34.9030,2,   -999,9,285.0,2,284.5,2,4.240,2,2.396,2
  06MT20110624,   A02,786,1, 8, 8,2,20110716,0610,47.0998,-47.0085,1138, 797.8, 4.0301,34.9036,2,   -999,9,284.8,2, -999,9, -999,9, -999,9
  06MT20110624,   A02,786,1, 9, 9,2,20110716,0610,47.0998,-47.0085,1138, 700.2, 4.0926,34.8988,2,   -999,9,287.8,2, -999,9, -999,9, -999,9
  06MT20110624,   A02,786,1,10,10,2,20110716,0610,47.0998,-47.0085,1138, 700.2, 4.0926,34.8986,2,   -999,9,287.8,2, -999,9, -999,9, -999,9
  06MT20110624,   A02,786,1,11,11,2,20110716,0610,47.0998,-47.0085,1138, 599.4, 4.1090,34.8881,2,   -999,9,292.0,2, -999,9,4.233,2,2.264,2
  06MT20110624,   A02,786,1,12,12,2,20110716,0610,47.0998,-47.0085,1138, 500.3, 4.1592,34.8850,2,34.8853,2,292.3,2, -999,9,4.268,2,2.317,2
  06MT20110624,   A02,786,1,13,13,2,20110716,0610,47.0998,-47.0085,1138, 498.0, 4.1629,34.8853,2,   -999,9,292.0,2, -999,9, -999,9, -999,9
  06MT20110624,   A02,786,1,14,14,2,20110716,0610,47.0998,-47.0085,1138, 397.7, 4.3049,34.8834,2,   -999,9,289.3,2,289.1,6, -999,9, -999,9
  06MT20110624,   A02,786,1,15,15,2,20110716,0610,47.0998,-47.0085,1138, 311.4, 4.2471,34.8428,2,   -999,9,290.7,2, -999,9, -999,9, -999,9
  06MT20110624,   A02,786,1,16,16,2,20110716,0610,47.0998,-47.0085,1138, 206.4, 3.8457,34.6952,2,   -999,9,294.3,2, -999,9, -999,9, -999,9
  06MT20110624,   A02,786,1,17,17,2,20110716,0610,47.0998,-47.0085,1138,  77.1, 2.4021,34.1172,2,   -999,9,307.5,2, -999,9,5.211,2,2.974,2
  06MT20110624,   A02,786,1,18,18,2,20110716,0610,47.0998,-47.0085,1138,  11.1, 8.3202,32.3739,2,   -999,9,307.4,2,306.9,2,4.258,2,2.186,2
  06MT20110624,   A02,786,1,19,19,2,20110716,0610,47.0998,-47.0085,1138,  11.3, 8.3538,32.3672,2,   -999,9,307.0,2, -999,9, -999,9, -999,9
  06MT20110624,   A02,786,1,20,20,2,20110716,0610,47.0998,-47.0085,1138,  11.5, 8.3728,32.3632,2,   -999,9,307.5,2, -999,9, -999,9, -999,9
  06MT20110624,   A02,786,1,21,21,2,20110716,0610,47.0998,-47.0085,1138,  11.6, 8.3699,32.3638,2,   -999,9,307.8,2, -999,9, -999,9, -999,9
  06MT20110624,   A02,786,1,22,22,2,20110716,0610,47.0998,-47.0085,1138,  11.6, 8.3722,32.3637,2,   -999,9,307.5,2, -999,9, -999,9, -999,9
  06MT20110624,   A02,787,1, 1, 1,2,20110716,0805,47.0997,-47.1587, 878, 866.5, 3.9304,34.9009,2,34.9026,2,283.2,2,281.9,2,4.114,2,2.226,2
  06MT20110624,   A02,787,1, 2, 2,2,20110716,0805,47.0997,-47.1587, 878, 866.1, 3.9314,34.9013,2,   -999,9,283.2,2, -999,9, -999,9, -999,9
  06MT20110624,   A02,787,1, 3, 3,2,20110716,0805,47.0997,-47.1587, 878, 707.3, 4.1110,34.9026,2,   -999,9,285.7,2, -999,9, -999,9, -999,9
  06MT20110624,   A02,787,1, 4, 4,2,20110716,0805,47.0997,-47.1587, 878, 705.6, 4.1142,34.9021,2,   -999,9,285.7,2, -999,9, -999,9, -999,9
  06MT20110624,   A02,787,1, 5, 5,2,20110716,0805,47.0997,-47.1587, 878, 599.7, 4.1672,34.8920,2,   -999,9,289.7,2,287.6,2,4.140,2,2.371,2
  06MT20110624,   A02,787,1, 6, 6,2,20110716,0805,47.0997,-47.1587, 878, 599.5, 4.1689,34.8923,2,   -999,9,289.7,2, -999,9, -999,9, -999,9
  06MT20110624,   A02,787,1, 7, 7,2,20110716,0805,47.0997,-47.1587, 878, 498.2, 4.2533,34.8888,2,   -999,9,288.3,2, -999,9, -999,9, -999,9
  06MT20110624,   A02,787,1, 8, 8,2,20110716,0805,47.0997,-47.1587, 878, 496.7, 4.2518,34.8881,2,   -999,9,288.5,2, -999,9, -999,9, -999,9
  06MT20110624,   A02,787,1, 9, 9,2,20110716,0805,47.0997,-47.1587, 878, 399.7, 4.2733,34.8672,2,   -999,9,289.1,2, -999,9,4.150,2,2.334,2
  06MT20110624,   A02,787,1,10,10,2,20110716,0805,47.0997,-47.1587, 878, 398.2, 4.2706,34.8661,2,   -999,9,289.5,2, -999,9, -999,9, -999,9
  06MT20110624,   A02,787,1,11,11,2,20110716,0805,47.0997,-47.1587, 878, 303.0, 4.1599,34.8014,2,   -999,9,289.6,2, -999,9, -999,9, -999,9
  06MT20110624,   A02,787,1,12,12,2,20110716,0805,47.0997,-47.1587, 878, 299.2, 4.1367,34.7952,2,   -999,9,290.3,2, -999,9, -999,9, -999,9
  06MT20110624,   A02,787,1,13,13,2,20110716,0805,47.0997,-47.1587, 878, 198.7, 3.4006,34.5650,2,   -999,9,301.7,2,297.0,2,4.564,2,2.606,2
  06MT20110624,   A02,787,1,14,14,2,20110716,0805,47.0997,-47.1587, 878, 199.4, 3.3638,34.5608,2,   -999,9,301.7,2, -999,9, -999,9, -999,9
  06MT20110624,   A02,787,1,15,15,2,20110716,0805,47.0997,-47.1587, 878, 100.0, 2.5202,34.1098,2,   -999,9,302.3,2, -999,9, -999,9, -999,9
  06MT20110624,   A02,787,1,16,16,2,20110716,0805,47.0997,-47.1587, 878,  99.8, 2.5357,34.1180,2,   -999,9,302.6,2, -999,9, -999,9, -999,9
  06MT20110624,   A02,787,1,17,17,2,20110716,0805,47.0997,-47.1587, 878,  12.1, 7.8584,32.2061,2,32.2169,2,312.2,2,310.9,2,4.399,2,2.479,2
  06MT20110624,   A02,787,1,18,18,2,20110716,0805,47.0997,-47.1587, 878,  12.1, 7.8450,32.2087,2,   -999,9,312.0,2, -999,9, -999,9, -999,9
  06MT20110624,   A02,787,1,19,19,2,20110716,0805,47.0997,-47.1587, 878,  12.5, 7.8559,32.2079,2,   -999,9,311.8,2, -999,9, -999,9, -999,9
  06MT20110624,   A02,787,1,20,20,2,20110716,0805,47.0997,-47.1587, 878,  12.7, 7.8632,32.2060,2,   -999,9,312.2,2, -999,9, -999,9, -999,9
  06MT20110624,   A02,787,1,21,21,2,20110716,0805,47.0997,-47.1587, 878,  12.4, 7.8610,32.2059,2,   -999,9,312.0,2, -999,9, -999,9, -999,9
  06MT20110624,   A02,787,1,22,22,2,20110716,0805,47.0997,-47.1587, 878,  12.1, 7.8550,32.2070,2,   -999,9,311.7,2, -999,9, -999,9, -999,9
  06MT20110624,   A02,788,1, 1, 1,2,20110716,0956,47.1000,-47.2655, 474, 462.1, 4.2658,34.8745,2,34.8770,2,285.3,2,284.6,2,4.201,2,2.399,2
  06MT20110624,   A02,788,1, 2, 2,2,20110716,0956,47.1000,-47.2655, 474, 461.8, 4.2660,34.8744,2,   -999,9,285.3,2, -999,9, -999,9, -999,9
  06MT20110624,   A02,788,1, 3, 3,2,20110716,0956,47.1000,-47.2655, 474, 462.0, 4.2658,34.8748,2,   -999,9,285.3,2, -999,9, -999,9, -999,9
  06MT20110624,   A02,788,1, 4, 4,2,20110716,0956,47.1000,-47.2655, 474, 397.9, 4.2646,34.8737,2,   -999,9,285.5,2, -999,9,4.171,2,2.330,2
  06MT20110624,   A02,788,1, 5, 5,2,20110716,0956,47.1000,-47.2655, 474, 395.4, 4.2642,34.8738,2,   -999,9,285.3,2, -999,9, -999,9, -999,9
  06MT20110624,   A02,788,1, 6, 6,2,20110716,0956,47.1000,-47.2655, 474, 298.6, 4.2319,34.8057,2,34.8159,2,283.1,2,279.9,2,4.276,2,2.455,2
  06MT20110624,   A02,788,1, 7, 7,2,20110716,0956,47.1000,-47.2655, 474, 298.4, 4.2309,34.8054,2,   -999,9,283.0,2, -999,9, -999,9, -999,9
  06MT20110624,   A02,788,1, 8, 8,2,20110716,0956,47.1000,-47.2655, 474, 197.5, 3.6382,34.5950,2,   -999,9,280.9,2, -999,9, -999,9, -999,9
  06MT20110624,   A02,788,1, 9, 9,2,20110716,0956,47.1000,-47.2655, 474, 197.4, 3.6321,34.5926,2,   -999,9,280.6,2, -999,9, -999,9, -999,9
  06MT20110624,   A02,788,1,10,10,2,20110716,0956,47.1000,-47.2655, 474,  99.8, 2.4778,34.0905,2,   -999,9,305.0,2, -999,9,5.041,2,2.804,2
  06MT20110624,   A02,788,1,11,11,2,20110716,0956,47.1000,-47.2655, 474,  99.4, 2.4690,34.0868,2,   -999,9,305.9,2, -999,9, -999,9, -999,9
  06MT20110624,   A02,788,1,12,12,2,20110716,0956,47.1000,-47.2655, 474,  12.0, 8.3043,32.1980,2,   -999,9,307.0,2,306.1,6,4.382,2,2.495,2
  06MT20110624,   A02,788,1,13,13,2,20110716,0956,47.1000,-47.2655, 474,  11.3, 8.3116,32.1978,2,   -999,9,307.3,2, -999,9, -999,9, -999,9
  06MT20110624,   A02,788,1,14,14,2,20110716,0956,47.1000,-47.2655, 474,  11.6, 8.3138,32.1984,2,   -999,9,307.8,2, -999,9, -999,9, -999,9
  06MT20110624,   A02,788,1,15,15,2,20110716,0956,47.1000,-47.2655, 474,  12.8, 8.3108,32.1992,2,   -999,9,307.3,2, -999,9, -999,9, -999,9
  06MT20110624,   A02,788,1,16,16,2,20110716,0956,47.1000,-47.2655, 474,  11.5, 8.3144,32.1989,2,   -999,9,307.3,2, -999,9, -999,9, -999,9
  06MT20110624,   A02,788,1,17,17,2,20110716,0956,47.1000,-47.2655, 474,  12.2, 8.3153,32.1994,2,   -999,9,307.5,2, -999,9, -999,9, -999,9
  06MT20110624,   A02,788,1,18,18,2,20110716,0956,47.1000,-47.2655, 474,  12.8, 8.3135,32.2006,2,   -999,9,307.4,2, -999,9, -999,9, -999,9
  06MT20110624,   A02,788,1,19,19,2,20110716,0956,47.1000,-47.2655, 474,  11.5, 8.3123,32.1992,2,   -999,9,307.4,2, -999,9, -999,9, -999,9
  06MT20110624,   A02,788,1,20,20,2,20110716,0956,47.1000,-47.2655, 474,  11.8, 8.3133,32.1997,2,   -999,9,308.0,2, -999,9, -999,9, -999,9
  06MT20110624,   A02,788,1,21,21,2,20110716,0956,47.1000,-47.2655, 474,  12.5, 8.3114,32.2002,2,   -999,9,307.4,2, -999,9, -999,9, -999,9
  06MT20110624,   A02,788,1,22,22,2,20110716,0956,47.1000,-47.2655, 474,  12.2, 8.3195,32.1969,2,   -999,9,307.4,2, -999,9, -999,9, -999,9