BOTTLE,20231122CCHSIOVAJ
EXPOCODE,SECT_ID,STNNBR,CASTNO,SAMPNO,BTLNBR,BTLNBR_FLAG_W,DATE,TIME,LATITUDE,LONGITUDE,DEPTH,CTDPRS,CTDTMP,CTDSAL,CTDSAL_FLAG_W,SALNTY,SALNTY_FLAG_W,CTDOXY,CTDOXY_FLAG_W,OXYGEN,OXYGEN_FLAG_W,CFC-11,CFC-11_FLAG_W,CFC-12,CFC-12_FLAG_W
,,,,,,,,,,,METERS,DBAR,ITS-90,PSS-78,,PSS-78,,UMOL/KG,,UMOL/KG,,PMOL/KG,,PMOL/KG,
  06MT20110624,   A02,800,1, 1, 1,2,20110719,1600,50.2525,-43.0178,4250,4324.2, 1.9995,34.8942,2,34.8955,2,293.4,2,293.4,2,3.645,2,1.891,2
  06MT20110624,   A02,800,1, 2, 2,2,20110719,1600,50.2525,-43.0178,4250,4032.5, 2.1579,34.8977,2,   -999,9,287.2,2, -999,9,3.208,2,1.662,2
  06MT20110624,   A02,800,1, 3, 3,2,20110719,1600,50.2525,-43.0178,4250,3798.2, 2.2479,34.8995,2,   -999,9,283.9,2,285.4,2, -999,9, -999,9
  06MT20110624,   A02,800,1, 4, 4,2,20110719,1600,50.2525,-43.0178,4250,3498.8, 2.4312,34.9062,2,   -999,9,281.4,2, -999,9,2.562,6,1.306,6
  06MT20110624,   A02,800,1, 5, 5,2,20110719,1600,50.2525,-43.0178,4250,3179.4, 2.6902,34.9167,2,   -999,9,280.6,2, -999,9,2.535,2,1.284,2
  06MT20110624,   A02,800,1, 6, 6,2,20110719,1600,50.2525,-43.0178,4250,2898.4, 2.9074,34.9187,2,   -999,9,279.9,2, -999,9,2.643,2,1.336,2
  06MT20110624,   A02,800,1, 7, 7,2,20110719,1600,50.2525,-43.0178,4250,2613.4, 3.1047,34.9169,2,   -999,9,280.2,2,279.3,2,2.776,2,1.403,2
  06MT20110624,   A02,800,1, 8, 8,2,20110719,1600,50.2525,-43.0178,4250,2316.8, 3.3222,34.9152,2,34.9189,2,279.2,2, -999,9, -999,9, -999,9
  06MT20110624,   A02,800,1, 9, 9,2,20110719,1600,50.2525,-43.0178,4250,2011.7, 3.5250,34.9194,2,   -999,9,276.4,2, -999,9, -999,9, -999,9
  06MT20110624,   A02,800,1,10,10,2,20110719,1600,50.2525,-43.0178,4250,1698.1, 3.7296,34.9175,2,   -999,9,276.5,2, -999,9,3.431,2,1.756,2
  06MT20110624,   A02,800,1,11,11,2,20110719,1600,50.2525,-43.0178,4250,1498.5, 3.8252,34.9096,2,   -999,9,279.2,2,277.8,2,3.758,2,1.960,2
  06MT20110624,   A02,800,1,12,12,2,20110719,1600,50.2525,-43.0178,4250,1295.1, 3.9830,34.9134,2,   -999,9,279.0,2, -999,9,3.831,2,1.984,2
  06MT20110624,   A02,800,1,13,13,2,20110719,1600,50.2525,-43.0178,4250,1121.2, 4.1978,34.9245,2,   -999,9,277.9,2, -999,9,3.940,2,2.115,2
  06MT20110624,   A02,800,1,14,14,2,20110719,1600,50.2525,-43.0178,4250,1021.2, 4.2815,34.9230,2,   -999,9,277.6,2,276.6,2,3.953,2,2.084,2
  06MT20110624,   A02,800,1,15,15,2,20110719,1600,50.2525,-43.0178,4250, 875.7, 4.5148,34.9309,2,   -999,9,272.6,2, -999,9,3.884,2,2.074,2
  06MT20110624,   A02,800,1,16,16,2,20110719,1600,50.2525,-43.0178,4250, 714.4, 5.3434,34.9502,2,34.9545,2,234.4,2, -999,9, -999,9, -999,9
  06MT20110624,   A02,800,1,17,17,2,20110719,1600,50.2525,-43.0178,4250, 498.5, 8.2067,35.0384,2,   -999,9,174.6,2, -999,9,2.256,3,1.225,3
  06MT20110624,   A02,800,1,18,18,2,20110719,1600,50.2525,-43.0178,4250, 298.6,10.9701,35.4234,2,   -999,9,245.8,2,244.0,2,2.967,2,1.759,2
  06MT20110624,   A02,800,1,19,19,2,20110719,1600,50.2525,-43.0178,4250, 126.9,11.7647,35.4839,2,   -999,9,224.1,2, -999,9,2.875,2,1.747,2
  06MT20110624,   A02,800,1,20,20,2,20110719,1600,50.2525,-43.0178,4250,  13.3,13.8574,35.0161,2,   -999,9,267.3,2,269.0,6,2.884,2,1.680,2
  06MT20110624,   A02,800,1,21,21,2,20110719,1600,50.2525,-43.0178,4250,  13.2,13.8569,35.0164,2,   -999,9,267.3,2, -999,9, -999,9, -999,9
  06MT20110624,   A02,800,1,22,22,2,20110719,1600,50.2525,-43.0178,4250,  13.2,13.8573,35.0165,2,   -999,9,267.3,2, -999,9, -999,9, -999,9
  06MT20110624,   A02,801,1, 1, 1,2,20110719,2333,51.0160,-43.0888,4236,4317.5, 1.9309,34.8923,2,34.8898,2,295.4,2,296.0,2,3.876,2,1.997,2
  06MT20110624,   A02,801,1, 2, 2,2,20110719,2333,51.0160,-43.0888,4236,4254.7, 1.9561,34.8937,2,   -999,9,294.9,2, -999,9,3.802,2,1.908,2
  06MT20110624,   A02,801,1, 3, 3,2,20110719,2333,51.0160,-43.0888,4236,3999.4, 2.0792,34.8961,2,   -999,9,291.0,2, -999,9,3.548,2,1.851,2
  06MT20110624,   A02,801,1, 4, 4,2,20110719,2333,51.0160,-43.0888,4236,3695.3, 2.2417,34.8997,2,   -999,9,285.1,2, -999,9,2.861,2,1.461,2
  06MT20110624,   A02,801,1, 5, 5,2,20110719,2333,51.0160,-43.0888,4236,3404.2, 2.4265,34.9066,2,   -999,9,283.5,2,284.2,6,2.814,2,1.453,2
  06MT20110624,   A02,801,1, 6, 6,2,20110719,2333,51.0160,-43.0888,4236,3099.7, 2.7025,34.9158,2,34.9122,2,280.1,2, -999,9, -999,9, -999,9
  06MT20110624,   A02,801,1, 7, 7,2,20110719,2333,51.0160,-43.0888,4236,2798.5, 2.9386,34.9186,2,   -999,9,278.4,2, -999,9,2.506,2,1.262,2
  06MT20110624,   A02,801,1, 8, 8,2,20110719,2333,51.0160,-43.0888,4236,2503.9, 3.1381,34.9171,2,   -999,9,277.5,2,278.6,2,2.668,2,1.329,2
  06MT20110624,   A02,801,1, 9, 9,2,20110719,2333,51.0160,-43.0888,4236,2182.3, 3.3406,34.9167,2,   -999,9,276.0,2, -999,9,2.811,2,1.419,2
  06MT20110624,   A02,801,1,10,10,2,20110719,2333,51.0160,-43.0888,4236,1776.8, 3.6828,34.9243,2,   -999,9,273.3,2, -999,9,3.095,2,1.571,2
  06MT20110624,   A02,801,1,11,11,2,20110719,2333,51.0160,-43.0888,4236,1601.1, 3.8145,34.9232,2,   -999,9,274.0,2,274.7,2,3.382,2,1.743,2
  06MT20110624,   A02,801,1,12,12,2,20110719,2333,51.0160,-43.0888,4236,1399.2, 3.8911,34.9116,2,   -999,9,276.8,2, -999,9,3.812,2,2.077,2
  06MT20110624,   A02,801,1,13,13,2,20110719,2333,51.0160,-43.0888,4236,1300.3, 3.9844,34.9137,2,   -999,9,277.4,2,277.5,2,3.769,3,1.884,3
  06MT20110624,   A02,801,1,14,14,2,20110719,2333,51.0160,-43.0888,4236,1202.6, 4.0602,34.9149,2,   -999,9,277.9,2, -999,9,3.964,2,2.126,2
  06MT20110624,   A02,801,1,15,15,2,20110719,2333,51.0160,-43.0888,4236,1110.9, 4.1813,34.9203,2,   -999,9,275.9,2, -999,9,3.985,2,2.100,2
  06MT20110624,   A02,801,1,16,16,2,20110719,2333,51.0160,-43.0888,4236,1021.2, 4.3063,34.9225,2,   -999,9,274.5,2, -999,9,3.975,2,2.128,2
  06MT20110624,   A02,801,1,17,17,2,20110719,2333,51.0160,-43.0888,4236, 919.2, 4.4921,34.9285,2,   -999,9,270.4,2, -999,9,3.958,2,2.114,2
  06MT20110624,   A02,801,1,18,18,2,20110719,2333,51.0160,-43.0888,4236, 681.9, 5.3763,34.9330,2,34.9506,3,235.4,2, -999,9, -999,9, -999,9
  06MT20110624,   A02,801,1,19,19,2,20110719,2333,51.0160,-43.0888,4236, 496.2, 8.1008,35.0515,2,   -999,9,184.5,2, -999,9,2.325,3,1.248,3
  06MT20110624,   A02,801,1,20,20,2,20110719,2333,51.0160,-43.0888,4236, 289.8,10.9683,35.4152,2,   -999,9,243.8,2,240.7,2,2.956,2,1.677,2
  06MT20110624,   A02,801,1,21,21,2,20110719,2333,51.0160,-43.0888,4236,  87.2,12.1882,35.4034,2,   -999,9,239.0,2, -999,9,2.947,2,1.678,2
  06MT20110624,   A02,801,1,22,22,2,20110719,2333,51.0160,-43.0888,4236,  13.2,14.5215,34.7707,2,34.7748,2,259.2,2,260.8,2,2.893,2,1.701,2
  06MT20110624,   A02,803,1, 1, 1,2,20110720,0745,51.7805,-43.1633,4152,4220.9, 1.9107,34.8927,2,34.8900,2,297.0,2,295.6,2, -999,9, -999,9
  06MT20110624,   A02,803,1, 2, 2,2,20110720,0745,51.7805,-43.1633,4152,3901.9, 2.0756,34.8965,2,   -999,9,292.2,2, -999,9, -999,9, -999,9
  06MT20110624,   A02,803,1, 3, 3,2,20110720,0745,51.7805,-43.1633,4152,3598.8, 2.1883,34.8982,2,   -999,9,287.1,2,285.7,2,2.935,2,1.485,2
  06MT20110624,   A02,803,1, 4, 4,2,20110720,0745,51.7805,-43.1633,4152,3298.0, 2.3516,34.9044,2,   -999,9,286.8,2, -999,9,2.909,2,1.444,2
  06MT20110624,   A02,803,1, 5, 5,2,20110720,0745,51.7805,-43.1633,4152,3003.2, 2.6005,34.9135,2,   -999,9,283.2,2, -999,9,2.663,2,1.326,2
  06MT20110624,   A02,803,1, 6, 6,2,20110720,0745,51.7805,-43.1633,4152,2698.9, 2.8427,34.9185,2,   -999,9,280.3,2, -999,9,2.500,2,1.232,2
  06MT20110624,   A02,803,1, 7, 7,2,20110720,0745,51.7805,-43.1633,4152,2398.5, 3.0247,34.9176,2,   -999,9,280.6,2,278.3,2, -999,9, -999,9
  06MT20110624,   A02,803,1, 8, 8,2,20110720,0745,51.7805,-43.1633,4152,2111.1, 3.2329,34.9166,2,34.9148,2,279.6,2, -999,9,2.830,2,1.407,2
  06MT20110624,   A02,803,1, 9, 9,2,20110720,0745,51.7805,-43.1633,4152,1910.0, 3.3705,34.9173,2,   -999,9,278.5,2, -999,9,2.890,2,1.403,2
  06MT20110624,   A02,803,1,10,10,2,20110720,0745,51.7805,-43.1633,4152,1699.0, 3.5117,34.9196,2,   -999,9,277.4,2, -999,9,3.020,2,1.511,2
  06MT20110624,   A02,803,1,11,11,2,20110720,0745,51.7805,-43.1633,4152,1497.7, 3.6373,34.9201,2,   -999,9,277.4,2,275.3,2, -999,9, -999,9
  06MT20110624,   A02,803,1,12,12,2,20110720,0745,51.7805,-43.1633,4152,1307.9, 3.7514,34.9177,2,34.9152,2,277.8,2, -999,9,3.610,2,1.810,2
  06MT20110624,   A02,803,1,13,13,2,20110720,0745,51.7805,-43.1633,4152,1190.4, 3.8005,34.9118,2,   -999,9,280.0,2, -999,9,3.739,2,1.923,2
  06MT20110624,   A02,803,1,14,14,2,20110720,0745,51.7805,-43.1633,4152,1100.8, 3.9186,34.9226,2,   -999,9,277.6,2, -999,9,3.693,2,1.878,2
  06MT20110624,   A02,803,1,15,15,2,20110720,0745,51.7805,-43.1633,4152,1027.5, 3.8566,34.9046,2,   -999,9,281.3,2, -999,9,4.150,2,2.153,2
  06MT20110624,   A02,803,1,16,16,2,20110720,0745,51.7805,-43.1633,4152, 916.4, 3.8974,34.8995,2,   -999,9,283.6,2, -999,9,4.083,3,2.274,3
  06MT20110624,   A02,803,1,17,17,2,20110720,0745,51.7805,-43.1633,4152, 825.3, 3.9932,34.9031,2,   -999,9,283.3,2,283.0,6,4.028,2,2.141,2
  06MT20110624,   A02,803,1,18,18,2,20110720,0745,51.7805,-43.1633,4152, 620.2, 4.2001,34.9132,2,34.9095,2,279.9,2, -999,9,4.257,2,2.516,2
  06MT20110624,   A02,803,1,19,19,2,20110720,0745,51.7805,-43.1633,4152, 400.4, 4.4054,34.8948,2,   -999,9,274.4,2,276.0,2,3.589,2,1.747,2
  06MT20110624,   A02,803,1,20,20,2,20110720,0745,51.7805,-43.1633,4152, 191.4, 5.2389,34.7941,2,   -999,9,252.4,2, -999,9,3.387,2,1.898,2
  06MT20110624,   A02,803,1,21,21,2,20110720,0745,51.7805,-43.1633,4152,  12.8,11.6342,34.2099,2,   -999,9,276.8,2,277.7,2,3.371,2,1.971,2
  06MT20110624,   A02,803,1,22,22,2,20110720,0745,51.7805,-43.1633,4152,  12.4,11.6286,34.2111,2,   -999,9,276.7,2, -999,9, -999,9, -999,9
  06MT20110624,   A02,804,1, 1, 1,2,20110720,1518,52.5452,-43.2363,3826,3901.3, 2.0978,34.8971,2,34.8965,2,291.4,2,292.1,2,3.278,2,1.675,2
  06MT20110624,   A02,804,1, 2, 2,2,20110720,1518,52.5452,-43.2363,3826,3698.8, 2.2201,34.8987,2,   -999,9,285.5,2, -999,9,2.809,2,1.435,2
  06MT20110624,   A02,804,1, 3, 3,2,20110720,1518,52.5452,-43.2363,3826,3398.2, 2.3475,34.9038,2,   -999,9,283.1,2, -999,9,2.494,2,1.276,2
  06MT20110624,   A02,804,1, 4, 4,2,20110720,1518,52.5452,-43.2363,3826,3099.5, 2.5617,34.9124,2,   -999,9,280.5,2,281.4,2,2.389,2,1.220,2
  06MT20110624,   A02,804,1, 5, 5,2,20110720,1518,52.5452,-43.2363,3826,2802.4, 2.8064,34.9185,2,   -999,9,279.6,2, -999,9,2.453,2,1.236,2
  06MT20110624,   A02,804,1, 6, 6,2,20110720,1518,52.5452,-43.2363,3826,2600.3, 2.9426,34.9190,2,34.9158,2,278.6,2, -999,9,2.451,2,1.206,2
  06MT20110624,   A02,804,1, 7, 7,2,20110720,1518,52.5452,-43.2363,3826,2398.4, 3.0668,34.9179,2,   -999,9,278.5,2, -999,9,2.620,6,1.307,6
  06MT20110624,   A02,804,1, 8, 8,2,20110720,1518,52.5452,-43.2363,3826,2205.0, 3.1732,34.9174,2,   -999,9,277.3,2,279.3,2, -999,9, -999,9
  06MT20110624,   A02,804,1, 9, 9,2,20110720,1518,52.5452,-43.2363,3826,2005.1, 3.2944,34.9174,2,   -999,9,277.3,2, -999,9,2.859,2,1.501,2
  06MT20110624,   A02,804,1,10,10,2,20110720,1518,52.5452,-43.2363,3826,1801.1, 3.4294,34.9190,2,   -999,9,276.4,2, -999,9,2.865,2,1.450,2
  06MT20110624,   A02,804,1,11,11,2,20110720,1518,52.5452,-43.2363,3826,1607.6, 3.5790,34.9218,2,   -999,9,275.5,2, -999,9,3.109,3,1.681,3
  06MT20110624,   A02,804,1,12,12,2,20110720,1518,52.5452,-43.2363,3826,1419.6, 3.7075,34.9245,2,   -999,9,275.0,2, -999,9,3.229,2,1.613,2
  06MT20110624,   A02,804,1,13,13,2,20110720,1518,52.5452,-43.2363,3826,1212.7, 3.8288,34.9200,2,   -999,9,276.7,2,275.5,2,3.463,2,1.816,2
  06MT20110624,   A02,804,1,14,14,2,20110720,1518,52.5452,-43.2363,3826,1011.4, 3.8072,34.8971,2,   -999,9,282.8,2, -999,9, -999,9, -999,9
  06MT20110624,   A02,804,1,15,15,2,20110720,1518,52.5452,-43.2363,3826, 892.6, 3.8857,34.8987,2,34.8987,2,283.1,2, -999,9,4.123,2,2.255,2
  06MT20110624,   A02,804,1,16,16,2,20110720,1518,52.5452,-43.2363,3826, 828.6, 4.0059,34.9077,2,   -999,9,281.5,2, -999,9,4.147,2,2.232,2
  06MT20110624,   A02,804,1,17,17,2,20110720,1518,52.5452,-43.2363,3826, 727.7, 4.3061,34.9413,2,   -999,9,272.6,2, -999,9,3.564,3,1.910,3
  06MT20110624,   A02,804,1,18,18,2,20110720,1518,52.5452,-43.2363,3826, 611.8, 4.4191,34.9417,2,   -999,9,271.3,2, -999,9,3.756,2,2.080,2
  06MT20110624,   A02,804,1,19,19,2,20110720,1518,52.5452,-43.2363,3826, 418.6, 5.0695,34.9848,2,   -999,9,249.4,2, -999,9,3.275,2,1.910,2
  06MT20110624,   A02,804,1,20,20,2,20110720,1518,52.5452,-43.2363,3826, 209.4, 5.7706,34.8601,2,   -999,9,232.9,2,233.9,2, -999,9, -999,9
  06MT20110624,   A02,804,1,21,21,2,20110720,1518,52.5452,-43.2363,3826,  13.1,10.8100,34.2075,2,   -999,9,285.8,2,285.6,6,3.456,2,1.951,2
  06MT20110624,   A02,804,1,22,22,2,20110720,1518,52.5452,-43.2363,3826,  13.5,10.8105,34.2079,2,   -999,9,285.8,2, -999,9, -999,9, -999,9
  06MT20110624,   A02,805,1, 1, 1,2,20110720,2327,53.3085,-43.3087,3490,3547.8, 2.2593,34.9014,2,34.9002,2,280.4,2,284.0,2,2.768,2,1.409,2
  06MT20110624,   A02,805,1, 2, 2,2,20110720,2327,53.3085,-43.3087,3490,3398.6, 2.4481,34.9111,2,   -999,9,277.0,2, -999,9, -999,9, -999,9
  06MT20110624,   A02,805,1, 3, 3,2,20110720,2327,53.3085,-43.3087,3490,3297.4, 2.5454,34.9187,2,   -999,9,275.7,2, -999,9,2.380,2,1.197,2
  06MT20110624,   A02,805,1, 4, 4,2,20110720,2327,53.3085,-43.3087,3490,2998.4, 2.8035,34.9394,2,   -999,9,273.7,2,276.3,2,2.390,2,1.216,2
  06MT20110624,   A02,805,1, 5, 5,2,20110720,2327,53.3085,-43.3087,3490,2687.5, 2.9371,34.9364,2,   -999,9,275.3,2, -999,9,2.504,2,1.277,2
  06MT20110624,   A02,805,1, 6, 6,2,20110720,2327,53.3085,-43.3087,3490,2412.9, 3.0397,34.9225,2,   -999,9,276.3,2, -999,9,2.663,2,1.381,2
  06MT20110624,   A02,805,1, 7, 7,2,20110720,2327,53.3085,-43.3087,3490,2091.4, 3.2113,34.9154,2,   -999,9,276.8,2, -999,9,2.768,2,1.403,2
  06MT20110624,   A02,805,1, 8, 8,2,20110720,2327,53.3085,-43.3087,3490,1898.9, 3.3373,34.9164,2,   -999,9,276.5,2,276.9,2,2.847,2,1.444,2
  06MT20110624,   A02,805,1, 9, 9,2,20110720,2327,53.3085,-43.3087,3490,1670.1, 3.4975,34.9196,2,34.9179,2,275.4,2, -999,9,2.938,2,1.482,2
  06MT20110624,   A02,805,1,10,10,2,20110720,2327,53.3085,-43.3087,3490,1499.8, 3.6143,34.9213,2,   -999,9,275.8,2, -999,9,3.145,2,1.621,2
  06MT20110624,   A02,805,1,11,11,2,20110720,2327,53.3085,-43.3087,3490,1399.9, 3.6716,34.9188,2,   -999,9,276.1,2, -999,9, -999,9, -999,9
  06MT20110624,   A02,805,1,12,12,2,20110720,2327,53.3085,-43.3087,3490,1297.0, 3.6638,34.9062,2,   -999,9,278.4,2,277.3,2,3.505,2,1.813,2
  06MT20110624,   A02,805,1,13,13,2,20110720,2327,53.3085,-43.3087,3490,1208.8, 3.7031,34.9041,2,   -999,9,279.6,2, -999,9,3.811,2,2.023,2
  06MT20110624,   A02,805,1,14,14,2,20110720,2327,53.3085,-43.3087,3490,1095.7, 3.7431,34.9020,2,   -999,9,280.3,2, -999,9,3.776,2,1.972,2
  06MT20110624,   A02,805,1,15,15,2,20110720,2327,53.3085,-43.3087,3490, 996.5, 3.8115,34.9036,2,   -999,9,281.3,2, -999,9,3.851,2,2.043,2
  06MT20110624,   A02,805,1,16,16,2,20110720,2327,53.3085,-43.3087,3490, 916.0, 3.8418,34.8987,2,   -999,9,282.5,2,280.7,2,3.976,2,2.098,2
  06MT20110624,   A02,805,1,17,17,2,20110720,2327,53.3085,-43.3087,3490, 797.6, 3.8663,34.8927,2,   -999,9,284.4,2, -999,9,4.091,6,2.156,6
  06MT20110624,   A02,805,1,18,18,2,20110720,2327,53.3085,-43.3087,3490, 722.0, 3.9072,34.8914,2,   -999,9,285.2,2, -999,9,4.197,2,2.323,2
  06MT20110624,   A02,805,1,19,19,2,20110720,2327,53.3085,-43.3087,3490, 503.4, 4.3393,34.9308,2,34.9290,2,276.2,2, -999,9,3.831,2,2.093,2
  06MT20110624,   A02,805,1,20,20,2,20110720,2327,53.3085,-43.3087,3490, 298.1, 4.7751,34.9349,2,   -999,9,263.4,2, -999,9,3.548,2,1.935,2
  06MT20110624,   A02,805,1,21,21,2,20110720,2327,53.3085,-43.3087,3490, 100.9, 4.8247,34.7012,2,   -999,9,280.9,2, -999,9,4.221,2,2.337,2
  06MT20110624,   A02,805,1,22,22,2,20110720,2327,53.3085,-43.3087,3490,  11.5, 9.4937,34.4823,2,34.4820,2,292.6,2,293.2,2,3.819,2,2.325,2
  06MT20110624,   A02,806,1, 1, 1,2,20110721,0645,54.0732,-43.3863,3639,3685.7, 2.4033,34.9075,2,34.9054,2,281.0,2,280.9,2,2.470,2,1.219,2
  06MT20110624,   A02,806,1, 2, 2,2,20110721,0645,54.0732,-43.3863,3639,3498.2, 2.4881,34.9139,2,   -999,9,279.2,2, -999,9,2.432,2,1.265,2
  06MT20110624,   A02,806,1, 3, 3,2,20110721,0645,54.0732,-43.3863,3639,3199.1, 2.7011,34.9325,2,   -999,9,276.6,2, -999,9,2.290,2,1.182,2
  06MT20110624,   A02,806,1, 4, 4,2,20110721,0645,54.0732,-43.3863,3639,2893.7, 2.8398,34.9368,2,34.9351,2,277.1,2, -999,9,2.365,2,1.226,2
  06MT20110624,   A02,806,1, 5, 5,2,20110721,0645,54.0732,-43.3863,3639,2601.3, 2.9623,34.9322,2,   -999,9,278.0,2,277.0,2,2.452,2,1.235,2
  06MT20110624,   A02,806,1, 6, 6,2,20110721,0645,54.0732,-43.3863,3639,2298.8, 3.0798,34.9236,2,   -999,9,278.7,2, -999,9,2.584,2,1.343,2
  06MT20110624,   A02,806,1, 7, 7,2,20110721,0645,54.0732,-43.3863,3639,1998.5, 3.2348,34.9154,2,   -999,9,279.1,2, -999,9,2.744,6,1.419,6
  06MT20110624,   A02,806,1, 8, 8,2,20110721,0645,54.0732,-43.3863,3639,1798.0, 3.3523,34.9147,2,   -999,9,278.7,2, -999,9,2.880,2,1.482,2
  06MT20110624,   A02,806,1, 9, 9,2,20110721,0645,54.0732,-43.3863,3639,1599.6, 3.4870,34.9158,2,34.9132,2,277.9,2, -999,9,2.975,2,1.493,2
  06MT20110624,   A02,806,1,10,10,2,20110721,0645,54.0732,-43.3863,3639,1498.6, 3.5600,34.9155,2,   -999,9,277.4,2,275.1,6, -999,9, -999,9
  06MT20110624,   A02,806,1,11,11,2,20110721,0645,54.0732,-43.3863,3639,1392.3, 3.6089,34.9130,2,   -999,9,277.7,2, -999,9,3.276,2,1.731,2
  06MT20110624,   A02,806,1,12,12,2,20110721,0645,54.0732,-43.3863,3639,1299.3, 3.6437,34.9074,2,   -999,9,279.1,2, -999,9, -999,9, -999,9
  06MT20110624,   A02,806,1,13,13,2,20110721,0645,54.0732,-43.3863,3639,1197.7, 3.6590,34.8991,2,   -999,9,281.8,2,279.1,2,3.595,2,1.850,2
  06MT20110624,   A02,806,1,14,14,2,20110721,0645,54.0732,-43.3863,3639,1124.6, 3.6603,34.8921,2,   -999,9,283.7,2, -999,9,4.166,2,2.320,2
  06MT20110624,   A02,806,1,15,15,2,20110721,0645,54.0732,-43.3863,3639, 972.8, 3.6455,34.8795,2,   -999,9,288.3,2, -999,9,4.015,2,2.144,2
  06MT20110624,   A02,806,1,16,16,2,20110721,0645,54.0732,-43.3863,3639, 895.0, 3.7077,34.8817,2,   -999,9,286.7,2, -999,9,4.048,2,2.184,2
  06MT20110624,   A02,806,1,17,17,2,20110721,0645,54.0732,-43.3863,3639, 789.9, 3.7779,34.8840,2,34.8831,2,286.7,2,284.5,2,4.052,2,2.152,2
  06MT20110624,   A02,806,1,18,18,2,20110721,0645,54.0732,-43.3863,3639, 706.8, 3.8704,34.8902,2,   -999,9,286.6,2, -999,9, -999,9, -999,9
  06MT20110624,   A02,806,1,19,19,2,20110721,0645,54.0732,-43.3863,3639, 590.5, 3.9724,34.8958,2,   -999,9,284.2,2, -999,9, -999,9, -999,9
  06MT20110624,   A02,806,1,20,20,2,20110721,0645,54.0732,-43.3863,3639, 395.4, 4.2921,34.9072,2,   -999,9,278.1,2, -999,9,3.964,2,2.134,2
  06MT20110624,   A02,806,1,21,21,2,20110721,0645,54.0732,-43.3863,3639, 214.9, 3.5653,34.6932,2,   -999,9,308.7,2, -999,9,4.761,2,2.640,2
  06MT20110624,   A02,806,1,22,22,2,20110721,0645,54.0732,-43.3863,3639,  13.8, 8.2874,34.4756,2,   -999,9,301.2,2, -999,9,4.174,2,2.427,2