BOTTLE,20231122CCHSIOVAJ
EXPOCODE,SECT_ID,STNNBR,CASTNO,SAMPNO,BTLNBR,BTLNBR_FLAG_W,DATE,TIME,LATITUDE,LONGITUDE,DEPTH,CTDPRS,CTDTMP,CTDSAL,CTDSAL_FLAG_W,SALNTY,SALNTY_FLAG_W,CTDOXY,CTDOXY_FLAG_W,OXYGEN,OXYGEN_FLAG_W,CFC-11,CFC-11_FLAG_W,CFC-12,CFC-12_FLAG_W
,,,,,,,,,,,METERS,DBAR,ITS-90,PSS-78,,PSS-78,,UMOL/KG,,UMOL/KG,,PMOL/KG,,PMOL/KG,
  06MT20110624,   A02,828,1, 1, 1,2,20110726,1426,58.8902,-49.5172,3454,3506.5, 1.6668,34.8986,2,34.8977,2,299.4,2,299.5,2,4.169,6,2.155,6
  06MT20110624,   A02,828,1, 2, 2,2,20110726,1426,58.8902,-49.5172,3454,3298.7, 2.1443,34.9005,2,   -999,9,291.5,2, -999,9,3.566,2,1.797,2
  06MT20110624,   A02,828,1, 3, 3,2,20110726,1426,58.8902,-49.5172,3454,2998.3, 2.6178,34.9146,2,   -999,9,282.3,2, -999,9,2.846,2,1.436,2
  06MT20110624,   A02,828,1, 4, 4,2,20110726,1426,58.8902,-49.5172,3454,2688.1, 2.8917,34.9177,2,   -999,9,280.4,2,281.5,2,2.912,2,1.466,2
  06MT20110624,   A02,828,1, 5, 5,2,20110726,1426,58.8902,-49.5172,3454,2398.6, 3.1356,34.9153,2,   -999,9,279.4,2, -999,9,3.023,2,1.517,2
  06MT20110624,   A02,828,1, 6, 6,2,20110726,1426,58.8902,-49.5172,3454,2099.5, 3.4069,34.9148,2,   -999,9,278.2,2, -999,9,3.285,2,1.647,2
  06MT20110624,   A02,828,1, 7, 7,2,20110726,1426,58.8902,-49.5172,3454,1802.8, 3.6126,34.9124,2,   -999,9,275.8,2, -999,9,3.370,2,1.676,2
  06MT20110624,   A02,828,1, 8, 8,2,20110726,1426,58.8902,-49.5172,3454,1599.3, 3.6733,34.8979,2,   -999,9,280.9,2,281.0,2,3.869,2,1.985,2
  06MT20110624,   A02,828,1, 9, 9,2,20110726,1426,58.8902,-49.5172,3454,1399.2, 3.6658,34.8787,2,34.8831,2,286.7,2, -999,9,4.225,2,2.206,2
  06MT20110624,   A02,828,1,10,10,2,20110726,1426,58.8902,-49.5172,3454,1180.7, 3.7350,34.8740,2,   -999,9,292.5,2, -999,9,4.483,2,2.413,2
  06MT20110624,   A02,828,1,11,11,2,20110726,1426,58.8902,-49.5172,3454,1007.4, 3.7901,34.8724,2,   -999,9,295.0,2, -999,9,4.485,2,2.407,2
  06MT20110624,   A02,828,1,12,12,2,20110726,1426,58.8902,-49.5172,3454, 798.9, 3.7816,34.8625,2,   -999,9,299.6,2,299.7,2,4.569,2,2.460,2
  06MT20110624,   A02,828,1,13,13,2,20110726,1426,58.8902,-49.5172,3454, 652.8, 3.7851,34.8589,2,   -999,9,301.3,2, -999,9,4.613,2,2.467,2
  06MT20110624,   A02,828,1,14,14,2,20110726,1426,58.8902,-49.5172,3454, 592.3, 3.8088,34.8597,2,   -999,9,301.0,2, -999,9,4.583,2,2.428,2
  06MT20110624,   A02,828,1,15,15,2,20110726,1426,58.8902,-49.5172,3454, 384.9, 3.9609,34.8710,2,34.8709,2,300.2,2, -999,9,4.547,2,2.397,2
  06MT20110624,   A02,828,1,16,16,2,20110726,1426,58.8902,-49.5172,3454, 196.4, 4.1744,34.8723,2,   -999,9,295.6,2,295.2,6,4.502,2,2.424,2
  06MT20110624,   A02,828,1,17,17,2,20110726,1426,58.8902,-49.5172,3454, 100.5, 4.3299,34.8531,2,   -999,9,291.4,2, -999,9,4.537,2,2.462,2
  06MT20110624,   A02,828,1,18,18,2,20110726,1426,58.8902,-49.5172,3454,  12.1, 6.8180,34.2548,2,   -999,9,311.8,2,309.5,2,4.554,2,2.494,2
  06MT20110624,   A02,828,1,19,19,2,20110726,1426,58.8902,-49.5172,3454,  12.3, 6.8278,34.2549,2,   -999,9,311.8,2, -999,9, -999,9, -999,9
  06MT20110624,   A02,828,1,20,20,2,20110726,1426,58.8902,-49.5172,3454,  12.5, 6.8150,34.2551,2,   -999,9,311.8,2, -999,9, -999,9, -999,9
  06MT20110624,   A02,828,1,21,21,2,20110726,1426,58.8902,-49.5172,3454,  12.2, 6.8139,34.2572,2,   -999,9,311.8,2, -999,9, -999,9, -999,9
  06MT20110624,   A02,828,1,22,22,2,20110726,1426,58.8902,-49.5172,3454,  12.2, 6.8072,34.2585,2,   -999,9,311.8,2, -999,9, -999,9, -999,9
  06MT20110624,   A02,829,1, 1, 1,2,20110726,2214,59.7392,-48.6763,3172,3223.3, 1.6903,34.8946,2,34.8953,2,301.6,2,300.4,2,4.263,2,2.162,2
  06MT20110624,   A02,829,1, 2, 2,2,20110726,2214,59.7392,-48.6763,3172,2999.1, 2.0632,34.8994,2,   -999,9,293.3,2, -999,9,3.616,2,1.881,2
  06MT20110624,   A02,829,1, 3, 3,2,20110726,2214,59.7392,-48.6763,3172,2702.0, 2.5281,34.9129,2,   -999,9,283.4,2,283.1,2,2.861,2,1.451,2
  06MT20110624,   A02,829,1, 4, 4,2,20110726,2214,59.7392,-48.6763,3172,2412.9, 2.8318,34.9201,2,34.9197,2,279.7,2, -999,9,2.795,2,1.367,2
  06MT20110624,   A02,829,1, 5, 5,2,20110726,2214,59.7392,-48.6763,3172,2114.1, 3.0827,34.9171,2,   -999,9,280.2,2, -999,9,3.071,2,1.538,2
  06MT20110624,   A02,829,1, 6, 6,2,20110726,2214,59.7392,-48.6763,3172,1898.7, 3.2676,34.9166,2,   -999,9,279.9,2,280.5,2,3.280,2,1.645,2
  06MT20110624,   A02,829,1, 7, 7,2,20110726,2214,59.7392,-48.6763,3172,1698.1, 3.4567,34.9181,2,   -999,9,277.7,2, -999,9,3.368,6,1.717,6
  06MT20110624,   A02,829,1, 8, 8,2,20110726,2214,59.7392,-48.6763,3172,1498.0, 3.6263,34.9202,2,   -999,9,276.4,2, -999,9,3.556,2,1.819,2
  06MT20110624,   A02,829,1, 9, 9,2,20110726,2214,59.7392,-48.6763,3172,1298.6, 3.6666,34.8988,2,   -999,9,281.0,2, -999,9,3.929,2,2.064,2
  06MT20110624,   A02,829,1,10,10,2,20110726,2214,59.7392,-48.6763,3172,1097.5, 3.8016,34.9004,2,   -999,9,282.5,2, -999,9, -999,9, -999,9
  06MT20110624,   A02,829,1,11,11,2,20110726,2214,59.7392,-48.6763,3172, 856.0, 3.9312,34.8901,2,   -999,9,289.0,2,291.6,2,4.338,2,2.327,2
  06MT20110624,   A02,829,1,12,12,2,20110726,2214,59.7392,-48.6763,3172, 704.0, 4.3557,34.9322,2,34.9319,2,283.3,2, -999,9,4.108,2,2.203,2
  06MT20110624,   A02,829,1,13,13,2,20110726,2214,59.7392,-48.6763,3172, 503.7, 4.7788,34.9608,2,   -999,9,282.4,2, -999,9, -999,9, -999,9
  06MT20110624,   A02,829,1,14,14,2,20110726,2214,59.7392,-48.6763,3172, 290.4, 5.2085,34.9657,2,   -999,9,285.7,2, -999,9,4.102,2,2.242,2
  06MT20110624,   A02,829,1,15,15,2,20110726,2214,59.7392,-48.6763,3172,  99.8, 5.6518,34.8434,2,   -999,9,297.3,2, -999,9,4.306,2,2.330,2
  06MT20110624,   A02,829,1,16,16,2,20110726,2214,59.7392,-48.6763,3172,  12.9, 6.2380,34.2333,2,34.2040,3,314.8,2,315.9,6,4.551,2,2.607,2
  06MT20110624,   A02,829,1,17,17,2,20110726,2214,59.7392,-48.6763,3172,  12.5, 6.2483,34.2262,2,   -999,9,314.8,2, -999,9, -999,9, -999,9
  06MT20110624,   A02,829,1,18,18,2,20110726,2214,59.7392,-48.6763,3172,  12.9, 6.2382,34.2330,2,   -999,9,314.8,2, -999,9, -999,9, -999,9
  06MT20110624,   A02,829,1,19,19,2,20110726,2214,59.7392,-48.6763,3172,  12.9, 6.2386,34.2331,2,   -999,9,314.8,2, -999,9, -999,9, -999,9
  06MT20110624,   A02,829,1,20,20,2,20110726,2214,59.7392,-48.6763,3172,  12.6, 6.2420,34.2312,2,   -999,9,314.8,2, -999,9, -999,9, -999,9
  06MT20110624,   A02,829,1,21,21,2,20110726,2214,59.7392,-48.6763,3172,  12.6, 6.2427,34.2306,2,   -999,9,314.8,2, -999,9, -999,9, -999,9
  06MT20110624,   A02,829,1,22,22,2,20110726,2214,59.7392,-48.6763,3172,  12.9, 6.2409,34.2317,2,   -999,9,314.8,2, -999,9, -999,9, -999,9
  06MT20110624,   A02,830,1, 1, 1,2,20110727,0446,60.2260,-48.1510,1453,1480.8, 3.6773,34.9182,2,   -999,9,281.7,2, -999,9, -999,9, -999,9
  06MT20110624,   A02,830,1, 2, 2,2,20110727,0446,60.2260,-48.1510,1453,1480.8, 3.6772,34.9182,2,   -999,9,281.7,2, -999,9,3.713,6,1.966,6
  06MT20110624,   A02,830,1, 3, 3,2,20110727,0446,60.2260,-48.1510,1453,1480.8, 3.6774,34.9180,2,34.9201,2,281.7,2,281.0,2, -999,9, -999,9
  06MT20110624,   A02,830,1, 4, 4,2,20110727,0446,60.2260,-48.1510,1453,1393.3, 3.7080,34.9173,2,   -999,9,281.4,2, -999,9, -999,9, -999,9
  06MT20110624,   A02,830,1, 5, 5,2,20110727,0446,60.2260,-48.1510,1453,1286.6, 3.7759,34.9117,2,   -999,9,281.6,2, -999,9, -999,9, -999,9
  06MT20110624,   A02,830,1, 6, 6,2,20110727,0446,60.2260,-48.1510,1453,1199.2, 3.8401,34.9154,2,   -999,9,282.3,2, -999,9,3.956,2,2.125,2
  06MT20110624,   A02,830,1, 7, 7,2,20110727,0446,60.2260,-48.1510,1453,1001.2, 4.0230,34.9167,2,   -999,9,283.3,2,282.5,2,4.069,2,2.176,2
  06MT20110624,   A02,830,1, 8, 8,2,20110727,0446,60.2260,-48.1510,1453, 893.2, 4.1990,34.9227,2,   -999,9,282.7,2, -999,9, -999,9, -999,9
  06MT20110624,   A02,830,1, 9, 9,2,20110727,0446,60.2260,-48.1510,1453, 799.8, 4.3060,34.9288,2,34.9309,2,283.7,2, -999,9,4.125,2,2.224,2
  06MT20110624,   A02,830,1,10,10,2,20110727,0446,60.2260,-48.1510,1453, 709.9, 4.2406,34.9060,2,   -999,9,295.9,2, -999,9, -999,9, -999,9
  06MT20110624,   A02,830,1,11,11,2,20110727,0446,60.2260,-48.1510,1453, 606.7, 4.3140,34.9090,2,   -999,9,295.1,2,295.1,2,4.385,2,2.413,2
  06MT20110624,   A02,830,1,12,12,2,20110727,0446,60.2260,-48.1510,1453, 505.7, 4.5689,34.9310,2,   -999,9,292.2,2, -999,9, -999,9, -999,9
  06MT20110624,   A02,830,1,13,13,2,20110727,0446,60.2260,-48.1510,1453, 370.4, 4.9552,34.9706,2,34.9841,3,285.9,2, -999,9,4.108,2,2.244,2
  06MT20110624,   A02,830,1,14,14,2,20110727,0446,60.2260,-48.1510,1453, 299.7, 5.2127,34.9887,2,   -999,9,285.3,2, -999,9, -999,9, -999,9
  06MT20110624,   A02,830,1,15,15,2,20110727,0446,60.2260,-48.1510,1453, 199.1, 5.6183,34.9976,2,   -999,9,287.0,2,286.1,6,4.065,2,2.317,2
  06MT20110624,   A02,830,1,16,16,2,20110727,0446,60.2260,-48.1510,1453,  99.4, 6.8415,34.9271,2,   -999,9,295.4,2, -999,9, -999,9, -999,9
  06MT20110624,   A02,830,1,17,17,2,20110727,0446,60.2260,-48.1510,1453,  12.8, 7.2964,34.7733,2,   -999,9,300.7,2,301.7,2,4.134,2,2.318,2
  06MT20110624,   A02,830,1,18,18,2,20110727,0446,60.2260,-48.1510,1453,  12.6, 7.2689,34.7695,2,   -999,9,300.9,2, -999,9, -999,9, -999,9
  06MT20110624,   A02,830,1,19,19,2,20110727,0446,60.2260,-48.1510,1453,  12.5, 7.2975,34.7823,2,   -999,9,300.7,2, -999,9, -999,9, -999,9
  06MT20110624,   A02,830,1,20,20,2,20110727,0446,60.2260,-48.1510,1453,  12.6, 7.3151,34.7804,2,   -999,9,300.6,2, -999,9, -999,9, -999,9
  06MT20110624,   A02,830,1,21,21,2,20110727,0446,60.2260,-48.1510,1453,  12.6, 7.3010,34.7740,2,   -999,9,300.7,2, -999,9, -999,9, -999,9
  06MT20110624,   A02,830,1,22,22,2,20110727,0446,60.2260,-48.1510,1453,  12.5, 7.2294,34.7576,2,   -999,9,300.9,2, -999,9, -999,9, -999,9
  06MT20110624,   A02,831,1, 1, 1,2,20110727,0739,60.0385,-48.3530,2883,2921.7, 2.0769,34.8947,2,34.8967,2,297.3,2,296.4,2,3.851,2,2.003,2
  06MT20110624,   A02,831,1, 2, 2,2,20110727,0739,60.0385,-48.3530,2883,2922.0, 2.0770,34.8945,2,   -999,9,297.3,2, -999,9, -999,9, -999,9
  06MT20110624,   A02,831,1, 3, 3,2,20110727,0739,60.0385,-48.3530,2883,2701.6, 2.2679,34.9029,2,   -999,9,291.3,2, -999,9,3.344,2,1.700,2
  06MT20110624,   A02,831,1, 4, 4,2,20110727,0739,60.0385,-48.3530,2883,2499.1, 2.5524,34.9161,2,   -999,9,284.1,2,282.8,2,2.859,2,1.450,2
  06MT20110624,   A02,831,1, 5, 5,2,20110727,0739,60.0385,-48.3530,2883,2294.7, 2.7862,34.9211,2,   -999,9,281.8,2, -999,9,2.816,2,1.419,2
  06MT20110624,   A02,831,1, 6, 6,2,20110727,0739,60.0385,-48.3530,2883,2098.2, 2.9311,34.9172,2,34.9187,2,282.6,2, -999,9,2.942,2,1.472,2
  06MT20110624,   A02,831,1, 7, 7,2,20110727,0739,60.0385,-48.3530,2883,1905.4, 3.1306,34.9159,2,   -999,9,283.3,2, -999,9,3.224,2,1.611,2
  06MT20110624,   A02,831,1, 8, 8,2,20110727,0739,60.0385,-48.3530,2883,1698.6, 3.3192,34.9172,2,   -999,9,282.9,2,281.4,2,3.415,2,1.736,2
  06MT20110624,   A02,831,1, 9, 9,2,20110727,0739,60.0385,-48.3530,2883,1509.6, 3.5569,34.9226,2,   -999,9,280.7,2, -999,9,3.547,2,1.804,2
  06MT20110624,   A02,831,1,10,10,2,20110727,0739,60.0385,-48.3530,2883,1328.1, 3.6913,34.9198,2,   -999,9,279.3,2, -999,9,3.667,2,1.871,2
  06MT20110624,   A02,831,1,11,11,2,20110727,0739,60.0385,-48.3530,2883,1115.3, 3.7820,34.9088,2,   -999,9,282.5,2, -999,9,4.014,6,2.121,6
  06MT20110624,   A02,831,1,12,12,2,20110727,0739,60.0385,-48.3530,2883, 998.5, 3.8543,34.9069,2,   -999,9,284.0,2,283.3,6, -999,9, -999,9
  06MT20110624,   A02,831,1,13,13,2,20110727,0739,60.0385,-48.3530,2883, 868.8, 4.0382,34.9192,2,   -999,9,284.0,2, -999,9, -999,9, -999,9
  06MT20110624,   A02,831,1,14,14,2,20110727,0739,60.0385,-48.3530,2883, 682.6, 4.3224,34.9353,2,34.9335,2,282.9,2, -999,9,4.083,2,2.186,2
  06MT20110624,   A02,831,1,15,15,2,20110727,0739,60.0385,-48.3530,2883, 607.8, 4.3641,34.9300,2,   -999,9,289.3,2, -999,9, -999,9, -999,9
  06MT20110624,   A02,831,1,16,16,2,20110727,0739,60.0385,-48.3530,2883, 469.0, 4.4370,34.9242,2,   -999,9,292.8,2, -999,9,4.199,2,2.253,2
  06MT20110624,   A02,831,1,17,17,2,20110727,0739,60.0385,-48.3530,2883, 395.2, 4.6691,34.9504,2,   -999,9,288.7,2, -999,9, -999,9, -999,9
  06MT20110624,   A02,831,1,18,18,2,20110727,0739,60.0385,-48.3530,2883, 288.6, 4.8551,34.9658,2,   -999,9,289.2,2,287.8,2,4.202,2,2.320,2
  06MT20110624,   A02,831,1,19,19,2,20110727,0739,60.0385,-48.3530,2883, 199.2, 5.0168,34.9669,2,   -999,9,287.9,2, -999,9, -999,9, -999,9
  06MT20110624,   A02,831,1,20,20,2,20110727,0739,60.0385,-48.3530,2883,  99.8, 5.4659,34.8787,2,   -999,9,297.6,2, -999,9,4.327,2,2.395,2
  06MT20110624,   A02,831,1,21,21,2,20110727,0739,60.0385,-48.3530,2883,  11.0, 6.2948,34.1726,2,34.1791,2,310.7,2,311.1,2,4.539,2,2.507,2
  06MT20110624,   A02,831,1,22,22,2,20110727,0739,60.0385,-48.3530,2883,  10.8, 6.2967,34.1728,2,   -999,9,310.9,2, -999,9, -999,9, -999,9
  06MT20110624,   A02,832,1, 1, 1,2,20110727,1513,59.3272,-49.1220,3352,3368.5, 1.6453,34.8984,2,34.8989,2,298.9,2,300.4,2,4.223,2,2.208,2
  06MT20110624,   A02,832,1, 2, 2,2,20110727,1513,59.3272,-49.1220,3352,3366.9, 1.6455,34.8982,2,   -999,9,298.9,2, -999,9, -999,9, -999,9
  06MT20110624,   A02,832,1, 3, 3,2,20110727,1513,59.3272,-49.1220,3352,3099.1, 2.2056,34.9016,2,   -999,9,290.7,2, -999,9,3.596,2,1.815,2
  06MT20110624,   A02,832,1, 4, 4,2,20110727,1513,59.3272,-49.1220,3352,2798.8, 2.6263,34.9173,2,   -999,9,281.7,2,283.0,6, -999,9, -999,9
  06MT20110624,   A02,832,1, 5, 5,2,20110727,1513,59.3272,-49.1220,3352,2502.2, 2.9365,34.9175,2,   -999,9,281.0,2, -999,9,3.062,2,1.558,2
  06MT20110624,   A02,832,1, 6, 6,2,20110727,1513,59.3272,-49.1220,3352,2202.0, 3.1962,34.9143,2,34.9144,2,279.3,2, -999,9,3.163,2,1.591,2
  06MT20110624,   A02,832,1, 7, 7,2,20110727,1513,59.3272,-49.1220,3352,1911.2, 3.4428,34.9190,2,   -999,9,278.4,2,279.3,2, -999,9, -999,9
  06MT20110624,   A02,832,1, 8, 8,2,20110727,1513,59.3272,-49.1220,3352,1698.9, 3.6080,34.9196,2,   -999,9,276.9,2, -999,9,3.517,2,1.766,2
  06MT20110624,   A02,832,1, 9, 9,2,20110727,1513,59.3272,-49.1220,3352,1470.9, 3.6909,34.9022,2,   -999,9,280.9,2, -999,9,3.848,2,2.002,2
  06MT20110624,   A02,832,1,10,10,2,20110727,1513,59.3272,-49.1220,3352,1297.5, 3.6813,34.8852,2,   -999,9,284.7,2,285.5,2, -999,9, -999,9
  06MT20110624,   A02,832,1,11,11,2,20110727,1513,59.3272,-49.1220,3352,1293.7, 3.6822,34.8844,2,   -999,9,285.0,2, -999,9, -999,9, -999,9
  06MT20110624,   A02,832,1,12,12,2,20110727,1513,59.3272,-49.1220,3352,1095.6, 3.7291,34.8764,2,   -999,9,286.6,2, -999,9, -999,9, -999,9
  06MT20110624,   A02,832,1,13,13,2,20110727,1513,59.3272,-49.1220,3352,1097.1, 3.7274,34.8765,2,   -999,9,286.7,2, -999,9, -999,9, -999,9
  06MT20110624,   A02,832,1,14,14,2,20110727,1513,59.3272,-49.1220,3352, 899.2, 3.7814,34.8707,2,34.8739,2,294.3,2, -999,9,4.493,2,2.444,2
  06MT20110624,   A02,832,1,15,15,2,20110727,1513,59.3272,-49.1220,3352, 670.5, 3.7933,34.8634,2,   -999,9,296.4,2,297.7,2,4.596,2,2.567,2
  06MT20110624,   A02,832,1,16,16,2,20110727,1513,59.3272,-49.1220,3352, 670.1, 3.7967,34.8638,2,   -999,9,296.5,2, -999,9, -999,9, -999,9
  06MT20110624,   A02,832,1,17,17,2,20110727,1513,59.3272,-49.1220,3352, 518.9, 3.9467,34.8791,2,   -999,9,292.9,2, -999,9,4.551,2,2.472,2
  06MT20110624,   A02,832,1,18,18,2,20110727,1513,59.3272,-49.1220,3352, 293.7, 4.2188,34.8912,2,   -999,9,290.3,2,293.1,2,4.346,2,2.310,2
  06MT20110624,   A02,832,1,19,19,2,20110727,1513,59.3272,-49.1220,3352, 121.0, 4.2181,34.8263,2,   -999,9,289.4,2, -999,9,4.346,2,2.397,2
  06MT20110624,   A02,832,1,20,20,2,20110727,1513,59.3272,-49.1220,3352, 121.0, 4.2181,34.8263,2,   -999,9,289.4,2, -999,9, -999,9, -999,9
  06MT20110624,   A02,832,1,21,21,2,20110727,1513,59.3272,-49.1220,3352,  12.6, 7.2130,34.2153,2,   -999,9,305.9,2,307.8,2,4.458,2,2.551,2
  06MT20110624,   A02,832,1,22,22,2,20110727,1513,59.3272,-49.1220,3352,  12.6, 7.2112,34.2169,2,   -999,9,305.9,2, -999,9, -999,9, -999,9
  06MT20110624,   A02,833,1, 1, 1,2,20110727,2317,58.4283,-50.0975,3526,3582.5, 1.6519,34.8967,2,34.8971,2,300.7,2,300.1,2,4.136,2,2.151,2
  06MT20110624,   A02,833,1, 2, 2,2,20110727,2317,58.4283,-50.0975,3526,3299.2, 2.1541,34.9008,2,   -999,9,292.4,2, -999,9,3.639,2,1.858,2
  06MT20110624,   A02,833,1, 3, 3,2,20110727,2317,58.4283,-50.0975,3526,3003.9, 2.6122,34.9145,2,   -999,9,284.6,2,284.5,2,2.976,2,1.481,2
  06MT20110624,   A02,833,1, 4, 4,2,20110727,2317,58.4283,-50.0975,3526,2706.9, 2.9163,34.9174,2,   -999,9,283.4,2, -999,9,2.950,2,1.542,2
  06MT20110624,   A02,833,1, 5, 5,2,20110727,2317,58.4283,-50.0975,3526,2407.3, 3.1480,34.9153,2,34.9160,2,282.6,2, -999,9,3.088,2,1.521,2
  06MT20110624,   A02,833,1, 6, 6,2,20110727,2317,58.4283,-50.0975,3526,2110.6, 3.3917,34.9171,2,   -999,9,280.2,2, -999,9,3.370,2,1.715,2
  06MT20110624,   A02,833,1, 7, 7,2,20110727,2317,58.4283,-50.0975,3526,1798.5, 3.5994,34.9172,2,   -999,9,279.1,2, -999,9,3.484,2,1.777,2
  06MT20110624,   A02,833,1, 8, 8,2,20110727,2317,58.4283,-50.0975,3526,1610.8, 3.6834,34.9080,2,   -999,9,281.6,2,279.6,2,3.799,2,1.968,2
  06MT20110624,   A02,833,1, 9, 9,2,20110727,2317,58.4283,-50.0975,3526,1397.8, 3.6718,34.8852,2,   -999,9,287.8,2, -999,9,4.096,2,2.117,2
  06MT20110624,   A02,833,1,10,10,2,20110727,2317,58.4283,-50.0975,3526,1206.1, 3.6690,34.8715,2,   -999,9,290.9,2, -999,9,4.338,2,2.282,2
  06MT20110624,   A02,833,1,11,11,2,20110727,2317,58.4283,-50.0975,3526,1200.8, 3.6701,34.8717,2,   -999,9,290.5,2, -999,9, -999,9, -999,9
  06MT20110624,   A02,833,1,12,12,2,20110727,2317,58.4283,-50.0975,3526,1025.1, 3.8097,34.8812,2,   -999,9,291.8,2,292.1,2,4.443,2,2.405,2
  06MT20110624,   A02,833,1,13,13,2,20110727,2317,58.4283,-50.0975,3526,1025.1, 3.8097,34.8812,2,   -999,9,291.8,2, -999,9, -999,9, -999,9
  06MT20110624,   A02,833,1,14,14,2,20110727,2317,58.4283,-50.0975,3526, 785.8, 3.7897,34.8648,2,   -999,9,299.9,2,296.9,2,4.566,2,2.476,2
  06MT20110624,   A02,833,1,15,15,2,20110727,2317,58.4283,-50.0975,3526, 785.9, 3.7887,34.8640,2,   -999,9,299.8,2, -999,9, -999,9, -999,9
  06MT20110624,   A02,833,1,16,16,2,20110727,2317,58.4283,-50.0975,3526, 585.5, 3.8229,34.8588,2,   -999,9,299.6,2,300.8,6,4.566,2,2.447,2
  06MT20110624,   A02,833,1,17,17,2,20110727,2317,58.4283,-50.0975,3526, 572.4, 3.8336,34.8599,2,   -999,9,301.3,2, -999,9, -999,9, -999,9
  06MT20110624,   A02,833,1,18,18,2,20110727,2317,58.4283,-50.0975,3526, 372.7, 4.0758,34.8739,2,34.8802,3,297.8,2,296.9,2,4.471,2,2.412,2
  06MT20110624,   A02,833,1,19,19,2,20110727,2317,58.4283,-50.0975,3526, 373.0, 4.0733,34.8733,2,   -999,9,298.1,2, -999,9, -999,9, -999,9
  06MT20110624,   A02,833,1,20,20,2,20110727,2317,58.4283,-50.0975,3526, 189.4, 4.8440,34.9401,2,   -999,9,288.1,2, -999,9,4.268,2,2.391,2
  06MT20110624,   A02,833,1,21,21,2,20110727,2317,58.4283,-50.0975,3526,  13.8, 6.9304,34.2861,2,   -999,9,312.8,2,311.1,2,4.489,2,2.488,2
  06MT20110624,   A02,833,1,22,22,2,20110727,2317,58.4283,-50.0975,3526,  13.8, 6.7274,34.2823,2,   -999,9,312.0,2, -999,9, -999,9, -999,9