BOTTLE,20231122CCHSIOVAJ
EXPOCODE,SECT_ID,STNNBR,CASTNO,SAMPNO,BTLNBR,BTLNBR_FLAG_W,DATE,TIME,LATITUDE,LONGITUDE,DEPTH,CTDPRS,CTDTMP,CTDSAL,CTDSAL_FLAG_W,SALNTY,SALNTY_FLAG_W,CTDOXY,CTDOXY_FLAG_W,OXYGEN,OXYGEN_FLAG_W,CFC-11,CFC-11_FLAG_W,CFC-12,CFC-12_FLAG_W
,,,,,,,,,,,METERS,DBAR,ITS-90,PSS-78,,PSS-78,,UMOL/KG,,UMOL/KG,,PMOL/KG,,PMOL/KG,
  06MT20110624,   A02,793,1, 1, 1,2,20110718,1237,48.0607,-44.2820, 671, 660.7, 3.9728,34.8987,2,34.9014,2,280.8,2,280.6,2,4.139,2,2.273,2
  06MT20110624,   A02,793,1, 2, 2,2,20110718,1237,48.0607,-44.2820, 671, 660.2, 3.9695,34.8991,2,   -999,9,281.2,2, -999,9, -999,9, -999,9
  06MT20110624,   A02,793,1, 3, 3,2,20110718,1237,48.0607,-44.2820, 671, 658.2, 3.9696,34.8998,2,   -999,9,280.9,2, -999,9, -999,9, -999,9
  06MT20110624,   A02,793,1, 4, 4,2,20110718,1237,48.0607,-44.2820, 671, 598.8, 3.9998,34.9002,2,   -999,9,282.5,2, -999,9,4.190,6,2.362,6
  06MT20110624,   A02,793,1, 5, 5,2,20110718,1237,48.0607,-44.2820, 671, 597.3, 4.0016,34.9004,2,   -999,9,282.7,2, -999,9, -999,9, -999,9
  06MT20110624,   A02,793,1, 6, 6,2,20110718,1237,48.0607,-44.2820, 671, 500.0, 4.0919,34.8997,2,   -999,9,283.8,2, -999,9,4.191,2,2.281,2
  06MT20110624,   A02,793,1, 7, 7,2,20110718,1237,48.0607,-44.2820, 671, 498.3, 4.0954,34.8996,2,   -999,9,284.3,2, -999,9, -999,9, -999,9
  06MT20110624,   A02,793,1, 8, 8,2,20110718,1237,48.0607,-44.2820, 671, 395.0, 4.2589,34.9055,2,34.9058,2,283.5,2,283.6,2, -999,9, -999,9
  06MT20110624,   A02,793,1, 9, 9,2,20110718,1237,48.0607,-44.2820, 671, 395.1, 4.2584,34.9059,2,   -999,9,283.5,2, -999,9, -999,9, -999,9
  06MT20110624,   A02,793,1,10,10,2,20110718,1237,48.0607,-44.2820, 671, 300.3, 4.4794,34.9115,2,   -999,9,282.8,2, -999,9,4.220,2,2.421,2
  06MT20110624,   A02,793,1,11,11,2,20110718,1237,48.0607,-44.2820, 671, 300.4, 4.4839,34.9122,2,   -999,9,282.8,2, -999,9, -999,9, -999,9
  06MT20110624,   A02,793,1,12,12,2,20110718,1237,48.0607,-44.2820, 671, 210.2, 4.4259,34.8588,2,   -999,9,285.2,2,283.2,6, -999,9, -999,9
  06MT20110624,   A02,793,1,13,13,2,20110718,1237,48.0607,-44.2820, 671, 210.3, 4.4292,34.8597,2,   -999,9,285.4,2, -999,9, -999,9, -999,9
  06MT20110624,   A02,793,1,14,14,2,20110718,1237,48.0607,-44.2820, 671,  99.5, 3.9298,34.6570,2,34.6655,2,302.8,2, -999,9,4.457,2,2.576,2
  06MT20110624,   A02,793,1,15,15,2,20110718,1237,48.0607,-44.2820, 671,  98.5, 3.9306,34.6582,2,   -999,9,302.7,2, -999,9, -999,9, -999,9
  06MT20110624,   A02,793,1,16,16,2,20110718,1237,48.0607,-44.2820, 671,  10.3,11.5298,33.8303,2,   -999,9,288.3,2,289.1,2,3.481,2,2.045,2
  06MT20110624,   A02,793,1,17,17,2,20110718,1237,48.0607,-44.2820, 671,  10.7,11.5349,33.8286,2,   -999,9,289.0,2, -999,9, -999,9, -999,9
  06MT20110624,   A02,793,1,18,18,2,20110718,1237,48.0607,-44.2820, 671,  10.7,11.5395,33.8270,2,   -999,9,288.8,2, -999,9, -999,9, -999,9
  06MT20110624,   A02,793,1,19,19,2,20110718,1237,48.0607,-44.2820, 671,  10.4,11.5470,33.8231,2,   -999,9,289.0,2, -999,9, -999,9, -999,9
  06MT20110624,   A02,793,1,20,20,2,20110718,1237,48.0607,-44.2820, 671,  10.2,11.5386,33.8262,2,   -999,9,289.1,2, -999,9, -999,9, -999,9
  06MT20110624,   A02,793,1,21,21,2,20110718,1237,48.0607,-44.2820, 671,  10.1,11.5433,33.8248,2,   -999,9,288.7,2, -999,9, -999,9, -999,9
  06MT20110624,   A02,793,1,22,22,2,20110718,1237,48.0607,-44.2820, 671,  10.3,11.5500,33.8231,2,   -999,9,288.4,2, -999,9, -999,9, -999,9
  06MT20110624,   A02,794,1, 1, 1,2,20110718,1522,48.3472,-44.0125,2303,2331.6, 2.9807,34.9148,2,34.9152,2, -999,9,282.3,2, -999,9, -999,9
  06MT20110624,   A02,794,1, 2, 2,2,20110718,1522,48.3472,-44.0125,2303,2331.4, 2.9805,34.9147,2,34.9136,2, -999,9, -999,9, -999,9, -999,9
  06MT20110624,   A02,794,1, 3, 3,2,20110718,1522,48.3472,-44.0125,2303,2199.1, 2.9851,34.9149,2,   -999,9, -999,9,281.6,2,2.997,2,1.570,2
  06MT20110624,   A02,794,1, 4, 4,2,20110718,1522,48.3472,-44.0125,2303,2099.2, 3.0032,34.9145,2,   -999,9, -999,9, -999,9,3.016,2,1.574,2
  06MT20110624,   A02,794,1, 5, 5,2,20110718,1522,48.3472,-44.0125,2303,1997.6, 3.0350,34.9154,2,   -999,9, -999,9,281.8,6, -999,9, -999,9
  06MT20110624,   A02,794,1, 6, 6,2,20110718,1522,48.3472,-44.0125,2303,1899.8, 3.1063,34.9146,2,   -999,9, -999,9, -999,9,3.065,6,1.576,6
  06MT20110624,   A02,794,1, 7, 7,2,20110718,1522,48.3472,-44.0125,2303,1798.9, 3.1900,34.9143,2,   -999,9, -999,9,280.9,2, -999,9, -999,9
  06MT20110624,   A02,794,1, 8, 8,2,20110718,1522,48.3472,-44.0125,2303,1699.1, 3.3010,34.9153,2,   -999,9, -999,9, -999,9, -999,9, -999,9
  06MT20110624,   A02,794,1, 9, 9,2,20110718,1522,48.3472,-44.0125,2303,1581.2, 3.4211,34.9150,2,   -999,9, -999,9, -999,9, -999,9, -999,9
  06MT20110624,   A02,794,1,10,10,2,20110718,1522,48.3472,-44.0125,2303,1498.2, 3.5026,34.9163,2,   -999,9, -999,9,278.5,2, -999,9, -999,9
  06MT20110624,   A02,794,1,11,11,2,20110718,1522,48.3472,-44.0125,2303,1402.3, 3.5623,34.9158,2,   -999,9, -999,9, -999,9, -999,9, -999,9
  06MT20110624,   A02,794,1,12,12,2,20110718,1522,48.3472,-44.0125,2303,1299.6, 3.6271,34.9156,2,   -999,9, -999,9,278.2,2,3.448,2,1.796,2
  06MT20110624,   A02,794,1,13,13,2,20110718,1522,48.3472,-44.0125,2303,1148.3, 3.6740,34.9074,2,   -999,9, -999,9, -999,9,3.726,2,1.973,2
  06MT20110624,   A02,794,1,14,14,2,20110718,1522,48.3472,-44.0125,2303,1000.2, 3.7487,34.8965,2,   -999,9, -999,9,283.4,2,4.001,2,2.196,2
  06MT20110624,   A02,794,1,15,15,2,20110718,1522,48.3472,-44.0125,2303, 898.3, 3.8347,34.8946,2,   -999,9, -999,9, -999,9, -999,9, -999,9
  06MT20110624,   A02,794,1,16,16,2,20110718,1522,48.3472,-44.0125,2303, 798.5, 3.9177,34.8976,2,34.8997,2, -999,9,285.1,2, -999,9, -999,9
  06MT20110624,   A02,794,1,17,17,2,20110718,1522,48.3472,-44.0125,2303, 701.0, 4.0001,34.9003,2,   -999,9, -999,9, -999,9, -999,9, -999,9
  06MT20110624,   A02,794,1,18,18,2,20110718,1522,48.3472,-44.0125,2303, 598.5, 4.0808,34.8964,2,   -999,9, -999,9,287.8,2, -999,9, -999,9
  06MT20110624,   A02,794,1,19,19,2,20110718,1522,48.3472,-44.0125,2303, 498.1, 4.0706,34.8885,2,   -999,9, -999,9, -999,9, -999,9, -999,9
  06MT20110624,   A02,794,1,20,20,2,20110718,1522,48.3472,-44.0125,2303, 399.6, 4.0983,34.8827,2,34.8825,2, -999,9,293.5,2,4.277,2,2.362,2
  06MT20110624,   A02,794,1,21,21,2,20110718,1522,48.3472,-44.0125,2303, 198.4, 4.2339,34.8495,2,   -999,9, -999,9, -999,9,4.210,2,2.355,2
  06MT20110624,   A02,794,1,22,22,2,20110718,1522,48.3472,-44.0125,2303,  11.7,11.0105,33.9374,2,34.0023,3, -999,9,294.2,2,3.607,2,2.028,2
  06MT20110624,   A02,795,1, 1, 1,2,20110718,1915,48.6325,-43.7458,2369,2386.0, 2.7445,34.9141,2,34.9144,2,284.3,2,284.6,2,3.022,2,1.557,2
  06MT20110624,   A02,795,1, 2, 2,2,20110718,1915,48.6325,-43.7458,2369,2299.0, 2.7328,34.9145,2,   -999,9,284.6,2, -999,9,3.000,2,1.501,2
  06MT20110624,   A02,795,1, 3, 3,2,20110718,1915,48.6325,-43.7458,2369,2199.5, 2.7414,34.9139,2,   -999,9,284.2,2, -999,9, -999,9, -999,9
  06MT20110624,   A02,795,1, 4, 4,2,20110718,1915,48.6325,-43.7458,2369,2100.3, 2.8703,34.9158,2,   -999,9,283.9,2, -999,9,3.019,2,1.557,2
  06MT20110624,   A02,795,1, 5, 5,2,20110718,1915,48.6325,-43.7458,2369,1998.6, 2.9551,34.9156,2,   -999,9,282.9,2,282.7,6, -999,9, -999,9
  06MT20110624,   A02,795,1, 6, 6,2,20110718,1915,48.6325,-43.7458,2369,1900.3, 3.0837,34.9151,2,34.9150,2,282.4,2, -999,9,3.140,2,1.605,2
  06MT20110624,   A02,795,1, 7, 7,2,20110718,1915,48.6325,-43.7458,2369,1695.9, 3.2678,34.9153,2,   -999,9,280.6,2, -999,9,3.265,2,1.731,2
  06MT20110624,   A02,795,1, 8, 8,2,20110718,1915,48.6325,-43.7458,2369,1495.2, 3.4692,34.9171,2,   -999,9,278.4,2, -999,9,3.237,2,1.629,2
  06MT20110624,   A02,795,1, 9, 9,2,20110718,1915,48.6325,-43.7458,2369,1385.6, 3.5833,34.9162,2,   -999,9,277.7,2, -999,9, -999,9, -999,9
  06MT20110624,   A02,795,1,10,10,2,20110718,1915,48.6325,-43.7458,2369,1293.0, 3.6376,34.9142,2,   -999,9,277.1,2,277.4,2,3.494,2,1.766,2
  06MT20110624,   A02,795,1,11,11,2,20110718,1915,48.6325,-43.7458,2369,1193.4, 3.6907,34.9064,2,   -999,9,279.1,2, -999,9, -999,9, -999,9
  06MT20110624,   A02,795,1,12,12,2,20110718,1915,48.6325,-43.7458,2369,1099.5, 3.7172,34.8998,2,   -999,9,281.1,2, -999,9,3.876,2,2.044,2
  06MT20110624,   A02,795,1,13,13,2,20110718,1915,48.6325,-43.7458,2369,1000.2, 3.7542,34.8950,2,   -999,9,282.2,2, -999,9, -999,9, -999,9
  06MT20110624,   A02,795,1,14,14,2,20110718,1915,48.6325,-43.7458,2369, 899.8, 3.8425,34.8973,2,34.8973,2,282.4,2, -999,9,4.070,2,2.174,2
  06MT20110624,   A02,795,1,15,15,2,20110718,1915,48.6325,-43.7458,2369, 798.9, 3.9504,34.9003,2,   -999,9,282.4,2, -999,9, -999,9, -999,9
  06MT20110624,   A02,795,1,16,16,2,20110718,1915,48.6325,-43.7458,2369, 703.7, 4.0251,34.8959,2,   -999,9,285.8,2, -999,9,4.255,2,2.316,2
  06MT20110624,   A02,795,1,17,17,2,20110718,1915,48.6325,-43.7458,2369, 599.1, 4.0547,34.8915,2,   -999,9,286.9,2, -999,9,4.280,2,2.330,2
  06MT20110624,   A02,795,1,18,18,2,20110718,1915,48.6325,-43.7458,2369, 493.0, 4.0855,34.8854,2,   -999,9,289.9,2,289.8,2,4.336,2,2.394,2
  06MT20110624,   A02,795,1,19,19,2,20110718,1915,48.6325,-43.7458,2369, 399.1, 4.1399,34.8821,2,   -999,9,289.1,2, -999,9,4.330,2,2.366,2
  06MT20110624,   A02,795,1,20,20,2,20110718,1915,48.6325,-43.7458,2369, 298.6, 4.4375,34.9004,2,   -999,9,278.6,2, -999,9,4.196,2,2.321,2
  06MT20110624,   A02,795,1,21,21,2,20110718,1915,48.6325,-43.7458,2369, 101.1, 4.8205,34.6961,2,   -999,9,268.2,2, -999,9,4.212,2,2.360,2
  06MT20110624,   A02,795,1,22,22,2,20110718,1915,48.6325,-43.7458,2369,  12.7,10.7200,34.0341,2,34.0176,3,297.1,2,297.1,2,3.733,2,2.124,2
  06MT20110624,   A02,796,1, 1, 1,2,20110718,2307,48.9172,-43.4773,3680,3724.3, 2.0382,34.8962,2,34.8945,2,290.5,2,292.2,2,3.466,2,1.793,2
  06MT20110624,   A02,796,1, 2, 2,2,20110718,2307,48.9172,-43.4773,3680,3597.6, 2.0539,34.8962,2,   -999,9,289.7,2, -999,9,3.414,6,1.757,6
  06MT20110624,   A02,796,1, 3, 3,2,20110718,2307,48.9172,-43.4773,3680,3399.0, 2.1442,34.8983,2,   -999,9,286.4,2, -999,9,3.075,2,1.579,2
  06MT20110624,   A02,796,1, 4, 4,2,20110718,2307,48.9172,-43.4773,3680,3198.6, 2.2359,34.9001,2,   -999,9,284.3,2, -999,9,2.861,2,1.434,2
  06MT20110624,   A02,796,1, 5, 5,2,20110718,2307,48.9172,-43.4773,3680,3015.9, 2.3568,34.9049,2,   -999,9,283.1,2,283.2,6,2.709,2,1.367,2
  06MT20110624,   A02,796,1, 6, 6,2,20110718,2307,48.9172,-43.4773,3680,2803.6, 2.5189,34.9113,2,34.9099,2,281.5,2, -999,9,2.629,2,1.306,2
  06MT20110624,   A02,796,1, 7, 7,2,20110718,2307,48.9172,-43.4773,3680,2615.1, 2.7153,34.9156,2,   -999,9,281.6,2, -999,9,2.784,2,1.403,2
  06MT20110624,   A02,796,1, 8, 8,2,20110718,2307,48.9172,-43.4773,3680,2397.6, 2.8841,34.9169,2,   -999,9,281.3,2, -999,9,2.731,2,1.373,2
  06MT20110624,   A02,796,1, 9, 9,2,20110718,2307,48.9172,-43.4773,3680,2199.1, 3.0481,34.9161,2,   -999,9,280.9,2,279.4,2,2.730,2,1.317,2
  06MT20110624,   A02,796,1,10,10,2,20110718,2307,48.9172,-43.4773,3680,1998.3, 3.2028,34.9141,2,   -999,9,280.4,2, -999,9, -999,9, -999,9
  06MT20110624,   A02,796,1,11,11,2,20110718,2307,48.9172,-43.4773,3680,1799.1, 3.3566,34.9155,2,   -999,9,279.7,2, -999,9,3.049,2,1.476,2
  06MT20110624,   A02,796,1,12,12,2,20110718,2307,48.9172,-43.4773,3680,1599.1, 3.5223,34.9177,2,34.9168,2,278.7,2, -999,9,3.237,2,1.611,2
  06MT20110624,   A02,796,1,13,13,2,20110718,2307,48.9172,-43.4773,3680,1388.0, 3.6682,34.9170,2,   -999,9,277.8,2,276.3,2,3.394,2,1.714,2
  06MT20110624,   A02,796,1,14,14,2,20110718,2307,48.9172,-43.4773,3680,1201.3, 3.7207,34.9071,2,   -999,9,280.7,2, -999,9,3.747,2,1.957,2
  06MT20110624,   A02,796,1,15,15,2,20110718,2307,48.9172,-43.4773,3680,1022.0, 3.8282,34.9056,2,   -999,9,280.9,2, -999,9,3.905,2,2.117,2
  06MT20110624,   A02,796,1,16,16,2,20110718,2307,48.9172,-43.4773,3680, 909.1, 3.9335,34.9082,2,   -999,9,280.4,2, -999,9,3.967,2,2.149,2
  06MT20110624,   A02,796,1,17,17,2,20110718,2307,48.9172,-43.4773,3680, 778.5, 4.0524,34.9139,2,34.9160,2,281.4,2,277.7,2,3.933,2,2.123,2
  06MT20110624,   A02,796,1,18,18,2,20110718,2307,48.9172,-43.4773,3680, 708.1, 4.1085,34.9120,2,   -999,9,281.8,2, -999,9,4.007,2,2.196,2
  06MT20110624,   A02,796,1,19,19,2,20110718,2307,48.9172,-43.4773,3680, 569.7, 4.1801,34.9055,2,   -999,9,283.1,2, -999,9,4.039,2,2.204,2
  06MT20110624,   A02,796,1,20,20,2,20110718,2307,48.9172,-43.4773,3680, 419.8, 4.4448,34.9157,2,   -999,9,275.6,2, -999,9,4.022,2,2.191,2
  06MT20110624,   A02,796,1,21,21,2,20110718,2307,48.9172,-43.4773,3680, 225.6, 4.6707,34.8404,2,   -999,9,269.0,2, -999,9,3.828,2,2.070,2
  06MT20110624,   A02,796,1,22,22,2,20110718,2307,48.9172,-43.4773,3680,  13.0,11.8144,34.2143,2,   -999,9,284.5,2,285.9,2,3.268,2,1.999,2
  06MT20110624,   A02,797,1, 1, 1,2,20110719,0332,49.2035,-43.2108,3953,4008.0, 1.8981,34.8927,2,34.8953,2,296.1,2,295.4,2,3.623,2,1.901,2
  06MT20110624,   A02,797,1, 2, 2,2,20110719,0332,49.2035,-43.2108,3953,3964.3, 1.9439,34.8941,2,   -999,9,295.9,2, -999,9,3.655,2,1.996,2
  06MT20110624,   A02,797,1, 3, 3,2,20110719,0332,49.2035,-43.2108,3953,3596.9, 2.0592,34.8966,2,   -999,9,292.9,2, -999,9, -999,9, -999,9
  06MT20110624,   A02,797,1, 4, 4,2,20110719,0332,49.2035,-43.2108,3953,3298.7, 2.1705,34.8990,2,   -999,9,288.2,2,288.5,2,3.042,2,1.619,2
  06MT20110624,   A02,797,1, 5, 5,2,20110719,0332,49.2035,-43.2108,3953,2998.2, 2.3945,34.9060,2,34.9085,2,285.0,2, -999,9, -999,9, -999,9
  06MT20110624,   A02,797,1, 6, 6,2,20110719,0332,49.2035,-43.2108,3953,2697.3, 2.6743,34.9162,2,   -999,9,281.5,2, -999,9, -999,9, -999,9
  06MT20110624,   A02,797,1, 7, 7,2,20110719,0332,49.2035,-43.2108,3953,2398.9, 2.9005,34.9174,2,   -999,9,280.6,2, -999,9,2.583,2,1.341,2
  06MT20110624,   A02,797,1, 8, 8,2,20110719,0332,49.2035,-43.2108,3953,2084.5, 3.1419,34.9158,2,   -999,9,280.1,2,279.8,2,2.897,2,1.513,2
  06MT20110624,   A02,797,1, 9, 9,2,20110719,0332,49.2035,-43.2108,3953,1799.5, 3.3943,34.9159,2,   -999,9,278.1,2, -999,9, -999,9, -999,9
  06MT20110624,   A02,797,1,10,10,2,20110719,0332,49.2035,-43.2108,3953,1483.7, 3.6651,34.9181,2,34.9181,2,275.2,2, -999,9,3.254,2,1.700,2
  06MT20110624,   A02,797,1,11,11,2,20110719,0332,49.2035,-43.2108,3953,1300.0, 3.7221,34.9080,2,   -999,9,277.4,2, -999,9,3.572,2,1.903,2
  06MT20110624,   A02,797,1,12,12,2,20110719,0332,49.2035,-43.2108,3953,1073.9, 3.8574,34.9074,2,   -999,9,277.5,2,278.5,2,3.714,2,1.972,2
  06MT20110624,   A02,797,1,13,13,2,20110719,0332,49.2035,-43.2108,3953, 987.1, 3.9039,34.9073,2,   -999,9,278.5,2, -999,9, -999,9, -999,9
  06MT20110624,   A02,797,1,14,14,2,20110719,0332,49.2035,-43.2108,3953, 885.7, 4.0200,34.9139,2,   -999,9,278.0,2, -999,9, -999,9, -999,9
  06MT20110624,   A02,797,1,15,15,2,20110719,0332,49.2035,-43.2108,3953, 772.7, 4.1101,34.9136,2,   -999,9,278.2,2, -999,9,3.863,2,2.114,2
  06MT20110624,   A02,797,1,16,16,2,20110719,0332,49.2035,-43.2108,3953, 687.3, 4.2086,34.9177,2,   -999,9,276.3,2, -999,9,3.891,6,2.112,6
  06MT20110624,   A02,797,1,17,17,2,20110719,0332,49.2035,-43.2108,3953, 474.3, 4.4481,34.9196,2,34.9233,2,272.9,2, -999,9, -999,9, -999,9
  06MT20110624,   A02,797,1,18,18,2,20110719,0332,49.2035,-43.2108,3953, 283.0, 4.2677,34.7908,2,   -999,9,278.0,2,281.0,6,4.219,2,2.382,2
  06MT20110624,   A02,797,1,19,19,2,20110719,0332,49.2035,-43.2108,3953, 100.3, 8.9910,34.9868,2,   -999,9,232.7,2, -999,9,2.852,3,1.598,3
  06MT20110624,   A02,797,1,20,20,2,20110719,0332,49.2035,-43.2108,3953,  13.0,11.7178,34.1292,2,   -999,9,280.7,2, -999,9, -999,9, -999,9
  06MT20110624,   A02,797,1,21,21,2,20110719,0332,49.2035,-43.2108,3953,  12.9,11.6640,34.1472,2,   -999,9,280.7,2,288.3,2,3.510,6,1.927,6
  06MT20110624,   A02,797,1,22,22,2,20110719,0332,49.2035,-43.2108,3953,  12.9,11.5327,34.1487,2,   -999,9,281.0,2, -999,9,3.558,6,2.034,6
  06MT20110624,   A02,798,1, 1, 1,2,20110719,0805,49.4892,-42.9433,4181,4243.5, 1.9042,34.8923,2,34.8912,2,294.0,2,294.9,2,3.924,2,2.036,2
  06MT20110624,   A02,798,1, 2, 2,2,20110719,0805,49.4892,-42.9433,4181,3998.0, 2.0232,34.8950,2,   -999,9,291.6,2, -999,9,3.644,2,1.861,2
  06MT20110624,   A02,798,1, 3, 3,2,20110719,0805,49.4892,-42.9433,4181,3699.8, 2.1360,34.8978,2,   -999,9,286.5,2, -999,9,3.286,2,1.703,2
  06MT20110624,   A02,798,1, 4, 4,2,20110719,0805,49.4892,-42.9433,4181,3399.0, 2.2480,34.8993,2,   -999,9,281.1,2, -999,9,2.564,2,1.306,2
  06MT20110624,   A02,798,1, 5, 5,2,20110719,0805,49.4892,-42.9433,4181,3101.2, 2.4534,34.9079,2,   -999,9,279.0,2, -999,9, -999,9, -999,9
  06MT20110624,   A02,798,1, 6, 6,2,20110719,0805,49.4892,-42.9433,4181,2788.9, 2.7204,34.9168,2,   -999,9,278.2,2,278.6,2,2.329,2,1.169,2
  06MT20110624,   A02,798,1, 7, 7,2,20110719,0805,49.4892,-42.9433,4181,2497.4, 2.9602,34.9156,2,34.9140,2,280.2,2, -999,9,2.919,2,1.477,2
  06MT20110624,   A02,798,1, 8, 8,2,20110719,0805,49.4892,-42.9433,4181,2199.0, 3.1881,34.9151,2,   -999,9,279.5,2, -999,9,3.034,2,1.553,2
  06MT20110624,   A02,798,1, 9, 9,2,20110719,0805,49.4892,-42.9433,4181,1894.5, 3.3890,34.9158,2,   -999,9,279.0,2,278.7,2,3.180,2,1.606,2
  06MT20110624,   A02,798,1,10,10,2,20110719,0805,49.4892,-42.9433,4181,1693.3, 3.5476,34.9179,2,   -999,9,277.2,2, -999,9,3.228,2,1.621,2
  06MT20110624,   A02,798,1,11,11,2,20110719,0805,49.4892,-42.9433,4181,1498.8, 3.6622,34.9149,2,   -999,9,278.0,2, -999,9,3.451,2,1.758,2
  06MT20110624,   A02,798,1,12,12,2,20110719,0805,49.4892,-42.9433,4181,1299.1, 3.7253,34.9026,2,   -999,9,280.9,2,279.0,2,3.792,2,1.998,2
  06MT20110624,   A02,798,1,13,13,2,20110719,0805,49.4892,-42.9433,4181,1099.6, 3.7989,34.8958,2,   -999,9,283.0,2, -999,9,4.012,2,2.119,2
  06MT20110624,   A02,798,1,14,14,2,20110719,0805,49.4892,-42.9433,4181,1018.9, 3.8625,34.8983,2,   -999,9,282.8,2, -999,9,3.960,2,2.127,2
  06MT20110624,   A02,798,1,15,15,2,20110719,0805,49.4892,-42.9433,4181, 925.4, 3.9636,34.9026,2,34.9040,2,283.0,2, -999,9,4.009,2,2.188,2
  06MT20110624,   A02,798,1,16,16,2,20110719,0805,49.4892,-42.9433,4181, 822.5, 4.0733,34.9054,2,   -999,9,282.6,2,281.2,2,4.056,2,2.237,2
  06MT20110624,   A02,798,1,17,17,2,20110719,0805,49.4892,-42.9433,4181, 682.7, 4.0959,34.8921,2,   -999,9,287.9,2, -999,9, -999,9, -999,9
  06MT20110624,   A02,798,1,18,18,2,20110719,0805,49.4892,-42.9433,4181, 615.6, 4.1568,34.8950,2,   -999,9,285.1,2, -999,9,4.130,2,2.271,2
  06MT20110624,   A02,798,1,19,19,2,20110719,0805,49.4892,-42.9433,4181, 401.9, 4.3406,34.8734,2,   -999,9,282.8,2, -999,9,4.167,2,2.377,2
  06MT20110624,   A02,798,1,20,20,2,20110719,0805,49.4892,-42.9433,4181, 121.5, 5.2911,34.5803,2,   -999,9,273.5,2, -999,9,4.076,6,2.250,6
  06MT20110624,   A02,798,1,21,21,2,20110719,0805,49.4892,-42.9433,4181,  14.2,11.4626,34.1913,2,34.1746,3,288.5,2,288.2,6,3.512,2,2.032,2
  06MT20110624,   A02,798,1,22,22,2,20110719,0805,49.4892,-42.9433,4181,  14.2,11.4572,34.1919,2,   -999,9,288.5,2, -999,9, -999,9, -999,9