BOTTLE,20231122CCHSIOVAJ
EXPOCODE,SECT_ID,STNNBR,CASTNO,SAMPNO,BTLNBR,BTLNBR_FLAG_W,DATE,TIME,LATITUDE,LONGITUDE,DEPTH,CTDPRS,CTDTMP,CTDSAL,CTDSAL_FLAG_W,SALNTY,SALNTY_FLAG_W,CTDOXY,CTDOXY_FLAG_W,OXYGEN,OXYGEN_FLAG_W,CFC-11,CFC-11_FLAG_W,CFC-12,CFC-12_FLAG_W
,,,,,,,,,,,METERS,DBAR,ITS-90,PSS-78,,PSS-78,,UMOL/KG,,UMOL/KG,,PMOL/KG,,PMOL/KG,
  06MT20110624,   A02,834,1, 1, 1,2,20110728,0738,57.7078,-50.8832,3595,3649.5, 1.7175,34.8939,2,34.8951,2,299.6,2,299.3,2,4.147,2,2.113,2
  06MT20110624,   A02,834,1, 2, 2,2,20110728,0738,57.7078,-50.8832,3595,3649.9, 1.7170,34.8944,2,   -999,9,299.6,2, -999,9, -999,9, -999,9
  06MT20110624,   A02,834,1, 3, 3,2,20110728,0738,57.7078,-50.8832,3595,3199.2, 2.6196,34.9141,2,   -999,9,282.5,2, -999,9,2.893,2,1.434,2
  06MT20110624,   A02,834,1, 4, 4,2,20110728,0738,57.7078,-50.8832,3595,2899.8, 2.8105,34.9140,2,   -999,9,283.9,2,283.1,2,3.206,2,1.600,2
  06MT20110624,   A02,834,1, 5, 5,2,20110728,0738,57.7078,-50.8832,3595,2598.8, 2.9098,34.9150,2,   -999,9,283.2,2, -999,9,3.175,2,1.558,2
  06MT20110624,   A02,834,1, 6, 6,2,20110728,0738,57.7078,-50.8832,3595,2299.4, 3.1318,34.9135,2,   -999,9,280.2,2, -999,9,3.041,2,1.539,2
  06MT20110624,   A02,834,1, 7, 7,2,20110728,0738,57.7078,-50.8832,3595,1989.6, 3.3696,34.9112,2,   -999,9,277.2,2,277.7,2,3.172,2,1.598,2
  06MT20110624,   A02,834,1, 8, 8,2,20110728,0738,57.7078,-50.8832,3595,1698.4, 3.6177,34.9141,2,34.9158,2,276.1,2, -999,9,3.500,2,1.812,2
  06MT20110624,   A02,834,1, 9, 9,2,20110728,0738,57.7078,-50.8832,3595,1498.8, 3.6458,34.8940,2,   -999,9,282.4,2, -999,9,3.863,2,2.008,2
  06MT20110624,   A02,834,1,10,10,2,20110728,0738,57.7078,-50.8832,3595,1299.1, 3.6351,34.8759,2,   -999,9,287.1,2,286.9,2,4.222,2,2.268,2
  06MT20110624,   A02,834,1,11,11,2,20110728,0738,57.7078,-50.8832,3595,1099.4, 3.6639,34.8695,2,   -999,9,288.8,2, -999,9,4.317,2,2.273,2
  06MT20110624,   A02,834,1,12,12,2,20110728,0738,57.7078,-50.8832,3595,1097.3, 3.6645,34.8697,2,   -999,9,288.7,2, -999,9, -999,9, -999,9
  06MT20110624,   A02,834,1,13,13,2,20110728,0738,57.7078,-50.8832,3595, 898.2, 3.7820,34.8716,2,   -999,9,293.6,2,293.4,6,4.402,2,2.418,2
  06MT20110624,   A02,834,1,14,14,2,20110728,0738,57.7078,-50.8832,3595, 699.3, 3.7628,34.8605,2,   -999,9,298.6,2, -999,9,4.487,2,2.438,2
  06MT20110624,   A02,834,1,15,15,2,20110728,0738,57.7078,-50.8832,3595, 698.7, 3.7633,34.8601,2,   -999,9,298.5,2, -999,9, -999,9, -999,9
  06MT20110624,   A02,834,1,16,16,2,20110728,0738,57.7078,-50.8832,3595, 498.4, 3.8159,34.8609,2,   -999,9,299.6,2,300.3,2,4.560,2,2.551,2
  06MT20110624,   A02,834,1,17,17,2,20110728,0738,57.7078,-50.8832,3595, 298.2, 3.9768,34.8675,2,   -999,9,296.1,2, -999,9,4.493,2,2.499,2
  06MT20110624,   A02,834,1,18,18,2,20110728,0738,57.7078,-50.8832,3595, 100.7, 4.2101,34.8483,2,   -999,9,289.9,2, -999,9,4.475,2,2.469,2
  06MT20110624,   A02,834,1,19,19,2,20110728,0738,57.7078,-50.8832,3595,  12.2, 7.9330,34.4229,2,34.4447,3,303.6,2,304.2,2,4.171,2,2.286,2
  06MT20110624,   A02,834,1,20,20,2,20110728,0738,57.7078,-50.8832,3595,  12.4, 7.9290,34.4243,2,   -999,9,303.6,2, -999,9, -999,9, -999,9
  06MT20110624,   A02,834,1,21,21,2,20110728,0738,57.7078,-50.8832,3595,  12.5, 7.9298,34.4240,2,   -999,9,303.6,2, -999,9, -999,9, -999,9
  06MT20110624,   A02,834,1,22,22,2,20110728,0738,57.7078,-50.8832,3595,  12.3, 7.9301,34.4240,2,   -999,9,303.6,2, -999,9, -999,9, -999,9
  06MT20110624,   A02,835,1, 1, 1,2,20110728,1545,57.0052,-51.6383,3541,3594.8, 1.7280,34.8973,2,34.8971,2,298.0,2,299.4,2, -999,9, -999,9
  06MT20110624,   A02,835,1, 2, 2,2,20110728,1545,57.0052,-51.6383,3541,3594.9, 1.7277,34.8974,2,   -999,9,298.0,2, -999,9, -999,9, -999,9
  06MT20110624,   A02,835,1, 3, 3,2,20110728,1545,57.0052,-51.6383,3541,3248.7, 2.4041,34.9073,2,   -999,9,285.3,2, -999,9, -999,9, -999,9
  06MT20110624,   A02,835,1, 4, 4,2,20110728,1545,57.0052,-51.6383,3541,2999.0, 2.7008,34.9185,2,   -999,9,281.9,2, -999,9,2.821,2,1.407,2
  06MT20110624,   A02,835,1, 5, 5,2,20110728,1545,57.0052,-51.6383,3541,2698.3, 2.9629,34.9179,2,   -999,9,281.5,2, -999,9, -999,9, -999,9
  06MT20110624,   A02,835,1, 6, 6,2,20110728,1545,57.0052,-51.6383,3541,2407.3, 3.1791,34.9151,2,   -999,9,282.0,2, -999,9,3.085,2,1.537,2
  06MT20110624,   A02,835,1, 7, 7,2,20110728,1545,57.0052,-51.6383,3541,2101.8, 3.4419,34.9169,2,   -999,9,280.0,2,279.3,2, -999,9, -999,9
  06MT20110624,   A02,835,1, 8, 8,2,20110728,1545,57.0052,-51.6383,3541,1898.9, 3.5875,34.9173,2,34.9193,2,278.1,2, -999,9, -999,9, -999,9
  06MT20110624,   A02,835,1, 9, 9,2,20110728,1545,57.0052,-51.6383,3541,1596.3, 3.6690,34.8971,2,   -999,9,284.7,2, -999,9,3.944,2,2.070,2
  06MT20110624,   A02,835,1,10,10,2,20110728,1545,57.0052,-51.6383,3541,1398.5, 3.6777,34.8810,2,   -999,9,288.3,2, -999,9, -999,9, -999,9
  06MT20110624,   A02,835,1,11,11,2,20110728,1545,57.0052,-51.6383,3541,1212.1, 3.6992,34.8740,2,   -999,9,290.6,2, -999,9, -999,9, -999,9
  06MT20110624,   A02,835,1,12,12,2,20110728,1545,57.0052,-51.6383,3541, 973.1, 3.7881,34.8722,2,   -999,9,292.5,2,290.3,6, -999,9, -999,9
  06MT20110624,   A02,835,1,13,13,2,20110728,1545,57.0052,-51.6383,3541, 905.7, 3.7925,34.8695,2,   -999,9,294.1,2, -999,9, -999,9, -999,9
  06MT20110624,   A02,835,1,14,14,2,20110728,1545,57.0052,-51.6383,3541, 797.7, 3.7787,34.8639,2,34.8656,2,297.8,2,297.2,2,4.519,2,2.473,2
  06MT20110624,   A02,835,1,15,15,2,20110728,1545,57.0052,-51.6383,3541, 691.6, 3.7819,34.8610,2,   -999,9,299.7,2, -999,9, -999,9, -999,9
  06MT20110624,   A02,835,1,16,16,2,20110728,1545,57.0052,-51.6383,3541, 627.2, 3.7884,34.8598,2,   -999,9,300.4,2,300.8,2,4.566,2,2.480,2
  06MT20110624,   A02,835,1,17,17,2,20110728,1545,57.0052,-51.6383,3541, 527.1, 3.8435,34.8648,2,   -999,9,300.6,2, -999,9, -999,9, -999,9
  06MT20110624,   A02,835,1,18,18,2,20110728,1545,57.0052,-51.6383,3541, 406.9, 3.9447,34.8701,2,   -999,9,299.1,2,300.5,2,4.525,2,2.470,2
  06MT20110624,   A02,835,1,19,19,2,20110728,1545,57.0052,-51.6383,3541, 314.0, 4.0434,34.8734,2,   -999,9,298.0,2, -999,9, -999,9, -999,9
  06MT20110624,   A02,835,1,20,20,2,20110728,1545,57.0052,-51.6383,3541, 228.5, 4.0480,34.8569,2,   -999,9,296.0,2, -999,9,4.581,2,2.585,2
  06MT20110624,   A02,835,1,21,21,2,20110728,1545,57.0052,-51.6383,3541,  71.3, 3.9792,34.7362,2,   -999,9,297.0,2, -999,9, -999,9, -999,9
  06MT20110624,   A02,835,1,22,22,2,20110728,1545,57.0052,-51.6383,3541,  11.8, 7.5231,34.3235,2,   -999,9,310.1,2,311.0,2,4.261,2,2.295,2
  06MT20110624,   A02,836,1, 1, 1,2,20110728,2052,56.6685,-52.0038,3535,3590.8, 1.6779,34.8920,2,34.8938,2,297.4,2,299.0,2,4.150,2,2.106,2
  06MT20110624,   A02,836,1, 2, 2,2,20110728,2052,56.6685,-52.0038,3535,3590.5, 1.6779,34.8924,2,   -999,9,297.4,2, -999,9, -999,9, -999,9
  06MT20110624,   A02,836,1, 3, 3,2,20110728,2052,56.6685,-52.0038,3535,3298.9, 2.2298,34.9008,2,   -999,9,287.2,2, -999,9,3.345,2,1.693,2
  06MT20110624,   A02,836,1, 4, 4,2,20110728,2052,56.6685,-52.0038,3535,3102.5, 2.5299,34.9111,2,   -999,9,283.2,2, -999,9,3.010,2,1.525,2
  06MT20110624,   A02,836,1, 5, 5,2,20110728,2052,56.6685,-52.0038,3535,2798.8, 2.8459,34.9190,2,   -999,9,280.6,2, -999,9,2.826,2,1.439,2
  06MT20110624,   A02,836,1, 6, 6,2,20110728,2052,56.6685,-52.0038,3535,2493.7, 3.0535,34.9151,2,   -999,9,280.6,2, -999,9,3.007,2,1.546,2
  06MT20110624,   A02,836,1, 7, 7,2,20110728,2052,56.6685,-52.0038,3535,2198.9, 3.2721,34.9140,2,   -999,9,279.9,2,280.1,6,3.235,2,1.717,2
  06MT20110624,   A02,836,1, 8, 8,2,20110728,2052,56.6685,-52.0038,3535,1898.6, 3.5060,34.9178,2,34.9179,2,278.1,2, -999,9,3.371,2,1.671,2
  06MT20110624,   A02,836,1, 9, 9,2,20110728,2052,56.6685,-52.0038,3535,1716.6, 3.6335,34.9162,2,   -999,9,277.3,2, -999,9,3.531,2,1.769,2
  06MT20110624,   A02,836,1,10,10,2,20110728,2052,56.6685,-52.0038,3535,1487.5, 3.6455,34.8927,2,   -999,9,282.8,2, -999,9, -999,9, -999,9
  06MT20110624,   A02,836,1,11,11,2,20110728,2052,56.6685,-52.0038,3535,1294.4, 3.6478,34.8779,2,   -999,9,286.0,2,284.7,2,4.152,2,2.168,2
  06MT20110624,   A02,836,1,12,12,2,20110728,2052,56.6685,-52.0038,3535,1127.5, 3.6658,34.8717,2,   -999,9,288.4,2,288.5,2,4.348,2,2.322,2
  06MT20110624,   A02,836,1,13,13,2,20110728,2052,56.6685,-52.0038,3535,1000.9, 3.7314,34.8730,2,   -999,9,289.1,2, -999,9, -999,9, -999,9
  06MT20110624,   A02,836,1,14,14,2,20110728,2052,56.6685,-52.0038,3535, 912.1, 3.7805,34.8769,2,   -999,9,288.3,2,289.2,2,4.387,2,2.376,2
  06MT20110624,   A02,836,1,15,15,2,20110728,2052,56.6685,-52.0038,3535, 796.4, 3.7973,34.8710,2,   -999,9,291.2,2, -999,9, -999,9, -999,9
  06MT20110624,   A02,836,1,16,16,2,20110728,2052,56.6685,-52.0038,3535, 670.6, 3.7921,34.8652,2,   -999,9,298.2,2,298.8,2,4.492,2,2.451,2
  06MT20110624,   A02,836,1,17,17,2,20110728,2052,56.6685,-52.0038,3535, 625.1, 3.8158,34.8665,2,   -999,9,296.9,2, -999,9, -999,9, -999,9
  06MT20110624,   A02,836,1,18,18,2,20110728,2052,56.6685,-52.0038,3535, 518.3, 3.8236,34.8630,2,34.8627,2,297.8,2,298.6,2,4.496,2,2.467,2
  06MT20110624,   A02,836,1,19,19,2,20110728,2052,56.6685,-52.0038,3535, 307.0, 4.0038,34.8730,2,   -999,9,296.5,2,297.8,2, -999,9, -999,9
  06MT20110624,   A02,836,1,20,20,2,20110728,2052,56.6685,-52.0038,3535, 206.0, 4.0501,34.8640,2,   -999,9,293.0,2, -999,9, -999,9, -999,9
  06MT20110624,   A02,836,1,21,21,2,20110728,2052,56.6685,-52.0038,3535,  99.3, 3.8551,34.7708,2,   -999,9,299.3,2, -999,9, -999,9, -999,9
  06MT20110624,   A02,836,1,22,22,2,20110728,2052,56.6685,-52.0038,3535,  12.2, 7.6964,34.4540,2,34.4577,2,304.8,2,303.9,2,4.259,2,2.491,2
  06MT20110624,   A02,837,1, 1, 1,2,20110729,0230,56.2935,-52.4087,3536,3592.2, 1.7211,34.8963,2,34.8971,2,299.6,2,300.3,2,4.031,2,2.090,2
  06MT20110624,   A02,837,1, 2, 2,2,20110729,0230,56.2935,-52.4087,3536,3592.0, 1.7211,34.8964,2,   -999,9,299.6,2, -999,9, -999,9, -999,9
  06MT20110624,   A02,837,1, 3, 3,2,20110729,0230,56.2935,-52.4087,3536,3248.1, 2.3492,34.9055,2,   -999,9,283.6,2, -999,9,2.681,2,1.364,2
  06MT20110624,   A02,837,1, 4, 4,2,20110729,0230,56.2935,-52.4087,3536,2997.9, 2.6571,34.9150,2,   -999,9,283.9,2,284.3,6,2.890,2,1.446,2
  06MT20110624,   A02,837,1, 5, 5,2,20110729,0230,56.2935,-52.4087,3536,2699.1, 2.9128,34.9180,2,   -999,9,281.9,2, -999,9,2.840,2,1.474,2
  06MT20110624,   A02,837,1, 6, 6,2,20110729,0230,56.2935,-52.4087,3536,2388.8, 3.1033,34.9156,2,   -999,9,281.3,2, -999,9,2.888,2,1.458,2
  06MT20110624,   A02,837,1, 7, 7,2,20110729,0230,56.2935,-52.4087,3536,2097.8, 3.2713,34.9132,2,34.9140,2,280.7,2,279.7,2,2.978,2,1.470,2
  06MT20110624,   A02,837,1, 8, 8,2,20110729,0230,56.2935,-52.4087,3536,1898.7, 3.3893,34.9131,2,   -999,9,280.2,2,280.6,2,3.196,2,1.632,2
  06MT20110624,   A02,837,1, 9, 9,2,20110729,0230,56.2935,-52.4087,3536,1598.8, 3.6085,34.9121,2,   -999,9,277.6,2,277.9,2,3.445,2,1.720,2
  06MT20110624,   A02,837,1,10,10,2,20110729,0230,56.2935,-52.4087,3536,1398.8, 3.6378,34.8959,2,   -999,9,283.8,2,295.4,3,3.911,2,2.031,2
  06MT20110624,   A02,837,1,11,11,2,20110729,0230,56.2935,-52.4087,3536,1197.9, 3.6399,34.8807,2,   -999,9,288.1,2,287.3,2,4.224,2,2.235,2
  06MT20110624,   A02,837,1,12,12,2,20110729,0230,56.2935,-52.4087,3536, 998.5, 3.6959,34.8737,2,   -999,9,291.8,2,290.8,2,4.375,2,2.369,2
  06MT20110624,   A02,837,1,13,13,2,20110729,0230,56.2935,-52.4087,3536, 902.5, 3.7374,34.8734,2,   -999,9,297.0,2,296.4,2, -999,9, -999,9
  06MT20110624,   A02,837,1,14,14,2,20110729,0230,56.2935,-52.4087,3536, 798.1, 3.7738,34.8736,2,   -999,9,298.0,2,296.6,2,4.440,2,2.391,2
  06MT20110624,   A02,837,1,15,15,2,20110729,0230,56.2935,-52.4087,3536, 697.6, 3.7956,34.8703,2,   -999,9,298.8,2,297.0,2, -999,9, -999,9
  06MT20110624,   A02,837,1,16,16,2,20110729,0230,56.2935,-52.4087,3536, 582.1, 3.7820,34.8638,2,   -999,9,300.4,2,299.4,2,4.572,2,2.548,2
  06MT20110624,   A02,837,1,17,17,2,20110729,0230,56.2935,-52.4087,3536, 499.1, 3.8034,34.8613,2,   -999,9,301.8,2,299.9,2, -999,9, -999,9
  06MT20110624,   A02,837,1,18,18,2,20110729,0230,56.2935,-52.4087,3536, 398.6, 3.8323,34.8593,2,34.8609,2,300.3,2,299.3,2,4.537,2,2.512,2
  06MT20110624,   A02,837,1,19,19,2,20110729,0230,56.2935,-52.4087,3536, 301.8, 3.9303,34.8586,2,   -999,9,292.4,2,296.0,2, -999,9, -999,9
  06MT20110624,   A02,837,1,20,20,2,20110729,0230,56.2935,-52.4087,3536, 196.0, 3.9149,34.8114,2,   -999,9,292.3,2,295.3,2,4.480,2,2.426,2
  06MT20110624,   A02,837,1,21,21,2,20110729,0230,56.2935,-52.4087,3536,  99.4, 3.7718,34.6794,2,   -999,9,305.8,2,305.5,2, -999,9, -999,9
  06MT20110624,   A02,837,1,22,22,2,20110729,0230,56.2935,-52.4087,3536,  12.7, 9.0111,34.4908,2,   -999,9,301.5,2,300.7,2,3.945,2,2.181,2
  06MT20110624,   A02,839,1, 1, 1,2,20110729,0731,55.9710,-52.7350,3322,3373.1, 1.6823,34.8932,2,34.8947,2,299.7,2,299.3,2,4.115,2,2.150,2
  06MT20110624,   A02,839,1, 2, 2,2,20110729,0731,55.9710,-52.7350,3322,3100.3, 2.2648,34.9026,2,   -999,9,288.8,2, -999,9,3.295,2,1.672,2
  06MT20110624,   A02,839,1, 3, 3,2,20110729,0731,55.9710,-52.7350,3322,2798.8, 2.6965,34.9177,2,   -999,9,283.1,2,282.9,2,2.829,2,1.433,2
  06MT20110624,   A02,839,1, 4, 4,2,20110729,0731,55.9710,-52.7350,3322,2499.2, 2.9637,34.9168,2,   -999,9,282.0,2, -999,9,2.957,2,1.494,2
  06MT20110624,   A02,839,1, 5, 5,2,20110729,0731,55.9710,-52.7350,3322,2197.6, 3.1730,34.9143,2,   -999,9,280.3,2, -999,9,2.884,2,1.432,2
  06MT20110624,   A02,839,1, 6, 6,2,20110729,0731,55.9710,-52.7350,3322,1898.0, 3.3829,34.9139,2,   -999,9,278.7,2, -999,9,3.034,2,1.516,2
  06MT20110624,   A02,839,1, 7, 7,2,20110729,0731,55.9710,-52.7350,3322,1698.2, 3.5260,34.9160,2,   -999,9,276.7,2,276.2,6,3.147,2,1.574,2
  06MT20110624,   A02,839,1, 8, 8,2,20110729,0731,55.9710,-52.7350,3322,1499.0, 3.6474,34.9135,2,   -999,9,276.3,2, -999,9,3.389,2,1.690,2
  06MT20110624,   A02,839,1, 9, 9,2,20110729,0731,55.9710,-52.7350,3322,1298.5, 3.6847,34.9003,2,   -999,9,281.0,2, -999,9,3.838,2,2.039,2
  06MT20110624,   A02,839,1,10,10,2,20110729,0731,55.9710,-52.7350,3322,1119.0, 3.7115,34.8871,2,   -999,9,284.3,2, -999,9, -999,9, -999,9
  06MT20110624,   A02,839,1,11,11,2,20110729,0731,55.9710,-52.7350,3322,1002.0, 3.7484,34.8867,2,34.8916,2,285.3,2,283.4,2,4.114,2,2.131,2
  06MT20110624,   A02,839,1,12,12,2,20110729,0731,55.9710,-52.7350,3322, 913.5, 3.7153,34.8747,2,   -999,9,290.5,2,287.9,2, -999,9, -999,9
  06MT20110624,   A02,839,1,13,13,2,20110729,0731,55.9710,-52.7350,3322, 851.3, 3.7563,34.8770,2,   -999,9,287.2,2, -999,9,4.417,2,2.428,2
  06MT20110624,   A02,839,1,14,14,2,20110729,0731,55.9710,-52.7350,3322, 698.3, 3.8395,34.8780,2,   -999,9,294.3,2,293.3,2, -999,9, -999,9
  06MT20110624,   A02,839,1,15,15,2,20110729,0731,55.9710,-52.7350,3322, 598.4, 3.7569,34.8598,2,   -999,9,297.5,2, -999,9,4.496,6,2.458,6
  06MT20110624,   A02,839,1,16,16,2,20110729,0731,55.9710,-52.7350,3322, 488.7, 3.9209,34.8742,2,   -999,9,287.7,2,293.5,2, -999,9, -999,9
  06MT20110624,   A02,839,1,17,17,2,20110729,0731,55.9710,-52.7350,3322, 398.2, 3.8887,34.8621,2,   -999,9,290.5,2, -999,9,4.466,2,2.396,2
  06MT20110624,   A02,839,1,18,18,2,20110729,0731,55.9710,-52.7350,3322, 297.0, 3.9320,34.8426,2,   -999,9,286.0,2,293.1,2, -999,9, -999,9
  06MT20110624,   A02,839,1,19,19,2,20110729,0731,55.9710,-52.7350,3322, 201.3, 3.9054,34.7782,2,   -999,9,291.6,2, -999,9,4.435,2,2.395,2
  06MT20110624,   A02,839,1,20,20,2,20110729,0731,55.9710,-52.7350,3322, 100.0, 3.9604,34.6657,2,   -999,9,300.5,2, -999,9, -999,9, -999,9
  06MT20110624,   A02,839,1,21,21,2,20110729,0731,55.9710,-52.7350,3322,  12.3, 8.5064,34.5025,2,34.5144,3,297.4,2,299.1,2,4.120,2,2.353,2
  06MT20110624,   A02,839,1,22,22,2,20110729,0731,55.9710,-52.7350,3322,  12.3, 8.5067,34.5035,2,   -999,9,297.4,2, -999,9, -999,9, -999,9
  06MT20110624,   A02,840,1, 1, 1,2,20110729,1128,55.7690,-52.9772,3165,3207.1, 1.6868,34.8926,2,34.8934,2,299.2,2,299.7,2,4.124,2,2.112,2
  06MT20110624,   A02,840,1, 2, 2,2,20110729,1128,55.7690,-52.9772,3165,2999.0, 2.1669,34.9003,2,   -999,9,290.6,2, -999,9,3.532,2,1.769,2
  06MT20110624,   A02,840,1, 3, 3,2,20110729,1128,55.7690,-52.9772,3165,2802.5, 2.5407,34.9126,2,   -999,9,283.4,2, -999,9,3.046,2,1.537,2
  06MT20110624,   A02,840,1, 4, 4,2,20110729,1128,55.7690,-52.9772,3165,2608.3, 2.7743,34.9185,2,   -999,9,280.9,2, -999,9,2.904,2,1.452,2
  06MT20110624,   A02,840,1, 5, 5,2,20110729,1128,55.7690,-52.9772,3165,2300.8, 3.0201,34.9161,2,   -999,9,279.3,2, -999,9,2.876,2,1.424,2
  06MT20110624,   A02,840,1, 6, 6,2,20110729,1128,55.7690,-52.9772,3165,2002.2, 3.2624,34.9159,2,   -999,9,279.3,2,280.5,2,3.299,2,1.659,2
  06MT20110624,   A02,840,1, 7, 7,2,20110729,1128,55.7690,-52.9772,3165,1799.0, 3.4372,34.9188,2,   -999,9,277.9,2, -999,9, -999,9, -999,9
  06MT20110624,   A02,840,1, 8, 8,2,20110729,1128,55.7690,-52.9772,3165,1596.9, 3.6052,34.9170,2,   -999,9,276.5,2, -999,9, -999,9, -999,9
  06MT20110624,   A02,840,1, 9, 9,2,20110729,1128,55.7690,-52.9772,3165,1398.7, 3.6950,34.9072,2,34.9117,2,279.8,2, -999,9,3.805,2,1.910,2
  06MT20110624,   A02,840,1,10,10,2,20110729,1128,55.7690,-52.9772,3165,1169.1, 3.7069,34.8858,2,   -999,9,286.0,2,285.5,2,4.204,2,2.241,2
  06MT20110624,   A02,840,1,11,11,2,20110729,1128,55.7690,-52.9772,3165,1010.5, 3.7483,34.8787,2,   -999,9,293.5,2,291.4,2,4.401,2,2.359,2
  06MT20110624,   A02,840,1,12,12,2,20110729,1128,55.7690,-52.9772,3165, 798.0, 3.7890,34.8766,2,   -999,9,297.7,2,298.5,6,4.554,2,2.509,2
  06MT20110624,   A02,840,1,13,13,2,20110729,1128,55.7690,-52.9772,3165, 724.1, 3.8248,34.8782,2,   -999,9,298.1,2, -999,9,4.456,6,2.346,6
  06MT20110624,   A02,840,1,14,14,2,20110729,1128,55.7690,-52.9772,3165, 584.2, 3.8843,34.8802,2,   -999,9,298.5,2,298.4,2,4.499,2,2.449,2
  06MT20110624,   A02,840,1,15,15,2,20110729,1128,55.7690,-52.9772,3165, 497.5, 3.9081,34.8813,2,   -999,9,298.0,2, -999,9, -999,9, -999,9
  06MT20110624,   A02,840,1,16,16,2,20110729,1128,55.7690,-52.9772,3165, 408.5, 3.9424,34.8830,2,   -999,9,297.0,2,297.2,2,4.473,2,2.415,2
  06MT20110624,   A02,840,1,17,17,2,20110729,1128,55.7690,-52.9772,3165, 324.1, 3.9486,34.8813,2,   -999,9,296.2,2, -999,9, -999,9, -999,9
  06MT20110624,   A02,840,1,18,18,2,20110729,1128,55.7690,-52.9772,3165, 192.5, 3.9542,34.8712,2,   -999,9,297.8,2,297.4,2,4.533,2,2.479,2
  06MT20110624,   A02,840,1,19,19,2,20110729,1128,55.7690,-52.9772,3165,  99.9, 3.9377,34.8346,2,   -999,9,301.2,2, -999,9, -999,9, -999,9
  06MT20110624,   A02,840,1,20,20,2,20110729,1128,55.7690,-52.9772,3165,  12.9, 8.4657,34.5013,2,34.5284,3,306.3,2,305.9,2,4.148,2,2.270,2
  06MT20110624,   A02,840,1,21,21,2,20110729,1128,55.7690,-52.9772,3165,  12.9, 8.4832,34.4986,2,   -999,9,305.0,2, -999,9, -999,9, -999,9
  06MT20110624,   A02,840,1,22,22,2,20110729,1128,55.7690,-52.9772,3165,  13.0, 8.5080,34.4928,2,   -999,9,304.9,2, -999,9, -999,9, -999,9