BOTTLE,20231122CCHSIOVAJ
EXPOCODE,SECT_ID,STNNBR,CASTNO,SAMPNO,BTLNBR,BTLNBR_FLAG_W,DATE,TIME,LATITUDE,LONGITUDE,DEPTH,CTDPRS,CTDTMP,CTDSAL,CTDSAL_FLAG_W,SALNTY,SALNTY_FLAG_W,CTDOXY,CTDOXY_FLAG_W,OXYGEN,OXYGEN_FLAG_W,CFC-11,CFC-11_FLAG_W,CFC-12,CFC-12_FLAG_W
,,,,,,,,,,,METERS,DBAR,ITS-90,PSS-78,,PSS-78,,UMOL/KG,,UMOL/KG,,PMOL/KG,,PMOL/KG,
  06MT20110624,   A02,821,1, 1, 1,2,20110725,0213,56.1405,-48.1097,3635,3692.4, 1.7126,34.8938,2,34.8926,2,297.5,2,298.2,2,4.085,6,2.102,6
  06MT20110624,   A02,821,1, 2, 2,2,20110725,0213,56.1405,-48.1097,3635,3602.2, 1.7893,34.8945,2,   -999,9,296.2,2, -999,9,4.054,2,2.104,2
  06MT20110624,   A02,821,1, 3, 3,2,20110725,0213,56.1405,-48.1097,3635,3405.0, 2.2356,34.9008,2,   -999,9,286.4,2, -999,9,3.169,2,1.616,2
  06MT20110624,   A02,821,1, 4, 4,2,20110725,0213,56.1405,-48.1097,3635,3100.9, 2.6421,34.9165,2,   -999,9,280.9,2,281.0,2,2.715,2,1.365,2
  06MT20110624,   A02,821,1, 5, 5,2,20110725,0213,56.1405,-48.1097,3635,2773.1, 2.8985,34.9203,2,   -999,9,278.7,2, -999,9,2.620,2,1.269,2
  06MT20110624,   A02,821,1, 6, 6,2,20110725,0213,56.1405,-48.1097,3635,2498.8, 3.0693,34.9163,2,   -999,9,277.7,2, -999,9,2.794,2,1.413,2
  06MT20110624,   A02,821,1, 7, 7,2,20110725,0213,56.1405,-48.1097,3635,2186.0, 3.2489,34.9116,2,34.9111,2,277.2,2, -999,9,2.952,2,1.457,2
  06MT20110624,   A02,821,1, 8, 8,2,20110725,0213,56.1405,-48.1097,3635,1896.8, 3.4445,34.9126,2,   -999,9,276.2,2, -999,9,3.143,2,1.598,2
  06MT20110624,   A02,821,1, 9, 9,2,20110725,0213,56.1405,-48.1097,3635,1695.4, 3.5847,34.9115,2,   -999,9,275.7,2,275.6,2,3.313,2,1.617,2
  06MT20110624,   A02,821,1,10,10,2,20110725,0213,56.1405,-48.1097,3635,1499.1, 3.6397,34.9005,2,   -999,9,279.1,2, -999,9,3.798,2,1.959,2
  06MT20110624,   A02,821,1,11,11,2,20110725,0213,56.1405,-48.1097,3635,1294.5, 3.6344,34.8815,2,   -999,9,284.1,2, -999,9,4.192,2,2.244,2
  06MT20110624,   A02,821,1,12,12,2,20110725,0213,56.1405,-48.1097,3635,1099.8, 3.6376,34.8698,2,   -999,9,286.7,2,287.1,2,4.281,2,2.258,2
  06MT20110624,   A02,821,1,13,13,2,20110725,0213,56.1405,-48.1097,3635, 908.5, 3.7580,34.8750,2,   -999,9,287.9,2, -999,9,4.360,2,2.320,2
  06MT20110624,   A02,821,1,14,14,2,20110725,0213,56.1405,-48.1097,3635, 690.5, 3.8538,34.8740,2,34.8725,2,289.1,2, -999,9,4.434,2,2.449,2
  06MT20110624,   A02,821,1,15,15,2,20110725,0213,56.1405,-48.1097,3635, 476.8, 3.8715,34.8604,2,   -999,9,294.0,2,296.7,2,4.507,2,2.472,2
  06MT20110624,   A02,821,1,16,16,2,20110725,0213,56.1405,-48.1097,3635, 292.0, 3.8660,34.8293,2,   -999,9,292.3,2, -999,9,4.512,2,2.477,2
  06MT20110624,   A02,821,1,17,17,2,20110725,0213,56.1405,-48.1097,3635, 101.6, 3.9405,34.6782,2,   -999,9,301.0,2, -999,9,4.669,2,2.603,2
  06MT20110624,   A02,821,1,18,18,2,20110725,0213,56.1405,-48.1097,3635,  12.6, 8.5621,34.4925,2,   -999,9,296.8,2,296.5,6,3.939,2,2.311,2
  06MT20110624,   A02,821,1,19,19,2,20110725,0213,56.1405,-48.1097,3635,  12.5, 8.5712,34.4923,2,   -999,9,296.6,2, -999,9, -999,9, -999,9
  06MT20110624,   A02,821,1,20,20,2,20110725,0213,56.1405,-48.1097,3635,  12.5, 8.5675,34.4931,2,   -999,9,296.7,2, -999,9, -999,9, -999,9
  06MT20110624,   A02,821,1,21,21,2,20110725,0213,56.1405,-48.1097,3635,  12.5, 8.5639,34.4928,2,   -999,9,296.7,2, -999,9, -999,9, -999,9
  06MT20110624,   A02,821,1,22,22,2,20110725,0213,56.1405,-48.1097,3635,  12.5, 8.5604,34.4939,2,   -999,9,296.8,2, -999,9, -999,9, -999,9
  06MT20110624,   A02,822,1, 1, 1,2,20110725,0820,56.5080,-48.9610,3658,3713.8, 1.7039,34.8958,2,34.8957,2,299.1,2,298.4,2,3.985,2,2.091,2
  06MT20110624,   A02,822,1, 2, 2,2,20110725,0820,56.5080,-48.9610,3658,3498.9, 2.0863,34.8976,2,   -999,9,292.4,2, -999,9,3.520,2,1.851,2
  06MT20110624,   A02,822,1, 3, 3,2,20110725,0820,56.5080,-48.9610,3658,3198.3, 2.5301,34.9109,2,   -999,9,282.6,2,282.3,2,2.656,2,1.358,2
  06MT20110624,   A02,822,1, 4, 4,2,20110725,0820,56.5080,-48.9610,3658,2898.8, 2.8281,34.9272,2,   -999,9,278.7,2, -999,9,2.533,2,1.302,2
  06MT20110624,   A02,822,1, 5, 5,2,20110725,0820,56.5080,-48.9610,3658,2598.0, 2.9914,34.9185,2,   -999,9,279.1,2, -999,9,2.630,2,1.348,2
  06MT20110624,   A02,822,1, 6, 6,2,20110725,0820,56.5080,-48.9610,3658,2281.7, 3.1694,34.9124,2,   -999,9,278.7,2, -999,9,2.796,2,1.426,2
  06MT20110624,   A02,822,1, 7, 7,2,20110725,0820,56.5080,-48.9610,3658,1983.8, 3.3559,34.9100,2,   -999,9,277.9,2,278.1,2,3.031,2,1.536,2
  06MT20110624,   A02,822,1, 8, 8,2,20110725,0820,56.5080,-48.9610,3658,1791.8, 3.4808,34.9114,2,34.9109,2,276.6,2, -999,9,3.153,2,1.594,2
  06MT20110624,   A02,822,1, 9, 9,2,20110725,0820,56.5080,-48.9610,3658,1589.1, 3.6038,34.9100,2,   -999,9,276.5,2, -999,9,3.389,2,1.756,2
  06MT20110624,   A02,822,1,10,10,2,20110725,0820,56.5080,-48.9610,3658,1399.3, 3.6219,34.8935,2,   -999,9,281.4,2, -999,9,3.788,2,2.000,2
  06MT20110624,   A02,822,1,11,11,2,20110725,0820,56.5080,-48.9610,3658,1203.0, 3.6216,34.8778,2,   -999,9,285.5,2, -999,9,4.115,2,2.218,2
  06MT20110624,   A02,822,1,12,12,2,20110725,0820,56.5080,-48.9610,3658,1005.0, 3.6375,34.8702,2,   -999,9,286.5,2, -999,9,4.244,2,2.248,2
  06MT20110624,   A02,822,1,13,13,2,20110725,0820,56.5080,-48.9610,3658, 771.0, 3.7537,34.8739,2,   -999,9,287.6,2,287.5,2,4.284,2,2.284,2
  06MT20110624,   A02,822,1,14,14,2,20110725,0820,56.5080,-48.9610,3658, 588.9, 3.8526,34.8783,2,   -999,9,286.5,2, -999,9,4.353,2,2.370,2
  06MT20110624,   A02,822,1,15,15,2,20110725,0820,56.5080,-48.9610,3658, 428.6, 3.9437,34.8768,2,   -999,9,287.7,2, -999,9,4.489,2,2.472,2
  06MT20110624,   A02,822,1,16,16,2,20110725,0820,56.5080,-48.9610,3658, 215.2, 3.7816,34.8204,2,   -999,9,294.4,2,294.3,6,4.531,2,2.505,2
  06MT20110624,   A02,822,1,17,17,2,20110725,0820,56.5080,-48.9610,3658,  12.6, 7.6149,34.4347,2,34.4500,2,305.7,2,306.2,2,4.214,2,2.277,2
  06MT20110624,   A02,822,1,18,18,2,20110725,0820,56.5080,-48.9610,3658,  12.5, 7.6134,34.4351,2,   -999,9,305.7,2, -999,9, -999,9, -999,9
  06MT20110624,   A02,822,1,19,19,2,20110725,0820,56.5080,-48.9610,3658,  12.6, 7.6118,34.4354,2,   -999,9,305.7,2, -999,9, -999,9, -999,9
  06MT20110624,   A02,822,1,20,20,2,20110725,0820,56.5080,-48.9610,3658,  12.6, 7.6128,34.4353,2,   -999,9,305.7,2, -999,9, -999,9, -999,9
  06MT20110624,   A02,822,1,21,21,2,20110725,0820,56.5080,-48.9610,3658,  12.7, 7.6137,34.4355,2,   -999,9,305.7,2, -999,9, -999,9, -999,9
  06MT20110624,   A02,822,1,22,22,2,20110725,0820,56.5080,-48.9610,3658,  12.6, 7.6151,34.4354,2,   -999,9,305.7,2, -999,9, -999,9, -999,9
  06MT20110624,   A02,823,1, 1, 1,2,20110725,1439,56.9312,-49.9345,3430,3318.5, 2.5935,34.9140,2,34.9126,2,282.1,2,281.2,2,2.574,6,1.337,6
  06MT20110624,   A02,823,1, 2, 2,2,20110725,1439,56.9312,-49.9345,3430,3197.5, 2.6924,34.9179,2,   -999,9,281.5,2,281.4,2,2.700,2,1.389,2
  06MT20110624,   A02,823,1, 3, 3,2,20110725,1439,56.9312,-49.9345,3430,2905.2, 2.9371,34.9191,2,   -999,9,280.8,2,280.5,2,2.754,2,1.411,2
  06MT20110624,   A02,823,1, 4, 4,2,20110725,1439,56.9312,-49.9345,3430,2699.0, 3.0609,34.9159,2,   -999,9,280.4,2,280.1,2,2.788,2,1.411,2
  06MT20110624,   A02,823,1, 5, 5,2,20110725,1439,56.9312,-49.9345,3430,2498.3, 3.2130,34.9136,2,   -999,9,280.4,2,280.5,2,3.085,2,1.579,2
  06MT20110624,   A02,823,1, 6, 6,2,20110725,1439,56.9312,-49.9345,3430,2294.2, 3.3545,34.9133,2,   -999,9,279.5,2,279.6,2,3.191,2,1.600,2
  06MT20110624,   A02,823,1, 7, 7,2,20110725,1439,56.9312,-49.9345,3430,2081.9, 3.4990,34.9130,2,   -999,9,276.8,2,277.4,2,3.233,2,1.650,2
  06MT20110624,   A02,823,1, 8, 8,2,20110725,1439,56.9312,-49.9345,3430,1850.7, 3.5875,34.9028,2,   -999,9,278.6,2,279.0,2,3.602,2,1.878,2
  06MT20110624,   A02,823,1, 9, 9,2,20110725,1439,56.9312,-49.9345,3430,1698.8, 3.6148,34.8951,2,   -999,9,281.0,2,280.9,2,3.771,2,1.983,2
  06MT20110624,   A02,823,1,10,10,2,20110725,1439,56.9312,-49.9345,3430,1499.2, 3.5863,34.8786,2,   -999,9,284.7,2,285.1,2,4.064,2,2.183,2
  06MT20110624,   A02,823,1,11,11,2,20110725,1439,56.9312,-49.9345,3430,1299.6, 3.5690,34.8664,2,   -999,9,288.3,2,289.5,2,4.146,2,2.232,2
  06MT20110624,   A02,823,1,12,12,2,20110725,1439,56.9312,-49.9345,3430,1087.8, 3.6147,34.8651,2,34.8633,2,288.5,2,289.8,2,4.302,2,2.330,2
  06MT20110624,   A02,823,1,13,13,2,20110725,1439,56.9312,-49.9345,3430,1004.8, 3.6533,34.8671,2,   -999,9,288.9,2,289.7,2,4.349,2,2.374,2
  06MT20110624,   A02,823,1,14,14,2,20110725,1439,56.9312,-49.9345,3430, 869.4, 3.7353,34.8699,2,   -999,9,290.2,2,290.8,2,4.347,2,2.382,2
  06MT20110624,   A02,823,1,15,15,2,20110725,1439,56.9312,-49.9345,3430, 798.2, 3.7907,34.8737,2,34.8717,2,291.8,2,291.9,2,4.429,2,2.438,2
  06MT20110624,   A02,823,1,16,16,2,20110725,1439,56.9312,-49.9345,3430, 697.8, 3.7860,34.8671,2,   -999,9,292.8,2,292.5,2,4.412,2,2.372,3
  06MT20110624,   A02,823,1,17,17,2,20110725,1439,56.9312,-49.9345,3430, 598.8, 3.7927,34.8631,2,   -999,9,295.9,2,294.8,2,4.486,2,2.474,2
  06MT20110624,   A02,823,1,18,18,2,20110725,1439,56.9312,-49.9345,3430, 498.7, 3.8599,34.8677,2,34.8656,2,296.9,2,296.5,2, -999,9, -999,9
  06MT20110624,   A02,823,1,19,19,2,20110725,1439,56.9312,-49.9345,3430, 269.8, 3.8048,34.8337,2,   -999,9,298.9,2,296.9,2,4.544,2,2.478,2
  06MT20110624,   A02,823,1,20,20,2,20110725,1439,56.9312,-49.9345,3430, 204.4, 3.3597,34.7641,2,   -999,9,307.9,2,307.2,6, -999,9, -999,9
  06MT20110624,   A02,823,1,21,21,2,20110725,1439,56.9312,-49.9345,3430,  99.7, 3.7225,34.7556,2,   -999,9,302.7,2,303.1,2, -999,9, -999,9
  06MT20110624,   A02,823,1,22,22,2,20110725,1439,56.9312,-49.9345,3430,  12.7, 7.3470,34.4704,2,   -999,9,311.2,2, -999,9,4.333,2,2.382,2
  06MT20110624,   A02,824,1, 1, 1,2,20110725,1907,57.1652,-50.5160,3595,3649.4, 1.6916,34.8979,2,34.8975,2,297.4,2,302.2,3,4.202,2,2.200,2
  06MT20110624,   A02,824,1, 2, 2,2,20110725,1907,57.1652,-50.5160,3595,3598.5, 1.7617,34.8950,2,   -999,9,296.3,2, -999,9,4.093,2,2.115,2
  06MT20110624,   A02,824,1, 3, 3,2,20110725,1907,57.1652,-50.5160,3595,3295.1, 2.3906,34.9063,2,   -999,9,284.2,2,286.6,2,2.981,2,1.497,2
  06MT20110624,   A02,824,1, 4, 4,2,20110725,1907,57.1652,-50.5160,3595,2999.2, 2.7266,34.9183,2,   -999,9,281.4,2, -999,9,2.807,2,1.421,2
  06MT20110624,   A02,824,1, 5, 5,2,20110725,1907,57.1652,-50.5160,3595,2698.7, 2.9469,34.9180,2,   -999,9,279.9,2, -999,9,2.796,2,1.430,2
  06MT20110624,   A02,824,1, 6, 6,2,20110725,1907,57.1652,-50.5160,3595,2399.3, 3.1480,34.9140,2,34.9136,2,279.2,2, -999,9,2.882,2,1.435,2
  06MT20110624,   A02,824,1, 7, 7,2,20110725,1907,57.1652,-50.5160,3595,2097.9, 3.3428,34.9116,2,   -999,9,278.6,2,278.7,2,3.147,2,1.562,2
  06MT20110624,   A02,824,1, 8, 8,2,20110725,1907,57.1652,-50.5160,3595,1889.4, 3.4862,34.9137,2,   -999,9,277.3,2, -999,9,3.265,2,1.645,2
  06MT20110624,   A02,824,1, 9, 9,2,20110725,1907,57.1652,-50.5160,3595,1686.9, 3.6228,34.9129,2,   -999,9,277.7,2, -999,9, -999,9, -999,9
  06MT20110624,   A02,824,1,10,10,2,20110725,1907,57.1652,-50.5160,3595,1475.5, 3.6381,34.8939,2,   -999,9,282.3,2, -999,9,3.948,2,2.095,2
  06MT20110624,   A02,824,1,11,11,2,20110725,1907,57.1652,-50.5160,3595,1321.6, 3.6479,34.8832,2,   -999,9,284.7,2,285.4,2,4.135,2,2.113,2
  06MT20110624,   A02,824,1,12,12,2,20110725,1907,57.1652,-50.5160,3595,1091.8, 3.6236,34.8663,2,   -999,9,288.7,2, -999,9,4.188,2,2.210,2
  06MT20110624,   A02,824,1,13,13,2,20110725,1907,57.1652,-50.5160,3595,1022.4, 3.7050,34.8722,2,   -999,9,293.0,2, -999,9,4.232,2,2.338,2
  06MT20110624,   A02,824,1,14,14,2,20110725,1907,57.1652,-50.5160,3595, 871.3, 3.7426,34.8732,2,   -999,9,293.4,2, -999,9,4.243,2,2.317,2
  06MT20110624,   A02,824,1,15,15,2,20110725,1907,57.1652,-50.5160,3595, 820.9, 3.7781,34.8760,2,   -999,9,291.3,2, -999,9,4.406,2,2.454,2
  06MT20110624,   A02,824,1,16,16,2,20110725,1907,57.1652,-50.5160,3595, 698.8, 3.7002,34.8556,2,   -999,9,298.2,2,300.1,2,4.522,2,2.527,2
  06MT20110624,   A02,824,1,17,17,2,20110725,1907,57.1652,-50.5160,3595, 486.6, 3.7754,34.8593,2,34.8585,2,298.5,2, -999,9,4.511,2,2.510,2
  06MT20110624,   A02,824,1,18,18,2,20110725,1907,57.1652,-50.5160,3595, 313.8, 3.8988,34.8581,2,   -999,9,295.0,2, -999,9,4.371,2,2.345,2
  06MT20110624,   A02,824,1,19,19,2,20110725,1907,57.1652,-50.5160,3595, 115.4, 3.8100,34.7557,2,   -999,9,298.6,2, -999,9,4.539,2,2.552,2
  06MT20110624,   A02,824,1,20,20,2,20110725,1907,57.1652,-50.5160,3595,  12.1, 8.0843,34.5138,2,   -999,9,300.5,2,300.7,6,4.007,2,2.253,2
  06MT20110624,   A02,824,1,21,21,2,20110725,1907,57.1652,-50.5160,3595,  12.0, 8.0854,34.5137,2,   -999,9,300.5,2, -999,9, -999,9, -999,9
  06MT20110624,   A02,824,1,22,22,2,20110725,1907,57.1652,-50.5160,3595,  11.8, 8.0859,34.5141,2,   -999,9,300.5,2, -999,9, -999,9, -999,9
  06MT20110624,   A02,825,1, 1, 1,2,20110726,0003,57.4565,-51.1518,3504,3556.8, 1.6909,34.8944,2,34.8940,2,298.9,2,299.0,2,4.055,2,2.123,2
  06MT20110624,   A02,825,1, 2, 2,2,20110726,0003,57.4565,-51.1518,3504,3502.4, 1.8170,34.8954,2,   -999,9,297.6,2, -999,9,3.982,2,2.067,2
  06MT20110624,   A02,825,1, 3, 3,2,20110726,0003,57.4565,-51.1518,3504,3196.4, 2.4952,34.9100,2,   -999,9,284.9,2, -999,9,2.783,2,1.425,2
  06MT20110624,   A02,825,1, 4, 4,2,20110726,0003,57.4565,-51.1518,3504,2901.0, 2.8263,34.9210,2,   -999,9,281.9,2, -999,9,2.768,2,1.388,2
  06MT20110624,   A02,825,1, 5, 5,2,20110726,0003,57.4565,-51.1518,3504,2598.3, 3.0331,34.9160,2,34.9154,2,282.2,2, -999,9,2.981,2,1.502,2
  06MT20110624,   A02,825,1, 6, 6,2,20110726,0003,57.4565,-51.1518,3504,2303.8, 3.2351,34.9164,2,   -999,9,281.7,2,281.0,2,3.135,2,1.564,2
  06MT20110624,   A02,825,1, 7, 7,2,20110726,0003,57.4565,-51.1518,3504,1998.0, 3.4458,34.9132,2,   -999,9,279.3,2,279.1,2,3.235,2,1.619,2
  06MT20110624,   A02,825,1, 8, 8,2,20110726,0003,57.4565,-51.1518,3504,1804.0, 3.6037,34.9130,2,   -999,9,278.6,2,277.9,2,3.407,2,1.714,2
  06MT20110624,   A02,825,1, 9, 9,2,20110726,0003,57.4565,-51.1518,3504,1616.6, 3.6616,34.9018,2,   -999,9,281.6,2,281.1,2,3.816,2,1.988,2
  06MT20110624,   A02,825,1,10,10,2,20110726,0003,57.4565,-51.1518,3504,1393.3, 3.6666,34.8825,2,34.8833,2,287.2,2,285.6,2, -999,9, -999,9
  06MT20110624,   A02,825,1,11,11,2,20110726,0003,57.4565,-51.1518,3504,1325.8, 3.6766,34.8808,2,   -999,9,287.5,2,288.1,2,4.253,2,2.219,2
  06MT20110624,   A02,825,1,12,12,2,20110726,0003,57.4565,-51.1518,3504,1191.1, 3.6715,34.8693,2,   -999,9,289.6,2,288.7,2,4.381,2,2.353,2
  06MT20110624,   A02,825,1,13,13,2,20110726,0003,57.4565,-51.1518,3504,1049.4, 3.7194,34.8699,2,   -999,9,296.0,2,296.5,2,4.506,2,2.435,2
  06MT20110624,   A02,825,1,14,14,2,20110726,0003,57.4565,-51.1518,3504, 898.5, 3.7455,34.8697,2,   -999,9,296.8,2,296.2,2,4.518,2,2.424,2
  06MT20110624,   A02,825,1,15,15,2,20110726,0003,57.4565,-51.1518,3504, 825.3, 3.7522,34.8692,2,   -999,9,297.1,2,297.5,2, -999,9, -999,9
  06MT20110624,   A02,825,1,16,16,2,20110726,0003,57.4565,-51.1518,3504, 691.1, 3.8129,34.8721,2,   -999,9,296.7,2,293.9,2,4.487,2,2.432,2
  06MT20110624,   A02,825,1,17,17,2,20110726,0003,57.4565,-51.1518,3504, 526.6, 3.8419,34.8712,2,34.8668,2,298.3,2,299.2,2,4.564,2,2.461,2
  06MT20110624,   A02,825,1,18,18,2,20110726,0003,57.4565,-51.1518,3504, 336.0, 3.8814,34.8693,2,   -999,9,297.6,2,298.3,2,4.573,2,2.520,2
  06MT20110624,   A02,825,1,19,19,2,20110726,0003,57.4565,-51.1518,3504, 126.9, 3.7355,34.8090,2,   -999,9,301.7,2, -999,9,4.671,2,2.524,2
  06MT20110624,   A02,825,1,20,20,2,20110726,0003,57.4565,-51.1518,3504,  13.4, 7.9060,34.5155,2,   -999,9,302.3,2,301.0,6,4.202,2,2.304,2
  06MT20110624,   A02,825,1,21,21,2,20110726,0003,57.4565,-51.1518,3504,  13.4, 8.0203,34.5065,2,   -999,9,302.2,2, -999,9, -999,9, -999,9
  06MT20110624,   A02,825,1,22,22,2,20110726,0003,57.4565,-51.1518,3504,  13.5, 8.0616,34.5020,2,   -999,9,302.7,2, -999,9, -999,9, -999,9
  06MT20110624,   A02,826,1, 1, 1,2,20110726,0605,58.0187,-50.5425,3550,3605.6, 1.6325,34.8951,2,34.8955,2,300.4,2,300.3,2,4.224,2,2.162,2
  06MT20110624,   A02,826,1, 2, 2,2,20110726,0605,58.0187,-50.5425,3550,3394.2, 2.0858,34.8982,2,   -999,9,294.4,2, -999,9,3.707,2,1.896,2
  06MT20110624,   A02,826,1, 3, 3,2,20110726,0605,58.0187,-50.5425,3550,3099.1, 2.5676,34.9131,2,   -999,9,285.9,2, -999,9,2.885,2,1.442,2
  06MT20110624,   A02,826,1, 4, 4,2,20110726,0605,58.0187,-50.5425,3550,2799.0, 2.8530,34.9189,2,   -999,9,283.2,2,282.9,2,2.899,2,1.455,2
  06MT20110624,   A02,826,1, 5, 5,2,20110726,0605,58.0187,-50.5425,3550,2499.5, 3.0747,34.9157,2,   -999,9,282.7,2, -999,9,3.167,3,1.728,3
  06MT20110624,   A02,826,1, 6, 6,2,20110726,0605,58.0187,-50.5425,3550,2298.7, 3.2227,34.9154,2,   -999,9,282.2,2, -999,9, -999,9, -999,9
  06MT20110624,   A02,826,1, 7, 7,2,20110726,0605,58.0187,-50.5425,3550,2113.5, 3.3546,34.9153,2,34.9152,2,281.0,2, -999,9,3.316,2,1.624,2
  06MT20110624,   A02,826,1, 8, 8,2,20110726,0605,58.0187,-50.5425,3550,1911.4, 3.5294,34.9180,2,   -999,9,279.1,2, -999,9,3.447,2,1.720,2
  06MT20110624,   A02,826,1, 9, 9,2,20110726,0605,58.0187,-50.5425,3550,1720.7, 3.6422,34.9102,2,   -999,9,278.2,2, -999,9,3.496,2,1.830,2
  06MT20110624,   A02,826,1,10,10,2,20110726,0605,58.0187,-50.5425,3550,1504.9, 3.6638,34.8920,2,   -999,9,284.3,2,283.3,6,3.946,2,2.135,2
  06MT20110624,   A02,826,1,11,11,2,20110726,0605,58.0187,-50.5425,3550,1304.9, 3.6645,34.8754,2,   -999,9,288.7,2, -999,9,4.154,2,2.171,3
  06MT20110624,   A02,826,1,12,12,2,20110726,0605,58.0187,-50.5425,3550,1102.8, 3.7754,34.8796,2,   -999,9,289.9,2, -999,9,4.426,2,2.568,2
  06MT20110624,   A02,826,1,13,13,2,20110726,0605,58.0187,-50.5425,3550,1016.8, 3.8126,34.8770,2,   -999,9,292.0,2, -999,9, -999,9, -999,9
  06MT20110624,   A02,826,1,14,14,2,20110726,0605,58.0187,-50.5425,3550, 899.2, 3.7900,34.8699,2,   -999,9,296.5,2, -999,9,4.475,2,2.441,2
  06MT20110624,   A02,826,1,15,15,2,20110726,0605,58.0187,-50.5425,3550, 749.1, 3.8487,34.8734,2,   -999,9,296.6,2,297.7,2, -999,9, -999,9
  06MT20110624,   A02,826,1,16,16,2,20110726,0605,58.0187,-50.5425,3550, 598.5, 3.9009,34.8727,2,34.8719,2,297.8,2, -999,9, -999,9, -999,9
  06MT20110624,   A02,826,1,17,17,2,20110726,0605,58.0187,-50.5425,3550, 458.7, 4.0457,34.8810,2,   -999,9,295.4,2, -999,9, -999,9, -999,9
  06MT20110624,   A02,826,1,18,18,2,20110726,0605,58.0187,-50.5425,3550, 299.1, 4.2716,34.8888,2,   -999,9,292.3,2, -999,9, -999,9, -999,9
  06MT20110624,   A02,826,1,19,19,2,20110726,0605,58.0187,-50.5425,3550, 153.3, 4.6342,34.8980,2,   -999,9,286.7,2,288.1,2,4.427,2,2.589,2
  06MT20110624,   A02,826,1,20,20,2,20110726,0605,58.0187,-50.5425,3550,  12.6, 6.6303,34.2042,2,   -999,9,306.4,2,309.5,2,4.380,2,2.274,2
  06MT20110624,   A02,826,1,21,21,2,20110726,0605,58.0187,-50.5425,3550,  12.5, 6.6363,34.2021,2,   -999,9,306.4,2, -999,9, -999,9, -999,9
  06MT20110624,   A02,826,1,22,22,2,20110726,0605,58.0187,-50.5425,3550,  12.2, 6.6425,34.1993,2,   -999,9,306.5,2, -999,9, -999,9, -999,9