BOTTLE,20231122CCHSIOVAJ
EXPOCODE,SECT_ID,STNNBR,CASTNO,SAMPNO,BTLNBR,BTLNBR_FLAG_W,DATE,TIME,LATITUDE,LONGITUDE,DEPTH,CTDPRS,CTDTMP,CTDSAL,CTDSAL_FLAG_W,SALNTY,SALNTY_FLAG_W,CTDOXY,CTDOXY_FLAG_W,OXYGEN,OXYGEN_FLAG_W,CFC-11,CFC-11_FLAG_W,CFC-12,CFC-12_FLAG_W
,,,,,,,,,,,METERS,DBAR,ITS-90,PSS-78,,PSS-78,,UMOL/KG,,UMOL/KG,,PMOL/KG,,PMOL/KG,
  06MT20110624,   A02,847,1, 1, 1,2,20110731,1749,51.6425,-49.7928,2289,2313.9, 2.9091,34.9156,2,   -999,9,282.2,2,281.9,2,3.212,2,1.713,2
  06MT20110624,   A02,847,1, 2, 2,2,20110731,1749,51.6425,-49.7928,2289,2198.7, 2.9271,34.9160,2,   -999,9,282.4,2, -999,9, -999,9, -999,9
  06MT20110624,   A02,847,1, 3, 3,2,20110731,1749,51.6425,-49.7928,2289,2099.1, 2.9553,34.9163,2,   -999,9,281.8,2, -999,9, -999,9, -999,9
  06MT20110624,   A02,847,1, 4, 4,2,20110731,1749,51.6425,-49.7928,2289,1998.9, 3.0558,34.9169,2,   -999,9,281.4,2,282.3,2, -999,9, -999,9
  06MT20110624,   A02,847,1, 5, 5,2,20110731,1749,51.6425,-49.7928,2289,1898.9, 3.1381,34.9168,2,   -999,9,281.0,2, -999,9, -999,9, -999,9
  06MT20110624,   A02,847,1, 6, 6,2,20110731,1749,51.6425,-49.7928,2289,1798.7, 3.2546,34.9172,2,   -999,9,279.6,2, -999,9,3.214,2,1.560,2
  06MT20110624,   A02,847,1, 7, 7,2,20110731,1749,51.6425,-49.7928,2289,1695.3, 3.3334,34.9150,2,   -999,9,278.8,2, -999,9, -999,9, -999,9
  06MT20110624,   A02,847,1, 8, 8,2,20110731,1749,51.6425,-49.7928,2289,1599.1, 3.4002,34.9157,2,   -999,9,278.1,2,278.3,2,3.210,2,1.607,2
  06MT20110624,   A02,847,1, 9, 9,2,20110731,1749,51.6425,-49.7928,2289,1494.2, 3.5206,34.9166,2,   -999,9,277.1,2, -999,9, -999,9, -999,9
  06MT20110624,   A02,847,1,10,10,2,20110731,1749,51.6425,-49.7928,2289,1399.2, 3.6135,34.9157,2,   -999,9,277.6,2, -999,9,3.529,2,1.799,2
  06MT20110624,   A02,847,1,11,11,2,20110731,1749,51.6425,-49.7928,2289,1299.3, 3.6627,34.9068,2,   -999,9,279.8,2, -999,9, -999,9, -999,9
  06MT20110624,   A02,847,1,12,12,2,20110731,1749,51.6425,-49.7928,2289,1199.8, 3.6831,34.8974,2,   -999,9,282.8,2,282.6,2,4.010,2,2.146,3
  06MT20110624,   A02,847,1,13,13,2,20110731,1749,51.6425,-49.7928,2289,1098.3, 3.6994,34.8901,2,   -999,9,284.9,2, -999,9,4.058,2,2.132,2
  06MT20110624,   A02,847,1,14,14,2,20110731,1749,51.6425,-49.7928,2289, 991.8, 3.7235,34.8847,2,   -999,9,287.5,2, -999,9,4.128,6,2.260,6
  06MT20110624,   A02,847,1,15,15,2,20110731,1749,51.6425,-49.7928,2289, 898.5, 3.7252,34.8758,2,   -999,9,295.1,2, -999,9, -999,9, -999,9
  06MT20110624,   A02,847,1,16,16,2,20110731,1749,51.6425,-49.7928,2289, 799.4, 3.7515,34.8775,2,   -999,9,296.1,2,296.9,2,4.304,2,2.369,2
  06MT20110624,   A02,847,1,17,17,2,20110731,1749,51.6425,-49.7928,2289, 697.4, 3.8059,34.8826,2,   -999,9,294.6,2, -999,9,4.294,2,2.381,2
  06MT20110624,   A02,847,1,18,18,2,20110731,1749,51.6425,-49.7928,2289, 624.0, 3.8653,34.8885,2,   -999,9,294.0,2, -999,9,4.293,2,2.354,2
  06MT20110624,   A02,847,1,19,19,2,20110731,1749,51.6425,-49.7928,2289, 477.9, 3.9057,34.8853,2,   -999,9,294.2,2,295.7,6,4.306,2,2.347,2
  06MT20110624,   A02,847,1,20,20,2,20110731,1749,51.6425,-49.7928,2289, 290.1, 3.9527,34.8765,2,   -999,9,292.1,2, -999,9,4.329,2,2.385,2
  06MT20110624,   A02,847,1,21,21,2,20110731,1749,51.6425,-49.7928,2289,  98.9, 3.8100,34.7092,2,   -999,9,298.5,2, -999,9,4.523,2,2.573,2
  06MT20110624,   A02,847,1,22,22,2,20110731,1749,51.6425,-49.7928,2289,  11.5, 9.3681,34.0772,2,   -999,9,300.6,2,304.9,2,3.906,2,2.210,2
  06MT20110624,   A02,848,1, 1, 1,2,20110731,2112,51.4825,-50.1605, 764, 769.3, 3.9584,34.8853,2,   -999,9,294.9,2, -999,9, -999,9, -999,9
  06MT20110624,   A02,848,1, 2, 2,2,20110731,2112,51.4825,-50.1605, 764, 769.8, 3.9585,34.8857,2,   -999,9,294.9,2, -999,9,4.290,2,2.307,2
  06MT20110624,   A02,848,1, 3, 3,2,20110731,2112,51.4825,-50.1605, 764, 700.7, 3.9539,34.8851,2,   -999,9,295.1,2, -999,9,4.395,2,2.499,2
  06MT20110624,   A02,848,1, 4, 4,2,20110731,2112,51.4825,-50.1605, 764, 698.8, 3.9538,34.8851,2,   -999,9,294.7,2, -999,9, -999,9, -999,9
  06MT20110624,   A02,848,1, 5, 5,2,20110731,2112,51.4825,-50.1605, 764, 597.9, 3.9486,34.8853,2,   -999,9,294.7,2, -999,9,4.363,2,2.464,2
  06MT20110624,   A02,848,1, 6, 6,2,20110731,2112,51.4825,-50.1605, 764, 596.3, 3.9485,34.8850,2,   -999,9,294.8,2, -999,9, -999,9, -999,9
  06MT20110624,   A02,848,1, 7, 7,2,20110731,2112,51.4825,-50.1605, 764, 499.4, 3.9423,34.8848,2,   -999,9,295.5,2, -999,9,4.408,2,2.547,2
  06MT20110624,   A02,848,1, 8, 8,2,20110731,2112,51.4825,-50.1605, 764, 497.5, 3.9423,34.8851,2,   -999,9,295.1,2, -999,9, -999,9, -999,9
  06MT20110624,   A02,848,1, 9, 9,2,20110731,2112,51.4825,-50.1605, 764, 399.1, 3.9470,34.8824,2,   -999,9,296.1,2, -999,9,4.405,2,2.467,2
  06MT20110624,   A02,848,1,10,10,2,20110731,2112,51.4825,-50.1605, 764, 397.1, 3.9473,34.8819,2,   -999,9,296.2,2, -999,9, -999,9, -999,9
  06MT20110624,   A02,848,1,11,11,2,20110731,2112,51.4825,-50.1605, 764, 299.2, 3.9460,34.8759,2,   -999,9,296.3,2, -999,9,4.417,2,2.437,2
  06MT20110624,   A02,848,1,12,12,2,20110731,2112,51.4825,-50.1605, 764, 297.8, 3.9459,34.8759,2,   -999,9,296.5,2, -999,9, -999,9, -999,9
  06MT20110624,   A02,848,1,13,13,2,20110731,2112,51.4825,-50.1605, 764, 199.6, 3.9988,34.8702,2,   -999,9,293.1,2, -999,9,4.321,2,2.284,2
  06MT20110624,   A02,848,1,14,14,2,20110731,2112,51.4825,-50.1605, 764, 195.7, 3.9978,34.8684,2,   -999,9,294.7,2, -999,9, -999,9, -999,9
  06MT20110624,   A02,848,1,15,15,2,20110731,2112,51.4825,-50.1605, 764, 100.6, 3.9666,34.8127,2,   -999,9,294.0,2, -999,9,4.444,2,2.453,2
  06MT20110624,   A02,848,1,16,16,2,20110731,2112,51.4825,-50.1605, 764,  99.5, 3.9642,34.8123,2,   -999,9,293.6,2, -999,9, -999,9, -999,9
  06MT20110624,   A02,848,1,17,17,2,20110731,2112,51.4825,-50.1605, 764,  10.9, 7.5662,33.2687,2,   -999,9,321.2,2, -999,9,4.565,2,2.495,2
  06MT20110624,   A02,848,1,18,18,2,20110731,2112,51.4825,-50.1605, 764,  11.1, 7.4853,33.2117,2,   -999,9,316.2,2, -999,9, -999,9, -999,9
  06MT20110624,   A02,848,1,19,19,2,20110731,2112,51.4825,-50.1605, 764,  11.4, 7.2881,33.2467,2,   -999,9,319.0,2, -999,9, -999,9, -999,9
  06MT20110624,   A02,848,1,20,20,2,20110731,2112,51.4825,-50.1605, 764,  11.4, 7.2869,33.2453,2,   -999,9,320.2,2, -999,9, -999,9, -999,9
  06MT20110624,   A02,848,1,21,21,2,20110731,2112,51.4825,-50.1605, 764,  11.5, 7.2832,33.2450,2,   -999,9,325.1,2, -999,9, -999,9, -999,9
  06MT20110624,   A02,848,1,22,22,2,20110731,2112,51.4825,-50.1605, 764,  11.4, 7.3526,33.2537,2,   -999,9,325.2,2, -999,9, -999,9, -999,9