BOTTLE,20231122CCHSIOVAJ
EXPOCODE,SECT_ID,STNNBR,CASTNO,SAMPNO,BTLNBR,BTLNBR_FLAG_W,DATE,TIME,LATITUDE,LONGITUDE,DEPTH,CTDPRS,CTDTMP,CTDSAL,CTDSAL_FLAG_W,SALNTY,SALNTY_FLAG_W,CTDOXY,CTDOXY_FLAG_W,OXYGEN,OXYGEN_FLAG_W,CFC-11,CFC-11_FLAG_W,CFC-12,CFC-12_FLAG_W
,,,,,,,,,,,METERS,DBAR,ITS-90,PSS-78,,PSS-78,,UMOL/KG,,UMOL/KG,,PMOL/KG,,PMOL/KG,
  06MT20110624,   A02,765,1, 1, 1,2,20110712,1211,47.1008,-41.6095,4293,4370.8, 2.1204,34.8954,2,34.8943,2,290.2,2,289.5,2,3.281,2,1.731,2
  06MT20110624,   A02,765,1, 2, 2,2,20110712,1211,47.1008,-41.6095,4293,4201.7, 2.1609,34.8965,2,   -999,9,287.4,2, -999,9,3.035,2,1.565,2
  06MT20110624,   A02,765,1, 3, 3,2,20110712,1211,47.1008,-41.6095,4293,3906.1, 2.2566,34.8987,2,   -999,9,283.4,2, -999,9,2.663,2,1.392,2
  06MT20110624,   A02,765,1, 4, 4,2,20110712,1211,47.1008,-41.6095,4293,3590.5, 2.4164,34.9038,2,   -999,9,280.2,2,279.6,2,2.329,2,1.210,2
  06MT20110624,   A02,765,1, 5, 5,2,20110712,1211,47.1008,-41.6095,4293,3318.1, 2.6247,34.9131,2,   -999,9,278.7,2, -999,9,2.288,2,1.141,2
  06MT20110624,   A02,765,1, 6, 6,2,20110712,1211,47.1008,-41.6095,4293,2990.3, 2.8787,34.9180,2,   -999,9,278.1,2, -999,9,2.469,2,1.277,2
  06MT20110624,   A02,765,1, 7, 7,2,20110712,1211,47.1008,-41.6095,4293,2690.5, 3.1024,34.9162,2,   -999,9,278.6,2, -999,9,2.782,2,1.452,2
  06MT20110624,   A02,765,1, 8, 8,2,20110712,1211,47.1008,-41.6095,4293,2397.8, 3.3534,34.9167,2,   -999,9,276.4,2,276.5,2,2.725,2,1.377,2
  06MT20110624,   A02,765,1, 9, 9,2,20110712,1211,47.1008,-41.6095,4293,2119.3, 3.5648,34.9256,2,   -999,9,272.9,2, -999,9,3.031,2,1.581,2
  06MT20110624,   A02,765,1,10,10,2,20110712,1211,47.1008,-41.6095,4293,1888.4, 3.7017,34.9184,2,34.9158,2,275.2,2, -999,9,3.375,2,1.766,2
  06MT20110624,   A02,765,1,11,11,2,20110712,1211,47.1008,-41.6095,4293,1683.2, 3.9511,34.9383,2,   -999,9,270.3,2,270.1,2,3.128,2,1.621,2
  06MT20110624,   A02,765,1,12,12,2,20110712,1211,47.1008,-41.6095,4293,1469.8, 4.0592,34.9314,2,   -999,9,272.6,2, -999,9,3.495,2,1.861,2
  06MT20110624,   A02,765,1,13,13,2,20110712,1211,47.1008,-41.6095,4293,1332.8, 4.2113,34.9400,2,   -999,9,270.7,2, -999,9,3.525,2,1.891,2
  06MT20110624,   A02,765,1,14,14,2,20110712,1211,47.1008,-41.6095,4293,1203.3, 4.5168,34.9684,2,   -999,9,264.1,2, -999,9,3.387,2,1.814,2
  06MT20110624,   A02,765,1,15,15,2,20110712,1211,47.1008,-41.6095,4293,1119.3, 4.6057,34.9647,2,   -999,9,262.8,2, -999,9,3.495,2,1.875,2
  06MT20110624,   A02,765,1,16,16,2,20110712,1211,47.1008,-41.6095,4293,1001.8, 4.7937,34.9511,2,   -999,9,263.8,2, -999,9,3.704,2,2.070,2
  06MT20110624,   A02,765,1,17,17,2,20110712,1211,47.1008,-41.6095,4293, 799.1, 6.2033,34.9886,2,   -999,9,210.5,2, -999,9,2.505,2,1.374,2
  06MT20110624,   A02,765,1,18,18,2,20110712,1211,47.1008,-41.6095,4293, 591.3, 9.4948,35.1895,2,35.1138,3,195.0,2, -999,9,2.136,6,1.191,6
  06MT20110624,   A02,765,1,19,19,2,20110712,1211,47.1008,-41.6095,4293, 401.5,11.7468,35.5591,2,   -999,9,248.2,2, -999,9,2.769,2,1.633,2
  06MT20110624,   A02,765,1,20,20,2,20110712,1211,47.1008,-41.6095,4293, 197.6,12.4174,35.6559,2,   -999,9,242.8,2,244.7,2,2.756,2,1.645,2
  06MT20110624,   A02,765,1,21,21,2,20110712,1211,47.1008,-41.6095,4293,  11.7,16.0741,35.1754,2,   -999,9,258.5,2, -999,9,2.610,2,1.642,2
  06MT20110624,   A02,765,1,22,22,2,20110712,1211,47.1008,-41.6095,4293,  12.0,16.0657,35.1754,2,35.1770,2,258.8,2,258.0,6, -999,9, -999,9
  06MT20110624,   A02,766,1, 1, 1,2,20110712,1804,47.0980,-42.1807,4113,4168.7, 2.1480,34.8956,2,34.8961,2,287.3,2,287.6,2,2.994,2,1.540,2
  06MT20110624,   A02,766,1, 2, 2,2,20110712,1804,47.0980,-42.1807,4113,3998.5, 2.1665,34.8965,2,   -999,9,285.5,2, -999,9,2.900,2,1.533,2
  06MT20110624,   A02,766,1, 3, 3,2,20110712,1804,47.0980,-42.1807,4113,3699.5, 2.2537,34.8983,2,   -999,9,281.2,2, -999,9, -999,9, -999,9
  06MT20110624,   A02,766,1, 4, 4,2,20110712,1804,47.0980,-42.1807,4113,3470.3, 2.3583,34.9034,2,34.9000,2,281.9,2, -999,9,2.414,2,1.238,2
  06MT20110624,   A02,766,1, 5, 5,2,20110712,1804,47.0980,-42.1807,4113,3100.3, 2.6777,34.9143,2,   -999,9,278.0,2, -999,9,2.436,2,1.234,2
  06MT20110624,   A02,766,1, 6, 6,2,20110712,1804,47.0980,-42.1807,4113,2786.8, 2.9002,34.9183,2,   -999,9,277.7,2,278.7,6,2.256,2,1.135,2
  06MT20110624,   A02,766,1, 7, 7,2,20110712,1804,47.0980,-42.1807,4113,2474.8, 3.0823,34.9167,2,   -999,9,278.1,2, -999,9,2.686,2,1.341,2
  06MT20110624,   A02,766,1, 8, 8,2,20110712,1804,47.0980,-42.1807,4113,2189.3, 3.3053,34.9149,2,   -999,9,278.6,2, -999,9,3.141,2,1.623,2
  06MT20110624,   A02,766,1, 9, 9,2,20110712,1804,47.0980,-42.1807,4113,1775.7, 3.6244,34.9167,2,   -999,9,275.6,2,276.7,2,3.308,2,1.714,2
  06MT20110624,   A02,766,1,10,10,2,20110712,1804,47.0980,-42.1807,4113,1571.8, 3.7487,34.9107,2,   -999,9,277.9,2, -999,9,3.351,2,1.734,2
  06MT20110624,   A02,766,1,11,11,2,20110712,1804,47.0980,-42.1807,4113,1419.3, 3.8920,34.9164,2,34.9138,2,276.3,2, -999,9,3.635,2,1.923,2
  06MT20110624,   A02,766,1,12,12,2,20110712,1804,47.0980,-42.1807,4113,1326.1, 3.9407,34.9160,2,   -999,9,277.3,2, -999,9,3.894,2,2.056,2
  06MT20110624,   A02,766,1,13,13,2,20110712,1804,47.0980,-42.1807,4113,1202.6, 3.9766,34.9084,2,   -999,9,280.6,2,283.3,2,4.098,2,2.208,2
  06MT20110624,   A02,766,1,14,14,2,20110712,1804,47.0980,-42.1807,4113,1092.4, 4.1083,34.9164,2,   -999,9,279.0,2, -999,9,3.973,2,2.120,2
  06MT20110624,   A02,766,1,15,15,2,20110712,1804,47.0980,-42.1807,4113, 977.0, 4.3251,34.9338,2,   -999,9,275.2,2, -999,9,3.747,2,1.997,2
  06MT20110624,   A02,766,1,16,16,2,20110712,1804,47.0980,-42.1807,4113, 899.2, 4.4730,34.9401,2,   -999,9,270.4,2, -999,9, -999,9, -999,9
  06MT20110624,   A02,766,1,17,17,2,20110712,1804,47.0980,-42.1807,4113, 810.4, 4.7485,34.9637,2,   -999,9,256.7,2, -999,9,3.407,2,1.850,2
  06MT20110624,   A02,766,1,18,18,2,20110712,1804,47.0980,-42.1807,4113, 583.0, 4.5565,34.7191,2,   -999,9,289.3,2, -999,9,3.919,6,2.137,6
  06MT20110624,   A02,766,1,19,19,2,20110712,1804,47.0980,-42.1807,4113, 394.4, 8.7508,35.1101,2,   -999,9,178.5,2, -999,9,2.175,2,1.210,2
  06MT20110624,   A02,766,1,20,20,2,20110712,1804,47.0980,-42.1807,4113, 243.4,11.2866,35.4269,2,   -999,9,178.6,2,180.6,2,2.093,2,1.184,2
  06MT20110624,   A02,766,1,21,21,2,20110712,1804,47.0980,-42.1807,4113,  12.4,14.0012,33.7352,2,   -999,9,273.8,2, -999,9,3.101,2,1.779,2
  06MT20110624,   A02,766,1,22,22,2,20110712,1804,47.0980,-42.1807,4113,  12.4,13.9539,33.7321,2,33.8578,3,274.5,2,273.5,2, -999,9, -999,9
  06MT20110624,   A02,767,1, 1, 1,2,20110712,2248,47.0995,-42.5910,3670,3732.7, 2.0530,34.8955,2,34.8943,2,289.4,2,289.1,2,3.284,2,1.743,2
  06MT20110624,   A02,767,1, 2, 2,2,20110712,2248,47.0995,-42.5910,3670,3598.2, 2.1155,34.8964,2,   -999,9,286.4,2, -999,9,2.922,2,1.503,2
  06MT20110624,   A02,767,1, 3, 3,2,20110712,2248,47.0995,-42.5910,3670,3399.4, 2.1932,34.8972,2,   -999,9,282.4,2, -999,9,2.492,2,1.277,2
  06MT20110624,   A02,767,1, 4, 4,2,20110712,2248,47.0995,-42.5910,3670,3199.2, 2.3267,34.9025,2,   -999,9,286.9,2,285.4,2,3.011,2,1.554,2
  06MT20110624,   A02,767,1, 5, 5,2,20110712,2248,47.0995,-42.5910,3670,2998.2, 2.5140,34.9088,2,   -999,9,284.2,2, -999,9,2.861,2,1.484,2
  06MT20110624,   A02,767,1, 6, 6,2,20110712,2248,47.0995,-42.5910,3670,2799.3, 2.7765,34.9155,2,   -999,9,280.8,2, -999,9,2.766,2,1.486,2
  06MT20110624,   A02,767,1, 7, 7,2,20110712,2248,47.0995,-42.5910,3670,2585.4, 2.9326,34.9182,2,34.9172,2,278.1,2, -999,9,2.417,2,1.182,2
  06MT20110624,   A02,767,1, 8, 8,2,20110712,2248,47.0995,-42.5910,3670,2397.8, 3.0771,34.9171,2,   -999,9,277.8,2, -999,9, -999,9, -999,9
  06MT20110624,   A02,767,1, 9, 9,2,20110712,2248,47.0995,-42.5910,3670,2196.9, 3.2125,34.9160,2,   -999,9,278.3,2, -999,9,2.737,2,1.448,2
  06MT20110624,   A02,767,1,10,10,2,20110712,2248,47.0995,-42.5910,3670,2007.5, 3.3727,34.9158,2,   -999,9,276.5,2,276.4,2,2.826,2,1.419,2
  06MT20110624,   A02,767,1,11,11,2,20110712,2248,47.0995,-42.5910,3670,1809.2, 3.5283,34.9202,2,   -999,9,275.1,2, -999,9,2.929,2,1.504,2
  06MT20110624,   A02,767,1,12,12,2,20110712,2248,47.0995,-42.5910,3670,1603.1, 3.6720,34.9211,2,   -999,9,274.4,2, -999,9,3.141,2,1.621,2
  06MT20110624,   A02,767,1,13,13,2,20110712,2248,47.0995,-42.5910,3670,1398.7, 3.7831,34.9160,2,   -999,9,276.2,2, -999,9,3.364,2,1.761,2
  06MT20110624,   A02,767,1,14,14,2,20110712,2248,47.0995,-42.5910,3670,1196.0, 3.9339,34.9179,2,   -999,9,276.5,2, -999,9,3.682,2,1.907,2
  06MT20110624,   A02,767,1,15,15,2,20110712,2248,47.0995,-42.5910,3670, 992.7, 4.1306,34.9264,2,   -999,9,277.0,2,275.7,2,3.795,6,2.027,6
  06MT20110624,   A02,767,1,16,16,2,20110712,2248,47.0995,-42.5910,3670, 798.7, 4.3710,34.9373,2,34.9315,3,269.9,2, -999,9,3.838,2,2.100,2
  06MT20110624,   A02,767,1,17,17,2,20110712,2248,47.0995,-42.5910,3670, 556.1, 5.5147,35.0187,2,   -999,9,234.3,2, -999,9,3.070,2,1.635,2
  06MT20110624,   A02,767,1,18,18,2,20110712,2248,47.0995,-42.5910,3670, 374.2, 6.5170,34.8859,2,   -999,9,200.8,2, -999,9,3.184,2,1.744,2
  06MT20110624,   A02,767,1,19,19,2,20110712,2248,47.0995,-42.5910,3670, 198.3,11.3959,35.4638,2,   -999,9,206.0,2, -999,9,2.198,2,1.310,2
  06MT20110624,   A02,767,1,20,20,2,20110712,2248,47.0995,-42.5910,3670,  13.1,16.7992,35.1261,2,   -999,9,254.6,2, -999,9,2.647,2,1.577,2
  06MT20110624,   A02,767,1,21,21,2,20110712,2248,47.0995,-42.5910,3670,  13.2,16.7999,35.1171,2,   -999,9,252.6,2, -999,9, -999,9, -999,9
  06MT20110624,   A02,767,1,22,22,2,20110712,2248,47.0995,-42.5910,3670,  13.3,16.8024,35.1226,2,35.2290,3,252.5,2,257.5,6, -999,9, -999,9
  06MT20110624,   A02,768,1, 1, 1,2,20110713,0304,47.0987,-42.8952,3473,3492.5, 2.0919,34.8961,2,34.8959,2,286.8,2,285.9,2,2.929,2,1.490,2
  06MT20110624,   A02,768,1, 2, 2,2,20110713,0304,47.0987,-42.8952,3473,3298.7, 2.2848,34.9013,2,   -999,9,283.6,2, -999,9, -999,9, -999,9
  06MT20110624,   A02,768,1, 3, 3,2,20110713,0304,47.0987,-42.8952,3473,3202.4, 2.3973,34.9046,2,   -999,9,281.8,2, -999,9, -999,9, -999,9
  06MT20110624,   A02,768,1, 4, 4,2,20110713,0304,47.0987,-42.8952,3473,3102.3, 2.4690,34.9071,2,   -999,9,284.7,2, -999,9, -999,9, -999,9
  06MT20110624,   A02,768,1, 5, 5,2,20110713,0304,47.0987,-42.8952,3473,2911.9, 2.6579,34.9136,2,   -999,9,281.8,2,281.9,2, -999,9, -999,9
  06MT20110624,   A02,768,1, 6, 6,2,20110713,0304,47.0987,-42.8952,3473,2758.7, 2.7925,34.9156,2,   -999,9,281.3,2, -999,9, -999,9, -999,9
  06MT20110624,   A02,768,1, 7, 7,2,20110713,0304,47.0987,-42.8952,3473,2612.5, 2.9024,34.9163,2,   -999,9,280.5,2, -999,9, -999,9, -999,9
  06MT20110624,   A02,768,1, 8, 8,2,20110713,0304,47.0987,-42.8952,3473,2447.9, 3.0263,34.9177,2,   -999,9,277.8,2, -999,9, -999,9, -999,9
  06MT20110624,   A02,768,1, 9, 9,2,20110713,0304,47.0987,-42.8952,3473,2303.0, 3.1021,34.9150,2,34.9164,2,279.7,2,279.6,2,2.897,2,1.465,2
  06MT20110624,   A02,768,1,10,10,2,20110713,0304,47.0987,-42.8952,3473,2094.7, 3.2416,34.9147,2,   -999,9,278.8,2, -999,9,3.024,2,1.559,2
  06MT20110624,   A02,768,1,11,11,2,20110713,0304,47.0987,-42.8952,3473,1907.1, 3.4324,34.9164,2,   -999,9,277.6,2, -999,9,3.246,2,1.655,2
  06MT20110624,   A02,768,1,12,12,2,20110713,0304,47.0987,-42.8952,3473,1718.0, 3.5811,34.9176,2,   -999,9,276.7,2, -999,9,3.493,2,1.835,2
  06MT20110624,   A02,768,1,13,13,2,20110713,0304,47.0987,-42.8952,3473,1500.5, 3.6988,34.9092,2,   -999,9,278.8,2,278.4,6,3.696,2,1.925,2
  06MT20110624,   A02,768,1,14,14,2,20110713,0304,47.0987,-42.8952,3473,1315.8, 3.7630,34.8955,2,   -999,9,282.4,2, -999,9,4.147,2,2.228,2
  06MT20110624,   A02,768,1,15,15,2,20110713,0304,47.0987,-42.8952,3473,1126.6, 3.9063,34.8979,2,   -999,9,283.5,2, -999,9,4.160,2,2.231,2
  06MT20110624,   A02,768,1,16,16,2,20110713,0304,47.0987,-42.8952,3473,1008.8, 4.0108,34.9020,2,   -999,9,283.7,2, -999,9, -999,9, -999,9
  06MT20110624,   A02,768,1,17,17,2,20110713,0304,47.0987,-42.8952,3473, 917.1, 4.0591,34.9003,2,34.9010,2,284.3,2, -999,9,4.271,2,2.321,2
  06MT20110624,   A02,768,1,18,18,2,20110713,0304,47.0987,-42.8952,3473, 689.0, 4.1361,34.8856,2,   -999,9,290.6,2, -999,9, -999,9, -999,9
  06MT20110624,   A02,768,1,19,19,2,20110713,0304,47.0987,-42.8952,3473, 498.1, 4.4271,34.8814,2,   -999,9,281.8,2, -999,9,4.237,2,2.350,2
  06MT20110624,   A02,768,1,20,20,2,20110713,0304,47.0987,-42.8952,3473, 300.0, 5.8932,34.8674,2,   -999,9,224.8,2, -999,9,3.497,2,1.888,2
  06MT20110624,   A02,768,1,21,21,2,20110713,0304,47.0987,-42.8952,3473,  99.0,11.0892,35.1923,2,   -999,9,230.9,2, -999,9, -999,9, -999,9
  06MT20110624,   A02,768,1,22,22,2,20110713,0304,47.0987,-42.8952,3473,  13.4,16.7154,35.1424,2,   -999,9,261.4,2,261.9,2,2.799,2,1.661,2
  06MT20110624,   A02,771,1, 1, 1,2,20110714,0716,47.1018,-43.1185,3500,3569.4, 2.3635,34.9032,2,34.9040,2,287.2,2,287.7,2,3.275,2,1.673,2
  06MT20110624,   A02,771,1, 2, 2,2,20110714,0716,47.1018,-43.1185,3500,3199.4, 2.4441,34.9064,2,   -999,9,285.4,2, -999,9,3.110,2,1.544,2
  06MT20110624,   A02,771,1, 3, 3,2,20110714,0716,47.1018,-43.1185,3500,2901.3, 2.5938,34.9111,2,   -999,9,283.3,2, -999,9,3.067,2,1.566,2
  06MT20110624,   A02,771,1, 4, 4,2,20110714,0716,47.1018,-43.1185,3500,2602.9, 2.8299,34.9149,2,   -999,9,281.9,2,282.9,2,3.120,2,1.567,2
  06MT20110624,   A02,771,1, 5, 5,2,20110714,0716,47.1018,-43.1185,3500,2300.6, 3.0154,34.9156,2,   -999,9,280.3,2, -999,9,3.045,2,1.503,2
  06MT20110624,   A02,771,1, 6, 6,2,20110714,0716,47.1018,-43.1185,3500,1988.6, 3.2382,34.9160,2,34.9162,2,279.6,2, -999,9,3.292,2,1.638,2
  06MT20110624,   A02,771,1, 7, 7,2,20110714,0716,47.1018,-43.1185,3500,1669.9, 3.5171,34.9182,2,   -999,9,277.5,2, -999,9,3.540,2,1.768,2
  06MT20110624,   A02,771,1, 8, 8,2,20110714,0716,47.1018,-43.1185,3500,1470.9, 3.6622,34.9144,2,   -999,9,278.4,2,278.9,2,3.802,2,1.947,2
  06MT20110624,   A02,771,1, 9, 9,2,20110714,0716,47.1018,-43.1185,3500,1277.4, 3.7420,34.9020,2,   -999,9,282.0,2, -999,9,4.060,2,2.145,2
  06MT20110624,   A02,771,1,10,10,2,20110714,0716,47.1018,-43.1185,3500,1068.8, 3.8478,34.8974,2,   -999,9,283.9,2, -999,9,4.156,2,2.191,2
  06MT20110624,   A02,771,1,11,11,2,20110714,0716,47.1018,-43.1185,3500, 888.0, 4.0060,34.9035,2,   -999,9,284.1,2, -999,9,4.175,2,2.199,2
  06MT20110624,   A02,771,1,12,12,2,20110714,0716,47.1018,-43.1185,3500, 682.3, 4.1576,34.9059,2,34.9069,2,285.1,2, -999,9,4.239,2,2.293,2
  06MT20110624,   A02,771,1,13,13,2,20110714,0716,47.1018,-43.1185,3500, 499.7, 4.2631,34.8912,2,   -999,9,286.3,2,284.2,2,4.261,2,2.322,2
  06MT20110624,   A02,771,1,14,14,2,20110714,0716,47.1018,-43.1185,3500, 283.1, 5.2339,34.9605,2,   -999,9,241.8,2, -999,9,3.171,2,1.634,2
  06MT20110624,   A02,771,1,15,15,2,20110714,0716,47.1018,-43.1185,3500,  11.8,12.3806,34.0047,2,34.0090,2,283.9,2,283.0,2,3.413,2,1.950,2
  06MT20110624,   A02,771,1,16,16,2,20110714,0716,47.1018,-43.1185,3500,  12.0,12.3903,34.0041,2,   -999,9,283.6,2, -999,9, -999,9, -999,9
  06MT20110624,   A02,771,1,17,17,2,20110714,0716,47.1018,-43.1185,3500,  12.2,12.3913,34.0046,2,   -999,9,283.7,2, -999,9, -999,9, -999,9
  06MT20110624,   A02,771,1,18,18,2,20110714,0716,47.1018,-43.1185,3500,  12.7,12.3794,34.0067,2,   -999,9,283.6,2, -999,9, -999,9, -999,9
  06MT20110624,   A02,771,1,19,19,2,20110714,0716,47.1018,-43.1185,3500,  12.6,12.3790,34.0058,2,   -999,9,283.7,2, -999,9, -999,9, -999,9
  06MT20110624,   A02,771,1,20,20,2,20110714,0716,47.1018,-43.1185,3500,  12.0,12.3823,34.0051,2,   -999,9,283.7,2, -999,9, -999,9, -999,9
  06MT20110624,   A02,771,1,21,21,2,20110714,0716,47.1018,-43.1185,3500,  12.2,12.3847,34.0054,2,   -999,9,284.1,2, -999,9, -999,9, -999,9
  06MT20110624,   A02,772,1, 1, 1,2,20110714,1109,47.1007,-43.2257,3020,3056.6, 2.5510,34.9091,2,34.9054,2,284.3,2,284.8,2,3.142,2,1.601,2
  06MT20110624,   A02,772,1, 2, 2,2,20110714,1109,47.1007,-43.2257,3020,2801.7, 2.5421,34.9097,2,   -999,9,284.0,2, -999,9,3.102,2,1.543,2
  06MT20110624,   A02,772,1, 3, 3,2,20110714,1109,47.1007,-43.2257,3020,2497.3, 2.8395,34.9154,2,   -999,9,281.7,2,281.6,2,2.983,2,1.482,2
  06MT20110624,   A02,772,1, 4, 4,2,20110714,1109,47.1007,-43.2257,3020,2198.9, 3.0856,34.9149,2,   -999,9,280.1,2, -999,9,3.122,2,1.565,2
  06MT20110624,   A02,772,1, 5, 5,2,20110714,1109,47.1007,-43.2257,3020,1898.2, 3.2834,34.9154,2,34.9142,2,279.3,2, -999,9,3.305,2,1.665,2
  06MT20110624,   A02,772,1, 6, 6,2,20110714,1109,47.1007,-43.2257,3020,1685.3, 3.4523,34.9173,2,   -999,9,277.6,2, -999,9,3.407,2,1.722,2
  06MT20110624,   A02,772,1, 7, 7,2,20110714,1109,47.1007,-43.2257,3020,1500.6, 3.6137,34.9161,2,   -999,9,277.3,2,277.4,2,3.523,2,1.790,2
  06MT20110624,   A02,772,1, 8, 8,2,20110714,1109,47.1007,-43.2257,3020,1300.8, 3.7057,34.9037,2,   -999,9,280.2,2, -999,9,3.783,2,1.928,2
  06MT20110624,   A02,772,1, 9, 9,2,20110714,1109,47.1007,-43.2257,3020,1092.6, 3.7806,34.8965,2,   -999,9,283.5,2, -999,9,4.121,2,2.221,2
  06MT20110624,   A02,772,1,10,10,2,20110714,1109,47.1007,-43.2257,3020, 913.7, 3.9425,34.9003,2,   -999,9,284.6,2, -999,9,4.163,2,2.188,2
  06MT20110624,   A02,772,1,11,11,2,20110714,1109,47.1007,-43.2257,3020, 689.6, 4.1145,34.8937,2,   -999,9,288.1,2,284.8,6,4.241,2,2.275,2
  06MT20110624,   A02,772,1,12,12,2,20110714,1109,47.1007,-43.2257,3020, 499.3, 4.1921,34.8874,2,34.8847,2,288.2,2, -999,9,4.321,2,2.340,2
  06MT20110624,   A02,772,1,13,13,2,20110714,1109,47.1007,-43.2257,3020, 322.9, 4.2196,34.8324,2,   -999,9,288.8,2,284.5,2,4.260,2,2.300,2
  06MT20110624,   A02,772,1,14,14,2,20110714,1109,47.1007,-43.2257,3020,  11.7,12.5802,33.9525,2,   -999,9,282.6,2,281.1,2,3.361,2,1.927,2
  06MT20110624,   A02,772,1,15,15,2,20110714,1109,47.1007,-43.2257,3020,  11.9,12.5779,33.9524,2,   -999,9,282.6,2, -999,9, -999,9, -999,9
  06MT20110624,   A02,772,1,16,16,2,20110714,1109,47.1007,-43.2257,3020,  11.6,12.5688,33.9542,2,   -999,9,282.5,2, -999,9, -999,9, -999,9
  06MT20110624,   A02,772,1,17,17,2,20110714,1109,47.1007,-43.2257,3020,  12.3,12.5838,33.9530,2,   -999,9,282.6,2, -999,9, -999,9, -999,9
  06MT20110624,   A02,772,1,18,18,2,20110714,1109,47.1007,-43.2257,3020,  11.9,12.5796,33.9533,2,   -999,9,282.6,2, -999,9, -999,9, -999,9
  06MT20110624,   A02,772,1,19,19,2,20110714,1109,47.1007,-43.2257,3020,  11.7,12.5749,33.9537,2,   -999,9,283.0,2, -999,9, -999,9, -999,9
  06MT20110624,   A02,772,1,20,20,2,20110714,1109,47.1007,-43.2257,3020,  11.9,12.5767,33.9542,2,   -999,9,283.3,2, -999,9, -999,9, -999,9
  06MT20110624,   A02,772,1,21,21,2,20110714,1109,47.1007,-43.2257,3020,  12.1,12.5873,33.9533,2,   -999,9,283.1,2, -999,9, -999,9, -999,9
  06MT20110624,   A02,772,1,22,22,2,20110714,1109,47.1007,-43.2257,3020,  11.9,12.5926,33.9536,2,   -999,9,283.0,2, -999,9, -999,9, -999,9