BOTTLE,20231122CCHSIOVAJ
# TIME parameter created from MT851.SUM and MT851.SEA files
# Changed EXPOCODE from 06M320110624 to 06MT20110624
# BTLNBR changed from -9 to reflect SAMPNO numbering
# Updated flag values for all entries of CTDOXY at STNNBR 794 from 2 to 9
# Updated flag value for OXYGEN at STNNBR 795, CASTNO 1, BTLNBR 15 from 4 to 9
# Updated flag values for parameters CFC-11 and CFC-12. See README for more info
# These data are under a CC0 license. For more information on how to cite, please visit cchdo.ucsd.edu
#BOTTLE,20180213PRINUNIVRMK
# 02/12/2018 Initialized README file  
# Data source: https://cchdo.ucsd.edu/cruise/06MT20110624 on 10/14/16 
# SHIP: Meteor 
# Cruise: Met85/1; A02 
# Region: far N. Atlantic 
# EXPOCODE: 06M320110624 
# DATES: 20110624 - 20110802 
# Chief Scientist: Dagmar Kieke 
# 116 stations with 22 place Rosette 
# CTD: Who - D.Kieke; Status - final 
# 	Includes: CTDSAL, CTDOXY, buth calibrated to bottle values 
# Salinty: Who - R.Steinfeldt; Status - final 
# 	Notes: 	 
# O2: Who - D.Kieke; Status - final 
# 	Notes: 
# CFC: Who - M.Rhein; Status - final 
# 	Notes:  
# These data should be cited as: 
# References that have used data from this cruise: 
EXPOCODE,SECT_ID,STNNBR,CASTNO,SAMPNO,BTLNBR,BTLNBR_FLAG_W,DATE,TIME,LATITUDE,LONGITUDE,DEPTH,CTDPRS,CTDTMP,CTDSAL,CTDSAL_FLAG_W,SALNTY,SALNTY_FLAG_W,CTDOXY,CTDOXY_FLAG_W,OXYGEN,OXYGEN_FLAG_W,CFC-11,CFC-11_FLAG_W,CFC-12,CFC-12_FLAG_W
,,,,,,,,,,,METERS,DBAR,ITS-90,PSS-78,,PSS-78,,UMOL/KG,,UMOL/KG,,PMOL/KG,,PMOL/KG,
  06MT20110624,   A02,693,1, 1, 1,2,20110625,1516,49.1423,-11.2813, 344, 335.3,11.0043,35.5657,2,35.5624,2,246.5,2, -999,9, -999,9, -999,9
  06MT20110624,   A02,693,1, 2, 2,2,20110625,1516,49.1423,-11.2813, 344, 335.2,11.0038,35.5659,2,   -999,9,246.5,2, -999,9,3.017,2,1.768,2
  06MT20110624,   A02,693,1, 3, 3,2,20110625,1516,49.1423,-11.2813, 344, 335.4,11.0041,35.5654,2,   -999,9,246.7,2,247.5,6, -999,9, -999,9
  06MT20110624,   A02,693,1, 4, 4,2,20110625,1516,49.1423,-11.2813, 344, 335.7,11.0038,35.5659,2,   -999,9,246.8,2, -999,9, -999,9, -999,9
  06MT20110624,   A02,693,1, 5, 5,2,20110625,1516,49.1423,-11.2813, 344, 335.5,11.0039,35.5654,2,   -999,9,246.7,2, -999,9, -999,9, -999,9
  06MT20110624,   A02,693,1, 6, 6,2,20110625,1516,49.1423,-11.2813, 344, 293.1,11.0548,35.5689,2,   -999,9,248.3,2,248.6,6,3.044,2,1.782,2
  06MT20110624,   A02,693,1, 7, 7,2,20110625,1516,49.1423,-11.2813, 344, 291.4,11.0586,35.5695,2,   -999,9,248.9,2, -999,9, -999,9, -999,9
  06MT20110624,   A02,693,1, 8, 8,2,20110625,1516,49.1423,-11.2813, 344, 290.3,11.0626,35.5697,2,   -999,9,249.0,2, -999,9, -999,9, -999,9
  06MT20110624,   A02,693,1, 9, 9,2,20110625,1516,49.1423,-11.2813, 344, 288.3,11.0676,35.5703,2,   -999,9,249.3,2, -999,9, -999,9, -999,9
  06MT20110624,   A02,693,1,10,10,2,20110625,1516,49.1423,-11.2813, 344, 288.0,11.0681,35.5707,2,   -999,9,249.4,2, -999,9, -999,9, -999,9
  06MT20110624,   A02,693,1,11,11,2,20110625,1516,49.1423,-11.2813, 344, 197.5,11.2488,35.5727,2,35.5701,2,252.7,2, -999,9, -999,9, -999,9
  06MT20110624,   A02,693,1,12,12,2,20110625,1516,49.1423,-11.2813, 344, 197.4,11.2501,35.5730,2,   -999,9,252.7,2,253.3,6, -999,9, -999,9
  06MT20110624,   A02,693,1,13,13,2,20110625,1516,49.1423,-11.2813, 344, 197.0,11.2519,35.5730,2,   -999,9,252.3,2, -999,9, -999,9, -999,9
  06MT20110624,   A02,693,1,14,14,2,20110625,1516,49.1423,-11.2813, 344, 196.5,11.2561,35.5731,2,   -999,9,252.0,2, -999,9, -999,9, -999,9
  06MT20110624,   A02,693,1,15,15,2,20110625,1516,49.1423,-11.2813, 344, 194.7,11.2570,35.5729,2,   -999,9,252.2,2, -999,9, -999,9, -999,9
  06MT20110624,   A02,693,1,16,16,2,20110625,1516,49.1423,-11.2813, 344, 101.7,12.0583,35.6021,2,   -999,9,246.8,2,246.5,6,3.038,2,1.793,2
  06MT20110624,   A02,693,1,17,17,2,20110625,1516,49.1423,-11.2813, 344, 101.1,12.0565,35.6032,2,   -999,9,246.8,2, -999,9, -999,9, -999,9
  06MT20110624,   A02,693,1,18,18,2,20110625,1516,49.1423,-11.2813, 344,  99.1,12.0954,35.6030,2,   -999,9,246.6,2, -999,9, -999,9, -999,9
  06MT20110624,   A02,693,1,19,19,2,20110625,1516,49.1423,-11.2813, 344,  97.5,12.1111,35.6032,2,   -999,9,247.2,2,247.2,6, -999,9, -999,9
  06MT20110624,   A02,693,1,20,20,2,20110625,1516,49.1423,-11.2813, 344,  10.7,13.7754,35.5845,2,   -999,9,270.2,2,269.8,6, -999,9, -999,9
  06MT20110624,   A02,693,1,21,21,2,20110625,1516,49.1423,-11.2813, 344,  10.5,13.7839,35.5848,2,35.5851,2,270.1,2,270.1,6,2.917,2,1.741,2
  06MT20110624,   A02,693,1,22,22,2,20110625,1516,49.1423,-11.2813, 344,  10.3,13.7821,35.5844,2,   -999,9,269.9,2, -999,9, -999,9, -999,9
  06MT20110624,   A02,694,1, 1, 1,2,20110625,1837,49.0535,-11.8798, 997,1004.2, 9.1266,35.6243,2,35.6226,2,196.4,2, -999,9,2.025,2,1.109,2
  06MT20110624,   A02,694,1, 2, 2,2,20110625,1837,49.0535,-11.8798, 997,1003.8, 9.1280,35.6235,2,   -999,9,196.5,2,192.0,3, -999,9, -999,9
  06MT20110624,   A02,694,1, 3, 3,2,20110625,1837,49.0535,-11.8798, 997, 902.5, 9.7174,35.6352,2,   -999,9,191.6,2, -999,9,2.096,2,1.168,2
  06MT20110624,   A02,694,1, 4, 4,2,20110625,1837,49.0535,-11.8798, 997, 902.1, 9.7218,35.6352,2,   -999,9,191.5,2, -999,9, -999,9, -999,9
  06MT20110624,   A02,694,1, 5, 5,2,20110625,1837,49.0535,-11.8798, 997, 798.8,10.2119,35.6078,2,   -999,9,193.1,2, -999,9,2.227,2,1.256,2
  06MT20110624,   A02,694,1, 6, 6,2,20110625,1837,49.0535,-11.8798, 997, 797.2,10.2098,35.6062,2,   -999,9,193.2,2,193.3,2, -999,9, -999,9
  06MT20110624,   A02,694,1, 7, 7,2,20110625,1837,49.0535,-11.8798, 997, 703.6,10.6463,35.5926,2,35.5898,2,209.0,2, -999,9, -999,9, -999,9
  06MT20110624,   A02,694,1, 8, 8,2,20110625,1837,49.0535,-11.8798, 997, 703.6,10.6468,35.5931,2,   -999,9,209.0,2, -999,9, -999,9, -999,9
  06MT20110624,   A02,694,1, 9, 9,2,20110625,1837,49.0535,-11.8798, 997, 582.9,10.8439,35.5548,2,   -999,9,216.0,2, -999,9,2.609,3,1.479,3
  06MT20110624,   A02,694,1,10,10,2,20110625,1837,49.0535,-11.8798, 997, 582.2,10.8331,35.5516,2,   -999,9,216.4,2, -999,9, -999,9, -999,9
  06MT20110624,   A02,694,1,11,11,2,20110625,1837,49.0535,-11.8798, 997, 494.4,11.1117,35.5689,2,   -999,9,235.0,2, -999,9, -999,9, -999,9
  06MT20110624,   A02,694,1,12,12,2,20110625,1837,49.0535,-11.8798, 997, 493.2,11.1203,35.5692,2,   -999,9,235.2,2, -999,9, -999,9, -999,9
  06MT20110624,   A02,694,1,13,13,2,20110625,1837,49.0535,-11.8798, 997, 392.3,11.3299,35.5951,2,35.5906,2,243.3,2,184.7,4,2.909,3,1.694,3
  06MT20110624,   A02,694,1,14,14,2,20110625,1837,49.0535,-11.8798, 997, 391.8,11.3322,35.5955,2,   -999,9,243.2,2, -999,9, -999,9, -999,9
  06MT20110624,   A02,694,1,15,15,2,20110625,1837,49.0535,-11.8798, 997, 301.8,11.4593,35.6109,2,   -999,9,247.7,2, -999,9, -999,9, -999,9
  06MT20110624,   A02,694,1,16,16,2,20110625,1837,49.0535,-11.8798, 997, 298.1,11.4690,35.6138,2,   -999,9,247.1,2, -999,9, -999,9, -999,9
  06MT20110624,   A02,694,1,17,17,2,20110625,1837,49.0535,-11.8798, 997, 213.8,11.6344,35.6367,2,   -999,9,247.3,2, -999,9,2.972,3,1.767,3
  06MT20110624,   A02,694,1,18,18,2,20110625,1837,49.0535,-11.8798, 997, 213.5,11.6346,35.6360,2,   -999,9,247.4,2, -999,9, -999,9, -999,9
  06MT20110624,   A02,694,1,19,19,2,20110625,1837,49.0535,-11.8798, 997, 112.0,11.9265,35.6229,2,   -999,9,244.9,2,245.6,6, -999,9, -999,9
  06MT20110624,   A02,694,1,20,20,2,20110625,1837,49.0535,-11.8798, 997,  98.4,11.9289,35.6219,2,   -999,9,245.5,2, -999,9, -999,9, -999,9
  06MT20110624,   A02,694,1,21,21,2,20110625,1837,49.0535,-11.8798, 997,  12.9,14.7874,35.6725,2,   -999,9,262.6,2,259.8,2,2.730,2,1.656,2
  06MT20110624,   A02,694,1,22,22,2,20110625,1837,49.0535,-11.8798, 997,  12.7,14.7842,35.6728,2,   -999,9,262.3,2, -999,9, -999,9, -999,9
  06MT20110624,   A02,695,1, 1, 1,2,20110625,2237,48.9503,-12.5765,1760,1763.7, 3.8998,34.9626,2,34.9622,2,267.2,2,265.9,2, -999,9, -999,9
  06MT20110624,   A02,695,1, 2, 2,2,20110625,2237,48.9503,-12.5765,1760,1763.5, 3.9009,34.9623,2,   -999,9,267.1,2, -999,9,2.657,2,1.361,2
  06MT20110624,   A02,695,1, 3, 3,2,20110625,2237,48.9503,-12.5765,1760,1598.5, 4.4751,35.0302,2,   -999,9,257.6,2,256.8,2, -999,9, -999,9
  06MT20110624,   A02,695,1, 4, 4,2,20110625,2237,48.9503,-12.5765,1760,1599.2, 4.4663,35.0309,2,   -999,9,257.7,2, -999,9,2.601,2,1.324,2
  06MT20110624,   A02,695,1, 5, 5,2,20110625,2237,48.9503,-12.5765,1760,1499.3, 4.6050,35.0288,2,35.0252,2,257.1,2, -999,9, -999,9, -999,9
  06MT20110624,   A02,695,1, 6, 6,2,20110625,2237,48.9503,-12.5765,1760,1499.1, 4.6133,35.0293,2,   -999,9,257.1,2, -999,9, -999,9, -999,9
  06MT20110624,   A02,695,1, 7, 7,2,20110625,2237,48.9503,-12.5765,1760,1400.3, 5.3317,35.1321,2,   -999,9,244.0,2, -999,9,2.731,2,1.422,2
  06MT20110624,   A02,695,1, 8, 8,2,20110625,2237,48.9503,-12.5765,1760,1400.1, 5.3471,35.1315,2,   -999,9,244.1,2, -999,9, -999,9, -999,9
  06MT20110624,   A02,695,1, 9, 9,2,20110625,2237,48.9503,-12.5765,1760,1295.8, 6.2721,35.2684,2,   -999,9,229.7,2,230.1,2, -999,9, -999,9
  06MT20110624,   A02,695,1,10,10,2,20110625,2237,48.9503,-12.5765,1760,1295.9, 6.2745,35.2682,2,   -999,9,229.7,2, -999,9, -999,9, -999,9
  06MT20110624,   A02,695,1,11,11,2,20110625,2237,48.9503,-12.5765,1760,1204.4, 6.7699,35.3350,2,   -999,9,222.7,2, -999,9,2.328,2,1.228,2
  06MT20110624,   A02,695,1,12,12,2,20110625,2237,48.9503,-12.5765,1760,1201.8, 6.8076,35.3416,2,   -999,9,221.1,2, -999,9, -999,9, -999,9
  06MT20110624,   A02,695,1,13,13,2,20110625,2237,48.9503,-12.5765,1760,1107.1, 7.9165,35.5097,2,   -999,9,207.4,2, -999,9, -999,9, -999,9
  06MT20110624,   A02,695,1,14,14,2,20110625,2237,48.9503,-12.5765,1760,1103.2, 7.9949,35.5241,2,   -999,9,206.8,2, -999,9, -999,9, -999,9
  06MT20110624,   A02,695,1,15,15,2,20110625,2237,48.9503,-12.5765,1760,1009.9, 8.7447,35.5906,2,   -999,9,197.6,2, -999,9,1.986,2,1.056,2
  06MT20110624,   A02,695,1,16,16,2,20110625,2237,48.9503,-12.5765,1760, 809.7, 9.3746,35.5337,2,   -999,9,191.5,2, -999,9, -999,9, -999,9
  06MT20110624,   A02,695,1,17,17,2,20110625,2237,48.9503,-12.5765,1760, 582.9,10.1747,35.4493,2,   -999,9,207.8,2, -999,9, -999,9, -999,9
  06MT20110624,   A02,695,1,18,18,2,20110625,2237,48.9503,-12.5765,1760, 381.0,11.0907,35.5535,2,35.5500,2,243.5,2, -999,9, -999,9, -999,9
  06MT20110624,   A02,695,1,19,19,2,20110625,2237,48.9503,-12.5765,1760, 307.1,11.2862,35.5748,2,   -999,9,246.0,2, -999,9, -999,9, -999,9
  06MT20110624,   A02,695,1,20,20,2,20110625,2237,48.9503,-12.5765,1760, 202.4,11.5474,35.5941,2,   -999,9,244.1,2,244.3,2, -999,9, -999,9
  06MT20110624,   A02,695,1,21,21,2,20110625,2237,48.9503,-12.5765,1760,  10.6,14.4202,35.6426,2,   -999,9,262.3,2, -999,9, -999,9, -999,9
  06MT20110624,   A02,695,1,22,22,2,20110625,2237,48.9503,-12.5765,1760,  10.8,14.4233,35.6428,2,   -999,9,262.3,2,261.9,6,2.744,2,1.637,2
  06MT20110624,   A02,696,1, 1, 1,2,20110626,0327,48.8400,-13.3228,3798,3850.2, 2.5039,34.9078,2,34.9069,2,242.9,2, -999,9,0.068,2,0.029,2
  06MT20110624,   A02,696,1, 2, 2,2,20110626,0327,48.8400,-13.3228,3798,3849.5, 2.5036,34.9079,2,   -999,9,243.1,2,242.8,2, -999,9, -999,9
  06MT20110624,   A02,696,1, 3, 3,2,20110626,0327,48.8400,-13.3228,3798,3850.1, 2.5039,34.9078,2,   -999,9,243.0,2, -999,9,0.065,2,0.028,2
  06MT20110624,   A02,696,1, 4, 4,2,20110626,0327,48.8400,-13.3228,3798,3750.6, 2.5339,34.9121,2,   -999,9,244.1,2, -999,9,0.078,2,0.035,2
  06MT20110624,   A02,696,1, 5, 5,2,20110626,0327,48.8400,-13.3228,3798,3599.0, 2.5677,34.9170,2,   -999,9,244.8,2, -999,9,0.107,2,0.052,2
  06MT20110624,   A02,696,1, 6, 6,2,20110626,0327,48.8400,-13.3228,3798,3446.9, 2.6144,34.9220,2,   -999,9,246.3,2, -999,9, -999,9, -999,9
  06MT20110624,   A02,696,1, 7, 7,2,20110626,0327,48.8400,-13.3228,3798,3299.2, 2.6729,34.9277,2,34.9268,2,248.0,2, -999,9,0.226,2,0.110,2
  06MT20110624,   A02,696,1, 8, 8,2,20110626,0327,48.8400,-13.3228,3798,3150.1, 2.7385,34.9342,2,   -999,9,249.5,2, -999,9, -999,9, -999,9
  06MT20110624,   A02,696,1, 9, 9,2,20110626,0327,48.8400,-13.3228,3798,2998.9, 2.7980,34.9383,2,   -999,9,251.1,2,250.4,2,0.384,2,0.192,2
  06MT20110624,   A02,696,1,10,10,2,20110626,0327,48.8400,-13.3228,3798,2996.8, 2.7980,34.9381,2,   -999,9,250.8,2, -999,9, -999,9, -999,9
  06MT20110624,   A02,696,1,11,11,2,20110626,0327,48.8400,-13.3228,3798,2748.1, 2.9453,34.9459,2,   -999,9,255.8,2, -999,9, -999,9, -999,9
  06MT20110624,   A02,696,1,12,12,2,20110626,0327,48.8400,-13.3228,3798,2484.7, 3.0752,34.9435,2,34.9437,2,263.7,2, -999,9,1.281,2,0.642,2
  06MT20110624,   A02,696,1,13,13,2,20110626,0327,48.8400,-13.3228,3798,2240.8, 3.2341,34.9263,2,   -999,9,273.2,2, -999,9,2.117,2,1.056,2
  06MT20110624,   A02,696,1,14,14,2,20110626,0327,48.8400,-13.3228,3798,1999.5, 3.5024,34.9272,2,   -999,9,273.2,2,272.1,6,2.545,2,1.273,2
  06MT20110624,   A02,696,1,15,15,2,20110626,0327,48.8400,-13.3228,3798,1739.4, 3.7986,34.9353,2,   -999,9,270.6,2, -999,9,2.973,2,1.512,2
  06MT20110624,   A02,696,1,16,16,2,20110626,0327,48.8400,-13.3228,3798,1476.4, 4.3082,34.9787,2,   -999,9,263.3,2,263.4,2,3.169,2,1.655,2
  06MT20110624,   A02,696,1,17,17,2,20110626,0327,48.8400,-13.3228,3798,1229.4, 6.0426,35.2110,2,   -999,9,232.5,2, -999,9,2.584,2,1.383,2
  06MT20110624,   A02,696,1,18,18,2,20110626,0327,48.8400,-13.3228,3798, 999.9, 8.0404,35.4885,2,   -999,9,204.9,2, -999,9,2.244,2,1.203,2
  06MT20110624,   A02,696,1,19,19,2,20110626,0327,48.8400,-13.3228,3798, 759.1, 9.7371,35.5979,2,   -999,9,189.9,2, -999,9,2.048,2,1.123,2
  06MT20110624,   A02,696,1,20,20,2,20110626,0327,48.8400,-13.3228,3798, 520.1,10.6863,35.5187,2,   -999,9,218.6,2, -999,9,2.648,2,1.532,2
  06MT20110624,   A02,696,1,21,21,2,20110626,0327,48.8400,-13.3228,3798, 268.6,11.4746,35.6086,2,   -999,9,247.4,2, -999,9,2.915,2,1.711,2
  06MT20110624,   A02,696,1,22,22,2,20110626,0327,48.8400,-13.3228,3798,  15.2,14.2500,35.6320,2,35.6309,2,264.7,2,264.5,2,2.780,2,1.662,2
  06MT20110624,   A02,697,1, 1, 1,2,20110626,1046,48.6848,-14.3690,4560,4635.9, 2.5270,34.9012,2,34.8995,2,243.0,2,243.6,2, -999,9, -999,9
  06MT20110624,   A02,697,1, 2, 2,2,20110626,1046,48.6848,-14.3690,4560,4499.1, 2.5222,34.9025,2,   -999,9,242.9,2, -999,9,0.051,2,0.021,2
  06MT20110624,   A02,697,1, 3, 3,2,20110626,1046,48.6848,-14.3690,4560,4250.7, 2.5129,34.9044,2,   -999,9,243.0,2, -999,9, -999,9, -999,9
  06MT20110624,   A02,697,1, 4, 4,2,20110626,1046,48.6848,-14.3690,4560,4000.2, 2.5243,34.9089,2,   -999,9,243.6,2,244.6,2,0.074,2,0.066,3
  06MT20110624,   A02,697,1, 5, 5,2,20110626,1046,48.6848,-14.3690,4560,3711.5, 2.5723,34.9168,2,34.9136,2,245.3,2, -999,9,0.125,2,0.072,2
  06MT20110624,   A02,697,1, 6, 6,2,20110626,1046,48.6848,-14.3690,4560,3412.8, 2.6677,34.9273,2,   -999,9,247.9,2, -999,9,0.244,2,0.131,2
  06MT20110624,   A02,697,1, 7, 7,2,20110626,1046,48.6848,-14.3690,4560,3098.9, 2.8077,34.9387,2,   -999,9,251.5,2, -999,9,0.407,2,0.212,2
  06MT20110624,   A02,697,1, 8, 8,2,20110626,1046,48.6848,-14.3690,4560,2897.7, 2.9257,34.9458,2,   -999,9,254.4,2,251.2,2,0.569,2,0.290,2
  06MT20110624,   A02,697,1, 9, 9,2,20110626,1046,48.6848,-14.3690,4560,2684.0, 3.0201,34.9454,2,   -999,9,260.0,2, -999,9,1.068,2,0.558,2
  06MT20110624,   A02,697,1,10,10,2,20110626,1046,48.6848,-14.3690,4560,2498.8, 3.1843,34.9472,2,34.9457,2,264.3,2, -999,9,1.382,2,0.704,2
  06MT20110624,   A02,697,1,11,11,2,20110626,1046,48.6848,-14.3690,4560,2305.3, 3.3175,34.9351,2,   -999,9,270.9,2, -999,9, -999,9, -999,9
  06MT20110624,   A02,697,1,12,12,2,20110626,1046,48.6848,-14.3690,4560,2107.4, 3.4234,34.9135,2,   -999,9,276.0,2,274.7,2,2.673,2,1.324,2
  06MT20110624,   A02,697,1,13,13,2,20110626,1046,48.6848,-14.3690,4560,1914.6, 3.6220,34.9180,2,   -999,9,274.2,2, -999,9,2.926,2,1.470,2
  06MT20110624,   A02,697,1,14,14,2,20110626,1046,48.6848,-14.3690,4560,1695.3, 3.8887,34.9276,2,34.9298,2,271.8,2, -999,9, -999,9, -999,9
  06MT20110624,   A02,697,1,15,15,2,20110626,1046,48.6848,-14.3690,4560,1487.1, 4.3363,34.9676,2,   -999,9,263.7,2, -999,9, -999,9, -999,9
  06MT20110624,   A02,697,1,16,16,2,20110626,1046,48.6848,-14.3690,4560,1291.6, 5.1974,35.0693,2,   -999,9,247.6,2, -999,9,3.268,2,1.744,2
  06MT20110624,   A02,697,1,17,17,2,20110626,1046,48.6848,-14.3690,4560,1093.9, 6.7751,35.2507,2,   -999,9,219.8,2, -999,9,2.555,2,1.356,2
  06MT20110624,   A02,697,1,18,18,2,20110626,1046,48.6848,-14.3690,4560, 900.3, 8.8853,35.4434,2,   -999,9,193.8,2, -999,9,2.373,2,1.269,2
  06MT20110624,   A02,697,1,19,19,2,20110626,1046,48.6848,-14.3690,4560, 725.1,10.0483,35.4592,2,   -999,9,200.9,2, -999,9,2.469,3,1.364,3
  06MT20110624,   A02,697,1,20,20,2,20110626,1046,48.6848,-14.3690,4560, 492.4,11.1323,35.5560,2,   -999,9,245.0,2,246.9,2,3.029,2,1.777,2
  06MT20110624,   A02,697,1,21,21,2,20110626,1046,48.6848,-14.3690,4560, 201.6,11.7963,35.6040,2,   -999,9,245.8,2, -999,9,3.218,2,1.936,2
  06MT20110624,   A02,697,1,22,22,2,20110626,1046,48.6848,-14.3690,4560,  14.8,14.1353,35.6322,2,   -999,9,263.5,2,250.7,4,2.853,2,1.783,2
  06MT20110624,   A02,698,1, 1, 1,2,20110626,1926,48.5013,-15.6133,4839,4926.2, 2.5581,34.9009,2,34.9002,2,243.7,2,220.1,4,0.050,2,0.039,6
  06MT20110624,   A02,698,1, 2, 2,2,20110626,1926,48.5013,-15.6133,4839,4799.5, 2.5483,34.9018,2,   -999,9,243.7,2, -999,9,0.060,2,0.039,2
  06MT20110624,   A02,698,1, 3, 3,2,20110626,1926,48.5013,-15.6133,4839,4499.2, 2.5385,34.9037,2,   -999,9,243.7,2, -999,9,0.052,2,0.028,2
  06MT20110624,   A02,698,1, 4, 4,2,20110626,1926,48.5013,-15.6133,4839,4198.1, 2.5554,34.9098,2,   -999,9,243.9,2,244.4,2,0.065,2,0.032,2
  06MT20110624,   A02,698,1, 5, 5,2,20110626,1926,48.5013,-15.6133,4839,3896.9, 2.5889,34.9158,2,   -999,9,245.0,2, -999,9,0.106,2,0.057,2
  06MT20110624,   A02,698,1, 6, 6,2,20110626,1926,48.5013,-15.6133,4839,3600.7, 2.6634,34.9254,2,34.9286,2,247.5,2, -999,9,0.175,2,0.089,2
  06MT20110624,   A02,698,1, 7, 7,2,20110626,1926,48.5013,-15.6133,4839,3327.0, 2.7915,34.9366,2,   -999,9,249.5,2, -999,9,0.308,2,0.157,2
  06MT20110624,   A02,698,1, 8, 8,2,20110626,1926,48.5013,-15.6133,4839,3029.1, 2.9556,34.9442,2,   -999,9,253.2,2,253.2,6,0.607,2,0.306,2
  06MT20110624,   A02,698,1, 9, 9,2,20110626,1926,48.5013,-15.6133,4839,2697.4, 3.1431,34.9358,2,   -999,9,267.7,2, -999,9,1.615,2,0.803,2
  06MT20110624,   A02,698,1,10,10,2,20110626,1926,48.5013,-15.6133,4839,2426.3, 3.3537,34.9165,2,   -999,9,275.5,2, -999,9,2.446,2,1.216,2
  06MT20110624,   A02,698,1,11,11,2,20110626,1926,48.5013,-15.6133,4839,2111.4, 3.6244,34.9182,2,34.9172,2,274.1,2,273.5,2,2.868,2,1.439,2
  06MT20110624,   A02,698,1,12,12,2,20110626,1926,48.5013,-15.6133,4839,1919.9, 3.9111,34.9309,2,   -999,9,271.3,2, -999,9,3.166,2,1.623,2
  06MT20110624,   A02,698,1,13,13,2,20110626,1926,48.5013,-15.6133,4839,1698.4, 4.2689,34.9622,2,   -999,9,265.6,2, -999,9,3.289,2,1.717,2
  06MT20110624,   A02,698,1,14,14,2,20110626,1926,48.5013,-15.6133,4839,1498.2, 5.1591,35.0696,2,   -999,9,247.9,2, -999,9,3.016,2,1.593,2
  06MT20110624,   A02,698,1,15,15,2,20110626,1926,48.5013,-15.6133,4839,1304.1, 6.4656,35.2307,2,   -999,9,224.8,2, -999,9, -999,9, -999,9
  06MT20110624,   A02,698,1,16,16,2,20110626,1926,48.5013,-15.6133,4839,1010.2, 9.3508,35.4139,2,   -999,9,194.0,2, -999,9, -999,9, -999,9
  06MT20110624,   A02,698,1,17,17,2,20110626,1926,48.5013,-15.6133,4839,1000.7, 9.4178,35.4164,2,   -999,9,195.3,2,195.5,2,2.276,2,1.249,2
  06MT20110624,   A02,698,1,18,18,2,20110626,1926,48.5013,-15.6133,4839, 779.8,10.9954,35.5427,2,   -999,9,242.9,2, -999,9,2.746,2,1.562,2
  06MT20110624,   A02,698,1,19,19,2,20110626,1926,48.5013,-15.6133,4839, 592.4,11.2381,35.5723,2,35.5707,2,252.2,2, -999,9,3.017,2,1.777,2
  06MT20110624,   A02,698,1,20,20,2,20110626,1926,48.5013,-15.6133,4839, 393.7,11.3880,35.5827,2,   -999,9,250.4,2, -999,9,2.993,2,1.768,2
  06MT20110624,   A02,698,1,21,21,2,20110626,1926,48.5013,-15.6133,4839, 196.1,11.7128,35.6283,2,   -999,9,252.6,2, -999,9,2.968,2,1.760,2
  06MT20110624,   A02,698,1,22,22,2,20110626,1926,48.5013,-15.6133,4839,  11.5,14.0989,35.6176,2,   -999,9,272.1,2,271.5,2,2.838,2,1.685,2