BOTTLE,20231122CCHSIOVAJ
EXPOCODE,SECT_ID,STNNBR,CASTNO,SAMPNO,BTLNBR,BTLNBR_FLAG_W,DATE,TIME,LATITUDE,LONGITUDE,DEPTH,CTDPRS,CTDTMP,CTDSAL,CTDSAL_FLAG_W,SALNTY,SALNTY_FLAG_W,CTDOXY,CTDOXY_FLAG_W,OXYGEN,OXYGEN_FLAG_W,CFC-11,CFC-11_FLAG_W,CFC-12,CFC-12_FLAG_W
,,,,,,,,,,,METERS,DBAR,ITS-90,PSS-78,,PSS-78,,UMOL/KG,,UMOL/KG,,PMOL/KG,,PMOL/KG,
  06MT20110624,   A02,699,1, 1, 1,2,20110627,0324,48.3463,-16.6583,4815,4903.8, 2.5716,34.9024,2,34.9014,2,243.1,2,244.1,2,0.046,2,0.025,2
  06MT20110624,   A02,699,1, 2, 2,2,20110627,0324,48.3463,-16.6583,4815,4699.5, 2.5536,34.9033,2,   -999,9,243.1,2, -999,9,0.044,2,0.024,2
  06MT20110624,   A02,699,1, 3, 3,2,20110627,0324,48.3463,-16.6583,4815,4398.8, 2.5403,34.9052,2,   -999,9,243.3,2, -999,9,0.051,2,0.030,3
  06MT20110624,   A02,699,1, 4, 4,2,20110627,0324,48.3463,-16.6583,4815,4097.3, 2.5409,34.9093,2,34.9089,2,243.4,2, -999,9,0.064,2,0.028,2
  06MT20110624,   A02,699,1, 5, 5,2,20110627,0324,48.3463,-16.6583,4815,3800.2, 2.5793,34.9160,2,   -999,9,244.7,2,246.0,6,0.107,2,0.050,2
  06MT20110624,   A02,699,1, 6, 6,2,20110627,0324,48.3463,-16.6583,4815,3497.8, 2.6575,34.9258,2,   -999,9,246.8,2, -999,9,0.173,2,0.088,2
  06MT20110624,   A02,699,1, 7, 7,2,20110627,0324,48.3463,-16.6583,4815,3216.9, 2.7859,34.9369,2,   -999,9,250.3,2, -999,9,0.309,2,0.155,2
  06MT20110624,   A02,699,1, 8, 8,2,20110627,0324,48.3463,-16.6583,4815,2924.2, 2.9483,34.9469,2,   -999,9,254.6,2, -999,9,0.586,2,0.298,2
  06MT20110624,   A02,699,1, 9, 9,2,20110627,0324,48.3463,-16.6583,4815,2623.0, 3.1034,34.9389,2,   -999,9,266.0,2,265.7,2,1.435,2,0.721,2
  06MT20110624,   A02,699,1,10,10,2,20110627,0324,48.3463,-16.6583,4815,2299.5, 3.2904,34.9181,2,   -999,9,275.0,2, -999,9,2.377,2,1.181,2
  06MT20110624,   A02,699,1,11,11,2,20110627,0324,48.3463,-16.6583,4815,2001.3, 3.5708,34.9171,2,34.9168,2,274.4,2, -999,9,2.840,2,1.416,2
  06MT20110624,   A02,699,1,12,12,2,20110627,0324,48.3463,-16.6583,4815,1813.6, 3.8033,34.9235,2,   -999,9,272.4,2, -999,9,3.142,6,1.601,6
  06MT20110624,   A02,699,1,13,13,2,20110627,0324,48.3463,-16.6583,4815,1601.9, 4.1519,34.9532,2,   -999,9,267.0,2, -999,9,3.311,2,1.718,2
  06MT20110624,   A02,699,1,14,14,2,20110627,0324,48.3463,-16.6583,4815,1397.0, 4.9348,35.0486,2,   -999,9,251.5,2, -999,9,3.046,2,1.610,2
  06MT20110624,   A02,699,1,15,15,2,20110627,0324,48.3463,-16.6583,4815,1224.7, 6.0652,35.1847,2,   -999,9,232.0,2,275.6,4,2.695,2,1.429,2
  06MT20110624,   A02,699,1,16,16,2,20110627,0324,48.3463,-16.6583,4815,1110.1, 6.9795,35.2982,2,   -999,9,216.0,2, -999,9,2.456,2,1.322,2
  06MT20110624,   A02,699,1,17,17,2,20110627,0324,48.3463,-16.6583,4815, 983.6, 7.9052,35.3610,2,   -999,9,203.4,2, -999,9, -999,9, -999,9
  06MT20110624,   A02,699,1,18,18,2,20110627,0324,48.3463,-16.6583,4815, 905.8, 8.8952,35.4873,2,   -999,9,194.1,2, -999,9,2.257,2,1.198,2
  06MT20110624,   A02,699,1,19,19,2,20110627,0324,48.3463,-16.6583,4815, 707.0,10.3458,35.5427,2,   -999,9,201.8,2, -999,9,2.481,2,1.418,2
  06MT20110624,   A02,699,1,20,20,2,20110627,0324,48.3463,-16.6583,4815, 510.1,11.0032,35.5406,2,   -999,9,238.7,2,238.2,2,2.938,2,1.689,2
  06MT20110624,   A02,699,1,21,21,2,20110627,0324,48.3463,-16.6583,4815, 315.7,11.4200,35.5949,2,   -999,9,247.6,2, -999,9,3.013,2,1.764,2
  06MT20110624,   A02,699,1,22,22,2,20110627,0324,48.3463,-16.6583,4815,  16.0,14.2574,35.6568,2,35.6565,2,264.7,2,264.8,2,2.830,2,1.678,2
  06MT20110624,   A02,700,1, 1, 1,2,20110627,1156,48.1695,-17.8528,4463,4398.4, 2.5565,34.9071,2,34.9101,2,241.8,2,240.8,2, -999,9, -999,9
  06MT20110624,   A02,700,1, 2, 2,2,20110627,1156,48.1695,-17.8528,4463,4298.8, 2.5575,34.9081,2,   -999,9,242.2,2, -999,9, -999,9, -999,9
  06MT20110624,   A02,700,1, 3, 3,2,20110627,1156,48.1695,-17.8528,4463,4098.6, 2.5562,34.9102,2,   -999,9,243.1,2, -999,9,0.107,6,0.052,6
  06MT20110624,   A02,700,1, 4, 4,2,20110627,1156,48.1695,-17.8528,4463,3899.3, 2.5801,34.9147,2,   -999,9,244.4,2,244.2,2,0.179,2,0.089,2
  06MT20110624,   A02,700,1, 5, 5,2,20110627,1156,48.1695,-17.8528,4463,3590.1, 2.6540,34.9249,2,   -999,9,248.2,2, -999,9,0.437,2,0.224,2
  06MT20110624,   A02,700,1, 6, 6,2,20110627,1156,48.1695,-17.8528,4463,3298.5, 2.7789,34.9361,2,   -999,9,255.9,2, -999,9, -999,9, -999,9
  06MT20110624,   A02,700,1, 7, 7,2,20110627,1156,48.1695,-17.8528,4463,2988.0, 2.9221,34.9406,2,34.9414,2,264.0,2, -999,9, -999,9, -999,9
  06MT20110624,   A02,700,1, 8, 8,2,20110627,1156,48.1695,-17.8528,4463,2688.7, 3.0861,34.9299,2,   -999,9,272.2,2, -999,9,2.040,2,1.007,2
  06MT20110624,   A02,700,1, 9, 9,2,20110627,1156,48.1695,-17.8528,4463,2400.1, 3.2710,34.9156,2,   -999,9,276.3,2,276.5,2,2.507,2,1.234,2
  06MT20110624,   A02,700,1,10,10,2,20110627,1156,48.1695,-17.8528,4463,2094.5, 3.4953,34.9144,2,   -999,9,275.3,2, -999,9, -999,9, -999,9
  06MT20110624,   A02,700,1,11,11,2,20110627,1156,48.1695,-17.8528,4463,1919.8, 3.6523,34.9167,2,34.9136,2,274.8,2, -999,9,3.086,2,1.543,2
  06MT20110624,   A02,700,1,12,12,2,20110627,1156,48.1695,-17.8528,4463,1636.5, 4.0677,34.9508,2,   -999,9,268.2,2, -999,9,3.268,2,1.660,2
  06MT20110624,   A02,700,1,13,13,2,20110627,1156,48.1695,-17.8528,4463,1508.0, 4.1015,34.9335,2,   -999,9,270.5,2,270.3,2,3.523,2,1.841,2
  06MT20110624,   A02,700,1,14,14,2,20110627,1156,48.1695,-17.8528,4463,1351.8, 4.8737,35.0404,2,   -999,9,253.0,2, -999,9,3.146,2,1.655,2
  06MT20110624,   A02,700,1,15,15,2,20110627,1156,48.1695,-17.8528,4463,1204.2, 5.6867,35.1285,2,   -999,9,238.2,2, -999,9,2.856,2,1.505,2
  06MT20110624,   A02,700,1,16,16,2,20110627,1156,48.1695,-17.8528,4463,1004.5, 7.0858,35.2718,2,   -999,9,214.2,2, -999,9,2.470,2,1.319,2
  06MT20110624,   A02,700,1,17,17,2,20110627,1156,48.1695,-17.8528,4463, 807.5, 9.0625,35.4335,2,   -999,9,190.3,2, -999,9,2.133,2,1.156,2
  06MT20110624,   A02,700,1,18,18,2,20110627,1156,48.1695,-17.8528,4463, 630.7,10.4359,35.4749,2,   -999,9,207.5,2, -999,9,2.396,2,1.308,2
  06MT20110624,   A02,700,1,19,19,2,20110627,1156,48.1695,-17.8528,4463, 458.8,10.7592,35.4127,2,   -999,9,231.1,2, -999,9,2.838,2,1.649,2
  06MT20110624,   A02,700,1,20,20,2,20110627,1156,48.1695,-17.8528,4463, 302.2,12.2104,35.6592,2,   -999,9,242.8,2,243.9,6,2.884,2,1.690,2
  06MT20110624,   A02,700,1,21,21,2,20110627,1156,48.1695,-17.8528,4463, 132.1,12.5823,35.6679,2,35.6638,2,249.5,2, -999,9, -999,9, -999,9
  06MT20110624,   A02,700,1,22,22,2,20110627,1156,48.1695,-17.8528,4463,  15.9,14.3747,35.6509,2,   -999,9,258.8,2,259.1,2,2.790,2,1.654,2
  06MT20110624,   A02,701,1, 1, 1,2,20110627,1930,48.0223,-18.8475,4402,4476.6, 2.5527,34.9058,2,34.9048,2,241.8,2,241.1,2,0.056,2,0.030,2
  06MT20110624,   A02,701,1, 2, 2,2,20110627,1930,48.0223,-18.8475,4402,4299.1, 2.5529,34.9083,2,   -999,9,241.7,2, -999,9,0.074,2,0.040,2
  06MT20110624,   A02,701,1, 3, 3,2,20110627,1930,48.0223,-18.8475,4402,3998.8, 2.5636,34.9124,2,   -999,9,243.2,2, -999,9,0.172,2,0.091,2
  06MT20110624,   A02,701,1, 4, 4,2,20110627,1930,48.0223,-18.8475,4402,3699.5, 2.6001,34.9189,2,   -999,9,246.2,2,244.5,2,0.271,2,0.137,2
  06MT20110624,   A02,701,1, 5, 5,2,20110627,1930,48.0223,-18.8475,4402,3397.4, 2.7119,34.9309,2,   -999,9,252.1,2, -999,9,0.668,2,0.336,2
  06MT20110624,   A02,701,1, 6, 6,2,20110627,1930,48.0223,-18.8475,4402,3098.0, 2.8466,34.9397,2,   -999,9,259.4,2, -999,9,1.077,2,0.549,2
  06MT20110624,   A02,701,1, 7, 7,2,20110627,1930,48.0223,-18.8475,4402,2799.2, 3.0029,34.9368,2,34.9374,2,268.6,2, -999,9,1.742,2,0.887,2
  06MT20110624,   A02,701,1, 8, 8,2,20110627,1930,48.0223,-18.8475,4402,2604.7, 3.1258,34.9310,2,   -999,9,271.7,2, -999,9,1.980,2,0.999,2
  06MT20110624,   A02,701,1, 9, 9,2,20110627,1930,48.0223,-18.8475,4402,2381.2, 3.2435,34.9168,2,   -999,9,276.2,2, -999,9,2.156,2,1.078,2
  06MT20110624,   A02,701,1,10,10,2,20110627,1930,48.0223,-18.8475,4402,2219.7, 3.3825,34.9132,2,   -999,9,276.5,2,275.3,6,2.597,2,1.293,2
  06MT20110624,   A02,701,1,11,11,2,20110627,1930,48.0223,-18.8475,4402,2000.8, 3.5877,34.9182,2,   -999,9,274.0,2, -999,9,2.804,2,1.398,2
  06MT20110624,   A02,701,1,12,12,2,20110627,1930,48.0223,-18.8475,4402,1765.8, 3.8487,34.9317,2,   -999,9,270.8,2, -999,9,3.097,2,1.565,2
  06MT20110624,   A02,701,1,13,13,2,20110627,1930,48.0223,-18.8475,4402,1580.2, 4.1431,34.9520,2,34.9528,2,267.5,2,256.2,3,3.307,2,1.700,2
  06MT20110624,   A02,701,1,14,14,2,20110627,1930,48.0223,-18.8475,4402,1391.1, 4.8214,35.0297,2,   -999,9,253.9,2, -999,9,3.155,2,1.640,2
  06MT20110624,   A02,701,1,15,15,2,20110627,1930,48.0223,-18.8475,4402,1299.9, 5.3075,35.0881,2,   -999,9,244.7,2, -999,9,2.993,2,1.568,2
  06MT20110624,   A02,701,1,16,16,2,20110627,1930,48.0223,-18.8475,4402,1194.8, 6.2125,35.2054,2,   -999,9,229.1,2, -999,9,2.687,2,1.406,2
  06MT20110624,   A02,701,1,17,17,2,20110627,1930,48.0223,-18.8475,4402, 995.1, 7.6282,35.3355,2,   -999,9,206.8,2, -999,9,2.323,2,1.228,2
  06MT20110624,   A02,701,1,18,18,2,20110627,1930,48.0223,-18.8475,4402, 798.1, 8.7811,35.2674,2,   -999,9,188.5,2, -999,9,2.301,2,1.229,2
  06MT20110624,   A02,701,1,19,19,2,20110627,1930,48.0223,-18.8475,4402, 590.6,11.1551,35.5313,2,   -999,9,228.4,2, -999,9,2.846,2,1.644,2
  06MT20110624,   A02,701,1,20,20,2,20110627,1930,48.0223,-18.8475,4402, 385.7,12.1706,35.6468,2,   -999,9,240.1,2,240.0,2,2.862,2,1.677,2
  06MT20110624,   A02,701,1,21,21,2,20110627,1930,48.0223,-18.8475,4402, 195.3,12.4823,35.6617,2,   -999,9,245.7,2, -999,9,2.822,2,1.667,2
  06MT20110624,   A02,701,1,22,22,2,20110627,1930,48.0223,-18.8475,4402,  14.6,14.6895,35.6978,2,35.6980,2,262.8,2,262.8,2, -999,9, -999,9
  06MT20110624,   A02,702,1, 1, 1,2,20110628,0429,47.9765,-20.0923,4307,4383.9, 2.5671,34.9080,2,34.9091,2,242.1,2,242.2,2,0.085,2,0.043,2
  06MT20110624,   A02,702,1, 2, 2,2,20110628,0429,47.9765,-20.0923,4307,4199.3, 2.5557,34.9094,2,   -999,9,241.9,2, -999,9, -999,9, -999,9
  06MT20110624,   A02,702,1, 3, 3,2,20110628,0429,47.9765,-20.0923,4307,3998.3, 2.5524,34.9110,2,   -999,9,242.7,2, -999,9,0.127,2,0.067,2
  06MT20110624,   A02,702,1, 4, 4,2,20110628,0429,47.9765,-20.0923,4307,3802.9, 2.5579,34.9139,2,   -999,9,243.7,2, -999,9,0.177,2,0.088,2
  06MT20110624,   A02,702,1, 5, 5,2,20110628,0429,47.9765,-20.0923,4307,3499.2, 2.6240,34.9229,2,   -999,9,247.4,2,247.5,2,0.379,2,0.199,2
  06MT20110624,   A02,702,1, 6, 6,2,20110628,0429,47.9765,-20.0923,4307,3201.2, 2.7526,34.9346,2,34.9376,2,255.8,2, -999,9,0.909,2,0.460,2
  06MT20110624,   A02,702,1, 7, 7,2,20110628,0429,47.9765,-20.0923,4307,2898.3, 2.9273,34.9407,2,   -999,9,264.3,2, -999,9, -999,9, -999,9
  06MT20110624,   A02,702,1, 8, 8,2,20110628,0429,47.9765,-20.0923,4307,2598.4, 3.0885,34.9280,2,   -999,9,273.3,2, -999,9,2.106,2,1.034,2
  06MT20110624,   A02,702,1, 9, 9,2,20110628,0429,47.9765,-20.0923,4307,2319.2, 3.2453,34.9139,2,   -999,9,276.8,2,275.6,2,2.482,2,1.219,2
  06MT20110624,   A02,702,1,10,10,2,20110628,0429,47.9765,-20.0923,4307,2107.7, 3.3739,34.9080,2,   -999,9,277.2,2, -999,9,2.731,2,1.337,2
  06MT20110624,   A02,702,1,11,11,2,20110628,0429,47.9765,-20.0923,4307,1911.6, 3.6008,34.9234,2,   -999,9,273.2,2, -999,9,2.837,2,1.395,2
  06MT20110624,   A02,702,1,12,12,2,20110628,0429,47.9765,-20.0923,4307,1702.2, 3.9234,34.9484,2,34.9538,2,268.8,2, -999,9,2.924,2,1.454,2
  06MT20110624,   A02,702,1,13,13,2,20110628,0429,47.9765,-20.0923,4307,1513.3, 4.1852,34.9632,2,   -999,9,266.1,2,267.8,6,3.246,2,1.670,2
  06MT20110624,   A02,702,1,14,14,2,20110628,0429,47.9765,-20.0923,4307,1296.5, 5.0187,35.0683,2,   -999,9,250.2,2, -999,9,3.032,2,1.575,2
  06MT20110624,   A02,702,1,15,15,2,20110628,0429,47.9765,-20.0923,4307,1178.9, 5.5144,35.1309,2,   -999,9,241.2,2, -999,9,2.872,2,1.500,2
  06MT20110624,   A02,702,1,16,16,2,20110628,0429,47.9765,-20.0923,4307,1085.5, 6.2349,35.2280,2,   -999,9,229.4,2, -999,9,2.641,2,1.378,2
  06MT20110624,   A02,702,1,17,17,2,20110628,0429,47.9765,-20.0923,4307, 995.5, 6.9074,35.2954,2,   -999,9,217.7,2, -999,9,2.442,2,1.289,2
  06MT20110624,   A02,702,1,18,18,2,20110628,0429,47.9765,-20.0923,4307, 892.5, 8.1176,35.4651,2,35.3003,3,201.5,2, -999,9,2.441,2,1.284,2
  06MT20110624,   A02,702,1,19,19,2,20110628,0429,47.9765,-20.0923,4307, 691.9, 8.3457,35.2194,2,   -999,9,189.7,2, -999,9,2.238,2,1.197,2
  06MT20110624,   A02,702,1,20,20,2,20110628,0429,47.9765,-20.0923,4307, 514.6,10.0729,35.3195,2,   -999,9,201.6,2,211.9,2,2.701,2,1.493,2
  06MT20110624,   A02,702,1,21,21,2,20110628,0429,47.9765,-20.0923,4307, 318.2,11.6381,35.5147,2,   -999,9,242.3,2, -999,9,2.948,2,1.685,2
  06MT20110624,   A02,702,1,22,22,2,20110628,0429,47.9765,-20.0923,4307,  15.2,14.6779,35.6352,2,   -999,9,256.1,2,256.1,2,2.791,6,1.634,6
  06MT20110624,   A02,703,1, 1, 1,2,20110628,1205,47.9337,-21.2873,4470,4548.9, 2.5539,34.9052,2,34.9048,2,242.0,2,241.7,2,0.050,2,0.022,2
  06MT20110624,   A02,703,1, 2, 2,2,20110628,1205,47.9337,-21.2873,4470,4359.4, 2.5495,34.9070,2,   -999,9,242.4,2, -999,9,0.068,2,0.031,2
  06MT20110624,   A02,703,1, 3, 3,2,20110628,1205,47.9337,-21.2873,4470,4099.7, 2.5465,34.9095,2,   -999,9,241.9,2, -999,9,0.176,2,0.126,3
  06MT20110624,   A02,703,1, 4, 4,2,20110628,1205,47.9337,-21.2873,4470,3899.5, 2.5511,34.9126,2,   -999,9,242.8,2,242.1,2, -999,9, -999,9
  06MT20110624,   A02,703,1, 5, 5,2,20110628,1205,47.9337,-21.2873,4470,3599.8, 2.5819,34.9186,2,   -999,9,245.3,2, -999,9, -999,9, -999,9
  06MT20110624,   A02,703,1, 6, 6,2,20110628,1205,47.9337,-21.2873,4470,3302.3, 2.7060,34.9315,2,   -999,9,249.9,2, -999,9,0.453,2,0.207,2
  06MT20110624,   A02,703,1, 7, 7,2,20110628,1205,47.9337,-21.2873,4470,3008.8, 2.8625,34.9413,2,   -999,9,258.1,2, -999,9,0.970,6,0.477,6
  06MT20110624,   A02,703,1, 8, 8,2,20110628,1205,47.9337,-21.2873,4470,2705.7, 3.0239,34.9358,2,   -999,9,269.6,2, -999,9,1.861,2,0.930,2
  06MT20110624,   A02,703,1, 9, 9,2,20110628,1205,47.9337,-21.2873,4470,2408.9, 3.1695,34.9201,2,   -999,9,275.9,2,275.7,2, -999,9, -999,9
  06MT20110624,   A02,703,1,10,10,2,20110628,1205,47.9337,-21.2873,4470,2203.0, 3.2789,34.9115,2,   -999,9,277.6,2, -999,9,2.575,2,1.276,2
  06MT20110624,   A02,703,1,11,11,2,20110628,1205,47.9337,-21.2873,4470,2031.2, 3.3949,34.9073,2,34.9081,2,277.1,2, -999,9,2.717,2,1.339,2
  06MT20110624,   A02,703,1,12,12,2,20110628,1205,47.9337,-21.2873,4470,1798.5, 3.5859,34.9127,2,   -999,9,274.7,2,274.1,6,2.833,2,1.407,2
  06MT20110624,   A02,703,1,13,13,2,20110628,1205,47.9337,-21.2873,4470,1589.1, 3.7627,34.9183,2,   -999,9,273.2,2, -999,9,3.130,2, -999,9
  06MT20110624,   A02,703,1,14,14,2,20110628,1205,47.9337,-21.2873,4470,1519.8, 3.8482,34.9218,2,   -999,9,272.4,2, -999,9,3.222,2,1.625,2
  06MT20110624,   A02,703,1,15,15,2,20110628,1205,47.9337,-21.2873,4470,1298.2, 4.1570,34.9404,2,   -999,9,268.3,2, -999,9,3.388,2,1.742,2
  06MT20110624,   A02,703,1,16,16,2,20110628,1205,47.9337,-21.2873,4470,1095.8, 4.6910,34.9909,2,   -999,9,257.2,2, -999,9,3.180,2,1.654,2
  06MT20110624,   A02,703,1,17,17,2,20110628,1205,47.9337,-21.2873,4470,1005.3, 4.9795,35.0138,2,   -999,9,251.3,2, -999,9,3.091,6,1.616,6
  06MT20110624,   A02,703,1,18,18,2,20110628,1205,47.9337,-21.2873,4470, 902.2, 5.6209,35.0657,2,   -999,9,236.5,2, -999,9,3.070,2,1.654,2
  06MT20110624,   A02,703,1,19,19,2,20110628,1205,47.9337,-21.2873,4470, 749.2, 6.4954,35.0887,2,   -999,9,214.3,2, -999,9,2.451,2,1.353,2
  06MT20110624,   A02,703,1,20,20,2,20110628,1205,47.9337,-21.2873,4470, 488.0, 9.4071,35.2441,2,   -999,9,182.9,2, -999,9,2.204,2,1.238,2
  06MT20110624,   A02,703,1,21,21,2,20110628,1205,47.9337,-21.2873,4470, 251.5,11.7147,35.5197,2,35.5137,3,247.5,2,240.4,2,2.763,2,1.653,2
  06MT20110624,   A02,703,1,22,22,2,20110628,1205,47.9337,-21.2873,4470,  16.0,14.9795,35.6779,2,   -999,9,263.7,2,264.2,2,2.643,2,1.619,2
  06MT20110624,   A02,704,1, 1, 1,2,20110628,2037,47.8885,-22.5332,4026,4089.1, 2.5415,34.9091,2,34.9109,2,242.1,2,241.2,2,0.090,6,0.047,6
  06MT20110624,   A02,704,1, 2, 2,2,20110628,2037,47.8885,-22.5332,4026,3998.8, 2.5590,34.9118,2,   -999,9,243.1,2, -999,9,0.141,2,0.068,2
  06MT20110624,   A02,704,1, 3, 3,2,20110628,2037,47.8885,-22.5332,4026,3800.2, 2.5649,34.9149,2,   -999,9,243.9,2, -999,9,0.183,2,0.093,2
  06MT20110624,   A02,704,1, 4, 4,2,20110628,2037,47.8885,-22.5332,4026,3598.5, 2.5816,34.9183,2,   -999,9,245.4,2, -999,9, -999,9, -999,9
  06MT20110624,   A02,704,1, 5, 5,2,20110628,2037,47.8885,-22.5332,4026,3399.2, 2.6700,34.9278,2,   -999,9,250.0,2,249.1,2,0.529,2,0.254,2
  06MT20110624,   A02,704,1, 6, 6,2,20110628,2037,47.8885,-22.5332,4026,3098.2, 2.8548,34.9401,2,   -999,9,259.3,2, -999,9,1.097,2,0.531,2
  06MT20110624,   A02,704,1, 7, 7,2,20110628,2037,47.8885,-22.5332,4026,2821.8, 2.9996,34.9397,2,   -999,9,266.3,2, -999,9,1.573,2,0.783,2
  06MT20110624,   A02,704,1, 8, 8,2,20110628,2037,47.8885,-22.5332,4026,2599.5, 3.1090,34.9302,2,34.9321,2,272.5,2, -999,9,2.017,2,1.006,2
  06MT20110624,   A02,704,1, 9, 9,2,20110628,2037,47.8885,-22.5332,4026,2398.7, 3.2194,34.9163,2,   -999,9,276.3,2, -999,9,2.400,2,1.191,2
  06MT20110624,   A02,704,1,10,10,2,20110628,2037,47.8885,-22.5332,4026,2299.0, 3.2677,34.9134,2,   -999,9,276.8,2, -999,9,2.502,2,1.230,2
  06MT20110624,   A02,704,1,11,11,2,20110628,2037,47.8885,-22.5332,4026,2088.6, 3.4444,34.9104,2,   -999,9,275.8,2,274.6,2,2.743,2,1.366,2
  06MT20110624,   A02,704,1,12,12,2,20110628,2037,47.8885,-22.5332,4026,1895.7, 3.5772,34.9124,2,   -999,9,274.3,2, -999,9,2.907,2,1.468,2
  06MT20110624,   A02,704,1,13,13,2,20110628,2037,47.8885,-22.5332,4026,1673.8, 3.6397,34.9130,2,   -999,9,274.3,2, -999,9,3.021,2,1.526,2
  06MT20110624,   A02,704,1,14,14,2,20110628,2037,47.8885,-22.5332,4026,1573.1, 3.7280,34.9128,2,   -999,9,274.8,2,274.3,6,3.247,2,1.670,2
  06MT20110624,   A02,704,1,15,15,2,20110628,2037,47.8885,-22.5332,4026,1502.3, 3.8265,34.9184,2,   -999,9,273.4,2, -999,9,3.398,6,1.760,6
  06MT20110624,   A02,704,1,16,16,2,20110628,2037,47.8885,-22.5332,4026,1307.9, 4.1099,34.9321,2,   -999,9,270.3,2, -999,9, -999,9, -999,9
  06MT20110624,   A02,704,1,17,17,2,20110628,2037,47.8885,-22.5332,4026,1093.6, 5.0741,35.0523,2,   -999,9,247.7,2, -999,9,2.989,2,1.593,2
  06MT20110624,   A02,704,1,18,18,2,20110628,2037,47.8885,-22.5332,4026, 906.2, 5.9277,35.1165,2,   -999,9,232.9,2, -999,9,2.749,2,1.482,2
  06MT20110624,   A02,704,1,19,19,2,20110628,2037,47.8885,-22.5332,4026, 594.2, 7.8373,35.1114,2,35.1033,3,195.7,2, -999,9,2.358,2,1.302,2
  06MT20110624,   A02,704,1,20,20,2,20110628,2037,47.8885,-22.5332,4026, 374.7,10.5435,35.3424,2,   -999,9,208.7,2, -999,9,2.496,2,1.449,2
  06MT20110624,   A02,704,1,21,21,2,20110628,2037,47.8885,-22.5332,4026, 188.5,12.1056,35.5890,2,   -999,9,246.6,2,246.6,2,2.794,2,1.675,2
  06MT20110624,   A02,704,1,22,22,2,20110628,2037,47.8885,-22.5332,4026,  13.4,14.6192,35.6985,2,35.7007,2,263.1,2,263.0,2,2.689,2,1.652,2