BOTTLE,20231122CCHSIOVAJ
EXPOCODE,SECT_ID,STNNBR,CASTNO,SAMPNO,BTLNBR,BTLNBR_FLAG_W,DATE,TIME,LATITUDE,LONGITUDE,DEPTH,CTDPRS,CTDTMP,CTDSAL,CTDSAL_FLAG_W,SALNTY,SALNTY_FLAG_W,CTDOXY,CTDOXY_FLAG_W,OXYGEN,OXYGEN_FLAG_W,CFC-11,CFC-11_FLAG_W,CFC-12,CFC-12_FLAG_W
,,,,,,,,,,,METERS,DBAR,ITS-90,PSS-78,,PSS-78,,UMOL/KG,,UMOL/KG,,PMOL/KG,,PMOL/KG,
  06MT20110624,   A02,773,1, 1, 1,2,20110714,1356,47.1002,-43.2990,2539,2578.4, 2.9199,34.9147,2,34.9126,2,281.7,2,281.4,2,3.075,2,1.553,2
  06MT20110624,   A02,773,1, 2, 2,2,20110714,1356,47.1002,-43.2990,2539,2356.0, 3.0290,34.9157,2,   -999,9,280.8,2, -999,9, -999,9, -999,9
  06MT20110624,   A02,773,1, 3, 3,2,20110714,1356,47.1002,-43.2990,2539,2128.1, 3.2938,34.9159,2,   -999,9,278.6,2, -999,9, -999,9, -999,9
  06MT20110624,   A02,773,1, 4, 4,2,20110714,1356,47.1002,-43.2990,2539,1815.3, 3.3849,34.9165,2,   -999,9,277.5,2,278.4,2, -999,9, -999,9
  06MT20110624,   A02,773,1, 5, 5,2,20110714,1356,47.1002,-43.2990,2539,1627.0, 3.4238,34.9168,2,   -999,9,277.7,2, -999,9,3.416,2,1.727,2
  06MT20110624,   A02,773,1, 6, 6,2,20110714,1356,47.1002,-43.2990,2539,1380.7, 3.5595,34.9170,2,   -999,9,277.4,2, -999,9,3.532,2,1.786,2
  06MT20110624,   A02,773,1, 7, 7,2,20110714,1356,47.1002,-43.2990,2539,1199.1, 3.6745,34.9079,2,   -999,9,279.4,2, -999,9, -999,9, -999,9
  06MT20110624,   A02,773,1, 8, 8,2,20110714,1356,47.1002,-43.2990,2539, 995.4, 3.7951,34.8943,2,   -999,9,284.2,2,283.3,2,4.178,2,2.229,2
  06MT20110624,   A02,773,1, 9, 9,2,20110714,1356,47.1002,-43.2990,2539, 819.4, 3.9358,34.8979,2,   -999,9,284.4,2, -999,9,4.190,2,2.218,2
  06MT20110624,   A02,773,1,10,10,2,20110714,1356,47.1002,-43.2990,2539, 600.4, 4.1147,34.8919,2,34.8936,2,289.7,2, -999,9,4.317,2,2.315,2
  06MT20110624,   A02,773,1,11,11,2,20110714,1356,47.1002,-43.2990,2539, 408.7, 4.1915,34.8866,2,   -999,9,292.0,2,290.9,2,4.378,2,2.375,2
  06MT20110624,   A02,773,1,12,12,2,20110714,1356,47.1002,-43.2990,2539, 224.0, 4.0538,34.7294,2,   -999,9,292.6,2, -999,9,4.581,2,2.515,2
  06MT20110624,   A02,773,1,13,13,2,20110714,1356,47.1002,-43.2990,2539,  12.8,11.6969,34.0887,2,34.1058,3,286.8,2,286.4,6,3.628,2,2.072,2
  06MT20110624,   A02,773,1,14,14,2,20110714,1356,47.1002,-43.2990,2539,  12.9,11.6931,34.0892,2,   -999,9,286.6,2, -999,9, -999,9, -999,9
  06MT20110624,   A02,773,1,15,15,2,20110714,1356,47.1002,-43.2990,2539,  13.0,11.6940,34.0894,2,   -999,9,286.6,2, -999,9, -999,9, -999,9
  06MT20110624,   A02,773,1,16,16,2,20110714,1356,47.1002,-43.2990,2539,  13.1,11.6955,34.0894,2,   -999,9,287.1,2, -999,9, -999,9, -999,9
  06MT20110624,   A02,773,1,17,17,2,20110714,1356,47.1002,-43.2990,2539,  13.0,11.7008,34.0895,2,   -999,9,287.2,2, -999,9, -999,9, -999,9
  06MT20110624,   A02,773,1,18,18,2,20110714,1356,47.1002,-43.2990,2539,  12.8,11.7028,34.0896,2,   -999,9,286.7,2, -999,9, -999,9, -999,9
  06MT20110624,   A02,773,1,19,19,2,20110714,1356,47.1002,-43.2990,2539,  12.7,11.6988,34.0898,2,   -999,9,287.2,2, -999,9, -999,9, -999,9
  06MT20110624,   A02,773,1,20,20,2,20110714,1356,47.1002,-43.2990,2539,  12.7,11.6937,34.0908,2,   -999,9,287.1,2, -999,9, -999,9, -999,9
  06MT20110624,   A02,773,1,21,21,2,20110714,1356,47.1002,-43.2990,2539,  12.9,11.7025,34.0902,2,   -999,9,287.1,2, -999,9, -999,9, -999,9
  06MT20110624,   A02,773,1,22,22,2,20110714,1356,47.1002,-43.2990,2539,  13.2,11.7029,34.0903,2,   -999,9,287.2,2, -999,9, -999,9, -999,9
  06MT20110624,   A02,774,1, 1, 1,2,20110714,1622,47.0990,-43.3363,1720,1737.2, 3.4174,34.9167,2,34.9185,2,277.8,2,277.3,2,3.436,2,1.711,2
  06MT20110624,   A02,774,1, 2, 2,2,20110714,1622,47.0990,-43.3363,1720,1598.3, 3.4477,34.9174,2,   -999,9,277.4,2, -999,9,3.518,2,1.744,2
  06MT20110624,   A02,774,1, 3, 3,2,20110714,1622,47.0990,-43.3363,1720,1397.9, 3.5839,34.9145,2,   -999,9,277.8,2,277.9,2,3.672,2,1.815,2
  06MT20110624,   A02,774,1, 4, 4,2,20110714,1622,47.0990,-43.3363,1720,1211.7, 3.6389,34.9118,2,   -999,9,278.3,2, -999,9,3.809,2,1.902,2
  06MT20110624,   A02,774,1, 5, 5,2,20110714,1622,47.0990,-43.3363,1720,1000.8, 3.7698,34.8941,2,   -999,9,283.6,2,283.1,2,4.208,2,2.180,2
  06MT20110624,   A02,774,1, 6, 6,2,20110714,1622,47.0990,-43.3363,1720, 804.0, 3.9607,34.9002,2,34.8999,2,285.0,2, -999,9,4.283,2,2.239,2
  06MT20110624,   A02,774,1, 7, 7,2,20110714,1622,47.0990,-43.3363,1720, 598.6, 4.0828,34.8901,2,   -999,9,290.9,2, -999,9,4.413,2,2.358,2
  06MT20110624,   A02,774,1, 8, 8,2,20110714,1622,47.0990,-43.3363,1720, 397.2, 4.4346,34.9069,2,   -999,9,285.6,2,283.5,6,4.308,2,2.331,2
  06MT20110624,   A02,774,1, 9, 9,2,20110714,1622,47.0990,-43.3363,1720, 214.9, 4.0787,34.7797,2,   -999,9,289.7,2, -999,9,4.411,2,2.418,2
  06MT20110624,   A02,774,1,10,10,2,20110714,1622,47.0990,-43.3363,1720,  11.8,11.8500,34.0508,2,34.0678,3,286.4,2,287.5,2,3.483,2,1.951,2
  06MT20110624,   A02,774,1,11,11,2,20110714,1622,47.0990,-43.3363,1720,  11.8,11.8498,34.0508,2,   -999,9,286.0,2, -999,9, -999,9, -999,9
  06MT20110624,   A02,774,1,12,12,2,20110714,1622,47.0990,-43.3363,1720,  11.9,11.8510,34.0514,2,   -999,9,286.4,2, -999,9, -999,9, -999,9
  06MT20110624,   A02,774,1,13,13,2,20110714,1622,47.0990,-43.3363,1720,  11.9,11.8570,34.0521,2,   -999,9,286.4,2, -999,9, -999,9, -999,9
  06MT20110624,   A02,774,1,14,14,2,20110714,1622,47.0990,-43.3363,1720,  11.7,11.8571,34.0523,2,   -999,9,286.3,2, -999,9, -999,9, -999,9
  06MT20110624,   A02,774,1,15,15,2,20110714,1622,47.0990,-43.3363,1720,  11.6,11.8489,34.0529,2,   -999,9,286.2,2, -999,9, -999,9, -999,9
  06MT20110624,   A02,774,1,16,16,2,20110714,1622,47.0990,-43.3363,1720,  11.8,11.8522,34.0531,2,   -999,9,286.4,2, -999,9, -999,9, -999,9
  06MT20110624,   A02,774,1,17,17,2,20110714,1622,47.0990,-43.3363,1720,  11.9,11.8531,34.0531,2,   -999,9,286.7,2, -999,9, -999,9, -999,9
  06MT20110624,   A02,774,1,18,18,2,20110714,1622,47.0990,-43.3363,1720,  11.8,11.8537,34.0533,2,   -999,9,287.4,2, -999,9, -999,9, -999,9
  06MT20110624,   A02,774,1,19,19,2,20110714,1622,47.0990,-43.3363,1720,  11.6,11.8551,34.0527,2,   -999,9,287.1,2, -999,9, -999,9, -999,9
  06MT20110624,   A02,774,1,20,20,2,20110714,1622,47.0990,-43.3363,1720,  11.5,11.8407,34.0550,2,   -999,9,287.0,2, -999,9, -999,9, -999,9
  06MT20110624,   A02,774,1,21,21,2,20110714,1622,47.0990,-43.3363,1720,  12.0,11.8530,34.0539,2,   -999,9,286.8,2, -999,9, -999,9, -999,9
  06MT20110624,   A02,774,1,22,22,2,20110714,1622,47.0990,-43.3363,1720,  12.0,11.8509,34.0536,2,   -999,9,286.6,2, -999,9, -999,9, -999,9
  06MT20110624,   A02,775,1, 1, 1,2,20110714,1815,47.1005,-43.4222,1281,1275.8, 3.7119,34.9035,2,34.9040,2,280.3,2,280.9,2,3.925,2,2.086,2
  06MT20110624,   A02,775,1, 2, 2,2,20110714,1815,47.1005,-43.4222,1281,1093.6, 3.7207,34.9010,2,   -999,9,281.8,2, -999,9,3.987,2,2.094,2
  06MT20110624,   A02,775,1, 3, 3,2,20110714,1815,47.1005,-43.4222,1281, 899.0, 3.8615,34.8976,2,   -999,9,284.2,2, -999,9,4.157,2,2.216,2
  06MT20110624,   A02,775,1, 4, 4,2,20110714,1815,47.1005,-43.4222,1281, 697.2, 4.0824,34.8967,2,   -999,9,288.9,2,287.5,6,4.309,2,2.362,2
  06MT20110624,   A02,775,1, 5, 5,2,20110714,1815,47.1005,-43.4222,1281, 514.0, 4.0063,34.8718,2,   -999,9,297.3,2, -999,9,4.415,2,2.366,2
  06MT20110624,   A02,775,1, 6, 6,2,20110714,1815,47.1005,-43.4222,1281, 308.8, 4.2103,34.8806,2,34.8772,2,293.4,2,292.6,2,4.378,2,2.418,2
  06MT20110624,   A02,775,1, 7, 7,2,20110714,1815,47.1005,-43.4222,1281,  98.8, 5.3156,34.8171,2,   -999,9,250.8,2, -999,9,3.755,2,2.087,2
  06MT20110624,   A02,775,1, 8, 8,2,20110714,1815,47.1005,-43.4222,1281,  11.8,11.8455,33.9978,2,   -999,9,288.4,2,289.4,2,3.525,2,1.885,2
  06MT20110624,   A02,775,1, 9, 9,2,20110714,1815,47.1005,-43.4222,1281,  11.6,11.8441,33.9990,2,   -999,9,288.4,2, -999,9, -999,9, -999,9
  06MT20110624,   A02,775,1,10,10,2,20110714,1815,47.1005,-43.4222,1281,  11.4,11.8480,33.9987,2,   -999,9,288.4,2, -999,9, -999,9, -999,9
  06MT20110624,   A02,775,1,11,11,2,20110714,1815,47.1005,-43.4222,1281,  11.4,11.8452,33.9972,2,   -999,9,288.8,2, -999,9, -999,9, -999,9
  06MT20110624,   A02,775,1,12,12,2,20110714,1815,47.1005,-43.4222,1281,  11.6,11.8409,33.9995,2,   -999,9,288.3,2, -999,9, -999,9, -999,9
  06MT20110624,   A02,775,1,13,13,2,20110714,1815,47.1005,-43.4222,1281,  11.8,11.8402,33.9992,2,   -999,9,288.7,2, -999,9, -999,9, -999,9
  06MT20110624,   A02,775,1,14,14,2,20110714,1815,47.1005,-43.4222,1281,  11.7,11.8550,33.9988,2,   -999,9,289.0,2, -999,9, -999,9, -999,9
  06MT20110624,   A02,775,1,15,15,2,20110714,1815,47.1005,-43.4222,1281,  11.6,11.8339,33.9993,2,   -999,9,289.2,2, -999,9, -999,9, -999,9
  06MT20110624,   A02,775,1,16,16,2,20110714,1815,47.1005,-43.4222,1281,  11.5,11.8204,34.0010,2,   -999,9,288.9,2, -999,9, -999,9, -999,9
  06MT20110624,   A02,775,1,17,17,2,20110714,1815,47.1005,-43.4222,1281,  11.6,11.8152,34.0013,2,   -999,9,289.0,2, -999,9, -999,9, -999,9
  06MT20110624,   A02,775,1,18,18,2,20110714,1815,47.1005,-43.4222,1281,  11.6,11.8155,34.0014,2,   -999,9,288.9,2, -999,9, -999,9, -999,9
  06MT20110624,   A02,775,1,19,19,2,20110714,1815,47.1005,-43.4222,1281,  11.5,11.8159,34.0016,2,   -999,9,288.9,2, -999,9, -999,9, -999,9
  06MT20110624,   A02,775,1,20,20,2,20110714,1815,47.1005,-43.4222,1281,  11.6,11.8409,34.0008,2,   -999,9,288.6,2, -999,9, -999,9, -999,9
  06MT20110624,   A02,775,1,21,21,2,20110714,1815,47.1005,-43.4222,1281,  11.6,11.8516,33.9997,2,   -999,9,289.0,2, -999,9, -999,9, -999,9
  06MT20110624,   A02,775,1,22,22,2,20110714,1815,47.1005,-43.4222,1281,  11.4,11.8344,34.0005,2,   -999,9,289.1,2, -999,9, -999,9, -999,9
  06MT20110624,   A02,777,1, 1, 1,2,20110714,2022,47.1007,-43.6407, 771, 762.2, 3.8852,34.8967,2,34.8947,2,279.6,2,279.3,2, -999,9, -999,9
  06MT20110624,   A02,777,1, 2, 2,2,20110714,2022,47.1007,-43.6407, 771, 762.5, 3.8854,34.8968,2,   -999,9,279.8,2, -999,9,4.160,2,2.190,2
  06MT20110624,   A02,777,1, 3, 3,2,20110714,2022,47.1007,-43.6407, 771, 762.3, 3.8849,34.8967,2,   -999,9,279.6,2, -999,9, -999,9, -999,9
  06MT20110624,   A02,777,1, 4, 4,2,20110714,2022,47.1007,-43.6407, 771, 702.0, 3.9439,34.8971,2,   -999,9,277.3,2,277.2,2,4.131,2,2.158,2
  06MT20110624,   A02,777,1, 5, 5,2,20110714,2022,47.1007,-43.6407, 771, 701.3, 3.9438,34.8968,2,   -999,9,277.3,2, -999,9, -999,9, -999,9
  06MT20110624,   A02,777,1, 6, 6,2,20110714,2022,47.1007,-43.6407, 771, 700.1, 3.9443,34.8965,2,   -999,9,277.3,2, -999,9, -999,9, -999,9
  06MT20110624,   A02,777,1, 7, 7,2,20110714,2022,47.1007,-43.6407, 771, 501.5, 4.1075,34.8979,2,   -999,9,280.7,2, -999,9,4.295,2,2.310,2
  06MT20110624,   A02,777,1, 8, 8,2,20110714,2022,47.1007,-43.6407, 771, 501.1, 4.1096,34.8980,2,   -999,9,280.9,2, -999,9, -999,9, -999,9
  06MT20110624,   A02,777,1, 9, 9,2,20110714,2022,47.1007,-43.6407, 771, 500.2, 4.1115,34.8979,2,   -999,9,280.6,2, -999,9, -999,9, -999,9
  06MT20110624,   A02,777,1,10,10,2,20110714,2022,47.1007,-43.6407, 771, 309.9, 4.4257,34.9086,2,   -999,9,284.1,2,283.8,6,4.140,2,2.175,2
  06MT20110624,   A02,777,1,11,11,2,20110714,2022,47.1007,-43.6407, 771, 306.6, 4.4284,34.9080,2,   -999,9,283.3,2, -999,9, -999,9, -999,9
  06MT20110624,   A02,777,1,12,12,2,20110714,2022,47.1007,-43.6407, 771, 305.2, 4.4351,34.9089,2,   -999,9,282.8,2, -999,9, -999,9, -999,9
  06MT20110624,   A02,777,1,13,13,2,20110714,2022,47.1007,-43.6407, 771, 101.5, 4.0394,34.6590,2,   -999,9,302.9,2,300.6,2,4.643,2,2.543,2
  06MT20110624,   A02,777,1,14,14,2,20110714,2022,47.1007,-43.6407, 771, 100.2, 4.0421,34.6582,2,   -999,9,302.5,2, -999,9, -999,9, -999,9
  06MT20110624,   A02,777,1,15,15,2,20110714,2022,47.1007,-43.6407, 771,  98.8, 4.0424,34.6580,2,   -999,9,302.4,2, -999,9, -999,9, -999,9
  06MT20110624,   A02,777,1,16,16,2,20110714,2022,47.1007,-43.6407, 771,  11.6,11.5986,33.8201,2,   -999,9,287.7,2,288.9,2,3.584,2,1.992,2
  06MT20110624,   A02,777,1,17,17,2,20110714,2022,47.1007,-43.6407, 771,  11.5,11.5853,33.8226,2,   -999,9,287.5,2, -999,9, -999,9, -999,9
  06MT20110624,   A02,777,1,18,18,2,20110714,2022,47.1007,-43.6407, 771,  11.6,11.5797,33.8193,2,   -999,9,288.7,2, -999,9, -999,9, -999,9
  06MT20110624,   A02,777,1,19,19,2,20110714,2022,47.1007,-43.6407, 771,  11.7,11.6106,33.8145,2,   -999,9,288.8,2, -999,9, -999,9, -999,9
  06MT20110624,   A02,777,1,20,20,2,20110714,2022,47.1007,-43.6407, 771,  11.7,11.6865,33.7953,2,   -999,9,288.2,2, -999,9, -999,9, -999,9
  06MT20110624,   A02,777,1,21,21,2,20110714,2022,47.1007,-43.6407, 771,  11.8,11.6142,33.8143,2,   -999,9,289.0,2, -999,9, -999,9, -999,9
  06MT20110624,   A02,777,1,22,22,2,20110714,2022,47.1007,-43.6407, 771,  11.9,11.7054,33.7957,2,   -999,9,287.5,2, -999,9, -999,9, -999,9
  06MT20110624,   A02,778,1, 1, 1,2,20110714,2151,47.1000,-43.7920, 586, 573.0, 3.9927,34.8969,2,34.8975,2,277.9,2,277.9,2,4.238,2,2.293,2
  06MT20110624,   A02,778,1, 2, 2,2,20110714,2151,47.1000,-43.7920, 586, 572.9, 3.9934,34.8968,2,   -999,9,277.9,2, -999,9, -999,9, -999,9
  06MT20110624,   A02,778,1, 3, 3,2,20110714,2151,47.1000,-43.7920, 586, 573.4, 3.9924,34.8975,2,   -999,9,277.7,2, -999,9, -999,9, -999,9
  06MT20110624,   A02,778,1, 4, 4,2,20110714,2151,47.1000,-43.7920, 586, 498.8, 4.0194,34.8975,2,   -999,9,279.5,2, -999,9,4.167,2,2.229,2
  06MT20110624,   A02,778,1, 5, 5,2,20110714,2151,47.1000,-43.7920, 586, 495.6, 4.0240,34.8978,2,   -999,9,279.3,2, -999,9, -999,9, -999,9
  06MT20110624,   A02,778,1, 6, 6,2,20110714,2151,47.1000,-43.7920, 586, 491.8, 4.0265,34.8977,2,   -999,9,278.7,2, -999,9, -999,9, -999,9
  06MT20110624,   A02,778,1, 7, 7,2,20110714,2151,47.1000,-43.7920, 586, 398.4, 4.1639,34.9051,2,   -999,9,284.9,2,283.1,2,4.235,2,2.285,2
  06MT20110624,   A02,778,1, 8, 8,2,20110714,2151,47.1000,-43.7920, 586, 396.8, 4.1658,34.9049,2,   -999,9,284.8,2, -999,9, -999,9, -999,9
  06MT20110624,   A02,778,1, 9, 9,2,20110714,2151,47.1000,-43.7920, 586, 395.8, 4.1658,34.9056,2,   -999,9,284.9,2, -999,9, -999,9, -999,9
  06MT20110624,   A02,778,1,10,10,2,20110714,2151,47.1000,-43.7920, 586, 298.4, 4.2151,34.8962,2,   -999,9,277.7,2,276.4,2,3.864,2,2.097,2
  06MT20110624,   A02,778,1,11,11,2,20110714,2151,47.1000,-43.7920, 586, 297.2, 4.2225,34.8959,2,   -999,9,277.7,2, -999,9, -999,9, -999,9
  06MT20110624,   A02,778,1,12,12,2,20110714,2151,47.1000,-43.7920, 586, 295.8, 4.2259,34.8961,2,   -999,9,277.5,2, -999,9, -999,9, -999,9
  06MT20110624,   A02,778,1,13,13,2,20110714,2151,47.1000,-43.7920, 586, 198.4, 4.2962,34.8615,2,   -999,9,270.7,2, -999,9, -999,9, -999,9
  06MT20110624,   A02,778,1,14,14,2,20110714,2151,47.1000,-43.7920, 586, 196.6, 4.2958,34.8607,2,   -999,9,270.4,2, -999,9, -999,9, -999,9
  06MT20110624,   A02,778,1,15,15,2,20110714,2151,47.1000,-43.7920, 586, 194.3, 4.2953,34.8597,2,   -999,9,270.2,2, -999,9, -999,9, -999,9
  06MT20110624,   A02,778,1,16,16,2,20110714,2151,47.1000,-43.7920, 586, 100.1, 4.3184,34.6434,2,   -999,9,272.4,2, -999,9,4.295,2,2.361,2
  06MT20110624,   A02,778,1,17,17,2,20110714,2151,47.1000,-43.7920, 586,  99.2, 4.3091,34.6411,2,   -999,9,271.7,2, -999,9, -999,9, -999,9
  06MT20110624,   A02,778,1,18,18,2,20110714,2151,47.1000,-43.7920, 586,  98.1, 4.3003,34.6409,2,   -999,9,271.0,2, -999,9, -999,9, -999,9
  06MT20110624,   A02,778,1,19,19,2,20110714,2151,47.1000,-43.7920, 586,  11.8,11.6608,33.6339,2,   -999,9,286.6,2,292.7,6,3.623,2,2.127,2
  06MT20110624,   A02,778,1,20,20,2,20110714,2151,47.1000,-43.7920, 586,  11.8,11.6598,33.6354,2,   -999,9,286.6,2, -999,9, -999,9, -999,9
  06MT20110624,   A02,778,1,21,21,2,20110714,2151,47.1000,-43.7920, 586,  11.7,11.6641,33.6337,2,   -999,9,286.4,2, -999,9, -999,9, -999,9
  06MT20110624,   A02,778,1,22,22,2,20110714,2151,47.1000,-43.7920, 586,  12.0,11.6455,33.6409,2,   -999,9,286.4,2, -999,9, -999,9, -999,9
  06MT20110624,   A02,782,1, 1, 1,2,20110715,2326,47.1002,-46.4077, 356, 349.1, 4.1546,34.9032,2,34.9034,2,274.9,2,273.0,2,4.149,2,2.248,2
  06MT20110624,   A02,782,1, 2, 2,2,20110715,2326,47.1002,-46.4077, 356, 348.9, 4.1547,34.9031,2,   -999,9,274.9,2, -999,9, -999,9, -999,9
  06MT20110624,   A02,782,1, 3, 3,2,20110715,2326,47.1002,-46.4077, 356, 298.9, 4.1646,34.8960,2,   -999,9,275.3,2, -999,9,4.194,2,2.277,2
  06MT20110624,   A02,782,1, 4, 4,2,20110715,2326,47.1002,-46.4077, 356, 297.8, 4.1661,34.8943,2,   -999,9,274.8,2, -999,9, -999,9, -999,9
  06MT20110624,   A02,782,1, 5, 5,2,20110715,2326,47.1002,-46.4077, 356, 296.4, 4.1666,34.8939,2,   -999,9,275.3,2, -999,9, -999,9, -999,9
  06MT20110624,   A02,782,1, 6, 6,2,20110715,2326,47.1002,-46.4077, 356, 198.8, 4.2903,34.8732,2,34.8837,2,267.6,2,267.7,2,4.156,2,2.316,2
  06MT20110624,   A02,782,1, 7, 7,2,20110715,2326,47.1002,-46.4077, 356, 197.7, 4.2907,34.8721,2,   -999,9,267.6,2, -999,9, -999,9, -999,9
  06MT20110624,   A02,782,1, 8, 8,2,20110715,2326,47.1002,-46.4077, 356, 196.2, 4.3015,34.8718,2,   -999,9,267.5,2, -999,9, -999,9, -999,9
  06MT20110624,   A02,782,1, 9, 9,2,20110715,2326,47.1002,-46.4077, 356,  99.5, 4.3109,34.5562,2,   -999,9,288.5,2, -999,9, -999,9, -999,9
  06MT20110624,   A02,782,1,10,10,2,20110715,2326,47.1002,-46.4077, 356,  98.9, 4.3057,34.5616,2,   -999,9,290.2,2, -999,9,3.757,2,2.062,2
  06MT20110624,   A02,782,1,11,11,2,20110715,2326,47.1002,-46.4077, 356,  98.2, 4.3079,34.5615,2,   -999,9,291.3,2, -999,9, -999,9, -999,9
  06MT20110624,   A02,782,1,12,12,2,20110715,2326,47.1002,-46.4077, 356,  11.9,10.8399,33.1957,2,   -999,9,290.0,2,293.1,6, -999,9, -999,9
  06MT20110624,   A02,782,1,13,13,2,20110715,2326,47.1002,-46.4077, 356,  11.6,10.8404,33.1994,2,   -999,9,290.4,2, -999,9, -999,9, -999,9
  06MT20110624,   A02,782,1,14,14,2,20110715,2326,47.1002,-46.4077, 356,  11.4,10.8217,33.2497,2,   -999,9,290.5,2, -999,9, -999,9, -999,9
  06MT20110624,   A02,782,1,15,15,2,20110715,2326,47.1002,-46.4077, 356,  11.5,10.8334,33.2182,2,   -999,9,290.3,2, -999,9, -999,9, -999,9
  06MT20110624,   A02,782,1,16,16,2,20110715,2326,47.1002,-46.4077, 356,  11.7,10.8438,33.2070,2,   -999,9,290.7,2, -999,9, -999,9, -999,9
  06MT20110624,   A02,782,1,17,17,2,20110715,2326,47.1002,-46.4077, 356,  11.8,10.8712,33.2520,2,   -999,9,290.9,2, -999,9, -999,9, -999,9
  06MT20110624,   A02,782,1,18,18,2,20110715,2326,47.1002,-46.4077, 356,  11.8,10.8617,33.2344,2,   -999,9,290.8,2, -999,9, -999,9, -999,9
  06MT20110624,   A02,782,1,19,19,2,20110715,2326,47.1002,-46.4077, 356,  11.7,10.8698,33.2494,2,   -999,9,290.5,2, -999,9, -999,9, -999,9
  06MT20110624,   A02,782,1,20,20,2,20110715,2326,47.1002,-46.4077, 356,  11.6,10.8710,33.2539,2,   -999,9,290.7,2, -999,9, -999,9, -999,9
  06MT20110624,   A02,782,1,21,21,2,20110715,2326,47.1002,-46.4077, 356,  11.5,10.8781,33.2595,2,   -999,9,290.2,2, -999,9, -999,9, -999,9
  06MT20110624,   A02,782,1,22,22,2,20110715,2326,47.1002,-46.4077, 356,  11.7,10.8870,33.2720,2,   -999,9,290.3,2, -999,9, -999,9, -999,9