BOTTLE,20231122CCHSIOVAJ
EXPOCODE,SECT_ID,STNNBR,CASTNO,SAMPNO,BTLNBR,BTLNBR_FLAG_W,DATE,TIME,LATITUDE,LONGITUDE,DEPTH,CTDPRS,CTDTMP,CTDSAL,CTDSAL_FLAG_W,SALNTY,SALNTY_FLAG_W,CTDOXY,CTDOXY_FLAG_W,OXYGEN,OXYGEN_FLAG_W,CFC-11,CFC-11_FLAG_W,CFC-12,CFC-12_FLAG_W
,,,,,,,,,,,METERS,DBAR,ITS-90,PSS-78,,PSS-78,,UMOL/KG,,UMOL/KG,,PMOL/KG,,PMOL/KG,
  06MT20110624,   A02,738,1, 1, 1,2,20110707,0839,49.7833,-33.5218,4220,4286.0, 2.3418,34.8980,2,34.8987,2,281.3,2,281.2,2,2.337,2,1.199,2
  06MT20110624,   A02,738,1, 2, 2,2,20110707,0839,49.7833,-33.5218,4220,4198.8, 2.3479,34.8990,2,   -999,9,280.3,2, -999,9,2.319,2,1.190,2
  06MT20110624,   A02,738,1, 3, 3,2,20110707,0839,49.7833,-33.5218,4220,3901.1, 2.3706,34.9012,2,   -999,9,280.1,2,279.6,2,2.263,2,1.157,2
  06MT20110624,   A02,738,1, 4, 4,2,20110707,0839,49.7833,-33.5218,4220,3597.8, 2.4236,34.9052,2,   -999,9,278.8,2, -999,9,2.144,2,1.082,2
  06MT20110624,   A02,738,1, 5, 5,2,20110707,0839,49.7833,-33.5218,4220,3294.5, 2.5706,34.9121,2,   -999,9,276.7,2, -999,9,2.122,2,1.077,2
  06MT20110624,   A02,738,1, 6, 6,2,20110707,0839,49.7833,-33.5218,4220,3011.0, 2.8148,34.9275,2,   -999,9,275.7,2,276.9,2,2.158,2,1.079,2
  06MT20110624,   A02,738,1, 7, 7,2,20110707,0839,49.7833,-33.5218,4220,2697.1, 2.9657,34.9249,2,34.9254,2,276.5,2, -999,9,2.293,2,1.180,2
  06MT20110624,   A02,738,1, 8, 8,2,20110707,0839,49.7833,-33.5218,4220,2414.4, 3.1070,34.9179,2,   -999,9,277.0,2, -999,9,2.426,2,1.234,2
  06MT20110624,   A02,738,1, 9, 9,2,20110707,0839,49.7833,-33.5218,4220,2108.9, 3.2887,34.9126,2,   -999,9,276.9,2, -999,9,2.641,2,1.322,2
  06MT20110624,   A02,738,1,10,10,2,20110707,0839,49.7833,-33.5218,4220,1899.7, 3.4258,34.9156,2,   -999,9,275.7,2, -999,9,2.786,2,1.398,2
  06MT20110624,   A02,738,1,11,11,2,20110707,0839,49.7833,-33.5218,4220,1699.3, 3.5716,34.9202,2,   -999,9,274.3,2, -999,9,2.842,2,1.421,2
  06MT20110624,   A02,738,1,12,12,2,20110707,0839,49.7833,-33.5218,4220,1499.5, 3.7077,34.9201,2,   -999,9,273.9,2,274.1,6,3.148,2,1.630,2
  06MT20110624,   A02,738,1,13,13,2,20110707,0839,49.7833,-33.5218,4220,1348.8, 3.7738,34.9147,2,   -999,9,274.9,2, -999,9,3.334,2,1.772,2
  06MT20110624,   A02,738,1,14,14,2,20110707,0839,49.7833,-33.5218,4220,1190.5, 3.8971,34.9177,2,   -999,9,275.1,2, -999,9,3.511,2,1.885,2
  06MT20110624,   A02,738,1,15,15,2,20110707,0839,49.7833,-33.5218,4220,1100.9, 4.0563,34.9317,2,   -999,9,270.7,2, -999,9,3.458,2,1.857,2
  06MT20110624,   A02,738,1,16,16,2,20110707,0839,49.7833,-33.5218,4220, 946.4, 4.1279,34.9272,2,   -999,9,273.2,2, -999,9,3.622,2,1.977,2
  06MT20110624,   A02,738,1,17,17,2,20110707,0839,49.7833,-33.5218,4220, 862.3, 4.2840,34.9392,2,   -999,9,268.8,2, -999,9,3.205,3,1.856,3
  06MT20110624,   A02,738,1,18,18,2,20110707,0839,49.7833,-33.5218,4220, 773.5, 4.4677,34.9511,2,   -999,9,264.6,2, -999,9,3.517,2,1.911,2
  06MT20110624,   A02,738,1,19,19,2,20110707,0839,49.7833,-33.5218,4220, 648.1, 4.6386,34.9471,2,   -999,9,260.7,2, -999,9,3.448,2,1.868,2
  06MT20110624,   A02,738,1,20,20,2,20110707,0839,49.7833,-33.5218,4220, 486.3, 5.3097,34.9654,2,   -999,9,237.2,2, -999,9,2.706,2,1.492,2
  06MT20110624,   A02,738,1,21,21,2,20110707,0839,49.7833,-33.5218,4220, 314.2, 6.6548,34.8998,2,35.0569,3,213.1,2,209.7,2,2.687,2,1.485,2
  06MT20110624,   A02,738,1,22,22,2,20110707,0839,49.7833,-33.5218,4220,  14.1,11.9127,35.0460,2,   -999,9,277.8,2,277.6,2,3.159,6,1.874,6
  06MT20110624,   A02,739,1, 1, 1,2,20110707,1431,49.3947,-33.0733,3779,3833.6, 2.3010,34.8982,2,34.8991,2,280.1,2,280.6,2,2.302,2,1.188,2
  06MT20110624,   A02,739,1, 2, 2,2,20110707,1431,49.3947,-33.0733,3779,3699.4, 2.3317,34.8998,2,   -999,9,279.5,2, -999,9,2.239,2,1.145,2
  06MT20110624,   A02,739,1, 3, 3,2,20110707,1431,49.3947,-33.0733,3779,3498.5, 2.3930,34.9035,2,   -999,9,278.2,2, -999,9,2.154,6,1.078,6
  06MT20110624,   A02,739,1, 4, 4,2,20110707,1431,49.3947,-33.0733,3779,3198.3, 2.6207,34.9134,2,   -999,9,277.7,2,278.0,2,2.146,2,1.082,2
  06MT20110624,   A02,739,1, 5, 5,2,20110707,1431,49.3947,-33.0733,3779,2892.9, 2.8309,34.9184,2,   -999,9,277.5,2, -999,9,2.296,2,1.164,2
  06MT20110624,   A02,739,1, 6, 6,2,20110707,1431,49.3947,-33.0733,3779,2573.2, 3.0197,34.9170,2,   -999,9,277.3,2, -999,9,2.424,2,1.205,2
  06MT20110624,   A02,739,1, 7, 7,2,20110707,1431,49.3947,-33.0733,3779,2299.9, 3.1975,34.9160,2,   -999,9,277.3,2,278.1,2,2.643,2,1.301,2
  06MT20110624,   A02,739,1, 8, 8,2,20110707,1431,49.3947,-33.0733,3779,2001.4, 3.3740,34.9159,2,34.9174,2,276.6,2, -999,9, -999,9, -999,9
  06MT20110624,   A02,739,1, 9, 9,2,20110707,1431,49.3947,-33.0733,3779,1802.3, 3.5222,34.9186,2,   -999,9,275.1,2, -999,9,2.967,2,1.462,2
  06MT20110624,   A02,739,1,10,10,2,20110707,1431,49.3947,-33.0733,3779,1598.4, 3.6624,34.9205,2,   -999,9,274.1,2, -999,9,3.159,2,1.597,2
  06MT20110624,   A02,739,1,11,11,2,20110707,1431,49.3947,-33.0733,3779,1368.2, 3.7501,34.9143,2,   -999,9,276.8,2,276.7,2,3.510,2,1.830,2
  06MT20110624,   A02,739,1,12,12,2,20110707,1431,49.3947,-33.0733,3779,1200.2, 3.8390,34.9105,2,   -999,9,277.9,2, -999,9,3.712,2,1.981,2
  06MT20110624,   A02,739,1,13,13,2,20110707,1431,49.3947,-33.0733,3779,1099.4, 3.8862,34.9093,2,   -999,9,278.6,2, -999,9,3.782,2,2.006,2
  06MT20110624,   A02,739,1,14,14,2,20110707,1431,49.3947,-33.0733,3779, 993.5, 4.0074,34.9173,2,   -999,9,277.3,2, -999,9,3.785,2,2.021,2
  06MT20110624,   A02,739,1,15,15,2,20110707,1431,49.3947,-33.0733,3779, 899.7, 4.0506,34.9131,2,   -999,9,278.9,2, -999,9,3.925,2,2.122,2
  06MT20110624,   A02,739,1,16,16,2,20110707,1431,49.3947,-33.0733,3779, 771.0, 4.1915,34.9180,2,   -999,9,277.2,2, -999,9,3.882,2,2.105,2
  06MT20110624,   A02,739,1,17,17,2,20110707,1431,49.3947,-33.0733,3779, 674.0, 4.3464,34.9247,2,   -999,9,272.9,2,272.3,2,3.789,2,2.062,2
  06MT20110624,   A02,739,1,18,18,2,20110707,1431,49.3947,-33.0733,3779, 569.2, 4.6713,34.9467,2,34.9463,2,258.6,2, -999,9,3.432,2,1.864,2
  06MT20110624,   A02,739,1,19,19,2,20110707,1431,49.3947,-33.0733,3779, 473.6, 5.2255,34.9890,2,   -999,9,243.0,2, -999,9,3.098,2,1.667,2
  06MT20110624,   A02,739,1,20,20,2,20110707,1431,49.3947,-33.0733,3779, 388.9, 5.3803,34.9308,2,   -999,9,234.9,2, -999,9,3.041,2,1.642,2
  06MT20110624,   A02,739,1,21,21,2,20110707,1431,49.3947,-33.0733,3779, 204.0, 6.7731,34.8121,2,   -999,9,243.6,2, -999,9,3.170,2,1.752,2
  06MT20110624,   A02,739,1,22,22,2,20110707,1431,49.3947,-33.0733,3779,  13.3,12.3776,34.8685,2,   -999,9,280.0,2,279.7,6, -999,9, -999,9
  06MT20110624,   A02,740,1, 1, 1,2,20110707,2112,49.0105,-32.6170,3933,3996.0, 2.3188,34.8977,2,34.8985,2,279.8,2,280.2,2, -999,9, -999,9
  06MT20110624,   A02,740,1, 2, 2,2,20110707,2112,49.0105,-32.6170,3933,3797.7, 2.3496,34.9000,2,   -999,9,279.3,2, -999,9, -999,9, -999,9
  06MT20110624,   A02,740,1, 3, 3,2,20110707,2112,49.0105,-32.6170,3933,3499.5, 2.4769,34.9057,2,   -999,9,277.2,2, -999,9,2.073,2,1.016,2
  06MT20110624,   A02,740,1, 4, 4,2,20110707,2112,49.0105,-32.6170,3933,3200.2, 2.7320,34.9172,2,   -999,9,277.8,2, -999,9,2.223,2,1.109,2
  06MT20110624,   A02,740,1, 5, 5,2,20110707,2112,49.0105,-32.6170,3933,2998.3, 2.8724,34.9195,2,   -999,9,277.4,2,277.6,2,2.323,2,1.165,2
  06MT20110624,   A02,740,1, 6, 6,2,20110707,2112,49.0105,-32.6170,3933,2799.9, 3.0050,34.9219,2,   -999,9,277.1,2, -999,9,2.453,2,1.223,2
  06MT20110624,   A02,740,1, 7, 7,2,20110707,2112,49.0105,-32.6170,3933,2598.7, 3.1055,34.9179,2,34.9201,2,277.2,2, -999,9,2.522,2,1.252,2
  06MT20110624,   A02,740,1, 8, 8,2,20110707,2112,49.0105,-32.6170,3933,2400.2, 3.2236,34.9144,2,   -999,9,277.0,2, -999,9,2.614,2,1.294,2
  06MT20110624,   A02,740,1, 9, 9,2,20110707,2112,49.0105,-32.6170,3933,2199.0, 3.3662,34.9149,2,   -999,9,276.1,2, -999,9,2.729,2,1.353,2
  06MT20110624,   A02,740,1,10,10,2,20110707,2112,49.0105,-32.6170,3933,2002.5, 3.5009,34.9187,2,   -999,9,274.3,2,275.1,2,2.812,2,1.391,2
  06MT20110624,   A02,740,1,11,11,2,20110707,2112,49.0105,-32.6170,3933,1824.3, 3.6441,34.9219,2,   -999,9,273.3,2, -999,9,2.994,2,1.504,2
  06MT20110624,   A02,740,1,12,12,2,20110707,2112,49.0105,-32.6170,3933,1575.8, 3.7656,34.9182,2,   -999,9,274.1,2, -999,9,3.296,2,1.686,2
  06MT20110624,   A02,740,1,13,13,2,20110707,2112,49.0105,-32.6170,3933,1410.3, 3.8330,34.9113,2,   -999,9,275.8,2,276.8,2, -999,9, -999,9
  06MT20110624,   A02,740,1,14,14,2,20110707,2112,49.0105,-32.6170,3933,1251.4, 4.0384,34.9262,2,   -999,9,272.4,2, -999,9,3.581,2,1.897,2
  06MT20110624,   A02,740,1,15,15,2,20110707,2112,49.0105,-32.6170,3933,1162.1, 4.1283,34.9288,2,   -999,9,271.8,2, -999,9,3.619,6,1.911,6
  06MT20110624,   A02,740,1,16,16,2,20110707,2112,49.0105,-32.6170,3933, 949.2, 4.3944,34.9382,2,   -999,9,268.3,2, -999,9,3.637,2,1.945,2
  06MT20110624,   A02,740,1,17,17,2,20110707,2112,49.0105,-32.6170,3933, 848.3, 4.4999,34.9262,2,   -999,9,268.4,2,269.8,2,3.748,2,2.065,2
  06MT20110624,   A02,740,1,18,18,2,20110707,2112,49.0105,-32.6170,3933, 764.8, 4.7866,34.9394,2,34.9376,2,258.1,2, -999,9,3.491,2,1.917,2
  06MT20110624,   A02,740,1,19,19,2,20110707,2112,49.0105,-32.6170,3933, 660.1, 5.2404,34.9315,2,   -999,9,238.2,2, -999,9,3.151,2,1.724,2
  06MT20110624,   A02,740,1,20,20,2,20110707,2112,49.0105,-32.6170,3933, 544.7, 6.3037,34.9449,2,   -999,9,210.5,2, -999,9,2.575,2,1.405,2
  06MT20110624,   A02,740,1,21,21,2,20110707,2112,49.0105,-32.6170,3933, 248.8,11.2803,35.4699,2,   -999,9,237.4,2, -999,9,2.829,2,1.679,2
  06MT20110624,   A02,740,1,22,22,2,20110707,2112,49.0105,-32.6170,3933,  12.7,13.4602,35.2322,2,35.2450,3,268.2,2,268.1,6,2.901,2,1.749,2
  06MT20110624,   A02,745,1, 1, 1,2,20110708,0641,48.7503,-32.3145,3712,3774.0, 2.4572,34.9046,2,34.9059,2,275.7,2,277.8,2,2.054,2,1.045,2
  06MT20110624,   A02,745,1, 2, 2,2,20110708,0641,48.7503,-32.3145,3712,3699.9, 2.4812,34.9062,2,   -999,9,276.0,2, -999,9,2.081,2,1.020,2
  06MT20110624,   A02,745,1, 3, 3,2,20110708,0641,48.7503,-32.3145,3712,3501.8, 2.6150,34.9133,2,   -999,9,275.2,2, -999,9,2.092,2,1.022,2
  06MT20110624,   A02,745,1, 4, 4,2,20110708,0641,48.7503,-32.3145,3712,3197.1, 2.8099,34.9200,2,   -999,9,275.1,2,276.4,2,2.191,2,1.068,2
  06MT20110624,   A02,745,1, 5, 5,2,20110708,0641,48.7503,-32.3145,3712,2898.9, 3.0129,34.9202,2,   -999,9,275.4,2, -999,9,2.333,2,1.144,2
  06MT20110624,   A02,745,1, 6, 6,2,20110708,0641,48.7503,-32.3145,3712,2598.2, 3.2083,34.9161,2,34.9187,2,274.8,2, -999,9,2.469,2,1.214,2
  06MT20110624,   A02,745,1, 7, 7,2,20110708,0641,48.7503,-32.3145,3712,2299.7, 3.3162,34.9116,2,   -999,9,275.4,2, -999,9,2.654,2,1.310,2
  06MT20110624,   A02,745,1, 8, 8,2,20110708,0641,48.7503,-32.3145,3712,2006.4, 3.5354,34.9132,2,   -999,9,274.2,2,274.8,2, -999,9, -999,9
  06MT20110624,   A02,745,1, 9, 9,2,20110708,0641,48.7503,-32.3145,3712,1898.8, 3.6312,34.9196,2,   -999,9,272.8,2, -999,9,2.921,2,1.487,2
  06MT20110624,   A02,745,1,10,10,2,20110708,0641,48.7503,-32.3145,3712,1729.8, 3.7353,34.9158,2,   -999,9,274.4,2, -999,9,3.231,2,1.666,2
  06MT20110624,   A02,745,1,11,11,2,20110708,0641,48.7503,-32.3145,3712,1514.7, 3.8522,34.9116,2,   -999,9,276.1,2, -999,9,3.573,2,1.874,2
  06MT20110624,   A02,745,1,12,12,2,20110708,0641,48.7503,-32.3145,3712,1328.5, 4.0821,34.9221,2,   -999,9,273.0,2, -999,9,3.667,2,1.948,2
  06MT20110624,   A02,745,1,13,13,2,20110708,0641,48.7503,-32.3145,3712,1228.4, 4.1953,34.9276,2,   -999,9,271.9,2,271.1,2,3.660,2,1.950,2
  06MT20110624,   A02,745,1,14,14,2,20110708,0641,48.7503,-32.3145,3712,1118.3, 4.3748,34.9381,2,   -999,9,267.3,2, -999,9,3.645,2,1.962,2
  06MT20110624,   A02,745,1,15,15,2,20110708,0641,48.7503,-32.3145,3712,1028.5, 4.6064,34.9508,2,   -999,9,260.0,2, -999,9,3.519,2,1.897,2
  06MT20110624,   A02,745,1,16,16,2,20110708,0641,48.7503,-32.3145,3712, 911.1, 5.2403,35.0032,2,34.9972,3,242.1,2, -999,9,3.125,2,1.708,2
  06MT20110624,   A02,745,1,17,17,2,20110708,0641,48.7503,-32.3145,3712, 792.1, 5.8002,34.9964,2,   -999,9,226.7,2,228.3,6,2.869,6,1.565,6
  06MT20110624,   A02,745,1,18,18,2,20110708,0641,48.7503,-32.3145,3712, 693.5, 6.6114,34.9846,2,   -999,9,204.9,2, -999,9,2.537,2,1.389,2
  06MT20110624,   A02,745,1,19,19,2,20110708,0641,48.7503,-32.3145,3712, 586.0, 7.8493,35.0372,2,   -999,9,193.9,2, -999,9, -999,9, -999,9
  06MT20110624,   A02,745,1,20,20,2,20110708,0641,48.7503,-32.3145,3712, 495.0, 9.1427,35.1270,2,   -999,9,227.3,2, -999,9,2.945,2,1.750,2
  06MT20110624,   A02,745,1,21,21,2,20110708,0641,48.7503,-32.3145,3712, 424.9,10.6679,35.3663,2,   -999,9,244.7,2, -999,9,2.890,2,1.714,2
  06MT20110624,   A02,745,1,22,22,2,20110708,0641,48.7503,-32.3145,3712,  14.4,13.7962,35.4701,2,   -999,9,262.8,2,265.9,2,2.876,2,1.715,2
  06MT20110624,   A02,746,1, 1, 1,2,20110708,1126,48.5005,-32.0168,4215,4282.4, 2.3626,34.8977,2,34.9018,2,279.5,2,279.5,2, -999,9, -999,9
  06MT20110624,   A02,746,1, 2, 2,2,20110708,1126,48.5005,-32.0168,4215,3998.5, 2.4211,34.9021,2,   -999,9,278.4,2, -999,9,2.166,2,1.100,2
  06MT20110624,   A02,746,1, 3, 3,2,20110708,1126,48.5005,-32.0168,4215,3702.2, 2.5060,34.9075,2,   -999,9,277.5,2, -999,9,2.121,2,1.065,2
  06MT20110624,   A02,746,1, 4, 4,2,20110708,1126,48.5005,-32.0168,4215,3398.9, 2.7105,34.9174,2,   -999,9,276.3,2,276.4,2,2.177,2,1.091,2
  06MT20110624,   A02,746,1, 5, 5,2,20110708,1126,48.5005,-32.0168,4215,3113.9, 2.9067,34.9195,2,   -999,9,275.9,2, -999,9,2.236,2,1.131,2
  06MT20110624,   A02,746,1, 6, 6,2,20110708,1126,48.5005,-32.0168,4215,2816.6, 3.0860,34.9183,2,   -999,9,275.2,2, -999,9,2.354,2,1.181,2
  06MT20110624,   A02,746,1, 7, 7,2,20110708,1126,48.5005,-32.0168,4215,2606.2, 3.2144,34.9158,2,   -999,9,275.0,2,275.1,2,2.483,2,1.231,2
  06MT20110624,   A02,746,1, 8, 8,2,20110708,1126,48.5005,-32.0168,4215,2402.3, 3.3125,34.9136,2,   -999,9,275.2,2, -999,9,2.591,2,1.302,2
  06MT20110624,   A02,746,1, 9, 9,2,20110708,1126,48.5005,-32.0168,4215,2202.7, 3.4247,34.9122,2,   -999,9,274.7,2, -999,9,2.719,2,1.363,2
  06MT20110624,   A02,746,1,10,10,2,20110708,1126,48.5005,-32.0168,4215,1982.4, 3.5764,34.9156,2,   -999,9,273.8,2, -999,9,2.882,2,1.460,2
  06MT20110624,   A02,746,1,11,11,2,20110708,1126,48.5005,-32.0168,4215,1784.6, 3.7224,34.9173,2,   -999,9,273.9,2, -999,9,3.171,2,1.636,2
  06MT20110624,   A02,746,1,12,12,2,20110708,1126,48.5005,-32.0168,4215,1592.2, 3.8221,34.9133,2,   -999,9,274.6,2,275.2,6,3.470,2,1.801,2
  06MT20110624,   A02,746,1,13,13,2,20110708,1126,48.5005,-32.0168,4215,1388.7, 3.9877,34.9153,2,   -999,9,274.9,2, -999,9,3.676,2,1.950,2
  06MT20110624,   A02,746,1,14,14,2,20110708,1126,48.5005,-32.0168,4215,1190.2, 4.2761,34.9310,2,34.9309,2,270.6,2, -999,9,3.669,2,1.966,2
  06MT20110624,   A02,746,1,15,15,2,20110708,1126,48.5005,-32.0168,4215,1023.1, 4.6999,34.9524,2,   -999,9,258.4,2, -999,9,3.231,2,1.705,2
  06MT20110624,   A02,746,1,16,16,2,20110708,1126,48.5005,-32.0168,4215, 894.9, 5.3000,34.9920,2,   -999,9,240.7,2, -999,9,2.939,2,1.551,2
  06MT20110624,   A02,746,1,17,17,2,20110708,1126,48.5005,-32.0168,4215, 799.6, 5.8939,35.0063,2,   -999,9,224.0,2, -999,9,2.825,2,1.523,2
  06MT20110624,   A02,746,1,18,18,2,20110708,1126,48.5005,-32.0168,4215, 705.4, 6.8888,35.0364,2,   -999,9,202.2,2, -999,9,2.492,2,1.325,2
  06MT20110624,   A02,746,1,19,19,2,20110708,1126,48.5005,-32.0168,4215, 613.9, 7.7408,35.0136,2,   -999,9,194.0,2, -999,9,2.451,2,1.335,2
  06MT20110624,   A02,746,1,20,20,2,20110708,1126,48.5005,-32.0168,4215, 498.0, 9.2992,35.1431,2,   -999,9,229.0,2,238.8,2,2.998,2,1.709,2
  06MT20110624,   A02,746,1,21,21,2,20110708,1126,48.5005,-32.0168,4215, 278.5,11.3523,35.4848,2,   -999,9,250.4,2, -999,9,2.972,2,1.749,2
  06MT20110624,   A02,746,1,22,22,2,20110708,1126,48.5005,-32.0168,4215,  11.1,13.7136,35.4637,2,   -999,9,266.3,2,266.8,2,2.923,6,1.697,6
  06MT20110624,   A02,748,1, 1, 1,2,20110708,1608,48.2497,-31.7160,3863,3922.0, 2.4241,34.9021,2,34.9046,2,277.7,2,278.3,2,2.203,2,1.085,2
  06MT20110624,   A02,748,1, 2, 2,2,20110708,1608,48.2497,-31.7160,3863,3798.9, 2.4832,34.9062,2,   -999,9,278.1,2, -999,9,2.161,2,1.064,2
  06MT20110624,   A02,748,1, 3, 3,2,20110708,1608,48.2497,-31.7160,3863,3596.3, 2.5962,34.9121,2,   -999,9,276.9,2, -999,9, -999,9, -999,9
  06MT20110624,   A02,748,1, 4, 4,2,20110708,1608,48.2497,-31.7160,3863,3298.9, 2.7935,34.9189,2,   -999,9,276.1,2, -999,9, -999,9, -999,9
  06MT20110624,   A02,748,1, 5, 5,2,20110708,1608,48.2497,-31.7160,3863,2993.7, 2.9572,34.9196,2,34.9191,2,276.0,2, -999,9, -999,9, -999,9
  06MT20110624,   A02,748,1, 6, 6,2,20110708,1608,48.2497,-31.7160,3863,2688.5, 3.1470,34.9165,2,   -999,9,275.2,2, -999,9, -999,9, -999,9
  06MT20110624,   A02,748,1, 7, 7,2,20110708,1608,48.2497,-31.7160,3863,2498.1, 3.2492,34.9148,2,   -999,9,275.4,2,276.5,2,2.585,2,1.291,2
  06MT20110624,   A02,748,1, 8, 8,2,20110708,1608,48.2497,-31.7160,3863,2297.6, 3.3659,34.9137,2,   -999,9,274.8,2, -999,9,2.702,2,1.380,2
  06MT20110624,   A02,748,1, 9, 9,2,20110708,1608,48.2497,-31.7160,3863,2098.2, 3.4933,34.9146,2,   -999,9,274.0,2, -999,9, -999,9, -999,9
  06MT20110624,   A02,748,1,10,10,2,20110708,1608,48.2497,-31.7160,3863,1902.7, 3.6231,34.9165,2,   -999,9,273.4,2, -999,9,2.918,2,1.436,2
  06MT20110624,   A02,748,1,11,11,2,20110708,1608,48.2497,-31.7160,3863,1697.3, 3.7596,34.9149,2,   -999,9,274.2,2, -999,9,3.287,2,1.658,2
  06MT20110624,   A02,748,1,12,12,2,20110708,1608,48.2497,-31.7160,3863,1487.6, 3.8922,34.9122,2,   -999,9,275.5,2, -999,9,3.632,2,1.868,2
  06MT20110624,   A02,748,1,13,13,2,20110708,1608,48.2497,-31.7160,3863,1398.2, 3.9912,34.9160,2,   -999,9,274.6,2, -999,9,3.697,2,1.921,2
  06MT20110624,   A02,748,1,14,14,2,20110708,1608,48.2497,-31.7160,3863,1293.4, 4.1214,34.9253,2,   -999,9,271.2,2,272.3,6,3.684,2,1.930,2
  06MT20110624,   A02,748,1,15,15,2,20110708,1608,48.2497,-31.7160,3863,1193.6, 4.2721,34.9317,2,34.9305,2,269.9,2, -999,9,3.688,2,1.949,2
  06MT20110624,   A02,748,1,16,16,2,20110708,1608,48.2497,-31.7160,3863,1085.3, 4.4453,34.9383,2,   -999,9,266.5,2, -999,9,3.660,2,1.937,2
  06MT20110624,   A02,748,1,17,17,2,20110708,1608,48.2497,-31.7160,3863, 977.3, 4.7743,34.9571,2,   -999,9,256.7,2, -999,9,3.450,2,1.841,2
  06MT20110624,   A02,748,1,18,18,2,20110708,1608,48.2497,-31.7160,3863, 789.6, 5.9203,35.0052,2,   -999,9,222.6,2, -999,9, -999,9, -999,9
  06MT20110624,   A02,748,1,19,19,2,20110708,1608,48.2497,-31.7160,3863, 600.2, 7.9079,35.0248,2,   -999,9,200.3,2, -999,9,2.597,2,1.409,2
  06MT20110624,   A02,748,1,20,20,2,20110708,1608,48.2497,-31.7160,3863, 414.7,10.8852,35.3971,2,   -999,9,245.6,2,245.0,2, -999,9, -999,9
  06MT20110624,   A02,748,1,21,21,2,20110708,1608,48.2497,-31.7160,3863, 204.5,11.5655,35.5139,2,35.5127,2,253.0,2,253.9,2,3.086,2,1.805,2
  06MT20110624,   A02,748,1,22,22,2,20110708,1608,48.2497,-31.7160,3863,  12.8,13.7684,35.4707,2,35.4724,2,267.6,2,268.0,2, -999,9, -999,9