BOTTLE,20231122CCHSIOVAJ
EXPOCODE,SECT_ID,STNNBR,CASTNO,SAMPNO,BTLNBR,BTLNBR_FLAG_W,DATE,TIME,LATITUDE,LONGITUDE,DEPTH,CTDPRS,CTDTMP,CTDSAL,CTDSAL_FLAG_W,SALNTY,SALNTY_FLAG_W,CTDOXY,CTDOXY_FLAG_W,OXYGEN,OXYGEN_FLAG_W,CFC-11,CFC-11_FLAG_W,CFC-12,CFC-12_FLAG_W
,,,,,,,,,,,METERS,DBAR,ITS-90,PSS-78,,PSS-78,,UMOL/KG,,UMOL/KG,,PMOL/KG,,PMOL/KG,
  06MT20110624,   A02,756,1, 1, 1,2,20110710,1120,47.3740,-35.9160,4333,4399.5, 2.2560,34.8962,2,34.8971,2,283.1,2,282.8,2, -999,9, -999,9
  06MT20110624,   A02,756,1, 2, 2,2,20110710,1120,47.3740,-35.9160,4333,4198.2, 2.2841,34.8960,2,   -999,9,280.4,2, -999,9,2.353,2,1.189,2
  06MT20110624,   A02,756,1, 3, 3,2,20110710,1120,47.3740,-35.9160,4333,3896.3, 2.3271,34.8988,2,   -999,9,278.8,2, -999,9,2.118,2,1.056,2
  06MT20110624,   A02,756,1, 4, 4,2,20110710,1120,47.3740,-35.9160,4333,3615.7, 2.4909,34.9063,2,   -999,9,277.4,2, -999,9,1.993,2,0.991,2
  06MT20110624,   A02,756,1, 5, 5,2,20110710,1120,47.3740,-35.9160,4333,3295.6, 2.7561,34.9179,2,   -999,9,276.8,2,277.9,2,2.085,6,1.091,6
  06MT20110624,   A02,756,1, 6, 6,2,20110710,1120,47.3740,-35.9160,4333,2979.5, 2.9561,34.9192,2,34.9197,2,276.9,2, -999,9,2.267,2,1.171,2
  06MT20110624,   A02,756,1, 7, 7,2,20110710,1120,47.3740,-35.9160,4333,2716.7, 3.1271,34.9177,2,   -999,9,277.1,2, -999,9,2.372,2,1.205,2
  06MT20110624,   A02,756,1, 8, 8,2,20110710,1120,47.3740,-35.9160,4333,2420.5, 3.3015,34.9121,2,   -999,9,276.7,2,276.9,2,2.598,2,1.318,2
  06MT20110624,   A02,756,1, 9, 9,2,20110710,1120,47.3740,-35.9160,4333,2124.0, 3.4783,34.9139,2,   -999,9,274.4,2, -999,9,2.708,2,1.377,2
  06MT20110624,   A02,756,1,10,10,2,20110710,1120,47.3740,-35.9160,4333,1797.7, 3.7154,34.9196,2,   -999,9,273.4,2, -999,9,3.126,2,1.632,2
  06MT20110624,   A02,756,1,11,11,2,20110710,1120,47.3740,-35.9160,4333,1582.1, 3.8540,34.9161,2,   -999,9,274.9,2,274.8,2,3.357,2,1.793,2
  06MT20110624,   A02,756,1,12,12,2,20110710,1120,47.3740,-35.9160,4333,1398.5, 3.9981,34.9214,2,   -999,9,274.0,2, -999,9,3.467,2,1.868,2
  06MT20110624,   A02,756,1,13,13,2,20110710,1120,47.3740,-35.9160,4333,1306.1, 4.0900,34.9276,2,   -999,9,271.9,2, -999,9, -999,9, -999,9
  06MT20110624,   A02,756,1,14,14,2,20110710,1120,47.3740,-35.9160,4333,1214.4, 4.2464,34.9366,2,34.9333,3,269.1,2, -999,9,3.477,2,1.896,2
  06MT20110624,   A02,756,1,15,15,2,20110710,1120,47.3740,-35.9160,4333,1105.1, 4.4433,34.9492,2,   -999,9,265.6,2, -999,9,3.427,2,1.883,2
  06MT20110624,   A02,756,1,16,16,2,20110710,1120,47.3740,-35.9160,4333,1016.7, 4.7456,34.9732,2,   -999,9,256.6,2, -999,9,3.244,2,1.787,2
  06MT20110624,   A02,756,1,17,17,2,20110710,1120,47.3740,-35.9160,4333, 906.4, 5.2186,35.0088,2,   -999,9,243.3,2, -999,9,3.006,2,1.652,2
  06MT20110624,   A02,756,1,18,18,2,20110710,1120,47.3740,-35.9160,4333, 690.6, 6.3957,34.9974,2,   -999,9,209.2,2, -999,9,2.533,2,1.401,2
  06MT20110624,   A02,756,1,19,19,2,20110710,1120,47.3740,-35.9160,4333, 475.9, 9.0216,35.1025,2,   -999,9,213.6,2, -999,9,2.404,2,1.360,2
  06MT20110624,   A02,756,1,20,20,2,20110710,1120,47.3740,-35.9160,4333, 289.5,11.5155,35.5089,2,   -999,9,237.7,2,238.0,6,2.765,2,1.645,2
  06MT20110624,   A02,756,1,21,21,2,20110710,1120,47.3740,-35.9160,4333, 101.7,12.8856,35.6109,2,   -999,9,234.4,2, -999,9, -999,9, -999,9
  06MT20110624,   A02,756,1,22,22,2,20110710,1120,47.3740,-35.9160,4333,  10.1,14.9862,35.2726,2,35.2733,2,265.0,2,264.8,2,2.690,2,1.633,2
  06MT20110624,   A02,757,1, 1, 1,2,20110710,1853,47.2905,-37.1563,4456,4538.3, 2.2386,34.8959,2,34.8983,2,283.9,2,283.5,2,2.700,2,1.411,2
  06MT20110624,   A02,757,1, 2, 2,2,20110710,1853,47.2905,-37.1563,4456,4299.2, 2.2761,34.8957,2,   -999,9,280.2,2, -999,9,2.342,2,1.217,2
  06MT20110624,   A02,757,1, 3, 3,2,20110710,1853,47.2905,-37.1563,4456,3998.4, 2.3543,34.8992,2,   -999,9,278.5,2, -999,9,2.076,2,1.058,2
  06MT20110624,   A02,757,1, 4, 4,2,20110710,1853,47.2905,-37.1563,4456,3698.5, 2.5320,34.9077,2,   -999,9,277.0,2,278.8,2,1.975,2,0.989,2
  06MT20110624,   A02,757,1, 5, 5,2,20110710,1853,47.2905,-37.1563,4456,3372.7, 2.7825,34.9166,2,   -999,9,276.7,2, -999,9,2.103,2,1.063,2
  06MT20110624,   A02,757,1, 6, 6,2,20110710,1853,47.2905,-37.1563,4456,3095.5, 2.9724,34.9173,2,   -999,9,277.1,2, -999,9,2.316,2,1.153,2
  06MT20110624,   A02,757,1, 7, 7,2,20110710,1853,47.2905,-37.1563,4456,2798.4, 3.1589,34.9155,2,   -999,9,276.7,2,278.0,2,2.491,2,1.264,2
  06MT20110624,   A02,757,1, 8, 8,2,20110710,1853,47.2905,-37.1563,4456,2499.0, 3.3638,34.9137,2,34.9152,2,276.4,2, -999,9,2.750,2,1.362,2
  06MT20110624,   A02,757,1, 9, 9,2,20110710,1853,47.2905,-37.1563,4456,2200.0, 3.5834,34.9195,2,   -999,9,274.3,2, -999,9,3.047,2,1.534,2
  06MT20110624,   A02,757,1,10,10,2,20110710,1853,47.2905,-37.1563,4456,1920.9, 3.7806,34.9209,2,   -999,9,273.7,2, -999,9,3.653,3,1.961,3
  06MT20110624,   A02,757,1,11,11,2,20110710,1853,47.2905,-37.1563,4456,1699.2, 3.8561,34.9101,2,   -999,9,277.1,2, -999,9,3.645,2,1.919,2
  06MT20110624,   A02,757,1,12,12,2,20110710,1853,47.2905,-37.1563,4456,1498.3, 4.0241,34.9139,2,   -999,9,277.4,2,278.6,2,3.803,2,2.031,2
  06MT20110624,   A02,757,1,13,13,2,20110710,1853,47.2905,-37.1563,4456,1379.2, 4.2128,34.9320,2,   -999,9,272.0,2, -999,9,3.687,2,1.953,2
  06MT20110624,   A02,757,1,14,14,2,20110710,1853,47.2905,-37.1563,4456,1298.1, 4.3297,34.9349,2,   -999,9,271.1,2, -999,9,3.700,2,1.973,2
  06MT20110624,   A02,757,1,15,15,2,20110710,1853,47.2905,-37.1563,4456,1100.8, 4.8134,34.9600,2,   -999,9,255.8,2, -999,9,3.455,2,1.864,2
  06MT20110624,   A02,757,1,16,16,2,20110710,1853,47.2905,-37.1563,4456, 999.3, 5.2306,34.9731,2,   -999,9,241.9,2, -999,9,3.117,2,1.685,2
  06MT20110624,   A02,757,1,17,17,2,20110710,1853,47.2905,-37.1563,4456, 793.3, 7.1538,35.0465,2,   -999,9,193.3,2, -999,9,2.279,6,1.235,6
  06MT20110624,   A02,757,1,18,18,2,20110710,1853,47.2905,-37.1563,4456, 498.1,11.2160,35.4579,2,   -999,9,242.3,2,241.1,2,2.774,2,1.663,2
  06MT20110624,   A02,757,1,19,19,2,20110710,1853,47.2905,-37.1563,4456, 191.5,12.5720,35.6287,2,35.6380,2,238.5,2, -999,9,2.702,2,1.652,2
  06MT20110624,   A02,757,1,20,20,2,20110710,1853,47.2905,-37.1563,4456,  13.8,15.5526,35.6869,2,35.6942,2,255.7,2, -999,9,2.493,2,1.552,2
  06MT20110624,   A02,757,1,21,21,2,20110710,1853,47.2905,-37.1563,4456,  14.3,15.8040,35.6929,2,   -999,9,254.5,2,255.5,6, -999,9, -999,9
  06MT20110624,   A02,757,1,22,22,2,20110710,1853,47.2905,-37.1563,4456,  14.3,15.7998,35.6866,2,   -999,9,255.1,2, -999,9, -999,9, -999,9
  06MT20110624,   A02,758,1, 1, 1,2,20110711,0237,47.2298,-38.2993,4589,4680.7, 2.2446,34.8960,2,34.8973,2,285.3,2,285.7,2,2.760,2,1.469,2
  06MT20110624,   A02,758,1, 2, 2,2,20110711,0237,47.2298,-38.2993,4589,4404.2, 2.2964,34.8965,2,   -999,9,280.2,2, -999,9, -999,9, -999,9
  06MT20110624,   A02,758,1, 3, 3,2,20110711,0237,47.2298,-38.2993,4589,4101.6, 2.3747,34.8997,2,   -999,9,278.8,2, -999,9,2.057,2,1.072,2
  06MT20110624,   A02,758,1, 4, 4,2,20110711,0237,47.2298,-38.2993,4589,3795.8, 2.5505,34.9082,2,   -999,9,278.2,2, -999,9,2.052,2,1.044,2
  06MT20110624,   A02,758,1, 5, 5,2,20110711,0237,47.2298,-38.2993,4589,3498.9, 2.7919,34.9161,2,   -999,9,277.2,2,278.3,2,2.175,2,1.116,2
  06MT20110624,   A02,758,1, 6, 6,2,20110711,0237,47.2298,-38.2993,4589,3189.4, 2.9728,34.9179,2,   -999,9,277.0,2, -999,9,2.283,2,1.169,2
  06MT20110624,   A02,758,1, 7, 7,2,20110711,0237,47.2298,-38.2993,4589,2885.4, 3.1512,34.9167,2,34.9176,2,277.3,2, -999,9,2.519,2,1.266,2
  06MT20110624,   A02,758,1, 8, 8,2,20110711,0237,47.2298,-38.2993,4589,2580.4, 3.3323,34.9136,2,   -999,9,276.0,2,276.6,2,2.578,2,1.295,2
  06MT20110624,   A02,758,1, 9, 9,2,20110711,0237,47.2298,-38.2993,4589,2289.6, 3.5271,34.9176,2,   -999,9,274.8,2, -999,9,2.845,2,1.425,2
  06MT20110624,   A02,758,1,10,10,2,20110711,0237,47.2298,-38.2993,4589,2005.2, 3.7512,34.9206,2,   -999,9,273.1,2, -999,9,3.087,2,1.600,2
  06MT20110624,   A02,758,1,11,11,2,20110711,0237,47.2298,-38.2993,4589,1954.2, 3.7793,34.9185,2,   -999,9,274.7,2, -999,9,3.187,2,1.627,2
  06MT20110624,   A02,758,1,12,12,2,20110711,0237,47.2298,-38.2993,4589,1605.3, 3.9847,34.9143,2,   -999,9,276.9,2,278.2,2, -999,9, -999,9
  06MT20110624,   A02,758,1,13,13,2,20110711,0237,47.2298,-38.2993,4589,1502.5, 4.0894,34.9179,2,   -999,9,276.6,2, -999,9,3.822,6,2.038,6
  06MT20110624,   A02,758,1,14,14,2,20110711,0237,47.2298,-38.2993,4589,1397.1, 4.1752,34.9195,2,   -999,9,277.1,2, -999,9,3.902,2,2.077,2
  06MT20110624,   A02,758,1,15,15,2,20110711,0237,47.2298,-38.2993,4589,1201.0, 4.4260,34.9273,2,   -999,9,271.4,2, -999,9, -999,9, -999,9
  06MT20110624,   A02,758,1,16,16,2,20110711,0237,47.2298,-38.2993,4589, 989.6, 5.2837,34.9457,2,34.9561,2,240.0,2, -999,9,3.119,2,1.689,2
  06MT20110624,   A02,758,1,17,17,2,20110711,0237,47.2298,-38.2993,4589, 796.1, 7.3927,35.0190,2,   -999,9,187.0,2, -999,9,2.289,2,1.317,2
  06MT20110624,   A02,758,1,18,18,2,20110711,0237,47.2298,-38.2993,4589, 611.0,10.2742,35.3000,2,   -999,9,237.7,2, -999,9,2.847,2,1.650,2
  06MT20110624,   A02,758,1,19,19,2,20110711,0237,47.2298,-38.2993,4589, 404.5,11.4857,35.5058,2,   -999,9,245.0,2,249.7,6,2.909,2,1.710,2
  06MT20110624,   A02,758,1,20,20,2,20110711,0237,47.2298,-38.2993,4589, 197.3,12.4643,35.6544,2,   -999,9,242.4,2, -999,9,2.747,2,1.682,2
  06MT20110624,   A02,758,1,21,21,2,20110711,0237,47.2298,-38.2993,4589,  12.2,15.7229,35.6630,2,   -999,9,255.3,2, -999,9,2.642,2,1.659,2
  06MT20110624,   A02,758,1,22,22,2,20110711,0237,47.2298,-38.2993,4589,  12.2,15.7099,35.6582,2,35.6713,2,255.4,2,257.4,2, -999,9, -999,9
  06MT20110624,   A02,761,1, 1, 1,2,20110711,1503,47.1778,-39.1905,4582,4672.1, 2.1693,34.8955,2,34.8989,2,289.5,2,288.1,2,3.206,2,1.673,2
  06MT20110624,   A02,761,1, 2, 2,2,20110711,1503,47.1778,-39.1905,4582,4497.7, 2.2313,34.8947,2,   -999,9,283.0,2, -999,9,2.653,2,1.375,2
  06MT20110624,   A02,761,1, 3, 3,2,20110711,1503,47.1778,-39.1905,4582,4187.5, 2.2978,34.8969,2,   -999,9,280.7,2, -999,9,2.350,2,1.209,2
  06MT20110624,   A02,761,1, 4, 4,2,20110711,1503,47.1778,-39.1905,4582,3898.3, 2.4081,34.9019,2,   -999,9,277.9,2, -999,9,2.049,2,1.045,2
  06MT20110624,   A02,761,1, 5, 5,2,20110711,1503,47.1778,-39.1905,4582,3602.3, 2.6236,34.9114,2,34.9130,2,277.4,2, -999,9,2.071,2,1.061,2
  06MT20110624,   A02,761,1, 6, 6,2,20110711,1503,47.1778,-39.1905,4582,3301.9, 2.8485,34.9177,2,   -999,9,276.7,2,276.9,2,2.136,2,1.075,2
  06MT20110624,   A02,761,1, 7, 7,2,20110711,1503,47.1778,-39.1905,4582,2997.8, 3.0304,34.9177,2,   -999,9,276.9,2, -999,9,2.318,6,1.162,6
  06MT20110624,   A02,761,1, 8, 8,2,20110711,1503,47.1778,-39.1905,4582,2706.9, 3.2303,34.9189,2,   -999,9,276.7,2, -999,9,2.482,2,1.304,2
  06MT20110624,   A02,761,1, 9, 9,2,20110711,1503,47.1778,-39.1905,4582,2399.6, 3.4293,34.9228,2,   -999,9,274.6,2,275.1,2,2.558,2,1.270,2
  06MT20110624,   A02,761,1,10,10,2,20110711,1503,47.1778,-39.1905,4582,2100.1, 3.6577,34.9298,2,   -999,9,272.2,2, -999,9,2.750,2,1.445,2
  06MT20110624,   A02,761,1,11,11,2,20110711,1503,47.1778,-39.1905,4582,1898.5, 3.7986,34.9330,2,   -999,9,271.7,2, -999,9,2.998,2,1.537,2
  06MT20110624,   A02,761,1,12,12,2,20110711,1503,47.1778,-39.1905,4582,1698.3, 3.9490,34.9346,2,34.9333,2,271.6,2, -999,9,3.219,2,1.792,2
  06MT20110624,   A02,761,1,13,13,2,20110711,1503,47.1778,-39.1905,4582,1490.6, 4.1749,34.9475,2,   -999,9,269.5,2,269.9,2,3.382,2,1.786,2
  06MT20110624,   A02,761,1,14,14,2,20110711,1503,47.1778,-39.1905,4582,1326.1, 4.4685,34.9709,2,   -999,9,264.5,2, -999,9,3.439,2,1.813,2
  06MT20110624,   A02,761,1,15,15,2,20110711,1503,47.1778,-39.1905,4582,1187.8, 4.6876,34.9766,2,   -999,9,260.0,2, -999,9,3.352,2,1.848,2
  06MT20110624,   A02,761,1,16,16,2,20110711,1503,47.1778,-39.1905,4582,1108.2, 4.9555,34.9917,2,   -999,9,252.2,2, -999,9,3.234,2,1.721,2
  06MT20110624,   A02,761,1,17,17,2,20110711,1503,47.1778,-39.1905,4582,1017.5, 5.4200,35.0253,2,   -999,9,237.7,2, -999,9, -999,9, -999,9
  06MT20110624,   A02,761,1,18,18,2,20110711,1503,47.1778,-39.1905,4582, 919.4, 5.8750,35.0222,2,   -999,9,221.3,2, -999,9,2.612,2,1.455,2
  06MT20110624,   A02,761,1,19,19,2,20110711,1503,47.1778,-39.1905,4582, 707.6, 7.6791,35.0278,2,   -999,9,183.8,2, -999,9,2.229,2,1.205,2
  06MT20110624,   A02,761,1,20,20,2,20110711,1503,47.1778,-39.1905,4582, 484.3,11.1287,35.4474,2,   -999,9,244.6,2, -999,9,2.953,2,1.798,2
  06MT20110624,   A02,761,1,21,21,2,20110711,1503,47.1778,-39.1905,4582, 289.6,12.0637,35.5907,2,   -999,9,239.1,2,237.2,2,2.730,2,1.667,2
  06MT20110624,   A02,761,1,22,22,2,20110711,1503,47.1778,-39.1905,4582,  14.8,15.9635,35.5034,2,   -999,9,254.0,2,253.4,6,2.585,2,1.555,2
  06MT20110624,   A02,763,1, 1, 1,2,20110711,2336,47.1338,-40.2562,4555,4635.8, 2.2151,34.8963,2,34.8938,2,286.7,2,285.0,2,2.933,6,1.527,6
  06MT20110624,   A02,763,1, 2, 2,2,20110711,2336,47.1338,-40.2562,4555,4399.5, 2.2190,34.8963,2,   -999,9,284.6,2, -999,9,2.335,2,1.198,2
  06MT20110624,   A02,763,1, 3, 3,2,20110711,2336,47.1338,-40.2562,4555,4099.0, 2.2564,34.8961,2,   -999,9,280.7,2, -999,9,2.801,3,1.516,3
  06MT20110624,   A02,763,1, 4, 4,2,20110711,2336,47.1338,-40.2562,4555,3734.8, 2.4042,34.9025,2,   -999,9,278.3,2, -999,9,2.086,2,1.069,2
  06MT20110624,   A02,763,1, 5, 5,2,20110711,2336,47.1338,-40.2562,4555,3501.8, 2.5585,34.9097,2,   -999,9,278.3,2,277.8,2,2.061,2,1.060,2
  06MT20110624,   A02,763,1, 6, 6,2,20110711,2336,47.1338,-40.2562,4555,3202.1, 2.8059,34.9182,2,   -999,9,276.8,2, -999,9,2.044,2,1.060,2
  06MT20110624,   A02,763,1, 7, 7,2,20110711,2336,47.1338,-40.2562,4555,2902.7, 2.9875,34.9185,2,   -999,9,278.5,2, -999,9,2.369,2,1.243,2
  06MT20110624,   A02,763,1, 8, 8,2,20110711,2336,47.1338,-40.2562,4555,2598.7, 3.1689,34.9170,2,34.9168,2,277.0,2, -999,9, -999,9, -999,9
  06MT20110624,   A02,763,1, 9, 9,2,20110711,2336,47.1338,-40.2562,4555,2296.0, 3.3518,34.9190,2,   -999,9,276.1,2,276.2,2,2.642,2,1.381,2
  06MT20110624,   A02,763,1,10,10,2,20110711,2336,47.1338,-40.2562,4555,2003.7, 3.5465,34.9238,2,   -999,9,274.0,2, -999,9,2.733,2,1.437,2
  06MT20110624,   A02,763,1,11,11,2,20110711,2336,47.1338,-40.2562,4555,1797.3, 3.7423,34.9351,2,   -999,9,271.6,2, -999,9,2.773,2,1.422,2
  06MT20110624,   A02,763,1,12,12,2,20110711,2336,47.1338,-40.2562,4555,1590.8, 3.9020,34.9361,2,   -999,9,271.7,2,270.7,2,3.079,2,1.624,2
  06MT20110624,   A02,763,1,13,13,2,20110711,2336,47.1338,-40.2562,4555,1511.3, 3.9493,34.9363,2,   -999,9,271.3,2, -999,9,3.154,2,1.693,2
  06MT20110624,   A02,763,1,14,14,2,20110711,2336,47.1338,-40.2562,4555,1402.4, 4.0268,34.9366,2,   -999,9,272.0,2, -999,9,3.518,2,1.852,2
  06MT20110624,   A02,763,1,15,15,2,20110711,2336,47.1338,-40.2562,4555,1307.3, 4.0761,34.9334,2,   -999,9,272.7,2, -999,9,3.300,3,1.735,3
  06MT20110624,   A02,763,1,16,16,2,20110711,2336,47.1338,-40.2562,4555,1208.8, 4.1645,34.9346,2,   -999,9,273.3,2, -999,9,3.676,2,2.019,2
  06MT20110624,   A02,763,1,17,17,2,20110711,2336,47.1338,-40.2562,4555,1099.5, 4.3975,34.9566,2,   -999,9,268.7,2, -999,9,3.413,3,1.830,3
  06MT20110624,   A02,763,1,18,18,2,20110711,2336,47.1338,-40.2562,4555,1004.6, 4.3310,34.9271,2,   -999,9,277.3,2,275.4,2,3.852,2,2.127,2
  06MT20110624,   A02,763,1,19,19,2,20110711,2336,47.1338,-40.2562,4555, 817.9, 4.8665,34.9649,2,34.9620,2,254.4,2, -999,9,3.276,2,1.737,2
  06MT20110624,   A02,763,1,20,20,2,20110711,2336,47.1338,-40.2562,4555, 604.1, 5.9827,34.9755,2,   -999,9,215.4,2, -999,9,2.650,2,1.431,2
  06MT20110624,   A02,763,1,21,21,2,20110711,2336,47.1338,-40.2562,4555, 223.7,10.5335,35.2673,2,   -999,9,223.5,2, -999,9,2.720,2,1.580,2
  06MT20110624,   A02,763,1,22,22,2,20110711,2336,47.1338,-40.2562,4555,  13.1,15.4713,34.8847,2,   -999,9,257.1,2,256.1,6,2.731,2,1.643,2
  06MT20110624,   A02,764,1, 1, 1,2,20110712,0618,47.0912,-40.9950,4493,4569.3, 2.1199,34.8953,2,34.8955,2,290.5,2,289.0,2,3.457,2,1.847,2
  06MT20110624,   A02,764,1, 2, 2,2,20110712,0618,47.0912,-40.9950,4493,4298.8, 2.2165,34.8966,2,   -999,9,284.5,2, -999,9,2.726,2,1.318,2
  06MT20110624,   A02,764,1, 3, 3,2,20110712,0618,47.0912,-40.9950,4493,3996.9, 2.2798,34.8975,2,   -999,9,280.7,2, -999,9, -999,9, -999,9
  06MT20110624,   A02,764,1, 4, 4,2,20110712,0618,47.0912,-40.9950,4493,3710.3, 2.4314,34.9041,2,   -999,9,279.1,2,279.2,2,2.186,2,1.075,2
  06MT20110624,   A02,764,1, 5, 5,2,20110712,0618,47.0912,-40.9950,4493,3399.2, 2.6597,34.9136,2,   -999,9,277.1,2, -999,9,2.075,2,1.048,2
  06MT20110624,   A02,764,1, 6, 6,2,20110712,0618,47.0912,-40.9950,4493,3130.0, 2.8592,34.9182,2,34.9156,2,276.8,2, -999,9,2.210,2,1.133,2
  06MT20110624,   A02,764,1, 7, 7,2,20110712,0618,47.0912,-40.9950,4493,2826.8, 3.0568,34.9181,2,   -999,9,276.7,2, -999,9, -999,9, -999,9
  06MT20110624,   A02,764,1, 8, 8,2,20110712,0618,47.0912,-40.9950,4493,2498.5, 3.2426,34.9158,2,   -999,9,276.8,2, -999,9,2.556,2,1.283,2
  06MT20110624,   A02,764,1, 9, 9,2,20110712,0618,47.0912,-40.9950,4493,2196.8, 3.4553,34.9171,2,   -999,9,275.4,2, -999,9,2.855,2,1.454,2
  06MT20110624,   A02,764,1,10,10,2,20110712,0618,47.0912,-40.9950,4493,1899.7, 3.6834,34.9241,2,   -999,9,274.1,2,273.8,2,3.098,2,1.588,2
  06MT20110624,   A02,764,1,11,11,2,20110712,0618,47.0912,-40.9950,4493,1692.2, 3.7455,34.9081,2,   -999,9,278.8,2, -999,9,3.632,2,1.908,2
  06MT20110624,   A02,764,1,12,12,2,20110712,0618,47.0912,-40.9950,4493,1612.5, 3.8166,34.9137,2,   -999,9,276.5,2, -999,9,3.731,2,1.990,2
  06MT20110624,   A02,764,1,13,13,2,20110712,0618,47.0912,-40.9950,4493,1528.2, 4.0050,34.9322,2,34.9181,3,272.8,2, -999,9,3.546,2,1.912,2
  06MT20110624,   A02,764,1,14,14,2,20110712,0618,47.0912,-40.9950,4493,1420.6, 4.1425,34.9410,2,   -999,9,271.1,2,271.4,6,3.402,2,1.863,2
  06MT20110624,   A02,764,1,15,15,2,20110712,0618,47.0912,-40.9950,4493,1321.2, 4.1931,34.9364,2,   -999,9,272.5,2, -999,9,3.498,2,1.909,2
  06MT20110624,   A02,764,1,16,16,2,20110712,0618,47.0912,-40.9950,4493,1221.7, 4.3614,34.9481,2,   -999,9,268.1,2, -999,9,3.458,6,1.885,6
  06MT20110624,   A02,764,1,17,17,2,20110712,0618,47.0912,-40.9950,4493,1129.0, 4.4366,34.9409,2,   -999,9,268.3,2, -999,9,3.534,2,1.968,2
  06MT20110624,   A02,764,1,18,18,2,20110712,0618,47.0912,-40.9950,4493, 876.0, 5.4049,34.9858,2,   -999,9,235.2,2, -999,9,2.965,2,1.632,2
  06MT20110624,   A02,764,1,19,19,2,20110712,0618,47.0912,-40.9950,4493, 560.4, 9.8804,35.2445,2,   -999,9,206.2,2,191.5,2,2.271,2,1.315,2
  06MT20110624,   A02,764,1,20,20,2,20110712,0618,47.0912,-40.9950,4493, 199.1,12.4354,35.6668,2,35.3342,3,244.7,2, -999,9,2.739,2,1.641,2
  06MT20110624,   A02,764,1,21,21,2,20110712,0618,47.0912,-40.9950,4493,  13.7,15.7624,35.3305,2,   -999,9,259.0,2, -999,9,2.620,2,1.615,2
  06MT20110624,   A02,764,1,22,22,2,20110712,0618,47.0912,-40.9950,4493,  13.2,15.7619,35.3308,2,   -999,9,258.9,2,259.2,2, -999,9, -999,9