BOTTLE,20231122CCHSIOVAJ
EXPOCODE,SECT_ID,STNNBR,CASTNO,SAMPNO,BTLNBR,BTLNBR_FLAG_W,DATE,TIME,LATITUDE,LONGITUDE,DEPTH,CTDPRS,CTDTMP,CTDSAL,CTDSAL_FLAG_W,SALNTY,SALNTY_FLAG_W,CTDOXY,CTDOXY_FLAG_W,OXYGEN,OXYGEN_FLAG_W,CFC-11,CFC-11_FLAG_W,CFC-12,CFC-12_FLAG_W
,,,,,,,,,,,METERS,DBAR,ITS-90,PSS-78,,PSS-78,,UMOL/KG,,UMOL/KG,,PMOL/KG,,PMOL/KG,
  06MT20110624,   A02,841,1, 1, 1,2,20110729,1537,55.5070,-53.2605,3017,3062.0, 1.6923,34.8928,2,34.8941,2,298.2,2,299.7,2,3.973,2,2.092,2
  06MT20110624,   A02,841,1, 2, 2,2,20110729,1537,55.5070,-53.2605,3017,2900.7, 2.0638,34.8985,2,   -999,9,293.2,2, -999,9,3.618,2,1.951,2
  06MT20110624,   A02,841,1, 3, 3,2,20110729,1537,55.5070,-53.2605,3017,2586.6, 2.6190,34.9144,2,   -999,9,284.9,2, -999,9,2.965,2,1.471,2
  06MT20110624,   A02,841,1, 4, 4,2,20110729,1537,55.5070,-53.2605,3017,2297.9, 2.9337,34.9170,2,   -999,9,282.3,2,284.3,2,3.101,2,1.572,2
  06MT20110624,   A02,841,1, 5, 5,2,20110729,1537,55.5070,-53.2605,3017,1999.0, 3.2821,34.9183,2,   -999,9,280.7,2, -999,9,3.327,6,1.725,6
  06MT20110624,   A02,841,1, 6, 6,2,20110729,1537,55.5070,-53.2605,3017,1799.2, 3.4777,34.9203,2,34.9225,2,278.8,2, -999,9,3.393,2,1.717,2
  06MT20110624,   A02,841,1, 7, 7,2,20110729,1537,55.5070,-53.2605,3017,1598.4, 3.6445,34.9172,2,   -999,9,278.8,2,282.7,3,3.528,2,1.787,2
  06MT20110624,   A02,841,1, 8, 8,2,20110729,1537,55.5070,-53.2605,3017,1425.0, 3.6833,34.9020,2,   -999,9,282.2,2, -999,9, -999,9, -999,9
  06MT20110624,   A02,841,1, 9, 9,2,20110729,1537,55.5070,-53.2605,3017,1198.4, 3.6977,34.8793,2,   -999,9,287.8,2, -999,9,4.220,2,2.267,2
  06MT20110624,   A02,841,1,10,10,2,20110729,1537,55.5070,-53.2605,3017,1015.3, 3.7571,34.8769,2,   -999,9,298.6,2,297.1,6,4.470,2,2.530,2
  06MT20110624,   A02,841,1,11,11,2,20110729,1537,55.5070,-53.2605,3017, 769.0, 3.8492,34.8809,2,34.8820,2,295.9,2, -999,9,4.364,2,2.362,2
  06MT20110624,   A02,841,1,12,12,2,20110729,1537,55.5070,-53.2605,3017, 719.2, 3.8738,34.8806,2,   -999,9,296.8,2,298.8,2,4.422,2,2.442,2
  06MT20110624,   A02,841,1,13,13,2,20110729,1537,55.5070,-53.2605,3017, 583.6, 3.9197,34.8822,2,   -999,9,297.9,2, -999,9,4.405,2,2.423,2
  06MT20110624,   A02,841,1,14,14,2,20110729,1537,55.5070,-53.2605,3017, 499.1, 3.9389,34.8816,2,   -999,9,298.0,2,297.8,2,4.436,2,2.456,2
  06MT20110624,   A02,841,1,15,15,2,20110729,1537,55.5070,-53.2605,3017, 399.0, 3.9531,34.8787,2,   -999,9,296.7,2, -999,9, -999,9, -999,9
  06MT20110624,   A02,841,1,16,16,2,20110729,1537,55.5070,-53.2605,3017, 226.2, 3.9906,34.8671,2,   -999,9,296.4,2, -999,9,4.297,2,2.310,2
  06MT20110624,   A02,841,1,17,17,2,20110729,1537,55.5070,-53.2605,3017,  13.6, 8.2354,34.4278,2,   -999,9,311.0,2,324.9,2, -999,9, -999,9
  06MT20110624,   A02,841,1,18,18,2,20110729,1537,55.5070,-53.2605,3017,  12.8, 8.3297,34.3910,2,   -999,9,314.7,2, -999,9, -999,9, -999,9
  06MT20110624,   A02,841,1,19,19,2,20110729,1537,55.5070,-53.2605,3017,  13.1, 8.2960,34.4250,2,   -999,9,313.5,2, -999,9, -999,9, -999,9
  06MT20110624,   A02,841,1,20,20,2,20110729,1537,55.5070,-53.2605,3017,  13.3, 8.2976,34.4309,2,   -999,9,312.0,2, -999,9, -999,9, -999,9
  06MT20110624,   A02,841,1,21,21,2,20110729,1537,55.5070,-53.2605,3017,  13.0, 8.3318,34.4183,2,   -999,9,313.8,2, -999,9, -999,9, -999,9
  06MT20110624,   A02,841,1,22,22,2,20110729,1537,55.5070,-53.2605,3017,  13.4, 8.0122,34.4076,2,   -999,9,312.7,2, -999,9, -999,9, -999,9
  06MT20110624,   A02,842,1, 1, 1,2,20110729,1933,55.2828,-53.5045,2657,2692.7, 2.4698,34.9099,2,34.9089,2,286.5,2,286.7,2,3.184,2,1.621,2
  06MT20110624,   A02,842,1, 2, 2,2,20110729,1933,55.2828,-53.5045,2657,2690.8, 2.4711,34.9096,2,   -999,9,286.8,2, -999,9, -999,9, -999,9
  06MT20110624,   A02,842,1, 3, 3,2,20110729,1933,55.2828,-53.5045,2657,2598.0, 2.4671,34.9099,2,   -999,9,286.2,2, -999,9,3.182,2,1.638,2
  06MT20110624,   A02,842,1, 4, 4,2,20110729,1933,55.2828,-53.5045,2657,2594.1, 2.4673,34.9097,2,   -999,9,286.2,2, -999,9, -999,9, -999,9
  06MT20110624,   A02,842,1, 5, 5,2,20110729,1933,55.2828,-53.5045,2657,2506.3, 2.4559,34.9103,2,   -999,9,286.1,2,286.7,2,3.208,2,1.653,2
  06MT20110624,   A02,842,1, 6, 6,2,20110729,1933,55.2828,-53.5045,2657,2506.3, 2.4562,34.9103,2,   -999,9,286.1,2, -999,9, -999,9, -999,9
  06MT20110624,   A02,842,1, 7, 7,2,20110729,1933,55.2828,-53.5045,2657,2298.8, 2.6916,34.9173,2,34.9154,2,282.9,2, -999,9,3.009,2,1.503,2
  06MT20110624,   A02,842,1, 8, 8,2,20110729,1933,55.2828,-53.5045,2657,2085.2, 2.9488,34.9170,2,   -999,9,282.5,2,283.1,2,3.105,2,1.558,2
  06MT20110624,   A02,842,1, 9, 9,2,20110729,1933,55.2828,-53.5045,2657,1887.4, 3.3079,34.9192,2,   -999,9,280.4,2, -999,9,3.374,2,1.718,2
  06MT20110624,   A02,842,1,10,10,2,20110729,1933,55.2828,-53.5045,2657,1702.6, 3.5484,34.9196,2,   -999,9,278.1,2, -999,9,3.465,2,1.764,2
  06MT20110624,   A02,842,1,11,11,2,20110729,1933,55.2828,-53.5045,2657,1508.5, 3.5864,34.9144,2,   -999,9,277.8,2,278.0,2,3.470,2,1.764,2
  06MT20110624,   A02,842,1,12,12,2,20110729,1933,55.2828,-53.5045,2657,1294.4, 3.6972,34.9022,2,   -999,9,282.5,2, -999,9,3.937,2,2.041,2
  06MT20110624,   A02,842,1,13,13,2,20110729,1933,55.2828,-53.5045,2657,1094.3, 3.7476,34.8778,2,34.8851,3,292.0,2, -999,9,4.295,2,2.298,2
  06MT20110624,   A02,842,1,14,14,2,20110729,1933,55.2828,-53.5045,2657, 909.0, 3.8094,34.8798,2,   -999,9,294.8,2,296.6,2,4.449,2,2.417,2
  06MT20110624,   A02,842,1,15,15,2,20110729,1933,55.2828,-53.5045,2657, 828.6, 3.8869,34.8882,2,   -999,9,291.8,2, -999,9, -999,9, -999,9
  06MT20110624,   A02,842,1,16,16,2,20110729,1933,55.2828,-53.5045,2657, 716.8, 3.9390,34.8893,2,   -999,9,293.7,2, -999,9,4.423,2,2.411,2
  06MT20110624,   A02,842,1,17,17,2,20110729,1933,55.2828,-53.5045,2657, 579.1, 3.9644,34.8875,2,   -999,9,296.1,2, -999,9, -999,9, -999,9
  06MT20110624,   A02,842,1,18,18,2,20110729,1933,55.2828,-53.5045,2657, 471.3, 3.9246,34.8785,2,   -999,9,296.7,2,295.8,2,4.237,2,2.348,2
  06MT20110624,   A02,842,1,19,19,2,20110729,1933,55.2828,-53.5045,2657, 328.5, 3.9438,34.8757,2,   -999,9,296.9,2, -999,9,4.298,2,2.432,2
  06MT20110624,   A02,842,1,20,20,2,20110729,1933,55.2828,-53.5045,2657, 183.9, 3.8649,34.8413,2,   -999,9,299.5,2, -999,9, -999,9, -999,9
  06MT20110624,   A02,842,1,21,21,2,20110729,1933,55.2828,-53.5045,2657,  98.3, 3.8985,34.8085,2,   -999,9,304.6,2, -999,9,4.619,2,2.570,2
  06MT20110624,   A02,842,1,22,22,2,20110729,1933,55.2828,-53.5045,2657,  11.2, 8.9955,34.3216,2,34.3454,3,308.8,2,308.1,2,4.077,2,2.395,2
  06MT20110624,   A02,843,1, 1, 1,2,20110729,2303,55.0947,-53.7047,1564,1574.5, 3.5919,34.9183,2,34.9207,2,278.4,2,278.5,2,3.515,2,1.784,2
  06MT20110624,   A02,843,1, 2, 2,2,20110729,2303,55.0947,-53.7047,1564,1571.6, 3.5911,34.9181,2,   -999,9,279.2,2, -999,9, -999,9, -999,9
  06MT20110624,   A02,843,1, 3, 3,2,20110729,2303,55.0947,-53.7047,1564,1501.2, 3.5997,34.9183,2,   -999,9,278.8,2, -999,9,3.562,6,1.880,6
  06MT20110624,   A02,843,1, 4, 4,2,20110729,2303,55.0947,-53.7047,1564,1501.0, 3.6010,34.9186,2,   -999,9,278.8,2,277.5,2, -999,9, -999,9
  06MT20110624,   A02,843,1, 5, 5,2,20110729,2303,55.0947,-53.7047,1564,1409.9, 3.6304,34.9184,2,34.9178,2,279.1,2, -999,9, -999,9, -999,9
  06MT20110624,   A02,843,1, 6, 6,2,20110729,2303,55.0947,-53.7047,1564,1298.1, 3.7005,34.9117,2,   -999,9,280.6,2, -999,9, -999,9, -999,9
  06MT20110624,   A02,843,1, 7, 7,2,20110729,2303,55.0947,-53.7047,1564,1294.3, 3.7002,34.9118,2,   -999,9,280.5,2, -999,9, -999,9, -999,9
  06MT20110624,   A02,843,1, 8, 8,2,20110729,2303,55.0947,-53.7047,1564,1187.4, 3.7443,34.9036,2,   -999,9,282.4,2,282.6,2,3.914,2,2.060,2
  06MT20110624,   A02,843,1, 9, 9,2,20110729,2303,55.0947,-53.7047,1564,1091.7, 3.8334,34.8972,2,   -999,9,285.3,2, -999,9, -999,9, -999,9
  06MT20110624,   A02,843,1,10,10,2,20110729,2303,55.0947,-53.7047,1564,1086.3, 3.8421,34.8969,2,   -999,9,286.1,2, -999,9, -999,9, -999,9
  06MT20110624,   A02,843,1,11,11,2,20110729,2303,55.0947,-53.7047,1564,1009.2, 3.8753,34.8932,2,   -999,9,288.8,2, -999,9,4.216,2,2.308,2
  06MT20110624,   A02,843,1,12,12,2,20110729,2303,55.0947,-53.7047,1564, 876.3, 3.9022,34.8903,2,   -999,9,292.4,2, -999,9, -999,9, -999,9
  06MT20110624,   A02,843,1,13,13,2,20110729,2303,55.0947,-53.7047,1564, 798.7, 3.9355,34.8928,2,   -999,9,292.1,2,291.8,2,4.263,2,2.340,2
  06MT20110624,   A02,843,1,14,14,2,20110729,2303,55.0947,-53.7047,1564, 700.6, 3.9616,34.8901,2,   -999,9,294.8,2, -999,9,4.343,2,2.428,2
  06MT20110624,   A02,843,1,15,15,2,20110729,2303,55.0947,-53.7047,1564, 699.7, 3.9615,34.8903,2,   -999,9,294.3,2, -999,9, -999,9, -999,9
  06MT20110624,   A02,843,1,16,16,2,20110729,2303,55.0947,-53.7047,1564, 598.4, 4.0019,34.8911,2,34.8918,2,295.1,2, -999,9,4.305,2,2.336,2
  06MT20110624,   A02,843,1,17,17,2,20110729,2303,55.0947,-53.7047,1564, 498.5, 4.0081,34.8879,2,   -999,9,295.2,2, -999,9, -999,9, -999,9
  06MT20110624,   A02,843,1,18,18,2,20110729,2303,55.0947,-53.7047,1564, 396.5, 4.0111,34.8844,2,   -999,9,295.3,2, -999,9,4.347,2,2.392,2
  06MT20110624,   A02,843,1,19,19,2,20110729,2303,55.0947,-53.7047,1564, 298.0, 4.0332,34.8808,2,   -999,9,294.1,2, -999,9, -999,9, -999,9
  06MT20110624,   A02,843,1,20,20,2,20110729,2303,55.0947,-53.7047,1564, 185.2, 4.0892,34.8584,2,   -999,9,290.9,2,289.5,6,4.304,2,2.408,2
  06MT20110624,   A02,843,1,21,21,2,20110729,2303,55.0947,-53.7047,1564, 101.6, 4.1233,34.7981,2,   -999,9,297.9,2, -999,9, -999,9, -999,9
  06MT20110624,   A02,843,1,22,22,2,20110729,2303,55.0947,-53.7047,1564,  10.8, 8.5175,34.1410,2,34.2338,3,315.2,2,317.2,2,4.200,2,2.315,2
  06MT20110624,   A02,844,1, 1, 1,2,20110730,0155,54.9078,-53.9052, 446, 437.7, 4.3171,34.8466,2,34.8418,2,283.3,2,287.8,2, -999,9, -999,9
  06MT20110624,   A02,844,1, 2, 2,2,20110730,0155,54.9078,-53.9052, 446, 438.4, 4.3123,34.8464,2,   -999,9,283.7,2, -999,9,4.233,2,2.309,2
  06MT20110624,   A02,844,1, 3, 3,2,20110730,0155,54.9078,-53.9052, 446, 438.4, 4.3135,34.8462,2,   -999,9,283.4,2, -999,9, -999,9, -999,9
  06MT20110624,   A02,844,1, 4, 4,2,20110730,0155,54.9078,-53.9052, 446, 438.2, 4.3140,34.8463,2,   -999,9,283.6,2, -999,9, -999,9, -999,9
  06MT20110624,   A02,844,1, 5, 5,2,20110730,0155,54.9078,-53.9052, 446, 438.2, 4.3151,34.8464,2,   -999,9,283.7,2, -999,9, -999,9, -999,9
  06MT20110624,   A02,844,1, 6, 6,2,20110730,0155,54.9078,-53.9052, 446, 438.0, 4.3157,34.8467,2,   -999,9,283.6,2, -999,9, -999,9, -999,9
  06MT20110624,   A02,844,1, 7, 7,2,20110730,0155,54.9078,-53.9052, 446, 437.9, 4.3171,34.8463,2,   -999,9,283.1,2, -999,9, -999,9, -999,9
  06MT20110624,   A02,844,1, 8, 8,2,20110730,0155,54.9078,-53.9052, 446, 438.5, 4.3128,34.8464,2,   -999,9,283.4,2, -999,9, -999,9, -999,9
  06MT20110624,   A02,844,1, 9, 9,2,20110730,0155,54.9078,-53.9052, 446, 397.8, 4.4006,34.8476,2,   -999,9,283.1,2, -999,9, -999,9, -999,9
  06MT20110624,   A02,844,1,10,10,2,20110730,0155,54.9078,-53.9052, 446, 393.5, 4.4067,34.8472,2,   -999,9,282.8,2, -999,9,4.239,2,2.345,2
  06MT20110624,   A02,844,1,11,11,2,20110730,0155,54.9078,-53.9052, 446, 383.0, 4.4132,34.8467,2,   -999,9,283.6,2,282.4,6, -999,9, -999,9
  06MT20110624,   A02,844,1,12,12,2,20110730,0155,54.9078,-53.9052, 446, 347.9, 4.4158,34.8421,2,   -999,9,282.0,2, -999,9, -999,9, -999,9
  06MT20110624,   A02,844,1,13,13,2,20110730,0155,54.9078,-53.9052, 446, 345.2, 4.4161,34.8418,2,   -999,9,282.5,2, -999,9, -999,9, -999,9
  06MT20110624,   A02,844,1,14,14,2,20110730,0155,54.9078,-53.9052, 446, 297.9, 4.4056,34.8362,2,34.8371,2,282.5,2, -999,9,4.236,6,2.333,6
  06MT20110624,   A02,844,1,15,15,2,20110730,0155,54.9078,-53.9052, 446, 288.5, 4.4115,34.8355,2,   -999,9,283.1,2, -999,9, -999,9, -999,9
  06MT20110624,   A02,844,1,16,16,2,20110730,0155,54.9078,-53.9052, 446, 248.8, 4.4176,34.8340,2,   -999,9,283.4,2,281.5,2, -999,9, -999,9
  06MT20110624,   A02,844,1,17,17,2,20110730,0155,54.9078,-53.9052, 446, 246.8, 4.4153,34.8335,2,   -999,9,282.8,2, -999,9, -999,9, -999,9
  06MT20110624,   A02,844,1,18,18,2,20110730,0155,54.9078,-53.9052, 446, 199.5, 4.4172,34.8312,2,34.8322,2,282.8,2, -999,9,4.248,2,2.345,2
  06MT20110624,   A02,844,1,19,19,2,20110730,0155,54.9078,-53.9052, 446, 112.9, 4.0527,34.6789,2,   -999,9,294.2,2, -999,9, -999,9, -999,9
  06MT20110624,   A02,844,1,20,20,2,20110730,0155,54.9078,-53.9052, 446, 113.0, 4.0547,34.6808,2,   -999,9,294.2,2, -999,9, -999,9, -999,9
  06MT20110624,   A02,844,1,21,21,2,20110730,0155,54.9078,-53.9052, 446,  11.8, 5.7071,33.2052,2,   -999,9,356.7,2,356.0,2,4.951,2,2.672,2
  06MT20110624,   A02,844,1,22,22,2,20110730,0155,54.9078,-53.9052, 446,  11.7, 5.7165,33.1960,2,   -999,9,355.2,2, -999,9, -999,9, -999,9
  06MT20110624,   A02,845,1, 1, 1,2,20110731,0703,52.2688,-48.5338,3637,3694.4, 1.7521,34.8913,2,   -999,9,299.0,2,297.0,2,4.065,2,2.102,2
  06MT20110624,   A02,845,1, 2, 2,2,20110731,0703,52.2688,-48.5338,3637,3401.4, 2.0992,34.8984,2,   -999,9,292.4,2, -999,9,3.499,2,1.781,2
  06MT20110624,   A02,845,1, 3, 3,2,20110731,0703,52.2688,-48.5338,3637,3108.5, 2.4455,34.9098,2,   -999,9,283.2,2, -999,9,2.617,2,1.298,2
  06MT20110624,   A02,845,1, 4, 4,2,20110731,0703,52.2688,-48.5338,3637,2793.3, 2.7505,34.9239,2,   -999,9,280.2,2,279.6,2,2.551,2,1.272,2
  06MT20110624,   A02,845,1, 5, 5,2,20110731,0703,52.2688,-48.5338,3637,2498.3, 2.9380,34.9209,2,   -999,9,280.2,2, -999,9,2.679,2,1.351,2
  06MT20110624,   A02,845,1, 6, 6,2,20110731,0703,52.2688,-48.5338,3637,2199.6, 3.1372,34.9163,2,   -999,9,278.9,2, -999,9,2.857,6,1.435,6
  06MT20110624,   A02,845,1, 7, 7,2,20110731,0703,52.2688,-48.5338,3637,1902.1, 3.3483,34.9164,2,   -999,9,279.5,2,279.2,2,3.124,2,1.598,2
  06MT20110624,   A02,845,1, 8, 8,2,20110731,0703,52.2688,-48.5338,3637,1598.6, 3.5880,34.9209,2,   -999,9,276.2,2, -999,9,3.108,2,1.607,2
  06MT20110624,   A02,845,1, 9, 9,2,20110731,0703,52.2688,-48.5338,3637,1397.0, 3.7074,34.9181,2,   -999,9,276.1,2, -999,9,3.333,2,1.716,2
  06MT20110624,   A02,845,1,10,10,2,20110731,0703,52.2688,-48.5338,3637,1200.4, 3.7199,34.9025,2,   -999,9,281.1,2,279.7,2,3.777,2,1.994,2
  06MT20110624,   A02,845,1,11,11,2,20110731,0703,52.2688,-48.5338,3637,1006.4, 3.8118,34.8986,2,   -999,9,281.2,2, -999,9,3.950,2,2.126,2
  06MT20110624,   A02,845,1,12,12,2,20110731,0703,52.2688,-48.5338,3637, 799.6, 3.9777,34.9062,2,   -999,9,282.2,2,281.0,2,4.004,2,2.201,2
  06MT20110624,   A02,845,1,13,13,2,20110731,0703,52.2688,-48.5338,3637, 610.2, 4.1605,34.9127,2,   -999,9,280.1,2, -999,9,4.040,2,2.249,2
  06MT20110624,   A02,845,1,14,14,2,20110731,0703,52.2688,-48.5338,3637, 418.1, 4.3477,34.9043,2,   -999,9,275.4,2, -999,9,3.916,2,2.136,2
  06MT20110624,   A02,845,1,15,15,2,20110731,0703,52.2688,-48.5338,3637, 189.4, 4.7868,34.7566,2,   -999,9,271.0,2, -999,9,3.799,2,2.141,2
  06MT20110624,   A02,845,1,16,16,2,20110731,0703,52.2688,-48.5338,3637,  12.3,10.8101,34.2434,2,   -999,9,293.7,2,292.7,6,3.576,2,2.065,2
  06MT20110624,   A02,845,1,17,17,2,20110731,0703,52.2688,-48.5338,3637,  12.3,10.8119,34.2435,2,   -999,9,292.5,2, -999,9, -999,9, -999,9
  06MT20110624,   A02,845,1,18,18,2,20110731,0703,52.2688,-48.5338,3637,  12.1,10.8338,34.2473,2,   -999,9,293.4,2, -999,9, -999,9, -999,9
  06MT20110624,   A02,845,1,19,19,2,20110731,0703,52.2688,-48.5338,3637,  12.1,10.8653,34.2477,2,   -999,9,293.4,2, -999,9, -999,9, -999,9
  06MT20110624,   A02,845,1,20,20,2,20110731,0703,52.2688,-48.5338,3637,  12.3,10.8550,34.2452,2,   -999,9,293.4,2, -999,9, -999,9, -999,9
  06MT20110624,   A02,845,1,21,21,2,20110731,0703,52.2688,-48.5338,3637,  12.2,10.8579,34.2459,2,   -999,9,293.4,2, -999,9, -999,9, -999,9
  06MT20110624,   A02,845,1,22,22,2,20110731,0703,52.2688,-48.5338,3637,  12.1,10.8637,34.2464,2,   -999,9,293.1,2, -999,9, -999,9, -999,9
  06MT20110624,   A02,846,1, 1, 1,2,20110731,1316,51.8503,-49.3158,3008,3048.8, 2.1327,34.9005,2,   -999,9,292.5,2,292.4,2,3.516,2,1.805,2
  06MT20110624,   A02,846,1, 2, 2,2,20110731,1316,51.8503,-49.3158,3008,2898.1, 2.1985,34.9026,2,   -999,9,290.8,2, -999,9,3.482,2,1.809,2
  06MT20110624,   A02,846,1, 3, 3,2,20110731,1316,51.8503,-49.3158,3008,2719.3, 2.3266,34.9062,2,   -999,9,288.7,2, -999,9,3.344,6,1.747,6
  06MT20110624,   A02,846,1, 4, 4,2,20110731,1316,51.8503,-49.3158,3008,2498.9, 2.5405,34.9122,2,   -999,9,285.3,2,285.2,2,3.044,2,1.524,2
  06MT20110624,   A02,846,1, 5, 5,2,20110731,1316,51.8503,-49.3158,3008,2289.5, 2.8096,34.9174,2,   -999,9,282.7,2, -999,9,3.010,2,1.564,2
  06MT20110624,   A02,846,1, 6, 6,2,20110731,1316,51.8503,-49.3158,3008,2083.5, 3.0117,34.9161,2,   -999,9,280.8,2, -999,9,2.910,2,1.460,2
  06MT20110624,   A02,846,1, 7, 7,2,20110731,1316,51.8503,-49.3158,3008,1898.6, 3.1462,34.9148,2,   -999,9,279.6,2, -999,9,2.996,2,1.522,2
  06MT20110624,   A02,846,1, 8, 8,2,20110731,1316,51.8503,-49.3158,3008,1688.0, 3.3550,34.9163,2,   -999,9,279.1,2,279.1,2,3.216,2,1.642,2
  06MT20110624,   A02,846,1, 9, 9,2,20110731,1316,51.8503,-49.3158,3008,1498.1, 3.5212,34.9186,2,   -999,9,278.1,2, -999,9,3.392,2,1.709,2
  06MT20110624,   A02,846,1,10,10,2,20110731,1316,51.8503,-49.3158,3008,1298.8, 3.6518,34.9129,2,   -999,9,277.1,2,277.0,2,3.426,2,1.763,2
  06MT20110624,   A02,846,1,11,11,2,20110731,1316,51.8503,-49.3158,3008,1097.8, 3.6895,34.8988,2,   -999,9,280.8,2, -999,9,3.808,2,2.014,2
  06MT20110624,   A02,846,1,12,12,2,20110731,1316,51.8503,-49.3158,3008, 868.5, 3.7045,34.8827,2,   -999,9,284.8,2, -999,9,4.050,2,2.134,2
  06MT20110624,   A02,846,1,13,13,2,20110731,1316,51.8503,-49.3158,3008, 820.1, 3.7768,34.8897,2,   -999,9,283.5,2, -999,9, -999,9, -999,9
  06MT20110624,   A02,846,1,14,14,2,20110731,1316,51.8503,-49.3158,3008, 667.6, 3.8274,34.8843,2,   -999,9,285.7,2,284.2,2,4.102,6,2.184,6
  06MT20110624,   A02,846,1,15,15,2,20110731,1316,51.8503,-49.3158,3008, 601.1, 3.8962,34.8934,2,   -999,9,283.9,2, -999,9, -999,9, -999,9
  06MT20110624,   A02,846,1,16,16,2,20110731,1316,51.8503,-49.3158,3008, 498.9, 4.0302,34.8991,2,   -999,9,283.2,2, -999,9,4.124,2,2.245,2
  06MT20110624,   A02,846,1,17,17,2,20110731,1316,51.8503,-49.3158,3008, 408.2, 4.1160,34.8978,2,   -999,9,279.9,2,281.2,2,4.152,2,2.307,2
  06MT20110624,   A02,846,1,18,18,2,20110731,1316,51.8503,-49.3158,3008, 299.8, 4.2226,34.8972,2,   -999,9,278.1,2, -999,9, -999,9, -999,9
  06MT20110624,   A02,846,1,19,19,2,20110731,1316,51.8503,-49.3158,3008, 200.5, 4.0123,34.8384,2,   -999,9,289.5,2, -999,9, -999,9, -999,9
  06MT20110624,   A02,846,1,20,20,2,20110731,1316,51.8503,-49.3158,3008,  99.0, 4.0468,34.7460,2,   -999,9,296.8,2, -999,9,4.211,2,2.292,2
  06MT20110624,   A02,846,1,21,21,2,20110731,1316,51.8503,-49.3158,3008,  12.7, 9.8048,34.1626,2,   -999,9,303.4,2,302.4,6,3.827,2,2.157,2
  06MT20110624,   A02,846,1,22,22,2,20110731,1316,51.8503,-49.3158,3008,  12.5,10.0390,34.1736,2,   -999,9,302.0,2, -999,9, -999,9, -999,9