BOTTLE,20231122CCHSIOVAJ
EXPOCODE,SECT_ID,STNNBR,CASTNO,SAMPNO,BTLNBR,BTLNBR_FLAG_W,DATE,TIME,LATITUDE,LONGITUDE,DEPTH,CTDPRS,CTDTMP,CTDSAL,CTDSAL_FLAG_W,SALNTY,SALNTY_FLAG_W,CTDOXY,CTDOXY_FLAG_W,OXYGEN,OXYGEN_FLAG_W,CFC-11,CFC-11_FLAG_W,CFC-12,CFC-12_FLAG_W
,,,,,,,,,,,METERS,DBAR,ITS-90,PSS-78,,PSS-78,,UMOL/KG,,UMOL/KG,,PMOL/KG,,PMOL/KG,
  06MT20110624,   A02,815,1, 1, 1,2,20110723,0945,59.3908,-43.8955,1052,1058.5, 4.4907,34.9418,2,34.9437,2,284.1,2, -999,9,3.992,2,2.206,2
  06MT20110624,   A02,815,1, 2, 2,2,20110723,0945,59.3908,-43.8955,1052,1058.0, 4.4952,34.9425,2,   -999,9,284.0,2,281.9,2, -999,9, -999,9
  06MT20110624,   A02,815,1, 3, 3,2,20110723,0945,59.3908,-43.8955,1052, 936.8, 4.6448,34.9482,2,   -999,9,284.1,2, -999,9,3.980,2,2.147,2
  06MT20110624,   A02,815,1, 4, 4,2,20110723,0945,59.3908,-43.8955,1052, 936.7, 4.6482,34.9499,2,   -999,9,284.0,2, -999,9, -999,9, -999,9
  06MT20110624,   A02,815,1, 5, 5,2,20110723,0945,59.3908,-43.8955,1052, 897.0, 4.7503,34.9546,2,   -999,9,284.3,2, -999,9,3.987,2,2.166,2
  06MT20110624,   A02,815,1, 6, 6,2,20110723,0945,59.3908,-43.8955,1052, 896.5, 4.7533,34.9545,2,   -999,9,284.3,2, -999,9, -999,9, -999,9
  06MT20110624,   A02,815,1, 7, 7,2,20110723,0945,59.3908,-43.8955,1052, 809.5, 4.8665,34.9610,2,   -999,9,285.2,2, -999,9,4.007,2,2.212,2
  06MT20110624,   A02,815,1, 8, 8,2,20110723,0945,59.3908,-43.8955,1052, 809.3, 4.8703,34.9598,2,   -999,9,285.1,2,282.2,2, -999,9, -999,9
  06MT20110624,   A02,815,1, 9, 9,2,20110723,0945,59.3908,-43.8955,1052, 699.6, 5.0448,34.9671,2,34.9709,2,283.9,2, -999,9,4.074,2,2.257,2
  06MT20110624,   A02,815,1,10,10,2,20110723,0945,59.3908,-43.8955,1052, 699.1, 5.0448,34.9670,2,   -999,9,284.1,2, -999,9, -999,9, -999,9
  06MT20110624,   A02,815,1,11,11,2,20110723,0945,59.3908,-43.8955,1052, 619.8, 5.1744,34.9639,2,   -999,9,284.9,2, -999,9,4.100,2,2.253,2
  06MT20110624,   A02,815,1,12,12,2,20110723,0945,59.3908,-43.8955,1052, 616.2, 5.1785,34.9638,2,   -999,9,285.7,2,284.3,2, -999,9, -999,9
  06MT20110624,   A02,815,1,13,13,2,20110723,0945,59.3908,-43.8955,1052, 503.4, 5.2700,34.9599,2,   -999,9,286.2,2, -999,9,4.149,6,2.281,6
  06MT20110624,   A02,815,1,14,14,2,20110723,0945,59.3908,-43.8955,1052, 503.4, 5.2699,34.9599,2,   -999,9,286.3,2, -999,9, -999,9, -999,9
  06MT20110624,   A02,815,1,15,15,2,20110723,0945,59.3908,-43.8955,1052, 399.0, 5.3503,34.9277,2,34.9378,3,288.9,2, -999,9,4.207,2,2.291,2
  06MT20110624,   A02,815,1,16,16,2,20110723,0945,59.3908,-43.8955,1052, 397.4, 5.3503,34.9275,2,   -999,9,289.1,2,289.1,2, -999,9, -999,9
  06MT20110624,   A02,815,1,17,17,2,20110723,0945,59.3908,-43.8955,1052, 316.8, 5.3251,34.8887,2,   -999,9,291.3,2, -999,9,4.309,2,2.397,2
  06MT20110624,   A02,815,1,18,18,2,20110723,0945,59.3908,-43.8955,1052, 316.5, 5.3254,34.8880,2,   -999,9,291.4,2, -999,9, -999,9, -999,9
  06MT20110624,   A02,815,1,19,19,2,20110723,0945,59.3908,-43.8955,1052, 191.0, 5.4409,34.8403,2,   -999,9,298.8,2, -999,9,4.324,2,2.353,2
  06MT20110624,   A02,815,1,20,20,2,20110723,0945,59.3908,-43.8955,1052,  99.8, 5.8337,34.7149,2,   -999,9,305.2,2, -999,9,4.371,2,2.526,2
  06MT20110624,   A02,815,1,21,21,2,20110723,0945,59.3908,-43.8955,1052,  11.3, 4.8025,34.5052,2,34.5105,2,310.4,2, -999,9,4.545,2,2.452,2
  06MT20110624,   A02,815,1,22,22,2,20110723,0945,59.3908,-43.8955,1052,  11.3, 4.8058,34.5050,2,   -999,9,310.4,2,312.4,2, -999,9, -999,9
  06MT20110624,   A02,816,1, 1, 1,2,20110723,1520,58.7065,-44.5865,1902,1921.6, 2.4610,34.8942,2,34.8936,2,290.1,2,291.3,2, -999,9, -999,9
  06MT20110624,   A02,816,1, 2, 2,2,20110723,1520,58.7065,-44.5865,1902,1921.7, 2.4608,34.8950,2,   -999,9,290.4,2, -999,9, -999,9, -999,9
  06MT20110624,   A02,816,1, 3, 3,2,20110723,1520,58.7065,-44.5865,1902,1800.9, 2.6994,34.8985,2,   -999,9,286.6,2, -999,9,3.583,2,1.871,2
  06MT20110624,   A02,816,1, 4, 4,2,20110723,1520,58.7065,-44.5865,1902,1700.3, 2.8538,34.9030,2,   -999,9,286.0,2, -999,9,3.580,2,2.012,3
  06MT20110624,   A02,816,1, 5, 5,2,20110723,1520,58.7065,-44.5865,1902,1601.8, 3.0196,34.9032,2,   -999,9,285.1,2,286.5,2,3.550,2,1.801,2
  06MT20110624,   A02,816,1, 6, 6,2,20110723,1520,58.7065,-44.5865,1902,1498.8, 3.2758,34.9199,2,   -999,9,279.5,2, -999,9,3.337,2,1.733,2
  06MT20110624,   A02,816,1, 7, 7,2,20110723,1520,58.7065,-44.5865,1902,1401.0, 3.3846,34.9213,2,   -999,9,278.7,2, -999,9,3.353,2,1.713,2
  06MT20110624,   A02,816,1, 8, 8,2,20110723,1520,58.7065,-44.5865,1902,1305.6, 3.5015,34.9240,2,   -999,9,277.4,2, -999,9,3.291,2,1.697,2
  06MT20110624,   A02,816,1, 9, 9,2,20110723,1520,58.7065,-44.5865,1902,1210.4, 3.5625,34.9255,2,   -999,9,276.6,2,277.8,2,3.389,2,1.791,2
  06MT20110624,   A02,816,1,10,10,2,20110723,1520,58.7065,-44.5865,1902,1108.2, 3.6714,34.9229,2,   -999,9,277.1,2, -999,9, -999,9, -999,9
  06MT20110624,   A02,816,1,11,11,2,20110723,1520,58.7065,-44.5865,1902, 999.0, 3.7466,34.9198,2,   -999,9,278.6,2, -999,9,3.676,2,1.884,2
  06MT20110624,   A02,816,1,12,12,2,20110723,1520,58.7065,-44.5865,1902, 909.4, 3.7898,34.9123,2,34.9130,2,280.8,2, -999,9, -999,9, -999,9
  06MT20110624,   A02,816,1,13,13,2,20110723,1520,58.7065,-44.5865,1902, 773.0, 3.8414,34.8998,2,   -999,9,282.8,2, -999,9, -999,9, -999,9
  06MT20110624,   A02,816,1,14,14,2,20110723,1520,58.7065,-44.5865,1902, 712.4, 4.0114,34.9150,2,   -999,9,281.9,2,282.9,6, -999,9, -999,9
  06MT20110624,   A02,816,1,15,15,2,20110723,1520,58.7065,-44.5865,1902, 625.9, 4.2135,34.9263,2,   -999,9,280.3,2, -999,9, -999,9, -999,9
  06MT20110624,   A02,816,1,16,16,2,20110723,1520,58.7065,-44.5865,1902, 495.7, 4.4722,34.9397,2,   -999,9,283.4,2, -999,9,3.985,2,2.157,2
  06MT20110624,   A02,816,1,17,17,2,20110723,1520,58.7065,-44.5865,1902, 416.3, 4.7285,34.9613,2,   -999,9,281.2,2, -999,9,4.027,2,2.224,2
  06MT20110624,   A02,816,1,18,18,2,20110723,1520,58.7065,-44.5865,1902, 311.4, 4.9778,34.9819,2,34.9801,2,283.9,2,284.6,2, -999,9, -999,9
  06MT20110624,   A02,816,1,19,19,2,20110723,1520,58.7065,-44.5865,1902, 174.9, 5.3702,35.0022,2,   -999,9,283.4,2, -999,9,4.086,2,2.286,2
  06MT20110624,   A02,816,1,20,20,2,20110723,1520,58.7065,-44.5865,1902, 162.7, 5.4035,35.0017,2,   -999,9,284.1,2, -999,9, -999,9, -999,9
  06MT20110624,   A02,816,1,21,21,2,20110723,1520,58.7065,-44.5865,1902,  12.5, 7.1514,34.8529,2,   -999,9,299.2,2,301.1,2,4.131,2,2.370,2
  06MT20110624,   A02,816,1,22,22,2,20110723,1520,58.7065,-44.5865,1902,  12.2, 7.1552,34.8482,2,   -999,9,299.8,2, -999,9, -999,9, -999,9
  06MT20110624,   A02,817,1, 1, 1,2,20110723,2130,57.9908,-45.2760,2344,2369.5, 2.0313,34.8964,2,34.8983,2,292.6,2,294.2,2, -999,9, -999,9
  06MT20110624,   A02,817,1, 2, 2,2,20110723,2130,57.9908,-45.2760,2344,2370.4, 2.0321,34.8959,2,   -999,9,292.7,2, -999,9,3.796,2,1.954,2
  06MT20110624,   A02,817,1, 3, 3,2,20110723,2130,57.9908,-45.2760,2344,2301.0, 2.0995,34.8840,2,   -999,9,293.6,2, -999,9, -999,9, -999,9
  06MT20110624,   A02,817,1, 4, 4,2,20110723,2130,57.9908,-45.2760,2344,2199.4, 2.4522,34.9164,2,   -999,9,281.0,2, -999,9,2.729,2,1.387,2
  06MT20110624,   A02,817,1, 5, 5,2,20110723,2130,57.9908,-45.2760,2344,2097.4, 2.6123,34.9190,2,   -999,9,279.8,2, -999,9,2.908,6,1.481,6
  06MT20110624,   A02,817,1, 6, 6,2,20110723,2130,57.9908,-45.2760,2344,1998.6, 2.7666,34.9327,2,   -999,9,277.5,2,276.8,2,2.565,2,1.289,2
  06MT20110624,   A02,817,1, 7, 7,2,20110723,2130,57.9908,-45.2760,2344,1800.1, 2.9201,34.9116,2,   -999,9,280.9,2, -999,9,3.180,2,1.635,2
  06MT20110624,   A02,817,1, 8, 8,2,20110723,2130,57.9908,-45.2760,2344,1598.4, 3.1841,34.9144,2,   -999,9,279.0,2, -999,9,3.153,2,1.595,2
  06MT20110624,   A02,817,1, 9, 9,2,20110723,2130,57.9908,-45.2760,2344,1396.5, 3.3904,34.9156,2,   -999,9,277.7,2,278.8,2,3.283,2,1.662,2
  06MT20110624,   A02,817,1,10,10,2,20110723,2130,57.9908,-45.2760,2344,1298.7, 3.5411,34.9184,2,   -999,9,276.9,2, -999,9,3.388,2,1.701,2
  06MT20110624,   A02,817,1,11,11,2,20110723,2130,57.9908,-45.2760,2344,1190.6, 3.6312,34.9144,2,   -999,9,277.3,2, -999,9,3.613,2,1.891,2
  06MT20110624,   A02,817,1,12,12,2,20110723,2130,57.9908,-45.2760,2344,1098.6, 3.6741,34.9047,2,34.9048,2,279.8,2, -999,9,3.864,2,2.035,2
  06MT20110624,   A02,817,1,13,13,2,20110723,2130,57.9908,-45.2760,2344, 971.6, 3.6410,34.8840,2,   -999,9,284.1,2,283.8,6,4.103,2,2.190,2
  06MT20110624,   A02,817,1,14,14,2,20110723,2130,57.9908,-45.2760,2344, 900.0, 3.6499,34.8787,2,   -999,9,285.4,2, -999,9,4.206,2,2.232,2
  06MT20110624,   A02,817,1,15,15,2,20110723,2130,57.9908,-45.2760,2344, 802.5, 3.6977,34.8786,2,   -999,9,287.0,2, -999,9,4.219,2,2.215,2
  06MT20110624,   A02,817,1,16,16,2,20110723,2130,57.9908,-45.2760,2344, 719.8, 3.8739,34.8956,2,   -999,9,284.2,2, -999,9,4.085,2,2.279,2
  06MT20110624,   A02,817,1,17,17,2,20110723,2130,57.9908,-45.2760,2344, 597.0, 4.0059,34.8988,2,   -999,9,284.8,2, -999,9,4.065,2,2.266,2
  06MT20110624,   A02,817,1,18,18,2,20110723,2130,57.9908,-45.2760,2344, 505.7, 4.0876,34.8982,2,   -999,9,289.3,2,287.8,2,4.152,2,2.367,2
  06MT20110624,   A02,817,1,19,19,2,20110723,2130,57.9908,-45.2760,2344, 399.1, 4.1463,34.8946,2,   -999,9,294.0,2, -999,9,4.201,2,2.311,2
  06MT20110624,   A02,817,1,20,20,2,20110723,2130,57.9908,-45.2760,2344, 268.9, 4.3888,34.9153,2,34.9124,2,291.0,2, -999,9,4.226,2,2.416,2
  06MT20110624,   A02,817,1,21,21,2,20110723,2130,57.9908,-45.2760,2344, 115.6, 5.0415,34.9715,2,   -999,9,285.8,2, -999,9, -999,9, -999,9
  06MT20110624,   A02,817,1,22,22,2,20110723,2130,57.9908,-45.2760,2344,  11.9, 6.9495,34.4902,2,   -999,9,304.7,2,306.6,2,4.287,2,2.445,2
  06MT20110624,   A02,818,1, 1, 1,2,20110724,0502,57.2775,-45.9615,3482,3530.7, 1.5195,34.8919,2,34.8920,2,307.0,2,303.9,2,4.171,2,2.176,2
  06MT20110624,   A02,818,1, 2, 2,2,20110724,0502,57.2775,-45.9615,3482,3401.1, 1.7026,34.8858,2,   -999,9,304.0,2, -999,9,4.137,2,2.218,2
  06MT20110624,   A02,818,1, 3, 3,2,20110724,0502,57.2775,-45.9615,3482,3198.3, 2.2372,34.9027,2,   -999,9,290.4,2, -999,9,3.149,2,1.669,2
  06MT20110624,   A02,818,1, 4, 4,2,20110724,0502,57.2775,-45.9615,3482,2999.2, 2.6092,34.9176,2,   -999,9,282.0,2,281.8,2,2.523,2,1.306,2
  06MT20110624,   A02,818,1, 5, 5,2,20110724,0502,57.2775,-45.9615,3482,2802.6, 2.8046,34.9247,2,   -999,9,280.4,2, -999,9,2.517,2,1.265,2
  06MT20110624,   A02,818,1, 6, 6,2,20110724,0502,57.2775,-45.9615,3482,2608.7, 2.9194,34.9219,2,   -999,9,280.9,2, -999,9,2.785,3,1.447,3
  06MT20110624,   A02,818,1, 7, 7,2,20110724,0502,57.2775,-45.9615,3482,2397.2, 3.0388,34.9169,2,34.9199,2,281.6,2, -999,9,2.671,2,1.319,2
  06MT20110624,   A02,818,1, 8, 8,2,20110724,0502,57.2775,-45.9615,3482,2200.0, 3.1586,34.9131,2,   -999,9,281.5,2, -999,9,2.815,2,1.420,2
  06MT20110624,   A02,818,1, 9, 9,2,20110724,0502,57.2775,-45.9615,3482,1987.7, 3.2936,34.9114,2,   -999,9,281.0,2,278.4,2, -999,9, -999,9
  06MT20110624,   A02,818,1,10,10,2,20110724,0502,57.2775,-45.9615,3482,1782.8, 3.4377,34.9136,2,   -999,9,278.8,2, -999,9,3.082,2,1.539,2
  06MT20110624,   A02,818,1,11,11,2,20110724,0502,57.2775,-45.9615,3482,1585.3, 3.5860,34.9144,2,   -999,9,278.0,2, -999,9,3.228,2,1.628,2
  06MT20110624,   A02,818,1,12,12,2,20110724,0502,57.2775,-45.9615,3482,1398.6, 3.6422,34.9041,2,   -999,9,280.3,2, -999,9, -999,9, -999,9
  06MT20110624,   A02,818,1,13,13,2,20110724,0502,57.2775,-45.9615,3482,1199.2, 3.6501,34.8877,2,   -999,9,284.3,2, -999,9,3.976,2,2.096,2
  06MT20110624,   A02,818,1,14,14,2,20110724,0502,57.2775,-45.9615,3482,1084.8, 3.6534,34.8807,2,   -999,9,285.9,2, -999,9, -999,9, -999,9
  06MT20110624,   A02,818,1,15,15,2,20110724,0502,57.2775,-45.9615,3482,1024.9, 3.6685,34.8789,2,   -999,9,286.8,2,287.2,6,4.203,2,2.247,2
  06MT20110624,   A02,818,1,16,16,2,20110724,0502,57.2775,-45.9615,3482, 892.0, 3.7670,34.8835,2,   -999,9,287.5,2, -999,9,4.242,2,2.333,2
  06MT20110624,   A02,818,1,17,17,2,20110724,0502,57.2775,-45.9615,3482, 816.5, 3.8210,34.8849,2,34.8829,2,289.1,2, -999,9, -999,9, -999,9
  06MT20110624,   A02,818,1,18,18,2,20110724,0502,57.2775,-45.9615,3482, 697.2, 3.8425,34.8780,2,   -999,9,287.8,2, -999,9,4.348,2,2.356,2
  06MT20110624,   A02,818,1,19,19,2,20110724,0502,57.2775,-45.9615,3482, 489.3, 3.8762,34.8684,2,   -999,9,296.4,2,299.8,2,4.496,2,2.469,2
  06MT20110624,   A02,818,1,20,20,2,20110724,0502,57.2775,-45.9615,3482, 299.2, 4.1539,34.8894,2,   -999,9,295.2,2, -999,9, -999,9, -999,9
  06MT20110624,   A02,818,1,21,21,2,20110724,0502,57.2775,-45.9615,3482,  99.7, 3.8053,34.7571,2,   -999,9,301.0,2, -999,9, -999,9, -999,9
  06MT20110624,   A02,818,1,22,22,2,20110724,0502,57.2775,-45.9615,3482,  13.4, 7.3403,34.4393,2,34.4734,3,305.7,2,307.8,2,4.280,2,2.364,2
  06MT20110624,   A02,819,1, 1, 1,2,20110724,1305,56.5612,-46.6492,3560,3618.3, 1.8627,34.8975,2,34.8979,2,296.9,2,295.7,2,3.891,2,2.031,2
  06MT20110624,   A02,819,1, 2, 2,2,20110724,1305,56.5612,-46.6492,3560,3302.2, 2.3970,34.9086,2,   -999,9,282.1,2, -999,9,2.592,2,1.323,2
  06MT20110624,   A02,819,1, 3, 3,2,20110724,1305,56.5612,-46.6492,3560,3098.9, 2.5730,34.9165,2,   -999,9,280.7,2,280.3,2,2.484,6,1.230,6
  06MT20110624,   A02,819,1, 4, 4,2,20110724,1305,56.5612,-46.6492,3560,2906.5, 2.7833,34.9287,2,   -999,9,278.9,2, -999,9,2.523,2,1.268,2
  06MT20110624,   A02,819,1, 5, 5,2,20110724,1305,56.5612,-46.6492,3560,2699.6, 2.8791,34.9205,2,   -999,9,279.6,2, -999,9,2.679,2,1.330,2
  06MT20110624,   A02,819,1, 6, 6,2,20110724,1305,56.5612,-46.6492,3560,2496.2, 3.0185,34.9186,2,   -999,9,278.6,2, -999,9,2.736,2,1.400,2
  06MT20110624,   A02,819,1, 7, 7,2,20110724,1305,56.5612,-46.6492,3560,2291.8, 3.1207,34.9140,2,   -999,9,278.8,2, -999,9,2.783,2,1.355,2
  06MT20110624,   A02,819,1, 8, 8,2,20110724,1305,56.5612,-46.6492,3560,2099.0, 3.2305,34.9115,2,   -999,9,279.0,2,278.6,2,2.961,2,1.449,2
  06MT20110624,   A02,819,1, 9, 9,2,20110724,1305,56.5612,-46.6492,3560,1893.6, 3.3646,34.9119,2,   -999,9,277.9,2, -999,9,3.091,2,1.554,2
  06MT20110624,   A02,819,1,10,10,2,20110724,1305,56.5612,-46.6492,3560,1693.9, 3.4956,34.9125,2,34.9128,2,276.7,2, -999,9,3.239,2,1.582,2
  06MT20110624,   A02,819,1,11,11,2,20110724,1305,56.5612,-46.6492,3560,1499.5, 3.6402,34.9112,2,   -999,9,278.0,2, -999,9,3.619,2,1.788,2
  06MT20110624,   A02,819,1,12,12,2,20110724,1305,56.5612,-46.6492,3560,1291.1, 3.6263,34.8884,2,   -999,9,283.1,2, -999,9,4.013,2,2.056,2
  06MT20110624,   A02,819,1,13,13,2,20110724,1305,56.5612,-46.6492,3560,1098.7, 3.6042,34.8714,2,   -999,9,286.4,2,287.1,2,4.151,2,2.328,2
  06MT20110624,   A02,819,1,14,14,2,20110724,1305,56.5612,-46.6492,3560, 999.2, 3.6172,34.8687,2,   -999,9,287.0,2, -999,9,4.132,2,2.186,3
  06MT20110624,   A02,819,1,15,15,2,20110724,1305,56.5612,-46.6492,3560, 898.7, 3.6644,34.8700,2,   -999,9,286.5,2, -999,9, -999,9, -999,9
  06MT20110624,   A02,819,1,16,16,2,20110724,1305,56.5612,-46.6492,3560, 787.2, 3.7307,34.8730,2,   -999,9,286.0,2, -999,9,4.198,2,2.314,2
  06MT20110624,   A02,819,1,17,17,2,20110724,1305,56.5612,-46.6492,3560, 698.2, 3.8062,34.8766,2,34.8770,2,286.4,2, -999,9,4.238,2,2.326,2
  06MT20110624,   A02,819,1,18,18,2,20110724,1305,56.5612,-46.6492,3560, 597.4, 3.8379,34.8729,2,   -999,9,289.0,2, -999,9,4.346,2,2.402,2
  06MT20110624,   A02,819,1,19,19,2,20110724,1305,56.5612,-46.6492,3560, 498.5, 3.8893,34.8730,2,   -999,9,290.0,2, -999,9,4.408,2,2.417,2
  06MT20110624,   A02,819,1,20,20,2,20110724,1305,56.5612,-46.6492,3560, 411.9, 3.8872,34.8652,2,   -999,9,292.9,2,295.9,2,4.483,2,2.489,2
  06MT20110624,   A02,819,1,21,21,2,20110724,1305,56.5612,-46.6492,3560, 278.5, 3.9574,34.8642,2,   -999,9,297.8,2, -999,9,4.453,2,2.392,2
  06MT20110624,   A02,819,1,22,22,2,20110724,1305,56.5612,-46.6492,3560,  12.7, 7.8897,34.5401,2,   -999,9,302.1,2,303.5,6, -999,9, -999,9
  06MT20110624,   A02,820,1, 1, 1,2,20110724,2048,55.8465,-47.3373,3468,3508.1, 2.3782,34.9067,2,34.9093,2,283.1,2,281.3,2,2.607,2,1.326,2
  06MT20110624,   A02,820,1, 2, 2,2,20110724,2048,55.8465,-47.3373,3468,3198.4, 2.5767,34.9187,2,   -999,9,280.0,2, -999,9,2.397,2,1.200,2
  06MT20110624,   A02,820,1, 3, 3,2,20110724,2048,55.8465,-47.3373,3468,2998.2, 2.7172,34.9255,2,   -999,9,279.0,2, -999,9,2.449,2,1.209,2
  06MT20110624,   A02,820,1, 4, 4,2,20110724,2048,55.8465,-47.3373,3468,2798.1, 2.8467,34.9302,2,   -999,9,278.7,2, -999,9,2.524,2,1.253,2
  06MT20110624,   A02,820,1, 5, 5,2,20110724,2048,55.8465,-47.3373,3468,2599.1, 2.9326,34.9221,2,   -999,9,278.7,2,278.6,6,2.626,2,1.307,2
  06MT20110624,   A02,820,1, 6, 6,2,20110724,2048,55.8465,-47.3373,3468,2398.0, 3.0439,34.9169,2,34.9193,2,278.4,2, -999,9,2.761,2,1.422,2
  06MT20110624,   A02,820,1, 7, 7,2,20110724,2048,55.8465,-47.3373,3468,2197.8, 3.1512,34.9131,2,   -999,9,278.3,2, -999,9,2.837,2,1.396,2
  06MT20110624,   A02,820,1, 8, 8,2,20110724,2048,55.8465,-47.3373,3468,1982.3, 3.2742,34.9114,2,   -999,9,278.9,2, -999,9,3.089,2,1.557,2
  06MT20110624,   A02,820,1, 9, 9,2,20110724,2048,55.8465,-47.3373,3468,1779.1, 3.4293,34.9125,2,   -999,9,277.5,2,276.9,2,3.225,2,1.627,2
  06MT20110624,   A02,820,1,10,10,2,20110724,2048,55.8465,-47.3373,3468,1596.7, 3.5672,34.9133,2,   -999,9,276.8,2, -999,9,3.412,6,1.749,6
  06MT20110624,   A02,820,1,11,11,2,20110724,2048,55.8465,-47.3373,3468,1399.2, 3.6255,34.9031,2,   -999,9,278.9,2, -999,9,3.702,2,1.891,2
  06MT20110624,   A02,820,1,12,12,2,20110724,2048,55.8465,-47.3373,3468,1188.1, 3.6062,34.8823,2,   -999,9,284.5,2, -999,9,4.113,2,2.145,2
  06MT20110624,   A02,820,1,13,13,2,20110724,2048,55.8465,-47.3373,3468,1099.2, 3.6059,34.8771,2,   -999,9,285.7,2,286.5,2,4.113,2,2.224,2
  06MT20110624,   A02,820,1,14,14,2,20110724,2048,55.8465,-47.3373,3468, 998.6, 3.5930,34.8691,2,   -999,9,287.5,2, -999,9,4.220,2,2.304,2
  06MT20110624,   A02,820,1,15,15,2,20110724,2048,55.8465,-47.3373,3468, 868.6, 3.6367,34.8683,2,   -999,9,287.6,2, -999,9,4.239,2,2.336,2
  06MT20110624,   A02,820,1,16,16,2,20110724,2048,55.8465,-47.3373,3468, 785.4, 3.6884,34.8706,2,   -999,9,286.8,2,287.1,2,4.235,2,2.297,2
  06MT20110624,   A02,820,1,17,17,2,20110724,2048,55.8465,-47.3373,3468, 700.2, 3.7684,34.8764,2,34.8790,2,286.9,2, -999,9,4.257,2,2.318,2
  06MT20110624,   A02,820,1,18,18,2,20110724,2048,55.8465,-47.3373,3468, 597.5, 3.8247,34.8788,2,   -999,9,286.8,2, -999,9,4.304,2,2.358,2
  06MT20110624,   A02,820,1,19,19,2,20110724,2048,55.8465,-47.3373,3468, 484.1, 3.8644,34.8746,2,   -999,9,289.0,2, -999,9,4.351,2,2.353,2
  06MT20110624,   A02,820,1,20,20,2,20110724,2048,55.8465,-47.3373,3468, 392.1, 3.9029,34.8717,2,   -999,9,290.5,2, -999,9,4.421,2,2.444,2
  06MT20110624,   A02,820,1,21,21,2,20110724,2048,55.8465,-47.3373,3468, 198.0, 3.8019,34.8392,2,   -999,9,293.7,2, -999,9,4.508,2,2.460,2
  06MT20110624,   A02,820,1,22,22,2,20110724,2048,55.8465,-47.3373,3468,  12.6, 8.0234,34.5337,2,34.5392,2,302.5,2,302.3,2,4.134,2,2.352,2