BOTTLE,20231122CCHSIOVAJ
EXPOCODE,SECT_ID,STNNBR,CASTNO,SAMPNO,BTLNBR,BTLNBR_FLAG_W,DATE,TIME,LATITUDE,LONGITUDE,DEPTH,CTDPRS,CTDTMP,CTDSAL,CTDSAL_FLAG_W,SALNTY,SALNTY_FLAG_W,CTDOXY,CTDOXY_FLAG_W,OXYGEN,OXYGEN_FLAG_W,CFC-11,CFC-11_FLAG_W,CFC-12,CFC-12_FLAG_W
,,,,,,,,,,,METERS,DBAR,ITS-90,PSS-78,,PSS-78,,UMOL/KG,,UMOL/KG,,PMOL/KG,,PMOL/KG,
  06MT20110624,   A02,807,1, 1, 1,2,20110721,1443,54.8375,-43.4577,3366,3385.9, 2.4983,34.9151,2,34.9142,2,277.2,2,280.1,2,2.406,2,1.176,2
  06MT20110624,   A02,807,1, 2, 2,2,20110721,1443,54.8375,-43.4577,3366,3249.2, 2.6190,34.9250,2,   -999,9,275.4,2, -999,9,2.391,2,1.226,2
  06MT20110624,   A02,807,1, 3, 3,2,20110721,1443,54.8375,-43.4577,3366,3098.6, 2.7240,34.9353,2,   -999,9,274.2,2, -999,9,2.376,2,1.210,2
  06MT20110624,   A02,807,1, 4, 4,2,20110721,1443,54.8375,-43.4577,3366,2898.8, 2.8578,34.9474,2,   -999,9,273.7,2, -999,9,2.513,3,1.409,3
  06MT20110624,   A02,807,1, 5, 5,2,20110721,1443,54.8375,-43.4577,3366,2698.9, 2.9248,34.9464,2,   -999,9,273.9,2,276.9,2,2.442,2,1.221,2
  06MT20110624,   A02,807,1, 6, 6,2,20110721,1443,54.8375,-43.4577,3366,2499.4, 2.9961,34.9360,2,34.9408,2,275.6,2,277.4,2,2.567,2,1.315,2
  06MT20110624,   A02,807,1, 7, 7,2,20110721,1443,54.8375,-43.4577,3366,2299.2, 3.0676,34.9228,2,   -999,9,276.4,2,278.6,2,2.599,2,1.294,2
  06MT20110624,   A02,807,1, 8, 8,2,20110721,1443,54.8375,-43.4577,3366,2099.8, 3.1478,34.9179,2,   -999,9,277.2,2,279.2,2,2.748,2,1.394,2
  06MT20110624,   A02,807,1, 9, 9,2,20110721,1443,54.8375,-43.4577,3366,1899.0, 3.2604,34.9126,2,   -999,9,276.8,2,280.3,2,2.925,2,1.489,2
  06MT20110624,   A02,807,1,10,10,2,20110721,1443,54.8375,-43.4577,3366,1699.9, 3.3959,34.9108,2,   -999,9,276.8,2,278.2,2,3.110,2,1.588,2
  06MT20110624,   A02,807,1,11,11,2,20110721,1443,54.8375,-43.4577,3366,1508.1, 3.5489,34.9106,2,   -999,9,275.8,2,277.9,2,3.317,2, -999,9
  06MT20110624,   A02,807,1,12,12,2,20110721,1443,54.8375,-43.4577,3366,1290.7, 3.6028,34.8938,2,   -999,9,279.7,2,281.4,2,3.599,2,1.863,2
  06MT20110624,   A02,807,1,13,13,2,20110721,1443,54.8375,-43.4577,3366,1199.5, 3.5863,34.8828,2,   -999,9,284.8,2,283.7,2,3.905,2,2.070,2
  06MT20110624,   A02,807,1,14,14,2,20110721,1443,54.8375,-43.4577,3366,1101.1, 3.6014,34.8791,2,   -999,9,285.4,2,286.0,2,4.135,2,2.312,2
  06MT20110624,   A02,807,1,15,15,2,20110721,1443,54.8375,-43.4577,3366, 995.8, 3.6614,34.8801,2,   -999,9,284.9,2,286.5,2,3.968,2,2.018,2
  06MT20110624,   A02,807,1,16,16,2,20110721,1443,54.8375,-43.4577,3366, 898.8, 3.6866,34.8771,2,   -999,9,285.8,2,285.6,2, -999,9, -999,9
  06MT20110624,   A02,807,1,17,17,2,20110721,1443,54.8375,-43.4577,3366, 772.6, 3.7329,34.8770,2,   -999,9,286.4,2,287.2,2,4.166,2,2.267,2
  06MT20110624,   A02,807,1,18,18,2,20110721,1443,54.8375,-43.4577,3366, 609.9, 3.8740,34.8847,2,34.8835,2,285.4,2,285.1,2,4.246,2,2.357,2
  06MT20110624,   A02,807,1,19,19,2,20110721,1443,54.8375,-43.4577,3366, 505.0, 4.0043,34.8904,2,   -999,9,284.5,2,284.4,2,4.144,2,2.205,2
  06MT20110624,   A02,807,1,20,20,2,20110721,1443,54.8375,-43.4577,3366, 398.4, 4.1519,34.8938,2,   -999,9,280.3,2,279.9,2,4.210,2,2.329,2
  06MT20110624,   A02,807,1,21,21,2,20110721,1443,54.8375,-43.4577,3366, 209.3, 3.6766,34.7246,2,   -999,9,298.9,2,301.5,2,4.085,2,2.230,2
  06MT20110624,   A02,807,1,22,22,2,20110721,1443,54.8375,-43.4577,3366,  12.9, 8.7647,34.5173,2,34.5372,3,297.8,2,298.0,2,4.508,2,2.410,2
  06MT20110624,   A02,809,1, 1, 1,2,20110721,2152,55.6007,-43.5328,3360,3400.0, 2.3454,34.9068,2,34.9065,2,283.2,2,283.8,2, -999,9, -999,9
  06MT20110624,   A02,809,1, 2, 2,2,20110721,2152,55.6007,-43.5328,3360,3299.2, 2.4685,34.9127,2,   -999,9,280.3,2, -999,9,2.524,2,1.293,2
  06MT20110624,   A02,809,1, 3, 3,2,20110721,2152,55.6007,-43.5328,3360,3104.9, 2.6369,34.9248,2,   -999,9,277.8,2, -999,9,2.370,2,1.202,2
  06MT20110624,   A02,809,1, 4, 4,2,20110721,2152,55.6007,-43.5328,3360,2899.0, 2.7909,34.9366,2,   -999,9,276.7,2, -999,9,2.404,2,1.225,2
  06MT20110624,   A02,809,1, 5, 5,2,20110721,2152,55.6007,-43.5328,3360,2698.2, 2.8867,34.9367,2,   -999,9,277.0,2,277.4,2,2.463,2,1.261,2
  06MT20110624,   A02,809,1, 6, 6,2,20110721,2152,55.6007,-43.5328,3360,2497.9, 2.9325,34.9230,2,   -999,9,278.4,2, -999,9,2.510,2,1.278,2
  06MT20110624,   A02,809,1, 7, 7,2,20110721,2152,55.6007,-43.5328,3360,2297.6, 3.0394,34.9172,2,   -999,9,278.9,2, -999,9,2.663,2,1.357,2
  06MT20110624,   A02,809,1, 8, 8,2,20110721,2152,55.6007,-43.5328,3360,2080.6, 3.1629,34.9125,2,34.9124,2,279.3,2, -999,9,2.814,2,1.415,2
  06MT20110624,   A02,809,1, 9, 9,2,20110721,2152,55.6007,-43.5328,3360,1878.7, 3.2825,34.9113,2,   -999,9,278.3,2,279.0,6,2.943,2,1.463,2
  06MT20110624,   A02,809,1,10,10,2,20110721,2152,55.6007,-43.5328,3360,1698.6, 3.4139,34.9105,2,   -999,9,278.4,2, -999,9, -999,9, -999,9
  06MT20110624,   A02,809,1,11,11,2,20110721,2152,55.6007,-43.5328,3360,1499.1, 3.5613,34.9119,2,   -999,9,277.7,2, -999,9,3.313,6,1.696,6
  06MT20110624,   A02,809,1,12,12,2,20110721,2152,55.6007,-43.5328,3360,1289.3, 3.6237,34.8975,2,   -999,9,281.8,2, -999,9,3.691,2,1.889,2
  06MT20110624,   A02,809,1,13,13,2,20110721,2152,55.6007,-43.5328,3360,1091.5, 3.5925,34.8734,2,   -999,9,288.7,2,286.4,2,4.193,2,2.228,2
  06MT20110624,   A02,809,1,14,14,2,20110721,2152,55.6007,-43.5328,3360, 997.7, 3.5981,34.8687,2,   -999,9,289.1,2, -999,9, -999,9, -999,9
  06MT20110624,   A02,809,1,15,15,2,20110721,2152,55.6007,-43.5328,3360, 898.3, 3.6335,34.8677,2,   -999,9,289.4,2, -999,9,4.263,2,2.266,2
  06MT20110624,   A02,809,1,16,16,2,20110721,2152,55.6007,-43.5328,3360, 809.1, 3.6930,34.8707,2,   -999,9,290.3,2, -999,9,4.329,2,2.355,2
  06MT20110624,   A02,809,1,17,17,2,20110721,2152,55.6007,-43.5328,3360, 709.1, 3.8107,34.8797,2,   -999,9,290.2,2, -999,9,4.269,2,2.277,2
  06MT20110624,   A02,809,1,18,18,2,20110721,2152,55.6007,-43.5328,3360, 628.4, 3.8940,34.8852,2,34.7278,3,287.0,2, -999,9,4.174,2,2.310,2
  06MT20110624,   A02,809,1,19,19,2,20110721,2152,55.6007,-43.5328,3360, 464.0, 4.1198,34.8930,2,   -999,9,281.7,2, -999,9,4.109,2,2.265,2
  06MT20110624,   A02,809,1,20,20,2,20110721,2152,55.6007,-43.5328,3360, 302.7, 4.1951,34.8351,2,   -999,9,283.2,2, -999,9,4.525,2,2.536,2
  06MT20110624,   A02,809,1,21,21,2,20110721,2152,55.6007,-43.5328,3360, 159.5, 4.3271,34.7228,2,   -999,9,306.3,2,307.3,2,4.553,2,2.572,2
  06MT20110624,   A02,809,1,22,22,2,20110721,2152,55.6007,-43.5328,3360,  12.8, 8.6056,34.5732,2,   -999,9,304.1,2,301.8,2,3.920,2,2.258,2
  06MT20110624,   A02,810,1, 1, 1,2,20110722,0430,56.3657,-43.6040,3511,3568.9, 2.2615,34.9032,2,34.9052,2,289.9,2,287.6,2,2.969,2,1.544,2
  06MT20110624,   A02,810,1, 2, 2,2,20110722,0430,56.3657,-43.6040,3511,3298.7, 2.4387,34.9105,2,   -999,9,284.4,2, -999,9,2.595,2,1.343,2
  06MT20110624,   A02,810,1, 3, 3,2,20110722,0430,56.3657,-43.6040,3511,3000.1, 2.6816,34.9219,2,   -999,9,281.7,2, -999,9,2.484,2,1.264,2
  06MT20110624,   A02,810,1, 4, 4,2,20110722,0430,56.3657,-43.6040,3511,2798.3, 2.8391,34.9261,2,   -999,9,281.6,2,280.3,2,2.480,2,1.233,2
  06MT20110624,   A02,810,1, 5, 5,2,20110722,0430,56.3657,-43.6040,3511,2599.7, 2.9577,34.9268,2,   -999,9,282.1,2, -999,9,2.579,2,1.313,2
  06MT20110624,   A02,810,1, 6, 6,2,20110722,0430,56.3657,-43.6040,3511,2373.7, 3.0543,34.9176,2,   -999,9,282.9,2, -999,9,2.686,2,1.367,2
  06MT20110624,   A02,810,1, 7, 7,2,20110722,0430,56.3657,-43.6040,3511,2211.0, 3.1528,34.9132,2,   -999,9,282.5,2, -999,9,2.813,2,1.430,2
  06MT20110624,   A02,810,1, 8, 8,2,20110722,0430,56.3657,-43.6040,3511,2011.3, 3.2909,34.9132,2,   -999,9,282.0,2,279.9,2, -999,9, -999,9
  06MT20110624,   A02,810,1, 9, 9,2,20110722,0430,56.3657,-43.6040,3511,1810.1, 3.4107,34.9122,2,   -999,9,279.6,2, -999,9, -999,9, -999,9
  06MT20110624,   A02,810,1,10,10,2,20110722,0430,56.3657,-43.6040,3511,1599.2, 3.5392,34.9116,2,   -999,9,278.6,2, -999,9,3.229,2,1.646,2
  06MT20110624,   A02,810,1,11,11,2,20110722,0430,56.3657,-43.6040,3511,1489.8, 3.5982,34.9086,2,   -999,9,278.6,2, -999,9,3.444,2,1.809,2
  06MT20110624,   A02,810,1,12,12,2,20110722,0430,56.3657,-43.6040,3511,1398.0, 3.6248,34.9030,2,   -999,9,281.8,2, -999,9,3.576,2,1.850,2
  06MT20110624,   A02,810,1,13,13,2,20110722,0430,56.3657,-43.6040,3511,1298.1, 3.6077,34.8907,2,   -999,9,283.8,2,282.1,2, -999,9, -999,9
  06MT20110624,   A02,810,1,14,14,2,20110722,0430,56.3657,-43.6040,3511,1203.0, 3.6022,34.8826,2,34.8804,2,285.8,2, -999,9, -999,9, -999,9
  06MT20110624,   A02,810,1,15,15,2,20110722,0430,56.3657,-43.6040,3511,1118.7, 3.6006,34.8755,2,   -999,9,287.9,2, -999,9,4.151,2,2.220,2
  06MT20110624,   A02,810,1,16,16,2,20110722,0430,56.3657,-43.6040,3511, 999.3, 3.6105,34.8708,2,   -999,9,288.7,2, -999,9,4.254,2,2.332,2
  06MT20110624,   A02,810,1,17,17,2,20110722,0430,56.3657,-43.6040,3511, 898.8, 3.6102,34.8669,2,   -999,9,290.1,2, -999,9,4.252,2,2.270,2
  06MT20110624,   A02,810,1,18,18,2,20110722,0430,56.3657,-43.6040,3511, 807.3, 3.6706,34.8692,2,   -999,9,289.8,2, -999,9,4.222,2,2.336,2
  06MT20110624,   A02,810,1,19,19,2,20110722,0430,56.3657,-43.6040,3511, 613.7, 3.8647,34.8846,2,   -999,9,288.2,2, -999,9,4.219,2,2.367,2
  06MT20110624,   A02,810,1,20,20,2,20110722,0430,56.3657,-43.6040,3511, 478.1, 4.0067,34.8914,2,   -999,9,287.8,2, -999,9, -999,9, -999,9
  06MT20110624,   A02,810,1,21,21,2,20110722,0430,56.3657,-43.6040,3511, 320.0, 4.0286,34.8746,2,34.8731,2,295.6,2,294.9,2,4.246,2,2.358,2
  06MT20110624,   A02,810,1,22,22,2,20110722,0430,56.3657,-43.6040,3511,  11.7, 8.2963,34.5845,2,   -999,9,303.2,2,301.4,6,3.962,2,2.296,2
  06MT20110624,   A02,811,1, 1, 1,2,20110722,1152,57.1290,-43.6783,3489,3541.3, 1.9649,34.9009,2,34.8991,2,296.0,2,295.0,2,3.597,2,1.901,2
  06MT20110624,   A02,811,1, 2, 2,2,20110722,1152,57.1290,-43.6783,3489,3298.5, 2.4172,34.9090,2,   -999,9,285.0,2, -999,9,2.688,2,1.409,2
  06MT20110624,   A02,811,1, 3, 3,2,20110722,1152,57.1290,-43.6783,3489,3098.5, 2.5693,34.9164,2,   -999,9,281.9,2, -999,9,2.447,2,1.245,2
  06MT20110624,   A02,811,1, 4, 4,2,20110722,1152,57.1290,-43.6783,3489,2896.4, 2.7342,34.9237,2,   -999,9,281.4,2, -999,9,2.445,2,1.251,2
  06MT20110624,   A02,811,1, 5, 5,2,20110722,1152,57.1290,-43.6783,3489,2698.5, 2.8543,34.9249,2,   -999,9,281.8,2, -999,9,2.517,2,1.282,2
  06MT20110624,   A02,811,1, 6, 6,2,20110722,1152,57.1290,-43.6783,3489,2496.1, 2.9757,34.9183,2,34.9213,2,282.1,2, -999,9,2.707,2,1.365,2
  06MT20110624,   A02,811,1, 7, 7,2,20110722,1152,57.1290,-43.6783,3489,2287.3, 3.0870,34.9143,2,   -999,9,281.9,2,279.4,3,2.597,2,1.290,2
  06MT20110624,   A02,811,1, 8, 8,2,20110722,1152,57.1290,-43.6783,3489,2098.3, 3.1903,34.9113,2,   -999,9,281.8,2,281.2,2,2.867,2,1.465,2
  06MT20110624,   A02,811,1, 9, 9,2,20110722,1152,57.1290,-43.6783,3489,1894.5, 3.3176,34.9095,2,   -999,9,281.0,2,279.0,2,3.058,2,1.589,2
  06MT20110624,   A02,811,1,10,10,2,20110722,1152,57.1290,-43.6783,3489,1687.8, 3.4470,34.9102,2,   -999,9,279.6,2,277.9,2,3.125,2,1.569,2
  06MT20110624,   A02,811,1,11,11,2,20110722,1152,57.1290,-43.6783,3489,1497.5, 3.5858,34.9093,2,   -999,9,278.6,2,276.9,2,3.377,2,1.696,2
  06MT20110624,   A02,811,1,12,12,2,20110722,1152,57.1290,-43.6783,3489,1301.1, 3.6042,34.8910,2,   -999,9,283.1,2,282.9,2,3.831,2,1.969,2
  06MT20110624,   A02,811,1,13,13,2,20110722,1152,57.1290,-43.6783,3489,1099.0, 3.6113,34.8795,2,   -999,9,285.7,2,284.9,2,4.111,2,2.158,2
  06MT20110624,   A02,811,1,14,14,2,20110722,1152,57.1290,-43.6783,3489, 999.1, 3.6101,34.8735,2,   -999,9,287.4,2,286.9,2,4.213,2,2.211,2
  06MT20110624,   A02,811,1,15,15,2,20110722,1152,57.1290,-43.6783,3489, 895.8, 3.6108,34.8691,2,   -999,9,288.6,2,288.5,2,4.308,2,2.327,2
  06MT20110624,   A02,811,1,16,16,2,20110722,1152,57.1290,-43.6783,3489, 800.3, 3.6300,34.8671,2,   -999,9,288.5,2,287.8,2,4.230,6,2.238,6
  06MT20110624,   A02,811,1,17,17,2,20110722,1152,57.1290,-43.6783,3489, 704.1, 3.6941,34.8712,2,   -999,9,287.6,2,287.6,2,4.357,2,2.418,2
  06MT20110624,   A02,811,1,18,18,2,20110722,1152,57.1290,-43.6783,3489, 598.2, 3.7746,34.8756,2,   -999,9,287.0,2,286.4,2,4.216,2,2.268,2
  06MT20110624,   A02,811,1,19,19,2,20110722,1152,57.1290,-43.6783,3489, 495.9, 3.8578,34.8780,2,34.8784,2,286.8,2,284.9,2,4.299,2,2.320,2
  06MT20110624,   A02,811,1,20,20,2,20110722,1152,57.1290,-43.6783,3489, 299.2, 3.9841,34.8711,2,   -999,9,297.3,2, -999,9, -999,9, -999,9
  06MT20110624,   A02,811,1,21,21,2,20110722,1152,57.1290,-43.6783,3489, 147.1, 3.5026,34.7637,2,   -999,9,306.7,2,307.3,2,4.790,2,2.640,2
  06MT20110624,   A02,811,1,22,22,2,20110722,1152,57.1290,-43.6783,3489,  11.7, 7.9363,34.5586,2,   -999,9,304.3,2,303.6,2,4.132,2,2.310,2
  06MT20110624,   A02,813,1, 1, 1,2,20110722,1918,57.8953,-43.7508,3234,3283.7, 1.4728,34.8870,2,34.8851,2,301.4,2,304.6,2,4.204,2,2.167,2
  06MT20110624,   A02,813,1, 2, 2,2,20110722,1918,57.8953,-43.7508,3234,3106.4, 2.3638,34.9068,2,   -999,9,286.1,2, -999,9,3.128,2,1.598,2
  06MT20110624,   A02,813,1, 3, 3,2,20110722,1918,57.8953,-43.7508,3234,2999.4, 2.5265,34.9158,2,   -999,9,281.2,2,282.1,2,2.633,2,1.370,2
  06MT20110624,   A02,813,1, 4, 4,2,20110722,1918,57.8953,-43.7508,3234,2791.4, 2.7522,34.9298,2,   -999,9,278.7,2, -999,9,2.421,2,1.236,2
  06MT20110624,   A02,813,1, 5, 5,2,20110722,1918,57.8953,-43.7508,3234,2600.7, 2.8895,34.9304,2,   -999,9,278.4,2, -999,9,2.509,2,1.283,2
  06MT20110624,   A02,813,1, 6, 6,2,20110722,1918,57.8953,-43.7508,3234,2396.7, 2.9779,34.9179,2,   -999,9,279.8,2,279.1,2,2.635,2,1.357,2
  06MT20110624,   A02,813,1, 7, 7,2,20110722,1918,57.8953,-43.7508,3234,2198.7, 3.1279,34.9125,2,   -999,9,279.1,2, -999,9,2.781,6,1.409,6
  06MT20110624,   A02,813,1, 8, 8,2,20110722,1918,57.8953,-43.7508,3234,1998.5, 3.2310,34.9104,2,   -999,9,279.0,2, -999,9,2.916,2,1.475,2
  06MT20110624,   A02,813,1, 9, 9,2,20110722,1918,57.8953,-43.7508,3234,1796.1, 3.4029,34.9106,2,   -999,9,277.9,2, -999,9, -999,9, -999,9
  06MT20110624,   A02,813,1,10,10,2,20110722,1918,57.8953,-43.7508,3234,1598.0, 3.5505,34.9105,2,34.9111,2,276.4,2, -999,9,3.256,2,1.691,2
  06MT20110624,   A02,813,1,11,11,2,20110722,1918,57.8953,-43.7508,3234,1507.6, 3.6046,34.9088,2,   -999,9,276.7,2, -999,9,3.417,2,1.825,2
  06MT20110624,   A02,813,1,12,12,2,20110722,1918,57.8953,-43.7508,3234,1398.9, 3.6336,34.9033,2,   -999,9,278.6,2,278.5,2,3.549,2,1.801,2
  06MT20110624,   A02,813,1,13,13,2,20110722,1918,57.8953,-43.7508,3234,1298.4, 3.6220,34.8895,2,   -999,9,282.8,2, -999,9,3.922,2,2.136,2
  06MT20110624,   A02,813,1,14,14,2,20110722,1918,57.8953,-43.7508,3234,1199.1, 3.6219,34.8801,2,   -999,9,284.8,2, -999,9,4.151,2,2.348,2
  06MT20110624,   A02,813,1,15,15,2,20110722,1918,57.8953,-43.7508,3234,1097.0, 3.6152,34.8729,2,   -999,9,287.0,2, -999,9,4.230,2,2.325,2
  06MT20110624,   A02,813,1,16,16,2,20110722,1918,57.8953,-43.7508,3234,1010.1, 3.6127,34.8680,2,   -999,9,288.1,2, -999,9, -999,9, -999,9
  06MT20110624,   A02,813,1,17,17,2,20110722,1918,57.8953,-43.7508,3234, 911.3, 3.6698,34.8702,2,   -999,9,287.3,2,288.3,2,4.394,2,2.444,2
  06MT20110624,   A02,813,1,18,18,2,20110722,1918,57.8953,-43.7508,3234, 713.6, 3.8484,34.8821,2,   -999,9,287.2,2, -999,9,4.323,2,2.291,2
  06MT20110624,   A02,813,1,19,19,2,20110722,1918,57.8953,-43.7508,3234, 601.4, 3.8718,34.8761,2,   -999,9,289.2,2, -999,9,4.425,2,2.401,2
  06MT20110624,   A02,813,1,20,20,2,20110722,1918,57.8953,-43.7508,3234, 428.1, 3.9574,34.8719,2,34.8749,2,298.4,2,298.1,2,4.466,2,2.417,2
  06MT20110624,   A02,813,1,21,21,2,20110722,1918,57.8953,-43.7508,3234, 206.9, 3.9897,34.8623,2,   -999,9,297.5,2, -999,9,4.647,2,2.719,2
  06MT20110624,   A02,813,1,22,22,2,20110722,1918,57.8953,-43.7508,3234,  11.8, 8.0669,34.5706,2,   -999,9,302.2,2,302.8,6,4.053,2,2.192,2
  06MT20110624,   A02,814,1, 1, 1,2,20110723,0307,58.6577,-43.8257,1732,1744.9, 1.8915,34.8821,2,34.8829,2,300.9,2,299.4,2,4.177,2,2.234,2
  06MT20110624,   A02,814,1, 2, 2,2,20110723,0307,58.6577,-43.8257,1732,1743.6, 1.8913,34.8823,2,   -999,9,300.9,2, -999,9, -999,9, -999,9
  06MT20110624,   A02,814,1, 3, 3,2,20110723,0307,58.6577,-43.8257,1732,1702.8, 2.4375,34.8915,2,   -999,9,293.8,2, -999,9,3.924,2,2.088,2
  06MT20110624,   A02,814,1, 4, 4,2,20110723,0307,58.6577,-43.8257,1732,1648.3, 2.7539,34.9003,2,   -999,9,289.7,2, -999,9,3.516,2,1.777,2
  06MT20110624,   A02,814,1, 5, 5,2,20110723,0307,58.6577,-43.8257,1732,1603.4, 2.8094,34.9022,2,   -999,9,289.5,2, -999,9,3.596,2,1.865,2
  06MT20110624,   A02,814,1, 6, 6,2,20110723,0307,58.6577,-43.8257,1732,1499.9, 2.9820,34.9017,2,   -999,9,288.8,2,286.7,6,3.688,2,1.957,2
  06MT20110624,   A02,814,1, 7, 7,2,20110723,0307,58.6577,-43.8257,1732,1399.9, 3.2354,34.9117,2,   -999,9,284.9,2, -999,9,3.579,2,1.840,2
  06MT20110624,   A02,814,1, 8, 8,2,20110723,0307,58.6577,-43.8257,1732,1303.6, 3.4197,34.9219,2,   -999,9,280.3,2, -999,9,3.309,2,1.696,2
  06MT20110624,   A02,814,1, 9, 9,2,20110723,0307,58.6577,-43.8257,1732,1199.8, 3.5169,34.9219,2,34.9205,2,281.5,2, -999,9,3.378,2,1.768,2
  06MT20110624,   A02,814,1,10,10,2,20110723,0307,58.6577,-43.8257,1732,1095.4, 3.6328,34.9194,2,   -999,9,283.4,2, -999,9,3.676,2,1.972,2
  06MT20110624,   A02,814,1,11,11,2,20110723,0307,58.6577,-43.8257,1732,1024.7, 3.7109,34.9192,2,   -999,9,282.3,2,280.8,2, -999,9, -999,9
  06MT20110624,   A02,814,1,12,12,2,20110723,0307,58.6577,-43.8257,1732, 880.4, 3.7956,34.9103,2,   -999,9,283.5,2, -999,9,3.887,2,2.178,2
  06MT20110624,   A02,814,1,13,13,2,20110723,0307,58.6577,-43.8257,1732, 797.9, 3.8540,34.9071,2,   -999,9,283.9,2, -999,9,3.873,2,2.074,2
  06MT20110624,   A02,814,1,14,14,2,20110723,0307,58.6577,-43.8257,1732, 706.2, 3.9774,34.9110,2,   -999,9,283.8,2, -999,9,4.073,2,2.300,2
  06MT20110624,   A02,814,1,15,15,2,20110723,0307,58.6577,-43.8257,1732, 583.2, 4.2897,34.9339,2,   -999,9,281.3,2, -999,9,3.969,2,2.166,2
  06MT20110624,   A02,814,1,16,16,2,20110723,0307,58.6577,-43.8257,1732, 529.1, 4.4393,34.9417,2,   -999,9,282.4,2,282.7,2,3.981,2,2.171,2
  06MT20110624,   A02,814,1,17,17,2,20110723,0307,58.6577,-43.8257,1732, 399.0, 4.6567,34.9472,2,   -999,9,283.6,2, -999,9,4.097,2,2.377,2
  06MT20110624,   A02,814,1,18,18,2,20110723,0307,58.6577,-43.8257,1732, 299.0, 5.0357,34.9860,2,   -999,9,285.7,2, -999,9, -999,9, -999,9
  06MT20110624,   A02,814,1,19,19,2,20110723,0307,58.6577,-43.8257,1732, 204.1, 5.2800,34.9942,2,   -999,9,284.8,2, -999,9,4.116,2,2.317,2
  06MT20110624,   A02,814,1,20,20,2,20110723,0307,58.6577,-43.8257,1732, 197.0, 5.2942,34.9948,2,   -999,9,285.2,2, -999,9, -999,9, -999,9
  06MT20110624,   A02,814,1,21,21,2,20110723,0307,58.6577,-43.8257,1732,  98.1, 6.0194,35.0305,2,   -999,9,293.4,2, -999,9,3.984,2,2.234,2
  06MT20110624,   A02,814,1,22,22,2,20110723,0307,58.6577,-43.8257,1732,  11.5, 7.1865,34.5978,2,34.6048,3,302.1,2,301.5,2,4.224,2,2.406,2