BOTTLE,20231122CCHSIOVAJ
EXPOCODE,SECT_ID,STNNBR,CASTNO,SAMPNO,BTLNBR,BTLNBR_FLAG_W,DATE,TIME,LATITUDE,LONGITUDE,DEPTH,CTDPRS,CTDTMP,CTDSAL,CTDSAL_FLAG_W,SALNTY,SALNTY_FLAG_W,CTDOXY,CTDOXY_FLAG_W,OXYGEN,OXYGEN_FLAG_W,CFC-11,CFC-11_FLAG_W,CFC-12,CFC-12_FLAG_W
,,,,,,,,,,,METERS,DBAR,ITS-90,PSS-78,,PSS-78,,UMOL/KG,,UMOL/KG,,PMOL/KG,,PMOL/KG,
  06MT20110624,   A02,749,1, 1, 1,2,20110708,2041,48.0003,-31.4183,4005,4075.9, 2.4104,34.9008,2,34.9018,2,278.7,2,277.9,2,2.202,2,1.103,2
  06MT20110624,   A02,749,1, 2, 2,2,20110708,2041,48.0003,-31.4183,4005,3697.8, 2.4465,34.9051,2,   -999,9,278.0,2, -999,9,2.137,2,1.088,2
  06MT20110624,   A02,749,1, 3, 3,2,20110708,2041,48.0003,-31.4183,4005,3399.3, 2.6021,34.9127,2,   -999,9,276.9,2, -999,9,2.084,2,1.051,2
  06MT20110624,   A02,749,1, 4, 4,2,20110708,2041,48.0003,-31.4183,4005,3100.0, 2.8254,34.9197,2,   -999,9,276.3,2,276.8,2,2.211,2,1.098,2
  06MT20110624,   A02,749,1, 5, 5,2,20110708,2041,48.0003,-31.4183,4005,2797.9, 2.9981,34.9192,2,   -999,9,276.5,2, -999,9,2.350,2,1.169,2
  06MT20110624,   A02,749,1, 6, 6,2,20110708,2041,48.0003,-31.4183,4005,2489.8, 3.1889,34.9151,2,   -999,9,276.7,2, -999,9,2.562,2,1.278,2
  06MT20110624,   A02,749,1, 7, 7,2,20110708,2041,48.0003,-31.4183,4005,2295.5, 3.3238,34.9144,2,   -999,9,276.3,2, -999,9,2.743,2,1.393,2
  06MT20110624,   A02,749,1, 8, 8,2,20110708,2041,48.0003,-31.4183,4005,2103.7, 3.4353,34.9134,2,   -999,9,275.3,2,276.1,2,2.828,2,1.418,2
  06MT20110624,   A02,749,1, 9, 9,2,20110708,2041,48.0003,-31.4183,4005,1898.2, 3.5680,34.9154,2,34.9164,2,274.2,2, -999,9,2.894,2,1.490,2
  06MT20110624,   A02,749,1,10,10,2,20110708,2041,48.0003,-31.4183,4005,1708.8, 3.7110,34.9152,2,   -999,9,274.2,2, -999,9,3.148,2,1.653,2
  06MT20110624,   A02,749,1,11,11,2,20110708,2041,48.0003,-31.4183,4005,1619.8, 3.7725,34.9150,2,   -999,9,273.8,2, -999,9,3.271,2,1.717,2
  06MT20110624,   A02,749,1,12,12,2,20110708,2041,48.0003,-31.4183,4005,1518.5, 3.8414,34.9147,2,   -999,9,274.7,2, -999,9,3.421,2,1.815,2
  06MT20110624,   A02,749,1,13,13,2,20110708,2041,48.0003,-31.4183,4005,1413.7, 3.9483,34.9204,2,   -999,9,273.2,2,273.9,2,3.567,6,1.915,6
  06MT20110624,   A02,749,1,14,14,2,20110708,2041,48.0003,-31.4183,4005,1285.8, 4.0738,34.9213,2,   -999,9,272.9,2, -999,9,3.599,2,1.945,2
  06MT20110624,   A02,749,1,15,15,2,20110708,2041,48.0003,-31.4183,4005,1195.1, 4.2282,34.9334,2,   -999,9,268.6,2, -999,9,3.486,2,1.907,2
  06MT20110624,   A02,749,1,16,16,2,20110708,2041,48.0003,-31.4183,4005, 986.8, 4.7860,34.9708,2,   -999,9,254.7,2, -999,9,3.237,2,1.756,2
  06MT20110624,   A02,749,1,17,17,2,20110708,2041,48.0003,-31.4183,4005, 886.2, 5.2618,35.0186,2,   -999,9,241.4,2, -999,9,3.089,2,1.685,2
  06MT20110624,   A02,749,1,18,18,2,20110708,2041,48.0003,-31.4183,4005, 796.6, 5.7458,35.0214,2,   -999,9,227.9,2, -999,9,2.833,2,1.539,2
  06MT20110624,   A02,749,1,19,19,2,20110708,2041,48.0003,-31.4183,4005, 691.3, 6.4250,35.0058,2,   -999,9,211.5,2, -999,9,2.584,2,1.407,2
  06MT20110624,   A02,749,1,20,20,2,20110708,2041,48.0003,-31.4183,4005, 497.4, 8.9372,35.1085,2,35.0947,3,213.0,2, -999,9,2.617,2,1.488,2
  06MT20110624,   A02,749,1,21,21,2,20110708,2041,48.0003,-31.4183,4005, 286.4,11.3685,35.4870,2,   -999,9,252.5,2,253.5,2, -999,9, -999,9
  06MT20110624,   A02,749,1,22,22,2,20110708,2041,48.0003,-31.4183,4005,  13.1,13.7327,35.4417,2,   -999,9,267.5,2,267.5,6,2.823,2,1.697,2
  06MT20110624,   A02,750,1, 1, 1,2,20110709,0147,47.6715,-31.1513,4081,4146.9, 2.4274,34.9016,2,34.9036,2,278.1,2,278.2,2,2.154,2,1.114,2
  06MT20110624,   A02,750,1, 2, 2,2,20110709,0147,47.6715,-31.1513,4081,3899.5, 2.4493,34.9040,2,   -999,9,277.6,2, -999,9, -999,9, -999,9
  06MT20110624,   A02,750,1, 3, 3,2,20110709,0147,47.6715,-31.1513,4081,3598.8, 2.4951,34.9076,2,   -999,9,277.5,2, -999,9,2.109,2,1.066,2
  06MT20110624,   A02,750,1, 4, 4,2,20110709,0147,47.6715,-31.1513,4081,3276.7, 2.6597,34.9154,2,   -999,9,276.9,2, -999,9,2.119,2,1.077,2
  06MT20110624,   A02,750,1, 5, 5,2,20110709,0147,47.6715,-31.1513,4081,2976.8, 2.8576,34.9198,2,   -999,9,276.1,2,276.6,2,2.219,2,1.149,2
  06MT20110624,   A02,750,1, 6, 6,2,20110709,0147,47.6715,-31.1513,4081,2708.2, 3.0199,34.9172,2,   -999,9,275.7,2, -999,9,2.304,2,1.188,2
  06MT20110624,   A02,750,1, 7, 7,2,20110709,0147,47.6715,-31.1513,4081,2401.6, 3.2065,34.9131,2,   -999,9,276.2,2, -999,9,2.504,2,1.286,2
  06MT20110624,   A02,750,1, 8, 8,2,20110709,0147,47.6715,-31.1513,4081,2220.7, 3.3077,34.9114,2,34.9119,2,276.5,2, -999,9,2.638,2,1.264,2
  06MT20110624,   A02,750,1, 9, 9,2,20110709,0147,47.6715,-31.1513,4081,2010.6, 3.4669,34.9146,2,   -999,9,274.4,2,274.4,2,2.660,2,1.346,2
  06MT20110624,   A02,750,1,10,10,2,20110709,0147,47.6715,-31.1513,4081,1800.1, 3.6134,34.9180,2,   -999,9,273.3,2, -999,9,2.819,2,1.453,2
  06MT20110624,   A02,750,1,11,11,2,20110709,0147,47.6715,-31.1513,4081,1600.0, 3.7741,34.9210,2,   -999,9,272.5,2, -999,9,3.100,2,1.621,2
  06MT20110624,   A02,750,1,12,12,2,20110709,0147,47.6715,-31.1513,4081,1492.4, 3.8604,34.9250,2,   -999,9,272.0,2,273.2,6,3.220,2,1.699,2
  06MT20110624,   A02,750,1,13,13,2,20110709,0147,47.6715,-31.1513,4081,1374.6, 4.0046,34.9340,2,34.9327,2,270.6,2, -999,9,3.276,2,1.734,2
  06MT20110624,   A02,750,1,14,14,2,20110709,0147,47.6715,-31.1513,4081,1283.4, 4.1087,34.9389,2,   -999,9,269.1,2, -999,9,3.241,3,1.625,3
  06MT20110624,   A02,750,1,15,15,2,20110709,0147,47.6715,-31.1513,4081,1168.9, 4.2097,34.9409,2,   -999,9,267.8,2, -999,9,3.429,2,1.865,2
  06MT20110624,   A02,750,1,16,16,2,20110709,0147,47.6715,-31.1513,4081,1044.0, 4.4649,34.9521,2,   -999,9,263.3,2, -999,9,3.463,2,1.860,2
  06MT20110624,   A02,750,1,17,17,2,20110709,0147,47.6715,-31.1513,4081, 882.2, 5.0450,35.0030,2,   -999,9,250.1,2, -999,9,3.211,2,1.711,2
  06MT20110624,   A02,750,1,18,18,2,20110709,0147,47.6715,-31.1513,4081, 798.8, 5.7775,35.0787,2,   -999,9,232.0,2,232.9,2, -999,9, -999,9
  06MT20110624,   A02,750,1,19,19,2,20110709,0147,47.6715,-31.1513,4081, 703.6, 6.5090,35.1212,2,   -999,9,214.5,2, -999,9,2.481,2,1.384,2
  06MT20110624,   A02,750,1,20,20,2,20110709,0147,47.6715,-31.1513,4081, 600.1, 6.9076,35.0284,2,   -999,9,198.9,2, -999,9,2.382,6,1.286,6
  06MT20110624,   A02,750,1,21,21,2,20110709,0147,47.6715,-31.1513,4081, 286.0,11.2675,35.4584,2,   -999,9,238.6,2, -999,9,2.775,2,1.633,2
  06MT20110624,   A02,750,1,22,22,2,20110709,0147,47.6715,-31.1513,4081,  11.8,15.6479,35.6243,2,   -999,9,257.8,2,258.5,2,2.599,2,1.572,2
  06MT20110624,   A02,751,1, 1, 1,2,20110709,0633,47.5755,-31.3513,3749,3768.4, 2.3733,34.9002,2,34.9022,2,277.7,2,279.2,2, -999,9, -999,9
  06MT20110624,   A02,751,1, 2, 2,2,20110709,0633,47.5755,-31.3513,3749,3698.5, 2.4164,34.9030,2,   -999,9,277.7,2,278.1,2, -999,9, -999,9
  06MT20110624,   A02,751,1, 3, 3,2,20110709,0633,47.5755,-31.3513,3749,3498.7, 2.5066,34.9088,2,   -999,9,277.4,2, -999,9,2.139,2,1.074,2
  06MT20110624,   A02,751,1, 4, 4,2,20110709,0633,47.5755,-31.3513,3749,3200.8, 2.7028,34.9176,2,   -999,9,276.6,2, -999,9,2.150,2,1.076,2
  06MT20110624,   A02,751,1, 5, 5,2,20110709,0633,47.5755,-31.3513,3749,2909.0, 2.9032,34.9190,2,   -999,9,276.3,2,277.1,2,2.244,2,1.120,2
  06MT20110624,   A02,751,1, 6, 6,2,20110709,0633,47.5755,-31.3513,3749,2609.7, 3.0614,34.9173,2,   -999,9,275.7,2, -999,9,2.353,2,1.176,2
  06MT20110624,   A02,751,1, 7, 7,2,20110709,0633,47.5755,-31.3513,3749,2327.9, 3.2535,34.9121,2,   -999,9,276.5,2, -999,9,2.605,2,1.291,2
  06MT20110624,   A02,751,1, 8, 8,2,20110709,0633,47.5755,-31.3513,3749,2008.5, 3.4320,34.9113,2,   -999,9,275.3,2, -999,9,2.778,2,1.388,2
  06MT20110624,   A02,751,1, 9, 9,2,20110709,0633,47.5755,-31.3513,3749,1901.8, 3.5088,34.9129,2,   -999,9,274.5,2, -999,9,2.806,2,1.427,2
  06MT20110624,   A02,751,1,10,10,2,20110709,0633,47.5755,-31.3513,3749,1701.1, 3.6438,34.9144,2,   -999,9,273.9,2, -999,9,3.002,2,1.540,2
  06MT20110624,   A02,751,1,11,11,2,20110709,0633,47.5755,-31.3513,3749,1514.5, 3.8120,34.9162,2,   -999,9,273.4,2, -999,9,3.269,2,1.707,2
  06MT20110624,   A02,751,1,12,12,2,20110709,0633,47.5755,-31.3513,3749,1317.3, 3.9970,34.9257,2,   -999,9,271.4,2,271.8,2,3.419,2,1.826,2
  06MT20110624,   A02,751,1,13,13,2,20110709,0633,47.5755,-31.3513,3749,1209.9, 4.1489,34.9373,2,   -999,9,268.8,2, -999,9,3.408,2,1.832,2
  06MT20110624,   A02,751,1,14,14,2,20110709,0633,47.5755,-31.3513,3749,1113.8, 4.3474,34.9546,2,   -999,9,264.0,2, -999,9,3.338,2,1.792,2
  06MT20110624,   A02,751,1,15,15,2,20110709,0633,47.5755,-31.3513,3749,1002.2, 4.6427,34.9765,2,34.9746,2,257.4,2, -999,9,3.220,2,1.740,2
  06MT20110624,   A02,751,1,16,16,2,20110709,0633,47.5755,-31.3513,3749, 898.6, 4.9306,34.9951,2,   -999,9,250.2,2, -999,9,3.168,2,1.705,2
  06MT20110624,   A02,751,1,17,17,2,20110709,0633,47.5755,-31.3513,3749, 784.3, 5.3456,35.0071,2,   -999,9,239.8,2, -999,9,3.037,2,1.643,2
  06MT20110624,   A02,751,1,18,18,2,20110709,0633,47.5755,-31.3513,3749, 718.2, 5.7830,35.0308,2,   -999,9,227.1,2, -999,9,2.828,2,1.508,2
  06MT20110624,   A02,751,1,19,19,2,20110709,0633,47.5755,-31.3513,3749, 605.3, 6.6590,35.0310,2,   -999,9,206.0,2, -999,9,2.549,2,1.369,2
  06MT20110624,   A02,751,1,20,20,2,20110709,0633,47.5755,-31.3513,3749, 489.9, 8.0070,35.0637,2,35.0567,3,186.3,2,186.9,2,2.297,2,1.250,2
  06MT20110624,   A02,751,1,21,21,2,20110709,0633,47.5755,-31.3513,3749, 289.5,11.0885,35.4332,2,   -999,9,229.8,2, -999,9,2.796,2,1.625,2
  06MT20110624,   A02,751,1,22,22,2,20110709,0633,47.5755,-31.3513,3749,  13.9,15.6395,35.6292,2,35.6334,2,254.8,2,256.9,2,2.634,2,1.567,2
  06MT20110624,   A02,752,1, 1, 1,2,20110709,1354,47.5765,-32.4892,3925,3974.7, 2.3142,34.8976,2,34.8985,2,279.2,2,280.2,2,2.268,2,1.186,2
  06MT20110624,   A02,752,1, 2, 2,2,20110709,1354,47.5765,-32.4892,3925,3796.8, 2.3601,34.9002,2,   -999,9,278.2,2, -999,9, -999,9, -999,9
  06MT20110624,   A02,752,1, 3, 3,2,20110709,1354,47.5765,-32.4892,3925,3596.2, 2.4424,34.9041,2,   -999,9,277.4,2, -999,9, -999,9, -999,9
  06MT20110624,   A02,752,1, 4, 4,2,20110709,1354,47.5765,-32.4892,3925,3298.4, 2.6222,34.9121,2,   -999,9,276.6,2, -999,9, -999,9, -999,9
  06MT20110624,   A02,752,1, 5, 5,2,20110709,1354,47.5765,-32.4892,3925,2995.5, 2.8480,34.9195,2,   -999,9,275.9,2, -999,9, -999,9, -999,9
  06MT20110624,   A02,752,1, 6, 6,2,20110709,1354,47.5765,-32.4892,3925,2701.6, 3.0239,34.9185,2,   -999,9,276.4,2, -999,9,2.369,2,1.240,2
  06MT20110624,   A02,752,1, 7, 7,2,20110709,1354,47.5765,-32.4892,3925,2379.1, 3.1965,34.9130,2,   -999,9,276.8,2, -999,9,2.556,2,1.289,2
  06MT20110624,   A02,752,1, 8, 8,2,20110709,1354,47.5765,-32.4892,3925,2214.8, 3.3077,34.9115,2,34.9229,2,275.7,2, -999,9,2.658,2,1.341,2
  06MT20110624,   A02,752,1, 9, 9,2,20110709,1354,47.5765,-32.4892,3925,2018.4, 3.4383,34.9113,2,   -999,9,275.2,2,276.4,6,2.751,2,1.427,2
  06MT20110624,   A02,752,1,10,10,2,20110709,1354,47.5765,-32.4892,3925,1792.3, 3.5847,34.9149,2,   -999,9,273.7,2, -999,9, -999,9, -999,9
  06MT20110624,   A02,752,1,11,11,2,20110709,1354,47.5765,-32.4892,3925,1601.8, 3.7291,34.9177,2,   -999,9,272.8,2, -999,9,3.166,2,1.654,2
  06MT20110624,   A02,752,1,12,12,2,20110709,1354,47.5765,-32.4892,3925,1398.2, 3.8711,34.9184,2,   -999,9,272.8,2,273.3,2, -999,9, -999,9
  06MT20110624,   A02,752,1,13,13,2,20110709,1354,47.5765,-32.4892,3925,1200.1, 4.1033,34.9330,2,   -999,9,269.7,2, -999,9,3.453,2,1.842,2
  06MT20110624,   A02,752,1,14,14,2,20110709,1354,47.5765,-32.4892,3925,1084.8, 4.3573,34.9557,2,   -999,9,264.2,2, -999,9, -999,9, -999,9
  06MT20110624,   A02,752,1,15,15,2,20110709,1354,47.5765,-32.4892,3925, 993.6, 4.4783,34.9492,2,   -999,9,264.3,2, -999,9,3.331,2,1.852,2
  06MT20110624,   A02,752,1,16,16,2,20110709,1354,47.5765,-32.4892,3925, 873.5, 4.8202,34.9723,2,   -999,9,256.0,2, -999,9, -999,9, -999,9
  06MT20110624,   A02,752,1,17,17,2,20110709,1354,47.5765,-32.4892,3925, 784.5, 5.2106,34.9966,2,   -999,9,241.3,2, -999,9,3.156,2,1.773,2
  06MT20110624,   A02,752,1,18,18,2,20110709,1354,47.5765,-32.4892,3925, 696.0, 6.1334,35.0634,2,35.0575,3,220.9,2, -999,9,2.772,2,1.613,2
  06MT20110624,   A02,752,1,19,19,2,20110709,1354,47.5765,-32.4892,3925, 607.1, 6.4066,34.9743,2,   -999,9,206.2,2, -999,9,2.557,2,1.464,2
  06MT20110624,   A02,752,1,20,20,2,20110709,1354,47.5765,-32.4892,3925, 405.1, 8.9011,35.0994,2,   -999,9,223.6,2, -999,9,2.690,2,1.659,2
  06MT20110624,   A02,752,1,21,21,2,20110709,1354,47.5765,-32.4892,3925, 248.1,11.2310,35.4513,2,   -999,9,242.4,2,232.5,2,2.728,2,1.716,2
  06MT20110624,   A02,752,1,22,22,2,20110709,1354,47.5765,-32.4892,3925,  12.2,15.0401,35.5590,2,   -999,9,257.9,2,258.9,2,2.689,6,1.676,6
  06MT20110624,   A02,753,1, 1, 1,2,20110709,2038,47.5762,-33.5428,3946,4014.8, 2.2839,34.8967,2,34.9000,2,279.3,2,279.6,2,2.230,2,1.155,2
  06MT20110624,   A02,753,1, 2, 2,2,20110709,2038,47.5762,-33.5428,3946,3798.4, 2.3282,34.8994,2,   -999,9,278.2,2, -999,9,2.119,2,1.081,2
  06MT20110624,   A02,753,1, 3, 3,2,20110709,2038,47.5762,-33.5428,3946,3497.5, 2.4524,34.9053,2,   -999,9,276.8,2, -999,9,1.915,2,0.973,2
  06MT20110624,   A02,753,1, 4, 4,2,20110709,2038,47.5762,-33.5428,3946,3189.3, 2.6694,34.9133,2,   -999,9,276.4,2,277.1,2,1.957,2,0.987,2
  06MT20110624,   A02,753,1, 5, 5,2,20110709,2038,47.5762,-33.5428,3946,2882.3, 2.8938,34.9166,2,   -999,9,276.0,2, -999,9,2.102,2,1.055,2
  06MT20110624,   A02,753,1, 6, 6,2,20110709,2038,47.5762,-33.5428,3946,2593.6, 3.0742,34.9150,2,   -999,9,276.3,2, -999,9,2.391,2,1.182,2
  06MT20110624,   A02,753,1, 7, 7,2,20110709,2038,47.5762,-33.5428,3946,2297.9, 3.2527,34.9111,2,34.9166,2,276.1,2, -999,9,2.576,2,1.267,2
  06MT20110624,   A02,753,1, 8, 8,2,20110709,2038,47.5762,-33.5428,3946,1990.3, 3.4732,34.9168,2,   -999,9,274.4,2,274.8,2,2.761,2,1.367,2
  06MT20110624,   A02,753,1, 9, 9,2,20110709,2038,47.5762,-33.5428,3946,1699.6, 3.6767,34.9216,2,   -999,9,272.8,2, -999,9,3.102,2,1.559,2
  06MT20110624,   A02,753,1,10,10,2,20110709,2038,47.5762,-33.5428,3946,1499.0, 3.7870,34.9175,2,   -999,9,275.1,2, -999,9,3.442,2,1.768,2
  06MT20110624,   A02,753,1,11,11,2,20110709,2038,47.5762,-33.5428,3946,1300.0, 3.8974,34.9137,2,   -999,9,276.1,2, -999,9,3.725,2,1.931,2
  06MT20110624,   A02,753,1,12,12,2,20110709,2038,47.5762,-33.5428,3946,1199.6, 3.9886,34.9187,2,   -999,9,276.0,2,275.2,2,3.716,6,1.958,6
  06MT20110624,   A02,753,1,13,13,2,20110709,2038,47.5762,-33.5428,3946,1120.2, 4.2445,34.9444,2,   -999,9,267.0,2, -999,9,3.572,2,1.880,2
  06MT20110624,   A02,753,1,14,14,2,20110709,2038,47.5762,-33.5428,3946, 999.8, 4.2759,34.9300,2,   -999,9,271.1,2, -999,9,3.767,2,2.011,2
  06MT20110624,   A02,753,1,15,15,2,20110709,2038,47.5762,-33.5428,3946, 913.5, 4.5968,34.9684,2,   -999,9,259.9,2, -999,9,3.416,2,1.816,2
  06MT20110624,   A02,753,1,16,16,2,20110709,2038,47.5762,-33.5428,3946, 610.1, 6.2100,35.0064,2,34.9970,2,213.9,2, -999,9,2.728,2,1.461,2
  06MT20110624,   A02,753,1,17,17,2,20110709,2038,47.5762,-33.5428,3946, 291.6,10.9353,35.4130,2,   -999,9,225.3,2,225.1,2,2.715,2,1.560,2
  06MT20110624,   A02,753,1,18,18,2,20110709,2038,47.5762,-33.5428,3946,  13.9,16.3340,35.6870,2,   -999,9,250.2,2, -999,9,2.564,2,1.531,2
  06MT20110624,   A02,753,1,19,19,2,20110709,2038,47.5762,-33.5428,3946,  13.3,16.3281,35.6859,2,   -999,9,250.8,2, -999,9, -999,9, -999,9
  06MT20110624,   A02,753,1,20,20,2,20110709,2038,47.5762,-33.5428,3946,  12.8,16.3200,35.6859,2,   -999,9,251.1,2, -999,9, -999,9, -999,9
  06MT20110624,   A02,753,1,21,21,2,20110709,2038,47.5762,-33.5428,3946,  13.1,16.3281,35.6872,2,   -999,9,250.3,2,252.3,6, -999,9, -999,9
  06MT20110624,   A02,755,1, 1, 1,2,20110710,0400,47.4423,-34.7333,4086,4143.0, 2.2763,34.8961,2,34.8967,2,280.2,2,281.2,2, -999,9, -999,9
  06MT20110624,   A02,755,1, 2, 2,2,20110710,0400,47.4423,-34.7333,4086,3798.7, 2.2834,34.8970,2,   -999,9,278.6,2, -999,9, -999,9, -999,9
  06MT20110624,   A02,755,1, 3, 3,2,20110710,0400,47.4423,-34.7333,4086,3499.4, 2.4066,34.9036,2,   -999,9,277.1,2,277.7,2,1.888,2,0.957,2
  06MT20110624,   A02,755,1, 4, 4,2,20110710,0400,47.4423,-34.7333,4086,3199.0, 2.6653,34.9134,2,   -999,9,276.8,2, -999,9, -999,9, -999,9
  06MT20110624,   A02,755,1, 5, 5,2,20110710,0400,47.4423,-34.7333,4086,2899.9, 2.8920,34.9175,2,   -999,9,276.8,2, -999,9, -999,9, -999,9
  06MT20110624,   A02,755,1, 6, 6,2,20110710,0400,47.4423,-34.7333,4086,2599.2, 3.0973,34.9168,2,   -999,9,277.5,2,278.3,2,2.501,2,1.268,2
  06MT20110624,   A02,755,1, 7, 7,2,20110710,0400,47.4423,-34.7333,4086,2308.2, 3.2957,34.9148,2,34.9158,2,276.9,2, -999,9,2.709,2,1.361,2
  06MT20110624,   A02,755,1, 8, 8,2,20110710,0400,47.4423,-34.7333,4086,2015.3, 3.4813,34.9141,2,   -999,9,274.9,2, -999,9, -999,9, -999,9
  06MT20110624,   A02,755,1, 9, 9,2,20110710,0400,47.4423,-34.7333,4086,1798.6, 3.6596,34.9183,2,   -999,9,272.9,2, -999,9,2.983,2,1.505,2
  06MT20110624,   A02,755,1,10,10,2,20110710,0400,47.4423,-34.7333,4086,1578.0, 3.7925,34.9195,2,   -999,9,274.0,2, -999,9, -999,9, -999,9
  06MT20110624,   A02,755,1,11,11,2,20110710,0400,47.4423,-34.7333,4086,1477.0, 3.8446,34.9172,2,   -999,9,274.5,2, -999,9, -999,9, -999,9
  06MT20110624,   A02,755,1,12,12,2,20110710,0400,47.4423,-34.7333,4086,1399.2, 3.8990,34.9166,2,   -999,9,275.2,2, -999,9, -999,9, -999,9
  06MT20110624,   A02,755,1,13,13,2,20110710,0400,47.4423,-34.7333,4086,1299.0, 3.9947,34.9176,2,   -999,9,275.5,2, -999,9, -999,9, -999,9
  06MT20110624,   A02,755,1,14,14,2,20110710,0400,47.4423,-34.7333,4086,1203.6, 4.1164,34.9224,2,   -999,9,273.2,2, -999,9, -999,9, -999,9
  06MT20110624,   A02,755,1,15,15,2,20110710,0400,47.4423,-34.7333,4086,1100.8, 4.2764,34.9318,2,   -999,9,270.0,2,271.1,2,3.557,2,1.980,2
  06MT20110624,   A02,755,1,16,16,2,20110710,0400,47.4423,-34.7333,4086,1013.0, 4.6021,34.9635,2,   -999,9,260.0,2, -999,9,3.466,2,1.858,2
  06MT20110624,   A02,755,1,17,17,2,20110710,0400,47.4423,-34.7333,4086, 787.6, 5.3201,34.9830,2,34.9935,2,238.9,2, -999,9,3.069,2,1.643,2
  06MT20110624,   A02,755,1,18,18,2,20110710,0400,47.4423,-34.7333,4086, 501.5, 8.7245,35.0905,2,   -999,9,182.9,2,186.9,2,2.303,2,1.272,2
  06MT20110624,   A02,755,1,19,19,2,20110710,0400,47.4423,-34.7333,4086, 308.4,11.5879,35.5232,2,   -999,9,239.2,2, -999,9,2.938,2,1.749,2
  06MT20110624,   A02,755,1,20,20,2,20110710,0400,47.4423,-34.7333,4086,  12.2,14.6974,35.5463,2,   -999,9,260.8,2, -999,9,2.764,6,1.700,6
  06MT20110624,   A02,755,1,21,21,2,20110710,0400,47.4423,-34.7333,4086,  12.4,14.6993,35.5465,2,   -999,9,260.3,2,261.5,6, -999,9, -999,9
  06MT20110624,   A02,755,1,22,22,2,20110710,0400,47.4423,-34.7333,4086,  12.4,14.7002,35.5463,2,   -999,9,260.7,2, -999,9, -999,9, -999,9