BOTTLE,20231122CCHSIOVAJ
EXPOCODE,SECT_ID,STNNBR,CASTNO,SAMPNO,BTLNBR,BTLNBR_FLAG_W,DATE,TIME,LATITUDE,LONGITUDE,DEPTH,CTDPRS,CTDTMP,CTDSAL,CTDSAL_FLAG_W,SALNTY,SALNTY_FLAG_W,CTDOXY,CTDOXY_FLAG_W,OXYGEN,OXYGEN_FLAG_W,CFC-11,CFC-11_FLAG_W,CFC-12,CFC-12_FLAG_W
,,,,,,,,,,,METERS,DBAR,ITS-90,PSS-78,,PSS-78,,UMOL/KG,,UMOL/KG,,PMOL/KG,,PMOL/KG,
  06MT20110624,   A02,705,1, 1, 1,2,20110629,0351,47.8450,-23.7278,4281,4305.4, 2.6054,34.9126,2,34.9174,3,243.0,2,242.3,2, -999,9, -999,9
  06MT20110624,   A02,705,1, 2, 2,2,20110629,0351,47.8450,-23.7278,4281,4298.7, 2.6051,34.9124,2,   -999,9,243.3,2, -999,9, -999,9, -999,9
  06MT20110624,   A02,705,1, 3, 3,2,20110629,0351,47.8450,-23.7278,4281,3998.8, 2.6244,34.9175,2,   -999,9,245.6,2, -999,9, -999,9, -999,9
  06MT20110624,   A02,705,1, 4, 4,2,20110629,0351,47.8450,-23.7278,4281,3698.4, 2.6556,34.9235,2,34.9217,2,248.8,2,248.6,6,0.538,2,0.284,2
  06MT20110624,   A02,705,1, 5, 5,2,20110629,0351,47.8450,-23.7278,4281,3399.1, 2.7467,34.9331,2,   -999,9,254.8,2, -999,9,0.878,2,0.453,2
  06MT20110624,   A02,705,1, 6, 6,2,20110629,0351,47.8450,-23.7278,4281,3101.2, 2.8752,34.9406,2,   -999,9,262.5,2, -999,9,1.384,2,0.720,2
  06MT20110624,   A02,705,1, 7, 7,2,20110629,0351,47.8450,-23.7278,4281,2791.8, 3.0358,34.9355,2,   -999,9,269.6,2, -999,9,1.800,2,0.932,2
  06MT20110624,   A02,705,1, 8, 8,2,20110629,0351,47.8450,-23.7278,4281,2587.0, 3.1230,34.9237,2,34.9248,2,274.5,2,275.5,2,2.199,2,1.131,2
  06MT20110624,   A02,705,1, 9, 9,2,20110629,0351,47.8450,-23.7278,4281,2370.8, 3.2273,34.9128,2,   -999,9,277.3,2, -999,9,2.385,2,1.195,2
  06MT20110624,   A02,705,1,10,10,2,20110629,0351,47.8450,-23.7278,4281,2280.7, 3.2781,34.9105,2,   -999,9,277.3,2, -999,9,2.542,2,1.280,2
  06MT20110624,   A02,705,1,11,11,2,20110629,0351,47.8450,-23.7278,4281,2094.2, 3.4102,34.9081,2,   -999,9,277.1,2, -999,9,2.743,2,1.384,2
  06MT20110624,   A02,705,1,12,12,2,20110629,0351,47.8450,-23.7278,4281,1896.6, 3.5544,34.9097,2,   -999,9,275.3,2,274.1,2,2.912,2,1.490,2
  06MT20110624,   A02,705,1,13,13,2,20110629,0351,47.8450,-23.7278,4281,1699.7, 3.7039,34.9105,2,34.9124,2,274.8,2, -999,9,3.172,6,1.645,6
  06MT20110624,   A02,705,1,14,14,2,20110629,0351,47.8450,-23.7278,4281,1593.7, 3.7825,34.9112,2,   -999,9,275.2,2, -999,9,3.356,2,1.761,2
  06MT20110624,   A02,705,1,15,15,2,20110629,0351,47.8450,-23.7278,4281,1494.2, 3.9515,34.9260,2,   -999,9,271.9,2, -999,9,3.302,2,1.710,2
  06MT20110624,   A02,705,1,16,16,2,20110629,0351,47.8450,-23.7278,4281,1302.5, 4.2599,34.9442,2,   -999,9,266.5,2, -999,9,3.436,2,1.836,2
  06MT20110624,   A02,705,1,17,17,2,20110629,0351,47.8450,-23.7278,4281,1097.5, 4.8108,34.9894,2,   -999,9,254.7,2,255.7,2,3.340,2,1.762,2
  06MT20110624,   A02,705,1,18,18,2,20110629,0351,47.8450,-23.7278,4281, 893.0, 6.1923,35.1161,2,   -999,9,225.1,2, -999,9,2.801,2,1.494,2
  06MT20110624,   A02,705,1,19,19,2,20110629,0351,47.8450,-23.7278,4281, 620.8, 8.8133,35.1930,2,   -999,9,192.1,2, -999,9,2.375,6,1.301,6
  06MT20110624,   A02,705,1,20,20,2,20110629,0351,47.8450,-23.7278,4281, 388.1,11.2905,35.4661,2,   -999,9,234.1,2, -999,9,2.844,2,1.722,2
  06MT20110624,   A02,705,1,21,21,2,20110629,0351,47.8450,-23.7278,4281, 194.7,12.2198,35.6032,2,   -999,9,249.0,2, -999,9,2.901,2,1.718,2
  06MT20110624,   A02,705,1,22,22,2,20110629,0351,47.8450,-23.7278,4281,  13.8,13.8835,35.6435,2,35.6465,2,268.3,2,268.0,2,2.859,2,1.682,2
  06MT20110624,   A02,706,1, 1, 1,2,20110629,1137,47.7983,-25.0207,3530,3571.7, 2.6185,34.9204,2,   -999,9,247.4,2, -999,9,0.479,2,0.231,2
  06MT20110624,   A02,706,1, 2, 2,2,20110629,1137,47.7983,-25.0207,3530,3572.7, 2.6190,34.9204,2,   -999,9,247.7,2, -999,9, -999,9, -999,9
  06MT20110624,   A02,706,1, 3, 3,2,20110629,1137,47.7983,-25.0207,3530,3499.1, 2.6182,34.9219,2,   -999,9,247.8,2,247.5,2, -999,9, -999,9
  06MT20110624,   A02,706,1, 4, 4,2,20110629,1137,47.7983,-25.0207,3530,3199.6, 2.7876,34.9329,2,   -999,9,258.3,2, -999,9,1.182,2,0.575,2
  06MT20110624,   A02,706,1, 5, 5,2,20110629,1137,47.7983,-25.0207,3530,2898.4, 2.9453,34.9358,2,   -999,9,267.6,2, -999,9,1.818,2,0.886,2
  06MT20110624,   A02,706,1, 6, 6,2,20110629,1137,47.7983,-25.0207,3530,2698.4, 3.0444,34.9300,2,   -999,9,272.5,2, -999,9,2.177,2,1.056,2
  06MT20110624,   A02,706,1, 7, 7,2,20110629,1137,47.7983,-25.0207,3530,2487.2, 3.1397,34.9198,2,   -999,9,275.5,2, -999,9, -999,9, -999,9
  06MT20110624,   A02,706,1, 8, 8,2,20110629,1137,47.7983,-25.0207,3530,2289.6, 3.2583,34.9126,2,   -999,9,277.0,2, -999,9,2.624,2,1.296,2
  06MT20110624,   A02,706,1, 9, 9,2,20110629,1137,47.7983,-25.0207,3530,2099.2, 3.3461,34.9111,2,   -999,9,276.7,2,276.4,6,2.740,2,1.351,2
  06MT20110624,   A02,706,1,10,10,2,20110629,1137,47.7983,-25.0207,3530,1894.5, 3.4698,34.9100,2,34.9124,2,276.2,2,274.6,2,2.910,2,1.441,2
  06MT20110624,   A02,706,1,11,11,2,20110629,1137,47.7983,-25.0207,3530,1706.1, 3.6575,34.9123,2,   -999,9,274.9,2,275.6,2, -999,9, -999,9
  06MT20110624,   A02,706,1,12,12,2,20110629,1137,47.7983,-25.0207,3530,1522.1, 3.8115,34.9161,2,   -999,9,273.8,2,273.8,2, -999,9, -999,9
  06MT20110624,   A02,706,1,13,13,2,20110629,1137,47.7983,-25.0207,3530,1317.8, 4.0193,34.9288,2,   -999,9,271.5,2,272.4,2,3.522,2,1.821,2
  06MT20110624,   A02,706,1,14,14,2,20110629,1137,47.7983,-25.0207,3530,1093.8, 4.7721,35.0175,2,   -999,9,254.5,2,254.5,2, -999,9, -999,9
  06MT20110624,   A02,706,1,15,15,2,20110629,1137,47.7983,-25.0207,3530, 996.2, 5.0418,35.0305,2,   -999,9,249.7,2,250.2,2, -999,9, -999,9
  06MT20110624,   A02,706,1,16,16,2,20110629,1137,47.7983,-25.0207,3530, 899.9, 5.3326,35.0408,2,   -999,9,242.9,2,243.7,2,3.057,2,1.612,2
  06MT20110624,   A02,706,1,17,17,2,20110629,1137,47.7983,-25.0207,3530, 755.5, 6.1932,35.0818,2,   -999,9,222.1,2,224.7,2,2.672,2,1.412,2
  06MT20110624,   A02,706,1,18,18,2,20110629,1137,47.7983,-25.0207,3530, 614.5, 7.1157,35.0857,2,35.0797,3,198.9,2,200.8,2,2.334,6,1.237,6
  06MT20110624,   A02,706,1,19,19,2,20110629,1137,47.7983,-25.0207,3530, 452.1, 8.9968,35.1485,2,   -999,9,198.9,2,196.4,6, -999,9, -999,9
  06MT20110624,   A02,706,1,20,20,2,20110629,1137,47.7983,-25.0207,3530, 328.5,11.0498,35.4114,2,   -999,9,245.8,2,247.0,2,3.020,2,1.740,2
  06MT20110624,   A02,706,1,21,21,2,20110629,1137,47.7983,-25.0207,3530, 171.4,12.0139,35.5761,2,   -999,9,245.2,2,246.9,2, -999,9, -999,9
  06MT20110624,   A02,706,1,22,22,2,20110629,1137,47.7983,-25.0207,3530,  10.9,14.4532,35.6493,2,   -999,9,267.5,2,267.4,2,2.827,2,1.654,2
  06MT20110624,   A02,708,1, 1, 1,2,20110629,1915,47.7542,-26.2107,3118,3152.0, 2.8986,34.9315,2,34.9384,3,263.0,2,263.7,2,1.533,2,0.760,2
  06MT20110624,   A02,708,1, 2, 2,2,20110629,1915,47.7542,-26.2107,3118,3100.7, 2.9237,34.9312,2,   -999,9,264.0,2, -999,9,1.599,2,0.781,2
  06MT20110624,   A02,708,1, 3, 3,2,20110629,1915,47.7542,-26.2107,3118,2899.0, 3.0071,34.9283,2,   -999,9,267.8,2, -999,9,1.843,2,0.901,2
  06MT20110624,   A02,708,1, 4, 4,2,20110629,1915,47.7542,-26.2107,3118,2654.8, 3.1641,34.9213,2,   -999,9,272.2,2, -999,9,2.240,6,1.083,6
  06MT20110624,   A02,708,1, 5, 5,2,20110629,1915,47.7542,-26.2107,3118,2489.3, 3.2329,34.9168,2,   -999,9,274.4,2,274.0,2,2.437,2,1.178,2
  06MT20110624,   A02,708,1, 6, 6,2,20110629,1915,47.7542,-26.2107,3118,2285.6, 3.3744,34.9162,2,34.9156,2,273.8,2, -999,9,2.606,2,1.272,2
  06MT20110624,   A02,708,1, 7, 7,2,20110629,1915,47.7542,-26.2107,3118,2098.1, 3.4396,34.9160,2,   -999,9,274.0,2, -999,9,2.699,2,1.318,2
  06MT20110624,   A02,708,1, 8, 8,2,20110629,1915,47.7542,-26.2107,3118,1907.1, 3.5435,34.9170,2,   -999,9,273.8,2,273.1,6,2.839,2,1.394,2
  06MT20110624,   A02,708,1, 9, 9,2,20110629,1915,47.7542,-26.2107,3118,1713.1, 3.6812,34.9198,2,   -999,9,273.2,2, -999,9,3.029,2,1.503,2
  06MT20110624,   A02,708,1,10,10,2,20110629,1915,47.7542,-26.2107,3118,1508.8, 3.8878,34.9267,2,34.9258,2,272.2,2,271.7,2,3.273,2,1.648,2
  06MT20110624,   A02,708,1,11,11,2,20110629,1915,47.7542,-26.2107,3118,1411.5, 3.9583,34.9296,2,   -999,9,271.3,2, -999,9,3.325,2,1.705,2
  06MT20110624,   A02,708,1,12,12,2,20110629,1915,47.7542,-26.2107,3118,1307.2, 4.0991,34.9376,2,   -999,9,269.6,2, -999,9,3.373,2,1.740,2
  06MT20110624,   A02,708,1,13,13,2,20110629,1915,47.7542,-26.2107,3118,1198.7, 4.3248,34.9548,2,   -999,9,265.3,2, -999,9,3.378,2,1.751,2
  06MT20110624,   A02,708,1,14,14,2,20110629,1915,47.7542,-26.2107,3118,1102.0, 4.5979,34.9778,2,   -999,9,259.0,2, -999,9,3.299,2,1.723,2
  06MT20110624,   A02,708,1,15,15,2,20110629,1915,47.7542,-26.2107,3118,1016.0, 5.0117,35.0174,2,   -999,9,249.2,2, -999,9,3.110,6,1.626,6
  06MT20110624,   A02,708,1,16,16,2,20110629,1915,47.7542,-26.2107,3118, 904.2, 5.7424,35.0753,2,   -999,9,233.7,2, -999,9,2.864,2,1.492,2
  06MT20110624,   A02,708,1,17,17,2,20110629,1915,47.7542,-26.2107,3118, 799.9, 6.2624,35.0716,2,   -999,9,218.5,2, -999,9,2.683,2,1.429,2
  06MT20110624,   A02,708,1,18,18,2,20110629,1915,47.7542,-26.2107,3118, 704.8, 7.4080,35.1769,2,   -999,9,199.5,2, -999,9,2.270,2,1.218,2
  06MT20110624,   A02,708,1,19,19,2,20110629,1915,47.7542,-26.2107,3118, 516.4, 9.2853,35.1886,2,35.1819,3,190.4,2,187.4,2,2.301,2,1.277,2
  06MT20110624,   A02,708,1,20,20,2,20110629,1915,47.7542,-26.2107,3118, 362.4,11.2227,35.4429,2,   -999,9,235.8,2, -999,9,2.970,2,1.736,2
  06MT20110624,   A02,708,1,21,21,2,20110629,1915,47.7542,-26.2107,3118, 197.3,12.1169,35.5966,2,   -999,9,243.8,2, -999,9,2.835,2,1.657,2
  06MT20110624,   A02,708,1,22,22,2,20110629,1915,47.7542,-26.2107,3118,  12.4,15.4838,35.7098,2,   -999,9,267.7,2,268.2,2,2.625,2,1.560,2
  06MT20110624,   A02,709,1, 1, 1,2,20110630,0426,47.7110,-27.4585,2966,2952.1, 2.9845,34.9289,2,34.9317,2,266.7,2,267.3,2, -999,9, -999,9
  06MT20110624,   A02,709,1, 2, 2,2,20110630,0426,47.7110,-27.4585,2966,2811.8, 3.1451,34.9239,2,   -999,9,270.5,2, -999,9, -999,9, -999,9
  06MT20110624,   A02,709,1, 3, 3,2,20110630,0426,47.7110,-27.4585,2966,2606.1, 3.2363,34.9214,2,   -999,9,271.6,2, -999,9, -999,9, -999,9
  06MT20110624,   A02,709,1, 4, 4,2,20110630,0426,47.7110,-27.4585,2966,2396.8, 3.3162,34.9190,2,   -999,9,272.7,2,272.0,2,2.451,2,1.206,2
  06MT20110624,   A02,709,1, 5, 5,2,20110630,0426,47.7110,-27.4585,2966,2200.1, 3.3691,34.9166,2,   -999,9,273.6,2, -999,9, -999,9, -999,9
  06MT20110624,   A02,709,1, 6, 6,2,20110630,0426,47.7110,-27.4585,2966,2005.3, 3.4624,34.9157,2,   -999,9,274.4,2, -999,9,2.722,2,1.351,2
  06MT20110624,   A02,709,1, 7, 7,2,20110630,0426,47.7110,-27.4585,2966,1807.3, 3.5755,34.9172,2,34.9191,2,274.0,2,273.4,2,2.896,2,1.441,2
  06MT20110624,   A02,709,1, 8, 8,2,20110630,0426,47.7110,-27.4585,2966,1600.8, 3.7703,34.9224,2,   -999,9,272.9,2, -999,9,3.132,6,1.581,6
  06MT20110624,   A02,709,1, 9, 9,2,20110630,0426,47.7110,-27.4585,2966,1400.7, 3.9231,34.9274,2,   -999,9,272.2,2, -999,9,3.324,2,1.684,2
  06MT20110624,   A02,709,1,10,10,2,20110630,0426,47.7110,-27.4585,2966,1289.2, 4.0547,34.9339,2,   -999,9,270.0,2, -999,9,3.370,2,1.709,2
  06MT20110624,   A02,709,1,11,11,2,20110630,0426,47.7110,-27.4585,2966,1170.5, 4.3349,34.9564,2,   -999,9,264.6,2, -999,9,3.355,2,1.734,2
  06MT20110624,   A02,709,1,12,12,2,20110630,0426,47.7110,-27.4585,2966,1074.0, 4.5994,34.9794,2,   -999,9,258.9,2, -999,9,3.256,2,1.674,2
  06MT20110624,   A02,709,1,13,13,2,20110630,0426,47.7110,-27.4585,2966, 982.9, 4.9475,35.0069,2,   -999,9,250.5,2, -999,9,3.131,2,1.629,2
  06MT20110624,   A02,709,1,14,14,2,20110630,0426,47.7110,-27.4585,2966, 903.9, 5.3864,35.0446,2,   -999,9,241.1,2,241.6,2,2.957,2,1.530,2
  06MT20110624,   A02,709,1,15,15,2,20110630,0426,47.7110,-27.4585,2966, 801.5, 5.8740,35.0703,2,   -999,9,229.0,2, -999,9,2.759,2,1.432,2
  06MT20110624,   A02,709,1,16,16,2,20110630,0426,47.7110,-27.4585,2966, 700.1, 6.4739,35.0759,2,   -999,9,213.4,2, -999,9,2.519,2,1.330,2
  06MT20110624,   A02,709,1,17,17,2,20110630,0426,47.7110,-27.4585,2966, 602.3, 6.9600,34.9975,2,   -999,9,202.1,2, -999,9, -999,9, -999,9
  06MT20110624,   A02,709,1,18,18,2,20110630,0426,47.7110,-27.4585,2966, 509.4, 8.5621,35.1118,2,   -999,9,188.7,2, -999,9,2.383,2,1.285,2
  06MT20110624,   A02,709,1,19,19,2,20110630,0426,47.7110,-27.4585,2966, 386.6, 9.9053,35.2153,2,   -999,9,246.0,2, -999,9, -999,9, -999,9
  06MT20110624,   A02,709,1,20,20,2,20110630,0426,47.7110,-27.4585,2966, 288.8,10.7924,35.3608,2,   -999,9,250.6,2, -999,9,3.107,2,1.793,2
  06MT20110624,   A02,709,1,21,21,2,20110630,0426,47.7110,-27.4585,2966,  11.6,15.1688,35.6995,2,   -999,9,267.3,2, -999,9,2.687,6,1.570,6
  06MT20110624,   A02,709,1,22,22,2,20110630,0426,47.7110,-27.4585,2966,  11.4,15.1697,35.6995,2,35.7017,2,267.3,2,266.2,2, -999,9, -999,9
  06MT20110624,   A02,710,1, 1, 1,2,20110630,1246,47.6662,-28.6538,2961,2918.1, 3.0385,34.9201,2,34.9215,2,273.1,2,274.1,2,2.181,2,1.073,2
  06MT20110624,   A02,710,1, 2, 2,2,20110630,1246,47.6662,-28.6538,2961,2918.3, 3.0381,34.9198,2,   -999,9,273.0,2, -999,9, -999,9, -999,9
  06MT20110624,   A02,710,1, 3, 3,2,20110630,1246,47.6662,-28.6538,2961,2895.9, 3.0438,34.9199,2,   -999,9,273.3,2, -999,9,2.188,2,1.065,2
  06MT20110624,   A02,710,1, 4, 4,2,20110630,1246,47.6662,-28.6538,2961,2702.3, 3.1457,34.9197,2,   -999,9,273.1,2, -999,9,2.280,2,1.113,2
  06MT20110624,   A02,710,1, 5, 5,2,20110630,1246,47.6662,-28.6538,2961,2598.4, 3.1709,34.9174,2,   -999,9,273.8,2, -999,9, -999,9, -999,9
  06MT20110624,   A02,710,1, 6, 6,2,20110630,1246,47.6662,-28.6538,2961,2516.2, 3.2049,34.9169,2,   -999,9,274.4,2, -999,9,2.391,2,1.160,2
  06MT20110624,   A02,710,1, 7, 7,2,20110630,1246,47.6662,-28.6538,2961,2306.8, 3.2814,34.9152,2,   -999,9,274.5,2,273.7,6,2.525,2,1.228,2
  06MT20110624,   A02,710,1, 8, 8,2,20110630,1246,47.6662,-28.6538,2961,2098.8, 3.3819,34.9136,2,   -999,9,275.7,2, -999,9,2.718,6,1.312,6
  06MT20110624,   A02,710,1, 9, 9,2,20110630,1246,47.6662,-28.6538,2961,1896.4, 3.5118,34.9156,2,34.9134,2,274.6,2, -999,9,2.857,2,1.386,2
  06MT20110624,   A02,710,1,10,10,2,20110630,1246,47.6662,-28.6538,2961,1698.6, 3.6391,34.9173,2,   -999,9,273.9,2,272.9,2,3.009,2,1.472,2
  06MT20110624,   A02,710,1,11,11,2,20110630,1246,47.6662,-28.6538,2961,1598.9, 3.7202,34.9194,2,   -999,9,274.1,2, -999,9,3.125,2,1.596,2
  06MT20110624,   A02,710,1,12,12,2,20110630,1246,47.6662,-28.6538,2961,1498.6, 3.7946,34.9210,2,   -999,9,273.7,2, -999,9,3.207,2,1.588,3
  06MT20110624,   A02,710,1,13,13,2,20110630,1246,47.6662,-28.6538,2961,1403.8, 3.8784,34.9217,2,   -999,9,273.3,2,273.4,2,3.439,2,1.830,2
  06MT20110624,   A02,710,1,14,14,2,20110630,1246,47.6662,-28.6538,2961,1314.6, 3.9861,34.9269,2,   -999,9,272.7,2, -999,9,3.402,2,1.787,2
  06MT20110624,   A02,710,1,15,15,2,20110630,1246,47.6662,-28.6538,2961,1156.6, 4.2403,34.9462,2,   -999,9,268.0,2, -999,9,3.372,2,1.780,2
  06MT20110624,   A02,710,1,16,16,2,20110630,1246,47.6662,-28.6538,2961,1022.8, 4.5553,34.9716,2,   -999,9,260.9,2, -999,9,3.281,2,1.841,3
  06MT20110624,   A02,710,1,17,17,2,20110630,1246,47.6662,-28.6538,2961, 919.1, 4.9541,35.0047,2,   -999,9,251.4,2, -999,9,3.119,2,1.666,2
  06MT20110624,   A02,710,1,18,18,2,20110630,1246,47.6662,-28.6538,2961, 797.7, 5.2935,35.0088,2,   -999,9,243.1,2, -999,9,3.028,2,1.609,2
  06MT20110624,   A02,710,1,19,19,2,20110630,1246,47.6662,-28.6538,2961, 699.6, 6.3684,35.1116,2,35.1106,2,221.2,2, -999,9,2.529,6,1.350,6
  06MT20110624,   A02,710,1,20,20,2,20110630,1246,47.6662,-28.6538,2961, 483.9, 7.6922,35.0436,2,   -999,9,190.2,2, -999,9,2.319,2,1.218,2
  06MT20110624,   A02,710,1,21,21,2,20110630,1246,47.6662,-28.6538,2961, 309.9,10.3723,35.2971,2,   -999,9,246.1,2,245.0,2,3.024,2,1.750,2
  06MT20110624,   A02,711,1, 1, 1,2,20110630,2023,47.6188,-29.8977,3385,3423.4, 2.5205,34.9082,2,34.9091,2,277.9,2,277.8,2,2.192,2,1.089,2
  06MT20110624,   A02,711,1, 2, 2,2,20110630,2023,47.6188,-29.8977,3385,3198.7, 2.7098,34.9155,2,   -999,9,277.2,2, -999,9, -999,9, -999,9
  06MT20110624,   A02,711,1, 3, 3,2,20110630,2023,47.6188,-29.8977,3385,3004.6, 2.8480,34.9168,2,   -999,9,276.3,2,276.4,2,2.215,2,1.090,2
  06MT20110624,   A02,711,1, 4, 4,2,20110630,2023,47.6188,-29.8977,3385,2814.0, 3.0046,34.9182,2,   -999,9,274.6,2, -999,9,2.247,6,1.104,6
  06MT20110624,   A02,711,1, 5, 5,2,20110630,2023,47.6188,-29.8977,3385,2598.8, 3.1336,34.9167,2,   -999,9,275.3,2,274.9,2, -999,9, -999,9
  06MT20110624,   A02,711,1, 6, 6,2,20110630,2023,47.6188,-29.8977,3385,2198.6, 3.3545,34.9124,2,   -999,9,275.6,2,274.4,2,2.703,2,1.349,2
  06MT20110624,   A02,711,1, 7, 7,2,20110630,2023,47.6188,-29.8977,3385,1973.2, 3.4358,34.9119,2,34.9138,2,275.7,2,274.9,2,2.817,2,1.400,2
  06MT20110624,   A02,711,1, 8, 8,2,20110630,2023,47.6188,-29.8977,3385,1769.6, 3.5900,34.9168,2,   -999,9,274.2,2,273.7,6,2.841,2,1.416,2
  06MT20110624,   A02,711,1, 9, 9,2,20110630,2023,47.6188,-29.8977,3385,1570.1, 3.7564,34.9168,2,   -999,9,273.8,2,272.6,2, -999,9, -999,9
  06MT20110624,   A02,711,1,10,10,2,20110630,2023,47.6188,-29.8977,3385,1496.0, 3.8563,34.9248,2,   -999,9,273.1,2,271.3,2,3.206,2,1.679,2
  06MT20110624,   A02,711,1,11,11,2,20110630,2023,47.6188,-29.8977,3385,1398.6, 3.9202,34.9259,2,   -999,9,272.8,2,272.0,2,3.285,6,1.719,6
  06MT20110624,   A02,711,1,12,12,2,20110630,2023,47.6188,-29.8977,3385,1301.0, 4.0316,34.9316,2,   -999,9,270.9,2,269.8,2,3.285,2,1.703,2
  06MT20110624,   A02,711,1,13,13,2,20110630,2023,47.6188,-29.8977,3385,1220.1, 4.1959,34.9447,2,   -999,9,267.6,2, -999,9, -999,9, -999,9
  06MT20110624,   A02,711,1,14,14,2,20110630,2023,47.6188,-29.8977,3385,1120.8, 4.5301,34.9756,2,   -999,9,260.8,2,261.3,2,3.244,2,1.713,2
  06MT20110624,   A02,711,1,15,15,2,20110630,2023,47.6188,-29.8977,3385,1011.7, 4.7434,34.9773,2,   -999,9,256.3,2,257.0,2,3.309,2,1.758,2
  06MT20110624,   A02,711,1,16,16,2,20110630,2023,47.6188,-29.8977,3385, 902.3, 5.4165,35.0569,2,   -999,9,241.0,2,241.2,2,2.924,2,1.553,2
  06MT20110624,   A02,711,1,17,17,2,20110630,2023,47.6188,-29.8977,3385, 788.4, 5.7405,35.0456,2,   -999,9,231.9,2,232.2,2,2.840,2,1.531,2
  06MT20110624,   A02,711,1,18,18,2,20110630,2023,47.6188,-29.8977,3385, 722.2, 6.2354,35.0295,2,   -999,9,216.7,2,217.9,2,2.616,2,1.417,2
  06MT20110624,   A02,711,1,19,19,2,20110630,2023,47.6188,-29.8977,3385, 608.6, 7.2147,35.0576,2,   -999,9,195.0,2,195.9,6,2.249,2,1.229,2
  06MT20110624,   A02,711,1,20,20,2,20110630,2023,47.6188,-29.8977,3385, 389.9,10.5225,35.3597,2,35.3386,3,202.6,2,198.4,2,2.391,2,1.364,2
  06MT20110624,   A02,711,1,21,21,2,20110630,2023,47.6188,-29.8977,3385, 211.4,11.9438,35.5735,2,   -999,9,248.4,2,246.1,2,2.867,2,1.638,2
  06MT20110624,   A02,711,1,22,22,2,20110630,2023,47.6188,-29.8977,3385,  12.4,15.6614,35.6568,2,35.6540,2,267.0,2,266.5,2,2.560,2,1.572,2