BOTTLE,20231117CCHSIOENA
EXPOCODE,SECT_ID,STNNBR,CASTNO,SAMPNO,BTLNBR,BTLNBR_FLAG_W,DATE,TIME,LATITUDE,LONGITUDE,DEPTH,CTDPRS,CTDTMP,CTDSAL,SALNTY,SALNTY_FLAG_W,SBE35,SBE35_FLAG_W
,,,,,,,,,,,,DBAR,ITS-90,PSS-78,PSS-78,,ITS-90,
74JC20150110,SR1b,15,1,11,11,2,20150115,1325,-57.73333,-56.62776,3582.0,  3619.4,  0.5473, 34.6868, 34.6886,2,  0.5466,2
74JC20150110,SR1b,15,1,12,12,2,20150115,1325,-57.73333,-56.62776,3582.0,  3053.5,  0.7122, 34.6993, 34.7001,2,  0.7141,2
74JC20150110,SR1b,15,1,13,13,2,20150115,1325,-57.73333,-56.62776,3582.0,  2541.8,  0.8356, 34.7071, 34.7067,2,  0.8384,2
74JC20150110,SR1b,15,1,14,14,2,20150115,1325,-57.73333,-56.62776,3582.0,  2033.1,  1.1235, 34.7180, 34.7182,2,  1.1238,2
74JC20150110,SR1b,15,1,15,15,2,20150115,1325,-57.73333,-56.62776,3582.0,  1521.7,  1.5942, 34.7237, 34.7230,2,  1.6023,2
74JC20150110,SR1b,15,1,16,16,2,20150115,1325,-57.73333,-56.62776,3582.0,  1012.7,  2.0401, 34.6934, 34.6933,2,  2.0426,2
74JC20150110,SR1b,15,1,17,17,2,20150115,1325,-57.73333,-56.62776,3582.0,   506.7,  2.4031, 34.5426, 34.5443,2,  2.4028,2
74JC20150110,SR1b,15,1,18,18,2,20150115,1325,-57.73333,-56.62776,3582.0,   203.8,  1.6613, 34.2097, 34.2129,2,  1.6476,2
74JC20150110,SR1b,15,1,19,19,2,20150115,1325,-57.73333,-56.62776,3582.0,    52.7,  0.5944, 33.7564, 33.7584,2,  0.6083,2
74JC20150110,SR1b,15,1,20,20,2,20150115,1325,-57.73333,-56.62776,3582.0,     7.1,  2.9246, 33.7072, 33.7091,2,  2.9270,2
74JC20150110,SR1b,15,1,21,21,2,20150115,1325,-57.73333,-56.62776,3582.0,     7.2,  2.9249, 33.7072,-999.0000,9,-999.0000,9
74JC20150110,SR1b,15,1,22,22,2,20150115,1325,-57.73333,-56.62776,3582.0,     6.7,  2.9262, 33.7075,-999.0000,9,-999.0000,9
74JC20150110,SR1b,15,1,23,23,2,20150115,1325,-57.73333,-56.62776,3582.0,     7.3,  2.9227, 33.7081,-999.0000,9,  2.9241,2
74JC20150110,SR1b,15,1,24,24,2,20150115,1325,-57.73333,-56.62776,3582.0,     6.9,  2.9205, 33.7085,-999.0000,9,-999.0000,9
74JC20150110,SR1b,16,1,1,1,2,20150115,1759,-57.41778,-56.81909,3675.0,  3718.8,  0.2240, 34.6675, 34.6686,2,  0.2222,2
74JC20150110,SR1b,16,1,2,2,2,20150115,1759,-57.41778,-56.81909,3675.0,  3043.6,  0.9731, 34.7102, 34.7094,2,  0.9744,2
74JC20150110,SR1b,16,1,3,3,2,20150115,1759,-57.41778,-56.81909,3675.0,  2538.0,  1.1873, 34.7181, 34.7176,2,  1.1867,2
74JC20150110,SR1b,16,1,4,4,2,20150115,1759,-57.41778,-56.81909,3675.0,  2031.4,  1.5691, 34.7215, 34.7214,2,  1.5694,2
74JC20150110,SR1b,16,1,5,5,2,20150115,1759,-57.41778,-56.81909,3675.0,  1523.0,  1.9760, 34.7102, 34.7109,2,  1.9756,2
74JC20150110,SR1b,16,1,6,6,2,20150115,1759,-57.41778,-56.81909,3675.0,  1015.2,  2.2988, 34.6292, 34.6293,2,  2.3060,2
74JC20150110,SR1b,16,1,7,7,2,20150115,1759,-57.41778,-56.81909,3675.0,   507.2,  2.5702, 34.4245, 34.4245,2,  2.5774,2
74JC20150110,SR1b,16,1,8,8,2,20150115,1759,-57.41778,-56.81909,3675.0,   254.7,  2.1291, 34.1472, 34.1507,2,  2.0759,2
74JC20150110,SR1b,16,1,9,9,2,20150115,1759,-57.41778,-56.81909,3675.0,   104.2,  2.0319, 34.0094, 34.0086,2,  2.0319,2
74JC20150110,SR1b,16,1,10,10,2,20150115,1759,-57.41778,-56.81909,3675.0,    24.1,  3.4823, 33.7329, 33.7349,2,  3.4858,2
74JC20150110,SR1b,17,1,11,11,2,20150115,2244,-57.09924,-57.02177,3897.0,  3966.6,  0.5164, 34.6820, 34.6826,2,  0.5151,2
74JC20150110,SR1b,17,1,12,12,2,20150115,2244,-57.09924,-57.02177,3897.0,  3557.0,  0.6655, 34.6930, 34.6932,2,  0.6715,2
74JC20150110,SR1b,17,1,13,13,2,20150115,2244,-57.09924,-57.02177,3897.0,  3048.0,  1.0186, 34.7103, 34.7108,2,  1.0179,2
74JC20150110,SR1b,17,1,14,14,2,20150115,2244,-57.09924,-57.02177,3897.0,  2538.4,  1.3909, 34.7215, 34.7220,2,  1.3923,2
74JC20150110,SR1b,17,1,15,15,2,20150115,2244,-57.09924,-57.02177,3897.0,  2029.3,  1.7639, 34.7157, 34.7174,2,  1.7638,2
74JC20150110,SR1b,17,1,16,16,2,20150115,2244,-57.09924,-57.02177,3897.0,  1522.5,  2.1065, 34.6807, 34.6813,2,  2.1107,2
74JC20150110,SR1b,17,1,17,17,4,20150115,2244,-57.09924,-57.02177,3897.0,  1014.4,  2.4640, 34.5678, 34.0367,4,  2.4662,2
74JC20150110,SR1b,17,1,18,18,2,20150115,2244,-57.09924,-57.02177,3897.0,   507.8,  2.9194, 34.2991, 34.2943,2,  2.8689,2
74JC20150110,SR1b,17,1,19,19,2,20150115,2244,-57.09924,-57.02177,3897.0,   257.2,  2.7356, 34.0790, 34.0735,2,  2.7466,2
74JC20150110,SR1b,17,1,20,20,2,20150115,2244,-57.09924,-57.02177,3897.0,   106.6,  3.8428, 34.0698, 34.0743,2,  3.8808,2
74JC20150110,SR1b,17,1,21,21,2,20150115,2244,-57.09924,-57.02177,3897.0,    55.6,  5.5052, 34.0368, 34.0381,2,  5.5401,2
74JC20150110,SR1b,17,1,22,22,2,20150115,2244,-57.09924,-57.02177,3897.0,    10.2,  5.5367, 34.0360, 34.0373,2,  5.5358,2
74JC20150110,SR1b,18,1,15,15,2,20150116,311,-56.78214,-57.23299,3086.0,  3125.9,  1.0475, 34.7108, 34.7121,2,  1.0484,2
74JC20150110,SR1b,18,1,16,16,2,20150116,311,-56.78214,-57.23299,3086.0,  2850.2,  1.2320, 34.7164, 34.7166,2,  1.2314,2
74JC20150110,SR1b,18,1,17,17,2,20150116,311,-56.78214,-57.23299,3086.0,  2544.1,  1.4821, 34.7201, 34.7209,2,  1.4846,2
74JC20150110,SR1b,18,1,18,18,2,20150116,311,-56.78214,-57.23299,3086.0,  2236.6,  1.7520, 34.7176, 34.7184,2,  1.7560,2
74JC20150110,SR1b,18,1,19,19,2,20150116,311,-56.78214,-57.23299,3086.0,  2031.6,  1.9485, 34.7077, 34.7079,2,  1.9513,2
74JC20150110,SR1b,18,1,20,20,2,20150116,311,-56.78214,-57.23299,3086.0,  1828.2,  2.0602, 34.6907, 34.6916,2,  2.0618,2
74JC20150110,SR1b,18,1,21,21,2,20150116,311,-56.78214,-57.23299,3086.0,  1318.2,  2.3491, 34.6187, 34.6177,2,  2.3537,2
74JC20150110,SR1b,18,1,22,22,2,20150116,311,-56.78214,-57.23299,3086.0,   711.6,  2.8996, 34.3614, 34.3604,2,  2.9063,2
74JC20150110,SR1b,18,1,23,23,2,20150116,311,-56.78214,-57.23299,3086.0,   406.4,  2.6395, 34.0849, 34.0864,2,  2.7090,2
74JC20150110,SR1b,18,1,24,24,2,20150116,311,-56.78214,-57.23299,3086.0,    55.1,  5.3101, 34.0621, 34.0634,2,  5.5447,2
74JC20150110,SR1b,19,1,1,1,2,20150116,731,-56.46863,-57.42721,3901.0,  3960.5,  0.5187, 34.6816, 34.6822,2,-999.0000,9
74JC20150110,SR1b,19,1,2,2,2,20150116,731,-56.46863,-57.42721,3901.0,  3776.0,  0.5173, 34.6829, 34.6827,2,-999.0000,9
74JC20150110,SR1b,19,1,3,3,2,20150116,731,-56.46863,-57.42721,3901.0,  3568.3,  0.8030, 34.6987, 34.6988,2,-999.0000,9
74JC20150110,SR1b,19,1,4,4,2,20150116,731,-56.46863,-57.42721,3901.0,  3058.4,  1.1244, 34.7139, 34.7143,2,-999.0000,9
74JC20150110,SR1b,19,1,5,5,2,20150116,731,-56.46863,-57.42721,3901.0,  2339.0,  1.6322, 34.7200, 34.7201,2,-999.0000,9
74JC20150110,SR1b,19,1,6,6,2,20150116,731,-56.46863,-57.42721,3901.0,  1320.3,  2.3954, 34.6050, 34.6032,2,-999.0000,9
74JC20150110,SR1b,19,1,7,7,2,20150116,731,-56.46863,-57.42721,3901.0,   917.4,  2.7447, 34.4440, 34.4440,2,-999.0000,9
74JC20150110,SR1b,19,1,8,8,2,20150116,731,-56.46863,-57.42721,3901.0,   459.4,  2.7219, 34.1041, 34.1082,2,-999.0000,9
74JC20150110,SR1b,19,1,9,9,2,20150116,731,-56.46863,-57.42721,3901.0,   126.0,  3.7613, 34.0857, 34.0855,2,-999.0000,9
74JC20150110,SR1b,19,1,10,10,2,20150116,731,-56.46863,-57.42721,3901.0,    47.0,  4.7780, 34.0695, 34.0674,2,-999.0000,9
74JC20150110,SR1b,20,1,11,11,2,20150116,1823,-56.1688,-57.59384,3358.0,  3400.8,  0.8551, 34.7016, 34.7006,2,  0.8486,2
74JC20150110,SR1b,20,1,12,12,2,20150116,1823,-56.1688,-57.59384,3358.0,  3057.3,  1.2640, 34.7169, 34.7175,2,  1.2697,2
74JC20150110,SR1b,20,1,13,13,2,20150116,1823,-56.1688,-57.59384,3358.0,  2543.4,  1.6586, 34.7196, 34.7201,2,  1.6613,2
74JC20150110,SR1b,20,1,14,14,2,20150116,1823,-56.1688,-57.59384,3358.0,  2031.4,  1.9898, 34.6999, 34.6998,2,  1.9889,2
74JC20150110,SR1b,20,1,15,15,2,20150116,1823,-56.1688,-57.59384,3358.0,  1521.1,  2.2893, 34.6423, 34.6403,2,  2.2933,2
74JC20150110,SR1b,20,1,16,16,2,20150116,1823,-56.1688,-57.59384,3358.0,  1014.6,  2.6686, 34.4832, 34.4820,2,  2.6712,2
74JC20150110,SR1b,20,1,17,17,2,20150116,1823,-56.1688,-57.59384,3358.0,   508.4,  2.4432, 34.0967, 34.0949,2,  2.4454,2
74JC20150110,SR1b,20,1,18,18,2,20150116,1823,-56.1688,-57.59384,3358.0,   255.2,  3.3573, 34.0827, 34.0809,2,  3.3583,2
74JC20150110,SR1b,20,1,19,19,2,20150116,1823,-56.1688,-57.59384,3358.0,   105.8,  3.9854, 34.0767, 34.0761,2,  4.0172,2
74JC20150110,SR1b,20,1,20,20,2,20150116,1823,-56.1688,-57.59384,3358.0,    24.4,  5.4062, 34.0339, 34.0332,2,  5.4072,2
74JC20150110,SR1b,21,1,13,13,2,20150116,2318,-55.83152,-57.8019,4755.0,  4841.5,  0.1688, 34.6590, 34.6594,2,  0.1687,2
74JC20150110,SR1b,21,1,14,14,2,20150116,2318,-55.83152,-57.8019,4755.0,  4564.3,  0.1874, 34.6618, 34.6612,2,  0.1871,2
74JC20150110,SR1b,21,1,15,15,2,20150116,2318,-55.83152,-57.8019,4755.0,  4247.5,  0.3789, 34.6736, 34.6721,2,  0.3792,2
74JC20150110,SR1b,21,1,16,16,2,20150116,2318,-55.83152,-57.8019,4755.0,  4037.4,  0.5109, 34.6818, 34.6815,2,  0.5186,2
74JC20150110,SR1b,21,1,17,17,2,20150116,2318,-55.83152,-57.8019,4755.0,  2726.0,  1.6474, 34.7220, 34.7211,2,  1.6473,2
74JC20150110,SR1b,21,1,18,18,2,20150116,2318,-55.83152,-57.8019,4755.0,  2028.7,  2.0852, 34.6915, 34.6895,2,  2.0860,2
74JC20150110,SR1b,21,1,19,19,2,20150116,2318,-55.83152,-57.8019,4755.0,  1113.1,  2.8789, 34.4399, 34.4382,2,  2.8804,2
74JC20150110,SR1b,21,1,20,20,2,20150116,2318,-55.83152,-57.8019,4755.0,   758.4,  3.2703, 34.2100, 34.2150,2,  3.2426,2
74JC20150110,SR1b,21,1,21,21,2,20150116,2318,-55.83152,-57.8019,4755.0,   506.9,  3.9070, 34.1323, 34.1314,2,  3.9105,2
74JC20150110,SR1b,21,1,22,22,2,20150116,2318,-55.83152,-57.8019,4755.0,   187.0,  4.9749, 34.1623, 34.1615,2,  4.9758,2
74JC20150110,SR1b,21,1,23,23,2,20150116,2318,-55.83152,-57.8019,4755.0,    66.7,  6.2975, 34.1047, 34.1036,2,  6.3030,2
74JC20150110,SR1b,21,1,24,24,2,20150116,2318,-55.83152,-57.8019,4755.0,    27.9,  6.3321, 34.1046, 34.1019,2,  6.3363,2
74JC20150110,SR1b,22,1,1,1,2,20150117,437,-55.51735,-58.00173,4224.0,  4290.1,  0.7474, 34.6926, 34.6918,2,  0.7160,2
74JC20150110,SR1b,22,1,2,2,2,20150117,437,-55.51735,-58.00173,4224.0,  4024.4,  0.9862, 34.7064, 34.7052,2,  0.9935,2
74JC20150110,SR1b,22,1,3,3,2,20150117,437,-55.51735,-58.00173,4224.0,  3613.6,  1.3085, 34.7179, 34.7182,2,  1.3097,2
74JC20150110,SR1b,22,1,4,4,2,20150117,437,-55.51735,-58.00173,4224.0,  3202.7,  1.6300, 34.7220, 34.7223,2,  1.6335,2
74JC20150110,SR1b,22,1,5,5,2,20150117,437,-55.51735,-58.00173,4224.0,  2793.8,  1.8769, 34.7127, 34.7129,2,  1.8775,2
74JC20150110,SR1b,22,1,6,6,2,20150117,437,-55.51735,-58.00173,4224.0,  2486.4,  2.0174, 34.7013, 34.7007,2,  2.0170,2
74JC20150110,SR1b,22,1,7,7,2,20150117,437,-55.51735,-58.00173,4224.0,  1974.9,  2.2813, 34.6517, 34.6504,2,  2.2809,2
74JC20150110,SR1b,22,1,8,8,2,20150117,437,-55.51735,-58.00173,4224.0,  1469.6,  2.6004, 34.5388, 34.5381,2,  2.6013,2
74JC20150110,SR1b,22,1,9,9,2,20150117,437,-55.51735,-58.00173,4224.0,   991.6,  3.2490, 34.3225, 34.3229,2,  3.2496,2
74JC20150110,SR1b,22,1,10,10,2,20150117,437,-55.51735,-58.00173,4224.0,   657.7,  3.8872, 34.1530, 34.1529,2,  3.8881,2
74JC20150110,SR1b,22,1,11,11,2,20150117,437,-55.51735,-58.00173,4224.0,   258.1,  4.9067, 34.1655, 34.1636,2,  4.9093,2
74JC20150110,SR1b,22,1,12,12,2,20150117,437,-55.51735,-58.00173,4224.0,    57.3,  6.2718, 34.1120, 34.1136,2,  6.2747,2
74JC20150110,SR1b,23,1,13,13,2,20150117,919,-55.21275,-58.00019,3782.0,  3837.6,  1.0770, 34.7091, 34.7099,2,-999.0000,9
74JC20150110,SR1b,23,1,14,14,2,20150117,919,-55.21275,-58.00019,3782.0,  3660.1,  1.1632, 34.7127, 34.7131,2,-999.0000,9
74JC20150110,SR1b,23,1,15,15,2,20150117,919,-55.21275,-58.00019,3782.0,  3252.2,  1.6463, 34.7208, 34.7213,2,-999.0000,9
74JC20150110,SR1b,23,1,16,16,2,20150117,919,-55.21275,-58.00019,3782.0,  2539.0,  2.0805, 34.6996, 34.6999,2,-999.0000,9
74JC20150110,SR1b,23,1,17,17,2,20150117,919,-55.21275,-58.00019,3782.0,  2030.2,  2.4249, 34.6138, 34.6139,2,-999.0000,9
74JC20150110,SR1b,23,1,18,18,2,20150117,919,-55.21275,-58.00019,3782.0,  1519.6,  2.8531, 34.4504, 34.4505,2,-999.0000,9
74JC20150110,SR1b,23,1,19,19,2,20150117,919,-55.21275,-58.00019,3782.0,  1110.8,  3.0890, 34.2867, 34.2859,2,-999.0000,9
74JC20150110,SR1b,23,1,20,20,2,20150117,919,-55.21275,-58.00019,3782.0,   709.8,  3.5356, 34.1851, 34.1851,2,-999.0000,9
74JC20150110,SR1b,23,1,21,21,2,20150117,919,-55.21275,-58.00019,3782.0,   308.9,  4.7849, 34.1592, 34.1589,2,-999.0000,9
74JC20150110,SR1b,23,1,22,22,2,20150117,919,-55.21275,-58.00019,3782.0,    56.6,  6.4593, 34.0581, 34.0585,2,-999.0000,9
74JC20150110,SR1b,24,1,1,1,2,20150117,1232,-55.1698,-57.99991,3050.0,  3084.5,  1.6279, 34.7203, 34.7209,2,  1.6268,2
74JC20150110,SR1b,24,1,2,2,2,20150117,1232,-55.1698,-57.99991,3050.0,  2534.7,  2.0474, 34.6980, 34.6982,2,  2.0470,2
74JC20150110,SR1b,24,1,3,3,2,20150117,1232,-55.1698,-57.99991,3050.0,  2024.9,  2.4170, 34.6156, 34.6166,2,  2.4179,2
74JC20150110,SR1b,24,1,4,4,2,20150117,1232,-55.1698,-57.99991,3050.0,  1515.3,  2.8240, 34.4585, 34.4585,2,  2.8239,2
74JC20150110,SR1b,24,1,5,5,2,20150117,1232,-55.1698,-57.99991,3050.0,  1004.0,  3.3369, 34.2546, 34.2543,2,  3.3369,2
74JC20150110,SR1b,24,1,6,6,2,20150117,1232,-55.1698,-57.99991,3050.0,   506.8,  3.9904, 34.1247, 34.1256,2,  3.9913,2
74JC20150110,SR1b,24,1,7,7,2,20150117,1232,-55.1698,-57.99991,3050.0,   257.6,  4.9004, 34.1493, 34.1493,2,  4.9048,2
74JC20150110,SR1b,24,1,8,8,2,20150117,1232,-55.1698,-57.99991,3050.0,    34.7,  6.3717, 34.0624, 34.0625,2,  6.3886,2
74JC20150110,SR1b,25,1,17,17,2,20150117,2030,-55.12046,-58.0003,2789.0,  2819.2,  1.7696, 34.7159, 34.7161,2,  1.7833,2
74JC20150110,SR1b,25,1,18,18,2,20150117,2030,-55.12046,-58.0003,2789.0,  2334.5,  2.1950, 34.6773, 34.6774,2,  2.1951,2
74JC20150110,SR1b,25,1,19,19,2,20150117,2030,-55.12046,-58.0003,2789.0,  1825.0,  2.5099, 34.5838, 34.5838,2,  2.5120,2
74JC20150110,SR1b,25,1,20,20,2,20150117,2030,-55.12046,-58.0003,2789.0,  1315.0,  2.9637, 34.3999, 34.3994,2,  2.9644,2
74JC20150110,SR1b,25,1,21,21,2,20150117,2030,-55.12046,-58.0003,2789.0,   808.2,  3.5079, 34.1667, 34.1661,2,  3.5102,2
74JC20150110,SR1b,25,1,22,22,2,20150117,2030,-55.12046,-58.0003,2789.0,   307.3,  4.8452, 34.1445, 34.1441,2,  4.8498,2
74JC20150110,SR1b,25,1,23,23,2,20150117,2030,-55.12046,-58.0003,2789.0,   106.3,  5.4799, 34.0763, 34.0764,2,  5.4964,2
74JC20150110,SR1b,25,1,24,24,2,20150117,2030,-55.12046,-58.0003,2789.0,    25.7,  6.2654, 34.0643, 34.0639,2,  6.2632,2
74JC20150110,SR1b,26,1,1,1,2,20150117,2248,-55.06996,-58.00002,2306.0,  2328.7,  2.2343, 34.6686, 34.6685,2,  2.2356,2
74JC20150110,SR1b,26,1,2,2,2,20150117,2248,-55.06996,-58.00002,2306.0,  2030.2,  2.3622, 34.6308, 34.6307,2,  2.3617,2
74JC20150110,SR1b,26,1,3,3,2,20150117,2248,-55.06996,-58.00002,2306.0,  1622.4,  2.6380, 34.5322, 34.5322,2,  2.6410,2
74JC20150110,SR1b,26,1,4,4,2,20150117,2248,-55.06996,-58.00002,2306.0,  1213.7,  3.0864, 34.3854, 34.3838,2,  3.0865,2
74JC20150110,SR1b,26,1,5,5,2,20150117,2248,-55.06996,-58.00002,2306.0,   808.2,  3.6669, 34.1746, 34.1500,2,  3.6674,2
74JC20150110,SR1b,26,1,6,6,2,20150117,2248,-55.06996,-58.00002,2306.0,   405.1,  4.5706, 34.1499, 34.1360,2,  4.5744,2
74JC20150110,SR1b,26,1,7,7,2,20150117,2248,-55.06996,-58.00002,2306.0,   202.3,  5.0809, 34.1349, 34.1357,2,  5.0836,2
74JC20150110,SR1b,26,1,8,8,2,20150117,2248,-55.06996,-58.00002,2306.0,    53.3,  6.3643, 34.0615, 34.0614,2,  6.3649,2
74JC20150110,SR1b,27,1,9,9,2,20150118,102,-55.00685,-57.9974,1661.0,  1672.9,  2.5668, 34.5600, 34.5585,2,  2.5640,2
74JC20150110,SR1b,27,1,10,10,2,20150118,102,-55.00685,-57.9974,1661.0,  1520.9,  2.6477, 34.5288, 34.5276,2,  2.6548,2
74JC20150110,SR1b,27,1,11,11,2,20150118,102,-55.00685,-57.9974,1661.0,  1217.9,  3.0746, 34.3914, 34.3911,2,  3.0833,2
74JC20150110,SR1b,27,1,12,12,2,20150118,102,-55.00685,-57.9974,1661.0,  1013.7,  3.3523, 34.2748, 34.2735,2,  3.3551,2
74JC20150110,SR1b,27,1,13,13,2,20150118,102,-55.00685,-57.9974,1661.0,   708.7,  3.8851, 34.1493, 34.1497,2,  3.9152,2
74JC20150110,SR1b,27,1,14,14,2,20150118,102,-55.00685,-57.9974,1661.0,   304.7,  4.9192, 34.1639, 34.1633,2,  4.9305,2
74JC20150110,SR1b,27,1,15,15,2,20150118,102,-55.00685,-57.9974,1661.0,   203.8,  5.0069, 34.1516, 34.1519,2,  5.0108,2
74JC20150110,SR1b,27,1,16,16,2,20150118,102,-55.00685,-57.9974,1661.0,    53.1,  6.7094, 34.0256, 34.0261,2,  6.7679,2
74JC20150110,SR1b,28,1,1,1,2,20150118,232,-54.97763,-58.00375,982.0,   982.1,  3.2948, 34.2955, 34.2925,2,  3.2930,2
74JC20150110,SR1b,28,1,2,2,2,20150118,232,-54.97763,-58.00375,982.0,   911.9,  3.4379, 34.2372, 34.2344,2,  3.4586,2
74JC20150110,SR1b,28,1,3,3,2,20150118,232,-54.97763,-58.00375,982.0,   710.4,  3.8093, 34.1513, 34.1514,2,  3.8162,2
74JC20150110,SR1b,28,1,4,4,2,20150118,232,-54.97763,-58.00375,982.0,   507.5,  4.5487, 34.1499, 34.1497,2,  4.5488,2
74JC20150110,SR1b,28,1,5,5,2,20150118,232,-54.97763,-58.00375,982.0,   305.2,  4.9294, 34.1488, 34.1477,2,  4.9346,2
74JC20150110,SR1b,28,1,6,6,2,20150118,232,-54.97763,-58.00375,982.0,    52.9,  6.6842, 34.0460, 34.0456,2,  6.6879,2
74JC20150110,SR1b,29,1,7,7,2,20150118,409,-54.90397,-57.99327,589.0,   585.0,  4.1418, 34.1467, 34.1460,2,  4.1396,2
74JC20150110,SR1b,29,1,8,8,2,20150118,409,-54.90397,-57.99327,589.0,   507.1,  4.2164, 34.1459, 34.1457,2,  4.2468,2
74JC20150110,SR1b,29,1,9,9,2,20150118,409,-54.90397,-57.99327,589.0,   456.0,  4.4902, 34.1475, 34.1477,2,  4.4947,2
74JC20150110,SR1b,29,1,10,10,2,20150118,409,-54.90397,-57.99327,589.0,   224.1,  5.0212, 34.1330, 34.1330,2,  5.0510,2
74JC20150110,SR1b,29,1,11,11,2,20150118,409,-54.90397,-57.99327,589.0,   123.3,  5.5183, 34.0997, 34.0998,2,  5.5483,2
74JC20150110,SR1b,29,1,12,12,2,20150118,409,-54.90397,-57.99327,589.0,    52.2,  6.7962, 33.9568, 33.9687,2,  6.8263,2
74JC20150110,SR1b,30,1,21,21,2,20150118,608,-54.73745,-57.99291,206.0,   197.8,  5.2539, 34.1129, 34.1125,2,  5.2505,2
74JC20150110,SR1b,30,1,22,22,2,20150118,608,-54.73745,-57.99291,206.0,   152.2,  5.3089, 34.1092, 34.1087,2,  5.3304,2
74JC20150110,SR1b,30,1,23,23,2,20150118,608,-54.73745,-57.99291,206.0,   102.1,  5.6150, 34.0916, 34.0904,2,  5.6615,2
74JC20150110,SR1b,30,1,24,24,2,20150118,608,-54.73745,-57.99291,206.0,    51.9,  6.5655, 34.0147, 34.0150,2,  6.5704,2