BOTTLE,20231117CCHSIOENA
# These data are under a CC0 license. For more information on how to cite, please visit cchdo.ucsd.edu.
# changed BTLNBR_FLAG_W from 2 to 4 at station 11, cast 1, bottle 17 and station 17, cast 1, bottle 17 per request from Chief Scientist
# BOTTLE,20150203CCHSIOCBG
# changed SBE35TMP to SBE35, removed extra spaces
# changed SALNTY flag to 4 at 11-1-17 and 17-1-17
#BOTTLE,20150120OCPNOCYLF
# The CTD PRS;  TMP;  SAL; data are all calibrated and good . 
EXPOCODE,SECT_ID,STNNBR,CASTNO,SAMPNO,BTLNBR,BTLNBR_FLAG_W,DATE,TIME,LATITUDE,LONGITUDE,DEPTH,CTDPRS,CTDTMP,CTDSAL,SALNTY,SALNTY_FLAG_W,SBE35,SBE35_FLAG_W
,,,,,,,,,,,,DBAR,ITS-90,PSS-78,PSS-78,,ITS-90,
74JC20150110,SR1b,1,1,1,1,2,20150113,731,-61.05073,-54.58947,359.0,   352.7, -0.3917, 34.5309, 34.5314,2, -0.3929,2
74JC20150110,SR1b,1,1,2,2,2,20150113,731,-61.05073,-54.58947,359.0,   305.2, -0.2640, 34.4965, 34.4975,2, -0.2485,2
74JC20150110,SR1b,1,1,3,3,2,20150113,731,-61.05073,-54.58947,359.0,   254.7, -0.1750, 34.4290, 34.4317,2, -0.1752,2
74JC20150110,SR1b,1,1,4,4,2,20150113,731,-61.05073,-54.58947,359.0,   203.6, -0.1750, 34.4003, 34.3987,2, -0.1938,2
74JC20150110,SR1b,1,1,5,5,2,20150113,731,-61.05073,-54.58947,359.0,   153.4, -0.1243, 34.3791, 34.3793,2, -0.1284,2
74JC20150110,SR1b,1,1,6,6,2,20150113,731,-61.05073,-54.58947,359.0,    82.6,  0.0479, 34.3266, 34.3296,2,  0.0457,2
74JC20150110,SR1b,2,1,1,1,2,20150113,843,-60.981,-54.6295,581.0,   577.2, -0.4894, 34.5694, 34.5693,2, -0.4885,2
74JC20150110,SR1b,2,1,2,2,2,20150113,843,-60.981,-54.6295,581.0,   517.3, -0.5154, 34.5600, 34.5606,2, -0.5167,2
74JC20150110,SR1b,2,1,3,3,2,20150113,843,-60.981,-54.6295,581.0,   457.2, -0.5453, 34.5437, 34.5432,2, -0.5501,2
74JC20150110,SR1b,2,1,4,4,2,20150113,843,-60.981,-54.6295,581.0,   396.9, -0.5756, 34.5251, 34.5247,2, -0.5769,2
74JC20150110,SR1b,2,1,5,5,2,20150113,843,-60.981,-54.6295,581.0,   335.0, -0.5740, 34.4941, 34.4937,2, -0.5704,2
74JC20150110,SR1b,2,1,6,6,2,20150113,843,-60.981,-54.6295,581.0,   275.7, -0.4139, 34.4599, 34.4609,2, -0.4128,2
74JC20150110,SR1b,2,1,7,7,2,20150113,843,-60.981,-54.6295,581.0,   214.0, -0.1830, 34.4377, 34.4369,2, -0.1702,2
74JC20150110,SR1b,2,1,8,8,2,20150113,843,-60.981,-54.6295,581.0,   153.5, -0.1668, 34.3990, 34.3971,2, -0.1699,2
74JC20150110,SR1b,3,1,1,1,2,20150113,1023,-60.84999,-54.70878,962.0,   959.6,  0.2036, 34.6539, 34.6546,2,  0.2030,2
74JC20150110,SR1b,3,1,2,2,2,20150113,1023,-60.84999,-54.70878,962.0,   933.1,  0.2017, 34.6541, 34.6551,2,  0.2010,2
74JC20150110,SR1b,3,1,3,3,2,20150113,1023,-60.84999,-54.70878,962.0,   853.1,  0.1979, 34.6539, 34.6546,2,  0.1969,2
74JC20150110,SR1b,3,1,4,4,2,20150113,1023,-60.84999,-54.70878,962.0,   771.6,  0.1980, 34.6532, 34.6536,2,  0.1951,2
74JC20150110,SR1b,3,1,5,5,2,20150113,1023,-60.84999,-54.70878,962.0,   691.0,  0.1152, 34.6332, 34.6355,2,  0.1142,2
74JC20150110,SR1b,3,1,6,6,2,20150113,1023,-60.84999,-54.70878,962.0,   609.1,  0.0345, 34.6150, 34.6160,2,  0.0318,2
74JC20150110,SR1b,3,1,7,7,2,20150113,1023,-60.84999,-54.70878,962.0,   528.0,  0.0377, 34.6031, 34.6024,2,  0.0432,2
74JC20150110,SR1b,3,1,8,8,2,20150113,1023,-60.84999,-54.70878,962.0,   345.4, -0.3276, 34.5335, 34.5234,2, -0.5107,2
74JC20150110,SR1b,3,1,9,9,2,20150113,1023,-60.84999,-54.70878,962.0,   265.4, -0.4291, 34.4932, 34.4926,2, -0.4977,2
74JC20150110,SR1b,3,1,10,10,2,20150113,1023,-60.84999,-54.70878,962.0,   144.3, -0.3827, 34.4041, 34.4083,2, -0.3831,2
74JC20150110,SR1b,3,1,11,11,2,20150113,1023,-60.84999,-54.70878,962.0,   144.7, -0.3834, 34.4036,-999.0000,9, -0.3835,4
74JC20150110,SR1b,3,1,12,12,2,20150113,1023,-60.84999,-54.70878,962.0,   144.6, -0.3833, 34.4036,-999.0000,9,-999.0000,9
74JC20150110,SR1b,3,1,13,13,2,20150113,1023,-60.84999,-54.70878,962.0,   143.9, -0.3832, 34.4036,-999.0000,9,-999.0000,9
74JC20150110,SR1b,3,1,14,14,2,20150113,1023,-60.84999,-54.70878,962.0,   144.7, -0.3831, 34.4036,-999.0000,9, -0.3834,4
74JC20150110,SR1b,3,1,15,15,2,20150113,1023,-60.84999,-54.70878,962.0,   144.7, -0.3831, 34.4035,-999.0000,9,-999.0000,9
74JC20150110,SR1b,3,1,16,16,2,20150113,1023,-60.84999,-54.70878,962.0,   144.5, -0.3831, 34.4033,-999.0000,9,-999.0000,9
74JC20150110,SR1b,3,1,17,17,2,20150113,1023,-60.84999,-54.70878,962.0,   144.0, -0.3832, 34.4037,-999.0000,9,-999.0000,9
74JC20150110,SR1b,3,1,18,18,2,20150113,1023,-60.84999,-54.70878,962.0,   143.4, -0.3832, 34.4035,-999.0000,9, -0.3830,4
74JC20150110,SR1b,3,1,19,19,2,20150113,1023,-60.84999,-54.70878,962.0,   142.6, -0.3831, 34.4035,-999.0000,9,-999.0000,9
74JC20150110,SR1b,3,1,20,20,2,20150113,1023,-60.84999,-54.70878,962.0,   139.2, -0.3828, 34.4033,-999.0000,9,-999.0000,9
74JC20150110,SR1b,3,1,21,21,2,20150113,1023,-60.84999,-54.70878,962.0,   138.5, -0.3829, 34.4034,-999.0000,9, -0.3818,4
74JC20150110,SR1b,3,1,22,22,2,20150113,1023,-60.84999,-54.70878,962.0,   136.5, -0.3828, 34.4034,-999.0000,9,-999.0000,9
74JC20150110,SR1b,3,1,23,23,2,20150113,1023,-60.84999,-54.70878,962.0,   133.3, -0.3820, 34.4034,-999.0000,9,-999.0000,9
74JC20150110,SR1b,3,1,24,24,2,20150113,1023,-60.84999,-54.70878,962.0,   130.4, -0.3821, 34.4032,-999.0000,9,-999.0000,9
74JC20150110,SR1b,4,1,1,1,2,20150113,1435,-60.83309,-54.72118,1754.0,  1774.1,  0.1808, 34.6532, 34.6546,2,  0.1793,2
74JC20150110,SR1b,4,1,2,2,2,20150113,1435,-60.83309,-54.72118,1754.0,  1625.5,  0.1803, 34.6538, 34.6545,2,  0.1793,2
74JC20150110,SR1b,4,1,3,3,2,20150113,1435,-60.83309,-54.72118,1754.0,  1319.7,  0.2094, 34.6562, 34.6572,2,  0.2062,2
74JC20150110,SR1b,4,1,4,4,2,20150113,1435,-60.83309,-54.72118,1754.0,  1015.3,  0.1270, 34.6405, 34.6412,2,  0.1281,2
74JC20150110,SR1b,4,1,5,5,2,20150113,1435,-60.83309,-54.72118,1754.0,   608.8,  0.9601, 34.6842, 34.6845,2,  0.9701,2
74JC20150110,SR1b,4,1,6,6,2,20150113,1435,-60.83309,-54.72118,1754.0,   355.0,  0.8385, 34.6157, 34.6160,2,  0.8396,2
74JC20150110,SR1b,4,1,7,7,2,20150113,1435,-60.83309,-54.72118,1754.0,   204.4, -0.4610, 34.4269, 34.4291,2, -0.4583,2
74JC20150110,SR1b,4,1,8,8,2,20150113,1435,-60.83309,-54.72118,1754.0,    83.0, -0.2568, 34.3200, 34.3242,2, -0.2523,2
74JC20150110,SR1b,4,1,9,9,2,20150113,1435,-60.83309,-54.72118,1754.0,    22.4,  0.6425, 34.2462, 34.2589,2,  0.6487,2
74JC20150110,SR1b,4,1,10,10,2,20150113,1435,-60.83309,-54.72118,1754.0,     7.0,  0.6598, 34.2449, 34.2463,2,  0.6754,2
74JC20150110,SR1b,5,1,1,1,2,20150113,1632,-60.80038,-54.74201,2520.0,  2544.0,  0.0084, 34.6605, 34.6608,2,  0.0071,2
74JC20150110,SR1b,5,1,2,2,2,20150113,1632,-60.80038,-54.74201,2520.0,  2033.2,  0.1113, 34.6641, 34.6643,2,  0.1114,2
74JC20150110,SR1b,5,1,3,3,2,20150113,1632,-60.80038,-54.74201,2520.0,  1727.4,  0.3064, 34.6780, 34.6766,2,  0.3059,2
74JC20150110,SR1b,5,1,4,4,2,20150113,1632,-60.80038,-54.74201,2520.0,  1419.5,  0.4225, 34.6823, 34.6831,2,  0.4247,2
74JC20150110,SR1b,5,1,5,5,2,20150113,1632,-60.80038,-54.74201,2520.0,  1117.0,  0.6498, 34.6924, 34.6928,2,  0.6481,2
74JC20150110,SR1b,5,1,6,6,2,20150113,1632,-60.80038,-54.74201,2520.0,   812.5,  0.8433, 34.6988, 34.6984,2,  0.8449,2
74JC20150110,SR1b,5,1,7,7,2,20150113,1632,-60.80038,-54.74201,2520.0,   406.9,  0.8704, 34.6358, 34.6362,2,  0.8667,2
74JC20150110,SR1b,5,1,8,8,2,20150113,1632,-60.80038,-54.74201,2520.0,   204.4,  0.7236, 34.4888, 34.4922,2,  0.7225,2
74JC20150110,SR1b,5,1,9,9,2,20150113,1632,-60.80038,-54.74201,2520.0,   103.7,  0.0509, 34.2771, 34.2895,2,  0.0510,2
74JC20150110,SR1b,5,1,10,10,2,20150113,1632,-60.80038,-54.74201,2520.0,    52.8,  0.6606, 34.1972, 34.2165,2,  0.6664,2
74JC20150110,SR1b,5,1,11,11,2,20150113,1632,-60.80038,-54.74201,2520.0,    27.5,  0.9299, 34.1598, 34.1639,2,  0.9276,2
74JC20150110,SR1b,5,1,12,12,2,20150113,1632,-60.80038,-54.74201,2520.0,     7.3,  1.4939, 34.1672, 34.1661,2,  1.4852,2
74JC20150110,SR1b,6,1,1,1,2,20150113,1924,-60.66733,-54.82585,3107.0,  3151.0, -0.0970, 34.6554, 34.6561,2, -0.0985,2
74JC20150110,SR1b,6,1,2,2,2,20150113,1924,-60.66733,-54.82585,3107.0,  2733.1, -0.0006, 34.6605, 34.6608,2, -0.0011,2
74JC20150110,SR1b,6,1,3,3,2,20150113,1924,-60.66733,-54.82585,3107.0,  2426.1,  0.0573, 34.6639, 34.6646,2,  0.0563,2
74JC20150110,SR1b,6,1,4,4,2,20150113,1924,-60.66733,-54.82585,3107.0,  2017.3,  0.1920, 34.6719, 34.6725,2,  0.1908,2
74JC20150110,SR1b,6,1,5,5,2,20150113,1924,-60.66733,-54.82585,3107.0,  1610.9,  0.5220, 34.6954, 34.6961,2,  0.5217,2
74JC20150110,SR1b,6,1,6,6,2,20150113,1924,-60.66733,-54.82585,3107.0,  1308.0,  0.5576, 34.6801, 34.6798,2,  0.5564,2
74JC20150110,SR1b,6,1,7,7,2,20150113,1924,-60.66733,-54.82585,3107.0,   707.0,  0.8371, 34.6580, 34.6589,2,  0.8287,2
74JC20150110,SR1b,6,1,8,8,2,20150113,1924,-60.66733,-54.82585,3107.0,   308.7,  1.9378, 34.6673, 34.6675,2,  1.9492,2
74JC20150110,SR1b,6,1,9,9,2,20150113,1924,-60.66733,-54.82585,3107.0,   177.9,  1.5359, 34.5221, 34.5326,2,  1.5446,2
74JC20150110,SR1b,6,1,10,10,2,20150113,1924,-60.66733,-54.82585,3107.0,    26.4,  0.6133, 34.1039, 34.1221,2,  0.6441,2
74JC20150110,SR1b,6,1,11,11,2,20150113,1924,-60.66733,-54.82585,3107.0,     2.2,  1.0859, 33.9855, 34.0034,2,  1.1000,2
74JC20150110,SR1b,7,1,1,1,2,20150113,2341,-60.3322,-55.01728,3431.0,  3482.1, -0.0549, 34.6560, 34.6545,2, -0.0564,2
74JC20150110,SR1b,7,1,2,2,2,20150113,2341,-60.3322,-55.01728,3431.0,  3057.2,  0.0451, 34.6613, 34.6607,2,  0.0442,2
74JC20150110,SR1b,7,1,3,3,2,20150113,2341,-60.3322,-55.01728,3431.0,  2648.2,  0.1802, 34.6687, 34.6699,2,  0.1791,2
74JC20150110,SR1b,7,1,4,4,2,20150113,2341,-60.3322,-55.01728,3431.0,  2135.8,  0.4854, 34.6900, 34.6899,2,  0.4872,2
74JC20150110,SR1b,7,1,5,5,2,20150113,2341,-60.3322,-55.01728,3431.0,  1829.8,  0.6932, 34.7014, 34.7033,2,  0.6919,2
74JC20150110,SR1b,7,1,6,6,2,20150113,2341,-60.3322,-55.01728,3431.0,  1524.9,  0.9215, 34.7106, 34.7114,2,  0.9213,2
74JC20150110,SR1b,7,1,7,7,2,20150113,2341,-60.3322,-55.01728,3431.0,  1321.0,  1.0493, 34.7153, 34.7144,2,  1.0519,2
74JC20150110,SR1b,7,1,8,8,2,20150113,2341,-60.3322,-55.01728,3431.0,  1117.6,  1.2119, 34.7167, 34.7163,2,  1.2123,2
74JC20150110,SR1b,7,1,9,9,2,20150113,2341,-60.3322,-55.01728,3431.0,   914.2,  1.4504, 34.7191, 34.7193,2,  1.4534,2
74JC20150110,SR1b,7,1,10,10,2,20150113,2341,-60.3322,-55.01728,3431.0,   610.6,  1.8354, 34.7119, 34.7116,2,  1.8394,2
74JC20150110,SR1b,7,1,11,11,2,20150113,2341,-60.3322,-55.01728,3431.0,   604.2,  1.8425, 34.7120,-999.0000,9,  1.8683,4
74JC20150110,SR1b,7,1,12,12,2,20150113,2341,-60.3322,-55.01728,3431.0,   587.3,  1.8731, 34.7127,-999.0000,9,  1.8889,4
74JC20150110,SR1b,7,1,13,13,2,20150113,2341,-60.3322,-55.01728,3431.0,   578.7,  1.8852, 34.7121,-999.0000,9,-999.0000,9
74JC20150110,SR1b,7,1,14,14,2,20150113,2341,-60.3322,-55.01728,3431.0,   571.5,  1.8917, 34.7114,-999.0000,9,  1.8953,4
74JC20150110,SR1b,7,1,15,15,2,20150113,2341,-60.3322,-55.01728,3431.0,   568.1,  1.8891, 34.7117,-999.0000,9,-999.0000,9
74JC20150110,SR1b,7,1,16,16,2,20150113,2341,-60.3322,-55.01728,3431.0,   556.0,  1.9007, 34.7106,-999.0000,9,  1.9039,4
74JC20150110,SR1b,7,1,17,17,2,20150113,2341,-60.3322,-55.01728,3431.0,   549.7,  1.9028, 34.7104,-999.0000,9,-999.0000,9
74JC20150110,SR1b,7,1,18,18,2,20150113,2341,-60.3322,-55.01728,3431.0,   544.9,  1.9051, 34.7102,-999.0000,9,  1.9199,4
74JC20150110,SR1b,7,1,19,19,2,20150113,2341,-60.3322,-55.01728,3431.0,   540.7,  1.9084, 34.7099,-999.0000,9,-999.0000,9
74JC20150110,SR1b,7,1,20,20,2,20150113,2341,-60.3322,-55.01728,3431.0,   535.5,  1.9236, 34.7079,-999.0000,9,-999.0000,9
74JC20150110,SR1b,7,1,21,21,2,20150113,2341,-60.3322,-55.01728,3431.0,   526.1,  1.9251, 34.7073,-999.0000,9,  1.9235,4
74JC20150110,SR1b,7,1,22,22,2,20150113,2341,-60.3322,-55.01728,3431.0,   521.4,  1.9247, 34.7058,-999.0000,9,-999.0000,9
74JC20150110,SR1b,7,1,23,23,2,20150113,2341,-60.3322,-55.01728,3431.0,   516.2,  1.9238, 34.7054,-999.0000,9,-999.0000,9
74JC20150110,SR1b,7,1,24,24,2,20150113,2341,-60.3322,-55.01728,3431.0,   510.3,  1.9220, 34.7037,-999.0000,9,  1.9405,4
74JC20150110,SR1b,8,1,1,1,2,20150114,414,-60.00063,-55.2325,3499.0,  3553.0, -0.0031, 34.6575, 34.6578,2, -0.0042,2
74JC20150110,SR1b,8,1,2,2,2,20150114,414,-60.00063,-55.2325,3499.0,  3058.1,  0.0683, 34.6620, 34.6619,2,  0.0683,2
74JC20150110,SR1b,8,1,3,3,2,20150114,414,-60.00063,-55.2325,3499.0,  2238.4,  0.5223, 34.6880, 34.6891,2,  0.5238,2
74JC20150110,SR1b,8,1,4,4,2,20150114,414,-60.00063,-55.2325,3499.0,  1525.4,  1.0827, 34.7172, 34.7178,2,  1.0834,2
74JC20150110,SR1b,8,1,5,5,2,20150114,414,-60.00063,-55.2325,3499.0,  1016.7,  1.5640, 34.7209, 34.7209,2,  1.5775,2
74JC20150110,SR1b,8,1,6,6,2,20150114,414,-60.00063,-55.2325,3499.0,   510.3,  2.0425, 34.6690, 34.6716,2,  2.0554,2
74JC20150110,SR1b,8,1,7,7,2,20150114,414,-60.00063,-55.2325,3499.0,   156.5,  2.0170, 34.3812, 34.3847,2,  2.0064,2
74JC20150110,SR1b,8,1,8,8,2,20150114,414,-60.00063,-55.2325,3499.0,    76.5, -0.0647, 33.9825, 33.9847,2, -0.0677,2
74JC20150110,SR1b,9,1,1,1,2,20150114,841,-59.66621,-55.44346,3675.0,  3731.3, -0.1738, 34.6516, 34.6519,2, -0.1753,2
74JC20150110,SR1b,9,1,2,2,2,20150114,841,-59.66621,-55.44346,3675.0,  3057.7,  0.0338, 34.6579, 34.6578,2,  0.0327,2
74JC20150110,SR1b,9,1,3,3,2,20150114,841,-59.66621,-55.44346,3675.0,  2035.4,  0.4544, 34.6812, 34.6814,2,  0.4544,2
74JC20150110,SR1b,9,1,4,4,2,20150114,841,-59.66621,-55.44346,3675.0,  1524.8,  0.7930, 34.6984, 34.6993,2,  0.8010,2
74JC20150110,SR1b,9,1,5,5,2,20150114,841,-59.66621,-55.44346,3675.0,   712.5,  1.6336, 34.7131, 34.7110,2,  1.6410,2
74JC20150110,SR1b,9,1,6,6,2,20150114,841,-59.66621,-55.44346,3675.0,   358.9,  0.4753, 34.5057, 34.5114,2,  0.5462,2
74JC20150110,SR1b,9,1,7,7,2,20150114,841,-59.66621,-55.44346,3675.0,   157.4,  1.1922, 34.4410, 34.4583,2,  1.1541,2
74JC20150110,SR1b,9,1,8,8,2,20150114,841,-59.66621,-55.44346,3675.0,    77.2,  0.2650, 34.0755, 34.0925,2,  0.2624,2
74JC20150110,SR1b,10,1,9,9,2,20150114,1324,-59.33228,-55.65069,3749.0,  3808.3, -0.1646, 34.6517, 34.6526,2, -0.1661,2
74JC20150110,SR1b,10,1,10,10,2,20150114,1324,-59.33228,-55.65069,3749.0,  3403.4, -0.0624, 34.6562, 34.6571,2, -0.0634,2
74JC20150110,SR1b,10,1,11,11,2,20150114,1324,-59.33228,-55.65069,3749.0,  2899.2,  0.0118, 34.6582, 34.6587,2,  0.0109,2
74JC20150110,SR1b,10,1,12,12,2,20150114,1324,-59.33228,-55.65069,3749.0,  2386.7,  0.1630, 34.6645, 34.6659,2,  0.1629,2
74JC20150110,SR1b,10,1,13,13,2,20150114,1324,-59.33228,-55.65069,3749.0,  1880.5,  0.3516, 34.6696, 34.6697,2,  0.3519,2
74JC20150110,SR1b,10,1,14,14,2,20150114,1324,-59.33228,-55.65069,3749.0,  1381.6,  0.5394, 34.6708, 34.6709,2,  0.5261,2
74JC20150110,SR1b,10,1,15,15,2,20150114,1324,-59.33228,-55.65069,3749.0,   889.4,  1.2768, 34.7130, 34.7132,2,  1.2766,2
74JC20150110,SR1b,10,1,16,16,2,20150114,1324,-59.33228,-55.65069,3749.0,   404.1,  1.9799, 34.6965, 34.6969,2,  1.9839,2
74JC20150110,SR1b,11,1,17,17,4,20150114,1805,-59.00116,-55.84964,3775.0,  3814.8, -0.1647, 34.6516, 33.9059,4, -0.1661,2
74JC20150110,SR1b,11,1,18,18,2,20150114,1805,-59.00116,-55.84964,3775.0,  3356.0,  0.0082, 34.6582, 34.6578,2,  0.0084,2
74JC20150110,SR1b,11,1,19,19,2,20150114,1805,-59.00116,-55.84964,3775.0,  2738.0,  0.1423, 34.6616, 34.6615,2,  0.1416,2
74JC20150110,SR1b,11,1,20,20,2,20150114,1805,-59.00116,-55.84964,3775.0,  2135.2,  0.4155, 34.6783, 34.6781,2,  0.4138,2
74JC20150110,SR1b,11,1,21,21,2,20150114,1805,-59.00116,-55.84964,3775.0,  1542.6,  0.8402, 34.7080, 34.7069,2,  0.8394,2
74JC20150110,SR1b,11,1,22,22,2,20150114,1805,-59.00116,-55.84964,3775.0,   955.9,  1.2707, 34.7203, 34.7195,2,  1.2723,2
74JC20150110,SR1b,11,1,23,23,2,20150114,1805,-59.00116,-55.84964,3775.0,   389.3,  1.8592, 34.6492, 34.6493,2,  1.8579,2
74JC20150110,SR1b,11,1,24,24,2,20150114,1805,-59.00116,-55.84964,3775.0,   104.3,  0.2777, 34.1288, 34.1236,2,  0.3345,2
74JC20150110,SR1b,12,1,1,1,2,20150114,2240,-58.68335,-56.05386,3757.0,  3816.6, -0.0240, 34.6559, 34.6563,2, -0.0256,2
74JC20150110,SR1b,12,1,2,2,2,20150114,2240,-58.68335,-56.05386,3757.0,  3438.5,  0.1161, 34.6630, 34.6613,2,  0.1152,2
74JC20150110,SR1b,12,1,3,3,2,20150114,2240,-58.68335,-56.05386,3757.0,  2814.8,  0.3224, 34.6765, 34.6749,2,  0.3218,2
74JC20150110,SR1b,12,1,4,4,2,20150114,2240,-58.68335,-56.05386,3757.0,  2212.9,  0.6479, 34.6945, 34.6947,2,  0.6483,2
74JC20150110,SR1b,12,1,5,5,2,20150114,2240,-58.68335,-56.05386,3757.0,  1606.8,  1.0477, 34.7087, 34.7085,2,  1.0487,2
74JC20150110,SR1b,12,1,6,6,2,20150114,2240,-58.68335,-56.05386,3757.0,  1002.9,  1.6316, 34.7079, 34.7069,2,  1.6364,2
74JC20150110,SR1b,12,1,7,7,2,20150114,2240,-58.68335,-56.05386,3757.0,   404.1,  1.9776, 34.5826, 34.5820,2,  1.9769,2
74JC20150110,SR1b,12,1,8,8,2,20150114,2240,-58.68335,-56.05386,3757.0,   103.4,  0.3018, 34.0417, 34.0757,2,  0.3030,2
74JC20150110,SR1b,12,1,9,9,2,20150114,2240,-58.68335,-56.05386,3757.0,    54.1,  1.3265, 33.8757, 33.8897,2,  1.3266,2
74JC20150110,SR1b,12,1,10,10,2,20150114,2240,-58.68335,-56.05386,3757.0,    13.7,  1.7861, 33.8125, 33.8182,2,  1.7878,2
74JC20150110,SR1b,13,1,11,11,2,20150115,331,-58.36496,-56.24795,3892.0,  3955.5,  0.0233, 34.6569, 34.6573,2,  0.0219,2
74JC20150110,SR1b,13,1,12,12,2,20150115,331,-58.36496,-56.24795,3892.0,  3562.2,  0.1254, 34.6627, 34.6630,2,  0.1249,2
74JC20150110,SR1b,13,1,13,13,2,20150115,331,-58.36496,-56.24795,3892.0,  3049.3,  0.2880, 34.6733, 34.6734,2,  0.2883,2
74JC20150110,SR1b,13,1,14,14,2,20150115,331,-58.36496,-56.24795,3892.0,  2641.1,  0.5428, 34.6911, 34.6915,2,  0.5453,2
74JC20150110,SR1b,13,1,15,15,2,20150115,331,-58.36496,-56.24795,3892.0,  2030.6,  0.8097, 34.7031, 34.7018,2,  0.8151,2
74JC20150110,SR1b,13,1,16,16,2,20150115,331,-58.36496,-56.24795,3892.0,  1521.1,  1.1524, 34.7129, 34.7122,2,  1.1582,2
74JC20150110,SR1b,13,1,17,17,2,20150115,331,-58.36496,-56.24795,3892.0,  1318.2,  1.3547, 34.7170, 34.7162,2,  1.3555,2
74JC20150110,SR1b,13,1,18,18,2,20150115,331,-58.36496,-56.24795,3892.0,   963.4,  1.7014, 34.7105, 34.7103,2,  1.7001,2
74JC20150110,SR1b,13,1,19,19,2,20150115,331,-58.36496,-56.24795,3892.0,   104.6,  0.4273, 34.0877, 34.0912,2,  0.3853,2
74JC20150110,SR1b,13,1,20,20,2,20150115,331,-58.36496,-56.24795,3892.0,    25.3,  1.0727, 33.8062, 33.8097,2,  1.2235,2
74JC20150110,SR1b,14,1,1,1,2,20150115,833,-58.05,-56.44716,3963.0,  4026.7,  0.0365, 34.6569, 34.6576,2,  0.0349,2
74JC20150110,SR1b,14,1,2,2,2,20150115,833,-58.05,-56.44716,3963.0,  3571.2,  0.1102, 34.6626, 34.6621,2,  0.1103,2
74JC20150110,SR1b,14,1,3,3,2,20150115,833,-58.05,-56.44716,3963.0,  3057.7,  0.3466, 34.6769, 34.6759,2,  0.3488,2
74JC20150110,SR1b,14,1,4,4,2,20150115,833,-58.05,-56.44716,3963.0,  2545.0,  0.6080, 34.6948, 34.6949,2,  0.6108,2
74JC20150110,SR1b,14,1,5,5,2,20150115,833,-58.05,-56.44716,3963.0,  2035.6,  0.9076, 34.7082, 34.7086,2,  0.9124,2
74JC20150110,SR1b,14,1,6,6,2,20150115,833,-58.05,-56.44716,3963.0,  1524.6,  1.2339, 34.7152, 34.7153,2,  1.2336,2
74JC20150110,SR1b,14,1,7,7,2,20150115,833,-58.05,-56.44716,3963.0,  1017.2,  1.6655, 34.7138, 34.7141,2,  1.6731,2
74JC20150110,SR1b,14,1,8,8,2,20150115,833,-58.05,-56.44716,3963.0,   358.3,  2.2982, 34.5699, 34.5771,2,  2.2960,2
74JC20150110,SR1b,14,1,9,9,2,20150115,833,-58.05,-56.44716,3963.0,   126.4,  0.4937, 34.1558, 34.1566,2,  0.4414,2
74JC20150110,SR1b,14,1,10,10,2,20150115,833,-58.05,-56.44716,3963.0,    25.6,  1.2667, 33.8216, 33.8183,2,  1.5643,2