BOTTLE,20230904JAMSTECRIGC
EXPOCODE,SECT,STNNBR,CASTNO,SAMPNO,BTLNBR,BTLNBR_FLAG_W,DATE,TIME,LATITUDE,LONGITUDE,DEPTH,CTDPRS,CTDPRS_FLAG_W,CTDTMP,CTDTMP_FLAG_W,SBE35,SBE35_FLAG_W,CTDSAL,CTDSAL_FLAG_W,SALNTY,SALNTY_FLAG_W,DNSSAL,DNSSAL_FLAG_W,CTDOXY,CTDOXY_FLAG_W,OXYGEN,OXYGEN_FLAG_W,XMISS,XMISSCP,XMISS_FLAG_W,FLUOR,FLUOR_FLAG_W,CHLORA,CHLORA_FLAG_W,CDOM,CDOM_FLAG_W,PAR,PAR_FLAG_W,SILCAT,SILCAT_FLAG_W,SILUNC,NITRAT,NITRAT_FLAG_W,NRAUNC,NITRIT,NITRIT_FLAG_W,NRIUNC,PHSPHT,PHSPHT_FLAG_W,PHPUNC,AMMONIA,AMMONIA_FLAG_W,NH4UNC,CFC-11,CFC-11_FLAG_W,CFC-12,CFC-12_FLAG_W,CFC113,CFC113_FLAG_W,SF6,SF6_FLAG_W,TCARBN,TCARBN_FLAG_W,ALKALI,ALKALI_FLAG_W,ALKALI_POT,ALKALI_POT_FLAG_W,PH_TOT,PH_TMP,PH_TOT_FLAG_W,CALCIUM,CALCIUM_FLAG_W,DOC,DOC_FLAG_W,DELC13,DELC13_FLAG_W,C13ERR,DELC14,DELC14_FLAG_W,C14ERR,CS-134,CS-134_FLAG_W,CS134ER,CS-137,CS-137_FLAG_W,CS137ER,I-129,I-129_FLAG_W,I-129ER,CDOM-325,CDOM-325_FLAG_W,CDOM-370,CDOM-370_FLAG_W,CDOM-443,CDOM-443_FLAG_W
,,,,,,,,UTC,DEG,DEG,METERS,DBAR,,ITS-90,,ITS-90,,PSS-78,,PSS-78,,G/KG,,UMOL/KG,,UMOL/KG,,%TRANS,/METER,,MG/CUM,,MG/CUM,,MG/CUM,,UE/SQM/S,,UMOL/KG,,UMOL/KG,UMOL/KG,,UMOL/KG,UMOL/KG,,UMOL/KG,UMOL/KG,,UMOL/KG,UMOL/KG,,UMOL/KG,PMOL/KG,,PMOL/KG,,PMOL/KG,,FMOL/KG,,UMOL/KG,,UMOL/KG,,UMOL/KG,,,DEG C,,MMOL/KG,,UMOL/KG,,/MILLE,,/MILLE,/MILLE,,/MILLE,MBQ/KG,,MBQ/KG,MBQ/KG,,MBQ/KG,,,,/METER,,/METER,,/METER,
  49NZ20140717,   P01,   105,  1,      9, X12J09,2,20140808,0933, 46.9955,-170.4248, 5407,   4001.2,2,   1.4787,2,   1.47886,2,  34.6805,2,  34.6803,2,-999.0000,9,   142.96,2,   142.75,2,   99.987,   0.0005,2,    0.005,2,  -999.00,9,    1.449,4,    0.000,2,   159.37,2,     0.17,    36.67,2,     0.05,     0.00,2,     0.01,     2.56,2,     0.01,     0.00,2,     0.01,    0.000,2,    0.000,2,    0.000,2,    0.000,2,   2332.0,2,   2420.7,2,   -999.0,9,   7.5616,       25,2, -999.000,9,    39.87,2, -999.000,9, -999.000,   -999.0,9,   -999.0, -999.000,9, -999.000, -999.000,9, -999.000,   -999.0,9,   -999.0, -999.000,9, -999.000,9, -999.000,9
  49NZ20140717,   P01,   105,  1,      8, X12J08,2,20140808,0933, 46.9955,-170.4248, 5407,   4250.3,2,   1.4787,2,   1.47890,2,  34.6839,2,  34.6837,2,-999.0000,9,   146.93,2,   146.83,2,   99.987,   0.0005,2,    0.004,2,  -999.00,9,   -0.225,4,    0.000,2,   159.65,2,     0.17,    36.44,2,     0.05,     0.00,2,     0.01,     2.54,2,     0.01,     0.00,2,     0.01,    0.000,2,    0.000,2,    0.000,2,    0.000,2,   2330.6,6,   2424.2,2,   -999.0,9,   7.5704,       25,2, -999.000,9,    42.17,2, -999.000,9, -999.000,   -999.0,9,   -999.0, -999.000,9, -999.000, -999.000,9, -999.000,   -999.0,9,   -999.0, -999.000,9, -999.000,9, -999.000,9
  49NZ20140717,   P01,   105,  1,      7, X12J07,2,20140808,0933, 46.9955,-170.4248, 5407,   4499.4,2,   1.4944,2,   1.49451,2,  34.6857,2,  34.6857,2,-999.0000,9,   148.59,2,   148.54,2,  100.006,  -0.0002,2,    0.004,2,  -999.00,9,  427.629,4,    0.000,2,   160.45,2,     0.17,    36.52,2,     0.19,     0.00,2,     0.01,     2.54,2,     0.01,     0.01,2,     0.01,    0.000,2,    0.000,2,    0.000,2,    0.000,2,   2330.3,2,   2422.3,2,   -999.0,9,   7.5747,       25,6, -999.000,9,    42.66,2, -999.000,9, -999.000,   -999.0,9,   -999.0, -999.000,9, -999.000, -999.000,9, -999.000,   -999.0,9,   -999.0, -999.000,9, -999.000,9, -999.000,9
  49NZ20140717,   P01,   105,  1,      6, X12J06,2,20140808,0933, 46.9955,-170.4248, 5407,   4749.1,2,   1.5186,2,   1.51883,2,  34.6866,2,  34.6865,2,-999.0000,9,   149.21,2,   149.15,2,  100.006,  -0.0002,2,    0.004,2,  -999.00,9,  497.217,4,    0.000,2,   161.42,2,     0.17,    36.33,2,     0.05,     0.00,2,     0.01,     2.53,2,     0.01,     0.00,2,     0.01,    0.000,2,    0.000,2,    0.000,2,    0.000,2,   2331.2,2,   2423.8,6,   -999.0,9,   7.5767,       25,2, -999.000,9,    41.15,2, -999.000,9, -999.000,   -999.0,9,   -999.0, -999.000,9, -999.000, -999.000,9, -999.000,   -999.0,9,   -999.0, -999.000,9, -999.000,9, -999.000,9
  49NZ20140717,   P01,   105,  1,      5, X12J05,2,20140808,0933, 46.9955,-170.4248, 5407,   4999.3,2,   1.5452,2,   1.54535,2,  34.6871,2,  34.6871,2,-999.0000,9,   149.91,2,   150.13,2,   99.995,   0.0002,2,    0.004,2,  -999.00,9,  497.217,4,    0.000,2,   161.29,2,     0.17,    36.29,2,     0.05,     0.00,2,     0.01,     2.53,2,     0.01,     0.00,2,     0.01,    0.000,2,    0.000,2,    0.002,2,    0.000,2,   2330.0,2,   2424.3,2,   -999.0,9,   7.5779,       25,2, -999.000,9,    41.01,2, -999.000,9, -999.000,   -999.0,9,   -999.0, -999.000,9, -999.000, -999.000,9, -999.000,   -999.0,9,   -999.0,    0.249,2,    0.133,2,    0.061,2
  49NZ20140717,   P01,   105,  1,      4, X12J04,2,20140808,0933, 46.9955,-170.4248, 5407,   5249.3,2,   1.5723,2,   1.57217,2,  34.6873,2,  34.6876,2,-999.0000,9,   150.98,2,   151.10,2,   99.948,   0.0021,2,    0.004,2,  -999.00,9,  497.217,4,    0.000,2,   160.83,2,     0.17,    36.17,2,     0.05,     0.00,2,     0.01,     2.52,2,     0.01,     0.00,2,     0.01,    0.001,2,    0.001,2,    0.001,2,    0.000,2,   2328.0,2,   2423.0,2,   -999.0,9,   7.5784,       25,2, -999.000,9,    39.95,2, -999.000,9, -999.000,   -999.0,9,   -999.0, -999.000,9, -999.000, -999.000,9, -999.000,   -999.0,9,   -999.0, -999.000,9, -999.000,9, -999.000,9
  49NZ20140717,   P01,   105,  1,      3, X12J03,2,20140808,0933, 46.9955,-170.4248, 5407,     50.1,2,   6.5947,2,   6.60107,2,  33.0771,2,-999.0000,9,-999.0000,9,   322.74,2,  -999.00,9,   97.802,   0.0889,2,    0.380,2,  -999.00,9,    0.639,1,    0.000,2,  -999.00,9,  -999.00,  -999.00,9,  -999.00,  -999.00,9,  -999.00,  -999.00,9,  -999.00,  -999.00,9,  -999.00, -999.000,9, -999.000,9, -999.000,9, -999.000,9,   -999.0,9,   -999.0,9,   -999.0,9,-999.0000,     -999,9, -999.000,9,    38.91,9, -999.000,9, -999.000,   -999.0,9,   -999.0, -999.000,9, -999.000, -999.000,9, -999.000,   -999.0,9,   -999.0, -999.000,9, -999.000,9, -999.000,9
  49NZ20140717,   P01,   105,  1,      2, X12J02,2,20140808,0933, 46.9955,-170.4248, 5407,     10.2,2,  13.1040,2,  13.11265,2,  32.9482,2,-999.0000,9,-999.0000,9,   273.84,2,  -999.00,9,   95.934,   0.1661,2,    0.453,2,  -999.00,9,   -0.792,1,    0.292,2,  -999.00,9,  -999.00,  -999.00,9,  -999.00,  -999.00,9,  -999.00,  -999.00,9,  -999.00,  -999.00,9,  -999.00, -999.000,9, -999.000,9, -999.000,9, -999.000,9,   -999.0,9,   -999.0,9,   -999.0,9,-999.0000,     -999,9, -999.000,9,  -999.00,9, -999.000,9, -999.000,   -999.0,9,   -999.0, -999.000,9, -999.000, -999.000,9, -999.000,   -999.0,9,   -999.0, -999.000,9, -999.000,9, -999.000,9
  49NZ20140717,   P01,   105,  1,      1, X12J01,2,20140808,0933, 46.9955,-170.4248, 5407,   5528.9,2,   1.6028,2,   1.60264,2,  34.6879,2,  34.6884,2,-999.0000,9,   152.28,2,   152.60,2,   99.839,   0.0064,2,    0.004,2,  -999.00,9,  494.380,4,    0.000,2,   159.60,2,     0.17,    36.09,2,     0.05,     0.00,2,     0.01,     2.51,2,     0.01,     0.01,2,     0.01,    0.001,2,    0.001,2,    0.001,2,    0.000,2,   2326.7,2,   2421.7,2,   -999.0,9,   7.5803,       25,2, -999.000,9,    36.89,2, -999.000,9, -999.000,   -999.0,9,   -999.0, -999.000,9, -999.000, -999.000,9, -999.000,   -999.0,9,   -999.0,    0.166,2,    0.075,2,    0.032,2