BOTTLE,20230904JAMSTECRIGC
EXPOCODE,SECT,STNNBR,CASTNO,SAMPNO,BTLNBR,BTLNBR_FLAG_W,DATE,TIME,LATITUDE,LONGITUDE,DEPTH,CTDPRS,CTDPRS_FLAG_W,CTDTMP,CTDTMP_FLAG_W,SBE35,SBE35_FLAG_W,CTDSAL,CTDSAL_FLAG_W,SALNTY,SALNTY_FLAG_W,DNSSAL,DNSSAL_FLAG_W,CTDOXY,CTDOXY_FLAG_W,OXYGEN,OXYGEN_FLAG_W,XMISS,XMISSCP,XMISS_FLAG_W,FLUOR,FLUOR_FLAG_W,CHLORA,CHLORA_FLAG_W,CDOM,CDOM_FLAG_W,PAR,PAR_FLAG_W,SILCAT,SILCAT_FLAG_W,SILUNC,NITRAT,NITRAT_FLAG_W,NRAUNC,NITRIT,NITRIT_FLAG_W,NRIUNC,PHSPHT,PHSPHT_FLAG_W,PHPUNC,AMMONIA,AMMONIA_FLAG_W,NH4UNC,CFC-11,CFC-11_FLAG_W,CFC-12,CFC-12_FLAG_W,CFC113,CFC113_FLAG_W,SF6,SF6_FLAG_W,TCARBN,TCARBN_FLAG_W,ALKALI,ALKALI_FLAG_W,ALKALI_POT,ALKALI_POT_FLAG_W,PH_TOT,PH_TMP,PH_TOT_FLAG_W,CALCIUM,CALCIUM_FLAG_W,DOC,DOC_FLAG_W,DELC13,DELC13_FLAG_W,C13ERR,DELC14,DELC14_FLAG_W,C14ERR,CS-134,CS-134_FLAG_W,CS134ER,CS-137,CS-137_FLAG_W,CS137ER,I-129,I-129_FLAG_W,I-129ER,CDOM-325,CDOM-325_FLAG_W,CDOM-370,CDOM-370_FLAG_W,CDOM-443,CDOM-443_FLAG_W
,,,,,,,,UTC,DEG,DEG,METERS,DBAR,,ITS-90,,ITS-90,,PSS-78,,PSS-78,,G/KG,,UMOL/KG,,UMOL/KG,,%TRANS,/METER,,MG/CUM,,MG/CUM,,MG/CUM,,UE/SQM/S,,UMOL/KG,,UMOL/KG,UMOL/KG,,UMOL/KG,UMOL/KG,,UMOL/KG,UMOL/KG,,UMOL/KG,UMOL/KG,,UMOL/KG,PMOL/KG,,PMOL/KG,,PMOL/KG,,FMOL/KG,,UMOL/KG,,UMOL/KG,,UMOL/KG,,,DEG C,,MMOL/KG,,UMOL/KG,,/MILLE,,/MILLE,/MILLE,,/MILLE,MBQ/KG,,MBQ/KG,MBQ/KG,,MBQ/KG,,,,/METER,,/METER,,/METER,
  49NZ20140717,   P01,    89,  1,      9, X12J09,2,20140802,0024, 46.9985, 171.6175, 6022,   3920.4,2,   1.4645,2,   1.46472,2,  34.6815,2,  34.6808,2,  34.8611,2,   146.91,2,   146.76,2,   99.975,   0.0010,2,    0.001,2,  -999.00,9,    2.102,4,    0.000,2,   154.55,2,     0.17,    36.45,2,     0.05,     0.00,2,     0.01,     2.54,2,     0.01,  -999.00,9,  -999.00, -999.000,9, -999.000,9, -999.000,9, -999.000,9,   2330.4,2,   2418.2,2,   2413.6,2,   7.5657,       25,2,   10.320,2,    38.31,2, -999.000,9, -999.000,   -999.0,9,   -999.0, -999.000,9, -999.000, -999.000,9, -999.000,   -999.0,9,   -999.0, -999.000,9, -999.000,9, -999.000,9
  49NZ20140717,   P01,    89,  1,      8, X12J08,2,20140802,0024, 46.9985, 171.6175, 6022,   4169.4,2,   1.4696,2,   1.46963,2,  34.6838,2,  34.6833,2,  34.8637,2,   149.99,2,   149.91,2,   99.983,   0.0007,2,    0.000,2,  -999.00,9,    1.061,4,    0.000,2,   153.85,2,     0.17,    36.24,2,     0.05,     0.00,2,     0.01,     2.52,2,     0.01,  -999.00,9,  -999.00, -999.000,9, -999.000,9, -999.000,9, -999.000,9,   2328.7,6,   2418.4,2,   -999.0,9,   7.5708,       25,2, -999.000,9,    38.09,2, -999.000,9, -999.000,   -999.0,9,   -999.0, -999.000,9, -999.000, -999.000,9, -999.000,   -999.0,9,   -999.0, -999.000,9, -999.000,9, -999.000,9
  49NZ20140717,   P01,    89,  1,      7, X12J07,2,20140802,0024, 46.9985, 171.6175, 6022,   4421.0,2,   1.4844,2,   1.48452,2,  34.6855,2,  34.6849,2,  34.8650,2,   151.89,2,   151.71,2,   99.986,   0.0006,2,    0.000,2,  -999.00,9,   -1.678,4,    0.000,2,   153.84,2,     0.17,    36.12,2,     0.05,     0.00,2,     0.01,     2.52,2,     0.01,  -999.00,9,  -999.00, -999.000,9, -999.000,9, -999.000,9, -999.000,9,   2326.6,2,   2420.2,2,   -999.0,9,   7.5745,       25,6, -999.000,9,    37.98,2, -999.000,9, -999.000,   -999.0,9,   -999.0, -999.000,9, -999.000, -999.000,9, -999.000,   -999.0,9,   -999.0, -999.000,9, -999.000,9, -999.000,9
  49NZ20140717,   P01,    89,  1,      6, X12J06,2,20140802,0024, 46.9985, 171.6175, 6022,   4669.5,2,   1.5032,2,   1.50333,2,  34.6867,2,  34.6860,2,  34.8663,2,   153.13,2,   152.95,2,   99.988,   0.0005,2,    0.000,2,  -999.00,9,   -1.766,4,    0.000,2,   154.38,2,     0.17,    36.06,2,     0.05,     0.00,2,     0.01,     2.51,2,     0.01,  -999.00,9,  -999.00, -999.000,9, -999.000,9, -999.000,9, -999.000,9,   2326.0,2,   2417.4,6,   -999.0,9,   7.5771,       25,2, -999.000,9,    37.96,2, -999.000,9, -999.000,   -999.0,9,   -999.0, -999.000,9, -999.000, -999.000,9, -999.000,   -999.0,9,   -999.0, -999.000,9, -999.000,9, -999.000,9
  49NZ20140717,   P01,    89,  1,      5, X12J05,2,20140802,0024, 46.9985, 171.6175, 6022,   4920.4,2,   1.5261,2,   1.52601,2,  34.6874,2,  34.6871,2,  34.8663,2,   154.22,2,   154.00,2,   99.964,   0.0014,2,   -0.001,2,  -999.00,9,   -1.864,4,    0.000,2,   154.20,2,     0.17,    36.00,2,     0.05,     0.00,2,     0.01,     2.50,2,     0.01,  -999.00,9,  -999.00, -999.000,9, -999.000,9, -999.000,9, -999.000,9,   2326.3,2,   2419.7,2,   2412.3,2,   7.5793,       25,2,   10.317,2,    37.50,2, -999.000,9, -999.000,   -999.0,9,   -999.0, -999.000,9, -999.000, -999.000,9, -999.000,   -999.0,9,   -999.0, -999.000,9, -999.000,9, -999.000,9
  49NZ20140717,   P01,    89,  1,      4, X12J04,2,20140802,0024, 46.9985, 171.6175, 6022,   5169.0,2,   1.5534,2,   1.55341,2,  34.6879,2,  34.6870,2,  34.8677,2,   154.70,2,   154.62,2,   99.960,   0.0016,2,    0.000,2,  -999.00,9,   -1.958,4,    0.000,2,   154.18,2,     0.17,    35.91,2,     0.05,     0.00,2,     0.01,     2.50,2,     0.01,  -999.00,9,  -999.00, -999.000,9, -999.000,9, -999.000,9, -999.000,9,   2325.0,2,   2418.6,2,   -999.0,9,   7.5800,       25,2, -999.000,9,    37.45,2, -999.000,9, -999.000,   -999.0,9,   -999.0, -999.000,9, -999.000, -999.000,9, -999.000,   -999.0,9,   -999.0, -999.000,9, -999.000,9, -999.000,9
  49NZ20140717,   P01,    89,  1,      3, X12J03,3,20140802,0024, 46.9985, 171.6175, 6022,   5422.1,2,   1.5836,2,   1.58365,2,  34.6883,2,  34.6869,3,  34.8670,2,   154.92,2,   154.81,2,   99.942,   0.0023,2,    0.000,2,  -999.00,9,   -1.988,4,    0.000,2,   154.75,2,     0.17,    35.92,2,     0.05,     0.00,2,     0.01,     2.50,2,     0.01,  -999.00,9,  -999.00, -999.000,9, -999.000,9, -999.000,9, -999.000,9,   2324.9,2,   2418.8,2,   -999.0,9,   7.5806,       25,2, -999.000,9,    37.37,2, -999.000,9, -999.000,   -999.0,9,   -999.0, -999.000,9, -999.000, -999.000,9, -999.000,   -999.0,9,   -999.0, -999.000,9, -999.000,9, -999.000,9
  49NZ20140717,   P01,    89,  1,      2, X12J02,2,20140802,0024, 46.9985, 171.6175, 6022,   5670.2,2,   1.6154,2,   1.61535,2,  34.6883,2,  34.6880,2,  34.8690,2,   154.95,2,   155.16,2,   99.960,   0.0016,2,   -0.001,2,  -999.00,9,   35.218,4,    0.000,2,   155.05,2,     0.17,    35.97,2,     0.05,     0.00,2,     0.01,     2.50,2,     0.01,  -999.00,9,  -999.00, -999.000,9, -999.000,9, -999.000,9, -999.000,9,   2325.6,2,   2417.4,2,   -999.0,9,   7.5809,       25,2, -999.000,9,    36.70,2, -999.000,9, -999.000,   -999.0,9,   -999.0, -999.000,9, -999.000, -999.000,9, -999.000,   -999.0,9,   -999.0, -999.000,9, -999.000,9, -999.000,9
  49NZ20140717,   P01,    89,  1,      1, X12J01,2,20140802,0024, 46.9985, 171.6175, 6022,   6137.6,2,   1.6795,2,   1.67945,2,  34.6883,2,  34.6882,2,  34.8697,2,   154.70,2,   155.16,2,   99.856,   0.0058,2,    0.000,2,  -999.00,9,   -1.425,4,    0.000,2,   155.20,2,     0.17,    36.00,2,     0.05,     0.00,2,     0.01,     2.50,2,     0.01,  -999.00,9,  -999.00, -999.000,9, -999.000,9, -999.000,9, -999.000,9,   2325.0,2,   2415.4,2,   2413.5,2,   7.5818,       25,2,   10.347,2,    36.29,2, -999.000,9, -999.000,   -999.0,9,   -999.0, -999.000,9, -999.000, -999.000,9, -999.000,   -999.0,9,   -999.0, -999.000,9, -999.000,9, -999.000,9