BOTTLE,20230904JAMSTECRIGC
EXPOCODE,SECT,STNNBR,CASTNO,SAMPNO,BTLNBR,BTLNBR_FLAG_W,DATE,TIME,LATITUDE,LONGITUDE,DEPTH,CTDPRS,CTDPRS_FLAG_W,CTDTMP,CTDTMP_FLAG_W,SBE35,SBE35_FLAG_W,CTDSAL,CTDSAL_FLAG_W,SALNTY,SALNTY_FLAG_W,DNSSAL,DNSSAL_FLAG_W,CTDOXY,CTDOXY_FLAG_W,OXYGEN,OXYGEN_FLAG_W,XMISS,XMISSCP,XMISS_FLAG_W,FLUOR,FLUOR_FLAG_W,CHLORA,CHLORA_FLAG_W,CDOM,CDOM_FLAG_W,PAR,PAR_FLAG_W,SILCAT,SILCAT_FLAG_W,SILUNC,NITRAT,NITRAT_FLAG_W,NRAUNC,NITRIT,NITRIT_FLAG_W,NRIUNC,PHSPHT,PHSPHT_FLAG_W,PHPUNC,AMMONIA,AMMONIA_FLAG_W,NH4UNC,CFC-11,CFC-11_FLAG_W,CFC-12,CFC-12_FLAG_W,CFC113,CFC113_FLAG_W,SF6,SF6_FLAG_W,TCARBN,TCARBN_FLAG_W,ALKALI,ALKALI_FLAG_W,ALKALI_POT,ALKALI_POT_FLAG_W,PH_TOT,PH_TMP,PH_TOT_FLAG_W,CALCIUM,CALCIUM_FLAG_W,DOC,DOC_FLAG_W,DELC13,DELC13_FLAG_W,C13ERR,DELC14,DELC14_FLAG_W,C14ERR,CS-134,CS-134_FLAG_W,CS134ER,CS-137,CS-137_FLAG_W,CS137ER,I-129,I-129_FLAG_W,I-129ER,CDOM-325,CDOM-325_FLAG_W,CDOM-370,CDOM-370_FLAG_W,CDOM-443,CDOM-443_FLAG_W
,,,,,,,,UTC,DEG,DEG,METERS,DBAR,,ITS-90,,ITS-90,,PSS-78,,PSS-78,,G/KG,,UMOL/KG,,UMOL/KG,,%TRANS,/METER,,MG/CUM,,MG/CUM,,MG/CUM,,UE/SQM/S,,UMOL/KG,,UMOL/KG,UMOL/KG,,UMOL/KG,UMOL/KG,,UMOL/KG,UMOL/KG,,UMOL/KG,UMOL/KG,,UMOL/KG,PMOL/KG,,PMOL/KG,,PMOL/KG,,FMOL/KG,,UMOL/KG,,UMOL/KG,,UMOL/KG,,,DEG C,,MMOL/KG,,UMOL/KG,,/MILLE,,/MILLE,/MILLE,,/MILLE,MBQ/KG,,MBQ/KG,MBQ/KG,,MBQ/KG,,,,/METER,,/METER,,/METER,
  49NZ20140717,   P01,   146,  1,      0,   -999,9,20140822,0749, 47.0052,-126.4710, 2553,   -999.0,9,-999.0000,9,-999.00000,9,-999.0000,9,  31.8871,2,-999.0000,9,  -999.00,9,  -999.00,9, -999.000,-999.0000,9, -999.000,9,  -999.00,9, -999.000,9, -999.000,9,     1.47,2,     0.11,     0.06,2,     0.02,     0.01,2,     0.01,     0.30,2,     0.01,  -999.00,9,  -999.00, -999.000,9, -999.000,9, -999.000,9, -999.000,9,   -999.0,9,   -999.0,9,   -999.0,9,-999.0000,     -999,9, -999.000,9,  -999.00,9, -999.000,9, -999.000,   -999.0,9,   -999.0, -999.000,9, -999.000, -999.000,9, -999.000,   -999.0,9,   -999.0, -999.000,9, -999.000,9, -999.000,9
  49NZ20140717,   P01,   146,  1,     36, X12J36,2,20140822,0749, 47.0052,-126.4710, 2553,      9.5,2,  18.2145,2,  18.21268,2,  31.8965,2,  31.8970,2,-999.0000,9,   244.90,2,   244.27,2,   97.244,   0.1118,2,    0.183,2,  -999.00,9,   -0.729,1,    0.182,2,     1.48,2,     0.11,     0.00,2,     0.02,     0.00,2,     0.01,     0.30,2,     0.01,  -999.00,9,  -999.00, -999.000,9, -999.000,9, -999.000,9, -999.000,9,   -999.0,9,   -999.0,9,   -999.0,9,-999.0000,     -999,9, -999.000,9,  -999.00,9, -999.000,9, -999.000,   -999.0,9,   -999.0, -999.000,9, -999.000, -999.000,9, -999.000,   -999.0,9,   -999.0, -999.000,9, -999.000,9, -999.000,9
  49NZ20140717,   P01,   146,  1,     35, X12J35,2,20140822,0749, 47.0052,-126.4710, 2553,     49.7,2,   9.6745,2,   9.67777,2,  32.3240,2,  32.3535,2,-999.0000,9,   284.88,2,   282.35,2,   95.636,   0.1785,2,    0.625,2,  -999.00,9,    1.019,1,    0.000,2,     8.84,2,     0.09,     6.12,2,     0.02,     0.20,2,     0.01,     0.92,2,     0.01,  -999.00,9,  -999.00, -999.000,9, -999.000,9, -999.000,9, -999.000,9,   -999.0,9,   -999.0,9,   -999.0,9,-999.0000,     -999,9, -999.000,9,  -999.00,9, -999.000,9, -999.000,   -999.0,9,   -999.0, -999.000,9, -999.000, -999.000,9, -999.000,   -999.0,9,   -999.0, -999.000,9, -999.000,9, -999.000,9
  49NZ20140717,   P01,   146,  1,     34, X12J34,2,20140822,0749, 47.0052,-126.4710, 2553,    100.1,2,   7.6817,2,   7.69104,2,  33.0980,2,  33.1092,2,-999.0000,9,   203.62,2,   202.03,2,   99.764,   0.0094,2,    0.032,2,  -999.00,9,    1.157,1,    0.000,2,    25.04,2,     0.09,    21.27,2,     0.03,     0.01,2,     0.01,     1.69,2,     0.01,  -999.00,9,  -999.00, -999.000,9, -999.000,9, -999.000,9, -999.000,9,   -999.0,9,   -999.0,9,   -999.0,9,-999.0000,     -999,9, -999.000,9,  -999.00,9, -999.000,9, -999.000,   -999.0,9,   -999.0, -999.000,9, -999.000, -999.000,9, -999.000,   -999.0,9,   -999.0, -999.000,9, -999.000,9, -999.000,9
  49NZ20140717,   P01,   146,  1,     33, X12J33,2,20140822,0749, 47.0052,-126.4710, 2553,    149.6,2,   7.4358,2,   7.43631,2,  33.6909,2,  33.7105,2,-999.0000,9,   150.19,2,   147.58,2,   99.595,   0.0162,2,    0.008,2,  -999.00,9,    1.613,1,    0.000,2,    35.48,2,     0.10,    27.27,2,     0.04,     0.01,2,     0.01,     2.00,2,     0.01,  -999.00,9,  -999.00, -999.000,9, -999.000,9, -999.000,9, -999.000,9,   -999.0,9,   -999.0,9,   -999.0,9,-999.0000,     -999,9, -999.000,9,  -999.00,9, -999.000,9, -999.000,   -999.0,9,   -999.0, -999.000,9, -999.000, -999.000,9, -999.000,   -999.0,9,   -999.0, -999.000,9, -999.000,9, -999.000,9
  49NZ20140717,   P01,   146,  1,     32, X12J32,2,20140822,0749, 47.0052,-126.4710, 2553,    199.2,2,   7.0577,2,   7.05950,2,  33.9007,2,  33.9022,2,-999.0000,9,   112.81,2,   112.17,2,   99.587,   0.0166,2,    0.010,2,  -999.00,9,    2.026,1,    0.000,2,    44.76,2,     0.10,    31.24,2,     0.04,     0.01,2,     0.01,     2.24,2,     0.01,  -999.00,9,  -999.00, -999.000,9, -999.000,9, -999.000,9, -999.000,9,   -999.0,9,   -999.0,9,   -999.0,9,-999.0000,     -999,9, -999.000,9,  -999.00,9, -999.000,9, -999.000,   -999.0,9,   -999.0, -999.000,9, -999.000, -999.000,9, -999.000,   -999.0,9,   -999.0, -999.000,9, -999.000,9, -999.000,9
  49NZ20140717,   P01,   146,  1,     31, X12J31,2,20140822,0749, 47.0052,-126.4710, 2553,    249.5,2,   6.4905,2,   6.49192,2,  33.9437,2,  33.9459,2,-999.0000,9,    90.60,2,    90.13,2,   99.658,   0.0137,2,    0.010,2,  -999.00,9,    2.298,1,    0.000,2,    53.55,2,     0.11,    34.15,2,     0.05,     0.01,2,     0.01,     2.45,2,     0.01,  -999.00,9,  -999.00, -999.000,9, -999.000,9, -999.000,9, -999.000,9,   -999.0,9,   -999.0,9,   -999.0,9,-999.0000,     -999,9, -999.000,9,  -999.00,9, -999.000,9, -999.000,   -999.0,9,   -999.0, -999.000,9, -999.000, -999.000,9, -999.000,   -999.0,9,   -999.0, -999.000,9, -999.000,9, -999.000,9
  49NZ20140717,   P01,   146,  1,     30, X12J30,2,20140822,0749, 47.0052,-126.4710, 2553,    280.6,2,   6.2562,2,   6.25623,2,  33.9556,2,  33.9549,2,-999.0000,9,    82.05,2,    82.54,2,   99.695,   0.0122,2,    0.011,2,  -999.00,9,    2.344,1,    0.000,2,    56.94,2,     0.11,    35.17,2,     0.05,     0.01,2,     0.01,     2.52,2,     0.01,  -999.00,9,  -999.00, -999.000,9, -999.000,9, -999.000,9, -999.000,9,   -999.0,9,   -999.0,9,   -999.0,9,-999.0000,     -999,9, -999.000,9,  -999.00,9, -999.000,9, -999.000,   -999.0,9,   -999.0, -999.000,9, -999.000, -999.000,9, -999.000,   -999.0,9,   -999.0, -999.000,9, -999.000,9, -999.000,9
  49NZ20140717,   P01,   146,  1,     29, X12J29,2,20140822,0749, 47.0052,-126.4710, 2553,    370.0,2,   5.5845,2,   5.58557,2,  34.0135,2,  34.0159,2,-999.0000,9,    51.27,2,    51.55,2,   99.760,   0.0096,2,    0.011,2,  -999.00,9,    2.628,1,    0.000,2,    70.55,2,     0.12,    38.85,2,     0.05,     0.01,2,     0.01,     2.80,2,     0.01,  -999.00,9,  -999.00, -999.000,9, -999.000,9, -999.000,9, -999.000,9,   -999.0,9,   -999.0,9,   -999.0,9,-999.0000,     -999,9, -999.000,9,  -999.00,9, -999.000,9, -999.000,   -999.0,9,   -999.0, -999.000,9, -999.000, -999.000,9, -999.000,   -999.0,9,   -999.0, -999.000,9, -999.000,9, -999.000,9
  49NZ20140717,   P01,   146,  1,     28, X12J28,2,20140822,0749, 47.0052,-126.4710, 2553,    470.5,2,   5.1633,2,   5.16308,2,  34.0824,2,  34.0820,2,-999.0000,9,    31.23,2,    32.04,2,   99.858,   0.0057,2,    0.011,2,  -999.00,9,    2.812,1,    0.000,2,    81.81,2,     0.13,    40.87,2,     0.05,     0.01,2,     0.01,     2.98,2,     0.01,  -999.00,9,  -999.00, -999.000,9, -999.000,9, -999.000,9, -999.000,9,   -999.0,9,   -999.0,9,   -999.0,9,-999.0000,     -999,9, -999.000,9,  -999.00,9, -999.000,9, -999.000,   -999.0,9,   -999.0, -999.000,9, -999.000, -999.000,9, -999.000,   -999.0,9,   -999.0, -999.000,9, -999.000,9, -999.000,9
  49NZ20140717,   P01,   146,  1,     27, X12J27,2,20140822,0749, 47.0052,-126.4710, 2553,    569.7,2,   4.7034,2,   4.70291,2,  34.1449,2,  34.1449,2,-999.0000,9,    18.93,2,    19.23,2,   99.827,   0.0069,2,    0.011,2,  -999.00,9,    2.926,1,    0.000,2,    93.71,2,     0.13,    42.44,2,     0.05,     0.01,2,     0.01,     3.09,2,     0.01,  -999.00,9,  -999.00, -999.000,9, -999.000,9, -999.000,9, -999.000,9,   -999.0,9,   -999.0,9,   -999.0,9,-999.0000,     -999,9, -999.000,9,  -999.00,9, -999.000,9, -999.000,   -999.0,9,   -999.0, -999.000,9, -999.000, -999.000,9, -999.000,   -999.0,9,   -999.0, -999.000,9, -999.000,9, -999.000,9
  49NZ20140717,   P01,   146,  1,     26, X12J26,2,20140822,0749, 47.0052,-126.4710, 2553,    670.3,2,   4.3675,2,   4.36606,2,  34.2173,2,  34.2172,2,-999.0000,9,    11.92,2,    11.64,2,   99.886,   0.0046,2,    0.012,2,  -999.00,9,    2.975,1,    0.000,2,   104.62,2,     0.14,    43.34,2,     0.05,     0.00,2,     0.01,     3.17,2,     0.01,  -999.00,9,  -999.00, -999.000,9, -999.000,9, -999.000,9, -999.000,9,   -999.0,9,   -999.0,9,   -999.0,9,-999.0000,     -999,9, -999.000,9,  -999.00,9, -999.000,9, -999.000,   -999.0,9,   -999.0, -999.000,9, -999.000, -999.000,9, -999.000,   -999.0,9,   -999.0, -999.000,9, -999.000,9, -999.000,9
  49NZ20140717,   P01,   146,  1,     25, X12J25,2,20140822,0749, 47.0052,-126.4710, 2553,    769.2,2,   4.1210,2,   4.12078,2,  34.2919,2,  34.2909,2,-999.0000,9,     8.79,2,     8.20,2,   99.825,   0.0070,2,    0.012,2,  -999.00,9,    3.070,1,    0.000,2,   112.85,2,     0.14,    43.67,2,     0.06,     0.00,2,     0.01,     3.22,2,     0.01,  -999.00,9,  -999.00, -999.000,9, -999.000,9, -999.000,9, -999.000,9,   -999.0,9,   -999.0,9,   -999.0,9,-999.0000,     -999,9, -999.000,9,  -999.00,9, -999.000,9, -999.000,   -999.0,9,   -999.0, -999.000,9, -999.000, -999.000,9, -999.000,   -999.0,9,   -999.0, -999.000,9, -999.000,9, -999.000,9
  49NZ20140717,   P01,   146,  1,     24, X12J24,2,20140822,0749, 47.0052,-126.4710, 2553,    870.0,2,   3.8843,2,   3.88378,2,  34.3385,2,  34.3389,2,-999.0000,9,     8.38,2,     7.88,2,   99.882,   0.0047,2,    0.011,2,  -999.00,9,    3.092,1,    0.000,2,   120.45,2,     0.15,    43.98,2,     0.06,     0.00,2,     0.01,     3.23,2,     0.01,  -999.00,9,  -999.00, -999.000,9, -999.000,9, -999.000,9, -999.000,9,   -999.0,9,   -999.0,9,   -999.0,9,-999.0000,     -999,9, -999.000,9,  -999.00,9, -999.000,9, -999.000,   -999.0,9,   -999.0, -999.000,9, -999.000, -999.000,9, -999.000,   -999.0,9,   -999.0, -999.000,9, -999.000,9, -999.000,9
  49NZ20140717,   P01,   146,  1,     23, X12J23,2,20140822,0749, 47.0052,-126.4710, 2553,    969.5,2,   3.5154,2,   3.51552,2,  34.3674,2,  34.3654,2,-999.0000,9,     8.89,2,     8.09,2,   99.877,   0.0049,2,    0.011,2,  -999.00,9,    3.218,1,    0.000,2,   130.10,2,     0.16,    44.36,2,     0.06,     0.00,2,     0.01,     3.23,2,     0.01,  -999.00,9,  -999.00, -999.000,9, -999.000,9, -999.000,9, -999.000,9,   -999.0,9,   -999.0,9,   -999.0,9,-999.0000,     -999,9, -999.000,9,  -999.00,9, -999.000,9, -999.000,   -999.0,9,   -999.0, -999.000,9, -999.000, -999.000,9, -999.000,   -999.0,9,   -999.0, -999.000,9, -999.000,9, -999.000,9
  49NZ20140717,   P01,   146,  1,     22, X12J22,2,20140822,0749, 47.0052,-126.4710, 2553,   1128.6,2,   3.2449,2,   3.24362,2,  34.4225,2,  34.4226,2,-999.0000,9,    11.76,2,    10.95,2,   99.890,   0.0044,2,    0.011,2,  -999.00,9,    3.231,1,    0.000,2,   138.89,2,     0.16,    44.38,2,     0.06,     0.00,2,     0.01,     3.23,2,     0.01,  -999.00,9,  -999.00, -999.000,9, -999.000,9, -999.000,9, -999.000,9,   -999.0,9,   -999.0,9,   -999.0,9,-999.0000,     -999,9, -999.000,9,  -999.00,9, -999.000,9, -999.000,   -999.0,9,   -999.0, -999.000,9, -999.000, -999.000,9, -999.000,   -999.0,9,   -999.0, -999.000,9, -999.000,9, -999.000,9
  49NZ20140717,   P01,   146,  1,     21, X12J21,2,20140822,0749, 47.0052,-126.4710, 2553,   1331.3,2,   2.8485,2,   2.84806,2,  34.4787,2,  34.4768,2,-999.0000,9,    18.97,2,    18.38,2,   99.856,   0.0058,2,    0.010,2,  -999.00,9,    3.220,1,    0.000,2,   150.14,2,     0.17,    44.21,2,     0.06,     0.00,2,     0.01,     3.19,2,     0.01,  -999.00,9,  -999.00, -999.000,9, -999.000,9, -999.000,9, -999.000,9,   -999.0,9,   -999.0,9,   -999.0,9,-999.0000,     -999,9, -999.000,9,  -999.00,9, -999.000,9, -999.000,   -999.0,9,   -999.0, -999.000,9, -999.000, -999.000,9, -999.000,   -999.0,9,   -999.0, -999.000,9, -999.000,9, -999.000,9
  49NZ20140717,   P01,   146,  1,     20, X12J20,2,20140822,0749, 47.0052,-126.4710, 2553,   1529.5,2,   2.5099,2,   2.50995,2,  34.5186,2,  34.5189,2,-999.0000,9,    28.45,2,    28.47,2,   99.895,   0.0042,2,    0.009,2,  -999.00,9,    3.275,1,    0.000,2,   160.43,2,     0.17,    43.63,2,     0.05,     0.00,2,     0.01,     3.14,2,     0.01,  -999.00,9,  -999.00, -999.000,9, -999.000,9, -999.000,9, -999.000,9,   -999.0,9,   -999.0,9,   -999.0,9,-999.0000,     -999,9, -999.000,9,  -999.00,9, -999.000,9, -999.000,   -999.0,9,   -999.0, -999.000,9, -999.000, -999.000,9, -999.000,   -999.0,9,   -999.0, -999.000,9, -999.000,9, -999.000,9
  49NZ20140717,   P01,   146,  1,     19, X12J19,2,20140822,0749, 47.0052,-126.4710, 2553,   1731.1,2,   2.2119,2,   2.21187,2,  34.5543,2,  34.5548,2,-999.0000,9,    41.35,2,    41.63,2,   99.882,   0.0047,2,    0.008,2,  -999.00,9,    3.257,1,    0.000,2,   168.98,2,     0.18,    42.89,2,     0.05,     0.00,2,     0.01,     3.07,2,     0.01,  -999.00,9,  -999.00, -999.000,9, -999.000,9, -999.000,9, -999.000,9,   -999.0,9,   -999.0,9,   -999.0,9,-999.0000,     -999,9, -999.000,9,  -999.00,9, -999.000,9, -999.000,   -999.0,9,   -999.0, -999.000,9, -999.000, -999.000,9, -999.000,   -999.0,9,   -999.0, -999.000,9, -999.000,9, -999.000,9
  49NZ20140717,   P01,   146,  1,     18, X12J18,2,20140822,0749, 47.0052,-126.4710, 2553,   1930.4,2,   1.9879,2,   1.98770,2,  34.5846,2,  34.5855,2,-999.0000,9,    54.50,2,    55.09,2,   99.882,   0.0047,2,    0.007,2,  -999.00,9,    3.173,1,    0.000,2,   174.87,2,     0.18,    42.09,2,     0.05,     0.00,2,     0.01,     3.00,2,     0.01,  -999.00,9,  -999.00, -999.000,9, -999.000,9, -999.000,9, -999.000,9,   -999.0,9,   -999.0,9,   -999.0,9,-999.0000,     -999,9, -999.000,9,  -999.00,9, -999.000,9, -999.000,   -999.0,9,   -999.0, -999.000,9, -999.000, -999.000,9, -999.000,   -999.0,9,   -999.0, -999.000,9, -999.000,9, -999.000,9
  49NZ20140717,   P01,   146,  1,     17, X12J17,2,20140822,0749, 47.0052,-126.4710, 2553,   2129.2,2,   1.8460,2,   1.84597,2,  34.6112,2,  34.6120,2,-999.0000,9,    66.83,2,    67.38,2,   99.882,   0.0047,2,    0.006,2,  -999.00,9,    3.198,1,    0.000,2,   179.89,2,     0.19,    41.21,2,     0.05,     0.00,2,     0.01,     2.96,2,     0.01,  -999.00,9,  -999.00, -999.000,9, -999.000,9, -999.000,9, -999.000,9,   -999.0,9,   -999.0,9,   -999.0,9,-999.0000,     -999,9, -999.000,9,  -999.00,9, -999.000,9, -999.000,   -999.0,9,   -999.0, -999.000,9, -999.000, -999.000,9, -999.000,   -999.0,9,   -999.0, -999.000,9, -999.000,9, -999.000,9
  49NZ20140717,   P01,   146,  1,     16, X12J16,2,20140822,0749, 47.0052,-126.4710, 2553,   2571.3,2,   1.7577,2,   1.75746,2,  34.6413,2,-999.0000,9,-999.0000,9,    70.87,2,    71.26,1,   99.042,   0.0385,2,    0.010,2,  -999.00,9,    3.286,1,    0.000,2,  -999.00,9,  -999.00,  -999.00,9,  -999.00,  -999.00,9,  -999.00,  -999.00,9,  -999.00,  -999.00,9,  -999.00, -999.000,9, -999.000,9, -999.000,9, -999.000,9,   -999.0,9,   -999.0,9,   -999.0,9,-999.0000,     -999,9, -999.000,9,  -999.00,9, -999.000,9, -999.000,   -999.0,9,   -999.0, -999.000,9, -999.000, -999.000,9, -999.000,   -999.0,9,   -999.0, -999.000,9, -999.000,9, -999.000,9
  49NZ20140717,   P01,   146,  1,     15, X12J15,9,20140822,0749, 47.0052,-126.4710, 2553,   -999.0,9,-999.0000,9,-999.00000,9,-999.0000,9,-999.0000,9,-999.0000,9,  -999.00,9,  -999.00,9, -999.000,-999.0000,9, -999.000,9,  -999.00,9, -999.000,9, -999.000,9,  -999.00,9,  -999.00,  -999.00,9,  -999.00,  -999.00,9,  -999.00,  -999.00,9,  -999.00,  -999.00,9,  -999.00, -999.000,9, -999.000,9, -999.000,9, -999.000,9,   -999.0,9,   -999.0,9,   -999.0,9,-999.0000,     -999,9, -999.000,9,  -999.00,9, -999.000,9, -999.000,   -999.0,9,   -999.0, -999.000,9, -999.000, -999.000,9, -999.000,   -999.0,9,   -999.0, -999.000,9, -999.000,9, -999.000,9
  49NZ20140717,   P01,   146,  1,     14, X12J14,9,20140822,0749, 47.0052,-126.4710, 2553,   -999.0,9,-999.0000,9,-999.00000,9,-999.0000,9,-999.0000,9,-999.0000,9,  -999.00,9,  -999.00,9, -999.000,-999.0000,9, -999.000,9,  -999.00,9, -999.000,9, -999.000,9,  -999.00,9,  -999.00,  -999.00,9,  -999.00,  -999.00,9,  -999.00,  -999.00,9,  -999.00,  -999.00,9,  -999.00, -999.000,9, -999.000,9, -999.000,9, -999.000,9,   -999.0,9,   -999.0,9,   -999.0,9,-999.0000,     -999,9, -999.000,9,  -999.00,9, -999.000,9, -999.000,   -999.0,9,   -999.0, -999.000,9, -999.000, -999.000,9, -999.000,   -999.0,9,   -999.0, -999.000,9, -999.000,9, -999.000,9
  49NZ20140717,   P01,   146,  1,     13, X12113,9,20140822,0749, 47.0052,-126.4710, 2553,   -999.0,9,-999.0000,9,-999.00000,9,-999.0000,9,-999.0000,9,-999.0000,9,  -999.00,9,  -999.00,9, -999.000,-999.0000,9, -999.000,9,  -999.00,9, -999.000,9, -999.000,9,  -999.00,9,  -999.00,  -999.00,9,  -999.00,  -999.00,9,  -999.00,  -999.00,9,  -999.00,  -999.00,9,  -999.00, -999.000,9, -999.000,9, -999.000,9, -999.000,9,   -999.0,9,   -999.0,9,   -999.0,9,-999.0000,     -999,9, -999.000,9,  -999.00,9, -999.000,9, -999.000,   -999.0,9,   -999.0, -999.000,9, -999.000, -999.000,9, -999.000,   -999.0,9,   -999.0, -999.000,9, -999.000,9, -999.000,9
  49NZ20140717,   P01,   146,  1,     12, X12J12,9,20140822,0749, 47.0052,-126.4710, 2553,   -999.0,9,-999.0000,9,-999.00000,9,-999.0000,9,-999.0000,9,-999.0000,9,  -999.00,9,  -999.00,9, -999.000,-999.0000,9, -999.000,9,  -999.00,9, -999.000,9, -999.000,9,  -999.00,9,  -999.00,  -999.00,9,  -999.00,  -999.00,9,  -999.00,  -999.00,9,  -999.00,  -999.00,9,  -999.00, -999.000,9, -999.000,9, -999.000,9, -999.000,9,   -999.0,9,   -999.0,9,   -999.0,9,-999.0000,     -999,9, -999.000,9,  -999.00,9, -999.000,9, -999.000,   -999.0,9,   -999.0, -999.000,9, -999.000, -999.000,9, -999.000,   -999.0,9,   -999.0, -999.000,9, -999.000,9, -999.000,9
  49NZ20140717,   P01,   146,  1,     11, X12J11,9,20140822,0749, 47.0052,-126.4710, 2553,   -999.0,9,-999.0000,9,-999.00000,9,-999.0000,9,-999.0000,9,-999.0000,9,  -999.00,9,  -999.00,9, -999.000,-999.0000,9, -999.000,9,  -999.00,9, -999.000,9, -999.000,9,  -999.00,9,  -999.00,  -999.00,9,  -999.00,  -999.00,9,  -999.00,  -999.00,9,  -999.00,  -999.00,9,  -999.00, -999.000,9, -999.000,9, -999.000,9, -999.000,9,   -999.0,9,   -999.0,9,   -999.0,9,-999.0000,     -999,9, -999.000,9,  -999.00,9, -999.000,9, -999.000,   -999.0,9,   -999.0, -999.000,9, -999.000, -999.000,9, -999.000,   -999.0,9,   -999.0, -999.000,9, -999.000,9, -999.000,9
  49NZ20140717,   P01,   146,  1,     10, X12J10,9,20140822,0749, 47.0052,-126.4710, 2553,   -999.0,9,-999.0000,9,-999.00000,9,-999.0000,9,-999.0000,9,-999.0000,9,  -999.00,9,  -999.00,9, -999.000,-999.0000,9, -999.000,9,  -999.00,9, -999.000,9, -999.000,9,  -999.00,9,  -999.00,  -999.00,9,  -999.00,  -999.00,9,  -999.00,  -999.00,9,  -999.00,  -999.00,9,  -999.00, -999.000,9, -999.000,9, -999.000,9, -999.000,9,   -999.0,9,   -999.0,9,   -999.0,9,-999.0000,     -999,9, -999.000,9,  -999.00,9, -999.000,9, -999.000,   -999.0,9,   -999.0, -999.000,9, -999.000, -999.000,9, -999.000,   -999.0,9,   -999.0, -999.000,9, -999.000,9, -999.000,9