BOTTLE,20230904JAMSTECRIGC
EXPOCODE,SECT,STNNBR,CASTNO,SAMPNO,BTLNBR,BTLNBR_FLAG_W,DATE,TIME,LATITUDE,LONGITUDE,DEPTH,CTDPRS,CTDPRS_FLAG_W,CTDTMP,CTDTMP_FLAG_W,SBE35,SBE35_FLAG_W,CTDSAL,CTDSAL_FLAG_W,SALNTY,SALNTY_FLAG_W,DNSSAL,DNSSAL_FLAG_W,CTDOXY,CTDOXY_FLAG_W,OXYGEN,OXYGEN_FLAG_W,XMISS,XMISSCP,XMISS_FLAG_W,FLUOR,FLUOR_FLAG_W,CHLORA,CHLORA_FLAG_W,CDOM,CDOM_FLAG_W,PAR,PAR_FLAG_W,SILCAT,SILCAT_FLAG_W,SILUNC,NITRAT,NITRAT_FLAG_W,NRAUNC,NITRIT,NITRIT_FLAG_W,NRIUNC,PHSPHT,PHSPHT_FLAG_W,PHPUNC,AMMONIA,AMMONIA_FLAG_W,NH4UNC,CFC-11,CFC-11_FLAG_W,CFC-12,CFC-12_FLAG_W,CFC113,CFC113_FLAG_W,SF6,SF6_FLAG_W,TCARBN,TCARBN_FLAG_W,ALKALI,ALKALI_FLAG_W,ALKALI_POT,ALKALI_POT_FLAG_W,PH_TOT,PH_TMP,PH_TOT_FLAG_W,CALCIUM,CALCIUM_FLAG_W,DOC,DOC_FLAG_W,DELC13,DELC13_FLAG_W,C13ERR,DELC14,DELC14_FLAG_W,C14ERR,CS-134,CS-134_FLAG_W,CS134ER,CS-137,CS-137_FLAG_W,CS137ER,I-129,I-129_FLAG_W,I-129ER,CDOM-325,CDOM-325_FLAG_W,CDOM-370,CDOM-370_FLAG_W,CDOM-443,CDOM-443_FLAG_W
,,,,,,,,UTC,DEG,DEG,METERS,DBAR,,ITS-90,,ITS-90,,PSS-78,,PSS-78,,G/KG,,UMOL/KG,,UMOL/KG,,%TRANS,/METER,,MG/CUM,,MG/CUM,,MG/CUM,,UE/SQM/S,,UMOL/KG,,UMOL/KG,UMOL/KG,,UMOL/KG,UMOL/KG,,UMOL/KG,UMOL/KG,,UMOL/KG,UMOL/KG,,UMOL/KG,PMOL/KG,,PMOL/KG,,PMOL/KG,,FMOL/KG,,UMOL/KG,,UMOL/KG,,UMOL/KG,,,DEG C,,MMOL/KG,,UMOL/KG,,/MILLE,,/MILLE,/MILLE,,/MILLE,MBQ/KG,,MBQ/KG,MBQ/KG,,MBQ/KG,,,,/METER,,/METER,,/METER,
  49NZ20140717,   P01,   103,  1,      0,   -999,9,20140807,1805, 46.9892,-172.7043, 5795,   -999.0,9,-999.0000,9,-999.00000,9,-999.0000,9,  32.8172,2,-999.0000,9,  -999.00,9,  -999.00,9, -999.000,-999.0000,9, -999.000,9,  -999.00,9, -999.000,9, -999.000,9,    15.14,2,     0.09,    11.72,2,     0.02,     0.17,2,     0.01,     1.14,2,     0.01,  -999.00,9,  -999.00, -999.000,9, -999.000,9, -999.000,9, -999.000,9,   -999.0,9,   -999.0,9,   -999.0,9,-999.0000,     -999,9, -999.000,9,  -999.00,9, -999.000,9, -999.000,   -999.0,9,   -999.0, -999.000,9, -999.000, -999.000,9, -999.000,   -999.0,9,   -999.0, -999.000,9, -999.000,9, -999.000,9
  49NZ20140717,   P01,   103,  1,     36, X12J36,2,20140807,1805, 46.9892,-172.7043, 5795,     10.3,2,  13.0749,2,  13.07357,2,  32.8155,2,  32.8162,2,-999.0000,9,   274.55,2,   275.08,2,   96.012,   0.1628,2,    0.344,2,  -999.00,9,   -0.450,1,  166.944,2,    15.01,2,     0.09,    11.68,2,     0.02,     0.17,2,     0.01,     1.13,2,     0.01,  -999.00,9,  -999.00,    3.207,2,    1.800,2,    0.305,2,    3.280,2,   2039.1,2,   2218.1,2,   -999.0,9,   7.8422,       25,6, -999.000,9,    61.24,2, -999.000,9, -999.000,   -999.0,9,   -999.0, -999.000,9, -999.000, -999.000,9, -999.000,   -999.0,9,   -999.0, -999.000,9, -999.000,9, -999.000,9
  49NZ20140717,   P01,   103,  1,     35, X12J35,2,20140807,1805, 46.9892,-172.7043, 5795,     50.4,2,   5.8231,2,   5.82584,2,  32.9969,2,  32.9963,2,-999.0000,9,   324.81,2,   325.25,2,   97.047,   0.1199,2,    0.543,2,  -999.00,9,    0.727,1,    6.917,2,    22.21,2,     0.09,    14.96,2,     0.03,     0.14,2,     0.01,     1.37,2,     0.01,  -999.00,9,  -999.00,    4.515,2,    2.476,2,    0.424,2,    4.280,2,   2074.9,6,   2226.3,2,   -999.0,9,   7.7692,       25,2, -999.000,9,    56.65,2, -999.000,9, -999.000,   -999.0,9,   -999.0, -999.000,9, -999.000, -999.000,9, -999.000,   -999.0,9,   -999.0, -999.000,9, -999.000,9, -999.000,9
  49NZ20140717,   P01,   103,  1,     34, X12J34,2,20140807,1805, 46.9892,-172.7043, 5795,    100.5,2,   5.0272,2,   5.02349,2,  33.1019,2,  33.1089,2,-999.0000,9,   299.85,2,   299.53,2,   99.454,   0.0219,2,    0.167,2,  -999.00,9,    0.649,1,    0.293,2,    23.78,2,     0.09,    17.58,2,     0.03,     0.02,2,     0.01,     1.45,2,     0.01,  -999.00,9,  -999.00,    4.500,2,    2.454,2,    0.408,2,    4.200,2,   2096.5,2,   2226.2,2,   -999.0,9,   7.7165,       25,2, -999.000,9,    51.51,2, -999.000,9, -999.000,   -999.0,9,   -999.0, -999.000,9, -999.000, -999.000,9, -999.000,   -999.0,9,   -999.0, -999.000,9, -999.000,9, -999.000,9
  49NZ20140717,   P01,   103,  1,     33, X12J33,2,20140807,1805, 46.9892,-172.7043, 5795,    149.8,2,   4.3378,2,   4.33855,2,  33.6178,2,  33.6182,2,-999.0000,9,   215.14,2,   214.96,2,   99.670,   0.0132,2,    0.018,2,  -999.00,9,    1.775,1,    0.000,2,    48.08,2,     0.10,    26.89,2,     0.04,     0.01,2,     0.01,     2.00,2,     0.01,  -999.00,9,  -999.00,    3.927,2,    2.099,2,    0.297,2,    3.170,2,   2187.4,2,   2264.5,2,   -999.0,9,   7.5582,       25,6, -999.000,9,    49.16,2, -999.000,9, -999.000,   -999.0,9,   -999.0, -999.000,9, -999.000, -999.000,9, -999.000,   -999.0,9,   -999.0, -999.000,9, -999.000,9, -999.000,9
  49NZ20140717,   P01,   103,  1,     32, X12J32,2,20140807,1805, 46.9892,-172.7043, 5795,    199.7,2,   4.0390,2,   4.03866,2,  33.7299,2,  33.7300,2,-999.0000,9,   145.32,2,   145.29,2,   99.731,   0.0108,2,    0.014,2,  -999.00,9,    2.348,1,    0.000,2,    66.94,2,     0.12,    33.67,2,     0.04,     0.01,2,     0.01,     2.45,2,     0.01,  -999.00,9,  -999.00,    3.311,2,    1.719,2,    0.232,2,    2.160,2,   2243.4,2,   2279.1,6,   -999.0,9,   7.4348,       25,2, -999.000,9,    46.94,2, -999.000,9, -999.000,   -999.0,9,   -999.0, -999.000,9, -999.000, -999.000,9, -999.000,   -999.0,9,   -999.0, -999.000,9, -999.000,9, -999.000,9
  49NZ20140717,   P01,   103,  1,     31, X12J31,2,20140807,1805, 46.9892,-172.7043, 5795,    250.5,2,   4.1423,2,   4.14211,2,  33.8456,2,  33.8450,2,-999.0000,9,   109.38,2,   109.53,2,   99.783,   0.0087,2,    0.016,2,  -999.00,9,    2.480,1,    0.000,2,    76.94,2,     0.12,    36.39,2,     0.05,     0.01,2,     0.01,     2.63,2,     0.01,  -999.00,9,  -999.00,    2.739,2,    1.395,2,    0.179,2,    1.560,2,   2270.1,2,   2288.7,2,   -999.0,9,   7.3881,       25,2, -999.000,9,    43.00,2, -999.000,9, -999.000,   -999.0,9,   -999.0, -999.000,9, -999.000, -999.000,9, -999.000,   -999.0,9,   -999.0, -999.000,9, -999.000,9, -999.000,9
  49NZ20140717,   P01,   103,  1,     30, X12J30,2,20140807,1805, 46.9892,-172.7043, 5795,    330.9,2,   3.9162,2,   3.91549,2,  33.9243,2,  33.9235,2,-999.0000,9,    75.83,2,    76.52,2,   99.781,   0.0088,2,    0.016,2,  -999.00,9,    2.697,1,    0.000,2,    89.41,2,     0.13,    39.59,2,     0.05,     0.01,2,     0.01,     2.84,2,     0.01,  -999.00,9,  -999.00,    2.241,2,    1.121,2,    0.144,2,    1.130,2,   2300.9,2,   2300.6,2,   -999.0,9,   7.3337,       25,2, -999.000,9,    43.30,2, -999.000,9, -999.000,   -999.0,9,   -999.0, -999.000,9, -999.000, -999.000,9, -999.000,   -999.0,9,   -999.0, -999.000,9, -999.000,9, -999.000,9
  49NZ20140717,   P01,   103,  1,     29, X12J29,2,20140807,1805, 46.9892,-172.7043, 5795,    428.7,2,   3.7248,2,   3.72426,2,  34.0239,2,  34.0235,2,-999.0000,9,    42.10,2,    42.31,2,   99.822,   0.0071,2,    0.017,2,  -999.00,9,    2.905,1,    0.000,2,   103.65,2,     0.14,    42.41,2,     0.05,     0.01,2,     0.01,     3.04,2,     0.01,  -999.00,9,  -999.00,    1.590,2,    0.788,2,    0.105,2,    0.690,2,   2331.1,2,   2315.6,2,   -999.0,9,   7.2843,       25,2, -999.000,9,    42.68,2, -999.000,9, -999.000,   -999.0,9,   -999.0, -999.000,9, -999.000, -999.000,9, -999.000,   -999.0,9,   -999.0, -999.000,9, -999.000,9, -999.000,9
  49NZ20140717,   P01,   103,  1,     28, X12J28,2,20140807,1805, 46.9892,-172.7043, 5795,    530.2,2,   3.6333,2,   3.63297,2,  34.1100,2,  34.1096,2,-999.0000,9,    37.16,2,    37.30,2,   99.891,   0.0044,2,    0.017,2,  -999.00,9,    2.909,1,    0.000,2,   111.96,2,     0.14,    42.54,2,     0.05,     0.01,2,     0.01,     3.04,2,     0.01,  -999.00,9,  -999.00,    1.167,2,    0.575,2,    0.074,2,    0.510,2,   2340.6,2,   2322.7,2,   -999.0,9,   7.2957,       25,2, -999.000,9,    41.69,2, -999.000,9, -999.000,   -999.0,9,   -999.0, -999.000,9, -999.000, -999.000,9, -999.000,   -999.0,9,   -999.0, -999.000,9, -999.000,9, -999.000,9
  49NZ20140717,   P01,   103,  1,     27, X12J27,2,20140807,1805, 46.9892,-172.7043, 5795,    630.2,2,   3.4669,2,   3.46666,2,  34.1900,2,  34.1894,2,-999.0000,9,    29.31,2,    29.33,2,   99.861,   0.0056,2,    0.016,2,  -999.00,9,    3.005,1,    0.000,2,   121.51,2,     0.15,    43.09,2,     0.05,     0.01,2,     0.01,     3.08,2,     0.01,  -999.00,9,  -999.00,    0.775,2,    0.393,2,    0.048,2,    0.300,2,   2352.4,2,   2344.1,2,   -999.0,9,   7.2955,       25,2, -999.000,9,    43.56,3, -999.000,9, -999.000,   -999.0,9,   -999.0, -999.000,9, -999.000, -999.000,9, -999.000,   -999.0,9,   -999.0, -999.000,9, -999.000,9, -999.000,9
  49NZ20140717,   P01,   103,  1,     26, X12J26,2,20140807,1805, 46.9892,-172.7043, 5795,    730.1,2,   3.2675,2,   3.26750,2,  34.2545,2,  34.2541,2,-999.0000,9,    25.19,2,    24.91,2,   99.835,   0.0066,2,    0.016,2,  -999.00,9,    3.090,1,    0.000,2,   130.32,2,     0.16,    43.44,2,     0.05,     0.01,2,     0.01,     3.12,2,     0.01,  -999.00,9,  -999.00,    0.517,2,    0.268,2,    0.032,2,    0.180,2,   2364.2,6,   2354.6,2,   -999.0,9,   7.2980,       25,2, -999.000,9,  -999.00,9, -999.000,9, -999.000,   -999.0,9,   -999.0, -999.000,9, -999.000, -999.000,9, -999.000,   -999.0,9,   -999.0, -999.000,9, -999.000,9, -999.000,9
  49NZ20140717,   P01,   103,  1,     25, X12J25,2,20140807,1805, 46.9892,-172.7043, 5795,    828.4,2,   3.1063,2,   3.10567,2,  34.3044,2,  34.3049,2,-999.0000,9,    26.72,2,    26.53,2,   99.870,   0.0052,2,    0.015,2,  -999.00,9,    3.086,1,    0.000,2,   136.40,2,     0.16,    43.40,2,     0.05,     0.00,2,     0.01,     3.12,2,     0.01,  -999.00,9,  -999.00,    0.378,2,    0.202,2,    0.022,2,    0.140,2,   2369.7,2,   2366.2,2,   -999.0,9,   7.3088,       25,2, -999.000,9,    39.67,2, -999.000,9, -999.000,   -999.0,9,   -999.0, -999.000,9, -999.000, -999.000,9, -999.000,   -999.0,9,   -999.0, -999.000,9, -999.000,9, -999.000,9
  49NZ20140717,   P01,   103,  1,     24, X12J24,2,20140807,1805, 46.9892,-172.7043, 5795,    931.1,2,   2.9120,2,   2.91125,2,  34.3542,2,  34.3533,2,-999.0000,9,    26.57,2,    26.40,2,   99.898,   0.0041,2,    0.014,2,  -999.00,9,    3.129,1,    0.000,2,   142.73,2,     0.16,    43.41,2,     0.05,     0.00,2,     0.01,     3.11,2,     0.01,  -999.00,9,  -999.00,    0.261,2,    0.142,2,    0.014,2,    0.100,2,   2376.7,2,   2371.8,2,   -999.0,9,   7.3136,       25,6, -999.000,9,    40.42,2, -999.000,9, -999.000,   -999.0,9,   -999.0, -999.000,9, -999.000, -999.000,9, -999.000,   -999.0,9,   -999.0, -999.000,9, -999.000,9, -999.000,9
  49NZ20140717,   P01,   103,  1,     23, X12J23,3,20140807,1805, 46.9892,-172.7043, 5795,   1070.4,2,   2.7158,2,   2.71553,2,  34.4013,2,  34.3998,2,-999.0000,9,    26.83,2,    26.59,2,   99.883,   0.0047,2,    0.014,2,  -999.00,9,    3.132,1,    0.000,2,   149.61,2,     0.17,    43.54,2,     0.05,     0.00,2,     0.01,     3.12,2,     0.01,  -999.00,9,  -999.00,    0.171,2,    0.095,2,    0.009,2,    0.060,2,   2382.0,2,   2381.7,2,   -999.0,9,   7.3205,       25,2, -999.000,9,    39.53,2, -999.000,9, -999.000,   -999.0,9,   -999.0, -999.000,9, -999.000, -999.000,9, -999.000,   -999.0,9,   -999.0, -999.000,9, -999.000,9, -999.000,9
  49NZ20140717,   P01,   103,  1,     22, X12J22,2,20140807,1805, 46.9892,-172.7043, 5795,   1269.6,2,   2.4758,2,   2.47589,2,  34.4604,2,  34.4607,2,-999.0000,9,    31.20,2,    30.97,2,   99.911,   0.0036,2,    0.013,2,  -999.00,9,    3.104,1,    0.000,2,   157.51,2,     0.17,    43.44,2,     0.05,     0.01,2,     0.01,     3.10,2,     0.01,  -999.00,9,  -999.00,    0.087,2,    0.048,2,    0.005,2,    0.000,2,   2387.6,2,   2390.9,6,   -999.0,9,   7.3355,       25,2, -999.000,9,    38.75,2, -999.000,9, -999.000,   -999.0,9,   -999.0, -999.000,9, -999.000, -999.000,9, -999.000,   -999.0,9,   -999.0, -999.000,9, -999.000,9, -999.000,9
  49NZ20140717,   P01,   103,  1,     21, X12J21,2,20140807,1805, 46.9892,-172.7043, 5795,   1470.3,2,   2.2667,2,   2.26662,2,  34.5081,2,  34.5079,2,-999.0000,9,    37.73,2,    37.50,2,   99.917,   0.0033,2,    0.012,2,  -999.00,9,    3.176,1,    0.000,2,   163.64,2,     0.18,    43.14,2,     0.05,     0.00,2,     0.01,     3.08,2,     0.01,  -999.00,9,  -999.00,    0.043,2,    0.025,2,    0.003,2,    0.000,2,   2389.8,2,   2400.6,2,   -999.0,9,   7.3515,       25,2, -999.000,9,    37.04,2, -999.000,9, -999.000,   -999.0,9,   -999.0, -999.000,9, -999.000, -999.000,9, -999.000,   -999.0,9,   -999.0, -999.000,9, -999.000,9, -999.000,9
  49NZ20140717,   P01,   103,  1,     20, X12J20,2,20140807,1805, 46.9892,-172.7043, 5795,   1670.8,2,   2.1266,2,   2.12669,2,  34.5420,2,  34.5423,2,-999.0000,9,    46.20,2,    46.13,2,   99.904,   0.0038,2,    0.011,2,  -999.00,9,    3.034,1,    0.000,2,   166.34,2,     0.18,    42.71,2,     0.05,     0.00,2,     0.01,     3.03,2,     0.01,  -999.00,9,  -999.00,    0.019,2,    0.010,2,    0.003,2,    0.000,2,   2387.2,2,   2404.0,2,   -999.0,9,   7.3714,       25,6, -999.000,9,    37.76,2, -999.000,9, -999.000,   -999.0,9,   -999.0, -999.000,9, -999.000, -999.000,9, -999.000,   -999.0,9,   -999.0, -999.000,9, -999.000,9, -999.000,9
  49NZ20140717,   P01,   103,  1,     19, X12J19,2,20140807,1805, 46.9892,-172.7043, 5795,   1871.2,2,   2.0093,2,   2.00915,2,  34.5694,2,  34.5697,2,-999.0000,9,    55.62,2,    55.70,2,   99.950,   0.0020,2,    0.010,2,  -999.00,9,    3.054,1,    0.000,2,   168.04,2,     0.18,    42.25,2,     0.05,     0.00,2,     0.01,     2.99,2,     0.01,  -999.00,9,  -999.00,    0.010,2,    0.005,2,    0.001,2,    0.000,2,   2386.4,2,   2407.6,2,   -999.0,9,   7.3934,       25,2, -999.000,9,    38.43,2, -999.000,9, -999.000,   -999.0,9,   -999.0, -999.000,9, -999.000, -999.000,9, -999.000,   -999.0,9,   -999.0, -999.000,9, -999.000,9, -999.000,9
  49NZ20140717,   P01,   103,  1,     18, X12J18,2,20140807,1805, 46.9892,-172.7043, 5795,   2070.6,2,   1.8953,2,   1.89527,2,  34.5942,2,  34.5943,2,-999.0000,9,    65.33,2,    65.36,2,   99.939,   0.0024,2,    0.009,2,  -999.00,9,    2.962,1,    0.000,2,   169.67,2,     0.18,    41.70,2,     0.05,     0.00,2,     0.01,     2.95,2,     0.01,  -999.00,9,  -999.00,    0.003,2,    0.001,2,    0.001,2,    0.000,2,   2380.0,2,   2413.4,2,   -999.0,9,   7.4140,       25,2, -999.000,9,    37.25,2, -999.000,9, -999.000,   -999.0,9,   -999.0, -999.000,9, -999.000, -999.000,9, -999.000,   -999.0,9,   -999.0, -999.000,9, -999.000,9, -999.000,9
  49NZ20140717,   P01,   103,  1,     17, X12J17,2,20140807,1805, 46.9892,-172.7043, 5795,   2269.9,2,   1.8061,2,   1.80636,2,  34.6120,2,  34.6114,2,-999.0000,9,    76.05,2,    76.03,2,   99.928,   0.0029,2,    0.007,2,  -999.00,9,    2.875,1,    0.000,2,   170.05,2,     0.18,    41.01,2,     0.05,     0.00,2,     0.01,     2.90,2,     0.01,  -999.00,9,  -999.00,    0.000,2,    0.000,2,    0.002,2,    0.000,2,   2376.3,2,   2416.1,2,   -999.0,9,   7.4349,       25,2, -999.000,9,    38.07,2, -999.000,9, -999.000,   -999.0,9,   -999.0, -999.000,9, -999.000, -999.000,9, -999.000,   -999.0,9,   -999.0, -999.000,9, -999.000,9, -999.000,9
  49NZ20140717,   P01,   103,  1,     16, X12J16,2,20140807,1805, 46.9892,-172.7043, 5795,   2469.5,2,   1.7225,2,   1.72265,2,  34.6278,2,  34.6278,2,-999.0000,9,    88.15,2,    88.24,2,   99.937,   0.0025,2,    0.006,2,  -999.00,9,    2.840,1,    0.000,2,   169.10,2,     0.18,    40.26,2,     0.05,     0.00,2,     0.01,     2.84,2,     0.01,  -999.00,9,  -999.00,    0.000,2,    0.000,2,    0.001,2,    0.000,2,   2368.6,6,   2419.7,2,   -999.0,9,   7.4585,       25,2, -999.000,9,    36.86,2, -999.000,9, -999.000,   -999.0,9,   -999.0, -999.000,9, -999.000, -999.000,9, -999.000,   -999.0,9,   -999.0, -999.000,9, -999.000,9, -999.000,9
  49NZ20140717,   P01,   103,  1,     15, X12J15,2,20140807,1805, 46.9892,-172.7043, 5795,   2671.0,2,   1.6575,2,   1.65759,2,  34.6401,2,  34.6401,2,-999.0000,9,    98.96,2,    98.93,2,   99.956,   0.0018,2,    0.006,2,  -999.00,9,    2.788,1,    0.000,2,   167.49,2,     0.18,    39.53,2,     0.05,     0.00,2,     0.01,     2.79,2,     0.01,  -999.00,9,  -999.00,    0.000,2,    0.000,2,    0.002,2,    0.000,2,   2363.1,2,   2418.5,2,   -999.0,9,   7.4797,       25,2, -999.000,9,    37.32,2, -999.000,9, -999.000,   -999.0,9,   -999.0, -999.000,9, -999.000, -999.000,9, -999.000,   -999.0,9,   -999.0, -999.000,9, -999.000,9, -999.000,9
  49NZ20140717,   P01,   103,  1,     14, X12J14,2,20140807,1805, 46.9892,-172.7043, 5795,   2869.4,2,   1.6074,2,   1.60759,2,  34.6497,2,  34.6495,2,-999.0000,9,   108.23,2,   108.05,2,   99.971,   0.0011,2,    0.005,2,  -999.00,9,    2.779,1,    0.000,2,   165.98,2,     0.18,    39.02,2,     0.05,     0.00,2,     0.01,     2.75,2,     0.01,  -999.00,9,  -999.00,    0.000,2,    0.000,2,    0.001,2,    0.000,2,   2357.8,2,   2419.6,2,   -999.0,9,   7.4965,       25,6, -999.000,9,    37.05,2, -999.000,9, -999.000,   -999.0,9,   -999.0, -999.000,9, -999.000, -999.000,9, -999.000,   -999.0,9,   -999.0, -999.000,9, -999.000,9, -999.000,9
  49NZ20140717,   P01,   103,  1,     13, X12113,2,20140807,1805, 46.9892,-172.7043, 5795,   3079.7,2,   1.5632,2,   1.56321,2,  34.6582,2,  34.6579,2,-999.0000,9,   117.23,2,   117.03,2,   99.945,   0.0022,2,    0.004,2,  -999.00,9,    2.586,1,    0.000,2,   164.43,2,     0.18,    38.44,2,     0.05,     0.00,2,     0.01,     2.70,2,     0.01,  -999.00,9,  -999.00,    0.000,2,    0.000,2,    0.002,2,    0.000,2,   2350.8,2,   2420.1,2,   -999.0,9,   7.5137,       25,2, -999.000,9,    37.43,2, -999.000,9, -999.000,   -999.0,9,   -999.0, -999.000,9, -999.000, -999.000,9, -999.000,   -999.0,9,   -999.0, -999.000,9, -999.000,9, -999.000,9
  49NZ20140717,   P01,   103,  1,     12, X12J12,2,20140807,1805, 46.9892,-172.7043, 5795,   3329.7,2,   1.5223,2,   1.52239,2,  34.6666,2,  34.6666,2,-999.0000,9,   126.83,2,   126.63,2,   99.963,   0.0015,2,    0.004,2,  -999.00,9,    2.595,1,    0.000,2,   161.56,2,     0.17,    37.73,2,     0.05,     0.00,2,     0.01,     2.64,2,     0.01,  -999.00,9,  -999.00,    0.000,2,    0.000,2,    0.001,2,    0.000,2,   2343.3,2,   2420.7,6,   -999.0,9,   7.5318,       25,2, -999.000,9,    39.16,2, -999.000,9, -999.000,   -999.0,9,   -999.0, -999.000,9, -999.000, -999.000,9, -999.000,   -999.0,9,   -999.0, -999.000,9, -999.000,9, -999.000,9
  49NZ20140717,   P01,   103,  1,     11, X12J11,2,20140807,1805, 46.9892,-172.7043, 5795,   3581.3,2,   1.4939,2,   1.49398,2,  34.6732,2,  34.6730,2,-999.0000,9,   134.78,2,   134.80,2,   99.965,   0.0014,2,    0.003,2,  -999.00,9,    2.672,4,    0.000,2,   159.74,2,     0.17,    37.22,2,     0.05,     0.00,2,     0.01,     2.60,2,     0.01,  -999.00,9,  -999.00,    0.000,2,    0.000,2,    0.000,2,    0.000,2,   2339.0,2,   2420.4,2,   -999.0,9,   7.5458,       25,2, -999.000,9,    38.95,2, -999.000,9, -999.000,   -999.0,9,   -999.0, -999.000,9, -999.000, -999.000,9, -999.000,   -999.0,9,   -999.0, -999.000,9, -999.000,9, -999.000,9
  49NZ20140717,   P01,   103,  1,     10, X12J10,2,20140807,1805, 46.9892,-172.7043, 5795,   3831.1,2,   1.4801,2,   1.48018,2,  34.6779,2,  34.6778,2,-999.0000,9,   140.62,2,   140.54,2,   99.976,   0.0010,2,    0.003,2,  -999.00,9,    2.777,4,    0.000,2,   158.96,2,     0.17,    36.77,2,     0.05,     0.00,2,     0.01,     2.57,2,     0.01,  -999.00,9,  -999.00,    0.000,2,    0.000,2,    0.001,2,    0.000,2,   2336.3,2,   2420.5,2,   -999.0,9,   7.5562,       25,2, -999.000,9,    39.01,2, -999.000,9, -999.000,   -999.0,9,   -999.0, -999.000,9, -999.000, -999.000,9, -999.000,   -999.0,9,   -999.0, -999.000,9, -999.000,9, -999.000,9