BOTTLE,20230904JAMSTECRIGC
EXPOCODE,SECT,STNNBR,CASTNO,SAMPNO,BTLNBR,BTLNBR_FLAG_W,DATE,TIME,LATITUDE,LONGITUDE,DEPTH,CTDPRS,CTDPRS_FLAG_W,CTDTMP,CTDTMP_FLAG_W,SBE35,SBE35_FLAG_W,CTDSAL,CTDSAL_FLAG_W,SALNTY,SALNTY_FLAG_W,DNSSAL,DNSSAL_FLAG_W,CTDOXY,CTDOXY_FLAG_W,OXYGEN,OXYGEN_FLAG_W,XMISS,XMISSCP,XMISS_FLAG_W,FLUOR,FLUOR_FLAG_W,CHLORA,CHLORA_FLAG_W,CDOM,CDOM_FLAG_W,PAR,PAR_FLAG_W,SILCAT,SILCAT_FLAG_W,SILUNC,NITRAT,NITRAT_FLAG_W,NRAUNC,NITRIT,NITRIT_FLAG_W,NRIUNC,PHSPHT,PHSPHT_FLAG_W,PHPUNC,AMMONIA,AMMONIA_FLAG_W,NH4UNC,CFC-11,CFC-11_FLAG_W,CFC-12,CFC-12_FLAG_W,CFC113,CFC113_FLAG_W,SF6,SF6_FLAG_W,TCARBN,TCARBN_FLAG_W,ALKALI,ALKALI_FLAG_W,ALKALI_POT,ALKALI_POT_FLAG_W,PH_TOT,PH_TMP,PH_TOT_FLAG_W,CALCIUM,CALCIUM_FLAG_W,DOC,DOC_FLAG_W,DELC13,DELC13_FLAG_W,C13ERR,DELC14,DELC14_FLAG_W,C14ERR,CS-134,CS-134_FLAG_W,CS134ER,CS-137,CS-137_FLAG_W,CS137ER,I-129,I-129_FLAG_W,I-129ER,CDOM-325,CDOM-325_FLAG_W,CDOM-370,CDOM-370_FLAG_W,CDOM-443,CDOM-443_FLAG_W
,,,,,,,,UTC,DEG,DEG,METERS,DBAR,,ITS-90,,ITS-90,,PSS-78,,PSS-78,,G/KG,,UMOL/KG,,UMOL/KG,,%TRANS,/METER,,MG/CUM,,MG/CUM,,MG/CUM,,UE/SQM/S,,UMOL/KG,,UMOL/KG,UMOL/KG,,UMOL/KG,UMOL/KG,,UMOL/KG,UMOL/KG,,UMOL/KG,UMOL/KG,,UMOL/KG,PMOL/KG,,PMOL/KG,,PMOL/KG,,FMOL/KG,,UMOL/KG,,UMOL/KG,,UMOL/KG,,,DEG C,,MMOL/KG,,UMOL/KG,,/MILLE,,/MILLE,/MILLE,,/MILLE,MBQ/KG,,MBQ/KG,MBQ/KG,,MBQ/KG,,,,/METER,,/METER,,/METER,
  49NZ20140717,   P01,    66,  1,      9, X12J09,2,20140725,0524, 43.5663, 154.1778, 5437,   4000.9,2,   1.4677,2,   1.46779,2,  34.6821,2,  34.6817,2,-999.0000,9,   148.69,2,   148.53,2,   99.974,   0.0010,2,   -0.003,2,  -999.00,9,    2.435,4,    0.000,2,   152.08,2,     0.17,    36.35,2,     0.05,    -0.01,2,     0.01,     2.52,2,     0.01,  -999.00,9,  -999.00, -999.000,9, -999.000,9, -999.000,9, -999.000,9,   2330.7,2,   2414.9,2,   -999.0,9,   7.5691,       25,2, -999.000,9,    38.70,2, -999.000,9, -999.000,   -999.0,9,   -999.0, -999.000,9, -999.000, -999.000,9, -999.000,   -999.0,9,   -999.0, -999.000,9, -999.000,9, -999.000,9
  49NZ20140717,   P01,    66,  1,      8, X12J08,2,20140725,0524, 43.5663, 154.1778, 5437,   4249.7,2,   1.4650,2,   1.46517,2,  34.6853,2,  34.6850,2,-999.0000,9,   152.71,2,   152.53,2,   99.978,   0.0009,2,   -0.004,2,  -999.00,9,    1.980,4,    0.000,2,   151.09,2,     0.17,    36.09,2,     0.05,    -0.01,2,     0.01,     2.51,2,     0.01,  -999.00,9,  -999.00, -999.000,9, -999.000,9, -999.000,9, -999.000,9,   2327.6,6,   2417.8,2,   -999.0,9,   7.5760,       25,2, -999.000,9,    37.44,2, -999.000,9, -999.000,   -999.0,9,   -999.0, -999.000,9, -999.000, -999.000,9, -999.000,   -999.0,9,   -999.0, -999.000,9, -999.000,9, -999.000,9
  49NZ20140717,   P01,    66,  1,      7, X12J07,2,20140725,0524, 43.5663, 154.1778, 5437,   4501.5,2,   1.4740,2,   1.47402,2,  34.6873,2,  34.6872,2,-999.0000,9,   155.23,2,   155.07,2,   99.968,   0.0013,2,   -0.004,2,  -999.00,9,   -1.730,4,    0.000,2,   150.76,2,     0.17,    35.92,2,     0.05,    -0.01,2,     0.01,     2.49,2,     0.01,  -999.00,9,  -999.00, -999.000,9, -999.000,9, -999.000,9, -999.000,9,   2325.5,2,   2415.0,2,   -999.0,9,   7.5812,       25,6, -999.000,9,    37.78,2, -999.000,9, -999.000,   -999.0,9,   -999.0, -999.000,9, -999.000, -999.000,9, -999.000,   -999.0,9,   -999.0, -999.000,9, -999.000,9, -999.000,9
  49NZ20140717,   P01,    66,  1,      6, X12J06,2,20140725,0524, 43.5663, 154.1778, 5437,   4750.8,2,   1.4926,2,   1.49263,2,  34.6886,2,  34.6887,2,-999.0000,9,   156.52,2,   156.32,2,   99.959,   0.0016,2,   -0.004,2,  -999.00,9,   -1.286,4,    0.000,2,   151.00,2,     0.17,    35.85,2,     0.05,    -0.01,2,     0.01,     2.48,2,     0.01,  -999.00,9,  -999.00, -999.000,9, -999.000,9, -999.000,9, -999.000,9,   2324.2,2,   2416.2,6,   -999.0,9,   7.5832,       25,2, -999.000,9,    39.19,2, -999.000,9, -999.000,   -999.0,9,   -999.0, -999.000,9, -999.000, -999.000,9, -999.000,   -999.0,9,   -999.0, -999.000,9, -999.000,9, -999.000,9
  49NZ20140717,   P01,    66,  1,      5, X12J05,2,20140725,0524, 43.5663, 154.1778, 5437,   5000.1,2,   1.5164,2,   1.51655,2,  34.6894,2,  34.6893,2,-999.0000,9,   157.12,2,   157.09,2,   99.959,   0.0016,2,   -0.004,2,  -999.00,9,   -1.845,4,    0.000,2,   151.46,2,     0.17,    35.80,2,     0.05,    -0.01,2,     0.01,     2.48,2,     0.01,  -999.00,9,  -999.00, -999.000,9, -999.000,9, -999.000,9, -999.000,9,   2324.0,2,   2416.0,2,   -999.0,9,   7.5845,       25,2, -999.000,9,    39.29,2, -999.000,9, -999.000,   -999.0,9,   -999.0, -999.000,9, -999.000, -999.000,9, -999.000,   -999.0,9,   -999.0, -999.000,9, -999.000,9, -999.000,9
  49NZ20140717,   P01,    66,  1,      4, X12J04,2,20140725,0524, 43.5663, 154.1778, 5437,   5250.2,2,   1.5453,2,   1.54527,2,  34.6897,2,  34.6897,2,-999.0000,9,   157.18,2,   157.28,2,   99.870,   0.0052,2,   -0.004,2,  -999.00,9,  497.217,4,    0.000,2,   152.37,2,     0.17,    35.81,2,     0.05,    -0.01,2,     0.01,     2.48,2,     0.01,  -999.00,9,  -999.00, -999.000,9, -999.000,9, -999.000,9, -999.000,9,   2323.7,2,   2414.5,2,   -999.0,9,   7.5850,       25,2, -999.000,9,    38.40,2, -999.000,9, -999.000,   -999.0,9,   -999.0, -999.000,9, -999.000, -999.000,9, -999.000,   -999.0,9,   -999.0, -999.000,9, -999.000,9, -999.000,9
  49NZ20140717,   P01,    66,  1,      3, X12J03,9,20140725,0524, 43.5663, 154.1778, 5437,   -999.0,9,-999.0000,9,-999.00000,9,-999.0000,9,-999.0000,9,-999.0000,9,  -999.00,9,  -999.00,9, -999.000,-999.0000,9, -999.000,9,  -999.00,9, -999.000,9, -999.000,9,  -999.00,9,  -999.00,  -999.00,9,  -999.00,  -999.00,9,  -999.00,  -999.00,9,  -999.00,  -999.00,9,  -999.00, -999.000,9, -999.000,9, -999.000,9, -999.000,9,   -999.0,9,   -999.0,9,   -999.0,9,-999.0000,     -999,9, -999.000,9,  -999.00,9, -999.000,9, -999.000,   -999.0,9,   -999.0, -999.000,9, -999.000, -999.000,9, -999.000,   -999.0,9,   -999.0, -999.000,9, -999.000,9, -999.000,9
  49NZ20140717,   P01,    66,  1,      2, X12J02,2,20140725,0524, 43.5663, 154.1778, 5437,   1001.8,2,   2.6347,2,   2.63461,2,  34.4010,2,  34.4015,2,-999.0000,9,    30.58,2,    30.60,2,   99.866,   0.0054,2,    0.008,2,  -999.00,9,    3.050,1,    0.000,2,   151.59,2,     0.17,    43.34,2,     0.05,     0.00,2,     0.01,     3.09,2,     0.01,  -999.00,9,  -999.00, -999.000,9, -999.000,9, -999.000,9, -999.000,9,   2383.4,2,   2381.1,2,   -999.0,9,   7.3302,       25,2, -999.000,9,  -999.00,9, -999.000,9, -999.000,   -999.0,9,   -999.0, -999.000,9, -999.000, -999.000,9, -999.000,   -999.0,9,   -999.0, -999.000,9, -999.000,9, -999.000,9
  49NZ20140717,   P01,    66,  1,      1, X12J01,2,20140725,0524, 43.5663, 154.1778, 5437,   5546.6,2,   1.5845,2,   1.58435,2,  34.6895,2,  34.6894,2,-999.0000,9,   156.84,2,   157.08,2,   99.809,   0.0076,2,   -0.003,2,  -999.00,9,  169.448,4,    0.000,2,   153.35,2,     0.17,    35.86,2,     0.05,    -0.01,2,     0.01,     2.49,2,     0.01,  -999.00,9,  -999.00, -999.000,9, -999.000,9, -999.000,9, -999.000,9,   2323.5,2,   2418.0,2,   -999.0,9,   7.5844,       25,2, -999.000,9,    37.83,2, -999.000,9, -999.000,   -999.0,9,   -999.0, -999.000,9, -999.000, -999.000,9, -999.000,   -999.0,9,   -999.0, -999.000,9, -999.000,9, -999.000,9