BOTTLE,20230904JAMSTECRIGC
EXPOCODE,SECT,STNNBR,CASTNO,SAMPNO,BTLNBR,BTLNBR_FLAG_W,DATE,TIME,LATITUDE,LONGITUDE,DEPTH,CTDPRS,CTDPRS_FLAG_W,CTDTMP,CTDTMP_FLAG_W,SBE35,SBE35_FLAG_W,CTDSAL,CTDSAL_FLAG_W,SALNTY,SALNTY_FLAG_W,DNSSAL,DNSSAL_FLAG_W,CTDOXY,CTDOXY_FLAG_W,OXYGEN,OXYGEN_FLAG_W,XMISS,XMISSCP,XMISS_FLAG_W,FLUOR,FLUOR_FLAG_W,CHLORA,CHLORA_FLAG_W,CDOM,CDOM_FLAG_W,PAR,PAR_FLAG_W,SILCAT,SILCAT_FLAG_W,SILUNC,NITRAT,NITRAT_FLAG_W,NRAUNC,NITRIT,NITRIT_FLAG_W,NRIUNC,PHSPHT,PHSPHT_FLAG_W,PHPUNC,AMMONIA,AMMONIA_FLAG_W,NH4UNC,CFC-11,CFC-11_FLAG_W,CFC-12,CFC-12_FLAG_W,CFC113,CFC113_FLAG_W,SF6,SF6_FLAG_W,TCARBN,TCARBN_FLAG_W,ALKALI,ALKALI_FLAG_W,ALKALI_POT,ALKALI_POT_FLAG_W,PH_TOT,PH_TMP,PH_TOT_FLAG_W,CALCIUM,CALCIUM_FLAG_W,DOC,DOC_FLAG_W,DELC13,DELC13_FLAG_W,C13ERR,DELC14,DELC14_FLAG_W,C14ERR,CS-134,CS-134_FLAG_W,CS134ER,CS-137,CS-137_FLAG_W,CS137ER,I-129,I-129_FLAG_W,I-129ER,CDOM-325,CDOM-325_FLAG_W,CDOM-370,CDOM-370_FLAG_W,CDOM-443,CDOM-443_FLAG_W
,,,,,,,,UTC,DEG,DEG,METERS,DBAR,,ITS-90,,ITS-90,,PSS-78,,PSS-78,,G/KG,,UMOL/KG,,UMOL/KG,,%TRANS,/METER,,MG/CUM,,MG/CUM,,MG/CUM,,UE/SQM/S,,UMOL/KG,,UMOL/KG,UMOL/KG,,UMOL/KG,UMOL/KG,,UMOL/KG,UMOL/KG,,UMOL/KG,UMOL/KG,,UMOL/KG,PMOL/KG,,PMOL/KG,,PMOL/KG,,FMOL/KG,,UMOL/KG,,UMOL/KG,,UMOL/KG,,,DEG C,,MMOL/KG,,UMOL/KG,,/MILLE,,/MILLE,/MILLE,,/MILLE,MBQ/KG,,MBQ/KG,MBQ/KG,,MBQ/KG,,,,/METER,,/METER,,/METER,
  49NZ20140717,   P01,    60,  1,      0,   -999,9,20140723,1334, 41.2680, 150.3867, 5382,   -999.0,9,-999.0000,9,-999.00000,9,-999.0000,9,  33.8039,2,-999.0000,9,  -999.00,9,  -999.00,9, -999.000,-999.0000,9, -999.000,9,     0.35,2, -999.000,9, -999.000,9,     1.51,2,     0.11,     0.08,2,     0.02,     0.01,2,     0.01,     0.09,2,     0.01,  -999.00,9,  -999.00, -999.000,9, -999.000,9, -999.000,9, -999.000,9,   -999.0,9,   -999.0,9,   -999.0,9,-999.0000,     -999,9, -999.000,9,  -999.00,9, -999.000,9, -999.000,   -999.0,9,   -999.0, -999.000,9, -999.000, -999.000,9, -999.000,   -999.0,9,   -999.0,    0.222,2,    0.051,2,    0.012,2
  49NZ20140717,   P01,    60,  1,     36, X12J36,2,20140723,1334, 41.2680, 150.3867, 5382,      9.8,2,  19.8515,2,  19.84945,2,  34.0010,2,  34.0024,2,  34.1622,2,   236.55,2,   236.59,2,   95.676,   0.1768,2,    0.242,2,     0.32,2,   -0.102,1,    0.184,2,     1.60,2,     0.11,     0.06,2,     0.02,     0.01,2,     0.01,     0.09,2,     0.01,  -999.00,9,  -999.00, -999.000,9, -999.000,9, -999.000,9, -999.000,9,   1992.3,2,   2259.8,2,   -999.0,9,   8.0117,       25,6, -999.000,9,    65.95,2, -999.000,9, -999.000,   -999.0,9,   -999.0, -999.000,9, -999.000, -999.000,9, -999.000,   -999.0,9,   -999.0,    0.209,2,    0.095,2,    0.027,2
  49NZ20140717,   P01,    60,  1,     35, X12J35,2,20140723,1334, 41.2680, 150.3867, 5382,     50.4,2,  12.0062,2,  12.00888,2,  34.1818,2,  34.1859,2,  34.3488,2,   230.77,2,   229.27,2,   98.213,   0.0721,2,    0.356,2,     0.58,2,    0.574,1,    0.000,2,    14.66,2,     0.09,    10.58,2,     0.02,     0.20,2,     0.01,     0.82,2,     0.01,  -999.00,9,  -999.00, -999.000,9, -999.000,9, -999.000,9, -999.000,9,   2081.8,6,   2269.2,2,   -999.0,9,   7.8411,       25,2, -999.000,9,    51.96,2, -999.000,9, -999.000,   -999.0,9,   -999.0, -999.000,9, -999.000, -999.000,9, -999.000,   -999.0,9,   -999.0,    0.122,2,    0.041,2,    0.005,2
  49NZ20140717,   P01,    60,  1,     34, X12J34,2,20140723,1334, 41.2680, 150.3867, 5382,     99.9,2,   9.4337,2,   9.42867,2,  34.0364,2,  34.0361,2,  34.1972,2,   228.20,2,   227.82,2,   99.822,   0.0071,2,    0.027,2,     0.03,2,    0.962,1,    0.000,2,    22.21,2,     0.09,    14.80,2,     0.03,     0.03,2,     0.01,     1.10,2,     0.01,  -999.00,9,  -999.00, -999.000,9, -999.000,9, -999.000,9, -999.000,9,   2112.5,2,   2267.3,2,   -999.0,9,   7.7669,       25,2, -999.000,9,    49.23,2, -999.000,9, -999.000,   -999.0,9,   -999.0, -999.000,9, -999.000, -999.000,9, -999.000,   -999.0,9,   -999.0,    0.122,2,    0.044,2,    0.002,2
  49NZ20140717,   P01,    60,  1,     33, X12J33,2,20140723,1334, 41.2680, 150.3867, 5382,    150.1,2,   7.3365,2,   7.33603,2,  33.8262,2,  33.8281,2,  33.9901,2,   249.40,2,   248.46,2,   99.779,   0.0088,2,    0.022,2,     0.03,2,    1.121,1,    0.000,2,    27.50,2,     0.09,    17.25,2,     0.03,     0.02,2,     0.01,     1.30,2,     0.01,  -999.00,9,  -999.00, -999.000,9, -999.000,9, -999.000,9, -999.000,9,   2125.2,2,   2261.6,2,   -999.0,9,   7.7257,       25,6, -999.000,9,    49.71,2, -999.000,9, -999.000,   -999.0,9,   -999.0, -999.000,9, -999.000, -999.000,9, -999.000,   -999.0,9,   -999.0, -999.000,9, -999.000,9, -999.000,9
  49NZ20140717,   P01,    60,  1,     32, X12J32,2,20140723,1334, 41.2680, 150.3867, 5382,    200.1,2,   6.0789,2,   6.07556,2,  33.7335,2,  33.7361,2,  33.9004,2,   230.76,2,   229.82,2,   99.719,   0.0113,2,    0.001,2,     0.01,2,    1.518,1,    0.000,2,    36.18,2,     0.10,    20.87,2,     0.03,     0.02,2,     0.01,     1.57,2,     0.01,  -999.00,9,  -999.00, -999.000,9, -999.000,9, -999.000,9, -999.000,9,   2152.5,2,   2263.2,6,   -999.0,9,   7.6613,       25,2, -999.000,9,    48.75,2, -999.000,9, -999.000,   -999.0,9,   -999.0, -999.000,9, -999.000, -999.000,9, -999.000,   -999.0,9,   -999.0,    0.247,2,    0.126,2,    0.039,2
  49NZ20140717,   P01,    60,  1,     31, X12J31,2,20140723,1334, 41.2680, 150.3867, 5382,    250.1,2,   5.2500,2,   5.24227,2,  33.7356,2,  33.7390,2,  33.9050,2,   209.50,2,   208.34,2,   99.689,   0.0125,2,    0.000,2,     0.01,2,    1.786,1,    0.000,2,    44.28,2,     0.10,    23.55,2,     0.03,     0.02,2,     0.01,     1.77,2,     0.01,  -999.00,9,  -999.00, -999.000,9, -999.000,9, -999.000,9, -999.000,9,   2178.4,2,   2268.3,2,   -999.0,9,   7.6076,       25,2, -999.000,9,    48.28,2, -999.000,9, -999.000,   -999.0,9,   -999.0, -999.000,9, -999.000, -999.000,9, -999.000,   -999.0,9,   -999.0, -999.000,9, -999.000,9, -999.000,9
  49NZ20140717,   P01,    60,  1,     30, X12J30,2,20140723,1334, 41.2680, 150.3867, 5382,    300.0,2,   4.6829,2,   4.67467,2,  33.7524,2,  33.7566,2,  33.9228,2,   178.36,2,   177.48,2,   99.721,   0.0112,2,    0.002,2,  -999.00,9,    1.957,1,    0.000,2,    57.04,2,     0.11,    28.49,2,     0.04,     0.02,2,     0.01,     2.12,2,     0.01,  -999.00,9,  -999.00, -999.000,9, -999.000,9, -999.000,9, -999.000,9,   2212.0,2,   2276.7,2,   -999.0,9,   7.5291,       25,2, -999.000,9,    48.95,2, -999.000,9, -999.000,   -999.0,9,   -999.0, -999.000,9, -999.000, -999.000,9, -999.000,   -999.0,9,   -999.0, -999.000,9, -999.000,9, -999.000,9
  49NZ20140717,   P01,    60,  1,     29, X12J29,2,20140723,1334, 41.2680, 150.3867, 5382,    401.7,2,   5.0359,2,   5.03747,2,  34.0249,2,  34.0236,2,  34.1912,2,   110.55,2,   110.74,2,   99.896,   0.0042,2,    0.002,2,  -999.00,9,    2.226,1,    0.000,2,    76.18,2,     0.12,    33.88,2,     0.05,     0.03,2,     0.01,     2.46,2,     0.01,  -999.00,9,  -999.00, -999.000,9, -999.000,9, -999.000,9, -999.000,9,   2260.8,2,   2303.8,2,   -999.0,9,   7.4597,       25,2, -999.000,9,    43.07,2, -999.000,9, -999.000,   -999.0,9,   -999.0, -999.000,9, -999.000, -999.000,9, -999.000,   -999.0,9,   -999.0, -999.000,9, -999.000,9, -999.000,9
  49NZ20140717,   P01,    60,  1,     28, X12J28,2,20140723,1334, 41.2680, 150.3867, 5382,    501.2,2,   3.9697,2,   3.96769,2,  34.0396,2,  34.0336,2,  34.2064,2,    73.34,2,    74.28,2,   99.915,   0.0034,2,    0.006,2,  -999.00,9,    2.559,1,    0.000,2,    96.66,2,     0.13,    38.85,2,     0.05,     0.01,2,     0.01,     2.81,2,     0.01,  -999.00,9,  -999.00, -999.000,9, -999.000,9, -999.000,9, -999.000,9,   2307.1,2,   2317.4,2,   -999.0,9,   7.3601,       25,2, -999.000,9,    44.01,2, -999.000,9, -999.000,   -999.0,9,   -999.0, -999.000,9, -999.000, -999.000,9, -999.000,   -999.0,9,   -999.0,    0.239,2,    0.121,2,    0.041,2
  49NZ20140717,   P01,    60,  1,     27, X12J27,2,20140723,1334, 41.2680, 150.3867, 5382,    601.4,2,   4.2122,2,   4.21089,2,  34.2084,2,  34.2075,2,  34.3811,2,    58.56,2,    59.09,2,   99.924,   0.0030,2,    0.004,2,  -999.00,9,    2.560,1,    0.000,2,   105.21,2,     0.14,    39.48,2,     0.05,     0.01,2,     0.01,     2.84,2,     0.01,  -999.00,9,  -999.00, -999.000,9, -999.000,9, -999.000,9, -999.000,9,   2320.2,2,   2339.1,2,   -999.0,9,   7.3800,       25,2, -999.000,9,    42.01,2, -999.000,9, -999.000,   -999.0,9,   -999.0, -999.000,9, -999.000, -999.000,9, -999.000,   -999.0,9,   -999.0, -999.000,9, -999.000,9, -999.000,9
  49NZ20140717,   P01,    60,  1,     26, X12J26,2,20140723,1334, 41.2680, 150.3867, 5382,    701.3,2,   3.7015,2,   3.70114,2,  34.2818,2,  34.2807,2,  34.4563,2,    45.41,2,    45.88,2,   99.891,   0.0043,2,    0.005,2,  -999.00,9,    2.640,1,    0.000,2,   119.42,2,     0.15,    41.18,2,     0.05,     0.01,2,     0.01,     2.96,2,     0.01,  -999.00,9,  -999.00, -999.000,9, -999.000,9, -999.000,9, -999.000,9,   2342.7,6,   2356.8,2,   -999.0,9,   7.3595,       25,2, -999.000,9,    41.05,2, -999.000,9, -999.000,   -999.0,9,   -999.0, -999.000,9, -999.000, -999.000,9, -999.000,   -999.0,9,   -999.0, -999.000,9, -999.000,9, -999.000,9
  49NZ20140717,   P01,    60,  1,     25, X12J25,2,20140723,1334, 41.2680, 150.3867, 5382,    801.7,2,   3.4507,2,   3.45002,2,  34.3292,2,  34.3291,2,  34.5038,2,    42.35,2,    42.87,2,   99.855,   0.0058,2,    0.005,2,  -999.00,9,    2.751,1,    0.000,2,   126.54,2,     0.15,    41.63,2,     0.05,     0.01,2,     0.01,     2.99,2,     0.01,  -999.00,9,  -999.00, -999.000,9, -999.000,9, -999.000,9, -999.000,9,   2352.7,2,   2362.8,2,   -999.0,9,   7.3576,       25,2, -999.000,9,    42.51,2, -999.000,9, -999.000,   -999.0,9,   -999.0, -999.000,9, -999.000, -999.000,9, -999.000,   -999.0,9,   -999.0, -999.000,9, -999.000,9, -999.000,9
  49NZ20140717,   P01,    60,  1,     24, X12J24,2,20140723,1334, 41.2680, 150.3867, 5382,    902.7,2,   2.8938,2,   2.89350,2,  34.3333,2,  34.3329,2,  34.5091,2,    29.76,2,    29.84,2,   99.874,   0.0050,2,    0.006,2,  -999.00,9,    2.893,1,    0.000,2,   142.32,2,     0.16,    43.12,2,     0.11,     0.01,2,     0.01,     3.10,2,     0.01,  -999.00,9,  -999.00, -999.000,9, -999.000,9, -999.000,9, -999.000,9,   2373.3,2,   2366.7,2,   -999.0,9,   7.3184,       25,6, -999.000,9,    40.03,2, -999.000,9, -999.000,   -999.0,9,   -999.0, -999.000,9, -999.000, -999.000,9, -999.000,   -999.0,9,   -999.0, -999.000,9, -999.000,9, -999.000,9
  49NZ20140717,   P01,    60,  1,     23, X12J23,2,20140723,1334, 41.2680, 150.3867, 5382,   1001.2,2,   2.7032,2,   2.70622,2,  34.3754,2,  34.3757,2,  34.5532,2,    28.62,2,    29.17,2,   99.857,   0.0057,2,    0.006,2,  -999.00,9,    2.918,1,    0.000,2,   148.88,2,     0.17,    43.29,2,     0.05,     0.01,2,     0.01,     3.10,2,     0.01,  -999.00,9,  -999.00, -999.000,9, -999.000,9, -999.000,9, -999.000,9,   2381.8,2,   2376.2,2,   -999.0,9,   7.3223,       25,2, -999.000,9,    42.72,2, -999.000,9, -999.000,   -999.0,9,   -999.0, -999.000,9, -999.000, -999.000,9, -999.000,   -999.0,9,   -999.0,    0.366,2,    0.207,2,    0.088,2
  49NZ20140717,   P01,    60,  1,     22, X12J22,2,20140723,1334, 41.2680, 150.3867, 5382,   1200.5,2,   2.4659,2,   2.46569,2,  34.4368,2,  34.4367,2,  34.6146,2,    33.60,2,    33.64,2,   99.889,   0.0044,2,    0.005,2,  -999.00,9,    2.938,1,    0.000,2,   157.44,2,     0.17,    43.15,2,     0.11,     0.01,2,     0.01,     3.09,2,     0.01,  -999.00,9,  -999.00, -999.000,9, -999.000,9, -999.000,9, -999.000,9,   2386.2,2,   2387.6,6,   -999.0,9,   7.3367,       25,2, -999.000,9,    39.88,2, -999.000,9, -999.000,   -999.0,9,   -999.0, -999.000,9, -999.000, -999.000,9, -999.000,   -999.0,9,   -999.0, -999.000,9, -999.000,9, -999.000,9
  49NZ20140717,   P01,    60,  1,     21, X12J21,2,20140723,1334, 41.2680, 150.3867, 5382,   1401.3,2,   2.2927,2,   2.29272,2,  34.4797,2,  34.4795,2,  34.6587,2,    42.40,2,    42.80,2,   99.894,   0.0043,2,    0.004,2,  -999.00,9,    2.893,1,    0.000,2,   161.76,2,     0.17,    42.65,2,     0.05,     0.01,2,     0.01,     3.05,2,     0.01,  -999.00,9,  -999.00, -999.000,9, -999.000,9, -999.000,9, -999.000,9,   2385.0,2,   2393.6,2,   -999.0,9,   7.3560,       25,2, -999.000,9,    37.22,2, -999.000,9, -999.000,   -999.0,9,   -999.0, -999.000,9, -999.000, -999.000,9, -999.000,   -999.0,9,   -999.0, -999.000,9, -999.000,9, -999.000,9
  49NZ20140717,   P01,    60,  1,     20, X12J20,2,20140723,1334, 41.2680, 150.3867, 5382,   1601.1,2,   2.1956,2,   2.19547,2,  34.5229,2,  34.5236,2,  34.7029,2,    51.37,2,    51.82,2,   99.894,   0.0043,2,    0.003,2,  -999.00,9,    2.842,1,    0.000,2,   162.35,2,     0.18,    42.14,2,     0.05,     0.01,2,     0.01,     3.01,2,     0.01,  -999.00,9,  -999.00, -999.000,9, -999.000,9, -999.000,9, -999.000,9,   2383.6,2,   2400.6,2,   -999.0,9,   7.3823,       25,6, -999.000,9,    37.76,2, -999.000,9, -999.000,   -999.0,9,   -999.0, -999.000,9, -999.000, -999.000,9, -999.000,   -999.0,9,   -999.0, -999.000,9, -999.000,9, -999.000,9
  49NZ20140717,   P01,    60,  1,     19, X12J19,2,20140723,1334, 41.2680, 150.3867, 5382,   1800.4,2,   2.0719,2,   2.07178,2,  34.5650,2,  34.5650,2,  34.7464,2,    62.40,2,    62.61,2,   99.879,   0.0049,2,    0.002,2,  -999.00,9,    2.798,1,    0.000,2,   162.58,2,     0.18,    41.68,2,     0.13,     0.01,2,     0.01,     2.96,2,     0.01,  -999.00,9,  -999.00, -999.000,9, -999.000,9, -999.000,9, -999.000,9,   2380.0,2,   2408.1,2,   -999.0,9,   7.4100,       25,2, -999.000,9,    39.24,2, -999.000,9, -999.000,   -999.0,9,   -999.0, -999.000,9, -999.000, -999.000,9, -999.000,   -999.0,9,   -999.0, -999.000,9, -999.000,9, -999.000,9
  49NZ20140717,   P01,    60,  1,     18, X12J18,2,20140723,1334, 41.2680, 150.3867, 5382,   1999.5,2,   1.9446,2,   1.94438,2,  34.5922,2,  34.5924,2,  34.7741,2,    74.50,2,    74.44,2,   99.909,   0.0037,2,    0.001,2,  -999.00,9,    2.600,1,    0.000,2,   162.87,2,     0.18,    41.00,2,     0.05,     0.01,2,     0.01,     2.90,2,     0.01,  -999.00,9,  -999.00, -999.000,9, -999.000,9, -999.000,9, -999.000,9,   2374.9,2,   2410.2,2,   -999.0,9,   7.4358,       25,2, -999.000,9,    38.47,2, -999.000,9, -999.000,   -999.0,9,   -999.0, -999.000,9, -999.000, -999.000,9, -999.000,   -999.0,9,   -999.0,    0.180,2,    0.084,2,    0.028,2
  49NZ20140717,   P01,    60,  1,     17, X12J17,2,20140723,1334, 41.2680, 150.3867, 5382,   2201.1,2,   1.8118,2,   1.81184,2,  34.6156,2,  34.6159,2,  34.7979,2,    87.23,2,    87.25,2,   99.958,   0.0017,2,    0.000,2,  -999.00,9,    2.650,1,    0.000,2,   163.31,2,     0.18,    40.21,2,     0.05,     0.01,2,     0.01,     2.84,2,     0.01,  -999.00,9,  -999.00, -999.000,9, -999.000,9, -999.000,9, -999.000,9,   2369.4,2,   2415.5,2,   -999.0,9,   7.4614,       25,2, -999.000,9,    40.04,2, -999.000,9, -999.000,   -999.0,9,   -999.0, -999.000,9, -999.000, -999.000,9, -999.000,   -999.0,9,   -999.0, -999.000,9, -999.000,9, -999.000,9
  49NZ20140717,   P01,    60,  1,     16, X12J16,2,20140723,1334, 41.2680, 150.3867, 5382,   2400.5,2,   1.7223,2,   1.72240,2,  34.6313,2,  34.6313,2,  34.8130,2,    98.29,2,    98.26,2,   99.958,   0.0017,2,   -0.001,2,  -999.00,9,    2.457,1,    0.000,2,   162.43,2,     0.18,    39.50,2,     0.05,     0.01,2,     0.01,     2.79,2,     0.01,  -999.00,9,  -999.00, -999.000,9, -999.000,9, -999.000,9, -999.000,9,   2362.8,6,   2417.2,2,   -999.0,9,   7.4807,       25,2, -999.000,9,    42.57,3, -999.000,9, -999.000,   -999.0,9,   -999.0, -999.000,9, -999.000, -999.000,9, -999.000,   -999.0,9,   -999.0, -999.000,9, -999.000,9, -999.000,9
  49NZ20140717,   P01,    60,  1,     15, X12J15,2,20140723,1334, 41.2680, 150.3867, 5382,   2600.6,2,   1.6575,2,   1.65748,2,  34.6434,2,  34.6439,2,  34.8249,2,   109.10,2,   109.10,2,   99.965,   0.0014,2,   -0.001,2,  -999.00,9,    2.462,1,    0.000,2,   160.28,2,     0.17,    38.88,2,     0.05,     0.01,2,     0.01,     2.74,2,     0.01,  -999.00,9,  -999.00, -999.000,9, -999.000,9, -999.000,9, -999.000,9,   2356.8,2,   2413.7,3,   -999.0,9,   7.5014,       25,2, -999.000,9,    37.44,2, -999.000,9, -999.000,   -999.0,9,   -999.0, -999.000,9, -999.000, -999.000,9, -999.000,   -999.0,9,   -999.0, -999.000,9, -999.000,9, -999.000,9
  49NZ20140717,   P01,    60,  1,     14, X12J14,2,20140723,1334, 41.2680, 150.3867, 5382,   2801.5,2,   1.5955,2,   1.59556,2,  34.6539,2,  34.6543,2,  34.8348,2,   118.21,2,   118.01,2,   99.965,   0.0014,2,   -0.002,2,  -999.00,9,    2.406,1,    0.000,2,   158.92,2,     0.17,    38.33,2,     0.05,     0.01,2,     0.01,     2.70,2,     0.01,  -999.00,9,  -999.00, -999.000,9, -999.000,9, -999.000,9, -999.000,9,   2350.9,2,   2418.6,2,   -999.0,9,   7.5182,       25,2, -999.000,9,  -999.00,9, -999.000,9, -999.000,   -999.0,9,   -999.0, -999.000,9, -999.000, -999.000,9, -999.000,   -999.0,9,   -999.0, -999.000,9, -999.000,9, -999.000,9
  49NZ20140717,   P01,    60,  1,     13, X12113,2,20140723,1334, 41.2680, 150.3867, 5382,   3003.6,2,   1.5528,2,   1.55272,2,  34.6614,2,  34.6615,2,  34.8440,2,   125.96,2,   125.62,2,   99.963,   0.0015,2,   -0.002,2,  -999.00,9,    2.365,1,    0.000,2,   156.73,2,     0.17,    37.67,2,     0.05,     0.01,2,     0.01,     2.65,2,     0.01,  -999.00,9,  -999.00, -999.000,9, -999.000,9, -999.000,9, -999.000,9,   2346.4,2,   2420.2,2,   -999.0,9,   7.5306,       25,2, -999.000,9,    39.38,2, -999.000,9, -999.000,   -999.0,9,   -999.0, -999.000,9, -999.000, -999.000,9, -999.000,   -999.0,9,   -999.0,    0.260,2,    0.147,2,    0.063,2
  49NZ20140717,   P01,    60,  1,     12, X12J12,2,20140723,1334, 41.2680, 150.3867, 5382,   3249.4,2,   1.5156,2,   1.51568,2,  34.6685,2,  34.6682,2,  34.8486,2,   133.33,2,   133.03,2,   99.967,   0.0013,2,   -0.002,2,  -999.00,9,    2.257,1,    0.000,2,   155.36,2,     0.17,    37.29,2,     0.05,     0.01,2,     0.01,     2.61,2,     0.01,  -999.00,9,  -999.00, -999.000,9, -999.000,9, -999.000,9, -999.000,9,   2341.1,2,   2418.6,6,   -999.0,9,   7.5433,       25,2, -999.000,9,    40.14,2, -999.000,9, -999.000,   -999.0,9,   -999.0, -999.000,9, -999.000, -999.000,9, -999.000,   -999.0,9,   -999.0, -999.000,9, -999.000,9, -999.000,9
  49NZ20140717,   P01,    60,  1,     11, X12J11,2,20140723,1334, 41.2680, 150.3867, 5382,   3498.5,2,   1.4948,2,   1.49503,2,  34.6736,2,  34.6736,2,  34.8546,2,   138.86,2,   138.71,2,   99.969,   0.0012,2,   -0.003,2,  -999.00,9,    2.295,1,    0.000,2,   154.09,2,     0.17,    36.93,2,     0.05,     0.01,2,     0.01,     2.58,2,     0.01,  -999.00,9,  -999.00, -999.000,9, -999.000,9, -999.000,9, -999.000,9,   2338.6,2,   2415.5,2,   -999.0,9,   7.5536,       25,2, -999.000,9,    38.99,2, -999.000,9, -999.000,   -999.0,9,   -999.0, -999.000,9, -999.000, -999.000,9, -999.000,   -999.0,9,   -999.0, -999.000,9, -999.000,9, -999.000,9
  49NZ20140717,   P01,    60,  1,     10, X12J10,2,20140723,1334, 41.2680, 150.3867, 5382,   3749.6,2,   1.4772,2,   1.47732,2,  34.6781,2,  34.6777,2,  34.8592,2,   144.39,2,   144.12,2,   99.969,   0.0012,2,   -0.003,2,  -999.00,9,    2.161,1,    0.000,2,   152.87,2,     0.17,    36.59,2,     0.05,     0.00,2,     0.01,     2.55,2,     0.01,  -999.00,9,  -999.00, -999.000,9, -999.000,9, -999.000,9, -999.000,9,   2333.5,2,   2416.7,2,   -999.0,9,   7.5619,       25,2, -999.000,9,    40.91,2, -999.000,9, -999.000,   -999.0,9,   -999.0, -999.000,9, -999.000, -999.000,9, -999.000,   -999.0,9,   -999.0, -999.000,9, -999.000,9, -999.000,9