BOTTLE,20230904JAMSTECRIGC
EXPOCODE,SECT,STNNBR,CASTNO,SAMPNO,BTLNBR,BTLNBR_FLAG_W,DATE,TIME,LATITUDE,LONGITUDE,DEPTH,CTDPRS,CTDPRS_FLAG_W,CTDTMP,CTDTMP_FLAG_W,SBE35,SBE35_FLAG_W,CTDSAL,CTDSAL_FLAG_W,SALNTY,SALNTY_FLAG_W,DNSSAL,DNSSAL_FLAG_W,CTDOXY,CTDOXY_FLAG_W,OXYGEN,OXYGEN_FLAG_W,XMISS,XMISSCP,XMISS_FLAG_W,FLUOR,FLUOR_FLAG_W,CHLORA,CHLORA_FLAG_W,CDOM,CDOM_FLAG_W,PAR,PAR_FLAG_W,SILCAT,SILCAT_FLAG_W,SILUNC,NITRAT,NITRAT_FLAG_W,NRAUNC,NITRIT,NITRIT_FLAG_W,NRIUNC,PHSPHT,PHSPHT_FLAG_W,PHPUNC,AMMONIA,AMMONIA_FLAG_W,NH4UNC,CFC-11,CFC-11_FLAG_W,CFC-12,CFC-12_FLAG_W,CFC113,CFC113_FLAG_W,SF6,SF6_FLAG_W,TCARBN,TCARBN_FLAG_W,ALKALI,ALKALI_FLAG_W,ALKALI_POT,ALKALI_POT_FLAG_W,PH_TOT,PH_TMP,PH_TOT_FLAG_W,CALCIUM,CALCIUM_FLAG_W,DOC,DOC_FLAG_W,DELC13,DELC13_FLAG_W,C13ERR,DELC14,DELC14_FLAG_W,C14ERR,CS-134,CS-134_FLAG_W,CS134ER,CS-137,CS-137_FLAG_W,CS137ER,I-129,I-129_FLAG_W,I-129ER,CDOM-325,CDOM-325_FLAG_W,CDOM-370,CDOM-370_FLAG_W,CDOM-443,CDOM-443_FLAG_W
,,,,,,,,UTC,DEG,DEG,METERS,DBAR,,ITS-90,,ITS-90,,PSS-78,,PSS-78,,G/KG,,UMOL/KG,,UMOL/KG,,%TRANS,/METER,,MG/CUM,,MG/CUM,,MG/CUM,,UE/SQM/S,,UMOL/KG,,UMOL/KG,UMOL/KG,,UMOL/KG,UMOL/KG,,UMOL/KG,UMOL/KG,,UMOL/KG,UMOL/KG,,UMOL/KG,PMOL/KG,,PMOL/KG,,PMOL/KG,,FMOL/KG,,UMOL/KG,,UMOL/KG,,UMOL/KG,,,DEG C,,MMOL/KG,,UMOL/KG,,/MILLE,,/MILLE,/MILLE,,/MILLE,MBQ/KG,,MBQ/KG,MBQ/KG,,MBQ/KG,,,,/METER,,/METER,,/METER,
  49NZ20140717,   P01,    81,  1,      0,   -999,9,20140731,0733, 46.9902, 168.3792, 6250,   -999.0,9,-999.0000,9,-999.00000,9,-999.0000,9,  32.8022,2,-999.0000,9,  -999.00,9,  -999.00,9, -999.000,-999.0000,9, -999.000,9,  -999.00,9, -999.000,9, -999.000,9,    26.04,2,     0.09,    10.85,2,     0.02,     0.12,2,     0.01,     1.17,2,     0.01,  -999.00,9,  -999.00, -999.000,9, -999.000,9, -999.000,9, -999.000,9,   -999.0,9,   -999.0,9,   -999.0,9,-999.0000,     -999,9, -999.000,9,  -999.00,9, -999.000,9, -999.000,   -999.0,9,   -999.0, -999.000,9, -999.000, -999.000,9, -999.000,   -999.0,9,   -999.0, -999.000,9, -999.000,9, -999.000,9
  49NZ20140717,   P01,    81,  1,     36, X12J36,2,20140731,0733, 46.9902, 168.3792, 6250,     10.4,2,  11.9549,2,  11.97199,2,  32.8046,2,  32.8150,2,-999.0000,9,   281.31,2,   296.55,2,   95.014,   0.2046,2,    0.496,2,  -999.00,9,    0.306,1,    0.250,2,    26.16,2,     0.09,    11.64,2,     0.02,     0.12,2,     0.01,     1.22,2,     0.01,  -999.00,9,  -999.00,    3.650,2,    2.135,2,    0.360,2,    2.610,2,   2037.5,2,   2225.3,3,   -999.0,9,   7.8598,       25,6, -999.000,9,    62.44,2, -999.000,9, -999.000,   -999.0,9,   -999.0, -999.000,9, -999.000, -999.000,9, -999.000,   -999.0,9,   -999.0, -999.000,9, -999.000,9, -999.000,9
  49NZ20140717,   P01,    81,  1,     35, X12J35,2,20140731,0733, 46.9902, 168.3792, 6250,     50.0,2,   3.5165,2,   3.51024,2,  32.9255,2,  32.9263,2,-999.0000,9,   324.19,2,   325.28,2,   97.943,   0.0831,2,    0.335,2,  -999.00,9,    0.858,1,    0.000,2,    29.18,2,     0.09,    18.03,2,     0.03,     0.32,2,     0.01,     1.62,2,     0.01,  -999.00,9,  -999.00,    5.033,2,    2.865,2,    0.487,2,    3.270,2,   2103.1,6,   2228.2,3,   -999.0,9,   7.7050,       25,2, -999.000,9,    53.74,2, -999.000,9, -999.000,   -999.0,9,   -999.0, -999.000,9, -999.000, -999.000,9, -999.000,   -999.0,9,   -999.0, -999.000,9, -999.000,9, -999.000,9
  49NZ20140717,   P01,    81,  1,     34, X12J34,2,20140731,0733, 46.9902, 168.3792, 6250,    100.3,2,   2.7488,2,   2.75206,2,  33.0472,2,  33.0523,2,-999.0000,9,   310.76,2,   311.52,2,   99.493,   0.0203,2,    0.061,2,  -999.00,9,    1.007,1,    0.000,2,    34.79,2,     0.10,    22.06,2,     0.03,     0.01,2,     0.01,     1.77,2,     0.01,  -999.00,9,  -999.00,    5.036,2,    2.856,2,    0.486,2,    3.160,2,   2123.5,2,   2232.2,3,   -999.0,9,   7.6596,       25,2, -999.000,9,    51.80,2, -999.000,9, -999.000,   -999.0,9,   -999.0, -999.000,9, -999.000, -999.000,9, -999.000,   -999.0,9,   -999.0, -999.000,9, -999.000,9, -999.000,9
  49NZ20140717,   P01,    81,  1,     33, X12J33,2,20140731,0733, 46.9902, 168.3792, 6250,    149.4,2,   2.8684,2,   2.86882,2,  33.5136,2,  33.5152,2,-999.0000,9,   161.22,2,   162.01,2,   99.538,   0.0185,2,    0.020,2,  -999.00,9,    2.128,1,    0.000,2,    71.50,2,     0.12,    35.72,2,     0.05,     0.01,2,     0.01,     2.62,2,     0.01,  -999.00,9,  -999.00,    3.651,2,    2.016,2,    0.285,2,    1.920,2,   2245.7,2,   2268.8,3,   -999.0,9,   7.3993,       25,2, -999.000,9,    47.84,2, -999.000,9, -999.000,   -999.0,9,   -999.0, -999.000,9, -999.000, -999.000,9, -999.000,   -999.0,9,   -999.0, -999.000,9, -999.000,9, -999.000,9
  49NZ20140717,   P01,    81,  1,     32, X12J32,2,20140731,0733, 46.9902, 168.3792, 6250,    199.7,2,   3.5411,2,   3.54087,2,  33.7939,2,  33.7954,2,-999.0000,9,    56.83,2,    57.23,2,   99.651,   0.0140,2,    0.015,2,  -999.00,9,    2.712,1,    0.000,2,    91.29,2,     0.13,    43.19,2,     0.05,     0.00,2,     0.01,     3.07,2,     0.01,  -999.00,9,  -999.00,    2.516,2,    1.321,2,    0.180,2,    0.940,2,   2317.5,2,   2289.9,3,   -999.0,9,   7.2530,       25,2, -999.000,9,    48.12,2, -999.000,9, -999.000,   -999.0,9,   -999.0, -999.000,9, -999.000, -999.000,9, -999.000,   -999.0,9,   -999.0, -999.000,9, -999.000,9, -999.000,9
  49NZ20140717,   P01,    81,  1,     31, X12J31,2,20140731,0733, 46.9902, 168.3792, 6250,    249.3,2,   3.7194,2,   3.71882,2,  33.8988,2,  33.8975,2,-999.0000,9,    31.25,2,    31.50,2,   99.607,   0.0157,2,    0.018,2,  -999.00,9,    2.869,1,    0.000,2,    99.71,2,     0.14,    44.57,2,     0.06,     0.01,2,     0.01,     3.16,2,     0.01,  -999.00,9,  -999.00,    2.014,2,    1.039,2,    0.141,2,    0.650,2,   2335.9,2,   2299.4,3,   -999.0,9,   7.2299,       25,2, -999.000,9,    44.33,2, -999.000,9, -999.000,   -999.0,9,   -999.0, -999.000,9, -999.000, -999.000,9, -999.000,   -999.0,9,   -999.0, -999.000,9, -999.000,9, -999.000,9
  49NZ20140717,   P01,    81,  1,     30, X12J30,2,20140731,0733, 46.9902, 168.3792, 6250,    299.7,2,   3.6752,2,   3.67500,2,  33.9830,2,  33.9826,2,-999.0000,9,    20.38,2,    20.41,2,   99.780,   0.0088,2,    0.017,2,  -999.00,9,    2.847,1,    0.000,2,   105.69,2,     0.14,    45.02,2,     0.06,     0.01,2,     0.01,     3.20,2,     0.01,  -999.00,9,  -999.00,    1.650,2,    0.848,2,    0.109,2,    0.480,2,   2345.8,2,   2309.5,3,   -999.0,9,   7.2271,       25,2, -999.000,9,    46.91,3, -999.000,9, -999.000,   -999.0,9,   -999.0, -999.000,9, -999.000, -999.000,9, -999.000,   -999.0,9,   -999.0, -999.000,9, -999.000,9, -999.000,9
  49NZ20140717,   P01,    81,  1,     29, X12J29,2,20140731,0733, 46.9902, 168.3792, 6250,    400.8,2,   3.5817,2,   3.58196,2,  34.1037,2,  34.1030,2,-999.0000,9,    17.68,2,    17.31,2,   99.878,   0.0049,2,    0.016,2,  -999.00,9,    2.963,1,    0.000,2,   115.68,2,     0.15,    44.50,2,     0.06,     0.00,2,     0.01,     3.16,2,     0.01,  -999.00,9,  -999.00,    1.057,2,    0.540,2,    0.069,2,    0.240,2,   2355.0,2,   2329.7,3,   -999.0,9,   7.2515,       25,2, -999.000,9,    44.17,2, -999.000,9, -999.000,   -999.0,9,   -999.0, -999.000,9, -999.000, -999.000,9, -999.000,   -999.0,9,   -999.0, -999.000,9, -999.000,9, -999.000,9
  49NZ20140717,   P01,    81,  1,     28, X12J28,2,20140731,0733, 46.9902, 168.3792, 6250,    499.2,2,   3.3810,2,   3.38176,2,  34.1750,2,  34.1746,2,-999.0000,9,    20.15,2,    20.00,2,   99.910,   0.0036,2,    0.015,2,  -999.00,9,    2.979,1,    0.000,2,   124.20,2,     0.15,    43.97,2,     0.06,     0.00,2,     0.01,     3.14,2,     0.01,  -999.00,9,  -999.00,    0.795,2,    0.417,2,    0.050,2,    0.200,2,   2361.8,2,   2339.1,3,   -999.0,9,   7.2695,       25,2, -999.000,9,    44.19,2, -999.000,9, -999.000,   -999.0,9,   -999.0, -999.000,9, -999.000, -999.000,9, -999.000,   -999.0,9,   -999.0, -999.000,9, -999.000,9, -999.000,9
  49NZ20140717,   P01,    81,  1,     27, X12J27,2,20140731,0733, 46.9902, 168.3792, 6250,    599.7,2,   3.2620,2,   3.26203,2,  34.2426,2,  34.2423,2,-999.0000,9,    15.88,2,    15.39,2,   99.891,   0.0044,2,    0.015,2,  -999.00,9,    3.024,1,    0.000,2,   131.74,2,     0.16,    44.30,2,     0.06,     0.00,2,     0.01,     3.16,2,     0.01,  -999.00,9,  -999.00,    0.499,2,    0.271,2,    0.029,2,    0.130,2,   2369.0,2,   2354.0,3,   -999.0,9,   7.2747,       25,2, -999.000,9,    41.92,2, -999.000,9, -999.000,   -999.0,9,   -999.0, -999.000,9, -999.000, -999.000,9, -999.000,   -999.0,9,   -999.0, -999.000,9, -999.000,9, -999.000,9
  49NZ20140717,   P01,    81,  1,     26, X12J26,2,20140731,0733, 46.9902, 168.3792, 6250,    700.0,2,   3.1054,2,   3.10538,2,  34.2949,2,  34.2943,2,-999.0000,9,    16.86,2,    16.33,2,   99.893,   0.0043,2,    0.014,2,  -999.00,9,    3.181,1,    0.000,2,   138.03,2,     0.16,    44.21,2,     0.06,     0.00,2,     0.01,     3.16,2,     0.01,  -999.00,9,  -999.00,    0.349,2,    0.197,2,    0.019,2,    0.090,2,   2375.2,6,   2360.6,3,   -999.0,9,   7.2851,       25,2, -999.000,9,    40.36,2, -999.000,9, -999.000,   -999.0,9,   -999.0, -999.000,9, -999.000, -999.000,9, -999.000,   -999.0,9,   -999.0, -999.000,9, -999.000,9, -999.000,9
  49NZ20140717,   P01,    81,  1,     25, X12J25,2,20140731,0733, 46.9902, 168.3792, 6250,    800.8,2,   2.9353,2,   2.93518,2,  34.3416,2,  34.3419,2,-999.0000,9,    18.24,2,    17.67,2,   99.882,   0.0047,2,    0.013,2,  -999.00,9,    3.028,1,    0.000,2,   144.39,2,     0.16,    44.19,2,     0.06,     0.00,2,     0.01,     3.15,2,     0.01,  -999.00,9,  -999.00,    0.243,2,    0.140,2,    0.012,2,    0.080,2,   2381.3,2,   2369.9,3,   -999.0,9,   7.2942,       25,2, -999.000,9,    39.17,2, -999.000,9, -999.000,   -999.0,9,   -999.0, -999.000,9, -999.000, -999.000,9, -999.000,   -999.0,9,   -999.0, -999.000,9, -999.000,9, -999.000,9
  49NZ20140717,   P01,    81,  1,     24, X12J24,2,20140731,0733, 46.9902, 168.3792, 6250,    900.5,2,   2.8149,2,   2.81483,2,  34.3756,2,  34.3752,2,-999.0000,9,    17.95,2,    17.49,2,   99.886,   0.0046,2,    0.012,2,  -999.00,9,    3.102,1,    0.000,2,   148.79,2,     0.17,    44.14,2,     0.06,     0.00,2,     0.01,     3.15,2,     0.01,  -999.00,9,  -999.00,    0.172,2,    0.101,2,    0.008,2,    0.060,2,   2384.9,2,   2375.8,3,   -999.0,9,   7.2980,       25,6, -999.000,9,    38.90,2, -999.000,9, -999.000,   -999.0,9,   -999.0, -999.000,9, -999.000, -999.000,9, -999.000,   -999.0,9,   -999.0, -999.000,9, -999.000,9, -999.000,9
  49NZ20140717,   P01,    81,  1,     23, X12J23,2,20140731,0733, 46.9902, 168.3792, 6250,   1000.9,2,   2.6875,2,   2.68757,2,  34.4081,2,  34.4077,2,-999.0000,9,    19.07,2,    18.59,2,   99.880,   0.0048,2,    0.012,2,  -999.00,9,    3.074,1,    0.000,2,   153.05,2,     0.17,    44.10,2,     0.06,     0.00,2,     0.01,     3.14,2,     0.01,  -999.00,9,  -999.00,    0.118,2,    0.070,2,    0.007,2,    0.040,2,   2388.7,2,   2377.5,3,   -999.0,9,   7.3044,       25,2, -999.000,9,    38.89,2, -999.000,9, -999.000,   -999.0,9,   -999.0, -999.000,9, -999.000, -999.000,9, -999.000,   -999.0,9,   -999.0, -999.000,9, -999.000,9, -999.000,9
  49NZ20140717,   P01,    81,  1,     22, X12J22,2,20140731,0733, 46.9902, 168.3792, 6250,   1200.4,2,   2.4438,2,   2.44372,2,  34.4631,2,  34.4636,2,-999.0000,9,    26.23,2,    25.99,2,   99.912,   0.0035,2,    0.011,2,  -999.00,9,    3.078,1,    0.000,2,   160.42,2,     0.17,    43.76,2,     0.06,     0.00,2,     0.01,     3.12,2,     0.01,  -999.00,9,  -999.00,    0.074,2,    0.044,2,    0.004,2,    0.040,2,   2392.6,2,   2392.5,3,   -999.0,9,   7.3245,       25,2, -999.000,9,    40.07,3, -999.000,9, -999.000,   -999.0,9,   -999.0, -999.000,9, -999.000, -999.000,9, -999.000,   -999.0,9,   -999.0, -999.000,9, -999.000,9, -999.000,9
  49NZ20140717,   P01,    81,  1,     21, X12J21,2,20140731,0733, 46.9902, 168.3792, 6250,   1398.5,2,   2.2316,2,   2.23162,2,  34.5118,2,  34.5117,2,-999.0000,9,    38.04,2,    37.98,2,   99.910,   0.0036,2,    0.009,2,  -999.00,9,    3.066,1,    0.000,2,   165.22,2,     0.18,    43.07,2,     0.05,     0.00,2,     0.01,     3.06,2,     0.01,  -999.00,9,  -999.00,    0.049,2,    0.030,2,    0.003,2,    0.060,2,   2390.6,2,   2401.4,3,   -999.0,9,   7.3526,       25,2, -999.000,9,    37.85,2, -999.000,9, -999.000,   -999.0,9,   -999.0, -999.000,9, -999.000, -999.000,9, -999.000,   -999.0,9,   -999.0, -999.000,9, -999.000,9, -999.000,9
  49NZ20140717,   P01,    81,  1,     20, X12J20,2,20140731,0733, 46.9902, 168.3792, 6250,   1599.9,2,   2.0859,2,   2.08583,2,  34.5468,2,  34.5468,2,-999.0000,9,    48.45,2,    48.44,2,   99.910,   0.0036,2,    0.008,2,  -999.00,9,    3.117,1,    0.000,2,   168.20,2,     0.18,    42.43,2,     0.05,     0.00,2,     0.01,     3.02,2,     0.01,  -999.00,9,  -999.00,    0.027,2,    0.016,2,    0.002,2,    0.000,2,   2387.8,2,   2403.7,3,   -999.0,9,   7.3755,       25,2, -999.000,9,    38.50,2, -999.000,9, -999.000,   -999.0,9,   -999.0, -999.000,9, -999.000, -999.000,9, -999.000,   -999.0,9,   -999.0, -999.000,9, -999.000,9, -999.000,9
  49NZ20140717,   P01,    81,  1,     19, X12J19,2,20140731,0733, 46.9902, 168.3792, 6250,   1799.9,2,   1.9694,2,   1.97005,2,  34.5784,2,  34.5784,2,-999.0000,9,    63.26,2,    63.13,2,   99.942,   0.0023,2,    0.007,2,  -999.00,9,    2.866,1,    0.000,2,   167.12,2,     0.18,    41.61,2,     0.05,     0.00,2,     0.01,     2.96,2,     0.01,  -999.00,9,  -999.00,    0.012,2,    0.007,2,    0.000,2,    0.030,2,   2380.3,2,   2409.7,3,   -999.0,9,   7.4082,       25,2, -999.000,9,    36.78,2, -999.000,9, -999.000,   -999.0,9,   -999.0, -999.000,9, -999.000, -999.000,9, -999.000,   -999.0,9,   -999.0, -999.000,9, -999.000,9, -999.000,9
  49NZ20140717,   P01,    81,  1,     18, X12J18,2,20140731,0733, 46.9902, 168.3792, 6250,   1999.6,2,   1.8649,2,   1.86486,2,  34.5996,2,  34.5998,2,-999.0000,9,    73.40,2,    73.71,2,   99.945,   0.0022,2,    0.006,2,  -999.00,9,    2.858,1,    0.000,2,   167.73,2,     0.18,    40.94,2,     0.05,     0.00,2,     0.01,     2.90,2,     0.01,  -999.00,9,  -999.00,    0.004,2,    0.002,2,    0.001,2,    0.000,2,   2377.1,2,   2414.2,3,   -999.0,9,   7.4293,       25,2, -999.000,9,    37.80,2, -999.000,9, -999.000,   -999.0,9,   -999.0, -999.000,9, -999.000, -999.000,9, -999.000,   -999.0,9,   -999.0, -999.000,9, -999.000,9, -999.000,9
  49NZ20140717,   P01,    81,  1,     17, X12J17,2,20140731,0733, 46.9902, 168.3792, 6250,   2201.0,2,   1.7761,2,   1.77605,2,  34.6179,2,  34.6178,2,-999.0000,9,    85.44,2,    85.69,2,   99.960,   0.0016,2,    0.005,2,  -999.00,9,    2.757,1,    0.000,2,   166.42,2,     0.18,    40.23,2,     0.05,     0.00,2,     0.01,     2.85,2,     0.01,  -999.00,9,  -999.00,    0.000,2,    0.000,2,    0.001,2,    0.000,2,   2370.6,2,   2412.9,3,   -999.0,9,   7.4532,       25,2, -999.000,9,    38.53,2, -999.000,9, -999.000,   -999.0,9,   -999.0, -999.000,9, -999.000, -999.000,9, -999.000,   -999.0,9,   -999.0, -999.000,9, -999.000,9, -999.000,9
  49NZ20140717,   P01,    81,  1,     16, X12J16,2,20140731,0733, 46.9902, 168.3792, 6250,   2399.9,2,   1.7001,2,   1.70009,2,  34.6321,2,  34.6324,2,-999.0000,9,    96.79,2,    97.24,2,   99.964,   0.0014,2,    0.004,2,  -999.00,9,    2.738,1,    0.000,2,   164.67,2,     0.18,    39.53,2,     0.05,     0.00,2,     0.01,     2.79,2,     0.01,  -999.00,9,  -999.00,    0.000,2,    0.000,2,    0.000,2,    0.000,2,   2367.0,6,   2416.7,3,   -999.0,9,   7.4763,       25,2, -999.000,9,    39.96,2, -999.000,9, -999.000,   -999.0,9,   -999.0, -999.000,9, -999.000, -999.000,9, -999.000,   -999.0,9,   -999.0, -999.000,9, -999.000,9, -999.000,9
  49NZ20140717,   P01,    81,  1,     15, X12J15,2,20140731,0733, 46.9902, 168.3792, 6250,   2599.8,2,   1.6331,2,   1.63324,2,  34.6447,2,  34.6444,2,-999.0000,9,   107.45,2,   107.66,2,   99.966,   0.0014,2,    0.003,2,  -999.00,9,    2.555,1,    0.000,2,   162.97,2,     0.18,    38.88,2,     0.05,     0.00,2,     0.01,     2.74,2,     0.01,  -999.00,9,  -999.00,    0.000,2,    0.000,2,    0.000,2,    0.000,2,   2357.8,2,   2417.6,3,   -999.0,9,   7.4957,       25,2, -999.000,9,    38.94,2, -999.000,9, -999.000,   -999.0,9,   -999.0, -999.000,9, -999.000, -999.000,9, -999.000,   -999.0,9,   -999.0, -999.000,9, -999.000,9, -999.000,9
  49NZ20140717,   P01,    81,  1,     14, X12J14,2,20140731,0733, 46.9902, 168.3792, 6250,   2800.0,2,   1.5865,2,   1.58665,2,  34.6535,2,  34.6536,2,-999.0000,9,   115.87,2,   116.12,2,   99.960,   0.0016,2,    0.003,2,  -999.00,9,    2.604,1,    0.000,2,   161.19,2,     0.17,    38.37,2,     0.05,     0.00,2,     0.01,     2.70,2,     0.01,  -999.00,9,  -999.00,    0.000,2,    0.000,2,    0.000,2,    0.000,2,   2352.9,2,   2418.5,3,   -999.0,9,   7.5113,       25,6, -999.000,9,    40.10,2, -999.000,9, -999.000,   -999.0,9,   -999.0, -999.000,9, -999.000, -999.000,9, -999.000,   -999.0,9,   -999.0, -999.000,9, -999.000,9, -999.000,9
  49NZ20140717,   P01,    81,  1,     13, X12113,2,20140731,0733, 46.9902, 168.3792, 6250,   2998.7,2,   1.5452,2,   1.54530,2,  34.6612,2,  34.6603,2,-999.0000,9,   123.64,2,   123.32,2,   99.964,   0.0014,2,    0.002,2,  -999.00,9,    2.472,1,    0.000,2,   159.68,2,     0.17,    37.93,2,     0.05,     0.00,2,     0.01,     2.66,2,     0.01,  -999.00,9,  -999.00,    0.000,2,    0.000,2,    0.000,2,    0.000,2,   2348.0,2,   2420.1,2,   -999.0,9,   7.5248,       25,2, -999.000,9,    37.36,2, -999.000,9, -999.000,   -999.0,9,   -999.0, -999.000,9, -999.000, -999.000,9, -999.000,   -999.0,9,   -999.0, -999.000,9, -999.000,9, -999.000,9
  49NZ20140717,   P01,    81,  1,     12, X12J12,2,20140731,0733, 46.9902, 168.3792, 6250,   3250.7,2,   1.5124,2,   1.51251,2,  34.6681,2,  34.6677,2,-999.0000,9,   131.35,2,   131.29,2,   99.968,   0.0013,2,    0.001,2,  -999.00,9,    2.433,1,    0.000,2,   157.82,2,     0.17,    37.36,2,     0.05,     0.00,2,     0.01,     2.62,2,     0.01,  -999.00,9,  -999.00,    0.000,2,    0.000,2,    0.000,2,    0.000,2,   2342.5,2,   2418.0,3,   -999.0,9,   7.5391,       25,2, -999.000,9,    37.78,2, -999.000,9, -999.000,   -999.0,9,   -999.0, -999.000,9, -999.000, -999.000,9, -999.000,   -999.0,9,   -999.0, -999.000,9, -999.000,9, -999.000,9
  49NZ20140717,   P01,    81,  1,     11, X12J11,2,20140731,0733, 46.9902, 168.3792, 6250,   3502.2,2,   1.4934,2,   1.49358,2,  34.6734,2,  34.6733,2,-999.0000,9,   137.49,2,   137.53,2,   99.949,   0.0020,2,    0.001,2,  -999.00,9,    2.451,1,    0.000,2,   155.78,2,     0.17,    36.98,2,     0.05,     0.00,2,     0.01,     2.59,2,     0.01,  -999.00,9,  -999.00,    0.000,2,    0.000,2,    0.000,2,    0.000,2,   2337.7,2,   2415.6,2,   -999.0,9,   7.5506,       25,2, -999.000,9,    39.01,2, -999.000,9, -999.000,   -999.0,9,   -999.0, -999.000,9, -999.000, -999.000,9, -999.000,   -999.0,9,   -999.0, -999.000,9, -999.000,9, -999.000,9
  49NZ20140717,   P01,    81,  1,     10, X12J10,2,20140731,0733, 46.9902, 168.3792, 6250,   3750.6,2,   1.4808,2,   1.48102,2,  34.6778,2,  34.6771,2,-999.0000,9,   142.70,2,   142.55,2,   99.968,   0.0013,2,    0.001,2,  -999.00,9,    2.406,1,    0.000,2,   154.57,2,     0.17,    36.64,2,     0.05,     0.00,2,     0.01,     2.56,2,     0.01,  -999.00,9,  -999.00,    0.000,2,    0.000,2,    0.000,2,    0.000,2,   2333.9,2,   2418.4,2,   -999.0,9,   7.5594,       25,2, -999.000,9,    38.83,2, -999.000,9, -999.000,   -999.0,9,   -999.0, -999.000,9, -999.000, -999.000,9, -999.000,   -999.0,9,   -999.0, -999.000,9, -999.000,9, -999.000,9