BOTTLE,20230904JAMSTECRIGC
EXPOCODE,SECT,STNNBR,CASTNO,SAMPNO,BTLNBR,BTLNBR_FLAG_W,DATE,TIME,LATITUDE,LONGITUDE,DEPTH,CTDPRS,CTDPRS_FLAG_W,CTDTMP,CTDTMP_FLAG_W,SBE35,SBE35_FLAG_W,CTDSAL,CTDSAL_FLAG_W,SALNTY,SALNTY_FLAG_W,DNSSAL,DNSSAL_FLAG_W,CTDOXY,CTDOXY_FLAG_W,OXYGEN,OXYGEN_FLAG_W,XMISS,XMISSCP,XMISS_FLAG_W,FLUOR,FLUOR_FLAG_W,CHLORA,CHLORA_FLAG_W,CDOM,CDOM_FLAG_W,PAR,PAR_FLAG_W,SILCAT,SILCAT_FLAG_W,SILUNC,NITRAT,NITRAT_FLAG_W,NRAUNC,NITRIT,NITRIT_FLAG_W,NRIUNC,PHSPHT,PHSPHT_FLAG_W,PHPUNC,AMMONIA,AMMONIA_FLAG_W,NH4UNC,CFC-11,CFC-11_FLAG_W,CFC-12,CFC-12_FLAG_W,CFC113,CFC113_FLAG_W,SF6,SF6_FLAG_W,TCARBN,TCARBN_FLAG_W,ALKALI,ALKALI_FLAG_W,ALKALI_POT,ALKALI_POT_FLAG_W,PH_TOT,PH_TMP,PH_TOT_FLAG_W,CALCIUM,CALCIUM_FLAG_W,DOC,DOC_FLAG_W,DELC13,DELC13_FLAG_W,C13ERR,DELC14,DELC14_FLAG_W,C14ERR,CS-134,CS-134_FLAG_W,CS134ER,CS-137,CS-137_FLAG_W,CS137ER,I-129,I-129_FLAG_W,I-129ER,CDOM-325,CDOM-325_FLAG_W,CDOM-370,CDOM-370_FLAG_W,CDOM-443,CDOM-443_FLAG_W
,,,,,,,,UTC,DEG,DEG,METERS,DBAR,,ITS-90,,ITS-90,,PSS-78,,PSS-78,,G/KG,,UMOL/KG,,UMOL/KG,,%TRANS,/METER,,MG/CUM,,MG/CUM,,MG/CUM,,UE/SQM/S,,UMOL/KG,,UMOL/KG,UMOL/KG,,UMOL/KG,UMOL/KG,,UMOL/KG,UMOL/KG,,UMOL/KG,UMOL/KG,,UMOL/KG,PMOL/KG,,PMOL/KG,,PMOL/KG,,FMOL/KG,,UMOL/KG,,UMOL/KG,,UMOL/KG,,,DEG C,,MMOL/KG,,UMOL/KG,,/MILLE,,/MILLE,/MILLE,,/MILLE,MBQ/KG,,MBQ/KG,MBQ/KG,,MBQ/KG,,,,/METER,,/METER,,/METER,
  49NZ20140717,   P01,   114,  1,      0,   -999,9,20140811,0633, 46.9944,-160.3605, 5132,   -999.0,9,-999.0000,9,-999.00000,9,-999.0000,9,  32.5871,2,-999.0000,9,  -999.00,9,  -999.00,9, -999.000,-999.0000,9, -999.000,9,     0.82,2, -999.000,9, -999.000,9,     7.92,2,     0.09,     8.47,2,     0.02,     0.11,2,     0.01,     0.93,2,     0.01,  -999.00,9,  -999.00, -999.000,9, -999.000,9, -999.000,9, -999.000,9,   -999.0,9,   -999.0,9,   -999.0,9,-999.0000,     -999,9, -999.000,9,  -999.00,9, -999.000,9, -999.000,   -999.0,9,   -999.0, -999.000,9, -999.000, -999.000,9, -999.000,   -999.0,9,   -999.0,    0.266,2,    0.137,2,    0.062,2
  49NZ20140717,   P01,   114,  1,     36, X12J36,2,20140811,0633, 46.9944,-160.3605, 5132,     10.2,2,  13.0780,2,  13.07454,2,  32.5812,2,  32.5837,2,-999.0000,9,   277.03,2,   277.35,2,   89.861,   0.4276,2,    1.002,2,     0.84,2,   -0.410,1,    0.386,2,     7.94,2,     0.09,     8.46,2,     0.02,     0.10,2,     0.01,     0.91,2,     0.01,  -999.00,9,  -999.00, -999.000,9, -999.000,9, -999.000,9, -999.000,9,   2002.1,2,   2200.3,2,   2195.6,2,   7.8812,       25,6,    9.672,2,    63.48,2, -999.000,9, -999.000,   -999.0,9,   -999.0, -999.000,9, -999.000, -999.000,9, -999.000,   -999.0,9,   -999.0,    0.265,2,    0.119,2,    0.045,2
  49NZ20140717,   P01,   114,  1,     35, X12J35,2,20140811,0633, 46.9944,-160.3605, 5132,     50.2,2,   6.9986,2,   6.99792,2,  33.0426,2,  33.0426,2,-999.0000,9,   302.25,2,   303.44,2,   98.723,   0.0514,2,    0.282,2,     0.25,2,    0.549,1,    0.000,2,    18.28,2,     0.09,    11.81,2,     0.02,     0.12,2,     0.01,     1.15,2,     0.01,  -999.00,9,  -999.00, -999.000,9, -999.000,9, -999.000,9, -999.000,9,   2064.9,6,   2218.6,2,   2219.9,2,   7.7773,       25,2,    9.791,2,    57.08,2, -999.000,9, -999.000,   -999.0,9,   -999.0, -999.000,9, -999.000, -999.000,9, -999.000,   -999.0,9,   -999.0,    0.232,2,    0.113,2,    0.042,2
  49NZ20140717,   P01,   114,  1,     34, X12J34,2,20140811,0633, 46.9944,-160.3605, 5132,    100.5,2,   6.3738,2,   6.38490,2,  33.2616,2,  33.2560,2,-999.0000,9,   284.69,2,   285.54,2,   99.512,   0.0196,2,    0.115,2,     0.11,2,    0.532,1,    0.000,2,    20.24,2,     0.09,    14.72,2,     0.03,     0.02,2,     0.01,     1.22,2,     0.01,  -999.00,9,  -999.00, -999.000,9, -999.000,9, -999.000,9, -999.000,9,   2086.1,2,   2227.7,2,   2223.0,2,   7.7428,       25,2,    9.856,2,    52.69,2, -999.000,9, -999.000,   -999.0,9,   -999.0, -999.000,9, -999.000, -999.000,9, -999.000,   -999.0,9,   -999.0,    0.180,2,    0.081,2,    0.026,2
  49NZ20140717,   P01,   114,  1,     33, X12J33,2,20140811,0633, 46.9944,-160.3605, 5132,    150.4,2,   5.7413,2,   5.74072,2,  33.7423,2,  33.7423,2,-999.0000,9,   184.91,2,   185.43,2,   99.362,   0.0256,2,    0.026,2,     0.01,2,    1.820,1,    0.000,2,    45.56,2,     0.10,    26.61,2,     0.04,     0.01,2,     0.01,     1.94,2,     0.01,  -999.00,9,  -999.00, -999.000,9, -999.000,9, -999.000,9, -999.000,9,   2186.0,2,   2266.0,2,   2265.6,2,   7.5651,       25,6,   10.041,2,    47.13,2, -999.000,9, -999.000,   -999.0,9,   -999.0, -999.000,9, -999.000, -999.000,9, -999.000,   -999.0,9,   -999.0, -999.000,9, -999.000,9, -999.000,9
  49NZ20140717,   P01,   114,  1,     32, X12J32,2,20140811,0633, 46.9944,-160.3605, 5132,    199.8,2,   5.1494,2,   5.14967,2,  33.8074,2,  33.8077,2,-999.0000,9,   151.30,2,   151.61,2,   99.566,   0.0174,2,    0.022,2,     0.01,2,    2.216,1,    0.000,2,    57.85,2,     0.11,    30.89,2,     0.04,     0.01,2,     0.01,     2.24,2,     0.01,  -999.00,9,  -999.00, -999.000,9, -999.000,9, -999.000,9, -999.000,9,   2222.5,2,   2277.3,6,   -999.0,9,   7.4911,       25,2, -999.000,9,    45.74,2, -999.000,9, -999.000,   -999.0,9,   -999.0, -999.000,9, -999.000, -999.000,9, -999.000,   -999.0,9,   -999.0,    0.230,2,    0.105,2,    0.035,2
  49NZ20140717,   P01,   114,  1,     31, X12J31,2,20140811,0633, 46.9944,-160.3605, 5132,    250.0,2,   4.6531,2,   4.65226,2,  33.8360,2,  33.8357,2,-999.0000,9,   126.49,2,   126.56,2,   99.620,   0.0152,2,    0.022,2,     0.00,2,    2.435,1,    0.000,2,    67.70,2,     0.12,    34.10,2,     0.05,     0.01,2,     0.01,     2.46,2,     0.01,  -999.00,9,  -999.00, -999.000,9, -999.000,9, -999.000,9, -999.000,9,   2248.8,2,   2283.0,2,   -999.0,9,   7.4349,       25,2, -999.000,9,    45.01,2, -999.000,9, -999.000,   -999.0,9,   -999.0, -999.000,9, -999.000, -999.000,9, -999.000,   -999.0,9,   -999.0, -999.000,9, -999.000,9, -999.000,9
  49NZ20140717,   P01,   114,  1,     30, X12J30,2,20140811,0633, 46.9944,-160.3605, 5132,    300.3,2,   4.3418,2,   4.34170,2,  33.8847,2,  33.8839,2,-999.0000,9,    99.82,2,   100.41,2,   99.638,   0.0145,2,    0.022,2,  -999.00,9,    2.555,1,    0.000,2,    77.31,2,     0.12,    36.97,2,     0.05,     0.01,2,     0.01,     2.64,2,     0.01,  -999.00,9,  -999.00, -999.000,9, -999.000,9, -999.000,9, -999.000,9,   2272.8,2,   2294.9,2,   -999.0,9,   7.3839,       25,2, -999.000,9,    45.56,2, -999.000,9, -999.000,   -999.0,9,   -999.0, -999.000,9, -999.000, -999.000,9, -999.000,   -999.0,9,   -999.0, -999.000,9, -999.000,9, -999.000,9
  49NZ20140717,   P01,   114,  1,     29, X12J29,2,20140811,0633, 46.9944,-160.3605, 5132,    400.2,2,   4.1107,2,   4.11049,2,  33.9813,2,  33.9801,2,-999.0000,9,    71.52,2,    71.91,2,   99.750,   0.0100,2,    0.022,2,  -999.00,9,    2.722,1,    0.000,2,    90.18,2,     0.13,    39.53,2,     0.05,     0.01,2,     0.01,     2.83,2,     0.01,  -999.00,9,  -999.00, -999.000,9, -999.000,9, -999.000,9, -999.000,9,   2299.7,2,   2306.5,2,   -999.0,9,   7.3453,       25,2, -999.000,9,    44.80,2, -999.000,9, -999.000,   -999.0,9,   -999.0, -999.000,9, -999.000, -999.000,9, -999.000,   -999.0,9,   -999.0, -999.000,9, -999.000,9, -999.000,9
  49NZ20140717,   P01,   114,  1,     28, X12J28,2,20140811,0633, 46.9944,-160.3605, 5132,    499.9,2,   3.8943,2,   3.89375,2,  34.0740,2,  34.0721,2,-999.0000,9,    49.70,2,    50.17,2,   99.830,   0.0068,2,    0.022,2,  -999.00,9,    2.883,1,    0.000,2,   102.64,2,     0.14,    41.30,2,     0.05,     0.00,2,     0.01,     2.95,2,     0.01,  -999.00,9,  -999.00, -999.000,9, -999.000,9, -999.000,9, -999.000,9,   2322.9,2,   2321.4,2,   2320.9,2,   7.3189,       25,2,   10.150,2,    42.24,2, -999.000,9, -999.000,   -999.0,9,   -999.0, -999.000,9, -999.000, -999.000,9, -999.000,   -999.0,9,   -999.0,    0.212,2,    0.127,2,    0.068,2
  49NZ20140717,   P01,   114,  1,     27, X12J27,2,20140811,0633, 46.9944,-160.3605, 5132,    598.9,2,   3.7976,2,   3.79744,2,  34.1623,2,  34.1619,2,-999.0000,9,    38.70,2,    39.11,2,   99.930,   0.0028,2,    0.021,2,  -999.00,9,    2.958,1,    0.000,2,   111.53,2,     0.14,    42.06,2,     0.05,     0.00,2,     0.01,     3.00,2,     0.01,  -999.00,9,  -999.00, -999.000,9, -999.000,9, -999.000,9, -999.000,9,   2334.8,2,   2335.6,2,   -999.0,9,   7.3202,       25,2, -999.000,9,    41.55,2, -999.000,9, -999.000,   -999.0,9,   -999.0, -999.000,9, -999.000, -999.000,9, -999.000,   -999.0,9,   -999.0, -999.000,9, -999.000,9, -999.000,9
  49NZ20140717,   P01,   114,  1,     26, X12J26,2,20140811,0633, 46.9944,-160.3605, 5132,    702.1,2,   3.5165,2,   3.51651,2,  34.2334,2,  34.2333,2,-999.0000,9,    30.83,2,    30.96,2,   99.882,   0.0047,2,    0.022,2,  -999.00,9,    2.992,1,    0.000,2,   122.38,2,     0.15,    42.91,2,     0.05,     0.00,2,     0.01,     3.06,2,     0.01,  -999.00,9,  -999.00, -999.000,9, -999.000,9, -999.000,9, -999.000,9,   2351.2,6,   2347.7,2,   -999.0,9,   7.3142,       25,2, -999.000,9,    39.52,2, -999.000,9, -999.000,   -999.0,9,   -999.0, -999.000,9, -999.000, -999.000,9, -999.000,   -999.0,9,   -999.0, -999.000,9, -999.000,9, -999.000,9
  49NZ20140717,   P01,   114,  1,     25, X12J25,2,20140811,0633, 46.9944,-160.3605, 5132,    800.8,2,   3.3139,2,   3.31284,2,  34.2903,2,  34.2896,2,-999.0000,9,    26.72,2,    26.58,2,   99.867,   0.0053,2,    0.021,2,  -999.00,9,    3.133,1,    0.000,2,   130.05,2,     0.16,    43.18,2,     0.05,     0.00,2,     0.01,     3.08,2,     0.01,  -999.00,9,  -999.00, -999.000,9, -999.000,9, -999.000,9, -999.000,9,   2361.9,2,   2359.1,2,   2359.0,2,   7.3145,       25,2,   10.229,2,    40.11,2, -999.000,9, -999.000,   -999.0,9,   -999.0, -999.000,9, -999.000, -999.000,9, -999.000,   -999.0,9,   -999.0,    0.239,2,    0.146,2,    0.079,2
  49NZ20140717,   P01,   114,  1,     24, X12J24,2,20140811,0633, 46.9944,-160.3605, 5132,    899.0,2,   3.1119,2,   3.11160,2,  34.3382,2,  34.3380,2,-999.0000,9,    24.50,2,    24.26,2,   99.921,   0.0031,2,    0.021,2,  -999.00,9,    3.118,1,    0.000,2,   137.34,2,     0.16,    43.51,2,     0.05,     0.00,2,     0.01,     3.11,2,     0.01,  -999.00,9,  -999.00, -999.000,9, -999.000,9, -999.000,9, -999.000,9,   2369.9,2,   2368.5,2,   -999.0,9,   7.3159,       25,6, -999.000,9,    40.75,2, -999.000,9, -999.000,   -999.0,9,   -999.0, -999.000,9, -999.000, -999.000,9, -999.000,   -999.0,9,   -999.0, -999.000,9, -999.000,9, -999.000,9
  49NZ20140717,   P01,   114,  1,     23, X12J23,2,20140811,0633, 46.9944,-160.3605, 5132,    999.0,2,   2.9276,2,   2.92756,2,  34.3775,2,  34.3777,2,-999.0000,9,    24.16,2,    23.80,2,   99.898,   0.0041,2,    0.021,2,  -999.00,9,    3.211,1,    0.000,2,   143.58,2,     0.16,    43.78,2,     0.06,     0.00,2,     0.01,     3.12,2,     0.01,  -999.00,9,  -999.00, -999.000,9, -999.000,9, -999.000,9, -999.000,9,   2377.6,2,   2376.9,2,   2375.3,2,   7.3197,       25,2,   10.252,2,    38.90,2, -999.000,9, -999.000,   -999.0,9,   -999.0, -999.000,9, -999.000, -999.000,9, -999.000,   -999.0,9,   -999.0,    0.197,2,    0.120,2,    0.068,2
  49NZ20140717,   P01,   114,  1,     22, X12J22,2,20140811,0633, 46.9944,-160.3605, 5132,   1199.6,2,   2.6496,2,   2.64869,2,  34.4355,2,  34.4353,2,-999.0000,9,    24.54,2,    24.10,2,   99.893,   0.0043,2,    0.020,2,  -999.00,9,    3.195,1,    0.000,2,   152.77,2,     0.17,    44.03,2,     0.06,     0.00,2,     0.01,     3.13,2,     0.01,  -999.00,9,  -999.00, -999.000,9, -999.000,9, -999.000,9, -999.000,9,   2385.9,2,   2386.6,6,   2381.7,2,   7.3263,       25,2,   10.276,2,    34.77,3, -999.000,9, -999.000,   -999.0,9,   -999.0, -999.000,9, -999.000, -999.000,9, -999.000,   -999.0,9,   -999.0, -999.000,9, -999.000,9, -999.000,9
  49NZ20140717,   P01,   114,  1,     21, X12J21,2,20140811,0633, 46.9944,-160.3605, 5132,   1398.4,2,   2.4279,2,   2.42751,2,  34.4786,2,  34.4790,2,-999.0000,9,    29.80,2,    29.34,2,   99.928,   0.0029,2,    0.019,2,  -999.00,9,    3.204,1,    0.000,2,   159.63,2,     0.17,    43.73,2,     0.06,     0.00,2,     0.01,     3.10,2,     0.01,  -999.00,9,  -999.00, -999.000,9, -999.000,9, -999.000,9, -999.000,9,   2390.2,2,   2394.7,2,   -999.0,9,   7.3384,       25,2, -999.000,9,    39.51,2, -999.000,9, -999.000,   -999.0,9,   -999.0, -999.000,9, -999.000, -999.000,9, -999.000,   -999.0,9,   -999.0, -999.000,9, -999.000,9, -999.000,9
  49NZ20140717,   P01,   114,  1,     20, X12J20,2,20140811,0633, 46.9944,-160.3605, 5132,   1600.0,2,   2.2372,2,   2.23745,2,  34.5202,2,  34.5195,2,-999.0000,9,    35.35,2,    35.07,2,   99.926,   0.0030,2,    0.019,2,  -999.00,9,    3.147,1,    0.000,2,   165.08,2,     0.18,    43.53,2,     0.05,     0.00,2,     0.01,     3.08,2,     0.01,  -999.00,9,  -999.00, -999.000,9, -999.000,9, -999.000,9, -999.000,9,   2393.3,2,   2402.5,2,   2397.7,2,   7.3517,       25,6,   10.298,2,    38.22,2, -999.000,9, -999.000,   -999.0,9,   -999.0, -999.000,9, -999.000, -999.000,9, -999.000,   -999.0,9,   -999.0, -999.000,9, -999.000,9, -999.000,9
  49NZ20140717,   P01,   114,  1,     19, X12J19,2,20140811,0633, 46.9944,-160.3605, 5132,   1800.3,2,   2.1061,2,   2.10599,2,  34.5510,2,  34.5515,2,-999.0000,9,    41.50,2,    41.59,2,   99.945,   0.0022,2,    0.017,2,  -999.00,9,    3.207,1,    0.000,2,   168.72,2,     0.18,    43.33,2,     0.05,     0.00,2,     0.01,     3.05,2,     0.01,  -999.00,9,  -999.00, -999.000,9, -999.000,9, -999.000,9, -999.000,9,   2393.6,2,   2408.1,2,   -999.0,9,   7.3684,       25,2, -999.000,9,    37.65,2, -999.000,9, -999.000,   -999.0,9,   -999.0, -999.000,9, -999.000, -999.000,9, -999.000,   -999.0,9,   -999.0, -999.000,9, -999.000,9, -999.000,9
  49NZ20140717,   P01,   114,  1,     18, X12J18,2,20140811,0633, 46.9944,-160.3605, 5132,   2002.7,2,   1.9733,2,   1.97325,2,  34.5796,2,  34.5794,2,-999.0000,9,    52.19,2,    52.20,2,   99.934,   0.0026,2,    0.016,2,  -999.00,9,    3.078,1,    0.000,2,   171.22,2,     0.18,    42.70,2,     0.05,     0.00,2,     0.01,     3.00,2,     0.01,  -999.00,9,  -999.00, -999.000,9, -999.000,9, -999.000,9, -999.000,9,   2389.6,2,   2413.6,2,   2408.9,2,   7.3903,       25,2,   10.326,2,    35.51,2, -999.000,9, -999.000,   -999.0,9,   -999.0, -999.000,9, -999.000, -999.000,9, -999.000,   -999.0,9,   -999.0,    0.203,2,    0.125,2,    0.070,2
  49NZ20140717,   P01,   114,  1,     17, X12J17,2,20140811,0633, 46.9944,-160.3605, 5132,   2199.8,2,   1.8663,2,   1.86642,2,  34.6018,2,  34.6016,2,-999.0000,9,    63.26,2,    63.37,2,   99.906,   0.0038,2,    0.015,2,  -999.00,9,    2.953,1,    0.000,2,   172.63,2,     0.18,    41.99,2,     0.05,     0.00,2,     0.01,     2.96,2,     0.01,  -999.00,9,  -999.00, -999.000,9, -999.000,9, -999.000,9, -999.000,9,   2385.7,2,   2416.7,2,   -999.0,9,   7.4143,       25,2, -999.000,9,    37.92,2, -999.000,9, -999.000,   -999.0,9,   -999.0, -999.000,9, -999.000, -999.000,9, -999.000,   -999.0,9,   -999.0, -999.000,9, -999.000,9, -999.000,9
  49NZ20140717,   P01,   114,  1,     16, X12J16,2,20140811,0633, 46.9944,-160.3605, 5132,   2400.1,2,   1.7749,2,   1.77503,2,  34.6194,2,  34.6191,2,-999.0000,9,    74.18,2,    74.21,2,   99.928,   0.0029,2,    0.014,2,  -999.00,9,    2.925,1,    0.000,2,   173.26,2,     0.18,    41.39,2,     0.05,     0.00,2,     0.01,     2.91,2,     0.01,  -999.00,9,  -999.00, -999.000,9, -999.000,9, -999.000,9, -999.000,9,   2380.1,6,   2417.7,2,   -999.0,9,   7.4350,       25,2, -999.000,9,    35.58,2, -999.000,9, -999.000,   -999.0,9,   -999.0, -999.000,9, -999.000, -999.000,9, -999.000,   -999.0,9,   -999.0, -999.000,9, -999.000,9, -999.000,9
  49NZ20140717,   P01,   114,  1,     15, X12J15,2,20140811,0633, 46.9944,-160.3605, 5132,   2599.4,2,   1.7021,2,   1.70199,2,  34.6329,2,  34.6327,2,-999.0000,9,    85.99,2,    86.00,2,   99.954,   0.0018,2,    0.013,2,  -999.00,9,    2.873,1,    0.000,2,   172.16,2,     0.18,    40.64,2,     0.05,     0.00,2,     0.01,     2.85,2,     0.01,  -999.00,9,  -999.00, -999.000,9, -999.000,9, -999.000,9, -999.000,9,   2373.7,2,   2419.4,2,   -999.0,9,   7.4579,       25,2, -999.000,9,    37.70,2, -999.000,9, -999.000,   -999.0,9,   -999.0, -999.000,9, -999.000, -999.000,9, -999.000,   -999.0,9,   -999.0, -999.000,9, -999.000,9, -999.000,9
  49NZ20140717,   P01,   114,  1,     14, X12J14,2,20140811,0633, 46.9944,-160.3605, 5132,   2800.0,2,   1.6422,2,   1.64230,2,  34.6439,2,  34.6436,2,-999.0000,9,    97.42,2,    97.37,2,   99.980,   0.0008,2,    0.012,2,  -999.00,9,    2.820,1,    0.000,2,   170.06,2,     0.18,    39.78,2,     0.05,     0.00,2,     0.01,     2.79,2,     0.01,  -999.00,9,  -999.00, -999.000,9, -999.000,9, -999.000,9, -999.000,9,   2365.5,2,   2419.5,2,   -999.0,9,   7.4794,       25,6, -999.000,9,    37.56,2, -999.000,9, -999.000,   -999.0,9,   -999.0, -999.000,9, -999.000, -999.000,9, -999.000,   -999.0,9,   -999.0, -999.000,9, -999.000,9, -999.000,9
  49NZ20140717,   P01,   114,  1,     13, X12113,2,20140811,0633, 46.9944,-160.3605, 5132,   3000.2,2,   1.5908,2,   1.59051,2,  34.6535,2,  34.6533,2,-999.0000,9,   107.64,2,   107.29,2,   99.969,   0.0012,2,    0.012,2,  -999.00,9,    2.780,1,    0.000,2,   168.67,2,     0.18,    39.12,2,     0.05,     0.00,2,     0.01,     2.74,2,     0.01,  -999.00,9,  -999.00, -999.000,9, -999.000,9, -999.000,9, -999.000,9,   2359.8,2,   2421.8,2,   2413.8,2,   7.4988,       25,2,   10.347,2,    37.31,2, -999.000,9, -999.000,   -999.0,9,   -999.0, -999.000,9, -999.000, -999.000,9, -999.000,   -999.0,9,   -999.0,    0.240,2,    0.154,2,    0.084,2
  49NZ20140717,   P01,   114,  1,     12, X12J12,2,20140811,0633, 46.9944,-160.3605, 5132,   3249.6,2,   1.5418,2,   1.54170,2,  34.6631,2,  34.6626,2,-999.0000,9,   119.17,2,   119.13,2,   99.984,   0.0006,2,    0.011,2,  -999.00,9,    2.615,1,    0.000,2,   166.04,2,     0.18,    38.35,2,     0.05,     0.00,2,     0.01,     2.69,2,     0.01,  -999.00,9,  -999.00, -999.000,9, -999.000,9, -999.000,9, -999.000,9,   2352.5,2,   2421.1,6,   -999.0,9,   7.5206,       25,2, -999.000,9,    35.71,2, -999.000,9, -999.000,   -999.0,9,   -999.0, -999.000,9, -999.000, -999.000,9, -999.000,   -999.0,9,   -999.0, -999.000,9, -999.000,9, -999.000,9
  49NZ20140717,   P01,   114,  1,     11, X12J11,2,20140811,0633, 46.9944,-160.3605, 5132,   3499.0,2,   1.5063,2,   1.50648,2,  34.6708,2,  34.6701,2,-999.0000,9,   128.93,2,   128.81,2,   99.989,   0.0005,2,    0.010,2,  -999.00,9,    2.468,1,    0.000,2,   163.95,2,     0.18,    37.75,2,     0.05,     0.00,2,     0.01,     2.63,2,     0.01,  -999.00,9,  -999.00, -999.000,9, -999.000,9, -999.000,9, -999.000,9,   2346.0,2,   2420.7,2,   -999.0,9,   7.5381,       25,2, -999.000,9,    35.80,2, -999.000,9, -999.000,   -999.0,9,   -999.0, -999.000,9, -999.000, -999.000,9, -999.000,   -999.0,9,   -999.0, -999.000,9, -999.000,9, -999.000,9
  49NZ20140717,   P01,   114,  1,     10, X12J10,2,20140811,0633, 46.9944,-160.3605, 5132,   3749.0,2,   1.4875,2,   1.48764,2,  34.6764,2,  34.6761,2,-999.0000,9,   135.66,2,   135.82,2,   99.997,   0.0001,2,    0.010,2,  -999.00,9,    2.394,1,    0.000,2,   163.25,2,     0.18,    37.29,2,     0.05,     0.00,2,     0.01,     2.60,2,     0.01,  -999.00,9,  -999.00, -999.000,9, -999.000,9, -999.000,9, -999.000,9,   2342.5,2,   2423.4,2,   -999.0,9,   7.5514,       25,2, -999.000,9,    36.23,2, -999.000,9, -999.000,   -999.0,9,   -999.0, -999.000,9, -999.000, -999.000,9, -999.000,   -999.0,9,   -999.0, -999.000,9, -999.000,9, -999.000,9