BOTTLE,20230904JAMSTECRIGC
EXPOCODE,SECT,STNNBR,CASTNO,SAMPNO,BTLNBR,BTLNBR_FLAG_W,DATE,TIME,LATITUDE,LONGITUDE,DEPTH,CTDPRS,CTDPRS_FLAG_W,CTDTMP,CTDTMP_FLAG_W,SBE35,SBE35_FLAG_W,CTDSAL,CTDSAL_FLAG_W,SALNTY,SALNTY_FLAG_W,DNSSAL,DNSSAL_FLAG_W,CTDOXY,CTDOXY_FLAG_W,OXYGEN,OXYGEN_FLAG_W,XMISS,XMISSCP,XMISS_FLAG_W,FLUOR,FLUOR_FLAG_W,CHLORA,CHLORA_FLAG_W,CDOM,CDOM_FLAG_W,PAR,PAR_FLAG_W,SILCAT,SILCAT_FLAG_W,SILUNC,NITRAT,NITRAT_FLAG_W,NRAUNC,NITRIT,NITRIT_FLAG_W,NRIUNC,PHSPHT,PHSPHT_FLAG_W,PHPUNC,AMMONIA,AMMONIA_FLAG_W,NH4UNC,CFC-11,CFC-11_FLAG_W,CFC-12,CFC-12_FLAG_W,CFC113,CFC113_FLAG_W,SF6,SF6_FLAG_W,TCARBN,TCARBN_FLAG_W,ALKALI,ALKALI_FLAG_W,ALKALI_POT,ALKALI_POT_FLAG_W,PH_TOT,PH_TMP,PH_TOT_FLAG_W,CALCIUM,CALCIUM_FLAG_W,DOC,DOC_FLAG_W,DELC13,DELC13_FLAG_W,C13ERR,DELC14,DELC14_FLAG_W,C14ERR,CS-134,CS-134_FLAG_W,CS134ER,CS-137,CS-137_FLAG_W,CS137ER,I-129,I-129_FLAG_W,I-129ER,CDOM-325,CDOM-325_FLAG_W,CDOM-370,CDOM-370_FLAG_W,CDOM-443,CDOM-443_FLAG_W
,,,,,,,,UTC,DEG,DEG,METERS,DBAR,,ITS-90,,ITS-90,,PSS-78,,PSS-78,,G/KG,,UMOL/KG,,UMOL/KG,,%TRANS,/METER,,MG/CUM,,MG/CUM,,MG/CUM,,UE/SQM/S,,UMOL/KG,,UMOL/KG,UMOL/KG,,UMOL/KG,UMOL/KG,,UMOL/KG,UMOL/KG,,UMOL/KG,UMOL/KG,,UMOL/KG,PMOL/KG,,PMOL/KG,,PMOL/KG,,FMOL/KG,,UMOL/KG,,UMOL/KG,,UMOL/KG,,,DEG C,,MMOL/KG,,UMOL/KG,,/MILLE,,/MILLE,/MILLE,,/MILLE,MBQ/KG,,MBQ/KG,MBQ/KG,,MBQ/KG,,,,/METER,,/METER,,/METER,
  49NZ20140717,   P01,    81,  1,      9, X12J09,2,20140731,0733, 46.9902, 168.3792, 6250,   4002.6,2,   1.4803,2,   1.48043,2,  34.6807,2,  34.6803,2,-999.0000,9,   146.51,2,   146.24,2,   99.986,   0.0006,2,    0.001,2,  -999.00,9,    2.318,1,    0.000,2,   153.62,2,     0.17,    36.41,2,     0.05,     0.00,2,     0.01,     2.54,2,     0.01,  -999.00,9,  -999.00,    0.000,2,    0.000,2,    0.000,2,    0.000,2,   2332.0,2,   2416.7,2,   -999.0,9,   7.5657,       25,2, -999.000,9,    40.65,2, -999.000,9, -999.000,   -999.0,9,   -999.0, -999.000,9, -999.000, -999.000,9, -999.000,   -999.0,9,   -999.0, -999.000,9, -999.000,9, -999.000,9
  49NZ20140717,   P01,    81,  1,      8, X12J08,2,20140731,0733, 46.9902, 168.3792, 6250,   4249.4,2,   1.4856,2,   1.48586,2,  34.6833,2,  34.6829,2,-999.0000,9,   149.57,2,   149.20,2,   99.981,   0.0007,2,    0.000,2,  -999.00,9,    2.110,4,    0.000,2,   152.84,2,     0.17,    36.20,2,     0.05,     0.00,2,     0.01,     2.52,2,     0.01,  -999.00,9,  -999.00,    0.000,2,    0.000,2,    0.000,2,    0.000,2,   2330.2,6,   2415.8,2,   -999.0,9,   7.5706,       25,2, -999.000,9,    39.34,2, -999.000,9, -999.000,   -999.0,9,   -999.0, -999.000,9, -999.000, -999.000,9, -999.000,   -999.0,9,   -999.0, -999.000,9, -999.000,9, -999.000,9
  49NZ20140717,   P01,    81,  1,      7, X12J07,2,20140731,0733, 46.9902, 168.3792, 6250,   4500.3,2,   1.4981,2,   1.49825,2,  34.6849,2,  34.6844,2,-999.0000,9,   151.89,2,   151.46,2,   99.973,   0.0011,2,    0.000,2,  -999.00,9,    0.342,4,    0.000,2,   152.35,2,     0.17,    36.07,2,     0.05,     0.00,2,     0.01,     2.51,2,     0.01,  -999.00,9,  -999.00,    0.000,2,    0.000,2,    0.000,2,    0.000,2,   2328.3,2,   2415.7,2,   -999.0,9,   7.5748,       25,6, -999.000,9,    38.80,2, -999.000,9, -999.000,   -999.0,9,   -999.0, -999.000,9, -999.000, -999.000,9, -999.000,   -999.0,9,   -999.0, -999.000,9, -999.000,9, -999.000,9
  49NZ20140717,   P01,    81,  1,      6, X12J06,2,20140731,0733, 46.9902, 168.3792, 6250,   4749.2,2,   1.5136,2,   1.51382,2,  34.6865,2,  34.6859,2,-999.0000,9,   153.76,2,   153.45,2,   99.973,   0.0011,2,    0.000,2,  -999.00,9,   -1.740,4,    0.000,2,   151.95,2,     0.17,    35.93,2,     0.05,     0.00,2,     0.01,     2.50,2,     0.01,  -999.00,9,  -999.00,    0.000,2,    0.000,2,    0.000,2,    0.000,2,   2326.6,2,   2416.9,6,   -999.0,9,   7.5780,       25,2, -999.000,9,    38.72,2, -999.000,9, -999.000,   -999.0,9,   -999.0, -999.000,9, -999.000, -999.000,9, -999.000,   -999.0,9,   -999.0, -999.000,9, -999.000,9, -999.000,9
  49NZ20140717,   P01,    81,  1,      5, X12J05,2,20140731,0733, 46.9902, 168.3792, 6250,   5002.0,2,   1.5331,2,   1.53316,2,  34.6876,2,  34.6875,2,-999.0000,9,   155.35,2,   155.01,2,   99.992,   0.0003,2,    0.000,2,  -999.00,9,   -1.798,4,    0.000,2,   151.71,2,     0.17,    35.84,2,     0.05,     0.00,2,     0.01,     2.50,2,     0.01,  -999.00,9,  -999.00,    0.001,2,    0.001,2,    0.001,2,    0.000,2,   2326.1,2,   2415.0,2,   -999.0,9,   7.5804,       25,2, -999.000,9,    38.41,2, -999.000,9, -999.000,   -999.0,9,   -999.0, -999.000,9, -999.000, -999.000,9, -999.000,   -999.0,9,   -999.0, -999.000,9, -999.000,9, -999.000,9
  49NZ20140717,   P01,    81,  1,      4, X12J04,2,20140731,0733, 46.9902, 168.3792, 6250,   5251.2,2,   1.5574,2,   1.55743,2,  34.6884,2,  34.6881,2,-999.0000,9,   156.18,2,   155.97,2,   99.988,   0.0005,2,    0.000,2,  -999.00,9,   -1.728,4,    0.000,2,   151.63,2,     0.17,    35.79,2,     0.05,     0.00,2,     0.01,     2.49,2,     0.01,  -999.00,9,  -999.00,    0.002,2,    0.002,2,    0.001,2,    0.000,2,   2324.7,2,   2415.7,2,   -999.0,9,   7.5821,       25,2, -999.000,9,    39.42,2, -999.000,9, -999.000,   -999.0,9,   -999.0, -999.000,9, -999.000, -999.000,9, -999.000,   -999.0,9,   -999.0, -999.000,9, -999.000,9, -999.000,9
  49NZ20140717,   P01,    81,  1,      3, X12J03,2,20140731,0733, 46.9902, 168.3792, 6250,   5500.6,2,   1.5841,2,   1.58416,2,  34.6890,2,  34.6877,3,-999.0000,9,   156.81,2,   156.60,2,   99.996,   0.0001,2,   -0.001,2,  -999.00,9,   -1.852,4,    0.000,2,   151.89,2,     0.17,    35.70,2,     0.05,     0.00,2,     0.01,     2.49,2,     0.01,  -999.00,9,  -999.00,    0.002,2,    0.003,2,    0.000,2,    0.000,2,   2324.9,2,   2416.9,2,   -999.0,9,   7.5837,       25,2, -999.000,9,    39.92,2, -999.000,9, -999.000,   -999.0,9,   -999.0, -999.000,9, -999.000, -999.000,9, -999.000,   -999.0,9,   -999.0, -999.000,9, -999.000,9, -999.000,9
  49NZ20140717,   P01,    81,  1,      2, X12J02,2,20140731,0733, 46.9902, 168.3792, 6250,   5749.0,2,   1.6129,2,   1.61287,2,  34.6896,2,  34.6896,2,-999.0000,9,   157.02,2,   157.09,2,   99.914,   0.0034,2,    0.000,2,  -999.00,9,   -1.911,4,    0.000,2,   153.21,2,     0.17,    35.73,2,     0.05,     0.00,2,     0.01,     2.49,2,     0.01,  -999.00,9,  -999.00,    0.002,2,    0.002,2,    0.000,2,    0.000,2,   2324.5,2,   2415.4,2,   -999.0,9,   7.5844,       25,2, -999.000,9,    40.20,2, -999.000,9, -999.000,   -999.0,9,   -999.0, -999.000,9, -999.000, -999.000,9, -999.000,   -999.0,9,   -999.0, -999.000,9, -999.000,9, -999.000,9
  49NZ20140717,   P01,    81,  1,      1, X12J01,2,20140731,0733, 46.9902, 168.3792, 6250,   6135.8,2,   1.6668,2,   1.66679,2,  34.6895,2,  34.6896,2,-999.0000,9,   156.67,2,   157.05,2,   99.904,   0.0039,2,    0.000,2,  -999.00,9,   -1.987,4,    0.000,2,   153.33,2,     0.17,    35.76,2,     0.05,     0.00,2,     0.01,     2.49,2,     0.01,  -999.00,9,  -999.00,    0.003,2,    0.002,2,    0.000,2,    0.000,2,   2324.4,2,   2417.3,2,   -999.0,9,   7.5846,       25,2, -999.000,9,    41.24,2, -999.000,9, -999.000,   -999.0,9,   -999.0, -999.000,9, -999.000, -999.000,9, -999.000,   -999.0,9,   -999.0, -999.000,9, -999.000,9, -999.000,9