BOTTLE,20230904JAMSTECRIGC
EXPOCODE,SECT,STNNBR,CASTNO,SAMPNO,BTLNBR,BTLNBR_FLAG_W,DATE,TIME,LATITUDE,LONGITUDE,DEPTH,CTDPRS,CTDPRS_FLAG_W,CTDTMP,CTDTMP_FLAG_W,SBE35,SBE35_FLAG_W,CTDSAL,CTDSAL_FLAG_W,SALNTY,SALNTY_FLAG_W,DNSSAL,DNSSAL_FLAG_W,CTDOXY,CTDOXY_FLAG_W,OXYGEN,OXYGEN_FLAG_W,XMISS,XMISSCP,XMISS_FLAG_W,FLUOR,FLUOR_FLAG_W,CHLORA,CHLORA_FLAG_W,CDOM,CDOM_FLAG_W,PAR,PAR_FLAG_W,SILCAT,SILCAT_FLAG_W,SILUNC,NITRAT,NITRAT_FLAG_W,NRAUNC,NITRIT,NITRIT_FLAG_W,NRIUNC,PHSPHT,PHSPHT_FLAG_W,PHPUNC,AMMONIA,AMMONIA_FLAG_W,NH4UNC,CFC-11,CFC-11_FLAG_W,CFC-12,CFC-12_FLAG_W,CFC113,CFC113_FLAG_W,SF6,SF6_FLAG_W,TCARBN,TCARBN_FLAG_W,ALKALI,ALKALI_FLAG_W,ALKALI_POT,ALKALI_POT_FLAG_W,PH_TOT,PH_TMP,PH_TOT_FLAG_W,CALCIUM,CALCIUM_FLAG_W,DOC,DOC_FLAG_W,DELC13,DELC13_FLAG_W,C13ERR,DELC14,DELC14_FLAG_W,C14ERR,CS-134,CS-134_FLAG_W,CS134ER,CS-137,CS-137_FLAG_W,CS137ER,I-129,I-129_FLAG_W,I-129ER,CDOM-325,CDOM-325_FLAG_W,CDOM-370,CDOM-370_FLAG_W,CDOM-443,CDOM-443_FLAG_W
,,,,,,,,UTC,DEG,DEG,METERS,DBAR,,ITS-90,,ITS-90,,PSS-78,,PSS-78,,G/KG,,UMOL/KG,,UMOL/KG,,%TRANS,/METER,,MG/CUM,,MG/CUM,,MG/CUM,,UE/SQM/S,,UMOL/KG,,UMOL/KG,UMOL/KG,,UMOL/KG,UMOL/KG,,UMOL/KG,UMOL/KG,,UMOL/KG,UMOL/KG,,UMOL/KG,PMOL/KG,,PMOL/KG,,PMOL/KG,,FMOL/KG,,UMOL/KG,,UMOL/KG,,UMOL/KG,,,DEG C,,MMOL/KG,,UMOL/KG,,/MILLE,,/MILLE,/MILLE,,/MILLE,MBQ/KG,,MBQ/KG,MBQ/KG,,MBQ/KG,,,,/METER,,/METER,,/METER,
  49NZ20140717,   P01,   123,  1,      0,   -999,9,20140814,0635, 46.9891,-150.2932, 5042,   -999.0,9,-999.0000,9,-999.00000,9,-999.0000,9,  32.6260,2,-999.0000,9,  -999.00,9,  -999.00,9, -999.000,-999.0000,9, -999.000,9,  -999.00,9, -999.000,9, -999.000,9,     1.83,2,     0.11,     4.45,2,     0.02,     0.07,2,     0.01,     0.64,2,     0.01,  -999.00,9,  -999.00, -999.000,9, -999.000,9, -999.000,9, -999.000,9,   -999.0,9,   -999.0,9,   -999.0,9,-999.0000,     -999,9, -999.000,9,  -999.00,9, -999.000,9, -999.000,   -999.0,9,   -999.0, -999.000,9, -999.000, -999.000,9, -999.000,   -999.0,9,   -999.0, -999.000,9, -999.000,9, -999.000,9
  49NZ20140717,   P01,   123,  1,     36, X12J36,2,20140814,0635, 46.9891,-150.2932, 5042,     10.4,2,  14.7522,2,  14.75041,2,  32.6333,2,  32.6342,2,-999.0000,9,   263.43,2,   263.20,2,   93.637,   0.2630,2,    0.635,2,  -999.00,9,   -0.229,1,    0.090,2,     1.75,2,     0.11,     4.46,2,     0.02,     0.07,2,     0.01,     0.64,2,     0.01,  -999.00,9,  -999.00,    2.904,2,    1.708,2,    0.289,2, -999.000,9,   -999.0,9,   -999.0,9,   -999.0,9,-999.0000,     -999,9, -999.000,9,  -999.00,9, -999.000,9, -999.000,   -999.0,9,   -999.0, -999.000,9, -999.000, -999.000,9, -999.000,   -999.0,9,   -999.0, -999.000,9, -999.000,9, -999.000,9
  49NZ20140717,   P01,   123,  1,     35, X12J35,2,20140814,0635, 46.9891,-150.2932, 5042,     51.8,2,   8.5071,2,   8.51543,2,  33.0743,2,  33.0523,2,-999.0000,9,   300.84,2,   301.95,2,   97.575,   0.0982,2,    0.409,2,  -999.00,9,    0.464,1,    0.000,2,    14.03,2,     0.09,     8.80,2,     0.02,     0.08,2,     0.01,     0.92,2,     0.01,  -999.00,9,  -999.00,    4.054,2,    2.284,2,    0.433,2, -999.000,9,   -999.0,9,   -999.0,9,   -999.0,9,-999.0000,     -999,9, -999.000,9,  -999.00,9, -999.000,9, -999.000,   -999.0,9,   -999.0, -999.000,9, -999.000, -999.000,9, -999.000,   -999.0,9,   -999.0, -999.000,9, -999.000,9, -999.000,9
  49NZ20140717,   P01,   123,  1,     34, X12J34,2,20140814,0635, 46.9891,-150.2932, 5042,    101.5,2,   7.3203,2,   7.30008,2,  33.4296,2,  33.4139,2,-999.0000,9,   269.73,2,   269.85,2,   99.506,   0.0198,2,    0.146,2,  -999.00,9,    0.497,1,    0.000,2,    17.83,2,     0.09,    13.68,2,     0.02,     0.03,2,     0.01,     1.11,2,     0.01,  -999.00,9,  -999.00,    4.022,2,    2.283,2,    0.362,2, -999.000,9,   -999.0,9,   -999.0,9,   -999.0,9,-999.0000,     -999,9, -999.000,9,  -999.00,9, -999.000,9, -999.000,   -999.0,9,   -999.0, -999.000,9, -999.000, -999.000,9, -999.000,   -999.0,9,   -999.0, -999.000,9, -999.000,9, -999.000,9
  49NZ20140717,   P01,   123,  1,     33, X12J33,2,20140814,0635, 46.9891,-150.2932, 5042,    149.5,2,   7.2552,2,   7.25632,2,  33.8514,2,  33.8524,2,-999.0000,9,   213.77,2,   213.63,2,   99.792,   0.0083,2,    0.022,2,  -999.00,9,    1.353,1,    0.000,2,    31.36,2,     0.10,    20.90,2,     0.03,     0.02,2,     0.01,     1.51,2,     0.01,  -999.00,9,  -999.00,    3.624,2,    2.040,2,    0.258,2, -999.000,9,   -999.0,9,   -999.0,9,   -999.0,9,-999.0000,     -999,9, -999.000,9,  -999.00,9, -999.000,9, -999.000,   -999.0,9,   -999.0, -999.000,9, -999.000, -999.000,9, -999.000,   -999.0,9,   -999.0, -999.000,9, -999.000,9, -999.000,9
  49NZ20140717,   P01,   123,  1,     32, X12J32,2,20140814,0635, 46.9891,-150.2932, 5042,    199.9,2,   6.2680,2,   6.26792,2,  33.8550,2,  33.8559,2,-999.0000,9,   174.51,2,   174.42,2,   99.764,   0.0095,2,    0.019,2,  -999.00,9,    1.898,1,    0.000,2,    45.57,2,     0.10,    26.55,2,     0.04,     0.01,2,     0.01,     1.92,2,     0.01,  -999.00,9,  -999.00,    3.389,2,    1.855,2,    0.198,2, -999.000,9,   -999.0,9,   -999.0,9,   -999.0,9,-999.0000,     -999,9, -999.000,9,  -999.00,9, -999.000,9, -999.000,   -999.0,9,   -999.0, -999.000,9, -999.000, -999.000,9, -999.000,   -999.0,9,   -999.0, -999.000,9, -999.000,9, -999.000,9
  49NZ20140717,   P01,   123,  1,     31, X12J31,2,20140814,0635, 46.9891,-150.2932, 5042,    250.1,2,   5.4247,2,   5.42315,2,  33.8480,2,  33.8483,2,-999.0000,9,   148.00,2,   147.95,2,   99.818,   0.0073,2,    0.019,2,  -999.00,9,    2.190,1,    0.000,2,    56.95,2,     0.11,    30.66,2,     0.04,     0.01,2,     0.01,     2.21,2,     0.01,  -999.00,9,  -999.00,    3.172,2,    1.713,2,    0.176,2, -999.000,9,   -999.0,9,   -999.0,9,   -999.0,9,-999.0000,     -999,9, -999.000,9,  -999.00,9, -999.000,9, -999.000,   -999.0,9,   -999.0, -999.000,9, -999.000, -999.000,9, -999.000,   -999.0,9,   -999.0, -999.000,9, -999.000,9, -999.000,9
  49NZ20140717,   P01,   123,  1,     30, X12J30,2,20140814,0635, 46.9891,-150.2932, 5042,    300.4,2,   4.7354,2,   4.73669,2,  33.8520,2,  33.8524,2,-999.0000,9,   120.65,2,   120.97,2,   99.805,   0.0078,2,    0.020,2,  -999.00,9,    2.470,1,    0.000,2,    67.99,2,     0.12,    34.45,2,     0.05,     0.01,2,     0.01,     2.48,2,     0.01,  -999.00,9,  -999.00,    2.913,2,    1.557,2,    0.171,2, -999.000,9,   -999.0,9,   -999.0,9,   -999.0,9,-999.0000,     -999,9, -999.000,9,  -999.00,9, -999.000,9, -999.000,   -999.0,9,   -999.0, -999.000,9, -999.000, -999.000,9, -999.000,   -999.0,9,   -999.0, -999.000,9, -999.000,9, -999.000,9
  49NZ20140717,   P01,   123,  1,     29, X12J29,2,20140814,0635, 46.9891,-150.2932, 5042,    400.3,2,   4.2386,2,   4.23865,2,  33.9457,2,  33.9450,2,-999.0000,9,    79.32,2,    79.81,2,   99.844,   0.0062,2,    0.021,2,  -999.00,9,    2.783,1,    0.000,2,    84.99,2,     0.13,    38.90,2,     0.05,     0.01,2,     0.01,     2.77,2,     0.01,  -999.00,9,  -999.00,    2.181,2,    1.137,2,    0.144,2, -999.000,9,   -999.0,9,   -999.0,9,   -999.0,9,-999.0000,     -999,9, -999.000,9,  -999.00,9, -999.000,9, -999.000,   -999.0,9,   -999.0, -999.000,9, -999.000, -999.000,9, -999.000,   -999.0,9,   -999.0, -999.000,9, -999.000,9, -999.000,9
  49NZ20140717,   P01,   123,  1,     28, X12J28,2,20140814,0635, 46.9891,-150.2932, 5042,    500.0,2,   4.0273,2,   4.02742,2,  34.0483,2,  34.0476,2,-999.0000,9,    53.66,2,    54.21,2,   99.857,   0.0057,2,    0.021,2,  -999.00,9,    2.910,1,    0.000,2,    97.99,2,     0.14,    40.93,2,     0.05,     0.01,2,     0.01,     2.92,2,     0.01,  -999.00,9,  -999.00,    1.527,2,    0.773,2,    0.095,2, -999.000,9,   -999.0,9,   -999.0,9,   -999.0,9,-999.0000,     -999,9, -999.000,9,  -999.00,9, -999.000,9, -999.000,   -999.0,9,   -999.0, -999.000,9, -999.000, -999.000,9, -999.000,   -999.0,9,   -999.0, -999.000,9, -999.000,9, -999.000,9
  49NZ20140717,   P01,   123,  1,     27, X12J27,2,20140814,0635, 46.9891,-150.2932, 5042,    601.2,2,   3.8162,2,   3.81582,2,  34.1298,2,  34.1290,2,-999.0000,9,    38.32,2,    38.73,2,   99.920,   0.0032,2,    0.021,2,  -999.00,9,    2.973,1,    0.000,2,   109.17,2,     0.14,    42.18,2,     0.05,     0.01,2,     0.01,     3.01,2,     0.01,  -999.00,9,  -999.00,    1.064,2,    0.520,2,    0.069,2, -999.000,9,   -999.0,9,   -999.0,9,   -999.0,9,-999.0000,     -999,9, -999.000,9,  -999.00,9, -999.000,9, -999.000,   -999.0,9,   -999.0, -999.000,9, -999.000, -999.000,9, -999.000,   -999.0,9,   -999.0, -999.000,9, -999.000,9, -999.000,9
  49NZ20140717,   P01,   123,  1,     26, X12J26,2,20140814,0635, 46.9891,-150.2932, 5042,    698.0,2,   3.6386,2,   3.63858,2,  34.2148,2,  34.2144,2,-999.0000,9,    29.05,2,    29.19,2,   99.894,   0.0042,2,    0.021,2,  -999.00,9,    3.093,1,    0.000,2,   119.04,2,     0.15,    42.89,2,     0.05,     0.01,2,     0.01,     3.06,2,     0.01,  -999.00,9,  -999.00,    0.632,2,    0.301,2,    0.035,2, -999.000,9,   -999.0,9,   -999.0,9,   -999.0,9,-999.0000,     -999,9, -999.000,9,  -999.00,9, -999.000,9, -999.000,   -999.0,9,   -999.0, -999.000,9, -999.000, -999.000,9, -999.000,   -999.0,9,   -999.0, -999.000,9, -999.000,9, -999.000,9
  49NZ20140717,   P01,   123,  1,     25, X12J25,2,20140814,0635, 46.9891,-150.2932, 5042,    797.8,2,   3.3975,2,   3.39753,2,  34.2763,2,  34.2756,2,-999.0000,9,    25.13,2,    25.06,2,   99.892,   0.0043,2,    0.021,2,  -999.00,9,    3.117,1,    0.000,2,   127.77,2,     0.15,    43.29,2,     0.05,     0.01,2,     0.01,     3.09,2,     0.01,  -999.00,9,  -999.00,    0.396,2,    0.179,2,    0.020,2, -999.000,9,   -999.0,9,   -999.0,9,   -999.0,9,-999.0000,     -999,9, -999.000,9,  -999.00,9, -999.000,9, -999.000,   -999.0,9,   -999.0, -999.000,9, -999.000, -999.000,9, -999.000,   -999.0,9,   -999.0, -999.000,9, -999.000,9, -999.000,9
  49NZ20140717,   P01,   123,  1,     24, X12J24,2,20140814,0635, 46.9891,-150.2932, 5042,    900.3,2,   3.1826,2,   3.18237,2,  34.3250,2,  34.3251,2,-999.0000,9,    22.84,2,    22.57,2,   99.900,   0.0040,2,    0.020,2,  -999.00,9,    3.206,1,    0.000,2,   135.40,2,     0.16,    43.60,2,     0.05,     0.01,2,     0.01,     3.11,2,     0.01,  -999.00,9,  -999.00,    0.247,2,    0.107,2,    0.010,2, -999.000,9,   -999.0,9,   -999.0,9,   -999.0,9,-999.0000,     -999,9, -999.000,9,  -999.00,9, -999.000,9, -999.000,   -999.0,9,   -999.0, -999.000,9, -999.000, -999.000,9, -999.000,   -999.0,9,   -999.0, -999.000,9, -999.000,9, -999.000,9
  49NZ20140717,   P01,   123,  1,     23, X12J23,2,20140814,0635, 46.9891,-150.2932, 5042,   1000.8,2,   3.0054,2,   3.00542,2,  34.3635,2,  34.3640,2,-999.0000,9,    19.70,2,    19.18,2,   99.898,   0.0041,2,    0.020,2,  -999.00,9,    3.210,1,    0.000,2,   141.31,2,     0.16,    44.02,2,     0.06,     0.01,2,     0.01,     3.14,2,     0.01,  -999.00,9,  -999.00,    0.136,2,    0.055,2,    0.000,2, -999.000,9,   -999.0,9,   -999.0,9,   -999.0,9,-999.0000,     -999,9, -999.000,9,  -999.00,9, -999.000,9, -999.000,   -999.0,9,   -999.0, -999.000,9, -999.000, -999.000,9, -999.000,   -999.0,9,   -999.0, -999.000,9, -999.000,9, -999.000,9
  49NZ20140717,   P01,   123,  1,     22, X12J22,2,20140814,0635, 46.9891,-150.2932, 5042,   1201.7,2,   2.7050,2,   2.70482,2,  34.4225,2,  34.4228,2,-999.0000,9,    20.12,2,    19.46,2,   99.883,   0.0047,2,    0.019,2,  -999.00,9,    3.235,1,    0.000,2,   151.68,2,     0.17,    44.30,2,     0.06,     0.01,2,     0.01,     3.15,2,     0.01,  -999.00,9,  -999.00,    0.068,2,    0.027,2,    0.000,2, -999.000,9,   -999.0,9,   -999.0,9,   -999.0,9,-999.0000,     -999,9, -999.000,9,  -999.00,9, -999.000,9, -999.000,   -999.0,9,   -999.0, -999.000,9, -999.000, -999.000,9, -999.000,   -999.0,9,   -999.0, -999.000,9, -999.000,9, -999.000,9
  49NZ20140717,   P01,   123,  1,     21, X12J21,2,20140814,0635, 46.9891,-150.2932, 5042,   1401.0,2,   2.4467,2,   2.44653,2,  34.4764,2,  34.4752,2,-999.0000,9,    22.00,2,    21.27,2,   99.944,   0.0023,2,    0.019,2,  -999.00,9,    3.257,1,    0.000,2,   160.31,2,     0.17,    44.46,2,     0.06,     0.01,2,     0.01,     3.14,2,     0.01,  -999.00,9,  -999.00,    0.027,2,    0.010,2,    0.000,2, -999.000,9,   -999.0,9,   -999.0,9,   -999.0,9,-999.0000,     -999,9, -999.000,9,  -999.00,9, -999.000,9, -999.000,   -999.0,9,   -999.0, -999.000,9, -999.000, -999.000,9, -999.000,   -999.0,9,   -999.0, -999.000,9, -999.000,9, -999.000,9
  49NZ20140717,   P01,   123,  1,     20, X12J20,2,20140814,0635, 46.9891,-150.2932, 5042,   1602.8,2,   2.2686,2,   2.26824,2,  34.5161,2,  34.5152,2,-999.0000,9,    26.01,2,    25.45,2,   99.907,   0.0037,2,    0.018,2,  -999.00,9,    3.293,1,    0.000,2,   166.45,2,     0.18,    44.38,2,     0.06,     0.00,2,     0.01,     3.12,2,     0.01,  -999.00,9,  -999.00,    0.014,2,    0.003,2,    0.000,2, -999.000,9,   -999.0,9,   -999.0,9,   -999.0,9,-999.0000,     -999,9, -999.000,9,  -999.00,9, -999.000,9, -999.000,   -999.0,9,   -999.0, -999.000,9, -999.000, -999.000,9, -999.000,   -999.0,9,   -999.0, -999.000,9, -999.000,9, -999.000,9
  49NZ20140717,   P01,   123,  1,     19, X12J19,2,20140814,0635, 46.9891,-150.2932, 5042,   1797.8,2,   2.1167,2,   2.11654,2,  34.5503,2,  34.5501,2,-999.0000,9,    33.12,2,    32.66,2,   99.924,   0.0030,2,    0.017,2,  -999.00,9,    3.195,1,    0.000,2,   170.85,2,     0.18,    43.97,2,     0.06,     0.00,2,     0.01,     3.09,2,     0.01,  -999.00,9,  -999.00,    0.005,2,    0.001,2,    0.000,2, -999.000,9,   -999.0,9,   -999.0,9,   -999.0,9,-999.0000,     -999,9, -999.000,9,  -999.00,9, -999.000,9, -999.000,   -999.0,9,   -999.0, -999.000,9, -999.000, -999.000,9, -999.000,   -999.0,9,   -999.0, -999.000,9, -999.000,9, -999.000,9
  49NZ20140717,   P01,   123,  1,     18, X12J18,2,20140814,0635, 46.9891,-150.2932, 5042,   2001.4,2,   1.9717,2,   1.97245,2,  34.5806,2,  34.5801,2,-999.0000,9,    46.93,2,    46.49,2,   99.946,   0.0022,2,    0.015,2,  -999.00,9,    3.202,1,    0.000,2,   173.47,2,     0.18,    43.19,2,     0.05,     0.00,2,     0.01,     3.03,2,     0.01,  -999.00,9,  -999.00,    0.004,2,    0.001,2,    0.000,2, -999.000,9,   -999.0,9,   -999.0,9,   -999.0,9,-999.0000,     -999,9, -999.000,9,  -999.00,9, -999.000,9, -999.000,   -999.0,9,   -999.0, -999.000,9, -999.000, -999.000,9, -999.000,   -999.0,9,   -999.0, -999.000,9, -999.000,9, -999.000,9
  49NZ20140717,   P01,   123,  1,     17, X12J17,2,20140814,0635, 46.9891,-150.2932, 5042,   2199.4,2,   1.8674,2,   1.86807,2,  34.6014,2,  34.6016,2,-999.0000,9,    59.37,2,    59.15,2,   99.952,   0.0019,2,    0.014,2,  -999.00,9,    3.099,1,    0.000,2,   174.81,2,     0.18,    42.42,2,     0.05,     0.00,2,     0.01,     2.97,2,     0.01,  -999.00,9,  -999.00,    0.003,2,    0.000,2,    0.000,2, -999.000,9,   -999.0,9,   -999.0,9,   -999.0,9,-999.0000,     -999,9, -999.000,9,  -999.00,9, -999.000,9, -999.000,   -999.0,9,   -999.0, -999.000,9, -999.000, -999.000,9, -999.000,   -999.0,9,   -999.0, -999.000,9, -999.000,9, -999.000,9
  49NZ20140717,   P01,   123,  1,     16, X12J16,2,20140814,0635, 46.9891,-150.2932, 5042,   2399.2,2,   1.7709,2,   1.77085,2,  34.6187,2,  34.6188,2,-999.0000,9,    72.62,2,    72.81,2,   99.946,   0.0022,2,    0.013,2,  -999.00,9,    2.988,1,    0.000,2,   174.91,2,     0.18,    41.53,2,     0.05,     0.00,2,     0.01,     2.91,2,     0.01,  -999.00,9,  -999.00,    0.007,2,    0.000,2,    0.000,2, -999.000,9,   -999.0,9,   -999.0,9,   -999.0,9,-999.0000,     -999,9, -999.000,9,  -999.00,9, -999.000,9, -999.000,   -999.0,9,   -999.0, -999.000,9, -999.000, -999.000,9, -999.000,   -999.0,9,   -999.0, -999.000,9, -999.000,9, -999.000,9
  49NZ20140717,   P01,   123,  1,     15, X12J15,2,20140814,0635, 46.9891,-150.2932, 5042,   2601.5,2,   1.6917,2,   1.69157,2,  34.6334,2,  34.6336,2,-999.0000,9,    85.27,2,    85.50,2,   99.946,   0.0022,2,    0.012,2,  -999.00,9,    2.947,1,    0.000,2,   173.82,2,     0.18,    40.72,2,     0.05,     0.00,2,     0.01,     2.85,2,     0.01,  -999.00,9,  -999.00,    0.002,2,    0.001,2,    0.000,2, -999.000,9,   -999.0,9,   -999.0,9,   -999.0,9,-999.0000,     -999,9, -999.000,9,  -999.00,9, -999.000,9, -999.000,   -999.0,9,   -999.0, -999.000,9, -999.000, -999.000,9, -999.000,   -999.0,9,   -999.0, -999.000,9, -999.000,9, -999.000,9
  49NZ20140717,   P01,   123,  1,     14, X12J14,2,20140814,0635, 46.9891,-150.2932, 5042,   2802.2,2,   1.6227,2,   1.62264,2,  34.6457,2,  34.6458,2,-999.0000,9,    97.41,2,    97.40,2,   99.963,   0.0015,2,    0.011,2,  -999.00,9,    2.898,1,    0.000,2,   172.34,2,     0.18,    39.84,2,     0.05,     0.01,2,     0.01,     2.79,2,     0.01,  -999.00,9,  -999.00,    0.002,2,    0.000,2,    0.000,2, -999.000,9,   -999.0,9,   -999.0,9,   -999.0,9,-999.0000,     -999,9, -999.000,9,  -999.00,9, -999.000,9, -999.000,   -999.0,9,   -999.0, -999.000,9, -999.000, -999.000,9, -999.000,   -999.0,9,   -999.0, -999.000,9, -999.000,9, -999.000,9
  49NZ20140717,   P01,   123,  1,     13, X12113,2,20140814,0635, 46.9891,-150.2932, 5042,   3002.2,2,   1.5756,2,   1.57575,2,  34.6551,2,  34.6552,2,-999.0000,9,   107.57,2,   107.83,2,   99.926,   0.0029,2,    0.010,2,  -999.00,9,    2.828,1,    0.000,2,   170.61,2,     0.18,    39.20,2,     0.05,     0.01,2,     0.01,     2.74,2,     0.01,  -999.00,9,  -999.00,    0.000,2,    0.000,2,    0.000,2, -999.000,9,   -999.0,9,   -999.0,9,   -999.0,9,-999.0000,     -999,9, -999.000,9,  -999.00,9, -999.000,9, -999.000,   -999.0,9,   -999.0, -999.000,9, -999.000, -999.000,9, -999.000,   -999.0,9,   -999.0, -999.000,9, -999.000,9, -999.000,9
  49NZ20140717,   P01,   123,  1,     12, X12J12,2,20140814,0635, 46.9891,-150.2932, 5042,   3249.6,2,   1.5315,2,   1.53166,2,  34.6642,2,  34.6645,2,-999.0000,9,   118.90,2,   119.06,2,   99.950,   0.0020,2,    0.009,2,  -999.00,9,    2.786,1,    0.000,2,   167.77,2,     0.18,    38.39,2,     0.05,     0.00,2,     0.01,     2.68,2,     0.01,  -999.00,9,  -999.00,    0.001,2,    0.000,2,    0.000,2, -999.000,9,   -999.0,9,   -999.0,9,   -999.0,9,-999.0000,     -999,9, -999.000,9,  -999.00,9, -999.000,9, -999.000,   -999.0,9,   -999.0, -999.000,9, -999.000, -999.000,9, -999.000,   -999.0,9,   -999.0, -999.000,9, -999.000,9, -999.000,9
  49NZ20140717,   P01,   123,  1,     11, X12J11,2,20140814,0635, 46.9891,-150.2932, 5042,   3500.0,2,   1.4967,2,   1.49674,2,  34.6718,2,  34.6719,2,-999.0000,9,   128.97,2,   129.04,2,   99.974,   0.0010,2,    0.009,2,  -999.00,9,    2.927,4,    0.000,2,   165.49,2,     0.18,    37.74,2,     0.05,     0.00,2,     0.01,     2.63,2,     0.01,  -999.00,9,  -999.00,    0.002,2,    0.000,2,    0.000,2, -999.000,9,   -999.0,9,   -999.0,9,   -999.0,9,-999.0000,     -999,9, -999.000,9,  -999.00,9, -999.000,9, -999.000,   -999.0,9,   -999.0, -999.000,9, -999.000, -999.000,9, -999.000,   -999.0,9,   -999.0, -999.000,9, -999.000,9, -999.000,9
  49NZ20140717,   P01,   123,  1,     10, X12J10,2,20140814,0635, 46.9891,-150.2932, 5042,   3752.4,2,   1.4819,2,   1.48184,2,  34.6771,2,  34.6776,2,-999.0000,9,   135.49,2,   135.67,2,   99.965,   0.0014,2,    0.008,2,  -999.00,9,    2.800,4,    0.000,2,   165.45,2,     0.18,    37.38,2,     0.05,     0.00,2,     0.01,     2.60,2,     0.01,  -999.00,9,  -999.00,    0.001,2,    0.000,2,    0.000,2, -999.000,9,   -999.0,9,   -999.0,9,   -999.0,9,-999.0000,     -999,9, -999.000,9,  -999.00,9, -999.000,9, -999.000,   -999.0,9,   -999.0, -999.000,9, -999.000, -999.000,9, -999.000,   -999.0,9,   -999.0, -999.000,9, -999.000,9, -999.000,9