BOTTLE,20230904JAMSTECRIGC
EXPOCODE,SECT,STNNBR,CASTNO,SAMPNO,BTLNBR,BTLNBR_FLAG_W,DATE,TIME,LATITUDE,LONGITUDE,DEPTH,CTDPRS,CTDPRS_FLAG_W,CTDTMP,CTDTMP_FLAG_W,SBE35,SBE35_FLAG_W,CTDSAL,CTDSAL_FLAG_W,SALNTY,SALNTY_FLAG_W,DNSSAL,DNSSAL_FLAG_W,CTDOXY,CTDOXY_FLAG_W,OXYGEN,OXYGEN_FLAG_W,XMISS,XMISSCP,XMISS_FLAG_W,FLUOR,FLUOR_FLAG_W,CHLORA,CHLORA_FLAG_W,CDOM,CDOM_FLAG_W,PAR,PAR_FLAG_W,SILCAT,SILCAT_FLAG_W,SILUNC,NITRAT,NITRAT_FLAG_W,NRAUNC,NITRIT,NITRIT_FLAG_W,NRIUNC,PHSPHT,PHSPHT_FLAG_W,PHPUNC,AMMONIA,AMMONIA_FLAG_W,NH4UNC,CFC-11,CFC-11_FLAG_W,CFC-12,CFC-12_FLAG_W,CFC113,CFC113_FLAG_W,SF6,SF6_FLAG_W,TCARBN,TCARBN_FLAG_W,ALKALI,ALKALI_FLAG_W,ALKALI_POT,ALKALI_POT_FLAG_W,PH_TOT,PH_TMP,PH_TOT_FLAG_W,CALCIUM,CALCIUM_FLAG_W,DOC,DOC_FLAG_W,DELC13,DELC13_FLAG_W,C13ERR,DELC14,DELC14_FLAG_W,C14ERR,CS-134,CS-134_FLAG_W,CS134ER,CS-137,CS-137_FLAG_W,CS137ER,I-129,I-129_FLAG_W,I-129ER,CDOM-325,CDOM-325_FLAG_W,CDOM-370,CDOM-370_FLAG_W,CDOM-443,CDOM-443_FLAG_W
,,,,,,,,UTC,DEG,DEG,METERS,DBAR,,ITS-90,,ITS-90,,PSS-78,,PSS-78,,G/KG,,UMOL/KG,,UMOL/KG,,%TRANS,/METER,,MG/CUM,,MG/CUM,,MG/CUM,,UE/SQM/S,,UMOL/KG,,UMOL/KG,UMOL/KG,,UMOL/KG,UMOL/KG,,UMOL/KG,UMOL/KG,,UMOL/KG,UMOL/KG,,UMOL/KG,PMOL/KG,,PMOL/KG,,PMOL/KG,,FMOL/KG,,UMOL/KG,,UMOL/KG,,UMOL/KG,,,DEG C,,MMOL/KG,,UMOL/KG,,/MILLE,,/MILLE,/MILLE,,/MILLE,MBQ/KG,,MBQ/KG,MBQ/KG,,MBQ/KG,,,,/METER,,/METER,,/METER,
  49NZ20140717,   P01,    49,  1,      9, X12J09,2,20140720,1612, 41.1362, 146.8885, 5336,   4079.8,2,   1.4716,2,   1.47163,2,  34.6825,2,  34.6824,2,-999.0000,9,   149.68,2,   149.42,2,   99.979,   0.0008,2,   -0.003,2,  -999.00,9,    2.044,1,    0.000,2,   151.24,2,     0.17,    36.24,2,     0.05,     0.00,2,     0.01,     2.53,2,     0.01,  -999.00,9,  -999.00, -999.000,9, -999.000,9, -999.000,9, -999.000,9,   2328.7,2,   2412.4,2,   2423.8,2,   7.5718,       25,2,   10.263,2,    41.05,3, -999.000,9, -999.000,   -999.0,9,   -999.0, -999.000,9, -999.000, -999.000,9, -999.000,   -999.0,9,   -999.0, -999.000,9, -999.000,9, -999.000,9
  49NZ20140717,   P01,    49,  1,      8, X12J08,2,20140720,1612, 41.1362, 146.8885, 5336,   4330.4,2,   1.4666,2,   1.46664,2,  34.6859,2,  34.6857,2,-999.0000,9,   153.89,2,   153.77,2,  100.007,  -0.0003,2,   -0.004,2,  -999.00,9,   -0.210,4,    0.000,2,   150.13,2,     0.17,    35.99,2,     0.05,     0.00,2,     0.01,     2.51,2,     0.01,  -999.00,9,  -999.00, -999.000,9, -999.000,9, -999.000,9, -999.000,9,   2325.0,6,   2413.5,2,   -999.0,9,   7.5783,       25,2, -999.000,9,    38.77,2, -999.000,9, -999.000,   -999.0,9,   -999.0, -999.000,9, -999.000, -999.000,9, -999.000,   -999.0,9,   -999.0, -999.000,9, -999.000,9, -999.000,9
  49NZ20140717,   P01,    49,  1,      7, X12J07,2,20140720,1612, 41.1362, 146.8885, 5336,   4580.7,2,   1.4728,2,   1.47277,2,  34.6882,2,  34.6884,2,-999.0000,9,   156.88,2,   156.73,2,   99.985,   0.0006,2,   -0.004,2,  -999.00,9,   -1.710,4,    0.000,2,   149.69,2,     0.17,    35.78,2,     0.05,     0.00,2,     0.01,     2.50,2,     0.01,  -999.00,9,  -999.00, -999.000,9, -999.000,9, -999.000,9, -999.000,9,   2322.5,2,   2411.6,2,   -999.0,9,   7.5827,       25,2, -999.000,9,    37.92,2, -999.000,9, -999.000,   -999.0,9,   -999.0, -999.000,9, -999.000, -999.000,9, -999.000,   -999.0,9,   -999.0, -999.000,9, -999.000,9, -999.000,9
  49NZ20140717,   P01,    49,  1,      6, X12J06,2,20140720,1612, 41.1362, 146.8885, 5336,   4829.6,2,   1.4918,2,   1.49168,2,  34.6894,2,  34.6893,2,-999.0000,9,   158.16,2,   158.14,2,   99.901,   0.0040,2,   -0.004,2,  -999.00,9,   -1.852,4,    0.000,2,   149.60,2,     0.17,    35.66,2,     0.05,     0.00,2,     0.01,     2.49,2,     0.01,  -999.00,9,  -999.00, -999.000,9, -999.000,9, -999.000,9, -999.000,9,   2322.0,2,   2411.2,6,   -999.0,9,   7.5854,       25,2, -999.000,9,    38.41,2, -999.000,9, -999.000,   -999.0,9,   -999.0, -999.000,9, -999.000, -999.000,9, -999.000,   -999.0,9,   -999.0, -999.000,9, -999.000,9, -999.000,9
  49NZ20140717,   P01,    49,  1,      5, X12J05,2,20140720,1612, 41.1362, 146.8885, 5336,   5079.8,2,   1.5179,2,   1.51785,2,  34.6898,2,  34.6897,2,-999.0000,9,   158.75,2,   158.81,2,   99.828,   0.0069,2,   -0.004,2,  -999.00,9,   -1.953,4,    0.000,2,   149.25,2,     0.17,    35.59,2,     0.05,     0.00,2,     0.01,     2.48,2,     0.01,  -999.00,9,  -999.00, -999.000,9, -999.000,9, -999.000,9, -999.000,9,   2321.3,2,   2412.2,2,   2418.3,2,   7.5862,       25,2,   10.268,2,    39.41,2, -999.000,9, -999.000,   -999.0,9,   -999.0, -999.000,9, -999.000, -999.000,9, -999.000,   -999.0,9,   -999.0, -999.000,9, -999.000,9, -999.000,9
  49NZ20140717,   P01,    49,  1,      4, X12J04,2,20140720,1612, 41.1362, 146.8885, 5336,   5329.7,2,   1.5468,2,   1.54658,2,  34.6900,2,  34.6903,2,-999.0000,9,   159.19,2,   159.42,2,   99.718,   0.0113,2,   -0.004,2,  -999.00,9,   -1.979,4,    0.000,2,   148.67,2,     0.17,    35.55,2,     0.05,     0.00,2,     0.01,     2.48,2,     0.01,  -999.00,9,  -999.00, -999.000,9, -999.000,9, -999.000,9, -999.000,9,   2320.6,2,   2410.6,2,   -999.0,9,   7.5871,       25,2, -999.000,9,    39.99,2, -999.000,9, -999.000,   -999.0,9,   -999.0, -999.000,9, -999.000, -999.000,9, -999.000,   -999.0,9,   -999.0, -999.000,9, -999.000,9, -999.000,9
  49NZ20140717,   P01,    49,  1,      3, X12J03,9,20140720,1612, 41.1362, 146.8885, 5336,   -999.0,9,-999.0000,9,-999.00000,9,-999.0000,9,-999.0000,9,-999.0000,9,  -999.00,9,  -999.00,9, -999.000,-999.0000,9, -999.000,9,  -999.00,9, -999.000,9, -999.000,9,  -999.00,9,  -999.00,  -999.00,9,  -999.00,  -999.00,9,  -999.00,  -999.00,9,  -999.00,  -999.00,9,  -999.00, -999.000,9, -999.000,9, -999.000,9, -999.000,9,   -999.0,9,   -999.0,9,   -999.0,9,-999.0000,     -999,9, -999.000,9,  -999.00,9, -999.000,9, -999.000,   -999.0,9,   -999.0, -999.000,9, -999.000, -999.000,9, -999.000,   -999.0,9,   -999.0, -999.000,9, -999.000,9, -999.000,9
  49NZ20140717,   P01,    49,  1,      2, X12J02,2,20140720,1612, 41.1362, 146.8885, 5336,   3831.4,2,   1.4824,2,   1.48252,2,  34.6787,2,  34.6786,2,-999.0000,9,   145.08,2,   144.82,2,   99.974,   0.0010,2,   -0.003,2,  -999.00,9,    2.106,1,    0.000,2,   152.49,2,     0.17,    36.61,2,     0.05,     0.00,2,     0.01,     2.56,2,     0.01,  -999.00,9,  -999.00, -999.000,9, -999.000,9, -999.000,9, -999.000,9,   2331.9,2,   2414.6,2,   -999.0,9,   7.5636,       25,2, -999.000,9,    41.70,2, -999.000,9, -999.000,   -999.0,9,   -999.0, -999.000,9, -999.000, -999.000,9, -999.000,   -999.0,9,   -999.0, -999.000,9, -999.000,9, -999.000,9
  49NZ20140717,   P01,    49,  1,      1, X12J01,2,20140720,1612, 41.1362, 146.8885, 5336,   5429.1,2,   1.5581,2,   1.55786,2,  34.6901,2,  34.6906,2,-999.0000,9,   159.19,2,   159.54,2,   99.656,   0.0138,2,   -0.004,2,  -999.00,9,   -1.367,4,    0.000,2,   148.83,2,     0.17,    35.53,2,     0.05,     0.01,2,     0.01,     2.48,2,     0.01,  -999.00,9,  -999.00, -999.000,9, -999.000,9, -999.000,9, -999.000,9,   2319.9,2,   2410.9,2,   2418.2,2,   7.5864,       25,2,   10.279,2,    37.02,2, -999.000,9, -999.000,   -999.0,9,   -999.0, -999.000,9, -999.000, -999.000,9, -999.000,   -999.0,9,   -999.0, -999.000,9, -999.000,9, -999.000,9