BOTTLE,20230904JAMSTECRIGC
EXPOCODE,SECT,STNNBR,CASTNO,SAMPNO,BTLNBR,BTLNBR_FLAG_W,DATE,TIME,LATITUDE,LONGITUDE,DEPTH,CTDPRS,CTDPRS_FLAG_W,CTDTMP,CTDTMP_FLAG_W,SBE35,SBE35_FLAG_W,CTDSAL,CTDSAL_FLAG_W,SALNTY,SALNTY_FLAG_W,DNSSAL,DNSSAL_FLAG_W,CTDOXY,CTDOXY_FLAG_W,OXYGEN,OXYGEN_FLAG_W,XMISS,XMISSCP,XMISS_FLAG_W,FLUOR,FLUOR_FLAG_W,CHLORA,CHLORA_FLAG_W,CDOM,CDOM_FLAG_W,PAR,PAR_FLAG_W,SILCAT,SILCAT_FLAG_W,SILUNC,NITRAT,NITRAT_FLAG_W,NRAUNC,NITRIT,NITRIT_FLAG_W,NRIUNC,PHSPHT,PHSPHT_FLAG_W,PHPUNC,AMMONIA,AMMONIA_FLAG_W,NH4UNC,CFC-11,CFC-11_FLAG_W,CFC-12,CFC-12_FLAG_W,CFC113,CFC113_FLAG_W,SF6,SF6_FLAG_W,TCARBN,TCARBN_FLAG_W,ALKALI,ALKALI_FLAG_W,ALKALI_POT,ALKALI_POT_FLAG_W,PH_TOT,PH_TMP,PH_TOT_FLAG_W,CALCIUM,CALCIUM_FLAG_W,DOC,DOC_FLAG_W,DELC13,DELC13_FLAG_W,C13ERR,DELC14,DELC14_FLAG_W,C14ERR,CS-134,CS-134_FLAG_W,CS134ER,CS-137,CS-137_FLAG_W,CS137ER,I-129,I-129_FLAG_W,I-129ER,CDOM-325,CDOM-325_FLAG_W,CDOM-370,CDOM-370_FLAG_W,CDOM-443,CDOM-443_FLAG_W
,,,,,,,,UTC,DEG,DEG,METERS,DBAR,,ITS-90,,ITS-90,,PSS-78,,PSS-78,,G/KG,,UMOL/KG,,UMOL/KG,,%TRANS,/METER,,MG/CUM,,MG/CUM,,MG/CUM,,UE/SQM/S,,UMOL/KG,,UMOL/KG,UMOL/KG,,UMOL/KG,UMOL/KG,,UMOL/KG,UMOL/KG,,UMOL/KG,UMOL/KG,,UMOL/KG,PMOL/KG,,PMOL/KG,,PMOL/KG,,FMOL/KG,,UMOL/KG,,UMOL/KG,,UMOL/KG,,,DEG C,,MMOL/KG,,UMOL/KG,,/MILLE,,/MILLE,/MILLE,,/MILLE,MBQ/KG,,MBQ/KG,MBQ/KG,,MBQ/KG,,,,/METER,,/METER,,/METER,
  49NZ20140717,   P01,    95,  1,      0,   -999,9,20140804,0307, 46.9973, 178.3047, 5760,   -999.0,9,-999.0000,9,-999.00000,9,-999.0000,9,  32.8282,2,-999.0000,9,  -999.00,9,  -999.00,9, -999.000,-999.0000,9, -999.000,9,  -999.00,9, -999.000,9, -999.000,9,    21.38,2,     0.09,    13.26,2,     0.02,     0.20,2,     0.01,     1.28,2,     0.01,  -999.00,9,  -999.00, -999.000,9, -999.000,9, -999.000,9, -999.000,9,   -999.0,9,   -999.0,9,   -999.0,9,-999.0000,     -999,9, -999.000,9,  -999.00,9, -999.000,9, -999.000,   -999.0,9,   -999.0, -999.000,9, -999.000, -999.000,9, -999.000,   -999.0,9,   -999.0, -999.000,9, -999.000,9, -999.000,9
  49NZ20140717,   P01,    95,  1,     36, X12J36,2,20140804,0307, 46.9973, 178.3047, 5760,      9.8,2,  11.5665,2,  11.56966,2,  32.8422,2,  32.8431,2,  33.0002,2,   283.30,2,   284.93,2,   96.475,   0.1435,2,    0.267,2,  -999.00,9,   -0.309,1,  108.554,2,    21.75,2,     0.09,    13.65,2,     0.02,     0.17,2,     0.01,     1.30,2,     0.01,  -999.00,9,  -999.00, -999.000,9, -999.000,9, -999.000,9, -999.000,9,   2052.4,2,   2218.2,2,   -999.0,9,   7.8164,       25,2, -999.000,9,    55.55,2, -999.000,9, -999.000,   -999.0,9,   -999.0, -999.000,9, -999.000, -999.000,9, -999.000,   -999.0,9,   -999.0, -999.000,9, -999.000,9, -999.000,9
  49NZ20140717,   P01,    95,  1,     35, X12J35,2,20140804,0307, 46.9973, 178.3047, 5760,     49.6,2,   4.6626,2,   4.66054,2,  32.9504,2,  32.9540,2,  33.1130,2,   327.06,2,   328.01,2,   97.548,   0.0993,2,    0.492,2,  -999.00,9,    0.815,1,    5.166,2,    28.05,2,     0.09,    17.61,2,     0.03,     0.15,2,     0.01,     1.56,2,     0.01,  -999.00,9,  -999.00, -999.000,9, -999.000,9, -999.000,9, -999.000,9,   2088.1,6,   2223.6,2,   -999.0,9,   7.7343,       25,2, -999.000,9,    53.17,2, -999.000,9, -999.000,   -999.0,9,   -999.0, -999.000,9, -999.000, -999.000,9, -999.000,   -999.0,9,   -999.0, -999.000,9, -999.000,9, -999.000,9
  49NZ20140717,   P01,    95,  1,     34, X12J34,2,20140804,0307, 46.9973, 178.3047, 5760,    100.0,2,   3.9648,2,   3.96432,2,  33.0965,2,  33.1058,2,  33.2654,2,   302.38,2,   301.84,2,   99.558,   0.0177,2,    0.123,2,  -999.00,9,    0.854,1,    0.272,2,    29.63,2,     0.09,    19.64,2,     0.03,     0.01,2,     0.01,     1.59,2,     0.01,  -999.00,9,  -999.00, -999.000,9, -999.000,9, -999.000,9, -999.000,9,   2109.8,2,   2226.9,2,   -999.0,9,   7.6889,       25,2, -999.000,9,    49.38,2, -999.000,9, -999.000,   -999.0,9,   -999.0, -999.000,9, -999.000, -999.000,9, -999.000,   -999.0,9,   -999.0, -999.000,9, -999.000,9, -999.000,9
  49NZ20140717,   P01,    95,  1,     33, X12J33,2,20140804,0307, 46.9973, 178.3047, 5760,    149.8,2,   3.7469,2,   3.75281,2,  33.5562,2,  33.5550,2,  33.7166,2,   223.03,2,   222.28,2,   99.677,   0.0129,2,    0.023,2,  -999.00,9,    1.767,1,    0.000,2,    50.21,2,     0.11,    27.70,2,     0.04,     0.01,2,     0.01,     2.07,2,     0.01,  -999.00,9,  -999.00, -999.000,9, -999.000,9, -999.000,9, -999.000,9,   2189.5,2,   2260.8,2,   -999.0,9,   7.5450,       25,6, -999.000,9,    48.00,2, -999.000,9, -999.000,   -999.0,9,   -999.0, -999.000,9, -999.000, -999.000,9, -999.000,   -999.0,9,   -999.0, -999.000,9, -999.000,9, -999.000,9
  49NZ20140717,   P01,    95,  1,     32, X12J32,2,20140804,0307, 46.9973, 178.3047, 5760,    199.8,2,   3.1833,2,   3.18424,2,  33.6183,2,  33.6211,2,  33.7865,2,   162.03,2,   161.51,2,   99.660,   0.0136,2,    0.012,2,  -999.00,9,    2.246,1,    0.000,2,    68.49,2,     0.12,    34.11,2,     0.05,     0.01,2,     0.01,     2.51,2,     0.01,  -999.00,9,  -999.00, -999.000,9, -999.000,9, -999.000,9, -999.000,9,   2242.2,2,   2272.2,6,   -999.0,9,   7.4231,       25,2, -999.000,9,    46.58,2, -999.000,9, -999.000,   -999.0,9,   -999.0, -999.000,9, -999.000, -999.000,9, -999.000,   -999.0,9,   -999.0, -999.000,9, -999.000,9, -999.000,9
  49NZ20140717,   P01,    95,  1,     31, X12J31,2,20140804,0307, 46.9973, 178.3047, 5760,    250.4,2,   3.2073,2,   3.20727,2,  33.7074,2,  33.7073,2,  33.8749,2,   118.61,2,   118.83,2,   99.753,   0.0099,2,    0.014,2,  -999.00,9,    2.474,1,    0.000,2,    79.77,2,     0.12,    37.87,2,     0.05,     0.01,2,     0.01,     2.75,2,     0.01,  -999.00,9,  -999.00, -999.000,9, -999.000,9, -999.000,9, -999.000,9,   2274.7,2,   2281.5,2,   -999.0,9,   7.3522,       25,2, -999.000,9,    43.89,2, -999.000,9, -999.000,   -999.0,9,   -999.0, -999.000,9, -999.000, -999.000,9, -999.000,   -999.0,9,   -999.0, -999.000,9, -999.000,9, -999.000,9
  49NZ20140717,   P01,    95,  1,     30, X12J30,2,20140804,0307, 46.9973, 178.3047, 5760,    280.6,2,   3.5405,2,   3.54032,2,  33.8017,2,  33.8025,2,  33.9699,2,    97.16,2,    97.29,2,   99.807,   0.0077,2,    0.014,2,  -999.00,9,    2.622,1,    0.000,2,    84.41,2,     0.13,    38.93,2,     0.05,     0.01,2,     0.01,     2.81,2,     0.01,  -999.00,9,  -999.00, -999.000,9, -999.000,9, -999.000,9, -999.000,9,   2287.4,2,   2288.9,2,   -999.0,9,   7.3366,       25,2, -999.000,9,    44.47,2, -999.000,9, -999.000,   -999.0,9,   -999.0, -999.000,9, -999.000, -999.000,9, -999.000,   -999.0,9,   -999.0, -999.000,9, -999.000,9, -999.000,9
  49NZ20140717,   P01,    95,  1,     29, X12J29,2,20140804,0307, 46.9973, 178.3047, 5760,    370.3,2,   3.7870,2,   3.78845,2,  33.9742,2,  33.9746,2,  34.1446,2,    59.42,2,    60.51,2,   99.796,   0.0082,2,    0.015,2,  -999.00,9,    2.775,1,    0.000,2,    97.26,2,     0.13,    41.16,2,     0.05,     0.01,2,     0.01,     2.94,2,     0.01,  -999.00,9,  -999.00, -999.000,9, -999.000,9, -999.000,9, -999.000,9,   2315.0,2,   2308.1,2,   -999.0,9,   7.3097,       25,2, -999.000,9,    44.83,2, -999.000,9, -999.000,   -999.0,9,   -999.0, -999.000,9, -999.000, -999.000,9, -999.000,   -999.0,9,   -999.0, -999.000,9, -999.000,9, -999.000,9
  49NZ20140717,   P01,    95,  1,     28, X12J28,2,20140804,0307, 46.9973, 178.3047, 5760,    470.2,2,   3.7378,2,   3.73756,2,  34.0870,2,  34.0863,2,  34.2587,2,    43.35,2,    43.92,2,   99.865,   0.0054,2,    0.016,2,  -999.00,9,    2.873,1,    0.000,2,   108.02,2,     0.14,    42.12,2,     0.05,     0.01,2,     0.01,     3.01,2,     0.01,  -999.00,9,  -999.00, -999.000,9, -999.000,9, -999.000,9, -999.000,9,   2333.2,2,   2323.8,2,   -999.0,9,   7.3037,       25,2, -999.000,9,    44.82,2, -999.000,9, -999.000,   -999.0,9,   -999.0, -999.000,9, -999.000, -999.000,9, -999.000,   -999.0,9,   -999.0, -999.000,9, -999.000,9, -999.000,9
  49NZ20140717,   P01,    95,  1,     27, X12J27,2,20140804,0307, 46.9973, 178.3047, 5760,    570.1,2,   3.5105,2,   3.50989,2,  34.1704,2,  34.1699,2,  34.3432,2,    28.05,2,    28.84,2,   99.917,   0.0033,2,    0.016,2,  -999.00,9,    2.991,1,    0.000,2,   119.96,2,     0.15,    43.39,2,     0.05,     0.01,2,     0.01,     3.09,2,     0.01,  -999.00,9,  -999.00, -999.000,9, -999.000,9, -999.000,9, -999.000,9,   2351.1,2,   2337.2,2,   -999.0,9,   7.2893,       25,2, -999.000,9,    41.78,2, -999.000,9, -999.000,   -999.0,9,   -999.0, -999.000,9, -999.000, -999.000,9, -999.000,   -999.0,9,   -999.0, -999.000,9, -999.000,9, -999.000,9
  49NZ20140717,   P01,    95,  1,     26, X12J26,2,20140804,0307, 46.9973, 178.3047, 5760,    670.7,2,   3.3772,2,   3.37697,2,  34.2454,2,  34.2450,2,  34.4203,2,    30.65,2,    30.84,2,   99.887,   0.0045,2,    0.015,2,  -999.00,9,    2.921,1,    0.000,2,   126.73,2,     0.15,    43.07,2,     0.05,     0.01,2,     0.01,     3.08,2,     0.01,  -999.00,9,  -999.00, -999.000,9, -999.000,9, -999.000,9, -999.000,9,   2356.0,6,   2348.6,2,   -999.0,9,   7.3087,       25,2, -999.000,9,    42.94,2, -999.000,9, -999.000,   -999.0,9,   -999.0, -999.000,9, -999.000, -999.000,9, -999.000,   -999.0,9,   -999.0, -999.000,9, -999.000,9, -999.000,9
  49NZ20140717,   P01,    95,  1,     25, X12J25,2,20140804,0307, 46.9973, 178.3047, 5760,    769.9,2,   3.1730,2,   3.17275,2,  34.2940,2,  34.2941,2,  34.4684,2,    27.55,2,    27.74,2,   99.878,   0.0049,2,    0.014,2,  -999.00,9,    3.002,1,    0.000,2,   133.95,2,     0.16,    43.30,2,     0.05,     0.01,2,     0.01,     3.10,2,     0.01,  -999.00,9,  -999.00, -999.000,9, -999.000,9, -999.000,9, -999.000,9,   2365.9,2,   2358.4,2,   -999.0,9,   7.3088,       25,2, -999.000,9,    37.07,2, -999.000,9, -999.000,   -999.0,9,   -999.0, -999.000,9, -999.000, -999.000,9, -999.000,   -999.0,9,   -999.0, -999.000,9, -999.000,9, -999.000,9
  49NZ20140717,   P01,    95,  1,     24, X12J24,2,20140804,0307, 46.9973, 178.3047, 5760,    869.4,2,   2.9939,2,   2.99386,2,  34.3384,2,  34.3383,2,  34.5153,2,    27.48,2,    27.52,2,   99.891,   0.0044,2,    0.013,2,  -999.00,9,    3.100,1,    0.000,2,   140.16,2,     0.16,    43.44,2,     0.05,     0.00,2,     0.01,     3.11,2,     0.01,  -999.00,9,  -999.00, -999.000,9, -999.000,9, -999.000,9, -999.000,9,   2370.1,2,   2367.1,2,   -999.0,9,   7.3141,       25,6, -999.000,9,    40.05,2, -999.000,9, -999.000,   -999.0,9,   -999.0, -999.000,9, -999.000, -999.000,9, -999.000,   -999.0,9,   -999.0, -999.000,9, -999.000,9, -999.000,9
  49NZ20140717,   P01,    95,  1,     23, X12J23,2,20140804,0307, 46.9973, 178.3047, 5760,    970.8,2,   2.8391,2,   2.83906,2,  34.3757,2,  34.3757,2,  34.5522,2,    28.15,2,    28.14,2,   99.937,   0.0025,2,    0.013,2,  -999.00,9,    3.115,1,    0.000,2,   145.40,2,     0.16,    43.50,2,     0.05,     0.00,2,     0.01,     3.11,2,     0.01,  -999.00,9,  -999.00, -999.000,9, -999.000,9, -999.000,9, -999.000,9,   2375.7,2,   2374.4,2,   -999.0,9,   7.3197,       25,2, -999.000,9,    39.81,2, -999.000,9, -999.000,   -999.0,9,   -999.0, -999.000,9, -999.000, -999.000,9, -999.000,   -999.0,9,   -999.0, -999.000,9, -999.000,9, -999.000,9
  49NZ20140717,   P01,    95,  1,     22, X12J22,2,20140804,0307, 46.9973, 178.3047, 5760,   1130.7,2,   2.6291,2,   2.62889,2,  34.4261,2,  34.4265,2,  34.6049,2,    30.07,2,    30.16,2,   99.895,   0.0042,2,    0.012,2,  -999.00,9,    3.023,1,    0.000,2,   152.45,2,     0.17,    43.53,2,     0.05,     0.00,2,     0.01,     3.11,2,     0.01,  -999.00,9,  -999.00, -999.000,9, -999.000,9, -999.000,9, -999.000,9,   2383.3,2,   2383.1,6,   -999.0,9,   7.3293,       25,2, -999.000,9,    40.30,2, -999.000,9, -999.000,   -999.0,9,   -999.0, -999.000,9, -999.000, -999.000,9, -999.000,   -999.0,9,   -999.0, -999.000,9, -999.000,9, -999.000,9
  49NZ20140717,   P01,    95,  1,     21, X12J21,2,20140804,0307, 46.9973, 178.3047, 5760,   1329.8,2,   2.4066,2,   2.40671,2,  34.4773,2,  34.4770,2,  34.6550,2,    34.63,2,    34.62,2,   99.919,   0.0032,2,    0.011,2,  -999.00,9,    3.100,1,    0.000,2,   159.32,2,     0.17,    43.40,2,     0.05,     0.00,2,     0.01,     3.09,2,     0.01,  -999.00,9,  -999.00, -999.000,9, -999.000,9, -999.000,9, -999.000,9,   2387.0,2,   2391.2,2,   -999.0,9,   7.3429,       25,2, -999.000,9,    39.01,2, -999.000,9, -999.000,   -999.0,9,   -999.0, -999.000,9, -999.000, -999.000,9, -999.000,   -999.0,9,   -999.0, -999.000,9, -999.000,9, -999.000,9
  49NZ20140717,   P01,    95,  1,     20, X12J20,2,20140804,0307, 46.9973, 178.3047, 5760,   1530.1,2,   2.2145,2,   2.21429,2,  34.5217,2,  34.5220,2,  34.7012,2,    42.71,2,    43.01,2,   99.947,   0.0021,2,    0.010,2,  -999.00,9,    3.172,1,    0.000,2,   164.10,2,     0.18,    42.95,2,     0.05,     0.00,2,     0.01,     3.05,2,     0.01,  -999.00,9,  -999.00, -999.000,9, -999.000,9, -999.000,9, -999.000,9,   2387.3,2,   2396.9,2,   -999.0,9,   7.3635,       25,6, -999.000,9,    38.51,2, -999.000,9, -999.000,   -999.0,9,   -999.0, -999.000,9, -999.000, -999.000,9, -999.000,   -999.0,9,   -999.0, -999.000,9, -999.000,9, -999.000,9
  49NZ20140717,   P01,    95,  1,     19, X12J19,2,20140804,0307, 46.9973, 178.3047, 5760,   1730.5,2,   2.0753,2,   2.07524,2,  34.5532,2,  34.5530,2,  34.7355,2,    51.94,2,    52.11,2,   99.921,   0.0031,2,    0.009,2,  -999.00,9,    3.025,1,    0.000,2,   167.04,2,     0.18,    42.43,2,     0.05,     0.00,2,     0.01,     3.01,2,     0.01,  -999.00,9,  -999.00, -999.000,9, -999.000,9, -999.000,9, -999.000,9,   2384.6,2,   2403.5,2,   -999.0,9,   7.4051,       25,2, -999.000,9,    36.10,2, -999.000,9, -999.000,   -999.0,9,   -999.0, -999.000,9, -999.000, -999.000,9, -999.000,   -999.0,9,   -999.0, -999.000,9, -999.000,9, -999.000,9
  49NZ20140717,   P01,    95,  1,     18, X12J18,2,20140804,0307, 46.9973, 178.3047, 5760,   1930.2,2,   1.9642,2,   1.96409,2,  34.5784,2,  34.5788,2,  34.7612,2,    61.95,2,    62.15,2,   99.937,   0.0025,2,    0.008,2,  -999.00,9,    2.985,1,    0.000,2,   168.28,2,     0.18,    41.90,2,     0.05,     0.00,2,     0.01,     2.97,2,     0.01,  -999.00,9,  -999.00, -999.000,9, -999.000,9, -999.000,9, -999.000,9,   2380.2,2,   2407.3,2,   -999.0,9,   7.3835,       25,2, -999.000,9,    39.38,2, -999.000,9, -999.000,   -999.0,9,   -999.0, -999.000,9, -999.000, -999.000,9, -999.000,   -999.0,9,   -999.0, -999.000,9, -999.000,9, -999.000,9
  49NZ20140717,   P01,    95,  1,     17, X12J17,2,20140804,0307, 46.9973, 178.3047, 5760,   2130.5,2,   1.8669,2,   1.86691,2,  34.5996,2,  34.5995,2,  34.7810,2,    72.24,2,    72.49,2,   99.945,   0.0022,2,    0.007,2,  -999.00,9,    2.944,1,    0.000,2,   168.43,2,     0.18,    41.29,2,     0.05,     0.00,2,     0.01,     2.92,2,     0.01,  -999.00,9,  -999.00, -999.000,9, -999.000,9, -999.000,9, -999.000,9,   2377.0,2,   2411.7,2,   -999.0,9,   7.4281,       25,2, -999.000,9,    39.04,2, -999.000,9, -999.000,   -999.0,9,   -999.0, -999.000,9, -999.000, -999.000,9, -999.000,   -999.0,9,   -999.0, -999.000,9, -999.000,9, -999.000,9
  49NZ20140717,   P01,    95,  1,     16, X12J16,2,20140804,0307, 46.9973, 178.3047, 5760,   2329.9,2,   1.7703,2,   1.77024,2,  34.6187,2,  34.6191,2,  34.8014,2,    83.24,2,    83.57,2,   99.958,   0.0017,2,    0.006,2,  -999.00,9,    2.860,1,    0.000,2,   168.55,2,     0.18,    40.60,2,     0.05,     0.00,2,     0.01,     2.87,2,     0.01,  -999.00,9,  -999.00, -999.000,9, -999.000,9, -999.000,9, -999.000,9,   2371.2,6,   2411.7,2,   -999.0,9,   7.4502,       25,2, -999.000,9,    37.93,2, -999.000,9, -999.000,   -999.0,9,   -999.0, -999.000,9, -999.000, -999.000,9, -999.000,   -999.0,9,   -999.0, -999.000,9, -999.000,9, -999.000,9
  49NZ20140717,   P01,    95,  1,     15, X12J15,2,20140804,0307, 46.9973, 178.3047, 5760,   2529.8,2,   1.6945,2,   1.69461,2,  34.6333,2,  34.6330,2,  34.8146,2,    93.84,2,    94.16,2,   99.963,   0.0015,2,    0.005,2,  -999.00,9,    2.780,1,    0.000,2,   167.81,2,     0.18,    39.96,2,     0.05,     0.00,2,     0.01,     2.82,2,     0.01,  -999.00,9,  -999.00, -999.000,9, -999.000,9, -999.000,9, -999.000,9,   2366.4,2,   2415.7,2,   -999.0,9,   7.4699,       25,2, -999.000,9,    40.05,3, -999.000,9, -999.000,   -999.0,9,   -999.0, -999.000,9, -999.000, -999.000,9, -999.000,   -999.0,9,   -999.0, -999.000,9, -999.000,9, -999.000,9
  49NZ20140717,   P01,    95,  1,     14, X12J14,2,20140804,0307, 46.9973, 178.3047, 5760,   2731.0,2,   1.6347,2,   1.63458,2,  34.6441,2,  34.6443,2,  34.8245,2,   104.77,2,   105.00,2,   99.978,   0.0009,2,    0.004,2,  -999.00,9,    2.685,1,    0.000,2,   166.17,2,     0.18,    39.25,2,     0.05,     0.00,2,     0.01,     2.77,2,     0.01,  -999.00,9,  -999.00, -999.000,9, -999.000,9, -999.000,9, -999.000,9,   2359.1,2,   2414.9,2,   -999.0,9,   7.4900,       25,6, -999.000,9,    37.95,2, -999.000,9, -999.000,   -999.0,9,   -999.0, -999.000,9, -999.000, -999.000,9, -999.000,   -999.0,9,   -999.0, -999.000,9, -999.000,9, -999.000,9
  49NZ20140717,   P01,    95,  1,     13, X12113,2,20140804,0307, 46.9973, 178.3047, 5760,   2930.8,2,   1.5820,2,   1.58209,2,  34.6535,2,  34.6535,2,  34.8350,2,   112.93,2,   112.93,2,   99.971,   0.0012,2,    0.004,2,  -999.00,9,    2.638,1,    0.000,2,   165.63,2,     0.18,    38.72,2,     0.05,     0.00,2,     0.01,     2.73,2,     0.01,  -999.00,9,  -999.00, -999.000,9, -999.000,9, -999.000,9, -999.000,9,   2353.3,2,   2415.9,2,   -999.0,9,   7.5056,       25,2, -999.000,9,    35.45,2, -999.000,9, -999.000,   -999.0,9,   -999.0, -999.000,9, -999.000, -999.000,9, -999.000,   -999.0,9,   -999.0, -999.000,9, -999.000,9, -999.000,9
  49NZ20140717,   P01,    95,  1,     12, X12J12,2,20140804,0307, 46.9973, 178.3047, 5760,   3169.8,2,   1.5393,2,   1.53940,2,  34.6625,2,  34.6623,2,  34.8443,2,   122.73,2,   123.04,2,   99.978,   0.0009,2,    0.003,2,  -999.00,9,    2.505,1,    0.000,2,   162.50,2,     0.18,    37.98,2,     0.05,     0.00,2,     0.01,     2.67,2,     0.01,  -999.00,9,  -999.00, -999.000,9, -999.000,9, -999.000,9, -999.000,9,   2347.4,2,   2417.2,6,   -999.0,9,   7.5244,       25,2, -999.000,9,    37.88,2, -999.000,9, -999.000,   -999.0,9,   -999.0, -999.000,9, -999.000, -999.000,9, -999.000,   -999.0,9,   -999.0, -999.000,9, -999.000,9, -999.000,9
  49NZ20140717,   P01,    95,  1,     11, X12J11,2,20140804,0307, 46.9973, 178.3047, 5760,   3421.4,2,   1.5036,2,   1.50364,2,  34.6701,2,  34.6699,2,  34.8509,2,   132.05,2,   132.06,2,   99.973,   0.0011,2,    0.002,2,  -999.00,9,    2.474,1,    0.000,2,   159.84,2,     0.17,    37.37,2,     0.05,     0.00,2,     0.01,     2.62,2,     0.01,  -999.00,9,  -999.00, -999.000,9, -999.000,9, -999.000,9, -999.000,9,   2341.4,2,   2416.3,2,   -999.0,9,   7.5399,       25,2, -999.000,9,    38.22,2, -999.000,9, -999.000,   -999.0,9,   -999.0, -999.000,9, -999.000, -999.000,9, -999.000,   -999.0,9,   -999.0, -999.000,9, -999.000,9, -999.000,9
  49NZ20140717,   P01,    95,  1,     10, X12J10,2,20140804,0307, 46.9973, 178.3047, 5760,   3669.4,2,   1.4825,2,   1.48255,2,  34.6758,2,  34.6756,2,  34.8561,2,   138.84,2,   138.99,2,   99.982,   0.0007,2,    0.002,2,  -999.00,9,    2.762,4,    0.000,2,   158.13,2,     0.17,    36.99,2,     0.05,     0.00,2,     0.01,     2.59,2,     0.01,  -999.00,9,  -999.00, -999.000,9, -999.000,9, -999.000,9, -999.000,9,   2336.1,2,   2417.9,2,   -999.0,9,   7.5523,       25,2, -999.000,9,    38.22,2, -999.000,9, -999.000,   -999.0,9,   -999.0, -999.000,9, -999.000, -999.000,9, -999.000,   -999.0,9,   -999.0, -999.000,9, -999.000,9, -999.000,9