BOTTLE,20230904JAMSTECRIGC
EXPOCODE,SECT,STNNBR,CASTNO,SAMPNO,BTLNBR,BTLNBR_FLAG_W,DATE,TIME,LATITUDE,LONGITUDE,DEPTH,CTDPRS,CTDPRS_FLAG_W,CTDTMP,CTDTMP_FLAG_W,SBE35,SBE35_FLAG_W,CTDSAL,CTDSAL_FLAG_W,SALNTY,SALNTY_FLAG_W,DNSSAL,DNSSAL_FLAG_W,CTDOXY,CTDOXY_FLAG_W,OXYGEN,OXYGEN_FLAG_W,XMISS,XMISSCP,XMISS_FLAG_W,FLUOR,FLUOR_FLAG_W,CHLORA,CHLORA_FLAG_W,CDOM,CDOM_FLAG_W,PAR,PAR_FLAG_W,SILCAT,SILCAT_FLAG_W,SILUNC,NITRAT,NITRAT_FLAG_W,NRAUNC,NITRIT,NITRIT_FLAG_W,NRIUNC,PHSPHT,PHSPHT_FLAG_W,PHPUNC,AMMONIA,AMMONIA_FLAG_W,NH4UNC,CFC-11,CFC-11_FLAG_W,CFC-12,CFC-12_FLAG_W,CFC113,CFC113_FLAG_W,SF6,SF6_FLAG_W,TCARBN,TCARBN_FLAG_W,ALKALI,ALKALI_FLAG_W,ALKALI_POT,ALKALI_POT_FLAG_W,PH_TOT,PH_TMP,PH_TOT_FLAG_W,CALCIUM,CALCIUM_FLAG_W,DOC,DOC_FLAG_W,DELC13,DELC13_FLAG_W,C13ERR,DELC14,DELC14_FLAG_W,C14ERR,CS-134,CS-134_FLAG_W,CS134ER,CS-137,CS-137_FLAG_W,CS137ER,I-129,I-129_FLAG_W,I-129ER,CDOM-325,CDOM-325_FLAG_W,CDOM-370,CDOM-370_FLAG_W,CDOM-443,CDOM-443_FLAG_W
,,,,,,,,UTC,DEG,DEG,METERS,DBAR,,ITS-90,,ITS-90,,PSS-78,,PSS-78,,G/KG,,UMOL/KG,,UMOL/KG,,%TRANS,/METER,,MG/CUM,,MG/CUM,,MG/CUM,,UE/SQM/S,,UMOL/KG,,UMOL/KG,UMOL/KG,,UMOL/KG,UMOL/KG,,UMOL/KG,UMOL/KG,,UMOL/KG,UMOL/KG,,UMOL/KG,PMOL/KG,,PMOL/KG,,PMOL/KG,,FMOL/KG,,UMOL/KG,,UMOL/KG,,UMOL/KG,,,DEG C,,MMOL/KG,,UMOL/KG,,/MILLE,,/MILLE,/MILLE,,/MILLE,MBQ/KG,,MBQ/KG,MBQ/KG,,MBQ/KG,,,,/METER,,/METER,,/METER,
  49NZ20140717,   P01,    64,  1,      0,   -999,9,20140724,1503, 42.6777, 152.6898, 5305,   -999.0,9,-999.0000,9,-999.00000,9,-999.0000,9,  32.6353,2,-999.0000,9,  -999.00,9,  -999.00,9, -999.000,-999.0000,9, -999.000,9,  -999.00,9, -999.000,9, -999.000,9,     3.74,2,     0.09,     2.59,2,     0.01,     0.08,2,     0.01,     0.46,2,     0.01,  -999.00,9,  -999.00, -999.000,9, -999.000,9, -999.000,9, -999.000,9,   -999.0,9,   -999.0,9,   -999.0,9,-999.0000,     -999,9, -999.000,9,  -999.00,9, -999.000,9, -999.000,   -999.0,9,   -999.0, -999.000,9, -999.000, -999.000,9, -999.000,   -999.0,9,   -999.0, -999.000,9, -999.000,9, -999.000,9
  49NZ20140717,   P01,    64,  1,     36, X12J36,2,20140724,1503, 42.6777, 152.6898, 5305,     10.1,2,  16.5123,2,  16.50744,2,  32.6617,2,  32.6624,2,-999.0000,9,   262.54,2,   263.18,2,   91.587,   0.3515,2,    0.736,2,  -999.00,9,    0.556,1,    0.122,2,     3.53,2,     0.09,     2.46,2,     0.01,     0.08,2,     0.01,     0.44,2,     0.01,  -999.00,9,  -999.00,    2.772,2,    1.642,2,    0.301,2, -999.000,9,   1973.1,2,   2217.3,2,   -999.0,9,   7.9898,       25,2, -999.000,9,    66.33,2, -999.000,9, -999.000,   -999.0,9,   -999.0, -999.000,9, -999.000, -999.000,9, -999.000,   -999.0,9,   -999.0, -999.000,9, -999.000,9, -999.000,9
  49NZ20140717,   P01,    64,  1,     35, X12J35,2,20140724,1503, 42.6777, 152.6898, 5305,     49.8,2,   3.4787,2,   3.47587,2,  32.9102,2,  32.9124,2,-999.0000,9,   339.26,2,   338.28,2,   96.942,   0.1242,2,    0.417,2,  -999.00,9,    1.184,1,    0.000,2,    22.26,2,     0.09,    17.73,2,     0.03,     0.27,2,     0.01,     1.68,2,     0.01,  -999.00,9,  -999.00,    5.511,2,    2.962,2,    0.518,2, -999.000,9,   2109.1,6,   2228.4,2,   -999.0,9,   7.7131,       25,2, -999.000,9,    51.31,2, -999.000,9, -999.000,   -999.0,9,   -999.0, -999.000,9, -999.000, -999.000,9, -999.000,   -999.0,9,   -999.0, -999.000,9, -999.000,9, -999.000,9
  49NZ20140717,   P01,    64,  1,     34, X12J34,2,20140724,1503, 42.6777, 152.6898, 5305,    101.5,2,   1.5094,2,   1.50904,2,  33.0785,2,  33.0773,2,-999.0000,9,   295.82,2,   296.50,2,   99.346,   0.0262,2,    0.043,2,  -999.00,9,    1.439,1,    0.000,2,    45.87,2,     0.10,    25.71,2,     0.04,     0.01,2,     0.01,     2.02,2,     0.01,  -999.00,9,  -999.00,    5.457,2,    2.919,2,    0.530,2, -999.000,9,   2161.2,2,   2240.9,2,   -999.0,9,   7.5826,       25,2, -999.000,9,    50.91,2, -999.000,9, -999.000,   -999.0,9,   -999.0, -999.000,9, -999.000, -999.000,9, -999.000,   -999.0,9,   -999.0, -999.000,9, -999.000,9, -999.000,9
  49NZ20140717,   P01,    64,  1,     33, X12J33,2,20140724,1503, 42.6777, 152.6898, 5305,    150.1,2,   1.6804,2,   1.68092,2,  33.3997,2,  33.4000,2,-999.0000,9,   203.25,2,   202.52,2,   99.152,   0.0341,2,    0.019,2,  -999.00,9,    2.107,1,    0.000,2,    66.67,2,     0.12,    31.97,2,     0.04,     0.01,2,     0.01,     2.44,2,     0.01,  -999.00,9,  -999.00,    4.423,2,    2.370,2,    0.376,2, -999.000,9,   2233.1,2,   2263.6,2,   -999.0,9,   7.4371,       25,6, -999.000,9,    46.39,2, -999.000,9, -999.000,   -999.0,9,   -999.0, -999.000,9, -999.000, -999.000,9, -999.000,   -999.0,9,   -999.0, -999.000,9, -999.000,9, -999.000,9
  49NZ20140717,   P01,    64,  1,     32, X12J32,2,20140724,1503, 42.6777, 152.6898, 5305,    199.8,2,   2.8858,2,   2.88474,2,  33.6376,2,  33.6367,2,-999.0000,9,   149.24,2,   148.74,2,   99.266,   0.0295,2,    0.011,2,  -999.00,9,    2.283,1,    0.000,2,    75.40,2,     0.12,    34.93,2,     0.05,     0.01,2,     0.01,     2.59,2,     0.01,  -999.00,9,  -999.00,    3.512,2,    1.881,2,    0.283,2, -999.000,9,   2260.9,2,   2279.2,6,   -999.0,9,   7.3949,       25,2, -999.000,9,    45.86,2, -999.000,9, -999.000,   -999.0,9,   -999.0, -999.000,9, -999.000, -999.000,9, -999.000,   -999.0,9,   -999.0, -999.000,9, -999.000,9, -999.000,9
  49NZ20140717,   P01,    64,  1,     31, X12J31,2,20140724,1503, 42.6777, 152.6898, 5305,    249.8,2,   2.8647,2,   2.86311,2,  33.7416,2,  33.7396,2,-999.0000,9,   102.54,2,   103.17,2,   99.268,   0.0294,2,    0.007,2,  -999.00,9,    2.523,1,    0.000,2,    89.12,2,     0.13,    38.95,2,     0.05,     0.01,2,     0.01,     2.84,2,     0.01,  -999.00,9,  -999.00,    2.922,2,    1.541,2,    0.226,2, -999.000,9,   2295.4,2,   2292.1,2,   -999.0,9,   7.3205,       25,2, -999.000,9,    42.35,2, -999.000,9, -999.000,   -999.0,9,   -999.0, -999.000,9, -999.000, -999.000,9, -999.000,   -999.0,9,   -999.0, -999.000,9, -999.000,9, -999.000,9
  49NZ20140717,   P01,    64,  1,     30, X12J30,2,20140724,1503, 42.6777, 152.6898, 5305,    330.8,2,   3.1597,2,   3.15998,2,  33.8982,2,  33.8965,2,-999.0000,9,    57.88,2,    58.62,2,   99.661,   0.0136,2,    0.009,2,  -999.00,9,    2.686,1,    0.000,2,   102.31,2,     0.14,    42.20,2,     0.05,     0.00,2,     0.01,     3.03,2,     0.01,  -999.00,9,  -999.00,    2.117,2,    1.099,2,    0.165,2, -999.000,9,   2326.7,2,   2306.5,2,   -999.0,9,   7.2754,       25,2, -999.000,9,    41.81,2, -999.000,9, -999.000,   -999.0,9,   -999.0, -999.000,9, -999.000, -999.000,9, -999.000,   -999.0,9,   -999.0, -999.000,9, -999.000,9, -999.000,9
  49NZ20140717,   P01,    64,  1,     29, X12J29,2,20140724,1503, 42.6777, 152.6898, 5305,    431.8,2,   3.2465,2,   3.26978,2,  34.0553,2,  34.0639,2,-999.0000,9,    35.06,2,    29.28,2,   99.724,   0.0111,2,    0.009,2,  -999.00,9,    2.845,1,    0.000,2,   116.04,2,     0.15,    43.74,2,     0.06,     0.00,2,     0.01,     3.12,2,     0.01,  -999.00,9,  -999.00,    1.263,2,    0.637,2,    0.083,2, -999.000,9,   2349.4,2,   2325.2,2,   -999.0,9,   7.2615,       25,2, -999.000,9,    41.29,2, -999.000,9, -999.000,   -999.0,9,   -999.0, -999.000,9, -999.000, -999.000,9, -999.000,   -999.0,9,   -999.0, -999.000,9, -999.000,9, -999.000,9
  49NZ20140717,   P01,    64,  1,     28, X12J28,2,20140724,1503, 42.6777, 152.6898, 5305,    530.9,2,   3.3214,2,   3.32113,2,  34.1722,2,  34.1717,2,-999.0000,9,    17.44,2,    17.32,2,   99.864,   0.0054,2,    0.008,2,  -999.00,9,    2.890,1,    0.000,2,   126.31,2,     0.15,    44.36,2,     0.06,     0.00,2,     0.01,     3.15,2,     0.01,  -999.00,9,  -999.00,    0.778,2,    0.383,2,    0.047,2, -999.000,9,   2364.3,2,   2342.0,2,   -999.0,9,   7.2630,       25,2, -999.000,9,    42.49,2, -999.000,9, -999.000,   -999.0,9,   -999.0, -999.000,9, -999.000, -999.000,9, -999.000,   -999.0,9,   -999.0, -999.000,9, -999.000,9, -999.000,9
  49NZ20140717,   P01,    64,  1,     27, X12J27,2,20140724,1503, 42.6777, 152.6898, 5305,    629.7,2,   3.1476,2,   3.14740,2,  34.2540,2,  34.2536,2,-999.0000,9,    16.42,2,    15.98,2,   99.857,   0.0057,2,    0.007,2,  -999.00,9,    2.906,1,    0.000,2,   135.34,2,     0.16,    44.29,2,     0.06,     0.00,2,     0.01,     3.16,2,     0.01,  -999.00,9,  -999.00,    0.502,2,    0.238,2,    0.026,2, -999.000,9,   2373.0,2,   2353.3,2,   -999.0,9,   7.2776,       25,2, -999.000,9,    38.20,2, -999.000,9, -999.000,   -999.0,9,   -999.0, -999.000,9, -999.000, -999.000,9, -999.000,   -999.0,9,   -999.0, -999.000,9, -999.000,9, -999.000,9
  49NZ20140717,   P01,    64,  1,     26, X12J26,2,20140724,1503, 42.6777, 152.6898, 5305,    730.2,2,   2.9917,2,   2.99138,2,  34.3039,2,  34.3037,2,-999.0000,9,    18.00,2,    17.58,2,   99.888,   0.0045,2,    0.007,2,  -999.00,9,    2.957,1,    0.000,2,   141.55,2,     0.16,    44.20,2,     0.06,     0.00,2,     0.01,     3.16,2,     0.01,  -999.00,9,  -999.00,    0.377,2,    0.176,2,    0.019,2, -999.000,9,   2378.0,6,   2360.6,2,   -999.0,9,   7.2880,       25,2, -999.000,9,    40.60,2, -999.000,9, -999.000,   -999.0,9,   -999.0, -999.000,9, -999.000, -999.000,9, -999.000,   -999.0,9,   -999.0, -999.000,9, -999.000,9, -999.000,9
  49NZ20140717,   P01,    64,  1,     25, X12J25,2,20140724,1503, 42.6777, 152.6898, 5305,    829.8,2,   2.8088,2,   2.80816,2,  34.3494,2,  34.3494,2,-999.0000,9,    22.35,2,    22.20,2,   99.875,   0.0050,2,    0.006,2,  -999.00,9,    2.902,1,    0.000,2,   146.87,2,     0.17,    43.81,2,     0.06,     0.00,2,     0.01,     3.13,2,     0.01,  -999.00,9,  -999.00,    0.306,2,    0.141,2,    0.014,2, -999.000,9,   2379.2,2,   2371.8,2,   -999.0,9,   7.3029,       25,2, -999.000,9,    38.20,2, -999.000,9, -999.000,   -999.0,9,   -999.0, -999.000,9, -999.000, -999.000,9, -999.000,   -999.0,9,   -999.0, -999.000,9, -999.000,9, -999.000,9
  49NZ20140717,   P01,    64,  1,     24, X12J24,2,20140724,1503, 42.6777, 152.6898, 5305,    930.5,2,   2.6513,2,   2.65110,2,  34.3892,2,  34.3894,2,-999.0000,9,    28.52,2,    28.25,2,   99.886,   0.0046,2,    0.006,2,  -999.00,9,    2.940,1,    0.000,2,   151.14,2,     0.17,    43.45,2,     0.05,     0.00,2,     0.01,     3.11,2,     0.01,  -999.00,9,  -999.00,    0.261,2,    0.119,2,    0.014,2, -999.000,9,   2377.9,2,   2377.1,2,   -999.0,9,   7.3196,       25,6, -999.000,9,    38.24,2, -999.000,9, -999.000,   -999.0,9,   -999.0, -999.000,9, -999.000, -999.000,9, -999.000,   -999.0,9,   -999.0, -999.000,9, -999.000,9, -999.000,9
  49NZ20140717,   P01,    64,  1,     23, X12J23,2,20140724,1503, 42.6777, 152.6898, 5305,   1070.4,2,   2.4687,2,   2.46866,2,  34.4384,2,  34.4383,2,-999.0000,9,    34.44,2,    34.28,2,   99.933,   0.0027,2,    0.005,2,  -999.00,9,    2.908,1,    0.000,2,   156.62,2,     0.17,    43.16,2,     0.05,     0.00,2,     0.01,     3.08,2,     0.01,  -999.00,9,  -999.00,    0.188,2,    0.086,2,    0.011,2, -999.000,9,   2381.1,2,   2385.9,2,   -999.0,9,   7.3377,       25,2, -999.000,9,    38.80,2, -999.000,9, -999.000,   -999.0,9,   -999.0, -999.000,9, -999.000, -999.000,9, -999.000,   -999.0,9,   -999.0, -999.000,9, -999.000,9, -999.000,9
  49NZ20140717,   P01,    64,  1,     22, X12J22,2,20140724,1503, 42.6777, 152.6898, 5305,   1270.5,2,   2.2888,2,   2.28862,2,  34.4883,2,  34.4888,2,-999.0000,9,    43.16,2,    43.26,2,   99.933,   0.0027,2,    0.004,2,  -999.00,9,    2.926,1,    0.000,2,   160.96,2,     0.17,    42.73,2,     0.05,     0.00,2,     0.01,     3.05,2,     0.01,  -999.00,9,  -999.00,    0.127,2,    0.056,2,    0.007,2, -999.000,9,   2380.7,2,   2394.6,6,   -999.0,9,   7.3612,       25,2, -999.000,9,    39.69,2, -999.000,9, -999.000,   -999.0,9,   -999.0, -999.000,9, -999.000, -999.000,9, -999.000,   -999.0,9,   -999.0, -999.000,9, -999.000,9, -999.000,9
  49NZ20140717,   P01,    64,  1,     21, X12J21,2,20140724,1503, 42.6777, 152.6898, 5305,   5330.0,2,   1.5555,2,   1.55532,2,  34.6893,2,  34.6898,2,-999.0000,9,   157.16,2,   157.23,2,   99.879,   0.0048,2,   -0.004,2,  -999.00,9,   -1.729,4,    0.000,2,  -999.00,9,  -999.00,  -999.00,9,  -999.00,  -999.00,9,  -999.00,  -999.00,9,  -999.00,  -999.00,9,  -999.00, -999.000,9, -999.000,9, -999.000,9, -999.000,9,   -999.0,9,   -999.0,9,   -999.0,9,-999.0000,     -999,9, -999.000,9,  -999.00,9, -999.000,9, -999.000,   -999.0,9,   -999.0, -999.000,9, -999.000, -999.000,9, -999.000,   -999.0,9,   -999.0, -999.000,9, -999.000,9, -999.000,9
  49NZ20140717,   P01,    64,  1,     20, X12J20,2,20140724,1503, 42.6777, 152.6898, 5305,   1670.3,2,   2.0569,2,   2.05679,2,  34.5625,2,  34.5626,2,-999.0000,9,    60.83,2,    60.79,2,   99.957,   0.0017,2,    0.002,2,  -999.00,9,    2.804,1,    0.000,2,   163.52,2,     0.18,    41.83,2,     0.05,     0.00,2,     0.01,     2.96,2,     0.01,  -999.00,9,  -999.00,    0.023,2,    0.011,2,    0.000,2, -999.000,9,   2378.8,2,   2405.5,2,   -999.0,9,   7.4041,       25,6, -999.000,9,    36.75,2, -999.000,9, -999.000,   -999.0,9,   -999.0, -999.000,9, -999.000, -999.000,9, -999.000,   -999.0,9,   -999.0, -999.000,9, -999.000,9, -999.000,9
  49NZ20140717,   P01,    64,  1,     19, X12J19,2,20140724,1503, 42.6777, 152.6898, 5305,   1870.3,2,   1.9372,2,   1.93715,2,  34.5901,2,  34.5904,2,-999.0000,9,    72.56,2,    72.90,2,   99.935,   0.0026,2,    0.001,2,  -999.00,9,    2.725,1,    0.000,2,   163.69,2,     0.18,    41.13,2,     0.05,     0.00,2,     0.01,     2.91,2,     0.01,  -999.00,9,  -999.00,    0.011,2,    0.007,2,    0.000,2, -999.000,9,   2374.8,2,   2410.9,2,   -999.0,9,   7.4282,       25,2, -999.000,9,    40.96,3, -999.000,9, -999.000,   -999.0,9,   -999.0, -999.000,9, -999.000, -999.000,9, -999.000,   -999.0,9,   -999.0, -999.000,9, -999.000,9, -999.000,9
  49NZ20140717,   P01,    64,  1,     18, X12J18,2,20140724,1503, 42.6777, 152.6898, 5305,   2070.2,2,   1.8271,2,   1.82711,2,  34.6098,2,  34.6100,2,-999.0000,9,    82.56,2,    82.60,2,   99.950,   0.0020,2,    0.001,2,  -999.00,9,    2.668,1,    0.000,2,   164.57,2,     0.18,    40.50,2,     0.05,     0.00,2,     0.01,     2.86,2,     0.01,  -999.00,9,  -999.00,    0.003,2,    0.001,2,    0.000,2, -999.000,9,   2370.6,2,   2411.7,2,   -999.0,9,   7.4486,       25,2, -999.000,9,    37.70,2, -999.000,9, -999.000,   -999.0,9,   -999.0, -999.000,9, -999.000, -999.000,9, -999.000,   -999.0,9,   -999.0, -999.000,9, -999.000,9, -999.000,9
  49NZ20140717,   P01,    64,  1,     17, X12J17,2,20140724,1503, 42.6777, 152.6898, 5305,   2270.9,2,   1.7308,2,   1.73073,2,  34.6279,2,  34.6283,2,-999.0000,9,    95.57,2,    95.60,2,   99.935,   0.0026,2,    0.000,2,  -999.00,9,    2.469,1,    0.000,2,   163.00,2,     0.18,    39.69,2,     0.05,     0.00,2,     0.01,     2.80,2,     0.01,  -999.00,9,  -999.00,    0.000,2,    0.000,2,    0.000,2, -999.000,9,   2363.8,2,   2412.9,2,   -999.0,9,   7.4754,       25,2, -999.000,9,    35.39,2, -999.000,9, -999.000,   -999.0,9,   -999.0, -999.000,9, -999.000, -999.000,9, -999.000,   -999.0,9,   -999.0, -999.000,9, -999.000,9, -999.000,9
  49NZ20140717,   P01,    64,  1,     16, X12J16,2,20140724,1503, 42.6777, 152.6898, 5305,   2470.3,2,   1.6588,2,   1.65884,2,  34.6413,2,  34.6414,2,-999.0000,9,   106.59,2,   106.55,2,   99.976,   0.0010,2,   -0.001,2,  -999.00,9,    2.472,1,    0.000,2,   161.23,2,     0.17,    39.03,2,     0.05,    -0.01,2,     0.01,     2.74,2,     0.01,  -999.00,9,  -999.00,    0.000,2,    0.000,2,    0.000,2, -999.000,9,   2357.9,6,   2415.2,2,   -999.0,9,   7.4964,       25,2, -999.000,9,    38.10,2, -999.000,9, -999.000,   -999.0,9,   -999.0, -999.000,9, -999.000, -999.000,9, -999.000,   -999.0,9,   -999.0, -999.000,9, -999.000,9, -999.000,9
  49NZ20140717,   P01,    64,  1,     15, X12J15,2,20140724,1503, 42.6777, 152.6898, 5305,   2669.5,2,   1.6111,2,   1.61116,2,  34.6502,2,  34.6506,2,-999.0000,9,   114.55,2,   114.44,2,   99.985,   0.0006,2,   -0.002,2,  -999.00,9,    2.460,1,    0.000,2,   159.92,2,     0.17,    38.54,2,     0.05,    -0.01,2,     0.01,     2.70,2,     0.01,  -999.00,9,  -999.00,    0.000,2,    0.000,2,    0.000,2, -999.000,9,   2352.1,2,   2417.0,2,   -999.0,9,   7.5102,       25,2, -999.000,9,    37.15,2, -999.000,9, -999.000,   -999.0,9,   -999.0, -999.000,9, -999.000, -999.000,9, -999.000,   -999.0,9,   -999.0, -999.000,9, -999.000,9, -999.000,9
  49NZ20140717,   P01,    64,  1,     14, X12J14,2,20140724,1503, 42.6777, 152.6898, 5305,   2870.1,2,   1.5654,2,   1.56545,2,  34.6584,2,  34.6589,2,-999.0000,9,   122.55,2,   122.14,2,   99.989,   0.0004,2,   -0.002,2,  -999.00,9,    2.400,1,    0.000,2,   158.30,2,     0.17,    38.10,2,     0.05,    -0.01,2,     0.01,     2.67,2,     0.01,  -999.00,9,  -999.00,    0.000,2,    0.002,2,    0.000,2, -999.000,9,   2348.0,2,   2417.8,2,   -999.0,9,   7.5244,       25,6, -999.000,9,    36.10,2, -999.000,9, -999.000,   -999.0,9,   -999.0, -999.000,9, -999.000, -999.000,9, -999.000,   -999.0,9,   -999.0, -999.000,9, -999.000,9, -999.000,9
  49NZ20140717,   P01,    64,  1,     13, X12113,2,20140724,1503, 42.6777, 152.6898, 5305,   3079.4,2,   1.5272,2,   1.52712,2,  34.6651,2,  34.6652,2,-999.0000,9,   129.50,2,   129.21,2,   99.993,   0.0003,2,   -0.003,2,  -999.00,9,    2.304,1,    0.000,2,   156.36,2,     0.17,    37.56,2,     0.05,    -0.01,2,     0.01,     2.63,2,     0.01,  -999.00,9,  -999.00,    0.000,2,    0.000,2,    0.000,2, -999.000,9,   2342.2,2,   2417.9,2,   -999.0,9,   7.5361,       25,2, -999.000,9,    38.39,2, -999.000,9, -999.000,   -999.0,9,   -999.0, -999.000,9, -999.000, -999.000,9, -999.000,   -999.0,9,   -999.0, -999.000,9, -999.000,9, -999.000,9
  49NZ20140717,   P01,    64,  1,     12, X12J12,2,20140724,1503, 42.6777, 152.6898, 5305,   3329.5,2,   1.5006,2,   1.50058,2,  34.6710,2,  34.6709,2,-999.0000,9,   135.93,2,   135.68,2,  100.002,  -0.0001,2,   -0.003,2,  -999.00,9,    2.236,1,    0.000,2,   154.83,2,     0.17,    37.18,2,     0.05,    -0.01,2,     0.01,     2.60,2,     0.01,  -999.00,9,  -999.00,    0.000,2,    0.000,2,    0.000,2, -999.000,9,   2337.9,2,   2416.9,6,   -999.0,9,   7.5486,       25,2, -999.000,9,    37.55,2, -999.000,9, -999.000,   -999.0,9,   -999.0, -999.000,9, -999.000, -999.000,9, -999.000,   -999.0,9,   -999.0, -999.000,9, -999.000,9, -999.000,9
  49NZ20140717,   P01,    64,  1,     11, X12J11,2,20140724,1503, 42.6777, 152.6898, 5305,   3579.3,2,   1.4767,2,   1.47680,2,  34.6763,2,  34.6765,2,-999.0000,9,   141.87,2,   141.53,2,  100.000,   0.0000,2,   -0.003,2,  -999.00,9,    2.323,1,    0.000,2,   153.60,2,     0.17,    36.61,2,     0.05,     0.00,2,     0.01,     2.56,2,     0.01,  -999.00,9,  -999.00,    0.000,2,    0.000,2,    0.000,2, -999.000,9,   2334.2,2,   2415.5,2,   -999.0,9,   7.5576,       25,2, -999.000,9,    38.47,2, -999.000,9, -999.000,   -999.0,9,   -999.0, -999.000,9, -999.000, -999.000,9, -999.000,   -999.0,9,   -999.0, -999.000,9, -999.000,9, -999.000,9
  49NZ20140717,   P01,    64,  1,     10, X12J10,2,20140724,1503, 42.6777, 152.6898, 5305,   3829.8,2,   1.4654,2,   1.46535,2,  34.6801,2,  34.6801,2,-999.0000,9,   146.74,2,   146.34,2,   99.987,   0.0005,2,   -0.003,2,  -999.00,9,    2.203,1,    0.000,2,   152.40,2,     0.17,    36.44,2,     0.05,     0.00,2,     0.01,     2.54,2,     0.01,  -999.00,9,  -999.00,    0.000,2,    0.000,2,    0.000,2, -999.000,9,   2330.9,2,   2417.0,2,   -999.0,9,   7.5659,       25,2, -999.000,9,    39.62,2, -999.000,9, -999.000,   -999.0,9,   -999.0, -999.000,9, -999.000, -999.000,9, -999.000,   -999.0,9,   -999.0, -999.000,9, -999.000,9, -999.000,9