BOTTLE,20230904JAMSTECRIGC
EXPOCODE,SECT,STNNBR,CASTNO,SAMPNO,BTLNBR,BTLNBR_FLAG_W,DATE,TIME,LATITUDE,LONGITUDE,DEPTH,CTDPRS,CTDPRS_FLAG_W,CTDTMP,CTDTMP_FLAG_W,SBE35,SBE35_FLAG_W,CTDSAL,CTDSAL_FLAG_W,SALNTY,SALNTY_FLAG_W,DNSSAL,DNSSAL_FLAG_W,CTDOXY,CTDOXY_FLAG_W,OXYGEN,OXYGEN_FLAG_W,XMISS,XMISSCP,XMISS_FLAG_W,FLUOR,FLUOR_FLAG_W,CHLORA,CHLORA_FLAG_W,CDOM,CDOM_FLAG_W,PAR,PAR_FLAG_W,SILCAT,SILCAT_FLAG_W,SILUNC,NITRAT,NITRAT_FLAG_W,NRAUNC,NITRIT,NITRIT_FLAG_W,NRIUNC,PHSPHT,PHSPHT_FLAG_W,PHPUNC,AMMONIA,AMMONIA_FLAG_W,NH4UNC,CFC-11,CFC-11_FLAG_W,CFC-12,CFC-12_FLAG_W,CFC113,CFC113_FLAG_W,SF6,SF6_FLAG_W,TCARBN,TCARBN_FLAG_W,ALKALI,ALKALI_FLAG_W,ALKALI_POT,ALKALI_POT_FLAG_W,PH_TOT,PH_TMP,PH_TOT_FLAG_W,CALCIUM,CALCIUM_FLAG_W,DOC,DOC_FLAG_W,DELC13,DELC13_FLAG_W,C13ERR,DELC14,DELC14_FLAG_W,C14ERR,CS-134,CS-134_FLAG_W,CS134ER,CS-137,CS-137_FLAG_W,CS137ER,I-129,I-129_FLAG_W,I-129ER,CDOM-325,CDOM-325_FLAG_W,CDOM-370,CDOM-370_FLAG_W,CDOM-443,CDOM-443_FLAG_W
,,,,,,,,UTC,DEG,DEG,METERS,DBAR,,ITS-90,,ITS-90,,PSS-78,,PSS-78,,G/KG,,UMOL/KG,,UMOL/KG,,%TRANS,/METER,,MG/CUM,,MG/CUM,,MG/CUM,,UE/SQM/S,,UMOL/KG,,UMOL/KG,UMOL/KG,,UMOL/KG,UMOL/KG,,UMOL/KG,UMOL/KG,,UMOL/KG,UMOL/KG,,UMOL/KG,PMOL/KG,,PMOL/KG,,PMOL/KG,,FMOL/KG,,UMOL/KG,,UMOL/KG,,UMOL/KG,,,DEG C,,MMOL/KG,,UMOL/KG,,/MILLE,,/MILLE,/MILLE,,/MILLE,MBQ/KG,,MBQ/KG,MBQ/KG,,MBQ/KG,,,,/METER,,/METER,,/METER,
  49NZ20140717,   P01,   120,  1,      0,   -999,9,20140813,0715, 46.9963,-153.6173, 5228,   -999.0,9,-999.0000,9,-999.00000,9,-999.0000,9,  32.6553,2,-999.0000,9,  -999.00,9,  -999.00,9, -999.000,-999.0000,9, -999.000,9,  -999.00,9, -999.000,9, -999.000,9,     1.40,2,     0.11,     5.14,2,     0.02,     0.09,2,     0.01,     0.68,2,     0.01,  -999.00,9,  -999.00, -999.000,9, -999.000,9, -999.000,9, -999.000,9,   -999.0,9,   -999.0,9,   -999.0,9,-999.0000,     -999,9, -999.000,9,  -999.00,9, -999.000,9, -999.000,   -999.0,9,   -999.0, -999.000,9, -999.000, -999.000,9, -999.000,   -999.0,9,   -999.0, -999.000,9, -999.000,9, -999.000,9
  49NZ20140717,   P01,   120,  1,     36, X12J36,2,20140813,0715, 46.9963,-153.6173, 5228,      9.6,2,  13.9072,2,  13.90749,2,  32.6350,2,  32.6358,2,  32.7899,2,   266.52,2,   266.53,2,   93.435,   0.2716,2,    0.727,2,  -999.00,9,    0.233,1,    0.287,2,     1.40,2,     0.11,     5.38,2,     0.05,     0.09,2,     0.01,     0.71,2,     0.01,  -999.00,9,  -999.00, -999.000,9, -999.000,9, -999.000,9, -999.000,9,   1992.1,2,   2201.8,2,   -999.0,9,   7.9132,       25,6, -999.000,9,    66.94,2, -999.000,9, -999.000,   -999.0,9,   -999.0, -999.000,9, -999.000, -999.000,9, -999.000,   -999.0,9,   -999.0, -999.000,9, -999.000,9, -999.000,9
  49NZ20140717,   P01,   120,  1,     35, X12J35,2,20140813,0715, 46.9963,-153.6173, 5228,     50.4,2,   8.1878,2,   8.17845,2,  32.9726,2,  32.9734,2,  33.1277,2,   300.80,2,   301.50,2,   98.222,   0.0718,2,    0.312,2,  -999.00,9,    0.660,1,    0.000,2,    16.50,2,     0.09,    10.26,2,     0.02,     0.07,2,     0.01,     1.06,2,     0.01,  -999.00,9,  -999.00, -999.000,9, -999.000,9, -999.000,9, -999.000,9,   2051.2,6,   2213.5,2,   -999.0,9,   7.8000,       25,2, -999.000,9,    55.47,2, -999.000,9, -999.000,   -999.0,9,   -999.0, -999.000,9, -999.000, -999.000,9, -999.000,   -999.0,9,   -999.0, -999.000,9, -999.000,9, -999.000,9
  49NZ20140717,   P01,   120,  1,     34, X12J34,2,20140813,0715, 46.9963,-153.6173, 5228,    100.5,2,   6.6419,2,   6.64893,2,  33.0763,2,  33.0682,2,  33.2234,2,   286.70,2,   287.03,2,   99.589,   0.0165,2,    0.066,2,  -999.00,9,    0.513,1,    0.000,2,    19.03,2,     0.09,    14.09,2,     0.03,     0.03,2,     0.01,     1.21,2,     0.01,  -999.00,9,  -999.00, -999.000,9, -999.000,9, -999.000,9, -999.000,9,   2073.3,2,   2214.7,2,   -999.0,9,   7.7490,       25,2, -999.000,9,    54.95,2, -999.000,9, -999.000,   -999.0,9,   -999.0, -999.000,9, -999.000, -999.000,9, -999.000,   -999.0,9,   -999.0, -999.000,9, -999.000,9, -999.000,9
  49NZ20140717,   P01,   120,  1,     33, X12J33,2,20140813,0715, 46.9963,-153.6173, 5228,    149.9,2,   6.2979,2,   6.29811,2,  33.7857,2,  33.7862,2,  33.9477,2,   197.25,2,   197.02,2,   99.626,   0.0150,2,    0.027,2,  -999.00,9,    1.722,1,    0.000,2,    39.51,2,     0.10,    24.45,2,     0.04,     0.02,2,     0.01,     1.78,2,     0.01,  -999.00,9,  -999.00, -999.000,9, -999.000,9, -999.000,9, -999.000,9,   2171.9,2,   2264.3,2,   -999.0,9,   7.6015,       25,6, -999.000,9,    48.57,2, -999.000,9, -999.000,   -999.0,9,   -999.0, -999.000,9, -999.000, -999.000,9, -999.000,   -999.0,9,   -999.0, -999.000,9, -999.000,9, -999.000,9
  49NZ20140717,   P01,   120,  1,     32, X12J32,2,20140813,0715, 46.9963,-153.6173, 5228,    198.8,2,   5.7027,2,   5.70508,2,  33.8242,2,  33.8245,2,  33.9892,2,   164.77,2,   164.70,2,   99.674,   0.0131,2,    0.022,2,  -999.00,9,    2.065,1,    0.000,2,    51.17,2,     0.11,    28.60,2,     0.04,     0.01,2,     0.01,     2.08,2,     0.01,  -999.00,9,  -999.00, -999.000,9, -999.000,9, -999.000,9, -999.000,9,   2205.7,2,   2272.4,6,   -999.0,9,   7.5318,       25,2, -999.000,9,    47.99,2, -999.000,9, -999.000,   -999.0,9,   -999.0, -999.000,9, -999.000, -999.000,9, -999.000,   -999.0,9,   -999.0, -999.000,9, -999.000,9, -999.000,9
  49NZ20140717,   P01,   120,  1,     31, X12J31,2,20140813,0715, 46.9963,-153.6173, 5228,    250.0,2,   5.0140,2,   5.01445,2,  33.8276,2,  33.8281,2,  33.9918,2,   140.68,2,   140.90,2,   99.806,   0.0078,2,    0.021,2,  -999.00,9,    2.350,1,    0.000,2,    61.54,2,     0.11,    32.14,2,     0.04,     0.01,2,     0.01,     2.32,2,     0.01,  -999.00,9,  -999.00, -999.000,9, -999.000,9, -999.000,9, -999.000,9,   2233.9,2,   2280.8,2,   -999.0,9,   7.4684,       25,2, -999.000,9,    49.84,3, -999.000,9, -999.000,   -999.0,9,   -999.0, -999.000,9, -999.000, -999.000,9, -999.000,   -999.0,9,   -999.0, -999.000,9, -999.000,9, -999.000,9
  49NZ20140717,   P01,   120,  1,     30, X12J30,2,20140813,0715, 46.9963,-153.6173, 5228,    300.8,2,   4.6115,2,   4.61178,2,  33.8621,2,  33.8617,2,  34.0268,2,   115.52,2,   115.83,2,   99.739,   0.0105,2,    0.023,2,  -999.00,9,    2.467,1,    0.000,2,    70.91,2,     0.12,    35.11,2,     0.05,     0.01,2,     0.01,     2.52,2,     0.01,  -999.00,9,  -999.00, -999.000,9, -999.000,9, -999.000,9, -999.000,9,   2257.9,2,   2287.3,2,   -999.0,9,   7.4165,       25,2, -999.000,9,    45.93,2, -999.000,9, -999.000,   -999.0,9,   -999.0, -999.000,9, -999.000, -999.000,9, -999.000,   -999.0,9,   -999.0, -999.000,9, -999.000,9, -999.000,9
  49NZ20140717,   P01,   120,  1,     29, X12J29,2,20140813,0715, 46.9963,-153.6173, 5228,    401.6,2,   4.1706,2,   4.17021,2,  33.9580,2,  33.9578,2,  34.1244,2,    75.57,2,    76.08,2,   99.826,   0.0070,2,    0.022,2,  -999.00,9,    2.775,1,    0.000,2,    87.35,2,     0.13,    39.17,2,     0.05,     0.01,2,     0.01,     2.80,2,     0.01,  -999.00,9,  -999.00, -999.000,9, -999.000,9, -999.000,9, -999.000,9,   2295.5,2,   2303.8,2,   -999.0,9,   7.3480,       25,2, -999.000,9,    44.10,2, -999.000,9, -999.000,   -999.0,9,   -999.0, -999.000,9, -999.000, -999.000,9, -999.000,   -999.0,9,   -999.0, -999.000,9, -999.000,9, -999.000,9
  49NZ20140717,   P01,   120,  1,     28, X12J28,2,20140813,0715, 46.9963,-153.6173, 5228,    500.1,2,   4.0010,2,   4.00179,2,  34.0495,2,  34.0495,2,  34.2180,2,    53.93,2,    54.61,2,   99.886,   0.0046,2,    0.022,2,  -999.00,9,    2.915,1,    0.000,2,    98.62,2,     0.14,    40.95,2,     0.21,     0.01,2,     0.01,     2.92,2,     0.01,  -999.00,9,  -999.00, -999.000,9, -999.000,9, -999.000,9, -999.000,9,   2317.9,2,   2317.6,2,   -999.0,9,   7.3255,       25,2, -999.000,9,  -999.00,9, -999.000,9, -999.000,   -999.0,9,   -999.0, -999.000,9, -999.000, -999.000,9, -999.000,   -999.0,9,   -999.0, -999.000,9, -999.000,9, -999.000,9
  49NZ20140717,   P01,   120,  1,     27, X12J27,2,20140813,0715, 46.9963,-153.6173, 5228,    600.3,2,   3.8178,2,   3.81722,2,  34.1551,2,  34.1545,2,  34.3255,2,    34.46,2,    35.00,2,   99.871,   0.0052,2,    0.022,2,  -999.00,9,    2.955,1,    0.000,2,   111.08,2,     0.14,    42.38,2,     0.05,     0.01,2,     0.01,     3.02,2,     0.01,  -999.00,9,  -999.00, -999.000,9, -999.000,9, -999.000,9, -999.000,9,   2339.4,2,   2333.5,2,   -999.0,9,   7.3090,       25,2, -999.000,9,    40.55,2, -999.000,9, -999.000,   -999.0,9,   -999.0, -999.000,9, -999.000, -999.000,9, -999.000,   -999.0,9,   -999.0, -999.000,9, -999.000,9, -999.000,9
  49NZ20140717,   P01,   120,  1,     26, X12J26,2,20140813,0715, 46.9963,-153.6173, 5228,    699.6,2,   3.5806,2,   3.58044,2,  34.2291,2,  34.2287,2,  34.4014,2,    27.67,2,    27.85,2,   99.908,   0.0037,2,    0.021,2,  -999.00,9,    3.108,1,    0.000,2,   121.33,2,     0.15,    43.08,2,     0.05,     0.01,2,     0.01,     3.07,2,     0.01,  -999.00,9,  -999.00, -999.000,9, -999.000,9, -999.000,9, -999.000,9,   2353.2,6,   2347.3,2,   -999.0,9,   7.3089,       25,2, -999.000,9,    43.89,2, -999.000,9, -999.000,   -999.0,9,   -999.0, -999.000,9, -999.000, -999.000,9, -999.000,   -999.0,9,   -999.0, -999.000,9, -999.000,9, -999.000,9
  49NZ20140717,   P01,   120,  1,     25, X12J25,2,20140813,0715, 46.9963,-153.6173, 5228,    801.4,2,   3.3604,2,   3.36000,2,  34.2837,2,  34.2832,2,  34.4581,2,    24.81,2,    24.84,2,   99.895,   0.0042,2,    0.021,2,  -999.00,9,    3.073,1,    0.000,2,   128.84,2,     0.15,    43.23,2,     0.05,     0.01,2,     0.01,     3.09,2,     0.01,  -999.00,9,  -999.00, -999.000,9, -999.000,9, -999.000,9, -999.000,9,   2361.8,2,   2357.1,2,   -999.0,9,   7.3077,       25,2, -999.000,9,    41.28,2, -999.000,9, -999.000,   -999.0,9,   -999.0, -999.000,9, -999.000, -999.000,9, -999.000,   -999.0,9,   -999.0, -999.000,9, -999.000,9, -999.000,9
  49NZ20140717,   P01,   120,  1,     24, X12J24,2,20140813,0715, 46.9963,-153.6173, 5228,    901.5,2,   3.1593,2,   3.15926,2,  34.3302,2,  34.3298,2,  34.5049,2,    23.17,2,    23.04,2,   99.886,   0.0046,2,    0.021,2,  -999.00,9,    3.183,1,    0.000,2,   135.80,2,     0.16,    43.54,2,     0.05,     0.01,2,     0.01,     3.11,2,     0.01,  -999.00,9,  -999.00, -999.000,9, -999.000,9, -999.000,9, -999.000,9,   2372.2,2,   2366.8,2,   -999.0,9,   7.3116,       25,2, -999.000,9,    42.37,2, -999.000,9, -999.000,   -999.0,9,   -999.0, -999.000,9, -999.000, -999.000,9, -999.000,   -999.0,9,   -999.0, -999.000,9, -999.000,9, -999.000,9
  49NZ20140717,   P01,   120,  1,     23, X12J23,2,20140813,0715, 46.9963,-153.6173, 5228,   1000.0,2,   2.9976,2,   2.99734,2,  34.3661,2,  34.3658,2,  34.5418,2,    20.62,2,    20.19,2,   99.899,   0.0040,2,    0.020,2,  -999.00,9,    3.216,1,    0.000,2,   141.40,2,     0.16,    43.96,2,     0.06,     0.01,2,     0.01,     3.13,2,     0.01,  -999.00,9,  -999.00, -999.000,9, -999.000,9, -999.000,9, -999.000,9,   2377.3,2,   2373.2,2,   -999.0,9,   7.3102,       25,2, -999.000,9,    44.17,3, -999.000,9, -999.000,   -999.0,9,   -999.0, -999.000,9, -999.000, -999.000,9, -999.000,   -999.0,9,   -999.0, -999.000,9, -999.000,9, -999.000,9
  49NZ20140717,   P01,   120,  1,     22, X12J22,2,20140813,0715, 46.9963,-153.6173, 5228,   1200.0,2,   2.7041,2,   2.70396,2,  34.4251,2,  34.4255,2,  34.6018,2,    17.38,2,    16.42,2,   99.908,   0.0037,2,    0.020,2,  -999.00,9,    3.262,1,    0.000,2,   151.93,2,     0.17,    44.55,2,     0.06,     0.00,2,     0.01,     3.16,2,     0.01,  -999.00,9,  -999.00, -999.000,9, -999.000,9, -999.000,9, -999.000,9,   2391.3,2,   2387.3,6,   -999.0,9,   7.3097,       25,2, -999.000,9,    42.91,2, -999.000,9, -999.000,   -999.0,9,   -999.0, -999.000,9, -999.000, -999.000,9, -999.000,   -999.0,9,   -999.0, -999.000,9, -999.000,9, -999.000,9
  49NZ20140717,   P01,   120,  1,     21, X12J21,2,20140813,0715, 46.9963,-153.6173, 5228,   1399.8,2,   2.4533,2,   2.45306,2,  34.4764,2,  34.4761,2,  34.6519,2,    21.35,2,    20.56,2,   99.882,   0.0047,2,    0.019,2,  -999.00,9,    3.331,1,    0.000,2,   159.85,2,     0.17,    44.39,2,     0.06,     0.00,2,     0.01,     3.14,2,     0.01,  -999.00,9,  -999.00, -999.000,9, -999.000,9, -999.000,9, -999.000,9,   2396.1,2,   2395.9,2,   -999.0,9,   7.3237,       25,2, -999.000,9,    37.73,2, -999.000,9, -999.000,   -999.0,9,   -999.0, -999.000,9, -999.000, -999.000,9, -999.000,   -999.0,9,   -999.0, -999.000,9, -999.000,9, -999.000,9
  49NZ20140717,   P01,   120,  1,     20, X12J20,2,20140813,0715, 46.9963,-153.6173, 5228,   1601.3,2,   2.2598,2,   2.25967,2,  34.5180,2,  34.5184,2,  34.6955,2,    27.37,2,    27.16,2,   99.826,   0.0070,2,    0.018,2,  -999.00,9,    3.232,1,    0.000,2,   165.78,2,     0.18,    44.15,2,     0.06,     0.00,2,     0.01,     3.12,2,     0.01,  -999.00,9,  -999.00, -999.000,9, -999.000,9, -999.000,9, -999.000,9,   2397.3,2,   2405.0,2,   -999.0,9,   7.3374,       25,6, -999.000,9,    40.99,2, -999.000,9, -999.000,   -999.0,9,   -999.0, -999.000,9, -999.000, -999.000,9, -999.000,   -999.0,9,   -999.0, -999.000,9, -999.000,9, -999.000,9
  49NZ20140717,   P01,   120,  1,     19, X12J19,2,20140813,0715, 46.9963,-153.6173, 5228,   1799.6,2,   2.1065,2,   2.10635,2,  34.5522,2,  34.5520,2,  34.7304,2,    34.71,2,    34.38,2,   99.938,   0.0025,2,    0.017,2,  -999.00,9,    3.248,1,    0.000,2,   170.25,2,     0.18,    43.84,2,     0.06,     0.00,2,     0.01,     3.08,2,     0.01,  -999.00,9,  -999.00, -999.000,9, -999.000,9, -999.000,9, -999.000,9,   2399.6,2,   2409.4,2,   -999.0,9,   7.3548,       25,2, -999.000,9,    40.91,2, -999.000,9, -999.000,   -999.0,9,   -999.0, -999.000,9, -999.000, -999.000,9, -999.000,   -999.0,9,   -999.0, -999.000,9, -999.000,9, -999.000,9
  49NZ20140717,   P01,   120,  1,     18, X12J18,2,20140813,0715, 46.9963,-153.6173, 5228,   2000.1,2,   1.9716,2,   1.97160,2,  34.5811,2,  34.5812,2,  34.7614,2,    46.55,2,    46.36,2,   99.934,   0.0026,2,    0.016,2,  -999.00,9,    3.165,1,    0.000,2,   172.84,2,     0.18,    43.18,2,     0.05,     0.00,2,     0.01,     3.03,2,     0.01,  -999.00,9,  -999.00, -999.000,9, -999.000,9, -999.000,9, -999.000,9,   2395.1,2,   2416.2,2,   -999.0,9,   7.3796,       25,2, -999.000,9,    40.56,2, -999.000,9, -999.000,   -999.0,9,   -999.0, -999.000,9, -999.000, -999.000,9, -999.000,   -999.0,9,   -999.0, -999.000,9, -999.000,9, -999.000,9
  49NZ20140717,   P01,   120,  1,     17, X12J17,2,20140813,0715, 46.9963,-153.6173, 5228,   2200.8,2,   1.8674,2,   1.86721,2,  34.6024,2,  34.6024,2,  34.7851,2,    58.85,2,    58.88,2,   99.925,   0.0030,2,    0.014,2,  -999.00,9,    3.184,1,    0.000,2,   174.27,2,     0.18,    42.35,2,     0.05,     0.00,2,     0.01,     2.98,2,     0.01,  -999.00,9,  -999.00, -999.000,9, -999.000,9, -999.000,9, -999.000,9,   2389.9,2,   2416.9,2,   -999.0,9,   7.4054,       25,2, -999.000,9,    39.74,2, -999.000,9, -999.000,   -999.0,9,   -999.0, -999.000,9, -999.000, -999.000,9, -999.000,   -999.0,9,   -999.0, -999.000,9, -999.000,9, -999.000,9
  49NZ20140717,   P01,   120,  1,     16, X12J16,2,20140813,0715, 46.9963,-153.6173, 5228,   2400.7,2,   1.7762,2,   1.77621,2,  34.6193,2,  34.6194,2,  34.8010,2,    71.33,2,    71.31,2,   99.930,   0.0028,2,    0.013,2,  -999.00,9,    3.041,1,    0.000,2,   174.35,2,     0.18,    41.53,2,     0.05,     0.00,2,     0.01,     2.92,2,     0.01,  -999.00,9,  -999.00, -999.000,9, -999.000,9, -999.000,9, -999.000,9,   2381.9,6,   2419.8,2,   -999.0,9,   7.4295,       25,2, -999.000,9,  -999.00,9, -999.000,9, -999.000,   -999.0,9,   -999.0, -999.000,9, -999.000, -999.000,9, -999.000,   -999.0,9,   -999.0, -999.000,9, -999.000,9, -999.000,9
  49NZ20140717,   P01,   120,  1,     15, X12J15,2,20140813,0715, 46.9963,-153.6173, 5228,   2599.6,2,   1.7025,2,   1.70256,2,  34.6327,2,  34.6329,2,  34.8141,2,    83.63,2,    83.57,2,   99.951,   0.0019,2,    0.012,2,  -999.00,9,    2.925,1,    0.000,2,   173.33,2,     0.18,    40.79,2,     0.05,     0.00,2,     0.01,     2.86,2,     0.01,  -999.00,9,  -999.00, -999.000,9, -999.000,9, -999.000,9, -999.000,9,   2374.2,2,   2421.7,2,   -999.0,9,   7.4531,       25,2, -999.000,9,    36.67,2, -999.000,9, -999.000,   -999.0,9,   -999.0, -999.000,9, -999.000, -999.000,9, -999.000,   -999.0,9,   -999.0, -999.000,9, -999.000,9, -999.000,9
  49NZ20140717,   P01,   120,  1,     14, X12J14,2,20140813,0715, 46.9963,-153.6173, 5228,   2800.0,2,   1.6344,2,   1.63454,2,  34.6448,2,  34.6449,2,  34.8260,2,    95.88,2,    95.70,2,   99.979,   0.0008,2,    0.012,2,  -999.00,9,    2.874,1,    0.000,2,   172.12,2,     0.18,    40.04,2,     0.05,     0.00,2,     0.01,     2.80,2,     0.01,  -999.00,9,  -999.00, -999.000,9, -999.000,9, -999.000,9, -999.000,9,   2367.0,2,   2420.3,2,   -999.0,9,   7.4762,       25,6, -999.000,9,    40.28,2, -999.000,9, -999.000,   -999.0,9,   -999.0, -999.000,9, -999.000, -999.000,9, -999.000,   -999.0,9,   -999.0, -999.000,9, -999.000,9, -999.000,9
  49NZ20140717,   P01,   120,  1,     13, X12113,2,20140813,0715, 46.9963,-153.6173, 5228,   3000.2,2,   1.5877,2,   1.58766,2,  34.6538,2,  34.6540,2,  34.8366,2,   105.87,2,   105.75,2,   99.962,   0.0015,2,    0.011,2,  -999.00,9,    2.792,1,    0.000,2,   169.89,2,     0.18,    39.18,2,     0.05,     0.00,2,     0.01,     2.75,2,     0.01,  -999.00,9,  -999.00, -999.000,9, -999.000,9, -999.000,9, -999.000,9,   2360.5,2,   2425.4,2,   -999.0,9,   7.4951,       25,2, -999.000,9,    39.95,2, -999.000,9, -999.000,   -999.0,9,   -999.0, -999.000,9, -999.000, -999.000,9, -999.000,   -999.0,9,   -999.0, -999.000,9, -999.000,9, -999.000,9
  49NZ20140717,   P01,   120,  1,     12, X12J12,2,20140813,0715, 46.9963,-153.6173, 5228,   3250.8,2,   1.5404,2,   1.54038,2,  34.6633,2,  34.6633,2,  34.8451,2,   117.78,2,   117.73,2,   99.979,   0.0008,2,    0.010,2,  -999.00,9,    2.668,1,    0.000,2,   167.32,2,     0.18,    38.47,2,     0.05,     0.00,2,     0.01,     2.69,2,     0.01,  -999.00,9,  -999.00, -999.000,9, -999.000,9, -999.000,9, -999.000,9,   2352.8,2,   2422.2,6,   -999.0,9,   7.5174,       25,2, -999.000,9,    38.44,2, -999.000,9, -999.000,   -999.0,9,   -999.0, -999.000,9, -999.000, -999.000,9, -999.000,   -999.0,9,   -999.0, -999.000,9, -999.000,9, -999.000,9
  49NZ20140717,   P01,   120,  1,     11, X12J11,2,20140813,0715, 46.9963,-153.6173, 5228,   3500.7,2,   1.5068,2,   1.50680,2,  34.6706,2,  34.6708,2,  34.8524,2,   128.01,2,   127.99,2,   99.971,   0.0012,2,    0.009,2,  -999.00,9,    2.655,1,    0.000,2,   164.52,2,     0.18,    37.79,2,     0.05,     0.00,2,     0.01,     2.64,2,     0.01,  -999.00,9,  -999.00, -999.000,9, -999.000,9, -999.000,9, -999.000,9,   2345.3,2,   2421.5,2,   -999.0,9,   7.5383,       25,2, -999.000,9,    39.34,2, -999.000,9, -999.000,   -999.0,9,   -999.0, -999.000,9, -999.000, -999.000,9, -999.000,   -999.0,9,   -999.0, -999.000,9, -999.000,9, -999.000,9
  49NZ20140717,   P01,   120,  1,     10, X12J10,2,20140813,0715, 46.9963,-153.6173, 5228,   3750.8,2,   1.4895,2,   1.48957,2,  34.6761,2,  34.6760,2,  34.8576,2,   134.95,2,   134.97,2,   99.986,   0.0006,2,    0.009,2,  -999.00,9,    2.632,4,    0.000,2,   163.37,2,     0.18,    37.33,2,     0.05,     0.00,2,     0.01,     2.61,2,     0.01,  -999.00,9,  -999.00, -999.000,9, -999.000,9, -999.000,9, -999.000,9,   2341.1,2,   2424.9,2,   -999.0,9,   7.5512,       25,2, -999.000,9,    41.22,2, -999.000,9, -999.000,   -999.0,9,   -999.0, -999.000,9, -999.000, -999.000,9, -999.000,   -999.0,9,   -999.0, -999.000,9, -999.000,9, -999.000,9