BOTTLE,20230904JAMSTECRIGC
EXPOCODE,SECT,STNNBR,CASTNO,SAMPNO,BTLNBR,BTLNBR_FLAG_W,DATE,TIME,LATITUDE,LONGITUDE,DEPTH,CTDPRS,CTDPRS_FLAG_W,CTDTMP,CTDTMP_FLAG_W,SBE35,SBE35_FLAG_W,CTDSAL,CTDSAL_FLAG_W,SALNTY,SALNTY_FLAG_W,DNSSAL,DNSSAL_FLAG_W,CTDOXY,CTDOXY_FLAG_W,OXYGEN,OXYGEN_FLAG_W,XMISS,XMISSCP,XMISS_FLAG_W,FLUOR,FLUOR_FLAG_W,CHLORA,CHLORA_FLAG_W,CDOM,CDOM_FLAG_W,PAR,PAR_FLAG_W,SILCAT,SILCAT_FLAG_W,SILUNC,NITRAT,NITRAT_FLAG_W,NRAUNC,NITRIT,NITRIT_FLAG_W,NRIUNC,PHSPHT,PHSPHT_FLAG_W,PHPUNC,AMMONIA,AMMONIA_FLAG_W,NH4UNC,CFC-11,CFC-11_FLAG_W,CFC-12,CFC-12_FLAG_W,CFC113,CFC113_FLAG_W,SF6,SF6_FLAG_W,TCARBN,TCARBN_FLAG_W,ALKALI,ALKALI_FLAG_W,ALKALI_POT,ALKALI_POT_FLAG_W,PH_TOT,PH_TMP,PH_TOT_FLAG_W,CALCIUM,CALCIUM_FLAG_W,DOC,DOC_FLAG_W,DELC13,DELC13_FLAG_W,C13ERR,DELC14,DELC14_FLAG_W,C14ERR,CS-134,CS-134_FLAG_W,CS134ER,CS-137,CS-137_FLAG_W,CS137ER,I-129,I-129_FLAG_W,I-129ER,CDOM-325,CDOM-325_FLAG_W,CDOM-370,CDOM-370_FLAG_W,CDOM-443,CDOM-443_FLAG_W
,,,,,,,,UTC,DEG,DEG,METERS,DBAR,,ITS-90,,ITS-90,,PSS-78,,PSS-78,,G/KG,,UMOL/KG,,UMOL/KG,,%TRANS,/METER,,MG/CUM,,MG/CUM,,MG/CUM,,UE/SQM/S,,UMOL/KG,,UMOL/KG,UMOL/KG,,UMOL/KG,UMOL/KG,,UMOL/KG,UMOL/KG,,UMOL/KG,UMOL/KG,,UMOL/KG,PMOL/KG,,PMOL/KG,,PMOL/KG,,FMOL/KG,,UMOL/KG,,UMOL/KG,,UMOL/KG,,,DEG C,,MMOL/KG,,UMOL/KG,,/MILLE,,/MILLE,/MILLE,,/MILLE,MBQ/KG,,MBQ/KG,MBQ/KG,,MBQ/KG,,,,/METER,,/METER,,/METER,
  49NZ20140717,   P01,    39,  1,      0,   -999,9,20140717,1558, 42.8114, 145.5948, 1544,   -999.0,9,-999.0000,9,-999.00000,9,-999.0000,9,  32.2320,2,-999.0000,9,  -999.00,9,  -999.00,9, -999.000,-999.0000,9, -999.000,9,  -999.00,9, -999.000,9, -999.000,9,     2.35,2,     0.10,     0.52,2,     0.26,     0.02,2,     0.01,     0.37,2,     0.01,  -999.00,9,  -999.00, -999.000,9, -999.000,9, -999.000,9, -999.000,9,   -999.0,9,   -999.0,9,   -999.0,9,-999.0000,     -999,9, -999.000,9,  -999.00,9, -999.000,9, -999.000,   -999.0,9,   -999.0, -999.000,9, -999.000, -999.000,9, -999.000,   -999.0,9,   -999.0, -999.000,9, -999.000,9, -999.000,9
  49NZ20140717,   P01,    39,  1,     36, X12J36,2,20140717,1558, 42.8114, 145.5948, 1544,      9.9,2,   8.7416,2,   8.81192,2,  32.3623,2,  32.3615,2,-999.0000,9,   363.79,2,   381.16,2,   93.253,   0.2794,2,    0.407,2,  -999.00,9,    1.018,1,    0.261,2,     3.16,2,     0.09,     0.11,2,     0.01,     0.01,2,     0.01,     0.39,2,     0.01,  -999.00,9,  -999.00,    4.494,2,    2.734,2,    0.455,2,    2.650,2,   -999.0,9,   -999.0,9,   -999.0,9,-999.0000,     -999,9, -999.000,9,  -999.00,9, -999.000,9, -999.000,   -999.0,9,   -999.0, -999.000,9, -999.000, -999.000,9, -999.000,   -999.0,9,   -999.0, -999.000,9, -999.000,9, -999.000,9
  49NZ20140717,   P01,    39,  1,     35, X12J35,2,20140717,1558, 42.8114, 145.5948, 1544,     49.9,2,   2.1164,2,   2.11713,2,  32.9045,2,  32.9105,2,-999.0000,9,   321.50,2,   323.01,2,   97.087,   0.1182,2,    0.304,2,  -999.00,9,    1.249,1,    0.000,2,    30.57,2,     0.09,    19.64,2,     0.03,     0.39,2,     0.01,     1.76,2,     0.01,  -999.00,9,  -999.00,    5.292,2,    3.132,2,    0.525,2,    2.810,2,   -999.0,9,   -999.0,9,   -999.0,9,-999.0000,     -999,9, -999.000,9,  -999.00,9, -999.000,9, -999.000,   -999.0,9,   -999.0, -999.000,9, -999.000, -999.000,9, -999.000,   -999.0,9,   -999.0, -999.000,9, -999.000,9, -999.000,9
  49NZ20140717,   P01,    39,  1,     34, X12J34,2,20140717,1558, 42.8114, 145.5948, 1544,    100.6,2,   0.9805,2,   0.98157,2,  33.0363,2,  33.0408,2,-999.0000,9,   288.44,2,   287.27,2,   98.272,   0.0697,2,    0.164,2,  -999.00,9,    1.632,1,    0.000,2,    44.76,2,     0.10,    24.47,2,     0.04,     0.12,2,     0.01,     1.99,2,     0.01,  -999.00,9,  -999.00,    5.162,4,    3.029,4,    0.586,4,    3.060,4,   -999.0,9,   -999.0,9,   -999.0,9,-999.0000,     -999,9, -999.000,9,  -999.00,9, -999.000,9, -999.000,   -999.0,9,   -999.0, -999.000,9, -999.000, -999.000,9, -999.000,   -999.0,9,   -999.0, -999.000,9, -999.000,9, -999.000,9
  49NZ20140717,   P01,    39,  1,     33, X12J33,2,20140717,1558, 42.8114, 145.5948, 1544,    150.3,2,   0.8660,2,   0.86615,2,  33.1323,2,  33.1351,2,-999.0000,9,   264.35,2,   263.63,2,   98.473,   0.0616,2,    0.107,2,  -999.00,9,    1.873,1,    0.000,2,    50.91,2,     0.11,    26.04,2,     0.04,     0.07,2,     0.01,     2.10,2,     0.01,  -999.00,9,  -999.00, -999.000,5, -999.000,5, -999.000,5, -999.000,5,   -999.0,9,   -999.0,9,   -999.0,9,-999.0000,     -999,9, -999.000,9,  -999.00,9, -999.000,9, -999.000,   -999.0,9,   -999.0, -999.000,9, -999.000, -999.000,9, -999.000,   -999.0,9,   -999.0, -999.000,9, -999.000,9, -999.000,9
  49NZ20140717,   P01,    39,  1,     32, X12J32,2,20140717,1558, 42.8114, 145.5948, 1544,    200.6,2,   1.0940,2,   1.09149,2,  33.2258,2,  33.2280,2,-999.0000,9,   249.11,2,   248.30,2,   98.776,   0.0492,2,    0.028,2,  -999.00,9,    1.872,1,    0.000,2,    55.83,2,     0.11,    28.09,2,     0.04,     0.03,2,     0.01,     2.21,2,     0.01,  -999.00,9,  -999.00,    4.783,2,    2.822,2,    0.427,2,    2.890,2,   -999.0,9,   -999.0,9,   -999.0,9,-999.0000,     -999,9, -999.000,9,  -999.00,9, -999.000,9, -999.000,   -999.0,9,   -999.0, -999.000,9, -999.000, -999.000,9, -999.000,   -999.0,9,   -999.0, -999.000,9, -999.000,9, -999.000,9
  49NZ20140717,   P01,    39,  1,     31, X12J31,2,20140717,1558, 42.8114, 145.5948, 1544,    248.6,2,   1.6840,2,   1.65882,2,  33.3653,2,  33.3750,2,-999.0000,9,   217.97,2,   216.95,2,   98.869,   0.0455,2,    0.017,2,  -999.00,9,    1.906,1,    0.000,2,    62.68,2,     0.11,    30.48,2,     0.04,     0.02,2,     0.01,     2.35,2,     0.01,  -999.00,9,  -999.00,    4.312,2,    2.537,2,    0.351,2,    2.540,2,   -999.0,9,   -999.0,9,   -999.0,9,-999.0000,     -999,9, -999.000,9,  -999.00,9, -999.000,9, -999.000,   -999.0,9,   -999.0, -999.000,9, -999.000, -999.000,9, -999.000,   -999.0,9,   -999.0, -999.000,9, -999.000,9, -999.000,9
  49NZ20140717,   P01,    39,  1,     30, X12J30,2,20140717,1558, 42.8114, 145.5948, 1544,    299.8,2,   2.1742,2,   2.17382,2,  33.5081,2,  33.5070,2,-999.0000,9,   184.58,2,   184.30,2,   99.179,   0.0330,2,    0.009,2,  -999.00,9,    2.034,1,    0.000,2,    69.50,2,     0.12,    32.63,2,     0.04,     0.02,2,     0.01,     2.47,2,     0.01,  -999.00,9,  -999.00,    3.889,2,    2.275,2,    0.322,2,    1.990,2,   -999.0,9,   -999.0,9,   -999.0,9,-999.0000,     -999,9, -999.000,9,  -999.00,9, -999.000,9, -999.000,   -999.0,9,   -999.0, -999.000,9, -999.000, -999.000,9, -999.000,   -999.0,9,   -999.0, -999.000,9, -999.000,9, -999.000,9
  49NZ20140717,   P01,    39,  1,     29, X12J29,2,20140717,1558, 42.8114, 145.5948, 1544,    400.6,2,   2.2843,2,   2.28375,2,  33.6665,2,  33.6670,2,-999.0000,9,   132.33,2,   132.01,2,   99.315,   0.0275,2,    0.009,2,  -999.00,9,    2.358,1,    0.000,2,    86.10,2,     0.13,    36.69,2,     0.05,     0.01,2,     0.01,     2.73,2,     0.01,  -999.00,9,  -999.00,    3.216,4,    1.841,4,    0.248,4,    1.630,4,   -999.0,9,   -999.0,9,   -999.0,9,-999.0000,     -999,9, -999.000,9,  -999.00,9, -999.000,9, -999.000,   -999.0,9,   -999.0, -999.000,9, -999.000, -999.000,9, -999.000,   -999.0,9,   -999.0, -999.000,9, -999.000,9, -999.000,9
  49NZ20140717,   P01,    39,  1,     28, X12J28,2,20140717,1558, 42.8114, 145.5948, 1544,    499.2,2,   2.7769,2,   2.77161,2,  33.8203,2,  33.8192,2,-999.0000,9,    91.00,2,    91.08,2,   99.420,   0.0233,2,    0.010,2,  -999.00,9,    2.483,1,    0.000,2,    97.43,2,     0.14,    39.51,2,     0.05,     0.01,2,     0.01,     2.88,2,     0.01,  -999.00,9,  -999.00,    2.555,4,    1.422,4,    0.184,4,    1.250,4,   -999.0,9,   -999.0,9,   -999.0,9,-999.0000,     -999,9, -999.000,9,  -999.00,9, -999.000,9, -999.000,   -999.0,9,   -999.0, -999.000,9, -999.000, -999.000,9, -999.000,   -999.0,9,   -999.0, -999.000,9, -999.000,9, -999.000,9
  49NZ20140717,   P01,    39,  1,     27, X12J27,2,20140717,1558, 42.8114, 145.5948, 1544,    600.5,2,   3.1755,2,   3.17504,2,  33.9856,2,  33.9865,2,-999.0000,9,    47.49,2,    47.91,2,   99.485,   0.0207,2,    0.008,2,  -999.00,9,    2.624,1,    0.000,2,   111.18,2,     0.14,    42.64,2,     0.05,     0.01,2,     0.01,     3.06,2,     0.01,  -999.00,9,  -999.00,    1.610,4,    0.927,4,    0.110,4,    0.750,4,   -999.0,9,   -999.0,9,   -999.0,9,-999.0000,     -999,9, -999.000,9,  -999.00,9, -999.000,9, -999.000,   -999.0,9,   -999.0, -999.000,9, -999.000, -999.000,9, -999.000,   -999.0,9,   -999.0, -999.000,9, -999.000,9, -999.000,9
  49NZ20140717,   P01,    39,  1,     26, X12J26,2,20140717,1558, 42.8114, 145.5948, 1544,    701.6,2,   3.1903,2,   3.19039,2,  34.1149,2,  34.1149,2,-999.0000,9,    35.52,2,    35.94,2,   99.687,   0.0125,2,    0.008,2,  -999.00,9,    2.740,1,    0.000,2,   121.85,2,     0.15,    42.97,2,     0.05,     0.01,2,     0.01,     3.08,2,     0.01,  -999.00,9,  -999.00,    1.069,4,    0.634,4,    0.073,4,    0.600,4,   -999.0,9,   -999.0,9,   -999.0,9,-999.0000,     -999,9, -999.000,9,  -999.00,9, -999.000,9, -999.000,   -999.0,9,   -999.0, -999.000,9, -999.000, -999.000,9, -999.000,   -999.0,9,   -999.0, -999.000,9, -999.000,9, -999.000,9
  49NZ20140717,   P01,    39,  1,     25, X12J25,2,20140717,1558, 42.8114, 145.5948, 1544,    800.6,2,   3.2839,2,   3.28608,2,  34.2729,2,  34.2743,2,-999.0000,9,    35.01,2,    34.92,2,   99.784,   0.0086,2,    0.007,2,  -999.00,9,    2.682,1,    0.000,2,   130.40,2,     0.16,    42.53,2,     0.05,     0.01,2,     0.01,     3.05,2,     0.01,  -999.00,9,  -999.00,    0.476,4,    0.320,4,    0.028,4,    0.290,4,   -999.0,9,   -999.0,9,   -999.0,9,-999.0000,     -999,9, -999.000,9,  -999.00,9, -999.000,9, -999.000,   -999.0,9,   -999.0, -999.000,9, -999.000, -999.000,9, -999.000,   -999.0,9,   -999.0, -999.000,9, -999.000,9, -999.000,9
  49NZ20140717,   P01,    39,  1,     24, X12J24,2,20140717,1558, 42.8114, 145.5948, 1544,    898.5,2,   2.9415,2,   2.94178,2,  34.2908,2,  34.2919,2,-999.0000,9,    27.51,2,    27.68,2,   99.519,   0.0193,2,    0.010,2,  -999.00,9,    2.785,1,    0.000,2,   140.32,2,     0.16,    43.37,2,     0.05,     0.02,2,     0.01,     3.11,2,     0.01,  -999.00,9,  -999.00,    0.425,4,    0.295,4,    0.029,4,    0.290,4,   -999.0,9,   -999.0,9,   -999.0,9,-999.0000,     -999,9, -999.000,9,  -999.00,9, -999.000,9, -999.000,   -999.0,9,   -999.0, -999.000,9, -999.000, -999.000,9, -999.000,   -999.0,9,   -999.0, -999.000,9, -999.000,9, -999.000,9
  49NZ20140717,   P01,    39,  1,     23, X12J23,2,20140717,1558, 42.8114, 145.5948, 1544,    999.8,2,   2.7266,2,   2.72629,2,  34.3505,2,  34.3507,2,-999.0000,9,    28.02,2,    28.24,2,   99.530,   0.0188,2,    0.009,2,  -999.00,9,    2.804,1,    0.000,2,   148.67,2,     0.17,    43.45,2,     0.05,     0.01,2,     0.01,     3.11,2,     0.01,  -999.00,9,  -999.00,    0.298,4,    0.219,4,    0.020,4,    0.220,4,   -999.0,9,   -999.0,9,   -999.0,9,-999.0000,     -999,9, -999.000,9,  -999.00,9, -999.000,9, -999.000,   -999.0,9,   -999.0, -999.000,9, -999.000, -999.000,9, -999.000,   -999.0,9,   -999.0, -999.000,9, -999.000,9, -999.000,9
  49NZ20140717,   P01,    39,  1,     22, X12J22,2,20140717,1558, 42.8114, 145.5948, 1544,   1200.4,2,   2.5001,2,   2.49978,2,  34.4249,2,  34.4253,2,-999.0000,9,    33.13,2,    33.31,2,   99.535,   0.0187,2,    0.008,2,  -999.00,9,    2.707,1,    0.000,2,   156.96,2,     0.17,    43.19,2,     0.05,     0.01,2,     0.01,     3.10,2,     0.01,  -999.00,9,  -999.00,    0.168,4,    0.136,4,    0.011,4,    0.210,4,   -999.0,9,   -999.0,9,   -999.0,9,-999.0000,     -999,9, -999.000,9,  -999.00,9, -999.000,9, -999.000,   -999.0,9,   -999.0, -999.000,9, -999.000, -999.000,9, -999.000,   -999.0,9,   -999.0, -999.000,9, -999.000,9, -999.000,9
  49NZ20140717,   P01,    39,  1,     21, X12J21,2,20140717,1558, 42.8114, 145.5948, 1544,   1401.6,2,   2.3269,2,   2.32678,2,  34.4753,2,  34.4762,2,-999.0000,9,    41.33,2,    42.12,2,   99.662,   0.0136,2,    0.005,2,  -999.00,9,    2.740,1,    0.000,2,   161.15,2,     0.17,    42.74,2,     0.05,     0.01,2,     0.01,     3.06,2,     0.01,  -999.00,9,  -999.00,    0.111,4,    0.098,4,    0.007,4,    0.290,4,   -999.0,9,   -999.0,9,   -999.0,9,-999.0000,     -999,9, -999.000,9,  -999.00,9, -999.000,9, -999.000,   -999.0,9,   -999.0, -999.000,9, -999.000, -999.000,9, -999.000,   -999.0,9,   -999.0, -999.000,9, -999.000,9, -999.000,9
  49NZ20140717,   P01,    39,  1,     20, X12J20,9,20140717,1558, 42.8114, 145.5948, 1544,   -999.0,9,-999.0000,9,-999.00000,9,-999.0000,9,-999.0000,9,-999.0000,9,  -999.00,9,  -999.00,9, -999.000,-999.0000,9, -999.000,9,  -999.00,9, -999.000,9, -999.000,9,  -999.00,9,  -999.00,  -999.00,9,  -999.00,  -999.00,9,  -999.00,  -999.00,9,  -999.00,  -999.00,9,  -999.00, -999.000,9, -999.000,9, -999.000,9, -999.000,9,   -999.0,9,   -999.0,9,   -999.0,9,-999.0000,     -999,9, -999.000,9,  -999.00,9, -999.000,9, -999.000,   -999.0,9,   -999.0, -999.000,9, -999.000, -999.000,9, -999.000,   -999.0,9,   -999.0, -999.000,9, -999.000,9, -999.000,9
  49NZ20140717,   P01,    39,  1,     19, X12J19,9,20140717,1558, 42.8114, 145.5948, 1544,   -999.0,9,-999.0000,9,-999.00000,9,-999.0000,9,-999.0000,9,-999.0000,9,  -999.00,9,  -999.00,9, -999.000,-999.0000,9, -999.000,9,  -999.00,9, -999.000,9, -999.000,9,  -999.00,9,  -999.00,  -999.00,9,  -999.00,  -999.00,9,  -999.00,  -999.00,9,  -999.00,  -999.00,9,  -999.00, -999.000,9, -999.000,9, -999.000,9, -999.000,9,   -999.0,9,   -999.0,9,   -999.0,9,-999.0000,     -999,9, -999.000,9,  -999.00,9, -999.000,9, -999.000,   -999.0,9,   -999.0, -999.000,9, -999.000, -999.000,9, -999.000,   -999.0,9,   -999.0, -999.000,9, -999.000,9, -999.000,9
  49NZ20140717,   P01,    39,  1,     18, X12J18,9,20140717,1558, 42.8114, 145.5948, 1544,   -999.0,9,-999.0000,9,-999.00000,9,-999.0000,9,-999.0000,9,-999.0000,9,  -999.00,9,  -999.00,9, -999.000,-999.0000,9, -999.000,9,  -999.00,9, -999.000,9, -999.000,9,  -999.00,9,  -999.00,  -999.00,9,  -999.00,  -999.00,9,  -999.00,  -999.00,9,  -999.00,  -999.00,9,  -999.00, -999.000,9, -999.000,9, -999.000,9, -999.000,9,   -999.0,9,   -999.0,9,   -999.0,9,-999.0000,     -999,9, -999.000,9,  -999.00,9, -999.000,9, -999.000,   -999.0,9,   -999.0, -999.000,9, -999.000, -999.000,9, -999.000,   -999.0,9,   -999.0, -999.000,9, -999.000,9, -999.000,9
  49NZ20140717,   P01,    39,  1,     17, X12J17,9,20140717,1558, 42.8114, 145.5948, 1544,   -999.0,9,-999.0000,9,-999.00000,9,-999.0000,9,-999.0000,9,-999.0000,9,  -999.00,9,  -999.00,9, -999.000,-999.0000,9, -999.000,9,  -999.00,9, -999.000,9, -999.000,9,  -999.00,9,  -999.00,  -999.00,9,  -999.00,  -999.00,9,  -999.00,  -999.00,9,  -999.00,  -999.00,9,  -999.00, -999.000,9, -999.000,9, -999.000,9, -999.000,9,   -999.0,9,   -999.0,9,   -999.0,9,-999.0000,     -999,9, -999.000,9,  -999.00,9, -999.000,9, -999.000,   -999.0,9,   -999.0, -999.000,9, -999.000, -999.000,9, -999.000,   -999.0,9,   -999.0, -999.000,9, -999.000,9, -999.000,9
  49NZ20140717,   P01,    39,  1,     16, X12J16,9,20140717,1558, 42.8114, 145.5948, 1544,   -999.0,9,-999.0000,9,-999.00000,9,-999.0000,9,-999.0000,9,-999.0000,9,  -999.00,9,  -999.00,9, -999.000,-999.0000,9, -999.000,9,  -999.00,9, -999.000,9, -999.000,9,  -999.00,9,  -999.00,  -999.00,9,  -999.00,  -999.00,9,  -999.00,  -999.00,9,  -999.00,  -999.00,9,  -999.00, -999.000,9, -999.000,9, -999.000,9, -999.000,9,   -999.0,9,   -999.0,9,   -999.0,9,-999.0000,     -999,9, -999.000,9,  -999.00,9, -999.000,9, -999.000,   -999.0,9,   -999.0, -999.000,9, -999.000, -999.000,9, -999.000,   -999.0,9,   -999.0, -999.000,9, -999.000,9, -999.000,9
  49NZ20140717,   P01,    39,  1,     15, X12J15,9,20140717,1558, 42.8114, 145.5948, 1544,   -999.0,9,-999.0000,9,-999.00000,9,-999.0000,9,-999.0000,9,-999.0000,9,  -999.00,9,  -999.00,9, -999.000,-999.0000,9, -999.000,9,  -999.00,9, -999.000,9, -999.000,9,  -999.00,9,  -999.00,  -999.00,9,  -999.00,  -999.00,9,  -999.00,  -999.00,9,  -999.00,  -999.00,9,  -999.00, -999.000,9, -999.000,9, -999.000,9, -999.000,9,   -999.0,9,   -999.0,9,   -999.0,9,-999.0000,     -999,9, -999.000,9,  -999.00,9, -999.000,9, -999.000,   -999.0,9,   -999.0, -999.000,9, -999.000, -999.000,9, -999.000,   -999.0,9,   -999.0, -999.000,9, -999.000,9, -999.000,9
  49NZ20140717,   P01,    39,  1,     14, X12J14,9,20140717,1558, 42.8114, 145.5948, 1544,   -999.0,9,-999.0000,9,-999.00000,9,-999.0000,9,-999.0000,9,-999.0000,9,  -999.00,9,  -999.00,9, -999.000,-999.0000,9, -999.000,9,  -999.00,9, -999.000,9, -999.000,9,  -999.00,9,  -999.00,  -999.00,9,  -999.00,  -999.00,9,  -999.00,  -999.00,9,  -999.00,  -999.00,9,  -999.00, -999.000,9, -999.000,9, -999.000,9, -999.000,9,   -999.0,9,   -999.0,9,   -999.0,9,-999.0000,     -999,9, -999.000,9,  -999.00,9, -999.000,9, -999.000,   -999.0,9,   -999.0, -999.000,9, -999.000, -999.000,9, -999.000,   -999.0,9,   -999.0, -999.000,9, -999.000,9, -999.000,9
  49NZ20140717,   P01,    39,  1,     13, X12113,9,20140717,1558, 42.8114, 145.5948, 1544,   -999.0,9,-999.0000,9,-999.00000,9,-999.0000,9,-999.0000,9,-999.0000,9,  -999.00,9,  -999.00,9, -999.000,-999.0000,9, -999.000,9,  -999.00,9, -999.000,9, -999.000,9,  -999.00,9,  -999.00,  -999.00,9,  -999.00,  -999.00,9,  -999.00,  -999.00,9,  -999.00,  -999.00,9,  -999.00, -999.000,9, -999.000,9, -999.000,9, -999.000,9,   -999.0,9,   -999.0,9,   -999.0,9,-999.0000,     -999,9, -999.000,9,  -999.00,9, -999.000,9, -999.000,   -999.0,9,   -999.0, -999.000,9, -999.000, -999.000,9, -999.000,   -999.0,9,   -999.0, -999.000,9, -999.000,9, -999.000,9
  49NZ20140717,   P01,    39,  1,     12, X12J12,9,20140717,1558, 42.8114, 145.5948, 1544,   -999.0,9,-999.0000,9,-999.00000,9,-999.0000,9,-999.0000,9,-999.0000,9,  -999.00,9,  -999.00,9, -999.000,-999.0000,9, -999.000,9,  -999.00,9, -999.000,9, -999.000,9,  -999.00,9,  -999.00,  -999.00,9,  -999.00,  -999.00,9,  -999.00,  -999.00,9,  -999.00,  -999.00,9,  -999.00, -999.000,9, -999.000,9, -999.000,9, -999.000,9,   -999.0,9,   -999.0,9,   -999.0,9,-999.0000,     -999,9, -999.000,9,  -999.00,9, -999.000,9, -999.000,   -999.0,9,   -999.0, -999.000,9, -999.000, -999.000,9, -999.000,   -999.0,9,   -999.0, -999.000,9, -999.000,9, -999.000,9
  49NZ20140717,   P01,    39,  1,     11, X12J11,9,20140717,1558, 42.8114, 145.5948, 1544,   -999.0,9,-999.0000,9,-999.00000,9,-999.0000,9,-999.0000,9,-999.0000,9,  -999.00,9,  -999.00,9, -999.000,-999.0000,9, -999.000,9,  -999.00,9, -999.000,9, -999.000,9,  -999.00,9,  -999.00,  -999.00,9,  -999.00,  -999.00,9,  -999.00,  -999.00,9,  -999.00,  -999.00,9,  -999.00, -999.000,9, -999.000,9, -999.000,9, -999.000,9,   -999.0,9,   -999.0,9,   -999.0,9,-999.0000,     -999,9, -999.000,9,  -999.00,9, -999.000,9, -999.000,   -999.0,9,   -999.0, -999.000,9, -999.000, -999.000,9, -999.000,   -999.0,9,   -999.0, -999.000,9, -999.000,9, -999.000,9
  49NZ20140717,   P01,    39,  1,     10, X12J10,9,20140717,1558, 42.8114, 145.5948, 1544,   -999.0,9,-999.0000,9,-999.00000,9,-999.0000,9,-999.0000,9,-999.0000,9,  -999.00,9,  -999.00,9, -999.000,-999.0000,9, -999.000,9,  -999.00,9, -999.000,9, -999.000,9,  -999.00,9,  -999.00,  -999.00,9,  -999.00,  -999.00,9,  -999.00,  -999.00,9,  -999.00,  -999.00,9,  -999.00, -999.000,9, -999.000,9, -999.000,9, -999.000,9,   -999.0,9,   -999.0,9,   -999.0,9,-999.0000,     -999,9, -999.000,9,  -999.00,9, -999.000,9, -999.000,   -999.0,9,   -999.0, -999.000,9, -999.000, -999.000,9, -999.000,   -999.0,9,   -999.0, -999.000,9, -999.000,9, -999.000,9