BOTTLE,20230904JAMSTECRIGC
EXPOCODE,SECT,STNNBR,CASTNO,SAMPNO,BTLNBR,BTLNBR_FLAG_W,DATE,TIME,LATITUDE,LONGITUDE,DEPTH,CTDPRS,CTDPRS_FLAG_W,CTDTMP,CTDTMP_FLAG_W,SBE35,SBE35_FLAG_W,CTDSAL,CTDSAL_FLAG_W,SALNTY,SALNTY_FLAG_W,DNSSAL,DNSSAL_FLAG_W,CTDOXY,CTDOXY_FLAG_W,OXYGEN,OXYGEN_FLAG_W,XMISS,XMISSCP,XMISS_FLAG_W,FLUOR,FLUOR_FLAG_W,CHLORA,CHLORA_FLAG_W,CDOM,CDOM_FLAG_W,PAR,PAR_FLAG_W,SILCAT,SILCAT_FLAG_W,SILUNC,NITRAT,NITRAT_FLAG_W,NRAUNC,NITRIT,NITRIT_FLAG_W,NRIUNC,PHSPHT,PHSPHT_FLAG_W,PHPUNC,AMMONIA,AMMONIA_FLAG_W,NH4UNC,CFC-11,CFC-11_FLAG_W,CFC-12,CFC-12_FLAG_W,CFC113,CFC113_FLAG_W,SF6,SF6_FLAG_W,TCARBN,TCARBN_FLAG_W,ALKALI,ALKALI_FLAG_W,ALKALI_POT,ALKALI_POT_FLAG_W,PH_TOT,PH_TMP,PH_TOT_FLAG_W,CALCIUM,CALCIUM_FLAG_W,DOC,DOC_FLAG_W,DELC13,DELC13_FLAG_W,C13ERR,DELC14,DELC14_FLAG_W,C14ERR,CS-134,CS-134_FLAG_W,CS134ER,CS-137,CS-137_FLAG_W,CS137ER,I-129,I-129_FLAG_W,I-129ER,CDOM-325,CDOM-325_FLAG_W,CDOM-370,CDOM-370_FLAG_W,CDOM-443,CDOM-443_FLAG_W
,,,,,,,,UTC,DEG,DEG,METERS,DBAR,,ITS-90,,ITS-90,,PSS-78,,PSS-78,,G/KG,,UMOL/KG,,UMOL/KG,,%TRANS,/METER,,MG/CUM,,MG/CUM,,MG/CUM,,UE/SQM/S,,UMOL/KG,,UMOL/KG,UMOL/KG,,UMOL/KG,UMOL/KG,,UMOL/KG,UMOL/KG,,UMOL/KG,UMOL/KG,,UMOL/KG,PMOL/KG,,PMOL/KG,,PMOL/KG,,FMOL/KG,,UMOL/KG,,UMOL/KG,,UMOL/KG,,,DEG C,,MMOL/KG,,UMOL/KG,,/MILLE,,/MILLE,/MILLE,,/MILLE,MBQ/KG,,MBQ/KG,MBQ/KG,,MBQ/KG,,,,/METER,,/METER,,/METER,
  49NZ20140717,   P01,    80,  1,      9, X12J09,2,20140731,0134, 46.9959, 167.8320, 6246,   3920.3,2,   1.4736,2,   1.47398,2,  34.6807,2,  34.6801,2,-999.0000,9,   146.25,2,   145.96,2,   99.993,   0.0003,2,    0.000,2,  -999.00,9,    2.304,1,    0.000,2,   153.45,2,     0.17,    36.40,2,     0.05,     0.00,2,     0.01,     2.54,2,     0.01,  -999.00,9,  -999.00,    0.000,2,    0.000,2,    0.000,2, -999.000,9,   -999.0,9,   -999.0,9,   -999.0,9,-999.0000,     -999,9, -999.000,9,  -999.00,9, -999.000,9, -999.000,   -999.0,9,   -999.0, -999.000,9, -999.000, -999.000,9, -999.000,   -999.0,9,   -999.0, -999.000,9, -999.000,9, -999.000,9
  49NZ20140717,   P01,    80,  1,      8, X12J08,2,20140731,0134, 46.9959, 167.8320, 6246,   4170.2,2,   1.4787,2,   1.47900,2,  34.6831,2,  34.6828,2,-999.0000,9,   149.31,2,   148.90,2,   99.971,   0.0012,2,    0.000,2,  -999.00,9,    2.347,4,    0.000,2,   152.72,2,     0.17,    36.16,2,     0.05,     0.00,2,     0.01,     2.52,2,     0.01,  -999.00,9,  -999.00,    0.000,2,    0.000,2,    0.000,2, -999.000,9,   -999.0,9,   -999.0,9,   -999.0,9,-999.0000,     -999,9, -999.000,9,  -999.00,9, -999.000,9, -999.000,   -999.0,9,   -999.0, -999.000,9, -999.000, -999.000,9, -999.000,   -999.0,9,   -999.0, -999.000,9, -999.000,9, -999.000,9
  49NZ20140717,   P01,    80,  1,      7, X12J07,2,20140731,0134, 46.9959, 167.8320, 6246,   4419.3,2,   1.4893,2,   1.48955,2,  34.6849,2,  34.6845,2,-999.0000,9,   151.80,2,   151.41,2,   99.975,   0.0010,2,    0.000,2,  -999.00,9,    1.367,4,    0.000,2,   152.24,2,     0.17,    36.02,2,     0.05,     0.00,2,     0.01,     2.51,2,     0.01,  -999.00,9,  -999.00,    0.000,2,    0.000,2,    0.000,2, -999.000,9,   -999.0,9,   -999.0,9,   -999.0,9,-999.0000,     -999,9, -999.000,9,  -999.00,9, -999.000,9, -999.000,   -999.0,9,   -999.0, -999.000,9, -999.000, -999.000,9, -999.000,   -999.0,9,   -999.0, -999.000,9, -999.000,9, -999.000,9
  49NZ20140717,   P01,    80,  1,      6, X12J06,2,20140731,0134, 46.9959, 167.8320, 6246,   4670.5,2,   1.5050,2,   1.50529,2,  34.6865,2,  34.6861,2,-999.0000,9,   153.67,2,   153.28,2,   99.973,   0.0011,2,    0.000,2,  -999.00,9,  497.217,4,    0.000,2,   151.77,2,     0.17,    35.91,2,     0.05,     0.00,2,     0.01,     2.50,2,     0.01,  -999.00,9,  -999.00,    0.000,2,    0.001,2,    0.000,2, -999.000,9,   -999.0,9,   -999.0,9,   -999.0,9,-999.0000,     -999,9, -999.000,9,  -999.00,9, -999.000,9, -999.000,   -999.0,9,   -999.0, -999.000,9, -999.000, -999.000,9, -999.000,   -999.0,9,   -999.0, -999.000,9, -999.000,9, -999.000,9
  49NZ20140717,   P01,    80,  1,      5, X12J05,2,20140731,0134, 46.9959, 167.8320, 6246,   4919.8,2,   1.5245,2,   1.52457,2,  34.6875,2,  34.6865,2,-999.0000,9,   155.10,2,   154.87,2,   99.967,   0.0013,2,    0.000,2,  -999.00,9,  497.217,4,    0.000,2,   151.43,2,     0.17,    35.81,2,     0.05,     0.00,2,     0.01,     2.50,2,     0.01,  -999.00,9,  -999.00,    0.002,2,    0.002,2,    0.000,2, -999.000,9,   -999.0,9,   -999.0,9,   -999.0,9,-999.0000,     -999,9, -999.000,9,  -999.00,9, -999.000,9, -999.000,   -999.0,9,   -999.0, -999.000,9, -999.000, -999.000,9, -999.000,   -999.0,9,   -999.0, -999.000,9, -999.000,9, -999.000,9
  49NZ20140717,   P01,    80,  1,      4, X12J04,2,20140731,0134, 46.9959, 167.8320, 6246,   5170.3,2,   1.5468,2,   1.54698,2,  34.6885,2,  34.6883,2,-999.0000,9,   156.28,2,   155.97,2,   99.973,   0.0011,2,    0.000,2,  -999.00,9,  497.217,4,    0.000,2,   151.64,2,     0.17,    35.70,2,     0.05,     0.00,2,     0.01,     2.49,2,     0.01,  -999.00,9,  -999.00,    0.000,2,    0.000,2,    0.000,2, -999.000,9,   -999.0,9,   -999.0,9,   -999.0,9,-999.0000,     -999,9, -999.000,9,  -999.00,9, -999.000,9, -999.000,   -999.0,9,   -999.0, -999.000,9, -999.000, -999.000,9, -999.000,   -999.0,9,   -999.0, -999.000,9, -999.000,9, -999.000,9
  49NZ20140717,   P01,    80,  1,      3, X12J03,2,20140731,0134, 46.9959, 167.8320, 6246,   5419.7,2,   1.5737,2,   1.57389,2,  34.6892,2,  34.6881,3,-999.0000,9,   156.84,2,   156.65,2,   99.965,   0.0014,2,    0.000,2,  -999.00,9,  497.217,4,    0.000,2,   151.87,2,     0.17,    35.67,2,     0.05,     0.00,2,     0.01,     2.48,2,     0.01,  -999.00,9,  -999.00,    0.004,2,    0.004,2,    0.000,2, -999.000,9,   -999.0,9,   -999.0,9,   -999.0,9,-999.0000,     -999,9, -999.000,9,  -999.00,9, -999.000,9, -999.000,   -999.0,9,   -999.0, -999.000,9, -999.000, -999.000,9, -999.000,   -999.0,9,   -999.0, -999.000,9, -999.000,9, -999.000,9
  49NZ20140717,   P01,    80,  1,      2, X12J02,2,20140731,0134, 46.9959, 167.8320, 6246,   5670.6,2,   1.6023,2,   1.60242,2,  34.6897,2,  34.6896,2,-999.0000,9,   157.18,2,   157.06,2,   99.958,   0.0017,2,    0.000,2,  -999.00,9,  497.217,4,    0.000,2,   152.93,2,     0.17,    35.70,2,     0.05,     0.00,2,     0.01,     2.49,2,     0.01,  -999.00,9,  -999.00,    0.001,2,    0.001,2,    0.000,2, -999.000,9,   -999.0,9,   -999.0,9,   -999.0,9,-999.0000,     -999,9, -999.000,9,  -999.00,9, -999.000,9, -999.000,   -999.0,9,   -999.0, -999.000,9, -999.000, -999.000,9, -999.000,   -999.0,9,   -999.0, -999.000,9, -999.000,9, -999.000,9
  49NZ20140717,   P01,    80,  1,      1, X12J01,2,20140731,0134, 46.9959, 167.8320, 6246,   6136.4,2,   1.6665,2,   1.66659,2,  34.6895,2,  34.6890,2,-999.0000,9,   156.79,2,   157.12,2,   99.923,   0.0031,2,    0.000,2,  -999.00,9,  497.217,4,    0.000,2,   153.11,2,     0.17,    35.69,2,     0.05,     0.00,2,     0.01,     2.49,2,     0.01,  -999.00,9,  -999.00,    0.003,2,    0.002,2,    0.000,2, -999.000,9,   -999.0,9,   -999.0,9,   -999.0,9,-999.0000,     -999,9, -999.000,9,  -999.00,9, -999.000,9, -999.000,   -999.0,9,   -999.0, -999.000,9, -999.000, -999.000,9, -999.000,   -999.0,9,   -999.0, -999.000,9, -999.000,9, -999.000,9