BOTTLE,20230904JAMSTECRIGC
EXPOCODE,SECT,STNNBR,CASTNO,SAMPNO,BTLNBR,BTLNBR_FLAG_W,DATE,TIME,LATITUDE,LONGITUDE,DEPTH,CTDPRS,CTDPRS_FLAG_W,CTDTMP,CTDTMP_FLAG_W,SBE35,SBE35_FLAG_W,CTDSAL,CTDSAL_FLAG_W,SALNTY,SALNTY_FLAG_W,DNSSAL,DNSSAL_FLAG_W,CTDOXY,CTDOXY_FLAG_W,OXYGEN,OXYGEN_FLAG_W,XMISS,XMISSCP,XMISS_FLAG_W,FLUOR,FLUOR_FLAG_W,CHLORA,CHLORA_FLAG_W,CDOM,CDOM_FLAG_W,PAR,PAR_FLAG_W,SILCAT,SILCAT_FLAG_W,SILUNC,NITRAT,NITRAT_FLAG_W,NRAUNC,NITRIT,NITRIT_FLAG_W,NRIUNC,PHSPHT,PHSPHT_FLAG_W,PHPUNC,AMMONIA,AMMONIA_FLAG_W,NH4UNC,CFC-11,CFC-11_FLAG_W,CFC-12,CFC-12_FLAG_W,CFC113,CFC113_FLAG_W,SF6,SF6_FLAG_W,TCARBN,TCARBN_FLAG_W,ALKALI,ALKALI_FLAG_W,ALKALI_POT,ALKALI_POT_FLAG_W,PH_TOT,PH_TMP,PH_TOT_FLAG_W,CALCIUM,CALCIUM_FLAG_W,DOC,DOC_FLAG_W,DELC13,DELC13_FLAG_W,C13ERR,DELC14,DELC14_FLAG_W,C14ERR,CS-134,CS-134_FLAG_W,CS134ER,CS-137,CS-137_FLAG_W,CS137ER,I-129,I-129_FLAG_W,I-129ER,CDOM-325,CDOM-325_FLAG_W,CDOM-370,CDOM-370_FLAG_W,CDOM-443,CDOM-443_FLAG_W
,,,,,,,,UTC,DEG,DEG,METERS,DBAR,,ITS-90,,ITS-90,,PSS-78,,PSS-78,,G/KG,,UMOL/KG,,UMOL/KG,,%TRANS,/METER,,MG/CUM,,MG/CUM,,MG/CUM,,UE/SQM/S,,UMOL/KG,,UMOL/KG,UMOL/KG,,UMOL/KG,UMOL/KG,,UMOL/KG,UMOL/KG,,UMOL/KG,UMOL/KG,,UMOL/KG,PMOL/KG,,PMOL/KG,,PMOL/KG,,FMOL/KG,,UMOL/KG,,UMOL/KG,,UMOL/KG,,,DEG C,,MMOL/KG,,UMOL/KG,,/MILLE,,/MILLE,/MILLE,,/MILLE,MBQ/KG,,MBQ/KG,MBQ/KG,,MBQ/KG,,,,/METER,,/METER,,/METER,
  49NZ20140717,   P01,   136,  2,      0,   -999,9,20140819,1916, 46.9967,-135.7360, 4143,   -999.0,9,-999.0000,9,-999.00000,9,-999.0000,9,  32.2439,2,-999.0000,9,  -999.00,9,  -999.00,9, -999.000,-999.0000,9, -999.000,9,  -999.00,9, -999.000,9, -999.000,9,     0.32,2,     0.18,     0.04,2,     0.02,     0.01,2,     0.01,     0.40,2,     0.01,     0.03,2,     0.01, -999.000,9, -999.000,9, -999.000,9, -999.000,9,   -999.0,9,   -999.0,9,   -999.0,9,-999.0000,     -999,9, -999.000,9,  -999.00,9, -999.000,9, -999.000,   -999.0,9,   -999.0, -999.000,9, -999.000, -999.000,9, -999.000,   -999.0,9,   -999.0, -999.000,9, -999.000,9, -999.000,9
  49NZ20140717,   P01,   136,  2,     36, X12J36,2,20140819,1916, 46.9967,-135.7360, 4143,     10.7,2,  17.7200,2,  17.72054,2,  32.2425,2,  32.2443,2,  32.3963,2,   246.66,2,   246.62,2,   97.972,   0.0819,2,    0.149,2,  -999.00,9,   -1.035,1,  281.474,2,     0.35,2,     0.18,     0.03,2,     0.02,     0.01,2,     0.01,     0.39,2,     0.01,     0.03,2,     0.01,    2.533,2,    1.544,2,    0.329,2,    1.950,2,   1957.2,2,   2169.9,2,   -999.0,9,   7.9379,       25,6, -999.000,9,    62.98,2, -999.000,1, -999.000,   -999.0,1,   -999.0, -999.000,9, -999.000, -999.000,9, -999.000,   -999.0,9,   -999.0, -999.000,9, -999.000,9, -999.000,9
  49NZ20140717,   P01,   136,  2,     35, X12J35,2,20140819,1916, 46.9967,-135.7360, 4143,     50.6,2,  10.3380,2,  10.33975,2,  32.4504,2,  32.4494,2,  32.6028,2,   283.38,2,   281.45,2,   96.632,   0.1370,2,    0.604,2,  -999.00,9,    0.487,1,   13.752,2,     6.33,2,     0.09,     5.03,2,     0.02,     0.15,2,     0.01,     0.80,2,     0.01,     0.65,2,     0.03,    3.532,2,    2.088,2,    0.332,2,    2.430,2,   2010.8,6,   2181.7,2,   -999.0,9,   7.8330,       25,2, -999.000,9,    57.91,2, -999.000,1, -999.000,   -999.0,1,   -999.0, -999.000,9, -999.000, -999.000,9, -999.000,   -999.0,9,   -999.0, -999.000,9, -999.000,9, -999.000,9
  49NZ20140717,   P01,   136,  2,     34, X12J34,2,20140819,1916, 46.9967,-135.7360, 4143,    100.5,2,   7.1269,2,   7.12492,2,  32.7300,2,  32.7452,2,  32.9017,2,   266.64,2,   264.69,2,   99.627,   0.0149,2,    0.076,2,  -999.00,9,    0.610,1,    0.847,2,    19.21,2,     0.09,    16.01,2,     0.03,     0.03,2,     0.01,     1.38,2,     0.01,     0.01,2,     0.01,    4.057,2,    2.391,2,    0.329,2,    2.630,2,   2073.3,2,   2196.6,2,   -999.0,9,   7.7071,       25,2, -999.000,9,    51.15,2, -999.000,1, -999.000,   -999.0,1,   -999.0, -999.000,9, -999.000, -999.000,9, -999.000,   -999.0,9,   -999.0, -999.000,9, -999.000,9, -999.000,9
  49NZ20140717,   P01,   136,  2,     33, X12J33,2,20140819,1916, 46.9967,-135.7360, 4143,    150.6,2,   6.7964,2,   6.79596,2,  33.3951,2,  33.3977,2,  33.5575,2,   223.55,2,   221.99,2,   99.805,   0.0078,2,    0.012,2,  -999.00,9,    1.120,1,    0.078,2,    28.66,2,     0.09,    20.88,2,     0.03,     0.02,2,     0.01,     1.60,2,     0.01,     0.01,2,     0.01,    3.860,2,    2.261,2,    0.283,2,    2.170,2,   2131.7,2,   2230.9,2,   -999.0,9,   7.6389,       25,6, -999.000,9,    49.87,2, -999.000,1, -999.000,   -999.0,1,   -999.0, -999.000,9, -999.000, -999.000,9, -999.000,   -999.0,9,   -999.0, -999.000,9, -999.000,9, -999.000,9
  49NZ20140717,   P01,   136,  2,     32, X12J32,2,20140819,1916, 46.9967,-135.7360, 4143,    200.0,2,   6.4304,2,   6.43098,2,  33.8176,2,  33.8185,2,  33.9816,2,   184.33,2,   181.61,2,   99.733,   0.0107,2,    0.012,2,  -999.00,9,    1.820,1,    0.000,2,    41.52,2,     0.10,    26.01,2,     0.04,     0.01,2,     0.01,     1.89,2,     0.01,     0.01,2,     0.01,    3.469,2,    1.985,2,    0.232,2,    1.640,2,   2183.7,2,   2264.9,6,   -999.0,9,   7.5739,       25,2, -999.000,9,    45.92,2, -999.000,1, -999.000,   -999.0,1,   -999.0, -999.000,9, -999.000, -999.000,9, -999.000,   -999.0,9,   -999.0, -999.000,9, -999.000,9, -999.000,9
  49NZ20140717,   P01,   136,  2,     31, X12J31,2,20140819,1916, 46.9967,-135.7360, 4143,    249.7,2,   5.4924,2,   5.49077,2,  33.8442,2,  33.8455,2,  34.0100,2,   130.97,2,   129.89,2,   99.701,   0.0120,2,    0.016,2,  -999.00,9,    2.275,1,    0.000,2,    57.55,2,     0.11,    32.41,2,     0.04,     0.01,2,     0.01,     2.33,2,     0.01,     0.01,2,     0.01,    3.080,2,    1.706,2,    0.191,2,    1.100,2,   2234.1,2,   2275.4,2,   -999.0,9,   7.4550,       25,2, -999.000,9,    46.83,2, -999.000,1, -999.000,   -999.0,1,   -999.0, -999.000,9, -999.000, -999.000,9, -999.000,   -999.0,9,   -999.0, -999.000,9, -999.000,9, -999.000,9
  49NZ20140717,   P01,   136,  2,     30, X12J30,2,20140819,1916, 46.9967,-135.7360, 4143,    330.7,2,   4.7022,2,   4.70255,2,  33.8868,2,  33.8865,2,  34.0535,2,    96.30,2,    96.13,2,   99.746,   0.0102,2,    0.016,2,  -999.00,9,    2.585,1,    0.000,2,    72.51,2,     0.12,    36.86,2,     0.05,     0.01,2,     0.01,     2.61,2,     0.01,     0.02,2,     0.01,    2.635,2,    1.403,2,    0.154,2,    0.720,2,   2270.5,2,   2286.7,2,   -999.0,9,   7.3819,       25,2, -999.000,9,    45.44,2, -999.000,1, -999.000,   -999.0,1,   -999.0, -999.000,9, -999.000, -999.000,9, -999.000,   -999.0,9,   -999.0, -999.000,9, -999.000,9, -999.000,9
  49NZ20140717,   P01,   136,  2,     29, X12J29,2,20140819,1916, 46.9967,-135.7360, 4143,    429.9,2,   4.4001,2,   4.39943,2,  33.9881,2,  33.9882,2,  34.1570,2,    64.16,2,    64.35,2,   99.842,   0.0063,2,    0.015,2,  -999.00,9,    2.791,1,    0.000,2,    86.43,2,     0.13,    39.79,2,     0.05,     0.01,2,     0.01,     2.82,2,     0.01,     0.00,2,     0.01,    1.905,2,    0.981,2,    0.108,2,    0.500,2,   2298.6,2,   2304.7,2,   -999.0,9,   7.3383,       25,2, -999.000,9,    43.43,2, -999.000,1, -999.000,   -999.0,1,   -999.0, -999.000,9, -999.000, -999.000,9, -999.000,   -999.0,9,   -999.0, -999.000,9, -999.000,9, -999.000,9
  49NZ20140717,   P01,   136,  2,     28, X12J28,2,20140819,1916, 46.9967,-135.7360, 4143,    530.1,2,   4.1934,2,   4.19310,2,  34.0817,2,  34.0813,2,  34.2507,2,    40.15,2,    40.61,2,   99.902,   0.0039,2,    0.017,2,  -999.00,9,    2.913,1,    0.000,2,    98.27,2,     0.14,    41.67,2,     0.05,     0.01,2,     0.01,     2.96,2,     0.01,     0.01,2,     0.01,    1.247,2,    0.636,2,    0.069,2,    0.230,2,   2323.2,2,   2317.4,2,   -999.0,9,   7.3105,       25,2, -999.000,9,    44.90,3, -999.000,1, -999.000,   -999.0,1,   -999.0, -999.000,9, -999.000, -999.000,9, -999.000,   -999.0,9,   -999.0, -999.000,9, -999.000,9, -999.000,9
  49NZ20140717,   P01,   136,  2,     27, X12J27,2,20140819,1916, 46.9967,-135.7360, 4143,    630.3,2,   3.9430,2,   3.94267,2,  34.1601,2,  34.1596,2,  34.3318,2,    24.90,2,    24.91,2,   99.937,   0.0025,2,    0.016,2,  -999.00,9,    2.978,1,    0.000,2,   109.20,2,     0.14,    43.01,2,     0.05,     0.01,2,     0.01,     3.05,2,     0.01,     0.02,2,     0.01,    0.731,2,    0.381,2,    0.038,2,    0.130,2,   2343.8,2,   2331.5,2,   -999.0,9,   7.2938,       25,2, -999.000,9,    41.72,2, -999.000,1, -999.000,   -999.0,1,   -999.0, -999.000,9, -999.000, -999.000,9, -999.000,   -999.0,9,   -999.0, -999.000,9, -999.000,9, -999.000,9
  49NZ20140717,   P01,   136,  2,     26, X12J26,2,20140819,1916, 46.9967,-135.7360, 4143,    729.9,2,   3.6034,2,   3.60478,2,  34.2254,2,  34.2248,2,  34.3978,2,    20.89,2,    20.75,2,   99.941,   0.0023,2,    0.016,2,  -999.00,9,    3.137,1,    0.000,2,   120.79,2,     0.15,    43.53,2,     0.05,     0.00,2,     0.01,     3.09,2,     0.01,     0.01,2,     0.01,    0.428,2,    0.232,2,    0.018,2,    0.080,2,   2357.2,6,   2346.6,2,   -999.0,9,   7.2940,       25,2, -999.000,9,    39.30,2, -999.000,1, -999.000,   -999.0,1,   -999.0, -999.000,9, -999.000, -999.000,9, -999.000,   -999.0,9,   -999.0, -999.000,9, -999.000,9, -999.000,9
  49NZ20140717,   P01,   136,  2,     25, X12J25,2,20140819,1916, 46.9967,-135.7360, 4143,    830.2,2,   3.4281,2,   3.42854,2,  34.2818,2,  34.2819,2,  34.4571,2,    15.20,2,    14.81,2,   99.905,   0.0038,2,    0.015,2,  -999.00,9,    3.189,1,    0.000,2,   128.20,2,     0.15,    44.01,2,     0.06,     0.00,2,     0.01,     3.15,2,     0.01,     0.01,2,     0.01,    0.205,2,    0.119,2,    0.007,2,    0.030,2,   2369.3,2,   2355.4,2,   -999.0,9,   7.2917,       25,2, -999.000,9,    41.98,2, -999.000,1, -999.000,   -999.0,1,   -999.0, -999.000,9, -999.000, -999.000,9, -999.000,   -999.0,9,   -999.0, -999.000,9, -999.000,9, -999.000,9
  49NZ20140717,   P01,   136,  2,     24, X12J24,2,20140819,1916, 46.9967,-135.7360, 4143,    930.6,2,   3.2461,2,   3.24456,2,  34.3236,2,  34.3235,2,  34.5000,2,    12.98,2,    12.29,2,   99.909,   0.0036,2,    0.015,2,  -999.00,9,    3.243,1,    0.000,2,   134.84,2,     0.16,    44.34,2,     0.06,     0.00,2,     0.01,     3.17,2,     0.01,     0.01,2,     0.01,    0.100,2,    0.060,2,    0.002,2,    0.000,2,   2375.6,2,   2364.9,2,   -999.0,9,   7.2927,       25,6, -999.000,9,    42.55,2, -999.000,1, -999.000,   -999.0,1,   -999.0, -999.000,9, -999.000, -999.000,9, -999.000,   -999.0,9,   -999.0, -999.000,9, -999.000,9, -999.000,9
  49NZ20140717,   P01,   136,  2,     23, X12J23,2,20140819,1916, 46.9967,-135.7360, 4143,   1070.2,2,   2.9668,2,   2.96781,2,  34.3797,2,  34.3794,2,  34.5573,2,    13.10,2,    12.26,2,   99.950,   0.0020,2,    0.015,2,  -999.00,9,    3.230,1,    0.000,2,   144.44,2,     0.16,    44.61,2,     0.06,     0.00,2,     0.01,     3.18,2,     0.01,     0.00,2,     0.01,    0.046,2,    0.028,2,    0.001,2,    0.000,2,   2385.7,2,   2377.3,2,   -999.0,9,   7.2990,       25,2, -999.000,9,    40.36,2, -999.000,1, -999.000,   -999.0,1,   -999.0, -999.000,9, -999.000, -999.000,9, -999.000,   -999.0,9,   -999.0, -999.000,9, -999.000,9, -999.000,9
  49NZ20140717,   P01,   136,  2,     22, X12J22,2,20140819,1916, 46.9967,-135.7360, 4143,   1269.9,2,   2.6626,2,   2.66049,2,  34.4513,2,  34.4507,2,  34.6298,2,    14.45,2,    13.34,2,   99.909,   0.0036,2,    0.014,2,  -999.00,9,    3.280,1,    0.000,2,   154.75,2,     0.17,    44.73,2,     0.06,     0.01,2,     0.01,     3.17,2,     0.01,     0.00,2,     0.01,    0.008,2,    0.005,2,    0.000,2,    0.000,2,   2395.3,2,   2391.8,6,   -999.0,9,   7.3076,       25,2, -999.000,9,    39.04,2, -999.000,1, -999.000,   -999.0,1,   -999.0, -999.000,9, -999.000, -999.000,9, -999.000,   -999.0,9,   -999.0, -999.000,9, -999.000,9, -999.000,9
  49NZ20140717,   P01,   136,  2,     21, X12J21,2,20140819,1916, 46.9967,-135.7360, 4143,   1469.1,2,   2.3831,2,   2.38200,2,  34.5051,2,  34.5035,2,  34.6826,2,    22.89,2,    21.62,2,   99.976,   0.0010,2,    0.012,2,  -999.00,9,    3.276,1,    0.000,2,   162.66,2,     0.18,    44.36,2,     0.06,     0.01,2,     0.01,     3.13,2,     0.01,     0.00,2,     0.01,    0.000,2,    0.000,2,    0.001,2,    0.000,2,   2398.2,2,   2403.0,2,   -999.0,9,   7.3273,       25,2, -999.000,9,    38.98,2, -999.000,9, -999.000,   -999.0,9,   -999.0, -999.000,9, -999.000, -999.000,9, -999.000,   -999.0,9,   -999.0, -999.000,9, -999.000,9, -999.000,9
  49NZ20140717,   P01,   136,  2,     20, X12J20,2,20140819,1916, 46.9967,-135.7360, 4143,   1670.3,2,   2.1720,2,   2.17411,2,  34.5418,2,  34.5417,2,  34.7208,2,    35.08,2,    33.77,2,   99.955,   0.0018,2,    0.011,2,  -999.00,9,    3.278,1,    0.000,2,   167.97,2,     0.18,    43.64,2,     0.05,     0.00,2,     0.01,     3.08,2,     0.01,     0.00,2,     0.01,    0.000,2,    0.000,2,    0.000,2,    0.000,2,   2396.9,6,   2409.5,2,   -999.0,9,   7.3530,       25,6, -999.000,9,    37.19,2, -999.000,1, -999.000,   -999.0,1,   -999.0, -999.000,9, -999.000, -999.000,9, -999.000,   -999.0,9,   -999.0, -999.000,9, -999.000,9, -999.000,9
  49NZ20140717,   P01,   136,  2,     19, X12J19,2,20140819,1916, 46.9967,-135.7360, 4143,   1869.5,2,   2.0171,2,   2.01696,2,  34.5751,2,  34.5750,2,  34.7565,2,    48.27,2,    48.63,2,   99.959,   0.0016,2,    0.010,2,  -999.00,9,    3.213,1,    0.000,2,   172.10,2,     0.18,    42.79,2,     0.05,     0.00,2,     0.01,     3.02,2,     0.01,     0.00,2,     0.01,    0.000,2,    0.000,2,    0.000,2,    0.000,2,   2391.0,2,   2414.9,2,   -999.0,9,   7.3859,       25,2, -999.000,9,    39.28,2, -999.000,9, -999.000,   -999.0,9,   -999.0, -999.000,9, -999.000, -999.000,9, -999.000,   -999.0,9,   -999.0, -999.000,9, -999.000,9, -999.000,9
  49NZ20140717,   P01,   136,  2,     18, X12J18,2,20140819,1916, 46.9967,-135.7360, 4143,   2069.9,2,   1.9023,2,   1.90214,2,  34.6007,2,  34.6007,2,  34.7828,2,    61.55,2,    61.72,2,   99.963,   0.0015,2,    0.009,2,  -999.00,9,    3.160,1,    0.000,2,   174.32,2,     0.18,    41.96,2,     0.05,     0.00,2,     0.01,     2.96,2,     0.01,     0.00,2,     0.01,    0.000,2,    0.000,2,    0.000,2,    0.000,2,   2387.6,2,   2419.3,2,   -999.0,9,   7.4136,       25,2, -999.000,9,    39.58,2, -999.000,1, -999.000,   -999.0,1,   -999.0, -999.000,9, -999.000, -999.000,9, -999.000,   -999.0,9,   -999.0, -999.000,9, -999.000,9, -999.000,9
  49NZ20140717,   P01,   136,  2,     17, X12J17,2,20140819,1916, 46.9967,-135.7360, 4143,   2269.9,2,   1.8116,2,   1.81198,2,  34.6180,2,  34.6175,2,  34.7993,2,    71.83,2,    71.81,2,   99.978,   0.0009,2,    0.008,2,  -999.00,9,    3.083,1,    0.000,2,   175.11,2,     0.18,    41.27,2,     0.05,     0.00,2,     0.01,     2.90,2,     0.01,     0.01,2,     0.01,    0.000,2,    0.000,2,    0.000,2,    0.000,2,   2381.4,2,   2424.5,2,   -999.0,9,   7.4357,       25,2, -999.000,9,    39.27,2, -999.000,9, -999.000,   -999.0,9,   -999.0, -999.000,9, -999.000, -999.000,9, -999.000,   -999.0,9,   -999.0, -999.000,9, -999.000,9, -999.000,9
  49NZ20140717,   P01,   136,  2,     16, X12J16,2,20140819,1916, 46.9967,-135.7360, 4143,   2470.1,2,   1.7403,2,   1.73985,2,  34.6301,2,  34.6303,2,  34.8118,2,    81.89,2,    81.58,2,   99.981,   0.0008,2,    0.007,2,  -999.00,9,    3.002,1,    0.000,2,   175.08,2,     0.18,    40.71,2,     0.05,     0.01,2,     0.01,     2.86,2,     0.01,     0.01,2,     0.01,    0.000,2,    0.000,2,    0.001,2,    0.000,2,   2377.7,6,   2424.7,2,   -999.0,9,   7.4536,       25,2, -999.000,9,    39.07,2, -999.000,9, -999.000,   -999.0,9,   -999.0, -999.000,9, -999.000, -999.000,9, -999.000,   -999.0,9,   -999.0, -999.000,9, -999.000,9, -999.000,9
  49NZ20140717,   P01,   136,  2,     15, X12J15,2,20140819,1916, 46.9967,-135.7360, 4143,   2669.9,2,   1.6780,2,   1.67786,2,  34.6397,2,  34.6395,2,  34.8224,2,    90.42,2,    90.29,2,   99.978,   0.0009,2,    0.006,2,  -999.00,9,    2.880,1,    0.000,2,   174.36,2,     0.18,    40.18,2,     0.05,     0.01,2,     0.01,     2.82,2,     0.01,     0.01,2,     0.01,    0.000,2,    0.000,2,    0.000,2,    0.000,2,   2372.4,2,   2424.5,2,   -999.0,9,   7.4705,       25,2, -999.000,9,    42.18,3, -999.000,1, -999.000,   -999.0,1,   -999.0, -999.000,9, -999.000, -999.000,9, -999.000,   -999.0,9,   -999.0, -999.000,9, -999.000,9, -999.000,9
  49NZ20140717,   P01,   136,  2,     14, X12J14,2,20140819,1916, 46.9967,-135.7360, 4143,   2869.6,2,   1.6217,2,   1.62174,2,  34.6488,2,  34.6489,2,  34.8296,2,    99.66,2,    99.60,2,   99.983,   0.0007,2,    0.006,2,  -999.00,9,    2.855,1,    0.000,2,   173.45,2,     0.18,    39.58,2,     0.05,     0.00,2,     0.01,     2.78,2,     0.01,     0.00,2,     0.01,    0.000,2,    0.000,2,    0.000,2,    0.000,2,   2365.9,2,   2422.8,2,   -999.0,9,   7.4880,       25,2, -999.000,9,    36.26,2, -999.000,9, -999.000,   -999.0,9,   -999.0, -999.000,9, -999.000, -999.000,9, -999.000,   -999.0,9,   -999.0, -999.000,9, -999.000,9, -999.000,9
  49NZ20140717,   P01,   136,  2,     13, X12113,2,20140819,1916, 46.9967,-135.7360, 4143,   3080.2,2,   1.5800,2,   1.57970,2,  34.6561,2,  34.6561,2,  34.8389,2,   108.12,2,   108.24,2,   99.983,   0.0007,2,    0.005,2,  -999.00,9,    2.798,1,    0.000,2,   172.41,2,     0.18,    39.06,2,     0.05,     0.01,2,     0.01,     2.73,2,     0.01,     0.00,2,     0.01,    0.000,2,    0.000,2,    0.000,2,    0.000,2,   2360.8,2,   2425.1,2,   -999.0,9,   7.5038,       25,2, -999.000,9,    38.94,2, -999.000,1, -999.000,   -999.0,1,   -999.0, -999.000,9, -999.000, -999.000,9, -999.000,   -999.0,9,   -999.0, -999.000,9, -999.000,9, -999.000,9
  49NZ20140717,   P01,   136,  2,     12, X12J12,2,20140819,1916, 46.9967,-135.7360, 4143,   3330.8,2,   1.5426,2,   1.54259,2,  34.6642,2,  34.6643,2,  34.8468,2,   117.54,2,   117.69,2,   99.983,   0.0007,2,    0.005,2,  -999.00,9,    2.780,1,    0.000,2,   171.60,2,     0.18,    38.42,2,     0.05,     0.01,2,     0.01,     2.69,2,     0.01,     0.00,2,     0.01,    0.000,2,    0.000,2,    0.000,2,    0.000,2,   2355.2,2,   2425.9,6,   -999.0,9,   7.5224,       25,2, -999.000,9,    40.97,2, -999.000,9, -999.000,   -999.0,9,   -999.0, -999.000,9, -999.000, -999.000,9, -999.000,   -999.0,9,   -999.0, -999.000,9, -999.000,9, -999.000,9
  49NZ20140717,   P01,   136,  2,     11, X12J11,2,20140819,1916, 46.9967,-135.7360, 4143,   3580.1,2,   1.5239,2,   1.52385,2,  34.6705,2,  34.6704,2,  34.8540,2,   124.46,2,   124.59,2,   99.974,   0.0010,2,    0.004,2,  -999.00,9,    2.735,1,    0.000,2,   171.60,2,     0.18,    37.94,2,     0.05,     0.01,2,     0.01,     2.65,2,     0.01,     0.00,2,     0.01,    0.000,2,    0.000,2,    0.000,2,    0.000,2,   2350.5,2,   2427.5,2,   -999.0,9,   7.5366,       25,2, -999.000,9,    39.49,2, -999.000,1, -999.000,   -999.0,1,   -999.0, -999.000,9, -999.000, -999.000,9, -999.000,   -999.0,9,   -999.0, -999.000,9, -999.000,9, -999.000,9
  49NZ20140717,   P01,   136,  2,     10, X12J10,2,20140819,1916, 46.9967,-135.7360, 4143,   3829.2,2,   1.5253,2,   1.52513,2,  34.6745,2,  34.6747,2,  34.8580,2,   128.52,2,   128.66,2,   99.959,   0.0016,2,    0.004,2,  -999.00,9,    2.692,1,    0.000,2,   172.84,2,     0.18,    37.70,2,     0.05,     0.00,2,     0.01,     2.63,2,     0.01,     0.00,2,     0.01,    0.000,2,    0.000,2,    0.000,2,    0.000,2,   2349.7,2,   2429.4,2,   -999.0,9,   7.5459,       25,2, -999.000,9,    41.56,3, -999.000,9, -999.000,   -999.0,9,   -999.0, -999.000,9, -999.000, -999.000,9, -999.000,   -999.0,9,   -999.0, -999.000,9, -999.000,9, -999.000,9