BOTTLE,20230904JAMSTECRIGC
EXPOCODE,SECT,STNNBR,CASTNO,SAMPNO,BTLNBR,BTLNBR_FLAG_W,DATE,TIME,LATITUDE,LONGITUDE,DEPTH,CTDPRS,CTDPRS_FLAG_W,CTDTMP,CTDTMP_FLAG_W,SBE35,SBE35_FLAG_W,CTDSAL,CTDSAL_FLAG_W,SALNTY,SALNTY_FLAG_W,DNSSAL,DNSSAL_FLAG_W,CTDOXY,CTDOXY_FLAG_W,OXYGEN,OXYGEN_FLAG_W,XMISS,XMISSCP,XMISS_FLAG_W,FLUOR,FLUOR_FLAG_W,CHLORA,CHLORA_FLAG_W,CDOM,CDOM_FLAG_W,PAR,PAR_FLAG_W,SILCAT,SILCAT_FLAG_W,SILUNC,NITRAT,NITRAT_FLAG_W,NRAUNC,NITRIT,NITRIT_FLAG_W,NRIUNC,PHSPHT,PHSPHT_FLAG_W,PHPUNC,AMMONIA,AMMONIA_FLAG_W,NH4UNC,CFC-11,CFC-11_FLAG_W,CFC-12,CFC-12_FLAG_W,CFC113,CFC113_FLAG_W,SF6,SF6_FLAG_W,TCARBN,TCARBN_FLAG_W,ALKALI,ALKALI_FLAG_W,ALKALI_POT,ALKALI_POT_FLAG_W,PH_TOT,PH_TMP,PH_TOT_FLAG_W,CALCIUM,CALCIUM_FLAG_W,DOC,DOC_FLAG_W,DELC13,DELC13_FLAG_W,C13ERR,DELC14,DELC14_FLAG_W,C14ERR,CS-134,CS-134_FLAG_W,CS134ER,CS-137,CS-137_FLAG_W,CS137ER,I-129,I-129_FLAG_W,I-129ER,CDOM-325,CDOM-325_FLAG_W,CDOM-370,CDOM-370_FLAG_W,CDOM-443,CDOM-443_FLAG_W
,,,,,,,,UTC,DEG,DEG,METERS,DBAR,,ITS-90,,ITS-90,,PSS-78,,PSS-78,,G/KG,,UMOL/KG,,UMOL/KG,,%TRANS,/METER,,MG/CUM,,MG/CUM,,MG/CUM,,UE/SQM/S,,UMOL/KG,,UMOL/KG,UMOL/KG,,UMOL/KG,UMOL/KG,,UMOL/KG,UMOL/KG,,UMOL/KG,UMOL/KG,,UMOL/KG,PMOL/KG,,PMOL/KG,,PMOL/KG,,FMOL/KG,,UMOL/KG,,UMOL/KG,,UMOL/KG,,,DEG C,,MMOL/KG,,UMOL/KG,,/MILLE,,/MILLE,/MILLE,,/MILLE,MBQ/KG,,MBQ/KG,MBQ/KG,,MBQ/KG,,,,/METER,,/METER,,/METER,
  49NZ20140717,   P01,    99,  1,      9, X12J09,2,20140805,0930, 46.9972,-177.2145, 5710,   3999.2,2,   1.4772,2,   1.47744,2,  34.6804,2,  34.6800,2,-999.0000,9,   144.40,2,   144.19,2,  100.014,  -0.0006,2,    0.002,2,  -999.00,9,    2.557,4,    0.000,2,   157.39,2,     0.17,    36.61,2,     0.05,     0.00,2,     0.01,     2.56,2,     0.01,  -999.00,9,  -999.00, -999.000,9, -999.000,9, -999.000,9, -999.000,9,   2332.3,2,   2419.3,2,   -999.0,9,   7.5624,       25,2, -999.000,9,    38.62,2, -999.000,9, -999.000,   -999.0,9,   -999.0, -999.000,9, -999.000, -999.000,9, -999.000,   -999.0,9,   -999.0, -999.000,9, -999.000,9, -999.000,9
  49NZ20140717,   P01,    99,  1,      8, X12J08,2,20140805,0930, 46.9972,-177.2145, 5710,   4249.8,2,   1.4781,2,   1.47826,2,  34.6836,2,  34.6832,2,-999.0000,9,   148.07,2,   147.69,2,   99.999,   0.0000,2,    0.002,2,  -999.00,9,    1.443,4,    0.000,2,   157.67,2,     0.17,    36.39,2,     0.05,     0.00,2,     0.01,     2.54,2,     0.01,  -999.00,9,  -999.00, -999.000,9, -999.000,9, -999.000,9, -999.000,9,   2329.9,6,   2420.5,2,   -999.0,9,   7.5699,       25,2, -999.000,9,    41.68,3, -999.000,9, -999.000,   -999.0,9,   -999.0, -999.000,9, -999.000, -999.000,9, -999.000,   -999.0,9,   -999.0, -999.000,9, -999.000,9, -999.000,9
  49NZ20140717,   P01,    99,  1,      7, X12J07,2,20140805,0930, 46.9972,-177.2145, 5710,   4499.1,2,   1.4917,2,   1.49171,2,  34.6854,2,  34.6852,2,-999.0000,9,   150.11,2,   149.85,2,   99.999,   0.0000,2,    0.001,2,  -999.00,9,   -1.631,4,    0.000,2,   158.67,2,     0.17,    36.29,2,     0.05,     0.00,2,     0.01,     2.53,2,     0.01,  -999.00,9,  -999.00, -999.000,9, -999.000,9, -999.000,9, -999.000,9,   2330.6,2,   2420.5,2,   -999.0,9,   7.5745,       25,6, -999.000,9,    37.05,2, -999.000,9, -999.000,   -999.0,9,   -999.0, -999.000,9, -999.000, -999.000,9, -999.000,   -999.0,9,   -999.0, -999.000,9, -999.000,9, -999.000,9
  49NZ20140717,   P01,    99,  1,      6, X12J06,2,20140805,0930, 46.9972,-177.2145, 5710,   4749.8,2,   1.5144,2,   1.51456,2,  34.6865,2,  34.6863,2,-999.0000,9,   151.00,2,   150.88,2,   99.988,   0.0005,2,    0.001,2,  -999.00,9,   -0.685,4,    0.000,2,   159.31,2,     0.17,    36.23,2,     0.05,     0.00,2,     0.01,     2.53,2,     0.01,  -999.00,9,  -999.00, -999.000,9, -999.000,9, -999.000,9, -999.000,9,   2328.3,2,   2421.0,6,   -999.0,9,   7.5772,       25,2, -999.000,9,    39.07,2, -999.000,9, -999.000,   -999.0,9,   -999.0, -999.000,9, -999.000, -999.000,9, -999.000,   -999.0,9,   -999.0, -999.000,9, -999.000,9, -999.000,9
  49NZ20140717,   P01,    99,  1,      5, X12J05,2,20140805,0930, 46.9972,-177.2145, 5710,   5000.0,2,   1.5405,2,   1.54063,2,  34.6873,2,  34.6872,2,-999.0000,9,   151.71,2,   151.55,2,   99.984,   0.0006,2,    0.001,2,  -999.00,9,  497.217,4,    0.000,2,   160.07,2,     0.17,    36.19,2,     0.05,     0.00,2,     0.01,     2.53,2,     0.01,  -999.00,9,  -999.00, -999.000,9, -999.000,9, -999.000,9, -999.000,9,   2329.0,2,   2419.2,2,   -999.0,9,   7.5784,       25,2, -999.000,9,    38.20,2, -999.000,9, -999.000,   -999.0,9,   -999.0, -999.000,9, -999.000, -999.000,9, -999.000,   -999.0,9,   -999.0, -999.000,9, -999.000,9, -999.000,9
  49NZ20140717,   P01,    99,  1,      4, X12J04,2,20140805,0930, 46.9972,-177.2145, 5710,   5249.4,2,   1.5704,2,   1.57040,2,  34.6874,2,  34.6876,2,-999.0000,9,   151.99,2,   152.13,2,   99.954,   0.0019,2,    0.001,2,  -999.00,9,  497.217,4,    0.000,2,   160.45,2,     0.17,    36.18,2,     0.05,     0.00,2,     0.01,     2.52,2,     0.01,  -999.00,9,  -999.00, -999.000,9, -999.000,9, -999.000,9, -999.000,9,   2328.6,2,   2420.7,2,   -999.0,9,   7.5794,       25,2, -999.000,9,    39.63,2, -999.000,9, -999.000,   -999.0,9,   -999.0, -999.000,9, -999.000, -999.000,9, -999.000,   -999.0,9,   -999.0, -999.000,9, -999.000,9, -999.000,9
  49NZ20140717,   P01,    99,  1,      3, X12J03,2,20140805,0930, 46.9972,-177.2145, 5710,   5499.9,2,   1.6015,2,   1.60158,2,  34.6877,2,  34.6878,2,-999.0000,9,   152.30,2,   152.35,2,   99.960,   0.0016,2,    0.001,2,  -999.00,9,  497.217,4,    0.000,2,   160.37,2,     0.17,    36.13,2,     0.05,     0.00,2,     0.01,     2.52,2,     0.01,  -999.00,9,  -999.00, -999.000,9, -999.000,9, -999.000,9, -999.000,9,   2327.9,2,   2421.2,2,   -999.0,9,   7.5798,       25,2, -999.000,9,    39.77,2, -999.000,9, -999.000,   -999.0,9,   -999.0, -999.000,9, -999.000, -999.000,9, -999.000,   -999.0,9,   -999.0, -999.000,9, -999.000,9, -999.000,9
  49NZ20140717,   P01,    99,  1,      2, X12J02,2,20140805,0930, 46.9972,-177.2145, 5710,   5749.6,2,   1.6343,2,   1.63413,2,  34.6876,2,  34.6877,2,-999.0000,9,   152.44,2,   152.91,2,   99.930,   0.0028,2,    0.001,2,  -999.00,9,  497.217,4,    0.000,2,   160.46,2,     0.17,    36.16,2,     0.05,     0.00,2,     0.01,     2.52,2,     0.01,  -999.00,9,  -999.00, -999.000,9, -999.000,9, -999.000,9, -999.000,9,   2326.9,2,   2418.9,2,   -999.0,9,   7.5806,       25,2, -999.000,9,    42.73,3, -999.000,9, -999.000,   -999.0,9,   -999.0, -999.000,9, -999.000, -999.000,9, -999.000,   -999.0,9,   -999.0, -999.000,9, -999.000,9, -999.000,9
  49NZ20140717,   P01,    99,  1,      1, X12J01,2,20140805,0930, 46.9972,-177.2145, 5710,   5819.3,2,   1.6433,2,   1.64312,2,  34.6875,2,  34.6877,2,-999.0000,9,   152.48,2,   152.88,2,   99.841,   0.0064,2,    0.001,2,  -999.00,9,  494.380,4,    0.000,2,   160.31,2,     0.17,    36.12,2,     0.05,     0.00,2,     0.01,     2.52,2,     0.01,  -999.00,9,  -999.00, -999.000,9, -999.000,9, -999.000,9, -999.000,9,   2326.6,2,   2420.7,2,   -999.0,9,   7.5814,       25,2, -999.000,9,    39.19,2, -999.000,9, -999.000,   -999.0,9,   -999.0, -999.000,9, -999.000, -999.000,9, -999.000,   -999.0,9,   -999.0, -999.000,9, -999.000,9, -999.000,9