BOTTLE,20230904JAMSTECRIGC
EXPOCODE,SECT,STNNBR,CASTNO,SAMPNO,BTLNBR,BTLNBR_FLAG_W,DATE,TIME,LATITUDE,LONGITUDE,DEPTH,CTDPRS,CTDPRS_FLAG_W,CTDTMP,CTDTMP_FLAG_W,SBE35,SBE35_FLAG_W,CTDSAL,CTDSAL_FLAG_W,SALNTY,SALNTY_FLAG_W,DNSSAL,DNSSAL_FLAG_W,CTDOXY,CTDOXY_FLAG_W,OXYGEN,OXYGEN_FLAG_W,XMISS,XMISSCP,XMISS_FLAG_W,FLUOR,FLUOR_FLAG_W,CHLORA,CHLORA_FLAG_W,CDOM,CDOM_FLAG_W,PAR,PAR_FLAG_W,SILCAT,SILCAT_FLAG_W,SILUNC,NITRAT,NITRAT_FLAG_W,NRAUNC,NITRIT,NITRIT_FLAG_W,NRIUNC,PHSPHT,PHSPHT_FLAG_W,PHPUNC,AMMONIA,AMMONIA_FLAG_W,NH4UNC,CFC-11,CFC-11_FLAG_W,CFC-12,CFC-12_FLAG_W,CFC113,CFC113_FLAG_W,SF6,SF6_FLAG_W,TCARBN,TCARBN_FLAG_W,ALKALI,ALKALI_FLAG_W,ALKALI_POT,ALKALI_POT_FLAG_W,PH_TOT,PH_TMP,PH_TOT_FLAG_W,CALCIUM,CALCIUM_FLAG_W,DOC,DOC_FLAG_W,DELC13,DELC13_FLAG_W,C13ERR,DELC14,DELC14_FLAG_W,C14ERR,CS-134,CS-134_FLAG_W,CS134ER,CS-137,CS-137_FLAG_W,CS137ER,I-129,I-129_FLAG_W,I-129ER,CDOM-325,CDOM-325_FLAG_W,CDOM-370,CDOM-370_FLAG_W,CDOM-443,CDOM-443_FLAG_W
,,,,,,,,UTC,DEG,DEG,METERS,DBAR,,ITS-90,,ITS-90,,PSS-78,,PSS-78,,G/KG,,UMOL/KG,,UMOL/KG,,%TRANS,/METER,,MG/CUM,,MG/CUM,,MG/CUM,,UE/SQM/S,,UMOL/KG,,UMOL/KG,UMOL/KG,,UMOL/KG,UMOL/KG,,UMOL/KG,UMOL/KG,,UMOL/KG,UMOL/KG,,UMOL/KG,PMOL/KG,,PMOL/KG,,PMOL/KG,,FMOL/KG,,UMOL/KG,,UMOL/KG,,UMOL/KG,,,DEG C,,MMOL/KG,,UMOL/KG,,/MILLE,,/MILLE,/MILLE,,/MILLE,MBQ/KG,,MBQ/KG,MBQ/KG,,MBQ/KG,,,,/METER,,/METER,,/METER,
  49NZ20140717,   P01,   124,  1,      0,   -999,9,20140814,1355, 46.9902,-149.1433, 5060,   -999.0,9,-999.0000,9,-999.00000,9,-999.0000,9,  32.6512,2,-999.0000,9,  -999.00,9,  -999.00,9, -999.000,-999.0000,9, -999.000,9,     0.50,2, -999.000,9, -999.000,9,     2.05,2,     0.10,     3.31,2,     0.01,     0.06,2,     0.01,     0.57,2,     0.01,  -999.00,9,  -999.00, -999.000,9, -999.000,9, -999.000,9, -999.000,9,   -999.0,9,   -999.0,9,   -999.0,9,-999.0000,     -999,9, -999.000,9,  -999.00,9, -999.000,9, -999.000,   -999.0,9,   -999.0, -999.000,9, -999.000, -999.000,9, -999.000,   -999.0,9,   -999.0, -999.000,9, -999.000,9, -999.000,9
  49NZ20140717,   P01,   124,  1,     36, X12J36,2,20140814,1355, 46.9902,-149.1433, 5060,     10.1,2,  15.0705,2,  15.07592,2,  32.6536,2,  32.6583,2,-999.0000,9,   260.07,2,   260.56,2,   95.026,   0.2041,2,    0.478,2,     0.45,2,   -0.244,1,   29.676,2,     2.26,2,     0.10,     3.36,2,     0.01,     0.06,2,     0.01,     0.57,2,     0.01,  -999.00,9,  -999.00, -999.000,9, -999.000,9, -999.000,9, -999.000,9,   1981.2,2,   2201.4,2,   2201.6,2,   7.9256,       25,6,    9.685,2,    63.44,2, -999.000,9, -999.000,   -999.0,9,   -999.0, -999.000,9, -999.000, -999.000,9, -999.000,   -999.0,9,   -999.0, -999.000,9, -999.000,9, -999.000,9
  49NZ20140717,   P01,   124,  1,     35, X12J35,2,20140814,1355, 46.9902,-149.1433, 5060,     49.9,2,   7.7521,2,   7.74899,2,  33.0256,2,  33.0248,2,-999.0000,9,   291.67,2,   292.40,2,   98.587,   0.0569,2,    0.306,2,     0.37,2,    0.470,1,    0.876,2,    15.49,2,     0.09,    10.38,2,     0.02,     0.26,2,     0.01,     1.04,2,     0.01,  -999.00,9,  -999.00, -999.000,9, -999.000,9, -999.000,9, -999.000,9,   2054.8,6,   2213.5,2,   2212.8,2,   7.7834,       25,2,    9.787,2,    53.15,2, -999.000,9, -999.000,   -999.0,9,   -999.0, -999.000,9, -999.000, -999.000,9, -999.000,   -999.0,9,   -999.0, -999.000,9, -999.000,9, -999.000,9
  49NZ20140717,   P01,   124,  1,     34, X12J34,2,20140814,1355, 46.9902,-149.1433, 5060,    100.6,2,   7.1469,2,   7.14715,2,  33.5103,2,  33.4620,2,-999.0000,9,   245.38,2,   249.69,2,   99.656,   0.0138,2,    0.070,2,     0.06,2,    0.808,1,    0.036,2,    22.71,2,     0.09,    17.00,2,     0.03,     0.02,2,     0.01,     1.32,2,     0.01,  -999.00,9,  -999.00, -999.000,9, -999.000,9, -999.000,9, -999.000,9,   2103.1,2,   2235.9,2,   2238.0,2,   7.7061,       25,2,    9.916,2,    47.29,2, -999.000,9, -999.000,   -999.0,9,   -999.0, -999.000,9, -999.000, -999.000,9, -999.000,   -999.0,9,   -999.0, -999.000,9, -999.000,9, -999.000,9
  49NZ20140717,   P01,   124,  1,     33, X12J33,2,20140814,1355, 46.9902,-149.1433, 5060,    151.0,2,   6.2931,2,   6.29245,2,  33.8137,2,  33.8152,2,-999.0000,9,   185.04,2,   184.36,2,   99.638,   0.0145,2,    0.020,2,     0.01,2,    1.801,1,    0.000,2,    42.32,2,     0.10,    25.77,2,     0.04,     0.01,2,     0.01,     1.86,2,     0.01,  -999.00,9,  -999.00, -999.000,9, -999.000,9, -999.000,9, -999.000,9,   2177.7,2,   2267.8,2,   2265.0,2,   7.5796,       25,6,   10.031,2,    48.40,2, -999.000,9, -999.000,   -999.0,9,   -999.0, -999.000,9, -999.000, -999.000,9, -999.000,   -999.0,9,   -999.0, -999.000,9, -999.000,9, -999.000,9
  49NZ20140717,   P01,   124,  1,     32, X12J32,2,20140814,1355, 46.9902,-149.1433, 5060,    199.6,2,   5.4561,2,   5.44866,2,  33.8211,2,  33.8219,2,-999.0000,9,   155.48,2,   154.88,2,   99.756,   0.0098,2,    0.021,2,     0.00,2,    2.160,1,    0.000,2,    54.97,2,     0.11,    30.21,2,     0.04,     0.01,2,     0.01,     2.18,2,     0.01,  -999.00,9,  -999.00, -999.000,9, -999.000,9, -999.000,9, -999.000,9,   2214.2,2,   2276.1,6,   -999.0,9,   7.5031,       25,2, -999.000,9,    47.16,2, -999.000,9, -999.000,   -999.0,9,   -999.0, -999.000,9, -999.000, -999.000,9, -999.000,   -999.0,9,   -999.0, -999.000,9, -999.000,9, -999.000,9
  49NZ20140717,   P01,   124,  1,     31, X12J31,2,20140814,1355, 46.9902,-149.1433, 5060,    248.5,2,   4.8577,2,   4.85889,2,  33.8230,2,  33.8235,2,-999.0000,9,   135.84,2,   136.21,2,   99.834,   0.0067,2,    0.019,2,     0.00,2,    2.393,1,    0.000,2,    63.57,2,     0.11,    32.94,2,     0.04,     0.01,2,     0.01,     2.38,2,     0.01,  -999.00,9,  -999.00, -999.000,9, -999.000,9, -999.000,9, -999.000,9,   2235.5,2,   2279.2,2,   -999.0,9,   7.4525,       25,2, -999.000,9,    46.57,2, -999.000,9, -999.000,   -999.0,9,   -999.0, -999.000,9, -999.000, -999.000,9, -999.000,   -999.0,9,   -999.0, -999.000,9, -999.000,9, -999.000,9
  49NZ20140717,   P01,   124,  1,     30, X12J30,2,20140814,1355, 46.9902,-149.1433, 5060,    328.9,2,   4.3422,2,   4.34166,2,  33.9028,2,  33.9011,2,-999.0000,9,    92.16,2,    93.19,2,   99.816,   0.0074,2,    0.020,2,  -999.00,9,    2.705,1,    0.000,2,    79.34,2,     0.12,    37.70,2,     0.05,     0.00,2,     0.01,     2.69,2,     0.01,  -999.00,9,  -999.00, -999.000,9, -999.000,9, -999.000,9, -999.000,9,   2277.2,2,   2296.3,2,   -999.0,9,   7.3707,       25,2, -999.000,9,    44.01,2, -999.000,9, -999.000,   -999.0,9,   -999.0, -999.000,9, -999.000, -999.000,9, -999.000,   -999.0,9,   -999.0, -999.000,9, -999.000,9, -999.000,9
  49NZ20140717,   P01,   124,  1,     29, X12J29,2,20140814,1355, 46.9902,-149.1433, 5060,    430.5,2,   4.1044,2,   4.10432,2,  34.0113,2,  34.0104,2,-999.0000,9,    62.93,2,    63.71,2,   99.866,   0.0054,2,    0.022,2,  -999.00,9,    2.810,1,    0.000,2,    93.31,2,     0.13,    40.22,2,     0.05,     0.01,2,     0.01,     2.87,2,     0.01,  -999.00,9,  -999.00, -999.000,9, -999.000,9, -999.000,9, -999.000,9,   2304.9,2,   2312.3,2,   -999.0,9,   7.3352,       25,2, -999.000,9,    42.49,2, -999.000,9, -999.000,   -999.0,9,   -999.0, -999.000,9, -999.000, -999.000,9, -999.000,   -999.0,9,   -999.0, -999.000,9, -999.000,9, -999.000,9
  49NZ20140717,   P01,   124,  1,     28, X12J28,2,20140814,1355, 46.9902,-149.1433, 5060,    529.1,2,   3.8116,2,   3.81205,2,  34.0824,2,  34.0823,2,-999.0000,9,    42.21,2,    42.80,2,   99.933,   0.0027,2,    0.021,2,  -999.00,9,    2.953,1,    0.000,2,   105.91,2,     0.14,    42.13,2,     0.05,     0.00,2,     0.01,     3.00,2,     0.01,  -999.00,9,  -999.00, -999.000,9, -999.000,9, -999.000,9, -999.000,9,   2328.6,2,   2324.3,2,   2320.8,2,   7.3024,       25,2,   10.147,2,    40.98,2, -999.000,9, -999.000,   -999.0,9,   -999.0, -999.000,9, -999.000, -999.000,9, -999.000,   -999.0,9,   -999.0, -999.000,9, -999.000,9, -999.000,9
  49NZ20140717,   P01,   124,  1,     27, X12J27,2,20140814,1355, 46.9902,-149.1433, 5060,    631.0,2,   3.6890,2,   3.68881,2,  34.1723,2,  34.1716,2,-999.0000,9,    32.01,2,    32.23,2,   99.927,   0.0029,2,    0.021,2,  -999.00,9,    3.061,1,    0.000,2,   115.51,2,     0.15,    42.79,2,     0.05,     0.00,2,     0.01,     3.05,2,     0.01,  -999.00,9,  -999.00, -999.000,9, -999.000,9, -999.000,9, -999.000,9,   2343.0,2,   2338.8,2,   -999.0,9,   7.3014,       25,2, -999.000,9,    42.13,2, -999.000,9, -999.000,   -999.0,9,   -999.0, -999.000,9, -999.000, -999.000,9, -999.000,   -999.0,9,   -999.0, -999.000,9, -999.000,9, -999.000,9
  49NZ20140717,   P01,   124,  1,     26, X12J26,2,20140814,1355, 46.9902,-149.1433, 5060,    731.5,2,   3.5211,2,   3.52156,2,  34.2400,2,  34.2383,2,-999.0000,9,    26.41,2,    26.65,2,   99.909,   0.0036,2,    0.020,2,  -999.00,9,    3.108,1,    0.000,2,   123.62,2,     0.15,    43.20,2,     0.05,     0.00,2,     0.01,     3.09,2,     0.01,  -999.00,9,  -999.00, -999.000,9, -999.000,9, -999.000,9, -999.000,9,   2353.4,6,   2350.9,2,   -999.0,9,   7.3051,       25,2, -999.000,9,    41.51,2, -999.000,9, -999.000,   -999.0,9,   -999.0, -999.000,9, -999.000, -999.000,9, -999.000,   -999.0,9,   -999.0, -999.000,9, -999.000,9, -999.000,9
  49NZ20140717,   P01,   124,  1,     25, X12J25,2,20140814,1355, 46.9902,-149.1433, 5060,    828.4,2,   3.3261,2,   3.32523,2,  34.2943,2,  34.2928,2,-999.0000,9,    23.26,2,    23.14,2,   99.907,   0.0037,2,    0.020,2,  -999.00,9,    3.130,1,    0.000,2,   130.56,2,     0.16,    43.54,2,     0.05,     0.00,2,     0.01,     3.11,2,     0.01,  -999.00,9,  -999.00, -999.000,9, -999.000,9, -999.000,9, -999.000,9,   2363.5,2,   2361.0,2,   2355.2,2,   7.3057,       25,2,   10.218,2,    41.44,2, -999.000,9, -999.000,   -999.0,9,   -999.0, -999.000,9, -999.000, -999.000,9, -999.000,   -999.0,9,   -999.0, -999.000,9, -999.000,9, -999.000,9
  49NZ20140717,   P01,   124,  1,     24, X12J24,2,20140814,1355, 46.9902,-149.1433, 5060,    930.8,2,   3.1410,2,   3.13990,2,  34.3353,2,  34.3348,2,-999.0000,9,    22.25,2,    21.88,2,   99.916,   0.0034,2,    0.019,2,  -999.00,9,    3.149,1,    0.000,2,   136.95,2,     0.16,    43.77,2,     0.06,     0.00,2,     0.01,     3.12,2,     0.01,  -999.00,9,  -999.00, -999.000,9, -999.000,9, -999.000,9, -999.000,9,   2371.3,2,   2368.8,2,   -999.0,9,   7.3096,       25,6, -999.000,9,    41.34,2, -999.000,9, -999.000,   -999.0,9,   -999.0, -999.000,9, -999.000, -999.000,9, -999.000,   -999.0,9,   -999.0, -999.000,9, -999.000,9, -999.000,9
  49NZ20140717,   P01,   124,  1,     23, X12J23,2,20140814,1355, 46.9902,-149.1433, 5060,   1073.3,2,   2.8831,2,   2.88248,2,  34.3864,2,  34.3861,2,-999.0000,9,    21.95,2,    21.43,2,   99.903,   0.0039,2,    0.019,2,  -999.00,9,    3.257,1,    0.000,2,   145.47,2,     0.16,    43.99,2,     0.06,     0.00,2,     0.01,     3.14,2,     0.01,  -999.00,9,  -999.00, -999.000,9, -999.000,9, -999.000,9, -999.000,9,   2380.5,2,   2376.9,2,   2378.0,2,   7.3125,       25,2,   10.248,2,  -999.00,9, -999.000,9, -999.000,   -999.0,9,   -999.0, -999.000,9, -999.000, -999.000,9, -999.000,   -999.0,9,   -999.0, -999.000,9, -999.000,9, -999.000,9
  49NZ20140717,   P01,   124,  1,     22, X12J22,2,20140814,1355, 46.9902,-149.1433, 5060,   1272.7,2,   2.5956,2,   2.59551,2,  34.4459,2,  34.4461,2,-999.0000,9,    19.19,2,    18.34,2,   99.942,   0.0023,2,    0.018,2,  -999.00,9,    3.291,1,    0.000,2,   155.85,2,     0.17,    44.50,2,     0.06,     0.00,2,     0.01,     3.16,2,     0.01,  -999.00,9,  -999.00, -999.000,9, -999.000,9, -999.000,9, -999.000,9,   2392.6,2,   2390.9,6,   2387.6,2,   7.3128,       25,2,   10.273,2,    37.63,2, -999.000,9, -999.000,   -999.0,9,   -999.0, -999.000,9, -999.000, -999.000,9, -999.000,   -999.0,9,   -999.0, -999.000,9, -999.000,9, -999.000,9
  49NZ20140717,   P01,   124,  1,     21, X12J21,2,20140814,1355, 46.9902,-149.1433, 5060,   1470.2,2,   2.3790,2,   2.37900,2,  34.4950,2,  34.4948,2,-999.0000,9,    19.13,2,    18.12,2,   99.929,   0.0028,2,    0.018,2,  -999.00,9,    3.310,1,    0.000,2,   163.91,2,     0.18,    44.87,2,     0.06,     0.00,2,     0.01,     3.16,2,     0.01,  -999.00,9,  -999.00, -999.000,9, -999.000,9, -999.000,9, -999.000,9,   2400.8,2,   2400.4,2,   -999.0,9,   7.3193,       25,2, -999.000,9,    39.93,2, -999.000,9, -999.000,   -999.0,9,   -999.0, -999.000,9, -999.000, -999.000,9, -999.000,   -999.0,9,   -999.0, -999.000,9, -999.000,9, -999.000,9
  49NZ20140717,   P01,   124,  1,     20, X12J20,2,20140814,1355, 46.9902,-149.1433, 5060,   1671.1,2,   2.2066,2,   2.20651,2,  34.5321,2,  34.5322,2,-999.0000,9,    26.65,2,    25.96,2,   99.905,   0.0038,2,    0.017,2,  -999.00,9,    3.292,1,    0.000,2,   168.85,2,     0.18,    44.52,2,     0.06,     0.00,2,     0.01,     3.12,2,     0.01,  -999.00,9,  -999.00, -999.000,9, -999.000,9, -999.000,9, -999.000,9,   2400.7,2,   2406.0,2,   2400.0,2,   7.3352,       25,6,   10.296,2,    38.25,2, -999.000,9, -999.000,   -999.0,9,   -999.0, -999.000,9, -999.000, -999.000,9, -999.000,   -999.0,9,   -999.0, -999.000,9, -999.000,9, -999.000,9
  49NZ20140717,   P01,   124,  1,     19, X12J19,2,20140814,1355, 46.9902,-149.1433, 5060,   1871.2,2,   2.0477,2,   2.04752,2,  34.5659,2,  34.5661,2,-999.0000,9,    40.17,2,    39.71,2,   99.955,   0.0018,2,    0.015,2,  -999.00,9,    3.268,1,    0.000,2,   172.19,2,     0.18,    43.62,2,     0.05,     0.00,2,     0.01,     3.06,2,     0.01,  -999.00,9,  -999.00, -999.000,9, -999.000,9, -999.000,9, -999.000,9,   2396.3,2,   2413.4,2,   -999.0,9,   7.3642,       25,2, -999.000,9,    40.64,2, -999.000,9, -999.000,   -999.0,9,   -999.0, -999.000,9, -999.000, -999.000,9, -999.000,   -999.0,9,   -999.0, -999.000,9, -999.000,9, -999.000,9
  49NZ20140717,   P01,   124,  1,     18, X12J18,2,20140814,1355, 46.9902,-149.1433, 5060,   2070.9,2,   1.9188,2,   1.91873,2,  34.5919,2,  34.5920,2,-999.0000,9,    53.65,2,    53.46,2,   99.964,   0.0015,2,    0.013,2,  -999.00,9,    3.178,1,    0.000,2,   174.34,2,     0.18,    42.83,2,     0.05,     0.00,2,     0.01,     3.00,2,     0.01,  -999.00,9,  -999.00, -999.000,9, -999.000,9, -999.000,9, -999.000,9,   2391.2,2,   2417.6,2,   2412.4,2,   7.3919,       25,2,   10.315,2,    39.04,2, -999.000,9, -999.000,   -999.0,9,   -999.0, -999.000,9, -999.000, -999.000,9, -999.000,   -999.0,9,   -999.0, -999.000,9, -999.000,9, -999.000,9
  49NZ20140717,   P01,   124,  1,     17, X12J17,2,20140814,1355, 46.9902,-149.1433, 5060,   2270.3,2,   1.8202,2,   1.82020,2,  34.6101,2,  34.6110,2,-999.0000,9,    65.32,2,    65.34,2,   99.970,   0.0012,2,    0.013,2,  -999.00,9,    3.142,1,    0.000,2,   175.32,2,     0.18,    42.13,2,     0.05,     0.00,2,     0.01,     2.95,2,     0.01,  -999.00,9,  -999.00, -999.000,9, -999.000,9, -999.000,9, -999.000,9,   2384.9,2,   2420.7,2,   -999.0,9,   7.4163,       25,2, -999.000,9,    39.40,2, -999.000,9, -999.000,   -999.0,9,   -999.0, -999.000,9, -999.000, -999.000,9, -999.000,   -999.0,9,   -999.0, -999.000,9, -999.000,9, -999.000,9
  49NZ20140717,   P01,   124,  1,     16, X12J16,2,20140814,1355, 46.9902,-149.1433, 5060,   2469.7,2,   1.7280,2,   1.72797,2,  34.6270,2,  34.6275,2,-999.0000,9,    78.58,2,    78.49,2,   99.948,   0.0021,2,    0.012,2,  -999.00,9,    2.955,1,    0.000,2,   174.97,2,     0.18,    41.28,2,     0.05,     0.00,2,     0.01,     2.89,2,     0.01,  -999.00,9,  -999.00, -999.000,9, -999.000,9, -999.000,9, -999.000,9,   2377.1,6,   2422.5,2,   -999.0,9,   7.4437,       25,2, -999.000,9,    36.47,2, -999.000,9, -999.000,   -999.0,9,   -999.0, -999.000,9, -999.000, -999.000,9, -999.000,   -999.0,9,   -999.0, -999.000,9, -999.000,9, -999.000,9
  49NZ20140717,   P01,   124,  1,     15, X12J15,2,20140814,1355, 46.9902,-149.1433, 5060,   2670.3,2,   1.6567,2,   1.65654,2,  34.6401,2,  34.6403,2,-999.0000,9,    90.62,2,    90.65,2,   99.957,   0.0017,2,    0.010,2,  -999.00,9,    2.927,1,    0.000,2,   173.67,2,     0.18,    40.50,2,     0.05,     0.00,2,     0.01,     2.83,2,     0.01,  -999.00,9,  -999.00, -999.000,9, -999.000,9, -999.000,9, -999.000,9,   2369.6,2,   2423.1,2,   -999.0,9,   7.4649,       25,2, -999.000,9,    38.16,2, -999.000,9, -999.000,   -999.0,9,   -999.0, -999.000,9, -999.000, -999.000,9, -999.000,   -999.0,9,   -999.0, -999.000,9, -999.000,9, -999.000,9
  49NZ20140717,   P01,   124,  1,     14, X12J14,2,20140814,1355, 46.9902,-149.1433, 5060,   2869.5,2,   1.5973,2,   1.59721,2,  34.6509,2,  34.6511,2,-999.0000,9,   101.99,2,   102.06,2,   99.951,   0.0020,2,    0.010,2,  -999.00,9,    2.800,1,    0.000,2,   171.41,2,     0.18,    39.58,2,     0.05,     0.00,2,     0.01,     2.77,2,     0.01,  -999.00,9,  -999.00, -999.000,9, -999.000,9, -999.000,9, -999.000,9,   2362.5,2,   2423.5,2,   -999.0,9,   7.4866,       25,2, -999.000,9,    37.03,2, -999.000,9, -999.000,   -999.0,9,   -999.0, -999.000,9, -999.000, -999.000,9, -999.000,   -999.0,9,   -999.0, -999.000,9, -999.000,9, -999.000,9
  49NZ20140717,   P01,   124,  1,     13, X12113,2,20140814,1355, 46.9902,-149.1433, 5060,   3079.9,2,   1.5599,2,   1.55974,2,  34.6585,2,  34.6590,2,-999.0000,9,   110.69,2,   110.56,2,   99.940,   0.0024,2,    0.009,2,  -999.00,9,    2.815,1,    0.000,2,   170.29,2,     0.18,    39.03,2,     0.05,     0.00,2,     0.01,     2.73,2,     0.01,  -999.00,9,  -999.00, -999.000,9, -999.000,9, -999.000,9, -999.000,9,   2357.3,2,   2424.5,2,   2419.5,2,   7.5036,       25,2,   10.339,2,    37.90,2, -999.000,9, -999.000,   -999.0,9,   -999.0, -999.000,9, -999.000, -999.000,9, -999.000,   -999.0,9,   -999.0, -999.000,9, -999.000,9, -999.000,9
  49NZ20140717,   P01,   124,  1,     12, X12J12,2,20140814,1355, 46.9902,-149.1433, 5060,   3333.3,2,   1.5198,2,   1.51980,2,  34.6671,2,  34.6673,2,-999.0000,9,   121.04,2,   121.03,2,   99.964,   0.0015,2,    0.009,2,  -999.00,9,    2.657,1,    0.000,2,   168.92,2,     0.18,    38.37,2,     0.05,     0.00,2,     0.01,     2.68,2,     0.01,  -999.00,9,  -999.00, -999.000,9, -999.000,9, -999.000,9, -999.000,9,   2351.0,2,   2425.8,6,   -999.0,9,   7.5245,       25,2, -999.000,9,    38.03,2, -999.000,9, -999.000,   -999.0,9,   -999.0, -999.000,9, -999.000, -999.000,9, -999.000,   -999.0,9,   -999.0, -999.000,9, -999.000,9, -999.000,9
  49NZ20140717,   P01,   124,  1,     11, X12J11,2,20140814,1355, 46.9902,-149.1433, 5060,   3580.9,2,   1.4945,2,   1.49448,2,  34.6737,2,  34.6737,2,-999.0000,9,   129.49,2,   129.39,2,   99.970,   0.0012,2,    0.007,2,  -999.00,9,    2.648,1,    0.000,2,   167.80,2,     0.18,    37.81,2,     0.05,     0.00,2,     0.01,     2.64,2,     0.01,  -999.00,9,  -999.00, -999.000,9, -999.000,9, -999.000,9, -999.000,9,   2346.4,2,   2426.0,2,   -999.0,9,   7.5410,       25,2, -999.000,9,    38.06,2, -999.000,9, -999.000,   -999.0,9,   -999.0, -999.000,9, -999.000, -999.000,9, -999.000,   -999.0,9,   -999.0, -999.000,9, -999.000,9, -999.000,9
  49NZ20140717,   P01,   124,  1,     10, X12J10,2,20140814,1355, 46.9902,-149.1433, 5060,   3832.0,2,   1.4890,2,   1.48886,2,  34.6779,2,  34.6781,2,-999.0000,9,   134.83,2,   134.73,2,   99.955,   0.0018,2,    0.007,2,  -999.00,9,    2.819,4,    0.000,2,   167.91,2,     0.18,    37.53,2,     0.05,     0.00,2,     0.01,     2.61,2,     0.01,  -999.00,9,  -999.00, -999.000,9, -999.000,9, -999.000,9, -999.000,9,   2343.6,2,   2429.6,2,   -999.0,9,   7.5528,       25,2, -999.000,9,    36.36,2, -999.000,9, -999.000,   -999.0,9,   -999.0, -999.000,9, -999.000, -999.000,9, -999.000,   -999.0,9,   -999.0, -999.000,9, -999.000,9, -999.000,9