BOTTLE,20230904JAMSTECRIGC
EXPOCODE,SECT,STNNBR,CASTNO,SAMPNO,BTLNBR,BTLNBR_FLAG_W,DATE,TIME,LATITUDE,LONGITUDE,DEPTH,CTDPRS,CTDPRS_FLAG_W,CTDTMP,CTDTMP_FLAG_W,SBE35,SBE35_FLAG_W,CTDSAL,CTDSAL_FLAG_W,SALNTY,SALNTY_FLAG_W,DNSSAL,DNSSAL_FLAG_W,CTDOXY,CTDOXY_FLAG_W,OXYGEN,OXYGEN_FLAG_W,XMISS,XMISSCP,XMISS_FLAG_W,FLUOR,FLUOR_FLAG_W,CHLORA,CHLORA_FLAG_W,CDOM,CDOM_FLAG_W,PAR,PAR_FLAG_W,SILCAT,SILCAT_FLAG_W,SILUNC,NITRAT,NITRAT_FLAG_W,NRAUNC,NITRIT,NITRIT_FLAG_W,NRIUNC,PHSPHT,PHSPHT_FLAG_W,PHPUNC,AMMONIA,AMMONIA_FLAG_W,NH4UNC,CFC-11,CFC-11_FLAG_W,CFC-12,CFC-12_FLAG_W,CFC113,CFC113_FLAG_W,SF6,SF6_FLAG_W,TCARBN,TCARBN_FLAG_W,ALKALI,ALKALI_FLAG_W,ALKALI_POT,ALKALI_POT_FLAG_W,PH_TOT,PH_TMP,PH_TOT_FLAG_W,CALCIUM,CALCIUM_FLAG_W,DOC,DOC_FLAG_W,DELC13,DELC13_FLAG_W,C13ERR,DELC14,DELC14_FLAG_W,C14ERR,CS-134,CS-134_FLAG_W,CS134ER,CS-137,CS-137_FLAG_W,CS137ER,I-129,I-129_FLAG_W,I-129ER,CDOM-325,CDOM-325_FLAG_W,CDOM-370,CDOM-370_FLAG_W,CDOM-443,CDOM-443_FLAG_W
,,,,,,,,UTC,DEG,DEG,METERS,DBAR,,ITS-90,,ITS-90,,PSS-78,,PSS-78,,G/KG,,UMOL/KG,,UMOL/KG,,%TRANS,/METER,,MG/CUM,,MG/CUM,,MG/CUM,,UE/SQM/S,,UMOL/KG,,UMOL/KG,UMOL/KG,,UMOL/KG,UMOL/KG,,UMOL/KG,UMOL/KG,,UMOL/KG,UMOL/KG,,UMOL/KG,PMOL/KG,,PMOL/KG,,PMOL/KG,,FMOL/KG,,UMOL/KG,,UMOL/KG,,UMOL/KG,,,DEG C,,MMOL/KG,,UMOL/KG,,/MILLE,,/MILLE,/MILLE,,/MILLE,MBQ/KG,,MBQ/KG,MBQ/KG,,MBQ/KG,,,,/METER,,/METER,,/METER,
  49NZ20140717,   P01,   111,  1,      0,   -999,9,20140810,0833, 47.0093,-163.7212, 5205,   -999.0,9,-999.0000,9,-999.00000,9,-999.0000,9,  32.6243,2,-999.0000,9,  -999.00,9,  -999.00,9, -999.000,-999.0000,9, -999.000,9,  -999.00,9, -999.000,9, -999.000,9,    18.61,2,     0.09,    11.33,2,     0.02,     0.15,2,     0.01,     1.12,2,     0.01,  -999.00,9,  -999.00, -999.000,9, -999.000,9, -999.000,9, -999.000,9,   -999.0,9,   -999.0,9,   -999.0,9,-999.0000,     -999,9, -999.000,9,  -999.00,9, -999.000,9, -999.000,   -999.0,9,   -999.0, -999.000,9, -999.000, -999.000,9, -999.000,   -999.0,9,   -999.0, -999.000,9, -999.000,9, -999.000,9
  49NZ20140717,   P01,   111,  1,     36, X12J36,2,20140810,0833, 47.0093,-163.7212, 5205,      9.8,2,  12.7666,2,  12.76658,2,  32.6215,2,  32.6223,2,-999.0000,9,   274.99,2,   275.49,2,   93.739,   0.2586,2,    0.601,2,  -999.00,9,   -1.133,1,    0.321,2,    18.58,2,     0.09,    11.37,2,     0.02,     0.15,2,     0.01,     1.12,2,     0.01,  -999.00,9,  -999.00,    3.274,2,    1.905,2,    0.363,2, -999.000,9,   -999.0,9,   -999.0,9,   -999.0,9,-999.0000,     -999,9, -999.000,9,  -999.00,9, -999.000,9, -999.000,   -999.0,9,   -999.0, -999.000,9, -999.000, -999.000,9, -999.000,   -999.0,9,   -999.0, -999.000,9, -999.000,9, -999.000,9
  49NZ20140717,   P01,   111,  1,     35, X12J35,2,20140810,0833, 47.0093,-163.7212, 5205,     50.6,2,   6.1680,2,   6.16704,2,  32.9371,2,  32.9383,2,-999.0000,9,   317.93,2,   318.73,2,   97.839,   0.0874,2,    0.427,2,  -999.00,9,    0.607,1,    0.000,2,    21.11,2,     0.09,    13.65,2,     0.02,     0.13,2,     0.01,     1.30,2,     0.01,  -999.00,9,  -999.00,    4.595,2,    2.559,2,    0.454,2, -999.000,9,   -999.0,9,   -999.0,9,   -999.0,9,-999.0000,     -999,9, -999.000,9,  -999.00,9, -999.000,9, -999.000,   -999.0,9,   -999.0, -999.000,9, -999.000, -999.000,9, -999.000,   -999.0,9,   -999.0, -999.000,9, -999.000,9, -999.000,9
  49NZ20140717,   P01,   111,  1,     34, X12J34,2,20140810,0833, 47.0093,-163.7212, 5205,    100.5,2,   5.5740,2,   5.57145,2,  33.0250,2,  33.0274,2,-999.0000,9,   297.97,2,   298.30,2,   99.351,   0.0261,2,    0.182,2,  -999.00,9,    0.570,1,    0.000,2,    22.33,2,     0.09,    16.28,2,     0.03,     0.05,2,     0.01,     1.39,2,     0.01,  -999.00,9,  -999.00,    4.604,2,    2.556,2,    0.439,2, -999.000,9,   -999.0,9,   -999.0,9,   -999.0,9,-999.0000,     -999,9, -999.000,9,  -999.00,9, -999.000,9, -999.000,   -999.0,9,   -999.0, -999.000,9, -999.000, -999.000,9, -999.000,   -999.0,9,   -999.0, -999.000,9, -999.000,9, -999.000,9
  49NZ20140717,   P01,   111,  1,     33, X12J33,2,20140810,0833, 47.0093,-163.7212, 5205,    150.0,2,   4.7029,2,   4.70306,2,  33.5954,2,  33.6017,2,-999.0000,9,   205.46,2,   203.73,2,   99.671,   0.0132,2,    0.024,2,  -999.00,9,    1.758,1,    0.000,2,    47.89,2,     0.10,    27.34,2,     0.04,     0.01,2,     0.01,     2.02,2,     0.01,  -999.00,9,  -999.00,    3.958,2,    2.166,2,    0.313,2, -999.000,9,   -999.0,9,   -999.0,9,   -999.0,9,-999.0000,     -999,9, -999.000,9,  -999.00,9, -999.000,9, -999.000,   -999.0,9,   -999.0, -999.000,9, -999.000, -999.000,9, -999.000,   -999.0,9,   -999.0, -999.000,9, -999.000,9, -999.000,9
  49NZ20140717,   P01,   111,  1,     32, X12J32,2,20140810,0833, 47.0093,-163.7212, 5205,    199.4,2,   4.2216,2,   4.22153,2,  33.7397,2,  33.7396,2,-999.0000,9,   140.95,2,   140.99,2,   99.760,   0.0096,2,    0.023,2,  -999.00,9,    2.426,1,    0.000,2,    66.26,2,     0.12,    33.83,2,     0.05,     0.01,2,     0.01,     2.46,2,     0.01,  -999.00,9,  -999.00,    3.356,2,    1.797,2,    0.239,2, -999.000,9,   -999.0,9,   -999.0,9,   -999.0,9,-999.0000,     -999,9, -999.000,9,  -999.00,9, -999.000,9, -999.000,   -999.0,9,   -999.0, -999.000,9, -999.000, -999.000,9, -999.000,   -999.0,9,   -999.0, -999.000,9, -999.000,9, -999.000,9
  49NZ20140717,   P01,   111,  1,     31, X12J31,2,20140810,0833, 47.0093,-163.7212, 5205,    248.3,2,   3.9857,2,   3.98542,2,  33.8020,2,  33.8014,2,-999.0000,9,   110.47,2,   110.72,2,   99.793,   0.0083,2,    0.021,2,  -999.00,9,    2.526,1,    0.000,2,    76.19,2,     0.12,    36.89,2,     0.05,     0.01,2,     0.01,     2.66,2,     0.01,  -999.00,9,  -999.00,    2.946,2,    1.561,2,    0.199,2, -999.000,9,   -999.0,9,   -999.0,9,   -999.0,9,-999.0000,     -999,9, -999.000,9,  -999.00,9, -999.000,9, -999.000,   -999.0,9,   -999.0, -999.000,9, -999.000, -999.000,9, -999.000,   -999.0,9,   -999.0, -999.000,9, -999.000,9, -999.000,9
  49NZ20140717,   P01,   111,  1,     30, X12J30,2,20140810,0833, 47.0093,-163.7212, 5205,    301.1,2,   4.0438,2,   4.04371,2,  33.8958,2,  33.8956,2,-999.0000,9,    87.09,2,    87.48,2,   99.782,   0.0087,2,    0.022,2,  -999.00,9,    2.693,1,    0.000,2,    84.29,2,     0.13,    38.55,2,     0.05,     0.01,2,     0.01,     2.76,2,     0.01,  -999.00,9,  -999.00,    2.445,2,    1.280,2,    0.174,2, -999.000,9,   -999.0,9,   -999.0,9,   -999.0,9,-999.0000,     -999,9, -999.000,9,  -999.00,9, -999.000,9, -999.000,   -999.0,9,   -999.0, -999.000,9, -999.000, -999.000,9, -999.000,   -999.0,9,   -999.0, -999.000,9, -999.000,9, -999.000,9
  49NZ20140717,   P01,   111,  1,     29, X12J29,2,20140810,0833, 47.0093,-163.7212, 5205,    401.5,2,   3.8352,2,   3.83416,2,  34.0125,2,  34.0113,2,-999.0000,9,    55.49,2,    55.59,2,   99.831,   0.0067,2,    0.022,2,  -999.00,9,    2.838,1,    0.000,2,    99.41,2,     0.31,    41.20,2,     0.05,     0.01,2,     0.01,     2.95,2,     0.01,  -999.00,9,  -999.00,    1.710,2,    0.862,2,    0.113,2, -999.000,9,   -999.0,9,   -999.0,9,   -999.0,9,-999.0000,     -999,9, -999.000,9,  -999.00,9, -999.000,9, -999.000,   -999.0,9,   -999.0, -999.000,9, -999.000, -999.000,9, -999.000,   -999.0,9,   -999.0, -999.000,9, -999.000,9, -999.000,9
  49NZ20140717,   P01,   111,  1,     28, X12J28,2,20140810,0833, 47.0093,-163.7212, 5205,    500.7,2,   3.6514,2,   3.65055,2,  34.1017,2,  34.1014,2,-999.0000,9,    36.37,2,    36.98,2,   99.883,   0.0047,2,    0.023,2,  -999.00,9,    3.002,1,    0.000,2,   110.89,2,     0.14,    42.63,2,     0.05,     0.00,2,     0.01,     3.04,2,     0.01,  -999.00,9,  -999.00,    1.187,2,    0.588,2,    0.079,2, -999.000,9,   -999.0,9,   -999.0,9,   -999.0,9,-999.0000,     -999,9, -999.000,9,  -999.00,9, -999.000,9, -999.000,   -999.0,9,   -999.0, -999.000,9, -999.000, -999.000,9, -999.000,   -999.0,9,   -999.0, -999.000,9, -999.000,9, -999.000,9
  49NZ20140717,   P01,   111,  1,     27, X12J27,2,20140810,0833, 47.0093,-163.7212, 5205,    600.9,2,   3.5637,2,   3.56398,2,  34.1949,2,  34.1940,2,-999.0000,9,    33.93,2,    34.14,2,   99.883,   0.0047,2,    0.022,2,  -999.00,9,    3.048,1,    0.000,2,   118.96,2,     0.15,    42.64,2,     0.05,     0.00,2,     0.01,     3.04,2,     0.01,  -999.00,9,  -999.00,    0.786,2,    0.376,2,    0.049,2, -999.000,9,   -999.0,9,   -999.0,9,   -999.0,9,-999.0000,     -999,9, -999.000,9,  -999.00,9, -999.000,9, -999.000,   -999.0,9,   -999.0, -999.000,9, -999.000, -999.000,9, -999.000,   -999.0,9,   -999.0, -999.000,9, -999.000,9, -999.000,9
  49NZ20140717,   P01,   111,  1,     26, X12J26,2,20140810,0833, 47.0093,-163.7212, 5205,    698.6,2,   3.3776,2,   3.37748,2,  34.2510,2,  34.2504,2,-999.0000,9,    29.15,2,    29.18,2,   99.881,   0.0048,2,    0.021,2,  -999.00,9,    3.027,1,    0.000,2,   126.82,2,     0.15,    43.08,2,     0.05,     0.01,2,     0.01,     3.08,2,     0.01,  -999.00,9,  -999.00,    0.553,2,    0.262,2,    0.030,2, -999.000,9,   -999.0,9,   -999.0,9,   -999.0,9,-999.0000,     -999,9, -999.000,9,  -999.00,9, -999.000,9, -999.000,   -999.0,9,   -999.0, -999.000,9, -999.000, -999.000,9, -999.000,   -999.0,9,   -999.0, -999.000,9, -999.000,9, -999.000,9
  49NZ20140717,   P01,   111,  1,     25, X12J25,2,20140810,0833, 47.0093,-163.7212, 5205,    798.4,2,   3.1859,2,   3.18562,2,  34.2982,2,  34.2975,2,-999.0000,9,    27.46,2,    27.46,2,   99.896,   0.0041,2,    0.021,2,  -999.00,9,    3.069,1,    0.000,2,   133.31,2,     0.16,    43.17,2,     0.05,     0.00,2,     0.01,     3.09,2,     0.01,  -999.00,9,  -999.00,    0.410,2,    0.192,2,    0.021,2, -999.000,9,   -999.0,9,   -999.0,9,   -999.0,9,-999.0000,     -999,9, -999.000,9,  -999.00,9, -999.000,9, -999.000,   -999.0,9,   -999.0, -999.000,9, -999.000, -999.000,9, -999.000,   -999.0,9,   -999.0, -999.000,9, -999.000,9, -999.000,9
  49NZ20140717,   P01,   111,  1,     24, X12J24,2,20140810,0833, 47.0093,-163.7212, 5205,    900.2,2,   3.0103,2,   3.00986,2,  34.3398,2,  34.3393,2,-999.0000,9,    24.43,2,    24.33,2,   99.875,   0.0050,2,    0.021,2,  -999.00,9,    3.203,1,    0.000,2,   140.10,2,     0.16,    43.55,2,     0.05,     0.00,2,     0.01,     3.11,2,     0.01,  -999.00,9,  -999.00,    0.283,2,    0.126,2,    0.018,2, -999.000,9,   -999.0,9,   -999.0,9,   -999.0,9,-999.0000,     -999,9, -999.000,9,  -999.00,9, -999.000,9, -999.000,   -999.0,9,   -999.0, -999.000,9, -999.000, -999.000,9, -999.000,   -999.0,9,   -999.0, -999.000,9, -999.000,9, -999.000,9
  49NZ20140717,   P01,   111,  1,     23, X12J23,2,20140810,0833, 47.0093,-163.7212, 5205,   1000.8,2,   2.8499,2,   2.84992,2,  34.3840,2,  34.3836,2,-999.0000,9,    24.66,2,    24.37,2,   99.883,   0.0047,2,    0.020,2,  -999.00,9,    3.174,1,    0.000,2,   145.68,2,     0.16,    43.75,2,     0.06,     0.00,2,     0.01,     3.12,2,     0.01,  -999.00,9,  -999.00,    0.176,2,    0.078,2,    0.014,2, -999.000,9,   -999.0,9,   -999.0,9,   -999.0,9,-999.0000,     -999,9, -999.000,9,  -999.00,9, -999.000,9, -999.000,   -999.0,9,   -999.0, -999.000,9, -999.000, -999.000,9, -999.000,   -999.0,9,   -999.0, -999.000,9, -999.000,9, -999.000,9
  49NZ20140717,   P01,   111,  1,     22, X12J22,2,20140810,0833, 47.0093,-163.7212, 5205,   1198.3,2,   2.6114,2,   2.61131,2,  34.4345,2,  34.4400,2,-999.0000,9,    27.05,2,    26.58,2,   99.899,   0.0041,2,    0.020,2,  -999.00,9,    3.188,1,    0.000,2,   153.75,2,     0.17,    43.76,2,     0.06,     0.00,2,     0.01,     3.11,2,     0.01,  -999.00,9,  -999.00,    0.096,2,    0.039,2,    0.000,2, -999.000,9,   -999.0,9,   -999.0,9,   -999.0,9,-999.0000,     -999,9, -999.000,9,  -999.00,9, -999.000,9, -999.000,   -999.0,9,   -999.0, -999.000,9, -999.000, -999.000,9, -999.000,   -999.0,9,   -999.0, -999.000,9, -999.000,9, -999.000,9
  49NZ20140717,   P01,   111,  1,     21, X12J21,2,20140810,0833, 47.0093,-163.7212, 5205,   1399.8,2,   2.3772,2,   2.37742,2,  34.4887,2,  34.4870,2,-999.0000,9,    32.94,2,    32.27,2,   99.883,   0.0047,2,    0.019,2,  -999.00,9,    3.114,1,    0.000,2,   160.29,2,     0.17,    43.50,2,     0.05,     0.00,2,     0.01,     3.09,2,     0.01,  -999.00,9,  -999.00,    0.055,2,    0.023,2,    0.000,2, -999.000,9,   -999.0,9,   -999.0,9,   -999.0,9,-999.0000,     -999,9, -999.000,9,  -999.00,9, -999.000,9, -999.000,   -999.0,9,   -999.0, -999.000,9, -999.000, -999.000,9, -999.000,   -999.0,9,   -999.0, -999.000,9, -999.000,9, -999.000,9
  49NZ20140717,   P01,   111,  1,     20, X12J20,2,20140810,0833, 47.0093,-163.7212, 5205,   1599.8,2,   2.2078,2,   2.20772,2,  34.5262,2,  34.5258,2,-999.0000,9,    40.26,2,    40.01,2,   99.916,   0.0034,2,    0.017,2,  -999.00,9,    3.125,1,    0.000,2,   164.60,2,     0.18,    43.17,2,     0.05,     0.00,2,     0.01,     3.06,2,     0.01,  -999.00,9,  -999.00,    0.027,2,    0.012,2,    0.000,2, -999.000,9,   -999.0,9,   -999.0,9,   -999.0,9,-999.0000,     -999,9, -999.000,9,  -999.00,9, -999.000,9, -999.000,   -999.0,9,   -999.0, -999.000,9, -999.000, -999.000,9, -999.000,   -999.0,9,   -999.0, -999.000,9, -999.000,9, -999.000,9
  49NZ20140717,   P01,   111,  1,     19, X12J19,2,20140810,0833, 47.0093,-163.7212, 5205,   1798.8,2,   2.0645,2,   2.06415,2,  34.5574,2,  34.5565,2,-999.0000,9,    49.57,2,    49.33,2,   99.957,   0.0017,2,    0.017,2,  -999.00,9,    3.096,1,    0.000,2,   167.53,2,     0.18,    42.70,2,     0.05,     0.00,2,     0.01,     3.01,2,     0.01,  -999.00,9,  -999.00,    0.017,2,    0.005,2,    0.000,2, -999.000,9,   -999.0,9,   -999.0,9,   -999.0,9,-999.0000,     -999,9, -999.000,9,  -999.00,9, -999.000,9, -999.000,   -999.0,9,   -999.0, -999.000,9, -999.000, -999.000,9, -999.000,   -999.0,9,   -999.0, -999.000,9, -999.000,9, -999.000,9
  49NZ20140717,   P01,   111,  1,     18, X12J18,2,20140810,0833, 47.0093,-163.7212, 5205,   2000.9,2,   1.9444,2,   1.94319,2,  34.5832,2,  34.5832,2,-999.0000,9,    59.29,2,    59.40,2,   99.933,   0.0027,2,    0.016,2,  -999.00,9,    3.004,1,    0.000,2,   169.49,2,     0.18,    42.09,2,     0.05,     0.01,2,     0.01,     2.97,2,     0.01,  -999.00,9,  -999.00,    0.009,2,    0.001,2,    0.000,2, -999.000,9,   -999.0,9,   -999.0,9,   -999.0,9,-999.0000,     -999,9, -999.000,9,  -999.00,9, -999.000,9, -999.000,   -999.0,9,   -999.0, -999.000,9, -999.000, -999.000,9, -999.000,   -999.0,9,   -999.0, -999.000,9, -999.000,9, -999.000,9
  49NZ20140717,   P01,   111,  1,     17, X12J17,2,20140810,0833, 47.0093,-163.7212, 5205,   2200.5,2,   1.8445,2,   1.84354,2,  34.6039,2,  34.6037,2,-999.0000,9,    70.23,2,    69.85,2,   99.918,   0.0033,2,    0.015,2,  -999.00,9,    2.943,1,    0.000,2,   170.30,2,     0.18,    41.47,2,     0.05,     0.00,2,     0.01,     2.92,2,     0.01,  -999.00,9,  -999.00,    0.007,2,    0.001,2,    0.000,2, -999.000,9,   -999.0,9,   -999.0,9,   -999.0,9,-999.0000,     -999,9, -999.000,9,  -999.00,9, -999.000,9, -999.000,   -999.0,9,   -999.0, -999.000,9, -999.000, -999.000,9, -999.000,   -999.0,9,   -999.0, -999.000,9, -999.000,9, -999.000,9
  49NZ20140717,   P01,   111,  1,     16, X12J16,2,20140810,0833, 47.0093,-163.7212, 5205,   2399.7,2,   1.7547,2,   1.75500,2,  34.6215,2,  34.6214,2,-999.0000,9,    81.71,2,    81.50,2,   99.931,   0.0028,2,    0.014,2,  -999.00,9,    2.851,1,    0.000,2,   170.47,2,     0.18,    40.83,2,     0.05,     0.00,2,     0.01,     2.88,2,     0.01,  -999.00,9,  -999.00,    0.000,2,    0.001,2,    0.000,2, -999.000,9,   -999.0,9,   -999.0,9,   -999.0,9,-999.0000,     -999,9, -999.000,9,  -999.00,9, -999.000,9, -999.000,   -999.0,9,   -999.0, -999.000,9, -999.000, -999.000,9, -999.000,   -999.0,9,   -999.0, -999.000,9, -999.000,9, -999.000,9
  49NZ20140717,   P01,   111,  1,     15, X12J15,2,20140810,0833, 47.0093,-163.7212, 5205,   2599.5,2,   1.6829,2,   1.68292,2,  34.6351,2,  34.6351,2,-999.0000,9,    92.77,2,    92.95,2,   99.977,   0.0009,2,    0.013,2,  -999.00,9,    2.815,1,    0.000,2,   169.56,2,     0.18,    40.09,2,     0.05,     0.00,2,     0.01,     2.82,2,     0.01,  -999.00,9,  -999.00,    0.000,2,    0.000,2,    0.000,2, -999.000,9,   -999.0,9,   -999.0,9,   -999.0,9,-999.0000,     -999,9, -999.000,9,  -999.00,9, -999.000,9, -999.000,   -999.0,9,   -999.0, -999.000,9, -999.000, -999.000,9, -999.000,   -999.0,9,   -999.0, -999.000,9, -999.000,9, -999.000,9
  49NZ20140717,   P01,   111,  1,     14, X12J14,2,20140810,0833, 47.0093,-163.7212, 5205,   2800.7,2,   1.6246,2,   1.62507,2,  34.6461,2,  34.6459,2,-999.0000,9,   103.21,2,   103.07,2,   99.987,   0.0005,2,    0.012,2,  -999.00,9,    2.784,1,    0.000,2,   167.38,2,     0.18,    39.29,2,     0.05,     0.00,2,     0.01,     2.76,2,     0.01,  -999.00,9,  -999.00,    0.002,2,    0.000,2,    0.000,2, -999.000,9,   -999.0,9,   -999.0,9,   -999.0,9,-999.0000,     -999,9, -999.000,9,  -999.00,9, -999.000,9, -999.000,   -999.0,9,   -999.0, -999.000,9, -999.000, -999.000,9, -999.000,   -999.0,9,   -999.0, -999.000,9, -999.000,9, -999.000,9
  49NZ20140717,   P01,   111,  1,     13, X12113,2,20140810,0833, 47.0093,-163.7212, 5205,   3000.1,2,   1.5775,2,   1.57731,2,  34.6551,2,  34.6548,2,-999.0000,9,   112.36,2,   112.25,2,   99.974,   0.0010,2,    0.012,2,  -999.00,9,    2.693,1,    0.000,2,   165.76,2,     0.18,    38.68,2,     0.05,     0.00,2,     0.01,     2.72,2,     0.01,  -999.00,9,  -999.00,    0.000,2,    0.000,2,    0.000,2, -999.000,9,   -999.0,9,   -999.0,9,   -999.0,9,-999.0000,     -999,9, -999.000,9,  -999.00,9, -999.000,9, -999.000,   -999.0,9,   -999.0, -999.000,9, -999.000, -999.000,9, -999.000,   -999.0,9,   -999.0, -999.000,9, -999.000,9, -999.000,9
  49NZ20140717,   P01,   111,  1,     12, X12J12,2,20140810,0833, 47.0093,-163.7212, 5205,   3250.7,2,   1.5296,2,   1.52935,2,  34.6646,2,  34.6641,2,-999.0000,9,   123.11,2,   123.32,2,   99.968,   0.0013,2,    0.011,2,  -999.00,9,    2.613,1,    0.000,2,   163.85,2,     0.18,    38.09,2,     0.05,     0.00,2,     0.01,     2.67,2,     0.01,  -999.00,9,  -999.00,    0.000,2,    0.000,2,    0.000,2, -999.000,9,   -999.0,9,   -999.0,9,   -999.0,9,-999.0000,     -999,9, -999.000,9,  -999.00,9, -999.000,9, -999.000,   -999.0,9,   -999.0, -999.000,9, -999.000, -999.000,9, -999.000,   -999.0,9,   -999.0, -999.000,9, -999.000,9, -999.000,9
  49NZ20140717,   P01,   111,  1,     11, X12J11,2,20140810,0833, 47.0093,-163.7212, 5205,   3499.6,2,   1.4974,2,   1.49764,2,  34.6718,2,  34.6718,2,-999.0000,9,   131.49,2,   131.54,2,   99.964,   0.0015,2,    0.010,2,  -999.00,9,    2.824,4,    0.000,2,   162.14,2,     0.18,    37.54,2,     0.05,     0.00,2,     0.01,     2.62,2,     0.01,  -999.00,9,  -999.00,    0.000,2,    0.000,2,    0.000,2, -999.000,9,   -999.0,9,   -999.0,9,   -999.0,9,-999.0000,     -999,9, -999.000,9,  -999.00,9, -999.000,9, -999.000,   -999.0,9,   -999.0, -999.000,9, -999.000, -999.000,9, -999.000,   -999.0,9,   -999.0, -999.000,9, -999.000,9, -999.000,9
  49NZ20140717,   P01,   111,  1,     10, X12J10,2,20140810,0833, 47.0093,-163.7212, 5205,   3750.6,2,   1.4765,2,   1.47650,2,  34.6774,2,  34.6773,2,-999.0000,9,   138.41,2,   138.52,2,   99.968,   0.0013,2,    0.010,2,  -999.00,9,    2.791,4,    0.000,2,   161.29,2,     0.17,    37.07,2,     0.05,     0.00,2,     0.01,     2.59,2,     0.01,  -999.00,9,  -999.00,    0.000,2,    0.000,2,    0.000,2, -999.000,9,   -999.0,9,   -999.0,9,   -999.0,9,-999.0000,     -999,9, -999.000,9,  -999.00,9, -999.000,9, -999.000,   -999.0,9,   -999.0, -999.000,9, -999.000, -999.000,9, -999.000,   -999.0,9,   -999.0, -999.000,9, -999.000,9, -999.000,9