BOTTLE,20230904JAMSTECRIGC
EXPOCODE,SECT,STNNBR,CASTNO,SAMPNO,BTLNBR,BTLNBR_FLAG_W,DATE,TIME,LATITUDE,LONGITUDE,DEPTH,CTDPRS,CTDPRS_FLAG_W,CTDTMP,CTDTMP_FLAG_W,SBE35,SBE35_FLAG_W,CTDSAL,CTDSAL_FLAG_W,SALNTY,SALNTY_FLAG_W,DNSSAL,DNSSAL_FLAG_W,CTDOXY,CTDOXY_FLAG_W,OXYGEN,OXYGEN_FLAG_W,XMISS,XMISSCP,XMISS_FLAG_W,FLUOR,FLUOR_FLAG_W,CHLORA,CHLORA_FLAG_W,CDOM,CDOM_FLAG_W,PAR,PAR_FLAG_W,SILCAT,SILCAT_FLAG_W,SILUNC,NITRAT,NITRAT_FLAG_W,NRAUNC,NITRIT,NITRIT_FLAG_W,NRIUNC,PHSPHT,PHSPHT_FLAG_W,PHPUNC,AMMONIA,AMMONIA_FLAG_W,NH4UNC,CFC-11,CFC-11_FLAG_W,CFC-12,CFC-12_FLAG_W,CFC113,CFC113_FLAG_W,SF6,SF6_FLAG_W,TCARBN,TCARBN_FLAG_W,ALKALI,ALKALI_FLAG_W,ALKALI_POT,ALKALI_POT_FLAG_W,PH_TOT,PH_TMP,PH_TOT_FLAG_W,CALCIUM,CALCIUM_FLAG_W,DOC,DOC_FLAG_W,DELC13,DELC13_FLAG_W,C13ERR,DELC14,DELC14_FLAG_W,C14ERR,CS-134,CS-134_FLAG_W,CS134ER,CS-137,CS-137_FLAG_W,CS137ER,I-129,I-129_FLAG_W,I-129ER,CDOM-325,CDOM-325_FLAG_W,CDOM-370,CDOM-370_FLAG_W,CDOM-443,CDOM-443_FLAG_W
,,,,,,,,UTC,DEG,DEG,METERS,DBAR,,ITS-90,,ITS-90,,PSS-78,,PSS-78,,G/KG,,UMOL/KG,,UMOL/KG,,%TRANS,/METER,,MG/CUM,,MG/CUM,,MG/CUM,,UE/SQM/S,,UMOL/KG,,UMOL/KG,UMOL/KG,,UMOL/KG,UMOL/KG,,UMOL/KG,UMOL/KG,,UMOL/KG,UMOL/KG,,UMOL/KG,PMOL/KG,,PMOL/KG,,PMOL/KG,,FMOL/KG,,UMOL/KG,,UMOL/KG,,UMOL/KG,,,DEG C,,MMOL/KG,,UMOL/KG,,/MILLE,,/MILLE,/MILLE,,/MILLE,MBQ/KG,,MBQ/KG,MBQ/KG,,MBQ/KG,,,,/METER,,/METER,,/METER,
  49NZ20140717,   P01,   121,  1,      0,   -999,9,20140813,1429, 46.9876,-152.5288, 5185,   -999.0,9,-999.0000,9,-999.00000,9,-999.0000,9,  32.5733,2,-999.0000,9,  -999.00,9,  -999.00,9, -999.000,-999.0000,9, -999.000,9,  -999.00,9, -999.000,9, -999.000,9,     0.60,2,     0.17,     4.62,2,     0.02,     0.07,2,     0.01,     0.68,2,     0.01,  -999.00,9,  -999.00, -999.000,9, -999.000,9, -999.000,9, -999.000,9,   -999.0,9,   -999.0,9,   -999.0,9,-999.0000,     -999,9, -999.000,9,  -999.00,9, -999.000,9, -999.000,   -999.0,9,   -999.0, -999.000,9, -999.000, -999.000,9, -999.000,   -999.0,9,   -999.0, -999.000,9, -999.000,9, -999.000,9
  49NZ20140717,   P01,   121,  1,     36, X12J36,2,20140813,1429, 46.9876,-152.5288, 5185,     10.5,2,  14.3354,2,  14.33224,2,  32.5501,2,  32.5504,2,-999.0000,9,   263.73,2,   263.56,2,   93.915,   0.2511,2,    0.565,2,  -999.00,9,   -0.007,1,   36.944,2,     1.06,2,     0.13,     4.35,2,     0.02,     0.07,2,     0.01,     0.66,2,     0.01,  -999.00,9,  -999.00,    2.921,2,    1.744,2,    0.304,2, -999.000,9,   -999.0,9,   -999.0,9,   -999.0,9,-999.0000,     -999,9, -999.000,9,  -999.00,9, -999.000,9, -999.000,   -999.0,9,   -999.0, -999.000,9, -999.000, -999.000,9, -999.000,   -999.0,9,   -999.0, -999.000,9, -999.000,9, -999.000,9
  49NZ20140717,   P01,   121,  1,     35, X12J35,2,20140813,1429, 46.9876,-152.5288, 5185,     50.3,2,   7.4908,2,   7.48903,2,  32.9877,2,  32.9895,2,-999.0000,9,   297.01,2,   296.41,2,   98.725,   0.0513,2,    0.262,2,  -999.00,9,    0.591,1,    0.804,2,    17.46,2,     0.09,    11.16,2,     0.02,     0.12,2,     0.01,     1.13,2,     0.01,  -999.00,9,  -999.00,    4.208,2,    2.392,2,    0.418,2, -999.000,9,   -999.0,9,   -999.0,9,   -999.0,9,-999.0000,     -999,9, -999.000,9,  -999.00,9, -999.000,9, -999.000,   -999.0,9,   -999.0, -999.000,9, -999.000, -999.000,9, -999.000,   -999.0,9,   -999.0, -999.000,9, -999.000,9, -999.000,9
  49NZ20140717,   P01,   121,  1,     34, X12J34,2,20140813,1429, 46.9876,-152.5288, 5185,    100.6,2,   6.5113,2,   6.51031,2,  33.5383,2,  33.5461,2,-999.0000,9,   249.24,2,   248.37,2,   99.610,   0.0156,2,    0.042,2,  -999.00,9,    1.032,1,    0.028,2,    26.75,2,     0.09,    18.85,2,     0.03,     0.02,2,     0.01,     1.44,2,     0.01,  -999.00,9,  -999.00,    4.051,2,    2.298,2,    0.310,2, -999.000,9,   -999.0,9,   -999.0,9,   -999.0,9,-999.0000,     -999,9, -999.000,9,  -999.00,9, -999.000,9, -999.000,   -999.0,9,   -999.0, -999.000,9, -999.000, -999.000,9, -999.000,   -999.0,9,   -999.0, -999.000,9, -999.000,9, -999.000,9
  49NZ20140717,   P01,   121,  1,     33, X12J33,2,20140813,1429, 46.9876,-152.5288, 5185,    151.0,2,   5.8694,2,   5.86881,2,  33.7813,2,  33.7815,2,-999.0000,9,   185.90,2,   185.35,2,   99.603,   0.0159,2,    0.024,2,  -999.00,9,    1.814,1,    0.000,2,    44.83,2,     0.10,    26.50,2,     0.04,     0.01,2,     0.01,     1.93,2,     0.01,  -999.00,9,  -999.00,    3.633,2,    2.126,2,    0.257,2, -999.000,9,   -999.0,9,   -999.0,9,   -999.0,9,-999.0000,     -999,9, -999.000,9,  -999.00,9, -999.000,9, -999.000,   -999.0,9,   -999.0, -999.000,9, -999.000, -999.000,9, -999.000,   -999.0,9,   -999.0, -999.000,9, -999.000,9, -999.000,9
  49NZ20140717,   P01,   121,  1,     32, X12J32,2,20140813,1429, 46.9876,-152.5288, 5185,    199.3,2,   5.2492,2,   5.24842,2,  33.8185,2,  33.8187,2,-999.0000,9,   151.59,2,   151.34,2,   99.692,   0.0123,2,    0.027,2,  -999.00,9,    2.178,1,    0.000,2,    57.22,2,     0.11,    30.81,2,     0.04,     0.01,2,     0.01,     2.23,2,     0.01,  -999.00,9,  -999.00,    3.250,2,    1.770,2,    0.240,2, -999.000,9,   -999.0,9,   -999.0,9,   -999.0,9,-999.0000,     -999,9, -999.000,9,  -999.00,9, -999.000,9, -999.000,   -999.0,9,   -999.0, -999.000,9, -999.000, -999.000,9, -999.000,   -999.0,9,   -999.0, -999.000,9, -999.000,9, -999.000,9
  49NZ20140717,   P01,   121,  1,     31, X12J31,2,20140813,1429, 46.9876,-152.5288, 5185,    249.1,2,   4.6695,2,   4.66944,2,  33.8527,2,  33.8533,2,-999.0000,9,   120.62,2,   120.47,2,   99.709,   0.0116,2,    0.022,2,  -999.00,9,    2.506,1,    0.000,2,    69.29,2,     0.12,    34.67,2,     0.05,     0.01,2,     0.01,     2.49,2,     0.01,  -999.00,9,  -999.00,    2.872,2,    1.546,2,    0.180,2, -999.000,9,   -999.0,9,   -999.0,9,   -999.0,9,-999.0000,     -999,9, -999.000,9,  -999.00,9, -999.000,9, -999.000,   -999.0,9,   -999.0, -999.000,9, -999.000, -999.000,9, -999.000,   -999.0,9,   -999.0, -999.000,9, -999.000,9, -999.000,9
  49NZ20140717,   P01,   121,  1,     30, X12J30,2,20140813,1429, 46.9876,-152.5288, 5185,    330.2,2,   4.2174,2,   4.21719,2,  33.9138,2,  33.9130,2,-999.0000,9,    87.14,2,    87.82,2,   99.781,   0.0088,2,    0.022,2,  -999.00,9,    2.681,1,    0.000,2,    82.55,2,     0.13,    38.37,2,     0.05,     0.00,2,     0.01,     2.73,2,     0.01,  -999.00,9,  -999.00,    2.392,2,    1.261,2,    0.150,2, -999.000,9,   -999.0,9,   -999.0,9,   -999.0,9,-999.0000,     -999,9, -999.000,9,  -999.00,9, -999.000,9, -999.000,   -999.0,9,   -999.0, -999.000,9, -999.000, -999.000,9, -999.000,   -999.0,9,   -999.0, -999.000,9, -999.000,9, -999.000,9
  49NZ20140717,   P01,   121,  1,     29, X12J29,2,20140813,1429, 46.9876,-152.5288, 5185,    430.4,2,   4.0074,2,   4.00723,2,  34.0304,2,  34.0293,2,-999.0000,9,    56.27,2,    56.90,2,   99.831,   0.0068,2,    0.022,2,  -999.00,9,    2.869,1,    0.000,2,    97.14,2,     0.13,    40.92,2,     0.05,     0.00,2,     0.01,     2.92,2,     0.01,  -999.00,9,  -999.00,    1.631,2,    0.838,2,    0.109,2, -999.000,9,   -999.0,9,   -999.0,9,   -999.0,9,-999.0000,     -999,9, -999.000,9,  -999.00,9, -999.000,9, -999.000,   -999.0,9,   -999.0, -999.000,9, -999.000, -999.000,9, -999.000,   -999.0,9,   -999.0, -999.000,9, -999.000,9, -999.000,9
  49NZ20140717,   P01,   121,  1,     28, X12J28,2,20140813,1429, 46.9876,-152.5288, 5185,    529.5,2,   3.8502,2,   3.85026,2,  34.1267,2,  34.1260,2,-999.0000,9,    37.71,2,    38.10,2,   99.889,   0.0044,2,    0.022,2,  -999.00,9,    3.000,1,    0.000,2,   108.37,2,     0.14,    42.29,2,     0.05,     0.00,2,     0.01,     3.01,2,     0.01,  -999.00,9,  -999.00,    1.068,2,    0.534,2,    0.065,2, -999.000,9,   -999.0,9,   -999.0,9,   -999.0,9,-999.0000,     -999,9, -999.000,9,  -999.00,9, -999.000,9, -999.000,   -999.0,9,   -999.0, -999.000,9, -999.000, -999.000,9, -999.000,   -999.0,9,   -999.0, -999.000,9, -999.000,9, -999.000,9
  49NZ20140717,   P01,   121,  1,     27, X12J27,2,20140813,1429, 46.9876,-152.5288, 5185,    629.7,2,   3.6960,2,   3.69601,2,  34.2050,2,  34.2046,2,-999.0000,9,    29.90,2,    30.04,2,   99.922,   0.0031,2,    0.022,2,  -999.00,9,    3.040,1,    0.000,2,   117.35,2,     0.15,    42.88,2,     0.05,     0.00,2,     0.01,     3.06,2,     0.01,  -999.00,9,  -999.00,    0.663,2,    0.322,2,    0.037,2, -999.000,9,   -999.0,9,   -999.0,9,   -999.0,9,-999.0000,     -999,9, -999.000,9,  -999.00,9, -999.000,9, -999.000,   -999.0,9,   -999.0, -999.000,9, -999.000, -999.000,9, -999.000,   -999.0,9,   -999.0, -999.000,9, -999.000,9, -999.000,9
  49NZ20140717,   P01,   121,  1,     26, X12J26,2,20140813,1429, 46.9876,-152.5288, 5185,    729.2,2,   3.4487,2,   3.44848,2,  34.2608,2,  34.2601,2,-999.0000,9,    25.73,2,    25.68,2,   99.900,   0.0040,2,    0.022,2,  -999.00,9,    3.046,1,    0.000,2,   126.48,2,     0.15,    43.43,2,     0.05,     0.00,2,     0.01,     3.09,2,     0.01,  -999.00,9,  -999.00,    0.453,2,    0.207,2,    0.025,2, -999.000,9,   -999.0,9,   -999.0,9,   -999.0,9,-999.0000,     -999,9, -999.000,9,  -999.00,9, -999.000,9, -999.000,   -999.0,9,   -999.0, -999.000,9, -999.000, -999.000,9, -999.000,   -999.0,9,   -999.0, -999.000,9, -999.000,9, -999.000,9
  49NZ20140717,   P01,   121,  1,     25, X12J25,2,20140813,1429, 46.9876,-152.5288, 5185,    831.5,2,   3.2748,2,   3.27452,2,  34.3043,2,  34.3037,2,-999.0000,9,    24.05,2,    23.90,2,   99.878,   0.0049,2,    0.021,2,  -999.00,9,    3.153,1,    0.000,2,   132.07,2,     0.16,    43.51,2,     0.05,     0.00,2,     0.01,     3.10,2,     0.01,  -999.00,9,  -999.00,    0.310,2,    0.141,2,    0.023,2, -999.000,9,   -999.0,9,   -999.0,9,   -999.0,9,-999.0000,     -999,9, -999.000,9,  -999.00,9, -999.000,9, -999.000,   -999.0,9,   -999.0, -999.000,9, -999.000, -999.000,9, -999.000,   -999.0,9,   -999.0, -999.000,9, -999.000,9, -999.000,9
  49NZ20140717,   P01,   121,  1,     24, X12J24,2,20140813,1429, 46.9876,-152.5288, 5185,    929.9,2,   3.0796,2,   3.07996,2,  34.3494,2,  34.3491,2,-999.0000,9,    21.03,2,    20.67,2,   99.917,   0.0033,2,    0.021,2,  -999.00,9,    3.143,1,    0.000,2,   138.81,2,     0.16,    43.92,2,     0.06,     0.00,2,     0.01,     3.13,2,     0.01,  -999.00,9,  -999.00,    0.170,2,    0.075,2,    0.009,2, -999.000,9,   -999.0,9,   -999.0,9,   -999.0,9,-999.0000,     -999,9, -999.000,9,  -999.00,9, -999.000,9, -999.000,   -999.0,9,   -999.0, -999.000,9, -999.000, -999.000,9, -999.000,   -999.0,9,   -999.0, -999.000,9, -999.000,9, -999.000,9
  49NZ20140717,   P01,   121,  1,     23, X12J23,2,20140813,1429, 46.9876,-152.5288, 5185,   1071.4,2,   2.8425,2,   2.84237,2,  34.3952,2,  34.3949,2,-999.0000,9,    22.85,2,    22.51,2,   99.885,   0.0046,2,    0.020,2,  -999.00,9,    3.197,1,    0.000,2,   146.86,2,     0.17,    44.04,2,     0.06,     0.00,2,     0.01,     3.13,2,     0.01,  -999.00,9,  -999.00,    0.123,2,    0.052,2,    0.000,2, -999.000,9,   -999.0,9,   -999.0,9,   -999.0,9,-999.0000,     -999,9, -999.000,9,  -999.00,9, -999.000,9, -999.000,   -999.0,9,   -999.0, -999.000,9, -999.000, -999.000,9, -999.000,   -999.0,9,   -999.0, -999.000,9, -999.000,9, -999.000,9
  49NZ20140717,   P01,   121,  1,     22, X12J22,2,20140813,1429, 46.9876,-152.5288, 5185,   1268.9,2,   2.5704,2,   2.56997,2,  34.4523,2,  34.4521,2,-999.0000,9,    17.28,2,    16.51,2,   99.891,   0.0043,2,    0.020,2,  -999.00,9,    3.266,1,    0.000,2,   157.01,2,     0.17,    44.78,2,     0.06,     0.00,2,     0.01,     3.17,2,     0.01,  -999.00,9,  -999.00,    0.026,2,    0.011,2,    0.000,2, -999.000,9,   -999.0,9,   -999.0,9,   -999.0,9,-999.0000,     -999,9, -999.000,9,  -999.00,9, -999.000,9, -999.000,   -999.0,9,   -999.0, -999.000,9, -999.000, -999.000,9, -999.000,   -999.0,9,   -999.0, -999.000,9, -999.000,9, -999.000,9
  49NZ20140717,   P01,   121,  1,     21, X12J21,2,20140813,1429, 46.9876,-152.5288, 5185,   1468.5,2,   2.3591,2,   2.35906,2,  34.4980,2,  34.4979,2,-999.0000,9,    20.47,2,    19.27,2,   99.909,   0.0037,2,    0.019,2,  -999.00,9,    3.284,1,    0.000,2,   164.13,2,     0.18,    44.78,2,     0.06,     0.00,2,     0.01,     3.15,2,     0.01,  -999.00,9,  -999.00,    0.007,2,    0.004,2,    0.000,2, -999.000,9,   -999.0,9,   -999.0,9,   -999.0,9,-999.0000,     -999,9, -999.000,9,  -999.00,9, -999.000,9, -999.000,   -999.0,9,   -999.0, -999.000,9, -999.000, -999.000,9, -999.000,   -999.0,9,   -999.0, -999.000,9, -999.000,9, -999.000,9
  49NZ20140717,   P01,   121,  1,     20, X12J20,2,20140813,1429, 46.9876,-152.5288, 5185,   1669.1,2,   2.1857,2,   2.18550,2,  34.5339,2,  34.5338,2,-999.0000,9,    31.76,2,    30.95,2,   99.965,   0.0014,2,    0.018,2,  -999.00,9,    3.280,1,    0.000,2,   168.17,2,     0.18,    44.11,2,     0.06,     0.00,2,     0.01,     3.10,2,     0.01,  -999.00,9,  -999.00,    0.004,2,    0.003,2,    0.000,2, -999.000,9,   -999.0,9,   -999.0,9,   -999.0,9,-999.0000,     -999,9, -999.000,9,  -999.00,9, -999.000,9, -999.000,   -999.0,9,   -999.0, -999.000,9, -999.000, -999.000,9, -999.000,   -999.0,9,   -999.0, -999.000,9, -999.000,9, -999.000,9
  49NZ20140717,   P01,   121,  1,     19, X12J19,2,20140813,1429, 46.9876,-152.5288, 5185,   1870.1,2,   2.0370,2,   2.03687,2,  34.5670,2,  34.5664,2,-999.0000,9,    40.08,2,    39.39,2,   99.939,   0.0024,2,    0.017,2,  -999.00,9,    3.218,1,    0.000,2,   172.29,2,     0.18,    43.67,2,     0.06,     0.00,2,     0.01,     3.06,2,     0.01,  -999.00,9,  -999.00,    0.000,2,    0.002,2,    0.000,2, -999.000,9,   -999.0,9,   -999.0,9,   -999.0,9,-999.0000,     -999,9, -999.000,9,  -999.00,9, -999.000,9, -999.000,   -999.0,9,   -999.0, -999.000,9, -999.000, -999.000,9, -999.000,   -999.0,9,   -999.0, -999.000,9, -999.000,9, -999.000,9
  49NZ20140717,   P01,   121,  1,     18, X12J18,2,20140813,1429, 46.9876,-152.5288, 5185,   2069.8,2,   1.9252,2,   1.92529,2,  34.5904,2,  34.5904,2,-999.0000,9,    51.27,2,    50.86,2,   99.913,   0.0035,2,    0.016,2,  -999.00,9,    3.151,1,    0.000,2,   174.45,2,     0.18,    43.01,2,     0.05,     0.00,2,     0.01,     3.01,2,     0.01,  -999.00,9,  -999.00,    0.001,2,    0.000,2,    0.000,2, -999.000,9,   -999.0,9,   -999.0,9,   -999.0,9,-999.0000,     -999,9, -999.000,9,  -999.00,9, -999.000,9, -999.000,   -999.0,9,   -999.0, -999.000,9, -999.000, -999.000,9, -999.000,   -999.0,9,   -999.0, -999.000,9, -999.000,9, -999.000,9
  49NZ20140717,   P01,   121,  1,     17, X12J17,2,20140813,1429, 46.9876,-152.5288, 5185,   2271.2,2,   1.8149,2,   1.81473,2,  34.6114,2,  34.6115,2,-999.0000,9,    65.19,2,    65.05,2,   99.917,   0.0033,2,    0.015,2,  -999.00,9,    3.061,1,    0.000,2,   175.35,2,     0.18,    42.06,2,     0.05,     0.00,2,     0.01,     2.95,2,     0.01,  -999.00,9,  -999.00,    0.000,2,    0.000,2,    0.000,2, -999.000,9,   -999.0,9,   -999.0,9,   -999.0,9,-999.0000,     -999,9, -999.000,9,  -999.00,9, -999.000,9, -999.000,   -999.0,9,   -999.0, -999.000,9, -999.000, -999.000,9, -999.000,   -999.0,9,   -999.0, -999.000,9, -999.000,9, -999.000,9
  49NZ20140717,   P01,   121,  1,     16, X12J16,2,20140813,1429, 46.9876,-152.5288, 5185,   2472.6,2,   1.7294,2,   1.72945,2,  34.6272,2,  34.6272,2,-999.0000,9,    78.31,2,    78.16,2,   99.952,   0.0019,2,    0.013,2,  -999.00,9,    2.994,1,    0.000,2,   174.46,2,     0.18,    41.26,2,     0.05,     0.00,2,     0.01,     2.89,2,     0.01,  -999.00,9,  -999.00,    0.001,2,    0.000,2,    0.000,2, -999.000,9,   -999.0,9,   -999.0,9,   -999.0,9,-999.0000,     -999,9, -999.000,9,  -999.00,9, -999.000,9, -999.000,   -999.0,9,   -999.0, -999.000,9, -999.000, -999.000,9, -999.000,   -999.0,9,   -999.0, -999.000,9, -999.000,9, -999.000,9
  49NZ20140717,   P01,   121,  1,     15, X12J15,2,20140813,1429, 46.9876,-152.5288, 5185,   2671.2,2,   1.6563,2,   1.65619,2,  34.6399,2,  34.6401,2,-999.0000,9,    90.78,2,    90.88,2,   99.995,   0.0002,2,    0.013,2,  -999.00,9,    2.897,1,    0.000,2,   173.29,2,     0.18,    40.43,2,     0.05,     0.00,2,     0.01,     2.83,2,     0.01,  -999.00,9,  -999.00,    0.000,2,    0.000,2,    0.000,2, -999.000,9,   -999.0,9,   -999.0,9,   -999.0,9,-999.0000,     -999,9, -999.000,9,  -999.00,9, -999.000,9, -999.000,   -999.0,9,   -999.0, -999.000,9, -999.000, -999.000,9, -999.000,   -999.0,9,   -999.0, -999.000,9, -999.000,9, -999.000,9
  49NZ20140717,   P01,   121,  1,     14, X12J14,2,20140813,1429, 46.9876,-152.5288, 5185,   2870.4,2,   1.6001,2,   1.59996,2,  34.6504,2,  34.6504,2,-999.0000,9,   101.90,2,   101.76,2,   99.980,   0.0008,2,    0.012,2,  -999.00,9,    2.874,1,    0.000,2,   170.93,2,     0.18,    39.54,2,     0.05,     0.00,2,     0.01,     2.77,2,     0.01,  -999.00,9,  -999.00,    0.000,2,    0.000,2,    0.000,2, -999.000,9,   -999.0,9,   -999.0,9,   -999.0,9,-999.0000,     -999,9, -999.000,9,  -999.00,9, -999.000,9, -999.000,   -999.0,9,   -999.0, -999.000,9, -999.000, -999.000,9, -999.000,   -999.0,9,   -999.0, -999.000,9, -999.000,9, -999.000,9
  49NZ20140717,   P01,   121,  1,     13, X12113,2,20140813,1429, 46.9876,-152.5288, 5185,   3080.4,2,   1.5581,2,   1.55810,2,  34.6588,2,  34.6589,2,-999.0000,9,   111.80,2,   111.75,2,   99.993,   0.0003,2,    0.011,2,  -999.00,9,    2.783,1,    0.000,2,   168.99,2,     0.18,    38.85,2,     0.05,     0.00,2,     0.01,     2.72,2,     0.01,  -999.00,9,  -999.00,    0.000,2,    0.000,2,    0.000,2, -999.000,9,   -999.0,9,   -999.0,9,   -999.0,9,-999.0000,     -999,9, -999.000,9,  -999.00,9, -999.000,9, -999.000,   -999.0,9,   -999.0, -999.000,9, -999.000, -999.000,9, -999.000,   -999.0,9,   -999.0, -999.000,9, -999.000,9, -999.000,9
  49NZ20140717,   P01,   121,  1,     12, X12J12,2,20140813,1429, 46.9876,-152.5288, 5185,   3330.4,2,   1.5219,2,   1.52194,2,  34.6666,2,  34.6664,2,-999.0000,9,   122.33,2,   122.21,2,   99.998,   0.0001,2,    0.010,2,  -999.00,9,    2.705,1,    0.000,2,   166.11,2,     0.18,    38.17,2,     0.05,     0.00,2,     0.01,     2.67,2,     0.01,  -999.00,9,  -999.00,    0.000,2,    0.000,2,    0.000,2, -999.000,9,   -999.0,9,   -999.0,9,   -999.0,9,-999.0000,     -999,9, -999.000,9,  -999.00,9, -999.000,9, -999.000,   -999.0,9,   -999.0, -999.000,9, -999.000, -999.000,9, -999.000,   -999.0,9,   -999.0, -999.000,9, -999.000,9, -999.000,9
  49NZ20140717,   P01,   121,  1,     11, X12J11,2,20140813,1429, 46.9876,-152.5288, 5185,   3580.3,2,   1.4941,2,   1.49407,2,  34.6732,2,  34.6733,2,-999.0000,9,   131.40,2,   131.24,2,  100.006,  -0.0002,2,    0.010,2,  -999.00,9,    2.648,1,    0.000,2,   164.08,2,     0.18,    37.66,2,     0.05,     0.00,2,     0.01,     2.62,2,     0.01,  -999.00,9,  -999.00,    0.000,2,    0.000,2,    0.000,2, -999.000,9,   -999.0,9,   -999.0,9,   -999.0,9,-999.0000,     -999,9, -999.000,9,  -999.00,9, -999.000,9, -999.000,   -999.0,9,   -999.0, -999.000,9, -999.000, -999.000,9, -999.000,   -999.0,9,   -999.0, -999.000,9, -999.000,9, -999.000,9
  49NZ20140717,   P01,   121,  1,     10, X12J10,2,20140813,1429, 46.9876,-152.5288, 5185,   3832.7,2,   1.4797,2,   1.47956,2,  34.6783,2,  34.6784,2,-999.0000,9,   137.77,2,   137.56,2,   99.998,   0.0001,2,    0.009,2,  -999.00,9,    2.836,4,    0.000,2,   163.65,2,     0.18,    37.23,2,     0.05,     0.00,2,     0.01,     2.59,2,     0.01,  -999.00,9,  -999.00,    0.000,2,    0.001,2,    0.000,2, -999.000,9,   -999.0,9,   -999.0,9,   -999.0,9,-999.0000,     -999,9, -999.000,9,  -999.00,9, -999.000,9, -999.000,   -999.0,9,   -999.0, -999.000,9, -999.000, -999.000,9, -999.000,   -999.0,9,   -999.0, -999.000,9, -999.000,9, -999.000,9