BOTTLE,20230904JAMSTECRIGC
EXPOCODE,SECT,STNNBR,CASTNO,SAMPNO,BTLNBR,BTLNBR_FLAG_W,DATE,TIME,LATITUDE,LONGITUDE,DEPTH,CTDPRS,CTDPRS_FLAG_W,CTDTMP,CTDTMP_FLAG_W,SBE35,SBE35_FLAG_W,CTDSAL,CTDSAL_FLAG_W,SALNTY,SALNTY_FLAG_W,DNSSAL,DNSSAL_FLAG_W,CTDOXY,CTDOXY_FLAG_W,OXYGEN,OXYGEN_FLAG_W,XMISS,XMISSCP,XMISS_FLAG_W,FLUOR,FLUOR_FLAG_W,CHLORA,CHLORA_FLAG_W,CDOM,CDOM_FLAG_W,PAR,PAR_FLAG_W,SILCAT,SILCAT_FLAG_W,SILUNC,NITRAT,NITRAT_FLAG_W,NRAUNC,NITRIT,NITRIT_FLAG_W,NRIUNC,PHSPHT,PHSPHT_FLAG_W,PHPUNC,AMMONIA,AMMONIA_FLAG_W,NH4UNC,CFC-11,CFC-11_FLAG_W,CFC-12,CFC-12_FLAG_W,CFC113,CFC113_FLAG_W,SF6,SF6_FLAG_W,TCARBN,TCARBN_FLAG_W,ALKALI,ALKALI_FLAG_W,ALKALI_POT,ALKALI_POT_FLAG_W,PH_TOT,PH_TMP,PH_TOT_FLAG_W,CALCIUM,CALCIUM_FLAG_W,DOC,DOC_FLAG_W,DELC13,DELC13_FLAG_W,C13ERR,DELC14,DELC14_FLAG_W,C14ERR,CS-134,CS-134_FLAG_W,CS134ER,CS-137,CS-137_FLAG_W,CS137ER,I-129,I-129_FLAG_W,I-129ER,CDOM-325,CDOM-325_FLAG_W,CDOM-370,CDOM-370_FLAG_W,CDOM-443,CDOM-443_FLAG_W
,,,,,,,,UTC,DEG,DEG,METERS,DBAR,,ITS-90,,ITS-90,,PSS-78,,PSS-78,,G/KG,,UMOL/KG,,UMOL/KG,,%TRANS,/METER,,MG/CUM,,MG/CUM,,MG/CUM,,UE/SQM/S,,UMOL/KG,,UMOL/KG,UMOL/KG,,UMOL/KG,UMOL/KG,,UMOL/KG,UMOL/KG,,UMOL/KG,UMOL/KG,,UMOL/KG,PMOL/KG,,PMOL/KG,,PMOL/KG,,FMOL/KG,,UMOL/KG,,UMOL/KG,,UMOL/KG,,,DEG C,,MMOL/KG,,UMOL/KG,,/MILLE,,/MILLE,/MILLE,,/MILLE,MBQ/KG,,MBQ/KG,MBQ/KG,,MBQ/KG,,,,/METER,,/METER,,/METER,
  49NZ20140717,   P01,    43,  1,      9, X12J09,2,20140720,0148, 42.1804, 146.0813, 5040,   4079.0,2,   1.4386,2,   1.43859,2,  34.6858,2,  34.6857,2,  34.8631,2,   153.64,2,   153.57,2,   99.864,   0.0054,2,   -0.003,2,  -999.00,9,    0.520,4,    0.000,2,   149.89,2,     0.17,    35.99,2,     0.05,     0.00,2,     0.01,     2.51,2,     0.01,    -0.01,2,     0.01,    0.001,2,    0.001,2,    0.000,2,    0.000,2,   2324.9,2,   2416.2,2,   -999.0,9,   7.5774,       25,2, -999.000,9,    37.52,2, -999.000,9, -999.000,   -999.0,9,   -999.0, -999.000,9, -999.000, -999.000,9, -999.000,   -999.0,9,   -999.0, -999.000,9, -999.000,9, -999.000,9
  49NZ20140717,   P01,    43,  1,      8, X12J08,2,20140720,0148, 42.1804, 146.0813, 5040,   4331.2,2,   1.4395,2,   1.43954,2,  34.6886,2,  34.6884,2,  34.8671,2,   157.33,2,   157.35,2,   99.864,   0.0054,2,   -0.004,2,  -999.00,9,   -1.453,4,    0.000,2,   148.46,2,     0.17,    35.73,2,     0.05,     0.00,2,     0.01,     2.49,2,     0.01,  -999.00,9,  -999.00,    0.009,2,    0.009,2,    0.002,2,    0.000,2,   2321.3,6,   2415.5,2,   -999.0,9,   7.5833,       25,2, -999.000,9,    38.61,2, -999.000,9, -999.000,   -999.0,9,   -999.0, -999.000,9, -999.000, -999.000,9, -999.000,   -999.0,9,   -999.0, -999.000,9, -999.000,9, -999.000,9
  49NZ20140717,   P01,    43,  1,      7, X12J07,2,20140720,0148, 42.1804, 146.0813, 5040,   4582.4,2,   1.4599,2,   1.45973,2,  34.6894,2,  34.6896,2,  34.8697,2,   158.37,2,   158.37,2,   99.763,   0.0095,2,   -0.004,2,  -999.00,9,   -1.629,4,    0.000,2,   148.23,2,     0.17,    35.62,2,     0.05,     0.00,2,     0.01,     2.48,2,     0.01,     0.01,2,     0.01,    0.001,2,    0.002,2,    0.001,2,    0.000,2,   2319.9,2,   2415.1,2,   -999.0,9,   7.5850,       25,6, -999.000,9,    37.72,2, -999.000,9, -999.000,   -999.0,9,   -999.0, -999.000,9, -999.000, -999.000,9, -999.000,   -999.0,9,   -999.0, -999.000,9, -999.000,9, -999.000,9
  49NZ20140717,   P01,    43,  1,      6, X12J06,2,20140720,0148, 42.1804, 146.0813, 5040,   4828.8,2,   1.4850,2,   1.48480,2,  34.6899,2,  34.6899,2,  34.8710,2,   158.94,2,   159.08,2,   99.758,   0.0097,2,   -0.004,2,  -999.00,9,   -1.729,4,    0.000,2,   147.74,2,     0.38,    35.54,2,     0.05,     0.01,2,     0.01,     2.48,2,     0.01,  -999.00,9,  -999.00,    0.004,2,    0.005,2,    0.000,2,    0.000,2,   2319.5,2,   2412.9,6,   -999.0,9,   7.5862,       25,2, -999.000,9,    38.60,2, -999.000,9, -999.000,   -999.0,9,   -999.0, -999.000,9, -999.000, -999.000,9, -999.000,   -999.0,9,   -999.0, -999.000,9, -999.000,9, -999.000,9
  49NZ20140717,   P01,    43,  1,      5, X12J05,2,20140720,0148, 42.1804, 146.0813, 5040,   5080.7,2,   1.5095,2,   1.50933,2,  34.6905,2,  34.6905,2,  34.8710,2,   159.46,2,   159.76,2,   99.698,   0.0121,2,   -0.003,2,  -999.00,9,   -1.803,4,    0.000,2,   147.99,2,     0.39,    35.51,2,     0.05,     0.01,2,     0.01,     2.48,2,     0.01,     0.01,2,     0.01,    0.000,2,    0.000,2,    0.000,2,    0.000,2,   2319.0,2,   2414.2,2,   -999.0,9,   7.5870,       25,2, -999.000,9,    38.53,2, -999.000,9, -999.000,   -999.0,9,   -999.0, -999.000,9, -999.000, -999.000,9, -999.000,   -999.0,9,   -999.0, -999.000,9, -999.000,9, -999.000,9
  49NZ20140717,   P01,    43,  1,      4, X12J04,2,20140720,0148, 42.1804, 146.0813, 5040,    201.0,2,   2.0696,2,   2.07043,2,  33.4274,2,-999.0000,9,-999.0000,9,   198.23,2,  -999.00,9,   98.741,   0.0507,2,    0.013,2,  -999.00,9,    1.871,4,    0.000,2,  -999.00,9,  -999.00,  -999.00,9,  -999.00,  -999.00,9,  -999.00,  -999.00,9,  -999.00,  -999.00,9,  -999.00, -999.000,9, -999.000,9, -999.000,9, -999.000,9,   -999.0,9,   -999.0,9,   -999.0,9,-999.0000,     -999,9, -999.000,9,  -999.00,9, -999.000,9, -999.000,   -999.0,9,   -999.0, -999.000,9, -999.000, -999.000,9, -999.000,   -999.0,9,   -999.0, -999.000,9, -999.000,9, -999.000,9
  49NZ20140717,   P01,    43,  1,      3, X12J03,9,20140720,0148, 42.1804, 146.0813, 5040,   -999.0,9,-999.0000,9,-999.00000,9,-999.0000,9,-999.0000,9,-999.0000,9,  -999.00,9,  -999.00,9, -999.000,-999.0000,9, -999.000,9,  -999.00,9, -999.000,9, -999.000,9,  -999.00,9,  -999.00,  -999.00,9,  -999.00,  -999.00,9,  -999.00,  -999.00,9,  -999.00,  -999.00,9,  -999.00, -999.000,9, -999.000,9, -999.000,9, -999.000,9,   -999.0,9,   -999.0,9,   -999.0,9,-999.0000,     -999,9, -999.000,9,  -999.00,9, -999.000,9, -999.000,   -999.0,9,   -999.0, -999.000,9, -999.000, -999.000,9, -999.000,   -999.0,9,   -999.0, -999.000,9, -999.000,9, -999.000,9
  49NZ20140717,   P01,    43,  1,      2, X12J02,9,20140720,0148, 42.1804, 146.0813, 5040,   -999.0,9,-999.0000,9,-999.00000,9,-999.0000,9,-999.0000,9,-999.0000,9,  -999.00,9,  -999.00,9, -999.000,-999.0000,9, -999.000,9,  -999.00,9, -999.000,9, -999.000,9,  -999.00,9,  -999.00,  -999.00,9,  -999.00,  -999.00,9,  -999.00,  -999.00,9,  -999.00,  -999.00,9,  -999.00, -999.000,9, -999.000,9, -999.000,9, -999.000,9,   -999.0,9,   -999.0,9,   -999.0,9,-999.0000,     -999,9, -999.000,9,  -999.00,9, -999.000,9, -999.000,   -999.0,9,   -999.0, -999.000,9, -999.000, -999.000,9, -999.000,   -999.0,9,   -999.0, -999.000,9, -999.000,9, -999.000,9
  49NZ20140717,   P01,    43,  1,      1, X12J01,2,20140720,0148, 42.1804, 146.0813, 5040,   5141.6,2,   1.5154,2,   1.51521,2,  34.6907,2,  34.6911,2,  34.8724,2,   159.67,2,   160.20,2,   99.653,   0.0139,2,   -0.004,2,  -999.00,9,   -1.154,1,    0.000,2,   148.19,2,     0.17,    35.47,2,     0.05,     0.01,2,     0.01,     2.48,2,     0.01,     0.00,2,     0.01,    0.000,2,    0.000,2,    0.000,2,    0.000,2,   2319.9,2,   2411.6,2,   -999.0,9,   7.5878,       25,2, -999.000,9,    37.86,2, -999.000,9, -999.000,   -999.0,9,   -999.0, -999.000,9, -999.000, -999.000,9, -999.000,   -999.0,9,   -999.0, -999.000,9, -999.000,9, -999.000,9