BOTTLE,20230904JAMSTECRIGC
EXPOCODE,SECT,STNNBR,CASTNO,SAMPNO,BTLNBR,BTLNBR_FLAG_W,DATE,TIME,LATITUDE,LONGITUDE,DEPTH,CTDPRS,CTDPRS_FLAG_W,CTDTMP,CTDTMP_FLAG_W,SBE35,SBE35_FLAG_W,CTDSAL,CTDSAL_FLAG_W,SALNTY,SALNTY_FLAG_W,DNSSAL,DNSSAL_FLAG_W,CTDOXY,CTDOXY_FLAG_W,OXYGEN,OXYGEN_FLAG_W,XMISS,XMISSCP,XMISS_FLAG_W,FLUOR,FLUOR_FLAG_W,CHLORA,CHLORA_FLAG_W,CDOM,CDOM_FLAG_W,PAR,PAR_FLAG_W,SILCAT,SILCAT_FLAG_W,SILUNC,NITRAT,NITRAT_FLAG_W,NRAUNC,NITRIT,NITRIT_FLAG_W,NRIUNC,PHSPHT,PHSPHT_FLAG_W,PHPUNC,AMMONIA,AMMONIA_FLAG_W,NH4UNC,CFC-11,CFC-11_FLAG_W,CFC-12,CFC-12_FLAG_W,CFC113,CFC113_FLAG_W,SF6,SF6_FLAG_W,TCARBN,TCARBN_FLAG_W,ALKALI,ALKALI_FLAG_W,ALKALI_POT,ALKALI_POT_FLAG_W,PH_TOT,PH_TMP,PH_TOT_FLAG_W,CALCIUM,CALCIUM_FLAG_W,DOC,DOC_FLAG_W,DELC13,DELC13_FLAG_W,C13ERR,DELC14,DELC14_FLAG_W,C14ERR,CS-134,CS-134_FLAG_W,CS134ER,CS-137,CS-137_FLAG_W,CS137ER,I-129,I-129_FLAG_W,I-129ER,CDOM-325,CDOM-325_FLAG_W,CDOM-370,CDOM-370_FLAG_W,CDOM-443,CDOM-443_FLAG_W
,,,,,,,,UTC,DEG,DEG,METERS,DBAR,,ITS-90,,ITS-90,,PSS-78,,PSS-78,,G/KG,,UMOL/KG,,UMOL/KG,,%TRANS,/METER,,MG/CUM,,MG/CUM,,MG/CUM,,UE/SQM/S,,UMOL/KG,,UMOL/KG,UMOL/KG,,UMOL/KG,UMOL/KG,,UMOL/KG,UMOL/KG,,UMOL/KG,UMOL/KG,,UMOL/KG,PMOL/KG,,PMOL/KG,,PMOL/KG,,FMOL/KG,,UMOL/KG,,UMOL/KG,,UMOL/KG,,,DEG C,,MMOL/KG,,UMOL/KG,,/MILLE,,/MILLE,/MILLE,,/MILLE,MBQ/KG,,MBQ/KG,MBQ/KG,,MBQ/KG,,,,/METER,,/METER,,/METER,
  49NZ20140717,   P01,   101,  3,      0,   -999,9,20140806,0530, 47.0023,-174.9540, 5796,   -999.0,9,-999.0000,9,-999.00000,9,-999.0000,9,  32.8513,2,-999.0000,9,  -999.00,9,  -999.00,9, -999.000,-999.0000,9, -999.000,9,     0.35,2, -999.000,9, -999.000,9,    19.68,2,     0.09,    12.39,2,     0.02,     0.19,2,     0.01,     1.20,2,     0.01,     0.17,3,     0.02, -999.000,9, -999.000,9, -999.000,9, -999.000,9,   -999.0,9,   -999.0,9,   -999.0,9,-999.0000,     -999,9, -999.000,9,  -999.00,9, -999.000,9, -999.000,   -999.0,9,   -999.0, -999.000,1, -999.000, -999.000,1, -999.000,   -999.0,1,   -999.0,    0.176,2,    0.080,2,    0.041,2
  49NZ20140717,   P01,   101,  3,     36, X12J36,2,20140806,0530, 47.0023,-174.9540, 5796,      9.9,2,  11.6374,2,  11.61794,2,  32.8702,2,  32.8705,2,  33.0288,2,   284.37,2,   286.58,2,   95.644,   0.1781,2,    0.532,2,     0.37,2,   -0.271,1,    0.152,2,    19.60,2,     0.09,    12.51,2,     0.02,     0.17,2,     0.01,     1.20,2,     0.01,  -999.00,9,  -999.00, -999.000,9, -999.000,9, -999.000,9, -999.000,9,   2045.6,2,   2219.5,2,   -999.0,9,   7.8265,       25,6, -999.000,9,    56.30,2, -999.000,1, -999.000,   -999.0,1,   -999.0, -999.000,9, -999.000, -999.000,9, -999.000,   -999.0,9,   -999.0,    0.121,2,    0.058,2,    0.015,2
  49NZ20140717,   P01,   101,  3,     35, X12J35,2,20140806,0530, 47.0023,-174.9540, 5796,     50.4,2,   5.1250,2,   5.12206,2,  32.9514,2,  32.9612,2,  33.1185,2,   319.81,2,   318.53,2,   97.508,   0.1010,2,    0.531,2,     0.46,2,    0.646,1,    0.000,2,    25.02,2,     0.09,    16.58,2,     0.03,     0.24,2,     0.01,     1.48,2,     0.01,  -999.00,9,  -999.00, -999.000,9, -999.000,9, -999.000,9, -999.000,9,   2084.9,6,   2224.3,2,   -999.0,9,   7.7390,       25,2, -999.000,9,    52.62,2, -999.000,1, -999.000,   -999.0,1,   -999.0, -999.000,9, -999.000, -999.000,9, -999.000,   -999.0,9,   -999.0,    0.239,2,    0.123,2,    0.045,2
  49NZ20140717,   P01,   101,  3,     34, X12J34,2,20140806,0530, 47.0023,-174.9540, 5796,     99.8,2,   4.4959,2,   4.53103,2,  33.1917,2,  33.2372,2,  33.3969,2,   291.97,2,   282.15,2,   99.609,   0.0157,2,    0.097,2,     0.07,2,    0.772,1,    0.000,2,    31.98,2,     0.10,    21.03,2,     0.03,     0.01,2,     0.01,     1.66,2,     0.01,  -999.00,9,  -999.00, -999.000,9, -999.000,9, -999.000,9, -999.000,9,   2125.3,2,   2236.0,2,   -999.0,9,   7.6642,       25,2, -999.000,9,    48.54,2, -999.000,1, -999.000,   -999.0,1,   -999.0, -999.000,9, -999.000, -999.000,9, -999.000,   -999.0,9,   -999.0,    0.173,2,    0.090,2,    0.028,2
  49NZ20140717,   P01,   101,  3,     33, X12J33,2,20140806,0530, 47.0023,-174.9540, 5796,    149.8,2,   3.9879,2,   3.98811,2,  33.6450,2,  33.6433,2,  33.8085,2,   185.70,2,   187.07,2,   99.618,   0.0153,2,    0.016,2,     0.01,2,    2.042,1,    0.000,2,    57.11,2,     0.11,    30.12,2,     0.04,     0.01,2,     0.01,     2.22,2,     0.01,  -999.00,9,  -999.00, -999.000,9, -999.000,9, -999.000,9, -999.000,9,   2212.6,2,   2269.2,2,   -999.0,9,   7.5002,       25,6, -999.000,9,    45.95,2, -999.000,1, -999.000,   -999.0,1,   -999.0, -999.000,9, -999.000, -999.000,9, -999.000,   -999.0,9,   -999.0, -999.000,9, -999.000,9, -999.000,9
  49NZ20140717,   P01,   101,  3,     32, X12J32,2,20140806,0530, 47.0023,-174.9540, 5796,    200.1,2,   3.7427,2,   3.74257,2,  33.7315,2,  33.7373,2,  33.9048,2,   130.51,2,   129.02,2,   99.696,   0.0122,2,    0.014,2,     0.00,2,    2.410,1,    0.000,2,    73.43,2,     0.12,    35.73,2,     0.05,     0.01,2,     0.01,     2.59,2,     0.01,  -999.00,9,  -999.00, -999.000,9, -999.000,9, -999.000,9, -999.000,9,   2260.8,2,   2283.3,6,   -999.0,9,   7.3950,       25,2, -999.000,9,    45.06,2, -999.000,1, -999.000,   -999.0,1,   -999.0, -999.000,9, -999.000, -999.000,9, -999.000,   -999.0,9,   -999.0,    0.247,2,    0.125,2,    0.039,2
  49NZ20140717,   P01,   101,  3,     31, X12J31,2,20140806,0530, 47.0023,-174.9540, 5796,    249.8,2,   3.7805,2,   3.78041,2,  33.8235,2,  33.8276,2,  33.9945,2,    97.80,2,    97.26,2,   99.750,   0.0100,2,    0.016,2,     0.00,2,    2.647,1,    0.000,2,    82.44,2,     0.13,    38.23,2,     0.05,     0.01,2,     0.01,     2.75,2,     0.01,  -999.00,9,  -999.00, -999.000,9, -999.000,9, -999.000,9, -999.000,9,   2285.3,2,   2291.5,2,   -999.0,9,   7.3493,       25,2, -999.000,9,    41.72,2, -999.000,1, -999.000,   -999.0,1,   -999.0, -999.000,9, -999.000, -999.000,9, -999.000,   -999.0,9,   -999.0, -999.000,9, -999.000,9, -999.000,9
  49NZ20140717,   P01,   101,  3,     30, X12J30,2,20140806,0530, 47.0023,-174.9540, 5796,    280.6,2,   3.7995,2,   3.79934,2,  33.8683,2,  33.8690,2,  34.0387,2,    85.21,2,    85.19,2,   99.748,   0.0101,2,    0.015,2,  -999.00,9,    2.671,1,    0.000,2,    86.60,2,     0.13,    39.15,2,     0.05,     0.01,2,     0.01,     2.81,2,     0.01,  -999.00,9,  -999.00, -999.000,9, -999.000,9, -999.000,9, -999.000,9,   2293.5,2,   2296.6,2,   -999.0,9,   7.3343,       25,2, -999.000,9,    44.29,2, -999.000,1, -999.000,   -999.0,1,   -999.0, -999.000,9, -999.000, -999.000,9, -999.000,   -999.0,9,   -999.0, -999.000,9, -999.000,9, -999.000,9
  49NZ20140717,   P01,   101,  3,     29, X12J29,2,20140806,0530, 47.0023,-174.9540, 5796,    369.3,2,   3.7902,2,   3.78988,2,  33.9903,2,  33.9903,2,  34.1587,2,    58.49,2,    58.88,2,   99.780,   0.0088,2,    0.016,2,  -999.00,9,    2.799,1,    0.000,2,    98.50,2,     0.14,    41.03,2,     0.05,     0.01,2,     0.01,     2.93,2,     0.01,  -999.00,9,  -999.00, -999.000,9, -999.000,9, -999.000,9, -999.000,9,   2314.9,2,   2315.3,2,   -999.0,9,   7.3116,       25,2, -999.000,9,  -999.00,9, -999.000,1, -999.000,   -999.0,1,   -999.0, -999.000,9, -999.000, -999.000,9, -999.000,   -999.0,9,   -999.0, -999.000,9, -999.000,9, -999.000,9
  49NZ20140717,   P01,   101,  3,     28, X12J28,2,20140806,0530, 47.0023,-174.9540, 5796,    469.5,2,   3.7481,2,   3.74586,2,  34.0902,2,  34.0872,2,  34.2587,2,    43.76,2,    45.12,2,   99.841,   0.0064,2,    0.016,2,  -999.00,9,    2.910,1,    0.000,2,   107.60,2,     0.14,    41.87,2,     0.05,     0.01,2,     0.01,     2.99,2,     0.01,  -999.00,9,  -999.00, -999.000,9, -999.000,9, -999.000,9, -999.000,9,   2329.5,2,   2322.8,2,   -999.0,9,   7.3081,       25,2, -999.000,9,    40.80,2, -999.000,1, -999.000,   -999.0,1,   -999.0, -999.000,9, -999.000, -999.000,9, -999.000,   -999.0,9,   -999.0,    0.278,2,    0.163,2,    0.088,2
  49NZ20140717,   P01,   101,  3,     27, X12J27,2,20140806,0530, 47.0023,-174.9540, 5796,    570.9,2,   3.5734,2,   3.57371,2,  34.1662,2,  34.1660,2,  34.3400,2,    34.73,2,    34.93,2,   99.873,   0.0051,2,    0.016,2,  -999.00,9,    2.939,1,    0.000,2,   117.36,2,     0.15,    42.59,2,     0.05,     0.01,2,     0.01,     3.04,2,     0.01,  -999.00,9,  -999.00, -999.000,9, -999.000,9, -999.000,9, -999.000,9,   2345.0,2,   2339.5,2,   -999.0,9,   7.3035,       25,2, -999.000,9,    40.00,2, -999.000,1, -999.000,   -999.0,1,   -999.0, -999.000,9, -999.000, -999.000,9, -999.000,   -999.0,9,   -999.0, -999.000,9, -999.000,9, -999.000,9
  49NZ20140717,   P01,   101,  3,     26, X12J26,2,20140806,0530, 47.0023,-174.9540, 5796,    670.5,2,   3.3606,2,   3.36093,2,  34.2408,2,  34.2406,2,  34.4132,2,    29.03,2,    29.13,2,   99.834,   0.0066,2,    0.018,2,  -999.00,9,    3.040,1,    0.000,2,   126.99,2,     0.15,    43.09,2,     0.05,     0.01,2,     0.01,     3.08,2,     0.01,  -999.00,9,  -999.00, -999.000,9, -999.000,9, -999.000,9, -999.000,9,   2357.9,6,   2348.9,2,   -999.0,9,   7.3058,       25,2, -999.000,9,    39.03,2, -999.000,1, -999.000,   -999.0,1,   -999.0, -999.000,9, -999.000, -999.000,9, -999.000,   -999.0,9,   -999.0, -999.000,9, -999.000,9, -999.000,9
  49NZ20140717,   P01,   101,  3,     25, X12J25,2,20140806,0530, 47.0023,-174.9540, 5796,    769.9,2,   3.1916,2,   3.19134,2,  34.2926,2,  34.2929,2,  34.4667,2,    28.48,2,    28.51,2,   99.884,   0.0046,2,    0.015,2,  -999.00,9,    3.036,1,    0.000,2,   133.17,2,     0.16,    43.05,2,     0.05,     0.01,2,     0.01,     3.08,2,     0.01,  -999.00,9,  -999.00, -999.000,9, -999.000,9, -999.000,9, -999.000,9,   2365.4,2,   2361.1,2,   -999.0,9,   7.3124,       25,2, -999.000,9,    39.66,2, -999.000,1, -999.000,   -999.0,1,   -999.0, -999.000,9, -999.000, -999.000,9, -999.000,   -999.0,9,   -999.0,    0.249,2,    0.144,2,    0.079,2
  49NZ20140717,   P01,   101,  3,     24, X12J24,2,20140806,0530, 47.0023,-174.9540, 5796,    871.2,2,   3.0334,2,   3.03215,2,  34.3317,2,  34.3327,2,  34.5095,2,    27.01,2,    26.99,2,   99.886,   0.0045,2,    0.014,2,  -999.00,9,    3.138,1,    0.000,2,   139.27,2,     0.16,    43.33,2,     0.05,     0.01,2,     0.01,     3.10,2,     0.01,  -999.00,9,  -999.00, -999.000,9, -999.000,9, -999.000,9, -999.000,9,   2370.3,2,   2369.6,2,   -999.0,9,   7.3142,       25,6, -999.000,9,    39.46,2, -999.000,1, -999.000,   -999.0,1,   -999.0, -999.000,9, -999.000, -999.000,9, -999.000,   -999.0,9,   -999.0, -999.000,9, -999.000,9, -999.000,9
  49NZ20140717,   P01,   101,  3,     23, X12J23,2,20140806,0530, 47.0023,-174.9540, 5796,    971.1,2,   2.8721,2,   2.87202,2,  34.3672,2,  34.3672,2,  34.5438,2,    26.72,2,    26.44,2,   99.871,   0.0052,2,    0.013,2,  -999.00,9,    3.164,1,    0.000,2,   144.73,2,     0.16,    43.44,2,     0.05,     0.00,2,     0.01,     3.11,2,     0.01,  -999.00,9,  -999.00, -999.000,9, -999.000,9, -999.000,9, -999.000,9,   2376.0,2,   2373.5,2,   -999.0,9,   7.3165,       25,2, -999.000,9,    38.30,2, -999.000,1, -999.000,   -999.0,1,   -999.0, -999.000,9, -999.000, -999.000,9, -999.000,   -999.0,9,   -999.0,    0.254,2,    0.147,2,    0.081,2
  49NZ20140717,   P01,   101,  3,     22, X12J22,2,20140806,0530, 47.0023,-174.9540, 5796,   1129.8,2,   2.6393,2,   2.63893,2,  34.4186,2,  34.4188,2,  34.5946,2,    28.40,2,    28.55,2,   99.882,   0.0047,2,    0.012,2,  -999.00,9,    3.192,1,    0.000,2,   152.43,2,     0.17,    43.48,2,     0.05,     0.01,2,     0.01,     3.11,2,     0.01,  -999.00,9,  -999.00, -999.000,9, -999.000,9, -999.000,9, -999.000,9,   2382.6,2,   2384.6,6,   -999.0,9,   7.3240,       25,2, -999.000,9,    39.65,2, -999.000,1, -999.000,   -999.0,1,   -999.0, -999.000,9, -999.000, -999.000,9, -999.000,   -999.0,9,   -999.0, -999.000,9, -999.000,9, -999.000,9
  49NZ20140717,   P01,   101,  3,     21, X12J21,2,20140806,0530, 47.0023,-174.9540, 5796,   1331.0,2,   2.4039,2,   2.40345,2,  34.4736,2,  34.4742,2,  34.6526,2,    33.38,2,    33.79,2,   99.878,   0.0049,2,    0.011,2,  -999.00,9,    3.163,1,    0.000,2,   160.15,2,     0.17,    43.30,2,     0.05,     0.01,2,     0.01,     3.09,2,     0.01,  -999.00,9,  -999.00, -999.000,9, -999.000,9, -999.000,9, -999.000,9,   2386.6,2,   2392.5,2,   -999.0,9,   7.3408,       25,2, -999.000,9,    38.95,2, -999.000,9, -999.000,   -999.0,9,   -999.0, -999.000,9, -999.000, -999.000,9, -999.000,   -999.0,9,   -999.0, -999.000,9, -999.000,9, -999.000,9
  49NZ20140717,   P01,   101,  3,     20, X12J20,2,20140806,0530, 47.0023,-174.9540, 5796,   1528.7,2,   2.2100,2,   2.20998,2,  34.5207,2,  34.5211,2,  34.7001,2,    41.47,2,    41.65,2,   99.904,   0.0039,2,    0.010,2,  -999.00,9,    3.146,1,    0.000,2,   164.90,2,     0.18,    42.90,2,     0.05,     0.00,2,     0.01,     3.05,2,     0.01,  -999.00,9,  -999.00, -999.000,9, -999.000,9, -999.000,9, -999.000,9,   2386.6,2,   2402.0,2,   -999.0,9,   7.3613,       25,2, -999.000,9,    37.39,2, -999.000,1, -999.000,   -999.0,1,   -999.0, -999.000,9, -999.000, -999.000,9, -999.000,   -999.0,9,   -999.0, -999.000,9, -999.000,9, -999.000,9
  49NZ20140717,   P01,   101,  3,     19, X12J19,2,20140806,0530, 47.0023,-174.9540, 5796,   1730.0,2,   2.0792,2,   2.07910,2,  34.5523,2,  34.5527,2,  34.7330,2,    50.67,2,    51.01,2,   99.876,   0.0050,2,    0.009,2,  -999.00,9,    3.040,1,    0.000,2,   167.08,2,     0.18,    42.41,2,     0.05,     0.00,2,     0.01,     3.01,2,     0.01,  -999.00,9,  -999.00, -999.000,9, -999.000,9, -999.000,9, -999.000,9,   2384.1,2,   2404.1,2,   -999.0,9,   7.3812,       25,2, -999.000,9,    37.23,2, -999.000,9, -999.000,   -999.0,9,   -999.0, -999.000,9, -999.000, -999.000,9, -999.000,   -999.0,9,   -999.0, -999.000,9, -999.000,9, -999.000,9
  49NZ20140717,   P01,   101,  3,     18, X12J18,2,20140806,0530, 47.0023,-174.9540, 5796,   1930.5,2,   1.9603,2,   1.96029,2,  34.5797,2,  34.5799,2,  34.7607,2,    60.54,2,    60.61,2,   99.930,   0.0028,2,    0.008,2,  -999.00,9,    3.102,1,    0.000,2,   168.40,2,     0.18,    41.90,2,     0.05,     0.00,2,     0.01,     2.97,2,     0.01,  -999.00,9,  -999.00, -999.000,9, -999.000,9, -999.000,9, -999.000,9,   2380.9,2,   2411.0,2,   -999.0,9,   7.4033,       25,2, -999.000,9,    39.67,2, -999.000,1, -999.000,   -999.0,1,   -999.0, -999.000,9, -999.000, -999.000,9, -999.000,   -999.0,9,   -999.0,    0.269,2,    0.161,2,    0.088,2
  49NZ20140717,   P01,   101,  3,     17, X12J17,2,20140806,0530, 47.0023,-174.9540, 5796,   2131.0,2,   1.8524,2,   1.85242,2,  34.6017,2,  34.6022,2,  34.7838,2,    72.20,2,    72.58,2,   99.960,   0.0016,2,    0.007,2,  -999.00,9,    2.926,1,    0.000,2,   168.86,2,     0.18,    41.13,2,     0.05,     0.00,2,     0.01,     2.90,2,     0.01,  -999.00,9,  -999.00, -999.000,9, -999.000,9, -999.000,9, -999.000,9,   2378.1,2,   2415.3,2,   -999.0,9,   7.4275,       25,2, -999.000,9,    37.24,2, -999.000,9, -999.000,   -999.0,9,   -999.0, -999.000,9, -999.000, -999.000,9, -999.000,   -999.0,9,   -999.0, -999.000,9, -999.000,9, -999.000,9
  49NZ20140717,   P01,   101,  3,     16, X12J16,2,20140806,0530, 47.0023,-174.9540, 5796,   2331.2,2,   1.7572,2,   1.75708,2,  34.6200,2,  34.6208,2,  34.8010,2,    84.16,2,    84.43,2,   99.964,   0.0014,2,    0.006,2,  -999.00,9,    2.900,1,    0.000,2,   168.90,2,     0.18,    40.43,2,     0.05,     0.00,2,     0.01,     2.86,2,     0.01,  -999.00,9,  -999.00, -999.000,9, -999.000,9, -999.000,9, -999.000,9,   2370.7,6,   2416.7,2,   -999.0,9,   7.4515,       25,2, -999.000,9,    39.66,3, -999.000,9, -999.000,   -999.0,9,   -999.0, -999.000,9, -999.000, -999.000,9, -999.000,   -999.0,9,   -999.0, -999.000,9, -999.000,9, -999.000,9
  49NZ20140717,   P01,   101,  3,     15, X12J15,2,20140806,0530, 47.0023,-174.9540, 5796,   2529.9,2,   1.6838,2,   1.68387,2,  34.6339,2,  34.6342,2,  34.8148,2,    94.75,2,    94.82,2,   99.969,   0.0013,2,    0.005,2,  -999.00,9,    2.858,1,    0.000,2,   167.99,2,     0.18,    39.74,2,     0.05,     0.00,2,     0.01,     2.81,2,     0.01,  -999.00,9,  -999.00, -999.000,9, -999.000,9, -999.000,9, -999.000,9,   2364.8,2,   2417.5,2,   -999.0,9,   7.4719,       25,2, -999.000,9,    37.59,2, -999.000,1, -999.000,   -999.0,1,   -999.0, -999.000,9, -999.000, -999.000,9, -999.000,   -999.0,9,   -999.0, -999.000,9, -999.000,9, -999.000,9
  49NZ20140717,   P01,   101,  3,     14, X12J14,2,20140806,0530, 47.0023,-174.9540, 5796,   2730.8,2,   1.6223,2,   1.62229,2,  34.6454,2,  34.6455,2,  34.8267,2,   104.78,2,   104.66,2,   99.977,   0.0009,2,    0.005,2,  -999.00,9,    2.793,1,    0.000,2,   166.86,2,     0.18,    39.17,2,     0.05,     0.00,2,     0.01,     2.76,2,     0.01,  -999.00,9,  -999.00, -999.000,9, -999.000,9, -999.000,9, -999.000,9,   2359.1,2,   2417.7,2,   -999.0,9,   7.4909,       25,2, -999.000,9,    36.75,2, -999.000,9, -999.000,   -999.0,9,   -999.0, -999.000,9, -999.000, -999.000,9, -999.000,   -999.0,9,   -999.0, -999.000,9, -999.000,9, -999.000,9
  49NZ20140717,   P01,   101,  3,     13, X12113,2,20140806,0530, 47.0023,-174.9540, 5796,   2929.7,2,   1.5774,2,   1.57744,2,  34.6543,2,  34.6545,2,  34.8346,2,   113.52,2,   113.32,2,   99.971,   0.0012,2,    0.004,2,  -999.00,9,    2.865,4,    0.000,2,   165.29,2,     0.18,    38.61,2,     0.05,     0.00,2,     0.01,     2.72,2,     0.01,  -999.00,9,  -999.00, -999.000,9, -999.000,9, -999.000,9, -999.000,9,   2353.7,2,   2418.5,2,   -999.0,9,   7.5067,       25,2, -999.000,9,    37.04,2, -999.000,1, -999.000,   -999.0,1,   -999.0, -999.000,9, -999.000, -999.000,9, -999.000,   -999.0,9,   -999.0,    0.282,2,    0.170,2,    0.091,2
  49NZ20140717,   P01,   101,  3,     12, X12J12,2,20140806,0530, 47.0023,-174.9540, 5796,   3171.0,2,   1.5343,2,   1.53442,2,  34.6631,2,  34.6626,2,  34.8431,2,   123.11,2,   122.85,2,   99.977,   0.0009,2,    0.003,2,  -999.00,9,    2.831,4,    0.000,2,   162.44,2,     0.18,    37.99,2,     0.05,     0.00,2,     0.01,     2.66,2,     0.01,  -999.00,9,  -999.00, -999.000,9, -999.000,9, -999.000,9, -999.000,9,   2346.4,2,   2420.1,6,   -999.0,9,   7.5261,       25,2, -999.000,9,    37.24,2, -999.000,9, -999.000,   -999.0,9,   -999.0, -999.000,9, -999.000, -999.000,9, -999.000,   -999.0,9,   -999.0, -999.000,9, -999.000,9, -999.000,9
  49NZ20140717,   P01,   101,  3,     11, X12J11,2,20140806,0530, 47.0023,-174.9540, 5796,   3420.9,2,   1.5043,2,   1.50428,2,  34.6697,2,  34.6694,2,  34.8504,2,   131.30,2,   131.14,2,   99.973,   0.0011,2,    0.002,2,  -999.00,9,    2.371,4,    0.000,2,   160.27,2,     0.17,    37.43,2,     0.05,     0.00,2,     0.01,     2.62,2,     0.01,  -999.00,9,  -999.00, -999.000,9, -999.000,9, -999.000,9, -999.000,9,   2342.1,2,   2420.6,2,   -999.0,9,   7.5395,       25,2, -999.000,9,    39.85,2, -999.000,1, -999.000,   -999.0,1,   -999.0, -999.000,9, -999.000, -999.000,9, -999.000,   -999.0,9,   -999.0, -999.000,9, -999.000,9, -999.000,9
  49NZ20140717,   P01,   101,  3,     10, X12J10,2,20140806,0530, 47.0023,-174.9540, 5796,   3670.3,2,   1.4818,2,   1.48203,2,  34.6757,2,  34.6756,2,  34.8550,2,   138.28,2,   138.29,2,   99.979,   0.0008,2,    0.002,2,  -999.00,9,    2.158,4,    0.000,2,   158.88,2,     0.17,    37.01,2,     0.05,     0.00,2,     0.01,     2.58,2,     0.01,  -999.00,9,  -999.00, -999.000,9, -999.000,9, -999.000,9, -999.000,9,   2337.2,2,   2419.7,2,   -999.0,9,   7.5520,       25,2, -999.000,9,    39.14,2, -999.000,9, -999.000,   -999.0,9,   -999.0, -999.000,9, -999.000, -999.000,9, -999.000,   -999.0,9,   -999.0, -999.000,9, -999.000,9, -999.000,9