BOTTLE,20230904JAMSTECRIGC
EXPOCODE,SECT,STNNBR,CASTNO,SAMPNO,BTLNBR,BTLNBR_FLAG_W,DATE,TIME,LATITUDE,LONGITUDE,DEPTH,CTDPRS,CTDPRS_FLAG_W,CTDTMP,CTDTMP_FLAG_W,SBE35,SBE35_FLAG_W,CTDSAL,CTDSAL_FLAG_W,SALNTY,SALNTY_FLAG_W,DNSSAL,DNSSAL_FLAG_W,CTDOXY,CTDOXY_FLAG_W,OXYGEN,OXYGEN_FLAG_W,XMISS,XMISSCP,XMISS_FLAG_W,FLUOR,FLUOR_FLAG_W,CHLORA,CHLORA_FLAG_W,CDOM,CDOM_FLAG_W,PAR,PAR_FLAG_W,SILCAT,SILCAT_FLAG_W,SILUNC,NITRAT,NITRAT_FLAG_W,NRAUNC,NITRIT,NITRIT_FLAG_W,NRIUNC,PHSPHT,PHSPHT_FLAG_W,PHPUNC,AMMONIA,AMMONIA_FLAG_W,NH4UNC,CFC-11,CFC-11_FLAG_W,CFC-12,CFC-12_FLAG_W,CFC113,CFC113_FLAG_W,SF6,SF6_FLAG_W,TCARBN,TCARBN_FLAG_W,ALKALI,ALKALI_FLAG_W,ALKALI_POT,ALKALI_POT_FLAG_W,PH_TOT,PH_TMP,PH_TOT_FLAG_W,CALCIUM,CALCIUM_FLAG_W,DOC,DOC_FLAG_W,DELC13,DELC13_FLAG_W,C13ERR,DELC14,DELC14_FLAG_W,C14ERR,CS-134,CS-134_FLAG_W,CS134ER,CS-137,CS-137_FLAG_W,CS137ER,I-129,I-129_FLAG_W,I-129ER,CDOM-325,CDOM-325_FLAG_W,CDOM-370,CDOM-370_FLAG_W,CDOM-443,CDOM-443_FLAG_W
,,,,,,,,UTC,DEG,DEG,METERS,DBAR,,ITS-90,,ITS-90,,PSS-78,,PSS-78,,G/KG,,UMOL/KG,,UMOL/KG,,%TRANS,/METER,,MG/CUM,,MG/CUM,,MG/CUM,,UE/SQM/S,,UMOL/KG,,UMOL/KG,UMOL/KG,,UMOL/KG,UMOL/KG,,UMOL/KG,UMOL/KG,,UMOL/KG,UMOL/KG,,UMOL/KG,PMOL/KG,,PMOL/KG,,PMOL/KG,,FMOL/KG,,UMOL/KG,,UMOL/KG,,UMOL/KG,,,DEG C,,MMOL/KG,,UMOL/KG,,/MILLE,,/MILLE,/MILLE,,/MILLE,MBQ/KG,,MBQ/KG,MBQ/KG,,MBQ/KG,,,,/METER,,/METER,,/METER,
  49NZ20140717,   P01,    69,  1,      0,   -999,9,20140726,0637, 45.0713, 156.6378, 4783,   -999.0,9,-999.0000,9,-999.00000,9,-999.0000,9,  32.8035,2,-999.0000,9,  -999.00,9,  -999.00,9, -999.000,-999.0000,9, -999.000,9,  -999.00,9, -999.000,9, -999.000,9,     8.53,2,     0.09,     5.74,2,     0.26,     0.09,2,     0.01,     0.79,2,     0.01,  -999.00,9,  -999.00, -999.000,9, -999.000,9, -999.000,9, -999.000,9,   -999.0,9,   -999.0,9,   -999.0,9,-999.0000,     -999,9, -999.000,9,  -999.00,9, -999.000,9, -999.000,   -999.0,9,   -999.0, -999.000,9, -999.000, -999.000,9, -999.000,   -999.0,9,   -999.0, -999.000,9, -999.000,9, -999.000,9
  49NZ20140717,   P01,    69,  1,     36, X12J36,2,20140726,0637, 45.0713, 156.6378, 4783,     10.4,2,  13.5413,2,  13.54036,2,  32.8107,2,  32.8108,2,-999.0000,9,   272.09,2,   272.82,2,   95.020,   0.2043,2,    0.431,2,  -999.00,9,    0.096,1,    5.274,2,     8.40,2,     0.09,     5.27,2,     0.02,     0.09,2,     0.01,     0.74,2,     0.01,  -999.00,9,  -999.00,    3.134,2,    1.917,2,    0.281,2,    2.230,2,   2018.0,2,   2231.4,2,   -999.0,9,   7.9158,       25,6, -999.000,9,    63.60,2, -999.000,9, -999.000,   -999.0,9,   -999.0, -999.000,9, -999.000, -999.000,9, -999.000,   -999.0,9,   -999.0, -999.000,9, -999.000,9, -999.000,9
  49NZ20140717,   P01,    69,  1,     35, X12J35,2,20140726,0637, 45.0713, 156.6378, 4783,     50.5,2,   3.4534,2,   3.45306,2,  32.8863,2,  32.8892,2,-999.0000,9,   332.83,2,   333.49,2,   97.598,   0.0972,2,    0.437,2,  -999.00,9,    1.043,1,    0.213,2,    26.21,2,     0.09,    18.15,2,     0.03,     0.30,2,     0.01,     1.64,2,     0.01,  -999.00,9,  -999.00,    5.258,2,    3.021,2,    0.461,2,    3.220,2,   2101.2,6,   2233.3,2,   -999.0,9,   7.7179,       25,2, -999.000,9,    53.04,2, -999.000,9, -999.000,   -999.0,9,   -999.0, -999.000,9, -999.000, -999.000,9, -999.000,   -999.0,9,   -999.0, -999.000,9, -999.000,9, -999.000,9
  49NZ20140717,   P01,    69,  1,     34, X12J34,2,20140726,0637, 45.0713, 156.6378, 4783,    100.0,2,   1.5916,2,   1.59247,2,  33.0238,2,  33.0264,2,-999.0000,9,   308.24,2,   308.60,2,   99.395,   0.0243,2,    0.070,2,  -999.00,9,    1.265,1,    0.000,2,    40.89,2,     0.10,    24.75,2,     0.04,     0.01,2,     0.01,     1.96,2,     0.01,  -999.00,9,  -999.00,    5.283,2,    3.030,2,    0.477,2,    3.150,2,   2141.8,2,   2235.7,2,   -999.0,9,   7.6158,       25,2, -999.000,9,    49.98,2, -999.000,9, -999.000,   -999.0,9,   -999.0, -999.000,9, -999.000, -999.000,9, -999.000,   -999.0,9,   -999.0, -999.000,9, -999.000,9, -999.000,9
  49NZ20140717,   P01,    69,  1,     33, X12J33,2,20140726,0637, 45.0713, 156.6378, 4783,    150.6,2,   2.9031,2,   2.90226,2,  33.5776,2,  33.5772,2,-999.0000,9,   129.26,2,   129.41,2,   99.416,   0.0234,2,    0.025,2,  -999.00,9,    2.215,1,    0.000,2,    78.83,2,     0.12,    38.52,2,     0.05,     0.01,2,     0.01,     2.79,2,     0.01,  -999.00,9,  -999.00,    3.279,2,    1.853,2,    0.267,2,    1.580,2,   2269.1,2,   2275.9,2,   -999.0,9,   7.3472,       25,6, -999.000,9,    47.25,2, -999.000,9, -999.000,   -999.0,9,   -999.0, -999.000,9, -999.000, -999.000,9, -999.000,   -999.0,9,   -999.0, -999.000,9, -999.000,9, -999.000,9
  49NZ20140717,   P01,    69,  1,     32, X12J32,2,20140726,0637, 45.0713, 156.6378, 4783,    199.7,2,   3.3494,2,   3.34903,2,  33.7795,2,  33.7796,2,-999.0000,9,    64.24,2,    64.60,2,   99.423,   0.0232,2,    0.024,2,  -999.00,9,    2.651,1,    0.000,2,    92.40,2,     0.13,    42.72,2,     0.05,     0.01,2,     0.01,     3.04,2,     0.01,  -999.00,9,  -999.00,    2.480,2,    1.342,2,    0.189,2,    1.000,2,   2314.6,2,   2294.6,6,   -999.0,9,   7.2609,       25,2, -999.000,9,    45.46,2, -999.000,9, -999.000,   -999.0,9,   -999.0, -999.000,9, -999.000, -999.000,9, -999.000,   -999.0,9,   -999.0, -999.000,9, -999.000,9, -999.000,9
  49NZ20140717,   P01,    69,  1,     31, X12J31,2,20140726,0637, 45.0713, 156.6378, 4783,    248.9,2,   3.4606,2,   3.46024,2,  33.8787,2,  33.8778,2,-999.0000,9,    41.36,2,    41.77,2,   99.541,   0.0184,2,    0.025,2,  -999.00,9,    2.770,1,    0.000,2,    99.57,2,     0.14,    43.92,2,     0.06,     0.01,2,     0.01,     3.11,2,     0.01,  -999.00,9,  -999.00,    2.045,2,    1.106,2,    0.151,2,    0.770,2,   2332.1,2,   2304.3,2,   -999.0,9,   7.2420,       25,2, -999.000,9,    44.10,2, -999.000,9, -999.000,   -999.0,9,   -999.0, -999.000,9, -999.000, -999.000,9, -999.000,   -999.0,9,   -999.0, -999.000,9, -999.000,9, -999.000,9
  49NZ20140717,   P01,    69,  1,     30, X12J30,2,20140726,0637, 45.0713, 156.6378, 4783,    300.9,2,   3.5195,2,   3.51914,2,  33.9579,2,  33.9571,2,-999.0000,9,    30.12,2,    30.18,2,   99.615,   0.0154,2,    0.024,2,  -999.00,9,    2.812,1,    0.000,2,   105.70,2,     0.14,    44.43,2,     0.06,     0.01,2,     0.01,     3.14,2,     0.01,  -999.00,9,  -999.00,    1.725,2,    0.916,2,    0.125,2,    0.570,2,   2342.5,2,   2317.1,2,   -999.0,9,   7.2408,       25,2, -999.000,9,    43.02,2, -999.000,9, -999.000,   -999.0,9,   -999.0, -999.000,9, -999.000, -999.000,9, -999.000,   -999.0,9,   -999.0, -999.000,9, -999.000,9, -999.000,9
  49NZ20140717,   P01,    69,  1,     29, X12J29,2,20140726,0637, 45.0713, 156.6378, 4783,    401.3,2,   3.3487,2,   3.34964,2,  34.0647,2,  34.0644,2,-999.0000,9,    39.86,2,    40.52,2,   99.781,   0.0088,2,    0.022,2,  -999.00,9,    2.873,1,    0.000,2,   113.92,2,     0.15,    42.65,2,     0.05,     0.01,2,     0.01,     3.05,2,     0.01,  -999.00,9,  -999.00,    1.367,2,    0.735,2,    0.098,2,    0.450,2,   2342.7,2,   2329.0,2,   -999.0,9,   7.2843,       25,2, -999.000,9,    42.71,2, -999.000,9, -999.000,   -999.0,9,   -999.0, -999.000,9, -999.000, -999.000,9, -999.000,   -999.0,9,   -999.0, -999.000,9, -999.000,9, -999.000,9
  49NZ20140717,   P01,    69,  1,     28, X12J28,2,20140726,0637, 45.0713, 156.6378, 4783,    500.1,2,   3.3523,2,   3.35238,2,  34.1789,2,  34.1787,2,-999.0000,9,    30.63,2,    30.98,2,   99.844,   0.0063,2,    0.022,2,  -999.00,9,    2.865,1,    0.000,2,   123.53,2,     0.15,    43.01,2,     0.05,     0.01,2,     0.01,     3.08,2,     0.01,  -999.00,9,  -999.00,    0.846,2,    0.463,2,    0.056,2,    0.240,2,   2353.9,2,   2346.2,2,   -999.0,9,   7.2922,       25,2, -999.000,9,    41.92,2, -999.000,9, -999.000,   -999.0,9,   -999.0, -999.000,9, -999.000, -999.000,9, -999.000,   -999.0,9,   -999.0, -999.000,9, -999.000,9, -999.000,9
  49NZ20140717,   P01,    69,  1,     27, X12J27,2,20140726,0637, 45.0713, 156.6378, 4783,    598.8,2,   3.3017,2,   3.30144,2,  34.2571,2,  34.2573,2,-999.0000,9,    32.71,2,    33.24,2,   99.885,   0.0046,2,    0.020,2,  -999.00,9,    2.857,1,    0.000,2,   128.71,2,     0.15,    42.72,2,     0.05,     0.01,2,     0.01,     3.06,2,     0.01,  -999.00,9,  -999.00,    0.576,2,    0.322,2,    0.036,2,    0.150,2,   2357.0,2,   2357.2,2,   -999.0,9,   7.3151,       25,2, -999.000,9,    41.65,2, -999.000,9, -999.000,   -999.0,9,   -999.0, -999.000,9, -999.000, -999.000,9, -999.000,   -999.0,9,   -999.0, -999.000,9, -999.000,9, -999.000,9
  49NZ20140717,   P01,    69,  1,     26, X12J26,2,20140726,0637, 45.0713, 156.6378, 4783,    698.3,2,   3.0440,2,   3.04376,2,  34.2935,2,  34.2931,2,-999.0000,9,    26.50,2,    26.10,2,   99.876,   0.0050,2,    0.020,2,  -999.00,9,    2.880,1,    0.000,2,   137.29,2,     0.16,    43.34,2,     0.05,     0.01,2,     0.01,     3.10,2,     0.01,  -999.00,9,  -999.00,    0.446,2,    0.253,2,    0.028,2,    0.120,2,   2369.3,6,   2363.0,2,   -999.0,9,   7.3048,       25,2, -999.000,9,    41.15,2, -999.000,9, -999.000,   -999.0,9,   -999.0, -999.000,9, -999.000, -999.000,9, -999.000,   -999.0,9,   -999.0, -999.000,9, -999.000,9, -999.000,9
  49NZ20140717,   P01,    69,  1,     25, X12J25,2,20140726,0637, 45.0713, 156.6378, 4783,   4749.1,2,   1.4842,2,   1.48412,2,  34.6892,2,  34.6895,2,-999.0000,9,   156.87,2,   157.05,2,   99.906,   0.0037,2,    0.008,2,  -999.00,9,    2.517,4,    0.000,2,  -999.00,9,  -999.00,  -999.00,9,  -999.00,  -999.00,9,  -999.00,  -999.00,9,  -999.00,  -999.00,9,  -999.00, -999.000,9, -999.000,9, -999.000,9, -999.000,9,   -999.0,9,   -999.0,9,   -999.0,9,-999.0000,     -999,9, -999.000,9,  -999.00,9, -999.000,9, -999.000,   -999.0,9,   -999.0, -999.000,9, -999.000, -999.000,9, -999.000,   -999.0,9,   -999.0, -999.000,9, -999.000,9, -999.000,9
  49NZ20140717,   P01,    69,  1,     24, X12J24,2,20140726,0637, 45.0713, 156.6378, 4783,    900.2,2,   2.7773,2,   2.77680,2,  34.3768,2,  34.3768,2,-999.0000,9,    28.46,2,    28.11,2,   99.893,   0.0043,2,    0.019,2,  -999.00,9,    2.979,1,    0.000,2,   147.29,2,     0.17,    43.33,2,     0.05,     0.00,2,     0.01,     3.10,2,     0.01,  -999.00,9,  -999.00,    0.242,2,    0.143,2,    0.016,2,    0.060,2,   2377.6,2,   2377.8,2,   -999.0,9,   7.3200,       25,6, -999.000,9,    39.63,2, -999.000,9, -999.000,   -999.0,9,   -999.0, -999.000,9, -999.000, -999.000,9, -999.000,   -999.0,9,   -999.0, -999.000,9, -999.000,9, -999.000,9
  49NZ20140717,   P01,    69,  1,     23, X12J23,2,20140726,0637, 45.0713, 156.6378, 4783,    999.6,2,   2.6132,2,   2.61315,2,  34.4101,2,  34.4098,2,-999.0000,9,    28.98,2,    28.78,2,   99.863,   0.0055,2,    0.019,2,  -999.00,9,    2.941,1,    0.000,2,   152.97,2,     0.17,    43.42,2,     0.05,     0.00,2,     0.01,     3.10,2,     0.01,  -999.00,9,  -999.00,    0.191,2,    0.113,2,    0.013,2,    0.060,2,   2382.0,2,   2385.0,2,   -999.0,9,   7.3236,       25,2, -999.000,9,    41.53,2, -999.000,9, -999.000,   -999.0,9,   -999.0, -999.000,9, -999.000, -999.000,9, -999.000,   -999.0,9,   -999.0, -999.000,9, -999.000,9, -999.000,9
  49NZ20140717,   P01,    69,  1,     22, X12J22,2,20140726,0637, 45.0713, 156.6378, 4783,   1202.1,2,   2.3897,2,   2.38948,2,  34.4733,2,  34.4734,2,-999.0000,9,    38.33,2,    38.07,2,   99.930,   0.0028,2,    0.017,2,  -999.00,9,    3.039,1,    0.000,2,   158.65,2,     0.17,    43.00,2,     0.05,     0.00,2,     0.01,     3.06,2,     0.01,  -999.00,9,  -999.00,    0.108,2,    0.064,2,    0.006,2,    0.040,2,   2384.1,2,   2395.6,6,   -999.0,9,   7.3507,       25,2, -999.000,9,    40.14,2, -999.000,9, -999.000,   -999.0,9,   -999.0, -999.000,9, -999.000, -999.000,9, -999.000,   -999.0,9,   -999.0, -999.000,9, -999.000,9, -999.000,9
  49NZ20140717,   P01,    69,  1,     21, X12J21,2,20140726,0637, 45.0713, 156.6378, 4783,   1399.7,2,   2.2022,2,   2.20220,2,  34.5155,2,  34.5155,2,-999.0000,9,    39.51,2,    39.33,2,   99.926,   0.0030,2,    0.016,2,  -999.00,9,    2.986,1,    0.000,2,   166.46,2,     0.18,    42.96,2,     0.05,     0.00,2,     0.01,     3.06,2,     0.01,  -999.00,9,  -999.00,    0.050,2,    0.029,2,    0.002,2,    0.040,2,   2389.3,2,   2403.7,2,   -999.0,9,   7.3566,       25,2, -999.000,9,    39.23,2, -999.000,9, -999.000,   -999.0,9,   -999.0, -999.000,9, -999.000, -999.000,9, -999.000,   -999.0,9,   -999.0, -999.000,9, -999.000,9, -999.000,9
  49NZ20140717,   P01,    69,  1,     20, X12J20,2,20140726,0637, 45.0713, 156.6378, 4783,   1600.3,2,   2.0588,2,   2.05859,2,  34.5521,2,  34.5527,2,-999.0000,9,    51.13,2,    51.49,2,   99.952,   0.0019,2,    0.016,2,  -999.00,9,    2.903,1,    0.000,2,   168.41,2,     0.18,    42.23,2,     0.05,     0.00,2,     0.01,     3.00,2,     0.01,  -999.00,9,  -999.00,    0.026,2,    0.014,2,    0.001,2,    0.030,2,   2388.1,2,   2409.6,2,   -999.0,9,   7.3832,       25,2, -999.000,9,    39.93,2, -999.000,9, -999.000,   -999.0,9,   -999.0, -999.000,9, -999.000, -999.000,9, -999.000,   -999.0,9,   -999.0, -999.000,9, -999.000,9, -999.000,9
  49NZ20140717,   P01,    69,  1,     19, X12J19,2,20140726,0637, 45.0713, 156.6378, 4783,   1799.5,2,   1.9348,2,   1.93462,2,  34.5816,2,  34.5817,2,-999.0000,9,    63.87,2,    63.86,2,   99.952,   0.0019,2,    0.014,2,  -999.00,9,    2.862,1,    0.000,2,   168.96,2,     0.18,    41.49,2,     0.05,     0.01,2,     0.01,     2.94,2,     0.01,  -999.00,9,  -999.00,    0.010,2,    0.006,2,    0.000,2,    0.040,2,   2381.5,2,   2411.1,2,   -999.0,9,   7.4099,       25,2, -999.000,9,    40.11,2, -999.000,9, -999.000,   -999.0,9,   -999.0, -999.000,9, -999.000, -999.000,9, -999.000,   -999.0,9,   -999.0, -999.000,9, -999.000,9, -999.000,9
  49NZ20140717,   P01,    69,  1,     18, X12J18,2,20140726,0637, 45.0713, 156.6378, 4783,   2000.4,2,   1.8257,2,   1.82564,2,  34.6064,2,  34.6067,2,-999.0000,9,    78.40,2,    78.47,2,   99.963,   0.0015,2,    0.013,2,  -999.00,9,    2.778,1,    0.000,2,   167.40,2,     0.18,    40.70,2,     0.05,     0.00,2,     0.01,     2.88,2,     0.01,  -999.00,9,  -999.00,    0.001,2,    0.001,2,    0.000,2,    0.030,2,   2373.6,2,   2414.5,2,   -999.0,9,   7.4401,       25,2, -999.000,9,    39.37,2, -999.000,9, -999.000,   -999.0,9,   -999.0, -999.000,9, -999.000, -999.000,9, -999.000,   -999.0,9,   -999.0, -999.000,9, -999.000,9, -999.000,9
  49NZ20140717,   P01,    69,  1,     17, X12J17,2,20140726,0637, 45.0713, 156.6378, 4783,   2199.9,2,   1.7188,2,   1.71886,2,  34.6266,2,  34.6268,2,-999.0000,9,    92.86,2,    92.82,2,   99.921,   0.0031,2,    0.012,2,  -999.00,9,    2.685,1,    0.000,2,   165.94,2,     0.18,    39.83,2,     0.05,     0.00,2,     0.01,     2.81,2,     0.01,  -999.00,9,  -999.00,    0.000,2,    0.000,2,    0.000,2,    0.050,2,   2365.5,2,   2416.8,2,   -999.0,9,   7.4684,       25,2, -999.000,9,  -999.00,9, -999.000,9, -999.000,   -999.0,9,   -999.0, -999.000,9, -999.000, -999.000,9, -999.000,   -999.0,9,   -999.0, -999.000,9, -999.000,9, -999.000,9
  49NZ20140717,   P01,    69,  1,     16, X12J16,2,20140726,0637, 45.0713, 156.6378, 4783,   2402.8,2,   1.6505,2,   1.65050,2,  34.6395,2,  34.6396,2,-999.0000,9,   102.65,2,   102.72,2,   99.937,   0.0025,2,    0.012,2,  -999.00,9,    2.564,1,    0.000,2,   164.76,2,     0.18,    39.17,2,     0.05,     0.00,2,     0.01,     2.77,2,     0.01,  -999.00,9,  -999.00,    0.000,2,    0.000,2,    0.000,2,    0.030,2,   2359.0,6,   2418.6,2,   -999.0,9,   7.4864,       25,2, -999.000,9,    38.37,2, -999.000,9, -999.000,   -999.0,9,   -999.0, -999.000,9, -999.000, -999.000,9, -999.000,   -999.0,9,   -999.0, -999.000,9, -999.000,9, -999.000,9
  49NZ20140717,   P01,    69,  1,     15, X12J15,2,20140726,0637, 45.0713, 156.6378, 4783,   2600.9,2,   1.5935,2,   1.59347,2,  34.6502,2,  34.6507,2,-999.0000,9,   113.17,2,   112.88,2,   99.939,   0.0024,2,    0.012,2,  -999.00,9,    2.470,1,    0.000,2,   161.43,2,     0.17,    38.46,2,     0.05,     0.00,2,     0.01,     2.71,2,     0.01,  -999.00,9,  -999.00,    0.000,2,    0.000,2,    0.000,2,    0.040,2,   2354.1,2,   2417.9,2,   -999.0,9,   7.5071,       25,2, -999.000,9,    37.12,2, -999.000,9, -999.000,   -999.0,9,   -999.0, -999.000,9, -999.000, -999.000,9, -999.000,   -999.0,9,   -999.0, -999.000,9, -999.000,9, -999.000,9
  49NZ20140717,   P01,    69,  1,     14, X12J14,2,20140726,0637, 45.0713, 156.6378, 4783,   2799.8,2,   1.5514,2,   1.55139,2,  34.6584,2,  34.6585,2,-999.0000,9,   121.30,2,   121.17,2,   99.958,   0.0017,2,    0.011,2,  -999.00,9,    2.464,1,    0.000,2,   159.33,2,     0.17,    38.01,2,     0.05,     0.00,2,     0.01,     2.67,2,     0.01,  -999.00,9,  -999.00,    0.000,2,    0.000,2,    0.000,2,    0.020,2,   2348.3,2,   2420.5,2,   -999.0,9,   7.5220,       25,6, -999.000,9,    39.27,2, -999.000,9, -999.000,   -999.0,9,   -999.0, -999.000,9, -999.000, -999.000,9, -999.000,   -999.0,9,   -999.0, -999.000,9, -999.000,9, -999.000,9
  49NZ20140717,   P01,    69,  1,     13, X12113,2,20140726,0637, 45.0713, 156.6378, 4783,   3000.4,2,   1.5089,2,   1.50893,2,  34.6660,2,  34.6663,2,-999.0000,9,   129.74,2,   129.55,2,   99.973,   0.0011,2,    0.011,2,  -999.00,9,    2.422,1,    0.000,2,   157.08,2,     0.17,    37.46,2,     0.05,     0.01,2,     0.01,     2.63,2,     0.01,  -999.00,9,  -999.00,    0.000,2,    0.000,2,    0.000,2,    0.000,2,   2338.0,2,   2419.4,2,   -999.0,9,   7.5370,       25,2, -999.000,9,    38.93,2, -999.000,9, -999.000,   -999.0,9,   -999.0, -999.000,9, -999.000, -999.000,9, -999.000,   -999.0,9,   -999.0, -999.000,9, -999.000,9, -999.000,9
  49NZ20140717,   P01,    69,  1,     12, X12J12,2,20140726,0637, 45.0713, 156.6378, 4783,   3250.4,2,   1.4753,2,   1.47538,2,  34.6727,2,  34.6729,2,-999.0000,9,   137.33,2,   137.28,2,   99.969,   0.0012,2,    0.010,2,  -999.00,9,    2.310,1,    0.000,2,   155.06,2,     0.17,    36.96,2,     0.05,     0.00,2,     0.01,     2.58,2,     0.01,  -999.00,9,  -999.00,    0.000,2,    0.000,2,    0.000,2,    0.000,2,   2336.1,2,   2418.3,6,   -999.0,9,   7.5506,       25,2, -999.000,9,    39.04,2, -999.000,9, -999.000,   -999.0,9,   -999.0, -999.000,9, -999.000, -999.000,9, -999.000,   -999.0,9,   -999.0, -999.000,9, -999.000,9, -999.000,9
  49NZ20140717,   P01,    69,  1,     11, X12J11,2,20140726,0637, 45.0713, 156.6378, 4783,   3500.0,2,   1.4558,2,   1.45580,2,  34.6775,2,  34.6775,2,-999.0000,9,   143.04,2,   142.98,2,   99.978,   0.0009,2,    0.009,2,  -999.00,9,    2.369,1,    0.000,2,   153.43,2,     0.17,    36.61,2,     0.05,     0.00,2,     0.01,     2.56,2,     0.01,  -999.00,9,  -999.00,    0.000,2,    0.000,2,    0.000,2,    0.000,2,   2331.8,2,   2416.2,3,   -999.0,9,   7.5602,       25,2, -999.000,9,    38.43,2, -999.000,9, -999.000,   -999.0,9,   -999.0, -999.000,9, -999.000, -999.000,9, -999.000,   -999.0,9,   -999.0, -999.000,9, -999.000,9, -999.000,9
  49NZ20140717,   P01,    69,  1,     10, X12J10,2,20140726,0637, 45.0713, 156.6378, 4783,   3751.1,2,   1.4391,2,   1.43920,2,  34.6821,2,  34.6821,2,-999.0000,9,   148.58,2,   148.41,2,   99.969,   0.0012,2,    0.009,2,  -999.00,9,    2.240,1,    0.000,2,   152.12,2,     0.17,    36.27,2,     0.05,     0.00,2,     0.01,     2.53,2,     0.01,  -999.00,9,  -999.00,    0.000,2,    0.000,2,    0.000,2,    0.000,2,   2327.8,2,   2416.6,2,   -999.0,9,   7.5690,       25,2, -999.000,9,    38.25,2, -999.000,9, -999.000,   -999.0,9,   -999.0, -999.000,9, -999.000, -999.000,9, -999.000,   -999.0,9,   -999.0, -999.000,9, -999.000,9, -999.000,9