BOTTLE,20230904JAMSTECRIGC
EXPOCODE,SECT,STNNBR,CASTNO,SAMPNO,BTLNBR,BTLNBR_FLAG_W,DATE,TIME,LATITUDE,LONGITUDE,DEPTH,CTDPRS,CTDPRS_FLAG_W,CTDTMP,CTDTMP_FLAG_W,SBE35,SBE35_FLAG_W,CTDSAL,CTDSAL_FLAG_W,SALNTY,SALNTY_FLAG_W,DNSSAL,DNSSAL_FLAG_W,CTDOXY,CTDOXY_FLAG_W,OXYGEN,OXYGEN_FLAG_W,XMISS,XMISSCP,XMISS_FLAG_W,FLUOR,FLUOR_FLAG_W,CHLORA,CHLORA_FLAG_W,CDOM,CDOM_FLAG_W,PAR,PAR_FLAG_W,SILCAT,SILCAT_FLAG_W,SILUNC,NITRAT,NITRAT_FLAG_W,NRAUNC,NITRIT,NITRIT_FLAG_W,NRIUNC,PHSPHT,PHSPHT_FLAG_W,PHPUNC,AMMONIA,AMMONIA_FLAG_W,NH4UNC,CFC-11,CFC-11_FLAG_W,CFC-12,CFC-12_FLAG_W,CFC113,CFC113_FLAG_W,SF6,SF6_FLAG_W,TCARBN,TCARBN_FLAG_W,ALKALI,ALKALI_FLAG_W,ALKALI_POT,ALKALI_POT_FLAG_W,PH_TOT,PH_TMP,PH_TOT_FLAG_W,CALCIUM,CALCIUM_FLAG_W,DOC,DOC_FLAG_W,DELC13,DELC13_FLAG_W,C13ERR,DELC14,DELC14_FLAG_W,C14ERR,CS-134,CS-134_FLAG_W,CS134ER,CS-137,CS-137_FLAG_W,CS137ER,I-129,I-129_FLAG_W,I-129ER,CDOM-325,CDOM-325_FLAG_W,CDOM-370,CDOM-370_FLAG_W,CDOM-443,CDOM-443_FLAG_W
,,,,,,,,UTC,DEG,DEG,METERS,DBAR,,ITS-90,,ITS-90,,PSS-78,,PSS-78,,G/KG,,UMOL/KG,,UMOL/KG,,%TRANS,/METER,,MG/CUM,,MG/CUM,,MG/CUM,,UE/SQM/S,,UMOL/KG,,UMOL/KG,UMOL/KG,,UMOL/KG,UMOL/KG,,UMOL/KG,UMOL/KG,,UMOL/KG,UMOL/KG,,UMOL/KG,PMOL/KG,,PMOL/KG,,PMOL/KG,,FMOL/KG,,UMOL/KG,,UMOL/KG,,UMOL/KG,,,DEG C,,MMOL/KG,,UMOL/KG,,/MILLE,,/MILLE,/MILLE,,/MILLE,MBQ/KG,,MBQ/KG,MBQ/KG,,MBQ/KG,,,,/METER,,/METER,,/METER,
  49NZ20140717,   P01,    48,  1,      9, X12J09,2,20140720,1035, 41.3761, 146.7030, 5480,   3999.6,2,   1.4845,2,   1.48457,2,  34.6804,2,  34.6799,2,-999.0000,9,   147.31,2,   147.10,2,  100.007,  -0.0003,2,   -0.003,2,  -999.00,9,    2.038,4,    0.000,2,   151.08,2,     0.17,    36.41,2,     0.05,     0.00,2,     0.01,     2.53,2,     0.01,  -999.00,9,  -999.00,    0.000,2,    0.000,2,    0.000,2, -999.000,9,   -999.0,9,   -999.0,9,   -999.0,9,-999.0000,     -999,9, -999.000,9,  -999.00,9, -999.000,9, -999.000,   -999.0,9,   -999.0, -999.000,9, -999.000, -999.000,9, -999.000,   -999.0,9,   -999.0, -999.000,9, -999.000,9, -999.000,9
  49NZ20140717,   P01,    48,  1,      8, X12J08,2,20140720,1035, 41.3761, 146.7030, 5480,   4249.8,2,   1.4833,2,   1.48345,2,  34.6835,2,  34.6830,2,-999.0000,9,   151.08,2,   150.84,2,  100.018,  -0.0007,2,   -0.003,2,  -999.00,9,   -1.625,4,    0.000,2,   150.01,2,     0.17,    36.17,2,     0.05,     0.00,2,     0.01,     2.51,2,     0.01,  -999.00,9,  -999.00,    0.000,2,    0.000,2,    0.000,2, -999.000,9,   -999.0,9,   -999.0,9,   -999.0,9,-999.0000,     -999,9, -999.000,9,  -999.00,9, -999.000,9, -999.000,   -999.0,9,   -999.0, -999.000,9, -999.000, -999.000,9, -999.000,   -999.0,9,   -999.0, -999.000,9, -999.000,9, -999.000,9
  49NZ20140717,   P01,    48,  1,      7, X12J07,2,20140720,1035, 41.3761, 146.7030, 5480,   4499.4,2,   1.4847,2,   1.48469,2,  34.6861,2,  34.6858,2,-999.0000,9,   154.58,2,   154.40,2,  100.011,  -0.0005,2,   -0.004,2,  -999.00,9,   -1.750,4,    0.000,2,   149.04,2,     0.17,    35.91,2,     0.05,     0.00,2,     0.01,     2.49,2,     0.01,  -999.00,9,  -999.00,    0.000,2,    0.001,2,    0.000,2, -999.000,9,   -999.0,9,   -999.0,9,   -999.0,9,-999.0000,     -999,9, -999.000,9,  -999.00,9, -999.000,9, -999.000,   -999.0,9,   -999.0, -999.000,9, -999.000, -999.000,9, -999.000,   -999.0,9,   -999.0, -999.000,9, -999.000,9, -999.000,9
  49NZ20140717,   P01,    48,  1,      6, X12J06,2,20140720,1035, 41.3761, 146.7030, 5480,   4748.9,2,   1.4969,2,   1.49694,2,  34.6879,2,  34.6877,2,-999.0000,9,   156.75,2,   156.65,2,  100.029,  -0.0011,2,   -0.004,2,  -999.00,9,   -1.834,4,    0.000,2,   148.59,2,     0.17,    35.80,2,     0.05,     0.00,2,     0.01,     2.48,2,     0.01,  -999.00,9,  -999.00,    0.000,2,    0.002,2,    0.000,2, -999.000,9,   -999.0,9,   -999.0,9,   -999.0,9,-999.0000,     -999,9, -999.000,9,  -999.00,9, -999.000,9, -999.000,   -999.0,9,   -999.0, -999.000,9, -999.000, -999.000,9, -999.000,   -999.0,9,   -999.0, -999.000,9, -999.000,9, -999.000,9
  49NZ20140717,   P01,    48,  1,      5, X12J05,2,20140720,1035, 41.3761, 146.7030, 5480,   5000.1,2,   1.5152,2,   1.51518,2,  34.6892,2,  34.6888,2,-999.0000,9,   158.34,2,   158.26,2,  100.011,  -0.0005,2,   -0.004,2,  -999.00,9,   -1.954,4,    0.000,2,   148.34,2,     0.17,    35.66,2,     0.05,     0.00,2,     0.01,     2.48,2,     0.01,  -999.00,9,  -999.00,    0.001,2,    0.003,2,    0.000,2, -999.000,9,   -999.0,9,   -999.0,9,   -999.0,9,-999.0000,     -999,9, -999.000,9,  -999.00,9, -999.000,9, -999.000,   -999.0,9,   -999.0, -999.000,9, -999.000, -999.000,9, -999.000,   -999.0,9,   -999.0, -999.000,9, -999.000,9, -999.000,9
  49NZ20140717,   P01,    48,  1,      4, X12J04,2,20140720,1035, 41.3761, 146.7030, 5480,   5249.5,2,   1.5380,2,   1.53778,2,  34.6898,2,  34.6897,2,-999.0000,9,   159.65,2,   159.64,2,   99.940,   0.0024,2,   -0.004,2,  -999.00,9,   -1.987,4,    0.000,2,   147.34,2,     0.17,    35.54,2,     0.05,     0.00,2,     0.01,     2.46,2,     0.01,  -999.00,9,  -999.00,    0.002,2,    0.001,2,    0.000,2, -999.000,9,   -999.0,9,   -999.0,9,   -999.0,9,-999.0000,     -999,9, -999.000,9,  -999.00,9, -999.000,9, -999.000,   -999.0,9,   -999.0, -999.000,9, -999.000, -999.000,9, -999.000,   -999.0,9,   -999.0, -999.000,9, -999.000,9, -999.000,9
  49NZ20140717,   P01,    48,  1,      3, X12J03,2,20140720,1035, 41.3761, 146.7030, 5480,   5499.8,2,   1.5611,2,   1.56087,2,  34.6907,2,  34.6906,2,-999.0000,9,   160.91,2,   161.09,2,   99.671,   0.0132,2,   -0.004,2,  -999.00,9,   -1.987,4,    0.000,2,   146.33,2,     0.17,    35.46,2,     0.05,     0.00,2,     0.01,     2.46,2,     0.01,  -999.00,9,  -999.00,    0.003,2,    0.000,2,    0.000,2, -999.000,9,   -999.0,9,   -999.0,9,   -999.0,9,-999.0000,     -999,9, -999.000,9,  -999.00,9, -999.000,9, -999.000,   -999.0,9,   -999.0, -999.000,9, -999.000, -999.000,9, -999.000,   -999.0,9,   -999.0, -999.000,9, -999.000,9, -999.000,9
  49NZ20140717,   P01,    48,  1,      2, X12J02,2,20140720,1035, 41.3761, 146.7030, 5480,   5575.3,2,   1.5710,2,   1.57082,2,  34.6908,2,  34.6908,2,-999.0000,9,   159.74,2,   159.98,2,   99.324,   0.0271,2,   -0.003,2,  -999.00,9,   -1.394,4,    0.000,2,  -999.00,9,  -999.00,  -999.00,9,  -999.00,  -999.00,9,  -999.00,  -999.00,9,  -999.00,  -999.00,9,  -999.00, -999.000,9, -999.000,9, -999.000,9, -999.000,9,   -999.0,9,   -999.0,9,   -999.0,9,-999.0000,     -999,9, -999.000,9,  -999.00,9, -999.000,9, -999.000,   -999.0,9,   -999.0, -999.000,9, -999.000, -999.000,9, -999.000,   -999.0,9,   -999.0, -999.000,9, -999.000,9, -999.000,9
  49NZ20140717,   P01,    48,  1,      1, X12J01,2,20140720,1035, 41.3761, 146.7030, 5480,   5576.1,2,   1.5712,2,   1.57094,2,  34.6907,2,  34.6906,2,-999.0000,9,   159.71,2,   160.04,2,   99.285,   0.0287,2,   -0.003,2,  -999.00,9,   35.388,4,    0.000,2,   147.62,2,     0.17,    35.36,2,     0.05,     0.01,2,     0.01,     2.47,2,     0.01,  -999.00,9,  -999.00,    0.363,4,    0.774,4,    0.126,4, -999.000,9,   -999.0,9,   -999.0,9,   -999.0,9,-999.0000,     -999,9, -999.000,9,  -999.00,9, -999.000,9, -999.000,   -999.0,9,   -999.0, -999.000,9, -999.000, -999.000,9, -999.000,   -999.0,9,   -999.0, -999.000,9, -999.000,9, -999.000,9