BOTTLE,20230904JAMSTECRIGC
EXPOCODE,SECT,STNNBR,CASTNO,SAMPNO,BTLNBR,BTLNBR_FLAG_W,DATE,TIME,LATITUDE,LONGITUDE,DEPTH,CTDPRS,CTDPRS_FLAG_W,CTDTMP,CTDTMP_FLAG_W,SBE35,SBE35_FLAG_W,CTDSAL,CTDSAL_FLAG_W,SALNTY,SALNTY_FLAG_W,DNSSAL,DNSSAL_FLAG_W,CTDOXY,CTDOXY_FLAG_W,OXYGEN,OXYGEN_FLAG_W,XMISS,XMISSCP,XMISS_FLAG_W,FLUOR,FLUOR_FLAG_W,CHLORA,CHLORA_FLAG_W,CDOM,CDOM_FLAG_W,PAR,PAR_FLAG_W,SILCAT,SILCAT_FLAG_W,SILUNC,NITRAT,NITRAT_FLAG_W,NRAUNC,NITRIT,NITRIT_FLAG_W,NRIUNC,PHSPHT,PHSPHT_FLAG_W,PHPUNC,AMMONIA,AMMONIA_FLAG_W,NH4UNC,CFC-11,CFC-11_FLAG_W,CFC-12,CFC-12_FLAG_W,CFC113,CFC113_FLAG_W,SF6,SF6_FLAG_W,TCARBN,TCARBN_FLAG_W,ALKALI,ALKALI_FLAG_W,ALKALI_POT,ALKALI_POT_FLAG_W,PH_TOT,PH_TMP,PH_TOT_FLAG_W,CALCIUM,CALCIUM_FLAG_W,DOC,DOC_FLAG_W,DELC13,DELC13_FLAG_W,C13ERR,DELC14,DELC14_FLAG_W,C14ERR,CS-134,CS-134_FLAG_W,CS134ER,CS-137,CS-137_FLAG_W,CS137ER,I-129,I-129_FLAG_W,I-129ER,CDOM-325,CDOM-325_FLAG_W,CDOM-370,CDOM-370_FLAG_W,CDOM-443,CDOM-443_FLAG_W
,,,,,,,,UTC,DEG,DEG,METERS,DBAR,,ITS-90,,ITS-90,,PSS-78,,PSS-78,,G/KG,,UMOL/KG,,UMOL/KG,,%TRANS,/METER,,MG/CUM,,MG/CUM,,MG/CUM,,UE/SQM/S,,UMOL/KG,,UMOL/KG,UMOL/KG,,UMOL/KG,UMOL/KG,,UMOL/KG,UMOL/KG,,UMOL/KG,UMOL/KG,,UMOL/KG,PMOL/KG,,PMOL/KG,,PMOL/KG,,FMOL/KG,,UMOL/KG,,UMOL/KG,,UMOL/KG,,,DEG C,,MMOL/KG,,UMOL/KG,,/MILLE,,/MILLE,/MILLE,,/MILLE,MBQ/KG,,MBQ/KG,MBQ/KG,,MBQ/KG,,,,/METER,,/METER,,/METER,
  49NZ20140717,   P01,    97,  1,      0,   -999,9,20140804,1825, 46.9859,-179.4263, 5740,   -999.0,9,-999.0000,9,-999.00000,9,-999.0000,9,  32.8586,2,-999.0000,9,  -999.00,9,  -999.00,9, -999.000,-999.0000,9, -999.000,9,     0.29,2, -999.000,9, -999.000,9,    20.55,2,     0.09,    12.03,2,     0.02,     0.18,2,     0.01,     1.19,2,     0.01,     0.36,2,     0.02, -999.000,9, -999.000,9, -999.000,9, -999.000,9,   -999.0,9,   -999.0,9,   -999.0,9,-999.0000,     -999,9, -999.000,9,  -999.00,9, -999.000,9, -999.000,   -999.0,9,   -999.0, -999.000,9, -999.000, -999.000,9, -999.000,   -999.0,9,   -999.0,    0.180,2,    0.083,2,    0.036,2
  49NZ20140717,   P01,    97,  1,     36, X12J36,2,20140804,1825, 46.9859,-179.4263, 5740,     10.2,2,  11.5628,2,  11.56196,2,  32.9205,2,  32.9158,2,-999.0000,9,   283.16,2,   282.78,2,   96.589,   0.1388,2,    0.352,2,     0.34,2,   -0.290,1,  102.854,2,    20.29,2,     0.09,    11.73,2,     0.02,     0.15,2,     0.01,     1.14,2,     0.01,     0.18,2,     0.02,    3.472,2,    2.102,2,    0.334,2,    2.430,2,   2045.4,2,   2220.8,2,   -999.0,9,   7.8291,       25,4, -999.000,9,    53.71,2, -999.000,9, -999.000,   -999.0,9,   -999.0, -999.000,9, -999.000, -999.000,9, -999.000,   -999.0,9,   -999.0,    0.173,2,    0.073,2,    0.025,2
  49NZ20140717,   P01,    97,  1,     35, X12J35,2,20140804,1825, 46.9859,-179.4263, 5740,     50.5,2,   5.0846,2,   5.08742,2,  32.9572,2,  32.9680,2,-999.0000,9,   326.28,2,   325.62,2,   97.567,   0.0985,2,    0.496,2,     0.37,2,    0.700,1,    6.332,2,    26.24,2,     0.09,    16.71,2,     0.03,     0.14,2,     0.01,     1.50,2,     0.01,     0.55,2,     0.03,    4.770,2,    2.829,2,    0.450,2,    3.130,2,   2088.6,6,   2225.6,2,   -999.0,9,   7.7369,       25,4, -999.000,9,    51.03,2, -999.000,9, -999.000,   -999.0,9,   -999.0, -999.000,9, -999.000, -999.000,9, -999.000,   -999.0,9,   -999.0,    0.352,2,    0.188,2,    0.080,2
  49NZ20140717,   P01,    97,  1,     34, X12J34,2,20140804,1825, 46.9859,-179.4263, 5740,    100.3,2,   4.2305,2,   4.23007,2,  33.1315,2,  33.1468,2,-999.0000,9,   298.40,2,   297.95,2,   99.542,   0.0184,2,    0.134,2,     0.12,2,    0.751,1,    0.307,2,    28.63,2,     0.09,    19.55,2,     0.03,     0.02,2,     0.01,     1.58,2,     0.01,     0.00,2,     0.01,    4.629,2,    2.721,2,    0.428,2,    2.970,2,   2113.8,2,   2229.4,2,   -999.0,9,   7.6852,       25,4, -999.000,9,    51.11,2, -999.000,9, -999.000,   -999.0,9,   -999.0, -999.000,9, -999.000, -999.000,9, -999.000,   -999.0,9,   -999.0,    0.242,2,    0.125,2,    0.049,2
  49NZ20140717,   P01,    97,  1,     33, X12J33,2,20140804,1825, 46.9859,-179.4263, 5740,    150.3,2,   4.4557,2,   4.45557,2,  33.6379,2,  33.6402,2,-999.0000,9,   226.91,2,   225.18,2,   99.698,   0.0121,2,    0.014,2,     0.01,2,    1.650,1,    0.000,2,    45.16,2,     0.10,    25.58,2,     0.04,     0.01,2,     0.01,     1.91,2,     0.01,     0.00,2,     0.01,    3.964,2,    2.284,2,    0.295,2,    2.190,2,   2179.5,2,   2263.0,2,   -999.0,9,   7.5793,       25,4, -999.000,9,    46.59,2, -999.000,9, -999.000,   -999.0,9,   -999.0, -999.000,9, -999.000, -999.000,9, -999.000,   -999.0,9,   -999.0, -999.000,9, -999.000,9, -999.000,9
  49NZ20140717,   P01,    97,  1,     32, X12J32,2,20140804,1825, 46.9859,-179.4263, 5740,    199.5,2,   4.0627,2,   4.06329,2,  33.7196,2,  33.7201,2,-999.0000,9,   160.13,2,   159.81,2,   99.689,   0.0124,2,    0.013,2,     0.00,2,    2.193,1,    0.000,2,    63.95,2,     0.11,    32.27,2,     0.04,     0.01,2,     0.01,     2.37,2,     0.01,     0.00,2,     0.01,    3.367,2,    1.883,2,    0.235,2,    1.710,2,   2233.8,2,   2275.7,6,   -999.0,9,   7.4591,       25,4, -999.000,9,    44.19,2, -999.000,9, -999.000,   -999.0,9,   -999.0, -999.000,9, -999.000, -999.000,9, -999.000,   -999.0,9,   -999.0,    0.330,2,    0.179,2,    0.079,2
  49NZ20140717,   P01,    97,  1,     31, X12J31,2,20140804,1825, 46.9859,-179.4263, 5740,    251.0,2,   3.7386,2,   3.73844,2,  33.7914,2,  33.7910,2,-999.0000,9,   110.37,2,   110.45,2,   99.789,   0.0084,2,    0.016,2,     0.00,2,    2.515,1,    0.000,2,    78.96,2,     0.12,    37.23,2,     0.05,     0.01,2,     0.01,     2.69,2,     0.01,     0.00,2,     0.01,    2.894,2,    1.568,2,    0.201,2,    1.260,2,   2274.6,2,   2285.9,2,   -999.0,9,   7.3643,       25,4, -999.000,9,    44.55,2, -999.000,9, -999.000,   -999.0,9,   -999.0, -999.000,9, -999.000, -999.000,9, -999.000,   -999.0,9,   -999.0, -999.000,9, -999.000,9, -999.000,9
  49NZ20140717,   P01,    97,  1,     30, X12J30,2,20140804,1825, 46.9859,-179.4263, 5740,    331.6,2,   3.7927,2,   3.79243,2,  33.9217,2,  33.9213,2,-999.0000,9,    72.23,2,    72.66,2,   99.735,   0.0106,2,    0.017,2,  -999.00,9,    2.777,1,    0.000,2,    91.65,2,     0.13,    40.12,2,     0.05,     0.01,2,     0.01,     2.87,2,     0.01,     0.01,2,     0.01,    2.227,2,    1.176,2,    0.145,2,    0.760,2,   2304.2,2,   2302.2,2,   -999.0,9,   7.3186,       25,4, -999.000,9,    45.52,2, -999.000,9, -999.000,   -999.0,9,   -999.0, -999.000,9, -999.000, -999.000,9, -999.000,   -999.0,9,   -999.0, -999.000,9, -999.000,9, -999.000,9
  49NZ20140717,   P01,    97,  1,     29, X12J29,2,20140804,1825, 46.9859,-179.4263, 5740,    433.0,2,   3.7291,2,   3.72888,2,  34.0405,2,  34.0400,2,-999.0000,9,    49.28,2,    49.62,2,   99.813,   0.0075,2,    0.017,2,  -999.00,9,    2.878,1,    0.000,2,   103.96,2,     0.14,    41.69,2,     0.05,     0.01,2,     0.01,     2.99,2,     0.01,     0.01,2,     0.01,    1.582,2,    0.827,2,    0.101,2,    0.520,2,   2326.7,2,   2318.2,2,   -999.0,9,   7.3011,       25,4, -999.000,9,    43.43,2, -999.000,9, -999.000,   -999.0,9,   -999.0, -999.000,9, -999.000, -999.000,9, -999.000,   -999.0,9,   -999.0, -999.000,9, -999.000,9, -999.000,9
  49NZ20140717,   P01,    97,  1,     28, X12J28,2,20140804,1825, 46.9859,-179.4263, 5740,    530.7,2,   3.6397,2,   3.63910,2,  34.1358,2,  34.1343,2,-999.0000,9,    37.63,2,    37.67,2,   99.872,   0.0051,2,    0.017,2,  -999.00,9,    2.909,1,    0.000,2,   113.42,2,     0.14,    42.40,2,     0.05,     0.01,2,     0.01,     3.03,2,     0.01,     0.01,2,     0.01,    1.080,2,    0.560,2,    0.068,2,    0.280,2,   2341.5,2,   2330.5,2,   -999.0,9,   7.2987,       25,4, -999.000,9,    41.80,2, -999.000,9, -999.000,   -999.0,9,   -999.0, -999.000,9, -999.000, -999.000,9, -999.000,   -999.0,9,   -999.0,    0.233,2,    0.114,2,    0.042,2
  49NZ20140717,   P01,    97,  1,     27, X12J27,2,20140804,1825, 46.9859,-179.4263, 5740,    630.3,2,   3.4559,2,   3.45568,2,  34.2050,2,  34.2041,2,-999.0000,9,    30.04,2,    29.80,2,   99.841,   0.0063,2,    0.016,2,  -999.00,9,    3.077,1,    0.000,2,   122.75,2,     0.15,    43.09,2,     0.05,     0.01,2,     0.01,     3.08,2,     0.01,     0.01,2,     0.01,    0.746,2,    0.395,2,    0.046,2,    0.190,2,   2354.1,2,   2344.7,2,   -999.0,9,   7.2960,       25,4, -999.000,9,    39.85,2, -999.000,9, -999.000,   -999.0,9,   -999.0, -999.000,9, -999.000, -999.000,9, -999.000,   -999.0,9,   -999.0, -999.000,9, -999.000,9, -999.000,9
  49NZ20140717,   P01,    97,  1,     26, X12J26,2,20140804,1825, 46.9859,-179.4263, 5740,    730.2,2,   3.2716,2,   3.27136,2,  34.2641,2,  34.2645,2,-999.0000,9,    27.98,2,    27.95,2,   99.883,   0.0047,2,    0.016,2,  -999.00,9,    3.085,1,    0.000,2,   130.38,2,     0.16,    43.23,2,     0.05,     0.00,2,     0.01,     3.09,2,     0.01,     0.01,2,     0.01,    0.514,2,    0.281,2,    0.030,2,    0.140,2,   2362.4,6,   2354.4,2,   -999.0,9,   7.3018,       25,4, -999.000,9,    38.48,2, -999.000,9, -999.000,   -999.0,9,   -999.0, -999.000,9, -999.000, -999.000,9, -999.000,   -999.0,9,   -999.0, -999.000,9, -999.000,9, -999.000,9
  49NZ20140717,   P01,    97,  1,     25, X12J25,2,20140804,1825, 46.9859,-179.4263, 5740,    829.7,2,   3.1191,2,   3.11872,2,  34.3066,2,  34.3071,2,-999.0000,9,    28.10,2,    27.97,2,   99.876,   0.0050,2,    0.015,2,  -999.00,9,    3.029,1,    0.000,2,   135.55,2,     0.16,    43.21,2,     0.05,     0.00,2,     0.01,     3.09,2,     0.01,     0.01,2,     0.01,    0.387,2,    0.216,2,    0.021,2,    0.100,2,   2367.9,2,   2361.5,2,   -999.0,9,   7.3092,       25,4, -999.000,9,    39.47,2, -999.000,9, -999.000,   -999.0,9,   -999.0, -999.000,9, -999.000, -999.000,9, -999.000,   -999.0,9,   -999.0,    0.274,2,    0.154,2,    0.068,2
  49NZ20140717,   P01,    97,  1,     24, X12J24,2,20140804,1825, 46.9859,-179.4263, 5740,    929.7,2,   2.9538,2,   2.95449,2,  34.3511,2,  34.3507,2,-999.0000,9,    27.64,2,    27.53,2,   99.865,   0.0054,2,    0.015,2,  -999.00,9,    3.141,1,    0.000,2,   141.38,2,     0.16,    43.36,2,     0.05,     0.00,2,     0.01,     3.10,2,     0.01,     0.00,2,     0.01,    0.271,2,    0.156,2,    0.013,2,    0.050,2,   2373.1,2,   2372.3,2,   -999.0,9,   7.3143,       25,4, -999.000,9,    40.59,2, -999.000,9, -999.000,   -999.0,9,   -999.0, -999.000,9, -999.000, -999.000,9, -999.000,   -999.0,9,   -999.0, -999.000,9, -999.000,9, -999.000,9
  49NZ20140717,   P01,    97,  1,     23, X12J23,2,20140804,1825, 46.9859,-179.4263, 5740,   1070.5,2,   2.7486,2,   2.74801,2,  34.4032,2,  34.4052,2,-999.0000,9,    28.33,2,    28.18,2,   99.898,   0.0041,2,    0.014,2,  -999.00,9,    3.094,1,    0.000,2,   148.74,2,     0.17,    43.46,2,     0.05,     0.00,2,     0.01,     3.10,2,     0.01,     0.00,2,     0.01,    0.159,2,    0.094,2,    0.009,2,    0.030,2,   2379.9,2,   2380.5,2,   -999.0,9,   7.3198,       25,4, -999.000,9,    41.96,3, -999.000,9, -999.000,   -999.0,9,   -999.0, -999.000,9, -999.000, -999.000,9, -999.000,   -999.0,9,   -999.0,    0.281,2,    0.154,2,    0.068,2
  49NZ20140717,   P01,    97,  1,     22, X12J22,2,20140804,1825, 46.9859,-179.4263, 5740,   1269.2,2,   2.4869,2,   2.48667,2,  34.4586,2,  34.4592,2,-999.0000,9,    31.74,2,    31.54,2,   99.867,   0.0053,2,    0.013,2,  -999.00,9,    3.093,1,    0.000,2,   157.09,2,     0.17,    43.43,2,     0.05,     0.00,2,     0.01,     3.10,2,     0.01,     0.00,2,     0.01,    0.095,2,    0.056,2,    0.005,2,    0.000,2,   2386.0,2,   2389.8,6,   -999.0,9,   7.3331,       25,4, -999.000,9,    37.90,2, -999.000,9, -999.000,   -999.0,9,   -999.0, -999.000,9, -999.000, -999.000,9, -999.000,   -999.0,9,   -999.0, -999.000,9, -999.000,9, -999.000,9
  49NZ20140717,   P01,    97,  1,     21, X12J21,2,20140804,1825, 46.9859,-179.4263, 5740,   1468.3,2,   2.2804,2,   2.28051,2,  34.5064,2,  34.5052,2,-999.0000,9,    38.66,2,    38.29,2,   99.920,   0.0032,2,    0.012,2,  -999.00,9,    3.111,1,    0.000,2,   162.76,2,     0.18,    43.16,2,     0.05,     0.00,2,     0.01,     3.06,2,     0.01,     0.00,2,     0.01,    0.052,2,    0.031,2,    0.003,2,    0.000,2,   2388.6,2,   2400.4,2,   -999.0,9,   7.3494,       25,4, -999.000,9,    38.46,2, -999.000,9, -999.000,   -999.0,9,   -999.0, -999.000,9, -999.000, -999.000,9, -999.000,   -999.0,9,   -999.0, -999.000,9, -999.000,9, -999.000,9
  49NZ20140717,   P01,    97,  1,     20, X12J20,2,20140804,1825, 46.9859,-179.4263, 5740,   1671.7,2,   2.1313,2,   2.13122,2,  34.5413,2,  34.5417,2,-999.0000,9,    47.14,2,    47.21,2,   99.913,   0.0035,2,    0.011,2,  -999.00,9,    3.072,1,    0.000,2,   166.08,2,     0.18,    42.70,2,     0.05,     0.00,2,     0.01,     3.03,2,     0.01,     0.01,2,     0.01,    0.023,2,    0.013,2,    0.001,2,    0.030,2,   2386.4,2,   2404.3,2,   -999.0,9,   7.3698,       25,4, -999.000,9,    37.20,2, -999.000,9, -999.000,   -999.0,9,   -999.0, -999.000,9, -999.000, -999.000,9, -999.000,   -999.0,9,   -999.0, -999.000,9, -999.000,9, -999.000,9
  49NZ20140717,   P01,    97,  1,     19, X12J19,2,20140804,1825, 46.9859,-179.4263, 5740,   1870.8,2,   2.0013,2,   2.00110,2,  34.5708,2,  34.5712,2,-999.0000,9,    57.70,2,    57.91,2,   99.909,   0.0037,2,    0.010,2,  -999.00,9,    3.024,1,    0.000,2,   167.69,2,     0.18,    42.05,2,     0.05,     0.00,2,     0.01,     2.98,2,     0.01,     0.01,2,     0.01,    0.010,2,    0.006,2,    0.000,2,    0.000,2,   2382.8,2,   2409.4,2,   -999.0,9,   7.3926,       25,4, -999.000,9,    37.07,2, -999.000,9, -999.000,   -999.0,9,   -999.0, -999.000,9, -999.000, -999.000,9, -999.000,   -999.0,9,   -999.0, -999.000,9, -999.000,9, -999.000,9
  49NZ20140717,   P01,    97,  1,     18, X12J18,2,20140804,1825, 46.9859,-179.4263, 5740,   2070.7,2,   1.8896,2,   1.88952,2,  34.5940,2,  34.5950,2,-999.0000,9,    68.89,2,    69.33,2,   99.924,   0.0030,2,    0.008,2,  -999.00,9,    2.918,1,    0.000,2,   168.63,2,     0.18,    41.36,2,     0.05,     0.00,2,     0.01,     2.92,2,     0.01,     0.01,2,     0.01,    0.004,2,    0.002,2,    0.001,2,    0.000,2,   2377.8,2,   2410.8,2,   -999.0,9,   7.4163,       25,4, -999.000,9,    39.19,2, -999.000,9, -999.000,   -999.0,9,   -999.0, -999.000,9, -999.000, -999.000,9, -999.000,   -999.0,9,   -999.0,    0.259,2,    0.144,2,    0.062,2
  49NZ20140717,   P01,    97,  1,     17, X12J17,2,20140804,1825, 46.9859,-179.4263, 5740,   2270.9,2,   1.7881,2,   1.78785,2,  34.6138,2,  34.6140,2,-999.0000,9,    80.81,2,    80.77,2,   99.948,   0.0021,2,    0.007,2,  -999.00,9,    2.883,1,    0.000,2,   168.78,2,     0.18,    40.68,2,     0.05,     0.00,2,     0.01,     2.87,2,     0.01,     0.01,2,     0.01,    0.001,2,    0.000,2,    0.001,2,    0.000,2,   2373.9,2,   2416.3,2,   -999.0,9,   7.4393,       25,4, -999.000,9,    40.68,2, -999.000,9, -999.000,   -999.0,9,   -999.0, -999.000,9, -999.000, -999.000,9, -999.000,   -999.0,9,   -999.0, -999.000,9, -999.000,9, -999.000,9
  49NZ20140717,   P01,    97,  1,     16, X12J16,2,20140804,1825, 46.9859,-179.4263, 5740,   2471.8,2,   1.7188,2,   1.71875,2,  34.6280,2,  34.6283,2,-999.0000,9,    90.95,2,    91.13,2,   99.952,   0.0019,2,    0.007,2,  -999.00,9,    2.869,1,    0.000,2,   167.96,2,     0.18,    40.05,2,     0.05,     0.00,2,     0.01,     2.82,2,     0.01,     0.02,2,     0.01,    0.000,2,    0.000,2,    0.001,2,    0.000,2,   2366.0,6,   2414.1,2,   -999.0,9,   7.4599,       25,4, -999.000,9,    37.96,2, -999.000,9, -999.000,   -999.0,9,   -999.0, -999.000,9, -999.000, -999.000,9, -999.000,   -999.0,9,   -999.0, -999.000,9, -999.000,9, -999.000,9
  49NZ20140717,   P01,    97,  1,     15, X12J15,2,20140804,1825, 46.9859,-179.4263, 5740,   2670.4,2,   1.6597,2,   1.65958,2,  34.6396,2,  34.6399,2,-999.0000,9,   100.75,2,   100.76,2,   99.952,   0.0019,2,    0.006,2,  -999.00,9,    2.739,1,    0.000,2,   166.76,2,     0.18,    39.41,2,     0.05,     0.00,2,     0.01,     2.78,2,     0.01,     0.02,2,     0.01,    0.003,2,    0.003,2,    0.001,2,    0.000,2,   2360.9,2,   2416.7,2,   -999.0,9,   7.4790,       25,4, -999.000,9,    36.68,2, -999.000,9, -999.000,   -999.0,9,   -999.0, -999.000,9, -999.000, -999.000,9, -999.000,   -999.0,9,   -999.0, -999.000,9, -999.000,9, -999.000,9
  49NZ20140717,   P01,    97,  1,     14, X12J14,2,20140804,1825, 46.9859,-179.4263, 5740,   2870.8,2,   1.6031,2,   1.60305,2,  34.6503,2,  34.6506,2,-999.0000,9,   110.61,2,   110.63,2,   99.950,   0.0020,2,    0.005,2,  -999.00,9,    2.635,1,    0.000,2,   164.75,2,     0.18,    38.76,2,     0.05,     0.00,2,     0.01,     2.73,2,     0.01,     0.01,2,     0.01,    0.000,2,    0.000,2,    0.000,2,    0.000,2,   2354.6,2,   2416.6,2,   -999.0,9,   7.4978,       25,4, -999.000,9,    36.05,2, -999.000,9, -999.000,   -999.0,9,   -999.0, -999.000,9, -999.000, -999.000,9, -999.000,   -999.0,9,   -999.0, -999.000,9, -999.000,9, -999.000,9
  49NZ20140717,   P01,    97,  1,     13, X12113,2,20140804,1825, 46.9859,-179.4263, 5740,   3080.7,2,   1.5599,2,   1.55997,2,  34.6588,2,  34.6586,2,-999.0000,9,   119.40,2,   119.43,2,   99.950,   0.0020,2,    0.004,2,  -999.00,9,    2.568,1,    0.000,2,   162.42,2,     0.18,    38.14,2,     0.05,     0.00,2,     0.01,     2.68,2,     0.01,     0.02,2,     0.01,    0.000,2,    0.000,2,    0.000,2,    0.000,2,   2348.8,2,   2418.1,2,   -999.0,9,   7.5142,       25,4, -999.000,9,    37.51,2, -999.000,9, -999.000,   -999.0,9,   -999.0, -999.000,9, -999.000, -999.000,9, -999.000,   -999.0,9,   -999.0,    0.239,2,    0.131,2,    0.056,2
  49NZ20140717,   P01,    97,  1,     12, X12J12,2,20140804,1825, 46.9859,-179.4263, 5740,   3330.3,2,   1.5235,2,   1.52355,2,  34.6667,2,  34.6667,2,-999.0000,9,   128.30,2,   128.10,2,   99.952,   0.0019,2,    0.004,2,  -999.00,9,    2.546,1,    0.000,2,   160.34,2,     0.17,    37.59,2,     0.05,     0.00,2,     0.01,     2.63,2,     0.01,     0.01,2,     0.01,    0.000,2,    0.000,2,    0.000,2,    0.000,2,   2344.0,2,   2418.2,6,   -999.0,9,   7.5300,       25,4, -999.000,9,    38.51,2, -999.000,9, -999.000,   -999.0,9,   -999.0, -999.000,9, -999.000, -999.000,9, -999.000,   -999.0,9,   -999.0, -999.000,9, -999.000,9, -999.000,9
  49NZ20140717,   P01,    97,  1,     11, X12J11,2,20140804,1825, 46.9859,-179.4263, 5740,   3580.6,2,   1.4962,2,   1.49624,2,  34.6730,2,  34.6733,2,-999.0000,9,   135.66,2,   135.61,2,   99.957,   0.0017,2,    0.003,2,  -999.00,9,    2.506,1,    0.000,2,   158.60,2,     0.17,    37.12,2,     0.05,     0.00,2,     0.01,     2.60,2,     0.01,     0.01,2,     0.01,    0.000,2,    0.000,2,    0.000,2,    0.000,2,   2337.0,2,   2416.5,2,   -999.0,9,   7.5431,       25,4, -999.000,9,    38.02,2, -999.000,9, -999.000,   -999.0,9,   -999.0, -999.000,9, -999.000, -999.000,9, -999.000,   -999.0,9,   -999.0, -999.000,9, -999.000,9, -999.000,9
  49NZ20140717,   P01,    97,  1,     10, X12J10,2,20140804,1825, 46.9859,-179.4263, 5740,   3830.3,2,   1.4789,2,   1.47893,2,  34.6781,2,  34.6779,2,-999.0000,9,   141.97,2,   141.62,2,   99.959,   0.0017,2,    0.002,2,  -999.00,9,    2.475,1,    0.000,2,   157.33,2,     0.17,    36.76,2,     0.05,     0.00,2,     0.01,     2.57,2,     0.01,     0.01,2,     0.01,    0.000,2,    0.000,2,    0.001,2,    0.000,2,   2340.2,3,   2416.3,2,   -999.0,9,   7.5547,       25,4, -999.000,9,    38.37,2, -999.000,9, -999.000,   -999.0,9,   -999.0, -999.000,9, -999.000, -999.000,9, -999.000,   -999.0,9,   -999.0, -999.000,9, -999.000,9, -999.000,9