BOTTLE,20230904JAMSTECRIGC
EXPOCODE,SECT,STNNBR,CASTNO,SAMPNO,BTLNBR,BTLNBR_FLAG_W,DATE,TIME,LATITUDE,LONGITUDE,DEPTH,CTDPRS,CTDPRS_FLAG_W,CTDTMP,CTDTMP_FLAG_W,SBE35,SBE35_FLAG_W,CTDSAL,CTDSAL_FLAG_W,SALNTY,SALNTY_FLAG_W,DNSSAL,DNSSAL_FLAG_W,CTDOXY,CTDOXY_FLAG_W,OXYGEN,OXYGEN_FLAG_W,XMISS,XMISSCP,XMISS_FLAG_W,FLUOR,FLUOR_FLAG_W,CHLORA,CHLORA_FLAG_W,CDOM,CDOM_FLAG_W,PAR,PAR_FLAG_W,SILCAT,SILCAT_FLAG_W,SILUNC,NITRAT,NITRAT_FLAG_W,NRAUNC,NITRIT,NITRIT_FLAG_W,NRIUNC,PHSPHT,PHSPHT_FLAG_W,PHPUNC,AMMONIA,AMMONIA_FLAG_W,NH4UNC,CFC-11,CFC-11_FLAG_W,CFC-12,CFC-12_FLAG_W,CFC113,CFC113_FLAG_W,SF6,SF6_FLAG_W,TCARBN,TCARBN_FLAG_W,ALKALI,ALKALI_FLAG_W,ALKALI_POT,ALKALI_POT_FLAG_W,PH_TOT,PH_TMP,PH_TOT_FLAG_W,CALCIUM,CALCIUM_FLAG_W,DOC,DOC_FLAG_W,DELC13,DELC13_FLAG_W,C13ERR,DELC14,DELC14_FLAG_W,C14ERR,CS-134,CS-134_FLAG_W,CS134ER,CS-137,CS-137_FLAG_W,CS137ER,I-129,I-129_FLAG_W,I-129ER,CDOM-325,CDOM-325_FLAG_W,CDOM-370,CDOM-370_FLAG_W,CDOM-443,CDOM-443_FLAG_W
,,,,,,,,UTC,DEG,DEG,METERS,DBAR,,ITS-90,,ITS-90,,PSS-78,,PSS-78,,G/KG,,UMOL/KG,,UMOL/KG,,%TRANS,/METER,,MG/CUM,,MG/CUM,,MG/CUM,,UE/SQM/S,,UMOL/KG,,UMOL/KG,UMOL/KG,,UMOL/KG,UMOL/KG,,UMOL/KG,UMOL/KG,,UMOL/KG,UMOL/KG,,UMOL/KG,PMOL/KG,,PMOL/KG,,PMOL/KG,,FMOL/KG,,UMOL/KG,,UMOL/KG,,UMOL/KG,,,DEG C,,MMOL/KG,,UMOL/KG,,/MILLE,,/MILLE,/MILLE,,/MILLE,MBQ/KG,,MBQ/KG,MBQ/KG,,MBQ/KG,,,,/METER,,/METER,,/METER,
  49NZ20140717,   P01,   134,  1,      0,   -999,9,20140819,0407, 46.9910,-137.9630, 4171,   -999.0,9,-999.0000,9,-999.00000,9,-999.0000,9,  32.2841,2,-999.0000,9,  -999.00,9,  -999.00,9, -999.000,-999.0000,9, -999.000,9,  -999.00,9, -999.000,9, -999.000,9,     0.37,2,     0.18,     0.04,2,     0.02,     0.01,2,     0.01,     0.36,2,     0.01,  -999.00,9,  -999.00, -999.000,9, -999.000,9, -999.000,9, -999.000,9,   -999.0,9,   -999.0,9,   -999.0,9,-999.0000,     -999,9, -999.000,9,  -999.00,9, -999.000,9, -999.000,   -999.0,9,   -999.0, -999.000,9, -999.000, -999.000,9, -999.000,   -999.0,9,   -999.0, -999.000,9, -999.000,9, -999.000,9
  49NZ20140717,   P01,   134,  1,     36, X12J36,2,20140819,0407, 46.9910,-137.9630, 4171,     10.2,2,  17.4311,2,  17.42977,2,  32.2770,2,  32.2784,2,-999.0000,9,   249.27,2,   249.19,2,   97.769,   0.0902,2,    0.167,2,  -999.00,9,   -1.292,1,    0.202,2,     0.35,2,     0.18,     0.02,2,     0.02,     0.00,2,     0.01,     0.36,2,     0.01,  -999.00,9,  -999.00, -999.000,9, -999.000,9, -999.000,9, -999.000,9,   1958.5,2,   2172.0,2,   2170.4,2,   7.9302,       25,6,    9.578,2,    63.08,2, -999.000,9, -999.000,   -999.0,9,   -999.0, -999.000,9, -999.000, -999.000,9, -999.000,   -999.0,9,   -999.0, -999.000,9, -999.000,9, -999.000,9
  49NZ20140717,   P01,   134,  1,     35, X12J35,2,20140819,0407, 46.9910,-137.9630, 4171,     50.3,2,   9.8720,2,   9.87449,2,  32.5608,2,  32.5757,2,-999.0000,9,   293.18,2,   291.20,2,   95.644,   0.1782,2,    0.591,2,  -999.00,9,    0.417,1,    0.000,2,     6.34,2,     0.09,     4.90,2,     0.02,     0.12,2,     0.01,     0.71,2,     0.01,  -999.00,9,  -999.00, -999.000,9, -999.000,9, -999.000,9, -999.000,9,   2012.3,6,   2187.0,2,   2188.9,2,   7.8404,       25,2,    9.670,2,    58.18,2, -999.000,9, -999.000,   -999.0,9,   -999.0, -999.000,9, -999.000, -999.000,9, -999.000,   -999.0,9,   -999.0, -999.000,9, -999.000,9, -999.000,9
  49NZ20140717,   P01,   134,  1,     34, X12J34,2,20140819,0407, 46.9910,-137.9630, 4171,    100.2,2,   8.0661,2,   8.06425,2,  33.1008,2,  33.1183,2,-999.0000,9,   257.35,2,   256.22,2,   99.317,   0.0274,2,    0.191,2,  -999.00,9,    0.473,1,    0.000,2,    14.92,2,     0.09,    13.78,2,     0.02,     0.03,2,     0.01,     1.16,2,     0.01,  -999.00,9,  -999.00, -999.000,9, -999.000,9, -999.000,9, -999.000,9,   2075.9,2,   2212.5,2,   2211.8,2,   7.7335,       25,2,    9.829,2,    51.07,2, -999.000,9, -999.000,   -999.0,9,   -999.0, -999.000,9, -999.000, -999.000,9, -999.000,   -999.0,9,   -999.0, -999.000,9, -999.000,9, -999.000,9
  49NZ20140717,   P01,   134,  1,     33, X12J33,2,20140819,0407, 46.9910,-137.9630, 4171,    150.0,2,   7.8668,2,   7.86872,2,  33.6941,2,  33.6964,2,-999.0000,9,   231.59,2,   230.60,2,   99.781,   0.0088,2,    0.013,2,  -999.00,9,    1.006,1,    0.000,2,    22.23,2,     0.09,    17.61,2,     0.08,     0.01,2,     0.01,     1.30,2,     0.01,  -999.00,9,  -999.00, -999.000,9, -999.000,9, -999.000,9, -999.000,9,   2118.8,2,   2245.7,2,   2244.2,2,   7.7003,       25,6,    9.997,2,    53.26,3, -999.000,9, -999.000,   -999.0,9,   -999.0, -999.000,9, -999.000, -999.000,9, -999.000,   -999.0,9,   -999.0, -999.000,9, -999.000,9, -999.000,9
  49NZ20140717,   P01,   134,  1,     32, X12J32,2,20140819,0407, 46.9910,-137.9630, 4171,    199.7,2,   7.0001,2,   6.99775,2,  33.8374,2,  33.8364,2,-999.0000,9,   195.14,2,   194.21,2,   99.768,   0.0093,2,    0.011,2,  -999.00,9,    1.608,1,    0.000,2,    35.48,2,     0.10,    23.73,2,     0.03,     0.02,2,     0.01,     1.71,2,     0.01,  -999.00,9,  -999.00, -999.000,9, -999.000,9, -999.000,9, -999.000,9,   2165.2,2,   2263.9,6,   -999.0,9,   7.6153,       25,2, -999.000,9,    46.07,2, -999.000,9, -999.000,   -999.0,9,   -999.0, -999.000,9, -999.000, -999.000,9, -999.000,   -999.0,9,   -999.0, -999.000,9, -999.000,9, -999.000,9
  49NZ20140717,   P01,   134,  1,     31, X12J31,2,20140819,0407, 46.9910,-137.9630, 4171,    249.5,2,   5.7594,2,   5.75920,2,  33.8167,2,  33.8165,2,-999.0000,9,   161.66,2,   161.13,2,   99.705,   0.0118,2,    0.012,2,  -999.00,9,    2.052,1,    0.000,2,    49.81,2,     0.11,    29.23,2,     0.04,     0.01,2,     0.01,     2.11,2,     0.01,  -999.00,9,  -999.00, -999.000,9, -999.000,9, -999.000,9, -999.000,9,   2207.3,2,   2271.7,2,   -999.0,9,   7.5175,       25,2, -999.000,9,    48.47,2, -999.000,9, -999.000,   -999.0,9,   -999.0, -999.000,9, -999.000, -999.000,9, -999.000,   -999.0,9,   -999.0, -999.000,9, -999.000,9, -999.000,9
  49NZ20140717,   P01,   134,  1,     30, X12J30,2,20140819,0407, 46.9910,-137.9630, 4171,    280.0,2,   5.3177,2,   5.31775,2,  33.8300,2,  33.8305,2,-999.0000,9,   138.62,2,   137.83,2,   99.708,   0.0117,2,    0.013,2,  -999.00,9,    2.304,1,    0.000,2,    57.72,2,     0.11,    32.15,2,     0.04,     0.01,2,     0.01,     2.31,2,     0.01,  -999.00,9,  -999.00, -999.000,9, -999.000,9, -999.000,9, -999.000,9,   2230.9,2,   2277.6,2,   -999.0,9,   7.4648,       25,2, -999.000,9,    46.75,2, -999.000,9, -999.000,   -999.0,9,   -999.0, -999.000,9, -999.000, -999.000,9, -999.000,   -999.0,9,   -999.0, -999.000,9, -999.000,9, -999.000,9
  49NZ20140717,   P01,   134,  1,     29, X12J29,2,20140819,0407, 46.9910,-137.9630, 4171,    370.7,2,   4.5770,2,   4.57605,2,  33.9034,2,  33.9023,2,-999.0000,9,    92.53,2,    92.63,2,   99.797,   0.0081,2,    0.015,2,  -999.00,9,    2.621,1,    0.000,2,    75.55,2,     0.12,    37.33,2,     0.05,     0.01,2,     0.01,     2.66,2,     0.01,  -999.00,9,  -999.00, -999.000,9, -999.000,9, -999.000,9, -999.000,9,   2275.2,2,   2293.1,2,   -999.0,9,   7.3775,       25,2, -999.000,9,    44.06,2, -999.000,9, -999.000,   -999.0,9,   -999.0, -999.000,9, -999.000, -999.000,9, -999.000,   -999.0,9,   -999.0, -999.000,9, -999.000,9, -999.000,9
  49NZ20140717,   P01,   134,  1,     28, X12J28,2,20140819,0407, 46.9910,-137.9630, 4171,    469.6,2,   4.2782,2,   4.27864,2,  34.0194,2,  34.0191,2,-999.0000,9,    56.13,2,    56.50,2,   99.879,   0.0048,2,    0.015,2,  -999.00,9,    2.816,1,    0.000,2,    91.13,2,     0.13,    40.57,2,     0.05,     0.01,2,     0.01,     2.88,2,     0.01,  -999.00,9,  -999.00, -999.000,9, -999.000,9, -999.000,9, -999.000,9,   2308.7,2,   2307.6,2,   2307.2,2,   7.3294,       25,2,   10.144,2,    44.82,2, -999.000,9, -999.000,   -999.0,9,   -999.0, -999.000,9, -999.000, -999.000,9, -999.000,   -999.0,9,   -999.0, -999.000,9, -999.000,9, -999.000,9
  49NZ20140717,   P01,   134,  1,     27, X12J27,2,20140819,0407, 46.9910,-137.9630, 4171,    568.8,2,   4.0555,2,   4.05580,2,  34.1112,2,  34.1113,2,-999.0000,9,    36.61,2,    36.91,2,   99.998,   0.0001,2,    0.015,2,  -999.00,9,    2.902,1,    0.000,2,   103.12,2,     0.14,    42.09,2,     0.05,     0.01,2,     0.01,     2.99,2,     0.01,  -999.00,9,  -999.00, -999.000,9, -999.000,9, -999.000,9, -999.000,9,   2331.0,2,   2326.8,2,   -999.0,9,   7.3069,       25,2, -999.000,9,    44.47,2, -999.000,9, -999.000,   -999.0,9,   -999.0, -999.000,9, -999.000, -999.000,9, -999.000,   -999.0,9,   -999.0, -999.000,9, -999.000,9, -999.000,9
  49NZ20140717,   P01,   134,  1,     26, X12J26,2,20140819,0407, 46.9910,-137.9630, 4171,    669.8,2,   3.7951,2,   3.79487,2,  34.1807,2,  34.1795,2,-999.0000,9,    26.53,2,    26.88,2,   99.951,   0.0020,2,    0.016,2,  -999.00,9,    2.986,1,    0.000,2,   113.54,2,     0.15,    42.96,2,     0.05,     0.00,2,     0.01,     3.05,2,     0.01,  -999.00,9,  -999.00, -999.000,9, -999.000,9, -999.000,9, -999.000,9,   2344.3,6,   2338.4,2,   -999.0,9,   7.3000,       25,2, -999.000,9,    41.13,2, -999.000,9, -999.000,   -999.0,9,   -999.0, -999.000,9, -999.000, -999.000,9, -999.000,   -999.0,9,   -999.0, -999.000,9, -999.000,9, -999.000,9
  49NZ20140717,   P01,   134,  1,     25, X12J25,2,20140819,0407, 46.9910,-137.9630, 4171,    770.3,2,   3.5448,2,   3.54445,2,  34.2416,2,  34.2404,2,-999.0000,9,    20.94,2,    20.82,2,   99.977,   0.0009,2,    0.015,2,  -999.00,9,    3.075,1,    0.000,2,   123.00,2,     0.15,    43.56,2,     0.05,     0.00,2,     0.01,     3.11,2,     0.01,  -999.00,9,  -999.00, -999.000,9, -999.000,9, -999.000,9, -999.000,9,   2357.1,2,   2353.5,2,   2346.4,2,   7.2966,       25,2,   10.253,2,    40.37,2, -999.000,9, -999.000,   -999.0,9,   -999.0, -999.000,9, -999.000, -999.000,9, -999.000,   -999.0,9,   -999.0, -999.000,9, -999.000,9, -999.000,9
  49NZ20140717,   P01,   134,  1,     24, X12J24,2,20140819,0407, 46.9910,-137.9630, 4171,    868.5,2,   3.3180,2,   3.31774,2,  34.2926,2,  34.2925,2,-999.0000,9,    18.70,2,    18.46,2,   99.951,   0.0020,2,    0.014,2,  -999.00,9,    3.196,1,    0.000,2,   131.18,2,     0.16,    43.94,2,     0.06,     0.00,2,     0.01,     3.13,2,     0.01,  -999.00,9,  -999.00, -999.000,9, -999.000,9, -999.000,9, -999.000,9,   2367.4,2,   2362.9,2,   -999.0,9,   7.2983,       25,6, -999.000,9,    41.10,2, -999.000,9, -999.000,   -999.0,9,   -999.0, -999.000,9, -999.000, -999.000,9, -999.000,   -999.0,9,   -999.0, -999.000,9, -999.000,9, -999.000,9
  49NZ20140717,   P01,   134,  1,     23, X12J23,2,20140819,0407, 46.9910,-137.9630, 4171,    970.4,2,   3.1404,2,   3.14016,2,  34.3332,2,  34.3342,2,-999.0000,9,    15.06,2,    14.57,2,   99.946,   0.0022,2,    0.014,2,  -999.00,9,    3.229,1,    0.000,2,   137.76,2,     0.16,    44.29,2,     0.06,     0.00,2,     0.01,     3.16,2,     0.01,  -999.00,9,  -999.00, -999.000,9, -999.000,9, -999.000,9, -999.000,9,   2378.9,2,   2371.4,2,   2364.0,2,   7.2961,       25,2,   10.275,2,    40.29,2, -999.000,9, -999.000,   -999.0,9,   -999.0, -999.000,9, -999.000, -999.000,9, -999.000,   -999.0,9,   -999.0, -999.000,9, -999.000,9, -999.000,9
  49NZ20140717,   P01,   134,  1,     22, X12J22,2,20140819,0407, 46.9910,-137.9630, 4171,   1131.9,2,   2.9222,2,   2.92262,2,  34.4045,2,  34.4046,2,-999.0000,9,    10.90,2,     9.80,2,   99.951,   0.0020,2,    0.014,2,  -999.00,9,    3.248,1,    0.000,2,   146.72,2,     0.17,    44.87,2,     0.06,     0.00,2,     0.01,     3.21,2,     0.01,  -999.00,9,  -999.00, -999.000,9, -999.000,9, -999.000,9, -999.000,9,   2391.8,2,   2382.6,6,   2377.3,2,   7.2980,       25,2,   10.280,2,    40.03,2, -999.000,9, -999.000,   -999.0,9,   -999.0, -999.000,9, -999.000, -999.000,9, -999.000,   -999.0,9,   -999.0, -999.000,9, -999.000,9, -999.000,9
  49NZ20140717,   P01,   134,  1,     21, X12J21,2,20140819,0407, 46.9910,-137.9630, 4171,   1329.5,2,   2.6038,2,   2.60322,2,  34.4571,2,  34.4559,2,-999.0000,9,    14.22,2,    13.03,2,   99.940,   0.0024,2,    0.014,2,  -999.00,9,    3.334,1,    0.000,2,   156.76,2,     0.17,    44.86,2,     0.06,     0.00,2,     0.01,     3.18,2,     0.01,  -999.00,9,  -999.00, -999.000,9, -999.000,9, -999.000,9, -999.000,9,   2400.1,2,   2393.3,2,   -999.0,9,   7.3088,       25,2, -999.000,9,    42.46,3, -999.000,9, -999.000,   -999.0,9,   -999.0, -999.000,9, -999.000, -999.000,9, -999.000,   -999.0,9,   -999.0, -999.000,9, -999.000,9, -999.000,9
  49NZ20140717,   P01,   134,  1,     20, X12J20,2,20140819,0407, 46.9910,-137.9630, 4171,   1529.5,2,   2.3531,2,   2.35351,2,  34.5068,2,  34.5046,2,-999.0000,9,    22.73,2,    21.47,2,   99.948,   0.0021,2,    0.012,2,  -999.00,9,    3.214,1,    0.000,2,   163.94,2,     0.18,    44.51,2,     0.06,     0.00,2,     0.01,     3.14,2,     0.01,  -999.00,9,  -999.00, -999.000,9, -999.000,9, -999.000,9, -999.000,9,   2398.6,2,   2402.9,2,   2397.4,2,   7.3265,       25,2,   10.302,2,    40.15,2, -999.000,9, -999.000,   -999.0,9,   -999.0, -999.000,9, -999.000, -999.000,9, -999.000,   -999.0,9,   -999.0, -999.000,9, -999.000,9, -999.000,9
  49NZ20140717,   P01,   134,  1,     19, X12J19,2,20140819,0407, 46.9910,-137.9630, 4171,   1729.1,2,   2.1643,2,   2.16447,2,  34.5494,2,  34.5494,2,-999.0000,9,    38.01,2,    37.81,2,   99.951,   0.0020,2,    0.011,2,  -999.00,9,    3.206,1,    0.000,2,   168.63,2,     0.18,    43.45,2,     0.05,     0.00,2,     0.01,     3.07,2,     0.01,  -999.00,9,  -999.00, -999.000,9, -999.000,9, -999.000,9, -999.000,9,   2393.2,2,   2411.4,2,   -999.0,9,   7.3623,       25,2, -999.000,9,    39.53,2, -999.000,9, -999.000,   -999.0,9,   -999.0, -999.000,9, -999.000, -999.000,9, -999.000,   -999.0,9,   -999.0, -999.000,9, -999.000,9, -999.000,9
  49NZ20140717,   P01,   134,  1,     18, X12J18,2,20140819,0407, 46.9910,-137.9630, 4171,   1931.4,2,   2.0034,2,   2.00338,2,  34.5808,2,  34.5811,2,-999.0000,9,    51.50,2,    51.61,2,   99.966,   0.0014,2,    0.009,2,  -999.00,9,    3.240,1,    0.000,2,   172.66,2,     0.18,    42.65,2,     0.05,     0.00,2,     0.01,     3.01,2,     0.01,  -999.00,9,  -999.00, -999.000,9, -999.000,9, -999.000,9, -999.000,9,   2392.6,2,   2419.0,2,   2413.5,2,   7.3928,       25,2,   10.328,2,    39.49,2, -999.000,9, -999.000,   -999.0,9,   -999.0, -999.000,9, -999.000, -999.000,9, -999.000,   -999.0,9,   -999.0, -999.000,9, -999.000,9, -999.000,9
  49NZ20140717,   P01,   134,  1,     17, X12J17,2,20140819,0407, 46.9910,-137.9630, 4171,   2129.0,2,   1.9038,2,   1.90385,2,  34.6012,2,  34.6012,2,-999.0000,9,    61.63,2,    62.05,2,   99.987,   0.0005,2,    0.008,2,  -999.00,9,    3.053,1,    0.000,2,   174.50,2,     0.18,    41.97,2,     0.05,     0.00,2,     0.01,     2.97,2,     0.01,  -999.00,9,  -999.00, -999.000,9, -999.000,9, -999.000,9, -999.000,9,   2388.1,2,   2421.9,2,   -999.0,9,   7.4133,       25,2, -999.000,9,    38.81,2, -999.000,9, -999.000,   -999.0,9,   -999.0, -999.000,9, -999.000, -999.000,9, -999.000,   -999.0,9,   -999.0, -999.000,9, -999.000,9, -999.000,9
  49NZ20140717,   P01,   134,  1,     16, X12J16,2,20140819,0407, 46.9910,-137.9630, 4171,   2328.1,2,   1.8278,2,   1.82757,2,  34.6169,2,  34.6172,2,-999.0000,9,    71.03,2,    71.18,2,   99.974,   0.0010,2,    0.008,2,  -999.00,9,    3.076,1,    0.000,2,   175.38,2,     0.18,    41.39,2,     0.05,     0.00,2,     0.01,     2.92,2,     0.01,  -999.00,9,  -999.00, -999.000,9, -999.000,9, -999.000,9, -999.000,9,   2384.1,6,   2424.8,2,   -999.0,9,   7.4335,       25,2, -999.000,9,    38.79,2, -999.000,9, -999.000,   -999.0,9,   -999.0, -999.000,9, -999.000, -999.000,9, -999.000,   -999.0,9,   -999.0, -999.000,9, -999.000,9, -999.000,9
  49NZ20140717,   P01,   134,  1,     15, X12J15,2,20140819,0407, 46.9910,-137.9630, 4171,   2529.3,2,   1.7440,2,   1.74385,2,  34.6298,2,  34.6295,2,-999.0000,9,    81.30,2,    81.32,2,   99.987,   0.0005,2,    0.007,2,  -999.00,9,    2.951,1,    0.000,2,   174.93,2,     0.18,    40.78,2,     0.05,     0.00,2,     0.01,     2.88,2,     0.01,  -999.00,9,  -999.00, -999.000,9, -999.000,9, -999.000,9, -999.000,9,   2376.8,2,   2425.2,2,   -999.0,9,   7.4533,       25,2, -999.000,9,    39.01,2, -999.000,9, -999.000,   -999.0,9,   -999.0, -999.000,9, -999.000, -999.000,9, -999.000,   -999.0,9,   -999.0, -999.000,9, -999.000,9, -999.000,9
  49NZ20140717,   P01,   134,  1,     14, X12J14,2,20140819,0407, 46.9910,-137.9630, 4171,   2729.7,2,   1.6620,2,   1.66191,2,  34.6413,2,  34.6414,2,-999.0000,9,    92.39,2,    92.57,2,   99.979,   0.0009,2,    0.006,2,  -999.00,9,    2.902,1,    0.000,2,   173.70,2,     0.18,    40.16,2,     0.05,     0.00,2,     0.01,     2.82,2,     0.01,  -999.00,9,  -999.00, -999.000,9, -999.000,9, -999.000,9, -999.000,9,   2369.4,2,   2424.7,2,   -999.0,9,   7.4731,       25,6, -999.000,9,    39.14,2, -999.000,9, -999.000,   -999.0,9,   -999.0, -999.000,9, -999.000, -999.000,9, -999.000,   -999.0,9,   -999.0, -999.000,9, -999.000,9, -999.000,9
  49NZ20140717,   P01,   134,  1,     13, X12113,2,20140819,0407, 46.9910,-137.9630, 4171,   2930.0,2,   1.6024,2,   1.60229,2,  34.6504,2,  34.6507,2,-999.0000,9,   103.01,2,   103.10,2,   99.968,   0.0013,2,    0.006,2,  -999.00,9,    2.840,1,    0.000,2,   172.32,2,     0.18,    39.42,2,     0.05,     0.00,2,     0.01,     2.76,2,     0.01,  -999.00,9,  -999.00, -999.000,9, -999.000,9, -999.000,9, -999.000,9,   2362.2,2,   2424.3,2,   2417.4,2,   7.4940,       25,2,   10.364,2,    40.21,2, -999.000,9, -999.000,   -999.0,9,   -999.0, -999.000,9, -999.000, -999.000,9, -999.000,   -999.0,9,   -999.0, -999.000,9, -999.000,9, -999.000,9
  49NZ20140717,   P01,   134,  1,     12, X12J12,2,20140819,0407, 46.9910,-137.9630, 4171,   3170.6,2,   1.5533,2,   1.55322,2,  34.6600,2,  34.6600,2,-999.0000,9,   113.92,2,   113.76,2,   99.968,   0.0013,2,    0.005,2,  -999.00,9,    2.703,1,    0.000,2,   171.31,2,     0.18,    38.75,2,     0.05,     0.00,2,     0.01,     2.71,2,     0.01,  -999.00,9,  -999.00, -999.000,9, -999.000,9, -999.000,9, -999.000,9,   2356.2,2,   2426.6,6,   -999.0,9,   7.5125,       25,2, -999.000,9,    39.50,2, -999.000,9, -999.000,   -999.0,9,   -999.0, -999.000,9, -999.000, -999.000,9, -999.000,   -999.0,9,   -999.0, -999.000,9, -999.000,9, -999.000,9
  49NZ20140717,   P01,   134,  1,     11, X12J11,2,20140819,0407, 46.9910,-137.9630, 4171,   3422.4,2,   1.5245,2,   1.52444,2,  34.6675,2,  34.6674,2,-999.0000,9,   122.21,2,   122.24,2,   99.974,   0.0010,2,    0.005,2,  -999.00,9,    2.756,1,    0.000,2,   171.00,2,     0.18,    38.13,2,     0.05,     0.00,2,     0.01,     2.67,2,     0.01,  -999.00,9,  -999.00, -999.000,9, -999.000,9, -999.000,9, -999.000,9,   2350.5,2,   2427.7,2,   -999.0,9,   7.5297,       25,2, -999.000,9,    38.86,2, -999.000,9, -999.000,   -999.0,9,   -999.0, -999.000,9, -999.000, -999.000,9, -999.000,   -999.0,9,   -999.0, -999.000,9, -999.000,9, -999.000,9
  49NZ20140717,   P01,   134,  1,     10, X12J10,2,20140819,0407, 46.9910,-137.9630, 4171,   3672.1,2,   1.5140,2,   1.51393,2,  34.6728,2,  34.6727,2,-999.0000,9,   127.87,2,   128.14,2,   99.955,   0.0018,2,    0.005,2,  -999.00,9,    2.682,1,    0.000,2,   171.21,2,     0.18,    37.79,2,     0.05,     0.00,2,     0.01,     2.64,2,     0.01,  -999.00,9,  -999.00, -999.000,9, -999.000,9, -999.000,9, -999.000,9,   2347.6,2,   2428.5,2,   -999.0,9,   7.5416,       25,2, -999.000,9,    40.67,2, -999.000,9, -999.000,   -999.0,9,   -999.0, -999.000,9, -999.000, -999.000,9, -999.000,   -999.0,9,   -999.0, -999.000,9, -999.000,9, -999.000,9