BOTTLE,20230904JAMSTECRIGC
EXPOCODE,SECT,STNNBR,CASTNO,SAMPNO,BTLNBR,BTLNBR_FLAG_W,DATE,TIME,LATITUDE,LONGITUDE,DEPTH,CTDPRS,CTDPRS_FLAG_W,CTDTMP,CTDTMP_FLAG_W,SBE35,SBE35_FLAG_W,CTDSAL,CTDSAL_FLAG_W,SALNTY,SALNTY_FLAG_W,DNSSAL,DNSSAL_FLAG_W,CTDOXY,CTDOXY_FLAG_W,OXYGEN,OXYGEN_FLAG_W,XMISS,XMISSCP,XMISS_FLAG_W,FLUOR,FLUOR_FLAG_W,CHLORA,CHLORA_FLAG_W,CDOM,CDOM_FLAG_W,PAR,PAR_FLAG_W,SILCAT,SILCAT_FLAG_W,SILUNC,NITRAT,NITRAT_FLAG_W,NRAUNC,NITRIT,NITRIT_FLAG_W,NRIUNC,PHSPHT,PHSPHT_FLAG_W,PHPUNC,AMMONIA,AMMONIA_FLAG_W,NH4UNC,CFC-11,CFC-11_FLAG_W,CFC-12,CFC-12_FLAG_W,CFC113,CFC113_FLAG_W,SF6,SF6_FLAG_W,TCARBN,TCARBN_FLAG_W,ALKALI,ALKALI_FLAG_W,ALKALI_POT,ALKALI_POT_FLAG_W,PH_TOT,PH_TMP,PH_TOT_FLAG_W,CALCIUM,CALCIUM_FLAG_W,DOC,DOC_FLAG_W,DELC13,DELC13_FLAG_W,C13ERR,DELC14,DELC14_FLAG_W,C14ERR,CS-134,CS-134_FLAG_W,CS134ER,CS-137,CS-137_FLAG_W,CS137ER,I-129,I-129_FLAG_W,I-129ER,CDOM-325,CDOM-325_FLAG_W,CDOM-370,CDOM-370_FLAG_W,CDOM-443,CDOM-443_FLAG_W
,,,,,,,,UTC,DEG,DEG,METERS,DBAR,,ITS-90,,ITS-90,,PSS-78,,PSS-78,,G/KG,,UMOL/KG,,UMOL/KG,,%TRANS,/METER,,MG/CUM,,MG/CUM,,MG/CUM,,UE/SQM/S,,UMOL/KG,,UMOL/KG,UMOL/KG,,UMOL/KG,UMOL/KG,,UMOL/KG,UMOL/KG,,UMOL/KG,UMOL/KG,,UMOL/KG,PMOL/KG,,PMOL/KG,,PMOL/KG,,FMOL/KG,,UMOL/KG,,UMOL/KG,,UMOL/KG,,,DEG C,,MMOL/KG,,UMOL/KG,,/MILLE,,/MILLE,/MILLE,,/MILLE,MBQ/KG,,MBQ/KG,MBQ/KG,,MBQ/KG,,,,/METER,,/METER,,/METER,
  49NZ20140717,   P01,    68,  1,      0,   -999,9,20140725,2320, 44.5842, 155.7925, 5146,   -999.0,9,-999.0000,9,-999.00000,9,-999.0000,9,  32.8791,2,-999.0000,9,  -999.00,9,  -999.00,9, -999.000,-999.0000,9, -999.000,9,  -999.00,9, -999.000,9, -999.000,9,     7.56,2,     0.09,     3.67,2,     0.01,     0.06,2,     0.01,     0.62,2,     0.01,  -999.00,9,  -999.00, -999.000,9, -999.000,9, -999.000,9, -999.000,9,   -999.0,9,   -999.0,9,   -999.0,9,-999.0000,     -999,9, -999.000,9,  -999.00,9, -999.000,9, -999.000,   -999.0,9,   -999.0, -999.000,9, -999.000, -999.000,9, -999.000,   -999.0,9,   -999.0, -999.000,9, -999.000,9, -999.000,9
  49NZ20140717,   P01,    68,  1,     36, X12J36,2,20140725,2320, 44.5842, 155.7925, 5146,     10.8,2,  14.2065,2,  14.20066,2,  32.8772,2,  32.8766,2,-999.0000,9,   270.35,2,   271.13,2,   94.710,   0.2174,2,    0.400,2,  -999.00,9,    0.168,1,  217.414,2,     8.03,2,     0.09,     4.16,2,     0.02,     0.07,2,     0.01,     0.64,2,     0.01,  -999.00,9,  -999.00,    3.094,2,    1.799,2,    0.333,2, -999.000,9,   -999.0,9,   -999.0,9,   -999.0,9,-999.0000,     -999,9, -999.000,9,  -999.00,9, -999.000,9, -999.000,   -999.0,9,   -999.0, -999.000,9, -999.000, -999.000,9, -999.000,   -999.0,9,   -999.0, -999.000,9, -999.000,9, -999.000,9
  49NZ20140717,   P01,    68,  1,     35, X12J35,2,20140725,2320, 44.5842, 155.7925, 5146,     50.4,2,   4.1196,2,   4.11523,2,  32.8779,2,  32.8806,2,-999.0000,9,   330.65,2,   332.37,2,   97.744,   0.0913,2,    0.424,2,  -999.00,9,    0.939,1,    7.032,2,    25.91,2,     0.09,    17.70,2,     0.03,     0.18,2,     0.01,     1.61,2,     0.01,  -999.00,9,  -999.00,    5.295,2,    2.842,2,    0.538,2, -999.000,9,   -999.0,9,   -999.0,9,   -999.0,9,-999.0000,     -999,9, -999.000,9,  -999.00,9, -999.000,9, -999.000,   -999.0,9,   -999.0, -999.000,9, -999.000, -999.000,9, -999.000,   -999.0,9,   -999.0, -999.000,9, -999.000,9, -999.000,9
  49NZ20140717,   P01,    68,  1,     34, X12J34,2,20140725,2320, 44.5842, 155.7925, 5146,    100.1,2,   1.5843,2,   1.58444,2,  33.0088,2,  33.0075,2,-999.0000,9,   315.96,2,   317.97,2,   99.382,   0.0248,2,    0.081,2,  -999.00,9,    1.193,1,    0.288,2,    39.83,2,     0.10,    24.07,2,     0.04,     0.00,2,     0.01,     1.92,2,     0.01,  -999.00,9,  -999.00,    5.637,2,    3.037,2,    0.561,2, -999.000,9,   -999.0,9,   -999.0,9,   -999.0,9,-999.0000,     -999,9, -999.000,9,  -999.00,9, -999.000,9, -999.000,   -999.0,9,   -999.0, -999.000,9, -999.000, -999.000,9, -999.000,   -999.0,9,   -999.0, -999.000,9, -999.000,9, -999.000,9
  49NZ20140717,   P01,    68,  1,     33, X12J33,2,20140725,2320, 44.5842, 155.7925, 5146,    150.7,2,   2.4476,2,   2.44775,2,  33.5200,2,  33.5225,2,-999.0000,9,   160.09,2,   158.62,2,   99.555,   0.0178,2,    0.026,2,  -999.00,9,    2.261,1,    0.000,2,    74.08,2,     0.12,    36.29,2,     0.05,     0.00,2,     0.01,     2.67,2,     0.01,  -999.00,9,  -999.00,    3.886,2,    2.060,2,    0.331,2, -999.000,9,   -999.0,9,   -999.0,9,   -999.0,9,-999.0000,     -999,9, -999.000,9,  -999.00,9, -999.000,9, -999.000,   -999.0,9,   -999.0, -999.000,9, -999.000, -999.000,9, -999.000,   -999.0,9,   -999.0, -999.000,9, -999.000,9, -999.000,9
  49NZ20140717,   P01,    68,  1,     32, X12J32,2,20140725,2320, 44.5842, 155.7925, 5146,    200.7,2,   2.9976,2,   2.99685,2,  33.7179,2,  33.7160,2,-999.0000,9,    99.13,2,    99.15,2,   99.585,   0.0166,2,    0.025,2,  -999.00,9,    2.504,1,    0.000,2,    86.53,2,     0.13,    39.94,2,     0.05,     0.00,2,     0.01,     2.89,2,     0.01,  -999.00,9,  -999.00,    3.019,2,    1.576,2,    0.244,2, -999.000,9,   -999.0,9,   -999.0,9,   -999.0,9,-999.0000,     -999,9, -999.000,9,  -999.00,9, -999.000,9, -999.000,   -999.0,9,   -999.0, -999.000,9, -999.000, -999.000,9, -999.000,   -999.0,9,   -999.0, -999.000,9, -999.000,9, -999.000,9
  49NZ20140717,   P01,    68,  1,     31, X12J31,2,20140725,2320, 44.5842, 155.7925, 5146,    249.7,2,   3.2554,2,   3.25508,2,  33.8393,2,  33.8370,2,-999.0000,9,    58.59,2,    61.11,2,   99.659,   0.0137,2,    0.026,2,  -999.00,9,    2.780,1,    0.000,2,    96.68,2,     0.13,    42.49,2,     0.05,     0.00,2,     0.01,     3.04,2,     0.01,  -999.00,9,  -999.00,    2.377,2,    1.227,2,    0.201,2, -999.000,9,   -999.0,9,   -999.0,9,   -999.0,9,-999.0000,     -999,9, -999.000,9,  -999.00,9, -999.000,9, -999.000,   -999.0,9,   -999.0, -999.000,9, -999.000, -999.000,9, -999.000,   -999.0,9,   -999.0, -999.000,9, -999.000,9, -999.000,9
  49NZ20140717,   P01,    68,  1,     30, X12J30,2,20140725,2320, 44.5842, 155.7925, 5146,    280.3,2,   3.3318,2,   3.33110,2,  33.9006,2,  33.9007,2,-999.0000,9,    45.80,2,    46.26,2,   99.682,   0.0127,2,    0.026,2,  -999.00,9,    2.775,1,    0.000,2,   102.09,2,     0.14,    43.35,2,     0.05,     0.00,2,     0.01,     3.09,2,     0.01,  -999.00,9,  -999.00,    2.045,2,    1.044,2,    0.173,2, -999.000,9,   -999.0,9,   -999.0,9,   -999.0,9,-999.0000,     -999,9, -999.000,9,  -999.00,9, -999.000,9, -999.000,   -999.0,9,   -999.0, -999.000,9, -999.000, -999.000,9, -999.000,   -999.0,9,   -999.0, -999.000,9, -999.000,9, -999.000,9
  49NZ20140717,   P01,    68,  1,     29, X12J29,2,20140725,2320, 44.5842, 155.7925, 5146,    370.0,2,   3.3557,2,   3.35552,2,  34.0161,2,  34.0156,2,-999.0000,9,    31.58,2,    31.91,2,   99.780,   0.0088,2,    0.025,2,  -999.00,9,    2.852,1,    0.000,2,   112.04,2,     0.14,    43.94,2,     0.06,    -0.01,2,     0.01,     3.13,2,     0.01,  -999.00,9,  -999.00,    1.497,2,    0.751,2,    0.122,2, -999.000,9,   -999.0,9,   -999.0,9,   -999.0,9,-999.0000,     -999,9, -999.000,9,  -999.00,9, -999.000,9, -999.000,   -999.0,9,   -999.0, -999.000,9, -999.000, -999.000,9, -999.000,   -999.0,9,   -999.0, -999.000,9, -999.000,9, -999.000,9
  49NZ20140717,   P01,    68,  1,     28, X12J28,2,20140725,2320, 44.5842, 155.7925, 5146,    469.9,2,   3.3174,2,   3.31701,2,  34.1331,2,  34.1323,2,-999.0000,9,    25.30,2,    25.62,2,   99.859,   0.0056,2,    0.024,2,  -999.00,9,    2.869,1,    0.000,2,   122.02,2,     0.15,    43.90,2,     0.06,    -0.01,2,     0.01,     3.12,2,     0.01,  -999.00,9,  -999.00,    0.993,2,    0.490,2,    0.080,2, -999.000,9,   -999.0,9,   -999.0,9,   -999.0,9,-999.0000,     -999,9, -999.000,9,  -999.00,9, -999.000,9, -999.000,   -999.0,9,   -999.0, -999.000,9, -999.000, -999.000,9, -999.000,   -999.0,9,   -999.0, -999.000,9, -999.000,9, -999.000,9
  49NZ20140717,   P01,    68,  1,     27, X12J27,2,20140725,2320, 44.5842, 155.7925, 5146,    571.7,2,   3.2037,2,   3.20502,2,  34.2260,2,  34.2255,2,-999.0000,9,    17.51,2,    17.08,2,   99.773,   0.0091,2,    0.023,2,  -999.00,9,    2.950,1,    0.000,2,   132.12,2,     0.16,    44.34,2,     0.06,    -0.01,2,     0.01,     3.16,2,     0.01,  -999.00,9,  -999.00,    0.595,2,    0.282,2,    0.040,2, -999.000,9,   -999.0,9,   -999.0,9,   -999.0,9,-999.0000,     -999,9, -999.000,9,  -999.00,9, -999.000,9, -999.000,   -999.0,9,   -999.0, -999.000,9, -999.000, -999.000,9, -999.000,   -999.0,9,   -999.0, -999.000,9, -999.000,9, -999.000,9
  49NZ20140717,   P01,    68,  1,     26, X12J26,2,20140725,2320, 44.5842, 155.7925, 5146,    669.7,2,   3.0269,2,   3.02733,2,  34.2899,2,  34.2893,2,-999.0000,9,    17.89,2,    17.58,2,   99.777,   0.0089,2,    0.022,2,  -999.00,9,    2.971,1,    0.000,2,   139.78,2,     0.16,    44.21,2,     0.06,    -0.01,2,     0.01,     3.15,2,     0.01,  -999.00,9,  -999.00,    0.419,2,    0.198,2,    0.032,2, -999.000,9,   -999.0,9,   -999.0,9,   -999.0,9,-999.0000,     -999,9, -999.000,9,  -999.00,9, -999.000,9, -999.000,   -999.0,9,   -999.0, -999.000,9, -999.000, -999.000,9, -999.000,   -999.0,9,   -999.0, -999.000,9, -999.000,9, -999.000,9
  49NZ20140717,   P01,    68,  1,     25, X12J25,2,20140725,2320, 44.5842, 155.7925, 5146,    771.3,2,   2.8570,2,   2.85685,2,  34.3365,2,  34.3362,2,-999.0000,9,    20.89,2,    20.62,2,   99.827,   0.0069,2,    0.022,2,  -999.00,9,    2.998,1,    0.000,2,   145.68,2,     0.16,    43.98,2,     0.06,    -0.01,2,     0.01,     3.14,2,     0.01,  -999.00,9,  -999.00,    0.328,2,    0.154,2,    0.027,2, -999.000,9,   -999.0,9,   -999.0,9,   -999.0,9,-999.0000,     -999,9, -999.000,9,  -999.00,9, -999.000,9, -999.000,   -999.0,9,   -999.0, -999.000,9, -999.000, -999.000,9, -999.000,   -999.0,9,   -999.0, -999.000,9, -999.000,9, -999.000,9
  49NZ20140717,   P01,    68,  1,     24, X12J24,2,20140725,2320, 44.5842, 155.7925, 5146,   5169.9,2,   1.5358,2,   1.53576,2,  34.6892,2,  34.6892,2,-999.0000,9,   156.89,2,   157.13,2,   99.883,   0.0047,2,   -0.002,2,  -999.00,9,   -1.422,4,    0.000,2,  -999.00,9,  -999.00,  -999.00,9,  -999.00,  -999.00,9,  -999.00,  -999.00,9,  -999.00,  -999.00,9,  -999.00, -999.000,9, -999.000,9, -999.000,9, -999.000,9,   -999.0,9,   -999.0,9,   -999.0,9,-999.0000,     -999,9, -999.000,9,  -999.00,9, -999.000,9, -999.000,   -999.0,9,   -999.0, -999.000,9, -999.000, -999.000,9, -999.000,   -999.0,9,   -999.0, -999.000,9, -999.000,9, -999.000,9
  49NZ20140717,   P01,    68,  1,     23, X12J23,2,20140725,2320, 44.5842, 155.7925, 5146,    970.2,2,   2.6155,2,   2.61523,2,  34.4124,2,  34.4131,2,-999.0000,9,    26.64,2,    26.52,2,   99.883,   0.0047,2,    0.021,2,  -999.00,9,    2.968,1,    0.000,2,   153.95,2,     0.17,    43.65,2,     0.05,    -0.01,2,     0.01,     3.12,2,     0.01,  -999.00,9,  -999.00,    0.183,2,    0.084,2,    0.015,2, -999.000,9,   -999.0,9,   -999.0,9,   -999.0,9,-999.0000,     -999,9, -999.000,9,  -999.00,9, -999.000,9, -999.000,   -999.0,9,   -999.0, -999.000,9, -999.000, -999.000,9, -999.000,   -999.0,9,   -999.0, -999.000,9, -999.000,9, -999.000,9
  49NZ20140717,   P01,    68,  1,     22, X12J22,2,20140725,2320, 44.5842, 155.7925, 5146,   1129.2,2,   2.4166,2,   2.41426,2,  34.4557,2,  34.4561,2,-999.0000,9,    29.71,2,    29.28,2,   99.888,   0.0045,2,    0.019,2,  -999.00,9,    2.976,1,    0.000,2,   160.96,2,     0.17,    43.55,2,     0.05,    -0.01,2,     0.01,     3.11,2,     0.01,  -999.00,9,  -999.00,    0.129,2,    0.057,2,    0.012,2, -999.000,9,   -999.0,9,   -999.0,9,   -999.0,9,-999.0000,     -999,9, -999.000,9,  -999.00,9, -999.000,9, -999.000,   -999.0,9,   -999.0, -999.000,9, -999.000, -999.000,9, -999.000,   -999.0,9,   -999.0, -999.000,9, -999.000,9, -999.000,9
  49NZ20140717,   P01,    68,  1,     21, X12J21,2,20140725,2320, 44.5842, 155.7925, 5146,   1327.8,2,   2.2857,2,   2.28583,2,  34.5085,2,  34.5079,2,-999.0000,9,    45.10,2,    45.24,2,   99.929,   0.0029,2,    0.017,2,  -999.00,9,    2.918,1,    0.000,2,   160.30,2,     0.17,    42.67,2,     0.05,    -0.01,2,     0.01,     3.04,2,     0.01,  -999.00,9,  -999.00,    0.072,2,    0.031,2,    0.000,2, -999.000,9,   -999.0,9,   -999.0,9,   -999.0,9,-999.0000,     -999,9, -999.000,9,  -999.00,9, -999.000,9, -999.000,   -999.0,9,   -999.0, -999.000,9, -999.000, -999.000,9, -999.000,   -999.0,9,   -999.0, -999.000,9, -999.000,9, -999.000,9
  49NZ20140717,   P01,    68,  1,     20, X12J20,2,20140725,2320, 44.5842, 155.7925, 5146,   1531.6,2,   2.1295,2,   2.12926,2,  34.5437,2,  34.5444,2,-999.0000,9,    53.24,2,    53.47,2,   99.939,   0.0024,2,    0.015,2,  -999.00,9,    2.805,1,    0.000,2,   163.62,2,     0.18,    42.27,2,     0.05,    -0.01,2,     0.01,     3.00,2,     0.01,  -999.00,9,  -999.00,    0.037,2,    0.016,2,    0.000,2, -999.000,9,   -999.0,9,   -999.0,9,   -999.0,9,-999.0000,     -999,9, -999.000,9,  -999.00,9, -999.000,9, -999.000,   -999.0,9,   -999.0, -999.000,9, -999.000, -999.000,9, -999.000,   -999.0,9,   -999.0, -999.000,9, -999.000,9, -999.000,9
  49NZ20140717,   P01,    68,  1,     19, X12J19,2,20140725,2320, 44.5842, 155.7925, 5146,   1730.2,2,   1.9825,2,   1.98245,2,  34.5744,2,  34.5745,2,-999.0000,9,    62.87,2,    63.15,2,   99.948,   0.0021,2,    0.015,2,  -999.00,9,    2.856,1,    0.000,2,   166.89,2,     0.18,    41.71,2,     0.05,    -0.01,2,     0.01,     2.96,2,     0.01,  -999.00,9,  -999.00,    0.018,2,    0.011,2,    0.000,2, -999.000,9,   -999.0,9,   -999.0,9,   -999.0,9,-999.0000,     -999,9, -999.000,9,  -999.00,9, -999.000,9, -999.000,   -999.0,9,   -999.0, -999.000,9, -999.000, -999.000,9, -999.000,   -999.0,9,   -999.0, -999.000,9, -999.000,9, -999.000,9
  49NZ20140717,   P01,    68,  1,     18, X12J18,2,20140725,2320, 44.5842, 155.7925, 5146,   1930.0,2,   1.8572,2,   1.85716,2,  34.5998,2,  34.6000,2,-999.0000,9,    74.34,2,    74.29,2,   99.965,   0.0014,2,    0.014,2,  -999.00,9,    2.765,1,    0.000,2,   167.55,2,     0.18,    41.02,2,     0.05,    -0.01,2,     0.01,     2.90,2,     0.01,  -999.00,9,  -999.00,    0.003,2,    0.002,2,    0.000,2, -999.000,9,   -999.0,9,   -999.0,9,   -999.0,9,-999.0000,     -999,9, -999.000,9,  -999.00,9, -999.000,9, -999.000,   -999.0,9,   -999.0, -999.000,9, -999.000, -999.000,9, -999.000,   -999.0,9,   -999.0, -999.000,9, -999.000,9, -999.000,9
  49NZ20140717,   P01,    68,  1,     17, X12J17,2,20140725,2320, 44.5842, 155.7925, 5146,   2131.9,2,   1.7537,2,   1.75368,2,  34.6196,2,  34.6200,2,-999.0000,9,    87.37,2,    87.48,2,   99.961,   0.0016,2,    0.012,2,  -999.00,9,    2.695,1,    0.000,2,   166.69,2,     0.18,    40.20,2,     0.05,    -0.01,2,     0.01,     2.84,2,     0.01,  -999.00,9,  -999.00,    0.005,2,    0.001,2,    0.000,2, -999.000,9,   -999.0,9,   -999.0,9,   -999.0,9,-999.0000,     -999,9, -999.000,9,  -999.00,9, -999.000,9, -999.000,   -999.0,9,   -999.0, -999.000,9, -999.000, -999.000,9, -999.000,   -999.0,9,   -999.0, -999.000,9, -999.000,9, -999.000,9
  49NZ20140717,   P01,    68,  1,     16, X12J16,2,20140725,2320, 44.5842, 155.7925, 5146,   2331.0,2,   1.6744,2,   1.67436,2,  34.6352,2,  34.6357,2,-999.0000,9,   100.12,2,   100.28,2,   99.952,   0.0019,2,    0.011,2,  -999.00,9,    2.569,1,    0.000,2,   164.23,2,     0.18,    39.43,2,     0.05,    -0.01,2,     0.01,     2.78,2,     0.01,  -999.00,9,  -999.00,    0.002,2,    0.000,2,    0.000,2, -999.000,9,   -999.0,9,   -999.0,9,   -999.0,9,-999.0000,     -999,9, -999.000,9,  -999.00,9, -999.000,9, -999.000,   -999.0,9,   -999.0, -999.000,9, -999.000, -999.000,9, -999.000,   -999.0,9,   -999.0, -999.000,9, -999.000,9, -999.000,9
  49NZ20140717,   P01,    68,  1,     15, X12J15,2,20140725,2320, 44.5842, 155.7925, 5146,   2531.0,2,   1.6108,2,   1.61074,2,  34.6474,2,  34.6474,2,-999.0000,9,   111.22,2,   111.32,2,   99.963,   0.0015,2,    0.010,2,  -999.00,9,    2.481,1,    0.000,2,   161.60,2,     0.17,    38.79,2,     0.05,    -0.01,2,     0.01,     2.73,2,     0.01,  -999.00,9,  -999.00,    0.002,2,    0.001,2,    0.000,2, -999.000,9,   -999.0,9,   -999.0,9,   -999.0,9,-999.0000,     -999,9, -999.000,9,  -999.00,9, -999.000,9, -999.000,   -999.0,9,   -999.0, -999.000,9, -999.000, -999.000,9, -999.000,   -999.0,9,   -999.0, -999.000,9, -999.000,9, -999.000,9
  49NZ20140717,   P01,    68,  1,     14, X12J14,2,20140725,2320, 44.5842, 155.7925, 5146,   2729.8,2,   1.5642,2,   1.56417,2,  34.6560,2,  34.6562,2,-999.0000,9,   119.78,2,   119.81,2,   99.970,   0.0012,2,    0.008,2,  -999.00,9,    2.460,1,    0.000,2,   159.25,2,     0.17,    38.18,2,     0.05,    -0.01,2,     0.01,     2.68,2,     0.01,  -999.00,9,  -999.00,    0.004,2,    0.000,2,    0.000,2, -999.000,9,   -999.0,9,   -999.0,9,   -999.0,9,-999.0000,     -999,9, -999.000,9,  -999.00,9, -999.000,9, -999.000,   -999.0,9,   -999.0, -999.000,9, -999.000, -999.000,9, -999.000,   -999.0,9,   -999.0, -999.000,9, -999.000,9, -999.000,9
  49NZ20140717,   P01,    68,  1,     13, X12113,2,20140725,2320, 44.5842, 155.7925, 5146,   2932.4,2,   1.5226,2,   1.52258,2,  34.6637,2,  34.6640,2,-999.0000,9,   127.69,2,   127.38,2,   99.987,   0.0005,2,    0.007,2,  -999.00,9,    2.340,1,    0.000,2,   157.30,2,     0.17,    37.71,2,     0.05,    -0.01,2,     0.01,     2.64,2,     0.01,  -999.00,9,  -999.00,    0.012,2,    0.002,2,    0.000,2, -999.000,9,   -999.0,9,   -999.0,9,   -999.0,9,-999.0000,     -999,9, -999.000,9,  -999.00,9, -999.000,9, -999.000,   -999.0,9,   -999.0, -999.000,9, -999.000, -999.000,9, -999.000,   -999.0,9,   -999.0, -999.000,9, -999.000,9, -999.000,9
  49NZ20140717,   P01,    68,  1,     12, X12J12,2,20140725,2320, 44.5842, 155.7925, 5146,   3170.4,2,   1.4937,2,   1.49357,2,  34.6696,2,  34.6695,2,-999.0000,9,   134.29,2,   134.07,2,   99.987,   0.0005,2,    0.006,2,  -999.00,9,    2.350,1,    0.000,2,   155.82,2,     0.17,    37.29,2,     0.05,    -0.01,2,     0.01,     2.61,2,     0.01,  -999.00,9,  -999.00,    0.000,2,    0.000,2,    0.000,2, -999.000,9,   -999.0,9,   -999.0,9,   -999.0,9,-999.0000,     -999,9, -999.000,9,  -999.00,9, -999.000,9, -999.000,   -999.0,9,   -999.0, -999.000,9, -999.000, -999.000,9, -999.000,   -999.0,9,   -999.0, -999.000,9, -999.000,9, -999.000,9
  49NZ20140717,   P01,    68,  1,     11, X12J11,2,20140725,2320, 44.5842, 155.7925, 5146,   3421.3,2,   1.4681,2,   1.46801,2,  34.6752,2,  34.6752,2,-999.0000,9,   140.72,2,   140.49,2,   99.983,   0.0007,2,    0.005,2,  -999.00,9,    2.275,1,    0.000,2,   154.19,2,     0.17,    36.90,2,     0.05,    -0.01,2,     0.01,     2.57,2,     0.01,  -999.00,9,  -999.00,    0.000,2,    0.000,2,    0.000,2, -999.000,9,   -999.0,9,   -999.0,9,   -999.0,9,-999.0000,     -999,9, -999.000,9,  -999.00,9, -999.000,9, -999.000,   -999.0,9,   -999.0, -999.000,9, -999.000, -999.000,9, -999.000,   -999.0,9,   -999.0, -999.000,9, -999.000,9, -999.000,9
  49NZ20140717,   P01,    68,  1,     10, X12J10,2,20140725,2320, 44.5842, 155.7925, 5146,   3670.6,2,   1.4561,2,   1.45619,2,  34.6793,2,  34.6792,2,-999.0000,9,   145.55,2,   145.22,2,   99.989,   0.0004,2,    0.004,2,  -999.00,9,    2.242,1,    0.000,2,   152.95,2,     0.17,    36.57,2,     0.05,    -0.01,2,     0.01,     2.55,2,     0.01,  -999.00,9,  -999.00,    0.002,2,    0.000,2,    0.000,2, -999.000,9,   -999.0,9,   -999.0,9,   -999.0,9,-999.0000,     -999,9, -999.000,9,  -999.00,9, -999.000,9, -999.000,   -999.0,9,   -999.0, -999.000,9, -999.000, -999.000,9, -999.000,   -999.0,9,   -999.0, -999.000,9, -999.000,9, -999.000,9