BOTTLE,20230904JAMSTECRIGC
EXPOCODE,SECT,STNNBR,CASTNO,SAMPNO,BTLNBR,BTLNBR_FLAG_W,DATE,TIME,LATITUDE,LONGITUDE,DEPTH,CTDPRS,CTDPRS_FLAG_W,CTDTMP,CTDTMP_FLAG_W,SBE35,SBE35_FLAG_W,CTDSAL,CTDSAL_FLAG_W,SALNTY,SALNTY_FLAG_W,DNSSAL,DNSSAL_FLAG_W,CTDOXY,CTDOXY_FLAG_W,OXYGEN,OXYGEN_FLAG_W,XMISS,XMISSCP,XMISS_FLAG_W,FLUOR,FLUOR_FLAG_W,CHLORA,CHLORA_FLAG_W,CDOM,CDOM_FLAG_W,PAR,PAR_FLAG_W,SILCAT,SILCAT_FLAG_W,SILUNC,NITRAT,NITRAT_FLAG_W,NRAUNC,NITRIT,NITRIT_FLAG_W,NRIUNC,PHSPHT,PHSPHT_FLAG_W,PHPUNC,AMMONIA,AMMONIA_FLAG_W,NH4UNC,CFC-11,CFC-11_FLAG_W,CFC-12,CFC-12_FLAG_W,CFC113,CFC113_FLAG_W,SF6,SF6_FLAG_W,TCARBN,TCARBN_FLAG_W,ALKALI,ALKALI_FLAG_W,ALKALI_POT,ALKALI_POT_FLAG_W,PH_TOT,PH_TMP,PH_TOT_FLAG_W,CALCIUM,CALCIUM_FLAG_W,DOC,DOC_FLAG_W,DELC13,DELC13_FLAG_W,C13ERR,DELC14,DELC14_FLAG_W,C14ERR,CS-134,CS-134_FLAG_W,CS134ER,CS-137,CS-137_FLAG_W,CS137ER,I-129,I-129_FLAG_W,I-129ER,CDOM-325,CDOM-325_FLAG_W,CDOM-370,CDOM-370_FLAG_W,CDOM-443,CDOM-443_FLAG_W
,,,,,,,,UTC,DEG,DEG,METERS,DBAR,,ITS-90,,ITS-90,,PSS-78,,PSS-78,,G/KG,,UMOL/KG,,UMOL/KG,,%TRANS,/METER,,MG/CUM,,MG/CUM,,MG/CUM,,UE/SQM/S,,UMOL/KG,,UMOL/KG,UMOL/KG,,UMOL/KG,UMOL/KG,,UMOL/KG,UMOL/KG,,UMOL/KG,UMOL/KG,,UMOL/KG,PMOL/KG,,PMOL/KG,,PMOL/KG,,FMOL/KG,,UMOL/KG,,UMOL/KG,,UMOL/KG,,,DEG C,,MMOL/KG,,UMOL/KG,,/MILLE,,/MILLE,/MILLE,,/MILLE,MBQ/KG,,MBQ/KG,MBQ/KG,,MBQ/KG,,,,/METER,,/METER,,/METER,
  49NZ20140717,   P01,   104,  1,      9, X12J09,2,20140808,0156, 47.0084,-171.5592, 5731,   3921.3,2,   1.4869,2,   1.48699,2,  34.6783,2,  34.6784,2,-999.0000,9,   140.84,2,   140.62,2,   99.971,   0.0011,2,    0.003,2,  -999.00,9,   -1.629,4,    0.000,2,   159.12,2,     0.17,    36.91,2,     0.05,     0.00,2,     0.01,     2.58,2,     0.01,  -999.00,9,  -999.00,    0.000,2,    0.000,2,    0.000,2, -999.000,9,   -999.0,9,   -999.0,9,   -999.0,9,-999.0000,     -999,9, -999.000,9,  -999.00,9, -999.000,9, -999.000,   -999.0,9,   -999.0, -999.000,9, -999.000, -999.000,9, -999.000,   -999.0,9,   -999.0, -999.000,9, -999.000,9, -999.000,9
  49NZ20140717,   P01,   104,  1,      8, X12J08,2,20140808,0156, 47.0084,-171.5592, 5731,   4169.3,2,   1.4783,2,   1.47843,2,  34.6826,2,  34.6825,2,-999.0000,9,   145.88,2,   145.62,2,   99.971,   0.0011,2,    0.003,2,  -999.00,9,   -1.691,4,    0.000,2,   159.46,2,     0.17,    36.58,2,     0.05,     0.00,2,     0.01,     2.55,2,     0.01,  -999.00,9,  -999.00,    0.000,2,    0.001,2,    0.000,2, -999.000,9,   -999.0,9,   -999.0,9,   -999.0,9,-999.0000,     -999,9, -999.000,9,  -999.00,9, -999.000,9, -999.000,   -999.0,9,   -999.0, -999.000,9, -999.000, -999.000,9, -999.000,   -999.0,9,   -999.0, -999.000,9, -999.000,9, -999.000,9
  49NZ20140717,   P01,   104,  1,      7, X12J07,2,20140808,0156, 47.0084,-171.5592, 5731,   4420.2,2,   1.4872,2,   1.48732,2,  34.6853,2,  34.6850,2,-999.0000,9,   148.56,2,   148.28,2,   99.967,   0.0013,2,    0.002,2,  -999.00,9,  497.217,4,    0.000,2,   160.49,2,     0.17,    36.39,2,     0.05,     0.00,2,     0.01,     2.54,2,     0.01,  -999.00,9,  -999.00,    0.001,2,    0.000,2,    0.000,2, -999.000,9,   -999.0,9,   -999.0,9,   -999.0,9,-999.0000,     -999,9, -999.000,9,  -999.00,9, -999.000,9, -999.000,   -999.0,9,   -999.0, -999.000,9, -999.000, -999.000,9, -999.000,   -999.0,9,   -999.0, -999.000,9, -999.000,9, -999.000,9
  49NZ20140717,   P01,   104,  1,      6, X12J06,2,20140808,0156, 47.0084,-171.5592, 5731,   4671.6,2,   1.5104,2,   1.51061,2,  34.6864,2,  34.6859,2,-999.0000,9,   149.28,2,   149.03,2,   99.995,   0.0002,2,    0.002,2,  -999.00,9,   -1.974,4,    0.000,2,   161.69,2,     0.17,    36.42,2,     0.05,     0.00,2,     0.01,     2.53,2,     0.01,  -999.00,9,  -999.00,    0.001,2,    0.001,2,    0.000,2, -999.000,9,   -999.0,9,   -999.0,9,   -999.0,9,-999.0000,     -999,9, -999.000,9,  -999.00,9, -999.000,9, -999.000,   -999.0,9,   -999.0, -999.000,9, -999.000, -999.000,9, -999.000,   -999.0,9,   -999.0, -999.000,9, -999.000,9, -999.000,9
  49NZ20140717,   P01,   104,  1,      5, X12J05,2,20140808,0156, 47.0084,-171.5592, 5731,   4922.1,2,   1.5391,2,   1.53914,2,  34.6866,2,  34.6863,2,-999.0000,9,   149.59,2,   149.39,2,  100.000,   0.0000,2,    0.002,2,  -999.00,9,  497.217,4,    0.000,2,   161.81,2,     0.17,    36.39,2,     0.05,     0.00,2,     0.01,     2.53,2,     0.01,  -999.00,9,  -999.00,    0.000,2,    0.000,2,    0.000,2, -999.000,9,   -999.0,9,   -999.0,9,   -999.0,9,-999.0000,     -999,9, -999.000,9,  -999.00,9, -999.000,9, -999.000,   -999.0,9,   -999.0, -999.000,9, -999.000, -999.000,9, -999.000,   -999.0,9,   -999.0, -999.000,9, -999.000,9, -999.000,9
  49NZ20140717,   P01,   104,  1,      4, X12J04,2,20140808,0156, 47.0084,-171.5592, 5731,   5169.6,2,   1.5663,2,   1.56623,2,  34.6869,2,  34.6868,2,-999.0000,9,   150.42,2,   150.27,2,   99.997,   0.0001,2,    0.002,2,  -999.00,9,  497.217,4,    0.000,2,   161.60,2,     0.17,    36.31,2,     0.05,     0.00,2,     0.01,     2.53,2,     0.01,  -999.00,9,  -999.00,    0.000,2,    0.000,2,    0.000,2, -999.000,9,   -999.0,9,   -999.0,9,   -999.0,9,-999.0000,     -999,9, -999.000,9,  -999.00,9, -999.000,9, -999.000,   -999.0,9,   -999.0, -999.000,9, -999.000, -999.000,9, -999.000,   -999.0,9,   -999.0, -999.000,9, -999.000,9, -999.000,9
  49NZ20140717,   P01,   104,  1,      3, X12J03,2,20140808,0156, 47.0084,-171.5592, 5731,   5419.7,2,   1.5949,2,   1.59486,2,  34.6873,2,  34.6874,2,-999.0000,9,   151.16,2,   151.19,2,   99.941,   0.0024,2,    0.002,2,  -999.00,9,  497.217,4,    0.000,2,   161.21,2,     0.17,    36.19,2,     0.05,     0.00,2,     0.01,     2.52,2,     0.01,  -999.00,9,  -999.00,    0.000,2,    0.001,2,    0.000,2, -999.000,9,   -999.0,9,   -999.0,9,   -999.0,9,-999.0000,     -999,9, -999.000,9,  -999.00,9, -999.000,9, -999.000,   -999.0,9,   -999.0, -999.000,9, -999.000, -999.000,9, -999.000,   -999.0,9,   -999.0, -999.000,9, -999.000,9, -999.000,9
  49NZ20140717,   P01,   104,  1,      2, X12J02,2,20140808,0156, 47.0084,-171.5592, 5731,   5669.5,2,   1.6232,2,   1.62299,2,  34.6876,2,  34.6882,2,-999.0000,9,   152.20,2,   152.42,2,   99.894,   0.0043,2,    0.002,2,  -999.00,9,  497.217,4,    0.000,2,   159.90,2,     0.17,    36.11,2,     0.05,     0.00,2,     0.01,     2.52,2,     0.01,  -999.00,9,  -999.00,    0.000,2,    0.001,2,    0.000,2, -999.000,9,   -999.0,9,   -999.0,9,   -999.0,9,-999.0000,     -999,9, -999.000,9,  -999.00,9, -999.000,9, -999.000,   -999.0,9,   -999.0, -999.000,9, -999.000, -999.000,9, -999.000,   -999.0,9,   -999.0, -999.000,9, -999.000,9, -999.000,9
  49NZ20140717,   P01,   104,  1,      1, X12J01,2,20140808,0156, 47.0084,-171.5592, 5731,   5829.9,2,   1.6420,2,   1.64186,2,  34.6879,2,  34.6884,2,-999.0000,9,   152.82,2,   153.13,2,   99.779,   0.0089,2,    0.003,2,  -999.00,9,  494.380,4,    0.000,2,   159.21,2,     0.17,    36.11,2,     0.05,     0.00,2,     0.01,     2.51,2,     0.01,  -999.00,9,  -999.00,    0.001,2,    0.001,2,    0.000,2, -999.000,9,   -999.0,9,   -999.0,9,   -999.0,9,-999.0000,     -999,9, -999.000,9,  -999.00,9, -999.000,9, -999.000,   -999.0,9,   -999.0, -999.000,9, -999.000, -999.000,9, -999.000,   -999.0,9,   -999.0, -999.000,9, -999.000,9, -999.000,9