BOTTLE,20230904JAMSTECRIGC
EXPOCODE,SECT,STNNBR,CASTNO,SAMPNO,BTLNBR,BTLNBR_FLAG_W,DATE,TIME,LATITUDE,LONGITUDE,DEPTH,CTDPRS,CTDPRS_FLAG_W,CTDTMP,CTDTMP_FLAG_W,SBE35,SBE35_FLAG_W,CTDSAL,CTDSAL_FLAG_W,SALNTY,SALNTY_FLAG_W,DNSSAL,DNSSAL_FLAG_W,CTDOXY,CTDOXY_FLAG_W,OXYGEN,OXYGEN_FLAG_W,XMISS,XMISSCP,XMISS_FLAG_W,FLUOR,FLUOR_FLAG_W,CHLORA,CHLORA_FLAG_W,CDOM,CDOM_FLAG_W,PAR,PAR_FLAG_W,SILCAT,SILCAT_FLAG_W,SILUNC,NITRAT,NITRAT_FLAG_W,NRAUNC,NITRIT,NITRIT_FLAG_W,NRIUNC,PHSPHT,PHSPHT_FLAG_W,PHPUNC,AMMONIA,AMMONIA_FLAG_W,NH4UNC,CFC-11,CFC-11_FLAG_W,CFC-12,CFC-12_FLAG_W,CFC113,CFC113_FLAG_W,SF6,SF6_FLAG_W,TCARBN,TCARBN_FLAG_W,ALKALI,ALKALI_FLAG_W,ALKALI_POT,ALKALI_POT_FLAG_W,PH_TOT,PH_TMP,PH_TOT_FLAG_W,CALCIUM,CALCIUM_FLAG_W,DOC,DOC_FLAG_W,DELC13,DELC13_FLAG_W,C13ERR,DELC14,DELC14_FLAG_W,C14ERR,CS-134,CS-134_FLAG_W,CS134ER,CS-137,CS-137_FLAG_W,CS137ER,I-129,I-129_FLAG_W,I-129ER,CDOM-325,CDOM-325_FLAG_W,CDOM-370,CDOM-370_FLAG_W,CDOM-443,CDOM-443_FLAG_W
,,,,,,,,UTC,DEG,DEG,METERS,DBAR,,ITS-90,,ITS-90,,PSS-78,,PSS-78,,G/KG,,UMOL/KG,,UMOL/KG,,%TRANS,/METER,,MG/CUM,,MG/CUM,,MG/CUM,,UE/SQM/S,,UMOL/KG,,UMOL/KG,UMOL/KG,,UMOL/KG,UMOL/KG,,UMOL/KG,UMOL/KG,,UMOL/KG,UMOL/KG,,UMOL/KG,PMOL/KG,,PMOL/KG,,PMOL/KG,,FMOL/KG,,UMOL/KG,,UMOL/KG,,UMOL/KG,,,DEG C,,MMOL/KG,,UMOL/KG,,/MILLE,,/MILLE,/MILLE,,/MILLE,MBQ/KG,,MBQ/KG,MBQ/KG,,MBQ/KG,,,,/METER,,/METER,,/METER,
  49NZ20140717,   P01,    52,  1,      0,   -999,9,20140721,0956, 40.3898, 147.3655, 5279,   -999.0,9,-999.0000,9,-999.00000,9,-999.0000,9,  33.3446,2,-999.0000,9,  -999.00,9,  -999.00,9, -999.000,-999.0000,9, -999.000,9,  -999.00,9, -999.000,9, -999.000,9,     1.12,2,     0.12,     0.03,2,     0.02,     0.00,2,     0.01,     0.10,2,     0.01,  -999.00,9,  -999.00, -999.000,9, -999.000,9, -999.000,9, -999.000,9,   -999.0,9,   -999.0,9,   -999.0,9,-999.0000,     -999,9, -999.000,9,  -999.00,9, -999.000,9, -999.000,   -999.0,9,   -999.0, -999.000,9, -999.000, -999.000,9, -999.000,   -999.0,9,   -999.0, -999.000,9, -999.000,9, -999.000,9
  49NZ20140717,   P01,    52,  1,     36, X12J36,2,20140721,0956, 40.3898, 147.3655, 5279,     10.0,2,  18.1066,2,  18.02065,2,  33.4231,2,  33.3984,2,-999.0000,9,   250.63,2,   248.18,2,   96.241,   0.1533,2,    0.304,2,  -999.00,9,    0.205,1,    0.248,2,     1.30,2,     0.12,     0.03,2,     0.02,     0.00,2,     0.01,     0.08,2,     0.01,  -999.00,9,  -999.00,    2.402,2,    1.436,2,    0.287,2, -999.000,9,   -999.0,9,   -999.0,9,   -999.0,9,-999.0000,     -999,9, -999.000,9,  -999.00,9, -999.000,9, -999.000,   -999.0,9,   -999.0, -999.000,9, -999.000, -999.000,9, -999.000,   -999.0,9,   -999.0, -999.000,9, -999.000,9, -999.000,9
  49NZ20140717,   P01,    52,  1,     35, X12J35,2,20140721,0956, 40.3898, 147.3655, 5279,     50.3,2,  11.0860,2,  11.08169,2,  34.1847,2,  34.1803,2,-999.0000,9,   212.09,2,   212.32,2,   99.220,   0.0313,2,    0.188,2,  -999.00,9,    0.731,1,    0.000,2,    18.88,2,     0.09,    13.60,2,     0.02,     0.06,2,     0.01,     0.98,2,     0.01,  -999.00,9,  -999.00,    2.862,2,    1.628,2,    0.205,2, -999.000,9,   -999.0,9,   -999.0,9,   -999.0,9,-999.0000,     -999,9, -999.000,9,  -999.00,9, -999.000,9, -999.000,   -999.0,9,   -999.0, -999.000,9, -999.000, -999.000,9, -999.000,   -999.0,9,   -999.0, -999.000,9, -999.000,9, -999.000,9
  49NZ20140717,   P01,    52,  1,     34, X12J34,2,20140721,0956, 40.3898, 147.3655, 5279,    100.9,2,   6.6002,2,   6.59898,2,  33.6651,2,  33.6731,2,-999.0000,9,   245.13,2,   243.78,2,   99.677,   0.0129,2,    0.018,2,  -999.00,9,    1.389,1,    0.000,2,    26.76,2,     0.09,    17.64,2,     0.03,     0.01,2,     0.01,     1.35,2,     0.01,  -999.00,9,  -999.00,    3.848,2,    2.096,2,    0.293,2, -999.000,9,   -999.0,9,   -999.0,9,   -999.0,9,-999.0000,     -999,9, -999.000,9,  -999.00,9, -999.000,9, -999.000,   -999.0,9,   -999.0, -999.000,9, -999.000, -999.000,9, -999.000,   -999.0,9,   -999.0, -999.000,9, -999.000,9, -999.000,9
  49NZ20140717,   P01,    52,  1,     33, X12J33,2,20140721,0956, 40.3898, 147.3655, 5279,    151.8,2,   5.7307,2,   5.73610,2,  33.6618,2,  33.6655,2,-999.0000,9,   237.65,2,   236.36,2,   99.638,   0.0145,2,    0.003,2,  -999.00,9,    1.415,1,    0.000,2,    34.78,2,     0.10,    20.34,2,     0.03,     0.01,2,     0.01,     1.54,2,     0.01,  -999.00,9,  -999.00,    3.835,2,    2.085,2,    0.306,2, -999.000,9,   -999.0,9,   -999.0,9,   -999.0,9,-999.0000,     -999,9, -999.000,9,  -999.00,9, -999.000,9, -999.000,   -999.0,9,   -999.0, -999.000,9, -999.000, -999.000,9, -999.000,   -999.0,9,   -999.0, -999.000,9, -999.000,9, -999.000,9
  49NZ20140717,   P01,    52,  1,     32, X12J32,2,20140721,0956, 40.3898, 147.3655, 5279,    200.2,2,   4.9992,2,   5.00407,2,  33.6461,2,  33.6482,2,-999.0000,9,   234.71,2,   233.97,2,   99.643,   0.0143,2,    0.001,2,  -999.00,9,    1.552,1,    0.000,2,    39.92,2,     0.10,    21.91,2,     0.03,     0.01,2,     0.01,     1.66,2,     0.01,  -999.00,9,  -999.00,    3.918,2,    2.119,2,    0.281,2, -999.000,9,   -999.0,9,   -999.0,9,   -999.0,9,-999.0000,     -999,9, -999.000,9,  -999.00,9, -999.000,9, -999.000,   -999.0,9,   -999.0, -999.000,9, -999.000, -999.000,9, -999.000,   -999.0,9,   -999.0, -999.000,9, -999.000,9, -999.000,9
  49NZ20140717,   P01,    52,  1,     31, X12J31,2,20140721,0956, 40.3898, 147.3655, 5279,    249.7,2,   3.6620,2,   3.65098,2,  33.5858,2,  33.5959,2,-999.0000,9,   214.19,2,   212.77,2,   99.595,   0.0162,2,    0.002,2,  -999.00,9,    1.787,1,    0.000,2,    52.32,2,     0.11,    26.77,2,     0.04,     0.01,2,     0.01,     2.02,2,     0.01,  -999.00,9,  -999.00,    3.958,2,    2.116,2,    0.316,2, -999.000,9,   -999.0,9,   -999.0,9,   -999.0,9,-999.0000,     -999,9, -999.000,9,  -999.00,9, -999.000,9, -999.000,   -999.0,9,   -999.0, -999.000,9, -999.000, -999.000,9, -999.000,   -999.0,9,   -999.0, -999.000,9, -999.000,9, -999.000,9
  49NZ20140717,   P01,    52,  1,     30, X12J30,2,20140721,0956, 40.3898, 147.3655, 5279,    331.1,2,   4.0768,2,   4.09836,2,  33.7833,2,  33.7601,2,-999.0000,9,   155.83,2,   156.83,2,   99.720,   0.0112,2,    0.003,2,  -999.00,9,    1.986,1,    0.000,2,    67.36,2,     0.12,    31.71,2,     0.04,     0.01,2,     0.01,     2.35,2,     0.01,  -999.00,9,  -999.00,    3.181,2,    1.718,2,    0.241,2, -999.000,9,   -999.0,9,   -999.0,9,   -999.0,9,-999.0000,     -999,9, -999.000,9,  -999.00,9, -999.000,9, -999.000,   -999.0,9,   -999.0, -999.000,9, -999.000, -999.000,9, -999.000,   -999.0,9,   -999.0, -999.000,9, -999.000,9, -999.000,9
  49NZ20140717,   P01,    52,  1,     29, X12J29,2,20140721,0956, 40.3898, 147.3655, 5279,    430.4,2,   3.0546,2,   3.05457,2,  33.8003,2,  33.7988,2,-999.0000,9,   107.43,2,   107.62,2,   99.684,   0.0127,2,    0.007,2,  -999.00,9,    2.419,1,    0.000,2,    88.32,2,     0.13,    37.55,2,     0.05,     0.00,2,     0.01,     2.76,2,     0.01,  -999.00,9,  -999.00,    2.837,2,    1.733,2,    0.246,2, -999.000,9,   -999.0,9,   -999.0,9,   -999.0,9,-999.0000,     -999,9, -999.000,9,  -999.00,9, -999.000,9, -999.000,   -999.0,9,   -999.0, -999.000,9, -999.000, -999.000,9, -999.000,   -999.0,9,   -999.0, -999.000,9, -999.000,9, -999.000,9
  49NZ20140717,   P01,    52,  1,     28, X12J28,2,20140721,0956, 40.3898, 147.3655, 5279,    529.8,2,   3.5318,2,   3.52905,2,  33.9934,2,  33.9904,2,-999.0000,9,    67.13,2,    67.78,2,   99.755,   0.0098,2,    0.006,2,  -999.00,9,    2.632,1,    0.000,2,   101.82,2,     0.14,    40.14,2,     0.05,     0.00,2,     0.01,     2.91,2,     0.01,  -999.00,9,  -999.00,    1.875,2,    1.153,2,    0.181,2, -999.000,9,   -999.0,9,   -999.0,9,   -999.0,9,-999.0000,     -999,9, -999.000,9,  -999.00,9, -999.000,9, -999.000,   -999.0,9,   -999.0, -999.000,9, -999.000, -999.000,9, -999.000,   -999.0,9,   -999.0, -999.000,9, -999.000,9, -999.000,9
  49NZ20140717,   P01,    52,  1,     27, X12J27,2,20140721,0956, 40.3898, 147.3655, 5279,    629.1,2,   3.3358,2,   3.33829,2,  34.0987,2,  34.0965,2,-999.0000,9,    43.85,2,    44.30,2,   99.776,   0.0090,2,    0.007,2,  -999.00,9,    2.765,1,    0.000,2,   116.38,2,     0.15,    42.04,2,     0.05,     0.00,2,     0.01,     3.02,2,     0.01,  -999.00,9,  -999.00,    1.399,2,    1.016,2,    0.147,2, -999.000,9,   -999.0,9,   -999.0,9,   -999.0,9,-999.0000,     -999,9, -999.000,9,  -999.00,9, -999.000,9, -999.000,   -999.0,9,   -999.0, -999.000,9, -999.000, -999.000,9, -999.000,   -999.0,9,   -999.0, -999.000,9, -999.000,9, -999.000,9
  49NZ20140717,   P01,    52,  1,     26, X12J26,2,20140721,0956, 40.3898, 147.3655, 5279,    729.9,2,   3.4001,2,   3.39984,2,  34.2229,2,  34.2217,2,-999.0000,9,    37.21,2,    37.58,2,   99.841,   0.0064,2,    0.006,2,  -999.00,9,    2.652,1,    0.000,2,   123.70,2,     0.15,    42.12,2,     0.05,     0.00,2,     0.01,     3.02,2,     0.01,  -999.00,9,  -999.00,    0.747,2,    0.391,2,    0.057,2, -999.000,9,   -999.0,9,   -999.0,9,   -999.0,9,-999.0000,     -999,9, -999.000,9,  -999.00,9, -999.000,9, -999.000,   -999.0,9,   -999.0, -999.000,9, -999.000, -999.000,9, -999.000,   -999.0,9,   -999.0, -999.000,9, -999.000,9, -999.000,9
  49NZ20140717,   P01,    52,  1,     25, X12J25,2,20140721,0956, 40.3898, 147.3655, 5279,    830.3,2,   3.1775,2,   3.17696,2,  34.2824,2,  34.2822,2,-999.0000,9,    34.54,2,    34.84,2,   99.813,   0.0075,2,    0.006,2,  -999.00,9,    2.731,1,    0.000,2,   132.27,2,     0.16,    42.43,2,     0.05,     0.00,2,     0.01,     3.05,2,     0.01,  -999.00,9,  -999.00,    0.548,2,    0.289,2,    0.043,2, -999.000,9,   -999.0,9,   -999.0,9,   -999.0,9,-999.0000,     -999,9, -999.000,9,  -999.00,9, -999.000,9, -999.000,   -999.0,9,   -999.0, -999.000,9, -999.000, -999.000,9, -999.000,   -999.0,9,   -999.0, -999.000,9, -999.000,9, -999.000,9
  49NZ20140717,   P01,    52,  1,     24, X12J24,2,20140721,0956, 40.3898, 147.3655, 5279,    931.2,2,   3.0482,2,   3.04765,2,  34.3469,2,  34.3459,2,-999.0000,9,    35.62,2,    35.71,2,   99.852,   0.0059,2,    0.005,2,  -999.00,9,    2.755,1,    0.000,2,   137.63,2,     0.16,    42.46,2,     0.05,     0.00,2,     0.01,     3.05,2,     0.01,  -999.00,9,  -999.00,    0.358,2,    0.180,2,    0.026,2, -999.000,9,   -999.0,9,   -999.0,9,   -999.0,9,-999.0000,     -999,9, -999.000,9,  -999.00,9, -999.000,9, -999.000,   -999.0,9,   -999.0, -999.000,9, -999.000, -999.000,9, -999.000,   -999.0,9,   -999.0, -999.000,9, -999.000,9, -999.000,9
  49NZ20140717,   P01,    52,  1,     23, X12J23,2,20140721,0956, 40.3898, 147.3655, 5279,   1070.3,2,   2.7460,2,   2.74603,2,  34.3918,2,  34.3912,2,-999.0000,9,    33.31,2,    33.40,2,   99.839,   0.0065,2,    0.006,2,  -999.00,9,    2.771,1,    0.000,2,   147.57,2,     0.17,    42.89,2,     0.05,     0.00,2,     0.01,     3.08,2,     0.01,  -999.00,9,  -999.00,    0.262,2,    0.131,2,    0.026,2, -999.000,9,   -999.0,9,   -999.0,9,   -999.0,9,-999.0000,     -999,9, -999.000,9,  -999.00,9, -999.000,9, -999.000,   -999.0,9,   -999.0, -999.000,9, -999.000, -999.000,9, -999.000,   -999.0,9,   -999.0, -999.000,9, -999.000,9, -999.000,9
  49NZ20140717,   P01,    52,  1,     22, X12J22,2,20140721,0956, 40.3898, 147.3655, 5279,   1271.2,2,   2.5214,2,   2.52119,2,  34.4631,2,  34.4630,2,-999.0000,9,    39.70,2,    39.80,2,   99.856,   0.0058,2,    0.005,2,  -999.00,9,    2.769,1,    0.000,2,   153.95,2,     0.17,    42.69,2,     0.05,     0.00,2,     0.01,     3.06,2,     0.01,  -999.00,9,  -999.00,    0.129,2,    0.065,2,    0.014,2, -999.000,9,   -999.0,9,   -999.0,9,   -999.0,9,-999.0000,     -999,9, -999.000,9,  -999.00,9, -999.000,9, -999.000,   -999.0,9,   -999.0, -999.000,9, -999.000, -999.000,9, -999.000,   -999.0,9,   -999.0, -999.000,9, -999.000,9, -999.000,9
  49NZ20140717,   P01,    52,  1,     21, X12J21,2,20140721,0956, 40.3898, 147.3655, 5279,   1470.8,2,   2.3337,2,   2.33344,2,  34.5045,2,  34.5044,2,-999.0000,9,    45.80,2,    46.13,2,   99.860,   0.0056,2,    0.004,2,  -999.00,9,    2.770,1,    0.000,2,   158.70,2,     0.17,    42.46,2,     0.05,     0.00,2,     0.01,     3.03,2,     0.01,  -999.00,9,  -999.00,    0.082,2,    0.041,2,    0.013,2, -999.000,9,   -999.0,9,   -999.0,9,   -999.0,9,-999.0000,     -999,9, -999.000,9,  -999.00,9, -999.000,9, -999.000,   -999.0,9,   -999.0, -999.000,9, -999.000, -999.000,9, -999.000,   -999.0,9,   -999.0, -999.000,9, -999.000,9, -999.000,9
  49NZ20140717,   P01,    52,  1,     20, X12J20,2,20140721,0956, 40.3898, 147.3655, 5279,   1671.5,2,   2.1693,2,   2.16933,2,  34.5465,2,  34.5463,2,-999.0000,9,    55.56,2,    55.86,2,   99.871,   0.0052,2,    0.003,2,  -999.00,9,    2.664,1,    0.000,2,   161.35,2,     0.17,    42.00,2,     0.05,     0.00,2,     0.01,     2.99,2,     0.01,  -999.00,9,  -999.00,    0.032,2,    0.018,2,    0.000,2, -999.000,9,   -999.0,9,   -999.0,9,   -999.0,9,-999.0000,     -999,9, -999.000,9,  -999.00,9, -999.000,9, -999.000,   -999.0,9,   -999.0, -999.000,9, -999.000, -999.000,9, -999.000,   -999.0,9,   -999.0, -999.000,9, -999.000,9, -999.000,9
  49NZ20140717,   P01,    52,  1,     19, X12J19,2,20140721,0956, 40.3898, 147.3655, 5279,   1870.7,2,   2.0083,2,   2.00805,2,  34.5798,2,  34.5793,2,-999.0000,9,    67.94,2,    68.15,2,   99.869,   0.0052,2,    0.002,2,  -999.00,9,    2.647,1,    0.000,2,   162.71,2,     0.18,    41.29,2,     0.05,     0.00,2,     0.01,     2.93,2,     0.01,  -999.00,9,  -999.00,    0.009,2,    0.005,2,    0.000,2, -999.000,9,   -999.0,9,   -999.0,9,   -999.0,9,-999.0000,     -999,9, -999.000,9,  -999.00,9, -999.000,9, -999.000,   -999.0,9,   -999.0, -999.000,9, -999.000, -999.000,9, -999.000,   -999.0,9,   -999.0, -999.000,9, -999.000,9, -999.000,9
  49NZ20140717,   P01,    52,  1,     18, X12J18,2,20140721,0956, 40.3898, 147.3655, 5279,   2071.3,2,   1.8800,2,   1.88003,2,  34.6050,2,  34.6047,2,-999.0000,9,    81.49,2,    81.45,2,   99.888,   0.0045,2,    0.001,2,  -999.00,9,    2.476,1,    0.000,2,   162.35,2,     0.18,    40.54,2,     0.05,     0.00,2,     0.01,     2.86,2,     0.01,  -999.00,9,  -999.00,    0.000,2,    0.002,2,    0.000,2, -999.000,9,   -999.0,9,   -999.0,9,   -999.0,9,-999.0000,     -999,9, -999.000,9,  -999.00,9, -999.000,9, -999.000,   -999.0,9,   -999.0, -999.000,9, -999.000, -999.000,9, -999.000,   -999.0,9,   -999.0, -999.000,9, -999.000,9, -999.000,9
  49NZ20140717,   P01,    52,  1,     17, X12J17,2,20140721,0956, 40.3898, 147.3655, 5279,   2270.5,2,   1.7897,2,   1.78936,2,  34.6208,2,  34.6206,2,-999.0000,9,    91.45,2,    91.31,2,   99.912,   0.0035,2,    0.000,2,  -999.00,9,    2.466,1,    0.000,2,   162.05,2,     0.18,    39.88,2,     0.05,     0.00,2,     0.01,     2.82,2,     0.01,  -999.00,9,  -999.00,    0.001,2,    0.000,2,    0.000,2, -999.000,9,   -999.0,9,   -999.0,9,   -999.0,9,-999.0000,     -999,9, -999.000,9,  -999.00,9, -999.000,9, -999.000,   -999.0,9,   -999.0, -999.000,9, -999.000, -999.000,9, -999.000,   -999.0,9,   -999.0, -999.000,9, -999.000,9, -999.000,9
  49NZ20140717,   P01,    52,  1,     16, X12J16,2,20140721,0956, 40.3898, 147.3655, 5279,   2470.4,2,   1.7058,2,   1.70583,2,  34.6356,2,  34.6352,2,-999.0000,9,   102.33,2,   102.35,2,   99.936,   0.0026,2,   -0.001,2,  -999.00,9,    2.422,1,    0.000,2,   161.07,2,     0.17,    39.23,2,     0.05,     0.00,2,     0.01,     2.76,2,     0.01,  -999.00,9,  -999.00,    0.000,2,    0.000,2,    0.000,2, -999.000,9,   -999.0,9,   -999.0,9,   -999.0,9,-999.0000,     -999,9, -999.000,9,  -999.00,9, -999.000,9, -999.000,   -999.0,9,   -999.0, -999.000,9, -999.000, -999.000,9, -999.000,   -999.0,9,   -999.0, -999.000,9, -999.000,9, -999.000,9
  49NZ20140717,   P01,    52,  1,     15, X12J15,2,20140721,0956, 40.3898, 147.3655, 5279,   2671.3,2,   1.6412,2,   1.64133,2,  34.6473,2,  34.6467,2,-999.0000,9,   112.70,2,   112.47,2,   99.931,   0.0027,2,   -0.001,2,  -999.00,9,    2.353,1,    0.000,2,   159.00,2,     0.17,    38.59,2,     0.05,     0.00,2,     0.01,     2.72,2,     0.01,  -999.00,9,  -999.00,    0.000,2,    0.000,2,    0.000,2, -999.000,9,   -999.0,9,   -999.0,9,   -999.0,9,-999.0000,     -999,9, -999.000,9,  -999.00,9, -999.000,9, -999.000,   -999.0,9,   -999.0, -999.000,9, -999.000, -999.000,9, -999.000,   -999.0,9,   -999.0, -999.000,9, -999.000,9, -999.000,9
  49NZ20140717,   P01,    52,  1,     14, X12J14,2,20140721,0956, 40.3898, 147.3655, 5279,   2872.1,2,   1.5878,2,   1.58792,2,  34.6560,2,  34.6555,2,-999.0000,9,   120.01,2,   119.87,2,   99.944,   0.0022,2,   -0.002,2,  -999.00,9,    2.307,1,    0.000,2,   158.11,2,     0.17,    38.08,2,     0.05,     0.00,2,     0.01,     2.67,2,     0.01,  -999.00,9,  -999.00,    0.000,2,    0.000,2,    0.000,2, -999.000,9,   -999.0,9,   -999.0,9,   -999.0,9,-999.0000,     -999,9, -999.000,9,  -999.00,9, -999.000,9, -999.000,   -999.0,9,   -999.0, -999.000,9, -999.000, -999.000,9, -999.000,   -999.0,9,   -999.0, -999.000,9, -999.000,9, -999.000,9
  49NZ20140717,   P01,    52,  1,     13, X12113,2,20140721,0956, 40.3898, 147.3655, 5279,   3080.9,2,   1.5473,2,   1.54726,2,  34.6633,2,  34.6631,2,-999.0000,9,   127.52,2,   127.29,2,   99.923,   0.0031,2,   -0.002,2,  -999.00,9,    2.326,1,    0.000,2,   156.51,2,     0.17,    37.61,2,     0.05,    -0.01,2,     0.01,     2.64,2,     0.01,  -999.00,9,  -999.00,    0.000,2,    0.000,2,    0.000,2, -999.000,9,   -999.0,9,   -999.0,9,   -999.0,9,-999.0000,     -999,9, -999.000,9,  -999.00,9, -999.000,9, -999.000,   -999.0,9,   -999.0, -999.000,9, -999.000, -999.000,9, -999.000,   -999.0,9,   -999.0, -999.000,9, -999.000,9, -999.000,9
  49NZ20140717,   P01,    52,  1,     12, X12J12,2,20140721,0956, 40.3898, 147.3655, 5279,   5079.8,2,   1.5172,2,   1.51723,2,  34.6901,2,  34.6898,2,-999.0000,9,   159.01,2,   159.29,2,   99.830,   0.0068,2,   -0.004,2,  -999.00,9,   -1.796,4,    0.000,2,  -999.00,9,  -999.00,  -999.00,9,  -999.00,  -999.00,9,  -999.00,  -999.00,9,  -999.00,  -999.00,9,  -999.00, -999.000,9, -999.000,9, -999.000,9, -999.000,9,   -999.0,9,   -999.0,9,   -999.0,9,-999.0000,     -999,9, -999.000,9,  -999.00,9, -999.000,9, -999.000,   -999.0,9,   -999.0, -999.000,9, -999.000, -999.000,9, -999.000,   -999.0,9,   -999.0, -999.000,9, -999.000,9, -999.000,9
  49NZ20140717,   P01,    52,  1,     11, X12J11,2,20140721,0956, 40.3898, 147.3655, 5279,   3581.1,2,   1.4882,2,   1.48833,2,  34.6755,2,  34.6752,2,-999.0000,9,   140.77,2,   140.71,2,   99.931,   0.0027,2,   -0.003,2,  -999.00,9,    2.097,1,    0.000,2,   153.51,2,     0.17,    36.73,2,     0.05,    -0.01,2,     0.01,     2.56,2,     0.01,  -999.00,9,  -999.00,    0.000,2,    0.000,2,    0.000,2, -999.000,9,   -999.0,9,   -999.0,9,   -999.0,9,-999.0000,     -999,9, -999.000,9,  -999.00,9, -999.000,9, -999.000,   -999.0,9,   -999.0, -999.000,9, -999.000, -999.000,9, -999.000,   -999.0,9,   -999.0, -999.000,9, -999.000,9, -999.000,9
  49NZ20140717,   P01,    52,  1,     10, X12J10,2,20140721,0956, 40.3898, 147.3655, 5279,   3830.6,2,   1.4701,2,   1.46991,2,  34.6799,2,  34.6794,2,-999.0000,9,   146.43,2,   146.13,2,   99.923,   0.0031,2,   -0.003,2,  -999.00,9,    2.163,1,    0.000,2,   152.11,2,     0.17,    36.29,2,     0.05,    -0.01,2,     0.01,     2.54,2,     0.01,  -999.00,9,  -999.00,    0.000,2,    0.000,2,    0.000,2, -999.000,9,   -999.0,9,   -999.0,9,   -999.0,9,-999.0000,     -999,9, -999.000,9,  -999.00,9, -999.000,9, -999.000,   -999.0,9,   -999.0, -999.000,9, -999.000, -999.000,9, -999.000,   -999.0,9,   -999.0, -999.000,9, -999.000,9, -999.000,9