BOTTLE,20230904JAMSTECRIGC
EXPOCODE,SECT,STNNBR,CASTNO,SAMPNO,BTLNBR,BTLNBR_FLAG_W,DATE,TIME,LATITUDE,LONGITUDE,DEPTH,CTDPRS,CTDPRS_FLAG_W,CTDTMP,CTDTMP_FLAG_W,SBE35,SBE35_FLAG_W,CTDSAL,CTDSAL_FLAG_W,SALNTY,SALNTY_FLAG_W,DNSSAL,DNSSAL_FLAG_W,CTDOXY,CTDOXY_FLAG_W,OXYGEN,OXYGEN_FLAG_W,XMISS,XMISSCP,XMISS_FLAG_W,FLUOR,FLUOR_FLAG_W,CHLORA,CHLORA_FLAG_W,CDOM,CDOM_FLAG_W,PAR,PAR_FLAG_W,SILCAT,SILCAT_FLAG_W,SILUNC,NITRAT,NITRAT_FLAG_W,NRAUNC,NITRIT,NITRIT_FLAG_W,NRIUNC,PHSPHT,PHSPHT_FLAG_W,PHPUNC,AMMONIA,AMMONIA_FLAG_W,NH4UNC,CFC-11,CFC-11_FLAG_W,CFC-12,CFC-12_FLAG_W,CFC113,CFC113_FLAG_W,SF6,SF6_FLAG_W,TCARBN,TCARBN_FLAG_W,ALKALI,ALKALI_FLAG_W,ALKALI_POT,ALKALI_POT_FLAG_W,PH_TOT,PH_TMP,PH_TOT_FLAG_W,CALCIUM,CALCIUM_FLAG_W,DOC,DOC_FLAG_W,DELC13,DELC13_FLAG_W,C13ERR,DELC14,DELC14_FLAG_W,C14ERR,CS-134,CS-134_FLAG_W,CS134ER,CS-137,CS-137_FLAG_W,CS137ER,I-129,I-129_FLAG_W,I-129ER,CDOM-325,CDOM-325_FLAG_W,CDOM-370,CDOM-370_FLAG_W,CDOM-443,CDOM-443_FLAG_W
,,,,,,,,UTC,DEG,DEG,METERS,DBAR,,ITS-90,,ITS-90,,PSS-78,,PSS-78,,G/KG,,UMOL/KG,,UMOL/KG,,%TRANS,/METER,,MG/CUM,,MG/CUM,,MG/CUM,,UE/SQM/S,,UMOL/KG,,UMOL/KG,UMOL/KG,,UMOL/KG,UMOL/KG,,UMOL/KG,UMOL/KG,,UMOL/KG,UMOL/KG,,UMOL/KG,PMOL/KG,,PMOL/KG,,PMOL/KG,,FMOL/KG,,UMOL/KG,,UMOL/KG,,UMOL/KG,,,DEG C,,MMOL/KG,,UMOL/KG,,/MILLE,,/MILLE,/MILLE,,/MILLE,MBQ/KG,,MBQ/KG,MBQ/KG,,MBQ/KG,,,,/METER,,/METER,,/METER,
  49NZ20140717,   P01,   149,  1,      0,   -999,9,20140822,1829, 46.9982,-125.0603, 1049,   -999.0,9,-999.0000,9,-999.00000,9,-999.0000,9,  31.8840,2,-999.0000,9,  -999.00,9,  -999.00,9, -999.000,-999.0000,9, -999.000,9,     0.60,2, -999.000,9, -999.000,9,    11.87,2,     0.09,     0.08,2,     0.02,     0.02,2,     0.01,     0.36,2,     0.01,  -999.00,9,  -999.00, -999.000,9, -999.000,9, -999.000,9, -999.000,9,   -999.0,9,   -999.0,9,   -999.0,9,-999.0000,     -999,9, -999.000,9,  -999.00,9, -999.000,9, -999.000,   -999.0,9,   -999.0, -999.000,9, -999.000, -999.000,9, -999.000,   -999.0,9,   -999.0,    0.624,2,    0.283,2,    0.094,2
  49NZ20140717,   P01,   149,  1,     36, X12J36,2,20140822,1829, 46.9982,-125.0603, 1049,     10.1,2,  14.1851,2,  14.26889,2,  31.9924,2,  32.0824,2,  32.2358,2,   264.14,2,   272.94,2,   96.182,   0.1557,2,    0.296,2,     0.66,2,    2.097,1,  169.634,2,    10.04,2,     0.09,     0.90,2,     0.01,     0.09,2,     0.01,     0.48,2,     0.01,  -999.00,9,  -999.00,    3.178,2,    1.914,2,    0.313,2,    2.210,2,   1962.9,2,   2174.4,2,   -999.0,9,   7.9030,       25,2, -999.000,9,  -999.00,9, -999.000,9, -999.000,   -999.0,9,   -999.0, -999.000,9, -999.000, -999.000,9, -999.000,   -999.0,9,   -999.0,    0.527,2,    0.233,2,    0.070,2
  49NZ20140717,   P01,   149,  1,     35, X12J35,2,20140822,1829, 46.9982,-125.0603, 1049,     49.6,2,   8.1525,2,   8.15105,2,  32.6486,2,  32.6845,2,  32.8402,2,   238.49,2,   234.23,2,   98.779,   0.0491,2,    0.211,2,     0.24,2,    0.981,1,    3.976,2,    18.32,2,     0.09,    16.13,2,     0.03,     0.11,2,     0.01,     1.41,2,     0.01,  -999.00,9,  -999.00,    3.743,2,    2.223,2,    0.319,2,    2.500,2,   2081.2,6,   2192.5,2,   -999.0,9,   7.6740,       25,2, -999.000,9,    55.48,2, -999.000,9, -999.000,   -999.0,9,   -999.0, -999.000,9, -999.000, -999.000,9, -999.000,   -999.0,9,   -999.0,    0.231,2,    0.105,2,    0.036,2
  49NZ20140717,   P01,   149,  1,     34, X12J34,2,20140822,1829, 46.9982,-125.0603, 1049,    100.2,2,   7.7307,2,   7.73025,2,  33.5753,2,  33.5850,2,  33.7441,2,   149.15,2,   146.38,2,   99.350,   0.0261,2,    0.022,2,     0.04,2,    1.625,1,    0.252,2,    33.13,2,     0.10,    26.56,2,     0.04,     0.04,2,     0.01,     1.98,2,     0.01,  -999.00,9,  -999.00,    3.413,2,    1.996,2,    0.226,2,    1.730,2,   2181.7,2,   2237.5,2,   -999.0,9,   7.5036,       25,2, -999.000,9,    45.21,2, -999.000,9, -999.000,   -999.0,9,   -999.0, -999.000,9, -999.000, -999.000,9, -999.000,   -999.0,9,   -999.0,    0.230,2,    0.114,2,    0.045,2
  49NZ20140717,   P01,   149,  1,     33, X12J33,2,20140822,1829, 46.9982,-125.0603, 1049,    150.0,2,   7.5405,2,   7.54098,2,  33.8879,2,  33.8891,2,  34.0534,2,    98.88,2,    96.81,2,   98.660,   0.0540,2,    0.016,2,     0.04,2,    2.001,1,    0.000,2,    43.31,2,     0.10,    31.27,2,     0.04,     0.02,2,     0.01,     2.30,2,     0.01,  -999.00,9,  -999.00,    3.006,2,    1.711,2,    0.179,2,    1.230,2,   2229.6,2,   2260.7,2,   -999.0,9,   7.4176,       25,6, -999.000,9,    46.68,2, -999.000,9, -999.000,   -999.0,9,   -999.0, -999.000,9, -999.000, -999.000,9, -999.000,   -999.0,9,   -999.0, -999.000,9, -999.000,9, -999.000,9
  49NZ20140717,   P01,   149,  1,     32, X12J32,2,20140822,1829, 46.9982,-125.0603, 1049,    199.1,2,   7.3119,2,   7.31097,2,  33.9348,2,  33.9339,2,  34.0969,2,    84.87,2,    82.99,2,   98.358,   0.0662,2,    0.015,2,     0.02,2,    2.167,1,    0.000,2,    47.97,2,     0.10,    32.70,2,     0.04,     0.02,2,     0.01,     2.42,2,     0.01,  -999.00,9,  -999.00,    2.848,2,    1.610,2,    0.163,2,    1.050,2,   2241.9,2,   2266.4,6,   -999.0,9,   7.3918,       25,2, -999.000,9,    46.94,2, -999.000,9, -999.000,   -999.0,9,   -999.0, -999.000,9, -999.000, -999.000,9, -999.000,   -999.0,9,   -999.0,    0.223,2,    0.104,2,    0.040,2
  49NZ20140717,   P01,   149,  1,     31, X12J31,2,20140822,1829, 46.9982,-125.0603, 1049,    249.9,2,   7.1230,2,   7.12255,2,  33.9410,2,  33.9410,2,  34.1048,2,    68.80,2,    69.73,2,   97.625,   0.0961,2,    0.013,2,     0.02,2,    2.391,1,    0.000,2,    52.30,2,     0.11,    33.87,2,     0.05,     0.02,2,     0.01,     2.53,2,     0.01,  -999.00,9,  -999.00,    2.756,2,    1.555,2,    0.158,2,    0.990,2,   2257.3,2,   2266.4,2,   -999.0,9,   7.3602,       25,2, -999.000,9,    48.78,3, -999.000,9, -999.000,   -999.0,9,   -999.0, -999.000,9, -999.000, -999.000,9, -999.000,   -999.0,9,   -999.0, -999.000,9, -999.000,9, -999.000,9
  49NZ20140717,   P01,   149,  1,     30, X12J30,2,20140822,1829, 46.9982,-125.0603, 1049,    277.9,2,   7.0310,2,   7.03091,2,  33.9529,2,  33.9527,2,  34.1174,2,    69.36,2,    70.00,2,   97.692,   0.0934,2,    0.020,2,  -999.00,9,    2.388,1,    0.000,2,    53.05,2,     0.11,    34.09,2,     0.05,     0.03,2,     0.01,     2.54,2,     0.01,  -999.00,9,  -999.00,    2.699,2,    1.492,2,    0.152,2,    0.850,2,   2257.3,2,   2271.1,2,   -999.0,9,   7.3643,       25,2, -999.000,9,    46.45,2, -999.000,9, -999.000,   -999.0,9,   -999.0, -999.000,9, -999.000, -999.000,9, -999.000,   -999.0,9,   -999.0,    0.240,2,    0.111,2,    0.042,2
  49NZ20140717,   P01,   149,  1,     29, X12J29,2,20140822,1829, 46.9982,-125.0603, 1049,    369.0,2,   6.3994,2,   6.39913,2,  33.9937,2,  33.9935,2,  34.1582,2,    68.03,2,    68.73,2,   99.402,   0.0240,2,    0.011,2,  -999.00,9,    2.415,1,    0.000,2,    58.44,2,     0.11,    35.84,2,     0.05,     0.01,2,     0.01,     2.59,2,     0.01,  -999.00,9,  -999.00,    2.354,2,    1.255,2,    0.129,2,    0.710,2,   2265.5,2,   2279.0,2,   -999.0,9,   7.3695,       25,2, -999.000,9,    45.99,2, -999.000,9, -999.000,   -999.0,9,   -999.0, -999.000,9, -999.000, -999.000,9, -999.000,   -999.0,9,   -999.0, -999.000,9, -999.000,9, -999.000,9
  49NZ20140717,   P01,   149,  1,     28, X12J28,2,20140822,1829, 46.9982,-125.0603, 1049,    470.9,2,   5.6084,2,   5.60774,2,  34.0384,2,  34.0395,2,  34.2057,2,    45.30,2,    45.90,2,   99.467,   0.0214,2,    0.010,2,  -999.00,9,    2.698,1,    0.000,2,    72.14,2,     0.12,    39.08,2,     0.05,     0.02,2,     0.01,     2.83,2,     0.01,  -999.00,9,  -999.00,    1.728,2,    0.897,2,    0.085,2,    0.420,2,   2293.7,2,   2295.2,2,   -999.0,9,   7.3268,       25,2, -999.000,9,    42.73,2, -999.000,9, -999.000,   -999.0,9,   -999.0, -999.000,9, -999.000, -999.000,9, -999.000,   -999.0,9,   -999.0,    0.254,2,    0.131,2,    0.051,2
  49NZ20140717,   P01,   149,  1,     27, X12J27,9,20140822,1829, 46.9982,-125.0603, 1049,   -999.0,9,-999.0000,9,-999.00000,9,-999.0000,9,-999.0000,9,-999.0000,9,  -999.00,9,  -999.00,9, -999.000,-999.0000,9, -999.000,9,  -999.00,9, -999.000,9, -999.000,9,  -999.00,9,  -999.00,  -999.00,9,  -999.00,  -999.00,9,  -999.00,  -999.00,9,  -999.00,  -999.00,9,  -999.00, -999.000,9, -999.000,9, -999.000,9, -999.000,9,   -999.0,9,   -999.0,9,   -999.0,9,-999.0000,     -999,9, -999.000,9,    43.64,9, -999.000,9, -999.000,   -999.0,9,   -999.0, -999.000,9, -999.000, -999.000,9, -999.000,   -999.0,9,   -999.0, -999.000,9, -999.000,9, -999.000,9
  49NZ20140717,   P01,   149,  1,     26, X12J26,2,20140822,1829, 46.9982,-125.0603, 1049,    668.5,2,   4.6421,2,   4.64060,2,  34.1874,2,  34.1894,2,  34.3587,2,    15.48,2,    15.68,2,   99.311,   0.0277,2,    0.011,2,  -999.00,9,    2.931,1,    0.000,2,    98.02,2,     0.14,    42.62,2,     0.05,     0.01,2,     0.01,     3.13,2,     0.01,  -999.00,9,  -999.00,    0.549,2,    0.300,2,    0.027,2,    0.120,2,   2340.6,6,   2328.1,2,   -999.0,9,   7.2894,       25,2, -999.000,9,    42.16,2, -999.000,9, -999.000,   -999.0,9,   -999.0, -999.000,9, -999.000, -999.000,9, -999.000,   -999.0,9,   -999.0, -999.000,9, -999.000,9, -999.000,9
  49NZ20140717,   P01,   149,  1,     25, X12J25,2,20140822,1829, 46.9982,-125.0603, 1049,    768.9,2,   4.1740,2,   4.17381,2,  34.2896,2,  34.2902,2,  34.4636,2,     9.34,2,     9.09,2,   99.510,   0.0196,2,    0.011,2,  -999.00,9,    2.975,1,    0.000,2,   112.30,2,     0.14,    43.50,2,     0.05,     0.01,2,     0.01,     3.21,2,     0.01,  -999.00,9,  -999.00, -999.000,5, -999.000,5, -999.000,5, -999.000,5,   2359.8,2,   2350.2,2,   -999.0,9,   7.2910,       25,2, -999.000,9,    39.83,2, -999.000,9, -999.000,   -999.0,9,   -999.0, -999.000,9, -999.000, -999.000,9, -999.000,   -999.0,9,   -999.0,    0.220,2,    0.114,2,    0.045,2
  49NZ20140717,   P01,   149,  1,     24, X12J24,2,20140822,1829, 46.9982,-125.0603, 1049,    870.0,2,   3.8845,2,   3.88509,2,  34.3395,2,  34.3395,2,  34.5150,2,    11.38,2,    11.23,2,   98.805,   0.0481,2,    0.011,2,  -999.00,9,    3.032,1,    0.000,2,   121.50,2,     0.15,    43.49,2,     0.05,     0.01,2,     0.01,     3.22,2,     0.01,  -999.00,9,  -999.00,    0.148,2,    0.094,2,    0.008,2,    0.050,2,   2366.9,2,   2360.9,2,   -999.0,9,   7.3009,       25,6, -999.000,9,    40.76,2, -999.000,9, -999.000,   -999.0,9,   -999.0, -999.000,9, -999.000, -999.000,9, -999.000,   -999.0,9,   -999.0, -999.000,9, -999.000,9, -999.000,9
  49NZ20140717,   P01,   149,  1,     23, X12J23,2,20140822,1829, 46.9982,-125.0603, 1049,    969.5,2,   3.6967,2,   3.69619,2,  34.3764,2,  34.3770,2,  34.5532,2,    11.23,2,    11.06,2,   98.608,   0.0561,2,    0.011,2,  -999.00,9,    2.994,1,    0.000,2,   127.11,2,     0.15,    43.71,2,     0.06,     0.02,2,     0.01,     3.23,2,     0.01,  -999.00,9,  -999.00,    0.083,2,    0.056,2,    0.009,2,    0.060,2,   2372.9,2,   2367.5,2,   -999.0,9,   7.3042,       25,2, -999.000,9,    38.33,2, -999.000,9, -999.000,   -999.0,9,   -999.0, -999.000,9, -999.000, -999.000,9, -999.000,   -999.0,9,   -999.0,    0.252,2,    0.131,2,    0.056,2
  49NZ20140717,   P01,   149,  1,     22, X12J22,9,20140822,1829, 46.9982,-125.0603, 1049,   -999.0,9,-999.0000,9,-999.00000,9,-999.0000,9,-999.0000,9,-999.0000,9,  -999.00,9,  -999.00,9, -999.000,-999.0000,9, -999.000,9,  -999.00,9, -999.000,9, -999.000,9,  -999.00,9,  -999.00,  -999.00,9,  -999.00,  -999.00,9,  -999.00,  -999.00,9,  -999.00,  -999.00,9,  -999.00, -999.000,9, -999.000,9, -999.000,9, -999.000,9,   -999.0,9,   -999.0,9,   -999.0,9,-999.0000,     -999,9, -999.000,9,  -999.00,9, -999.000,9, -999.000,   -999.0,9,   -999.0, -999.000,9, -999.000, -999.000,9, -999.000,   -999.0,9,   -999.0, -999.000,9, -999.000,9, -999.000,9
  49NZ20140717,   P01,   149,  1,     21, X12J21,9,20140822,1829, 46.9982,-125.0603, 1049,   -999.0,9,-999.0000,9,-999.00000,9,-999.0000,9,-999.0000,9,-999.0000,9,  -999.00,9,  -999.00,9, -999.000,-999.0000,9, -999.000,9,  -999.00,9, -999.000,9, -999.000,9,  -999.00,9,  -999.00,  -999.00,9,  -999.00,  -999.00,9,  -999.00,  -999.00,9,  -999.00,  -999.00,9,  -999.00, -999.000,9, -999.000,9, -999.000,9, -999.000,9,   -999.0,9,   -999.0,9,   -999.0,9,-999.0000,     -999,9, -999.000,9,  -999.00,9, -999.000,9, -999.000,   -999.0,9,   -999.0, -999.000,9, -999.000, -999.000,9, -999.000,   -999.0,9,   -999.0, -999.000,9, -999.000,9, -999.000,9
  49NZ20140717,   P01,   149,  1,     20, X12J20,9,20140822,1829, 46.9982,-125.0603, 1049,   -999.0,9,-999.0000,9,-999.00000,9,-999.0000,9,-999.0000,9,-999.0000,9,  -999.00,9,  -999.00,9, -999.000,-999.0000,9, -999.000,9,  -999.00,9, -999.000,9, -999.000,9,  -999.00,9,  -999.00,  -999.00,9,  -999.00,  -999.00,9,  -999.00,  -999.00,9,  -999.00,  -999.00,9,  -999.00, -999.000,9, -999.000,9, -999.000,9, -999.000,9,   -999.0,9,   -999.0,9,   -999.0,9,-999.0000,     -999,9, -999.000,9,  -999.00,9, -999.000,9, -999.000,   -999.0,9,   -999.0, -999.000,9, -999.000, -999.000,9, -999.000,   -999.0,9,   -999.0, -999.000,9, -999.000,9, -999.000,9
  49NZ20140717,   P01,   149,  1,     19, X12J19,9,20140822,1829, 46.9982,-125.0603, 1049,   -999.0,9,-999.0000,9,-999.00000,9,-999.0000,9,-999.0000,9,-999.0000,9,  -999.00,9,  -999.00,9, -999.000,-999.0000,9, -999.000,9,  -999.00,9, -999.000,9, -999.000,9,  -999.00,9,  -999.00,  -999.00,9,  -999.00,  -999.00,9,  -999.00,  -999.00,9,  -999.00,  -999.00,9,  -999.00, -999.000,9, -999.000,9, -999.000,9, -999.000,9,   -999.0,9,   -999.0,9,   -999.0,9,-999.0000,     -999,9, -999.000,9,  -999.00,9, -999.000,9, -999.000,   -999.0,9,   -999.0, -999.000,9, -999.000, -999.000,9, -999.000,   -999.0,9,   -999.0, -999.000,9, -999.000,9, -999.000,9
  49NZ20140717,   P01,   149,  1,     18, X12J18,9,20140822,1829, 46.9982,-125.0603, 1049,   -999.0,9,-999.0000,9,-999.00000,9,-999.0000,9,-999.0000,9,-999.0000,9,  -999.00,9,  -999.00,9, -999.000,-999.0000,9, -999.000,9,  -999.00,9, -999.000,9, -999.000,9,  -999.00,9,  -999.00,  -999.00,9,  -999.00,  -999.00,9,  -999.00,  -999.00,9,  -999.00,  -999.00,9,  -999.00, -999.000,9, -999.000,9, -999.000,9, -999.000,9,   -999.0,9,   -999.0,9,   -999.0,9,-999.0000,     -999,9, -999.000,9,  -999.00,9, -999.000,9, -999.000,   -999.0,9,   -999.0, -999.000,9, -999.000, -999.000,9, -999.000,   -999.0,9,   -999.0, -999.000,9, -999.000,9, -999.000,9
  49NZ20140717,   P01,   149,  1,     17, X12J17,9,20140822,1829, 46.9982,-125.0603, 1049,   -999.0,9,-999.0000,9,-999.00000,9,-999.0000,9,-999.0000,9,-999.0000,9,  -999.00,9,  -999.00,9, -999.000,-999.0000,9, -999.000,9,  -999.00,9, -999.000,9, -999.000,9,  -999.00,9,  -999.00,  -999.00,9,  -999.00,  -999.00,9,  -999.00,  -999.00,9,  -999.00,  -999.00,9,  -999.00, -999.000,9, -999.000,9, -999.000,9, -999.000,9,   -999.0,9,   -999.0,9,   -999.0,9,-999.0000,     -999,9, -999.000,9,  -999.00,9, -999.000,9, -999.000,   -999.0,9,   -999.0, -999.000,9, -999.000, -999.000,9, -999.000,   -999.0,9,   -999.0, -999.000,9, -999.000,9, -999.000,9
  49NZ20140717,   P01,   149,  1,     16, X12J16,9,20140822,1829, 46.9982,-125.0603, 1049,   -999.0,9,-999.0000,9,-999.00000,9,-999.0000,9,-999.0000,9,-999.0000,9,  -999.00,9,  -999.00,9, -999.000,-999.0000,9, -999.000,9,  -999.00,9, -999.000,9, -999.000,9,  -999.00,9,  -999.00,  -999.00,9,  -999.00,  -999.00,9,  -999.00,  -999.00,9,  -999.00,  -999.00,9,  -999.00, -999.000,9, -999.000,9, -999.000,9, -999.000,9,   -999.0,9,   -999.0,9,   -999.0,9,-999.0000,     -999,9, -999.000,9,  -999.00,9, -999.000,9, -999.000,   -999.0,9,   -999.0, -999.000,9, -999.000, -999.000,9, -999.000,   -999.0,9,   -999.0, -999.000,9, -999.000,9, -999.000,9
  49NZ20140717,   P01,   149,  1,     15, X12J15,9,20140822,1829, 46.9982,-125.0603, 1049,   -999.0,9,-999.0000,9,-999.00000,9,-999.0000,9,-999.0000,9,-999.0000,9,  -999.00,9,  -999.00,9, -999.000,-999.0000,9, -999.000,9,  -999.00,9, -999.000,9, -999.000,9,  -999.00,9,  -999.00,  -999.00,9,  -999.00,  -999.00,9,  -999.00,  -999.00,9,  -999.00,  -999.00,9,  -999.00, -999.000,9, -999.000,9, -999.000,9, -999.000,9,   -999.0,9,   -999.0,9,   -999.0,9,-999.0000,     -999,9, -999.000,9,  -999.00,9, -999.000,9, -999.000,   -999.0,9,   -999.0, -999.000,9, -999.000, -999.000,9, -999.000,   -999.0,9,   -999.0, -999.000,9, -999.000,9, -999.000,9
  49NZ20140717,   P01,   149,  1,     14, X12J14,9,20140822,1829, 46.9982,-125.0603, 1049,   -999.0,9,-999.0000,9,-999.00000,9,-999.0000,9,-999.0000,9,-999.0000,9,  -999.00,9,  -999.00,9, -999.000,-999.0000,9, -999.000,9,  -999.00,9, -999.000,9, -999.000,9,  -999.00,9,  -999.00,  -999.00,9,  -999.00,  -999.00,9,  -999.00,  -999.00,9,  -999.00,  -999.00,9,  -999.00, -999.000,9, -999.000,9, -999.000,9, -999.000,9,   -999.0,9,   -999.0,9,   -999.0,9,-999.0000,     -999,9, -999.000,9,  -999.00,9, -999.000,9, -999.000,   -999.0,9,   -999.0, -999.000,9, -999.000, -999.000,9, -999.000,   -999.0,9,   -999.0, -999.000,9, -999.000,9, -999.000,9
  49NZ20140717,   P01,   149,  1,     13, X12113,9,20140822,1829, 46.9982,-125.0603, 1049,   -999.0,9,-999.0000,9,-999.00000,9,-999.0000,9,-999.0000,9,-999.0000,9,  -999.00,9,  -999.00,9, -999.000,-999.0000,9, -999.000,9,  -999.00,9, -999.000,9, -999.000,9,  -999.00,9,  -999.00,  -999.00,9,  -999.00,  -999.00,9,  -999.00,  -999.00,9,  -999.00,  -999.00,9,  -999.00, -999.000,9, -999.000,9, -999.000,9, -999.000,9,   -999.0,9,   -999.0,9,   -999.0,9,-999.0000,     -999,9, -999.000,9,  -999.00,9, -999.000,9, -999.000,   -999.0,9,   -999.0, -999.000,9, -999.000, -999.000,9, -999.000,   -999.0,9,   -999.0, -999.000,9, -999.000,9, -999.000,9
  49NZ20140717,   P01,   149,  1,     12, X12J12,9,20140822,1829, 46.9982,-125.0603, 1049,   -999.0,9,-999.0000,9,-999.00000,9,-999.0000,9,-999.0000,9,-999.0000,9,  -999.00,9,  -999.00,9, -999.000,-999.0000,9, -999.000,9,  -999.00,9, -999.000,9, -999.000,9,  -999.00,9,  -999.00,  -999.00,9,  -999.00,  -999.00,9,  -999.00,  -999.00,9,  -999.00,  -999.00,9,  -999.00, -999.000,9, -999.000,9, -999.000,9, -999.000,9,   -999.0,9,   -999.0,9,   -999.0,9,-999.0000,     -999,9, -999.000,9,  -999.00,9, -999.000,9, -999.000,   -999.0,9,   -999.0, -999.000,9, -999.000, -999.000,9, -999.000,   -999.0,9,   -999.0, -999.000,9, -999.000,9, -999.000,9
  49NZ20140717,   P01,   149,  1,     11, X12J11,9,20140822,1829, 46.9982,-125.0603, 1049,   -999.0,9,-999.0000,9,-999.00000,9,-999.0000,9,-999.0000,9,-999.0000,9,  -999.00,9,  -999.00,9, -999.000,-999.0000,9, -999.000,9,  -999.00,9, -999.000,9, -999.000,9,  -999.00,9,  -999.00,  -999.00,9,  -999.00,  -999.00,9,  -999.00,  -999.00,9,  -999.00,  -999.00,9,  -999.00, -999.000,9, -999.000,9, -999.000,9, -999.000,9,   -999.0,9,   -999.0,9,   -999.0,9,-999.0000,     -999,9, -999.000,9,  -999.00,9, -999.000,9, -999.000,   -999.0,9,   -999.0, -999.000,9, -999.000, -999.000,9, -999.000,   -999.0,9,   -999.0, -999.000,9, -999.000,9, -999.000,9
  49NZ20140717,   P01,   149,  1,     10, X12J10,2,20140822,1829, 46.9982,-125.0603, 1049,    570.6,2,   5.0526,2,   5.05460,2,  34.1070,2,  34.1105,2,  34.2796,2,    26.60,2,    26.87,2,   99.660,   0.0136,2,    0.010,2,  -999.00,9,    2.853,1,    0.000,2,    85.61,2,     0.13,    41.30,2,     0.05,     0.01,2,     0.01,     3.02,2,     0.01,  -999.00,9,  -999.00,    1.052,2,    0.545,2,    0.049,2,    0.210,2,   2320.2,2,   2311.4,2,   -999.0,9,   7.2986,       25,2, -999.000,9,  -999.00,9, -999.000,9, -999.000,   -999.0,9,   -999.0, -999.000,9, -999.000, -999.000,9, -999.000,   -999.0,9,   -999.0, -999.000,9, -999.000,9, -999.000,9