BOTTLE,20230904JAMSTECRIGC
EXPOCODE,SECT,STNNBR,CASTNO,SAMPNO,BTLNBR,BTLNBR_FLAG_W,DATE,TIME,LATITUDE,LONGITUDE,DEPTH,CTDPRS,CTDPRS_FLAG_W,CTDTMP,CTDTMP_FLAG_W,SBE35,SBE35_FLAG_W,CTDSAL,CTDSAL_FLAG_W,SALNTY,SALNTY_FLAG_W,DNSSAL,DNSSAL_FLAG_W,CTDOXY,CTDOXY_FLAG_W,OXYGEN,OXYGEN_FLAG_W,XMISS,XMISSCP,XMISS_FLAG_W,FLUOR,FLUOR_FLAG_W,CHLORA,CHLORA_FLAG_W,CDOM,CDOM_FLAG_W,PAR,PAR_FLAG_W,SILCAT,SILCAT_FLAG_W,SILUNC,NITRAT,NITRAT_FLAG_W,NRAUNC,NITRIT,NITRIT_FLAG_W,NRIUNC,PHSPHT,PHSPHT_FLAG_W,PHPUNC,AMMONIA,AMMONIA_FLAG_W,NH4UNC,CFC-11,CFC-11_FLAG_W,CFC-12,CFC-12_FLAG_W,CFC113,CFC113_FLAG_W,SF6,SF6_FLAG_W,TCARBN,TCARBN_FLAG_W,ALKALI,ALKALI_FLAG_W,ALKALI_POT,ALKALI_POT_FLAG_W,PH_TOT,PH_TMP,PH_TOT_FLAG_W,CALCIUM,CALCIUM_FLAG_W,DOC,DOC_FLAG_W,DELC13,DELC13_FLAG_W,C13ERR,DELC14,DELC14_FLAG_W,C14ERR,CS-134,CS-134_FLAG_W,CS134ER,CS-137,CS-137_FLAG_W,CS137ER,I-129,I-129_FLAG_W,I-129ER,CDOM-325,CDOM-325_FLAG_W,CDOM-370,CDOM-370_FLAG_W,CDOM-443,CDOM-443_FLAG_W
,,,,,,,,UTC,DEG,DEG,METERS,DBAR,,ITS-90,,ITS-90,,PSS-78,,PSS-78,,G/KG,,UMOL/KG,,UMOL/KG,,%TRANS,/METER,,MG/CUM,,MG/CUM,,MG/CUM,,UE/SQM/S,,UMOL/KG,,UMOL/KG,UMOL/KG,,UMOL/KG,UMOL/KG,,UMOL/KG,UMOL/KG,,UMOL/KG,UMOL/KG,,UMOL/KG,PMOL/KG,,PMOL/KG,,PMOL/KG,,FMOL/KG,,UMOL/KG,,UMOL/KG,,UMOL/KG,,,DEG C,,MMOL/KG,,UMOL/KG,,/MILLE,,/MILLE,/MILLE,,/MILLE,MBQ/KG,,MBQ/KG,MBQ/KG,,MBQ/KG,,,,/METER,,/METER,,/METER,
  49NZ20140717,   P01,   114,  1,      9, X12J09,2,20140811,0633, 46.9944,-160.3605, 5132,   4000.3,2,   1.4837,2,   1.48383,2,  34.6804,2,  34.6802,2,-999.0000,9,   140.40,2,   140.45,2,   99.997,   0.0001,2,    0.010,2,  -999.00,9,    2.147,4,    0.000,2,   163.13,2,     0.18,    36.99,2,     0.05,     0.00,2,     0.01,     2.58,2,     0.01,  -999.00,9,  -999.00, -999.000,9, -999.000,9, -999.000,9, -999.000,9,   2339.7,2,   2423.0,2,   2418.1,2,   7.5623,       25,2,   10.342,2,    37.96,2, -999.000,9, -999.000,   -999.0,9,   -999.0, -999.000,9, -999.000, -999.000,9, -999.000,   -999.0,9,   -999.0, -999.000,9, -999.000,9, -999.000,9
  49NZ20140717,   P01,   114,  1,      8, X12J08,2,20140811,0633, 46.9944,-160.3605, 5132,   4249.8,2,   1.4937,2,   1.49392,2,  34.6830,2,  34.6830,2,-999.0000,9,   142.75,2,   143.02,2,   99.993,   0.0003,2,    0.009,2,  -999.00,9,    1.272,4,    0.000,2,   164.68,2,     0.18,    36.88,2,     0.05,     0.00,2,     0.01,     2.57,2,     0.01,  -999.00,9,  -999.00, -999.000,9, -999.000,9, -999.000,9, -999.000,9,   2338.7,6,   2428.1,2,   -999.0,9,   7.5682,       25,2, -999.000,9,    37.29,2, -999.000,9, -999.000,   -999.0,9,   -999.0, -999.000,9, -999.000, -999.000,9, -999.000,   -999.0,9,   -999.0, -999.000,9, -999.000,9, -999.000,9
  49NZ20140717,   P01,   114,  1,      7, X12J07,2,20140811,0633, 46.9944,-160.3605, 5132,   4501.6,2,   1.5103,2,   1.51034,2,  34.6846,2,  34.6847,2,-999.0000,9,   144.39,2,   144.63,2,   99.980,   0.0008,2,    0.009,2,  -999.00,9,   -1.635,4,    0.000,2,   165.81,2,     0.18,    36.79,2,     0.05,     0.00,2,     0.01,     2.56,2,     0.01,  -999.00,9,  -999.00, -999.000,9, -999.000,9, -999.000,9, -999.000,9,   2339.3,2,   2426.3,2,   -999.0,9,   7.5734,       25,2, -999.000,9,    38.21,2, -999.000,9, -999.000,   -999.0,9,   -999.0, -999.000,9, -999.000, -999.000,9, -999.000,   -999.0,9,   -999.0, -999.000,9, -999.000,9, -999.000,9
  49NZ20140717,   P01,   114,  1,      6, X12J06,2,20140811,0633, 46.9944,-160.3605, 5132,   4749.5,2,   1.5319,2,   1.53195,2,  34.6860,2,  34.6860,2,-999.0000,9,   145.38,2,   145.68,2,   99.971,   0.0012,2,    0.009,2,  -999.00,9,   -1.735,4,    0.000,2,   167.32,2,     0.18,    36.74,2,     0.05,     0.00,2,     0.01,     2.55,2,     0.01,  -999.00,9,  -999.00, -999.000,9, -999.000,9, -999.000,9, -999.000,9,   2337.1,2,   2428.9,2,   -999.0,9,   7.5764,       25,2, -999.000,9,    38.05,2, -999.000,9, -999.000,   -999.0,9,   -999.0, -999.000,9, -999.000, -999.000,9, -999.000,   -999.0,9,   -999.0, -999.000,9, -999.000,9, -999.000,9
  49NZ20140717,   P01,   114,  1,      5, X12J05,2,20140811,0633, 46.9944,-160.3605, 5132,   4999.9,2,   1.5578,2,   1.55776,2,  34.6867,2,  34.6867,2,-999.0000,9,   146.14,2,   146.69,2,   99.928,   0.0029,2,    0.009,2,  -999.00,9,   -1.887,4,    0.000,2,   168.30,2,     0.18,    36.65,2,     0.05,     0.00,2,     0.01,     2.55,2,     0.01,  -999.00,9,  -999.00, -999.000,9, -999.000,9, -999.000,9, -999.000,9,   2338.1,2,   2428.4,2,   2425.1,2,   7.5775,       25,2,   10.362,2,    37.26,2, -999.000,9, -999.000,   -999.0,9,   -999.0, -999.000,9, -999.000, -999.000,9, -999.000,   -999.0,9,   -999.0,    0.180,2,    0.111,2,    0.064,2
  49NZ20140717,   P01,   114,  1,      4, X12J04,2,20140811,0633, 46.9944,-160.3605, 5132,     10.3,2,  13.0772,2,  13.07571,2,  32.5813,2,-999.0000,9,-999.0000,9,   277.03,2,  -999.00,9,   89.900,   0.4259,2,    1.004,2,  -999.00,9,   -0.490,1,    0.427,2,  -999.00,9,  -999.00,  -999.00,9,  -999.00,  -999.00,9,  -999.00,  -999.00,9,  -999.00,  -999.00,9,  -999.00, -999.000,9, -999.000,9, -999.000,9, -999.000,9,   -999.0,9,   -999.0,9,   -999.0,9,-999.0000,     -999,9, -999.000,9,  -999.00,9, -999.000,9, -999.000,   -999.0,9,   -999.0, -999.000,9, -999.000, -999.000,9, -999.000,   -999.0,9,   -999.0, -999.000,9, -999.000,9, -999.000,9
  49NZ20140717,   P01,   114,  1,      3, X12J03,2,20140811,0633, 46.9944,-160.3605, 5132,     50.3,2,   7.0042,2,   7.00409,2,  33.0420,2,-999.0000,9,-999.0000,9,   302.83,2,  -999.00,9,   98.695,   0.0525,2,    0.287,2,  -999.00,9,    0.550,1,    0.000,2,  -999.00,9,  -999.00,  -999.00,9,  -999.00,  -999.00,9,  -999.00,  -999.00,9,  -999.00,  -999.00,9,  -999.00, -999.000,9, -999.000,9, -999.000,9, -999.000,9,   -999.0,9,   -999.0,9,   -999.0,9,-999.0000,     -999,9, -999.000,9,  -999.00,9, -999.000,9, -999.000,   -999.0,9,   -999.0, -999.000,9, -999.000, -999.000,9, -999.000,   -999.0,9,   -999.0, -999.000,9, -999.000,9, -999.000,9
  49NZ20140717,   P01,   114,  1,      2, X12J02,2,20140811,0633, 46.9944,-160.3605, 5132,    100.8,2,   6.4132,2,   6.41349,2,  33.2463,2,-999.0000,9,-999.0000,9,   286.15,2,  -999.00,9,   99.492,   0.0204,2,    0.121,2,  -999.00,9,    0.513,1,    0.000,2,  -999.00,9,  -999.00,  -999.00,9,  -999.00,  -999.00,9,  -999.00,  -999.00,9,  -999.00,  -999.00,9,  -999.00, -999.000,9, -999.000,9, -999.000,9, -999.000,9,   -999.0,9,   -999.0,9,   -999.0,9,-999.0000,     -999,9, -999.000,9,  -999.00,9, -999.000,9, -999.000,   -999.0,9,   -999.0, -999.000,9, -999.000, -999.000,9, -999.000,   -999.0,9,   -999.0, -999.000,9, -999.000,9, -999.000,9
  49NZ20140717,   P01,   114,  1,      1, X12J01,2,20140811,0633, 46.9944,-160.3605, 5132,   5215.2,2,   1.5832,2,   1.58286,2,  34.6869,2,  34.6870,2,-999.0000,9,   146.18,2,   146.70,2,   99.859,   0.0057,2,    0.009,2,  -999.00,9,   -1.357,4,    0.000,2,   169.94,2,     0.18,    36.66,2,     0.05,     0.00,2,     0.01,     2.55,2,     0.01,  -999.00,9,  -999.00, -999.000,9, -999.000,9, -999.000,9, -999.000,9,   2338.7,2,   2429.5,2,   2424.7,2,   7.5780,       25,2,   10.353,2,    36.94,2, -999.000,9, -999.000,   -999.0,9,   -999.0, -999.000,9, -999.000, -999.000,9, -999.000,   -999.0,9,   -999.0,    0.206,2,    0.126,2,    0.075,2