BOTTLE,20230904JAMSTECRIGC
EXPOCODE,SECT,STNNBR,CASTNO,SAMPNO,BTLNBR,BTLNBR_FLAG_W,DATE,TIME,LATITUDE,LONGITUDE,DEPTH,CTDPRS,CTDPRS_FLAG_W,CTDTMP,CTDTMP_FLAG_W,SBE35,SBE35_FLAG_W,CTDSAL,CTDSAL_FLAG_W,SALNTY,SALNTY_FLAG_W,DNSSAL,DNSSAL_FLAG_W,CTDOXY,CTDOXY_FLAG_W,OXYGEN,OXYGEN_FLAG_W,XMISS,XMISSCP,XMISS_FLAG_W,FLUOR,FLUOR_FLAG_W,CHLORA,CHLORA_FLAG_W,CDOM,CDOM_FLAG_W,PAR,PAR_FLAG_W,SILCAT,SILCAT_FLAG_W,SILUNC,NITRAT,NITRAT_FLAG_W,NRAUNC,NITRIT,NITRIT_FLAG_W,NRIUNC,PHSPHT,PHSPHT_FLAG_W,PHPUNC,AMMONIA,AMMONIA_FLAG_W,NH4UNC,CFC-11,CFC-11_FLAG_W,CFC-12,CFC-12_FLAG_W,CFC113,CFC113_FLAG_W,SF6,SF6_FLAG_W,TCARBN,TCARBN_FLAG_W,ALKALI,ALKALI_FLAG_W,ALKALI_POT,ALKALI_POT_FLAG_W,PH_TOT,PH_TMP,PH_TOT_FLAG_W,CALCIUM,CALCIUM_FLAG_W,DOC,DOC_FLAG_W,DELC13,DELC13_FLAG_W,C13ERR,DELC14,DELC14_FLAG_W,C14ERR,CS-134,CS-134_FLAG_W,CS134ER,CS-137,CS-137_FLAG_W,CS137ER,I-129,I-129_FLAG_W,I-129ER,CDOM-325,CDOM-325_FLAG_W,CDOM-370,CDOM-370_FLAG_W,CDOM-443,CDOM-443_FLAG_W
,,,,,,,,UTC,DEG,DEG,METERS,DBAR,,ITS-90,,ITS-90,,PSS-78,,PSS-78,,G/KG,,UMOL/KG,,UMOL/KG,,%TRANS,/METER,,MG/CUM,,MG/CUM,,MG/CUM,,UE/SQM/S,,UMOL/KG,,UMOL/KG,UMOL/KG,,UMOL/KG,UMOL/KG,,UMOL/KG,UMOL/KG,,UMOL/KG,UMOL/KG,,UMOL/KG,PMOL/KG,,PMOL/KG,,PMOL/KG,,FMOL/KG,,UMOL/KG,,UMOL/KG,,UMOL/KG,,,DEG C,,MMOL/KG,,UMOL/KG,,/MILLE,,/MILLE,/MILLE,,/MILLE,MBQ/KG,,MBQ/KG,MBQ/KG,,MBQ/KG,,,,/METER,,/METER,,/METER,
  49NZ20140717,   P01,    75,  1,      0,   -999,9,20140729,0714, 46.9856, 162.2495, 5626,   -999.0,9,-999.0000,9,-999.00000,9,-999.0000,9,  32.6296,2,-999.0000,9,  -999.00,9,  -999.00,9, -999.000,-999.0000,9, -999.000,9,  -999.00,9, -999.000,9, -999.000,9,    14.84,2,     0.09,    12.92,2,     0.02,     0.18,2,     0.01,     1.29,2,     0.01,  -999.00,9,  -999.00, -999.000,9, -999.000,9, -999.000,9, -999.000,9,   -999.0,9,   -999.0,9,   -999.0,9,-999.0000,     -999,9, -999.000,9,  -999.00,9, -999.000,9, -999.000,   -999.0,9,   -999.0, -999.000,9, -999.000, -999.000,9, -999.000,   -999.0,9,   -999.0, -999.000,9, -999.000,9, -999.000,9
  49NZ20140717,   P01,    75,  1,     36, X12J36,2,20140729,0714, 46.9856, 162.2495, 5626,     10.1,2,  11.9524,2,  11.94922,2,  32.6633,2,  32.6686,2,-999.0000,9,   281.00,2,   281.83,2,   95.542,   0.1824,2,    0.389,2,  -999.00,9,   -0.163,1,    0.253,2,    14.83,2,     0.09,    12.96,2,     0.02,     0.18,2,     0.01,     1.29,2,     0.01,  -999.00,9,  -999.00, -999.000,9, -999.000,9, -999.000,9, -999.000,9,   2041.1,2,   2221.8,2,   2218.3,2,   7.8365,       25,2,    9.695,2,    58.39,2, -999.000,9, -999.000,   -999.0,9,   -999.0, -999.000,9, -999.000, -999.000,9, -999.000,   -999.0,9,   -999.0, -999.000,9, -999.000,9, -999.000,9
  49NZ20140717,   P01,    75,  1,     35, X12J35,2,20140729,0714, 46.9856, 162.2495, 5626,     50.2,2,   3.9854,2,   3.98145,2,  32.8305,2,  32.8321,2,-999.0000,9,   337.80,2,   338.57,2,   96.229,   0.1538,2,    0.478,2,  -999.00,9,    0.877,1,    0.000,2,    28.97,2,     0.09,    18.48,2,     0.03,     0.17,2,     0.01,     1.66,2,     0.01,  -999.00,9,  -999.00, -999.000,9, -999.000,9, -999.000,9, -999.000,9,   2095.3,6,   2228.8,2,   2231.0,2,   7.7199,       25,2,    9.750,2,    53.91,2, -999.000,9, -999.000,   -999.0,9,   -999.0, -999.000,9, -999.000, -999.000,9, -999.000,   -999.0,9,   -999.0, -999.000,9, -999.000,9, -999.000,9
  49NZ20140717,   P01,    75,  1,     34, X12J34,2,20140729,0714, 46.9856, 162.2495, 5626,    100.3,2,   1.8839,2,   1.88810,2,  32.9016,2,  32.9035,2,-999.0000,9,   325.96,2,   326.21,2,   99.368,   0.0254,2,    0.151,2,  -999.00,9,    1.009,1,    0.000,2,    33.98,2,     0.10,    22.51,2,     0.03,     0.25,2,     0.01,     1.84,2,     0.01,  -999.00,9,  -999.00, -999.000,9, -999.000,9, -999.000,9, -999.000,9,   2121.8,2,   2225.6,2,   2229.4,2,   7.6514,       25,2,    9.760,2,    49.99,2, -999.000,9, -999.000,   -999.0,9,   -999.0, -999.000,9, -999.000, -999.000,9, -999.000,   -999.0,9,   -999.0, -999.000,9, -999.000,9, -999.000,9
  49NZ20140717,   P01,    75,  1,     33, X12J33,2,20140729,0714, 46.9856, 162.2495, 5626,    150.6,2,   2.6726,2,   2.67296,2,  33.4066,2,  33.4176,2,-999.0000,9,   180.32,2,   176.85,2,   99.558,   0.0177,2,    0.038,2,  -999.00,9,    2.008,1,    0.000,2,    67.08,2,     0.12,    35.04,2,     0.05,     0.01,2,     0.01,     2.59,2,     0.01,  -999.00,9,  -999.00, -999.000,9, -999.000,9, -999.000,9, -999.000,9,   2231.6,2,   2261.8,2,   2262.4,2,   7.4177,       25,6,    9.925,2,    48.63,2, -999.000,9, -999.000,   -999.0,9,   -999.0, -999.000,9, -999.000, -999.000,9, -999.000,   -999.0,9,   -999.0, -999.000,9, -999.000,9, -999.000,9
  49NZ20140717,   P01,    75,  1,     32, X12J32,2,20140729,0714, 46.9856, 162.2495, 5626,    200.6,2,   3.2679,2,   3.26832,2,  33.7346,2,  33.7335,2,-999.0000,9,    73.49,2,    74.50,2,   99.562,   0.0175,2,    0.018,2,  -999.00,9,    2.632,1,    0.000,2,    89.30,2,     0.13,    42.33,2,     0.05,     0.01,2,     0.01,     3.03,2,     0.01,  -999.00,9,  -999.00, -999.000,9, -999.000,9, -999.000,9, -999.000,9,   2307.3,2,   2288.4,6,   -999.0,9,   7.2700,       25,2, -999.000,9,    44.36,2, -999.000,9, -999.000,   -999.0,9,   -999.0, -999.000,9, -999.000, -999.000,9, -999.000,   -999.0,9,   -999.0, -999.000,9, -999.000,9, -999.000,9
  49NZ20140717,   P01,    75,  1,     31, X12J31,2,20140729,0714, 46.9856, 162.2495, 5626,    249.1,2,   3.5552,2,   3.55504,2,  33.8750,2,  33.8745,2,-999.0000,9,    33.93,2,    34.07,2,   99.709,   0.0116,2,    0.020,2,  -999.00,9,    2.793,1,    0.000,2,    98.17,2,     0.14,    44.80,2,     0.06,     0.01,2,     0.01,     3.17,2,     0.01,  -999.00,9,  -999.00, -999.000,9, -999.000,9, -999.000,9, -999.000,9,   2334.6,2,   2301.4,2,   -999.0,9,   7.2259,       25,2, -999.000,9,    47.62,2, -999.000,9, -999.000,   -999.0,9,   -999.0, -999.000,9, -999.000, -999.000,9, -999.000,   -999.0,9,   -999.0, -999.000,9, -999.000,9, -999.000,9
  49NZ20140717,   P01,    75,  1,     30, X12J30,2,20140729,0714, 46.9856, 162.2495, 5626,   5500.6,2,   1.5790,2,   1.57892,2,  34.6895,2,  34.6893,2,-999.0000,9,   157.20,2,   157.05,2,   99.873,   0.0051,2,    0.002,2,  -999.00,9,   -1.726,4,    0.000,2,  -999.00,9,  -999.00,  -999.00,9,  -999.00,  -999.00,9,  -999.00,  -999.00,9,  -999.00,  -999.00,9,  -999.00, -999.000,9, -999.000,9, -999.000,9, -999.000,9,   -999.0,9,   -999.0,9,   -999.0,9,-999.0000,     -999,9, -999.000,9,  -999.00,9, -999.000,9, -999.000,   -999.0,9,   -999.0, -999.000,9, -999.000, -999.000,9, -999.000,   -999.0,9,   -999.0, -999.000,9, -999.000,9, -999.000,9
  49NZ20140717,   P01,    75,  1,     29, X12J29,2,20140729,0714, 46.9856, 162.2495, 5626,    400.9,2,   3.4941,2,   3.49395,2,  34.0769,2,  34.0759,2,-999.0000,9,    19.40,2,    19.01,2,   99.876,   0.0050,2,    0.018,2,  -999.00,9,    2.924,1,    0.000,2,   115.67,2,     0.15,    44.61,2,     0.06,     0.00,2,     0.01,     3.18,2,     0.01,  -999.00,9,  -999.00, -999.000,9, -999.000,9, -999.000,9, -999.000,9,   2355.0,2,   2330.0,2,   -999.0,9,   7.2499,       25,2, -999.000,9,    43.13,2, -999.000,9, -999.000,   -999.0,9,   -999.0, -999.000,9, -999.000, -999.000,9, -999.000,   -999.0,9,   -999.0, -999.000,9, -999.000,9, -999.000,9
  49NZ20140717,   P01,    75,  1,     28, X12J28,2,20140729,0714, 46.9856, 162.2495, 5626,    499.5,2,   3.3989,2,   3.39879,2,  34.1619,2,  34.1612,2,-999.0000,9,    15.55,2,    14.92,2,   99.904,   0.0039,2,    0.017,2,  -999.00,9,    3.009,1,    0.000,2,   124.35,2,     0.15,    44.55,2,     0.06,     0.00,2,     0.01,     3.17,2,     0.01,  -999.00,9,  -999.00, -999.000,9, -999.000,9, -999.000,9, -999.000,9,   2363.2,2,   2341.3,2,   2337.9,2,   7.2602,       25,2,   10.168,2,    42.60,2, -999.000,9, -999.000,   -999.0,9,   -999.0, -999.000,9, -999.000, -999.000,9, -999.000,   -999.0,9,   -999.0, -999.000,9, -999.000,9, -999.000,9
  49NZ20140717,   P01,    75,  1,     27, X12J27,2,20140729,0714, 46.9856, 162.2495, 5626,    602.0,2,   3.2188,2,   3.21842,2,  34.2386,2,  34.2377,2,-999.0000,9,    14.47,2,    13.77,2,   99.893,   0.0043,2,    0.016,2,  -999.00,9,    2.960,1,    0.000,2,   133.28,2,     0.16,    44.53,2,     0.06,     0.00,2,     0.01,     3.18,2,     0.01,  -999.00,9,  -999.00, -999.000,9, -999.000,9, -999.000,9, -999.000,9,   2372.0,2,   2355.0,2,   -999.0,9,   7.2720,       25,2, -999.000,9,    42.03,2, -999.000,9, -999.000,   -999.0,9,   -999.0, -999.000,9, -999.000, -999.000,9, -999.000,   -999.0,9,   -999.0, -999.000,9, -999.000,9, -999.000,9
  49NZ20140717,   P01,    75,  1,     26, X12J26,2,20140729,0714, 46.9856, 162.2495, 5626,    701.0,2,   3.0802,2,   3.08000,2,  34.2926,2,  34.2922,2,-999.0000,9,    14.97,2,    14.13,2,   99.880,   0.0048,2,    0.015,2,  -999.00,9,    3.103,1,    0.000,2,   139.58,2,     0.16,    44.44,2,     0.06,     0.00,2,     0.01,     3.18,2,     0.01,  -999.00,9,  -999.00, -999.000,9, -999.000,9, -999.000,9, -999.000,9,   2378.2,6,   2364.1,2,   -999.0,9,   7.2829,       25,2, -999.000,9,    41.44,2, -999.000,9, -999.000,   -999.0,9,   -999.0, -999.000,9, -999.000, -999.000,9, -999.000,   -999.0,9,   -999.0, -999.000,9, -999.000,9, -999.000,9
  49NZ20140717,   P01,    75,  1,     25, X12J25,2,20140729,0714, 46.9856, 162.2495, 5626,    800.8,2,   2.9315,2,   2.93140,2,  34.3374,2,  34.3371,2,-999.0000,9,    15.95,2,    15.15,2,   99.886,   0.0045,2,    0.015,2,  -999.00,9,    3.026,1,    0.000,2,   144.72,2,     0.16,    44.27,2,     0.06,     0.00,2,     0.01,     3.16,2,     0.01,  -999.00,9,  -999.00, -999.000,9, -999.000,9, -999.000,9, -999.000,9,   2382.2,2,   2373.2,2,   2366.3,2,   7.2913,       25,2,   10.232,2,    39.45,2, -999.000,9, -999.000,   -999.0,9,   -999.0, -999.000,9, -999.000, -999.000,9, -999.000,   -999.0,9,   -999.0, -999.000,9, -999.000,9, -999.000,9
  49NZ20140717,   P01,    75,  1,     24, X12J24,2,20140729,0714, 46.9856, 162.2495, 5626,    901.0,2,   2.7745,2,   2.77432,2,  34.3795,2,  34.3796,2,-999.0000,9,    17.28,2,    16.75,2,   99.910,   0.0036,2,    0.014,2,  -999.00,9,    3.081,1,    0.000,2,   150.41,2,     0.17,    44.22,2,     0.06,     0.01,2,     0.01,     3.16,2,     0.01,  -999.00,9,  -999.00, -999.000,9, -999.000,9, -999.000,9, -999.000,9,   2387.3,2,   2379.3,2,   -999.0,9,   7.2973,       25,6, -999.000,9,    41.87,2, -999.000,9, -999.000,   -999.0,9,   -999.0, -999.000,9, -999.000, -999.000,9, -999.000,   -999.0,9,   -999.0, -999.000,9, -999.000,9, -999.000,9
  49NZ20140717,   P01,    75,  1,     23, X12J23,2,20140729,0714, 46.9856, 162.2495, 5626,   1001.6,2,   2.6310,2,   2.63097,2,  34.4144,2,  34.4143,2,-999.0000,9,    19.48,2,    18.80,2,   99.893,   0.0043,2,    0.014,2,  -999.00,9,    3.091,1,    0.000,2,   155.38,2,     0.17,    44.17,2,     0.06,     0.01,2,     0.01,     3.15,2,     0.01,  -999.00,9,  -999.00, -999.000,9, -999.000,9, -999.000,9, -999.000,9,   2390.6,2,   2385.9,2,   2378.7,2,   7.3071,       25,2,   10.263,2,    40.53,2, -999.000,9, -999.000,   -999.0,9,   -999.0, -999.000,9, -999.000, -999.000,9, -999.000,   -999.0,9,   -999.0, -999.000,9, -999.000,9, -999.000,9
  49NZ20140717,   P01,    75,  1,     22, X12J22,2,20140729,0714, 46.9856, 162.2495, 5626,   1201.4,2,   2.3748,2,   2.37488,2,  34.4742,2,  34.4740,2,-999.0000,9,    27.70,2,    27.56,2,   99.919,   0.0033,2,    0.012,2,  -999.00,9,    3.040,1,    0.000,2,   163.15,2,     0.18,    43.70,2,     0.06,     0.00,2,     0.01,     3.12,2,     0.01,  -999.00,9,  -999.00, -999.000,9, -999.000,9, -999.000,9, -999.000,9,   2392.7,2,   2396.3,6,   2393.4,2,   7.3275,       25,2,   10.289,2,    39.07,2, -999.000,9, -999.000,   -999.0,9,   -999.0, -999.000,9, -999.000, -999.000,9, -999.000,   -999.0,9,   -999.0, -999.000,9, -999.000,9, -999.000,9
  49NZ20140717,   P01,    75,  1,     21, X12J21,2,20140729,0714, 46.9856, 162.2495, 5626,   1400.1,2,   2.1972,2,   2.19721,2,  34.5187,2,  34.5188,2,-999.0000,9,    36.93,2,    36.74,2,   99.930,   0.0028,2,    0.011,2,  -999.00,9,    2.979,1,    0.000,2,   167.08,2,     0.18,    43.18,2,     0.05,     0.00,2,     0.01,     3.07,2,     0.01,  -999.00,9,  -999.00, -999.000,9, -999.000,9, -999.000,9, -999.000,9,   2392.4,2,   2404.4,2,   -999.0,9,   7.3511,       25,2, -999.000,9,    38.06,2, -999.000,9, -999.000,   -999.0,9,   -999.0, -999.000,9, -999.000, -999.000,9, -999.000,   -999.0,9,   -999.0, -999.000,9, -999.000,9, -999.000,9
  49NZ20140717,   P01,    75,  1,     20, X12J20,2,20140729,0714, 46.9856, 162.2495, 5626,   1601.0,2,   2.0380,2,   2.03803,2,  34.5555,2,  34.5557,2,-999.0000,9,    49.82,2,    50.07,2,   99.912,   0.0035,2,    0.009,2,  -999.00,9,    2.940,1,    0.000,2,   169.65,2,     0.18,    42.43,2,     0.05,     0.00,2,     0.01,     3.02,2,     0.01,  -999.00,9,  -999.00, -999.000,9, -999.000,9, -999.000,9, -999.000,9,   2388.5,2,   2410.7,2,   2405.9,2,   7.3809,       25,6,   10.308,2,    38.36,2, -999.000,9, -999.000,   -999.0,9,   -999.0, -999.000,9, -999.000, -999.000,9, -999.000,   -999.0,9,   -999.0, -999.000,9, -999.000,9, -999.000,9
  49NZ20140717,   P01,    75,  1,     19, X12J19,2,20140729,0714, 46.9856, 162.2495, 5626,   1801.5,2,   1.9187,2,   1.91874,2,  34.5849,2,  34.5850,2,-999.0000,9,    64.25,2,    64.37,2,   99.958,   0.0017,2,    0.008,2,  -999.00,9,    2.833,1,    0.000,2,   169.36,2,     0.18,    41.56,2,     0.05,     0.01,2,     0.01,     2.96,2,     0.01,  -999.00,9,  -999.00, -999.000,9, -999.000,9, -999.000,9, -999.000,9,   2380.1,2,   2415.2,2,   -999.0,9,   7.4116,       25,2, -999.000,9,    36.88,2, -999.000,9, -999.000,   -999.0,9,   -999.0, -999.000,9, -999.000, -999.000,9, -999.000,   -999.0,9,   -999.0, -999.000,9, -999.000,9, -999.000,9
  49NZ20140717,   P01,    75,  1,     18, X12J18,2,20140729,0714, 46.9856, 162.2495, 5626,   1999.0,2,   1.8170,2,   1.81704,2,  34.6070,2,  34.6071,2,-999.0000,9,    77.02,2,    77.19,2,   99.934,   0.0026,2,    0.007,2,  -999.00,9,    2.833,1,    0.000,2,   168.80,2,     0.18,    40.83,2,     0.05,     0.00,2,     0.01,     2.90,2,     0.01,  -999.00,9,  -999.00, -999.000,9, -999.000,9, -999.000,9, -999.000,9,   2373.7,2,   2414.4,2,   2409.6,2,   7.4376,       25,2,   10.319,2,    37.68,2, -999.000,9, -999.000,   -999.0,9,   -999.0, -999.000,9, -999.000, -999.000,9, -999.000,   -999.0,9,   -999.0, -999.000,9, -999.000,9, -999.000,9
  49NZ20140717,   P01,    75,  1,     17, X12J17,2,20140729,0714, 46.9856, 162.2495, 5626,   2200.5,2,   1.7250,2,   1.72500,2,  34.6250,2,  34.6251,2,-999.0000,9,    89.87,2,    89.90,2,   99.958,   0.0017,2,    0.006,2,  -999.00,9,    2.773,1,    0.000,2,   167.07,2,     0.18,    40.01,2,     0.05,     0.00,2,     0.01,     2.84,2,     0.01,  -999.00,9,  -999.00, -999.000,9, -999.000,9, -999.000,9, -999.000,9,   2366.8,2,   2418.7,2,   -999.0,9,   7.4618,       25,2, -999.000,9,    36.53,2, -999.000,9, -999.000,   -999.0,9,   -999.0, -999.000,9, -999.000, -999.000,9, -999.000,   -999.0,9,   -999.0, -999.000,9, -999.000,9, -999.000,9
  49NZ20140717,   P01,    75,  1,     16, X12J16,2,20140729,0714, 46.9856, 162.2495, 5626,   2400.6,2,   1.6603,2,   1.66041,2,  34.6381,2,  34.6383,2,-999.0000,9,   100.95,2,   101.21,2,   99.945,   0.0022,2,    0.005,2,  -999.00,9,    2.668,1,    0.000,2,   165.05,2,     0.18,    39.35,2,     0.05,     0.00,2,     0.01,     2.78,2,     0.01,  -999.00,9,  -999.00, -999.000,9, -999.000,9, -999.000,9, -999.000,9,   2361.7,6,   2419.9,2,   -999.0,9,   7.4831,       25,2, -999.000,9,    37.25,2, -999.000,9, -999.000,   -999.0,9,   -999.0, -999.000,9, -999.000, -999.000,9, -999.000,   -999.0,9,   -999.0, -999.000,9, -999.000,9, -999.000,9
  49NZ20140717,   P01,    75,  1,     15, X12J15,2,20140729,0714, 46.9856, 162.2495, 5626,   2600.5,2,   1.6101,2,   1.61007,2,  34.6479,2,  34.6476,2,-999.0000,9,   110.04,2,   110.17,2,   99.958,   0.0017,2,    0.004,2,  -999.00,9,    2.563,1,    0.000,2,   162.98,2,     0.18,    38.77,2,     0.05,     0.00,2,     0.01,     2.74,2,     0.01,  -999.00,9,  -999.00, -999.000,9, -999.000,9, -999.000,9, -999.000,9,   2355.7,2,   2420.3,2,   -999.0,9,   7.5011,       25,2, -999.000,9,    38.23,2, -999.000,9, -999.000,   -999.0,9,   -999.0, -999.000,9, -999.000, -999.000,9, -999.000,   -999.0,9,   -999.0, -999.000,9, -999.000,9, -999.000,9
  49NZ20140717,   P01,    75,  1,     14, X12J14,2,20140729,0714, 46.9856, 162.2495, 5626,   2800.7,2,   1.5669,2,   1.56695,2,  34.6561,2,  34.6555,2,-999.0000,9,   118.32,2,   118.13,2,   99.968,   0.0013,2,    0.004,2,  -999.00,9,    2.527,1,    0.000,2,   161.24,2,     0.17,    38.29,2,     0.05,     0.00,2,     0.01,     2.70,2,     0.01,  -999.00,9,  -999.00, -999.000,9, -999.000,9, -999.000,9, -999.000,9,   2349.9,2,   2420.9,2,   -999.0,9,   7.5153,       25,6, -999.000,9,    38.13,2, -999.000,9, -999.000,   -999.0,9,   -999.0, -999.000,9, -999.000, -999.000,9, -999.000,   -999.0,9,   -999.0, -999.000,9, -999.000,9, -999.000,9
  49NZ20140717,   P01,    75,  1,     13, X12113,2,20140729,0714, 46.9856, 162.2495, 5626,   3000.8,2,   1.5338,2,   1.53392,2,  34.6627,2,  34.6629,2,-999.0000,9,   125.59,2,   125.44,2,   99.968,   0.0013,2,    0.004,2,  -999.00,9,    2.406,1,    0.000,2,   159.32,2,     0.17,    37.84,2,     0.05,     0.00,2,     0.01,     2.66,2,     0.01,  -999.00,9,  -999.00, -999.000,9, -999.000,9, -999.000,9, -999.000,9,   2344.5,2,   2422.1,2,   2415.6,2,   7.5279,       25,2,   10.336,2,    37.48,2, -999.000,9, -999.000,   -999.0,9,   -999.0, -999.000,9, -999.000, -999.000,9, -999.000,   -999.0,9,   -999.0, -999.000,9, -999.000,9, -999.000,9
  49NZ20140717,   P01,    75,  1,     12, X12J12,2,20140729,0714, 46.9856, 162.2495, 5626,   3249.5,2,   1.5005,2,   1.50049,2,  34.6696,2,  34.6693,2,-999.0000,9,   133.42,2,   133.16,2,   99.971,   0.0012,2,    0.004,2,  -999.00,9,    2.428,1,    0.000,2,   156.52,2,     0.17,    37.23,2,     0.05,     0.00,2,     0.01,     2.61,2,     0.01,  -999.00,9,  -999.00, -999.000,9, -999.000,9, -999.000,9, -999.000,9,   2340.3,2,   2420.9,6,   -999.0,9,   7.5424,       25,2, -999.000,9,    37.30,2, -999.000,9, -999.000,   -999.0,9,   -999.0, -999.000,9, -999.000, -999.000,9, -999.000,   -999.0,9,   -999.0, -999.000,9, -999.000,9, -999.000,9
  49NZ20140717,   P01,    75,  1,     11, X12J11,2,20140729,0714, 46.9856, 162.2495, 5626,   3501.5,2,   1.4825,2,   1.48272,2,  34.6747,2,  34.6738,2,-999.0000,9,   139.25,2,   139.01,2,   99.964,   0.0014,2,    0.003,2,  -999.00,9,    2.402,1,    0.000,2,   155.26,2,     0.17,    36.89,2,     0.05,     0.00,2,     0.01,     2.59,2,     0.01,  -999.00,9,  -999.00, -999.000,9, -999.000,9, -999.000,9, -999.000,9,   2335.1,2,   2420.6,2,   -999.0,9,   7.5527,       25,2, -999.000,9,    38.25,2, -999.000,9, -999.000,   -999.0,9,   -999.0, -999.000,9, -999.000, -999.000,9, -999.000,   -999.0,9,   -999.0, -999.000,9, -999.000,9, -999.000,9
  49NZ20140717,   P01,    75,  1,     10, X12J10,2,20140729,0714, 46.9856, 162.2495, 5626,   3749.7,2,   1.4705,2,   1.47067,2,  34.6789,2,  34.6784,2,-999.0000,9,   144.44,2,   144.02,2,   99.968,   0.0013,2,    0.003,2,  -999.00,9,    2.307,1,    0.000,2,   153.77,2,     0.17,    36.54,2,     0.05,     0.00,2,     0.01,     2.56,2,     0.01,  -999.00,9,  -999.00, -999.000,9, -999.000,9, -999.000,9, -999.000,9,   2331.5,2,   2419.8,2,   -999.0,9,   7.5619,       25,2, -999.000,9,    37.32,2, -999.000,9, -999.000,   -999.0,9,   -999.0, -999.000,9, -999.000, -999.000,9, -999.000,   -999.0,9,   -999.0, -999.000,9, -999.000,9, -999.000,9