BOTTLE,20230904JAMSTECRIGC
EXPOCODE,SECT,STNNBR,CASTNO,SAMPNO,BTLNBR,BTLNBR_FLAG_W,DATE,TIME,LATITUDE,LONGITUDE,DEPTH,CTDPRS,CTDPRS_FLAG_W,CTDTMP,CTDTMP_FLAG_W,SBE35,SBE35_FLAG_W,CTDSAL,CTDSAL_FLAG_W,SALNTY,SALNTY_FLAG_W,DNSSAL,DNSSAL_FLAG_W,CTDOXY,CTDOXY_FLAG_W,OXYGEN,OXYGEN_FLAG_W,XMISS,XMISSCP,XMISS_FLAG_W,FLUOR,FLUOR_FLAG_W,CHLORA,CHLORA_FLAG_W,CDOM,CDOM_FLAG_W,PAR,PAR_FLAG_W,SILCAT,SILCAT_FLAG_W,SILUNC,NITRAT,NITRAT_FLAG_W,NRAUNC,NITRIT,NITRIT_FLAG_W,NRIUNC,PHSPHT,PHSPHT_FLAG_W,PHPUNC,AMMONIA,AMMONIA_FLAG_W,NH4UNC,CFC-11,CFC-11_FLAG_W,CFC-12,CFC-12_FLAG_W,CFC113,CFC113_FLAG_W,SF6,SF6_FLAG_W,TCARBN,TCARBN_FLAG_W,ALKALI,ALKALI_FLAG_W,ALKALI_POT,ALKALI_POT_FLAG_W,PH_TOT,PH_TMP,PH_TOT_FLAG_W,CALCIUM,CALCIUM_FLAG_W,DOC,DOC_FLAG_W,DELC13,DELC13_FLAG_W,C13ERR,DELC14,DELC14_FLAG_W,C14ERR,CS-134,CS-134_FLAG_W,CS134ER,CS-137,CS-137_FLAG_W,CS137ER,I-129,I-129_FLAG_W,I-129ER,CDOM-325,CDOM-325_FLAG_W,CDOM-370,CDOM-370_FLAG_W,CDOM-443,CDOM-443_FLAG_W
,,,,,,,,UTC,DEG,DEG,METERS,DBAR,,ITS-90,,ITS-90,,PSS-78,,PSS-78,,G/KG,,UMOL/KG,,UMOL/KG,,%TRANS,/METER,,MG/CUM,,MG/CUM,,MG/CUM,,UE/SQM/S,,UMOL/KG,,UMOL/KG,UMOL/KG,,UMOL/KG,UMOL/KG,,UMOL/KG,UMOL/KG,,UMOL/KG,UMOL/KG,,UMOL/KG,PMOL/KG,,PMOL/KG,,PMOL/KG,,FMOL/KG,,UMOL/KG,,UMOL/KG,,UMOL/KG,,,DEG C,,MMOL/KG,,UMOL/KG,,/MILLE,,/MILLE,/MILLE,,/MILLE,MBQ/KG,,MBQ/KG,MBQ/KG,,MBQ/KG,,,,/METER,,/METER,,/METER,
  49NZ20140717,   P01,    76,  1,      9, X12J09,2,20140729,1451, 46.9871, 163.3798, 5767,   4080.8,2,   1.4668,2,   1.46689,2,  34.6830,2,  34.6829,2,-999.0000,9,   149.85,2,   149.46,2,   99.972,   0.0011,2,    0.001,2,  -999.00,9,    2.299,1,    0.000,2,   152.41,2,     0.17,    36.32,2,     0.05,     0.00,2,     0.01,     2.52,2,     0.01,  -999.00,9,  -999.00,    0.000,2,    0.000,2,    0.000,2, -999.000,9,   -999.0,9,   -999.0,9,   -999.0,9,-999.0000,     -999,9, -999.000,9,  -999.00,9, -999.000,9, -999.000,   -999.0,9,   -999.0, -999.000,9, -999.000, -999.000,9, -999.000,   -999.0,9,   -999.0, -999.000,9, -999.000,9, -999.000,9
  49NZ20140717,   P01,    76,  1,      8, X12J08,2,20140729,1451, 46.9871, 163.3798, 5767,   4330.1,2,   1.4724,2,   1.47256,2,  34.6853,2,  34.6849,2,-999.0000,9,   152.92,2,   152.44,2,   99.959,   0.0016,2,    0.001,2,  -999.00,9,    1.781,4,    0.000,2,   151.81,2,     0.17,    36.13,2,     0.05,     0.00,2,     0.01,     2.51,2,     0.01,  -999.00,9,  -999.00,    0.000,2,    0.002,2,    0.000,2, -999.000,9,   -999.0,9,   -999.0,9,   -999.0,9,-999.0000,     -999,9, -999.000,9,  -999.00,9, -999.000,9, -999.000,   -999.0,9,   -999.0, -999.000,9, -999.000, -999.000,9, -999.000,   -999.0,9,   -999.0, -999.000,9, -999.000,9, -999.000,9
  49NZ20140717,   P01,    76,  1,      7, X12J07,2,20140729,1451, 46.9871, 163.3798, 5767,   4580.5,2,   1.4858,2,   1.48586,2,  34.6870,2,  34.6869,2,-999.0000,9,   155.03,2,   154.56,2,   99.989,   0.0004,2,    0.000,2,  -999.00,9,    1.163,4,    0.000,2,   151.51,2,     0.17,    36.01,2,     0.05,     0.00,2,     0.01,     2.50,2,     0.01,  -999.00,9,  -999.00,    0.000,2,    0.001,2,    0.000,2, -999.000,9,   -999.0,9,   -999.0,9,   -999.0,9,-999.0000,     -999,9, -999.000,9,  -999.00,9, -999.000,9, -999.000,   -999.0,9,   -999.0, -999.000,9, -999.000, -999.000,9, -999.000,   -999.0,9,   -999.0, -999.000,9, -999.000,9, -999.000,9
  49NZ20140717,   P01,    76,  1,      6, X12J06,2,20140729,1451, 46.9871, 163.3798, 5767,   4830.6,2,   1.5038,2,   1.50380,2,  34.6883,2,  34.6883,2,-999.0000,9,   156.63,2,   156.04,2,   99.994,   0.0003,2,    0.000,2,  -999.00,9,   -0.860,4,    0.000,2,   151.46,2,     0.17,    35.92,2,     0.05,     0.00,2,     0.01,     2.49,2,     0.01,  -999.00,9,  -999.00,    0.000,2,    0.000,2,    0.000,2, -999.000,9,   -999.0,9,   -999.0,9,   -999.0,9,-999.0000,     -999,9, -999.000,9,  -999.00,9, -999.000,9, -999.000,   -999.0,9,   -999.0, -999.000,9, -999.000, -999.000,9, -999.000,   -999.0,9,   -999.0, -999.000,9, -999.000,9, -999.000,9
  49NZ20140717,   P01,    76,  1,      5, X12J05,2,20140729,1451, 46.9871, 163.3798, 5767,   5079.8,2,   1.5272,2,   1.52717,2,  34.6891,2,  34.6892,2,-999.0000,9,   157.42,2,   157.05,2,   99.976,   0.0009,2,    0.001,2,  -999.00,9,   -1.724,4,    0.000,2,   152.14,2,     0.17,    35.85,2,     0.05,     0.00,2,     0.01,     2.48,2,     0.01,  -999.00,9,  -999.00,    0.001,2,    0.000,2,    0.000,2, -999.000,9,   -999.0,9,   -999.0,9,   -999.0,9,-999.0000,     -999,9, -999.000,9,  -999.00,9, -999.000,9, -999.000,   -999.0,9,   -999.0, -999.000,9, -999.000, -999.000,9, -999.000,   -999.0,9,   -999.0, -999.000,9, -999.000,9, -999.000,9
  49NZ20140717,   P01,    76,  1,      4, X12J04,2,20140729,1451, 46.9871, 163.3798, 5767,   5329.8,2,   1.5563,2,   1.55623,2,  34.6895,2,  34.6895,2,-999.0000,9,   157.50,2,   157.12,2,   99.957,   0.0017,2,    0.000,2,  -999.00,9,   -1.830,4,    0.000,2,   152.86,2,     0.17,    35.81,2,     0.05,     0.00,2,     0.01,     2.48,2,     0.01,  -999.00,9,  -999.00,    0.002,2,    0.003,2,    0.000,2, -999.000,9,   -999.0,9,   -999.0,9,   -999.0,9,-999.0000,     -999,9, -999.000,9,  -999.00,9, -999.000,9, -999.000,   -999.0,9,   -999.0, -999.000,9, -999.000, -999.000,9, -999.000,   -999.0,9,   -999.0, -999.000,9, -999.000,9, -999.000,9
  49NZ20140717,   P01,    76,  1,      3, X12J03,2,20140729,1451, 46.9871, 163.3798, 5767,   5579.8,2,   1.5894,2,   1.58919,2,  34.6894,2,  34.6884,3,-999.0000,9,   157.34,2,   157.19,2,   99.901,   0.0040,2,    0.001,2,  -999.00,9,   -1.903,4,    0.000,2,   152.99,2,     0.17,    35.84,2,     0.05,     0.00,2,     0.01,     2.48,2,     0.01,  -999.00,9,  -999.00,    0.004,2,    0.004,2,    0.000,2, -999.000,9,   -999.0,9,   -999.0,9,   -999.0,9,-999.0000,     -999,9, -999.000,9,  -999.00,9, -999.000,9, -999.000,   -999.0,9,   -999.0, -999.000,9, -999.000, -999.000,9, -999.000,   -999.0,9,   -999.0, -999.000,9, -999.000,9, -999.000,9
  49NZ20140717,   P01,    76,  1,      2, X12J02,2,20140729,1451, 46.9871, 163.3798, 5767,   5829.1,2,   1.6234,2,   1.62322,2,  34.6893,2,  34.6894,2,-999.0000,9,   157.07,2,   157.26,2,   99.871,   0.0052,2,    0.001,2,  -999.00,9,   -1.982,4,    0.000,2,   153.27,2,     0.17,    35.89,2,     0.05,     0.00,2,     0.01,     2.48,2,     0.01,  -999.00,9,  -999.00,    0.003,2,    0.002,2,    0.000,2, -999.000,9,   -999.0,9,   -999.0,9,   -999.0,9,-999.0000,     -999,9, -999.000,9,  -999.00,9, -999.000,9, -999.000,   -999.0,9,   -999.0, -999.000,9, -999.000, -999.000,9, -999.000,   -999.0,9,   -999.0, -999.000,9, -999.000,9, -999.000,9
  49NZ20140717,   P01,    76,  1,      1, X12J01,2,20140729,1451, 46.9871, 163.3798, 5767,   5883.4,2,   1.6311,2,   1.63089,2,  34.6892,2,  34.6897,2,-999.0000,9,   157.01,2,   157.24,2,   99.845,   0.0062,2,    0.000,2,  -999.00,9,   -1.356,4,    0.000,2,   153.44,2,     0.17,    35.88,2,     0.05,     0.00,2,     0.01,     2.48,2,     0.01,  -999.00,9,  -999.00,    0.001,2,    0.002,2,    0.000,2, -999.000,9,   -999.0,9,   -999.0,9,   -999.0,9,-999.0000,     -999,9, -999.000,9,  -999.00,9, -999.000,9, -999.000,   -999.0,9,   -999.0, -999.000,9, -999.000, -999.000,9, -999.000,   -999.0,9,   -999.0, -999.000,9, -999.000,9, -999.000,9