BOTTLE,20230904JAMSTECRIGC
EXPOCODE,SECT,STNNBR,CASTNO,SAMPNO,BTLNBR,BTLNBR_FLAG_W,DATE,TIME,LATITUDE,LONGITUDE,DEPTH,CTDPRS,CTDPRS_FLAG_W,CTDTMP,CTDTMP_FLAG_W,SBE35,SBE35_FLAG_W,CTDSAL,CTDSAL_FLAG_W,SALNTY,SALNTY_FLAG_W,DNSSAL,DNSSAL_FLAG_W,CTDOXY,CTDOXY_FLAG_W,OXYGEN,OXYGEN_FLAG_W,XMISS,XMISSCP,XMISS_FLAG_W,FLUOR,FLUOR_FLAG_W,CHLORA,CHLORA_FLAG_W,CDOM,CDOM_FLAG_W,PAR,PAR_FLAG_W,SILCAT,SILCAT_FLAG_W,SILUNC,NITRAT,NITRAT_FLAG_W,NRAUNC,NITRIT,NITRIT_FLAG_W,NRIUNC,PHSPHT,PHSPHT_FLAG_W,PHPUNC,AMMONIA,AMMONIA_FLAG_W,NH4UNC,CFC-11,CFC-11_FLAG_W,CFC-12,CFC-12_FLAG_W,CFC113,CFC113_FLAG_W,SF6,SF6_FLAG_W,TCARBN,TCARBN_FLAG_W,ALKALI,ALKALI_FLAG_W,ALKALI_POT,ALKALI_POT_FLAG_W,PH_TOT,PH_TMP,PH_TOT_FLAG_W,CALCIUM,CALCIUM_FLAG_W,DOC,DOC_FLAG_W,DELC13,DELC13_FLAG_W,C13ERR,DELC14,DELC14_FLAG_W,C14ERR,CS-134,CS-134_FLAG_W,CS134ER,CS-137,CS-137_FLAG_W,CS137ER,I-129,I-129_FLAG_W,I-129ER,CDOM-325,CDOM-325_FLAG_W,CDOM-370,CDOM-370_FLAG_W,CDOM-443,CDOM-443_FLAG_W
,,,,,,,,UTC,DEG,DEG,METERS,DBAR,,ITS-90,,ITS-90,,PSS-78,,PSS-78,,G/KG,,UMOL/KG,,UMOL/KG,,%TRANS,/METER,,MG/CUM,,MG/CUM,,MG/CUM,,UE/SQM/S,,UMOL/KG,,UMOL/KG,UMOL/KG,,UMOL/KG,UMOL/KG,,UMOL/KG,UMOL/KG,,UMOL/KG,UMOL/KG,,UMOL/KG,PMOL/KG,,PMOL/KG,,PMOL/KG,,FMOL/KG,,UMOL/KG,,UMOL/KG,,UMOL/KG,,,DEG C,,MMOL/KG,,UMOL/KG,,/MILLE,,/MILLE,/MILLE,,/MILLE,MBQ/KG,,MBQ/KG,MBQ/KG,,MBQ/KG,,,,/METER,,/METER,,/METER,
  49NZ20140717,   P01,    54,  2,      0,   -999,9,20140721,2348, 39.9534, 147.6967, 5246,   -999.0,9,-999.0000,9,-999.00000,9,-999.0000,9,  32.7467,2,-999.0000,9,  -999.00,9,  -999.00,9, -999.000,-999.0000,9, -999.000,9,  -999.00,9, -999.000,9, -999.000,9,     2.14,2,     0.10,     0.13,2,     0.01,     0.01,2,     0.01,     0.21,2,     0.01,     0.11,2,     0.02, -999.000,9, -999.000,9, -999.000,9, -999.000,9,   -999.0,9,   -999.0,9,   -999.0,9,-999.0000,     -999,9, -999.000,9,  -999.00,9, -999.000,9, -999.000,   -999.0,9,   -999.0, -999.000,9, -999.000, -999.000,9, -999.000,   -999.0,9,   -999.0, -999.000,9, -999.000,9, -999.000,9
  49NZ20140717,   P01,    54,  2,     36, X12J36,2,20140721,2348, 39.9534, 147.6967, 5246,     10.8,2,  17.5456,2,  17.55568,2,  32.8089,2,  32.8201,2,-999.0000,9,   266.03,2,   275.89,2,   95.601,   0.1799,2,    0.319,2,  -999.00,9,    0.346,1,  279.654,2,     1.95,2,     0.10,     0.14,2,     0.01,     0.02,2,     0.01,     0.19,2,     0.01,     0.07,2,     0.02,    2.824,2,    1.699,2,    0.278,2,    2.020,2,   1965.4,2,   2223.9,2,   -999.0,9,   8.0108,       25,6, -999.000,9,    67.51,2, -999.000,1, -999.000,   -999.0,1,   -999.0, -999.000,9, -999.000, -999.000,9, -999.000,   -999.0,9,   -999.0, -999.000,9, -999.000,9, -999.000,9
  49NZ20140717,   P01,    54,  2,     35, X12J35,2,20140721,2348, 39.9534, 147.6967, 5246,     50.4,2,   2.8469,2,   2.87171,2,  32.9758,2,  32.9641,2,-999.0000,9,   320.59,2,   321.82,2,   97.165,   0.1150,2,    0.432,2,  -999.00,9,    1.143,1,    4.430,2,    28.21,2,     0.09,    19.11,2,     0.03,     0.38,2,     0.01,     1.69,2,     0.01,     0.93,2,     0.03,    5.261,2,    2.990,2,    0.459,2,    3.310,2,   2122.3,6,   2234.7,2,   -999.0,9,   7.6720,       25,2, -999.000,9,  -999.00,2, -999.000,1, -999.000,   -999.0,1,   -999.0, -999.000,9, -999.000, -999.000,9, -999.000,   -999.0,9,   -999.0, -999.000,9, -999.000,9, -999.000,9
  49NZ20140717,   P01,    54,  2,     34, X12J34,2,20140721,2348, 39.9534, 147.6967, 5246,    100.6,2,   2.9459,2,   2.94671,2,  33.2320,2,  33.2193,2,-999.0000,9,   288.90,2,   288.91,2,   99.390,   0.0245,2,    0.055,2,  -999.00,9,    1.373,1,    0.146,2,    38.39,2,     0.10,    22.40,2,     0.03,     0.02,2,     0.01,     1.78,2,     0.01,     0.01,2,     0.01,    4.898,2,    2.799,2,    0.424,2,    3.010,2,   2147.4,2,   2243.8,2,   -999.0,9,   7.6227,       25,2, -999.000,9,    52.27,2, -999.000,1, -999.000,   -999.0,1,   -999.0, -999.000,9, -999.000, -999.000,9, -999.000,   -999.0,9,   -999.0, -999.000,9, -999.000,9, -999.000,9
  49NZ20140717,   P01,    54,  2,     33, X12J33,2,20140721,2348, 39.9534, 147.6967, 5246,    150.8,2,   3.3491,2,   3.34708,2,  33.4234,2,  33.4198,2,-999.0000,9,   251.11,2,   250.39,2,   99.491,   0.0204,2,    0.011,2,  -999.00,9,    1.569,1,    0.000,2,    45.82,2,     0.10,    24.46,2,     0.04,     0.02,2,     0.01,     1.89,2,     0.01,     0.00,2,     0.01,    4.370,2,    2.498,2,    0.353,2,    2.630,2,   2170.8,2,   2254.3,2,   -999.0,9,   7.5842,       25,2, -999.000,9,    49.26,2, -999.000,1, -999.000,   -999.0,1,   -999.0, -999.000,9, -999.000, -999.000,9, -999.000,   -999.0,9,   -999.0, -999.000,9, -999.000,9, -999.000,9
  49NZ20140717,   P01,    54,  2,     32, X12J32,2,20140721,2348, 39.9534, 147.6967, 5246,    199.7,2,   2.2707,2,   2.27088,2,  33.4194,2,  33.4206,2,-999.0000,9,   214.93,2,   214.17,2,   99.362,   0.0256,2,    0.012,2,  -999.00,9,    1.951,1,    0.000,2,    60.72,2,     0.11,    30.01,2,     0.04,     0.01,2,     0.01,     2.28,2,     0.01,     0.00,2,     0.01,    4.245,2,    2.407,2,    0.339,2,    2.420,2,   2214.0,2,   2264.2,6,   -999.0,9,   7.4823,       25,2, -999.000,9,    51.23,2, -999.000,1, -999.000,   -999.0,1,   -999.0, -999.000,9, -999.000, -999.000,9, -999.000,   -999.0,9,   -999.0, -999.000,9, -999.000,9, -999.000,9
  49NZ20140717,   P01,    54,  2,     31, X12J31,2,20140721,2348, 39.9534, 147.6967, 5246,    250.5,2,   2.8129,2,   2.81168,2,  33.6114,2,  33.6125,2,-999.0000,9,   154.40,2,   153.83,2,   99.239,   0.0306,2,    0.006,2,  -999.00,9,    2.239,1,    0.000,2,    75.03,2,     0.12,    34.73,2,     0.11,     0.01,2,     0.01,     2.58,2,     0.01,     0.05,2,     0.01,    3.501,2,    1.980,2,    0.261,2,    1.820,2,   2256.1,2,   2279.0,2,   -999.0,9,   7.3998,       25,2, -999.000,9,    44.74,2, -999.000,1, -999.000,   -999.0,1,   -999.0, -999.000,9, -999.000, -999.000,9, -999.000,   -999.0,9,   -999.0, -999.000,9, -999.000,9, -999.000,9
  49NZ20140717,   P01,    54,  2,     30, X12J30,2,20140721,2348, 39.9534, 147.6967, 5246,    300.0,2,   3.4225,2,   3.42221,2,  33.7867,2,  33.7883,2,-999.0000,9,   126.40,2,   126.59,2,   99.666,   0.0134,2,    0.005,2,  -999.00,9,    2.242,1,    0.000,2,    79.76,2,     0.12,    35.49,2,     0.05,     0.01,2,     0.01,     2.61,2,     0.01,     0.04,2,     0.01,    2.868,2,    1.587,2,    0.206,2,    1.380,2,   2267.9,2,   2290.1,2,   -999.0,9,   7.3989,       25,2, -999.000,9,    45.45,2, -999.000,1, -999.000,   -999.0,1,   -999.0, -999.000,9, -999.000, -999.000,9, -999.000,   -999.0,9,   -999.0, -999.000,9, -999.000,9, -999.000,9
  49NZ20140717,   P01,    54,  2,     29, X12J29,2,20140721,2348, 39.9534, 147.6967, 5246,    403.1,2,   3.6847,2,   3.68654,2,  33.9831,2,  33.9847,2,-999.0000,9,    73.03,2,    73.46,2,   99.672,   0.0131,2,    0.006,2,  -999.00,9,    2.479,1,    0.000,2,    98.05,2,     0.14,    39.54,2,     0.05,     0.01,2,     0.01,     2.86,2,     0.01,     0.01,2,     0.01,    1.869,2,    1.007,2,    0.126,2,    0.780,2,   2307.3,2,   2312.8,2,   -999.0,9,   7.3425,       25,2, -999.000,9,    44.05,2, -999.000,1, -999.000,   -999.0,1,   -999.0, -999.000,9, -999.000, -999.000,9, -999.000,   -999.0,9,   -999.0, -999.000,9, -999.000,9, -999.000,9
  49NZ20140717,   P01,    54,  2,     28, X12J28,2,20140721,2348, 39.9534, 147.6967, 5246,    497.7,2,   3.9333,2,   3.93419,2,  34.1447,2,  34.1444,2,-999.0000,9,    55.00,2,    55.48,2,   99.856,   0.0058,2,    0.006,2,  -999.00,9,    2.530,1,    0.000,2,   107.60,2,     0.14,    40.43,2,     0.05,     0.01,2,     0.01,     2.90,2,     0.01,     0.02,2,     0.01,    1.139,2,    0.611,2,    0.072,2,    0.390,2,   2322.7,2,   2331.1,2,   -999.0,9,   7.3493,       25,2, -999.000,9,    43.08,2, -999.000,1, -999.000,   -999.0,1,   -999.0, -999.000,9, -999.000, -999.000,9, -999.000,   -999.0,9,   -999.0, -999.000,9, -999.000,9, -999.000,9
  49NZ20140717,   P01,    54,  2,     27, X12J27,2,20140721,2348, 39.9534, 147.6967, 5246,    601.2,2,   3.3682,2,   3.36982,2,  34.1957,2,  34.1952,2,-999.0000,9,    38.10,2,    38.43,2,   99.851,   0.0059,2,    0.007,2,  -999.00,9,    2.796,1,    0.000,2,   123.12,2,     0.15,    42.37,2,     0.05,     0.01,2,     0.01,     3.04,2,     0.01,  -999.00,9,  -999.00,    0.839,2,    0.455,2,    0.058,2,    0.240,2,   2347.9,2,   2344.0,2,   -999.0,9,   7.3149,       25,2, -999.000,9,    41.31,2, -999.000,1, -999.000,   -999.0,1,   -999.0, -999.000,9, -999.000, -999.000,9, -999.000,   -999.0,9,   -999.0, -999.000,9, -999.000,9, -999.000,9
  49NZ20140717,   P01,    54,  2,     26, X12J26,2,20140721,2348, 39.9534, 147.6967, 5246,    700.9,2,   3.1940,2,   3.19415,2,  34.2727,2,  34.2726,2,-999.0000,9,    33.55,2,    33.83,2,   99.841,   0.0064,2,    0.006,2,  -999.00,9,    2.765,1,    0.000,2,   131.42,2,     0.16,    42.70,2,     0.05,     0.01,2,     0.01,     3.06,2,     0.01,  -999.00,9,  -999.00,    0.547,2,    0.302,2,    0.033,2,    0.170,2,   2358.1,6,   2356.0,2,   -999.0,9,   7.3206,       25,2, -999.000,9,    41.71,2, -999.000,1, -999.000,   -999.0,1,   -999.0, -999.000,9, -999.000, -999.000,9, -999.000,   -999.0,9,   -999.0, -999.000,9, -999.000,9, -999.000,9
  49NZ20140717,   P01,    54,  2,     25, X12J25,2,20140721,2348, 39.9534, 147.6967, 5246,    800.0,2,   3.1969,2,   3.19620,2,  34.3566,2,  34.3568,2,-999.0000,9,    38.84,2,    39.22,2,   99.877,   0.0049,2,    0.005,2,  -999.00,9,    2.717,1,    0.000,2,   133.75,2,     0.16,    42.29,2,     0.05,     0.00,2,     0.01,     3.03,2,     0.01,  -999.00,9,  -999.00,    0.278,2,    0.158,2,    0.014,2,    0.050,2,   2359.2,2,   2367.6,2,   -999.0,9,   7.3498,       25,2, -999.000,9,    41.07,2, -999.000,1, -999.000,   -999.0,1,   -999.0, -999.000,9, -999.000, -999.000,9, -999.000,   -999.0,9,   -999.0, -999.000,9, -999.000,9, -999.000,9
  49NZ20140717,   P01,    54,  2,     24, X12J24,2,20140721,2348, 39.9534, 147.6967, 5246,    902.2,2,   2.9926,2,   2.99254,2,  34.3949,2,  34.3950,2,-999.0000,9,    38.33,2,    38.77,2,   99.869,   0.0053,2,    0.005,2,  -999.00,9,    2.721,1,    0.000,2,   139.40,2,     0.16,    42.53,2,     0.05,     0.00,2,     0.01,     3.04,2,     0.01,  -999.00,9,  -999.00,    0.194,2,    0.113,2,    0.009,2,    0.060,2,   2364.8,2,   2376.8,2,   -999.0,9,   7.3545,       25,6, -999.000,9,    39.85,2, -999.000,1, -999.000,   -999.0,1,   -999.0, -999.000,9, -999.000, -999.000,9, -999.000,   -999.0,9,   -999.0, -999.000,9, -999.000,9, -999.000,9
  49NZ20140717,   P01,    54,  2,     23, X12J23,2,20140721,2348, 39.9534, 147.6967, 5246,    999.6,2,   2.8279,2,   2.82775,2,  34.4200,2,  34.4203,2,-999.0000,9,    37.30,2,    37.47,2,   99.886,   0.0046,2,    0.005,2,  -999.00,9,    2.771,1,    0.000,2,   144.24,2,     0.16,    42.78,2,     0.05,     0.01,2,     0.01,     3.06,2,     0.01,     0.03,2,     0.01,    0.150,2,    0.088,2,    0.007,2,    0.040,2,   2370.2,2,   2380.9,2,   -999.0,9,   7.3530,       25,2, -999.000,9,    37.88,2, -999.000,1, -999.000,   -999.0,1,   -999.0, -999.000,9, -999.000, -999.000,9, -999.000,   -999.0,9,   -999.0, -999.000,9, -999.000,9, -999.000,9
  49NZ20140717,   P01,    54,  2,     22, X12J22,2,20140721,2348, 39.9534, 147.6967, 5246,   1199.8,2,   2.5465,2,   2.54621,2,  34.4779,2,  34.4781,2,-999.0000,9,    41.49,2,    41.62,2,   99.888,   0.0045,2,    0.004,2,  -999.00,9,    2.802,1,    0.000,2,   152.11,2,     0.17,    42.84,2,     0.05,     0.01,2,     0.01,     3.06,2,     0.01,  -999.00,9,  -999.00,    0.070,2,    0.042,2,    0.004,2,    0.020,2,   2377.7,2,   2391.6,6,   -999.0,9,   7.3664,       25,2, -999.000,9,    38.55,2, -999.000,1, -999.000,   -999.0,1,   -999.0, -999.000,9, -999.000, -999.000,9, -999.000,   -999.0,9,   -999.0, -999.000,9, -999.000,9, -999.000,9
  49NZ20140717,   P01,    54,  2,     21, X12J21,2,20140721,2348, 39.9534, 147.6967, 5246,   1399.8,2,   2.3209,2,   2.32080,2,  34.5205,2,  34.5205,2,-999.0000,9,    48.68,2,    48.90,2,   99.912,   0.0035,2,    0.003,2,  -999.00,9,    2.771,1,    0.000,2,   157.46,2,     0.17,    42.52,2,     0.05,     0.01,2,     0.01,     3.02,2,     0.01,     0.01,2,     0.01,    0.037,2,    0.022,2,    0.003,2,    0.030,2,   2378.6,2,   2400.4,2,   -999.0,9,   7.3831,       25,2, -999.000,9,    37.12,2, -999.000,9, -999.000,   -999.0,9,   -999.0, -999.000,9, -999.000, -999.000,9, -999.000,   -999.0,9,   -999.0, -999.000,9, -999.000,9, -999.000,9
  49NZ20140717,   P01,    54,  2,     20, X12J20,2,20140721,2348, 39.9534, 147.6967, 5246,   1600.2,2,   2.1327,2,   2.13242,2,  34.5576,2,  34.5577,2,-999.0000,9,    59.25,2,    59.36,2,   99.899,   0.0040,2,    0.002,2,  -999.00,9,    2.657,1,    0.000,2,   160.57,2,     0.17,    42.00,2,     0.05,     0.00,2,     0.01,     2.98,2,     0.01,  -999.00,9,  -999.00,    0.011,2,    0.006,2,    0.000,2,    0.050,2,   2377.9,2,   2405.6,2,   -999.0,9,   7.4048,       25,6, -999.000,9,    37.37,2, -999.000,1, -999.000,   -999.0,1,   -999.0, -999.000,9, -999.000, -999.000,9, -999.000,   -999.0,9,   -999.0, -999.000,9, -999.000,9, -999.000,9
  49NZ20140717,   P01,    54,  2,     19, X12J19,2,20140721,2348, 39.9534, 147.6967, 5246,   1797.8,2,   1.9838,2,   1.98368,2,  34.5830,2,  34.5833,2,-999.0000,9,    68.55,2,    69.68,2,   99.925,   0.0030,2,    0.002,2,  -999.00,9,    2.676,1,    0.000,2,   163.06,2,     0.18,    41.47,2,     0.05,     0.01,2,     0.01,     2.93,2,     0.01,  -999.00,9,  -999.00,    0.008,2,    0.009,2,    0.002,2,    0.050,2,   2374.0,2,   2410.9,2,   -999.0,9,   7.4239,       25,2, -999.000,9,    39.14,2, -999.000,9, -999.000,   -999.0,9,   -999.0, -999.000,9, -999.000, -999.000,9, -999.000,   -999.0,9,   -999.0, -999.000,9, -999.000,9, -999.000,9
  49NZ20140717,   P01,    54,  2,     18, X12J18,2,20140721,2348, 39.9534, 147.6967, 5246,   2002.4,2,   1.8588,2,   1.85879,2,  34.6064,2,  34.6066,2,-999.0000,9,    81.67,2,    81.68,2,   99.940,   0.0024,2,    0.001,2,  -999.00,9,    2.540,1,    0.000,2,   162.76,2,     0.18,    40.66,2,     0.05,     0.01,2,     0.01,     2.87,2,     0.01,     0.00,2,     0.01,    0.002,2,    0.000,2,    0.000,2,    0.070,2,   2367.8,2,   2410.4,2,   -999.0,9,   7.4482,       25,2, -999.000,9,    39.88,2, -999.000,1, -999.000,   -999.0,1,   -999.0, -999.000,9, -999.000, -999.000,9, -999.000,   -999.0,9,   -999.0, -999.000,9, -999.000,9, -999.000,9
  49NZ20140717,   P01,    54,  2,     17, X12J17,2,20140721,2348, 39.9534, 147.6967, 5246,   2201.2,2,   1.7656,2,   1.76542,2,  34.6233,2,  34.6237,2,-999.0000,9,    93.25,2,    93.51,2,   99.931,   0.0028,2,    0.000,2,  -999.00,9,    2.499,1,    0.000,2,   161.89,2,     0.18,    39.93,2,     0.05,     0.01,2,     0.01,     2.82,2,     0.01,  -999.00,9,  -999.00,    0.003,2,    0.000,2,    0.001,2,    0.150,2,   2361.7,2,   2414.7,2,   -999.0,9,   7.4714,       25,2, -999.000,9,    39.25,2, -999.000,9, -999.000,   -999.0,9,   -999.0, -999.000,9, -999.000, -999.000,9, -999.000,   -999.0,9,   -999.0, -999.000,9, -999.000,9, -999.000,9
  49NZ20140717,   P01,    54,  2,     16, X12J16,2,20140721,2348, 39.9534, 147.6967, 5246,   2400.6,2,   1.6878,2,   1.68777,2,  34.6370,2,  34.6376,2,-999.0000,9,   103.98,2,   104.15,2,   99.944,   0.0022,2,   -0.001,2,  -999.00,9,    2.395,1,    0.000,2,   160.70,2,     0.17,    39.29,2,     0.05,     0.01,2,     0.01,     2.77,2,     0.01,     0.01,2,     0.01,    0.000,2,    0.000,2,    0.000,2,    0.090,2,   2355.9,6,   2415.9,2,   -999.0,9,   7.4925,       25,2, -999.000,9,    37.48,2, -999.000,9, -999.000,   -999.0,9,   -999.0, -999.000,9, -999.000, -999.000,9, -999.000,   -999.0,9,   -999.0, -999.000,9, -999.000,9, -999.000,9
  49NZ20140717,   P01,    54,  2,     15, X12J15,2,20140721,2348, 39.9534, 147.6967, 5246,   2600.7,2,   1.6275,2,   1.62744,2,  34.6475,2,  34.6473,2,-999.0000,9,   112.94,2,   112.84,2,   99.972,   0.0011,2,   -0.002,2,  -999.00,9,    2.406,1,    0.000,2,   159.35,2,     0.17,    38.69,2,     0.05,     0.00,2,     0.01,     2.72,2,     0.01,  -999.00,9,  -999.00,    0.000,2,    0.000,2,    0.002,2,    0.050,2,   2350.7,6,   2417.8,2,   -999.0,9,   7.5091,       25,2, -999.000,9,    38.34,2, -999.000,1, -999.000,   -999.0,1,   -999.0, -999.000,9, -999.000, -999.000,9, -999.000,   -999.0,9,   -999.0, -999.000,9, -999.000,9, -999.000,9
  49NZ20140717,   P01,    54,  2,     14, X12J14,2,20140721,2348, 39.9534, 147.6967, 5246,   2800.4,2,   1.5777,2,   1.57776,2,  34.6561,2,  34.6561,2,-999.0000,9,   120.66,2,   120.56,2,   99.970,   0.0012,2,   -0.002,2,  -999.00,9,    2.255,1,    0.000,2,   158.08,2,     0.17,    38.21,2,     0.05,     0.00,2,     0.01,     2.68,2,     0.01,  -999.00,9,  -999.00,    0.000,2,    0.000,2,    0.001,2,    0.010,2,   2345.7,2,   2416.6,2,   -999.0,9,   7.5225,       25,6, -999.000,9,    38.14,2, -999.000,9, -999.000,   -999.0,9,   -999.0, -999.000,9, -999.000, -999.000,9, -999.000,   -999.0,9,   -999.0, -999.000,9, -999.000,9, -999.000,9
  49NZ20140717,   P01,    54,  2,     13, X12113,2,20140721,2348, 39.9534, 147.6967, 5246,   3001.9,2,   1.5357,2,   1.53562,2,  34.6632,2,  34.6635,2,-999.0000,9,   127.90,2,   127.87,2,   99.970,   0.0012,2,   -0.002,2,  -999.00,9,    2.253,1,    0.000,2,   156.56,2,     0.17,    37.72,2,     0.05,     0.00,2,     0.01,     2.64,2,     0.01,     0.00,2,     0.01,    0.000,2,    0.000,2,    0.000,2,    0.000,2,   2341.2,2,   2418.5,2,   -999.0,9,   7.5364,       25,2, -999.000,9,    38.29,2, -999.000,9, -999.000,   -999.0,9,   -999.0, -999.000,9, -999.000, -999.000,9, -999.000,   -999.0,9,   -999.0, -999.000,9, -999.000,9, -999.000,9
  49NZ20140717,   P01,    54,  2,     12, X12J12,2,20140721,2348, 39.9534, 147.6967, 5246,   3250.0,2,   1.5023,2,   1.50232,2,  34.6699,2,  34.6699,2,-999.0000,9,   135.01,2,   134.84,2,   99.959,   0.0016,2,   -0.002,2,  -999.00,9,    2.203,1,    0.000,2,   154.92,2,     0.17,    37.29,2,     0.05,     0.00,2,     0.01,     2.60,2,     0.01,  -999.00,9,  -999.00,    0.001,2,    0.000,2,    0.000,2,    0.000,2,   2335.9,2,   2417.1,6,   -999.0,9,   7.5481,       25,2, -999.000,9,    38.62,2, -999.000,9, -999.000,   -999.0,9,   -999.0, -999.000,9, -999.000, -999.000,9, -999.000,   -999.0,9,   -999.0, -999.000,9, -999.000,9, -999.000,9
  49NZ20140717,   P01,    54,  2,     11, X12J11,2,20140721,2348, 39.9534, 147.6967, 5246,   3500.5,2,   1.4751,2,   1.47518,2,  34.6756,2,  34.6755,2,-999.0000,9,   141.45,2,   141.20,2,   99.959,   0.0016,2,   -0.003,2,  -999.00,9,    2.108,1,    0.000,2,   153.38,2,     0.17,    36.84,2,     0.05,     0.00,2,     0.01,     2.57,2,     0.01,     0.00,2,     0.01,    0.000,2,    0.000,2,    0.000,2,    0.000,2,   2331.5,2,   2415.2,2,   -999.0,9,   7.5576,       25,2, -999.000,9,    39.55,2, -999.000,1, -999.000,   -999.0,1,   -999.0, -999.000,9, -999.000, -999.000,9, -999.000,   -999.0,9,   -999.0, -999.000,9, -999.000,9, -999.000,9
  49NZ20140717,   P01,    54,  2,     10, X12J10,2,20140721,2348, 39.9534, 147.6967, 5246,   3751.7,2,   1.4629,2,   1.46291,2,  34.6794,2,  34.6794,2,-999.0000,9,   146.14,2,   145.93,2,   99.985,   0.0006,2,   -0.003,2,  -999.00,9,    2.172,1,    0.000,2,   152.25,2,     0.17,    36.55,2,     0.05,     0.00,2,     0.01,     2.55,2,     0.01,  -999.00,9,  -999.00,    0.000,2,    0.000,2,    0.000,2,    0.010,2,   2329.7,2,   2418.1,2,   -999.0,9,   7.5660,       25,2, -999.000,9,    39.25,2, -999.000,9, -999.000,   -999.0,9,   -999.0, -999.000,9, -999.000, -999.000,9, -999.000,   -999.0,9,   -999.0, -999.000,9, -999.000,9, -999.000,9