BOTTLE,20230904JAMSTECRIGC
EXPOCODE,SECT,STNNBR,CASTNO,SAMPNO,BTLNBR,BTLNBR_FLAG_W,DATE,TIME,LATITUDE,LONGITUDE,DEPTH,CTDPRS,CTDPRS_FLAG_W,CTDTMP,CTDTMP_FLAG_W,SBE35,SBE35_FLAG_W,CTDSAL,CTDSAL_FLAG_W,SALNTY,SALNTY_FLAG_W,DNSSAL,DNSSAL_FLAG_W,CTDOXY,CTDOXY_FLAG_W,OXYGEN,OXYGEN_FLAG_W,XMISS,XMISSCP,XMISS_FLAG_W,FLUOR,FLUOR_FLAG_W,CHLORA,CHLORA_FLAG_W,CDOM,CDOM_FLAG_W,PAR,PAR_FLAG_W,SILCAT,SILCAT_FLAG_W,SILUNC,NITRAT,NITRAT_FLAG_W,NRAUNC,NITRIT,NITRIT_FLAG_W,NRIUNC,PHSPHT,PHSPHT_FLAG_W,PHPUNC,AMMONIA,AMMONIA_FLAG_W,NH4UNC,CFC-11,CFC-11_FLAG_W,CFC-12,CFC-12_FLAG_W,CFC113,CFC113_FLAG_W,SF6,SF6_FLAG_W,TCARBN,TCARBN_FLAG_W,ALKALI,ALKALI_FLAG_W,ALKALI_POT,ALKALI_POT_FLAG_W,PH_TOT,PH_TMP,PH_TOT_FLAG_W,CALCIUM,CALCIUM_FLAG_W,DOC,DOC_FLAG_W,DELC13,DELC13_FLAG_W,C13ERR,DELC14,DELC14_FLAG_W,C14ERR,CS-134,CS-134_FLAG_W,CS134ER,CS-137,CS-137_FLAG_W,CS137ER,I-129,I-129_FLAG_W,I-129ER,CDOM-325,CDOM-325_FLAG_W,CDOM-370,CDOM-370_FLAG_W,CDOM-443,CDOM-443_FLAG_W
,,,,,,,,UTC,DEG,DEG,METERS,DBAR,,ITS-90,,ITS-90,,PSS-78,,PSS-78,,G/KG,,UMOL/KG,,UMOL/KG,,%TRANS,/METER,,MG/CUM,,MG/CUM,,MG/CUM,,UE/SQM/S,,UMOL/KG,,UMOL/KG,UMOL/KG,,UMOL/KG,UMOL/KG,,UMOL/KG,UMOL/KG,,UMOL/KG,UMOL/KG,,UMOL/KG,PMOL/KG,,PMOL/KG,,PMOL/KG,,FMOL/KG,,UMOL/KG,,UMOL/KG,,UMOL/KG,,,DEG C,,MMOL/KG,,UMOL/KG,,/MILLE,,/MILLE,/MILLE,,/MILLE,MBQ/KG,,MBQ/KG,MBQ/KG,,MBQ/KG,,,,/METER,,/METER,,/METER,
  49NZ20140717,   P01,    42,  1,      0,   -999,9,20140719,2019, 42.2860, 146.0493, 4153,   -999.0,9,-999.0000,9,-999.00000,9,-999.0000,9,  32.5609,2,-999.0000,9,  -999.00,9,  -999.00,9, -999.000,-999.0000,9, -999.000,9,  -999.00,9, -999.000,9, -999.000,9,     7.50,2,     0.09,     6.72,2,     0.02,     0.11,2,     0.01,     0.85,2,     0.01,  -999.00,9,  -999.00, -999.000,9, -999.000,9, -999.000,9, -999.000,9,   -999.0,9,   -999.0,9,   -999.0,9,-999.0000,     -999,9, -999.000,9,  -999.00,9, -999.000,9, -999.000,   -999.0,9,   -999.0, -999.000,9, -999.000, -999.000,9, -999.000,   -999.0,9,   -999.0, -999.000,9, -999.000,9, -999.000,9
  49NZ20140717,   P01,    42,  1,     36, X12J36,2,20140719,2019, 42.2860, 146.0493, 4153,      9.8,2,  10.6342,2,  10.58595,2,  32.4290,2,  32.4977,2,-999.0000,9,   361.71,2,   360.44,2,   83.382,   0.7270,2,    1.029,2,  -999.00,9,    0.786,1,  118.434,2,     5.31,2,     0.09,     3.00,2,     0.01,     0.07,2,     0.01,     0.61,2,     0.01,  -999.00,9,  -999.00,    4.250,2,    2.319,2,    0.389,2, -999.000,9,   1974.6,2,   2223.9,2,   -999.0,9,   7.9887,       25,6, -999.000,9,    72.62,2, -999.000,9, -999.000,   -999.0,9,   -999.0, -999.000,9, -999.000, -999.000,9, -999.000,   -999.0,9,   -999.0, -999.000,9, -999.000,9, -999.000,9
  49NZ20140717,   P01,    42,  1,     35, X12J35,2,20140719,2019, 42.2860, 146.0493, 4153,     50.4,2,   1.4056,2,   1.40644,2,  32.9033,2,  32.9066,2,-999.0000,9,   313.59,2,   314.68,2,   98.328,   0.0674,2,    0.186,2,  -999.00,9,    1.394,1,    1.119,2,    35.31,2,     0.10,    20.76,2,     0.03,     0.27,2,     0.01,     1.77,2,     0.01,  -999.00,9,  -999.00,    5.644,2,    3.009,2,    0.509,2, -999.000,9,   2139.2,6,   2235.5,2,   -999.0,9,   7.6312,       25,2, -999.000,9,    53.27,2, -999.000,9, -999.000,   -999.0,9,   -999.0, -999.000,9, -999.000, -999.000,9, -999.000,   -999.0,9,   -999.0, -999.000,9, -999.000,9, -999.000,9
  49NZ20140717,   P01,    42,  1,     34, X12J34,2,20140719,2019, 42.2860, 146.0493, 4153,    100.4,2,   1.0692,2,   1.06885,2,  33.1031,2,  33.1050,2,-999.0000,9,   271.34,2,   271.39,2,   98.330,   0.0674,2,    0.068,2,  -999.00,9,    1.869,1,    0.000,2,    47.32,2,     0.10,    24.54,2,     0.04,     0.11,2,     0.01,     2.01,2,     0.01,  -999.00,9,  -999.00,    5.305,2,    2.837,2,    0.468,2, -999.000,9,   2179.6,2,   2251.4,2,   -999.0,9,   7.5454,       25,2, -999.000,9,    50.89,2, -999.000,9, -999.000,   -999.0,9,   -999.0, -999.000,9, -999.000, -999.000,9, -999.000,   -999.0,9,   -999.0, -999.000,9, -999.000,9, -999.000,9
  49NZ20140717,   P01,    42,  1,     33, X12J33,2,20140719,2019, 42.2860, 146.0493, 4153,    150.7,2,   1.5267,2,   1.52656,2,  33.2902,2,  33.2908,2,-999.0000,9,   234.68,2,   234.42,2,   98.852,   0.0462,2,    0.022,2,  -999.00,9,    1.713,1,    0.000,2,    60.71,2,     0.11,    29.94,2,     0.04,     0.02,2,     0.01,     2.31,2,     0.01,  -999.00,9,  -999.00,    4.685,2,    2.470,2,    0.399,2, -999.000,9,   2208.8,2,   2259.8,2,   -999.0,9,   7.4883,       25,2, -999.000,9,    47.27,2, -999.000,9, -999.000,   -999.0,9,   -999.0, -999.000,9, -999.000, -999.000,9, -999.000,   -999.0,9,   -999.0, -999.000,9, -999.000,9, -999.000,9
  49NZ20140717,   P01,    42,  1,     32, X12J32,2,20140719,2019, 42.2860, 146.0493, 4153,    200.7,2,   1.5610,2,   1.55637,2,  33.4148,2,  33.4135,2,-999.0000,9,   201.19,2,   201.55,2,   98.972,   0.0413,2,    0.012,2,  -999.00,9,    2.020,1,    0.000,2,    68.35,2,     0.12,    31.98,2,     0.04,     0.01,2,     0.01,     2.46,2,     0.01,  -999.00,9,  -999.00,    4.396,2,    2.313,2,    0.369,2, -999.000,9,   2237.2,2,   2271.3,6,   -999.0,9,   7.4327,       25,2, -999.000,9,    50.00,3, -999.000,9, -999.000,   -999.0,9,   -999.0, -999.000,9, -999.000, -999.000,9, -999.000,   -999.0,9,   -999.0, -999.000,9, -999.000,9, -999.000,9
  49NZ20140717,   P01,    42,  1,     31, X12J31,2,20140719,2019, 42.2860, 146.0493, 4153,    251.5,2,   1.9082,2,   1.90815,2,  33.5391,2,  33.5397,2,-999.0000,9,   166.04,2,   165.68,2,   99.056,   0.0379,2,    0.013,2,  -999.00,9,    2.216,1,    0.000,2,    77.39,2,     0.12,    34.45,2,     0.05,     0.01,2,     0.01,     2.61,2,     0.01,  -999.00,9,  -999.00,    3.882,2,    2.037,2,    0.316,2, -999.000,9,   2260.3,2,   2281.9,2,   -999.0,9,   7.3889,       25,2, -999.000,9,    48.47,2, -999.000,9, -999.000,   -999.0,9,   -999.0, -999.000,9, -999.000, -999.000,9, -999.000,   -999.0,9,   -999.0, -999.000,9, -999.000,9, -999.000,9
  49NZ20140717,   P01,    42,  1,     30, X12J30,2,20140719,2019, 42.2860, 146.0493, 4153,    301.2,2,   2.2690,2,   2.26893,2,  33.6822,2,  33.6823,2,-999.0000,9,   127.94,2,   127.94,2,   99.220,   0.0313,2,    0.009,2,  -999.00,9,    2.391,1,    0.000,2,    88.24,2,     0.13,    36.92,2,     0.05,     0.01,2,     0.01,     2.75,2,     0.01,  -999.00,9,  -999.00,    3.254,2,    1.699,2,    0.268,2, -999.000,9,   2285.7,2,   2294.4,2,   -999.0,9,   7.3473,       25,2, -999.000,9,    45.35,2, -999.000,9, -999.000,   -999.0,9,   -999.0, -999.000,9, -999.000, -999.000,9, -999.000,   -999.0,9,   -999.0, -999.000,9, -999.000,9, -999.000,9
  49NZ20140717,   P01,    42,  1,     29, X12J29,2,20140719,2019, 42.2860, 146.0493, 4153,    402.3,2,   2.5808,2,   2.58078,2,  33.8160,2,  33.8165,2,-999.0000,9,    95.06,2,    95.21,2,   99.399,   0.0241,2,    0.008,2,  -999.00,9,    2.475,1,    0.000,2,    99.09,2,     0.14,    39.09,2,     0.05,     0.01,2,     0.01,     2.87,2,     0.01,  -999.00,9,  -999.00,    2.611,2,    1.367,2,    0.204,2, -999.000,9,   2309.4,2,   2307.1,2,   -999.0,9,   7.3189,       25,2, -999.000,9,    43.97,2, -999.000,9, -999.000,   -999.0,9,   -999.0, -999.000,9, -999.000, -999.000,9, -999.000,   -999.0,9,   -999.0, -999.000,9, -999.000,9, -999.000,9
  49NZ20140717,   P01,    42,  1,     28, X12J28,2,20140719,2019, 42.2860, 146.0493, 4153,    500.2,2,   2.8905,2,   2.89054,2,  33.9754,2,  33.9750,2,-999.0000,9,    60.31,2,    60.81,2,   99.517,   0.0194,2,    0.009,2,  -999.00,9,    2.671,1,    0.000,2,   112.22,2,     0.14,    41.39,2,     0.05,     0.01,2,     0.01,     3.00,2,     0.01,  -999.00,9,  -999.00,    1.822,2,    0.952,2,    0.141,2, -999.000,9,   2334.1,2,   2324.6,2,   -999.0,9,   7.2947,       25,2, -999.000,9,    44.48,2, -999.000,9, -999.000,   -999.0,9,   -999.0, -999.000,9, -999.000, -999.000,9, -999.000,   -999.0,9,   -999.0, -999.000,9, -999.000,9, -999.000,9
  49NZ20140717,   P01,    42,  1,     27, X12J27,2,20140719,2019, 42.2860, 146.0493, 4153,    601.4,2,   3.0094,2,   3.00894,2,  34.0987,2,  34.0984,2,-999.0000,9,    40.11,2,    40.56,2,   99.569,   0.0173,2,    0.009,2,  -999.00,9,    2.649,1,    0.000,2,   122.83,2,     0.15,    42.62,2,     0.05,     0.00,2,     0.01,     3.07,2,     0.01,  -999.00,9,  -999.00,    1.249,2,    0.663,2,    0.092,2, -999.000,9,   2352.0,2,   2337.7,2,   -999.0,9,   7.2853,       25,2, -999.000,9,    44.20,2, -999.000,9, -999.000,   -999.0,9,   -999.0, -999.000,9, -999.000, -999.000,9, -999.000,   -999.0,9,   -999.0, -999.000,9, -999.000,9, -999.000,9
  49NZ20140717,   P01,    42,  1,     26, X12J26,2,20140719,2019, 42.2860, 146.0493, 4153,    701.1,2,   3.1889,2,   3.18861,2,  34.1948,2,  34.1941,2,-999.0000,9,    22.04,2,    21.95,2,   99.647,   0.0142,2,    0.008,2,  -999.00,9,    2.783,1,    0.000,2,   129.84,2,     0.16,    43.89,2,     0.06,     0.00,2,     0.01,     3.14,2,     0.01,  -999.00,9,  -999.00,    0.755,2,    0.400,2,    0.038,2, -999.000,9,   2366.1,6,   2347.4,2,   -999.0,9,   7.2756,       25,2, -999.000,9,    42.01,2, -999.000,9, -999.000,   -999.0,9,   -999.0, -999.000,9, -999.000, -999.000,9, -999.000,   -999.0,9,   -999.0, -999.000,9, -999.000,9, -999.000,9
  49NZ20140717,   P01,    42,  1,     25, X12J25,2,20140719,2019, 42.2860, 146.0493, 4153,    798.8,2,   3.0878,2,   3.08759,2,  34.2280,2,  34.2279,2,-999.0000,9,    23.03,2,    23.12,2,   99.716,   0.0114,2,    0.008,2,  -999.00,9,    2.739,1,    0.000,2,   134.03,2,     0.16,    43.79,2,     0.06,     0.00,2,     0.01,     3.13,2,     0.01,  -999.00,9,  -999.00,    0.663,2,    0.351,2,    0.033,2, -999.000,9,   2369.5,2,   2356.1,2,   -999.0,9,   7.2835,       25,2, -999.000,9,    42.94,2, -999.000,9, -999.000,   -999.0,9,   -999.0, -999.000,9, -999.000, -999.000,9, -999.000,   -999.0,9,   -999.0, -999.000,9, -999.000,9, -999.000,9
  49NZ20140717,   P01,    42,  1,     24, X12J24,2,20140719,2019, 42.2860, 146.0493, 4153,    899.4,2,   2.9623,2,   2.96251,2,  34.2697,2,  34.2699,2,-999.0000,9,    24.99,2,    24.97,2,   99.776,   0.0090,2,    0.007,2,  -999.00,9,    2.765,1,    0.000,2,   138.98,2,     0.16,    43.60,2,     0.05,     0.00,2,     0.01,     3.12,2,     0.01,  -999.00,9,  -999.00,    0.559,2,    0.291,2,    0.027,2, -999.000,9,   2372.3,2,   2361.2,2,   -999.0,9,   7.2936,       25,6, -999.000,9,    40.84,2, -999.000,9, -999.000,   -999.0,9,   -999.0, -999.000,9, -999.000, -999.000,9, -999.000,   -999.0,9,   -999.0, -999.000,9, -999.000,9, -999.000,9
  49NZ20140717,   P01,    42,  1,     23, X12J23,2,20140719,2019, 42.2860, 146.0493, 4153,   1001.5,2,   2.8234,2,   2.82301,2,  34.3199,2,  34.3203,2,-999.0000,9,    27.09,2,    27.13,2,   99.784,   0.0086,2,    0.006,2,  -999.00,9,    2.682,1,    0.000,2,   144.67,2,     0.16,    43.50,2,     0.05,     0.00,2,     0.01,     3.12,2,     0.01,  -999.00,9,  -999.00,    0.436,2,    0.233,2,    0.022,2, -999.000,9,   2377.7,2,   2369.0,2,   -999.0,9,   7.3064,       25,2, -999.000,9,    40.61,2, -999.000,9, -999.000,   -999.0,9,   -999.0, -999.000,9, -999.000, -999.000,9, -999.000,   -999.0,9,   -999.0, -999.000,9, -999.000,9, -999.000,9
  49NZ20140717,   P01,    42,  1,     22, X12J22,2,20140719,2019, 42.2860, 146.0493, 4153,   1199.8,2,   2.6056,2,   2.60513,2,  34.4015,2,  34.4023,2,-999.0000,9,    30.95,2,    31.10,2,   99.834,   0.0066,2,    0.006,2,  -999.00,9,    2.798,1,    0.000,2,   153.29,2,     0.17,    43.33,2,     0.05,     0.00,2,     0.01,     3.10,2,     0.01,  -999.00,9,  -999.00,    0.252,2,    0.130,2,    0.009,2, -999.000,9,   2382.2,2,   2384.1,2,   -999.0,9,   7.3246,       25,2, -999.000,9,    37.27,2, -999.000,9, -999.000,   -999.0,9,   -999.0, -999.000,9, -999.000, -999.000,9, -999.000,   -999.0,9,   -999.0, -999.000,9, -999.000,9, -999.000,9
  49NZ20140717,   P01,    42,  1,     21, X12J21,2,20140719,2019, 42.2860, 146.0493, 4153,   1400.6,2,   2.3679,2,   2.36746,2,  34.4662,2,  34.4664,2,-999.0000,9,    37.91,2,    38.13,2,   99.903,   0.0039,2,    0.005,2,  -999.00,9,    2.704,1,    0.000,2,   160.55,2,     0.17,    42.99,2,     0.05,     0.00,2,     0.01,     3.07,2,     0.01,  -999.00,9,  -999.00,    0.153,2,    0.075,2,    0.000,2, -999.000,9,   2386.5,2,   2392.0,2,   -999.0,9,   7.3486,       25,2, -999.000,9,    39.59,2, -999.000,9, -999.000,   -999.0,9,   -999.0, -999.000,9, -999.000, -999.000,9, -999.000,   -999.0,9,   -999.0, -999.000,9, -999.000,9, -999.000,9
  49NZ20140717,   P01,    42,  1,     20, X12J20,2,20140719,2019, 42.2860, 146.0493, 4153,   1600.0,2,   2.2508,2,   2.25033,2,  34.5073,2,  34.5066,2,-999.0000,9,    47.93,2,    47.83,2,   99.901,   0.0040,2,    0.004,2,  -999.00,9,    2.706,1,    0.000,2,   161.60,2,     0.17,    42.41,2,     0.05,     0.00,2,     0.01,     3.03,2,     0.01,  -999.00,9,  -999.00,    0.106,2,    0.051,2,    0.000,2, -999.000,9,   2382.9,2,   2401.7,2,   -999.0,9,   7.3718,       25,6, -999.000,9,    37.48,2, -999.000,9, -999.000,   -999.0,9,   -999.0, -999.000,9, -999.000, -999.000,9, -999.000,   -999.0,9,   -999.0, -999.000,9, -999.000,9, -999.000,9
  49NZ20140717,   P01,    42,  1,     19, X12J19,2,20140719,2019, 42.2860, 146.0493, 4153,   1800.7,2,   2.0909,2,   2.09088,2,  34.5509,2,  34.5516,2,-999.0000,9,    58.72,2,    59.17,2,   99.914,   0.0035,2,    0.003,2,  -999.00,9,    2.547,1,    0.000,2,   164.07,2,     0.18,    41.85,2,     0.05,     0.00,2,     0.01,     2.98,2,     0.01,  -999.00,9,  -999.00,    0.049,2,    0.024,2,    0.000,2, -999.000,9,   2382.0,2,   2407.1,2,   -999.0,9,   7.3981,       25,2, -999.000,9,    39.41,2, -999.000,9, -999.000,   -999.0,9,   -999.0, -999.000,9, -999.000, -999.000,9, -999.000,   -999.0,9,   -999.0, -999.000,9, -999.000,9, -999.000,9
  49NZ20140717,   P01,    42,  1,     18, X12J18,2,20140719,2019, 42.2860, 146.0493, 4153,   2001.2,2,   1.9712,2,   1.97100,2,  34.5804,2,  34.5808,2,-999.0000,9,    69.93,2,    70.20,2,   99.929,   0.0028,2,    0.002,2,  -999.00,9,    2.528,1,    0.000,2,   164.47,2,     0.18,    41.23,2,     0.05,     0.00,2,     0.01,     2.93,2,     0.01,  -999.00,9,  -999.00,    0.024,2,    0.014,2,    0.000,2, -999.000,9,   2377.1,2,   2411.2,2,   -999.0,9,   7.4227,       25,2, -999.000,9,    38.13,2, -999.000,9, -999.000,   -999.0,9,   -999.0, -999.000,9, -999.000, -999.000,9, -999.000,   -999.0,9,   -999.0, -999.000,9, -999.000,9, -999.000,9
  49NZ20140717,   P01,    42,  1,     17, X12J17,2,20140719,2019, 42.2860, 146.0493, 4153,   2200.4,2,   1.8553,2,   1.85497,2,  34.6062,2,  34.6073,2,-999.0000,9,    83.22,2,    84.59,2,   99.955,   0.0018,2,    0.001,2,  -999.00,9,    2.457,1,    0.000,2,   163.08,2,     0.18,    40.33,2,     0.05,     0.00,2,     0.01,     2.86,2,     0.01,  -999.00,9,  -999.00,    0.007,2,    0.005,2,    0.000,2, -999.000,9,   2370.3,2,   2412.5,2,   -999.0,9,   7.4517,       25,2, -999.000,9,    39.03,2, -999.000,9, -999.000,   -999.0,9,   -999.0, -999.000,9, -999.000, -999.000,9, -999.000,   -999.0,9,   -999.0, -999.000,9, -999.000,9, -999.000,9
  49NZ20140717,   P01,    42,  1,     16, X12J16,2,20140719,2019, 42.2860, 146.0493, 4153,   2400.0,2,   1.7446,2,   1.74448,2,  34.6272,2,  34.6274,2,-999.0000,9,    97.18,2,    97.31,2,   99.929,   0.0028,2,    0.000,2,  -999.00,9,    2.355,1,    0.000,2,   161.62,2,     0.17,    39.53,2,     0.05,     0.00,2,     0.01,     2.79,2,     0.01,  -999.00,9,  -999.00,    0.002,2,    0.003,2,    0.000,2, -999.000,9,   2361.6,6,   2418.0,2,   -999.0,9,   7.4797,       25,2, -999.000,9,    36.89,2, -999.000,9, -999.000,   -999.0,9,   -999.0, -999.000,9, -999.000, -999.000,9, -999.000,   -999.0,9,   -999.0, -999.000,9, -999.000,9, -999.000,9
  49NZ20140717,   P01,    42,  1,     15, X12J15,2,20140719,2019, 42.2860, 146.0493, 4153,   2600.3,2,   1.6717,2,   1.67155,2,  34.6404,2,  34.6407,2,-999.0000,9,   107.45,2,   107.57,2,   99.942,   0.0023,2,   -0.001,2,  -999.00,9,    2.254,1,    0.000,2,   160.29,2,     0.17,    38.93,2,     0.05,     0.00,2,     0.01,     2.74,2,     0.01,  -999.00,9,  -999.00,    0.006,2,    0.004,2,    0.000,2, -999.000,9,   2355.7,2,   2419.6,2,   -999.0,9,   7.4970,       25,2, -999.000,9,    38.68,2, -999.000,9, -999.000,   -999.0,9,   -999.0, -999.000,9, -999.000, -999.000,9, -999.000,   -999.0,9,   -999.0, -999.000,9, -999.000,9, -999.000,9
  49NZ20140717,   P01,    42,  1,     14, X12J14,2,20140719,2019, 42.2860, 146.0493, 4153,   2800.6,2,   1.5989,2,   1.59880,2,  34.6526,2,  34.6536,2,-999.0000,9,   117.97,2,   118.09,2,   99.935,   0.0026,2,   -0.002,2,  -999.00,9,    2.269,1,    0.000,2,   158.59,2,     0.17,    38.24,2,     0.05,     0.00,2,     0.01,     2.69,2,     0.01,  -999.00,9,  -999.00,    0.000,2,    0.000,2,    0.000,2, -999.000,9,   2349.4,2,   2421.2,2,   -999.0,9,   7.5170,       25,6, -999.000,9,    39.43,2, -999.000,9, -999.000,   -999.0,9,   -999.0, -999.000,9, -999.000, -999.000,9, -999.000,   -999.0,9,   -999.0, -999.000,9, -999.000,9, -999.000,9
  49NZ20140717,   P01,    42,  1,     13, X12113,2,20140719,2019, 42.2860, 146.0493, 4153,   3001.1,2,   1.5519,2,   1.55164,2,  34.6610,2,  34.6617,2,-999.0000,9,   125.90,2,   125.94,2,   99.972,   0.0011,2,   -0.002,2,  -999.00,9,    2.130,1,    0.000,2,   156.89,2,     0.17,    37.72,2,     0.05,     0.00,2,     0.01,     2.65,2,     0.01,  -999.00,9,  -999.00,    0.000,2,    0.000,2,    0.000,2, -999.000,9,   2344.3,2,   2421.6,2,   -999.0,9,   7.5310,       25,2, -999.000,9,    36.26,2, -999.000,9, -999.000,   -999.0,9,   -999.0, -999.000,9, -999.000, -999.000,9, -999.000,   -999.0,9,   -999.0, -999.000,9, -999.000,9, -999.000,9
  49NZ20140717,   P01,    42,  1,     12, X12J12,2,20140719,2019, 42.2860, 146.0493, 4153,   3250.9,2,   1.5105,2,   1.51037,2,  34.6686,2,  34.6689,2,-999.0000,9,   133.84,2,   133.95,2,   99.968,   0.0013,2,   -0.002,2,  -999.00,9,    2.119,1,    0.000,2,   155.17,2,     0.17,    37.21,2,     0.05,     0.00,2,     0.01,     2.61,2,     0.01,  -999.00,9,  -999.00,    0.000,2,    0.000,2,    0.000,2, -999.000,9,   2338.3,2,   2418.4,6,   -999.0,9,   7.5462,       25,2, -999.000,9,    38.06,2, -999.000,9, -999.000,   -999.0,9,   -999.0, -999.000,9, -999.000, -999.000,9, -999.000,   -999.0,9,   -999.0, -999.000,9, -999.000,9, -999.000,9
  49NZ20140717,   P01,    42,  1,     11, X12J11,2,20140719,2019, 42.2860, 146.0493, 4153,   3501.3,2,   1.4817,2,   1.48174,2,  34.6746,2,  34.6749,2,-999.0000,9,   140.14,2,   140.29,2,   99.920,   0.0032,2,   -0.003,2,  -999.00,9,    2.087,1,    0.000,2,   153.65,2,     0.17,    36.79,2,     0.05,     0.00,2,     0.01,     2.58,2,     0.01,  -999.00,9,  -999.00,    0.375,4,    0.787,4,    0.111,4, -999.000,9,   2334.7,2,   2418.3,2,   -999.0,9,   7.5563,       25,2, -999.000,9,    42.00,3, -999.000,9, -999.000,   -999.0,9,   -999.0, -999.000,9, -999.000, -999.000,9, -999.000,   -999.0,9,   -999.0, -999.000,9, -999.000,9, -999.000,9
  49NZ20140717,   P01,    42,  1,     10, X12J10,2,20140719,2019, 42.2860, 146.0493, 4153,   3749.4,2,   1.4649,2,   1.46475,2,  34.6790,2,  34.6793,2,-999.0000,9,   145.61,2,   145.96,2,   99.940,   0.0024,2,   -0.003,2,  -999.00,9,    2.028,1,    0.000,2,   152.04,2,     0.17,    36.43,2,     0.05,     0.00,2,     0.01,     2.55,2,     0.01,  -999.00,9,  -999.00,    0.000,2,    0.000,2,    0.000,2, -999.000,9,   2331.4,2,   2416.4,2,   -999.0,9,   7.5651,       25,2, -999.000,9,    37.38,2, -999.000,9, -999.000,   -999.0,9,   -999.0, -999.000,9, -999.000, -999.000,9, -999.000,   -999.0,9,   -999.0, -999.000,9, -999.000,9, -999.000,9