BOTTLE,20230904JAMSTECRIGC
EXPOCODE,SECT,STNNBR,CASTNO,SAMPNO,BTLNBR,BTLNBR_FLAG_W,DATE,TIME,LATITUDE,LONGITUDE,DEPTH,CTDPRS,CTDPRS_FLAG_W,CTDTMP,CTDTMP_FLAG_W,SBE35,SBE35_FLAG_W,CTDSAL,CTDSAL_FLAG_W,SALNTY,SALNTY_FLAG_W,DNSSAL,DNSSAL_FLAG_W,CTDOXY,CTDOXY_FLAG_W,OXYGEN,OXYGEN_FLAG_W,XMISS,XMISSCP,XMISS_FLAG_W,FLUOR,FLUOR_FLAG_W,CHLORA,CHLORA_FLAG_W,CDOM,CDOM_FLAG_W,PAR,PAR_FLAG_W,SILCAT,SILCAT_FLAG_W,SILUNC,NITRAT,NITRAT_FLAG_W,NRAUNC,NITRIT,NITRIT_FLAG_W,NRIUNC,PHSPHT,PHSPHT_FLAG_W,PHPUNC,AMMONIA,AMMONIA_FLAG_W,NH4UNC,CFC-11,CFC-11_FLAG_W,CFC-12,CFC-12_FLAG_W,CFC113,CFC113_FLAG_W,SF6,SF6_FLAG_W,TCARBN,TCARBN_FLAG_W,ALKALI,ALKALI_FLAG_W,ALKALI_POT,ALKALI_POT_FLAG_W,PH_TOT,PH_TMP,PH_TOT_FLAG_W,CALCIUM,CALCIUM_FLAG_W,DOC,DOC_FLAG_W,DELC13,DELC13_FLAG_W,C13ERR,DELC14,DELC14_FLAG_W,C14ERR,CS-134,CS-134_FLAG_W,CS134ER,CS-137,CS-137_FLAG_W,CS137ER,I-129,I-129_FLAG_W,I-129ER,CDOM-325,CDOM-325_FLAG_W,CDOM-370,CDOM-370_FLAG_W,CDOM-443,CDOM-443_FLAG_W
,,,,,,,,UTC,DEG,DEG,METERS,DBAR,,ITS-90,,ITS-90,,PSS-78,,PSS-78,,G/KG,,UMOL/KG,,UMOL/KG,,%TRANS,/METER,,MG/CUM,,MG/CUM,,MG/CUM,,UE/SQM/S,,UMOL/KG,,UMOL/KG,UMOL/KG,,UMOL/KG,UMOL/KG,,UMOL/KG,UMOL/KG,,UMOL/KG,UMOL/KG,,UMOL/KG,PMOL/KG,,PMOL/KG,,PMOL/KG,,FMOL/KG,,UMOL/KG,,UMOL/KG,,UMOL/KG,,,DEG C,,MMOL/KG,,UMOL/KG,,/MILLE,,/MILLE,/MILLE,,/MILLE,MBQ/KG,,MBQ/KG,MBQ/KG,,MBQ/KG,,,,/METER,,/METER,,/METER,
  49NZ20140717,   P01,    73,  1,      0,   -999,9,20140727,1158, 47.0094, 160.0218, 5197,   -999.0,9,-999.0000,9,-999.00000,9,-999.0000,9,  32.6397,2,-999.0000,9,  -999.00,9,  -999.00,9, -999.000,-999.0000,9, -999.000,9,     0.48,2, -999.000,9, -999.000,9,    24.76,2,     0.09,    12.51,2,     0.02,     0.12,2,     0.01,     1.25,2,     0.01,  -999.00,9,  -999.00, -999.000,9, -999.000,9, -999.000,9, -999.000,9,   -999.0,9,   -999.0,9,   -999.0,9,-999.0000,     -999,9, -999.000,9,  -999.00,9, -999.000,9, -999.000,   -999.0,9,   -999.0, -999.000,1, -999.000, -999.000,1, -999.000,   -999.0,1,   -999.0,    0.180,2,    0.057,2,    0.015,2
  49NZ20140717,   P01,    73,  1,     36, X12J36,2,20140727,1158, 47.0094, 160.0218, 5197,     10.3,2,  11.2171,2,  11.22731,2,  32.6833,2,  32.6752,2,  32.8321,2,   290.81,2,   289.94,2,   92.408,   0.3158,2,    0.693,2,     0.65,2,    0.324,1,    0.359,2,    27.17,2,     0.09,    12.57,2,     0.02,     0.12,2,     0.01,     1.26,2,     0.01,  -999.00,9,  -999.00,    3.686,2,    2.085,2,    0.415,2, -999.000,9,   2030.9,2,   2216.1,2,   -999.0,9,   7.8578,       25,6, -999.000,9,    61.39,2, -999.000,1, -999.000,   -999.0,1,   -999.0, -999.000,9, -999.000, -999.000,9, -999.000,   -999.0,9,   -999.0,    0.309,2,    0.142,2,    0.061,2
  49NZ20140717,   P01,    73,  1,     35, X12J35,2,20140727,1158, 47.0094, 160.0218, 5197,     49.8,2,   3.1574,2,   3.14694,2,  32.8932,2,  32.9006,2,  33.0598,2,   329.01,2,   330.61,2,   97.956,   0.0826,2,    0.340,2,     0.50,2,    0.837,1,    0.000,2,    33.43,2,     0.10,    20.55,2,     0.03,     0.31,2,     0.01,     1.79,2,     0.01,  -999.00,9,  -999.00,    5.518,2,    3.048,2,    0.562,2, -999.000,9,   2110.6,6,   2226.1,2,   -999.0,9,   7.6827,       25,2, -999.000,9,    51.86,2, -999.000,1, -999.000,   -999.0,1,   -999.0, -999.000,9, -999.000, -999.000,9, -999.000,   -999.0,9,   -999.0,    0.090,4,    0.009,4,   -0.011,4
  49NZ20140717,   P01,    73,  1,     34, X12J34,2,20140727,1158, 47.0094, 160.0218, 5197,    100.6,2,   2.0282,2,   2.00400,2,  33.0723,2,  33.1066,2,  33.2682,2,   277.16,2,   272.28,2,   99.496,   0.0202,2,    0.046,2,     0.05,2,    1.356,1,    0.000,2,    47.89,2,     0.10,    27.77,2,     0.04,     0.02,2,     0.01,     2.15,2,     0.01,  -999.00,9,  -999.00,    5.027,2,    2.761,2,    0.491,2, -999.000,9,   2163.4,2,   2237.3,2,   -999.0,9,   7.5625,       25,2, -999.000,9,    49.41,2, -999.000,1, -999.000,   -999.0,1,   -999.0, -999.000,9, -999.000, -999.000,9, -999.000,   -999.0,9,   -999.0,    0.167,2,    0.065,2,    0.021,2
  49NZ20140717,   P01,    73,  1,     33, X12J33,2,20140727,1158, 47.0094, 160.0218, 5197,    150.3,2,   3.6436,2,   3.64348,2,  33.7375,2,  33.7422,2,  33.9094,2,    73.99,2,    73.24,2,   99.539,   0.0185,2,    0.020,2,     0.01,2,    2.516,1,    0.000,2,    85.45,2,     0.13,    41.89,2,     0.05,     0.01,2,     0.01,     2.98,2,     0.01,  -999.00,9,  -999.00,    2.691,2,    1.416,2,    0.232,2, -999.000,9,   2300.8,2,   2282.0,2,   -999.0,9,   7.2801,       25,6, -999.000,9,    44.01,2, -999.000,1, -999.000,   -999.0,1,   -999.0, -999.000,9, -999.000, -999.000,9, -999.000,   -999.0,9,   -999.0, -999.000,9, -999.000,9, -999.000,9
  49NZ20140717,   P01,    73,  1,     32, X12J32,2,20140727,1158, 47.0094, 160.0218, 5197,    199.2,2,   3.5230,2,   3.52154,2,  33.8600,2,  33.8650,2,  34.0321,2,    41.22,2,    41.32,2,   99.399,   0.0241,2,    0.015,2,     0.00,2,    2.750,1,    0.000,2,    97.52,2,     0.14,    44.20,2,     0.06,     0.01,2,     0.01,     3.13,2,     0.01,  -999.00,9,  -999.00,    2.155,2,    1.120,2,    0.181,2, -999.000,9,   2330.1,2,   2297.9,6,   -999.0,9,   7.2349,       25,2, -999.000,9,    42.73,2, -999.000,1, -999.000,   -999.0,1,   -999.0, -999.000,9, -999.000, -999.000,9, -999.000,   -999.0,9,   -999.0,    0.180,2,    0.068,2,    0.025,2
  49NZ20140717,   P01,    73,  1,     31, X12J31,2,20140727,1158, 47.0094, 160.0218, 5197,    249.3,2,   3.4736,2,   3.47245,2,  33.9454,2,  33.9429,2,  34.1132,2,    29.16,2,    30.29,2,   99.654,   0.0139,2,    0.015,2,     0.01,2,    2.857,1,    0.000,2,   104.89,2,     0.14,    44.62,2,     0.06,     0.01,2,     0.01,     3.17,2,     0.01,  -999.00,9,  -999.00,    1.783,2,    0.924,2,    0.148,2, -999.000,9,   2340.5,2,   2307.3,2,   -999.0,9,   7.2328,       25,2, -999.000,9,    42.20,2, -999.000,1, -999.000,   -999.0,1,   -999.0, -999.000,9, -999.000, -999.000,9, -999.000,   -999.0,9,   -999.0, -999.000,9, -999.000,9, -999.000,9
  49NZ20140717,   P01,    73,  1,     30, X12J30,2,20140727,1158, 47.0094, 160.0218, 5197,    330.1,2,   3.5441,2,   3.54345,2,  34.0699,2,  34.0696,2,  34.2398,2,    17.02,2,    16.74,2,   99.844,   0.0062,2,    0.016,2,  -999.00,9,    2.929,1,    0.000,2,   114.21,2,     0.34,    44.75,2,     0.18,     0.01,2,     0.01,     3.18,2,     0.01,  -999.00,9,  -999.00,    1.172,2,    0.572,2,    0.085,2, -999.000,9,   2353.5,2,   2321.9,2,   -999.0,9,   7.2410,       25,2, -999.000,9,    41.73,2, -999.000,1, -999.000,   -999.0,1,   -999.0, -999.000,9, -999.000, -999.000,9, -999.000,   -999.0,9,   -999.0, -999.000,9, -999.000,9, -999.000,9
  49NZ20140717,   P01,    73,  1,     29, X12J29,2,20140727,1158, 47.0094, 160.0218, 5197,    429.8,2,   3.4293,2,   3.42914,2,  34.1669,2,  34.1663,2,  34.3387,2,    14.05,2,    13.47,2,   99.861,   0.0056,2,    0.014,2,  -999.00,9,    2.979,1,    0.000,2,   123.71,2,     0.15,    44.61,2,     0.06,     0.01,2,     0.01,     3.17,2,     0.01,  -999.00,9,  -999.00,    0.759,2,    0.356,2,    0.046,2, -999.000,9,   2363.6,2,   2338.6,2,   -999.0,9,   7.2567,       25,2, -999.000,9,    41.32,2, -999.000,1, -999.000,   -999.0,1,   -999.0, -999.000,9, -999.000, -999.000,9, -999.000,   -999.0,9,   -999.0, -999.000,9, -999.000,9, -999.000,9
  49NZ20140717,   P01,    73,  1,     28, X12J28,2,20140727,1158, 47.0094, 160.0218, 5197,    529.6,2,   3.2755,2,   3.27583,2,  34.2314,2,  34.2304,2,  34.4060,2,    14.13,2,    13.31,2,   99.863,   0.0055,2,    0.013,2,  -999.00,9,    2.970,1,    0.000,2,   131.09,2,     0.16,    44.49,2,     0.06,     0.01,2,     0.01,     3.17,2,     0.01,  -999.00,9,  -999.00,    0.532,2,    0.250,2,    0.031,2, -999.000,9,   2368.9,2,   2348.0,2,   -999.0,9,   7.2695,       25,2, -999.000,9,    38.34,2, -999.000,1, -999.000,   -999.0,1,   -999.0, -999.000,9, -999.000, -999.000,9, -999.000,   -999.0,9,   -999.0,    0.141,2,    0.054,2,    0.018,2
  49NZ20140717,   P01,    73,  1,     27, X12J27,2,20140727,1158, 47.0094, 160.0218, 5197,    630.4,2,   3.1132,2,   3.11307,2,  34.2835,2,  34.2838,2,  34.4581,2,    16.58,2,    15.96,2,   99.879,   0.0049,2,    0.013,2,  -999.00,9,    2.987,1,    0.000,2,   137.36,2,     0.16,    44.30,2,     0.06,     0.01,2,     0.01,     3.16,2,     0.01,  -999.00,9,  -999.00,    0.396,2,    0.185,2,    0.013,2, -999.000,9,   2373.7,2,   2357.7,2,   -999.0,9,   7.2825,       25,2, -999.000,9,  -999.00,2, -999.000,1, -999.000,   -999.0,1,   -999.0, -999.000,9, -999.000, -999.000,9, -999.000,   -999.0,9,   -999.0, -999.000,9, -999.000,9, -999.000,9
  49NZ20140717,   P01,    73,  1,     26, X12J26,2,20140727,1158, 47.0094, 160.0218, 5197,    729.2,2,   2.9693,2,   2.96933,2,  34.3305,2,  34.3301,2,  34.5069,2,    15.62,2,    15.24,2,   99.872,   0.0051,2,    0.012,2,  -999.00,9,    2.999,1,    0.000,2,   143.14,2,     0.16,    44.28,2,     0.06,     0.01,2,     0.01,     3.16,2,     0.01,  -999.00,9,  -999.00,    0.266,2,    0.119,2,    0.007,2, -999.000,9,   2381.2,6,   2366.6,2,   -999.0,9,   7.2875,       25,2, -999.000,9,    38.51,2, -999.000,1, -999.000,   -999.0,1,   -999.0, -999.000,9, -999.000, -999.000,9, -999.000,   -999.0,9,   -999.0, -999.000,9, -999.000,9, -999.000,9
  49NZ20140717,   P01,    73,  1,     25, X12J25,2,20140727,1158, 47.0094, 160.0218, 5197,    828.5,2,   2.8145,2,   2.81425,2,  34.3725,2,  34.3730,2,  34.5491,2,    16.49,2,    15.84,2,   99.883,   0.0047,2,    0.011,2,  -999.00,9,    3.028,1,    0.000,2,   148.85,2,     0.17,    44.29,2,     0.06,     0.01,2,     0.01,     3.16,2,     0.01,  -999.00,9,  -999.00,    0.180,2,    0.081,2,    0.000,2, -999.000,9,   2385.1,2,   2373.9,2,   -999.0,9,   7.2945,       25,2, -999.000,9,    39.58,2, -999.000,1, -999.000,   -999.0,1,   -999.0, -999.000,9, -999.000, -999.000,9, -999.000,   -999.0,9,   -999.0,    0.146,2,    0.055,2,    0.019,2
  49NZ20140717,   P01,    73,  1,     24, X12J24,2,20140727,1158, 47.0094, 160.0218, 5197,    929.8,2,   2.6409,2,   2.64071,2,  34.4118,2,  34.4116,2,  34.5900,2,    19.25,2,    18.69,2,   99.879,   0.0049,2,    0.011,2,  -999.00,9,    3.115,1,    0.000,2,   154.57,2,     0.17,    44.16,2,     0.06,     0.01,2,     0.01,     3.15,2,     0.01,  -999.00,9,  -999.00,    0.133,2,    0.057,2,    0.000,2, -999.000,9,   2388.3,2,   2380.3,2,   -999.0,9,   7.3045,       25,6, -999.000,9,    39.12,2, -999.000,1, -999.000,   -999.0,1,   -999.0, -999.000,9, -999.000, -999.000,9, -999.000,   -999.0,9,   -999.0, -999.000,9, -999.000,9, -999.000,9
  49NZ20140717,   P01,    73,  1,     23, X12J23,2,20140727,1158, 47.0094, 160.0218, 5197,   1068.5,2,   2.4468,2,   2.44650,2,  34.4568,2,  34.4573,2,  34.6354,2,    24.96,2,    24.62,2,   99.920,   0.0032,2,    0.010,2,  -999.00,9,    3.077,1,    0.000,2,   160.31,2,     0.17,    43.87,2,     0.06,     0.01,2,     0.01,     3.12,2,     0.01,  -999.00,9,  -999.00,    0.081,2,    0.038,2,    0.000,2, -999.000,9,   2390.5,2,   2387.5,2,   -999.0,9,   7.3193,       25,2, -999.000,9,    38.16,2, -999.000,1, -999.000,   -999.0,1,   -999.0, -999.000,9, -999.000, -999.000,9, -999.000,   -999.0,9,   -999.0,    0.109,2,    0.030,2,    0.002,2
  49NZ20140717,   P01,    73,  1,     22, X12J22,2,20140727,1158, 47.0094, 160.0218, 5197,   1269.0,2,   2.2216,2,   2.22132,2,  34.5097,2,  34.5096,2,  34.6882,2,    35.68,2,    35.52,2,   99.909,   0.0036,2,    0.008,2,  -999.00,9,    2.980,1,    0.000,2,   166.37,2,     0.18,    43.22,2,     0.05,     0.01,2,     0.01,     3.08,2,     0.01,  -999.00,9,  -999.00,    0.045,2,    0.019,2,    0.000,2, -999.000,9,   2390.1,2,   2397.9,6,   -999.0,9,   7.3465,       25,2, -999.000,9,    37.81,2, -999.000,1, -999.000,   -999.0,1,   -999.0, -999.000,9, -999.000, -999.000,9, -999.000,   -999.0,9,   -999.0, -999.000,9, -999.000,9, -999.000,9
  49NZ20140717,   P01,    73,  1,     21, X12J21,2,20140727,1158, 47.0094, 160.0218, 5197,   1468.2,2,   2.0629,2,   2.06281,2,  34.5475,2,  34.5475,2,  34.7264,2,    47.35,2,    47.42,2,   99.946,   0.0022,2,    0.007,2,  -999.00,9,    2.969,1,    0.000,2,   169.05,2,     0.18,    42.52,2,     0.05,     0.00,2,     0.01,     3.03,2,     0.01,  -999.00,9,  -999.00,    0.024,2,    0.012,2,    0.000,2, -999.000,9,   2387.6,2,   2404.2,2,   -999.0,9,   7.3732,       25,2, -999.000,9,    37.74,2, -999.000,9, -999.000,   -999.0,9,   -999.0, -999.000,9, -999.000, -999.000,9, -999.000,   -999.0,9,   -999.0, -999.000,9, -999.000,9, -999.000,9
  49NZ20140717,   P01,    73,  1,     20, X12J20,2,20140727,1158, 47.0094, 160.0218, 5197,   1669.9,2,   1.9410,2,   1.94087,2,  34.5769,2,  34.5772,2,  34.7561,2,    59.07,2,    59.29,2,   99.939,   0.0024,2,    0.007,2,  -999.00,9,    2.931,1,    0.000,2,   169.95,2,     0.18,    41.82,2,     0.05,     0.01,2,     0.01,     2.97,2,     0.01,  -999.00,9,  -999.00,    0.012,2,    0.006,2,    0.000,2, -999.000,9,   2382.7,2,   2407.2,2,   -999.0,9,   7.3982,       25,6, -999.000,9,    38.40,2, -999.000,1, -999.000,   -999.0,1,   -999.0, -999.000,9, -999.000, -999.000,9, -999.000,   -999.0,9,   -999.0, -999.000,9, -999.000,9, -999.000,9
  49NZ20140717,   P01,    73,  1,     19, X12J19,2,20140727,1158, 47.0094, 160.0218, 5197,   1869.4,2,   1.8366,2,   1.83640,2,  34.6004,2,  34.6007,2,  34.7792,2,    72.58,2,    72.78,2,   99.961,   0.0016,2,    0.007,2,  -999.00,9,    2.847,1,    0.000,2,   169.63,2,     0.18,    40.99,2,     0.05,     0.01,2,     0.01,     2.92,2,     0.01,  -999.00,9,  -999.00,    0.003,2,    0.002,2,    0.000,2, -999.000,9,   2375.1,2,   2411.4,2,   -999.0,9,   7.4263,       25,2, -999.000,9,    38.79,2, -999.000,9, -999.000,   -999.0,9,   -999.0, -999.000,9, -999.000, -999.000,9, -999.000,   -999.0,9,   -999.0, -999.000,9, -999.000,9, -999.000,9
  49NZ20140717,   P01,    73,  1,     18, X12J18,2,20140727,1158, 47.0094, 160.0218, 5197,   2069.2,2,   1.7496,2,   1.74956,2,  34.6188,2,  34.6190,2,  34.7976,2,    84.93,2,    85.04,2,   99.943,   0.0023,2,    0.006,2,  -999.00,9,    2.775,1,    0.000,2,   168.33,2,     0.18,    40.28,2,     0.05,     0.01,2,     0.01,     2.86,2,     0.01,  -999.00,9,  -999.00,    0.000,2,    0.000,2,    0.000,2, -999.000,9,   2368.9,2,   2413.2,2,   -999.0,9,   7.4514,       25,2, -999.000,9,    38.04,2, -999.000,1, -999.000,   -999.0,1,   -999.0, -999.000,9, -999.000, -999.000,9, -999.000,   -999.0,9,   -999.0,    0.101,2,    0.025,2,    0.000,2
  49NZ20140717,   P01,    73,  1,     17, X12J17,2,20140727,1158, 47.0094, 160.0218, 5197,   2270.9,2,   1.6700,2,   1.66997,2,  34.6341,2,  34.6346,2,  34.8135,2,    97.22,2,    97.40,2,   99.941,   0.0024,2,    0.005,2,  -999.00,9,    2.733,1,    0.000,2,   166.48,2,     0.18,    39.52,2,     0.05,     0.01,2,     0.01,     2.80,2,     0.01,  -999.00,9,  -999.00,    0.000,2,    0.000,2,    0.000,2, -999.000,9,   2362.0,2,   2415.8,2,   -999.0,9,   7.4755,       25,2, -999.000,9,    38.40,2, -999.000,9, -999.000,   -999.0,9,   -999.0, -999.000,9, -999.000, -999.000,9, -999.000,   -999.0,9,   -999.0, -999.000,9, -999.000,9, -999.000,9
  49NZ20140717,   P01,    73,  1,     16, X12J16,2,20140727,1158, 47.0094, 160.0218, 5197,   2471.1,2,   1.6072,2,   1.60710,2,  34.6466,2,  34.6470,2,  34.8267,2,   108.87,2,   108.94,2,   99.948,   0.0021,2,    0.004,2,  -999.00,9,    2.584,1,    0.000,2,   163.41,2,     0.18,    38.81,2,     0.05,     0.01,2,     0.01,     2.75,2,     0.01,  -999.00,9,  -999.00,    0.000,2,    0.000,2,    0.000,2, -999.000,9,   2354.1,6,   2416.7,2,   -999.0,9,   7.4977,       25,2, -999.000,9,    38.46,2, -999.000,9, -999.000,   -999.0,9,   -999.0, -999.000,9, -999.000, -999.000,9, -999.000,   -999.0,9,   -999.0, -999.000,9, -999.000,9, -999.000,9
  49NZ20140717,   P01,    73,  1,     15, X12J15,2,20140727,1158, 47.0094, 160.0218, 5197,   2670.5,2,   1.5578,2,   1.55778,2,  34.6558,2,  34.6562,2,  34.8366,2,   118.15,2,   118.09,2,   99.941,   0.0024,2,    0.003,2,  -999.00,9,    2.576,1,    0.000,2,   160.33,2,     0.17,    38.15,2,     0.05,     0.00,2,     0.01,     2.69,2,     0.01,  -999.00,9,  -999.00,    0.000,2,    0.000,2,    0.000,2, -999.000,9,   2349.0,2,   2415.7,2,   -999.0,9,   7.5148,       25,2, -999.000,9,    39.16,2, -999.000,1, -999.000,   -999.0,1,   -999.0, -999.000,9, -999.000, -999.000,9, -999.000,   -999.0,9,   -999.0, -999.000,9, -999.000,9, -999.000,9
  49NZ20140717,   P01,    73,  1,     14, X12J14,2,20140727,1158, 47.0094, 160.0218, 5197,   2871.0,2,   1.5167,2,   1.51673,2,  34.6633,2,  34.6633,2,  34.8451,2,   126.09,2,   126.00,2,   99.974,   0.0011,2,    0.004,2,  -999.00,9,    2.481,1,    0.000,2,   158.41,2,     0.17,    37.64,2,     0.05,     0.00,2,     0.01,     2.65,2,     0.01,  -999.00,9,  -999.00,    0.000,2,    0.000,2,    0.000,2, -999.000,9,   2343.4,2,   2415.3,2,   -999.0,9,   7.5296,       25,6, -999.000,9,    39.02,2, -999.000,9, -999.000,   -999.0,9,   -999.0, -999.000,9, -999.000, -999.000,9, -999.000,   -999.0,9,   -999.0, -999.000,9, -999.000,9, -999.000,9
  49NZ20140717,   P01,    73,  1,     13, X12113,2,20140727,1158, 47.0094, 160.0218, 5197,   3079.5,2,   1.4919,2,   1.49188,2,  34.6688,2,  34.6690,2,  34.8491,2,   132.57,2,   132.50,2,   99.952,   0.0019,2,    0.002,2,  -999.00,9,    2.459,1,    0.000,2,   156.33,2,     0.17,    37.27,2,     0.05,     0.00,2,     0.01,     2.62,2,     0.01,  -999.00,9,  -999.00,    0.000,2,    0.000,2,    0.000,2, -999.000,9,   2339.5,2,   2416.4,2,   -999.0,9,   7.5421,       25,2, -999.000,9,    38.16,2, -999.000,1, -999.000,   -999.0,1,   -999.0, -999.000,9, -999.000, -999.000,9, -999.000,   -999.0,9,   -999.0,   -0.015,4,   -0.051,4,   -0.035,4
  49NZ20140717,   P01,    73,  1,     12, X12J12,2,20140727,1158, 47.0094, 160.0218, 5197,   3330.6,2,   1.4645,2,   1.46444,2,  34.6745,2,  34.6745,2,  34.8550,2,   139.29,2,   139.06,2,   99.963,   0.0015,2,    0.003,2,  -999.00,9,    2.376,1,    0.000,2,   154.41,2,     0.17,    36.85,2,     0.05,     0.00,2,     0.01,     2.58,2,     0.01,  -999.00,9,  -999.00,    0.000,2,    0.000,2,    0.000,2, -999.000,9,   2337.4,2,   2416.5,6,   -999.0,9,   7.5527,       25,2, -999.000,9,    39.20,2, -999.000,9, -999.000,   -999.0,9,   -999.0, -999.000,9, -999.000, -999.000,9, -999.000,   -999.0,9,   -999.0, -999.000,9, -999.000,9, -999.000,9
  49NZ20140717,   P01,    73,  1,     11, X12J11,2,20140727,1158, 47.0094, 160.0218, 5197,   3581.3,2,   1.4527,2,   1.45272,2,  34.6787,2,  34.6785,2,  34.8583,2,   144.39,2,   144.21,2,   99.952,   0.0019,2,    0.002,2,  -999.00,9,    2.374,1,    0.000,2,   152.99,2,     0.17,    36.56,2,     0.05,     0.00,2,     0.01,     2.56,2,     0.01,  -999.00,9,  -999.00,    0.001,2,    0.000,2,    0.000,2, -999.000,9,   2330.8,2,   2415.4,2,   -999.0,9,   7.5614,       25,2, -999.000,9,    38.23,2, -999.000,1, -999.000,   -999.0,1,   -999.0, -999.000,9, -999.000, -999.000,9, -999.000,   -999.0,9,   -999.0, -999.000,9, -999.000,9, -999.000,9
  49NZ20140717,   P01,    73,  1,     10, X12J10,2,20140727,1158, 47.0094, 160.0218, 5197,   3830.9,2,   1.4482,2,   1.44822,2,  34.6821,2,  34.6820,2,  34.8609,2,   148.51,2,   148.14,2,   99.961,   0.0016,2,    0.002,2,  -999.00,9,    2.272,1,    0.000,2,   151.98,2,     0.17,    36.27,2,     0.05,     0.00,2,     0.01,     2.53,2,     0.01,  -999.00,9,  -999.00,    0.000,2,    0.000,2,    0.000,2, -999.000,9,   2327.7,2,   2414.3,2,   -999.0,9,   7.5684,       25,2, -999.000,9,    38.79,2, -999.000,9, -999.000,   -999.0,9,   -999.0, -999.000,9, -999.000, -999.000,9, -999.000,   -999.0,9,   -999.0, -999.000,9, -999.000,9, -999.000,9