BOTTLE,20230904JAMSTECRIGC
EXPOCODE,SECT,STNNBR,CASTNO,SAMPNO,BTLNBR,BTLNBR_FLAG_W,DATE,TIME,LATITUDE,LONGITUDE,DEPTH,CTDPRS,CTDPRS_FLAG_W,CTDTMP,CTDTMP_FLAG_W,SBE35,SBE35_FLAG_W,CTDSAL,CTDSAL_FLAG_W,SALNTY,SALNTY_FLAG_W,DNSSAL,DNSSAL_FLAG_W,CTDOXY,CTDOXY_FLAG_W,OXYGEN,OXYGEN_FLAG_W,XMISS,XMISSCP,XMISS_FLAG_W,FLUOR,FLUOR_FLAG_W,CHLORA,CHLORA_FLAG_W,CDOM,CDOM_FLAG_W,PAR,PAR_FLAG_W,SILCAT,SILCAT_FLAG_W,SILUNC,NITRAT,NITRAT_FLAG_W,NRAUNC,NITRIT,NITRIT_FLAG_W,NRIUNC,PHSPHT,PHSPHT_FLAG_W,PHPUNC,AMMONIA,AMMONIA_FLAG_W,NH4UNC,CFC-11,CFC-11_FLAG_W,CFC-12,CFC-12_FLAG_W,CFC113,CFC113_FLAG_W,SF6,SF6_FLAG_W,TCARBN,TCARBN_FLAG_W,ALKALI,ALKALI_FLAG_W,ALKALI_POT,ALKALI_POT_FLAG_W,PH_TOT,PH_TMP,PH_TOT_FLAG_W,CALCIUM,CALCIUM_FLAG_W,DOC,DOC_FLAG_W,DELC13,DELC13_FLAG_W,C13ERR,DELC14,DELC14_FLAG_W,C14ERR,CS-134,CS-134_FLAG_W,CS134ER,CS-137,CS-137_FLAG_W,CS137ER,I-129,I-129_FLAG_W,I-129ER,CDOM-325,CDOM-325_FLAG_W,CDOM-370,CDOM-370_FLAG_W,CDOM-443,CDOM-443_FLAG_W
,,,,,,,,UTC,DEG,DEG,METERS,DBAR,,ITS-90,,ITS-90,,PSS-78,,PSS-78,,G/KG,,UMOL/KG,,UMOL/KG,,%TRANS,/METER,,MG/CUM,,MG/CUM,,MG/CUM,,UE/SQM/S,,UMOL/KG,,UMOL/KG,UMOL/KG,,UMOL/KG,UMOL/KG,,UMOL/KG,UMOL/KG,,UMOL/KG,UMOL/KG,,UMOL/KG,PMOL/KG,,PMOL/KG,,PMOL/KG,,FMOL/KG,,UMOL/KG,,UMOL/KG,,UMOL/KG,,,DEG C,,MMOL/KG,,UMOL/KG,,/MILLE,,/MILLE,/MILLE,,/MILLE,MBQ/KG,,MBQ/KG,MBQ/KG,,MBQ/KG,,,,/METER,,/METER,,/METER,
  49NZ20140717,   P01,   118,  1,      0,   -999,9,20140812,1638, 46.9877,-155.8515, 5250,   -999.0,9,-999.0000,9,-999.00000,9,-999.0000,9,  32.6220,2,-999.0000,9,  -999.00,9,  -999.00,9, -999.000,-999.0000,9, -999.000,9,     0.59,2, -999.000,9, -999.000,9,     1.90,2,     0.10,     6.79,2,     0.02,     0.09,2,     0.01,     0.79,2,     0.01,  -999.00,9,  -999.00, -999.000,9, -999.000,9, -999.000,9, -999.000,9,   -999.0,9,   -999.0,9,   -999.0,9,-999.0000,     -999,9, -999.000,9,  -999.00,9, -999.000,9, -999.000,   -999.0,9,   -999.0, -999.000,9, -999.000, -999.000,9, -999.000,   -999.0,9,   -999.0,    0.220,2,    0.104,2,    0.040,2
  49NZ20140717,   P01,   118,  1,     36, X12J36,2,20140812,1638, 46.9877,-155.8515, 5250,     10.1,2,  13.3261,2,  13.32328,2,  32.6151,2,  32.6149,2,-999.0000,9,   270.34,2,   270.17,2,   93.601,   0.2645,2,    0.608,2,     0.61,2,    0.268,1,   22.686,2,     2.01,2,     0.10,     6.72,2,     0.02,     0.08,2,     0.01,     0.79,2,     0.01,  -999.00,9,  -999.00,    3.104,2,    1.849,2,    0.358,2, -999.000,9,   1998.4,2,   2196.4,2,   -999.0,9,   7.8912,       25,6, -999.000,9,    60.47,2, -999.000,9, -999.000,   -999.0,9,   -999.0, -999.000,9, -999.000, -999.000,9, -999.000,   -999.0,9,   -999.0,    0.148,2,    0.050,2,    0.009,2
  49NZ20140717,   P01,   118,  1,     35, X12J35,2,20140812,1638, 46.9877,-155.8515, 5250,     49.1,2,   7.3254,2,   7.32472,2,  32.9850,2,  32.9859,2,-999.0000,9,   298.26,2,   298.25,2,   98.758,   0.0500,2,    0.280,2,     0.30,2,    0.641,1,    0.724,2,    18.16,2,     0.09,    11.43,2,     0.02,     0.10,2,     0.01,     1.15,2,     0.01,  -999.00,9,  -999.00,    4.250,2,    2.424,2,    0.445,2, -999.000,9,   2061.2,6,   2216.3,2,   -999.0,9,   7.7787,       25,2, -999.000,9,    55.47,2, -999.000,9, -999.000,   -999.0,9,   -999.0, -999.000,9, -999.000, -999.000,9, -999.000,   -999.0,9,   -999.0,    0.144,2,    0.055,2,    0.015,2
  49NZ20140717,   P01,   118,  1,     34, X12J34,2,20140812,1638, 46.9877,-155.8515, 5250,     98.4,2,   6.5159,2,   6.51809,2,  33.2237,2,  33.2183,2,-999.0000,9,   282.67,2,   282.60,2,   99.555,   0.0178,2,    0.053,2,     0.05,2,    0.647,1,    0.025,2,    19.71,2,     0.09,    14.35,2,     0.03,     0.02,2,     0.01,     1.20,2,     0.01,  -999.00,9,  -999.00,    4.233,2,    2.408,2,    0.422,2, -999.000,9,   2082.8,2,   2217.3,2,   -999.0,9,   7.7436,       25,2, -999.000,9,    48.69,2, -999.000,9, -999.000,   -999.0,9,   -999.0, -999.000,9, -999.000, -999.000,9, -999.000,   -999.0,9,   -999.0,    0.135,2,    0.051,2,    0.018,2
  49NZ20140717,   P01,   118,  1,     33, X12J33,2,20140812,1638, 46.9877,-155.8515, 5250,    150.4,2,   6.4751,2,   6.47546,2,  33.7792,2,  33.7772,2,-999.0000,9,   210.45,2,   210.55,2,   99.441,   0.0224,2,    0.028,2,     0.02,2,    1.539,1,    0.000,2,    36.07,2,     0.10,    22.77,2,     0.03,     0.01,2,     0.01,     1.66,2,     0.01,  -999.00,9,  -999.00,    3.704,2,    2.085,2,    0.290,2, -999.000,9,   2159.5,2,   2261.2,2,   -999.0,9,   7.6301,       25,2, -999.000,9,    47.93,2, -999.000,9, -999.000,   -999.0,9,   -999.0, -999.000,9, -999.000, -999.000,9, -999.000,   -999.0,9,   -999.0, -999.000,9, -999.000,9, -999.000,9
  49NZ20140717,   P01,   118,  1,     32, X12J32,2,20140812,1638, 46.9877,-155.8515, 5250,    200.0,2,   5.8438,2,   5.84330,2,  33.8180,2,  33.8146,2,-999.0000,9,   173.20,2,   173.13,2,   99.499,   0.0201,2,    0.023,2,     0.01,2,    2.016,1,    0.000,2,    48.50,2,     0.11,    27.64,2,     0.04,     0.02,2,     0.01,     2.00,2,     0.01,  -999.00,9,  -999.00,    3.436,2,    1.902,2,    0.243,2, -999.000,9,   2196.6,2,   2270.8,6,   -999.0,9,   7.5499,       25,2, -999.000,9,    47.65,2, -999.000,9, -999.000,   -999.0,9,   -999.0, -999.000,9, -999.000, -999.000,9, -999.000,   -999.0,9,   -999.0,    0.173,2,    0.071,2,    0.025,2
  49NZ20140717,   P01,   118,  1,     31, X12J31,2,20140812,1638, 46.9877,-155.8515, 5250,    252.0,2,   5.1167,2,   5.11736,2,  33.8313,2,  33.8308,2,-999.0000,9,   143.96,2,   144.00,2,   99.603,   0.0159,2,    0.022,2,     0.01,2,    2.358,1,    0.000,2,    60.27,2,     0.11,    31.66,2,     0.09,     0.01,2,     0.01,     2.29,2,     0.01,  -999.00,9,  -999.00,    3.154,2,    1.721,2,    0.230,2, -999.000,9,   2228.2,2,   2276.7,2,   -999.0,9,   7.4779,       25,2, -999.000,9,    45.30,2, -999.000,9, -999.000,   -999.0,9,   -999.0, -999.000,9, -999.000, -999.000,9, -999.000,   -999.0,9,   -999.0, -999.000,9, -999.000,9, -999.000,9
  49NZ20140717,   P01,   118,  1,     30, X12J30,2,20140812,1638, 46.9877,-155.8515, 5250,    329.2,2,   4.4013,2,   4.40099,2,  33.8829,2,  33.8821,2,-999.0000,9,   102.91,2,   103.27,2,   99.703,   0.0119,2,    0.021,2,  -999.00,9,    2.680,1,    0.000,2,    76.20,2,     0.12,    36.64,2,     0.05,     0.01,2,     0.01,     2.62,2,     0.01,  -999.00,9,  -999.00,    2.628,2,    1.406,2,    0.190,2, -999.000,9,   2270.3,2,   2290.7,2,   -999.0,9,   7.3898,       25,2, -999.000,9,    46.68,2, -999.000,9, -999.000,   -999.0,9,   -999.0, -999.000,9, -999.000, -999.000,9, -999.000,   -999.0,9,   -999.0, -999.000,9, -999.000,9, -999.000,9
  49NZ20140717,   P01,   118,  1,     29, X12J29,2,20140812,1638, 46.9877,-155.8515, 5250,    431.1,2,   4.0820,2,   4.08168,2,  34.0100,2,  34.0090,2,-999.0000,9,    64.08,2,    64.55,2,   99.872,   0.0051,2,    0.021,2,  -999.00,9,    2.834,1,    0.000,2,    93.71,2,     0.13,    40.21,2,     0.05,     0.01,2,     0.01,     2.87,2,     0.01,  -999.00,9,  -999.00,    1.776,2,    0.925,2,    0.127,2, -999.000,9,   2306.1,2,   2311.2,2,   -999.0,9,   7.3359,       25,2, -999.000,9,    43.32,2, -999.000,9, -999.000,   -999.0,9,   -999.0, -999.000,9, -999.000, -999.000,9, -999.000,   -999.0,9,   -999.0, -999.000,9, -999.000,9, -999.000,9
  49NZ20140717,   P01,   118,  1,     28, X12J28,2,20140812,1638, 46.9877,-155.8515, 5250,    531.4,2,   3.8585,2,   3.85791,2,  34.0935,2,  34.0927,2,-999.0000,9,    43.83,2,    44.22,2,   99.935,   0.0026,2,    0.021,2,  -999.00,9,    2.937,1,    0.000,2,   105.58,2,     0.14,    41.91,2,     0.05,     0.01,2,     0.01,     2.98,2,     0.01,  -999.00,9,  -999.00,    1.274,2,    0.638,2,    0.073,2, -999.000,9,   2328.4,2,   2323.9,2,   -999.0,9,   7.3103,       25,2, -999.000,9,    40.66,2, -999.000,9, -999.000,   -999.0,9,   -999.0, -999.000,9, -999.000, -999.000,9, -999.000,   -999.0,9,   -999.0,    0.365,2,    0.234,2,    0.123,2
  49NZ20140717,   P01,   118,  1,     27, X12J27,2,20140812,1638, 46.9877,-155.8515, 5250,    630.3,2,   3.6854,2,   3.68495,2,  34.1756,2,  34.1746,2,-999.0000,9,    33.28,2,    33.68,2,   99.909,   0.0037,2,    0.021,2,  -999.00,9,    3.004,1,    0.000,2,   115.59,2,     0.15,    42.67,2,     0.05,     0.01,2,     0.01,     3.04,2,     0.01,  -999.00,9,  -999.00,    0.851,2,    0.403,2,    0.046,2, -999.000,9,   2344.7,2,   2336.9,2,   -999.0,9,   7.3078,       25,2, -999.000,9,    40.50,2, -999.000,9, -999.000,   -999.0,9,   -999.0, -999.000,9, -999.000, -999.000,9, -999.000,   -999.0,9,   -999.0, -999.000,9, -999.000,9, -999.000,9
  49NZ20140717,   P01,   118,  1,     26, X12J26,2,20140812,1638, 46.9877,-155.8515, 5250,    731.2,2,   3.4788,2,   3.47852,2,  34.2408,2,  34.2399,2,-999.0000,9,    27.38,2,    27.39,2,   99.896,   0.0042,2,    0.023,2,  -999.00,9,    3.006,1,    0.000,2,   124.53,2,     0.15,    43.25,2,     0.05,     0.01,2,     0.01,     3.08,2,     0.01,  -999.00,9,  -999.00,    0.553,2,    0.259,2,    0.033,2, -999.000,9,   2354.8,6,   2348.8,2,   -999.0,9,   7.3042,       25,2, -999.000,9,    40.55,2, -999.000,9, -999.000,   -999.0,9,   -999.0, -999.000,9, -999.000, -999.000,9, -999.000,   -999.0,9,   -999.0, -999.000,9, -999.000,9, -999.000,9
  49NZ20140717,   P01,   118,  1,     25, X12J25,2,20140812,1638, 46.9877,-155.8515, 5250,    832.9,2,   3.2994,2,   3.29972,2,  34.2971,2,  34.2961,2,-999.0000,9,    25.12,2,    24.95,2,   99.937,   0.0025,2,    0.021,2,  -999.00,9,    3.114,1,    0.000,2,   131.26,2,     0.16,    43.38,2,     0.05,     0.00,2,     0.01,     3.09,2,     0.01,  -999.00,9,  -999.00,    0.349,2,    0.158,2,    0.021,2, -999.000,9,   2363.5,2,   2360.9,2,   -999.0,9,   7.3098,       25,2, -999.000,9,    40.83,2, -999.000,9, -999.000,   -999.0,9,   -999.0, -999.000,9, -999.000, -999.000,9, -999.000,   -999.0,9,   -999.0,    0.300,2,    0.185,2,    0.092,2
  49NZ20140717,   P01,   118,  1,     24, X12J24,2,20140812,1638, 46.9877,-155.8515, 5250,    932.7,2,   3.1162,2,   3.11610,2,  34.3397,2,  34.3388,2,-999.0000,9,    23.66,2,    23.52,2,   99.898,   0.0041,2,    0.020,2,  -999.00,9,    3.084,1,    0.000,2,   137.66,2,     0.16,    43.64,2,     0.05,     0.00,2,     0.01,     3.11,2,     0.01,  -999.00,9,  -999.00,    0.229,2,    0.102,2,    0.000,2, -999.000,9,   2372.4,2,   2368.9,2,   -999.0,9,   7.3122,       25,6, -999.000,9,    39.39,2, -999.000,9, -999.000,   -999.0,9,   -999.0, -999.000,9, -999.000, -999.000,9, -999.000,   -999.0,9,   -999.0, -999.000,9, -999.000,9, -999.000,9
  49NZ20140717,   P01,   118,  1,     23, X12J23,2,20140812,1638, 46.9877,-155.8515, 5250,   1070.1,2,   2.8643,2,   2.86410,2,  34.3892,2,  34.3887,2,-999.0000,9,    24.43,2,    24.16,2,   99.883,   0.0047,2,    0.020,2,  -999.00,9,    3.220,1,    0.000,2,   145.89,2,     0.17,    43.81,2,     0.06,     0.00,2,     0.01,     3.12,2,     0.01,  -999.00,9,  -999.00,    0.156,2,    0.069,2,    0.000,2, -999.000,9,   2377.7,2,   2377.7,2,   -999.0,9,   7.3176,       25,2, -999.000,9,    39.34,2, -999.000,9, -999.000,   -999.0,9,   -999.0, -999.000,9, -999.000, -999.000,9, -999.000,   -999.0,9,   -999.0,    0.279,2,    0.170,2,    0.085,2
  49NZ20140717,   P01,   118,  1,     22, X12J22,2,20140812,1638, 46.9877,-155.8515, 5250,   1271.2,2,   2.5912,2,   2.59097,2,  34.4465,2,  34.4459,2,-999.0000,9,    24.21,2,    23.70,2,   99.911,   0.0036,2,    0.019,2,  -999.00,9,    3.235,1,    0.000,2,   155.08,2,     0.17,    44.11,2,     0.06,     0.00,2,     0.01,     3.13,2,     0.01,  -999.00,9,  -999.00,    0.065,2,    0.028,2,    0.000,2, -999.000,9,   2388.8,2,   2389.8,6,   -999.0,9,   7.3229,       25,2, -999.000,9,    37.66,2, -999.000,9, -999.000,   -999.0,9,   -999.0, -999.000,9, -999.000, -999.000,9, -999.000,   -999.0,9,   -999.0, -999.000,9, -999.000,9, -999.000,9
  49NZ20140717,   P01,   118,  1,     21, X12J21,2,20140812,1638, 46.9877,-155.8515, 5250,   1470.7,2,   2.3706,2,   2.37064,2,  34.4908,2,  34.4903,2,-999.0000,9,    28.99,2,    28.41,2,   99.915,   0.0034,2,    0.018,2,  -999.00,9,    3.260,1,    0.000,2,   162.08,2,     0.18,    43.98,2,     0.06,     0.00,2,     0.01,     3.11,2,     0.01,  -999.00,9,  -999.00,    0.039,2,    0.014,2,    0.000,2, -999.000,9,   2393.1,2,   2397.1,2,   -999.0,9,   7.3347,       25,2, -999.000,9,    39.39,2, -999.000,9, -999.000,   -999.0,9,   -999.0, -999.000,9, -999.000, -999.000,9, -999.000,   -999.0,9,   -999.0, -999.000,9, -999.000,9, -999.000,9
  49NZ20140717,   P01,   118,  1,     20, X12J20,2,20140812,1638, 46.9877,-155.8515, 5250,   1669.8,2,   2.1966,2,   2.19643,2,  34.5313,2,  34.5310,2,-999.0000,9,    32.89,2,    32.52,2,   99.943,   0.0023,2,    0.017,2,  -999.00,9,    3.234,1,    0.000,2,   167.70,2,     0.18,    43.98,2,     0.06,     0.00,2,     0.01,     3.10,2,     0.01,  -999.00,9,  -999.00,    0.007,2,    0.005,2,    0.000,2, -999.000,9,   2397.4,2,   2408.1,2,   -999.0,9,   7.3470,       25,6, -999.000,9,    41.66,3, -999.000,9, -999.000,   -999.0,9,   -999.0, -999.000,9, -999.000, -999.000,9, -999.000,   -999.0,9,   -999.0, -999.000,9, -999.000,9, -999.000,9
  49NZ20140717,   P01,   118,  1,     19, X12J19,2,20140812,1638, 46.9877,-155.8515, 5250,   1871.7,2,   2.0532,2,   2.05286,2,  34.5641,2,  34.5639,2,-999.0000,9,    40.09,2,    39.53,2,   99.943,   0.0023,2,    0.016,2,  -999.00,9,    3.214,1,    0.000,2,   171.80,2,     0.18,    43.66,2,     0.05,     0.00,2,     0.01,     3.06,2,     0.01,  -999.00,9,  -999.00,    0.001,2,    0.000,2,    0.000,2, -999.000,9,   2393.8,2,   2412.6,2,   -999.0,9,   7.3648,       25,2, -999.000,9,    39.02,2, -999.000,9, -999.000,   -999.0,9,   -999.0, -999.000,9, -999.000, -999.000,9, -999.000,   -999.0,9,   -999.0, -999.000,9, -999.000,9, -999.000,9
  49NZ20140717,   P01,   118,  1,     18, X12J18,2,20140812,1638, 46.9877,-155.8515, 5250,   2070.1,2,   1.9352,2,   1.93492,2,  34.5896,2,  34.5896,2,-999.0000,9,    51.11,2,    50.89,2,   99.928,   0.0029,2,    0.015,2,  -999.00,9,    3.132,1,    0.000,2,   174.22,2,     0.18,    42.95,2,     0.05,     0.00,2,     0.01,     3.01,2,     0.01,  -999.00,9,  -999.00,    0.001,2,    0.000,2,    0.000,2, -999.000,9,   2393.8,2,   2416.0,2,   -999.0,9,   7.3888,       25,2, -999.000,9,    39.56,2, -999.000,9, -999.000,   -999.0,9,   -999.0, -999.000,9, -999.000, -999.000,9, -999.000,   -999.0,9,   -999.0,    0.290,2,    0.181,2,    0.094,2
  49NZ20140717,   P01,   118,  1,     17, X12J17,2,20140812,1638, 46.9877,-155.8515, 5250,   2272.1,2,   1.8369,2,   1.83678,2,  34.6087,2,  34.6086,2,-999.0000,9,    63.83,2,    63.69,2,   99.911,   0.0036,2,    0.015,2,  -999.00,9,    3.110,1,    0.000,2,   174.89,2,     0.18,    42.15,2,     0.05,     0.00,2,     0.01,     2.96,2,     0.01,  -999.00,9,  -999.00,    0.000,2,    0.000,2,    0.000,2, -999.000,9,   2386.0,2,   2416.4,3,   -999.0,9,   7.4144,       25,2, -999.000,9,    37.06,2, -999.000,9, -999.000,   -999.0,9,   -999.0, -999.000,9, -999.000, -999.000,9, -999.000,   -999.0,9,   -999.0, -999.000,9, -999.000,9, -999.000,9
  49NZ20140717,   P01,   118,  1,     16, X12J16,2,20140812,1638, 46.9877,-155.8515, 5250,   2469.9,2,   1.7557,2,   1.75575,2,  34.6238,2,  34.6237,2,-999.0000,9,    76.17,2,    76.10,2,   99.948,   0.0021,2,    0.013,2,  -999.00,9,    2.968,1,    0.000,2,   174.14,2,     0.18,    41.37,2,     0.05,     0.00,2,     0.01,     2.90,2,     0.01,  -999.00,9,  -999.00,    0.000,2,    0.000,2,    0.000,2, -999.000,9,   2379.8,6,   2419.4,2,   -999.0,9,   7.4374,       25,2, -999.000,9,    38.10,2, -999.000,9, -999.000,   -999.0,9,   -999.0, -999.000,9, -999.000, -999.000,9, -999.000,   -999.0,9,   -999.0, -999.000,9, -999.000,9, -999.000,9
  49NZ20140717,   P01,   118,  1,     15, X12J15,2,20140812,1638, 46.9877,-155.8515, 5250,   2671.4,2,   1.6794,2,   1.67949,2,  34.6375,2,  34.6372,2,-999.0000,9,    88.88,2,    89.10,2,   99.971,   0.0011,2,    0.012,2,  -999.00,9,    2.912,1,    0.000,2,   172.68,2,     0.18,    40.54,2,     0.05,     0.00,2,     0.01,     2.84,2,     0.01,  -999.00,9,  -999.00,    0.000,2,    0.000,2,    0.000,2, -999.000,9,   2370.9,2,   2421.3,2,   -999.0,9,   7.4621,       25,2, -999.000,9,    39.89,2, -999.000,9, -999.000,   -999.0,9,   -999.0, -999.000,9, -999.000, -999.000,9, -999.000,   -999.0,9,   -999.0, -999.000,9, -999.000,9, -999.000,9
  49NZ20140717,   P01,   118,  1,     14, X12J14,2,20140812,1638, 46.9877,-155.8515, 5250,   2869.0,2,   1.6212,2,   1.62117,2,  34.6479,2,  34.6477,2,-999.0000,9,   100.61,2,   100.53,2,   99.976,   0.0010,2,    0.011,2,  -999.00,9,    2.865,1,    0.000,2,   170.07,2,     0.18,    39.65,2,     0.05,     0.00,2,     0.01,     2.77,2,     0.01,  -999.00,9,  -999.00,    0.000,2,    0.000,2,    0.000,2, -999.000,9,   2363.5,2,   2421.5,2,   -999.0,9,   7.4839,       25,6, -999.000,9,    38.54,2, -999.000,9, -999.000,   -999.0,9,   -999.0, -999.000,9, -999.000, -999.000,9, -999.000,   -999.0,9,   -999.0, -999.000,9, -999.000,9, -999.000,9
  49NZ20140717,   P01,   118,  1,     13, X12113,2,20140812,1638, 46.9877,-155.8515, 5250,   3080.2,2,   1.5730,2,   1.57322,2,  34.6568,2,  34.6563,2,-999.0000,9,   110.91,2,   110.64,2,   99.976,   0.0010,2,    0.011,2,  -999.00,9,    2.738,1,    0.000,2,   168.39,2,     0.18,    38.95,2,     0.05,     0.00,2,     0.01,     2.72,2,     0.01,  -999.00,9,  -999.00,    0.001,2,    0.000,2,    0.000,2, -999.000,9,   2357.1,2,   2422.3,2,   -999.0,9,   7.5040,       25,2, -999.000,9,    41.16,3, -999.000,9, -999.000,   -999.0,9,   -999.0, -999.000,9, -999.000, -999.000,9, -999.000,   -999.0,9,   -999.0,    0.259,2,    0.157,2,    0.080,2
  49NZ20140717,   P01,   118,  1,     12, X12J12,2,20140812,1638, 46.9877,-155.8515, 5250,   3330.5,2,   1.5289,2,   1.52896,2,  34.6657,2,  34.6655,2,-999.0000,9,   121.93,2,   121.85,2,   99.980,   0.0008,2,    0.010,2,  -999.00,9,    2.654,1,    0.000,2,   165.95,2,     0.18,    38.24,2,     0.05,     0.00,2,     0.01,     2.67,2,     0.01,  -999.00,9,  -999.00,    0.000,2,    0.000,2,    0.000,2, -999.000,9,   2347.5,2,   2420.6,6,   -999.0,9,   7.5245,       25,2, -999.000,9,    38.88,2, -999.000,9, -999.000,   -999.0,9,   -999.0, -999.000,9, -999.000, -999.000,9, -999.000,   -999.0,9,   -999.0, -999.000,9, -999.000,9, -999.000,9
  49NZ20140717,   P01,   118,  1,     11, X12J11,2,20140812,1638, 46.9877,-155.8515, 5250,   3578.3,2,   1.4973,2,   1.49739,2,  34.6729,2,  34.6726,2,-999.0000,9,   131.21,2,   131.03,2,   99.978,   0.0009,2,    0.009,2,  -999.00,9,    2.671,1,    0.000,2,   164.04,2,     0.18,    37.62,2,     0.05,     0.00,2,     0.01,     2.62,2,     0.01,  -999.00,9,  -999.00,    0.000,2,    0.000,2,    0.000,2, -999.000,9,   2344.0,2,   2421.7,2,   -999.0,9,   7.5420,       25,2, -999.000,9,    39.61,2, -999.000,9, -999.000,   -999.0,9,   -999.0, -999.000,9, -999.000, -999.000,9, -999.000,   -999.0,9,   -999.0, -999.000,9, -999.000,9, -999.000,9
  49NZ20140717,   P01,   118,  1,     10, X12J10,2,20140812,1638, 46.9877,-155.8515, 5250,   3830.3,2,   1.4822,2,   1.48218,2,  34.6780,2,  34.6778,2,-999.0000,9,   137.94,2,   137.77,2,   99.980,   0.0008,2,    0.009,2,  -999.00,9,    2.368,4,    0.000,2,   163.02,2,     0.18,    37.22,2,     0.05,     0.00,2,     0.01,     2.59,2,     0.01,  -999.00,9,  -999.00,    0.000,2,    0.000,2,    0.000,2, -999.000,9,   2339.9,2,   2422.4,2,   -999.0,9,   7.5554,       25,2, -999.000,9,    37.68,2, -999.000,9, -999.000,   -999.0,9,   -999.0, -999.000,9, -999.000, -999.000,9, -999.000,   -999.0,9,   -999.0, -999.000,9, -999.000,9, -999.000,9