BOTTLE,20230904JAMSTECRIGC
EXPOCODE,SECT,STNNBR,CASTNO,SAMPNO,BTLNBR,BTLNBR_FLAG_W,DATE,TIME,LATITUDE,LONGITUDE,DEPTH,CTDPRS,CTDPRS_FLAG_W,CTDTMP,CTDTMP_FLAG_W,SBE35,SBE35_FLAG_W,CTDSAL,CTDSAL_FLAG_W,SALNTY,SALNTY_FLAG_W,DNSSAL,DNSSAL_FLAG_W,CTDOXY,CTDOXY_FLAG_W,OXYGEN,OXYGEN_FLAG_W,XMISS,XMISSCP,XMISS_FLAG_W,FLUOR,FLUOR_FLAG_W,CHLORA,CHLORA_FLAG_W,CDOM,CDOM_FLAG_W,PAR,PAR_FLAG_W,SILCAT,SILCAT_FLAG_W,SILUNC,NITRAT,NITRAT_FLAG_W,NRAUNC,NITRIT,NITRIT_FLAG_W,NRIUNC,PHSPHT,PHSPHT_FLAG_W,PHPUNC,AMMONIA,AMMONIA_FLAG_W,NH4UNC,CFC-11,CFC-11_FLAG_W,CFC-12,CFC-12_FLAG_W,CFC113,CFC113_FLAG_W,SF6,SF6_FLAG_W,TCARBN,TCARBN_FLAG_W,ALKALI,ALKALI_FLAG_W,ALKALI_POT,ALKALI_POT_FLAG_W,PH_TOT,PH_TMP,PH_TOT_FLAG_W,CALCIUM,CALCIUM_FLAG_W,DOC,DOC_FLAG_W,DELC13,DELC13_FLAG_W,C13ERR,DELC14,DELC14_FLAG_W,C14ERR,CS-134,CS-134_FLAG_W,CS134ER,CS-137,CS-137_FLAG_W,CS137ER,I-129,I-129_FLAG_W,I-129ER,CDOM-325,CDOM-325_FLAG_W,CDOM-370,CDOM-370_FLAG_W,CDOM-443,CDOM-443_FLAG_W
,,,,,,,,UTC,DEG,DEG,METERS,DBAR,,ITS-90,,ITS-90,,PSS-78,,PSS-78,,G/KG,,UMOL/KG,,UMOL/KG,,%TRANS,/METER,,MG/CUM,,MG/CUM,,MG/CUM,,UE/SQM/S,,UMOL/KG,,UMOL/KG,UMOL/KG,,UMOL/KG,UMOL/KG,,UMOL/KG,UMOL/KG,,UMOL/KG,UMOL/KG,,UMOL/KG,PMOL/KG,,PMOL/KG,,PMOL/KG,,FMOL/KG,,UMOL/KG,,UMOL/KG,,UMOL/KG,,,DEG C,,MMOL/KG,,UMOL/KG,,/MILLE,,/MILLE,/MILLE,,/MILLE,MBQ/KG,,MBQ/KG,MBQ/KG,,MBQ/KG,,,,/METER,,/METER,,/METER,
  49NZ20140717,   P01,   141,  1,      0,   -999,9,20140821,0325, 46.9781,-130.0298, 2632,   -999.0,9,-999.0000,9,-999.00000,9,-999.0000,9,  32.3317,2,-999.0000,9,  -999.00,9,  -999.00,9, -999.000,-999.0000,9, -999.000,9,     0.09,2, -999.000,9, -999.000,9,     2.10,2,     0.10,     0.04,2,     0.02,     0.01,2,     0.01,     0.39,2,     0.01,     0.04,2,     0.01, -999.000,9, -999.000,9, -999.000,9, -999.000,9,   -999.0,9,   -999.0,9,   -999.0,9,-999.0000,     -999,9, -999.000,9,  -999.00,9, -999.000,9, -999.000,   -999.0,9,   -999.0, -999.000,9, -999.000, -999.000,9, -999.000,   -999.0,9,   -999.0,    0.167,2,    0.074,2,    0.028,2
  49NZ20140717,   P01,   141,  1,     36, X12J36,2,20140821,0325, 46.9781,-130.0298, 2632,      9.6,2,  18.6568,2,  18.65589,2,  32.3255,2,  32.3256,2,-999.0000,9,   244.83,2,   243.94,2,   97.992,   0.0811,6,    0.189,2,     0.09,2,   -0.790,1,    0.097,2,     2.11,2,     0.10,     0.02,2,     0.02,     0.01,2,     0.01,     0.38,2,     0.01,     0.01,2,     0.01, -999.000,9, -999.000,9, -999.000,9, -999.000,9,   1960.3,2,   2179.7,2,   2182.9,2,   7.9420,       25,6,    9.616,2,    65.15,2, -999.000,1, -999.000,   -999.0,1,   -999.0, -999.000,9, -999.000, -999.000,9, -999.000,   -999.0,9,   -999.0,    0.183,2,    0.077,2,    0.028,2
  49NZ20140717,   P01,   141,  1,     35, X12J35,2,20140821,0325, 46.9781,-130.0298, 2632,     49.8,2,  12.4090,2,  12.37026,2,  32.4417,2,  32.4401,2,-999.0000,9,   291.33,2,   289.89,2,   91.847,   0.3402,6,    1.010,2,     0.80,2,    0.804,1,    0.000,2,     4.34,2,     0.09,     1.62,2,     0.01,     0.17,2,     0.01,     0.58,2,     0.01,     0.08,2,     0.02, -999.000,9, -999.000,9, -999.000,9, -999.000,9,   1980.5,6,   2180.6,2,   2179.0,2,   7.8944,       25,2,    9.616,2,    64.09,2, -999.000,1, -999.000,   -999.0,1,   -999.0, -999.000,9, -999.000, -999.000,9, -999.000,   -999.0,9,   -999.0,    0.289,2,    0.134,2,    0.047,2
  49NZ20140717,   P01,   141,  1,     34, X12J34,2,20140821,0325, 46.9781,-130.0298, 2632,    100.5,2,   8.3568,2,   8.35600,2,  32.5334,2,  32.5465,2,-999.0000,9,   265.12,2,   263.73,2,   99.456,   0.0218,6,    0.141,2,     0.12,2,    0.556,1,    0.000,2,    13.74,2,     0.09,    12.48,2,     0.02,     0.03,2,     0.01,     1.20,2,     0.01,     0.01,2,     0.01, -999.000,9, -999.000,9, -999.000,9, -999.000,9,   2047.1,2,   2185.4,2,   2183.7,2,   7.7520,       25,2,    9.641,2,    47.59,2, -999.000,1, -999.000,   -999.0,1,   -999.0, -999.000,9, -999.000, -999.000,9, -999.000,   -999.0,9,   -999.0,    0.178,2,    0.084,2,    0.031,2
  49NZ20140717,   P01,   141,  1,     33, X12J33,2,20140821,0325, 46.9781,-130.0298, 2632,    150.3,2,   7.1106,2,   7.11010,2,  33.1907,2,  33.1979,2,-999.0000,9,   244.28,2,   242.10,2,   99.566,   0.0174,6,    0.013,2,     0.01,2,    0.930,1,    0.000,2,    23.10,2,     0.09,    18.05,2,     0.03,     0.02,2,     0.01,     1.44,2,     0.01,     0.01,2,     0.01, -999.000,9, -999.000,9, -999.000,9, -999.000,9,   2100.9,2,   2217.2,2,   2221.2,2,   7.6797,       25,6,    9.844,2,    45.17,2, -999.000,1, -999.000,   -999.0,1,   -999.0, -999.000,9, -999.000, -999.000,9, -999.000,   -999.0,9,   -999.0, -999.000,9, -999.000,9, -999.000,9
  49NZ20140717,   P01,   141,  1,     32, X12J32,2,20140821,0325, 46.9781,-130.0298, 2632,    199.8,2,   7.0246,2,   7.02368,2,  33.7994,2,  33.7986,2,-999.0000,9,   184.28,2,   183.21,2,   99.543,   0.0183,6,    0.012,2,     0.01,2,    1.681,1,    0.000,2,    35.53,2,     0.10,    24.59,2,     0.04,     0.01,2,     0.01,     1.76,2,     0.01,     0.01,2,     0.01, -999.000,9, -999.000,9, -999.000,9, -999.000,9,   2169.6,2,   2255.7,6,   -999.0,9,   7.5881,       25,2, -999.000,9,    45.77,2, -999.000,1, -999.000,   -999.0,1,   -999.0, -999.000,9, -999.000, -999.000,9, -999.000,   -999.0,9,   -999.0,    0.177,2,    0.088,2,    0.028,2
  49NZ20140717,   P01,   141,  1,     31, X12J31,2,20140821,0325, 46.9781,-130.0298, 2632,    249.1,2,   6.5637,2,   6.56287,2,  33.8806,2,  33.8803,2,-999.0000,9,   153.02,2,   152.10,2,   99.532,   0.0188,6,    0.012,2,     0.00,2,    1.995,1,    0.000,2,    45.12,2,     0.10,    28.38,2,     0.04,     0.01,2,     0.01,     2.02,2,     0.01,     0.00,2,     0.01, -999.000,9, -999.000,9, -999.000,9, -999.000,9,   2199.6,2,   2266.9,2,   -999.0,9,   7.5273,       25,2, -999.000,9,    42.56,2, -999.000,1, -999.000,   -999.0,1,   -999.0, -999.000,9, -999.000, -999.000,9, -999.000,   -999.0,9,   -999.0, -999.000,9, -999.000,9, -999.000,9
  49NZ20140717,   P01,   141,  1,     30, X12J30,2,20140821,0325, 46.9781,-130.0298, 2632,    300.4,2,   5.7857,2,   5.78469,2,  33.8894,2,  33.8891,2,-999.0000,9,   128.64,2,   128.02,2,   99.642,   0.0143,6,    0.014,2,  -999.00,9,    2.232,1,    0.000,2,    56.47,2,     0.11,    31.95,2,     0.04,     0.01,2,     0.01,     2.27,2,     0.01,     0.00,2,     0.01, -999.000,9, -999.000,9, -999.000,9, -999.000,9,   2226.6,2,   2276.2,2,   -999.0,9,   7.4684,       25,2, -999.000,9,  -999.00,9, -999.000,1, -999.000,   -999.0,1,   -999.0, -999.000,9, -999.000, -999.000,9, -999.000,   -999.0,9,   -999.0,    0.207,2,    0.099,2,    0.036,2
  49NZ20140717,   P01,   141,  1,     29, X12J29,2,20140821,0325, 46.9781,-130.0298, 2632,    398.8,2,   4.9241,2,   4.92319,2,  33.9181,2,  33.9185,2,-999.0000,9,    87.97,2,    87.88,2,   99.816,   0.0074,6,    0.013,2,  -999.00,9,    2.518,1,    0.000,2,    71.91,2,     0.12,    37.06,2,     0.05,     0.01,2,     0.01,     2.62,2,     0.01,     0.00,2,     0.01, -999.000,9, -999.000,9, -999.000,9, -999.000,9,   2269.5,2,   2287.5,2,   -999.0,9,   7.3794,       25,2, -999.000,9,    39.59,2, -999.000,1, -999.000,   -999.0,1,   -999.0, -999.000,9, -999.000, -999.000,9, -999.000,   -999.0,9,   -999.0, -999.000,9, -999.000,9, -999.000,9
  49NZ20140717,   P01,   141,  1,     28, X12J28,2,20140821,0325, 46.9781,-130.0298, 2632,    500.7,2,   4.4122,2,   4.41674,2,  34.0225,2,  34.0213,2,-999.0000,9,    48.28,2,    49.98,2,   99.903,   0.0039,6,    0.014,2,  -999.00,9,    2.848,1,    0.000,2,    89.09,2,     0.13,    40.81,2,     0.05,     0.01,2,     0.01,     2.89,2,     0.01,     0.00,2,     0.01, -999.000,9, -999.000,9, -999.000,9, -999.000,9,   2307.9,2,   2307.3,2,   2306.5,2,   7.3192,       25,2,   10.133,2,  -999.00,9, -999.000,1, -999.000,   -999.0,1,   -999.0, -999.000,9, -999.000, -999.000,9, -999.000,   -999.0,9,   -999.0,    0.243,2,    0.142,2,    0.076,2
  49NZ20140717,   P01,   141,  1,     27, X12J27,2,20140821,0325, 46.9781,-130.0298, 2632,    598.7,2,   4.0739,2,   4.07922,2,  34.1196,2,  34.1169,2,-999.0000,9,    24.77,2,    25.86,2,   99.939,   0.0024,6,    0.014,2,  -999.00,9,    2.946,1,    0.000,2,   103.40,2,     0.14,    43.06,2,     0.05,     0.01,2,     0.01,     3.05,2,     0.01,     0.00,2,     0.01, -999.000,9, -999.000,9, -999.000,9, -999.000,9,   2334.9,2,   2323.6,2,   -999.0,9,   7.2894,       25,2, -999.000,9,    39.85,2, -999.000,1, -999.000,   -999.0,1,   -999.0, -999.000,9, -999.000, -999.000,9, -999.000,   -999.0,9,   -999.0, -999.000,9, -999.000,9, -999.000,9
  49NZ20140717,   P01,   141,  1,     26, X12J26,2,20140821,0325, 46.9781,-130.0298, 2632,    702.0,2,   3.8748,2,   3.87454,2,  34.2038,2,  34.2025,2,-999.0000,9,    15.18,2,    15.17,2,   99.937,   0.0025,6,    0.015,2,  -999.00,9,    3.109,1,    0.000,2,   113.44,2,     0.14,    43.75,2,     0.06,     0.01,2,     0.01,     3.14,2,     0.01,     0.01,2,     0.01, -999.000,9, -999.000,9, -999.000,9, -999.000,9,   2352.7,6,   2341.5,2,   -999.0,9,   7.2856,       25,2, -999.000,9,    37.72,2, -999.000,1, -999.000,   -999.0,1,   -999.0, -999.000,9, -999.000, -999.000,9, -999.000,   -999.0,9,   -999.0, -999.000,9, -999.000,9, -999.000,9
  49NZ20140717,   P01,   141,  1,     25, X12J25,2,20140821,0325, 46.9781,-130.0298, 2632,    799.0,2,   3.8034,2,   3.80257,2,  34.2750,2,  34.2777,2,-999.0000,9,    10.27,2,    10.00,2,   99.922,   0.0031,6,    0.015,2,  -999.00,9,    3.115,1,    0.000,2,   118.97,2,     0.15,    44.10,2,     0.06,     0.01,2,     0.01,     3.18,2,     0.01,     0.01,2,     0.01, -999.000,9, -999.000,9, -999.000,9, -999.000,9,   2361.8,2,   2349.9,2,   2347.8,2,   7.2876,       25,2,   10.222,2,    40.88,3, -999.000,1, -999.000,   -999.0,1,   -999.0, -999.000,9, -999.000, -999.000,9, -999.000,   -999.0,9,   -999.0,    0.262,2,    0.154,2,    0.086,2
  49NZ20140717,   P01,   141,  1,     24, X12J24,2,20140821,0325, 46.9781,-130.0298, 2632,    901.3,2,   3.4607,2,   3.46027,2,  34.3300,2,  34.3279,2,-999.0000,9,     9.68,2,     9.07,2,   99.903,   0.0039,6,    0.015,2,  -999.00,9,    3.217,1,    0.000,2,   129.02,2,     0.15,    44.33,2,     0.06,     0.01,2,     0.01,     3.20,2,     0.01,     0.01,2,     0.01, -999.000,9, -999.000,9, -999.000,9, -999.000,9,   2371.5,2,   2362.6,2,   -999.0,9,   7.2917,       25,2, -999.000,9,  -999.00,9, -999.000,1, -999.000,   -999.0,1,   -999.0, -999.000,9, -999.000, -999.000,9, -999.000,   -999.0,9,   -999.0, -999.000,9, -999.000,9, -999.000,9
  49NZ20140717,   P01,   141,  1,     23, X12J23,2,20140821,0325, 46.9781,-130.0298, 2632,    999.6,2,   3.2401,2,   3.23987,2,  34.3544,2,  34.3516,2,-999.0000,9,    10.43,2,     9.80,2,   99.898,   0.0041,6,    0.014,2,  -999.00,9,    3.268,1,    0.000,2,   136.03,2,     0.16,    44.50,2,     0.06,     0.01,2,     0.01,     3.19,2,     0.01,     0.01,2,     0.01, -999.000,9, -999.000,9, -999.000,9, -999.000,9,   2379.0,2,   2369.1,2,   2363.7,2,   7.2943,       25,2,   10.247,2,    35.94,2, -999.000,1, -999.000,   -999.0,1,   -999.0, -999.000,9, -999.000, -999.000,9, -999.000,   -999.0,9,   -999.0,    0.254,2,    0.151,2,    0.084,2
  49NZ20140717,   P01,   141,  1,     22, X12J22,2,20140821,0325, 46.9781,-130.0298, 2632,   1199.6,2,   2.8392,2,   2.83833,2,  34.4294,2,  34.4277,2,-999.0000,9,    12.57,2,    11.94,2,   99.933,   0.0027,6,    0.013,2,  -999.00,9,    3.295,1,    0.000,2,   149.12,2,     0.17,    44.63,2,     0.06,     0.01,2,     0.01,     3.19,2,     0.01,     0.00,2,     0.01, -999.000,9, -999.000,9, -999.000,9, -999.000,9,   2389.6,2,   2384.3,6,   2380.5,2,   7.3056,       25,2,   10.271,2,    37.41,2, -999.000,1, -999.000,   -999.0,1,   -999.0, -999.000,9, -999.000, -999.000,9, -999.000,   -999.0,9,   -999.0, -999.000,9, -999.000,9, -999.000,9
  49NZ20140717,   P01,   141,  1,     21, X12J21,2,20140821,0325, 46.9781,-130.0298, 2632,   1400.5,2,   2.6149,2,   2.61509,2,  34.4843,2,  34.4842,2,-999.0000,9,    19.61,2,    19.42,2,   99.907,   0.0037,6,    0.012,2,  -999.00,9,    3.260,1,    0.000,2,   156.27,2,     0.17,    44.35,2,     0.06,     0.01,2,     0.01,     3.16,2,     0.01,     0.01,2,     0.01, -999.000,9, -999.000,9, -999.000,9, -999.000,9,   2394.3,2,   2396.2,2,   -999.0,9,   7.3236,       25,2, -999.000,9,    35.06,2, -999.000,9, -999.000,   -999.0,9,   -999.0, -999.000,9, -999.000, -999.000,9, -999.000,   -999.0,9,   -999.0, -999.000,9, -999.000,9, -999.000,9
  49NZ20140717,   P01,   141,  1,     20, X12J20,2,20140821,0325, 46.9781,-130.0298, 2632,   1601.1,2,   2.3454,2,   2.34508,2,  34.5255,2,  34.5257,2,-999.0000,9,    30.73,2,    30.70,2,   99.929,   0.0029,6,    0.011,2,  -999.00,9,    3.244,1,    0.000,2,   163.66,2,     0.18,    43.66,2,     0.05,     0.01,2,     0.01,     3.11,2,     0.01,     0.01,2,     0.01, -999.000,9, -999.000,9, -999.000,9, -999.000,9,   2391.7,2,   2403.9,2,   2398.1,2,   7.3478,       25,6,   10.335,2,    36.51,2, -999.000,1, -999.000,   -999.0,1,   -999.0, -999.000,9, -999.000, -999.000,9, -999.000,   -999.0,9,   -999.0, -999.000,9, -999.000,9, -999.000,9
  49NZ20140717,   P01,   141,  1,     19, X12J19,2,20140821,0325, 46.9781,-130.0298, 2632,   1799.8,2,   2.1446,2,   2.14424,2,  34.5602,2,  34.5602,2,-999.0000,9,    44.29,2,    44.58,2,   99.952,   0.0019,6,    0.010,2,  -999.00,9,    3.092,1,    0.000,2,   168.89,2,     0.18,    42.80,2,     0.05,     0.01,2,     0.01,     3.04,2,     0.01,     0.01,2,     0.01, -999.000,9, -999.000,9, -999.000,9, -999.000,9,   2389.2,2,   2410.2,2,   -999.0,9,   7.3786,       25,2, -999.000,9,    34.77,2, -999.000,9, -999.000,   -999.0,9,   -999.0, -999.000,9, -999.000, -999.000,9, -999.000,   -999.0,9,   -999.0, -999.000,9, -999.000,9, -999.000,9
  49NZ20140717,   P01,   141,  1,     18, X12J18,2,20140821,0325, 46.9781,-130.0298, 2632,   1999.3,2,   1.9758,2,   1.97623,2,  34.5858,2,  34.5856,2,-999.0000,9,    56.10,2,    56.29,2,   99.909,   0.0036,6,    0.009,2,  -999.00,9,    3.152,1,    0.000,2,   172.56,2,     0.18,    42.09,2,     0.05,     0.01,2,     0.01,     2.98,2,     0.01,     0.01,2,     0.01, -999.000,9, -999.000,9, -999.000,9, -999.000,9,   2385.0,2,   2414.9,2,   2411.0,2,   7.4031,       25,2,   10.331,2,    34.81,2, -999.000,1, -999.000,   -999.0,1,   -999.0, -999.000,9, -999.000, -999.000,9, -999.000,   -999.0,9,   -999.0,    0.223,2,    0.125,2,    0.061,2
  49NZ20140717,   P01,   141,  1,     17, X12J17,2,20140821,0325, 46.9781,-130.0298, 2632,   2201.4,2,   1.8662,2,   1.86620,2,  34.6042,2,  34.6041,2,-999.0000,9,    66.01,2,    66.34,2,   99.911,   0.0036,6,    0.008,2,  -999.00,9,    3.062,1,    0.000,2,   174.36,2,     0.18,    41.51,2,     0.05,     0.01,2,     0.01,     2.93,2,     0.01,     0.02,2,     0.01, -999.000,9, -999.000,9, -999.000,9, -999.000,9,   2382.2,2,   2420.5,2,   -999.0,9,   7.4244,       25,2, -999.000,9,    37.04,2, -999.000,9, -999.000,   -999.0,9,   -999.0, -999.000,9, -999.000, -999.000,9, -999.000,   -999.0,9,   -999.0, -999.000,9, -999.000,9, -999.000,9
  49NZ20140717,   P01,   141,  1,     16, X12J16,2,20140821,0325, 46.9781,-130.0298, 2632,   2599.9,2,   1.7428,2,   1.74255,2,  34.6299,2,-999.0000,9,-999.0000,9,    82.82,2,    83.50,1,   99.788,   0.0085,6,    0.007,2,  -999.00,9,    2.956,1,    0.000,2,  -999.00,9,  -999.00,  -999.00,9,  -999.00,  -999.00,9,  -999.00,  -999.00,9,  -999.00,  -999.00,9,  -999.00, -999.000,9, -999.000,9, -999.000,9, -999.000,9,   -999.0,9,   -999.0,9,   -999.0,9,-999.0000,     -999,9, -999.000,9,  -999.00,9, -999.000,9, -999.000,   -999.0,9,   -999.0, -999.000,9, -999.000, -999.000,9, -999.000,   -999.0,9,   -999.0, -999.000,9, -999.000,9, -999.000,9
  49NZ20140717,   P01,   141,  1,     15, X12J15,2,20140821,0325, 46.9781,-130.0298, 2632,   2599.7,2,   1.7420,2,   1.74180,2,  34.6299,2,  34.6304,2,-999.0000,9,    82.93,2,    83.51,2,   99.772,   0.0091,6,    0.007,2,  -999.00,9,    2.923,1,    0.000,2,   177.93,2,     0.18,    40.46,2,     0.05,     0.01,2,     0.01,     2.86,2,     0.01,     0.03,2,     0.01, -999.000,9, -999.000,9, -999.000,9, -999.000,9,   2372.7,2,   2426.2,2,   -999.0,9,   7.4613,       25,2, -999.000,9,    40.08,3, -999.000,1, -999.000,   -999.0,1,   -999.0, -999.000,9, -999.000, -999.000,9, -999.000,   -999.0,9,   -999.0, -999.000,9, -999.000,9, -999.000,9
  49NZ20140717,   P01,   141,  1,     14, X12J14,9,20140821,0325, 46.9781,-130.0298, 2632,   -999.0,9,-999.0000,9,-999.00000,9,-999.0000,9,-999.0000,9,-999.0000,9,  -999.00,9,  -999.00,9, -999.000,-999.0000,9, -999.000,9,  -999.00,9, -999.000,9, -999.000,9,  -999.00,9,  -999.00,  -999.00,9,  -999.00,  -999.00,9,  -999.00,  -999.00,9,  -999.00,  -999.00,9,  -999.00, -999.000,9, -999.000,9, -999.000,9, -999.000,9,   -999.0,9,   -999.0,9,   -999.0,9,-999.0000,     -999,9, -999.000,9,  -999.00,9, -999.000,9, -999.000,   -999.0,9,   -999.0, -999.000,9, -999.000, -999.000,9, -999.000,   -999.0,9,   -999.0, -999.000,9, -999.000,9, -999.000,9
  49NZ20140717,   P01,   141,  1,     13, X12113,2,20140821,0325, 46.9781,-130.0298, 2632,    199.8,2,   7.0215,2,   7.02165,2,  33.8016,2,-999.0000,9,-999.0000,9,   184.30,2,  -999.00,9,   99.579,   0.0169,6,    0.011,2,  -999.00,9,    1.580,1,    0.000,2,  -999.00,9,  -999.00,  -999.00,9,  -999.00,  -999.00,9,  -999.00,  -999.00,9,  -999.00,  -999.00,9,  -999.00, -999.000,9, -999.000,9, -999.000,9, -999.000,9,   -999.0,9,   -999.0,9,   -999.0,9,-999.0000,     -999,9, -999.000,9,  -999.00,9, -999.000,9, -999.000,   -999.0,9,   -999.0, -999.000,9, -999.000, -999.000,9, -999.000,   -999.0,9,   -999.0, -999.000,9, -999.000,9, -999.000,9
  49NZ20140717,   P01,   141,  1,     12, X12J12,9,20140821,0325, 46.9781,-130.0298, 2632,   -999.0,9,-999.0000,9,-999.00000,9,-999.0000,9,-999.0000,9,-999.0000,9,  -999.00,9,  -999.00,9, -999.000,-999.0000,9, -999.000,9,  -999.00,9, -999.000,9, -999.000,9,  -999.00,9,  -999.00,  -999.00,9,  -999.00,  -999.00,9,  -999.00,  -999.00,9,  -999.00,  -999.00,9,  -999.00, -999.000,9, -999.000,9, -999.000,9, -999.000,9,   -999.0,9,   -999.0,9,   -999.0,9,-999.0000,     -999,9, -999.000,9,  -999.00,9, -999.000,9, -999.000,   -999.0,9,   -999.0, -999.000,9, -999.000, -999.000,9, -999.000,   -999.0,9,   -999.0, -999.000,9, -999.000,9, -999.000,9
  49NZ20140717,   P01,   141,  1,     11, X12J11,9,20140821,0325, 46.9781,-130.0298, 2632,   -999.0,9,-999.0000,9,-999.00000,9,-999.0000,9,-999.0000,9,-999.0000,9,  -999.00,9,  -999.00,9, -999.000,-999.0000,9, -999.000,9,  -999.00,9, -999.000,9, -999.000,9,  -999.00,9,  -999.00,  -999.00,9,  -999.00,  -999.00,9,  -999.00,  -999.00,9,  -999.00,  -999.00,9,  -999.00, -999.000,9, -999.000,9, -999.000,9, -999.000,9,   -999.0,9,   -999.0,9,   -999.0,9,-999.0000,     -999,9, -999.000,9,  -999.00,9, -999.000,9, -999.000,   -999.0,9,   -999.0, -999.000,9, -999.000, -999.000,9, -999.000,   -999.0,9,   -999.0, -999.000,9, -999.000,9, -999.000,9
  49NZ20140717,   P01,   141,  1,     10, X12J10,9,20140821,0325, 46.9781,-130.0298, 2632,   -999.0,9,-999.0000,9,-999.00000,9,-999.0000,9,-999.0000,9,-999.0000,9,  -999.00,9,  -999.00,9, -999.000,-999.0000,9, -999.000,9,  -999.00,9, -999.000,9, -999.000,9,  -999.00,9,  -999.00,  -999.00,9,  -999.00,  -999.00,9,  -999.00,  -999.00,9,  -999.00,  -999.00,9,  -999.00, -999.000,9, -999.000,9, -999.000,9, -999.000,9,   -999.0,9,   -999.0,9,   -999.0,9,-999.0000,     -999,9, -999.000,9,  -999.00,9, -999.000,9, -999.000,   -999.0,9,   -999.0, -999.000,9, -999.000, -999.000,9, -999.000,   -999.0,9,   -999.0, -999.000,9, -999.000,9, -999.000,9