BOTTLE,20230904JAMSTECRIGC
EXPOCODE,SECT,STNNBR,CASTNO,SAMPNO,BTLNBR,BTLNBR_FLAG_W,DATE,TIME,LATITUDE,LONGITUDE,DEPTH,CTDPRS,CTDPRS_FLAG_W,CTDTMP,CTDTMP_FLAG_W,SBE35,SBE35_FLAG_W,CTDSAL,CTDSAL_FLAG_W,SALNTY,SALNTY_FLAG_W,DNSSAL,DNSSAL_FLAG_W,CTDOXY,CTDOXY_FLAG_W,OXYGEN,OXYGEN_FLAG_W,XMISS,XMISSCP,XMISS_FLAG_W,FLUOR,FLUOR_FLAG_W,CHLORA,CHLORA_FLAG_W,CDOM,CDOM_FLAG_W,PAR,PAR_FLAG_W,SILCAT,SILCAT_FLAG_W,SILUNC,NITRAT,NITRAT_FLAG_W,NRAUNC,NITRIT,NITRIT_FLAG_W,NRIUNC,PHSPHT,PHSPHT_FLAG_W,PHPUNC,AMMONIA,AMMONIA_FLAG_W,NH4UNC,CFC-11,CFC-11_FLAG_W,CFC-12,CFC-12_FLAG_W,CFC113,CFC113_FLAG_W,SF6,SF6_FLAG_W,TCARBN,TCARBN_FLAG_W,ALKALI,ALKALI_FLAG_W,ALKALI_POT,ALKALI_POT_FLAG_W,PH_TOT,PH_TMP,PH_TOT_FLAG_W,CALCIUM,CALCIUM_FLAG_W,DOC,DOC_FLAG_W,DELC13,DELC13_FLAG_W,C13ERR,DELC14,DELC14_FLAG_W,C14ERR,CS-134,CS-134_FLAG_W,CS134ER,CS-137,CS-137_FLAG_W,CS137ER,I-129,I-129_FLAG_W,I-129ER,CDOM-325,CDOM-325_FLAG_W,CDOM-370,CDOM-370_FLAG_W,CDOM-443,CDOM-443_FLAG_W
,,,,,,,,UTC,DEG,DEG,METERS,DBAR,,ITS-90,,ITS-90,,PSS-78,,PSS-78,,G/KG,,UMOL/KG,,UMOL/KG,,%TRANS,/METER,,MG/CUM,,MG/CUM,,MG/CUM,,UE/SQM/S,,UMOL/KG,,UMOL/KG,UMOL/KG,,UMOL/KG,UMOL/KG,,UMOL/KG,UMOL/KG,,UMOL/KG,UMOL/KG,,UMOL/KG,PMOL/KG,,PMOL/KG,,PMOL/KG,,FMOL/KG,,UMOL/KG,,UMOL/KG,,UMOL/KG,,,DEG C,,MMOL/KG,,UMOL/KG,,/MILLE,,/MILLE,/MILLE,,/MILLE,MBQ/KG,,MBQ/KG,MBQ/KG,,MBQ/KG,,,,/METER,,/METER,,/METER,
  49NZ20140717,   P01,   122,  2,      0,   -999,9,20140813,2325, 47.0035,-151.4048, 5199,   -999.0,9,-999.0000,9,-999.00000,9,-999.0000,9,  32.4992,2,-999.0000,9,  -999.00,9,  -999.00,9, -999.000,-999.0000,9, -999.000,9,     0.61,2, -999.000,9, -999.000,9,     3.62,2,     0.09,     4.00,2,     0.02,     0.06,2,     0.01,     0.65,2,     0.01,     0.12,2,     0.02, -999.000,9, -999.000,9, -999.000,9, -999.000,9,   -999.0,9,   -999.0,9,   -999.0,9,-999.0000,     -999,9, -999.000,9,  -999.00,9, -999.000,9, -999.000,   -999.0,9,   -999.0, -999.000,1, -999.000, -999.000,1, -999.000,   -999.0,1,   -999.0,    0.205,2,    0.077,2,    0.018,2
  49NZ20140717,   P01,   122,  2,     36, X12J36,2,20140813,2325, 47.0035,-151.4048, 5199,      9.8,2,  14.3575,2,  14.35760,2,  32.5108,2,  32.5118,2,-999.0000,9,   265.87,2,   265.91,2,   93.877,   0.2527,2,    0.270,2,     0.54,2,   -0.001,1,  291.984,2,     3.27,2,     0.09,     4.07,2,     0.02,     0.06,2,     0.01,     0.65,2,     0.01,     0.14,2,     0.02,    2.856,2,    1.742,2,    0.296,2,    2.030,2,   1979.6,2,   2195.3,2,   -999.0,9,   7.9193,       25,6, -999.000,9,    63.09,2, -999.000,1, -999.000,   -999.0,1,   -999.0, -999.000,9, -999.000, -999.000,9, -999.000,   -999.0,9,   -999.0,    0.195,2,    0.081,2,    0.028,2
  49NZ20140717,   P01,   122,  2,     35, X12J35,2,20140813,2325, 47.0035,-151.4048, 5199,     51.1,2,   7.4353,2,   7.43943,2,  32.9288,2,  32.9301,2,-999.0000,9,   300.23,2,   300.61,2,   98.303,   0.0685,2,    0.348,2,     0.34,2,    0.672,1,    5.180,2,    17.54,2,     0.09,    11.75,2,     0.02,     0.08,2,     0.01,     1.21,2,     0.01,     1.22,2,     0.04,    4.018,2,    2.366,2,    0.387,2,    2.670,2,   2059.8,6,   2211.3,2,   -999.0,9,   7.7767,       25,2, -999.000,9,    54.02,2, -999.000,1, -999.000,   -999.0,1,   -999.0, -999.000,9, -999.000, -999.000,9, -999.000,   -999.0,9,   -999.0,    0.175,2,    0.071,2,    0.016,2
  49NZ20140717,   P01,   122,  2,     34, X12J34,2,20140813,2325, 47.0035,-151.4048, 5199,     99.4,2,   6.4165,2,   6.41726,2,  33.0260,2,  33.0277,2,-999.0000,9,   286.31,2,   286.75,2,   99.635,   0.0146,2,    0.091,2,     0.07,2,    0.688,1,    0.392,2,    19.87,2,     0.09,    14.96,2,     0.03,     0.07,2,     0.01,     1.29,2,     0.01,     0.00,2,     0.01,    4.055,2,    2.399,2,    0.369,2,    2.570,2,   2074.7,2,   2216.7,2,   -999.0,9,   7.7398,       25,2, -999.000,9,    50.46,2, -999.000,1, -999.000,   -999.0,1,   -999.0, -999.000,9, -999.000, -999.000,9, -999.000,   -999.0,9,   -999.0,    0.187,2,    0.084,2,    0.029,2
  49NZ20140717,   P01,   122,  2,     33, X12J33,2,20140813,2325, 47.0035,-151.4048, 5199,    151.5,2,   6.1068,2,   6.10641,2,  33.7834,2,  33.7822,2,-999.0000,9,   192.16,2,   192.31,2,   99.681,   0.0128,2,    0.034,2,     0.01,2,    1.721,1,    0.003,2,    41.28,2,     0.10,    25.21,2,     0.04,     0.01,2,     0.01,     1.84,2,     0.01,     0.00,2,     0.01,    3.426,2,    1.985,2,    0.233,2,    1.730,2,   2175.3,2,   2262.3,2,   -999.0,9,   7.5891,       25,6, -999.000,9,    45.77,2, -999.000,1, -999.000,   -999.0,1,   -999.0, -999.000,9, -999.000, -999.000,9, -999.000,   -999.0,9,   -999.0, -999.000,9, -999.000,9, -999.000,9
  49NZ20140717,   P01,   122,  2,     32, X12J32,2,20140813,2325, 47.0035,-151.4048, 5199,    201.0,2,   5.3534,2,   5.35454,2,  33.7973,2,  33.7975,2,-999.0000,9,   161.32,2,   161.04,2,   99.644,   0.0143,2,    0.021,2,     0.01,2,    2.093,1,    0.000,2,    53.57,2,     0.11,    29.65,2,     0.04,     0.01,2,     0.01,     2.16,2,     0.01,     0.01,2,     0.01,    3.235,2,    1.838,2,    0.209,2,    1.460,2,   2209.1,2,   2272.2,6,   -999.0,9,   7.5140,       25,2, -999.000,9,    47.60,2, -999.000,1, -999.000,   -999.0,1,   -999.0, -999.000,9, -999.000, -999.000,9, -999.000,   -999.0,9,   -999.0,    0.216,2,    0.100,2,    0.035,2
  49NZ20140717,   P01,   122,  2,     31, X12J31,2,20140813,2325, 47.0035,-151.4048, 5199,    250.2,2,   4.8637,2,   4.86312,2,  33.8387,2,  33.8413,2,-999.0000,9,   131.31,2,   131.21,2,   99.781,   0.0088,2,    0.022,2,     0.00,2,    2.368,1,    0.000,2,    64.80,2,     0.12,    33.21,2,     0.04,     0.01,2,     0.01,     2.40,2,     0.01,     0.00,2,     0.01,    2.922,2,    1.622,2,    0.182,2,    1.090,2,   2240.7,2,   2282.4,2,   -999.0,9,   7.4502,       25,2, -999.000,9,    46.08,2, -999.000,1, -999.000,   -999.0,1,   -999.0, -999.000,9, -999.000, -999.000,9, -999.000,   -999.0,9,   -999.0, -999.000,9, -999.000,9, -999.000,9
  49NZ20140717,   P01,   122,  2,     30, X12J30,2,20140813,2325, 47.0035,-151.4048, 5199,    279.4,2,   4.6032,2,   4.60192,2,  33.8570,2,  33.8563,2,-999.0000,9,   116.28,2,   116.88,2,   99.770,   0.0092,2,    0.022,2,  -999.00,9,    2.485,1,    0.000,2,    70.27,2,     0.12,    34.99,2,     0.05,     0.01,2,     0.01,     2.52,2,     0.01,     0.01,2,     0.01,    2.778,2,    1.539,2,    0.173,2,    1.090,2,   2254.1,2,   2287.5,2,   -999.0,9,   7.4185,       25,2, -999.000,9,    44.38,2, -999.000,1, -999.000,   -999.0,1,   -999.0, -999.000,9, -999.000, -999.000,9, -999.000,   -999.0,9,   -999.0, -999.000,9, -999.000,9, -999.000,9
  49NZ20140717,   P01,   122,  2,     29, X12J29,2,20140813,2325, 47.0035,-151.4048, 5199,    367.9,2,   4.2376,2,   4.23676,2,  33.9471,2,  33.9472,2,-999.0000,9,    79.94,2,    80.63,2,   99.798,   0.0081,2,    0.023,2,  -999.00,9,    2.727,1,    0.000,2,    84.85,2,     0.13,    38.70,2,     0.05,     0.01,2,     0.01,     2.77,2,     0.01,     0.00,2,     0.01,    2.161,2,    1.151,2,    0.123,2,    0.690,2,   2288.8,2,   2302.4,2,   -999.0,9,   7.3592,       25,2, -999.000,9,    44.18,2, -999.000,1, -999.000,   -999.0,1,   -999.0, -999.000,9, -999.000, -999.000,9, -999.000,   -999.0,9,   -999.0, -999.000,9, -999.000,9, -999.000,9
  49NZ20140717,   P01,   122,  2,     28, X12J28,2,20140813,2325, 47.0035,-151.4048, 5199,    470.7,2,   3.9963,2,   3.99625,2,  34.0558,2,  34.0553,2,-999.0000,9,    50.43,2,    50.92,2,   99.822,   0.0071,2,    0.022,2,  -999.00,9,    2.880,1,    0.000,2,    99.09,2,     0.14,    41.20,2,     0.05,     0.01,2,     0.01,     2.94,2,     0.01,     0.00,2,     0.01,    1.469,2,    0.761,2,    0.087,2,    0.380,2,   2315.7,2,   2315.9,2,   -999.0,9,   7.3215,       25,2, -999.000,9,    43.95,2, -999.000,1, -999.000,   -999.0,1,   -999.0, -999.000,9, -999.000, -999.000,9, -999.000,   -999.0,9,   -999.0,    0.236,2,    0.108,2,    0.039,2
  49NZ20140717,   P01,   122,  2,     27, X12J27,2,20140813,2325, 47.0035,-151.4048, 5199,    569.9,2,   3.8339,2,   3.83373,2,  34.1268,2,  34.1260,2,-999.0000,9,    38.72,2,    39.31,2,   99.893,   0.0043,2,    0.022,2,  -999.00,9,    2.948,1,    0.000,2,   108.45,2,     0.14,    42.13,2,     0.05,     0.00,2,     0.01,     3.00,2,     0.01,     0.00,2,     0.01,    1.067,2,    0.555,2,    0.059,2,    0.270,2,   2332.1,2,   2330.8,2,   -999.0,9,   7.3126,       25,2, -999.000,9,    41.25,2, -999.000,1, -999.000,   -999.0,1,   -999.0, -999.000,9, -999.000, -999.000,9, -999.000,   -999.0,9,   -999.0, -999.000,9, -999.000,9, -999.000,9
  49NZ20140717,   P01,   122,  2,     26, X12J26,2,20140813,2325, 47.0035,-151.4048, 5199,    670.9,2,   3.5347,2,   3.53442,2,  34.1997,2,  34.1992,2,-999.0000,9,    28.84,2,    28.95,2,   99.898,   0.0041,2,    0.022,2,  -999.00,9,    3.112,1,    0.000,2,   120.15,2,     0.15,    42.90,2,     0.05,     0.01,2,     0.01,     3.06,2,     0.01,     0.01,2,     0.01,    0.712,2,    0.376,2,    0.037,2,    0.150,2,   2347.8,6,   2341.5,2,   -999.0,9,   7.3034,       25,2, -999.000,9,    40.74,2, -999.000,1, -999.000,   -999.0,1,   -999.0, -999.000,9, -999.000, -999.000,9, -999.000,   -999.0,9,   -999.0, -999.000,9, -999.000,9, -999.000,9
  49NZ20140717,   P01,   122,  2,     25, X12J25,2,20140813,2325, 47.0035,-151.4048, 5199,    771.0,2,   3.4112,2,   3.41088,2,  34.2711,2,  34.2706,2,-999.0000,9,    26.26,2,    26.28,2,   99.902,   0.0039,2,    0.021,2,  -999.00,9,    3.014,1,    0.000,2,   127.14,2,     0.15,    43.12,2,     0.05,     0.00,2,     0.01,     3.08,2,     0.01,     0.00,2,     0.01,    0.400,2,    0.219,2,    0.019,2,    0.080,2,   2356.4,2,   2355.3,2,   -999.0,9,   7.3116,       25,2, -999.000,9,    41.69,2, -999.000,1, -999.000,   -999.0,1,   -999.0, -999.000,9, -999.000, -999.000,9, -999.000,   -999.0,9,   -999.0,    0.203,2,    0.094,2,    0.036,2
  49NZ20140717,   P01,   122,  2,     24, X12J24,2,20140813,2325, 47.0035,-151.4048, 5199,    871.2,2,   3.1912,2,   3.19107,2,  34.3156,2,  34.3146,2,-999.0000,9,    24.13,2,    23.84,2,   99.856,   0.0057,2,    0.021,2,  -999.00,9,    3.027,1,    0.000,2,   134.73,2,     0.16,    43.48,2,     0.05,     0.00,2,     0.01,     3.11,2,     0.01,     0.00,2,     0.01,    0.279,2,    0.159,2,    0.011,2,    0.050,2,   2366.0,2,   2365.1,2,   -999.0,9,   7.3123,       25,6, -999.000,9,    41.50,2, -999.000,1, -999.000,   -999.0,1,   -999.0, -999.000,9, -999.000, -999.000,9, -999.000,   -999.0,9,   -999.0, -999.000,9, -999.000,9, -999.000,9
  49NZ20140717,   P01,   122,  2,     23, X12J23,2,20140813,2325, 47.0035,-151.4048, 5199,    969.5,2,   3.0074,2,   3.00715,2,  34.3562,2,  34.3558,2,-999.0000,9,    23.77,2,    23.37,2,   99.889,   0.0044,2,    0.020,2,  -999.00,9,    3.142,1,    0.000,2,   140.96,2,     0.16,    43.70,2,     0.06,     0.00,2,     0.01,     3.12,2,     0.01,     0.00,2,     0.01,    0.193,2,    0.111,2,    0.007,2,    0.030,2,   2372.1,2,   2370.9,2,   -999.0,9,   7.3162,       25,2, -999.000,9,    40.36,2, -999.000,1, -999.000,   -999.0,1,   -999.0, -999.000,9, -999.000, -999.000,9, -999.000,   -999.0,9,   -999.0,    0.238,2,    0.120,2,    0.050,2
  49NZ20140717,   P01,   122,  2,     22, X12J22,2,20140813,2325, 47.0035,-151.4048, 5199,   1131.0,2,   2.7839,2,   2.78434,2,  34.4087,2,  34.4082,2,-999.0000,9,    18.01,2,    17.11,2,   99.887,   0.0045,2,    0.021,2,  -999.00,9,    3.259,1,    0.000,2,   148.98,2,     0.17,    44.37,2,     0.06,     0.00,2,     0.01,     3.16,2,     0.01,     0.00,2,     0.01,    0.056,2,    0.033,2,    0.002,2,    0.000,2,   2385.9,2,   2383.2,6,   -999.0,9,   7.3122,       25,2, -999.000,9,    40.50,2, -999.000,1, -999.000,   -999.0,1,   -999.0, -999.000,9, -999.000, -999.000,9, -999.000,   -999.0,9,   -999.0, -999.000,9, -999.000,9, -999.000,9
  49NZ20140717,   P01,   122,  2,     21, X12J21,2,20140813,2325, 47.0035,-151.4048, 5199,   1329.4,2,   2.5039,2,   2.50378,2,  34.4622,2,  34.4623,2,-999.0000,9,    25.16,2,    24.66,2,   99.904,   0.0038,2,    0.019,2,  -999.00,9,    3.287,1,    0.000,2,   157.77,2,     0.17,    44.03,2,     0.06,     0.00,2,     0.01,     3.12,2,     0.01,     0.00,2,     0.01,    0.043,2,    0.025,2,    0.002,2,    0.000,2,   2388.5,2,   2390.2,2,   -999.0,9,   7.3306,       25,2, -999.000,9,    37.11,2, -999.000,9, -999.000,   -999.0,9,   -999.0, -999.000,9, -999.000, -999.000,9, -999.000,   -999.0,9,   -999.0, -999.000,9, -999.000,9, -999.000,9
  49NZ20140717,   P01,   122,  2,     20, X12J20,2,20140813,2325, 47.0035,-151.4048, 5199,   1529.7,2,   2.2876,2,   2.28738,2,  34.5117,2,  34.5115,2,-999.0000,9,    24.91,2,    24.13,2,   99.939,   0.0024,2,    0.018,2,  -999.00,9,    3.308,1,    0.000,2,   165.48,2,     0.37,    44.36,2,     0.06,     0.00,2,     0.01,     3.13,2,     0.01,     0.00,2,     0.01,    0.006,2,    0.003,2,    0.000,2,    0.000,2,   2397.8,2,   2404.4,2,   -999.0,9,   7.3336,       25,2, -999.000,9,    39.26,2, -999.000,1, -999.000,   -999.0,1,   -999.0, -999.000,9, -999.000, -999.000,9, -999.000,   -999.0,9,   -999.0, -999.000,9, -999.000,9, -999.000,9
  49NZ20140717,   P01,   122,  2,     19, X12J19,2,20140813,2325, 47.0035,-151.4048, 5199,   1728.6,2,   2.1318,2,   2.13175,2,  34.5462,2,  34.5459,2,-999.0000,9,    33.18,2,    32.73,2,   99.919,   0.0032,2,    0.018,2,  -999.00,9,    3.228,1,    0.000,2,   169.71,2,     0.18,    43.97,2,     0.06,     0.00,2,     0.01,     3.09,2,     0.01,    -0.01,2,     0.01,    0.001,2,    0.001,2,    0.000,2,    0.000,2,   2397.6,2,   2410.5,2,   -999.0,9,   7.3523,       25,2, -999.000,9,    37.70,2, -999.000,9, -999.000,   -999.0,9,   -999.0, -999.000,9, -999.000, -999.000,9, -999.000,   -999.0,9,   -999.0, -999.000,9, -999.000,9, -999.000,9
  49NZ20140717,   P01,   122,  2,     18, X12J18,2,20140813,2325, 47.0035,-151.4048, 5199,   1927.5,2,   1.9964,2,   1.99655,2,  34.5752,2,  34.5745,2,-999.0000,9,    43.68,2,    43.06,2,   99.943,   0.0023,2,    0.016,2,  -999.00,9,    3.177,1,    0.000,2,   173.01,2,     0.18,    43.31,2,     0.05,     0.00,2,     0.01,     3.04,2,     0.01,    -0.01,2,     0.01,    0.000,2,    0.000,2,    0.000,2,    0.000,2,   2393.5,2,   2412.9,2,   -999.0,9,   7.3742,       25,2, -999.000,9,    37.68,2, -999.000,1, -999.000,   -999.0,1,   -999.0, -999.000,9, -999.000, -999.000,9, -999.000,   -999.0,9,   -999.0,    0.197,2,    0.094,2,    0.035,2
  49NZ20140717,   P01,   122,  2,     17, X12J17,2,20140813,2325, 47.0035,-151.4048, 5199,   2131.9,2,   1.8802,2,   1.88003,2,  34.5986,2,  34.5983,2,-999.0000,9,    57.07,2,    56.95,2,   99.932,   0.0027,2,    0.015,2,  -999.00,9,    3.117,1,    0.000,2,   174.32,2,     0.18,    42.43,2,     0.05,     0.00,2,     0.01,     2.98,2,     0.01,    -0.01,2,     0.01,    0.000,2,    0.000,2,    0.000,2,    0.000,2,   2387.2,2,   2418.0,2,   -999.0,9,   7.4028,       25,2, -999.000,9,    37.75,2, -999.000,9, -999.000,   -999.0,9,   -999.0, -999.000,9, -999.000, -999.000,9, -999.000,   -999.0,9,   -999.0, -999.000,9, -999.000,9, -999.000,9
  49NZ20140717,   P01,   122,  2,     16, X12J16,2,20140813,2325, 47.0035,-151.4048, 5199,   2330.6,2,   1.7967,2,   1.79661,2,  34.6152,2,  34.6152,2,-999.0000,9,    68.44,2,    68.32,2,   99.924,   0.0031,2,    0.013,2,  -999.00,9,    3.026,1,    0.000,2,   174.83,2,     0.18,    41.68,2,     0.05,     0.00,2,     0.01,     2.93,2,     0.01,    -0.01,2,     0.01,    0.000,2,    0.000,2,    0.000,2,    0.000,2,   2381.8,6,   2419.7,2,   -999.0,9,   7.4265,       25,2, -999.000,9,    36.94,2, -999.000,9, -999.000,   -999.0,9,   -999.0, -999.000,9, -999.000, -999.000,9, -999.000,   -999.0,9,   -999.0, -999.000,9, -999.000,9, -999.000,9
  49NZ20140717,   P01,   122,  2,     15, X12J15,2,20140813,2325, 47.0035,-151.4048, 5199,   2530.2,2,   1.7171,2,   1.71705,2,  34.6301,2,  34.6300,2,-999.0000,9,    80.70,2,    80.81,2,   99.911,   0.0036,2,    0.012,2,  -999.00,9,    2.987,1,    0.000,2,   174.12,2,     0.18,    40.99,2,     0.05,     0.00,2,     0.01,     2.88,2,     0.01,    -0.01,2,     0.01,    0.000,2,    0.000,2,    0.000,2,    0.000,2,   2375.7,2,   2422.3,2,   -999.0,9,   7.4491,       25,2, -999.000,9,    36.36,2, -999.000,1, -999.000,   -999.0,1,   -999.0, -999.000,9, -999.000, -999.000,9, -999.000,   -999.0,9,   -999.0, -999.000,9, -999.000,9, -999.000,9
  49NZ20140717,   P01,   122,  2,     14, X12J14,2,20140813,2325, 47.0035,-151.4048, 5199,   2730.9,2,   1.6487,2,   1.64854,2,  34.6422,2,  34.6426,2,-999.0000,9,    92.92,2,    92.85,2,   99.941,   0.0024,2,    0.012,2,  -999.00,9,    2.887,1,    0.000,2,   171.99,2,     0.18,    40.07,2,     0.05,     0.00,2,     0.01,     2.81,2,     0.01,     0.01,2,     0.01,    0.000,2,    0.000,2,    0.001,2,    0.000,2,   2367.5,2,   2421.5,2,   -999.0,9,   7.4724,       25,6, -999.000,9,    38.96,2, -999.000,9, -999.000,   -999.0,9,   -999.0, -999.000,9, -999.000, -999.000,9, -999.000,   -999.0,9,   -999.0, -999.000,9, -999.000,9, -999.000,9
  49NZ20140717,   P01,   122,  2,     13, X12113,2,20140813,2325, 47.0035,-151.4048, 5199,   2932.9,2,   1.5926,2,   1.59245,2,  34.6524,2,  34.6526,2,-999.0000,9,   104.31,2,   104.33,2,   99.945,   0.0022,2,    0.011,2,  -999.00,9,    2.823,1,    0.000,2,   170.19,2,     0.18,    39.32,2,     0.05,     0.00,2,     0.01,     2.75,2,     0.01,     0.00,2,     0.01,    0.000,2,    0.000,2,    0.001,2,    0.000,2,   2358.8,2,   2424.0,2,   -999.0,9,   7.4939,       25,2, -999.000,9,    37.23,2, -999.000,1, -999.000,   -999.0,1,   -999.0, -999.000,9, -999.000, -999.000,9, -999.000,   -999.0,9,   -999.0,    0.112,2,    0.044,2,    0.018,2
  49NZ20140717,   P01,   122,  2,     12, X12J12,2,20140813,2325, 47.0035,-151.4048, 5199,   3170.7,2,   1.5515,2,   1.55146,2,  34.6609,2,  34.6610,2,-999.0000,9,   114.92,2,   114.85,2,   99.945,   0.0022,2,    0.010,2,  -999.00,9,    2.701,1,    0.000,2,   167.75,2,     0.18,    38.64,2,     0.05,     0.00,2,     0.01,     2.71,2,     0.01,     0.01,2,     0.01,    0.000,2,    0.000,2,    0.000,2,    0.000,2,   2353.2,2,   2422.6,6,   -999.0,9,   7.5135,       25,2, -999.000,9,    38.29,2, -999.000,9, -999.000,   -999.0,9,   -999.0, -999.000,9, -999.000, -999.000,9, -999.000,   -999.0,9,   -999.0, -999.000,9, -999.000,9, -999.000,9
  49NZ20140717,   P01,   122,  2,     11, X12J11,2,20140813,2325, 47.0035,-151.4048, 5199,   3421.2,2,   1.5118,2,   1.51177,2,  34.6691,2,  34.6688,2,-999.0000,9,   125.74,2,   125.58,2,   99.958,   0.0017,2,    0.009,2,  -999.00,9,    2.657,1,    0.000,2,   165.01,2,     0.18,    37.86,2,     0.05,     0.00,2,     0.01,     2.65,2,     0.01,     0.01,2,     0.01,    0.000,2,    0.000,2,    0.000,2,    0.000,2,   2345.1,2,   2423.4,2,   -999.0,9,   7.5341,       25,2, -999.000,9,    38.08,2, -999.000,1, -999.000,   -999.0,1,   -999.0, -999.000,9, -999.000, -999.000,9, -999.000,   -999.0,9,   -999.0, -999.000,9, -999.000,9, -999.000,9
  49NZ20140717,   P01,   122,  2,     10, X12J10,2,20140813,2325, 47.0035,-151.4048, 5199,   3670.1,2,   1.4913,2,   1.49124,2,  34.6748,2,  34.6746,2,-999.0000,9,   133.26,2,   133.18,2,   99.954,   0.0018,2,    0.009,2,  -999.00,9,    2.852,4,    0.000,2,   163.41,2,     0.18,    37.34,2,     0.05,     0.00,2,     0.01,     2.61,2,     0.01,     0.00,2,     0.01,    0.000,2,    0.000,2,    0.000,2,    0.000,2,   2341.1,2,   2423.7,2,   -999.0,9,   7.5479,       25,2, -999.000,9,    38.34,2, -999.000,9, -999.000,   -999.0,9,   -999.0, -999.000,9, -999.000, -999.000,9, -999.000,   -999.0,9,   -999.0, -999.000,9, -999.000,9, -999.000,9