BOTTLE,20230904JAMSTECRIGC
EXPOCODE,SECT,STNNBR,CASTNO,SAMPNO,BTLNBR,BTLNBR_FLAG_W,DATE,TIME,LATITUDE,LONGITUDE,DEPTH,CTDPRS,CTDPRS_FLAG_W,CTDTMP,CTDTMP_FLAG_W,SBE35,SBE35_FLAG_W,CTDSAL,CTDSAL_FLAG_W,SALNTY,SALNTY_FLAG_W,DNSSAL,DNSSAL_FLAG_W,CTDOXY,CTDOXY_FLAG_W,OXYGEN,OXYGEN_FLAG_W,XMISS,XMISSCP,XMISS_FLAG_W,FLUOR,FLUOR_FLAG_W,CHLORA,CHLORA_FLAG_W,CDOM,CDOM_FLAG_W,PAR,PAR_FLAG_W,SILCAT,SILCAT_FLAG_W,SILUNC,NITRAT,NITRAT_FLAG_W,NRAUNC,NITRIT,NITRIT_FLAG_W,NRIUNC,PHSPHT,PHSPHT_FLAG_W,PHPUNC,AMMONIA,AMMONIA_FLAG_W,NH4UNC,CFC-11,CFC-11_FLAG_W,CFC-12,CFC-12_FLAG_W,CFC113,CFC113_FLAG_W,SF6,SF6_FLAG_W,TCARBN,TCARBN_FLAG_W,ALKALI,ALKALI_FLAG_W,ALKALI_POT,ALKALI_POT_FLAG_W,PH_TOT,PH_TMP,PH_TOT_FLAG_W,CALCIUM,CALCIUM_FLAG_W,DOC,DOC_FLAG_W,DELC13,DELC13_FLAG_W,C13ERR,DELC14,DELC14_FLAG_W,C14ERR,CS-134,CS-134_FLAG_W,CS134ER,CS-137,CS-137_FLAG_W,CS137ER,I-129,I-129_FLAG_W,I-129ER,CDOM-325,CDOM-325_FLAG_W,CDOM-370,CDOM-370_FLAG_W,CDOM-443,CDOM-443_FLAG_W
,,,,,,,,UTC,DEG,DEG,METERS,DBAR,,ITS-90,,ITS-90,,PSS-78,,PSS-78,,G/KG,,UMOL/KG,,UMOL/KG,,%TRANS,/METER,,MG/CUM,,MG/CUM,,MG/CUM,,UE/SQM/S,,UMOL/KG,,UMOL/KG,UMOL/KG,,UMOL/KG,UMOL/KG,,UMOL/KG,UMOL/KG,,UMOL/KG,UMOL/KG,,UMOL/KG,PMOL/KG,,PMOL/KG,,PMOL/KG,,FMOL/KG,,UMOL/KG,,UMOL/KG,,UMOL/KG,,,DEG C,,MMOL/KG,,UMOL/KG,,/MILLE,,/MILLE,/MILLE,,/MILLE,MBQ/KG,,MBQ/KG,MBQ/KG,,MBQ/KG,,,,/METER,,/METER,,/METER,
  49NZ20140717,   P01,   119,  1,      0,   -999,9,20140812,2355, 46.9917,-154.7488, 5206,   -999.0,9,-999.0000,9,-999.00000,9,-999.0000,9,  32.5856,2,-999.0000,9,  -999.00,9,  -999.00,9, -999.000,-999.0000,9, -999.000,9,  -999.00,9, -999.000,9, -999.000,9,     0.56,2,     0.17,     5.33,2,     0.02,     0.08,2,     0.01,     0.72,2,     0.01,  -999.00,9,  -999.00, -999.000,9, -999.000,9, -999.000,9, -999.000,9,   -999.0,9,   -999.0,9,   -999.0,9,-999.0000,     -999,9, -999.000,9,  -999.00,9, -999.000,9, -999.000,   -999.0,9,   -999.0, -999.000,9, -999.000, -999.000,9, -999.000,   -999.0,9,   -999.0, -999.000,9, -999.000,9, -999.000,9
  49NZ20140717,   P01,   119,  1,     36, X12J36,2,20140812,2355, 46.9917,-154.7488, 5206,     10.1,2,  13.6026,2,  13.60134,2,  32.5838,2,  32.5843,2,-999.0000,9,   270.22,2,   270.25,2,   94.104,   0.2431,2,    0.610,2,  -999.00,9,    0.160,1,   50.640,2,     0.58,2,     0.17,     5.39,2,     0.02,     0.08,2,     0.01,     0.72,2,     0.01,  -999.00,9,  -999.00,    3.010,2,    1.807,2,    0.284,2,    2.170,2,   -999.0,9,   -999.0,9,   -999.0,9,-999.0000,     -999,9, -999.000,9,  -999.00,9, -999.000,9, -999.000,   -999.0,9,   -999.0, -999.000,9, -999.000, -999.000,9, -999.000,   -999.0,9,   -999.0, -999.000,9, -999.000,9, -999.000,9
  49NZ20140717,   P01,   119,  1,     35, X12J35,2,20140812,2355, 46.9917,-154.7488, 5206,     50.3,2,   7.2251,2,   7.22340,2,  32.9273,2,  32.9286,2,-999.0000,9,   304.36,2,   304.80,2,   97.498,   0.1014,2,    0.469,2,  -999.00,9,    0.710,1,    1.017,2,    18.54,2,     0.09,    12.03,2,     0.02,     0.09,2,     0.01,     1.20,2,     0.01,  -999.00,9,  -999.00,    4.125,2,    2.414,2,    0.380,2,    2.700,2,   -999.0,9,   -999.0,9,   -999.0,9,-999.0000,     -999,9, -999.000,9,  -999.00,9, -999.000,9, -999.000,   -999.0,9,   -999.0, -999.000,9, -999.000, -999.000,9, -999.000,   -999.0,9,   -999.0, -999.000,9, -999.000,9, -999.000,9
  49NZ20140717,   P01,   119,  1,     34, X12J34,2,20140812,2355, 46.9917,-154.7488, 5206,     99.1,2,   6.4977,2,   6.50721,2,  33.1635,2,  33.1577,2,-999.0000,9,   284.90,2,   285.35,2,   99.326,   0.0270,2,    0.078,2,  -999.00,9,    0.593,1,    0.006,2,    19.52,2,     0.09,    14.10,2,     0.03,     0.02,2,     0.01,     1.20,2,     0.01,  -999.00,9,  -999.00,    4.048,2,    2.376,2,    0.353,2,    2.690,2,   -999.0,9,   -999.0,9,   -999.0,9,-999.0000,     -999,9, -999.000,9,  -999.00,9, -999.000,9, -999.000,   -999.0,9,   -999.0, -999.000,9, -999.000, -999.000,9, -999.000,   -999.0,9,   -999.0, -999.000,9, -999.000,9, -999.000,9
  49NZ20140717,   P01,   119,  1,     33, X12J33,2,20140812,2355, 46.9917,-154.7488, 5206,    150.7,2,   6.5103,2,   6.50893,2,  33.7822,2,  33.7819,2,-999.0000,9,   208.02,2,   207.67,2,   99.415,   0.0235,2,    0.030,2,  -999.00,9,    1.531,1,    0.000,2,    36.22,2,     0.10,    22.93,2,     0.03,     0.01,2,     0.01,     1.68,2,     0.01,  -999.00,9,  -999.00,    3.558,2,    2.051,2,    0.240,2,    1.850,2,   -999.0,9,   -999.0,9,   -999.0,9,-999.0000,     -999,9, -999.000,9,  -999.00,9, -999.000,9, -999.000,   -999.0,9,   -999.0, -999.000,9, -999.000, -999.000,9, -999.000,   -999.0,9,   -999.0, -999.000,9, -999.000,9, -999.000,9
  49NZ20140717,   P01,   119,  1,     32, X12J32,2,20140812,2355, 46.9917,-154.7488, 5206,    200.4,2,   5.7285,2,   5.72881,2,  33.8102,2,  33.8105,2,-999.0000,9,   170.48,2,   170.19,2,   99.556,   0.0178,2,    0.025,2,  -999.00,9,    2.069,1,    0.000,2,    49.56,2,     0.11,    28.07,2,     0.04,     0.01,2,     0.01,     2.04,2,     0.01,  -999.00,9,  -999.00,    3.308,2,    1.871,2,    0.203,2,    1.520,2,   -999.0,9,   -999.0,9,   -999.0,9,-999.0000,     -999,9, -999.000,9,  -999.00,9, -999.000,9, -999.000,   -999.0,9,   -999.0, -999.000,9, -999.000, -999.000,9, -999.000,   -999.0,9,   -999.0, -999.000,9, -999.000,9, -999.000,9
  49NZ20140717,   P01,   119,  1,     31, X12J31,2,20140812,2355, 46.9917,-154.7488, 5206,    250.6,2,   4.8598,2,   4.85950,2,  33.8077,2,  33.8079,2,-999.0000,9,   142.18,2,   142.04,2,   99.736,   0.0106,2,    0.023,2,  -999.00,9,    2.352,1,    0.000,2,    61.94,2,     0.11,    32.34,2,     0.04,     0.01,2,     0.01,     2.34,2,     0.01,  -999.00,9,  -999.00,    3.105,2,    1.711,2,    0.192,2,    1.360,2,   -999.0,9,   -999.0,9,   -999.0,9,-999.0000,     -999,9, -999.000,9,  -999.00,9, -999.000,9, -999.000,   -999.0,9,   -999.0, -999.000,9, -999.000, -999.000,9, -999.000,   -999.0,9,   -999.0, -999.000,9, -999.000,9, -999.000,9
  49NZ20140717,   P01,   119,  1,     30, X12J30,2,20140812,2355, 46.9917,-154.7488, 5206,    279.2,2,   4.6050,2,   4.60347,2,  33.8329,2,  33.8326,2,-999.0000,9,   125.53,2,   125.62,2,   99.782,   0.0087,2,    0.021,2,  -999.00,9,    2.442,1,    0.000,2,    67.99,2,     0.12,    34.21,2,     0.05,     0.01,2,     0.01,     2.47,2,     0.01,  -999.00,9,  -999.00,    2.902,2,    1.595,2,    0.177,2,    1.140,2,   -999.0,9,   -999.0,9,   -999.0,9,-999.0000,     -999,9, -999.000,9,  -999.00,9, -999.000,9, -999.000,   -999.0,9,   -999.0, -999.000,9, -999.000, -999.000,9, -999.000,   -999.0,9,   -999.0, -999.000,9, -999.000,9, -999.000,9
  49NZ20140717,   P01,   119,  1,     29, X12J29,2,20140812,2355, 46.9917,-154.7488, 5206,    370.9,2,   4.2337,2,   4.23309,2,  33.9300,2,  33.9299,2,-999.0000,9,    83.91,2,    84.30,2,   99.795,   0.0082,2,    0.021,2,  -999.00,9,    2.732,1,    0.000,2,    83.40,2,     0.13,    38.45,2,     0.05,     0.01,2,     0.01,     2.75,2,     0.01,  -999.00,9,  -999.00,    2.277,2,    1.220,2,    0.132,2,    0.750,2,   -999.0,9,   -999.0,9,   -999.0,9,-999.0000,     -999,9, -999.000,9,  -999.00,9, -999.000,9, -999.000,   -999.0,9,   -999.0, -999.000,9, -999.000, -999.000,9, -999.000,   -999.0,9,   -999.0, -999.000,9, -999.000,9, -999.000,9
  49NZ20140717,   P01,   119,  1,     28, X12J28,2,20140812,2355, 46.9917,-154.7488, 5206,    471.4,2,   4.0702,2,   4.06986,2,  34.0380,2,  34.0376,2,-999.0000,9,    59.55,2,    60.25,2,   99.903,   0.0039,2,    0.021,2,  -999.00,9,    2.813,1,    0.000,2,    95.91,2,     0.13,    40.37,2,     0.05,     0.01,2,     0.01,     2.89,2,     0.01,  -999.00,9,  -999.00,    1.598,2,    0.835,2,    0.090,2,    0.400,2,   -999.0,9,   -999.0,9,   -999.0,9,-999.0000,     -999,9, -999.000,9,  -999.00,9, -999.000,9, -999.000,   -999.0,9,   -999.0, -999.000,9, -999.000, -999.000,9, -999.000,   -999.0,9,   -999.0, -999.000,9, -999.000,9, -999.000,9
  49NZ20140717,   P01,   119,  1,     27, X12J27,2,20140812,2355, 46.9917,-154.7488, 5206,    572.9,2,   3.8019,2,   3.80123,2,  34.1337,2,  34.1326,2,-999.0000,9,    37.13,2,    37.70,2,   99.940,   0.0024,2,    0.022,2,  -999.00,9,    2.974,1,    0.000,2,   109.68,2,     0.14,    42.32,2,     0.05,     0.00,2,     0.01,     3.02,2,     0.01,  -999.00,9,  -999.00,    1.023,2,    0.538,2,    0.058,2,    0.210,2,   -999.0,9,   -999.0,9,   -999.0,9,-999.0000,     -999,9, -999.000,9,  -999.00,9, -999.000,9, -999.000,   -999.0,9,   -999.0, -999.000,9, -999.000, -999.000,9, -999.000,   -999.0,9,   -999.0, -999.000,9, -999.000,9, -999.000,9
  49NZ20140717,   P01,   119,  1,     26, X12J26,2,20140812,2355, 46.9917,-154.7488, 5206,    670.8,2,   3.6491,2,   3.64854,2,  34.2165,2,  34.2150,2,-999.0000,9,    30.75,2,    31.19,2,   99.899,   0.0041,2,    0.021,2,  -999.00,9,    3.026,1,    0.000,2,   118.12,2,     0.15,    42.58,2,     0.05,     0.00,2,     0.01,     3.04,2,     0.01,  -999.00,9,  -999.00,    0.613,2,    0.330,2,    0.031,2,    0.110,2,   -999.0,9,   -999.0,9,   -999.0,9,-999.0000,     -999,9, -999.000,9,  -999.00,9, -999.000,9, -999.000,   -999.0,9,   -999.0, -999.000,9, -999.000, -999.000,9, -999.000,   -999.0,9,   -999.0, -999.000,9, -999.000,9, -999.000,9
  49NZ20140717,   P01,   119,  1,     25, X12J25,2,20140812,2355, 46.9917,-154.7488, 5206,    772.4,2,   3.3860,2,   3.38572,2,  34.2785,2,  34.2780,2,-999.0000,9,    24.87,2,    24.90,2,   99.903,   0.0039,2,    0.020,2,  -999.00,9,    3.175,1,    0.000,2,   128.04,2,     0.15,    43.23,2,     0.05,     0.00,2,     0.01,     3.09,2,     0.01,  -999.00,9,  -999.00,    0.363,2,    0.198,2,    0.013,2,    0.050,2,   -999.0,9,   -999.0,9,   -999.0,9,-999.0000,     -999,9, -999.000,9,  -999.00,9, -999.000,9, -999.000,   -999.0,9,   -999.0, -999.000,9, -999.000, -999.000,9, -999.000,   -999.0,9,   -999.0, -999.000,9, -999.000,9, -999.000,9
  49NZ20140717,   P01,   119,  1,     24, X12J24,2,20140812,2355, 46.9917,-154.7488, 5206,    871.1,2,   3.1854,2,   3.18499,2,  34.3253,2,  34.3246,2,-999.0000,9,    23.26,2,    23.10,2,   99.912,   0.0035,2,    0.020,2,  -999.00,9,    3.111,1,    0.000,2,   134.89,2,     0.16,    43.56,2,     0.05,     0.00,2,     0.01,     3.11,2,     0.01,  -999.00,9,  -999.00,    0.226,2,    0.129,2,    0.008,2,    0.080,2,   -999.0,9,   -999.0,9,   -999.0,9,-999.0000,     -999,9, -999.000,9,  -999.00,9, -999.000,9, -999.000,   -999.0,9,   -999.0, -999.000,9, -999.000, -999.000,9, -999.000,   -999.0,9,   -999.0, -999.000,9, -999.000,9, -999.000,9
  49NZ20140717,   P01,   119,  1,     23, X12J23,2,20140812,2355, 46.9917,-154.7488, 5206,    970.0,2,   3.0083,2,   3.00817,2,  34.3632,2,  34.3629,2,-999.0000,9,    21.51,2,    21.16,2,   99.877,   0.0049,2,    0.020,2,  -999.00,9,    3.112,1,    0.000,2,   140.87,2,     0.16,    43.88,2,     0.06,     0.00,2,     0.01,     3.13,2,     0.01,  -999.00,9,  -999.00,    0.138,2,    0.080,2,    0.004,2,    0.000,2,   -999.0,9,   -999.0,9,   -999.0,9,-999.0000,     -999,9, -999.000,9,  -999.00,9, -999.000,9, -999.000,   -999.0,9,   -999.0, -999.000,9, -999.000, -999.000,9, -999.000,   -999.0,9,   -999.0, -999.000,9, -999.000,9, -999.000,9
  49NZ20140717,   P01,   119,  1,     22, X12J22,2,20140812,2355, 46.9917,-154.7488, 5206,   1131.2,2,   2.7667,2,   2.76626,2,  34.4105,2,  34.4103,2,-999.0000,9,    19.63,2,    19.06,2,   99.925,   0.0030,2,    0.022,2,  -999.00,9,    3.248,1,    0.000,2,   149.31,2,     0.17,    44.25,2,     0.06,     0.00,2,     0.01,     3.15,2,     0.01,  -999.00,9,  -999.00,    0.067,2,    0.040,2,    0.003,2,    0.000,2,   -999.0,9,   -999.0,9,   -999.0,9,-999.0000,     -999,9, -999.000,9,  -999.00,9, -999.000,9, -999.000,   -999.0,9,   -999.0, -999.000,9, -999.000, -999.000,9, -999.000,   -999.0,9,   -999.0, -999.000,9, -999.000,9, -999.000,9
  49NZ20140717,   P01,   119,  1,     21, X12J21,2,20140812,2355, 46.9917,-154.7488, 5206,   1332.2,2,   2.5265,2,   2.52641,2,  34.4603,2,  34.4601,2,-999.0000,9,    20.15,2,    19.48,2,   99.920,   0.0032,2,    0.019,2,  -999.00,9,    3.259,1,    0.000,2,   157.73,2,     0.17,    44.42,2,     0.06,     0.00,2,     0.01,     3.16,2,     0.01,  -999.00,9,  -999.00,    0.026,2,    0.016,2,    0.000,2,    0.000,2,   -999.0,9,   -999.0,9,   -999.0,9,-999.0000,     -999,9, -999.000,9,  -999.00,9, -999.000,9, -999.000,   -999.0,9,   -999.0, -999.000,9, -999.000, -999.000,9, -999.000,   -999.0,9,   -999.0, -999.000,9, -999.000,9, -999.000,9
  49NZ20140717,   P01,   119,  1,     20, X12J20,2,20140812,2355, 46.9917,-154.7488, 5206,   1532.2,2,   2.3383,2,   2.33793,2,  34.5009,2,  34.5006,2,-999.0000,9,    24.14,2,    23.51,2,   99.914,   0.0035,2,    0.018,2,  -999.00,9,    3.260,1,    0.000,2,   163.87,2,     0.18,    44.37,2,     0.06,     0.00,2,     0.01,     3.13,2,     0.01,  -999.00,9,  -999.00,    0.009,2,    0.007,2,    0.000,2,    0.000,2,   -999.0,9,   -999.0,9,   -999.0,9,-999.0000,     -999,9, -999.000,9,  -999.00,9, -999.000,9, -999.000,   -999.0,9,   -999.0, -999.000,9, -999.000, -999.000,9, -999.000,   -999.0,9,   -999.0, -999.000,9, -999.000,9, -999.000,9
  49NZ20140717,   P01,   119,  1,     19, X12J19,2,20140812,2355, 46.9917,-154.7488, 5206,   1730.7,2,   2.1634,2,   2.16320,2,  34.5396,2,  34.5392,2,-999.0000,9,    31.64,2,    31.26,2,   99.957,   0.0017,2,    0.017,2,  -999.00,9,    3.255,1,    0.000,2,   168.75,2,     0.18,    44.07,2,     0.06,     0.00,2,     0.01,     3.10,2,     0.01,  -999.00,9,  -999.00,    0.002,2,    0.001,2,    0.000,2,    0.000,2,   -999.0,9,   -999.0,9,   -999.0,9,-999.0000,     -999,9, -999.000,9,  -999.00,9, -999.000,9, -999.000,   -999.0,9,   -999.0, -999.000,9, -999.000, -999.000,9, -999.000,   -999.0,9,   -999.0, -999.000,9, -999.000,9, -999.000,9
  49NZ20140717,   P01,   119,  1,     18, X12J18,2,20140812,2355, 46.9917,-154.7488, 5206,   1930.4,2,   2.0159,2,   2.01576,2,  34.5714,2,  34.5714,2,-999.0000,9,    42.50,2,    42.31,2,   99.957,   0.0017,2,    0.016,2,  -999.00,9,    3.182,1,    0.000,2,   172.33,2,     0.18,    43.41,2,     0.05,     0.00,2,     0.01,     3.05,2,     0.01,  -999.00,9,  -999.00,    0.000,2,    0.000,2,    0.000,2,    0.000,2,   -999.0,9,   -999.0,9,   -999.0,9,-999.0000,     -999,9, -999.000,9,  -999.00,9, -999.000,9, -999.000,   -999.0,9,   -999.0, -999.000,9, -999.000, -999.000,9, -999.000,   -999.0,9,   -999.0, -999.000,9, -999.000,9, -999.000,9
  49NZ20140717,   P01,   119,  1,     17, X12J17,2,20140812,2355, 46.9917,-154.7488, 5206,   2131.4,2,   1.9004,2,   1.90027,2,  34.5955,2,  34.5954,2,-999.0000,9,    54.87,2,    54.87,2,   99.933,   0.0027,2,    0.014,2,  -999.00,9,    3.113,1,    0.000,2,   173.99,2,     0.18,    42.58,2,     0.05,     0.00,2,     0.01,     2.99,2,     0.01,  -999.00,9,  -999.00,    0.000,2,    0.000,2,    0.000,2,    0.000,2,   -999.0,9,   -999.0,9,   -999.0,9,-999.0000,     -999,9, -999.000,9,  -999.00,9, -999.000,9, -999.000,   -999.0,9,   -999.0, -999.000,9, -999.000, -999.000,9, -999.000,   -999.0,9,   -999.0, -999.000,9, -999.000,9, -999.000,9
  49NZ20140717,   P01,   119,  1,     16, X12J16,2,20140812,2355, 46.9917,-154.7488, 5206,   2332.7,2,   1.8011,2,   1.80106,2,  34.6145,2,  34.6145,2,-999.0000,9,    67.89,2,    67.73,2,   99.927,   0.0029,2,    0.013,2,  -999.00,9,    3.017,1,    0.000,2,   174.72,2,     0.18,    41.82,2,     0.05,     0.00,2,     0.01,     2.94,2,     0.01,  -999.00,9,  -999.00,    0.000,2,    0.000,2,    0.001,2,    0.000,2,   -999.0,9,   -999.0,9,   -999.0,9,-999.0000,     -999,9, -999.000,9,  -999.00,9, -999.000,9, -999.000,   -999.0,9,   -999.0, -999.000,9, -999.000, -999.000,9, -999.000,   -999.0,9,   -999.0, -999.000,9, -999.000,9, -999.000,9
  49NZ20140717,   P01,   119,  1,     15, X12J15,2,20140812,2355, 46.9917,-154.7488, 5206,   2530.1,2,   1.7259,2,   1.72581,2,  34.6284,2,  34.6285,2,-999.0000,9,    79.74,2,    79.84,2,   99.944,   0.0022,2,    0.012,2,  -999.00,9,    2.928,1,    0.000,2,   173.80,2,     0.18,    41.05,2,     0.05,     0.00,2,     0.01,     2.88,2,     0.01,  -999.00,9,  -999.00,    0.000,2,    0.000,2,    0.000,2,    0.000,2,   -999.0,9,   -999.0,9,   -999.0,9,-999.0000,     -999,9, -999.000,9,  -999.00,9, -999.000,9, -999.000,   -999.0,9,   -999.0, -999.000,9, -999.000, -999.000,9, -999.000,   -999.0,9,   -999.0, -999.000,9, -999.000,9, -999.000,9
  49NZ20140717,   P01,   119,  1,     14, X12J14,2,20140812,2355, 46.9917,-154.7488, 5206,   2730.4,2,   1.6584,2,   1.65833,2,  34.6403,2,  34.6409,2,-999.0000,9,    92.14,2,    92.12,2,   99.979,   0.0009,2,    0.012,2,  -999.00,9,    2.907,1,    0.000,2,   171.65,2,     0.18,    40.09,2,     0.05,     0.00,2,     0.01,     2.82,2,     0.01,  -999.00,9,  -999.00,    0.000,2,    0.000,2,    0.000,2,    0.000,2,   -999.0,9,   -999.0,9,   -999.0,9,-999.0000,     -999,9, -999.000,9,  -999.00,9, -999.000,9, -999.000,   -999.0,9,   -999.0, -999.000,9, -999.000, -999.000,9, -999.000,   -999.0,9,   -999.0, -999.000,9, -999.000,9, -999.000,9
  49NZ20140717,   P01,   119,  1,     13, X12113,2,20140812,2355, 46.9917,-154.7488, 5206,   2930.1,2,   1.6041,2,   1.60394,2,  34.6506,2,  34.6508,2,-999.0000,9,   103.01,2,   102.92,2,   99.964,   0.0015,2,    0.011,2,  -999.00,9,    2.854,1,    0.000,2,   169.96,2,     0.18,    39.44,2,     0.05,     0.00,2,     0.01,     2.77,2,     0.01,  -999.00,9,  -999.00,    0.000,2,    0.000,2,    0.000,2,    0.000,2,   -999.0,9,   -999.0,9,   -999.0,9,-999.0000,     -999,9, -999.000,9,  -999.00,9, -999.000,9, -999.000,   -999.0,9,   -999.0, -999.000,9, -999.000, -999.000,9, -999.000,   -999.0,9,   -999.0, -999.000,9, -999.000,9, -999.000,9
  49NZ20140717,   P01,   119,  1,     12, X12J12,2,20140812,2355, 46.9917,-154.7488, 5206,   3169.8,2,   1.5485,2,   1.54859,2,  34.6612,2,  34.6610,2,-999.0000,9,   115.85,2,   115.71,2,   99.972,   0.0011,2,    0.010,2,  -999.00,9,    2.676,1,    0.000,2,   167.15,2,     0.18,    38.60,2,     0.05,     0.00,2,     0.01,     2.70,2,     0.01,  -999.00,9,  -999.00,    0.000,2,    0.000,2,    0.000,2,    0.000,2,   -999.0,9,   -999.0,9,   -999.0,9,-999.0000,     -999,9, -999.000,9,  -999.00,9, -999.000,9, -999.000,   -999.0,9,   -999.0, -999.000,9, -999.000, -999.000,9, -999.000,   -999.0,9,   -999.0, -999.000,9, -999.000,9, -999.000,9
  49NZ20140717,   P01,   119,  1,     11, X12J11,2,20140812,2355, 46.9917,-154.7488, 5206,   3418.7,2,   1.5105,2,   1.51057,2,  34.6690,2,  34.6691,2,-999.0000,9,   126.07,2,   126.11,2,   99.983,   0.0007,2,    0.009,2,  -999.00,9,    2.604,1,    0.000,2,   164.85,2,     0.18,    37.95,2,     0.05,     0.00,2,     0.01,     2.65,2,     0.01,  -999.00,9,  -999.00,    0.000,2,    0.000,2,    0.000,2,    0.000,2,   -999.0,9,   -999.0,9,   -999.0,9,-999.0000,     -999,9, -999.000,9,  -999.00,9, -999.000,9, -999.000,   -999.0,9,   -999.0, -999.000,9, -999.000, -999.000,9, -999.000,   -999.0,9,   -999.0, -999.000,9, -999.000,9, -999.000,9
  49NZ20140717,   P01,   119,  1,     10, X12J10,2,20140812,2355, 46.9917,-154.7488, 5206,   3672.1,2,   1.4905,2,   1.49059,2,  34.6748,2,  34.6748,2,-999.0000,9,   133.34,2,   133.25,2,   99.983,   0.0007,2,    0.009,2,  -999.00,9,    2.801,4,    0.000,2,   163.94,2,     0.18,    37.42,2,     0.05,     0.00,2,     0.01,     2.62,2,     0.01,  -999.00,9,  -999.00,    0.001,2,    0.000,2,    0.001,2,    0.000,2,   -999.0,9,   -999.0,9,   -999.0,9,-999.0000,     -999,9, -999.000,9,  -999.00,9, -999.000,9, -999.000,   -999.0,9,   -999.0, -999.000,9, -999.000, -999.000,9, -999.000,   -999.0,9,   -999.0, -999.000,9, -999.000,9, -999.000,9