BOTTLE,20230904JAMSTECRIGC
EXPOCODE,SECT,STNNBR,CASTNO,SAMPNO,BTLNBR,BTLNBR_FLAG_W,DATE,TIME,LATITUDE,LONGITUDE,DEPTH,CTDPRS,CTDPRS_FLAG_W,CTDTMP,CTDTMP_FLAG_W,SBE35,SBE35_FLAG_W,CTDSAL,CTDSAL_FLAG_W,SALNTY,SALNTY_FLAG_W,DNSSAL,DNSSAL_FLAG_W,CTDOXY,CTDOXY_FLAG_W,OXYGEN,OXYGEN_FLAG_W,XMISS,XMISSCP,XMISS_FLAG_W,FLUOR,FLUOR_FLAG_W,CHLORA,CHLORA_FLAG_W,CDOM,CDOM_FLAG_W,PAR,PAR_FLAG_W,SILCAT,SILCAT_FLAG_W,SILUNC,NITRAT,NITRAT_FLAG_W,NRAUNC,NITRIT,NITRIT_FLAG_W,NRIUNC,PHSPHT,PHSPHT_FLAG_W,PHPUNC,AMMONIA,AMMONIA_FLAG_W,NH4UNC,CFC-11,CFC-11_FLAG_W,CFC-12,CFC-12_FLAG_W,CFC113,CFC113_FLAG_W,SF6,SF6_FLAG_W,TCARBN,TCARBN_FLAG_W,ALKALI,ALKALI_FLAG_W,ALKALI_POT,ALKALI_POT_FLAG_W,PH_TOT,PH_TMP,PH_TOT_FLAG_W,CALCIUM,CALCIUM_FLAG_W,DOC,DOC_FLAG_W,DELC13,DELC13_FLAG_W,C13ERR,DELC14,DELC14_FLAG_W,C14ERR,CS-134,CS-134_FLAG_W,CS134ER,CS-137,CS-137_FLAG_W,CS137ER,I-129,I-129_FLAG_W,I-129ER,CDOM-325,CDOM-325_FLAG_W,CDOM-370,CDOM-370_FLAG_W,CDOM-443,CDOM-443_FLAG_W
,,,,,,,,UTC,DEG,DEG,METERS,DBAR,,ITS-90,,ITS-90,,PSS-78,,PSS-78,,G/KG,,UMOL/KG,,UMOL/KG,,%TRANS,/METER,,MG/CUM,,MG/CUM,,MG/CUM,,UE/SQM/S,,UMOL/KG,,UMOL/KG,UMOL/KG,,UMOL/KG,UMOL/KG,,UMOL/KG,UMOL/KG,,UMOL/KG,UMOL/KG,,UMOL/KG,PMOL/KG,,PMOL/KG,,PMOL/KG,,FMOL/KG,,UMOL/KG,,UMOL/KG,,UMOL/KG,,,DEG C,,MMOL/KG,,UMOL/KG,,/MILLE,,/MILLE,/MILLE,,/MILLE,MBQ/KG,,MBQ/KG,MBQ/KG,,MBQ/KG,,,,/METER,,/METER,,/METER,
  49NZ20140717,   P01,    45,  1,      0,   -999,9,20140719,0138, 41.8736, 146.3193, 6760,   -999.0,9,-999.0000,9,-999.00000,9,-999.0000,9,  33.0819,2,-999.0000,9,  -999.00,9,  -999.00,9, -999.000,-999.0000,9, -999.000,9,  -999.00,9, -999.000,9, -999.000,9,     1.33,2,     0.12,     0.08,2,     0.02,     0.01,2,     0.01,     0.11,2,     0.01,     0.07,2,     0.02, -999.000,9, -999.000,9, -999.000,9, -999.000,9,   -999.0,9,   -999.0,9,   -999.0,9,-999.0000,     -999,9, -999.000,9,  -999.00,9, -999.000,9, -999.000,   -999.0,9,   -999.0, -999.000,9, -999.000, -999.000,9, -999.000,   -999.0,9,   -999.0, -999.000,9, -999.000,9, -999.000,9
  49NZ20140717,   P01,    45,  1,     36, X12J36,2,20140719,0138, 41.8736, 146.3193, 6760,     10.7,2,  18.7753,2,  18.76856,2,  32.8786,2,  32.8903,2,  33.0466,2,   251.25,2,   265.39,2, -999.000,-999.0000,9, -999.000,9,  -999.00,9, -999.000,9,  434.614,2,     0.81,2,     0.14,     0.07,2,     0.02,     0.01,2,     0.01,     0.11,2,     0.01,     0.05,2,     0.01,    2.712,2,    1.566,2,    0.351,2, -999.000,9,   1956.7,2,   2221.0,2,   -999.0,9,   8.0200,       25,6, -999.000,9,    71.30,2, -999.000,9, -999.000,   -999.0,9,   -999.0, -999.000,9, -999.000, -999.000,9, -999.000,   -999.0,9,   -999.0, -999.000,9, -999.000,9, -999.000,9
  49NZ20140717,   P01,    45,  1,     35, X12J35,2,20140719,0138, 41.8736, 146.3193, 6760,     50.0,2,   3.9653,2,   4.01140,2,  32.9664,2,  32.9551,2,  33.1132,2,   303.71,2,   308.32,2, -999.000,-999.0000,9, -999.000,9,  -999.00,9, -999.000,9,    3.949,2,    21.03,2,     0.09,    15.85,2,     0.03,     0.32,2,     0.01,     1.56,2,     0.04,     2.04,2,     0.05,    5.315,2,    2.822,2,    0.446,2, -999.000,9,   2121.1,6,   2238.1,2,   -999.0,9,   7.6854,       25,2, -999.000,9,    55.88,2, -999.000,9, -999.000,   -999.0,9,   -999.0, -999.000,9, -999.000, -999.000,9, -999.000,   -999.0,9,   -999.0, -999.000,9, -999.000,9, -999.000,9
  49NZ20140717,   P01,    45,  1,     34, X12J34,2,20140719,0138, 41.8736, 146.3193, 6760,    100.1,2,   3.2382,2,   3.24400,2,  33.2297,2,  33.2267,2,  33.3890,2,   287.70,2,   288.80,2, -999.000,-999.0000,9, -999.000,9,  -999.00,9, -999.000,9,    0.085,2,    33.94,2,     0.10,    21.17,2,     0.03,     0.03,2,     0.01,     1.70,2,     0.01,     0.01,2,     0.01,    5.038,2,    2.676,2,    0.408,2, -999.000,9,   2142.7,2,   2237.1,2,   -999.0,9,   7.6417,       25,2, -999.000,9,    53.39,2, -999.000,9, -999.000,   -999.0,9,   -999.0, -999.000,9, -999.000, -999.000,9, -999.000,   -999.0,9,   -999.0, -999.000,9, -999.000,9, -999.000,9
  49NZ20140717,   P01,    45,  1,     33, X12J33,2,20140719,0138, 41.8736, 146.3193, 6760,    150.7,2,   3.4037,2,   3.40318,2,  33.3997,2,  33.4010,2,  33.5651,2,   254.32,2,   253.67,2, -999.000,-999.0000,9, -999.000,9,  -999.00,9, -999.000,9,    0.000,2,    42.07,2,     0.10,    23.05,2,     0.03,     0.03,2,     0.01,     1.81,2,     0.01,     0.00,2,     0.01,    4.534,2,    2.433,2,    0.344,2, -999.000,9,   2167.0,2,   2254.7,2,   -999.0,9,   7.5993,       25,6, -999.000,9,    51.64,2, -999.000,9, -999.000,   -999.0,9,   -999.0, -999.000,9, -999.000, -999.000,9, -999.000,   -999.0,9,   -999.0, -999.000,9, -999.000,9, -999.000,9
  49NZ20140717,   P01,    45,  1,     32, X12J32,2,20140719,0138, 41.8736, 146.3193, 6760,    199.7,2,   3.4030,2,   3.40096,2,  33.5222,2,  33.5254,2,  33.6904,2,   218.68,2,   216.96,2, -999.000,-999.0000,9, -999.000,9,  -999.00,9, -999.000,9,    0.000,2,    52.50,2,     0.11,    26.80,2,     0.04,     0.03,2,     0.01,     2.06,2,     0.01,     0.00,2,     0.01,    4.152,2,    2.173,2,    0.312,2, -999.000,9,   2197.3,2,   2264.8,6,   -999.0,9,   7.5393,       25,2, -999.000,9,    49.07,2, -999.000,9, -999.000,   -999.0,9,   -999.0, -999.000,9, -999.000, -999.000,9, -999.000,   -999.0,9,   -999.0, -999.000,9, -999.000,9, -999.000,9
  49NZ20140717,   P01,    45,  1,     31, X12J31,2,20140719,0138, 41.8736, 146.3193, 6760,    249.9,2,   3.0679,2,   3.06481,2,  33.6027,2,  33.6032,2,  33.7702,2,   173.85,2,   173.39,2, -999.000,-999.0000,9, -999.000,9,  -999.00,9, -999.000,9,    0.000,2,    67.45,2,     0.12,    32.19,2,     0.04,     0.02,2,     0.01,     2.42,2,     0.01,    -0.01,2,     0.01,    3.701,2,    1.932,2,    0.284,2, -999.000,9,   2239.5,2,   2275.4,2,   -999.0,9,   7.4480,       25,2, -999.000,9,    46.33,2, -999.000,9, -999.000,   -999.0,9,   -999.0, -999.000,9, -999.000, -999.000,9, -999.000,   -999.0,9,   -999.0, -999.000,9, -999.000,9, -999.000,9
  49NZ20140717,   P01,    45,  1,     30, X12J30,2,20140719,0138, 41.8736, 146.3193, 6760,    299.8,2,   3.1428,2,   3.14232,2,  33.6822,2,  33.6827,2,  33.8501,2,   153.70,2,   153.47,2, -999.000,-999.0000,9, -999.000,9,  -999.00,9, -999.000,9,    0.000,2,    72.43,2,     0.12,    33.45,2,     0.04,     0.02,2,     0.01,     2.50,2,     0.01,     0.00,2,     0.01,    3.436,2,    1.917,2,    0.279,2, -999.000,9,   2251.5,2,   2282.5,2,   -999.0,9,   7.4255,       25,2, -999.000,9,    46.20,2, -999.000,9, -999.000,   -999.0,9,   -999.0, -999.000,9, -999.000, -999.000,9, -999.000,   -999.0,9,   -999.0, -999.000,9, -999.000,9, -999.000,9
  49NZ20140717,   P01,    45,  1,     29, X12J29,2,20140719,0138, 41.8736, 146.3193, 6760,    401.0,2,   2.9368,2,   2.93671,2,  33.8165,2,  33.8155,2,  33.9872,2,    86.02,2,    85.36,2, -999.000,-999.0000,9, -999.000,9,  -999.00,9, -999.000,9,    0.000,2,    95.20,2,     0.13,    39.91,2,     0.05,     0.01,2,     0.01,     2.91,2,     0.01,     0.00,2,     0.01,    2.783,2,    2.014,2,    0.279,2, -999.000,9,   2309.1,2,   2299.1,2,   -999.0,9,   7.3078,       25,2, -999.000,9,    43.60,2, -999.000,9, -999.000,   -999.0,9,   -999.0, -999.000,9, -999.000, -999.000,9, -999.000,   -999.0,9,   -999.0, -999.000,9, -999.000,9, -999.000,9
  49NZ20140717,   P01,    45,  1,     28, X12J28,2,20140719,0138, 41.8736, 146.3193, 6760,    499.7,2,   3.2759,2,   3.27586,2,  34.0042,2,  34.0025,2,  34.1791,2,    53.12,2,    54.78,2, -999.000,-999.0000,9, -999.000,9,  -999.00,9, -999.000,9,    0.000,2,   108.19,2,     0.30,    41.54,2,     0.05,     0.01,2,     0.01,     3.01,2,     0.01,     0.00,2,     0.01,    1.680,2,    0.865,2,    0.112,2, -999.000,9,   2332.2,2,   2318.2,2,   -999.0,9,   7.2977,       25,2, -999.000,9,    41.88,2, -999.000,9, -999.000,   -999.0,9,   -999.0, -999.000,9, -999.000, -999.000,9, -999.000,   -999.0,9,   -999.0, -999.000,9, -999.000,9, -999.000,9
  49NZ20140717,   P01,    45,  1,     27, X12J27,2,20140719,0138, 41.8736, 146.3193, 6760,    600.7,2,   3.5423,2,   3.54255,2,  34.1446,2,  34.1451,2,  34.3190,2,    45.41,2,    45.99,2, -999.000,-999.0000,9, -999.000,9,  -999.00,9, -999.000,9,    0.000,2,   114.36,2,     0.15,    41.47,2,     0.15,     0.01,2,     0.01,     2.99,2,     0.01,     0.00,2,     0.01,    1.085,2,    0.569,2,    0.066,2, -999.000,9,   2338.9,2,   2336.0,2,   -999.0,9,   7.3204,       25,2, -999.000,9,    41.38,2, -999.000,9, -999.000,   -999.0,9,   -999.0, -999.000,9, -999.000, -999.000,9, -999.000,   -999.0,9,   -999.0, -999.000,9, -999.000,9, -999.000,9
  49NZ20140717,   P01,    45,  1,     26, X12J26,2,20140719,0138, 41.8736, 146.3193, 6760,    701.2,2,   3.5038,2,   3.50348,2,  34.2302,2,  34.2288,2,  34.4027,2,    40.84,2,    41.17,2, -999.000,-999.0000,9, -999.000,9,  -999.00,9, -999.000,9,    0.000,2,   121.36,2,     0.15,    41.76,2,     0.05,     0.01,2,     0.01,     3.02,2,     0.01,    -0.01,2,     0.01,    0.746,2,    0.397,2,    0.038,2, -999.000,9,   2348.9,6,   2346.0,2,   -999.0,9,   7.3320,       25,2, -999.000,9,    40.62,2, -999.000,9, -999.000,   -999.0,9,   -999.0, -999.000,9, -999.000, -999.000,9, -999.000,   -999.0,9,   -999.0, -999.000,9, -999.000,9, -999.000,9
  49NZ20140717,   P01,    45,  1,     25, X12J25,2,20140719,0138, 41.8736, 146.3193, 6760,    801.1,2,   3.0643,2,   3.06454,2,  34.2480,2,  34.2477,2,  34.4235,2,    30.60,2,    30.73,2, -999.000,-999.0000,9, -999.000,9,  -999.00,9, -999.000,9,    0.000,2,   133.41,2,     0.16,    43.02,2,     0.05,     0.01,2,     0.01,     3.10,2,     0.01,    -0.01,2,     0.01,    0.656,2,    0.352,2,    0.039,2, -999.000,9,   2365.6,2,   2355.2,2,   -999.0,9,   7.3040,       25,2, -999.000,9,    40.12,2, -999.000,9, -999.000,   -999.0,9,   -999.0, -999.000,9, -999.000, -999.000,9, -999.000,   -999.0,9,   -999.0, -999.000,9, -999.000,9, -999.000,9
  49NZ20140717,   P01,    45,  1,     24, X12J24,2,20140719,0138, 41.8736, 146.3193, 6760,    899.4,2,   2.9776,2,   2.97750,2,  34.3132,2,  34.3133,2,  34.4924,2,    32.12,2,    32.37,2, -999.000,-999.0000,9, -999.000,9,  -999.00,9, -999.000,9,    0.000,2,   138.58,2,     0.16,    42.85,2,     0.05,     0.01,2,     0.01,     3.09,2,     0.01,     0.01,2,     0.01,    0.467,2,    0.247,2,    0.023,2, -999.000,9,   2369.6,2,   2359.9,2,   -999.0,9,   7.3200,       25,6, -999.000,9,    39.47,2, -999.000,9, -999.000,   -999.0,9,   -999.0, -999.000,9, -999.000, -999.000,9, -999.000,   -999.0,9,   -999.0, -999.000,9, -999.000,9, -999.000,9
  49NZ20140717,   P01,    45,  1,     23, X12J23,2,20140719,0138, 41.8736, 146.3193, 6760,   1001.3,2,   2.8958,2,   2.89561,2,  34.3576,2,  34.3568,2,  34.5346,2,    33.42,2,    33.62,2, -999.000,-999.0000,9, -999.000,9,  -999.00,9, -999.000,9,    0.000,2,   142.35,2,     0.16,    42.78,2,     0.05,     0.01,2,     0.01,     3.08,2,     0.01,     0.01,2,     0.01,    0.348,2,    0.181,2,    0.022,2, -999.000,9,   2372.0,2,   2366.8,2,   -999.0,9,   7.3311,       25,2, -999.000,9,    40.28,2, -999.000,9, -999.000,   -999.0,9,   -999.0, -999.000,9, -999.000, -999.000,9, -999.000,   -999.0,9,   -999.0, -999.000,9, -999.000,9, -999.000,9
  49NZ20140717,   P01,    45,  1,     22, X12J22,2,20140719,0138, 41.8736, 146.3193, 6760,   1200.3,2,   2.5697,2,   2.56952,2,  34.4197,2,  34.4197,2,  34.6012,2,    35.73,2,    35.73,2, -999.000,-999.0000,9, -999.000,9,  -999.00,9, -999.000,9,    0.000,2,   152.91,2,     0.17,    42.89,2,     0.05,     0.01,2,     0.01,     3.08,2,     0.01,    -0.02,2,     0.01,    0.239,2,    0.121,2,    0.016,2, -999.000,9,   2380.3,2,   2384.7,6,   -999.0,9,   7.3400,       25,2, -999.000,9,    38.34,2, -999.000,9, -999.000,   -999.0,9,   -999.0, -999.000,9, -999.000, -999.000,9, -999.000,   -999.0,9,   -999.0, -999.000,9, -999.000,9, -999.000,9
  49NZ20140717,   P01,    45,  1,     21, X12J21,2,20140719,0138, 41.8736, 146.3193, 6760,   1400.9,2,   2.4519,2,   2.45077,2,  34.4823,2,  34.4796,2,  34.6579,2,    43.00,2,    42.86,2, -999.000,-999.0000,9, -999.000,9,  -999.00,9, -999.000,9,    0.000,2,   155.98,2,     0.17,    42.61,2,     0.05,     0.01,2,     0.01,     3.06,2,     0.01,    -0.01,2,     0.01,    0.121,2,    0.058,2,    0.000,2, -999.000,9,   2382.9,2,   2394.3,2,   -999.0,9,   7.3610,       25,2, -999.000,9,    40.13,2, -999.000,9, -999.000,   -999.0,9,   -999.0, -999.000,9, -999.000, -999.000,9, -999.000,   -999.0,9,   -999.0, -999.000,9, -999.000,9, -999.000,9
  49NZ20140717,   P01,    45,  1,     20, X12J20,2,20140719,0138, 41.8736, 146.3193, 6760,   1599.9,2,   2.2373,2,   2.23693,2,  34.5168,2,  34.5166,2,  34.6994,2,    49.97,2,    50.00,2, -999.000,-999.0000,9, -999.000,9,  -999.00,9, -999.000,9,    0.000,2,   161.26,2,     0.17,    42.26,2,     0.05,     0.01,2,     0.01,     3.03,2,     0.02,    -0.01,2,     0.01,    0.087,2,    0.044,2,    0.000,2, -999.000,9,   2382.3,2,   2399.5,2,   -999.0,9,   7.3784,       25,2, -999.000,9,    38.48,2, -999.000,9, -999.000,   -999.0,9,   -999.0, -999.000,9, -999.000, -999.000,9, -999.000,   -999.0,9,   -999.0, -999.000,9, -999.000,9, -999.000,9
  49NZ20140717,   P01,    45,  1,     19, X12J19,2,20140719,0138, 41.8736, 146.3193, 6760,   1800.0,2,   2.1295,2,   2.12950,2,  34.5571,2,  34.5567,2,  34.7383,2,    59.67,2,    60.17,2, -999.000,-999.0000,9, -999.000,9,  -999.00,9, -999.000,9,    0.000,2,   161.54,2,     0.17,    41.78,2,     0.05,     0.01,2,     0.01,     2.98,2,     0.01,    -0.01,2,     0.01,    0.025,2,    0.015,2,    0.000,2, -999.000,9,   2379.4,2,   2406.0,2,   -999.0,9,   7.4056,       25,2, -999.000,9,    36.13,2, -999.000,9, -999.000,   -999.0,9,   -999.0, -999.000,9, -999.000, -999.000,9, -999.000,   -999.0,9,   -999.0, -999.000,9, -999.000,9, -999.000,9
  49NZ20140717,   P01,    45,  1,     18, X12J18,2,20140719,0138, 41.8736, 146.3193, 6760,   2000.2,2,   2.0185,2,   2.01840,2,  34.5832,2,  34.5836,2,  34.7647,2,    70.94,2,    71.25,2, -999.000,-999.0000,9, -999.000,9,  -999.00,9, -999.000,9,    0.000,2,   161.18,2,     0.17,    41.12,2,     0.05,     0.01,2,     0.01,     2.94,2,     0.02,    -0.01,2,     0.01,    0.009,2,    0.004,2,    0.000,2, -999.000,9,   2373.9,2,   2411.1,2,   -999.0,9,   7.4282,       25,2, -999.000,9,    37.44,2, -999.000,9, -999.000,   -999.0,9,   -999.0, -999.000,9, -999.000, -999.000,9, -999.000,   -999.0,9,   -999.0, -999.000,9, -999.000,9, -999.000,9
  49NZ20140717,   P01,    45,  1,     17, X12J17,2,20140719,0138, 41.8736, 146.3193, 6760,   2200.4,2,   1.8918,2,   1.89165,2,  34.6051,2,  34.6053,2,  34.7865,2,    81.77,2,    82.02,2, -999.000,-999.0000,9, -999.000,9,  -999.00,9, -999.000,9,    0.000,2,   161.76,2,     0.17,    40.58,2,     0.05,     0.01,2,     0.01,     2.87,2,     0.01,     0.00,2,     0.01,    0.001,2,    0.001,2,    0.000,2, -999.000,9,   2370.3,2,   2414.2,2,   -999.0,9,   7.4491,       25,2, -999.000,9,    37.14,2, -999.000,9, -999.000,   -999.0,9,   -999.0, -999.000,9, -999.000, -999.000,9, -999.000,   -999.0,9,   -999.0, -999.000,9, -999.000,9, -999.000,9
  49NZ20140717,   P01,    45,  1,     16, X12J16,2,20140719,0138, 41.8736, 146.3193, 6760,   2400.3,2,   1.7884,2,   1.78842,2,  34.6240,2,  34.6240,2,  34.8062,2,    95.23,2,    95.53,2, -999.000,-999.0000,9, -999.000,9,  -999.00,9, -999.000,9,    0.000,2,   160.18,2,     0.48,    39.71,2,     0.05,     0.01,2,     0.01,     2.81,2,     0.01,     0.07,2,     0.02,    0.001,2,    0.001,2,    0.000,2, -999.000,9,   2363.2,6,   2415.8,2,   -999.0,9,   7.4753,       25,2, -999.000,9,    38.42,2, -999.000,9, -999.000,   -999.0,9,   -999.0, -999.000,9, -999.000, -999.000,9, -999.000,   -999.0,9,   -999.0, -999.000,9, -999.000,9, -999.000,9
  49NZ20140717,   P01,    45,  1,     15, X12J15,2,20140719,0138, 41.8736, 146.3193, 6760,   2600.0,2,   1.7148,2,   1.71466,2,  34.6369,2,  34.6369,2,  34.8188,2,   105.17,2,   105.23,2, -999.000,-999.0000,9, -999.000,9,  -999.00,9, -999.000,9,    0.000,2,   159.05,2,     0.17,    39.10,2,     0.05,     0.01,2,     0.01,     2.76,2,     0.01,     0.01,2,     0.01,    0.000,2,    0.001,2,    0.000,2, -999.000,9,   2357.9,2,   2416.0,2,   -999.0,9,   7.4946,       25,2, -999.000,9,    38.52,2, -999.000,9, -999.000,   -999.0,9,   -999.0, -999.000,9, -999.000, -999.000,9, -999.000,   -999.0,9,   -999.0, -999.000,9, -999.000,9, -999.000,9
  49NZ20140717,   P01,    45,  1,     14, X12J14,2,20140719,0138, 41.8736, 146.3193, 6760,   2799.8,2,   1.6561,2,   1.65610,2,  34.6474,2,  34.6476,2,  34.8273,2,   113.87,2,   113.67,2, -999.000,-999.0000,9, -999.000,9,  -999.00,9, -999.000,9,    0.000,2,   157.92,2,     0.17,    38.55,2,     0.05,     0.01,2,     0.01,     2.73,2,     0.01,     0.00,2,     0.01,    0.000,2,    0.000,2,    0.000,2, -999.000,9,   2352.6,2,   2417.6,2,   -999.0,9,   7.5102,       25,6, -999.000,9,    38.47,2, -999.000,9, -999.000,   -999.0,9,   -999.0, -999.000,9, -999.000, -999.000,9, -999.000,   -999.0,9,   -999.0, -999.000,9, -999.000,9, -999.000,9
  49NZ20140717,   P01,    45,  1,     13, X12113,2,20140719,0138, 41.8736, 146.3193, 6760,   3001.1,2,   1.6066,2,   1.60659,2,  34.6552,2,  34.6539,2,  34.8372,2,   120.27,2,   120.02,2, -999.000,-999.0000,9, -999.000,9,  -999.00,9, -999.000,9,    0.000,2,   157.38,2,     0.45,    38.14,2,     0.05,     0.01,2,     0.01,     2.68,2,     0.01,    -0.01,2,     0.01,    0.000,2,    0.000,2,    0.000,2, -999.000,9,   2348.7,2,   2416.8,2,   -999.0,9,   7.5210,       25,2, -999.000,9,    34.51,3, -999.000,9, -999.000,   -999.0,9,   -999.0, -999.000,9, -999.000, -999.000,9, -999.000,   -999.0,9,   -999.0, -999.000,9, -999.000,9, -999.000,9
  49NZ20140717,   P01,    45,  1,     12, X12J12,2,20140719,0138, 41.8736, 146.3193, 6760,   3250.8,2,   1.5570,2,   1.55708,2,  34.6640,2,  34.6639,2,  34.8451,2,   128.80,2,  -999.00,5, -999.000,-999.0000,9, -999.000,9,  -999.00,9, -999.000,9,    0.000,2,   155.73,2,     0.17,    37.51,2,     0.05,     0.01,2,     0.01,     2.64,2,     0.01,    -0.01,2,     0.01,    0.001,2,    0.000,2,    0.000,2, -999.000,9,   2342.7,2,   2418.6,6,   -999.0,9,   7.5359,       25,2, -999.000,9,    38.30,2, -999.000,9, -999.000,   -999.0,9,   -999.0, -999.000,9, -999.000, -999.000,9, -999.000,   -999.0,9,   -999.0, -999.000,9, -999.000,9, -999.000,9
  49NZ20140717,   P01,    45,  1,     11, X12J11,2,20140719,0138, 41.8736, 146.3193, 6760,   3500.9,2,   1.5248,2,   1.52482,2,  34.6704,2,  34.6704,2,  34.8524,2,   135.56,2,   135.42,2, -999.000,-999.0000,9, -999.000,9,  -999.00,9, -999.000,9,    0.000,2,   154.66,2,     0.17,    37.06,2,     0.05,     0.01,2,     0.01,     2.60,2,     0.01,    -0.01,2,     0.01,    0.001,2,    0.001,2,    0.000,2, -999.000,9,   2339.5,2,   2419.9,2,   -999.0,9,   7.5474,       25,2, -999.000,9,    38.62,2, -999.000,9, -999.000,   -999.0,9,   -999.0, -999.000,9, -999.000, -999.000,9, -999.000,   -999.0,9,   -999.0, -999.000,9, -999.000,9, -999.000,9
  49NZ20140717,   P01,    45,  1,     10, X12J10,2,20140719,0138, 41.8736, 146.3193, 6760,   3750.6,2,   1.5007,2,   1.50063,2,  34.6758,2,  34.6753,2,  34.8570,2,   141.86,2,   141.50,2, -999.000,-999.0000,9, -999.000,9,  -999.00,9, -999.000,9,    0.000,2,   152.66,2,     0.17,    36.68,2,     0.05,     0.01,2,     0.01,     2.57,2,     0.01,    -0.01,2,     0.01,    0.000,2,    0.002,2,    0.000,2, -999.000,9,   2333.9,2,   2420.6,2,   -999.0,9,   7.5589,       25,2, -999.000,9,    38.18,2, -999.000,9, -999.000,   -999.0,9,   -999.0, -999.000,9, -999.000, -999.000,9, -999.000,   -999.0,9,   -999.0, -999.000,9, -999.000,9, -999.000,9