BOTTLE,20230904JAMSTECRIGC
EXPOCODE,SECT,STNNBR,CASTNO,SAMPNO,BTLNBR,BTLNBR_FLAG_W,DATE,TIME,LATITUDE,LONGITUDE,DEPTH,CTDPRS,CTDPRS_FLAG_W,CTDTMP,CTDTMP_FLAG_W,SBE35,SBE35_FLAG_W,CTDSAL,CTDSAL_FLAG_W,SALNTY,SALNTY_FLAG_W,DNSSAL,DNSSAL_FLAG_W,CTDOXY,CTDOXY_FLAG_W,OXYGEN,OXYGEN_FLAG_W,XMISS,XMISSCP,XMISS_FLAG_W,FLUOR,FLUOR_FLAG_W,CHLORA,CHLORA_FLAG_W,CDOM,CDOM_FLAG_W,PAR,PAR_FLAG_W,SILCAT,SILCAT_FLAG_W,SILUNC,NITRAT,NITRAT_FLAG_W,NRAUNC,NITRIT,NITRIT_FLAG_W,NRIUNC,PHSPHT,PHSPHT_FLAG_W,PHPUNC,AMMONIA,AMMONIA_FLAG_W,NH4UNC,CFC-11,CFC-11_FLAG_W,CFC-12,CFC-12_FLAG_W,CFC113,CFC113_FLAG_W,SF6,SF6_FLAG_W,TCARBN,TCARBN_FLAG_W,ALKALI,ALKALI_FLAG_W,ALKALI_POT,ALKALI_POT_FLAG_W,PH_TOT,PH_TMP,PH_TOT_FLAG_W,CALCIUM,CALCIUM_FLAG_W,DOC,DOC_FLAG_W,DELC13,DELC13_FLAG_W,C13ERR,DELC14,DELC14_FLAG_W,C14ERR,CS-134,CS-134_FLAG_W,CS134ER,CS-137,CS-137_FLAG_W,CS137ER,I-129,I-129_FLAG_W,I-129ER,CDOM-325,CDOM-325_FLAG_W,CDOM-370,CDOM-370_FLAG_W,CDOM-443,CDOM-443_FLAG_W
,,,,,,,,UTC,DEG,DEG,METERS,DBAR,,ITS-90,,ITS-90,,PSS-78,,PSS-78,,G/KG,,UMOL/KG,,UMOL/KG,,%TRANS,/METER,,MG/CUM,,MG/CUM,,MG/CUM,,UE/SQM/S,,UMOL/KG,,UMOL/KG,UMOL/KG,,UMOL/KG,UMOL/KG,,UMOL/KG,UMOL/KG,,UMOL/KG,UMOL/KG,,UMOL/KG,PMOL/KG,,PMOL/KG,,PMOL/KG,,FMOL/KG,,UMOL/KG,,UMOL/KG,,UMOL/KG,,,DEG C,,MMOL/KG,,UMOL/KG,,/MILLE,,/MILLE,/MILLE,,/MILLE,MBQ/KG,,MBQ/KG,MBQ/KG,,MBQ/KG,,,,/METER,,/METER,,/METER,
  49NZ20140717,   P01,    71,  1,      0,   -999,9,20140726,2142, 46.0703, 158.3280, 4837,   -999.0,9,-999.0000,9,-999.00000,9,-999.0000,9,  32.6774,2,-999.0000,9,  -999.00,9,  -999.00,9, -999.000,-999.0000,9, -999.000,9,  -999.00,9, -999.000,9, -999.000,9,    18.79,2,     0.09,    12.93,2,     0.02,     0.15,2,     0.01,     1.30,2,     0.01,  -999.00,9,  -999.00, -999.000,9, -999.000,9, -999.000,9, -999.000,9,   -999.0,9,   -999.0,9,   -999.0,9,-999.0000,     -999,9, -999.000,9,  -999.00,9, -999.000,9, -999.000,   -999.0,9,   -999.0, -999.000,9, -999.000, -999.000,9, -999.000,   -999.0,9,   -999.0, -999.000,9, -999.000,9, -999.000,9
  49NZ20140717,   P01,    71,  1,     36, X12J36,2,20140726,2142, 46.0703, 158.3280, 4837,     10.3,2,  11.6110,2,  11.60288,2,  32.6834,2,  32.6832,2,-999.0000,9,   284.89,2,   285.66,2,   95.732,   0.1745,2,    0.363,2,  -999.00,9,    0.098,1,  102.064,2,    19.23,2,     0.09,    12.94,2,     0.02,     0.14,2,     0.01,     1.29,2,     0.01,  -999.00,9,  -999.00, -999.000,9, -999.000,9, -999.000,9, -999.000,9,   2041.3,2,   2218.5,2,   -999.0,9,   7.8371,       25,6, -999.000,9,    57.27,2, -999.000,9, -999.000,   -999.0,9,   -999.0, -999.000,9, -999.000, -999.000,9, -999.000,   -999.0,9,   -999.0, -999.000,9, -999.000,9, -999.000,9
  49NZ20140717,   P01,    71,  1,     35, X12J35,2,20140726,2142, 46.0703, 158.3280, 4837,     49.8,2,   3.4531,2,   3.45510,2,  32.8372,2,  32.8431,2,-999.0000,9,   336.86,2,   338.42,2,   95.642,   0.1782,2,    0.626,2,  -999.00,9,    0.877,1,    2.878,2,    27.61,2,     0.09,    18.89,2,     0.03,     0.20,2,     0.01,     1.68,2,     0.01,  -999.00,9,  -999.00, -999.000,9, -999.000,9, -999.000,9, -999.000,9,   2101.8,6,   2225.6,2,   -999.0,9,   7.7088,       25,2, -999.000,9,    55.63,2, -999.000,9, -999.000,   -999.0,9,   -999.0, -999.000,9, -999.000, -999.000,9, -999.000,   -999.0,9,   -999.0, -999.000,9, -999.000,9, -999.000,9
  49NZ20140717,   P01,    71,  1,     34, X12J34,2,20140726,2142, 46.0703, 158.3280, 4837,    100.3,2,   1.3629,2,   1.36467,2,  32.9248,2,  32.9261,2,-999.0000,9,   325.02,2,   325.63,2,   99.423,   0.0232,2,    0.094,2,  -999.00,9,    1.044,1,    0.074,2,    36.04,2,     0.10,    23.53,2,     0.03,     0.02,2,     0.01,     1.90,2,     0.01,  -999.00,9,  -999.00, -999.000,9, -999.000,9, -999.000,9, -999.000,9,   2129.4,2,   2227.0,2,   -999.0,9,   7.6368,       25,2, -999.000,9,    49.53,2, -999.000,9, -999.000,   -999.0,9,   -999.0, -999.000,9, -999.000, -999.000,9, -999.000,   -999.0,9,   -999.0, -999.000,9, -999.000,9, -999.000,9
  49NZ20140717,   P01,    71,  1,     33, X12J33,2,20140726,2142, 46.0703, 158.3280, 4837,    150.4,2,   2.9690,2,   2.96934,2,  33.6287,2,  33.6277,2,-999.0000,9,   109.20,2,   109.73,2,   99.498,   0.0201,2,    0.023,2,  -999.00,9,    2.454,1,    0.000,2,    82.19,2,     0.13,    40.10,2,     0.05,     0.01,2,     0.01,     2.89,2,     0.01,  -999.00,9,  -999.00, -999.000,9, -999.000,9, -999.000,9, -999.000,9,   2285.7,2,   2276.5,2,   -999.0,9,   7.3135,       25,6, -999.000,9,    42.63,2, -999.000,9, -999.000,   -999.0,9,   -999.0, -999.000,9, -999.000, -999.000,9, -999.000,   -999.0,9,   -999.0, -999.000,9, -999.000,9, -999.000,9
  49NZ20140717,   P01,    71,  1,     32, X12J32,2,20140726,2142, 46.0703, 158.3280, 4837,    199.3,2,   3.3896,2,   3.38928,2,  33.8012,2,  33.8033,2,-999.0000,9,    55.05,2,    54.99,2,   99.533,   0.0187,2,    0.022,2,  -999.00,9,    2.646,1,    0.000,2,    93.79,2,     0.13,    43.50,2,     0.05,     0.01,2,     0.01,     3.10,2,     0.01,  -999.00,9,  -999.00, -999.000,9, -999.000,9, -999.000,9, -999.000,9,   2320.0,2,   2291.7,6,   -999.0,9,   7.2482,       25,2, -999.000,9,    42.69,2, -999.000,9, -999.000,   -999.0,9,   -999.0, -999.000,9, -999.000, -999.000,9, -999.000,   -999.0,9,   -999.0, -999.000,9, -999.000,9, -999.000,9
  49NZ20140717,   P01,    71,  1,     31, X12J31,2,20140726,2142, 46.0703, 158.3280, 4837,    249.7,2,   3.5928,2,   3.59248,2,  33.9159,2,  33.9165,2,-999.0000,9,    30.50,2,    30.72,2,   99.680,   0.0128,2,    0.022,2,  -999.00,9,    2.821,1,    0.000,2,   100.89,2,     0.14,    44.67,2,     0.06,     0.01,2,     0.01,     3.16,2,     0.01,  -999.00,9,  -999.00, -999.000,9, -999.000,9, -999.000,9, -999.000,9,   2339.4,2,   2302.6,2,   -999.0,9,   7.2312,       25,2, -999.000,9,    44.28,2, -999.000,9, -999.000,   -999.0,9,   -999.0, -999.000,9, -999.000, -999.000,9, -999.000,   -999.0,9,   -999.0, -999.000,9, -999.000,9, -999.000,9
  49NZ20140717,   P01,    71,  1,     30, X12J30,2,20140726,2142, 46.0703, 158.3280, 4837,    280.4,2,   3.6024,2,   3.60197,2,  33.9587,2,  33.9574,2,-999.0000,9,    25.37,2,    25.53,2,   99.589,   0.0165,2,    0.021,2,  -999.00,9,    2.818,1,    0.000,2,   104.20,2,     0.14,    44.82,2,     0.06,     0.01,2,     0.01,     3.18,2,     0.01,  -999.00,9,  -999.00, -999.000,9, -999.000,9, -999.000,9, -999.000,9,   2343.3,2,   2307.0,2,   -999.0,9,   7.2306,       25,2, -999.000,9,    42.69,2, -999.000,9, -999.000,   -999.0,9,   -999.0, -999.000,9, -999.000, -999.000,9, -999.000,   -999.0,9,   -999.0, -999.000,9, -999.000,9, -999.000,9
  49NZ20140717,   P01,    71,  1,     29, X12J29,2,20140726,2142, 46.0703, 158.3280, 4837,    370.1,2,   3.4321,2,   3.43193,2,  34.0587,2,  34.0580,2,-999.0000,9,    23.21,2,    23.18,2,   99.809,   0.0076,2,    0.021,2,  -999.00,9,    2.882,1,    0.000,2,   115.25,2,     0.15,    44.41,2,     0.06,     0.01,2,     0.01,     3.16,2,     0.01,  -999.00,9,  -999.00, -999.000,9, -999.000,9, -999.000,9, -999.000,9,   2350.3,2,   2324.7,2,   -999.0,9,   7.2485,       25,2, -999.000,9,    40.90,2, -999.000,9, -999.000,   -999.0,9,   -999.0, -999.000,9, -999.000, -999.000,9, -999.000,   -999.0,9,   -999.0, -999.000,9, -999.000,9, -999.000,9
  49NZ20140717,   P01,    71,  1,     28, X12J28,2,20140726,2142, 46.0703, 158.3280, 4837,    470.0,2,   3.3490,2,   3.34865,2,  34.1657,2,  34.1655,2,-999.0000,9,    16.39,2,    16.07,2,   99.835,   0.0066,2,    0.021,2,  -999.00,9,    2.946,1,    0.000,2,   125.58,2,     0.15,    44.54,2,     0.06,     0.01,2,     0.01,     3.16,2,     0.01,  -999.00,9,  -999.00, -999.000,9, -999.000,9, -999.000,9, -999.000,9,   2363.5,2,   2335.6,2,   -999.0,9,   7.2588,       25,2, -999.000,9,    42.70,2, -999.000,9, -999.000,   -999.0,9,   -999.0, -999.000,9, -999.000, -999.000,9, -999.000,   -999.0,9,   -999.0, -999.000,9, -999.000,9, -999.000,9
  49NZ20140717,   P01,    71,  1,     27, X12J27,2,20140726,2142, 46.0703, 158.3280, 4837,   4671.1,2,   1.4852,2,   1.48508,2,  34.6881,2,  34.6885,2,-999.0000,9,   155.23,2,   155.44,2,   99.911,   0.0036,2,    0.004,2,  -999.00,9,    2.355,4,    0.000,2,  -999.00,9,  -999.00,  -999.00,9,  -999.00,  -999.00,9,  -999.00,  -999.00,9,  -999.00,  -999.00,9,  -999.00, -999.000,9, -999.000,9, -999.000,9, -999.000,9,   -999.0,9,   -999.0,9,   -999.0,9,-999.0000,     -999,9, -999.000,9,  -999.00,9, -999.000,9, -999.000,   -999.0,9,   -999.0, -999.000,9, -999.000, -999.000,9, -999.000,   -999.0,9,   -999.0, -999.000,9, -999.000,9, -999.000,9
  49NZ20140717,   P01,    71,  1,     26, X12J26,2,20140726,2142, 46.0703, 158.3280, 4837,    669.8,2,   3.0970,2,   3.09691,2,  34.2924,2,  34.2920,2,-999.0000,9,    14.78,2,    14.08,2,   99.861,   0.0056,2,    0.018,2,  -999.00,9,    2.944,1,    0.000,2,   138.60,2,     0.16,    44.36,2,     0.06,     0.01,2,     0.01,     3.16,2,     0.01,  -999.00,9,  -999.00, -999.000,9, -999.000,9, -999.000,9, -999.000,9,   2375.2,6,   2360.5,2,   -999.0,9,   7.2828,       25,2, -999.000,9,    40.03,2, -999.000,9, -999.000,   -999.0,9,   -999.0, -999.000,9, -999.000, -999.000,9, -999.000,   -999.0,9,   -999.0, -999.000,9, -999.000,9, -999.000,9
  49NZ20140717,   P01,    71,  1,     25, X12J25,2,20140726,2142, 46.0703, 158.3280, 4837,    769.7,2,   2.9091,2,   2.90877,2,  34.3427,2,  34.3431,2,-999.0000,9,    16.05,2,    15.43,2,   99.874,   0.0050,2,    0.017,2,  -999.00,9,    3.075,1,    0.000,2,   145.59,2,     0.16,    44.33,2,     0.06,     0.01,2,     0.01,     3.16,2,     0.01,  -999.00,9,  -999.00, -999.000,9, -999.000,9, -999.000,9, -999.000,9,   2382.6,2,   2369.8,2,   -999.0,9,   7.2917,       25,2, -999.000,9,    38.22,2, -999.000,9, -999.000,   -999.0,9,   -999.0, -999.000,9, -999.000, -999.000,9, -999.000,   -999.0,9,   -999.0, -999.000,9, -999.000,9, -999.000,9
  49NZ20140717,   P01,    71,  1,     24, X12J24,2,20140726,2142, 46.0703, 158.3280, 4837,    869.7,2,   2.7489,2,   2.74859,2,  34.3815,2,  34.3814,2,-999.0000,9,    17.67,2,    17.05,2,   99.894,   0.0043,2,    0.016,2,  -999.00,9,    3.072,1,    0.000,2,   151.37,2,     0.17,    44.25,2,     0.06,     0.01,2,     0.01,     3.15,2,     0.01,  -999.00,9,  -999.00, -999.000,9, -999.000,9, -999.000,9, -999.000,9,   2388.2,2,   2374.4,2,   -999.0,9,   7.2979,       25,6, -999.000,9,    40.07,2, -999.000,9, -999.000,   -999.0,9,   -999.0, -999.000,9, -999.000, -999.000,9, -999.000,   -999.0,9,   -999.0, -999.000,9, -999.000,9, -999.000,9
  49NZ20140717,   P01,    71,  1,     23, X12J23,2,20140726,2142, 46.0703, 158.3280, 4837,    970.8,2,   2.6052,2,   2.60493,2,  34.4154,2,  34.4157,2,-999.0000,9,    20.44,2,    19.97,2,   99.894,   0.0043,2,    0.016,2,  -999.00,9,    3.048,1,    0.000,2,   156.18,2,     0.17,    44.05,2,     0.06,     0.01,2,     0.01,     3.14,2,     0.01,  -999.00,9,  -999.00, -999.000,9, -999.000,9, -999.000,9, -999.000,9,   2388.8,2,   2382.3,2,   -999.0,9,   7.3074,       25,2, -999.000,9,    43.03,2, -999.000,9, -999.000,   -999.0,9,   -999.0, -999.000,9, -999.000, -999.000,9, -999.000,   -999.0,9,   -999.0, -999.000,9, -999.000,9, -999.000,9
  49NZ20140717,   P01,    71,  1,     22, X12J22,2,20140726,2142, 46.0703, 158.3280, 4837,   1130.4,2,   2.4153,2,   2.41508,2,  34.4601,2,  34.4602,2,-999.0000,9,    26.78,2,    26.40,2,   99.922,   0.0031,2,    0.015,2,  -999.00,9,    3.008,1,    0.000,2,   161.96,2,     0.18,    43.72,2,     0.06,     0.01,2,     0.01,     3.12,2,     0.01,  -999.00,9,  -999.00, -999.000,9, -999.000,9, -999.000,9, -999.000,9,   2389.9,2,   2389.2,6,   -999.0,9,   7.3251,       25,2, -999.000,9,    36.87,2, -999.000,9, -999.000,   -999.0,9,   -999.0, -999.000,9, -999.000, -999.000,9, -999.000,   -999.0,9,   -999.0, -999.000,9, -999.000,9, -999.000,9
  49NZ20140717,   P01,    71,  1,     21, X12J21,2,20140726,2142, 46.0703, 158.3280, 4837,   1331.0,2,   2.2169,2,   2.21686,2,  34.5072,2,  34.5074,2,-999.0000,9,    38.31,2,    38.28,2,   99.917,   0.0033,2,    0.013,2,  -999.00,9,    2.992,1,    0.000,2,   166.36,2,     0.18,    43.02,2,     0.05,     0.01,2,     0.01,     3.07,2,     0.01,  -999.00,9,  -999.00, -999.000,9, -999.000,9, -999.000,9, -999.000,9,   2389.2,2,   2397.6,2,   -999.0,9,   7.3507,       25,2, -999.000,9,    37.27,2, -999.000,9, -999.000,   -999.0,9,   -999.0, -999.000,9, -999.000, -999.000,9, -999.000,   -999.0,9,   -999.0, -999.000,9, -999.000,9, -999.000,9
  49NZ20140717,   P01,    71,  1,     20, X12J20,2,20140726,2142, 46.0703, 158.3280, 4837,   1531.0,2,   2.0683,2,   2.06802,2,  34.5461,2,  34.5461,2,-999.0000,9,    49.64,2,    49.98,2,   99.930,   0.0028,2,    0.012,2,  -999.00,9,    2.985,1,    0.000,2,   168.85,2,     0.18,    42.34,2,     0.05,     0.01,2,     0.01,     3.02,2,     0.01,  -999.00,9,  -999.00, -999.000,9, -999.000,9, -999.000,9, -999.000,9,   2389.1,2,   2406.4,2,   -999.0,9,   7.3781,       25,6, -999.000,9,    39.95,2, -999.000,9, -999.000,   -999.0,9,   -999.0, -999.000,9, -999.000, -999.000,9, -999.000,   -999.0,9,   -999.0, -999.000,9, -999.000,9, -999.000,9
  49NZ20140717,   P01,    71,  1,     19, X12J19,2,20140726,2142, 46.0703, 158.3280, 4837,   1729.9,2,   1.9383,2,   1.93866,2,  34.5790,2,  34.5792,2,-999.0000,9,    63.32,2,    63.66,2,   99.943,   0.0023,2,    0.011,2,  -999.00,9,    2.815,1,    0.000,2,   169.58,2,     0.18,    41.49,2,     0.05,     0.01,2,     0.01,     2.96,2,     0.01,  -999.00,9,  -999.00, -999.000,9, -999.000,9, -999.000,9, -999.000,9,   2381.4,2,   2410.2,2,   -999.0,9,   7.4083,       25,2, -999.000,9,    38.15,2, -999.000,9, -999.000,   -999.0,9,   -999.0, -999.000,9, -999.000, -999.000,9, -999.000,   -999.0,9,   -999.0, -999.000,9, -999.000,9, -999.000,9
  49NZ20140717,   P01,    71,  1,     18, X12J18,2,20140726,2142, 46.0703, 158.3280, 4837,   1928.9,2,   1.8298,2,   1.82940,2,  34.6045,2,  34.6053,2,-999.0000,9,    77.94,2,    78.54,2,   99.926,   0.0030,2,    0.010,2,  -999.00,9,    2.774,1,    0.000,2,   167.12,2,     0.18,    40.70,2,     0.05,     0.00,2,     0.01,     2.89,2,     0.01,  -999.00,9,  -999.00, -999.000,9, -999.000,9, -999.000,9, -999.000,9,   2373.0,2,   2412.7,2,   -999.0,9,   7.4398,       25,2, -999.000,9,    38.59,2, -999.000,9, -999.000,   -999.0,9,   -999.0, -999.000,9, -999.000, -999.000,9, -999.000,   -999.0,9,   -999.0, -999.000,9, -999.000,9, -999.000,9
  49NZ20140717,   P01,    71,  1,     17, X12J17,2,20140726,2142, 46.0703, 158.3280, 4837,   2131.1,2,   1.7325,2,   1.73249,2,  34.6247,2,  34.6249,2,-999.0000,9,    92.27,2,    92.42,2,   99.922,   0.0031,2,    0.008,2,  -999.00,9,    2.671,1,    0.000,2,   164.76,2,     0.18,    39.88,2,     0.05,     0.00,2,     0.01,     2.82,2,     0.01,  -999.00,9,  -999.00, -999.000,9, -999.000,9, -999.000,9, -999.000,9,   2365.4,2,   2414.7,2,   -999.0,9,   7.4674,       25,2, -999.000,9,    42.01,2, -999.000,9, -999.000,   -999.0,9,   -999.0, -999.000,9, -999.000, -999.000,9, -999.000,   -999.0,9,   -999.0, -999.000,9, -999.000,9, -999.000,9
  49NZ20140717,   P01,    71,  1,     16, X12J16,2,20140726,2142, 46.0703, 158.3280, 4837,   2331.4,2,   1.6622,2,   1.66213,2,  34.6382,2,  34.6386,2,-999.0000,9,   103.55,2,   103.52,2,   99.928,   0.0029,2,    0.007,2,  -999.00,9,    2.536,1,    0.000,2,   162.69,2,     0.18,    39.23,2,     0.05,     0.00,2,     0.01,     2.77,2,     0.01,  -999.00,9,  -999.00, -999.000,9, -999.000,9, -999.000,9, -999.000,9,   2358.8,6,   2415.5,2,   -999.0,9,   7.4885,       25,2, -999.000,9,    35.98,2, -999.000,9, -999.000,   -999.0,9,   -999.0, -999.000,9, -999.000, -999.000,9, -999.000,   -999.0,9,   -999.0, -999.000,9, -999.000,9, -999.000,9
  49NZ20140717,   P01,    71,  1,     15, X12J15,2,20140726,2142, 46.0703, 158.3280, 4837,   2529.9,2,   1.6010,2,   1.60092,2,  34.6492,2,  34.6496,2,-999.0000,9,   113.49,2,   113.71,2,   99.937,   0.0025,2,    0.007,2,  -999.00,9,    2.477,1,    0.000,2,   160.08,2,     0.17,    38.52,2,     0.05,     0.01,2,     0.01,     2.71,2,     0.01,  -999.00,9,  -999.00, -999.000,9, -999.000,9, -999.000,9, -999.000,9,   2353.4,2,   2415.1,2,   -999.0,9,   7.5080,       25,2, -999.000,9,    37.56,2, -999.000,9, -999.000,   -999.0,9,   -999.0, -999.000,9, -999.000, -999.000,9, -999.000,   -999.0,9,   -999.0, -999.000,9, -999.000,9, -999.000,9
  49NZ20140717,   P01,    71,  1,     14, X12J14,2,20140726,2142, 46.0703, 158.3280, 4837,   2730.0,2,   1.5524,2,   1.55235,2,  34.6580,2,  34.6582,2,-999.0000,9,   121.87,2,   122.04,2,   99.952,   0.0019,2,    0.006,2,  -999.00,9,    2.428,1,    0.000,2,   158.16,2,     0.17,    38.00,2,     0.05,     0.01,2,     0.01,     2.67,2,     0.01,  -999.00,9,  -999.00, -999.000,9, -999.000,9, -999.000,9, -999.000,9,   2346.6,2,   2418.4,2,   -999.0,9,   7.5228,       25,2, -999.000,9,    36.67,2, -999.000,9, -999.000,   -999.0,9,   -999.0, -999.000,9, -999.000, -999.000,9, -999.000,   -999.0,9,   -999.0, -999.000,9, -999.000,9, -999.000,9
  49NZ20140717,   P01,    71,  1,     13, X12113,2,20140726,2142, 46.0703, 158.3280, 4837,   2930.1,2,   1.5175,2,   1.51746,2,  34.6645,2,  34.6647,2,-999.0000,9,   128.35,2,   128.36,2,   99.956,   0.0017,2,    0.005,2,  -999.00,9,    2.446,1,    0.000,2,   156.89,2,     0.17,    37.64,2,     0.05,     0.01,2,     0.01,     2.64,2,     0.01,  -999.00,9,  -999.00, -999.000,9, -999.000,9, -999.000,9, -999.000,9,   2342.1,2,   2415.2,2,   -999.0,9,   7.5338,       25,2, -999.000,9,    37.81,2, -999.000,9, -999.000,   -999.0,9,   -999.0, -999.000,9, -999.000, -999.000,9, -999.000,   -999.0,9,   -999.0, -999.000,9, -999.000,9, -999.000,9
  49NZ20140717,   P01,    71,  1,     12, X12J12,2,20140726,2142, 46.0703, 158.3280, 4837,   3170.5,2,   1.4846,2,   1.48469,2,  34.6709,2,  34.6710,2,-999.0000,9,   135.42,2,   135.43,2,   99.956,   0.0017,2,    0.005,2,  -999.00,9,    2.361,1,    0.000,2,   155.14,2,     0.17,    37.17,2,     0.05,     0.00,2,     0.01,     2.60,2,     0.01,  -999.00,9,  -999.00, -999.000,9, -999.000,9, -999.000,9, -999.000,9,   2337.0,2,   2416.2,6,   -999.0,9,   7.5469,       25,2, -999.000,9,    38.78,2, -999.000,9, -999.000,   -999.0,9,   -999.0, -999.000,9, -999.000, -999.000,9, -999.000,   -999.0,9,   -999.0, -999.000,9, -999.000,9, -999.000,9
  49NZ20140717,   P01,    71,  1,     11, X12J11,2,20140726,2142, 46.0703, 158.3280, 4837,   3419.6,2,   1.4611,2,   1.46102,2,  34.6761,2,  34.6762,2,-999.0000,9,   141.51,2,   141.46,2,   99.958,   0.0017,2,    0.005,2,  -999.00,9,    2.325,1,    0.000,2,   153.65,2,     0.17,    36.77,2,     0.05,     0.01,2,     0.01,     2.57,2,     0.01,  -999.00,9,  -999.00, -999.000,9, -999.000,9, -999.000,9, -999.000,9,   2333.3,2,   2414.2,2,   -999.0,9,   7.5570,       25,2, -999.000,9,    41.80,2, -999.000,9, -999.000,   -999.0,9,   -999.0, -999.000,9, -999.000, -999.000,9, -999.000,   -999.0,9,   -999.0, -999.000,9, -999.000,9, -999.000,9
  49NZ20140717,   P01,    71,  1,     10, X12J10,2,20140726,2142, 46.0703, 158.3280, 4837,   3670.1,2,   1.4485,2,   1.44858,2,  34.6802,2,  34.6801,2,-999.0000,9,   146.31,2,   146.18,2,   99.961,   0.0016,2,    0.005,2,  -999.00,9,    2.309,1,    0.000,2,   152.62,2,     0.17,    36.50,2,     0.05,     0.00,2,     0.01,     2.55,2,     0.01,  -999.00,9,  -999.00, -999.000,9, -999.000,9, -999.000,9, -999.000,9,   2329.6,2,   2416.2,2,   -999.0,9,   7.5651,       25,2, -999.000,9,  -999.00,9, -999.000,9, -999.000,   -999.0,9,   -999.0, -999.000,9, -999.000, -999.000,9, -999.000,   -999.0,9,   -999.0, -999.000,9, -999.000,9, -999.000,9