BOTTLE,20230904JAMSTECRIGC
EXPOCODE,SECT,STNNBR,CASTNO,SAMPNO,BTLNBR,BTLNBR_FLAG_W,DATE,TIME,LATITUDE,LONGITUDE,DEPTH,CTDPRS,CTDPRS_FLAG_W,CTDTMP,CTDTMP_FLAG_W,SBE35,SBE35_FLAG_W,CTDSAL,CTDSAL_FLAG_W,SALNTY,SALNTY_FLAG_W,DNSSAL,DNSSAL_FLAG_W,CTDOXY,CTDOXY_FLAG_W,OXYGEN,OXYGEN_FLAG_W,XMISS,XMISSCP,XMISS_FLAG_W,FLUOR,FLUOR_FLAG_W,CHLORA,CHLORA_FLAG_W,CDOM,CDOM_FLAG_W,PAR,PAR_FLAG_W,SILCAT,SILCAT_FLAG_W,SILUNC,NITRAT,NITRAT_FLAG_W,NRAUNC,NITRIT,NITRIT_FLAG_W,NRIUNC,PHSPHT,PHSPHT_FLAG_W,PHPUNC,AMMONIA,AMMONIA_FLAG_W,NH4UNC,CFC-11,CFC-11_FLAG_W,CFC-12,CFC-12_FLAG_W,CFC113,CFC113_FLAG_W,SF6,SF6_FLAG_W,TCARBN,TCARBN_FLAG_W,ALKALI,ALKALI_FLAG_W,ALKALI_POT,ALKALI_POT_FLAG_W,PH_TOT,PH_TMP,PH_TOT_FLAG_W,CALCIUM,CALCIUM_FLAG_W,DOC,DOC_FLAG_W,DELC13,DELC13_FLAG_W,C13ERR,DELC14,DELC14_FLAG_W,C14ERR,CS-134,CS-134_FLAG_W,CS134ER,CS-137,CS-137_FLAG_W,CS137ER,I-129,I-129_FLAG_W,I-129ER,CDOM-325,CDOM-325_FLAG_W,CDOM-370,CDOM-370_FLAG_W,CDOM-443,CDOM-443_FLAG_W
,,,,,,,,UTC,DEG,DEG,METERS,DBAR,,ITS-90,,ITS-90,,PSS-78,,PSS-78,,G/KG,,UMOL/KG,,UMOL/KG,,%TRANS,/METER,,MG/CUM,,MG/CUM,,MG/CUM,,UE/SQM/S,,UMOL/KG,,UMOL/KG,UMOL/KG,,UMOL/KG,UMOL/KG,,UMOL/KG,UMOL/KG,,UMOL/KG,UMOL/KG,,UMOL/KG,PMOL/KG,,PMOL/KG,,PMOL/KG,,FMOL/KG,,UMOL/KG,,UMOL/KG,,UMOL/KG,,,DEG C,,MMOL/KG,,UMOL/KG,,/MILLE,,/MILLE,/MILLE,,/MILLE,MBQ/KG,,MBQ/KG,MBQ/KG,,MBQ/KG,,,,/METER,,/METER,,/METER,
  49NZ20140717,   P01,   108,  1,      9, X12J09,2,20140809,0820, 46.9965,-167.0842, 5425,   3999.4,2,   1.4708,2,   1.47099,2,  34.6814,2,  34.6812,2,-999.0000,9,   143.79,2,   143.65,2,   99.977,   0.0009,2,    0.006,2,  -999.00,9,    2.629,4,    0.000,2,   159.52,2,     0.17,    36.69,2,     0.05,     0.00,2,     0.01,     2.56,2,     0.01,  -999.00,9,  -999.00,    0.000,2,    0.000,2,    0.000,2, -999.000,9,   -999.0,9,   -999.0,9,   -999.0,9,-999.0000,     -999,9, -999.000,9,  -999.00,9, -999.000,9, -999.000,   -999.0,9,   -999.0, -999.000,9, -999.000, -999.000,9, -999.000,   -999.0,9,   -999.0, -999.000,9, -999.000,9, -999.000,9
  49NZ20140717,   P01,   108,  1,      8, X12J08,2,20140809,0820, 46.9965,-167.0842, 5425,   4249.4,2,   1.4770,2,   1.47731,2,  34.6843,2,  34.6839,2,-999.0000,9,   146.85,2,   146.81,2,   99.990,   0.0004,2,    0.006,2,  -999.00,9,    0.936,4,    0.000,2,   159.93,2,     0.17,    36.43,2,     0.05,     0.00,2,     0.01,     2.54,2,     0.01,  -999.00,9,  -999.00,    0.000,2,    0.000,2,    0.000,2, -999.000,9,   -999.0,9,   -999.0,9,   -999.0,9,-999.0000,     -999,9, -999.000,9,  -999.00,9, -999.000,9, -999.000,   -999.0,9,   -999.0, -999.000,9, -999.000, -999.000,9, -999.000,   -999.0,9,   -999.0, -999.000,9, -999.000,9, -999.000,9
  49NZ20140717,   P01,   108,  1,      7, X12J07,2,20140809,0820, 46.9965,-167.0842, 5425,   4500.7,2,   1.4935,2,   1.49356,2,  34.6857,2,  34.6858,2,-999.0000,9,   148.53,2,   148.68,2,   99.981,   0.0007,2,    0.006,2,  -999.00,9,   -1.506,4,    0.000,2,   160.62,2,     0.17,    36.37,2,     0.05,     0.00,2,     0.01,     2.53,2,     0.01,  -999.00,9,  -999.00,    0.000,2,    0.000,2,    0.000,2, -999.000,9,   -999.0,9,   -999.0,9,   -999.0,9,-999.0000,     -999,9, -999.000,9,  -999.00,9, -999.000,9, -999.000,   -999.0,9,   -999.0, -999.000,9, -999.000, -999.000,9, -999.000,   -999.0,9,   -999.0, -999.000,9, -999.000,9, -999.000,9
  49NZ20140717,   P01,   108,  1,      6, X12J06,2,20140809,0820, 46.9965,-167.0842, 5425,   4749.3,2,   1.5170,2,   1.51703,2,  34.6867,2,  34.6866,2,-999.0000,9,   149.39,2,   149.49,2,   99.986,   0.0006,2,    0.006,2,  -999.00,9,   -1.901,4,    0.000,2,   161.17,2,     0.17,    36.32,2,     0.05,     0.00,2,     0.01,     2.53,2,     0.01,  -999.00,9,  -999.00,    0.000,2,    0.000,2,    0.000,2, -999.000,9,   -999.0,9,   -999.0,9,   -999.0,9,-999.0000,     -999,9, -999.000,9,  -999.00,9, -999.000,9, -999.000,   -999.0,9,   -999.0, -999.000,9, -999.000, -999.000,9, -999.000,   -999.0,9,   -999.0, -999.000,9, -999.000,9, -999.000,9
  49NZ20140717,   P01,   108,  1,      5, X12J05,2,20140809,0820, 46.9965,-167.0842, 5425,   5000.8,2,   1.5430,2,   1.54307,2,  34.6872,2,  34.6872,2,-999.0000,9,   150.41,2,   150.59,2,   99.968,   0.0013,2,    0.006,2,  -999.00,9,  497.217,4,    0.000,2,   160.37,2,     0.17,    36.28,2,     0.05,     0.00,2,     0.01,     2.52,2,     0.01,  -999.00,9,  -999.00,    0.000,2,    0.000,2,    0.000,2, -999.000,9,   -999.0,9,   -999.0,9,   -999.0,9,-999.0000,     -999,9, -999.000,9,  -999.00,9, -999.000,9, -999.000,   -999.0,9,   -999.0, -999.000,9, -999.000, -999.000,9, -999.000,   -999.0,9,   -999.0, -999.000,9, -999.000,9, -999.000,9
  49NZ20140717,   P01,   108,  1,      4, X12J04,2,20140809,0820, 46.9965,-167.0842, 5425,   5249.3,2,   1.5704,2,   1.57020,2,  34.6875,2,  34.6877,2,-999.0000,9,   151.20,2,   151.67,2,   99.942,   0.0023,2,    0.006,2,  -999.00,9,  497.217,4,    0.000,2,   160.57,2,     0.17,    36.14,2,     0.05,     0.00,2,     0.01,     2.52,2,     0.01,  -999.00,9,  -999.00,    0.000,2,    0.001,2,    0.000,2, -999.000,9,   -999.0,9,   -999.0,9,   -999.0,9,-999.0000,     -999,9, -999.000,9,  -999.00,9, -999.000,9, -999.000,   -999.0,9,   -999.0, -999.000,9, -999.000, -999.000,9, -999.000,   -999.0,9,   -999.0, -999.000,9, -999.000,9, -999.000,9
  49NZ20140717,   P01,   108,  1,      3, X12J03,9,20140809,0820, 46.9965,-167.0842, 5425,   -999.0,9,-999.0000,9,-999.00000,9,-999.0000,9,-999.0000,9,-999.0000,9,  -999.00,9,  -999.00,9, -999.000,-999.0000,9, -999.000,9,  -999.00,9, -999.000,9, -999.000,9,  -999.00,9,  -999.00,  -999.00,9,  -999.00,  -999.00,9,  -999.00,  -999.00,9,  -999.00,  -999.00,9,  -999.00, -999.000,9, -999.000,9, -999.000,9, -999.000,9,   -999.0,9,   -999.0,9,   -999.0,9,-999.0000,     -999,9, -999.000,9,  -999.00,9, -999.000,9, -999.000,   -999.0,9,   -999.0, -999.000,9, -999.000, -999.000,9, -999.000,   -999.0,9,   -999.0, -999.000,9, -999.000,9, -999.000,9
  49NZ20140717,   P01,   108,  1,      2, X12J02,9,20140809,0820, 46.9965,-167.0842, 5425,   -999.0,9,-999.0000,9,-999.00000,9,-999.0000,9,-999.0000,9,-999.0000,9,  -999.00,9,  -999.00,9, -999.000,-999.0000,9, -999.000,9,  -999.00,9, -999.000,9, -999.000,9,  -999.00,9,  -999.00,  -999.00,9,  -999.00,  -999.00,9,  -999.00,  -999.00,9,  -999.00,  -999.00,9,  -999.00, -999.000,9, -999.000,9, -999.000,9, -999.000,9,   -999.0,9,   -999.0,9,   -999.0,9,-999.0000,     -999,9, -999.000,9,  -999.00,9, -999.000,9, -999.000,   -999.0,9,   -999.0, -999.000,9, -999.000, -999.000,9, -999.000,   -999.0,9,   -999.0, -999.000,9, -999.000,9, -999.000,9
  49NZ20140717,   P01,   108,  1,      1, X12J01,2,20140809,0820, 46.9965,-167.0842, 5425,   5521.8,2,   1.6033,2,   1.60310,2,  34.6878,2,  34.6885,2,-999.0000,9,   151.71,2,   152.34,2,   99.838,   0.0065,2,    0.006,2,  -999.00,9,  494.380,4,    0.000,2,   160.59,2,     0.17,    36.10,2,     0.05,     0.00,2,     0.01,     2.52,2,     0.01,  -999.00,9,  -999.00,    0.002,2,    0.000,2,    0.000,2, -999.000,9,   -999.0,9,   -999.0,9,   -999.0,9,-999.0000,     -999,9, -999.000,9,  -999.00,9, -999.000,9, -999.000,   -999.0,9,   -999.0, -999.000,9, -999.000, -999.000,9, -999.000,   -999.0,9,   -999.0, -999.000,9, -999.000,9, -999.000,9