BOTTLE,20230904JAMSTECRIGC
EXPOCODE,SECT,STNNBR,CASTNO,SAMPNO,BTLNBR,BTLNBR_FLAG_W,DATE,TIME,LATITUDE,LONGITUDE,DEPTH,CTDPRS,CTDPRS_FLAG_W,CTDTMP,CTDTMP_FLAG_W,SBE35,SBE35_FLAG_W,CTDSAL,CTDSAL_FLAG_W,SALNTY,SALNTY_FLAG_W,DNSSAL,DNSSAL_FLAG_W,CTDOXY,CTDOXY_FLAG_W,OXYGEN,OXYGEN_FLAG_W,XMISS,XMISSCP,XMISS_FLAG_W,FLUOR,FLUOR_FLAG_W,CHLORA,CHLORA_FLAG_W,CDOM,CDOM_FLAG_W,PAR,PAR_FLAG_W,SILCAT,SILCAT_FLAG_W,SILUNC,NITRAT,NITRAT_FLAG_W,NRAUNC,NITRIT,NITRIT_FLAG_W,NRIUNC,PHSPHT,PHSPHT_FLAG_W,PHPUNC,AMMONIA,AMMONIA_FLAG_W,NH4UNC,CFC-11,CFC-11_FLAG_W,CFC-12,CFC-12_FLAG_W,CFC113,CFC113_FLAG_W,SF6,SF6_FLAG_W,TCARBN,TCARBN_FLAG_W,ALKALI,ALKALI_FLAG_W,ALKALI_POT,ALKALI_POT_FLAG_W,PH_TOT,PH_TMP,PH_TOT_FLAG_W,CALCIUM,CALCIUM_FLAG_W,DOC,DOC_FLAG_W,DELC13,DELC13_FLAG_W,C13ERR,DELC14,DELC14_FLAG_W,C14ERR,CS-134,CS-134_FLAG_W,CS134ER,CS-137,CS-137_FLAG_W,CS137ER,I-129,I-129_FLAG_W,I-129ER,CDOM-325,CDOM-325_FLAG_W,CDOM-370,CDOM-370_FLAG_W,CDOM-443,CDOM-443_FLAG_W
,,,,,,,,UTC,DEG,DEG,METERS,DBAR,,ITS-90,,ITS-90,,PSS-78,,PSS-78,,G/KG,,UMOL/KG,,UMOL/KG,,%TRANS,/METER,,MG/CUM,,MG/CUM,,MG/CUM,,UE/SQM/S,,UMOL/KG,,UMOL/KG,UMOL/KG,,UMOL/KG,UMOL/KG,,UMOL/KG,UMOL/KG,,UMOL/KG,UMOL/KG,,UMOL/KG,PMOL/KG,,PMOL/KG,,PMOL/KG,,FMOL/KG,,UMOL/KG,,UMOL/KG,,UMOL/KG,,,DEG C,,MMOL/KG,,UMOL/KG,,/MILLE,,/MILLE,/MILLE,,/MILLE,MBQ/KG,,MBQ/KG,MBQ/KG,,MBQ/KG,,,,/METER,,/METER,,/METER,
  49NZ20140717,   P01,    57,  1,      9, X12J09,2,20140722,1851, 40.3250, 148.8705, 5458,   3999.5,2,   1.4753,2,   1.47542,2,  34.6812,2,  34.6808,2,-999.0000,9,   148.34,2,   148.00,2,   99.970,   0.0012,2,   -0.003,2,  -999.00,9,    2.179,4,    0.000,2,   151.21,2,     0.17,    36.33,2,     0.05,    -0.01,2,     0.01,     2.53,2,     0.01,  -999.00,9,  -999.00,    0.001,2,    0.000,2,    0.002,2,    0.000,2,   -999.0,9,   -999.0,9,   -999.0,9,-999.0000,     -999,9, -999.000,9,  -999.00,9, -999.000,9, -999.000,   -999.0,9,   -999.0, -999.000,9, -999.000, -999.000,9, -999.000,   -999.0,9,   -999.0, -999.000,9, -999.000,9, -999.000,9
  49NZ20140717,   P01,    57,  1,      8, X12J08,2,20140722,1851, 40.3250, 148.8705, 5458,   4252.2,2,   1.4752,2,   1.47539,2,  34.6841,2,  34.6842,2,-999.0000,9,   151.97,2,   151.68,2,   99.957,   0.0017,2,   -0.004,2,  -999.00,9,    1.294,4,    0.000,2,   150.30,2,     0.17,    36.06,2,     0.05,    -0.01,2,     0.01,     2.51,2,     0.01,  -999.00,9,  -999.00,    0.000,2,    0.000,2,    0.002,2,    0.000,2,   -999.0,9,   -999.0,9,   -999.0,9,-999.0000,     -999,9, -999.000,9,  -999.00,9, -999.000,9, -999.000,   -999.0,9,   -999.0, -999.000,9, -999.000, -999.000,9, -999.000,   -999.0,9,   -999.0, -999.000,9, -999.000,9, -999.000,9
  49NZ20140717,   P01,    57,  1,      7, X12J07,2,20140722,1851, 40.3250, 148.8705, 5458,   4499.5,2,   1.4816,2,   1.48166,2,  34.6863,2,  34.6862,2,-999.0000,9,   154.84,2,   154.45,2,   99.989,   0.0004,2,   -0.004,2,  -999.00,9,   -0.771,4,    0.000,2,   149.70,2,     0.17,    35.88,2,     0.05,    -0.01,2,     0.01,     2.50,2,     0.01,  -999.00,9,  -999.00,    0.000,2,    0.000,2,    0.002,2,    0.000,2,   -999.0,9,   -999.0,9,   -999.0,9,-999.0000,     -999,9, -999.000,9,  -999.00,9, -999.000,9, -999.000,   -999.0,9,   -999.0, -999.000,9, -999.000, -999.000,9, -999.000,   -999.0,9,   -999.0, -999.000,9, -999.000,9, -999.000,9
  49NZ20140717,   P01,    57,  1,      6, X12J06,2,20140722,1851, 40.3250, 148.8705, 5458,   4751.1,2,   1.4930,2,   1.49307,2,  34.6882,2,  34.6884,2,-999.0000,9,   157.23,2,   156.80,2,   99.987,   0.0005,2,   -0.004,2,  -999.00,9,   -0.938,4,    0.000,2,   149.14,2,     0.17,    35.68,2,     0.05,    -0.01,2,     0.01,     2.48,2,     0.01,  -999.00,9,  -999.00,    0.003,2,    0.001,2,    0.002,2,    0.000,2,   -999.0,9,   -999.0,9,   -999.0,9,-999.0000,     -999,9, -999.000,9,  -999.00,9, -999.000,9, -999.000,   -999.0,9,   -999.0, -999.000,9, -999.000, -999.000,9, -999.000,   -999.0,9,   -999.0, -999.000,9, -999.000,9, -999.000,9
  49NZ20140717,   P01,    57,  1,      5, X12J05,2,20140722,1851, 40.3250, 148.8705, 5458,   4999.6,2,   1.5135,2,   1.51358,2,  34.6893,2,  34.6893,2,-999.0000,9,   158.16,2,   157.87,2,   99.935,   0.0026,2,   -0.004,2,  -999.00,9,   -1.189,4,    0.000,2,   149.77,2,     0.17,    35.61,2,     0.05,    -0.01,2,     0.01,     2.48,2,     0.01,  -999.00,9,  -999.00,    0.005,2,    0.002,2,    0.001,2,    0.000,2,   -999.0,9,   -999.0,9,   -999.0,9,-999.0000,     -999,9, -999.000,9,  -999.00,9, -999.000,9, -999.000,   -999.0,9,   -999.0, -999.000,9, -999.000, -999.000,9, -999.000,   -999.0,9,   -999.0, -999.000,9, -999.000,9, -999.000,9
  49NZ20140717,   P01,    57,  1,      4, X12J04,2,20140722,1851, 40.3250, 148.8705, 5458,   5249.9,2,   1.5369,2,   1.53688,2,  34.6901,2,  34.6904,2,-999.0000,9,   159.54,2,   159.37,2,   99.830,   0.0068,2,   -0.004,2,  -999.00,9,   90.475,4,    0.000,2,   148.32,2,     0.17,    35.48,2,     0.05,    -0.01,2,     0.01,     2.47,2,     0.01,  -999.00,9,  -999.00,    0.003,2,    0.001,2,    0.003,2,    0.000,2,   -999.0,9,   -999.0,9,   -999.0,9,-999.0000,     -999,9, -999.000,9,  -999.00,9, -999.000,9, -999.000,   -999.0,9,   -999.0, -999.000,9, -999.000, -999.000,9, -999.000,   -999.0,9,   -999.0, -999.000,9, -999.000,9, -999.000,9
  49NZ20140717,   P01,    57,  1,      3, X12J03,2,20140722,1851, 40.3250, 148.8705, 5458,   5499.4,2,   1.5610,2,   1.56086,2,  34.6908,2,  34.6917,2,-999.0000,9,   160.54,2,   160.68,2,   99.467,   0.0214,2,   -0.004,2,  -999.00,9,  497.217,4,    0.000,2,   147.67,2,     0.17,    35.40,2,     0.05,    -0.01,2,     0.01,     2.46,2,     0.01,  -999.00,9,  -999.00,    0.003,2,    0.001,2,    0.002,2,    0.000,2,   -999.0,9,   -999.0,9,   -999.0,9,-999.0000,     -999,9, -999.000,9,  -999.00,9, -999.000,9, -999.000,   -999.0,9,   -999.0, -999.000,9, -999.000, -999.000,9, -999.000,   -999.0,9,   -999.0, -999.000,9, -999.000,9, -999.000,9
  49NZ20140717,   P01,    57,  1,      2, X12J02,2,20140722,1851, 40.3250, 148.8705, 5458,   2400.5,2,   1.7094,2,   1.70945,2,  34.6341,2,  34.6341,2,-999.0000,9,   101.41,2,   101.48,2,   99.946,   0.0022,2,   -0.001,2,  -999.00,9,    2.221,1,    0.000,2,   160.91,2,     0.17,    39.41,2,     0.05,    -0.01,2,     0.01,     2.77,2,     0.01,  -999.00,9,  -999.00,    0.000,2,    0.000,2,    0.000,2,    0.050,2,   -999.0,9,   -999.0,9,   -999.0,9,-999.0000,     -999,9, -999.000,9,  -999.00,9, -999.000,9, -999.000,   -999.0,9,   -999.0, -999.000,9, -999.000, -999.000,9, -999.000,   -999.0,9,   -999.0, -999.000,9, -999.000,9, -999.000,9
  49NZ20140717,   P01,    57,  1,      1, X12J01,2,20140722,1851, 40.3250, 148.8705, 5458,   5557.4,2,   1.5687,2,   1.56860,2,  34.6908,2,  34.6913,2,-999.0000,9,   160.39,2,   160.69,2,   99.344,   0.0263,2,   -0.004,2,  -999.00,9,  497.217,4,    0.000,2,   147.82,2,     0.17,    35.38,2,     0.05,    -0.01,2,     0.01,     2.46,2,     0.01,  -999.00,9,  -999.00,    0.003,2,    0.002,2,    0.001,2,    0.000,2,   -999.0,9,   -999.0,9,   -999.0,9,-999.0000,     -999,9, -999.000,9,  -999.00,9, -999.000,9, -999.000,   -999.0,9,   -999.0, -999.000,9, -999.000, -999.000,9, -999.000,   -999.0,9,   -999.0, -999.000,9, -999.000,9, -999.000,9