BOTTLE,20230904JAMSTECRIGC
EXPOCODE,SECT,STNNBR,CASTNO,SAMPNO,BTLNBR,BTLNBR_FLAG_W,DATE,TIME,LATITUDE,LONGITUDE,DEPTH,CTDPRS,CTDPRS_FLAG_W,CTDTMP,CTDTMP_FLAG_W,SBE35,SBE35_FLAG_W,CTDSAL,CTDSAL_FLAG_W,SALNTY,SALNTY_FLAG_W,DNSSAL,DNSSAL_FLAG_W,CTDOXY,CTDOXY_FLAG_W,OXYGEN,OXYGEN_FLAG_W,XMISS,XMISSCP,XMISS_FLAG_W,FLUOR,FLUOR_FLAG_W,CHLORA,CHLORA_FLAG_W,CDOM,CDOM_FLAG_W,PAR,PAR_FLAG_W,SILCAT,SILCAT_FLAG_W,SILUNC,NITRAT,NITRAT_FLAG_W,NRAUNC,NITRIT,NITRIT_FLAG_W,NRIUNC,PHSPHT,PHSPHT_FLAG_W,PHPUNC,AMMONIA,AMMONIA_FLAG_W,NH4UNC,CFC-11,CFC-11_FLAG_W,CFC-12,CFC-12_FLAG_W,CFC113,CFC113_FLAG_W,SF6,SF6_FLAG_W,TCARBN,TCARBN_FLAG_W,ALKALI,ALKALI_FLAG_W,ALKALI_POT,ALKALI_POT_FLAG_W,PH_TOT,PH_TMP,PH_TOT_FLAG_W,CALCIUM,CALCIUM_FLAG_W,DOC,DOC_FLAG_W,DELC13,DELC13_FLAG_W,C13ERR,DELC14,DELC14_FLAG_W,C14ERR,CS-134,CS-134_FLAG_W,CS134ER,CS-137,CS-137_FLAG_W,CS137ER,I-129,I-129_FLAG_W,I-129ER,CDOM-325,CDOM-325_FLAG_W,CDOM-370,CDOM-370_FLAG_W,CDOM-443,CDOM-443_FLAG_W
,,,,,,,,UTC,DEG,DEG,METERS,DBAR,,ITS-90,,ITS-90,,PSS-78,,PSS-78,,G/KG,,UMOL/KG,,UMOL/KG,,%TRANS,/METER,,MG/CUM,,MG/CUM,,MG/CUM,,UE/SQM/S,,UMOL/KG,,UMOL/KG,UMOL/KG,,UMOL/KG,UMOL/KG,,UMOL/KG,UMOL/KG,,UMOL/KG,UMOL/KG,,UMOL/KG,PMOL/KG,,PMOL/KG,,PMOL/KG,,FMOL/KG,,UMOL/KG,,UMOL/KG,,UMOL/KG,,,DEG C,,MMOL/KG,,UMOL/KG,,/MILLE,,/MILLE,/MILLE,,/MILLE,MBQ/KG,,MBQ/KG,MBQ/KG,,MBQ/KG,,,,/METER,,/METER,,/METER,
  49NZ20140717,   P01,    44,  1,      9, X12J09,2,20140719,0825, 41.9902, 146.2507, 6187,   3920.1,2,   1.4586,2,   1.45860,2,  34.6821,2,  34.6818,2,-999.0000,9,   149.37,2,   149.09,2, -999.000,-999.0000,9, -999.000,9,  -999.00,9, -999.000,9,    0.000,2,   151.03,2,     0.17,    36.21,2,     0.05,     0.01,2,     0.01,     2.52,2,     0.01,  -999.00,9,  -999.00,    0.000,2,    0.000,2,    0.001,2,    0.040,2,   -999.0,9,   -999.0,9,   -999.0,9,-999.0000,     -999,9, -999.000,9,  -999.00,9, -999.000,9, -999.000,   -999.0,9,   -999.0, -999.000,9, -999.000, -999.000,9, -999.000,   -999.0,9,   -999.0, -999.000,9, -999.000,9, -999.000,9
  49NZ20140717,   P01,    44,  1,      8, X12J08,2,20140719,0825, 41.9902, 146.2507, 6187,   4170.3,2,   1.4538,2,   1.45393,2,  34.6854,2,  34.6852,2,-999.0000,9,   153.71,2,   153.21,2, -999.000,-999.0000,9, -999.000,9,  -999.00,9, -999.000,9,    0.000,2,   149.56,2,     0.17,    35.93,2,     0.05,     0.01,2,     0.01,     2.50,2,     0.01,  -999.00,9,  -999.00,    0.000,2,    0.000,2,    0.000,2,    0.070,2,   -999.0,9,   -999.0,9,   -999.0,9,-999.0000,     -999,9, -999.000,9,  -999.00,9, -999.000,9, -999.000,   -999.0,9,   -999.0, -999.000,9, -999.000, -999.000,9, -999.000,   -999.0,9,   -999.0, -999.000,9, -999.000,9, -999.000,9
  49NZ20140717,   P01,    44,  1,      7, X12J07,2,20140719,0825, 41.9902, 146.2507, 6187,   4420.3,2,   1.4569,2,   1.45692,2,  34.6879,2,  34.6885,2,-999.0000,9,   156.93,2,   156.46,2, -999.000,-999.0000,9, -999.000,9,  -999.00,9, -999.000,9,    0.000,2,   148.71,2,     0.17,    35.69,2,     0.05,     0.01,2,     0.01,     2.48,2,     0.01,  -999.00,9,  -999.00,    0.002,2,    0.000,2,    0.000,2,    0.100,2,   -999.0,9,   -999.0,9,   -999.0,9,-999.0000,     -999,9, -999.000,9,  -999.00,9, -999.000,9, -999.000,   -999.0,9,   -999.0, -999.000,9, -999.000, -999.000,9, -999.000,   -999.0,9,   -999.0, -999.000,9, -999.000,9, -999.000,9
  49NZ20140717,   P01,    44,  1,      6, X12J06,2,20140719,0825, 41.9902, 146.2507, 6187,   4669.9,2,   1.4706,2,   1.47056,2,  34.6895,2,  34.6895,2,-999.0000,9,   159.16,2,   158.52,2, -999.000,-999.0000,9, -999.000,9,  -999.00,9, -999.000,9,    0.000,2,   147.94,2,     0.17,    35.54,2,     0.05,     0.01,2,     0.01,     2.47,2,     0.01,  -999.00,9,  -999.00,    0.001,2,    0.000,2,    0.000,2,    0.090,2,   -999.0,9,   -999.0,9,   -999.0,9,-999.0000,     -999,9, -999.000,9,  -999.00,9, -999.000,9, -999.000,   -999.0,9,   -999.0, -999.000,9, -999.000, -999.000,9, -999.000,   -999.0,9,   -999.0, -999.000,9, -999.000,9, -999.000,9
  49NZ20140717,   P01,    44,  1,      5, X12J05,2,20140719,0825, 41.9902, 146.2507, 6187,   4920.4,2,   1.4913,2,   1.49127,2,  34.6905,2,  34.6905,2,-999.0000,9,   160.42,2,   159.73,2, -999.000,-999.0000,9, -999.000,9,  -999.00,9, -999.000,9,    0.000,2,   147.51,2,     0.17,    35.44,2,     0.05,     0.01,2,     0.01,     2.47,2,     0.01,  -999.00,9,  -999.00,    0.001,2,    0.000,2,    0.000,2,    0.110,2,   -999.0,9,   -999.0,9,   -999.0,9,-999.0000,     -999,9, -999.000,9,  -999.00,9, -999.000,9, -999.000,   -999.0,9,   -999.0, -999.000,9, -999.000, -999.000,9, -999.000,   -999.0,9,   -999.0, -999.000,9, -999.000,9, -999.000,9
  49NZ20140717,   P01,    44,  1,      4, X12J04,2,20140719,0825, 41.9902, 146.2507, 6187,   5168.7,2,   1.5166,2,   1.51650,2,  34.6911,2,  34.6914,2,-999.0000,9,   161.34,2,   160.67,2, -999.000,-999.0000,9, -999.000,9,  -999.00,9, -999.000,9,    0.000,2,   147.04,2,     0.17,    35.37,2,     0.05,     0.01,2,     0.01,     2.46,2,     0.01,  -999.00,9,  -999.00,    0.000,2,    0.000,2,    0.000,2,    0.100,2,   -999.0,9,   -999.0,9,   -999.0,9,-999.0000,     -999,9, -999.000,9,  -999.00,9, -999.000,9, -999.000,   -999.0,9,   -999.0, -999.000,9, -999.000, -999.000,9, -999.000,   -999.0,9,   -999.0, -999.000,9, -999.000,9, -999.000,9
  49NZ20140717,   P01,    44,  1,      3, X12J03,2,20140719,0825, 41.9902, 146.2507, 6187,   5418.9,2,   1.5483,2,   1.54824,2,  34.6911,2,  34.6913,2,-999.0000,9,   161.55,2,   160.84,2, -999.000,-999.0000,9, -999.000,9,  -999.00,9, -999.000,9,    0.000,2,   146.94,2,     0.17,    35.35,2,     0.05,     0.01,2,     0.01,     2.46,2,     0.01,  -999.00,9,  -999.00,    0.000,2,    0.000,2,    0.000,2,    0.110,2,   -999.0,9,   -999.0,9,   -999.0,9,-999.0000,     -999,9, -999.000,9,  -999.00,9, -999.000,9, -999.000,   -999.0,9,   -999.0, -999.000,9, -999.000, -999.000,9, -999.000,   -999.0,9,   -999.0, -999.000,9, -999.000,9, -999.000,9
  49NZ20140717,   P01,    44,  1,      2, X12J02,2,20140719,0825, 41.9902, 146.2507, 6187,   5669.1,2,   1.5813,2,   1.58115,2,  34.6910,2,  34.6913,2,-999.0000,9,   161.70,2,   161.11,2, -999.000,-999.0000,9, -999.000,9,  -999.00,9, -999.000,9,    0.000,2,   146.86,2,     0.17,    35.36,2,     0.05,     0.01,2,     0.01,     2.46,2,     0.01,  -999.00,9,  -999.00,    0.005,2,    0.003,2,    0.000,2,    0.080,2,   -999.0,9,   -999.0,9,   -999.0,9,-999.0000,     -999,9, -999.000,9,  -999.00,9, -999.000,9, -999.000,   -999.0,9,   -999.0, -999.000,9, -999.000, -999.000,9, -999.000,   -999.0,9,   -999.0, -999.000,9, -999.000,9, -999.000,9
  49NZ20140717,   P01,    44,  1,      1, X12J01,2,20140719,0825, 41.9902, 146.2507, 6187,   6372.0,2,   1.6796,2,   1.67939,2,  34.6908,2,  34.6910,2,-999.0000,9,   161.13,2,   160.98,2, -999.000,-999.0000,9, -999.000,9,  -999.00,9, -999.000,9,    0.000,2,   147.14,2,     0.17,    35.37,2,     0.05,     0.01,2,     0.01,     2.46,2,     0.01,  -999.00,9,  -999.00,    0.005,2,    0.005,2,    0.000,2,    0.130,2,   -999.0,9,   -999.0,9,   -999.0,9,-999.0000,     -999,9, -999.000,9,  -999.00,9, -999.000,9, -999.000,   -999.0,9,   -999.0, -999.000,9, -999.000, -999.000,9, -999.000,   -999.0,9,   -999.0, -999.000,9, -999.000,9, -999.000,9