BOTTLE,20230904JAMSTECRIGC
EXPOCODE,SECT,STNNBR,CASTNO,SAMPNO,BTLNBR,BTLNBR_FLAG_W,DATE,TIME,LATITUDE,LONGITUDE,DEPTH,CTDPRS,CTDPRS_FLAG_W,CTDTMP,CTDTMP_FLAG_W,SBE35,SBE35_FLAG_W,CTDSAL,CTDSAL_FLAG_W,SALNTY,SALNTY_FLAG_W,DNSSAL,DNSSAL_FLAG_W,CTDOXY,CTDOXY_FLAG_W,OXYGEN,OXYGEN_FLAG_W,XMISS,XMISSCP,XMISS_FLAG_W,FLUOR,FLUOR_FLAG_W,CHLORA,CHLORA_FLAG_W,CDOM,CDOM_FLAG_W,PAR,PAR_FLAG_W,SILCAT,SILCAT_FLAG_W,SILUNC,NITRAT,NITRAT_FLAG_W,NRAUNC,NITRIT,NITRIT_FLAG_W,NRIUNC,PHSPHT,PHSPHT_FLAG_W,PHPUNC,AMMONIA,AMMONIA_FLAG_W,NH4UNC,CFC-11,CFC-11_FLAG_W,CFC-12,CFC-12_FLAG_W,CFC113,CFC113_FLAG_W,SF6,SF6_FLAG_W,TCARBN,TCARBN_FLAG_W,ALKALI,ALKALI_FLAG_W,ALKALI_POT,ALKALI_POT_FLAG_W,PH_TOT,PH_TMP,PH_TOT_FLAG_W,CALCIUM,CALCIUM_FLAG_W,DOC,DOC_FLAG_W,DELC13,DELC13_FLAG_W,C13ERR,DELC14,DELC14_FLAG_W,C14ERR,CS-134,CS-134_FLAG_W,CS134ER,CS-137,CS-137_FLAG_W,CS137ER,I-129,I-129_FLAG_W,I-129ER,CDOM-325,CDOM-325_FLAG_W,CDOM-370,CDOM-370_FLAG_W,CDOM-443,CDOM-443_FLAG_W
,,,,,,,,UTC,DEG,DEG,METERS,DBAR,,ITS-90,,ITS-90,,PSS-78,,PSS-78,,G/KG,,UMOL/KG,,UMOL/KG,,%TRANS,/METER,,MG/CUM,,MG/CUM,,MG/CUM,,UE/SQM/S,,UMOL/KG,,UMOL/KG,UMOL/KG,,UMOL/KG,UMOL/KG,,UMOL/KG,UMOL/KG,,UMOL/KG,UMOL/KG,,UMOL/KG,PMOL/KG,,PMOL/KG,,PMOL/KG,,FMOL/KG,,UMOL/KG,,UMOL/KG,,UMOL/KG,,,DEG C,,MMOL/KG,,UMOL/KG,,/MILLE,,/MILLE,/MILLE,,/MILLE,MBQ/KG,,MBQ/KG,MBQ/KG,,MBQ/KG,,,,/METER,,/METER,,/METER,
  49NZ20140717,   P01,    83,  1,      9, X12J09,2,20140731,1809, 47.0019, 169.0982, 4167,   3919.3,2,   1.4834,2,   1.48340,2,  34.6790,2,  34.6787,2,-999.0000,9,   143.76,2,   144.36,2,   99.908,   0.0037,2,    0.001,2,  -999.00,9,    2.410,1,    0.000,2,   154.20,2,     0.17,    36.51,2,     0.05,     0.01,2,     0.01,     2.55,2,     0.01,  -999.00,9,  -999.00,    0.001,2,    0.000,2,    0.000,2, -999.000,9,   2333.7,2,   2419.6,2,   -999.0,9,   7.5615,       25,2, -999.000,9,    39.23,2, -999.000,9, -999.000,   -999.0,9,   -999.0, -999.000,9, -999.000, -999.000,9, -999.000,   -999.0,9,   -999.0, -999.000,9, -999.000,9, -999.000,9
  49NZ20140717,   P01,    83,  1,      8, X12J08,2,20140731,1809, 47.0019, 169.0982, 4167,   4172.1,2,   1.4720,2,   1.47099,2,  34.6830,2,  34.6834,2,-999.0000,9,   149.13,2,   150.07,2,   99.901,   0.0039,2,    0.001,2,  -999.00,9,    2.343,1,    0.000,2,   153.06,2,     0.17,    36.20,2,     0.05,     0.01,2,     0.01,     2.52,2,     0.01,  -999.00,9,  -999.00,    0.002,2,    0.001,2,    0.000,2, -999.000,9,   2332.5,6,   2418.9,2,   -999.0,9,   7.5718,       25,2, -999.000,9,    38.09,2, -999.000,9, -999.000,   -999.0,9,   -999.0, -999.000,9, -999.000, -999.000,9, -999.000,   -999.0,9,   -999.0, -999.000,9, -999.000,9, -999.000,9
  49NZ20140717,   P01,    83,  1,      7, X12J07,9,20140731,1809, 47.0019, 169.0982, 4167,   -999.0,9,-999.0000,9,-999.00000,9,-999.0000,9,-999.0000,9,-999.0000,9,  -999.00,9,  -999.00,9, -999.000,-999.0000,9, -999.000,9,  -999.00,9, -999.000,9, -999.000,9,  -999.00,9,  -999.00,  -999.00,9,  -999.00,  -999.00,9,  -999.00,  -999.00,9,  -999.00,  -999.00,9,  -999.00, -999.000,9, -999.000,9, -999.000,9, -999.000,9,   -999.0,9,   -999.0,9,   -999.0,9,-999.0000,     -999,9, -999.000,9,  -999.00,9, -999.000,9, -999.000,   -999.0,9,   -999.0, -999.000,9, -999.000, -999.000,9, -999.000,   -999.0,9,   -999.0, -999.000,9, -999.000,9, -999.000,9
  49NZ20140717,   P01,    83,  1,      6, X12J06,9,20140731,1809, 47.0019, 169.0982, 4167,   -999.0,9,-999.0000,9,-999.00000,9,-999.0000,9,-999.0000,9,-999.0000,9,  -999.00,9,  -999.00,9, -999.000,-999.0000,9, -999.000,9,  -999.00,9, -999.000,9, -999.000,9,  -999.00,9,  -999.00,  -999.00,9,  -999.00,  -999.00,9,  -999.00,  -999.00,9,  -999.00,  -999.00,9,  -999.00, -999.000,9, -999.000,9, -999.000,9, -999.000,9,   -999.0,9,   -999.0,9,   -999.0,9,-999.0000,     -999,9, -999.000,9,  -999.00,9, -999.000,9, -999.000,   -999.0,9,   -999.0, -999.000,9, -999.000, -999.000,9, -999.000,   -999.0,9,   -999.0, -999.000,9, -999.000,9, -999.000,9
  49NZ20140717,   P01,    83,  1,      5, X12J05,9,20140731,1809, 47.0019, 169.0982, 4167,   -999.0,9,-999.0000,9,-999.00000,9,-999.0000,9,-999.0000,9,-999.0000,9,  -999.00,9,  -999.00,9, -999.000,-999.0000,9, -999.000,9,  -999.00,9, -999.000,9, -999.000,9,  -999.00,9,  -999.00,  -999.00,9,  -999.00,  -999.00,9,  -999.00,  -999.00,9,  -999.00,  -999.00,9,  -999.00, -999.000,9, -999.000,9, -999.000,9, -999.000,9,   -999.0,9,   -999.0,9,   -999.0,9,-999.0000,     -999,9, -999.000,9,  -999.00,9, -999.000,9, -999.000,   -999.0,9,   -999.0, -999.000,9, -999.000, -999.000,9, -999.000,   -999.0,9,   -999.0, -999.000,9, -999.000,9, -999.000,9
  49NZ20140717,   P01,    83,  1,      4, X12J04,9,20140731,1809, 47.0019, 169.0982, 4167,   -999.0,9,-999.0000,9,-999.00000,9,-999.0000,9,-999.0000,9,-999.0000,9,  -999.00,9,  -999.00,9, -999.000,-999.0000,9, -999.000,9,  -999.00,9, -999.000,9, -999.000,9,  -999.00,9,  -999.00,  -999.00,9,  -999.00,  -999.00,9,  -999.00,  -999.00,9,  -999.00,  -999.00,9,  -999.00, -999.000,9, -999.000,9, -999.000,9, -999.000,9,   -999.0,9,   -999.0,9,   -999.0,9,-999.0000,     -999,9, -999.000,9,  -999.00,9, -999.000,9, -999.000,   -999.0,9,   -999.0, -999.000,9, -999.000, -999.000,9, -999.000,   -999.0,9,   -999.0, -999.000,9, -999.000,9, -999.000,9
  49NZ20140717,   P01,    83,  1,      3, X12J03,9,20140731,1809, 47.0019, 169.0982, 4167,   -999.0,9,-999.0000,9,-999.00000,9,-999.0000,9,-999.0000,9,-999.0000,9,  -999.00,9,  -999.00,9, -999.000,-999.0000,9, -999.000,9,  -999.00,9, -999.000,9, -999.000,9,  -999.00,9,  -999.00,  -999.00,9,  -999.00,  -999.00,9,  -999.00,  -999.00,9,  -999.00,  -999.00,9,  -999.00, -999.000,9, -999.000,9, -999.000,9, -999.000,9,   -999.0,9,   -999.0,9,   -999.0,9,-999.0000,     -999,9, -999.000,9,  -999.00,9, -999.000,9, -999.000,   -999.0,9,   -999.0, -999.000,9, -999.000, -999.000,9, -999.000,   -999.0,9,   -999.0, -999.000,9, -999.000,9, -999.000,9
  49NZ20140717,   P01,    83,  1,      2, X12J02,2,20140731,1809, 47.0019, 169.0982, 4167,    199.4,2,   3.5629,2,   3.56231,2,  33.8295,2,  33.8323,2,-999.0000,9,    46.62,2,    46.24,2,   99.720,   0.0112,2,    0.016,2,  -999.00,9,    2.780,1,    0.000,2,    93.55,2,     0.13,    43.90,2,     0.06,     0.01,2,     0.01,     3.12,2,     0.01,  -999.00,9,  -999.00,    2.346,2,    1.209,2,    0.169,2, -999.000,9,   2326.4,2,   2293.0,6,   -999.0,9,   7.2392,       25,2, -999.000,9,    47.09,2, -999.000,9, -999.000,   -999.0,9,   -999.0, -999.000,9, -999.000, -999.000,9, -999.000,   -999.0,9,   -999.0, -999.000,9, -999.000,9, -999.000,9
  49NZ20140717,   P01,    83,  1,      1, X12J01,2,20140731,1809, 47.0019, 169.0982, 4167,   4240.3,2,   1.4771,2,   1.47707,2,  34.6834,2,  34.6834,2,-999.0000,9,   149.21,2,   150.02,2,   99.904,   0.0039,2,    0.001,2,  -999.00,9,    2.231,1,    0.000,2,   153.03,2,     0.17,    36.19,2,     0.05,     0.01,2,     0.01,     2.52,2,     0.01,  -999.00,9,  -999.00,    0.004,2,    0.000,2,    0.000,2, -999.000,9,   2329.6,2,   2417.9,2,   -999.0,9,   7.5712,       25,2, -999.000,9,    38.15,2, -999.000,9, -999.000,   -999.0,9,   -999.0, -999.000,9, -999.000, -999.000,9, -999.000,   -999.0,9,   -999.0, -999.000,9, -999.000,9, -999.000,9