BOTTLE,20230904JAMSTECRIGC
EXPOCODE,SECT,STNNBR,CASTNO,SAMPNO,BTLNBR,BTLNBR_FLAG_W,DATE,TIME,LATITUDE,LONGITUDE,DEPTH,CTDPRS,CTDPRS_FLAG_W,CTDTMP,CTDTMP_FLAG_W,SBE35,SBE35_FLAG_W,CTDSAL,CTDSAL_FLAG_W,SALNTY,SALNTY_FLAG_W,DNSSAL,DNSSAL_FLAG_W,CTDOXY,CTDOXY_FLAG_W,OXYGEN,OXYGEN_FLAG_W,XMISS,XMISSCP,XMISS_FLAG_W,FLUOR,FLUOR_FLAG_W,CHLORA,CHLORA_FLAG_W,CDOM,CDOM_FLAG_W,PAR,PAR_FLAG_W,SILCAT,SILCAT_FLAG_W,SILUNC,NITRAT,NITRAT_FLAG_W,NRAUNC,NITRIT,NITRIT_FLAG_W,NRIUNC,PHSPHT,PHSPHT_FLAG_W,PHPUNC,AMMONIA,AMMONIA_FLAG_W,NH4UNC,CFC-11,CFC-11_FLAG_W,CFC-12,CFC-12_FLAG_W,CFC113,CFC113_FLAG_W,SF6,SF6_FLAG_W,TCARBN,TCARBN_FLAG_W,ALKALI,ALKALI_FLAG_W,ALKALI_POT,ALKALI_POT_FLAG_W,PH_TOT,PH_TMP,PH_TOT_FLAG_W,CALCIUM,CALCIUM_FLAG_W,DOC,DOC_FLAG_W,DELC13,DELC13_FLAG_W,C13ERR,DELC14,DELC14_FLAG_W,C14ERR,CS-134,CS-134_FLAG_W,CS134ER,CS-137,CS-137_FLAG_W,CS137ER,I-129,I-129_FLAG_W,I-129ER,CDOM-325,CDOM-325_FLAG_W,CDOM-370,CDOM-370_FLAG_W,CDOM-443,CDOM-443_FLAG_W
,,,,,,,,UTC,DEG,DEG,METERS,DBAR,,ITS-90,,ITS-90,,PSS-78,,PSS-78,,G/KG,,UMOL/KG,,UMOL/KG,,%TRANS,/METER,,MG/CUM,,MG/CUM,,MG/CUM,,UE/SQM/S,,UMOL/KG,,UMOL/KG,UMOL/KG,,UMOL/KG,UMOL/KG,,UMOL/KG,UMOL/KG,,UMOL/KG,UMOL/KG,,UMOL/KG,PMOL/KG,,PMOL/KG,,PMOL/KG,,FMOL/KG,,UMOL/KG,,UMOL/KG,,UMOL/KG,,,DEG C,,MMOL/KG,,UMOL/KG,,/MILLE,,/MILLE,/MILLE,,/MILLE,MBQ/KG,,MBQ/KG,MBQ/KG,,MBQ/KG,,,,/METER,,/METER,,/METER,
  49NZ20140717,   P01,    58,  1,      9, X12J09,2,20140723,0109, 40.6239, 149.3828, 5343,   4080.3,2,   1.4583,2,   1.45841,2,  34.6839,2,  34.6838,2,-999.0000,9,   151.67,2,   151.23,2,   99.996,   0.0001,2,   -0.004,2,  -999.00,9,    2.150,4,    0.000,2,   150.19,2,     0.17,    36.11,2,     0.05,     0.00,2,     0.01,     2.52,2,     0.01,     0.02,2,     0.01,    0.000,2,    0.000,2,    0.000,2, -999.000,9,   2327.7,2,   2417.3,2,   -999.0,9,   7.5757,       25,2, -999.000,9,    35.52,2, -999.000,9, -999.000,   -999.0,9,   -999.0, -999.000,9, -999.000, -999.000,9, -999.000,   -999.0,9,   -999.0, -999.000,9, -999.000,9, -999.000,9
  49NZ20140717,   P01,    58,  1,      8, X12J08,2,20140723,0109, 40.6239, 149.3828, 5343,   4330.5,2,   1.4627,2,   1.46285,2,  34.6863,2,  34.6861,2,-999.0000,9,   154.66,2,   154.41,2,   99.990,   0.0004,2,   -0.004,2,  -999.00,9,    0.572,4,    0.000,2,   149.65,2,     0.17,    35.90,2,     0.05,     0.00,2,     0.01,     2.50,2,     0.01,  -999.00,9,  -999.00,    0.000,2,    0.000,2,    0.000,2, -999.000,9,   2323.8,6,   2417.0,2,   -999.0,9,   7.5801,       25,2, -999.000,9,    38.51,2, -999.000,9, -999.000,   -999.0,9,   -999.0, -999.000,9, -999.000, -999.000,9, -999.000,   -999.0,9,   -999.0, -999.000,9, -999.000,9, -999.000,9
  49NZ20140717,   P01,    58,  1,      7, X12J07,2,20140723,0109, 40.6239, 149.3828, 5343,   4580.2,2,   1.4739,2,   1.47395,2,  34.6880,2,  34.6881,2,-999.0000,9,   156.98,2,   156.70,2,  100.005,  -0.0002,2,   -0.004,2,  -999.00,9,   -1.377,4,    0.000,2,   148.98,2,     0.17,    35.71,2,     0.05,     0.00,2,     0.01,     2.49,2,     0.01,     0.02,2,     0.01,    0.002,2,    0.000,2,    0.000,2, -999.000,9,   2321.2,2,   2416.0,2,   -999.0,9,   7.5840,       25,6, -999.000,9,    38.36,2, -999.000,9, -999.000,   -999.0,9,   -999.0, -999.000,9, -999.000, -999.000,9, -999.000,   -999.0,9,   -999.0, -999.000,9, -999.000,9, -999.000,9
  49NZ20140717,   P01,    58,  1,      6, X12J06,2,20140723,0109, 40.6239, 149.3828, 5343,   4829.3,2,   1.4924,2,   1.49237,2,  34.6891,2,  34.6893,2,-999.0000,9,   158.45,2,   158.28,2,   99.953,   0.0019,2,   -0.004,2,  -999.00,9,   -1.608,4,    0.000,2,   148.79,2,     0.17,    35.61,2,     0.05,     0.00,2,     0.01,     2.48,2,     0.01,  -999.00,9,  -999.00,    0.002,2,    0.000,2,    0.000,2, -999.000,9,   2321.8,2,   2416.1,6,   -999.0,9,   7.5860,       25,2, -999.000,9,    38.62,2, -999.000,9, -999.000,   -999.0,9,   -999.0, -999.000,9, -999.000, -999.000,9, -999.000,   -999.0,9,   -999.0, -999.000,9, -999.000,9, -999.000,9
  49NZ20140717,   P01,    58,  1,      5, X12J05,2,20140723,0109, 40.6239, 149.3828, 5343,   5080.0,2,   1.5148,2,   1.51492,2,  34.6902,2,  34.6902,2,-999.0000,9,   159.62,2,   159.49,2,   99.845,   0.0062,2,   -0.004,2,  -999.00,9,   -1.668,4,    0.000,2,   147.88,2,     0.17,    35.48,2,     0.05,     0.01,2,     0.01,     2.47,2,     0.01,     0.06,2,     0.02,    0.004,2,    0.002,2,    0.000,2, -999.000,9,   2319.4,2,   2414.4,2,   -999.0,9,   7.5885,       25,2, -999.000,9,    40.32,2, -999.000,9, -999.000,   -999.0,9,   -999.0, -999.000,9, -999.000, -999.000,9, -999.000,   -999.0,9,   -999.0, -999.000,9, -999.000,9, -999.000,9
  49NZ20140717,   P01,    58,  1,      4, X12J04,2,20140723,0109, 40.6239, 149.3828, 5343,   5330.1,2,   1.5384,2,   1.53821,2,  34.6906,2,  34.6909,2,-999.0000,9,   161.30,2,   161.41,2,   99.826,   0.0070,2,   -0.004,2,  -999.00,9,   -1.807,4,    0.000,2,   145.86,2,     0.17,    35.37,2,     0.05,     0.00,2,     0.01,     2.46,2,     0.01,     0.13,2,     0.02,    0.002,2,    0.000,2,    0.000,2, -999.000,9,   2318.5,2,   2415.7,2,   -999.0,9,   7.5899,       25,2, -999.000,9,    41.49,2, -999.000,9, -999.000,   -999.0,9,   -999.0, -999.000,9, -999.000, -999.000,9, -999.000,   -999.0,9,   -999.0, -999.000,9, -999.000,9, -999.000,9
  49NZ20140717,   P01,    58,  1,      3, X12J03,9,20140723,0109, 40.6239, 149.3828, 5343,   -999.0,9,-999.0000,9,-999.00000,9,-999.0000,9,-999.0000,9,-999.0000,9,  -999.00,9,  -999.00,9, -999.000,-999.0000,9, -999.000,9,  -999.00,9, -999.000,9, -999.000,9,  -999.00,9,  -999.00,  -999.00,9,  -999.00,  -999.00,9,  -999.00,  -999.00,9,  -999.00,  -999.00,9,  -999.00, -999.000,9, -999.000,9, -999.000,9, -999.000,9,   -999.0,9,   -999.0,9,   -999.0,9,-999.0000,     -999,9, -999.000,9,  -999.00,9, -999.000,9, -999.000,   -999.0,9,   -999.0, -999.000,9, -999.000, -999.000,9, -999.000,   -999.0,9,   -999.0, -999.000,9, -999.000,9, -999.000,9
  49NZ20140717,   P01,    58,  1,      2, X12J02,9,20140723,0109, 40.6239, 149.3828, 5343,   -999.0,9,-999.0000,9,-999.00000,9,-999.0000,9,-999.0000,9,-999.0000,9,  -999.00,9,  -999.00,9, -999.000,-999.0000,9, -999.000,9,  -999.00,9, -999.000,9, -999.000,9,  -999.00,9,  -999.00,  -999.00,9,  -999.00,  -999.00,9,  -999.00,  -999.00,9,  -999.00,  -999.00,9,  -999.00, -999.000,9, -999.000,9, -999.000,9, -999.000,9,   -999.0,9,   -999.0,9,   -999.0,9,-999.0000,     -999,9, -999.000,9,  -999.00,9, -999.000,9, -999.000,   -999.0,9,   -999.0, -999.000,9, -999.000, -999.000,9, -999.000,   -999.0,9,   -999.0, -999.000,9, -999.000,9, -999.000,9
  49NZ20140717,   P01,    58,  1,      1, X12J01,2,20140723,0109, 40.6239, 149.3828, 5343,   5447.9,2,   1.5509,2,   1.55083,2,  34.6910,2,  34.6913,2,-999.0000,9,   161.10,2,   161.33,2,   99.653,   0.0139,2,   -0.004,2,  -999.00,9,   -1.049,4,    0.000,2,   147.01,2,     0.17,    35.41,2,     0.05,     0.01,2,     0.01,     2.46,2,     0.01,     0.03,2,     0.01,    0.001,2,    0.001,2,    0.000,2, -999.000,9,   2318.4,2,   2412.7,2,   -999.0,9,   7.5901,       25,2, -999.000,9,    35.46,2, -999.000,9, -999.000,   -999.0,9,   -999.0, -999.000,9, -999.000, -999.000,9, -999.000,   -999.0,9,   -999.0, -999.000,9, -999.000,9, -999.000,9