BOTTLE,20230904JAMSTECRIGC
EXPOCODE,SECT,STNNBR,CASTNO,SAMPNO,BTLNBR,BTLNBR_FLAG_W,DATE,TIME,LATITUDE,LONGITUDE,DEPTH,CTDPRS,CTDPRS_FLAG_W,CTDTMP,CTDTMP_FLAG_W,SBE35,SBE35_FLAG_W,CTDSAL,CTDSAL_FLAG_W,SALNTY,SALNTY_FLAG_W,DNSSAL,DNSSAL_FLAG_W,CTDOXY,CTDOXY_FLAG_W,OXYGEN,OXYGEN_FLAG_W,XMISS,XMISSCP,XMISS_FLAG_W,FLUOR,FLUOR_FLAG_W,CHLORA,CHLORA_FLAG_W,CDOM,CDOM_FLAG_W,PAR,PAR_FLAG_W,SILCAT,SILCAT_FLAG_W,SILUNC,NITRAT,NITRAT_FLAG_W,NRAUNC,NITRIT,NITRIT_FLAG_W,NRIUNC,PHSPHT,PHSPHT_FLAG_W,PHPUNC,AMMONIA,AMMONIA_FLAG_W,NH4UNC,CFC-11,CFC-11_FLAG_W,CFC-12,CFC-12_FLAG_W,CFC113,CFC113_FLAG_W,SF6,SF6_FLAG_W,TCARBN,TCARBN_FLAG_W,ALKALI,ALKALI_FLAG_W,ALKALI_POT,ALKALI_POT_FLAG_W,PH_TOT,PH_TMP,PH_TOT_FLAG_W,CALCIUM,CALCIUM_FLAG_W,DOC,DOC_FLAG_W,DELC13,DELC13_FLAG_W,C13ERR,DELC14,DELC14_FLAG_W,C14ERR,CS-134,CS-134_FLAG_W,CS134ER,CS-137,CS-137_FLAG_W,CS137ER,I-129,I-129_FLAG_W,I-129ER,CDOM-325,CDOM-325_FLAG_W,CDOM-370,CDOM-370_FLAG_W,CDOM-443,CDOM-443_FLAG_W
,,,,,,,,UTC,DEG,DEG,METERS,DBAR,,ITS-90,,ITS-90,,PSS-78,,PSS-78,,G/KG,,UMOL/KG,,UMOL/KG,,%TRANS,/METER,,MG/CUM,,MG/CUM,,MG/CUM,,UE/SQM/S,,UMOL/KG,,UMOL/KG,UMOL/KG,,UMOL/KG,UMOL/KG,,UMOL/KG,UMOL/KG,,UMOL/KG,UMOL/KG,,UMOL/KG,PMOL/KG,,PMOL/KG,,PMOL/KG,,FMOL/KG,,UMOL/KG,,UMOL/KG,,UMOL/KG,,,DEG C,,MMOL/KG,,UMOL/KG,,/MILLE,,/MILLE,/MILLE,,/MILLE,MBQ/KG,,MBQ/KG,MBQ/KG,,MBQ/KG,,,,/METER,,/METER,,/METER,
  49NZ20140717,   P01,    96,  1,      0,   -999,9,20140804,1051, 47.0108, 179.4493, 5640,   -999.0,9,-999.0000,9,-999.00000,9,-999.0000,9,  32.7715,2,-999.0000,9,  -999.00,9,  -999.00,9, -999.000,-999.0000,9, -999.000,9,  -999.00,9, -999.000,9, -999.000,9,    22.43,2,     0.09,    13.40,2,     0.02,     0.18,2,     0.01,     1.30,2,     0.01,  -999.00,9,  -999.00, -999.000,9, -999.000,9, -999.000,9, -999.000,9,   -999.0,9,   -999.0,9,   -999.0,9,-999.0000,     -999,9, -999.000,9,  -999.00,9, -999.000,9, -999.000,   -999.0,9,   -999.0, -999.000,9, -999.000, -999.000,9, -999.000,   -999.0,9,   -999.0, -999.000,9, -999.000,9, -999.000,9
  49NZ20140717,   P01,    96,  1,     36, X12J36,2,20140804,1051, 47.0108, 179.4493, 5640,   5499.2,2,   1.5997,2,   1.59964,2,  34.6877,2,  34.6877,2,-999.0000,9,   152.65,2,   152.89,2,   99.942,   0.0023,2,    0.000,2,  -999.00,9,  497.217,4,    0.000,2,  -999.00,9,  -999.00,  -999.00,9,  -999.00,  -999.00,9,  -999.00,  -999.00,9,  -999.00,  -999.00,9,  -999.00, -999.000,9, -999.000,9, -999.000,9, -999.000,9,   -999.0,9,   -999.0,9,   -999.0,9,-999.0000,     -999,9, -999.000,9,  -999.00,9, -999.000,9, -999.000,   -999.0,9,   -999.0, -999.000,9, -999.000, -999.000,9, -999.000,   -999.0,9,   -999.0, -999.000,9, -999.000,9, -999.000,9
  49NZ20140717,   P01,    96,  1,     35, X12J35,2,20140804,1051, 47.0108, 179.4493, 5640,     50.6,2,   5.2964,2,   5.28420,2,  32.9390,2,  32.9465,2,-999.0000,9,   326.97,2,   328.53,2,   97.609,   0.0968,2,    0.446,2,  -999.00,9,    0.579,1,    0.000,2,    26.71,2,     0.09,    16.71,2,     0.03,     0.14,2,     0.01,     1.50,2,     0.01,  -999.00,9,  -999.00,    5.048,2,    2.680,2,    0.501,2, -999.000,9,   -999.0,9,   -999.0,9,   -999.0,9,-999.0000,     -999,9, -999.000,9,  -999.00,9, -999.000,9, -999.000,   -999.0,9,   -999.0, -999.000,9, -999.000, -999.000,9, -999.000,   -999.0,9,   -999.0, -999.000,9, -999.000,9, -999.000,9
  49NZ20140717,   P01,    96,  1,     34, X12J34,2,20140804,1051, 47.0108, 179.4493, 5640,    100.6,2,   4.2885,2,   4.29453,2,  33.0320,2,  33.0285,2,-999.0000,9,   308.38,2,   309.84,2,   99.375,   0.0251,2,    0.203,2,  -999.00,9,    0.798,1,    0.000,2,    26.27,2,     0.09,    17.86,2,     0.03,     0.74,2,     0.01,     1.53,2,     0.01,  -999.00,9,  -999.00,    5.018,2,    2.661,2,    0.499,2, -999.000,9,   -999.0,9,   -999.0,9,   -999.0,9,-999.0000,     -999,9, -999.000,9,  -999.00,9, -999.000,9, -999.000,   -999.0,9,   -999.0, -999.000,9, -999.000, -999.000,9, -999.000,   -999.0,9,   -999.0, -999.000,9, -999.000,9, -999.000,9
  49NZ20140717,   P01,    96,  1,     33, X12J33,2,20140804,1051, 47.0108, 179.4493, 5640,    150.6,2,   3.7074,2,   3.70721,2,  33.5789,2,  33.5814,2,-999.0000,9,   209.26,2,   207.81,2,   99.723,   0.0111,2,    0.021,2,  -999.00,9,    1.943,1,    0.000,2,    53.55,2,     0.11,    28.82,2,     0.04,     0.01,2,     0.01,     2.14,2,     0.01,  -999.00,9,  -999.00,    4.166,2,    2.192,2,    0.326,2, -999.000,9,   -999.0,9,   -999.0,9,   -999.0,9,-999.0000,     -999,9, -999.000,9,  -999.00,9, -999.000,9, -999.000,   -999.0,9,   -999.0, -999.000,9, -999.000, -999.000,9, -999.000,   -999.0,9,   -999.0, -999.000,9, -999.000,9, -999.000,9
  49NZ20140717,   P01,    96,  1,     32, X12J32,2,20140804,1051, 47.0108, 179.4493, 5640,    200.9,2,   3.6497,2,   3.64937,2,  33.6934,2,  33.6913,2,-999.0000,9,   148.15,2,   149.82,2,   99.721,   0.0112,2,    0.012,2,  -999.00,9,    2.316,1,    0.000,2,    68.95,2,     0.12,    34.05,2,     0.05,     0.01,2,     0.01,     2.49,2,     0.01,  -999.00,9,  -999.00,    3.504,2,    1.816,2,    0.275,2, -999.000,9,   -999.0,9,   -999.0,9,   -999.0,9,-999.0000,     -999,9, -999.000,9,  -999.00,9, -999.000,9, -999.000,   -999.0,9,   -999.0, -999.000,9, -999.000, -999.000,9, -999.000,   -999.0,9,   -999.0, -999.000,9, -999.000,9, -999.000,9
  49NZ20140717,   P01,    96,  1,     31, X12J31,2,20140804,1051, 47.0108, 179.4493, 5640,    250.4,2,   3.7650,2,   3.76251,2,  33.7913,2,  33.7917,2,-999.0000,9,   114.17,2,   113.94,2,   99.745,   0.0102,2,    0.015,2,  -999.00,9,    2.495,1,    0.000,2,    78.43,2,     0.12,    36.91,2,     0.05,     0.01,2,     0.01,     2.67,2,     0.01,  -999.00,9,  -999.00,    2.936,2,    1.514,2,    0.218,2, -999.000,9,   -999.0,9,   -999.0,9,   -999.0,9,-999.0000,     -999,9, -999.000,9,  -999.00,9, -999.000,9, -999.000,   -999.0,9,   -999.0, -999.000,9, -999.000, -999.000,9, -999.000,   -999.0,9,   -999.0, -999.000,9, -999.000,9, -999.000,9
  49NZ20140717,   P01,    96,  1,     30, X12J30,2,20140804,1051, 47.0108, 179.4493, 5640,    299.8,2,   3.7651,2,   3.76482,2,  33.8708,2,  33.8737,2,-999.0000,9,    84.06,2,    84.16,2,   99.745,   0.0102,2,    0.015,2,  -999.00,9,    2.629,1,    0.000,2,    87.69,2,     0.13,    39.33,2,     0.05,     0.01,2,     0.01,     2.82,2,     0.01,  -999.00,9,  -999.00,    2.465,2,    1.254,2,    0.185,2, -999.000,9,   -999.0,9,   -999.0,9,   -999.0,9,-999.0000,     -999,9, -999.000,9,  -999.00,9, -999.000,9, -999.000,   -999.0,9,   -999.0, -999.000,9, -999.000, -999.000,9, -999.000,   -999.0,9,   -999.0, -999.000,9, -999.000,9, -999.000,9
  49NZ20140717,   P01,    96,  1,     29, X12J29,2,20140804,1051, 47.0108, 179.4493, 5640,    400.3,2,   3.7461,2,   3.74814,2,  34.0011,2,  33.9981,2,-999.0000,9,    54.73,2,    56.01,2,   99.788,   0.0085,2,    0.016,2,  -999.00,9,    2.867,1,    0.000,2,   100.23,2,     0.14,    41.40,2,     0.05,     0.01,2,     0.01,     2.96,2,     0.01,  -999.00,9,  -999.00,    1.756,2,    0.872,2,    0.103,2, -999.000,9,   -999.0,9,   -999.0,9,   -999.0,9,-999.0000,     -999,9, -999.000,9,  -999.00,9, -999.000,9, -999.000,   -999.0,9,   -999.0, -999.000,9, -999.000, -999.000,9, -999.000,   -999.0,9,   -999.0, -999.000,9, -999.000,9, -999.000,9
  49NZ20140717,   P01,    96,  1,     28, X12J28,2,20140804,1051, 47.0108, 179.4493, 5640,    499.7,2,   3.6730,2,   3.67290,2,  34.1031,2,  34.1025,2,-999.0000,9,    40.90,2,    41.50,2,   99.853,   0.0059,2,    0.016,2,  -999.00,9,    2.946,1,    0.000,2,   110.55,2,     0.14,    42.20,2,     0.05,     0.01,2,     0.01,     3.01,2,     0.01,  -999.00,9,  -999.00,    1.208,2,    0.584,2,    0.072,2, -999.000,9,   -999.0,9,   -999.0,9,   -999.0,9,-999.0000,     -999,9, -999.000,9,  -999.00,9, -999.000,9, -999.000,   -999.0,9,   -999.0, -999.000,9, -999.000, -999.000,9, -999.000,   -999.0,9,   -999.0, -999.000,9, -999.000,9, -999.000,9
  49NZ20140717,   P01,    96,  1,     27, X12J27,2,20140804,1051, 47.0108, 179.4493, 5640,    599.7,2,   3.5513,2,   3.55093,2,  34.1803,2,  34.1799,2,-999.0000,9,    33.99,2,    34.44,2,   99.903,   0.0039,2,    0.015,2,  -999.00,9,    2.982,1,    0.000,2,   118.91,2,     0.15,    42.68,2,     0.05,     0.01,2,     0.01,     3.05,2,     0.01,  -999.00,9,  -999.00,    0.852,2,    0.404,2,    0.049,2, -999.000,9,   -999.0,9,   -999.0,9,   -999.0,9,-999.0000,     -999,9, -999.000,9,  -999.00,9, -999.000,9, -999.000,   -999.0,9,   -999.0, -999.000,9, -999.000, -999.000,9, -999.000,   -999.0,9,   -999.0, -999.000,9, -999.000,9, -999.000,9
  49NZ20140717,   P01,    96,  1,     26, X12J26,2,20140804,1051, 47.0108, 179.4493, 5640,    700.9,2,   3.3393,2,   3.33921,2,  34.2455,2,  34.2456,2,-999.0000,9,    28.86,2,    29.01,2,   99.877,   0.0049,2,    0.015,2,  -999.00,9,    2.988,1,    0.000,2,   127.72,2,     0.15,    43.12,2,     0.05,     0.01,2,     0.01,     3.08,2,     0.01,  -999.00,9,  -999.00,    0.586,2,    0.270,2,    0.029,2, -999.000,9,   -999.0,9,   -999.0,9,   -999.0,9,-999.0000,     -999,9, -999.000,9,  -999.00,9, -999.000,9, -999.000,   -999.0,9,   -999.0, -999.000,9, -999.000, -999.000,9, -999.000,   -999.0,9,   -999.0, -999.000,9, -999.000,9, -999.000,9
  49NZ20140717,   P01,    96,  1,     25, X12J25,2,20140804,1051, 47.0108, 179.4493, 5640,    800.0,2,   3.1531,2,   3.15291,2,  34.3008,2,  34.3008,2,-999.0000,9,    27.99,2,    27.91,2,   99.870,   0.0052,2,    0.014,2,  -999.00,9,    3.033,1,    0.000,2,   134.53,2,     0.16,    43.16,2,     0.05,     0.00,2,     0.01,     3.09,2,     0.01,  -999.00,9,  -999.00,    0.416,2,    0.191,2,    0.024,2, -999.000,9,   -999.0,9,   -999.0,9,   -999.0,9,-999.0000,     -999,9, -999.000,9,  -999.00,9, -999.000,9, -999.000,   -999.0,9,   -999.0, -999.000,9, -999.000, -999.000,9, -999.000,   -999.0,9,   -999.0, -999.000,9, -999.000,9, -999.000,9
  49NZ20140717,   P01,    96,  1,     24, X12J24,2,20140804,1051, 47.0108, 179.4493, 5640,    902.0,2,   2.9960,2,   2.99567,2,  34.3473,2,  34.3477,2,-999.0000,9,    28.92,2,    28.84,2,   99.911,   0.0035,2,    0.013,2,  -999.00,9,    3.039,1,    0.000,2,   140.05,2,     0.16,    43.23,2,     0.05,     0.00,2,     0.01,     3.09,2,     0.01,  -999.00,9,  -999.00,    0.293,2,    0.128,2,    0.017,2, -999.000,9,   -999.0,9,   -999.0,9,   -999.0,9,-999.0000,     -999,9, -999.000,9,  -999.00,9, -999.000,9, -999.000,   -999.0,9,   -999.0, -999.000,9, -999.000, -999.000,9, -999.000,   -999.0,9,   -999.0, -999.000,9, -999.000,9, -999.000,9
  49NZ20140717,   P01,    96,  1,     23, X12J23,2,20140804,1051, 47.0108, 179.4493, 5640,    998.2,2,   2.8187,2,   2.81747,2,  34.3866,2,  34.3883,2,-999.0000,9,    29.08,2,    29.10,2,   99.888,   0.0045,2,    0.013,2,  -999.00,9,    3.060,1,    0.000,2,   146.39,2,     0.17,    43.38,2,     0.05,     0.00,2,     0.01,     3.10,2,     0.01,  -999.00,9,  -999.00,    0.212,2,    0.092,2,    0.009,2, -999.000,9,   -999.0,9,   -999.0,9,   -999.0,9,-999.0000,     -999,9, -999.000,9,  -999.00,9, -999.000,9, -999.000,   -999.0,9,   -999.0, -999.000,9, -999.000, -999.000,9, -999.000,   -999.0,9,   -999.0, -999.000,9, -999.000,9, -999.000,9
  49NZ20140717,   P01,    96,  1,     22, X12J22,2,20140804,1051, 47.0108, 179.4493, 5640,   1198.5,2,   2.5531,2,   2.55219,2,  34.4459,2,  34.4455,2,-999.0000,9,    31.66,2,    31.43,2,   99.909,   0.0036,2,    0.012,2,  -999.00,9,    3.136,1,    0.000,2,   154.70,2,     0.17,    43.42,2,     0.05,     0.00,2,     0.01,     3.10,2,     0.01,  -999.00,9,  -999.00,    0.120,2,    0.051,2,    0.000,2, -999.000,9,   -999.0,9,   -999.0,9,   -999.0,9,-999.0000,     -999,9, -999.000,9,  -999.00,9, -999.000,9, -999.000,   -999.0,9,   -999.0, -999.000,9, -999.000, -999.000,9, -999.000,   -999.0,9,   -999.0, -999.000,9, -999.000,9, -999.000,9
  49NZ20140717,   P01,    96,  1,     21, X12J21,2,20140804,1051, 47.0108, 179.4493, 5640,   1400.1,2,   2.3624,2,   2.36221,2,  34.4894,2,  34.4906,2,-999.0000,9,    36.22,2,    36.47,2,   99.914,   0.0035,2,    0.011,2,  -999.00,9,    3.140,1,    0.000,2,   160.69,2,     0.17,    43.27,2,     0.05,     0.00,2,     0.01,     3.08,2,     0.01,  -999.00,9,  -999.00,    0.068,2,    0.027,2,    0.000,2, -999.000,9,   -999.0,9,   -999.0,9,   -999.0,9,-999.0000,     -999,9, -999.000,9,  -999.00,9, -999.000,9, -999.000,   -999.0,9,   -999.0, -999.000,9, -999.000, -999.000,9, -999.000,   -999.0,9,   -999.0, -999.000,9, -999.000,9, -999.000,9
  49NZ20140717,   P01,    96,  1,     20, X12J20,2,20140804,1051, 47.0108, 179.4493, 5640,   1601.4,2,   2.1934,2,   2.19322,2,  34.5276,2,  34.5285,2,-999.0000,9,    44.19,2,    44.72,2,   99.916,   0.0034,2,    0.010,2,  -999.00,9,    3.031,1,    0.000,2,   164.79,2,     0.18,    42.87,2,     0.05,     0.00,2,     0.01,     3.04,2,     0.01,  -999.00,9,  -999.00,    0.038,2,    0.016,2,    0.000,2, -999.000,9,   -999.0,9,   -999.0,9,   -999.0,9,-999.0000,     -999,9, -999.000,9,  -999.00,9, -999.000,9, -999.000,   -999.0,9,   -999.0, -999.000,9, -999.000, -999.000,9, -999.000,   -999.0,9,   -999.0, -999.000,9, -999.000,9, -999.000,9
  49NZ20140717,   P01,    96,  1,     19, X12J19,2,20140804,1051, 47.0108, 179.4493, 5640,   1799.7,2,   2.0545,2,   2.05437,2,  34.5587,2,  34.5590,2,-999.0000,9,    53.75,2,    54.15,2,   99.944,   0.0022,2,    0.009,2,  -999.00,9,    3.008,1,    0.000,2,   167.33,2,     0.18,    42.28,2,     0.05,     0.00,2,     0.01,     3.00,2,     0.01,  -999.00,9,  -999.00,    0.018,2,    0.008,2,    0.000,2, -999.000,9,   -999.0,9,   -999.0,9,   -999.0,9,-999.0000,     -999,9, -999.000,9,  -999.00,9, -999.000,9, -999.000,   -999.0,9,   -999.0, -999.000,9, -999.000, -999.000,9, -999.000,   -999.0,9,   -999.0, -999.000,9, -999.000,9, -999.000,9
  49NZ20140717,   P01,    96,  1,     18, X12J18,2,20140804,1051, 47.0108, 179.4493, 5640,   2001.2,2,   1.9331,2,   1.93289,2,  34.5846,2,  34.5855,2,-999.0000,9,    65.11,2,    65.27,2,   99.935,   0.0026,2,    0.008,2,  -999.00,9,    2.970,1,    0.000,2,   168.46,2,     0.18,    41.60,2,     0.05,     0.01,2,     0.01,     2.95,2,     0.01,  -999.00,9,  -999.00,    0.007,2,    0.002,2,    0.000,2, -999.000,9,   -999.0,9,   -999.0,9,   -999.0,9,-999.0000,     -999,9, -999.000,9,  -999.00,9, -999.000,9, -999.000,   -999.0,9,   -999.0, -999.000,9, -999.000, -999.000,9, -999.000,   -999.0,9,   -999.0, -999.000,9, -999.000,9, -999.000,9
  49NZ20140717,   P01,    96,  1,     17, X12J17,2,20140804,1051, 47.0108, 179.4493, 5640,   2199.7,2,   1.8290,2,   1.82942,2,  34.6059,2,  34.6060,2,-999.0000,9,    76.65,2,    76.71,2,   99.935,   0.0026,2,    0.007,2,  -999.00,9,    2.903,1,    0.000,2,   168.76,2,     0.18,    40.90,2,     0.05,     0.00,2,     0.01,     2.89,2,     0.01,  -999.00,9,  -999.00,    0.007,2,    0.004,2,    0.000,2, -999.000,9,   -999.0,9,   -999.0,9,   -999.0,9,-999.0000,     -999,9, -999.000,9,  -999.00,9, -999.000,9, -999.000,   -999.0,9,   -999.0, -999.000,9, -999.000, -999.000,9, -999.000,   -999.0,9,   -999.0, -999.000,9, -999.000,9, -999.000,9
  49NZ20140717,   P01,    96,  1,     16, X12J16,2,20140804,1051, 47.0108, 179.4493, 5640,   2400.7,2,   1.7476,2,   1.74782,2,  34.6223,2,  34.6231,2,-999.0000,9,    87.13,2,    87.87,2,   99.918,   0.0033,2,    0.006,2,  -999.00,9,    2.812,1,    0.000,2,   168.18,2,     0.18,    40.24,2,     0.05,     0.00,2,     0.01,     2.84,2,     0.01,  -999.00,9,  -999.00,    0.002,2,    0.000,2,    0.000,2, -999.000,9,   -999.0,9,   -999.0,9,   -999.0,9,-999.0000,     -999,9, -999.000,9,  -999.00,9, -999.000,9, -999.000,   -999.0,9,   -999.0, -999.000,9, -999.000, -999.000,9, -999.000,   -999.0,9,   -999.0, -999.000,9, -999.000,9, -999.000,9
  49NZ20140717,   P01,    96,  1,     15, X12J15,2,20140804,1051, 47.0108, 179.4493, 5640,   2600.1,2,   1.6749,2,   1.67478,2,  34.6358,2,  34.6362,2,-999.0000,9,    97.90,2,    97.90,2,   99.950,   0.0020,2,    0.005,2,  -999.00,9,    2.787,1,    0.000,2,   167.37,2,     0.18,    39.62,2,     0.05,     0.00,2,     0.01,     2.80,2,     0.01,  -999.00,9,  -999.00,    0.000,2,    0.000,2,    0.000,2, -999.000,9,   -999.0,9,   -999.0,9,   -999.0,9,-999.0000,     -999,9, -999.000,9,  -999.00,9, -999.000,9, -999.000,   -999.0,9,   -999.0, -999.000,9, -999.000, -999.000,9, -999.000,   -999.0,9,   -999.0, -999.000,9, -999.000,9, -999.000,9
  49NZ20140717,   P01,    96,  1,     14, X12J14,2,20140804,1051, 47.0108, 179.4493, 5640,   2798.4,2,   1.6204,2,   1.62043,2,  34.6466,2,  34.6461,2,-999.0000,9,   107.03,2,   106.98,2,   99.981,   0.0008,2,    0.004,2,  -999.00,9,    2.710,1,    0.000,2,   166.18,2,     0.18,    39.06,2,     0.05,     0.00,2,     0.01,     2.76,2,     0.01,  -999.00,9,  -999.00,    0.000,2,    0.000,2,    0.000,2, -999.000,9,   -999.0,9,   -999.0,9,   -999.0,9,-999.0000,     -999,9, -999.000,9,  -999.00,9, -999.000,9, -999.000,   -999.0,9,   -999.0, -999.000,9, -999.000, -999.000,9, -999.000,   -999.0,9,   -999.0, -999.000,9, -999.000,9, -999.000,9
  49NZ20140717,   P01,    96,  1,     13, X12113,2,20140804,1051, 47.0108, 179.4493, 5640,   3001.0,2,   1.5776,2,   1.57754,2,  34.6552,2,  34.6554,2,-999.0000,9,   115.60,2,   115.65,2,   99.991,   0.0003,2,    0.003,2,  -999.00,9,    2.676,1,    0.000,2,   163.88,2,     0.18,    38.42,2,     0.05,     0.00,2,     0.01,     2.70,2,     0.01,  -999.00,9,  -999.00,    0.001,2,    0.000,2,    0.000,2, -999.000,9,   -999.0,9,   -999.0,9,   -999.0,9,-999.0000,     -999,9, -999.000,9,  -999.00,9, -999.000,9, -999.000,   -999.0,9,   -999.0, -999.000,9, -999.000, -999.000,9, -999.000,   -999.0,9,   -999.0, -999.000,9, -999.000,9, -999.000,9
  49NZ20140717,   P01,    96,  1,     12, X12J12,2,20140804,1051, 47.0108, 179.4493, 5640,   3250.5,2,   1.5330,2,   1.53322,2,  34.6643,2,  34.6640,2,-999.0000,9,   125.41,2,   125.43,2,   99.985,   0.0006,2,    0.003,2,  -999.00,9,    2.596,1,    0.000,2,   161.52,2,     0.17,    37.81,2,     0.05,     0.00,2,     0.01,     2.65,2,     0.01,  -999.00,9,  -999.00,    0.000,2,    0.000,2,    0.000,2, -999.000,9,   -999.0,9,   -999.0,9,   -999.0,9,-999.0000,     -999,9, -999.000,9,  -999.00,9, -999.000,9, -999.000,   -999.0,9,   -999.0, -999.000,9, -999.000, -999.000,9, -999.000,   -999.0,9,   -999.0, -999.000,9, -999.000,9, -999.000,9
  49NZ20140717,   P01,    96,  1,     11, X12J11,2,20140804,1051, 47.0108, 179.4493, 5640,   3499.3,2,   1.4978,2,   1.49778,2,  34.6717,2,  34.6718,2,-999.0000,9,   134.25,2,   134.44,2,   99.991,   0.0003,2,    0.002,2,  -999.00,9,    2.569,1,    0.000,2,   159.08,2,     0.17,    37.25,2,     0.05,     0.00,2,     0.01,     2.61,2,     0.01,  -999.00,9,  -999.00,    0.000,2,    0.000,2,    0.000,2, -999.000,9,   -999.0,9,   -999.0,9,   -999.0,9,-999.0000,     -999,9, -999.000,9,  -999.00,9, -999.000,9, -999.000,   -999.0,9,   -999.0, -999.000,9, -999.000, -999.000,9, -999.000,   -999.0,9,   -999.0, -999.000,9, -999.000,9, -999.000,9
  49NZ20140717,   P01,    96,  1,     10, X12J10,2,20140804,1051, 47.0108, 179.4493, 5640,   3749.6,2,   1.4774,2,   1.47740,2,  34.6772,2,  34.6773,2,-999.0000,9,   140.91,2,   140.83,2,   99.989,   0.0004,2,    0.002,2,  -999.00,9,    2.471,1,    0.000,2,   157.48,2,     0.17,    36.83,2,     0.05,     0.00,2,     0.01,     2.57,2,     0.01,  -999.00,9,  -999.00,    0.000,2,    0.000,2,    0.000,2, -999.000,9,   -999.0,9,   -999.0,9,   -999.0,9,-999.0000,     -999,9, -999.000,9,  -999.00,9, -999.000,9, -999.000,   -999.0,9,   -999.0, -999.000,9, -999.000, -999.000,9, -999.000,   -999.0,9,   -999.0, -999.000,9, -999.000,9, -999.000,9