BOTTLE,20230904JAMSTECRIGC
EXPOCODE,SECT,STNNBR,CASTNO,SAMPNO,BTLNBR,BTLNBR_FLAG_W,DATE,TIME,LATITUDE,LONGITUDE,DEPTH,CTDPRS,CTDPRS_FLAG_W,CTDTMP,CTDTMP_FLAG_W,SBE35,SBE35_FLAG_W,CTDSAL,CTDSAL_FLAG_W,SALNTY,SALNTY_FLAG_W,DNSSAL,DNSSAL_FLAG_W,CTDOXY,CTDOXY_FLAG_W,OXYGEN,OXYGEN_FLAG_W,XMISS,XMISSCP,XMISS_FLAG_W,FLUOR,FLUOR_FLAG_W,CHLORA,CHLORA_FLAG_W,CDOM,CDOM_FLAG_W,PAR,PAR_FLAG_W,SILCAT,SILCAT_FLAG_W,SILUNC,NITRAT,NITRAT_FLAG_W,NRAUNC,NITRIT,NITRIT_FLAG_W,NRIUNC,PHSPHT,PHSPHT_FLAG_W,PHPUNC,AMMONIA,AMMONIA_FLAG_W,NH4UNC,CFC-11,CFC-11_FLAG_W,CFC-12,CFC-12_FLAG_W,CFC113,CFC113_FLAG_W,SF6,SF6_FLAG_W,TCARBN,TCARBN_FLAG_W,ALKALI,ALKALI_FLAG_W,ALKALI_POT,ALKALI_POT_FLAG_W,PH_TOT,PH_TMP,PH_TOT_FLAG_W,CALCIUM,CALCIUM_FLAG_W,DOC,DOC_FLAG_W,DELC13,DELC13_FLAG_W,C13ERR,DELC14,DELC14_FLAG_W,C14ERR,CS-134,CS-134_FLAG_W,CS134ER,CS-137,CS-137_FLAG_W,CS137ER,I-129,I-129_FLAG_W,I-129ER,CDOM-325,CDOM-325_FLAG_W,CDOM-370,CDOM-370_FLAG_W,CDOM-443,CDOM-443_FLAG_W
,,,,,,,,UTC,DEG,DEG,METERS,DBAR,,ITS-90,,ITS-90,,PSS-78,,PSS-78,,G/KG,,UMOL/KG,,UMOL/KG,,%TRANS,/METER,,MG/CUM,,MG/CUM,,MG/CUM,,UE/SQM/S,,UMOL/KG,,UMOL/KG,UMOL/KG,,UMOL/KG,UMOL/KG,,UMOL/KG,UMOL/KG,,UMOL/KG,UMOL/KG,,UMOL/KG,PMOL/KG,,PMOL/KG,,PMOL/KG,,FMOL/KG,,UMOL/KG,,UMOL/KG,,UMOL/KG,,,DEG C,,MMOL/KG,,UMOL/KG,,/MILLE,,/MILLE,/MILLE,,/MILLE,MBQ/KG,,MBQ/KG,MBQ/KG,,MBQ/KG,,,,/METER,,/METER,,/METER,
  49NZ20140717,   P01,   105,  1,      0,   -999,9,20140808,0933, 46.9955,-170.4248, 5407,   -999.0,9,-999.0000,9,-999.00000,9,-999.0000,9,  32.9504,2,-999.0000,9,  -999.00,9,  -999.00,9, -999.000,-999.0000,9, -999.000,9,     0.40,2, -999.000,9, -999.000,9,    16.34,2,     0.09,    11.04,2,     0.02,     0.16,2,     0.01,     1.08,2,     0.01,     0.10,2,     0.02, -999.000,9, -999.000,9, -999.000,9, -999.000,9,   -999.0,9,   -999.0,9,   -999.0,9,-999.0000,     -999,9, -999.000,9,  -999.00,9, -999.000,9, -999.000,   -999.0,9,   -999.0, -999.000,9, -999.000, -999.000,9, -999.000,   -999.0,9,   -999.0,    0.134,2,    0.048,2,    0.016,2
  49NZ20140717,   P01,   105,  1,     36, X12J36,2,20140808,0933, 46.9955,-170.4248, 5407,     10.2,2,  13.0962,2,  13.10413,2,  32.9481,2,  32.9485,2,-999.0000,9,   273.63,2,   273.97,2,   95.908,   0.1671,2,    0.461,2,     0.35,2,   -0.638,1,    0.335,2,    16.34,2,     0.09,    11.06,2,     0.02,     0.15,2,     0.01,     1.09,2,     0.01,     0.20,2,     0.02,    3.375,2,    1.835,2,    0.324,2,    3.550,2,   2037.9,2,   2220.2,2,   -999.0,9,   7.8443,       25,2, -999.000,9,    59.95,2, -999.000,9, -999.000,   -999.0,9,   -999.0, -999.000,9, -999.000, -999.000,9, -999.000,   -999.0,9,   -999.0,    0.169,2,    0.087,2,    0.042,2
  49NZ20140717,   P01,   105,  1,     35, X12J35,2,20140808,0933, 46.9955,-170.4248, 5407,     49.9,2,   6.5923,2,   6.58349,2,  33.0791,2,  33.0787,2,-999.0000,9,   322.77,2,   322.96,2,   97.793,   0.0892,2,    0.372,2,     0.30,2,    0.614,1,    0.000,2,    19.48,2,     0.09,    13.19,2,     0.02,     0.11,2,     0.01,     1.26,2,     0.01,     0.51,2,     0.03,    4.616,2,    2.458,2,    0.422,2,    4.370,2,   2068.1,6,   2229.7,2,   -999.0,9,   7.7866,       25,2, -999.000,9,    56.55,2, -999.000,9, -999.000,   -999.0,9,   -999.0, -999.000,9, -999.000, -999.000,9, -999.000,   -999.0,9,   -999.0,    0.219,2,    0.104,2,    0.044,2
  49NZ20140717,   P01,   105,  1,     34, X12J34,2,20140808,0933, 46.9955,-170.4248, 5407,    101.0,2,   5.5910,2,   5.59356,2,  33.1580,2,  33.1606,2,-999.0000,9,   299.60,2,   299.53,2,   99.339,   0.0265,2,    0.183,2,     0.20,2,    0.558,1,    0.000,2,    20.35,2,     0.09,    15.60,2,     0.03,     0.21,2,     0.01,     1.34,2,     0.01,     0.01,2,     0.01,    4.619,2,    2.463,2,    0.425,2,    4.250,2,   2089.1,2,   2228.2,2,   -999.0,9,   7.7382,       25,2, -999.000,9,    52.96,2, -999.000,9, -999.000,   -999.0,9,   -999.0, -999.000,9, -999.000, -999.000,9, -999.000,   -999.0,9,   -999.0,    0.165,2,    0.080,2,    0.038,2
  49NZ20140717,   P01,   105,  1,     33, X12J33,2,20140808,0933, 46.9955,-170.4248, 5407,    151.4,2,   5.0151,2,   5.01449,2,  33.6164,2,  33.6189,2,-999.0000,9,   252.06,2,   251.24,2,   99.744,   0.0102,2,    0.016,2,     0.01,2,    1.291,1,    0.000,2,    35.94,2,     0.10,    22.20,2,     0.03,     0.01,2,     0.01,     1.67,2,     0.01,     0.01,2,     0.01,    4.318,2,    2.271,2,    0.322,2,    3.530,2,   2150.7,2,   2257.3,2,   -999.0,9,   7.6410,       25,6, -999.000,9,    47.39,2, -999.000,9, -999.000,   -999.0,9,   -999.0, -999.000,9, -999.000, -999.000,9, -999.000,   -999.0,9,   -999.0, -999.000,9, -999.000,9, -999.000,9
  49NZ20140717,   P01,   105,  1,     32, X12J32,2,20140808,0933, 46.9955,-170.4248, 5407,    201.1,2,   4.6947,2,   4.69850,2,  33.7170,2,  33.7182,2,-999.0000,9,   185.54,2,   184.51,2,   99.653,   0.0139,2,    0.016,2,     0.01,2,    1.944,1,    0.000,2,    53.41,2,     0.11,    28.70,2,     0.04,     0.01,2,     0.01,     2.11,2,     0.01,     0.01,2,     0.01,    3.724,2,    1.917,2,    0.259,2,    2.690,2,   2202.3,2,   2271.7,6,   -999.0,9,   7.5275,       25,2, -999.000,9,    49.47,2, -999.000,9, -999.000,   -999.0,9,   -999.0, -999.000,9, -999.000, -999.000,9, -999.000,   -999.0,9,   -999.0,    0.210,2,    0.104,2,    0.044,2
  49NZ20140717,   P01,   105,  1,     31, X12J31,2,20140808,0933, 46.9955,-170.4248, 5407,    251.1,2,   4.1225,2,   4.12305,2,  33.7463,2,  33.7461,2,-999.0000,9,   140.28,2,   140.16,2,   99.818,   0.0073,2,    0.016,2,     0.00,2,    2.360,1,    0.000,2,    67.66,2,     0.12,    33.91,2,     0.05,     0.00,2,     0.01,     2.47,2,     0.01,     0.00,2,     0.01,    3.387,2,    1.712,2,    0.226,2,    2.140,2,   2245.6,2,   2279.2,2,   -999.0,9,   7.4287,       25,2, -999.000,9,    46.83,2, -999.000,9, -999.000,   -999.0,9,   -999.0, -999.000,9, -999.000, -999.000,9, -999.000,   -999.0,9,   -999.0, -999.000,9, -999.000,9, -999.000,9
  49NZ20140717,   P01,   105,  1,     30, X12J30,2,20140808,0933, 46.9955,-170.4248, 5407,    299.8,2,   4.0632,2,   4.06290,2,  33.8290,2,  33.8283,2,-999.0000,9,   109.28,2,   109.15,2,   99.837,   0.0065,2,    0.017,2,  -999.00,9,    2.445,1,    0.000,2,    76.98,2,     0.12,    36.58,2,     0.05,     0.00,2,     0.01,     2.64,2,     0.01,     0.00,2,     0.01,    2.920,2,    1.457,2,    0.192,2,    1.590,2,   2269.6,2,   2290.3,2,   -999.0,9,   7.3808,       25,2, -999.000,9,    48.96,3, -999.000,9, -999.000,   -999.0,9,   -999.0, -999.000,9, -999.000, -999.000,9, -999.000,   -999.0,9,   -999.0, -999.000,9, -999.000,9, -999.000,9
  49NZ20140717,   P01,   105,  1,     29, X12J29,2,20140808,0933, 46.9955,-170.4248, 5407,    399.6,2,   4.0640,2,   4.06391,2,  33.9829,2,  33.9828,2,-999.0000,9,    72.37,2,    72.73,2,   99.842,   0.0063,2,    0.018,2,  -999.00,9,    2.731,1,    0.000,2,    91.39,2,     0.13,    39.42,2,     0.05,     0.00,2,     0.01,     2.82,2,     0.01,     0.01,2,     0.01,    2.053,2,    1.007,2,    0.130,2,    1.000,2,   2300.4,2,   2307.5,2,   -999.0,9,   7.3446,       25,2, -999.000,9,    44.63,2, -999.000,9, -999.000,   -999.0,9,   -999.0, -999.000,9, -999.000, -999.000,9, -999.000,   -999.0,9,   -999.0, -999.000,9, -999.000,9, -999.000,9
  49NZ20140717,   P01,   105,  1,     28, X12J28,2,20140808,0933, 46.9955,-170.4248, 5407,    499.7,2,   3.7487,2,   3.74827,2,  34.0616,2,  34.0614,2,-999.0000,9,    45.72,2,    46.09,2,   99.852,   0.0059,2,    0.019,2,  -999.00,9,    2.920,1,    0.000,2,   105.21,2,     0.14,    41.92,2,     0.05,     0.00,2,     0.01,     2.99,2,     0.01,     0.01,2,     0.01,    1.460,2,    0.708,2,    0.093,2,    0.600,2,   2328.4,2,   2323.6,2,   -999.0,9,   7.3033,       25,2, -999.000,9,    43.91,2, -999.000,9, -999.000,   -999.0,9,   -999.0, -999.000,9, -999.000, -999.000,9, -999.000,   -999.0,9,   -999.0,    0.212,2,    0.098,2,    0.040,2
  49NZ20140717,   P01,   105,  1,     27, X12J27,2,20140808,0933, 46.9955,-170.4248, 5407,    599.5,2,   3.5959,2,   3.59578,2,  34.1561,2,  34.1557,2,-999.0000,9,    32.05,2,    32.22,2,   99.898,   0.0041,2,    0.019,2,  -999.00,9,    2.934,1,    0.000,2,   116.23,2,     0.15,    42.84,2,     0.05,     0.00,2,     0.01,     3.06,2,     0.01,     0.01,2,     0.01,    0.944,2,    0.462,2,    0.057,2,    0.360,2,   2344.8,2,   2334.7,2,   -999.0,9,   7.2961,       25,2, -999.000,9,    40.43,2, -999.000,9, -999.000,   -999.0,9,   -999.0, -999.000,9, -999.000, -999.000,9, -999.000,   -999.0,9,   -999.0, -999.000,9, -999.000,9, -999.000,9
  49NZ20140717,   P01,   105,  1,     26, X12J26,2,20140808,0933, 46.9955,-170.4248, 5407,    700.6,2,   3.4414,2,   3.44141,2,  34.2244,2,  34.2258,2,-999.0000,9,    30.86,2,    30.97,2,   99.870,   0.0052,2,    0.018,2,  -999.00,9,    3.067,1,    0.000,2,   123.80,2,     0.15,    42.92,2,     0.05,     0.00,2,     0.01,     3.07,2,     0.01,     0.01,2,     0.01,    0.661,2,    0.330,2,    0.035,2,    0.250,2,   2352.5,6,   2348.8,2,   -999.0,9,   7.3062,       25,2, -999.000,9,    41.68,2, -999.000,9, -999.000,   -999.0,9,   -999.0, -999.000,9, -999.000, -999.000,9, -999.000,   -999.0,9,   -999.0, -999.000,9, -999.000,9, -999.000,9
  49NZ20140717,   P01,   105,  1,     25, X12J25,2,20140808,0933, 46.9955,-170.4248, 5407,    799.8,2,   3.2391,2,   3.23908,2,  34.2892,2,  34.2887,2,-999.0000,9,    28.56,2,    28.55,2,   99.874,   0.0050,2,    0.017,2,  -999.00,9,    3.070,1,    0.000,2,   131.57,2,     0.16,    43.11,2,     0.05,     0.01,2,     0.01,     3.09,2,     0.01,     0.02,2,     0.01,    0.422,2,    0.218,2,    0.020,2,    0.130,2,   2362.4,2,   2359.8,2,   -999.0,9,   7.3127,       25,2, -999.000,9,  -999.00,9, -999.000,9, -999.000,   -999.0,9,   -999.0, -999.000,9, -999.000, -999.000,9, -999.000,   -999.0,9,   -999.0,    0.201,2,    0.088,2,    0.034,2
  49NZ20140717,   P01,   105,  1,     24, X12J24,2,20140808,0933, 46.9955,-170.4248, 5407,    899.1,2,   3.0623,2,   3.06205,2,  34.3359,2,  34.3358,2,-999.0000,9,    27.48,2,    27.28,2,   99.909,   0.0037,2,    0.016,2,  -999.00,9,    3.096,1,    0.000,2,   138.10,2,     0.16,    43.26,2,     0.05,     0.01,2,     0.01,     3.10,2,     0.01,     0.02,2,     0.01,    0.287,2,    0.152,2,    0.015,2,    0.080,2,   2366.1,2,   2368.4,2,   -999.0,9,   7.3158,       25,6, -999.000,9,    42.86,2, -999.000,9, -999.000,   -999.0,9,   -999.0, -999.000,9, -999.000, -999.000,9, -999.000,   -999.0,9,   -999.0, -999.000,9, -999.000,9, -999.000,9
  49NZ20140717,   P01,   105,  1,     23, X12J23,2,20140808,0933, 46.9955,-170.4248, 5407,   1000.5,2,   2.8787,2,   2.87831,2,  34.3722,2,  34.3720,2,-999.0000,9,    26.96,2,    26.67,2,   99.878,   0.0049,2,    0.016,2,  -999.00,9,    3.165,1,    0.000,2,   144.59,2,     0.16,    43.46,2,     0.05,     0.00,2,     0.01,     3.11,2,     0.01,     0.01,2,     0.01,    0.216,2,    0.115,2,    0.011,2,    0.000,2,   2375.3,2,   2374.6,2,   -999.0,9,   7.3187,       25,2, -999.000,9,    40.81,2, -999.000,9, -999.000,   -999.0,9,   -999.0, -999.000,9, -999.000, -999.000,9, -999.000,   -999.0,9,   -999.0,    0.226,2,    0.110,2,    0.048,2
  49NZ20140717,   P01,   105,  1,     22, X12J22,2,20140808,0933, 46.9955,-170.4248, 5407,   1200.9,2,   2.6090,2,   2.60728,2,  34.4352,2,  34.4359,2,-999.0000,9,    28.74,2,    28.38,2,   99.900,   0.0040,2,    0.015,2,  -999.00,9,    3.100,1,    0.000,2,   153.56,2,     0.17,    43.62,2,     0.05,     0.00,2,     0.01,     3.11,2,     0.01,     0.01,2,     0.01,    0.107,2,    0.060,2,    0.006,2,    0.000,2,   2384.3,2,   2386.7,6,   -999.0,9,   7.3285,       25,2, -999.000,9,    40.32,2, -999.000,9, -999.000,   -999.0,9,   -999.0, -999.000,9, -999.000, -999.000,9, -999.000,   -999.0,9,   -999.0, -999.000,9, -999.000,9, -999.000,9
  49NZ20140717,   P01,   105,  1,     21, X12J21,2,20140808,0933, 46.9955,-170.4248, 5407,   1400.2,2,   2.3983,2,   2.39828,2,  34.4829,2,  34.4855,3,-999.0000,9,    33.12,2,    32.80,2,   99.913,   0.0035,2,    0.014,2,  -999.00,9,    3.137,1,    0.000,2,   159.87,2,     0.17,    43.46,2,     0.05,     0.00,2,     0.01,     3.10,2,     0.01,     0.01,2,     0.01,    0.058,2,    0.032,2,    0.004,2,    0.000,2,   2386.5,2,   2395.6,2,   -999.0,9,   7.3417,       25,2, -999.000,9,    37.59,2, -999.000,9, -999.000,   -999.0,9,   -999.0, -999.000,9, -999.000, -999.000,9, -999.000,   -999.0,9,   -999.0, -999.000,9, -999.000,9, -999.000,9
  49NZ20140717,   P01,   105,  1,     20, X12J20,2,20140808,0933, 46.9955,-170.4248, 5407,   1601.3,2,   2.2293,2,   2.22910,2,  34.5202,2,  34.5198,2,-999.0000,9,    40.42,2,    40.40,2,   99.928,   0.0029,2,    0.013,2,  -999.00,9,    3.096,1,    0.000,2,   164.44,2,     0.18,    43.08,2,     0.05,     0.00,2,     0.01,     3.06,2,     0.01,     0.01,2,     0.01,    0.032,2,    0.018,2,    0.003,2,    0.000,2,   2388.0,2,   2403.1,2,   -999.0,9,   7.3584,       25,6, -999.000,9,    40.28,2, -999.000,9, -999.000,   -999.0,9,   -999.0, -999.000,9, -999.000, -999.000,9, -999.000,   -999.0,9,   -999.0, -999.000,9, -999.000,9, -999.000,9
  49NZ20140717,   P01,   105,  1,     19, X12J19,2,20140808,0933, 46.9955,-170.4248, 5407,   1797.7,2,   2.0857,2,   2.08715,2,  34.5540,2,  34.5534,2,-999.0000,9,    50.05,2,    49.69,2,   99.926,   0.0030,2,    0.012,2,  -999.00,9,    3.143,1,    0.000,2,   167.05,2,     0.18,    42.61,2,     0.05,     0.00,2,     0.01,     3.02,2,     0.01,     0.00,2,     0.01,    0.014,2,    0.007,2,    0.002,2,    0.000,2,   2384.6,2,   2408.6,2,   -999.0,9,   7.3797,       25,2, -999.000,9,    40.66,2, -999.000,9, -999.000,   -999.0,9,   -999.0, -999.000,9, -999.000, -999.000,9, -999.000,   -999.0,9,   -999.0, -999.000,9, -999.000,9, -999.000,9
  49NZ20140717,   P01,   105,  1,     18, X12J18,2,20140808,0933, 46.9955,-170.4248, 5407,   2001.2,2,   1.9575,2,   1.95732,2,  34.5810,2,  34.5814,2,-999.0000,9,    60.57,2,    60.73,2,   99.915,   0.0034,2,    0.011,2,  -999.00,9,    3.056,1,    0.000,2,   168.61,2,     0.18,    41.89,2,     0.05,     0.00,2,     0.01,     2.96,2,     0.01,     0.01,2,     0.01,    0.004,2,    0.002,2,    0.001,2,    0.000,2,   2380.4,2,   2411.2,2,   -999.0,9,   7.4030,       25,2, -999.000,9,    40.99,2, -999.000,9, -999.000,   -999.0,9,   -999.0, -999.000,9, -999.000, -999.000,9, -999.000,   -999.0,9,   -999.0,    0.212,2,    0.103,2,    0.046,2
  49NZ20140717,   P01,   105,  1,     17, X12J17,2,20140808,0933, 46.9955,-170.4248, 5407,   2202.7,2,   1.8569,2,   1.85701,2,  34.6019,2,  34.6021,2,-999.0000,9,    70.70,2,    70.77,2,   99.922,   0.0031,2,    0.010,2,  -999.00,9,    2.943,1,    0.000,2,   169.53,2,     0.18,    41.38,2,     0.05,     0.01,2,     0.01,     2.92,2,     0.01,     0.01,2,     0.01,    0.001,2,    0.001,2,    0.001,2,    0.000,2,   2377.1,2,   2416.2,2,   -999.0,9,   7.4248,       25,2, -999.000,9,    39.29,2, -999.000,9, -999.000,   -999.0,9,   -999.0, -999.000,9, -999.000, -999.000,9, -999.000,   -999.0,9,   -999.0, -999.000,9, -999.000,9, -999.000,9
  49NZ20140717,   P01,   105,  1,     16, X12J16,2,20140808,0933, 46.9955,-170.4248, 5407,   2398.6,2,   1.7662,2,   1.76628,2,  34.6198,2,  34.6201,2,-999.0000,9,    82.20,2,    82.12,2,   99.952,   0.0019,2,    0.009,2,  -999.00,9,    2.835,1,    0.000,2,   169.48,2,     0.18,    40.52,2,     0.05,     0.00,2,     0.01,     2.87,2,     0.01,     0.00,2,     0.01,    0.000,2,    0.000,2,    0.000,2,    0.000,2,   2370.8,6,   2416.3,2,   -999.0,9,   7.4466,       25,2, -999.000,9,    39.38,2, -999.000,9, -999.000,   -999.0,9,   -999.0, -999.000,9, -999.000, -999.000,9, -999.000,   -999.0,9,   -999.0, -999.000,9, -999.000,9, -999.000,9
  49NZ20140717,   P01,   105,  1,     15, X12J15,2,20140808,0933, 46.9955,-170.4248, 5407,   2599.3,2,   1.6945,2,   1.69453,2,  34.6341,2,  34.6340,2,-999.0000,9,    91.38,2,    91.57,2,   99.976,   0.0010,2,    0.008,2,  -999.00,9,    2.832,1,    0.000,2,   169.47,2,     0.18,    40.12,2,     0.05,     0.01,2,     0.01,     2.83,2,     0.01,     0.00,2,     0.01,    0.001,2,    0.000,2,    0.000,2,    0.000,2,   2366.7,2,   2420.8,2,   -999.0,9,   7.4654,       25,2, -999.000,9,    37.49,2, -999.000,9, -999.000,   -999.0,9,   -999.0, -999.000,9, -999.000, -999.000,9, -999.000,   -999.0,9,   -999.0, -999.000,9, -999.000,9, -999.000,9
  49NZ20140717,   P01,   105,  1,     14, X12J14,2,20140808,0933, 46.9955,-170.4248, 5407,   2800.4,2,   1.6370,2,   1.63714,2,  34.6450,2,  34.6448,2,-999.0000,9,   101.66,2,   101.80,2,   99.978,   0.0009,2,    0.007,2,  -999.00,9,    2.743,1,    0.000,2,   167.74,2,     0.18,    39.45,2,     0.05,     0.00,2,     0.01,     2.78,2,     0.01,     0.01,2,     0.01,    0.000,2,    0.000,2,    0.000,2,    0.000,2,   2359.0,2,   2418.8,2,   -999.0,9,   7.4849,       25,6, -999.000,9,    40.69,2, -999.000,9, -999.000,   -999.0,9,   -999.0, -999.000,9, -999.000, -999.000,9, -999.000,   -999.0,9,   -999.0, -999.000,9, -999.000,9, -999.000,9
  49NZ20140717,   P01,   105,  1,     13, X12113,2,20140808,0933, 46.9955,-170.4248, 5407,   3000.0,2,   1.5933,2,   1.59342,2,  34.6536,2,  34.6535,2,-999.0000,9,   110.49,2,   110.41,2,   99.978,   0.0009,2,    0.007,2,  -999.00,9,    2.674,1,    0.000,2,   165.71,2,     0.18,    38.82,2,     0.05,     0.00,2,     0.01,     2.72,2,     0.01,     0.02,2,     0.01,    0.000,2,    0.000,2,    0.000,2,    0.000,2,   2353.8,2,   2418.5,2,   -999.0,9,   7.5022,       25,2, -999.000,9,    39.68,2, -999.000,9, -999.000,   -999.0,9,   -999.0, -999.000,9, -999.000, -999.000,9, -999.000,   -999.0,9,   -999.0,    0.284,2,    0.151,2,    0.069,2
  49NZ20140717,   P01,   105,  1,     12, X12J12,2,20140808,0933, 46.9955,-170.4248, 5407,   3251.4,2,   1.5445,2,   1.54470,2,  34.6629,2,  34.6625,2,-999.0000,9,   121.54,2,   121.50,2,   99.982,   0.0007,2,    0.006,2,  -999.00,9,    2.541,1,    0.000,2,   163.44,2,     0.18,    38.08,2,     0.05,     0.00,2,     0.01,     2.67,2,     0.01,     0.01,2,     0.01,    0.000,2,    0.000,2,    0.000,2,    0.000,2,   2347.1,2,   2419.8,6,   -999.0,9,   7.5223,       25,2, -999.000,9,    39.62,2, -999.000,9, -999.000,   -999.0,9,   -999.0, -999.000,9, -999.000, -999.000,9, -999.000,   -999.0,9,   -999.0, -999.000,9, -999.000,9, -999.000,9
  49NZ20140717,   P01,   105,  1,     11, X12J11,2,20140808,0933, 46.9955,-170.4248, 5407,   3500.1,2,   1.5070,2,   1.50719,2,  34.6707,2,  34.6702,2,-999.0000,9,   131.01,2,   130.92,2,   99.991,   0.0004,2,    0.005,2,  -999.00,9,    2.275,4,    0.000,2,   161.19,2,     0.17,    37.50,2,     0.05,     0.00,2,     0.01,     2.62,2,     0.01,     0.00,2,     0.01,    0.000,2,    0.000,2,    0.000,2,    0.000,2,   2339.5,2,   2422.2,2,   -999.0,9,   7.5397,       25,2, -999.000,9,    40.46,2, -999.000,9, -999.000,   -999.0,9,   -999.0, -999.000,9, -999.000, -999.000,9, -999.000,   -999.0,9,   -999.0, -999.000,9, -999.000,9, -999.000,9
  49NZ20140717,   P01,   105,  1,     10, X12J10,2,20140808,0933, 46.9955,-170.4248, 5407,   3751.0,2,   1.4861,2,   1.48625,2,  34.6763,2,  34.6764,2,-999.0000,9,   137.96,2,   137.89,2,   99.991,   0.0004,2,    0.005,2,  -999.00,9,    1.864,4,    0.000,2,   159.84,2,     0.17,    37.05,2,     0.05,     0.00,2,     0.01,     2.59,2,     0.01,     0.00,2,     0.01,    0.000,2,    0.000,2,    0.000,2,    0.000,2,   2335.4,2,   2420.8,2,   -999.0,9,   7.5526,       25,2, -999.000,9,    39.03,2, -999.000,9, -999.000,   -999.0,9,   -999.0, -999.000,9, -999.000, -999.000,9, -999.000,   -999.0,9,   -999.0, -999.000,9, -999.000,9, -999.000,9