BOTTLE,20230904JAMSTECRIGC
EXPOCODE,SECT,STNNBR,CASTNO,SAMPNO,BTLNBR,BTLNBR_FLAG_W,DATE,TIME,LATITUDE,LONGITUDE,DEPTH,CTDPRS,CTDPRS_FLAG_W,CTDTMP,CTDTMP_FLAG_W,SBE35,SBE35_FLAG_W,CTDSAL,CTDSAL_FLAG_W,SALNTY,SALNTY_FLAG_W,DNSSAL,DNSSAL_FLAG_W,CTDOXY,CTDOXY_FLAG_W,OXYGEN,OXYGEN_FLAG_W,XMISS,XMISSCP,XMISS_FLAG_W,FLUOR,FLUOR_FLAG_W,CHLORA,CHLORA_FLAG_W,CDOM,CDOM_FLAG_W,PAR,PAR_FLAG_W,SILCAT,SILCAT_FLAG_W,SILUNC,NITRAT,NITRAT_FLAG_W,NRAUNC,NITRIT,NITRIT_FLAG_W,NRIUNC,PHSPHT,PHSPHT_FLAG_W,PHPUNC,AMMONIA,AMMONIA_FLAG_W,NH4UNC,CFC-11,CFC-11_FLAG_W,CFC-12,CFC-12_FLAG_W,CFC113,CFC113_FLAG_W,SF6,SF6_FLAG_W,TCARBN,TCARBN_FLAG_W,ALKALI,ALKALI_FLAG_W,ALKALI_POT,ALKALI_POT_FLAG_W,PH_TOT,PH_TMP,PH_TOT_FLAG_W,CALCIUM,CALCIUM_FLAG_W,DOC,DOC_FLAG_W,DELC13,DELC13_FLAG_W,C13ERR,DELC14,DELC14_FLAG_W,C14ERR,CS-134,CS-134_FLAG_W,CS134ER,CS-137,CS-137_FLAG_W,CS137ER,I-129,I-129_FLAG_W,I-129ER,CDOM-325,CDOM-325_FLAG_W,CDOM-370,CDOM-370_FLAG_W,CDOM-443,CDOM-443_FLAG_W
,,,,,,,,UTC,DEG,DEG,METERS,DBAR,,ITS-90,,ITS-90,,PSS-78,,PSS-78,,G/KG,,UMOL/KG,,UMOL/KG,,%TRANS,/METER,,MG/CUM,,MG/CUM,,MG/CUM,,UE/SQM/S,,UMOL/KG,,UMOL/KG,UMOL/KG,,UMOL/KG,UMOL/KG,,UMOL/KG,UMOL/KG,,UMOL/KG,UMOL/KG,,UMOL/KG,PMOL/KG,,PMOL/KG,,PMOL/KG,,FMOL/KG,,UMOL/KG,,UMOL/KG,,UMOL/KG,,,DEG C,,MMOL/KG,,UMOL/KG,,/MILLE,,/MILLE,/MILLE,,/MILLE,MBQ/KG,,MBQ/KG,MBQ/KG,,MBQ/KG,,,,/METER,,/METER,,/METER,
  49NZ20140717,   P01,    62,  1,      0,   -999,9,20140724,0205, 41.9384, 151.4778, 5158,   -999.0,9,-999.0000,9,-999.00000,9,-999.0000,9,  32.6448,2,-999.0000,9,  -999.00,9,  -999.00,9, -999.000,-999.0000,9, -999.000,9,  -999.00,9, -999.000,9, -999.000,9,     3.98,2,     0.09,     4.45,2,     0.02,     0.09,2,     0.01,     0.61,2,     0.01,  -999.00,9,  -999.00, -999.000,9, -999.000,9, -999.000,9, -999.000,9,   -999.0,9,   -999.0,9,   -999.0,9,-999.0000,     -999,9, -999.000,9,  -999.00,9, -999.000,9, -999.000,   -999.0,9,   -999.0, -999.000,9, -999.000, -999.000,9, -999.000,   -999.0,9,   -999.0, -999.000,9, -999.000,9, -999.000,9
  49NZ20140717,   P01,    62,  1,     36, X12J36,2,20140724,0205, 41.9384, 151.4778, 5158,      9.9,2,  10.6048,2,  10.77073,2,  32.7909,2,  32.8072,2,-999.0000,9,   326.25,2,   332.22,2,   93.496,   0.2690,2,    0.644,2,  -999.00,9,    0.726,1,   43.959,2,     8.80,2,     0.09,    10.11,2,     0.02,     0.11,2,     0.01,     1.11,2,     0.01,  -999.00,9,  -999.00,    4.167,2,    2.437,2,    0.380,2,    2.690,2,   2035.9,2,   2232.3,2,   -999.0,9,   7.8783,       25,6, -999.000,9,    60.23,2, -999.000,9, -999.000,   -999.0,9,   -999.0, -999.000,9, -999.000, -999.000,9, -999.000,   -999.0,9,   -999.0, -999.000,9, -999.000,9, -999.000,9
  49NZ20140717,   P01,    62,  1,     35, X12J35,2,20140724,0205, 41.9384, 151.4778, 5158,     50.6,2,   2.2506,2,   2.25334,2,  32.9514,2,  32.9562,2,-999.0000,9,   321.93,2,   321.42,2,   98.727,   0.0512,2,    0.237,2,  -999.00,9,    1.160,1,    0.804,2,    34.10,2,     0.10,    21.12,2,     0.03,     0.52,2,     0.01,     1.84,2,     0.01,  -999.00,9,  -999.00,    5.331,2,    3.080,2,    0.473,2,    3.290,2,   2129.8,6,   2232.7,2,   -999.0,9,   7.6506,       25,2, -999.000,9,    49.63,2, -999.000,9, -999.000,   -999.0,9,   -999.0, -999.000,9, -999.000, -999.000,9, -999.000,   -999.0,9,   -999.0, -999.000,9, -999.000,9, -999.000,9
  49NZ20140717,   P01,    62,  1,     34, X12J34,2,20140724,0205, 41.9384, 151.4778, 5158,    100.9,2,   1.5807,2,   1.58029,2,  33.1472,2,  33.1467,2,-999.0000,9,   278.97,2,   276.83,2,   99.379,   0.0249,2,    0.048,2,  -999.00,9,    1.498,1,    0.022,2,    50.86,2,     0.11,    27.56,2,     0.04,     0.00,2,     0.01,     2.13,2,     0.01,  -999.00,9,  -999.00,    4.999,2,    2.856,2,    0.438,2,    2.860,2,   2173.4,2,   2247.0,2,   -999.0,9,   7.5513,       25,2, -999.000,9,    47.82,2, -999.000,9, -999.000,   -999.0,9,   -999.0, -999.000,9, -999.000, -999.000,9, -999.000,   -999.0,9,   -999.0, -999.000,9, -999.000,9, -999.000,9
  49NZ20140717,   P01,    62,  1,     33, X12J33,2,20140724,0205, 41.9384, 151.4778, 5158,    150.9,2,   2.3489,2,   2.34975,2,  33.5454,2,  33.5428,2,-999.0000,9,   151.69,2,   153.27,2,   99.262,   0.0296,2,    0.009,2,  -999.00,9,    2.365,1,    0.000,2,    77.27,2,     0.12,    36.18,2,     0.05,     0.00,2,     0.01,     2.68,2,     0.01,  -999.00,9,  -999.00,    3.652,2,    2.033,2,    0.291,2,    1.780,2,   2260.9,2,   2278.2,2,   -999.0,9,   7.3720,       25,6, -999.000,9,    45.97,2, -999.000,9, -999.000,   -999.0,9,   -999.0, -999.000,9, -999.000, -999.000,9, -999.000,   -999.0,9,   -999.0, -999.000,9, -999.000,9, -999.000,9
  49NZ20140717,   P01,    62,  1,     32, X12J32,2,20140724,0205, 41.9384, 151.4778, 5158,    199.1,2,   2.8206,2,   2.81783,2,  33.7013,2,  33.7007,2,-999.0000,9,    98.10,2,    99.27,2,   99.305,   0.0279,2,    0.009,2,  -999.00,9,    2.532,1,    0.000,2,    88.92,2,     0.13,    40.10,2,     0.05,     0.00,2,     0.01,     2.91,2,     0.01,  -999.00,9,  -999.00,    2.980,2,    1.631,2,    0.228,2,    1.290,2,   2295.8,2,   2288.1,6,   -999.0,9,   7.3027,       25,2, -999.000,9,    43.37,2, -999.000,9, -999.000,   -999.0,9,   -999.0, -999.000,9, -999.000, -999.000,9, -999.000,   -999.0,9,   -999.0, -999.000,9, -999.000,9, -999.000,9
  49NZ20140717,   P01,    62,  1,     31, X12J31,2,20140724,0205, 41.9384, 151.4778, 5158,    249.5,2,   2.9514,2,   2.95083,2,  33.7995,2,  33.8007,2,-999.0000,9,    76.76,2,    76.56,2,   99.491,   0.0204,2,    0.010,2,  -999.00,9,    2.619,1,    0.000,2,    96.03,2,     0.13,    41.27,2,     0.05,     0.00,2,     0.01,     2.98,2,     0.01,  -999.00,9,  -999.00,    2.562,2,    1.391,2,    0.194,2,    1.000,2,   2313.1,2,   2296.5,2,   -999.0,9,   7.2825,       25,2, -999.000,9,    45.62,2, -999.000,9, -999.000,   -999.0,9,   -999.0, -999.000,9, -999.000, -999.000,9, -999.000,   -999.0,9,   -999.0, -999.000,9, -999.000,9, -999.000,9
  49NZ20140717,   P01,    62,  1,     30, X12J30,2,20140724,0205, 41.9384, 151.4778, 5158,    281.2,2,   3.0156,2,   3.01549,2,  33.8500,2,  33.8493,2,-999.0000,9,    67.70,2,    68.30,2,   99.549,   0.0181,2,    0.009,2,  -999.00,9,    2.706,1,    0.000,2,    99.81,2,     0.14,    41.62,2,     0.05,     0.01,2,     0.01,     3.00,2,     0.01,  -999.00,9,  -999.00,    2.334,2,    1.263,2,    0.172,2,    0.910,2,   2318.7,2,   2304.6,2,   -999.0,9,   7.2793,       25,2, -999.000,9,    43.82,2, -999.000,9, -999.000,   -999.0,9,   -999.0, -999.000,9, -999.000, -999.000,9, -999.000,   -999.0,9,   -999.0, -999.000,9, -999.000,9, -999.000,9
  49NZ20140717,   P01,    62,  1,     29, X12J29,2,20140724,0205, 41.9384, 151.4778, 5158,    371.1,2,   3.2198,2,   3.22020,2,  33.9995,2,  34.0005,2,-999.0000,9,    50.18,2,    50.99,2,   99.681,   0.0128,2,    0.009,2,  -999.00,9,    2.772,1,    0.000,2,   109.79,2,     0.14,    42.11,2,     0.05,     0.00,2,     0.01,     3.03,2,     0.01,  -999.00,9,  -999.00,    1.649,2,    0.900,2,    0.119,2,    0.610,2,   2332.6,2,   2319.5,2,   -999.0,9,   7.2859,       25,2, -999.000,9,    43.27,2, -999.000,9, -999.000,   -999.0,9,   -999.0, -999.000,9, -999.000, -999.000,9, -999.000,   -999.0,9,   -999.0, -999.000,9, -999.000,9, -999.000,9
  49NZ20140717,   P01,    62,  1,     28, X12J28,2,20140724,0205, 41.9384, 151.4778, 5158,    470.0,2,   3.2616,2,   3.26128,2,  34.1126,2,  34.1126,2,-999.0000,9,    38.17,2,    38.54,2,   99.793,   0.0083,2,    0.010,2,  -999.00,9,    2.777,1,    0.000,2,   119.55,2,     0.15,    42.76,2,     0.05,    -0.01,2,     0.01,     3.06,2,     0.01,  -999.00,9,  -999.00,    1.161,2,    0.615,2,    0.081,2,    0.380,2,   2347.1,2,   2336.3,2,   -999.0,9,   7.2905,       25,2, -999.000,9,    39.93,2, -999.000,9, -999.000,   -999.0,9,   -999.0, -999.000,9, -999.000, -999.000,9, -999.000,   -999.0,9,   -999.0, -999.000,9, -999.000,9, -999.000,9
  49NZ20140717,   P01,    62,  1,     27, X12J27,2,20140724,0205, 41.9384, 151.4778, 5158,    570.2,2,   3.2038,2,   3.20310,2,  34.2086,2,  34.2088,2,-999.0000,9,    33.25,2,    33.69,2,   99.823,   0.0071,2,    0.008,2,  -999.00,9,    2.828,1,    0.000,2,   127.76,2,     0.15,    42.91,2,     0.05,    -0.01,2,     0.01,     3.08,2,     0.01,  -999.00,9,  -999.00,    0.777,2,    0.419,2,    0.051,2,    0.220,2,   2356.9,2,   2348.1,2,   -999.0,9,   7.3022,       25,2, -999.000,9,    40.83,2, -999.000,9, -999.000,   -999.0,9,   -999.0, -999.000,9, -999.000, -999.000,9, -999.000,   -999.0,9,   -999.0, -999.000,9, -999.000,9, -999.000,9
  49NZ20140717,   P01,    62,  1,     26, X12J26,2,20140724,0205, 41.9384, 151.4778, 5158,    670.5,2,   2.9884,2,   2.98821,2,  34.2732,2,  34.2726,2,-999.0000,9,    25.76,2,    25.69,2,   99.853,   0.0059,2,    0.008,2,  -999.00,9,    2.888,1,    0.000,2,   137.73,2,     0.16,    43.54,2,     0.05,    -0.01,2,     0.01,     3.12,2,     0.01,  -999.00,9,  -999.00,    0.530,2,    0.291,2,    0.037,2,    0.130,2,   2369.4,6,   2359.8,2,   -999.0,9,   7.2964,       25,2, -999.000,9,    41.62,2, -999.000,9, -999.000,   -999.0,9,   -999.0, -999.000,9, -999.000, -999.000,9, -999.000,   -999.0,9,   -999.0, -999.000,9, -999.000,9, -999.000,9
  49NZ20140717,   P01,    62,  1,     25, X12J25,2,20140724,0205, 41.9384, 151.4778, 5158,    770.6,2,   2.8230,2,   2.82273,2,  34.3294,2,  34.3292,2,-999.0000,9,    27.87,2,    28.07,2,   99.873,   0.0051,2,    0.006,2,  -999.00,9,    2.937,1,    0.000,2,   144.26,2,     0.16,    43.42,2,     0.05,    -0.01,2,     0.01,     3.11,2,     0.01,  -999.00,9,  -999.00,    0.390,2,    0.219,2,    0.027,2,    0.100,2,   2374.8,2,   2370.4,2,   -999.0,9,   7.3102,       25,2, -999.000,9,    38.92,2, -999.000,9, -999.000,   -999.0,9,   -999.0, -999.000,9, -999.000, -999.000,9, -999.000,   -999.0,9,   -999.0, -999.000,9, -999.000,9, -999.000,9
  49NZ20140717,   P01,    62,  1,     24, X12J24,2,20140724,0205, 41.9384, 151.4778, 5158,    869.8,2,   2.7233,2,   2.72353,2,  34.3737,2,  34.3738,2,-999.0000,9,    33.76,2,    33.97,2,   99.797,   0.0081,2,    0.005,2,  -999.00,9,    2.923,1,    0.000,2,   147.38,2,     0.17,    43.07,2,     0.05,    -0.01,2,     0.01,     3.08,2,     0.01,  -999.00,9,  -999.00,    0.306,2,    0.175,2,    0.021,2,    0.090,2,   2374.3,2,   2377.6,2,   -999.0,9,   7.3294,       25,6, -999.000,9,    38.62,2, -999.000,9, -999.000,   -999.0,9,   -999.0, -999.000,9, -999.000, -999.000,9, -999.000,   -999.0,9,   -999.0, -999.000,9, -999.000,9, -999.000,9
  49NZ20140717,   P01,    62,  1,     23, X12J23,2,20140724,0205, 41.9384, 151.4778, 5158,    970.2,2,   2.6083,2,   2.60698,2,  34.4144,2,  34.4131,2,-999.0000,9,    35.90,2,    36.04,2,   99.834,   0.0066,2,    0.005,2,  -999.00,9,    2.905,1,    0.000,2,   151.18,2,     0.17,    42.99,2,     0.05,    -0.01,2,     0.01,     3.07,2,     0.01,  -999.00,9,  -999.00,    0.225,2,    0.130,2,    0.014,2,    0.060,2,   2377.4,2,   2384.8,2,   -999.0,9,   7.3381,       25,2, -999.000,9,    38.76,2, -999.000,9, -999.000,   -999.0,9,   -999.0, -999.000,9, -999.000, -999.000,9, -999.000,   -999.0,9,   -999.0, -999.000,9, -999.000,9, -999.000,9
  49NZ20140717,   P01,    62,  1,     22, X12J22,2,20140724,0205, 41.9384, 151.4778, 5158,   1129.8,2,   2.4509,2,   2.45040,2,  34.4633,2,  34.4638,2,-999.0000,9,    39.74,2,    39.88,2,   99.864,   0.0054,2,    0.004,2,  -999.00,9,    2.873,1,    0.000,2,   156.08,2,     0.17,    42.83,2,     0.05,    -0.01,2,     0.01,     3.06,2,     0.01,  -999.00,9,  -999.00,    0.132,2,    0.079,2,    0.008,2,    0.030,2,   2379.5,2,   2393.2,6,   -999.0,9,   7.3541,       25,2, -999.000,9,    39.52,2, -999.000,9, -999.000,   -999.0,9,   -999.0, -999.000,9, -999.000, -999.000,9, -999.000,   -999.0,9,   -999.0, -999.000,9, -999.000,9, -999.000,9
  49NZ20140717,   P01,    62,  1,     21, X12J21,2,20140724,0205, 41.9384, 151.4778, 5158,   1329.8,2,   2.2936,2,   2.29340,2,  34.5064,2,  34.5050,2,-999.0000,9,    45.98,2,    45.92,2,   99.886,   0.0046,2,    0.004,2,  -999.00,9,    2.850,1,    0.000,2,   160.05,2,     0.17,    42.68,2,     0.05,    -0.01,2,     0.01,     3.04,2,     0.01,  -999.00,9,  -999.00,    0.075,2,    0.044,2,    0.004,2,    0.020,2,   2381.3,2,   2398.8,2,   -999.0,9,   7.3705,       25,2, -999.000,9,    36.48,2, -999.000,9, -999.000,   -999.0,9,   -999.0, -999.000,9, -999.000, -999.000,9, -999.000,   -999.0,9,   -999.0, -999.000,9, -999.000,9, -999.000,9
  49NZ20140717,   P01,    62,  1,     20, X12J20,2,20140724,0205, 41.9384, 151.4778, 5158,   1531.0,2,   2.1314,2,   2.13101,2,  34.5458,2,  34.5454,2,-999.0000,9,    55.34,2,    55.30,2,   99.910,   0.0036,2,    0.003,2,  -999.00,9,    2.822,1,    0.000,2,   162.70,2,     0.18,    42.19,2,     0.05,    -0.01,2,     0.01,     2.99,2,     0.01,  -999.00,9,  -999.00,    0.037,2,    0.021,2,    0.003,2,    0.030,2,   2381.3,2,   2405.9,2,   -999.0,9,   7.3927,       25,6, -999.000,9,    37.35,2, -999.000,9, -999.000,   -999.0,9,   -999.0, -999.000,9, -999.000, -999.000,9, -999.000,   -999.0,9,   -999.0, -999.000,9, -999.000,9, -999.000,9
  49NZ20140717,   P01,    62,  1,     19, X12J19,2,20140724,0205, 41.9384, 151.4778, 5158,   5169.8,2,   1.5346,2,   1.53454,2,  34.6895,2,  34.6891,2,-999.0000,9,   157.20,2,   157.42,2,   99.890,   0.0044,2,   -0.004,2,  -999.00,9,   -1.731,4,    0.000,2,  -999.00,9,  -999.00,  -999.00,9,  -999.00,  -999.00,9,  -999.00,  -999.00,9,  -999.00,  -999.00,9,  -999.00, -999.000,9, -999.000,9, -999.000,9, -999.000,9,   -999.0,9,   -999.0,9,   -999.0,9,-999.0000,     -999,9, -999.000,9,    36.91,9, -999.000,9, -999.000,   -999.0,9,   -999.0, -999.000,9, -999.000, -999.000,9, -999.000,   -999.0,9,   -999.0, -999.000,9, -999.000,9, -999.000,9
  49NZ20140717,   P01,    62,  1,     18, X12J18,2,20140724,0205, 41.9384, 151.4778, 5158,   1929.9,2,   1.8880,2,   1.88815,2,  34.5974,2,  34.5974,2,-999.0000,9,    77.21,2,    77.23,2,   99.935,   0.0026,2,    0.001,2,  -999.00,9,    2.634,1,    0.000,2,   164.19,2,     0.18,    40.89,2,     0.05,    -0.01,2,     0.01,     2.89,2,     0.01,  -999.00,9,  -999.00,    0.009,2,    0.005,2,    0.002,2,    0.070,2,   2371.3,2,   2413.1,2,   -999.0,9,   7.4368,       25,2, -999.000,9,    36.83,2, -999.000,9, -999.000,   -999.0,9,   -999.0, -999.000,9, -999.000, -999.000,9, -999.000,   -999.0,9,   -999.0, -999.000,9, -999.000,9, -999.000,9
  49NZ20140717,   P01,    62,  1,     17, X12J17,2,20140724,0205, 41.9384, 151.4778, 5158,   2130.8,2,   1.7887,2,   1.78803,2,  34.6177,2,  34.6192,2,-999.0000,9,    88.59,2,    88.82,2,   99.933,   0.0027,2,    0.000,2,  -999.00,9,    2.569,1,    0.000,2,   163.59,2,     0.18,    40.20,2,     0.05,    -0.01,2,     0.01,     2.83,2,     0.01,  -999.00,9,  -999.00,    0.000,2,    0.000,2,    0.002,2,    0.060,2,   2366.9,2,   2416.9,2,   -999.0,9,   7.4614,       25,2, -999.000,9,    37.10,2, -999.000,9, -999.000,   -999.0,9,   -999.0, -999.000,9, -999.000, -999.000,9, -999.000,   -999.0,9,   -999.0, -999.000,9, -999.000,9, -999.000,9
  49NZ20140717,   P01,    62,  1,     16, X12J16,2,20140724,0205, 41.9384, 151.4778, 5158,   2330.3,2,   1.7035,2,   1.70353,2,  34.6329,2,  34.6331,2,-999.0000,9,    99.65,2,    99.25,2,   99.961,   0.0015,2,    0.000,2,  -999.00,9,    2.501,1,    0.000,2,   162.90,2,     0.18,    39.60,2,     0.05,    -0.01,2,     0.01,     2.79,2,     0.01,  -999.00,9,  -999.00,    0.000,2,    0.000,2,    0.002,2,    0.090,2,   2360.4,6,   2416.0,2,   -999.0,9,   7.4812,       25,2, -999.000,9,    37.99,2, -999.000,9, -999.000,   -999.0,9,   -999.0, -999.000,9, -999.000, -999.000,9, -999.000,   -999.0,9,   -999.0, -999.000,9, -999.000,9, -999.000,9
  49NZ20140717,   P01,    62,  1,     15, X12J15,2,20140724,0205, 41.9384, 151.4778, 5158,   2529.7,2,   1.6379,2,   1.63779,2,  34.6446,2,  34.6451,2,-999.0000,9,   109.38,2,   109.25,2,   99.987,   0.0005,2,   -0.001,2,  -999.00,9,    2.465,1,    0.000,2,   161.03,2,     0.17,    38.93,2,     0.05,    -0.01,2,     0.01,     2.73,2,     0.01,  -999.00,9,  -999.00,    0.001,2,    0.003,2,    0.003,2,    0.080,2,   2355.7,2,   2418.1,2,   -999.0,9,   7.4996,       25,2, -999.000,9,    39.52,2, -999.000,9, -999.000,   -999.0,9,   -999.0, -999.000,9, -999.000, -999.000,9, -999.000,   -999.0,9,   -999.0, -999.000,9, -999.000,9, -999.000,9
  49NZ20140717,   P01,    62,  1,     14, X12J14,2,20140724,0205, 41.9384, 151.4778, 5158,   2730.0,2,   1.5829,2,   1.58289,2,  34.6543,2,  34.6543,2,-999.0000,9,   118.31,2,   118.24,2,   99.974,   0.0010,2,   -0.002,2,  -999.00,9,    2.399,1,    0.000,2,   159.02,2,     0.17,    38.34,2,     0.05,    -0.01,2,     0.01,     2.69,2,     0.01,  -999.00,9,  -999.00,    0.000,2,    0.002,2,    0.001,2,    0.030,2,   2351.1,2,   2417.8,2,   -999.0,9,   7.5172,       25,6, -999.000,9,    35.38,2, -999.000,9, -999.000,   -999.0,9,   -999.0, -999.000,9, -999.000, -999.000,9, -999.000,   -999.0,9,   -999.0, -999.000,9, -999.000,9, -999.000,9
  49NZ20140717,   P01,    62,  1,     13, X12113,2,20140724,0205, 41.9384, 151.4778, 5158,   2930.8,2,   1.5414,2,   1.54142,2,  34.6617,2,  34.6618,2,-999.0000,9,   125.46,2,   125.23,2,   99.992,   0.0003,2,   -0.002,2,  -999.00,9,    2.412,1,    0.000,2,   157.77,2,     0.17,    37.87,2,     0.05,    -0.01,2,     0.01,     2.65,2,     0.01,  -999.00,9,  -999.00,    0.002,2,    0.003,2,    0.001,2,    0.040,2,   2347.5,2,   2419.3,2,   -999.0,9,   7.5297,       25,2, -999.000,9,    38.02,2, -999.000,9, -999.000,   -999.0,9,   -999.0, -999.000,9, -999.000, -999.000,9, -999.000,   -999.0,9,   -999.0, -999.000,9, -999.000,9, -999.000,9
  49NZ20140717,   P01,    62,  1,     12, X12J12,2,20140724,0205, 41.9384, 151.4778, 5158,   3170.0,2,   1.5047,2,   1.50475,2,  34.6687,2,  34.6685,2,-999.0000,9,   133.23,2,   133.12,2,   99.983,   0.0007,2,   -0.002,2,  -999.00,9,    2.225,1,    0.000,2,   155.90,2,     0.17,    37.42,2,     0.05,    -0.02,2,     0.01,     2.61,2,     0.01,  -999.00,9,  -999.00,    0.000,2,    0.002,2,    0.002,2,    0.040,2,   2340.6,2,   2418.4,6,   -999.0,9,   7.5433,       25,2, -999.000,9,    37.83,2, -999.000,9, -999.000,   -999.0,9,   -999.0, -999.000,9, -999.000, -999.000,9, -999.000,   -999.0,9,   -999.0, -999.000,9, -999.000,9, -999.000,9
  49NZ20140717,   P01,    62,  1,     11, X12J11,2,20140724,0205, 41.9384, 151.4778, 5158,   3420.3,2,   1.4803,2,   1.48020,2,  34.6740,2,  34.6741,2,-999.0000,9,   139.35,2,   139.17,2,   99.979,   0.0009,2,   -0.003,2,  -999.00,9,    2.335,1,    0.000,2,   154.55,2,     0.17,    36.97,2,     0.05,    -0.02,2,     0.01,     2.58,2,     0.01,  -999.00,9,  -999.00,    0.000,2,    0.000,2,    0.000,2,    0.000,2,   2337.2,2,   2418.5,2,   -999.0,9,   7.5543,       25,2, -999.000,9,    38.04,2, -999.000,9, -999.000,   -999.0,9,   -999.0, -999.000,9, -999.000, -999.000,9, -999.000,   -999.0,9,   -999.0, -999.000,9, -999.000,9, -999.000,9
  49NZ20140717,   P01,    62,  1,     10, X12J10,2,20140724,0205, 41.9384, 151.4778, 5158,   3670.7,2,   1.4648,2,   1.46497,2,  34.6784,2,  34.6783,2,-999.0000,9,   144.49,2,   144.29,2,   99.983,   0.0007,2,   -0.003,2,  -999.00,9,    2.162,1,    0.000,2,   153.39,2,     0.17,    36.72,2,     0.05,    -0.02,2,     0.01,     2.55,2,     0.01,  -999.00,9,  -999.00,    0.003,2,    0.001,2,    0.001,2,    0.000,2,   2333.1,2,   2418.5,2,   -999.0,9,   7.5627,       25,2, -999.000,9,    38.36,2, -999.000,9, -999.000,   -999.0,9,   -999.0, -999.000,9, -999.000, -999.000,9, -999.000,   -999.0,9,   -999.0, -999.000,9, -999.000,9, -999.000,9