BOTTLE,20230904JAMSTECRIGC
EXPOCODE,SECT,STNNBR,CASTNO,SAMPNO,BTLNBR,BTLNBR_FLAG_W,DATE,TIME,LATITUDE,LONGITUDE,DEPTH,CTDPRS,CTDPRS_FLAG_W,CTDTMP,CTDTMP_FLAG_W,SBE35,SBE35_FLAG_W,CTDSAL,CTDSAL_FLAG_W,SALNTY,SALNTY_FLAG_W,DNSSAL,DNSSAL_FLAG_W,CTDOXY,CTDOXY_FLAG_W,OXYGEN,OXYGEN_FLAG_W,XMISS,XMISSCP,XMISS_FLAG_W,FLUOR,FLUOR_FLAG_W,CHLORA,CHLORA_FLAG_W,CDOM,CDOM_FLAG_W,PAR,PAR_FLAG_W,SILCAT,SILCAT_FLAG_W,SILUNC,NITRAT,NITRAT_FLAG_W,NRAUNC,NITRIT,NITRIT_FLAG_W,NRIUNC,PHSPHT,PHSPHT_FLAG_W,PHPUNC,AMMONIA,AMMONIA_FLAG_W,NH4UNC,CFC-11,CFC-11_FLAG_W,CFC-12,CFC-12_FLAG_W,CFC113,CFC113_FLAG_W,SF6,SF6_FLAG_W,TCARBN,TCARBN_FLAG_W,ALKALI,ALKALI_FLAG_W,ALKALI_POT,ALKALI_POT_FLAG_W,PH_TOT,PH_TMP,PH_TOT_FLAG_W,CALCIUM,CALCIUM_FLAG_W,DOC,DOC_FLAG_W,DELC13,DELC13_FLAG_W,C13ERR,DELC14,DELC14_FLAG_W,C14ERR,CS-134,CS-134_FLAG_W,CS134ER,CS-137,CS-137_FLAG_W,CS137ER,I-129,I-129_FLAG_W,I-129ER,CDOM-325,CDOM-325_FLAG_W,CDOM-370,CDOM-370_FLAG_W,CDOM-443,CDOM-443_FLAG_W
,,,,,,,,UTC,DEG,DEG,METERS,DBAR,,ITS-90,,ITS-90,,PSS-78,,PSS-78,,G/KG,,UMOL/KG,,UMOL/KG,,%TRANS,/METER,,MG/CUM,,MG/CUM,,MG/CUM,,UE/SQM/S,,UMOL/KG,,UMOL/KG,UMOL/KG,,UMOL/KG,UMOL/KG,,UMOL/KG,UMOL/KG,,UMOL/KG,UMOL/KG,,UMOL/KG,PMOL/KG,,PMOL/KG,,PMOL/KG,,FMOL/KG,,UMOL/KG,,UMOL/KG,,UMOL/KG,,,DEG C,,MMOL/KG,,UMOL/KG,,/MILLE,,/MILLE,/MILLE,,/MILLE,MBQ/KG,,MBQ/KG,MBQ/KG,,MBQ/KG,,,,/METER,,/METER,,/METER,
  49NZ20140717,   P01,   144,  1,      0,   -999,9,20140821,2214, 46.9955,-127.9172, 2698,   -999.0,9,-999.0000,9,-999.00000,9,-999.0000,9,  31.9990,2,-999.0000,9,  -999.00,9,  -999.00,9, -999.000,-999.0000,9, -999.000,9,  -999.00,9, -999.000,9, -999.000,9,     2.60,2,     0.10,     0.08,2,     0.02,     0.01,2,     0.01,     0.36,2,     0.01,  -999.00,9,  -999.00, -999.000,9, -999.000,9, -999.000,9, -999.000,9,   -999.0,9,   -999.0,9,   -999.0,9,-999.0000,     -999,9, -999.000,9,  -999.00,9, -999.000,9, -999.000,   -999.0,9,   -999.0, -999.000,9, -999.000, -999.000,9, -999.000,   -999.0,9,   -999.0, -999.000,9, -999.000,9, -999.000,9
  49NZ20140717,   P01,   144,  1,     36, X12J36,2,20140821,2214, 46.9955,-127.9172, 2698,      9.8,2,  18.5097,2,  18.49759,2,  31.9938,2,  31.9970,2,-999.0000,9,   244.03,2,   244.32,2,   98.116,   0.0761,2,    0.106,2,  -999.00,9,   -0.752,1,  161.524,2,     2.45,2,     0.10,    -0.03,2,     0.02,     0.00,2,     0.01,     0.36,2,     0.01,  -999.00,9,  -999.00, -999.000,9, -999.000,9, -999.000,9, -999.000,9,   -999.0,9,   -999.0,9,   -999.0,9,-999.0000,     -999,9, -999.000,9,  -999.00,9, -999.000,9, -999.000,   -999.0,9,   -999.0, -999.000,9, -999.000, -999.000,9, -999.000,   -999.0,9,   -999.0, -999.000,9, -999.000,9, -999.000,9
  49NZ20140717,   P01,   144,  1,     35, X12J35,2,20140821,2214, 46.9955,-127.9172, 2698,     50.1,2,  12.8786,2,  12.86137,2,  32.2994,2,  32.3022,2,-999.0000,9,   297.85,2,   297.14,2,   96.400,   0.1467,2,    0.551,2,  -999.00,9,    1.085,1,    9.070,2,     2.62,2,     0.10,     0.17,2,     0.01,     0.02,2,     0.01,     0.49,2,     0.01,  -999.00,9,  -999.00, -999.000,9, -999.000,9, -999.000,9, -999.000,9,   -999.0,9,   -999.0,9,   -999.0,9,-999.0000,     -999,9, -999.000,9,  -999.00,9, -999.000,9, -999.000,   -999.0,9,   -999.0, -999.000,9, -999.000, -999.000,9, -999.000,   -999.0,9,   -999.0, -999.000,9, -999.000,9, -999.000,9
  49NZ20140717,   P01,   144,  1,     34, X12J34,2,20140821,2214, 46.9955,-127.9172, 2698,    100.1,2,   7.1478,2,   7.14599,2,  32.7182,2,  32.7739,2,-999.0000,9,   264.41,2,   259.57,2,   99.734,   0.0107,2,    0.041,2,  -999.00,9,    0.636,1,    0.250,2,    20.11,2,     0.09,    16.53,2,     0.03,     0.01,2,     0.01,     1.41,2,     0.01,  -999.00,9,  -999.00, -999.000,9, -999.000,9, -999.000,9, -999.000,9,   -999.0,9,   -999.0,9,   -999.0,9,-999.0000,     -999,9, -999.000,9,  -999.00,9, -999.000,9, -999.000,   -999.0,9,   -999.0, -999.000,9, -999.000, -999.000,9, -999.000,   -999.0,9,   -999.0, -999.000,9, -999.000,9, -999.000,9
  49NZ20140717,   P01,   144,  1,     33, X12J33,2,20140821,2214, 46.9955,-127.9172, 2698,    150.3,2,   7.5156,2,   7.51537,2,  33.5659,2,  33.5922,2,-999.0000,9,   170.38,2,   168.49,2,   99.727,   0.0109,2,    0.007,2,  -999.00,9,    1.448,1,    0.000,2,    31.27,2,     0.10,    25.10,2,     0.04,     0.01,2,     0.01,     1.85,2,     0.01,  -999.00,9,  -999.00, -999.000,9, -999.000,9, -999.000,9, -999.000,9,   -999.0,9,   -999.0,9,   -999.0,9,-999.0000,     -999,9, -999.000,9,  -999.00,9, -999.000,9, -999.000,   -999.0,9,   -999.0, -999.000,9, -999.000, -999.000,9, -999.000,   -999.0,9,   -999.0, -999.000,9, -999.000,9, -999.000,9
  49NZ20140717,   P01,   144,  1,     32, X12J32,2,20140821,2214, 46.9955,-127.9172, 2698,    200.1,2,   7.3489,2,   7.35118,2,  33.8872,2,  33.8881,2,-999.0000,9,   118.22,2,   117.72,2,   99.749,   0.0101,2,    0.009,2,  -999.00,9,    1.849,1,    0.000,2,    41.21,2,     0.10,    30.29,2,     0.04,     0.01,2,     0.01,     2.16,2,     0.01,  -999.00,9,  -999.00, -999.000,9, -999.000,9, -999.000,9, -999.000,9,   -999.0,9,   -999.0,9,   -999.0,9,-999.0000,     -999,9, -999.000,9,  -999.00,9, -999.000,9, -999.000,   -999.0,9,   -999.0, -999.000,9, -999.000, -999.000,9, -999.000,   -999.0,9,   -999.0, -999.000,9, -999.000,9, -999.000,9
  49NZ20140717,   P01,   144,  1,     31, X12J31,2,20140821,2214, 46.9955,-127.9172, 2698,    250.5,2,   6.8900,2,   6.88986,2,  33.9378,2,  33.9367,2,-999.0000,9,   100.47,2,   100.54,2,   99.747,   0.0101,2,    0.010,2,  -999.00,9,    2.165,1,    0.000,2,    47.77,2,     0.10,    32.54,2,     0.04,     0.01,2,     0.01,     2.32,2,     0.01,  -999.00,9,  -999.00, -999.000,9, -999.000,9, -999.000,9, -999.000,9,   -999.0,9,   -999.0,9,   -999.0,9,-999.0000,     -999,9, -999.000,9,  -999.00,9, -999.000,9, -999.000,   -999.0,9,   -999.0, -999.000,9, -999.000, -999.000,9, -999.000,   -999.0,9,   -999.0, -999.000,9, -999.000,9, -999.000,9
  49NZ20140717,   P01,   144,  1,     30, X12J30,2,20140821,2214, 46.9955,-127.9172, 2698,    300.0,2,   6.4270,2,   6.42600,2,  33.9691,2,  33.9683,2,-999.0000,9,    78.75,2,    78.93,2,   99.764,   0.0094,2,    0.011,2,  -999.00,9,    2.377,1,    0.000,2,    55.40,2,     0.11,    35.13,2,     0.05,     0.01,2,     0.01,     2.52,2,     0.01,  -999.00,9,  -999.00, -999.000,9, -999.000,9, -999.000,9, -999.000,9,   -999.0,9,   -999.0,9,   -999.0,9,-999.0000,     -999,9, -999.000,9,  -999.00,9, -999.000,9, -999.000,   -999.0,9,   -999.0, -999.000,9, -999.000, -999.000,9, -999.000,   -999.0,9,   -999.0, -999.000,9, -999.000,9, -999.000,9
  49NZ20140717,   P01,   144,  1,     29, X12J29,2,20140821,2214, 46.9955,-127.9172, 2698,    400.5,2,   5.5403,2,   5.54023,2,  34.0014,2,  34.0010,2,-999.0000,9,    54.37,2,    54.77,2,   99.821,   0.0072,2,    0.011,2,  -999.00,9,    2.596,1,    0.000,2,    69.94,2,     0.12,    38.79,2,     0.05,     0.01,2,     0.01,     2.77,2,     0.01,  -999.00,9,  -999.00, -999.000,9, -999.000,9, -999.000,9, -999.000,9,   -999.0,9,   -999.0,9,   -999.0,9,-999.0000,     -999,9, -999.000,9,  -999.00,9, -999.000,9, -999.000,   -999.0,9,   -999.0, -999.000,9, -999.000, -999.000,9, -999.000,   -999.0,9,   -999.0, -999.000,9, -999.000,9, -999.000,9
  49NZ20140717,   P01,   144,  1,     28, X12J28,2,20140821,2214, 46.9955,-127.9172, 2698,    500.3,2,   5.1551,2,   5.15484,2,  34.0940,2,  34.0929,2,-999.0000,9,    28.67,2,    29.52,2,   99.892,   0.0043,2,    0.012,2,  -999.00,9,    2.797,1,    0.000,2,    82.47,2,     0.13,    41.15,2,     0.05,     0.00,2,     0.01,     2.99,2,     0.01,  -999.00,9,  -999.00, -999.000,9, -999.000,9, -999.000,9, -999.000,9,   -999.0,9,   -999.0,9,   -999.0,9,-999.0000,     -999,9, -999.000,9,  -999.00,9, -999.000,9, -999.000,   -999.0,9,   -999.0, -999.000,9, -999.000, -999.000,9, -999.000,   -999.0,9,   -999.0, -999.000,9, -999.000,9, -999.000,9
  49NZ20140717,   P01,   144,  1,     27, X12J27,2,20140821,2214, 46.9955,-127.9172, 2698,    599.6,2,   4.6977,2,   4.69775,2,  34.1527,2,  34.1525,2,-999.0000,9,    17.92,2,    17.98,2,   99.931,   0.0028,2,    0.012,2,  -999.00,9,    2.876,1,    0.000,2,    94.26,2,     0.13,    42.57,2,     0.05,     0.00,2,     0.01,     3.10,2,     0.01,  -999.00,9,  -999.00, -999.000,9, -999.000,9, -999.000,9, -999.000,9,   -999.0,9,   -999.0,9,   -999.0,9,-999.0000,     -999,9, -999.000,9,  -999.00,9, -999.000,9, -999.000,   -999.0,9,   -999.0, -999.000,9, -999.000, -999.000,9, -999.000,   -999.0,9,   -999.0, -999.000,9, -999.000,9, -999.000,9
  49NZ20140717,   P01,   144,  1,     26, X12J26,2,20140821,2214, 46.9955,-127.9172, 2698,    701.0,2,   4.2987,2,   4.29910,2,  34.2109,2,  34.2083,2,-999.0000,9,    11.78,2,    11.76,2,   99.903,   0.0039,2,    0.012,2,  -999.00,9,    2.982,1,    0.000,2,   105.24,2,     0.14,    43.48,2,     0.05,     0.00,2,     0.01,     3.16,2,     0.01,  -999.00,9,  -999.00, -999.000,9, -999.000,9, -999.000,9, -999.000,9,   -999.0,9,   -999.0,9,   -999.0,9,-999.0000,     -999,9, -999.000,9,  -999.00,9, -999.000,9, -999.000,   -999.0,9,   -999.0, -999.000,9, -999.000, -999.000,9, -999.000,   -999.0,9,   -999.0, -999.000,9, -999.000,9, -999.000,9
  49NZ20140717,   P01,   144,  1,     25, X12J25,2,20140821,2214, 46.9955,-127.9172, 2698,    800.0,2,   3.9887,2,   3.98887,2,  34.2612,2,  34.2618,2,-999.0000,9,    10.39,2,     9.94,2,   99.903,   0.0039,2,    0.012,2,  -999.00,9,    3.091,1,    0.000,2,   114.68,2,     0.15,    43.88,2,     0.06,     0.01,2,     0.01,     3.18,2,     0.01,  -999.00,9,  -999.00, -999.000,9, -999.000,9, -999.000,9, -999.000,9,   -999.0,9,   -999.0,9,   -999.0,9,-999.0000,     -999,9, -999.000,9,  -999.00,9, -999.000,9, -999.000,   -999.0,9,   -999.0, -999.000,9, -999.000, -999.000,9, -999.000,   -999.0,9,   -999.0, -999.000,9, -999.000,9, -999.000,9
  49NZ20140717,   P01,   144,  1,     24, X12J24,2,20140821,2214, 46.9955,-127.9172, 2698,    902.7,2,   3.8710,2,   3.87198,2,  34.3368,2,  34.3357,2,-999.0000,9,     8.33,2,     7.51,2,   99.907,   0.0037,2,    0.012,2,  -999.00,9,    3.112,1,    0.000,2,   120.45,2,     0.15,    44.12,2,     0.06,     0.00,2,     0.01,     3.23,2,     0.01,  -999.00,9,  -999.00, -999.000,9, -999.000,9, -999.000,9, -999.000,9,   -999.0,9,   -999.0,9,   -999.0,9,-999.0000,     -999,9, -999.000,9,  -999.00,9, -999.000,9, -999.000,   -999.0,9,   -999.0, -999.000,9, -999.000, -999.000,9, -999.000,   -999.0,9,   -999.0, -999.000,9, -999.000,9, -999.000,9
  49NZ20140717,   P01,   144,  1,     23, X12J23,2,20140821,2214, 46.9955,-127.9172, 2698,    998.8,2,   3.5550,2,   3.55489,2,  34.3710,2,  34.3715,2,-999.0000,9,     9.25,2,     8.41,2,   99.864,   0.0054,2,    0.012,2,  -999.00,9,    3.109,1,    0.000,2,   129.51,2,     0.15,    44.43,2,     0.06,     0.00,2,     0.01,     3.23,2,     0.01,  -999.00,9,  -999.00, -999.000,9, -999.000,9, -999.000,9, -999.000,9,   -999.0,9,   -999.0,9,   -999.0,9,-999.0000,     -999,9, -999.000,9,  -999.00,9, -999.000,9, -999.000,   -999.0,9,   -999.0, -999.000,9, -999.000, -999.000,9, -999.000,   -999.0,9,   -999.0, -999.000,9, -999.000,9, -999.000,9
  49NZ20140717,   P01,   144,  1,     22, X12J22,2,20140821,2214, 46.9955,-127.9172, 2698,   1199.4,2,   3.0369,2,   3.03754,2,  34.4392,2,  34.4373,2,-999.0000,9,    13.21,2,    12.40,2,   99.883,   0.0047,2,    0.011,2,  -999.00,9,    3.236,1,    0.000,2,   144.69,2,     0.16,    44.61,2,     0.06,     0.00,2,     0.01,     3.21,2,     0.01,  -999.00,9,  -999.00, -999.000,9, -999.000,9, -999.000,9, -999.000,9,   -999.0,9,   -999.0,9,   -999.0,9,-999.0000,     -999,9, -999.000,9,  -999.00,9, -999.000,9, -999.000,   -999.0,9,   -999.0, -999.000,9, -999.000, -999.000,9, -999.000,   -999.0,9,   -999.0, -999.000,9, -999.000,9, -999.000,9
  49NZ20140717,   P01,   144,  1,     21, X12J21,2,20140821,2214, 46.9955,-127.9172, 2698,   1398.6,2,   2.6581,2,   2.66123,2,  34.4857,2,  34.4854,2,-999.0000,9,    20.26,2,    19.58,2,   99.927,   0.0029,2,    0.010,2,  -999.00,9,    3.258,1,    0.000,2,   155.92,2,     0.17,    44.34,2,     0.06,     0.00,2,     0.01,     3.16,2,     0.01,  -999.00,9,  -999.00, -999.000,9, -999.000,9, -999.000,9, -999.000,9,   -999.0,9,   -999.0,9,   -999.0,9,-999.0000,     -999,9, -999.000,9,  -999.00,9, -999.000,9, -999.000,   -999.0,9,   -999.0, -999.000,9, -999.000, -999.000,9, -999.000,   -999.0,9,   -999.0, -999.000,9, -999.000,9, -999.000,9
  49NZ20140717,   P01,   144,  1,     20, X12J20,2,20140821,2214, 46.9955,-127.9172, 2698,   1599.7,2,   2.3633,2,   2.36298,2,  34.5229,2,  34.5220,2,-999.0000,9,    30.18,2,    29.73,2,   99.920,   0.0032,2,    0.009,2,  -999.00,9,    3.254,1,    0.000,2,   163.91,2,     0.18,    43.79,2,     0.06,     0.00,2,     0.01,     3.11,2,     0.01,  -999.00,9,  -999.00, -999.000,9, -999.000,9, -999.000,9, -999.000,9,   -999.0,9,   -999.0,9,   -999.0,9,-999.0000,     -999,9, -999.000,9,  -999.00,9, -999.000,9, -999.000,   -999.0,9,   -999.0, -999.000,9, -999.000, -999.000,9, -999.000,   -999.0,9,   -999.0, -999.000,9, -999.000,9, -999.000,9
  49NZ20140717,   P01,   144,  1,     19, X12J19,2,20140821,2214, 46.9955,-127.9172, 2698,   1798.1,2,   2.1412,2,   2.14123,2,  34.5568,2,  34.5568,2,-999.0000,9,    43.11,2,    43.39,2,   99.903,   0.0039,2,    0.008,2,  -999.00,9,    3.186,1,    0.000,2,   170.14,2,     0.18,    42.97,2,     0.05,     0.00,2,     0.01,     3.05,2,     0.01,  -999.00,9,  -999.00, -999.000,9, -999.000,9, -999.000,9, -999.000,9,   -999.0,9,   -999.0,9,   -999.0,9,-999.0000,     -999,9, -999.000,9,  -999.00,9, -999.000,9, -999.000,   -999.0,9,   -999.0, -999.000,9, -999.000, -999.000,9, -999.000,   -999.0,9,   -999.0, -999.000,9, -999.000,9, -999.000,9
  49NZ20140717,   P01,   144,  1,     18, X12J18,2,20140821,2214, 46.9955,-127.9172, 2698,   2000.1,2,   1.9573,2,   1.95696,2,  34.5873,2,  34.5881,2,-999.0000,9,    56.77,2,    57.12,2,   99.912,   0.0035,2,    0.007,2,  -999.00,9,    3.222,1,    0.000,2,   174.90,2,     0.18,    42.09,2,     0.05,     0.00,2,     0.01,     2.98,2,     0.01,  -999.00,9,  -999.00, -999.000,9, -999.000,9, -999.000,9, -999.000,9,   -999.0,9,   -999.0,9,   -999.0,9,-999.0000,     -999,9, -999.000,9,  -999.00,9, -999.000,9, -999.000,   -999.0,9,   -999.0, -999.000,9, -999.000, -999.000,9, -999.000,   -999.0,9,   -999.0, -999.000,9, -999.000,9, -999.000,9
  49NZ20140717,   P01,   144,  1,     17, X12J17,2,20140821,2214, 46.9955,-127.9172, 2698,   2199.1,2,   1.8455,2,   1.84578,2,  34.6093,2,  34.6099,2,-999.0000,9,    67.74,2,    68.27,2,   99.931,   0.0028,2,    0.006,2,  -999.00,9,    3.121,1,    0.000,2,   178.22,2,     0.19,    41.43,2,     0.05,     0.00,2,     0.01,     2.94,2,     0.01,  -999.00,9,  -999.00, -999.000,9, -999.000,9, -999.000,9, -999.000,9,   -999.0,9,   -999.0,9,   -999.0,9,-999.0000,     -999,9, -999.000,9,  -999.00,9, -999.000,9, -999.000,   -999.0,9,   -999.0, -999.000,9, -999.000, -999.000,9, -999.000,   -999.0,9,   -999.0, -999.000,9, -999.000,9, -999.000,9
  49NZ20140717,   P01,   144,  1,     16, X12J16,2,20140821,2214, 46.9955,-127.9172, 2698,   2599.2,2,   1.7669,2,   1.76698,2,  34.6326,2,-999.0000,9,-999.0000,9,    77.30,2,    77.61,1,   99.855,   0.0058,2,    0.006,2,  -999.00,9,    3.256,1,    0.000,2,  -999.00,9,  -999.00,  -999.00,9,  -999.00,  -999.00,9,  -999.00,  -999.00,9,  -999.00,  -999.00,9,  -999.00, -999.000,9, -999.000,9, -999.000,9, -999.000,9,   -999.0,9,   -999.0,9,   -999.0,9,-999.0000,     -999,9, -999.000,9,  -999.00,9, -999.000,9, -999.000,   -999.0,9,   -999.0, -999.000,9, -999.000, -999.000,9, -999.000,   -999.0,9,   -999.0, -999.000,9, -999.000,9, -999.000,9
  49NZ20140717,   P01,   144,  1,     15, X12J15,2,20140821,2214, 46.9955,-127.9172, 2698,   2598.6,2,   1.7668,2,   1.76689,2,  34.6326,2,  34.6332,2,-999.0000,9,    77.32,2,    77.68,2,   99.851,   0.0060,2,    0.006,2,  -999.00,9,    3.259,1,    0.000,2,   185.85,2,     0.19,    40.57,2,     0.05,     0.00,2,     0.01,     2.90,2,     0.01,  -999.00,9,  -999.00, -999.000,9, -999.000,9, -999.000,9, -999.000,9,   -999.0,9,   -999.0,9,   -999.0,9,-999.0000,     -999,9, -999.000,9,  -999.00,9, -999.000,9, -999.000,   -999.0,9,   -999.0, -999.000,9, -999.000, -999.000,9, -999.000,   -999.0,9,   -999.0, -999.000,9, -999.000,9, -999.000,9
  49NZ20140717,   P01,   144,  1,     14, X12J14,9,20140821,2214, 46.9955,-127.9172, 2698,   -999.0,9,-999.0000,9,-999.00000,9,-999.0000,9,-999.0000,9,-999.0000,9,  -999.00,9,  -999.00,9, -999.000,-999.0000,9, -999.000,9,  -999.00,9, -999.000,9, -999.000,9,  -999.00,9,  -999.00,  -999.00,9,  -999.00,  -999.00,9,  -999.00,  -999.00,9,  -999.00,  -999.00,9,  -999.00, -999.000,9, -999.000,9, -999.000,9, -999.000,9,   -999.0,9,   -999.0,9,   -999.0,9,-999.0000,     -999,9, -999.000,9,  -999.00,9, -999.000,9, -999.000,   -999.0,9,   -999.0, -999.000,9, -999.000, -999.000,9, -999.000,   -999.0,9,   -999.0, -999.000,9, -999.000,9, -999.000,9
  49NZ20140717,   P01,   144,  1,     13, X12113,9,20140821,2214, 46.9955,-127.9172, 2698,   -999.0,9,-999.0000,9,-999.00000,9,-999.0000,9,-999.0000,9,-999.0000,9,  -999.00,9,  -999.00,9, -999.000,-999.0000,9, -999.000,9,  -999.00,9, -999.000,9, -999.000,9,  -999.00,9,  -999.00,  -999.00,9,  -999.00,  -999.00,9,  -999.00,  -999.00,9,  -999.00,  -999.00,9,  -999.00, -999.000,9, -999.000,9, -999.000,9, -999.000,9,   -999.0,9,   -999.0,9,   -999.0,9,-999.0000,     -999,9, -999.000,9,  -999.00,9, -999.000,9, -999.000,   -999.0,9,   -999.0, -999.000,9, -999.000, -999.000,9, -999.000,   -999.0,9,   -999.0, -999.000,9, -999.000,9, -999.000,9
  49NZ20140717,   P01,   144,  1,     12, X12J12,9,20140821,2214, 46.9955,-127.9172, 2698,   -999.0,9,-999.0000,9,-999.00000,9,-999.0000,9,-999.0000,9,-999.0000,9,  -999.00,9,  -999.00,9, -999.000,-999.0000,9, -999.000,9,  -999.00,9, -999.000,9, -999.000,9,  -999.00,9,  -999.00,  -999.00,9,  -999.00,  -999.00,9,  -999.00,  -999.00,9,  -999.00,  -999.00,9,  -999.00, -999.000,9, -999.000,9, -999.000,9, -999.000,9,   -999.0,9,   -999.0,9,   -999.0,9,-999.0000,     -999,9, -999.000,9,  -999.00,9, -999.000,9, -999.000,   -999.0,9,   -999.0, -999.000,9, -999.000, -999.000,9, -999.000,   -999.0,9,   -999.0, -999.000,9, -999.000,9, -999.000,9
  49NZ20140717,   P01,   144,  1,     11, X12J11,9,20140821,2214, 46.9955,-127.9172, 2698,   -999.0,9,-999.0000,9,-999.00000,9,-999.0000,9,-999.0000,9,-999.0000,9,  -999.00,9,  -999.00,9, -999.000,-999.0000,9, -999.000,9,  -999.00,9, -999.000,9, -999.000,9,  -999.00,9,  -999.00,  -999.00,9,  -999.00,  -999.00,9,  -999.00,  -999.00,9,  -999.00,  -999.00,9,  -999.00, -999.000,9, -999.000,9, -999.000,9, -999.000,9,   -999.0,9,   -999.0,9,   -999.0,9,-999.0000,     -999,9, -999.000,9,  -999.00,9, -999.000,9, -999.000,   -999.0,9,   -999.0, -999.000,9, -999.000, -999.000,9, -999.000,   -999.0,9,   -999.0, -999.000,9, -999.000,9, -999.000,9
  49NZ20140717,   P01,   144,  1,     10, X12J10,9,20140821,2214, 46.9955,-127.9172, 2698,   -999.0,9,-999.0000,9,-999.00000,9,-999.0000,9,-999.0000,9,-999.0000,9,  -999.00,9,  -999.00,9, -999.000,-999.0000,9, -999.000,9,  -999.00,9, -999.000,9, -999.000,9,  -999.00,9,  -999.00,  -999.00,9,  -999.00,  -999.00,9,  -999.00,  -999.00,9,  -999.00,  -999.00,9,  -999.00, -999.000,9, -999.000,9, -999.000,9, -999.000,9,   -999.0,9,   -999.0,9,   -999.0,9,-999.0000,     -999,9, -999.000,9,  -999.00,9, -999.000,9, -999.000,   -999.0,9,   -999.0, -999.000,9, -999.000, -999.000,9, -999.000,   -999.0,9,   -999.0, -999.000,9, -999.000,9, -999.000,9