BOTTLE,20230904JAMSTECRIGC
EXPOCODE,SECT,STNNBR,CASTNO,SAMPNO,BTLNBR,BTLNBR_FLAG_W,DATE,TIME,LATITUDE,LONGITUDE,DEPTH,CTDPRS,CTDPRS_FLAG_W,CTDTMP,CTDTMP_FLAG_W,SBE35,SBE35_FLAG_W,CTDSAL,CTDSAL_FLAG_W,SALNTY,SALNTY_FLAG_W,DNSSAL,DNSSAL_FLAG_W,CTDOXY,CTDOXY_FLAG_W,OXYGEN,OXYGEN_FLAG_W,XMISS,XMISSCP,XMISS_FLAG_W,FLUOR,FLUOR_FLAG_W,CHLORA,CHLORA_FLAG_W,CDOM,CDOM_FLAG_W,PAR,PAR_FLAG_W,SILCAT,SILCAT_FLAG_W,SILUNC,NITRAT,NITRAT_FLAG_W,NRAUNC,NITRIT,NITRIT_FLAG_W,NRIUNC,PHSPHT,PHSPHT_FLAG_W,PHPUNC,AMMONIA,AMMONIA_FLAG_W,NH4UNC,CFC-11,CFC-11_FLAG_W,CFC-12,CFC-12_FLAG_W,CFC113,CFC113_FLAG_W,SF6,SF6_FLAG_W,TCARBN,TCARBN_FLAG_W,ALKALI,ALKALI_FLAG_W,ALKALI_POT,ALKALI_POT_FLAG_W,PH_TOT,PH_TMP,PH_TOT_FLAG_W,CALCIUM,CALCIUM_FLAG_W,DOC,DOC_FLAG_W,DELC13,DELC13_FLAG_W,C13ERR,DELC14,DELC14_FLAG_W,C14ERR,CS-134,CS-134_FLAG_W,CS134ER,CS-137,CS-137_FLAG_W,CS137ER,I-129,I-129_FLAG_W,I-129ER,CDOM-325,CDOM-325_FLAG_W,CDOM-370,CDOM-370_FLAG_W,CDOM-443,CDOM-443_FLAG_W
,,,,,,,,UTC,DEG,DEG,METERS,DBAR,,ITS-90,,ITS-90,,PSS-78,,PSS-78,,G/KG,,UMOL/KG,,UMOL/KG,,%TRANS,/METER,,MG/CUM,,MG/CUM,,MG/CUM,,UE/SQM/S,,UMOL/KG,,UMOL/KG,UMOL/KG,,UMOL/KG,UMOL/KG,,UMOL/KG,UMOL/KG,,UMOL/KG,UMOL/KG,,UMOL/KG,PMOL/KG,,PMOL/KG,,PMOL/KG,,FMOL/KG,,UMOL/KG,,UMOL/KG,,UMOL/KG,,,DEG C,,MMOL/KG,,UMOL/KG,,/MILLE,,/MILLE,/MILLE,,/MILLE,MBQ/KG,,MBQ/KG,MBQ/KG,,MBQ/KG,,,,/METER,,/METER,,/METER,
  49NZ20140717,   P01,    63,  1,      0,   -999,9,20140724,0843, 42.3335, 152.0995, 5116,   -999.0,9,-999.0000,9,-999.00000,9,-999.0000,9,  32.5984,2,-999.0000,9,  -999.00,9,  -999.00,9, -999.000,-999.0000,9, -999.000,9,  -999.00,9, -999.000,9, -999.000,9,     4.96,2,     0.09,     5.12,2,     0.02,     0.11,2,     0.01,     0.68,2,     0.02,  -999.00,9,  -999.00, -999.000,9, -999.000,9, -999.000,9, -999.000,9,   -999.0,9,   -999.0,9,   -999.0,9,-999.0000,     -999,9, -999.000,9,  -999.00,9, -999.000,9, -999.000,   -999.0,9,   -999.0, -999.000,9, -999.000, -999.000,9, -999.000,   -999.0,9,   -999.0, -999.000,9, -999.000,9, -999.000,9
  49NZ20140717,   P01,    63,  1,     36, X12J36,2,20140724,0843, 42.3335, 152.0995, 5116,      9.9,2,  16.1279,2,  16.12799,2,  32.5853,2,  32.5889,2,-999.0000,9,   266.96,2,   267.86,2,   90.805,   0.3858,2,    0.774,2,  -999.00,9,    0.289,1,    0.251,2,     4.91,2,     0.09,     5.38,2,     0.02,     0.10,2,     0.01,     0.68,2,     0.01,  -999.00,9,  -999.00, -999.000,9, -999.000,9, -999.000,9, -999.000,9,   -999.0,9,   -999.0,9,   -999.0,9,-999.0000,     -999,9, -999.000,9,  -999.00,9, -999.000,9, -999.000,   -999.0,9,   -999.0, -999.000,9, -999.000, -999.000,9, -999.000,   -999.0,9,   -999.0, -999.000,9, -999.000,9, -999.000,9
  49NZ20140717,   P01,    63,  1,     35, X12J35,2,20140724,0843, 42.3335, 152.0995, 5116,     50.4,2,   3.0556,2,   3.06418,2,  32.9058,2,  32.9072,2,-999.0000,9,   330.68,2,   330.99,2,   97.700,   0.0931,2,    0.336,2,  -999.00,9,    1.065,1,    0.000,2,    27.77,2,     0.09,    18.76,2,     0.03,     0.36,2,     0.01,     1.74,2,     0.01,  -999.00,9,  -999.00, -999.000,9, -999.000,9, -999.000,9, -999.000,9,   -999.0,9,   -999.0,9,   -999.0,9,-999.0000,     -999,9, -999.000,9,  -999.00,9, -999.000,9, -999.000,   -999.0,9,   -999.0, -999.000,9, -999.000, -999.000,9, -999.000,   -999.0,9,   -999.0, -999.000,9, -999.000,9, -999.000,9
  49NZ20140717,   P01,    63,  1,     34, X12J34,2,20140724,0843, 42.3335, 152.0995, 5116,    100.8,2,   1.5172,2,   1.51710,2,  33.1292,2,  33.1302,2,-999.0000,9,   281.64,2,   281.85,2,   99.299,   0.0281,2,    0.053,2,  -999.00,9,    1.405,1,    0.000,2,    49.85,2,     0.11,    27.15,2,     0.04,     0.01,2,     0.01,     2.11,2,     0.01,  -999.00,9,  -999.00, -999.000,9, -999.000,9, -999.000,9, -999.000,9,   -999.0,9,   -999.0,9,   -999.0,9,-999.0000,     -999,9, -999.000,9,  -999.00,9, -999.000,9, -999.000,   -999.0,9,   -999.0, -999.000,9, -999.000, -999.000,9, -999.000,   -999.0,9,   -999.0, -999.000,9, -999.000,9, -999.000,9
  49NZ20140717,   P01,    63,  1,     33, X12J33,2,20140724,0843, 42.3335, 152.0995, 5116,    150.5,2,   2.2307,2,   2.23169,2,  33.4971,2,  33.4951,2,-999.0000,9,   167.00,2,   167.39,2,   99.187,   0.0327,2,    0.008,2,  -999.00,9,    2.253,1,    0.000,2,    74.11,2,     0.12,    35.22,2,     0.05,     0.01,2,     0.01,     2.62,2,     0.01,  -999.00,9,  -999.00, -999.000,9, -999.000,9, -999.000,9, -999.000,9,   -999.0,9,   -999.0,9,   -999.0,9,-999.0000,     -999,9, -999.000,9,  -999.00,9, -999.000,9, -999.000,   -999.0,9,   -999.0, -999.000,9, -999.000, -999.000,9, -999.000,   -999.0,9,   -999.0, -999.000,9, -999.000,9, -999.000,9
  49NZ20140717,   P01,    63,  1,     32, X12J32,2,20140724,0843, 42.3335, 152.0995, 5116,    199.3,2,   2.6350,2,   2.63529,2,  33.6506,2,  33.6494,2,-999.0000,9,   116.85,2,   117.16,2,   99.148,   0.0342,2,    0.009,2,  -999.00,9,    2.474,1,    0.000,2,    85.38,2,     0.13,    38.67,2,     0.05,     0.01,2,     0.01,     2.82,2,     0.01,  -999.00,9,  -999.00, -999.000,9, -999.000,9, -999.000,9, -999.000,9,   -999.0,9,   -999.0,9,   -999.0,9,-999.0000,     -999,9, -999.000,9,  -999.00,9, -999.000,9, -999.000,   -999.0,9,   -999.0, -999.000,9, -999.000, -999.000,9, -999.000,   -999.0,9,   -999.0, -999.000,9, -999.000,9, -999.000,9
  49NZ20140717,   P01,    63,  1,     31, X12J31,2,20140724,0843, 42.3335, 152.0995, 5116,    249.9,2,   2.8486,2,   2.84564,2,  33.7705,2,  33.7700,2,-999.0000,9,    88.91,2,    88.75,2,   99.335,   0.0267,2,    0.009,2,  -999.00,9,    2.565,1,    0.000,2,    93.60,2,     0.13,    40.15,2,     0.05,     0.01,2,     0.01,     2.92,2,     0.01,  -999.00,9,  -999.00, -999.000,9, -999.000,9, -999.000,9, -999.000,9,   -999.0,9,   -999.0,9,   -999.0,9,-999.0000,     -999,9, -999.000,9,  -999.00,9, -999.000,9, -999.000,   -999.0,9,   -999.0, -999.000,9, -999.000, -999.000,9, -999.000,   -999.0,9,   -999.0, -999.000,9, -999.000,9, -999.000,9
  49NZ20140717,   P01,    63,  1,     30, X12J30,2,20140724,0843, 42.3335, 152.0995, 5116,    300.0,2,   3.1017,2,   3.10143,2,  33.8825,2,  33.8821,2,-999.0000,9,    62.64,2,    62.41,2,   99.614,   0.0155,2,    0.009,2,  -999.00,9,    2.693,1,    0.000,2,   101.49,2,     0.14,    41.79,2,     0.05,     0.01,2,     0.01,     3.01,2,     0.01,  -999.00,9,  -999.00, -999.000,9, -999.000,9, -999.000,9, -999.000,9,   -999.0,9,   -999.0,9,   -999.0,9,-999.0000,     -999,9, -999.000,9,  -999.00,9, -999.000,9, -999.000,   -999.0,9,   -999.0, -999.000,9, -999.000, -999.000,9, -999.000,   -999.0,9,   -999.0, -999.000,9, -999.000,9, -999.000,9
  49NZ20140717,   P01,    63,  1,     29, X12J29,2,20140724,0843, 42.3335, 152.0995, 5116,    401.5,2,   3.2414,2,   3.23771,2,  34.0480,2,  34.0445,2,-999.0000,9,    40.00,2,    39.90,2,   99.745,   0.0102,2,    0.009,2,  -999.00,9,    2.812,1,    0.000,2,   115.22,2,     0.15,    42.85,2,     0.05,     0.01,2,     0.01,     3.08,2,     0.01,  -999.00,9,  -999.00, -999.000,9, -999.000,9, -999.000,9, -999.000,9,   -999.0,9,   -999.0,9,   -999.0,9,-999.0000,     -999,9, -999.000,9,  -999.00,9, -999.000,9, -999.000,   -999.0,9,   -999.0, -999.000,9, -999.000, -999.000,9, -999.000,   -999.0,9,   -999.0, -999.000,9, -999.000,9, -999.000,9
  49NZ20140717,   P01,    63,  1,     28, X12J28,2,20140724,0843, 42.3335, 152.0995, 5116,    500.1,2,   3.7368,2,   3.73658,2,  34.2186,2,  34.2187,2,-999.0000,9,    46.34,2,    47.00,2,   99.858,   0.0057,2,    0.006,2,  -999.00,9,    2.716,1,    0.000,2,   115.26,2,     0.15,    41.03,2,     0.05,     0.01,2,     0.01,     2.95,2,     0.01,  -999.00,9,  -999.00, -999.000,9, -999.000,9, -999.000,9, -999.000,9,   -999.0,9,   -999.0,9,   -999.0,9,-999.0000,     -999,9, -999.000,9,  -999.00,9, -999.000,9, -999.000,   -999.0,9,   -999.0, -999.000,9, -999.000, -999.000,9, -999.000,   -999.0,9,   -999.0, -999.000,9, -999.000,9, -999.000,9
  49NZ20140717,   P01,    63,  1,     27, X12J27,2,20140724,0843, 42.3335, 152.0995, 5116,    599.6,2,   3.0694,2,   3.06922,2,  34.2194,2,  34.2195,2,-999.0000,9,    29.65,2,    29.85,2,   99.821,   0.0072,2,    0.008,2,  -999.00,9,    2.927,1,    0.000,2,   131.95,2,     0.16,    43.21,2,     0.05,     0.01,2,     0.01,     3.10,2,     0.01,  -999.00,9,  -999.00, -999.000,9, -999.000,9, -999.000,9, -999.000,9,   -999.0,9,   -999.0,9,   -999.0,9,-999.0000,     -999,9, -999.000,9,  -999.00,9, -999.000,9, -999.000,   -999.0,9,   -999.0, -999.000,9, -999.000, -999.000,9, -999.000,   -999.0,9,   -999.0, -999.000,9, -999.000,9, -999.000,9
  49NZ20140717,   P01,    63,  1,     26, X12J26,2,20140724,0843, 42.3335, 152.0995, 5116,    700.1,2,   2.9601,2,   2.95985,2,  34.2855,2,  34.2841,2,-999.0000,9,    28.37,2,    28.16,2,   99.849,   0.0060,2,    0.007,2,  -999.00,9,    2.916,1,    0.000,2,   138.80,2,     0.16,    43.34,2,     0.05,     0.01,2,     0.01,     3.11,2,     0.01,  -999.00,9,  -999.00, -999.000,9, -999.000,9, -999.000,9, -999.000,9,   -999.0,9,   -999.0,9,   -999.0,9,-999.0000,     -999,9, -999.000,9,  -999.00,9, -999.000,9, -999.000,   -999.0,9,   -999.0, -999.000,9, -999.000, -999.000,9, -999.000,   -999.0,9,   -999.0, -999.000,9, -999.000,9, -999.000,9
  49NZ20140717,   P01,    63,  1,     25, X12J25,2,20140724,0843, 42.3335, 152.0995, 5116,    800.9,2,   2.8238,2,   2.82341,2,  34.3436,2,  34.3441,2,-999.0000,9,    24.01,2,    23.94,2,   99.868,   0.0053,2,    0.006,2,  -999.00,9,    2.953,1,    0.000,2,   145.70,2,     0.16,    43.69,2,     0.06,     0.01,2,     0.01,     3.12,2,     0.01,  -999.00,9,  -999.00, -999.000,9, -999.000,9, -999.000,9, -999.000,9,   -999.0,9,   -999.0,9,   -999.0,9,-999.0000,     -999,9, -999.000,9,  -999.00,9, -999.000,9, -999.000,   -999.0,9,   -999.0, -999.000,9, -999.000, -999.000,9, -999.000,   -999.0,9,   -999.0, -999.000,9, -999.000,9, -999.000,9
  49NZ20140717,   P01,    63,  1,     24, X12J24,2,20140724,0843, 42.3335, 152.0995, 5116,    900.4,2,   2.6764,2,   2.67552,2,  34.3841,2,  34.3843,2,-999.0000,9,    25.86,2,    26.30,2,   99.881,   0.0047,2,    0.006,2,  -999.00,9,    2.926,1,    0.000,2,   150.95,2,     0.17,    43.63,2,     0.05,     0.01,2,     0.01,     3.12,2,     0.01,  -999.00,9,  -999.00, -999.000,9, -999.000,9, -999.000,9, -999.000,9,   -999.0,9,   -999.0,9,   -999.0,9,-999.0000,     -999,9, -999.000,9,  -999.00,9, -999.000,9, -999.000,   -999.0,9,   -999.0, -999.000,9, -999.000, -999.000,9, -999.000,   -999.0,9,   -999.0, -999.000,9, -999.000,9, -999.000,9
  49NZ20140717,   P01,    63,  1,     23, X12J23,2,20140724,0843, 42.3335, 152.0995, 5116,   1000.0,2,   2.5340,2,   2.53378,2,  34.4196,2,  34.4193,2,-999.0000,9,    32.16,2,    32.14,2,   99.896,   0.0041,2,    0.005,2,  -999.00,9,    2.910,1,    0.000,2,   154.40,2,     0.17,    43.20,2,     0.05,     0.01,2,     0.01,     3.09,2,     0.01,  -999.00,9,  -999.00, -999.000,9, -999.000,9, -999.000,9, -999.000,9,   -999.0,9,   -999.0,9,   -999.0,9,-999.0000,     -999,9, -999.000,9,  -999.00,9, -999.000,9, -999.000,   -999.0,9,   -999.0, -999.000,9, -999.000, -999.000,9, -999.000,   -999.0,9,   -999.0, -999.000,9, -999.000,9, -999.000,9
  49NZ20140717,   P01,    63,  1,     22, X12J22,2,20140724,0843, 42.3335, 152.0995, 5116,   1199.6,2,   2.3510,2,   2.35077,2,  34.4725,2,  34.4725,2,-999.0000,9,    40.08,2,    40.15,2,   99.927,   0.0029,2,    0.004,2,  -999.00,9,    2.869,1,    0.000,2,   159.32,2,     0.17,    42.82,2,     0.05,     0.01,2,     0.01,     3.06,2,     0.01,  -999.00,9,  -999.00, -999.000,9, -999.000,9, -999.000,9, -999.000,9,   -999.0,9,   -999.0,9,   -999.0,9,-999.0000,     -999,9, -999.000,9,  -999.00,9, -999.000,9, -999.000,   -999.0,9,   -999.0, -999.000,9, -999.000, -999.000,9, -999.000,   -999.0,9,   -999.0, -999.000,9, -999.000,9, -999.000,9
  49NZ20140717,   P01,    63,  1,     21, X12J21,2,20140724,0843, 42.3335, 152.0995, 5116,   1399.8,2,   2.2098,2,   2.20957,2,  34.5156,2,  34.5158,2,-999.0000,9,    48.16,2,    48.24,2,   99.937,   0.0025,2,    0.003,2,  -999.00,9,    2.905,1,    0.000,2,   162.07,2,     0.18,    42.41,2,     0.05,     0.01,2,     0.01,     3.03,2,     0.01,  -999.00,9,  -999.00, -999.000,9, -999.000,9, -999.000,9, -999.000,9,   -999.0,9,   -999.0,9,   -999.0,9,-999.0000,     -999,9, -999.000,9,  -999.00,9, -999.000,9, -999.000,   -999.0,9,   -999.0, -999.000,9, -999.000, -999.000,9, -999.000,   -999.0,9,   -999.0, -999.000,9, -999.000,9, -999.000,9
  49NZ20140717,   P01,    63,  1,     20, X12J20,2,20140724,0843, 42.3335, 152.0995, 5116,   4997.7,2,   1.5142,2,   1.51424,2,  34.6892,2,  34.6894,2,-999.0000,9,   157.17,2,   157.34,2,   99.888,   0.0045,2,   -0.004,2,  -999.00,9,   -1.644,4,    0.000,2,  -999.00,9,  -999.00,  -999.00,9,  -999.00,  -999.00,9,  -999.00,  -999.00,9,  -999.00,  -999.00,9,  -999.00, -999.000,9, -999.000,9, -999.000,9, -999.000,9,   -999.0,9,   -999.0,9,   -999.0,9,-999.0000,     -999,9, -999.000,9,  -999.00,9, -999.000,9, -999.000,   -999.0,9,   -999.0, -999.000,9, -999.000, -999.000,9, -999.000,   -999.0,9,   -999.0, -999.000,9, -999.000,9, -999.000,9
  49NZ20140717,   P01,    63,  1,     19, X12J19,2,20140724,0843, 42.3335, 152.0995, 5116,   1798.7,2,   1.9751,2,   1.97511,2,  34.5808,2,  34.5810,2,-999.0000,9,    67.63,2,    67.78,2,   99.974,   0.0010,2,    0.002,2,  -999.00,9,    2.737,1,    0.000,2,   164.03,2,     0.18,    41.40,2,     0.05,     0.01,2,     0.01,     2.94,2,     0.01,  -999.00,9,  -999.00, -999.000,9, -999.000,9, -999.000,9, -999.000,9,   -999.0,9,   -999.0,9,   -999.0,9,-999.0000,     -999,9, -999.000,9,  -999.00,9, -999.000,9, -999.000,   -999.0,9,   -999.0, -999.000,9, -999.000, -999.000,9, -999.000,   -999.0,9,   -999.0, -999.000,9, -999.000,9, -999.000,9
  49NZ20140717,   P01,    63,  1,     18, X12J18,2,20140724,0843, 42.3335, 152.0995, 5116,   2000.0,2,   1.8568,2,   1.85669,2,  34.6044,2,  34.6051,2,-999.0000,9,    80.04,2,    80.03,2,   99.972,   0.0011,2,    0.001,2,  -999.00,9,    2.656,1,    0.000,2,   163.93,2,     0.18,    40.61,2,     0.05,     0.01,2,     0.01,     2.87,2,     0.01,  -999.00,9,  -999.00, -999.000,9, -999.000,9, -999.000,9, -999.000,9,   -999.0,9,   -999.0,9,   -999.0,9,-999.0000,     -999,9, -999.000,9,  -999.00,9, -999.000,9, -999.000,   -999.0,9,   -999.0, -999.000,9, -999.000, -999.000,9, -999.000,   -999.0,9,   -999.0, -999.000,9, -999.000,9, -999.000,9
  49NZ20140717,   P01,    63,  1,     17, X12J17,2,20140724,0843, 42.3335, 152.0995, 5116,   2201.2,2,   1.7542,2,   1.75415,2,  34.6242,2,  34.6246,2,-999.0000,9,    93.81,2,    93.84,2,   99.950,   0.0020,2,    0.000,2,  -999.00,9,    2.557,1,    0.000,2,   162.30,2,     0.18,    39.81,2,     0.05,     0.01,2,     0.01,     2.81,2,     0.01,  -999.00,9,  -999.00, -999.000,9, -999.000,9, -999.000,9, -999.000,9,   -999.0,9,   -999.0,9,   -999.0,9,-999.0000,     -999,9, -999.000,9,  -999.00,9, -999.000,9, -999.000,   -999.0,9,   -999.0, -999.000,9, -999.000, -999.000,9, -999.000,   -999.0,9,   -999.0, -999.000,9, -999.000,9, -999.000,9
  49NZ20140717,   P01,    63,  1,     16, X12J16,2,20140724,0843, 42.3335, 152.0995, 5116,   2401.2,2,   1.6721,2,   1.67201,2,  34.6379,2,  34.6381,2,-999.0000,9,   103.34,2,   103.14,2,   99.955,   0.0018,2,   -0.001,2,  -999.00,9,    2.534,1,    0.000,2,   162.25,2,     0.18,    39.30,2,     0.05,     0.01,2,     0.01,     2.77,2,     0.01,  -999.00,9,  -999.00, -999.000,9, -999.000,9, -999.000,9, -999.000,9,   -999.0,9,   -999.0,9,   -999.0,9,-999.0000,     -999,9, -999.000,9,  -999.00,9, -999.000,9, -999.000,   -999.0,9,   -999.0, -999.000,9, -999.000, -999.000,9, -999.000,   -999.0,9,   -999.0, -999.000,9, -999.000,9, -999.000,9
  49NZ20140717,   P01,    63,  1,     15, X12J15,2,20140724,0843, 42.3335, 152.0995, 5116,   2601.6,2,   1.6093,2,   1.60930,2,  34.6493,2,  34.6497,2,-999.0000,9,   113.49,2,   113.34,2,   99.976,   0.0009,2,   -0.002,2,  -999.00,9,    2.466,1,    0.000,2,   159.98,2,     0.17,    38.63,2,     0.05,     0.00,2,     0.01,     2.72,2,     0.01,  -999.00,9,  -999.00, -999.000,9, -999.000,9, -999.000,9, -999.000,9,   -999.0,9,   -999.0,9,   -999.0,9,-999.0000,     -999,9, -999.000,9,  -999.00,9, -999.000,9, -999.000,   -999.0,9,   -999.0, -999.000,9, -999.000, -999.000,9, -999.000,   -999.0,9,   -999.0, -999.000,9, -999.000,9, -999.000,9
  49NZ20140717,   P01,    63,  1,     14, X12J14,2,20140724,0843, 42.3335, 152.0995, 5116,   2803.0,2,   1.5587,2,   1.55878,2,  34.6578,2,  34.6580,2,-999.0000,9,   121.22,2,   120.86,2,  100.009,  -0.0003,2,   -0.002,2,  -999.00,9,    2.369,1,    0.000,2,   158.72,2,     0.17,    38.02,2,     0.05,     0.01,2,     0.01,     2.67,2,     0.01,  -999.00,9,  -999.00, -999.000,9, -999.000,9, -999.000,9, -999.000,9,   -999.0,9,   -999.0,9,   -999.0,9,-999.0000,     -999,9, -999.000,9,  -999.00,9, -999.000,9, -999.000,   -999.0,9,   -999.0, -999.000,9, -999.000, -999.000,9, -999.000,   -999.0,9,   -999.0, -999.000,9, -999.000,9, -999.000,9
  49NZ20140717,   P01,    63,  1,     13, X12113,2,20140724,0843, 42.3335, 152.0995, 5116,   3002.0,2,   1.5257,2,   1.52571,2,  34.6644,2,  34.6648,2,-999.0000,9,   128.77,2,   128.43,2,  100.000,   0.0000,2,   -0.002,2,  -999.00,9,    2.354,1,    0.000,2,   156.49,2,     0.17,    37.61,2,     0.05,     0.00,2,     0.01,     2.64,2,     0.01,  -999.00,9,  -999.00, -999.000,9, -999.000,9, -999.000,9, -999.000,9,   -999.0,9,   -999.0,9,   -999.0,9,-999.0000,     -999,9, -999.000,9,  -999.00,9, -999.000,9, -999.000,   -999.0,9,   -999.0, -999.000,9, -999.000, -999.000,9, -999.000,   -999.0,9,   -999.0, -999.000,9, -999.000,9, -999.000,9
  49NZ20140717,   P01,    63,  1,     12, X12J12,2,20140724,0843, 42.3335, 152.0995, 5116,   3250.9,2,   1.4922,2,   1.49225,2,  34.6709,2,  34.6710,2,-999.0000,9,   135.70,2,   135.32,2,  100.009,  -0.0003,2,   -0.003,2,  -999.00,9,    2.323,1,    0.000,2,   155.18,2,     0.17,    37.17,2,     0.05,     0.00,2,     0.01,     2.60,2,     0.01,  -999.00,9,  -999.00, -999.000,9, -999.000,9, -999.000,9, -999.000,9,   -999.0,9,   -999.0,9,   -999.0,9,-999.0000,     -999,9, -999.000,9,  -999.00,9, -999.000,9, -999.000,   -999.0,9,   -999.0, -999.000,9, -999.000, -999.000,9, -999.000,   -999.0,9,   -999.0, -999.000,9, -999.000,9, -999.000,9
  49NZ20140717,   P01,    63,  1,     11, X12J11,2,20140724,0843, 42.3335, 152.0995, 5116,   3501.5,2,   1.4678,2,   1.46783,2,  34.6762,2,  34.6761,2,-999.0000,9,   141.96,2,   141.72,2,  100.009,  -0.0003,2,   -0.003,2,  -999.00,9,    2.319,1,    0.000,2,   153.45,2,     0.17,    36.75,2,     0.05,     0.00,2,     0.01,     2.57,2,     0.01,  -999.00,9,  -999.00, -999.000,9, -999.000,9, -999.000,9, -999.000,9,   -999.0,9,   -999.0,9,   -999.0,9,-999.0000,     -999,9, -999.000,9,  -999.00,9, -999.000,9, -999.000,   -999.0,9,   -999.0, -999.000,9, -999.000, -999.000,9, -999.000,   -999.0,9,   -999.0, -999.000,9, -999.000,9, -999.000,9
  49NZ20140717,   P01,    63,  1,     10, X12J10,2,20140724,0843, 42.3335, 152.0995, 5116,   3751.3,2,   1.4544,2,   1.45452,2,  34.6804,2,  34.6806,2,-999.0000,9,   147.04,2,   146.67,2,  100.009,  -0.0003,2,   -0.004,2,  -999.00,9,    2.170,1,    0.000,2,   152.08,2,     0.17,    36.39,2,     0.05,     0.00,2,     0.01,     2.54,2,     0.01,  -999.00,9,  -999.00, -999.000,9, -999.000,9, -999.000,9, -999.000,9,   -999.0,9,   -999.0,9,   -999.0,9,-999.0000,     -999,9, -999.000,9,  -999.00,9, -999.000,9, -999.000,   -999.0,9,   -999.0, -999.000,9, -999.000, -999.000,9, -999.000,   -999.0,9,   -999.0, -999.000,9, -999.000,9, -999.000,9