BOTTLE,20230904JAMSTECRIGC
EXPOCODE,SECT,STNNBR,CASTNO,SAMPNO,BTLNBR,BTLNBR_FLAG_W,DATE,TIME,LATITUDE,LONGITUDE,DEPTH,CTDPRS,CTDPRS_FLAG_W,CTDTMP,CTDTMP_FLAG_W,SBE35,SBE35_FLAG_W,CTDSAL,CTDSAL_FLAG_W,SALNTY,SALNTY_FLAG_W,DNSSAL,DNSSAL_FLAG_W,CTDOXY,CTDOXY_FLAG_W,OXYGEN,OXYGEN_FLAG_W,XMISS,XMISSCP,XMISS_FLAG_W,FLUOR,FLUOR_FLAG_W,CHLORA,CHLORA_FLAG_W,CDOM,CDOM_FLAG_W,PAR,PAR_FLAG_W,SILCAT,SILCAT_FLAG_W,SILUNC,NITRAT,NITRAT_FLAG_W,NRAUNC,NITRIT,NITRIT_FLAG_W,NRIUNC,PHSPHT,PHSPHT_FLAG_W,PHPUNC,AMMONIA,AMMONIA_FLAG_W,NH4UNC,CFC-11,CFC-11_FLAG_W,CFC-12,CFC-12_FLAG_W,CFC113,CFC113_FLAG_W,SF6,SF6_FLAG_W,TCARBN,TCARBN_FLAG_W,ALKALI,ALKALI_FLAG_W,ALKALI_POT,ALKALI_POT_FLAG_W,PH_TOT,PH_TMP,PH_TOT_FLAG_W,CALCIUM,CALCIUM_FLAG_W,DOC,DOC_FLAG_W,DELC13,DELC13_FLAG_W,C13ERR,DELC14,DELC14_FLAG_W,C14ERR,CS-134,CS-134_FLAG_W,CS134ER,CS-137,CS-137_FLAG_W,CS137ER,I-129,I-129_FLAG_W,I-129ER,CDOM-325,CDOM-325_FLAG_W,CDOM-370,CDOM-370_FLAG_W,CDOM-443,CDOM-443_FLAG_W
,,,,,,,,UTC,DEG,DEG,METERS,DBAR,,ITS-90,,ITS-90,,PSS-78,,PSS-78,,G/KG,,UMOL/KG,,UMOL/KG,,%TRANS,/METER,,MG/CUM,,MG/CUM,,MG/CUM,,UE/SQM/S,,UMOL/KG,,UMOL/KG,UMOL/KG,,UMOL/KG,UMOL/KG,,UMOL/KG,UMOL/KG,,UMOL/KG,UMOL/KG,,UMOL/KG,PMOL/KG,,PMOL/KG,,PMOL/KG,,FMOL/KG,,UMOL/KG,,UMOL/KG,,UMOL/KG,,,DEG C,,MMOL/KG,,UMOL/KG,,/MILLE,,/MILLE,/MILLE,,/MILLE,MBQ/KG,,MBQ/KG,MBQ/KG,,MBQ/KG,,,,/METER,,/METER,,/METER,
  49NZ20140717,   P01,   100,  1,      0,   -999,9,20140805,1720, 47.0104,-176.0375, 5628,   -999.0,9,-999.0000,9,-999.00000,9,-999.0000,9,  32.8889,2,-999.0000,9,  -999.00,9,  -999.00,9, -999.000,-999.0000,9, -999.000,9,  -999.00,9, -999.000,9, -999.000,9,    18.54,2,     0.09,    12.04,2,     0.02,     0.17,2,     0.01,     1.17,2,     0.01,  -999.00,9,  -999.00, -999.000,9, -999.000,9, -999.000,9, -999.000,9,   -999.0,9,   -999.0,9,   -999.0,9,-999.0000,     -999,9, -999.000,9,  -999.00,9, -999.000,9, -999.000,   -999.0,9,   -999.0, -999.000,9, -999.000, -999.000,9, -999.000,   -999.0,9,   -999.0, -999.000,9, -999.000,9, -999.000,9
  49NZ20140717,   P01,   100,  1,     36, X12J36,2,20140805,1720, 47.0104,-176.0375, 5628,     10.3,2,  11.7404,2,  11.73539,2,  32.9078,2,  32.9047,2,-999.0000,9,   283.99,2,   283.67,2,   96.268,   0.1521,2,    0.373,2,  -999.00,9,   -0.275,1,   59.940,2,    18.50,2,     0.09,    12.06,2,     0.02,     0.16,2,     0.01,     1.16,2,     0.01,  -999.00,9,  -999.00,    3.669,2,    2.013,2,    0.372,2, -999.000,9,   -999.0,9,   -999.0,9,   -999.0,9,-999.0000,     -999,9, -999.000,9,  -999.00,9, -999.000,9, -999.000,   -999.0,9,   -999.0, -999.000,9, -999.000, -999.000,9, -999.000,   -999.0,9,   -999.0, -999.000,9, -999.000,9, -999.000,9
  49NZ20140717,   P01,   100,  1,     35, X12J35,2,20140805,1720, 47.0104,-176.0375, 5628,     50.1,2,   6.0625,2,   6.06354,2,  33.0635,2,  33.0667,2,-999.0000,9,   323.19,2,   323.11,2,   96.963,   0.1234,2,    0.529,2,  -999.00,9,    0.707,1,    3.310,2,    20.03,2,     0.09,    14.05,2,     0.03,     0.13,2,     0.01,     1.29,2,     0.01,  -999.00,9,  -999.00,    4.867,2,    2.562,2,    0.437,2, -999.000,9,   -999.0,9,   -999.0,9,   -999.0,9,-999.0000,     -999,9, -999.000,9,  -999.00,9, -999.000,9, -999.000,   -999.0,9,   -999.0, -999.000,9, -999.000, -999.000,9, -999.000,   -999.0,9,   -999.0, -999.000,9, -999.000,9, -999.000,9
  49NZ20140717,   P01,   100,  1,     34, X12J34,2,20140805,1720, 47.0104,-176.0375, 5628,    100.8,2,   5.3043,2,   5.30385,2,  33.1188,2,  33.1246,2,-999.0000,9,   301.22,2,   301.19,2,   99.385,   0.0247,2,    0.150,2,  -999.00,9,    0.614,1,    0.116,2,    21.81,2,     0.09,    16.59,2,     0.03,     0.09,2,     0.01,     1.40,2,     0.01,  -999.00,9,  -999.00,    4.848,2,    2.561,2,    0.432,2, -999.000,9,   -999.0,9,   -999.0,9,   -999.0,9,-999.0000,     -999,9, -999.000,9,  -999.00,9, -999.000,9, -999.000,   -999.0,9,   -999.0, -999.000,9, -999.000, -999.000,9, -999.000,   -999.0,9,   -999.0, -999.000,9, -999.000,9, -999.000,9
  49NZ20140717,   P01,   100,  1,     33, X12J33,2,20140805,1720, 47.0104,-176.0375, 5628,    150.9,2,   4.7396,2,   4.74086,2,  33.6145,2,  33.6147,2,-999.0000,9,   242.87,2,   242.83,2,   99.748,   0.0101,2,    0.014,2,  -999.00,9,    1.442,1,    0.000,2,    39.47,2,     0.10,    23.57,2,     0.03,     0.01,2,     0.01,     1.76,2,     0.01,  -999.00,9,  -999.00,    4.376,2,    2.305,2,    0.319,2, -999.000,9,   -999.0,9,   -999.0,9,   -999.0,9,-999.0000,     -999,9, -999.000,9,  -999.00,9, -999.000,9, -999.000,   -999.0,9,   -999.0, -999.000,9, -999.000, -999.000,9, -999.000,   -999.0,9,   -999.0, -999.000,9, -999.000,9, -999.000,9
  49NZ20140717,   P01,   100,  1,     32, X12J32,2,20140805,1720, 47.0104,-176.0375, 5628,    199.8,2,   4.2948,2,   4.29407,2,  33.7194,2,  33.7229,2,-999.0000,9,   167.86,2,   165.04,2,   99.681,   0.0128,2,    0.012,2,  -999.00,9,    2.126,1,    0.000,2,    61.37,2,     0.11,    31.50,2,     0.04,     0.01,2,     0.01,     2.31,2,     0.01,  -999.00,9,  -999.00,    3.574,2,    1.847,2,    0.247,2, -999.000,9,   -999.0,9,   -999.0,9,   -999.0,9,-999.0000,     -999,9, -999.000,9,  -999.00,9, -999.000,9, -999.000,   -999.0,9,   -999.0, -999.000,9, -999.000, -999.000,9, -999.000,   -999.0,9,   -999.0, -999.000,9, -999.000,9, -999.000,9
  49NZ20140717,   P01,   100,  1,     31, X12J31,2,20140805,1720, 47.0104,-176.0375, 5628,    250.9,2,   4.0025,2,   4.00237,2,  33.7913,2,  33.7913,2,-999.0000,9,   121.70,2,   121.40,2,   99.841,   0.0064,2,    0.014,2,  -999.00,9,    2.407,1,    0.000,2,    74.19,2,     0.12,    35.74,2,     0.05,     0.01,2,     0.01,     2.59,2,     0.01,  -999.00,9,  -999.00,    3.042,2,    1.562,2,    0.208,2, -999.000,9,   -999.0,9,   -999.0,9,   -999.0,9,-999.0000,     -999,9, -999.000,9,  -999.00,9, -999.000,9, -999.000,   -999.0,9,   -999.0, -999.000,9, -999.000, -999.000,9, -999.000,   -999.0,9,   -999.0, -999.000,9, -999.000,9, -999.000,9
  49NZ20140717,   P01,   100,  1,     30, X12J30,2,20140805,1720, 47.0104,-176.0375, 5628,    330.4,2,   3.9923,2,   3.99218,2,  33.9016,2,  33.9020,2,-999.0000,9,    85.87,2,    86.08,2,   99.859,   0.0057,2,    0.015,2,  -999.00,9,    2.660,1,    0.000,2,    85.78,2,     0.13,    38.63,2,     0.05,     0.01,2,     0.01,     2.78,2,     0.01,  -999.00,9,  -999.00,    2.388,2,    1.208,2,    0.165,2, -999.000,9,   -999.0,9,   -999.0,9,   -999.0,9,-999.0000,     -999,9, -999.000,9,  -999.00,9, -999.000,9, -999.000,   -999.0,9,   -999.0, -999.000,9, -999.000, -999.000,9, -999.000,   -999.0,9,   -999.0, -999.000,9, -999.000,9, -999.000,9
  49NZ20140717,   P01,   100,  1,     29, X12J29,2,20140805,1720, 47.0104,-176.0375, 5628,    430.1,2,   3.8905,2,   3.89024,2,  34.0209,2,  34.0208,2,-999.0000,9,    58.97,2,    59.39,2,   99.854,   0.0058,2,    0.016,2,  -999.00,9,    2.758,1,    0.000,2,    98.78,2,     0.14,    40.67,2,     0.05,     0.01,2,     0.01,     2.92,2,     0.01,  -999.00,9,  -999.00,    1.681,2,    0.829,2,    0.110,2, -999.000,9,   -999.0,9,   -999.0,9,   -999.0,9,-999.0000,     -999,9, -999.000,9,  -999.00,9, -999.000,9, -999.000,   -999.0,9,   -999.0, -999.000,9, -999.000, -999.000,9, -999.000,   -999.0,9,   -999.0, -999.000,9, -999.000,9, -999.000,9
  49NZ20140717,   P01,   100,  1,     28, X12J28,2,20140805,1720, 47.0104,-176.0375, 5628,    530.2,2,   3.7428,2,   3.74270,2,  34.1159,2,  34.1142,2,-999.0000,9,    42.86,2,    43.47,2,   99.889,   0.0044,2,    0.016,2,  -999.00,9,    2.957,1,    0.000,2,   109.53,2,     0.14,    41.82,2,     0.05,     0.01,2,     0.01,     3.00,2,     0.01,  -999.00,9,  -999.00,    1.179,2,    0.569,2,    0.073,2, -999.000,9,   -999.0,9,   -999.0,9,   -999.0,9,-999.0000,     -999,9, -999.000,9,  -999.00,9, -999.000,9, -999.000,   -999.0,9,   -999.0, -999.000,9, -999.000, -999.000,9, -999.000,   -999.0,9,   -999.0, -999.000,9, -999.000,9, -999.000,9
  49NZ20140717,   P01,   100,  1,     27, X12J27,2,20140805,1720, 47.0104,-176.0375, 5628,    631.3,2,   3.5594,2,   3.55929,2,  34.1926,2,  34.1920,2,-999.0000,9,    34.38,2,    34.55,2,   99.863,   0.0055,2,    0.015,2,  -999.00,9,    2.950,1,    0.000,2,   119.26,2,     0.15,    42.50,2,     0.05,     0.01,2,     0.01,     3.04,2,     0.01,  -999.00,9,  -999.00,    0.806,2,    0.375,2,    0.050,2, -999.000,9,   -999.0,9,   -999.0,9,   -999.0,9,-999.0000,     -999,9, -999.000,9,  -999.00,9, -999.000,9, -999.000,   -999.0,9,   -999.0, -999.000,9, -999.000, -999.000,9, -999.000,   -999.0,9,   -999.0, -999.000,9, -999.000,9, -999.000,9
  49NZ20140717,   P01,   100,  1,     26, X12J26,2,20140805,1720, 47.0104,-176.0375, 5628,    730.2,2,   3.3672,2,   3.36671,2,  34.2637,2,  34.2638,2,-999.0000,9,    31.50,2,    31.66,2,   99.891,   0.0044,2,    0.015,2,  -999.00,9,    2.957,1,    0.000,2,   127.42,2,     0.15,    42.72,2,     0.05,     0.01,2,     0.01,     3.06,2,     0.01,  -999.00,9,  -999.00,    0.528,2,    0.241,2,    0.033,2, -999.000,9,   -999.0,9,   -999.0,9,   -999.0,9,-999.0000,     -999,9, -999.000,9,  -999.00,9, -999.000,9, -999.000,   -999.0,9,   -999.0, -999.000,9, -999.000, -999.000,9, -999.000,   -999.0,9,   -999.0, -999.000,9, -999.000,9, -999.000,9
  49NZ20140717,   P01,   100,  1,     25, X12J25,2,20140805,1720, 47.0104,-176.0375, 5628,    830.8,2,   3.1861,2,   3.18608,2,  34.3113,2,  34.3114,2,-999.0000,9,    30.00,2,    29.98,2,   99.878,   0.0049,2,    0.014,2,  -999.00,9,    3.020,1,    0.000,2,   134.12,2,     0.16,    42.99,2,     0.05,     0.00,2,     0.01,     3.08,2,     0.01,  -999.00,9,  -999.00,    0.379,2,    0.168,2,    0.008,2, -999.000,9,   -999.0,9,   -999.0,9,   -999.0,9,-999.0000,     -999,9, -999.000,9,  -999.00,9, -999.000,9, -999.000,   -999.0,9,   -999.0, -999.000,9, -999.000, -999.000,9, -999.000,   -999.0,9,   -999.0, -999.000,9, -999.000,9, -999.000,9
  49NZ20140717,   P01,   100,  1,     24, X12J24,2,20140805,1720, 47.0104,-176.0375, 5628,    929.8,2,   3.0031,2,   3.00292,2,  34.3527,2,  34.3507,2,-999.0000,9,    28.76,2,    28.72,2,   99.831,   0.0068,2,    0.014,2,  -999.00,9,    3.029,1,    0.000,2,   140.02,2,     0.16,    43.17,2,     0.05,     0.01,2,     0.01,     3.09,2,     0.01,  -999.00,9,  -999.00,    0.279,2,    0.119,2,    0.000,2, -999.000,9,   -999.0,9,   -999.0,9,   -999.0,9,-999.0000,     -999,9, -999.000,9,  -999.00,9, -999.000,9, -999.000,   -999.0,9,   -999.0, -999.000,9, -999.000, -999.000,9, -999.000,   -999.0,9,   -999.0, -999.000,9, -999.000,9, -999.000,9
  49NZ20140717,   P01,   100,  1,     23, X12J23,2,20140805,1720, 47.0104,-176.0375, 5628,   1070.5,2,   2.7708,2,   2.77124,2,  34.4011,2,  34.4016,2,-999.0000,9,    28.20,2,    28.03,2,   99.900,   0.0040,2,    0.013,2,  -999.00,9,    3.099,1,    0.000,2,   148.48,2,     0.17,    43.47,2,     0.05,     0.00,2,     0.01,     3.11,2,     0.01,  -999.00,9,  -999.00,    0.176,2,    0.074,2,    0.000,2, -999.000,9,   -999.0,9,   -999.0,9,   -999.0,9,-999.0000,     -999,9, -999.000,9,  -999.00,9, -999.000,9, -999.000,   -999.0,9,   -999.0, -999.000,9, -999.000, -999.000,9, -999.000,   -999.0,9,   -999.0, -999.000,9, -999.000,9, -999.000,9
  49NZ20140717,   P01,   100,  1,     22, X12J22,2,20140805,1720, 47.0104,-176.0375, 5628,   1271.3,2,   2.4950,2,   2.49444,2,  34.4579,2,  34.4587,2,-999.0000,9,    31.57,2,    31.44,2,   99.895,   0.0042,2,    0.013,2,  -999.00,9,    3.195,1,    0.000,2,   157.40,2,     0.17,    43.42,2,     0.05,     0.00,2,     0.01,     3.10,2,     0.01,  -999.00,9,  -999.00,    0.106,2,    0.040,2,    0.000,2, -999.000,9,   -999.0,9,   -999.0,9,   -999.0,9,-999.0000,     -999,9, -999.000,9,  -999.00,9, -999.000,9, -999.000,   -999.0,9,   -999.0, -999.000,9, -999.000, -999.000,9, -999.000,   -999.0,9,   -999.0, -999.000,9, -999.000,9, -999.000,9
  49NZ20140717,   P01,   100,  1,     21, X12J21,2,20140805,1720, 47.0104,-176.0375, 5628,   1470.7,2,   2.3021,2,   2.30199,2,  34.5013,2,  34.5017,2,-999.0000,9,    38.03,2,    37.92,2,   99.917,   0.0033,2,    0.012,2,  -999.00,9,    3.139,1,    0.000,2,   162.78,2,     0.18,    43.09,2,     0.05,     0.01,2,     0.01,     3.07,2,     0.01,  -999.00,9,  -999.00,    0.064,2,    0.022,2,    0.000,2, -999.000,9,   -999.0,9,   -999.0,9,   -999.0,9,-999.0000,     -999,9, -999.000,9,  -999.00,9, -999.000,9, -999.000,   -999.0,9,   -999.0, -999.000,9, -999.000, -999.000,9, -999.000,   -999.0,9,   -999.0, -999.000,9, -999.000,9, -999.000,9
  49NZ20140717,   P01,   100,  1,     20, X12J20,2,20140805,1720, 47.0104,-176.0375, 5628,   1670.2,2,   2.1479,2,   2.14815,2,  34.5383,2,  34.5376,2,-999.0000,9,    45.86,2,    45.72,2,   99.917,   0.0033,2,    0.011,2,  -999.00,9,    3.034,1,    0.000,2,   166.32,2,     0.18,    42.72,2,     0.05,     0.01,2,     0.01,     3.03,2,     0.01,  -999.00,9,  -999.00,    0.026,2,    0.009,2,    0.000,2, -999.000,9,   -999.0,9,   -999.0,9,   -999.0,9,-999.0000,     -999,9, -999.000,9,  -999.00,9, -999.000,9, -999.000,   -999.0,9,   -999.0, -999.000,9, -999.000, -999.000,9, -999.000,   -999.0,9,   -999.0, -999.000,9, -999.000,9, -999.000,9
  49NZ20140717,   P01,   100,  1,     19, X12J19,2,20140805,1720, 47.0104,-176.0375, 5628,   1870.5,2,   2.0105,2,   2.01037,2,  34.5680,2,  34.5680,2,-999.0000,9,    56.41,2,    56.58,2,   99.919,   0.0032,2,    0.010,2,  -999.00,9,    3.014,1,    0.000,2,   168.59,2,     0.18,    42.11,2,     0.05,     0.01,2,     0.01,     2.98,2,     0.01,  -999.00,9,  -999.00,    0.012,2,    0.004,2,    0.000,2, -999.000,9,   -999.0,9,   -999.0,9,   -999.0,9,-999.0000,     -999,9, -999.000,9,  -999.00,9, -999.000,9, -999.000,   -999.0,9,   -999.0, -999.000,9, -999.000, -999.000,9, -999.000,   -999.0,9,   -999.0, -999.000,9, -999.000,9, -999.000,9
  49NZ20140717,   P01,   100,  1,     18, X12J18,2,20140805,1720, 47.0104,-176.0375, 5628,   2071.6,2,   1.8972,2,   1.89684,2,  34.5919,2,  34.5920,2,-999.0000,9,    67.64,2,    67.94,2,   99.965,   0.0014,2,    0.008,2,  -999.00,9,    2.931,1,    0.000,2,   169.33,2,     0.18,    41.39,2,     0.05,     0.01,2,     0.01,     2.93,2,     0.01,  -999.00,9,  -999.00,    0.004,2,    0.001,2,    0.000,2, -999.000,9,   -999.0,9,   -999.0,9,   -999.0,9,-999.0000,     -999,9, -999.000,9,  -999.00,9, -999.000,9, -999.000,   -999.0,9,   -999.0, -999.000,9, -999.000, -999.000,9, -999.000,   -999.0,9,   -999.0, -999.000,9, -999.000,9, -999.000,9
  49NZ20140717,   P01,   100,  1,     17, X12J17,2,20140805,1720, 47.0104,-176.0375, 5628,   2270.8,2,   1.7962,2,   1.79597,2,  34.6119,2,  34.6121,2,-999.0000,9,    79.60,2,    79.91,2,   99.960,   0.0016,2,    0.007,2,  -999.00,9,    2.914,1,    0.000,2,   169.42,2,     0.18,    40.71,2,     0.05,     0.00,2,     0.01,     2.88,2,     0.01,  -999.00,9,  -999.00,    0.003,2,    0.001,2,    0.000,2, -999.000,9,   -999.0,9,   -999.0,9,   -999.0,9,-999.0000,     -999,9, -999.000,9,  -999.00,9, -999.000,9, -999.000,   -999.0,9,   -999.0, -999.000,9, -999.000, -999.000,9, -999.000,   -999.0,9,   -999.0, -999.000,9, -999.000,9, -999.000,9
  49NZ20140717,   P01,   100,  1,     16, X12J16,2,20140805,1720, 47.0104,-176.0375, 5628,   2470.3,2,   1.7151,2,   1.71522,2,  34.6285,2,  34.6283,2,-999.0000,9,    90.44,2,    90.65,2,   99.954,   0.0018,2,    0.007,2,  -999.00,9,    2.778,1,    0.000,2,   168.78,2,     0.18,    40.04,2,     0.05,     0.01,2,     0.01,     2.83,2,     0.01,  -999.00,9,  -999.00,    0.005,2,    0.001,2,    0.000,2, -999.000,9,   -999.0,9,   -999.0,9,   -999.0,9,-999.0000,     -999,9, -999.000,9,  -999.00,9, -999.000,9, -999.000,   -999.0,9,   -999.0, -999.000,9, -999.000, -999.000,9, -999.000,   -999.0,9,   -999.0, -999.000,9, -999.000,9, -999.000,9
  49NZ20140717,   P01,   100,  1,     15, X12J15,2,20140805,1720, 47.0104,-176.0375, 5628,   2669.5,2,   1.6537,2,   1.65366,2,  34.6404,2,  34.6404,2,-999.0000,9,   100.34,2,   100.50,2,   99.963,   0.0015,2,    0.006,2,  -999.00,9,    2.726,1,    0.000,2,   167.36,2,     0.18,    39.40,2,     0.05,     0.01,2,     0.01,     2.78,2,     0.01,  -999.00,9,  -999.00,    0.000,2,    0.000,2,    0.000,2, -999.000,9,   -999.0,9,   -999.0,9,   -999.0,9,-999.0000,     -999,9, -999.000,9,  -999.00,9, -999.000,9, -999.000,   -999.0,9,   -999.0, -999.000,9, -999.000, -999.000,9, -999.000,   -999.0,9,   -999.0, -999.000,9, -999.000,9, -999.000,9
  49NZ20140717,   P01,   100,  1,     14, X12J14,2,20140805,1720, 47.0104,-176.0375, 5628,   2870.6,2,   1.6002,2,   1.60029,2,  34.6506,2,  34.6500,2,-999.0000,9,   110.26,2,   110.01,2,   99.956,   0.0018,2,    0.005,2,  -999.00,9,    2.699,1,    0.000,2,   165.89,2,     0.18,    38.85,2,     0.05,     0.00,2,     0.01,     2.73,2,     0.01,  -999.00,9,  -999.00,    0.000,2,    0.000,2,    0.000,2, -999.000,9,   -999.0,9,   -999.0,9,   -999.0,9,-999.0000,     -999,9, -999.000,9,  -999.00,9, -999.000,9, -999.000,   -999.0,9,   -999.0, -999.000,9, -999.000, -999.000,9, -999.000,   -999.0,9,   -999.0, -999.000,9, -999.000,9, -999.000,9
  49NZ20140717,   P01,   100,  1,     13, X12113,2,20140805,1720, 47.0104,-176.0375, 5628,   3079.4,2,   1.5636,2,   1.56378,2,  34.6581,2,  34.6578,2,-999.0000,9,   118.09,2,   117.95,2,   99.954,   0.0018,2,    0.004,2,  -999.00,9,    2.637,1,    0.000,2,   163.87,2,     0.18,    38.30,2,     0.05,     0.00,2,     0.01,     2.69,2,     0.01,  -999.00,9,  -999.00,    0.001,2,    0.000,2,    0.000,2, -999.000,9,   -999.0,9,   -999.0,9,   -999.0,9,-999.0000,     -999,9, -999.000,9,  -999.00,9, -999.000,9, -999.000,   -999.0,9,   -999.0, -999.000,9, -999.000, -999.000,9, -999.000,   -999.0,9,   -999.0, -999.000,9, -999.000,9, -999.000,9
  49NZ20140717,   P01,   100,  1,     12, X12J12,2,20140805,1720, 47.0104,-176.0375, 5628,   3328.9,2,   1.5248,2,   1.52491,2,  34.6662,2,  34.6661,2,-999.0000,9,   127.11,2,   127.10,2,   99.960,   0.0016,2,    0.004,2,  -999.00,9,    2.587,1,    0.000,2,   161.59,2,     0.17,    37.68,2,     0.05,     0.00,2,     0.01,     2.64,2,     0.01,  -999.00,9,  -999.00,    0.001,2,    0.000,2,    0.000,2, -999.000,9,   -999.0,9,   -999.0,9,   -999.0,9,-999.0000,     -999,9, -999.000,9,  -999.00,9, -999.000,9, -999.000,   -999.0,9,   -999.0, -999.000,9, -999.000, -999.000,9, -999.000,   -999.0,9,   -999.0, -999.000,9, -999.000,9, -999.000,9
  49NZ20140717,   P01,   100,  1,     11, X12J11,2,20140805,1720, 47.0104,-176.0375, 5628,   3579.9,2,   1.4954,2,   1.49535,2,  34.6728,2,  34.6726,2,-999.0000,9,   135.22,2,   135.18,2,   99.967,   0.0013,2,    0.003,2,  -999.00,9,    2.456,1,    0.000,2,   159.97,2,     0.17,    37.23,2,     0.05,     0.01,2,     0.01,     2.60,2,     0.01,  -999.00,9,  -999.00,    0.001,2,    0.000,2,    0.000,2, -999.000,9,   -999.0,9,   -999.0,9,   -999.0,9,-999.0000,     -999,9, -999.000,9,  -999.00,9, -999.000,9, -999.000,   -999.0,9,   -999.0, -999.000,9, -999.000, -999.000,9, -999.000,   -999.0,9,   -999.0, -999.000,9, -999.000,9, -999.000,9
  49NZ20140717,   P01,   100,  1,     10, X12J10,2,20140805,1720, 47.0104,-176.0375, 5628,   3829.7,2,   1.4800,2,   1.48008,2,  34.6777,2,  34.6777,2,-999.0000,9,   141.18,2,   140.88,2,   99.965,   0.0014,2,    0.003,2,  -999.00,9,    2.501,1,    0.000,2,   158.81,2,     0.17,    36.87,2,     0.05,     0.01,2,     0.01,     2.58,2,     0.01,  -999.00,9,  -999.00,    0.003,2,    0.000,2,    0.000,2, -999.000,9,   -999.0,9,   -999.0,9,   -999.0,9,-999.0000,     -999,9, -999.000,9,  -999.00,9, -999.000,9, -999.000,   -999.0,9,   -999.0, -999.000,9, -999.000, -999.000,9, -999.000,   -999.0,9,   -999.0, -999.000,9, -999.000,9, -999.000,9