BOTTLE,20230904JAMSTECRIGC
EXPOCODE,SECT,STNNBR,CASTNO,SAMPNO,BTLNBR,BTLNBR_FLAG_W,DATE,TIME,LATITUDE,LONGITUDE,DEPTH,CTDPRS,CTDPRS_FLAG_W,CTDTMP,CTDTMP_FLAG_W,SBE35,SBE35_FLAG_W,CTDSAL,CTDSAL_FLAG_W,SALNTY,SALNTY_FLAG_W,DNSSAL,DNSSAL_FLAG_W,CTDOXY,CTDOXY_FLAG_W,OXYGEN,OXYGEN_FLAG_W,XMISS,XMISSCP,XMISS_FLAG_W,FLUOR,FLUOR_FLAG_W,CHLORA,CHLORA_FLAG_W,CDOM,CDOM_FLAG_W,PAR,PAR_FLAG_W,SILCAT,SILCAT_FLAG_W,SILUNC,NITRAT,NITRAT_FLAG_W,NRAUNC,NITRIT,NITRIT_FLAG_W,NRIUNC,PHSPHT,PHSPHT_FLAG_W,PHPUNC,AMMONIA,AMMONIA_FLAG_W,NH4UNC,CFC-11,CFC-11_FLAG_W,CFC-12,CFC-12_FLAG_W,CFC113,CFC113_FLAG_W,SF6,SF6_FLAG_W,TCARBN,TCARBN_FLAG_W,ALKALI,ALKALI_FLAG_W,ALKALI_POT,ALKALI_POT_FLAG_W,PH_TOT,PH_TMP,PH_TOT_FLAG_W,CALCIUM,CALCIUM_FLAG_W,DOC,DOC_FLAG_W,DELC13,DELC13_FLAG_W,C13ERR,DELC14,DELC14_FLAG_W,C14ERR,CS-134,CS-134_FLAG_W,CS134ER,CS-137,CS-137_FLAG_W,CS137ER,I-129,I-129_FLAG_W,I-129ER,CDOM-325,CDOM-325_FLAG_W,CDOM-370,CDOM-370_FLAG_W,CDOM-443,CDOM-443_FLAG_W
,,,,,,,,UTC,DEG,DEG,METERS,DBAR,,ITS-90,,ITS-90,,PSS-78,,PSS-78,,G/KG,,UMOL/KG,,UMOL/KG,,%TRANS,/METER,,MG/CUM,,MG/CUM,,MG/CUM,,UE/SQM/S,,UMOL/KG,,UMOL/KG,UMOL/KG,,UMOL/KG,UMOL/KG,,UMOL/KG,UMOL/KG,,UMOL/KG,UMOL/KG,,UMOL/KG,PMOL/KG,,PMOL/KG,,PMOL/KG,,FMOL/KG,,UMOL/KG,,UMOL/KG,,UMOL/KG,,,DEG C,,MMOL/KG,,UMOL/KG,,/MILLE,,/MILLE,/MILLE,,/MILLE,MBQ/KG,,MBQ/KG,MBQ/KG,,MBQ/KG,,,,/METER,,/METER,,/METER,
  49NZ20140717,   P01,   142,  1,      0,   -999,9,20140821,1255, 46.9953,-129.3828, 2580,   -999.0,9,-999.0000,9,-999.00000,9,-999.0000,9,  32.3192,2,-999.0000,9,  -999.00,9,  -999.00,9, -999.000,-999.0000,9, -999.000,9,  -999.00,9, -999.000,9, -999.000,9,     3.45,2,     0.09,     0.07,2,     0.02,     0.00,2,     0.01,     0.41,2,     0.01,  -999.00,9,  -999.00, -999.000,9, -999.000,9, -999.000,9, -999.000,9,   -999.0,9,   -999.0,9,   -999.0,9,-999.0000,     -999,9, -999.000,9,  -999.00,9, -999.000,9, -999.000,   -999.0,9,   -999.0, -999.000,9, -999.000, -999.000,9, -999.000,   -999.0,9,   -999.0, -999.000,9, -999.000,9, -999.000,9
  49NZ20140717,   P01,   142,  1,     36, X12J36,2,20140821,1255, 46.9953,-129.3828, 2580,     10.4,2,  18.5866,2,  18.57120,2,  32.3295,2,  32.3280,2,-999.0000,9,   244.47,2,   243.60,2,   97.933,   0.0835,2,    0.208,2,  -999.00,9,   -0.685,1,    5.845,2,     3.07,2,     0.09,     0.04,2,     0.02,     0.00,2,     0.01,     0.40,2,     0.01,  -999.00,9,  -999.00, -999.000,9, -999.000,9, -999.000,9, -999.000,9,   -999.0,9,   -999.0,9,   -999.0,9,-999.0000,     -999,9, -999.000,9,  -999.00,9, -999.000,9, -999.000,   -999.0,9,   -999.0, -999.000,9, -999.000, -999.000,9, -999.000,   -999.0,9,   -999.0, -999.000,9, -999.000,9, -999.000,9
  49NZ20140717,   P01,   142,  1,     35, X12J35,2,20140821,1255, 46.9953,-129.3828, 2580,     49.7,2,  11.3184,2,  11.31760,2,  32.4435,2,  32.4513,2,-999.0000,9,   274.51,2,   273.69,2,   96.461,   0.1441,2,    0.646,2,  -999.00,9,    0.645,1,    0.189,2,     5.40,2,     0.09,     3.47,2,     0.01,     0.70,2,     0.01,     0.74,2,     0.01,  -999.00,9,  -999.00, -999.000,9, -999.000,9, -999.000,9, -999.000,9,   -999.0,9,   -999.0,9,   -999.0,9,-999.0000,     -999,9, -999.000,9,  -999.00,9, -999.000,9, -999.000,   -999.0,9,   -999.0, -999.000,9, -999.000, -999.000,9, -999.000,   -999.0,9,   -999.0, -999.000,9, -999.000,9, -999.000,9
  49NZ20140717,   P01,   142,  1,     34, X12J34,2,20140821,1255, 46.9953,-129.3828, 2580,    100.0,2,   8.0771,2,   8.07964,2,  32.6502,2,  32.6821,2,-999.0000,9,   262.16,2,   260.75,2,   99.441,   0.0224,2,    0.108,2,  -999.00,9,    0.564,1,    0.000,2,    16.13,2,     0.09,    14.16,2,     0.03,     0.02,2,     0.01,     1.27,2,     0.01,  -999.00,9,  -999.00, -999.000,9, -999.000,9, -999.000,9, -999.000,9,   -999.0,9,   -999.0,9,   -999.0,9,-999.0000,     -999,9, -999.000,9,  -999.00,9, -999.000,9, -999.000,   -999.0,9,   -999.0, -999.000,9, -999.000, -999.000,9, -999.000,   -999.0,9,   -999.0, -999.000,9, -999.000,9, -999.000,9
  49NZ20140717,   P01,   142,  1,     33, X12J33,2,20140821,1255, 46.9953,-129.3828, 2580,    149.9,2,   7.1077,2,   7.11018,2,  33.2600,2,  33.3048,2,-999.0000,9,   239.06,2,   237.10,2,   99.632,   0.0148,2,    0.014,2,  -999.00,9,    0.948,1,    0.000,2,    24.57,2,     0.09,    18.66,2,     0.03,     0.01,2,     0.01,     1.46,2,     0.01,  -999.00,9,  -999.00, -999.000,9, -999.000,9, -999.000,9, -999.000,9,   -999.0,9,   -999.0,9,   -999.0,9,-999.0000,     -999,9, -999.000,9,  -999.00,9, -999.000,9, -999.000,   -999.0,9,   -999.0, -999.000,9, -999.000, -999.000,9, -999.000,   -999.0,9,   -999.0, -999.000,9, -999.000,9, -999.000,9
  49NZ20140717,   P01,   142,  1,     32, X12J32,2,20140821,1255, 46.9953,-129.3828, 2580,    200.1,2,   7.0578,2,   7.06115,2,  33.8114,2,  33.8115,2,-999.0000,9,   192.25,2,   191.74,2,   99.601,   0.0160,2,    0.010,2,  -999.00,9,    1.599,1,    0.000,2,    35.05,2,     0.10,    23.83,2,     0.04,     0.01,2,     0.01,     1.72,2,     0.01,  -999.00,9,  -999.00, -999.000,9, -999.000,9, -999.000,9, -999.000,9,   -999.0,9,   -999.0,9,   -999.0,9,-999.0000,     -999,9, -999.000,9,  -999.00,9, -999.000,9, -999.000,   -999.0,9,   -999.0, -999.000,9, -999.000, -999.000,9, -999.000,   -999.0,9,   -999.0, -999.000,9, -999.000,9, -999.000,9
  49NZ20140717,   P01,   142,  1,     31, X12J31,2,20140821,1255, 46.9953,-129.3828, 2580,    247.7,2,   6.3839,2,   6.38741,2,  33.8616,2,  33.8626,2,-999.0000,9,   151.88,2,   149.71,2,   99.523,   0.0191,2,    0.011,2,  -999.00,9,    2.089,1,    0.000,2,    46.90,2,     0.10,    28.97,2,     0.04,     0.01,2,     0.01,     2.07,2,     0.01,  -999.00,9,  -999.00, -999.000,9, -999.000,9, -999.000,9, -999.000,9,   -999.0,9,   -999.0,9,   -999.0,9,-999.0000,     -999,9, -999.000,9,  -999.00,9, -999.000,9, -999.000,   -999.0,9,   -999.0, -999.000,9, -999.000, -999.000,9, -999.000,   -999.0,9,   -999.0, -999.000,9, -999.000,9, -999.000,9
  49NZ20140717,   P01,   142,  1,     30, X12J30,2,20140821,1255, 46.9953,-129.3828, 2580,    330.4,2,   5.3251,2,   5.32512,2,  33.8861,2,  33.8859,2,-999.0000,9,   109.04,2,   108.72,2,   99.686,   0.0126,2,    0.012,2,  -999.00,9,    2.454,1,    0.000,2,    63.41,2,     0.11,    34.65,2,     0.05,     0.00,2,     0.01,     2.45,2,     0.01,  -999.00,9,  -999.00, -999.000,9, -999.000,9, -999.000,9, -999.000,9,   -999.0,9,   -999.0,9,   -999.0,9,-999.0000,     -999,9, -999.000,9,  -999.00,9, -999.000,9, -999.000,   -999.0,9,   -999.0, -999.000,9, -999.000, -999.000,9, -999.000,   -999.0,9,   -999.0, -999.000,9, -999.000,9, -999.000,9
  49NZ20140717,   P01,   142,  1,     29, X12J29,2,20140821,1255, 46.9953,-129.3828, 2580,    431.8,2,   4.7234,2,   4.72334,2,  33.9763,2,  33.9785,2,-999.0000,9,    62.04,2,    61.65,2,   99.831,   0.0068,2,    0.013,2,  -999.00,9,    2.719,1,    0.000,2,    80.45,2,     0.26,    39.54,2,     0.05,     0.00,2,     0.01,     2.80,2,     0.01,  -999.00,9,  -999.00, -999.000,9, -999.000,9, -999.000,9, -999.000,9,   -999.0,9,   -999.0,9,   -999.0,9,-999.0000,     -999,9, -999.000,9,  -999.00,9, -999.000,9, -999.000,   -999.0,9,   -999.0, -999.000,9, -999.000, -999.000,9, -999.000,   -999.0,9,   -999.0, -999.000,9, -999.000,9, -999.000,9
  49NZ20140717,   P01,   142,  1,     28, X12J28,2,20140821,1255, 46.9953,-129.3828, 2580,    529.3,2,   4.5499,2,   4.54822,2,  34.0792,2,  34.0783,2,-999.0000,9,    32.10,2,    32.60,2,   99.961,   0.0015,2,    0.013,2,  -999.00,9,    2.886,1,    0.000,2,    91.69,2,     0.13,    41.81,2,     0.05,     0.00,2,     0.01,     2.99,2,     0.01,  -999.00,9,  -999.00, -999.000,9, -999.000,9, -999.000,9, -999.000,9,   -999.0,9,   -999.0,9,   -999.0,9,-999.0000,     -999,9, -999.000,9,  -999.00,9, -999.000,9, -999.000,   -999.0,9,   -999.0, -999.000,9, -999.000, -999.000,9, -999.000,   -999.0,9,   -999.0, -999.000,9, -999.000,9, -999.000,9
  49NZ20140717,   P01,   142,  1,     27, X12J27,2,20140821,1255, 46.9953,-129.3828, 2580,    628.2,2,   4.3313,2,   4.33097,2,  34.1595,2,  34.1593,2,-999.0000,9,    17.93,2,    18.16,2,   99.899,   0.0041,2,    0.014,2,  -999.00,9,    3.101,1,    0.000,2,   101.51,2,     0.31,    43.09,2,     0.05,     0.00,2,     0.01,     3.10,2,     0.01,  -999.00,9,  -999.00, -999.000,9, -999.000,9, -999.000,9, -999.000,9,   -999.0,9,   -999.0,9,   -999.0,9,-999.0000,     -999,9, -999.000,9,  -999.00,9, -999.000,9, -999.000,   -999.0,9,   -999.0, -999.000,9, -999.000, -999.000,9, -999.000,   -999.0,9,   -999.0, -999.000,9, -999.000,9, -999.000,9
  49NZ20140717,   P01,   142,  1,     26, X12J26,2,20140821,1255, 46.9953,-129.3828, 2580,    731.0,2,   4.0246,2,   4.02744,2,  34.2370,2,  34.2315,2,-999.0000,9,    11.88,2,    12.14,2,   99.935,   0.0026,2,    0.014,2,  -999.00,9,    3.127,1,    0.000,2,   112.71,2,     0.14,    43.84,2,     0.06,     0.00,2,     0.01,     3.16,2,     0.01,  -999.00,9,  -999.00, -999.000,9, -999.000,9, -999.000,9, -999.000,9,   -999.0,9,   -999.0,9,   -999.0,9,-999.0000,     -999,9, -999.000,9,  -999.00,9, -999.000,9, -999.000,   -999.0,9,   -999.0, -999.000,9, -999.000, -999.000,9, -999.000,   -999.0,9,   -999.0, -999.000,9, -999.000,9, -999.000,9
  49NZ20140717,   P01,   142,  1,     25, X12J25,2,20140821,1255, 46.9953,-129.3828, 2580,    833.1,2,   3.6880,2,   3.68827,2,  34.2773,2,  34.2771,2,-999.0000,9,    10.93,2,    10.77,2,   99.886,   0.0046,2,    0.014,2,  -999.00,9,    3.106,1,    0.000,2,   122.03,2,     0.15,    44.09,2,     0.06,     0.00,2,     0.01,     3.18,2,     0.01,  -999.00,9,  -999.00, -999.000,9, -999.000,9, -999.000,9, -999.000,9,   -999.0,9,   -999.0,9,   -999.0,9,-999.0000,     -999,9, -999.000,9,  -999.00,9, -999.000,9, -999.000,   -999.0,9,   -999.0, -999.000,9, -999.000, -999.000,9, -999.000,   -999.0,9,   -999.0, -999.000,9, -999.000,9, -999.000,9
  49NZ20140717,   P01,   142,  1,     24, X12J24,2,20140821,1255, 46.9953,-129.3828, 2580,    930.8,2,   3.3743,2,   3.37374,2,  34.3276,2,  34.3277,2,-999.0000,9,    10.38,2,     9.92,2,   99.844,   0.0062,2,    0.014,2,  -999.00,9,    3.145,1,    0.000,2,   131.82,2,     0.16,    44.42,2,     0.06,     0.00,2,     0.01,     3.19,2,     0.01,  -999.00,9,  -999.00, -999.000,9, -999.000,9, -999.000,9, -999.000,9,   -999.0,9,   -999.0,9,   -999.0,9,-999.0000,     -999,9, -999.000,9,  -999.00,9, -999.000,9, -999.000,   -999.0,9,   -999.0, -999.000,9, -999.000, -999.000,9, -999.000,   -999.0,9,   -999.0, -999.000,9, -999.000,9, -999.000,9
  49NZ20140717,   P01,   142,  1,     23, X12J23,2,20140821,1255, 46.9953,-129.3828, 2580,   1072.9,2,   3.2266,2,   3.22632,2,  34.4063,2,  34.4055,2,-999.0000,9,    10.74,2,    10.17,2,   99.862,   0.0055,2,    0.013,2,  -999.00,9,    3.163,1,    0.000,2,   138.65,2,     0.16,    44.50,2,     0.06,     0.00,2,     0.01,     3.21,2,     0.01,  -999.00,9,  -999.00, -999.000,9, -999.000,9, -999.000,9, -999.000,9,   -999.0,9,   -999.0,9,   -999.0,9,-999.0000,     -999,9, -999.000,9,  -999.00,9, -999.000,9, -999.000,   -999.0,9,   -999.0, -999.000,9, -999.000, -999.000,9, -999.000,   -999.0,9,   -999.0, -999.000,9, -999.000,9, -999.000,9
  49NZ20140717,   P01,   142,  1,     22, X12J22,2,20140821,1255, 46.9953,-129.3828, 2580,   1270.4,2,   2.8456,2,   2.84532,2,  34.4544,2,  34.4550,2,-999.0000,9,    15.07,2,    14.66,2,   99.905,   0.0038,2,    0.013,2,  -999.00,9,    3.293,1,    0.000,2,   150.00,2,     0.17,    44.48,2,     0.06,     0.00,2,     0.01,     3.18,2,     0.01,  -999.00,9,  -999.00, -999.000,9, -999.000,9, -999.000,9, -999.000,9,   -999.0,9,   -999.0,9,   -999.0,9,-999.0000,     -999,9, -999.000,9,  -999.00,9, -999.000,9, -999.000,   -999.0,9,   -999.0, -999.000,9, -999.000, -999.000,9, -999.000,   -999.0,9,   -999.0, -999.000,9, -999.000,9, -999.000,9
  49NZ20140717,   P01,   142,  1,     21, X12J21,2,20140821,1255, 46.9953,-129.3828, 2580,   1472.5,2,   2.5028,2,   2.50250,2,  34.4995,2,  34.5001,2,-999.0000,9,    23.24,2,    23.20,2,   99.916,   0.0034,2,    0.011,2,  -999.00,9,    3.225,1,    0.000,2,   159.75,2,     0.17,    44.08,2,     0.06,     0.00,2,     0.01,     3.14,2,     0.01,  -999.00,9,  -999.00, -999.000,9, -999.000,9, -999.000,9, -999.000,9,   -999.0,9,   -999.0,9,   -999.0,9,-999.0000,     -999,9, -999.000,9,  -999.00,9, -999.000,9, -999.000,   -999.0,9,   -999.0, -999.000,9, -999.000, -999.000,9, -999.000,   -999.0,9,   -999.0, -999.000,9, -999.000,9, -999.000,9
  49NZ20140717,   P01,   142,  1,     20, X12J20,2,20140821,1255, 46.9953,-129.3828, 2580,   1668.7,2,   2.2240,2,   2.22504,2,  34.5414,2,  34.5409,2,-999.0000,9,    36.61,2,    36.45,2,   99.901,   0.0040,2,    0.010,2,  -999.00,9,    3.222,1,    0.000,2,   167.00,2,     0.18,    43.39,2,     0.05,     0.00,2,     0.01,     3.07,2,     0.01,  -999.00,9,  -999.00, -999.000,9, -999.000,9, -999.000,9, -999.000,9,   -999.0,9,   -999.0,9,   -999.0,9,-999.0000,     -999,9, -999.000,9,  -999.00,9, -999.000,9, -999.000,   -999.0,9,   -999.0, -999.000,9, -999.000, -999.000,9, -999.000,   -999.0,9,   -999.0, -999.000,9, -999.000,9, -999.000,9
  49NZ20140717,   P01,   142,  1,     19, X12J19,2,20140821,1255, 46.9953,-129.3828, 2580,   1873.1,2,   2.0376,2,   2.03739,2,  34.5723,2,  34.5733,2,-999.0000,9,    49.74,2,    50.59,2,   99.901,   0.0040,2,    0.008,2,  -999.00,9,    3.161,1,    0.000,2,   171.37,2,     0.18,    42.57,2,     0.05,     0.00,2,     0.01,     3.01,2,     0.01,  -999.00,9,  -999.00, -999.000,9, -999.000,9, -999.000,9, -999.000,9,   -999.0,9,   -999.0,9,   -999.0,9,-999.0000,     -999,9, -999.000,9,  -999.00,9, -999.000,9, -999.000,   -999.0,9,   -999.0, -999.000,9, -999.000, -999.000,9, -999.000,   -999.0,9,   -999.0, -999.000,9, -999.000,9, -999.000,9
  49NZ20140717,   P01,   142,  1,     18, X12J18,2,20140821,1255, 46.9953,-129.3828, 2580,   2070.8,2,   1.9193,2,   1.91919,2,  34.5956,2,  34.5962,2,-999.0000,9,    61.09,2,    74.92,4,   99.942,   0.0023,2,    0.007,2,  -999.00,9,    3.060,1,    0.000,2,   173.97,2,     0.18,    41.94,2,     0.05,     0.00,2,     0.01,     2.96,2,     0.01,  -999.00,9,  -999.00, -999.000,9, -999.000,9, -999.000,9, -999.000,9,   -999.0,9,   -999.0,9,   -999.0,9,-999.0000,     -999,9, -999.000,9,  -999.00,9, -999.000,9, -999.000,   -999.0,9,   -999.0, -999.000,9, -999.000, -999.000,9, -999.000,   -999.0,9,   -999.0, -999.000,9, -999.000,9, -999.000,9
  49NZ20140717,   P01,   142,  1,     17, X12J17,2,20140821,1255, 46.9953,-129.3828, 2580,   2270.6,2,   1.8328,2,   1.83269,2,  34.6128,2,  34.6128,2,-999.0000,9,    70.68,2,    71.74,2,   99.901,   0.0040,2,    0.007,2,  -999.00,9,    3.056,1,    0.000,2,   176.00,2,     0.18,    41.16,2,     0.05,     0.00,2,     0.01,     2.92,2,     0.01,  -999.00,9,  -999.00, -999.000,9, -999.000,9, -999.000,9, -999.000,9,   -999.0,9,   -999.0,9,   -999.0,9,-999.0000,     -999,9, -999.000,9,  -999.00,9, -999.000,9, -999.000,   -999.0,9,   -999.0, -999.000,9, -999.000, -999.000,9, -999.000,   -999.0,9,   -999.0, -999.000,9, -999.000,9, -999.000,9
  49NZ20140717,   P01,   142,  1,     16, X12J16,2,20140821,1255, 46.9953,-129.3828, 2580,   2604.3,2,   1.7601,2,   1.75987,2,  34.6281,2,-999.0000,9,-999.0000,9,    80.98,2,    82.32,1,   99.701,   0.0120,2,    0.006,2,  -999.00,9,    2.701,1,    0.000,2,  -999.00,9,  -999.00,  -999.00,9,  -999.00,  -999.00,9,  -999.00,  -999.00,9,  -999.00,  -999.00,9,  -999.00, -999.000,9, -999.000,9, -999.000,9, -999.000,9,   -999.0,9,   -999.0,9,   -999.0,9,-999.0000,     -999,9, -999.000,9,  -999.00,9, -999.000,9, -999.000,   -999.0,9,   -999.0, -999.000,9, -999.000, -999.000,9, -999.000,   -999.0,9,   -999.0, -999.000,9, -999.000,9, -999.000,9
  49NZ20140717,   P01,   142,  1,     15, X12J15,9,20140821,1255, 46.9953,-129.3828, 2580,   -999.0,9,-999.0000,9,-999.00000,9,-999.0000,9,-999.0000,9,-999.0000,9,  -999.00,9,  -999.00,9, -999.000,-999.0000,9, -999.000,9,  -999.00,9, -999.000,9, -999.000,9,  -999.00,9,  -999.00,  -999.00,9,  -999.00,  -999.00,9,  -999.00,  -999.00,9,  -999.00,  -999.00,9,  -999.00, -999.000,9, -999.000,9, -999.000,9, -999.000,9,   -999.0,9,   -999.0,9,   -999.0,9,-999.0000,     -999,9, -999.000,9,  -999.00,9, -999.000,9, -999.000,   -999.0,9,   -999.0, -999.000,9, -999.000, -999.000,9, -999.000,   -999.0,9,   -999.0, -999.000,9, -999.000,9, -999.000,9
  49NZ20140717,   P01,   142,  1,     14, X12J14,9,20140821,1255, 46.9953,-129.3828, 2580,   -999.0,9,-999.0000,9,-999.00000,9,-999.0000,9,-999.0000,9,-999.0000,9,  -999.00,9,  -999.00,9, -999.000,-999.0000,9, -999.000,9,  -999.00,9, -999.000,9, -999.000,9,  -999.00,9,  -999.00,  -999.00,9,  -999.00,  -999.00,9,  -999.00,  -999.00,9,  -999.00,  -999.00,9,  -999.00, -999.000,9, -999.000,9, -999.000,9, -999.000,9,   -999.0,9,   -999.0,9,   -999.0,9,-999.0000,     -999,9, -999.000,9,  -999.00,9, -999.000,9, -999.000,   -999.0,9,   -999.0, -999.000,9, -999.000, -999.000,9, -999.000,   -999.0,9,   -999.0, -999.000,9, -999.000,9, -999.000,9
  49NZ20140717,   P01,   142,  1,     13, X12113,9,20140821,1255, 46.9953,-129.3828, 2580,   -999.0,9,-999.0000,9,-999.00000,9,-999.0000,9,-999.0000,9,-999.0000,9,  -999.00,9,  -999.00,9, -999.000,-999.0000,9, -999.000,9,  -999.00,9, -999.000,9, -999.000,9,  -999.00,9,  -999.00,  -999.00,9,  -999.00,  -999.00,9,  -999.00,  -999.00,9,  -999.00,  -999.00,9,  -999.00, -999.000,9, -999.000,9, -999.000,9, -999.000,9,   -999.0,9,   -999.0,9,   -999.0,9,-999.0000,     -999,9, -999.000,9,  -999.00,9, -999.000,9, -999.000,   -999.0,9,   -999.0, -999.000,9, -999.000, -999.000,9, -999.000,   -999.0,9,   -999.0, -999.000,9, -999.000,9, -999.000,9
  49NZ20140717,   P01,   142,  1,     12, X12J12,9,20140821,1255, 46.9953,-129.3828, 2580,   -999.0,9,-999.0000,9,-999.00000,9,-999.0000,9,-999.0000,9,-999.0000,9,  -999.00,9,  -999.00,9, -999.000,-999.0000,9, -999.000,9,  -999.00,9, -999.000,9, -999.000,9,  -999.00,9,  -999.00,  -999.00,9,  -999.00,  -999.00,9,  -999.00,  -999.00,9,  -999.00,  -999.00,9,  -999.00, -999.000,9, -999.000,9, -999.000,9, -999.000,9,   -999.0,9,   -999.0,9,   -999.0,9,-999.0000,     -999,9, -999.000,9,  -999.00,9, -999.000,9, -999.000,   -999.0,9,   -999.0, -999.000,9, -999.000, -999.000,9, -999.000,   -999.0,9,   -999.0, -999.000,9, -999.000,9, -999.000,9
  49NZ20140717,   P01,   142,  1,     11, X12J11,9,20140821,1255, 46.9953,-129.3828, 2580,   -999.0,9,-999.0000,9,-999.00000,9,-999.0000,9,-999.0000,9,-999.0000,9,  -999.00,9,  -999.00,9, -999.000,-999.0000,9, -999.000,9,  -999.00,9, -999.000,9, -999.000,9,  -999.00,9,  -999.00,  -999.00,9,  -999.00,  -999.00,9,  -999.00,  -999.00,9,  -999.00,  -999.00,9,  -999.00, -999.000,9, -999.000,9, -999.000,9, -999.000,9,   -999.0,9,   -999.0,9,   -999.0,9,-999.0000,     -999,9, -999.000,9,  -999.00,9, -999.000,9, -999.000,   -999.0,9,   -999.0, -999.000,9, -999.000, -999.000,9, -999.000,   -999.0,9,   -999.0, -999.000,9, -999.000,9, -999.000,9
  49NZ20140717,   P01,   142,  1,     10, X12J10,9,20140821,1255, 46.9953,-129.3828, 2580,   -999.0,9,-999.0000,9,-999.00000,9,-999.0000,9,-999.0000,9,-999.0000,9,  -999.00,9,  -999.00,9, -999.000,-999.0000,9, -999.000,9,  -999.00,9, -999.000,9, -999.000,9,  -999.00,9,  -999.00,  -999.00,9,  -999.00,  -999.00,9,  -999.00,  -999.00,9,  -999.00,  -999.00,9,  -999.00, -999.000,9, -999.000,9, -999.000,9, -999.000,9,   -999.0,9,   -999.0,9,   -999.0,9,-999.0000,     -999,9, -999.000,9,  -999.00,9, -999.000,9, -999.000,   -999.0,9,   -999.0, -999.000,9, -999.000, -999.000,9, -999.000,   -999.0,9,   -999.0, -999.000,9, -999.000,9, -999.000,9