BOTTLE,20230904JAMSTECRIGC
EXPOCODE,SECT,STNNBR,CASTNO,SAMPNO,BTLNBR,BTLNBR_FLAG_W,DATE,TIME,LATITUDE,LONGITUDE,DEPTH,CTDPRS,CTDPRS_FLAG_W,CTDTMP,CTDTMP_FLAG_W,SBE35,SBE35_FLAG_W,CTDSAL,CTDSAL_FLAG_W,SALNTY,SALNTY_FLAG_W,DNSSAL,DNSSAL_FLAG_W,CTDOXY,CTDOXY_FLAG_W,OXYGEN,OXYGEN_FLAG_W,XMISS,XMISSCP,XMISS_FLAG_W,FLUOR,FLUOR_FLAG_W,CHLORA,CHLORA_FLAG_W,CDOM,CDOM_FLAG_W,PAR,PAR_FLAG_W,SILCAT,SILCAT_FLAG_W,SILUNC,NITRAT,NITRAT_FLAG_W,NRAUNC,NITRIT,NITRIT_FLAG_W,NRIUNC,PHSPHT,PHSPHT_FLAG_W,PHPUNC,AMMONIA,AMMONIA_FLAG_W,NH4UNC,CFC-11,CFC-11_FLAG_W,CFC-12,CFC-12_FLAG_W,CFC113,CFC113_FLAG_W,SF6,SF6_FLAG_W,TCARBN,TCARBN_FLAG_W,ALKALI,ALKALI_FLAG_W,ALKALI_POT,ALKALI_POT_FLAG_W,PH_TOT,PH_TMP,PH_TOT_FLAG_W,CALCIUM,CALCIUM_FLAG_W,DOC,DOC_FLAG_W,DELC13,DELC13_FLAG_W,C13ERR,DELC14,DELC14_FLAG_W,C14ERR,CS-134,CS-134_FLAG_W,CS134ER,CS-137,CS-137_FLAG_W,CS137ER,I-129,I-129_FLAG_W,I-129ER,CDOM-325,CDOM-325_FLAG_W,CDOM-370,CDOM-370_FLAG_W,CDOM-443,CDOM-443_FLAG_W
,,,,,,,,UTC,DEG,DEG,METERS,DBAR,,ITS-90,,ITS-90,,PSS-78,,PSS-78,,G/KG,,UMOL/KG,,UMOL/KG,,%TRANS,/METER,,MG/CUM,,MG/CUM,,MG/CUM,,UE/SQM/S,,UMOL/KG,,UMOL/KG,UMOL/KG,,UMOL/KG,UMOL/KG,,UMOL/KG,UMOL/KG,,UMOL/KG,UMOL/KG,,UMOL/KG,PMOL/KG,,PMOL/KG,,PMOL/KG,,FMOL/KG,,UMOL/KG,,UMOL/KG,,UMOL/KG,,,DEG C,,MMOL/KG,,UMOL/KG,,/MILLE,,/MILLE,/MILLE,,/MILLE,MBQ/KG,,MBQ/KG,MBQ/KG,,MBQ/KG,,,,/METER,,/METER,,/METER,
  49NZ20140717,   P01,    41,  2,      0,   -999,9,20140719,1556, 42.4820, 145.8367, 3163,   -999.0,9,-999.0000,9,-999.00000,9,-999.0000,9,  32.2866,2,-999.0000,9,  -999.00,9,  -999.00,9, -999.000,-999.0000,9, -999.000,9,  -999.00,9, -999.000,9, -999.000,9,     2.47,2,     0.10,     0.14,2,     0.01,     0.01,2,     0.01,     0.33,2,     0.01,  -999.00,9,  -999.00, -999.000,9, -999.000,9, -999.000,9, -999.000,9,   -999.0,9,   -999.0,9,   -999.0,9,-999.0000,     -999,9, -999.000,9,  -999.00,9, -999.000,9, -999.000,   -999.0,9,   -999.0, -999.000,9, -999.000, -999.000,9, -999.000,   -999.0,9,   -999.0,    0.338,2,    0.168,2,    0.065,2
  49NZ20140717,   P01,    41,  2,     36, X12J36,2,20140719,1556, 42.4820, 145.8367, 3163,      9.8,2,   7.4993,2,   7.52800,2,  32.4906,2,  32.5418,2,-999.0000,9,   401.21,2,   405.06,2,   72.761,   1.2720,2,    3.757,2,  -999.00,9,    1.446,1,    0.084,2,     5.43,2,     0.09,     2.46,2,     0.03,     0.09,2,     0.01,     0.73,2,     0.01,  -999.00,9,  -999.00, -999.000,5, -999.000,5, -999.000,5, -999.000,5,   -999.0,9,   -999.0,9,   -999.0,9,-999.0000,     -999,9, -999.000,9,  -999.00,9, -999.000,9, -999.000,   -999.0,9,   -999.0, -999.000,9, -999.000, -999.000,9, -999.000,   -999.0,9,   -999.0,    0.435,2,    0.216,2,    0.081,2
  49NZ20140717,   P01,    41,  2,     35, X12J35,2,20140719,1556, 42.4820, 145.8367, 3163,     50.9,2,   1.9794,2,   1.97946,2,  32.8937,2,  32.8983,2,-999.0000,9,   317.96,2,   318.30,2,   96.412,   0.1462,2,    0.445,2,  -999.00,9,    1.298,1,    0.000,2,    31.74,2,     0.10,    19.86,2,     0.03,     0.30,2,     0.01,     1.76,2,     0.01,  -999.00,9,  -999.00,    5.263,2,    3.088,2,    0.549,2,    3.450,2,   -999.0,9,   -999.0,9,   -999.0,9,-999.0000,     -999,9, -999.000,9,  -999.00,9, -999.000,9, -999.000,   -999.0,9,   -999.0, -999.000,9, -999.000, -999.000,9, -999.000,   -999.0,9,   -999.0,    0.283,2,    0.139,2,    0.046,2
  49NZ20140717,   P01,    41,  2,     34, X12J34,2,20140719,1556, 42.4820, 145.8367, 3163,     99.6,2,   1.0635,2,   1.06196,2,  33.0543,2,  33.0596,2,-999.0000,9,   282.47,2,   282.44,2,   98.420,   0.0637,2,    0.065,2,  -999.00,9,    1.657,1,    0.000,2,    45.51,2,     0.10,    24.48,2,     0.04,     0.13,2,     0.01,     1.99,2,     0.01,  -999.00,9,  -999.00,    5.091,2,    2.993,2,    0.513,2,    3.220,2,   -999.0,9,   -999.0,9,   -999.0,9,-999.0000,     -999,9, -999.000,9,  -999.00,9, -999.000,9, -999.000,   -999.0,9,   -999.0, -999.000,9, -999.000, -999.000,9, -999.000,   -999.0,9,   -999.0,    0.408,2,    0.218,2,    0.081,2
  49NZ20140717,   P01,    41,  2,     33, X12J33,2,20140719,1556, 42.4820, 145.8367, 3163,    151.5,2,   2.3197,2,   2.32146,2,  33.2878,2,  33.2891,2,-999.0000,9,   256.36,2,   256.09,2,   99.015,   0.0396,2,    0.032,2,  -999.00,9,    1.574,1,    0.000,2,    48.32,2,     0.11,    25.73,2,     0.04,     0.03,2,     0.01,     2.01,2,     0.01,  -999.00,9,  -999.00,    4.558,2,    2.677,2,    0.441,2,    2.990,2,   -999.0,9,   -999.0,9,   -999.0,9,-999.0000,     -999,9, -999.000,9,  -999.00,9, -999.000,9, -999.000,   -999.0,9,   -999.0, -999.000,9, -999.000, -999.000,9, -999.000,   -999.0,9,   -999.0, -999.000,9, -999.000,9, -999.000,9
  49NZ20140717,   P01,    41,  2,     32, X12J32,2,20140719,1556, 42.4820, 145.8367, 3163,    199.4,2,   1.6433,2,   1.64249,2,  33.3566,2,  33.3587,2,-999.0000,9,   215.65,2,   215.18,2,   98.972,   0.0413,2,    0.013,2,  -999.00,9,    1.842,1,    0.000,2,    64.51,2,     0.11,    31.44,2,     0.09,     0.02,2,     0.01,     2.41,2,     0.01,  -999.00,9,  -999.00,    4.205,2,    2.501,2,    0.384,2,    2.520,2,   -999.0,9,   -999.0,9,   -999.0,9,-999.0000,     -999,9, -999.000,9,  -999.00,9, -999.000,9, -999.000,   -999.0,9,   -999.0, -999.000,9, -999.000, -999.000,9, -999.000,   -999.0,9,   -999.0,    0.401,2,    0.225,2,    0.100,2
  49NZ20140717,   P01,    41,  2,     31, X12J31,2,20140719,1556, 42.4820, 145.8367, 3163,    249.6,2,   2.2872,2,   2.28736,2,  33.5084,2,  33.5092,2,-999.0000,9,   186.29,2,   185.71,2,   99.077,   0.0371,2,    0.011,2,  -999.00,9,    1.948,1,    0.000,2,    68.71,2,     0.12,    32.32,2,     0.04,     0.02,2,     0.01,     2.46,2,     0.01,  -999.00,9,  -999.00,    3.823,2,    2.223,2,    0.337,2,    2.000,2,   -999.0,9,   -999.0,9,   -999.0,9,-999.0000,     -999,9, -999.000,9,  -999.00,9, -999.000,9, -999.000,   -999.0,9,   -999.0, -999.000,9, -999.000, -999.000,9, -999.000,   -999.0,9,   -999.0, -999.000,9, -999.000,9, -999.000,9
  49NZ20140717,   P01,    41,  2,     30, X12J30,2,20140719,1556, 42.4820, 145.8367, 3163,    280.4,2,   2.4784,2,   2.47829,2,  33.5936,2,  33.5930,2,-999.0000,9,   159.59,2,   159.19,2,   99.146,   0.0343,2,    0.009,2,  -999.00,9,    2.094,1,    0.000,2,    75.43,2,     0.12,    34.41,2,     0.05,     0.01,2,     0.01,     2.58,2,     0.01,  -999.00,9,  -999.00,    3.521,2,    2.021,2,    0.299,2,    1.690,2,   -999.0,9,   -999.0,9,   -999.0,9,-999.0000,     -999,9, -999.000,9,  -999.00,9, -999.000,9, -999.000,   -999.0,9,   -999.0, -999.000,9, -999.000, -999.000,9, -999.000,   -999.0,9,   -999.0, -999.000,9, -999.000,9, -999.000,9
  49NZ20140717,   P01,    41,  2,     29, X12J29,2,20140719,1556, 42.4820, 145.8367, 3163,    371.1,2,   2.6546,2,   2.65294,2,  33.7735,2,  33.7726,2,-999.0000,9,    98.82,2,    99.25,2,   99.321,   0.0273,2,    0.010,2,  -999.00,9,    2.383,1,    0.000,2,    94.65,2,     0.13,    39.11,2,     0.05,     0.01,2,     0.01,     2.87,2,     0.01,  -999.00,9,  -999.00,    2.718,2,    1.526,2,    0.222,2,    1.250,2,   -999.0,9,   -999.0,9,   -999.0,9,-999.0000,     -999,9, -999.000,9,  -999.00,9, -999.000,9, -999.000,   -999.0,9,   -999.0, -999.000,9, -999.000, -999.000,9, -999.000,   -999.0,9,   -999.0, -999.000,9, -999.000,9, -999.000,9
  49NZ20140717,   P01,    41,  2,     28, X12J28,2,20140719,1556, 42.4820, 145.8367, 3163,    469.8,2,   2.9552,2,   2.95521,2,  33.8993,2,  33.8995,2,-999.0000,9,    69.43,2,    69.64,2,   99.527,   0.0189,2,    0.009,2,  -999.00,9,    2.495,1,    0.000,2,   104.40,2,     0.14,    41.04,2,     0.05,     0.00,2,     0.01,     2.98,2,     0.01,  -999.00,9,  -999.00,    2.122,2,    1.179,2,    0.159,2,    1.000,2,   -999.0,9,   -999.0,9,   -999.0,9,-999.0000,     -999,9, -999.000,9,  -999.00,9, -999.000,9, -999.000,   -999.0,9,   -999.0, -999.000,9, -999.000, -999.000,9, -999.000,   -999.0,9,   -999.0,    0.385,2,    0.220,2,    0.095,2
  49NZ20140717,   P01,    41,  2,     27, X12J27,2,20140719,1556, 42.4820, 145.8367, 3163,    570.8,2,   2.9934,2,   2.99337,2,  33.9918,2,  33.9919,2,-999.0000,9,    54.02,2,    54.53,2,   99.601,   0.0160,2,    0.009,2,  -999.00,9,    2.524,1,    0.000,2,   113.19,2,     0.14,    41.90,2,     0.05,     0.01,2,     0.01,     3.04,2,     0.01,  -999.00,9,  -999.00,    1.697,2,    0.940,2,    0.126,2,    0.800,2,   -999.0,9,   -999.0,9,   -999.0,9,-999.0000,     -999,9, -999.000,9,  -999.00,9, -999.000,9, -999.000,   -999.0,9,   -999.0, -999.000,9, -999.000, -999.000,9, -999.000,   -999.0,9,   -999.0, -999.000,9, -999.000,9, -999.000,9
  49NZ20140717,   P01,    41,  2,     26, X12J26,2,20140719,1556, 42.4820, 145.8367, 3163,    670.3,2,   3.0365,2,   3.03626,2,  34.0672,2,  34.0671,2,-999.0000,9,    42.93,2,    43.38,2,   99.637,   0.0145,2,    0.008,2,  -999.00,9,    2.633,1,    0.000,2,   120.04,2,     0.15,    42.63,2,     0.05,     0.00,2,     0.01,     3.08,2,     0.01,  -999.00,9,  -999.00,    1.337,2,    0.750,2,    0.101,2,    0.390,2,   -999.0,9,   -999.0,9,   -999.0,9,-999.0000,     -999,9, -999.000,9,  -999.00,9, -999.000,9, -999.000,   -999.0,9,   -999.0, -999.000,9, -999.000, -999.000,9, -999.000,   -999.0,9,   -999.0, -999.000,9, -999.000,9, -999.000,9
  49NZ20140717,   P01,    41,  2,     25, X12J25,2,20140719,1556, 42.4820, 145.8367, 3163,    769.2,2,   3.1409,2,   3.14055,2,  34.1661,2,  34.1658,2,-999.0000,9,    30.04,2,    30.40,2,   99.715,   0.0114,2,    0.008,2,  -999.00,9,    2.646,1,    0.000,2,   127.67,2,     0.15,    43.37,2,     0.05,     0.00,2,     0.01,     3.11,2,     0.01,  -999.00,9,  -999.00,    0.862,2,    0.503,2,    0.064,2,    0.370,2,   -999.0,9,   -999.0,9,   -999.0,9,-999.0000,     -999,9, -999.000,9,  -999.00,9, -999.000,9, -999.000,   -999.0,9,   -999.0, -999.000,9, -999.000, -999.000,9, -999.000,   -999.0,9,   -999.0, -999.000,9, -999.000,9, -999.000,9
  49NZ20140717,   P01,    41,  2,     24, X12J24,2,20140719,1556, 42.4820, 145.8367, 3163,    870.2,2,   2.9988,2,   2.99834,2,  34.2247,2,  34.2244,2,-999.0000,9,    28.76,2,    28.99,2,   99.769,   0.0093,2,    0.008,2,  -999.00,9,    2.659,1,    0.000,2,   134.74,2,     0.16,    43.37,2,     0.05,     0.00,2,     0.01,     3.11,2,     0.01,  -999.00,9,  -999.00,    0.663,2,    0.402,2,    0.044,2,    0.300,2,   -999.0,9,   -999.0,9,   -999.0,9,-999.0000,     -999,9, -999.000,9,  -999.00,9, -999.000,9, -999.000,   -999.0,9,   -999.0, -999.000,9, -999.000, -999.000,9, -999.000,   -999.0,9,   -999.0, -999.000,9, -999.000,9, -999.000,9
  49NZ20140717,   P01,    41,  2,     23, X12J23,2,20140719,1556, 42.4820, 145.8367, 3163,    970.1,2,   2.9837,2,   2.98327,2,  34.2957,2,  34.2963,2,-999.0000,9,    30.38,2,    30.66,2,   99.818,   0.0073,2,    0.007,2,  -999.00,9,    2.665,1,    0.000,2,   138.73,2,     0.16,    43.14,2,     0.05,     0.00,2,     0.01,     3.10,2,     0.01,  -999.00,9,  -999.00,    0.434,2,    0.276,2,    0.026,2,    0.210,2,   -999.0,9,   -999.0,9,   -999.0,9,-999.0000,     -999,9, -999.000,9,  -999.00,9, -999.000,9, -999.000,   -999.0,9,   -999.0, -999.000,9, -999.000, -999.000,9, -999.000,   -999.0,9,   -999.0,    0.307,2,    0.174,2,    0.073,2
  49NZ20140717,   P01,    41,  2,     22, X12J22,2,20140719,1556, 42.4820, 145.8367, 3163,   1130.7,2,   2.7018,2,   2.70159,2,  34.3648,2,  34.3668,2,-999.0000,9,    27.48,2,    27.81,2,   99.857,   0.0057,2,    0.006,2,  -999.00,9,    2.638,1,    0.000,2,   150.01,2,     0.41,    43.59,2,     0.05,     0.00,2,     0.01,     3.12,2,     0.01,  -999.00,9,  -999.00,    0.258,2,    0.175,2,    0.017,2,    0.130,2,   -999.0,9,   -999.0,9,   -999.0,9,-999.0000,     -999,9, -999.000,9,  -999.00,9, -999.000,9, -999.000,   -999.0,9,   -999.0, -999.000,9, -999.000, -999.000,9, -999.000,   -999.0,9,   -999.0, -999.000,9, -999.000,9, -999.000,9
  49NZ20140717,   P01,    41,  2,     21, X12J21,2,20140719,1556, 42.4820, 145.8367, 3163,   1331.2,2,   2.5147,2,   2.51429,2,  34.4566,2,  34.4575,2,-999.0000,9,    39.14,2,    39.35,2,   99.883,   0.0047,2,    0.005,2,  -999.00,9,    2.619,1,    0.000,2,   154.93,2,     0.17,    42.97,2,     0.05,     0.00,2,     0.01,     3.07,2,     0.01,  -999.00,9,  -999.00,    0.112,2,    0.080,2,    0.007,2,    0.000,2,   -999.0,9,   -999.0,9,   -999.0,9,-999.0000,     -999,9, -999.000,9,  -999.00,9, -999.000,9, -999.000,   -999.0,9,   -999.0, -999.000,9, -999.000, -999.000,9, -999.000,   -999.0,9,   -999.0, -999.000,9, -999.000,9, -999.000,9
  49NZ20140717,   P01,    41,  2,     20, X12J20,2,20140719,1556, 42.4820, 145.8367, 3163,   1528.9,2,   2.3124,2,   2.31217,2,  34.5045,2,  34.5054,2,-999.0000,9,    46.52,2,    46.76,2,   99.835,   0.0066,2,    0.004,2,  -999.00,9,    2.639,1,    0.000,2,   160.08,2,     0.17,    42.55,2,     0.05,     0.00,2,     0.01,     3.04,2,     0.01,  -999.00,9,  -999.00,    0.065,2,    0.049,2,    0.004,2,    0.110,2,   -999.0,9,   -999.0,9,   -999.0,9,-999.0000,     -999,9, -999.000,9,  -999.00,9, -999.000,9, -999.000,   -999.0,9,   -999.0, -999.000,9, -999.000, -999.000,9, -999.000,   -999.0,9,   -999.0, -999.000,9, -999.000,9, -999.000,9
  49NZ20140717,   P01,    41,  2,     19, X12J19,2,20140719,1556, 42.4820, 145.8367, 3163,   1728.7,2,   2.1788,2,   2.17857,2,  34.5417,2,  34.5433,2,-999.0000,9,    54.78,2,    55.40,2,   99.825,   0.0070,2,    0.004,2,  -999.00,9,    2.517,1,    0.000,2,   161.60,2,     0.17,    42.11,2,     0.05,     0.00,2,     0.01,     3.00,2,     0.01,  -999.00,9,  -999.00,    0.029,2,    0.025,2,    0.002,2,    0.050,2,   -999.0,9,   -999.0,9,   -999.0,9,-999.0000,     -999,9, -999.000,9,  -999.00,9, -999.000,9, -999.000,   -999.0,9,   -999.0, -999.000,9, -999.000, -999.000,9, -999.000,   -999.0,9,   -999.0, -999.000,9, -999.000,9, -999.000,9
  49NZ20140717,   P01,    41,  2,     18, X12J18,2,20140719,1556, 42.4820, 145.8367, 3163,   1929.7,2,   2.0417,2,   2.04153,2,  34.5758,2,  34.5762,2,-999.0000,9,    66.72,2,    67.04,2,   99.827,   0.0069,2,    0.002,2,  -999.00,9,    2.466,1,    0.000,2,   162.76,2,     0.18,    41.64,2,     0.05,     0.00,2,     0.01,     2.95,2,     0.01,  -999.00,9,  -999.00,    0.006,2,    0.008,2,    0.000,2,    0.090,2,   -999.0,9,   -999.0,9,   -999.0,9,-999.0000,     -999,9, -999.000,9,  -999.00,9, -999.000,9, -999.000,   -999.0,9,   -999.0, -999.000,9, -999.000, -999.000,9, -999.000,   -999.0,9,   -999.0,    0.232,2,    0.124,2,    0.045,2
  49NZ20140717,   P01,    41,  2,     17, X12J17,2,20140719,1556, 42.4820, 145.8367, 3163,   2130.0,2,   1.9002,2,   1.89991,2,  34.6019,2,  34.6027,2,-999.0000,9,    80.40,2,    80.83,2,   99.853,   0.0059,2,    0.001,2,  -999.00,9,    2.404,1,    0.000,2,   162.45,2,     0.18,    40.70,2,     0.05,     0.00,2,     0.01,     2.88,2,     0.01,  -999.00,9,  -999.00,    0.004,2,    0.005,2,    0.001,2,    0.130,2,   -999.0,9,   -999.0,9,   -999.0,9,-999.0000,     -999,9, -999.000,9,  -999.00,9, -999.000,9, -999.000,   -999.0,9,   -999.0, -999.000,9, -999.000, -999.000,9, -999.000,   -999.0,9,   -999.0, -999.000,9, -999.000,9, -999.000,9
  49NZ20140717,   P01,    41,  2,     16, X12J16,2,20140719,1556, 42.4820, 145.8367, 3163,   2330.4,2,   1.7751,2,   1.77491,2,  34.6230,2,  34.6238,2,-999.0000,9,    94.00,2,    94.56,2,   99.883,   0.0047,2,    0.000,2,  -999.00,9,    2.339,1,    0.000,2,   162.13,2,     0.18,    39.87,2,     0.05,     0.00,2,     0.01,     2.82,2,     0.01,  -999.00,9,  -999.00,    0.000,2,    0.004,2,    0.000,2,    0.160,2,   -999.0,9,   -999.0,9,   -999.0,9,-999.0000,     -999,9, -999.000,9,  -999.00,9, -999.000,9, -999.000,   -999.0,9,   -999.0, -999.000,9, -999.000, -999.000,9, -999.000,   -999.0,9,   -999.0, -999.000,9, -999.000,9, -999.000,9
  49NZ20140717,   P01,    41,  2,     15, X12J15,2,20140719,1556, 42.4820, 145.8367, 3163,   2530.0,2,   1.6806,2,   1.68057,2,  34.6384,2,  34.6392,2,-999.0000,9,   105.51,2,   106.15,2,   99.909,   0.0037,2,    0.000,2,  -999.00,9,    2.254,1,    0.000,2,   161.07,2,     0.17,    39.13,2,     0.05,     0.00,2,     0.01,     2.76,2,     0.01,  -999.00,9,  -999.00,    0.000,2,    0.003,2,    0.000,2,    0.130,2,   -999.0,9,   -999.0,9,   -999.0,9,-999.0000,     -999,9, -999.000,9,  -999.00,9, -999.000,9, -999.000,   -999.0,9,   -999.0, -999.000,9, -999.000, -999.000,9, -999.000,   -999.0,9,   -999.0, -999.000,9, -999.000,9, -999.000,9
  49NZ20140717,   P01,    41,  2,     14, X12J14,2,20140719,1556, 42.4820, 145.8367, 3163,   2730.3,2,   1.6145,2,   1.61436,2,  34.6502,2,  34.6511,2,-999.0000,9,   115.58,2,   116.10,2,   99.939,   0.0024,2,   -0.001,2,  -999.00,9,    2.111,1,    0.000,2,   159.09,2,     0.17,    38.55,2,     0.05,     0.00,2,     0.01,     2.71,2,     0.01,  -999.00,9,  -999.00,    0.000,2,    0.001,2,    0.000,2,    0.000,2,   -999.0,9,   -999.0,9,   -999.0,9,-999.0000,     -999,9, -999.000,9,  -999.00,9, -999.000,9, -999.000,   -999.0,9,   -999.0, -999.000,9, -999.000, -999.000,9, -999.000,   -999.0,9,   -999.0, -999.000,9, -999.000,9, -999.000,9
  49NZ20140717,   P01,    41,  2,     13, X12113,2,20140719,1556, 42.4820, 145.8367, 3163,   2933.2,2,   1.5237,2,   1.52352,2,  34.6628,2,  34.6635,2,-999.0000,9,   127.70,2,   128.20,2,   99.872,   0.0051,2,   -0.002,2,  -999.00,9,    2.115,1,    0.000,2,   157.65,2,     0.17,    37.77,2,     0.05,     0.00,2,     0.01,     2.65,2,     0.01,  -999.00,9,  -999.00,    0.018,2,    0.017,2,    0.001,2,    0.050,2,   -999.0,9,   -999.0,9,   -999.0,9,-999.0000,     -999,9, -999.000,9,  -999.00,9, -999.000,9, -999.000,   -999.0,9,   -999.0, -999.000,9, -999.000, -999.000,9, -999.000,   -999.0,9,   -999.0,    0.173,2,    0.086,2,    0.031,2
  49NZ20140717,   P01,    41,  2,     12, X12J12,9,20140719,1556, 42.4820, 145.8367, 3163,   -999.0,9,-999.0000,9,-999.00000,9,-999.0000,9,-999.0000,9,-999.0000,9,  -999.00,9,  -999.00,9, -999.000,-999.0000,9, -999.000,9,  -999.00,9, -999.000,9, -999.000,9,  -999.00,9,  -999.00,  -999.00,9,  -999.00,  -999.00,9,  -999.00,  -999.00,9,  -999.00,  -999.00,9,  -999.00, -999.000,9, -999.000,9, -999.000,9, -999.000,9,   -999.0,9,   -999.0,9,   -999.0,9,-999.0000,     -999,9, -999.000,9,  -999.00,9, -999.000,9, -999.000,   -999.0,9,   -999.0, -999.000,9, -999.000, -999.000,9, -999.000,   -999.0,9,   -999.0, -999.000,9, -999.000,9, -999.000,9
  49NZ20140717,   P01,    41,  2,     11, X12J11,9,20140719,1556, 42.4820, 145.8367, 3163,   -999.0,9,-999.0000,9,-999.00000,9,-999.0000,9,-999.0000,9,-999.0000,9,  -999.00,9,  -999.00,9, -999.000,-999.0000,9, -999.000,9,  -999.00,9, -999.000,9, -999.000,9,  -999.00,9,  -999.00,  -999.00,9,  -999.00,  -999.00,9,  -999.00,  -999.00,9,  -999.00,  -999.00,9,  -999.00, -999.000,9, -999.000,9, -999.000,9, -999.000,9,   -999.0,9,   -999.0,9,   -999.0,9,-999.0000,     -999,9, -999.000,9,  -999.00,9, -999.000,9, -999.000,   -999.0,9,   -999.0, -999.000,9, -999.000, -999.000,9, -999.000,   -999.0,9,   -999.0, -999.000,9, -999.000,9, -999.000,9
  49NZ20140717,   P01,    41,  2,     10, X12J10,9,20140719,1556, 42.4820, 145.8367, 3163,   -999.0,9,-999.0000,9,-999.00000,9,-999.0000,9,-999.0000,9,-999.0000,9,  -999.00,9,  -999.00,9, -999.000,-999.0000,9, -999.000,9,  -999.00,9, -999.000,9, -999.000,9,  -999.00,9,  -999.00,  -999.00,9,  -999.00,  -999.00,9,  -999.00,  -999.00,9,  -999.00,  -999.00,9,  -999.00, -999.000,9, -999.000,9, -999.000,9, -999.000,9,   -999.0,9,   -999.0,9,   -999.0,9,-999.0000,     -999,9, -999.000,9,  -999.00,9, -999.000,9, -999.000,   -999.0,9,   -999.0, -999.000,9, -999.000, -999.000,9, -999.000,   -999.0,9,   -999.0, -999.000,9, -999.000,9, -999.000,9