BOTTLE,20230904JAMSTECRIGC
EXPOCODE,SECT,STNNBR,CASTNO,SAMPNO,BTLNBR,BTLNBR_FLAG_W,DATE,TIME,LATITUDE,LONGITUDE,DEPTH,CTDPRS,CTDPRS_FLAG_W,CTDTMP,CTDTMP_FLAG_W,SBE35,SBE35_FLAG_W,CTDSAL,CTDSAL_FLAG_W,SALNTY,SALNTY_FLAG_W,DNSSAL,DNSSAL_FLAG_W,CTDOXY,CTDOXY_FLAG_W,OXYGEN,OXYGEN_FLAG_W,XMISS,XMISSCP,XMISS_FLAG_W,FLUOR,FLUOR_FLAG_W,CHLORA,CHLORA_FLAG_W,CDOM,CDOM_FLAG_W,PAR,PAR_FLAG_W,SILCAT,SILCAT_FLAG_W,SILUNC,NITRAT,NITRAT_FLAG_W,NRAUNC,NITRIT,NITRIT_FLAG_W,NRIUNC,PHSPHT,PHSPHT_FLAG_W,PHPUNC,AMMONIA,AMMONIA_FLAG_W,NH4UNC,CFC-11,CFC-11_FLAG_W,CFC-12,CFC-12_FLAG_W,CFC113,CFC113_FLAG_W,SF6,SF6_FLAG_W,TCARBN,TCARBN_FLAG_W,ALKALI,ALKALI_FLAG_W,ALKALI_POT,ALKALI_POT_FLAG_W,PH_TOT,PH_TMP,PH_TOT_FLAG_W,CALCIUM,CALCIUM_FLAG_W,DOC,DOC_FLAG_W,DELC13,DELC13_FLAG_W,C13ERR,DELC14,DELC14_FLAG_W,C14ERR,CS-134,CS-134_FLAG_W,CS134ER,CS-137,CS-137_FLAG_W,CS137ER,I-129,I-129_FLAG_W,I-129ER,CDOM-325,CDOM-325_FLAG_W,CDOM-370,CDOM-370_FLAG_W,CDOM-443,CDOM-443_FLAG_W
,,,,,,,,UTC,DEG,DEG,METERS,DBAR,,ITS-90,,ITS-90,,PSS-78,,PSS-78,,G/KG,,UMOL/KG,,UMOL/KG,,%TRANS,/METER,,MG/CUM,,MG/CUM,,MG/CUM,,UE/SQM/S,,UMOL/KG,,UMOL/KG,UMOL/KG,,UMOL/KG,UMOL/KG,,UMOL/KG,UMOL/KG,,UMOL/KG,UMOL/KG,,UMOL/KG,PMOL/KG,,PMOL/KG,,PMOL/KG,,FMOL/KG,,UMOL/KG,,UMOL/KG,,UMOL/KG,,,DEG C,,MMOL/KG,,UMOL/KG,,/MILLE,,/MILLE,/MILLE,,/MILLE,MBQ/KG,,MBQ/KG,MBQ/KG,,MBQ/KG,,,,/METER,,/METER,,/METER,
  49NZ20140717,   P01,    67,  2,      0,   -999,9,20140725,1558, 44.0859, 155.0153, 5308,   -999.0,9,-999.0000,9,-999.00000,9,-999.0000,9,  33.0801,2,-999.0000,9,  -999.00,9,  -999.00,9, -999.000,-999.0000,9, -999.000,9,     0.52,2, -999.000,9, -999.000,9,     1.32,2,     0.12,     0.25,2,     0.01,     0.02,2,     0.01,     0.25,2,     0.01,     0.14,2,     0.02, -999.000,9, -999.000,9, -999.000,9, -999.000,9,   -999.0,9,   -999.0,9,   -999.0,9,-999.0000,     -999,9, -999.000,9,  -999.00,9, -999.000,9, -999.000,   -999.0,9,   -999.0, -999.000,1, -999.000, -999.000,1, -999.000,   -999.0,1,   -999.0,    0.231,2,    0.104,2,    0.040,2
  49NZ20140717,   P01,    67,  2,     36, X12J36,2,20140725,1558, 44.0859, 155.0153, 5308,     10.2,2,  15.4657,2,  15.48598,2,  33.1974,2,  33.1745,2,  33.3353,2,   266.91,2,   266.01,2,   95.214,   0.1962,2,    0.453,2,     0.59,2,    0.525,1,    0.304,2,     1.35,2,     0.12,     0.32,2,     0.01,     0.02,2,     0.01,     0.26,2,     0.01,     0.19,2,     0.02,    2.869,2,    1.713,2,    0.258,2,    2.010,2,   1983.9,2,   2237.7,2,   -999.0,9,   7.9943,       25,6, -999.000,9,    67.81,2, -999.000,1, -999.000,   -999.0,1,   -999.0, -999.000,9, -999.000, -999.000,9, -999.000,   -999.0,9,   -999.0,    0.250,2,    0.108,2,    0.035,2
  49NZ20140717,   P01,    67,  2,     35, X12J35,2,20140725,1558, 44.0859, 155.0153, 5308,     50.8,2,   3.4600,2,   3.45557,2,  33.0648,2,  33.0670,2,  33.2291,2,   311.04,2,   311.89,2,   98.130,   0.0755,2,    0.314,2,     0.60,2,    1.298,1,    0.000,2,    27.93,2,     0.09,    19.19,2,     0.03,     0.29,2,     0.01,     1.68,2,     0.01,     1.03,2,     0.03,    5.226,2,    2.940,2,    0.446,2,    3.160,2,   2126.1,6,   2237.3,2,   -999.0,9,   7.6734,       25,2, -999.000,9,    52.11,2, -999.000,1, -999.000,   -999.0,1,   -999.0, -999.000,9, -999.000, -999.000,9, -999.000,   -999.0,9,   -999.0,    0.218,2,    0.104,2,    0.034,2
  49NZ20140717,   P01,    67,  2,     34, X12J34,2,20140725,1558, 44.0859, 155.0153, 5308,     99.9,2,   3.3069,2,   3.31036,2,  33.2755,2,  33.2767,2,  33.4389,2,   289.15,2,   288.98,2,   99.531,   0.0188,2,    0.031,2,     0.04,2,    1.412,1,    0.000,2,    35.62,2,     0.10,    21.65,2,     0.03,     0.01,2,     0.01,     1.71,2,     0.01,    -0.01,2,     0.01,    4.859,2,    2.751,2,    0.409,2,    2.930,2,   2145.3,2,   2245.9,2,   -999.0,9,   7.6377,       25,2, -999.000,9,    52.85,2, -999.000,1, -999.000,   -999.0,1,   -999.0, -999.000,9, -999.000, -999.000,9, -999.000,   -999.0,9,   -999.0,    0.174,2,    0.082,2,    0.028,2
  49NZ20140717,   P01,    67,  2,     33, X12J33,2,20140725,1558, 44.0859, 155.0153, 5308,    150.0,2,   4.1615,2,   4.16046,2,  33.5336,2,  33.5348,2,  33.6975,2,   240.55,2,   240.06,2,   99.568,   0.0173,2,    0.005,2,     0.02,2,    1.674,1,    0.000,2,    43.85,2,     0.10,    23.56,2,     0.03,     0.02,2,     0.01,     1.81,2,     0.01,     0.00,2,     0.01,    4.151,2,    2.354,2,    0.317,2,    2.340,2,   2171.6,2,   2259.4,2,   -999.0,9,   7.5997,       25,6, -999.000,9,    49.85,2, -999.000,1, -999.000,   -999.0,1,   -999.0, -999.000,9, -999.000, -999.000,9, -999.000,   -999.0,9,   -999.0, -999.000,9, -999.000,9, -999.000,9
  49NZ20140717,   P01,    67,  2,     32, X12J32,2,20140725,1558, 44.0859, 155.0153, 5308,    199.5,2,   3.7349,2,   3.73213,2,  33.6511,2,  33.6506,2,  33.8169,2,   180.00,2,   179.41,2,   99.568,   0.0173,2,    0.007,2,     0.02,2,    2.014,1,    0.000,2,    61.75,2,     0.11,    30.28,2,     0.04,     0.02,2,     0.01,     2.28,2,     0.01,    -0.01,2,     0.01,    3.619,2,    2.021,2,    0.265,2,    1.840,2,   2223.9,2,   2274.5,6,   -999.0,9,   7.4874,       25,2, -999.000,9,    46.65,2, -999.000,1, -999.000,   -999.0,1,   -999.0, -999.000,9, -999.000, -999.000,9, -999.000,   -999.0,9,   -999.0,    0.361,2,    0.213,2,    0.101,2
  49NZ20140717,   P01,    67,  2,     31, X12J31,2,20140725,1558, 44.0859, 155.0153, 5308,    252.9,2,   3.6412,2,   3.63781,2,  33.7385,2,  33.7417,2,  33.9105,2,   146.05,2,   145.80,2,   99.512,   0.0196,2,    0.006,2,     0.01,2,    2.216,1,    0.000,2,    71.33,2,     0.12,    33.45,2,     0.04,     0.02,2,     0.01,     2.48,2,     0.01,     0.00,2,     0.01,    3.199,2,    1.770,2,    0.224,2,    1.470,2,   2249.6,6,   2281.0,2,   -999.0,9,   7.4329,       25,2, -999.000,9,    46.78,2, -999.000,1, -999.000,   -999.0,1,   -999.0, -999.000,9, -999.000, -999.000,9, -999.000,   -999.0,9,   -999.0, -999.000,9, -999.000,9, -999.000,9
  49NZ20140717,   P01,    67,  2,     30, X12J30,2,20140725,1558, 44.0859, 155.0153, 5308,    329.1,2,   3.4762,2,   3.47601,2,  33.8377,2,  33.8374,2,  34.0068,2,   104.58,2,   104.70,2,   99.691,   0.0124,2,    0.008,2,  -999.00,9,    2.441,1,    0.000,2,    86.19,2,     0.13,    37.40,2,     0.05,     0.01,2,     0.01,     2.73,2,     0.01,    -0.01,2,     0.01,    2.638,2,    1.425,2,    0.186,2,    1.130,2,   2286.5,2,   2298.9,2,   -999.0,9,   7.3624,       25,2, -999.000,9,    45.39,2, -999.000,1, -999.000,   -999.0,1,   -999.0, -999.000,9, -999.000, -999.000,9, -999.000,   -999.0,9,   -999.0, -999.000,9, -999.000,9, -999.000,9
  49NZ20140717,   P01,    67,  2,     29, X12J29,2,20140725,1558, 44.0859, 155.0153, 5308,    428.6,2,   3.5825,2,   3.57422,2,  34.0094,2,  34.0086,2,  34.1803,2,    64.68,2,    65.26,2,   99.806,   0.0078,2,    0.010,2,  -999.00,9,    2.646,1,    0.000,2,   102.03,2,     0.14,    40.24,2,     0.05,     0.01,2,     0.01,     2.91,2,     0.01,    -0.01,2,     0.01,    1.760,2,    0.934,2,    0.119,2,    0.640,2,   2318.4,2,   2316.9,2,   -999.0,9,   7.3255,       25,2, -999.000,9,    41.63,2, -999.000,1, -999.000,   -999.0,1,   -999.0, -999.000,9, -999.000, -999.000,9, -999.000,   -999.0,9,   -999.0, -999.000,9, -999.000,9, -999.000,9
  49NZ20140717,   P01,    67,  2,     28, X12J28,2,20140725,1558, 44.0859, 155.0153, 5308,    530.4,2,   3.5863,2,   3.59041,2,  34.1480,2,  34.1469,2,  34.3207,2,    45.19,2,    45.66,2,   99.844,   0.0062,2,    0.009,2,  -999.00,9,    2.767,1,    0.000,2,   114.21,2,     0.15,    41.53,2,     0.05,     0.01,2,     0.01,     2.99,2,     0.01,    -0.01,2,     0.01,    1.075,2,    0.572,2,    0.069,2,    0.350,2,   2338.5,2,   2337.0,2,   -999.0,9,   7.3194,       25,2, -999.000,9,    41.17,2, -999.000,1, -999.000,   -999.0,1,   -999.0, -999.000,9, -999.000, -999.000,9, -999.000,   -999.0,9,   -999.0,    0.317,2,    0.186,2,    0.085,2
  49NZ20140717,   P01,    67,  2,     27, X12J27,2,20140725,1558, 44.0859, 155.0153, 5308,    629.6,2,   3.1902,2,   3.19026,2,  34.1998,2,  34.1998,2,  34.3741,2,    34.69,2,    34.99,2,   99.872,   0.0051,2,    0.009,2,  -999.00,9,    2.862,1,    0.000,2,   127.05,2,     0.15,    42.70,2,     0.05,     0.01,2,     0.01,     3.07,2,     0.01,    -0.01,2,     0.01,    0.828,2,    0.445,2,    0.058,2,    0.260,2,   2356.9,2,   2347.5,2,   -999.0,9,   7.3022,       25,2, -999.000,9,    40.92,2, -999.000,1, -999.000,   -999.0,1,   -999.0, -999.000,9, -999.000, -999.000,9, -999.000,   -999.0,9,   -999.0, -999.000,9, -999.000,9, -999.000,9
  49NZ20140717,   P01,    67,  2,     26, X12J26,2,20140725,1558, 44.0859, 155.0153, 5308,    729.9,2,   3.1783,2,   3.17807,2,  34.2901,2,  34.2895,2,  34.4671,2,    32.10,2,    32.40,2,   99.870,   0.0052,2,    0.008,2,  -999.00,9,    2.849,1,    0.000,2,   132.94,2,     0.16,    42.84,2,     0.05,     0.01,2,     0.01,     3.07,2,     0.01,    -0.01,2,     0.01,    0.481,2,    0.265,2,    0.030,2,    0.140,2,   2363.3,6,   2358.2,2,   -999.0,9,   7.3164,       25,2, -999.000,9,    39.14,2, -999.000,1, -999.000,   -999.0,1,   -999.0, -999.000,9, -999.000, -999.000,9, -999.000,   -999.0,9,   -999.0, -999.000,9, -999.000,9, -999.000,9
  49NZ20140717,   P01,    67,  2,     25, X12J25,2,20140725,1558, 44.0859, 155.0153, 5308,    831.0,2,   3.0117,2,   3.01241,2,  34.3399,2,  34.3395,2,  34.5185,2,    32.29,2,    32.39,2,   99.903,   0.0039,2,    0.008,2,  -999.00,9,    2.895,1,    0.000,2,   138.54,2,     0.16,    42.84,2,     0.05,     0.01,2,     0.01,     3.07,2,     0.01,     0.00,2,     0.01,    0.339,2,    0.192,2,    0.019,2,    0.100,2,   2368.8,2,   2366.3,2,   -999.0,9,   7.3248,       25,2, -999.000,9,    40.96,2, -999.000,1, -999.000,   -999.0,1,   -999.0, -999.000,9, -999.000, -999.000,9, -999.000,   -999.0,9,   -999.0, -999.000,9, -999.000,9, -999.000,9
  49NZ20140717,   P01,    67,  2,     24, X12J24,2,20140725,1558, 44.0859, 155.0153, 5308,    930.2,2,   2.8571,2,   2.85692,2,  34.3815,2,  34.3811,2,  34.5588,2,    33.95,2,    34.07,2,   99.911,   0.0035,2,    0.007,2,  -999.00,9,    2.867,1,    0.000,2,   143.35,2,     0.16,    42.80,2,     0.05,     0.01,2,     0.01,     3.07,2,     0.01,    -0.01,2,     0.01,    0.249,2,    0.142,2,    0.014,2,    0.070,2,   2371.8,2,   2374.9,2,   -999.0,9,   7.3351,       25,2, -999.000,9,    41.37,2, -999.000,1, -999.000,   -999.0,1,   -999.0, -999.000,9, -999.000, -999.000,9, -999.000,   -999.0,9,   -999.0, -999.000,9, -999.000,9, -999.000,9
  49NZ20140717,   P01,    67,  2,     23, X12J23,2,20140725,1558, 44.0859, 155.0153, 5308,   1070.6,2,   2.6603,2,   2.66014,2,  34.4277,2,  34.4274,2,  34.6062,2,    35.66,2,    35.66,2,   99.870,   0.0052,2,    0.007,2,  -999.00,9,    2.918,1,    0.000,2,   149.73,2,     0.17,    42.95,2,     0.05,     0.01,2,     0.01,     3.07,2,     0.01,    -0.01,2,     0.01,    0.161,2,    0.096,2,    0.010,2,    0.070,2,   2377.8,2,   2383.8,2,   -999.0,9,   7.3419,       25,2, -999.000,9,    38.93,2, -999.000,1, -999.000,   -999.0,1,   -999.0, -999.000,9, -999.000, -999.000,9, -999.000,   -999.0,9,   -999.0,    0.458,2,    0.292,2,    0.147,2
  49NZ20140717,   P01,    67,  2,     22, X12J22,2,20140725,1558, 44.0859, 155.0153, 5308,   1271.4,2,   2.3729,2,   2.37318,2,  34.4726,2,  34.4725,2,  34.6511,2,    41.53,2,    41.64,2,   99.939,   0.0024,2,    0.006,2,  -999.00,9,    2.962,1,    0.000,2,   158.09,2,     0.17,    42.64,2,     0.05,     0.00,2,     0.01,     3.05,2,     0.01,     0.00,2,     0.01,    0.130,2,    0.078,2,    0.010,2,    0.060,2,   2382.2,2,   2394.1,6,   -999.0,9,   7.3557,       25,2, -999.000,9,    38.69,2, -999.000,1, -999.000,   -999.0,1,   -999.0, -999.000,9, -999.000, -999.000,9, -999.000,   -999.0,9,   -999.0, -999.000,9, -999.000,9, -999.000,9
  49NZ20140717,   P01,    67,  2,     21, X12J21,2,20140725,1558, 44.0859, 155.0153, 5308,   1470.3,2,   2.2381,2,   2.23800,2,  34.5019,2,  34.5018,2,  34.6821,2,    47.47,2,    47.61,2,   99.909,   0.0036,2,    0.005,2,  -999.00,9,    2.931,1,    0.000,2,   161.73,2,     0.17,    42.33,2,     0.05,     0.00,2,     0.01,     3.03,2,     0.01,    -0.01,2,     0.01,    0.106,2,    0.063,2,    0.009,2,    0.050,2,   2382.3,2,   2397.0,2,   -999.0,9,   7.3679,       25,2, -999.000,9,    37.96,2, -999.000,9, -999.000,   -999.0,9,   -999.0, -999.000,9, -999.000, -999.000,9, -999.000,   -999.0,9,   -999.0, -999.000,9, -999.000,9, -999.000,9
  49NZ20140717,   P01,    67,  2,     20, X12J20,2,20140725,1558, 44.0859, 155.0153, 5308,   1671.1,2,   2.1212,2,   2.12108,2,  34.5352,2,  34.5354,2,  34.7170,2,    55.14,2,    55.35,2,   99.929,   0.0029,2,    0.004,2,  -999.00,9,    2.851,1,    0.000,2,   163.71,2,     0.18,    41.93,2,     0.05,     0.01,2,     0.01,     2.99,2,     0.01,    -0.01,2,     0.01,    0.067,2,    0.041,2,    0.006,2,    0.040,2,   2380.9,2,   2401.4,2,   -999.0,9,   7.3875,       25,6, -999.000,9,    40.02,2, -999.000,1, -999.000,   -999.0,1,   -999.0, -999.000,9, -999.000, -999.000,9, -999.000,   -999.0,9,   -999.0, -999.000,9, -999.000,9, -999.000,9
  49NZ20140717,   P01,    67,  2,     19, X12J19,2,20140725,1558, 44.0859, 155.0153, 5308,   1870.4,2,   2.0202,2,   2.02015,2,  34.5712,2,  34.5716,2,  34.7526,2,    64.19,2,    64.71,2,   99.961,   0.0016,2,    0.004,2,  -999.00,9,    2.813,1,    0.000,2,   164.04,2,     0.18,    41.52,2,     0.05,     0.01,2,     0.01,     2.95,2,     0.01,    -0.01,2,     0.01,    0.022,2,    0.015,2,    0.002,2,    0.050,2,   2379.0,2,   2408.2,2,   -999.0,9,   7.4101,       25,2, -999.000,9,    38.59,2, -999.000,9, -999.000,   -999.0,9,   -999.0, -999.000,9, -999.000, -999.000,9, -999.000,   -999.0,9,   -999.0, -999.000,9, -999.000,9, -999.000,9
  49NZ20140717,   P01,    67,  2,     18, X12J18,2,20140725,1558, 44.0859, 155.0153, 5308,   2070.5,2,   1.9108,2,   1.91080,2,  34.5968,2,  34.5971,2,  34.7790,2,    75.48,2,    75.58,2,   99.955,   0.0018,2,    0.003,2,  -999.00,9,    2.748,1,    0.000,2,   163.82,2,     0.18,    40.83,2,     0.05,     0.01,2,     0.01,     2.89,2,     0.01,     0.00,2,     0.01,    0.006,2,    0.003,2,    0.002,2,    0.040,2,   2373.9,2,   2412.2,2,   -999.0,9,   7.4334,       25,2, -999.000,9,    38.17,2, -999.000,1, -999.000,   -999.0,1,   -999.0, -999.000,9, -999.000, -999.000,9, -999.000,   -999.0,9,   -999.0,    0.359,2,    0.217,2,    0.110,2
  49NZ20140717,   P01,    67,  2,     17, X12J17,2,20140725,1558, 44.0859, 155.0153, 5308,   2269.9,2,   1.7982,2,   1.79811,2,  34.6170,2,  34.6170,2,  34.7988,2,    86.95,2,    86.87,2,   99.948,   0.0021,2,    0.002,2,  -999.00,9,    2.699,1,    0.000,2,   164.34,2,     0.18,    40.10,2,     0.05,     0.01,2,     0.01,     2.85,2,     0.01,     0.00,2,     0.01,    0.000,2,    0.000,2,    0.002,2,    0.050,2,   2368.2,2,   2412.6,2,   -999.0,9,   7.4563,       25,2, -999.000,9,    38.63,2, -999.000,9, -999.000,   -999.0,9,   -999.0, -999.000,9, -999.000, -999.000,9, -999.000,   -999.0,9,   -999.0, -999.000,9, -999.000,9, -999.000,9
  49NZ20140717,   P01,    67,  2,     16, X12J16,2,20140725,1558, 44.0859, 155.0153, 5308,   2470.1,2,   1.7106,2,   1.71056,2,  34.6332,2,  34.6334,2,  34.8159,2,    99.29,2,    99.40,2,   99.942,   0.0023,2,    0.001,2,  -999.00,9,    2.600,1,    0.000,2,   162.58,2,     0.18,    39.37,2,     0.05,     0.01,2,     0.01,     2.78,2,     0.01,     0.00,2,     0.01,    0.000,2,    0.000,2,    0.001,2,    0.080,2,   2362.2,6,   2414.0,2,   -999.0,9,   7.4815,       25,2, -999.000,9,    38.04,2, -999.000,9, -999.000,   -999.0,9,   -999.0, -999.000,9, -999.000, -999.000,9, -999.000,   -999.0,9,   -999.0, -999.000,9, -999.000,9, -999.000,9
  49NZ20140717,   P01,    67,  2,     15, X12J15,2,20140725,1558, 44.0859, 155.0153, 5308,   2669.5,2,   1.6486,2,   1.64846,2,  34.6445,2,  34.6447,2,  34.8271,2,   108.58,2,   108.65,2,   99.980,   0.0008,2,    0.000,2,  -999.00,9,    2.453,1,    0.000,2,   161.35,2,     0.17,    38.82,2,     0.05,     0.00,2,     0.01,     2.74,2,     0.01,     0.00,2,     0.01,    0.000,2,    0.000,2,    0.002,2,    0.050,2,   2355.7,2,   2415.1,2,   -999.0,9,   7.4984,       25,2, -999.000,9,    37.81,2, -999.000,1, -999.000,   -999.0,1,   -999.0, -999.000,9, -999.000, -999.000,9, -999.000,   -999.0,9,   -999.0, -999.000,9, -999.000,9, -999.000,9
  49NZ20140717,   P01,    67,  2,     14, X12J14,2,20140725,1558, 44.0859, 155.0153, 5308,   2870.2,2,   1.5876,2,   1.58769,2,  34.6552,2,  34.6552,2,  34.8357,2,   118.30,2,   118.08,2,   99.970,   0.0012,2,    0.000,2,  -999.00,9,    2.429,1,    0.000,2,   159.59,2,     0.17,    38.16,2,     0.05,     0.01,2,     0.01,     2.69,2,     0.01,    -0.01,2,     0.01,    0.000,2,    0.000,2,    0.005,2,    0.040,2,   2350.1,2,   2418.7,2,   -999.0,9,   7.5153,       25,6, -999.000,9,    39.19,2, -999.000,9, -999.000,   -999.0,9,   -999.0, -999.000,9, -999.000, -999.000,9, -999.000,   -999.0,9,   -999.0, -999.000,9, -999.000,9, -999.000,9
  49NZ20140717,   P01,    67,  2,     13, X12113,2,20140725,1558, 44.0859, 155.0153, 5308,   3079.1,2,   1.5527,2,   1.55269,2,  34.6616,2,  34.6619,2,  34.8443,2,   125.01,2,   124.90,2,  100.021,  -0.0009,2,   -0.001,2,  -999.00,9,    2.399,1,    0.000,2,   157.99,2,     0.17,    37.80,2,     0.05,     0.00,2,     0.01,     2.65,2,     0.01,     0.00,2,     0.01,    0.000,2,    0.000,2,    0.003,2,    0.020,2,   2346.4,2,   2418.1,2,   -999.0,9,   7.5279,       25,2, -999.000,9,    38.25,2, -999.000,1, -999.000,   -999.0,1,   -999.0, -999.000,9, -999.000, -999.000,9, -999.000,   -999.0,9,   -999.0,    0.379,2,    0.233,2,    0.121,2
  49NZ20140717,   P01,    67,  2,     12, X12J12,2,20140725,1558, 44.0859, 155.0153, 5308,   3331.2,2,   1.5128,2,   1.51290,2,  34.6693,2,  34.6691,2,  34.8522,2,   133.48,2,   133.17,2,  100.017,  -0.0007,2,   -0.002,2,  -999.00,9,    2.382,1,    0.000,2,   155.90,2,     0.17,    37.25,2,     0.05,     0.00,2,     0.01,     2.61,2,     0.01,     0.00,2,     0.01,    0.000,2,    0.000,2,    0.001,2,    0.000,2,   2339.6,2,   2418.5,6,   -999.0,9,   7.5429,       25,2, -999.000,9,    39.79,2, -999.000,9, -999.000,   -999.0,9,   -999.0, -999.000,9, -999.000, -999.000,9, -999.000,   -999.0,9,   -999.0, -999.000,9, -999.000,9, -999.000,9
  49NZ20140717,   P01,    67,  2,     11, X12J11,2,20140725,1558, 44.0859, 155.0153, 5308,   3580.3,2,   1.4874,2,   1.48748,2,  34.6751,2,  34.6752,2,  34.8568,2,   140.20,2,   139.79,2,  100.013,  -0.0005,2,   -0.002,2,  -999.00,9,    2.289,1,    0.000,2,   154.16,2,     0.17,    36.79,2,     0.05,     0.00,2,     0.01,     2.57,2,     0.01,    -0.01,2,     0.01,    0.000,2,    0.000,2,    0.001,2,    0.000,2,   2335.8,2,   2416.5,2,   -999.0,9,   7.5536,       25,2, -999.000,9,    38.17,2, -999.000,1, -999.000,   -999.0,1,   -999.0, -999.000,9, -999.000, -999.000,9, -999.000,   -999.0,9,   -999.0, -999.000,9, -999.000,9, -999.000,9
  49NZ20140717,   P01,    67,  2,     10, X12J10,2,20140725,1558, 44.0859, 155.0153, 5308,   3830.6,2,   1.4710,2,   1.47099,2,  34.6796,2,  34.6796,2,  34.8607,2,   145.79,2,   145.48,2,  100.026,  -0.0010,2,   -0.002,2,  -999.00,9,    2.230,1,    0.000,2,   152.55,2,     0.17,    36.43,2,     0.05,     0.01,2,     0.01,     2.55,2,     0.01,     0.00,2,     0.01,    0.000,2,    0.000,2,    0.000,2,    0.000,2,   2331.1,2,   2416.4,2,   -999.0,9,   7.5634,       25,2, -999.000,9,    38.18,2, -999.000,9, -999.000,   -999.0,9,   -999.0, -999.000,9, -999.000, -999.000,9, -999.000,   -999.0,9,   -999.0, -999.000,9, -999.000,9, -999.000,9