BOTTLE,20230904JAMSTECRIGC
EXPOCODE,SECT,STNNBR,CASTNO,SAMPNO,BTLNBR,BTLNBR_FLAG_W,DATE,TIME,LATITUDE,LONGITUDE,DEPTH,CTDPRS,CTDPRS_FLAG_W,CTDTMP,CTDTMP_FLAG_W,SBE35,SBE35_FLAG_W,CTDSAL,CTDSAL_FLAG_W,SALNTY,SALNTY_FLAG_W,DNSSAL,DNSSAL_FLAG_W,CTDOXY,CTDOXY_FLAG_W,OXYGEN,OXYGEN_FLAG_W,XMISS,XMISSCP,XMISS_FLAG_W,FLUOR,FLUOR_FLAG_W,CHLORA,CHLORA_FLAG_W,CDOM,CDOM_FLAG_W,PAR,PAR_FLAG_W,SILCAT,SILCAT_FLAG_W,SILUNC,NITRAT,NITRAT_FLAG_W,NRAUNC,NITRIT,NITRIT_FLAG_W,NRIUNC,PHSPHT,PHSPHT_FLAG_W,PHPUNC,AMMONIA,AMMONIA_FLAG_W,NH4UNC,CFC-11,CFC-11_FLAG_W,CFC-12,CFC-12_FLAG_W,CFC113,CFC113_FLAG_W,SF6,SF6_FLAG_W,TCARBN,TCARBN_FLAG_W,ALKALI,ALKALI_FLAG_W,ALKALI_POT,ALKALI_POT_FLAG_W,PH_TOT,PH_TMP,PH_TOT_FLAG_W,CALCIUM,CALCIUM_FLAG_W,DOC,DOC_FLAG_W,DELC13,DELC13_FLAG_W,C13ERR,DELC14,DELC14_FLAG_W,C14ERR,CS-134,CS-134_FLAG_W,CS134ER,CS-137,CS-137_FLAG_W,CS137ER,I-129,I-129_FLAG_W,I-129ER,CDOM-325,CDOM-325_FLAG_W,CDOM-370,CDOM-370_FLAG_W,CDOM-443,CDOM-443_FLAG_W
,,,,,,,,UTC,DEG,DEG,METERS,DBAR,,ITS-90,,ITS-90,,PSS-78,,PSS-78,,G/KG,,UMOL/KG,,UMOL/KG,,%TRANS,/METER,,MG/CUM,,MG/CUM,,MG/CUM,,UE/SQM/S,,UMOL/KG,,UMOL/KG,UMOL/KG,,UMOL/KG,UMOL/KG,,UMOL/KG,UMOL/KG,,UMOL/KG,UMOL/KG,,UMOL/KG,PMOL/KG,,PMOL/KG,,PMOL/KG,,FMOL/KG,,UMOL/KG,,UMOL/KG,,UMOL/KG,,,DEG C,,MMOL/KG,,UMOL/KG,,/MILLE,,/MILLE,/MILLE,,/MILLE,MBQ/KG,,MBQ/KG,MBQ/KG,,MBQ/KG,,,,/METER,,/METER,,/METER,
  49NZ20140717,   P01,    64,  1,      9, X12J09,2,20140724,1503, 42.6777, 152.6898, 5305,   4080.4,2,   1.4616,2,   1.46162,2,  34.6834,2,  34.6835,2,-999.0000,9,   150.83,2,   150.43,2,   99.993,   0.0003,2,   -0.004,2,  -999.00,9,    2.246,1,    0.000,2,   151.10,2,     0.17,    36.18,2,     0.05,     0.00,2,     0.01,     2.52,2,     0.01,  -999.00,9,  -999.00,    0.000,2,    0.000,2,    0.000,2, -999.000,9,   2328.5,2,   2414.1,2,   -999.0,9,   7.5727,       25,2, -999.000,9,    41.14,2, -999.000,9, -999.000,   -999.0,9,   -999.0, -999.000,9, -999.000, -999.000,9, -999.000,   -999.0,9,   -999.0, -999.000,9, -999.000,9, -999.000,9
  49NZ20140717,   P01,    64,  1,      8, X12J08,2,20140724,1503, 42.6777, 152.6898, 5305,   4331.1,2,   1.4678,2,   1.46784,2,  34.6857,2,  34.6856,2,-999.0000,9,   153.60,2,   153.36,2,  100.004,  -0.0002,2,   -0.004,2,  -999.00,9,    2.113,4,    0.000,2,   150.63,2,     0.17,    35.98,2,     0.05,     0.00,2,     0.01,     2.50,2,     0.01,  -999.00,9,  -999.00,    0.000,2,    0.001,2,    0.000,2, -999.000,9,   2325.9,6,   2412.6,2,   -999.0,9,   7.5769,       25,2, -999.000,9,    38.51,2, -999.000,9, -999.000,   -999.0,9,   -999.0, -999.000,9, -999.000, -999.000,9, -999.000,   -999.0,9,   -999.0, -999.000,9, -999.000,9, -999.000,9
  49NZ20140717,   P01,    64,  1,      7, X12J07,2,20140724,1503, 42.6777, 152.6898, 5305,   4582.0,2,   1.4800,2,   1.47996,2,  34.6874,2,  34.6874,2,-999.0000,9,   155.69,2,   155.41,2,  100.006,  -0.0003,2,   -0.004,2,  -999.00,9,    0.661,4,    0.000,2,   150.74,2,     0.17,    35.86,2,     0.05,    -0.01,2,     0.01,     2.49,2,     0.01,  -999.00,9,  -999.00,    0.001,2,    0.000,2,    0.000,2, -999.000,9,   2324.3,2,   2413.8,2,   -999.0,9,   7.5805,       25,6, -999.000,9,    42.16,3, -999.000,9, -999.000,   -999.0,9,   -999.0, -999.000,9, -999.000, -999.000,9, -999.000,   -999.0,9,   -999.0, -999.000,9, -999.000,9, -999.000,9
  49NZ20140717,   P01,    64,  1,      6, X12J06,2,20140724,1503, 42.6777, 152.6898, 5305,   4829.7,2,   1.5001,2,   1.50013,2,  34.6885,2,  34.6886,2,-999.0000,9,   156.71,2,   156.57,2,   99.987,   0.0005,2,   -0.004,2,  -999.00,9,   -1.300,4,    0.000,2,   151.04,2,     0.17,    35.77,2,     0.05,    -0.01,2,     0.01,     2.48,2,     0.01,  -999.00,9,  -999.00,    0.003,2,    0.001,2,    0.000,2, -999.000,9,   2324.4,2,   2414.9,6,   -999.0,9,   7.5826,       25,2, -999.000,9,    37.61,2, -999.000,9, -999.000,   -999.0,9,   -999.0, -999.000,9, -999.000, -999.000,9, -999.000,   -999.0,9,   -999.0, -999.000,9, -999.000,9, -999.000,9
  49NZ20140717,   P01,    64,  1,      5, X12J05,2,20140724,1503, 42.6777, 152.6898, 5305,   5079.7,2,   1.5252,2,   1.52523,2,  34.6893,2,  34.6894,2,-999.0000,9,   157.31,2,   157.20,2,   99.927,   0.0029,2,   -0.004,2,  -999.00,9,   -1.635,4,    0.000,2,   151.40,2,     0.17,    35.75,2,     0.05,    -0.01,2,     0.01,     2.48,2,     0.01,  -999.00,9,  -999.00,    0.005,2,    0.000,2,    0.000,2, -999.000,9,   2323.8,2,   2412.6,2,   -999.0,9,   7.5837,       25,2, -999.000,9,    37.08,2, -999.000,9, -999.000,   -999.0,9,   -999.0, -999.000,9, -999.000, -999.000,9, -999.000,   -999.0,9,   -999.0, -999.000,9, -999.000,9, -999.000,9
  49NZ20140717,   P01,    64,  1,      4, X12J04,2,20140724,1503, 42.6777, 152.6898, 5305,   5329.6,2,   1.5555,2,   1.55533,2,  34.6893,2,  34.6896,2,-999.0000,9,   157.19,2,   157.35,2,   99.894,   0.0042,2,   -0.004,2,  -999.00,9,   -1.713,4,    0.000,2,   152.64,2,     0.17,    35.81,2,     0.05,    -0.01,2,     0.01,     2.48,2,     0.01,  -999.00,9,  -999.00,    0.004,2,    0.002,2,    0.000,2, -999.000,9,   2323.8,2,   2416.6,2,   -999.0,9,   7.5837,       25,2, -999.000,9,    36.06,2, -999.000,9, -999.000,   -999.0,9,   -999.0, -999.000,9, -999.000, -999.000,9, -999.000,   -999.0,9,   -999.0, -999.000,9, -999.000,9, -999.000,9
  49NZ20140717,   P01,    64,  1,      3, X12J03,9,20140724,1503, 42.6777, 152.6898, 5305,   -999.0,9,-999.0000,9,-999.00000,9,-999.0000,9,-999.0000,9,-999.0000,9,  -999.00,9,  -999.00,9, -999.000,-999.0000,9, -999.000,9,  -999.00,9, -999.000,9, -999.000,9,  -999.00,9,  -999.00,  -999.00,9,  -999.00,  -999.00,9,  -999.00,  -999.00,9,  -999.00,  -999.00,9,  -999.00, -999.000,9, -999.000,9, -999.000,9, -999.000,9,   -999.0,9,   -999.0,9,   -999.0,9,-999.0000,     -999,9, -999.000,9,  -999.00,9, -999.000,9, -999.000,   -999.0,9,   -999.0, -999.000,9, -999.000, -999.000,9, -999.000,   -999.0,9,   -999.0, -999.000,9, -999.000,9, -999.000,9
  49NZ20140717,   P01,    64,  1,      2, X12J02,2,20140724,1503, 42.6777, 152.6898, 5305,   1470.4,2,   2.1759,2,   2.17574,2,  34.5271,2,  34.5273,2,-999.0000,9,    51.11,2,    51.24,2,   99.944,   0.0022,2,    0.003,2,  -999.00,9,    2.822,1,    0.000,2,   162.70,2,     0.18,    42.26,2,     0.05,     0.00,2,     0.01,     3.01,2,     0.01,  -999.00,9,  -999.00,    0.060,2,    0.028,2,    0.000,2, -999.000,9,   2383.2,2,   2399.3,2,   -999.0,9,   7.3817,       25,2, -999.000,9,    37.61,2, -999.000,9, -999.000,   -999.0,9,   -999.0, -999.000,9, -999.000, -999.000,9, -999.000,   -999.0,9,   -999.0, -999.000,9, -999.000,9, -999.000,9
  49NZ20140717,   P01,    64,  1,      1, X12J01,2,20140724,1503, 42.6777, 152.6898, 5305,   5400.8,2,   1.5648,2,   1.56472,2,  34.6894,2,  34.6898,2,-999.0000,9,   157.11,2,   157.16,2,   99.886,   0.0046,2,   -0.004,2,  -999.00,9,   -0.957,4,    0.000,2,   152.71,2,     0.17,    35.82,2,     0.05,    -0.01,2,     0.01,     2.48,2,     0.01,  -999.00,9,  -999.00,    0.004,2,    0.001,2,    0.000,2, -999.000,9,   2324.3,2,   2414.6,2,   -999.0,9,   7.5842,       25,2, -999.000,9,    34.96,2, -999.000,9, -999.000,   -999.0,9,   -999.0, -999.000,9, -999.000, -999.000,9, -999.000,   -999.0,9,   -999.0, -999.000,9, -999.000,9, -999.000,9