BOTTLE,20230904JAMSTECRIGC
EXPOCODE,SECT,STNNBR,CASTNO,SAMPNO,BTLNBR,BTLNBR_FLAG_W,DATE,TIME,LATITUDE,LONGITUDE,DEPTH,CTDPRS,CTDPRS_FLAG_W,CTDTMP,CTDTMP_FLAG_W,SBE35,SBE35_FLAG_W,CTDSAL,CTDSAL_FLAG_W,SALNTY,SALNTY_FLAG_W,DNSSAL,DNSSAL_FLAG_W,CTDOXY,CTDOXY_FLAG_W,OXYGEN,OXYGEN_FLAG_W,XMISS,XMISSCP,XMISS_FLAG_W,FLUOR,FLUOR_FLAG_W,CHLORA,CHLORA_FLAG_W,CDOM,CDOM_FLAG_W,PAR,PAR_FLAG_W,SILCAT,SILCAT_FLAG_W,SILUNC,NITRAT,NITRAT_FLAG_W,NRAUNC,NITRIT,NITRIT_FLAG_W,NRIUNC,PHSPHT,PHSPHT_FLAG_W,PHPUNC,AMMONIA,AMMONIA_FLAG_W,NH4UNC,CFC-11,CFC-11_FLAG_W,CFC-12,CFC-12_FLAG_W,CFC113,CFC113_FLAG_W,SF6,SF6_FLAG_W,TCARBN,TCARBN_FLAG_W,ALKALI,ALKALI_FLAG_W,ALKALI_POT,ALKALI_POT_FLAG_W,PH_TOT,PH_TMP,PH_TOT_FLAG_W,CALCIUM,CALCIUM_FLAG_W,DOC,DOC_FLAG_W,DELC13,DELC13_FLAG_W,C13ERR,DELC14,DELC14_FLAG_W,C14ERR,CS-134,CS-134_FLAG_W,CS134ER,CS-137,CS-137_FLAG_W,CS137ER,I-129,I-129_FLAG_W,I-129ER,CDOM-325,CDOM-325_FLAG_W,CDOM-370,CDOM-370_FLAG_W,CDOM-443,CDOM-443_FLAG_W
,,,,,,,,UTC,DEG,DEG,METERS,DBAR,,ITS-90,,ITS-90,,PSS-78,,PSS-78,,G/KG,,UMOL/KG,,UMOL/KG,,%TRANS,/METER,,MG/CUM,,MG/CUM,,MG/CUM,,UE/SQM/S,,UMOL/KG,,UMOL/KG,UMOL/KG,,UMOL/KG,UMOL/KG,,UMOL/KG,UMOL/KG,,UMOL/KG,UMOL/KG,,UMOL/KG,PMOL/KG,,PMOL/KG,,PMOL/KG,,FMOL/KG,,UMOL/KG,,UMOL/KG,,UMOL/KG,,,DEG C,,MMOL/KG,,UMOL/KG,,/MILLE,,/MILLE,/MILLE,,/MILLE,MBQ/KG,,MBQ/KG,MBQ/KG,,MBQ/KG,,,,/METER,,/METER,,/METER,
  49NZ20140717,   P01,    73,  1,      9, X12J09,2,20140727,1158, 47.0094, 160.0218, 5197,   4079.8,2,   1.4493,2,   1.44938,2,  34.6848,2,  34.6847,2,  34.8656,2,   151.95,2,   151.63,2,   99.961,   0.0016,2,    0.001,2,  -999.00,9,    2.390,4,    0.000,2,   150.95,2,     0.17,    36.05,2,     0.05,     0.00,2,     0.01,     2.52,2,     0.01,  -999.00,9,  -999.00,    0.000,2,    0.000,2,    0.000,2, -999.000,9,   2326.0,2,   2415.2,2,   -999.0,9,   7.5749,       25,2, -999.000,9,    39.10,2, -999.000,1, -999.000,   -999.0,1,   -999.0, -999.000,9, -999.000, -999.000,9, -999.000,   -999.0,9,   -999.0, -999.000,9, -999.000,9, -999.000,9
  49NZ20140717,   P01,    73,  1,      8, X12J08,2,20140727,1158, 47.0094, 160.0218, 5197,   4331.5,2,   1.4570,2,   1.45704,2,  34.6869,2,  34.6867,2,  34.8675,2,   154.70,2,   154.48,2,   99.950,   0.0020,2,    0.001,2,  -999.00,9,    2.087,4,    0.000,2,   150.16,2,     0.17,    35.86,2,     0.05,     0.00,2,     0.01,     2.50,2,     0.01,  -999.00,9,  -999.00,    0.002,2,    0.000,2,    0.000,2, -999.000,9,   2322.8,6,   2412.7,2,   -999.0,9,   7.5787,       25,2, -999.000,9,    38.82,2, -999.000,9, -999.000,   -999.0,9,   -999.0, -999.000,9, -999.000, -999.000,9, -999.000,   -999.0,9,   -999.0, -999.000,9, -999.000,9, -999.000,9
  49NZ20140717,   P01,    73,  1,      7, X12J07,2,20140727,1158, 47.0094, 160.0218, 5197,   4579.3,2,   1.4741,2,   1.47408,2,  34.6882,2,  34.6877,2,  34.8702,2,   156.16,2,   155.90,2,   99.967,   0.0013,2,    0.001,2,  -999.00,9,   -0.748,4,    0.000,2,   150.21,2,     0.17,    35.75,2,     0.05,     0.00,2,     0.01,     2.50,2,     0.01,  -999.00,9,  -999.00,    0.004,2,    0.001,2,    0.000,2, -999.000,9,   2320.8,2,   2413.6,2,   -999.0,9,   7.5812,       25,2, -999.000,9,    37.32,2, -999.000,1, -999.000,   -999.0,1,   -999.0, -999.000,9, -999.000, -999.000,9, -999.000,   -999.0,9,   -999.0, -999.000,9, -999.000,9, -999.000,9
  49NZ20140717,   P01,    73,  1,      6, X12J06,2,20140727,1158, 47.0094, 160.0218, 5197,   4830.2,2,   1.4973,2,   1.49711,2,  34.6888,2,  34.6889,2,  34.8682,2,   156.82,2,   156.81,2,   99.904,   0.0038,2,    0.002,2,  -999.00,9,   -1.654,4,    0.000,2,   150.85,2,     0.17,    35.71,2,     0.05,     0.00,2,     0.01,     2.49,2,     0.01,  -999.00,9,  -999.00,    0.003,2,    0.001,2,    0.000,2, -999.000,9,   2321.0,2,   2414.5,6,   -999.0,9,   7.5824,       25,2, -999.000,9,    37.73,2, -999.000,9, -999.000,   -999.0,9,   -999.0, -999.000,9, -999.000, -999.000,9, -999.000,   -999.0,9,   -999.0, -999.000,9, -999.000,9, -999.000,9
  49NZ20140717,   P01,    73,  1,      5, X12J05,2,20140727,1158, 47.0094, 160.0218, 5197,   5078.5,2,   1.5215,2,   1.52133,2,  34.6896,2,  34.6897,2,  34.8689,2,   157.66,2,   157.89,2,   99.842,   0.0063,2,    0.001,2,  -999.00,9,   -1.626,4,    0.000,2,   150.19,2,     0.17,    35.61,2,     0.05,     0.01,2,     0.01,     2.49,2,     0.01,  -999.00,9,  -999.00,    0.003,2,    0.002,2,    0.000,2, -999.000,9,   2320.4,2,   2413.3,2,   -999.0,9,   7.5840,       25,2, -999.000,9,    39.62,2, -999.000,1, -999.000,   -999.0,1,   -999.0, -999.000,9, -999.000, -999.000,9, -999.000,   -999.0,9,   -999.0,    0.100,2,    0.030,2,    0.006,2
  49NZ20140717,   P01,    73,  1,      4, X12J04,2,20140727,1158, 47.0094, 160.0218, 5197,     10.3,2,  11.2024,2,  11.20565,2,  32.6853,2,-999.0000,9,-999.0000,9,   290.80,2,  -999.00,9,   92.429,   0.3149,2,    0.664,2,  -999.00,9,    0.342,1,    0.405,2,  -999.00,9,  -999.00,  -999.00,9,  -999.00,  -999.00,9,  -999.00,  -999.00,9,  -999.00,  -999.00,9,  -999.00, -999.000,9, -999.000,9, -999.000,9, -999.000,9,   -999.0,9,   -999.0,9,   -999.0,9,-999.0000,     -999,9, -999.000,9,  -999.00,9, -999.000,9, -999.000,   -999.0,9,   -999.0, -999.000,9, -999.000, -999.000,9, -999.000,   -999.0,9,   -999.0, -999.000,9, -999.000,9, -999.000,9
  49NZ20140717,   P01,    73,  1,      3, X12J03,2,20140727,1158, 47.0094, 160.0218, 5197,     49.7,2,   3.1553,2,   3.17434,2,  32.8957,2,-999.0000,9,-999.0000,9,   326.42,2,  -999.00,9,   97.753,   0.0909,2,    0.328,2,  -999.00,9,    0.903,1,    0.000,2,  -999.00,9,  -999.00,  -999.00,9,  -999.00,  -999.00,9,  -999.00,  -999.00,9,  -999.00,  -999.00,9,  -999.00, -999.000,9, -999.000,9, -999.000,9, -999.000,9,   -999.0,9,   -999.0,9,   -999.0,9,-999.0000,     -999,9, -999.000,9,  -999.00,9, -999.000,9, -999.000,   -999.0,9,   -999.0, -999.000,9, -999.000, -999.000,9, -999.000,   -999.0,9,   -999.0, -999.000,9, -999.000,9, -999.000,9
  49NZ20140717,   P01,    73,  1,      2, X12J02,2,20140727,1158, 47.0094, 160.0218, 5197,    100.2,2,   2.0166,2,   2.01350,2,  33.0701,2,-999.0000,9,-999.0000,9,   280.01,2,  -999.00,9,   99.527,   0.0190,2,    0.047,2,  -999.00,9,    1.359,1,    0.000,2,  -999.00,9,  -999.00,  -999.00,9,  -999.00,  -999.00,9,  -999.00,  -999.00,9,  -999.00,  -999.00,9,  -999.00, -999.000,9, -999.000,9, -999.000,9, -999.000,9,   -999.0,9,   -999.0,9,   -999.0,9,-999.0000,     -999,9, -999.000,9,  -999.00,9, -999.000,9, -999.000,   -999.0,9,   -999.0, -999.000,9, -999.000, -999.000,9, -999.000,   -999.0,9,   -999.0, -999.000,9, -999.000,9, -999.000,9
  49NZ20140717,   P01,    73,  1,      1, X12J01,2,20140727,1158, 47.0094, 160.0218, 5197,   5290.9,2,   1.5423,2,   1.54204,2,  34.6902,2,  34.6903,2,  34.8715,2,   158.35,2,   158.77,2,   99.468,   0.0213,2,    0.001,2,  -999.00,9,   -0.754,4,    0.000,2,   150.55,2,     0.17,    35.63,2,     0.05,     0.01,2,     0.01,     2.48,2,     0.01,     0.02,2,     0.01,    0.007,2,    0.001,2,    0.000,2, -999.000,9,   2319.2,2,   2412.8,2,   -999.0,9,   7.5850,       25,2, -999.000,9,    37.83,2, -999.000,1, -999.000,   -999.0,1,   -999.0, -999.000,9, -999.000, -999.000,9, -999.000,   -999.0,9,   -999.0,   -0.005,4,   -0.047,4,   -0.037,4