BOTTLE,20230904JAMSTECRIGC
EXPOCODE,SECT,STNNBR,CASTNO,SAMPNO,BTLNBR,BTLNBR_FLAG_W,DATE,TIME,LATITUDE,LONGITUDE,DEPTH,CTDPRS,CTDPRS_FLAG_W,CTDTMP,CTDTMP_FLAG_W,SBE35,SBE35_FLAG_W,CTDSAL,CTDSAL_FLAG_W,SALNTY,SALNTY_FLAG_W,DNSSAL,DNSSAL_FLAG_W,CTDOXY,CTDOXY_FLAG_W,OXYGEN,OXYGEN_FLAG_W,XMISS,XMISSCP,XMISS_FLAG_W,FLUOR,FLUOR_FLAG_W,CHLORA,CHLORA_FLAG_W,CDOM,CDOM_FLAG_W,PAR,PAR_FLAG_W,SILCAT,SILCAT_FLAG_W,SILUNC,NITRAT,NITRAT_FLAG_W,NRAUNC,NITRIT,NITRIT_FLAG_W,NRIUNC,PHSPHT,PHSPHT_FLAG_W,PHPUNC,AMMONIA,AMMONIA_FLAG_W,NH4UNC,CFC-11,CFC-11_FLAG_W,CFC-12,CFC-12_FLAG_W,CFC113,CFC113_FLAG_W,SF6,SF6_FLAG_W,TCARBN,TCARBN_FLAG_W,ALKALI,ALKALI_FLAG_W,ALKALI_POT,ALKALI_POT_FLAG_W,PH_TOT,PH_TMP,PH_TOT_FLAG_W,CALCIUM,CALCIUM_FLAG_W,DOC,DOC_FLAG_W,DELC13,DELC13_FLAG_W,C13ERR,DELC14,DELC14_FLAG_W,C14ERR,CS-134,CS-134_FLAG_W,CS134ER,CS-137,CS-137_FLAG_W,CS137ER,I-129,I-129_FLAG_W,I-129ER,CDOM-325,CDOM-325_FLAG_W,CDOM-370,CDOM-370_FLAG_W,CDOM-443,CDOM-443_FLAG_W
,,,,,,,,UTC,DEG,DEG,METERS,DBAR,,ITS-90,,ITS-90,,PSS-78,,PSS-78,,G/KG,,UMOL/KG,,UMOL/KG,,%TRANS,/METER,,MG/CUM,,MG/CUM,,MG/CUM,,UE/SQM/S,,UMOL/KG,,UMOL/KG,UMOL/KG,,UMOL/KG,UMOL/KG,,UMOL/KG,UMOL/KG,,UMOL/KG,UMOL/KG,,UMOL/KG,PMOL/KG,,PMOL/KG,,PMOL/KG,,FMOL/KG,,UMOL/KG,,UMOL/KG,,UMOL/KG,,,DEG C,,MMOL/KG,,UMOL/KG,,/MILLE,,/MILLE,/MILLE,,/MILLE,MBQ/KG,,MBQ/KG,MBQ/KG,,MBQ/KG,,,,/METER,,/METER,,/METER,
  49NZ20140717,   P01,    48,  1,      0,   -999,9,20140720,1035, 41.3761, 146.7030, 5480,   -999.0,9,-999.0000,9,-999.00000,9,-999.0000,9,  33.6407,2,-999.0000,9,  -999.00,9,  -999.00,9, -999.000,-999.0000,9, -999.000,9,  -999.00,9, -999.000,9, -999.000,9,     1.29,2,     0.12,     0.01,2,     0.02,     0.00,2,     0.01,     0.08,2,     0.01,  -999.00,9,  -999.00, -999.000,9, -999.000,9, -999.000,9, -999.000,9,   -999.0,9,   -999.0,9,   -999.0,9,-999.0000,     -999,9, -999.000,9,  -999.00,9, -999.000,9, -999.000,   -999.0,9,   -999.0, -999.000,9, -999.000, -999.000,9, -999.000,   -999.0,9,   -999.0, -999.000,9, -999.000,9, -999.000,9
  49NZ20140717,   P01,    48,  1,     36, X12J36,2,20140720,1035, 41.3761, 146.7030, 5480,     10.3,2,  18.8519,2,  18.84485,2,  33.6204,2,  33.6183,2,-999.0000,9,   241.68,2,   243.45,2,   97.240,   0.1119,2,    0.193,2,  -999.00,9,   -0.089,1,    0.346,2,     1.74,2,     0.11,    -0.01,2,     0.02,     0.00,2,     0.01,     0.09,2,     0.01,  -999.00,9,  -999.00,    2.371,2,    1.416,2,    0.350,2, -999.000,9,   -999.0,9,   -999.0,9,   -999.0,9,-999.0000,     -999,9, -999.000,9,  -999.00,9, -999.000,9, -999.000,   -999.0,9,   -999.0, -999.000,9, -999.000, -999.000,9, -999.000,   -999.0,9,   -999.0, -999.000,9, -999.000,9, -999.000,9
  49NZ20140717,   P01,    48,  1,     35, X12J35,2,20140720,1035, 41.3761, 146.7030, 5480,     50.4,2,   9.3976,2,   9.39890,2,  33.6636,2,  33.6655,2,-999.0000,9,   261.96,2,   262.12,2,   96.835,   0.1286,2,    0.531,2,  -999.00,9,    1.246,1,    0.000,2,    11.02,2,     0.09,     9.15,2,     0.02,     0.47,2,     0.01,     0.85,2,     0.01,  -999.00,9,  -999.00,    3.621,2,    1.996,2,    0.325,2, -999.000,9,   -999.0,9,   -999.0,9,   -999.0,9,-999.0000,     -999,9, -999.000,9,  -999.00,9, -999.000,9, -999.000,   -999.0,9,   -999.0, -999.000,9, -999.000, -999.000,9, -999.000,   -999.0,9,   -999.0, -999.000,9, -999.000,9, -999.000,9
  49NZ20140717,   P01,    48,  1,     34, X12J34,2,20140720,1035, 41.3761, 146.7030, 5480,    100.4,2,   6.9457,2,   6.93945,2,  33.6815,2,  33.6713,2,-999.0000,9,   252.72,2,   254.35,2,   99.529,   0.0189,2,    0.064,2,  -999.00,9,    1.212,1,    0.000,2,    23.87,2,     0.09,    16.98,2,     0.03,     0.02,2,     0.01,     1.30,2,     0.01,  -999.00,9,  -999.00,    3.916,2,    2.144,2,    0.339,2, -999.000,9,   -999.0,9,   -999.0,9,   -999.0,9,-999.0000,     -999,9, -999.000,9,  -999.00,9, -999.000,9, -999.000,   -999.0,9,   -999.0, -999.000,9, -999.000, -999.000,9, -999.000,   -999.0,9,   -999.0, -999.000,9, -999.000,9, -999.000,9
  49NZ20140717,   P01,    48,  1,     33, X12J33,2,20140720,1035, 41.3761, 146.7030, 5480,    150.3,2,   4.8288,2,   4.82903,2,  33.5156,2,  33.5028,2,-999.0000,9,   269.41,2,   270.01,2,   99.574,   0.0171,2,    0.020,2,  -999.00,9,    1.269,1,    0.000,2,    32.34,2,     0.10,    19.76,2,     0.03,     0.01,2,     0.01,     1.54,2,     0.01,  -999.00,9,  -999.00,    4.404,2,    2.383,2,    0.409,2, -999.000,9,   -999.0,9,   -999.0,9,   -999.0,9,-999.0000,     -999,9, -999.000,9,  -999.00,9, -999.000,9, -999.000,   -999.0,9,   -999.0, -999.000,9, -999.000, -999.000,9, -999.000,   -999.0,9,   -999.0, -999.000,9, -999.000,9, -999.000,9
  49NZ20140717,   P01,    48,  1,     32, X12J32,2,20140720,1035, 41.3761, 146.7030, 5480,    200.2,2,   3.7332,2,   3.73266,2,  33.4453,2,  33.4641,2,-999.0000,9,   262.85,2,   259.92,2,   99.406,   0.0238,2,    0.016,2,  -999.00,9,    1.375,1,    0.000,2,    39.61,2,     0.10,    22.09,2,     0.03,     0.02,2,     0.01,     1.72,2,     0.01,  -999.00,9,  -999.00,    4.439,2,    2.392,2,    0.391,2, -999.000,9,   -999.0,9,   -999.0,9,   -999.0,9,-999.0000,     -999,9, -999.000,9,  -999.00,9, -999.000,9, -999.000,   -999.0,9,   -999.0, -999.000,9, -999.000, -999.000,9, -999.000,   -999.0,9,   -999.0, -999.000,9, -999.000,9, -999.000,9
  49NZ20140717,   P01,    48,  1,     31, X12J31,2,20140720,1035, 41.3761, 146.7030, 5480,    250.3,2,   3.5735,2,   3.57479,2,  33.5231,2,  33.5142,2,-999.0000,9,   229.59,2,   231.58,2,   99.460,   0.0217,2,    0.004,2,  -999.00,9,    1.679,1,    0.000,2,    47.48,2,     0.10,    24.90,2,     0.04,     0.02,2,     0.01,     1.90,2,     0.01,  -999.00,9,  -999.00,    4.184,2,    2.245,2,    0.353,2, -999.000,9,   -999.0,9,   -999.0,9,   -999.0,9,-999.0000,     -999,9, -999.000,9,  -999.00,9, -999.000,9, -999.000,   -999.0,9,   -999.0, -999.000,9, -999.000, -999.000,9, -999.000,   -999.0,9,   -999.0, -999.000,9, -999.000,9, -999.000,9
  49NZ20140717,   P01,    48,  1,     30, X12J30,2,20140720,1035, 41.3761, 146.7030, 5480,    299.2,2,   3.0706,2,   3.10397,2,  33.5492,2,  33.5703,2,-999.0000,9,   206.72,2,   203.17,2,   99.496,   0.0202,2,    0.005,2,  -999.00,9,    1.934,1,    0.000,2,    57.44,2,     0.11,    28.57,2,     0.04,     0.01,2,     0.01,     2.16,2,     0.01,  -999.00,9,  -999.00,    3.884,2,    2.074,2,    0.325,2, -999.000,9,   -999.0,9,   -999.0,9,   -999.0,9,-999.0000,     -999,9, -999.000,9,  -999.00,9, -999.000,9, -999.000,   -999.0,9,   -999.0, -999.000,9, -999.000, -999.000,9, -999.000,   -999.0,9,   -999.0, -999.000,9, -999.000,9, -999.000,9
  49NZ20140717,   P01,    48,  1,     29, X12J29,2,20140720,1035, 41.3761, 146.7030, 5480,    400.0,2,   3.0504,2,   3.04983,2,  33.6952,2,  33.6964,2,-999.0000,9,   150.83,2,   150.45,2,   99.764,   0.0095,2,    0.004,2,  -999.00,9,    2.170,1,    0.000,2,    74.67,2,     0.12,    34.10,2,     0.05,     0.01,2,     0.01,     2.53,2,     0.01,  -999.00,9,  -999.00,    3.274,2,    1.724,2,    0.280,2, -999.000,9,   -999.0,9,   -999.0,9,   -999.0,9,-999.0000,     -999,9, -999.000,9,  -999.00,9, -999.000,9, -999.000,   -999.0,9,   -999.0, -999.000,9, -999.000, -999.000,9, -999.000,   -999.0,9,   -999.0, -999.000,9, -999.000,9, -999.000,9
  49NZ20140717,   P01,    48,  1,     28, X12J28,2,20140720,1035, 41.3761, 146.7030, 5480,    499.8,2,   3.7859,2,   3.78590,2,  33.9311,2,  33.9305,2,-999.0000,9,    93.41,2,    93.63,2,   99.822,   0.0071,2,    0.007,2,  -999.00,9,    2.383,1,    0.000,2,    89.76,2,     0.13,    37.72,2,     0.05,     0.01,2,     0.01,     2.74,2,     0.01,  -999.00,9,  -999.00,    2.156,2,    1.140,2,    0.175,2, -999.000,9,   -999.0,9,   -999.0,9,   -999.0,9,-999.0000,     -999,9, -999.000,9,  -999.00,9, -999.000,9, -999.000,   -999.0,9,   -999.0, -999.000,9, -999.000, -999.000,9, -999.000,   -999.0,9,   -999.0, -999.000,9, -999.000,9, -999.000,9
  49NZ20140717,   P01,    48,  1,     27, X12J27,2,20140720,1035, 41.3761, 146.7030, 5480,    600.6,2,   3.4263,2,   3.42601,2,  34.0094,2,  34.0094,2,-999.0000,9,    60.19,2,    60.44,2,   99.800,   0.0080,2,    0.007,2,  -999.00,9,    2.523,1,    0.000,2,   105.40,2,     0.14,    40.90,2,     0.05,     0.00,2,     0.01,     2.94,2,     0.01,  -999.00,9,  -999.00,    1.662,2,    0.880,2,    0.138,2, -999.000,9,   -999.0,9,   -999.0,9,   -999.0,9,-999.0000,     -999,9, -999.000,9,  -999.00,9, -999.000,9, -999.000,   -999.0,9,   -999.0, -999.000,9, -999.000, -999.000,9, -999.000,   -999.0,9,   -999.0, -999.000,9, -999.000,9, -999.000,9
  49NZ20140717,   P01,    48,  1,     26, X12J26,2,20140720,1035, 41.3761, 146.7030, 5480,    700.6,2,   3.5189,2,   3.51933,2,  34.1371,2,  34.1353,2,-999.0000,9,    45.09,2,    45.30,2,   99.828,   0.0069,2,    0.007,2,  -999.00,9,    2.542,1,    0.000,2,   115.24,2,     0.15,    41.71,2,     0.05,     0.00,2,     0.01,     3.00,2,     0.01,  -999.00,9,  -999.00,    1.104,2,    0.586,2,    0.092,2, -999.000,9,   -999.0,9,   -999.0,9,   -999.0,9,-999.0000,     -999,9, -999.000,9,  -999.00,9, -999.000,9, -999.000,   -999.0,9,   -999.0, -999.000,9, -999.000, -999.000,9, -999.000,   -999.0,9,   -999.0, -999.000,9, -999.000,9, -999.000,9
  49NZ20140717,   P01,    48,  1,     25, X12J25,2,20140720,1035, 41.3761, 146.7030, 5480,    799.8,2,   3.1764,2,   3.17614,2,  34.1904,2,  34.1891,2,-999.0000,9,    30.09,2,    30.04,2,   99.802,   0.0079,2,    0.007,2,  -999.00,9,    2.771,1,    0.000,2,   127.98,2,     0.15,    43.16,2,     0.05,     0.01,2,     0.01,     3.08,2,     0.01,  -999.00,9,  -999.00,    0.828,2,    0.443,2,    0.064,2, -999.000,9,   -999.0,9,   -999.0,9,   -999.0,9,-999.0000,     -999,9, -999.000,9,  -999.00,9, -999.000,9, -999.000,   -999.0,9,   -999.0, -999.000,9, -999.000, -999.000,9, -999.000,   -999.0,9,   -999.0, -999.000,9, -999.000,9, -999.000,9
  49NZ20140717,   P01,    48,  1,     24, X12J24,2,20140720,1035, 41.3761, 146.7030, 5480,    901.5,2,   3.1952,2,   3.19474,2,  34.2713,2,  34.2714,2,-999.0000,9,    33.35,2,    33.68,2,   99.835,   0.0066,2,    0.007,2,  -999.00,9,    2.765,1,    0.000,2,   131.34,2,     0.16,    42.67,2,     0.05,     0.01,2,     0.01,     3.06,2,     0.01,  -999.00,9,  -999.00,    0.570,2,    0.302,2,    0.021,2, -999.000,9,   -999.0,9,   -999.0,9,   -999.0,9,-999.0000,     -999,9, -999.000,9,  -999.00,9, -999.000,9, -999.000,   -999.0,9,   -999.0, -999.000,9, -999.000, -999.000,9, -999.000,   -999.0,9,   -999.0, -999.000,9, -999.000,9, -999.000,9
  49NZ20140717,   P01,    48,  1,     23, X12J23,2,20140720,1035, 41.3761, 146.7030, 5480,   1002.6,2,   3.1035,2,   3.10331,2,  34.3365,2,  34.3356,2,-999.0000,9,    35.22,2,    35.56,2,   99.850,   0.0060,2,    0.005,2,  -999.00,9,    2.604,1,    0.000,2,   135.95,2,     0.16,    42.53,2,     0.05,     0.01,2,     0.01,     3.05,2,     0.01,  -999.00,9,  -999.00,    0.378,2,    0.196,2,    0.018,2, -999.000,9,   -999.0,9,   -999.0,9,   -999.0,9,-999.0000,     -999,9, -999.000,9,  -999.00,9, -999.000,9, -999.000,   -999.0,9,   -999.0, -999.000,9, -999.000, -999.000,9, -999.000,   -999.0,9,   -999.0, -999.000,9, -999.000,9, -999.000,9
  49NZ20140717,   P01,    48,  1,     22, X12J22,2,20140720,1035, 41.3761, 146.7030, 5480,   1202.6,2,   2.6368,2,   2.63694,2,  34.4040,2,  34.4039,2,-999.0000,9,    32.87,2,    33.08,2,   99.852,   0.0059,2,    0.005,2,  -999.00,9,    2.795,1,    0.000,2,   151.12,2,     0.17,    43.07,2,     0.05,     0.00,2,     0.01,     3.08,2,     0.01,  -999.00,9,  -999.00,    0.248,2,    0.128,2,    0.006,2, -999.000,9,   -999.0,9,   -999.0,9,   -999.0,9,-999.0000,     -999,9, -999.000,9,  -999.00,9, -999.000,9, -999.000,   -999.0,9,   -999.0, -999.000,9, -999.000, -999.000,9, -999.000,   -999.0,9,   -999.0, -999.000,9, -999.000,9, -999.000,9
  49NZ20140717,   P01,    48,  1,     21, X12J21,2,20140720,1035, 41.3761, 146.7030, 5480,   1402.2,2,   2.4922,2,   2.49163,2,  34.4696,2,  34.4693,2,-999.0000,9,    40.13,2,    40.41,2,   99.869,   0.0052,2,    0.005,2,  -999.00,9,    2.653,1,    0.000,2,   154.73,2,     0.17,    42.78,2,     0.05,     0.00,2,     0.01,     3.06,2,     0.01,  -999.00,9,  -999.00,    0.121,2,    0.059,2,    0.000,2, -999.000,9,   -999.0,9,   -999.0,9,   -999.0,9,-999.0000,     -999,9, -999.000,9,  -999.00,9, -999.000,9, -999.000,   -999.0,9,   -999.0, -999.000,9, -999.000, -999.000,9, -999.000,   -999.0,9,   -999.0, -999.000,9, -999.000,9, -999.000,9
  49NZ20140717,   P01,    48,  1,     20, X12J20,2,20140720,1035, 41.3761, 146.7030, 5480,   1602.5,2,   2.2343,2,   2.23411,2,  34.5089,2,  34.5085,2,-999.0000,9,    48.77,2,    48.95,2,   99.908,   0.0037,2,    0.004,2,  -999.00,9,    2.659,1,    0.000,2,   161.75,2,     0.17,    42.32,2,     0.05,     0.00,2,     0.01,     3.02,2,     0.01,  -999.00,9,  -999.00,    0.107,2,    0.050,2,    0.000,2, -999.000,9,   -999.0,9,   -999.0,9,   -999.0,9,-999.0000,     -999,9, -999.000,9,  -999.00,9, -999.000,9, -999.000,   -999.0,9,   -999.0, -999.000,9, -999.000, -999.000,9, -999.000,   -999.0,9,   -999.0, -999.000,9, -999.000,9, -999.000,9
  49NZ20140717,   P01,    48,  1,     19, X12J19,2,20140720,1035, 41.3761, 146.7030, 5480,   1800.7,2,   2.1430,2,   2.14299,2,  34.5536,2,  34.5531,2,-999.0000,9,    57.79,2,    58.41,2,   99.854,   0.0058,2,    0.003,2,  -999.00,9,    2.582,1,    0.000,2,   161.37,2,     0.17,    41.93,2,     0.05,     0.00,2,     0.01,     2.97,2,     0.01,  -999.00,9,  -999.00,    0.025,2,    0.010,2,    0.000,2, -999.000,9,   -999.0,9,   -999.0,9,   -999.0,9,-999.0000,     -999,9, -999.000,9,  -999.00,9, -999.000,9, -999.000,   -999.0,9,   -999.0, -999.000,9, -999.000, -999.000,9, -999.000,   -999.0,9,   -999.0, -999.000,9, -999.000,9, -999.000,9
  49NZ20140717,   P01,    48,  1,     18, X12J18,2,20140720,1035, 41.3761, 146.7030, 5480,   2001.8,2,   2.0178,2,   2.01763,2,  34.5810,2,  34.5809,2,-999.0000,9,    68.21,2,    68.30,2,   99.837,   0.0065,2,    0.002,2,  -999.00,9,    2.524,1,    0.000,2,   162.25,2,     0.18,    41.39,2,     0.05,     0.00,2,     0.01,     2.93,2,     0.01,  -999.00,9,  -999.00,    0.005,2,    0.004,2,    0.000,2, -999.000,9,   -999.0,9,   -999.0,9,   -999.0,9,-999.0000,     -999,9, -999.000,9,  -999.00,9, -999.000,9, -999.000,   -999.0,9,   -999.0, -999.000,9, -999.000, -999.000,9, -999.000,   -999.0,9,   -999.0, -999.000,9, -999.000,9, -999.000,9
  49NZ20140717,   P01,    48,  1,     17, X12J17,2,20140720,1035, 41.3761, 146.7030, 5480,   2201.1,2,   1.8900,2,   1.88979,2,  34.6043,2,  34.6044,2,-999.0000,9,    80.70,2,    80.85,2,   99.921,   0.0032,2,    0.001,2,  -999.00,9,    2.513,1,    0.000,2,   162.56,2,     0.18,    40.68,2,     0.05,     0.00,2,     0.01,     2.87,2,     0.01,  -999.00,9,  -999.00,    0.004,2,    0.004,2,    0.000,2, -999.000,9,   -999.0,9,   -999.0,9,   -999.0,9,-999.0000,     -999,9, -999.000,9,  -999.00,9, -999.000,9, -999.000,   -999.0,9,   -999.0, -999.000,9, -999.000, -999.000,9, -999.000,   -999.0,9,   -999.0, -999.000,9, -999.000,9, -999.000,9
  49NZ20140717,   P01,    48,  1,     16, X12J16,2,20140720,1035, 41.3761, 146.7030, 5480,   2401.4,2,   1.7745,2,   1.77447,2,  34.6250,2,  34.6248,2,-999.0000,9,    94.74,2,    94.92,2,   99.932,   0.0027,2,    0.000,2,  -999.00,9,    2.373,1,    0.000,2,   161.35,2,     0.17,    39.78,2,     0.05,     0.00,2,     0.01,     2.80,2,     0.01,  -999.00,9,  -999.00,    0.000,2,    0.000,2,    0.000,2, -999.000,9,   -999.0,9,   -999.0,9,   -999.0,9,-999.0000,     -999,9, -999.000,9,  -999.00,9, -999.000,9, -999.000,   -999.0,9,   -999.0, -999.000,9, -999.000, -999.000,9, -999.000,   -999.0,9,   -999.0, -999.000,9, -999.000,9, -999.000,9
  49NZ20140717,   P01,    48,  1,     15, X12J15,2,20140720,1035, 41.3761, 146.7030, 5480,   2600.8,2,   1.7041,2,   1.70396,2,  34.6372,2,  34.6371,2,-999.0000,9,   103.67,2,   103.78,2,   99.955,   0.0018,2,   -0.001,2,  -999.00,9,    2.319,1,    0.000,2,   160.83,2,     0.17,    39.22,2,     0.05,     0.00,2,     0.01,     2.75,2,     0.01,  -999.00,9,  -999.00,    0.000,2,    0.001,2,    0.000,2, -999.000,9,   -999.0,9,   -999.0,9,   -999.0,9,-999.0000,     -999,9, -999.000,9,  -999.00,9, -999.000,9, -999.000,   -999.0,9,   -999.0, -999.000,9, -999.000, -999.000,9, -999.000,   -999.0,9,   -999.0, -999.000,9, -999.000,9, -999.000,9
  49NZ20140717,   P01,    48,  1,     14, X12J14,2,20140720,1035, 41.3761, 146.7030, 5480,   2801.0,2,   1.6384,2,   1.63834,2,  34.6489,2,  34.6485,2,-999.0000,9,   114.22,2,   114.23,2,   99.973,   0.0011,2,   -0.002,2,  -999.00,9,    2.221,1,    0.000,2,   158.76,2,     0.17,    38.59,2,     0.05,     0.00,2,     0.01,     2.71,2,     0.01,  -999.00,9,  -999.00,    0.000,2,    0.000,2,    0.000,2, -999.000,9,   -999.0,9,   -999.0,9,   -999.0,9,-999.0000,     -999,9, -999.000,9,  -999.00,9, -999.000,9, -999.000,   -999.0,9,   -999.0, -999.000,9, -999.000, -999.000,9, -999.000,   -999.0,9,   -999.0, -999.000,9, -999.000,9, -999.000,9
  49NZ20140717,   P01,    48,  1,     13, X12113,2,20140720,1035, 41.3761, 146.7030, 5480,   3000.6,2,   1.5877,2,   1.58772,2,  34.6576,2,  34.6572,2,-999.0000,9,   122.16,2,   122.15,2,   99.983,   0.0007,2,   -0.001,2,  -999.00,9,    2.227,1,    0.000,2,   156.78,2,     0.17,    38.00,2,     0.05,     0.00,2,     0.01,     2.66,2,     0.01,  -999.00,9,  -999.00,    0.000,2,    0.000,2,    0.000,2, -999.000,9,   -999.0,9,   -999.0,9,   -999.0,9,-999.0000,     -999,9, -999.000,9,  -999.00,9, -999.000,9, -999.000,   -999.0,9,   -999.0, -999.000,9, -999.000, -999.000,9, -999.000,   -999.0,9,   -999.0, -999.000,9, -999.000,9, -999.000,9
  49NZ20140717,   P01,    48,  1,     12, X12J12,2,20140720,1035, 41.3761, 146.7030, 5480,   3250.8,2,   1.5523,2,   1.55233,2,  34.6646,2,  34.6643,2,-999.0000,9,   128.98,2,   128.84,2,   99.983,   0.0007,2,   -0.002,2,  -999.00,9,    2.158,1,    0.000,2,   155.72,2,     0.17,    37.60,2,     0.05,     0.00,2,     0.01,     2.62,2,     0.01,  -999.00,9,  -999.00,    0.000,2,    0.000,2,    0.000,2, -999.000,9,   -999.0,9,   -999.0,9,   -999.0,9,-999.0000,     -999,9, -999.000,9,  -999.00,9, -999.000,9, -999.000,   -999.0,9,   -999.0, -999.000,9, -999.000, -999.000,9, -999.000,   -999.0,9,   -999.0, -999.000,9, -999.000,9, -999.000,9
  49NZ20140717,   P01,    48,  1,     11, X12J11,2,20140720,1035, 41.3761, 146.7030, 5480,   3501.8,2,   1.5180,2,   1.51812,2,  34.6714,2,  34.6708,2,-999.0000,9,   136.38,2,   136.15,2,  100.005,  -0.0002,2,   -0.003,2,  -999.00,9,    2.090,1,    0.000,2,   153.94,2,     0.17,    37.15,2,     0.05,     0.00,2,     0.01,     2.58,2,     0.01,  -999.00,9,  -999.00,    0.000,2,    0.000,2,    0.000,2, -999.000,9,   -999.0,9,   -999.0,9,   -999.0,9,-999.0000,     -999,9, -999.000,9,  -999.00,9, -999.000,9, -999.000,   -999.0,9,   -999.0, -999.000,9, -999.000, -999.000,9, -999.000,   -999.0,9,   -999.0, -999.000,9, -999.000,9, -999.000,9
  49NZ20140717,   P01,    48,  1,     10, X12J10,2,20140720,1035, 41.3761, 146.7030, 5480,   3750.8,2,   1.4939,2,   1.49395,2,  34.6767,2,  34.6761,2,-999.0000,9,   142.61,2,   142.43,2,   99.999,   0.0001,2,   -0.003,2,  -999.00,9,    2.084,1,    0.000,2,   152.55,2,     0.17,    36.74,2,     0.05,     0.00,2,     0.01,     2.56,2,     0.01,  -999.00,9,  -999.00,    0.000,2,    0.000,2,    0.000,2, -999.000,9,   -999.0,9,   -999.0,9,   -999.0,9,-999.0000,     -999,9, -999.000,9,  -999.00,9, -999.000,9, -999.000,   -999.0,9,   -999.0, -999.000,9, -999.000, -999.000,9, -999.000,   -999.0,9,   -999.0, -999.000,9, -999.000,9, -999.000,9