BOTTLE,20230904JAMSTECRIGC
EXPOCODE,SECT,STNNBR,CASTNO,SAMPNO,BTLNBR,BTLNBR_FLAG_W,DATE,TIME,LATITUDE,LONGITUDE,DEPTH,CTDPRS,CTDPRS_FLAG_W,CTDTMP,CTDTMP_FLAG_W,SBE35,SBE35_FLAG_W,CTDSAL,CTDSAL_FLAG_W,SALNTY,SALNTY_FLAG_W,DNSSAL,DNSSAL_FLAG_W,CTDOXY,CTDOXY_FLAG_W,OXYGEN,OXYGEN_FLAG_W,XMISS,XMISSCP,XMISS_FLAG_W,FLUOR,FLUOR_FLAG_W,CHLORA,CHLORA_FLAG_W,CDOM,CDOM_FLAG_W,PAR,PAR_FLAG_W,SILCAT,SILCAT_FLAG_W,SILUNC,NITRAT,NITRAT_FLAG_W,NRAUNC,NITRIT,NITRIT_FLAG_W,NRIUNC,PHSPHT,PHSPHT_FLAG_W,PHPUNC,AMMONIA,AMMONIA_FLAG_W,NH4UNC,CFC-11,CFC-11_FLAG_W,CFC-12,CFC-12_FLAG_W,CFC113,CFC113_FLAG_W,SF6,SF6_FLAG_W,TCARBN,TCARBN_FLAG_W,ALKALI,ALKALI_FLAG_W,ALKALI_POT,ALKALI_POT_FLAG_W,PH_TOT,PH_TMP,PH_TOT_FLAG_W,CALCIUM,CALCIUM_FLAG_W,DOC,DOC_FLAG_W,DELC13,DELC13_FLAG_W,C13ERR,DELC14,DELC14_FLAG_W,C14ERR,CS-134,CS-134_FLAG_W,CS134ER,CS-137,CS-137_FLAG_W,CS137ER,I-129,I-129_FLAG_W,I-129ER,CDOM-325,CDOM-325_FLAG_W,CDOM-370,CDOM-370_FLAG_W,CDOM-443,CDOM-443_FLAG_W
,,,,,,,,UTC,DEG,DEG,METERS,DBAR,,ITS-90,,ITS-90,,PSS-78,,PSS-78,,G/KG,,UMOL/KG,,UMOL/KG,,%TRANS,/METER,,MG/CUM,,MG/CUM,,MG/CUM,,UE/SQM/S,,UMOL/KG,,UMOL/KG,UMOL/KG,,UMOL/KG,UMOL/KG,,UMOL/KG,UMOL/KG,,UMOL/KG,UMOL/KG,,UMOL/KG,PMOL/KG,,PMOL/KG,,PMOL/KG,,FMOL/KG,,UMOL/KG,,UMOL/KG,,UMOL/KG,,,DEG C,,MMOL/KG,,UMOL/KG,,/MILLE,,/MILLE,/MILLE,,/MILLE,MBQ/KG,,MBQ/KG,MBQ/KG,,MBQ/KG,,,,/METER,,/METER,,/METER,
  49NZ20140717,   P01,    99,  1,      0,   -999,9,20140805,0930, 46.9972,-177.2145, 5710,   -999.0,9,-999.0000,9,-999.00000,9,-999.0000,9,  32.8625,2,-999.0000,9,  -999.00,9,  -999.00,9, -999.000,-999.0000,9, -999.000,9,  -999.00,9, -999.000,9, -999.000,9,    19.07,2,     0.09,    12.05,2,     0.02,     0.19,2,     0.01,     1.16,2,     0.01,  -999.00,9,  -999.00, -999.000,9, -999.000,9, -999.000,9, -999.000,9,   -999.0,9,   -999.0,9,   -999.0,9,-999.0000,     -999,9, -999.000,9,  -999.00,9, -999.000,9, -999.000,   -999.0,9,   -999.0, -999.000,9, -999.000, -999.000,9, -999.000,   -999.0,9,   -999.0, -999.000,9, -999.000,9, -999.000,9
  49NZ20140717,   P01,    99,  1,     36, X12J36,2,20140805,0930, 46.9972,-177.2145, 5710,     10.1,2,  12.9085,2,  12.89277,2,  32.8682,2,  32.8724,2,-999.0000,9,   274.84,2,   277.28,2,   96.751,   0.1321,2,    0.343,2,  -999.00,9,   -0.590,1,    0.172,2,    19.01,2,     0.09,    11.99,2,     0.02,     0.17,2,     0.01,     1.16,2,     0.01,  -999.00,9,  -999.00, -999.000,9, -999.000,9, -999.000,9, -999.000,9,   2041.1,2,   2215.5,2,   -999.0,9,   7.8258,       25,6, -999.000,9,    56.39,2, -999.000,9, -999.000,   -999.0,9,   -999.0, -999.000,9, -999.000, -999.000,9, -999.000,   -999.0,9,   -999.0, -999.000,9, -999.000,9, -999.000,9
  49NZ20140717,   P01,    99,  1,     35, X12J35,2,20140805,0930, 46.9972,-177.2145, 5710,     50.4,2,   5.5524,2,   5.55235,2,  32.9623,2,  32.9771,2,-999.0000,9,   323.32,2,   322.79,2,   97.077,   0.1186,2,    0.574,2,  -999.00,9,    0.701,1,    0.000,2,    23.53,2,     0.09,    15.76,2,     0.03,     0.20,2,     0.01,     1.43,2,     0.01,  -999.00,9,  -999.00, -999.000,9, -999.000,9, -999.000,9, -999.000,9,   2080.7,6,   2222.9,2,   -999.0,9,   7.7504,       25,2, -999.000,9,    52.78,2, -999.000,9, -999.000,   -999.0,9,   -999.0, -999.000,9, -999.000, -999.000,9, -999.000,   -999.0,9,   -999.0, -999.000,9, -999.000,9, -999.000,9
  49NZ20140717,   P01,    99,  1,     34, X12J34,2,20140805,0930, 46.9972,-177.2145, 5710,    100.3,2,   4.8298,2,   4.82973,2,  33.0798,2,  33.1005,2,-999.0000,9,   304.85,2,   303.57,2,   99.486,   0.0206,2,    0.149,2,  -999.00,9,    0.610,1,    0.000,2,    23.93,2,     0.09,    17.41,2,     0.03,     0.21,2,     0.01,     1.47,2,     0.01,  -999.00,9,  -999.00, -999.000,9, -999.000,9, -999.000,9, -999.000,9,   2097.4,2,   2228.2,2,   -999.0,9,   7.7157,       25,2, -999.000,9,    50.72,2, -999.000,9, -999.000,   -999.0,9,   -999.0, -999.000,9, -999.000, -999.000,9, -999.000,   -999.0,9,   -999.0, -999.000,9, -999.000,9, -999.000,9
  49NZ20140717,   P01,    99,  1,     33, X12J33,2,20140805,0930, 46.9972,-177.2145, 5710,    150.5,2,   4.5872,2,   4.59073,2,  33.6359,2,  33.6357,2,-999.0000,9,   233.43,2,   234.01,2,   99.716,   0.0114,2,    0.013,2,  -999.00,9,    1.633,1,    0.000,2,    42.59,2,     0.10,    24.65,2,     0.04,     0.01,2,     0.01,     1.85,2,     0.01,  -999.00,9,  -999.00, -999.000,9, -999.000,9, -999.000,9, -999.000,9,   2170.0,2,   2262.7,2,   -999.0,9,   7.5988,       25,6, -999.000,9,    47.36,2, -999.000,9, -999.000,   -999.0,9,   -999.0, -999.000,9, -999.000, -999.000,9, -999.000,   -999.0,9,   -999.0, -999.000,9, -999.000,9, -999.000,9
  49NZ20140717,   P01,    99,  1,     32, X12J32,2,20140805,0930, 46.9972,-177.2145, 5710,    199.5,2,   4.5853,2,   4.58624,2,  33.7591,2,  33.7639,2,-999.0000,9,   166.70,2,   160.75,2,   99.642,   0.0143,2,    0.013,2,  -999.00,9,    2.139,1,    0.000,2,    60.32,2,     0.11,    31.06,2,     0.04,     0.01,2,     0.01,     2.28,2,     0.01,  -999.00,9,  -999.00, -999.000,9, -999.000,9, -999.000,9, -999.000,9,   2225.4,2,   2275.6,6,   -999.0,9,   7.4841,       25,2, -999.000,9,    45.87,2, -999.000,9, -999.000,   -999.0,9,   -999.0, -999.000,9, -999.000, -999.000,9, -999.000,   -999.0,9,   -999.0, -999.000,9, -999.000,9, -999.000,9
  49NZ20140717,   P01,    99,  1,     31, X12J31,2,20140805,0930, 46.9972,-177.2145, 5710,    250.0,2,   4.2345,2,   4.23166,2,  33.7979,2,  33.7966,2,-999.0000,9,   130.79,2,   128.81,2,   99.731,   0.0108,2,    0.013,2,  -999.00,9,    2.358,1,    0.000,2,    71.30,2,     0.12,    34.71,2,     0.05,     0.01,2,     0.01,     2.53,2,     0.01,  -999.00,9,  -999.00, -999.000,9, -999.000,9, -999.000,9, -999.000,9,   2254.2,2,   2281.3,2,   -999.0,9,   7.4169,       25,2, -999.000,9,    46.95,2, -999.000,9, -999.000,   -999.0,9,   -999.0, -999.000,9, -999.000, -999.000,9, -999.000,   -999.0,9,   -999.0, -999.000,9, -999.000,9, -999.000,9
  49NZ20140717,   P01,    99,  1,     30, X12J30,2,20140805,0930, 46.9972,-177.2145, 5710,    299.9,2,   3.9552,2,   3.95434,2,  33.8576,2,  33.8574,2,-999.0000,9,   100.24,2,   100.11,2,   99.837,   0.0065,2,    0.016,2,  -999.00,9,    2.549,1,    0.000,2,    81.45,2,     0.13,    37.51,2,     0.05,     0.01,2,     0.01,     2.71,2,     0.01,  -999.00,9,  -999.00, -999.000,9, -999.000,9, -999.000,9, -999.000,9,   2279.0,2,   2293.0,2,   -999.0,9,   7.3668,       25,2, -999.000,9,    47.09,2, -999.000,9, -999.000,   -999.0,9,   -999.0, -999.000,9, -999.000, -999.000,9, -999.000,   -999.0,9,   -999.0, -999.000,9, -999.000,9, -999.000,9
  49NZ20140717,   P01,    99,  1,     29, X12J29,2,20140805,0930, 46.9972,-177.2145, 5710,    400.5,2,   3.8612,2,   3.86104,2,  33.9856,2,  33.9856,2,-999.0000,9,    63.82,2,    64.05,2,   99.824,   0.0071,2,    0.015,2,  -999.00,9,    2.744,1,    0.000,2,    96.12,2,     0.13,    40.46,2,     0.05,     0.01,2,     0.01,     2.91,2,     0.01,  -999.00,9,  -999.00, -999.000,9, -999.000,9, -999.000,9, -999.000,9,   2311.4,2,   2310.8,2,   -999.0,9,   7.3215,       25,2, -999.000,9,    43.23,2, -999.000,9, -999.000,   -999.0,9,   -999.0, -999.000,9, -999.000, -999.000,9, -999.000,   -999.0,9,   -999.0, -999.000,9, -999.000,9, -999.000,9
  49NZ20140717,   P01,    99,  1,     28, X12J28,2,20140805,0930, 46.9972,-177.2145, 5710,    500.0,2,   3.8006,2,   3.80031,2,  34.0924,2,  34.0924,2,-999.0000,9,    47.08,2,    47.49,2,   99.884,   0.0046,2,    0.016,2,  -999.00,9,    2.885,1,    0.000,2,   106.43,2,     0.14,    41.50,2,     0.05,     0.00,2,     0.01,     2.98,2,     0.01,  -999.00,9,  -999.00, -999.000,9, -999.000,9, -999.000,9, -999.000,9,   2326.4,2,   2323.9,2,   -999.0,9,   7.3139,       25,2, -999.000,9,    41.89,2, -999.000,9, -999.000,   -999.0,9,   -999.0, -999.000,9, -999.000, -999.000,9, -999.000,   -999.0,9,   -999.0, -999.000,9, -999.000,9, -999.000,9
  49NZ20140717,   P01,    99,  1,     27, X12J27,2,20140805,0930, 46.9972,-177.2145, 5710,    600.3,2,   3.6450,2,   3.64502,2,  34.1776,2,  34.1773,2,-999.0000,9,    37.78,2,    38.11,2,   99.884,   0.0046,2,    0.016,2,  -999.00,9,    2.961,1,    0.000,2,   115.93,2,     0.15,    42.12,2,     0.05,     0.00,2,     0.01,     3.02,2,     0.01,  -999.00,9,  -999.00, -999.000,9, -999.000,9, -999.000,9, -999.000,9,   2341.8,2,   2337.8,2,   -999.0,9,   7.3130,       25,2, -999.000,9,    41.31,2, -999.000,9, -999.000,   -999.0,9,   -999.0, -999.000,9, -999.000, -999.000,9, -999.000,   -999.0,9,   -999.0, -999.000,9, -999.000,9, -999.000,9
  49NZ20140717,   P01,    99,  1,     26, X12J26,2,20140805,0930, 46.9972,-177.2145, 5710,    699.7,2,   3.3892,2,   3.38932,2,  34.2388,2,  34.2387,2,-999.0000,9,    30.12,2,    30.08,2,   99.884,   0.0046,2,    0.015,2,  -999.00,9,    2.978,1,    0.000,2,   126.24,2,     0.15,    42.99,2,     0.05,     0.00,2,     0.01,     3.08,2,     0.01,  -999.00,9,  -999.00, -999.000,9, -999.000,9, -999.000,9, -999.000,9,   2355.4,6,   2349.7,2,   -999.0,9,   7.3075,       25,2, -999.000,9,    43.22,3, -999.000,9, -999.000,   -999.0,9,   -999.0, -999.000,9, -999.000, -999.000,9, -999.000,   -999.0,9,   -999.0, -999.000,9, -999.000,9, -999.000,9
  49NZ20140717,   P01,    99,  1,     25, X12J25,2,20140805,0930, 46.9972,-177.2145, 5710,    799.5,2,   3.2390,2,   3.23928,2,  34.3025,2,  34.3029,2,-999.0000,9,    30.48,2,    30.50,2,   99.861,   0.0056,2,    0.014,2,  -999.00,9,    3.103,1,    0.000,2,   132.55,2,     0.16,    43.02,2,     0.05,     0.00,2,     0.01,     3.09,2,     0.01,  -999.00,9,  -999.00, -999.000,9, -999.000,9, -999.000,9, -999.000,9,   2362.3,2,   2361.6,2,   -999.0,9,   7.3185,       25,2, -999.000,9,    38.90,2, -999.000,9, -999.000,   -999.0,9,   -999.0, -999.000,9, -999.000, -999.000,9, -999.000,   -999.0,9,   -999.0, -999.000,9, -999.000,9, -999.000,9
  49NZ20140717,   P01,    99,  1,     24, X12J24,2,20140805,0930, 46.9972,-177.2145, 5710,    899.9,2,   2.9818,2,   2.98134,2,  34.3389,2,  34.3393,2,-999.0000,9,    26.77,2,    26.60,2,   99.908,   0.0037,2,    0.014,2,  -999.00,9,    3.108,1,    0.000,2,   140.77,2,     0.16,    43.34,2,     0.05,     0.00,2,     0.01,     3.10,2,     0.01,  -999.00,9,  -999.00, -999.000,9, -999.000,9, -999.000,9, -999.000,9,   2371.2,2,   2369.0,2,   -999.0,9,   7.3114,       25,6, -999.000,9,    40.19,2, -999.000,9, -999.000,   -999.0,9,   -999.0, -999.000,9, -999.000, -999.000,9, -999.000,   -999.0,9,   -999.0, -999.000,9, -999.000,9, -999.000,9
  49NZ20140717,   P01,    99,  1,     23, X12J23,2,20140805,0930, 46.9972,-177.2145, 5710,   1000.2,2,   2.8527,2,   2.85264,2,  34.3804,2,  34.3812,2,-999.0000,9,    27.21,2,    27.04,2,   99.893,   0.0043,2,    0.014,2,  -999.00,9,    3.103,1,    0.000,2,   145.48,2,     0.16,    43.44,2,     0.05,     0.00,2,     0.01,     3.11,2,     0.01,  -999.00,9,  -999.00, -999.000,9, -999.000,9, -999.000,9, -999.000,9,   2376.2,2,   2375.7,2,   -999.0,9,   7.3187,       25,2, -999.000,9,    38.37,2, -999.000,9, -999.000,   -999.0,9,   -999.0, -999.000,9, -999.000, -999.000,9, -999.000,   -999.0,9,   -999.0, -999.000,9, -999.000,9, -999.000,9
  49NZ20140717,   P01,    99,  1,     22, X12J22,2,20140805,0930, 46.9972,-177.2145, 5710,   1199.9,2,   2.5939,2,   2.59453,2,  34.4407,2,  34.4386,2,-999.0000,9,    29.11,2,    28.69,2,   99.899,   0.0040,2,    0.013,2,  -999.00,9,    3.082,1,    0.000,2,   153.64,2,     0.17,    43.57,2,     0.05,     0.00,2,     0.01,     3.11,2,     0.01,  -999.00,9,  -999.00, -999.000,9, -999.000,9, -999.000,9, -999.000,9,   2382.7,2,   2385.6,6,   -999.0,9,   7.3289,       25,2, -999.000,9,    38.54,2, -999.000,9, -999.000,   -999.0,9,   -999.0, -999.000,9, -999.000, -999.000,9, -999.000,   -999.0,9,   -999.0, -999.000,9, -999.000,9, -999.000,9
  49NZ20140717,   P01,    99,  1,     21, X12J21,2,20140805,0930, 46.9972,-177.2145, 5710,   1401.1,2,   2.3735,2,   2.37378,2,  34.4883,2,  34.4872,2,-999.0000,9,    34.49,2,    34.12,2,   99.910,   0.0036,2,    0.012,2,  -999.00,9,    3.078,1,    0.000,2,   160.25,2,     0.17,    43.36,2,     0.05,     0.00,2,     0.01,     3.09,2,     0.01,  -999.00,9,  -999.00, -999.000,9, -999.000,9, -999.000,9, -999.000,9,   2387.3,2,   2394.8,2,   -999.0,9,   7.3444,       25,2, -999.000,9,    38.25,2, -999.000,9, -999.000,   -999.0,9,   -999.0, -999.000,9, -999.000, -999.000,9, -999.000,   -999.0,9,   -999.0, -999.000,9, -999.000,9, -999.000,9
  49NZ20140717,   P01,    99,  1,     20, X12J20,2,20140805,0930, 46.9972,-177.2145, 5710,   1599.6,2,   2.2007,2,   2.20007,2,  34.5276,2,  34.5266,2,-999.0000,9,    42.55,2,    42.39,2,   99.908,   0.0037,2,    0.010,2,  -999.00,9,    3.162,1,    0.000,2,   164.64,2,     0.18,    42.97,2,     0.05,     0.00,2,     0.01,     3.05,2,     0.01,  -999.00,9,  -999.00, -999.000,9, -999.000,9, -999.000,9, -999.000,9,   2388.4,2,   2403.4,2,   -999.0,9,   7.3620,       25,2, -999.000,9,    38.31,2, -999.000,9, -999.000,   -999.0,9,   -999.0, -999.000,9, -999.000, -999.000,9, -999.000,   -999.0,9,   -999.0, -999.000,9, -999.000,9, -999.000,9
  49NZ20140717,   P01,    99,  1,     19, X12J19,2,20140805,0930, 46.9972,-177.2145, 5710,   1798.3,2,   2.0496,2,   2.04956,2,  34.5605,2,  34.5607,2,-999.0000,9,    53.58,2,    53.39,2,   99.951,   0.0019,2,    0.010,2,  -999.00,9,    3.081,1,    0.000,2,   167.26,2,     0.18,    42.32,2,     0.05,     0.00,2,     0.01,     3.00,2,     0.01,  -999.00,9,  -999.00, -999.000,9, -999.000,9, -999.000,9, -999.000,9,   2384.8,2,   2407.5,2,   -999.0,9,   7.3863,       25,2, -999.000,9,    36.63,2, -999.000,9, -999.000,   -999.0,9,   -999.0, -999.000,9, -999.000, -999.000,9, -999.000,   -999.0,9,   -999.0, -999.000,9, -999.000,9, -999.000,9
  49NZ20140717,   P01,    99,  1,     18, X12J18,2,20140805,0930, 46.9972,-177.2145, 5710,   2000.4,2,   1.9422,2,   1.94226,2,  34.5835,2,  34.5842,2,-999.0000,9,    63.40,2,    63.48,2,   99.943,   0.0023,2,    0.008,2,  -999.00,9,    2.931,1,    0.000,2,   168.53,2,     0.18,    41.72,2,     0.05,     0.00,2,     0.01,     2.96,2,     0.01,  -999.00,9,  -999.00, -999.000,9, -999.000,9, -999.000,9, -999.000,9,   2380.3,2,   2410.8,2,   -999.0,9,   7.4070,       25,2, -999.000,9,    38.43,2, -999.000,9, -999.000,   -999.0,9,   -999.0, -999.000,9, -999.000, -999.000,9, -999.000,   -999.0,9,   -999.0, -999.000,9, -999.000,9, -999.000,9
  49NZ20140717,   P01,    99,  1,     17, X12J17,2,20140805,0930, 46.9972,-177.2145, 5710,   2200.8,2,   1.8468,2,   1.84673,2,  34.6034,2,  34.6036,2,-999.0000,9,    73.95,2,    74.09,2,   99.934,   0.0026,2,    0.008,2,  -999.00,9,    2.878,1,    0.000,2,   168.80,2,     0.18,    41.04,2,     0.05,     0.00,2,     0.01,     2.91,2,     0.01,  -999.00,9,  -999.00, -999.000,9, -999.000,9, -999.000,9, -999.000,9,   2374.9,2,   2418.0,2,   -999.0,9,   7.4293,       25,2, -999.000,9,    37.83,2, -999.000,9, -999.000,   -999.0,9,   -999.0, -999.000,9, -999.000, -999.000,9, -999.000,   -999.0,9,   -999.0, -999.000,9, -999.000,9, -999.000,9
  49NZ20140717,   P01,    99,  1,     16, X12J16,2,20140805,0930, 46.9972,-177.2145, 5710,   2399.6,2,   1.7575,2,   1.75752,2,  34.6209,2,  34.6212,2,-999.0000,9,    85.01,2,    85.10,2,   99.954,   0.0019,2,    0.006,2,  -999.00,9,    2.859,1,    0.000,2,   168.69,2,     0.18,    40.39,2,     0.05,     0.00,2,     0.01,     2.86,2,     0.01,  -999.00,9,  -999.00, -999.000,9, -999.000,9, -999.000,9, -999.000,9,   2370.2,6,   2416.5,2,   -999.0,9,   7.4522,       25,2, -999.000,9,    37.50,2, -999.000,9, -999.000,   -999.0,9,   -999.0, -999.000,9, -999.000, -999.000,9, -999.000,   -999.0,9,   -999.0, -999.000,9, -999.000,9, -999.000,9
  49NZ20140717,   P01,    99,  1,     15, X12J15,2,20140805,0930, 46.9972,-177.2145, 5710,   2600.2,2,   1.6854,2,   1.68536,2,  34.6343,2,  34.6345,2,-999.0000,9,    95.58,2,    95.82,2,   99.962,   0.0015,2,    0.006,2,  -999.00,9,    2.760,1,    0.000,2,   167.93,2,     0.18,    39.70,2,     0.05,     0.00,2,     0.01,     2.81,2,     0.01,  -999.00,9,  -999.00, -999.000,9, -999.000,9, -999.000,9, -999.000,9,   2364.2,2,   2417.6,2,   -999.0,9,   7.4716,       25,2, -999.000,9,    39.04,2, -999.000,9, -999.000,   -999.0,9,   -999.0, -999.000,9, -999.000, -999.000,9, -999.000,   -999.0,9,   -999.0, -999.000,9, -999.000,9, -999.000,9
  49NZ20140717,   P01,    99,  1,     14, X12J14,2,20140805,0930, 46.9972,-177.2145, 5710,   2799.4,2,   1.6371,2,   1.63715,2,  34.6444,2,  34.6443,2,-999.0000,9,   104.03,2,   103.88,2,   99.993,   0.0003,2,    0.005,2,  -999.00,9,    2.785,1,    0.000,2,   167.13,2,     0.18,    39.22,2,     0.05,     0.00,2,     0.01,     2.77,2,     0.01,  -999.00,9,  -999.00, -999.000,9, -999.000,9, -999.000,9, -999.000,9,   2358.7,2,   2416.8,2,   -999.0,9,   7.4882,       25,6, -999.000,9,    37.55,2, -999.000,9, -999.000,   -999.0,9,   -999.0, -999.000,9, -999.000, -999.000,9, -999.000,   -999.0,9,   -999.0, -999.000,9, -999.000,9, -999.000,9
  49NZ20140717,   P01,    99,  1,     13, X12113,2,20140805,0930, 46.9972,-177.2145, 5710,   2999.9,2,   1.5967,2,   1.59660,2,  34.6526,2,  34.6524,2,-999.0000,9,   112.05,2,   112.22,2,  100.006,  -0.0002,2,    0.004,2,  -999.00,9,    2.697,1,    0.000,2,   165.59,2,     0.18,    38.77,2,     0.05,     0.00,2,     0.01,     2.73,2,     0.01,  -999.00,9,  -999.00, -999.000,9, -999.000,9, -999.000,9, -999.000,9,   2353.1,2,   2418.9,2,   -999.0,9,   7.5034,       25,2, -999.000,9,    37.24,2, -999.000,9, -999.000,   -999.0,9,   -999.0, -999.000,9, -999.000, -999.000,9, -999.000,   -999.0,9,   -999.0, -999.000,9, -999.000,9, -999.000,9
  49NZ20140717,   P01,    99,  1,     12, X12J12,2,20140805,0930, 46.9972,-177.2145, 5710,   3250.3,2,   1.5458,2,   1.54523,2,  34.6627,2,  34.6625,2,-999.0000,9,   122.85,2,   123.39,2,   99.988,   0.0005,2,    0.003,2,  -999.00,9,    2.605,1,    0.000,2,   162.61,2,     0.18,    37.95,2,     0.05,     0.00,2,     0.01,     2.67,2,     0.01,  -999.00,9,  -999.00, -999.000,9, -999.000,9, -999.000,9, -999.000,9,   2347.0,2,   2418.6,6,   -999.0,9,   7.5230,       25,2, -999.000,9,    37.52,2, -999.000,9, -999.000,   -999.0,9,   -999.0, -999.000,9, -999.000, -999.000,9, -999.000,   -999.0,9,   -999.0, -999.000,9, -999.000,9, -999.000,9
  49NZ20140717,   P01,    99,  1,     11, X12J11,2,20140805,0930, 46.9972,-177.2145, 5710,   3500.5,2,   1.5116,2,   1.51165,2,  34.6700,2,  34.6702,2,-999.0000,9,   131.80,2,   131.62,2,   99.990,   0.0004,2,    0.003,2,  -999.00,9,    2.511,1,    0.000,2,   160.11,2,     0.17,    37.39,2,     0.05,     0.00,2,     0.01,     2.62,2,     0.01,  -999.00,9,  -999.00, -999.000,9, -999.000,9, -999.000,9, -999.000,9,   2340.9,2,   2418.8,2,   -999.0,9,   7.5401,       25,2, -999.000,9,    39.17,2, -999.000,9, -999.000,   -999.0,9,   -999.0, -999.000,9, -999.000, -999.000,9, -999.000,   -999.0,9,   -999.0, -999.000,9, -999.000,9, -999.000,9
  49NZ20140717,   P01,    99,  1,     10, X12J10,2,20140805,0930, 46.9972,-177.2145, 5710,   3750.1,2,   1.4882,2,   1.48830,2,  34.6759,2,  34.6757,2,-999.0000,9,   139.09,2,   138.89,2,  100.008,  -0.0003,2,    0.003,2,  -999.00,9,    2.450,1,    0.000,2,   158.36,2,     0.17,    36.95,2,     0.05,     0.00,2,     0.01,     2.59,2,     0.01,  -999.00,9,  -999.00, -999.000,9, -999.000,9, -999.000,9, -999.000,9,   2334.5,2,   2419.0,2,   -999.0,9,   7.5526,       25,2, -999.000,9,    38.61,2, -999.000,9, -999.000,   -999.0,9,   -999.0, -999.000,9, -999.000, -999.000,9, -999.000,   -999.0,9,   -999.0, -999.000,9, -999.000,9, -999.000,9