BOTTLE,20230904JAMSTECRIGC
EXPOCODE,SECT,STNNBR,CASTNO,SAMPNO,BTLNBR,BTLNBR_FLAG_W,DATE,TIME,LATITUDE,LONGITUDE,DEPTH,CTDPRS,CTDPRS_FLAG_W,CTDTMP,CTDTMP_FLAG_W,SBE35,SBE35_FLAG_W,CTDSAL,CTDSAL_FLAG_W,SALNTY,SALNTY_FLAG_W,DNSSAL,DNSSAL_FLAG_W,CTDOXY,CTDOXY_FLAG_W,OXYGEN,OXYGEN_FLAG_W,XMISS,XMISSCP,XMISS_FLAG_W,FLUOR,FLUOR_FLAG_W,CHLORA,CHLORA_FLAG_W,CDOM,CDOM_FLAG_W,PAR,PAR_FLAG_W,SILCAT,SILCAT_FLAG_W,SILUNC,NITRAT,NITRAT_FLAG_W,NRAUNC,NITRIT,NITRIT_FLAG_W,NRIUNC,PHSPHT,PHSPHT_FLAG_W,PHPUNC,AMMONIA,AMMONIA_FLAG_W,NH4UNC,CFC-11,CFC-11_FLAG_W,CFC-12,CFC-12_FLAG_W,CFC113,CFC113_FLAG_W,SF6,SF6_FLAG_W,TCARBN,TCARBN_FLAG_W,ALKALI,ALKALI_FLAG_W,ALKALI_POT,ALKALI_POT_FLAG_W,PH_TOT,PH_TMP,PH_TOT_FLAG_W,CALCIUM,CALCIUM_FLAG_W,DOC,DOC_FLAG_W,DELC13,DELC13_FLAG_W,C13ERR,DELC14,DELC14_FLAG_W,C14ERR,CS-134,CS-134_FLAG_W,CS134ER,CS-137,CS-137_FLAG_W,CS137ER,I-129,I-129_FLAG_W,I-129ER,CDOM-325,CDOM-325_FLAG_W,CDOM-370,CDOM-370_FLAG_W,CDOM-443,CDOM-443_FLAG_W
,,,,,,,,UTC,DEG,DEG,METERS,DBAR,,ITS-90,,ITS-90,,PSS-78,,PSS-78,,G/KG,,UMOL/KG,,UMOL/KG,,%TRANS,/METER,,MG/CUM,,MG/CUM,,MG/CUM,,UE/SQM/S,,UMOL/KG,,UMOL/KG,UMOL/KG,,UMOL/KG,UMOL/KG,,UMOL/KG,UMOL/KG,,UMOL/KG,UMOL/KG,,UMOL/KG,PMOL/KG,,PMOL/KG,,PMOL/KG,,FMOL/KG,,UMOL/KG,,UMOL/KG,,UMOL/KG,,,DEG C,,MMOL/KG,,UMOL/KG,,/MILLE,,/MILLE,/MILLE,,/MILLE,MBQ/KG,,MBQ/KG,MBQ/KG,,MBQ/KG,,,,/METER,,/METER,,/METER,
  49NZ20140717,   P01,    90,  1,      0,   -999,9,20140802,0809, 47.0033, 172.7205, 5606,   -999.0,9,-999.0000,9,-999.00000,9,-999.0000,9,  32.8494,2,-999.0000,9,  -999.00,9,  -999.00,9, -999.000,-999.0000,9, -999.000,9,  -999.00,9, -999.000,9, -999.000,9,    21.62,2,     0.09,    11.68,2,     0.02,     0.16,2,     0.01,     1.18,2,     0.02,  -999.00,9,  -999.00, -999.000,9, -999.000,9, -999.000,9, -999.000,9,   -999.0,9,   -999.0,9,   -999.0,9,-999.0000,     -999,9, -999.000,9,  -999.00,9, -999.000,9, -999.000,   -999.0,9,   -999.0, -999.000,9, -999.000, -999.000,9, -999.000,   -999.0,9,   -999.0, -999.000,9, -999.000,9, -999.000,9
  49NZ20140717,   P01,    90,  1,     36, X12J36,2,20140802,0809, 47.0033, 172.7205, 5606,     10.0,2,  12.2189,2,  12.22031,2,  32.8375,2,  32.8401,2,-999.0000,9,   275.30,2,   277.81,2,   96.609,   0.1380,2,    0.361,2,  -999.00,9,   -0.206,1,    0.399,2,    22.02,2,     0.09,    11.77,2,     0.02,     0.15,2,     0.01,     1.18,2,     0.01,  -999.00,9,  -999.00,    3.508,2,    1.992,2,    0.380,2, -999.000,9,   -999.0,9,   -999.0,9,   -999.0,9,-999.0000,     -999,9, -999.000,9,  -999.00,9, -999.000,9, -999.000,   -999.0,9,   -999.0, -999.000,9, -999.000, -999.000,9, -999.000,   -999.0,9,   -999.0, -999.000,9, -999.000,9, -999.000,9
  49NZ20140717,   P01,    90,  1,     35, X12J35,2,20140802,0809, 47.0033, 172.7205, 5606,     50.1,2,   4.1433,2,   4.14352,2,  32.8487,2,  32.8547,2,-999.0000,9,   334.71,2,   336.02,2,   96.959,   0.1235,2,    0.530,2,  -999.00,9,    0.897,1,    0.000,2,    31.86,2,     0.10,    18.68,2,     0.03,     0.18,2,     0.01,     1.67,2,     0.01,  -999.00,9,  -999.00,    5.415,2,    2.900,2,    0.534,2, -999.000,9,   -999.0,9,   -999.0,9,   -999.0,9,-999.0000,     -999,9, -999.000,9,  -999.00,9, -999.000,9, -999.000,   -999.0,9,   -999.0, -999.000,9, -999.000, -999.000,9, -999.000,   -999.0,9,   -999.0, -999.000,9, -999.000,9, -999.000,9
  49NZ20140717,   P01,    90,  1,     34, X12J34,2,20140802,0809, 47.0033, 172.7205, 5606,   5500.2,2,   1.5889,2,   1.58886,2,  34.6887,2,  34.6882,2,-999.0000,9,   155.26,2,   155.73,2,   99.859,   0.0056,2,    0.001,2,  -999.00,9,   -1.890,4,    0.000,2,  -999.00,9,  -999.00,  -999.00,9,  -999.00,  -999.00,9,  -999.00,  -999.00,9,  -999.00,  -999.00,9,  -999.00,    0.003,2,    0.001,2,    0.000,2, -999.000,9,   -999.0,9,   -999.0,9,   -999.0,9,-999.0000,     -999,9, -999.000,9,  -999.00,9, -999.000,9, -999.000,   -999.0,9,   -999.0, -999.000,9, -999.000, -999.000,9, -999.000,   -999.0,9,   -999.0, -999.000,9, -999.000,9, -999.000,9
  49NZ20140717,   P01,    90,  1,     33, X12J33,2,20140802,0809, 47.0033, 172.7205, 5606,    150.6,2,   2.8205,2,   2.82052,2,  33.5328,2,  33.5371,2,-999.0000,9,   145.88,2,   144.57,2,   99.580,   0.0168,2,    0.021,2,  -999.00,9,    2.327,1,    0.000,2,    74.44,2,     0.12,    37.47,2,     0.05,     0.01,2,     0.01,     2.72,2,     0.01,  -999.00,9,  -999.00, -999.000,9, -999.000,9, -999.000,9, -999.000,9,   -999.0,9,   -999.0,9,   -999.0,9,-999.0000,     -999,9, -999.000,9,  -999.00,9, -999.000,9, -999.000,   -999.0,9,   -999.0, -999.000,9, -999.000, -999.000,9, -999.000,   -999.0,9,   -999.0, -999.000,9, -999.000,9, -999.000,9
  49NZ20140717,   P01,    90,  1,     32, X12J32,2,20140802,0809, 47.0033, 172.7205, 5606,    201.0,2,   3.3329,2,   3.33320,2,  33.7692,2,  33.7688,2,-999.0000,9,    65.79,2,    36.72,4,   99.742,   0.0103,2,    0.014,2,  -999.00,9,    2.734,1,    0.000,2,    90.67,2,     0.13,    42.69,2,     0.05,     0.01,2,     0.01,     3.04,2,     0.01,  -999.00,9,  -999.00,    2.675,2,    1.390,2,    0.198,2, -999.000,9,   -999.0,9,   -999.0,9,   -999.0,9,-999.0000,     -999,9, -999.000,9,  -999.00,9, -999.000,9, -999.000,   -999.0,9,   -999.0, -999.000,9, -999.000, -999.000,9, -999.000,   -999.0,9,   -999.0, -999.000,9, -999.000,9, -999.000,9
  49NZ20140717,   P01,    90,  1,     31, X12J31,2,20140802,0809, 47.0033, 172.7205, 5606,    250.0,2,   3.5040,2,   3.50395,2,  33.8849,2,  33.8814,2,-999.0000,9,    37.96,2,    38.92,2,   99.742,   0.0103,2,    0.015,2,  -999.00,9,    2.825,1,    0.000,2,    98.57,2,     0.14,    44.22,2,     0.06,     0.01,2,     0.01,     3.14,2,     0.01,  -999.00,9,  -999.00,    2.128,2,    1.077,2,    0.157,2, -999.000,9,   -999.0,9,   -999.0,9,   -999.0,9,-999.0000,     -999,9, -999.000,9,  -999.00,9, -999.000,9, -999.000,   -999.0,9,   -999.0, -999.000,9, -999.000, -999.000,9, -999.000,   -999.0,9,   -999.0, -999.000,9, -999.000,9, -999.000,9
  49NZ20140717,   P01,    90,  1,     30, X12J30,2,20140802,0809, 47.0033, 172.7205, 5606,    300.0,2,   3.6328,2,   3.63275,2,  33.9753,2,  33.9732,2,-999.0000,9,    21.21,2,    21.32,2,   99.751,   0.0100,2,    0.016,2,  -999.00,9,    2.895,1,    0.000,2,   104.62,2,     0.14,    45.17,2,     0.06,     0.01,2,     0.01,     3.19,2,     0.01,  -999.00,9,  -999.00,    1.667,2,    0.821,2,    0.111,2, -999.000,9,   -999.0,9,   -999.0,9,   -999.0,9,-999.0000,     -999,9, -999.000,9,  -999.00,9, -999.000,9, -999.000,   -999.0,9,   -999.0, -999.000,9, -999.000, -999.000,9, -999.000,   -999.0,9,   -999.0, -999.000,9, -999.000,9, -999.000,9
  49NZ20140717,   P01,    90,  1,     29, X12J29,2,20140802,0809, 47.0033, 172.7205, 5606,    400.4,2,   3.5482,2,   3.54793,2,  34.0937,2,  34.0919,2,-999.0000,9,    19.16,2,    18.79,2,   99.833,   0.0067,2,    0.016,2,  -999.00,9,    2.990,1,    0.000,2,   115.34,2,     0.15,    44.47,2,     0.06,     0.01,2,     0.01,     3.16,2,     0.01,  -999.00,9,  -999.00,    1.095,2,    0.534,2,    0.066,2, -999.000,9,   -999.0,9,   -999.0,9,   -999.0,9,-999.0000,     -999,9, -999.000,9,  -999.00,9, -999.000,9, -999.000,   -999.0,9,   -999.0, -999.000,9, -999.000, -999.000,9, -999.000,   -999.0,9,   -999.0, -999.000,9, -999.000,9, -999.000,9
  49NZ20140717,   P01,    90,  1,     28, X12J28,2,20140802,0809, 47.0033, 172.7205, 5606,    503.3,2,   3.4000,2,   3.39993,2,  34.1721,2,  34.1715,2,-999.0000,9,    21.23,2,    21.04,2,   99.924,   0.0030,2,    0.015,2,  -999.00,9,    3.006,1,    0.000,2,   123.46,2,     0.15,    43.97,2,     0.06,     0.01,2,     0.01,     3.12,2,     0.01,  -999.00,9,  -999.00,    0.805,2,    0.380,2,    0.045,2, -999.000,9,   -999.0,9,   -999.0,9,   -999.0,9,-999.0000,     -999,9, -999.000,9,  -999.00,9, -999.000,9, -999.000,   -999.0,9,   -999.0, -999.000,9, -999.000, -999.000,9, -999.000,   -999.0,9,   -999.0, -999.000,9, -999.000,9, -999.000,9
  49NZ20140717,   P01,    90,  1,     27, X12J27,2,20140802,0809, 47.0033, 172.7205, 5606,    597.9,2,   3.2601,2,   3.26046,2,  34.2332,2,  34.2316,2,-999.0000,9,    20.01,2,    19.72,2,   99.898,   0.0041,2,    0.014,2,  -999.00,9,    3.028,1,    0.000,2,   130.33,2,     0.16,    44.01,2,     0.06,     0.01,2,     0.01,     3.13,2,     0.01,  -999.00,9,  -999.00,    0.590,2,    0.268,2,    0.033,2, -999.000,9,   -999.0,9,   -999.0,9,   -999.0,9,-999.0000,     -999,9, -999.000,9,  -999.00,9, -999.000,9, -999.000,   -999.0,9,   -999.0, -999.000,9, -999.000, -999.000,9, -999.000,   -999.0,9,   -999.0, -999.000,9, -999.000,9, -999.000,9
  49NZ20140717,   P01,    90,  1,     26, X12J26,2,20140802,0809, 47.0033, 172.7205, 5606,    697.7,2,   3.1072,2,   3.10683,2,  34.2862,2,  34.2857,2,-999.0000,9,    20.28,2,    19.91,2,   99.859,   0.0056,2,    0.013,2,  -999.00,9,    3.084,1,    0.000,2,   136.87,2,     0.16,    43.92,2,     0.06,     0.01,2,     0.01,     3.14,2,     0.01,  -999.00,9,  -999.00,    0.422,2,    0.192,2,    0.019,2, -999.000,9,   -999.0,9,   -999.0,9,   -999.0,9,-999.0000,     -999,9, -999.000,9,  -999.00,9, -999.000,9, -999.000,   -999.0,9,   -999.0, -999.000,9, -999.000, -999.000,9, -999.000,   -999.0,9,   -999.0, -999.000,9, -999.000,9, -999.000,9
  49NZ20140717,   P01,    90,  1,     25, X12J25,2,20140802,0809, 47.0033, 172.7205, 5606,    799.5,2,   2.9353,2,   2.93510,2,  34.3370,2,  34.3367,2,-999.0000,9,    22.98,2,    22.95,2,   99.907,   0.0037,2,    0.012,2,  -999.00,9,    3.087,1,    0.000,2,   142.68,2,     0.16,    43.78,2,     0.06,     0.00,2,     0.01,     3.12,2,     0.01,  -999.00,9,  -999.00,    0.314,2,    0.138,2,    0.013,2, -999.000,9,   -999.0,9,   -999.0,9,   -999.0,9,-999.0000,     -999,9, -999.000,9,  -999.00,9, -999.000,9, -999.000,   -999.0,9,   -999.0, -999.000,9, -999.000, -999.000,9, -999.000,   -999.0,9,   -999.0, -999.000,9, -999.000,9, -999.000,9
  49NZ20140717,   P01,    90,  1,     24, X12J24,2,20140802,0809, 47.0033, 172.7205, 5606,    899.0,2,   2.7967,2,   2.79643,2,  34.3744,2,  34.3743,2,-999.0000,9,    25.34,2,    25.16,2,   99.907,   0.0037,2,    0.012,2,  -999.00,9,    3.118,1,    0.000,2,   147.04,2,     0.17,    43.59,2,     0.05,     0.00,2,     0.01,     3.11,2,     0.01,  -999.00,9,  -999.00,    0.242,2,    0.108,2,    0.008,2, -999.000,9,   -999.0,9,   -999.0,9,   -999.0,9,-999.0000,     -999,9, -999.000,9,  -999.00,9, -999.000,9, -999.000,   -999.0,9,   -999.0, -999.000,9, -999.000, -999.000,9, -999.000,   -999.0,9,   -999.0, -999.000,9, -999.000,9, -999.000,9
  49NZ20140717,   P01,    90,  1,     23, X12J23,2,20140802,0809, 47.0033, 172.7205, 5606,    999.0,2,   2.6687,2,   2.66842,2,  34.4056,2,  34.4053,2,-999.0000,9,    24.85,2,    24.62,2,   99.905,   0.0038,2,    0.011,2,  -999.00,9,    3.094,1,    0.000,2,   152.12,2,     0.17,    43.71,2,     0.06,     0.00,2,     0.01,     3.12,2,     0.01,  -999.00,9,  -999.00,    0.179,2,    0.075,2,    0.000,2, -999.000,9,   -999.0,9,   -999.0,9,   -999.0,9,-999.0000,     -999,9, -999.000,9,  -999.00,9, -999.000,9, -999.000,   -999.0,9,   -999.0, -999.000,9, -999.000, -999.000,9, -999.000,   -999.0,9,   -999.0, -999.000,9, -999.000,9, -999.000,9
  49NZ20140717,   P01,    90,  1,     22, X12J22,2,20140802,0809, 47.0033, 172.7205, 5606,   1198.3,2,   2.4399,2,   2.43975,2,  34.4641,2,  34.4643,2,-999.0000,9,    32.90,2,    33.09,2,   99.922,   0.0031,2,    0.010,2,  -999.00,9,    3.099,1,    0.000,2,   158.21,2,     0.17,    43.33,2,     0.05,     0.00,2,     0.01,     3.09,2,     0.01,  -999.00,9,  -999.00,    0.100,2,    0.047,2,    0.000,2, -999.000,9,   -999.0,9,   -999.0,9,   -999.0,9,-999.0000,     -999,9, -999.000,9,  -999.00,9, -999.000,9, -999.000,   -999.0,9,   -999.0, -999.000,9, -999.000, -999.000,9, -999.000,   -999.0,9,   -999.0, -999.000,9, -999.000,9, -999.000,9
  49NZ20140717,   P01,    90,  1,     21, X12J21,2,20140802,0809, 47.0033, 172.7205, 5606,   1400.3,2,   2.2336,2,   2.23350,2,  34.5128,2,  34.5123,2,-999.0000,9,    38.10,2,    38.19,2,   99.907,   0.0037,2,    0.009,2,  -999.00,9,    3.114,1,    0.000,2,   164.52,2,     0.18,    43.20,2,     0.05,     0.00,2,     0.01,     3.06,2,     0.01,  -999.00,9,  -999.00,    0.041,2,    0.021,2,    0.000,2, -999.000,9,   -999.0,9,   -999.0,9,   -999.0,9,-999.0000,     -999,9, -999.000,9,  -999.00,9, -999.000,9, -999.000,   -999.0,9,   -999.0, -999.000,9, -999.000, -999.000,9, -999.000,   -999.0,9,   -999.0, -999.000,9, -999.000,9, -999.000,9
  49NZ20140717,   P01,    90,  1,     20, X12J20,2,20140802,0809, 47.0033, 172.7205, 5606,   1597.7,2,   2.0919,2,   2.09173,2,  34.5465,2,  34.5463,2,-999.0000,9,    47.85,2,    47.86,2,   99.915,   0.0034,2,    0.008,2,  -999.00,9,    2.995,1,    0.000,2,   167.10,2,     0.18,    42.60,2,     0.05,     0.00,2,     0.01,     3.02,2,     0.01,  -999.00,9,  -999.00,    0.020,2,    0.010,2,    0.000,2, -999.000,9,   -999.0,9,   -999.0,9,   -999.0,9,-999.0000,     -999,9, -999.000,9,  -999.00,9, -999.000,9, -999.000,   -999.0,9,   -999.0, -999.000,9, -999.000, -999.000,9, -999.000,   -999.0,9,   -999.0, -999.000,9, -999.000,9, -999.000,9
  49NZ20140717,   P01,    90,  1,     19, X12J19,2,20140802,0809, 47.0033, 172.7205, 5606,   1799.8,2,   1.9736,2,   1.97381,2,  34.5737,2,  34.5734,2,-999.0000,9,    58.76,2,    59.07,2,   99.961,   0.0016,2,    0.007,2,  -999.00,9,    2.963,1,    0.000,2,   168.40,2,     0.18,    41.91,2,     0.05,     0.00,2,     0.01,     2.97,2,     0.01,  -999.00,9,  -999.00,    0.011,2,    0.005,2,    0.000,2, -999.000,9,   -999.0,9,   -999.0,9,   -999.0,9,-999.0000,     -999,9, -999.000,9,  -999.00,9, -999.000,9, -999.000,   -999.0,9,   -999.0, -999.000,9, -999.000, -999.000,9, -999.000,   -999.0,9,   -999.0, -999.000,9, -999.000,9, -999.000,9
  49NZ20140717,   P01,    90,  1,     18, X12J18,2,20140802,0809, 47.0033, 172.7205, 5606,   2001.8,2,   1.8700,2,   1.86987,2,  34.5969,2,  34.5967,2,-999.0000,9,    71.44,2,    71.63,2,   99.944,   0.0023,2,    0.006,2,  -999.00,9,    2.894,1,    0.000,2,   168.09,2,     0.18,    41.24,2,     0.05,     0.00,2,     0.01,     2.92,2,     0.01,  -999.00,9,  -999.00,    0.004,2,    0.002,2,    0.000,2, -999.000,9,   -999.0,9,   -999.0,9,   -999.0,9,-999.0000,     -999,9, -999.000,9,  -999.00,9, -999.000,9, -999.000,   -999.0,9,   -999.0, -999.000,9, -999.000, -999.000,9, -999.000,   -999.0,9,   -999.0, -999.000,9, -999.000,9, -999.000,9
  49NZ20140717,   P01,    90,  1,     17, X12J17,2,20140802,0809, 47.0033, 172.7205, 5606,   2198.9,2,   1.7890,2,   1.78903,2,  34.6136,2,  34.6137,2,-999.0000,9,    81.62,2,    82.12,2,   99.946,   0.0022,2,    0.005,2,  -999.00,9,    2.835,1,    0.000,2,   167.71,2,     0.18,    40.57,2,     0.05,     0.00,2,     0.01,     2.86,2,     0.01,  -999.00,9,  -999.00,    0.002,2,    0.001,2,    0.000,2, -999.000,9,   -999.0,9,   -999.0,9,   -999.0,9,-999.0000,     -999,9, -999.000,9,  -999.00,9, -999.000,9, -999.000,   -999.0,9,   -999.0, -999.000,9, -999.000, -999.000,9, -999.000,   -999.0,9,   -999.0, -999.000,9, -999.000,9, -999.000,9
  49NZ20140717,   P01,    90,  1,     16, X12J16,2,20140802,0809, 47.0033, 172.7205, 5606,   2400.1,2,   1.7024,2,   1.70247,2,  34.6301,2,  34.6300,2,-999.0000,9,    93.75,2,    94.41,2,   99.946,   0.0022,2,    0.005,2,  -999.00,9,    2.800,1,    0.000,2,   166.55,2,     0.18,    39.77,2,     0.05,     0.00,2,     0.01,     2.81,2,     0.01,  -999.00,9,  -999.00,    0.000,2,    0.000,2,    0.000,2, -999.000,9,   -999.0,9,   -999.0,9,   -999.0,9,-999.0000,     -999,9, -999.000,9,  -999.00,9, -999.000,9, -999.000,   -999.0,9,   -999.0, -999.000,9, -999.000, -999.000,9, -999.000,   -999.0,9,   -999.0, -999.000,9, -999.000,9, -999.000,9
  49NZ20140717,   P01,    90,  1,     15, X12J15,2,20140802,0809, 47.0033, 172.7205, 5606,   2600.4,2,   1.6479,2,   1.64795,2,  34.6407,2,  34.6403,2,-999.0000,9,   102.39,2,   102.71,2,   99.963,   0.0015,2,    0.004,2,  -999.00,9,    2.745,1,    0.000,2,   166.04,2,     0.18,    39.28,2,     0.05,     0.00,2,     0.01,     2.77,2,     0.01,  -999.00,9,  -999.00,    0.000,2,    0.000,2,    0.000,2, -999.000,9,   -999.0,9,   -999.0,9,   -999.0,9,-999.0000,     -999,9, -999.000,9,  -999.00,9, -999.000,9, -999.000,   -999.0,9,   -999.0, -999.000,9, -999.000, -999.000,9, -999.000,   -999.0,9,   -999.0, -999.000,9, -999.000,9, -999.000,9
  49NZ20140717,   P01,    90,  1,     14, X12J14,2,20140802,0809, 47.0033, 172.7205, 5606,   2799.6,2,   1.5975,2,   1.59758,2,  34.6508,2,  34.6502,2,-999.0000,9,   111.84,2,   112.16,2,   99.963,   0.0015,2,    0.003,2,  -999.00,9,    2.639,1,    0.000,2,   163.56,2,     0.18,    38.69,2,     0.05,     0.00,2,     0.01,     2.72,2,     0.01,  -999.00,9,  -999.00,    0.000,2,    0.000,2,    0.000,2, -999.000,9,   -999.0,9,   -999.0,9,   -999.0,9,-999.0000,     -999,9, -999.000,9,  -999.00,9, -999.000,9, -999.000,   -999.0,9,   -999.0, -999.000,9, -999.000, -999.000,9, -999.000,   -999.0,9,   -999.0, -999.000,9, -999.000,9, -999.000,9
  49NZ20140717,   P01,    90,  1,     13, X12113,2,20140802,0809, 47.0033, 172.7205, 5606,   3000.2,2,   1.5561,2,   1.55627,2,  34.6588,2,  34.6582,2,-999.0000,9,   119.90,2,   120.11,2,   99.972,   0.0011,2,    0.002,2,  -999.00,9,    2.675,1,    0.000,2,   161.64,2,     0.17,    38.07,2,     0.05,     0.00,2,     0.01,     2.68,2,     0.01,  -999.00,9,  -999.00,    0.001,2,    0.001,2,    0.000,2, -999.000,9,   -999.0,9,   -999.0,9,   -999.0,9,-999.0000,     -999,9, -999.000,9,  -999.00,9, -999.000,9, -999.000,   -999.0,9,   -999.0, -999.000,9, -999.000, -999.000,9, -999.000,   -999.0,9,   -999.0, -999.000,9, -999.000,9, -999.000,9
  49NZ20140717,   P01,    90,  1,     12, X12J12,2,20140802,0809, 47.0033, 172.7205, 5606,   3249.3,2,   1.5158,2,   1.51590,2,  34.6670,2,  34.6664,2,-999.0000,9,   128.85,2,   129.07,2,   99.978,   0.0009,2,    0.002,2,  -999.00,9,    2.566,1,    0.000,2,   159.64,2,     0.17,    37.51,2,     0.05,     0.00,2,     0.01,     2.63,2,     0.01,  -999.00,9,  -999.00,    0.000,2,    0.000,2,    0.000,2, -999.000,9,   -999.0,9,   -999.0,9,   -999.0,9,-999.0000,     -999,9, -999.000,9,  -999.00,9, -999.000,9, -999.000,   -999.0,9,   -999.0, -999.000,9, -999.000, -999.000,9, -999.000,   -999.0,9,   -999.0, -999.000,9, -999.000,9, -999.000,9
  49NZ20140717,   P01,    90,  1,     11, X12J11,2,20140802,0809, 47.0033, 172.7205, 5606,   3500.1,2,   1.4905,2,   1.49068,2,  34.6732,2,  34.6726,2,-999.0000,9,   136.11,2,   136.51,2,   99.989,   0.0004,2,    0.001,2,  -999.00,9,    2.447,1,    0.000,2,   157.47,2,     0.17,    37.10,2,     0.05,     0.01,2,     0.01,     2.60,2,     0.01,  -999.00,9,  -999.00,    0.000,2,    0.000,2,    0.000,2, -999.000,9,   -999.0,9,   -999.0,9,   -999.0,9,-999.0000,     -999,9, -999.000,9,  -999.00,9, -999.000,9, -999.000,   -999.0,9,   -999.0, -999.000,9, -999.000, -999.000,9, -999.000,   -999.0,9,   -999.0, -999.000,9, -999.000,9, -999.000,9
  49NZ20140717,   P01,    90,  1,     10, X12J10,2,20140802,0809, 47.0033, 172.7205, 5606,   3749.6,2,   1.4744,2,   1.47453,2,  34.6781,2,  34.6776,2,-999.0000,9,   142.06,2,   142.44,2,   99.998,   0.0001,2,    0.001,2,  -999.00,9,    2.426,1,    0.000,2,   155.84,2,     0.17,    36.71,2,     0.05,     0.00,2,     0.01,     2.56,2,     0.01,  -999.00,9,  -999.00,    0.000,2,    0.000,2,    0.000,2, -999.000,9,   -999.0,9,   -999.0,9,   -999.0,9,-999.0000,     -999,9, -999.000,9,  -999.00,9, -999.000,9, -999.000,   -999.0,9,   -999.0, -999.000,9, -999.000, -999.000,9, -999.000,   -999.0,9,   -999.0, -999.000,9, -999.000,9, -999.000,9