BOTTLE,20230904JAMSTECRIGC
EXPOCODE,SECT,STNNBR,CASTNO,SAMPNO,BTLNBR,BTLNBR_FLAG_W,DATE,TIME,LATITUDE,LONGITUDE,DEPTH,CTDPRS,CTDPRS_FLAG_W,CTDTMP,CTDTMP_FLAG_W,SBE35,SBE35_FLAG_W,CTDSAL,CTDSAL_FLAG_W,SALNTY,SALNTY_FLAG_W,DNSSAL,DNSSAL_FLAG_W,CTDOXY,CTDOXY_FLAG_W,OXYGEN,OXYGEN_FLAG_W,XMISS,XMISSCP,XMISS_FLAG_W,FLUOR,FLUOR_FLAG_W,CHLORA,CHLORA_FLAG_W,CDOM,CDOM_FLAG_W,PAR,PAR_FLAG_W,SILCAT,SILCAT_FLAG_W,SILUNC,NITRAT,NITRAT_FLAG_W,NRAUNC,NITRIT,NITRIT_FLAG_W,NRIUNC,PHSPHT,PHSPHT_FLAG_W,PHPUNC,AMMONIA,AMMONIA_FLAG_W,NH4UNC,CFC-11,CFC-11_FLAG_W,CFC-12,CFC-12_FLAG_W,CFC113,CFC113_FLAG_W,SF6,SF6_FLAG_W,TCARBN,TCARBN_FLAG_W,ALKALI,ALKALI_FLAG_W,ALKALI_POT,ALKALI_POT_FLAG_W,PH_TOT,PH_TMP,PH_TOT_FLAG_W,CALCIUM,CALCIUM_FLAG_W,DOC,DOC_FLAG_W,DELC13,DELC13_FLAG_W,C13ERR,DELC14,DELC14_FLAG_W,C14ERR,CS-134,CS-134_FLAG_W,CS134ER,CS-137,CS-137_FLAG_W,CS137ER,I-129,I-129_FLAG_W,I-129ER,CDOM-325,CDOM-325_FLAG_W,CDOM-370,CDOM-370_FLAG_W,CDOM-443,CDOM-443_FLAG_W
,,,,,,,,UTC,DEG,DEG,METERS,DBAR,,ITS-90,,ITS-90,,PSS-78,,PSS-78,,G/KG,,UMOL/KG,,UMOL/KG,,%TRANS,/METER,,MG/CUM,,MG/CUM,,MG/CUM,,UE/SQM/S,,UMOL/KG,,UMOL/KG,UMOL/KG,,UMOL/KG,UMOL/KG,,UMOL/KG,UMOL/KG,,UMOL/KG,UMOL/KG,,UMOL/KG,PMOL/KG,,PMOL/KG,,PMOL/KG,,FMOL/KG,,UMOL/KG,,UMOL/KG,,UMOL/KG,,,DEG C,,MMOL/KG,,UMOL/KG,,/MILLE,,/MILLE,/MILLE,,/MILLE,MBQ/KG,,MBQ/KG,MBQ/KG,,MBQ/KG,,,,/METER,,/METER,,/METER,
  49NZ20140717,   P01,   117,  1,      0,   -999,9,20140812,0911, 47.0063,-157.0210, 5225,   -999.0,9,-999.0000,9,-999.00000,9,-999.0000,9,  32.6522,2,-999.0000,9,  -999.00,9,  -999.00,9, -999.000,-999.0000,9, -999.000,9,  -999.00,9, -999.000,9, -999.000,9,     1.73,2,     0.11,     6.00,2,     0.02,     0.09,2,     0.01,     0.74,2,     0.01,  -999.00,9,  -999.00, -999.000,9, -999.000,9, -999.000,9, -999.000,9,   -999.0,9,   -999.0,9,   -999.0,9,-999.0000,     -999,9, -999.000,9,  -999.00,9, -999.000,9, -999.000,   -999.0,9,   -999.0, -999.000,9, -999.000, -999.000,9, -999.000,   -999.0,9,   -999.0, -999.000,9, -999.000,9, -999.000,9
  49NZ20140717,   P01,   117,  1,     36, X12J36,2,20140812,0911, 47.0063,-157.0210, 5225,     10.2,2,  13.5996,2,  13.59833,2,  32.6380,2,  32.6385,2,-999.0000,9,   268.64,2,   268.62,2,   91.854,   0.3399,2,    0.701,2,  -999.00,9,    0.160,1,    0.280,2,     1.71,2,     0.11,     6.11,2,     0.02,     0.09,2,     0.01,     0.75,2,     0.01,  -999.00,9,  -999.00, -999.000,9, -999.000,9, -999.000,9, -999.000,9,   -999.0,9,   -999.0,9,   -999.0,9,-999.0000,     -999,9, -999.000,9,  -999.00,9, -999.000,9, -999.000,   -999.0,9,   -999.0, -999.000,9, -999.000, -999.000,9, -999.000,   -999.0,9,   -999.0, -999.000,9, -999.000,9, -999.000,9
  49NZ20140717,   P01,   117,  1,     35, X12J35,2,20140812,0911, 47.0063,-157.0210, 5225,     50.0,2,   7.4917,2,   7.48769,2,  33.0255,2,  33.0278,2,-999.0000,9,   299.89,2,   299.87,2,   98.976,   0.0412,2,    0.254,2,  -999.00,9,    0.604,1,    0.000,2,    17.85,2,     0.09,    10.99,2,     0.02,     0.10,2,     0.01,     1.11,2,     0.01,  -999.00,9,  -999.00, -999.000,9, -999.000,9, -999.000,9, -999.000,9,   -999.0,9,   -999.0,9,   -999.0,9,-999.0000,     -999,9, -999.000,9,  -999.00,9, -999.000,9, -999.000,   -999.0,9,   -999.0, -999.000,9, -999.000, -999.000,9, -999.000,   -999.0,9,   -999.0, -999.000,9, -999.000,9, -999.000,9
  49NZ20140717,   P01,   117,  1,     34, X12J34,2,20140812,0911, 47.0063,-157.0210, 5225,    101.3,2,   6.5974,2,   6.59614,2,  33.2070,2,  33.2079,2,-999.0000,9,   286.30,2,   286.02,2,   99.598,   0.0161,2,    0.067,2,  -999.00,9,    0.569,1,    0.000,2,    18.79,2,     0.09,    13.67,2,     0.02,     0.02,2,     0.01,     1.16,2,     0.01,  -999.00,9,  -999.00, -999.000,9, -999.000,9, -999.000,9, -999.000,9,   -999.0,9,   -999.0,9,   -999.0,9,-999.0000,     -999,9, -999.000,9,  -999.00,9, -999.000,9, -999.000,   -999.0,9,   -999.0, -999.000,9, -999.000, -999.000,9, -999.000,   -999.0,9,   -999.0, -999.000,9, -999.000,9, -999.000,9
  49NZ20140717,   P01,   117,  1,     33, X12J33,2,20140812,0911, 47.0063,-157.0210, 5225,    150.6,2,   6.6456,2,   6.64481,2,  33.7528,2,  33.7531,2,-999.0000,9,   227.56,2,   227.17,2,   99.596,   0.0162,2,    0.024,2,  -999.00,9,    1.308,1,    0.000,2,    31.69,2,     0.10,    20.81,2,     0.03,     0.01,2,     0.01,     1.54,2,     0.01,  -999.00,9,  -999.00, -999.000,9, -999.000,9, -999.000,9, -999.000,9,   -999.0,9,   -999.0,9,   -999.0,9,-999.0000,     -999,9, -999.000,9,  -999.00,9, -999.000,9, -999.000,   -999.0,9,   -999.0, -999.000,9, -999.000, -999.000,9, -999.000,   -999.0,9,   -999.0, -999.000,9, -999.000,9, -999.000,9
  49NZ20140717,   P01,   117,  1,     32, X12J32,2,20140812,0911, 47.0063,-157.0210, 5225,    200.5,2,   5.9140,2,   5.91449,2,  33.8226,2,  33.8229,2,-999.0000,9,   176.42,2,   176.06,2,   99.609,   0.0157,2,    0.021,2,  -999.00,9,    1.974,1,    0.000,2,    47.56,2,     0.10,    27.12,2,     0.04,     0.01,2,     0.01,     1.97,2,     0.01,  -999.00,9,  -999.00, -999.000,9, -999.000,9, -999.000,9, -999.000,9,   -999.0,9,   -999.0,9,   -999.0,9,-999.0000,     -999,9, -999.000,9,  -999.00,9, -999.000,9, -999.000,   -999.0,9,   -999.0, -999.000,9, -999.000, -999.000,9, -999.000,   -999.0,9,   -999.0, -999.000,9, -999.000,9, -999.000,9
  49NZ20140717,   P01,   117,  1,     31, X12J31,2,20140812,0911, 47.0063,-157.0210, 5225,    249.9,2,   5.2715,2,   5.27372,2,  33.8342,2,  33.8339,2,-999.0000,9,   148.43,2,   148.26,2,   99.732,   0.0107,2,    0.022,2,  -999.00,9,    2.316,1,    0.000,2,    58.27,2,     0.11,    30.93,2,     0.04,     0.01,2,     0.01,     2.24,2,     0.01,  -999.00,9,  -999.00, -999.000,9, -999.000,9, -999.000,9, -999.000,9,   -999.0,9,   -999.0,9,   -999.0,9,-999.0000,     -999,9, -999.000,9,  -999.00,9, -999.000,9, -999.000,   -999.0,9,   -999.0, -999.000,9, -999.000, -999.000,9, -999.000,   -999.0,9,   -999.0, -999.000,9, -999.000,9, -999.000,9
  49NZ20140717,   P01,   117,  1,     30, X12J30,2,20140812,0911, 47.0063,-157.0210, 5225,    299.9,2,   4.7367,2,   4.73631,2,  33.8586,2,  33.8586,2,-999.0000,9,   122.94,2,   122.91,2,   99.674,   0.0131,2,    0.022,2,  -999.00,9,    2.514,1,    0.000,2,    68.44,2,     0.12,    34.23,2,     0.05,     0.01,2,     0.01,     2.47,2,     0.01,  -999.00,9,  -999.00, -999.000,9, -999.000,9, -999.000,9, -999.000,9,   -999.0,9,   -999.0,9,   -999.0,9,-999.0000,     -999,9, -999.000,9,  -999.00,9, -999.000,9, -999.000,   -999.0,9,   -999.0, -999.000,9, -999.000, -999.000,9, -999.000,   -999.0,9,   -999.0, -999.000,9, -999.000,9, -999.000,9
  49NZ20140717,   P01,   117,  1,     29, X12J29,2,20140812,0911, 47.0063,-157.0210, 5225,    401.1,2,   4.2680,2,   4.26802,2,  33.9695,2,  33.9676,2,-999.0000,9,    79.50,2,    79.79,2,   99.799,   0.0080,2,    0.021,2,  -999.00,9,    2.769,1,    0.000,2,    86.47,2,     0.13,    38.72,2,     0.05,     0.01,2,     0.01,     2.77,2,     0.01,  -999.00,9,  -999.00, -999.000,9, -999.000,9, -999.000,9, -999.000,9,   -999.0,9,   -999.0,9,   -999.0,9,-999.0000,     -999,9, -999.000,9,  -999.00,9, -999.000,9, -999.000,   -999.0,9,   -999.0, -999.000,9, -999.000, -999.000,9, -999.000,   -999.0,9,   -999.0, -999.000,9, -999.000,9, -999.000,9
  49NZ20140717,   P01,   117,  1,     28, X12J28,2,20140812,0911, 47.0063,-157.0210, 5225,    500.3,2,   3.9763,2,   3.97609,2,  34.0579,2,  34.0565,2,-999.0000,9,    54.53,2,    54.98,2,   99.869,   0.0053,2,    0.022,2,  -999.00,9,    2.856,1,    0.000,2,    99.61,2,     0.14,    40.85,2,     0.05,     0.01,2,     0.01,     2.92,2,     0.01,  -999.00,9,  -999.00, -999.000,9, -999.000,9, -999.000,9, -999.000,9,   -999.0,9,   -999.0,9,   -999.0,9,-999.0000,     -999,9, -999.000,9,  -999.00,9, -999.000,9, -999.000,   -999.0,9,   -999.0, -999.000,9, -999.000, -999.000,9, -999.000,   -999.0,9,   -999.0, -999.000,9, -999.000,9, -999.000,9
  49NZ20140717,   P01,   117,  1,     27, X12J27,2,20140812,0911, 47.0063,-157.0210, 5225,    599.8,2,   3.8063,2,   3.80601,2,  34.1514,2,  34.1509,2,-999.0000,9,    37.87,2,    38.41,2,   99.951,   0.0020,2,    0.021,2,  -999.00,9,    2.969,1,    0.000,2,   110.68,2,     0.14,    42.13,2,     0.05,     0.01,2,     0.01,     3.01,2,     0.01,  -999.00,9,  -999.00, -999.000,9, -999.000,9, -999.000,9, -999.000,9,   -999.0,9,   -999.0,9,   -999.0,9,-999.0000,     -999,9, -999.000,9,  -999.00,9, -999.000,9, -999.000,   -999.0,9,   -999.0, -999.000,9, -999.000, -999.000,9, -999.000,   -999.0,9,   -999.0, -999.000,9, -999.000,9, -999.000,9
  49NZ20140717,   P01,   117,  1,     26, X12J26,2,20140812,0911, 47.0063,-157.0210, 5225,    698.3,2,   3.6137,2,   3.61308,2,  34.2264,2,  34.2262,2,-999.0000,9,    30.75,2,    30.96,2,   99.893,   0.0043,2,    0.021,2,  -999.00,9,    2.971,1,    0.000,2,   120.05,2,     0.15,    42.84,2,     0.05,     0.01,2,     0.01,     3.06,2,     0.01,  -999.00,9,  -999.00, -999.000,9, -999.000,9, -999.000,9, -999.000,9,   -999.0,9,   -999.0,9,   -999.0,9,-999.0000,     -999,9, -999.000,9,  -999.00,9, -999.000,9, -999.000,   -999.0,9,   -999.0, -999.000,9, -999.000, -999.000,9, -999.000,   -999.0,9,   -999.0, -999.000,9, -999.000,9, -999.000,9
  49NZ20140717,   P01,   117,  1,     25, X12J25,2,20140812,0911, 47.0063,-157.0210, 5225,    801.2,2,   3.3583,2,   3.35807,2,  34.2886,2,  34.2881,2,-999.0000,9,    25.60,2,    25.56,2,   99.888,   0.0045,2,    0.021,2,  -999.00,9,    3.056,1,    0.000,2,   129.01,2,     0.15,    43.23,2,     0.05,     0.00,2,     0.01,     3.09,2,     0.01,  -999.00,9,  -999.00, -999.000,9, -999.000,9, -999.000,9, -999.000,9,   -999.0,9,   -999.0,9,   -999.0,9,-999.0000,     -999,9, -999.000,9,  -999.00,9, -999.000,9, -999.000,   -999.0,9,   -999.0, -999.000,9, -999.000, -999.000,9, -999.000,   -999.0,9,   -999.0, -999.000,9, -999.000,9, -999.000,9
  49NZ20140717,   P01,   117,  1,     24, X12J24,2,20140812,0911, 47.0063,-157.0210, 5225,    899.2,2,   3.1482,2,   3.14802,2,  34.3300,2,  34.3293,2,-999.0000,9,    24.31,2,    24.29,2,   99.932,   0.0027,2,    0.021,2,  -999.00,9,    3.143,1,    0.000,2,   136.12,2,     0.16,    43.49,2,     0.05,     0.00,2,     0.01,     3.11,2,     0.01,  -999.00,9,  -999.00, -999.000,9, -999.000,9, -999.000,9, -999.000,9,   -999.0,9,   -999.0,9,   -999.0,9,-999.0000,     -999,9, -999.000,9,  -999.00,9, -999.000,9, -999.000,   -999.0,9,   -999.0, -999.000,9, -999.000, -999.000,9, -999.000,   -999.0,9,   -999.0, -999.000,9, -999.000,9, -999.000,9
  49NZ20140717,   P01,   117,  1,     23, X12J23,2,20140812,0911, 47.0063,-157.0210, 5225,   1002.1,2,   2.9656,2,   2.96539,2,  34.3720,2,  34.3717,2,-999.0000,9,    23.00,2,    22.70,2,   99.888,   0.0045,2,    0.020,2,  -999.00,9,    3.162,1,    0.000,2,   142.33,2,     0.16,    43.80,2,     0.06,     0.00,2,     0.01,     3.13,2,     0.01,  -999.00,9,  -999.00, -999.000,9, -999.000,9, -999.000,9, -999.000,9,   -999.0,9,   -999.0,9,   -999.0,9,-999.0000,     -999,9, -999.000,9,  -999.00,9, -999.000,9, -999.000,   -999.0,9,   -999.0, -999.000,9, -999.000, -999.000,9, -999.000,   -999.0,9,   -999.0, -999.000,9, -999.000,9, -999.000,9
  49NZ20140717,   P01,   117,  1,     22, X12J22,2,20140812,0911, 47.0063,-157.0210, 5225,   1200.3,2,   2.6647,2,   2.66440,2,  34.4327,2,  34.4329,2,-999.0000,9,    20.13,2,    19.60,2,   99.912,   0.0035,2,    0.020,2,  -999.00,9,    3.196,1,    0.000,2,   152.91,2,     0.17,    44.40,2,     0.06,     0.00,2,     0.01,     3.16,2,     0.01,  -999.00,9,  -999.00, -999.000,9, -999.000,9, -999.000,9, -999.000,9,   -999.0,9,   -999.0,9,   -999.0,9,-999.0000,     -999,9, -999.000,9,  -999.00,9, -999.000,9, -999.000,   -999.0,9,   -999.0, -999.000,9, -999.000, -999.000,9, -999.000,   -999.0,9,   -999.0, -999.000,9, -999.000,9, -999.000,9
  49NZ20140717,   P01,   117,  1,     21, X12J21,2,20140812,0911, 47.0063,-157.0210, 5225,   1400.0,2,   2.4171,2,   2.41710,2,  34.4808,2,  34.4808,2,-999.0000,9,    27.01,2,    26.53,2,   99.886,   0.0046,2,    0.019,2,  -999.00,9,    3.235,1,    0.000,2,   160.33,2,     0.17,    44.03,2,     0.06,     0.00,2,     0.01,     3.12,2,     0.01,  -999.00,9,  -999.00, -999.000,9, -999.000,9, -999.000,9, -999.000,9,   -999.0,9,   -999.0,9,   -999.0,9,-999.0000,     -999,9, -999.000,9,  -999.00,9, -999.000,9, -999.000,   -999.0,9,   -999.0, -999.000,9, -999.000, -999.000,9, -999.000,   -999.0,9,   -999.0, -999.000,9, -999.000,9, -999.000,9
  49NZ20140717,   P01,   117,  1,     20, X12J20,2,20140812,0911, 47.0063,-157.0210, 5225,   1600.9,2,   2.2323,2,   2.23199,2,  34.5234,2,  34.5234,2,-999.0000,9,    29.74,2,    30.01,2,   99.951,   0.0020,2,    0.018,2,  -999.00,9,    3.251,1,    0.000,2,   166.45,2,     0.18,    44.05,2,     0.06,     0.00,2,     0.01,     3.11,2,     0.01,  -999.00,9,  -999.00, -999.000,9, -999.000,9, -999.000,9, -999.000,9,   -999.0,9,   -999.0,9,   -999.0,9,-999.0000,     -999,9, -999.000,9,  -999.00,9, -999.000,9, -999.000,   -999.0,9,   -999.0, -999.000,9, -999.000, -999.000,9, -999.000,   -999.0,9,   -999.0, -999.000,9, -999.000,9, -999.000,9
  49NZ20140717,   P01,   117,  1,     19, X12J19,2,20140812,0911, 47.0063,-157.0210, 5225,   1800.3,2,   2.0652,2,   2.06517,2,  34.5601,2,  34.5598,2,-999.0000,9,    39.82,2,    39.60,2,   99.932,   0.0027,2,    0.017,2,  -999.00,9,    3.192,1,    0.000,2,   170.40,2,     0.18,    43.53,2,     0.05,     0.00,2,     0.01,     3.06,2,     0.01,  -999.00,9,  -999.00, -999.000,9, -999.000,9, -999.000,9, -999.000,9,   -999.0,9,   -999.0,9,   -999.0,9,-999.0000,     -999,9, -999.000,9,  -999.00,9, -999.000,9, -999.000,   -999.0,9,   -999.0, -999.000,9, -999.000, -999.000,9, -999.000,   -999.0,9,   -999.0, -999.000,9, -999.000,9, -999.000,9
  49NZ20140717,   P01,   117,  1,     18, X12J18,2,20140812,0911, 47.0063,-157.0210, 5225,   2001.0,2,   1.9640,2,   1.96412,2,  34.5827,2,  34.5827,2,-999.0000,9,    48.94,2,    48.80,2,   99.932,   0.0027,2,    0.016,2,  -999.00,9,    3.111,1,    0.000,2,   172.75,2,     0.18,    43.04,2,     0.05,     0.00,2,     0.01,     3.02,2,     0.01,  -999.00,9,  -999.00, -999.000,9, -999.000,9, -999.000,9, -999.000,9,   -999.0,9,   -999.0,9,   -999.0,9,-999.0000,     -999,9, -999.000,9,  -999.00,9, -999.000,9, -999.000,   -999.0,9,   -999.0, -999.000,9, -999.000, -999.000,9, -999.000,   -999.0,9,   -999.0, -999.000,9, -999.000,9, -999.000,9
  49NZ20140717,   P01,   117,  1,     17, X12J17,2,20140812,0911, 47.0063,-157.0210, 5225,   2200.0,2,   1.8579,2,   1.85780,2,  34.6039,2,  34.6039,2,-999.0000,9,    62.22,2,    61.76,2,   99.938,   0.0025,2,    0.014,2,  -999.00,9,    3.032,1,    0.000,2,   173.62,2,     0.18,    42.18,2,     0.05,     0.00,2,     0.01,     2.97,2,     0.01,  -999.00,9,  -999.00, -999.000,9, -999.000,9, -999.000,9, -999.000,9,   -999.0,9,   -999.0,9,   -999.0,9,-999.0000,     -999,9, -999.000,9,  -999.00,9, -999.000,9, -999.000,   -999.0,9,   -999.0, -999.000,9, -999.000, -999.000,9, -999.000,   -999.0,9,   -999.0, -999.000,9, -999.000,9, -999.000,9
  49NZ20140717,   P01,   117,  1,     16, X12J16,2,20140812,0911, 47.0063,-157.0210, 5225,   2401.2,2,   1.7655,2,   1.76521,2,  34.6213,2,  34.6213,2,-999.0000,9,    75.11,2,    74.98,2,   99.962,   0.0015,2,    0.013,2,  -999.00,9,    2.978,1,    0.000,2,   173.31,2,     0.18,    41.30,2,     0.05,     0.00,2,     0.01,     2.91,2,     0.01,  -999.00,9,  -999.00, -999.000,9, -999.000,9, -999.000,9, -999.000,9,   -999.0,9,   -999.0,9,   -999.0,9,-999.0000,     -999,9, -999.000,9,  -999.00,9, -999.000,9, -999.000,   -999.0,9,   -999.0, -999.000,9, -999.000, -999.000,9, -999.000,   -999.0,9,   -999.0, -999.000,9, -999.000,9, -999.000,9
  49NZ20140717,   P01,   117,  1,     15, X12J15,2,20140812,0911, 47.0063,-157.0210, 5225,   2600.8,2,   1.6905,2,   1.69033,2,  34.6346,2,  34.6348,2,-999.0000,9,    87.51,2,    87.62,2,   99.999,   0.0001,2,    0.012,2,  -999.00,9,    2.867,1,    0.000,2,   171.82,2,     0.18,    40.52,2,     0.05,     0.00,2,     0.01,     2.85,2,     0.01,  -999.00,9,  -999.00, -999.000,9, -999.000,9, -999.000,9, -999.000,9,   -999.0,9,   -999.0,9,   -999.0,9,-999.0000,     -999,9, -999.000,9,  -999.00,9, -999.000,9, -999.000,   -999.0,9,   -999.0, -999.000,9, -999.000, -999.000,9, -999.000,   -999.0,9,   -999.0, -999.000,9, -999.000,9, -999.000,9
  49NZ20140717,   P01,   117,  1,     14, X12J14,2,20140812,0911, 47.0063,-157.0210, 5225,   2800.7,2,   1.6340,2,   1.63407,2,  34.6452,2,  34.6452,2,-999.0000,9,    98.65,2,    98.63,2,   99.981,   0.0007,2,    0.012,2,  -999.00,9,    2.898,1,    0.000,2,   170.01,2,     0.18,    39.83,2,     0.05,     0.00,2,     0.01,     2.79,2,     0.01,  -999.00,9,  -999.00, -999.000,9, -999.000,9, -999.000,9, -999.000,9,   -999.0,9,   -999.0,9,   -999.0,9,-999.0000,     -999,9, -999.000,9,  -999.00,9, -999.000,9, -999.000,   -999.0,9,   -999.0, -999.000,9, -999.000, -999.000,9, -999.000,   -999.0,9,   -999.0, -999.000,9, -999.000,9, -999.000,9
  49NZ20140717,   P01,   117,  1,     13, X12113,2,20140812,0911, 47.0063,-157.0210, 5225,   3000.1,2,   1.5907,2,   1.59042,2,  34.6534,2,  34.6536,2,-999.0000,9,   107.81,2,   107.95,2,   99.747,   0.0101,4,    0.011,2,  -999.00,9,    2.752,1,    0.000,2,   168.10,2,     0.18,    39.07,2,     0.05,     0.00,2,     0.01,     2.74,2,     0.01,  -999.00,9,  -999.00, -999.000,9, -999.000,9, -999.000,9, -999.000,9,   -999.0,9,   -999.0,9,   -999.0,9,-999.0000,     -999,9, -999.000,9,  -999.00,9, -999.000,9, -999.000,   -999.0,9,   -999.0, -999.000,9, -999.000, -999.000,9, -999.000,   -999.0,9,   -999.0, -999.000,9, -999.000,9, -999.000,9
  49NZ20140717,   P01,   117,  1,     12, X12J12,2,20140812,0911, 47.0063,-157.0210, 5225,   3250.4,2,   1.5457,2,   1.54574,2,  34.6625,2,  34.6626,2,-999.0000,9,   118.76,2,   118.77,2,   99.830,   0.0068,4,    0.010,2,  -999.00,9,    2.747,1,    0.000,2,   165.46,2,     0.18,    38.40,2,     0.05,     0.00,2,     0.01,     2.69,2,     0.01,  -999.00,9,  -999.00, -999.000,9, -999.000,9, -999.000,9, -999.000,9,   -999.0,9,   -999.0,9,   -999.0,9,-999.0000,     -999,9, -999.000,9,  -999.00,9, -999.000,9, -999.000,   -999.0,9,   -999.0, -999.000,9, -999.000, -999.000,9, -999.000,   -999.0,9,   -999.0, -999.000,9, -999.000,9, -999.000,9
  49NZ20140717,   P01,   117,  1,     11, X12J11,2,20140812,0911, 47.0063,-157.0210, 5225,   3499.7,2,   1.5093,2,   1.50949,2,  34.6703,2,  34.6703,2,-999.0000,9,   128.52,2,   128.63,2,   99.858,   0.0057,4,    0.009,2,  -999.00,9,    2.644,1,    0.000,2,   163.21,2,     0.18,    37.69,2,     0.05,     0.00,2,     0.01,     2.64,2,     0.01,  -999.00,9,  -999.00, -999.000,9, -999.000,9, -999.000,9, -999.000,9,   -999.0,9,   -999.0,9,   -999.0,9,-999.0000,     -999,9, -999.000,9,  -999.00,9, -999.000,9, -999.000,   -999.0,9,   -999.0, -999.000,9, -999.000, -999.000,9, -999.000,   -999.0,9,   -999.0, -999.000,9, -999.000,9, -999.000,9
  49NZ20140717,   P01,   117,  1,     10, X12J10,2,20140812,0911, 47.0063,-157.0210, 5225,   3749.1,2,   1.4867,2,   1.48661,2,  34.6762,2,  34.6761,2,-999.0000,9,   136.13,2,   136.10,2,   99.871,   0.0052,4,    0.009,2,  -999.00,9,    2.590,1,    0.000,2,   162.17,2,     0.18,    37.27,2,     0.05,     0.00,2,     0.01,     2.60,2,     0.01,  -999.00,9,  -999.00, -999.000,9, -999.000,9, -999.000,9, -999.000,9,   -999.0,9,   -999.0,9,   -999.0,9,-999.0000,     -999,9, -999.000,9,  -999.00,9, -999.000,9, -999.000,   -999.0,9,   -999.0, -999.000,9, -999.000, -999.000,9, -999.000,   -999.0,9,   -999.0, -999.000,9, -999.000,9, -999.000,9