BOTTLE,20230904JAMSTECRIGC
EXPOCODE,SECT,STNNBR,CASTNO,SAMPNO,BTLNBR,BTLNBR_FLAG_W,DATE,TIME,LATITUDE,LONGITUDE,DEPTH,CTDPRS,CTDPRS_FLAG_W,CTDTMP,CTDTMP_FLAG_W,SBE35,SBE35_FLAG_W,CTDSAL,CTDSAL_FLAG_W,SALNTY,SALNTY_FLAG_W,DNSSAL,DNSSAL_FLAG_W,CTDOXY,CTDOXY_FLAG_W,OXYGEN,OXYGEN_FLAG_W,XMISS,XMISSCP,XMISS_FLAG_W,FLUOR,FLUOR_FLAG_W,CHLORA,CHLORA_FLAG_W,CDOM,CDOM_FLAG_W,PAR,PAR_FLAG_W,SILCAT,SILCAT_FLAG_W,SILUNC,NITRAT,NITRAT_FLAG_W,NRAUNC,NITRIT,NITRIT_FLAG_W,NRIUNC,PHSPHT,PHSPHT_FLAG_W,PHPUNC,AMMONIA,AMMONIA_FLAG_W,NH4UNC,CFC-11,CFC-11_FLAG_W,CFC-12,CFC-12_FLAG_W,CFC113,CFC113_FLAG_W,SF6,SF6_FLAG_W,TCARBN,TCARBN_FLAG_W,ALKALI,ALKALI_FLAG_W,ALKALI_POT,ALKALI_POT_FLAG_W,PH_TOT,PH_TMP,PH_TOT_FLAG_W,CALCIUM,CALCIUM_FLAG_W,DOC,DOC_FLAG_W,DELC13,DELC13_FLAG_W,C13ERR,DELC14,DELC14_FLAG_W,C14ERR,CS-134,CS-134_FLAG_W,CS134ER,CS-137,CS-137_FLAG_W,CS137ER,I-129,I-129_FLAG_W,I-129ER,CDOM-325,CDOM-325_FLAG_W,CDOM-370,CDOM-370_FLAG_W,CDOM-443,CDOM-443_FLAG_W
,,,,,,,,UTC,DEG,DEG,METERS,DBAR,,ITS-90,,ITS-90,,PSS-78,,PSS-78,,G/KG,,UMOL/KG,,UMOL/KG,,%TRANS,/METER,,MG/CUM,,MG/CUM,,MG/CUM,,UE/SQM/S,,UMOL/KG,,UMOL/KG,UMOL/KG,,UMOL/KG,UMOL/KG,,UMOL/KG,UMOL/KG,,UMOL/KG,UMOL/KG,,UMOL/KG,PMOL/KG,,PMOL/KG,,PMOL/KG,,FMOL/KG,,UMOL/KG,,UMOL/KG,,UMOL/KG,,,DEG C,,MMOL/KG,,UMOL/KG,,/MILLE,,/MILLE,/MILLE,,/MILLE,MBQ/KG,,MBQ/KG,MBQ/KG,,MBQ/KG,,,,/METER,,/METER,,/METER,
  49NZ20140717,   P01,    70,  1,      0,   -999,9,20140726,1409, 45.5608, 157.4678, 5038,   -999.0,9,-999.0000,9,-999.00000,9,-999.0000,9,  32.6265,2,-999.0000,9,  -999.00,9,  -999.00,9, -999.000,-999.0000,9, -999.000,9,  -999.00,9, -999.000,9, -999.000,9,    14.59,2,     0.09,    11.43,2,     0.02,     0.14,2,     0.01,     1.20,2,     0.01,  -999.00,9,  -999.00, -999.000,9, -999.000,9, -999.000,9, -999.000,9,   -999.0,9,   -999.0,9,   -999.0,9,-999.0000,     -999,9, -999.000,9,  -999.00,9, -999.000,9, -999.000,   -999.0,9,   -999.0, -999.000,9, -999.000, -999.000,9, -999.000,   -999.0,9,   -999.0, -999.000,9, -999.000,9, -999.000,9
  49NZ20140717,   P01,    70,  1,     36, X12J36,2,20140726,1409, 45.5608, 157.4678, 5038,     10.2,2,  11.6513,2,  11.65266,2,  32.6806,2,  32.6812,2,-999.0000,9,   289.56,2,   291.62,2,   95.191,   0.1971,2,    0.503,2,  -999.00,9,    0.273,1,    0.205,2,    13.74,2,     0.09,    11.67,2,     0.02,     0.15,2,     0.01,     1.20,2,     0.01,  -999.00,9,  -999.00,    3.644,2,    2.070,2,    0.355,2, -999.000,9,   -999.0,9,   -999.0,9,   -999.0,9,-999.0000,     -999,9, -999.000,9,  -999.00,9, -999.000,9, -999.000,   -999.0,9,   -999.0, -999.000,9, -999.000, -999.000,9, -999.000,   -999.0,9,   -999.0, -999.000,9, -999.000,9, -999.000,9
  49NZ20140717,   P01,    70,  1,     35, X12J35,2,20140726,1409, 45.5608, 157.4678, 5038,     49.8,2,   3.5510,2,   3.55003,2,  32.8440,2,  32.8469,2,-999.0000,9,   333.19,2,   334.44,2,   96.752,   0.1321,2,    0.536,2,  -999.00,9,    1.002,1,    0.000,2,    27.55,2,     0.09,    17.98,2,     0.03,     0.24,2,     0.01,     1.60,2,     0.01,  -999.00,9,  -999.00,    5.426,2,    2.930,2,    0.477,2, -999.000,9,   -999.0,9,   -999.0,9,   -999.0,9,-999.0000,     -999,9, -999.000,9,  -999.00,9, -999.000,9, -999.000,   -999.0,9,   -999.0, -999.000,9, -999.000, -999.000,9, -999.000,   -999.0,9,   -999.0, -999.000,9, -999.000,9, -999.000,9
  49NZ20140717,   P01,    70,  1,     34, X12J34,2,20140726,1409, 45.5608, 157.4678, 5038,    100.4,2,   2.2228,2,   2.22673,2,  33.0056,2,  33.0082,2,-999.0000,9,   312.92,2,   314.89,2,   99.590,   0.0164,2,    0.063,2,  -999.00,9,    1.145,1,    0.000,2,    35.34,2,     0.10,    22.41,2,     0.03,     0.01,2,     0.01,     1.80,2,     0.01,  -999.00,9,  -999.00,    5.485,2,    2.961,2,    0.481,2, -999.000,9,   -999.0,9,   -999.0,9,   -999.0,9,-999.0000,     -999,9, -999.000,9,  -999.00,9, -999.000,9, -999.000,   -999.0,9,   -999.0, -999.000,9, -999.000, -999.000,9, -999.000,   -999.0,9,   -999.0, -999.000,9, -999.000,9, -999.000,9
  49NZ20140717,   P01,    70,  1,     33, X12J33,2,20140726,1409, 45.5608, 157.4678, 5038,    149.9,2,   2.3832,2,   2.38282,2,  33.4582,2,  33.4597,2,-999.0000,9,   183.37,2,   182.80,2,   99.573,   0.0171,2,    0.031,2,  -999.00,9,    2.129,1,    0.000,2,    68.54,2,     0.12,    34.28,2,     0.05,     0.01,2,     0.01,     2.54,2,     0.01,  -999.00,9,  -999.00,    4.157,2,    2.233,2,    0.336,2, -999.000,9,   -999.0,9,   -999.0,9,   -999.0,9,-999.0000,     -999,9, -999.000,9,  -999.00,9, -999.000,9, -999.000,   -999.0,9,   -999.0, -999.000,9, -999.000, -999.000,9, -999.000,   -999.0,9,   -999.0, -999.000,9, -999.000,9, -999.000,9
  49NZ20140717,   P01,    70,  1,     32, X12J32,2,20140726,1409, 45.5608, 157.4678, 5038,    200.6,2,   2.8807,2,   2.88041,2,  33.6835,2,  33.6821,2,-999.0000,9,   103.01,2,   104.34,2,   99.601,   0.0160,2,    0.021,2,  -999.00,9,    2.636,1,    0.000,2,    85.63,2,     0.13,    39.90,2,     0.05,     0.00,2,     0.01,     2.88,2,     0.01,  -999.00,9,  -999.00,    3.146,2,    1.655,2,    0.236,2, -999.000,9,   -999.0,9,   -999.0,9,   -999.0,9,-999.0000,     -999,9, -999.000,9,  -999.00,9, -999.000,9, -999.000,   -999.0,9,   -999.0, -999.000,9, -999.000, -999.000,9, -999.000,   -999.0,9,   -999.0, -999.000,9, -999.000,9, -999.000,9
  49NZ20140717,   P01,    70,  1,     31, X12J31,2,20140726,1409, 45.5608, 157.4678, 5038,    250.9,2,   3.1879,2,   3.18723,2,  33.8218,2,  33.8190,2,-999.0000,9,    71.84,2,    72.45,2,   99.719,   0.0112,2,    0.020,2,  -999.00,9,    2.684,1,    0.000,2,    94.39,2,     0.13,    41.49,2,     0.05,     0.00,2,     0.01,     2.98,2,     0.01,  -999.00,9,  -999.00,    2.520,2,    1.318,2,    0.176,2, -999.000,9,   -999.0,9,   -999.0,9,   -999.0,9,-999.0000,     -999,9, -999.000,9,  -999.00,9, -999.000,9, -999.000,   -999.0,9,   -999.0, -999.000,9, -999.000, -999.000,9, -999.000,   -999.0,9,   -999.0, -999.000,9, -999.000,9, -999.000,9
  49NZ20140717,   P01,    70,  1,     30, X12J30,2,20140726,1409, 45.5608, 157.4678, 5038,    330.9,2,   3.3605,2,   3.36043,2,  33.9710,2,  33.9696,2,-999.0000,9,    39.56,2,    40.51,2,   99.810,   0.0076,2,    0.022,2,  -999.00,9,    2.880,1,    0.000,2,   106.87,2,     0.14,    43.42,2,     0.05,     0.00,2,     0.01,     3.10,2,     0.01,  -999.00,9,  -999.00,    1.732,2,    0.889,2,    0.127,2, -999.000,9,   -999.0,9,   -999.0,9,   -999.0,9,-999.0000,     -999,9, -999.000,9,  -999.00,9, -999.000,9, -999.000,   -999.0,9,   -999.0, -999.000,9, -999.000, -999.000,9, -999.000,   -999.0,9,   -999.0, -999.000,9, -999.000,9, -999.000,9
  49NZ20140717,   P01,    70,  1,     29, X12J29,2,20140726,1409, 45.5608, 157.4678, 5038,    430.0,2,   3.3984,2,   3.39821,2,  34.0839,2,  34.0824,2,-999.0000,9,    29.05,2,    29.24,2,   99.886,   0.0046,2,    0.021,2,  -999.00,9,    2.870,1,    0.000,2,   116.30,2,     0.15,    43.66,2,     0.05,     0.00,2,     0.01,     3.11,2,     0.01,  -999.00,9,  -999.00,    1.206,2,    0.601,2,    0.093,2, -999.000,9,   -999.0,9,   -999.0,9,   -999.0,9,-999.0000,     -999,9, -999.000,9,  -999.00,9, -999.000,9, -999.000,   -999.0,9,   -999.0, -999.000,9, -999.000, -999.000,9, -999.000,   -999.0,9,   -999.0, -999.000,9, -999.000,9, -999.000,9
  49NZ20140717,   P01,    70,  1,     28, X12J28,2,20140726,1409, 45.5608, 157.4678, 5038,    529.6,2,   3.3109,2,   3.31064,2,  34.1829,2,  34.1822,2,-999.0000,9,    22.05,2,    21.97,2,   99.879,   0.0048,2,    0.021,2,  -999.00,9,    2.897,1,    0.000,2,   126.13,2,     0.15,    43.88,2,     0.06,     0.00,2,     0.01,     3.12,2,     0.01,  -999.00,9,  -999.00,    0.782,2,    0.380,2,    0.063,2, -999.000,9,   -999.0,9,   -999.0,9,   -999.0,9,-999.0000,     -999,9, -999.000,9,  -999.00,9, -999.000,9, -999.000,   -999.0,9,   -999.0, -999.000,9, -999.000, -999.000,9, -999.000,   -999.0,9,   -999.0, -999.000,9, -999.000,9, -999.000,9
  49NZ20140717,   P01,    70,  1,     27, X12J27,2,20140726,1409, 45.5608, 157.4678, 5038,    630.1,2,   3.1599,2,   3.15961,2,  34.2516,2,  34.2509,2,-999.0000,9,    19.46,2,    19.08,2,   99.890,   0.0044,2,    0.020,2,  -999.00,9,    2.987,1,    0.000,2,   134.29,2,     0.16,    44.12,2,     0.06,     0.00,2,     0.01,     3.14,2,     0.01,  -999.00,9,  -999.00,    0.534,2,    0.251,2,    0.053,2, -999.000,9,   -999.0,9,   -999.0,9,   -999.0,9,-999.0000,     -999,9, -999.000,9,  -999.00,9, -999.000,9, -999.000,   -999.0,9,   -999.0, -999.000,9, -999.000, -999.000,9, -999.000,   -999.0,9,   -999.0, -999.000,9, -999.000,9, -999.000,9
  49NZ20140717,   P01,    70,  1,     26, X12J26,2,20140726,1409, 45.5608, 157.4678, 5038,   4829.6,2,   1.4986,2,   1.49855,2,  34.6885,2,  34.6885,2,-999.0000,9,   156.30,2,   156.46,2,   99.892,   0.0043,2,    0.008,2,  -999.00,9,   -0.811,4,    0.000,2,  -999.00,9,  -999.00,  -999.00,9,  -999.00,  -999.00,9,  -999.00,  -999.00,9,  -999.00,  -999.00,9,  -999.00, -999.000,9, -999.000,9, -999.000,9, -999.000,9,   -999.0,9,   -999.0,9,   -999.0,9,-999.0000,     -999,9, -999.000,9,  -999.00,9, -999.000,9, -999.000,   -999.0,9,   -999.0, -999.000,9, -999.000, -999.000,9, -999.000,   -999.0,9,   -999.0, -999.000,9, -999.000,9, -999.000,9
  49NZ20140717,   P01,    70,  1,     25, X12J25,2,20140726,1409, 45.5608, 157.4678, 5038,    831.1,2,   2.8437,2,   2.84278,2,  34.3538,2,  34.3535,2,-999.0000,9,    20.05,2,    19.55,2,   99.877,   0.0049,2,    0.019,2,  -999.00,9,    2.983,1,    0.000,2,   146.86,2,     0.17,    43.96,2,     0.06,     0.00,2,     0.01,     3.14,2,     0.01,  -999.00,9,  -999.00,    0.264,2,    0.119,2,    0.024,2, -999.000,9,   -999.0,9,   -999.0,9,   -999.0,9,-999.0000,     -999,9, -999.000,9,  -999.00,9, -999.000,9, -999.000,   -999.0,9,   -999.0, -999.000,9, -999.000, -999.000,9, -999.000,   -999.0,9,   -999.0, -999.000,9, -999.000,9, -999.000,9
  49NZ20140717,   P01,    70,  1,     24, X12J24,2,20140726,1409, 45.5608, 157.4678, 5038,    927.5,2,   2.6814,2,   2.68123,2,  34.3972,2,  34.3968,2,-999.0000,9,    20.96,2,    20.54,2,   99.922,   0.0031,2,    0.018,2,  -999.00,9,    3.111,1,    0.000,2,   152.86,2,     0.17,    43.92,2,     0.06,     0.00,2,     0.01,     3.14,2,     0.01,  -999.00,9,  -999.00,    0.179,2,    0.080,2,    0.013,2, -999.000,9,   -999.0,9,   -999.0,9,   -999.0,9,-999.0000,     -999,9, -999.000,9,  -999.00,9, -999.000,9, -999.000,   -999.0,9,   -999.0, -999.000,9, -999.000, -999.000,9, -999.000,   -999.0,9,   -999.0, -999.000,9, -999.000,9, -999.000,9
  49NZ20140717,   P01,    70,  1,     23, X12J23,2,20140726,1409, 45.5608, 157.4678, 5038,   1068.6,2,   2.4850,2,   2.48479,2,  34.4450,2,  34.4456,2,-999.0000,9,    23.64,2,    23.20,2,   99.907,   0.0037,2,    0.018,2,  -999.00,9,    2.989,1,    0.000,2,   160.08,2,     0.17,    43.89,2,     0.06,     0.00,2,     0.01,     3.13,2,     0.01,  -999.00,9,  -999.00,    0.107,2,    0.046,2,    0.000,2, -999.000,9,   -999.0,9,   -999.0,9,   -999.0,9,-999.0000,     -999,9, -999.000,9,  -999.00,9, -999.000,9, -999.000,   -999.0,9,   -999.0, -999.000,9, -999.000, -999.000,9, -999.000,   -999.0,9,   -999.0, -999.000,9, -999.000,9, -999.000,9
  49NZ20140717,   P01,    70,  1,     22, X12J22,2,20140726,1409, 45.5608, 157.4678, 5038,   1270.8,2,   2.2677,2,   2.26737,2,  34.4959,2,  34.4963,2,-999.0000,9,    33.70,2,    33.55,2,   99.940,   0.0024,2,    0.017,2,  -999.00,9,    2.989,1,    0.000,2,   165.89,2,     0.18,    43.24,2,     0.05,     0.00,2,     0.01,     3.08,2,     0.01,  -999.00,9,  -999.00,    0.061,2,    0.030,2,    0.000,2, -999.000,9,   -999.0,9,   -999.0,9,   -999.0,9,-999.0000,     -999,9, -999.000,9,  -999.00,9, -999.000,9, -999.000,   -999.0,9,   -999.0, -999.000,9, -999.000, -999.000,9, -999.000,   -999.0,9,   -999.0, -999.000,9, -999.000,9, -999.000,9
  49NZ20140717,   P01,    70,  1,     21, X12J21,2,20140726,1409, 45.5608, 157.4678, 5038,   1469.6,2,   2.0937,2,   2.09352,2,  34.5397,2,  34.5398,2,-999.0000,9,    46.86,2,    46.75,2,   99.940,   0.0024,2,    0.015,2,  -999.00,9,    2.963,1,    0.000,2,   168.58,2,     0.18,    42.58,2,     0.05,     0.00,2,     0.01,     3.03,2,     0.01,  -999.00,9,  -999.00,    0.034,2,    0.017,2,    0.000,2, -999.000,9,   -999.0,9,   -999.0,9,   -999.0,9,-999.0000,     -999,9, -999.000,9,  -999.00,9, -999.000,9, -999.000,   -999.0,9,   -999.0, -999.000,9, -999.000, -999.000,9, -999.000,   -999.0,9,   -999.0, -999.000,9, -999.000,9, -999.000,9
  49NZ20140717,   P01,    70,  1,     20, X12J20,2,20140726,1409, 45.5608, 157.4678, 5038,   1672.0,2,   1.9691,2,   1.96892,2,  34.5714,2,  34.5716,2,-999.0000,9,    59.03,2,    59.16,2,   99.946,   0.0022,2,    0.014,2,  -999.00,9,    2.870,1,    0.000,2,   169.29,2,     0.18,    41.82,2,     0.05,     0.00,2,     0.01,     2.97,2,     0.01,  -999.00,9,  -999.00,    0.015,2,    0.008,2,    0.000,2, -999.000,9,   -999.0,9,   -999.0,9,   -999.0,9,-999.0000,     -999,9, -999.000,9,  -999.00,9, -999.000,9, -999.000,   -999.0,9,   -999.0, -999.000,9, -999.000, -999.000,9, -999.000,   -999.0,9,   -999.0, -999.000,9, -999.000,9, -999.000,9
  49NZ20140717,   P01,    70,  1,     19, X12J19,2,20140726,1409, 45.5608, 157.4678, 5038,   1871.1,2,   1.8508,2,   1.85078,2,  34.5986,2,  34.5987,2,-999.0000,9,    72.92,2,    73.11,2,   99.955,   0.0018,2,    0.013,2,  -999.00,9,    2.800,1,    0.000,2,   168.76,2,     0.18,    40.99,2,     0.05,     0.00,2,     0.01,     2.91,2,     0.01,  -999.00,9,  -999.00,    0.007,2,    0.004,2,    0.000,2, -999.000,9,   -999.0,9,   -999.0,9,   -999.0,9,-999.0000,     -999,9, -999.000,9,  -999.00,9, -999.000,9, -999.000,   -999.0,9,   -999.0, -999.000,9, -999.000, -999.000,9, -999.000,   -999.0,9,   -999.0, -999.000,9, -999.000,9, -999.000,9
  49NZ20140717,   P01,    70,  1,     18, X12J18,2,20140726,1409, 45.5608, 157.4678, 5038,   2070.7,2,   1.7563,2,   1.75623,2,  34.6181,2,  34.6184,2,-999.0000,9,    85.57,2,    85.72,2,   99.955,   0.0018,2,    0.012,2,  -999.00,9,    2.754,1,    0.000,2,   167.73,2,     0.18,    40.27,2,     0.05,     0.00,2,     0.01,     2.85,2,     0.01,  -999.00,9,  -999.00,    0.002,2,    0.000,2,    0.000,2, -999.000,9,   -999.0,9,   -999.0,9,   -999.0,9,-999.0000,     -999,9, -999.000,9,  -999.00,9, -999.000,9, -999.000,   -999.0,9,   -999.0, -999.000,9, -999.000, -999.000,9, -999.000,   -999.0,9,   -999.0, -999.000,9, -999.000,9, -999.000,9
  49NZ20140717,   P01,    70,  1,     17, X12J17,2,20140726,1409, 45.5608, 157.4678, 5038,   2270.3,2,   1.6729,2,   1.67281,2,  34.6341,2,  34.6344,2,-999.0000,9,    98.26,2,    98.39,2,   99.963,   0.0015,2,    0.011,2,  -999.00,9,    2.693,1,    0.000,2,   165.73,2,     0.18,    39.49,2,     0.05,     0.00,2,     0.01,     2.79,2,     0.01,  -999.00,9,  -999.00,    0.000,2,    0.000,2,    0.000,2, -999.000,9,   -999.0,9,   -999.0,9,   -999.0,9,-999.0000,     -999,9, -999.000,9,  -999.00,9, -999.000,9, -999.000,   -999.0,9,   -999.0, -999.000,9, -999.000, -999.000,9, -999.000,   -999.0,9,   -999.0, -999.000,9, -999.000,9, -999.000,9
  49NZ20140717,   P01,    70,  1,     16, X12J16,2,20140726,1409, 45.5608, 157.4678, 5038,   2471.5,2,   1.6179,2,   1.61775,2,  34.6448,2,  34.6449,2,-999.0000,9,   107.60,2,   107.62,2,   99.963,   0.0015,2,    0.011,2,  -999.00,9,    2.581,1,    0.000,2,   163.79,2,     0.18,    38.88,2,     0.05,     0.00,2,     0.01,     2.74,2,     0.01,  -999.00,9,  -999.00,    0.001,2,    0.001,2,    0.000,2, -999.000,9,   -999.0,9,   -999.0,9,   -999.0,9,-999.0000,     -999,9, -999.000,9,  -999.00,9, -999.000,9, -999.000,   -999.0,9,   -999.0, -999.000,9, -999.000, -999.000,9, -999.000,   -999.0,9,   -999.0, -999.000,9, -999.000,9, -999.000,9
  49NZ20140717,   P01,    70,  1,     15, X12J15,2,20140726,1409, 45.5608, 157.4678, 5038,   2671.5,2,   1.5647,2,   1.56461,2,  34.6547,2,  34.6551,2,-999.0000,9,   117.75,2,   117.99,2,   99.985,   0.0006,2,    0.010,2,  -999.00,9,    2.471,1,    0.000,2,   160.56,2,     0.17,    38.22,2,     0.05,     0.00,2,     0.01,     2.69,2,     0.01,  -999.00,9,  -999.00,    0.000,2,    0.000,2,    0.000,2, -999.000,9,   -999.0,9,   -999.0,9,   -999.0,9,-999.0000,     -999,9, -999.000,9,  -999.00,9, -999.000,9, -999.000,   -999.0,9,   -999.0, -999.000,9, -999.000, -999.000,9, -999.000,   -999.0,9,   -999.0, -999.000,9, -999.000,9, -999.000,9
  49NZ20140717,   P01,    70,  1,     14, X12J14,2,20140726,1409, 45.5608, 157.4678, 5038,   2871.1,2,   1.5250,2,   1.52494,2,  34.6623,2,  34.6623,2,-999.0000,9,   125.48,2,   125.34,2,   99.981,   0.0008,2,    0.009,2,  -999.00,9,    2.430,1,    0.000,2,   158.54,2,     0.17,    37.76,2,     0.05,     0.00,2,     0.01,     2.65,2,     0.01,  -999.00,9,  -999.00,    0.000,2,    0.000,2,    0.000,2, -999.000,9,   -999.0,9,   -999.0,9,   -999.0,9,-999.0000,     -999,9, -999.000,9,  -999.00,9, -999.000,9, -999.000,   -999.0,9,   -999.0, -999.000,9, -999.000, -999.000,9, -999.000,   -999.0,9,   -999.0, -999.000,9, -999.000,9, -999.000,9
  49NZ20140717,   P01,    70,  1,     13, X12113,2,20140726,1409, 45.5608, 157.4678, 5038,   3081.9,2,   1.4955,2,   1.49530,2,  34.6682,2,  34.6683,2,-999.0000,9,   132.43,2,   132.41,2,   99.979,   0.0009,2,    0.010,2,  -999.00,9,    2.417,1,    0.000,2,   156.60,2,     0.17,    37.35,2,     0.05,     0.00,2,     0.01,     2.62,2,     0.01,  -999.00,9,  -999.00,    0.000,2,    0.000,2,    0.000,2, -999.000,9,   -999.0,9,   -999.0,9,   -999.0,9,-999.0000,     -999,9, -999.000,9,  -999.00,9, -999.000,9, -999.000,   -999.0,9,   -999.0, -999.000,9, -999.000, -999.000,9, -999.000,   -999.0,9,   -999.0, -999.000,9, -999.000,9, -999.000,9
  49NZ20140717,   P01,    70,  1,     12, X12J12,2,20140726,1409, 45.5608, 157.4678, 5038,   3331.3,2,   1.4697,2,   1.46960,2,  34.6739,2,  34.6741,2,-999.0000,9,   139.17,2,   139.12,2,   99.979,   0.0009,2,    0.009,2,  -999.00,9,    2.361,1,    0.000,2,   154.73,2,     0.17,    36.91,2,     0.05,     0.00,2,     0.01,     2.58,2,     0.01,  -999.00,9,  -999.00,    0.000,2,    0.000,2,    0.000,2, -999.000,9,   -999.0,9,   -999.0,9,   -999.0,9,-999.0000,     -999,9, -999.000,9,  -999.00,9, -999.000,9, -999.000,   -999.0,9,   -999.0, -999.000,9, -999.000, -999.000,9, -999.000,   -999.0,9,   -999.0, -999.000,9, -999.000,9, -999.000,9
  49NZ20140717,   P01,    70,  1,     11, X12J11,2,20140726,1409, 45.5608, 157.4678, 5038,   3580.5,2,   1.4573,2,   1.45741,2,  34.6782,2,  34.6780,2,-999.0000,9,   144.16,2,   144.10,2,   99.983,   0.0007,2,    0.009,2,  -999.00,9,    2.326,1,    0.000,2,   153.24,2,     0.17,    36.59,2,     0.05,     0.00,2,     0.01,     2.55,2,     0.01,  -999.00,9,  -999.00,    0.000,2,    0.000,2,    0.000,2, -999.000,9,   -999.0,9,   -999.0,9,   -999.0,9,-999.0000,     -999,9, -999.000,9,  -999.00,9, -999.000,9, -999.000,   -999.0,9,   -999.0, -999.000,9, -999.000, -999.000,9, -999.000,   -999.0,9,   -999.0, -999.000,9, -999.000,9, -999.000,9
  49NZ20140717,   P01,    70,  1,     10, X12J10,2,20140726,1409, 45.5608, 157.4678, 5038,   3829.1,2,   1.4511,2,   1.45106,2,  34.6815,2,  34.6814,2,-999.0000,9,   148.30,2,   148.44,2,   99.987,   0.0005,2,    0.010,2,  -999.00,9,    2.210,1,    0.000,2,   152.26,2,     0.17,    36.36,2,     0.05,     0.00,2,     0.01,     2.53,2,     0.01,  -999.00,9,  -999.00,    0.000,2,    0.000,2,    0.000,2, -999.000,9,   -999.0,9,   -999.0,9,   -999.0,9,-999.0000,     -999,9, -999.000,9,  -999.00,9, -999.000,9, -999.000,   -999.0,9,   -999.0, -999.000,9, -999.000, -999.000,9, -999.000,   -999.0,9,   -999.0, -999.000,9, -999.000,9, -999.000,9