BOTTLE,20230904JAMSTECRIGC
EXPOCODE,SECT,STNNBR,CASTNO,SAMPNO,BTLNBR,BTLNBR_FLAG_W,DATE,TIME,LATITUDE,LONGITUDE,DEPTH,CTDPRS,CTDPRS_FLAG_W,CTDTMP,CTDTMP_FLAG_W,SBE35,SBE35_FLAG_W,CTDSAL,CTDSAL_FLAG_W,SALNTY,SALNTY_FLAG_W,DNSSAL,DNSSAL_FLAG_W,CTDOXY,CTDOXY_FLAG_W,OXYGEN,OXYGEN_FLAG_W,XMISS,XMISSCP,XMISS_FLAG_W,FLUOR,FLUOR_FLAG_W,CHLORA,CHLORA_FLAG_W,CDOM,CDOM_FLAG_W,PAR,PAR_FLAG_W,SILCAT,SILCAT_FLAG_W,SILUNC,NITRAT,NITRAT_FLAG_W,NRAUNC,NITRIT,NITRIT_FLAG_W,NRIUNC,PHSPHT,PHSPHT_FLAG_W,PHPUNC,AMMONIA,AMMONIA_FLAG_W,NH4UNC,CFC-11,CFC-11_FLAG_W,CFC-12,CFC-12_FLAG_W,CFC113,CFC113_FLAG_W,SF6,SF6_FLAG_W,TCARBN,TCARBN_FLAG_W,ALKALI,ALKALI_FLAG_W,ALKALI_POT,ALKALI_POT_FLAG_W,PH_TOT,PH_TMP,PH_TOT_FLAG_W,CALCIUM,CALCIUM_FLAG_W,DOC,DOC_FLAG_W,DELC13,DELC13_FLAG_W,C13ERR,DELC14,DELC14_FLAG_W,C14ERR,CS-134,CS-134_FLAG_W,CS134ER,CS-137,CS-137_FLAG_W,CS137ER,I-129,I-129_FLAG_W,I-129ER,CDOM-325,CDOM-325_FLAG_W,CDOM-370,CDOM-370_FLAG_W,CDOM-443,CDOM-443_FLAG_W
,,,,,,,,UTC,DEG,DEG,METERS,DBAR,,ITS-90,,ITS-90,,PSS-78,,PSS-78,,G/KG,,UMOL/KG,,UMOL/KG,,%TRANS,/METER,,MG/CUM,,MG/CUM,,MG/CUM,,UE/SQM/S,,UMOL/KG,,UMOL/KG,UMOL/KG,,UMOL/KG,UMOL/KG,,UMOL/KG,UMOL/KG,,UMOL/KG,UMOL/KG,,UMOL/KG,PMOL/KG,,PMOL/KG,,PMOL/KG,,FMOL/KG,,UMOL/KG,,UMOL/KG,,UMOL/KG,,,DEG C,,MMOL/KG,,UMOL/KG,,/MILLE,,/MILLE,/MILLE,,/MILLE,MBQ/KG,,MBQ/KG,MBQ/KG,,MBQ/KG,,,,/METER,,/METER,,/METER,
  49NZ20140717,   P01,    38,  1,      0,   -999,9,20140717,1227, 42.8570, 145.5395,  899,   -999.0,9,-999.0000,9,-999.00000,9,-999.0000,9,  32.2469,2,-999.0000,9,  -999.00,9,  -999.00,9, -999.000,-999.0000,9, -999.000,9,  -999.00,9, -999.000,9, -999.000,9,     2.21,2,     0.10,     0.11,2,     0.01,     0.01,2,     0.01,     0.35,2,     0.01,  -999.00,9,  -999.00, -999.000,9, -999.000,9, -999.000,9, -999.000,9,   -999.0,9,   -999.0,9,   -999.0,9,-999.0000,     -999,9, -999.000,9,  -999.00,9, -999.000,9, -999.000,   -999.0,9,   -999.0, -999.000,9, -999.000, -999.000,9, -999.000,   -999.0,9,   -999.0, -999.000,9, -999.000,9, -999.000,9
  49NZ20140717,   P01,    38,  1,     36, X12J36,2,20140717,1227, 42.8570, 145.5395,  899,     10.4,2,   8.5495,2,   8.52112,2,  32.3405,2,  32.4059,2,  32.5652,2,   367.12,2,   378.99,2,   93.973,   0.2486,2,    0.333,2,  -999.00,9,    1.431,1,    0.105,2,     3.70,2,     0.09,     0.21,2,     0.01,     0.01,2,     0.01,     0.41,2,     0.01,  -999.00,9,  -999.00,    4.693,2,    2.525,2,    0.423,2, -999.000,9,   1957.7,2,   2221.6,2,   -999.0,9,   8.0228,       25,6, -999.000,9,    70.52,2, -999.000,9, -999.000,   -999.0,9,   -999.0, -999.000,9, -999.000, -999.000,9, -999.000,   -999.0,9,   -999.0, -999.000,9, -999.000,9, -999.000,9
  49NZ20140717,   P01,    38,  1,     35, X12J35,2,20140717,1227, 42.8570, 145.5395,  899,     50.9,2,   1.3724,2,   1.37249,2,  32.8395,2,  32.8462,2,  33.0086,2,   308.07,2,   308.18,2,   88.000,   0.5113,2,    1.665,2,  -999.00,9,    1.651,1,    0.000,2,    32.90,2,     0.10,    19.48,2,     0.03,     0.23,2,     0.01,     1.76,2,     0.01,  -999.00,9,  -999.00,    5.673,2,    2.992,2,    0.506,2, -999.000,9,   2142.6,6,   2233.3,2,   -999.0,9,   7.6145,       25,2, -999.000,9,    59.73,2, -999.000,9, -999.000,   -999.0,9,   -999.0, -999.000,9, -999.000, -999.000,9, -999.000,   -999.0,9,   -999.0, -999.000,9, -999.000,9, -999.000,9
  49NZ20140717,   P01,    38,  1,     34, X12J34,2,20140717,1227, 42.8570, 145.5395,  899,    100.5,2,   1.2418,2,   1.22173,2,  33.0099,2,  33.0173,2,  33.1802,2,   300.98,2,   299.82,2,   98.926,   0.0432,2,    0.072,2,  -999.00,9,    1.446,1,    0.000,2,    42.17,2,     0.10,    24.18,2,     0.04,     0.13,2,     0.01,     1.96,2,     0.01,  -999.00,9,  -999.00,    5.513,2,    2.892,2,    0.500,2, -999.000,9,   2154.4,2,   2239.4,2,   -999.0,9,   7.5920,       25,2, -999.000,9,    51.36,2, -999.000,9, -999.000,   -999.0,9,   -999.0, -999.000,9, -999.000, -999.000,9, -999.000,   -999.0,9,   -999.0, -999.000,9, -999.000,9, -999.000,9
  49NZ20140717,   P01,    38,  1,     33, X12J33,2,20140717,1227, 42.8570, 145.5395,  899,    150.5,2,   1.0811,2,   1.08082,2,  33.1947,2,  33.1980,2,  33.3649,2,   254.60,2,   253.79,2,   98.816,   0.0477,2,    0.031,2,  -999.00,9,    1.768,1,    0.000,2,    54.18,2,     0.11,    27.70,2,     0.04,     0.05,2,     0.01,     2.19,2,     0.01,  -999.00,9,  -999.00,    5.135,2,    2.916,2,    0.466,2, -999.000,9,   2196.4,2,   2248.1,2,   -999.0,9,   7.5074,       25,6, -999.000,9,    50.95,2, -999.000,9, -999.000,   -999.0,9,   -999.0, -999.000,9, -999.000, -999.000,9, -999.000,   -999.0,9,   -999.0, -999.000,9, -999.000,9, -999.000,9
  49NZ20140717,   P01,    38,  1,     32, X12J32,2,20140717,1227, 42.8570, 145.5395,  899,    200.9,2,   1.4517,2,   1.44949,2,  33.2735,2,  33.2784,2,  33.4454,2,   241.37,2,   240.50,2,   98.895,   0.0444,2,    0.024,2,  -999.00,9,    1.898,1,    0.000,2,    56.49,2,     0.11,    28.44,2,     0.04,     0.03,2,     0.01,     2.23,2,     0.01,  -999.00,9,  -999.00,    4.891,2,    2.626,2,    0.407,2, -999.000,9,   2202.2,2,   2257.3,6,   -999.0,9,   7.4994,       25,2, -999.000,9,    48.93,2, -999.000,9, -999.000,   -999.0,9,   -999.0, -999.000,9, -999.000, -999.000,9, -999.000,   -999.0,9,   -999.0, -999.000,9, -999.000,9, -999.000,9
  49NZ20140717,   P01,    38,  1,     31, X12J31,2,20140717,1227, 42.8570, 145.5395,  899,    250.1,2,   1.6377,2,   1.63439,2,  33.3583,2,  33.3665,2,  33.5311,2,   215.02,2,   213.38,2,   98.951,   0.0422,2,    0.043,2,  -999.00,9,    1.936,1,    0.000,2,    63.98,2,     0.11,    31.13,2,     0.04,     0.02,2,     0.01,     2.39,2,     0.01,  -999.00,9,  -999.00,    4.712,2,    3.050,2,    0.444,2, -999.000,9,   2222.0,2,   2263.9,2,   -999.0,9,   7.4580,       25,2, -999.000,9,    47.79,2, -999.000,9, -999.000,   -999.0,9,   -999.0, -999.000,9, -999.000, -999.000,9, -999.000,   -999.0,9,   -999.0, -999.000,9, -999.000,9, -999.000,9
  49NZ20140717,   P01,    38,  1,     30, X12J30,2,20140717,1227, 42.8570, 145.5395,  899,    280.0,2,   2.1909,2,   2.19114,2,  33.5273,2,  33.5297,2,  33.6993,2,   170.79,2,   170.14,2,   99.096,   0.0363,2,    0.015,2,  -999.00,9,    2.044,1,    0.000,2,    73.68,2,     0.12,    34.11,2,     0.05,     0.02,2,     0.01,     2.57,2,     0.01,  -999.00,9,  -999.00,    3.905,2,    2.023,2,    0.313,2, -999.000,9,   2249.5,2,   2272.7,2,   -999.0,9,   7.4059,       25,2, -999.000,9,    48.50,2, -999.000,9, -999.000,   -999.0,9,   -999.0, -999.000,9, -999.000, -999.000,9, -999.000,   -999.0,9,   -999.0, -999.000,9, -999.000,9, -999.000,9
  49NZ20140717,   P01,    38,  1,     29, X12J29,2,20140717,1227, 42.8570, 145.5395,  899,    370.3,2,   1.9666,2,   1.96744,2,  33.5682,2,  33.5697,2,  33.7396,2,   158.50,2,   158.00,2,   99.001,   0.0402,2,    0.015,2,  -999.00,9,    2.272,1,    0.000,2,    79.53,2,     0.12,    34.99,2,     0.05,     0.01,2,     0.01,     2.64,2,     0.01,  -999.00,9,  -999.00,    3.768,2,    1.950,2,    0.282,2, -999.000,9,   2263.7,2,   2281.5,2,   -999.0,9,   7.3826,       25,2, -999.000,9,    48.49,2, -999.000,9, -999.000,   -999.0,9,   -999.0, -999.000,9, -999.000, -999.000,9, -999.000,   -999.0,9,   -999.0, -999.000,9, -999.000,9, -999.000,9
  49NZ20140717,   P01,    38,  1,     28, X12J28,2,20140717,1227, 42.8570, 145.5395,  899,    469.9,2,   2.4134,2,   2.41664,2,  33.7168,2,  33.7148,2,  33.8867,2,   117.86,2,   118.79,2,   99.268,   0.0294,2,    0.008,2,  -999.00,9,    2.369,1,    0.000,2,    90.58,2,     0.13,    37.69,2,     0.05,     0.01,2,     0.01,     2.79,2,     0.01,  -999.00,9,  -999.00,    3.091,2,    1.603,2,    0.235,2, -999.000,9,   2289.1,2,   2294.0,2,   -999.0,9,   7.3421,       25,2, -999.000,9,    48.87,2, -999.000,9, -999.000,   -999.0,9,   -999.0, -999.000,9, -999.000, -999.000,9, -999.000,   -999.0,9,   -999.0, -999.000,9, -999.000,9, -999.000,9
  49NZ20140717,   P01,    38,  1,     27, X12J27,2,20140717,1227, 42.8570, 145.5395,  899,    570.8,2,   3.2019,2,   3.20152,2,  33.9523,2,  33.9548,2,  34.1287,2,    65.66,2,    65.69,2,   99.731,   0.0108,2,    0.008,2,  -999.00,9,    2.477,1,    0.000,2,   104.43,2,     0.14,    40.87,2,     0.05,     0.01,2,     0.01,     2.96,2,     0.01,  -999.00,9,  -999.00,    1.931,2,    1.015,2,    0.154,2, -999.000,9,   2321.1,2,   2312.8,2,   -999.0,9,   7.3088,       25,2, -999.000,9,    44.38,2, -999.000,9, -999.000,   -999.0,9,   -999.0, -999.000,9, -999.000, -999.000,9, -999.000,   -999.0,9,   -999.0, -999.000,9, -999.000,9, -999.000,9
  49NZ20140717,   P01,    38,  1,     26, X12J26,2,20140717,1227, 42.8570, 145.5395,  899,    670.2,2,   3.2536,2,   3.25295,2,  34.0894,2,  34.0898,2,  34.2645,2,    41.73,2,    42.26,2,   99.548,   0.0181,2,    0.009,2,  -999.00,9,    2.572,1,    0.000,2,   117.77,2,     0.15,    42.36,2,     0.05,     0.01,2,     0.01,     3.05,2,     0.01,  -999.00,9,  -999.00,    1.284,2,    0.677,2,    0.092,2, -999.000,9,   2342.8,6,   2328.8,2,   -999.0,9,   7.2948,       25,2, -999.000,9,    42.34,2, -999.000,9, -999.000,   -999.0,9,   -999.0, -999.000,9, -999.000, -999.000,9, -999.000,   -999.0,9,   -999.0, -999.000,9, -999.000,9, -999.000,9
  49NZ20140717,   P01,    38,  1,     25, X12J25,2,20140717,1227, 42.8570, 145.5395,  899,    768.4,2,   3.3706,2,   3.37240,2,  34.1862,2,  34.1962,2,  34.3734,2,    37.19,2,    38.52,2,   99.699,   0.0121,2,    0.008,2,  -999.00,9,    2.547,1,    0.000,2,   122.51,2,     0.15,    42.32,2,     0.05,     0.01,2,     0.01,     3.03,2,     0.01,  -999.00,9,  -999.00,    0.859,2,    0.454,2,    0.063,2, -999.000,9,   2348.9,2,   2344.5,2,   -999.0,9,   7.3158,       25,2, -999.000,9,    41.39,2, -999.000,9, -999.000,   -999.0,9,   -999.0, -999.000,9, -999.000, -999.000,9, -999.000,   -999.0,9,   -999.0, -999.000,9, -999.000,9, -999.000,9
  49NZ20140717,   P01,    38,  1,     24, X12J24,9,20140717,1227, 42.8570, 145.5395,  899,   -999.0,9,-999.0000,9,-999.00000,9,-999.0000,9,-999.0000,9,-999.0000,9,  -999.00,9,  -999.00,9, -999.000,-999.0000,9, -999.000,9,  -999.00,9, -999.000,9, -999.000,9,  -999.00,9,  -999.00,  -999.00,9,  -999.00,  -999.00,9,  -999.00,  -999.00,9,  -999.00,  -999.00,9,  -999.00, -999.000,9, -999.000,9, -999.000,9, -999.000,9,   -999.0,9,   -999.0,9,   -999.0,9,-999.0000,     -999,9, -999.000,9,  -999.00,9, -999.000,9, -999.000,   -999.0,9,   -999.0, -999.000,9, -999.000, -999.000,9, -999.000,   -999.0,9,   -999.0, -999.000,9, -999.000,9, -999.000,9
  49NZ20140717,   P01,    38,  1,     23, X12J23,9,20140717,1227, 42.8570, 145.5395,  899,   -999.0,9,-999.0000,9,-999.00000,9,-999.0000,9,-999.0000,9,-999.0000,9,  -999.00,9,  -999.00,9, -999.000,-999.0000,9, -999.000,9,  -999.00,9, -999.000,9, -999.000,9,  -999.00,9,  -999.00,  -999.00,9,  -999.00,  -999.00,9,  -999.00,  -999.00,9,  -999.00,  -999.00,9,  -999.00, -999.000,9, -999.000,9, -999.000,9, -999.000,9,   -999.0,9,   -999.0,9,   -999.0,9,-999.0000,     -999,9, -999.000,9,  -999.00,9, -999.000,9, -999.000,   -999.0,9,   -999.0, -999.000,9, -999.000, -999.000,9, -999.000,   -999.0,9,   -999.0, -999.000,9, -999.000,9, -999.000,9
  49NZ20140717,   P01,    38,  1,     22, X12J22,9,20140717,1227, 42.8570, 145.5395,  899,   -999.0,9,-999.0000,9,-999.00000,9,-999.0000,9,-999.0000,9,-999.0000,9,  -999.00,9,  -999.00,9, -999.000,-999.0000,9, -999.000,9,  -999.00,9, -999.000,9, -999.000,9,  -999.00,9,  -999.00,  -999.00,9,  -999.00,  -999.00,9,  -999.00,  -999.00,9,  -999.00,  -999.00,9,  -999.00, -999.000,9, -999.000,9, -999.000,9, -999.000,9,   -999.0,9,   -999.0,9,   -999.0,9,-999.0000,     -999,9, -999.000,9,  -999.00,9, -999.000,9, -999.000,   -999.0,9,   -999.0, -999.000,9, -999.000, -999.000,9, -999.000,   -999.0,9,   -999.0, -999.000,9, -999.000,9, -999.000,9
  49NZ20140717,   P01,    38,  1,     21, X12J21,9,20140717,1227, 42.8570, 145.5395,  899,   -999.0,9,-999.0000,9,-999.00000,9,-999.0000,9,-999.0000,9,-999.0000,9,  -999.00,9,  -999.00,9, -999.000,-999.0000,9, -999.000,9,  -999.00,9, -999.000,9, -999.000,9,  -999.00,9,  -999.00,  -999.00,9,  -999.00,  -999.00,9,  -999.00,  -999.00,9,  -999.00,  -999.00,9,  -999.00, -999.000,9, -999.000,9, -999.000,9, -999.000,9,   -999.0,9,   -999.0,9,   -999.0,9,-999.0000,     -999,9, -999.000,9,  -999.00,9, -999.000,9, -999.000,   -999.0,9,   -999.0, -999.000,9, -999.000, -999.000,9, -999.000,   -999.0,9,   -999.0, -999.000,9, -999.000,9, -999.000,9
  49NZ20140717,   P01,    38,  1,     20, X12J20,9,20140717,1227, 42.8570, 145.5395,  899,   -999.0,9,-999.0000,9,-999.00000,9,-999.0000,9,-999.0000,9,-999.0000,9,  -999.00,9,  -999.00,9, -999.000,-999.0000,9, -999.000,9,  -999.00,9, -999.000,9, -999.000,9,  -999.00,9,  -999.00,  -999.00,9,  -999.00,  -999.00,9,  -999.00,  -999.00,9,  -999.00,  -999.00,9,  -999.00, -999.000,9, -999.000,9, -999.000,9, -999.000,9,   -999.0,9,   -999.0,9,   -999.0,9,-999.0000,     -999,9, -999.000,9,  -999.00,9, -999.000,9, -999.000,   -999.0,9,   -999.0, -999.000,9, -999.000, -999.000,9, -999.000,   -999.0,9,   -999.0, -999.000,9, -999.000,9, -999.000,9
  49NZ20140717,   P01,    38,  1,     19, X12J19,9,20140717,1227, 42.8570, 145.5395,  899,   -999.0,9,-999.0000,9,-999.00000,9,-999.0000,9,-999.0000,9,-999.0000,9,  -999.00,9,  -999.00,9, -999.000,-999.0000,9, -999.000,9,  -999.00,9, -999.000,9, -999.000,9,  -999.00,9,  -999.00,  -999.00,9,  -999.00,  -999.00,9,  -999.00,  -999.00,9,  -999.00,  -999.00,9,  -999.00, -999.000,9, -999.000,9, -999.000,9, -999.000,9,   -999.0,9,   -999.0,9,   -999.0,9,-999.0000,     -999,9, -999.000,9,  -999.00,9, -999.000,9, -999.000,   -999.0,9,   -999.0, -999.000,9, -999.000, -999.000,9, -999.000,   -999.0,9,   -999.0, -999.000,9, -999.000,9, -999.000,9
  49NZ20140717,   P01,    38,  1,     18, X12J18,9,20140717,1227, 42.8570, 145.5395,  899,   -999.0,9,-999.0000,9,-999.00000,9,-999.0000,9,-999.0000,9,-999.0000,9,  -999.00,9,  -999.00,9, -999.000,-999.0000,9, -999.000,9,  -999.00,9, -999.000,9, -999.000,9,  -999.00,9,  -999.00,  -999.00,9,  -999.00,  -999.00,9,  -999.00,  -999.00,9,  -999.00,  -999.00,9,  -999.00, -999.000,9, -999.000,9, -999.000,9, -999.000,9,   -999.0,9,   -999.0,9,   -999.0,9,-999.0000,     -999,9, -999.000,9,  -999.00,9, -999.000,9, -999.000,   -999.0,9,   -999.0, -999.000,9, -999.000, -999.000,9, -999.000,   -999.0,9,   -999.0, -999.000,9, -999.000,9, -999.000,9
  49NZ20140717,   P01,    38,  1,     17, X12J17,9,20140717,1227, 42.8570, 145.5395,  899,   -999.0,9,-999.0000,9,-999.00000,9,-999.0000,9,-999.0000,9,-999.0000,9,  -999.00,9,  -999.00,9, -999.000,-999.0000,9, -999.000,9,  -999.00,9, -999.000,9, -999.000,9,  -999.00,9,  -999.00,  -999.00,9,  -999.00,  -999.00,9,  -999.00,  -999.00,9,  -999.00,  -999.00,9,  -999.00, -999.000,9, -999.000,9, -999.000,9, -999.000,9,   -999.0,9,   -999.0,9,   -999.0,9,-999.0000,     -999,9, -999.000,9,  -999.00,9, -999.000,9, -999.000,   -999.0,9,   -999.0, -999.000,9, -999.000, -999.000,9, -999.000,   -999.0,9,   -999.0, -999.000,9, -999.000,9, -999.000,9
  49NZ20140717,   P01,    38,  1,     16, X12J16,9,20140717,1227, 42.8570, 145.5395,  899,   -999.0,9,-999.0000,9,-999.00000,9,-999.0000,9,-999.0000,9,-999.0000,9,  -999.00,9,  -999.00,9, -999.000,-999.0000,9, -999.000,9,  -999.00,9, -999.000,9, -999.000,9,  -999.00,9,  -999.00,  -999.00,9,  -999.00,  -999.00,9,  -999.00,  -999.00,9,  -999.00,  -999.00,9,  -999.00, -999.000,9, -999.000,9, -999.000,9, -999.000,9,   -999.0,9,   -999.0,9,   -999.0,9,-999.0000,     -999,9, -999.000,9,  -999.00,9, -999.000,9, -999.000,   -999.0,9,   -999.0, -999.000,9, -999.000, -999.000,9, -999.000,   -999.0,9,   -999.0, -999.000,9, -999.000,9, -999.000,9
  49NZ20140717,   P01,    38,  1,     15, X12J15,9,20140717,1227, 42.8570, 145.5395,  899,   -999.0,9,-999.0000,9,-999.00000,9,-999.0000,9,-999.0000,9,-999.0000,9,  -999.00,9,  -999.00,9, -999.000,-999.0000,9, -999.000,9,  -999.00,9, -999.000,9, -999.000,9,  -999.00,9,  -999.00,  -999.00,9,  -999.00,  -999.00,9,  -999.00,  -999.00,9,  -999.00,  -999.00,9,  -999.00, -999.000,9, -999.000,9, -999.000,9, -999.000,9,   -999.0,9,   -999.0,9,   -999.0,9,-999.0000,     -999,9, -999.000,9,  -999.00,9, -999.000,9, -999.000,   -999.0,9,   -999.0, -999.000,9, -999.000, -999.000,9, -999.000,   -999.0,9,   -999.0, -999.000,9, -999.000,9, -999.000,9
  49NZ20140717,   P01,    38,  1,     14, X12J14,9,20140717,1227, 42.8570, 145.5395,  899,   -999.0,9,-999.0000,9,-999.00000,9,-999.0000,9,-999.0000,9,-999.0000,9,  -999.00,9,  -999.00,9, -999.000,-999.0000,9, -999.000,9,  -999.00,9, -999.000,9, -999.000,9,  -999.00,9,  -999.00,  -999.00,9,  -999.00,  -999.00,9,  -999.00,  -999.00,9,  -999.00,  -999.00,9,  -999.00, -999.000,9, -999.000,9, -999.000,9, -999.000,9,   -999.0,9,   -999.0,9,   -999.0,9,-999.0000,     -999,9, -999.000,9,  -999.00,9, -999.000,9, -999.000,   -999.0,9,   -999.0, -999.000,9, -999.000, -999.000,9, -999.000,   -999.0,9,   -999.0, -999.000,9, -999.000,9, -999.000,9
  49NZ20140717,   P01,    38,  1,     13, X12113,9,20140717,1227, 42.8570, 145.5395,  899,   -999.0,9,-999.0000,9,-999.00000,9,-999.0000,9,-999.0000,9,-999.0000,9,  -999.00,9,  -999.00,9, -999.000,-999.0000,9, -999.000,9,  -999.00,9, -999.000,9, -999.000,9,  -999.00,9,  -999.00,  -999.00,9,  -999.00,  -999.00,9,  -999.00,  -999.00,9,  -999.00,  -999.00,9,  -999.00, -999.000,9, -999.000,9, -999.000,9, -999.000,9,   -999.0,9,   -999.0,9,   -999.0,9,-999.0000,     -999,9, -999.000,9,  -999.00,9, -999.000,9, -999.000,   -999.0,9,   -999.0, -999.000,9, -999.000, -999.000,9, -999.000,   -999.0,9,   -999.0, -999.000,9, -999.000,9, -999.000,9
  49NZ20140717,   P01,    38,  1,     12, X12J12,9,20140717,1227, 42.8570, 145.5395,  899,   -999.0,9,-999.0000,9,-999.00000,9,-999.0000,9,-999.0000,9,-999.0000,9,  -999.00,9,  -999.00,9, -999.000,-999.0000,9, -999.000,9,  -999.00,9, -999.000,9, -999.000,9,  -999.00,9,  -999.00,  -999.00,9,  -999.00,  -999.00,9,  -999.00,  -999.00,9,  -999.00,  -999.00,9,  -999.00, -999.000,9, -999.000,9, -999.000,9, -999.000,9,   -999.0,9,   -999.0,9,   -999.0,9,-999.0000,     -999,9, -999.000,9,  -999.00,9, -999.000,9, -999.000,   -999.0,9,   -999.0, -999.000,9, -999.000, -999.000,9, -999.000,   -999.0,9,   -999.0, -999.000,9, -999.000,9, -999.000,9
  49NZ20140717,   P01,    38,  1,     11, X12J11,9,20140717,1227, 42.8570, 145.5395,  899,   -999.0,9,-999.0000,9,-999.00000,9,-999.0000,9,-999.0000,9,-999.0000,9,  -999.00,9,  -999.00,9, -999.000,-999.0000,9, -999.000,9,  -999.00,9, -999.000,9, -999.000,9,  -999.00,9,  -999.00,  -999.00,9,  -999.00,  -999.00,9,  -999.00,  -999.00,9,  -999.00,  -999.00,9,  -999.00, -999.000,9, -999.000,9, -999.000,9, -999.000,9,   -999.0,9,   -999.0,9,   -999.0,9,-999.0000,     -999,9, -999.000,9,  -999.00,9, -999.000,9, -999.000,   -999.0,9,   -999.0, -999.000,9, -999.000, -999.000,9, -999.000,   -999.0,9,   -999.0, -999.000,9, -999.000,9, -999.000,9
  49NZ20140717,   P01,    38,  1,     10, X12J10,9,20140717,1227, 42.8570, 145.5395,  899,   -999.0,9,-999.0000,9,-999.00000,9,-999.0000,9,-999.0000,9,-999.0000,9,  -999.00,9,  -999.00,9, -999.000,-999.0000,9, -999.000,9,  -999.00,9, -999.000,9, -999.000,9,  -999.00,9,  -999.00,  -999.00,9,  -999.00,  -999.00,9,  -999.00,  -999.00,9,  -999.00,  -999.00,9,  -999.00, -999.000,9, -999.000,9, -999.000,9, -999.000,9,   -999.0,9,   -999.0,9,   -999.0,9,-999.0000,     -999,9, -999.000,9,  -999.00,9, -999.000,9, -999.000,   -999.0,9,   -999.0, -999.000,9, -999.000, -999.000,9, -999.000,   -999.0,9,   -999.0, -999.000,9, -999.000,9, -999.000,9