BOTTLE,20230904JAMSTECRIGC
EXPOCODE,SECT,STNNBR,CASTNO,SAMPNO,BTLNBR,BTLNBR_FLAG_W,DATE,TIME,LATITUDE,LONGITUDE,DEPTH,CTDPRS,CTDPRS_FLAG_W,CTDTMP,CTDTMP_FLAG_W,SBE35,SBE35_FLAG_W,CTDSAL,CTDSAL_FLAG_W,SALNTY,SALNTY_FLAG_W,DNSSAL,DNSSAL_FLAG_W,CTDOXY,CTDOXY_FLAG_W,OXYGEN,OXYGEN_FLAG_W,XMISS,XMISSCP,XMISS_FLAG_W,FLUOR,FLUOR_FLAG_W,CHLORA,CHLORA_FLAG_W,CDOM,CDOM_FLAG_W,PAR,PAR_FLAG_W,SILCAT,SILCAT_FLAG_W,SILUNC,NITRAT,NITRAT_FLAG_W,NRAUNC,NITRIT,NITRIT_FLAG_W,NRIUNC,PHSPHT,PHSPHT_FLAG_W,PHPUNC,AMMONIA,AMMONIA_FLAG_W,NH4UNC,CFC-11,CFC-11_FLAG_W,CFC-12,CFC-12_FLAG_W,CFC113,CFC113_FLAG_W,SF6,SF6_FLAG_W,TCARBN,TCARBN_FLAG_W,ALKALI,ALKALI_FLAG_W,ALKALI_POT,ALKALI_POT_FLAG_W,PH_TOT,PH_TMP,PH_TOT_FLAG_W,CALCIUM,CALCIUM_FLAG_W,DOC,DOC_FLAG_W,DELC13,DELC13_FLAG_W,C13ERR,DELC14,DELC14_FLAG_W,C14ERR,CS-134,CS-134_FLAG_W,CS134ER,CS-137,CS-137_FLAG_W,CS137ER,I-129,I-129_FLAG_W,I-129ER,CDOM-325,CDOM-325_FLAG_W,CDOM-370,CDOM-370_FLAG_W,CDOM-443,CDOM-443_FLAG_W
,,,,,,,,UTC,DEG,DEG,METERS,DBAR,,ITS-90,,ITS-90,,PSS-78,,PSS-78,,G/KG,,UMOL/KG,,UMOL/KG,,%TRANS,/METER,,MG/CUM,,MG/CUM,,MG/CUM,,UE/SQM/S,,UMOL/KG,,UMOL/KG,UMOL/KG,,UMOL/KG,UMOL/KG,,UMOL/KG,UMOL/KG,,UMOL/KG,UMOL/KG,,UMOL/KG,PMOL/KG,,PMOL/KG,,PMOL/KG,,FMOL/KG,,UMOL/KG,,UMOL/KG,,UMOL/KG,,,DEG C,,MMOL/KG,,UMOL/KG,,/MILLE,,/MILLE,/MILLE,,/MILLE,MBQ/KG,,MBQ/KG,MBQ/KG,,MBQ/KG,,,,/METER,,/METER,,/METER,
  49NZ20140717,   P01,    51,  1,      9, X12J09,2,20140721,0353, 40.6351, 147.2050, 5302,   3999.8,2,   1.4826,2,   1.48265,2,  34.6807,2,  34.6803,2,  34.8644,2,   147.37,2,   147.12,2,   99.961,   0.0016,2,   -0.003,2,  -999.00,9,    1.417,4,    0.000,2,   151.68,2,     0.17,    36.44,2,     0.05,     0.00,2,     0.01,     2.54,2,     0.01,  -999.00,9,  -999.00,    0.000,2,    0.000,2,    0.000,2,    0.000,2,   2327.9,2,   2418.0,2,   -999.0,9,   7.5684,       25,2, -999.000,9,    41.80,3, -999.000,9, -999.000,   -999.0,9,   -999.0, -999.000,9, -999.000, -999.000,9, -999.000,   -999.0,9,   -999.0, -999.000,9, -999.000,9, -999.000,9
  49NZ20140717,   P01,    51,  1,      8, X12J08,2,20140721,0353, 40.6351, 147.2050, 5302,   4251.9,2,   1.4719,2,   1.47217,2,  34.6848,2,  34.6840,2,  34.8677,2,   152.11,2,   151.80,2,   99.961,   0.0016,2,   -0.004,2,  -999.00,9,    1.169,4,    0.000,2,   150.23,2,     0.17,    36.08,2,     0.05,     0.00,2,     0.01,     2.52,2,     0.01,  -999.00,9,  -999.00,    0.002,2,    0.003,2,    0.000,2,    0.000,2,   2325.1,6,   2417.5,2,   -999.0,9,   7.5761,       25,2, -999.000,9,    37.05,2, -999.000,9, -999.000,   -999.0,9,   -999.0, -999.000,9, -999.000, -999.000,9, -999.000,   -999.0,9,   -999.0, -999.000,9, -999.000,9, -999.000,9
  49NZ20140717,   P01,    51,  1,      7, X12J07,2,20140721,0353, 40.6351, 147.2050, 5302,   4501.9,2,   1.4801,2,   1.48006,2,  34.6867,2,  34.6862,2,  34.8671,2,   154.83,2,   154.64,2,   99.965,   0.0014,2,   -0.004,2,  -999.00,9,   -1.425,4,    0.000,2,   149.86,2,     0.17,    35.91,2,     0.05,     0.00,2,     0.01,     2.50,2,     0.01,  -999.00,9,  -999.00,    0.002,2,    0.003,2,    0.000,2,    0.000,2,   2323.2,2,   2415.6,2,   -999.0,9,   7.5806,       25,6, -999.000,9,    39.37,2, -999.000,9, -999.000,   -999.0,9,   -999.0, -999.000,9, -999.000, -999.000,9, -999.000,   -999.0,9,   -999.0, -999.000,9, -999.000,9, -999.000,9
  49NZ20140717,   P01,    51,  1,      6, X12J06,2,20140721,0353, 40.6351, 147.2050, 5302,   4749.9,2,   1.4910,2,   1.49109,2,  34.6887,2,  34.6880,2,  34.8717,2,   157.12,2,   157.02,2,   99.969,   0.0012,2,   -0.004,2,  -999.00,9,   -1.764,4,    0.000,2,   149.42,2,     0.17,    35.75,2,     0.05,     0.00,2,     0.01,     2.49,2,     0.01,  -999.00,9,  -999.00,    0.003,2,    0.003,2,    0.000,2,    0.000,2,   2320.5,2,   2416.7,6,   -999.0,9,   7.5841,       25,2, -999.000,9,    39.54,2, -999.000,9, -999.000,   -999.0,9,   -999.0, -999.000,9, -999.000, -999.000,9, -999.000,   -999.0,9,   -999.0, -999.000,9, -999.000,9, -999.000,9
  49NZ20140717,   P01,    51,  1,      5, X12J05,2,20140721,0353, 40.6351, 147.2050, 5302,   4999.7,2,   1.5107,2,   1.51084,2,  34.6898,2,  34.6889,2,  34.8717,2,   158.46,2,   158.51,2,   99.892,   0.0043,2,   -0.004,2,  -999.00,9,   -1.864,4,    0.000,2,   149.05,2,     0.17,    35.64,2,     0.05,     0.00,2,     0.01,     2.48,2,     0.01,  -999.00,9,  -999.00,    0.003,2,    0.003,2,    0.000,2,    0.000,2,   2319.1,2,   2414.9,2,   -999.0,9,   7.5862,       25,2, -999.000,9,    39.27,2, -999.000,9, -999.000,   -999.0,9,   -999.0, -999.000,9, -999.000, -999.000,9, -999.000,   -999.0,9,   -999.0, -999.000,9, -999.000,9, -999.000,9
  49NZ20140717,   P01,    51,  1,      4, X12J04,2,20140721,0353, 40.6351, 147.2050, 5302,   5248.7,2,   1.5339,2,   1.53375,2,  34.6904,2,  34.6906,2,  34.8730,2,   159.75,2,   159.90,2,   99.700,   0.0120,2,   -0.004,2,  -999.00,9,   -1.900,4,    0.000,2,   147.66,2,     0.17,    35.56,2,     0.05,     0.00,2,     0.01,     2.48,2,     0.01,  -999.00,9,  -999.00,    0.006,2,    0.004,2,    0.000,2,    0.000,2,   2318.0,2,   2415.0,2,   -999.0,9,   7.5885,       25,2, -999.000,9,    39.42,2, -999.000,9, -999.000,   -999.0,9,   -999.0, -999.000,9, -999.000, -999.000,9, -999.000,   -999.0,9,   -999.0, -999.000,9, -999.000,9, -999.000,9
  49NZ20140717,   P01,    51,  1,      3, X12J03,9,20140721,0353, 40.6351, 147.2050, 5302,   -999.0,9,-999.0000,9,-999.00000,9,-999.0000,9,-999.0000,9,-999.0000,9,  -999.00,9,  -999.00,9, -999.000,-999.0000,9, -999.000,9,  -999.00,9, -999.000,9, -999.000,9,  -999.00,9,  -999.00,  -999.00,9,  -999.00,  -999.00,9,  -999.00,  -999.00,9,  -999.00,  -999.00,9,  -999.00, -999.000,9, -999.000,9, -999.000,9, -999.000,9,   -999.0,9,   -999.0,9,   -999.0,9,-999.0000,     -999,9, -999.000,9,  -999.00,9, -999.000,9, -999.000,   -999.0,9,   -999.0, -999.000,9, -999.000, -999.000,9, -999.000,   -999.0,9,   -999.0, -999.000,9, -999.000,9, -999.000,9
  49NZ20140717,   P01,    51,  1,      2, X12J02,2,20140721,0353, 40.6351, 147.2050, 5302,   3501.8,2,   1.5129,2,   1.51300,2,  34.6721,2,  34.6715,2,  34.8546,2,   137.09,2,   136.81,2,   99.954,   0.0018,2,   -0.003,2,  -999.00,9,    2.114,4,    0.000,2,   154.22,2,     0.17,    37.11,2,     0.05,     0.00,2,     0.01,     2.60,2,     0.01,  -999.00,9,  -999.00,    0.000,2,    0.000,2,    0.000,2,    0.000,2,   2335.0,2,   2418.3,2,   -999.0,9,   7.5524,       25,2, -999.000,9,    42.29,3, -999.000,9, -999.000,   -999.0,9,   -999.0, -999.000,9, -999.000, -999.000,9, -999.000,   -999.0,9,   -999.0, -999.000,9, -999.000,9, -999.000,9
  49NZ20140717,   P01,    51,  1,      1, X12J01,2,20140721,0353, 40.6351, 147.2050, 5302,   5381.5,2,   1.5476,2,   1.54753,2,  34.6909,2,  34.6905,2,  34.8750,2,   159.41,2,   159.64,2,   99.295,   0.0283,2,   -0.003,2,  -999.00,9,   -1.193,4,    0.000,2,   148.31,2,     0.17,    35.42,2,     0.05,     0.01,2,     0.01,     2.48,2,     0.01,  -999.00,9,  -999.00,    0.003,2,    0.001,2,    0.000,2,    0.000,2,   2318.5,2,   2414.0,2,   -999.0,9,   7.5871,       25,2, -999.000,9,    37.73,2, -999.000,9, -999.000,   -999.0,9,   -999.0, -999.000,9, -999.000, -999.000,9, -999.000,   -999.0,9,   -999.0, -999.000,9, -999.000,9, -999.000,9