BOTTLE,20230904JAMSTECRIGC
EXPOCODE,SECT,STNNBR,CASTNO,SAMPNO,BTLNBR,BTLNBR_FLAG_W,DATE,TIME,LATITUDE,LONGITUDE,DEPTH,CTDPRS,CTDPRS_FLAG_W,CTDTMP,CTDTMP_FLAG_W,SBE35,SBE35_FLAG_W,CTDSAL,CTDSAL_FLAG_W,SALNTY,SALNTY_FLAG_W,DNSSAL,DNSSAL_FLAG_W,CTDOXY,CTDOXY_FLAG_W,OXYGEN,OXYGEN_FLAG_W,XMISS,XMISSCP,XMISS_FLAG_W,FLUOR,FLUOR_FLAG_W,CHLORA,CHLORA_FLAG_W,CDOM,CDOM_FLAG_W,PAR,PAR_FLAG_W,SILCAT,SILCAT_FLAG_W,SILUNC,NITRAT,NITRAT_FLAG_W,NRAUNC,NITRIT,NITRIT_FLAG_W,NRIUNC,PHSPHT,PHSPHT_FLAG_W,PHPUNC,AMMONIA,AMMONIA_FLAG_W,NH4UNC,CFC-11,CFC-11_FLAG_W,CFC-12,CFC-12_FLAG_W,CFC113,CFC113_FLAG_W,SF6,SF6_FLAG_W,TCARBN,TCARBN_FLAG_W,ALKALI,ALKALI_FLAG_W,ALKALI_POT,ALKALI_POT_FLAG_W,PH_TOT,PH_TMP,PH_TOT_FLAG_W,CALCIUM,CALCIUM_FLAG_W,DOC,DOC_FLAG_W,DELC13,DELC13_FLAG_W,C13ERR,DELC14,DELC14_FLAG_W,C14ERR,CS-134,CS-134_FLAG_W,CS134ER,CS-137,CS-137_FLAG_W,CS137ER,I-129,I-129_FLAG_W,I-129ER,CDOM-325,CDOM-325_FLAG_W,CDOM-370,CDOM-370_FLAG_W,CDOM-443,CDOM-443_FLAG_W
,,,,,,,,UTC,DEG,DEG,METERS,DBAR,,ITS-90,,ITS-90,,PSS-78,,PSS-78,,G/KG,,UMOL/KG,,UMOL/KG,,%TRANS,/METER,,MG/CUM,,MG/CUM,,MG/CUM,,UE/SQM/S,,UMOL/KG,,UMOL/KG,UMOL/KG,,UMOL/KG,UMOL/KG,,UMOL/KG,UMOL/KG,,UMOL/KG,UMOL/KG,,UMOL/KG,PMOL/KG,,PMOL/KG,,PMOL/KG,,FMOL/KG,,UMOL/KG,,UMOL/KG,,UMOL/KG,,,DEG C,,MMOL/KG,,UMOL/KG,,/MILLE,,/MILLE,/MILLE,,/MILLE,MBQ/KG,,MBQ/KG,MBQ/KG,,MBQ/KG,,,,/METER,,/METER,,/METER,
  49NZ20140717,   P01,    97,  1,      9, X12J09,2,20140804,1825, 46.9859,-179.4263, 5740,   4081.5,2,   1.4722,2,   1.47234,2,  34.6822,2,  34.6822,2,-999.0000,9,   146.34,2,   146.09,2,   99.974,   0.0010,2,    0.002,2,  -999.00,9,    2.342,4,    0.000,2,   157.26,2,     0.17,    36.53,2,     0.05,     0.00,2,     0.01,     2.55,2,     0.01,     0.01,2,     0.01,    0.000,2,    0.000,2,    0.000,2,    0.000,2,   2331.0,2,   2418.5,2,   -999.0,9,   7.5635,       25,4, -999.000,9,    37.66,2, -999.000,9, -999.000,   -999.0,9,   -999.0, -999.000,9, -999.000, -999.000,9, -999.000,   -999.0,9,   -999.0, -999.000,9, -999.000,9, -999.000,9
  49NZ20140717,   P01,    97,  1,      8, X12J08,2,20140804,1825, 46.9859,-179.4263, 5740,   4330.3,2,   1.4785,2,   1.47864,2,  34.6848,2,  34.6848,2,-999.0000,9,   149.54,2,   149.17,2,   99.974,   0.0010,2,    0.002,2,  -999.00,9,   -1.141,4,    0.000,2,   157.39,2,     0.17,    36.29,2,     0.05,     0.00,2,     0.01,     2.53,2,     0.01,     0.01,2,     0.01,    0.000,2,    0.000,2,    0.000,2,    0.000,2,   2329.8,6,   2421.5,2,   -999.0,9,   7.5698,       25,4, -999.000,9,    36.89,2, -999.000,9, -999.000,   -999.0,9,   -999.0, -999.000,9, -999.000, -999.000,9, -999.000,   -999.0,9,   -999.0, -999.000,9, -999.000,9, -999.000,9
  49NZ20140717,   P01,    97,  1,      7, X12J07,2,20140804,1825, 46.9859,-179.4263, 5740,   4579.6,2,   1.4956,2,   1.49565,2,  34.6864,2,  34.6863,2,-999.0000,9,   150.96,2,   150.65,2,   99.980,   0.0008,2,    0.002,2,  -999.00,9,   -1.592,4,    0.000,2,   158.54,2,     0.17,    36.19,2,     0.05,     0.00,2,     0.01,     2.52,2,     0.01,     0.02,2,     0.01,    0.000,2,    0.000,2,    0.000,2,    0.000,2,   2329.6,2,   2420.0,2,   -999.0,9,   7.5738,       25,4, -999.000,9,    39.99,2, -999.000,9, -999.000,   -999.0,9,   -999.0, -999.000,9, -999.000, -999.000,9, -999.000,   -999.0,9,   -999.0, -999.000,9, -999.000,9, -999.000,9
  49NZ20140717,   P01,    97,  1,      6, X12J06,2,20140804,1825, 46.9859,-179.4263, 5740,   4829.6,2,   1.5191,2,   1.51928,2,  34.6874,2,  34.6872,2,-999.0000,9,   151.90,2,   151.57,2,   99.989,   0.0004,2,    0.002,2,  -999.00,9,  497.217,4,    0.000,2,   159.32,2,     0.17,    36.16,2,     0.05,     0.00,2,     0.01,     2.52,2,     0.01,     0.02,2,     0.01,    0.001,2,    0.001,2,    0.001,2,    0.000,2,   2327.4,2,   2421.2,6,   -999.0,9,   7.5760,       25,4, -999.000,9,    38.76,2, -999.000,9, -999.000,   -999.0,9,   -999.0, -999.000,9, -999.000, -999.000,9, -999.000,   -999.0,9,   -999.0, -999.000,9, -999.000,9, -999.000,9
  49NZ20140717,   P01,    97,  1,      5, X12J05,2,20140804,1825, 46.9859,-179.4263, 5740,   5081.0,2,   1.5485,2,   1.54853,2,  34.6875,2,  34.6871,2,-999.0000,9,   152.22,2,   152.01,2,  100.000,   0.0000,2,    0.002,2,  -999.00,9,  497.217,4,    0.000,2,   159.49,2,     0.17,    36.17,2,     0.05,     0.00,2,     0.01,     2.51,2,     0.01,     0.01,2,     0.01,    0.001,2,    0.000,2,    0.000,2,    0.000,2,   2328.5,2,   2422.3,2,   -999.0,9,   7.5765,       25,4, -999.000,9,    40.05,2, -999.000,9, -999.000,   -999.0,9,   -999.0, -999.000,9, -999.000, -999.000,9, -999.000,   -999.0,9,   -999.0,    0.253,2,    0.144,2,    0.067,2
  49NZ20140717,   P01,    97,  1,      4, X12J04,2,20140804,1825, 46.9859,-179.4263, 5740,   5329.8,2,   1.5781,2,   1.57803,2,  34.6877,2,  34.6876,2,-999.0000,9,   152.75,2,   152.66,2,   99.939,   0.0024,2,    0.002,2,  -999.00,9,  497.217,4,    0.000,2,   159.36,2,     0.17,    36.10,2,     0.05,     0.00,2,     0.01,     2.51,2,     0.01,     0.00,2,     0.01,    0.001,2,    0.001,2,    0.000,2,    0.000,2,   2326.9,2,   2421.7,2,   -999.0,9,   7.5775,       25,4, -999.000,9,    39.32,2, -999.000,9, -999.000,   -999.0,9,   -999.0, -999.000,9, -999.000, -999.000,9, -999.000,   -999.0,9,   -999.0, -999.000,9, -999.000,9, -999.000,9
  49NZ20140717,   P01,    97,  1,      3, X12J03,2,20140804,1825, 46.9859,-179.4263, 5740,   5580.5,2,   1.6099,2,   1.60971,2,  34.6878,2,  34.6877,2,-999.0000,9,   152.90,2,   153.08,2,   99.876,   0.0050,2,    0.001,2,  -999.00,9,  497.217,4,    0.000,2,   158.89,2,     0.17,    36.03,2,     0.05,     0.00,2,     0.01,     2.51,2,     0.01,     0.00,2,     0.01,    0.001,2,    0.001,2,    0.000,2,    0.000,2,   2326.9,2,   2421.0,2,   -999.0,9,   7.5778,       25,4, -999.000,9,    40.00,2, -999.000,9, -999.000,   -999.0,9,   -999.0, -999.000,9, -999.000, -999.000,9, -999.000,   -999.0,9,   -999.0, -999.000,9, -999.000,9, -999.000,9
  49NZ20140717,   P01,    97,  1,      2, X12J02,2,20140804,1825, 46.9859,-179.4263, 5740,     10.3,2,  11.5634,2,  11.56324,2,  32.9204,2,-999.0000,9,-999.0000,9,   283.21,2,  -999.00,9,   96.598,   0.1384,2,    0.337,2,  -999.00,9,   -0.302,1,  103.404,2,  -999.00,9,  -999.00,  -999.00,9,  -999.00,  -999.00,9,  -999.00,  -999.00,9,  -999.00,  -999.00,9,  -999.00, -999.000,9, -999.000,9, -999.000,9, -999.000,9,   -999.0,9,   -999.0,9,   -999.0,9,-999.0000,     -999,9, -999.000,9,  -999.00,9, -999.000,9, -999.000,   -999.0,9,   -999.0, -999.000,9, -999.000, -999.000,9, -999.000,   -999.0,9,   -999.0, -999.000,9, -999.000,9, -999.000,9
  49NZ20140717,   P01,    97,  1,      1, X12J01,2,20140804,1825, 46.9859,-179.4263, 5740,   5846.1,2,   1.6449,2,   1.64477,2,  34.6878,2,  34.6883,2,-999.0000,9,   153.01,2,   153.23,2,   99.818,   0.0073,2,    0.002,2,  -999.00,9,  494.380,4,    0.000,2,   158.85,2,     0.17,    36.02,2,     0.05,     0.00,2,     0.01,     2.51,2,     0.01,     0.00,2,     0.01,    0.000,2,    0.001,2,    0.001,2,    0.000,2,   2325.9,2,   2418.6,2,   -999.0,9,   7.6839,       25,4, -999.000,9,    37.80,2, -999.000,9, -999.000,   -999.0,9,   -999.0, -999.000,9, -999.000, -999.000,9, -999.000,   -999.0,9,   -999.0,    0.197,2,    0.099,2,    0.038,2