BOTTLE,20230904JAMSTECRIGC
EXPOCODE,SECT,STNNBR,CASTNO,SAMPNO,BTLNBR,BTLNBR_FLAG_W,DATE,TIME,LATITUDE,LONGITUDE,DEPTH,CTDPRS,CTDPRS_FLAG_W,CTDTMP,CTDTMP_FLAG_W,SBE35,SBE35_FLAG_W,CTDSAL,CTDSAL_FLAG_W,SALNTY,SALNTY_FLAG_W,DNSSAL,DNSSAL_FLAG_W,CTDOXY,CTDOXY_FLAG_W,OXYGEN,OXYGEN_FLAG_W,XMISS,XMISSCP,XMISS_FLAG_W,FLUOR,FLUOR_FLAG_W,CHLORA,CHLORA_FLAG_W,CDOM,CDOM_FLAG_W,PAR,PAR_FLAG_W,SILCAT,SILCAT_FLAG_W,SILUNC,NITRAT,NITRAT_FLAG_W,NRAUNC,NITRIT,NITRIT_FLAG_W,NRIUNC,PHSPHT,PHSPHT_FLAG_W,PHPUNC,AMMONIA,AMMONIA_FLAG_W,NH4UNC,CFC-11,CFC-11_FLAG_W,CFC-12,CFC-12_FLAG_W,CFC113,CFC113_FLAG_W,SF6,SF6_FLAG_W,TCARBN,TCARBN_FLAG_W,ALKALI,ALKALI_FLAG_W,ALKALI_POT,ALKALI_POT_FLAG_W,PH_TOT,PH_TMP,PH_TOT_FLAG_W,CALCIUM,CALCIUM_FLAG_W,DOC,DOC_FLAG_W,DELC13,DELC13_FLAG_W,C13ERR,DELC14,DELC14_FLAG_W,C14ERR,CS-134,CS-134_FLAG_W,CS134ER,CS-137,CS-137_FLAG_W,CS137ER,I-129,I-129_FLAG_W,I-129ER,CDOM-325,CDOM-325_FLAG_W,CDOM-370,CDOM-370_FLAG_W,CDOM-443,CDOM-443_FLAG_W
,,,,,,,,UTC,DEG,DEG,METERS,DBAR,,ITS-90,,ITS-90,,PSS-78,,PSS-78,,G/KG,,UMOL/KG,,UMOL/KG,,%TRANS,/METER,,MG/CUM,,MG/CUM,,MG/CUM,,UE/SQM/S,,UMOL/KG,,UMOL/KG,UMOL/KG,,UMOL/KG,UMOL/KG,,UMOL/KG,UMOL/KG,,UMOL/KG,UMOL/KG,,UMOL/KG,PMOL/KG,,PMOL/KG,,PMOL/KG,,FMOL/KG,,UMOL/KG,,UMOL/KG,,UMOL/KG,,,DEG C,,MMOL/KG,,UMOL/KG,,/MILLE,,/MILLE,/MILLE,,/MILLE,MBQ/KG,,MBQ/KG,MBQ/KG,,MBQ/KG,,,,/METER,,/METER,,/METER,
  49NZ20140717,   P01,   127,  1,      0,   -999,9,20140815,1333, 46.9937,-145.8070, 4806,   -999.0,9,-999.0000,9,-999.00000,9,-999.0000,9,  32.6709,2,-999.0000,9,  -999.00,9,  -999.00,9, -999.000,-999.0000,9, -999.000,9,  -999.00,9, -999.000,9, -999.000,9,     5.14,2,     0.09,     2.81,2,     0.01,     0.05,2,     0.01,     0.56,2,     0.01,  -999.00,9,  -999.00, -999.000,9, -999.000,9, -999.000,9, -999.000,9,   -999.0,9,   -999.0,9,   -999.0,9,-999.0000,     -999,9, -999.000,9,  -999.00,9, -999.000,9, -999.000,   -999.0,9,   -999.0, -999.000,9, -999.000, -999.000,9, -999.000,   -999.0,9,   -999.0, -999.000,9, -999.000,9, -999.000,9
  49NZ20140717,   P01,   127,  1,     36, X12J36,2,20140815,1333, 46.9937,-145.8070, 4806,     10.4,2,  15.4378,2,  15.43921,2,  32.6609,2,  32.6649,2,-999.0000,9,   256.85,2,   256.87,2,   97.081,   0.1185,2,    0.304,2,  -999.00,9,   -0.758,1,   29.590,2,     5.12,2,     0.09,     2.77,2,     0.01,     0.04,2,     0.01,     0.55,2,     0.01,  -999.00,9,  -999.00,    2.778,2,    1.667,2,    0.331,2, -999.000,9,   -999.0,9,   -999.0,9,   -999.0,9,-999.0000,     -999,9, -999.000,9,  -999.00,9, -999.000,9, -999.000,   -999.0,9,   -999.0, -999.000,9, -999.000, -999.000,9, -999.000,   -999.0,9,   -999.0, -999.000,9, -999.000,9, -999.000,9
  49NZ20140717,   P01,   127,  1,     35, X12J35,2,20140815,1333, 46.9937,-145.8070, 4806,     51.0,2,   9.0569,2,   9.06406,2,  32.8399,2,  32.8615,2,-999.0000,9,   295.24,2,   295.67,2,   98.013,   0.0803,2,    0.307,2,  -999.00,9,    0.552,1,    1.703,2,     8.96,2,     0.09,     6.74,2,     0.02,     0.21,2,     0.01,     0.80,2,     0.01,  -999.00,9,  -999.00,    3.862,2,    2.205,2,    0.418,2, -999.000,9,   -999.0,9,   -999.0,9,   -999.0,9,-999.0000,     -999,9, -999.000,9,  -999.00,9, -999.000,9, -999.000,   -999.0,9,   -999.0, -999.000,9, -999.000, -999.000,9, -999.000,   -999.0,9,   -999.0, -999.000,9, -999.000,9, -999.000,9
  49NZ20140717,   P01,   127,  1,     34, X12J34,2,20140815,1333, 46.9937,-145.8070, 4806,    100.4,2,   7.6901,2,   7.68655,2,  33.2640,2,  33.2912,2,-999.0000,9,   258.69,2,   257.39,2,   99.570,   0.0172,2,    0.159,2,  -999.00,9,    0.675,1,    0.097,2,    17.04,2,     0.09,    14.42,2,     0.03,     0.02,2,     0.01,     1.17,2,     0.01,  -999.00,9,  -999.00,    3.987,2,    2.271,2,    0.364,2, -999.000,9,   -999.0,9,   -999.0,9,   -999.0,9,-999.0000,     -999,9, -999.000,9,  -999.00,9, -999.000,9, -999.000,   -999.0,9,   -999.0, -999.000,9, -999.000, -999.000,9, -999.000,   -999.0,9,   -999.0, -999.000,9, -999.000,9, -999.000,9
  49NZ20140717,   P01,   127,  1,     33, X12J33,2,20140815,1333, 46.9937,-145.8070, 4806,    150.5,2,   7.1359,2,   7.13412,2,  33.8066,2,  33.8082,2,-999.0000,9,   208.43,2,   208.72,2,   99.758,   0.0097,2,    0.026,2,  -999.00,9,    1.531,1,    0.000,2,    31.91,2,     0.10,    21.63,2,     0.03,     0.01,2,     0.01,     1.56,2,     0.01,  -999.00,9,  -999.00,    3.667,2,    2.068,2,    0.273,2, -999.000,9,   -999.0,9,   -999.0,9,   -999.0,9,-999.0000,     -999,9, -999.000,9,  -999.00,9, -999.000,9, -999.000,   -999.0,9,   -999.0, -999.000,9, -999.000, -999.000,9, -999.000,   -999.0,9,   -999.0, -999.000,9, -999.000,9, -999.000,9
  49NZ20140717,   P01,   127,  1,     32, X12J32,2,20140815,1333, 46.9937,-145.8070, 4806,    199.2,2,   6.0684,2,   6.08141,2,  33.8111,2,  33.8092,2,-999.0000,9,   177.06,2,   177.54,2,   99.665,   0.0134,2,    0.021,2,  -999.00,9,    2.004,1,    0.000,2,    45.32,2,     0.10,    26.95,2,     0.04,     0.01,2,     0.01,     1.94,2,     0.01,  -999.00,9,  -999.00,    3.540,2,    1.953,2,    0.249,2, -999.000,9,   -999.0,9,   -999.0,9,   -999.0,9,-999.0000,     -999,9, -999.000,9,  -999.00,9, -999.000,9, -999.000,   -999.0,9,   -999.0, -999.000,9, -999.000, -999.000,9, -999.000,   -999.0,9,   -999.0, -999.000,9, -999.000,9, -999.000,9
  49NZ20140717,   P01,   127,  1,     31, X12J31,2,20140815,1333, 46.9937,-145.8070, 4806,    249.9,2,   4.9905,2,   4.99460,2,  33.7975,2,  33.7959,2,-999.0000,9,   145.68,2,   147.27,2,   99.700,   0.0120,2,    0.020,2,  -999.00,9,    2.397,1,    0.000,2,    58.91,2,     0.11,    31.78,2,     0.04,     0.01,2,     0.01,     2.29,2,     0.01,  -999.00,9,  -999.00,    3.327,2,    1.805,2,    0.246,2, -999.000,9,   -999.0,9,   -999.0,9,   -999.0,9,-999.0000,     -999,9, -999.000,9,  -999.00,9, -999.000,9, -999.000,   -999.0,9,   -999.0, -999.000,9, -999.000, -999.000,9, -999.000,   -999.0,9,   -999.0, -999.000,9, -999.000,9, -999.000,9
  49NZ20140717,   P01,   127,  1,     30, X12J30,2,20140815,1333, 46.9937,-145.8070, 4806,    330.8,2,   4.4555,2,   4.45532,2,  33.8642,2,  33.8650,2,-999.0000,9,   105.22,2,   104.96,2,   99.828,   0.0069,2,    0.022,2,  -999.00,9,    2.578,1,    0.000,2,    74.17,2,     0.12,    36.54,2,     0.05,     0.01,2,     0.01,     2.61,2,     0.01,  -999.00,9,  -999.00,    2.740,2,    1.455,2,    0.201,2, -999.000,9,   -999.0,9,   -999.0,9,   -999.0,9,-999.0000,     -999,9, -999.000,9,  -999.00,9, -999.000,9, -999.000,   -999.0,9,   -999.0, -999.000,9, -999.000, -999.000,9, -999.000,   -999.0,9,   -999.0, -999.000,9, -999.000,9, -999.000,9
  49NZ20140717,   P01,   127,  1,     29, X12J29,2,20140815,1333, 46.9937,-145.8070, 4806,    430.9,2,   4.1478,2,   4.14764,2,  33.9798,2,  33.9773,2,-999.0000,9,    67.57,2,    68.16,2,   99.819,   0.0072,2,    0.020,2,  -999.00,9,    2.830,1,    0.000,2,    89.79,2,     0.13,    39.91,2,     0.05,     0.01,2,     0.01,     2.85,2,     0.01,  -999.00,9,  -999.00,    1.958,2,    1.012,2,    0.120,2, -999.000,9,   -999.0,9,   -999.0,9,   -999.0,9,-999.0000,     -999,9, -999.000,9,  -999.00,9, -999.000,9, -999.000,   -999.0,9,   -999.0, -999.000,9, -999.000, -999.000,9, -999.000,   -999.0,9,   -999.0, -999.000,9, -999.000,9, -999.000,9
  49NZ20140717,   P01,   127,  1,     28, X12J28,2,20140815,1333, 46.9937,-145.8070, 4806,    530.1,2,   3.9320,2,   3.93215,2,  34.0789,2,  34.0793,2,-999.0000,9,    43.68,2,    44.02,2,   99.912,   0.0035,2,    0.021,2,  -999.00,9,    2.945,1,    0.000,2,   103.07,2,     0.14,    41.84,2,     0.05,     0.00,2,     0.01,     2.98,2,     0.01,  -999.00,9,  -999.00,    1.324,2,    0.667,2,    0.085,2, -999.000,9,   -999.0,9,   -999.0,9,   -999.0,9,-999.0000,     -999,9, -999.000,9,  -999.00,9, -999.000,9, -999.000,   -999.0,9,   -999.0, -999.000,9, -999.000, -999.000,9, -999.000,   -999.0,9,   -999.0, -999.000,9, -999.000,9, -999.000,9
  49NZ20140717,   P01,   127,  1,     27, X12J27,2,20140815,1333, 46.9937,-145.8070, 4806,    630.8,2,   3.7681,2,   3.76773,2,  34.1830,2,  34.1825,2,-999.0000,9,    28.98,2,    29.08,2,   99.975,   0.0010,2,    0.020,2,  -999.00,9,    3.055,1,    0.000,2,   114.66,2,     0.15,    42.82,2,     0.05,     0.00,2,     0.01,     3.05,2,     0.01,  -999.00,9,  -999.00,    0.746,2,    0.348,2,    0.034,2, -999.000,9,   -999.0,9,   -999.0,9,   -999.0,9,-999.0000,     -999,9, -999.000,9,  -999.00,9, -999.000,9, -999.000,   -999.0,9,   -999.0, -999.000,9, -999.000, -999.000,9, -999.000,   -999.0,9,   -999.0, -999.000,9, -999.000,9, -999.000,9
  49NZ20140717,   P01,   127,  1,     26, X12J26,2,20140815,1333, 46.9937,-145.8070, 4806,    729.7,2,   3.5316,2,   3.53189,2,  34.2479,2,  34.2472,2,-999.0000,9,    24.59,2,    24.47,2,   99.927,   0.0029,2,    0.020,2,  -999.00,9,    3.143,1,    0.000,2,   123.53,2,     0.15,    43.21,2,     0.05,     0.00,2,     0.01,     3.08,2,     0.01,  -999.00,9,  -999.00,    0.470,2,    0.216,2,    0.014,2, -999.000,9,   -999.0,9,   -999.0,9,   -999.0,9,-999.0000,     -999,9, -999.000,9,  -999.00,9, -999.000,9, -999.000,   -999.0,9,   -999.0, -999.000,9, -999.000, -999.000,9, -999.000,   -999.0,9,   -999.0, -999.000,9, -999.000,9, -999.000,9
  49NZ20140717,   P01,   127,  1,     25, X12J25,2,20140815,1333, 46.9937,-145.8070, 4806,    829.9,2,   3.3141,2,   3.31419,2,  34.2965,2,  34.2976,2,-999.0000,9,    21.37,2,    21.11,2,   99.945,   0.0022,2,    0.019,2,  -999.00,9,    3.152,1,    0.000,2,   131.37,2,     0.16,    43.67,2,     0.06,     0.00,2,     0.01,     3.12,2,     0.01,  -999.00,9,  -999.00,    0.286,2,    0.123,2,    0.008,2, -999.000,9,   -999.0,9,   -999.0,9,   -999.0,9,-999.0000,     -999,9, -999.000,9,  -999.00,9, -999.000,9, -999.000,   -999.0,9,   -999.0, -999.000,9, -999.000, -999.000,9, -999.000,   -999.0,9,   -999.0, -999.000,9, -999.000,9, -999.000,9
  49NZ20140717,   P01,   127,  1,     24, X12J24,2,20140815,1333, 46.9937,-145.8070, 4806,    930.5,2,   3.0966,2,   3.09441,2,  34.3416,2,  34.3419,2,-999.0000,9,    16.88,2,    16.35,2,   99.975,   0.0010,2,    0.019,2,  -999.00,9,    3.209,1,    0.000,2,   138.87,2,     0.16,    44.23,2,     0.06,     0.00,2,     0.01,     3.15,2,     0.01,  -999.00,9,  -999.00,    0.124,2,    0.058,2,    0.000,2, -999.000,9,   -999.0,9,   -999.0,9,   -999.0,9,-999.0000,     -999,9, -999.000,9,  -999.00,9, -999.000,9, -999.000,   -999.0,9,   -999.0, -999.000,9, -999.000, -999.000,9, -999.000,   -999.0,9,   -999.0, -999.000,9, -999.000,9, -999.000,9
  49NZ20140717,   P01,   127,  1,     23, X12J23,2,20140815,1333, 46.9937,-145.8070, 4806,   1070.8,2,   2.8726,2,   2.87273,2,  34.3883,2,  34.3881,2,-999.0000,9,    16.28,2,    15.58,2,   99.917,   0.0033,2,    0.018,2,  -999.00,9,    3.245,1,    0.000,2,   146.67,2,     0.17,    44.49,2,     0.06,     0.00,2,     0.01,     3.17,2,     0.01,  -999.00,9,  -999.00,    0.079,2,    0.035,2,    0.000,2, -999.000,9,   -999.0,9,   -999.0,9,   -999.0,9,-999.0000,     -999,9, -999.000,9,  -999.00,9, -999.000,9, -999.000,   -999.0,9,   -999.0, -999.000,9, -999.000, -999.000,9, -999.000,   -999.0,9,   -999.0, -999.000,9, -999.000,9, -999.000,9
  49NZ20140717,   P01,   127,  1,     22, X12J22,2,20140815,1333, 46.9937,-145.8070, 4806,   1269.3,2,   2.6001,2,   2.60007,2,  34.4472,2,  34.4472,2,-999.0000,9,    15.38,2,    14.29,2,   99.964,   0.0014,2,    0.018,2,  -999.00,9,    3.294,1,    0.000,2,   156.70,2,     0.17,    44.82,2,     0.06,     0.00,2,     0.01,     3.18,2,     0.01,  -999.00,9,  -999.00,    0.018,2,    0.008,2,    0.000,2, -999.000,9,   -999.0,9,   -999.0,9,   -999.0,9,-999.0000,     -999,9, -999.000,9,  -999.00,9, -999.000,9, -999.000,   -999.0,9,   -999.0, -999.000,9, -999.000, -999.000,9, -999.000,   -999.0,9,   -999.0, -999.000,9, -999.000,9, -999.000,9
  49NZ20140717,   P01,   127,  1,     21, X12J21,2,20140815,1333, 46.9937,-145.8070, 4806,   1472.2,2,   2.3597,2,   2.35927,2,  34.4977,2,  34.4977,2,-999.0000,9,    19.46,2,    18.24,2,   99.960,   0.0016,2,    0.017,2,  -999.00,9,    3.346,1,    0.000,2,   164.41,2,     0.18,    44.74,2,     0.06,     0.00,2,     0.01,     3.16,2,     0.01,  -999.00,9,  -999.00,    0.005,2,    0.003,2,    0.000,2, -999.000,9,   -999.0,9,   -999.0,9,   -999.0,9,-999.0000,     -999,9, -999.000,9,  -999.00,9, -999.000,9, -999.000,   -999.0,9,   -999.0, -999.000,9, -999.000, -999.000,9, -999.000,   -999.0,9,   -999.0, -999.000,9, -999.000,9, -999.000,9
  49NZ20140717,   P01,   127,  1,     20, X12J20,2,20140815,1333, 46.9937,-145.8070, 4806,   1671.0,2,   2.1796,2,   2.17971,2,  34.5360,2,  34.5358,2,-999.0000,9,    30.33,2,    29.27,2,   99.958,   0.0017,2,    0.016,2,  -999.00,9,    3.274,1,    0.000,2,   168.86,2,     0.18,    44.18,2,     0.06,     0.00,2,     0.01,     3.11,2,     0.01,  -999.00,9,  -999.00,    0.003,2,    0.002,2,    0.000,2, -999.000,9,   -999.0,9,   -999.0,9,   -999.0,9,-999.0000,     -999,9, -999.000,9,  -999.00,9, -999.000,9, -999.000,   -999.0,9,   -999.0, -999.000,9, -999.000, -999.000,9, -999.000,   -999.0,9,   -999.0, -999.000,9, -999.000,9, -999.000,9
  49NZ20140717,   P01,   127,  1,     19, X12J19,2,20140815,1333, 46.9937,-145.8070, 4806,   1869.3,2,   2.0342,2,   2.03401,2,  34.5672,2,  34.5672,2,-999.0000,9,    43.44,2,    43.07,2,   99.949,   0.0020,2,    0.014,2,  -999.00,9,    3.213,1,    0.000,2,   171.85,2,     0.18,    43.31,2,     0.05,     0.00,2,     0.01,     3.05,2,     0.01,  -999.00,9,  -999.00,    0.004,2,    0.001,2,    0.000,2, -999.000,9,   -999.0,9,   -999.0,9,   -999.0,9,-999.0000,     -999,9, -999.000,9,  -999.00,9, -999.000,9, -999.000,   -999.0,9,   -999.0, -999.000,9, -999.000, -999.000,9, -999.000,   -999.0,9,   -999.0, -999.000,9, -999.000,9, -999.000,9
  49NZ20140717,   P01,   127,  1,     18, X12J18,2,20140815,1333, 46.9937,-145.8070, 4806,   2072.2,2,   1.9158,2,   1.91594,2,  34.5905,2,  34.5909,2,-999.0000,9,    55.84,2,    55.81,2,   99.943,   0.0023,2,    0.013,2,  -999.00,9,    3.132,1,    0.000,2,   173.63,2,     0.18,    42.51,2,     0.05,     0.00,2,     0.01,     2.99,2,     0.01,  -999.00,9,  -999.00,    0.003,2,    0.002,2,    0.000,2, -999.000,9,   -999.0,9,   -999.0,9,   -999.0,9,-999.0000,     -999,9, -999.000,9,  -999.00,9, -999.000,9, -999.000,   -999.0,9,   -999.0, -999.000,9, -999.000, -999.000,9, -999.000,   -999.0,9,   -999.0, -999.000,9, -999.000,9, -999.000,9
  49NZ20140717,   P01,   127,  1,     17, X12J17,2,20140815,1333, 46.9937,-145.8070, 4806,   2271.8,2,   1.8182,2,   1.81793,2,  34.6100,2,  34.6104,2,-999.0000,9,    67.69,2,    67.45,2,   99.953,   0.0019,2,    0.012,2,  -999.00,9,    3.109,1,    0.000,2,   174.63,2,     0.18,    41.81,2,     0.05,     0.00,2,     0.01,     2.94,2,     0.01,  -999.00,9,  -999.00,    0.004,2,    0.004,2,    0.000,2, -999.000,9,   -999.0,9,   -999.0,9,   -999.0,9,-999.0000,     -999,9, -999.000,9,  -999.00,9, -999.000,9, -999.000,   -999.0,9,   -999.0, -999.000,9, -999.000, -999.000,9, -999.000,   -999.0,9,   -999.0, -999.000,9, -999.000,9, -999.000,9
  49NZ20140717,   P01,   127,  1,     16, X12J16,2,20140815,1333, 46.9937,-145.8070, 4806,   2470.3,2,   1.7306,2,   1.73061,2,  34.6254,2,  34.6259,2,-999.0000,9,    79.75,2,    79.71,2,   99.973,   0.0011,2,    0.011,2,  -999.00,9,    2.975,1,    0.000,2,   174.35,2,     0.18,    41.02,2,     0.05,     0.00,2,     0.01,     2.88,2,     0.01,  -999.00,9,  -999.00,    0.002,2,    0.001,2,    0.000,2, -999.000,9,   -999.0,9,   -999.0,9,   -999.0,9,-999.0000,     -999,9, -999.000,9,  -999.00,9, -999.000,9, -999.000,   -999.0,9,   -999.0, -999.000,9, -999.000, -999.000,9, -999.000,   -999.0,9,   -999.0, -999.000,9, -999.000,9, -999.000,9
  49NZ20140717,   P01,   127,  1,     15, X12J15,2,20140815,1333, 46.9937,-145.8070, 4806,   2671.2,2,   1.6549,2,   1.65476,2,  34.6389,2,  34.6393,2,-999.0000,9,    91.69,2,    91.74,2,   99.999,   0.0000,2,    0.010,2,  -999.00,9,    2.899,1,    0.000,2,   172.49,2,     0.18,    40.15,2,     0.05,     0.00,2,     0.01,     2.81,2,     0.01,  -999.00,9,  -999.00,    0.000,2,    0.002,2,    0.000,2, -999.000,9,   -999.0,9,   -999.0,9,   -999.0,9,-999.0000,     -999,9, -999.000,9,  -999.00,9, -999.000,9, -999.000,   -999.0,9,   -999.0, -999.000,9, -999.000, -999.000,9, -999.000,   -999.0,9,   -999.0, -999.000,9, -999.000,9, -999.000,9
  49NZ20140717,   P01,   127,  1,     14, X12J14,2,20140815,1333, 46.9937,-145.8070, 4806,   2869.9,2,   1.5957,2,   1.59573,2,  34.6500,2,  34.6505,2,-999.0000,9,   102.64,2,   102.74,2,  100.012,  -0.0005,2,    0.009,2,  -999.00,9,    2.854,1,    0.000,2,   171.59,2,     0.18,    39.48,2,     0.05,     0.00,2,     0.01,     2.76,2,     0.01,  -999.00,9,  -999.00,    0.001,2,    0.000,2,    0.000,2, -999.000,9,   -999.0,9,   -999.0,9,   -999.0,9,-999.0000,     -999,9, -999.000,9,  -999.00,9, -999.000,9, -999.000,   -999.0,9,   -999.0, -999.000,9, -999.000, -999.000,9, -999.000,   -999.0,9,   -999.0, -999.000,9, -999.000,9, -999.000,9
  49NZ20140717,   P01,   127,  1,     13, X12113,2,20140815,1333, 46.9937,-145.8070, 4806,   3082.9,2,   1.5494,2,   1.54930,2,  34.6592,2,  34.6595,2,-999.0000,9,   112.64,2,   112.78,2,   99.992,   0.0003,2,    0.008,2,  -999.00,9,    2.754,1,    0.000,2,   170.59,2,     0.18,    38.86,2,     0.05,     0.00,2,     0.01,     2.72,2,     0.01,  -999.00,9,  -999.00,    0.002,2,    0.000,2,    0.000,2, -999.000,9,   -999.0,9,   -999.0,9,   -999.0,9,-999.0000,     -999,9, -999.000,9,  -999.00,9, -999.000,9, -999.000,   -999.0,9,   -999.0, -999.000,9, -999.000, -999.000,9, -999.000,   -999.0,9,   -999.0, -999.000,9, -999.000,9, -999.000,9
  49NZ20140717,   P01,   127,  1,     12, X12J12,2,20140815,1333, 46.9937,-145.8070, 4806,   3329.4,2,   1.5129,2,   1.51296,2,  34.6675,2,  34.6678,2,-999.0000,9,   122.29,2,   122.01,2,   99.992,   0.0003,2,    0.007,2,  -999.00,9,    2.694,1,    0.000,2,   168.93,2,     0.18,    38.26,2,     0.05,     0.00,2,     0.01,     2.67,2,     0.01,  -999.00,9,  -999.00,    0.001,2,    0.000,2,    0.000,2, -999.000,9,   -999.0,9,   -999.0,9,   -999.0,9,-999.0000,     -999,9, -999.000,9,  -999.00,9, -999.000,9, -999.000,   -999.0,9,   -999.0, -999.000,9, -999.000, -999.000,9, -999.000,   -999.0,9,   -999.0, -999.000,9, -999.000,9, -999.000,9
  49NZ20140717,   P01,   127,  1,     11, X12J11,2,20140815,1333, 46.9937,-145.8070, 4806,   3582.8,2,   1.4927,2,   1.49281,2,  34.6739,2,  34.6740,2,-999.0000,9,   129.67,2,   129.40,2,  100.010,  -0.0004,2,    0.007,2,  -999.00,9,    2.647,1,    0.000,2,   168.55,2,     0.18,    37.75,2,     0.05,     0.00,2,     0.01,     2.64,2,     0.01,  -999.00,9,  -999.00,    0.003,2,    0.000,2,    0.000,2, -999.000,9,   -999.0,9,   -999.0,9,   -999.0,9,-999.0000,     -999,9, -999.000,9,  -999.00,9, -999.000,9, -999.000,   -999.0,9,   -999.0, -999.000,9, -999.000, -999.000,9, -999.000,   -999.0,9,   -999.0, -999.000,9, -999.000,9, -999.000,9
  49NZ20140717,   P01,   127,  1,     10, X12J10,2,20140815,1333, 46.9937,-145.8070, 4806,   3829.5,2,   1.4900,2,   1.48991,2,  34.6779,2,  34.6782,2,-999.0000,9,   134.19,2,   134.22,2,  100.003,  -0.0001,2,    0.006,2,  -999.00,9,    2.605,1,    0.000,2,   169.29,2,     0.18,    37.48,2,     0.05,     0.00,2,     0.01,     2.61,2,     0.01,  -999.00,9,  -999.00,    0.001,2,    0.001,2,    0.000,2, -999.000,9,   -999.0,9,   -999.0,9,   -999.0,9,-999.0000,     -999,9, -999.000,9,  -999.00,9, -999.000,9, -999.000,   -999.0,9,   -999.0, -999.000,9, -999.000, -999.000,9, -999.000,   -999.0,9,   -999.0, -999.000,9, -999.000,9, -999.000,9