BOTTLE,20230904JAMSTECRIGC
EXPOCODE,SECT,STNNBR,CASTNO,SAMPNO,BTLNBR,BTLNBR_FLAG_W,DATE,TIME,LATITUDE,LONGITUDE,DEPTH,CTDPRS,CTDPRS_FLAG_W,CTDTMP,CTDTMP_FLAG_W,SBE35,SBE35_FLAG_W,CTDSAL,CTDSAL_FLAG_W,SALNTY,SALNTY_FLAG_W,DNSSAL,DNSSAL_FLAG_W,CTDOXY,CTDOXY_FLAG_W,OXYGEN,OXYGEN_FLAG_W,XMISS,XMISSCP,XMISS_FLAG_W,FLUOR,FLUOR_FLAG_W,CHLORA,CHLORA_FLAG_W,CDOM,CDOM_FLAG_W,PAR,PAR_FLAG_W,SILCAT,SILCAT_FLAG_W,SILUNC,NITRAT,NITRAT_FLAG_W,NRAUNC,NITRIT,NITRIT_FLAG_W,NRIUNC,PHSPHT,PHSPHT_FLAG_W,PHPUNC,AMMONIA,AMMONIA_FLAG_W,NH4UNC,CFC-11,CFC-11_FLAG_W,CFC-12,CFC-12_FLAG_W,CFC113,CFC113_FLAG_W,SF6,SF6_FLAG_W,TCARBN,TCARBN_FLAG_W,ALKALI,ALKALI_FLAG_W,ALKALI_POT,ALKALI_POT_FLAG_W,PH_TOT,PH_TMP,PH_TOT_FLAG_W,CALCIUM,CALCIUM_FLAG_W,DOC,DOC_FLAG_W,DELC13,DELC13_FLAG_W,C13ERR,DELC14,DELC14_FLAG_W,C14ERR,CS-134,CS-134_FLAG_W,CS134ER,CS-137,CS-137_FLAG_W,CS137ER,I-129,I-129_FLAG_W,I-129ER,CDOM-325,CDOM-325_FLAG_W,CDOM-370,CDOM-370_FLAG_W,CDOM-443,CDOM-443_FLAG_W
,,,,,,,,UTC,DEG,DEG,METERS,DBAR,,ITS-90,,ITS-90,,PSS-78,,PSS-78,,G/KG,,UMOL/KG,,UMOL/KG,,%TRANS,/METER,,MG/CUM,,MG/CUM,,MG/CUM,,UE/SQM/S,,UMOL/KG,,UMOL/KG,UMOL/KG,,UMOL/KG,UMOL/KG,,UMOL/KG,UMOL/KG,,UMOL/KG,UMOL/KG,,UMOL/KG,PMOL/KG,,PMOL/KG,,PMOL/KG,,FMOL/KG,,UMOL/KG,,UMOL/KG,,UMOL/KG,,,DEG C,,MMOL/KG,,UMOL/KG,,/MILLE,,/MILLE,/MILLE,,/MILLE,MBQ/KG,,MBQ/KG,MBQ/KG,,MBQ/KG,,,,/METER,,/METER,,/METER,
  49NZ20140717,   P01,    47,  1,      9, X12J09,2,20140718,1236, 41.6415, 146.5147, 6035,   3919.8,2,   1.5004,2,   1.50045,2,  34.6781,2,  34.6774,2,-999.0000,9,   144.27,2,   143.77,2, -999.000,-999.0000,9, -999.000,9,  -999.00,9, -999.000,9,    0.000,2,   152.83,2,     0.17,    36.64,2,     0.05,     0.00,2,     0.01,     2.55,2,     0.01,     0.08,2,     0.02,    0.000,2,    0.000,2,    0.000,2, -999.000,9,   2334.2,2,   2415.7,2,   -999.0,9,   7.5641,       25,2, -999.000,9,    39.39,2, -999.000,9, -999.000,   -999.0,9,   -999.0, -999.000,9, -999.000, -999.000,9, -999.000,   -999.0,9,   -999.0, -999.000,9, -999.000,9, -999.000,9
  49NZ20140717,   P01,    47,  1,      8, X12J08,2,20140718,1236, 41.6415, 146.5147, 6035,   4171.2,2,   1.4969,2,   1.49690,2,  34.6813,2,  34.6803,2,-999.0000,9,   148.32,2,   147.82,2, -999.000,-999.0000,9, -999.000,9,  -999.00,9, -999.000,9,    0.000,2,   151.71,2,     0.17,    36.37,2,     0.05,     0.00,2,     0.01,     2.53,2,     0.01,  -999.00,9,  -999.00,    0.000,2,    0.000,2,    0.000,2, -999.000,9,   2330.2,6,   2418.3,2,   -999.0,9,   7.5706,       25,2, -999.000,9,    37.88,2, -999.000,9, -999.000,   -999.0,9,   -999.0, -999.000,9, -999.000, -999.000,9, -999.000,   -999.0,9,   -999.0, -999.000,9, -999.000,9, -999.000,9
  49NZ20140717,   P01,    47,  1,      7, X12J07,2,20140718,1236, 41.6415, 146.5147, 6035,   4421.2,2,   1.4979,2,   1.49784,2,  34.6839,2,  34.6835,2,-999.0000,9,   151.86,2,   151.28,2, -999.000,-999.0000,9, -999.000,9,  -999.00,9, -999.000,9,    0.000,2,   151.00,2,     0.17,    36.11,2,     0.05,     0.00,2,     0.01,     2.52,2,     0.01,     0.00,2,     0.01,    0.000,2,    0.000,2,    0.000,2, -999.000,9,   2328.5,2,   2419.1,3,   -999.0,9,   7.5762,       25,6, -999.000,9,    39.21,2, -999.000,9, -999.000,   -999.0,9,   -999.0, -999.000,9, -999.000, -999.000,9, -999.000,   -999.0,9,   -999.0, -999.000,9, -999.000,9, -999.000,9
  49NZ20140717,   P01,    47,  1,      6, X12J06,2,20140718,1236, 41.6415, 146.5147, 6035,   4671.0,2,   1.5031,2,   1.50301,2,  34.6864,2,  34.6856,2,-999.0000,9,   155.12,2,   154.39,2, -999.000,-999.0000,9, -999.000,9,  -999.00,9, -999.000,9,    0.000,2,   150.11,2,     0.17,    35.90,2,     0.05,     0.00,2,     0.01,     2.50,2,     0.01,  -999.00,9,  -999.00,    0.000,2,    0.000,2,    0.000,2, -999.000,9,   2325.5,2,   2415.5,2,   -999.0,9,   7.5811,       25,2, -999.000,9,    38.96,2, -999.000,9, -999.000,   -999.0,9,   -999.0, -999.000,9, -999.000, -999.000,9, -999.000,   -999.0,9,   -999.0, -999.000,9, -999.000,9, -999.000,9
  49NZ20140717,   P01,    47,  1,      5, X12J05,2,20140718,1236, 41.6415, 146.5147, 6035,   4919.9,2,   1.5182,2,   1.51803,2,  34.6879,2,  34.6869,2,-999.0000,9,   157.25,2,   156.53,2, -999.000,-999.0000,9, -999.000,9,  -999.00,9, -999.000,9,    0.000,2,   149.74,2,     0.17,    35.77,2,     0.05,     0.00,2,     0.01,     2.49,2,     0.01,     0.00,2,     0.01,    0.000,2,    0.000,2,    0.000,2, -999.000,9,   2323.5,2,   2415.6,2,   -999.0,9,   7.5845,       25,2, -999.000,9,    39.48,2, -999.000,9, -999.000,   -999.0,9,   -999.0, -999.000,9, -999.000, -999.000,9, -999.000,   -999.0,9,   -999.0, -999.000,9, -999.000,9, -999.000,9
  49NZ20140717,   P01,    47,  1,      4, X12J04,2,20140718,1236, 41.6415, 146.5147, 6035,   5169.8,2,   1.5398,2,   1.53966,2,  34.6889,2,  34.6886,2,-999.0000,9,   158.53,2,   157.85,2, -999.000,-999.0000,9, -999.000,9,  -999.00,9, -999.000,9,    0.000,2,   149.28,2,     0.17,    35.68,2,     0.05,     0.00,2,     0.01,     2.48,2,     0.01,  -999.00,9,  -999.00,    0.001,2,    0.000,2,    0.000,2, -999.000,9,   2321.8,2,   2413.6,2,   -999.0,9,   7.5866,       25,2, -999.000,9,    41.55,2, -999.000,9, -999.000,   -999.0,9,   -999.0, -999.000,9, -999.000, -999.000,9, -999.000,   -999.0,9,   -999.0, -999.000,9, -999.000,9, -999.000,9
  49NZ20140717,   P01,    47,  1,      3, X12J03,2,20140718,1236, 41.6415, 146.5147, 6035,   5419.3,2,   1.5641,2,   1.56393,2,  34.6897,2,  34.6894,2,-999.0000,9,   159.50,2,   158.84,2, -999.000,-999.0000,9, -999.000,9,  -999.00,9, -999.000,9,    0.000,2,   148.84,2,     0.17,    35.56,2,     0.05,     0.00,2,     0.01,     2.48,2,     0.01,  -999.00,9,  -999.00,    0.000,2,    0.000,2,    0.000,2, -999.000,9,   2323.0,2,   2413.8,2,   -999.0,9,   7.5881,       25,2, -999.000,9,    40.85,2, -999.000,9, -999.000,   -999.0,9,   -999.0, -999.000,9, -999.000, -999.000,9, -999.000,   -999.0,9,   -999.0, -999.000,9, -999.000,9, -999.000,9
  49NZ20140717,   P01,    47,  1,      2, X12J02,2,20140718,1236, 41.6415, 146.5147, 6035,   5668.8,2,   1.5872,2,   1.58689,2,  34.6906,2,  34.6897,2,-999.0000,9,   160.86,2,   160.39,2, -999.000,-999.0000,9, -999.000,9,  -999.00,9, -999.000,9,    0.000,2,   147.99,2,     0.17,    35.44,2,     0.05,     0.00,2,     0.01,     2.47,2,     0.01,     0.01,2,     0.01,    0.003,2,    0.002,2,    0.000,2, -999.000,9,   2319.2,2,   2412.5,2,   -999.0,9,   7.5891,       25,2, -999.000,9,    40.13,2, -999.000,9, -999.000,   -999.0,9,   -999.0, -999.000,9, -999.000, -999.000,9, -999.000,   -999.0,9,   -999.0, -999.000,9, -999.000,9, -999.000,9
  49NZ20140717,   P01,    47,  1,      1, X12J01,2,20140718,1236, 41.6415, 146.5147, 6035,   6152.3,2,   1.6482,2,   1.64794,2,  34.6910,2,  34.6910,2,-999.0000,9,   161.41,2,   161.41,2, -999.000,-999.0000,9, -999.000,9,  -999.00,9, -999.000,9,    0.000,2,   146.85,2,     0.17,    35.39,2,     0.05,     0.01,2,     0.01,     2.46,2,     0.01,     0.01,2,     0.01,    0.008,2,    0.001,2,    0.000,2, -999.000,9,   2318.5,2,   2412.3,2,   -999.0,9,   7.5911,       25,2, -999.000,9,    37.47,2, -999.000,9, -999.000,   -999.0,9,   -999.0, -999.000,9, -999.000, -999.000,9, -999.000,   -999.0,9,   -999.0, -999.000,9, -999.000,9, -999.000,9