BOTTLE,20230904JAMSTECRIGC
EXPOCODE,SECT,STNNBR,CASTNO,SAMPNO,BTLNBR,BTLNBR_FLAG_W,DATE,TIME,LATITUDE,LONGITUDE,DEPTH,CTDPRS,CTDPRS_FLAG_W,CTDTMP,CTDTMP_FLAG_W,SBE35,SBE35_FLAG_W,CTDSAL,CTDSAL_FLAG_W,SALNTY,SALNTY_FLAG_W,DNSSAL,DNSSAL_FLAG_W,CTDOXY,CTDOXY_FLAG_W,OXYGEN,OXYGEN_FLAG_W,XMISS,XMISSCP,XMISS_FLAG_W,FLUOR,FLUOR_FLAG_W,CHLORA,CHLORA_FLAG_W,CDOM,CDOM_FLAG_W,PAR,PAR_FLAG_W,SILCAT,SILCAT_FLAG_W,SILUNC,NITRAT,NITRAT_FLAG_W,NRAUNC,NITRIT,NITRIT_FLAG_W,NRIUNC,PHSPHT,PHSPHT_FLAG_W,PHPUNC,AMMONIA,AMMONIA_FLAG_W,NH4UNC,CFC-11,CFC-11_FLAG_W,CFC-12,CFC-12_FLAG_W,CFC113,CFC113_FLAG_W,SF6,SF6_FLAG_W,TCARBN,TCARBN_FLAG_W,ALKALI,ALKALI_FLAG_W,ALKALI_POT,ALKALI_POT_FLAG_W,PH_TOT,PH_TMP,PH_TOT_FLAG_W,CALCIUM,CALCIUM_FLAG_W,DOC,DOC_FLAG_W,DELC13,DELC13_FLAG_W,C13ERR,DELC14,DELC14_FLAG_W,C14ERR,CS-134,CS-134_FLAG_W,CS134ER,CS-137,CS-137_FLAG_W,CS137ER,I-129,I-129_FLAG_W,I-129ER,CDOM-325,CDOM-325_FLAG_W,CDOM-370,CDOM-370_FLAG_W,CDOM-443,CDOM-443_FLAG_W
,,,,,,,,UTC,DEG,DEG,METERS,DBAR,,ITS-90,,ITS-90,,PSS-78,,PSS-78,,G/KG,,UMOL/KG,,UMOL/KG,,%TRANS,/METER,,MG/CUM,,MG/CUM,,MG/CUM,,UE/SQM/S,,UMOL/KG,,UMOL/KG,UMOL/KG,,UMOL/KG,UMOL/KG,,UMOL/KG,UMOL/KG,,UMOL/KG,UMOL/KG,,UMOL/KG,PMOL/KG,,PMOL/KG,,PMOL/KG,,FMOL/KG,,UMOL/KG,,UMOL/KG,,UMOL/KG,,,DEG C,,MMOL/KG,,UMOL/KG,,/MILLE,,/MILLE,/MILLE,,/MILLE,MBQ/KG,,MBQ/KG,MBQ/KG,,MBQ/KG,,,,/METER,,/METER,,/METER,
  49NZ20140717,   P01,   138,  1,      0,   -999,9,20140820,0835, 46.9928,-133.4685, 3641,   -999.0,9,-999.0000,9,-999.00000,9,-999.0000,9,  32.4110,2,-999.0000,9,  -999.00,9,  -999.00,9, -999.000,-999.0000,9, -999.000,9,     0.09,2, -999.000,9, -999.000,9,     0.61,2,     0.17,     0.04,2,     0.02,     0.00,2,     0.01,     0.38,2,     0.01,  -999.00,9,  -999.00, -999.000,9, -999.000,9, -999.000,9, -999.000,9,   -999.0,9,   -999.0,9,   -999.0,9,-999.0000,     -999,9, -999.000,9,  -999.00,9, -999.000,9, -999.000,   -999.0,9,   -999.0, -999.000,9, -999.000, -999.000,9, -999.000,   -999.0,9,   -999.0,    0.160,2,    0.076,2,    0.032,2
  49NZ20140717,   P01,   138,  1,     36, X12J36,2,20140820,0835, 46.9928,-133.4685, 3641,     10.5,2,  18.3150,2,  18.35699,2,  32.4012,2,  32.3988,2,-999.0000,9,   247.60,2,   248.18,2,   96.923,   0.1250,2,    0.203,2,     0.10,2,   -1.534,1,    0.163,2,     0.55,2,     0.17,    -0.03,2,     0.02,     0.00,2,     0.01,     0.36,2,     0.01,  -999.00,9,  -999.00, -999.000,9, -999.000,9, -999.000,9, -999.000,9,   1962.0,2,   2179.3,2,   -999.0,9,   7.9389,       25,2, -999.000,9,    64.42,2, -999.000,9, -999.000,   -999.0,9,   -999.0, -999.000,9, -999.000, -999.000,9, -999.000,   -999.0,9,   -999.0,    0.220,2,    0.130,2,    0.066,2
  49NZ20140717,   P01,   138,  1,     35, X12J35,2,20140820,0835, 46.9928,-133.4685, 3641,     50.7,2,  11.2197,2,  11.19481,2,  32.4898,2,  32.5055,2,-999.0000,9,   298.03,2,   289.06,2,   93.665,   0.2618,2,    0.835,2,     0.64,2,    0.926,1,    0.000,2,     3.36,2,     0.09,     2.54,2,     0.01,     0.13,2,     0.01,     0.61,2,     0.01,  -999.00,9,  -999.00, -999.000,9, -999.000,9, -999.000,9, -999.000,9,   1994.0,6,   2183.5,2,   -999.0,9,   7.8719,       25,2, -999.000,9,    61.22,2, -999.000,9, -999.000,   -999.0,9,   -999.0, -999.000,9, -999.000, -999.000,9, -999.000,   -999.0,9,   -999.0,    0.291,2,    0.165,2,    0.075,2
  49NZ20140717,   P01,   138,  1,     34, X12J34,2,20140820,0835, 46.9928,-133.4685, 3641,    100.7,2,   7.8525,2,   7.86071,2,  33.1210,2,  33.2011,2,-999.0000,9,   251.17,2,   247.84,2,   99.571,   0.0172,2,    0.068,2,     0.04,2,    0.601,1,    0.000,2,    18.28,2,     0.09,    15.60,2,     0.03,     0.02,2,     0.01,     1.26,2,     0.01,  -999.00,9,  -999.00, -999.000,9, -999.000,9, -999.000,9, -999.000,9,   2089.4,2,   2217.9,2,   -999.0,9,   7.7112,       25,2, -999.000,9,    48.74,2, -999.000,9, -999.000,   -999.0,9,   -999.0, -999.000,9, -999.000, -999.000,9, -999.000,   -999.0,9,   -999.0,    0.199,2,    0.116,2,    0.055,2
  49NZ20140717,   P01,   138,  1,     33, X12J33,2,20140820,0835, 46.9928,-133.4685, 3641,    149.8,2,   7.8690,2,   7.86922,2,  33.7598,2,  33.7619,2,-999.0000,9,   218.64,2,   217.20,2,   99.658,   0.0137,2,    0.014,2,     0.01,2,    1.120,1,    0.000,2,    25.18,2,     0.09,    19.27,2,     0.03,     0.01,2,     0.01,     1.40,2,     0.01,  -999.00,9,  -999.00, -999.000,9, -999.000,9, -999.000,9, -999.000,9,   2130.3,2,   2250.0,2,   -999.0,9,   7.6782,       25,6, -999.000,9,    48.32,2, -999.000,9, -999.000,   -999.0,9,   -999.0, -999.000,9, -999.000, -999.000,9, -999.000,   -999.0,9,   -999.0, -999.000,9, -999.000,9, -999.000,9
  49NZ20140717,   P01,   138,  1,     32, X12J32,2,20140820,0835, 46.9928,-133.4685, 3641,    199.5,2,   7.1253,2,   7.12547,2,  33.8434,2,  33.8417,2,-999.0000,9,   196.37,2,   195.46,2,   99.590,   0.0164,2,    0.012,2,     0.01,2,    1.583,1,    0.000,2,    35.12,2,     0.10,    23.53,2,     0.03,     0.01,2,     0.01,     1.70,2,     0.01,  -999.00,9,  -999.00, -999.000,9, -999.000,9, -999.000,9, -999.000,9,   2162.1,2,   2261.9,6,   -999.0,9,   7.6192,       25,2, -999.000,9,    46.35,2, -999.000,9, -999.000,   -999.0,9,   -999.0, -999.000,9, -999.000, -999.000,9, -999.000,   -999.0,9,   -999.0,    0.214,2,    0.125,2,    0.058,2
  49NZ20140717,   P01,   138,  1,     31, X12J31,2,20140820,0835, 46.9928,-133.4685, 3641,    251.5,2,   5.9730,2,   5.98454,2,  33.8360,2,  33.8352,2,-999.0000,9,   161.05,2,   161.57,2,   99.519,   0.0193,2,    0.014,2,     0.01,2,    2.076,1,    0.000,2,    48.62,2,     0.11,    28.71,2,     0.04,     0.00,2,     0.01,     2.07,2,     0.01,  -999.00,9,  -999.00, -999.000,9, -999.000,9, -999.000,9, -999.000,9,   2203.3,2,   2271.2,2,   -999.0,9,   7.5286,       25,2, -999.000,9,    47.37,2, -999.000,9, -999.000,   -999.0,9,   -999.0, -999.000,9, -999.000, -999.000,9, -999.000,   -999.0,9,   -999.0, -999.000,9, -999.000,9, -999.000,9
  49NZ20140717,   P01,   138,  1,     30, X12J30,2,20140820,0835, 46.9928,-133.4685, 3641,    298.5,2,   5.3603,2,   5.35672,2,  33.8735,2,  33.8746,2,-999.0000,9,   126.90,2,   125.27,2,   99.573,   0.0171,2,    0.015,2,  -999.00,9,    2.374,1,    0.000,2,    61.44,2,     0.11,    33.10,2,     0.04,     0.00,2,     0.01,     2.36,2,     0.01,  -999.00,9,  -999.00, -999.000,9, -999.000,9, -999.000,9, -999.000,9,   2236.7,2,   2280.9,2,   -999.0,9,   7.4537,       25,2, -999.000,9,    45.13,2, -999.000,9, -999.000,   -999.0,9,   -999.0, -999.000,9, -999.000, -999.000,9, -999.000,   -999.0,9,   -999.0,    0.224,2,    0.121,2,    0.051,2
  49NZ20140717,   P01,   138,  1,     29, X12J29,2,20140820,0835, 46.9928,-133.4685, 3641,    399.6,2,   4.6498,2,   4.64998,2,  33.9348,2,  33.9351,2,-999.0000,9,    83.25,2,    83.44,2,   99.712,   0.0115,2,    0.018,2,  -999.00,9,    2.613,1,    0.000,2,    77.67,2,     0.12,    37.98,2,     0.05,     0.00,2,     0.01,     2.69,2,     0.01,  -999.00,9,  -999.00, -999.000,9, -999.000,9, -999.000,9, -999.000,9,   2279.2,2,   2295.1,2,   -999.0,9,   7.3700,       25,2, -999.000,9,    43.39,2, -999.000,9, -999.000,   -999.0,9,   -999.0, -999.000,9, -999.000, -999.000,9, -999.000,   -999.0,9,   -999.0, -999.000,9, -999.000,9, -999.000,9
  49NZ20140717,   P01,   138,  1,     28, X12J28,2,20140820,0835, 46.9928,-133.4685, 3641,    498.6,2,   4.3181,2,   4.31773,2,  34.0413,2,  34.0408,2,-999.0000,9,    50.38,2,    51.40,2,   99.859,   0.0056,2,    0.015,2,  -999.00,9,    2.843,1,    0.000,2,    92.70,2,     0.13,    40.87,2,     0.05,     0.00,2,     0.01,     2.90,2,     0.01,  -999.00,9,  -999.00, -999.000,9, -999.000,9, -999.000,9, -999.000,9,   2311.8,2,   2312.2,2,   -999.0,9,   7.3261,       25,2, -999.000,9,    41.87,2, -999.000,9, -999.000,   -999.0,9,   -999.0, -999.000,9, -999.000, -999.000,9, -999.000,   -999.0,9,   -999.0,    0.276,2,    0.145,2,    0.058,2
  49NZ20140717,   P01,   138,  1,     27, X12J27,2,20140820,0835, 46.9928,-133.4685, 3641,    600.8,2,   4.0555,2,   4.05540,2,  34.1188,2,  34.1182,2,-999.0000,9,    33.35,2,    34.04,2,   99.874,   0.0050,2,    0.016,2,  -999.00,9,    2.966,1,    0.000,2,   103.88,2,     0.14,    42.33,2,     0.05,     0.00,2,     0.01,     3.00,2,     0.01,  -999.00,9,  -999.00, -999.000,9, -999.000,9, -999.000,9, -999.000,9,   2332.4,2,   2326.9,2,   -999.0,9,   7.3055,       25,2, -999.000,9,    41.73,2, -999.000,9, -999.000,   -999.0,9,   -999.0, -999.000,9, -999.000, -999.000,9, -999.000,   -999.0,9,   -999.0, -999.000,9, -999.000,9, -999.000,9
  49NZ20140717,   P01,   138,  1,     26, X12J26,2,20140820,0835, 46.9928,-133.4685, 3641,    698.8,2,   3.7713,2,   3.77121,2,  34.1874,2,  34.1874,2,-999.0000,9,    24.78,2,    25.11,2,   99.872,   0.0051,2,    0.017,2,  -999.00,9,    2.946,1,    0.000,2,   114.88,2,     0.15,    43.20,2,     0.05,     0.00,2,     0.01,     3.06,2,     0.01,  -999.00,9,  -999.00, -999.000,9, -999.000,9, -999.000,9, -999.000,9,   2348.8,6,   2338.7,2,   -999.0,9,   7.2985,       25,2, -999.000,9,    41.36,2, -999.000,9, -999.000,   -999.0,9,   -999.0, -999.000,9, -999.000, -999.000,9, -999.000,   -999.0,9,   -999.0, -999.000,9, -999.000,9, -999.000,9
  49NZ20140717,   P01,   138,  1,     25, X12J25,2,20140820,0835, 46.9928,-133.4685, 3641,    797.9,2,   3.5476,2,   3.54741,2,  34.2483,2,  34.2488,2,-999.0000,9,    16.06,2,    15.79,2,   99.900,   0.0040,2,    0.016,2,  -999.00,9,    3.147,1,    0.000,2,   123.80,2,     0.15,    44.05,2,     0.06,     0.00,2,     0.01,     3.14,2,     0.01,  -999.00,9,  -999.00, -999.000,9, -999.000,9, -999.000,9, -999.000,9,   2363.8,2,   2351.2,2,   -999.0,9,   7.2904,       25,2, -999.000,9,    40.20,2, -999.000,9, -999.000,   -999.0,9,   -999.0, -999.000,9, -999.000, -999.000,9, -999.000,   -999.0,9,   -999.0,    0.254,2,    0.134,2,    0.053,2
  49NZ20140717,   P01,   138,  1,     24, X12J24,2,20140820,0835, 46.9928,-133.4685, 3641,    898.9,2,   3.3479,2,   3.34724,2,  34.3105,2,  34.3101,2,-999.0000,9,    12.07,2,    11.65,2,   99.926,   0.0029,2,    0.016,2,  -999.00,9,    3.185,1,    0.000,2,   131.97,2,     0.16,    44.50,2,     0.06,     0.00,2,     0.01,     3.18,2,     0.01,  -999.00,9,  -999.00, -999.000,9, -999.000,9, -999.000,9, -999.000,9,   2374.1,2,   2366.4,2,   -999.0,9,   7.2910,       25,6, -999.000,9,    40.01,2, -999.000,9, -999.000,   -999.0,9,   -999.0, -999.000,9, -999.000, -999.000,9, -999.000,   -999.0,9,   -999.0, -999.000,9, -999.000,9, -999.000,9
  49NZ20140717,   P01,   138,  1,     23, X12J23,2,20140820,0835, 46.9928,-133.4685, 3641,    999.7,2,   3.1625,2,   3.16184,2,  34.3552,2,  34.3558,2,-999.0000,9,    11.11,2,    10.29,2,   99.857,   0.0057,2,    0.015,2,  -999.00,9,    3.178,1,    0.000,2,   138.69,2,     0.16,    44.68,2,     0.06,     0.00,2,     0.01,     3.19,2,     0.01,  -999.00,9,  -999.00, -999.000,9, -999.000,9, -999.000,9, -999.000,9,   2384.9,2,   2371.1,2,   -999.0,9,   7.2959,       25,2, -999.000,9,    38.78,2, -999.000,9, -999.000,   -999.0,9,   -999.0, -999.000,9, -999.000, -999.000,9, -999.000,   -999.0,9,   -999.0,    0.259,2,    0.140,2,    0.057,2
  49NZ20140717,   P01,   138,  1,     22, X12J22,2,20140820,0835, 46.9928,-133.4685, 3641,   1199.7,2,   2.8375,2,   2.83861,2,  34.4360,2,  34.4349,2,-999.0000,9,    12.98,2,    11.88,2,   99.911,   0.0036,2,    0.015,2,  -999.00,9,    3.287,1,    0.000,2,   149.63,2,     0.17,    44.80,2,     0.06,     0.00,2,     0.01,     3.19,2,     0.01,  -999.00,9,  -999.00, -999.000,9, -999.000,9, -999.000,9, -999.000,9,   2392.8,2,   2386.4,6,   -999.0,9,   7.3074,       25,2, -999.000,9,    38.19,2, -999.000,9, -999.000,   -999.0,9,   -999.0, -999.000,9, -999.000, -999.000,9, -999.000,   -999.0,9,   -999.0, -999.000,9, -999.000,9, -999.000,9
  49NZ20140717,   P01,   138,  1,     21, X12J21,2,20140820,0835, 46.9928,-133.4685, 3641,   1400.2,2,   2.5568,2,   2.55680,2,  34.4832,2,  34.4820,2,-999.0000,9,    18.90,2,    18.09,2,   99.883,   0.0047,2,    0.013,2,  -999.00,9,    3.269,1,    0.000,2,   158.21,2,     0.17,    44.61,2,     0.06,     0.00,2,     0.01,     3.16,2,     0.01,  -999.00,9,  -999.00, -999.000,9, -999.000,9, -999.000,9, -999.000,9,   2397.9,2,   2396.1,2,   -999.0,9,   7.3206,       25,2, -999.000,9,    38.96,2, -999.000,9, -999.000,   -999.0,9,   -999.0, -999.000,9, -999.000, -999.000,9, -999.000,   -999.0,9,   -999.0, -999.000,9, -999.000,9, -999.000,9
  49NZ20140717,   P01,   138,  1,     20, X12J20,2,20140820,0835, 46.9928,-133.4685, 3641,   1598.3,2,   2.2465,2,   2.24649,2,  34.5292,2,  34.5280,2,-999.0000,9,    32.00,2,    31.16,2,   99.911,   0.0036,2,    0.012,2,  -999.00,9,    3.259,1,    0.000,2,   166.16,2,     0.18,    43.90,2,     0.06,     0.00,2,     0.01,     3.10,2,     0.01,  -999.00,9,  -999.00, -999.000,9, -999.000,9, -999.000,9, -999.000,9,   2397.7,2,   2406.6,2,   -999.0,9,   7.3479,       25,6, -999.000,9,    38.13,2, -999.000,9, -999.000,   -999.0,9,   -999.0, -999.000,9, -999.000, -999.000,9, -999.000,   -999.0,9,   -999.0, -999.000,9, -999.000,9, -999.000,9
  49NZ20140717,   P01,   138,  1,     19, X12J19,2,20140820,0835, 46.9928,-133.4685, 3641,   1800.7,2,   2.0862,2,   2.08588,2,  34.5608,2,  34.5617,2,-999.0000,9,    44.05,2,    44.39,2,   99.924,   0.0030,2,    0.011,2,  -999.00,9,    3.217,1,    0.000,2,   170.31,2,     0.18,    43.11,2,     0.05,     0.00,2,     0.01,     3.04,2,     0.01,  -999.00,9,  -999.00, -999.000,9, -999.000,9, -999.000,9, -999.000,9,   2393.2,2,   2413.1,2,   -999.0,9,   7.3759,       25,2, -999.000,9,    39.48,2, -999.000,9, -999.000,   -999.0,9,   -999.0, -999.000,9, -999.000, -999.000,9, -999.000,   -999.0,9,   -999.0, -999.000,9, -999.000,9, -999.000,9
  49NZ20140717,   P01,   138,  1,     18, X12J18,2,20140820,0835, 46.9928,-133.4685, 3641,   1998.0,2,   1.9365,2,   1.93626,2,  34.5889,2,  34.5887,2,-999.0000,9,    57.38,2,    57.20,2,   99.950,   0.0020,2,    0.009,2,  -999.00,9,    3.185,1,    0.000,2,   172.64,2,     0.18,    42.20,2,     0.05,     0.00,2,     0.01,     2.97,2,     0.01,  -999.00,9,  -999.00, -999.000,9, -999.000,9, -999.000,9, -999.000,9,   2389.1,2,   2417.8,2,   -999.0,9,   7.4045,       25,2, -999.000,9,    39.18,2, -999.000,9, -999.000,   -999.0,9,   -999.0, -999.000,9, -999.000, -999.000,9, -999.000,   -999.0,9,   -999.0,    0.216,2,    0.112,2,    0.038,2
  49NZ20140717,   P01,   138,  1,     17, X12J17,2,20140820,0835, 46.9928,-133.4685, 3641,   2198.8,2,   1.8424,2,   1.84324,2,  34.6079,2,  34.6074,2,-999.0000,9,    68.23,2,    67.88,2,   99.961,   0.0016,2,    0.008,2,  -999.00,9,    3.042,1,    0.000,2,   174.49,2,     0.18,    41.56,2,     0.05,     0.00,2,     0.01,     2.93,2,     0.01,  -999.00,9,  -999.00, -999.000,9, -999.000,9, -999.000,9, -999.000,9,   2385.7,2,   2421.3,2,   -999.0,9,   7.4278,       25,2, -999.000,9,  -999.00,9, -999.000,9, -999.000,   -999.0,9,   -999.0, -999.000,9, -999.000, -999.000,9, -999.000,   -999.0,9,   -999.0, -999.000,9, -999.000,9, -999.000,9
  49NZ20140717,   P01,   138,  1,     16, X12J16,2,20140820,0835, 46.9928,-133.4685, 3641,   2399.2,2,   1.7709,2,   1.77113,2,  34.6220,2,  34.6222,2,-999.0000,9,    77.36,2,    77.37,2,   99.955,   0.0018,2,    0.008,2,  -999.00,9,    3.017,1,    0.000,2,   175.59,2,     0.18,    40.99,2,     0.05,     0.00,2,     0.01,     2.88,2,     0.01,  -999.00,9,  -999.00, -999.000,9, -999.000,9, -999.000,9, -999.000,9,   2380.2,6,   2424.1,2,   -999.0,9,   7.4463,       25,2, -999.000,9,    37.79,2, -999.000,9, -999.000,   -999.0,9,   -999.0, -999.000,9, -999.000, -999.000,9, -999.000,   -999.0,9,   -999.0, -999.000,9, -999.000,9, -999.000,9
  49NZ20140717,   P01,   138,  1,     15, X12J15,2,20140820,0835, 46.9928,-133.4685, 3641,   2601.0,2,   1.7136,2,   1.71351,2,  34.6336,2,  34.6338,2,-999.0000,9,    85.70,2,    85.88,2,   99.939,   0.0024,2,    0.007,2,  -999.00,9,    2.924,1,    0.000,2,   175.99,2,     0.18,    40.50,2,     0.05,     0.00,2,     0.01,     2.84,2,     0.01,  -999.00,9,  -999.00, -999.000,9, -999.000,9, -999.000,9, -999.000,9,   2375.5,2,   2426.7,2,   -999.0,9,   7.4643,       25,2, -999.000,9,    41.68,3, -999.000,9, -999.000,   -999.0,9,   -999.0, -999.000,9, -999.000, -999.000,9, -999.000,   -999.0,9,   -999.0, -999.000,9, -999.000,9, -999.000,9
  49NZ20140717,   P01,   138,  1,     14, X12J14,2,20140820,0835, 46.9928,-133.4685, 3641,   2800.4,2,   1.6699,2,   1.66976,2,  34.6413,2,  34.6414,2,-999.0000,9,    92.98,2,    93.32,2,   99.946,   0.0022,2,    0.007,2,  -999.00,9,    2.938,1,    0.000,2,   176.13,2,     0.18,    40.05,2,     0.05,     0.00,2,     0.01,     2.81,2,     0.01,  -999.00,9,  -999.00, -999.000,9, -999.000,9, -999.000,9, -999.000,9,   2372.6,2,   2426.4,2,   -999.0,9,   7.4786,       25,6, -999.000,9,    38.62,2, -999.000,9, -999.000,   -999.0,9,   -999.0, -999.000,9, -999.000, -999.000,9, -999.000,   -999.0,9,   -999.0, -999.000,9, -999.000,9, -999.000,9
  49NZ20140717,   P01,   138,  1,     13, X12113,2,20140820,0835, 46.9928,-133.4685, 3641,   3002.4,2,   1.6275,2,   1.62741,2,  34.6493,2,  34.6496,2,-999.0000,9,   100.67,2,   100.77,2,   99.916,   0.0034,2,    0.006,2,  -999.00,9,    2.880,1,    0.000,2,   175.30,2,     0.18,    39.60,2,     0.05,     0.00,2,     0.01,     2.77,2,     0.01,  -999.00,9,  -999.00, -999.000,9, -999.000,9, -999.000,9, -999.000,9,   2366.4,2,   2427.0,2,   -999.0,9,   7.4931,       25,2, -999.000,9,    39.79,2, -999.000,9, -999.000,   -999.0,9,   -999.0, -999.000,9, -999.000, -999.000,9, -999.000,   -999.0,9,   -999.0,    0.192,2,    0.096,2,    0.034,2
  49NZ20140717,   P01,   138,  1,     12, X12J12,2,20140820,0835, 46.9928,-133.4685, 3641,   3250.1,2,   1.5710,2,   1.57074,2,  34.6603,2,  34.6608,2,-999.0000,9,   112.07,2,   112.28,2,   99.898,   0.0041,2,    0.006,2,  -999.00,9,    2.816,1,    0.000,2,   175.01,2,     0.18,    38.85,2,     0.05,     0.00,2,     0.01,     2.72,2,     0.01,  -999.00,9,  -999.00, -999.000,9, -999.000,9, -999.000,9, -999.000,9,   2360.4,2,   2429.4,6,   -999.0,9,   7.5161,       25,2, -999.000,9,    39.99,2, -999.000,9, -999.000,   -999.0,9,   -999.0, -999.000,9, -999.000, -999.000,9, -999.000,   -999.0,9,   -999.0, -999.000,9, -999.000,9, -999.000,9
  49NZ20140717,   P01,   138,  1,     11, X12J11,2,20140820,0835, 46.9928,-133.4685, 3641,   3500.2,2,   1.5509,2,   1.55080,2,  34.6678,2,  34.6682,2,-999.0000,9,   119.25,2,   119.84,2,   99.798,   0.0081,2,    0.005,2,  -999.00,9,    2.781,1,    0.000,2,   176.29,2,     0.18,    38.36,2,     0.05,     0.00,2,     0.01,     2.68,2,     0.01,  -999.00,9,  -999.00, -999.000,9, -999.000,9, -999.000,9, -999.000,9,   2356.6,2,   2431.3,2,   -999.0,9,   7.5317,       25,2, -999.000,9,  -999.00,9, -999.000,9, -999.000,   -999.0,9,   -999.0, -999.000,9, -999.000, -999.000,9, -999.000,   -999.0,9,   -999.0, -999.000,9, -999.000,9, -999.000,9
  49NZ20140717,   P01,   138,  1,     10, X12J10,9,20140820,0835, 46.9928,-133.4685, 3641,   -999.0,9,-999.0000,9,-999.00000,9,-999.0000,9,-999.0000,9,-999.0000,9,  -999.00,9,  -999.00,9, -999.000,-999.0000,9, -999.000,9,  -999.00,9, -999.000,9, -999.000,9,  -999.00,9,  -999.00,  -999.00,9,  -999.00,  -999.00,9,  -999.00,  -999.00,9,  -999.00,  -999.00,9,  -999.00, -999.000,9, -999.000,9, -999.000,9, -999.000,9,   -999.0,9,   -999.0,9,   -999.0,9,-999.0000,     -999,9, -999.000,9,  -999.00,9, -999.000,9, -999.000,   -999.0,9,   -999.0, -999.000,9, -999.000, -999.000,9, -999.000,   -999.0,9,   -999.0, -999.000,9, -999.000,9, -999.000,9