BOTTLE,20230904JAMSTECRIGC
EXPOCODE,SECT,STNNBR,CASTNO,SAMPNO,BTLNBR,BTLNBR_FLAG_W,DATE,TIME,LATITUDE,LONGITUDE,DEPTH,CTDPRS,CTDPRS_FLAG_W,CTDTMP,CTDTMP_FLAG_W,SBE35,SBE35_FLAG_W,CTDSAL,CTDSAL_FLAG_W,SALNTY,SALNTY_FLAG_W,DNSSAL,DNSSAL_FLAG_W,CTDOXY,CTDOXY_FLAG_W,OXYGEN,OXYGEN_FLAG_W,XMISS,XMISSCP,XMISS_FLAG_W,FLUOR,FLUOR_FLAG_W,CHLORA,CHLORA_FLAG_W,CDOM,CDOM_FLAG_W,PAR,PAR_FLAG_W,SILCAT,SILCAT_FLAG_W,SILUNC,NITRAT,NITRAT_FLAG_W,NRAUNC,NITRIT,NITRIT_FLAG_W,NRIUNC,PHSPHT,PHSPHT_FLAG_W,PHPUNC,AMMONIA,AMMONIA_FLAG_W,NH4UNC,CFC-11,CFC-11_FLAG_W,CFC-12,CFC-12_FLAG_W,CFC113,CFC113_FLAG_W,SF6,SF6_FLAG_W,TCARBN,TCARBN_FLAG_W,ALKALI,ALKALI_FLAG_W,ALKALI_POT,ALKALI_POT_FLAG_W,PH_TOT,PH_TMP,PH_TOT_FLAG_W,CALCIUM,CALCIUM_FLAG_W,DOC,DOC_FLAG_W,DELC13,DELC13_FLAG_W,C13ERR,DELC14,DELC14_FLAG_W,C14ERR,CS-134,CS-134_FLAG_W,CS134ER,CS-137,CS-137_FLAG_W,CS137ER,I-129,I-129_FLAG_W,I-129ER,CDOM-325,CDOM-325_FLAG_W,CDOM-370,CDOM-370_FLAG_W,CDOM-443,CDOM-443_FLAG_W
,,,,,,,,UTC,DEG,DEG,METERS,DBAR,,ITS-90,,ITS-90,,PSS-78,,PSS-78,,G/KG,,UMOL/KG,,UMOL/KG,,%TRANS,/METER,,MG/CUM,,MG/CUM,,MG/CUM,,UE/SQM/S,,UMOL/KG,,UMOL/KG,UMOL/KG,,UMOL/KG,UMOL/KG,,UMOL/KG,UMOL/KG,,UMOL/KG,UMOL/KG,,UMOL/KG,PMOL/KG,,PMOL/KG,,PMOL/KG,,FMOL/KG,,UMOL/KG,,UMOL/KG,,UMOL/KG,,,DEG C,,MMOL/KG,,UMOL/KG,,/MILLE,,/MILLE,/MILLE,,/MILLE,MBQ/KG,,MBQ/KG,MBQ/KG,,MBQ/KG,,,,/METER,,/METER,,/METER,
  49NZ20140717,   P01,    56,  1,      0,   -999,9,20140722,1216, 40.0151, 148.3872, 5446,   -999.0,9,-999.0000,9,-999.00000,9,-999.0000,9,  33.0024,2,-999.0000,9,  -999.00,9,  -999.00,9, -999.000,-999.0000,9, -999.000,9,  -999.00,9, -999.000,9, -999.000,9,     0.67,2,     0.16,     0.06,2,     0.02,     0.01,2,     0.01,     0.10,2,     0.01,  -999.00,9,  -999.00, -999.000,9, -999.000,9, -999.000,9, -999.000,9,   -999.0,9,   -999.0,9,   -999.0,9,-999.0000,     -999,9, -999.000,9,  -999.00,9, -999.000,9, -999.000,   -999.0,9,   -999.0, -999.000,9, -999.000, -999.000,9, -999.000,   -999.0,9,   -999.0, -999.000,9, -999.000,9, -999.000,9
  49NZ20140717,   P01,    56,  1,     36, X12J36,2,20140722,1216, 40.0151, 148.3872, 5446,     10.3,2,  19.2527,2,  19.25159,2,  32.9994,2,  32.9897,2,-999.0000,9,   249.26,2,   258.91,2,   95.817,   0.1709,2,    0.296,2,  -999.00,9,    0.767,1,    0.295,2,     0.77,2,     0.15,     0.11,2,     0.01,     0.01,2,     0.01,     0.12,2,     0.01,  -999.00,9,  -999.00,    2.552,2,    1.514,2,    0.303,2, -999.000,9,   1956.6,2,   2229.3,2,   2231.2,2,   8.0250,       25,6,    9.773,2,    62.95,2, -999.000,9, -999.000,   -999.0,9,   -999.0, -999.000,9, -999.000, -999.000,9, -999.000,   -999.0,9,   -999.0, -999.000,9, -999.000,9, -999.000,9
  49NZ20140717,   P01,    56,  1,     35, X12J35,2,20140722,1216, 40.0151, 148.3872, 5446,     50.1,2,   3.3652,2,   3.35840,2,  32.8887,2,  32.8951,2,-999.0000,9,   322.79,2,   323.86,2,   96.443,   0.1449,2,    0.437,2,  -999.00,9,    1.381,1,    0.000,2,    22.12,2,     0.09,    17.99,2,     0.03,     0.28,2,     0.01,     1.70,2,     0.01,  -999.00,9,  -999.00,    5.526,2,    2.967,2,    0.512,2, -999.000,9,   2115.8,6,   2236.6,2,   2234.6,2,   7.6859,       25,2,    9.739,2,    51.25,2, -999.000,9, -999.000,   -999.0,9,   -999.0, -999.000,9, -999.000, -999.000,9, -999.000,   -999.0,9,   -999.0, -999.000,9, -999.000,9, -999.000,9
  49NZ20140717,   P01,    56,  1,     34, X12J34,2,20140722,1216, 40.0151, 148.3872, 5446,    100.0,2,   1.3750,2,   1.37202,2,  33.0425,2,  33.0502,2,-999.0000,9,   297.42,2,   297.07,2,   99.235,   0.0307,2,    0.071,2,  -999.00,9,    1.538,1,    0.000,2,    41.63,2,     0.10,    24.18,2,     0.04,     0.02,2,     0.01,     1.94,2,     0.01,  -999.00,9,  -999.00,    5.545,2,    2.958,2,    0.505,2, -999.000,9,   2156.2,2,   2243.3,2,   2241.2,2,   7.5876,       25,2,    9.799,2,    49.12,2, -999.000,9, -999.000,   -999.0,9,   -999.0, -999.000,9, -999.000, -999.000,9, -999.000,   -999.0,9,   -999.0, -999.000,9, -999.000,9, -999.000,9
  49NZ20140717,   P01,    56,  1,     33, X12J33,2,20140722,1216, 40.0151, 148.3872, 5446,    149.5,2,   2.5027,2,   2.49983,2,  33.3669,2,  33.3672,2,-999.0000,9,   240.48,2,   240.80,2,   99.304,   0.0279,2,    0.022,2,  -999.00,9,    1.813,1,    0.000,2,    51.86,2,     0.11,    26.96,2,     0.04,     0.02,2,     0.01,     2.08,2,     0.01,  -999.00,9,  -999.00,    4.599,2,    2.482,2,    0.373,2, -999.000,9,   2185.8,2,   2259.6,2,   2262.7,2,   7.5406,       25,6,    9.925,2,    49.25,2, -999.000,9, -999.000,   -999.0,9,   -999.0, -999.000,9, -999.000, -999.000,9, -999.000,   -999.0,9,   -999.0, -999.000,9, -999.000,9, -999.000,9
  49NZ20140717,   P01,    56,  1,     32, X12J32,2,20140722,1216, 40.0151, 148.3872, 5446,    199.6,2,   3.5906,2,   3.59049,2,  33.6419,2,  33.6425,2,-999.0000,9,   181.32,2,   180.64,2,   99.470,   0.0212,2,    0.005,2,  -999.00,9,    1.954,1,    0.000,2,    61.75,2,     0.11,    30.32,2,     0.04,     0.02,2,     0.01,     2.27,2,     0.01,  -999.00,9,  -999.00,    3.700,2,    1.982,2,    0.272,2, -999.000,9,   2220.8,2,   2275.5,6,   -999.0,9,   7.4885,       25,2, -999.000,9,    44.60,2, -999.000,9, -999.000,   -999.0,9,   -999.0, -999.000,9, -999.000, -999.000,9, -999.000,   -999.0,9,   -999.0, -999.000,9, -999.000,9, -999.000,9
  49NZ20140717,   P01,    56,  1,     31, X12J31,2,20140722,1216, 40.0151, 148.3872, 5446,    249.5,2,   3.1237,2,   3.12321,2,  33.6722,2,  33.6729,2,-999.0000,9,   152.96,2,   152.28,2,   99.529,   0.0189,2,    0.006,2,  -999.00,9,    2.118,1,    0.000,2,    72.77,2,     0.12,    33.88,2,     0.05,     0.02,2,     0.01,     2.52,2,     0.01,  -999.00,9,  -999.00,    3.423,2,    1.826,2,    0.242,2, -999.000,9,   2247.5,2,   2283.7,2,   -999.0,9,   7.4221,       25,2, -999.000,9,    42.22,2, -999.000,9, -999.000,   -999.0,9,   -999.0, -999.000,9, -999.000, -999.000,9, -999.000,   -999.0,9,   -999.0, -999.000,9, -999.000,9, -999.000,9
  49NZ20140717,   P01,    56,  1,     30, X12J30,2,20140722,1216, 40.0151, 148.3872, 5446,    280.8,2,   3.1907,2,   3.18998,2,  33.7347,2,  33.7357,2,-999.0000,9,   130.82,2,   130.38,2,   99.591,   0.0164,2,    0.007,2,  -999.00,9,    2.181,1,    0.000,2,    79.84,2,     0.12,    35.80,2,     0.05,     0.02,2,     0.01,     2.64,2,     0.01,  -999.00,9,  -999.00,    3.084,2,    1.647,2,    0.227,2, -999.000,9,   2265.9,2,   2288.9,2,   -999.0,9,   7.3889,       25,2, -999.000,9,    42.59,2, -999.000,9, -999.000,   -999.0,9,   -999.0, -999.000,9, -999.000, -999.000,9, -999.000,   -999.0,9,   -999.0, -999.000,9, -999.000,9, -999.000,9
  49NZ20140717,   P01,    56,  1,     29, X12J29,2,20140722,1216, 40.0151, 148.3872, 5446,    370.2,2,   3.2660,2,   3.26471,2,  33.9025,2,  33.9031,2,-999.0000,9,    67.26,2,    67.54,2,   99.710,   0.0116,2,    0.009,2,  -999.00,9,    2.344,1,    0.000,2,   100.27,2,     0.14,    41.08,2,     0.05,     0.01,2,     0.01,     2.96,2,     0.01,  -999.00,9,  -999.00,    2.121,2,    1.109,2,    0.144,2, -999.000,9,   2315.1,2,   2311.8,2,   -999.0,9,   7.2989,       25,2, -999.000,9,    42.14,2, -999.000,9, -999.000,   -999.0,9,   -999.0, -999.000,9, -999.000, -999.000,9, -999.000,   -999.0,9,   -999.0, -999.000,9, -999.000,9, -999.000,9
  49NZ20140717,   P01,    56,  1,     28, X12J28,2,20140722,1216, 40.0151, 148.3872, 5446,    470.0,2,   3.7497,2,   3.74852,2,  34.1079,2,  34.1083,2,-999.0000,9,    53.70,2,    54.16,2,   99.841,   0.0063,2,    0.007,2,  -999.00,9,    2.351,1,    0.000,2,   108.00,2,     0.14,    40.86,2,     0.05,     0.01,2,     0.01,     2.93,2,     0.01,  -999.00,9,  -999.00,    1.260,2,    0.647,2,    0.067,2, -999.000,9,   2323.6,2,   2330.7,2,   2334.2,2,   7.3362,       25,2,   10.121,2,    40.24,2, -999.000,9, -999.000,   -999.0,9,   -999.0, -999.000,9, -999.000, -999.000,9, -999.000,   -999.0,9,   -999.0, -999.000,9, -999.000,9, -999.000,9
  49NZ20140717,   P01,    56,  1,     27, X12J27,2,20140722,1216, 40.0151, 148.3872, 5446,    570.1,2,   3.3582,2,   3.35845,2,  34.1692,2,  34.1684,2,-999.0000,9,    38.46,2,    38.87,2,   99.828,   0.0069,2,    0.007,2,  -999.00,9,    2.423,1,    0.000,2,   121.20,2,     0.15,    42.41,2,     0.05,     0.01,2,     0.01,     3.04,2,     0.01,  -999.00,9,  -999.00,    0.940,2,    0.473,2,    0.059,2, -999.000,9,   2343.7,2,   2343.1,2,   -999.0,9,   7.3109,       25,2, -999.000,9,    40.83,2, -999.000,9, -999.000,   -999.0,9,   -999.0, -999.000,9, -999.000, -999.000,9, -999.000,   -999.0,9,   -999.0, -999.000,9, -999.000,9, -999.000,9
  49NZ20140717,   P01,    56,  1,     26, X12J26,2,20140722,1216, 40.0151, 148.3872, 5446,    670.8,2,   3.4914,2,   3.49100,2,  34.2885,2,  34.2886,2,-999.0000,9,    41.05,2,    41.47,2,   99.824,   0.0070,2,    0.006,2,  -999.00,9,    2.391,1,    0.000,2,   124.79,2,     0.15,    41.84,2,     0.05,     0.01,2,     0.01,     3.00,2,     0.01,  -999.00,9,  -999.00,    0.514,2,    0.250,2,    0.022,2, -999.000,9,   2344.5,6,   2360.4,2,   -999.0,9,   7.3463,       25,2, -999.000,9,  -999.00,9, -999.000,9, -999.000,   -999.0,9,   -999.0, -999.000,9, -999.000, -999.000,9, -999.000,   -999.0,9,   -999.0, -999.000,9, -999.000,9, -999.000,9
  49NZ20140717,   P01,    56,  1,     25, X12J25,2,20140722,1216, 40.0151, 148.3872, 5446,    770.3,2,   3.1631,2,   3.16240,2,  34.3310,2,  34.3305,2,-999.0000,9,    37.58,2,    37.81,2,   99.824,   0.0070,2,    0.005,2,  -999.00,9,    2.403,1,    0.000,2,   134.32,2,     0.16,    42.40,2,     0.05,     0.01,2,     0.01,     3.04,2,     0.01,  -999.00,9,  -999.00,    0.397,2,    0.189,2,    0.017,2, -999.000,9,   2357.4,2,   2365.1,2,   2372.7,2,   7.3400,       25,2,   10.201,2,    39.42,2, -999.000,9, -999.000,   -999.0,9,   -999.0, -999.000,9, -999.000, -999.000,9, -999.000,   -999.0,9,   -999.0, -999.000,9, -999.000,9, -999.000,9
  49NZ20140717,   P01,    56,  1,     24, X12J24,2,20140722,1216, 40.0151, 148.3872, 5446,    870.6,2,   3.0716,2,   3.07135,2,  34.3818,2,  34.3821,2,-999.0000,9,    39.72,2,    39.93,2,   99.848,   0.0061,2,    0.005,2,  -999.00,9,    2.390,1,    0.000,2,   136.86,2,     0.16,    42.32,2,     0.05,     0.01,2,     0.01,     3.03,2,     0.01,  -999.00,9,  -999.00,    0.247,2,    0.113,2,    0.004,2, -999.000,9,   2358.7,2,   2375.6,2,   -999.0,9,   7.3547,       25,2, -999.000,9,    37.46,2, -999.000,9, -999.000,   -999.0,9,   -999.0, -999.000,9, -999.000, -999.000,9, -999.000,   -999.0,9,   -999.0, -999.000,9, -999.000,9, -999.000,9
  49NZ20140717,   P01,    56,  1,     23, X12J23,2,20140722,1216, 40.0151, 148.3872, 5446,    969.9,2,   2.8881,2,   2.88780,2,  34.4175,2,  34.4170,2,-999.0000,9,    38.37,2,    38.45,2,   99.863,   0.0055,2,    0.005,2,  -999.00,9,    2.405,1,    0.000,2,   142.36,2,     0.16,    42.67,2,     0.05,     0.00,2,     0.01,     3.05,2,     0.01,  -999.00,9,  -999.00,    0.154,2,    0.069,2,    0.000,2, -999.000,9,   2366.7,2,   2382.0,2,   2386.0,2,   7.3577,       25,2,   10.233,2,    37.59,2, -999.000,9, -999.000,   -999.0,9,   -999.0, -999.000,9, -999.000, -999.000,9, -999.000,   -999.0,9,   -999.0, -999.000,9, -999.000,9, -999.000,9
  49NZ20140717,   P01,    56,  1,     22, X12J22,2,20140722,1216, 40.0151, 148.3872, 5446,   1131.8,2,   2.5823,2,   2.58243,2,  34.4584,2,  34.4584,2,-999.0000,9,    38.46,2,    38.72,2,   99.917,   0.0033,2,    0.005,2,  -999.00,9,    2.458,1,    0.000,2,   151.61,2,     0.17,    42.98,2,     0.05,     0.00,2,     0.01,     3.07,2,     0.01,  -999.00,9,  -999.00,    0.108,2,    0.048,2,    0.000,2, -999.000,9,   2371.9,2,   2391.2,6,   2395.2,2,   7.3595,       25,2,   10.254,2,    38.63,2, -999.000,9, -999.000,   -999.0,9,   -999.0, -999.000,9, -999.000, -999.000,9, -999.000,   -999.0,9,   -999.0, -999.000,9, -999.000,9, -999.000,9
  49NZ20140717,   P01,    56,  1,     21, X12J21,2,20140722,1216, 40.0151, 148.3872, 5446,   1330.1,2,   2.3772,2,   2.37729,2,  34.5091,2,  34.5092,2,-999.0000,9,    45.83,2,    46.06,2,   99.893,   0.0043,2,    0.003,2,  -999.00,9,    2.434,1,    0.000,2,   156.27,2,     0.17,    42.76,2,     0.05,     0.00,2,     0.01,     3.04,2,     0.01,  -999.00,9,  -999.00,    0.037,2,    0.017,2,    0.000,2, -999.000,9,   2373.6,2,   2400.6,2,   -999.0,9,   7.3764,       25,2, -999.000,9,    41.10,3, -999.000,9, -999.000,   -999.0,9,   -999.0, -999.000,9, -999.000, -999.000,9, -999.000,   -999.0,9,   -999.0, -999.000,9, -999.000,9, -999.000,9
  49NZ20140717,   P01,    56,  1,     20, X12J20,2,20140722,1216, 40.0151, 148.3872, 5446,   1531.1,2,   2.1966,2,   2.19647,2,  34.5412,2,  34.5418,2,-999.0000,9,    53.46,2,    53.77,2,   99.897,   0.0041,2,    0.003,2,  -999.00,9,    2.344,1,    0.000,2,   160.36,2,     0.17,    42.36,2,     0.05,     0.00,2,     0.01,     3.00,2,     0.01,  -999.00,9,  -999.00,    0.024,2,    0.012,2,    0.000,2, -999.000,9,   2374.4,2,   2405.2,2,   2410.5,2,   7.3942,       25,6,   10.279,2,    35.18,2, -999.000,9, -999.000,   -999.0,9,   -999.0, -999.000,9, -999.000, -999.000,9, -999.000,   -999.0,9,   -999.0, -999.000,9, -999.000,9, -999.000,9
  49NZ20140717,   P01,    56,  1,     19, X12J19,2,20140722,1216, 40.0151, 148.3872, 5446,   1730.9,2,   2.0390,2,   2.03885,2,  34.5731,2,  34.5736,2,-999.0000,9,    64.13,2,    64.43,2,   99.941,   0.0024,2,    0.002,2,  -999.00,9,    2.363,1,    0.000,2,   162.16,2,     0.18,    41.76,2,     0.05,     0.00,2,     0.01,     2.95,2,     0.01,  -999.00,9,  -999.00,    0.009,2,    0.006,2,    0.000,2, -999.000,9,   2371.2,2,   2411.0,2,   -999.0,9,   7.4162,       25,2, -999.000,9,    36.74,2, -999.000,9, -999.000,   -999.0,9,   -999.0, -999.000,9, -999.000, -999.000,9, -999.000,   -999.0,9,   -999.0, -999.000,9, -999.000,9, -999.000,9
  49NZ20140717,   P01,    56,  1,     18, X12J18,2,20140722,1216, 40.0151, 148.3872, 5446,   1929.7,2,   1.9237,2,   1.92366,2,  34.5953,2,  34.5958,2,-999.0000,9,    75.37,2,    75.54,2,   99.928,   0.0029,2,    0.001,2,  -999.00,9,    2.312,1,    0.000,2,   162.77,2,     0.18,    41.10,2,     0.05,     0.00,2,     0.01,     2.90,2,     0.01,  -999.00,9,  -999.00,    0.000,2,    0.001,2,    0.000,2, -999.000,9,   2366.4,2,   2411.7,2,   2418.6,2,   7.4381,       25,2,   10.311,2,    36.70,2, -999.000,9, -999.000,   -999.0,9,   -999.0, -999.000,9, -999.000, -999.000,9, -999.000,   -999.0,9,   -999.0, -999.000,9, -999.000,9, -999.000,9
  49NZ20140717,   P01,    56,  1,     17, X12J17,2,20140722,1216, 40.0151, 148.3872, 5446,   2129.3,2,   1.7963,2,   1.79634,2,  34.6178,2,  34.6183,2,-999.0000,9,    89.41,2,    89.58,2,   99.932,   0.0027,2,    0.000,2,  -999.00,9,    2.258,1,    0.000,2,   162.24,2,     0.18,    40.26,2,     0.05,     0.00,2,     0.01,     2.84,2,     0.01,  -999.00,9,  -999.00,    0.000,2,    0.000,2,    0.000,2, -999.000,9,   2363.7,2,   2416.9,2,   -999.0,9,   7.4660,       25,2, -999.000,9,    37.96,2, -999.000,9, -999.000,   -999.0,9,   -999.0, -999.000,9, -999.000, -999.000,9, -999.000,   -999.0,9,   -999.0, -999.000,9, -999.000,9, -999.000,9
  49NZ20140717,   P01,    56,  1,     16, X12J16,2,20140722,1216, 40.0151, 148.3872, 5446,   2329.6,2,   1.7067,2,   1.70659,2,  34.6332,2,  34.6336,2,-999.0000,9,   100.76,2,   100.68,2,   99.960,   0.0016,2,   -0.001,2,  -999.00,9,    2.261,1,    0.000,2,   161.29,2,     0.17,    39.57,2,     0.05,     0.00,2,     0.01,     2.78,2,     0.01,  -999.00,9,  -999.00,    0.000,2,    0.000,2,    0.000,2, -999.000,9,   2355.0,6,   2418.8,2,   -999.0,9,   7.4870,       25,2, -999.000,9,    36.56,2, -999.000,9, -999.000,   -999.0,9,   -999.0, -999.000,9, -999.000, -999.000,9, -999.000,   -999.0,9,   -999.0, -999.000,9, -999.000,9, -999.000,9
  49NZ20140717,   P01,    56,  1,     15, X12J15,2,20140722,1216, 40.0151, 148.3872, 5446,   5421.3,2,   1.5444,2,   1.54438,2,  34.6912,2,  34.6917,2,-999.0000,9,   162.89,2,   162.98,2,   99.828,   0.0069,2,   -0.004,2,  -999.00,9,  322.290,4,    0.000,2,  -999.00,9,  -999.00,  -999.00,9,  -999.00,  -999.00,9,  -999.00,  -999.00,9,  -999.00,  -999.00,9,  -999.00, -999.000,9, -999.000,9, -999.000,9, -999.000,9,   -999.0,9,   -999.0,9,   -999.0,9,-999.0000,     -999,9, -999.000,9,  -999.00,9, -999.000,9, -999.000,   -999.0,9,   -999.0, -999.000,9, -999.000, -999.000,9, -999.000,   -999.0,9,   -999.0, -999.000,9, -999.000,9, -999.000,9
  49NZ20140717,   P01,    56,  1,     14, X12J14,2,20140722,1216, 40.0151, 148.3872, 5446,   2731.6,2,   1.5835,2,   1.58342,2,  34.6544,2,  34.6550,2,-999.0000,9,   118.59,2,   118.48,2,   99.969,   0.0013,2,   -0.002,2,  -999.00,9,    2.219,1,    0.000,2,   158.85,2,     0.17,    38.42,2,     0.05,     0.01,2,     0.01,     2.69,2,     0.01,  -999.00,9,  -999.00,    0.000,2,    0.000,2,    0.000,2, -999.000,9,   2345.5,2,   2421.8,2,   -999.0,9,   7.5193,       25,6, -999.000,9,    44.04,2, -999.000,9, -999.000,   -999.0,9,   -999.0, -999.000,9, -999.000, -999.000,9, -999.000,   -999.0,9,   -999.0, -999.000,9, -999.000,9, -999.000,9
  49NZ20140717,   P01,    56,  1,     13, X12113,2,20140722,1216, 40.0151, 148.3872, 5446,   2930.3,2,   1.5416,2,   1.54172,2,  34.6618,2,  34.6619,2,-999.0000,9,   125.75,2,   125.62,2,   99.969,   0.0013,2,   -0.002,2,  -999.00,9,    2.207,1,    0.000,2,   157.23,2,     0.17,    37.90,2,     0.05,     0.00,2,     0.01,     2.65,2,     0.01,  -999.00,9,  -999.00,    0.000,2,    0.000,2,    0.000,2, -999.000,9,   2341.1,2,   2417.3,2,   2421.7,2,   7.5323,       25,2,   10.326,2,    37.18,2, -999.000,9, -999.000,   -999.0,9,   -999.0, -999.000,9, -999.000, -999.000,9, -999.000,   -999.0,9,   -999.0, -999.000,9, -999.000,9, -999.000,9
  49NZ20140717,   P01,    56,  1,     12, X12J12,2,20140722,1216, 40.0151, 148.3872, 5446,   3171.0,2,   1.5024,2,   1.50239,2,  34.6689,2,  34.6692,2,-999.0000,9,   133.48,2,   133.39,2,   99.984,   0.0007,2,   -0.002,2,  -999.00,9,    2.141,1,    0.000,2,   155.50,2,     0.17,    37.40,2,     0.05,     0.00,2,     0.01,     2.61,2,     0.01,  -999.00,9,  -999.00,    0.000,2,    0.000,2,    0.000,2, -999.000,9,   2336.8,2,   2418.7,6,   -999.0,9,   7.5460,       25,2, -999.000,9,    37.30,2, -999.000,9, -999.000,   -999.0,9,   -999.0, -999.000,9, -999.000, -999.000,9, -999.000,   -999.0,9,   -999.0, -999.000,9, -999.000,9, -999.000,9
  49NZ20140717,   P01,    56,  1,     11, X12J11,2,20140722,1216, 40.0151, 148.3872, 5446,   3420.6,2,   1.4763,2,   1.47627,2,  34.6744,2,  34.6747,2,-999.0000,9,   139.87,2,   139.64,2,   99.977,   0.0009,2,   -0.003,2,  -999.00,9,    2.114,1,    0.000,2,   153.95,2,     0.17,    36.99,2,     0.05,     0.00,2,     0.01,     2.58,2,     0.01,  -999.00,9,  -999.00,    0.000,2,    0.000,2,    0.000,2, -999.000,9,   2333.4,2,   2419.9,2,   -999.0,9,   7.5571,       25,2, -999.000,9,    37.71,2, -999.000,9, -999.000,   -999.0,9,   -999.0, -999.000,9, -999.000, -999.000,9, -999.000,   -999.0,9,   -999.0, -999.000,9, -999.000,9, -999.000,9
  49NZ20140717,   P01,    56,  1,     10, X12J10,2,20140722,1216, 40.0151, 148.3872, 5446,   3670.8,2,   1.4629,2,   1.46307,2,  34.6787,2,  34.6785,2,-999.0000,9,   144.86,2,   144.77,2,   99.986,   0.0006,2,   -0.003,2,  -999.00,9,    2.043,1,    0.000,2,   152.86,2,     0.17,    36.71,2,     0.05,     0.00,2,     0.01,     2.55,2,     0.01,  -999.00,9,  -999.00,    0.000,2,    0.000,2,    0.000,2, -999.000,9,   2327.6,2,   2417.1,2,   -999.0,9,   7.5656,       25,2, -999.000,9,    38.12,2, -999.000,9, -999.000,   -999.0,9,   -999.0, -999.000,9, -999.000, -999.000,9, -999.000,   -999.0,9,   -999.0, -999.000,9, -999.000,9, -999.000,9