BOTTLE,20230904JAMSTECRIGC
EXPOCODE,SECT,STNNBR,CASTNO,SAMPNO,BTLNBR,BTLNBR_FLAG_W,DATE,TIME,LATITUDE,LONGITUDE,DEPTH,CTDPRS,CTDPRS_FLAG_W,CTDTMP,CTDTMP_FLAG_W,SBE35,SBE35_FLAG_W,CTDSAL,CTDSAL_FLAG_W,SALNTY,SALNTY_FLAG_W,DNSSAL,DNSSAL_FLAG_W,CTDOXY,CTDOXY_FLAG_W,OXYGEN,OXYGEN_FLAG_W,XMISS,XMISSCP,XMISS_FLAG_W,FLUOR,FLUOR_FLAG_W,CHLORA,CHLORA_FLAG_W,CDOM,CDOM_FLAG_W,PAR,PAR_FLAG_W,SILCAT,SILCAT_FLAG_W,SILUNC,NITRAT,NITRAT_FLAG_W,NRAUNC,NITRIT,NITRIT_FLAG_W,NRIUNC,PHSPHT,PHSPHT_FLAG_W,PHPUNC,AMMONIA,AMMONIA_FLAG_W,NH4UNC,CFC-11,CFC-11_FLAG_W,CFC-12,CFC-12_FLAG_W,CFC113,CFC113_FLAG_W,SF6,SF6_FLAG_W,TCARBN,TCARBN_FLAG_W,ALKALI,ALKALI_FLAG_W,ALKALI_POT,ALKALI_POT_FLAG_W,PH_TOT,PH_TMP,PH_TOT_FLAG_W,CALCIUM,CALCIUM_FLAG_W,DOC,DOC_FLAG_W,DELC13,DELC13_FLAG_W,C13ERR,DELC14,DELC14_FLAG_W,C14ERR,CS-134,CS-134_FLAG_W,CS134ER,CS-137,CS-137_FLAG_W,CS137ER,I-129,I-129_FLAG_W,I-129ER,CDOM-325,CDOM-325_FLAG_W,CDOM-370,CDOM-370_FLAG_W,CDOM-443,CDOM-443_FLAG_W
,,,,,,,,UTC,DEG,DEG,METERS,DBAR,,ITS-90,,ITS-90,,PSS-78,,PSS-78,,G/KG,,UMOL/KG,,UMOL/KG,,%TRANS,/METER,,MG/CUM,,MG/CUM,,MG/CUM,,UE/SQM/S,,UMOL/KG,,UMOL/KG,UMOL/KG,,UMOL/KG,UMOL/KG,,UMOL/KG,UMOL/KG,,UMOL/KG,UMOL/KG,,UMOL/KG,PMOL/KG,,PMOL/KG,,PMOL/KG,,FMOL/KG,,UMOL/KG,,UMOL/KG,,UMOL/KG,,,DEG C,,MMOL/KG,,UMOL/KG,,/MILLE,,/MILLE,/MILLE,,/MILLE,MBQ/KG,,MBQ/KG,MBQ/KG,,MBQ/KG,,,,/METER,,/METER,,/METER,
  49NZ20140717,   P01,    91,  3,      0,   -999,9,20140802,2037, 47.0058, 173.8337, 5784,   -999.0,9,-999.0000,9,-999.00000,9,-999.0000,9,  32.7970,2,-999.0000,9,  -999.00,9,  -999.00,9, -999.000,-999.0000,9, -999.000,9,  -999.00,9, -999.000,9, -999.000,9,    22.74,2,     0.09,    12.06,2,     0.02,     0.15,2,     0.01,     1.22,2,     0.01,     0.28,2,     0.02, -999.000,9, -999.000,9, -999.000,9, -999.000,9,   -999.0,9,   -999.0,9,   -999.0,9,-999.0000,     -999,9, -999.000,9,  -999.00,9, -999.000,9, -999.000,   -999.0,9,   -999.0, -999.000,1, -999.000, -999.000,1, -999.000,   -999.0,1,   -999.0, -999.000,9, -999.000,9, -999.000,9
  49NZ20140717,   P01,    91,  3,     36, X12J36,2,20140802,2037, 47.0058, 173.8337, 5784,      9.8,2,  12.0885,2,  12.09351,2,  32.7943,2,  32.7988,2,-999.0000,9,   277.04,2,   278.78,2,   96.746,   0.1323,2,    0.274,2,  -999.00,9,   -0.222,1,   58.194,2,    22.65,2,     0.09,    12.08,2,     0.02,     0.15,2,     0.01,     1.21,2,     0.01,  -999.00,9,  -999.00,    3.465,2,    2.006,2,    0.334,2,    2.410,2,   2046.4,2,   2222.1,2,   -999.0,9,   7.8286,       25,6, -999.000,9,    55.67,2, -999.000,1, -999.000,   -999.0,1,   -999.0, -999.000,9, -999.000, -999.000,9, -999.000,   -999.0,9,   -999.0, -999.000,9, -999.000,9, -999.000,9
  49NZ20140717,   P01,    91,  3,     35, X12J35,2,20140802,2037, 47.0058, 173.8337, 5784,     50.0,2,   5.5943,2,   5.59628,2,  32.8720,2,  32.8796,2,-999.0000,9,   329.89,2,   331.74,2,   96.077,   0.1601,2,    0.636,2,  -999.00,9,    0.794,1,    3.148,2,    27.68,2,     0.09,    16.07,2,     0.03,     0.16,2,     0.01,     1.48,2,     0.01,  -999.00,9,  -999.00,    4.827,2,    2.717,2,    0.449,2,    3.020,2,   2079.6,6,   2226.3,2,   -999.0,9,   7.7568,       25,2, -999.000,9,    52.58,2, -999.000,1, -999.000,   -999.0,1,   -999.0, -999.000,9, -999.000, -999.000,9, -999.000,   -999.0,9,   -999.0, -999.000,9, -999.000,9, -999.000,9
  49NZ20140717,   P01,    91,  3,     34, X12J34,2,20140802,2037, 47.0058, 173.8337, 5784,    100.7,2,   2.9869,2,   2.98689,2,  32.9731,2,  32.9736,2,-999.0000,9,   312.46,2,   313.68,2,   99.538,   0.0185,2,    0.110,2,  -999.00,9,    0.958,1,    0.097,2,    32.53,2,     0.10,    21.07,2,     0.03,     0.01,2,     0.01,     1.71,2,     0.01,  -999.00,9,  -999.00,    5.080,2,    2.836,2,    0.462,2,    3.090,2,   2113.7,2,   2222.4,2,   -999.0,9,   7.6720,       25,2, -999.000,9,    47.95,2, -999.000,1, -999.000,   -999.0,1,   -999.0, -999.000,9, -999.000, -999.000,9, -999.000,   -999.0,9,   -999.0, -999.000,9, -999.000,9, -999.000,9
  49NZ20140717,   P01,    91,  3,     33, X12J33,2,20140802,2037, 47.0058, 173.8337, 5784,    150.4,2,   2.5861,2,   2.58388,2,  33.4438,2,  33.4488,2,-999.0000,9,   185.66,2,   183.73,2,   99.678,   0.0129,2,    0.022,2,  -999.00,9,    2.103,1,    0.000,2,    66.30,2,     0.12,    34.37,2,     0.05,     0.01,2,     0.01,     2.54,2,     0.01,  -999.00,9,  -999.00,    4.018,2,    2.193,2,    0.311,2,    2.010,2,   2232.6,2,   2264.0,2,   -999.0,9,   7.4257,       25,6, -999.000,9,    45.73,2, -999.000,1, -999.000,   -999.0,1,   -999.0, -999.000,9, -999.000, -999.000,9, -999.000,   -999.0,9,   -999.0, -999.000,9, -999.000,9, -999.000,9
  49NZ20140717,   P01,    91,  3,     32, X12J32,2,20140802,2037, 47.0058, 173.8337, 5784,    199.6,2,   3.0829,2,   3.08288,2,  33.6991,2,  33.6996,2,-999.0000,9,   107.25,2,   106.85,2,   99.735,   0.0106,2,    0.012,2,  -999.00,9,    2.526,1,    0.000,2,    83.13,2,     0.13,    39.22,2,     0.05,     0.01,2,     0.01,     2.84,2,     0.01,  -999.00,9,  -999.00,    3.105,2,    1.656,2,    0.222,2,    1.370,2,   2286.1,2,   2284.5,6,   -999.0,9,   7.3230,       25,2, -999.000,9,    46.58,2, -999.000,1, -999.000,   -999.0,1,   -999.0, -999.000,9, -999.000, -999.000,9, -999.000,   -999.0,9,   -999.0, -999.000,9, -999.000,9, -999.000,9
  49NZ20140717,   P01,    91,  3,     31, X12J31,2,20140802,2037, 47.0058, 173.8337, 5784,    249.4,2,   3.3235,2,   3.32359,2,  33.8125,2,  33.8120,2,-999.0000,9,    69.87,2,    70.27,2,   99.743,   0.0103,2,    0.015,2,  -999.00,9,    2.786,1,    0.000,2,    91.89,2,     0.13,    41.76,2,     0.05,     0.01,2,     0.01,     2.99,2,     0.01,  -999.00,9,  -999.00,    2.583,2,    1.374,2,    0.178,2,    0.960,2,   2311.8,2,   2295.3,2,   -999.0,9,   7.2784,       25,2, -999.000,9,    44.25,2, -999.000,1, -999.000,   -999.0,1,   -999.0, -999.000,9, -999.000, -999.000,9, -999.000,   -999.0,9,   -999.0, -999.000,9, -999.000,9, -999.000,9
  49NZ20140717,   P01,    91,  3,     30, X12J30,2,20140802,2037, 47.0058, 173.8337, 5784,    330.5,2,   3.5894,2,   3.58931,2,  33.9703,2,  33.9695,2,-999.0000,9,    28.76,2,    28.97,2,   99.789,   0.0085,2,    0.016,2,  -999.00,9,    2.896,1,    0.000,2,   104.48,2,     0.14,    44.45,2,     0.06,     0.01,2,     0.01,     3.16,2,     0.01,  -999.00,9,  -999.00,    1.740,2,    0.896,2,    0.115,2,    0.530,2,   2340.2,2,   2310.1,2,   -999.0,9,   7.2397,       25,2, -999.000,9,    43.48,2, -999.000,1, -999.000,   -999.0,1,   -999.0, -999.000,9, -999.000, -999.000,9, -999.000,   -999.0,9,   -999.0, -999.000,9, -999.000,9, -999.000,9
  49NZ20140717,   P01,    91,  3,     29, X12J29,2,20140802,2037, 47.0058, 173.8337, 5784,    429.4,2,   3.5176,2,   3.51798,2,  34.0971,2,  34.0969,2,-999.0000,9,    22.51,2,    22.64,2,   99.884,   0.0046,2,    0.016,2,  -999.00,9,    2.960,1,    0.000,2,   115.89,2,     0.15,    44.11,2,     0.06,     0.01,2,     0.01,     3.14,2,     0.01,  -999.00,9,  -999.00,    1.123,2,    0.582,2,    0.073,2,    0.280,2,   2352.6,2,   2328.5,2,   -999.0,9,   7.2592,       25,2, -999.000,9,    40.42,2, -999.000,1, -999.000,   -999.0,1,   -999.0, -999.000,9, -999.000, -999.000,9, -999.000,   -999.0,9,   -999.0, -999.000,9, -999.000,9, -999.000,9
  49NZ20140717,   P01,    91,  3,     28, X12J28,2,20140802,2037, 47.0058, 173.8337, 5784,    530.5,2,   3.4222,2,   3.42211,2,  34.1798,2,  34.1789,2,-999.0000,9,    16.79,2,    16.36,2,   99.912,   0.0035,2,    0.014,2,  -999.00,9,    3.095,1,    0.000,2,   124.18,2,     0.15,    44.37,2,     0.06,     0.01,2,     0.01,     3.15,2,     0.01,  -999.00,9,  -999.00,    0.739,2,    0.390,2,    0.047,2,    0.170,2,   2362.1,2,   2342.1,2,   -999.0,9,   7.2644,       25,2, -999.000,9,    39.62,2, -999.000,1, -999.000,   -999.0,1,   -999.0, -999.000,9, -999.000, -999.000,9, -999.000,   -999.0,9,   -999.0, -999.000,9, -999.000,9, -999.000,9
  49NZ20140717,   P01,    91,  3,     27, X12J27,2,20140802,2037, 47.0058, 173.8337, 5784,    629.6,2,   3.2574,2,   3.25735,2,  34.2373,2,  34.2378,2,-999.0000,9,    23.41,2,    23.35,2,   99.899,   0.0040,2,    0.014,2,  -999.00,9,    3.041,1,    0.000,2,   130.26,2,     0.16,    43.65,2,     0.05,     0.01,2,     0.01,     3.12,2,     0.01,  -999.00,9,  -999.00,    0.595,2,    0.322,2,    0.035,2,    0.130,2,   2364.4,2,   2353.6,2,   -999.0,9,   7.2887,       25,2, -999.000,9,    39.37,2, -999.000,1, -999.000,   -999.0,1,   -999.0, -999.000,9, -999.000, -999.000,9, -999.000,   -999.0,9,   -999.0, -999.000,9, -999.000,9, -999.000,9
  49NZ20140717,   P01,    91,  3,     26, X12J26,2,20140802,2037, 47.0058, 173.8337, 5784,    731.0,2,   3.0951,2,   3.09496,2,  34.2949,2,  34.2944,2,-999.0000,9,    18.34,2,    17.75,2,   99.880,   0.0048,2,    0.013,2,  -999.00,9,    3.061,1,    0.000,2,   138.17,2,     0.16,    44.17,2,     0.06,     0.00,2,     0.01,     3.16,2,     0.01,  -999.00,9,  -999.00,    0.367,2,    0.204,2,    0.021,2,    0.100,2,   2374.7,6,   2362.4,2,   -999.0,9,   7.2875,       25,2, -999.000,9,    37.46,2, -999.000,1, -999.000,   -999.0,1,   -999.0, -999.000,9, -999.000, -999.000,9, -999.000,   -999.0,9,   -999.0, -999.000,9, -999.000,9, -999.000,9
  49NZ20140717,   P01,    91,  3,     25, X12J25,2,20140802,2037, 47.0058, 173.8337, 5784,    829.5,2,   2.9518,2,   2.95168,2,  34.3356,2,  34.3363,2,-999.0000,9,    22.58,2,    22.40,2,   99.906,   0.0038,2,    0.012,2,  -999.00,9,    3.076,1,    0.000,2,   142.84,2,     0.16,    43.80,2,     0.06,     0.01,2,     0.01,     3.14,2,     0.01,  -999.00,9,  -999.00,    0.298,2,    0.169,2,    0.017,2,    0.070,2,   2376.0,2,   2369.7,2,   -999.0,9,   7.3029,       25,2, -999.000,9,    37.43,2, -999.000,1, -999.000,   -999.0,1,   -999.0, -999.000,9, -999.000, -999.000,9, -999.000,   -999.0,9,   -999.0, -999.000,9, -999.000,9, -999.000,9
  49NZ20140717,   P01,    91,  3,     24, X12J24,2,20140802,2037, 47.0058, 173.8337, 5784,    930.6,2,   2.8058,2,   2.80582,2,  34.3795,2,  34.3790,2,-999.0000,9,    22.22,2,    21.67,2,   99.903,   0.0039,2,    0.012,2,  -999.00,9,    3.047,1,    0.000,2,   147.70,2,     0.17,    43.82,2,     0.06,     0.00,2,     0.01,     3.13,2,     0.01,  -999.00,9,  -999.00,    0.191,2,    0.111,2,    0.011,2,    0.050,2,   2384.5,2,   2377.5,2,   -999.0,9,   7.3075,       25,6, -999.000,9,    38.46,2, -999.000,1, -999.000,   -999.0,1,   -999.0, -999.000,9, -999.000, -999.000,9, -999.000,   -999.0,9,   -999.0, -999.000,9, -999.000,9, -999.000,9
  49NZ20140717,   P01,    91,  3,     23, X12J23,2,20140802,2037, 47.0058, 173.8337, 5784,   1070.6,2,   2.6102,2,   2.60984,2,  34.4277,2,  34.4285,2,-999.0000,9,    21.76,2,    21.38,2,   99.890,   0.0044,2,    0.011,2,  -999.00,9,    3.179,1,    0.000,2,   155.23,2,     0.17,    44.07,2,     0.06,     0.00,2,     0.01,     3.14,2,     0.01,  -999.00,9,  -999.00,    0.098,2,    0.057,2,    0.005,2,    0.000,2,   2389.1,2,   2385.5,2,   -999.0,9,   7.3125,       25,2, -999.000,9,    38.13,2, -999.000,1, -999.000,   -999.0,1,   -999.0, -999.000,9, -999.000, -999.000,9, -999.000,   -999.0,9,   -999.0, -999.000,9, -999.000,9, -999.000,9
  49NZ20140717,   P01,    91,  3,     22, X12J22,2,20140802,2037, 47.0058, 173.8337, 5784,   1270.4,2,   2.3810,2,   2.38078,2,  34.4784,2,  34.4789,2,-999.0000,9,    30.96,2,    30.72,2,   99.923,   0.0031,2,    0.010,2,  -999.00,9,    3.147,1,    0.000,2,   161.25,2,     0.17,    43.52,2,     0.05,     0.00,2,     0.01,     3.10,2,     0.01,  -999.00,9,  -999.00,    0.068,2,    0.040,2,    0.004,2,    0.000,2,   2391.0,2,   2395.1,6,   -999.0,9,   7.3359,       25,2, -999.000,9,    37.30,2, -999.000,1, -999.000,   -999.0,1,   -999.0, -999.000,9, -999.000, -999.000,9, -999.000,   -999.0,9,   -999.0, -999.000,9, -999.000,9, -999.000,9
  49NZ20140717,   P01,    91,  3,     21, X12J21,2,20140802,2037, 47.0058, 173.8337, 5784,   1470.0,2,   2.1950,2,   2.19449,2,  34.5228,2,  34.5229,2,-999.0000,9,    41.12,2,    41.08,2,   99.932,   0.0027,2,    0.009,2,  -999.00,9,    3.038,1,    0.000,2,   165.53,2,     0.18,    42.94,2,     0.05,     0.00,2,     0.01,     3.06,2,     0.01,  -999.00,9,  -999.00,    0.037,2,    0.022,2,    0.002,2,    0.050,2,   2389.2,2,   2401.4,2,   -999.0,9,   7.3594,       25,2, -999.000,9,    37.49,2, -999.000,9, -999.000,   -999.0,9,   -999.0, -999.000,9, -999.000, -999.000,9, -999.000,   -999.0,9,   -999.0, -999.000,9, -999.000,9, -999.000,9
  49NZ20140717,   P01,    91,  3,     20, X12J20,2,20140802,2037, 47.0058, 173.8337, 5784,   1670.9,2,   2.0458,2,   2.04588,2,  34.5584,2,  34.5582,2,-999.0000,9,    53.38,2,    53.62,2,   99.899,   0.0040,2,    0.008,2,  -999.00,9,    3.062,1,    0.000,2,   167.58,2,     0.18,    42.23,2,     0.05,     0.00,2,     0.01,     3.00,2,     0.01,  -999.00,9,  -999.00,    0.019,2,    0.011,2,    0.002,2,    0.030,2,   2384.8,2,   2406.1,2,   -999.0,9,   7.3867,       25,6, -999.000,9,    36.54,2, -999.000,1, -999.000,   -999.0,1,   -999.0, -999.000,9, -999.000, -999.000,9, -999.000,   -999.0,9,   -999.0, -999.000,9, -999.000,9, -999.000,9
  49NZ20140717,   P01,    91,  3,     19, X12J19,2,20140802,2037, 47.0058, 173.8337, 5784,   1870.9,2,   1.9323,2,   1.93244,2,  34.5831,2,  34.5831,2,-999.0000,9,    63.72,2,    63.98,2,   99.925,   0.0030,2,    0.007,2,  -999.00,9,    2.930,1,    0.000,2,   168.88,2,     0.18,    41.61,2,     0.05,     0.01,2,     0.01,     2.95,2,     0.01,  -999.00,9,  -999.00,    0.013,2,    0.007,2,    0.002,2,    0.050,2,   2381.6,2,   2410.6,2,   -999.0,9,   7.4090,       25,2, -999.000,9,    36.55,2, -999.000,9, -999.000,   -999.0,9,   -999.0, -999.000,9, -999.000, -999.000,9, -999.000,   -999.0,9,   -999.0, -999.000,9, -999.000,9, -999.000,9
  49NZ20140717,   P01,    91,  3,     18, X12J18,2,20140802,2037, 47.0058, 173.8337, 5784,   2070.4,2,   1.8308,2,   1.83087,2,  34.6045,2,  34.6046,2,-999.0000,9,    75.89,2,    76.49,2,   99.940,   0.0024,2,    0.006,2,  -999.00,9,    2.873,1,    0.000,2,   168.75,2,     0.18,    40.85,2,     0.05,     0.00,2,     0.01,     2.90,2,     0.01,  -999.00,9,  -999.00,    0.004,2,    0.002,2,    0.000,2,    0.050,2,   2375.4,2,   2412.4,2,   -999.0,9,   7.4337,       25,2, -999.000,9,    37.24,2, -999.000,1, -999.000,   -999.0,1,   -999.0, -999.000,9, -999.000, -999.000,9, -999.000,   -999.0,9,   -999.0, -999.000,9, -999.000,9, -999.000,9
  49NZ20140717,   P01,    91,  3,     17, X12J17,2,20140802,2037, 47.0058, 173.8337, 5784,   2270.6,2,   1.7442,2,   1.74417,2,  34.6218,2,  34.6219,2,-999.0000,9,    87.47,2,    87.85,2,   99.947,   0.0021,2,    0.004,2,  -999.00,9,    2.854,1,    0.000,2,   167.73,2,     0.18,    40.13,2,     0.05,     0.00,2,     0.01,     2.84,2,     0.01,  -999.00,9,  -999.00,    0.001,2,    0.001,2,    0.000,2,    0.050,2,   2369.3,2,   2416.6,2,   -999.0,9,   7.4568,       25,2, -999.000,9,    36.75,2, -999.000,9, -999.000,   -999.0,9,   -999.0, -999.000,9, -999.000, -999.000,9, -999.000,   -999.0,9,   -999.0, -999.000,9, -999.000,9, -999.000,9
  49NZ20140717,   P01,    91,  3,     16, X12J16,2,20140802,2037, 47.0058, 173.8337, 5784,   2470.8,2,   1.6759,2,   1.67594,2,  34.6351,2,  34.6353,2,-999.0000,9,    97.96,2,    98.33,2,   99.957,   0.0017,2,    0.004,2,  -999.00,9,    2.760,1,    0.000,2,   166.60,2,     0.18,    39.44,2,     0.05,     0.00,2,     0.01,     2.79,2,     0.01,  -999.00,9,  -999.00,    0.000,2,    0.000,2,    0.000,2,    0.030,2,   2362.6,6,   2417.9,2,   -999.0,9,   7.4774,       25,2, -999.000,9,    37.32,2, -999.000,9, -999.000,   -999.0,9,   -999.0, -999.000,9, -999.000, -999.000,9, -999.000,   -999.0,9,   -999.0, -999.000,9, -999.000,9, -999.000,9
  49NZ20140717,   P01,    91,  3,     15, X12J15,2,20140802,2037, 47.0058, 173.8337, 5784,   2670.6,2,   1.6151,2,   1.61517,2,  34.6466,2,  34.6467,2,-999.0000,9,   108.09,2,   108.46,2,   99.955,   0.0018,2,    0.003,2,  -999.00,9,    2.686,1,    0.000,2,   164.87,2,     0.18,    38.85,2,     0.05,     0.00,2,     0.01,     2.75,2,     0.01,  -999.00,9,  -999.00,    0.003,2,    0.000,2,    0.000,2,    0.030,2,   2355.2,2,   2416.6,2,   -999.0,9,   7.4964,       25,2, -999.000,9,    37.45,2, -999.000,1, -999.000,   -999.0,1,   -999.0, -999.000,9, -999.000, -999.000,9, -999.000,   -999.0,9,   -999.0, -999.000,9, -999.000,9, -999.000,9
  49NZ20140717,   P01,    91,  3,     14, X12J14,2,20140802,2037, 47.0058, 173.8337, 5784,   2870.4,2,   1.5721,2,   1.57224,2,  34.6553,2,  34.6552,2,-999.0000,9,   116.56,2,   116.87,2,   99.957,   0.0017,2,    0.002,2,  -999.00,9,    2.703,1,    0.000,2,   162.86,2,     0.18,    38.27,2,     0.05,     0.00,2,     0.01,     2.70,2,     0.01,  -999.00,9,  -999.00,    0.001,2,    0.000,2,    0.000,2,    0.000,2,   2350.6,2,   2419.1,2,   -999.0,9,   7.5118,       25,2, -999.000,9,    36.98,2, -999.000,9, -999.000,   -999.0,9,   -999.0, -999.000,9, -999.000, -999.000,9, -999.000,   -999.0,9,   -999.0, -999.000,9, -999.000,9, -999.000,9
  49NZ20140717,   P01,    91,  3,     13, X12113,2,20140802,2037, 47.0058, 173.8337, 5784,   3082.5,2,   1.5342,2,   1.53398,2,  34.6626,2,  34.6625,2,-999.0000,9,   123.84,2,   124.29,2,   99.957,   0.0017,2,    0.002,2,  -999.00,9,    2.573,1,    0.000,2,   161.85,2,     0.17,    37.86,2,     0.05,     0.00,2,     0.01,     2.67,2,     0.01,  -999.00,9,  -999.00,    0.000,2,    0.000,2,    0.002,2,    0.000,2,   2347.8,2,   2417.8,2,   -999.0,9,   7.5254,       25,2, -999.000,9,    37.59,2, -999.000,1, -999.000,   -999.0,1,   -999.0, -999.000,9, -999.000, -999.000,9, -999.000,   -999.0,9,   -999.0, -999.000,9, -999.000,9, -999.000,9
  49NZ20140717,   P01,    91,  3,     12, X12J12,2,20140802,2037, 47.0058, 173.8337, 5784,   3330.2,2,   1.5022,2,   1.50218,2,  34.6695,2,  34.6695,2,-999.0000,9,   131.86,2,   131.97,2,   99.957,   0.0017,2,    0.001,2,  -999.00,9,    2.476,1,    0.000,2,   159.31,2,     0.17,    37.31,2,     0.05,     0.00,2,     0.01,     2.62,2,     0.01,  -999.00,9,  -999.00,    0.000,2,    0.000,2,    0.000,2,    0.000,2,   2340.4,2,   2418.8,6,   -999.0,9,   7.5396,       25,2, -999.000,9,    37.22,2, -999.000,9, -999.000,   -999.0,9,   -999.0, -999.000,9, -999.000, -999.000,9, -999.000,   -999.0,9,   -999.0, -999.000,9, -999.000,9, -999.000,9
  49NZ20140717,   P01,    91,  3,     11, X12J11,2,20140802,2037, 47.0058, 173.8337, 5784,   3580.3,2,   1.4801,2,   1.48022,2,  34.6753,2,  34.6751,2,-999.0000,9,   138.79,2,   138.85,2,   99.960,   0.0016,2,    0.001,2,  -999.00,9,    2.455,1,    0.000,2,   157.12,2,     0.17,    36.86,2,     0.05,     0.00,2,     0.01,     2.59,2,     0.01,  -999.00,9,  -999.00,    0.000,2,    0.001,2,    0.005,2,    0.000,2,   2336.9,2,   2417.2,2,   -999.0,9,   7.5517,       25,2, -999.000,9,    38.67,2, -999.000,1, -999.000,   -999.0,1,   -999.0, -999.000,9, -999.000, -999.000,9, -999.000,   -999.0,9,   -999.0, -999.000,9, -999.000,9, -999.000,9
  49NZ20140717,   P01,    91,  3,     10, X12J10,2,20140802,2037, 47.0058, 173.8337, 5784,   3830.9,2,   1.4646,2,   1.46470,2,  34.6802,2,  34.6793,2,-999.0000,9,   144.80,2,   144.61,2,   99.977,   0.0009,2,    0.001,2,  -999.00,9,    2.393,1,    0.000,2,   155.53,2,     0.17,    36.49,2,     0.05,     0.00,2,     0.01,     2.56,2,     0.01,  -999.00,9,  -999.00,    0.000,2,    0.000,2,    0.000,2,    0.000,2,   2333.2,2,   2418.0,2,   -999.0,9,   7.5623,       25,2, -999.000,9,    39.19,2, -999.000,9, -999.000,   -999.0,9,   -999.0, -999.000,9, -999.000, -999.000,9, -999.000,   -999.0,9,   -999.0, -999.000,9, -999.000,9, -999.000,9