BOTTLE,20230904JAMSTECRIGC
EXPOCODE,SECT,STNNBR,CASTNO,SAMPNO,BTLNBR,BTLNBR_FLAG_W,DATE,TIME,LATITUDE,LONGITUDE,DEPTH,CTDPRS,CTDPRS_FLAG_W,CTDTMP,CTDTMP_FLAG_W,SBE35,SBE35_FLAG_W,CTDSAL,CTDSAL_FLAG_W,SALNTY,SALNTY_FLAG_W,DNSSAL,DNSSAL_FLAG_W,CTDOXY,CTDOXY_FLAG_W,OXYGEN,OXYGEN_FLAG_W,XMISS,XMISSCP,XMISS_FLAG_W,FLUOR,FLUOR_FLAG_W,CHLORA,CHLORA_FLAG_W,CDOM,CDOM_FLAG_W,PAR,PAR_FLAG_W,SILCAT,SILCAT_FLAG_W,SILUNC,NITRAT,NITRAT_FLAG_W,NRAUNC,NITRIT,NITRIT_FLAG_W,NRIUNC,PHSPHT,PHSPHT_FLAG_W,PHPUNC,AMMONIA,AMMONIA_FLAG_W,NH4UNC,CFC-11,CFC-11_FLAG_W,CFC-12,CFC-12_FLAG_W,CFC113,CFC113_FLAG_W,SF6,SF6_FLAG_W,TCARBN,TCARBN_FLAG_W,ALKALI,ALKALI_FLAG_W,ALKALI_POT,ALKALI_POT_FLAG_W,PH_TOT,PH_TMP,PH_TOT_FLAG_W,CALCIUM,CALCIUM_FLAG_W,DOC,DOC_FLAG_W,DELC13,DELC13_FLAG_W,C13ERR,DELC14,DELC14_FLAG_W,C14ERR,CS-134,CS-134_FLAG_W,CS134ER,CS-137,CS-137_FLAG_W,CS137ER,I-129,I-129_FLAG_W,I-129ER,CDOM-325,CDOM-325_FLAG_W,CDOM-370,CDOM-370_FLAG_W,CDOM-443,CDOM-443_FLAG_W
,,,,,,,,UTC,DEG,DEG,METERS,DBAR,,ITS-90,,ITS-90,,PSS-78,,PSS-78,,G/KG,,UMOL/KG,,UMOL/KG,,%TRANS,/METER,,MG/CUM,,MG/CUM,,MG/CUM,,UE/SQM/S,,UMOL/KG,,UMOL/KG,UMOL/KG,,UMOL/KG,UMOL/KG,,UMOL/KG,UMOL/KG,,UMOL/KG,UMOL/KG,,UMOL/KG,PMOL/KG,,PMOL/KG,,PMOL/KG,,FMOL/KG,,UMOL/KG,,UMOL/KG,,UMOL/KG,,,DEG C,,MMOL/KG,,UMOL/KG,,/MILLE,,/MILLE,/MILLE,,/MILLE,MBQ/KG,,MBQ/KG,MBQ/KG,,MBQ/KG,,,,/METER,,/METER,,/METER,
  49NZ20140717,   P01,    56,  1,      9, X12J09,2,20140722,1216, 40.0151, 148.3872, 5446,   3920.3,2,   1.4516,2,   1.45181,2,  34.6827,2,  34.6823,2,-999.0000,9,   149.96,2,   149.53,2,   99.979,   0.0008,2,   -0.004,2,  -999.00,9,    2.039,1,    0.000,2,   151.30,2,     0.17,    36.34,2,     0.05,     0.00,2,     0.01,     2.53,2,     0.01,  -999.00,9,  -999.00,    0.000,2,    0.000,2,    0.000,2, -999.000,9,   2323.4,2,   2419.6,2,   2421.6,2,   7.5743,       25,2,   10.328,2,    37.42,2, -999.000,9, -999.000,   -999.0,9,   -999.0, -999.000,9, -999.000, -999.000,9, -999.000,   -999.0,9,   -999.0, -999.000,9, -999.000,9, -999.000,9
  49NZ20140717,   P01,    56,  1,      8, X12J08,2,20140722,1216, 40.0151, 148.3872, 5446,   4170.2,2,   1.4519,2,   1.45199,2,  34.6854,2,  34.6854,2,-999.0000,9,   153.52,2,   153.14,2,  100.001,   0.0000,2,   -0.004,2,  -999.00,9,    2.093,4,    0.000,2,   150.39,2,     0.17,    36.09,2,     0.05,     0.00,2,     0.01,     2.51,2,     0.01,  -999.00,9,  -999.00,    0.010,2,    0.003,2,    0.000,2, -999.000,9,   2320.8,6,   2418.6,2,   -999.0,9,   7.5793,       25,2, -999.000,9,    37.46,2, -999.000,9, -999.000,   -999.0,9,   -999.0, -999.000,9, -999.000, -999.000,9, -999.000,   -999.0,9,   -999.0, -999.000,9, -999.000,9, -999.000,9
  49NZ20140717,   P01,    56,  1,      7, X12J07,2,20140722,1216, 40.0151, 148.3872, 5446,   4420.6,2,   1.4610,2,   1.46116,2,  34.6875,2,  34.6873,2,-999.0000,9,   156.36,2,   155.95,2,  100.001,   0.0000,2,   -0.004,2,  -999.00,9,    1.032,4,    0.000,2,   149.19,2,     0.17,    35.92,2,     0.05,     0.00,2,     0.01,     2.49,2,     0.01,  -999.00,9,  -999.00,    0.000,2,    0.000,2,    0.000,2, -999.000,9,   2318.6,2,   2417.3,2,   -999.0,9,   7.5839,       25,6, -999.000,9,    37.12,2, -999.000,9, -999.000,   -999.0,9,   -999.0, -999.000,9, -999.000, -999.000,9, -999.000,   -999.0,9,   -999.0, -999.000,9, -999.000,9, -999.000,9
  49NZ20140717,   P01,    56,  1,      6, X12J06,2,20140722,1216, 40.0151, 148.3872, 5446,   4670.9,2,   1.4763,2,   1.47639,2,  34.6890,2,  34.6889,2,-999.0000,9,   158.25,2,   157.85,2,  100.010,  -0.0004,2,   -0.004,2,  -999.00,9,   -0.787,4,    0.000,2,   148.69,2,     0.17,    35.79,2,     0.05,     0.00,2,     0.01,     2.48,2,     0.01,  -999.00,9,  -999.00,    0.001,2,    0.000,2,    0.000,2, -999.000,9,   2320.1,2,   2416.1,6,   -999.0,9,   7.5868,       25,2, -999.000,9,    38.12,2, -999.000,9, -999.000,   -999.0,9,   -999.0, -999.000,9, -999.000, -999.000,9, -999.000,   -999.0,9,   -999.0, -999.000,9, -999.000,9, -999.000,9
  49NZ20140717,   P01,    56,  1,      5, X12J05,2,20140722,1216, 40.0151, 148.3872, 5446,   4919.7,2,   1.5000,2,   1.50011,2,  34.6897,2,  34.6895,2,-999.0000,9,   158.62,2,   158.44,2,   99.934,   0.0026,2,   -0.004,2,  -999.00,9,   -1.347,4,    0.000,2,   149.56,2,     0.17,    35.72,2,     0.05,     0.00,2,     0.01,     2.48,2,     0.01,  -999.00,9,  -999.00,    0.003,2,    0.000,2,    0.000,2, -999.000,9,   2319.0,2,   2416.1,2,   2420.1,2,   7.5873,       25,2,   10.308,2,    38.27,2, -999.000,9, -999.000,   -999.0,9,   -999.0, -999.000,9, -999.000, -999.000,9, -999.000,   -999.0,9,   -999.0, -999.000,9, -999.000,9, -999.000,9
  49NZ20140717,   P01,    56,  1,      4, X12J04,2,20140722,1216, 40.0151, 148.3872, 5446,   5171.0,2,   1.5221,2,   1.52213,2,  34.6905,2,  34.6905,2,-999.0000,9,   160.47,2,   160.38,2,   99.811,   0.0076,2,   -0.004,2,  -999.00,9,  201.462,4,    0.000,2,   147.14,2,     0.17,    35.59,2,     0.05,     0.01,2,     0.01,     2.47,2,     0.01,  -999.00,9,  -999.00,    0.002,2,    0.000,2,    0.000,2, -999.000,9,   2315.5,2,   2415.3,2,   -999.0,9,   7.5899,       25,2, -999.000,9,    38.40,2, -999.000,9, -999.000,   -999.0,9,   -999.0, -999.000,9, -999.000, -999.000,9, -999.000,   -999.0,9,   -999.0, -999.000,9, -999.000,9, -999.000,9
  49NZ20140717,   P01,    56,  1,      3, X12J03,2,20140722,1216, 40.0151, 148.3872, 5446,   5420.7,2,   1.5444,2,   1.54433,2,  34.6912,2,  34.6916,2,-999.0000,9,   162.82,2,   163.02,2,   99.809,   0.0076,2,   -0.004,2,  -999.00,9,  307.387,4,    0.000,2,   143.78,2,     0.16,    35.45,2,     0.05,     0.00,2,     0.01,     2.45,2,     0.01,  -999.00,9,  -999.00,    0.000,2,    0.000,2,    0.000,2, -999.000,9,   2312.8,2,   2412.3,2,   -999.0,9,   7.5928,       25,2, -999.000,9,    40.18,2, -999.000,9, -999.000,   -999.0,9,   -999.0, -999.000,9, -999.000, -999.000,9, -999.000,   -999.0,9,   -999.0, -999.000,9, -999.000,9, -999.000,9
  49NZ20140717,   P01,    56,  1,      2, X12J02,2,20140722,1216, 40.0151, 148.3872, 5446,   2529.1,2,   1.6346,2,   1.63450,2,  34.6452,2,  34.6453,2,-999.0000,9,   109.95,2,   109.90,2,   99.990,   0.0004,2,   -0.001,2,  -999.00,9,    2.215,1,    0.000,2,   160.54,2,     0.17,    38.98,2,     0.05,     0.01,2,     0.01,     2.74,2,     0.01,  -999.00,9,  -999.00,    0.000,2,    0.000,2,    0.000,2, -999.000,9,   2351.1,2,   2420.6,2,   -999.0,9,   7.5041,       25,2, -999.000,9,    37.76,2, -999.000,9, -999.000,   -999.0,9,   -999.0, -999.000,9, -999.000, -999.000,9, -999.000,   -999.0,9,   -999.0, -999.000,9, -999.000,9, -999.000,9
  49NZ20140717,   P01,    56,  1,      1, X12J01,2,20140722,1216, 40.0151, 148.3872, 5446,   5551.5,2,   1.5593,2,   1.55914,2,  34.6913,2,  34.6918,2,-999.0000,9,   163.05,2,   163.31,2,   99.658,   0.0137,2,   -0.004,2,  -999.00,9,  420.875,4,    0.000,2,   143.81,2,     0.16,    35.42,2,     0.05,     0.00,2,     0.01,     2.45,2,     0.01,  -999.00,9,  -999.00,    0.000,2,    0.002,2,    0.000,2, -999.000,9,   2312.0,2,   2412.3,2,   2414.1,2,   7.5928,       25,2,   10.313,2,    35.95,2, -999.000,9, -999.000,   -999.0,9,   -999.0, -999.000,9, -999.000, -999.000,9, -999.000,   -999.0,9,   -999.0, -999.000,9, -999.000,9, -999.000,9