BOTTLE,20230904JAMSTECRIGC
EXPOCODE,SECT,STNNBR,CASTNO,SAMPNO,BTLNBR,BTLNBR_FLAG_W,DATE,TIME,LATITUDE,LONGITUDE,DEPTH,CTDPRS,CTDPRS_FLAG_W,CTDTMP,CTDTMP_FLAG_W,SBE35,SBE35_FLAG_W,CTDSAL,CTDSAL_FLAG_W,SALNTY,SALNTY_FLAG_W,DNSSAL,DNSSAL_FLAG_W,CTDOXY,CTDOXY_FLAG_W,OXYGEN,OXYGEN_FLAG_W,XMISS,XMISSCP,XMISS_FLAG_W,FLUOR,FLUOR_FLAG_W,CHLORA,CHLORA_FLAG_W,CDOM,CDOM_FLAG_W,PAR,PAR_FLAG_W,SILCAT,SILCAT_FLAG_W,SILUNC,NITRAT,NITRAT_FLAG_W,NRAUNC,NITRIT,NITRIT_FLAG_W,NRIUNC,PHSPHT,PHSPHT_FLAG_W,PHPUNC,AMMONIA,AMMONIA_FLAG_W,NH4UNC,CFC-11,CFC-11_FLAG_W,CFC-12,CFC-12_FLAG_W,CFC113,CFC113_FLAG_W,SF6,SF6_FLAG_W,TCARBN,TCARBN_FLAG_W,ALKALI,ALKALI_FLAG_W,ALKALI_POT,ALKALI_POT_FLAG_W,PH_TOT,PH_TMP,PH_TOT_FLAG_W,CALCIUM,CALCIUM_FLAG_W,DOC,DOC_FLAG_W,DELC13,DELC13_FLAG_W,C13ERR,DELC14,DELC14_FLAG_W,C14ERR,CS-134,CS-134_FLAG_W,CS134ER,CS-137,CS-137_FLAG_W,CS137ER,I-129,I-129_FLAG_W,I-129ER,CDOM-325,CDOM-325_FLAG_W,CDOM-370,CDOM-370_FLAG_W,CDOM-443,CDOM-443_FLAG_W
,,,,,,,,UTC,DEG,DEG,METERS,DBAR,,ITS-90,,ITS-90,,PSS-78,,PSS-78,,G/KG,,UMOL/KG,,UMOL/KG,,%TRANS,/METER,,MG/CUM,,MG/CUM,,MG/CUM,,UE/SQM/S,,UMOL/KG,,UMOL/KG,UMOL/KG,,UMOL/KG,UMOL/KG,,UMOL/KG,UMOL/KG,,UMOL/KG,UMOL/KG,,UMOL/KG,PMOL/KG,,PMOL/KG,,PMOL/KG,,FMOL/KG,,UMOL/KG,,UMOL/KG,,UMOL/KG,,,DEG C,,MMOL/KG,,UMOL/KG,,/MILLE,,/MILLE,/MILLE,,/MILLE,MBQ/KG,,MBQ/KG,MBQ/KG,,MBQ/KG,,,,/METER,,/METER,,/METER,
  49NZ20140717,   P01,    86,  1,      9, X12J09,2,20140801,0611, 46.9674, 169.8085, 4095,   3921.6,2,   1.4605,2,   1.46051,2,  34.6815,2,  34.6815,2,-999.0000,9,   146.84,2,   147.63,2,   99.866,   0.0054,2,    0.001,2,  -999.00,9,    2.236,1,    0.000,2,   153.73,2,     0.17,    36.31,2,     0.05,     0.01,2,     0.01,     2.54,2,     0.01,  -999.00,9,  -999.00,    0.001,2,    0.001,2,    0.000,2, -999.000,9,   2330.9,2,   2417.2,2,   -999.0,9,   7.5676,       25,2, -999.000,9,    38.98,2, -999.000,9, -999.000,   -999.0,9,   -999.0, -999.000,9, -999.000, -999.000,9, -999.000,   -999.0,9,   -999.0, -999.000,9, -999.000,9, -999.000,9
  49NZ20140717,   P01,    86,  1,      8, X12J08,9,20140801,0611, 46.9674, 169.8085, 4095,   -999.0,9,-999.0000,9,-999.00000,9,-999.0000,9,-999.0000,9,-999.0000,9,  -999.00,9,  -999.00,9, -999.000,-999.0000,9, -999.000,9,  -999.00,9, -999.000,9, -999.000,9,  -999.00,9,  -999.00,  -999.00,9,  -999.00,  -999.00,9,  -999.00,  -999.00,9,  -999.00,  -999.00,9,  -999.00, -999.000,9, -999.000,9, -999.000,9, -999.000,9,   -999.0,9,   -999.0,9,   -999.0,9,-999.0000,     -999,9, -999.000,9,  -999.00,9, -999.000,9, -999.000,   -999.0,9,   -999.0, -999.000,9, -999.000, -999.000,9, -999.000,   -999.0,9,   -999.0, -999.000,9, -999.000,9, -999.000,9
  49NZ20140717,   P01,    86,  1,      7, X12J07,9,20140801,0611, 46.9674, 169.8085, 4095,   -999.0,9,-999.0000,9,-999.00000,9,-999.0000,9,-999.0000,9,-999.0000,9,  -999.00,9,  -999.00,9, -999.000,-999.0000,9, -999.000,9,  -999.00,9, -999.000,9, -999.000,9,  -999.00,9,  -999.00,  -999.00,9,  -999.00,  -999.00,9,  -999.00,  -999.00,9,  -999.00,  -999.00,9,  -999.00, -999.000,9, -999.000,9, -999.000,9, -999.000,9,   -999.0,9,   -999.0,9,   -999.0,9,-999.0000,     -999,9, -999.000,9,  -999.00,9, -999.000,9, -999.000,   -999.0,9,   -999.0, -999.000,9, -999.000, -999.000,9, -999.000,   -999.0,9,   -999.0, -999.000,9, -999.000,9, -999.000,9
  49NZ20140717,   P01,    86,  1,      6, X12J06,9,20140801,0611, 46.9674, 169.8085, 4095,   -999.0,9,-999.0000,9,-999.00000,9,-999.0000,9,-999.0000,9,-999.0000,9,  -999.00,9,  -999.00,9, -999.000,-999.0000,9, -999.000,9,  -999.00,9, -999.000,9, -999.000,9,  -999.00,9,  -999.00,  -999.00,9,  -999.00,  -999.00,9,  -999.00,  -999.00,9,  -999.00,  -999.00,9,  -999.00, -999.000,9, -999.000,9, -999.000,9, -999.000,9,   -999.0,9,   -999.0,9,   -999.0,9,-999.0000,     -999,9, -999.000,9,  -999.00,9, -999.000,9, -999.000,   -999.0,9,   -999.0, -999.000,9, -999.000, -999.000,9, -999.000,   -999.0,9,   -999.0, -999.000,9, -999.000,9, -999.000,9
  49NZ20140717,   P01,    86,  1,      5, X12J05,9,20140801,0611, 46.9674, 169.8085, 4095,   -999.0,9,-999.0000,9,-999.00000,9,-999.0000,9,-999.0000,9,-999.0000,9,  -999.00,9,  -999.00,9, -999.000,-999.0000,9, -999.000,9,  -999.00,9, -999.000,9, -999.000,9,  -999.00,9,  -999.00,  -999.00,9,  -999.00,  -999.00,9,  -999.00,  -999.00,9,  -999.00,  -999.00,9,  -999.00, -999.000,9, -999.000,9, -999.000,9, -999.000,9,   -999.0,9,   -999.0,9,   -999.0,9,-999.0000,     -999,9, -999.000,9,  -999.00,9, -999.000,9, -999.000,   -999.0,9,   -999.0, -999.000,9, -999.000, -999.000,9, -999.000,   -999.0,9,   -999.0, -999.000,9, -999.000,9, -999.000,9
  49NZ20140717,   P01,    86,  1,      4, X12J04,9,20140801,0611, 46.9674, 169.8085, 4095,   -999.0,9,-999.0000,9,-999.00000,9,-999.0000,9,-999.0000,9,-999.0000,9,  -999.00,9,  -999.00,9, -999.000,-999.0000,9, -999.000,9,  -999.00,9, -999.000,9, -999.000,9,  -999.00,9,  -999.00,  -999.00,9,  -999.00,  -999.00,9,  -999.00,  -999.00,9,  -999.00,  -999.00,9,  -999.00, -999.000,9, -999.000,9, -999.000,9, -999.000,9,   -999.0,9,   -999.0,9,   -999.0,9,-999.0000,     -999,9, -999.000,9,  -999.00,9, -999.000,9, -999.000,   -999.0,9,   -999.0, -999.000,9, -999.000, -999.000,9, -999.000,   -999.0,9,   -999.0, -999.000,9, -999.000,9, -999.000,9
  49NZ20140717,   P01,    86,  1,      3, X12J03,9,20140801,0611, 46.9674, 169.8085, 4095,   -999.0,9,-999.0000,9,-999.00000,9,-999.0000,9,-999.0000,9,-999.0000,9,  -999.00,9,  -999.00,9, -999.000,-999.0000,9, -999.000,9,  -999.00,9, -999.000,9, -999.000,9,  -999.00,9,  -999.00,  -999.00,9,  -999.00,  -999.00,9,  -999.00,  -999.00,9,  -999.00,  -999.00,9,  -999.00, -999.000,9, -999.000,9, -999.000,9, -999.000,9,   -999.0,9,   -999.0,9,   -999.0,9,-999.0000,     -999,9, -999.000,9,  -999.00,9, -999.000,9, -999.000,   -999.0,9,   -999.0, -999.000,9, -999.000, -999.000,9, -999.000,   -999.0,9,   -999.0, -999.000,9, -999.000,9, -999.000,9
  49NZ20140717,   P01,    86,  1,      2, X12J02,2,20140801,0611, 46.9674, 169.8085, 4095,    150.0,2,   3.5115,2,   3.51134,2,  33.7327,2,  33.7503,2,-999.0000,9,    73.39,2,    69.13,2,   99.617,   0.0153,2,    0.024,2,  -999.00,9,    2.544,1,    0.000,2,    86.85,2,     0.13,    42.42,2,     0.11,     0.01,2,     0.01,     3.02,2,     0.01,  -999.00,9,  -999.00,    2.704,2,    1.407,2,    0.200,2, -999.000,9,   2307.4,2,   2286.3,2,   -999.0,9,   7.2678,       25,2, -999.000,9,    46.14,2, -999.000,9, -999.000,   -999.0,9,   -999.0, -999.000,9, -999.000, -999.000,9, -999.000,   -999.0,9,   -999.0, -999.000,9, -999.000,9, -999.000,9
  49NZ20140717,   P01,    86,  1,      1, X12J01,2,20140801,0611, 46.9674, 169.8085, 4095,   4144.9,2,   1.4694,2,   1.46927,2,  34.6830,2,  34.6830,2,-999.0000,9,   148.93,2,   149.61,2,   99.842,   0.0063,2,    0.001,2,  -999.00,9,    2.250,1,    0.000,2,   153.33,2,     0.17,    36.20,2,     0.05,     0.01,2,     0.01,     2.53,2,     0.01,  -999.00,9,  -999.00,    0.003,2,    0.001,2,    0.000,2, -999.000,9,   2329.1,2,   2416.7,2,   -999.0,9,   7.5702,       25,2, -999.000,9,    38.40,2, -999.000,9, -999.000,   -999.0,9,   -999.0, -999.000,9, -999.000, -999.000,9, -999.000,   -999.0,9,   -999.0, -999.000,9, -999.000,9, -999.000,9