BOTTLE,20230904JAMSTECRIGC
EXPOCODE,SECT,STNNBR,CASTNO,SAMPNO,BTLNBR,BTLNBR_FLAG_W,DATE,TIME,LATITUDE,LONGITUDE,DEPTH,CTDPRS,CTDPRS_FLAG_W,CTDTMP,CTDTMP_FLAG_W,SBE35,SBE35_FLAG_W,CTDSAL,CTDSAL_FLAG_W,SALNTY,SALNTY_FLAG_W,DNSSAL,DNSSAL_FLAG_W,CTDOXY,CTDOXY_FLAG_W,OXYGEN,OXYGEN_FLAG_W,XMISS,XMISSCP,XMISS_FLAG_W,FLUOR,FLUOR_FLAG_W,CHLORA,CHLORA_FLAG_W,CDOM,CDOM_FLAG_W,PAR,PAR_FLAG_W,SILCAT,SILCAT_FLAG_W,SILUNC,NITRAT,NITRAT_FLAG_W,NRAUNC,NITRIT,NITRIT_FLAG_W,NRIUNC,PHSPHT,PHSPHT_FLAG_W,PHPUNC,AMMONIA,AMMONIA_FLAG_W,NH4UNC,CFC-11,CFC-11_FLAG_W,CFC-12,CFC-12_FLAG_W,CFC113,CFC113_FLAG_W,SF6,SF6_FLAG_W,TCARBN,TCARBN_FLAG_W,ALKALI,ALKALI_FLAG_W,ALKALI_POT,ALKALI_POT_FLAG_W,PH_TOT,PH_TMP,PH_TOT_FLAG_W,CALCIUM,CALCIUM_FLAG_W,DOC,DOC_FLAG_W,DELC13,DELC13_FLAG_W,C13ERR,DELC14,DELC14_FLAG_W,C14ERR,CS-134,CS-134_FLAG_W,CS134ER,CS-137,CS-137_FLAG_W,CS137ER,I-129,I-129_FLAG_W,I-129ER,CDOM-325,CDOM-325_FLAG_W,CDOM-370,CDOM-370_FLAG_W,CDOM-443,CDOM-443_FLAG_W
,,,,,,,,UTC,DEG,DEG,METERS,DBAR,,ITS-90,,ITS-90,,PSS-78,,PSS-78,,G/KG,,UMOL/KG,,UMOL/KG,,%TRANS,/METER,,MG/CUM,,MG/CUM,,MG/CUM,,UE/SQM/S,,UMOL/KG,,UMOL/KG,UMOL/KG,,UMOL/KG,UMOL/KG,,UMOL/KG,UMOL/KG,,UMOL/KG,UMOL/KG,,UMOL/KG,PMOL/KG,,PMOL/KG,,PMOL/KG,,FMOL/KG,,UMOL/KG,,UMOL/KG,,UMOL/KG,,,DEG C,,MMOL/KG,,UMOL/KG,,/MILLE,,/MILLE,/MILLE,,/MILLE,MBQ/KG,,MBQ/KG,MBQ/KG,,MBQ/KG,,,,/METER,,/METER,,/METER,
  49NZ20140717,   P01,    77,  1,      0,   -999,9,20140729,2247, 46.9988, 164.5143, 5920,   -999.0,9,-999.0000,9,-999.00000,9,-999.0000,9,  33.0988,2,-999.0000,9,  -999.00,9,  -999.00,9, -999.000,-999.0000,9, -999.000,9,     0.63,2, -999.000,9, -999.000,9,    20.73,2,     0.09,    10.67,2,     0.02,     0.13,2,     0.01,     1.04,2,     0.01,  -999.00,9,  -999.00, -999.000,9, -999.000,9, -999.000,9, -999.000,9,   -999.0,9,   -999.0,9,   -999.0,9,-999.0000,     -999,9, -999.000,9,  -999.00,9, -999.000,9, -999.000,   -999.0,9,   -999.0, -999.000,9, -999.000, -999.000,9, -999.000,   -999.0,9,   -999.0,    0.289,2,    0.140,2,    0.058,2
  49NZ20140717,   P01,    77,  1,     36, X12J36,2,20140729,2247, 46.9988, 164.5143, 5920,     10.3,2,  12.3375,2,  12.33716,2,  33.1325,2,  33.1317,2,-999.0000,9,   275.82,2,   276.57,2,   93.363,   0.2747,2,    0.470,2,     0.62,2,   -0.166,1,  149.784,2,    21.52,2,     0.09,    10.44,2,     0.02,     0.13,2,     0.01,     1.01,2,     0.01,  -999.00,9,  -999.00, -999.000,9, -999.000,9, -999.000,9, -999.000,9,   2041.5,2,   2233.8,2,   -999.0,9,   7.8652,       25,6, -999.000,9,    58.61,2, -999.000,9, -999.000,   -999.0,9,   -999.0, -999.000,9, -999.000, -999.000,9, -999.000,   -999.0,9,   -999.0,    0.283,2,    0.144,2,    0.066,2
  49NZ20140717,   P01,    77,  1,     35, X12J35,2,20140729,2247, 46.9988, 164.5143, 5920,     50.3,2,   5.1654,2,   5.15683,2,  33.2009,2,  33.2011,2,-999.0000,9,   310.69,2,   311.48,2,   98.522,   0.0596,2,    0.286,2,     0.38,2,    0.780,1,    3.924,2,    25.64,2,     0.09,    14.88,2,     0.03,     0.40,2,     0.01,     1.37,2,     0.01,  -999.00,9,  -999.00, -999.000,9, -999.000,9, -999.000,9, -999.000,9,   2098.9,6,   2240.2,2,   -999.0,9,   7.7402,       25,2, -999.000,9,    52.57,2, -999.000,9, -999.000,   -999.0,9,   -999.0, -999.000,9, -999.000, -999.000,9, -999.000,   -999.0,9,   -999.0,    0.325,2,    0.173,2,    0.075,2
  49NZ20140717,   P01,    77,  1,     34, X12J34,2,20140729,2247, 46.9988, 164.5143, 5920,    100.8,2,   4.7471,2,   4.74645,2,  33.3551,2,  33.3533,2,-999.0000,9,   300.50,2,   300.90,2,   99.676,   0.0130,2,    0.061,2,     0.06,2,    0.835,1,    0.263,2,    27.36,2,     0.09,    17.51,2,     0.03,     0.01,2,     0.01,     1.40,2,     0.01,  -999.00,9,  -999.00, -999.000,9, -999.000,9, -999.000,9, -999.000,9,   2111.6,2,   2241.9,2,   -999.0,9,   7.7164,       25,2, -999.000,9,    51.42,2, -999.000,9, -999.000,   -999.0,9,   -999.0, -999.000,9, -999.000, -999.000,9, -999.000,   -999.0,9,   -999.0,    0.266,2,    0.144,2,    0.062,2
  49NZ20140717,   P01,    77,  1,     33, X12J33,2,20140729,2247, 46.9988, 164.5143, 5920,    150.6,2,   4.5714,2,   4.57128,2,  33.5469,2,  33.5461,2,-999.0000,9,   246.47,2,   247.21,2,   99.678,   0.0129,2,    0.013,2,     0.02,2,    1.430,1,    0.000,2,    39.23,2,     0.10,    22.87,2,     0.03,     0.01,2,     0.01,     1.74,2,     0.01,  -999.00,9,  -999.00, -999.000,9, -999.000,9, -999.000,9, -999.000,9,   2156.5,2,   2257.0,2,   -999.0,9,   7.6263,       25,2, -999.000,9,    47.53,2, -999.000,9, -999.000,   -999.0,9,   -999.0, -999.000,9, -999.000, -999.000,9, -999.000,   -999.0,9,   -999.0, -999.000,9, -999.000,9, -999.000,9
  49NZ20140717,   P01,    77,  1,     32, X12J32,2,20140729,2247, 46.9988, 164.5143, 5920,    200.4,2,   4.4538,2,   4.45339,2,  33.6971,2,  33.6964,2,-999.0000,9,   193.99,2,   193.83,2,   99.644,   0.0143,2,    0.007,2,     0.01,2,    1.969,1,    0.000,2,    53.91,2,     0.11,    27.93,2,     0.04,     0.01,2,     0.01,     2.08,2,     0.01,  -999.00,9,  -999.00, -999.000,9, -999.000,9, -999.000,9, -999.000,9,   2202.8,2,   2272.4,6,   -999.0,9,   7.5404,       25,2, -999.000,9,    45.92,2, -999.000,9, -999.000,   -999.0,9,   -999.0, -999.000,9, -999.000, -999.000,9, -999.000,   -999.0,9,   -999.0,    0.275,2,    0.134,2,    0.055,2
  49NZ20140717,   P01,    77,  1,     31, X12J31,2,20140729,2247, 46.9988, 164.5143, 5920,    249.9,2,   3.6077,2,   3.60940,2,  33.7065,2,  33.7076,2,-999.0000,9,   155.88,2,   155.33,2,   99.672,   0.0132,2,    0.007,2,     0.01,2,    2.184,1,    0.000,2,    69.54,2,     0.12,    32.91,2,     0.04,     0.01,2,     0.01,     2.43,2,     0.01,  -999.00,9,  -999.00, -999.000,9, -999.000,9, -999.000,9, -999.000,9,   2243.3,2,   2280.9,2,   -999.0,9,   7.4468,       25,2, -999.000,9,    44.43,2, -999.000,9, -999.000,   -999.0,9,   -999.0, -999.000,9, -999.000, -999.000,9, -999.000,   -999.0,9,   -999.0, -999.000,9, -999.000,9, -999.000,9
  49NZ20140717,   P01,    77,  1,     30, X12J30,2,20140729,2247, 46.9988, 164.5143, 5920,    280.7,2,   3.7757,2,   3.77627,2,  33.7750,2,  33.7745,2,-999.0000,9,   137.90,2,   137.78,2,   99.579,   0.0169,2,    0.008,2,  -999.00,9,    2.338,1,    0.000,2,    73.50,2,     0.12,    34.23,2,     0.05,     0.01,2,     0.01,     2.51,2,     0.01,  -999.00,9,  -999.00, -999.000,9, -999.000,9, -999.000,9, -999.000,9,   2253.8,2,   2286.6,2,   -999.0,9,   7.4268,       25,2, -999.000,9,    44.26,2, -999.000,9, -999.000,   -999.0,9,   -999.0, -999.000,9, -999.000, -999.000,9, -999.000,   -999.0,9,   -999.0, -999.000,9, -999.000,9, -999.000,9
  49NZ20140717,   P01,    77,  1,     29, X12J29,2,20140729,2247, 46.9988, 164.5143, 5920,    370.0,2,   3.8325,2,   3.83279,2,  33.9200,2,  33.9191,2,-999.0000,9,    92.75,2,    93.25,2,   99.769,   0.0093,2,    0.010,2,  -999.00,9,    2.541,1,    0.000,2,    88.03,2,     0.13,    37.78,2,     0.05,     0.01,2,     0.01,     2.74,2,     0.01,  -999.00,9,  -999.00, -999.000,9, -999.000,9, -999.000,9, -999.000,9,   2289.8,2,   2304.5,2,   -999.0,9,   7.3695,       25,2, -999.000,9,    43.05,2, -999.000,9, -999.000,   -999.0,9,   -999.0, -999.000,9, -999.000, -999.000,9, -999.000,   -999.0,9,   -999.0, -999.000,9, -999.000,9, -999.000,9
  49NZ20140717,   P01,    77,  1,     28, X12J28,2,20140729,2247, 46.9988, 164.5143, 5920,    471.4,2,   3.8075,2,   3.80751,2,  34.0658,2,  34.0642,2,-999.0000,9,    57.89,2,    58.52,2,   99.864,   0.0054,2,    0.012,2,  -999.00,9,    2.725,1,    0.000,2,   103.07,2,     0.14,    40.49,2,     0.05,     0.01,2,     0.01,     2.91,2,     0.01,  -999.00,9,  -999.00, -999.000,9, -999.000,9, -999.000,9, -999.000,9,   2318.9,2,   2323.3,2,   -999.0,9,   7.3334,       25,2, -999.000,9,    40.91,2, -999.000,9, -999.000,   -999.0,9,   -999.0, -999.000,9, -999.000, -999.000,9, -999.000,   -999.0,9,   -999.0,    0.333,2,    0.183,2,    0.086,2
  49NZ20140717,   P01,    77,  1,     27, X12J27,2,20140729,2247, 46.9988, 164.5143, 5920,    570.4,2,   3.6068,2,   3.60662,2,  34.1476,2,  34.1454,2,-999.0000,9,    41.13,2,    41.60,2,   99.886,   0.0046,2,    0.012,2,  -999.00,9,    2.807,1,    0.000,2,   114.82,2,     0.15,    42.00,2,     0.05,     0.01,2,     0.01,     3.01,2,     0.01,  -999.00,9,  -999.00, -999.000,9, -999.000,9, -999.000,9, -999.000,9,   2338.7,2,   2336.2,2,   -999.0,9,   7.3158,       25,2, -999.000,9,    39.89,2, -999.000,9, -999.000,   -999.0,9,   -999.0, -999.000,9, -999.000, -999.000,9, -999.000,   -999.0,9,   -999.0, -999.000,9, -999.000,9, -999.000,9
  49NZ20140717,   P01,    77,  1,     26, X12J26,2,20140729,2247, 46.9988, 164.5143, 5920,    670.0,2,   3.3395,2,   3.33946,2,  34.2147,2,  34.2143,2,-999.0000,9,    24.04,2,    23.91,2,   99.868,   0.0053,2,    0.012,2,  -999.00,9,    2.991,1,    0.000,2,   127.16,2,     0.15,    43.65,2,     0.05,     0.00,2,     0.01,     3.11,2,     0.01,  -999.00,9,  -999.00, -999.000,9, -999.000,9, -999.000,9, -999.000,9,   2360.3,6,   2348.6,2,   -999.0,9,   7.2903,       25,2, -999.000,9,    38.54,2, -999.000,9, -999.000,   -999.0,9,   -999.0, -999.000,9, -999.000, -999.000,9, -999.000,   -999.0,9,   -999.0, -999.000,9, -999.000,9, -999.000,9
  49NZ20140717,   P01,    77,  1,     25, X12J25,2,20140729,2247, 46.9988, 164.5143, 5920,    770.2,2,   3.1886,2,   3.18845,2,  34.2724,2,  34.2726,2,-999.0000,9,    22.20,2,    22.34,2,   99.879,   0.0048,2,    0.012,2,  -999.00,9,    2.951,1,    0.000,2,   133.66,2,     0.16,    43.62,2,     0.05,     0.01,2,     0.01,     3.12,2,     0.01,  -999.00,9,  -999.00, -999.000,9, -999.000,9, -999.000,9, -999.000,9,   2367.2,6,   2357.8,2,   -999.0,9,   7.2965,       25,2, -999.000,9,    39.32,2, -999.000,9, -999.000,   -999.0,9,   -999.0, -999.000,9, -999.000, -999.000,9, -999.000,   -999.0,9,   -999.0,    0.338,2,    0.183,2,    0.081,2
  49NZ20140717,   P01,    77,  1,     24, X12J24,2,20140729,2247, 46.9988, 164.5143, 5920,    869.6,2,   3.0451,2,   3.04484,2,  34.3305,2,  34.3307,2,-999.0000,9,    30.07,2,    29.98,2,   99.911,   0.0035,2,    0.011,2,  -999.00,9,    2.989,1,    0.000,2,   138.10,2,     0.16,    43.04,2,     0.05,     0.01,2,     0.01,     3.08,2,     0.01,  -999.00,9,  -999.00, -999.000,9, -999.000,9, -999.000,9, -999.000,9,   2367.5,2,   2369.2,2,   -999.0,9,   7.3215,       25,6, -999.000,9,    37.90,2, -999.000,9, -999.000,   -999.0,9,   -999.0, -999.000,9, -999.000, -999.000,9, -999.000,   -999.0,9,   -999.0, -999.000,9, -999.000,9, -999.000,9
  49NZ20140717,   P01,    77,  1,     23, X12J23,2,20140729,2247, 46.9988, 164.5143, 5920,    969.7,2,   2.8628,2,   2.86228,2,  34.3651,2,  34.3645,2,-999.0000,9,    29.15,2,    28.96,2,   99.888,   0.0045,2,    0.010,2,  -999.00,9,    2.977,1,    0.000,2,   144.56,2,     0.16,    43.29,2,     0.05,     0.01,2,     0.01,     3.10,2,     0.01,  -999.00,9,  -999.00, -999.000,9, -999.000,9, -999.000,9, -999.000,9,   2373.0,2,   2374.0,2,   -999.0,9,   7.3221,       25,2, -999.000,9,    37.59,2, -999.000,9, -999.000,   -999.0,9,   -999.0, -999.000,9, -999.000, -999.000,9, -999.000,   -999.0,9,   -999.0,    0.369,2,    0.200,2,    0.091,2
  49NZ20140717,   P01,    77,  1,     22, X12J22,2,20140729,2247, 46.9988, 164.5143, 5920,   1130.8,2,   2.6225,2,   2.62311,2,  34.4155,2,  34.4158,2,-999.0000,9,    20.65,2,    19.99,2,   99.894,   0.0042,2,    0.010,2,  -999.00,9,    3.105,1,    0.000,2,   155.96,2,     0.17,    44.08,2,     0.06,     0.00,2,     0.01,     3.14,2,     0.01,  -999.00,9,  -999.00, -999.000,9, -999.000,9, -999.000,9, -999.000,9,   2389.5,2,   2383.3,6,   -999.0,9,   7.3097,       25,2, -999.000,9,    38.14,2, -999.000,9, -999.000,   -999.0,9,   -999.0, -999.000,9, -999.000, -999.000,9, -999.000,   -999.0,9,   -999.0, -999.000,9, -999.000,9, -999.000,9
  49NZ20140717,   P01,    77,  1,     21, X12J21,2,20140729,2247, 46.9988, 164.5143, 5920,   1330.4,2,   2.3817,2,   2.38208,2,  34.4750,2,  34.4748,2,-999.0000,9,    28.53,2,    28.06,2,   99.907,   0.0037,2,    0.010,2,  -999.00,9,    3.110,1,    0.000,2,   162.91,2,     0.18,    43.63,2,     0.05,     0.00,2,     0.01,     3.10,2,     0.01,  -999.00,9,  -999.00, -999.000,9, -999.000,9, -999.000,9, -999.000,9,   2392.7,2,   2394.2,2,   -999.0,9,   7.3307,       25,2, -999.000,9,    37.66,2, -999.000,9, -999.000,   -999.0,9,   -999.0, -999.000,9, -999.000, -999.000,9, -999.000,   -999.0,9,   -999.0, -999.000,9, -999.000,9, -999.000,9
  49NZ20140717,   P01,    77,  1,     20, X12J20,2,20140729,2247, 46.9988, 164.5143, 5920,   1530.0,2,   2.2079,2,   2.20779,2,  34.5168,2,  34.5168,2,-999.0000,9,    37.51,2,    37.51,2,   99.914,   0.0035,2,    0.008,2,  -999.00,9,    3.094,1,    0.000,2,   167.13,2,     0.18,    43.09,2,     0.05,     0.01,2,     0.01,     3.07,2,     0.01,  -999.00,9,  -999.00, -999.000,9, -999.000,9, -999.000,9, -999.000,9,   2389.6,2,   2400.7,2,   -999.0,9,   7.3526,       25,6, -999.000,9,    36.48,2, -999.000,9, -999.000,   -999.0,9,   -999.0, -999.000,9, -999.000, -999.000,9, -999.000,   -999.0,9,   -999.0, -999.000,9, -999.000,9, -999.000,9
  49NZ20140717,   P01,    77,  1,     19, X12J19,2,20140729,2247, 46.9988, 164.5143, 5920,   1729.5,2,   2.0594,2,   2.05948,2,  34.5532,2,  34.5532,2,-999.0000,9,    48.73,2,    49.04,2,   99.909,   0.0036,2,    0.007,2,  -999.00,9,    2.926,1,    0.000,2,   169.61,2,     0.18,    42.49,2,     0.05,     0.01,2,     0.01,     3.01,2,     0.01,  -999.00,9,  -999.00, -999.000,9, -999.000,9, -999.000,9, -999.000,9,   2387.6,2,   2408.8,2,   -999.0,9,   7.3793,       25,2, -999.000,9,    37.40,2, -999.000,9, -999.000,   -999.0,9,   -999.0, -999.000,9, -999.000, -999.000,9, -999.000,   -999.0,9,   -999.0, -999.000,9, -999.000,9, -999.000,9
  49NZ20140717,   P01,    77,  1,     18, X12J18,2,20140729,2247, 46.9988, 164.5143, 5920,   1930.0,2,   1.9380,2,   1.93791,2,  34.5816,2,  34.5815,2,-999.0000,9,    61.87,2,    61.97,2,   99.933,   0.0027,2,    0.006,2,  -999.00,9,    2.892,1,    0.000,2,   170.49,2,     0.18,    41.70,2,     0.05,     0.00,2,     0.01,     2.96,2,     0.01,  -999.00,9,  -999.00, -999.000,9, -999.000,9, -999.000,9, -999.000,9,   2382.6,2,   2411.4,2,   -999.0,9,   7.4071,       25,2, -999.000,9,    36.94,2, -999.000,9, -999.000,   -999.0,9,   -999.0, -999.000,9, -999.000, -999.000,9, -999.000,   -999.0,9,   -999.0,    0.332,2,    0.179,2,    0.081,2
  49NZ20140717,   P01,    77,  1,     17, X12J17,2,20140729,2247, 46.9988, 164.5143, 5920,   2130.0,2,   1.8436,2,   1.84360,2,  34.6034,2,  34.6036,2,-999.0000,9,    74.76,2,    75.08,2,   99.907,   0.0037,2,    0.006,2,  -999.00,9,    2.840,1,    0.000,2,   169.20,2,     0.18,    40.85,2,     0.05,     0.01,2,     0.01,     2.90,2,     0.01,  -999.00,9,  -999.00, -999.000,9, -999.000,9, -999.000,9, -999.000,9,   2374.6,2,   2413.3,2,   -999.0,9,   7.4333,       25,2, -999.000,9,    38.10,2, -999.000,9, -999.000,   -999.0,9,   -999.0, -999.000,9, -999.000, -999.000,9, -999.000,   -999.0,9,   -999.0, -999.000,9, -999.000,9, -999.000,9
  49NZ20140717,   P01,    77,  1,     16, X12J16,2,20140729,2247, 46.9988, 164.5143, 5920,   2330.2,2,   1.7578,2,   1.75769,2,  34.6209,2,  34.6208,2,-999.0000,9,    86.43,2,    86.58,2,   99.911,   0.0035,2,    0.005,2,  -999.00,9,    2.718,1,    0.000,2,   168.32,2,     0.18,    40.15,2,     0.05,     0.00,2,     0.01,     2.84,2,     0.01,  -999.00,9,  -999.00, -999.000,9, -999.000,9, -999.000,9, -999.000,9,   2369.3,6,   2416.8,2,   -999.0,9,   7.4565,       25,2, -999.000,9,    38.40,2, -999.000,9, -999.000,   -999.0,9,   -999.0, -999.000,9, -999.000, -999.000,9, -999.000,   -999.0,9,   -999.0, -999.000,9, -999.000,9, -999.000,9
  49NZ20140717,   P01,    77,  1,     15, X12J15,2,20140729,2247, 46.9988, 164.5143, 5920,   2530.7,2,   1.6797,2,   1.67947,2,  34.6370,2,  34.6369,2,-999.0000,9,   100.15,2,   100.36,2,   99.940,   0.0024,2,    0.003,2,  -999.00,9,    2.616,1,    0.000,2,   164.99,2,     0.18,    39.35,2,     0.05,     0.00,2,     0.01,     2.78,2,     0.01,  -999.00,9,  -999.00, -999.000,9, -999.000,9, -999.000,9, -999.000,9,   2359.9,2,   2415.2,2,   -999.0,9,   7.4841,       25,2, -999.000,9,    38.72,2, -999.000,9, -999.000,   -999.0,9,   -999.0, -999.000,9, -999.000, -999.000,9, -999.000,   -999.0,9,   -999.0, -999.000,9, -999.000,9, -999.000,9
  49NZ20140717,   P01,    77,  1,     14, X12J14,2,20140729,2247, 46.9988, 164.5143, 5920,   2730.6,2,   1.6285,2,   1.62850,2,  34.6474,2,  34.6470,2,-999.0000,9,   109.86,2,   110.00,2,   99.955,   0.0018,2,    0.003,2,  -999.00,9,    2.553,1,    0.000,2,   162.97,2,     0.18,    38.82,2,     0.05,     0.00,2,     0.01,     2.73,2,     0.01,  -999.00,9,  -999.00, -999.000,9, -999.000,9, -999.000,9, -999.000,9,   2355.2,2,   2416.9,2,   -999.0,9,   7.5019,       25,6, -999.000,9,    38.44,2, -999.000,9, -999.000,   -999.0,9,   -999.0, -999.000,9, -999.000, -999.000,9, -999.000,   -999.0,9,   -999.0, -999.000,9, -999.000,9, -999.000,9
  49NZ20140717,   P01,    77,  1,     13, X12113,2,20140729,2247, 46.9988, 164.5143, 5920,   2930.4,2,   1.5848,2,   1.58479,2,  34.6558,2,  34.6558,2,-999.0000,9,   118.17,2,   118.10,2,   99.974,   0.0010,2,    0.002,2,  -999.00,9,    2.523,1,    0.000,2,   160.72,2,     0.17,    38.27,2,     0.05,     0.00,2,     0.01,     2.69,2,     0.01,  -999.00,9,  -999.00, -999.000,9, -999.000,9, -999.000,9, -999.000,9,   2349.3,2,   2418.4,2,   -999.0,9,   7.5177,       25,2, -999.000,9,    36.70,2, -999.000,9, -999.000,   -999.0,9,   -999.0, -999.000,9, -999.000, -999.000,9, -999.000,   -999.0,9,   -999.0,    0.261,2,    0.132,2,    0.055,2
  49NZ20140717,   P01,    77,  1,     12, X12J12,2,20140729,2247, 46.9988, 164.5143, 5920,   3170.2,2,   1.5425,2,   1.54270,2,  34.6642,2,  34.6637,2,-999.0000,9,   126.86,2,   126.78,2,   99.974,   0.0010,2,    0.002,2,  -999.00,9,    2.449,1,    0.000,2,   158.05,2,     0.17,    37.66,2,     0.05,     0.00,2,     0.01,     2.64,2,     0.01,  -999.00,9,  -999.00, -999.000,9, -999.000,9, -999.000,9, -999.000,9,   2343.4,2,   2418.2,6,   -999.0,9,   7.5337,       25,2, -999.000,9,    36.57,2, -999.000,9, -999.000,   -999.0,9,   -999.0, -999.000,9, -999.000, -999.000,9, -999.000,   -999.0,9,   -999.0, -999.000,9, -999.000,9, -999.000,9
  49NZ20140717,   P01,    77,  1,     11, X12J11,2,20140729,2247, 46.9988, 164.5143, 5920,   3420.2,2,   1.5134,2,   1.51350,2,  34.6702,2,  34.6699,2,-999.0000,9,   134.01,2,   133.76,2,   99.985,   0.0006,2,    0.002,2,  -999.00,9,    2.367,1,    0.000,2,   156.30,2,     0.17,    37.23,2,     0.05,     0.00,2,     0.01,     2.60,2,     0.01,  -999.00,9,  -999.00, -999.000,9, -999.000,9, -999.000,9, -999.000,9,   2339.9,2,   2419.8,2,   -999.0,9,   7.5453,       25,2, -999.000,9,    37.03,2, -999.000,9, -999.000,   -999.0,9,   -999.0, -999.000,9, -999.000, -999.000,9, -999.000,   -999.0,9,   -999.0, -999.000,9, -999.000,9, -999.000,9
  49NZ20140717,   P01,    77,  1,     10, X12J10,2,20140729,2247, 46.9988, 164.5143, 5920,   3669.4,2,   1.4963,2,   1.49641,2,  34.6752,2,  34.6743,2,-999.0000,9,   139.88,2,   139.43,2,  100.000,   0.0000,2,    0.001,2,  -999.00,9,    2.282,1,    0.000,2,   154.78,2,     0.17,    36.85,2,     0.05,     0.00,2,     0.01,     2.57,2,     0.01,  -999.00,9,  -999.00, -999.000,9, -999.000,9, -999.000,9, -999.000,9,   2335.1,2,   2417.7,2,   -999.0,9,   7.5544,       25,2, -999.000,9,    37.77,2, -999.000,9, -999.000,   -999.0,9,   -999.0, -999.000,9, -999.000, -999.000,9, -999.000,   -999.0,9,   -999.0, -999.000,9, -999.000,9, -999.000,9