BOTTLE,20230904JAMSTECRIGC
EXPOCODE,SECT,STNNBR,CASTNO,SAMPNO,BTLNBR,BTLNBR_FLAG_W,DATE,TIME,LATITUDE,LONGITUDE,DEPTH,CTDPRS,CTDPRS_FLAG_W,CTDTMP,CTDTMP_FLAG_W,SBE35,SBE35_FLAG_W,CTDSAL,CTDSAL_FLAG_W,SALNTY,SALNTY_FLAG_W,DNSSAL,DNSSAL_FLAG_W,CTDOXY,CTDOXY_FLAG_W,OXYGEN,OXYGEN_FLAG_W,XMISS,XMISSCP,XMISS_FLAG_W,FLUOR,FLUOR_FLAG_W,CHLORA,CHLORA_FLAG_W,CDOM,CDOM_FLAG_W,PAR,PAR_FLAG_W,SILCAT,SILCAT_FLAG_W,SILUNC,NITRAT,NITRAT_FLAG_W,NRAUNC,NITRIT,NITRIT_FLAG_W,NRIUNC,PHSPHT,PHSPHT_FLAG_W,PHPUNC,AMMONIA,AMMONIA_FLAG_W,NH4UNC,CFC-11,CFC-11_FLAG_W,CFC-12,CFC-12_FLAG_W,CFC113,CFC113_FLAG_W,SF6,SF6_FLAG_W,TCARBN,TCARBN_FLAG_W,ALKALI,ALKALI_FLAG_W,ALKALI_POT,ALKALI_POT_FLAG_W,PH_TOT,PH_TMP,PH_TOT_FLAG_W,CALCIUM,CALCIUM_FLAG_W,DOC,DOC_FLAG_W,DELC13,DELC13_FLAG_W,C13ERR,DELC14,DELC14_FLAG_W,C14ERR,CS-134,CS-134_FLAG_W,CS134ER,CS-137,CS-137_FLAG_W,CS137ER,I-129,I-129_FLAG_W,I-129ER,CDOM-325,CDOM-325_FLAG_W,CDOM-370,CDOM-370_FLAG_W,CDOM-443,CDOM-443_FLAG_W
,,,,,,,,UTC,DEG,DEG,METERS,DBAR,,ITS-90,,ITS-90,,PSS-78,,PSS-78,,G/KG,,UMOL/KG,,UMOL/KG,,%TRANS,/METER,,MG/CUM,,MG/CUM,,MG/CUM,,UE/SQM/S,,UMOL/KG,,UMOL/KG,UMOL/KG,,UMOL/KG,UMOL/KG,,UMOL/KG,UMOL/KG,,UMOL/KG,UMOL/KG,,UMOL/KG,PMOL/KG,,PMOL/KG,,PMOL/KG,,FMOL/KG,,UMOL/KG,,UMOL/KG,,UMOL/KG,,,DEG C,,MMOL/KG,,UMOL/KG,,/MILLE,,/MILLE,/MILLE,,/MILLE,MBQ/KG,,MBQ/KG,MBQ/KG,,MBQ/KG,,,,/METER,,/METER,,/METER,
  49NZ20140717,   P01,   118,  1,      9, X12J09,2,20140812,1638, 46.9877,-155.8515, 5250,   4080.4,2,   1.4857,2,   1.48571,2,  34.6813,2,  34.6810,2,-999.0000,9,   141.10,2,   141.12,2,   99.969,   0.0012,2,    0.008,2,  -999.00,9,    2.094,4,    0.000,2,   164.15,2,     0.18,    37.04,2,     0.05,     0.00,2,     0.01,     2.57,2,     0.01,  -999.00,9,  -999.00,    0.000,2,    0.000,2,    0.000,2, -999.000,9,   2336.9,2,   2426.9,2,   -999.0,9,   7.5634,       25,2, -999.000,9,    40.08,2, -999.000,9, -999.000,   -999.0,9,   -999.0, -999.000,9, -999.000, -999.000,9, -999.000,   -999.0,9,   -999.0, -999.000,9, -999.000,9, -999.000,9
  49NZ20140717,   P01,   118,  1,      8, X12J08,2,20140812,1638, 46.9877,-155.8515, 5250,   4331.3,2,   1.4986,2,   1.49876,2,  34.6838,2,  34.6837,2,-999.0000,9,   142.98,2,   142.87,2,   99.978,   0.0009,2,    0.008,2,  -999.00,9,    1.656,4,    0.000,2,   166.41,2,     0.18,    36.95,2,     0.05,     0.00,2,     0.01,     2.56,2,     0.01,  -999.00,9,  -999.00,    0.000,2,    0.000,2,    0.000,2, -999.000,9,   2338.8,6,   2426.5,2,   -999.0,9,   7.5691,       25,2, -999.000,9,    41.32,3, -999.000,9, -999.000,   -999.0,9,   -999.0, -999.000,9, -999.000, -999.000,9, -999.000,   -999.0,9,   -999.0, -999.000,9, -999.000,9, -999.000,9
  49NZ20140717,   P01,   118,  1,      7, X12J07,2,20140812,1638, 46.9877,-155.8515, 5250,   4581.7,2,   1.5187,2,   1.51865,2,  34.6850,2,  34.6847,2,-999.0000,9,   144.40,2,   144.31,2,   99.982,   0.0007,2,    0.008,2,  -999.00,9,   -1.598,4,    0.000,2,   166.98,2,     0.18,    36.84,2,     0.05,     0.00,2,     0.01,     2.55,2,     0.01,  -999.00,9,  -999.00,    0.001,2,    0.001,2,    0.000,2, -999.000,9,   2338.4,2,   2426.0,2,   -999.0,9,   7.5737,       25,6, -999.000,9,    39.17,2, -999.000,9, -999.000,   -999.0,9,   -999.0, -999.000,9, -999.000, -999.000,9, -999.000,   -999.0,9,   -999.0, -999.000,9, -999.000,9, -999.000,9
  49NZ20140717,   P01,   118,  1,      6, X12J06,2,20140812,1638, 46.9877,-155.8515, 5250,   4830.6,2,   1.5426,2,   1.54267,2,  34.6859,2,  34.6857,2,-999.0000,9,   145.21,2,   145.23,2,   99.984,   0.0006,2,    0.008,2,  -999.00,9,   -1.880,4,    0.000,2,   167.47,2,     0.18,    36.77,2,     0.05,     0.00,2,     0.01,     2.55,2,     0.01,  -999.00,9,  -999.00,    0.001,2,    0.000,2,    0.000,2, -999.000,9,   2337.4,2,   2428.7,6,   -999.0,9,   7.5746,       25,2, -999.000,9,    39.55,2, -999.000,9, -999.000,   -999.0,9,   -999.0, -999.000,9, -999.000, -999.000,9, -999.000,   -999.0,9,   -999.0, -999.000,9, -999.000,9, -999.000,9
  49NZ20140717,   P01,   118,  1,      5, X12J05,2,20140812,1638, 46.9877,-155.8515, 5250,   5078.9,2,   1.5695,2,   1.56951,2,  34.6865,2,  34.6865,2,-999.0000,9,   145.60,2,   145.79,2,   99.924,   0.0031,2,    0.008,2,  -999.00,9,   -1.972,4,    0.000,2,   169.42,2,     0.18,    36.82,2,     0.05,     0.00,2,     0.01,     2.55,2,     0.01,  -999.00,9,  -999.00,    0.002,2,    0.001,2,    0.000,2, -999.000,9,   2337.8,2,   2427.2,2,   -999.0,9,   7.5767,       25,2, -999.000,9,    39.86,2, -999.000,9, -999.000,   -999.0,9,   -999.0, -999.000,9, -999.000, -999.000,9, -999.000,   -999.0,9,   -999.0,    0.199,2,    0.117,2,    0.061,2
  49NZ20140717,   P01,   118,  1,      4, X12J04,2,20140812,1638, 46.9877,-155.8515, 5250,      9.7,2,  13.3289,2,  13.32838,2,  32.6158,2,-999.0000,9,-999.0000,9,   270.59,2,  -999.00,9,   93.569,   0.2659,2,    0.597,2,  -999.00,9,    0.227,1,   25.300,2,  -999.00,9,  -999.00,  -999.00,9,  -999.00,  -999.00,9,  -999.00,  -999.00,9,  -999.00,  -999.00,9,  -999.00, -999.000,9, -999.000,9, -999.000,9, -999.000,9,   -999.0,9,   -999.0,9,   -999.0,9,-999.0000,     -999,9, -999.000,9,  -999.00,9, -999.000,9, -999.000,   -999.0,9,   -999.0, -999.000,9, -999.000, -999.000,9, -999.000,   -999.0,9,   -999.0, -999.000,9, -999.000,9, -999.000,9
  49NZ20140717,   P01,   118,  1,      3, X12J03,9,20140812,1638, 46.9877,-155.8515, 5250,   -999.0,9,-999.0000,9,-999.00000,9,-999.0000,9,-999.0000,9,-999.0000,9,  -999.00,9,  -999.00,9, -999.000,-999.0000,9, -999.000,9,  -999.00,9, -999.000,9, -999.000,9,  -999.00,9,  -999.00,  -999.00,9,  -999.00,  -999.00,9,  -999.00,  -999.00,9,  -999.00,  -999.00,9,  -999.00, -999.000,9, -999.000,9, -999.000,9, -999.000,9,   -999.0,9,   -999.0,9,   -999.0,9,-999.0000,     -999,9, -999.000,9,  -999.00,9, -999.000,9, -999.000,   -999.0,9,   -999.0, -999.000,9, -999.000, -999.000,9, -999.000,   -999.0,9,   -999.0, -999.000,9, -999.000,9, -999.000,9
  49NZ20140717,   P01,   118,  1,      2, X12J02,9,20140812,1638, 46.9877,-155.8515, 5250,   -999.0,9,-999.0000,9,-999.00000,9,-999.0000,9,-999.0000,9,-999.0000,9,  -999.00,9,  -999.00,9, -999.000,-999.0000,9, -999.000,9,  -999.00,9, -999.000,9, -999.000,9,  -999.00,9,  -999.00,  -999.00,9,  -999.00,  -999.00,9,  -999.00,  -999.00,9,  -999.00,  -999.00,9,  -999.00, -999.000,9, -999.000,9, -999.000,9, -999.000,9,   -999.0,9,   -999.0,9,   -999.0,9,-999.0000,     -999,9, -999.000,9,  -999.00,9, -999.000,9, -999.000,   -999.0,9,   -999.0, -999.000,9, -999.000, -999.000,9, -999.000,   -999.0,9,   -999.0, -999.000,9, -999.000,9, -999.000,9
  49NZ20140717,   P01,   118,  1,      1, X12J01,2,20140812,1638, 46.9877,-155.8515, 5250,   5343.6,2,   1.6004,2,   1.60030,2,  34.6868,2,  34.6870,2,-999.0000,9,   146.15,2,   146.81,2,   99.679,   0.0129,2,    0.008,2,  -999.00,9,   35.660,4,    0.000,2,   170.05,2,     0.18,    36.76,2,     0.05,     0.00,2,     0.01,     2.55,2,     0.01,  -999.00,9,  -999.00,    0.003,2,    0.003,2,    0.000,2, -999.000,9,   2335.4,2,   2429.0,2,   -999.0,9,   7.5771,       25,2, -999.000,9,    39.99,2, -999.000,9, -999.000,   -999.0,9,   -999.0, -999.000,9, -999.000, -999.000,9, -999.000,   -999.0,9,   -999.0,    0.250,2,    0.142,2,    0.068,2