BOTTLE,20230904JAMSTECRIGC
EXPOCODE,SECT,STNNBR,CASTNO,SAMPNO,BTLNBR,BTLNBR_FLAG_W,DATE,TIME,LATITUDE,LONGITUDE,DEPTH,CTDPRS,CTDPRS_FLAG_W,CTDTMP,CTDTMP_FLAG_W,SBE35,SBE35_FLAG_W,CTDSAL,CTDSAL_FLAG_W,SALNTY,SALNTY_FLAG_W,DNSSAL,DNSSAL_FLAG_W,CTDOXY,CTDOXY_FLAG_W,OXYGEN,OXYGEN_FLAG_W,XMISS,XMISSCP,XMISS_FLAG_W,FLUOR,FLUOR_FLAG_W,CHLORA,CHLORA_FLAG_W,CDOM,CDOM_FLAG_W,PAR,PAR_FLAG_W,SILCAT,SILCAT_FLAG_W,SILUNC,NITRAT,NITRAT_FLAG_W,NRAUNC,NITRIT,NITRIT_FLAG_W,NRIUNC,PHSPHT,PHSPHT_FLAG_W,PHPUNC,AMMONIA,AMMONIA_FLAG_W,NH4UNC,CFC-11,CFC-11_FLAG_W,CFC-12,CFC-12_FLAG_W,CFC113,CFC113_FLAG_W,SF6,SF6_FLAG_W,TCARBN,TCARBN_FLAG_W,ALKALI,ALKALI_FLAG_W,ALKALI_POT,ALKALI_POT_FLAG_W,PH_TOT,PH_TMP,PH_TOT_FLAG_W,CALCIUM,CALCIUM_FLAG_W,DOC,DOC_FLAG_W,DELC13,DELC13_FLAG_W,C13ERR,DELC14,DELC14_FLAG_W,C14ERR,CS-134,CS-134_FLAG_W,CS134ER,CS-137,CS-137_FLAG_W,CS137ER,I-129,I-129_FLAG_W,I-129ER,CDOM-325,CDOM-325_FLAG_W,CDOM-370,CDOM-370_FLAG_W,CDOM-443,CDOM-443_FLAG_W
,,,,,,,,UTC,DEG,DEG,METERS,DBAR,,ITS-90,,ITS-90,,PSS-78,,PSS-78,,G/KG,,UMOL/KG,,UMOL/KG,,%TRANS,/METER,,MG/CUM,,MG/CUM,,MG/CUM,,UE/SQM/S,,UMOL/KG,,UMOL/KG,UMOL/KG,,UMOL/KG,UMOL/KG,,UMOL/KG,UMOL/KG,,UMOL/KG,UMOL/KG,,UMOL/KG,PMOL/KG,,PMOL/KG,,PMOL/KG,,FMOL/KG,,UMOL/KG,,UMOL/KG,,UMOL/KG,,,DEG C,,MMOL/KG,,UMOL/KG,,/MILLE,,/MILLE,/MILLE,,/MILLE,MBQ/KG,,MBQ/KG,MBQ/KG,,MBQ/KG,,,,/METER,,/METER,,/METER,
  49NZ20140717,   P01,    61,  1,      0,   -999,9,20140723,1936, 41.5608, 150.8840, 5210,   -999.0,9,-999.0000,9,-999.00000,9,-999.0000,9,  33.1323,2,-999.0000,9,  -999.00,9,  -999.00,9, -999.000,-999.0000,9, -999.000,9,  -999.00,9, -999.000,9, -999.000,9,     1.57,2,     0.11,     0.08,2,     0.02,     0.01,2,     0.01,     0.13,2,     0.01,  -999.00,9,  -999.00, -999.000,9, -999.000,9, -999.000,9, -999.000,9,   -999.0,9,   -999.0,9,   -999.0,9,-999.0000,     -999,9, -999.000,9,  -999.00,9, -999.000,9, -999.000,   -999.0,9,   -999.0, -999.000,9, -999.000, -999.000,9, -999.000,   -999.0,9,   -999.0, -999.000,9, -999.000,9, -999.000,9
  49NZ20140717,   P01,    61,  1,     36, X12J36,2,20140723,1936, 41.5608, 150.8840, 5210,     10.5,2,  19.2331,2,  19.22321,2,  33.3683,2,  33.3672,2,-999.0000,9,   242.75,2,   244.03,2,   95.139,   0.1993,2,    0.350,2,  -999.00,9,   -0.050,1,   47.895,2,     0.29,2,     0.18,     0.05,2,     0.02,     0.00,2,     0.01,     0.08,2,     0.01,  -999.00,9,  -999.00,    2.379,2,    1.434,2,    0.284,2, -999.000,9,   -999.0,9,   -999.0,9,   -999.0,9,-999.0000,     -999,9, -999.000,9,  -999.00,9, -999.000,9, -999.000,   -999.0,9,   -999.0, -999.000,9, -999.000, -999.000,9, -999.000,   -999.0,9,   -999.0, -999.000,9, -999.000,9, -999.000,9
  49NZ20140717,   P01,    61,  1,     35, X12J35,2,20140723,1936, 41.5608, 150.8840, 5210,     49.8,2,   3.9848,2,   3.98034,2,  32.8950,2,  32.9018,2,-999.0000,9,   332.31,2,   332.80,2,   96.304,   0.1506,2,    0.524,2,  -999.00,9,    1.228,1,    0.538,2,    19.26,2,     0.09,    16.43,2,     0.03,     0.28,2,     0.01,     1.59,2,     0.01,  -999.00,9,  -999.00,    5.426,2,    2.914,2,    0.524,2, -999.000,9,   -999.0,9,   -999.0,9,   -999.0,9,-999.0000,     -999,9, -999.000,9,  -999.00,9, -999.000,9, -999.000,   -999.0,9,   -999.0, -999.000,9, -999.000, -999.000,9, -999.000,   -999.0,9,   -999.0, -999.000,9, -999.000,9, -999.000,9
  49NZ20140717,   P01,    61,  1,     34, X12J34,2,20140723,1936, 41.5608, 150.8840, 5210,    100.0,2,   2.4538,2,   2.47918,2,  33.1312,2,  33.1313,2,-999.0000,9,   298.57,2,   298.47,2,   99.103,   0.0361,2,    0.081,2,  -999.00,9,    1.329,1,    0.000,2,    38.04,2,     0.10,    23.29,2,     0.03,     0.02,2,     0.01,     1.85,2,     0.01,  -999.00,9,  -999.00,    5.330,2,    2.874,2,    0.487,2, -999.000,9,   -999.0,9,   -999.0,9,   -999.0,9,-999.0000,     -999,9, -999.000,9,  -999.00,9, -999.000,9, -999.000,   -999.0,9,   -999.0, -999.000,9, -999.000, -999.000,9, -999.000,   -999.0,9,   -999.0, -999.000,9, -999.000,9, -999.000,9
  49NZ20140717,   P01,    61,  1,     33, X12J33,2,20140723,1936, 41.5608, 150.8840, 5210,    150.1,2,   2.7494,2,   2.74282,2,  33.3443,2,  33.3400,2,-999.0000,9,   248.63,2,   248.12,2,   99.284,   0.0288,2,    0.018,2,  -999.00,9,    1.700,1,    0.000,2,    49.73,2,     0.11,    26.65,2,     0.04,     0.01,2,     0.01,     2.05,2,     0.01,  -999.00,9,  -999.00,    4.715,2,    2.547,2,    0.418,2, -999.000,9,   -999.0,9,   -999.0,9,   -999.0,9,-999.0000,     -999,9, -999.000,9,  -999.00,9, -999.000,9, -999.000,   -999.0,9,   -999.0, -999.000,9, -999.000, -999.000,9, -999.000,   -999.0,9,   -999.0, -999.000,9, -999.000,9, -999.000,9
  49NZ20140717,   P01,    61,  1,     32, X12J32,2,20140723,1936, 41.5608, 150.8840, 5210,    199.6,2,   2.2065,2,   2.20726,2,  33.4709,2,  33.4739,2,-999.0000,9,   176.75,2,   174.82,2,   99.115,   0.0355,2,    0.010,2,  -999.00,9,    2.241,1,    0.000,2,    72.57,2,     0.12,    34.74,2,     0.05,     0.01,2,     0.01,     2.58,2,     0.01,  -999.00,9,  -999.00,    4.018,2,    2.140,2,    0.358,2, -999.000,9,   -999.0,9,   -999.0,9,   -999.0,9,-999.0000,     -999,9, -999.000,9,  -999.00,9, -999.000,9, -999.000,   -999.0,9,   -999.0, -999.000,9, -999.000, -999.000,9, -999.000,   -999.0,9,   -999.0, -999.000,9, -999.000,9, -999.000,9
  49NZ20140717,   P01,    61,  1,     31, X12J31,2,20140723,1936, 41.5608, 150.8840, 5210,    251.2,2,   3.0826,2,   3.08215,2,  33.6827,2,  33.6836,2,-999.0000,9,   142.16,2,   141.59,2,   99.415,   0.0235,2,    0.006,2,  -999.00,9,    2.382,1,    0.000,2,    76.91,2,     0.12,    35.14,2,     0.05,     0.01,2,     0.01,     2.60,2,     0.01,  -999.00,9,  -999.00,    3.347,2,    1.773,2,    0.274,2, -999.000,9,   -999.0,9,   -999.0,9,   -999.0,9,-999.0000,     -999,9, -999.000,9,  -999.00,9, -999.000,9, -999.000,   -999.0,9,   -999.0, -999.000,9, -999.000, -999.000,9, -999.000,   -999.0,9,   -999.0, -999.000,9, -999.000,9, -999.000,9
  49NZ20140717,   P01,    61,  1,     30, X12J30,2,20140723,1936, 41.5608, 150.8840, 5210,    329.5,2,   3.0589,2,   3.05969,2,  33.8215,2,  33.8233,2,-999.0000,9,    81.40,2,    81.96,2,   99.664,   0.0135,2,    0.008,2,  -999.00,9,    2.627,1,    0.000,2,    95.56,2,     0.13,    40.37,2,     0.05,     0.01,2,     0.01,     2.92,2,     0.01,  -999.00,9,  -999.00,    2.523,2,    1.329,2,    0.203,2, -999.000,9,   -999.0,9,   -999.0,9,   -999.0,9,-999.0000,     -999,9, -999.000,9,  -999.00,9, -999.000,9, -999.000,   -999.0,9,   -999.0, -999.000,9, -999.000, -999.000,9, -999.000,   -999.0,9,   -999.0, -999.000,9, -999.000,9, -999.000,9
  49NZ20140717,   P01,    61,  1,     29, X12J29,2,20140723,1936, 41.5608, 150.8840, 5210,    430.7,2,   3.4213,2,   3.42090,2,  34.0075,2,  34.0070,2,-999.0000,9,    54.07,2,    54.35,2,   99.802,   0.0079,2,    0.008,2,  -999.00,9,    2.755,1,    0.000,2,   106.84,2,     0.14,    41.65,2,     0.05,     0.00,2,     0.01,     2.99,2,     0.01,  -999.00,9,  -999.00,    1.670,2,    0.861,2,    0.124,2, -999.000,9,   -999.0,9,   -999.0,9,   -999.0,9,-999.0000,     -999,9, -999.000,9,  -999.00,9, -999.000,9, -999.000,   -999.0,9,   -999.0, -999.000,9, -999.000, -999.000,9, -999.000,   -999.0,9,   -999.0, -999.000,9, -999.000,9, -999.000,9
  49NZ20140717,   P01,    61,  1,     28, X12J28,2,20140723,1936, 41.5608, 150.8840, 5210,    530.6,2,   3.3378,2,   3.33748,2,  34.1233,2,  34.1239,2,-999.0000,9,    39.25,2,    39.87,2,   99.782,   0.0087,2,    0.008,2,  -999.00,9,    2.834,1,    0.000,2,   118.45,2,     0.15,    42.48,2,     0.05,     0.00,2,     0.01,     3.04,2,     0.01,  -999.00,9,  -999.00,    1.125,2,    0.570,2,    0.077,2, -999.000,9,   -999.0,9,   -999.0,9,   -999.0,9,-999.0000,     -999,9, -999.000,9,  -999.00,9, -999.000,9, -999.000,   -999.0,9,   -999.0, -999.000,9, -999.000, -999.000,9, -999.000,   -999.0,9,   -999.0, -999.000,9, -999.000,9, -999.000,9
  49NZ20140717,   P01,    61,  1,     27, X12J27,2,20140723,1936, 41.5608, 150.8840, 5210,    630.2,2,   3.3210,2,   3.31874,2,  34.2201,2,  34.2198,2,-999.0000,9,    32.03,2,    32.67,2,   99.793,   0.0083,2,    0.007,2,  -999.00,9,    2.861,1,    0.000,2,   126.73,2,     0.15,    42.91,2,     0.05,     0.00,2,     0.01,     3.07,2,     0.01,  -999.00,9,  -999.00,    0.730,2,    0.361,2,    0.042,2, -999.000,9,   -999.0,9,   -999.0,9,   -999.0,9,-999.0000,     -999,9, -999.000,9,  -999.00,9, -999.000,9, -999.000,   -999.0,9,   -999.0, -999.000,9, -999.000, -999.000,9, -999.000,   -999.0,9,   -999.0, -999.000,9, -999.000,9, -999.000,9
  49NZ20140717,   P01,    61,  1,     26, X12J26,2,20140723,1936, 41.5608, 150.8840, 5210,    730.6,2,   2.9907,2,   2.99290,2,  34.2725,2,  34.2809,2,-999.0000,9,    27.53,2,    29.62,2,   99.838,   0.0065,2,    0.007,2,  -999.00,9,    2.845,1,    0.000,2,   137.11,2,     0.16,    43.31,2,     0.05,     0.00,2,     0.01,     3.10,2,     0.01,  -999.00,9,  -999.00,    0.541,2,    0.261,2,    0.033,2, -999.000,9,   -999.0,9,   -999.0,9,   -999.0,9,-999.0000,     -999,9, -999.000,9,  -999.00,9, -999.000,9, -999.000,   -999.0,9,   -999.0, -999.000,9, -999.000, -999.000,9, -999.000,   -999.0,9,   -999.0, -999.000,9, -999.000,9, -999.000,9
  49NZ20140717,   P01,    61,  1,     25, X12J25,2,20140723,1936, 41.5608, 150.8840, 5210,    831.1,2,   2.8652,2,   2.86951,2,  34.3334,2,  34.3330,2,-999.0000,9,    32.00,2,    32.12,2,   99.836,   0.0066,2,    0.006,2,  -999.00,9,    2.858,1,    0.000,2,   141.99,2,     0.16,    43.04,2,     0.05,     0.00,2,     0.01,     3.08,2,     0.01,  -999.00,9,  -999.00,    0.417,2,    0.198,2,    0.023,2, -999.000,9,   -999.0,9,   -999.0,9,   -999.0,9,-999.0000,     -999,9, -999.000,9,  -999.00,9, -999.000,9, -999.000,   -999.0,9,   -999.0, -999.000,9, -999.000, -999.000,9, -999.000,   -999.0,9,   -999.0, -999.000,9, -999.000,9, -999.000,9
  49NZ20140717,   P01,    61,  1,     24, X12J24,2,20140723,1936, 41.5608, 150.8840, 5210,    930.0,2,   2.8073,2,   2.80705,2,  34.3799,2,  34.3804,2,-999.0000,9,    34.08,2,    34.19,2,   99.836,   0.0066,2,    0.008,2,  -999.00,9,    2.909,1,    0.000,2,   145.17,2,     0.16,    42.98,2,     0.05,     0.00,2,     0.01,     3.08,2,     0.01,  -999.00,9,  -999.00,    0.284,2,    0.132,2,    0.011,2, -999.000,9,   -999.0,9,   -999.0,9,   -999.0,9,-999.0000,     -999,9, -999.000,9,  -999.00,9, -999.000,9, -999.000,   -999.0,9,   -999.0, -999.000,9, -999.000, -999.000,9, -999.000,   -999.0,9,   -999.0, -999.000,9, -999.000,9, -999.000,9
  49NZ20140717,   P01,    61,  1,     23, X12J23,2,20140723,1936, 41.5608, 150.8840, 5210,   1070.5,2,   2.7163,2,   2.71622,2,  34.4473,2,  34.4479,2,-999.0000,9,    40.19,2,    40.37,2,   99.877,   0.0049,2,    0.004,2,  -999.00,9,    2.823,1,    0.000,2,   147.54,2,     0.17,    42.76,2,     0.05,     0.00,2,     0.01,     3.05,2,     0.01,  -999.00,9,  -999.00,    0.120,2,    0.053,2,    0.000,2, -999.000,9,   -999.0,9,   -999.0,9,   -999.0,9,-999.0000,     -999,9, -999.000,9,  -999.00,9, -999.000,9, -999.000,   -999.0,9,   -999.0, -999.000,9, -999.000, -999.000,9, -999.000,   -999.0,9,   -999.0, -999.000,9, -999.000,9, -999.000,9
  49NZ20140717,   P01,    61,  1,     22, X12J22,2,20140723,1936, 41.5608, 150.8840, 5210,   1271.3,2,   2.4341,2,   2.43394,2,  34.4919,2,  34.4923,2,-999.0000,9,    41.92,2,    41.91,2,   99.901,   0.0040,2,    0.004,2,  -999.00,9,    2.854,1,    0.000,2,   155.83,2,     0.17,    42.95,2,     0.05,     0.00,2,     0.01,     3.05,2,     0.01,  -999.00,9,  -999.00,    0.058,2,    0.029,2,    0.000,2, -999.000,9,   -999.0,9,   -999.0,9,   -999.0,9,-999.0000,     -999,9, -999.000,9,  -999.00,9, -999.000,9, -999.000,   -999.0,9,   -999.0, -999.000,9, -999.000, -999.000,9, -999.000,   -999.0,9,   -999.0, -999.000,9, -999.000,9, -999.000,9
  49NZ20140717,   P01,    61,  1,     21, X12J21,2,20140723,1936, 41.5608, 150.8840, 5210,   1469.9,2,   2.2355,2,   2.23533,2,  34.5310,2,  34.5313,2,-999.0000,9,    49.43,2,    49.49,2,   99.927,   0.0029,2,    0.003,2,  -999.00,9,    2.853,1,    0.000,2,   160.38,2,     0.17,    42.63,2,     0.05,     0.00,2,     0.01,     3.02,2,     0.01,  -999.00,9,  -999.00,    0.028,2,    0.015,2,    0.000,2, -999.000,9,   -999.0,9,   -999.0,9,   -999.0,9,-999.0000,     -999,9, -999.000,9,  -999.00,9, -999.000,9, -999.000,   -999.0,9,   -999.0, -999.000,9, -999.000, -999.000,9, -999.000,   -999.0,9,   -999.0, -999.000,9, -999.000,9, -999.000,9
  49NZ20140717,   P01,    61,  1,     20, X12J20,2,20140723,1936, 41.5608, 150.8840, 5210,   1670.5,2,   2.0896,2,   2.08951,2,  34.5586,2,  34.5589,2,-999.0000,9,    59.35,2,    59.34,2,   99.922,   0.0031,2,    0.002,2,  -999.00,9,    2.770,1,    0.000,2,   162.93,2,     0.18,    42.01,2,     0.05,     0.00,2,     0.01,     2.97,2,     0.01,  -999.00,9,  -999.00,    0.021,2,    0.010,2,    0.000,2, -999.000,9,   -999.0,9,   -999.0,9,   -999.0,9,-999.0000,     -999,9, -999.000,9,  -999.00,9, -999.000,9, -999.000,   -999.0,9,   -999.0, -999.000,9, -999.000, -999.000,9, -999.000,   -999.0,9,   -999.0, -999.000,9, -999.000,9, -999.000,9
  49NZ20140717,   P01,    61,  1,     19, X12J19,2,20140723,1936, 41.5608, 150.8840, 5210,   1870.4,2,   1.9584,2,   1.95817,2,  34.5867,2,  34.5867,2,-999.0000,9,    70.55,2,    70.99,2,   99.946,   0.0022,2,    0.002,2,  -999.00,9,    2.685,1,    0.000,2,   163.85,2,     0.18,    41.38,2,     0.05,    -0.01,2,     0.01,     2.92,2,     0.01,  -999.00,9,  -999.00,    0.009,2,    0.007,2,    0.000,2, -999.000,9,   -999.0,9,   -999.0,9,   -999.0,9,-999.0000,     -999,9, -999.000,9,  -999.00,9, -999.000,9, -999.000,   -999.0,9,   -999.0, -999.000,9, -999.000, -999.000,9, -999.000,   -999.0,9,   -999.0, -999.000,9, -999.000,9, -999.000,9
  49NZ20140717,   P01,    61,  1,     18, X12J18,2,20140723,1936, 41.5608, 150.8840, 5210,   5081.2,2,   1.5227,2,   1.52268,2,  34.6895,2,  34.6897,2,-999.0000,9,   157.20,2,   157.17,2,   99.933,   0.0027,2,   -0.004,2,  -999.00,9,   -0.717,4,    0.000,2,  -999.00,9,  -999.00,  -999.00,9,  -999.00,  -999.00,9,  -999.00,  -999.00,9,  -999.00,  -999.00,9,  -999.00, -999.000,9, -999.000,9, -999.000,9, -999.000,9,   -999.0,9,   -999.0,9,   -999.0,9,-999.0000,     -999,9, -999.000,9,  -999.00,9, -999.000,9, -999.000,   -999.0,9,   -999.0, -999.000,9, -999.000, -999.000,9, -999.000,   -999.0,9,   -999.0, -999.000,9, -999.000,9, -999.000,9
  49NZ20140717,   P01,    61,  1,     17, X12J17,2,20140723,1936, 41.5608, 150.8840, 5210,   2271.1,2,   1.7403,2,   1.74031,2,  34.6274,2,  34.6276,2,-999.0000,9,    96.11,2,    95.95,2,   99.933,   0.0027,2,    0.000,2,  -999.00,9,    2.548,1,    0.000,2,   162.29,2,     0.18,    39.78,2,     0.05,    -0.01,2,     0.01,     2.80,2,     0.01,  -999.00,9,  -999.00,    0.000,2,    0.000,2,    0.000,2, -999.000,9,   -999.0,9,   -999.0,9,   -999.0,9,-999.0000,     -999,9, -999.000,9,  -999.00,9, -999.000,9, -999.000,   -999.0,9,   -999.0, -999.000,9, -999.000, -999.000,9, -999.000,   -999.0,9,   -999.0, -999.000,9, -999.000,9, -999.000,9
  49NZ20140717,   P01,    61,  1,     16, X12J16,2,20140723,1936, 41.5608, 150.8840, 5210,   2470.2,2,   1.6670,2,   1.66691,2,  34.6403,2,  34.6402,2,-999.0000,9,   105.95,2,   105.81,2,   99.981,   0.0008,2,   -0.001,2,  -999.00,9,    2.440,1,    0.000,2,   161.14,2,     0.17,    39.17,2,     0.05,    -0.01,2,     0.01,     2.75,2,     0.01,  -999.00,9,  -999.00,    0.000,2,    0.000,2,    0.000,2, -999.000,9,   -999.0,9,   -999.0,9,   -999.0,9,-999.0000,     -999,9, -999.000,9,  -999.00,9, -999.000,9, -999.000,   -999.0,9,   -999.0, -999.000,9, -999.000, -999.000,9, -999.000,   -999.0,9,   -999.0, -999.000,9, -999.000,9, -999.000,9
  49NZ20140717,   P01,    61,  1,     15, X12J15,2,20140723,1936, 41.5608, 150.8840, 5210,   2670.4,2,   1.6084,2,   1.60839,2,  34.6501,2,  34.6502,2,-999.0000,9,   114.10,2,   113.91,2,   99.996,   0.0002,2,   -0.001,2,  -999.00,9,    2.477,1,    0.000,2,   160.44,2,     0.17,    38.68,2,     0.05,    -0.01,2,     0.01,     2.71,2,     0.01,  -999.00,9,  -999.00,    0.000,2,    0.000,2,    0.000,2, -999.000,9,   -999.0,9,   -999.0,9,   -999.0,9,-999.0000,     -999,9, -999.000,9,  -999.00,9, -999.000,9, -999.000,   -999.0,9,   -999.0, -999.000,9, -999.000, -999.000,9, -999.000,   -999.0,9,   -999.0, -999.000,9, -999.000,9, -999.000,9
  49NZ20140717,   P01,    61,  1,     14, X12J14,2,20140723,1936, 41.5608, 150.8840, 5210,   2871.1,2,   1.5657,2,   1.56580,2,  34.6585,2,  34.6580,2,-999.0000,9,   122.94,2,   122.71,2,   99.979,   0.0009,2,   -0.002,2,  -999.00,9,    2.386,1,    0.000,2,   157.52,2,     0.17,    38.04,2,     0.05,    -0.01,2,     0.01,     2.66,2,     0.01,  -999.00,9,  -999.00,    0.000,2,    0.000,2,    0.000,2, -999.000,9,   -999.0,9,   -999.0,9,   -999.0,9,-999.0000,     -999,9, -999.000,9,  -999.00,9, -999.000,9, -999.000,   -999.0,9,   -999.0, -999.000,9, -999.000, -999.000,9, -999.000,   -999.0,9,   -999.0, -999.000,9, -999.000,9, -999.000,9
  49NZ20140717,   P01,    61,  1,     13, X12113,2,20140723,1936, 41.5608, 150.8840, 5210,   3080.1,2,   1.5269,2,   1.52684,2,  34.6649,2,  34.6653,2,-999.0000,9,   129.31,2,   128.98,2,  100.000,   0.0000,2,   -0.002,2,  -999.00,9,    2.310,1,    0.000,2,   156.88,2,     0.17,    37.64,2,     0.05,    -0.01,2,     0.01,     2.63,2,     0.01,  -999.00,9,  -999.00,    0.000,2,    0.000,2,    0.000,2, -999.000,9,   -999.0,9,   -999.0,9,   -999.0,9,-999.0000,     -999,9, -999.000,9,  -999.00,9, -999.000,9, -999.000,   -999.0,9,   -999.0, -999.000,9, -999.000, -999.000,9, -999.000,   -999.0,9,   -999.0, -999.000,9, -999.000,9, -999.000,9
  49NZ20140717,   P01,    61,  1,     12, X12J12,2,20140723,1936, 41.5608, 150.8840, 5210,   3331.3,2,   1.4894,2,   1.48937,2,  34.6720,2,  34.6724,2,-999.0000,9,   137.12,2,   136.74,2,   99.974,   0.0010,2,   -0.003,2,  -999.00,9,    2.294,1,    0.000,2,   155.08,2,     0.17,    37.15,2,     0.05,    -0.01,2,     0.01,     2.59,2,     0.01,  -999.00,9,  -999.00,    0.000,2,    0.000,2,    0.000,2, -999.000,9,   -999.0,9,   -999.0,9,   -999.0,9,-999.0000,     -999,9, -999.000,9,  -999.00,9, -999.000,9, -999.000,   -999.0,9,   -999.0, -999.000,9, -999.000, -999.000,9, -999.000,   -999.0,9,   -999.0, -999.000,9, -999.000,9, -999.000,9
  49NZ20140717,   P01,    61,  1,     11, X12J11,2,20140723,1936, 41.5608, 150.8840, 5210,   3581.3,2,   1.4690,2,   1.46908,2,  34.6770,2,  34.6772,2,-999.0000,9,   142.85,2,   142.50,2,   99.996,   0.0002,2,   -0.003,2,  -999.00,9,    2.191,1,    0.000,2,   153.54,2,     0.17,    36.76,2,     0.05,    -0.01,2,     0.01,     2.56,2,     0.01,  -999.00,9,  -999.00,    0.000,2,    0.000,2,    0.000,2, -999.000,9,   -999.0,9,   -999.0,9,   -999.0,9,-999.0000,     -999,9, -999.000,9,  -999.00,9, -999.000,9, -999.000,   -999.0,9,   -999.0, -999.000,9, -999.000, -999.000,9, -999.000,   -999.0,9,   -999.0, -999.000,9, -999.000,9, -999.000,9
  49NZ20140717,   P01,    61,  1,     10, X12J10,2,20140723,1936, 41.5608, 150.8840, 5210,   3830.9,2,   1.4558,2,   1.45581,2,  34.6810,2,  34.6815,2,-999.0000,9,   148.06,2,   147.75,2,   99.994,   0.0003,2,   -0.004,2,  -999.00,9,    2.203,1,    0.000,2,   152.16,2,     0.17,    36.44,2,     0.05,    -0.01,2,     0.01,     2.53,2,     0.01,  -999.00,9,  -999.00,    0.000,2,    0.000,2,    0.000,2, -999.000,9,   -999.0,9,   -999.0,9,   -999.0,9,-999.0000,     -999,9, -999.000,9,  -999.00,9, -999.000,9, -999.000,   -999.0,9,   -999.0, -999.000,9, -999.000, -999.000,9, -999.000,   -999.0,9,   -999.0, -999.000,9, -999.000,9, -999.000,9