BOTTLE,20230904JAMSTECRIGC
EXPOCODE,SECT,STNNBR,CASTNO,SAMPNO,BTLNBR,BTLNBR_FLAG_W,DATE,TIME,LATITUDE,LONGITUDE,DEPTH,CTDPRS,CTDPRS_FLAG_W,CTDTMP,CTDTMP_FLAG_W,SBE35,SBE35_FLAG_W,CTDSAL,CTDSAL_FLAG_W,SALNTY,SALNTY_FLAG_W,DNSSAL,DNSSAL_FLAG_W,CTDOXY,CTDOXY_FLAG_W,OXYGEN,OXYGEN_FLAG_W,XMISS,XMISSCP,XMISS_FLAG_W,FLUOR,FLUOR_FLAG_W,CHLORA,CHLORA_FLAG_W,CDOM,CDOM_FLAG_W,PAR,PAR_FLAG_W,SILCAT,SILCAT_FLAG_W,SILUNC,NITRAT,NITRAT_FLAG_W,NRAUNC,NITRIT,NITRIT_FLAG_W,NRIUNC,PHSPHT,PHSPHT_FLAG_W,PHPUNC,AMMONIA,AMMONIA_FLAG_W,NH4UNC,CFC-11,CFC-11_FLAG_W,CFC-12,CFC-12_FLAG_W,CFC113,CFC113_FLAG_W,SF6,SF6_FLAG_W,TCARBN,TCARBN_FLAG_W,ALKALI,ALKALI_FLAG_W,ALKALI_POT,ALKALI_POT_FLAG_W,PH_TOT,PH_TMP,PH_TOT_FLAG_W,CALCIUM,CALCIUM_FLAG_W,DOC,DOC_FLAG_W,DELC13,DELC13_FLAG_W,C13ERR,DELC14,DELC14_FLAG_W,C14ERR,CS-134,CS-134_FLAG_W,CS134ER,CS-137,CS-137_FLAG_W,CS137ER,I-129,I-129_FLAG_W,I-129ER,CDOM-325,CDOM-325_FLAG_W,CDOM-370,CDOM-370_FLAG_W,CDOM-443,CDOM-443_FLAG_W
,,,,,,,,UTC,DEG,DEG,METERS,DBAR,,ITS-90,,ITS-90,,PSS-78,,PSS-78,,G/KG,,UMOL/KG,,UMOL/KG,,%TRANS,/METER,,MG/CUM,,MG/CUM,,MG/CUM,,UE/SQM/S,,UMOL/KG,,UMOL/KG,UMOL/KG,,UMOL/KG,UMOL/KG,,UMOL/KG,UMOL/KG,,UMOL/KG,UMOL/KG,,UMOL/KG,PMOL/KG,,PMOL/KG,,PMOL/KG,,FMOL/KG,,UMOL/KG,,UMOL/KG,,UMOL/KG,,,DEG C,,MMOL/KG,,UMOL/KG,,/MILLE,,/MILLE,/MILLE,,/MILLE,MBQ/KG,,MBQ/KG,MBQ/KG,,MBQ/KG,,,,/METER,,/METER,,/METER,
  49NZ20140717,   P01,   101,  3,      9, X12J09,2,20140806,0530, 47.0023,-174.9540, 5796,   3919.6,2,   1.4721,2,   1.47236,2,  34.6800,2,  34.6797,2,  34.8603,2,   143.58,2,   143.19,2,   99.971,   0.0012,2,    0.002,2,  -999.00,9,    2.360,4,    0.000,2,   157.93,2,     0.17,    36.69,2,     0.05,     0.00,2,     0.01,     2.56,2,     0.01,  -999.00,9,  -999.00, -999.000,9, -999.000,9, -999.000,9, -999.000,9,   2333.5,2,   2420.2,2,   -999.0,9,   7.5617,       25,2, -999.000,9,    39.57,2, -999.000,1, -999.000,   -999.0,1,   -999.0, -999.000,9, -999.000, -999.000,9, -999.000,   -999.0,9,   -999.0, -999.000,9, -999.000,9, -999.000,9
  49NZ20140717,   P01,   101,  3,      8, X12J08,2,20140806,0530, 47.0023,-174.9540, 5796,   4170.8,2,   1.4738,2,   1.47383,2,  34.6830,2,  34.6830,2,  34.8629,2,   147.28,2,   146.90,2,   99.986,   0.0006,2,    0.001,2,  -999.00,9,    1.820,4,    0.000,2,   158.17,2,     0.17,    36.47,2,     0.05,     0.00,2,     0.01,     2.54,2,     0.01,  -999.00,9,  -999.00, -999.000,9, -999.000,9, -999.000,9, -999.000,9,   2331.7,6,   2420.5,2,   -999.0,9,   7.5689,       25,2, -999.000,9,    39.69,2, -999.000,9, -999.000,   -999.0,9,   -999.0, -999.000,9, -999.000, -999.000,9, -999.000,   -999.0,9,   -999.0, -999.000,9, -999.000,9, -999.000,9
  49NZ20140717,   P01,   101,  3,      7, X12J07,2,20140806,0530, 47.0023,-174.9540, 5796,   4418.4,2,   1.4853,2,   1.48553,2,  34.6853,2,  34.6851,2,  34.8642,2,   149.30,2,   148.97,2,   99.984,   0.0006,2,    0.001,2,  -999.00,9,   -0.452,4,    0.000,2,   159.14,2,     0.17,    36.36,2,     0.05,     0.00,2,     0.01,     2.53,2,     0.01,  -999.00,9,  -999.00, -999.000,9, -999.000,9, -999.000,9, -999.000,9,   2329.6,2,   2421.5,2,   -999.0,9,   7.5747,       25,6, -999.000,9,    37.98,2, -999.000,1, -999.000,   -999.0,1,   -999.0, -999.000,9, -999.000, -999.000,9, -999.000,   -999.0,9,   -999.0, -999.000,9, -999.000,9, -999.000,9
  49NZ20140717,   P01,   101,  3,      6, X12J06,2,20140806,0530, 47.0023,-174.9540, 5796,   4671.3,2,   1.5078,2,   1.50806,2,  34.6865,2,  34.6861,2,  34.8675,2,   150.19,2,   149.74,2,  100.003,  -0.0001,2,    0.001,2,  -999.00,9,   -1.983,4,    0.000,2,   160.54,2,     0.17,    36.33,2,     0.05,     0.00,2,     0.01,     2.53,2,     0.01,  -999.00,9,  -999.00, -999.000,9, -999.000,9, -999.000,9, -999.000,9,   2332.3,2,   2424.2,6,   -999.0,9,   7.5780,       25,2, -999.000,9,    38.65,2, -999.000,9, -999.000,   -999.0,9,   -999.0, -999.000,9, -999.000, -999.000,9, -999.000,   -999.0,9,   -999.0, -999.000,9, -999.000,9, -999.000,9
  49NZ20140717,   P01,   101,  3,      5, X12J05,2,20140806,0530, 47.0023,-174.9540, 5796,   4920.7,2,   1.5355,2,   1.53564,2,  34.6869,2,  34.6867,2,  34.8669,2,   150.41,2,   150.12,2,  100.010,  -0.0004,2,    0.001,2,  -999.00,9,  497.217,4,    0.000,2,   161.72,2,     0.17,    36.33,2,     0.05,     0.00,2,     0.01,     2.52,2,     0.01,  -999.00,9,  -999.00, -999.000,9, -999.000,9, -999.000,9, -999.000,9,   2331.1,2,   2424.6,2,   -999.0,9,   7.5780,       25,2, -999.000,9,    39.43,2, -999.000,1, -999.000,   -999.0,1,   -999.0, -999.000,9, -999.000, -999.000,9, -999.000,   -999.0,9,   -999.0,    0.316,2,    0.188,2,    0.098,2
  49NZ20140717,   P01,   101,  3,      4, X12J04,2,20140806,0530, 47.0023,-174.9540, 5796,   5172.3,2,   1.5642,2,   1.56418,2,  34.6871,2,  34.6873,2,  34.8695,2,   151.08,2,   150.83,2,  100.012,  -0.0005,2,    0.001,2,  -999.00,9,  497.217,4,    0.000,2,   161.68,2,     0.17,    36.26,2,     0.05,     0.00,2,     0.01,     2.52,2,     0.01,  -999.00,9,  -999.00, -999.000,9, -999.000,9, -999.000,9, -999.000,9,   2330.3,2,   2423.5,2,   -999.0,9,   7.5796,       25,2, -999.000,9,    38.95,2, -999.000,9, -999.000,   -999.0,9,   -999.0, -999.000,9, -999.000, -999.000,9, -999.000,   -999.0,9,   -999.0, -999.000,9, -999.000,9, -999.000,9
  49NZ20140717,   P01,   101,  3,      3, X12J03,2,20140806,0530, 47.0023,-174.9540, 5796,   5421.4,2,   1.5941,2,   1.59423,2,  34.6875,2,  34.6872,2,  34.8689,2,   151.58,2,   151.55,2,   99.990,   0.0004,2,    0.000,2,  -999.00,9,  497.217,4,    0.000,2,   161.42,2,     0.17,    36.23,2,     0.05,     0.00,2,     0.01,     2.52,2,     0.01,  -999.00,9,  -999.00, -999.000,9, -999.000,9, -999.000,9, -999.000,9,   2328.0,2,   2424.2,2,   -999.0,9,   7.5798,       25,2, -999.000,9,    39.85,2, -999.000,9, -999.000,   -999.0,9,   -999.0, -999.000,9, -999.000, -999.000,9, -999.000,   -999.0,9,   -999.0, -999.000,9, -999.000,9, -999.000,9
  49NZ20140717,   P01,   101,  3,      2, X12J02,2,20140806,0530, 47.0023,-174.9540, 5796,   5669.7,2,   1.6267,2,   1.62665,2,  34.6873,2,  34.6876,2,  34.8689,2,   151.58,2,   151.82,2,   99.971,   0.0012,2,    0.000,2,  -999.00,9,  497.217,4,    0.000,2,   161.48,2,     0.17,    36.22,2,     0.05,     0.00,2,     0.01,     2.52,2,     0.01,  -999.00,9,  -999.00, -999.000,9, -999.000,9, -999.000,9, -999.000,9,   2327.8,2,   2422.3,2,   -999.0,9,   7.5796,       25,2, -999.000,9,    38.57,2, -999.000,9, -999.000,   -999.0,9,   -999.0, -999.000,9, -999.000, -999.000,9, -999.000,   -999.0,9,   -999.0, -999.000,9, -999.000,9, -999.000,9
  49NZ20140717,   P01,   101,  3,      1, X12J01,2,20140806,0530, 47.0023,-174.9540, 5796,   5901.1,2,   1.6575,2,   1.65733,2,  34.6873,2,  34.6879,2,  34.8682,2,   151.69,2,   152.14,2,   99.917,   0.0033,2,    0.001,2,  -999.00,9,  352.120,4,    0.000,2,   161.84,2,     0.17,    36.22,2,     0.05,     0.00,2,     0.01,     2.52,2,     0.01,  -999.00,9,  -999.00, -999.000,9, -999.000,9, -999.000,9, -999.000,9,   2327.3,2,   2421.6,2,   -999.0,9,   7.5808,       25,2, -999.000,9,    37.21,2, -999.000,1, -999.000,   -999.0,1,   -999.0, -999.000,9, -999.000, -999.000,9, -999.000,   -999.0,9,   -999.0,    0.246,2,    0.145,2,    0.077,2