BOTTLE,20230904JAMSTECRIGC
EXPOCODE,SECT,STNNBR,CASTNO,SAMPNO,BTLNBR,BTLNBR_FLAG_W,DATE,TIME,LATITUDE,LONGITUDE,DEPTH,CTDPRS,CTDPRS_FLAG_W,CTDTMP,CTDTMP_FLAG_W,SBE35,SBE35_FLAG_W,CTDSAL,CTDSAL_FLAG_W,SALNTY,SALNTY_FLAG_W,DNSSAL,DNSSAL_FLAG_W,CTDOXY,CTDOXY_FLAG_W,OXYGEN,OXYGEN_FLAG_W,XMISS,XMISSCP,XMISS_FLAG_W,FLUOR,FLUOR_FLAG_W,CHLORA,CHLORA_FLAG_W,CDOM,CDOM_FLAG_W,PAR,PAR_FLAG_W,SILCAT,SILCAT_FLAG_W,SILUNC,NITRAT,NITRAT_FLAG_W,NRAUNC,NITRIT,NITRIT_FLAG_W,NRIUNC,PHSPHT,PHSPHT_FLAG_W,PHPUNC,AMMONIA,AMMONIA_FLAG_W,NH4UNC,CFC-11,CFC-11_FLAG_W,CFC-12,CFC-12_FLAG_W,CFC113,CFC113_FLAG_W,SF6,SF6_FLAG_W,TCARBN,TCARBN_FLAG_W,ALKALI,ALKALI_FLAG_W,ALKALI_POT,ALKALI_POT_FLAG_W,PH_TOT,PH_TMP,PH_TOT_FLAG_W,CALCIUM,CALCIUM_FLAG_W,DOC,DOC_FLAG_W,DELC13,DELC13_FLAG_W,C13ERR,DELC14,DELC14_FLAG_W,C14ERR,CS-134,CS-134_FLAG_W,CS134ER,CS-137,CS-137_FLAG_W,CS137ER,I-129,I-129_FLAG_W,I-129ER,CDOM-325,CDOM-325_FLAG_W,CDOM-370,CDOM-370_FLAG_W,CDOM-443,CDOM-443_FLAG_W
,,,,,,,,UTC,DEG,DEG,METERS,DBAR,,ITS-90,,ITS-90,,PSS-78,,PSS-78,,G/KG,,UMOL/KG,,UMOL/KG,,%TRANS,/METER,,MG/CUM,,MG/CUM,,MG/CUM,,UE/SQM/S,,UMOL/KG,,UMOL/KG,UMOL/KG,,UMOL/KG,UMOL/KG,,UMOL/KG,UMOL/KG,,UMOL/KG,UMOL/KG,,UMOL/KG,PMOL/KG,,PMOL/KG,,PMOL/KG,,FMOL/KG,,UMOL/KG,,UMOL/KG,,UMOL/KG,,,DEG C,,MMOL/KG,,UMOL/KG,,/MILLE,,/MILLE,/MILLE,,/MILLE,MBQ/KG,,MBQ/KG,MBQ/KG,,MBQ/KG,,,,/METER,,/METER,,/METER,
  49NZ20140717,   P01,    96,  1,      9, X12J09,2,20140804,1051, 47.0108, 179.4493, 5640,   4000.2,2,   1.4698,2,   1.46998,2,  34.6813,2,  34.6815,2,-999.0000,9,   145.55,2,   145.52,2,   99.996,   0.0002,2,    0.001,2,  -999.00,9,    2.360,4,    0.000,2,   157.12,2,     0.17,    36.57,2,     0.05,     0.00,2,     0.01,     2.55,2,     0.01,  -999.00,9,  -999.00,    0.000,2,    0.000,2,    0.000,2, -999.000,9,   -999.0,9,   -999.0,9,   -999.0,9,-999.0000,     -999,9, -999.000,9,  -999.00,9, -999.000,9, -999.000,   -999.0,9,   -999.0, -999.000,9, -999.000, -999.000,9, -999.000,   -999.0,9,   -999.0, -999.000,9, -999.000,9, -999.000,9
  49NZ20140717,   P01,    96,  1,      8, X12J08,2,20140804,1051, 47.0108, 179.4493, 5640,   4249.8,2,   1.4729,2,   1.47299,2,  34.6842,2,  34.6840,2,-999.0000,9,   149.00,2,   148.99,2,  100.002,  -0.0001,2,    0.001,2,  -999.00,9,    1.349,4,    0.000,2,   156.91,2,     0.17,    36.34,2,     0.05,     0.01,2,     0.01,     2.53,2,     0.01,  -999.00,9,  -999.00,    0.000,2,    0.000,2,    0.000,2, -999.000,9,   -999.0,9,   -999.0,9,   -999.0,9,-999.0000,     -999,9, -999.000,9,  -999.00,9, -999.000,9, -999.000,   -999.0,9,   -999.0, -999.000,9, -999.000, -999.000,9, -999.000,   -999.0,9,   -999.0, -999.000,9, -999.000,9, -999.000,9
  49NZ20140717,   P01,    96,  1,      7, X12J07,2,20140804,1051, 47.0108, 179.4493, 5640,   4502.4,2,   1.4884,2,   1.48839,2,  34.6859,2,  34.6859,2,-999.0000,9,   150.93,2,   150.83,2,   99.987,   0.0005,2,    0.001,2,  -999.00,9,   -1.611,4,    0.000,2,   157.55,2,     0.17,    36.25,2,     0.05,     0.00,2,     0.01,     2.52,2,     0.01,  -999.00,9,  -999.00,    0.000,2,    0.000,2,    0.000,2, -999.000,9,   -999.0,9,   -999.0,9,   -999.0,9,-999.0000,     -999,9, -999.000,9,  -999.00,9, -999.000,9, -999.000,   -999.0,9,   -999.0, -999.000,9, -999.000, -999.000,9, -999.000,   -999.0,9,   -999.0, -999.000,9, -999.000,9, -999.000,9
  49NZ20140717,   P01,    96,  1,      6, X12J06,2,20140804,1051, 47.0108, 179.4493, 5640,   4751.2,2,   1.5096,2,   1.50971,2,  34.6872,2,  34.6870,2,-999.0000,9,   151.99,2,   151.87,2,  100.004,  -0.0002,2,    0.001,2,  -999.00,9,   -1.777,4,    0.000,2,   158.60,2,     0.17,    36.18,2,     0.05,     0.01,2,     0.01,     2.52,2,     0.01,  -999.00,9,  -999.00,    0.000,2,    0.000,2,    0.000,2, -999.000,9,   -999.0,9,   -999.0,9,   -999.0,9,-999.0000,     -999,9, -999.000,9,  -999.00,9, -999.000,9, -999.000,   -999.0,9,   -999.0, -999.000,9, -999.000, -999.000,9, -999.000,   -999.0,9,   -999.0, -999.000,9, -999.000,9, -999.000,9
  49NZ20140717,   P01,    96,  1,      5, X12J05,2,20140804,1051, 47.0108, 179.4493, 5640,   5000.4,2,   1.5381,2,   1.53817,2,  34.6875,2,  34.6875,2,-999.0000,9,   152.21,2,   152.14,2,   99.994,   0.0003,2,    0.001,2,  -999.00,9,   -1.923,4,    0.000,2,   159.34,2,     0.17,    36.16,2,     0.05,     0.00,2,     0.01,     2.52,2,     0.01,  -999.00,9,  -999.00,    0.000,2,    0.000,2,    0.000,2, -999.000,9,   -999.0,9,   -999.0,9,   -999.0,9,-999.0000,     -999,9, -999.000,9,  -999.00,9, -999.000,9, -999.000,   -999.0,9,   -999.0, -999.000,9, -999.000, -999.000,9, -999.000,   -999.0,9,   -999.0, -999.000,9, -999.000,9, -999.000,9
  49NZ20140717,   P01,    96,  1,      4, X12J04,2,20140804,1051, 47.0108, 179.4493, 5640,   5249.2,2,   1.5685,2,   1.56851,2,  34.6875,2,  34.6875,2,-999.0000,9,   152.43,2,   152.59,2,   99.968,   0.0013,2,    0.001,2,  -999.00,9,  497.217,4,    0.000,2,   159.11,2,     0.17,    36.09,2,     0.05,     0.00,2,     0.01,     2.51,2,     0.01,  -999.00,9,  -999.00,    0.000,2,    0.000,2,    0.000,2, -999.000,9,   -999.0,9,   -999.0,9,   -999.0,9,-999.0000,     -999,9, -999.000,9,  -999.00,9, -999.000,9, -999.000,   -999.0,9,   -999.0, -999.000,9, -999.000, -999.000,9, -999.000,   -999.0,9,   -999.0, -999.000,9, -999.000,9, -999.000,9
  49NZ20140717,   P01,    96,  1,      3, X12J03,2,20140804,1051, 47.0108, 179.4493, 5640,   5499.1,2,   1.5998,2,   1.59967,2,  34.6876,2,  34.6880,2,-999.0000,9,   152.65,2,   152.91,2,   99.937,   0.0025,2,    0.000,2,  -999.00,9,  497.217,4,    0.000,2,   159.29,2,     0.17,    36.17,2,     0.05,     0.00,2,     0.01,     2.52,2,     0.01,  -999.00,9,  -999.00,    0.002,2,    0.001,2,    0.000,2, -999.000,9,   -999.0,9,   -999.0,9,   -999.0,9,-999.0000,     -999,9, -999.000,9,  -999.00,9, -999.000,9, -999.000,   -999.0,9,   -999.0, -999.000,9, -999.000, -999.000,9, -999.000,   -999.0,9,   -999.0, -999.000,9, -999.000,9, -999.000,9
  49NZ20140717,   P01,    96,  1,      2, X12J02,2,20140804,1051, 47.0108, 179.4493, 5640,     10.7,2,  11.8968,2,  11.89346,2,  32.7761,2,  32.7790,2,-999.0000,9,   280.52,2,   281.79,2,   97.830,   0.0878,2,    0.256,2,  -999.00,9,   -0.496,1,    0.148,2,    22.47,2,     0.09,    13.35,2,     0.02,     0.19,2,     0.01,     1.29,2,     0.01,  -999.00,9,  -999.00,    3.566,2,    2.006,2,    0.379,2, -999.000,9,   -999.0,9,   -999.0,9,   -999.0,9,-999.0000,     -999,9, -999.000,9,  -999.00,9, -999.000,9, -999.000,   -999.0,9,   -999.0, -999.000,9, -999.000, -999.000,9, -999.000,   -999.0,9,   -999.0, -999.000,9, -999.000,9, -999.000,9
  49NZ20140717,   P01,    96,  1,      1, X12J01,2,20140804,1051, 47.0108, 179.4493, 5640,   5728.6,2,   1.6293,2,   1.62907,2,  34.6875,2,  34.6879,2,-999.0000,9,   152.87,2,   153.24,2,   99.924,   0.0030,2,    0.001,2,  -999.00,9,  494.380,4,    0.000,2,   158.90,2,     0.17,    36.11,2,     0.05,     0.00,2,     0.01,     2.52,2,     0.01,  -999.00,9,  -999.00,    0.004,2,    0.002,2,    0.000,2, -999.000,9,   -999.0,9,   -999.0,9,   -999.0,9,-999.0000,     -999,9, -999.000,9,  -999.00,9, -999.000,9, -999.000,   -999.0,9,   -999.0, -999.000,9, -999.000, -999.000,9, -999.000,   -999.0,9,   -999.0, -999.000,9, -999.000,9, -999.000,9