BOTTLE,20230904JAMSTECRIGC
EXPOCODE,SECT,STNNBR,CASTNO,SAMPNO,BTLNBR,BTLNBR_FLAG_W,DATE,TIME,LATITUDE,LONGITUDE,DEPTH,CTDPRS,CTDPRS_FLAG_W,CTDTMP,CTDTMP_FLAG_W,SBE35,SBE35_FLAG_W,CTDSAL,CTDSAL_FLAG_W,SALNTY,SALNTY_FLAG_W,DNSSAL,DNSSAL_FLAG_W,CTDOXY,CTDOXY_FLAG_W,OXYGEN,OXYGEN_FLAG_W,XMISS,XMISSCP,XMISS_FLAG_W,FLUOR,FLUOR_FLAG_W,CHLORA,CHLORA_FLAG_W,CDOM,CDOM_FLAG_W,PAR,PAR_FLAG_W,SILCAT,SILCAT_FLAG_W,SILUNC,NITRAT,NITRAT_FLAG_W,NRAUNC,NITRIT,NITRIT_FLAG_W,NRIUNC,PHSPHT,PHSPHT_FLAG_W,PHPUNC,AMMONIA,AMMONIA_FLAG_W,NH4UNC,CFC-11,CFC-11_FLAG_W,CFC-12,CFC-12_FLAG_W,CFC113,CFC113_FLAG_W,SF6,SF6_FLAG_W,TCARBN,TCARBN_FLAG_W,ALKALI,ALKALI_FLAG_W,ALKALI_POT,ALKALI_POT_FLAG_W,PH_TOT,PH_TMP,PH_TOT_FLAG_W,CALCIUM,CALCIUM_FLAG_W,DOC,DOC_FLAG_W,DELC13,DELC13_FLAG_W,C13ERR,DELC14,DELC14_FLAG_W,C14ERR,CS-134,CS-134_FLAG_W,CS134ER,CS-137,CS-137_FLAG_W,CS137ER,I-129,I-129_FLAG_W,I-129ER,CDOM-325,CDOM-325_FLAG_W,CDOM-370,CDOM-370_FLAG_W,CDOM-443,CDOM-443_FLAG_W
,,,,,,,,UTC,DEG,DEG,METERS,DBAR,,ITS-90,,ITS-90,,PSS-78,,PSS-78,,G/KG,,UMOL/KG,,UMOL/KG,,%TRANS,/METER,,MG/CUM,,MG/CUM,,MG/CUM,,UE/SQM/S,,UMOL/KG,,UMOL/KG,UMOL/KG,,UMOL/KG,UMOL/KG,,UMOL/KG,UMOL/KG,,UMOL/KG,UMOL/KG,,UMOL/KG,PMOL/KG,,PMOL/KG,,PMOL/KG,,FMOL/KG,,UMOL/KG,,UMOL/KG,,UMOL/KG,,,DEG C,,MMOL/KG,,UMOL/KG,,/MILLE,,/MILLE,/MILLE,,/MILLE,MBQ/KG,,MBQ/KG,MBQ/KG,,MBQ/KG,,,,/METER,,/METER,,/METER,
  49NZ20140717,   P01,    78,  1,      0,   -999,9,20140730,0633, 46.9763, 165.6373, 5887,   -999.0,9,-999.0000,9,-999.00000,9,-999.0000,9,  33.0588,2,-999.0000,9,  -999.00,9,  -999.00,9, -999.000,-999.0000,9, -999.000,9,  -999.00,9, -999.000,9, -999.000,9,    21.38,2,     0.09,    11.14,2,     0.02,     0.14,2,     0.01,     1.07,2,     0.01,  -999.00,9,  -999.00, -999.000,9, -999.000,9, -999.000,9, -999.000,9,   -999.0,9,   -999.0,9,   -999.0,9,-999.0000,     -999,9, -999.000,9,  -999.00,9, -999.000,9, -999.000,   -999.0,9,   -999.0, -999.000,9, -999.000, -999.000,9, -999.000,   -999.0,9,   -999.0, -999.000,9, -999.000,9, -999.000,9
  49NZ20140717,   P01,    78,  1,     36, X12J36,2,20140730,0633, 46.9763, 165.6373, 5887,     10.4,2,  12.2969,2,  12.29616,2,  33.0641,2,  33.0644,2,-999.0000,9,   276.11,2,   276.86,2,   93.790,   0.2565,2,    0.556,2,  -999.00,9,   -0.191,1,    0.366,2,    21.95,2,     0.09,    11.06,2,     0.02,     0.14,2,     0.01,     1.06,2,     0.01,  -999.00,9,  -999.00,    3.357,2,    1.924,2,    0.370,2, -999.000,9,   -999.0,9,   -999.0,9,   -999.0,9,-999.0000,     -999,9, -999.000,9,  -999.00,9, -999.000,9, -999.000,   -999.0,9,   -999.0, -999.000,9, -999.000, -999.000,9, -999.000,   -999.0,9,   -999.0, -999.000,9, -999.000,9, -999.000,9
  49NZ20140717,   P01,    78,  1,     35, X12J35,2,20140730,0633, 46.9763, 165.6373, 5887,     50.1,2,   6.3082,2,   6.30637,2,  33.2633,2,  33.2682,2,-999.0000,9,   316.53,2,   317.19,2,   97.269,   0.1108,2,    0.531,2,  -999.00,9,    0.724,1,    0.000,2,    26.12,2,     0.09,    14.36,2,     0.03,     0.24,2,     0.01,     1.31,2,     0.01,  -999.00,9,  -999.00,    4.679,2,    2.555,2,    0.447,2, -999.000,9,   -999.0,9,   -999.0,9,   -999.0,9,-999.0000,     -999,9, -999.000,9,  -999.00,9, -999.000,9, -999.000,   -999.0,9,   -999.0, -999.000,9, -999.000, -999.000,9, -999.000,   -999.0,9,   -999.0, -999.000,9, -999.000,9, -999.000,9
  49NZ20140717,   P01,    78,  1,     34, X12J34,2,20140730,0633, 46.9763, 165.6373, 5887,    100.5,2,   4.8644,2,   4.86146,2,  33.3999,2,  33.3966,2,-999.0000,9,   298.42,2,   298.10,2,   99.667,   0.0133,2,    0.065,2,  -999.00,9,    0.886,1,    0.000,2,    27.92,2,     0.09,    17.71,2,     0.03,     0.01,2,     0.01,     1.41,2,     0.01,  -999.00,9,  -999.00,    4.724,2,    2.588,2,    0.429,2, -999.000,9,   -999.0,9,   -999.0,9,   -999.0,9,-999.0000,     -999,9, -999.000,9,  -999.00,9, -999.000,9, -999.000,   -999.0,9,   -999.0, -999.000,9, -999.000, -999.000,9, -999.000,   -999.0,9,   -999.0, -999.000,9, -999.000,9, -999.000,9
  49NZ20140717,   P01,    78,  1,     33, X12J33,2,20140730,0633, 46.9763, 165.6373, 5887,    149.9,2,   4.8703,2,   4.87078,2,  33.6275,2,  33.6338,2,-999.0000,9,   239.82,2,   238.80,2,   99.706,   0.0118,2,    0.013,2,  -999.00,9,    1.475,1,    0.000,2,    42.00,2,     0.10,    23.33,2,     0.03,     0.01,2,     0.01,     1.76,2,     0.01,  -999.00,9,  -999.00,    4.138,2,    2.261,2,    0.310,2, -999.000,9,   -999.0,9,   -999.0,9,   -999.0,9,-999.0000,     -999,9, -999.000,9,  -999.00,9, -999.000,9, -999.000,   -999.0,9,   -999.0, -999.000,9, -999.000, -999.000,9, -999.000,   -999.0,9,   -999.0, -999.000,9, -999.000,9, -999.000,9
  49NZ20140717,   P01,    78,  1,     32, X12J32,2,20140730,0633, 46.9763, 165.6373, 5887,    199.5,2,   4.0201,2,   4.01893,2,  33.6931,2,  33.6929,2,-999.0000,9,   177.23,2,   176.41,2,   99.665,   0.0134,2,    0.008,2,  -999.00,9,    2.112,1,    0.000,2,    61.05,2,     0.11,    30.27,2,     0.04,     0.01,2,     0.01,     2.25,2,     0.01,  -999.00,9,  -999.00,    3.591,2,    1.920,2,    0.262,2, -999.000,9,   -999.0,9,   -999.0,9,   -999.0,9,-999.0000,     -999,9, -999.000,9,  -999.00,9, -999.000,9, -999.000,   -999.0,9,   -999.0, -999.000,9, -999.000, -999.000,9, -999.000,   -999.0,9,   -999.0, -999.000,9, -999.000,9, -999.000,9
  49NZ20140717,   P01,    78,  1,     31, X12J31,2,20140730,0633, 46.9763, 165.6373, 5887,    248.9,2,   3.7757,2,   3.77596,2,  33.7463,2,  33.7470,2,-999.0000,9,   146.72,2,   145.77,2,   99.747,   0.0101,2,    0.009,2,  -999.00,9,    2.231,1,    0.000,2,    70.88,2,     0.12,    33.50,2,     0.04,     0.01,2,     0.01,     2.47,2,     0.01,  -999.00,9,  -999.00,    3.225,2,    1.713,2,    0.248,2, -999.000,9,   -999.0,9,   -999.0,9,   -999.0,9,-999.0000,     -999,9, -999.000,9,  -999.00,9, -999.000,9, -999.000,   -999.0,9,   -999.0, -999.000,9, -999.000, -999.000,9, -999.000,   -999.0,9,   -999.0, -999.000,9, -999.000,9, -999.000,9
  49NZ20140717,   P01,    78,  1,     30, X12J30,2,20140730,0633, 46.9763, 165.6373, 5887,    300.8,2,   3.7945,2,   3.79487,2,  33.8316,2,  33.8295,2,-999.0000,9,   120.21,2,   119.91,2,   99.743,   0.0103,2,    0.010,2,  -999.00,9,    2.414,1,    0.000,2,    79.15,2,     0.12,    35.63,2,     0.05,     0.01,2,     0.01,     2.60,2,     0.01,  -999.00,9,  -999.00,    2.777,2,    1.466,2,    0.197,2, -999.000,9,   -999.0,9,   -999.0,9,   -999.0,9,-999.0000,     -999,9, -999.000,9,  -999.00,9, -999.000,9, -999.000,   -999.0,9,   -999.0, -999.000,9, -999.000, -999.000,9, -999.000,   -999.0,9,   -999.0, -999.000,9, -999.000,9, -999.000,9
  49NZ20140717,   P01,    78,  1,     29, X12J29,2,20140730,0633, 46.9763, 165.6373, 5887,    399.5,2,   3.9167,2,   3.91633,2,  33.9932,2,  33.9928,2,-999.0000,9,    76.37,2,    76.60,2,   99.836,   0.0066,2,    0.012,2,  -999.00,9,    2.613,1,    0.000,2,    94.01,2,     0.13,    38.98,2,     0.05,     0.01,2,     0.01,     2.82,2,     0.01,  -999.00,9,  -999.00,    1.879,2,    0.965,2,    0.129,2, -999.000,9,   -999.0,9,   -999.0,9,   -999.0,9,-999.0000,     -999,9, -999.000,9,  -999.00,9, -999.000,9, -999.000,   -999.0,9,   -999.0, -999.000,9, -999.000, -999.000,9, -999.000,   -999.0,9,   -999.0, -999.000,9, -999.000,9, -999.000,9
  49NZ20140717,   P01,    78,  1,     28, X12J28,2,20140730,0633, 46.9763, 165.6373, 5887,    500.1,2,   3.7075,2,   3.70756,2,  34.0922,2,  34.0923,2,-999.0000,9,    41.36,2,    41.40,2,   99.901,   0.0040,2,    0.014,2,  -999.00,9,    2.819,1,    0.000,2,   109.14,2,     0.14,    42.12,2,     0.05,     0.01,2,     0.01,     3.01,2,     0.01,  -999.00,9,  -999.00,    1.240,2,    0.614,2,    0.094,2, -999.000,9,   -999.0,9,   -999.0,9,   -999.0,9,-999.0000,     -999,9, -999.000,9,  -999.00,9, -999.000,9, -999.000,   -999.0,9,   -999.0, -999.000,9, -999.000, -999.000,9, -999.000,   -999.0,9,   -999.0, -999.000,9, -999.000,9, -999.000,9
  49NZ20140717,   P01,    78,  1,     27, X12J27,2,20140730,0633, 46.9763, 165.6373, 5887,    600.9,2,   3.5715,2,   3.57160,2,  34.1689,2,  34.1676,2,-999.0000,9,    27.70,2,    27.66,2,   99.801,   0.0080,2,    0.013,2,  -999.00,9,    2.912,1,    0.000,2,   118.74,2,     0.15,    43.21,2,     0.05,     0.01,2,     0.01,     3.08,2,     0.01,  -999.00,9,  -999.00,    0.835,2,    0.399,2,    0.058,2, -999.000,9,   -999.0,9,   -999.0,9,   -999.0,9,-999.0000,     -999,9, -999.000,9,  -999.00,9, -999.000,9, -999.000,   -999.0,9,   -999.0, -999.000,9, -999.000, -999.000,9, -999.000,   -999.0,9,   -999.0, -999.000,9, -999.000,9, -999.000,9
  49NZ20140717,   P01,    78,  1,     26, X12J26,2,20140730,0633, 46.9763, 165.6373, 5887,    702.2,2,   3.3507,2,   3.35091,2,  34.2351,2,  34.2342,2,-999.0000,9,    29.87,2,    29.90,2,   99.920,   0.0032,2,    0.012,2,  -999.00,9,    2.942,1,    0.000,2,   127.10,2,     0.15,    42.98,2,     0.05,     0.01,2,     0.01,     3.08,2,     0.01,  -999.00,9,  -999.00,    0.648,2,    0.306,2,    0.044,2, -999.000,9,   -999.0,9,   -999.0,9,   -999.0,9,-999.0000,     -999,9, -999.000,9,  -999.00,9, -999.000,9, -999.000,   -999.0,9,   -999.0, -999.000,9, -999.000, -999.000,9, -999.000,   -999.0,9,   -999.0, -999.000,9, -999.000,9, -999.000,9
  49NZ20140717,   P01,    78,  1,     25, X12J25,2,20140730,0633, 46.9763, 165.6373, 5887,    798.9,2,   3.1690,2,   3.16931,2,  34.2877,2,  34.2873,2,-999.0000,9,    28.74,2,    28.92,2,   99.890,   0.0044,2,    0.012,2,  -999.00,9,    2.951,1,    0.000,2,   134.18,2,     0.16,    43.18,2,     0.05,     0.01,2,     0.01,     3.09,2,     0.01,  -999.00,9,  -999.00,    0.479,2,    0.225,2,    0.029,2, -999.000,9,   -999.0,9,   -999.0,9,   -999.0,9,-999.0000,     -999,9, -999.000,9,  -999.00,9, -999.000,9, -999.000,   -999.0,9,   -999.0, -999.000,9, -999.000, -999.000,9, -999.000,   -999.0,9,   -999.0, -999.000,9, -999.000,9, -999.000,9
  49NZ20140717,   P01,    78,  1,     24, X12J24,2,20140730,0633, 46.9763, 165.6373, 5887,    900.2,2,   3.0044,2,   3.00252,2,  34.3360,2,  34.3364,2,-999.0000,9,    29.04,2,    28.91,2,   99.920,   0.0032,2,    0.011,2,  -999.00,9,    2.939,1,    0.000,2,   139.95,2,     0.16,    43.17,2,     0.05,     0.00,2,     0.01,     3.09,2,     0.01,  -999.00,9,  -999.00,    0.341,2,    0.158,2,    0.022,2, -999.000,9,   -999.0,9,   -999.0,9,   -999.0,9,-999.0000,     -999,9, -999.000,9,  -999.00,9, -999.000,9, -999.000,   -999.0,9,   -999.0, -999.000,9, -999.000, -999.000,9, -999.000,   -999.0,9,   -999.0, -999.000,9, -999.000,9, -999.000,9
  49NZ20140717,   P01,    78,  1,     23, X12J23,2,20140730,0633, 46.9763, 165.6373, 5887,   1000.0,2,   2.8175,2,   2.81760,2,  34.3808,2,  34.3799,2,-999.0000,9,    30.66,2,    30.54,2,   99.922,   0.0031,2,    0.011,2,  -999.00,9,    2.906,1,    0.000,2,   145.76,2,     0.17,    43.16,2,     0.05,     0.00,2,     0.01,     3.09,2,     0.01,  -999.00,9,  -999.00,    0.255,2,    0.113,2,    0.012,2, -999.000,9,   -999.0,9,   -999.0,9,   -999.0,9,-999.0000,     -999,9, -999.000,9,  -999.00,9, -999.000,9, -999.000,   -999.0,9,   -999.0, -999.000,9, -999.000, -999.000,9, -999.000,   -999.0,9,   -999.0, -999.000,9, -999.000,9, -999.000,9
  49NZ20140717,   P01,    78,  1,     22, X12J22,2,20140730,0633, 46.9763, 165.6373, 5887,   1200.5,2,   2.5737,2,   2.57413,2,  34.4440,2,  34.4441,2,-999.0000,9,    35.34,2,    35.30,2,   99.894,   0.0042,2,    0.010,2,  -999.00,9,    3.000,1,    0.000,2,   153.16,2,     0.17,    43.06,2,     0.05,     0.00,2,     0.01,     3.08,2,     0.01,  -999.00,9,  -999.00,    0.143,2,    0.063,2,    0.000,2, -999.000,9,   -999.0,9,   -999.0,9,   -999.0,9,-999.0000,     -999,9, -999.000,9,  -999.00,9, -999.000,9, -999.000,   -999.0,9,   -999.0, -999.000,9, -999.000, -999.000,9, -999.000,   -999.0,9,   -999.0, -999.000,9, -999.000,9, -999.000,9
  49NZ20140717,   P01,    78,  1,     21, X12J21,2,20140730,0633, 46.9763, 165.6373, 5887,   1399.4,2,   2.3578,2,   2.35845,2,  34.4924,2,  34.4922,2,-999.0000,9,    41.89,2,    41.97,2,   99.939,   0.0024,2,    0.009,2,  -999.00,9,    2.959,1,    0.000,2,   159.17,2,     0.17,    42.81,2,     0.05,     0.00,2,     0.01,     3.05,2,     0.01,  -999.00,9,  -999.00,    0.090,2,    0.039,2,    0.000,2, -999.000,9,   -999.0,9,   -999.0,9,   -999.0,9,-999.0000,     -999,9, -999.000,9,  -999.00,9, -999.000,9, -999.000,   -999.0,9,   -999.0, -999.000,9, -999.000, -999.000,9, -999.000,   -999.0,9,   -999.0, -999.000,9, -999.000,9, -999.000,9
  49NZ20140717,   P01,    78,  1,     20, X12J20,2,20140730,0633, 46.9763, 165.6373, 5887,   1600.7,2,   2.1842,2,   2.18433,2,  34.5297,2,  34.5294,2,-999.0000,9,    47.84,2,    48.09,2,   99.924,   0.0030,2,    0.009,2,  -999.00,9,    2.994,1,    0.000,2,   164.29,2,     0.18,    42.49,2,     0.05,     0.00,2,     0.01,     3.02,2,     0.01,  -999.00,9,  -999.00,    0.046,2,    0.021,2,    0.000,2, -999.000,9,   -999.0,9,   -999.0,9,   -999.0,9,-999.0000,     -999,9, -999.000,9,  -999.00,9, -999.000,9, -999.000,   -999.0,9,   -999.0, -999.000,9, -999.000, -999.000,9, -999.000,   -999.0,9,   -999.0, -999.000,9, -999.000,9, -999.000,9
  49NZ20140717,   P01,    78,  1,     19, X12J19,2,20140730,0633, 46.9763, 165.6373, 5887,   1799.5,2,   2.0451,2,   2.04537,2,  34.5626,2,  34.5626,2,-999.0000,9,    56.30,2,    56.60,2,   99.948,   0.0021,2,    0.008,2,  -999.00,9,    2.919,1,    0.000,2,   167.16,2,     0.18,    42.05,2,     0.05,     0.00,2,     0.01,     2.98,2,     0.01,  -999.00,9,  -999.00,    0.018,2,    0.000,2,    0.000,2, -999.000,9,   -999.0,9,   -999.0,9,   -999.0,9,-999.0000,     -999,9, -999.000,9,  -999.00,9, -999.000,9, -999.000,   -999.0,9,   -999.0, -999.000,9, -999.000, -999.000,9, -999.000,   -999.0,9,   -999.0, -999.000,9, -999.000,9, -999.000,9
  49NZ20140717,   P01,    78,  1,     18, X12J18,2,20140730,0633, 46.9763, 165.6373, 5887,   2001.5,2,   1.9187,2,   1.91885,2,  34.5883,2,  34.5881,2,-999.0000,9,    66.05,2,    66.11,2,   99.968,   0.0013,2,    0.007,2,  -999.00,9,    2.924,1,    0.000,2,   169.70,2,     0.18,    41.49,2,     0.05,     0.00,2,     0.01,     2.94,2,     0.01,  -999.00,9,  -999.00,    0.007,2,    0.004,2,    0.000,2, -999.000,9,   -999.0,9,   -999.0,9,   -999.0,9,-999.0000,     -999,9, -999.000,9,  -999.00,9, -999.000,9, -999.000,   -999.0,9,   -999.0, -999.000,9, -999.000, -999.000,9, -999.000,   -999.0,9,   -999.0, -999.000,9, -999.000,9, -999.000,9
  49NZ20140717,   P01,    78,  1,     17, X12J17,2,20140730,0633, 46.9763, 165.6373, 5887,   2199.9,2,   1.8067,2,   1.80692,2,  34.6111,2,  34.6111,2,-999.0000,9,    79.32,2,    79.32,2,   99.944,   0.0023,2,    0.006,2,  -999.00,9,    2.877,1,    0.000,2,   169.46,2,     0.18,    40.70,2,     0.05,     0.00,2,     0.01,     2.88,2,     0.01,  -999.00,9,  -999.00,    0.002,2,    0.002,2,    0.000,2, -999.000,9,   -999.0,9,   -999.0,9,   -999.0,9,-999.0000,     -999,9, -999.000,9,  -999.00,9, -999.000,9, -999.000,   -999.0,9,   -999.0, -999.000,9, -999.000, -999.000,9, -999.000,   -999.0,9,   -999.0, -999.000,9, -999.000,9, -999.000,9
  49NZ20140717,   P01,    78,  1,     16, X12J16,2,20140730,0633, 46.9763, 165.6373, 5887,   2399.7,2,   1.7242,2,   1.72415,2,  34.6284,2,  34.6279,2,-999.0000,9,    92.38,2,    92.19,2,   99.942,   0.0023,2,    0.005,2,  -999.00,9,    2.747,1,    0.000,2,   167.06,2,     0.18,    39.93,2,     0.05,     0.00,2,     0.01,     2.82,2,     0.01,  -999.00,9,  -999.00,    0.003,2,    0.002,2,    0.000,2, -999.000,9,   -999.0,9,   -999.0,9,   -999.0,9,-999.0000,     -999,9, -999.000,9,  -999.00,9, -999.000,9, -999.000,   -999.0,9,   -999.0, -999.000,9, -999.000, -999.000,9, -999.000,   -999.0,9,   -999.0, -999.000,9, -999.000,9, -999.000,9
  49NZ20140717,   P01,    78,  1,     15, X12J15,2,20140730,0633, 46.9763, 165.6373, 5887,   2600.0,2,   1.6615,2,   1.66157,2,  34.6406,2,  34.6399,2,-999.0000,9,   102.63,2,   102.52,2,   99.952,   0.0019,2,    0.004,2,  -999.00,9,    2.649,1,    0.000,2,   165.27,2,     0.18,    39.24,2,     0.05,     0.00,2,     0.01,     2.77,2,     0.01,  -999.00,9,  -999.00,    0.000,2,    0.000,2,    0.000,2, -999.000,9,   -999.0,9,   -999.0,9,   -999.0,9,-999.0000,     -999,9, -999.000,9,  -999.00,9, -999.000,9, -999.000,   -999.0,9,   -999.0, -999.000,9, -999.000, -999.000,9, -999.000,   -999.0,9,   -999.0, -999.000,9, -999.000,9, -999.000,9
  49NZ20140717,   P01,    78,  1,     14, X12J14,2,20140730,0633, 46.9763, 165.6373, 5887,   2800.0,2,   1.6102,2,   1.61050,2,  34.6505,2,  34.6500,2,-999.0000,9,   112.02,2,   112.00,2,   99.959,   0.0016,2,    0.003,2,  -999.00,9,    2.612,1,    0.000,2,   163.10,2,     0.18,    38.62,2,     0.05,     0.00,2,     0.01,     2.72,2,     0.01,  -999.00,9,  -999.00,    0.000,2,    0.000,2,    0.000,2, -999.000,9,   -999.0,9,   -999.0,9,   -999.0,9,-999.0000,     -999,9, -999.000,9,  -999.00,9, -999.000,9, -999.000,   -999.0,9,   -999.0, -999.000,9, -999.000, -999.000,9, -999.000,   -999.0,9,   -999.0, -999.000,9, -999.000,9, -999.000,9
  49NZ20140717,   P01,    78,  1,     13, X12113,2,20140730,0633, 46.9763, 165.6373, 5887,   2999.7,2,   1.5598,2,   1.56002,2,  34.6598,2,  34.6592,2,-999.0000,9,   121.82,2,   121.47,2,   99.972,   0.0011,2,    0.003,2,  -999.00,9,    2.499,1,    0.000,2,   160.61,2,     0.17,    38.07,2,     0.05,     0.00,2,     0.01,     2.67,2,     0.01,  -999.00,9,  -999.00,    0.000,2,    0.000,2,    0.000,2, -999.000,9,   -999.0,9,   -999.0,9,   -999.0,9,-999.0000,     -999,9, -999.000,9,  -999.00,9, -999.000,9, -999.000,   -999.0,9,   -999.0, -999.000,9, -999.000, -999.000,9, -999.000,   -999.0,9,   -999.0, -999.000,9, -999.000,9, -999.000,9
  49NZ20140717,   P01,    78,  1,     12, X12J12,2,20140730,0633, 46.9763, 165.6373, 5887,   3250.4,2,   1.5317,2,   1.53178,2,  34.6662,2,  34.6659,2,-999.0000,9,   129.19,2,   129.03,2,   99.970,   0.0012,2,    0.002,2,  -999.00,9,    2.464,1,    0.000,2,   158.38,2,     0.17,    37.62,2,     0.05,     0.00,2,     0.01,     2.63,2,     0.01,  -999.00,9,  -999.00,    0.000,2,    0.000,2,    0.000,2, -999.000,9,   -999.0,9,   -999.0,9,   -999.0,9,-999.0000,     -999,9, -999.000,9,  -999.00,9, -999.000,9, -999.000,   -999.0,9,   -999.0, -999.000,9, -999.000, -999.000,9, -999.000,   -999.0,9,   -999.0, -999.000,9, -999.000,9, -999.000,9
  49NZ20140717,   P01,    78,  1,     11, X12J11,2,20140730,0633, 46.9763, 165.6373, 5887,   3499.7,2,   1.5024,2,   1.50282,2,  34.6726,2,  34.6718,2,-999.0000,9,   136.57,2,   136.32,2,   99.972,   0.0011,2,    0.001,2,  -999.00,9,    2.289,1,    0.000,2,   155.93,2,     0.17,    37.00,2,     0.05,     0.00,2,     0.01,     2.59,2,     0.01,  -999.00,9,  -999.00,    0.000,2,    0.000,2,    0.000,2, -999.000,9,   -999.0,9,   -999.0,9,   -999.0,9,-999.0000,     -999,9, -999.000,9,  -999.00,9, -999.000,9, -999.000,   -999.0,9,   -999.0, -999.000,9, -999.000, -999.000,9, -999.000,   -999.0,9,   -999.0, -999.000,9, -999.000,9, -999.000,9
  49NZ20140717,   P01,    78,  1,     10, X12J10,2,20140730,0633, 46.9763, 165.6373, 5887,   3750.6,2,   1.4870,2,   1.48737,2,  34.6773,2,  34.6767,2,-999.0000,9,   142.09,2,   141.82,2,   99.989,   0.0004,2,    0.001,2,  -999.00,9,    2.325,1,    0.000,2,   154.46,2,     0.17,    36.68,2,     0.05,     0.00,2,     0.01,     2.56,2,     0.01,  -999.00,9,  -999.00,    0.000,2,    0.000,2,    0.000,2, -999.000,9,   -999.0,9,   -999.0,9,   -999.0,9,-999.0000,     -999,9, -999.000,9,  -999.00,9, -999.000,9, -999.000,   -999.0,9,   -999.0, -999.000,9, -999.000, -999.000,9, -999.000,   -999.0,9,   -999.0, -999.000,9, -999.000,9, -999.000,9