BOTTLE,20230904JAMSTECRIGC
EXPOCODE,SECT,STNNBR,CASTNO,SAMPNO,BTLNBR,BTLNBR_FLAG_W,DATE,TIME,LATITUDE,LONGITUDE,DEPTH,CTDPRS,CTDPRS_FLAG_W,CTDTMP,CTDTMP_FLAG_W,SBE35,SBE35_FLAG_W,CTDSAL,CTDSAL_FLAG_W,SALNTY,SALNTY_FLAG_W,DNSSAL,DNSSAL_FLAG_W,CTDOXY,CTDOXY_FLAG_W,OXYGEN,OXYGEN_FLAG_W,XMISS,XMISSCP,XMISS_FLAG_W,FLUOR,FLUOR_FLAG_W,CHLORA,CHLORA_FLAG_W,CDOM,CDOM_FLAG_W,PAR,PAR_FLAG_W,SILCAT,SILCAT_FLAG_W,SILUNC,NITRAT,NITRAT_FLAG_W,NRAUNC,NITRIT,NITRIT_FLAG_W,NRIUNC,PHSPHT,PHSPHT_FLAG_W,PHPUNC,AMMONIA,AMMONIA_FLAG_W,NH4UNC,CFC-11,CFC-11_FLAG_W,CFC-12,CFC-12_FLAG_W,CFC113,CFC113_FLAG_W,SF6,SF6_FLAG_W,TCARBN,TCARBN_FLAG_W,ALKALI,ALKALI_FLAG_W,ALKALI_POT,ALKALI_POT_FLAG_W,PH_TOT,PH_TMP,PH_TOT_FLAG_W,CALCIUM,CALCIUM_FLAG_W,DOC,DOC_FLAG_W,DELC13,DELC13_FLAG_W,C13ERR,DELC14,DELC14_FLAG_W,C14ERR,CS-134,CS-134_FLAG_W,CS134ER,CS-137,CS-137_FLAG_W,CS137ER,I-129,I-129_FLAG_W,I-129ER,CDOM-325,CDOM-325_FLAG_W,CDOM-370,CDOM-370_FLAG_W,CDOM-443,CDOM-443_FLAG_W
,,,,,,,,UTC,DEG,DEG,METERS,DBAR,,ITS-90,,ITS-90,,PSS-78,,PSS-78,,G/KG,,UMOL/KG,,UMOL/KG,,%TRANS,/METER,,MG/CUM,,MG/CUM,,MG/CUM,,UE/SQM/S,,UMOL/KG,,UMOL/KG,UMOL/KG,,UMOL/KG,UMOL/KG,,UMOL/KG,UMOL/KG,,UMOL/KG,UMOL/KG,,UMOL/KG,PMOL/KG,,PMOL/KG,,PMOL/KG,,FMOL/KG,,UMOL/KG,,UMOL/KG,,UMOL/KG,,,DEG C,,MMOL/KG,,UMOL/KG,,/MILLE,,/MILLE,/MILLE,,/MILLE,MBQ/KG,,MBQ/KG,MBQ/KG,,MBQ/KG,,,,/METER,,/METER,,/METER,
  49NZ20140717,   P01,    62,  1,      9, X12J09,2,20140724,0205, 41.9384, 151.4778, 5158,   3920.2,2,   1.4555,2,   1.45564,2,  34.6822,2,  34.6824,2,-999.0000,9,   149.19,2,   149.00,2,   99.989,   0.0004,2,   -0.004,2,  -999.00,9,    2.191,1,    0.000,2,   151.98,2,     0.17,    36.38,2,     0.05,    -0.02,2,     0.01,     2.53,2,     0.01,  -999.00,9,  -999.00,    0.000,2,    0.000,2,    0.002,2,    0.000,2,   2329.3,2,   2417.0,2,   -999.0,9,   7.5700,       25,2, -999.000,9,    40.30,3, -999.000,9, -999.000,   -999.0,9,   -999.0, -999.000,9, -999.000, -999.000,9, -999.000,   -999.0,9,   -999.0, -999.000,9, -999.000,9, -999.000,9
  49NZ20140717,   P01,    62,  1,      8, X12J08,2,20140724,0205, 41.9384, 151.4778, 5158,   4169.8,2,   1.4554,2,   1.45535,2,  34.6850,2,  34.6853,2,-999.0000,9,   152.79,2,   152.69,2,   99.985,   0.0006,2,   -0.004,2,  -999.00,9,    2.222,4,    0.000,2,   150.89,2,     0.17,    36.13,2,     0.05,    -0.02,2,     0.01,     2.51,2,     0.01,  -999.00,9,  -999.00,    0.000,2,    0.000,2,    0.001,2,    0.000,2,   2327.4,6,   2416.9,2,   -999.0,9,   7.5762,       25,2, -999.000,9,    37.44,2, -999.000,9, -999.000,   -999.0,9,   -999.0, -999.000,9, -999.000, -999.000,9, -999.000,   -999.0,9,   -999.0, -999.000,9, -999.000,9, -999.000,9
  49NZ20140717,   P01,    62,  1,      7, X12J07,2,20140724,0205, 41.9384, 151.4778, 5158,   4421.1,2,   1.4658,2,   1.46584,2,  34.6870,2,  34.6867,2,-999.0000,9,   155.07,2,   154.80,2,   99.996,   0.0002,2,   -0.004,2,  -999.00,9,    1.420,4,    0.000,2,   150.94,2,     0.17,    35.97,2,     0.05,    -0.02,2,     0.01,     2.50,2,     0.01,  -999.00,9,  -999.00,    0.000,2,    0.000,2,    0.001,2,    0.000,2,   2324.7,2,   2416.9,2,   -999.0,9,   7.5803,       25,2, -999.000,9,    38.57,2, -999.000,9, -999.000,   -999.0,9,   -999.0, -999.000,9, -999.000, -999.000,9, -999.000,   -999.0,9,   -999.0, -999.000,9, -999.000,9, -999.000,9
  49NZ20140717,   P01,    62,  1,      6, X12J06,2,20140724,0205, 41.9384, 151.4778, 5158,   4671.9,2,   1.4829,2,   1.48301,2,  34.6883,2,  34.6883,2,-999.0000,9,   156.44,2,   156.32,2,  100.000,   0.0000,2,   -0.004,2,  -999.00,9,   -0.737,4,    0.000,2,   151.18,2,     0.17,    35.87,2,     0.05,    -0.02,2,     0.01,     2.49,2,     0.01,  -999.00,9,  -999.00,    0.004,2,    0.003,2,    0.001,2,    0.000,2,   2323.7,2,   2417.0,6,   -999.0,9,   7.5822,       25,2, -999.000,9,    37.40,2, -999.000,9, -999.000,   -999.0,9,   -999.0, -999.000,9, -999.000, -999.000,9, -999.000,   -999.0,9,   -999.0, -999.000,9, -999.000,9, -999.000,9
  49NZ20140717,   P01,    62,  1,      5, X12J05,2,20140724,0205, 41.9384, 151.4778, 5158,   4920.2,2,   1.5064,2,   1.50635,2,  34.6890,2,  34.6893,2,-999.0000,9,   157.10,2,   157.03,2,   99.935,   0.0026,2,   -0.004,2,  -999.00,9,   -1.639,4,    0.000,2,   151.41,2,     0.17,    35.81,2,     0.05,    -0.02,2,     0.01,     2.48,2,     0.01,  -999.00,9,  -999.00,    0.008,2,    0.004,2,    0.001,2,    0.000,2,   2323.3,2,   2415.4,2,   -999.0,9,   7.5837,       25,2, -999.000,9,    37.00,2, -999.000,9, -999.000,   -999.0,9,   -999.0, -999.000,9, -999.000, -999.000,9, -999.000,   -999.0,9,   -999.0, -999.000,9, -999.000,9, -999.000,9
  49NZ20140717,   P01,    62,  1,      4, X12J04,2,20140724,0205, 41.9384, 151.4778, 5158,   5170.1,2,   1.5346,2,   1.53450,2,  34.6894,2,  34.6899,2,-999.0000,9,   157.22,2,   157.33,2,   99.890,   0.0044,2,   -0.004,2,  -999.00,9,   -1.740,4,    0.000,2,   152.39,2,     0.17,    35.77,2,     0.05,    -0.02,2,     0.01,     2.48,2,     0.01,  -999.00,9,  -999.00,    0.006,2,    0.003,2,    0.000,2,    0.000,2,   2322.7,2,   2417.2,2,   -999.0,9,   7.5846,       25,2, -999.000,9,    37.90,2, -999.000,9, -999.000,   -999.0,9,   -999.0, -999.000,9, -999.000, -999.000,9, -999.000,   -999.0,9,   -999.0, -999.000,9, -999.000,9, -999.000,9
  49NZ20140717,   P01,    62,  1,      3, X12J03,9,20140724,0205, 41.9384, 151.4778, 5158,   -999.0,9,-999.0000,9,-999.00000,9,-999.0000,9,-999.0000,9,-999.0000,9,  -999.00,9,  -999.00,9, -999.000,-999.0000,9, -999.000,9,  -999.00,9, -999.000,9, -999.000,9,  -999.00,9,  -999.00,  -999.00,9,  -999.00,  -999.00,9,  -999.00,  -999.00,9,  -999.00,  -999.00,9,  -999.00, -999.000,9, -999.000,9, -999.000,9, -999.000,9,   -999.0,9,   -999.0,9,   -999.0,9,-999.0000,     -999,9, -999.000,9,  -999.00,9, -999.000,9, -999.000,   -999.0,9,   -999.0, -999.000,9, -999.000, -999.000,9, -999.000,   -999.0,9,   -999.0, -999.000,9, -999.000,9, -999.000,9
  49NZ20140717,   P01,    62,  1,      2, X12J02,2,20140724,0205, 41.9384, 151.4778, 5158,   1730.3,2,   2.0050,2,   2.00489,2,  34.5751,2,  34.5757,2,-999.0000,9,    65.54,2,    65.42,2,   99.929,   0.0028,2,    0.002,2,  -999.00,9,    2.770,1,    0.000,2,   163.96,2,     0.18,    41.66,2,     0.05,    -0.01,2,     0.01,     2.94,2,     0.01,  -999.00,9,  -999.00,    0.014,2,    0.008,2,    0.002,2,    0.040,2,   2378.6,2,   2410.7,2,   -999.0,9,   7.4145,       25,2, -999.000,9,    37.07,2, -999.000,9, -999.000,   -999.0,9,   -999.0, -999.000,9, -999.000, -999.000,9, -999.000,   -999.0,9,   -999.0, -999.000,9, -999.000,9, -999.000,9
  49NZ20140717,   P01,    62,  1,      1, X12J01,2,20140724,0205, 41.9384, 151.4778, 5158,   5246.2,2,   1.5445,2,   1.54451,2,  34.6894,2,  34.6895,2,-999.0000,9,   156.82,2,   157.07,2,   99.866,   0.0053,2,   -0.004,2,  -999.00,9,   -0.965,4,    0.000,2,   153.84,2,     0.17,    35.77,2,     0.05,    -0.01,2,     0.01,     2.49,2,     0.01,  -999.00,9,  -999.00,    0.004,2,    0.002,2,    0.000,2,    0.000,2,   2325.6,2,   2416.7,2,   -999.0,9,   7.5831,       25,2, -999.000,9,    35.28,2, -999.000,9, -999.000,   -999.0,9,   -999.0, -999.000,9, -999.000, -999.000,9, -999.000,   -999.0,9,   -999.0, -999.000,9, -999.000,9, -999.000,9