BOTTLE,20230904JAMSTECRIGC
EXPOCODE,SECT,STNNBR,CASTNO,SAMPNO,BTLNBR,BTLNBR_FLAG_W,DATE,TIME,LATITUDE,LONGITUDE,DEPTH,CTDPRS,CTDPRS_FLAG_W,CTDTMP,CTDTMP_FLAG_W,SBE35,SBE35_FLAG_W,CTDSAL,CTDSAL_FLAG_W,SALNTY,SALNTY_FLAG_W,DNSSAL,DNSSAL_FLAG_W,CTDOXY,CTDOXY_FLAG_W,OXYGEN,OXYGEN_FLAG_W,XMISS,XMISSCP,XMISS_FLAG_W,FLUOR,FLUOR_FLAG_W,CHLORA,CHLORA_FLAG_W,CDOM,CDOM_FLAG_W,PAR,PAR_FLAG_W,SILCAT,SILCAT_FLAG_W,SILUNC,NITRAT,NITRAT_FLAG_W,NRAUNC,NITRIT,NITRIT_FLAG_W,NRIUNC,PHSPHT,PHSPHT_FLAG_W,PHPUNC,AMMONIA,AMMONIA_FLAG_W,NH4UNC,CFC-11,CFC-11_FLAG_W,CFC-12,CFC-12_FLAG_W,CFC113,CFC113_FLAG_W,SF6,SF6_FLAG_W,TCARBN,TCARBN_FLAG_W,ALKALI,ALKALI_FLAG_W,ALKALI_POT,ALKALI_POT_FLAG_W,PH_TOT,PH_TMP,PH_TOT_FLAG_W,CALCIUM,CALCIUM_FLAG_W,DOC,DOC_FLAG_W,DELC13,DELC13_FLAG_W,C13ERR,DELC14,DELC14_FLAG_W,C14ERR,CS-134,CS-134_FLAG_W,CS134ER,CS-137,CS-137_FLAG_W,CS137ER,I-129,I-129_FLAG_W,I-129ER,CDOM-325,CDOM-325_FLAG_W,CDOM-370,CDOM-370_FLAG_W,CDOM-443,CDOM-443_FLAG_W
,,,,,,,,UTC,DEG,DEG,METERS,DBAR,,ITS-90,,ITS-90,,PSS-78,,PSS-78,,G/KG,,UMOL/KG,,UMOL/KG,,%TRANS,/METER,,MG/CUM,,MG/CUM,,MG/CUM,,UE/SQM/S,,UMOL/KG,,UMOL/KG,UMOL/KG,,UMOL/KG,UMOL/KG,,UMOL/KG,UMOL/KG,,UMOL/KG,UMOL/KG,,UMOL/KG,PMOL/KG,,PMOL/KG,,PMOL/KG,,FMOL/KG,,UMOL/KG,,UMOL/KG,,UMOL/KG,,,DEG C,,MMOL/KG,,UMOL/KG,,/MILLE,,/MILLE,/MILLE,,/MILLE,MBQ/KG,,MBQ/KG,MBQ/KG,,MBQ/KG,,,,/METER,,/METER,,/METER,
  49NZ20140717,   P01,    86,  1,      0,   -999,9,20140801,0611, 46.9674, 169.8085, 4095,   -999.0,9,-999.0000,9,-999.00000,9,-999.0000,9,  32.7980,2,-999.0000,9,  -999.00,9,  -999.00,9, -999.000,-999.0000,9, -999.000,9,  -999.00,9, -999.000,9, -999.000,9,    28.48,2,     0.09,    12.49,2,     0.07,     0.14,2,     0.01,     1.25,2,     0.01,  -999.00,9,  -999.00, -999.000,9, -999.000,9, -999.000,9, -999.000,9,   -999.0,9,   -999.0,9,   -999.0,9,-999.0000,     -999,9, -999.000,9,  -999.00,9, -999.000,9, -999.000,   -999.0,9,   -999.0, -999.000,9, -999.000, -999.000,9, -999.000,   -999.0,9,   -999.0, -999.000,9, -999.000,9, -999.000,9
  49NZ20140717,   P01,    86,  1,     36, X12J36,2,20140801,0611, 46.9674, 169.8085, 4095,     10.2,2,  11.7368,2,  11.68727,2,  32.7998,2,  32.8057,2,-999.0000,9,   283.06,2,   289.73,2,   93.202,   0.2816,2,    0.627,2,  -999.00,9,    0.177,1,    2.124,2,    28.84,2,     0.09,    12.87,2,     0.02,     0.14,2,     0.01,     1.26,2,     0.01,  -999.00,9,  -999.00,    3.697,2,    2.093,2,    0.404,2, -999.000,9,   2039.8,2,   2228.5,2,   -999.0,9,   7.8563,       25,6, -999.000,9,    64.66,2, -999.000,9, -999.000,   -999.0,9,   -999.0, -999.000,9, -999.000, -999.000,9, -999.000,   -999.0,9,   -999.0, -999.000,9, -999.000,9, -999.000,9
  49NZ20140717,   P01,    86,  1,     35, X12J35,2,20140801,0611, 46.9674, 169.8085, 4095,     50.0,2,   4.2708,2,   4.27699,2,  32.9019,2,  32.9051,2,-999.0000,9,   319.88,2,   321.32,2,   97.920,   0.0841,2,    0.343,2,  -999.00,9,    0.841,1,    0.000,2,    34.89,2,     0.10,    20.48,2,     0.03,     0.23,2,     0.01,     1.79,2,     0.01,  -999.00,9,  -999.00,    5.208,2,    2.798,2,    0.506,2, -999.000,9,   2103.8,6,   2221.3,2,   -999.0,9,   7.6987,       25,2, -999.000,9,    52.64,2, -999.000,9, -999.000,   -999.0,9,   -999.0, -999.000,9, -999.000, -999.000,9, -999.000,   -999.0,9,   -999.0, -999.000,9, -999.000,9, -999.000,9
  49NZ20140717,   P01,    86,  1,     34, X12J34,2,20140801,0611, 46.9674, 169.8085, 4095,    100.2,2,   2.9593,2,   2.95866,2,  33.0400,2,  33.0451,2,-999.0000,9,   293.48,2,   293.32,2,   99.496,   0.0202,2,    0.053,2,  -999.00,9,    1.098,1,    0.000,2,    43.01,2,     0.10,    25.85,2,     0.04,     0.04,2,     0.01,     2.02,2,     0.01,  -999.00,9,  -999.00,    5.129,2,    2.749,2,    0.474,2, -999.000,9,   2137.9,2,   2233.7,2,   -999.0,9,   7.6197,       25,2, -999.000,9,    50.20,2, -999.000,9, -999.000,   -999.0,9,   -999.0, -999.000,9, -999.000, -999.000,9, -999.000,   -999.0,9,   -999.0, -999.000,9, -999.000,9, -999.000,9
  49NZ20140717,   P01,    86,  1,     33, X12J33,2,20140801,0611, 46.9674, 169.8085, 4095,   3921.6,2,   1.4606,2,   1.46064,2,  34.6815,2,  34.6812,2,-999.0000,9,   146.86,2,   147.48,2,   99.887,   0.0045,2,    0.001,2,  -999.00,9,    2.358,1,    0.000,2,  -999.00,9,  -999.00,  -999.00,9,  -999.00,  -999.00,9,  -999.00,  -999.00,9,  -999.00,  -999.00,9,  -999.00, -999.000,9, -999.000,9, -999.000,9, -999.000,9,   -999.0,9,   -999.0,9,   -999.0,9,-999.0000,     -999,9, -999.000,9,  -999.00,9, -999.000,9, -999.000,   -999.0,9,   -999.0, -999.000,9, -999.000, -999.000,9, -999.000,   -999.0,9,   -999.0, -999.000,9, -999.000,9, -999.000,9
  49NZ20140717,   P01,    86,  1,     32, X12J32,2,20140801,0611, 46.9674, 169.8085, 4095,    200.3,2,   3.6830,2,   3.68276,2,  33.8993,2,  33.8986,2,-999.0000,9,    28.50,2,    28.94,2,   99.704,   0.0119,2,    0.015,2,  -999.00,9,    2.809,1,    0.000,2,    97.56,2,     0.14,    44.93,2,     0.06,     0.01,2,     0.01,     3.18,2,     0.01,  -999.00,9,  -999.00,    2.036,2,    1.029,2,    0.144,2, -999.000,9,   2335.5,2,   2302.5,6,   -999.0,9,   7.2276,       25,2, -999.000,9,    47.01,2, -999.000,9, -999.000,   -999.0,9,   -999.0, -999.000,9, -999.000, -999.000,9, -999.000,   -999.0,9,   -999.0, -999.000,9, -999.000,9, -999.000,9
  49NZ20140717,   P01,    86,  1,     31, X12J31,2,20140801,0611, 46.9674, 169.8085, 4095,    249.7,2,   3.6437,2,   3.64368,2,  34.0009,2,  34.0002,2,-999.0000,9,    20.17,2,    20.28,2,   99.803,   0.0079,2,    0.016,2,  -999.00,9,    2.903,1,    0.000,2,   106.58,2,     0.14,    45.02,2,     0.06,     0.01,2,     0.01,     3.20,2,     0.01,  -999.00,9,  -999.00,    1.527,2,    0.759,2,    0.113,2, -999.000,9,   2347.0,2,   2315.2,2,   -999.0,9,   7.2328,       25,2, -999.000,9,    42.36,2, -999.000,9, -999.000,   -999.0,9,   -999.0, -999.000,9, -999.000, -999.000,9, -999.000,   -999.0,9,   -999.0, -999.000,9, -999.000,9, -999.000,9
  49NZ20140717,   P01,    86,  1,     30, X12J30,2,20140801,0611, 46.9674, 169.8085, 4095,    280.2,2,   3.6287,2,   3.62856,2,  34.0478,2,  34.0475,2,-999.0000,9,    19.09,2,    19.11,2,   99.840,   0.0064,2,    0.015,2,  -999.00,9,    2.921,1,    0.000,2,   110.47,2,     0.14,    44.85,2,     0.06,     0.01,2,     0.01,     3.18,2,     0.01,  -999.00,9,  -999.00,    1.299,2,    0.635,2,    0.093,2, -999.000,9,   2350.2,2,   2321.7,2,   -999.0,9,   7.2446,       25,2, -999.000,9,    42.71,2, -999.000,9, -999.000,   -999.0,9,   -999.0, -999.000,9, -999.000, -999.000,9, -999.000,   -999.0,9,   -999.0, -999.000,9, -999.000,9, -999.000,9
  49NZ20140717,   P01,    86,  1,     29, X12J29,2,20140801,0611, 46.9674, 169.8085, 4095,    370.8,2,   3.5355,2,   3.53557,2,  34.1344,2,  34.1338,2,-999.0000,9,    16.12,2,    15.99,2,   99.866,   0.0054,2,    0.015,2,  -999.00,9,    2.970,1,    0.000,2,   118.89,2,     0.15,    44.62,2,     0.06,     0.01,2,     0.01,     3.17,2,     0.01,  -999.00,9,  -999.00,    0.899,2,    0.427,2,    0.069,2, -999.000,9,   2359.0,2,   2336.9,2,   -999.0,9,   7.2584,       25,2, -999.000,9,    42.17,2, -999.000,9, -999.000,   -999.0,9,   -999.0, -999.000,9, -999.000, -999.000,9, -999.000,   -999.0,9,   -999.0, -999.000,9, -999.000,9, -999.000,9
  49NZ20140717,   P01,    86,  1,     28, X12J28,2,20140801,0611, 46.9674, 169.8085, 4095,    470.6,2,   3.3984,2,   3.39826,2,  34.2023,2,  34.2013,2,-999.0000,9,    14.58,2,    14.20,2,   99.913,   0.0035,2,    0.015,2,  -999.00,9,    3.031,1,    0.000,2,   126.38,2,     0.15,    44.51,2,     0.06,     0.01,2,     0.01,     3.17,2,     0.01,  -999.00,9,  -999.00, -999.000,9, -999.000,9, -999.000,9, -999.000,9,   2364.4,2,   2345.4,2,   -999.0,9,   7.2692,       25,2, -999.000,9,    41.54,2, -999.000,9, -999.000,   -999.0,9,   -999.0, -999.000,9, -999.000, -999.000,9, -999.000,   -999.0,9,   -999.0, -999.000,9, -999.000,9, -999.000,9
  49NZ20140717,   P01,    86,  1,     27, X12J27,2,20140801,0611, 46.9674, 169.8085, 4095,    570.2,2,   3.1908,2,   3.19042,2,  34.2702,2,  34.2709,2,-999.0000,9,    14.15,2,    13.78,2,   99.892,   0.0043,2,    0.014,2,  -999.00,9,    3.048,1,    0.000,2,   134.99,2,     0.16,    44.44,2,     0.06,     0.01,2,     0.01,     3.16,2,     0.01,  -999.00,9,  -999.00, -999.000,9, -999.000,9, -999.000,9, -999.000,9,   2373.5,2,   2355.7,2,   -999.0,9,   7.2796,       25,2, -999.000,9,    41.29,2, -999.000,9, -999.000,   -999.0,9,   -999.0, -999.000,9, -999.000, -999.000,9, -999.000,   -999.0,9,   -999.0, -999.000,9, -999.000,9, -999.000,9
  49NZ20140717,   P01,    86,  1,     26, X12J26,2,20140801,0611, 46.9674, 169.8085, 4095,    669.5,2,   3.0580,2,   3.05798,2,  34.3108,2,  34.3111,2,-999.0000,9,    15.11,2,    14.68,2,   99.879,   0.0049,2,    0.013,2,  -999.00,9,    3.101,1,    0.000,2,   140.09,2,     0.16,    44.40,2,     0.06,     0.01,2,     0.01,     3.16,2,     0.01,  -999.00,9,  -999.00,    0.299,2,    0.130,2,    0.008,2, -999.000,9,   2377.8,6,   2367.1,2,   -999.0,9,   7.2875,       25,2, -999.000,9,    43.06,3, -999.000,9, -999.000,   -999.0,9,   -999.0, -999.000,9, -999.000, -999.000,9, -999.000,   -999.0,9,   -999.0, -999.000,9, -999.000,9, -999.000,9
  49NZ20140717,   P01,    86,  1,     25, X12J25,2,20140801,0611, 46.9674, 169.8085, 4095,    770.1,2,   2.9170,2,   2.91689,2,  34.3489,2,  34.3482,2,-999.0000,9,    16.71,2,    16.28,2,   99.874,   0.0050,2,    0.013,2,  -999.00,9,    3.143,1,    0.000,2,   144.87,2,     0.16,    44.23,2,     0.06,     0.00,2,     0.01,     3.16,2,     0.01,  -999.00,9,  -999.00,    0.231,2,    0.098,2,    0.000,2, -999.000,9,   2381.4,2,   2374.1,2,   -999.0,9,   7.2961,       25,2, -999.000,9,    39.58,2, -999.000,9, -999.000,   -999.0,9,   -999.0, -999.000,9, -999.000, -999.000,9, -999.000,   -999.0,9,   -999.0, -999.000,9, -999.000,9, -999.000,9
  49NZ20140717,   P01,    86,  1,     24, X12J24,2,20140801,0611, 46.9674, 169.8085, 4095,    869.7,2,   2.7927,2,   2.79210,2,  34.3824,2,  34.3818,2,-999.0000,9,    18.41,2,    17.95,2,   99.898,   0.0041,2,    0.012,2,  -999.00,9,    3.139,1,    0.000,2,   148.89,2,     0.17,    44.22,2,     0.06,     0.01,2,     0.01,     3.15,2,     0.01,  -999.00,9,  -999.00,    0.165,2,    0.073,2,    0.000,2, -999.000,9,   2383.5,2,   2377.1,2,   -999.0,9,   7.3049,       25,6, -999.000,9,    40.16,2, -999.000,9, -999.000,   -999.0,9,   -999.0, -999.000,9, -999.000, -999.000,9, -999.000,   -999.0,9,   -999.0, -999.000,9, -999.000,9, -999.000,9
  49NZ20140717,   P01,    86,  1,     23, X12J23,2,20140801,0611, 46.9674, 169.8085, 4095,    970.1,2,   2.6673,2,   2.66702,2,  34.4129,2,  34.4130,2,-999.0000,9,    20.10,2,    19.67,2,   99.889,   0.0044,2,    0.012,2,  -999.00,9,    3.100,1,    0.000,2,   153.14,2,     0.17,    44.18,2,     0.06,     0.00,2,     0.01,     3.14,2,     0.01,  -999.00,9,  -999.00,    0.122,2,    0.056,2,    0.000,2, -999.000,9,   2387.6,2,   2382.0,2,   -999.0,9,   7.3103,       25,2, -999.000,9,    40.78,2, -999.000,9, -999.000,   -999.0,9,   -999.0, -999.000,9, -999.000, -999.000,9, -999.000,   -999.0,9,   -999.0, -999.000,9, -999.000,9, -999.000,9
  49NZ20140717,   P01,    86,  1,     22, X12J22,2,20140801,0611, 46.9674, 169.8085, 4095,   1130.7,2,   2.4153,2,   2.41529,2,  34.4673,2,  34.4679,2,-999.0000,9,    27.85,2,    27.74,2,   99.905,   0.0038,2,    0.010,2,  -999.00,9,    3.024,1,    0.000,2,   160.58,2,     0.17,    43.78,2,     0.06,     0.00,2,     0.01,     3.11,2,     0.01,  -999.00,9,  -999.00,    0.077,2,    0.031,2,    0.000,2, -999.000,9,   2389.5,2,   2393.7,6,   -999.0,9,   7.3306,       25,2, -999.000,9,    39.54,2, -999.000,9, -999.000,   -999.0,9,   -999.0, -999.000,9, -999.000, -999.000,9, -999.000,   -999.0,9,   -999.0, -999.000,9, -999.000,9, -999.000,9
  49NZ20140717,   P01,    86,  1,     21, X12J21,2,20140801,0611, 46.9674, 169.8085, 4095,   1330.2,2,   2.2237,2,   2.22376,2,  34.5135,2,  34.5139,2,-999.0000,9,    37.75,2,    38.37,2,   99.889,   0.0044,2,    0.009,2,  -999.00,9,    3.054,1,    0.000,2,   165.16,2,     0.18,    43.21,2,     0.05,     0.00,2,     0.01,     3.07,2,     0.01,  -999.00,9,  -999.00,    0.043,2,    0.019,2,    0.000,2, -999.000,9,   2389.9,2,   2403.1,2,   -999.0,9,   7.3556,       25,2, -999.000,9,    41.97,2, -999.000,9, -999.000,   -999.0,9,   -999.0, -999.000,9, -999.000, -999.000,9, -999.000,   -999.0,9,   -999.0, -999.000,9, -999.000,9, -999.000,9
  49NZ20140717,   P01,    86,  1,     20, X12J20,2,20140801,0611, 46.9674, 169.8085, 4095,   1531.2,2,   2.0638,2,   2.06383,2,  34.5512,2,  34.5516,2,-999.0000,9,    49.70,2,    50.03,2,   99.941,   0.0023,2,    0.008,2,  -999.00,9,    2.997,1,    0.000,2,   167.80,2,     0.18,    42.51,2,     0.05,     0.01,2,     0.01,     3.01,2,     0.01,  -999.00,9,  -999.00,    0.022,2,    0.010,2,    0.000,2, -999.000,9,   2387.5,2,   2407.3,2,   -999.0,9,   7.3819,       25,6, -999.000,9,    43.10,3, -999.000,9, -999.000,   -999.0,9,   -999.0, -999.000,9, -999.000, -999.000,9, -999.000,   -999.0,9,   -999.0, -999.000,9, -999.000,9, -999.000,9
  49NZ20140717,   P01,    86,  1,     19, X12J19,2,20140801,0611, 46.9674, 169.8085, 4095,   1730.6,2,   1.9314,2,   1.93121,2,  34.5814,2,  34.5816,2,-999.0000,9,    63.57,2,    63.99,2,   99.935,   0.0026,2,    0.007,2,  -999.00,9,    2.932,1,    0.000,2,   168.30,2,     0.18,    41.71,2,     0.05,     0.01,2,     0.01,     2.96,2,     0.01,  -999.00,9,  -999.00,    0.012,2,    0.003,2,    0.000,2, -999.000,9,   2379.3,2,   2410.0,2,   -999.0,9,   7.4096,       25,2, -999.000,9,    38.35,2, -999.000,9, -999.000,   -999.0,9,   -999.0, -999.000,9, -999.000, -999.000,9, -999.000,   -999.0,9,   -999.0, -999.000,9, -999.000,9, -999.000,9
  49NZ20140717,   P01,    86,  1,     18, X12J18,2,20140801,0611, 46.9674, 169.8085, 4095,   1930.0,2,   1.8305,2,   1.83033,2,  34.6023,2,  34.6030,2,-999.0000,9,    75.02,2,    75.52,2,   99.924,   0.0030,2,    0.005,2,  -999.00,9,    2.892,1,    0.000,2,   168.44,2,     0.18,    41.05,2,     0.05,     0.01,2,     0.01,     2.90,2,     0.01,  -999.00,9,  -999.00,    0.001,2,    0.002,2,    0.000,2, -999.000,9,   2375.1,2,   2417.3,3,   -999.0,9,   7.4350,       25,2, -999.000,9,    40.58,2, -999.000,9, -999.000,   -999.0,9,   -999.0, -999.000,9, -999.000, -999.000,9, -999.000,   -999.0,9,   -999.0, -999.000,9, -999.000,9, -999.000,9
  49NZ20140717,   P01,    86,  1,     17, X12J17,2,20140801,0611, 46.9674, 169.8085, 4095,   2129.6,2,   1.7363,2,   1.73630,2,  34.6201,2,  34.6206,2,-999.0000,9,    85.72,2,    85.96,2,   99.920,   0.0032,2,    0.004,2,  -999.00,9,    2.865,1,    0.000,2,   168.65,2,     0.18,    40.17,2,     0.05,     0.01,2,     0.01,     2.85,2,     0.01,  -999.00,9,  -999.00,    0.003,2,    0.000,2,    0.000,2, -999.000,9,   2368.0,2,   2414.2,2,   -999.0,9,   7.4554,       25,2, -999.000,9,    39.67,2, -999.000,9, -999.000,   -999.0,9,   -999.0, -999.000,9, -999.000, -999.000,9, -999.000,   -999.0,9,   -999.0, -999.000,9, -999.000,9, -999.000,9
  49NZ20140717,   P01,    86,  1,     16, X12J16,2,20140801,0611, 46.9674, 169.8085, 4095,   2330.2,2,   1.6683,2,   1.66838,2,  34.6338,2,  34.6342,2,-999.0000,9,    96.36,2,    97.03,2,   99.920,   0.0032,2,    0.004,2,  -999.00,9,    2.752,1,    0.000,2,   167.37,2,     0.18,    39.53,2,     0.05,     0.01,2,     0.01,     2.80,2,     0.01,  -999.00,9,  -999.00,    0.005,2,    0.000,2,    0.000,2, -999.000,9,   2362.6,6,   2419.2,2,   -999.0,9,   7.4771,       25,2, -999.000,9,    39.41,2, -999.000,9, -999.000,   -999.0,9,   -999.0, -999.000,9, -999.000, -999.000,9, -999.000,   -999.0,9,   -999.0, -999.000,9, -999.000,9, -999.000,9
  49NZ20140717,   P01,    86,  1,     15, X12J15,2,20140801,0611, 46.9674, 169.8085, 4095,   2530.7,2,   1.6089,2,   1.60886,2,  34.6451,2,  34.6454,2,-999.0000,9,   106.25,2,   106.71,2,   99.950,   0.0020,2,    0.003,2,  -999.00,9,    2.733,1,    0.000,2,   165.78,2,     0.18,    38.91,2,     0.05,     0.01,2,     0.01,     2.75,2,     0.01,  -999.00,9,  -999.00,    0.001,2,    0.000,2,    0.000,2, -999.000,9,   2358.0,2,   2417.5,2,   -999.0,9,   7.4955,       25,2, -999.000,9,    40.34,2, -999.000,9, -999.000,   -999.0,9,   -999.0, -999.000,9, -999.000, -999.000,9, -999.000,   -999.0,9,   -999.0, -999.000,9, -999.000,9, -999.000,9
  49NZ20140717,   P01,    86,  1,     14, X12J14,2,20140801,0611, 46.9674, 169.8085, 4095,   2730.3,2,   1.5641,2,   1.56406,2,  34.6542,2,  34.6547,2,-999.0000,9,   115.88,2,   116.79,2,   99.939,   0.0024,2,    0.003,2,  -999.00,9,    2.584,1,    0.000,2,   162.45,2,     0.18,    38.30,2,     0.05,     0.01,2,     0.01,     2.70,2,     0.01,  -999.00,9,  -999.00,    0.001,2,    0.000,2,    0.000,2, -999.000,9,   2348.3,2,   2419.3,2,   -999.0,9,   7.5124,       25,6, -999.000,9,  -999.00,9, -999.000,9, -999.000,   -999.0,9,   -999.0, -999.000,9, -999.000, -999.000,9, -999.000,   -999.0,9,   -999.0, -999.000,9, -999.000,9, -999.000,9
  49NZ20140717,   P01,    86,  1,     13, X12113,2,20140801,0611, 46.9674, 169.8085, 4095,   2930.0,2,   1.5308,2,   1.53083,2,  34.6612,2,  34.6611,2,-999.0000,9,   122.83,2,   123.54,2,   99.939,   0.0024,2,    0.002,2,  -999.00,9,    2.504,1,    0.000,2,   161.23,2,     0.17,    37.83,2,     0.05,     0.01,2,     0.01,     2.67,2,     0.01,  -999.00,9,  -999.00,    0.002,2,    0.000,2,    0.000,2, -999.000,9,   2345.6,2,   2418.1,2,   -999.0,9,   7.5248,       25,2, -999.000,9,    39.15,2, -999.000,9, -999.000,   -999.0,9,   -999.0, -999.000,9, -999.000, -999.000,9, -999.000,   -999.0,9,   -999.0, -999.000,9, -999.000,9, -999.000,9
  49NZ20140717,   P01,    86,  1,     12, X12J12,2,20140801,0611, 46.9674, 169.8085, 4095,   3170.0,2,   1.4967,2,   1.49681,2,  34.6684,2,  34.6681,2,-999.0000,9,   131.13,2,   131.58,2,   99.935,   0.0026,2,    0.002,2,  -999.00,9,    2.498,1,    0.000,2,   158.61,2,     0.17,    37.37,2,     0.05,     0.01,2,     0.01,     2.63,2,     0.01,  -999.00,9,  -999.00,    0.003,2,    0.000,2,    0.000,2, -999.000,9,   2339.5,2,   2419.3,6,   -999.0,9,   7.5397,       25,2, -999.000,9,    40.09,2, -999.000,9, -999.000,   -999.0,9,   -999.0, -999.000,9, -999.000, -999.000,9, -999.000,   -999.0,9,   -999.0, -999.000,9, -999.000,9, -999.000,9
  49NZ20140717,   P01,    86,  1,     11, X12J11,2,20140801,0611, 46.9674, 169.8085, 4095,   3419.5,2,   1.4712,2,   1.47127,2,  34.6742,2,  34.6744,2,-999.0000,9,   138.21,2,   138.90,2,   99.918,   0.0033,2,    0.001,2,  -999.00,9,    2.493,1,    0.000,2,   156.24,2,     0.17,    36.88,2,     0.05,     0.01,2,     0.01,     2.59,2,     0.01,  -999.00,9,  -999.00,    0.001,2,    0.001,2,    0.000,2, -999.000,9,   2334.0,2,   2417.0,2,   -999.0,9,   7.5522,       25,2, -999.000,9,    40.55,2, -999.000,9, -999.000,   -999.0,9,   -999.0, -999.000,9, -999.000, -999.000,9, -999.000,   -999.0,9,   -999.0, -999.000,9, -999.000,9, -999.000,9
  49NZ20140717,   P01,    86,  1,     10, X12J10,2,20140801,0611, 46.9674, 169.8085, 4095,   3669.1,2,   1.4780,2,   1.47805,2,  34.6765,2,  34.6766,2,-999.0000,9,   140.80,2,   141.39,2,   99.896,   0.0042,2,    0.001,2,  -999.00,9,    2.418,1,    0.000,2,   155.48,2,     0.17,    36.78,2,     0.05,     0.01,2,     0.01,     2.57,2,     0.01,  -999.00,9,  -999.00,    0.000,2,    0.001,2,    0.000,2, -999.000,9,   2334.1,2,   2419.3,2,   -999.0,9,   7.5576,       25,2, -999.000,9,    39.55,2, -999.000,9, -999.000,   -999.0,9,   -999.0, -999.000,9, -999.000, -999.000,9, -999.000,   -999.0,9,   -999.0, -999.000,9, -999.000,9, -999.000,9