BOTTLE,20230904JAMSTECRIGC
EXPOCODE,SECT,STNNBR,CASTNO,SAMPNO,BTLNBR,BTLNBR_FLAG_W,DATE,TIME,LATITUDE,LONGITUDE,DEPTH,CTDPRS,CTDPRS_FLAG_W,CTDTMP,CTDTMP_FLAG_W,SBE35,SBE35_FLAG_W,CTDSAL,CTDSAL_FLAG_W,SALNTY,SALNTY_FLAG_W,DNSSAL,DNSSAL_FLAG_W,CTDOXY,CTDOXY_FLAG_W,OXYGEN,OXYGEN_FLAG_W,XMISS,XMISSCP,XMISS_FLAG_W,FLUOR,FLUOR_FLAG_W,CHLORA,CHLORA_FLAG_W,CDOM,CDOM_FLAG_W,PAR,PAR_FLAG_W,SILCAT,SILCAT_FLAG_W,SILUNC,NITRAT,NITRAT_FLAG_W,NRAUNC,NITRIT,NITRIT_FLAG_W,NRIUNC,PHSPHT,PHSPHT_FLAG_W,PHPUNC,AMMONIA,AMMONIA_FLAG_W,NH4UNC,CFC-11,CFC-11_FLAG_W,CFC-12,CFC-12_FLAG_W,CFC113,CFC113_FLAG_W,SF6,SF6_FLAG_W,TCARBN,TCARBN_FLAG_W,ALKALI,ALKALI_FLAG_W,ALKALI_POT,ALKALI_POT_FLAG_W,PH_TOT,PH_TMP,PH_TOT_FLAG_W,CALCIUM,CALCIUM_FLAG_W,DOC,DOC_FLAG_W,DELC13,DELC13_FLAG_W,C13ERR,DELC14,DELC14_FLAG_W,C14ERR,CS-134,CS-134_FLAG_W,CS134ER,CS-137,CS-137_FLAG_W,CS137ER,I-129,I-129_FLAG_W,I-129ER,CDOM-325,CDOM-325_FLAG_W,CDOM-370,CDOM-370_FLAG_W,CDOM-443,CDOM-443_FLAG_W
,,,,,,,,UTC,DEG,DEG,METERS,DBAR,,ITS-90,,ITS-90,,PSS-78,,PSS-78,,G/KG,,UMOL/KG,,UMOL/KG,,%TRANS,/METER,,MG/CUM,,MG/CUM,,MG/CUM,,UE/SQM/S,,UMOL/KG,,UMOL/KG,UMOL/KG,,UMOL/KG,UMOL/KG,,UMOL/KG,UMOL/KG,,UMOL/KG,UMOL/KG,,UMOL/KG,PMOL/KG,,PMOL/KG,,PMOL/KG,,FMOL/KG,,UMOL/KG,,UMOL/KG,,UMOL/KG,,,DEG C,,MMOL/KG,,UMOL/KG,,/MILLE,,/MILLE,/MILLE,,/MILLE,MBQ/KG,,MBQ/KG,MBQ/KG,,MBQ/KG,,,,/METER,,/METER,,/METER,
  49NZ20140717,   P01,    92,  1,      0,   -999,9,20140803,0413, 47.0052, 174.9668, 5680,   -999.0,9,-999.0000,9,-999.00000,9,-999.0000,9,  32.8273,2,-999.0000,9,  -999.00,9,  -999.00,9, -999.000,-999.0000,9, -999.000,9,  -999.00,9, -999.000,9, -999.000,9,    21.58,2,     0.09,    11.79,2,     0.02,     0.16,2,     0.01,     1.17,2,     0.01,  -999.00,9,  -999.00, -999.000,9, -999.000,9, -999.000,9, -999.000,9,   -999.0,9,   -999.0,9,   -999.0,9,-999.0000,     -999,9, -999.000,9,  -999.00,9, -999.000,9, -999.000,   -999.0,9,   -999.0, -999.000,9, -999.000, -999.000,9, -999.000,   -999.0,9,   -999.0, -999.000,9, -999.000,9, -999.000,9
  49NZ20140717,   P01,    92,  1,     36, X12J36,2,20140803,0413, 47.0052, 174.9668, 5680,     10.4,2,  11.8181,2,  11.81886,2,  32.7929,2,  32.7995,2,-999.0000,9,   280.55,2,   281.36,2,   96.272,   0.1520,2,    0.346,2,  -999.00,9,   -0.221,1,   24.046,2,    21.77,2,     0.09,    12.02,2,     0.02,     0.16,2,     0.01,     1.18,2,     0.01,  -999.00,9,  -999.00, -999.000,9, -999.000,9, -999.000,9, -999.000,9,   -999.0,9,   -999.0,9,   -999.0,9,-999.0000,     -999,9, -999.000,9,  -999.00,9, -999.000,9, -999.000,   -999.0,9,   -999.0, -999.000,9, -999.000, -999.000,9, -999.000,   -999.0,9,   -999.0, -999.000,9, -999.000,9, -999.000,9
  49NZ20140717,   P01,    92,  1,     35, X12J35,2,20140803,0413, 47.0052, 174.9668, 5680,     50.4,2,   4.7787,2,   4.77769,2,  32.9697,2,  32.9818,2,-999.0000,9,   325.29,2,   325.02,2,   96.727,   0.1331,2,    0.620,2,  -999.00,9,    0.823,1,    1.230,2,    26.11,2,     0.09,    16.03,2,     0.03,     0.21,2,     0.01,     1.45,2,     0.01,  -999.00,9,  -999.00, -999.000,9, -999.000,9, -999.000,9, -999.000,9,   -999.0,9,   -999.0,9,   -999.0,9,-999.0000,     -999,9, -999.000,9,  -999.00,9, -999.000,9, -999.000,   -999.0,9,   -999.0, -999.000,9, -999.000, -999.000,9, -999.000,   -999.0,9,   -999.0, -999.000,9, -999.000,9, -999.000,9
  49NZ20140717,   P01,    92,  1,     34, X12J34,2,20140803,0413, 47.0052, 174.9668, 5680,     99.6,2,   4.2638,2,   4.25898,2,  33.1515,2,  33.1559,2,-999.0000,9,   300.13,2,   300.88,2,   99.521,   0.0192,2,    0.130,2,  -999.00,9,    0.858,1,    0.036,2,    28.41,2,     0.09,    18.71,2,     0.03,     0.02,2,     0.01,     1.53,2,     0.01,  -999.00,9,  -999.00, -999.000,9, -999.000,9, -999.000,9, -999.000,9,   -999.0,9,   -999.0,9,   -999.0,9,-999.0000,     -999,9, -999.000,9,  -999.00,9, -999.000,9, -999.000,   -999.0,9,   -999.0, -999.000,9, -999.000, -999.000,9, -999.000,   -999.0,9,   -999.0, -999.000,9, -999.000,9, -999.000,9
  49NZ20140717,   P01,    92,  1,     33, X12J33,2,20140803,0413, 47.0052, 174.9668, 5680,    150.6,2,   4.1644,2,   4.16599,2,  33.5975,2,  33.5964,2,-999.0000,9,   223.97,2,   223.89,2,   99.599,   0.0161,2,    0.020,2,  -999.00,9,    1.710,1,    0.000,2,    47.56,2,     0.10,    26.38,2,     0.04,     0.01,2,     0.01,     1.97,2,     0.01,  -999.00,9,  -999.00, -999.000,9, -999.000,9, -999.000,9, -999.000,9,   -999.0,9,   -999.0,9,   -999.0,9,-999.0000,     -999,9, -999.000,9,  -999.00,9, -999.000,9, -999.000,   -999.0,9,   -999.0, -999.000,9, -999.000, -999.000,9, -999.000,   -999.0,9,   -999.0, -999.000,9, -999.000,9, -999.000,9
  49NZ20140717,   P01,    92,  1,     32, X12J32,2,20140803,0413, 47.0052, 174.9668, 5680,    199.8,2,   3.3780,2,   3.37591,2,  33.6277,2,  33.6301,2,-999.0000,9,   171.44,2,   171.67,2,   99.614,   0.0155,2,    0.010,2,  -999.00,9,    2.261,1,    0.000,2,    65.19,2,     0.12,    32.45,2,     0.04,     0.01,2,     0.01,     2.40,2,     0.01,  -999.00,9,  -999.00, -999.000,9, -999.000,9, -999.000,9, -999.000,9,   -999.0,9,   -999.0,9,   -999.0,9,-999.0000,     -999,9, -999.000,9,  -999.00,9, -999.000,9, -999.000,   -999.0,9,   -999.0, -999.000,9, -999.000, -999.000,9, -999.000,   -999.0,9,   -999.0, -999.000,9, -999.000,9, -999.000,9
  49NZ20140717,   P01,    92,  1,     31, X12J31,2,20140803,0413, 47.0052, 174.9668, 5680,    249.8,2,   3.4863,2,   3.48568,2,  33.7400,2,  33.7404,2,-999.0000,9,   123.73,2,   123.85,2,   99.744,   0.0103,2,    0.012,2,  -999.00,9,    2.533,1,    0.000,2,    77.44,2,     0.12,    36.53,2,     0.05,     0.01,2,     0.01,     2.66,2,     0.01,  -999.00,9,  -999.00, -999.000,9, -999.000,9, -999.000,9, -999.000,9,   -999.0,9,   -999.0,9,   -999.0,9,-999.0000,     -999,9, -999.000,9,  -999.00,9, -999.000,9, -999.000,   -999.0,9,   -999.0, -999.000,9, -999.000, -999.000,9, -999.000,   -999.0,9,   -999.0, -999.000,9, -999.000,9, -999.000,9
  49NZ20140717,   P01,    92,  1,     30, X12J30,2,20140803,0413, 47.0052, 174.9668, 5680,    280.4,2,   3.5991,2,   3.59888,2,  33.8020,2,  33.8022,2,-999.0000,9,   104.31,2,   104.49,2,   99.753,   0.0099,2,    0.013,2,  -999.00,9,    2.555,1,    0.000,2,    82.43,2,     0.13,    37.94,2,     0.05,     0.01,2,     0.01,     2.75,2,     0.01,  -999.00,9,  -999.00, -999.000,9, -999.000,9, -999.000,9, -999.000,9,   -999.0,9,   -999.0,9,   -999.0,9,-999.0000,     -999,9, -999.000,9,  -999.00,9, -999.000,9, -999.000,   -999.0,9,   -999.0, -999.000,9, -999.000, -999.000,9, -999.000,   -999.0,9,   -999.0, -999.000,9, -999.000,9, -999.000,9
  49NZ20140717,   P01,    92,  1,     29, X12J29,2,20140803,0413, 47.0052, 174.9668, 5680,    371.2,2,   3.9746,2,   3.96701,2,  33.9851,2,  33.9833,2,-999.0000,9,    67.84,2,    69.86,2,   99.770,   0.0092,2,    0.014,2,  -999.00,9,    2.783,1,    0.000,2,    94.06,2,     0.13,    39.84,2,     0.05,     0.01,2,     0.01,     2.87,2,     0.01,  -999.00,9,  -999.00, -999.000,9, -999.000,9, -999.000,9, -999.000,9,   -999.0,9,   -999.0,9,   -999.0,9,-999.0000,     -999,9, -999.000,9,  -999.00,9, -999.000,9, -999.000,   -999.0,9,   -999.0, -999.000,9, -999.000, -999.000,9, -999.000,   -999.0,9,   -999.0, -999.000,9, -999.000,9, -999.000,9
  49NZ20140717,   P01,    92,  1,     28, X12J28,2,20140803,0413, 47.0052, 174.9668, 5680,    468.6,2,   3.7916,2,   3.79163,2,  34.0805,2,  34.0797,2,-999.0000,9,    47.31,2,    48.79,2,   99.839,   0.0064,2,    0.015,2,  -999.00,9,    2.818,1,    0.000,2,   105.84,2,     0.14,    41.50,2,     0.05,     0.01,2,     0.01,     2.97,2,     0.01,  -999.00,9,  -999.00, -999.000,9, -999.000,9, -999.000,9, -999.000,9,   -999.0,9,   -999.0,9,   -999.0,9,-999.0000,     -999,9, -999.000,9,  -999.00,9, -999.000,9, -999.000,   -999.0,9,   -999.0, -999.000,9, -999.000, -999.000,9, -999.000,   -999.0,9,   -999.0, -999.000,9, -999.000,9, -999.000,9
  49NZ20140717,   P01,    92,  1,     27, X12J27,2,20140803,0413, 47.0052, 174.9668, 5680,    569.1,2,   3.5807,2,   3.58010,2,  34.1477,2,  34.1470,2,-999.0000,9,    33.65,2,    33.92,2,   99.893,   0.0043,2,    0.015,2,  -999.00,9,    2.947,1,    0.000,2,   116.31,2,     0.15,    42.71,2,     0.05,     0.01,2,     0.01,     3.05,2,     0.01,  -999.00,9,  -999.00, -999.000,9, -999.000,9, -999.000,9, -999.000,9,   -999.0,9,   -999.0,9,   -999.0,9,-999.0000,     -999,9, -999.000,9,  -999.00,9, -999.000,9, -999.000,   -999.0,9,   -999.0, -999.000,9, -999.000, -999.000,9, -999.000,   -999.0,9,   -999.0, -999.000,9, -999.000,9, -999.000,9
  49NZ20140717,   P01,    92,  1,     26, X12J26,2,20140803,0413, 47.0052, 174.9668, 5680,    670.2,2,   3.3487,2,   3.34910,2,  34.2175,2,  34.2171,2,-999.0000,9,    22.86,2,    22.19,2,   99.859,   0.0057,2,    0.015,2,  -999.00,9,    2.974,1,    0.000,2,   127.52,2,     0.15,    43.74,2,     0.06,     0.00,2,     0.01,     3.13,2,     0.01,  -999.00,9,  -999.00, -999.000,9, -999.000,9, -999.000,9, -999.000,9,   -999.0,9,   -999.0,9,   -999.0,9,-999.0000,     -999,9, -999.000,9,  -999.00,9, -999.000,9, -999.000,   -999.0,9,   -999.0, -999.000,9, -999.000, -999.000,9, -999.000,   -999.0,9,   -999.0, -999.000,9, -999.000,9, -999.000,9
  49NZ20140717,   P01,    92,  1,     25, X12J25,2,20140803,0413, 47.0052, 174.9668, 5680,    770.0,2,   3.1593,2,   3.15938,2,  34.2859,2,  34.2858,2,-999.0000,9,    26.02,2,    25.99,2,   99.865,   0.0054,2,    0.014,2,  -999.00,9,    3.115,1,    0.000,2,   134.70,2,     0.16,    43.39,2,     0.05,     0.00,2,     0.01,     3.11,2,     0.01,  -999.00,9,  -999.00, -999.000,9, -999.000,9, -999.000,9, -999.000,9,   -999.0,9,   -999.0,9,   -999.0,9,-999.0000,     -999,9, -999.000,9,  -999.00,9, -999.000,9, -999.000,   -999.0,9,   -999.0, -999.000,9, -999.000, -999.000,9, -999.000,   -999.0,9,   -999.0, -999.000,9, -999.000,9, -999.000,9
  49NZ20140717,   P01,    92,  1,     24, X12J24,2,20140803,0413, 47.0052, 174.9668, 5680,    871.0,2,   3.0054,2,   3.00519,2,  34.3293,2,  34.3302,2,-999.0000,9,    26.79,2,    26.76,2,   99.885,   0.0046,2,    0.013,2,  -999.00,9,    3.147,1,    0.000,2,   140.02,2,     0.16,    43.36,2,     0.05,     0.00,2,     0.01,     3.10,2,     0.01,  -999.00,9,  -999.00, -999.000,9, -999.000,9, -999.000,9, -999.000,9,   -999.0,9,   -999.0,9,   -999.0,9,-999.0000,     -999,9, -999.000,9,  -999.00,9, -999.000,9, -999.000,   -999.0,9,   -999.0, -999.000,9, -999.000, -999.000,9, -999.000,   -999.0,9,   -999.0, -999.000,9, -999.000,9, -999.000,9
  49NZ20140717,   P01,    92,  1,     23, X12J23,2,20140803,0413, 47.0052, 174.9668, 5680,    970.4,2,   2.8670,2,   2.86707,2,  34.3687,2,  34.3692,2,-999.0000,9,    28.08,2,    27.69,2,   99.885,   0.0046,2,    0.012,2,  -999.00,9,    3.038,1,    0.000,2,   144.75,2,     0.16,    43.38,2,     0.05,     0.00,2,     0.01,     3.11,2,     0.01,  -999.00,9,  -999.00, -999.000,9, -999.000,9, -999.000,9, -999.000,9,   -999.0,9,   -999.0,9,   -999.0,9,-999.0000,     -999,9, -999.000,9,  -999.00,9, -999.000,9, -999.000,   -999.0,9,   -999.0, -999.000,9, -999.000, -999.000,9, -999.000,   -999.0,9,   -999.0, -999.000,9, -999.000,9, -999.000,9
  49NZ20140717,   P01,    92,  1,     22, X12J22,2,20140803,0413, 47.0052, 174.9668, 5680,   1130.7,2,   2.6332,2,   2.63304,2,  34.4243,2,  34.4245,2,-999.0000,9,    30.03,2,    29.89,2,   99.904,   0.0038,2,    0.012,2,  -999.00,9,    3.163,1,    0.000,2,   152.47,2,     0.17,    43.39,2,     0.05,     0.00,2,     0.01,     3.11,2,     0.01,  -999.00,9,  -999.00, -999.000,9, -999.000,9, -999.000,9, -999.000,9,   -999.0,9,   -999.0,9,   -999.0,9,-999.0000,     -999,9, -999.000,9,  -999.00,9, -999.000,9, -999.000,   -999.0,9,   -999.0, -999.000,9, -999.000, -999.000,9, -999.000,   -999.0,9,   -999.0, -999.000,9, -999.000,9, -999.000,9
  49NZ20140717,   P01,    92,  1,     21, X12J21,2,20140803,0413, 47.0052, 174.9668, 5680,   1330.1,2,   2.3868,2,   2.38714,2,  34.4793,2,  34.4792,2,-999.0000,9,    35.70,2,    35.77,2,   99.885,   0.0046,2,    0.011,2,  -999.00,9,    3.171,1,    0.000,2,   159.67,2,     0.17,    43.17,2,     0.05,     0.00,2,     0.01,     3.08,2,     0.01,  -999.00,9,  -999.00, -999.000,9, -999.000,9, -999.000,9, -999.000,9,   -999.0,9,   -999.0,9,   -999.0,9,-999.0000,     -999,9, -999.000,9,  -999.00,9, -999.000,9, -999.000,   -999.0,9,   -999.0, -999.000,9, -999.000, -999.000,9, -999.000,   -999.0,9,   -999.0, -999.000,9, -999.000,9, -999.000,9
  49NZ20140717,   P01,    92,  1,     20, X12J20,2,20140803,0413, 47.0052, 174.9668, 5680,   1530.0,2,   2.2047,2,   2.20455,2,  34.5218,2,  34.5224,2,-999.0000,9,    41.98,2,    42.53,2,   99.911,   0.0036,2,    0.010,2,  -999.00,9,    3.143,1,    0.000,2,   164.94,2,     0.18,    42.91,2,     0.05,     0.00,2,     0.01,     3.05,2,     0.01,  -999.00,9,  -999.00, -999.000,9, -999.000,9, -999.000,9, -999.000,9,   -999.0,9,   -999.0,9,   -999.0,9,-999.0000,     -999,9, -999.000,9,  -999.00,9, -999.000,9, -999.000,   -999.0,9,   -999.0, -999.000,9, -999.000, -999.000,9, -999.000,   -999.0,9,   -999.0, -999.000,9, -999.000,9, -999.000,9
  49NZ20140717,   P01,    92,  1,     19, X12J19,2,20140803,0413, 47.0052, 174.9668, 5680,   1730.7,2,   2.0467,2,   2.04678,2,  34.5580,2,  34.5579,2,-999.0000,9,    52.18,2,    52.43,2,   99.913,   0.0035,2,    0.008,2,  -999.00,9,    3.037,1,    0.000,2,   168.15,2,     0.18,    42.34,2,     0.05,     0.00,2,     0.01,     3.01,2,     0.01,  -999.00,9,  -999.00, -999.000,9, -999.000,9, -999.000,9, -999.000,9,   -999.0,9,   -999.0,9,   -999.0,9,-999.0000,     -999,9, -999.000,9,  -999.00,9, -999.000,9, -999.000,   -999.0,9,   -999.0, -999.000,9, -999.000, -999.000,9, -999.000,   -999.0,9,   -999.0, -999.000,9, -999.000,9, -999.000,9
  49NZ20140717,   P01,    92,  1,     18, X12J18,2,20140803,0413, 47.0052, 174.9668, 5680,   1931.5,2,   1.9241,2,   1.92401,2,  34.5853,2,  34.5857,2,-999.0000,9,    64.96,2,    65.37,2,   99.915,   0.0034,2,    0.007,2,  -999.00,9,    2.967,1,    0.000,2,   168.74,2,     0.18,    41.56,2,     0.05,     0.00,2,     0.01,     2.95,2,     0.01,  -999.00,9,  -999.00, -999.000,9, -999.000,9, -999.000,9, -999.000,9,   -999.0,9,   -999.0,9,   -999.0,9,-999.0000,     -999,9, -999.000,9,  -999.00,9, -999.000,9, -999.000,   -999.0,9,   -999.0, -999.000,9, -999.000, -999.000,9, -999.000,   -999.0,9,   -999.0, -999.000,9, -999.000,9, -999.000,9
  49NZ20140717,   P01,    92,  1,     17, X12J17,2,20140803,0413, 47.0052, 174.9668, 5680,   2130.0,2,   1.8310,2,   1.83101,2,  34.6048,2,  34.6049,2,-999.0000,9,    75.78,2,    76.24,2,   99.913,   0.0035,2,    0.006,2,  -999.00,9,    2.865,1,    0.000,2,   168.65,2,     0.18,    40.88,2,     0.05,     0.00,2,     0.01,     2.90,2,     0.01,  -999.00,9,  -999.00, -999.000,9, -999.000,9, -999.000,9, -999.000,9,   -999.0,9,   -999.0,9,   -999.0,9,-999.0000,     -999,9, -999.000,9,  -999.00,9, -999.000,9, -999.000,   -999.0,9,   -999.0, -999.000,9, -999.000, -999.000,9, -999.000,   -999.0,9,   -999.0, -999.000,9, -999.000,9, -999.000,9
  49NZ20140717,   P01,    92,  1,     16, X12J16,2,20140803,0413, 47.0052, 174.9668, 5680,   2328.5,2,   1.7413,2,   1.74134,2,  34.6219,2,  34.6227,2,-999.0000,9,    87.12,2,    87.72,2,   99.911,   0.0036,2,    0.005,2,  -999.00,9,    2.832,1,    0.000,2,   168.43,2,     0.18,    40.20,2,     0.05,     0.00,2,     0.01,     2.85,2,     0.01,  -999.00,9,  -999.00, -999.000,9, -999.000,9, -999.000,9, -999.000,9,   -999.0,9,   -999.0,9,   -999.0,9,-999.0000,     -999,9, -999.000,9,  -999.00,9, -999.000,9, -999.000,   -999.0,9,   -999.0, -999.000,9, -999.000, -999.000,9, -999.000,   -999.0,9,   -999.0, -999.000,9, -999.000,9, -999.000,9
  49NZ20140717,   P01,    92,  1,     15, X12J15,2,20140803,0413, 47.0052, 174.9668, 5680,   2530.1,2,   1.6691,2,   1.66911,2,  34.6360,2,  34.6361,2,-999.0000,9,    97.81,2,    98.17,2,   99.952,   0.0019,2,    0.005,2,  -999.00,9,    2.803,1,    0.000,2,   167.48,2,     0.18,    39.54,2,     0.05,     0.00,2,     0.01,     2.80,2,     0.01,  -999.00,9,  -999.00, -999.000,9, -999.000,9, -999.000,9, -999.000,9,   -999.0,9,   -999.0,9,   -999.0,9,-999.0000,     -999,9, -999.000,9,  -999.00,9, -999.000,9, -999.000,   -999.0,9,   -999.0, -999.000,9, -999.000, -999.000,9, -999.000,   -999.0,9,   -999.0, -999.000,9, -999.000,9, -999.000,9
  49NZ20140717,   P01,    92,  1,     14, X12J14,2,20140803,0413, 47.0052, 174.9668, 5680,   2729.9,2,   1.6158,2,   1.61563,2,  34.6465,2,  34.6484,3,-999.0000,9,   107.39,2,   107.78,2,   99.952,   0.0019,2,    0.004,2,  -999.00,9,    2.733,1,    0.000,2,   165.67,2,     0.18,    38.93,2,     0.05,     0.00,2,     0.01,     2.75,2,     0.01,  -999.00,9,  -999.00, -999.000,9, -999.000,9, -999.000,9, -999.000,9,   -999.0,9,   -999.0,9,   -999.0,9,-999.0000,     -999,9, -999.000,9,  -999.00,9, -999.000,9, -999.000,   -999.0,9,   -999.0, -999.000,9, -999.000, -999.000,9, -999.000,   -999.0,9,   -999.0, -999.000,9, -999.000,9, -999.000,9
  49NZ20140717,   P01,    92,  1,     13, X12113,2,20140803,0413, 47.0052, 174.9668, 5680,   2930.5,2,   1.5720,2,   1.57202,2,  34.6553,2,  34.6558,2,-999.0000,9,   116.29,2,   116.60,2,   99.965,   0.0014,2,    0.003,2,  -999.00,9,    2.647,1,    0.000,2,   163.67,2,     0.18,    38.36,2,     0.05,     0.00,2,     0.01,     2.71,2,     0.01,  -999.00,9,  -999.00, -999.000,9, -999.000,9, -999.000,9, -999.000,9,   -999.0,9,   -999.0,9,   -999.0,9,-999.0000,     -999,9, -999.000,9,  -999.00,9, -999.000,9, -999.000,   -999.0,9,   -999.0, -999.000,9, -999.000, -999.000,9, -999.000,   -999.0,9,   -999.0, -999.000,9, -999.000,9, -999.000,9
  49NZ20140717,   P01,    92,  1,     12, X12J12,2,20140803,0413, 47.0052, 174.9668, 5680,   3170.4,2,   1.5313,2,   1.53138,2,  34.6637,2,  34.6636,2,-999.0000,9,   125.12,2,   125.36,2,   99.960,   0.0016,2,    0.003,2,  -999.00,9,    2.514,1,    0.000,2,   161.17,2,     0.17,    37.72,2,     0.05,     0.00,2,     0.01,     2.66,2,     0.01,  -999.00,9,  -999.00, -999.000,9, -999.000,9, -999.000,9, -999.000,9,   -999.0,9,   -999.0,9,   -999.0,9,-999.0000,     -999,9, -999.000,9,  -999.00,9, -999.000,9, -999.000,   -999.0,9,   -999.0, -999.000,9, -999.000, -999.000,9, -999.000,   -999.0,9,   -999.0, -999.000,9, -999.000,9, -999.000,9
  49NZ20140717,   P01,    92,  1,     11, X12J11,2,20140803,0413, 47.0052, 174.9668, 5680,   3420.7,2,   1.5029,2,   1.50281,2,  34.6702,2,  34.6700,2,-999.0000,9,   132.82,2,   133.07,2,   99.967,   0.0013,2,    0.002,2,  -999.00,9,    2.515,1,    0.000,2,   159.24,2,     0.17,    37.25,2,     0.05,     0.00,2,     0.01,     2.62,2,     0.01,  -999.00,9,  -999.00, -999.000,9, -999.000,9, -999.000,9, -999.000,9,   -999.0,9,   -999.0,9,   -999.0,9,-999.0000,     -999,9, -999.000,9,  -999.00,9, -999.000,9, -999.000,   -999.0,9,   -999.0, -999.000,9, -999.000, -999.000,9, -999.000,   -999.0,9,   -999.0, -999.000,9, -999.000,9, -999.000,9
  49NZ20140717,   P01,    92,  1,     10, X12J10,2,20140803,0413, 47.0052, 174.9668, 5680,   3670.6,2,   1.4819,2,   1.48207,2,  34.6759,2,  34.6755,2,-999.0000,9,   139.32,2,   139.26,2,   99.971,   0.0012,2,    0.002,2,  -999.00,9,    2.484,1,    0.000,2,   157.43,2,     0.17,    36.86,2,     0.05,     0.00,2,     0.01,     2.59,2,     0.01,  -999.00,9,  -999.00, -999.000,9, -999.000,9, -999.000,9, -999.000,9,   -999.0,9,   -999.0,9,   -999.0,9,-999.0000,     -999,9, -999.000,9,  -999.00,9, -999.000,9, -999.000,   -999.0,9,   -999.0, -999.000,9, -999.000, -999.000,9, -999.000,   -999.0,9,   -999.0, -999.000,9, -999.000,9, -999.000,9