BOTTLE,20230904JAMSTECRIGC
EXPOCODE,SECT,STNNBR,CASTNO,SAMPNO,BTLNBR,BTLNBR_FLAG_W,DATE,TIME,LATITUDE,LONGITUDE,DEPTH,CTDPRS,CTDPRS_FLAG_W,CTDTMP,CTDTMP_FLAG_W,SBE35,SBE35_FLAG_W,CTDSAL,CTDSAL_FLAG_W,SALNTY,SALNTY_FLAG_W,DNSSAL,DNSSAL_FLAG_W,CTDOXY,CTDOXY_FLAG_W,OXYGEN,OXYGEN_FLAG_W,XMISS,XMISSCP,XMISS_FLAG_W,FLUOR,FLUOR_FLAG_W,CHLORA,CHLORA_FLAG_W,CDOM,CDOM_FLAG_W,PAR,PAR_FLAG_W,SILCAT,SILCAT_FLAG_W,SILUNC,NITRAT,NITRAT_FLAG_W,NRAUNC,NITRIT,NITRIT_FLAG_W,NRIUNC,PHSPHT,PHSPHT_FLAG_W,PHPUNC,AMMONIA,AMMONIA_FLAG_W,NH4UNC,CFC-11,CFC-11_FLAG_W,CFC-12,CFC-12_FLAG_W,CFC113,CFC113_FLAG_W,SF6,SF6_FLAG_W,TCARBN,TCARBN_FLAG_W,ALKALI,ALKALI_FLAG_W,ALKALI_POT,ALKALI_POT_FLAG_W,PH_TOT,PH_TMP,PH_TOT_FLAG_W,CALCIUM,CALCIUM_FLAG_W,DOC,DOC_FLAG_W,DELC13,DELC13_FLAG_W,C13ERR,DELC14,DELC14_FLAG_W,C14ERR,CS-134,CS-134_FLAG_W,CS134ER,CS-137,CS-137_FLAG_W,CS137ER,I-129,I-129_FLAG_W,I-129ER,CDOM-325,CDOM-325_FLAG_W,CDOM-370,CDOM-370_FLAG_W,CDOM-443,CDOM-443_FLAG_W
,,,,,,,,UTC,DEG,DEG,METERS,DBAR,,ITS-90,,ITS-90,,PSS-78,,PSS-78,,G/KG,,UMOL/KG,,UMOL/KG,,%TRANS,/METER,,MG/CUM,,MG/CUM,,MG/CUM,,UE/SQM/S,,UMOL/KG,,UMOL/KG,UMOL/KG,,UMOL/KG,UMOL/KG,,UMOL/KG,UMOL/KG,,UMOL/KG,UMOL/KG,,UMOL/KG,PMOL/KG,,PMOL/KG,,PMOL/KG,,FMOL/KG,,UMOL/KG,,UMOL/KG,,UMOL/KG,,,DEG C,,MMOL/KG,,UMOL/KG,,/MILLE,,/MILLE,/MILLE,,/MILLE,MBQ/KG,,MBQ/KG,MBQ/KG,,MBQ/KG,,,,/METER,,/METER,,/METER,
  49NZ20140717,   P01,    59,  1,      0,   -999,9,20140723,0718, 40.9291, 149.8653, 5374,   -999.0,9,-999.0000,9,-999.00000,9,-999.0000,9,  33.8835,2,-999.0000,9,  -999.00,9,  -999.00,9, -999.000,-999.0000,9, -999.000,9,  -999.00,9, -999.000,9, -999.000,9,     1.39,2,     0.11,     0.10,2,     0.02,     0.00,2,     0.01,     0.08,2,     0.01,  -999.00,9,  -999.00, -999.000,9, -999.000,9, -999.000,9, -999.000,9,   -999.0,9,   -999.0,9,   -999.0,9,-999.0000,     -999,9, -999.000,9,  -999.00,9, -999.000,9, -999.000,   -999.0,9,   -999.0, -999.000,9, -999.000, -999.000,9, -999.000,   -999.0,9,   -999.0, -999.000,9, -999.000,9, -999.000,9
  49NZ20140717,   P01,    59,  1,     36, X12J36,2,20140723,0718, 40.9291, 149.8653, 5374,     10.0,2,  20.2299,2,  20.23197,2,  33.8959,2,  33.8943,2,-999.0000,9,   233.77,2,   233.80,2,   96.979,   0.1227,2,    0.205,2,  -999.00,9,   -0.235,1,    0.388,2,     1.43,2,     0.11,     0.05,2,     0.02,     0.00,2,     0.01,     0.08,2,     0.01,  -999.00,9,  -999.00,    2.147,2,    1.358,2,    0.233,2,    1.700,2,   -999.0,9,   -999.0,9,   -999.0,9,-999.0000,     -999,9, -999.000,9,  -999.00,9, -999.000,9, -999.000,   -999.0,9,   -999.0, -999.000,9, -999.000, -999.000,9, -999.000,   -999.0,9,   -999.0, -999.000,9, -999.000,9, -999.000,9
  49NZ20140717,   P01,    59,  1,     35, X12J35,2,20140723,0718, 40.9291, 149.8653, 5374,     49.0,2,  12.3523,2,  12.35370,2,  34.2665,2,  34.2624,2,-999.0000,9,   217.49,2,   217.24,2,   98.388,   0.0650,2,    0.311,2,  -999.00,9,    0.627,1,    0.000,2,    15.73,2,     0.09,    11.33,2,     0.02,     0.21,2,     0.01,     0.85,2,     0.01,  -999.00,9,  -999.00,    2.788,2,    1.676,2,    0.169,2,    1.740,2,   -999.0,9,   -999.0,9,   -999.0,9,-999.0000,     -999,9, -999.000,9,  -999.00,9, -999.000,9, -999.000,   -999.0,9,   -999.0, -999.000,9, -999.000, -999.000,9, -999.000,   -999.0,9,   -999.0, -999.000,9, -999.000,9, -999.000,9
  49NZ20140717,   P01,    59,  1,     34, X12J34,2,20140723,0718, 40.9291, 149.8653, 5374,    100.3,2,   9.6499,2,   9.64985,2,  34.0772,2,  34.0771,2,-999.0000,9,   224.90,2,   223.17,2,   99.831,   0.0068,2,    0.007,2,  -999.00,9,    1.014,1,    0.000,2,    22.58,2,     0.09,    14.94,2,     0.03,     0.01,2,     0.01,     1.09,2,     0.01,  -999.00,9,  -999.00,    3.069,2,    1.831,2,    0.192,2,    1.850,2,   -999.0,9,   -999.0,9,   -999.0,9,-999.0000,     -999,9, -999.000,9,  -999.00,9, -999.000,9, -999.000,   -999.0,9,   -999.0, -999.000,9, -999.000, -999.000,9, -999.000,   -999.0,9,   -999.0, -999.000,9, -999.000,9, -999.000,9
  49NZ20140717,   P01,    59,  1,     33, X12J33,2,20140723,0718, 40.9291, 149.8653, 5374,    150.4,2,   7.5010,2,   7.50300,2,  33.8509,2,  33.8511,2,-999.0000,9,   247.29,2,   246.26,2,   99.818,   0.0073,2,    0.006,2,  -999.00,9,    1.048,1,    0.000,2,    27.30,2,     0.09,    17.14,2,     0.03,     0.01,2,     0.01,     1.28,2,     0.01,  -999.00,9,  -999.00,    3.580,2,    2.128,2,    0.257,2,    2.210,2,   -999.0,9,   -999.0,9,   -999.0,9,-999.0000,     -999,9, -999.000,9,  -999.00,9, -999.000,9, -999.000,   -999.0,9,   -999.0, -999.000,9, -999.000, -999.000,9, -999.000,   -999.0,9,   -999.0, -999.000,9, -999.000,9, -999.000,9
  49NZ20140717,   P01,    59,  1,     32, X12J32,2,20140723,0718, 40.9291, 149.8653, 5374,    199.1,2,   7.3693,2,   7.36953,2,  33.9592,2,  33.9592,2,-999.0000,9,   201.13,2,   200.20,2,   99.798,   0.0081,2,    0.003,2,  -999.00,9,    1.437,1,    0.000,2,    37.44,2,     0.10,    21.44,2,     0.03,     0.00,2,     0.01,     1.57,2,     0.01,  -999.00,9,  -999.00,    3.091,2,    1.787,2,    0.186,2,    1.640,2,   -999.0,9,   -999.0,9,   -999.0,9,-999.0000,     -999,9, -999.000,9,  -999.00,9, -999.000,9, -999.000,   -999.0,9,   -999.0, -999.000,9, -999.000, -999.000,9, -999.000,   -999.0,9,   -999.0, -999.000,9, -999.000,9, -999.000,9
  49NZ20140717,   P01,    59,  1,     31, X12J31,2,20140723,0718, 40.9291, 149.8653, 5374,    251.8,2,   6.2252,2,   6.22445,2,  33.9037,2,  33.9038,2,-999.0000,9,   177.71,2,   177.72,2,   99.697,   0.0121,2,    0.006,2,  -999.00,9,    1.754,1,    0.000,2,    48.41,2,     0.11,    25.66,2,     0.18,     0.01,2,     0.01,     1.89,2,     0.01,  -999.00,9,  -999.00,    3.014,2,    1.715,2,    0.179,2,    1.510,2,   -999.0,9,   -999.0,9,   -999.0,9,-999.0000,     -999,9, -999.000,9,  -999.00,9, -999.000,9, -999.000,   -999.0,9,   -999.0, -999.000,9, -999.000, -999.000,9, -999.000,   -999.0,9,   -999.0, -999.000,9, -999.000,9, -999.000,9
  49NZ20140717,   P01,    59,  1,     30, X12J30,2,20140723,0718, 40.9291, 149.8653, 5374,    279.2,2,   5.8064,2,   5.80692,2,  33.9158,2,  33.9137,2,-999.0000,9,   162.96,2,   162.78,2,   99.682,   0.0127,2,    0.011,2,  -999.00,9,    1.775,1,    0.000,2,    54.45,2,     0.11,    28.03,2,     0.04,     0.01,2,     0.01,     2.05,2,     0.01,  -999.00,9,  -999.00,    2.875,2,    1.620,2,    0.161,2,    1.270,2,   -999.0,9,   -999.0,9,   -999.0,9,-999.0000,     -999,9, -999.000,9,  -999.00,9, -999.000,9, -999.000,   -999.0,9,   -999.0, -999.000,9, -999.000, -999.000,9, -999.000,   -999.0,9,   -999.0, -999.000,9, -999.000,9, -999.000,9
  49NZ20140717,   P01,    59,  1,     29, X12J29,2,20140723,0718, 40.9291, 149.8653, 5374,    373.6,2,   4.2064,2,   4.20679,2,  33.8858,2,  33.8889,2,-999.0000,9,   123.38,2,   123.07,2,   99.788,   0.0085,2,    0.004,2,  -999.00,9,    2.313,1,    0.000,2,    76.54,2,     0.12,    34.39,2,     0.05,     0.00,2,     0.01,     2.52,2,     0.01,  -999.00,9,  -999.00,    2.553,2,    1.414,2,    0.161,2,    1.090,2,   -999.0,9,   -999.0,9,   -999.0,9,-999.0000,     -999,9, -999.000,9,  -999.00,9, -999.000,9, -999.000,   -999.0,9,   -999.0, -999.000,9, -999.000, -999.000,9, -999.000,   -999.0,9,   -999.0, -999.000,9, -999.000,9, -999.000,9
  49NZ20140717,   P01,    59,  1,     28, X12J28,2,20140723,0718, 40.9291, 149.8653, 5374,    469.2,2,   4.3321,2,   4.33200,2,  34.0614,2,  34.0616,2,-999.0000,9,    80.22,2,    80.25,2,   99.824,   0.0070,2,    0.005,2,  -999.00,9,    2.420,1,    0.000,2,    92.02,2,     0.13,    37.84,2,     0.05,     0.00,2,     0.01,     2.74,2,     0.01,  -999.00,9,  -999.00,    1.635,2,    0.869,2,    0.092,2,    0.560,2,   -999.0,9,   -999.0,9,   -999.0,9,-999.0000,     -999,9, -999.000,9,  -999.00,9, -999.000,9, -999.000,   -999.0,9,   -999.0, -999.000,9, -999.000, -999.000,9, -999.000,   -999.0,9,   -999.0, -999.000,9, -999.000,9, -999.000,9
  49NZ20140717,   P01,    59,  1,     27, X12J27,2,20140723,0718, 40.9291, 149.8653, 5374,    569.6,2,   4.0402,2,   4.02821,2,  34.1617,2,  34.1592,2,-999.0000,9,    55.61,2,    56.85,2,   99.807,   0.0077,2,    0.005,2,  -999.00,9,    2.597,1,    0.000,2,   106.37,2,     0.14,    40.17,2,     0.05,     0.00,2,     0.01,     2.89,2,     0.01,  -999.00,9,  -999.00,    1.052,2,    0.566,2,    0.057,2,    0.320,2,   -999.0,9,   -999.0,9,   -999.0,9,-999.0000,     -999,9, -999.000,9,  -999.00,9, -999.000,9, -999.000,   -999.0,9,   -999.0, -999.000,9, -999.000, -999.000,9, -999.000,   -999.0,9,   -999.0, -999.000,9, -999.000,9, -999.000,9
  49NZ20140717,   P01,    59,  1,     26, X12J26,2,20140723,0718, 40.9291, 149.8653, 5374,    669.4,2,   3.8725,2,   3.87229,2,  34.2659,2,  34.2659,2,-999.0000,9,    49.55,2,    50.07,2,   99.883,   0.0047,2,    0.005,2,  -999.00,9,    2.623,1,    0.000,2,   114.95,2,     0.15,    40.65,2,     0.05,     0.00,2,     0.01,     2.93,2,     0.01,  -999.00,9,  -999.00,    0.594,2,    0.329,2,    0.026,2,    0.130,2,   -999.0,9,   -999.0,9,   -999.0,9,-999.0000,     -999,9, -999.000,9,  -999.00,9, -999.000,9, -999.000,   -999.0,9,   -999.0, -999.000,9, -999.000, -999.000,9, -999.000,   -999.0,9,   -999.0, -999.000,9, -999.000,9, -999.000,9
  49NZ20140717,   P01,    59,  1,     25, X12J25,2,20140723,0718, 40.9291, 149.8653, 5374,    769.6,2,   3.5245,2,   3.52422,2,  34.3086,2,  34.3086,2,-999.0000,9,    42.44,2,    42.91,2,   99.865,   0.0054,2,    0.005,2,  -999.00,9,    2.733,1,    0.000,2,   124.24,2,     0.15,    41.58,2,     0.05,    -0.01,2,     0.01,     2.99,2,     0.01,  -999.00,9,  -999.00,    0.420,2,    0.232,2,    0.017,2,    0.120,2,   -999.0,9,   -999.0,9,   -999.0,9,-999.0000,     -999,9, -999.000,9,  -999.00,9, -999.000,9, -999.000,   -999.0,9,   -999.0, -999.000,9, -999.000, -999.000,9, -999.000,   -999.0,9,   -999.0, -999.000,9, -999.000,9, -999.000,9
  49NZ20140717,   P01,    59,  1,     24, X12J24,2,20140723,0718, 40.9291, 149.8653, 5374,    869.0,2,   3.3020,2,   3.30166,2,  34.3512,2,  34.3513,2,-999.0000,9,    40.72,2,    41.01,2,   99.883,   0.0047,2,    0.005,2,  -999.00,9,    2.694,1,    0.000,2,   130.62,2,     0.16,    41.98,2,     0.05,    -0.01,2,     0.01,     3.02,2,     0.01,  -999.00,9,  -999.00,    0.293,2,    0.164,2,    0.016,2,    0.050,2,   -999.0,9,   -999.0,9,   -999.0,9,-999.0000,     -999,9, -999.000,9,  -999.00,9, -999.000,9, -999.000,   -999.0,9,   -999.0, -999.000,9, -999.000, -999.000,9, -999.000,   -999.0,9,   -999.0, -999.000,9, -999.000,9, -999.000,9
  49NZ20140717,   P01,    59,  1,     23, X12J23,2,20140723,0718, 40.9291, 149.8653, 5374,    970.7,2,   3.0658,2,   3.06586,2,  34.3930,2,  34.3931,2,-999.0000,9,    40.56,2,    40.76,2,   99.859,   0.0057,2,    0.005,2,  -999.00,9,    2.800,1,    0.000,2,   137.22,2,     0.16,    42.25,2,     0.05,    -0.01,2,     0.01,     3.03,2,     0.01,  -999.00,9,  -999.00,    0.201,2,    0.115,2,    0.007,2,    0.060,2,   -999.0,9,   -999.0,9,   -999.0,9,-999.0000,     -999,9, -999.000,9,  -999.00,9, -999.000,9, -999.000,   -999.0,9,   -999.0, -999.000,9, -999.000, -999.000,9, -999.000,   -999.0,9,   -999.0, -999.000,9, -999.000,9, -999.000,9
  49NZ20140717,   P01,    59,  1,     22, X12J22,2,20140723,0718, 40.9291, 149.8653, 5374,   1130.9,2,   2.7519,2,   2.75152,2,  34.4411,2,  34.4416,2,-999.0000,9,    39.04,2,    38.99,2,   99.865,   0.0054,2,    0.004,2,  -999.00,9,    2.836,1,    0.000,2,   146.62,2,     0.17,    42.67,2,     0.05,    -0.01,2,     0.01,     3.06,2,     0.01,  -999.00,9,  -999.00,    0.111,2,    0.064,2,    0.004,2,    0.030,2,   -999.0,9,   -999.0,9,   -999.0,9,-999.0000,     -999,9, -999.000,9,  -999.00,9, -999.000,9, -999.000,   -999.0,9,   -999.0, -999.000,9, -999.000, -999.000,9, -999.000,   -999.0,9,   -999.0, -999.000,9, -999.000,9, -999.000,9
  49NZ20140717,   P01,    59,  1,     21, X12J21,2,20140723,0718, 40.9291, 149.8653, 5374,   1329.5,2,   2.4849,2,   2.48449,2,  34.4880,2,  34.4883,2,-999.0000,9,    42.24,2,    42.31,2,   99.915,   0.0034,2,    0.005,2,  -999.00,9,    2.831,1,    0.000,2,   153.99,2,     0.17,    42.77,2,     0.05,    -0.01,2,     0.01,     3.06,2,     0.01,  -999.00,9,  -999.00,    0.059,2,    0.034,2,    0.004,2,    0.030,2,   -999.0,9,   -999.0,9,   -999.0,9,-999.0000,     -999,9, -999.000,9,  -999.00,9, -999.000,9, -999.000,   -999.0,9,   -999.0, -999.000,9, -999.000, -999.000,9, -999.000,   -999.0,9,   -999.0, -999.000,9, -999.000,9, -999.000,9
  49NZ20140717,   P01,    59,  1,     20, X12J20,2,20140723,0718, 40.9291, 149.8653, 5374,   1529.6,2,   2.2771,2,   2.27676,2,  34.5280,2,  34.5288,2,-999.0000,9,    49.70,2,    50.15,2,   99.900,   0.0040,2,    0.003,2,  -999.00,9,    2.742,1,    0.000,2,   158.57,2,     0.17,    42.45,2,     0.05,    -0.01,2,     0.01,     3.02,2,     0.01,  -999.00,9,  -999.00,    0.028,2,    0.016,2,    0.000,2,    0.040,2,   -999.0,9,   -999.0,9,   -999.0,9,-999.0000,     -999,9, -999.000,9,  -999.00,9, -999.000,9, -999.000,   -999.0,9,   -999.0, -999.000,9, -999.000, -999.000,9, -999.000,   -999.0,9,   -999.0, -999.000,9, -999.000,9, -999.000,9
  49NZ20140717,   P01,    59,  1,     19, X12J19,2,20140723,0718, 40.9291, 149.8653, 5374,   1731.4,2,   2.1010,2,   2.10095,2,  34.5553,2,  34.5551,2,-999.0000,9,    59.22,2,    59.47,2,   99.887,   0.0045,2,    0.003,2,  -999.00,9,    2.783,1,    0.000,2,   162.68,2,     0.18,    41.87,2,     0.05,    -0.01,2,     0.01,     2.98,2,     0.01,  -999.00,9,  -999.00,    0.030,2,    0.018,2,    0.005,2,    0.050,2,   -999.0,9,   -999.0,9,   -999.0,9,-999.0000,     -999,9, -999.000,9,  -999.00,9, -999.000,9, -999.000,   -999.0,9,   -999.0, -999.000,9, -999.000, -999.000,9, -999.000,   -999.0,9,   -999.0, -999.000,9, -999.000,9, -999.000,9
  49NZ20140717,   P01,    59,  1,     18, X12J18,2,20140723,0718, 40.9291, 149.8653, 5374,   1929.6,2,   1.9847,2,   1.98465,2,  34.5840,2,  34.5841,2,-999.0000,9,    70.02,2,    69.85,2,   99.915,   0.0034,2,    0.002,2,  -999.00,9,    2.690,1,    0.000,2,   163.22,2,     0.18,    41.28,2,     0.05,    -0.01,2,     0.01,     2.93,2,     0.01,  -999.00,9,  -999.00,    0.009,2,    0.004,2,    0.001,2,    0.040,2,   -999.0,9,   -999.0,9,   -999.0,9,-999.0000,     -999,9, -999.000,9,  -999.00,9, -999.000,9, -999.000,   -999.0,9,   -999.0, -999.000,9, -999.000, -999.000,9, -999.000,   -999.0,9,   -999.0, -999.000,9, -999.000,9, -999.000,9
  49NZ20140717,   P01,    59,  1,     17, X12J17,2,20140723,0718, 40.9291, 149.8653, 5374,   5170.6,2,   1.5281,2,   1.52802,2,  34.6899,2,  34.6902,2,-999.0000,9,   159.11,2,   159.10,2,   99.792,   0.0083,2,   -0.004,2,  -999.00,9,   -1.766,4,    0.000,2,  -999.00,9,  -999.00,  -999.00,9,  -999.00,  -999.00,9,  -999.00,  -999.00,9,  -999.00,  -999.00,9,  -999.00, -999.000,9, -999.000,9, -999.000,9, -999.000,9,   -999.0,9,   -999.0,9,   -999.0,9,-999.0000,     -999,9, -999.000,9,  -999.00,9, -999.000,9, -999.000,   -999.0,9,   -999.0, -999.000,9, -999.000, -999.000,9, -999.000,   -999.0,9,   -999.0, -999.000,9, -999.000,9, -999.000,9
  49NZ20140717,   P01,    59,  1,     16, X12J16,2,20140723,0718, 40.9291, 149.8653, 5374,   2329.9,2,   1.7450,2,   1.74485,2,  34.6275,2,  34.6282,2,-999.0000,9,    96.34,2,    96.40,2,   99.934,   0.0026,2,    0.000,2,  -999.00,9,    2.569,1,    0.000,2,   161.84,2,     0.17,    39.69,2,     0.05,    -0.01,2,     0.01,     2.80,2,     0.01,  -999.00,9,  -999.00,    0.000,2,    0.000,2,    0.001,2,    0.110,2,   -999.0,9,   -999.0,9,   -999.0,9,-999.0000,     -999,9, -999.000,9,  -999.00,9, -999.000,9, -999.000,   -999.0,9,   -999.0, -999.000,9, -999.000, -999.000,9, -999.000,   -999.0,9,   -999.0, -999.000,9, -999.000,9, -999.000,9
  49NZ20140717,   P01,    59,  1,     15, X12J15,2,20140723,0718, 40.9291, 149.8653, 5374,   2531.0,2,   1.6811,2,   1.68111,2,  34.6394,2,  34.6398,2,-999.0000,9,   105.79,2,   105.59,2,   99.952,   0.0019,2,   -0.001,2,  -999.00,9,    2.445,1,    0.000,2,   160.54,2,     0.17,    39.13,2,     0.05,    -0.01,2,     0.01,     2.76,2,     0.01,  -999.00,9,  -999.00,    0.000,2,    0.000,2,    0.000,2,    0.070,2,   -999.0,9,   -999.0,9,   -999.0,9,-999.0000,     -999,9, -999.000,9,  -999.00,9, -999.000,9, -999.000,   -999.0,9,   -999.0, -999.000,9, -999.000, -999.000,9, -999.000,   -999.0,9,   -999.0, -999.000,9, -999.000,9, -999.000,9
  49NZ20140717,   P01,    59,  1,     14, X12J14,2,20140723,0718, 40.9291, 149.8653, 5374,   2729.7,2,   1.6196,2,   1.61963,2,  34.6499,2,  34.6504,2,-999.0000,9,   114.85,2,   114.79,2,   99.969,   0.0012,2,   -0.002,2,  -999.00,9,    2.368,1,    0.000,2,   159.11,2,     0.17,    38.55,2,     0.05,    -0.01,2,     0.01,     2.71,2,     0.01,  -999.00,9,  -999.00,    0.000,2,    0.000,2,    0.001,2,    0.020,2,   -999.0,9,   -999.0,9,   -999.0,9,-999.0000,     -999,9, -999.000,9,  -999.00,9, -999.000,9, -999.000,   -999.0,9,   -999.0, -999.000,9, -999.000, -999.000,9, -999.000,   -999.0,9,   -999.0, -999.000,9, -999.000,9, -999.000,9
  49NZ20140717,   P01,    59,  1,     13, X12113,2,20140723,0718, 40.9291, 149.8653, 5374,   2930.1,2,   1.5741,2,   1.57420,2,  34.6581,2,  34.6583,2,-999.0000,9,   122.41,2,   122.36,2,   99.977,   0.0009,2,   -0.002,2,  -999.00,9,    2.380,1,    0.000,2,   157.55,2,     0.17,    38.03,2,     0.05,    -0.01,2,     0.01,     2.67,2,     0.01,  -999.00,9,  -999.00,    0.000,2,    0.000,2,    0.000,2,    0.030,2,   -999.0,9,   -999.0,9,   -999.0,9,-999.0000,     -999,9, -999.000,9,  -999.00,9, -999.000,9, -999.000,   -999.0,9,   -999.0, -999.000,9, -999.000, -999.000,9, -999.000,   -999.0,9,   -999.0, -999.000,9, -999.000,9, -999.000,9
  49NZ20140717,   P01,    59,  1,     12, X12J12,2,20140723,0718, 40.9291, 149.8653, 5374,   3171.0,2,   1.5348,2,   1.53482,2,  34.6654,2,  34.6655,2,-999.0000,9,   130.08,2,   129.88,2,   99.969,   0.0012,2,   -0.002,2,  -999.00,9,    2.229,1,    0.000,2,   155.91,2,     0.17,    37.51,2,     0.05,    -0.01,2,     0.01,     2.63,2,     0.01,  -999.00,9,  -999.00,    0.000,2,    0.000,2,    0.000,2,    0.000,2,   -999.0,9,   -999.0,9,   -999.0,9,-999.0000,     -999,9, -999.000,9,  -999.00,9, -999.000,9, -999.000,   -999.0,9,   -999.0, -999.000,9, -999.000, -999.000,9, -999.000,   -999.0,9,   -999.0, -999.000,9, -999.000,9, -999.000,9
  49NZ20140717,   P01,    59,  1,     11, X12J11,2,20140723,0718, 40.9291, 149.8653, 5374,   3420.6,2,   1.5002,2,   1.50017,2,  34.6720,2,  34.6721,2,-999.0000,9,   137.26,2,   137.07,2,   99.982,   0.0007,2,   -0.003,2,  -999.00,9,    2.255,1,    0.000,2,   154.39,2,     0.17,    37.08,2,     0.05,    -0.01,2,     0.01,     2.59,2,     0.01,  -999.00,9,  -999.00,    0.000,2,    0.000,2,    0.000,2,    0.000,2,   -999.0,9,   -999.0,9,   -999.0,9,-999.0000,     -999,9, -999.000,9,  -999.00,9, -999.000,9, -999.000,   -999.0,9,   -999.0, -999.000,9, -999.000, -999.000,9, -999.000,   -999.0,9,   -999.0, -999.000,9, -999.000,9, -999.000,9
  49NZ20140717,   P01,    59,  1,     10, X12J10,2,20140723,0718, 40.9291, 149.8653, 5374,   3670.2,2,   1.4828,2,   1.48291,2,  34.6767,2,  34.6765,2,-999.0000,9,   142.80,2,   142.37,2,   99.975,   0.0010,2,   -0.003,2,  -999.00,9,    2.174,1,    0.000,2,   152.86,2,     0.17,    36.73,2,     0.05,    -0.01,2,     0.01,     2.56,2,     0.01,  -999.00,9,  -999.00,    0.000,2,    0.000,2,    0.000,2,    0.000,2,   -999.0,9,   -999.0,9,   -999.0,9,-999.0000,     -999,9, -999.000,9,  -999.00,9, -999.000,9, -999.000,   -999.0,9,   -999.0, -999.000,9, -999.000, -999.000,9, -999.000,   -999.0,9,   -999.0, -999.000,9, -999.000,9, -999.000,9