BOTTLE,20230904JAMSTECRIGC
EXPOCODE,SECT,STNNBR,CASTNO,SAMPNO,BTLNBR,BTLNBR_FLAG_W,DATE,TIME,LATITUDE,LONGITUDE,DEPTH,CTDPRS,CTDPRS_FLAG_W,CTDTMP,CTDTMP_FLAG_W,SBE35,SBE35_FLAG_W,CTDSAL,CTDSAL_FLAG_W,SALNTY,SALNTY_FLAG_W,DNSSAL,DNSSAL_FLAG_W,CTDOXY,CTDOXY_FLAG_W,OXYGEN,OXYGEN_FLAG_W,XMISS,XMISSCP,XMISS_FLAG_W,FLUOR,FLUOR_FLAG_W,CHLORA,CHLORA_FLAG_W,CDOM,CDOM_FLAG_W,PAR,PAR_FLAG_W,SILCAT,SILCAT_FLAG_W,SILUNC,NITRAT,NITRAT_FLAG_W,NRAUNC,NITRIT,NITRIT_FLAG_W,NRIUNC,PHSPHT,PHSPHT_FLAG_W,PHPUNC,AMMONIA,AMMONIA_FLAG_W,NH4UNC,CFC-11,CFC-11_FLAG_W,CFC-12,CFC-12_FLAG_W,CFC113,CFC113_FLAG_W,SF6,SF6_FLAG_W,TCARBN,TCARBN_FLAG_W,ALKALI,ALKALI_FLAG_W,ALKALI_POT,ALKALI_POT_FLAG_W,PH_TOT,PH_TMP,PH_TOT_FLAG_W,CALCIUM,CALCIUM_FLAG_W,DOC,DOC_FLAG_W,DELC13,DELC13_FLAG_W,C13ERR,DELC14,DELC14_FLAG_W,C14ERR,CS-134,CS-134_FLAG_W,CS134ER,CS-137,CS-137_FLAG_W,CS137ER,I-129,I-129_FLAG_W,I-129ER,CDOM-325,CDOM-325_FLAG_W,CDOM-370,CDOM-370_FLAG_W,CDOM-443,CDOM-443_FLAG_W
,,,,,,,,UTC,DEG,DEG,METERS,DBAR,,ITS-90,,ITS-90,,PSS-78,,PSS-78,,G/KG,,UMOL/KG,,UMOL/KG,,%TRANS,/METER,,MG/CUM,,MG/CUM,,MG/CUM,,UE/SQM/S,,UMOL/KG,,UMOL/KG,UMOL/KG,,UMOL/KG,UMOL/KG,,UMOL/KG,UMOL/KG,,UMOL/KG,UMOL/KG,,UMOL/KG,PMOL/KG,,PMOL/KG,,PMOL/KG,,FMOL/KG,,UMOL/KG,,UMOL/KG,,UMOL/KG,,,DEG C,,MMOL/KG,,UMOL/KG,,/MILLE,,/MILLE,/MILLE,,/MILLE,MBQ/KG,,MBQ/KG,MBQ/KG,,MBQ/KG,,,,/METER,,/METER,,/METER,
  49NZ20140717,   P01,    40,  1,      0,   -999,9,20140717,1938, 42.6381, 145.7062, 2474,   -999.0,9,-999.0000,9,-999.00000,9,-999.0000,9,  32.3549,2,-999.0000,9,  -999.00,9,  -999.00,9, -999.000,-999.0000,9, -999.000,9,  -999.00,9, -999.000,9, -999.000,9,     1.93,2,     0.10,     0.62,2,     0.01,     0.03,2,     0.01,     0.40,2,     0.01,     1.57,2,     0.05, -999.000,9, -999.000,9, -999.000,9, -999.000,9,   -999.0,9,   -999.0,9,   -999.0,9,-999.0000,     -999,9, -999.000,9,  -999.00,9, -999.000,9, -999.000,   -999.0,9,   -999.0, -999.000,9, -999.000, -999.000,9, -999.000,   -999.0,9,   -999.0, -999.000,9, -999.000,9, -999.000,9
  49NZ20140717,   P01,    40,  1,     36, X12J36,2,20140717,1938, 42.6381, 145.7062, 2474,      9.9,2,  11.0030,2,  10.78446,2,  32.3815,2,  32.4887,2,  32.6477,2,   354.88,2,   386.07,2,   88.624,   0.4831,2,    0.797,2,  -999.00,9,    0.978,1,   45.802,2,     3.17,2,     0.09,     0.80,2,     0.01,     0.03,2,     0.01,     0.49,2,     0.01,     0.53,2,     0.03,    4.441,2,    2.376,2,    0.403,2, -999.000,9,   1963.5,2,   2221.4,2,   -999.0,9,   8.0159,       25,2, -999.000,9,    64.31,2, -999.000,9, -999.000,   -999.0,9,   -999.0, -999.000,9, -999.000, -999.000,9, -999.000,   -999.0,9,   -999.0, -999.000,9, -999.000,9, -999.000,9
  49NZ20140717,   P01,    40,  1,     35, X12J35,2,20140717,1938, 42.6381, 145.7062, 2474,     50.1,2,   3.2807,2,   3.28219,2,  32.9067,2,  32.9214,2,  33.0825,2,   324.18,2,   323.40,2,   92.043,   0.3317,2,    1.370,2,  -999.00,9,    1.255,1,    0.045,2,    24.19,2,     0.09,    17.12,2,     0.03,     0.38,2,     0.01,     1.60,2,     0.01,     1.49,2,     0.04,    5.348,2,    2.815,2,    0.469,2, -999.000,9,   2110.7,6,   2236.9,2,   -999.0,9,   7.7018,       25,2, -999.000,9,    54.61,2, -999.000,9, -999.000,   -999.0,9,   -999.0, -999.000,9, -999.000, -999.000,9, -999.000,   -999.0,9,   -999.0, -999.000,9, -999.000,9, -999.000,9
  49NZ20140717,   P01,    40,  1,     34, X12J34,2,20140717,1938, 42.6381, 145.7062, 2474,    100.0,2,   1.4906,2,   1.49069,2,  33.0289,2,  33.0378,2,  33.2013,2,   307.43,2,   306.57,2,   98.598,   0.0565,2,    0.099,2,  -999.00,9,    1.269,1,    0.000,2,    42.92,2,     0.10,    25.05,2,     0.04,     0.11,2,     0.01,     2.01,2,     0.01,     0.03,2,     0.01,    5.471,2,    2.866,2,    0.455,2, -999.000,9,   2149.4,2,   2237.0,2,   -999.0,9,   7.5990,       25,2, -999.000,9,    48.29,2, -999.000,9, -999.000,   -999.0,9,   -999.0, -999.000,9, -999.000, -999.000,9, -999.000,   -999.0,9,   -999.0, -999.000,9, -999.000,9, -999.000,9
  49NZ20140717,   P01,    40,  1,     33, X12J33,2,20140717,1938, 42.6381, 145.7062, 2474,    150.3,2,   1.6446,2,   1.64407,2,  33.2122,2,  33.2146,2,  33.3801,2,   256.33,2,   255.55,2,   98.891,   0.0446,2,    0.027,2,  -999.00,9,    1.581,1,    0.000,2,    55.02,2,     0.11,    29.00,2,     0.04,     0.02,2,     0.01,     2.24,2,     0.01,     0.02,2,     0.01,    4.885,2,    2.542,2,    0.415,2, -999.000,9,   2188.4,2,   2249.8,2,   -999.0,9,   7.5229,       25,6, -999.000,9,    47.93,2, -999.000,9, -999.000,   -999.0,9,   -999.0, -999.000,9, -999.000, -999.000,9, -999.000,   -999.0,9,   -999.0, -999.000,9, -999.000,9, -999.000,9
  49NZ20140717,   P01,    40,  1,     32, X12J32,2,20140717,1938, 42.6381, 145.7062, 2474,    200.1,2,   2.1356,2,   2.13342,2,  33.3981,2,  33.3972,2,  33.5615,2,   218.76,2,   217.94,2,   99.059,   0.0378,2,    0.016,2,  -999.00,9,    1.926,1,    0.000,2,    60.49,2,     0.11,    29.84,2,     0.04,     0.01,2,     0.01,     2.29,2,     0.01,     0.01,2,     0.01,    4.413,2,    2.291,2,    0.367,2, -999.000,9,   2211.8,2,   2262.1,6,   -999.0,9,   7.4837,       25,2, -999.000,9,    48.57,2, -999.000,9, -999.000,   -999.0,9,   -999.0, -999.000,9, -999.000, -999.000,9, -999.000,   -999.0,9,   -999.0, -999.000,9, -999.000,9, -999.000,9
  49NZ20140717,   P01,    40,  1,     31, X12J31,2,20140717,1938, 42.6381, 145.7062, 2474,    249.5,2,   2.0602,2,   2.06024,2,  33.4762,2,  33.4771,2,  33.6446,2,   186.04,2,   185.52,2,   99.072,   0.0373,2,    0.013,2,  -999.00,9,    2.050,1,    0.000,2,    70.15,2,     0.12,    32.90,2,     0.04,     0.01,2,     0.01,     2.50,2,     0.01,     0.00,2,     0.01,    4.097,2,    2.117,2,    0.345,2, -999.000,9,   2239.0,2,   2267.0,2,   -999.0,9,   7.4250,       25,2, -999.000,9,    45.86,2, -999.000,9, -999.000,   -999.0,9,   -999.0, -999.000,9, -999.000, -999.000,9, -999.000,   -999.0,9,   -999.0, -999.000,9, -999.000,9, -999.000,9
  49NZ20140717,   P01,    40,  1,     30, X12J30,2,20140717,1938, 42.6381, 145.7062, 2474,    329.7,2,   2.5142,2,   2.51284,2,  33.6538,2,  33.6587,2,  33.8286,2,   128.62,2,   128.51,2,   99.302,   0.0280,2,    0.009,2,  -999.00,9,    2.323,1,    0.000,2,    84.56,2,     0.13,    37.25,2,     0.05,     0.00,2,     0.01,     2.75,2,     0.01,    -0.01,2,     0.01,    3.266,2,    1.683,2,    0.275,2, -999.000,9,   2278.1,2,   2285.1,2,   -999.0,9,   7.3503,       25,2, -999.000,9,    45.69,2, -999.000,9, -999.000,   -999.0,9,   -999.0, -999.000,9, -999.000, -999.000,9, -999.000,   -999.0,9,   -999.0, -999.000,9, -999.000,9, -999.000,9
  49NZ20140717,   P01,    40,  1,     29, X12J29,2,20140717,1938, 42.6381, 145.7062, 2474,    430.5,2,   2.8303,2,   2.83030,2,  33.8441,2,  33.8446,2,  34.0179,2,    81.36,2,    81.66,2,   99.457,   0.0218,2,    0.009,2,  -999.00,9,    2.494,1,    0.000,2,    99.98,2,     0.14,    40.31,2,     0.05,     0.01,2,     0.01,     2.94,2,     0.01,     0.00,2,     0.01,    2.390,2,    1.250,2,    0.201,2, -999.000,9,   2313.1,2,   2297.6,2,   -999.0,9,   7.3046,       25,2, -999.000,9,    44.31,2, -999.000,9, -999.000,   -999.0,9,   -999.0, -999.000,9, -999.000, -999.000,9, -999.000,   -999.0,9,   -999.0, -999.000,9, -999.000,9, -999.000,9
  49NZ20140717,   P01,    40,  1,     28, X12J28,2,20140717,1938, 42.6381, 145.7062, 2474,    530.3,2,   3.1142,2,   3.11477,2,  33.9665,2,  33.9655,2,  34.1392,2,    52.62,2,    53.19,2,   99.462,   0.0216,2,    0.009,2,  -999.00,9,    2.560,1,    0.000,2,   109.96,2,     0.14,    42.25,2,     0.05,     0.00,2,     0.01,     3.05,2,     0.01,     0.01,2,     0.01,    1.787,2,    0.933,2,    0.142,2, -999.000,9,   2332.1,2,   2316.2,2,   -999.0,9,   7.2824,       25,2, -999.000,9,    42.67,2, -999.000,9, -999.000,   -999.0,9,   -999.0, -999.000,9, -999.000, -999.000,9, -999.000,   -999.0,9,   -999.0, -999.000,9, -999.000,9, -999.000,9
  49NZ20140717,   P01,    40,  1,     27, X12J27,2,20140717,1938, 42.6381, 145.7062, 2474,    628.9,2,   3.0800,2,   3.07953,2,  34.0378,2,  34.0365,2,  34.2105,2,    44.61,2,    45.99,2,   99.537,   0.0186,2,    0.009,2,  -999.00,9,    2.704,1,    0.000,2,   116.62,2,     0.15,    42.49,2,     0.05,     0.00,2,     0.01,     3.05,2,     0.01,  -999.00,9,  -999.00,    1.499,2,    0.780,2,    0.120,2, -999.000,9,   2342.7,2,   2326.2,2,   -999.0,9,   7.2834,       25,2, -999.000,9,    41.07,2, -999.000,9, -999.000,   -999.0,9,   -999.0, -999.000,9, -999.000, -999.000,9, -999.000,   -999.0,9,   -999.0, -999.000,9, -999.000,9, -999.000,9
  49NZ20140717,   P01,    40,  1,     26, X12J26,2,20140717,1938, 42.6381, 145.7062, 2474,    729.2,2,   3.1570,2,   3.15683,2,  34.1246,2,  34.1247,2,  34.3021,2,    31.86,2,    32.16,2,   99.677,   0.0129,2,    0.010,2,  -999.00,9,    2.794,1,    0.000,2,   123.93,2,     0.15,    43.34,2,     0.05,     0.00,2,     0.01,     3.10,2,     0.01,  -999.00,9,  -999.00,    1.079,2,    0.561,2,    0.075,2, -999.000,9,   2354.3,6,   2332.6,2,   -999.0,9,   7.2787,       25,2, -999.000,9,    40.48,2, -999.000,9, -999.000,   -999.0,9,   -999.0, -999.000,9, -999.000, -999.000,9, -999.000,   -999.0,9,   -999.0, -999.000,9, -999.000,9, -999.000,9
  49NZ20140717,   P01,    40,  1,     25, X12J25,2,20140717,1938, 42.6381, 145.7062, 2474,    832.2,2,   2.8843,2,   2.88399,2,  34.1662,2,  34.1651,2,  34.3410,2,    37.63,2,    37.99,2,   99.714,   0.0115,2,    0.009,2,  -999.00,9,    2.822,1,    0.000,2,   131.53,2,     0.16,    42.76,2,     0.05,    -0.01,2,     0.01,     3.08,2,     0.01,  -999.00,9,  -999.00,    1.028,2,    0.544,2,    0.076,2, -999.000,9,   2358.7,2,   2344.3,2,   -999.0,9,   7.2928,       25,2, -999.000,9,    39.47,2, -999.000,9, -999.000,   -999.0,9,   -999.0, -999.000,9, -999.000, -999.000,9, -999.000,   -999.0,9,   -999.0, -999.000,9, -999.000,9, -999.000,9
  49NZ20140717,   P01,    40,  1,     24, X12J24,2,20140717,1938, 42.6381, 145.7062, 2474,    928.1,2,   2.9092,2,   2.90894,2,  34.2445,2,  34.2464,2,  34.4235,2,    29.81,2,    30.34,2,   99.766,   0.0094,2,    0.007,2,  -999.00,9,    2.786,1,    0.000,2,   138.22,2,     0.16,    43.32,2,     0.05,     0.00,2,     0.01,     3.11,2,     0.01,  -999.00,9,  -999.00,    0.700,2,    0.364,2,    0.057,2, -999.000,9,   2366.0,2,   2351.4,2,   -999.0,9,   7.2975,       25,6, -999.000,9,    39.63,2, -999.000,9, -999.000,   -999.0,9,   -999.0, -999.000,9, -999.000, -999.000,9, -999.000,   -999.0,9,   -999.0, -999.000,9, -999.000,9, -999.000,9
  49NZ20140717,   P01,    40,  1,     23, X12J23,2,20140717,1938, 42.6381, 145.7062, 2474,   1069.4,2,   2.7931,2,   2.79274,2,  34.3254,2,  34.3269,2,  34.5065,2,    27.67,2,    27.81,2,   99.830,   0.0068,2,    0.006,2,  -999.00,9,    2.813,1,    0.000,2,   146.02,2,     0.17,    43.55,2,     0.05,    -0.01,2,     0.01,     3.12,2,     0.01,     0.00,2,     0.01,    0.433,2,    0.225,2,    0.033,2, -999.000,9,   2375.9,2,   2369.0,2,   -999.0,9,   7.3086,       25,2, -999.000,9,    38.86,2, -999.000,9, -999.000,   -999.0,9,   -999.0, -999.000,9, -999.000, -999.000,9, -999.000,   -999.0,9,   -999.0, -999.000,9, -999.000,9, -999.000,9
  49NZ20140717,   P01,    40,  1,     22, X12J22,2,20140717,1938, 42.6381, 145.7062, 2474,   1268.5,2,   2.6090,2,   2.60741,2,  34.4238,2,  34.4241,2,  34.6048,2,    34.90,2,    35.24,2,   99.703,   0.0119,2,    0.005,2,  -999.00,9,    2.794,1,    0.000,2,   152.76,2,     0.17,    43.10,2,     0.05,    -0.01,2,     0.01,     3.08,2,     0.01,  -999.00,9,  -999.00,    0.207,2,    0.106,2,    0.011,2, -999.000,9,   2379.2,2,   2381.8,6,   -999.0,9,   7.3415,       25,2, -999.000,9,    38.40,2, -999.000,9, -999.000,   -999.0,9,   -999.0, -999.000,9, -999.000, -999.000,9, -999.000,   -999.0,9,   -999.0, -999.000,9, -999.000,9, -999.000,9
  49NZ20140717,   P01,    40,  1,     21, X12J21,2,20140717,1938, 42.6381, 145.7062, 2474,   1467.9,2,   2.3877,2,   2.38742,2,  34.4892,2,  34.4898,2,  34.6720,2,    43.62,2,    43.79,2,   99.770,   0.0092,2,    0.005,2,  -999.00,9,    2.731,1,    0.000,2,   158.24,2,     0.17,    42.76,2,     0.05,    -0.01,2,     0.01,     3.05,2,     0.01,     0.00,2,     0.01,    0.093,2,    0.049,2,    0.008,2, -999.000,9,   2381.3,2,   2394.1,2,   -999.0,9,   7.3662,       25,2, -999.000,9,    38.54,2, -999.000,9, -999.000,   -999.0,9,   -999.0, -999.000,9, -999.000, -999.000,9, -999.000,   -999.0,9,   -999.0, -999.000,9, -999.000,9, -999.000,9
  49NZ20140717,   P01,    40,  1,     20, X12J20,2,20140717,1938, 42.6381, 145.7062, 2474,   1669.2,2,   2.2626,2,   2.26264,2,  34.5210,2,  34.5221,2,  34.7030,2,    49.87,2,    50.35,2,   99.852,   0.0059,2,    0.004,2,  -999.00,9,    2.708,1,    0.000,2,   161.16,2,     0.17,    42.46,2,     0.05,    -0.01,2,     0.01,     3.02,2,     0.01,  -999.00,9,  -999.00,    0.067,2,    0.033,2,    0.000,2, -999.000,9,   2382.0,2,   2397.6,2,   -999.0,9,   7.3814,       25,6, -999.000,9,    37.53,2, -999.000,9, -999.000,   -999.0,9,   -999.0, -999.000,9, -999.000, -999.000,9, -999.000,   -999.0,9,   -999.0, -999.000,9, -999.000,9, -999.000,9
  49NZ20140717,   P01,    40,  1,     19, X12J19,2,20140717,1938, 42.6381, 145.7062, 2474,   1870.3,2,   2.1047,2,   2.10385,2,  34.5496,2,  34.5498,2,  34.7327,2,    58.44,2,    58.91,2,   99.888,   0.0045,2,    0.002,2,  -999.00,9,    2.607,1,    0.000,2,   164.58,2,     0.18,    41.97,2,     0.05,     0.00,2,     0.01,     2.98,2,     0.01,     0.03,2,     0.01,    0.051,2,    0.025,2,    0.000,2, -999.000,9,   2379.8,2,   2405.4,2,   -999.0,9,   7.3984,       25,2, -999.000,9,    36.99,2, -999.000,9, -999.000,   -999.0,9,   -999.0, -999.000,9, -999.000, -999.000,9, -999.000,   -999.0,9,   -999.0, -999.000,9, -999.000,9, -999.000,9
  49NZ20140717,   P01,    40,  1,     18, X12J18,2,20140717,1938, 42.6381, 145.7062, 2474,   2069.0,2,   1.9233,2,   1.92340,2,  34.5930,2,  34.5933,2,  34.7775,2,    75.69,2,    76.01,2,   99.677,   0.0129,2,    0.002,2,  -999.00,9,    2.521,1,    0.000,2,   164.31,2,     0.18,    40.96,2,     0.05,     0.00,2,     0.01,     2.90,2,     0.01,  -999.00,9,  -999.00,    0.013,2,    0.004,2,    0.000,2, -999.000,9,   2371.9,2,   2412.1,2,   -999.0,9,   7.4371,       25,2, -999.000,9,    36.62,2, -999.000,9, -999.000,   -999.0,9,   -999.0, -999.000,9, -999.000, -999.000,9, -999.000,   -999.0,9,   -999.0, -999.000,9, -999.000,9, -999.000,9
  49NZ20140717,   P01,    40,  1,     17, X12J17,2,20140717,1938, 42.6381, 145.7062, 2474,   2272.1,2,   1.7447,2,   1.74432,2,  34.6256,2,  34.6268,2,  34.8098,2,    96.02,2,    96.49,2,   99.867,   0.0053,2,    0.000,2,  -999.00,9,    2.392,1,    0.000,2,   162.48,2,     0.18,    39.73,2,     0.05,    -0.01,2,     0.01,     2.80,2,     0.01,     0.02,2,     0.01,    0.002,2,    0.000,2,    0.000,2, -999.000,9,   2361.7,2,   2411.5,2,   -999.0,9,   7.4770,       25,2, -999.000,9,    36.08,2, -999.000,9, -999.000,   -999.0,9,   -999.0, -999.000,9, -999.000, -999.000,9, -999.000,   -999.0,9,   -999.0, -999.000,9, -999.000,9, -999.000,9
  49NZ20140717,   P01,    40,  1,     16, X12J16,9,20140717,1938, 42.6381, 145.7062, 2474,   -999.0,9,-999.0000,9,-999.00000,9,-999.0000,9,-999.0000,9,-999.0000,9,  -999.00,9,  -999.00,9, -999.000,-999.0000,9, -999.000,9,  -999.00,9, -999.000,9, -999.000,9,  -999.00,9,  -999.00,  -999.00,9,  -999.00,  -999.00,9,  -999.00,  -999.00,9,  -999.00,  -999.00,9,  -999.00, -999.000,9, -999.000,9, -999.000,9, -999.000,9,   -999.0,9,   -999.0,9,   -999.0,9,-999.0000,     -999,9, -999.000,9,  -999.00,9, -999.000,9, -999.000,   -999.0,9,   -999.0, -999.000,9, -999.000, -999.000,9, -999.000,   -999.0,9,   -999.0, -999.000,9, -999.000,9, -999.000,9
  49NZ20140717,   P01,    40,  1,     15, X12J15,9,20140717,1938, 42.6381, 145.7062, 2474,   -999.0,9,-999.0000,9,-999.00000,9,-999.0000,9,-999.0000,9,-999.0000,9,  -999.00,9,  -999.00,9, -999.000,-999.0000,9, -999.000,9,  -999.00,9, -999.000,9, -999.000,9,  -999.00,9,  -999.00,  -999.00,9,  -999.00,  -999.00,9,  -999.00,  -999.00,9,  -999.00,  -999.00,9,  -999.00, -999.000,9, -999.000,9, -999.000,9, -999.000,9,   -999.0,9,   -999.0,9,   -999.0,9,-999.0000,     -999,9, -999.000,9,  -999.00,9, -999.000,9, -999.000,   -999.0,9,   -999.0, -999.000,9, -999.000, -999.000,9, -999.000,   -999.0,9,   -999.0, -999.000,9, -999.000,9, -999.000,9
  49NZ20140717,   P01,    40,  1,     14, X12J14,9,20140717,1938, 42.6381, 145.7062, 2474,   -999.0,9,-999.0000,9,-999.00000,9,-999.0000,9,-999.0000,9,-999.0000,9,  -999.00,9,  -999.00,9, -999.000,-999.0000,9, -999.000,9,  -999.00,9, -999.000,9, -999.000,9,  -999.00,9,  -999.00,  -999.00,9,  -999.00,  -999.00,9,  -999.00,  -999.00,9,  -999.00,  -999.00,9,  -999.00, -999.000,9, -999.000,9, -999.000,9, -999.000,9,   -999.0,9,   -999.0,9,   -999.0,9,-999.0000,     -999,9, -999.000,9,  -999.00,9, -999.000,9, -999.000,   -999.0,9,   -999.0, -999.000,9, -999.000, -999.000,9, -999.000,   -999.0,9,   -999.0, -999.000,9, -999.000,9, -999.000,9
  49NZ20140717,   P01,    40,  1,     13, X12113,9,20140717,1938, 42.6381, 145.7062, 2474,   -999.0,9,-999.0000,9,-999.00000,9,-999.0000,9,-999.0000,9,-999.0000,9,  -999.00,9,  -999.00,9, -999.000,-999.0000,9, -999.000,9,  -999.00,9, -999.000,9, -999.000,9,  -999.00,9,  -999.00,  -999.00,9,  -999.00,  -999.00,9,  -999.00,  -999.00,9,  -999.00,  -999.00,9,  -999.00, -999.000,9, -999.000,9, -999.000,9, -999.000,9,   -999.0,9,   -999.0,9,   -999.0,9,-999.0000,     -999,9, -999.000,9,  -999.00,9, -999.000,9, -999.000,   -999.0,9,   -999.0, -999.000,9, -999.000, -999.000,9, -999.000,   -999.0,9,   -999.0, -999.000,9, -999.000,9, -999.000,9
  49NZ20140717,   P01,    40,  1,     12, X12J12,9,20140717,1938, 42.6381, 145.7062, 2474,   -999.0,9,-999.0000,9,-999.00000,9,-999.0000,9,-999.0000,9,-999.0000,9,  -999.00,9,  -999.00,9, -999.000,-999.0000,9, -999.000,9,  -999.00,9, -999.000,9, -999.000,9,  -999.00,9,  -999.00,  -999.00,9,  -999.00,  -999.00,9,  -999.00,  -999.00,9,  -999.00,  -999.00,9,  -999.00, -999.000,9, -999.000,9, -999.000,9, -999.000,9,   -999.0,9,   -999.0,9,   -999.0,9,-999.0000,     -999,9, -999.000,9,  -999.00,9, -999.000,9, -999.000,   -999.0,9,   -999.0, -999.000,9, -999.000, -999.000,9, -999.000,   -999.0,9,   -999.0, -999.000,9, -999.000,9, -999.000,9
  49NZ20140717,   P01,    40,  1,     11, X12J11,9,20140717,1938, 42.6381, 145.7062, 2474,   -999.0,9,-999.0000,9,-999.00000,9,-999.0000,9,-999.0000,9,-999.0000,9,  -999.00,9,  -999.00,9, -999.000,-999.0000,9, -999.000,9,  -999.00,9, -999.000,9, -999.000,9,  -999.00,9,  -999.00,  -999.00,9,  -999.00,  -999.00,9,  -999.00,  -999.00,9,  -999.00,  -999.00,9,  -999.00, -999.000,9, -999.000,9, -999.000,9, -999.000,9,   -999.0,9,   -999.0,9,   -999.0,9,-999.0000,     -999,9, -999.000,9,  -999.00,9, -999.000,9, -999.000,   -999.0,9,   -999.0, -999.000,9, -999.000, -999.000,9, -999.000,   -999.0,9,   -999.0, -999.000,9, -999.000,9, -999.000,9
  49NZ20140717,   P01,    40,  1,     10, X12J10,9,20140717,1938, 42.6381, 145.7062, 2474,   -999.0,9,-999.0000,9,-999.00000,9,-999.0000,9,-999.0000,9,-999.0000,9,  -999.00,9,  -999.00,9, -999.000,-999.0000,9, -999.000,9,  -999.00,9, -999.000,9, -999.000,9,  -999.00,9,  -999.00,  -999.00,9,  -999.00,  -999.00,9,  -999.00,  -999.00,9,  -999.00,  -999.00,9,  -999.00, -999.000,9, -999.000,9, -999.000,9, -999.000,9,   -999.0,9,   -999.0,9,   -999.0,9,-999.0000,     -999,9, -999.000,9,  -999.00,9, -999.000,9, -999.000,   -999.0,9,   -999.0, -999.000,9, -999.000, -999.000,9, -999.000,   -999.0,9,   -999.0, -999.000,9, -999.000,9, -999.000,9