BOTTLE,20230904JAMSTECRIGC
EXPOCODE,SECT,STNNBR,CASTNO,SAMPNO,BTLNBR,BTLNBR_FLAG_W,DATE,TIME,LATITUDE,LONGITUDE,DEPTH,CTDPRS,CTDPRS_FLAG_W,CTDTMP,CTDTMP_FLAG_W,SBE35,SBE35_FLAG_W,CTDSAL,CTDSAL_FLAG_W,SALNTY,SALNTY_FLAG_W,DNSSAL,DNSSAL_FLAG_W,CTDOXY,CTDOXY_FLAG_W,OXYGEN,OXYGEN_FLAG_W,XMISS,XMISSCP,XMISS_FLAG_W,FLUOR,FLUOR_FLAG_W,CHLORA,CHLORA_FLAG_W,CDOM,CDOM_FLAG_W,PAR,PAR_FLAG_W,SILCAT,SILCAT_FLAG_W,SILUNC,NITRAT,NITRAT_FLAG_W,NRAUNC,NITRIT,NITRIT_FLAG_W,NRIUNC,PHSPHT,PHSPHT_FLAG_W,PHPUNC,AMMONIA,AMMONIA_FLAG_W,NH4UNC,CFC-11,CFC-11_FLAG_W,CFC-12,CFC-12_FLAG_W,CFC113,CFC113_FLAG_W,SF6,SF6_FLAG_W,TCARBN,TCARBN_FLAG_W,ALKALI,ALKALI_FLAG_W,ALKALI_POT,ALKALI_POT_FLAG_W,PH_TOT,PH_TMP,PH_TOT_FLAG_W,CALCIUM,CALCIUM_FLAG_W,DOC,DOC_FLAG_W,DELC13,DELC13_FLAG_W,C13ERR,DELC14,DELC14_FLAG_W,C14ERR,CS-134,CS-134_FLAG_W,CS134ER,CS-137,CS-137_FLAG_W,CS137ER,I-129,I-129_FLAG_W,I-129ER,CDOM-325,CDOM-325_FLAG_W,CDOM-370,CDOM-370_FLAG_W,CDOM-443,CDOM-443_FLAG_W
,,,,,,,,UTC,DEG,DEG,METERS,DBAR,,ITS-90,,ITS-90,,PSS-78,,PSS-78,,G/KG,,UMOL/KG,,UMOL/KG,,%TRANS,/METER,,MG/CUM,,MG/CUM,,MG/CUM,,UE/SQM/S,,UMOL/KG,,UMOL/KG,UMOL/KG,,UMOL/KG,UMOL/KG,,UMOL/KG,UMOL/KG,,UMOL/KG,UMOL/KG,,UMOL/KG,PMOL/KG,,PMOL/KG,,PMOL/KG,,FMOL/KG,,UMOL/KG,,UMOL/KG,,UMOL/KG,,,DEG C,,MMOL/KG,,UMOL/KG,,/MILLE,,/MILLE,/MILLE,,/MILLE,MBQ/KG,,MBQ/KG,MBQ/KG,,MBQ/KG,,,,/METER,,/METER,,/METER,
  49NZ20140717,   P01,   148,  1,      0,   -999,9,20140822,1516, 47.0020,-125.5122, 1752,   -999.0,9,-999.0000,9,-999.00000,9,-999.0000,9,  31.9127,2,-999.0000,9,  -999.00,9,  -999.00,9, -999.000,-999.0000,9, -999.000,9,  -999.00,9, -999.000,9, -999.000,9,     3.70,2,     0.09,     0.08,2,     0.02,     0.01,2,     0.01,     0.31,2,     0.01,  -999.00,9,  -999.00, -999.000,9, -999.000,9, -999.000,9, -999.000,9,   -999.0,9,   -999.0,9,   -999.0,9,-999.0000,     -999,9, -999.000,9,  -999.00,9, -999.000,9, -999.000,   -999.0,9,   -999.0, -999.000,9, -999.000, -999.000,9, -999.000,   -999.0,9,   -999.0, -999.000,9, -999.000,9, -999.000,9
  49NZ20140717,   P01,   148,  1,     36, X12J36,2,20140822,1516, 47.0020,-125.5122, 1752,     10.1,2,  17.9480,2,  17.94722,2,  31.9096,2,  31.9113,2,  32.0609,2,   245.26,2,   244.98,2,   96.166,   0.1564,2,    0.234,2,  -999.00,9,    0.309,1,   69.795,2,     3.75,2,     0.09,     0.06,2,     0.02,     0.01,2,     0.01,     0.31,2,     0.01,  -999.00,9,  -999.00, -999.000,9, -999.000,9, -999.000,9, -999.000,9,   1939.4,2,   2162.0,2,   -999.0,9,   7.9555,       25,6, -999.000,9,    72.40,2, -999.000,9, -999.000,   -999.0,9,   -999.0, -999.000,9, -999.000, -999.000,9, -999.000,   -999.0,9,   -999.0, -999.000,9, -999.000,9, -999.000,9
  49NZ20140717,   P01,   148,  1,     35, X12J35,2,20140822,1516, 47.0020,-125.5122, 1752,     50.4,2,   8.2647,2,   8.26231,2,  32.6163,2,  32.6253,2,  32.7809,2,   234.34,2,   232.82,2,   98.971,   0.0414,2,    0.190,2,  -999.00,9,    0.951,1,    1.179,2,    17.82,2,     0.09,    15.59,2,     0.03,     0.03,2,     0.01,     1.38,2,     0.01,  -999.00,9,  -999.00, -999.000,9, -999.000,9, -999.000,9, -999.000,9,   2077.0,6,   2189.1,2,   -999.0,9,   7.6757,       25,2, -999.000,9,    55.30,2, -999.000,9, -999.000,   -999.0,9,   -999.0, -999.000,9, -999.000, -999.000,9, -999.000,   -999.0,9,   -999.0, -999.000,9, -999.000,9, -999.000,9
  49NZ20140717,   P01,   148,  1,     34, X12J34,2,20140822,1516, 47.0020,-125.5122, 1752,    100.2,2,   7.3787,2,   7.37978,2,  33.2119,2,  33.2387,2,  33.3971,2,   200.90,2,   198.54,2,   99.767,   0.0093,2,    0.012,2,  -999.00,9,    1.253,1,    0.059,2,    27.34,2,     0.09,    22.24,2,     0.03,     0.02,2,     0.01,     1.73,2,     0.01,  -999.00,9,  -999.00, -999.000,9, -999.000,9, -999.000,9, -999.000,9,   2135.4,2,   2218.8,2,   -999.0,9,   7.5885,       25,2, -999.000,9,    47.34,2, -999.000,9, -999.000,   -999.0,9,   -999.0, -999.000,9, -999.000, -999.000,9, -999.000,   -999.0,9,   -999.0, -999.000,9, -999.000,9, -999.000,9
  49NZ20140717,   P01,   148,  1,     33, X12J33,2,20140822,1516, 47.0020,-125.5122, 1752,    150.2,2,   7.5804,2,   7.57991,2,  33.8267,2,  33.8288,2,  33.9914,2,   122.74,2,   121.95,2,   99.413,   0.0235,2,    0.008,2,  -999.00,9,    1.876,1,    0.000,2,    39.07,2,     0.10,    29.10,2,     0.04,     0.01,2,     0.01,     2.13,2,     0.01,  -999.00,9,  -999.00, -999.000,9, -999.000,9, -999.000,9, -999.000,9,   2207.8,2,   2255.2,2,   -999.0,9,   7.4661,       25,6, -999.000,9,    47.81,2, -999.000,9, -999.000,   -999.0,9,   -999.0, -999.000,9, -999.000, -999.000,9, -999.000,   -999.0,9,   -999.0, -999.000,9, -999.000,9, -999.000,9
  49NZ20140717,   P01,   148,  1,     32, X12J32,2,20140822,1516, 47.0020,-125.5122, 1752,    199.8,2,   7.1182,2,   7.11825,2,  33.9214,2,  33.9213,2,  34.0864,2,    75.40,2,    75.90,2,   98.461,   0.0620,2,    0.013,2,  -999.00,9,    2.311,1,    0.000,2,    51.23,2,     0.11,    33.34,2,     0.04,     0.01,2,     0.01,     2.48,2,     0.01,  -999.00,9,  -999.00, -999.000,9, -999.000,9, -999.000,9, -999.000,9,   2250.3,2,   2264.4,6,   -999.0,9,   7.3689,       25,2, -999.000,9,    48.61,2, -999.000,9, -999.000,   -999.0,9,   -999.0, -999.000,9, -999.000, -999.000,9, -999.000,   -999.0,9,   -999.0, -999.000,9, -999.000,9, -999.000,9
  49NZ20140717,   P01,   148,  1,     31, X12J31,2,20140822,1516, 47.0020,-125.5122, 1752,    249.5,2,   6.6921,2,   6.69215,2,  33.9543,2,  33.9543,2,  34.1193,2,    94.59,2,    94.56,2,   99.726,   0.0110,2,    0.008,2,  -999.00,9,    2.292,1,    0.000,2,    50.97,2,     0.11,    33.22,2,     0.04,     0.01,2,     0.01,     2.38,2,     0.01,  -999.00,9,  -999.00, -999.000,9, -999.000,9, -999.000,9, -999.000,9,   2240.9,2,   2272.7,2,   -999.0,9,   7.4183,       25,2, -999.000,9,    46.93,2, -999.000,9, -999.000,   -999.0,9,   -999.0, -999.000,9, -999.000, -999.000,9, -999.000,   -999.0,9,   -999.0, -999.000,9, -999.000,9, -999.000,9
  49NZ20140717,   P01,   148,  1,     30, X12J30,2,20140822,1516, 47.0020,-125.5122, 1752,    329.7,2,   6.0058,2,   6.00594,2,  33.9855,2,  33.9861,2,  34.1543,2,    70.95,2,    71.05,2,   99.665,   0.0134,2,    0.009,2,  -999.00,9,    2.513,1,    0.000,2,    61.72,2,     0.11,    36.43,2,     0.05,     0.01,2,     0.01,     2.61,2,     0.01,  -999.00,9,  -999.00, -999.000,9, -999.000,9, -999.000,9, -999.000,9,   2267.0,2,   2283.6,2,   -999.0,9,   7.3708,       25,2, -999.000,9,    48.45,2, -999.000,9, -999.000,   -999.0,9,   -999.0, -999.000,9, -999.000, -999.000,9, -999.000,   -999.0,9,   -999.0, -999.000,9, -999.000,9, -999.000,9
  49NZ20140717,   P01,   148,  1,     29, X12J29,2,20140822,1516, 47.0020,-125.5122, 1752,    430.0,2,   5.5875,2,   5.58756,2,  34.0697,2,  34.0696,2,  34.2374,2,    38.55,2,    39.30,2,   99.420,   0.0233,2,    0.010,2,  -999.00,9,    2.745,1,    0.000,2,    74.60,2,     0.12,    39.56,2,     0.05,     0.01,2,     0.01,     2.90,2,     0.01,  -999.00,9,  -999.00, -999.000,9, -999.000,9, -999.000,9, -999.000,9,   2298.1,2,   2298.6,2,   -999.0,9,   7.3207,       25,2, -999.000,9,    48.50,2, -999.000,9, -999.000,   -999.0,9,   -999.0, -999.000,9, -999.000, -999.000,9, -999.000,   -999.0,9,   -999.0, -999.000,9, -999.000,9, -999.000,9
  49NZ20140717,   P01,   148,  1,     28, X12J28,2,20140822,1516, 47.0020,-125.5122, 1752,    532.0,2,   5.0334,2,   5.03338,2,  34.1174,2,  34.1212,2,  34.2895,2,    24.82,2,    24.58,2,   99.630,   0.0148,2,    0.010,2,  -999.00,9,    2.855,1,    0.000,2,    86.69,2,     0.13,    41.52,2,     0.05,     0.01,2,     0.01,     3.03,2,     0.01,  -999.00,9,  -999.00, -999.000,9, -999.000,9, -999.000,9, -999.000,9,   2320.6,2,   2312.3,2,   -999.0,9,   7.2955,       25,2, -999.000,9,    49.17,2, -999.000,9, -999.000,   -999.0,9,   -999.0, -999.000,9, -999.000, -999.000,9, -999.000,   -999.0,9,   -999.0, -999.000,9, -999.000,9, -999.000,9
  49NZ20140717,   P01,   148,  1,     27, X12J27,2,20140822,1516, 47.0020,-125.5122, 1752,    630.5,2,   4.5704,2,   4.57374,2,  34.1864,2,  34.1831,2,  34.3541,2,    14.75,2,    15.10,2,   99.752,   0.0100,2,    0.010,2,  -999.00,9,    2.964,1,    0.000,2,    97.91,2,     0.14,    42.78,2,     0.05,     0.01,2,     0.01,     3.13,2,     0.01,  -999.00,9,  -999.00, -999.000,9, -999.000,9, -999.000,9, -999.000,9,   2337.5,2,   2327.5,2,   -999.0,9,   7.2859,       25,2, -999.000,9,    46.40,2, -999.000,9, -999.000,   -999.0,9,   -999.0, -999.000,9, -999.000, -999.000,9, -999.000,   -999.0,9,   -999.0, -999.000,9, -999.000,9, -999.000,9
  49NZ20140717,   P01,   148,  1,     26, X12J26,2,20140822,1516, 47.0020,-125.5122, 1752,    729.7,2,   4.3872,2,   4.38763,2,  34.2540,2,  34.2552,2,  34.4280,2,    10.44,2,    10.25,2,   99.632,   0.0147,2,    0.010,2,  -999.00,9,    3.003,1,    0.000,2,   106.09,2,     0.14,    43.20,2,     0.05,     0.01,2,     0.01,     3.19,2,     0.01,  -999.00,9,  -999.00, -999.000,9, -999.000,9, -999.000,9, -999.000,9,   2349.9,6,   2337.9,2,   -999.0,9,   7.2891,       25,2, -999.000,9,    40.74,2, -999.000,9, -999.000,   -999.0,9,   -999.0, -999.000,9, -999.000, -999.000,9, -999.000,   -999.0,9,   -999.0, -999.000,9, -999.000,9, -999.000,9
  49NZ20140717,   P01,   148,  1,     25, X12J25,2,20140822,1516, 47.0020,-125.5122, 1752,    829.2,2,   4.1326,2,   4.13415,2,  34.3116,2,  34.3104,2,  34.4847,2,     8.70,2,     8.38,2,   99.697,   0.0121,2,    0.010,2,  -999.00,9,    3.140,1,    0.000,2,   113.68,2,     0.15,    43.65,2,     0.05,     0.01,2,     0.01,     3.23,2,     0.01,  -999.00,9,  -999.00, -999.000,9, -999.000,9, -999.000,9, -999.000,9,   2359.0,2,   2351.3,2,   -999.0,9,   7.2936,       25,2, -999.000,9,    40.38,2, -999.000,9, -999.000,   -999.0,9,   -999.0, -999.000,9, -999.000, -999.000,9, -999.000,   -999.0,9,   -999.0, -999.000,9, -999.000,9, -999.000,9
  49NZ20140717,   P01,   148,  1,     24, X12J24,2,20140822,1516, 47.0020,-125.5122, 1752,    928.8,2,   3.8302,2,   3.83001,2,  34.3731,2,  34.3718,2,  34.5473,2,     9.27,2,     8.99,2,   99.810,   0.0076,2,    0.011,2,  -999.00,9,    3.242,1,    0.000,2,   122.38,2,     0.15,    43.92,2,     0.06,     0.01,2,     0.01,     3.24,2,     0.01,  -999.00,9,  -999.00, -999.000,9, -999.000,9, -999.000,9, -999.000,9,   2367.2,2,   2363.8,2,   -999.0,9,   7.3022,       25,2, -999.000,9,    41.15,2, -999.000,9, -999.000,   -999.0,9,   -999.0, -999.000,9, -999.000, -999.000,9, -999.000,   -999.0,9,   -999.0, -999.000,9, -999.000,9, -999.000,9
  49NZ20140717,   P01,   148,  1,     23, X12J23,2,20140822,1516, 47.0020,-125.5122, 1752,   1072.4,2,   3.5684,2,   3.56865,2,  34.4109,2,  34.4110,2,  34.5875,2,    11.31,2,    11.05,2,   99.784,   0.0086,2,    0.010,2,  -999.00,9,    3.188,1,    0.000,2,   129.92,2,     0.16,    44.16,2,     0.06,     0.01,2,     0.01,     3.24,2,     0.01,  -999.00,9,  -999.00, -999.000,9, -999.000,9, -999.000,9, -999.000,9,   2375.1,2,   2373.7,2,   -999.0,9,   7.3084,       25,2, -999.000,9,    42.83,2, -999.000,9, -999.000,   -999.0,9,   -999.0, -999.000,9, -999.000, -999.000,9, -999.000,   -999.0,9,   -999.0, -999.000,9, -999.000,9, -999.000,9
  49NZ20140717,   P01,   148,  1,     22, X12J22,2,20140822,1516, 47.0020,-125.5122, 1752,   1272.5,2,   3.0892,2,   3.08925,2,  34.4663,2,  34.4668,2,  34.6442,2,    17.38,2,    17.18,2,   99.782,   0.0087,2,    0.009,2,  -999.00,9,    3.181,1,    0.000,2,   143.02,2,     0.16,    44.14,2,     0.06,     0.01,2,     0.01,     3.20,2,     0.01,  -999.00,9,  -999.00, -999.000,9, -999.000,9, -999.000,9, -999.000,9,   2385.3,2,   2386.7,6,   -999.0,9,   7.3226,       25,2, -999.000,9,    42.36,2, -999.000,9, -999.000,   -999.0,9,   -999.0, -999.000,9, -999.000, -999.000,9, -999.000,   -999.0,9,   -999.0, -999.000,9, -999.000,9, -999.000,9
  49NZ20140717,   P01,   148,  1,     21, X12J21,2,20140822,1516, 47.0020,-125.5122, 1752,   1468.7,2,   2.6449,2,   2.64495,2,  34.5118,2,  34.5112,2,  34.6891,2,    26.95,2,    26.95,2,   99.726,   0.0110,2,    0.008,2,  -999.00,9,    3.258,1,    0.000,2,   155.86,2,     0.17,    43.66,2,     0.05,     0.01,2,     0.01,     3.16,2,     0.01,  -999.00,9,  -999.00, -999.000,9, -999.000,9, -999.000,9, -999.000,9,   2390.9,2,   2400.4,2,   -999.0,9,   7.3422,       25,2, -999.000,9,    40.87,2, -999.000,9, -999.000,   -999.0,9,   -999.0, -999.000,9, -999.000, -999.000,9, -999.000,   -999.0,9,   -999.0, -999.000,9, -999.000,9, -999.000,9
  49NZ20140717,   P01,   148,  1,     20, X12J20,2,20140822,1516, 47.0020,-125.5122, 1752,   1672.2,2,   2.2553,2,   2.25461,2,  34.5576,2,  34.5585,2,  34.7385,2,    41.74,2,    42.48,2,   99.554,   0.0179,2,    0.007,2,  -999.00,9,    3.292,1,    0.000,2,   168.56,2,     0.18,    42.53,2,     0.05,     0.01,2,     0.01,     3.08,2,     0.01,  -999.00,9,  -999.00, -999.000,9, -999.000,9, -999.000,9, -999.000,9,   2393.1,2,   2414.0,2,   -999.0,9,   7.3758,       25,6, -999.000,9,    42.09,2, -999.000,9, -999.000,   -999.0,9,   -999.0, -999.000,9, -999.000, -999.000,9, -999.000,   -999.0,9,   -999.0, -999.000,9, -999.000,9, -999.000,9
  49NZ20140717,   P01,   148,  1,     19, X12J19,9,20140822,1516, 47.0020,-125.5122, 1752,   -999.0,9,-999.0000,9,-999.00000,9,-999.0000,9,-999.0000,9,-999.0000,9,  -999.00,9,  -999.00,9, -999.000,-999.0000,9, -999.000,9,  -999.00,9, -999.000,9, -999.000,9,  -999.00,9,  -999.00,  -999.00,9,  -999.00,  -999.00,9,  -999.00,  -999.00,9,  -999.00,  -999.00,9,  -999.00, -999.000,9, -999.000,9, -999.000,9, -999.000,9,   -999.0,9,   -999.0,9,   -999.0,9,-999.0000,     -999,9, -999.000,9,  -999.00,9, -999.000,9, -999.000,   -999.0,9,   -999.0, -999.000,9, -999.000, -999.000,9, -999.000,   -999.0,9,   -999.0, -999.000,9, -999.000,9, -999.000,9
  49NZ20140717,   P01,   148,  1,     18, X12J18,9,20140822,1516, 47.0020,-125.5122, 1752,   -999.0,9,-999.0000,9,-999.00000,9,-999.0000,9,-999.0000,9,-999.0000,9,  -999.00,9,  -999.00,9, -999.000,-999.0000,9, -999.000,9,  -999.00,9, -999.000,9, -999.000,9,  -999.00,9,  -999.00,  -999.00,9,  -999.00,  -999.00,9,  -999.00,  -999.00,9,  -999.00,  -999.00,9,  -999.00, -999.000,9, -999.000,9, -999.000,9, -999.000,9,   -999.0,9,   -999.0,9,   -999.0,9,-999.0000,     -999,9, -999.000,9,  -999.00,9, -999.000,9, -999.000,   -999.0,9,   -999.0, -999.000,9, -999.000, -999.000,9, -999.000,   -999.0,9,   -999.0, -999.000,9, -999.000,9, -999.000,9
  49NZ20140717,   P01,   148,  1,     17, X12J17,9,20140822,1516, 47.0020,-125.5122, 1752,   -999.0,9,-999.0000,9,-999.00000,9,-999.0000,9,-999.0000,9,-999.0000,9,  -999.00,9,  -999.00,9, -999.000,-999.0000,9, -999.000,9,  -999.00,9, -999.000,9, -999.000,9,  -999.00,9,  -999.00,  -999.00,9,  -999.00,  -999.00,9,  -999.00,  -999.00,9,  -999.00,  -999.00,9,  -999.00, -999.000,9, -999.000,9, -999.000,9, -999.000,9,   -999.0,9,   -999.0,9,   -999.0,9,-999.0000,     -999,9, -999.000,9,  -999.00,9, -999.000,9, -999.000,   -999.0,9,   -999.0, -999.000,9, -999.000, -999.000,9, -999.000,   -999.0,9,   -999.0, -999.000,9, -999.000,9, -999.000,9
  49NZ20140717,   P01,   148,  1,     16, X12J16,9,20140822,1516, 47.0020,-125.5122, 1752,   -999.0,9,-999.0000,9,-999.00000,9,-999.0000,9,-999.0000,9,-999.0000,9,  -999.00,9,  -999.00,9, -999.000,-999.0000,9, -999.000,9,  -999.00,9, -999.000,9, -999.000,9,  -999.00,9,  -999.00,  -999.00,9,  -999.00,  -999.00,9,  -999.00,  -999.00,9,  -999.00,  -999.00,9,  -999.00, -999.000,9, -999.000,9, -999.000,9, -999.000,9,   -999.0,9,   -999.0,9,   -999.0,9,-999.0000,     -999,9, -999.000,9,  -999.00,9, -999.000,9, -999.000,   -999.0,9,   -999.0, -999.000,9, -999.000, -999.000,9, -999.000,   -999.0,9,   -999.0, -999.000,9, -999.000,9, -999.000,9
  49NZ20140717,   P01,   148,  1,     15, X12J15,9,20140822,1516, 47.0020,-125.5122, 1752,   -999.0,9,-999.0000,9,-999.00000,9,-999.0000,9,-999.0000,9,-999.0000,9,  -999.00,9,  -999.00,9, -999.000,-999.0000,9, -999.000,9,  -999.00,9, -999.000,9, -999.000,9,  -999.00,9,  -999.00,  -999.00,9,  -999.00,  -999.00,9,  -999.00,  -999.00,9,  -999.00,  -999.00,9,  -999.00, -999.000,9, -999.000,9, -999.000,9, -999.000,9,   -999.0,9,   -999.0,9,   -999.0,9,-999.0000,     -999,9, -999.000,9,  -999.00,9, -999.000,9, -999.000,   -999.0,9,   -999.0, -999.000,9, -999.000, -999.000,9, -999.000,   -999.0,9,   -999.0, -999.000,9, -999.000,9, -999.000,9
  49NZ20140717,   P01,   148,  1,     14, X12J14,9,20140822,1516, 47.0020,-125.5122, 1752,   -999.0,9,-999.0000,9,-999.00000,9,-999.0000,9,-999.0000,9,-999.0000,9,  -999.00,9,  -999.00,9, -999.000,-999.0000,9, -999.000,9,  -999.00,9, -999.000,9, -999.000,9,  -999.00,9,  -999.00,  -999.00,9,  -999.00,  -999.00,9,  -999.00,  -999.00,9,  -999.00,  -999.00,9,  -999.00, -999.000,9, -999.000,9, -999.000,9, -999.000,9,   -999.0,9,   -999.0,9,   -999.0,9,-999.0000,     -999,9, -999.000,9,  -999.00,9, -999.000,9, -999.000,   -999.0,9,   -999.0, -999.000,9, -999.000, -999.000,9, -999.000,   -999.0,9,   -999.0, -999.000,9, -999.000,9, -999.000,9
  49NZ20140717,   P01,   148,  1,     13, X12113,9,20140822,1516, 47.0020,-125.5122, 1752,   -999.0,9,-999.0000,9,-999.00000,9,-999.0000,9,-999.0000,9,-999.0000,9,  -999.00,9,  -999.00,9, -999.000,-999.0000,9, -999.000,9,  -999.00,9, -999.000,9, -999.000,9,  -999.00,9,  -999.00,  -999.00,9,  -999.00,  -999.00,9,  -999.00,  -999.00,9,  -999.00,  -999.00,9,  -999.00, -999.000,9, -999.000,9, -999.000,9, -999.000,9,   -999.0,9,   -999.0,9,   -999.0,9,-999.0000,     -999,9, -999.000,9,  -999.00,9, -999.000,9, -999.000,   -999.0,9,   -999.0, -999.000,9, -999.000, -999.000,9, -999.000,   -999.0,9,   -999.0, -999.000,9, -999.000,9, -999.000,9
  49NZ20140717,   P01,   148,  1,     12, X12J12,9,20140822,1516, 47.0020,-125.5122, 1752,   -999.0,9,-999.0000,9,-999.00000,9,-999.0000,9,-999.0000,9,-999.0000,9,  -999.00,9,  -999.00,9, -999.000,-999.0000,9, -999.000,9,  -999.00,9, -999.000,9, -999.000,9,  -999.00,9,  -999.00,  -999.00,9,  -999.00,  -999.00,9,  -999.00,  -999.00,9,  -999.00,  -999.00,9,  -999.00, -999.000,9, -999.000,9, -999.000,9, -999.000,9,   -999.0,9,   -999.0,9,   -999.0,9,-999.0000,     -999,9, -999.000,9,  -999.00,9, -999.000,9, -999.000,   -999.0,9,   -999.0, -999.000,9, -999.000, -999.000,9, -999.000,   -999.0,9,   -999.0, -999.000,9, -999.000,9, -999.000,9
  49NZ20140717,   P01,   148,  1,     11, X12J11,9,20140822,1516, 47.0020,-125.5122, 1752,   -999.0,9,-999.0000,9,-999.00000,9,-999.0000,9,-999.0000,9,-999.0000,9,  -999.00,9,  -999.00,9, -999.000,-999.0000,9, -999.000,9,  -999.00,9, -999.000,9, -999.000,9,  -999.00,9,  -999.00,  -999.00,9,  -999.00,  -999.00,9,  -999.00,  -999.00,9,  -999.00,  -999.00,9,  -999.00, -999.000,9, -999.000,9, -999.000,9, -999.000,9,   -999.0,9,   -999.0,9,   -999.0,9,-999.0000,     -999,9, -999.000,9,  -999.00,9, -999.000,9, -999.000,   -999.0,9,   -999.0, -999.000,9, -999.000, -999.000,9, -999.000,   -999.0,9,   -999.0, -999.000,9, -999.000,9, -999.000,9
  49NZ20140717,   P01,   148,  1,     10, X12J10,9,20140822,1516, 47.0020,-125.5122, 1752,   -999.0,9,-999.0000,9,-999.00000,9,-999.0000,9,-999.0000,9,-999.0000,9,  -999.00,9,  -999.00,9, -999.000,-999.0000,9, -999.000,9,  -999.00,9, -999.000,9, -999.000,9,  -999.00,9,  -999.00,  -999.00,9,  -999.00,  -999.00,9,  -999.00,  -999.00,9,  -999.00,  -999.00,9,  -999.00, -999.000,9, -999.000,9, -999.000,9, -999.000,9,   -999.0,9,   -999.0,9,   -999.0,9,-999.0000,     -999,9, -999.000,9,  -999.00,9, -999.000,9, -999.000,   -999.0,9,   -999.0, -999.000,9, -999.000, -999.000,9, -999.000,   -999.0,9,   -999.0, -999.000,9, -999.000,9, -999.000,9