BOTTLE,20230904JAMSTECRIGC
EXPOCODE,SECT,STNNBR,CASTNO,SAMPNO,BTLNBR,BTLNBR_FLAG_W,DATE,TIME,LATITUDE,LONGITUDE,DEPTH,CTDPRS,CTDPRS_FLAG_W,CTDTMP,CTDTMP_FLAG_W,SBE35,SBE35_FLAG_W,CTDSAL,CTDSAL_FLAG_W,SALNTY,SALNTY_FLAG_W,DNSSAL,DNSSAL_FLAG_W,CTDOXY,CTDOXY_FLAG_W,OXYGEN,OXYGEN_FLAG_W,XMISS,XMISSCP,XMISS_FLAG_W,FLUOR,FLUOR_FLAG_W,CHLORA,CHLORA_FLAG_W,CDOM,CDOM_FLAG_W,PAR,PAR_FLAG_W,SILCAT,SILCAT_FLAG_W,SILUNC,NITRAT,NITRAT_FLAG_W,NRAUNC,NITRIT,NITRIT_FLAG_W,NRIUNC,PHSPHT,PHSPHT_FLAG_W,PHPUNC,AMMONIA,AMMONIA_FLAG_W,NH4UNC,CFC-11,CFC-11_FLAG_W,CFC-12,CFC-12_FLAG_W,CFC113,CFC113_FLAG_W,SF6,SF6_FLAG_W,TCARBN,TCARBN_FLAG_W,ALKALI,ALKALI_FLAG_W,ALKALI_POT,ALKALI_POT_FLAG_W,PH_TOT,PH_TMP,PH_TOT_FLAG_W,CALCIUM,CALCIUM_FLAG_W,DOC,DOC_FLAG_W,DELC13,DELC13_FLAG_W,C13ERR,DELC14,DELC14_FLAG_W,C14ERR,CS-134,CS-134_FLAG_W,CS134ER,CS-137,CS-137_FLAG_W,CS137ER,I-129,I-129_FLAG_W,I-129ER,CDOM-325,CDOM-325_FLAG_W,CDOM-370,CDOM-370_FLAG_W,CDOM-443,CDOM-443_FLAG_W
,,,,,,,,UTC,DEG,DEG,METERS,DBAR,,ITS-90,,ITS-90,,PSS-78,,PSS-78,,G/KG,,UMOL/KG,,UMOL/KG,,%TRANS,/METER,,MG/CUM,,MG/CUM,,MG/CUM,,UE/SQM/S,,UMOL/KG,,UMOL/KG,UMOL/KG,,UMOL/KG,UMOL/KG,,UMOL/KG,UMOL/KG,,UMOL/KG,UMOL/KG,,UMOL/KG,PMOL/KG,,PMOL/KG,,PMOL/KG,,FMOL/KG,,UMOL/KG,,UMOL/KG,,UMOL/KG,,,DEG C,,MMOL/KG,,UMOL/KG,,/MILLE,,/MILLE,/MILLE,,/MILLE,MBQ/KG,,MBQ/KG,MBQ/KG,,MBQ/KG,,,,/METER,,/METER,,/METER,
  49NZ20140717,   P01,    88,  1,      9, X12J09,2,20140801,1634, 46.9949, 170.4747, 6334,   4080.4,2,   1.4625,2,   1.46284,2,  34.6837,2,  34.6833,2,-999.0000,9,   149.60,2,   149.55,2,   99.980,   0.0008,2,    0.000,2,  -999.00,9,    1.929,4,    0.000,2,   153.40,2,     0.17,    36.18,2,     0.05,     0.00,2,     0.01,     2.53,2,     0.01,  -999.00,9,  -999.00,    0.000,2,    0.000,2,    0.000,2, -999.000,9,   -999.0,9,   -999.0,9,   -999.0,9,-999.0000,     -999,9, -999.000,9,  -999.00,9, -999.000,9, -999.000,   -999.0,9,   -999.0, -999.000,9, -999.000, -999.000,9, -999.000,   -999.0,9,   -999.0, -999.000,9, -999.000,9, -999.000,9
  49NZ20140717,   P01,    88,  1,      8, X12J08,2,20140801,1634, 46.9949, 170.4747, 6334,   4330.5,2,   1.4750,2,   1.47536,2,  34.6855,2,  34.6849,2,-999.0000,9,   151.80,2,   151.60,2,   99.984,   0.0006,2,    0.000,2,  -999.00,9,    0.883,4,    0.000,2,   153.25,2,     0.17,    36.06,2,     0.05,     0.00,2,     0.01,     2.52,2,     0.01,  -999.00,9,  -999.00,    0.000,2,    0.000,2,    0.000,2, -999.000,9,   -999.0,9,   -999.0,9,   -999.0,9,-999.0000,     -999,9, -999.000,9,  -999.00,9, -999.000,9, -999.000,   -999.0,9,   -999.0, -999.000,9, -999.000, -999.000,9, -999.000,   -999.0,9,   -999.0, -999.000,9, -999.000,9, -999.000,9
  49NZ20140717,   P01,    88,  1,      7, X12J07,2,20140801,1634, 46.9949, 170.4747, 6334,   4580.4,2,   1.4937,2,   1.49396,2,  34.6865,2,  34.6862,2,-999.0000,9,   153.19,2,   153.04,2,   99.984,   0.0006,2,    0.000,2,  -999.00,9,   -0.170,4,    0.000,2,   153.23,2,     0.17,    35.98,2,     0.05,     0.00,2,     0.01,     2.51,2,     0.01,  -999.00,9,  -999.00,    0.000,2,    0.000,2,    0.000,2, -999.000,9,   -999.0,9,   -999.0,9,   -999.0,9,-999.0000,     -999,9, -999.000,9,  -999.00,9, -999.000,9, -999.000,   -999.0,9,   -999.0, -999.000,9, -999.000, -999.000,9, -999.000,   -999.0,9,   -999.0, -999.000,9, -999.000,9, -999.000,9
  49NZ20140717,   P01,    88,  1,      6, X12J06,2,20140801,1634, 46.9949, 170.4747, 6334,   4830.4,2,   1.5174,2,   1.51753,2,  34.6872,2,  34.6869,2,-999.0000,9,   154.09,2,   153.91,2,   99.995,   0.0002,2,    0.000,2,  -999.00,9,   -1.496,4,    0.000,2,   153.29,2,     0.17,    35.92,2,     0.05,     0.00,2,     0.01,     2.50,2,     0.01,  -999.00,9,  -999.00,    0.002,2,    0.000,2,    0.000,2, -999.000,9,   -999.0,9,   -999.0,9,   -999.0,9,-999.0000,     -999,9, -999.000,9,  -999.00,9, -999.000,9, -999.000,   -999.0,9,   -999.0, -999.000,9, -999.000, -999.000,9, -999.000,   -999.0,9,   -999.0, -999.000,9, -999.000,9, -999.000,9
  49NZ20140717,   P01,    88,  1,      5, X12J05,2,20140801,1634, 46.9949, 170.4747, 6334,   5080.7,2,   1.5432,2,   1.54341,2,  34.6878,2,  34.6876,2,-999.0000,9,   154.70,2,   154.50,2,   99.993,   0.0003,2,    0.000,2,  -999.00,9,   -1.740,4,    0.000,2,   153.65,2,     0.17,    35.88,2,     0.05,     0.00,2,     0.01,     2.50,2,     0.01,  -999.00,9,  -999.00,    0.001,2,    0.000,2,    0.000,2, -999.000,9,   -999.0,9,   -999.0,9,   -999.0,9,-999.0000,     -999,9, -999.000,9,  -999.00,9, -999.000,9, -999.000,   -999.0,9,   -999.0, -999.000,9, -999.000, -999.000,9, -999.000,   -999.0,9,   -999.0, -999.000,9, -999.000,9, -999.000,9
  49NZ20140717,   P01,    88,  1,      4, X12J04,2,20140801,1634, 46.9949, 170.4747, 6334,   5330.3,2,   1.5722,2,   1.57227,2,  34.6881,2,  34.6879,2,-999.0000,9,   155.05,2,   155.04,2,   99.945,   0.0022,2,    0.000,2,  -999.00,9,   -1.641,4,    0.000,2,   153.69,2,     0.17,    35.89,2,     0.05,     0.00,2,     0.01,     2.50,2,     0.01,  -999.00,9,  -999.00,    0.000,2,    0.002,2,    0.000,2, -999.000,9,   -999.0,9,   -999.0,9,   -999.0,9,-999.0000,     -999,9, -999.000,9,  -999.00,9, -999.000,9, -999.000,   -999.0,9,   -999.0, -999.000,9, -999.000, -999.000,9, -999.000,   -999.0,9,   -999.0, -999.000,9, -999.000,9, -999.000,9
  49NZ20140717,   P01,    88,  1,      3, X12J03,2,20140801,1634, 46.9949, 170.4747, 6334,   5581.1,2,   1.6037,2,   1.60378,2,  34.6882,2,  34.6869,3,-999.0000,9,   155.14,2,   155.19,2,   99.934,   0.0026,2,   -0.001,2,  -999.00,9,   -1.687,4,    0.000,2,   153.76,2,     0.17,    35.87,2,     0.05,     0.00,2,     0.01,     2.50,2,     0.01,  -999.00,9,  -999.00,    0.002,2,    0.002,2,    0.000,2, -999.000,9,   -999.0,9,   -999.0,9,   -999.0,9,-999.0000,     -999,9, -999.000,9,  -999.00,9, -999.000,9, -999.000,   -999.0,9,   -999.0, -999.000,9, -999.000, -999.000,9, -999.000,   -999.0,9,   -999.0, -999.000,9, -999.000,9, -999.000,9
  49NZ20140717,   P01,    88,  1,      2, X12J02,2,20140801,1634, 46.9949, 170.4747, 6334,   5829.1,2,   1.6361,2,   1.63626,2,  34.6884,2,  34.6883,2,-999.0000,9,   155.04,2,   155.51,2,   99.913,   0.0035,2,    0.000,2,  -999.00,9,   -1.739,4,    0.000,2,   154.09,2,     0.17,    35.85,2,     0.05,     0.00,2,     0.01,     2.50,2,     0.01,  -999.00,9,  -999.00,    0.001,2,    0.000,2,    0.000,2, -999.000,9,   -999.0,9,   -999.0,9,   -999.0,9,-999.0000,     -999,9, -999.000,9,  -999.00,9, -999.000,9, -999.000,   -999.0,9,   -999.0, -999.000,9, -999.000, -999.000,9, -999.000,   -999.0,9,   -999.0, -999.000,9, -999.000,9, -999.000,9
  49NZ20140717,   P01,    88,  1,      1, X12J01,2,20140801,1634, 46.9949, 170.4747, 6334,   6136.7,2,   1.6789,2,   1.67890,2,  34.6881,2,  34.6881,2,-999.0000,9,   154.91,2,   155.59,2,   99.850,   0.0060,2,    0.000,2,  -999.00,9,  497.217,4,    0.000,2,   154.45,2,     0.17,    35.89,2,     0.05,     0.00,2,     0.01,     2.50,2,     0.01,  -999.00,9,  -999.00,    0.000,2,    0.000,2,    0.000,2, -999.000,9,   -999.0,9,   -999.0,9,   -999.0,9,-999.0000,     -999,9, -999.000,9,  -999.00,9, -999.000,9, -999.000,   -999.0,9,   -999.0, -999.000,9, -999.000, -999.000,9, -999.000,   -999.0,9,   -999.0, -999.000,9, -999.000,9, -999.000,9