BOTTLE,20230904JAMSTECRIGC
EXPOCODE,SECT,STNNBR,CASTNO,SAMPNO,BTLNBR,BTLNBR_FLAG_W,DATE,TIME,LATITUDE,LONGITUDE,DEPTH,CTDPRS,CTDPRS_FLAG_W,CTDTMP,CTDTMP_FLAG_W,SBE35,SBE35_FLAG_W,CTDSAL,CTDSAL_FLAG_W,SALNTY,SALNTY_FLAG_W,DNSSAL,DNSSAL_FLAG_W,CTDOXY,CTDOXY_FLAG_W,OXYGEN,OXYGEN_FLAG_W,XMISS,XMISSCP,XMISS_FLAG_W,FLUOR,FLUOR_FLAG_W,CHLORA,CHLORA_FLAG_W,CDOM,CDOM_FLAG_W,PAR,PAR_FLAG_W,SILCAT,SILCAT_FLAG_W,SILUNC,NITRAT,NITRAT_FLAG_W,NRAUNC,NITRIT,NITRIT_FLAG_W,NRIUNC,PHSPHT,PHSPHT_FLAG_W,PHPUNC,AMMONIA,AMMONIA_FLAG_W,NH4UNC,CFC-11,CFC-11_FLAG_W,CFC-12,CFC-12_FLAG_W,CFC113,CFC113_FLAG_W,SF6,SF6_FLAG_W,TCARBN,TCARBN_FLAG_W,ALKALI,ALKALI_FLAG_W,ALKALI_POT,ALKALI_POT_FLAG_W,PH_TOT,PH_TMP,PH_TOT_FLAG_W,CALCIUM,CALCIUM_FLAG_W,DOC,DOC_FLAG_W,DELC13,DELC13_FLAG_W,C13ERR,DELC14,DELC14_FLAG_W,C14ERR,CS-134,CS-134_FLAG_W,CS134ER,CS-137,CS-137_FLAG_W,CS137ER,I-129,I-129_FLAG_W,I-129ER,CDOM-325,CDOM-325_FLAG_W,CDOM-370,CDOM-370_FLAG_W,CDOM-443,CDOM-443_FLAG_W
,,,,,,,,UTC,DEG,DEG,METERS,DBAR,,ITS-90,,ITS-90,,PSS-78,,PSS-78,,G/KG,,UMOL/KG,,UMOL/KG,,%TRANS,/METER,,MG/CUM,,MG/CUM,,MG/CUM,,UE/SQM/S,,UMOL/KG,,UMOL/KG,UMOL/KG,,UMOL/KG,UMOL/KG,,UMOL/KG,UMOL/KG,,UMOL/KG,UMOL/KG,,UMOL/KG,PMOL/KG,,PMOL/KG,,PMOL/KG,,FMOL/KG,,UMOL/KG,,UMOL/KG,,UMOL/KG,,,DEG C,,MMOL/KG,,UMOL/KG,,/MILLE,,/MILLE,/MILLE,,/MILLE,MBQ/KG,,MBQ/KG,MBQ/KG,,MBQ/KG,,,,/METER,,/METER,,/METER,
  49NZ20140717,   P01,   107,  1,      9, X12J09,2,20140809,0045, 46.9954,-168.2088, 5395,   3920.8,2,   1.4754,2,   1.47556,2,  34.6797,2,  34.6795,2,-999.0000,9,   141.94,2,   141.80,2,  100.008,  -0.0003,2,    0.005,2,  -999.00,9,    2.462,1,    0.000,2,   160.23,2,     0.17,    36.95,2,     0.05,     0.00,2,     0.01,     2.58,2,     0.01,  -999.00,9,  -999.00,    0.000,4,    0.000,4,    0.000,4,    0.000,4,   2334.7,2,   2418.9,2,   2416.5,2,   7.5610,       25,2,   10.338,2,    40.59,2, -999.000,9, -999.000,   -999.0,9,   -999.0, -999.000,9, -999.000, -999.000,9, -999.000,   -999.0,9,   -999.0, -999.000,9, -999.000,9, -999.000,9
  49NZ20140717,   P01,   107,  1,      8, X12J08,2,20140809,0045, 46.9954,-168.2088, 5395,   4169.6,2,   1.4746,2,   1.47471,2,  34.6832,2,  34.6832,2,-999.0000,9,   146.03,2,   145.94,2,   99.997,   0.0001,2,    0.005,2,  -999.00,9,    2.444,4,    0.000,2,   160.29,2,     0.17,    36.71,2,     0.05,     0.00,2,     0.01,     2.56,2,     0.01,  -999.00,9,  -999.00,    0.003,2,    0.000,2,    0.001,2,    0.000,2,   2331.8,6,   2420.1,2,   -999.0,9,   7.5687,       25,2, -999.000,9,    38.25,2, -999.000,9, -999.000,   -999.0,9,   -999.0, -999.000,9, -999.000, -999.000,9, -999.000,   -999.0,9,   -999.0, -999.000,9, -999.000,9, -999.000,9
  49NZ20140717,   P01,   107,  1,      7, X12J07,2,20140809,0045, 46.9954,-168.2088, 5395,   4418.8,2,   1.4868,2,   1.48687,2,  34.6853,2,  34.6854,2,-999.0000,9,   148.27,2,   148.14,2,  100.003,  -0.0001,2,    0.005,2,  -999.00,9,    0.183,4,    0.000,2,   160.93,2,     0.17,    36.59,2,     0.05,     0.00,2,     0.01,     2.54,2,     0.01,  -999.00,9,  -999.00,    0.001,2,    0.001,2,    0.000,2,    0.000,2,   2330.8,2,   2422.9,2,   -999.0,9,   7.5745,       25,6, -999.000,9,    41.30,3, -999.000,9, -999.000,   -999.0,9,   -999.0, -999.000,9, -999.000, -999.000,9, -999.000,   -999.0,9,   -999.0, -999.000,9, -999.000,9, -999.000,9
  49NZ20140717,   P01,   107,  1,      6, X12J06,2,20140809,0045, 46.9954,-168.2088, 5395,   4670.5,2,   1.5098,2,   1.50992,2,  34.6864,2,  34.6862,2,-999.0000,9,   148.99,2,   148.96,2,   99.995,   0.0002,2,    0.004,2,  -999.00,9,  497.217,4,    0.000,2,   162.14,2,     0.18,    36.55,2,     0.05,     0.00,2,     0.01,     2.54,2,     0.01,  -999.00,9,  -999.00,    0.005,2,    0.001,2,    0.000,2,    0.000,2,   2331.8,2,   2424.9,6,   -999.0,9,   7.5774,       25,2, -999.000,9,    38.91,2, -999.000,9, -999.000,   -999.0,9,   -999.0, -999.000,9, -999.000, -999.000,9, -999.000,   -999.0,9,   -999.0, -999.000,9, -999.000,9, -999.000,9
  49NZ20140717,   P01,   107,  1,      5, X12J05,2,20140809,0045, 46.9954,-168.2088, 5395,   4919.9,2,   1.5361,2,   1.53616,2,  34.6869,2,  34.6870,2,-999.0000,9,   149.67,2,   149.68,2,   99.980,   0.0008,2,    0.005,2,  -999.00,9,  497.217,4,    0.000,2,   162.25,2,     0.18,    36.51,2,     0.05,     0.00,2,     0.01,     2.54,2,     0.01,  -999.00,9,  -999.00,    0.001,2,    0.001,2,    0.000,2,    0.000,2,   2330.7,2,   2423.3,2,   2423.5,2,   7.5787,       25,2,   10.331,2,    39.91,2, -999.000,9, -999.000,   -999.0,9,   -999.0, -999.000,9, -999.000, -999.000,9, -999.000,   -999.0,9,   -999.0, -999.000,9, -999.000,9, -999.000,9
  49NZ20140717,   P01,   107,  1,      4, X12J04,2,20140809,0045, 46.9954,-168.2088, 5395,   5169.8,2,   1.5634,2,   1.56329,2,  34.6872,2,  34.6877,2,-999.0000,9,   150.57,2,   150.75,2,   99.938,   0.0025,2,    0.005,2,  -999.00,9,  497.217,4,    0.000,2,   161.77,2,     0.17,    36.44,2,     0.05,     0.00,2,     0.01,     2.53,2,     0.01,  -999.00,9,  -999.00,    0.002,2,    0.001,2,    0.000,2,    0.000,2,   2328.8,2,   2422.2,2,   -999.0,9,   7.5791,       25,2, -999.000,9,    40.19,2, -999.000,9, -999.000,   -999.0,9,   -999.0, -999.000,9, -999.000, -999.000,9, -999.000,   -999.0,9,   -999.0, -999.000,9, -999.000,9, -999.000,9
  49NZ20140717,   P01,   107,  1,      3, X12J03,2,20140809,0045, 46.9954,-168.2088, 5395,   5419.2,2,   1.5917,2,   1.59153,2,  34.6876,2,  34.6878,2,-999.0000,9,   151.34,2,   151.69,2,   99.899,   0.0040,2,    0.005,2,  -999.00,9,  497.217,4,    0.000,2,   161.47,2,     0.17,    36.36,2,     0.05,     0.00,2,     0.01,     2.53,2,     0.01,  -999.00,9,  -999.00,    0.001,2,    0.000,2,    0.000,2,    0.000,2,   2327.4,2,   2421.6,2,   -999.0,9,   7.5799,       25,2, -999.000,9,    43.55,3, -999.000,9, -999.000,   -999.0,9,   -999.0, -999.000,9, -999.000, -999.000,9, -999.000,   -999.0,9,   -999.0, -999.000,9, -999.000,9, -999.000,9
  49NZ20140717,   P01,   107,  1,      2, X12J02,2,20140809,0045, 46.9954,-168.2088, 5395,   5419.0,2,   1.5917,2,   1.59159,2,  34.6876,2,  34.6881,2,-999.0000,9,   151.36,2,   151.89,2,   99.908,   0.0037,2,    0.005,2,  -999.00,9,  497.217,4,    0.000,2,  -999.00,9,  -999.00,  -999.00,9,  -999.00,  -999.00,9,  -999.00,  -999.00,9,  -999.00,  -999.00,9,  -999.00, -999.000,9, -999.000,9, -999.000,9, -999.000,9,   -999.0,9,   -999.0,9,   -999.0,9,-999.0000,     -999,9, -999.000,9,  -999.00,9, -999.000,9, -999.000,   -999.0,9,   -999.0, -999.000,9, -999.000, -999.000,9, -999.000,   -999.0,9,   -999.0, -999.000,9, -999.000,9, -999.000,9
  49NZ20140717,   P01,   107,  1,      1, X12J01,2,20140809,0045, 46.9954,-168.2088, 5395,   5501.9,2,   1.6023,2,   1.60214,2,  34.6877,2,  34.6878,2,-999.0000,9,   151.39,2,   151.89,2,   99.852,   0.0059,2,    0.004,2,  -999.00,9,  494.380,4,    0.000,2,   161.61,2,     0.17,    36.37,2,     0.05,     0.00,2,     0.01,     2.53,2,     0.01,  -999.00,9,  -999.00,    0.005,2,    0.002,2,    0.000,2,    0.000,2,   2327.6,2,   2420.8,2,   2421.6,2,   7.5807,       25,2,   10.339,2,    39.41,2, -999.000,9, -999.000,   -999.0,9,   -999.0, -999.000,9, -999.000, -999.000,9, -999.000,   -999.0,9,   -999.0, -999.000,9, -999.000,9, -999.000,9