BOTTLE,20230904JAMSTECRIGC
EXPOCODE,SECT,STNNBR,CASTNO,SAMPNO,BTLNBR,BTLNBR_FLAG_W,DATE,TIME,LATITUDE,LONGITUDE,DEPTH,CTDPRS,CTDPRS_FLAG_W,CTDTMP,CTDTMP_FLAG_W,SBE35,SBE35_FLAG_W,CTDSAL,CTDSAL_FLAG_W,SALNTY,SALNTY_FLAG_W,DNSSAL,DNSSAL_FLAG_W,CTDOXY,CTDOXY_FLAG_W,OXYGEN,OXYGEN_FLAG_W,XMISS,XMISSCP,XMISS_FLAG_W,FLUOR,FLUOR_FLAG_W,CHLORA,CHLORA_FLAG_W,CDOM,CDOM_FLAG_W,PAR,PAR_FLAG_W,SILCAT,SILCAT_FLAG_W,SILUNC,NITRAT,NITRAT_FLAG_W,NRAUNC,NITRIT,NITRIT_FLAG_W,NRIUNC,PHSPHT,PHSPHT_FLAG_W,PHPUNC,AMMONIA,AMMONIA_FLAG_W,NH4UNC,CFC-11,CFC-11_FLAG_W,CFC-12,CFC-12_FLAG_W,CFC113,CFC113_FLAG_W,SF6,SF6_FLAG_W,TCARBN,TCARBN_FLAG_W,ALKALI,ALKALI_FLAG_W,ALKALI_POT,ALKALI_POT_FLAG_W,PH_TOT,PH_TMP,PH_TOT_FLAG_W,CALCIUM,CALCIUM_FLAG_W,DOC,DOC_FLAG_W,DELC13,DELC13_FLAG_W,C13ERR,DELC14,DELC14_FLAG_W,C14ERR,CS-134,CS-134_FLAG_W,CS134ER,CS-137,CS-137_FLAG_W,CS137ER,I-129,I-129_FLAG_W,I-129ER,CDOM-325,CDOM-325_FLAG_W,CDOM-370,CDOM-370_FLAG_W,CDOM-443,CDOM-443_FLAG_W
,,,,,,,,UTC,DEG,DEG,METERS,DBAR,,ITS-90,,ITS-90,,PSS-78,,PSS-78,,G/KG,,UMOL/KG,,UMOL/KG,,%TRANS,/METER,,MG/CUM,,MG/CUM,,MG/CUM,,UE/SQM/S,,UMOL/KG,,UMOL/KG,UMOL/KG,,UMOL/KG,UMOL/KG,,UMOL/KG,UMOL/KG,,UMOL/KG,UMOL/KG,,UMOL/KG,PMOL/KG,,PMOL/KG,,PMOL/KG,,FMOL/KG,,UMOL/KG,,UMOL/KG,,UMOL/KG,,,DEG C,,MMOL/KG,,UMOL/KG,,/MILLE,,/MILLE,/MILLE,,/MILLE,MBQ/KG,,MBQ/KG,MBQ/KG,,MBQ/KG,,,,/METER,,/METER,,/METER,
  49NZ20140717,   P01,   125,  1,      0,   -999,9,20140814,2314, 47.0077,-148.0382, 5001,   -999.0,9,-999.0000,9,-999.00000,9,-999.0000,9,  32.8191,2,-999.0000,9,  -999.00,9,  -999.00,9, -999.000,-999.0000,9, -999.000,9,  -999.00,9, -999.000,9, -999.000,9,     9.38,2,     0.09,     4.61,2,     0.02,     0.06,2,     0.01,     0.64,2,     0.01,  -999.00,9,  -999.00, -999.000,9, -999.000,9, -999.000,9, -999.000,9,   -999.0,9,   -999.0,9,   -999.0,9,-999.0000,     -999,9, -999.000,9,  -999.00,9, -999.000,9, -999.000,   -999.0,9,   -999.0, -999.000,9, -999.000, -999.000,9, -999.000,   -999.0,9,   -999.0, -999.000,9, -999.000,9, -999.000,9
  49NZ20140717,   P01,   125,  1,     36, X12J36,2,20140814,2314, 47.0077,-148.0382, 5001,     10.8,2,  15.2227,2,  15.22120,2,  32.8147,2,  32.8156,2,-999.0000,9,   257.22,2,   257.09,2,   97.437,   0.1039,2,    0.223,2,  -999.00,9,   -0.607,1,  283.724,2,     9.44,2,     0.09,     4.58,2,     0.02,     0.06,2,     0.01,     0.64,2,     0.01,  -999.00,9,  -999.00,    2.817,2,    1.680,2,    0.284,2, -999.000,9,   -999.0,9,   -999.0,9,   -999.0,9,-999.0000,     -999,9, -999.000,9,  -999.00,9, -999.000,9, -999.000,   -999.0,9,   -999.0, -999.000,9, -999.000, -999.000,9, -999.000,   -999.0,9,   -999.0, -999.000,9, -999.000,9, -999.000,9
  49NZ20140717,   P01,   125,  1,     35, X12J35,2,20140814,2314, 47.0077,-148.0382, 5001,     50.6,2,   8.8077,2,   8.82165,2,  32.9534,2,  32.9560,2,-999.0000,9,   296.57,2,   296.17,2,   97.881,   0.0857,2,    0.336,2,  -999.00,9,    0.540,1,   16.030,2,     9.91,2,     0.09,     7.31,2,     0.02,     0.20,2,     0.01,     0.82,2,     0.01,  -999.00,9,  -999.00,    3.945,2,    2.291,2,    0.373,2, -999.000,9,   -999.0,9,   -999.0,9,   -999.0,9,-999.0000,     -999,9, -999.000,9,  -999.00,9, -999.000,9, -999.000,   -999.0,9,   -999.0, -999.000,9, -999.000, -999.000,9, -999.000,   -999.0,9,   -999.0, -999.000,9, -999.000,9, -999.000,9
  49NZ20140717,   P01,   125,  1,     34, X12J34,2,20140814,2314, 47.0077,-148.0382, 5001,    101.1,2,   7.8500,2,   7.85100,2,  33.3659,2,  33.3834,2,-999.0000,9,   258.97,2,   257.28,2,   99.409,   0.0237,2,    0.177,2,  -999.00,9,    0.618,1,    0.584,2,    16.90,2,     0.09,    14.07,2,     0.03,     0.03,2,     0.01,     1.13,2,     0.01,  -999.00,9,  -999.00,    3.937,2,    2.246,2,    0.325,2, -999.000,9,   -999.0,9,   -999.0,9,   -999.0,9,-999.0000,     -999,9, -999.000,9,  -999.00,9, -999.000,9, -999.000,   -999.0,9,   -999.0, -999.000,9, -999.000, -999.000,9, -999.000,   -999.0,9,   -999.0, -999.000,9, -999.000,9, -999.000,9
  49NZ20140717,   P01,   125,  1,     33, X12J33,2,20140814,2314, 47.0077,-148.0382, 5001,    152.2,2,   7.4367,2,   7.43934,2,  33.8293,2,  33.8307,2,-999.0000,9,   215.39,2,   215.21,2,   99.775,   0.0090,2,    0.020,2,  -999.00,9,    1.337,1,    0.124,2,    29.33,2,     0.09,    20.33,2,     0.03,     0.01,2,     0.01,     1.47,2,     0.01,  -999.00,9,  -999.00,    3.656,2,    2.061,2,    0.249,2, -999.000,9,   -999.0,9,   -999.0,9,   -999.0,9,-999.0000,     -999,9, -999.000,9,  -999.00,9, -999.000,9, -999.000,   -999.0,9,   -999.0, -999.000,9, -999.000, -999.000,9, -999.000,   -999.0,9,   -999.0, -999.000,9, -999.000,9, -999.000,9
  49NZ20140717,   P01,   125,  1,     32, X12J32,2,20140814,2314, 47.0077,-148.0382, 5001,    201.6,2,   6.3656,2,   6.36442,2,  33.8353,2,  33.8368,2,-999.0000,9,   182.61,2,   182.07,2,   99.673,   0.0131,2,    0.023,2,  -999.00,9,    1.896,1,    0.000,2,    42.60,2,     0.10,    25.68,2,     0.04,     0.01,2,     0.01,     1.86,2,     0.01,  -999.00,9,  -999.00,    3.507,2,    1.929,2,    0.240,2, -999.000,9,   -999.0,9,   -999.0,9,   -999.0,9,-999.0000,     -999,9, -999.000,9,  -999.00,9, -999.000,9, -999.000,   -999.0,9,   -999.0, -999.000,9, -999.000, -999.000,9, -999.000,   -999.0,9,   -999.0, -999.000,9, -999.000,9, -999.000,9
  49NZ20140717,   P01,   125,  1,     31, X12J31,2,20140814,2314, 47.0077,-148.0382, 5001,    251.1,2,   5.6240,2,   5.62524,2,  33.8457,2,  33.8468,2,-999.0000,9,   154.63,2,   154.38,2,   99.719,   0.0113,2,    0.019,2,  -999.00,9,    2.151,1,    0.000,2,    54.05,2,     0.11,    29.76,2,     0.04,     0.01,2,     0.01,     2.15,2,     0.01,  -999.00,9,  -999.00,    3.258,2,    1.766,2,    0.205,2, -999.000,9,   -999.0,9,   -999.0,9,   -999.0,9,-999.0000,     -999,9, -999.000,9,  -999.00,9, -999.000,9, -999.000,   -999.0,9,   -999.0, -999.000,9, -999.000, -999.000,9, -999.000,   -999.0,9,   -999.0, -999.000,9, -999.000,9, -999.000,9
  49NZ20140717,   P01,   125,  1,     30, X12J30,2,20140814,2314, 47.0077,-148.0382, 5001,    279.8,2,   5.2092,2,   5.20890,2,  33.8403,2,  33.8407,2,-999.0000,9,   142.05,2,   141.97,2,   99.747,   0.0101,2,    0.019,2,  -999.00,9,    2.366,1,    0.000,2,    59.59,2,     0.11,    31.65,2,     0.04,     0.01,2,     0.01,     2.28,2,     0.01,  -999.00,9,  -999.00,    3.156,2,    1.703,2,    0.201,2, -999.000,9,   -999.0,9,   -999.0,9,   -999.0,9,-999.0000,     -999,9, -999.000,9,  -999.00,9, -999.000,9, -999.000,   -999.0,9,   -999.0, -999.000,9, -999.000, -999.000,9, -999.000,   -999.0,9,   -999.0, -999.000,9, -999.000,9, -999.000,9
  49NZ20140717,   P01,   125,  1,     29, X12J29,2,20140814,2314, 47.0077,-148.0382, 5001,    370.6,2,   4.3637,2,   4.36361,2,  33.8920,2,  33.8922,2,-999.0000,9,    94.62,2,    94.82,2,   99.778,   0.0089,2,    0.020,2,  -999.00,9,    2.650,1,    0.000,2,    78.07,2,     0.12,    37.46,2,     0.05,     0.01,2,     0.01,     2.67,2,     0.01,  -999.00,9,  -999.00,    2.546,2,    1.335,2,    0.177,2, -999.000,9,   -999.0,9,   -999.0,9,   -999.0,9,-999.0000,     -999,9, -999.000,9,  -999.00,9, -999.000,9, -999.000,   -999.0,9,   -999.0, -999.000,9, -999.000, -999.000,9, -999.000,   -999.0,9,   -999.0, -999.000,9, -999.000,9, -999.000,9
  49NZ20140717,   P01,   125,  1,     28, X12J28,2,20140814,2314, 47.0077,-148.0382, 5001,    468.8,2,   4.1012,2,   4.10149,2,  33.9985,2,  33.9992,2,-999.0000,9,    63.29,2,    63.77,2,   99.864,   0.0054,2,    0.020,2,  -999.00,9,    2.795,1,    0.000,2,    92.47,2,     0.13,    40.24,2,     0.05,     0.01,2,     0.01,     2.87,2,     0.01,  -999.00,9,  -999.00,    1.817,2,    0.929,2,    0.113,2, -999.000,9,   -999.0,9,   -999.0,9,   -999.0,9,-999.0000,     -999,9, -999.000,9,  -999.00,9, -999.000,9, -999.000,   -999.0,9,   -999.0, -999.000,9, -999.000, -999.000,9, -999.000,   -999.0,9,   -999.0, -999.000,9, -999.000,9, -999.000,9
  49NZ20140717,   P01,   125,  1,     27, X12J27,2,20140814,2314, 47.0077,-148.0382, 5001,    570.3,2,   3.8815,2,   3.88235,2,  34.0930,2,  34.0914,2,-999.0000,9,    41.63,2,    42.45,2,   99.934,   0.0027,2,    0.020,2,  -999.00,9,    2.944,1,    0.000,2,   105.21,2,     0.14,    42.02,2,     0.05,     0.00,2,     0.01,     2.99,2,     0.01,  -999.00,9,  -999.00,    1.255,2,    0.619,2,    0.092,2, -999.000,9,   -999.0,9,   -999.0,9,   -999.0,9,-999.0000,     -999,9, -999.000,9,  -999.00,9, -999.000,9, -999.000,   -999.0,9,   -999.0, -999.000,9, -999.000, -999.000,9, -999.000,   -999.0,9,   -999.0, -999.000,9, -999.000,9, -999.000,9
  49NZ20140717,   P01,   125,  1,     26, X12J26,2,20140814,2314, 47.0077,-148.0382, 5001,    670.7,2,   3.6842,2,   3.68403,2,  34.1761,2,  34.1762,2,-999.0000,9,    30.19,2,    30.39,2,   99.879,   0.0048,2,    0.020,2,  -999.00,9,    3.046,1,    0.000,2,   115.58,2,     0.15,    42.74,2,     0.05,     0.00,2,     0.01,     3.04,2,     0.01,  -999.00,9,  -999.00,    0.809,2,    0.382,2,    0.047,2, -999.000,9,   -999.0,9,   -999.0,9,   -999.0,9,-999.0000,     -999,9, -999.000,9,  -999.00,9, -999.000,9, -999.000,   -999.0,9,   -999.0, -999.000,9, -999.000, -999.000,9, -999.000,   -999.0,9,   -999.0, -999.000,9, -999.000,9, -999.000,9
  49NZ20140717,   P01,   125,  1,     25, X12J25,2,20140814,2314, 47.0077,-148.0382, 5001,    770.2,2,   3.4695,2,   3.46974,2,  34.2502,2,  34.2503,2,-999.0000,9,    25.93,2,    26.00,2,   99.934,   0.0027,2,    0.019,2,  -999.00,9,    3.051,1,    0.000,2,   125.07,2,     0.15,    43.15,2,     0.05,     0.00,2,     0.01,     3.08,2,     0.01,  -999.00,9,  -999.00,    0.503,2,    0.229,2,    0.025,2, -999.000,9,   -999.0,9,   -999.0,9,   -999.0,9,-999.0000,     -999,9, -999.000,9,  -999.00,9, -999.000,9, -999.000,   -999.0,9,   -999.0, -999.000,9, -999.000, -999.000,9, -999.000,   -999.0,9,   -999.0, -999.000,9, -999.000,9, -999.000,9
  49NZ20140717,   P01,   125,  1,     24, X12J24,2,20140814,2314, 47.0077,-148.0382, 5001,    869.5,2,   3.2677,2,   3.26756,2,  34.3035,2,  34.3033,2,-999.0000,9,    23.55,2,    23.41,2,   99.897,   0.0041,2,    0.018,2,  -999.00,9,    3.199,1,    0.000,2,   132.37,2,     0.16,    43.52,2,     0.05,     0.00,2,     0.01,     3.10,2,     0.01,  -999.00,9,  -999.00,    0.316,2,    0.140,2,    0.016,2, -999.000,9,   -999.0,9,   -999.0,9,   -999.0,9,-999.0000,     -999,9, -999.000,9,  -999.00,9, -999.000,9, -999.000,   -999.0,9,   -999.0, -999.000,9, -999.000, -999.000,9, -999.000,   -999.0,9,   -999.0, -999.000,9, -999.000,9, -999.000,9
  49NZ20140717,   P01,   125,  1,     23, X12J23,2,20140814,2314, 47.0077,-148.0382, 5001,    969.3,2,   3.0836,2,   3.08401,2,  34.3461,2,  34.3463,2,-999.0000,9,    21.51,2,    21.04,2,   99.897,   0.0041,2,    0.018,2,  -999.00,9,    3.193,1,    0.000,2,   138.91,2,     0.16,    43.82,2,     0.06,     0.00,2,     0.01,     3.13,2,     0.01,  -999.00,9,  -999.00,    0.188,2,    0.080,2,    0.000,2, -999.000,9,   -999.0,9,   -999.0,9,   -999.0,9,-999.0000,     -999,9, -999.000,9,  -999.00,9, -999.000,9, -999.000,   -999.0,9,   -999.0, -999.000,9, -999.000, -999.000,9, -999.000,   -999.0,9,   -999.0, -999.000,9, -999.000,9, -999.000,9
  49NZ20140717,   P01,   125,  1,     22, X12J22,2,20140814,2314, 47.0077,-148.0382, 5001,   1129.1,2,   2.8085,2,   2.80780,2,  34.4012,2,  34.4012,2,-999.0000,9,    18.67,2,    17.97,2,   99.910,   0.0036,2,    0.017,2,  -999.00,9,    3.283,1,    0.000,2,   148.24,2,     0.17,    44.25,2,     0.06,     0.00,2,     0.01,     3.15,2,     0.01,  -999.00,9,  -999.00,    0.082,2,    0.033,2,    0.000,2, -999.000,9,   -999.0,9,   -999.0,9,   -999.0,9,-999.0000,     -999,9, -999.000,9,  -999.00,9, -999.000,9, -999.000,   -999.0,9,   -999.0, -999.000,9, -999.000, -999.000,9, -999.000,   -999.0,9,   -999.0, -999.000,9, -999.000,9, -999.000,9
  49NZ20140717,   P01,   125,  1,     21, X12J21,2,20140814,2314, 47.0077,-148.0382, 5001,   1329.8,2,   2.5605,2,   2.56039,2,  34.4549,2,  34.4555,2,-999.0000,9,    17.33,2,    16.23,2,   99.923,   0.0031,2,    0.017,2,  -999.00,9,    3.307,1,    0.000,2,   157.49,2,     0.17,    44.65,2,     0.06,     0.00,2,     0.01,     3.17,2,     0.01,  -999.00,9,  -999.00,    0.029,2,    0.009,2,    0.000,2, -999.000,9,   -999.0,9,   -999.0,9,   -999.0,9,-999.0000,     -999,9, -999.000,9,  -999.00,9, -999.000,9, -999.000,   -999.0,9,   -999.0, -999.000,9, -999.000, -999.000,9, -999.000,   -999.0,9,   -999.0, -999.000,9, -999.000,9, -999.000,9
  49NZ20140717,   P01,   125,  1,     20, X12J20,2,20140814,2314, 47.0077,-148.0382, 5001,   1530.1,2,   2.3447,2,   2.34407,2,  34.5019,2,  34.5021,2,-999.0000,9,    20.42,2,    19.36,2,   99.923,   0.0031,2,    0.016,2,  -999.00,9,    3.315,1,    0.000,2,   164.70,2,     0.18,    44.67,2,     0.06,     0.00,2,     0.01,     3.15,2,     0.01,  -999.00,9,  -999.00,    0.011,2,    0.001,2,    0.000,2, -999.000,9,   -999.0,9,   -999.0,9,   -999.0,9,-999.0000,     -999,9, -999.000,9,  -999.00,9, -999.000,9, -999.000,   -999.0,9,   -999.0, -999.000,9, -999.000, -999.000,9, -999.000,   -999.0,9,   -999.0, -999.000,9, -999.000,9, -999.000,9
  49NZ20140717,   P01,   125,  1,     19, X12J19,2,20140814,2314, 47.0077,-148.0382, 5001,   1730.1,2,   2.1652,2,   2.16507,2,  34.5404,2,  34.5405,2,-999.0000,9,    29.42,2,    28.70,2,   99.923,   0.0031,2,    0.015,2,  -999.00,9,    3.242,1,    0.000,2,   169.62,2,     0.18,    44.25,2,     0.06,     0.00,2,     0.01,     3.11,2,     0.01,  -999.00,9,  -999.00,    0.000,2,    0.000,2,    0.000,2, -999.000,9,   -999.0,9,   -999.0,9,   -999.0,9,-999.0000,     -999,9, -999.000,9,  -999.00,9, -999.000,9, -999.000,   -999.0,9,   -999.0, -999.000,9, -999.000, -999.000,9, -999.000,   -999.0,9,   -999.0, -999.000,9, -999.000,9, -999.000,9
  49NZ20140717,   P01,   125,  1,     18, X12J18,2,20140814,2314, 47.0077,-148.0382, 5001,   1929.9,2,   2.0193,2,   2.01895,2,  34.5698,2,  34.5701,2,-999.0000,9,    42.42,2,    42.09,2,   99.957,   0.0017,2,    0.013,2,  -999.00,9,    3.243,1,    0.000,2,   172.30,2,     0.18,    43.34,2,     0.05,     0.00,2,     0.01,     3.05,2,     0.01,  -999.00,9,  -999.00,    0.001,2,    0.000,2,    0.000,2, -999.000,9,   -999.0,9,   -999.0,9,   -999.0,9,-999.0000,     -999,9, -999.000,9,  -999.00,9, -999.000,9, -999.000,   -999.0,9,   -999.0, -999.000,9, -999.000, -999.000,9, -999.000,   -999.0,9,   -999.0, -999.000,9, -999.000,9, -999.000,9
  49NZ20140717,   P01,   125,  1,     17, X12J17,2,20140814,2314, 47.0077,-148.0382, 5001,   2129.4,2,   1.9061,2,   1.90589,2,  34.5926,2,  34.5931,2,-999.0000,9,    55.22,2,    55.08,2,   99.955,   0.0018,2,    0.012,2,  -999.00,9,    3.107,1,    0.000,2,   173.87,2,     0.18,    42.55,2,     0.05,     0.00,2,     0.01,     2.99,2,     0.01,  -999.00,9,  -999.00,    0.000,2,    0.000,2,    0.000,2, -999.000,9,   -999.0,9,   -999.0,9,   -999.0,9,-999.0000,     -999,9, -999.000,9,  -999.00,9, -999.000,9, -999.000,   -999.0,9,   -999.0, -999.000,9, -999.000, -999.000,9, -999.000,   -999.0,9,   -999.0, -999.000,9, -999.000,9, -999.000,9
  49NZ20140717,   P01,   125,  1,     16, X12J16,2,20140814,2314, 47.0077,-148.0382, 5001,   2330.5,2,   1.8072,2,   1.80728,2,  34.6117,2,  34.6122,2,-999.0000,9,    68.13,2,    67.95,2,   99.918,   0.0033,2,    0.011,2,  -999.00,9,    3.100,1,    0.000,2,   174.46,2,     0.18,    41.78,2,     0.05,     0.00,2,     0.01,     2.93,2,     0.01,  -999.00,9,  -999.00,    0.001,2,    0.000,2,    0.000,2, -999.000,9,   -999.0,9,   -999.0,9,   -999.0,9,-999.0000,     -999,9, -999.000,9,  -999.00,9, -999.000,9, -999.000,   -999.0,9,   -999.0, -999.000,9, -999.000, -999.000,9, -999.000,   -999.0,9,   -999.0, -999.000,9, -999.000,9, -999.000,9
  49NZ20140717,   P01,   125,  1,     15, X12J15,2,20140814,2314, 47.0077,-148.0382, 5001,   2531.7,2,   1.7252,2,   1.72503,2,  34.6276,2,  34.6284,2,-999.0000,9,    79.63,2,    79.92,2,   99.938,   0.0025,2,    0.010,2,  -999.00,9,    3.013,1,    0.000,2,   174.60,2,     0.18,    41.08,2,     0.05,     0.00,2,     0.01,     2.88,2,     0.01,  -999.00,9,  -999.00,    0.002,2,    0.000,2,    0.000,2, -999.000,9,   -999.0,9,   -999.0,9,   -999.0,9,-999.0000,     -999,9, -999.000,9,  -999.00,9, -999.000,9, -999.000,   -999.0,9,   -999.0, -999.000,9, -999.000, -999.000,9, -999.000,   -999.0,9,   -999.0, -999.000,9, -999.000,9, -999.000,9
  49NZ20140717,   P01,   125,  1,     14, X12J14,2,20140814,2314, 47.0077,-148.0382, 5001,   2730.7,2,   1.6539,2,   1.65389,2,  34.6403,2,  34.6411,2,-999.0000,9,    91.89,2,    92.24,2,   99.955,   0.0018,2,    0.009,2,  -999.00,9,    2.881,1,    0.000,2,   172.79,2,     0.18,    40.14,2,     0.05,     0.00,2,     0.01,     2.81,2,     0.01,  -999.00,9,  -999.00,    0.001,2,    0.000,2,    0.000,2, -999.000,9,   -999.0,9,   -999.0,9,   -999.0,9,-999.0000,     -999,9, -999.000,9,  -999.00,9, -999.000,9, -999.000,   -999.0,9,   -999.0, -999.000,9, -999.000, -999.000,9, -999.000,   -999.0,9,   -999.0, -999.000,9, -999.000,9, -999.000,9
  49NZ20140717,   P01,   125,  1,     13, X12113,2,20140814,2314, 47.0077,-148.0382, 5001,   2931.3,2,   1.5965,2,   1.59641,2,  34.6511,2,  34.6521,2,-999.0000,9,   102.82,2,   102.91,2,   99.934,   0.0027,2,    0.008,2,  -999.00,9,    2.795,1,    0.000,2,   171.68,2,     0.18,    39.46,2,     0.05,     0.00,2,     0.01,     2.76,2,     0.01,  -999.00,9,  -999.00,    0.000,2,    0.000,2,    0.000,2, -999.000,9,   -999.0,9,   -999.0,9,   -999.0,9,-999.0000,     -999,9, -999.000,9,  -999.00,9, -999.000,9, -999.000,   -999.0,9,   -999.0, -999.000,9, -999.000, -999.000,9, -999.000,   -999.0,9,   -999.0, -999.000,9, -999.000,9, -999.000,9
  49NZ20140717,   P01,   125,  1,     12, X12J12,2,20140814,2314, 47.0077,-148.0382, 5001,   3171.3,2,   1.5469,2,   1.54694,2,  34.6610,2,  34.6614,2,-999.0000,9,   114.39,2,   114.26,2,   99.934,   0.0027,2,    0.008,2,  -999.00,9,    2.738,1,    0.000,2,   169.87,2,     0.18,    38.72,2,     0.05,     0.00,2,     0.01,     2.71,2,     0.01,  -999.00,9,  -999.00,    0.000,2,    0.000,2,    0.000,2, -999.000,9,   -999.0,9,   -999.0,9,   -999.0,9,-999.0000,     -999,9, -999.000,9,  -999.00,9, -999.000,9, -999.000,   -999.0,9,   -999.0, -999.000,9, -999.000, -999.000,9, -999.000,   -999.0,9,   -999.0, -999.000,9, -999.000,9, -999.000,9
  49NZ20140717,   P01,   125,  1,     11, X12J11,2,20140814,2314, 47.0077,-148.0382, 5001,   3421.2,2,   1.5128,2,   1.51280,2,  34.6688,2,  34.6692,2,-999.0000,9,   123.98,2,   123.97,2,   99.942,   0.0023,2,    0.007,2,  -999.00,9,    2.692,1,    0.000,2,   168.17,2,     0.18,    38.10,2,     0.05,     0.00,2,     0.01,     2.66,2,     0.01,  -999.00,9,  -999.00,    0.003,2,    0.000,2,    0.000,2, -999.000,9,   -999.0,9,   -999.0,9,   -999.0,9,-999.0000,     -999,9, -999.000,9,  -999.00,9, -999.000,9, -999.000,   -999.0,9,   -999.0, -999.000,9, -999.000, -999.000,9, -999.000,   -999.0,9,   -999.0, -999.000,9, -999.000,9, -999.000,9
  49NZ20140717,   P01,   125,  1,     10, X12J10,2,20140814,2314, 47.0077,-148.0382, 5001,   3669.9,2,   1.4960,2,   1.49604,2,  34.6743,2,  34.6748,2,-999.0000,9,   131.18,2,   131.03,2,   99.940,   0.0024,2,    0.006,2,  -999.00,9,    2.665,1,    0.000,2,   167.33,2,     0.18,    37.57,2,     0.05,     0.00,2,     0.01,     2.62,2,     0.01,  -999.00,9,  -999.00,    0.000,2,    0.000,2,    0.000,2, -999.000,9,   -999.0,9,   -999.0,9,   -999.0,9,-999.0000,     -999,9, -999.000,9,  -999.00,9, -999.000,9, -999.000,   -999.0,9,   -999.0, -999.000,9, -999.000, -999.000,9, -999.000,   -999.0,9,   -999.0, -999.000,9, -999.000,9, -999.000,9