BOTTLE,20230904JAMSTECRIGC
EXPOCODE,SECT,STNNBR,CASTNO,SAMPNO,BTLNBR,BTLNBR_FLAG_W,DATE,TIME,LATITUDE,LONGITUDE,DEPTH,CTDPRS,CTDPRS_FLAG_W,CTDTMP,CTDTMP_FLAG_W,SBE35,SBE35_FLAG_W,CTDSAL,CTDSAL_FLAG_W,SALNTY,SALNTY_FLAG_W,DNSSAL,DNSSAL_FLAG_W,CTDOXY,CTDOXY_FLAG_W,OXYGEN,OXYGEN_FLAG_W,XMISS,XMISSCP,XMISS_FLAG_W,FLUOR,FLUOR_FLAG_W,CHLORA,CHLORA_FLAG_W,CDOM,CDOM_FLAG_W,PAR,PAR_FLAG_W,SILCAT,SILCAT_FLAG_W,SILUNC,NITRAT,NITRAT_FLAG_W,NRAUNC,NITRIT,NITRIT_FLAG_W,NRIUNC,PHSPHT,PHSPHT_FLAG_W,PHPUNC,AMMONIA,AMMONIA_FLAG_W,NH4UNC,CFC-11,CFC-11_FLAG_W,CFC-12,CFC-12_FLAG_W,CFC113,CFC113_FLAG_W,SF6,SF6_FLAG_W,TCARBN,TCARBN_FLAG_W,ALKALI,ALKALI_FLAG_W,ALKALI_POT,ALKALI_POT_FLAG_W,PH_TOT,PH_TMP,PH_TOT_FLAG_W,CALCIUM,CALCIUM_FLAG_W,DOC,DOC_FLAG_W,DELC13,DELC13_FLAG_W,C13ERR,DELC14,DELC14_FLAG_W,C14ERR,CS-134,CS-134_FLAG_W,CS134ER,CS-137,CS-137_FLAG_W,CS137ER,I-129,I-129_FLAG_W,I-129ER,CDOM-325,CDOM-325_FLAG_W,CDOM-370,CDOM-370_FLAG_W,CDOM-443,CDOM-443_FLAG_W
,,,,,,,,UTC,DEG,DEG,METERS,DBAR,,ITS-90,,ITS-90,,PSS-78,,PSS-78,,G/KG,,UMOL/KG,,UMOL/KG,,%TRANS,/METER,,MG/CUM,,MG/CUM,,MG/CUM,,UE/SQM/S,,UMOL/KG,,UMOL/KG,UMOL/KG,,UMOL/KG,UMOL/KG,,UMOL/KG,UMOL/KG,,UMOL/KG,UMOL/KG,,UMOL/KG,PMOL/KG,,PMOL/KG,,PMOL/KG,,FMOL/KG,,UMOL/KG,,UMOL/KG,,UMOL/KG,,,DEG C,,MMOL/KG,,UMOL/KG,,/MILLE,,/MILLE,/MILLE,,/MILLE,MBQ/KG,,MBQ/KG,MBQ/KG,,MBQ/KG,,,,/METER,,/METER,,/METER,
  49NZ20140717,   P01,    93,  1,      0,   -999,9,20140803,1205, 46.9969, 176.0940, 5693,   -999.0,9,-999.0000,9,-999.00000,9,-999.0000,9,  32.8216,2,-999.0000,9,  -999.00,9,  -999.00,9, -999.000,-999.0000,9, -999.000,9,     0.22,2, -999.000,9, -999.000,9,    21.81,2,     0.09,    12.84,2,     0.14,     0.18,2,     0.01,     1.25,2,     0.01,  -999.00,9,  -999.00, -999.000,9, -999.000,9, -999.000,9, -999.000,9,   -999.0,9,   -999.0,9,   -999.0,9,-999.0000,     -999,9, -999.000,9,  -999.00,9, -999.000,9, -999.000,   -999.0,9,   -999.0, -999.000,9, -999.000, -999.000,9, -999.000,   -999.0,9,   -999.0,    0.232,2,    0.127,2,    0.055,2
  49NZ20140717,   P01,    93,  1,     36, X12J36,2,20140803,1205, 46.9969, 176.0940, 5693,     10.6,2,  11.4694,2,  11.46609,2,  32.8582,2,  32.8522,2,-999.0000,9,   281.98,2,   282.48,2,   97.244,   0.1118,2,    0.325,2,     0.25,2,   -0.433,1,    0.508,2,    21.55,2,     0.09,    12.53,2,     0.02,     0.16,2,     0.01,     1.22,2,     0.01,  -999.00,9,  -999.00,    3.573,2,    1.975,2,    0.399,2, -999.000,9,   2050.1,2,   2221.1,2,   -999.0,9,   7.8181,       25,6, -999.000,9,    55.09,2, -999.000,9, -999.000,   -999.0,9,   -999.0, -999.000,9, -999.000, -999.000,9, -999.000,   -999.0,9,   -999.0,    0.186,2,    0.092,2,    0.042,2
  49NZ20140717,   P01,    93,  1,     35, X12J35,2,20140803,1205, 46.9969, 176.0940, 5693,     50.6,2,   4.3840,2,   4.38505,2,  32.9451,2,  32.9495,2,-999.0000,9,   327.23,2,   327.72,2,   96.905,   0.1258,2,    0.542,2,     0.45,2,    0.834,1,    0.000,2,    28.67,2,     0.09,    18.07,2,     0.03,     0.16,2,     0.01,     1.57,2,     0.01,  -999.00,9,  -999.00,    5.139,2,    2.709,2,    0.536,2, -999.000,9,   2092.6,6,   2222.3,2,   -999.0,9,   7.7272,       25,2, -999.000,9,    53.27,2, -999.000,9, -999.000,   -999.0,9,   -999.0, -999.000,9, -999.000, -999.000,9, -999.000,   -999.0,9,   -999.0,    0.371,2,    0.207,2,    0.097,2
  49NZ20140717,   P01,    93,  1,     34, X12J34,2,20140803,1205, 46.9969, 176.0940, 5693,    100.7,2,   4.0384,2,   4.03865,2,  33.0228,2,  33.0244,2,-999.0000,9,   310.27,2,   311.07,2,   99.429,   0.0229,2,    0.179,2,     0.16,2,    0.747,1,    0.000,2,    27.63,2,     0.09,    18.70,2,     0.03,     0.38,2,     0.01,     1.56,2,     0.01,  -999.00,9,  -999.00,    5.099,2,    2.691,2,    0.509,2, -999.000,9,   2103.7,2,   2224.4,2,   -999.0,9,   7.7006,       25,2, -999.000,9,    48.64,2, -999.000,9, -999.000,   -999.0,9,   -999.0, -999.000,9, -999.000, -999.000,9, -999.000,   -999.0,9,   -999.0,    0.288,2,    0.157,2,    0.073,2
  49NZ20140717,   P01,    93,  1,     33, X12J33,2,20140803,1205, 46.9969, 176.0940, 5693,    150.5,2,   4.4365,2,   4.43583,2,  33.5885,2,  33.5858,2,-999.0000,9,   242.02,2,   242.08,2,   99.730,   0.0108,2,    0.025,2,     0.02,2,    1.536,1,    0.000,2,    41.34,2,     0.10,    24.37,2,     0.04,     0.01,2,     0.01,     1.82,2,     0.01,  -999.00,9,  -999.00,    4.375,2,    2.319,2,    0.366,2, -999.000,9,   2168.0,2,   2255.8,2,   -999.0,9,   7.6030,       25,6, -999.000,9,    47.81,2, -999.000,9, -999.000,   -999.0,9,   -999.0, -999.000,9, -999.000, -999.000,9, -999.000,   -999.0,9,   -999.0, -999.000,9, -999.000,9, -999.000,9
  49NZ20140717,   P01,    93,  1,     32, X12J32,2,20140803,1205, 46.9969, 176.0940, 5693,    200.7,2,   4.0235,2,   4.02469,2,  33.6745,2,  33.6765,2,-999.0000,9,   182.08,2,   180.76,2,   99.745,   0.0102,2,    0.011,2,     0.01,2,    2.089,1,    0.000,2,    58.77,2,     0.11,    30.54,2,     0.04,     0.00,2,     0.01,     2.24,2,     0.01,  -999.00,9,  -999.00,    3.751,2,    1.955,2,    0.290,2, -999.000,9,   2219.4,2,   2269.4,6,   -999.0,9,   7.4934,       25,2, -999.000,9,    44.84,2, -999.000,9, -999.000,   -999.0,9,   -999.0, -999.000,9, -999.000, -999.000,9, -999.000,   -999.0,9,   -999.0,    0.269,2,    0.143,2,    0.056,2
  49NZ20140717,   P01,    93,  1,     31, X12J31,2,20140803,1205, 46.9969, 176.0940, 5693,    249.5,2,   3.8922,2,   3.89329,2,  33.7522,2,  33.7528,2,-999.0000,9,   137.31,2,   137.65,2,   99.784,   0.0087,2,    0.011,2,     0.00,2,    2.373,1,    0.000,2,    70.97,2,     0.12,    34.58,2,     0.05,     0.00,2,     0.01,     2.52,2,     0.01,  -999.00,9,  -999.00,    3.231,2,    1.665,2,    0.244,2, -999.000,9,   2254.1,2,   2280.7,2,   -999.0,9,   7.4195,       25,2, -999.000,9,    44.01,2, -999.000,9, -999.000,   -999.0,9,   -999.0, -999.000,9, -999.000, -999.000,9, -999.000,   -999.0,9,   -999.0, -999.000,9, -999.000,9, -999.000,9
  49NZ20140717,   P01,    93,  1,     30, X12J30,2,20140803,1205, 46.9969, 176.0940, 5693,    299.6,2,   3.8769,2,   3.87657,2,  33.8448,2,  33.8436,2,-999.0000,9,   102.17,2,   102.49,2,   99.842,   0.0063,2,    0.013,2,  -999.00,9,    2.566,1,    0.000,2,    81.62,2,     0.13,    37.61,2,     0.05,     0.00,2,     0.01,     2.71,2,     0.01,  -999.00,9,  -999.00,    2.689,2,    1.367,2,    0.191,2, -999.000,9,   2281.9,2,   2289.6,2,   -999.0,9,   7.3659,       25,2, -999.000,9,    43.48,2, -999.000,9, -999.000,   -999.0,9,   -999.0, -999.000,9, -999.000, -999.000,9, -999.000,   -999.0,9,   -999.0, -999.000,9, -999.000,9, -999.000,9
  49NZ20140717,   P01,    93,  1,     29, X12J29,2,20140803,1205, 46.9969, 176.0940, 5693,    401.6,2,   3.9036,2,   3.90344,2,  34.0073,2,  34.0068,2,-999.0000,9,    61.99,2,    62.77,2,   99.801,   0.0080,2,    0.014,2,  -999.00,9,    2.768,1,    0.000,2,    97.37,2,     0.14,    40.52,2,     0.05,     0.00,2,     0.01,     2.91,2,     0.01,  -999.00,9,  -999.00,    1.769,2,    0.876,2,    0.110,2, -999.000,9,   2314.7,2,   2310.0,2,   -999.0,9,   7.3268,       25,2, -999.000,9,    43.27,2, -999.000,9, -999.000,   -999.0,9,   -999.0, -999.000,9, -999.000, -999.000,9, -999.000,   -999.0,9,   -999.0, -999.000,9, -999.000,9, -999.000,9
  49NZ20140717,   P01,    93,  1,     28, X12J28,2,20140803,1205, 46.9969, 176.0940, 5693,    500.2,2,   3.7247,2,   3.72439,2,  34.1086,2,  34.1089,2,-999.0000,9,    43.24,2,    43.89,2,   99.864,   0.0055,2,    0.015,2,  -999.00,9,    2.847,1,    0.000,2,   109.77,2,     0.14,    41.92,2,     0.05,     0.00,2,     0.01,     3.00,2,     0.01,  -999.00,9,  -999.00,    1.211,2,    0.581,2,    0.062,2, -999.000,9,   2337.1,2,   2324.7,2,   -999.0,9,   7.3105,       25,2, -999.000,9,    40.93,2, -999.000,9, -999.000,   -999.0,9,   -999.0, -999.000,9, -999.000, -999.000,9, -999.000,   -999.0,9,   -999.0,    0.230,2,    0.121,2,    0.051,2
  49NZ20140717,   P01,    93,  1,     27, X12J27,2,20140803,1205, 46.9969, 176.0940, 5693,    598.9,2,   3.5565,2,   3.55643,2,  34.1871,2,  34.1866,2,-999.0000,9,    35.25,2,    35.46,2,   99.931,   0.0028,2,    0.015,2,  -999.00,9,    2.993,1,    0.000,2,   119.04,2,     0.15,    42.52,2,     0.05,     0.00,2,     0.01,     3.04,2,     0.01,  -999.00,9,  -999.00,    0.846,2,    0.397,2,    0.053,2, -999.000,9,   2349.6,2,   2337.1,2,   -999.0,9,   7.3105,       25,2, -999.000,9,    40.09,2, -999.000,9, -999.000,   -999.0,9,   -999.0, -999.000,9, -999.000, -999.000,9, -999.000,   -999.0,9,   -999.0, -999.000,9, -999.000,9, -999.000,9
  49NZ20140717,   P01,    93,  1,     26, X12J26,2,20140803,1205, 46.9969, 176.0940, 5693,    699.7,2,   3.3333,2,   3.33336,2,  34.2538,2,  34.2529,2,-999.0000,9,    29.50,2,    29.60,2,   99.896,   0.0042,2,    0.014,2,  -999.00,9,    2.972,1,    0.000,2,   128.44,2,     0.15,    43.14,2,     0.05,    -0.01,2,     0.01,     3.09,2,     0.01,  -999.00,9,  -999.00,    0.577,2,    0.265,2,    0.031,2, -999.000,9,   2360.9,6,   2350.0,2,   -999.0,9,   7.3083,       25,2, -999.000,9,    38.51,2, -999.000,9, -999.000,   -999.0,9,   -999.0, -999.000,9, -999.000, -999.000,9, -999.000,   -999.0,9,   -999.0, -999.000,9, -999.000,9, -999.000,9
  49NZ20140717,   P01,    93,  1,     25, X12J25,2,20140803,1205, 46.9969, 176.0940, 5693,    799.8,2,   3.1407,2,   3.14050,2,  34.3081,2,  34.3080,2,-999.0000,9,    28.42,2,    28.43,2,   99.868,   0.0053,2,    0.013,2,  -999.00,9,    3.003,1,    0.000,2,   134.97,2,     0.16,    43.14,2,     0.05,     0.00,2,     0.01,     3.08,2,     0.01,  -999.00,9,  -999.00,    0.403,2,    0.177,2,    0.004,2, -999.000,9,   2369.1,2,   2361.0,2,   -999.0,9,   7.3127,       25,2, -999.000,9,    39.38,2, -999.000,9, -999.000,   -999.0,9,   -999.0, -999.000,9, -999.000, -999.000,9, -999.000,   -999.0,9,   -999.0,    0.230,2,    0.120,2,    0.051,2
  49NZ20140717,   P01,    93,  1,     24, X12J24,2,20140803,1205, 46.9969, 176.0940, 5693,    899.8,2,   2.9827,2,   2.98262,2,  34.3462,2,  34.3461,2,-999.0000,9,    28.56,2,    28.47,2,   99.920,   0.0032,2,    0.013,2,  -999.00,9,    3.046,1,    0.000,2,   140.54,2,     0.16,    43.29,2,     0.05,     0.00,2,     0.01,     3.10,2,     0.01,  -999.00,9,  -999.00,    0.309,2,    0.135,2,    0.000,2, -999.000,9,   2374.3,2,   2368.1,2,   -999.0,9,   7.3189,       25,6, -999.000,9,    38.62,2, -999.000,9, -999.000,   -999.0,9,   -999.0, -999.000,9, -999.000, -999.000,9, -999.000,   -999.0,9,   -999.0, -999.000,9, -999.000,9, -999.000,9
  49NZ20140717,   P01,    93,  1,     23, X12J23,2,20140803,1205, 46.9969, 176.0940, 5693,   1000.0,2,   2.8016,2,   2.80257,2,  34.3854,2,  34.3858,2,-999.0000,9,    28.47,2,    28.39,2,   99.898,   0.0041,2,    0.012,2,  -999.00,9,    3.194,1,    0.000,2,   146.87,2,     0.17,    43.47,2,     0.05,    -0.01,2,     0.01,     3.10,2,     0.01,  -999.00,9,  -999.00,    0.225,2,    0.098,2,    0.000,2, -999.000,9,   2379.2,2,   2375.1,2,   -999.0,9,   7.3230,       25,2, -999.000,9,    37.75,2, -999.000,9, -999.000,   -999.0,9,   -999.0, -999.000,9, -999.000, -999.000,9, -999.000,   -999.0,9,   -999.0,    0.195,2,    0.097,2,    0.036,2
  49NZ20140717,   P01,    93,  1,     22, X12J22,2,20140803,1205, 46.9969, 176.0940, 5693,   1200.2,2,   2.5264,2,   2.52591,2,  34.4461,2,  34.4473,2,-999.0000,9,    31.18,2,    31.22,2,   99.920,   0.0032,2,    0.011,2,  -999.00,9,    3.139,1,    0.000,2,   155.99,2,     0.17,    43.48,2,     0.05,    -0.01,2,     0.01,     3.10,2,     0.01,  -999.00,9,  -999.00,    0.128,2,    0.055,2,    0.000,2, -999.000,9,   2387.3,2,   2386.7,6,   -999.0,9,   7.3335,       25,2, -999.000,9,  -999.00,9, -999.000,9, -999.000,   -999.0,9,   -999.0, -999.000,9, -999.000, -999.000,9, -999.000,   -999.0,9,   -999.0, -999.000,9, -999.000,9, -999.000,9
  49NZ20140717,   P01,    93,  1,     21, X12J21,2,20140803,1205, 46.9969, 176.0940, 5693,   1399.9,2,   2.3237,2,   2.32395,2,  34.4941,2,  34.4944,2,-999.0000,9,    37.70,2,    37.59,2,   99.911,   0.0035,2,    0.010,2,  -999.00,9,    3.087,1,    0.000,2,   161.77,2,     0.17,    43.22,2,     0.05,    -0.01,2,     0.01,     3.07,2,     0.01,  -999.00,9,  -999.00,    0.069,2,    0.032,2,    0.000,2, -999.000,9,   2390.1,2,   2394.8,2,   -999.0,9,   7.3525,       25,2, -999.000,9,    37.72,2, -999.000,9, -999.000,   -999.0,9,   -999.0, -999.000,9, -999.000, -999.000,9, -999.000,   -999.0,9,   -999.0, -999.000,9, -999.000,9, -999.000,9
  49NZ20140717,   P01,    93,  1,     20, X12J20,2,20140803,1205, 46.9969, 176.0940, 5693,   1598.8,2,   2.1563,2,   2.15626,2,  34.5328,2,  34.5327,2,-999.0000,9,    43.40,2,    43.48,2,   99.911,   0.0035,2,    0.010,2,  -999.00,9,    3.107,1,    0.000,2,   166.72,2,     0.18,    42.93,2,     0.05,     0.00,2,     0.01,     3.04,2,     0.01,  -999.00,9,  -999.00,    0.030,2,    0.013,2,    0.000,2, -999.000,9,   2387.2,2,   2399.6,2,   -999.0,9,   7.3652,       25,6, -999.000,9,    37.14,2, -999.000,9, -999.000,   -999.0,9,   -999.0, -999.000,9, -999.000, -999.000,9, -999.000,   -999.0,9,   -999.0, -999.000,9, -999.000,9, -999.000,9
  49NZ20140717,   P01,    93,  1,     19, X12J19,2,20140803,1205, 46.9969, 176.0940, 5693,   1801.0,2,   2.0204,2,   2.02027,2,  34.5645,2,  34.5647,2,-999.0000,9,    55.13,2,    55.24,2,   99.924,   0.0030,2,    0.008,2,  -999.00,9,    3.003,1,    0.000,2,   168.41,2,     0.18,    42.22,2,     0.05,    -0.01,2,     0.01,     2.99,2,     0.01,  -999.00,9,  -999.00,    0.013,2,    0.006,2,    0.000,2, -999.000,9,   2382.6,2,   2405.6,2,   -999.0,9,   7.3912,       25,2, -999.000,9,    37.43,2, -999.000,9, -999.000,   -999.0,9,   -999.0, -999.000,9, -999.000, -999.000,9, -999.000,   -999.0,9,   -999.0, -999.000,9, -999.000,9, -999.000,9
  49NZ20140717,   P01,    93,  1,     18, X12J18,2,20140803,1205, 46.9969, 176.0940, 5693,   2001.0,2,   1.9089,2,   1.90880,2,  34.5892,2,  34.5894,2,-999.0000,9,    67.03,2,    67.76,2,   99.946,   0.0022,2,    0.007,2,  -999.00,9,    2.925,1,    0.000,2,   168.88,2,     0.18,    41.50,2,     0.05,     0.00,2,     0.01,     2.94,2,     0.01,  -999.00,9,  -999.00,    0.010,2,    0.004,2,    0.000,2, -999.000,9,   2377.1,2,   2409.4,2,   -999.0,9,   7.4170,       25,2, -999.000,9,    38.00,2, -999.000,9, -999.000,   -999.0,9,   -999.0, -999.000,9, -999.000, -999.000,9, -999.000,   -999.0,9,   -999.0,    0.187,2,    0.095,2,    0.038,2
  49NZ20140717,   P01,    93,  1,     17, X12J17,2,20140803,1205, 46.9969, 176.0940, 5693,   2199.8,2,   1.8050,2,   1.80504,2,  34.6105,2,  34.6104,2,-999.0000,9,    79.58,2,    79.78,2,   99.940,   0.0024,2,    0.006,2,  -999.00,9,    2.879,1,    0.000,2,   168.65,2,     0.18,    40.73,2,     0.05,     0.00,2,     0.01,     2.88,2,     0.01,  -999.00,9,  -999.00,    0.001,2,    0.000,2,    0.000,2, -999.000,9,   2370.5,2,   2411.5,2,   -999.0,9,   7.4424,       25,2, -999.000,9,    36.37,2, -999.000,9, -999.000,   -999.0,9,   -999.0, -999.000,9, -999.000, -999.000,9, -999.000,   -999.0,9,   -999.0, -999.000,9, -999.000,9, -999.000,9
  49NZ20140717,   P01,    93,  1,     16, X12J16,2,20140803,1205, 46.9969, 176.0940, 5693,   2400.9,2,   1.7137,2,   1.71400,2,  34.6276,2,  34.6273,2,-999.0000,9,    90.99,2,    91.39,2,   99.922,   0.0031,2,    0.005,2,  -999.00,9,    2.873,1,    0.000,2,   168.30,2,     0.18,    39.99,2,     0.11,    -0.01,2,     0.01,     2.83,2,     0.01,  -999.00,9,  -999.00,    0.001,2,    0.001,2,    0.000,2, -999.000,9,   2364.9,6,   2414.0,2,   -999.0,9,   7.4654,       25,2, -999.000,9,    37.76,2, -999.000,9, -999.000,   -999.0,9,   -999.0, -999.000,9, -999.000, -999.000,9, -999.000,   -999.0,9,   -999.0, -999.000,9, -999.000,9, -999.000,9
  49NZ20140717,   P01,    93,  1,     15, X12J15,2,20140803,1205, 46.9969, 176.0940, 5693,   2599.9,2,   1.6565,2,   1.65638,2,  34.6384,2,  34.6388,2,-999.0000,9,    99.80,2,   100.34,2,   99.946,   0.0022,2,    0.005,2,  -999.00,9,    2.774,1,    0.000,2,   167.60,2,     0.18,    39.45,2,     0.05,    -0.01,2,     0.01,     2.79,2,     0.01,  -999.00,9,  -999.00,    0.000,2,    0.000,2,    0.000,2, -999.000,9,   2360.9,2,   2414.4,2,   -999.0,9,   7.4817,       25,2, -999.000,9,    35.77,2, -999.000,9, -999.000,   -999.0,9,   -999.0, -999.000,9, -999.000, -999.000,9, -999.000,   -999.0,9,   -999.0, -999.000,9, -999.000,9, -999.000,9
  49NZ20140717,   P01,    93,  1,     14, X12J14,2,20140803,1205, 46.9969, 176.0940, 5693,   2799.5,2,   1.5981,2,   1.59816,2,  34.6498,2,  34.6496,2,-999.0000,9,   110.21,2,   110.49,2,   99.957,   0.0017,2,    0.004,2,  -999.00,9,    2.694,1,    0.000,2,   165.66,2,     0.18,    38.81,2,     0.05,     0.00,2,     0.01,     2.74,2,     0.01,  -999.00,9,  -999.00,    0.002,2,    0.001,2,    0.000,2, -999.000,9,   2354.1,2,   2416.1,2,   -999.0,9,   7.5013,       25,6, -999.000,9,    35.42,2, -999.000,9, -999.000,   -999.0,9,   -999.0, -999.000,9, -999.000, -999.000,9, -999.000,   -999.0,9,   -999.0, -999.000,9, -999.000,9, -999.000,9
  49NZ20140717,   P01,    93,  1,     13, X12113,2,20140803,1205, 46.9969, 176.0940, 5693,   3000.6,2,   1.5590,2,   1.55908,2,  34.6577,2,  34.6574,2,-999.0000,9,   118.44,2,   118.80,2,   99.968,   0.0013,2,    0.003,2,  -999.00,9,    2.517,1,    0.000,2,   163.13,2,     0.18,    38.18,2,     0.05,    -0.01,2,     0.01,     2.68,2,     0.01,  -999.00,9,  -999.00,    0.000,2,    0.000,2,    0.000,2, -999.000,9,   2348.0,2,   2414.6,2,   -999.0,9,   7.5163,       25,2, -999.000,9,    37.01,2, -999.000,9, -999.000,   -999.0,9,   -999.0, -999.000,9, -999.000, -999.000,9, -999.000,   -999.0,9,   -999.0,    0.295,2,    0.167,2,    0.074,2
  49NZ20140717,   P01,    93,  1,     12, X12J12,2,20140803,1205, 46.9969, 176.0940, 5693,   3250.6,2,   1.5214,2,   1.52162,2,  34.6660,2,  34.6656,2,-999.0000,9,   127.40,2,   127.78,2,   99.970,   0.0012,2,    0.003,2,  -999.00,9,    2.526,1,    0.000,2,   160.94,2,     0.17,    37.64,2,     0.05,    -0.01,2,     0.01,     2.64,2,     0.01,  -999.00,9,  -999.00,    0.000,2,    0.000,2,    0.000,2, -999.000,9,   2341.0,2,   2416.6,6,   -999.0,9,   7.5327,       25,2, -999.000,9,    36.16,2, -999.000,9, -999.000,   -999.0,9,   -999.0, -999.000,9, -999.000, -999.000,9, -999.000,   -999.0,9,   -999.0, -999.000,9, -999.000,9, -999.000,9
  49NZ20140717,   P01,    93,  1,     11, X12J11,2,20140803,1205, 46.9969, 176.0940, 5693,   3500.8,2,   1.4941,2,   1.49437,2,  34.6727,2,  34.6720,2,-999.0000,9,   135.19,2,   135.36,2,   99.983,   0.0007,2,    0.002,2,  -999.00,9,    2.536,1,    0.000,2,   158.49,2,     0.17,    37.18,2,     0.05,    -0.01,2,     0.01,     2.60,2,     0.01,  -999.00,9,  -999.00,    0.000,2,    0.000,2,    0.000,2, -999.000,9,   2336.9,2,   2416.7,2,   -999.0,9,   7.5465,       25,2, -999.000,9,    37.70,2, -999.000,9, -999.000,   -999.0,9,   -999.0, -999.000,9, -999.000, -999.000,9, -999.000,   -999.0,9,   -999.0, -999.000,9, -999.000,9, -999.000,9
  49NZ20140717,   P01,    93,  1,     10, X12J10,2,20140803,1205, 46.9969, 176.0940, 5693,   3751.6,2,   1.4750,2,   1.47521,2,  34.6778,2,  34.6775,2,-999.0000,9,   141.80,2,   141.64,2,   99.996,   0.0002,2,    0.002,2,  -999.00,9,    2.607,4,    0.000,2,   156.70,2,     0.17,    36.78,2,     0.05,    -0.01,2,     0.01,     2.57,2,     0.01,  -999.00,9,  -999.00,    0.001,2,    0.000,2,    0.000,2, -999.000,9,   2332.1,2,   2412.4,3,   -999.0,9,   7.5572,       25,2, -999.000,9,    37.83,2, -999.000,9, -999.000,   -999.0,9,   -999.0, -999.000,9, -999.000, -999.000,9, -999.000,   -999.0,9,   -999.0, -999.000,9, -999.000,9, -999.000,9