BOTTLE,20230904JAMSTECRIGC
EXPOCODE,SECT,STNNBR,CASTNO,SAMPNO,BTLNBR,BTLNBR_FLAG_W,DATE,TIME,LATITUDE,LONGITUDE,DEPTH,CTDPRS,CTDPRS_FLAG_W,CTDTMP,CTDTMP_FLAG_W,SBE35,SBE35_FLAG_W,CTDSAL,CTDSAL_FLAG_W,SALNTY,SALNTY_FLAG_W,DNSSAL,DNSSAL_FLAG_W,CTDOXY,CTDOXY_FLAG_W,OXYGEN,OXYGEN_FLAG_W,XMISS,XMISSCP,XMISS_FLAG_W,FLUOR,FLUOR_FLAG_W,CHLORA,CHLORA_FLAG_W,CDOM,CDOM_FLAG_W,PAR,PAR_FLAG_W,SILCAT,SILCAT_FLAG_W,SILUNC,NITRAT,NITRAT_FLAG_W,NRAUNC,NITRIT,NITRIT_FLAG_W,NRIUNC,PHSPHT,PHSPHT_FLAG_W,PHPUNC,AMMONIA,AMMONIA_FLAG_W,NH4UNC,CFC-11,CFC-11_FLAG_W,CFC-12,CFC-12_FLAG_W,CFC113,CFC113_FLAG_W,SF6,SF6_FLAG_W,TCARBN,TCARBN_FLAG_W,ALKALI,ALKALI_FLAG_W,ALKALI_POT,ALKALI_POT_FLAG_W,PH_TOT,PH_TMP,PH_TOT_FLAG_W,CALCIUM,CALCIUM_FLAG_W,DOC,DOC_FLAG_W,DELC13,DELC13_FLAG_W,C13ERR,DELC14,DELC14_FLAG_W,C14ERR,CS-134,CS-134_FLAG_W,CS134ER,CS-137,CS-137_FLAG_W,CS137ER,I-129,I-129_FLAG_W,I-129ER,CDOM-325,CDOM-325_FLAG_W,CDOM-370,CDOM-370_FLAG_W,CDOM-443,CDOM-443_FLAG_W
,,,,,,,,UTC,DEG,DEG,METERS,DBAR,,ITS-90,,ITS-90,,PSS-78,,PSS-78,,G/KG,,UMOL/KG,,UMOL/KG,,%TRANS,/METER,,MG/CUM,,MG/CUM,,MG/CUM,,UE/SQM/S,,UMOL/KG,,UMOL/KG,UMOL/KG,,UMOL/KG,UMOL/KG,,UMOL/KG,UMOL/KG,,UMOL/KG,UMOL/KG,,UMOL/KG,PMOL/KG,,PMOL/KG,,PMOL/KG,,FMOL/KG,,UMOL/KG,,UMOL/KG,,UMOL/KG,,,DEG C,,MMOL/KG,,UMOL/KG,,/MILLE,,/MILLE,/MILLE,,/MILLE,MBQ/KG,,MBQ/KG,MBQ/KG,,MBQ/KG,,,,/METER,,/METER,,/METER,
  49NZ20140717,   P01,   109,  1,      9, X12J09,2,20140809,1555, 47.0098,-165.9832, 5340,   4080.5,2,   1.4714,2,   1.47156,2,  34.6825,2,  34.6820,2,-999.0000,9,   144.88,2,   144.64,2,   99.940,   0.0024,2,    0.009,2,  -999.00,9,    2.339,4,    0.000,2,   160.14,2,     0.17,    36.69,2,     0.05,     0.00,2,     0.01,     2.56,2,     0.01,  -999.00,9,  -999.00,    0.000,2,    0.000,2,    0.000,2, -999.000,9,   2333.2,2,   2421.5,2,   -999.0,9,   7.5663,       25,2, -999.000,9,    38.66,2, -999.000,9, -999.000,   -999.0,9,   -999.0, -999.000,9, -999.000, -999.000,9, -999.000,   -999.0,9,   -999.0, -999.000,9, -999.000,9, -999.000,9
  49NZ20140717,   P01,   109,  1,      8, X12J08,2,20140809,1555, 47.0098,-165.9832, 5340,   4330.1,2,   1.4794,2,   1.47945,2,  34.6851,2,  34.6846,2,-999.0000,9,   147.75,2,   147.60,2,   99.966,   0.0014,2,    0.008,2,  -999.00,9,    1.688,4,    0.000,2,   160.60,2,     0.17,    36.53,2,     0.05,     0.00,2,     0.01,     2.54,2,     0.01,  -999.00,9,  -999.00,    0.000,2,    0.000,2,    0.000,2, -999.000,9,   2332.1,6,   2422.6,2,   -999.0,9,   7.5722,       25,2, -999.000,9,    39.84,2, -999.000,9, -999.000,   -999.0,9,   -999.0, -999.000,9, -999.000, -999.000,9, -999.000,   -999.0,9,   -999.0, -999.000,9, -999.000,9, -999.000,9
  49NZ20140717,   P01,   109,  1,      7, X12J07,2,20140809,1555, 47.0098,-165.9832, 5340,   4580.4,2,   1.5008,2,   1.50098,2,  34.6864,2,  34.6865,2,-999.0000,9,   148.54,2,   148.42,2,   99.950,   0.0020,2,    0.008,2,  -999.00,9,   -1.674,4,    0.000,2,   161.92,2,     0.18,    36.49,2,     0.05,     0.00,2,     0.01,     2.54,2,     0.01,  -999.00,9,  -999.00,    0.000,2,    0.000,2,    0.000,2, -999.000,9,   2332.2,2,   2424.7,2,   -999.0,9,   7.5758,       25,6, -999.000,9,    38.88,2, -999.000,9, -999.000,   -999.0,9,   -999.0, -999.000,9, -999.000, -999.000,9, -999.000,   -999.0,9,   -999.0, -999.000,9, -999.000,9, -999.000,9
  49NZ20140717,   P01,   109,  1,      6, X12J06,2,20140809,1555, 47.0098,-165.9832, 5340,   4834.2,2,   1.5262,2,   1.52628,2,  34.6870,2,  34.6870,2,-999.0000,9,   149.35,2,   149.41,2,   99.959,   0.0016,2,    0.008,2,  -999.00,9,   -1.949,4,    0.000,2,   162.16,2,     0.18,    36.45,2,     0.05,     0.00,2,     0.01,     2.53,2,     0.01,  -999.00,9,  -999.00,    0.000,2,    0.000,2,    0.000,2, -999.000,9,   2329.0,2,   2424.2,6,   -999.0,9,   7.5783,       25,2, -999.000,9,    37.65,2, -999.000,9, -999.000,   -999.0,9,   -999.0, -999.000,9, -999.000, -999.000,9, -999.000,   -999.0,9,   -999.0, -999.000,9, -999.000,9, -999.000,9
  49NZ20140717,   P01,   109,  1,      5, X12J05,2,20140809,1555, 47.0098,-165.9832, 5340,   5079.6,2,   1.5520,2,   1.55188,2,  34.6873,2,  34.6875,2,-999.0000,9,   150.39,2,   150.57,2,   99.953,   0.0019,2,    0.008,2,  -999.00,9,  497.217,4,    0.000,2,   161.74,2,     0.17,    36.36,2,     0.05,     0.00,2,     0.01,     2.53,2,     0.01,  -999.00,9,  -999.00,    0.000,2,    0.000,2,    0.000,2, -999.000,9,   2330.7,2,   2424.0,2,   -999.0,9,   7.5779,       25,2, -999.000,9,    38.92,2, -999.000,9, -999.000,   -999.0,9,   -999.0, -999.000,9, -999.000, -999.000,9, -999.000,   -999.0,9,   -999.0,    0.243,2,    0.154,2,    0.089,2
  49NZ20140717,   P01,   109,  1,      4, X12J04,2,20140809,1555, 47.0098,-165.9832, 5340,   5329.9,2,   1.5806,2,   1.58054,2,  34.6878,2,  34.6910,3,-999.0000,9,   151.13,2,   151.41,2,   99.866,   0.0054,2,    0.008,2,  -999.00,9,  497.217,4,    0.000,2,   161.58,2,     0.17,    36.28,2,     0.05,     0.00,2,     0.01,     2.52,2,     0.01,  -999.00,9,  -999.00,    0.000,2,    0.000,2,    0.000,2, -999.000,9,   2328.0,2,   2422.3,2,   -999.0,9,   7.5796,       25,2, -999.000,9,    40.90,3, -999.000,9, -999.000,   -999.0,9,   -999.0, -999.000,9, -999.000, -999.000,9, -999.000,   -999.0,9,   -999.0, -999.000,9, -999.000,9, -999.000,9
  49NZ20140717,   P01,   109,  1,      3, X12J03,2,20140809,1555, 47.0098,-165.9832, 5340,     10.8,2,  12.8633,2,  12.86232,2,  32.7810,2,-999.0000,9,-999.0000,9,   272.60,2,  -999.00,9,   94.114,   0.2426,2,    0.548,2,  -999.00,9,   -0.612,1,   42.695,2,  -999.00,9,  -999.00,  -999.00,9,  -999.00,  -999.00,9,  -999.00,  -999.00,9,  -999.00,  -999.00,9,  -999.00, -999.000,9, -999.000,9, -999.000,9, -999.000,9,   -999.0,9,   -999.0,9,   -999.0,9,-999.0000,     -999,9, -999.000,9,  -999.00,9, -999.000,9, -999.000,   -999.0,9,   -999.0, -999.000,9, -999.000, -999.000,9, -999.000,   -999.0,9,   -999.0, -999.000,9, -999.000,9, -999.000,9
  49NZ20140717,   P01,   109,  1,      2, X12J02,2,20140809,1555, 47.0098,-165.9832, 5340,     50.5,2,   5.7848,2,   5.78552,2,  32.9503,2,-999.0000,9,-999.0000,9,   315.48,2,  -999.00,9,   97.995,   0.0810,2,    0.416,2,  -999.00,9,    0.702,1,    1.560,2,  -999.00,9,  -999.00,  -999.00,9,  -999.00,  -999.00,9,  -999.00,  -999.00,9,  -999.00,  -999.00,9,  -999.00, -999.000,9, -999.000,9, -999.000,9, -999.000,9,   -999.0,9,   -999.0,9,   -999.0,9,-999.0000,     -999,9, -999.000,9,  -999.00,9, -999.000,9, -999.000,   -999.0,9,   -999.0, -999.000,9, -999.000, -999.000,9, -999.000,   -999.0,9,   -999.0, -999.000,9, -999.000,9, -999.000,9
  49NZ20140717,   P01,   109,  1,      1, X12J01,2,20140809,1555, 47.0098,-165.9832, 5340,   5432.0,2,   1.5918,2,   1.59168,2,  34.6880,2,  34.6881,2,-999.0000,9,   151.59,2,   152.14,2,   99.818,   0.0073,2,    0.008,2,  -999.00,9,  494.380,4,    0.000,2,   160.97,2,     0.17,    36.25,2,     0.05,     0.00,2,     0.01,     2.52,2,     0.01,  -999.00,9,  -999.00,    0.002,2,    0.000,2,    0.000,2, -999.000,9,   2328.1,2,   2422.5,2,   -999.0,9,   7.5796,       25,2, -999.000,9,    36.54,2, -999.000,9, -999.000,   -999.0,9,   -999.0, -999.000,9, -999.000, -999.000,9, -999.000,   -999.0,9,   -999.0,    0.246,2,    0.156,2,    0.084,2