BOTTLE,20230904JAMSTECRIGC
EXPOCODE,SECT,STNNBR,CASTNO,SAMPNO,BTLNBR,BTLNBR_FLAG_W,DATE,TIME,LATITUDE,LONGITUDE,DEPTH,CTDPRS,CTDPRS_FLAG_W,CTDTMP,CTDTMP_FLAG_W,SBE35,SBE35_FLAG_W,CTDSAL,CTDSAL_FLAG_W,SALNTY,SALNTY_FLAG_W,DNSSAL,DNSSAL_FLAG_W,CTDOXY,CTDOXY_FLAG_W,OXYGEN,OXYGEN_FLAG_W,XMISS,XMISSCP,XMISS_FLAG_W,FLUOR,FLUOR_FLAG_W,CHLORA,CHLORA_FLAG_W,CDOM,CDOM_FLAG_W,PAR,PAR_FLAG_W,SILCAT,SILCAT_FLAG_W,SILUNC,NITRAT,NITRAT_FLAG_W,NRAUNC,NITRIT,NITRIT_FLAG_W,NRIUNC,PHSPHT,PHSPHT_FLAG_W,PHPUNC,AMMONIA,AMMONIA_FLAG_W,NH4UNC,CFC-11,CFC-11_FLAG_W,CFC-12,CFC-12_FLAG_W,CFC113,CFC113_FLAG_W,SF6,SF6_FLAG_W,TCARBN,TCARBN_FLAG_W,ALKALI,ALKALI_FLAG_W,ALKALI_POT,ALKALI_POT_FLAG_W,PH_TOT,PH_TMP,PH_TOT_FLAG_W,CALCIUM,CALCIUM_FLAG_W,DOC,DOC_FLAG_W,DELC13,DELC13_FLAG_W,C13ERR,DELC14,DELC14_FLAG_W,C14ERR,CS-134,CS-134_FLAG_W,CS134ER,CS-137,CS-137_FLAG_W,CS137ER,I-129,I-129_FLAG_W,I-129ER,CDOM-325,CDOM-325_FLAG_W,CDOM-370,CDOM-370_FLAG_W,CDOM-443,CDOM-443_FLAG_W
,,,,,,,,UTC,DEG,DEG,METERS,DBAR,,ITS-90,,ITS-90,,PSS-78,,PSS-78,,G/KG,,UMOL/KG,,UMOL/KG,,%TRANS,/METER,,MG/CUM,,MG/CUM,,MG/CUM,,UE/SQM/S,,UMOL/KG,,UMOL/KG,UMOL/KG,,UMOL/KG,UMOL/KG,,UMOL/KG,UMOL/KG,,UMOL/KG,UMOL/KG,,UMOL/KG,PMOL/KG,,PMOL/KG,,PMOL/KG,,FMOL/KG,,UMOL/KG,,UMOL/KG,,UMOL/KG,,,DEG C,,MMOL/KG,,UMOL/KG,,/MILLE,,/MILLE,/MILLE,,/MILLE,MBQ/KG,,MBQ/KG,MBQ/KG,,MBQ/KG,,,,/METER,,/METER,,/METER,
  49NZ20140717,   P01,   106,  1,      0,   -999,9,20140808,1701, 46.9905,-169.3443, 5617,   -999.0,9,-999.0000,9,-999.00000,9,-999.0000,9,  32.7694,2,-999.0000,9,  -999.00,9,  -999.00,9, -999.000,-999.0000,9, -999.000,9,  -999.00,9, -999.000,9, -999.000,9,    16.60,2,     0.09,    12.71,2,     0.47,     0.17,2,     0.01,     1.20,2,     0.01,  -999.00,9,  -999.00, -999.000,9, -999.000,9, -999.000,9, -999.000,9,   -999.0,9,   -999.0,9,   -999.0,9,-999.0000,     -999,9, -999.000,9,  -999.00,9, -999.000,9, -999.000,   -999.0,9,   -999.0, -999.000,9, -999.000, -999.000,9, -999.000,   -999.0,9,   -999.0, -999.000,9, -999.000,9, -999.000,9
  49NZ20140717,   P01,   106,  1,     36, X12J36,2,20140808,1701, 46.9905,-169.3443, 5617,      9.5,2,  13.1165,2,  13.11567,2,  32.7675,2,  32.7682,2,-999.0000,9,   272.32,2,   272.87,2,   95.931,   0.1662,2,    0.376,2,  -999.00,9,   -0.521,1,   55.021,2,    16.64,2,     0.09,    12.37,2,     0.02,     0.17,2,     0.01,     1.20,2,     0.01,  -999.00,9,  -999.00,    3.199,2,    1.889,2,    0.346,2, -999.000,9,   -999.0,9,   -999.0,9,   -999.0,9,-999.0000,     -999,9, -999.000,9,  -999.00,9, -999.000,9, -999.000,   -999.0,9,   -999.0, -999.000,9, -999.000, -999.000,9, -999.000,   -999.0,9,   -999.0, -999.000,9, -999.000,9, -999.000,9
  49NZ20140717,   P01,   106,  1,     35, X12J35,2,20140808,1701, 46.9905,-169.3443, 5617,     49.6,2,   6.4129,2,   6.41709,2,  33.0519,2,  33.0508,2,-999.0000,9,   318.17,2,   318.30,2,   97.916,   0.0842,2,    0.387,2,  -999.00,9,    0.632,1,    3.072,2,    19.62,2,     0.09,    13.55,2,     0.02,     0.16,2,     0.01,     1.28,2,     0.01,  -999.00,9,  -999.00,    4.519,2,    2.560,2,    0.456,2, -999.000,9,   -999.0,9,   -999.0,9,   -999.0,9,-999.0000,     -999,9, -999.000,9,  -999.00,9, -999.000,9, -999.000,   -999.0,9,   -999.0, -999.000,9, -999.000, -999.000,9, -999.000,   -999.0,9,   -999.0, -999.000,9, -999.000,9, -999.000,9
  49NZ20140717,   P01,   106,  1,     34, X12J34,2,20140808,1701, 46.9905,-169.3443, 5617,    100.4,2,   5.4813,2,   5.48246,2,  33.0826,2,  33.0848,2,-999.0000,9,   300.87,2,   301.16,2,   99.215,   0.0315,2,    0.191,2,  -999.00,9,    0.702,1,    0.063,2,    21.00,2,     0.09,    15.94,2,     0.03,     0.24,2,     0.01,     1.38,2,     0.01,  -999.00,9,  -999.00,    4.580,2,    2.573,2,    0.439,2, -999.000,9,   -999.0,9,   -999.0,9,   -999.0,9,-999.0000,     -999,9, -999.000,9,  -999.00,9, -999.000,9, -999.000,   -999.0,9,   -999.0, -999.000,9, -999.000, -999.000,9, -999.000,   -999.0,9,   -999.0, -999.000,9, -999.000,9, -999.000,9
  49NZ20140717,   P01,   106,  1,     33, X12J33,2,20140808,1701, 46.9905,-169.3443, 5617,    149.9,2,   4.2175,2,   4.21708,2,  33.5016,2,  33.5043,2,-999.0000,9,   224.63,2,   225.46,2,   99.659,   0.0137,2,    0.020,2,  -999.00,9,    1.669,1,    0.000,2,    45.67,2,     0.10,    26.44,2,     0.04,     0.01,2,     0.01,     1.98,2,     0.01,  -999.00,9,  -999.00,    4.200,2,    2.329,2,    0.353,2, -999.000,9,   -999.0,9,   -999.0,9,   -999.0,9,-999.0000,     -999,9, -999.000,9,  -999.00,9, -999.000,9, -999.000,   -999.0,9,   -999.0, -999.000,9, -999.000, -999.000,9, -999.000,   -999.0,9,   -999.0, -999.000,9, -999.000,9, -999.000,9
  49NZ20140717,   P01,   106,  1,     32, X12J32,2,20140808,1701, 46.9905,-169.3443, 5617,    200.3,2,   4.1142,2,   4.11310,2,  33.7123,2,  33.7181,2,-999.0000,9,   148.20,2,   147.42,2,   99.692,   0.0123,2,    0.018,2,  -999.00,9,    2.328,1,    0.000,2,    64.87,2,     0.12,    33.30,2,     0.04,     0.02,2,     0.01,     2.43,2,     0.01,  -999.00,9,  -999.00,    3.426,2,    1.860,2,    0.259,2, -999.000,9,   -999.0,9,   -999.0,9,   -999.0,9,-999.0000,     -999,9, -999.000,9,  -999.00,9, -999.000,9, -999.000,   -999.0,9,   -999.0, -999.000,9, -999.000, -999.000,9, -999.000,   -999.0,9,   -999.0, -999.000,9, -999.000,9, -999.000,9
  49NZ20140717,   P01,   106,  1,     31, X12J31,2,20140808,1701, 46.9905,-169.3443, 5617,    250.5,2,   3.8356,2,   3.83418,2,  33.7854,2,  33.7857,2,-999.0000,9,   110.01,2,   109.97,2,   99.796,   0.0082,2,    0.018,2,  -999.00,9,    2.564,1,    0.000,2,    77.11,2,     0.12,    37.17,2,     0.05,     0.01,2,     0.01,     2.69,2,     0.01,  -999.00,9,  -999.00,    2.966,2,    1.584,2,    0.224,2, -999.000,9,   -999.0,9,   -999.0,9,   -999.0,9,-999.0000,     -999,9, -999.000,9,  -999.00,9, -999.000,9, -999.000,   -999.0,9,   -999.0, -999.000,9, -999.000, -999.000,9, -999.000,   -999.0,9,   -999.0, -999.000,9, -999.000,9, -999.000,9
  49NZ20140717,   P01,   106,  1,     30, X12J30,2,20140808,1701, 46.9905,-169.3443, 5617,    330.1,2,   3.9283,2,   3.92818,2,  33.9140,2,  33.9131,2,-999.0000,9,    77.04,2,    77.42,2,   99.735,   0.0106,2,    0.018,2,  -999.00,9,    2.718,1,    0.000,2,    88.00,2,     0.13,    39.55,2,     0.05,     0.01,2,     0.01,     2.83,2,     0.01,  -999.00,9,  -999.00,    2.277,2,    1.197,2,    0.168,2, -999.000,9,   -999.0,9,   -999.0,9,   -999.0,9,-999.0000,     -999,9, -999.000,9,  -999.00,9, -999.000,9, -999.000,   -999.0,9,   -999.0, -999.000,9, -999.000, -999.000,9, -999.000,   -999.0,9,   -999.0, -999.000,9, -999.000,9, -999.000,9
  49NZ20140717,   P01,   106,  1,     29, X12J29,2,20140808,1701, 46.9905,-169.3443, 5617,    430.2,2,   3.8493,2,   3.84914,2,  34.0368,2,  34.0363,2,-999.0000,9,    53.65,2,    54.08,2,   99.804,   0.0078,2,    0.018,2,  -999.00,9,    2.848,1,    0.000,2,   100.49,2,     0.14,    41.15,2,     0.05,     0.01,2,     0.01,     2.95,2,     0.01,  -999.00,9,  -999.00,    1.582,2,    0.813,2,    0.114,2, -999.000,9,   -999.0,9,   -999.0,9,   -999.0,9,-999.0000,     -999,9, -999.000,9,  -999.00,9, -999.000,9, -999.000,   -999.0,9,   -999.0, -999.000,9, -999.000, -999.000,9, -999.000,   -999.0,9,   -999.0, -999.000,9, -999.000,9, -999.000,9
  49NZ20140717,   P01,   106,  1,     28, X12J28,2,20140808,1701, 46.9905,-169.3443, 5617,    530.7,2,   3.6698,2,   3.66968,2,  34.1346,2,  34.1334,2,-999.0000,9,    38.20,2,    38.53,2,   99.848,   0.0061,2,    0.018,2,  -999.00,9,    2.909,1,    0.000,2,   112.33,2,     0.14,    42.26,2,     0.05,     0.01,2,     0.01,     3.03,2,     0.01,  -999.00,9,  -999.00,    1.066,2,    0.529,2,    0.076,2, -999.000,9,   -999.0,9,   -999.0,9,   -999.0,9,-999.0000,     -999,9, -999.000,9,  -999.00,9, -999.000,9, -999.000,   -999.0,9,   -999.0, -999.000,9, -999.000, -999.000,9, -999.000,   -999.0,9,   -999.0, -999.000,9, -999.000,9, -999.000,9
  49NZ20140717,   P01,   106,  1,     27, X12J27,2,20140808,1701, 46.9905,-169.3443, 5617,    629.4,2,   3.4886,2,   3.48876,2,  34.2079,2,  34.2067,2,-999.0000,9,    26.75,2,    26.84,2,   99.809,   0.0077,2,    0.019,2,  -999.00,9,    3.072,1,    0.000,2,   122.01,2,     0.15,    43.25,2,     0.05,     0.01,2,     0.01,     3.09,2,     0.01,  -999.00,9,  -999.00,    0.688,2,    0.336,2,    0.054,2, -999.000,9,   -999.0,9,   -999.0,9,   -999.0,9,-999.0000,     -999,9, -999.000,9,  -999.00,9, -999.000,9, -999.000,   -999.0,9,   -999.0, -999.000,9, -999.000, -999.000,9, -999.000,   -999.0,9,   -999.0, -999.000,9, -999.000,9, -999.000,9
  49NZ20140717,   P01,   106,  1,     26, X12J26,2,20140808,1701, 46.9905,-169.3443, 5617,    730.8,2,   3.2685,2,   3.26841,2,  34.2663,2,  34.2654,2,-999.0000,9,    23.09,2,    22.73,2,   99.830,   0.0068,2,    0.018,2,  -999.00,9,    3.151,1,    0.000,2,   131.04,2,     0.16,    43.70,2,     0.06,     0.01,2,     0.01,     3.13,2,     0.01,  -999.00,9,  -999.00,    0.468,2,    0.224,2,    0.043,2, -999.000,9,   -999.0,9,   -999.0,9,   -999.0,9,-999.0000,     -999,9, -999.000,9,  -999.00,9, -999.000,9, -999.000,   -999.0,9,   -999.0, -999.000,9, -999.000, -999.000,9, -999.000,   -999.0,9,   -999.0, -999.000,9, -999.000,9, -999.000,9
  49NZ20140717,   P01,   106,  1,     25, X12J25,2,20140808,1701, 46.9905,-169.3443, 5617,    830.2,2,   3.0630,2,   3.06276,2,  34.3174,2,  34.3185,2,-999.0000,9,    23.43,2,    23.11,2,   99.826,   0.0070,2,    0.017,2,  -999.00,9,    3.163,1,    0.000,2,   138.25,2,     0.16,    43.58,2,     0.05,     0.01,2,     0.01,     3.13,2,     0.01,  -999.00,9,  -999.00,    0.342,2,    0.158,2,    0.025,2, -999.000,9,   -999.0,9,   -999.0,9,   -999.0,9,-999.0000,     -999,9, -999.000,9,  -999.00,9, -999.000,9, -999.000,   -999.0,9,   -999.0, -999.000,9, -999.000, -999.000,9, -999.000,   -999.0,9,   -999.0, -999.000,9, -999.000,9, -999.000,9
  49NZ20140717,   P01,   106,  1,     24, X12J24,2,20140808,1701, 46.9905,-169.3443, 5617,    930.2,2,   2.8984,2,   2.89843,2,  34.3578,2,  34.3571,2,-999.0000,9,    25.65,2,    25.24,2,   99.865,   0.0054,2,    0.016,2,  -999.00,9,    3.210,1,    0.000,2,   143.58,2,     0.16,    43.52,2,     0.05,     0.00,2,     0.01,     3.13,2,     0.01,  -999.00,9,  -999.00,    0.267,2,    0.120,2,    0.018,2, -999.000,9,   -999.0,9,   -999.0,9,   -999.0,9,-999.0000,     -999,9, -999.000,9,  -999.00,9, -999.000,9, -999.000,   -999.0,9,   -999.0, -999.000,9, -999.000, -999.000,9, -999.000,   -999.0,9,   -999.0, -999.000,9, -999.000,9, -999.000,9
  49NZ20140717,   P01,   106,  1,     23, X12J23,2,20140808,1701, 46.9905,-169.3443, 5617,   1070.4,2,   2.7159,2,   2.71570,2,  34.4036,2,  34.4031,2,-999.0000,9,    26.48,2,    26.19,2,   99.846,   0.0062,2,    0.015,2,  -999.00,9,    3.161,1,    0.000,2,   149.89,2,     0.17,    43.60,2,     0.05,     0.00,2,     0.01,     3.13,2,     0.01,  -999.00,9,  -999.00,    0.173,2,    0.077,2,    0.016,2, -999.000,9,   -999.0,9,   -999.0,9,   -999.0,9,-999.0000,     -999,9, -999.000,9,  -999.00,9, -999.000,9, -999.000,   -999.0,9,   -999.0, -999.000,9, -999.000, -999.000,9, -999.000,   -999.0,9,   -999.0, -999.000,9, -999.000,9, -999.000,9
  49NZ20140717,   P01,   106,  1,     22, X12J22,2,20140808,1701, 46.9905,-169.3443, 5617,   1270.1,2,   2.4846,2,   2.48454,2,  34.4588,2,  34.4583,2,-999.0000,9,    30.16,2,    29.87,2,   99.856,   0.0057,2,    0.014,2,  -999.00,9,    3.168,1,    0.000,2,   157.49,2,     0.17,    43.51,2,     0.05,     0.00,2,     0.01,     3.12,2,     0.01,  -999.00,9,  -999.00,    0.089,2,    0.040,2,    0.010,2, -999.000,9,   -999.0,9,   -999.0,9,   -999.0,9,-999.0000,     -999,9, -999.000,9,  -999.00,9, -999.000,9, -999.000,   -999.0,9,   -999.0, -999.000,9, -999.000, -999.000,9, -999.000,   -999.0,9,   -999.0, -999.000,9, -999.000,9, -999.000,9
  49NZ20140717,   P01,   106,  1,     21, X12J21,2,20140808,1701, 46.9905,-169.3443, 5617,   1470.1,2,   2.2810,2,   2.28085,2,  34.5078,2,  34.5077,2,-999.0000,9,    37.58,2,    37.49,2,   99.885,   0.0046,2,    0.013,2,  -999.00,9,    3.086,1,    0.000,2,   162.59,2,     0.18,    43.19,2,     0.05,     0.00,2,     0.01,     3.08,2,     0.01,  -999.00,9,  -999.00,    0.038,2,    0.017,2,    0.000,2, -999.000,9,   -999.0,9,   -999.0,9,   -999.0,9,-999.0000,     -999,9, -999.000,9,  -999.00,9, -999.000,9, -999.000,   -999.0,9,   -999.0, -999.000,9, -999.000, -999.000,9, -999.000,   -999.0,9,   -999.0, -999.000,9, -999.000,9, -999.000,9
  49NZ20140717,   P01,   106,  1,     20, X12J20,2,20140808,1701, 46.9905,-169.3443, 5617,   1669.4,2,   2.1375,2,   2.13770,2,  34.5414,2,  34.5411,2,-999.0000,9,    45.61,2,    45.45,2,   99.865,   0.0054,2,    0.012,2,  -999.00,9,    3.097,1,    0.000,2,   165.94,2,     0.18,    42.82,2,     0.05,     0.01,2,     0.01,     3.05,2,     0.01,  -999.00,9,  -999.00,    0.018,2,    0.008,2,    0.000,2, -999.000,9,   -999.0,9,   -999.0,9,   -999.0,9,-999.0000,     -999,9, -999.000,9,  -999.00,9, -999.000,9, -999.000,   -999.0,9,   -999.0, -999.000,9, -999.000, -999.000,9, -999.000,   -999.0,9,   -999.0, -999.000,9, -999.000,9, -999.000,9
  49NZ20140717,   P01,   106,  1,     19, X12J19,2,20140808,1701, 46.9905,-169.3443, 5617,   1871.6,2,   2.0150,2,   2.01521,2,  34.5685,2,  34.5684,2,-999.0000,9,    54.92,2,    55.02,2,   99.889,   0.0044,2,    0.011,2,  -999.00,9,    3.051,1,    0.000,2,   167.81,2,     0.18,    42.25,2,     0.05,     0.00,2,     0.01,     3.00,2,     0.01,  -999.00,9,  -999.00,    0.007,2,    0.004,2,    0.000,2, -999.000,9,   -999.0,9,   -999.0,9,   -999.0,9,-999.0000,     -999,9, -999.000,9,  -999.00,9, -999.000,9, -999.000,   -999.0,9,   -999.0, -999.000,9, -999.000, -999.000,9, -999.000,   -999.0,9,   -999.0, -999.000,9, -999.000,9, -999.000,9
  49NZ20140717,   P01,   106,  1,     18, X12J18,2,20140808,1701, 46.9905,-169.3443, 5617,   2071.2,2,   1.9003,2,   1.90030,2,  34.5922,2,  34.5921,2,-999.0000,9,    66.33,2,    66.39,2,   99.904,   0.0038,2,    0.010,2,  -999.00,9,    2.969,1,    0.000,2,   168.80,2,     0.18,    41.50,2,     0.05,     0.01,2,     0.01,     2.95,2,     0.01,  -999.00,9,  -999.00,    0.002,2,    0.002,2,    0.000,2, -999.000,9,   -999.0,9,   -999.0,9,   -999.0,9,-999.0000,     -999,9, -999.000,9,  -999.00,9, -999.000,9, -999.000,   -999.0,9,   -999.0, -999.000,9, -999.000, -999.000,9, -999.000,   -999.0,9,   -999.0, -999.000,9, -999.000,9, -999.000,9
  49NZ20140717,   P01,   106,  1,     17, X12J17,2,20140808,1701, 46.9905,-169.3443, 5617,   2270.1,2,   1.7995,2,   1.79944,2,  34.6120,2,  34.6123,2,-999.0000,9,    77.40,2,    77.31,2,   99.908,   0.0037,2,    0.009,2,  -999.00,9,    2.888,1,    0.000,2,   169.53,2,     0.18,    40.85,2,     0.05,     0.01,2,     0.01,     2.90,2,     0.01,  -999.00,9,  -999.00,    0.000,2,    0.000,2,    0.000,2, -999.000,9,   -999.0,9,   -999.0,9,   -999.0,9,-999.0000,     -999,9, -999.000,9,  -999.00,9, -999.000,9, -999.000,   -999.0,9,   -999.0, -999.000,9, -999.000, -999.000,9, -999.000,   -999.0,9,   -999.0, -999.000,9, -999.000,9, -999.000,9
  49NZ20140717,   P01,   106,  1,     16, X12J16,2,20140808,1701, 46.9905,-169.3443, 5617,   2469.3,2,   1.7157,2,   1.71604,2,  34.6283,2,  34.6283,2,-999.0000,9,    88.63,2,    88.86,2,   99.906,   0.0038,2,    0.008,2,  -999.00,9,    2.835,1,    0.000,2,   168.88,2,     0.18,    40.15,2,     0.05,     0.01,2,     0.01,     2.85,2,     0.01,  -999.00,9,  -999.00,    0.000,2,    0.002,2,    0.000,2, -999.000,9,   -999.0,9,   -999.0,9,   -999.0,9,-999.0000,     -999,9, -999.000,9,  -999.00,9, -999.000,9, -999.000,   -999.0,9,   -999.0, -999.000,9, -999.000, -999.000,9, -999.000,   -999.0,9,   -999.0, -999.000,9, -999.000,9, -999.000,9
  49NZ20140717,   P01,   106,  1,     15, X12J15,2,20140808,1701, 46.9905,-169.3443, 5617,   2671.4,2,   1.6497,2,   1.64972,2,  34.6409,2,  34.6406,2,-999.0000,9,    99.04,2,    98.90,2,   99.910,   0.0036,2,    0.007,2,  -999.00,9,    2.723,1,    0.000,2,   167.80,2,     0.18,    39.56,2,     0.05,     0.01,2,     0.01,     2.80,2,     0.01,  -999.00,9,  -999.00,    0.000,2,    0.000,2,    0.000,2, -999.000,9,   -999.0,9,   -999.0,9,   -999.0,9,-999.0000,     -999,9, -999.000,9,  -999.00,9, -999.000,9, -999.000,   -999.0,9,   -999.0, -999.000,9, -999.000, -999.000,9, -999.000,   -999.0,9,   -999.0, -999.000,9, -999.000,9, -999.000,9
  49NZ20140717,   P01,   106,  1,     14, X12J14,2,20140808,1701, 46.9905,-169.3443, 5617,   2870.6,2,   1.5999,2,   1.59985,2,  34.6505,2,  34.6505,2,-999.0000,9,   108.11,2,   107.98,2,   99.932,   0.0027,2,    0.007,2,  -999.00,9,    2.681,1,    0.000,2,   166.54,2,     0.18,    39.02,2,     0.05,     0.01,2,     0.01,     2.76,2,     0.01,  -999.00,9,  -999.00,    0.000,2,    0.000,2,    0.000,2, -999.000,9,   -999.0,9,   -999.0,9,   -999.0,9,-999.0000,     -999,9, -999.000,9,  -999.00,9, -999.000,9, -999.000,   -999.0,9,   -999.0, -999.000,9, -999.000, -999.000,9, -999.000,   -999.0,9,   -999.0, -999.000,9, -999.000,9, -999.000,9
  49NZ20140717,   P01,   106,  1,     13, X12113,2,20140808,1701, 46.9905,-169.3443, 5617,   3080.6,2,   1.5564,2,   1.55635,2,  34.6589,2,  34.6588,2,-999.0000,9,   117.27,2,   117.21,2,   99.926,   0.0030,2,    0.006,2,  -999.00,9,    2.687,1,    0.000,2,   164.20,2,     0.18,    38.33,2,     0.05,     0.01,2,     0.01,     2.70,2,     0.01,  -999.00,9,  -999.00,    0.000,2,    0.000,2,    0.000,2, -999.000,9,   -999.0,9,   -999.0,9,   -999.0,9,-999.0000,     -999,9, -999.000,9,  -999.00,9, -999.000,9, -999.000,   -999.0,9,   -999.0, -999.000,9, -999.000, -999.000,9, -999.000,   -999.0,9,   -999.0, -999.000,9, -999.000,9, -999.000,9
  49NZ20140717,   P01,   106,  1,     12, X12J12,2,20140808,1701, 46.9905,-169.3443, 5617,   3330.7,2,   1.5198,2,   1.51988,2,  34.6668,2,  34.6666,2,-999.0000,9,   126.48,2,   126.25,2,   99.919,   0.0032,2,    0.005,2,  -999.00,9,    2.731,4,    0.000,2,   162.28,2,     0.18,    37.76,2,     0.05,     0.00,2,     0.01,     2.66,2,     0.01,  -999.00,9,  -999.00,    0.000,2,    0.000,2,    0.000,2, -999.000,9,   -999.0,9,   -999.0,9,   -999.0,9,-999.0000,     -999,9, -999.000,9,  -999.00,9, -999.000,9, -999.000,   -999.0,9,   -999.0, -999.000,9, -999.000, -999.000,9, -999.000,   -999.0,9,   -999.0, -999.000,9, -999.000,9, -999.000,9
  49NZ20140717,   P01,   106,  1,     11, X12J11,2,20140808,1701, 46.9905,-169.3443, 5617,   3580.3,2,   1.4893,2,   1.48949,2,  34.6737,2,  34.6734,2,-999.0000,9,   134.78,2,   134.62,2,   99.936,   0.0025,2,    0.004,2,  -999.00,9,    2.538,4,    0.000,2,   160.40,2,     0.17,    37.23,2,     0.05,     0.00,2,     0.01,     2.62,2,     0.01,  -999.00,9,  -999.00,    0.000,2,    0.000,2,    0.000,2, -999.000,9,   -999.0,9,   -999.0,9,   -999.0,9,-999.0000,     -999,9, -999.000,9,  -999.00,9, -999.000,9, -999.000,   -999.0,9,   -999.0, -999.000,9, -999.000, -999.000,9, -999.000,   -999.0,9,   -999.0, -999.000,9, -999.000,9, -999.000,9
  49NZ20140717,   P01,   106,  1,     10, X12J10,2,20140808,1701, 46.9905,-169.3443, 5617,   3830.4,2,   1.4779,2,   1.47797,2,  34.6782,2,  34.6781,2,-999.0000,9,   140.32,2,   140.10,2,   99.952,   0.0019,2,    0.004,2,  -999.00,9,    2.261,4,    0.000,2,   159.45,2,     0.17,    36.90,2,     0.05,     0.00,2,     0.01,     2.59,2,     0.01,  -999.00,9,  -999.00,    0.000,2,    0.000,2,    0.000,2, -999.000,9,   -999.0,9,   -999.0,9,   -999.0,9,-999.0000,     -999,9, -999.000,9,  -999.00,9, -999.000,9, -999.000,   -999.0,9,   -999.0, -999.000,9, -999.000, -999.000,9, -999.000,   -999.0,9,   -999.0, -999.000,9, -999.000,9, -999.000,9