BOTTLE,20230904JAMSTECRIGC
EXPOCODE,SECT,STNNBR,CASTNO,SAMPNO,BTLNBR,BTLNBR_FLAG_W,DATE,TIME,LATITUDE,LONGITUDE,DEPTH,CTDPRS,CTDPRS_FLAG_W,CTDTMP,CTDTMP_FLAG_W,SBE35,SBE35_FLAG_W,CTDSAL,CTDSAL_FLAG_W,SALNTY,SALNTY_FLAG_W,DNSSAL,DNSSAL_FLAG_W,CTDOXY,CTDOXY_FLAG_W,OXYGEN,OXYGEN_FLAG_W,XMISS,XMISSCP,XMISS_FLAG_W,FLUOR,FLUOR_FLAG_W,CHLORA,CHLORA_FLAG_W,CDOM,CDOM_FLAG_W,PAR,PAR_FLAG_W,SILCAT,SILCAT_FLAG_W,SILUNC,NITRAT,NITRAT_FLAG_W,NRAUNC,NITRIT,NITRIT_FLAG_W,NRIUNC,PHSPHT,PHSPHT_FLAG_W,PHPUNC,AMMONIA,AMMONIA_FLAG_W,NH4UNC,CFC-11,CFC-11_FLAG_W,CFC-12,CFC-12_FLAG_W,CFC113,CFC113_FLAG_W,SF6,SF6_FLAG_W,TCARBN,TCARBN_FLAG_W,ALKALI,ALKALI_FLAG_W,ALKALI_POT,ALKALI_POT_FLAG_W,PH_TOT,PH_TMP,PH_TOT_FLAG_W,CALCIUM,CALCIUM_FLAG_W,DOC,DOC_FLAG_W,DELC13,DELC13_FLAG_W,C13ERR,DELC14,DELC14_FLAG_W,C14ERR,CS-134,CS-134_FLAG_W,CS134ER,CS-137,CS-137_FLAG_W,CS137ER,I-129,I-129_FLAG_W,I-129ER,CDOM-325,CDOM-325_FLAG_W,CDOM-370,CDOM-370_FLAG_W,CDOM-443,CDOM-443_FLAG_W
,,,,,,,,UTC,DEG,DEG,METERS,DBAR,,ITS-90,,ITS-90,,PSS-78,,PSS-78,,G/KG,,UMOL/KG,,UMOL/KG,,%TRANS,/METER,,MG/CUM,,MG/CUM,,MG/CUM,,UE/SQM/S,,UMOL/KG,,UMOL/KG,UMOL/KG,,UMOL/KG,UMOL/KG,,UMOL/KG,UMOL/KG,,UMOL/KG,UMOL/KG,,UMOL/KG,PMOL/KG,,PMOL/KG,,PMOL/KG,,FMOL/KG,,UMOL/KG,,UMOL/KG,,UMOL/KG,,,DEG C,,MMOL/KG,,UMOL/KG,,/MILLE,,/MILLE,/MILLE,,/MILLE,MBQ/KG,,MBQ/KG,MBQ/KG,,MBQ/KG,,,,/METER,,/METER,,/METER,
  49NZ20140717,   P01,   102,  1,      0,   -999,9,20140807,1030, 46.9931,-173.7860, 5724,   -999.0,9,-999.0000,9,-999.00000,9,-999.0000,9,  32.7456,2,-999.0000,9,  -999.00,9,  -999.00,9, -999.000,-999.0000,9, -999.000,9,  -999.00,9, -999.000,9, -999.000,9,    15.22,2,     0.09,    12.43,2,     0.37,     0.17,2,     0.01,     1.18,2,     0.01,  -999.00,9,  -999.00, -999.000,9, -999.000,9, -999.000,9, -999.000,9,   -999.0,9,   -999.0,9,   -999.0,9,-999.0000,     -999,9, -999.000,9,  -999.00,9, -999.000,9, -999.000,   -999.0,9,   -999.0, -999.000,9, -999.000, -999.000,9, -999.000,   -999.0,9,   -999.0, -999.000,9, -999.000,9, -999.000,9
  49NZ20140717,   P01,   102,  1,     36, X12J36,2,20140807,1030, 46.9931,-173.7860, 5724,     10.7,2,  12.7408,2,  12.74268,2,  32.7438,2,  32.7446,2,-999.0000,9,   277.33,2,   277.67,2,   95.787,   0.1722,2,    0.439,2,  -999.00,9,   -0.547,1,    0.281,2,    15.26,2,     0.09,    12.16,2,     0.02,     0.16,2,     0.01,     1.18,2,     0.01,  -999.00,9,  -999.00,    3.341,2,    1.953,2,    0.365,2, -999.000,9,   -999.0,9,   -999.0,9,   -999.0,9,-999.0000,     -999,9, -999.000,9,  -999.00,9, -999.000,9, -999.000,   -999.0,9,   -999.0, -999.000,9, -999.000, -999.000,9, -999.000,   -999.0,9,   -999.0, -999.000,9, -999.000,9, -999.000,9
  49NZ20140717,   P01,   102,  1,     35, X12J35,2,20140807,1030, 46.9931,-173.7860, 5724,     50.7,2,   5.7505,2,   5.75544,2,  32.8777,2,  32.8891,2,-999.0000,9,   324.85,2,   325.43,2,   96.454,   0.1444,2,    0.653,2,  -999.00,9,    0.727,1,    0.000,2,    24.27,2,     0.09,    15.56,2,     0.03,     0.19,2,     0.01,     1.44,2,     0.01,  -999.00,9,  -999.00,    4.744,2,    2.648,2,    0.470,2, -999.000,9,   -999.0,9,   -999.0,9,   -999.0,9,-999.0000,     -999,9, -999.000,9,  -999.00,9, -999.000,9, -999.000,   -999.0,9,   -999.0, -999.000,9, -999.000, -999.000,9, -999.000,   -999.0,9,   -999.0, -999.000,9, -999.000,9, -999.000,9
  49NZ20140717,   P01,   102,  1,     34, X12J34,2,20140807,1030, 46.9931,-173.7860, 5724,    100.3,2,   4.9130,2,   4.91238,2,  33.0340,2,  33.0355,2,-999.0000,9,   304.68,2,   304.79,2,   99.270,   0.0293,2,    0.196,2,  -999.00,9,    0.671,1,    0.000,2,    24.47,2,     0.09,    17.55,2,     0.03,     0.32,2,     0.01,     1.48,2,     0.01,  -999.00,9,  -999.00,    4.809,2,    2.656,2,    0.453,2, -999.000,9,   -999.0,9,   -999.0,9,   -999.0,9,-999.0000,     -999,9, -999.000,9,  -999.00,9, -999.000,9, -999.000,   -999.0,9,   -999.0, -999.000,9, -999.000, -999.000,9, -999.000,   -999.0,9,   -999.0, -999.000,9, -999.000,9, -999.000,9
  49NZ20140717,   P01,   102,  1,     33, X12J33,2,20140807,1030, 46.9931,-173.7860, 5724,    151.0,2,   4.2613,2,   4.26099,2,  33.6111,2,  33.6116,2,-999.0000,9,   220.26,2,   219.79,2,   99.672,   0.0131,2,    0.020,2,  -999.00,9,    1.725,1,    0.000,2,    47.55,2,     0.10,    26.63,2,     0.04,     0.01,2,     0.01,     1.98,2,     0.01,  -999.00,9,  -999.00,    4.134,2,    2.268,2,    0.308,2, -999.000,9,   -999.0,9,   -999.0,9,   -999.0,9,-999.0000,     -999,9, -999.000,9,  -999.00,9, -999.000,9, -999.000,   -999.0,9,   -999.0, -999.000,9, -999.000, -999.000,9, -999.000,   -999.0,9,   -999.0, -999.000,9, -999.000,9, -999.000,9
  49NZ20140717,   P01,   102,  1,     32, X12J32,2,20140807,1030, 46.9931,-173.7860, 5724,    200.5,2,   3.8360,2,   3.83663,2,  33.7093,2,  33.7097,2,-999.0000,9,   145.36,2,   145.13,2,   99.640,   0.0144,2,    0.015,2,  -999.00,9,    2.327,1,    0.000,2,    68.55,2,     0.12,    34.18,2,     0.05,     0.01,2,     0.01,     2.50,2,     0.01,  -999.00,9,  -999.00,    3.428,2,    1.835,2,    0.265,2, -999.000,9,   -999.0,9,   -999.0,9,   -999.0,9,-999.0000,     -999,9, -999.000,9,  -999.00,9, -999.000,9, -999.000,   -999.0,9,   -999.0, -999.000,9, -999.000, -999.000,9, -999.000,   -999.0,9,   -999.0, -999.000,9, -999.000,9, -999.000,9
  49NZ20140717,   P01,   102,  1,     31, X12J31,2,20140807,1030, 46.9931,-173.7860, 5724,    249.9,2,   3.8649,2,   3.86479,2,  33.8113,2,  33.8110,2,-999.0000,9,   105.82,2,   105.94,2,   99.763,   0.0095,2,    0.015,2,  -999.00,9,    2.509,1,    0.000,2,    79.05,2,     0.12,    37.35,2,     0.05,     0.01,2,     0.01,     2.70,2,     0.01,  -999.00,9,  -999.00,    2.851,2,    1.513,2,    0.209,2, -999.000,9,   -999.0,9,   -999.0,9,   -999.0,9,-999.0000,     -999,9, -999.000,9,  -999.00,9, -999.000,9, -999.000,   -999.0,9,   -999.0, -999.000,9, -999.000, -999.000,9, -999.000,   -999.0,9,   -999.0, -999.000,9, -999.000,9, -999.000,9
  49NZ20140717,   P01,   102,  1,     30, X12J30,2,20140807,1030, 46.9931,-173.7860, 5724,    300.6,2,   3.8710,2,   3.87094,2,  33.8729,2,  33.8729,2,-999.0000,9,    87.15,2,    87.34,2,   99.772,   0.0091,2,    0.016,2,  -999.00,9,    2.587,1,    0.000,2,    85.38,2,     0.13,    38.87,2,     0.05,     0.01,2,     0.01,     2.79,2,     0.01,  -999.00,9,  -999.00,    2.491,2,    1.308,2,    0.195,2, -999.000,9,   -999.0,9,   -999.0,9,   -999.0,9,-999.0000,     -999,9, -999.000,9,  -999.00,9, -999.000,9, -999.000,   -999.0,9,   -999.0, -999.000,9, -999.000, -999.000,9, -999.000,   -999.0,9,   -999.0, -999.000,9, -999.000,9, -999.000,9
  49NZ20140717,   P01,   102,  1,     29, X12J29,2,20140807,1030, 46.9931,-173.7860, 5724,    400.9,2,   3.8322,2,   3.83199,2,  34.0010,2,  34.0001,2,-999.0000,9,    47.44,2,    48.35,2,   99.828,   0.0069,2,    0.017,2,  -999.00,9,    2.887,1,    0.000,2,    99.37,2,     0.14,    41.97,2,     0.05,     0.01,2,     0.01,     3.00,2,     0.01,  -999.00,9,  -999.00,    1.712,2,    0.877,2,    0.117,2, -999.000,9,   -999.0,9,   -999.0,9,   -999.0,9,-999.0000,     -999,9, -999.000,9,  -999.00,9, -999.000,9, -999.000,   -999.0,9,   -999.0, -999.000,9, -999.000, -999.000,9, -999.000,   -999.0,9,   -999.0, -999.000,9, -999.000,9, -999.000,9
  49NZ20140717,   P01,   102,  1,     28, X12J28,2,20140807,1030, 46.9931,-173.7860, 5724,    499.6,2,   3.7546,2,   3.75485,2,  34.1173,2,  34.1171,2,-999.0000,9,    42.69,2,    43.07,2,   99.910,   0.0036,2,    0.016,2,  -999.00,9,    2.909,1,    0.000,2,   109.40,2,     0.14,    41.85,2,     0.05,     0.01,2,     0.01,     3.00,2,     0.01,  -999.00,9,  -999.00,    1.164,2,    0.580,2,    0.073,2, -999.000,9,   -999.0,9,   -999.0,9,   -999.0,9,-999.0000,     -999,9, -999.000,9,  -999.00,9, -999.000,9, -999.000,   -999.0,9,   -999.0, -999.000,9, -999.000, -999.000,9, -999.000,   -999.0,9,   -999.0, -999.000,9, -999.000,9, -999.000,9
  49NZ20140717,   P01,   102,  1,     27, X12J27,2,20140807,1030, 46.9931,-173.7860, 5724,    600.6,2,   3.4993,2,   3.50164,2,  34.1915,2,  34.1907,2,-999.0000,9,    30.59,2,    30.54,2,   99.850,   0.0060,2,    0.016,2,  -999.00,9,    2.924,1,    0.000,2,   120.77,2,     0.15,    42.89,2,     0.05,     0.01,2,     0.01,     3.07,2,     0.01,  -999.00,9,  -999.00,    0.794,2,    0.389,2,    0.043,2, -999.000,9,   -999.0,9,   -999.0,9,   -999.0,9,-999.0000,     -999,9, -999.000,9,  -999.00,9, -999.000,9, -999.000,   -999.0,9,   -999.0, -999.000,9, -999.000, -999.000,9, -999.000,   -999.0,9,   -999.0, -999.000,9, -999.000,9, -999.000,9
  49NZ20140717,   P01,   102,  1,     26, X12J26,2,20140807,1030, 46.9931,-173.7860, 5724,    699.7,2,   3.2848,2,   3.28470,2,  34.2454,2,  34.2450,2,-999.0000,9,    22.51,2,    22.30,2,   99.852,   0.0059,2,    0.016,2,  -999.00,9,    3.018,1,    0.000,2,   129.98,2,     0.16,    43.74,2,     0.06,     0.01,2,     0.01,     3.13,2,     0.01,  -999.00,9,  -999.00,    0.552,2,    0.265,2,    0.034,2, -999.000,9,   -999.0,9,   -999.0,9,   -999.0,9,-999.0000,     -999,9, -999.000,9,  -999.00,9, -999.000,9, -999.000,   -999.0,9,   -999.0, -999.000,9, -999.000, -999.000,9, -999.000,   -999.0,9,   -999.0, -999.000,9, -999.000,9, -999.000,9
  49NZ20140717,   P01,   102,  1,     25, X12J25,2,20140807,1030, 46.9931,-173.7860, 5724,    800.0,2,   3.1187,2,   3.11868,2,  34.2985,2,  34.2985,2,-999.0000,9,    25.61,2,    25.52,2,   99.900,   0.0040,2,    0.015,2,  -999.00,9,    3.024,1,    0.000,2,   136.15,2,     0.16,    43.52,2,     0.05,     0.01,2,     0.01,     3.12,2,     0.01,  -999.00,9,  -999.00,    0.417,2,    0.196,2,    0.023,2, -999.000,9,   -999.0,9,   -999.0,9,   -999.0,9,-999.0000,     -999,9, -999.000,9,  -999.00,9, -999.000,9, -999.000,   -999.0,9,   -999.0, -999.000,9, -999.000, -999.000,9, -999.000,   -999.0,9,   -999.0, -999.000,9, -999.000,9, -999.000,9
  49NZ20140717,   P01,   102,  1,     24, X12J24,2,20140807,1030, 46.9931,-173.7860, 5724,    900.6,2,   2.9445,2,   2.94432,2,  34.3434,2,  34.3431,2,-999.0000,9,    26.25,2,    26.11,2,   99.856,   0.0057,2,    0.014,2,  -999.00,9,    3.103,1,    0.000,2,   141.68,2,     0.16,    43.41,2,     0.05,     0.00,2,     0.01,     3.12,2,     0.01,  -999.00,9,  -999.00,    0.308,2,    0.142,2,    0.020,2, -999.000,9,   -999.0,9,   -999.0,9,   -999.0,9,-999.0000,     -999,9, -999.000,9,  -999.00,9, -999.000,9, -999.000,   -999.0,9,   -999.0, -999.000,9, -999.000, -999.000,9, -999.000,   -999.0,9,   -999.0, -999.000,9, -999.000,9, -999.000,9
  49NZ20140717,   P01,   102,  1,     23, X12J23,2,20140807,1030, 46.9931,-173.7860, 5724,   1001.2,2,   2.7783,2,   2.78627,2,  34.3847,2,  34.3834,2,-999.0000,9,    26.64,2,    26.37,2,   99.878,   0.0049,2,    0.014,2,  -999.00,9,    3.138,1,    0.000,2,   147.36,2,     0.17,    43.46,2,     0.05,     0.00,2,     0.01,     3.12,2,     0.01,  -999.00,9,  -999.00, -999.000,9, -999.000,9, -999.000,9, -999.000,9,   -999.0,9,   -999.0,9,   -999.0,9,-999.0000,     -999,9, -999.000,9,  -999.00,9, -999.000,9, -999.000,   -999.0,9,   -999.0, -999.000,9, -999.000, -999.000,9, -999.000,   -999.0,9,   -999.0, -999.000,9, -999.000,9, -999.000,9
  49NZ20140717,   P01,   102,  1,     22, X12J22,2,20140807,1030, 46.9931,-173.7860, 5724,   1199.4,2,   2.5373,2,   2.53682,2,  34.4431,2,  34.4432,2,-999.0000,9,    29.95,2,    29.91,2,   99.900,   0.0040,2,    0.013,2,  -999.00,9,    3.098,1,    0.000,2,   155.84,2,     0.17,    43.46,2,     0.05,     0.00,2,     0.01,     3.11,2,     0.01,  -999.00,9,  -999.00,    0.126,2,    0.056,2,    0.000,2, -999.000,9,   -999.0,9,   -999.0,9,   -999.0,9,-999.0000,     -999,9, -999.000,9,  -999.00,9, -999.000,9, -999.000,   -999.0,9,   -999.0, -999.000,9, -999.000, -999.000,9, -999.000,   -999.0,9,   -999.0, -999.000,9, -999.000,9, -999.000,9
  49NZ20140717,   P01,   102,  1,     21, X12J21,2,20140807,1030, 46.9931,-173.7860, 5724,   1401.0,2,   2.3308,2,   2.33077,2,  34.4929,2,  34.4929,2,-999.0000,9,    36.36,2,    36.38,2,   99.904,   0.0038,2,    0.012,2,  -999.00,9,    3.117,1,    0.000,2,   161.77,2,     0.17,    43.23,2,     0.05,     0.00,2,     0.01,     3.08,2,     0.01,  -999.00,9,  -999.00,    0.061,2,    0.029,2,    0.000,2, -999.000,9,   -999.0,9,   -999.0,9,   -999.0,9,-999.0000,     -999,9, -999.000,9,  -999.00,9, -999.000,9, -999.000,   -999.0,9,   -999.0, -999.000,9, -999.000, -999.000,9, -999.000,   -999.0,9,   -999.0, -999.000,9, -999.000,9, -999.000,9
  49NZ20140717,   P01,   102,  1,     20, X12J20,2,20140807,1030, 46.9931,-173.7860, 5724,   1598.3,2,   2.1741,2,   2.17396,2,  34.5307,2,  34.5310,2,-999.0000,9,    43.90,2,    44.10,2,   99.917,   0.0033,2,    0.011,2,  -999.00,9,    3.017,1,    0.000,2,   165.39,2,     0.18,    42.80,2,     0.05,     0.00,2,     0.01,     3.05,2,     0.01,  -999.00,9,  -999.00,    0.029,2,    0.013,2,    0.000,2, -999.000,9,   -999.0,9,   -999.0,9,   -999.0,9,-999.0000,     -999,9, -999.000,9,  -999.00,9, -999.000,9, -999.000,   -999.0,9,   -999.0, -999.000,9, -999.000, -999.000,9, -999.000,   -999.0,9,   -999.0, -999.000,9, -999.000,9, -999.000,9
  49NZ20140717,   P01,   102,  1,     19, X12J19,2,20140807,1030, 46.9931,-173.7860, 5724,   1801.0,2,   2.0394,2,   2.03931,2,  34.5620,2,  34.5620,2,-999.0000,9,    54.33,2,    54.68,2,   99.928,   0.0029,2,    0.010,2,  -999.00,9,    3.040,1,    0.000,2,   167.23,2,     0.18,    42.23,2,     0.05,     0.00,2,     0.01,     3.00,2,     0.01,  -999.00,9,  -999.00,    0.014,2,    0.008,2,    0.000,2, -999.000,9,   -999.0,9,   -999.0,9,   -999.0,9,-999.0000,     -999,9, -999.000,9,  -999.00,9, -999.000,9, -999.000,   -999.0,9,   -999.0, -999.000,9, -999.000, -999.000,9, -999.000,   -999.0,9,   -999.0, -999.000,9, -999.000,9, -999.000,9
  49NZ20140717,   P01,   102,  1,     18, X12J18,2,20140807,1030, 46.9931,-173.7860, 5724,   2001.8,2,   1.9269,2,   1.92665,2,  34.5860,2,  34.5859,2,-999.0000,9,    64.76,2,    64.84,2,   99.958,   0.0017,2,    0.009,2,  -999.00,9,    2.942,1,    0.000,2,   168.40,2,     0.18,    41.64,2,     0.05,     0.00,2,     0.01,     2.95,2,     0.01,  -999.00,9,  -999.00,    0.003,2,    0.002,2,    0.000,2, -999.000,9,   -999.0,9,   -999.0,9,   -999.0,9,-999.0000,     -999,9, -999.000,9,  -999.00,9, -999.000,9, -999.000,   -999.0,9,   -999.0, -999.000,9, -999.000, -999.000,9, -999.000,   -999.0,9,   -999.0, -999.000,9, -999.000,9, -999.000,9
  49NZ20140717,   P01,   102,  1,     17, X12J17,2,20140807,1030, 46.9931,-173.7860, 5724,   2199.3,2,   1.8279,2,   1.82795,2,  34.6062,2,  34.6063,2,-999.0000,9,    75.70,2,    75.82,2,   99.980,   0.0008,2,    0.007,2,  -999.00,9,    2.897,1,    0.000,2,   169.13,2,     0.18,    40.98,2,     0.05,     0.00,2,     0.01,     2.90,2,     0.01,  -999.00,9,  -999.00,    0.004,2,    0.001,2,    0.000,2, -999.000,9,   -999.0,9,   -999.0,9,   -999.0,9,-999.0000,     -999,9, -999.000,9,  -999.00,9, -999.000,9, -999.000,   -999.0,9,   -999.0, -999.000,9, -999.000, -999.000,9, -999.000,   -999.0,9,   -999.0, -999.000,9, -999.000,9, -999.000,9
  49NZ20140717,   P01,   102,  1,     16, X12J16,2,20140807,1030, 46.9931,-173.7860, 5724,   2400.4,2,   1.7401,2,   1.74023,2,  34.6234,2,  34.6234,2,-999.0000,9,    86.67,2,    86.59,2,   99.975,   0.0010,2,    0.007,2,  -999.00,9,    2.878,1,    0.000,2,   168.54,2,     0.18,    40.30,2,     0.05,     0.00,2,     0.01,     2.85,2,     0.01,  -999.00,9,  -999.00,    0.002,2,    0.000,2,    0.000,2, -999.000,9,   -999.0,9,   -999.0,9,   -999.0,9,-999.0000,     -999,9, -999.000,9,  -999.00,9, -999.000,9, -999.000,   -999.0,9,   -999.0, -999.000,9, -999.000, -999.000,9, -999.000,   -999.0,9,   -999.0, -999.000,9, -999.000,9, -999.000,9
  49NZ20140717,   P01,   102,  1,     15, X12J15,2,20140807,1030, 46.9931,-173.7860, 5724,   2599.3,2,   1.6794,2,   1.67948,2,  34.6357,2,  34.6360,2,-999.0000,9,    95.59,2,    95.71,2,   99.986,   0.0006,2,    0.006,2,  -999.00,9,    2.775,1,    0.000,2,   167.93,2,     0.18,    39.76,2,     0.05,     0.00,2,     0.01,     2.81,2,     0.01,  -999.00,9,  -999.00,    0.000,2,    0.001,2,    0.000,2, -999.000,9,   -999.0,9,   -999.0,9,   -999.0,9,-999.0000,     -999,9, -999.000,9,  -999.00,9, -999.000,9, -999.000,   -999.0,9,   -999.0, -999.000,9, -999.000, -999.000,9, -999.000,   -999.0,9,   -999.0, -999.000,9, -999.000,9, -999.000,9
  49NZ20140717,   P01,   102,  1,     14, X12J14,2,20140807,1030, 46.9931,-173.7860, 5724,   2799.3,2,   1.6290,2,   1.62917,2,  34.6455,2,  34.6459,2,-999.0000,9,   104.70,2,   104.80,2,   99.973,   0.0011,2,    0.005,2,  -999.00,9,    2.655,1,    0.000,2,   166.66,2,     0.18,    39.27,2,     0.05,     0.00,2,     0.01,     2.77,2,     0.01,  -999.00,9,  -999.00,    0.000,2,    0.000,2,    0.000,2, -999.000,9,   -999.0,9,   -999.0,9,   -999.0,9,-999.0000,     -999,9, -999.000,9,  -999.00,9, -999.000,9, -999.000,   -999.0,9,   -999.0, -999.000,9, -999.000, -999.000,9, -999.000,   -999.0,9,   -999.0, -999.000,9, -999.000,9, -999.000,9
  49NZ20140717,   P01,   102,  1,     13, X12113,2,20140807,1030, 46.9931,-173.7860, 5724,   3000.3,2,   1.5792,2,   1.57918,2,  34.6551,2,  34.6551,2,-999.0000,9,   114.17,2,   114.12,2,   99.982,   0.0007,2,    0.004,2,  -999.00,9,    2.599,1,    0.000,2,   164.99,2,     0.18,    38.66,2,     0.05,     0.00,2,     0.01,     2.72,2,     0.01,  -999.00,9,  -999.00,    0.000,2,    0.000,2,    0.000,2, -999.000,9,   -999.0,9,   -999.0,9,   -999.0,9,-999.0000,     -999,9, -999.000,9,  -999.00,9, -999.000,9, -999.000,   -999.0,9,   -999.0, -999.000,9, -999.000, -999.000,9, -999.000,   -999.0,9,   -999.0, -999.000,9, -999.000,9, -999.000,9
  49NZ20140717,   P01,   102,  1,     12, X12J12,2,20140807,1030, 46.9931,-173.7860, 5724,   3250.2,2,   1.5350,2,   1.53506,2,  34.6640,2,  34.6641,2,-999.0000,9,   124.13,2,   123.99,2,   99.958,   0.0017,2,    0.004,2,  -999.00,9,    2.502,1,    0.000,2,   162.19,2,     0.18,    37.92,2,     0.05,     0.00,2,     0.01,     2.67,2,     0.01,  -999.00,9,  -999.00,    0.000,2,    0.000,2,    0.000,2, -999.000,9,   -999.0,9,   -999.0,9,   -999.0,9,-999.0000,     -999,9, -999.000,9,  -999.00,9, -999.000,9, -999.000,   -999.0,9,   -999.0, -999.000,9, -999.000, -999.000,9, -999.000,   -999.0,9,   -999.0, -999.000,9, -999.000,9, -999.000,9
  49NZ20140717,   P01,   102,  1,     11, X12J11,2,20140807,1030, 46.9931,-173.7860, 5724,   3500.3,2,   1.4988,2,   1.49894,2,  34.6715,2,  34.6715,2,-999.0000,9,   133.15,2,   133.00,2,   99.973,   0.0011,2,    0.003,2,  -999.00,9,    2.483,1,    0.000,2,   159.84,2,     0.17,    37.33,2,     0.05,     0.00,2,     0.01,     2.62,2,     0.01,  -999.00,9,  -999.00,    0.000,2,    0.000,2,    0.000,2, -999.000,9,   -999.0,9,   -999.0,9,   -999.0,9,-999.0000,     -999,9, -999.000,9,  -999.00,9, -999.000,9, -999.000,   -999.0,9,   -999.0, -999.000,9, -999.000, -999.000,9, -999.000,   -999.0,9,   -999.0, -999.000,9, -999.000,9, -999.000,9
  49NZ20140717,   P01,   102,  1,     10, X12J10,2,20140807,1030, 46.9931,-173.7860, 5724,   3750.0,2,   1.4796,2,   1.47963,2,  34.6768,2,  34.6769,2,-999.0000,9,   139.73,2,   139.45,2,   99.978,   0.0009,2,    0.003,2,  -999.00,9,    2.677,4,    0.000,2,   158.74,2,     0.17,    36.96,2,     0.05,     0.01,2,     0.01,     2.58,2,     0.01,  -999.00,9,  -999.00,    0.000,2,    0.001,2,    0.000,2, -999.000,9,   -999.0,9,   -999.0,9,   -999.0,9,-999.0000,     -999,9, -999.000,9,  -999.00,9, -999.000,9, -999.000,   -999.0,9,   -999.0, -999.000,9, -999.000, -999.000,9, -999.000,   -999.0,9,   -999.0, -999.000,9, -999.000,9, -999.000,9