BOTTLE,20230904JAMSTECRIGC
EXPOCODE,SECT,STNNBR,CASTNO,SAMPNO,BTLNBR,BTLNBR_FLAG_W,DATE,TIME,LATITUDE,LONGITUDE,DEPTH,CTDPRS,CTDPRS_FLAG_W,CTDTMP,CTDTMP_FLAG_W,SBE35,SBE35_FLAG_W,CTDSAL,CTDSAL_FLAG_W,SALNTY,SALNTY_FLAG_W,DNSSAL,DNSSAL_FLAG_W,CTDOXY,CTDOXY_FLAG_W,OXYGEN,OXYGEN_FLAG_W,XMISS,XMISSCP,XMISS_FLAG_W,FLUOR,FLUOR_FLAG_W,CHLORA,CHLORA_FLAG_W,CDOM,CDOM_FLAG_W,PAR,PAR_FLAG_W,SILCAT,SILCAT_FLAG_W,SILUNC,NITRAT,NITRAT_FLAG_W,NRAUNC,NITRIT,NITRIT_FLAG_W,NRIUNC,PHSPHT,PHSPHT_FLAG_W,PHPUNC,AMMONIA,AMMONIA_FLAG_W,NH4UNC,CFC-11,CFC-11_FLAG_W,CFC-12,CFC-12_FLAG_W,CFC113,CFC113_FLAG_W,SF6,SF6_FLAG_W,TCARBN,TCARBN_FLAG_W,ALKALI,ALKALI_FLAG_W,ALKALI_POT,ALKALI_POT_FLAG_W,PH_TOT,PH_TMP,PH_TOT_FLAG_W,CALCIUM,CALCIUM_FLAG_W,DOC,DOC_FLAG_W,DELC13,DELC13_FLAG_W,C13ERR,DELC14,DELC14_FLAG_W,C14ERR,CS-134,CS-134_FLAG_W,CS134ER,CS-137,CS-137_FLAG_W,CS137ER,I-129,I-129_FLAG_W,I-129ER,CDOM-325,CDOM-325_FLAG_W,CDOM-370,CDOM-370_FLAG_W,CDOM-443,CDOM-443_FLAG_W
,,,,,,,,UTC,DEG,DEG,METERS,DBAR,,ITS-90,,ITS-90,,PSS-78,,PSS-78,,G/KG,,UMOL/KG,,UMOL/KG,,%TRANS,/METER,,MG/CUM,,MG/CUM,,MG/CUM,,UE/SQM/S,,UMOL/KG,,UMOL/KG,UMOL/KG,,UMOL/KG,UMOL/KG,,UMOL/KG,UMOL/KG,,UMOL/KG,UMOL/KG,,UMOL/KG,PMOL/KG,,PMOL/KG,,PMOL/KG,,FMOL/KG,,UMOL/KG,,UMOL/KG,,UMOL/KG,,,DEG C,,MMOL/KG,,UMOL/KG,,/MILLE,,/MILLE,/MILLE,,/MILLE,MBQ/KG,,MBQ/KG,MBQ/KG,,MBQ/KG,,,,/METER,,/METER,,/METER,
  49NZ20140717,   P01,    75,  1,      9, X12J09,2,20140729,0714, 46.9856, 162.2495, 5626,   4001.0,2,   1.4663,2,   1.46633,2,  34.6821,2,  34.6817,2,-999.0000,9,   148.69,2,   148.22,2,   99.964,   0.0014,2,    0.003,2,  -999.00,9,    2.426,4,    0.000,2,   152.69,2,     0.17,    36.30,2,     0.05,     0.00,2,     0.01,     2.54,2,     0.01,  -999.00,9,  -999.00, -999.000,9, -999.000,9, -999.000,9, -999.000,9,   2329.0,2,   2419.6,2,   2411.3,2,   7.5681,       25,2,   10.346,2,    37.60,2, -999.000,9, -999.000,   -999.0,9,   -999.0, -999.000,9, -999.000, -999.000,9, -999.000,   -999.0,9,   -999.0, -999.000,9, -999.000,9, -999.000,9
  49NZ20140717,   P01,    75,  1,      8, X12J08,2,20140729,0714, 46.9856, 162.2495, 5626,   4249.4,2,   1.4718,2,   1.47202,2,  34.6846,2,  34.6841,2,-999.0000,9,   151.83,2,   151.31,2,   99.971,   0.0012,2,    0.003,2,  -999.00,9,    1.656,4,    0.000,2,   151.82,2,     0.17,    36.11,2,     0.05,     0.00,2,     0.01,     2.52,2,     0.01,  -999.00,9,  -999.00, -999.000,9, -999.000,9, -999.000,9, -999.000,9,   2326.7,6,   2419.0,2,   -999.0,9,   7.5741,       25,2, -999.000,9,    38.44,2, -999.000,9, -999.000,   -999.0,9,   -999.0, -999.000,9, -999.000, -999.000,9, -999.000,   -999.0,9,   -999.0, -999.000,9, -999.000,9, -999.000,9
  49NZ20140717,   P01,    75,  1,      7, X12J07,2,20140729,0714, 46.9856, 162.2495, 5626,   4500.9,2,   1.4823,2,   1.48249,2,  34.6865,2,  34.6861,2,-999.0000,9,   154.24,2,   153.73,2,   99.979,   0.0008,2,    0.002,2,  -999.00,9,    1.168,4,    0.000,2,   151.29,2,     0.17,    35.91,2,     0.05,     0.00,2,     0.01,     2.51,2,     0.01,  -999.00,9,  -999.00, -999.000,9, -999.000,9, -999.000,9, -999.000,9,   2325.2,2,   2419.9,2,   -999.0,9,   7.5780,       25,6, -999.000,9,    38.18,2, -999.000,9, -999.000,   -999.0,9,   -999.0, -999.000,9, -999.000, -999.000,9, -999.000,   -999.0,9,   -999.0, -999.000,9, -999.000,9, -999.000,9
  49NZ20140717,   P01,    75,  1,      6, X12J06,2,20140729,0714, 46.9856, 162.2495, 5626,   4749.5,2,   1.4989,2,   1.49914,2,  34.6880,2,  34.6874,2,-999.0000,9,   155.89,2,   155.47,2,   99.994,   0.0002,2,    0.002,2,  -999.00,9,   -0.249,4,    0.000,2,   151.30,2,     0.17,    35.79,2,     0.05,     0.01,2,     0.01,     2.50,2,     0.01,  -999.00,9,  -999.00, -999.000,9, -999.000,9, -999.000,9, -999.000,9,   2324.6,2,   2418.9,6,   -999.0,9,   7.5814,       25,2, -999.000,9,    38.72,2, -999.000,9, -999.000,   -999.0,9,   -999.0, -999.000,9, -999.000, -999.000,9, -999.000,   -999.0,9,   -999.0, -999.000,9, -999.000,9, -999.000,9
  49NZ20140717,   P01,    75,  1,      5, X12J05,2,20140729,0714, 46.9856, 162.2495, 5626,   5002.3,2,   1.5201,2,   1.52027,2,  34.6891,2,  34.6887,2,-999.0000,9,   157.04,2,   156.62,2,   99.986,   0.0006,2,    0.001,2,  -999.00,9,   -1.377,4,    0.000,2,   151.59,2,     0.17,    35.72,2,     0.05,     0.00,2,     0.01,     2.49,2,     0.01,  -999.00,9,  -999.00, -999.000,9, -999.000,9, -999.000,9, -999.000,9,   2322.8,2,   2420.1,2,   2411.3,2,   7.5831,       25,2,   10.342,2,    38.46,2, -999.000,9, -999.000,   -999.0,9,   -999.0, -999.000,9, -999.000, -999.000,9, -999.000,   -999.0,9,   -999.0, -999.000,9, -999.000,9, -999.000,9
  49NZ20140717,   P01,    75,  1,      4, X12J04,2,20140729,0714, 46.9856, 162.2495, 5626,   5250.3,2,   1.5460,2,   1.54615,2,  34.6897,2,  34.6893,2,-999.0000,9,   157.36,2,   157.05,2,   99.908,   0.0037,2,    0.002,2,  -999.00,9,   -1.710,4,    0.000,2,   152.65,2,     0.17,    35.72,2,     0.05,     0.00,2,     0.01,     2.49,2,     0.01,  -999.00,9,  -999.00, -999.000,9, -999.000,9, -999.000,9, -999.000,9,   2323.1,2,   2421.1,2,   -999.0,9,   7.5837,       25,2, -999.000,9,    38.67,2, -999.000,9, -999.000,   -999.0,9,   -999.0, -999.000,9, -999.000, -999.000,9, -999.000,   -999.0,9,   -999.0, -999.000,9, -999.000,9, -999.000,9
  49NZ20140717,   P01,    75,  1,      3, X12J03,2,20140729,0714, 46.9856, 162.2495, 5626,   5500.1,2,   1.5789,2,   1.57883,2,  34.6895,2,  34.6886,3,-999.0000,9,   157.23,2,   157.10,2,   99.893,   0.0043,2,    0.002,2,  -999.00,9,   -1.734,4,    0.000,2,   152.54,2,     0.17,    35.72,2,     0.05,     0.00,2,     0.01,     2.49,2,     0.01,  -999.00,9,  -999.00, -999.000,9, -999.000,9, -999.000,9, -999.000,9,   2322.3,2,   2419.7,2,   -999.0,9,   7.5841,       25,2, -999.000,9,    38.09,2, -999.000,9, -999.000,   -999.0,9,   -999.0, -999.000,9, -999.000, -999.000,9, -999.000,   -999.0,9,   -999.0, -999.000,9, -999.000,9, -999.000,9
  49NZ20140717,   P01,    75,  1,      2, X12J02,2,20140729,0714, 46.9856, 162.2495, 5626,    300.6,2,   3.5735,2,   3.57319,2,  33.9558,2,  33.9545,2,-999.0000,9,    24.17,2,    24.15,2,   99.698,   0.0121,2,    0.019,2,  -999.00,9,    2.852,1,    0.000,2,   104.69,2,     0.14,    45.07,2,     0.06,     0.01,2,     0.01,     3.20,2,     0.01,  -999.00,9,  -999.00, -999.000,9, -999.000,9, -999.000,9, -999.000,9,   2343.8,2,   2310.5,2,   -999.0,9,   7.2291,       25,2, -999.000,9,    40.61,2, -999.000,9, -999.000,   -999.0,9,   -999.0, -999.000,9, -999.000, -999.000,9, -999.000,   -999.0,9,   -999.0, -999.000,9, -999.000,9, -999.000,9
  49NZ20140717,   P01,    75,  1,      1, X12J01,2,20140729,0714, 46.9856, 162.2495, 5626,   5741.0,2,   1.6102,2,   1.61008,2,  34.6895,2,  34.6897,2,-999.0000,9,   157.22,2,   157.28,2,   99.813,   0.0075,2,    0.002,2,  -999.00,9,   -1.040,4,    0.000,2,   152.76,2,     0.17,    35.69,2,     0.05,     0.00,2,     0.01,     2.49,2,     0.01,  -999.00,9,  -999.00, -999.000,9, -999.000,9, -999.000,9, -999.000,9,   2323.1,2,   2419.2,2,   2417.8,2,   7.5830,       25,2,   10.351,2,    36.87,2, -999.000,9, -999.000,   -999.0,9,   -999.0, -999.000,9, -999.000, -999.000,9, -999.000,   -999.0,9,   -999.0, -999.000,9, -999.000,9, -999.000,9