BOTTLE,20230904JAMSTECRIGC
EXPOCODE,SECT,STNNBR,CASTNO,SAMPNO,BTLNBR,BTLNBR_FLAG_W,DATE,TIME,LATITUDE,LONGITUDE,DEPTH,CTDPRS,CTDPRS_FLAG_W,CTDTMP,CTDTMP_FLAG_W,SBE35,SBE35_FLAG_W,CTDSAL,CTDSAL_FLAG_W,SALNTY,SALNTY_FLAG_W,DNSSAL,DNSSAL_FLAG_W,CTDOXY,CTDOXY_FLAG_W,OXYGEN,OXYGEN_FLAG_W,XMISS,XMISSCP,XMISS_FLAG_W,FLUOR,FLUOR_FLAG_W,CHLORA,CHLORA_FLAG_W,CDOM,CDOM_FLAG_W,PAR,PAR_FLAG_W,SILCAT,SILCAT_FLAG_W,SILUNC,NITRAT,NITRAT_FLAG_W,NRAUNC,NITRIT,NITRIT_FLAG_W,NRIUNC,PHSPHT,PHSPHT_FLAG_W,PHPUNC,AMMONIA,AMMONIA_FLAG_W,NH4UNC,CFC-11,CFC-11_FLAG_W,CFC-12,CFC-12_FLAG_W,CFC113,CFC113_FLAG_W,SF6,SF6_FLAG_W,TCARBN,TCARBN_FLAG_W,ALKALI,ALKALI_FLAG_W,ALKALI_POT,ALKALI_POT_FLAG_W,PH_TOT,PH_TMP,PH_TOT_FLAG_W,CALCIUM,CALCIUM_FLAG_W,DOC,DOC_FLAG_W,DELC13,DELC13_FLAG_W,C13ERR,DELC14,DELC14_FLAG_W,C14ERR,CS-134,CS-134_FLAG_W,CS134ER,CS-137,CS-137_FLAG_W,CS137ER,I-129,I-129_FLAG_W,I-129ER,CDOM-325,CDOM-325_FLAG_W,CDOM-370,CDOM-370_FLAG_W,CDOM-443,CDOM-443_FLAG_W
,,,,,,,,UTC,DEG,DEG,METERS,DBAR,,ITS-90,,ITS-90,,PSS-78,,PSS-78,,G/KG,,UMOL/KG,,UMOL/KG,,%TRANS,/METER,,MG/CUM,,MG/CUM,,MG/CUM,,UE/SQM/S,,UMOL/KG,,UMOL/KG,UMOL/KG,,UMOL/KG,UMOL/KG,,UMOL/KG,UMOL/KG,,UMOL/KG,UMOL/KG,,UMOL/KG,PMOL/KG,,PMOL/KG,,PMOL/KG,,FMOL/KG,,UMOL/KG,,UMOL/KG,,UMOL/KG,,,DEG C,,MMOL/KG,,UMOL/KG,,/MILLE,,/MILLE,/MILLE,,/MILLE,MBQ/KG,,MBQ/KG,MBQ/KG,,MBQ/KG,,,,/METER,,/METER,,/METER,
  49NZ20140717,   P01,    77,  1,      9, X12J09,2,20140729,2247, 46.9988, 164.5143, 5920,   3920.9,2,   1.4882,2,   1.48839,2,  34.6791,2,  34.6786,2,-999.0000,9,   144.64,2,   144.22,2,  100.004,  -0.0002,2,    0.001,2,  -999.00,9,    2.359,1,    0.000,2,   153.37,2,     0.17,    36.53,2,     0.05,     0.00,2,     0.01,     2.55,2,     0.01,  -999.00,9,  -999.00, -999.000,9, -999.000,9, -999.000,9, -999.000,9,   2331.6,6,   2416.3,2,   -999.0,9,   7.5630,       25,2, -999.000,9,    37.97,2, -999.000,9, -999.000,   -999.0,9,   -999.0, -999.000,9, -999.000, -999.000,9, -999.000,   -999.0,9,   -999.0, -999.000,9, -999.000,9, -999.000,9
  49NZ20140717,   P01,    77,  1,      8, X12J08,2,20140729,2247, 46.9988, 164.5143, 5920,   4170.6,2,   1.4874,2,   1.48740,2,  34.6819,2,  34.6814,2,-999.0000,9,   148.47,2,   148.04,2,   99.989,   0.0004,2,    0.001,2,  -999.00,9,    2.400,4,    0.000,2,   152.57,2,     0.17,    36.31,2,     0.05,     0.00,2,     0.01,     2.53,2,     0.01,  -999.00,9,  -999.00, -999.000,9, -999.000,9, -999.000,9, -999.000,9,   2328.9,6,   2418.9,2,   -999.0,9,   7.5689,       25,2, -999.000,9,  -999.00,9, -999.000,9, -999.000,   -999.0,9,   -999.0, -999.000,9, -999.000, -999.000,9, -999.000,   -999.0,9,   -999.0, -999.000,9, -999.000,9, -999.000,9
  49NZ20140717,   P01,    77,  1,      7, X12J07,2,20140729,2247, 46.9988, 164.5143, 5920,   4419.2,2,   1.4919,2,   1.49197,2,  34.6844,2,  34.6841,2,-999.0000,9,   151.71,2,   151.18,2,   99.987,   0.0005,2,    0.000,2,  -999.00,9,    0.591,4,    0.000,2,   151.83,2,     0.17,    36.12,2,     0.05,     0.00,2,     0.01,     2.52,2,     0.01,  -999.00,9,  -999.00, -999.000,9, -999.000,9, -999.000,9, -999.000,9,   2328.1,2,   2415.6,2,   -999.0,9,   7.5747,       25,6, -999.000,9,    38.33,2, -999.000,9, -999.000,   -999.0,9,   -999.0, -999.000,9, -999.000, -999.000,9, -999.000,   -999.0,9,   -999.0, -999.000,9, -999.000,9, -999.000,9
  49NZ20140717,   P01,    77,  1,      6, X12J06,2,20140729,2247, 46.9988, 164.5143, 5920,   4672.4,2,   1.5036,2,   1.50368,2,  34.6864,2,  34.6859,2,-999.0000,9,   154.06,2,   153.48,2,   99.998,   0.0001,2,    0.000,2,  -999.00,9,   -1.916,4,    0.000,2,   151.40,2,     0.17,    35.95,2,     0.05,     0.00,2,     0.01,     2.50,2,     0.01,  -999.00,9,  -999.00, -999.000,9, -999.000,9, -999.000,9, -999.000,9,   2325.6,2,   2416.4,6,   -999.0,9,   7.5784,       25,2, -999.000,9,    38.63,2, -999.000,9, -999.000,   -999.0,9,   -999.0, -999.000,9, -999.000, -999.000,9, -999.000,   -999.0,9,   -999.0, -999.000,9, -999.000,9, -999.000,9
  49NZ20140717,   P01,    77,  1,      5, X12J05,2,20140729,2247, 46.9988, 164.5143, 5920,   4919.4,2,   1.5209,2,   1.52079,2,  34.6875,2,  34.6875,2,-999.0000,9,   155.84,2,   155.32,2,   99.970,   0.0012,2,    0.000,2,  -999.00,9,   -1.937,4,    0.000,2,   150.83,2,     0.17,    35.80,2,     0.05,     0.00,2,     0.01,     2.49,2,     0.01,  -999.00,9,  -999.00, -999.000,9, -999.000,9, -999.000,9, -999.000,9,   2323.6,2,   2416.0,2,   -999.0,9,   7.5811,       25,2, -999.000,9,    37.95,2, -999.000,9, -999.000,   -999.0,9,   -999.0, -999.000,9, -999.000, -999.000,9, -999.000,   -999.0,9,   -999.0,    0.293,2,    0.160,2,    0.073,2
  49NZ20140717,   P01,    77,  1,      4, X12J04,2,20140729,2247, 46.9988, 164.5143, 5920,   5169.5,2,   1.5425,2,   1.54246,2,  34.6887,2,  34.6887,2,-999.0000,9,   156.91,2,   156.49,2,   99.985,   0.0006,2,    0.000,2,  -999.00,9,  497.217,4,    0.000,2,   151.45,2,     0.17,    35.76,2,     0.05,     0.00,2,     0.01,     2.49,2,     0.01,  -999.00,9,  -999.00, -999.000,9, -999.000,9, -999.000,9, -999.000,9,   2323.0,2,   2417.7,2,   -999.0,9,   7.5836,       25,2, -999.000,9,    38.80,2, -999.000,9, -999.000,   -999.0,9,   -999.0, -999.000,9, -999.000, -999.000,9, -999.000,   -999.0,9,   -999.0, -999.000,9, -999.000,9, -999.000,9
  49NZ20140717,   P01,    77,  1,      3, X12J03,2,20140729,2247, 46.9988, 164.5143, 5920,   5421.7,2,   1.5686,2,   1.56867,2,  34.6896,2,  34.6881,3,-999.0000,9,   157.43,2,   157.10,2,   99.931,   0.0028,2,    0.000,2,  -999.00,9,  497.217,4,    0.000,2,   152.67,2,     0.17,    35.72,2,     0.05,     0.00,2,     0.01,     2.48,2,     0.01,  -999.00,9,  -999.00, -999.000,9, -999.000,9, -999.000,9, -999.000,9,   2322.3,2,   2416.4,2,   -999.0,9,   7.5855,       25,2, -999.000,9,    39.08,2, -999.000,9, -999.000,   -999.0,9,   -999.0, -999.000,9, -999.000, -999.000,9, -999.000,   -999.0,9,   -999.0, -999.000,9, -999.000,9, -999.000,9
  49NZ20140717,   P01,    77,  1,      2, X12J02,2,20140729,2247, 46.9988, 164.5143, 5920,   5670.2,2,   1.6017,2,   1.60146,2,  34.6894,2,  34.6895,2,-999.0000,9,   157.26,2,   157.24,2,   99.909,   0.0036,2,    0.000,2,  -999.00,9,  497.217,4,    0.000,2,   152.84,2,     0.17,    35.75,2,     0.05,     0.00,2,     0.01,     2.49,2,     0.01,  -999.00,9,  -999.00, -999.000,9, -999.000,9, -999.000,9, -999.000,9,   2322.6,2,   2417.3,2,   -999.0,9,   7.5849,       25,2, -999.000,9,    38.51,2, -999.000,9, -999.000,   -999.0,9,   -999.0, -999.000,9, -999.000, -999.000,9, -999.000,   -999.0,9,   -999.0, -999.000,9, -999.000,9, -999.000,9
  49NZ20140717,   P01,    77,  1,      1, X12J01,2,20140729,2247, 46.9988, 164.5143, 5920,   6049.4,2,   1.6541,2,   1.65385,2,  34.6893,2,  34.6896,2,-999.0000,9,   156.91,2,   157.17,2,   99.857,   0.0057,2,    0.001,2,  -999.00,9,  160.941,4,    0.000,2,   153.14,2,     0.17,    35.74,2,     0.05,     0.00,2,     0.01,     2.49,2,     0.01,  -999.00,9,  -999.00, -999.000,9, -999.000,9, -999.000,9, -999.000,9,   2323.7,2,   2415.8,3,   -999.0,9,   7.5860,       25,2, -999.000,9,    37.90,2, -999.000,9, -999.000,   -999.0,9,   -999.0, -999.000,9, -999.000, -999.000,9, -999.000,   -999.0,9,   -999.0,    0.196,2,    0.090,2,    0.033,2