BOTTLE,20230904JAMSTECRIGC
EXPOCODE,SECT,STNNBR,CASTNO,SAMPNO,BTLNBR,BTLNBR_FLAG_W,DATE,TIME,LATITUDE,LONGITUDE,DEPTH,CTDPRS,CTDPRS_FLAG_W,CTDTMP,CTDTMP_FLAG_W,SBE35,SBE35_FLAG_W,CTDSAL,CTDSAL_FLAG_W,SALNTY,SALNTY_FLAG_W,DNSSAL,DNSSAL_FLAG_W,CTDOXY,CTDOXY_FLAG_W,OXYGEN,OXYGEN_FLAG_W,XMISS,XMISSCP,XMISS_FLAG_W,FLUOR,FLUOR_FLAG_W,CHLORA,CHLORA_FLAG_W,CDOM,CDOM_FLAG_W,PAR,PAR_FLAG_W,SILCAT,SILCAT_FLAG_W,SILUNC,NITRAT,NITRAT_FLAG_W,NRAUNC,NITRIT,NITRIT_FLAG_W,NRIUNC,PHSPHT,PHSPHT_FLAG_W,PHPUNC,AMMONIA,AMMONIA_FLAG_W,NH4UNC,CFC-11,CFC-11_FLAG_W,CFC-12,CFC-12_FLAG_W,CFC113,CFC113_FLAG_W,SF6,SF6_FLAG_W,TCARBN,TCARBN_FLAG_W,ALKALI,ALKALI_FLAG_W,ALKALI_POT,ALKALI_POT_FLAG_W,PH_TOT,PH_TMP,PH_TOT_FLAG_W,CALCIUM,CALCIUM_FLAG_W,DOC,DOC_FLAG_W,DELC13,DELC13_FLAG_W,C13ERR,DELC14,DELC14_FLAG_W,C14ERR,CS-134,CS-134_FLAG_W,CS134ER,CS-137,CS-137_FLAG_W,CS137ER,I-129,I-129_FLAG_W,I-129ER,CDOM-325,CDOM-325_FLAG_W,CDOM-370,CDOM-370_FLAG_W,CDOM-443,CDOM-443_FLAG_W
,,,,,,,,UTC,DEG,DEG,METERS,DBAR,,ITS-90,,ITS-90,,PSS-78,,PSS-78,,G/KG,,UMOL/KG,,UMOL/KG,,%TRANS,/METER,,MG/CUM,,MG/CUM,,MG/CUM,,UE/SQM/S,,UMOL/KG,,UMOL/KG,UMOL/KG,,UMOL/KG,UMOL/KG,,UMOL/KG,UMOL/KG,,UMOL/KG,UMOL/KG,,UMOL/KG,PMOL/KG,,PMOL/KG,,PMOL/KG,,FMOL/KG,,UMOL/KG,,UMOL/KG,,UMOL/KG,,,DEG C,,MMOL/KG,,UMOL/KG,,/MILLE,,/MILLE,/MILLE,,/MILLE,MBQ/KG,,MBQ/KG,MBQ/KG,,MBQ/KG,,,,/METER,,/METER,,/METER,
  49NZ20140717,   P01,    65,  1,      0,   -999,9,20140724,2150, 43.0813, 153.3242, 5163,   -999.0,9,-999.0000,9,-999.00000,9,-999.0000,9,  32.8135,2,-999.0000,9,  -999.00,9,  -999.00,9, -999.000,-999.0000,9, -999.000,9,  -999.00,9, -999.000,9, -999.000,9,     3.85,2,     0.09,     2.68,2,     0.01,     0.07,2,     0.01,     0.46,2,     0.01,  -999.00,9,  -999.00, -999.000,9, -999.000,9, -999.000,9, -999.000,9,   -999.0,9,   -999.0,9,   -999.0,9,-999.0000,     -999,9, -999.000,9,  -999.00,9, -999.000,9, -999.000,   -999.0,9,   -999.0, -999.000,9, -999.000, -999.000,9, -999.000,   -999.0,9,   -999.0, -999.000,9, -999.000,9, -999.000,9
  49NZ20140717,   P01,    65,  1,     36, X12J36,2,20140724,2150, 43.0813, 153.3242, 5163,      9.9,2,  16.3703,2,  16.38160,2,  32.8223,2,  32.8230,2,-999.0000,9,   257.77,2,   258.11,2,   95.018,   0.2044,2,    0.313,2,  -999.00,9,    0.200,1,  242.974,2,     3.73,2,     0.09,     2.55,2,     0.01,     0.06,2,     0.01,     0.43,2,     0.01,  -999.00,9,  -999.00,    2.661,2,    1.624,2,    0.253,2,    2.010,2,   -999.0,9,   -999.0,9,   -999.0,9,-999.0000,     -999,9, -999.000,9,  -999.00,9, -999.000,9, -999.000,   -999.0,9,   -999.0, -999.000,9, -999.000, -999.000,9, -999.000,   -999.0,9,   -999.0, -999.000,9, -999.000,9, -999.000,9
  49NZ20140717,   P01,    65,  1,     35, X12J35,2,20140724,2150, 43.0813, 153.3242, 5163,     50.4,2,   3.4724,2,   3.48371,2,  32.9190,2,  32.9255,2,-999.0000,9,   339.33,2,   338.37,2,   95.871,   0.1687,2,    0.726,2,  -999.00,9,    1.296,1,    5.119,2,    23.02,2,     0.09,    17.57,2,     0.03,     0.30,2,     0.01,     1.66,2,     0.01,  -999.00,9,  -999.00,    5.190,2,    2.956,2,    0.470,2,    3.290,2,   -999.0,9,   -999.0,9,   -999.0,9,-999.0000,     -999,9, -999.000,9,  -999.00,9, -999.000,9, -999.000,   -999.0,9,   -999.0, -999.000,9, -999.000, -999.000,9, -999.000,   -999.0,9,   -999.0, -999.000,9, -999.000,9, -999.000,9
  49NZ20140717,   P01,    65,  1,     34, X12J34,2,20140724,2150, 43.0813, 153.3242, 5163,    100.7,2,   1.9788,2,   1.97245,2,  33.1435,2,  33.1339,2,-999.0000,9,   296.32,2,   298.07,2,   99.409,   0.0237,2,    0.041,2,  -999.00,9,    1.372,1,    0.158,2,    42.77,2,     0.10,    24.37,2,     0.04,     0.01,2,     0.01,     1.92,2,     0.01,  -999.00,9,  -999.00,    5.125,2,    2.920,2,    0.457,2,    3.070,2,   -999.0,9,   -999.0,9,   -999.0,9,-999.0000,     -999,9, -999.000,9,  -999.00,9, -999.000,9, -999.000,   -999.0,9,   -999.0, -999.000,9, -999.000, -999.000,9, -999.000,   -999.0,9,   -999.0, -999.000,9, -999.000,9, -999.000,9
  49NZ20140717,   P01,    65,  1,     33, X12J33,2,20140724,2150, 43.0813, 153.3242, 5163,    150.2,2,   2.3410,2,   2.34112,2,  33.4405,2,  33.4407,2,-999.0000,9,   200.19,2,   199.76,2,   99.381,   0.0249,2,    0.006,2,  -999.00,9,    2.085,1,    0.000,2,    65.07,2,     0.12,    31.72,2,     0.04,     0.01,2,     0.01,     2.40,2,     0.01,  -999.00,9,  -999.00,    4.106,2,    2.312,2,    0.337,2,    2.310,2,   -999.0,9,   -999.0,9,   -999.0,9,-999.0000,     -999,9, -999.000,9,  -999.00,9, -999.000,9, -999.000,   -999.0,9,   -999.0, -999.000,9, -999.000, -999.000,9, -999.000,   -999.0,9,   -999.0, -999.000,9, -999.000,9, -999.000,9
  49NZ20140717,   P01,    65,  1,     32, X12J32,2,20140724,2150, 43.0813, 153.3242, 5163,    200.6,2,   3.4417,2,   3.44329,2,  33.6849,2,  33.6853,2,-999.0000,9,   160.36,2,   158.38,2,   99.534,   0.0187,2,    0.005,2,  -999.00,9,    2.139,1,    0.000,2,    69.44,2,     0.12,    32.76,2,     0.04,     0.02,2,     0.01,     2.44,2,     0.01,  -999.00,9,  -999.00,    3.342,2,    1.872,2,    0.244,2,    1.630,2,   -999.0,9,   -999.0,9,   -999.0,9,-999.0000,     -999,9, -999.000,9,  -999.00,9, -999.000,9, -999.000,   -999.0,9,   -999.0, -999.000,9, -999.000, -999.000,9, -999.000,   -999.0,9,   -999.0, -999.000,9, -999.000,9, -999.000,9
  49NZ20140717,   P01,    65,  1,     31, X12J31,2,20140724,2150, 43.0813, 153.3242, 5163,    249.5,2,   2.9616,2,   2.95882,2,  33.7253,2,  33.7272,2,-999.0000,9,   123.07,2,   123.51,2,   99.454,   0.0219,2,    0.006,2,  -999.00,9,    2.452,1,    0.000,2,    82.07,2,     0.13,    36.65,2,     0.05,     0.01,2,     0.01,     2.70,2,     0.01,  -999.00,9,  -999.00,    3.107,2,    1.707,2,    0.230,2,    1.410,2,   -999.0,9,   -999.0,9,   -999.0,9,-999.0000,     -999,9, -999.000,9,  -999.00,9, -999.000,9, -999.000,   -999.0,9,   -999.0, -999.000,9, -999.000, -999.000,9, -999.000,   -999.0,9,   -999.0, -999.000,9, -999.000,9, -999.000,9
  49NZ20140717,   P01,    65,  1,     30, X12J30,2,20140724,2150, 43.0813, 153.3242, 5163,    278.7,2,   2.9246,2,   2.92062,2,  33.7650,2,  33.7644,2,-999.0000,9,    99.32,2,    99.14,2,   99.463,   0.0216,2,    0.007,2,  -999.00,9,    2.540,1,    0.000,2,    90.14,2,     0.13,    39.05,2,     0.05,     0.01,2,     0.01,     2.85,2,     0.01,  -999.00,9,  -999.00,    2.844,2,    1.545,2,    0.213,2,    1.220,2,   -999.0,9,   -999.0,9,   -999.0,9,-999.0000,     -999,9, -999.000,9,  -999.00,9, -999.000,9, -999.000,   -999.0,9,   -999.0, -999.000,9, -999.000, -999.000,9, -999.000,   -999.0,9,   -999.0, -999.000,9, -999.000,9, -999.000,9
  49NZ20140717,   P01,    65,  1,     29, X12J29,2,20140724,2150, 43.0813, 153.3242, 5163,    370.2,2,   3.1605,2,   3.16051,2,  33.9405,2,  33.9399,2,-999.0000,9,    56.45,2,    57.24,2,   99.739,   0.0105,2,    0.009,2,  -999.00,9,    2.767,1,    0.000,2,   105.57,2,     0.14,    41.85,2,     0.05,     0.01,2,     0.01,     3.02,2,     0.01,  -999.00,9,  -999.00,    1.972,2,    1.052,2,    0.144,2,    0.750,2,   -999.0,9,   -999.0,9,   -999.0,9,-999.0000,     -999,9, -999.000,9,  -999.00,9, -999.000,9, -999.000,   -999.0,9,   -999.0, -999.000,9, -999.000, -999.000,9, -999.000,   -999.0,9,   -999.0, -999.000,9, -999.000,9, -999.000,9
  49NZ20140717,   P01,    65,  1,     28, X12J28,2,20140724,2150, 43.0813, 153.3242, 5163,    470.4,2,   3.4999,2,   3.50106,2,  34.1065,2,  34.1071,2,-999.0000,9,    46.11,2,    46.74,2,   99.825,   0.0070,2,    0.007,2,  -999.00,9,    2.772,1,    0.000,2,   112.71,2,     0.14,    41.64,2,     0.05,     0.01,2,     0.01,     2.99,2,     0.01,  -999.00,9,  -999.00,    1.240,2,    0.661,2,    0.082,2,    0.380,2,   -999.0,9,   -999.0,9,   -999.0,9,-999.0000,     -999,9, -999.000,9,  -999.00,9, -999.000,9, -999.000,   -999.0,9,   -999.0, -999.000,9, -999.000, -999.000,9, -999.000,   -999.0,9,   -999.0, -999.000,9, -999.000,9, -999.000,9
  49NZ20140717,   P01,    65,  1,     27, X12J27,2,20140724,2150, 43.0813, 153.3242, 5163,    569.8,2,   3.1415,2,   3.14093,2,  34.1677,2,  34.1673,2,-999.0000,9,    29.90,2,    30.09,2,   99.793,   0.0083,2,    0.008,2,  -999.00,9,    2.865,1,    0.000,2,   127.16,2,     0.15,    43.26,2,     0.05,     0.01,2,     0.01,     3.10,2,     0.01,  -999.00,9,  -999.00,    0.914,2,    0.493,2,    0.067,2,    0.260,2,   -999.0,9,   -999.0,9,   -999.0,9,-999.0000,     -999,9, -999.000,9,  -999.00,9, -999.000,9, -999.000,   -999.0,9,   -999.0, -999.000,9, -999.000, -999.000,9, -999.000,   -999.0,9,   -999.0, -999.000,9, -999.000,9, -999.000,9
  49NZ20140717,   P01,    65,  1,     26, X12J26,2,20140724,2150, 43.0813, 153.3242, 5163,    668.9,2,   2.9502,2,   2.94964,2,  34.2461,2,  34.2466,2,-999.0000,9,    28.38,2,    28.60,2,   99.836,   0.0066,2,    0.007,2,  -999.00,9,    2.917,1,    0.000,2,   136.39,2,     0.16,    43.22,2,     0.05,     0.01,2,     0.01,     3.10,2,     0.01,  -999.00,9,  -999.00,    0.646,2,    0.356,2,    0.045,2,    0.190,2,   -999.0,9,   -999.0,9,   -999.0,9,-999.0000,     -999,9, -999.000,9,  -999.00,9, -999.000,9, -999.000,   -999.0,9,   -999.0, -999.000,9, -999.000, -999.000,9, -999.000,   -999.0,9,   -999.0, -999.000,9, -999.000,9, -999.000,9
  49NZ20140717,   P01,    65,  1,     25, X12J25,2,20140724,2150, 43.0813, 153.3242, 5163,    769.2,2,   2.9498,2,   2.94986,2,  34.3145,2,  34.3128,2,-999.0000,9,    31.11,2,    31.21,2,   99.849,   0.0060,2,    0.006,2,  -999.00,9,    2.896,1,    0.000,2,   139.24,2,     0.16,    42.93,2,     0.05,     0.01,2,     0.01,     3.08,2,     0.01,  -999.00,9,  -999.00,    0.436,2,    0.246,2,    0.029,2,    0.100,2,   -999.0,9,   -999.0,9,   -999.0,9,-999.0000,     -999,9, -999.000,9,  -999.00,9, -999.000,9, -999.000,   -999.0,9,   -999.0, -999.000,9, -999.000, -999.000,9, -999.000,   -999.0,9,   -999.0, -999.000,9, -999.000,9, -999.000,9
  49NZ20140717,   P01,    65,  1,     24, X12J24,2,20140724,2150, 43.0813, 153.3242, 5163,    869.7,2,   2.8074,2,   2.80726,2,  34.3559,2,  34.3555,2,-999.0000,9,    20.00,2,    19.69,2,   99.847,   0.0061,2,    0.006,2,  -999.00,9,    2.999,1,    0.000,2,   147.87,2,     0.17,    43.93,2,     0.06,     0.01,2,     0.01,     3.14,2,     0.01,  -999.00,9,  -999.00,    0.252,2,    0.145,2,    0.017,2,    0.070,2,   -999.0,9,   -999.0,9,   -999.0,9,-999.0000,     -999,9, -999.000,9,  -999.00,9, -999.000,9, -999.000,   -999.0,9,   -999.0, -999.000,9, -999.000, -999.000,9, -999.000,   -999.0,9,   -999.0, -999.000,9, -999.000,9, -999.000,9
  49NZ20140717,   P01,    65,  1,     23, X12J23,2,20140724,2150, 43.0813, 153.3242, 5163,    972.0,2,   2.6668,2,   2.66650,2,  34.3933,2,  34.3941,2,-999.0000,9,    23.32,2,    23.21,2,   99.879,   0.0048,2,    0.005,2,  -999.00,9,    2.921,1,    0.000,2,   152.52,2,     0.17,    43.68,2,     0.06,     0.01,2,     0.01,     3.13,2,     0.01,  -999.00,9,  -999.00,    0.197,2,    0.114,2,    0.012,2,    0.040,2,   -999.0,9,   -999.0,9,   -999.0,9,-999.0000,     -999,9, -999.000,9,  -999.00,9, -999.000,9, -999.000,   -999.0,9,   -999.0, -999.000,9, -999.000, -999.000,9, -999.000,   -999.0,9,   -999.0, -999.000,9, -999.000,9, -999.000,9
  49NZ20140717,   P01,    65,  1,     22, X12J22,2,20140724,2150, 43.0813, 153.3242, 5163,   5169.9,2,   1.5306,2,   1.53050,2,  34.6898,2,  34.6901,2,-999.0000,9,   158.32,2,   158.63,2,   99.827,   0.0069,2,   -0.004,2,  -999.00,9,   -1.396,4,    0.000,2,  -999.00,9,  -999.00,  -999.00,9,  -999.00,  -999.00,9,  -999.00,  -999.00,9,  -999.00,  -999.00,9,  -999.00, -999.000,9, -999.000,9, -999.000,9, -999.000,9,   -999.0,9,   -999.0,9,   -999.0,9,-999.0000,     -999,9, -999.000,9,  -999.00,9, -999.000,9, -999.000,   -999.0,9,   -999.0, -999.000,9, -999.000, -999.000,9, -999.000,   -999.0,9,   -999.0, -999.000,9, -999.000,9, -999.000,9
  49NZ20140717,   P01,    65,  1,     21, X12J21,2,20140724,2150, 43.0813, 153.3242, 5163,   1328.8,2,   2.3102,2,   2.31007,2,  34.4997,2,  34.5000,2,-999.0000,9,    44.19,2,    44.30,2,   99.920,   0.0032,2,    0.004,2,  -999.00,9,    2.871,1,    0.000,2,   159.51,2,     0.17,    42.57,2,     0.05,     0.00,2,     0.01,     3.04,2,     0.01,  -999.00,9,  -999.00,    0.083,2,    0.050,2,    0.006,2,    0.040,2,   -999.0,9,   -999.0,9,   -999.0,9,-999.0000,     -999,9, -999.000,9,  -999.00,9, -999.000,9, -999.000,   -999.0,9,   -999.0, -999.000,9, -999.000, -999.000,9, -999.000,   -999.0,9,   -999.0, -999.000,9, -999.000,9, -999.000,9
  49NZ20140717,   P01,    65,  1,     20, X12J20,2,20140724,2150, 43.0813, 153.3242, 5163,   1529.7,2,   2.1812,2,   2.18086,2,  34.5387,2,  34.5392,2,-999.0000,9,    53.11,2,    53.21,2,   99.912,   0.0035,2,    0.003,2,  -999.00,9,    2.803,1,    0.000,2,   161.28,2,     0.17,    42.15,2,     0.05,     0.00,2,     0.01,     3.00,2,     0.01,  -999.00,9,  -999.00,    0.036,2,    0.022,2,    0.002,2,    0.030,2,   -999.0,9,   -999.0,9,   -999.0,9,-999.0000,     -999,9, -999.000,9,  -999.00,9, -999.000,9, -999.000,   -999.0,9,   -999.0, -999.000,9, -999.000, -999.000,9, -999.000,   -999.0,9,   -999.0, -999.000,9, -999.000,9, -999.000,9
  49NZ20140717,   P01,    65,  1,     19, X12J19,2,20140724,2150, 43.0813, 153.3242, 5163,   1731.7,2,   2.0354,2,   2.03562,2,  34.5685,2,  34.5680,2,-999.0000,9,    62.54,2,    62.39,2,   99.948,   0.0021,2,    0.002,2,  -999.00,9,    2.783,1,    0.000,2,   163.57,2,     0.18,    41.66,2,     0.05,     0.00,2,     0.01,     2.96,2,     0.01,  -999.00,9,  -999.00,    0.019,2,    0.011,2,    0.003,2,    0.040,2,   -999.0,9,   -999.0,9,   -999.0,9,-999.0000,     -999,9, -999.000,9,  -999.00,9, -999.000,9, -999.000,   -999.0,9,   -999.0, -999.000,9, -999.000, -999.000,9, -999.000,   -999.0,9,   -999.0, -999.000,9, -999.000,9, -999.000,9
  49NZ20140717,   P01,    65,  1,     18, X12J18,2,20140724,2150, 43.0813, 153.3242, 5163,   1930.4,2,   1.9179,2,   1.91804,2,  34.5928,2,  34.5925,2,-999.0000,9,    73.12,2,    73.00,2,   99.953,   0.0019,2,    0.001,2,  -999.00,9,    2.787,1,    0.000,2,   164.41,2,     0.18,    41.05,2,     0.05,     0.00,2,     0.01,     2.91,2,     0.01,  -999.00,9,  -999.00,    0.008,2,    0.005,2,    0.001,2,    0.040,2,   -999.0,9,   -999.0,9,   -999.0,9,-999.0000,     -999,9, -999.000,9,  -999.00,9, -999.000,9, -999.000,   -999.0,9,   -999.0, -999.000,9, -999.000, -999.000,9, -999.000,   -999.0,9,   -999.0, -999.000,9, -999.000,9, -999.000,9
  49NZ20140717,   P01,    65,  1,     17, X12J17,2,20140724,2150, 43.0813, 153.3242, 5163,   2129.4,2,   1.8051,2,   1.80484,2,  34.6148,2,  34.6151,2,-999.0000,9,    86.17,2,    86.26,2,   99.948,   0.0021,2,    0.000,2,  -999.00,9,    2.593,1,    0.000,2,   163.79,2,     0.18,    40.21,2,     0.05,     0.00,2,     0.01,     2.84,2,     0.01,  -999.00,9,  -999.00,    0.001,2,    0.000,2,    0.001,2,    0.060,2,   -999.0,9,   -999.0,9,   -999.0,9,-999.0000,     -999,9, -999.000,9,  -999.00,9, -999.000,9, -999.000,   -999.0,9,   -999.0, -999.000,9, -999.000, -999.000,9, -999.000,   -999.0,9,   -999.0, -999.000,9, -999.000,9, -999.000,9
  49NZ20140717,   P01,    65,  1,     16, X12J16,2,20140724,2150, 43.0813, 153.3242, 5163,   2330.6,2,   1.7022,2,   1.70209,2,  34.6327,2,  34.6326,2,-999.0000,9,    98.96,2,    98.61,2,   99.955,   0.0018,2,   -0.001,2,  -999.00,9,    2.487,1,    0.000,2,   162.88,2,     0.18,    39.50,2,     0.05,     0.00,2,     0.01,     2.79,2,     0.01,  -999.00,9,  -999.00,    0.003,2,    0.002,2,    0.003,2,    0.080,2,   -999.0,9,   -999.0,9,   -999.0,9,-999.0000,     -999,9, -999.000,9,  -999.00,9, -999.000,9, -999.000,   -999.0,9,   -999.0, -999.000,9, -999.000, -999.000,9, -999.000,   -999.0,9,   -999.0, -999.000,9, -999.000,9, -999.000,9
  49NZ20140717,   P01,    65,  1,     15, X12J15,2,20140724,2150, 43.0813, 153.3242, 5163,   2529.9,2,   1.6370,2,   1.63682,2,  34.6433,2,  34.6432,2,-999.0000,9,   106.37,2,   106.46,2,   99.968,   0.0013,2,   -0.001,2,  -999.00,9,    2.531,1,    0.000,2,   163.44,2,     0.18,    38.98,2,     0.05,     0.00,2,     0.01,     2.75,2,     0.01,  -999.00,9,  -999.00,    0.000,2,    0.000,2,    0.000,2,    0.030,2,   -999.0,9,   -999.0,9,   -999.0,9,-999.0000,     -999,9, -999.000,9,  -999.00,9, -999.000,9, -999.000,   -999.0,9,   -999.0, -999.000,9, -999.000, -999.000,9, -999.000,   -999.0,9,   -999.0, -999.000,9, -999.000,9, -999.000,9
  49NZ20140717,   P01,    65,  1,     14, X12J14,2,20140724,2150, 43.0813, 153.3242, 5163,   2730.8,2,   1.5796,2,   1.57913,2,  34.6544,2,  34.6546,2,-999.0000,9,   118.06,2,   118.07,2,   99.989,   0.0004,2,   -0.002,2,  -999.00,9,    2.433,1,    0.000,2,   159.03,2,     0.17,    38.20,2,     0.05,     0.00,2,     0.01,     2.68,2,     0.01,  -999.00,9,  -999.00,    0.001,2,    0.000,2,    0.000,2,    0.000,2,   -999.0,9,   -999.0,9,   -999.0,9,-999.0000,     -999,9, -999.000,9,  -999.00,9, -999.000,9, -999.000,   -999.0,9,   -999.0, -999.000,9, -999.000, -999.000,9, -999.000,   -999.0,9,   -999.0, -999.000,9, -999.000,9, -999.000,9
  49NZ20140717,   P01,    65,  1,     13, X12113,2,20140724,2150, 43.0813, 153.3242, 5163,   2928.3,2,   1.5400,2,   1.53974,2,  34.6618,2,  34.6616,2,-999.0000,9,   125.82,2,   125.36,2,   99.978,   0.0009,2,   -0.002,2,  -999.00,9,    2.361,1,    0.000,2,   157.12,2,     0.17,    37.73,2,     0.05,     0.00,2,     0.01,     2.65,2,     0.01,  -999.00,9,  -999.00,    0.002,2,    0.001,2,    0.001,2,    0.000,2,   -999.0,9,   -999.0,9,   -999.0,9,-999.0000,     -999,9, -999.000,9,  -999.00,9, -999.000,9, -999.000,   -999.0,9,   -999.0, -999.000,9, -999.000, -999.000,9, -999.000,   -999.0,9,   -999.0, -999.000,9, -999.000,9, -999.000,9
  49NZ20140717,   P01,    65,  1,     12, X12J12,2,20140724,2150, 43.0813, 153.3242, 5163,   3169.8,2,   1.5045,2,   1.50446,2,  34.6687,2,  34.6686,2,-999.0000,9,   133.13,2,   132.93,2,   99.991,   0.0003,2,   -0.003,2,  -999.00,9,    2.340,1,    0.000,2,   155.58,2,     0.17,    37.26,2,     0.05,     0.00,2,     0.01,     2.61,2,     0.01,  -999.00,9,  -999.00,    0.000,2,    0.000,2,    0.000,2,    0.000,2,   -999.0,9,   -999.0,9,   -999.0,9,-999.0000,     -999,9, -999.000,9,  -999.00,9, -999.000,9, -999.000,   -999.0,9,   -999.0, -999.000,9, -999.000, -999.000,9, -999.000,   -999.0,9,   -999.0, -999.000,9, -999.000,9, -999.000,9
  49NZ20140717,   P01,    65,  1,     11, X12J11,2,20140724,2150, 43.0813, 153.3242, 5163,   3420.0,2,   1.4805,2,   1.48047,2,  34.6741,2,  34.6745,2,-999.0000,9,   139.72,2,   139.43,2,  100.004,  -0.0002,2,   -0.003,2,  -999.00,9,    2.246,1,    0.000,2,   153.73,2,     0.17,    36.81,2,     0.05,     0.00,2,     0.01,     2.58,2,     0.01,  -999.00,9,  -999.00,    0.000,2,    0.000,2,    0.000,2,    0.000,2,   -999.0,9,   -999.0,9,   -999.0,9,-999.0000,     -999,9, -999.000,9,  -999.00,9, -999.000,9, -999.000,   -999.0,9,   -999.0, -999.000,9, -999.000, -999.000,9, -999.000,   -999.0,9,   -999.0, -999.000,9, -999.000,9, -999.000,9
  49NZ20140717,   P01,    65,  1,     10, X12J10,2,20140724,2150, 43.0813, 153.3242, 5163,   3670.2,2,   1.4606,2,   1.46058,2,  34.6789,2,  34.6790,2,-999.0000,9,   145.27,2,   144.82,2,   99.991,   0.0003,2,   -0.003,2,  -999.00,9,    2.216,1,    0.000,2,   152.47,2,     0.17,    36.48,2,     0.05,     0.00,2,     0.01,     2.55,2,     0.01,  -999.00,9,  -999.00,    0.000,2,    0.000,2,    0.001,2,    0.000,2,   -999.0,9,   -999.0,9,   -999.0,9,-999.0000,     -999,9, -999.000,9,  -999.00,9, -999.000,9, -999.000,   -999.0,9,   -999.0, -999.000,9, -999.000, -999.000,9, -999.000,   -999.0,9,   -999.0, -999.000,9, -999.000,9, -999.000,9