BOTTLE,20230904JAMSTECRIGC
EXPOCODE,SECT,STNNBR,CASTNO,SAMPNO,BTLNBR,BTLNBR_FLAG_W,DATE,TIME,LATITUDE,LONGITUDE,DEPTH,CTDPRS,CTDPRS_FLAG_W,CTDTMP,CTDTMP_FLAG_W,SBE35,SBE35_FLAG_W,CTDSAL,CTDSAL_FLAG_W,SALNTY,SALNTY_FLAG_W,DNSSAL,DNSSAL_FLAG_W,CTDOXY,CTDOXY_FLAG_W,OXYGEN,OXYGEN_FLAG_W,XMISS,XMISSCP,XMISS_FLAG_W,FLUOR,FLUOR_FLAG_W,CHLORA,CHLORA_FLAG_W,CDOM,CDOM_FLAG_W,PAR,PAR_FLAG_W,SILCAT,SILCAT_FLAG_W,SILUNC,NITRAT,NITRAT_FLAG_W,NRAUNC,NITRIT,NITRIT_FLAG_W,NRIUNC,PHSPHT,PHSPHT_FLAG_W,PHPUNC,AMMONIA,AMMONIA_FLAG_W,NH4UNC,CFC-11,CFC-11_FLAG_W,CFC-12,CFC-12_FLAG_W,CFC113,CFC113_FLAG_W,SF6,SF6_FLAG_W,TCARBN,TCARBN_FLAG_W,ALKALI,ALKALI_FLAG_W,ALKALI_POT,ALKALI_POT_FLAG_W,PH_TOT,PH_TMP,PH_TOT_FLAG_W,CALCIUM,CALCIUM_FLAG_W,DOC,DOC_FLAG_W,DELC13,DELC13_FLAG_W,C13ERR,DELC14,DELC14_FLAG_W,C14ERR,CS-134,CS-134_FLAG_W,CS134ER,CS-137,CS-137_FLAG_W,CS137ER,I-129,I-129_FLAG_W,I-129ER,CDOM-325,CDOM-325_FLAG_W,CDOM-370,CDOM-370_FLAG_W,CDOM-443,CDOM-443_FLAG_W
,,,,,,,,UTC,DEG,DEG,METERS,DBAR,,ITS-90,,ITS-90,,PSS-78,,PSS-78,,G/KG,,UMOL/KG,,UMOL/KG,,%TRANS,/METER,,MG/CUM,,MG/CUM,,MG/CUM,,UE/SQM/S,,UMOL/KG,,UMOL/KG,UMOL/KG,,UMOL/KG,UMOL/KG,,UMOL/KG,UMOL/KG,,UMOL/KG,UMOL/KG,,UMOL/KG,PMOL/KG,,PMOL/KG,,PMOL/KG,,FMOL/KG,,UMOL/KG,,UMOL/KG,,UMOL/KG,,,DEG C,,MMOL/KG,,UMOL/KG,,/MILLE,,/MILLE,/MILLE,,/MILLE,MBQ/KG,,MBQ/KG,MBQ/KG,,MBQ/KG,,,,/METER,,/METER,,/METER,
  49NZ20140717,   P01,   113,  1,      0,   -999,9,20140810,2314, 46.9961,-161.4830, 5083,   -999.0,9,-999.0000,9,-999.00000,9,-999.0000,9,  32.5924,2,-999.0000,9,  -999.00,9,  -999.00,9, -999.000,-999.0000,9, -999.000,9,  -999.00,9, -999.000,9, -999.000,9,     6.00,2,     0.09,     7.70,2,     0.02,     0.10,2,     0.01,     0.85,2,     0.01,  -999.00,9,  -999.00, -999.000,9, -999.000,9, -999.000,9, -999.000,9,   -999.0,9,   -999.0,9,   -999.0,9,-999.0000,     -999,9, -999.000,9,  -999.00,9, -999.000,9, -999.000,   -999.0,9,   -999.0, -999.000,9, -999.000, -999.000,9, -999.000,   -999.0,9,   -999.0, -999.000,9, -999.000,9, -999.000,9
  49NZ20140717,   P01,   113,  1,     36, X12J36,2,20140810,2314, 46.9961,-161.4830, 5083,     10.4,2,  13.1949,2,  13.19725,2,  32.5878,2,  32.5887,2,-999.0000,9,   274.48,2,   274.76,2,   93.658,   0.2621,2,    0.415,2,  -999.00,9,   -0.584,1,  133.594,2,     5.85,2,     0.09,     7.62,2,     0.02,     0.10,2,     0.01,     0.84,2,     0.01,  -999.00,9,  -999.00,    3.177,2,    1.863,2,    0.368,2, -999.000,9,   -999.0,9,   -999.0,9,   -999.0,9,-999.0000,     -999,9, -999.000,9,  -999.00,9, -999.000,9, -999.000,   -999.0,9,   -999.0, -999.000,9, -999.000, -999.000,9, -999.000,   -999.0,9,   -999.0, -999.000,9, -999.000,9, -999.000,9
  49NZ20140717,   P01,   113,  1,     35, X12J35,2,20140810,2314, 46.9961,-161.4830, 5083,     50.2,2,   6.8489,2,   6.84525,2,  32.9806,2,  32.9889,2,-999.0000,9,   308.94,2,   308.38,2,   97.501,   0.1012,2,    0.525,2,  -999.00,9,    0.613,1,    2.976,2,    18.85,2,     0.09,    12.20,2,     0.02,     0.12,2,     0.01,     1.17,2,     0.01,  -999.00,9,  -999.00,    4.403,2,    2.475,2,    0.427,2, -999.000,9,   -999.0,9,   -999.0,9,   -999.0,9,-999.0000,     -999,9, -999.000,9,  -999.00,9, -999.000,9, -999.000,   -999.0,9,   -999.0, -999.000,9, -999.000, -999.000,9, -999.000,   -999.0,9,   -999.0, -999.000,9, -999.000,9, -999.000,9
  49NZ20140717,   P01,   113,  1,     34, X12J34,2,20140810,2314, 46.9961,-161.4830, 5083,    100.7,2,   6.1707,2,   6.16728,2,  33.0963,2,  33.0935,2,-999.0000,9,   291.31,2,   291.50,2,   99.483,   0.0207,2,    0.106,2,  -999.00,9,    0.578,1,    0.202,2,    20.11,2,     0.09,    14.60,2,     0.03,     0.02,2,     0.01,     1.25,2,     0.01,  -999.00,9,  -999.00,    4.412,2,    2.481,2,    0.408,2, -999.000,9,   -999.0,9,   -999.0,9,   -999.0,9,-999.0000,     -999,9, -999.000,9,  -999.00,9, -999.000,9, -999.000,   -999.0,9,   -999.0, -999.000,9, -999.000, -999.000,9, -999.000,   -999.0,9,   -999.0, -999.000,9, -999.000,9, -999.000,9
  49NZ20140717,   P01,   113,  1,     33, X12J33,2,20140810,2314, 46.9961,-161.4830, 5083,    150.4,2,   5.8958,2,   5.89517,2,  33.6921,2,  33.6942,2,-999.0000,9,   209.31,2,   208.88,2,   99.619,   0.0153,2,    0.028,2,  -999.00,9,    1.613,1,    0.000,2,    39.36,2,     0.10,    24.14,2,     0.04,     0.01,2,     0.01,     1.77,2,     0.01,  -999.00,9,  -999.00,    3.803,2,    2.120,2,    0.286,2, -999.000,9,   -999.0,9,   -999.0,9,   -999.0,9,-999.0000,     -999,9, -999.000,9,  -999.00,9, -999.000,9, -999.000,   -999.0,9,   -999.0, -999.000,9, -999.000, -999.000,9, -999.000,   -999.0,9,   -999.0, -999.000,9, -999.000,9, -999.000,9
  49NZ20140717,   P01,   113,  1,     32, X12J32,2,20140810,2314, 46.9961,-161.4830, 5083,    199.6,2,   5.2153,2,   5.21590,2,  33.7704,2,  33.7701,2,-999.0000,9,   164.48,2,   164.06,2,   99.795,   0.0082,2,    0.025,2,  -999.00,9,    2.116,1,    0.000,2,    54.14,2,     0.11,    29.68,2,     0.04,     0.01,2,     0.01,     2.16,2,     0.01,  -999.00,9,  -999.00,    3.440,2,    1.877,2,    0.252,2, -999.000,9,   -999.0,9,   -999.0,9,   -999.0,9,-999.0000,     -999,9, -999.000,9,  -999.00,9, -999.000,9, -999.000,   -999.0,9,   -999.0, -999.000,9, -999.000, -999.000,9, -999.000,   -999.0,9,   -999.0, -999.000,9, -999.000,9, -999.000,9
  49NZ20140717,   P01,   113,  1,     31, X12J31,2,20140810,2314, 46.9961,-161.4830, 5083,    250.0,2,   4.6555,2,   4.65565,2,  33.8017,2,  33.8020,2,-999.0000,9,   136.17,2,   136.33,2,   99.823,   0.0071,2,    0.021,2,  -999.00,9,    2.382,1,    0.000,2,    64.66,2,     0.11,    33.25,2,     0.04,     0.01,2,     0.01,     2.41,2,     0.01,  -999.00,9,  -999.00,    3.155,2,    1.699,2,    0.226,2, -999.000,9,   -999.0,9,   -999.0,9,   -999.0,9,-999.0000,     -999,9, -999.000,9,  -999.00,9, -999.000,9, -999.000,   -999.0,9,   -999.0, -999.000,9, -999.000, -999.000,9, -999.000,   -999.0,9,   -999.0, -999.000,9, -999.000,9, -999.000,9
  49NZ20140717,   P01,   113,  1,     30, X12J30,2,20140810,2314, 46.9961,-161.4830, 5083,    280.9,2,   4.3996,2,   4.39965,2,  33.8312,2,  33.8308,2,-999.0000,9,   118.01,2,   118.25,2,   99.775,   0.0090,2,    0.021,2,  -999.00,9,    2.475,1,    0.000,2,    71.31,2,     0.12,    35.26,2,     0.05,     0.01,2,     0.01,     2.54,2,     0.01,  -999.00,9,  -999.00,    2.920,2,    1.542,2,    0.201,2, -999.000,9,   -999.0,9,   -999.0,9,   -999.0,9,-999.0000,     -999,9, -999.000,9,  -999.00,9, -999.000,9, -999.000,   -999.0,9,   -999.0, -999.000,9, -999.000, -999.000,9, -999.000,   -999.0,9,   -999.0, -999.000,9, -999.000,9, -999.000,9
  49NZ20140717,   P01,   113,  1,     29, X12J29,2,20140810,2314, 46.9961,-161.4830, 5083,    370.1,2,   4.1578,2,   4.15756,2,  33.9363,2,  33.9357,2,-999.0000,9,    80.46,2,    80.81,2,   99.838,   0.0065,2,    0.021,2,  -999.00,9,    2.708,1,    0.000,2,    85.46,2,     0.13,    38.84,2,     0.05,     0.01,2,     0.01,     2.77,2,     0.01,  -999.00,9,  -999.00,    2.213,2,    1.144,2,    0.144,2, -999.000,9,   -999.0,9,   -999.0,9,   -999.0,9,-999.0000,     -999,9, -999.000,9,  -999.00,9, -999.000,9, -999.000,   -999.0,9,   -999.0, -999.000,9, -999.000, -999.000,9, -999.000,   -999.0,9,   -999.0, -999.000,9, -999.000,9, -999.000,9
  49NZ20140717,   P01,   113,  1,     28, X12J28,2,20140810,2314, 46.9961,-161.4830, 5083,    469.8,2,   3.9712,2,   3.97095,2,  34.0427,2,  34.0420,2,-999.0000,9,    56.36,2,    56.98,2,   99.858,   0.0057,2,    0.021,2,  -999.00,9,    2.832,1,    0.000,2,    98.39,2,     0.14,    40.72,2,     0.05,     0.01,2,     0.01,     2.91,2,     0.01,  -999.00,9,  -999.00,    1.572,2,    0.790,2,    0.103,2, -999.000,9,   -999.0,9,   -999.0,9,   -999.0,9,-999.0000,     -999,9, -999.000,9,  -999.00,9, -999.000,9, -999.000,   -999.0,9,   -999.0, -999.000,9, -999.000, -999.000,9, -999.000,   -999.0,9,   -999.0, -999.000,9, -999.000,9, -999.000,9
  49NZ20140717,   P01,   113,  1,     27, X12J27,2,20140810,2314, 46.9961,-161.4830, 5083,    570.5,2,   3.8122,2,   3.81212,2,  34.1346,2,  34.1335,2,-999.0000,9,    41.58,2,    42.04,2,   99.914,   0.0034,2,    0.021,2,  -999.00,9,    2.940,1,    0.000,2,   108.95,2,     0.14,    41.84,2,     0.05,     0.01,2,     0.01,     2.99,2,     0.01,  -999.00,9,  -999.00,    1.065,2,    0.525,2,    0.062,2, -999.000,9,   -999.0,9,   -999.0,9,   -999.0,9,-999.0000,     -999,9, -999.000,9,  -999.00,9, -999.000,9, -999.000,   -999.0,9,   -999.0, -999.000,9, -999.000, -999.000,9, -999.000,   -999.0,9,   -999.0, -999.000,9, -999.000,9, -999.000,9
  49NZ20140717,   P01,   113,  1,     26, X12J26,2,20140810,2314, 46.9961,-161.4830, 5083,    669.9,2,   3.6201,2,   3.62015,2,  34.2227,2,  34.2222,2,-999.0000,9,    32.09,2,    32.36,2,   99.944,   0.0022,2,    0.020,2,  -999.00,9,    3.029,1,    0.000,2,   119.22,2,     0.15,    42.64,2,     0.05,     0.00,2,     0.01,     3.04,2,     0.01,  -999.00,9,  -999.00,    0.631,2,    0.297,2,    0.031,2, -999.000,9,   -999.0,9,   -999.0,9,   -999.0,9,-999.0000,     -999,9, -999.000,9,  -999.00,9, -999.000,9, -999.000,   -999.0,9,   -999.0, -999.000,9, -999.000, -999.000,9, -999.000,   -999.0,9,   -999.0, -999.000,9, -999.000,9, -999.000,9
  49NZ20140717,   P01,   113,  1,     25, X12J25,2,20140810,2314, 46.9961,-161.4830, 5083,    769.9,2,   3.3882,2,   3.38761,2,  34.2828,2,  34.2820,2,-999.0000,9,    26.76,2,    26.80,2,   99.886,   0.0046,2,    0.021,2,  -999.00,9,    2.978,1,    0.000,2,   127.69,2,     0.15,    43.03,2,     0.05,     0.00,2,     0.01,     3.08,2,     0.01,  -999.00,9,  -999.00,    0.386,2,    0.179,2,    0.021,2, -999.000,9,   -999.0,9,   -999.0,9,   -999.0,9,-999.0000,     -999,9, -999.000,9,  -999.00,9, -999.000,9, -999.000,   -999.0,9,   -999.0, -999.000,9, -999.000, -999.000,9, -999.000,   -999.0,9,   -999.0, -999.000,9, -999.000,9, -999.000,9
  49NZ20140717,   P01,   113,  1,     24, X12J24,2,20140810,2314, 46.9961,-161.4830, 5083,    870.0,2,   3.1807,2,   3.18087,2,  34.3296,2,  34.3292,2,-999.0000,9,    24.75,2,    24.60,2,   99.899,   0.0041,2,    0.020,2,  -999.00,9,    3.101,1,    0.000,2,   134.68,2,     0.16,    43.41,2,     0.05,     0.00,2,     0.01,     3.10,2,     0.01,  -999.00,9,  -999.00,    0.248,2,    0.112,2,    0.012,2, -999.000,9,   -999.0,9,   -999.0,9,   -999.0,9,-999.0000,     -999,9, -999.000,9,  -999.00,9, -999.000,9, -999.000,   -999.0,9,   -999.0, -999.000,9, -999.000, -999.000,9, -999.000,   -999.0,9,   -999.0, -999.000,9, -999.000,9, -999.000,9
  49NZ20140717,   P01,   113,  1,     23, X12J23,2,20140810,2314, 46.9961,-161.4830, 5083,    969.3,2,   3.0156,2,   3.01572,2,  34.3643,2,  34.3638,2,-999.0000,9,    23.31,2,    22.96,2,   99.916,   0.0034,2,    0.020,2,  -999.00,9,    3.139,1,    0.000,2,   140.37,2,     0.16,    43.70,2,     0.06,     0.00,2,     0.01,     3.12,2,     0.01,  -999.00,9,  -999.00,    0.165,2,    0.071,2,    0.000,2, -999.000,9,   -999.0,9,   -999.0,9,   -999.0,9,-999.0000,     -999,9, -999.000,9,  -999.00,9, -999.000,9, -999.000,   -999.0,9,   -999.0, -999.000,9, -999.000, -999.000,9, -999.000,   -999.0,9,   -999.0, -999.000,9, -999.000,9, -999.000,9
  49NZ20140717,   P01,   113,  1,     22, X12J22,2,20140810,2314, 46.9961,-161.4830, 5083,   1128.4,2,   2.7714,2,   2.77138,2,  34.4120,2,  34.4117,2,-999.0000,9,    23.41,2,    23.08,2,   99.868,   0.0053,2,    0.019,2,  -999.00,9,    3.141,1,    0.000,2,   148.45,2,     0.17,    43.93,2,     0.06,     0.00,2,     0.01,     3.12,2,     0.01,  -999.00,9,  -999.00, -999.000,9, -999.000,9, -999.000,9, -999.000,9,   -999.0,9,   -999.0,9,   -999.0,9,-999.0000,     -999,9, -999.000,9,  -999.00,9, -999.000,9, -999.000,   -999.0,9,   -999.0, -999.000,9, -999.000, -999.000,9, -999.000,   -999.0,9,   -999.0, -999.000,9, -999.000,9, -999.000,9
  49NZ20140717,   P01,   113,  1,     21, X12J21,2,20140810,2314, 46.9961,-161.4830, 5083,   1328.9,2,   2.5098,2,   2.50964,2,  34.4642,2,  34.4635,2,-999.0000,9,    25.01,2,    24.44,2,   99.918,   0.0033,2,    0.019,2,  -999.00,9,    3.260,1,    0.000,2,   157.14,2,     0.17,    43.98,2,     0.06,     0.00,2,     0.01,     3.12,2,     0.01,  -999.00,9,  -999.00,    0.039,2,    0.019,2,    0.000,2, -999.000,9,   -999.0,9,   -999.0,9,   -999.0,9,-999.0000,     -999,9, -999.000,9,  -999.00,9, -999.000,9, -999.000,   -999.0,9,   -999.0, -999.000,9, -999.000, -999.000,9, -999.000,   -999.0,9,   -999.0, -999.000,9, -999.000,9, -999.000,9
  49NZ20140717,   P01,   113,  1,     20, X12J20,2,20140810,2314, 46.9961,-161.4830, 5083,   1530.6,2,   2.2980,2,   2.29791,2,  34.5078,2,  34.5076,2,-999.0000,9,    32.22,2,    31.84,2,   99.905,   0.0038,2,    0.018,2,  -999.00,9,    3.172,1,    0.000,2,   163.01,2,     0.18,    43.66,2,     0.05,     0.00,2,     0.01,     3.09,2,     0.01,  -999.00,9,  -999.00,    0.024,2,    0.012,2,    0.000,2, -999.000,9,   -999.0,9,   -999.0,9,   -999.0,9,-999.0000,     -999,9, -999.000,9,  -999.00,9, -999.000,9, -999.000,   -999.0,9,   -999.0, -999.000,9, -999.000, -999.000,9, -999.000,   -999.0,9,   -999.0, -999.000,9, -999.000,9, -999.000,9
  49NZ20140717,   P01,   113,  1,     19, X12J19,2,20140810,2314, 46.9961,-161.4830, 5083,   1729.4,2,   2.1235,2,   2.12352,2,  34.5462,2,  34.5458,2,-999.0000,9,    40.16,2,    39.91,2,   99.946,   0.0021,2,    0.016,2,  -999.00,9,    3.176,1,    0.000,2,   167.68,2,     0.18,    43.32,2,     0.05,     0.00,2,     0.01,     3.05,2,     0.01,  -999.00,9,  -999.00,    0.007,2,    0.003,2,    0.000,2, -999.000,9,   -999.0,9,   -999.0,9,   -999.0,9,-999.0000,     -999,9, -999.000,9,  -999.00,9, -999.000,9, -999.000,   -999.0,9,   -999.0, -999.000,9, -999.000, -999.000,9, -999.000,   -999.0,9,   -999.0, -999.000,9, -999.000,9, -999.000,9
  49NZ20140717,   P01,   113,  1,     18, X12J18,2,20140810,2314, 46.9961,-161.4830, 5083,   1930.2,2,   1.9922,2,   1.99205,2,  34.5749,2,  34.5747,2,-999.0000,9,    50.40,2,    50.33,2,   99.951,   0.0020,2,    0.015,2,  -999.00,9,    3.187,1,    0.000,2,   170.20,2,     0.18,    42.72,2,     0.05,     0.00,2,     0.01,     3.01,2,     0.01,  -999.00,9,  -999.00,    0.002,2,    0.000,2,    0.000,2, -999.000,9,   -999.0,9,   -999.0,9,   -999.0,9,-999.0000,     -999,9, -999.000,9,  -999.00,9, -999.000,9, -999.000,   -999.0,9,   -999.0, -999.000,9, -999.000, -999.000,9, -999.000,   -999.0,9,   -999.0, -999.000,9, -999.000,9, -999.000,9
  49NZ20140717,   P01,   113,  1,     17, X12J17,2,20140810,2314, 46.9961,-161.4830, 5083,   2130.5,2,   1.8832,2,   1.88319,2,  34.5976,2,  34.5973,2,-999.0000,9,    60.73,2,    60.56,2,   99.923,   0.0031,2,    0.014,2,  -999.00,9,    3.054,1,    0.000,2,   172.20,2,     0.18,    42.09,2,     0.05,     0.00,2,     0.01,     2.96,2,     0.01,  -999.00,9,  -999.00,    0.002,2,    0.001,2,    0.000,2, -999.000,9,   -999.0,9,   -999.0,9,   -999.0,9,-999.0000,     -999,9, -999.000,9,  -999.00,9, -999.000,9, -999.000,   -999.0,9,   -999.0, -999.000,9, -999.000, -999.000,9, -999.000,   -999.0,9,   -999.0, -999.000,9, -999.000,9, -999.000,9
  49NZ20140717,   P01,   113,  1,     16, X12J16,2,20140810,2314, 46.9961,-161.4830, 5083,   2330.4,2,   1.7909,2,   1.79084,2,  34.6157,2,  34.6157,2,-999.0000,9,    72.34,2,    72.41,2,   99.905,   0.0038,2,    0.013,2,  -999.00,9,    2.958,1,    0.000,2,   172.45,2,     0.18,    41.42,2,     0.05,     0.00,2,     0.01,     2.91,2,     0.01,  -999.00,9,  -999.00,    0.000,2,    0.001,2,    0.000,2, -999.000,9,   -999.0,9,   -999.0,9,   -999.0,9,-999.0000,     -999,9, -999.000,9,  -999.00,9, -999.000,9, -999.000,   -999.0,9,   -999.0, -999.000,9, -999.000, -999.000,9, -999.000,   -999.0,9,   -999.0, -999.000,9, -999.000,9, -999.000,9
  49NZ20140717,   P01,   113,  1,     15, X12J15,2,20140810,2314, 46.9961,-161.4830, 5083,   2530.4,2,   1.7099,2,   1.71000,2,  34.6306,2,  34.6308,2,-999.0000,9,    84.52,2,    84.62,2,   99.931,   0.0028,2,    0.013,2,  -999.00,9,    2.923,1,    0.000,2,   171.68,2,     0.18,    40.67,2,     0.05,     0.00,2,     0.01,     2.86,2,     0.01,  -999.00,9,  -999.00,    0.001,2,    0.000,2,    0.000,2, -999.000,9,   -999.0,9,   -999.0,9,   -999.0,9,-999.0000,     -999,9, -999.000,9,  -999.00,9, -999.000,9, -999.000,   -999.0,9,   -999.0, -999.000,9, -999.000, -999.000,9, -999.000,   -999.0,9,   -999.0, -999.000,9, -999.000,9, -999.000,9
  49NZ20140717,   P01,   113,  1,     14, X12J14,2,20140810,2314, 46.9961,-161.4830, 5083,   2730.8,2,   1.6430,2,   1.64314,2,  34.6428,2,  34.6427,2,-999.0000,9,    96.44,2,    96.52,2,   99.946,   0.0021,2,    0.012,2,  -999.00,9,    2.762,1,    0.000,2,   169.90,2,     0.18,    39.79,2,     0.05,     0.00,2,     0.01,     2.79,2,     0.01,  -999.00,9,  -999.00,    0.000,2,    0.000,2,    0.000,2, -999.000,9,   -999.0,9,   -999.0,9,   -999.0,9,-999.0000,     -999,9, -999.000,9,  -999.00,9, -999.000,9, -999.000,   -999.0,9,   -999.0, -999.000,9, -999.000, -999.000,9, -999.000,   -999.0,9,   -999.0, -999.000,9, -999.000,9, -999.000,9
  49NZ20140717,   P01,   113,  1,     13, X12113,2,20140810,2314, 46.9961,-161.4830, 5083,   2930.9,2,   1.5890,2,   1.58892,2,  34.6527,2,  34.6527,2,-999.0000,9,   106.93,2,   106.94,2,   99.946,   0.0021,2,    0.011,2,  -999.00,9,    2.763,1,    0.000,2,   168.27,2,     0.18,    39.07,2,     0.05,     0.00,2,     0.01,     2.74,2,     0.01,  -999.00,9,  -999.00,    0.000,2,    0.000,2,    0.000,2, -999.000,9,   -999.0,9,   -999.0,9,   -999.0,9,-999.0000,     -999,9, -999.000,9,  -999.00,9, -999.000,9, -999.000,   -999.0,9,   -999.0, -999.000,9, -999.000, -999.000,9, -999.000,   -999.0,9,   -999.0, -999.000,9, -999.000,9, -999.000,9
  49NZ20140717,   P01,   113,  1,     12, X12J12,2,20140810,2314, 46.9961,-161.4830, 5083,   3170.7,2,   1.5377,2,   1.53779,2,  34.6625,2,  34.6624,2,-999.0000,9,   118.34,2,   118.27,2,   99.975,   0.0010,2,    0.010,2,  -999.00,9,    2.716,1,    0.000,2,   165.92,2,     0.18,    38.40,2,     0.05,     0.00,2,     0.01,     2.69,2,     0.01,  -999.00,9,  -999.00,    0.000,2,    0.000,2,    0.000,2, -999.000,9,   -999.0,9,   -999.0,9,   -999.0,9,-999.0000,     -999,9, -999.000,9,  -999.00,9, -999.000,9, -999.000,   -999.0,9,   -999.0, -999.000,9, -999.000, -999.000,9, -999.000,   -999.0,9,   -999.0, -999.000,9, -999.000,9, -999.000,9
  49NZ20140717,   P01,   113,  1,     11, X12J11,2,20140810,2314, 46.9961,-161.4830, 5083,   3421.1,2,   1.5035,2,   1.50375,2,  34.6700,2,  34.6699,2,-999.0000,9,   127.60,2,   127.62,2,   99.977,   0.0009,2,    0.010,2,  -999.00,9,    2.587,1,    0.000,2,   164.10,2,     0.18,    37.80,2,     0.05,     0.00,2,     0.01,     2.64,2,     0.01,  -999.00,9,  -999.00,    0.000,2,    0.000,2,    0.000,2, -999.000,9,   -999.0,9,   -999.0,9,   -999.0,9,-999.0000,     -999,9, -999.000,9,  -999.00,9, -999.000,9, -999.000,   -999.0,9,   -999.0, -999.000,9, -999.000, -999.000,9, -999.000,   -999.0,9,   -999.0, -999.000,9, -999.000,9, -999.000,9
  49NZ20140717,   P01,   113,  1,     10, X12J10,2,20140810,2314, 46.9961,-161.4830, 5083,   3670.7,2,   1.4821,2,   1.48212,2,  34.6759,2,  34.6758,2,-999.0000,9,   135.12,2,   135.12,2,   99.977,   0.0009,2,    0.009,2,  -999.00,9,    2.558,1,    0.000,2,   162.88,2,     0.18,    37.29,2,     0.05,     0.00,2,     0.01,     2.60,2,     0.01,  -999.00,9,  -999.00,    0.000,2,    0.000,2,    0.000,2, -999.000,9,   -999.0,9,   -999.0,9,   -999.0,9,-999.0000,     -999,9, -999.000,9,  -999.00,9, -999.000,9, -999.000,   -999.0,9,   -999.0, -999.000,9, -999.000, -999.000,9, -999.000,   -999.0,9,   -999.0, -999.000,9, -999.000,9, -999.000,9