BOTTLE,20230904JAMSTECRIGC
EXPOCODE,SECT,STNNBR,CASTNO,SAMPNO,BTLNBR,BTLNBR_FLAG_W,DATE,TIME,LATITUDE,LONGITUDE,DEPTH,CTDPRS,CTDPRS_FLAG_W,CTDTMP,CTDTMP_FLAG_W,SBE35,SBE35_FLAG_W,CTDSAL,CTDSAL_FLAG_W,SALNTY,SALNTY_FLAG_W,DNSSAL,DNSSAL_FLAG_W,CTDOXY,CTDOXY_FLAG_W,OXYGEN,OXYGEN_FLAG_W,XMISS,XMISSCP,XMISS_FLAG_W,FLUOR,FLUOR_FLAG_W,CHLORA,CHLORA_FLAG_W,CDOM,CDOM_FLAG_W,PAR,PAR_FLAG_W,SILCAT,SILCAT_FLAG_W,SILUNC,NITRAT,NITRAT_FLAG_W,NRAUNC,NITRIT,NITRIT_FLAG_W,NRIUNC,PHSPHT,PHSPHT_FLAG_W,PHPUNC,AMMONIA,AMMONIA_FLAG_W,NH4UNC,CFC-11,CFC-11_FLAG_W,CFC-12,CFC-12_FLAG_W,CFC113,CFC113_FLAG_W,SF6,SF6_FLAG_W,TCARBN,TCARBN_FLAG_W,ALKALI,ALKALI_FLAG_W,ALKALI_POT,ALKALI_POT_FLAG_W,PH_TOT,PH_TMP,PH_TOT_FLAG_W,CALCIUM,CALCIUM_FLAG_W,DOC,DOC_FLAG_W,DELC13,DELC13_FLAG_W,C13ERR,DELC14,DELC14_FLAG_W,C14ERR,CS-134,CS-134_FLAG_W,CS134ER,CS-137,CS-137_FLAG_W,CS137ER,I-129,I-129_FLAG_W,I-129ER,CDOM-325,CDOM-325_FLAG_W,CDOM-370,CDOM-370_FLAG_W,CDOM-443,CDOM-443_FLAG_W
,,,,,,,,UTC,DEG,DEG,METERS,DBAR,,ITS-90,,ITS-90,,PSS-78,,PSS-78,,G/KG,,UMOL/KG,,UMOL/KG,,%TRANS,/METER,,MG/CUM,,MG/CUM,,MG/CUM,,UE/SQM/S,,UMOL/KG,,UMOL/KG,UMOL/KG,,UMOL/KG,UMOL/KG,,UMOL/KG,UMOL/KG,,UMOL/KG,UMOL/KG,,UMOL/KG,PMOL/KG,,PMOL/KG,,PMOL/KG,,FMOL/KG,,UMOL/KG,,UMOL/KG,,UMOL/KG,,,DEG C,,MMOL/KG,,UMOL/KG,,/MILLE,,/MILLE,/MILLE,,/MILLE,MBQ/KG,,MBQ/KG,MBQ/KG,,MBQ/KG,,,,/METER,,/METER,,/METER,
  49NZ20140717,   P01,    94,  1,      0,   -999,9,20140803,1933, 46.9934, 177.1898, 5683,   -999.0,9,-999.0000,9,-999.00000,9,-999.0000,9,  32.8347,2,-999.0000,9,  -999.00,9,  -999.00,9, -999.000,-999.0000,9, -999.000,9,  -999.00,9, -999.000,9, -999.000,9,    20.75,2,     0.09,    12.12,2,     0.02,     0.16,2,     0.01,     1.18,2,     0.01,  -999.00,9,  -999.00, -999.000,9, -999.000,9, -999.000,9, -999.000,9,   -999.0,9,   -999.0,9,   -999.0,9,-999.0000,     -999,9, -999.000,9,  -999.00,9, -999.000,9, -999.000,   -999.0,9,   -999.0, -999.000,9, -999.000, -999.000,9, -999.000,   -999.0,9,   -999.0, -999.000,9, -999.000,9, -999.000,9
  49NZ20140717,   P01,    94,  1,     36, X12J36,2,20140803,1933, 46.9934, 177.1898, 5683,     10.1,2,  12.0425,2,  12.03359,2,  32.8393,2,  32.8413,2,-999.0000,9,   278.64,2,   279.88,2,   96.795,   0.1303,2,    0.274,2,  -999.00,9,   -0.497,1,  169.404,2,    20.66,2,     0.09,    12.05,2,     0.02,     0.16,2,     0.01,     1.17,2,     0.01,  -999.00,9,  -999.00,    3.404,2,    1.996,2,    0.328,2,    2.430,2,   -999.0,9,   -999.0,9,   -999.0,9,-999.0000,     -999,9, -999.000,9,  -999.00,9, -999.000,9, -999.000,   -999.0,9,   -999.0, -999.000,9, -999.000, -999.000,9, -999.000,   -999.0,9,   -999.0, -999.000,9, -999.000,9, -999.000,9
  49NZ20140717,   P01,    94,  1,     35, X12J35,2,20140803,1933, 46.9934, 177.1898, 5683,   5580.6,2,   1.6042,2,   1.60414,2,  34.6882,2,  34.6882,2,-999.0000,9,   154.10,2,   154.27,2,   99.871,   0.0052,2,    0.000,2,  -999.00,9,   -1.862,4,    0.000,2,  -999.00,9,  -999.00,  -999.00,9,  -999.00,  -999.00,9,  -999.00,  -999.00,9,  -999.00,  -999.00,9,  -999.00, -999.000,9, -999.000,9, -999.000,9, -999.000,9,   -999.0,9,   -999.0,9,   -999.0,9,-999.0000,     -999,9, -999.000,9,  -999.00,9, -999.000,9, -999.000,   -999.0,9,   -999.0, -999.000,9, -999.000, -999.000,9, -999.000,   -999.0,9,   -999.0, -999.000,9, -999.000,9, -999.000,9
  49NZ20140717,   P01,    94,  1,     34, X12J34,2,20140803,1933, 46.9934, 177.1898, 5683,    100.4,2,   4.6263,2,   4.62939,2,  33.1448,2,  33.1503,2,-999.0000,9,   303.56,2,   303.74,2,   99.462,   0.0216,2,    0.173,2,  -999.00,9,    0.719,1,    0.361,2,    25.35,2,     0.09,    17.51,2,     0.03,     0.07,2,     0.01,     1.44,2,     0.01,  -999.00,9,  -999.00,    4.654,2,    2.652,2,    0.434,2,    2.970,2,   -999.0,9,   -999.0,9,   -999.0,9,-999.0000,     -999,9, -999.000,9,  -999.00,9, -999.000,9, -999.000,   -999.0,9,   -999.0, -999.000,9, -999.000, -999.000,9, -999.000,   -999.0,9,   -999.0, -999.000,9, -999.000,9, -999.000,9
  49NZ20140717,   P01,    94,  1,     33, X12J33,2,20140803,1933, 46.9934, 177.1898, 5683,    150.3,2,   4.5683,2,   4.56970,2,  33.6473,2,  33.6476,2,-999.0000,9,   229.59,2,   229.50,2,   99.761,   0.0096,2,    0.015,2,  -999.00,9,    1.629,1,    0.007,2,    43.68,2,     0.10,    25.09,2,     0.04,     0.01,2,     0.01,     1.86,2,     0.01,  -999.00,9,  -999.00,    4.025,2,    2.268,2,    0.292,2,    2.260,2,   -999.0,9,   -999.0,9,   -999.0,9,-999.0000,     -999,9, -999.000,9,  -999.00,9, -999.000,9, -999.000,   -999.0,9,   -999.0, -999.000,9, -999.000, -999.000,9, -999.000,   -999.0,9,   -999.0, -999.000,9, -999.000,9, -999.000,9
  49NZ20140717,   P01,    94,  1,     32, X12J32,2,20140803,1933, 46.9934, 177.1898, 5683,    199.7,2,   3.8305,2,   3.82992,2,  33.6783,2,  33.6795,2,-999.0000,9,   169.42,2,   168.81,2,   99.713,   0.0115,2,    0.011,2,  -999.00,9,    2.139,1,    0.000,2,    62.89,2,     0.11,    32.06,2,     0.04,     0.01,2,     0.01,     2.35,2,     0.01,  -999.00,9,  -999.00,    3.555,2,    1.953,2,    0.253,2,    1.710,2,   -999.0,9,   -999.0,9,   -999.0,9,-999.0000,     -999,9, -999.000,9,  -999.00,9, -999.000,9, -999.000,   -999.0,9,   -999.0, -999.000,9, -999.000, -999.000,9, -999.000,   -999.0,9,   -999.0, -999.000,9, -999.000,9, -999.000,9
  49NZ20140717,   P01,    94,  1,     31, X12J31,2,20140803,1933, 46.9934, 177.1898, 5683,    249.8,2,   3.5755,2,   3.57695,2,  33.7416,2,  33.7435,2,-999.0000,9,   126.75,2,   126.65,2,   99.730,   0.0108,2,    0.012,2,  -999.00,9,    2.438,1,    0.000,2,    75.74,2,     0.12,    36.14,2,     0.05,     0.01,2,     0.01,     2.62,2,     0.01,  -999.00,9,  -999.00,    3.107,2,    1.687,2,    0.215,2,    1.340,2,   -999.0,9,   -999.0,9,   -999.0,9,-999.0000,     -999,9, -999.000,9,  -999.00,9, -999.000,9, -999.000,   -999.0,9,   -999.0, -999.000,9, -999.000, -999.000,9, -999.000,   -999.0,9,   -999.0, -999.000,9, -999.000,9, -999.000,9
  49NZ20140717,   P01,    94,  1,     30, X12J30,2,20140803,1933, 46.9934, 177.1898, 5683,    330.4,2,   3.8214,2,   3.82044,2,  33.9012,2,  33.9004,2,-999.0000,9,    79.48,2,    79.69,2,   99.791,   0.0084,2,    0.014,2,  -999.00,9,    2.722,1,    0.000,2,    89.09,2,     0.13,    39.50,2,     0.05,     0.01,2,     0.01,     2.83,2,     0.01,  -999.00,9,  -999.00,    2.340,2,    1.240,2,    0.155,2,    0.840,2,   -999.0,9,   -999.0,9,   -999.0,9,-999.0000,     -999,9, -999.000,9,  -999.00,9, -999.000,9, -999.000,   -999.0,9,   -999.0, -999.000,9, -999.000, -999.000,9, -999.000,   -999.0,9,   -999.0, -999.000,9, -999.000,9, -999.000,9
  49NZ20140717,   P01,    94,  1,     29, X12J29,2,20140803,1933, 46.9934, 177.1898, 5683,    429.8,2,   3.8113,2,   3.81159,2,  34.0266,2,  34.0263,2,-999.0000,9,    53.81,2,    54.00,2,   99.819,   0.0072,2,    0.015,2,  -999.00,9,    2.811,1,    0.000,2,   101.22,2,     0.14,    41.25,2,     0.05,     0.01,2,     0.01,     2.95,2,     0.01,  -999.00,9,  -999.00,    1.656,2,    0.861,2,    0.104,2,    0.560,2,   -999.0,9,   -999.0,9,   -999.0,9,-999.0000,     -999,9, -999.000,9,  -999.00,9, -999.000,9, -999.000,   -999.0,9,   -999.0, -999.000,9, -999.000, -999.000,9, -999.000,   -999.0,9,   -999.0, -999.000,9, -999.000,9, -999.000,9
  49NZ20140717,   P01,    94,  1,     28, X12J28,2,20140803,1933, 46.9934, 177.1898, 5683,    531.3,2,   3.6301,2,   3.62954,2,  34.1186,2,  34.1179,2,-999.0000,9,    35.21,2,    35.57,2,   99.880,   0.0048,2,    0.015,2,  -999.00,9,    2.909,1,    0.000,2,   113.04,2,     0.14,    42.68,2,     0.05,     0.01,2,     0.01,     3.04,2,     0.01,  -999.00,9,  -999.00,    1.145,2,    0.593,2,    0.072,2,    0.300,2,   -999.0,9,   -999.0,9,   -999.0,9,-999.0000,     -999,9, -999.000,9,  -999.00,9, -999.000,9, -999.000,   -999.0,9,   -999.0, -999.000,9, -999.000, -999.000,9, -999.000,   -999.0,9,   -999.0, -999.000,9, -999.000,9, -999.000,9
  49NZ20140717,   P01,    94,  1,     27, X12J27,2,20140803,1933, 46.9934, 177.1898, 5683,    631.0,2,   3.4729,2,   3.47310,2,  34.1967,2,  34.1959,2,-999.0000,9,    29.46,2,    30.05,2,   99.895,   0.0042,2,    0.015,2,  -999.00,9,    2.930,1,    0.000,2,   121.77,2,     0.15,    43.00,2,     0.05,     0.01,2,     0.01,     3.06,2,     0.01,  -999.00,9,  -999.00,    0.787,2,    0.417,2,    0.047,2,    0.190,2,   -999.0,9,   -999.0,9,   -999.0,9,-999.0000,     -999,9, -999.000,9,  -999.00,9, -999.000,9, -999.000,   -999.0,9,   -999.0, -999.000,9, -999.000, -999.000,9, -999.000,   -999.0,9,   -999.0, -999.000,9, -999.000,9, -999.000,9
  49NZ20140717,   P01,    94,  1,     26, X12J26,2,20140803,1933, 46.9934, 177.1898, 5683,    731.3,2,   3.2759,2,   3.27597,2,  34.2707,2,  34.2712,2,-999.0000,9,    28.78,2,    28.69,2,   99.891,   0.0044,2,    0.014,2,  -999.00,9,    3.050,1,    0.000,2,   130.52,2,     0.16,    43.12,2,     0.05,     0.00,2,     0.01,     3.08,2,     0.01,  -999.00,9,  -999.00,    0.509,2,    0.277,2,    0.030,2,    0.100,2,   -999.0,9,   -999.0,9,   -999.0,9,-999.0000,     -999,9, -999.000,9,  -999.00,9, -999.000,9, -999.000,   -999.0,9,   -999.0, -999.000,9, -999.000, -999.000,9, -999.000,   -999.0,9,   -999.0, -999.000,9, -999.000,9, -999.000,9
  49NZ20140717,   P01,    94,  1,     25, X12J25,2,20140803,1933, 46.9934, 177.1898, 5683,    830.0,2,   3.0905,2,   3.08969,2,  34.3220,2,  34.3213,2,-999.0000,9,    28.58,2,    28.44,2,   99.878,   0.0049,2,    0.013,2,  -999.00,9,    3.090,1,    0.000,2,   136.90,2,     0.16,    43.18,2,     0.05,     0.00,2,     0.01,     3.08,2,     0.01,  -999.00,9,  -999.00,    0.359,2,    0.201,2,    0.018,2,    0.090,2,   -999.0,9,   -999.0,9,   -999.0,9,-999.0000,     -999,9, -999.000,9,  -999.00,9, -999.000,9, -999.000,   -999.0,9,   -999.0, -999.000,9, -999.000, -999.000,9, -999.000,   -999.0,9,   -999.0, -999.000,9, -999.000,9, -999.000,9
  49NZ20140717,   P01,    94,  1,     24, X12J24,2,20140803,1933, 46.9934, 177.1898, 5683,    929.5,2,   2.8811,2,   2.88170,2,  34.3625,2,  34.3587,2,-999.0000,9,    27.43,2,    27.22,2,   99.921,   0.0032,2,    0.013,2,  -999.00,9,    3.086,1,    0.000,2,   143.34,2,     0.16,    43.40,2,     0.05,     0.00,2,     0.01,     3.10,2,     0.01,  -999.00,9,  -999.00,    0.269,2,    0.157,2,    0.015,2,    0.080,2,   -999.0,9,   -999.0,9,   -999.0,9,-999.0000,     -999,9, -999.000,9,  -999.00,9, -999.000,9, -999.000,   -999.0,9,   -999.0, -999.000,9, -999.000, -999.000,9, -999.000,   -999.0,9,   -999.0, -999.000,9, -999.000,9, -999.000,9
  49NZ20140717,   P01,    94,  1,     23, X12J23,2,20140803,1933, 46.9934, 177.1898, 5683,   1068.8,2,   2.7055,2,   2.70436,2,  34.4051,2,  34.4043,2,-999.0000,9,    28.53,2,    28.39,2,   99.897,   0.0041,2,    0.012,2,  -999.00,9,    3.083,1,    0.000,2,   149.97,2,     0.17,    43.46,2,     0.05,     0.00,2,     0.01,     3.10,2,     0.01,  -999.00,9,  -999.00,    0.181,2,    0.106,2,    0.012,2,    0.040,2,   -999.0,9,   -999.0,9,   -999.0,9,-999.0000,     -999,9, -999.000,9,  -999.00,9, -999.000,9, -999.000,   -999.0,9,   -999.0, -999.000,9, -999.000, -999.000,9, -999.000,   -999.0,9,   -999.0, -999.000,9, -999.000,9, -999.000,9
  49NZ20140717,   P01,    94,  1,     22, X12J22,2,20140803,1933, 46.9934, 177.1898, 5683,   1267.8,2,   2.4622,2,   2.46184,2,  34.4612,2,  34.4623,2,-999.0000,9,    33.23,2,    33.21,2,   99.904,   0.0039,2,    0.011,2,  -999.00,9,    3.155,1,    0.000,2,   157.55,2,     0.17,    43.34,2,     0.05,     0.00,2,     0.01,     3.08,2,     0.01,  -999.00,9,  -999.00,    0.105,2,    0.062,2,    0.000,2,    0.070,2,   -999.0,9,   -999.0,9,   -999.0,9,-999.0000,     -999,9, -999.000,9,  -999.00,9, -999.000,9, -999.000,   -999.0,9,   -999.0, -999.000,9, -999.000, -999.000,9, -999.000,   -999.0,9,   -999.0, -999.000,9, -999.000,9, -999.000,9
  49NZ20140717,   P01,    94,  1,     21, X12J21,2,20140803,1933, 46.9934, 177.1898, 5683,   1468.6,2,   2.2766,2,   2.27659,2,  34.5050,2,  34.5051,2,-999.0000,9,    38.82,2,    38.62,2,   99.929,   0.0028,2,    0.010,2,  -999.00,9,    3.068,1,    0.000,2,   162.91,2,     0.18,    43.11,2,     0.05,     0.00,2,     0.01,     3.06,2,     0.01,  -999.00,9,  -999.00,    0.057,2,    0.034,2,    0.004,2,    0.020,2,   -999.0,9,   -999.0,9,   -999.0,9,-999.0000,     -999,9, -999.000,9,  -999.00,9, -999.000,9, -999.000,   -999.0,9,   -999.0, -999.000,9, -999.000, -999.000,9, -999.000,   -999.0,9,   -999.0, -999.000,9, -999.000,9, -999.000,9
  49NZ20140717,   P01,    94,  1,     20, X12J20,2,20140803,1933, 46.9934, 177.1898, 5683,   1669.4,2,   2.1236,2,   2.12351,2,  34.5413,2,  34.5416,2,-999.0000,9,    47.08,2,    47.10,2,   99.908,   0.0037,2,    0.009,2,  -999.00,9,    3.122,1,    0.000,2,   166.39,2,     0.18,    42.65,2,     0.05,     0.00,2,     0.01,     3.02,2,     0.01,  -999.00,9,  -999.00,    0.027,2,    0.015,2,    0.000,2,    0.030,2,   -999.0,9,   -999.0,9,   -999.0,9,-999.0000,     -999,9, -999.000,9,  -999.00,9, -999.000,9, -999.000,   -999.0,9,   -999.0, -999.000,9, -999.000, -999.000,9, -999.000,   -999.0,9,   -999.0, -999.000,9, -999.000,9, -999.000,9
  49NZ20140717,   P01,    94,  1,     19, X12J19,2,20140803,1933, 46.9934, 177.1898, 5683,   1869.0,2,   1.9863,2,   1.98611,2,  34.5726,2,  34.5731,2,-999.0000,9,    58.76,2,    59.13,2,   99.929,   0.0028,2,    0.008,2,  -999.00,9,    3.051,1,    0.000,2,   168.10,2,     0.18,    41.98,2,     0.05,     0.00,2,     0.01,     2.97,2,     0.01,  -999.00,9,  -999.00,    0.014,2,    0.008,2,    0.001,2,    0.050,2,   -999.0,9,   -999.0,9,   -999.0,9,-999.0000,     -999,9, -999.000,9,  -999.00,9, -999.000,9, -999.000,   -999.0,9,   -999.0, -999.000,9, -999.000, -999.000,9, -999.000,   -999.0,9,   -999.0, -999.000,9, -999.000,9, -999.000,9
  49NZ20140717,   P01,    94,  1,     18, X12J18,2,20140803,1933, 46.9934, 177.1898, 5683,   2067.7,2,   1.8822,2,   1.88262,2,  34.5944,2,  34.5952,2,-999.0000,9,    69.13,2,    69.64,2,   99.947,   0.0021,2,    0.007,2,  -999.00,9,    2.968,1,    0.000,2,   168.84,2,     0.18,    41.33,2,     0.05,     0.01,2,     0.01,     2.92,2,     0.01,  -999.00,9,  -999.00,    0.007,2,    0.004,2,    0.000,2,    0.000,2,   -999.0,9,   -999.0,9,   -999.0,9,-999.0000,     -999,9, -999.000,9,  -999.00,9, -999.000,9, -999.000,   -999.0,9,   -999.0, -999.000,9, -999.000, -999.000,9, -999.000,   -999.0,9,   -999.0, -999.000,9, -999.000,9, -999.000,9
  49NZ20140717,   P01,    94,  1,     17, X12J17,2,20140803,1933, 46.9934, 177.1898, 5683,   2270.2,2,   1.7851,2,   1.78530,2,  34.6147,2,  34.6151,2,-999.0000,9,    81.81,2,    82.32,2,   99.953,   0.0019,2,    0.006,2,  -999.00,9,    2.847,1,    0.000,2,   168.20,2,     0.18,    40.56,2,     0.05,     0.01,2,     0.01,     2.86,2,     0.01,  -999.00,9,  -999.00,    0.003,2,    0.001,2,    0.000,2,    0.000,2,   -999.0,9,   -999.0,9,   -999.0,9,-999.0000,     -999,9, -999.000,9,  -999.00,9, -999.000,9, -999.000,   -999.0,9,   -999.0, -999.000,9, -999.000, -999.000,9, -999.000,   -999.0,9,   -999.0, -999.000,9, -999.000,9, -999.000,9
  49NZ20140717,   P01,    94,  1,     16, X12J16,2,20140803,1933, 46.9934, 177.1898, 5683,   2469.9,2,   1.7109,2,   1.71107,2,  34.6294,2,  34.6294,2,-999.0000,9,    92.59,2,    92.86,2,   99.953,   0.0019,2,    0.005,2,  -999.00,9,    2.838,1,    0.000,2,   167.48,2,     0.18,    39.89,2,     0.05,     0.01,2,     0.01,     2.81,2,     0.01,  -999.00,9,  -999.00,    0.000,2,    0.000,2,    0.000,2,    0.000,2,   -999.0,9,   -999.0,9,   -999.0,9,-999.0000,     -999,9, -999.000,9,  -999.00,9, -999.000,9, -999.000,   -999.0,9,   -999.0, -999.000,9, -999.000, -999.000,9, -999.000,   -999.0,9,   -999.0, -999.000,9, -999.000,9, -999.000,9
  49NZ20140717,   P01,    94,  1,     15, X12J15,2,20140803,1933, 46.9934, 177.1898, 5683,   2670.9,2,   1.6549,2,   1.65510,2,  34.6404,2,  34.6408,2,-999.0000,9,   102.28,2,   102.43,2,   99.938,   0.0025,2,    0.004,2,  -999.00,9,    2.767,1,    0.000,2,   166.12,2,     0.18,    39.29,2,     0.05,     0.00,2,     0.01,     2.77,2,     0.01,  -999.00,9,  -999.00,    0.000,2,    0.000,2,    0.000,2,    0.000,2,   -999.0,9,   -999.0,9,   -999.0,9,-999.0000,     -999,9, -999.000,9,  -999.00,9, -999.000,9, -999.000,   -999.0,9,   -999.0, -999.000,9, -999.000, -999.000,9, -999.000,   -999.0,9,   -999.0, -999.000,9, -999.000,9, -999.000,9
  49NZ20140717,   P01,    94,  1,     14, X12J14,2,20140803,1933, 46.9934, 177.1898, 5683,   2869.9,2,   1.6064,2,   1.60644,2,  34.6500,2,  34.6501,2,-999.0000,9,   110.48,2,   110.72,2,   99.945,   0.0022,2,    0.004,2,  -999.00,9,    2.700,1,    0.000,2,   164.93,2,     0.18,    38.83,2,     0.05,     0.00,2,     0.01,     2.73,2,     0.01,  -999.00,9,  -999.00,    0.000,2,    0.000,2,    0.000,2,    0.000,2,   -999.0,9,   -999.0,9,   -999.0,9,-999.0000,     -999,9, -999.000,9,  -999.00,9, -999.000,9, -999.000,   -999.0,9,   -999.0, -999.000,9, -999.000, -999.000,9, -999.000,   -999.0,9,   -999.0, -999.000,9, -999.000,9, -999.000,9
  49NZ20140717,   P01,    94,  1,     13, X12113,2,20140803,1933, 46.9934, 177.1898, 5683,   3080.1,2,   1.5583,2,   1.55820,2,  34.6591,2,  34.6593,2,-999.0000,9,   119.64,2,   119.81,2,   99.949,   0.0020,2,    0.003,2,  -999.00,9,    2.699,1,    0.000,2,   162.30,2,     0.18,    38.18,2,     0.05,     0.01,2,     0.01,     2.68,2,     0.01,  -999.00,9,  -999.00,    0.000,2,    0.000,2,    0.000,2,    0.000,2,   -999.0,9,   -999.0,9,   -999.0,9,-999.0000,     -999,9, -999.000,9,  -999.00,9, -999.000,9, -999.000,   -999.0,9,   -999.0, -999.000,9, -999.000, -999.000,9, -999.000,   -999.0,9,   -999.0, -999.000,9, -999.000,9, -999.000,9
  49NZ20140717,   P01,    94,  1,     12, X12J12,2,20140803,1933, 46.9934, 177.1898, 5683,   3331.5,2,   1.5233,2,   1.52333,2,  34.6667,2,  34.6668,2,-999.0000,9,   128.17,2,   128.34,2,   99.953,   0.0019,2,    0.003,2,  -999.00,9,    2.536,1,    0.000,2,   160.28,2,     0.17,    37.64,2,     0.05,     0.00,2,     0.01,     2.64,2,     0.01,  -999.00,9,  -999.00,    0.000,2,    0.000,2,    0.000,2,    0.000,2,   -999.0,9,   -999.0,9,   -999.0,9,-999.0000,     -999,9, -999.000,9,  -999.00,9, -999.000,9, -999.000,   -999.0,9,   -999.0, -999.000,9, -999.000, -999.000,9, -999.000,   -999.0,9,   -999.0, -999.000,9, -999.000,9, -999.000,9
  49NZ20140717,   P01,    94,  1,     11, X12J11,2,20140803,1933, 46.9934, 177.1898, 5683,   3580.3,2,   1.4939,2,   1.49408,2,  34.6734,2,  34.6731,2,-999.0000,9,   135.84,2,   135.81,2,   99.951,   0.0020,2,    0.002,2,  -999.00,9,    2.830,4,    0.000,2,   158.73,2,     0.17,    37.18,2,     0.05,     0.00,2,     0.01,     2.60,2,     0.01,  -999.00,9,  -999.00,    0.000,2,    0.000,2,    0.000,2,    0.000,2,   -999.0,9,   -999.0,9,   -999.0,9,-999.0000,     -999,9, -999.000,9,  -999.00,9, -999.000,9, -999.000,   -999.0,9,   -999.0, -999.000,9, -999.000, -999.000,9, -999.000,   -999.0,9,   -999.0, -999.000,9, -999.000,9, -999.000,9
  49NZ20140717,   P01,    94,  1,     10, X12J10,2,20140803,1933, 46.9934, 177.1898, 5683,   3830.2,2,   1.4777,2,   1.47785,2,  34.6784,2,  34.6780,2,-999.0000,9,   142.05,2,   141.88,2,   99.964,   0.0014,2,    0.001,2,  -999.00,9,    2.392,4,    0.000,2,   157.27,2,     0.17,    36.79,2,     0.05,     0.00,2,     0.01,     2.57,2,     0.01,  -999.00,9,  -999.00,    0.000,2,    0.000,2,    0.000,2,    0.000,2,   -999.0,9,   -999.0,9,   -999.0,9,-999.0000,     -999,9, -999.000,9,  -999.00,9, -999.000,9, -999.000,   -999.0,9,   -999.0, -999.000,9, -999.000, -999.000,9, -999.000,   -999.0,9,   -999.0, -999.000,9, -999.000,9, -999.000,9