BOTTLE,20230904JAMSTECRIGC
EXPOCODE,SECT,STNNBR,CASTNO,SAMPNO,BTLNBR,BTLNBR_FLAG_W,DATE,TIME,LATITUDE,LONGITUDE,DEPTH,CTDPRS,CTDPRS_FLAG_W,CTDTMP,CTDTMP_FLAG_W,SBE35,SBE35_FLAG_W,CTDSAL,CTDSAL_FLAG_W,SALNTY,SALNTY_FLAG_W,DNSSAL,DNSSAL_FLAG_W,CTDOXY,CTDOXY_FLAG_W,OXYGEN,OXYGEN_FLAG_W,XMISS,XMISSCP,XMISS_FLAG_W,FLUOR,FLUOR_FLAG_W,CHLORA,CHLORA_FLAG_W,CDOM,CDOM_FLAG_W,PAR,PAR_FLAG_W,SILCAT,SILCAT_FLAG_W,SILUNC,NITRAT,NITRAT_FLAG_W,NRAUNC,NITRIT,NITRIT_FLAG_W,NRIUNC,PHSPHT,PHSPHT_FLAG_W,PHPUNC,AMMONIA,AMMONIA_FLAG_W,NH4UNC,CFC-11,CFC-11_FLAG_W,CFC-12,CFC-12_FLAG_W,CFC113,CFC113_FLAG_W,SF6,SF6_FLAG_W,TCARBN,TCARBN_FLAG_W,ALKALI,ALKALI_FLAG_W,ALKALI_POT,ALKALI_POT_FLAG_W,PH_TOT,PH_TMP,PH_TOT_FLAG_W,CALCIUM,CALCIUM_FLAG_W,DOC,DOC_FLAG_W,DELC13,DELC13_FLAG_W,C13ERR,DELC14,DELC14_FLAG_W,C14ERR,CS-134,CS-134_FLAG_W,CS134ER,CS-137,CS-137_FLAG_W,CS137ER,I-129,I-129_FLAG_W,I-129ER,CDOM-325,CDOM-325_FLAG_W,CDOM-370,CDOM-370_FLAG_W,CDOM-443,CDOM-443_FLAG_W
,,,,,,,,UTC,DEG,DEG,METERS,DBAR,,ITS-90,,ITS-90,,PSS-78,,PSS-78,,G/KG,,UMOL/KG,,UMOL/KG,,%TRANS,/METER,,MG/CUM,,MG/CUM,,MG/CUM,,UE/SQM/S,,UMOL/KG,,UMOL/KG,UMOL/KG,,UMOL/KG,UMOL/KG,,UMOL/KG,UMOL/KG,,UMOL/KG,UMOL/KG,,UMOL/KG,PMOL/KG,,PMOL/KG,,PMOL/KG,,FMOL/KG,,UMOL/KG,,UMOL/KG,,UMOL/KG,,,DEG C,,MMOL/KG,,UMOL/KG,,/MILLE,,/MILLE,/MILLE,,/MILLE,MBQ/KG,,MBQ/KG,MBQ/KG,,MBQ/KG,,,,/METER,,/METER,,/METER,
  49NZ20140717,   P01,    49,  1,      0,   -999,9,20140720,1612, 41.1362, 146.8885, 5336,   -999.0,9,-999.0000,9,-999.00000,9,-999.0000,9,  33.6417,2,-999.0000,9,  -999.00,9,  -999.00,9, -999.000,-999.0000,9, -999.000,9,  -999.00,9, -999.000,9, -999.000,9,     1.09,2,     0.13,     0.12,2,     0.01,     0.02,2,     0.01,     0.11,2,     0.01,  -999.00,9,  -999.00, -999.000,9, -999.000,9, -999.000,9, -999.000,9,   -999.0,9,   -999.0,9,   -999.0,9,-999.0000,     -999,9, -999.000,9,  -999.00,9, -999.000,9, -999.000,   -999.0,9,   -999.0, -999.000,9, -999.000, -999.000,9, -999.000,   -999.0,9,   -999.0, -999.000,9, -999.000,9, -999.000,9
  49NZ20140717,   P01,    49,  1,     36, X12J36,2,20140720,1612, 41.1362, 146.8885, 5336,      9.6,2,  18.9177,2,  18.92031,2,  33.6668,2,  33.6691,2,-999.0000,9,   243.09,2,   244.04,2,   96.479,   0.1434,2,    0.232,2,  -999.00,9,    0.035,1,    0.318,2,     1.17,2,     0.12,     0.05,2,     0.02,     0.01,2,     0.01,     0.09,2,     0.01,  -999.00,9,  -999.00, -999.000,9, -999.000,9, -999.000,9, -999.000,9,   1984.8,2,   2246.6,2,   2257.9,2,   8.0082,       25,6,    9.904,2,    63.29,2, -999.000,9, -999.000,   -999.0,9,   -999.0, -999.000,9, -999.000, -999.000,9, -999.000,   -999.0,9,   -999.0, -999.000,9, -999.000,9, -999.000,9
  49NZ20140717,   P01,    49,  1,     35, X12J35,2,20140720,1612, 41.1362, 146.8885, 5336,     50.0,2,   9.5827,2,   9.64409,2,  33.6921,2,  33.6529,2,-999.0000,9,   259.63,2,   263.24,2,   97.912,   0.0844,2,    0.342,2,  -999.00,9,    1.207,1,    0.000,2,    10.90,2,     0.09,     8.90,2,     0.02,     0.38,2,     0.01,     0.82,2,     0.01,  -999.00,9,  -999.00, -999.000,9, -999.000,9, -999.000,9, -999.000,9,   2074.6,6,   2253.7,2,   2261.1,2,   7.8408,       25,2,    9.922,2,    53.98,2, -999.000,9, -999.000,   -999.0,9,   -999.0, -999.000,9, -999.000, -999.000,9, -999.000,   -999.0,9,   -999.0, -999.000,9, -999.000,9, -999.000,9
  49NZ20140717,   P01,    49,  1,     34, X12J34,2,20140720,1612, 41.1362, 146.8885, 5336,    100.1,2,   5.7052,2,   5.70397,2,  33.6504,2,  33.6510,2,-999.0000,9,   279.09,2,   278.60,2,   99.681,   0.0128,2,    0.043,2,  -999.00,9,    0.930,1,    0.000,2,    25.81,2,     0.09,    17.96,2,     0.03,     0.02,2,     0.01,     1.39,2,     0.01,  -999.00,9,  -999.00, -999.000,9, -999.000,9, -999.000,9, -999.000,9,   2127.8,2,   2253.0,2,   2257.9,2,   7.7013,       25,2,    9.927,2,    51.28,2, -999.000,9, -999.000,   -999.0,9,   -999.0, -999.000,9, -999.000, -999.000,9, -999.000,   -999.0,9,   -999.0, -999.000,9, -999.000,9, -999.000,9
  49NZ20140717,   P01,    49,  1,     33, X12J33,2,20140720,1612, 41.1362, 146.8885, 5336,    150.6,2,   5.8946,2,   5.89414,2,  33.7217,2,  33.7223,2,-999.0000,9,   284.32,2,   284.33,2,   99.539,   0.0185,2,    0.026,2,  -999.00,9,    0.815,1,    0.000,2,    27.47,2,     0.09,    16.92,2,     0.03,     0.02,2,     0.01,     1.30,2,     0.01,  -999.00,9,  -999.00, -999.000,9, -999.000,9, -999.000,9, -999.000,9,   2123.1,2,   2254.9,2,   2265.8,2,   7.7218,       25,6,    9.935,2,    47.62,2, -999.000,9, -999.000,   -999.0,9,   -999.0, -999.000,9, -999.000, -999.000,9, -999.000,   -999.0,9,   -999.0, -999.000,9, -999.000,9, -999.000,9
  49NZ20140717,   P01,    49,  1,     32, X12J32,2,20140720,1612, 41.1362, 146.8885, 5336,    200.2,2,   5.8738,2,   5.87337,2,  33.7305,2,  33.7310,2,-999.0000,9,   286.06,2,   286.35,2,   99.494,   0.0203,2,   -0.001,2,  -999.00,9,    0.831,1,    0.000,2,    27.47,2,     0.09,    16.60,2,     0.03,     0.02,2,     0.01,     1.27,2,     0.01,  -999.00,9,  -999.00, -999.000,9, -999.000,9, -999.000,9, -999.000,9,   2120.5,2,   2256.8,6,   -999.0,9,   7.7264,       25,2, -999.000,9,    49.76,2, -999.000,9, -999.000,   -999.0,9,   -999.0, -999.000,9, -999.000, -999.000,9, -999.000,   -999.0,9,   -999.0, -999.000,9, -999.000,9, -999.000,9
  49NZ20140717,   P01,    49,  1,     31, X12J31,2,20140720,1612, 41.1362, 146.8885, 5336,    249.6,2,   4.7073,2,   4.74394,2,  33.6386,2,  33.6326,2,-999.0000,9,   265.00,2,   265.19,2,   99.561,   0.0176,2,    0.000,2,  -999.00,9,    1.266,1,    0.000,2,    35.39,2,     0.10,    20.33,2,     0.03,     0.02,2,     0.01,     1.55,2,     0.01,  -999.00,9,  -999.00, -999.000,9, -999.000,9, -999.000,9, -999.000,9,   2148.2,2,   2257.1,2,   -999.0,9,   7.6574,       25,2, -999.000,9,    48.91,2, -999.000,9, -999.000,   -999.0,9,   -999.0, -999.000,9, -999.000, -999.000,9, -999.000,   -999.0,9,   -999.0, -999.000,9, -999.000,9, -999.000,9
  49NZ20140717,   P01,    49,  1,     30, X12J30,2,20140720,1612, 41.1362, 146.8885, 5336,    330.5,2,   1.8084,2,   1.80128,2,  33.4056,2,  33.4110,2,-999.0000,9,   222.35,2,   222.30,2,   99.401,   0.0240,2,    0.003,2,  -999.00,9,    1.993,1,    0.000,2,    59.20,2,     0.11,    29.14,2,     0.04,     0.01,2,     0.01,     2.25,2,     0.01,  -999.00,9,  -999.00, -999.000,9, -999.000,9, -999.000,9, -999.000,9,   2216.1,2,   2262.4,2,   -999.0,9,   7.4810,       25,2, -999.000,9,    46.03,2, -999.000,9, -999.000,   -999.0,9,   -999.0, -999.000,9, -999.000, -999.000,9, -999.000,   -999.0,9,   -999.0, -999.000,9, -999.000,9, -999.000,9
  49NZ20140717,   P01,    49,  1,     29, X12J29,2,20140720,1612, 41.1362, 146.8885, 5336,    428.3,2,   2.5417,2,   2.54146,2,  33.5949,2,  33.5950,2,-999.0000,9,   169.30,2,   168.59,2,   99.824,   0.0071,2,    0.003,2,  -999.00,9,    2.159,1,    0.000,2,    72.62,2,     0.12,    33.56,2,     0.04,     0.01,2,     0.01,     2.52,2,     0.01,  -999.00,9,  -999.00, -999.000,9, -999.000,9, -999.000,9, -999.000,9,   2249.1,2,   2276.3,2,   -999.0,9,   7.4191,       25,2, -999.000,9,    43.94,2, -999.000,9, -999.000,   -999.0,9,   -999.0, -999.000,9, -999.000, -999.000,9, -999.000,   -999.0,9,   -999.0, -999.000,9, -999.000,9, -999.000,9
  49NZ20140717,   P01,    49,  1,     28, X12J28,2,20140720,1612, 41.1362, 146.8885, 5336,    529.0,2,   2.9585,2,   2.95914,2,  33.7712,2,  33.7703,2,-999.0000,9,   116.20,2,   116.17,2,   99.862,   0.0055,2,    0.004,2,  -999.00,9,    2.470,1,    0.000,2,    87.24,2,     0.13,    37.32,2,     0.05,     0.01,2,     0.01,     2.74,2,     0.01,  -999.00,9,  -999.00, -999.000,9, -999.000,9, -999.000,9, -999.000,9,   2285.0,2,   2289.8,2,   2303.0,2,   7.3599,       25,2,    9.977,2,    43.69,2, -999.000,9, -999.000,   -999.0,9,   -999.0, -999.000,9, -999.000, -999.000,9, -999.000,   -999.0,9,   -999.0, -999.000,9, -999.000,9, -999.000,9
  49NZ20140717,   P01,    49,  1,     27, X12J27,2,20140720,1612, 41.1362, 146.8885, 5336,    629.6,2,   3.1699,2,   3.17000,2,  33.9226,2,  33.9214,2,-999.0000,9,    72.80,2,    73.14,2,   99.796,   0.0082,2,    0.006,2,  -999.00,9,    2.572,1,    0.000,2,   101.75,2,     0.14,    40.48,2,     0.05,     0.01,2,     0.01,     2.94,2,     0.01,  -999.00,9,  -999.00, -999.000,9, -999.000,9, -999.000,9, -999.000,9,   2317.4,2,   2309.6,2,   -999.0,9,   7.3114,       25,2, -999.000,9,    44.32,2, -999.000,9, -999.000,   -999.0,9,   -999.0, -999.000,9, -999.000, -999.000,9, -999.000,   -999.0,9,   -999.0, -999.000,9, -999.000,9, -999.000,9
  49NZ20140717,   P01,    49,  1,     26, X12J26,2,20140720,1612, 41.1362, 146.8885, 5336,    730.8,2,   3.4210,2,   3.42076,2,  34.0642,2,  34.0647,2,-999.0000,9,    49.91,2,    50.11,2,   99.826,   0.0070,2,    0.006,2,  -999.00,9,    2.623,1,    0.000,2,   111.59,2,     0.14,    41.79,2,     0.05,     0.01,2,     0.01,     3.01,2,     0.01,  -999.00,9,  -999.00, -999.000,9, -999.000,9, -999.000,9, -999.000,9,   2335.7,6,   2326.3,2,   -999.0,9,   7.3059,       25,2, -999.000,9,    41.13,2, -999.000,9, -999.000,   -999.0,9,   -999.0, -999.000,9, -999.000, -999.000,9, -999.000,   -999.0,9,   -999.0, -999.000,9, -999.000,9, -999.000,9
  49NZ20140717,   P01,    49,  1,     25, X12J25,2,20140720,1612, 41.1362, 146.8885, 5336,    830.0,2,   3.4348,2,   3.43554,2,  34.1799,2,  34.1808,2,-999.0000,9,    38.23,2,    38.74,2,   99.811,   0.0076,2,    0.006,2,  -999.00,9,    2.662,1,    0.000,2,   120.70,2,     0.15,    42.26,2,     0.05,     0.01,2,     0.01,     3.04,2,     0.01,  -999.00,9,  -999.00, -999.000,9, -999.000,9, -999.000,9, -999.000,9,   2348.0,6,   2339.3,2,   2348.5,2,   7.3105,       25,2,   10.102,2,    40.78,2, -999.000,9, -999.000,   -999.0,9,   -999.0, -999.000,9, -999.000, -999.000,9, -999.000,   -999.0,9,   -999.0, -999.000,9, -999.000,9, -999.000,9
  49NZ20140717,   P01,    49,  1,     24, X12J24,2,20140720,1612, 41.1362, 146.8885, 5336,    929.6,2,   3.3259,2,   3.32537,2,  34.2613,2,  34.2611,2,-999.0000,9,    35.78,2,    36.02,2,   99.847,   0.0061,2,    0.006,2,  -999.00,9,    2.727,1,    0.000,2,   128.17,2,     0.15,    42.44,2,     0.05,     0.01,2,     0.01,     3.05,2,     0.01,  -999.00,9,  -999.00, -999.000,9, -999.000,9, -999.000,9, -999.000,9,   2357.6,2,   2352.5,2,   -999.0,9,   7.3220,       25,6, -999.000,9,    40.36,2, -999.000,9, -999.000,   -999.0,9,   -999.0, -999.000,9, -999.000, -999.000,9, -999.000,   -999.0,9,   -999.0, -999.000,9, -999.000,9, -999.000,9
  49NZ20140717,   P01,    49,  1,     23, X12J23,2,20140720,1612, 41.1362, 146.8885, 5336,   1069.8,2,   2.9721,2,   2.97201,2,  34.3258,2,  34.3252,2,-999.0000,9,    32.20,2,    31.89,2,   99.845,   0.0062,2,    0.006,2,  -999.00,9,    2.723,1,    0.000,2,   140.43,2,     0.16,    43.05,2,     0.05,     0.01,2,     0.01,     3.09,2,     0.01,  -999.00,9,  -999.00, -999.000,9, -999.000,9, -999.000,9, -999.000,9,   2371.0,2,   2365.1,2,   2373.5,2,   7.3195,       25,2,   10.158,2,    36.51,2, -999.000,9, -999.000,   -999.0,9,   -999.0, -999.000,9, -999.000, -999.000,9, -999.000,   -999.0,9,   -999.0, -999.000,9, -999.000,9, -999.000,9
  49NZ20140717,   P01,    49,  1,     22, X12J22,2,20140720,1612, 41.1362, 146.8885, 5336,   1270.3,2,   2.7113,2,   2.71110,2,  34.4234,2,  34.4235,2,-999.0000,9,    36.41,2,    36.44,2,   99.869,   0.0052,2,    0.005,2,  -999.00,9,    2.790,1,    0.000,2,   148.75,2,     0.17,    42.92,2,     0.05,     0.00,2,     0.01,     3.08,2,     0.01,  -999.00,9,  -999.00, -999.000,9, -999.000,9, -999.000,9, -999.000,9,   2378.9,2,   2381.2,6,   2391.3,2,   7.3453,       25,2,   10.200,2,    36.81,2, -999.000,9, -999.000,   -999.0,9,   -999.0, -999.000,9, -999.000, -999.000,9, -999.000,   -999.0,9,   -999.0, -999.000,9, -999.000,9, -999.000,9
  49NZ20140717,   P01,    49,  1,     21, X12J21,2,20140720,1612, 41.1362, 146.8885, 5336,   1470.1,2,   2.4525,2,   2.45226,2,  34.4751,2,  34.4748,2,-999.0000,9,    41.17,2,    40.99,2,   99.878,   0.0049,2,    0.004,2,  -999.00,9,    2.868,1,    0.000,2,   156.24,2,     0.17,    42.77,2,     0.05,     0.00,2,     0.01,     3.06,2,     0.01,  -999.00,9,  -999.00, -999.000,9, -999.000,9, -999.000,9, -999.000,9,   2383.1,2,   2389.3,2,   -999.0,9,   7.3588,       25,2, -999.000,9,    37.72,2, -999.000,9, -999.000,   -999.0,9,   -999.0, -999.000,9, -999.000, -999.000,9, -999.000,   -999.0,9,   -999.0, -999.000,9, -999.000,9, -999.000,9
  49NZ20140717,   P01,    49,  1,     20, X12J20,2,20140720,1612, 41.1362, 146.8885, 5336,   1670.5,2,   2.2730,2,   2.27284,2,  34.5216,2,  34.5220,2,-999.0000,9,    49.29,2,    49.31,2,   99.865,   0.0054,2,    0.003,2,  -999.00,9,    2.639,1,    0.000,2,   160.25,2,     0.17,    42.41,2,     0.05,     0.00,2,     0.01,     3.03,2,     0.01,  -999.00,9,  -999.00, -999.000,9, -999.000,9, -999.000,9, -999.000,9,   2384.0,2,   2399.1,2,   2409.2,2,   7.3795,       25,6,   10.230,2,    38.08,2, -999.000,9, -999.000,   -999.0,9,   -999.0, -999.000,9, -999.000, -999.000,9, -999.000,   -999.0,9,   -999.0, -999.000,9, -999.000,9, -999.000,9
  49NZ20140717,   P01,    49,  1,     19, X12J19,2,20140720,1612, 41.1362, 146.8885, 5336,   1869.6,2,   2.1241,2,   2.12364,2,  34.5616,2,  34.5619,2,-999.0000,9,    60.36,2,    60.31,2,   99.839,   0.0065,2,    0.002,2,  -999.00,9,    2.644,1,    0.000,2,   161.44,2,     0.17,    41.91,2,     0.05,     0.00,2,     0.01,     2.98,2,     0.01,  -999.00,9,  -999.00, -999.000,9, -999.000,9, -999.000,9, -999.000,9,   2382.3,2,   2403.8,2,   -999.0,9,   7.4062,       25,2, -999.000,9,    37.72,2, -999.000,9, -999.000,   -999.0,9,   -999.0, -999.000,9, -999.000, -999.000,9, -999.000,   -999.0,9,   -999.0, -999.000,9, -999.000,9, -999.000,9
  49NZ20140717,   P01,    49,  1,     18, X12J18,2,20140720,1612, 41.1362, 146.8885, 5336,   2069.7,2,   1.9833,2,   1.98334,2,  34.5868,2,  34.5865,2,-999.0000,9,    70.99,2,    70.97,2,   99.899,   0.0040,2,    0.001,2,  -999.00,9,    2.580,1,    0.000,2,   163.03,2,     0.18,    41.26,2,     0.05,     0.00,2,     0.01,     2.93,2,     0.01,  -999.00,9,  -999.00, -999.000,9, -999.000,9, -999.000,9, -999.000,9,   2375.9,2,   2409.3,2,   2422.4,2,   7.4274,       25,2,   10.252,2,    39.66,2, -999.000,9, -999.000,   -999.0,9,   -999.0, -999.000,9, -999.000, -999.000,9, -999.000,   -999.0,9,   -999.0, -999.000,9, -999.000,9, -999.000,9
  49NZ20140717,   P01,    49,  1,     17, X12J17,2,20140720,1612, 41.1362, 146.8885, 5336,   2269.5,2,   1.8590,2,   1.85893,2,  34.6095,2,  34.6096,2,-999.0000,9,    83.26,2,    83.31,2,   99.912,   0.0035,2,    0.001,2,  -999.00,9,    2.448,1,    0.000,2,   163.31,2,     0.18,    40.55,2,     0.05,     0.00,2,     0.01,     2.86,2,     0.01,  -999.00,9,  -999.00, -999.000,9, -999.000,9, -999.000,9, -999.000,9,   2370.6,2,   2411.7,2,   -999.0,9,   7.4512,       25,2, -999.000,9,    38.43,2, -999.000,9, -999.000,   -999.0,9,   -999.0, -999.000,9, -999.000, -999.000,9, -999.000,   -999.0,9,   -999.0, -999.000,9, -999.000,9, -999.000,9
  49NZ20140717,   P01,    49,  1,     16, X12J16,2,20140720,1612, 41.1362, 146.8885, 5336,   2470.5,2,   1.7534,2,   1.75345,2,  34.6288,2,  34.6285,2,-999.0000,9,    97.23,2,    97.35,2,   99.908,   0.0037,2,    0.000,2,  -999.00,9,    2.417,1,    0.000,2,   162.03,2,     0.18,    39.68,2,     0.05,     0.00,2,     0.01,     2.80,2,     0.01,  -999.00,9,  -999.00, -999.000,9, -999.000,9, -999.000,9, -999.000,9,   2362.8,6,   2412.1,2,   -999.0,9,   7.4782,       25,2, -999.000,9,    37.24,2, -999.000,9, -999.000,   -999.0,9,   -999.0, -999.000,9, -999.000, -999.000,9, -999.000,   -999.0,9,   -999.0, -999.000,9, -999.000,9, -999.000,9
  49NZ20140717,   P01,    49,  1,     15, X12J15,2,20140720,1612, 41.1362, 146.8885, 5336,   2671.2,2,   1.6744,2,   1.67426,2,  34.6423,2,  34.6420,2,-999.0000,9,   108.07,2,   107.97,2,   99.934,   0.0027,2,   -0.001,2,  -999.00,9,    2.294,1,    0.000,2,   160.17,2,     0.17,    38.97,2,     0.05,     0.00,2,     0.01,     2.75,2,     0.01,  -999.00,9,  -999.00, -999.000,9, -999.000,9, -999.000,9, -999.000,9,   2356.0,2,   2415.6,2,   -999.0,9,   7.4985,       25,2, -999.000,9,    36.04,2, -999.000,9, -999.000,   -999.0,9,   -999.0, -999.000,9, -999.000, -999.000,9, -999.000,   -999.0,9,   -999.0, -999.000,9, -999.000,9, -999.000,9
  49NZ20140717,   P01,    49,  1,     14, X12J14,2,20140720,1612, 41.1362, 146.8885, 5336,   2870.3,2,   1.6252,2,   1.62523,2,  34.6513,2,  34.6513,2,-999.0000,9,   115.90,2,   115.85,2,   99.968,   0.0013,2,   -0.002,2,  -999.00,9,    2.309,1,    0.000,2,   159.18,2,     0.17,    38.50,2,     0.05,     0.00,2,     0.01,     2.71,2,     0.01,  -999.00,9,  -999.00, -999.000,9, -999.000,9, -999.000,9, -999.000,9,   2351.7,2,   2414.1,2,   -999.0,9,   7.5128,       25,6, -999.000,9,    37.83,2, -999.000,9, -999.000,   -999.0,9,   -999.0, -999.000,9, -999.000, -999.000,9, -999.000,   -999.0,9,   -999.0, -999.000,9, -999.000,9, -999.000,9
  49NZ20140717,   P01,    49,  1,     13, X12113,2,20140720,1612, 41.1362, 146.8885, 5336,   3080.8,2,   1.5710,2,   1.57088,2,  34.6603,2,  34.6598,2,-999.0000,9,   124.53,2,   124.41,2,   99.962,   0.0015,2,   -0.002,2,  -999.00,9,    2.186,1,    0.000,2,   157.10,2,     0.17,    37.88,2,     0.05,     0.01,2,     0.01,     2.66,2,     0.01,  -999.00,9,  -999.00, -999.000,9, -999.000,9, -999.000,9, -999.000,9,   2346.7,2,   2416.9,2,   2425.5,2,   7.5292,       25,2,   10.264,2,    37.34,2, -999.000,9, -999.000,   -999.0,9,   -999.0, -999.000,9, -999.000, -999.000,9, -999.000,   -999.0,9,   -999.0, -999.000,9, -999.000,9, -999.000,9
  49NZ20140717,   P01,    49,  1,     12, X12J12,2,20140720,1612, 41.1362, 146.8885, 5336,   3330.5,2,   1.5384,2,   1.53832,2,  34.6670,2,  34.6662,2,-999.0000,9,   131.53,2,   131.44,2,   99.962,   0.0015,2,   -0.002,2,  -999.00,9,    2.173,1,    0.000,2,   155.69,2,     0.17,    37.43,2,     0.05,     0.00,2,     0.01,     2.62,2,     0.01,  -999.00,9,  -999.00, -999.000,9, -999.000,9, -999.000,9, -999.000,9,   2341.7,2,   2414.2,6,   -999.0,9,   7.5413,       25,2, -999.000,9,    37.79,2, -999.000,9, -999.000,   -999.0,9,   -999.0, -999.000,9, -999.000, -999.000,9, -999.000,   -999.0,9,   -999.0, -999.000,9, -999.000,9, -999.000,9
  49NZ20140717,   P01,    49,  1,     11, X12J11,2,20140720,1612, 41.1362, 146.8885, 5336,   3580.0,2,   1.5033,2,   1.50333,2,  34.6738,2,  34.6733,2,-999.0000,9,   139.07,2,   138.79,2,   99.959,   0.0016,2,   -0.003,2,  -999.00,9,    2.096,1,    0.000,2,   153.99,2,     0.17,    36.99,2,     0.05,     0.00,2,     0.01,     2.59,2,     0.01,  -999.00,9,  -999.00, -999.000,9, -999.000,9, -999.000,9, -999.000,9,   2341.6,3,   2417.0,2,   -999.0,9,   7.5538,       25,2, -999.000,9,    38.13,2, -999.000,9, -999.000,   -999.0,9,   -999.0, -999.000,9, -999.000, -999.000,9, -999.000,   -999.0,9,   -999.0, -999.000,9, -999.000,9, -999.000,9
  49NZ20140717,   P01,    49,  1,     10, X12J10,2,20140720,1612, 41.1362, 146.8885, 5336,   5329.6,2,   1.5469,2,   1.54658,2,  34.6900,2,  34.6904,2,-999.0000,9,   159.17,2,   159.25,2,   99.729,   0.0109,2,   -0.004,2,  -999.00,9,   -1.946,4,    0.000,2,  -999.00,9,  -999.00,  -999.00,9,  -999.00,  -999.00,9,  -999.00,  -999.00,9,  -999.00,  -999.00,9,  -999.00, -999.000,9, -999.000,9, -999.000,9, -999.000,9,   -999.0,9,   -999.0,9,   -999.0,9,-999.0000,     -999,9, -999.000,9,  -999.00,9, -999.000,9, -999.000,   -999.0,9,   -999.0, -999.000,9, -999.000, -999.000,9, -999.000,   -999.0,9,   -999.0, -999.000,9, -999.000,9, -999.000,9