BOTTLE,20230904JAMSTECRIGC
EXPOCODE,SECT,STNNBR,CASTNO,SAMPNO,BTLNBR,BTLNBR_FLAG_W,DATE,TIME,LATITUDE,LONGITUDE,DEPTH,CTDPRS,CTDPRS_FLAG_W,CTDTMP,CTDTMP_FLAG_W,SBE35,SBE35_FLAG_W,CTDSAL,CTDSAL_FLAG_W,SALNTY,SALNTY_FLAG_W,DNSSAL,DNSSAL_FLAG_W,CTDOXY,CTDOXY_FLAG_W,OXYGEN,OXYGEN_FLAG_W,XMISS,XMISSCP,XMISS_FLAG_W,FLUOR,FLUOR_FLAG_W,CHLORA,CHLORA_FLAG_W,CDOM,CDOM_FLAG_W,PAR,PAR_FLAG_W,SILCAT,SILCAT_FLAG_W,SILUNC,NITRAT,NITRAT_FLAG_W,NRAUNC,NITRIT,NITRIT_FLAG_W,NRIUNC,PHSPHT,PHSPHT_FLAG_W,PHPUNC,AMMONIA,AMMONIA_FLAG_W,NH4UNC,CFC-11,CFC-11_FLAG_W,CFC-12,CFC-12_FLAG_W,CFC113,CFC113_FLAG_W,SF6,SF6_FLAG_W,TCARBN,TCARBN_FLAG_W,ALKALI,ALKALI_FLAG_W,ALKALI_POT,ALKALI_POT_FLAG_W,PH_TOT,PH_TMP,PH_TOT_FLAG_W,CALCIUM,CALCIUM_FLAG_W,DOC,DOC_FLAG_W,DELC13,DELC13_FLAG_W,C13ERR,DELC14,DELC14_FLAG_W,C14ERR,CS-134,CS-134_FLAG_W,CS134ER,CS-137,CS-137_FLAG_W,CS137ER,I-129,I-129_FLAG_W,I-129ER,CDOM-325,CDOM-325_FLAG_W,CDOM-370,CDOM-370_FLAG_W,CDOM-443,CDOM-443_FLAG_W
,,,,,,,,UTC,DEG,DEG,METERS,DBAR,,ITS-90,,ITS-90,,PSS-78,,PSS-78,,G/KG,,UMOL/KG,,UMOL/KG,,%TRANS,/METER,,MG/CUM,,MG/CUM,,MG/CUM,,UE/SQM/S,,UMOL/KG,,UMOL/KG,UMOL/KG,,UMOL/KG,UMOL/KG,,UMOL/KG,UMOL/KG,,UMOL/KG,UMOL/KG,,UMOL/KG,PMOL/KG,,PMOL/KG,,PMOL/KG,,FMOL/KG,,UMOL/KG,,UMOL/KG,,UMOL/KG,,,DEG C,,MMOL/KG,,UMOL/KG,,/MILLE,,/MILLE,/MILLE,,/MILLE,MBQ/KG,,MBQ/KG,MBQ/KG,,MBQ/KG,,,,/METER,,/METER,,/METER,
  49NZ20140717,   P01,   128,  1,      0,   -999,9,20140815,2125, 46.8996,-144.4380, 4680,   -999.0,9,-999.0000,9,-999.00000,9,-999.0000,9,  32.3969,2,-999.0000,9,  -999.00,9,  -999.00,9, -999.000,-999.0000,9, -999.000,9,     0.33,2, -999.000,9, -999.000,9,     7.49,2,     0.09,     2.88,2,     0.01,     0.05,2,     0.01,     0.57,2,     0.01,  -999.00,9,  -999.00, -999.000,9, -999.000,9, -999.000,9, -999.000,9,   -999.0,9,   -999.0,9,   -999.0,9,-999.0000,     -999,9, -999.000,9,  -999.00,9, -999.000,9, -999.000,   -999.0,9,   -999.0, -999.000,1, -999.000, -999.000,1, -999.000,   -999.0,1,   -999.0,    0.150,2,    0.064,2,    0.025,2
  49NZ20140717,   P01,   128,  1,     36, X12J36,2,20140815,2125, 46.8996,-144.4380, 4680,      9.4,2,  15.5952,2,  15.61012,2,  32.4285,2,  32.4308,2,  32.5846,2,   259.91,2,   260.18,2,   96.077,   0.1601,2,    0.192,2,     0.30,2,   -0.571,1,  550.884,2,     7.21,2,     0.09,     3.16,2,     0.01,     0.05,2,     0.01,     0.59,2,     0.01,  -999.00,9,  -999.00, -999.000,9, -999.000,9, -999.000,9, -999.000,9,   1975.9,2,   2184.3,2,   -999.0,9,   7.9135,       25,2, -999.000,9,    59.70,2, -999.000,1, -999.000,   -999.0,1,   -999.0, -999.000,9, -999.000, -999.000,9, -999.000,   -999.0,9,   -999.0,    0.180,2,    0.080,2,    0.026,2
  49NZ20140717,   P01,   128,  1,     35, X12J35,2,20140815,2125, 46.8996,-144.4380, 4680,     50.0,2,   8.7308,2,   8.73257,2,  32.5758,2,  32.5770,2,  32.7338,2,   289.71,2,   289.51,2,   97.950,   0.0828,2,    0.378,2,     0.36,2,    0.523,1,   14.738,2,    10.48,2,     0.09,     8.27,2,     0.02,     0.12,2,     0.01,     0.96,2,     0.01,  -999.00,9,  -999.00, -999.000,9, -999.000,9, -999.000,9, -999.000,9,   2028.8,6,   2193.8,2,   -999.0,9,   7.8043,       25,2, -999.000,9,    51.68,2, -999.000,1, -999.000,   -999.0,1,   -999.0, -999.000,9, -999.000, -999.000,9, -999.000,   -999.0,9,   -999.0,    0.201,2,    0.089,2,    0.028,2
  49NZ20140717,   P01,   128,  1,     34, X12J34,2,20140815,2125, 46.8996,-144.4380, 4680,    100.8,2,   6.0871,2,   6.08663,2,  33.0787,2,  33.0787,2,  33.2392,2,   259.79,2,   259.78,2,   99.526,   0.0190,2,    0.175,2,     0.14,2,    0.867,1,    1.114,2,    24.91,2,     0.09,    18.82,2,     0.03,     0.02,2,     0.01,     1.52,2,     0.01,  -999.00,9,  -999.00, -999.000,9, -999.000,9, -999.000,9, -999.000,9,   2101.7,2,   2217.8,2,   -999.0,9,   7.6757,       25,2, -999.000,9,    49.09,2, -999.000,1, -999.000,   -999.0,1,   -999.0, -999.000,9, -999.000, -999.000,9, -999.000,   -999.0,9,   -999.0,    0.197,2,    0.094,2,    0.031,2
  49NZ20140717,   P01,   128,  1,     33, X12J33,2,20140815,2125, 46.8996,-144.4380, 4680,    149.8,2,   6.2780,2,   6.27415,2,  33.7815,2,  33.7823,2,  33.9463,2,   189.19,2,   187.94,2,   99.715,   0.0114,2,    0.026,2,     0.01,2,    1.690,1,    0.079,2,    40.72,2,     0.10,    25.57,2,     0.04,     0.02,2,     0.01,     1.86,2,     0.01,  -999.00,9,  -999.00, -999.000,9, -999.000,9, -999.000,9, -999.000,9,   2177.4,2,   2263.5,2,   -999.0,9,   7.5817,       25,6, -999.000,9,    45.76,2, -999.000,1, -999.000,   -999.0,1,   -999.0, -999.000,9, -999.000, -999.000,9, -999.000,   -999.0,9,   -999.0, -999.000,9, -999.000,9, -999.000,9
  49NZ20140717,   P01,   128,  1,     32, X12J32,2,20140815,2125, 46.8996,-144.4380, 4680,    199.5,2,   5.4526,2,   5.44982,2,  33.7984,2,  33.7985,2,  33.9621,2,   160.72,2,   160.28,2,   99.665,   0.0134,2,    0.023,2,     0.01,2,    2.158,1,    0.000,2,    52.56,2,     0.11,    29.71,2,     0.04,     0.01,2,     0.01,     2.16,2,     0.01,  -999.00,9,  -999.00, -999.000,9, -999.000,9, -999.000,9, -999.000,9,   2212.0,2,   2273.1,6,   -999.0,9,   7.5099,       25,2, -999.000,9,    44.65,2, -999.000,1, -999.000,   -999.0,1,   -999.0, -999.000,9, -999.000, -999.000,9, -999.000,   -999.0,9,   -999.0,    0.255,2,    0.131,2,    0.051,2
  49NZ20140717,   P01,   128,  1,     31, X12J31,2,20140815,2125, 46.8996,-144.4380, 4680,    250.1,2,   4.6841,2,   4.68521,2,  33.8039,2,  33.8054,2,  33.9720,2,   131.08,2,   130.72,2,   99.786,   0.0086,2,    0.022,2,     0.01,2,    2.452,1,    0.000,2,    64.29,2,     0.11,    33.84,2,     0.05,     0.01,2,     0.01,     2.45,2,     0.01,  -999.00,9,  -999.00, -999.000,9, -999.000,9, -999.000,9, -999.000,9,   2244.6,2,   2279.6,2,   -999.0,9,   7.4339,       25,2, -999.000,9,    44.46,2, -999.000,1, -999.000,   -999.0,1,   -999.0, -999.000,9, -999.000, -999.000,9, -999.000,   -999.0,9,   -999.0, -999.000,9, -999.000,9, -999.000,9
  49NZ20140717,   P01,   128,  1,     30, X12J30,2,20140815,2125, 46.8996,-144.4380, 4680,    280.1,2,   4.4183,2,   4.41765,2,  33.8233,2,  33.8234,2,  33.9898,2,   113.15,2,   113.53,2,   99.767,   0.0093,2,    0.024,2,  -999.00,9,    2.509,1,    0.000,2,    70.71,2,     0.12,    35.91,2,     0.05,     0.01,2,     0.01,     2.59,2,     0.01,  -999.00,9,  -999.00, -999.000,9, -999.000,9, -999.000,9, -999.000,9,   2261.1,2,   2283.2,2,   -999.0,9,   7.3950,       25,2, -999.000,9,    43.15,2, -999.000,1, -999.000,   -999.0,1,   -999.0, -999.000,9, -999.000, -999.000,9, -999.000,   -999.0,9,   -999.0,    0.363,2,    0.203,2,    0.088,2
  49NZ20140717,   P01,   128,  1,     29, X12J29,2,20140815,2125, 46.8996,-144.4380, 4680,    370.4,2,   3.9492,2,   3.94896,2,  33.9017,2,  33.9012,2,  34.0696,2,    69.87,2,    70.36,2,   99.888,   0.0045,2,    0.021,2,  -999.00,9,    2.850,1,    0.000,2,    86.98,2,     0.13,    40.47,2,     0.05,     0.01,2,     0.01,     2.87,2,     0.01,  -999.00,9,  -999.00, -999.000,9, -999.000,9, -999.000,9, -999.000,9,   2299.8,2,   2301.2,2,   -999.0,9,   7.3163,       25,2, -999.000,9,    42.04,2, -999.000,1, -999.000,   -999.0,1,   -999.0, -999.000,9, -999.000, -999.000,9, -999.000,   -999.0,9,   -999.0, -999.000,9, -999.000,9, -999.000,9
  49NZ20140717,   P01,   128,  1,     28, X12J28,2,20140815,2125, 46.8996,-144.4380, 4680,    467.5,2,   3.9126,2,   3.91251,2,  34.0468,2,  34.0482,2,  34.2200,2,    43.03,2,    43.18,2,   99.949,   0.0020,2,    0.020,2,  -999.00,9,    2.954,1,    0.000,2,   101.17,2,     0.14,    42.10,2,     0.05,     0.01,2,     0.01,     3.00,2,     0.01,  -999.00,9,  -999.00, -999.000,9, -999.000,9, -999.000,9, -999.000,9,   2324.7,2,   2317.5,2,   -999.0,9,   7.3004,       25,2, -999.000,9,    41.35,2, -999.000,1, -999.000,   -999.0,1,   -999.0, -999.000,9, -999.000, -999.000,9, -999.000,   -999.0,9,   -999.0,    0.407,2,    0.236,2,    0.114,2
  49NZ20140717,   P01,   128,  1,     27, X12J27,2,20140815,2125, 46.8996,-144.4380, 4680,    569.1,2,   3.7561,2,   3.75531,2,  34.1353,2,  34.1339,2,  34.3064,2,    31.29,2,    31.61,2,   99.953,   0.0019,2,    0.020,2,  -999.00,9,    2.928,1,    0.000,2,   111.41,2,     0.14,    42.89,2,     0.05,     0.01,2,     0.01,     3.06,2,     0.01,  -999.00,9,  -999.00, -999.000,9, -999.000,9, -999.000,9, -999.000,9,   2340.9,2,   2332.0,2,   -999.0,9,   7.2958,       25,2, -999.000,9,    42.96,3, -999.000,1, -999.000,   -999.0,1,   -999.0, -999.000,9, -999.000, -999.000,9, -999.000,   -999.0,9,   -999.0, -999.000,9, -999.000,9, -999.000,9
  49NZ20140717,   P01,   128,  1,     26, X12J26,2,20140815,2125, 46.8996,-144.4380, 4680,    669.6,2,   3.5845,2,   3.58463,2,  34.2154,2,  34.2169,2,  34.3908,2,    25.88,2,    25.89,2,   99.936,   0.0026,2,    0.020,2,  -999.00,9,    2.999,1,    0.000,2,   120.47,2,     0.15,    43.14,2,     0.05,     0.01,2,     0.01,     3.07,2,     0.01,  -999.00,9,  -999.00, -999.000,9, -999.000,9, -999.000,9, -999.000,9,   2351.8,6,   2346.7,2,   -999.0,9,   7.3012,       25,2, -999.000,9,    39.17,2, -999.000,1, -999.000,   -999.0,1,   -999.0, -999.000,9, -999.000, -999.000,9, -999.000,   -999.0,9,   -999.0, -999.000,9, -999.000,9, -999.000,9
  49NZ20140717,   P01,   128,  1,     25, X12J25,2,20140815,2125, 46.8996,-144.4380, 4680,    771.1,2,   3.3763,2,   3.37605,2,  34.2772,2,  34.2775,2,  34.4527,2,    22.54,2,    22.40,2,   99.971,   0.0012,2,    0.019,2,  -999.00,9,    3.130,1,    0.000,2,   128.53,2,     0.15,    43.49,2,     0.05,     0.01,2,     0.01,     3.11,2,     0.01,  -999.00,9,  -999.00, -999.000,9, -999.000,9, -999.000,9, -999.000,9,   2362.8,2,   2355.5,2,   -999.0,9,   7.3029,       25,2, -999.000,9,    39.10,2, -999.000,1, -999.000,   -999.0,1,   -999.0, -999.000,9, -999.000, -999.000,9, -999.000,   -999.0,9,   -999.0,    0.235,2,    0.117,2,    0.050,2
  49NZ20140717,   P01,   128,  1,     24, X12J24,2,20140815,2125, 46.8996,-144.4380, 4680,    869.1,2,   3.1506,2,   3.15021,2,  34.3266,2,  34.3264,2,  34.5029,2,    17.98,2,    17.48,2,   99.925,   0.0030,2,    0.020,2,  -999.00,9,    3.178,1,    0.000,2,   136.29,2,     0.16,    44.01,2,     0.06,     0.01,2,     0.01,     3.15,2,     0.01,  -999.00,9,  -999.00, -999.000,9, -999.000,9, -999.000,9, -999.000,9,   2371.6,2,   2368.8,2,   -999.0,9,   7.3021,       25,6, -999.000,9,    38.43,2, -999.000,1, -999.000,   -999.0,1,   -999.0, -999.000,9, -999.000, -999.000,9, -999.000,   -999.0,9,   -999.0, -999.000,9, -999.000,9, -999.000,9
  49NZ20140717,   P01,   128,  1,     23, X12J23,2,20140815,2125, 46.8996,-144.4380, 4680,    970.1,2,   3.0001,2,   2.99992,2,  34.3641,2,  34.3642,2,  34.5418,2,    14.22,2,    13.47,2,   99.921,   0.0032,2,    0.018,2,  -999.00,9,    3.250,1,    0.000,2,   142.00,2,     0.16,    44.48,2,     0.06,     0.01,2,     0.01,     3.18,2,     0.01,  -999.00,9,  -999.00, -999.000,9, -999.000,9, -999.000,9, -999.000,9,   2381.2,2,   2374.1,2,   -999.0,9,   7.2988,       25,2, -999.000,9,    37.50,2, -999.000,1, -999.000,   -999.0,1,   -999.0, -999.000,9, -999.000, -999.000,9, -999.000,   -999.0,9,   -999.0,    0.262,2,    0.133,2,    0.056,2
  49NZ20140717,   P01,   128,  1,     22, X12J22,2,20140815,2125, 46.8996,-144.4380, 4680,   1128.2,2,   2.7627,2,   2.76233,2,  34.4157,2,  34.4163,2,  34.5965,2,    14.50,2,    13.71,2,   99.971,   0.0012,2,    0.018,2,  -999.00,9,    3.282,1,    0.000,2,   150.34,2,     0.17,    44.66,2,     0.06,     0.01,2,     0.01,     3.19,2,     0.01,  -999.00,9,  -999.00, -999.000,9, -999.000,9, -999.000,9, -999.000,9,   2389.7,2,   2384.8,6,   -999.0,9,   7.3048,       25,2, -999.000,9,    37.01,2, -999.000,1, -999.000,   -999.0,1,   -999.0, -999.000,9, -999.000, -999.000,9, -999.000,   -999.0,9,   -999.0, -999.000,9, -999.000,9, -999.000,9
  49NZ20140717,   P01,   128,  1,     21, X12J21,2,20140815,2125, 46.8996,-144.4380, 4680,   1328.8,2,   2.5074,2,   2.50721,2,  34.4679,2,  34.4681,2,  34.6473,2,    16.07,2,    14.95,2,   99.945,   0.0022,2,    0.017,2,  -999.00,9,    3.317,1,    0.000,2,   159.21,2,     0.17,    44.84,2,     0.06,     0.01,2,     0.01,     3.18,2,     0.01,  -999.00,9,  -999.00, -999.000,9, -999.000,9, -999.000,9, -999.000,9,   2398.1,2,   2395.6,2,   -999.0,9,   7.3118,       25,2, -999.000,9,    37.99,2, -999.000,9, -999.000,   -999.0,9,   -999.0, -999.000,9, -999.000, -999.000,9, -999.000,   -999.0,9,   -999.0, -999.000,9, -999.000,9, -999.000,9
  49NZ20140717,   P01,   128,  1,     20, X12J20,2,20140815,2125, 46.8996,-144.4380, 4680,   1530.3,2,   2.3004,2,   2.30033,2,  34.5091,2,  34.5092,2,  34.6914,2,    23.07,2,    22.48,2,   99.951,   0.0020,2,    0.016,2,  -999.00,9,    3.272,1,    0.000,2,   165.21,2,     0.18,    44.46,2,     0.06,     0.01,2,     0.01,     3.14,2,     0.01,  -999.00,9,  -999.00, -999.000,9, -999.000,9, -999.000,9, -999.000,9,   2399.5,2,   2404.7,2,   -999.0,9,   7.3283,       25,6, -999.000,9,  -999.00,9, -999.000,1, -999.000,   -999.0,1,   -999.0, -999.000,9, -999.000, -999.000,9, -999.000,   -999.0,9,   -999.0, -999.000,9, -999.000,9, -999.000,9
  49NZ20140717,   P01,   128,  1,     19, X12J19,2,20140815,2125, 46.8996,-144.4380, 4680,   1731.5,2,   2.1242,2,   2.12405,2,  34.5458,2,  34.5459,2,  34.7270,2,    34.32,2,    33.92,2,   99.975,   0.0010,2,    0.015,2,  -999.00,9,    3.191,1,    0.000,2,   169.31,2,     0.18,    43.84,2,     0.06,     0.01,2,     0.01,     3.09,2,     0.01,  -999.00,9,  -999.00, -999.000,9, -999.000,9, -999.000,9, -999.000,9,   2400.6,2,   2409.4,2,   -999.0,9,   7.3523,       25,2, -999.000,9,    37.77,2, -999.000,9, -999.000,   -999.0,9,   -999.0, -999.000,9, -999.000, -999.000,9, -999.000,   -999.0,9,   -999.0, -999.000,9, -999.000,9, -999.000,9
  49NZ20140717,   P01,   128,  1,     18, X12J18,2,20140815,2125, 46.8996,-144.4380, 4680,   1930.4,2,   1.9766,2,   1.97667,2,  34.5756,2,  34.5760,2,  34.7587,2,    48.45,2,    48.21,2,   99.973,   0.0011,2,    0.013,2,  -999.00,9,    3.206,1,    0.000,2,   171.59,2,     0.18,    42.94,2,     0.05,     0.00,2,     0.01,     3.03,2,     0.01,  -999.00,9,  -999.00, -999.000,9, -999.000,9, -999.000,9, -999.000,9,   2390.7,2,   2415.7,2,   -999.0,9,   7.3819,       25,2, -999.000,9,    36.64,2, -999.000,1, -999.000,   -999.0,1,   -999.0, -999.000,9, -999.000, -999.000,9, -999.000,   -999.0,9,   -999.0,    0.254,2,    0.158,2,    0.106,2
  49NZ20140717,   P01,   128,  1,     17, X12J17,2,20140815,2125, 46.8996,-144.4380, 4680,   2130.4,2,   1.8665,2,   1.86658,2,  34.5972,2,  34.5972,2,  34.7785,2,    61.32,2,    61.29,2,   99.969,   0.0013,2,    0.012,2,  -999.00,9,    3.112,1,    0.000,2,   172.60,2,     0.18,    42.10,2,     0.05,     0.01,2,     0.01,     2.97,2,     0.01,  -999.00,9,  -999.00, -999.000,9, -999.000,9, -999.000,9, -999.000,9,   2384.8,2,   2418.1,2,   -999.0,9,   7.4087,       25,2, -999.000,9,    35.95,2, -999.000,9, -999.000,   -999.0,9,   -999.0, -999.000,9, -999.000, -999.000,9, -999.000,   -999.0,9,   -999.0, -999.000,9, -999.000,9, -999.000,9
  49NZ20140717,   P01,   128,  1,     16, X12J16,2,20140815,2125, 46.8996,-144.4380, 4680,   2329.6,2,   1.7640,2,   1.76475,2,  34.6179,2,  34.6178,2,  34.7996,2,    74.22,2,    74.24,2,   99.956,   0.0018,2,    0.011,2,  -999.00,9,    3.055,1,    0.000,2,   173.73,2,     0.18,    41.36,2,     0.05,     0.01,2,     0.01,     2.92,2,     0.01,  -999.00,9,  -999.00, -999.000,9, -999.000,9, -999.000,9, -999.000,9,   2378.2,6,   2420.6,2,   -999.0,9,   7.4336,       25,2, -999.000,9,    37.58,2, -999.000,9, -999.000,   -999.0,9,   -999.0, -999.000,9, -999.000, -999.000,9, -999.000,   -999.0,9,   -999.0, -999.000,9, -999.000,9, -999.000,9
  49NZ20140717,   P01,   128,  1,     15, X12J15,2,20140815,2125, 46.8996,-144.4380, 4680,   2531.0,2,   1.6951,2,   1.69510,2,  34.6310,2,  34.6308,2,  34.8134,2,    84.84,2,    85.03,2,   99.977,   0.0009,2,    0.010,2,  -999.00,9,    2.942,1,    0.000,2,   172.83,2,     0.18,    40.55,2,     0.05,     0.00,2,     0.01,     2.86,2,     0.01,  -999.00,9,  -999.00, -999.000,9, -999.000,9, -999.000,9, -999.000,9,   2375.9,2,   2421.5,2,   -999.0,9,   7.4555,       25,2, -999.000,9,    37.85,2, -999.000,1, -999.000,   -999.0,1,   -999.0, -999.000,9, -999.000, -999.000,9, -999.000,   -999.0,9,   -999.0, -999.000,9, -999.000,9, -999.000,9
  49NZ20140717,   P01,   128,  1,     14, X12J14,2,20140815,2125, 46.8996,-144.4380, 4680,   2730.3,2,   1.6237,2,   1.62367,2,  34.6441,2,  34.6445,2,  34.8253,2,    96.95,2,    97.10,2,  100.001,   0.0000,2,    0.009,2,  -999.00,9,    2.831,1,    0.000,2,   171.73,2,     0.18,    39.77,2,     0.05,     0.00,2,     0.01,     2.80,2,     0.01,  -999.00,9,  -999.00, -999.000,9, -999.000,9, -999.000,9, -999.000,9,   2364.6,2,   2422.7,2,   -999.0,9,   7.4794,       25,6, -999.000,9,    37.36,2, -999.000,9, -999.000,   -999.0,9,   -999.0, -999.000,9, -999.000, -999.000,9, -999.000,   -999.0,9,   -999.0, -999.000,9, -999.000,9, -999.000,9
  49NZ20140717,   P01,   128,  1,     13, X12113,2,20140815,2125, 46.8996,-144.4380, 4680,   2932.2,2,   1.5798,2,   1.58015,2,  34.6530,2,  34.6535,2,  34.8358,2,   106.21,2,   106.51,2,   99.999,   0.0000,2,    0.008,2,  -999.00,9,    2.854,1,    0.000,2,   170.96,2,     0.18,    39.18,2,     0.05,     0.00,2,     0.01,     2.76,2,     0.01,  -999.00,9,  -999.00, -999.000,9, -999.000,9, -999.000,9, -999.000,9,   2358.9,2,   2424.9,2,   -999.0,9,   7.4983,       25,2, -999.000,9,    36.95,2, -999.000,1, -999.000,   -999.0,1,   -999.0, -999.000,9, -999.000, -999.000,9, -999.000,   -999.0,9,   -999.0,    0.230,2,    0.145,2,    0.067,2
  49NZ20140717,   P01,   128,  1,     12, X12J12,2,20140815,2125, 46.8996,-144.4380, 4680,   3171.4,2,   1.5331,2,   1.53317,2,  34.6628,2,  34.6630,2,  34.8457,2,   116.47,2,   116.55,2,   99.999,   0.0000,2,    0.007,2,  -999.00,9,    2.756,1,    0.000,2,   169.67,2,     0.18,    38.49,2,     0.05,     0.00,2,     0.01,     2.70,2,     0.01,  -999.00,9,  -999.00, -999.000,9, -999.000,9, -999.000,9, -999.000,9,   2352.0,2,   2424.6,6,   -999.0,9,   7.5180,       25,2, -999.000,9,    36.96,2, -999.000,9, -999.000,   -999.0,9,   -999.0, -999.000,9, -999.000, -999.000,9, -999.000,   -999.0,9,   -999.0, -999.000,9, -999.000,9, -999.000,9
  49NZ20140717,   P01,   128,  1,     11, X12J11,2,20140815,2125, 46.8996,-144.4380, 4680,   3421.5,2,   1.5029,2,   1.50308,2,  34.6702,2,  34.6702,2,  34.8503,2,   125.45,2,   125.44,2,  100.001,   0.0000,2,    0.006,2,  -999.00,9,    2.668,1,    0.000,2,   168.64,2,     0.18,    37.93,2,     0.05,     0.00,2,     0.01,     2.66,2,     0.01,  -999.00,9,  -999.00, -999.000,9, -999.000,9, -999.000,9, -999.000,9,   2347.3,2,   2428.8,2,   -999.0,9,   7.5358,       25,2, -999.000,9,    35.75,2, -999.000,1, -999.000,   -999.0,1,   -999.0, -999.000,9, -999.000, -999.000,9, -999.000,   -999.0,9,   -999.0, -999.000,9, -999.000,9, -999.000,9
  49NZ20140717,   P01,   128,  1,     10, X12J10,2,20140815,2125, 46.8996,-144.4380, 4680,   3669.3,2,   1.4914,2,   1.49161,2,  34.6755,2,  34.6753,2,  34.8582,2,   131.35,2,   131.32,2,  100.001,   0.0000,2,    0.006,2,  -999.00,9,    2.578,1,    0.000,2,   168.55,2,     0.18,    37.57,2,     0.05,     0.00,2,     0.01,     2.63,2,     0.01,  -999.00,9,  -999.00, -999.000,9, -999.000,9, -999.000,9, -999.000,9,   2346.2,2,   2426.9,2,   -999.0,9,   7.5476,       25,2, -999.000,9,    37.94,2, -999.000,9, -999.000,   -999.0,9,   -999.0, -999.000,9, -999.000, -999.000,9, -999.000,   -999.0,9,   -999.0, -999.000,9, -999.000,9, -999.000,9