BOTTLE,20230904JAMSTECRIGC
EXPOCODE,SECT,STNNBR,CASTNO,SAMPNO,BTLNBR,BTLNBR_FLAG_W,DATE,TIME,LATITUDE,LONGITUDE,DEPTH,CTDPRS,CTDPRS_FLAG_W,CTDTMP,CTDTMP_FLAG_W,SBE35,SBE35_FLAG_W,CTDSAL,CTDSAL_FLAG_W,SALNTY,SALNTY_FLAG_W,DNSSAL,DNSSAL_FLAG_W,CTDOXY,CTDOXY_FLAG_W,OXYGEN,OXYGEN_FLAG_W,XMISS,XMISSCP,XMISS_FLAG_W,FLUOR,FLUOR_FLAG_W,CHLORA,CHLORA_FLAG_W,CDOM,CDOM_FLAG_W,PAR,PAR_FLAG_W,SILCAT,SILCAT_FLAG_W,SILUNC,NITRAT,NITRAT_FLAG_W,NRAUNC,NITRIT,NITRIT_FLAG_W,NRIUNC,PHSPHT,PHSPHT_FLAG_W,PHPUNC,AMMONIA,AMMONIA_FLAG_W,NH4UNC,CFC-11,CFC-11_FLAG_W,CFC-12,CFC-12_FLAG_W,CFC113,CFC113_FLAG_W,SF6,SF6_FLAG_W,TCARBN,TCARBN_FLAG_W,ALKALI,ALKALI_FLAG_W,ALKALI_POT,ALKALI_POT_FLAG_W,PH_TOT,PH_TMP,PH_TOT_FLAG_W,CALCIUM,CALCIUM_FLAG_W,DOC,DOC_FLAG_W,DELC13,DELC13_FLAG_W,C13ERR,DELC14,DELC14_FLAG_W,C14ERR,CS-134,CS-134_FLAG_W,CS134ER,CS-137,CS-137_FLAG_W,CS137ER,I-129,I-129_FLAG_W,I-129ER,CDOM-325,CDOM-325_FLAG_W,CDOM-370,CDOM-370_FLAG_W,CDOM-443,CDOM-443_FLAG_W
,,,,,,,,UTC,DEG,DEG,METERS,DBAR,,ITS-90,,ITS-90,,PSS-78,,PSS-78,,G/KG,,UMOL/KG,,UMOL/KG,,%TRANS,/METER,,MG/CUM,,MG/CUM,,MG/CUM,,UE/SQM/S,,UMOL/KG,,UMOL/KG,UMOL/KG,,UMOL/KG,UMOL/KG,,UMOL/KG,UMOL/KG,,UMOL/KG,UMOL/KG,,UMOL/KG,PMOL/KG,,PMOL/KG,,PMOL/KG,,FMOL/KG,,UMOL/KG,,UMOL/KG,,UMOL/KG,,,DEG C,,MMOL/KG,,UMOL/KG,,/MILLE,,/MILLE,/MILLE,,/MILLE,MBQ/KG,,MBQ/KG,MBQ/KG,,MBQ/KG,,,,/METER,,/METER,,/METER,
  49NZ20140717,   P01,   122,  2,      9, X12J09,2,20140813,2325, 47.0035,-151.4048, 5199,   3921.5,2,   1.4861,2,   1.48607,2,  34.6789,2,  34.6789,2,-999.0000,9,   138.20,2,   138.21,2,   99.963,   0.0015,2,    0.008,2,  -999.00,9,    2.708,4,    0.000,2,   163.58,2,     0.18,    37.03,2,     0.05,     0.00,2,     0.01,     2.58,2,     0.01,     0.00,2,     0.01,    0.001,2,    0.001,2,    0.000,2,    0.000,2,   2339.7,2,   2424.5,2,   -999.0,9,   7.5586,       25,2, -999.000,9,    36.75,2, -999.000,1, -999.000,   -999.0,1,   -999.0, -999.000,9, -999.000, -999.000,9, -999.000,   -999.0,9,   -999.0, -999.000,9, -999.000,9, -999.000,9
  49NZ20140717,   P01,   122,  2,      8, X12J08,2,20140813,2325, 47.0035,-151.4048, 5199,   4171.6,2,   1.4912,2,   1.49127,2,  34.6821,2,  34.6820,2,-999.0000,9,   141.42,2,   141.43,2,   99.952,   0.0019,2,    0.008,2,  -999.00,9,    2.534,4,    0.000,2,   164.82,2,     0.18,    36.96,2,     0.05,     0.00,2,     0.01,     2.58,2,     0.01,     0.00,2,     0.01,    0.000,2,    0.000,2,    0.000,2,    0.000,2,   2335.9,6,   2426.9,2,   -999.0,9,   7.5661,       25,2, -999.000,9,    39.40,2, -999.000,9, -999.000,   -999.0,9,   -999.0, -999.000,9, -999.000, -999.000,9, -999.000,   -999.0,9,   -999.0, -999.000,9, -999.000,9, -999.000,9
  49NZ20140717,   P01,   122,  2,      7, X12J07,2,20140813,2325, 47.0035,-151.4048, 5199,   4420.1,2,   1.5065,2,   1.50652,2,  34.6842,2,  34.6841,2,-999.0000,9,   143.02,2,   143.12,2,   99.945,   0.0022,2,    0.007,2,  -999.00,9,    1.201,4,    0.000,2,   166.66,2,     0.18,    36.81,2,     0.05,     0.00,2,     0.01,     2.56,2,     0.01,     0.00,2,     0.01,    0.000,2,    0.000,2,    0.000,2,    0.000,2,   2336.0,2,   2427.4,2,   -999.0,9,   7.5713,       25,6, -999.000,9,    40.42,2, -999.000,1, -999.000,   -999.0,1,   -999.0, -999.000,9, -999.000, -999.000,9, -999.000,   -999.0,9,   -999.0, -999.000,9, -999.000,9, -999.000,9
  49NZ20140717,   P01,   122,  2,      6, X12J06,2,20140813,2325, 47.0035,-151.4048, 5199,   4670.8,2,   1.5293,2,   1.52931,2,  34.6855,2,  34.6857,2,-999.0000,9,   143.79,2,   143.97,2,   99.928,   0.0029,2,    0.008,2,  -999.00,9,   -1.668,4,    0.000,2,   168.21,2,     0.18,    36.74,2,     0.05,     0.00,2,     0.01,     2.56,2,     0.01,     0.00,2,     0.01,    0.000,2,    0.001,2,    0.000,2,    0.000,2,   2337.0,2,   2430.3,6,   -999.0,9,   7.5753,       25,2, -999.000,9,    38.98,2, -999.000,9, -999.000,   -999.0,9,   -999.0, -999.000,9, -999.000, -999.000,9, -999.000,   -999.0,9,   -999.0, -999.000,9, -999.000,9, -999.000,9
  49NZ20140717,   P01,   122,  2,      5, X12J05,2,20140813,2325, 47.0035,-151.4048, 5199,   4920.0,2,   1.5555,2,   1.55548,2,  34.6862,2,  34.6864,2,-999.0000,9,   144.25,2,   144.57,2,   99.902,   0.0039,2,    0.008,2,  -999.00,9,   -1.899,4,    0.000,2,   169.25,2,     0.18,    36.67,2,     0.05,     0.00,2,     0.01,     2.55,2,     0.01,     0.00,2,     0.01,    0.000,2,    0.001,2,    0.000,2,    0.000,2,   2336.3,2,   2430.1,2,   -999.0,9,   7.5758,       25,2, -999.000,9,    39.21,2, -999.000,1, -999.000,   -999.0,1,   -999.0, -999.000,9, -999.000, -999.000,9, -999.000,   -999.0,9,   -999.0,    0.106,2,    0.038,2,    0.009,2
  49NZ20140717,   P01,   122,  2,      4, X12J04,2,20140813,2325, 47.0035,-151.4048, 5199,   5169.7,2,   1.5868,2,   1.58664,2,  34.6862,2,  34.6864,2,-999.0000,9,   144.19,2,   144.60,2,   99.787,   0.0085,2,    0.007,2,  -999.00,9,   -1.976,4,    0.000,2,   170.17,2,     0.18,    36.76,2,     0.05,     0.00,2,     0.01,     2.56,2,     0.01,     0.00,2,     0.01,    0.001,2,    0.002,2,    0.000,2,    0.000,2,   2337.4,2,   2431.6,2,   -999.0,9,   7.5769,       25,2, -999.000,9,  -999.00,9, -999.000,9, -999.000,   -999.0,9,   -999.0, -999.000,9, -999.000, -999.000,9, -999.000,   -999.0,9,   -999.0, -999.000,9, -999.000,9, -999.000,9
  49NZ20140717,   P01,   122,  2,      3, X12J03,2,20140813,2325, 47.0035,-151.4048, 5199,      9.5,2,  14.3479,2,  14.34674,2,  32.5106,2,-999.0000,9,-999.0000,9,   266.04,2,  -999.00,9,   93.745,   0.2584,2,    0.273,2,  -999.00,9,   -0.128,1,  326.624,2,  -999.00,9,  -999.00,  -999.00,9,  -999.00,  -999.00,9,  -999.00,  -999.00,9,  -999.00,  -999.00,9,  -999.00, -999.000,9, -999.000,9, -999.000,9, -999.000,9,   -999.0,9,   -999.0,9,   -999.0,9,-999.0000,     -999,9, -999.000,9,  -999.00,9, -999.000,9, -999.000,   -999.0,9,   -999.0, -999.000,9, -999.000, -999.000,9, -999.000,   -999.0,9,   -999.0, -999.000,9, -999.000,9, -999.000,9
  49NZ20140717,   P01,   122,  2,      2, X12J02,2,20140813,2325, 47.0035,-151.4048, 5199,     51.0,2,   7.4274,2,   7.41962,2,  32.9289,2,-999.0000,9,-999.0000,9,   300.51,2,  -999.00,9,   98.359,   0.0662,2,    0.352,2,  -999.00,9,    0.621,1,    5.113,2,  -999.00,9,  -999.00,  -999.00,9,  -999.00,  -999.00,9,  -999.00,  -999.00,9,  -999.00,  -999.00,9,  -999.00, -999.000,9, -999.000,9, -999.000,9, -999.000,9,   -999.0,9,   -999.0,9,   -999.0,9,-999.0000,     -999,9, -999.000,9,  -999.00,9, -999.000,9, -999.000,   -999.0,9,   -999.0, -999.000,9, -999.000, -999.000,9, -999.000,   -999.0,9,   -999.0, -999.000,9, -999.000,9, -999.000,9
  49NZ20140717,   P01,   122,  2,      1, X12J01,2,20140813,2325, 47.0035,-151.4048, 5199,   5296.0,2,   1.6033,2,   1.60294,2,  34.6860,2,  34.6864,2,-999.0000,9,   144.11,2,   144.51,2,   99.752,   0.0099,2,    0.007,2,  -999.00,9,   -1.343,4,    0.000,2,   170.23,2,     0.18,    36.79,2,     0.05,     0.00,2,     0.01,     2.56,2,     0.01,     0.00,2,     0.01,    0.000,2,    0.002,2,    0.000,2,    0.040,2,   2336.5,2,   2428.7,2,   -999.0,9,   7.5768,       25,2, -999.000,9,    38.57,2, -999.000,1, -999.000,   -999.0,1,   -999.0, -999.000,9, -999.000, -999.000,9, -999.000,   -999.0,9,   -999.0,    0.102,2,    0.036,2,    0.013,2