BOTTLE,20230904JAMSTECRIGC
EXPOCODE,SECT,STNNBR,CASTNO,SAMPNO,BTLNBR,BTLNBR_FLAG_W,DATE,TIME,LATITUDE,LONGITUDE,DEPTH,CTDPRS,CTDPRS_FLAG_W,CTDTMP,CTDTMP_FLAG_W,SBE35,SBE35_FLAG_W,CTDSAL,CTDSAL_FLAG_W,SALNTY,SALNTY_FLAG_W,DNSSAL,DNSSAL_FLAG_W,CTDOXY,CTDOXY_FLAG_W,OXYGEN,OXYGEN_FLAG_W,XMISS,XMISSCP,XMISS_FLAG_W,FLUOR,FLUOR_FLAG_W,CHLORA,CHLORA_FLAG_W,CDOM,CDOM_FLAG_W,PAR,PAR_FLAG_W,SILCAT,SILCAT_FLAG_W,SILUNC,NITRAT,NITRAT_FLAG_W,NRAUNC,NITRIT,NITRIT_FLAG_W,NRIUNC,PHSPHT,PHSPHT_FLAG_W,PHPUNC,AMMONIA,AMMONIA_FLAG_W,NH4UNC,CFC-11,CFC-11_FLAG_W,CFC-12,CFC-12_FLAG_W,CFC113,CFC113_FLAG_W,SF6,SF6_FLAG_W,TCARBN,TCARBN_FLAG_W,ALKALI,ALKALI_FLAG_W,ALKALI_POT,ALKALI_POT_FLAG_W,PH_TOT,PH_TMP,PH_TOT_FLAG_W,CALCIUM,CALCIUM_FLAG_W,DOC,DOC_FLAG_W,DELC13,DELC13_FLAG_W,C13ERR,DELC14,DELC14_FLAG_W,C14ERR,CS-134,CS-134_FLAG_W,CS134ER,CS-137,CS-137_FLAG_W,CS137ER,I-129,I-129_FLAG_W,I-129ER,CDOM-325,CDOM-325_FLAG_W,CDOM-370,CDOM-370_FLAG_W,CDOM-443,CDOM-443_FLAG_W
,,,,,,,,UTC,DEG,DEG,METERS,DBAR,,ITS-90,,ITS-90,,PSS-78,,PSS-78,,G/KG,,UMOL/KG,,UMOL/KG,,%TRANS,/METER,,MG/CUM,,MG/CUM,,MG/CUM,,UE/SQM/S,,UMOL/KG,,UMOL/KG,UMOL/KG,,UMOL/KG,UMOL/KG,,UMOL/KG,UMOL/KG,,UMOL/KG,UMOL/KG,,UMOL/KG,PMOL/KG,,PMOL/KG,,PMOL/KG,,FMOL/KG,,UMOL/KG,,UMOL/KG,,UMOL/KG,,,DEG C,,MMOL/KG,,UMOL/KG,,/MILLE,,/MILLE,/MILLE,,/MILLE,MBQ/KG,,MBQ/KG,MBQ/KG,,MBQ/KG,,,,/METER,,/METER,,/METER,
  49NZ20140717,   P01,   104,  1,      0,   -999,9,20140808,0156, 47.0084,-171.5592, 5731,   -999.0,9,-999.0000,9,-999.00000,9,-999.0000,9,  32.9277,2,-999.0000,9,  -999.00,9,  -999.00,9, -999.000,-999.0000,9, -999.000,9,  -999.00,9, -999.000,9, -999.000,9,    16.66,2,     0.09,    11.35,2,     0.02,     0.16,2,     0.01,     1.11,2,     0.01,  -999.00,9,  -999.00, -999.000,9, -999.000,9, -999.000,9, -999.000,9,   -999.0,9,   -999.0,9,   -999.0,9,-999.0000,     -999,9, -999.000,9,  -999.00,9, -999.000,9, -999.000,   -999.0,9,   -999.0, -999.000,9, -999.000, -999.000,9, -999.000,   -999.0,9,   -999.0, -999.000,9, -999.000,9, -999.000,9
  49NZ20140717,   P01,   104,  1,     36, X12J36,2,20140808,0156, 47.0084,-171.5592, 5731,      9.6,2,  13.2344,2,  13.23333,2,  32.9358,2,  32.9363,2,-999.0000,9,   273.51,2,   273.99,2,   95.304,   0.1924,2,    0.365,2,  -999.00,9,   -0.164,1,   75.848,2,    16.77,2,     0.09,    11.18,2,     0.02,     0.16,2,     0.01,     1.09,2,     0.01,  -999.00,9,  -999.00,    3.159,2,    1.868,2,    0.354,2, -999.000,9,   -999.0,9,   -999.0,9,   -999.0,9,-999.0000,     -999,9, -999.000,9,  -999.00,9, -999.000,9, -999.000,   -999.0,9,   -999.0, -999.000,9, -999.000, -999.000,9, -999.000,   -999.0,9,   -999.0, -999.000,9, -999.000,9, -999.000,9
  49NZ20140717,   P01,   104,  1,     35, X12J35,2,20140808,0156, 47.0084,-171.5592, 5731,     49.2,2,   6.7188,2,   6.72702,2,  33.1615,2,  33.1616,2,-999.0000,9,   320.42,2,   320.94,2,   97.452,   0.1033,2,    0.436,2,  -999.00,9,    0.582,1,    4.285,2,    18.50,2,     0.09,    12.63,2,     0.02,     0.10,2,     0.01,     1.19,2,     0.01,  -999.00,9,  -999.00,    4.396,2,    2.482,2,    0.448,2, -999.000,9,   -999.0,9,   -999.0,9,   -999.0,9,-999.0000,     -999,9, -999.000,9,  -999.00,9, -999.000,9, -999.000,   -999.0,9,   -999.0, -999.000,9, -999.000, -999.000,9, -999.000,   -999.0,9,   -999.0, -999.000,9, -999.000,9, -999.000,9
  49NZ20140717,   P01,   104,  1,     34, X12J34,2,20140808,0156, 47.0084,-171.5592, 5731,    100.1,2,   5.6143,2,   5.61418,2,  33.1447,2,  33.1461,2,-999.0000,9,   301.35,2,   301.74,2,   99.290,   0.0285,2,    0.190,2,  -999.00,9,    0.620,1,    0.142,2,    20.60,2,     0.09,    15.34,2,     0.03,     0.48,2,     0.01,     1.34,2,     0.01,  -999.00,9,  -999.00,    4.527,2,    2.546,2,    0.450,2, -999.000,9,   -999.0,9,   -999.0,9,   -999.0,9,-999.0000,     -999,9, -999.000,9,  -999.00,9, -999.000,9, -999.000,   -999.0,9,   -999.0, -999.000,9, -999.000, -999.000,9, -999.000,   -999.0,9,   -999.0, -999.000,9, -999.000,9, -999.000,9
  49NZ20140717,   P01,   104,  1,     33, X12J33,2,20140808,0156, 47.0084,-171.5592, 5731,    150.5,2,   4.9085,2,   4.90944,2,  33.6065,2,  33.6056,2,-999.0000,9,   249.88,2,   249.25,2,   99.707,   0.0117,2,    0.016,2,  -999.00,9,    1.314,1,    0.000,2,    37.02,2,     0.10,    22.69,2,     0.03,     0.01,2,     0.01,     1.70,2,     0.01,  -999.00,9,  -999.00,    4.209,2,    2.360,2,    0.349,2, -999.000,9,   -999.0,9,   -999.0,9,   -999.0,9,-999.0000,     -999,9, -999.000,9,  -999.00,9, -999.000,9, -999.000,   -999.0,9,   -999.0, -999.000,9, -999.000, -999.000,9, -999.000,   -999.0,9,   -999.0, -999.000,9, -999.000,9, -999.000,9
  49NZ20140717,   P01,   104,  1,     32, X12J32,2,20140808,0156, 47.0084,-171.5592, 5731,    200.0,2,   4.3985,2,   4.39827,2,  33.7017,2,  33.6993,2,-999.0000,9,   170.88,2,   171.12,2,   99.710,   0.0116,2,    0.015,2,  -999.00,9,    2.142,1,    0.000,2,    58.24,2,     0.11,    30.69,2,     0.04,     0.01,2,     0.01,     2.25,2,     0.01,  -999.00,9,  -999.00,    3.522,2,    1.924,2,    0.270,2, -999.000,9,   -999.0,9,   -999.0,9,   -999.0,9,-999.0000,     -999,9, -999.000,9,  -999.00,9, -999.000,9, -999.000,   -999.0,9,   -999.0, -999.000,9, -999.000, -999.000,9, -999.000,   -999.0,9,   -999.0, -999.000,9, -999.000,9, -999.000,9
  49NZ20140717,   P01,   104,  1,     31, X12J31,2,20140808,0156, 47.0084,-171.5592, 5731,    249.5,2,   4.1091,2,   4.10956,2,  33.7722,2,  33.7723,2,-999.0000,9,   129.59,2,   130.11,2,   99.829,   0.0069,2,    0.016,2,  -999.00,9,    2.461,1,    0.000,2,    70.66,2,     0.12,    34.81,2,     0.05,     0.01,2,     0.01,     2.52,2,     0.01,  -999.00,9,  -999.00,    3.154,2,    1.694,2,    0.230,2, -999.000,9,   -999.0,9,   -999.0,9,   -999.0,9,-999.0000,     -999,9, -999.000,9,  -999.00,9, -999.000,9, -999.000,   -999.0,9,   -999.0, -999.000,9, -999.000, -999.000,9, -999.000,   -999.0,9,   -999.0, -999.000,9, -999.000,9, -999.000,9
  49NZ20140717,   P01,   104,  1,     30, X12J30,2,20140808,0156, 47.0084,-171.5592, 5731,    280.2,2,   4.0812,2,   4.08129,2,  33.8217,2,  33.8217,2,-999.0000,9,   112.04,2,   112.23,2,   99.848,   0.0061,2,    0.016,2,  -999.00,9,    2.492,1,    0.000,2,    76.08,2,     0.12,    36.35,2,     0.05,     0.01,2,     0.01,     2.62,2,     0.01,  -999.00,9,  -999.00,    2.865,2,    1.527,2,    0.200,2, -999.000,9,   -999.0,9,   -999.0,9,   -999.0,9,-999.0000,     -999,9, -999.000,9,  -999.00,9, -999.000,9, -999.000,   -999.0,9,   -999.0, -999.000,9, -999.000, -999.000,9, -999.000,   -999.0,9,   -999.0, -999.000,9, -999.000,9, -999.000,9
  49NZ20140717,   P01,   104,  1,     29, X12J29,2,20140808,0156, 47.0084,-171.5592, 5731,    370.3,2,   3.9698,2,   3.96945,2,  33.9441,2,  33.9418,2,-999.0000,9,    75.01,2,    75.58,2,   99.794,   0.0083,2,    0.017,2,  -999.00,9,    2.711,1,    0.000,2,    89.85,2,     0.13,    39.57,2,     0.05,     0.01,2,     0.01,     2.83,2,     0.01,  -999.00,9,  -999.00,    2.146,2,    1.118,2,    0.142,2, -999.000,9,   -999.0,9,   -999.0,9,   -999.0,9,-999.0000,     -999,9, -999.000,9,  -999.00,9, -999.000,9, -999.000,   -999.0,9,   -999.0, -999.000,9, -999.000, -999.000,9, -999.000,   -999.0,9,   -999.0, -999.000,9, -999.000,9, -999.000,9
  49NZ20140717,   P01,   104,  1,     28, X12J28,2,20140808,0156, 47.0084,-171.5592, 5731,    470.4,2,   3.9571,2,   3.95703,2,  34.0590,2,  34.0595,2,-999.0000,9,    56.65,2,    57.48,2,   99.839,   0.0064,2,    0.016,2,  -999.00,9,    2.746,1,    0.000,2,   100.06,2,     0.14,    40.68,2,     0.05,     0.02,2,     0.01,     2.91,2,     0.01,  -999.00,9,  -999.00,    1.500,2,    0.769,2,    0.093,2, -999.000,9,   -999.0,9,   -999.0,9,   -999.0,9,-999.0000,     -999,9, -999.000,9,  -999.00,9, -999.000,9, -999.000,   -999.0,9,   -999.0, -999.000,9, -999.000, -999.000,9, -999.000,   -999.0,9,   -999.0, -999.000,9, -999.000,9, -999.000,9
  49NZ20140717,   P01,   104,  1,     27, X12J27,2,20140808,0156, 47.0084,-171.5592, 5731,    570.4,2,   3.7273,2,   3.72736,2,  34.1491,2,  34.1490,2,-999.0000,9,    40.80,2,    41.30,2,   99.896,   0.0042,2,    0.016,2,  -999.00,9,    2.882,1,    0.000,2,   112.25,2,     0.14,    41.93,2,     0.05,     0.01,2,     0.01,     3.00,2,     0.01,  -999.00,9,  -999.00,    1.012,2,    0.506,2,    0.066,2, -999.000,9,   -999.0,9,   -999.0,9,   -999.0,9,-999.0000,     -999,9, -999.000,9,  -999.00,9, -999.000,9, -999.000,   -999.0,9,   -999.0, -999.000,9, -999.000, -999.000,9, -999.000,   -999.0,9,   -999.0, -999.000,9, -999.000,9, -999.000,9
  49NZ20140717,   P01,   104,  1,     26, X12J26,2,20140808,0156, 47.0084,-171.5592, 5731,    670.1,2,   3.4897,2,   3.48955,2,  34.2190,2,  34.2186,2,-999.0000,9,    32.62,2,    33.00,2,   99.891,   0.0043,2,    0.016,2,  -999.00,9,    2.923,1,    0.000,2,   122.20,2,     0.15,    42.70,2,     0.05,     0.00,2,     0.01,     3.06,2,     0.01,  -999.00,9,  -999.00,    0.696,2,    0.341,2,    0.046,2, -999.000,9,   -999.0,9,   -999.0,9,   -999.0,9,-999.0000,     -999,9, -999.000,9,  -999.00,9, -999.000,9, -999.000,   -999.0,9,   -999.0, -999.000,9, -999.000, -999.000,9, -999.000,   -999.0,9,   -999.0, -999.000,9, -999.000,9, -999.000,9
  49NZ20140717,   P01,   104,  1,     25, X12J25,2,20140808,0156, 47.0084,-171.5592, 5731,    769.5,2,   3.2584,2,   3.25807,2,  34.2800,2,  34.2797,2,-999.0000,9,    28.64,2,    28.82,2,   99.872,   0.0051,2,    0.016,2,  -999.00,9,    2.996,1,    0.000,2,   130.74,2,     0.16,    43.05,2,     0.05,     0.00,2,     0.01,     3.08,2,     0.01,  -999.00,9,  -999.00,    0.470,2,    0.227,2,    0.025,2, -999.000,9,   -999.0,9,   -999.0,9,   -999.0,9,-999.0000,     -999,9, -999.000,9,  -999.00,9, -999.000,9, -999.000,   -999.0,9,   -999.0, -999.000,9, -999.000, -999.000,9, -999.000,   -999.0,9,   -999.0, -999.000,9, -999.000,9, -999.000,9
  49NZ20140717,   P01,   104,  1,     24, X12J24,2,20140808,0156, 47.0084,-171.5592, 5731,    870.1,2,   3.0896,2,   3.08935,2,  34.3241,2,  34.3240,2,-999.0000,9,    27.52,2,    27.65,2,   99.894,   0.0043,2,    0.015,2,  -999.00,9,    3.069,1,    0.000,2,   137.13,2,     0.16,    43.23,2,     0.05,     0.00,2,     0.01,     3.09,2,     0.01,  -999.00,9,  -999.00,    0.339,2,    0.156,2,    0.012,2, -999.000,9,   -999.0,9,   -999.0,9,   -999.0,9,-999.0000,     -999,9, -999.000,9,  -999.00,9, -999.000,9, -999.000,   -999.0,9,   -999.0, -999.000,9, -999.000, -999.000,9, -999.000,   -999.0,9,   -999.0, -999.000,9, -999.000,9, -999.000,9
  49NZ20140717,   P01,   104,  1,     23, X12J23,2,20140808,0156, 47.0084,-171.5592, 5731,    969.7,2,   2.9324,2,   2.93222,2,  34.3699,2,  34.3697,2,-999.0000,9,    27.20,2,    27.06,2,   99.878,   0.0049,2,    0.015,2,  -999.00,9,    3.053,1,    0.000,2,   142.96,2,     0.16,    43.41,2,     0.05,     0.00,2,     0.01,     3.11,2,     0.01,  -999.00,9,  -999.00,    0.289,2,    0.096,2,    0.004,2, -999.000,9,   -999.0,9,   -999.0,9,   -999.0,9,-999.0000,     -999,9, -999.000,9,  -999.00,9, -999.000,9, -999.000,   -999.0,9,   -999.0, -999.000,9, -999.000, -999.000,9, -999.000,   -999.0,9,   -999.0, -999.000,9, -999.000,9, -999.000,9
  49NZ20140717,   P01,   104,  1,     22, X12J22,2,20140808,0156, 47.0084,-171.5592, 5731,   1129.3,2,   2.6870,2,   2.68713,2,  34.4212,2,  34.4209,2,-999.0000,9,    27.96,2,    27.81,2,   99.896,   0.0042,2,    0.014,2,  -999.00,9,    3.201,1,    0.000,2,   150.92,2,     0.17,    43.57,2,     0.05,     0.00,2,     0.01,     3.11,2,     0.01,  -999.00,9,  -999.00,    0.132,2,    0.057,2,    0.000,2, -999.000,9,   -999.0,9,   -999.0,9,   -999.0,9,-999.0000,     -999,9, -999.000,9,  -999.00,9, -999.000,9, -999.000,   -999.0,9,   -999.0, -999.000,9, -999.000, -999.000,9, -999.000,   -999.0,9,   -999.0, -999.000,9, -999.000,9, -999.000,9
  49NZ20140717,   P01,   104,  1,     21, X12J21,2,20140808,0156, 47.0084,-171.5592, 5731,   1330.4,2,   2.4647,2,   2.46414,2,  34.4733,2,  34.4724,2,-999.0000,9,    30.40,2,    30.01,2,   99.876,   0.0050,2,    0.013,2,  -999.00,9,    3.237,1,    0.000,2,   157.68,2,     0.17,    43.69,2,     0.06,     0.00,2,     0.01,     3.11,2,     0.01,  -999.00,9,  -999.00,    0.055,2,    0.026,2,    0.000,2, -999.000,9,   -999.0,9,   -999.0,9,   -999.0,9,-999.0000,     -999,9, -999.000,9,  -999.00,9, -999.000,9, -999.000,   -999.0,9,   -999.0, -999.000,9, -999.000, -999.000,9, -999.000,   -999.0,9,   -999.0, -999.000,9, -999.000,9, -999.000,9
  49NZ20140717,   P01,   104,  1,     20, X12J20,2,20140808,0156, 47.0084,-171.5592, 5731,   1529.0,2,   2.2905,2,   2.29033,2,  34.5091,2,  34.5090,2,-999.0000,9,    37.12,2,    37.13,2,   99.920,   0.0032,2,    0.012,2,  -999.00,9,    3.128,1,    0.000,2,   162.72,2,     0.18,    43.24,2,     0.11,     0.00,2,     0.01,     3.08,2,     0.01,  -999.00,9,  -999.00,    0.034,2,    0.015,2,    0.000,2, -999.000,9,   -999.0,9,   -999.0,9,   -999.0,9,-999.0000,     -999,9, -999.000,9,  -999.00,9, -999.000,9, -999.000,   -999.0,9,   -999.0, -999.000,9, -999.000, -999.000,9, -999.000,   -999.0,9,   -999.0, -999.000,9, -999.000,9, -999.000,9
  49NZ20140717,   P01,   104,  1,     19, X12J19,2,20140808,0156, 47.0084,-171.5592, 5731,   1729.4,2,   2.1208,2,   2.11956,2,  34.5461,2,  34.5452,2,-999.0000,9,    47.17,2,    46.95,2,   99.928,   0.0029,2,    0.011,2,  -999.00,9,    3.128,1,    0.000,2,   166.36,2,     0.18,    42.71,2,     0.05,     0.00,2,     0.01,     3.03,2,     0.01,  -999.00,9,  -999.00,    0.017,2,    0.008,2,    0.000,2, -999.000,9,   -999.0,9,   -999.0,9,   -999.0,9,-999.0000,     -999,9, -999.000,9,  -999.00,9, -999.000,9, -999.000,   -999.0,9,   -999.0, -999.000,9, -999.000, -999.000,9, -999.000,   -999.0,9,   -999.0, -999.000,9, -999.000,9, -999.000,9
  49NZ20140717,   P01,   104,  1,     18, X12J18,2,20140808,0156, 47.0084,-171.5592, 5731,   1931.7,2,   2.0031,2,   2.00171,2,  34.5719,2,  34.5729,2,-999.0000,9,    56.84,2,    56.83,2,   99.917,   0.0033,2,    0.010,2,  -999.00,9,    3.002,1,    0.000,2,   168.46,2,     0.18,    42.18,2,     0.05,     0.00,2,     0.01,     2.98,2,     0.01,  -999.00,9,  -999.00,    0.007,2,    0.003,2,    0.000,2, -999.000,9,   -999.0,9,   -999.0,9,   -999.0,9,-999.0000,     -999,9, -999.000,9,  -999.00,9, -999.000,9, -999.000,   -999.0,9,   -999.0, -999.000,9, -999.000, -999.000,9, -999.000,   -999.0,9,   -999.0, -999.000,9, -999.000,9, -999.000,9
  49NZ20140717,   P01,   104,  1,     17, X12J17,2,20140808,0156, 47.0084,-171.5592, 5731,   2130.1,2,   1.8935,2,   1.89364,2,  34.5944,2,  34.5945,2,-999.0000,9,    67.18,2,    67.33,2,   99.917,   0.0033,2,    0.009,2,  -999.00,9,    2.957,1,    0.000,2,   169.42,2,     0.18,    41.56,2,     0.05,     0.00,2,     0.01,     2.94,2,     0.01,  -999.00,9,  -999.00,    0.003,2,    0.002,2,    0.000,2, -999.000,9,   -999.0,9,   -999.0,9,   -999.0,9,-999.0000,     -999,9, -999.000,9,  -999.00,9, -999.000,9, -999.000,   -999.0,9,   -999.0, -999.000,9, -999.000, -999.000,9, -999.000,   -999.0,9,   -999.0, -999.000,9, -999.000,9, -999.000,9
  49NZ20140717,   P01,   104,  1,     16, X12J16,2,20140808,0156, 47.0084,-171.5592, 5731,   2331.1,2,   1.7963,2,   1.79619,2,  34.6144,2,  34.6151,2,-999.0000,9,    78.30,2,    78.45,2,   99.928,   0.0029,2,    0.008,2,  -999.00,9,    2.903,1,    0.000,2,   169.80,2,     0.18,    40.92,2,     0.05,     0.00,2,     0.01,     2.89,2,     0.01,  -999.00,9,  -999.00,    0.000,2,    0.000,2,    0.000,2, -999.000,9,   -999.0,9,   -999.0,9,   -999.0,9,-999.0000,     -999,9, -999.000,9,  -999.00,9, -999.000,9, -999.000,   -999.0,9,   -999.0, -999.000,9, -999.000, -999.000,9, -999.000,   -999.0,9,   -999.0, -999.000,9, -999.000,9, -999.000,9
  49NZ20140717,   P01,   104,  1,     15, X12J15,2,20140808,0156, 47.0084,-171.5592, 5731,   2530.8,2,   1.7226,2,   1.72257,2,  34.6285,2,  34.6282,2,-999.0000,9,    88.88,2,    88.61,2,   99.948,   0.0021,2,    0.006,2,  -999.00,9,    2.820,1,    0.000,2,   169.44,2,     0.18,    40.24,2,     0.05,     0.00,2,     0.01,     2.84,2,     0.01,  -999.00,9,  -999.00,    0.000,2,    0.000,2,    0.000,2, -999.000,9,   -999.0,9,   -999.0,9,   -999.0,9,-999.0000,     -999,9, -999.000,9,  -999.00,9, -999.000,9, -999.000,   -999.0,9,   -999.0, -999.000,9, -999.000, -999.000,9, -999.000,   -999.0,9,   -999.0, -999.000,9, -999.000,9, -999.000,9
  49NZ20140717,   P01,   104,  1,     14, X12J14,2,20140808,0156, 47.0084,-171.5592, 5731,   2730.3,2,   1.6626,2,   1.66249,2,  34.6400,2,  34.6402,2,-999.0000,9,    98.44,2,    98.28,2,   99.969,   0.0012,2,    0.006,2,  -999.00,9,    2.795,1,    0.000,2,   168.28,2,     0.18,    39.70,2,     0.05,     0.00,2,     0.01,     2.79,2,     0.01,  -999.00,9,  -999.00,    0.000,2,    0.000,2,    0.000,2, -999.000,9,   -999.0,9,   -999.0,9,   -999.0,9,-999.0000,     -999,9, -999.000,9,  -999.00,9, -999.000,9, -999.000,   -999.0,9,   -999.0, -999.000,9, -999.000, -999.000,9, -999.000,   -999.0,9,   -999.0, -999.000,9, -999.000,9, -999.000,9
  49NZ20140717,   P01,   104,  1,     13, X12113,2,20140808,0156, 47.0084,-171.5592, 5731,   2930.2,2,   1.6261,2,   1.62604,2,  34.6480,2,  34.6484,2,-999.0000,9,   105.51,2,   105.71,2,   99.969,   0.0012,2,    0.005,2,  -999.00,9,    2.709,1,    0.000,2,   167.05,2,     0.18,    39.25,2,     0.05,     0.00,2,     0.01,     2.76,2,     0.01,  -999.00,9,  -999.00,    0.000,2,    0.000,2,    0.000,2, -999.000,9,   -999.0,9,   -999.0,9,   -999.0,9,-999.0000,     -999,9, -999.000,9,  -999.00,9, -999.000,9, -999.000,   -999.0,9,   -999.0, -999.000,9, -999.000, -999.000,9, -999.000,   -999.0,9,   -999.0, -999.000,9, -999.000,9, -999.000,9
  49NZ20140717,   P01,   104,  1,     12, X12J12,2,20140808,0156, 47.0084,-171.5592, 5731,   3170.5,2,   1.5716,2,   1.57165,2,  34.6586,2,  34.6583,2,-999.0000,9,   116.67,2,   116.44,2,   99.971,   0.0011,2,    0.005,2,  -999.00,9,    0.388,4,    0.000,2,   164.30,2,     0.18,    38.41,2,     0.05,     0.00,2,     0.01,     2.70,2,     0.01,  -999.00,9,  -999.00,    0.000,2,    0.000,2,    0.000,2, -999.000,9,   -999.0,9,   -999.0,9,   -999.0,9,-999.0000,     -999,9, -999.000,9,  -999.00,9, -999.000,9, -999.000,   -999.0,9,   -999.0, -999.000,9, -999.000, -999.000,9, -999.000,   -999.0,9,   -999.0, -999.000,9, -999.000,9, -999.000,9
  49NZ20140717,   P01,   104,  1,     11, X12J11,2,20140808,0156, 47.0084,-171.5592, 5731,   3420.9,2,   1.5336,2,   1.53375,2,  34.6663,2,  34.6665,2,-999.0000,9,   126.08,2,   125.79,2,   99.974,   0.0011,2,    0.004,2,  -999.00,9,   -0.235,4,    0.000,2,   162.22,2,     0.18,    37.83,2,     0.05,     0.00,2,     0.01,     2.65,2,     0.01,  -999.00,9,  -999.00,    0.000,2,    0.000,2,    0.000,2, -999.000,9,   -999.0,9,   -999.0,9,   -999.0,9,-999.0000,     -999,9, -999.000,9,  -999.00,9, -999.000,9, -999.000,   -999.0,9,   -999.0, -999.000,9, -999.000, -999.000,9, -999.000,   -999.0,9,   -999.0, -999.000,9, -999.000,9, -999.000,9
  49NZ20140717,   P01,   104,  1,     10, X12J10,2,20140808,0156, 47.0084,-171.5592, 5731,   3669.8,2,   1.5013,2,   1.50148,2,  34.6734,2,  34.6735,2,-999.0000,9,   134.65,2,   134.53,2,   99.971,   0.0011,2,    0.003,2,  -999.00,9,   -0.944,4,    0.000,2,   160.21,2,     0.17,    37.28,2,     0.05,     0.00,2,     0.01,     2.61,2,     0.01,  -999.00,9,  -999.00,    0.000,2,    0.001,2,    0.000,2, -999.000,9,   -999.0,9,   -999.0,9,   -999.0,9,-999.0000,     -999,9, -999.000,9,  -999.00,9, -999.000,9, -999.000,   -999.0,9,   -999.0, -999.000,9, -999.000, -999.000,9, -999.000,   -999.0,9,   -999.0, -999.000,9, -999.000,9, -999.000,9