BOTTLE,20230904JAMSTECRIGC
EXPOCODE,SECT,STNNBR,CASTNO,SAMPNO,BTLNBR,BTLNBR_FLAG_W,DATE,TIME,LATITUDE,LONGITUDE,DEPTH,CTDPRS,CTDPRS_FLAG_W,CTDTMP,CTDTMP_FLAG_W,SBE35,SBE35_FLAG_W,CTDSAL,CTDSAL_FLAG_W,SALNTY,SALNTY_FLAG_W,DNSSAL,DNSSAL_FLAG_W,CTDOXY,CTDOXY_FLAG_W,OXYGEN,OXYGEN_FLAG_W,XMISS,XMISSCP,XMISS_FLAG_W,FLUOR,FLUOR_FLAG_W,CHLORA,CHLORA_FLAG_W,CDOM,CDOM_FLAG_W,PAR,PAR_FLAG_W,SILCAT,SILCAT_FLAG_W,SILUNC,NITRAT,NITRAT_FLAG_W,NRAUNC,NITRIT,NITRIT_FLAG_W,NRIUNC,PHSPHT,PHSPHT_FLAG_W,PHPUNC,AMMONIA,AMMONIA_FLAG_W,NH4UNC,CFC-11,CFC-11_FLAG_W,CFC-12,CFC-12_FLAG_W,CFC113,CFC113_FLAG_W,SF6,SF6_FLAG_W,TCARBN,TCARBN_FLAG_W,ALKALI,ALKALI_FLAG_W,ALKALI_POT,ALKALI_POT_FLAG_W,PH_TOT,PH_TMP,PH_TOT_FLAG_W,CALCIUM,CALCIUM_FLAG_W,DOC,DOC_FLAG_W,DELC13,DELC13_FLAG_W,C13ERR,DELC14,DELC14_FLAG_W,C14ERR,CS-134,CS-134_FLAG_W,CS134ER,CS-137,CS-137_FLAG_W,CS137ER,I-129,I-129_FLAG_W,I-129ER,CDOM-325,CDOM-325_FLAG_W,CDOM-370,CDOM-370_FLAG_W,CDOM-443,CDOM-443_FLAG_W
,,,,,,,,UTC,DEG,DEG,METERS,DBAR,,ITS-90,,ITS-90,,PSS-78,,PSS-78,,G/KG,,UMOL/KG,,UMOL/KG,,%TRANS,/METER,,MG/CUM,,MG/CUM,,MG/CUM,,UE/SQM/S,,UMOL/KG,,UMOL/KG,UMOL/KG,,UMOL/KG,UMOL/KG,,UMOL/KG,UMOL/KG,,UMOL/KG,UMOL/KG,,UMOL/KG,PMOL/KG,,PMOL/KG,,PMOL/KG,,FMOL/KG,,UMOL/KG,,UMOL/KG,,UMOL/KG,,,DEG C,,MMOL/KG,,UMOL/KG,,/MILLE,,/MILLE,/MILLE,,/MILLE,MBQ/KG,,MBQ/KG,MBQ/KG,,MBQ/KG,,,,/METER,,/METER,,/METER,
  49NZ20140717,   P01,    55,  1,      9, X12J09,2,20140722,0546, 39.6931, 147.9137, 5343,   4081.2,2,   1.4532,2,   1.45319,2,  34.6842,2,  34.6845,2,-999.0000,9,   152.22,2,   151.94,2,  100.001,   0.0000,2,   -0.004,2,  -999.00,9,    2.263,4,    0.000,2,   150.38,2,     0.17,    36.15,2,     0.05,     0.00,2,     0.01,     2.49,2,     0.01,  -999.00,9,  -999.00, -999.000,9, -999.000,9, -999.000,9, -999.000,9,   -999.0,9,   -999.0,9,   -999.0,9,-999.0000,     -999,9, -999.000,9,  -999.00,9, -999.000,9, -999.000,   -999.0,9,   -999.0, -999.000,9, -999.000, -999.000,9, -999.000,   -999.0,9,   -999.0, -999.000,9, -999.000,9, -999.000,9
  49NZ20140717,   P01,    55,  1,      8, X12J08,2,20140722,0546, 39.6931, 147.9137, 5343,   4328.6,2,   1.4582,2,   1.45836,2,  34.6866,2,  34.6868,2,-999.0000,9,   155.01,2,   154.80,2,  100.005,  -0.0002,2,   -0.004,2,  -999.00,9,    1.692,4,    0.000,2,   149.95,2,     0.17,    35.99,2,     0.05,    -0.01,2,     0.01,     2.48,2,     0.01,  -999.00,9,  -999.00, -999.000,9, -999.000,9, -999.000,9, -999.000,9,   -999.0,9,   -999.0,9,   -999.0,9,-999.0000,     -999,9, -999.000,9,  -999.00,9, -999.000,9, -999.000,   -999.0,9,   -999.0, -999.000,9, -999.000, -999.000,9, -999.000,   -999.0,9,   -999.0, -999.000,9, -999.000,9, -999.000,9
  49NZ20140717,   P01,    55,  1,      7, X12J07,2,20140722,0546, 39.6931, 147.9137, 5343,   4579.8,2,   1.4721,2,   1.47203,2,  34.6880,2,  34.6883,2,-999.0000,9,   156.92,2,   156.82,2,  100.013,  -0.0005,2,   -0.004,2,  -999.00,9,   -1.561,4,    0.000,2,   149.87,2,     0.17,    35.85,2,     0.05,    -0.01,2,     0.01,     2.47,2,     0.01,  -999.00,9,  -999.00, -999.000,9, -999.000,9, -999.000,9, -999.000,9,   -999.0,9,   -999.0,9,   -999.0,9,-999.0000,     -999,9, -999.000,9,  -999.00,9, -999.000,9, -999.000,   -999.0,9,   -999.0, -999.000,9, -999.000, -999.000,9, -999.000,   -999.0,9,   -999.0, -999.000,9, -999.000,9, -999.000,9
  49NZ20140717,   P01,    55,  1,      6, X12J06,2,20140722,0546, 39.6931, 147.9137, 5343,   4830.5,2,   1.4935,2,   1.49344,2,  34.6891,2,  34.6895,2,-999.0000,9,   157.51,2,   157.38,2,   99.998,   0.0001,2,   -0.004,2,  -999.00,9,   -1.634,4,    0.000,2,   151.07,2,     0.17,    35.79,2,     0.05,    -0.01,2,     0.01,     2.47,2,     0.01,  -999.00,9,  -999.00, -999.000,9, -999.000,9, -999.000,9, -999.000,9,   -999.0,9,   -999.0,9,   -999.0,9,-999.0000,     -999,9, -999.000,9,  -999.00,9, -999.000,9, -999.000,   -999.0,9,   -999.0, -999.000,9, -999.000, -999.000,9, -999.000,   -999.0,9,   -999.0, -999.000,9, -999.000,9, -999.000,9
  49NZ20140717,   P01,    55,  1,      5, X12J05,2,20140722,0546, 39.6931, 147.9137, 5343,   5079.6,2,   1.5184,2,   1.51853,2,  34.6898,2,  34.6899,2,-999.0000,9,   158.45,2,   158.50,2,   99.923,   0.0031,2,   -0.004,2,  -999.00,9,   -1.730,4,    0.000,2,   150.01,2,     0.17,    35.71,2,     0.05,    -0.01,2,     0.01,     2.46,2,     0.01,  -999.00,9,  -999.00, -999.000,9, -999.000,9, -999.000,9, -999.000,9,   -999.0,9,   -999.0,9,   -999.0,9,-999.0000,     -999,9, -999.000,9,  -999.00,9, -999.000,9, -999.000,   -999.0,9,   -999.0, -999.000,9, -999.000, -999.000,9, -999.000,   -999.0,9,   -999.0, -999.000,9, -999.000,9, -999.000,9
  49NZ20140717,   P01,    55,  1,      4, X12J04,2,20140722,0546, 39.6931, 147.9137, 5343,   5330.7,2,   1.5402,2,   1.54010,2,  34.6905,2,  34.6910,2,-999.0000,9,   160.68,2,   160.77,2,   99.744,   0.0103,2,   -0.004,2,  -999.00,9,   -1.820,4,    0.000,2,   147.07,2,     0.17,    35.52,2,     0.05,     0.00,2,     0.01,     2.45,2,     0.01,  -999.00,9,  -999.00, -999.000,9, -999.000,9, -999.000,9, -999.000,9,   -999.0,9,   -999.0,9,   -999.0,9,-999.0000,     -999,9, -999.000,9,  -999.00,9, -999.000,9, -999.000,   -999.0,9,   -999.0, -999.000,9, -999.000, -999.000,9, -999.000,   -999.0,9,   -999.0, -999.000,9, -999.000,9, -999.000,9
  49NZ20140717,   P01,    55,  1,      3, X12J03,9,20140722,0546, 39.6931, 147.9137, 5343,   -999.0,9,-999.0000,9,-999.00000,9,-999.0000,9,-999.0000,9,-999.0000,9,  -999.00,9,  -999.00,9, -999.000,-999.0000,9, -999.000,9,  -999.00,9, -999.000,9, -999.000,9,  -999.00,9,  -999.00,  -999.00,9,  -999.00,  -999.00,9,  -999.00,  -999.00,9,  -999.00,  -999.00,9,  -999.00, -999.000,9, -999.000,9, -999.000,9, -999.000,9,   -999.0,9,   -999.0,9,   -999.0,9,-999.0000,     -999,9, -999.000,9,  -999.00,9, -999.000,9, -999.000,   -999.0,9,   -999.0, -999.000,9, -999.000, -999.000,9, -999.000,   -999.0,9,   -999.0, -999.000,9, -999.000,9, -999.000,9
  49NZ20140717,   P01,    55,  1,      2, X12J02,2,20140722,0546, 39.6931, 147.9137, 5343,   2870.3,2,   1.5540,2,   1.55414,2,  34.6599,2,  34.6599,2,-999.0000,9,   124.40,2,   124.17,2,   99.977,   0.0009,2,   -0.002,2,  -999.00,9,    2.233,1,    0.000,2,   157.23,2,     0.17,    38.04,2,     0.05,     0.00,2,     0.01,     2.64,2,     0.01,  -999.00,9,  -999.00, -999.000,9, -999.000,9, -999.000,9, -999.000,9,   -999.0,9,   -999.0,9,   -999.0,9,-999.0000,     -999,9, -999.000,9,  -999.00,9, -999.000,9, -999.000,   -999.0,9,   -999.0, -999.000,9, -999.000, -999.000,9, -999.000,   -999.0,9,   -999.0, -999.000,9, -999.000,9, -999.000,9
  49NZ20140717,   P01,    55,  1,      1, X12J01,2,20140722,0546, 39.6931, 147.9137, 5343,   5438.0,2,   1.5469,2,   1.54675,2,  34.6911,2,  34.6917,2,-999.0000,9,   162.14,2,   162.35,2,   99.420,   0.0232,2,   -0.004,2,  -999.00,9,   -1.039,4,    0.000,2,   145.18,2,     0.16,    35.43,2,     0.05,     0.00,2,     0.01,     2.44,2,     0.01,  -999.00,9,  -999.00, -999.000,9, -999.000,9, -999.000,9, -999.000,9,   -999.0,9,   -999.0,9,   -999.0,9,-999.0000,     -999,9, -999.000,9,  -999.00,9, -999.000,9, -999.000,   -999.0,9,   -999.0, -999.000,9, -999.000, -999.000,9, -999.000,   -999.0,9,   -999.0, -999.000,9, -999.000,9, -999.000,9