BOTTLE,20230904JAMSTECRIGC
EXPOCODE,SECT,STNNBR,CASTNO,SAMPNO,BTLNBR,BTLNBR_FLAG_W,DATE,TIME,LATITUDE,LONGITUDE,DEPTH,CTDPRS,CTDPRS_FLAG_W,CTDTMP,CTDTMP_FLAG_W,SBE35,SBE35_FLAG_W,CTDSAL,CTDSAL_FLAG_W,SALNTY,SALNTY_FLAG_W,DNSSAL,DNSSAL_FLAG_W,CTDOXY,CTDOXY_FLAG_W,OXYGEN,OXYGEN_FLAG_W,XMISS,XMISSCP,XMISS_FLAG_W,FLUOR,FLUOR_FLAG_W,CHLORA,CHLORA_FLAG_W,CDOM,CDOM_FLAG_W,PAR,PAR_FLAG_W,SILCAT,SILCAT_FLAG_W,SILUNC,NITRAT,NITRAT_FLAG_W,NRAUNC,NITRIT,NITRIT_FLAG_W,NRIUNC,PHSPHT,PHSPHT_FLAG_W,PHPUNC,AMMONIA,AMMONIA_FLAG_W,NH4UNC,CFC-11,CFC-11_FLAG_W,CFC-12,CFC-12_FLAG_W,CFC113,CFC113_FLAG_W,SF6,SF6_FLAG_W,TCARBN,TCARBN_FLAG_W,ALKALI,ALKALI_FLAG_W,ALKALI_POT,ALKALI_POT_FLAG_W,PH_TOT,PH_TMP,PH_TOT_FLAG_W,CALCIUM,CALCIUM_FLAG_W,DOC,DOC_FLAG_W,DELC13,DELC13_FLAG_W,C13ERR,DELC14,DELC14_FLAG_W,C14ERR,CS-134,CS-134_FLAG_W,CS134ER,CS-137,CS-137_FLAG_W,CS137ER,I-129,I-129_FLAG_W,I-129ER,CDOM-325,CDOM-325_FLAG_W,CDOM-370,CDOM-370_FLAG_W,CDOM-443,CDOM-443_FLAG_W
,,,,,,,,UTC,DEG,DEG,METERS,DBAR,,ITS-90,,ITS-90,,PSS-78,,PSS-78,,G/KG,,UMOL/KG,,UMOL/KG,,%TRANS,/METER,,MG/CUM,,MG/CUM,,MG/CUM,,UE/SQM/S,,UMOL/KG,,UMOL/KG,UMOL/KG,,UMOL/KG,UMOL/KG,,UMOL/KG,UMOL/KG,,UMOL/KG,UMOL/KG,,UMOL/KG,PMOL/KG,,PMOL/KG,,PMOL/KG,,FMOL/KG,,UMOL/KG,,UMOL/KG,,UMOL/KG,,,DEG C,,MMOL/KG,,UMOL/KG,,/MILLE,,/MILLE,/MILLE,,/MILLE,MBQ/KG,,MBQ/KG,MBQ/KG,,MBQ/KG,,,,/METER,,/METER,,/METER,
  49NZ20140717,   P01,    74,  1,      0,   -999,9,20140728,2330, 46.9997, 161.1488, 5459,   -999.0,9,-999.0000,9,-999.00000,9,-999.0000,9,  32.5327,2,-999.0000,9,  -999.00,9,  -999.00,9, -999.000,-999.0000,9, -999.000,9,  -999.00,9, -999.000,9, -999.000,9,    19.77,2,     0.09,    12.73,2,     0.09,     0.15,2,     0.01,     1.27,2,     0.01,  -999.00,9,  -999.00, -999.000,9, -999.000,9, -999.000,9, -999.000,9,   -999.0,9,   -999.0,9,   -999.0,9,-999.0000,     -999,9, -999.000,9,  -999.00,9, -999.000,9, -999.000,   -999.0,9,   -999.0, -999.000,9, -999.000, -999.000,9, -999.000,   -999.0,9,   -999.0, -999.000,9, -999.000,9, -999.000,9
  49NZ20140717,   P01,    74,  1,     36, X12J36,2,20140728,2330, 46.9997, 161.1488, 5459,     10.1,2,  11.9628,2,  11.96201,2,  32.5316,2,  32.5305,2,-999.0000,9,   279.59,2,   280.17,2,   95.813,   0.1711,2,    0.182,2,  -999.00,9,    0.098,1,  289.874,2,    20.66,2,     0.09,    12.48,2,     0.02,     0.14,2,     0.01,     1.24,2,     0.01,  -999.00,9,  -999.00,    3.513,2,    1.981,2,    0.347,2, -999.000,9,   -999.0,9,   -999.0,9,   -999.0,9,-999.0000,     -999,9, -999.000,9,  -999.00,9, -999.000,9, -999.000,   -999.0,9,   -999.0, -999.000,9, -999.000, -999.000,9, -999.000,   -999.0,9,   -999.0, -999.000,9, -999.000,9, -999.000,9
  49NZ20140717,   P01,    74,  1,     35, X12J35,2,20140728,2330, 46.9997, 161.1488, 5459,     50.3,2,   3.5364,2,   3.54153,2,  32.8441,2,  32.8459,2,-999.0000,9,   331.65,2,   332.40,2,   96.902,   0.1259,2,    0.456,2,  -999.00,9,    0.875,1,   16.661,2,    27.54,2,     0.09,    18.27,2,     0.03,     0.23,2,     0.01,     1.62,2,     0.01,  -999.00,9,  -999.00,    5.447,2,    2.881,2,    0.508,2, -999.000,9,   -999.0,9,   -999.0,9,   -999.0,9,-999.0000,     -999,9, -999.000,9,  -999.00,9, -999.000,9, -999.000,   -999.0,9,   -999.0, -999.000,9, -999.000, -999.000,9, -999.000,   -999.0,9,   -999.0, -999.000,9, -999.000,9, -999.000,9
  49NZ20140717,   P01,    74,  1,     34, X12J34,2,20140728,2330, 46.9997, 161.1488, 5459,    100.2,2,   1.5434,2,   1.54586,2,  32.9179,2,  32.9131,2,-999.0000,9,   325.02,2,   326.71,2,   99.407,   0.0238,2,    0.126,2,  -999.00,9,    0.992,1,    0.372,2,    34.84,2,     0.10,    23.19,2,     0.03,     0.09,2,     0.01,     1.86,2,     0.01,  -999.00,9,  -999.00,    5.769,2,    3.049,2,    0.543,2, -999.000,9,   -999.0,9,   -999.0,9,   -999.0,9,-999.0000,     -999,9, -999.000,9,  -999.00,9, -999.000,9, -999.000,   -999.0,9,   -999.0, -999.000,9, -999.000, -999.000,9, -999.000,   -999.0,9,   -999.0, -999.000,9, -999.000,9, -999.000,9
  49NZ20140717,   P01,    74,  1,     33, X12J33,2,20140728,2330, 46.9997, 161.1488, 5459,    150.3,2,   2.5129,2,   2.51342,2,  33.4849,2,  33.4821,2,-999.0000,9,   159.21,2,   159.56,2,   99.477,   0.0210,2,    0.028,2,  -999.00,9,    2.189,1,    0.002,2,    73.12,2,     0.12,    36.71,2,     0.05,     0.01,2,     0.01,     2.68,2,     0.01,  -999.00,9,  -999.00,    3.888,2,    2.037,2,    0.314,2, -999.000,9,   -999.0,9,   -999.0,9,   -999.0,9,-999.0000,     -999,9, -999.000,9,  -999.00,9, -999.000,9, -999.000,   -999.0,9,   -999.0, -999.000,9, -999.000, -999.000,9, -999.000,   -999.0,9,   -999.0, -999.000,9, -999.000,9, -999.000,9
  49NZ20140717,   P01,    74,  1,     32, X12J32,2,20140728,2330, 46.9997, 161.1488, 5459,    200.0,2,   3.3279,2,   3.32792,2,  33.7697,2,  33.7687,2,-999.0000,9,    62.14,2,    62.64,2,   99.597,   0.0161,2,    0.021,2,  -999.00,9,    2.706,1,    0.000,2,    91.68,2,     0.13,    43.17,2,     0.05,     0.01,2,     0.01,     3.07,2,     0.01,  -999.00,9,  -999.00,    2.627,2,    1.342,2,    0.193,2, -999.000,9,   -999.0,9,   -999.0,9,   -999.0,9,-999.0000,     -999,9, -999.000,9,  -999.00,9, -999.000,9, -999.000,   -999.0,9,   -999.0, -999.000,9, -999.000, -999.000,9, -999.000,   -999.0,9,   -999.0, -999.000,9, -999.000,9, -999.000,9
  49NZ20140717,   P01,    74,  1,     31, X12J31,2,20140728,2330, 46.9997, 161.1488, 5459,    249.4,2,   3.3275,2,   3.32761,2,  33.8561,2,  33.8552,2,-999.0000,9,    45.86,2,    46.27,2,   99.667,   0.0134,2,    0.021,2,  -999.00,9,    2.814,1,    0.000,2,    98.87,2,     0.14,    43.88,2,     0.06,     0.01,2,     0.01,     3.11,2,     0.01,  -999.00,9,  -999.00,    2.240,2,    1.141,2,    0.166,2, -999.000,9,   -999.0,9,   -999.0,9,   -999.0,9,-999.0000,     -999,9, -999.000,9,  -999.00,9, -999.000,9, -999.000,   -999.0,9,   -999.0, -999.000,9, -999.000, -999.000,9, -999.000,   -999.0,9,   -999.0, -999.000,9, -999.000,9, -999.000,9
  49NZ20140717,   P01,    74,  1,     30, X12J30,2,20140728,2330, 46.9997, 161.1488, 5459,    279.8,2,   3.5423,2,   3.54274,2,  33.9365,2,  33.9358,2,-999.0000,9,    28.59,2,    28.65,2,   99.714,   0.0115,2,    0.023,2,  -999.00,9,    2.806,1,    0.000,2,   103.44,2,     0.14,    44.76,2,     0.06,     0.01,2,     0.01,     3.16,2,     0.01,  -999.00,9,  -999.00,    1.826,2,    0.917,2,    0.118,2, -999.000,9,   -999.0,9,   -999.0,9,   -999.0,9,-999.0000,     -999,9, -999.000,9,  -999.00,9, -999.000,9, -999.000,   -999.0,9,   -999.0, -999.000,9, -999.000, -999.000,9, -999.000,   -999.0,9,   -999.0, -999.000,9, -999.000,9, -999.000,9
  49NZ20140717,   P01,    74,  1,     29, X12J29,2,20140728,2330, 46.9997, 161.1488, 5459,   5419.5,2,   1.5615,2,   1.56151,2,  34.6900,2,  34.6897,2,-999.0000,9,   158.97,2,   159.25,2,   99.796,   0.0082,2,    0.003,2,  -999.00,9,   -1.803,4,    0.000,2,  -999.00,9,  -999.00,  -999.00,9,  -999.00,  -999.00,9,  -999.00,  -999.00,9,  -999.00,  -999.00,9,  -999.00, -999.000,9, -999.000,9, -999.000,9, -999.000,9,   -999.0,9,   -999.0,9,   -999.0,9,-999.0000,     -999,9, -999.000,9,  -999.00,9, -999.000,9, -999.000,   -999.0,9,   -999.0, -999.000,9, -999.000, -999.000,9, -999.000,   -999.0,9,   -999.0, -999.000,9, -999.000,9, -999.000,9
  49NZ20140717,   P01,    74,  1,     28, X12J28,2,20140728,2330, 46.9997, 161.1488, 5459,    470.7,2,   3.4314,2,   3.43104,2,  34.1591,2,  34.1581,2,-999.0000,9,    14.59,2,    14.06,2,   99.874,   0.0050,2,    0.021,2,  -999.00,9,    2.913,1,    0.000,2,   123.53,2,     0.15,    44.64,2,     0.06,     0.01,2,     0.01,     3.17,2,     0.02,  -999.00,9,  -999.00,    0.788,2,    0.378,2,    0.056,2, -999.000,9,   -999.0,9,   -999.0,9,   -999.0,9,-999.0000,     -999,9, -999.000,9,  -999.00,9, -999.000,9, -999.000,   -999.0,9,   -999.0, -999.000,9, -999.000, -999.000,9, -999.000,   -999.0,9,   -999.0, -999.000,9, -999.000,9, -999.000,9
  49NZ20140717,   P01,    74,  1,     27, X12J27,2,20140728,2330, 46.9997, 161.1488, 5459,    569.3,2,   3.2386,2,   3.23837,2,  34.2254,2,  34.2252,2,-999.0000,9,    14.77,2,    14.26,2,   99.874,   0.0050,2,    0.020,2,  -999.00,9,    2.975,1,    0.000,2,   132.22,2,     0.16,    44.52,2,     0.06,     0.01,2,     0.01,     3.17,2,     0.01,  -999.00,9,  -999.00,    0.567,2,    0.267,2,    0.040,2, -999.000,9,   -999.0,9,   -999.0,9,   -999.0,9,-999.0000,     -999,9, -999.000,9,  -999.00,9, -999.000,9, -999.000,   -999.0,9,   -999.0, -999.000,9, -999.000, -999.000,9, -999.000,   -999.0,9,   -999.0, -999.000,9, -999.000,9, -999.000,9
  49NZ20140717,   P01,    74,  1,     26, X12J26,2,20140728,2330, 46.9997, 161.1488, 5459,    670.2,2,   3.0828,2,   3.08319,2,  34.2919,2,  34.2915,2,-999.0000,9,    15.00,2,    14.38,2,   99.891,   0.0044,2,    0.019,2,  -999.00,9,    2.985,1,    0.000,2,   139.30,2,     0.16,    44.45,2,     0.06,     0.01,2,     0.01,     3.17,2,     0.01,  -999.00,9,  -999.00,    0.360,2,    0.168,2,    0.021,2, -999.000,9,   -999.0,9,   -999.0,9,   -999.0,9,-999.0000,     -999,9, -999.000,9,  -999.00,9, -999.000,9, -999.000,   -999.0,9,   -999.0, -999.000,9, -999.000, -999.000,9, -999.000,   -999.0,9,   -999.0, -999.000,9, -999.000,9, -999.000,9
  49NZ20140717,   P01,    74,  1,     25, X12J25,2,20140728,2330, 46.9997, 161.1488, 5459,    770.0,2,   2.9307,2,   2.93071,2,  34.3367,2,  34.3357,2,-999.0000,9,    15.84,2,    15.18,2,   99.876,   0.0050,2,    0.019,2,  -999.00,9,    3.009,1,    0.000,2,   144.80,2,     0.16,    44.27,2,     0.06,     0.01,2,     0.01,     3.16,2,     0.01,  -999.00,9,  -999.00,    0.260,2,    0.117,2,    0.012,2, -999.000,9,   -999.0,9,   -999.0,9,   -999.0,9,-999.0000,     -999,9, -999.000,9,  -999.00,9, -999.000,9, -999.000,   -999.0,9,   -999.0, -999.000,9, -999.000, -999.000,9, -999.000,   -999.0,9,   -999.0, -999.000,9, -999.000,9, -999.000,9
  49NZ20140717,   P01,    74,  1,     24, X12J24,2,20140728,2330, 46.9997, 161.1488, 5459,    869.9,2,   2.7836,2,   2.78376,2,  34.3787,2,  34.3783,2,-999.0000,9,    16.98,2,    16.36,2,   99.893,   0.0043,2,    0.018,2,  -999.00,9,    3.003,1,    0.000,2,   150.26,2,     0.17,    44.30,2,     0.06,     0.00,2,     0.01,     3.15,2,     0.01,  -999.00,9,  -999.00,    0.174,2,    0.076,2,    0.009,2, -999.000,9,   -999.0,9,   -999.0,9,   -999.0,9,-999.0000,     -999,9, -999.000,9,  -999.00,9, -999.000,9, -999.000,   -999.0,9,   -999.0, -999.000,9, -999.000, -999.000,9, -999.000,   -999.0,9,   -999.0, -999.000,9, -999.000,9, -999.000,9
  49NZ20140717,   P01,    74,  1,     23, X12J23,2,20140728,2330, 46.9997, 161.1488, 5459,    971.0,2,   2.6203,2,   2.62033,2,  34.4182,2,  34.4176,2,-999.0000,9,    19.35,2,    18.65,2,   99.919,   0.0032,2,    0.017,2,  -999.00,9,    3.064,1,    0.000,2,   155.81,2,     0.17,    44.24,2,     0.06,     0.00,2,     0.01,     3.14,2,     0.01,  -999.00,9,  -999.00,    0.118,2,    0.050,2,    0.000,2, -999.000,9,   -999.0,9,   -999.0,9,   -999.0,9,-999.0000,     -999,9, -999.000,9,  -999.00,9, -999.000,9, -999.000,   -999.0,9,   -999.0, -999.000,9, -999.000, -999.000,9, -999.000,   -999.0,9,   -999.0, -999.000,9, -999.000,9, -999.000,9
  49NZ20140717,   P01,    74,  1,     22, X12J22,2,20140728,2330, 46.9997, 161.1488, 5459,   1131.3,2,   2.4198,2,   2.41961,2,  34.4630,2,  34.4630,2,-999.0000,9,    30.51,2,    30.19,2,   99.917,   0.0033,2,    0.016,2,  -999.00,9,    2.973,1,    0.000,2,   160.26,2,     0.17,    43.54,2,     0.05,     0.00,2,     0.01,     3.10,2,     0.01,  -999.00,9,  -999.00,    0.108,2,    0.044,2,    0.000,2, -999.000,9,   -999.0,9,   -999.0,9,   -999.0,9,-999.0000,     -999,9, -999.000,9,  -999.00,9, -999.000,9, -999.000,   -999.0,9,   -999.0, -999.000,9, -999.000, -999.000,9, -999.000,   -999.0,9,   -999.0, -999.000,9, -999.000,9, -999.000,9
  49NZ20140717,   P01,    74,  1,     21, X12J21,2,20140728,2330, 46.9997, 161.1488, 5459,   1330.8,2,   2.2158,2,   2.21587,2,  34.5103,2,  34.5099,2,-999.0000,9,    37.48,2,    37.35,2,   99.937,   0.0025,2,    0.015,2,  -999.00,9,    2.882,1,    0.000,2,   166.39,2,     0.18,    43.14,2,     0.05,     0.01,2,     0.01,     3.07,2,     0.01,  -999.00,9,  -999.00,    0.053,2,    0.025,2,    0.000,2, -999.000,9,   -999.0,9,   -999.0,9,   -999.0,9,-999.0000,     -999,9, -999.000,9,  -999.00,9, -999.000,9, -999.000,   -999.0,9,   -999.0, -999.000,9, -999.000, -999.000,9, -999.000,   -999.0,9,   -999.0, -999.000,9, -999.000,9, -999.000,9
  49NZ20140717,   P01,    74,  1,     20, X12J20,2,20140728,2330, 46.9997, 161.1488, 5459,   1531.3,2,   2.0649,2,   2.06479,2,  34.5482,2,  34.5476,2,-999.0000,9,    49.54,2,    49.54,2,   99.932,   0.0027,2,    0.015,2,  -999.00,9,    2.916,1,    0.000,2,   168.80,2,     0.18,    42.43,2,     0.05,     0.00,2,     0.01,     3.01,2,     0.01,  -999.00,9,  -999.00,    0.028,2,    0.013,2,    0.000,2, -999.000,9,   -999.0,9,   -999.0,9,   -999.0,9,-999.0000,     -999,9, -999.000,9,  -999.00,9, -999.000,9, -999.000,   -999.0,9,   -999.0, -999.000,9, -999.000, -999.000,9, -999.000,   -999.0,9,   -999.0, -999.000,9, -999.000,9, -999.000,9
  49NZ20140717,   P01,    74,  1,     19, X12J19,2,20140728,2330, 46.9997, 161.1488, 5459,   1730.5,2,   1.9348,2,   1.93483,2,  34.5789,2,  34.5784,2,-999.0000,9,    60.11,2,    60.18,2,   99.941,   0.0024,2,    0.013,2,  -999.00,9,    2.843,1,    0.000,2,   170.63,2,     0.18,    41.86,2,     0.05,     0.01,2,     0.01,     2.97,2,     0.01,  -999.00,9,  -999.00,    0.010,2,    0.005,2,    0.000,2, -999.000,9,   -999.0,9,   -999.0,9,   -999.0,9,-999.0000,     -999,9, -999.000,9,  -999.00,9, -999.000,9, -999.000,   -999.0,9,   -999.0, -999.000,9, -999.000, -999.000,9, -999.000,   -999.0,9,   -999.0, -999.000,9, -999.000,9, -999.000,9
  49NZ20140717,   P01,    74,  1,     18, X12J18,2,20140728,2330, 46.9997, 161.1488, 5459,   1930.3,2,   1.8249,2,   1.82487,2,  34.6031,2,  34.6030,2,-999.0000,9,    73.62,2,    73.65,2,   99.971,   0.0012,2,    0.012,2,  -999.00,9,    2.827,1,    0.000,2,   170.38,2,     0.18,    41.01,2,     0.05,     0.00,2,     0.01,     2.90,2,     0.01,  -999.00,9,  -999.00,    0.003,2,    0.003,2,    0.000,2, -999.000,9,   -999.0,9,   -999.0,9,   -999.0,9,-999.0000,     -999,9, -999.000,9,  -999.00,9, -999.000,9, -999.000,   -999.0,9,   -999.0, -999.000,9, -999.000, -999.000,9, -999.000,   -999.0,9,   -999.0, -999.000,9, -999.000,9, -999.000,9
  49NZ20140717,   P01,    74,  1,     17, X12J17,2,20140728,2330, 46.9997, 161.1488, 5459,   2129.7,2,   1.7249,2,   1.72487,2,  34.6234,2,  34.6231,2,-999.0000,9,    88.06,2,    88.11,2,   99.950,   0.0020,2,    0.011,2,  -999.00,9,    2.714,1,    0.000,2,   168.61,2,     0.18,    40.09,2,     0.05,     0.01,2,     0.01,     2.84,2,     0.01,  -999.00,9,  -999.00,    0.000,2,    0.000,2,    0.000,2, -999.000,9,   -999.0,9,   -999.0,9,   -999.0,9,-999.0000,     -999,9, -999.000,9,  -999.00,9, -999.000,9, -999.000,   -999.0,9,   -999.0, -999.000,9, -999.000, -999.000,9, -999.000,   -999.0,9,   -999.0, -999.000,9, -999.000,9, -999.000,9
  49NZ20140717,   P01,    74,  1,     16, X12J16,2,20140728,2330, 46.9997, 161.1488, 5459,   2330.6,2,   1.6600,2,   1.66012,2,  34.6369,2,  34.6369,2,-999.0000,9,    99.73,2,    99.88,2,   99.952,   0.0019,2,    0.010,2,  -999.00,9,    2.599,1,    0.000,2,   165.86,2,     0.18,    39.41,2,     0.05,     0.00,2,     0.01,     2.78,2,     0.01,  -999.00,9,  -999.00,    0.000,2,    0.000,2,    0.000,2, -999.000,9,   -999.0,9,   -999.0,9,   -999.0,9,-999.0000,     -999,9, -999.000,9,  -999.00,9, -999.000,9, -999.000,   -999.0,9,   -999.0, -999.000,9, -999.000, -999.000,9, -999.000,   -999.0,9,   -999.0, -999.000,9, -999.000,9, -999.000,9
  49NZ20140717,   P01,    74,  1,     15, X12J15,2,20140728,2330, 46.9997, 161.1488, 5459,   2530.6,2,   1.6049,2,   1.60489,2,  34.6475,2,  34.6473,2,-999.0000,9,   109.41,2,   109.41,2,   99.960,   0.0016,2,    0.009,2,  -999.00,9,    2.559,1,    0.000,2,   163.90,2,     0.18,    38.82,2,     0.05,     0.00,2,     0.01,     2.74,2,     0.01,  -999.00,9,  -999.00,    0.002,2,    0.000,2,    0.000,2, -999.000,9,   -999.0,9,   -999.0,9,   -999.0,9,-999.0000,     -999,9, -999.000,9,  -999.00,9, -999.000,9, -999.000,   -999.0,9,   -999.0, -999.000,9, -999.000, -999.000,9, -999.000,   -999.0,9,   -999.0, -999.000,9, -999.000,9, -999.000,9
  49NZ20140717,   P01,    74,  1,     14, X12J14,2,20140728,2330, 46.9997, 161.1488, 5459,   2729.7,2,   1.5626,2,   1.56271,2,  34.6559,2,  34.6558,2,-999.0000,9,   118.02,2,   118.07,2,   99.963,   0.0015,2,    0.008,2,  -999.00,9,    2.478,1,    0.000,2,   161.58,2,     0.17,    38.33,2,     0.05,     0.00,2,     0.01,     2.69,2,     0.01,  -999.00,9,  -999.00,    0.001,2,    0.000,2,    0.000,2, -999.000,9,   -999.0,9,   -999.0,9,   -999.0,9,-999.0000,     -999,9, -999.000,9,  -999.00,9, -999.000,9, -999.000,   -999.0,9,   -999.0, -999.000,9, -999.000, -999.000,9, -999.000,   -999.0,9,   -999.0, -999.000,9, -999.000,9, -999.000,9
  49NZ20140717,   P01,    74,  1,     13, X12113,2,20140728,2330, 46.9997, 161.1488, 5459,   2931.0,2,   1.5292,2,   1.52928,2,  34.6627,2,  34.6625,2,-999.0000,9,   125.37,2,   125.45,2,   99.971,   0.0012,2,    0.007,2,  -999.00,9,    2.402,1,    0.000,2,   158.84,2,     0.17,    37.78,2,     0.05,     0.01,2,     0.01,     2.65,2,     0.01,  -999.00,9,  -999.00,    0.000,2,    0.000,2,    0.000,2, -999.000,9,   -999.0,9,   -999.0,9,   -999.0,9,-999.0000,     -999,9, -999.000,9,  -999.00,9, -999.000,9, -999.000,   -999.0,9,   -999.0, -999.000,9, -999.000, -999.000,9, -999.000,   -999.0,9,   -999.0, -999.000,9, -999.000,9, -999.000,9
  49NZ20140717,   P01,    74,  1,     12, X12J12,2,20140728,2330, 46.9997, 161.1488, 5459,   3169.9,2,   1.4952,2,   1.49531,2,  34.6696,2,  34.6694,2,-999.0000,9,   133.32,2,   133.17,2,   99.958,   0.0017,2,    0.007,2,  -999.00,9,    2.406,1,    0.000,2,   156.54,2,     0.17,    37.32,2,     0.05,     0.00,2,     0.01,     2.61,2,     0.01,  -999.00,9,  -999.00,    0.000,2,    0.000,2,    0.000,2, -999.000,9,   -999.0,9,   -999.0,9,   -999.0,9,-999.0000,     -999,9, -999.000,9,  -999.00,9, -999.000,9, -999.000,   -999.0,9,   -999.0, -999.000,9, -999.000, -999.000,9, -999.000,   -999.0,9,   -999.0, -999.000,9, -999.000,9, -999.000,9
  49NZ20140717,   P01,    74,  1,     11, X12J11,2,20140728,2330, 46.9997, 161.1488, 5459,   3420.7,2,   1.4735,2,   1.47358,2,  34.6747,2,  34.6742,2,-999.0000,9,   139.31,2,   138.98,2,   99.973,   0.0011,2,    0.006,2,  -999.00,9,    2.332,1,    0.000,2,   155.32,2,     0.17,    36.96,2,     0.05,     0.00,2,     0.01,     2.58,2,     0.01,  -999.00,9,  -999.00,    0.000,2,    0.000,2,    0.000,2, -999.000,9,   -999.0,9,   -999.0,9,   -999.0,9,-999.0000,     -999,9, -999.000,9,  -999.00,9, -999.000,9, -999.000,   -999.0,9,   -999.0, -999.000,9, -999.000, -999.000,9, -999.000,   -999.0,9,   -999.0, -999.000,9, -999.000,9, -999.000,9
  49NZ20140717,   P01,    74,  1,     10, X12J10,2,20140728,2330, 46.9997, 161.1488, 5459,   3670.4,2,   1.4632,2,   1.46343,2,  34.6788,2,  34.6781,2,-999.0000,9,   144.12,2,   143.93,2,   99.973,   0.0011,2,    0.005,2,  -999.00,9,    2.320,1,    0.000,2,   153.95,2,     0.17,    36.64,2,     0.05,     0.00,2,     0.01,     2.55,2,     0.01,  -999.00,9,  -999.00,    0.000,2,    0.000,2,    0.000,2, -999.000,9,   -999.0,9,   -999.0,9,   -999.0,9,-999.0000,     -999,9, -999.000,9,  -999.00,9, -999.000,9, -999.000,   -999.0,9,   -999.0, -999.000,9, -999.000, -999.000,9, -999.000,   -999.0,9,   -999.0, -999.000,9, -999.000,9, -999.000,9