BOTTLE,20230904JAMSTECRIGC
EXPOCODE,SECT,STNNBR,CASTNO,SAMPNO,BTLNBR,BTLNBR_FLAG_W,DATE,TIME,LATITUDE,LONGITUDE,DEPTH,CTDPRS,CTDPRS_FLAG_W,CTDTMP,CTDTMP_FLAG_W,SBE35,SBE35_FLAG_W,CTDSAL,CTDSAL_FLAG_W,SALNTY,SALNTY_FLAG_W,DNSSAL,DNSSAL_FLAG_W,CTDOXY,CTDOXY_FLAG_W,OXYGEN,OXYGEN_FLAG_W,XMISS,XMISSCP,XMISS_FLAG_W,FLUOR,FLUOR_FLAG_W,CHLORA,CHLORA_FLAG_W,CDOM,CDOM_FLAG_W,PAR,PAR_FLAG_W,SILCAT,SILCAT_FLAG_W,SILUNC,NITRAT,NITRAT_FLAG_W,NRAUNC,NITRIT,NITRIT_FLAG_W,NRIUNC,PHSPHT,PHSPHT_FLAG_W,PHPUNC,AMMONIA,AMMONIA_FLAG_W,NH4UNC,CFC-11,CFC-11_FLAG_W,CFC-12,CFC-12_FLAG_W,CFC113,CFC113_FLAG_W,SF6,SF6_FLAG_W,TCARBN,TCARBN_FLAG_W,ALKALI,ALKALI_FLAG_W,ALKALI_POT,ALKALI_POT_FLAG_W,PH_TOT,PH_TMP,PH_TOT_FLAG_W,CALCIUM,CALCIUM_FLAG_W,DOC,DOC_FLAG_W,DELC13,DELC13_FLAG_W,C13ERR,DELC14,DELC14_FLAG_W,C14ERR,CS-134,CS-134_FLAG_W,CS134ER,CS-137,CS-137_FLAG_W,CS137ER,I-129,I-129_FLAG_W,I-129ER,CDOM-325,CDOM-325_FLAG_W,CDOM-370,CDOM-370_FLAG_W,CDOM-443,CDOM-443_FLAG_W
,,,,,,,,UTC,DEG,DEG,METERS,DBAR,,ITS-90,,ITS-90,,PSS-78,,PSS-78,,G/KG,,UMOL/KG,,UMOL/KG,,%TRANS,/METER,,MG/CUM,,MG/CUM,,MG/CUM,,UE/SQM/S,,UMOL/KG,,UMOL/KG,UMOL/KG,,UMOL/KG,UMOL/KG,,UMOL/KG,UMOL/KG,,UMOL/KG,UMOL/KG,,UMOL/KG,PMOL/KG,,PMOL/KG,,PMOL/KG,,FMOL/KG,,UMOL/KG,,UMOL/KG,,UMOL/KG,,,DEG C,,MMOL/KG,,UMOL/KG,,/MILLE,,/MILLE,/MILLE,,/MILLE,MBQ/KG,,MBQ/KG,MBQ/KG,,MBQ/KG,,,,/METER,,/METER,,/METER,
  49NZ20140717,   P01,    92,  1,      9, X12J09,2,20140803,0413, 47.0052, 174.9668, 5680,   3920.8,2,   1.4697,2,   1.46986,2,  34.6804,2,  34.6798,2,-999.0000,9,   144.97,2,   144.93,2,   99.967,   0.0013,2,    0.001,2,  -999.00,9,    2.399,1,    0.000,2,   156.01,2,     0.17,    36.52,2,     0.05,     0.00,2,     0.01,     2.56,2,     0.01,  -999.00,9,  -999.00, -999.000,9, -999.000,9, -999.000,9, -999.000,9,   -999.0,9,   -999.0,9,   -999.0,9,-999.0000,     -999,9, -999.000,9,  -999.00,9, -999.000,9, -999.000,   -999.0,9,   -999.0, -999.000,9, -999.000, -999.000,9, -999.000,   -999.0,9,   -999.0, -999.000,9, -999.000,9, -999.000,9
  49NZ20140717,   P01,    92,  1,      8, X12J08,2,20140803,0413, 47.0052, 174.9668, 5680,   4171.5,2,   1.4724,2,   1.47248,2,  34.6833,2,  34.6832,2,-999.0000,9,   148.43,2,   148.43,2,   99.991,   0.0004,2,    0.001,2,  -999.00,9,    2.353,4,    0.000,2,   155.81,2,     0.17,    36.30,2,     0.05,     0.00,2,     0.01,     2.54,2,     0.01,  -999.00,9,  -999.00, -999.000,9, -999.000,9, -999.000,9, -999.000,9,   -999.0,9,   -999.0,9,   -999.0,9,-999.0000,     -999,9, -999.000,9,  -999.00,9, -999.000,9, -999.000,   -999.0,9,   -999.0, -999.000,9, -999.000, -999.000,9, -999.000,   -999.0,9,   -999.0, -999.000,9, -999.000,9, -999.000,9
  49NZ20140717,   P01,    92,  1,      7, X12J07,2,20140803,0413, 47.0052, 174.9668, 5680,   4419.7,2,   1.4810,2,   1.48122,2,  34.6857,2,  34.6855,2,-999.0000,9,   150.97,2,   150.78,2,   99.967,   0.0013,2,    0.001,2,  -999.00,9,    0.809,4,    0.000,2,   156.68,2,     0.17,    36.15,2,     0.05,     0.00,2,     0.01,     2.53,2,     0.01,  -999.00,9,  -999.00, -999.000,9, -999.000,9, -999.000,9, -999.000,9,   -999.0,9,   -999.0,9,   -999.0,9,-999.0000,     -999,9, -999.000,9,  -999.00,9, -999.000,9, -999.000,   -999.0,9,   -999.0, -999.000,9, -999.000, -999.000,9, -999.000,   -999.0,9,   -999.0, -999.000,9, -999.000,9, -999.000,9
  49NZ20140717,   P01,    92,  1,      6, X12J06,2,20140803,0413, 47.0052, 174.9668, 5680,   4668.9,2,   1.5004,2,   1.50044,2,  34.6869,2,  34.6869,2,-999.0000,9,   152.32,2,   152.18,2,   99.988,   0.0005,2,    0.001,2,  -999.00,9,   -1.655,4,    0.000,2,   157.12,2,     0.17,    36.07,2,     0.05,     0.00,2,     0.01,     2.52,2,     0.01,  -999.00,9,  -999.00, -999.000,9, -999.000,9, -999.000,9, -999.000,9,   -999.0,9,   -999.0,9,   -999.0,9,-999.0000,     -999,9, -999.000,9,  -999.00,9, -999.000,9, -999.000,   -999.0,9,   -999.0, -999.000,9, -999.000, -999.000,9, -999.000,   -999.0,9,   -999.0, -999.000,9, -999.000,9, -999.000,9
  49NZ20140717,   P01,    92,  1,      5, X12J05,2,20140803,0413, 47.0052, 174.9668, 5680,   4920.1,2,   1.5270,2,   1.52692,2,  34.6874,2,  34.6873,2,-999.0000,9,   152.69,2,   152.56,2,   99.988,   0.0005,2,    0.001,2,  -999.00,9,   -1.808,4,    0.000,2,   158.25,2,     0.17,    36.06,2,     0.05,     0.00,2,     0.01,     2.52,2,     0.01,  -999.00,9,  -999.00, -999.000,9, -999.000,9, -999.000,9, -999.000,9,   -999.0,9,   -999.0,9,   -999.0,9,-999.0000,     -999,9, -999.000,9,  -999.00,9, -999.000,9, -999.000,   -999.0,9,   -999.0, -999.000,9, -999.000, -999.000,9, -999.000,   -999.0,9,   -999.0, -999.000,9, -999.000,9, -999.000,9
  49NZ20140717,   P01,    92,  1,      4, X12J04,2,20140803,0413, 47.0052, 174.9668, 5680,   5168.4,2,   1.5546,2,   1.55463,2,  34.6877,2,  34.6881,2,-999.0000,9,   153.55,2,   153.67,2,   99.939,   0.0025,2,    0.001,2,  -999.00,9,   -1.978,4,    0.000,2,   157.17,2,     0.17,    36.00,2,     0.05,     0.00,2,     0.01,     2.51,2,     0.01,  -999.00,9,  -999.00, -999.000,9, -999.000,9, -999.000,9, -999.000,9,   -999.0,9,   -999.0,9,   -999.0,9,-999.0000,     -999,9, -999.000,9,  -999.00,9, -999.000,9, -999.000,   -999.0,9,   -999.0, -999.000,9, -999.000, -999.000,9, -999.000,   -999.0,9,   -999.0, -999.000,9, -999.000,9, -999.000,9
  49NZ20140717,   P01,    92,  1,      3, X12J03,2,20140803,0413, 47.0052, 174.9668, 5680,   5419.4,2,   1.5836,2,   1.58353,2,  34.6881,2,  34.6873,3,-999.0000,9,   154.12,2,   154.26,2,   99.924,   0.0031,2,    0.001,2,  -999.00,9,  497.217,4,    0.000,2,   156.47,2,     0.17,    35.91,2,     0.05,     0.00,2,     0.01,     2.51,2,     0.01,  -999.00,9,  -999.00, -999.000,9, -999.000,9, -999.000,9, -999.000,9,   -999.0,9,   -999.0,9,   -999.0,9,-999.0000,     -999,9, -999.000,9,  -999.00,9, -999.000,9, -999.000,   -999.0,9,   -999.0, -999.000,9, -999.000, -999.000,9, -999.000,   -999.0,9,   -999.0, -999.000,9, -999.000,9, -999.000,9
  49NZ20140717,   P01,    92,  1,      2, X12J02,2,20140803,0413, 47.0052, 174.9668, 5680,   5669.3,2,   1.6156,2,   1.61538,2,  34.6880,2,  34.6885,2,-999.0000,9,   154.29,2,   154.76,2,   99.889,   0.0044,2,    0.001,2,  -999.00,9,  497.217,4,    0.000,2,   156.66,2,     0.17,    35.93,2,     0.05,     0.00,2,     0.01,     2.51,2,     0.01,  -999.00,9,  -999.00, -999.000,9, -999.000,9, -999.000,9, -999.000,9,   -999.0,9,   -999.0,9,   -999.0,9,-999.0000,     -999,9, -999.000,9,  -999.00,9, -999.000,9, -999.000,   -999.0,9,   -999.0, -999.000,9, -999.000, -999.000,9, -999.000,   -999.0,9,   -999.0, -999.000,9, -999.000,9, -999.000,9
  49NZ20140717,   P01,    92,  1,      1, X12J01,2,20140803,0413, 47.0052, 174.9668, 5680,   5778.5,2,   1.6306,2,   1.63041,2,  34.6880,2,  34.6884,2,-999.0000,9,   154.18,2,   154.63,2,   99.883,   0.0047,2,    0.001,2,  -999.00,9,  494.380,4,    0.000,2,   156.48,2,     0.17,    35.93,2,     0.05,     0.00,2,     0.01,     2.51,2,     0.01,  -999.00,9,  -999.00, -999.000,9, -999.000,9, -999.000,9, -999.000,9,   -999.0,9,   -999.0,9,   -999.0,9,-999.0000,     -999,9, -999.000,9,  -999.00,9, -999.000,9, -999.000,   -999.0,9,   -999.0, -999.000,9, -999.000, -999.000,9, -999.000,   -999.0,9,   -999.0, -999.000,9, -999.000,9, -999.000,9