BOTTLE,20230904JAMSTECRIGC
EXPOCODE,SECT,STNNBR,CASTNO,SAMPNO,BTLNBR,BTLNBR_FLAG_W,DATE,TIME,LATITUDE,LONGITUDE,DEPTH,CTDPRS,CTDPRS_FLAG_W,CTDTMP,CTDTMP_FLAG_W,SBE35,SBE35_FLAG_W,CTDSAL,CTDSAL_FLAG_W,SALNTY,SALNTY_FLAG_W,DNSSAL,DNSSAL_FLAG_W,CTDOXY,CTDOXY_FLAG_W,OXYGEN,OXYGEN_FLAG_W,XMISS,XMISSCP,XMISS_FLAG_W,FLUOR,FLUOR_FLAG_W,CHLORA,CHLORA_FLAG_W,CDOM,CDOM_FLAG_W,PAR,PAR_FLAG_W,SILCAT,SILCAT_FLAG_W,SILUNC,NITRAT,NITRAT_FLAG_W,NRAUNC,NITRIT,NITRIT_FLAG_W,NRIUNC,PHSPHT,PHSPHT_FLAG_W,PHPUNC,AMMONIA,AMMONIA_FLAG_W,NH4UNC,CFC-11,CFC-11_FLAG_W,CFC-12,CFC-12_FLAG_W,CFC113,CFC113_FLAG_W,SF6,SF6_FLAG_W,TCARBN,TCARBN_FLAG_W,ALKALI,ALKALI_FLAG_W,ALKALI_POT,ALKALI_POT_FLAG_W,PH_TOT,PH_TMP,PH_TOT_FLAG_W,CALCIUM,CALCIUM_FLAG_W,DOC,DOC_FLAG_W,DELC13,DELC13_FLAG_W,C13ERR,DELC14,DELC14_FLAG_W,C14ERR,CS-134,CS-134_FLAG_W,CS134ER,CS-137,CS-137_FLAG_W,CS137ER,I-129,I-129_FLAG_W,I-129ER,CDOM-325,CDOM-325_FLAG_W,CDOM-370,CDOM-370_FLAG_W,CDOM-443,CDOM-443_FLAG_W
,,,,,,,,UTC,DEG,DEG,METERS,DBAR,,ITS-90,,ITS-90,,PSS-78,,PSS-78,,G/KG,,UMOL/KG,,UMOL/KG,,%TRANS,/METER,,MG/CUM,,MG/CUM,,MG/CUM,,UE/SQM/S,,UMOL/KG,,UMOL/KG,UMOL/KG,,UMOL/KG,UMOL/KG,,UMOL/KG,UMOL/KG,,UMOL/KG,UMOL/KG,,UMOL/KG,PMOL/KG,,PMOL/KG,,PMOL/KG,,FMOL/KG,,UMOL/KG,,UMOL/KG,,UMOL/KG,,,DEG C,,MMOL/KG,,UMOL/KG,,/MILLE,,/MILLE,/MILLE,,/MILLE,MBQ/KG,,MBQ/KG,MBQ/KG,,MBQ/KG,,,,/METER,,/METER,,/METER,
  49NZ20140717,   P01,   110,  2,      0,   -999,9,20140810,0036, 46.9939,-164.9878, 5329,   -999.0,9,-999.0000,9,-999.00000,9,-999.0000,9,  32.7255,2,-999.0000,9,  -999.00,9,  -999.00,9, -999.000,-999.0000,9, -999.000,9,  -999.00,9, -999.000,9, -999.000,9,    17.14,2,     0.09,    11.02,2,     0.02,     0.15,2,     0.01,     1.10,2,     0.01,     0.16,2,     0.02, -999.000,9, -999.000,9, -999.000,9, -999.000,9,   -999.0,9,   -999.0,9,   -999.0,9,-999.0000,     -999,9, -999.000,9,  -999.00,9, -999.000,9, -999.000,   -999.0,9,   -999.0, -999.000,1, -999.000, -999.000,1, -999.000,   -999.0,1,   -999.0, -999.000,9, -999.000,9, -999.000,9
  49NZ20140717,   P01,   110,  2,     36, X12J36,2,20140810,0036, 46.9939,-164.9878, 5329,     10.1,2,  12.8083,2,  12.80875,2,  32.7237,2,  32.7243,2,  32.8825,2,   275.15,2,   275.49,2,   93.920,   0.2509,2,    0.463,2,  -999.00,9,   -0.807,1,   98.511,2,    17.17,2,     0.09,    11.03,2,     0.02,     0.14,2,     0.01,     1.09,2,     0.01,     0.13,2,     0.02, -999.000,9, -999.000,9, -999.000,9, -999.000,9,   2023.8,2,   2209.3,2,   -999.0,9,   7.8518,       25,6, -999.000,9,    59.10,2, -999.000,1, -999.000,   -999.0,1,   -999.0, -999.000,9, -999.000, -999.000,9, -999.000,   -999.0,9,   -999.0, -999.000,9, -999.000,9, -999.000,9
  49NZ20140717,   P01,   110,  2,     35, X12J35,2,20140810,0036, 46.9939,-164.9878, 5329,     50.1,2,   5.9362,2,   5.93531,2,  32.9325,2,  32.9331,2,  33.0916,2,   314.48,2,   315.09,2,   97.883,   0.0856,2,    0.393,2,  -999.00,9,    0.630,1,    4.461,2,    21.47,2,     0.09,    14.16,2,     0.03,     0.17,2,     0.01,     1.32,2,     0.01,     0.55,2,     0.03, -999.000,9, -999.000,9, -999.000,9, -999.000,9,   2068.8,6,   2217.1,2,   -999.0,9,   7.7667,       25,2, -999.000,9,    54.34,2, -999.000,1, -999.000,   -999.0,1,   -999.0, -999.000,9, -999.000, -999.000,9, -999.000,   -999.0,9,   -999.0, -999.000,9, -999.000,9, -999.000,9
  49NZ20140717,   P01,   110,  2,     34, X12J34,2,20140810,0036, 46.9939,-164.9878, 5329,    100.0,2,   5.5299,2,   5.53029,2,  33.0684,2,  33.0723,2,  33.2308,2,   294.68,2,   295.03,2,   99.410,   0.0237,2,    0.177,2,  -999.00,9,    0.601,1,    0.186,2,    22.67,2,     0.09,    16.60,2,     0.03,     0.02,2,     0.01,     1.40,2,     0.01,     0.01,2,     0.01, -999.000,9, -999.000,9, -999.000,9, -999.000,9,   2088.2,2,   2224.5,2,   -999.0,9,   7.7300,       25,2, -999.000,9,    53.31,2, -999.000,1, -999.000,   -999.0,1,   -999.0, -999.000,9, -999.000, -999.000,9, -999.000,   -999.0,9,   -999.0, -999.000,9, -999.000,9, -999.000,9
  49NZ20140717,   P01,   110,  2,     33, X12J33,2,20140810,0036, 46.9939,-164.9878, 5329,    150.2,2,   5.0787,2,   5.07552,2,  33.6662,2,  33.6690,2,  33.8331,2,   204.91,2,   204.30,2,   99.596,   0.0162,2,    0.022,2,  -999.00,9,    1.742,1,    0.000,2,    45.53,2,     0.10,    26.24,2,     0.04,     0.02,2,     0.01,     1.93,2,     0.01,     0.01,2,     0.01, -999.000,9, -999.000,9, -999.000,9, -999.000,9,   2182.7,2,   2260.7,2,   -999.0,9,   7.5682,       25,6, -999.000,9,    47.39,2, -999.000,1, -999.000,   -999.0,1,   -999.0, -999.000,9, -999.000, -999.000,9, -999.000,   -999.0,9,   -999.0, -999.000,9, -999.000,9, -999.000,9
  49NZ20140717,   P01,   110,  2,     32, X12J32,2,20140810,0036, 46.9939,-164.9878, 5329,    200.2,2,   4.5412,2,   4.54186,2,  33.7836,2,  33.7823,2,  33.9465,2,   141.14,2,   142.04,2,   99.817,   0.0073,2,    0.022,2,  -999.00,9,    2.346,1,    0.000,2,    64.34,2,     0.11,    32.87,2,     0.04,     0.01,2,     0.01,     2.39,2,     0.01,     0.02,2,     0.01, -999.000,9, -999.000,9, -999.000,9, -999.000,9,   2239.2,2,   2278.5,6,   -999.0,9,   7.4505,       25,2, -999.000,9,    47.66,2, -999.000,1, -999.000,   -999.0,1,   -999.0, -999.000,9, -999.000, -999.000,9, -999.000,   -999.0,9,   -999.0, -999.000,9, -999.000,9, -999.000,9
  49NZ20140717,   P01,   110,  2,     31, X12J31,2,20140810,0036, 46.9939,-164.9878, 5329,    251.0,2,   4.2745,2,   4.27460,2,  33.8284,2,  33.8285,2,  33.9960,2,   116.08,2,   116.23,2,   99.826,   0.0070,2,    0.021,2,  -999.00,9,    2.444,1,    0.000,2,    73.20,2,     0.12,    35.64,2,     0.05,     0.01,2,     0.01,     2.58,2,     0.01,     0.01,2,     0.01, -999.000,9, -999.000,9, -999.000,9, -999.000,9,   2262.1,2,   2285.9,2,   -999.0,9,   7.4008,       25,2, -999.000,9,    45.09,2, -999.000,1, -999.000,   -999.0,1,   -999.0, -999.000,9, -999.000, -999.000,9, -999.000,   -999.0,9,   -999.0, -999.000,9, -999.000,9, -999.000,9
  49NZ20140717,   P01,   110,  2,     30, X12J30,2,20140810,0036, 46.9939,-164.9878, 5329,    280.0,2,   4.1697,2,   4.16953,2,  33.8550,2,  33.8549,2,  34.0224,2,   103.91,2,   104.21,2,   99.772,   0.0091,2,    0.022,2,  -999.00,9,    2.591,1,    0.000,2,    77.58,2,     0.12,    36.83,2,     0.05,     0.01,2,     0.01,     2.65,2,     0.01,     0.02,2,     0.01, -999.000,9, -999.000,9, -999.000,9, -999.000,9,   2272.0,2,   2292.2,2,   -999.0,9,   7.3803,       25,2, -999.000,9,    44.12,2, -999.000,1, -999.000,   -999.0,1,   -999.0, -999.000,9, -999.000, -999.000,9, -999.000,   -999.0,9,   -999.0, -999.000,9, -999.000,9, -999.000,9
  49NZ20140717,   P01,   110,  2,     29, X12J29,2,20140810,0036, 46.9939,-164.9878, 5329,    370.4,2,   3.8846,2,   3.88474,2,  33.9365,2,  33.9351,2,  34.1055,2,    69.06,2,    70.03,2,   99.767,   0.0093,2,    0.022,2,  -999.00,9,    2.792,1,    0.000,2,    90.94,2,     0.13,    40.16,2,     0.05,     0.01,2,     0.01,     2.87,2,     0.01,     0.01,2,     0.01, -999.000,9, -999.000,9, -999.000,9, -999.000,9,   2304.8,2,   2303.9,2,   -999.0,9,   7.3226,       25,2, -999.000,9,    44.07,2, -999.000,1, -999.000,   -999.0,1,   -999.0, -999.000,9, -999.000, -999.000,9, -999.000,   -999.0,9,   -999.0, -999.000,9, -999.000,9, -999.000,9
  49NZ20140717,   P01,   110,  2,     28, X12J28,2,20140810,0036, 46.9939,-164.9878, 5329,    470.5,2,   3.7906,2,   3.79048,2,  34.0461,2,  34.0457,2,  34.2176,2,    46.67,2,    47.28,2,   99.869,   0.0052,2,    0.022,2,  -999.00,9,    2.911,1,    0.000,2,   103.19,2,     0.14,    41.77,2,     0.05,     0.01,2,     0.01,     2.99,2,     0.01,     0.02,2,     0.01, -999.000,9, -999.000,9, -999.000,9, -999.000,9,   2327.2,2,   2318.9,2,   -999.0,9,   7.3032,       25,2, -999.000,9,    43.53,2, -999.000,1, -999.000,   -999.0,1,   -999.0, -999.000,9, -999.000, -999.000,9, -999.000,   -999.0,9,   -999.0, -999.000,9, -999.000,9, -999.000,9
  49NZ20140717,   P01,   110,  2,     27, X12J27,2,20140810,0036, 46.9939,-164.9878, 5329,    570.5,2,   3.6315,2,   3.63157,2,  34.1325,2,  34.1306,2,  34.3046,2,    35.23,2,    35.75,2,   99.848,   0.0061,2,    0.022,2,  -999.00,9,    2.991,1,    0.000,2,   113.40,2,     0.14,    42.61,2,     0.05,     0.01,2,     0.01,     3.04,2,     0.01,     0.01,2,     0.01, -999.000,9, -999.000,9, -999.000,9, -999.000,9,   2343.0,2,   2332.5,2,   -999.0,9,   7.2978,       25,2, -999.000,9,    43.73,2, -999.000,1, -999.000,   -999.0,1,   -999.0, -999.000,9, -999.000, -999.000,9, -999.000,   -999.0,9,   -999.0, -999.000,9, -999.000,9, -999.000,9
  49NZ20140717,   P01,   110,  2,     26, X12J26,2,20140810,0036, 46.9939,-164.9878, 5329,    670.7,2,   3.4764,2,   3.47624,2,  34.2139,2,  34.2129,2,  34.3864,2,    30.71,2,    31.02,2,   99.874,   0.0051,2,    0.021,2,  -999.00,9,    2.965,1,    0.000,2,   122.02,2,     0.15,    42.72,2,     0.05,     0.01,2,     0.01,     3.06,2,     0.01,     0.01,2,     0.01, -999.000,9, -999.000,9, -999.000,9, -999.000,9,   2351.3,6,   2346.6,2,   -999.0,9,   7.3054,       25,2, -999.000,9,    43.17,2, -999.000,1, -999.000,   -999.0,1,   -999.0, -999.000,9, -999.000, -999.000,9, -999.000,   -999.0,9,   -999.0, -999.000,9, -999.000,9, -999.000,9
  49NZ20140717,   P01,   110,  2,     25, X12J25,2,20140810,0036, 46.9939,-164.9878, 5329,    769.1,2,   3.3085,2,   3.30877,2,  34.2760,2,  34.2758,2,  34.4510,2,    28.55,2,    28.69,2,   99.904,   0.0038,2,    0.021,2,  -999.00,9,    3.078,1,    0.000,2,   129.25,2,     0.15,    42.94,2,     0.05,     0.01,2,     0.01,     3.08,2,     0.01,     0.01,2,     0.01, -999.000,9, -999.000,9, -999.000,9, -999.000,9,   2359.8,2,   2358.3,2,   -999.0,9,   7.3120,       25,2, -999.000,9,    42.63,2, -999.000,1, -999.000,   -999.0,1,   -999.0, -999.000,9, -999.000, -999.000,9, -999.000,   -999.0,9,   -999.0, -999.000,9, -999.000,9, -999.000,9
  49NZ20140717,   P01,   110,  2,     24, X12J24,2,20140810,0036, 46.9939,-164.9878, 5329,    869.4,2,   3.1096,2,   3.10942,2,  34.3193,2,  34.3192,2,  34.4965,2,    27.23,2,    27.30,2,   99.893,   0.0043,2,    0.020,2,  -999.00,9,    3.114,1,    0.000,2,   136.39,2,     0.16,    43.22,2,     0.05,     0.01,2,     0.01,     3.10,2,     0.01,     0.01,2,     0.01, -999.000,9, -999.000,9, -999.000,9, -999.000,9,   2369.3,2,   2364.3,2,   -999.0,9,   7.3143,       25,6, -999.000,9,    42.45,2, -999.000,1, -999.000,   -999.0,1,   -999.0, -999.000,9, -999.000, -999.000,9, -999.000,   -999.0,9,   -999.0, -999.000,9, -999.000,9, -999.000,9
  49NZ20140717,   P01,   110,  2,     23, X12J23,2,20140810,0036, 46.9939,-164.9878, 5329,    971.2,2,   2.9604,2,   2.96029,2,  34.3573,2,  34.3573,2,  34.5341,2,    26.67,2,    26.74,2,   99.871,   0.0051,2,    0.020,2,  -999.00,9,    3.167,1,    0.000,2,   141.71,2,     0.16,    43.39,2,     0.05,     0.01,2,     0.01,     3.11,2,     0.01,     0.01,2,     0.01, -999.000,9, -999.000,9, -999.000,9, -999.000,9,   2375.0,2,   2372.9,2,   -999.0,9,   7.3178,       25,2, -999.000,9,    42.35,2, -999.000,1, -999.000,   -999.0,1,   -999.0, -999.000,9, -999.000, -999.000,9, -999.000,   -999.0,9,   -999.0, -999.000,9, -999.000,9, -999.000,9
  49NZ20140717,   P01,   110,  2,     22, X12J22,2,20140810,0036, 46.9939,-164.9878, 5329,   1131.0,2,   2.7258,2,   2.72562,2,  34.4093,2,  34.4093,2,  34.5875,2,    26.60,2,    26.35,2,   99.863,   0.0055,2,    0.020,2,  -999.00,9,    3.197,1,    0.000,2,   149.82,2,     0.17,    43.57,2,     0.05,     0.00,2,     0.01,     3.12,2,     0.01,     0.01,2,     0.01, -999.000,9, -999.000,9, -999.000,9, -999.000,9,   2382.4,2,   2382.2,6,   -999.0,9,   7.3225,       25,2, -999.000,9,    43.85,2, -999.000,1, -999.000,   -999.0,1,   -999.0, -999.000,9, -999.000, -999.000,9, -999.000,   -999.0,9,   -999.0, -999.000,9, -999.000,9, -999.000,9
  49NZ20140717,   P01,   110,  2,     21, X12J21,2,20140810,0036, 46.9939,-164.9878, 5329,   1329.5,2,   2.4861,2,   2.48602,2,  34.4684,2,  34.4685,2,  34.6488,2,    28.93,2,    28.71,2,   99.906,   0.0038,2,    0.019,2,  -999.00,9,    3.203,1,    0.000,2,   157.36,2,     0.17,    43.65,2,     0.05,     0.00,2,     0.01,     3.11,2,     0.01,     0.02,2,     0.01, -999.000,9, -999.000,9, -999.000,9, -999.000,9,   2390.1,2,   2393.4,2,   -999.0,9,   7.3362,       25,2, -999.000,9,    39.21,2, -999.000,9, -999.000,   -999.0,9,   -999.0, -999.000,9, -999.000, -999.000,9, -999.000,   -999.0,9,   -999.0, -999.000,9, -999.000,9, -999.000,9
  49NZ20140717,   P01,   110,  2,     20, X12J20,2,20140810,0036, 46.9939,-164.9878, 5329,   1529.0,2,   2.2897,2,   2.28929,2,  34.5085,2,  34.5090,2,  34.6904,2,    36.87,2,    36.62,2,   99.878,   0.0049,2,    0.017,2,  -999.00,9,    3.175,1,    0.000,2,   162.85,2,     0.18,    43.28,2,     0.05,     0.00,2,     0.01,     3.08,2,     0.01,     0.01,2,     0.01, -999.000,9, -999.000,9, -999.000,9, -999.000,9,   2389.8,2,   2400.4,2,   -999.0,9,   7.3527,       25,2, -999.000,9,    41.03,2, -999.000,1, -999.000,   -999.0,1,   -999.0, -999.000,9, -999.000, -999.000,9, -999.000,   -999.0,9,   -999.0, -999.000,9, -999.000,9, -999.000,9
  49NZ20140717,   P01,   110,  2,     19, X12J19,2,20140810,0036, 46.9939,-164.9878, 5329,   1729.2,2,   2.1239,2,   2.12367,2,  34.5452,2,  34.5453,2,  34.7280,2,    45.64,2,    45.89,2,   99.930,   0.0028,2,    0.016,2,  -999.00,9,    3.166,1,    0.000,2,   166.49,2,     0.18,    42.82,2,     0.05,     0.00,2,     0.01,     3.03,2,     0.01,     0.02,2,     0.01, -999.000,9, -999.000,9, -999.000,9, -999.000,9,   2389.5,2,   2405.9,2,   -999.0,9,   7.3733,       25,2, -999.000,9,    40.56,2, -999.000,9, -999.000,   -999.0,9,   -999.0, -999.000,9, -999.000, -999.000,9, -999.000,   -999.0,9,   -999.0, -999.000,9, -999.000,9, -999.000,9
  49NZ20140717,   P01,   110,  2,     18, X12J18,2,20140810,0036, 46.9939,-164.9878, 5329,   1931.1,2,   1.9942,2,   1.99418,2,  34.5738,2,  34.5737,2,  34.7557,2,    54.86,2,    55.00,2,   99.923,   0.0031,2,    0.015,2,  -999.00,9,    3.070,1,    0.000,2,   168.70,2,     0.18,    42.19,2,     0.05,     0.00,2,     0.01,     2.99,2,     0.01,     0.01,2,     0.01, -999.000,9, -999.000,9, -999.000,9, -999.000,9,   2384.3,2,   2411.1,2,   -999.0,9,   7.3928,       25,2, -999.000,9,    42.82,2, -999.000,1, -999.000,   -999.0,1,   -999.0, -999.000,9, -999.000, -999.000,9, -999.000,   -999.0,9,   -999.0, -999.000,9, -999.000,9, -999.000,9
  49NZ20140717,   P01,   110,  2,     17, X12J17,2,20140810,0036, 46.9939,-164.9878, 5329,   2130.5,2,   1.8917,2,   1.89156,2,  34.5954,2,  34.5954,2,  34.7787,2,    64.61,2,    64.63,2,   99.932,   0.0027,2,    0.014,2,  -999.00,9,    3.023,1,    0.000,2,   170.22,2,     0.18,    41.71,2,     0.05,     0.00,2,     0.01,     2.95,2,     0.01,     0.01,2,     0.01, -999.000,9, -999.000,9, -999.000,9, -999.000,9,   2382.0,2,   2415.1,2,   -999.0,9,   7.4140,       25,2, -999.000,9,    40.58,2, -999.000,9, -999.000,   -999.0,9,   -999.0, -999.000,9, -999.000, -999.000,9, -999.000,   -999.0,9,   -999.0, -999.000,9, -999.000,9, -999.000,9
  49NZ20140717,   P01,   110,  2,     16, X12J16,2,20140810,0036, 46.9939,-164.9878, 5329,   2329.7,2,   1.7998,2,   1.79944,2,  34.6135,2,  34.6137,2,  34.7959,2,    75.98,2,    76.12,2,   99.930,   0.0028,2,    0.013,2,  -999.00,9,    2.901,1,    0.000,2,   170.54,2,     0.18,    41.02,2,     0.05,     0.00,2,     0.01,     2.90,2,     0.01,     0.01,2,     0.01, -999.000,9, -999.000,9, -999.000,9, -999.000,9,   2376.8,6,   2416.5,2,   -999.0,9,   7.4361,       25,2, -999.000,9,    41.42,2, -999.000,9, -999.000,   -999.0,9,   -999.0, -999.000,9, -999.000, -999.000,9, -999.000,   -999.0,9,   -999.0, -999.000,9, -999.000,9, -999.000,9
  49NZ20140717,   P01,   110,  2,     15, X12J15,2,20140810,0036, 46.9939,-164.9878, 5329,   2529.9,2,   1.7122,2,   1.71171,2,  34.6298,2,  34.6306,2,  34.8156,2,    88.28,2,    89.08,2,   99.971,   0.0012,2,    0.012,2,  -999.00,9,    2.824,1,    0.000,2,   169.54,2,     0.18,    40.25,2,     0.05,     0.00,2,     0.01,     2.84,2,     0.01,     0.00,2,     0.01, -999.000,9, -999.000,9, -999.000,9, -999.000,9,   2368.7,2,   2417.3,2,   -999.0,9,   7.4611,       25,2, -999.000,9,    38.36,2, -999.000,1, -999.000,   -999.0,1,   -999.0, -999.000,9, -999.000, -999.000,9, -999.000,   -999.0,9,   -999.0, -999.000,9, -999.000,9, -999.000,9
  49NZ20140717,   P01,   110,  2,     14, X12J14,2,20140810,0036, 46.9939,-164.9878, 5329,   2730.3,2,   1.6435,2,   1.64373,2,  34.6425,2,  34.6428,2,  34.8242,2,    99.83,2,   100.02,2,   99.982,   0.0007,2,    0.012,2,  -999.00,9,    2.807,1,    0.000,2,   167.87,2,     0.18,    39.43,2,     0.05,     0.00,2,     0.01,     2.78,2,     0.01,     0.01,2,     0.01, -999.000,9, -999.000,9, -999.000,9, -999.000,9,   2361.6,2,   2419.1,2,   -999.0,9,   7.4814,       25,6, -999.000,9,    37.52,2, -999.000,9, -999.000,   -999.0,9,   -999.0, -999.000,9, -999.000, -999.000,9, -999.000,   -999.0,9,   -999.0, -999.000,9, -999.000,9, -999.000,9
  49NZ20140717,   P01,   110,  2,     13, X12113,2,20140810,0036, 46.9939,-164.9878, 5329,   2930.2,2,   1.5962,2,   1.59630,2,  34.6517,2,  34.6518,2,  34.8341,2,   108.65,2,   108.88,2,   99.982,   0.0007,2,    0.010,2,  -999.00,9,    2.700,1,    0.000,2,   166.50,2,     0.18,    38.87,2,     0.05,     0.00,2,     0.01,     2.73,2,     0.01,     0.01,2,     0.01, -999.000,9, -999.000,9, -999.000,9, -999.000,9,   2358.1,2,   2418.9,2,   -999.0,9,   7.4990,       25,2, -999.000,9,    37.66,2, -999.000,1, -999.000,   -999.0,1,   -999.0, -999.000,9, -999.000, -999.000,9, -999.000,   -999.0,9,   -999.0, -999.000,9, -999.000,9, -999.000,9
  49NZ20140717,   P01,   110,  2,     12, X12J12,2,20140810,0036, 46.9939,-164.9878, 5329,   3171.0,2,   1.5467,2,   1.54673,2,  34.6613,2,  34.6617,2,  34.8447,2,   119.42,2,   119.72,2,   99.975,   0.0010,2,    0.010,2,  -999.00,9,    2.723,1,    0.000,2,   164.26,2,     0.18,    38.20,2,     0.05,     0.00,2,     0.01,     2.68,2,     0.01,     0.01,2,     0.01, -999.000,9, -999.000,9, -999.000,9, -999.000,9,   2350.5,2,   2420.1,6,   -999.0,9,   7.5200,       25,2, -999.000,9,    37.08,2, -999.000,9, -999.000,   -999.0,9,   -999.0, -999.000,9, -999.000, -999.000,9, -999.000,   -999.0,9,   -999.0, -999.000,9, -999.000,9, -999.000,9
  49NZ20140717,   P01,   110,  2,     11, X12J11,2,20140810,0036, 46.9939,-164.9878, 5329,   3420.9,2,   1.5078,2,   1.50768,2,  34.6693,2,  34.6695,2,  34.8506,2,   129.08,2,   129.30,2,   99.982,   0.0007,2,    0.009,2,  -999.00,9,    2.529,1,    0.000,2,   162.02,2,     0.18,    37.54,2,     0.05,     0.00,2,     0.01,     2.63,2,     0.01,     0.01,2,     0.01, -999.000,9, -999.000,9, -999.000,9, -999.000,9,   2344.0,2,   2419.9,2,   -999.0,9,   7.5358,       25,2, -999.000,9,    38.31,2, -999.000,1, -999.000,   -999.0,1,   -999.0, -999.000,9, -999.000, -999.000,9, -999.000,   -999.0,9,   -999.0, -999.000,9, -999.000,9, -999.000,9
  49NZ20140717,   P01,   110,  2,     10, X12J10,2,20140810,0036, 46.9939,-164.9878, 5329,   3669.8,2,   1.4849,2,   1.48491,2,  34.6753,2,  34.6754,2,  34.8585,2,   136.30,2,   136.47,2,   99.988,   0.0005,2,    0.009,2,  -999.00,9,    2.466,1,    0.000,2,   160.76,2,     0.17,    37.03,2,     0.05,     0.00,2,     0.01,     2.59,2,     0.01,     0.00,2,     0.01, -999.000,9, -999.000,9, -999.000,9, -999.000,9,   2337.0,2,   2421.9,2,   -999.0,9,   7.5500,       25,2, -999.000,9,    38.39,2, -999.000,9, -999.000,   -999.0,9,   -999.0, -999.000,9, -999.000, -999.000,9, -999.000,   -999.0,9,   -999.0, -999.000,9, -999.000,9, -999.000,9