BOTTLE,20230904JAMSTECRIGC
EXPOCODE,SECT,STNNBR,CASTNO,SAMPNO,BTLNBR,BTLNBR_FLAG_W,DATE,TIME,LATITUDE,LONGITUDE,DEPTH,CTDPRS,CTDPRS_FLAG_W,CTDTMP,CTDTMP_FLAG_W,SBE35,SBE35_FLAG_W,CTDSAL,CTDSAL_FLAG_W,SALNTY,SALNTY_FLAG_W,DNSSAL,DNSSAL_FLAG_W,CTDOXY,CTDOXY_FLAG_W,OXYGEN,OXYGEN_FLAG_W,XMISS,XMISSCP,XMISS_FLAG_W,FLUOR,FLUOR_FLAG_W,CHLORA,CHLORA_FLAG_W,CDOM,CDOM_FLAG_W,PAR,PAR_FLAG_W,SILCAT,SILCAT_FLAG_W,SILUNC,NITRAT,NITRAT_FLAG_W,NRAUNC,NITRIT,NITRIT_FLAG_W,NRIUNC,PHSPHT,PHSPHT_FLAG_W,PHPUNC,AMMONIA,AMMONIA_FLAG_W,NH4UNC,CFC-11,CFC-11_FLAG_W,CFC-12,CFC-12_FLAG_W,CFC113,CFC113_FLAG_W,SF6,SF6_FLAG_W,TCARBN,TCARBN_FLAG_W,ALKALI,ALKALI_FLAG_W,ALKALI_POT,ALKALI_POT_FLAG_W,PH_TOT,PH_TMP,PH_TOT_FLAG_W,CALCIUM,CALCIUM_FLAG_W,DOC,DOC_FLAG_W,DELC13,DELC13_FLAG_W,C13ERR,DELC14,DELC14_FLAG_W,C14ERR,CS-134,CS-134_FLAG_W,CS134ER,CS-137,CS-137_FLAG_W,CS137ER,I-129,I-129_FLAG_W,I-129ER,CDOM-325,CDOM-325_FLAG_W,CDOM-370,CDOM-370_FLAG_W,CDOM-443,CDOM-443_FLAG_W
,,,,,,,,UTC,DEG,DEG,METERS,DBAR,,ITS-90,,ITS-90,,PSS-78,,PSS-78,,G/KG,,UMOL/KG,,UMOL/KG,,%TRANS,/METER,,MG/CUM,,MG/CUM,,MG/CUM,,UE/SQM/S,,UMOL/KG,,UMOL/KG,UMOL/KG,,UMOL/KG,UMOL/KG,,UMOL/KG,UMOL/KG,,UMOL/KG,UMOL/KG,,UMOL/KG,PMOL/KG,,PMOL/KG,,PMOL/KG,,FMOL/KG,,UMOL/KG,,UMOL/KG,,UMOL/KG,,,DEG C,,MMOL/KG,,UMOL/KG,,/MILLE,,/MILLE,/MILLE,,/MILLE,MBQ/KG,,MBQ/KG,MBQ/KG,,MBQ/KG,,,,/METER,,/METER,,/METER,
  49NZ20140717,   P01,    47,  1,      0,   -999,9,20140718,1236, 41.6415, 146.5147, 6035,   -999.0,9,-999.0000,9,-999.00000,9,-999.0000,9,  33.4659,2,-999.0000,9,  -999.00,9,  -999.00,9, -999.000,-999.0000,9, -999.000,9,  -999.00,9, -999.000,9, -999.000,9,     1.56,2,     0.11,     0.07,2,     0.02,     0.00,2,     0.01,     0.10,2,     0.01,     0.03,2,     0.01, -999.000,9, -999.000,9, -999.000,9, -999.000,9,   -999.0,9,   -999.0,9,   -999.0,9,-999.0000,     -999,9, -999.000,9,  -999.00,9, -999.000,9, -999.000,   -999.0,9,   -999.0, -999.000,9, -999.000, -999.000,9, -999.000,   -999.0,9,   -999.0, -999.000,9, -999.000,9, -999.000,9
  49NZ20140717,   P01,    47,  1,     36, X12J36,2,20140718,1236, 41.6415, 146.5147, 6035,     10.2,2,  19.8614,2,  19.86169,2,  33.9093,2,  34.0112,2,-999.0000,9,   234.96,2,   236.26,2, -999.000,-999.0000,9, -999.000,9,  -999.00,9, -999.000,9,    0.345,2,     1.90,2,     0.10,     0.04,2,     0.02,     0.00,2,     0.01,     0.08,2,     0.01,     0.02,2,     0.01,    2.158,2,    1.298,2,    0.371,2, -999.000,9,   1985.0,2,   2256.1,2,   -999.0,9,   8.0151,       25,6, -999.000,9,    64.46,2, -999.000,9, -999.000,   -999.0,9,   -999.0, -999.000,9, -999.000, -999.000,9, -999.000,   -999.0,9,   -999.0, -999.000,9, -999.000,9, -999.000,9
  49NZ20140717,   P01,    47,  1,     35, X12J35,2,20140718,1236, 41.6415, 146.5147, 6035,     49.9,2,  13.4685,2,  13.47044,2,  34.2878,2,  34.2835,2,-999.0000,9,   229.28,2,   229.17,2, -999.000,-999.0000,9, -999.000,9,  -999.00,9, -999.000,9,    0.000,2,    10.64,2,     0.09,     8.09,2,     0.02,     0.31,2,     0.01,     0.64,2,     0.01,     0.04,2,     0.01,    2.767,2,    1.586,2,    0.229,2, -999.000,9,   2066.4,6,   2257.7,2,   -999.0,9,   7.8790,       25,2, -999.000,9,    54.90,2, -999.000,9, -999.000,   -999.0,9,   -999.0, -999.000,9, -999.000, -999.000,9, -999.000,   -999.0,9,   -999.0, -999.000,9, -999.000,9, -999.000,9
  49NZ20140717,   P01,    47,  1,     34, X12J34,2,20140718,1236, 41.6415, 146.5147, 6035,     99.9,2,   8.5478,2,   8.53744,2,  33.9084,2,  33.9207,2,-999.0000,9,   229.70,2,   229.02,2, -999.000,-999.0000,9, -999.000,9,  -999.00,9, -999.000,9,    0.000,2,    23.33,2,     0.09,    15.77,2,     0.03,     0.02,2,     0.01,     1.18,2,     0.01,     0.01,2,     0.01,    3.324,2,    1.825,2,    0.243,2, -999.000,9,   2119.8,2,   2259.9,2,   -999.0,9,   7.7468,       25,2, -999.000,9,    51.36,2, -999.000,9, -999.000,   -999.0,9,   -999.0, -999.000,9, -999.000, -999.000,9, -999.000,   -999.0,9,   -999.0, -999.000,9, -999.000,9, -999.000,9
  49NZ20140717,   P01,    47,  1,     33, X12J33,2,20140718,1236, 41.6415, 146.5147, 6035,    150.7,2,   4.1549,2,   4.15529,2,  33.3997,2,  33.4128,2,-999.0000,9,   272.66,2,   269.82,2, -999.000,-999.0000,9, -999.000,9,  -999.00,9, -999.000,9,    0.000,2,    33.90,2,     0.10,    20.14,2,     0.03,     0.02,2,     0.01,     1.58,2,     0.01,     0.01,2,     0.01,    4.506,2,    2.406,2,    0.372,2, -999.000,9,   2142.9,2,   2243.4,2,   -999.0,9,   7.6556,       25,6, -999.000,9,    52.75,2, -999.000,9, -999.000,   -999.0,9,   -999.0, -999.000,9, -999.000, -999.000,9, -999.000,   -999.0,9,   -999.0, -999.000,9, -999.000,9, -999.000,9
  49NZ20140717,   P01,    47,  1,     32, X12J32,2,20140718,1236, 41.6415, 146.5147, 6035,    200.6,2,   5.2215,2,   5.22027,2,  33.6668,2,  33.6687,2,-999.0000,9,   227.20,2,   225.06,2, -999.000,-999.0000,9, -999.000,9,  -999.00,9, -999.000,9,    0.000,2,    40.32,2,     0.10,    22.14,2,     0.03,     0.02,2,     0.01,     1.68,2,     0.01,     0.01,2,     0.01,    3.746,2,    1.999,2,    0.291,2, -999.000,9,   2164.8,2,   2264.6,6,   -999.0,9,   7.6306,       25,2, -999.000,9,    48.57,2, -999.000,9, -999.000,   -999.0,9,   -999.0, -999.000,9, -999.000, -999.000,9, -999.000,   -999.0,9,   -999.0, -999.000,9, -999.000,9, -999.000,9
  49NZ20140717,   P01,    47,  1,     31, X12J31,2,20140718,1236, 41.6415, 146.5147, 6035,    249.4,2,   4.8133,2,   4.81288,2,  33.7209,2,  33.7222,2,-999.0000,9,   198.73,2,   197.89,2, -999.000,-999.0000,9, -999.000,9,  -999.00,9, -999.000,9,    0.000,2,    49.83,2,     0.11,    25.76,2,     0.04,     0.02,2,     0.01,     1.93,2,     0.01,     0.01,2,     0.01,    3.481,2,    1.834,2,    0.255,2, -999.000,9,   2191.8,2,   2268.5,2,   -999.0,9,   7.5724,       25,2, -999.000,9,    46.08,2, -999.000,9, -999.000,   -999.0,9,   -999.0, -999.000,9, -999.000, -999.000,9, -999.000,   -999.0,9,   -999.0, -999.000,9, -999.000,9, -999.000,9
  49NZ20140717,   P01,    47,  1,     30, X12J30,2,20140718,1236, 41.6415, 146.5147, 6035,    279.9,2,   4.6345,2,   4.63161,2,  33.7434,2,  33.7158,2,-999.0000,9,   184.72,2,   185.93,2, -999.000,-999.0000,9, -999.000,9,  -999.00,9, -999.000,9,    0.000,2,    56.02,2,     0.11,    27.95,2,     0.04,     0.02,2,     0.01,     2.10,2,     0.01,     0.00,2,     0.01,    3.432,2,    1.801,2,    0.262,2, -999.000,9,   2209.5,2,   2274.2,2,   -999.0,9,   7.5336,       25,2, -999.000,9,    46.65,2, -999.000,9, -999.000,   -999.0,9,   -999.0, -999.000,9, -999.000, -999.000,9, -999.000,   -999.0,9,   -999.0, -999.000,9, -999.000,9, -999.000,9
  49NZ20140717,   P01,    47,  1,     29, X12J29,2,20140718,1236, 41.6415, 146.5147, 6035,    370.0,2,   2.6929,2,   2.69317,2,  33.6740,2,  33.6744,2,-999.0000,9,   115.93,2,   115.55,2, -999.000,-999.0000,9, -999.000,9,  -999.00,9, -999.000,9,    0.000,2,    85.19,2,     0.13,    38.43,2,     0.05,     0.01,2,     0.01,     2.82,2,     0.01,    -0.01,2,     0.01,    3.096,2,    1.610,2,    0.255,2, -999.000,9,   2286.6,2,   2283.6,2,   -999.0,9,   7.3324,       25,2, -999.000,9,    43.74,2, -999.000,9, -999.000,   -999.0,9,   -999.0, -999.000,9, -999.000, -999.000,9, -999.000,   -999.0,9,   -999.0, -999.000,9, -999.000,9, -999.000,9
  49NZ20140717,   P01,    47,  1,     28, X12J28,2,20140718,1236, 41.6415, 146.5147, 6035,    469.8,2,   3.2310,2,   3.24298,2,  33.9017,2,  33.9042,2,-999.0000,9,    78.71,2,    78.96,2, -999.000,-999.0000,9, -999.000,9,  -999.00,9, -999.000,9,    0.000,2,    98.00,2,     0.14,    39.75,2,     0.05,     0.01,2,     0.01,     2.89,2,     0.01,    -0.01,2,     0.01,    2.151,2,    1.150,2,    0.161,2, -999.000,9,   2310.5,2,   2308.8,2,   -999.0,9,   7.3212,       25,2, -999.000,9,    44.04,2, -999.000,9, -999.000,   -999.0,9,   -999.0, -999.000,9, -999.000, -999.000,9, -999.000,   -999.0,9,   -999.0, -999.000,9, -999.000,9, -999.000,9
  49NZ20140717,   P01,    47,  1,     27, X12J27,2,20140718,1236, 41.6415, 146.5147, 6035,    570.6,2,   3.1166,2,   3.11623,2,  34.0073,2,  34.0066,2,-999.0000,9,    46.82,2,    47.22,2, -999.000,-999.0000,9, -999.000,9,  -999.00,9, -999.000,9,    0.000,2,   113.30,2,     0.14,    42.50,2,     0.05,     0.00,2,     0.01,     3.06,2,     0.01,  -999.00,9,  -999.00,    1.585,2,    0.823,2,    0.130,2, -999.000,9,   2340.8,2,   2321.2,2,   -999.0,9,   7.2811,       25,2, -999.000,9,    43.02,2, -999.000,9, -999.000,   -999.0,9,   -999.0, -999.000,9, -999.000, -999.000,9, -999.000,   -999.0,9,   -999.0, -999.000,9, -999.000,9, -999.000,9
  49NZ20140717,   P01,    47,  1,     26, X12J26,2,20140718,1236, 41.6415, 146.5147, 6035,    670.5,2,   3.4870,2,   3.48681,2,  34.1730,2,  34.1722,2,-999.0000,9,    40.88,2,    41.03,2, -999.000,-999.0000,9, -999.000,9,  -999.00,9, -999.000,9,    0.000,2,   118.47,2,     0.15,    41.93,2,     0.05,     0.00,2,     0.01,     3.01,2,     0.01,  -999.00,9,  -999.00,    0.931,2,    0.491,2,    0.080,2, -999.000,9,   2343.9,6,   2338.3,2,   -999.0,9,   7.3180,       25,2, -999.000,9,    43.79,2, -999.000,9, -999.000,   -999.0,9,   -999.0, -999.000,9, -999.000, -999.000,9, -999.000,   -999.0,9,   -999.0, -999.000,9, -999.000,9, -999.000,9
  49NZ20140717,   P01,    47,  1,     25, X12J25,2,20140718,1236, 41.6415, 146.5147, 6035,    771.1,2,   3.4994,2,   3.49909,2,  34.2756,2,  34.2748,2,-999.0000,9,    39.79,2,    40.22,2, -999.000,-999.0000,9, -999.000,9,  -999.00,9, -999.000,9,    0.000,2,   124.71,2,     0.15,    41.88,2,     0.05,     0.00,2,     0.01,     3.01,2,     0.01,  -999.00,9,  -999.00,    0.377,2,    0.195,2,    0.025,2, -999.000,9,   2348.6,2,   2349.2,2,   -999.0,9,   7.3401,       25,2, -999.000,9,    38.40,2, -999.000,9, -999.000,   -999.0,9,   -999.0, -999.000,9, -999.000, -999.000,9, -999.000,   -999.0,9,   -999.0, -999.000,9, -999.000,9, -999.000,9
  49NZ20140717,   P01,    47,  1,     24, X12J24,2,20140718,1236, 41.6415, 146.5147, 6035,    872.2,2,   3.2129,2,   3.21277,2,  34.3180,2,  34.3181,2,-999.0000,9,    35.37,2,    35.77,2, -999.000,-999.0000,9, -999.000,9,  -999.00,9, -999.000,9,    0.000,2,   133.10,2,     0.16,    42.49,2,     0.05,     0.00,2,     0.01,     3.04,2,     0.01,  -999.00,9,  -999.00,    0.420,2,    0.222,2,    0.015,2, -999.000,9,   2360.1,2,   2359.3,2,   -999.0,9,   7.3346,       25,6, -999.000,9,    39.19,2, -999.000,9, -999.000,   -999.0,9,   -999.0, -999.000,9, -999.000, -999.000,9, -999.000,   -999.0,9,   -999.0, -999.000,9, -999.000,9, -999.000,9
  49NZ20140717,   P01,    47,  1,     23, X12J23,2,20140718,1236, 41.6415, 146.5147, 6035,    969.8,2,   2.8467,2,   2.84364,2,  34.3281,2,  34.3269,2,-999.0000,9,    28.21,2,    27.64,2, -999.000,-999.0000,9, -999.000,9,  -999.00,9, -999.000,9,    0.000,2,   144.50,2,     0.16,    43.49,2,     0.05,     0.00,2,     0.01,     3.11,2,     0.01,    -0.01,2,     0.01,    0.405,2,    0.211,2,    0.012,2, -999.000,9,   2375.0,2,   2369.0,2,   -999.0,9,   7.3101,       25,2, -999.000,9,  -999.00,9, -999.000,9, -999.000,   -999.0,9,   -999.0, -999.000,9, -999.000, -999.000,9, -999.000,   -999.0,9,   -999.0, -999.000,9, -999.000,9, -999.000,9
  49NZ20140717,   P01,    47,  1,     22, X12J22,2,20140718,1236, 41.6415, 146.5147, 6035,   1131.3,2,   2.8422,2,   2.84220,2,  34.4209,2,  34.4202,2,-999.0000,9,    38.22,2,    38.30,2, -999.000,-999.0000,9, -999.000,9,  -999.00,9, -999.000,9,    0.000,2,   144.59,2,     0.16,    42.67,2,     0.05,     0.00,2,     0.01,     3.06,2,     0.01,  -999.00,9,  -999.00,    0.151,2,    0.082,2,    0.000,2, -999.000,9,   2373.3,2,   2381.3,6,   -999.0,9,   7.3550,       25,2, -999.000,9,    37.06,2, -999.000,9, -999.000,   -999.0,9,   -999.0, -999.000,9, -999.000, -999.000,9, -999.000,   -999.0,9,   -999.0, -999.000,9, -999.000,9, -999.000,9
  49NZ20140717,   P01,    47,  1,     21, X12J21,2,20140718,1236, 41.6415, 146.5147, 6035,   1328.7,2,   2.5913,2,   2.59134,2,  34.4682,2,  34.4677,2,-999.0000,9,    39.00,2,    39.01,2, -999.000,-999.0000,9, -999.000,9,  -999.00,9, -999.000,9,    0.000,2,   152.19,2,     0.17,    42.97,2,     0.05,     0.00,2,     0.01,     3.06,2,     0.01,  -999.00,9,  -999.00,    0.075,2,    0.040,2,    0.000,2, -999.000,9,   2380.1,2,   2391.6,2,   -999.0,9,   7.3599,       25,2, -999.000,9,    39.01,2, -999.000,9, -999.000,   -999.0,9,   -999.0, -999.000,9, -999.000, -999.000,9, -999.000,   -999.0,9,   -999.0, -999.000,9, -999.000,9, -999.000,9
  49NZ20140717,   P01,    47,  1,     20, X12J20,2,20140718,1236, 41.6415, 146.5147, 6035,   1530.5,2,   2.3647,2,   2.36446,2,  34.5125,2,  34.5124,2,-999.0000,9,    46.52,2,    46.57,2, -999.000,-999.0000,9, -999.000,9,  -999.00,9, -999.000,9,    0.000,2,   157.70,2,     0.17,    42.69,2,     0.05,     0.00,2,     0.01,     3.04,2,     0.01,     0.01,2,     0.01,    0.046,2,    0.024,2,    0.000,2, -999.000,9,   2382.6,2,   2399.9,2,   -999.0,9,   7.3778,       25,6, -999.000,9,    39.76,2, -999.000,9, -999.000,   -999.0,9,   -999.0, -999.000,9, -999.000, -999.000,9, -999.000,   -999.0,9,   -999.0, -999.000,9, -999.000,9, -999.000,9
  49NZ20140717,   P01,    47,  1,     19, X12J19,2,20140718,1236, 41.6415, 146.5147, 6035,   1728.3,2,   2.1948,2,   2.19496,2,  34.5466,2,  34.5466,2,-999.0000,9,    54.96,2,    55.29,2, -999.000,-999.0000,9, -999.000,9,  -999.00,9, -999.000,9,    0.000,2,   160.83,2,     0.17,    42.22,2,     0.05,     0.00,2,     0.01,     3.00,2,     0.01,  -999.00,9,  -999.00,    0.017,2,    0.010,2,    0.000,2, -999.000,9,   2381.0,2,   2404.7,2,   -999.0,9,   7.3981,       25,2, -999.000,9,    39.10,2, -999.000,9, -999.000,   -999.0,9,   -999.0, -999.000,9, -999.000, -999.000,9, -999.000,   -999.0,9,   -999.0, -999.000,9, -999.000,9, -999.000,9
  49NZ20140717,   P01,    47,  1,     18, X12J18,2,20140718,1236, 41.6415, 146.5147, 6035,   1929.9,2,   2.0409,2,   2.04085,2,  34.5761,2,  34.5762,2,-999.0000,9,    66.16,2,    66.31,2, -999.000,-999.0000,9, -999.000,9,  -999.00,9, -999.000,9,    0.000,2,   162.83,2,     0.18,    41.54,2,     0.05,     0.00,2,     0.01,     2.94,2,     0.01,     0.00,2,     0.01,    0.005,2,    0.004,2,    0.000,2, -999.000,9,   2377.2,2,   2405.8,2,   -999.0,9,   7.4211,       25,2, -999.000,9,    38.91,2, -999.000,9, -999.000,   -999.0,9,   -999.0, -999.000,9, -999.000, -999.000,9, -999.000,   -999.0,9,   -999.0, -999.000,9, -999.000,9, -999.000,9
  49NZ20140717,   P01,    47,  1,     17, X12J17,2,20140718,1236, 41.6415, 146.5147, 6035,   2130.3,2,   1.9198,2,   1.91975,2,  34.5988,2,  34.5991,2,-999.0000,9,    77.32,2,    77.40,2, -999.000,-999.0000,9, -999.000,9,  -999.00,9, -999.000,9,    0.000,2,   163.37,2,     0.18,    40.88,2,     0.05,     0.00,2,     0.01,     2.89,2,     0.01,  -999.00,9,  -999.00,    0.000,2,    0.001,2,    0.000,2, -999.000,9,   2371.9,2,   2408.5,2,   -999.0,9,   7.4435,       25,2, -999.000,9,    37.48,2, -999.000,9, -999.000,   -999.0,9,   -999.0, -999.000,9, -999.000, -999.000,9, -999.000,   -999.0,9,   -999.0, -999.000,9, -999.000,9, -999.000,9
  49NZ20140717,   P01,    47,  1,     16, X12J16,2,20140718,1236, 41.6415, 146.5147, 6035,   2330.0,2,   1.8160,2,   1.81587,2,  34.6177,2,  34.6180,2,-999.0000,9,    89.28,2,    89.33,2, -999.000,-999.0000,9, -999.000,9,  -999.00,9, -999.000,9,    0.000,2,   163.03,2,     0.18,    40.17,2,     0.05,     0.00,2,     0.01,     2.83,2,     0.01,  -999.00,9,  -999.00,    0.000,2,    0.000,2,    0.000,2, -999.000,9,   2366.3,6,   2411.4,2,   -999.0,9,   7.4661,       25,2, -999.000,9,    38.02,2, -999.000,9, -999.000,   -999.0,9,   -999.0, -999.000,9, -999.000, -999.000,9, -999.000,   -999.0,9,   -999.0, -999.000,9, -999.000,9, -999.000,9
  49NZ20140717,   P01,    47,  1,     15, X12J15,2,20140718,1236, 41.6415, 146.5147, 6035,   2529.7,2,   1.7372,2,   1.73718,2,  34.6319,2,  34.6316,2,-999.0000,9,    99.44,2,    99.46,2, -999.000,-999.0000,9, -999.000,9,  -999.00,9, -999.000,9,    0.000,2,   161.74,2,     0.17,    39.54,2,     0.05,     0.00,2,     0.01,     2.78,2,     0.01,     0.00,2,     0.01,    0.000,2,    0.000,2,    0.000,2, -999.000,9,   2362.2,2,   2416.2,2,   -999.0,9,   7.4855,       25,2, -999.000,9,    38.86,2, -999.000,9, -999.000,   -999.0,9,   -999.0, -999.000,9, -999.000, -999.000,9, -999.000,   -999.0,9,   -999.0, -999.000,9, -999.000,9, -999.000,9
  49NZ20140717,   P01,    47,  1,     14, X12J14,2,20140718,1236, 41.6415, 146.5147, 6035,   2730.0,2,   1.6712,2,   1.67108,2,  34.6435,2,  34.6432,2,-999.0000,9,   108.87,2,   108.63,2, -999.000,-999.0000,9, -999.000,9,  -999.00,9, -999.000,9,    0.000,2,   160.38,2,     0.17,    38.86,2,     0.05,     0.00,2,     0.01,     2.74,2,     0.01,  -999.00,9,  -999.00,    0.000,2,    0.000,2,    0.000,2, -999.000,9,   2354.8,2,   2413.8,2,   -999.0,9,   7.5024,       25,2, -999.000,9,    40.79,2, -999.000,9, -999.000,   -999.0,9,   -999.0, -999.000,9, -999.000, -999.000,9, -999.000,   -999.0,9,   -999.0, -999.000,9, -999.000,9, -999.000,9
  49NZ20140717,   P01,    47,  1,     13, X12113,2,20140718,1236, 41.6415, 146.5147, 6035,   2930.3,2,   1.6156,2,   1.61557,2,  34.6533,2,  34.6530,2,-999.0000,9,   117.79,2,   117.54,2, -999.000,-999.0000,9, -999.000,9,  -999.00,9, -999.000,9,    0.000,2,   159.06,2,     0.17,    38.39,2,     0.05,     0.00,2,     0.01,     2.69,2,     0.01,    -0.01,2,     0.01,    0.002,2,    0.001,2,    0.000,2, -999.000,9,   2350.1,2,   2415.9,2,   -999.0,9,   7.5184,       25,2, -999.000,9,    38.96,2, -999.000,9, -999.000,   -999.0,9,   -999.0, -999.000,9, -999.000, -999.000,9, -999.000,   -999.0,9,   -999.0, -999.000,9, -999.000,9, -999.000,9
  49NZ20140717,   P01,    47,  1,     12, X12J12,2,20140718,1236, 41.6415, 146.5147, 6035,   3169.9,2,   1.5729,2,   1.57287,2,  34.6614,2,  34.6611,2,-999.0000,9,   125.81,2,   125.36,2, -999.000,-999.0000,9, -999.000,9,  -999.00,9, -999.000,9,    0.000,2,   157.10,2,     0.17,    37.84,2,     0.05,     0.00,2,     0.01,     2.65,2,     0.01,  -999.00,9,  -999.00,    0.000,2,    0.000,2,    0.000,2, -999.000,9,   2344.5,2,   2417.4,6,   -999.0,9,   7.5344,       25,2, -999.000,9,    39.33,2, -999.000,9, -999.000,   -999.0,9,   -999.0, -999.000,9, -999.000, -999.000,9, -999.000,   -999.0,9,   -999.0, -999.000,9, -999.000,9, -999.000,9
  49NZ20140717,   P01,    47,  1,     11, X12J11,2,20140718,1236, 41.6415, 146.5147, 6035,   3420.1,2,   1.5478,2,   1.54784,2,  34.6673,2,  34.6673,2,-999.0000,9,   131.98,2,   131.66,2, -999.000,-999.0000,9, -999.000,9,  -999.00,9, -999.000,9,    0.000,2,   155.65,2,     0.17,    37.41,2,     0.05,     0.00,2,     0.01,     2.62,2,     0.01,    -0.01,2,     0.01,    0.007,2,    0.001,2,    0.000,2, -999.000,9,   2340.8,2,   2416.6,2,   -999.0,9,   7.5439,       25,2, -999.000,9,    39.99,2, -999.000,9, -999.000,   -999.0,9,   -999.0, -999.000,9, -999.000, -999.000,9, -999.000,   -999.0,9,   -999.0, -999.000,9, -999.000,9, -999.000,9
  49NZ20140717,   P01,    47,  1,     10, X12J10,2,20140718,1236, 41.6415, 146.5147, 6035,   3670.1,2,   1.5107,2,   1.51065,2,  34.6742,2,  34.6741,2,-999.0000,9,   139.63,2,   139.10,2, -999.000,-999.0000,9, -999.000,9,  -999.00,9, -999.000,9,    0.000,2,   154.10,2,     0.17,    36.92,2,     0.05,     0.00,2,     0.01,     2.58,2,     0.01,  -999.00,9,  -999.00,    0.000,2,    0.000,2,    0.000,2, -999.000,9,   2335.9,2,   2419.0,2,   -999.0,9,   7.5561,       25,2, -999.000,9,    38.72,2, -999.000,9, -999.000,   -999.0,9,   -999.0, -999.000,9, -999.000, -999.000,9, -999.000,   -999.0,9,   -999.0, -999.000,9, -999.000,9, -999.000,9