BOTTLE,20230904JAMSTECRIGC
EXPOCODE,SECT,STNNBR,CASTNO,SAMPNO,BTLNBR,BTLNBR_FLAG_W,DATE,TIME,LATITUDE,LONGITUDE,DEPTH,CTDPRS,CTDPRS_FLAG_W,CTDTMP,CTDTMP_FLAG_W,SBE35,SBE35_FLAG_W,CTDSAL,CTDSAL_FLAG_W,SALNTY,SALNTY_FLAG_W,DNSSAL,DNSSAL_FLAG_W,CTDOXY,CTDOXY_FLAG_W,OXYGEN,OXYGEN_FLAG_W,XMISS,XMISSCP,XMISS_FLAG_W,FLUOR,FLUOR_FLAG_W,CHLORA,CHLORA_FLAG_W,CDOM,CDOM_FLAG_W,PAR,PAR_FLAG_W,SILCAT,SILCAT_FLAG_W,SILUNC,NITRAT,NITRAT_FLAG_W,NRAUNC,NITRIT,NITRIT_FLAG_W,NRIUNC,PHSPHT,PHSPHT_FLAG_W,PHPUNC,AMMONIA,AMMONIA_FLAG_W,NH4UNC,CFC-11,CFC-11_FLAG_W,CFC-12,CFC-12_FLAG_W,CFC113,CFC113_FLAG_W,SF6,SF6_FLAG_W,TCARBN,TCARBN_FLAG_W,ALKALI,ALKALI_FLAG_W,ALKALI_POT,ALKALI_POT_FLAG_W,PH_TOT,PH_TMP,PH_TOT_FLAG_W,CALCIUM,CALCIUM_FLAG_W,DOC,DOC_FLAG_W,DELC13,DELC13_FLAG_W,C13ERR,DELC14,DELC14_FLAG_W,C14ERR,CS-134,CS-134_FLAG_W,CS134ER,CS-137,CS-137_FLAG_W,CS137ER,I-129,I-129_FLAG_W,I-129ER,CDOM-325,CDOM-325_FLAG_W,CDOM-370,CDOM-370_FLAG_W,CDOM-443,CDOM-443_FLAG_W
,,,,,,,,UTC,DEG,DEG,METERS,DBAR,,ITS-90,,ITS-90,,PSS-78,,PSS-78,,G/KG,,UMOL/KG,,UMOL/KG,,%TRANS,/METER,,MG/CUM,,MG/CUM,,MG/CUM,,UE/SQM/S,,UMOL/KG,,UMOL/KG,UMOL/KG,,UMOL/KG,UMOL/KG,,UMOL/KG,UMOL/KG,,UMOL/KG,UMOL/KG,,UMOL/KG,PMOL/KG,,PMOL/KG,,PMOL/KG,,FMOL/KG,,UMOL/KG,,UMOL/KG,,UMOL/KG,,,DEG C,,MMOL/KG,,UMOL/KG,,/MILLE,,/MILLE,/MILLE,,/MILLE,MBQ/KG,,MBQ/KG,MBQ/KG,,MBQ/KG,,,,/METER,,/METER,,/METER,
  49NZ20140717,   P01,   145,  1,      0,   -999,9,20140822,0302, 46.9944,-127.2022, 2636,   -999.0,9,-999.0000,9,-999.00000,9,-999.0000,9,  31.9379,2,-999.0000,9,  -999.00,9,  -999.00,9, -999.000,-999.0000,9, -999.000,9,  -999.00,9, -999.000,9, -999.000,9,     4.39,2,     0.09,     0.05,2,     0.02,     0.01,2,     0.01,     0.34,2,     0.01,  -999.00,9,  -999.00, -999.000,9, -999.000,9, -999.000,9, -999.000,9,   -999.0,9,   -999.0,9,   -999.0,9,-999.0000,     -999,9, -999.000,9,  -999.00,9, -999.000,9, -999.000,   -999.0,9,   -999.0, -999.000,9, -999.000, -999.000,9, -999.000,   -999.0,9,   -999.0, -999.000,9, -999.000,9, -999.000,9
  49NZ20140717,   P01,   145,  1,     36, X12J36,2,20140822,0302, 46.9944,-127.2022, 2636,     10.1,2,  18.5087,2,  18.50817,2,  31.9225,2,  31.9246,2,  32.0755,2,   243.68,2,   243.03,2,   98.179,   0.0735,2,    0.178,2,  -999.00,9,    0.247,1,    0.140,2,     4.59,2,     0.09,     0.03,2,     0.02,     0.01,2,     0.01,     0.33,2,     0.01,  -999.00,9,  -999.00,    2.436,2,    1.493,2,    0.266,2,    1.810,2,   1933.9,2,   2158.5,2,   -999.0,9,   7.9557,       25,2, -999.000,9,    69.35,2, -999.000,9, -999.000,   -999.0,9,   -999.0, -999.000,9, -999.000, -999.000,9, -999.000,   -999.0,9,   -999.0, -999.000,9, -999.000,9, -999.000,9
  49NZ20140717,   P01,   145,  1,     35, X12J35,2,20140822,0302, 46.9944,-127.2022, 2636,     49.5,2,   9.2326,2,   9.25685,2,  32.3776,2,  32.3802,2,  32.5355,2,   264.17,2,   262.70,2,   98.465,   0.0619,2,    0.159,2,  -999.00,9,    0.518,1,    0.000,2,    11.94,2,     0.09,    10.16,2,     0.02,     0.03,2,     0.01,     1.10,2,     0.01,  -999.00,9,  -999.00,    3.686,2,    2.171,2,    0.358,2,    2.410,2,   2029.4,6,   2176.7,2,   -999.0,9,   7.7709,       25,2, -999.000,9,    54.55,2, -999.000,9, -999.000,   -999.0,9,   -999.0, -999.000,9, -999.000, -999.000,9, -999.000,   -999.0,9,   -999.0, -999.000,9, -999.000,9, -999.000,9
  49NZ20140717,   P01,   145,  1,     34, X12J34,2,20140822,0302, 46.9944,-127.2022, 2636,    100.1,2,   7.1638,2,   7.16918,2,  32.8998,2,  32.9107,2,  33.0693,2,   240.36,2,   235.71,2,   99.645,   0.0142,2,    0.012,2,  -999.00,9,    0.938,1,    0.000,2,    23.18,2,     0.09,    18.94,2,     0.03,     0.02,2,     0.01,     1.55,2,     0.01,  -999.00,9,  -999.00,    3.970,2,    2.318,2,    0.321,2,    2.430,2,   2098.3,2,   2206.1,2,   -999.0,9,   7.6539,       25,2, -999.000,9,    52.57,2, -999.000,9, -999.000,   -999.0,9,   -999.0, -999.000,9, -999.000, -999.000,9, -999.000,   -999.0,9,   -999.0, -999.000,9, -999.000,9, -999.000,9
  49NZ20140717,   P01,   145,  1,     33, X12J33,2,20140822,0302, 46.9944,-127.2022, 2636,    149.9,2,   7.5987,2,   7.59784,2,  33.7420,2,  33.7452,2,  33.9078,2,   133.82,2,   133.22,2,   99.654,   0.0139,2,    0.007,2,  -999.00,9,    1.664,1,    0.000,2,    36.71,2,     0.10,    28.31,2,     0.04,     0.01,2,     0.01,     2.07,2,     0.01,  -999.00,9,  -999.00,    3.350,2,    1.913,2,    0.218,2,    1.400,2,   2196.0,2,   2247.3,2,   -999.0,9,   7.4822,       25,6, -999.000,9,    46.35,2, -999.000,9, -999.000,   -999.0,9,   -999.0, -999.000,9, -999.000, -999.000,9, -999.000,   -999.0,9,   -999.0, -999.000,9, -999.000,9, -999.000,9
  49NZ20140717,   P01,   145,  1,     32, X12J32,2,20140822,0302, 46.9944,-127.2022, 2636,    199.5,2,   7.0120,2,   7.01191,2,  33.8887,2,  33.8913,2,  34.0542,2,   123.80,2,   122.58,2,   99.608,   0.0157,2,    0.009,2,  -999.00,9,    1.980,1,    0.000,2,    44.00,2,     0.10,    30.30,2,     0.04,     0.01,2,     0.01,     2.16,2,     0.01,  -999.00,9,  -999.00,    3.172,2,    1.784,2,    0.201,2,    1.170,2,   2214.2,2,   2262.1,6,   -999.0,9,   7.4687,       25,2, -999.000,9,    48.24,2, -999.000,9, -999.000,   -999.0,9,   -999.0, -999.000,9, -999.000, -999.000,9, -999.000,   -999.0,9,   -999.0, -999.000,9, -999.000,9, -999.000,9
  49NZ20140717,   P01,   145,  1,     31, X12J31,2,20140822,0302, 46.9944,-127.2022, 2636,    249.4,2,   6.4992,2,   6.49960,2,  33.9370,2,  33.9370,2,  34.1030,2,    95.75,2,    95.48,2,   99.693,   0.0123,2,    0.010,2,  -999.00,9,    2.244,1,    0.000,2,    52.60,2,     0.11,    33.66,2,     0.04,     0.01,2,     0.01,     2.40,2,     0.01,  -999.00,9,  -999.00,    2.805,2,    1.531,2,    0.169,2,    0.940,2,   2241.1,2,   2271.7,2,   -999.0,9,   7.4138,       25,2, -999.000,9,    49.78,2, -999.000,9, -999.000,   -999.0,9,   -999.0, -999.000,9, -999.000, -999.000,9, -999.000,   -999.0,9,   -999.0, -999.000,9, -999.000,9, -999.000,9
  49NZ20140717,   P01,   145,  1,     30, X12J30,2,20140822,0302, 46.9944,-127.2022, 2636,    329.6,2,   5.8074,2,   5.80773,2,  33.9811,2,  33.9806,2,  34.1478,2,    64.82,2,    65.17,2,   99.730,   0.0108,2,    0.011,2,  -999.00,9,    2.470,1,    0.000,2,    64.83,2,     0.12,    37.38,2,     0.05,     0.01,2,     0.01,     2.67,2,     0.01,  -999.00,9,  -999.00,    2.233,2,    1.175,2,    0.125,2,    0.540,2,   2274.4,2,   2284.5,2,   -999.0,9,   7.3547,       25,2, -999.000,9,    42.65,2, -999.000,9, -999.000,   -999.0,9,   -999.0, -999.000,9, -999.000, -999.000,9, -999.000,   -999.0,9,   -999.0, -999.000,9, -999.000,9, -999.000,9
  49NZ20140717,   P01,   145,  1,     29, X12J29,2,20140822,0302, 46.9944,-127.2022, 2636,    428.9,2,   5.2634,2,   5.26321,2,  34.0402,2,  34.0400,2,  34.2078,2,    41.48,2,    42.06,2,   99.699,   0.0120,2,    0.011,2,  -999.00,9,    2.710,1,    0.000,2,    77.21,2,     0.12,    40.10,2,     0.05,     0.01,2,     0.01,     2.89,2,     0.01,  -999.00,9,  -999.00,    1.598,2,    0.824,2,    0.081,2,    0.330,2,   2299.9,2,   2298.0,2,   -999.0,9,   7.3160,       25,2, -999.000,9,    44.30,2, -999.000,9, -999.000,   -999.0,9,   -999.0, -999.000,9, -999.000, -999.000,9, -999.000,   -999.0,9,   -999.0, -999.000,9, -999.000,9, -999.000,9
  49NZ20140717,   P01,   145,  1,     28, X12J28,2,20140822,0302, 46.9944,-127.2022, 2636,    530.8,2,   4.8601,2,   4.85198,2,  34.1209,2,  34.1240,2,  34.2936,2,    22.34,2,    22.33,2,   99.929,   0.0028,2,    0.011,2,  -999.00,9,    2.944,1,    0.000,2,    89.96,2,     0.13,    42.02,2,     0.05,     0.01,2,     0.01,     3.05,2,     0.01,  -999.00,9,  -999.00,    0.902,2,    0.464,2,    0.045,2,    0.160,2,   2325.7,2,   2315.3,2,   -999.0,9,   7.2906,       25,2, -999.000,9,    43.00,2, -999.000,9, -999.000,   -999.0,9,   -999.0, -999.000,9, -999.000, -999.000,9, -999.000,   -999.0,9,   -999.0, -999.000,9, -999.000,9, -999.000,9
  49NZ20140717,   P01,   145,  1,     27, X12J27,2,20140822,0302, 46.9944,-127.2022, 2636,    630.9,2,   4.4759,2,   4.47615,2,  34.1889,2,  34.1874,2,  34.3595,2,    14.05,2,    14.16,2,   99.784,   0.0087,2,    0.011,2,  -999.00,9,    2.949,1,    0.000,2,   100.62,2,     0.14,    43.09,2,     0.05,     0.01,2,     0.01,     3.14,2,     0.01,  -999.00,9,  -999.00,    0.498,2,    0.271,2,    0.023,2,    0.110,2,   2339.9,2,   2329.2,2,   -999.0,9,   7.2841,       25,2, -999.000,9,    41.08,2, -999.000,9, -999.000,   -999.0,9,   -999.0, -999.000,9, -999.000, -999.000,9, -999.000,   -999.0,9,   -999.0, -999.000,9, -999.000,9, -999.000,9
  49NZ20140717,   P01,   145,  1,     26, X12J26,2,20140822,0302, 46.9944,-127.2022, 2636,    730.8,2,   4.2795,2,   4.27940,2,  34.2650,2,  34.2643,2,  34.4380,2,     9.49,2,     8.93,2,   99.860,   0.0056,2,    0.011,2,  -999.00,9,    3.051,1,    0.000,2,   108.74,2,     0.14,    43.54,2,     0.05,     0.01,2,     0.01,     3.20,2,     0.01,  -999.00,9,  -999.00,    0.209,2,    0.124,2,    0.010,2,    0.080,2,   2353.2,6,   2340.8,2,   -999.0,9,   7.2884,       25,2, -999.000,9,    42.81,3, -999.000,9, -999.000,   -999.0,9,   -999.0, -999.000,9, -999.000, -999.000,9, -999.000,   -999.0,9,   -999.0, -999.000,9, -999.000,9, -999.000,9
  49NZ20140717,   P01,   145,  1,     25, X12J25,2,20140822,0302, 46.9944,-127.2022, 2636,    830.8,2,   3.9513,2,   3.95129,2,  34.3014,2,  34.3009,2,  34.4749,2,     8.67,2,     8.01,2,   99.853,   0.0059,2,    0.012,2,  -999.00,9,    3.148,1,    0.000,2,   117.33,2,     0.15,    43.92,2,     0.06,     0.01,2,     0.01,     3.21,2,     0.01,  -999.00,9,  -999.00,    0.124,2,    0.078,2,    0.005,2,    0.060,2,   2363.4,2,   2351.0,2,   -999.0,9,   7.2882,       25,2, -999.000,9,    37.15,2, -999.000,9, -999.000,   -999.0,9,   -999.0, -999.000,9, -999.000, -999.000,9, -999.000,   -999.0,9,   -999.0, -999.000,9, -999.000,9, -999.000,9
  49NZ20140717,   P01,   145,  1,     24, X12J24,2,20140822,0302, 46.9944,-127.2022, 2636,    930.1,2,   3.7371,2,   3.73707,2,  34.3454,2,  34.3457,2,  34.5211,2,     8.48,2,     7.77,2,   99.886,   0.0046,2,    0.011,2,  -999.00,9,    3.109,1,    0.000,2,   124.25,2,     0.15,    44.15,2,     0.06,     0.01,2,     0.01,     3.22,2,     0.01,  -999.00,9,  -999.00,    0.067,2,    0.043,2,    0.002,2,    0.050,2,   2370.0,2,   2361.4,2,   -999.0,9,   7.2931,       25,6, -999.000,9,    38.63,2, -999.000,9, -999.000,   -999.0,9,   -999.0, -999.000,9, -999.000, -999.000,9, -999.000,   -999.0,9,   -999.0, -999.000,9, -999.000,9, -999.000,9
  49NZ20140717,   P01,   145,  1,     23, X12J23,2,20140822,0302, 46.9944,-127.2022, 2636,   1069.2,2,   3.3641,2,   3.36426,2,  34.4088,2,  34.4093,2,  34.5863,2,    10.81,2,    10.48,2,   99.842,   0.0063,2,    0.010,2,  -999.00,9,    3.171,1,    0.000,2,   135.33,2,     0.16,    44.37,2,     0.06,     0.01,2,     0.01,     3.23,2,     0.01,  -999.00,9,  -999.00,    0.027,2,    0.018,2,    0.002,2,    0.000,2,   2381.4,2,   2375.0,2,   -999.0,9,   7.3041,       25,2, -999.000,9,    38.34,2, -999.000,9, -999.000,   -999.0,9,   -999.0, -999.000,9, -999.000, -999.000,9, -999.000,   -999.0,9,   -999.0, -999.000,9, -999.000,9, -999.000,9
  49NZ20140717,   P01,   145,  1,     22, X12J22,2,20140822,0302, 46.9944,-127.2022, 2636,   1269.9,2,   2.9569,2,   2.95767,2,  34.4674,2,  34.4681,2,  34.6463,2,    17.06,2,    16.84,2,   99.884,   0.0047,2,    0.009,2,  -999.00,9,    3.253,1,    0.000,2,   147.30,2,     0.17,    44.20,2,     0.06,     0.01,2,     0.01,     3.20,2,     0.01,  -999.00,9,  -999.00,    0.010,2,    0.009,2,    0.001,2,    0.000,2,   2389.3,2,   2388.2,6,   -999.0,9,   7.3200,       25,2, -999.000,9,    38.97,2, -999.000,9, -999.000,   -999.0,9,   -999.0, -999.000,9, -999.000, -999.000,9, -999.000,   -999.0,9,   -999.0, -999.000,9, -999.000,9, -999.000,9
  49NZ20140717,   P01,   145,  1,     21, X12J21,2,20140822,0302, 46.9944,-127.2022, 2636,   1467.8,2,   2.5709,2,   2.57157,2,  34.5167,2,  34.5168,2,  34.6971,2,    28.28,2,    28.09,2,   99.799,   0.0080,2,    0.009,2,  -999.00,9,    3.257,1,    0.000,2,   158.50,2,     0.17,    43.60,2,     0.05,     0.01,2,     0.01,     3.14,2,     0.01,  -999.00,9,  -999.00,    0.006,2,    0.006,2,    0.002,2,    0.000,2,   2392.4,2,   2401.0,2,   -999.0,9,   7.3448,       25,2, -999.000,9,    39.13,2, -999.000,9, -999.000,   -999.0,9,   -999.0, -999.000,9, -999.000, -999.000,9, -999.000,   -999.0,9,   -999.0, -999.000,9, -999.000,9, -999.000,9
  49NZ20140717,   P01,   145,  1,     20, X12J20,2,20140822,0302, 46.9944,-127.2022, 2636,   1670.7,2,   2.2663,2,   2.26673,2,  34.5530,2,  34.5532,2,  34.7334,2,    40.57,2,    40.53,2,   99.797,   0.0081,2,    0.008,2,  -999.00,9,    3.230,1,    0.000,2,   167.40,2,     0.18,    42.81,2,     0.05,     0.01,2,     0.01,     3.08,2,     0.01,  -999.00,9,  -999.00,    0.004,2,    0.005,2,    0.001,2,    0.000,2,   2392.5,2,   2410.3,2,   -999.0,9,   7.3709,       25,6, -999.000,9,    39.20,2, -999.000,9, -999.000,   -999.0,9,   -999.0, -999.000,9, -999.000, -999.000,9, -999.000,   -999.0,9,   -999.0, -999.000,9, -999.000,9, -999.000,9
  49NZ20140717,   P01,   145,  1,     19, X12J19,2,20140822,0302, 46.9944,-127.2022, 2636,   1869.7,2,   2.0356,2,   2.03559,2,  34.5783,2,  34.5787,2,  34.7597,2,    51.63,2,    51.79,2,   99.897,   0.0041,2,    0.007,2,  -999.00,9,    3.287,1,    0.000,2,   173.21,2,     0.18,    42.23,2,     0.05,     0.01,2,     0.01,     3.02,2,     0.01,  -999.00,9,  -999.00,    0.004,2,    0.004,2,    0.001,2,    0.000,2,   2390.8,2,   2415.8,2,   -999.0,9,   7.3929,       25,2, -999.000,9,    38.31,2, -999.000,9, -999.000,   -999.0,9,   -999.0, -999.000,9, -999.000, -999.000,9, -999.000,   -999.0,9,   -999.0, -999.000,9, -999.000,9, -999.000,9
  49NZ20140717,   P01,   145,  1,     18, X12J18,2,20140822,0302, 46.9944,-127.2022, 2636,   2069.9,2,   1.8898,2,   1.88995,2,  34.5995,2,  34.6003,2,  34.7822,2,    62.99,2,    63.21,2,   99.923,   0.0031,2,    0.005,2,  -999.00,9,    3.204,1,    0.000,2,   175.94,2,     0.18,    41.75,2,     0.05,     0.01,2,     0.01,     2.96,2,     0.01,  -999.00,9,  -999.00,    0.003,2,    0.003,2,    0.000,2,    0.000,2,   2385.8,2,   2420.3,2,   -999.0,9,   7.4159,       25,2, -999.000,9,    35.38,2, -999.000,9, -999.000,   -999.0,9,   -999.0, -999.000,9, -999.000, -999.000,9, -999.000,   -999.0,9,   -999.0, -999.000,9, -999.000,9, -999.000,9
  49NZ20140717,   P01,   145,  1,     17, X12J17,2,20140822,0302, 46.9944,-127.2022, 2636,   2269.9,2,   1.8001,2,   1.80021,2,  34.6185,2,  34.6196,2,  34.8026,2,    72.44,2,    72.73,2,   99.910,   0.0036,2,    0.005,2,  -999.00,9,    3.169,1,    0.000,2,   179.57,2,     0.19,    40.94,2,     0.05,     0.01,2,     0.01,     2.92,2,     0.01,  -999.00,9,  -999.00,    0.003,2,    0.005,2,    0.001,2,    0.000,2,   2383.6,2,   2424.7,2,   -999.0,9,   7.4392,       25,2, -999.000,9,    39.81,2, -999.000,9, -999.000,   -999.0,9,   -999.0, -999.000,9, -999.000, -999.000,9, -999.000,   -999.0,9,   -999.0, -999.000,9, -999.000,9, -999.000,9
  49NZ20140717,   P01,   145,  1,     16, X12J16,2,20140822,0302, 46.9944,-127.2022, 2636,   2659.6,2,   1.7636,2,   1.76372,2,  34.6413,2,-999.0000,9,-999.0000,9,    73.73,2,    74.15,1,   98.673,   0.0534,2,    0.008,2,  -999.00,9,    3.164,1,    0.000,2,  -999.00,9,  -999.00,  -999.00,9,  -999.00,  -999.00,9,  -999.00,  -999.00,9,  -999.00,  -999.00,9,  -999.00, -999.000,9, -999.000,9, -999.000,9, -999.000,9,   -999.0,9,   -999.0,9,   -999.0,9,-999.0000,     -999,9, -999.000,9,  -999.00,9, -999.000,9, -999.000,   -999.0,9,   -999.0, -999.000,9, -999.000, -999.000,9, -999.000,   -999.0,9,   -999.0, -999.000,9, -999.000,9, -999.000,9
  49NZ20140717,   P01,   145,  1,     15, X12J15,9,20140822,0302, 46.9944,-127.2022, 2636,   -999.0,9,-999.0000,9,-999.00000,9,-999.0000,9,-999.0000,9,-999.0000,9,  -999.00,9,  -999.00,9, -999.000,-999.0000,9, -999.000,9,  -999.00,9, -999.000,9, -999.000,9,  -999.00,9,  -999.00,  -999.00,9,  -999.00,  -999.00,9,  -999.00,  -999.00,9,  -999.00,  -999.00,9,  -999.00, -999.000,9, -999.000,9, -999.000,9, -999.000,9,   -999.0,9,   -999.0,9,   -999.0,9,-999.0000,     -999,9, -999.000,9,  -999.00,9, -999.000,9, -999.000,   -999.0,9,   -999.0, -999.000,9, -999.000, -999.000,9, -999.000,   -999.0,9,   -999.0, -999.000,9, -999.000,9, -999.000,9
  49NZ20140717,   P01,   145,  1,     14, X12J14,9,20140822,0302, 46.9944,-127.2022, 2636,   -999.0,9,-999.0000,9,-999.00000,9,-999.0000,9,-999.0000,9,-999.0000,9,  -999.00,9,  -999.00,9, -999.000,-999.0000,9, -999.000,9,  -999.00,9, -999.000,9, -999.000,9,  -999.00,9,  -999.00,  -999.00,9,  -999.00,  -999.00,9,  -999.00,  -999.00,9,  -999.00,  -999.00,9,  -999.00, -999.000,9, -999.000,9, -999.000,9, -999.000,9,   -999.0,9,   -999.0,9,   -999.0,9,-999.0000,     -999,9, -999.000,9,  -999.00,9, -999.000,9, -999.000,   -999.0,9,   -999.0, -999.000,9, -999.000, -999.000,9, -999.000,   -999.0,9,   -999.0, -999.000,9, -999.000,9, -999.000,9
  49NZ20140717,   P01,   145,  1,     13, X12113,9,20140822,0302, 46.9944,-127.2022, 2636,   -999.0,9,-999.0000,9,-999.00000,9,-999.0000,9,-999.0000,9,-999.0000,9,  -999.00,9,  -999.00,9, -999.000,-999.0000,9, -999.000,9,  -999.00,9, -999.000,9, -999.000,9,  -999.00,9,  -999.00,  -999.00,9,  -999.00,  -999.00,9,  -999.00,  -999.00,9,  -999.00,  -999.00,9,  -999.00, -999.000,9, -999.000,9, -999.000,9, -999.000,9,   -999.0,9,   -999.0,9,   -999.0,9,-999.0000,     -999,9, -999.000,9,  -999.00,9, -999.000,9, -999.000,   -999.0,9,   -999.0, -999.000,9, -999.000, -999.000,9, -999.000,   -999.0,9,   -999.0, -999.000,9, -999.000,9, -999.000,9
  49NZ20140717,   P01,   145,  1,     12, X12J12,9,20140822,0302, 46.9944,-127.2022, 2636,   -999.0,9,-999.0000,9,-999.00000,9,-999.0000,9,-999.0000,9,-999.0000,9,  -999.00,9,  -999.00,9, -999.000,-999.0000,9, -999.000,9,  -999.00,9, -999.000,9, -999.000,9,  -999.00,9,  -999.00,  -999.00,9,  -999.00,  -999.00,9,  -999.00,  -999.00,9,  -999.00,  -999.00,9,  -999.00, -999.000,9, -999.000,9, -999.000,9, -999.000,9,   -999.0,9,   -999.0,9,   -999.0,9,-999.0000,     -999,9, -999.000,9,  -999.00,9, -999.000,9, -999.000,   -999.0,9,   -999.0, -999.000,9, -999.000, -999.000,9, -999.000,   -999.0,9,   -999.0, -999.000,9, -999.000,9, -999.000,9
  49NZ20140717,   P01,   145,  1,     11, X12J11,9,20140822,0302, 46.9944,-127.2022, 2636,   -999.0,9,-999.0000,9,-999.00000,9,-999.0000,9,-999.0000,9,-999.0000,9,  -999.00,9,  -999.00,9, -999.000,-999.0000,9, -999.000,9,  -999.00,9, -999.000,9, -999.000,9,  -999.00,9,  -999.00,  -999.00,9,  -999.00,  -999.00,9,  -999.00,  -999.00,9,  -999.00,  -999.00,9,  -999.00, -999.000,9, -999.000,9, -999.000,9, -999.000,9,   -999.0,9,   -999.0,9,   -999.0,9,-999.0000,     -999,9, -999.000,9,  -999.00,9, -999.000,9, -999.000,   -999.0,9,   -999.0, -999.000,9, -999.000, -999.000,9, -999.000,   -999.0,9,   -999.0, -999.000,9, -999.000,9, -999.000,9
  49NZ20140717,   P01,   145,  1,     10, X12J10,9,20140822,0302, 46.9944,-127.2022, 2636,   -999.0,9,-999.0000,9,-999.00000,9,-999.0000,9,-999.0000,9,-999.0000,9,  -999.00,9,  -999.00,9, -999.000,-999.0000,9, -999.000,9,  -999.00,9, -999.000,9, -999.000,9,  -999.00,9,  -999.00,  -999.00,9,  -999.00,  -999.00,9,  -999.00,  -999.00,9,  -999.00,  -999.00,9,  -999.00, -999.000,9, -999.000,9, -999.000,9, -999.000,9,   -999.0,9,   -999.0,9,   -999.0,9,-999.0000,     -999,9, -999.000,9,  -999.00,9, -999.000,9, -999.000,   -999.0,9,   -999.0, -999.000,9, -999.000, -999.000,9, -999.000,   -999.0,9,   -999.0, -999.000,9, -999.000,9, -999.000,9