BOTTLE,20230904JAMSTECRIGC
EXPOCODE,SECT,STNNBR,CASTNO,SAMPNO,BTLNBR,BTLNBR_FLAG_W,DATE,TIME,LATITUDE,LONGITUDE,DEPTH,CTDPRS,CTDPRS_FLAG_W,CTDTMP,CTDTMP_FLAG_W,SBE35,SBE35_FLAG_W,CTDSAL,CTDSAL_FLAG_W,SALNTY,SALNTY_FLAG_W,DNSSAL,DNSSAL_FLAG_W,CTDOXY,CTDOXY_FLAG_W,OXYGEN,OXYGEN_FLAG_W,XMISS,XMISSCP,XMISS_FLAG_W,FLUOR,FLUOR_FLAG_W,CHLORA,CHLORA_FLAG_W,CDOM,CDOM_FLAG_W,PAR,PAR_FLAG_W,SILCAT,SILCAT_FLAG_W,SILUNC,NITRAT,NITRAT_FLAG_W,NRAUNC,NITRIT,NITRIT_FLAG_W,NRIUNC,PHSPHT,PHSPHT_FLAG_W,PHPUNC,AMMONIA,AMMONIA_FLAG_W,NH4UNC,CFC-11,CFC-11_FLAG_W,CFC-12,CFC-12_FLAG_W,CFC113,CFC113_FLAG_W,SF6,SF6_FLAG_W,TCARBN,TCARBN_FLAG_W,ALKALI,ALKALI_FLAG_W,ALKALI_POT,ALKALI_POT_FLAG_W,PH_TOT,PH_TMP,PH_TOT_FLAG_W,CALCIUM,CALCIUM_FLAG_W,DOC,DOC_FLAG_W,DELC13,DELC13_FLAG_W,C13ERR,DELC14,DELC14_FLAG_W,C14ERR,CS-134,CS-134_FLAG_W,CS134ER,CS-137,CS-137_FLAG_W,CS137ER,I-129,I-129_FLAG_W,I-129ER,CDOM-325,CDOM-325_FLAG_W,CDOM-370,CDOM-370_FLAG_W,CDOM-443,CDOM-443_FLAG_W
,,,,,,,,UTC,DEG,DEG,METERS,DBAR,,ITS-90,,ITS-90,,PSS-78,,PSS-78,,G/KG,,UMOL/KG,,UMOL/KG,,%TRANS,/METER,,MG/CUM,,MG/CUM,,MG/CUM,,UE/SQM/S,,UMOL/KG,,UMOL/KG,UMOL/KG,,UMOL/KG,UMOL/KG,,UMOL/KG,UMOL/KG,,UMOL/KG,UMOL/KG,,UMOL/KG,PMOL/KG,,PMOL/KG,,PMOL/KG,,FMOL/KG,,UMOL/KG,,UMOL/KG,,UMOL/KG,,,DEG C,,MMOL/KG,,UMOL/KG,,/MILLE,,/MILLE,/MILLE,,/MILLE,MBQ/KG,,MBQ/KG,MBQ/KG,,MBQ/KG,,,,/METER,,/METER,,/METER,
  49NZ20140717,   P01,    55,  1,      0,   -999,9,20140722,0546, 39.6931, 147.9137, 5343,   -999.0,9,-999.0000,9,-999.00000,9,-999.0000,9,  33.0308,2,-999.0000,9,  -999.00,9,  -999.00,9, -999.000,-999.0000,9, -999.000,9,  -999.00,9, -999.000,9, -999.000,9,     1.41,2,     0.11,     0.06,2,     0.02,     0.01,2,     0.01,     0.12,2,     0.01,  -999.00,9,  -999.00, -999.000,9, -999.000,9, -999.000,9, -999.000,9,   -999.0,9,   -999.0,9,   -999.0,9,-999.0000,     -999,9, -999.000,9,  -999.00,9, -999.000,9, -999.000,   -999.0,9,   -999.0, -999.000,9, -999.000, -999.000,9, -999.000,   -999.0,9,   -999.0, -999.000,9, -999.000,9, -999.000,9
  49NZ20140717,   P01,    55,  1,     36, X12J36,2,20140722,0546, 39.6931, 147.9137, 5343,     10.2,2,  18.7584,2,  18.74890,2,  32.9618,2,  32.9625,2,-999.0000,9,   257.02,2,   259.85,2,   92.971,   0.2915,2,    0.554,2,  -999.00,9,    0.270,1,   32.577,2,     1.44,2,     0.11,     0.07,2,     0.02,     0.01,2,     0.01,     0.13,2,     0.01,  -999.00,9,  -999.00, -999.000,9, -999.000,9, -999.000,9, -999.000,9,   -999.0,9,   -999.0,9,   -999.0,9,-999.0000,     -999,9, -999.000,9,  -999.00,9, -999.000,9, -999.000,   -999.0,9,   -999.0, -999.000,9, -999.000, -999.000,9, -999.000,   -999.0,9,   -999.0, -999.000,9, -999.000,9, -999.000,9
  49NZ20140717,   P01,    55,  1,     35, X12J35,2,20140722,0546, 39.6931, 147.9137, 5343,     50.3,2,   3.8341,2,   3.83963,2,  32.9170,2,  32.9181,2,-999.0000,9,   333.00,2,   333.96,2,   96.141,   0.1574,2,    0.583,2,  -999.00,9,    1.142,1,    0.337,2,    18.24,2,     0.09,    16.66,2,     0.03,     0.23,2,     0.01,     1.58,2,     0.01,  -999.00,9,  -999.00, -999.000,9, -999.000,9, -999.000,9, -999.000,9,   -999.0,9,   -999.0,9,   -999.0,9,-999.0000,     -999,9, -999.000,9,  -999.00,9, -999.000,9, -999.000,   -999.0,9,   -999.0, -999.000,9, -999.000, -999.000,9, -999.000,   -999.0,9,   -999.0, -999.000,9, -999.000,9, -999.000,9
  49NZ20140717,   P01,    55,  1,     34, X12J34,2,20140722,0546, 39.6931, 147.9137, 5343,    100.5,2,   1.7165,2,   1.71506,2,  33.0757,2,  33.0777,2,-999.0000,9,   305.61,2,   306.15,2,   99.403,   0.0239,2,    0.061,2,  -999.00,9,    1.299,1,    0.000,2,    41.73,2,     0.10,    24.35,2,     0.04,     0.01,2,     0.01,     1.90,2,     0.01,  -999.00,9,  -999.00, -999.000,9, -999.000,9, -999.000,9, -999.000,9,   -999.0,9,   -999.0,9,   -999.0,9,-999.0000,     -999,9, -999.000,9,  -999.00,9, -999.000,9, -999.000,   -999.0,9,   -999.0, -999.000,9, -999.000, -999.000,9, -999.000,   -999.0,9,   -999.0, -999.000,9, -999.000,9, -999.000,9
  49NZ20140717,   P01,    55,  1,     33, X12J33,2,20140722,0546, 39.6931, 147.9137, 5343,    150.4,2,   1.9852,2,   1.99033,2,  33.3607,2,  33.3560,2,-999.0000,9,   209.07,2,   210.55,2,   99.259,   0.0298,2,    0.007,2,  -999.00,9,    1.888,1,    0.000,2,    65.06,2,     0.12,    32.54,2,     0.04,     0.01,2,     0.01,     2.43,2,     0.01,  -999.00,9,  -999.00, -999.000,9, -999.000,9, -999.000,9, -999.000,9,   -999.0,9,   -999.0,9,   -999.0,9,-999.0000,     -999,9, -999.000,9,  -999.00,9, -999.000,9, -999.000,   -999.0,9,   -999.0, -999.000,9, -999.000, -999.000,9, -999.000,   -999.0,9,   -999.0, -999.000,9, -999.000,9, -999.000,9
  49NZ20140717,   P01,    55,  1,     32, X12J32,2,20140722,0546, 39.6931, 147.9137, 5343,    200.7,2,   2.3608,2,   2.36035,2,  33.5554,2,  33.5556,2,-999.0000,9,   150.14,2,   150.25,2,   99.114,   0.0356,2,    0.008,2,  -999.00,9,    2.239,1,    0.000,2,    77.68,2,     0.12,    36.34,2,     0.05,     0.01,2,     0.01,     2.67,2,     0.01,  -999.00,9,  -999.00, -999.000,9, -999.000,9, -999.000,9, -999.000,9,   -999.0,9,   -999.0,9,   -999.0,9,-999.0000,     -999,9, -999.000,9,  -999.00,9, -999.000,9, -999.000,   -999.0,9,   -999.0, -999.000,9, -999.000, -999.000,9, -999.000,   -999.0,9,   -999.0, -999.000,9, -999.000,9, -999.000,9
  49NZ20140717,   P01,    55,  1,     31, X12J31,2,20140722,0546, 39.6931, 147.9137, 5343,    250.1,2,   2.7244,2,   2.72436,2,  33.6978,2,  33.6982,2,-999.0000,9,   112.69,2,   112.46,2,   99.190,   0.0325,2,    0.008,2,  -999.00,9,    2.426,1,    0.000,2,    86.55,2,     0.13,    38.51,2,     0.05,     0.01,2,     0.01,     2.80,2,     0.01,  -999.00,9,  -999.00, -999.000,9, -999.000,9, -999.000,9, -999.000,9,   -999.0,9,   -999.0,9,   -999.0,9,-999.0000,     -999,9, -999.000,9,  -999.00,9, -999.000,9, -999.000,   -999.0,9,   -999.0, -999.000,9, -999.000, -999.000,9, -999.000,   -999.0,9,   -999.0, -999.000,9, -999.000,9, -999.000,9
  49NZ20140717,   P01,    55,  1,     30, X12J30,2,20140722,0546, 39.6931, 147.9137, 5343,    329.9,2,   3.0544,2,   3.05401,2,  33.8565,2,  33.8561,2,-999.0000,9,    72.44,2,    73.19,2,   99.593,   0.0163,2,    0.008,2,  -999.00,9,    2.617,1,    0.000,2,    98.47,2,     0.14,    41.02,2,     0.05,     0.01,2,     0.01,     2.95,2,     0.01,  -999.00,9,  -999.00, -999.000,9, -999.000,9, -999.000,9, -999.000,9,   -999.0,9,   -999.0,9,   -999.0,9,-999.0000,     -999,9, -999.000,9,  -999.00,9, -999.000,9, -999.000,   -999.0,9,   -999.0, -999.000,9, -999.000, -999.000,9, -999.000,   -999.0,9,   -999.0, -999.000,9, -999.000,9, -999.000,9
  49NZ20140717,   P01,    55,  1,     29, X12J29,2,20140722,0546, 39.6931, 147.9137, 5343,    430.5,2,   3.1451,2,   3.14427,2,  34.0111,2,  34.0101,2,-999.0000,9,    46.35,2,    47.26,2,   99.783,   0.0087,2,    0.009,2,  -999.00,9,    2.795,1,    0.000,2,   112.55,2,     0.14,    42.54,2,     0.05,     0.00,2,     0.01,     3.04,2,     0.01,  -999.00,9,  -999.00, -999.000,9, -999.000,9, -999.000,9, -999.000,9,   -999.0,9,   -999.0,9,   -999.0,9,-999.0000,     -999,9, -999.000,9,  -999.00,9, -999.000,9, -999.000,   -999.0,9,   -999.0, -999.000,9, -999.000, -999.000,9, -999.000,   -999.0,9,   -999.0, -999.000,9, -999.000,9, -999.000,9
  49NZ20140717,   P01,    55,  1,     28, X12J28,2,20140722,0546, 39.6931, 147.9137, 5343,    529.5,2,   3.1875,2,   3.18767,2,  34.1330,2,  34.1325,2,-999.0000,9,    32.93,2,    33.05,2,   99.809,   0.0077,2,    0.008,2,  -999.00,9,    2.787,1,    0.000,2,   123.36,2,     0.15,    43.25,2,     0.05,     0.00,2,     0.01,     3.09,2,     0.01,  -999.00,9,  -999.00, -999.000,9, -999.000,9, -999.000,9, -999.000,9,   -999.0,9,   -999.0,9,   -999.0,9,-999.0000,     -999,9, -999.000,9,  -999.00,9, -999.000,9, -999.000,   -999.0,9,   -999.0, -999.000,9, -999.000, -999.000,9, -999.000,   -999.0,9,   -999.0, -999.000,9, -999.000,9, -999.000,9
  49NZ20140717,   P01,    55,  1,     27, X12J27,2,20140722,0546, 39.6931, 147.9137, 5343,    629.9,2,   3.1593,2,   3.16063,2,  34.2257,2,  34.2204,2,-999.0000,9,    29.21,2,    27.88,2,   99.806,   0.0077,2,    0.007,2,  -999.00,9,    2.856,1,    0.000,2,   131.52,2,     0.16,    43.50,2,     0.05,     0.00,2,     0.01,     3.10,2,     0.01,  -999.00,9,  -999.00, -999.000,9, -999.000,9, -999.000,9, -999.000,9,   -999.0,9,   -999.0,9,   -999.0,9,-999.0000,     -999,9, -999.000,9,  -999.00,9, -999.000,9, -999.000,   -999.0,9,   -999.0, -999.000,9, -999.000, -999.000,9, -999.000,   -999.0,9,   -999.0, -999.000,9, -999.000,9, -999.000,9
  49NZ20140717,   P01,    55,  1,     26, X12J26,2,20140722,0546, 39.6931, 147.9137, 5343,    728.6,2,   3.0730,2,   3.07380,2,  34.2950,2,  34.2950,2,-999.0000,9,    32.83,2,    33.15,2,   99.832,   0.0067,2,    0.006,2,  -999.00,9,    2.754,1,    0.000,2,   135.78,2,     0.16,    42.98,2,     0.05,     0.00,2,     0.01,     3.07,2,     0.01,  -999.00,9,  -999.00, -999.000,9, -999.000,9, -999.000,9, -999.000,9,   -999.0,9,   -999.0,9,   -999.0,9,-999.0000,     -999,9, -999.000,9,  -999.00,9, -999.000,9, -999.000,   -999.0,9,   -999.0, -999.000,9, -999.000, -999.000,9, -999.000,   -999.0,9,   -999.0, -999.000,9, -999.000,9, -999.000,9
  49NZ20140717,   P01,    55,  1,     25, X12J25,2,20140722,0546, 39.6931, 147.9137, 5343,    828.7,2,   2.7832,2,   2.78316,2,  34.3330,2,  34.3341,2,-999.0000,9,    28.62,2,    28.72,2,   99.828,   0.0069,2,    0.006,2,  -999.00,9,    2.874,1,    0.000,2,   145.17,2,     0.16,    43.40,2,     0.05,     0.00,2,     0.01,     3.10,2,     0.01,  -999.00,9,  -999.00, -999.000,9, -999.000,9, -999.000,9, -999.000,9,   -999.0,9,   -999.0,9,   -999.0,9,-999.0000,     -999,9, -999.000,9,  -999.00,9, -999.000,9, -999.000,   -999.0,9,   -999.0, -999.000,9, -999.000, -999.000,9, -999.000,   -999.0,9,   -999.0, -999.000,9, -999.000,9, -999.000,9
  49NZ20140717,   P01,    55,  1,     24, X12J24,2,20140722,0546, 39.6931, 147.9137, 5343,    930.0,2,   2.8282,2,   2.82800,2,  34.3974,2,  34.3981,2,-999.0000,9,    36.52,2,    36.68,2,   99.835,   0.0066,2,    0.005,2,  -999.00,9,    2.830,1,    0.000,2,   144.27,2,     0.16,    42.79,2,     0.05,     0.00,2,     0.01,     3.05,2,     0.01,  -999.00,9,  -999.00, -999.000,9, -999.000,9, -999.000,9, -999.000,9,   -999.0,9,   -999.0,9,   -999.0,9,-999.0000,     -999,9, -999.000,9,  -999.00,9, -999.000,9, -999.000,   -999.0,9,   -999.0, -999.000,9, -999.000, -999.000,9, -999.000,   -999.0,9,   -999.0, -999.000,9, -999.000,9, -999.000,9
  49NZ20140717,   P01,    55,  1,     23, X12J23,2,20140722,0546, 39.6931, 147.9137, 5343,   1070.6,2,   2.6600,2,   2.65973,2,  34.4509,2,  34.4505,2,-999.0000,9,    39.11,2,    39.20,2,   99.869,   0.0052,2,    0.004,2,  -999.00,9,    2.802,1,    0.000,2,   149.02,2,     0.17,    42.85,2,     0.05,     0.00,2,     0.01,     3.05,2,     0.01,  -999.00,9,  -999.00, -999.000,9, -999.000,9, -999.000,9, -999.000,9,   -999.0,9,   -999.0,9,   -999.0,9,-999.0000,     -999,9, -999.000,9,  -999.00,9, -999.000,9, -999.000,   -999.0,9,   -999.0, -999.000,9, -999.000, -999.000,9, -999.000,   -999.0,9,   -999.0, -999.000,9, -999.000,9, -999.000,9
  49NZ20140717,   P01,    55,  1,     22, X12J22,2,20140722,0546, 39.6931, 147.9137, 5343,   1269.0,2,   2.4045,2,   2.40427,2,  34.4993,2,  34.4999,2,-999.0000,9,    43.64,2,    43.64,2,   99.910,   0.0036,2,    0.003,2,  -999.00,9,    2.785,1,    0.000,2,   155.85,2,     0.17,    42.81,2,     0.05,     0.00,2,     0.01,     3.03,2,     0.01,  -999.00,9,  -999.00, -999.000,9, -999.000,9, -999.000,9, -999.000,9,   -999.0,9,   -999.0,9,   -999.0,9,-999.0000,     -999,9, -999.000,9,  -999.00,9, -999.000,9, -999.000,   -999.0,9,   -999.0, -999.000,9, -999.000, -999.000,9, -999.000,   -999.0,9,   -999.0, -999.000,9, -999.000,9, -999.000,9
  49NZ20140717,   P01,    55,  1,     21, X12J21,2,20140722,0546, 39.6931, 147.9137, 5343,   1470.0,2,   2.1992,2,   2.19863,2,  34.5386,2,  34.5400,2,-999.0000,9,    52.19,2,    52.71,2,   99.923,   0.0031,2,    0.003,2,  -999.00,9,    2.714,1,    0.000,2,   160.53,2,     0.17,    42.45,2,     0.05,     0.00,2,     0.01,     2.99,2,     0.01,  -999.00,9,  -999.00, -999.000,9, -999.000,9, -999.000,9, -999.000,9,   -999.0,9,   -999.0,9,   -999.0,9,-999.0000,     -999,9, -999.000,9,  -999.00,9, -999.000,9, -999.000,   -999.0,9,   -999.0, -999.000,9, -999.000, -999.000,9, -999.000,   -999.0,9,   -999.0, -999.000,9, -999.000,9, -999.000,9
  49NZ20140717,   P01,    55,  1,     20, X12J20,2,20140722,0546, 39.6931, 147.9137, 5343,   1669.7,2,   2.0504,2,   2.05029,2,  34.5707,2,  34.5712,2,-999.0000,9,    63.10,2,    63.07,2,   99.947,   0.0021,2,    0.002,2,  -999.00,9,    2.705,1,    0.000,2,   162.20,2,     0.18,    41.84,2,     0.05,     0.00,2,     0.01,     2.94,2,     0.01,  -999.00,9,  -999.00, -999.000,9, -999.000,9, -999.000,9, -999.000,9,   -999.0,9,   -999.0,9,   -999.0,9,-999.0000,     -999,9, -999.000,9,  -999.00,9, -999.000,9, -999.000,   -999.0,9,   -999.0, -999.000,9, -999.000, -999.000,9, -999.000,   -999.0,9,   -999.0, -999.000,9, -999.000,9, -999.000,9
  49NZ20140717,   P01,    55,  1,     19, X12J19,2,20140722,0546, 39.6931, 147.9137, 5343,   1868.6,2,   1.9200,2,   1.91982,2,  34.5963,2,  34.5967,2,-999.0000,9,    76.79,2,    76.99,2,   99.938,   0.0025,2,    0.001,2,  -999.00,9,    2.572,1,    0.000,2,   161.98,2,     0.18,    41.01,2,     0.05,     0.00,2,     0.01,     2.88,2,     0.01,  -999.00,9,  -999.00, -999.000,9, -999.000,9, -999.000,9, -999.000,9,   -999.0,9,   -999.0,9,   -999.0,9,-999.0000,     -999,9, -999.000,9,  -999.00,9, -999.000,9, -999.000,   -999.0,9,   -999.0, -999.000,9, -999.000, -999.000,9, -999.000,   -999.0,9,   -999.0, -999.000,9, -999.000,9, -999.000,9
  49NZ20140717,   P01,    55,  1,     18, X12J18,2,20140722,0546, 39.6931, 147.9137, 5343,   2070.2,2,   1.8227,2,   1.82294,2,  34.6143,2,  34.6149,2,-999.0000,9,    88.03,2,    88.11,2,   99.949,   0.0020,2,    0.000,2,  -999.00,9,    2.604,1,    0.000,2,   161.43,2,     0.17,    40.34,2,     0.05,     0.00,2,     0.01,     2.82,2,     0.01,  -999.00,9,  -999.00, -999.000,9, -999.000,9, -999.000,9, -999.000,9,   -999.0,9,   -999.0,9,   -999.0,9,-999.0000,     -999,9, -999.000,9,  -999.00,9, -999.000,9, -999.000,   -999.0,9,   -999.0, -999.000,9, -999.000, -999.000,9, -999.000,   -999.0,9,   -999.0, -999.000,9, -999.000,9, -999.000,9
  49NZ20140717,   P01,    55,  1,     17, X12J17,2,20140722,0546, 39.6931, 147.9137, 5343,   2270.3,2,   1.7240,2,   1.72398,2,  34.6303,2,  34.6306,2,-999.0000,9,    98.57,2,    98.40,2,   99.983,   0.0007,2,   -0.001,2,  -999.00,9,    2.477,1,    0.000,2,   161.18,2,     0.17,    39.68,2,     0.05,     0.00,2,     0.01,     2.77,2,     0.01,  -999.00,9,  -999.00, -999.000,9, -999.000,9, -999.000,9, -999.000,9,   -999.0,9,   -999.0,9,   -999.0,9,-999.0000,     -999,9, -999.000,9,  -999.00,9, -999.000,9, -999.000,   -999.0,9,   -999.0, -999.000,9, -999.000, -999.000,9, -999.000,   -999.0,9,   -999.0, -999.000,9, -999.000,9, -999.000,9
  49NZ20140717,   P01,    55,  1,     16, X12J16,2,20140722,0546, 39.6931, 147.9137, 5343,   2469.8,2,   1.6506,2,   1.65058,2,  34.6428,2,  34.6431,2,-999.0000,9,   108.33,2,   108.02,2,   99.981,   0.0008,2,   -0.001,2,  -999.00,9,    2.387,1,    0.000,2,   160.18,2,     0.17,    39.06,2,     0.05,     0.00,2,     0.01,     2.72,2,     0.01,  -999.00,9,  -999.00, -999.000,9, -999.000,9, -999.000,9, -999.000,9,   -999.0,9,   -999.0,9,   -999.0,9,-999.0000,     -999,9, -999.000,9,  -999.00,9, -999.000,9, -999.000,   -999.0,9,   -999.0, -999.000,9, -999.000, -999.000,9, -999.000,   -999.0,9,   -999.0, -999.000,9, -999.000,9, -999.000,9
  49NZ20140717,   P01,    55,  1,     15, X12J15,2,20140722,0546, 39.6931, 147.9137, 5343,   2670.5,2,   1.5956,2,   1.59558,2,  34.6524,2,  34.6527,2,-999.0000,9,   117.21,2,   117.18,2,   99.985,   0.0006,2,   -0.002,2,  -999.00,9,    2.415,1,    0.000,2,   158.55,2,     0.17,    38.49,2,     0.05,     0.00,2,     0.01,     2.68,2,     0.01,  -999.00,9,  -999.00, -999.000,9, -999.000,9, -999.000,9, -999.000,9,   -999.0,9,   -999.0,9,   -999.0,9,-999.0000,     -999,9, -999.000,9,  -999.00,9, -999.000,9, -999.000,   -999.0,9,   -999.0, -999.000,9, -999.000, -999.000,9, -999.000,   -999.0,9,   -999.0, -999.000,9, -999.000,9, -999.000,9
  49NZ20140717,   P01,    55,  1,     14, X12J14,2,20140722,0546, 39.6931, 147.9137, 5343,   5330.2,2,   1.5403,2,   1.54007,2,  34.6904,2,  34.6908,2,-999.0000,9,   160.65,2,   160.72,2,   99.727,   0.0109,2,   -0.004,2,  -999.00,9,   -1.811,4,    0.000,2,  -999.00,9,  -999.00,  -999.00,9,  -999.00,  -999.00,9,  -999.00,  -999.00,9,  -999.00,  -999.00,9,  -999.00, -999.000,9, -999.000,9, -999.000,9, -999.000,9,   -999.0,9,   -999.0,9,   -999.0,9,-999.0000,     -999,9, -999.000,9,  -999.00,9, -999.000,9, -999.000,   -999.0,9,   -999.0, -999.000,9, -999.000, -999.000,9, -999.000,   -999.0,9,   -999.0, -999.000,9, -999.000,9, -999.000,9
  49NZ20140717,   P01,    55,  1,     13, X12113,2,20140722,0546, 39.6931, 147.9137, 5343,   3079.9,2,   1.5213,2,   1.52104,2,  34.6660,2,  34.6664,2,-999.0000,9,   131.00,2,   130.63,2,   99.968,   0.0013,2,   -0.003,2,  -999.00,9,    2.196,1,    0.000,2,   155.47,2,     0.17,    37.52,2,     0.05,    -0.01,2,     0.01,     2.60,2,     0.01,  -999.00,9,  -999.00, -999.000,9, -999.000,9, -999.000,9, -999.000,9,   -999.0,9,   -999.0,9,   -999.0,9,-999.0000,     -999,9, -999.000,9,  -999.00,9, -999.000,9, -999.000,   -999.0,9,   -999.0, -999.000,9, -999.000, -999.000,9, -999.000,   -999.0,9,   -999.0, -999.000,9, -999.000,9, -999.000,9
  49NZ20140717,   P01,    55,  1,     12, X12J12,2,20140722,0546, 39.6931, 147.9137, 5343,   3329.9,2,   1.4904,2,   1.49052,2,  34.6722,2,  34.6723,2,-999.0000,9,   137.50,2,   137.25,2,   99.985,   0.0006,2,   -0.003,2,  -999.00,9,    2.150,1,    0.000,2,   154.13,2,     0.17,    37.11,2,     0.05,    -0.01,2,     0.01,     2.57,2,     0.01,  -999.00,9,  -999.00, -999.000,9, -999.000,9, -999.000,9, -999.000,9,   -999.0,9,   -999.0,9,   -999.0,9,-999.0000,     -999,9, -999.000,9,  -999.00,9, -999.000,9, -999.000,   -999.0,9,   -999.0, -999.000,9, -999.000, -999.000,9, -999.000,   -999.0,9,   -999.0, -999.000,9, -999.000,9, -999.000,9
  49NZ20140717,   P01,    55,  1,     11, X12J11,2,20140722,0546, 39.6931, 147.9137, 5343,   3580.3,2,   1.4685,2,   1.46879,2,  34.6774,2,  34.6775,2,-999.0000,9,   143.33,2,   143.10,2,   99.977,   0.0009,2,   -0.003,2,  -999.00,9,    2.123,1,    0.000,2,   152.68,2,     0.17,    36.79,2,     0.05,    -0.01,2,     0.01,     2.54,2,     0.01,  -999.00,9,  -999.00, -999.000,9, -999.000,9, -999.000,9, -999.000,9,   -999.0,9,   -999.0,9,   -999.0,9,-999.0000,     -999,9, -999.000,9,  -999.00,9, -999.000,9, -999.000,   -999.0,9,   -999.0, -999.000,9, -999.000, -999.000,9, -999.000,   -999.0,9,   -999.0, -999.000,9, -999.000,9, -999.000,9
  49NZ20140717,   P01,    55,  1,     10, X12J10,2,20140722,0546, 39.6931, 147.9137, 5343,   3830.3,2,   1.4564,2,   1.45628,2,  34.6810,2,  34.6808,2,-999.0000,9,   148.12,2,   147.97,2,   99.998,   0.0001,2,   -0.004,2,  -999.00,9,    2.066,1,    0.000,2,   151.68,2,     0.17,    36.45,2,     0.05,    -0.01,2,     0.01,     2.52,2,     0.01,  -999.00,9,  -999.00, -999.000,9, -999.000,9, -999.000,9, -999.000,9,   -999.0,9,   -999.0,9,   -999.0,9,-999.0000,     -999,9, -999.000,9,  -999.00,9, -999.000,9, -999.000,   -999.0,9,   -999.0, -999.000,9, -999.000, -999.000,9, -999.000,   -999.0,9,   -999.0, -999.000,9, -999.000,9, -999.000,9