BOTTLE,20230904JAMSTECRIGC
EXPOCODE,SECT,STNNBR,CASTNO,SAMPNO,BTLNBR,BTLNBR_FLAG_W,DATE,TIME,LATITUDE,LONGITUDE,DEPTH,CTDPRS,CTDPRS_FLAG_W,CTDTMP,CTDTMP_FLAG_W,SBE35,SBE35_FLAG_W,CTDSAL,CTDSAL_FLAG_W,SALNTY,SALNTY_FLAG_W,DNSSAL,DNSSAL_FLAG_W,CTDOXY,CTDOXY_FLAG_W,OXYGEN,OXYGEN_FLAG_W,XMISS,XMISSCP,XMISS_FLAG_W,FLUOR,FLUOR_FLAG_W,CHLORA,CHLORA_FLAG_W,CDOM,CDOM_FLAG_W,PAR,PAR_FLAG_W,SILCAT,SILCAT_FLAG_W,SILUNC,NITRAT,NITRAT_FLAG_W,NRAUNC,NITRIT,NITRIT_FLAG_W,NRIUNC,PHSPHT,PHSPHT_FLAG_W,PHPUNC,AMMONIA,AMMONIA_FLAG_W,NH4UNC,CFC-11,CFC-11_FLAG_W,CFC-12,CFC-12_FLAG_W,CFC113,CFC113_FLAG_W,SF6,SF6_FLAG_W,TCARBN,TCARBN_FLAG_W,ALKALI,ALKALI_FLAG_W,ALKALI_POT,ALKALI_POT_FLAG_W,PH_TOT,PH_TMP,PH_TOT_FLAG_W,CALCIUM,CALCIUM_FLAG_W,DOC,DOC_FLAG_W,DELC13,DELC13_FLAG_W,C13ERR,DELC14,DELC14_FLAG_W,C14ERR,CS-134,CS-134_FLAG_W,CS134ER,CS-137,CS-137_FLAG_W,CS137ER,I-129,I-129_FLAG_W,I-129ER,CDOM-325,CDOM-325_FLAG_W,CDOM-370,CDOM-370_FLAG_W,CDOM-443,CDOM-443_FLAG_W
,,,,,,,,UTC,DEG,DEG,METERS,DBAR,,ITS-90,,ITS-90,,PSS-78,,PSS-78,,G/KG,,UMOL/KG,,UMOL/KG,,%TRANS,/METER,,MG/CUM,,MG/CUM,,MG/CUM,,UE/SQM/S,,UMOL/KG,,UMOL/KG,UMOL/KG,,UMOL/KG,UMOL/KG,,UMOL/KG,UMOL/KG,,UMOL/KG,UMOL/KG,,UMOL/KG,PMOL/KG,,PMOL/KG,,PMOL/KG,,FMOL/KG,,UMOL/KG,,UMOL/KG,,UMOL/KG,,,DEG C,,MMOL/KG,,UMOL/KG,,/MILLE,,/MILLE,/MILLE,,/MILLE,MBQ/KG,,MBQ/KG,MBQ/KG,,MBQ/KG,,,,/METER,,/METER,,/METER,
  49NZ20140717,   P01,    78,  1,      9, X12J09,2,20140730,0633, 46.9763, 165.6373, 5887,   3999.3,2,   1.4808,2,   1.48098,2,  34.6807,2,  34.6800,2,-999.0000,9,   146.65,2,   146.20,2,   99.968,   0.0013,2,    0.001,2,  -999.00,9,    2.487,4,    0.000,2,   153.48,2,     0.17,    36.40,2,     0.05,     0.00,2,     0.01,     2.54,2,     0.01,  -999.00,9,  -999.00,    0.000,2,    0.000,2,    0.000,2, -999.000,9,   -999.0,9,   -999.0,9,   -999.0,9,-999.0000,     -999,9, -999.000,9,  -999.00,9, -999.000,9, -999.000,   -999.0,9,   -999.0, -999.000,9, -999.000, -999.000,9, -999.000,   -999.0,9,   -999.0, -999.000,9, -999.000,9, -999.000,9
  49NZ20140717,   P01,    78,  1,      8, X12J08,2,20140730,0633, 46.9763, 165.6373, 5887,   4251.0,2,   1.4817,2,   1.48199,2,  34.6837,2,  34.6832,2,-999.0000,9,   150.20,2,   149.85,2,   99.968,   0.0013,2,    0.001,2,  -999.00,9,    2.164,4,    0.000,2,   152.58,2,     0.17,    36.18,2,     0.05,     0.00,2,     0.01,     2.52,2,     0.01,  -999.00,9,  -999.00,    0.000,2,    0.000,2,    0.000,2, -999.000,9,   -999.0,9,   -999.0,9,   -999.0,9,-999.0000,     -999,9, -999.000,9,  -999.00,9, -999.000,9, -999.000,   -999.0,9,   -999.0, -999.000,9, -999.000, -999.000,9, -999.000,   -999.0,9,   -999.0, -999.000,9, -999.000,9, -999.000,9
  49NZ20140717,   P01,    78,  1,      7, X12J07,2,20140730,0633, 46.9763, 165.6373, 5887,   4499.9,2,   1.4925,2,   1.49274,2,  34.6855,2,  34.6849,2,-999.0000,9,   152.70,2,   152.34,2,   99.985,   0.0006,2,    0.001,2,  -999.00,9,   -0.711,4,    0.000,2,   152.09,2,     0.17,    36.02,2,     0.05,     0.00,2,     0.01,     2.51,2,     0.01,  -999.00,9,  -999.00,    0.000,2,    0.000,2,    0.000,2, -999.000,9,   -999.0,9,   -999.0,9,   -999.0,9,-999.0000,     -999,9, -999.000,9,  -999.00,9, -999.000,9, -999.000,   -999.0,9,   -999.0, -999.000,9, -999.000, -999.000,9, -999.000,   -999.0,9,   -999.0, -999.000,9, -999.000,9, -999.000,9
  49NZ20140717,   P01,    78,  1,      6, X12J06,2,20140730,0633, 46.9763, 165.6373, 5887,   4750.9,2,   1.5075,2,   1.50754,2,  34.6870,2,  34.6867,2,-999.0000,9,   154.70,2,   154.27,2,   99.980,   0.0008,2,    0.000,2,  -999.00,9,   -1.865,4,    0.000,2,   151.85,2,     0.17,    35.89,2,     0.05,     0.00,2,     0.01,     2.50,2,     0.01,  -999.00,9,  -999.00,    0.000,2,    0.000,2,    0.000,2, -999.000,9,   -999.0,9,   -999.0,9,   -999.0,9,-999.0000,     -999,9, -999.000,9,  -999.00,9, -999.000,9, -999.000,   -999.0,9,   -999.0, -999.000,9, -999.000, -999.000,9, -999.000,   -999.0,9,   -999.0, -999.000,9, -999.000,9, -999.000,9
  49NZ20140717,   P01,    78,  1,      5, X12J05,2,20140730,0633, 46.9763, 165.6373, 5887,   4998.9,2,   1.5261,2,   1.52623,2,  34.6883,2,  34.6880,2,-999.0000,9,   156.21,2,   155.82,2,   99.993,   0.0003,2,    0.000,2,  -999.00,9,  497.217,4,    0.000,2,   151.49,2,     0.17,    35.77,2,     0.05,     0.00,2,     0.01,     2.49,2,     0.01,  -999.00,9,  -999.00,    0.000,2,    0.000,2,    0.000,2, -999.000,9,   -999.0,9,   -999.0,9,   -999.0,9,-999.0000,     -999,9, -999.000,9,  -999.00,9, -999.000,9, -999.000,   -999.0,9,   -999.0, -999.000,9, -999.000, -999.000,9, -999.000,   -999.0,9,   -999.0, -999.000,9, -999.000,9, -999.000,9
  49NZ20140717,   P01,    78,  1,      4, X12J04,2,20140730,0633, 46.9763, 165.6373, 5887,   5250.2,2,   1.5494,2,   1.54958,2,  34.6893,2,  34.6889,2,-999.0000,9,   157.08,2,   156.81,2,   99.991,   0.0003,2,    0.001,2,  -999.00,9,  497.217,4,    0.000,2,   152.19,2,     0.17,    35.70,2,     0.05,     0.00,2,     0.01,     2.48,2,     0.01,  -999.00,9,  -999.00,    0.001,2,    0.000,2,    0.000,2, -999.000,9,   -999.0,9,   -999.0,9,   -999.0,9,-999.0000,     -999,9, -999.000,9,  -999.00,9, -999.000,9, -999.000,   -999.0,9,   -999.0, -999.000,9, -999.000, -999.000,9, -999.000,   -999.0,9,   -999.0, -999.000,9, -999.000,9, -999.000,9
  49NZ20140717,   P01,    78,  1,      3, X12J03,2,20140730,0633, 46.9763, 165.6373, 5887,   5499.1,2,   1.5792,2,   1.57921,2,  34.6896,2,  34.6891,2,-999.0000,9,   157.20,2,   156.98,2,   99.968,   0.0013,2,    0.000,2,  -999.00,9,  497.217,4,    0.000,2,   153.02,2,     0.17,    35.67,2,     0.05,     0.00,2,     0.01,     2.48,2,     0.01,  -999.00,9,  -999.00,    0.001,2,    0.001,2,    0.000,2, -999.000,9,   -999.0,9,   -999.0,9,   -999.0,9,-999.0000,     -999,9, -999.000,9,  -999.00,9, -999.000,9, -999.000,   -999.0,9,   -999.0, -999.000,9, -999.000, -999.000,9, -999.000,   -999.0,9,   -999.0, -999.000,9, -999.000,9, -999.000,9
  49NZ20140717,   P01,    78,  1,      2, X12J02,2,20140730,0633, 46.9763, 165.6373, 5887,   5749.7,2,   1.6127,2,   1.61268,2,  34.6896,2,  34.6897,2,-999.0000,9,   157.03,2,   157.13,2,   99.935,   0.0026,2,    0.001,2,  -999.00,9,  497.217,4,    0.000,2,   153.32,2,     0.17,    35.70,2,     0.05,     0.00,2,     0.01,     2.49,2,     0.01,  -999.00,9,  -999.00,    0.003,2,    0.002,2,    0.000,2, -999.000,9,   -999.0,9,   -999.0,9,   -999.0,9,-999.0000,     -999,9, -999.000,9,  -999.00,9, -999.000,9, -999.000,   -999.0,9,   -999.0, -999.000,9, -999.000, -999.000,9, -999.000,   -999.0,9,   -999.0, -999.000,9, -999.000,9, -999.000,9
  49NZ20140717,   P01,    78,  1,      1, X12J01,2,20140730,0633, 46.9763, 165.6373, 5887,   6002.9,2,   1.6479,2,   1.64782,2,  34.6894,2,  34.6895,2,-999.0000,9,   156.84,2,   157.07,2,   99.913,   0.0035,2,    0.001,2,  -999.00,9,  494.380,4,    0.000,2,   153.24,2,     0.17,    35.69,2,     0.05,     0.00,2,     0.01,     2.49,2,     0.01,  -999.00,9,  -999.00,    0.001,2,    0.002,2,    0.000,2, -999.000,9,   -999.0,9,   -999.0,9,   -999.0,9,-999.0000,     -999,9, -999.000,9,  -999.00,9, -999.000,9, -999.000,   -999.0,9,   -999.0, -999.000,9, -999.000, -999.000,9, -999.000,   -999.0,9,   -999.0, -999.000,9, -999.000,9, -999.000,9