BOTTLE,20230904JAMSTECRIGC
EXPOCODE,SECT,STNNBR,CASTNO,SAMPNO,BTLNBR,BTLNBR_FLAG_W,DATE,TIME,LATITUDE,LONGITUDE,DEPTH,CTDPRS,CTDPRS_FLAG_W,CTDTMP,CTDTMP_FLAG_W,SBE35,SBE35_FLAG_W,CTDSAL,CTDSAL_FLAG_W,SALNTY,SALNTY_FLAG_W,DNSSAL,DNSSAL_FLAG_W,CTDOXY,CTDOXY_FLAG_W,OXYGEN,OXYGEN_FLAG_W,XMISS,XMISSCP,XMISS_FLAG_W,FLUOR,FLUOR_FLAG_W,CHLORA,CHLORA_FLAG_W,CDOM,CDOM_FLAG_W,PAR,PAR_FLAG_W,SILCAT,SILCAT_FLAG_W,SILUNC,NITRAT,NITRAT_FLAG_W,NRAUNC,NITRIT,NITRIT_FLAG_W,NRIUNC,PHSPHT,PHSPHT_FLAG_W,PHPUNC,AMMONIA,AMMONIA_FLAG_W,NH4UNC,CFC-11,CFC-11_FLAG_W,CFC-12,CFC-12_FLAG_W,CFC113,CFC113_FLAG_W,SF6,SF6_FLAG_W,TCARBN,TCARBN_FLAG_W,ALKALI,ALKALI_FLAG_W,ALKALI_POT,ALKALI_POT_FLAG_W,PH_TOT,PH_TMP,PH_TOT_FLAG_W,CALCIUM,CALCIUM_FLAG_W,DOC,DOC_FLAG_W,DELC13,DELC13_FLAG_W,C13ERR,DELC14,DELC14_FLAG_W,C14ERR,CS-134,CS-134_FLAG_W,CS134ER,CS-137,CS-137_FLAG_W,CS137ER,I-129,I-129_FLAG_W,I-129ER,CDOM-325,CDOM-325_FLAG_W,CDOM-370,CDOM-370_FLAG_W,CDOM-443,CDOM-443_FLAG_W
,,,,,,,,UTC,DEG,DEG,METERS,DBAR,,ITS-90,,ITS-90,,PSS-78,,PSS-78,,G/KG,,UMOL/KG,,UMOL/KG,,%TRANS,/METER,,MG/CUM,,MG/CUM,,MG/CUM,,UE/SQM/S,,UMOL/KG,,UMOL/KG,UMOL/KG,,UMOL/KG,UMOL/KG,,UMOL/KG,UMOL/KG,,UMOL/KG,UMOL/KG,,UMOL/KG,PMOL/KG,,PMOL/KG,,PMOL/KG,,FMOL/KG,,UMOL/KG,,UMOL/KG,,UMOL/KG,,,DEG C,,MMOL/KG,,UMOL/KG,,/MILLE,,/MILLE,/MILLE,,/MILLE,MBQ/KG,,MBQ/KG,MBQ/KG,,MBQ/KG,,,,/METER,,/METER,,/METER,
  49NZ20140717,   P01,    45,  1,      9, X12J09,2,20140719,0138, 41.8736, 146.3193, 6760,   4000.0,2,   1.4836,2,   1.48376,2,  34.6806,2,  34.6801,2,  34.8610,2,   147.41,2,   147.09,2, -999.000,-999.0000,9, -999.000,9,  -999.00,9, -999.000,9,    0.000,2,   150.97,2,     0.17,    36.32,2,     0.05,     0.01,2,     0.01,     2.54,2,     0.01,     0.01,2,     0.01,    0.000,2,    0.000,2,    0.000,2, -999.000,9,   2329.7,2,   2418.4,2,   -999.0,9,   7.5677,       25,2, -999.000,9,    40.84,2, -999.000,9, -999.000,   -999.0,9,   -999.0, -999.000,9, -999.000, -999.000,9, -999.000,   -999.0,9,   -999.0, -999.000,9, -999.000,9, -999.000,9
  49NZ20140717,   P01,    45,  1,      8, X12J08,2,20140719,0138, 41.8736, 146.3193, 6760,   4250.0,2,   1.4787,2,   1.47891,2,  34.6840,2,  34.6837,2,  34.8662,2,   151.77,2,   151.36,2, -999.000,-999.0000,9, -999.000,9,  -999.00,9, -999.000,9,    0.000,2,   149.75,2,     0.17,    36.00,2,     0.05,     0.01,2,     0.01,     2.52,2,     0.01,    -0.01,2,     0.01,    0.001,2,    0.001,2,    0.000,2, -999.000,9,   2327.9,6,   2417.5,2,   -999.0,9,   7.5742,       25,2, -999.000,9,    41.02,2, -999.000,9, -999.000,   -999.0,9,   -999.0, -999.000,9, -999.000, -999.000,9, -999.000,   -999.0,9,   -999.0, -999.000,9, -999.000,9, -999.000,9
  49NZ20140717,   P01,    45,  1,      7, X12J07,2,20140719,0138, 41.8736, 146.3193, 6760,   4500.2,2,   1.4784,2,   1.47847,2,  34.6868,2,  34.6862,2,  34.8675,2,   155.62,2,   155.20,2, -999.000,-999.0000,9, -999.000,9,  -999.00,9, -999.000,9,    0.000,2,   148.68,2,     0.17,    35.73,2,     0.05,     0.01,2,     0.01,     2.50,2,     0.01,     0.02,2,     0.01,    0.003,2,    0.002,2,    0.000,2, -999.000,9,   2323.1,2,   2417.4,2,   -999.0,9,   7.5795,       25,6, -999.000,9,    39.03,2, -999.000,9, -999.000,   -999.0,9,   -999.0, -999.000,9, -999.000, -999.000,9, -999.000,   -999.0,9,   -999.0, -999.000,9, -999.000,9, -999.000,9
  49NZ20140717,   P01,    45,  1,      6, X12J06,2,20140719,0138, 41.8736, 146.3193, 6760,   4751.2,2,   1.4901,2,   1.49001,2,  34.6886,2,  34.6883,2,  34.8689,2,   158.35,2,   157.68,2, -999.000,-999.0000,9, -999.000,9,  -999.00,9, -999.000,9,    0.000,2,   147.40,2,     0.57,    35.59,2,     0.05,     0.01,2,     0.01,     2.48,2,     0.01,    -0.02,2,     0.01,    0.003,2,    0.000,2,    0.000,2, -999.000,9,   2321.3,2,   2416.1,6,   -999.0,9,   7.5835,       25,2, -999.000,9,    40.61,2, -999.000,9, -999.000,   -999.0,9,   -999.0, -999.000,9, -999.000, -999.000,9, -999.000,   -999.0,9,   -999.0, -999.000,9, -999.000,9, -999.000,9
  49NZ20140717,   P01,    45,  1,      5, X12J05,2,20140719,0138, 41.8736, 146.3193, 6760,   4999.8,2,   1.5094,2,   1.50935,2,  34.6898,2,  34.6895,2,  34.8708,2,   159.99,2,   159.40,2, -999.000,-999.0000,9, -999.000,9,  -999.00,9, -999.000,9,    0.000,2,   146.38,2,     0.17,    35.48,2,     0.05,     0.01,2,     0.01,     2.48,2,     0.01,    -0.01,2,     0.01,    0.008,2,    0.001,2,    0.000,2, -999.000,9,   2321.5,2,   2414.8,2,   -999.0,9,   7.5867,       25,2, -999.000,9,    38.59,2, -999.000,9, -999.000,   -999.0,9,   -999.0, -999.000,9, -999.000, -999.000,9, -999.000,   -999.0,9,   -999.0, -999.000,9, -999.000,9, -999.000,9
  49NZ20140717,   P01,    45,  1,      4, X12J04,2,20140719,0138, 41.8736, 146.3193, 6760,   5249.9,2,   1.5308,2,   1.53078,2,  34.6907,2,  34.6906,2,  34.8708,2,   161.25,2,   160.63,2, -999.000,-999.0000,9, -999.000,9,  -999.00,9, -999.000,9,    0.000,2,   146.24,2,     0.17,    35.36,2,     0.05,     0.01,2,     0.01,     2.47,2,     0.01,    -0.01,2,     0.01,    0.008,2,    0.000,2,    0.000,2, -999.000,9,   2318.5,2,   2412.3,2,   -999.0,9,   7.5882,       25,2, -999.000,9,    39.12,2, -999.000,9, -999.000,   -999.0,9,   -999.0, -999.000,9, -999.000, -999.000,9, -999.000,   -999.0,9,   -999.0, -999.000,9, -999.000,9, -999.000,9
  49NZ20140717,   P01,    45,  1,      3, X12J03,2,20140719,0138, 41.8736, 146.3193, 6760,   5501.6,2,   1.5593,2,   1.55925,2,  34.6911,2,  34.6907,2,  34.8715,2,   161.92,2,   161.29,2, -999.000,-999.0000,9, -999.000,9,  -999.00,9, -999.000,9,    0.000,2,   146.10,2,     0.42,    35.25,2,     0.05,     0.01,2,     0.01,     2.46,2,     0.01,    -0.01,2,     0.01,    0.017,2,    0.006,2,    0.000,2, -999.000,9,   2317.7,2,   2415.6,2,   -999.0,9,   7.5893,       25,2, -999.000,9,    39.17,2, -999.000,9, -999.000,   -999.0,9,   -999.0, -999.000,9, -999.000, -999.000,9, -999.000,   -999.0,9,   -999.0, -999.000,9, -999.000,9, -999.000,9
  49NZ20140717,   P01,    45,  1,      2, X12J02,2,20140719,0138, 41.8736, 146.3193, 6760,   5750.2,2,   1.5920,2,   1.59189,2,  34.6911,2,  34.6907,2,  34.8722,2,   162.04,2,   161.54,2, -999.000,-999.0000,9, -999.000,9,  -999.00,9, -999.000,9,    0.000,2,   146.18,2,     0.17,    35.32,2,     0.05,     0.01,2,     0.01,     2.47,2,     0.01,     0.03,2,     0.01,    0.013,2,    0.004,2,    0.000,2, -999.000,9,   2317.6,2,   2409.9,2,   -999.0,9,   7.5884,       25,2, -999.000,9,    41.80,3, -999.000,9, -999.000,   -999.0,9,   -999.0, -999.000,9, -999.000, -999.000,9, -999.000,   -999.0,9,   -999.0, -999.000,9, -999.000,9, -999.000,9
  49NZ20140717,   P01,    45,  1,      1, X12J01,2,20140719,0138, 41.8736, 146.3193, 6760,   6500.5,2,   1.6980,2,   1.69775,2,  34.6908,2,  34.6909,2,  34.8715,2,   161.38,2,   161.56,2, -999.000,-999.0000,9, -999.000,9,  -999.00,9, -999.000,9,    0.000,2,   146.07,2,     0.17,    35.31,2,     0.05,     0.01,2,     0.01,     2.48,2,     0.01,     0.00,2,     0.01,    0.008,2,    0.002,2,    0.000,2, -999.000,9,   2318.2,2,   2411.8,2,   -999.0,9,   7.5889,       25,2, -999.000,9,    37.88,2, -999.000,9, -999.000,   -999.0,9,   -999.0, -999.000,9, -999.000, -999.000,9, -999.000,   -999.0,9,   -999.0, -999.000,9, -999.000,9, -999.000,9