BOTTLE,20230904JAMSTECRIGC
EXPOCODE,SECT,STNNBR,CASTNO,SAMPNO,BTLNBR,BTLNBR_FLAG_W,DATE,TIME,LATITUDE,LONGITUDE,DEPTH,CTDPRS,CTDPRS_FLAG_W,CTDTMP,CTDTMP_FLAG_W,SBE35,SBE35_FLAG_W,CTDSAL,CTDSAL_FLAG_W,SALNTY,SALNTY_FLAG_W,DNSSAL,DNSSAL_FLAG_W,CTDOXY,CTDOXY_FLAG_W,OXYGEN,OXYGEN_FLAG_W,XMISS,XMISSCP,XMISS_FLAG_W,FLUOR,FLUOR_FLAG_W,CHLORA,CHLORA_FLAG_W,CDOM,CDOM_FLAG_W,PAR,PAR_FLAG_W,SILCAT,SILCAT_FLAG_W,SILUNC,NITRAT,NITRAT_FLAG_W,NRAUNC,NITRIT,NITRIT_FLAG_W,NRIUNC,PHSPHT,PHSPHT_FLAG_W,PHPUNC,AMMONIA,AMMONIA_FLAG_W,NH4UNC,CFC-11,CFC-11_FLAG_W,CFC-12,CFC-12_FLAG_W,CFC113,CFC113_FLAG_W,SF6,SF6_FLAG_W,TCARBN,TCARBN_FLAG_W,ALKALI,ALKALI_FLAG_W,ALKALI_POT,ALKALI_POT_FLAG_W,PH_TOT,PH_TMP,PH_TOT_FLAG_W,CALCIUM,CALCIUM_FLAG_W,DOC,DOC_FLAG_W,DELC13,DELC13_FLAG_W,C13ERR,DELC14,DELC14_FLAG_W,C14ERR,CS-134,CS-134_FLAG_W,CS134ER,CS-137,CS-137_FLAG_W,CS137ER,I-129,I-129_FLAG_W,I-129ER,CDOM-325,CDOM-325_FLAG_W,CDOM-370,CDOM-370_FLAG_W,CDOM-443,CDOM-443_FLAG_W
,,,,,,,,UTC,DEG,DEG,METERS,DBAR,,ITS-90,,ITS-90,,PSS-78,,PSS-78,,G/KG,,UMOL/KG,,UMOL/KG,,%TRANS,/METER,,MG/CUM,,MG/CUM,,MG/CUM,,UE/SQM/S,,UMOL/KG,,UMOL/KG,UMOL/KG,,UMOL/KG,UMOL/KG,,UMOL/KG,UMOL/KG,,UMOL/KG,UMOL/KG,,UMOL/KG,PMOL/KG,,PMOL/KG,,PMOL/KG,,FMOL/KG,,UMOL/KG,,UMOL/KG,,UMOL/KG,,,DEG C,,MMOL/KG,,UMOL/KG,,/MILLE,,/MILLE,/MILLE,,/MILLE,MBQ/KG,,MBQ/KG,MBQ/KG,,MBQ/KG,,,,/METER,,/METER,,/METER,
  49NZ20140717,   P01,    79,  2,      9, X12J09,2,20140730,1756, 46.9718, 166.7472, 5955,   4080.5,2,   1.4771,2,   1.47733,2,  34.6820,2,  34.6816,2,  34.8618,2,   148.26,2,   147.95,2,   99.976,   0.0010,2,    0.001,2,  -999.00,9,    2.089,4,    0.000,2,   153.04,2,     0.17,    36.35,2,     0.05,     0.00,2,     0.01,     2.53,2,     0.01,     0.00,2,     0.01, -999.000,9, -999.000,9, -999.000,9, -999.000,9,   2328.5,2,   2416.6,2,   -999.0,9,   7.5682,       25,2, -999.000,9,    37.28,2, -999.000,1, -999.000,   -999.0,1,   -999.0, -999.000,9, -999.000, -999.000,9, -999.000,   -999.0,9,   -999.0, -999.000,9, -999.000,9, -999.000,9
  49NZ20140717,   P01,    79,  2,      8, X12J08,2,20140730,1756, 46.9718, 166.7472, 5955,   4330.7,2,   1.4836,2,   1.48386,2,  34.6845,2,  34.6837,2,  34.8644,2,   151.12,2,   150.70,2,   99.980,   0.0008,2,    0.001,2,  -999.00,9,    0.346,4,    0.000,2,   152.07,2,     0.17,    36.18,2,     0.05,     0.00,2,     0.01,     2.51,2,     0.01,     0.02,2,     0.01, -999.000,9, -999.000,9, -999.000,9, -999.000,9,   2325.4,6,   2416.0,2,   -999.0,9,   7.5735,       25,2, -999.000,9,    37.15,2, -999.000,9, -999.000,   -999.0,9,   -999.0, -999.000,9, -999.000, -999.000,9, -999.000,   -999.0,9,   -999.0, -999.000,9, -999.000,9, -999.000,9
  49NZ20140717,   P01,    79,  2,      7, X12J07,2,20140730,1756, 46.9718, 166.7472, 5955,   4579.6,2,   1.4964,2,   1.49652,2,  34.6861,2,  34.6859,2,  34.8664,2,   153.41,2,   153.06,2,   99.998,   0.0001,2,    0.001,2,  -999.00,9,   -1.729,4,    0.000,2,   151.89,2,     0.17,    36.00,2,     0.05,     0.00,2,     0.01,     2.50,2,     0.01,     0.01,2,     0.01, -999.000,9, -999.000,9, -999.000,9, -999.000,9,   2322.4,2,   2417.7,2,   -999.0,9,   7.5774,       25,6, -999.000,9,    36.58,2, -999.000,1, -999.000,   -999.0,1,   -999.0, -999.000,9, -999.000, -999.000,9, -999.000,   -999.0,9,   -999.0, -999.000,9, -999.000,9, -999.000,9
  49NZ20140717,   P01,    79,  2,      6, X12J06,2,20140730,1756, 46.9718, 166.7472, 5955,   4831.5,2,   1.5138,2,   1.51374,2,  34.6873,2,  34.6870,2,  34.8671,2,   155.15,2,   154.80,2,  100.002,  -0.0001,2,    0.001,2,  -999.00,9,  497.217,4,    0.000,2,   151.42,2,     0.17,    35.90,2,     0.05,     0.00,2,     0.01,     2.49,2,     0.01,     0.01,2,     0.01, -999.000,9, -999.000,9, -999.000,9, -999.000,9,   2323.4,2,   2416.2,6,   -999.0,9,   7.5803,       25,2, -999.000,9,    37.34,2, -999.000,9, -999.000,   -999.0,9,   -999.0, -999.000,9, -999.000, -999.000,9, -999.000,   -999.0,9,   -999.0, -999.000,9, -999.000,9, -999.000,9
  49NZ20140717,   P01,    79,  2,      5, X12J05,2,20140730,1756, 46.9718, 166.7472, 5955,   5083.0,2,   1.5356,2,   1.53563,2,  34.6884,2,  34.6880,2,  34.8677,2,   156.30,2,   155.95,2,  100.013,  -0.0005,2,    0.001,2,  -999.00,9,  497.217,4,    0.000,2,   151.65,2,     0.17,    35.83,2,     0.05,     0.00,2,     0.01,     2.49,2,     0.01,     0.01,2,     0.01, -999.000,9, -999.000,9, -999.000,9, -999.000,9,   2321.1,2,   2413.9,2,   -999.0,9,   7.5816,       25,2, -999.000,9,    40.20,2, -999.000,1, -999.000,   -999.0,1,   -999.0, -999.000,9, -999.000, -999.000,9, -999.000,   -999.0,9,   -999.0, -999.000,9, -999.000,9, -999.000,9
  49NZ20140717,   P01,    79,  2,      4, X12J04,2,20140730,1756, 46.9718, 166.7472, 5955,   5329.8,2,   1.5607,2,   1.56066,2,  34.6891,2,  34.6887,2,  34.8704,2,   157.01,2,   156.89,2,  100.002,  -0.0001,2,    0.001,2,  -999.00,9,  497.217,4,    0.000,2,   151.85,2,     0.17,    35.75,2,     0.05,     0.00,2,     0.01,     2.48,2,     0.01,     0.00,2,     0.01, -999.000,9, -999.000,9, -999.000,9, -999.000,9,   2323.0,2,   2418.0,2,   -999.0,9,   7.5838,       25,2, -999.000,9,    38.41,2, -999.000,9, -999.000,   -999.0,9,   -999.0, -999.000,9, -999.000, -999.000,9, -999.000,   -999.0,9,   -999.0, -999.000,9, -999.000,9, -999.000,9
  49NZ20140717,   P01,    79,  2,      3, X12J03,2,20140730,1756, 46.9718, 166.7472, 5955,   5580.1,2,   1.5902,2,   1.59016,2,  34.6896,2,  34.6880,3,  34.8691,2,   157.18,2,   157.05,2,   99.926,   0.0030,2,    0.001,2,  -999.00,9,  497.217,4,    0.000,2,   153.14,2,     0.47,    35.75,2,     0.05,     0.00,2,     0.01,     2.48,2,     0.01,     0.01,2,     0.01, -999.000,9, -999.000,9, -999.000,9, -999.000,9,   2322.5,2,   2416.9,2,   -999.0,9,   7.5847,       25,2, -999.000,9,    38.27,2, -999.000,9, -999.000,   -999.0,9,   -999.0, -999.000,9, -999.000, -999.000,9, -999.000,   -999.0,9,   -999.0, -999.000,9, -999.000,9, -999.000,9
  49NZ20140717,   P01,    79,  2,      2, X12J02,2,20140730,1756, 46.9718, 166.7472, 5955,   5830.0,2,   1.6241,2,   1.62405,2,  34.6895,2,  34.6895,2,  34.8710,2,   156.94,2,   157.08,2,   99.905,   0.0038,2,    0.001,2,  -999.00,9,  497.217,4,    0.000,2,   153.36,2,     0.17,    35.78,2,     0.05,     0.00,2,     0.01,     2.48,2,     0.01,     0.01,2,     0.01, -999.000,9, -999.000,9, -999.000,9, -999.000,9,   2319.4,2,   2414.1,2,   -999.0,9,   7.5842,       25,2, -999.000,9,    33.92,2, -999.000,9, -999.000,   -999.0,9,   -999.0, -999.000,9, -999.000, -999.000,9, -999.000,   -999.0,9,   -999.0, -999.000,9, -999.000,9, -999.000,9
  49NZ20140717,   P01,    79,  2,      1, X12J01,2,20140730,1756, 46.9718, 166.7472, 5955,   6073.9,2,   1.6583,2,   1.65814,2,  34.6894,2,  34.6889,2,  34.8704,2,   156.70,2,   157.20,2,   99.898,   0.0041,2,    0.001,2,  -999.00,9,  494.380,4,    0.000,2,   153.53,2,     0.17,    35.75,2,     0.05,     0.00,2,     0.01,     2.48,2,     0.01,     0.01,2,     0.01, -999.000,9, -999.000,9, -999.000,9, -999.000,9,   2321.6,2,   2414.4,2,   -999.0,9,   7.5844,       25,2, -999.000,9,    36.44,2, -999.000,1, -999.000,   -999.0,1,   -999.0, -999.000,9, -999.000, -999.000,9, -999.000,   -999.0,9,   -999.0, -999.000,9, -999.000,9, -999.000,9