BOTTLE,20230904JAMSTECRIGC
EXPOCODE,SECT,STNNBR,CASTNO,SAMPNO,BTLNBR,BTLNBR_FLAG_W,DATE,TIME,LATITUDE,LONGITUDE,DEPTH,CTDPRS,CTDPRS_FLAG_W,CTDTMP,CTDTMP_FLAG_W,SBE35,SBE35_FLAG_W,CTDSAL,CTDSAL_FLAG_W,SALNTY,SALNTY_FLAG_W,DNSSAL,DNSSAL_FLAG_W,CTDOXY,CTDOXY_FLAG_W,OXYGEN,OXYGEN_FLAG_W,XMISS,XMISSCP,XMISS_FLAG_W,FLUOR,FLUOR_FLAG_W,CHLORA,CHLORA_FLAG_W,CDOM,CDOM_FLAG_W,PAR,PAR_FLAG_W,SILCAT,SILCAT_FLAG_W,SILUNC,NITRAT,NITRAT_FLAG_W,NRAUNC,NITRIT,NITRIT_FLAG_W,NRIUNC,PHSPHT,PHSPHT_FLAG_W,PHPUNC,AMMONIA,AMMONIA_FLAG_W,NH4UNC,CFC-11,CFC-11_FLAG_W,CFC-12,CFC-12_FLAG_W,CFC113,CFC113_FLAG_W,SF6,SF6_FLAG_W,TCARBN,TCARBN_FLAG_W,ALKALI,ALKALI_FLAG_W,ALKALI_POT,ALKALI_POT_FLAG_W,PH_TOT,PH_TMP,PH_TOT_FLAG_W,CALCIUM,CALCIUM_FLAG_W,DOC,DOC_FLAG_W,DELC13,DELC13_FLAG_W,C13ERR,DELC14,DELC14_FLAG_W,C14ERR,CS-134,CS-134_FLAG_W,CS134ER,CS-137,CS-137_FLAG_W,CS137ER,I-129,I-129_FLAG_W,I-129ER,CDOM-325,CDOM-325_FLAG_W,CDOM-370,CDOM-370_FLAG_W,CDOM-443,CDOM-443_FLAG_W
,,,,,,,,UTC,DEG,DEG,METERS,DBAR,,ITS-90,,ITS-90,,PSS-78,,PSS-78,,G/KG,,UMOL/KG,,UMOL/KG,,%TRANS,/METER,,MG/CUM,,MG/CUM,,MG/CUM,,UE/SQM/S,,UMOL/KG,,UMOL/KG,UMOL/KG,,UMOL/KG,UMOL/KG,,UMOL/KG,UMOL/KG,,UMOL/KG,UMOL/KG,,UMOL/KG,PMOL/KG,,PMOL/KG,,PMOL/KG,,FMOL/KG,,UMOL/KG,,UMOL/KG,,UMOL/KG,,,DEG C,,MMOL/KG,,UMOL/KG,,/MILLE,,/MILLE,/MILLE,,/MILLE,MBQ/KG,,MBQ/KG,MBQ/KG,,MBQ/KG,,,,/METER,,/METER,,/METER,
  49NZ20140717,   P01,    46,  1,      9, X12J09,2,20140718,1922, 41.7148, 146.4303, 6512,   4079.9,2,   1.5143,2,   1.51434,2,  34.6784,2,  34.6781,2,-999.0000,9,   145.03,2,   144.57,2, -999.000,-999.0000,9, -999.000,9,  -999.00,9, -999.000,9,    0.000,2,   152.79,2,     0.17,    36.62,2,     0.05,    -0.01,2,     0.01,     2.55,2,     0.01,  -999.00,9,  -999.00,    0.000,2,    0.000,2,    0.000,2,    0.000,2,   -999.0,9,   -999.0,9,   -999.0,9,-999.0000,     -999,9, -999.000,9,  -999.00,9, -999.000,9, -999.000,   -999.0,9,   -999.0, -999.000,9, -999.000, -999.000,9, -999.000,   -999.0,9,   -999.0, -999.000,9, -999.000,9, -999.000,9
  49NZ20140717,   P01,    46,  1,      8, X12J08,2,20140718,1922, 41.7148, 146.4303, 6512,   4330.7,2,   1.5091,2,   1.50927,2,  34.6819,2,  34.6815,2,-999.0000,9,   149.46,2,   148.81,2, -999.000,-999.0000,9, -999.000,9,  -999.00,9, -999.000,9,    0.000,2,   151.39,2,     0.17,    36.33,2,     0.05,    -0.01,2,     0.01,     2.53,2,     0.01,  -999.00,9,  -999.00,    0.000,2,    0.000,2,    0.000,2,    0.000,2,   -999.0,9,   -999.0,9,   -999.0,9,-999.0000,     -999,9, -999.000,9,  -999.00,9, -999.000,9, -999.000,   -999.0,9,   -999.0, -999.000,9, -999.000, -999.000,9, -999.000,   -999.0,9,   -999.0, -999.000,9, -999.000,9, -999.000,9
  49NZ20140717,   P01,    46,  1,      7, X12J07,2,20140718,1922, 41.7148, 146.4303, 6512,   4580.0,2,   1.5128,2,   1.51265,2,  34.6841,2,  34.6840,2,-999.0000,9,   152.89,2,   152.07,2, -999.000,-999.0000,9, -999.000,9,  -999.00,9, -999.000,9,    0.000,2,   150.27,2,     0.17,    36.09,2,     0.05,    -0.01,2,     0.01,     2.51,2,     0.01,  -999.00,9,  -999.00,    0.000,2,    0.000,2,    0.000,2,    0.000,2,   -999.0,9,   -999.0,9,   -999.0,9,-999.0000,     -999,9, -999.000,9,  -999.00,9, -999.000,9, -999.000,   -999.0,9,   -999.0, -999.000,9, -999.000, -999.000,9, -999.000,   -999.0,9,   -999.0, -999.000,9, -999.000,9, -999.000,9
  49NZ20140717,   P01,    46,  1,      6, X12J06,2,20140718,1922, 41.7148, 146.4303, 6512,   4830.6,2,   1.5244,2,   1.52425,2,  34.6860,2,  34.6860,2,-999.0000,9,   155.51,2,   154.69,2, -999.000,-999.0000,9, -999.000,9,  -999.00,9, -999.000,9,    0.000,2,   149.19,2,     0.17,    35.92,2,     0.05,    -0.01,2,     0.01,     2.50,2,     0.01,  -999.00,9,  -999.00,    0.000,2,    0.000,2,    0.000,2,    0.030,2,   -999.0,9,   -999.0,9,   -999.0,9,-999.0000,     -999,9, -999.000,9,  -999.00,9, -999.000,9, -999.000,   -999.0,9,   -999.0, -999.000,9, -999.000, -999.000,9, -999.000,   -999.0,9,   -999.0, -999.000,9, -999.000,9, -999.000,9
  49NZ20140717,   P01,    46,  1,      5, X12J05,2,20140718,1922, 41.7148, 146.4303, 6512,   5080.1,2,   1.5408,2,   1.54085,2,  34.6876,2,  34.6874,2,-999.0000,9,   157.49,2,   156.77,2, -999.000,-999.0000,9, -999.000,9,  -999.00,9, -999.000,9,    0.000,2,   148.51,2,     0.17,    35.75,2,     0.05,    -0.01,2,     0.01,     2.49,2,     0.01,  -999.00,9,  -999.00,    0.002,2,    0.000,2,    0.000,2,    0.000,2,   -999.0,9,   -999.0,9,   -999.0,9,-999.0000,     -999,9, -999.000,9,  -999.00,9, -999.000,9, -999.000,   -999.0,9,   -999.0, -999.000,9, -999.000, -999.000,9, -999.000,   -999.0,9,   -999.0, -999.000,9, -999.000,9, -999.000,9
  49NZ20140717,   P01,    46,  1,      4, X12J04,2,20140718,1922, 41.7148, 146.4303, 6512,   5330.0,2,   1.5594,2,   1.55925,2,  34.6887,2,  34.6887,2,-999.0000,9,   159.42,2,   158.53,2, -999.000,-999.0000,9, -999.000,9,  -999.00,9, -999.000,9,    0.000,2,   147.50,2,     0.17,    35.65,2,     0.05,    -0.01,2,     0.01,     2.48,2,     0.01,  -999.00,9,  -999.00,    0.002,2,    0.001,2,    0.001,2,    0.000,2,   -999.0,9,   -999.0,9,   -999.0,9,-999.0000,     -999,9, -999.000,9,  -999.00,9, -999.000,9, -999.000,   -999.0,9,   -999.0, -999.000,9, -999.000, -999.000,9, -999.000,   -999.0,9,   -999.0, -999.000,9, -999.000,9, -999.000,9
  49NZ20140717,   P01,    46,  1,      3, X12J03,2,20140718,1922, 41.7148, 146.4303, 6512,   5579.1,2,   1.5817,2,   1.58164,2,  34.6899,2,  34.6898,2,-999.0000,9,   160.80,2,   160.06,2, -999.000,-999.0000,9, -999.000,9,  -999.00,9, -999.000,9,    0.000,2,   147.07,2,     0.17,    35.52,2,     0.05,    -0.01,2,     0.01,     2.47,2,     0.01,  -999.00,9,  -999.00,    0.014,2,    0.014,2,    0.001,2,    0.010,2,   -999.0,9,   -999.0,9,   -999.0,9,-999.0000,     -999,9, -999.000,9,  -999.00,9, -999.000,9, -999.000,   -999.0,9,   -999.0, -999.000,9, -999.000, -999.000,9, -999.000,   -999.0,9,   -999.0, -999.000,9, -999.000,9, -999.000,9
  49NZ20140717,   P01,    46,  1,      2, X12J02,2,20140718,1922, 41.7148, 146.4303, 6512,   5829.7,2,   1.6103,2,   1.61018,2,  34.6903,2,  34.6905,2,-999.0000,9,   161.42,2,   160.80,2, -999.000,-999.0000,9, -999.000,9,  -999.00,9, -999.000,9,    0.000,2,   146.65,2,     0.17,    35.45,2,     0.05,    -0.01,2,     0.01,     2.46,2,     0.01,  -999.00,9,  -999.00,    0.008,2,    0.007,2,    0.002,2,    0.000,2,   -999.0,9,   -999.0,9,   -999.0,9,-999.0000,     -999,9, -999.000,9,  -999.00,9, -999.000,9, -999.000,   -999.0,9,   -999.0, -999.000,9, -999.000, -999.000,9, -999.000,   -999.0,9,   -999.0, -999.000,9, -999.000,9, -999.000,9
  49NZ20140717,   P01,    46,  1,      1, X12J01,2,20140718,1922, 41.7148, 146.4303, 6512,   6501.3,2,   1.6957,2,   1.69541,2,  34.6910,2,  34.6912,2,-999.0000,9,   162.04,2,   162.01,2, -999.000,-999.0000,9, -999.000,9,  -999.00,9, -999.000,9,    0.000,2,   145.97,2,     0.17,    35.35,2,     0.05,     0.00,2,     0.01,     2.46,2,     0.01,  -999.00,9,  -999.00,    0.003,2,    0.005,2,    0.001,2,    0.000,2,   -999.0,9,   -999.0,9,   -999.0,9,-999.0000,     -999,9, -999.000,9,  -999.00,9, -999.000,9, -999.000,   -999.0,9,   -999.0, -999.000,9, -999.000, -999.000,9, -999.000,   -999.0,9,   -999.0, -999.000,9, -999.000,9, -999.000,9