BOTTLE,20230904JAMSTECRIGC
EXPOCODE,SECT,STNNBR,CASTNO,SAMPNO,BTLNBR,BTLNBR_FLAG_W,DATE,TIME,LATITUDE,LONGITUDE,DEPTH,CTDPRS,CTDPRS_FLAG_W,CTDTMP,CTDTMP_FLAG_W,SBE35,SBE35_FLAG_W,CTDSAL,CTDSAL_FLAG_W,SALNTY,SALNTY_FLAG_W,DNSSAL,DNSSAL_FLAG_W,CTDOXY,CTDOXY_FLAG_W,OXYGEN,OXYGEN_FLAG_W,XMISS,XMISSCP,XMISS_FLAG_W,FLUOR,FLUOR_FLAG_W,CHLORA,CHLORA_FLAG_W,CDOM,CDOM_FLAG_W,PAR,PAR_FLAG_W,SILCAT,SILCAT_FLAG_W,SILUNC,NITRAT,NITRAT_FLAG_W,NRAUNC,NITRIT,NITRIT_FLAG_W,NRIUNC,PHSPHT,PHSPHT_FLAG_W,PHPUNC,AMMONIA,AMMONIA_FLAG_W,NH4UNC,CFC-11,CFC-11_FLAG_W,CFC-12,CFC-12_FLAG_W,CFC113,CFC113_FLAG_W,SF6,SF6_FLAG_W,TCARBN,TCARBN_FLAG_W,ALKALI,ALKALI_FLAG_W,ALKALI_POT,ALKALI_POT_FLAG_W,PH_TOT,PH_TMP,PH_TOT_FLAG_W,CALCIUM,CALCIUM_FLAG_W,DOC,DOC_FLAG_W,DELC13,DELC13_FLAG_W,C13ERR,DELC14,DELC14_FLAG_W,C14ERR,CS-134,CS-134_FLAG_W,CS134ER,CS-137,CS-137_FLAG_W,CS137ER,I-129,I-129_FLAG_W,I-129ER,CDOM-325,CDOM-325_FLAG_W,CDOM-370,CDOM-370_FLAG_W,CDOM-443,CDOM-443_FLAG_W
,,,,,,,,UTC,DEG,DEG,METERS,DBAR,,ITS-90,,ITS-90,,PSS-78,,PSS-78,,G/KG,,UMOL/KG,,UMOL/KG,,%TRANS,/METER,,MG/CUM,,MG/CUM,,MG/CUM,,UE/SQM/S,,UMOL/KG,,UMOL/KG,UMOL/KG,,UMOL/KG,UMOL/KG,,UMOL/KG,UMOL/KG,,UMOL/KG,UMOL/KG,,UMOL/KG,PMOL/KG,,PMOL/KG,,PMOL/KG,,FMOL/KG,,UMOL/KG,,UMOL/KG,,UMOL/KG,,,DEG C,,MMOL/KG,,UMOL/KG,,/MILLE,,/MILLE,/MILLE,,/MILLE,MBQ/KG,,MBQ/KG,MBQ/KG,,MBQ/KG,,,,/METER,,/METER,,/METER,
  49NZ20140717,   P01,    54,  2,      9, X12J09,2,20140721,2348, 39.9534, 147.6967, 5246,   4000.2,2,   1.4566,2,   1.45659,2,  34.6829,2,  34.6828,2,-999.0000,9,   150.46,2,   150.21,2,   99.992,   0.0003,2,   -0.004,2,  -999.00,9,    2.034,1,    0.000,2,   151.18,2,     0.17,    36.29,2,     0.05,     0.00,2,     0.01,     2.53,2,     0.01,     0.01,2,     0.01,    0.001,2,    0.003,2,    0.000,2,    0.010,2,   2324.4,2,   2415.5,2,   -999.0,9,   7.5733,       25,2, -999.000,9,    39.64,2, -999.000,1, -999.000,   -999.0,1,   -999.0, -999.000,9, -999.000, -999.000,9, -999.000,   -999.0,9,   -999.0, -999.000,9, -999.000,9, -999.000,9
  49NZ20140717,   P01,    54,  2,      8, X12J08,2,20140721,2348, 39.9534, 147.6967, 5246,   4251.4,2,   1.4600,2,   1.46023,2,  34.6855,2,  34.6858,2,-999.0000,9,   153.78,2,   153.51,2,   99.983,   0.0007,2,   -0.004,2,  -999.00,9,    1.516,4,    0.000,2,   149.86,2,     0.17,    36.02,2,     0.05,     0.01,2,     0.01,     2.51,2,     0.01,  -999.00,9,  -999.00,    0.000,2,    0.000,2,    0.000,2,    0.000,2,   2321.8,6,   2416.9,2,   -999.0,9,   7.5787,       25,2, -999.000,9,    38.62,2, -999.000,9, -999.000,   -999.0,9,   -999.0, -999.000,9, -999.000, -999.000,9, -999.000,   -999.0,9,   -999.0, -999.000,9, -999.000,9, -999.000,9
  49NZ20140717,   P01,    54,  2,      7, X12J07,2,20140721,2348, 39.9534, 147.6967, 5246,   4501.8,2,   1.4688,2,   1.46875,2,  34.6874,2,  34.6875,2,-999.0000,9,   156.46,2,   156.40,2,   99.970,   0.0012,2,   -0.004,2,  -999.00,9,   -0.940,4,    0.000,2,   149.06,2,     0.17,    35.83,2,     0.05,     0.01,2,     0.01,     2.49,2,     0.01,     0.01,2,     0.01,    0.005,2,    0.006,2,    0.000,2,    0.010,2,   2318.6,2,   2414.3,2,   -999.0,9,   7.5829,       25,6, -999.000,9,    38.65,2, -999.000,1, -999.000,   -999.0,1,   -999.0, -999.000,9, -999.000, -999.000,9, -999.000,   -999.0,9,   -999.0, -999.000,9, -999.000,9, -999.000,9
  49NZ20140717,   P01,    54,  2,      6, X12J06,2,20140721,2348, 39.9534, 147.6967, 5246,   4749.2,2,   1.4847,2,   1.48472,2,  34.6889,2,  34.6891,2,-999.0000,9,   157.98,2,   157.98,2,   99.957,   0.0017,2,   -0.004,2,  -999.00,9,   -1.627,4,    0.000,2,   149.06,2,     0.17,    35.70,2,     0.05,     0.01,2,     0.01,     2.48,2,     0.01,  -999.00,9,  -999.00,    0.007,2,    0.005,2,    0.000,2,    0.000,2,   2317.6,2,   2415.1,6,   -999.0,9,   7.5850,       25,2, -999.000,9,    40.96,2, -999.000,9, -999.000,   -999.0,9,   -999.0, -999.000,9, -999.000, -999.000,9, -999.000,   -999.0,9,   -999.0, -999.000,9, -999.000,9, -999.000,9
  49NZ20140717,   P01,    54,  2,      5, X12J05,2,20140721,2348, 39.9534, 147.6967, 5246,   4999.3,2,   1.5058,2,   1.50587,2,  34.6900,2,  34.6901,2,-999.0000,9,   159.30,2,   159.29,2,   99.843,   0.0063,2,   -0.004,2,  -999.00,9,   -1.672,4,    0.000,2,   148.14,2,     0.17,    35.59,2,     0.05,     0.00,2,     0.01,     2.48,2,     0.01,     0.01,2,     0.01,    0.005,2,    0.005,2,    0.000,2,    0.000,2,   2317.6,2,   2415.2,2,   -999.0,9,   7.5871,       25,2, -999.000,9,    39.93,2, -999.000,1, -999.000,   -999.0,1,   -999.0, -999.000,9, -999.000, -999.000,9, -999.000,   -999.0,9,   -999.0, -999.000,9, -999.000,9, -999.000,9
  49NZ20140717,   P01,    54,  2,      4, X12J04,2,20140721,2348, 39.9534, 147.6967, 5246,   5250.6,2,   1.5286,2,   1.52845,2,  34.6905,2,  34.6904,2,-999.0000,9,   160.98,2,   161.13,2,   99.601,   0.0160,2,   -0.004,2,  -999.00,9,   -1.762,4,    0.000,2,   146.32,2,     0.17,    35.45,2,     0.05,     0.01,2,     0.01,     2.46,2,     0.01,     0.01,2,     0.01,    0.001,2,    0.000,2,    0.000,2,    0.000,2,   2314.9,2,   2414.4,2,   -999.0,9,   7.5902,       25,2, -999.000,9,    43.73,3, -999.000,9, -999.000,   -999.0,9,   -999.0, -999.000,9, -999.000, -999.000,9, -999.000,   -999.0,9,   -999.0, -999.000,9, -999.000,9, -999.000,9
  49NZ20140717,   P01,    54,  2,      3, X12J03,9,20140721,2348, 39.9534, 147.6967, 5246,   -999.0,9,-999.0000,9,-999.00000,9,-999.0000,9,-999.0000,9,-999.0000,9,  -999.00,9,  -999.00,9, -999.000,-999.0000,9, -999.000,9,  -999.00,9, -999.000,9, -999.000,9,  -999.00,9,  -999.00,  -999.00,9,  -999.00,  -999.00,9,  -999.00,  -999.00,9,  -999.00,  -999.00,9,  -999.00, -999.000,9, -999.000,9, -999.000,9, -999.000,9,   -999.0,9,   -999.0,9,   -999.0,9,-999.0000,     -999,9, -999.000,9,  -999.00,9, -999.000,9, -999.000,   -999.0,9,   -999.0, -999.000,9, -999.000, -999.000,9, -999.000,   -999.0,9,   -999.0, -999.000,9, -999.000,9, -999.000,9
  49NZ20140717,   P01,    54,  2,      2, X12J02,9,20140721,2348, 39.9534, 147.6967, 5246,   -999.0,9,-999.0000,9,-999.00000,9,-999.0000,9,-999.0000,9,-999.0000,9,  -999.00,9,  -999.00,9, -999.000,-999.0000,9, -999.000,9,  -999.00,9, -999.000,9, -999.000,9,  -999.00,9,  -999.00,  -999.00,9,  -999.00,  -999.00,9,  -999.00,  -999.00,9,  -999.00,  -999.00,9,  -999.00, -999.000,9, -999.000,9, -999.000,9, -999.000,9,   -999.0,9,   -999.0,9,   -999.0,9,-999.0000,     -999,9, -999.000,9,  -999.00,9, -999.000,9, -999.000,   -999.0,9,   -999.0, -999.000,9, -999.000, -999.000,9, -999.000,   -999.0,9,   -999.0, -999.000,9, -999.000,9, -999.000,9
  49NZ20140717,   P01,    54,  2,      1, X12J01,2,20140721,2348, 39.9534, 147.6967, 5246,   5328.3,2,   1.5368,2,   1.53666,2,  34.6907,2,  34.6909,2,-999.0000,9,   160.56,2,   161.00,2,   99.185,   0.0327,2,   -0.003,2,  -999.00,9,   -1.011,4,    0.000,2,   147.94,2,     0.17,    35.46,2,     0.05,     0.01,2,     0.01,     2.47,2,     0.01,     0.01,2,     0.01,    0.003,2,    0.001,2,    0.000,2,    0.020,2,   2315.2,2,   2415.3,6,   -999.0,9,   7.5890,       25,2, -999.000,9,    37.47,2, -999.000,1, -999.000,   -999.0,1,   -999.0, -999.000,9, -999.000, -999.000,9, -999.000,   -999.0,9,   -999.0, -999.000,9, -999.000,9, -999.000,9