BOTTLE,20230904JAMSTECRIGC
EXPOCODE,SECT,STNNBR,CASTNO,SAMPNO,BTLNBR,BTLNBR_FLAG_W,DATE,TIME,LATITUDE,LONGITUDE,DEPTH,CTDPRS,CTDPRS_FLAG_W,CTDTMP,CTDTMP_FLAG_W,SBE35,SBE35_FLAG_W,CTDSAL,CTDSAL_FLAG_W,SALNTY,SALNTY_FLAG_W,DNSSAL,DNSSAL_FLAG_W,CTDOXY,CTDOXY_FLAG_W,OXYGEN,OXYGEN_FLAG_W,XMISS,XMISSCP,XMISS_FLAG_W,FLUOR,FLUOR_FLAG_W,CHLORA,CHLORA_FLAG_W,CDOM,CDOM_FLAG_W,PAR,PAR_FLAG_W,SILCAT,SILCAT_FLAG_W,SILUNC,NITRAT,NITRAT_FLAG_W,NRAUNC,NITRIT,NITRIT_FLAG_W,NRIUNC,PHSPHT,PHSPHT_FLAG_W,PHPUNC,AMMONIA,AMMONIA_FLAG_W,NH4UNC,CFC-11,CFC-11_FLAG_W,CFC-12,CFC-12_FLAG_W,CFC113,CFC113_FLAG_W,SF6,SF6_FLAG_W,TCARBN,TCARBN_FLAG_W,ALKALI,ALKALI_FLAG_W,ALKALI_POT,ALKALI_POT_FLAG_W,PH_TOT,PH_TMP,PH_TOT_FLAG_W,CALCIUM,CALCIUM_FLAG_W,DOC,DOC_FLAG_W,DELC13,DELC13_FLAG_W,C13ERR,DELC14,DELC14_FLAG_W,C14ERR,CS-134,CS-134_FLAG_W,CS134ER,CS-137,CS-137_FLAG_W,CS137ER,I-129,I-129_FLAG_W,I-129ER,CDOM-325,CDOM-325_FLAG_W,CDOM-370,CDOM-370_FLAG_W,CDOM-443,CDOM-443_FLAG_W
,,,,,,,,UTC,DEG,DEG,METERS,DBAR,,ITS-90,,ITS-90,,PSS-78,,PSS-78,,G/KG,,UMOL/KG,,UMOL/KG,,%TRANS,/METER,,MG/CUM,,MG/CUM,,MG/CUM,,UE/SQM/S,,UMOL/KG,,UMOL/KG,UMOL/KG,,UMOL/KG,UMOL/KG,,UMOL/KG,UMOL/KG,,UMOL/KG,UMOL/KG,,UMOL/KG,PMOL/KG,,PMOL/KG,,PMOL/KG,,FMOL/KG,,UMOL/KG,,UMOL/KG,,UMOL/KG,,,DEG C,,MMOL/KG,,UMOL/KG,,/MILLE,,/MILLE,/MILLE,,/MILLE,MBQ/KG,,MBQ/KG,MBQ/KG,,MBQ/KG,,,,/METER,,/METER,,/METER,
  49NZ20140717,   P01,    90,  1,      9, X12J09,2,20140802,0809, 47.0033, 172.7205, 5606,   4001.3,2,   1.4674,2,   1.46767,2,  34.6821,2,  34.6814,2,-999.0000,9,   147.10,2,   147.15,2,  100.008,  -0.0003,2,    0.000,2,  -999.00,9,    2.101,4,    0.000,2,   154.42,2,     0.17,    36.42,2,     0.05,     0.00,2,     0.01,     2.54,2,     0.01,  -999.00,9,  -999.00,    0.000,2,    0.000,2,    0.000,2, -999.000,9,   -999.0,9,   -999.0,9,   -999.0,9,-999.0000,     -999,9, -999.000,9,  -999.00,9, -999.000,9, -999.000,   -999.0,9,   -999.0, -999.000,9, -999.000, -999.000,9, -999.000,   -999.0,9,   -999.0, -999.000,9, -999.000,9, -999.000,9
  49NZ20140717,   P01,    90,  1,      8, X12J08,2,20140802,0809, 47.0033, 172.7205, 5606,   4250.5,2,   1.4706,2,   1.47074,2,  34.6848,2,  34.6843,2,-999.0000,9,   150.35,2,   150.33,2,   99.982,   0.0007,2,    0.000,2,  -999.00,9,    0.655,4,    0.000,2,   154.25,2,     0.17,    36.18,2,     0.05,     0.00,2,     0.01,     2.52,2,     0.01,  -999.00,9,  -999.00,    0.000,2,    0.001,2,    0.000,2, -999.000,9,   -999.0,9,   -999.0,9,   -999.0,9,-999.0000,     -999,9, -999.000,9,  -999.00,9, -999.000,9, -999.000,   -999.0,9,   -999.0, -999.000,9, -999.000, -999.000,9, -999.000,   -999.0,9,   -999.0, -999.000,9, -999.000,9, -999.000,9
  49NZ20140717,   P01,    90,  1,      7, X12J07,2,20140802,0809, 47.0033, 172.7205, 5606,   4500.2,2,   1.4835,2,   1.48361,2,  34.6866,2,  34.6861,2,-999.0000,9,   152.48,2,   152.54,2,   99.970,   0.0012,2,    0.000,2,  -999.00,9,   -1.623,4,    0.000,2,   154.62,2,     0.17,    36.08,2,     0.05,     0.00,2,     0.01,     2.51,2,     0.01,  -999.00,9,  -999.00,    0.000,2,    0.001,2,    0.000,2, -999.000,9,   -999.0,9,   -999.0,9,   -999.0,9,-999.0000,     -999,9, -999.000,9,  -999.00,9, -999.000,9, -999.000,   -999.0,9,   -999.0, -999.000,9, -999.000, -999.000,9, -999.000,   -999.0,9,   -999.0, -999.000,9, -999.000,9, -999.000,9
  49NZ20140717,   P01,    90,  1,      6, X12J06,2,20140802,0809, 47.0033, 172.7205, 5606,   4749.1,2,   1.5077,2,   1.50781,2,  34.6874,2,  34.6869,2,-999.0000,9,   152.95,2,   153.08,2,   99.952,   0.0019,2,    0.000,2,  -999.00,9,   -1.760,4,    0.000,2,   155.66,2,     0.17,    36.08,2,     0.05,     0.00,2,     0.01,     2.51,2,     0.01,  -999.00,9,  -999.00,    0.000,2,    0.001,2,    0.000,2, -999.000,9,   -999.0,9,   -999.0,9,   -999.0,9,-999.0000,     -999,9, -999.000,9,  -999.00,9, -999.000,9, -999.000,   -999.0,9,   -999.0, -999.000,9, -999.000, -999.000,9, -999.000,   -999.0,9,   -999.0, -999.000,9, -999.000,9, -999.000,9
  49NZ20140717,   P01,    90,  1,      5, X12J05,2,20140802,0809, 47.0033, 172.7205, 5606,   5000.9,2,   1.5321,2,   1.53208,2,  34.6880,2,  34.6873,2,-999.0000,9,   154.12,2,   154.27,2,   99.952,   0.0019,2,    0.000,2,  -999.00,9,   -1.799,4,    0.000,2,   154.91,2,     0.17,    36.01,2,     0.05,     0.00,2,     0.01,     2.50,2,     0.01,  -999.00,9,  -999.00,    0.000,2,    0.002,2,    0.000,2, -999.000,9,   -999.0,9,   -999.0,9,   -999.0,9,-999.0000,     -999,9, -999.000,9,  -999.00,9, -999.000,9, -999.000,   -999.0,9,   -999.0, -999.000,9, -999.000, -999.000,9, -999.000,   -999.0,9,   -999.0, -999.000,9, -999.000,9, -999.000,9
  49NZ20140717,   P01,    90,  1,      4, X12J04,2,20140802,0809, 47.0033, 172.7205, 5606,   5250.7,2,   1.5595,2,   1.55937,2,  34.6883,2,  34.6882,2,-999.0000,9,   154.84,2,   155.00,2,   99.944,   0.0023,2,    0.000,2,  -999.00,9,   -1.881,4,    0.000,2,   154.38,2,     0.17,    35.94,2,     0.05,     0.00,2,     0.01,     2.50,2,     0.01,  -999.00,9,  -999.00,    0.000,2,    0.002,2,    0.000,2, -999.000,9,   -999.0,9,   -999.0,9,   -999.0,9,-999.0000,     -999,9, -999.000,9,  -999.00,9, -999.000,9, -999.000,   -999.0,9,   -999.0, -999.000,9, -999.000, -999.000,9, -999.000,   -999.0,9,   -999.0, -999.000,9, -999.000,9, -999.000,9
  49NZ20140717,   P01,    90,  1,      3, X12J03,2,20140802,0809, 47.0033, 172.7205, 5606,   5499.9,2,   1.5888,2,   1.58874,2,  34.6887,2,  34.6872,3,-999.0000,9,   155.24,2,   155.68,2,   99.853,   0.0059,2,    0.000,2,  -999.00,9,   -1.900,4,    0.000,2,   153.87,2,     0.17,    35.87,2,     0.05,     0.00,2,     0.01,     2.50,2,     0.01,  -999.00,9,  -999.00,    0.001,2,    0.002,2,    0.000,2, -999.000,9,   -999.0,9,   -999.0,9,   -999.0,9,-999.0000,     -999,9, -999.000,9,  -999.00,9, -999.000,9, -999.000,   -999.0,9,   -999.0, -999.000,9, -999.000, -999.000,9, -999.000,   -999.0,9,   -999.0, -999.000,9, -999.000,9, -999.000,9
  49NZ20140717,   P01,    90,  1,      2, X12J02,2,20140802,0809, 47.0033, 172.7205, 5606,    100.1,2,   2.6354,2,   2.63536,2,  32.9559,2,  32.9610,2,-999.0000,9,   318.83,2,   319.88,2,   99.459,   0.0217,2,    0.086,2,  -999.00,9,    0.950,1,    0.000,2,    38.24,2,     0.10,    23.72,2,     0.03,     0.02,2,     0.01,     1.89,2,     0.01,  -999.00,9,  -999.00,    5.509,2,    2.937,2,    0.538,2, -999.000,9,   -999.0,9,   -999.0,9,   -999.0,9,-999.0000,     -999,9, -999.000,9,  -999.00,9, -999.000,9, -999.000,   -999.0,9,   -999.0, -999.000,9, -999.000, -999.000,9, -999.000,   -999.0,9,   -999.0, -999.000,9, -999.000,9, -999.000,9
  49NZ20140717,   P01,    90,  1,      1, X12J01,2,20140802,0809, 47.0033, 172.7205, 5606,   5718.2,2,   1.6171,2,   1.61693,2,  34.6885,2,  34.6885,2,-999.0000,9,   155.34,2,   155.94,2,   99.827,   0.0069,2,    0.000,2,  -999.00,9,   -1.247,4,    0.000,2,   153.73,2,     0.17,    35.88,2,     0.05,     0.00,2,     0.01,     2.50,2,     0.01,  -999.00,9,  -999.00,    0.001,2,    0.002,2,    0.000,2, -999.000,9,   -999.0,9,   -999.0,9,   -999.0,9,-999.0000,     -999,9, -999.000,9,  -999.00,9, -999.000,9, -999.000,   -999.0,9,   -999.0, -999.000,9, -999.000, -999.000,9, -999.000,   -999.0,9,   -999.0, -999.000,9, -999.000,9, -999.000,9