BOTTLE,20230904JAMSTECRIGC
EXPOCODE,SECT,STNNBR,CASTNO,SAMPNO,BTLNBR,BTLNBR_FLAG_W,DATE,TIME,LATITUDE,LONGITUDE,DEPTH,CTDPRS,CTDPRS_FLAG_W,CTDTMP,CTDTMP_FLAG_W,SBE35,SBE35_FLAG_W,CTDSAL,CTDSAL_FLAG_W,SALNTY,SALNTY_FLAG_W,DNSSAL,DNSSAL_FLAG_W,CTDOXY,CTDOXY_FLAG_W,OXYGEN,OXYGEN_FLAG_W,XMISS,XMISSCP,XMISS_FLAG_W,FLUOR,FLUOR_FLAG_W,CHLORA,CHLORA_FLAG_W,CDOM,CDOM_FLAG_W,PAR,PAR_FLAG_W,SILCAT,SILCAT_FLAG_W,SILUNC,NITRAT,NITRAT_FLAG_W,NRAUNC,NITRIT,NITRIT_FLAG_W,NRIUNC,PHSPHT,PHSPHT_FLAG_W,PHPUNC,AMMONIA,AMMONIA_FLAG_W,NH4UNC,CFC-11,CFC-11_FLAG_W,CFC-12,CFC-12_FLAG_W,CFC113,CFC113_FLAG_W,SF6,SF6_FLAG_W,TCARBN,TCARBN_FLAG_W,ALKALI,ALKALI_FLAG_W,ALKALI_POT,ALKALI_POT_FLAG_W,PH_TOT,PH_TMP,PH_TOT_FLAG_W,CALCIUM,CALCIUM_FLAG_W,DOC,DOC_FLAG_W,DELC13,DELC13_FLAG_W,C13ERR,DELC14,DELC14_FLAG_W,C14ERR,CS-134,CS-134_FLAG_W,CS134ER,CS-137,CS-137_FLAG_W,CS137ER,I-129,I-129_FLAG_W,I-129ER,CDOM-325,CDOM-325_FLAG_W,CDOM-370,CDOM-370_FLAG_W,CDOM-443,CDOM-443_FLAG_W
,,,,,,,,UTC,DEG,DEG,METERS,DBAR,,ITS-90,,ITS-90,,PSS-78,,PSS-78,,G/KG,,UMOL/KG,,UMOL/KG,,%TRANS,/METER,,MG/CUM,,MG/CUM,,MG/CUM,,UE/SQM/S,,UMOL/KG,,UMOL/KG,UMOL/KG,,UMOL/KG,UMOL/KG,,UMOL/KG,UMOL/KG,,UMOL/KG,UMOL/KG,,UMOL/KG,PMOL/KG,,PMOL/KG,,PMOL/KG,,FMOL/KG,,UMOL/KG,,UMOL/KG,,UMOL/KG,,,DEG C,,MMOL/KG,,UMOL/KG,,/MILLE,,/MILLE,/MILLE,,/MILLE,MBQ/KG,,MBQ/KG,MBQ/KG,,MBQ/KG,,,,/METER,,/METER,,/METER,
  49NZ20140717,   P01,   139,  1,      0,   -999,9,20140820,1457, 46.9947,-132.3672, 3299,   -999.0,9,-999.0000,9,-999.00000,9,-999.0000,9,  32.4773,2,-999.0000,9,  -999.00,9,  -999.00,9, -999.000,-999.0000,9, -999.000,9,  -999.00,9, -999.000,9, -999.000,9,     0.61,2,     0.16,     0.11,2,     0.03,     0.01,2,     0.01,     0.35,2,     0.01,  -999.00,9,  -999.00, -999.000,9, -999.000,9, -999.000,9, -999.000,9,   -999.0,9,   -999.0,9,   -999.0,9,-999.0000,     -999,9, -999.000,9,  -999.00,9, -999.000,9, -999.000,   -999.0,9,   -999.0, -999.000,9, -999.000, -999.000,9, -999.000,   -999.0,9,   -999.0, -999.000,9, -999.000,9, -999.000,9
  49NZ20140717,   P01,   139,  1,     36, X12J36,2,20140820,1457, 46.9947,-132.3672, 3299,      9.8,2,  19.0580,2,  19.06305,2,  32.4745,2,  32.4735,2,-999.0000,9,   241.85,2,   241.89,2,   97.947,   0.0830,4,    0.102,2,  -999.00,9,   -1.426,1,   62.667,2,     0.61,2,     0.16,     0.04,2,     0.02,     0.00,2,     0.01,     0.34,2,     0.01,  -999.00,9,  -999.00, -999.000,9, -999.000,9, -999.000,9, -999.000,9,   -999.0,9,   -999.0,9,   -999.0,9,-999.0000,     -999,9, -999.000,9,  -999.00,9, -999.000,9, -999.000,   -999.0,9,   -999.0, -999.000,9, -999.000, -999.000,9, -999.000,   -999.0,9,   -999.0, -999.000,9, -999.000,9, -999.000,9
  49NZ20140717,   P01,   139,  1,     35, X12J35,2,20140820,1457, 46.9947,-132.3672, 3299,     50.0,2,  12.1139,2,  12.11064,2,  32.4742,2,  32.4915,2,-999.0000,9,   283.64,2,   278.04,2,   93.434,   0.2717,4,    0.748,2,  -999.00,9,    0.765,1,    2.098,2,     3.77,2,     0.09,     1.68,2,     0.01,     0.35,2,     0.01,     0.58,2,     0.01,  -999.00,9,  -999.00, -999.000,9, -999.000,9, -999.000,9, -999.000,9,   -999.0,9,   -999.0,9,   -999.0,9,-999.0000,     -999,9, -999.000,9,  -999.00,9, -999.000,9, -999.000,   -999.0,9,   -999.0, -999.000,9, -999.000, -999.000,9, -999.000,   -999.0,9,   -999.0, -999.000,9, -999.000,9, -999.000,9
  49NZ20140717,   P01,   139,  1,     34, X12J34,2,20140820,1457, 46.9947,-132.3672, 3299,    100.3,2,   8.6580,2,   8.65597,2,  32.6892,2,  32.7036,2,-999.0000,9,   257.86,2,   257.06,2,   99.400,   0.0241,4,    0.072,2,  -999.00,9,    0.529,1,    0.060,2,    13.64,2,     0.09,    12.75,2,     0.02,     0.02,2,     0.01,     1.17,2,     0.01,  -999.00,9,  -999.00, -999.000,9, -999.000,9, -999.000,9, -999.000,9,   -999.0,9,   -999.0,9,   -999.0,9,-999.0000,     -999,9, -999.000,9,  -999.00,9, -999.000,9, -999.000,   -999.0,9,   -999.0, -999.000,9, -999.000, -999.000,9, -999.000,   -999.0,9,   -999.0, -999.000,9, -999.000,9, -999.000,9
  49NZ20140717,   P01,   139,  1,     33, X12J33,2,20140820,1457, 46.9947,-132.3672, 3299,    150.2,2,   6.9945,2,   6.99491,2,  33.0997,2,  33.1112,2,-999.0000,9,   235.18,2,   233.36,2,   99.483,   0.0207,4,    0.015,2,  -999.00,9,    1.061,1,    0.000,2,    24.49,2,     0.09,    19.50,2,     0.03,     0.01,2,     0.01,     1.55,2,     0.01,  -999.00,9,  -999.00, -999.000,9, -999.000,9, -999.000,9, -999.000,9,   -999.0,9,   -999.0,9,   -999.0,9,-999.0000,     -999,9, -999.000,9,  -999.00,9, -999.000,9, -999.000,   -999.0,9,   -999.0, -999.000,9, -999.000, -999.000,9, -999.000,   -999.0,9,   -999.0, -999.000,9, -999.000,9, -999.000,9
  49NZ20140717,   P01,   139,  1,     32, X12J32,2,20140820,1457, 46.9947,-132.3672, 3299,    198.0,2,   7.2862,2,   7.28587,2,  33.7920,2,  33.7979,2,-999.0000,9,   206.69,2,   204.81,2,   99.403,   0.0240,4,    0.012,2,  -999.00,9,    1.428,1,    0.000,2,    31.82,2,     0.10,    22.15,2,     0.03,     0.01,2,     0.01,     1.61,2,     0.01,  -999.00,9,  -999.00, -999.000,9, -999.000,9, -999.000,9, -999.000,9,   -999.0,9,   -999.0,9,   -999.0,9,-999.0000,     -999,9, -999.000,9,  -999.00,9, -999.000,9, -999.000,   -999.0,9,   -999.0, -999.000,9, -999.000, -999.000,9, -999.000,   -999.0,9,   -999.0, -999.000,9, -999.000,9, -999.000,9
  49NZ20140717,   P01,   139,  1,     31, X12J31,2,20140820,1457, 46.9947,-132.3672, 3299,    251.0,2,   6.5012,2,   6.50137,2,  33.8619,2,  33.8618,2,-999.0000,9,   174.82,2,   173.83,2,   99.396,   0.0242,4,    0.012,2,  -999.00,9,    1.919,1,    0.000,2,    43.33,2,     0.10,    26.53,2,     0.04,     0.01,2,     0.01,     1.91,2,     0.01,  -999.00,9,  -999.00, -999.000,9, -999.000,9, -999.000,9, -999.000,9,   -999.0,9,   -999.0,9,   -999.0,9,-999.0000,     -999,9, -999.000,9,  -999.00,9, -999.000,9, -999.000,   -999.0,9,   -999.0, -999.000,9, -999.000, -999.000,9, -999.000,   -999.0,9,   -999.0, -999.000,9, -999.000,9, -999.000,9
  49NZ20140717,   P01,   139,  1,     30, X12J30,2,20140820,1457, 46.9947,-132.3672, 3299,    328.8,2,   5.5043,2,   5.50285,2,  33.8655,2,  33.8659,2,-999.0000,9,   134.63,2,   134.07,2,   99.487,   0.0206,4,    0.013,2,  -999.00,9,    2.282,1,    0.000,2,    58.56,2,     0.11,    32.05,2,     0.04,     0.01,2,     0.01,     2.30,2,     0.01,  -999.00,9,  -999.00, -999.000,9, -999.000,9, -999.000,9, -999.000,9,   -999.0,9,   -999.0,9,   -999.0,9,-999.0000,     -999,9, -999.000,9,  -999.00,9, -999.000,9, -999.000,   -999.0,9,   -999.0, -999.000,9, -999.000, -999.000,9, -999.000,   -999.0,9,   -999.0, -999.000,9, -999.000,9, -999.000,9
  49NZ20140717,   P01,   139,  1,     29, X12J29,2,20140820,1457, 46.9947,-132.3672, 3299,    430.2,2,   4.6534,2,   4.65180,2,  33.9305,2,  33.9306,2,-999.0000,9,    83.19,2,    83.23,2,   99.583,   0.0167,4,    0.014,2,  -999.00,9,    2.642,1,    0.000,2,    77.33,2,     0.12,    37.94,2,     0.05,     0.01,2,     0.01,     2.69,2,     0.01,  -999.00,9,  -999.00, -999.000,9, -999.000,9, -999.000,9, -999.000,9,   -999.0,9,   -999.0,9,   -999.0,9,-999.0000,     -999,9, -999.000,9,  -999.00,9, -999.000,9, -999.000,   -999.0,9,   -999.0, -999.000,9, -999.000, -999.000,9, -999.000,   -999.0,9,   -999.0, -999.000,9, -999.000,9, -999.000,9
  49NZ20140717,   P01,   139,  1,     28, X12J28,2,20140820,1457, 46.9947,-132.3672, 3299,    531.1,2,   4.3251,2,   4.32451,2,  34.0454,2,  34.0457,2,-999.0000,9,    47.59,2,    48.19,2,   99.752,   0.0099,4,    0.015,2,  -999.00,9,    2.898,1,    0.000,2,    92.98,2,     0.13,    40.96,2,     0.05,     0.01,2,     0.01,     2.91,2,     0.01,  -999.00,9,  -999.00, -999.000,9, -999.000,9, -999.000,9, -999.000,9,   -999.0,9,   -999.0,9,   -999.0,9,-999.0000,     -999,9, -999.000,9,  -999.00,9, -999.000,9, -999.000,   -999.0,9,   -999.0, -999.000,9, -999.000, -999.000,9, -999.000,   -999.0,9,   -999.0, -999.000,9, -999.000,9, -999.000,9
  49NZ20140717,   P01,   139,  1,     27, X12J27,2,20140820,1457, 46.9947,-132.3672, 3299,    630.9,2,   4.0136,2,   4.01343,2,  34.1301,2,  34.1299,2,-999.0000,9,    28.52,2,    28.82,2,   99.706,   0.0118,4,    0.015,2,  -999.00,9,    3.014,1,    0.000,2,   105.81,2,     0.14,    42.75,2,     0.05,     0.00,2,     0.01,     3.03,2,     0.01,  -999.00,9,  -999.00, -999.000,9, -999.000,9, -999.000,9, -999.000,9,   -999.0,9,   -999.0,9,   -999.0,9,-999.0000,     -999,9, -999.000,9,  -999.00,9, -999.000,9, -999.000,   -999.0,9,   -999.0, -999.000,9, -999.000, -999.000,9, -999.000,   -999.0,9,   -999.0, -999.000,9, -999.000,9, -999.000,9
  49NZ20140717,   P01,   139,  1,     26, X12J26,2,20140820,1457, 46.9947,-132.3672, 3299,    729.3,2,   3.7683,2,   3.76748,2,  34.2067,2,  34.2062,2,-999.0000,9,    15.80,2,    15.55,2,   99.756,   0.0098,4,    0.016,2,  -999.00,9,    3.114,1,    0.000,2,   116.32,2,     0.15,    43.92,2,     0.06,     0.00,2,     0.01,     3.13,2,     0.01,  -999.00,9,  -999.00, -999.000,9, -999.000,9, -999.000,9, -999.000,9,   -999.0,9,   -999.0,9,   -999.0,9,-999.0000,     -999,9, -999.000,9,  -999.00,9, -999.000,9, -999.000,   -999.0,9,   -999.0, -999.000,9, -999.000, -999.000,9, -999.000,   -999.0,9,   -999.0, -999.000,9, -999.000,9, -999.000,9
  49NZ20140717,   P01,   139,  1,     25, X12J25,2,20140820,1457, 46.9947,-132.3672, 3299,    830.6,2,   3.5723,2,   3.57196,2,  34.2697,2,  34.2697,2,-999.0000,9,    12.23,2,    11.56,2,   99.721,   0.0112,4,    0.016,2,  -999.00,9,    3.176,1,    0.000,2,   124.45,2,     0.15,    44.26,2,     0.06,     0.00,2,     0.01,     3.17,2,     0.01,  -999.00,9,  -999.00, -999.000,9, -999.000,9, -999.000,9, -999.000,9,   -999.0,9,   -999.0,9,   -999.0,9,-999.0000,     -999,9, -999.000,9,  -999.00,9, -999.000,9, -999.000,   -999.0,9,   -999.0, -999.000,9, -999.000, -999.000,9, -999.000,   -999.0,9,   -999.0, -999.000,9, -999.000,9, -999.000,9
  49NZ20140717,   P01,   139,  1,     24, X12J24,2,20140820,1457, 46.9947,-132.3672, 3299,    930.6,2,   3.2998,2,   3.29904,2,  34.3145,2,  34.3144,2,-999.0000,9,    12.69,2,    11.98,2,   99.719,   0.0112,4,    0.015,2,  -999.00,9,    3.169,1,    0.000,2,   133.31,2,     0.16,    44.34,2,     0.06,     0.00,2,     0.01,     3.18,2,     0.01,  -999.00,9,  -999.00, -999.000,9, -999.000,9, -999.000,9, -999.000,9,   -999.0,9,   -999.0,9,   -999.0,9,-999.0000,     -999,9, -999.000,9,  -999.00,9, -999.000,9, -999.000,   -999.0,9,   -999.0, -999.000,9, -999.000, -999.000,9, -999.000,   -999.0,9,   -999.0, -999.000,9, -999.000,9, -999.000,9
  49NZ20140717,   P01,   139,  1,     23, X12J23,2,20140820,1457, 46.9947,-132.3672, 3299,   1072.3,2,   3.0335,2,   3.03322,2,  34.3777,2,  34.3774,2,-999.0000,9,    11.38,2,    10.30,2,   99.717,   0.0113,4,    0.015,2,  -999.00,9,    3.252,1,    0.000,2,   142.75,2,     0.16,    44.65,2,     0.06,     0.00,2,     0.01,     3.19,2,     0.01,  -999.00,9,  -999.00, -999.000,9, -999.000,9, -999.000,9, -999.000,9,   -999.0,9,   -999.0,9,   -999.0,9,-999.0000,     -999,9, -999.000,9,  -999.00,9, -999.000,9, -999.000,   -999.0,9,   -999.0, -999.000,9, -999.000, -999.000,9, -999.000,   -999.0,9,   -999.0, -999.000,9, -999.000,9, -999.000,9
  49NZ20140717,   P01,   139,  1,     22, X12J22,2,20140820,1457, 46.9947,-132.3672, 3299,   1269.2,2,   2.7190,2,   2.71902,2,  34.4394,2,  34.4394,2,-999.0000,9,    13.65,2,    12.75,2,   99.730,   0.0108,4,    0.014,2,  -999.00,9,    3.283,1,    0.000,2,   153.36,2,     0.17,    44.83,2,     0.06,     0.00,2,     0.01,     3.19,2,     0.01,  -999.00,9,  -999.00, -999.000,9, -999.000,9, -999.000,9, -999.000,9,   -999.0,9,   -999.0,9,   -999.0,9,-999.0000,     -999,9, -999.000,9,  -999.00,9, -999.000,9, -999.000,   -999.0,9,   -999.0, -999.000,9, -999.000, -999.000,9, -999.000,   -999.0,9,   -999.0, -999.000,9, -999.000,9, -999.000,9
  49NZ20140717,   P01,   139,  1,     21, X12J21,2,20140820,1457, 46.9947,-132.3672, 3299,   1470.2,2,   2.4631,2,   2.46289,2,  34.4895,2,  34.4898,2,-999.0000,9,    20.69,2,    20.02,2,   99.793,   0.0083,4,    0.013,2,  -999.00,9,    3.250,1,    0.000,2,   160.99,2,     0.17,    44.50,2,     0.06,     0.00,2,     0.01,     3.15,2,     0.01,  -999.00,9,  -999.00, -999.000,9, -999.000,9, -999.000,9, -999.000,9,   -999.0,9,   -999.0,9,   -999.0,9,-999.0000,     -999,9, -999.000,9,  -999.00,9, -999.000,9, -999.000,   -999.0,9,   -999.0, -999.000,9, -999.000, -999.000,9, -999.000,   -999.0,9,   -999.0, -999.000,9, -999.000,9, -999.000,9
  49NZ20140717,   P01,   139,  1,     20, X12J20,2,20140820,1457, 46.9947,-132.3672, 3299,   1670.2,2,   2.2195,2,   2.21923,2,  34.5344,2,  34.5345,2,-999.0000,9,    33.53,2,    33.44,2,   99.780,   0.0088,4,    0.011,2,  -999.00,9,    3.294,1,    0.000,2,   166.91,2,     0.18,    43.62,2,     0.05,     0.00,2,     0.01,     3.08,2,     0.01,  -999.00,9,  -999.00, -999.000,9, -999.000,9, -999.000,9, -999.000,9,   -999.0,9,   -999.0,9,   -999.0,9,-999.0000,     -999,9, -999.000,9,  -999.00,9, -999.000,9, -999.000,   -999.0,9,   -999.0, -999.000,9, -999.000, -999.000,9, -999.000,   -999.0,9,   -999.0, -999.000,9, -999.000,9, -999.000,9
  49NZ20140717,   P01,   139,  1,     19, X12J19,2,20140820,1457, 46.9947,-132.3672, 3299,   1872.9,2,   2.0371,2,   2.03686,2,  34.5694,2,  34.5695,2,-999.0000,9,    47.89,2,    48.17,2,   99.789,   0.0085,4,    0.010,2,  -999.00,9,    3.210,1,    0.000,2,   170.81,2,     0.18,    42.73,2,     0.05,     0.00,2,     0.01,     3.02,2,     0.01,  -999.00,9,  -999.00, -999.000,9, -999.000,9, -999.000,9, -999.000,9,   -999.0,9,   -999.0,9,   -999.0,9,-999.0000,     -999,9, -999.000,9,  -999.00,9, -999.000,9, -999.000,   -999.0,9,   -999.0, -999.000,9, -999.000, -999.000,9, -999.000,   -999.0,9,   -999.0, -999.000,9, -999.000,9, -999.000,9
  49NZ20140717,   P01,   139,  1,     18, X12J18,2,20140820,1457, 46.9947,-132.3672, 3299,   2073.4,2,   1.9085,2,   1.90845,2,  34.5955,2,  34.5957,2,-999.0000,9,    61.06,2,    61.27,2,   99.804,   0.0079,4,    0.009,2,  -999.00,9,    3.140,1,    0.000,2,   173.89,2,     0.18,    41.97,2,     0.05,     0.00,2,     0.01,     2.96,2,     0.01,  -999.00,9,  -999.00, -999.000,9, -999.000,9, -999.000,9, -999.000,9,   -999.0,9,   -999.0,9,   -999.0,9,-999.0000,     -999,9, -999.000,9,  -999.00,9, -999.000,9, -999.000,   -999.0,9,   -999.0, -999.000,9, -999.000, -999.000,9, -999.000,   -999.0,9,   -999.0, -999.000,9, -999.000,9, -999.000,9
  49NZ20140717,   P01,   139,  1,     17, X12J17,2,20140820,1457, 46.9947,-132.3672, 3299,   2272.7,2,   1.8178,2,   1.81765,2,  34.6127,2,  34.6131,2,-999.0000,9,    71.09,2,    71.59,2,   99.799,   0.0080,4,    0.008,2,  -999.00,9,    3.035,1,    0.000,2,   175.34,2,     0.18,    41.38,2,     0.05,     0.00,2,     0.01,     2.92,2,     0.01,  -999.00,9,  -999.00, -999.000,9, -999.000,9, -999.000,9, -999.000,9,   -999.0,9,   -999.0,9,   -999.0,9,-999.0000,     -999,9, -999.000,9,  -999.00,9, -999.000,9, -999.000,   -999.0,9,   -999.0, -999.000,9, -999.000, -999.000,9, -999.000,   -999.0,9,   -999.0, -999.000,9, -999.000,9, -999.000,9
  49NZ20140717,   P01,   139,  1,     16, X12J16,2,20140820,1457, 46.9947,-132.3672, 3299,   2471.0,2,   1.7384,2,   1.73826,2,  34.6273,2,  34.6276,2,-999.0000,9,    81.46,2,    81.81,2,   99.808,   0.0077,4,    0.007,2,  -999.00,9,    3.007,1,    0.000,2,   176.01,2,     0.18,    40.68,2,     0.05,     0.00,2,     0.01,     2.87,2,     0.01,  -999.00,9,  -999.00, -999.000,9, -999.000,9, -999.000,9, -999.000,9,   -999.0,9,   -999.0,9,   -999.0,9,-999.0000,     -999,9, -999.000,9,  -999.00,9, -999.000,9, -999.000,   -999.0,9,   -999.0, -999.000,9, -999.000, -999.000,9, -999.000,   -999.0,9,   -999.0, -999.000,9, -999.000,9, -999.000,9
  49NZ20140717,   P01,   139,  1,     15, X12J15,2,20140820,1457, 46.9947,-132.3672, 3299,   2669.6,2,   1.6862,2,   1.68605,2,  34.6371,2,  34.6376,2,-999.0000,9,    89.47,2,    89.96,2,   99.791,   0.0084,4,    0.006,2,  -999.00,9,    2.946,1,    0.000,2,   176.16,2,     0.18,    40.22,2,     0.05,     0.00,2,     0.01,     2.83,2,     0.01,  -999.00,9,  -999.00, -999.000,9, -999.000,9, -999.000,9, -999.000,9,   -999.0,9,   -999.0,9,   -999.0,9,-999.0000,     -999,9, -999.000,9,  -999.00,9, -999.000,9, -999.000,   -999.0,9,   -999.0, -999.000,9, -999.000, -999.000,9, -999.000,   -999.0,9,   -999.0, -999.000,9, -999.000,9, -999.000,9
  49NZ20140717,   P01,   139,  1,     14, X12J14,2,20140820,1457, 46.9947,-132.3672, 3299,   2873.1,2,   1.6527,2,   1.65263,2,  34.6445,2,  34.6449,2,-999.0000,9,    95.80,2,    96.13,2,   99.938,   0.0025,2,    0.006,2,  -999.00,9,    2.891,1,    0.000,2,   176.57,2,     0.18,    39.83,2,     0.05,     0.00,2,     0.01,     2.80,2,     0.01,  -999.00,9,  -999.00, -999.000,9, -999.000,9, -999.000,9, -999.000,9,   -999.0,9,   -999.0,9,   -999.0,9,-999.0000,     -999,9, -999.000,9,  -999.00,9, -999.000,9, -999.000,   -999.0,9,   -999.0, -999.000,9, -999.000, -999.000,9, -999.000,   -999.0,9,   -999.0, -999.000,9, -999.000,9, -999.000,9
  49NZ20140717,   P01,   139,  1,     13, X12113,2,20140820,1457, 46.9947,-132.3672, 3299,   3083.2,2,   1.6195,2,   1.61925,2,  34.6516,2,  34.6525,2,-999.0000,9,   102.79,2,   103.19,2,   99.917,   0.0033,2,    0.006,2,  -999.00,9,    2.848,1,    0.000,2,   175.99,2,     0.18,    39.45,2,     0.05,     0.00,2,     0.01,     2.77,2,     0.01,  -999.00,9,  -999.00, -999.000,9, -999.000,9, -999.000,9, -999.000,9,   -999.0,9,   -999.0,9,   -999.0,9,-999.0000,     -999,9, -999.000,9,  -999.00,9, -999.000,9, -999.000,   -999.0,9,   -999.0, -999.000,9, -999.000, -999.000,9, -999.000,   -999.0,9,   -999.0, -999.000,9, -999.000,9, -999.000,9
  49NZ20140717,   P01,   139,  1,     12, X12J12,9,20140820,1457, 46.9947,-132.3672, 3299,   -999.0,9,-999.0000,9,-999.00000,9,-999.0000,9,-999.0000,9,-999.0000,9,  -999.00,9,  -999.00,9, -999.000,-999.0000,9, -999.000,9,  -999.00,9, -999.000,9, -999.000,9,  -999.00,9,  -999.00,  -999.00,9,  -999.00,  -999.00,9,  -999.00,  -999.00,9,  -999.00,  -999.00,9,  -999.00, -999.000,9, -999.000,9, -999.000,9, -999.000,9,   -999.0,9,   -999.0,9,   -999.0,9,-999.0000,     -999,9, -999.000,9,  -999.00,9, -999.000,9, -999.000,   -999.0,9,   -999.0, -999.000,9, -999.000, -999.000,9, -999.000,   -999.0,9,   -999.0, -999.000,9, -999.000,9, -999.000,9
  49NZ20140717,   P01,   139,  1,     11, X12J11,9,20140820,1457, 46.9947,-132.3672, 3299,   -999.0,9,-999.0000,9,-999.00000,9,-999.0000,9,-999.0000,9,-999.0000,9,  -999.00,9,  -999.00,9, -999.000,-999.0000,9, -999.000,9,  -999.00,9, -999.000,9, -999.000,9,  -999.00,9,  -999.00,  -999.00,9,  -999.00,  -999.00,9,  -999.00,  -999.00,9,  -999.00,  -999.00,9,  -999.00, -999.000,9, -999.000,9, -999.000,9, -999.000,9,   -999.0,9,   -999.0,9,   -999.0,9,-999.0000,     -999,9, -999.000,9,  -999.00,9, -999.000,9, -999.000,   -999.0,9,   -999.0, -999.000,9, -999.000, -999.000,9, -999.000,   -999.0,9,   -999.0, -999.000,9, -999.000,9, -999.000,9
  49NZ20140717,   P01,   139,  1,     10, X12J10,9,20140820,1457, 46.9947,-132.3672, 3299,   -999.0,9,-999.0000,9,-999.00000,9,-999.0000,9,-999.0000,9,-999.0000,9,  -999.00,9,  -999.00,9, -999.000,-999.0000,9, -999.000,9,  -999.00,9, -999.000,9, -999.000,9,  -999.00,9,  -999.00,  -999.00,9,  -999.00,  -999.00,9,  -999.00,  -999.00,9,  -999.00,  -999.00,9,  -999.00, -999.000,9, -999.000,9, -999.000,9, -999.000,9,   -999.0,9,   -999.0,9,   -999.0,9,-999.0000,     -999,9, -999.000,9,  -999.00,9, -999.000,9, -999.000,   -999.0,9,   -999.0, -999.000,9, -999.000, -999.000,9, -999.000,   -999.0,9,   -999.0, -999.000,9, -999.000,9, -999.000,9