BOTTLE,20230904JAMSTECRIGC
EXPOCODE,SECT,STNNBR,CASTNO,SAMPNO,BTLNBR,BTLNBR_FLAG_W,DATE,TIME,LATITUDE,LONGITUDE,DEPTH,CTDPRS,CTDPRS_FLAG_W,CTDTMP,CTDTMP_FLAG_W,SBE35,SBE35_FLAG_W,CTDSAL,CTDSAL_FLAG_W,SALNTY,SALNTY_FLAG_W,DNSSAL,DNSSAL_FLAG_W,CTDOXY,CTDOXY_FLAG_W,OXYGEN,OXYGEN_FLAG_W,XMISS,XMISSCP,XMISS_FLAG_W,FLUOR,FLUOR_FLAG_W,CHLORA,CHLORA_FLAG_W,CDOM,CDOM_FLAG_W,PAR,PAR_FLAG_W,SILCAT,SILCAT_FLAG_W,SILUNC,NITRAT,NITRAT_FLAG_W,NRAUNC,NITRIT,NITRIT_FLAG_W,NRIUNC,PHSPHT,PHSPHT_FLAG_W,PHPUNC,AMMONIA,AMMONIA_FLAG_W,NH4UNC,CFC-11,CFC-11_FLAG_W,CFC-12,CFC-12_FLAG_W,CFC113,CFC113_FLAG_W,SF6,SF6_FLAG_W,TCARBN,TCARBN_FLAG_W,ALKALI,ALKALI_FLAG_W,ALKALI_POT,ALKALI_POT_FLAG_W,PH_TOT,PH_TMP,PH_TOT_FLAG_W,CALCIUM,CALCIUM_FLAG_W,DOC,DOC_FLAG_W,DELC13,DELC13_FLAG_W,C13ERR,DELC14,DELC14_FLAG_W,C14ERR,CS-134,CS-134_FLAG_W,CS134ER,CS-137,CS-137_FLAG_W,CS137ER,I-129,I-129_FLAG_W,I-129ER,CDOM-325,CDOM-325_FLAG_W,CDOM-370,CDOM-370_FLAG_W,CDOM-443,CDOM-443_FLAG_W
,,,,,,,,UTC,DEG,DEG,METERS,DBAR,,ITS-90,,ITS-90,,PSS-78,,PSS-78,,G/KG,,UMOL/KG,,UMOL/KG,,%TRANS,/METER,,MG/CUM,,MG/CUM,,MG/CUM,,UE/SQM/S,,UMOL/KG,,UMOL/KG,UMOL/KG,,UMOL/KG,UMOL/KG,,UMOL/KG,UMOL/KG,,UMOL/KG,UMOL/KG,,UMOL/KG,PMOL/KG,,PMOL/KG,,PMOL/KG,,FMOL/KG,,UMOL/KG,,UMOL/KG,,UMOL/KG,,,DEG C,,MMOL/KG,,UMOL/KG,,/MILLE,,/MILLE,/MILLE,,/MILLE,MBQ/KG,,MBQ/KG,MBQ/KG,,MBQ/KG,,,,/METER,,/METER,,/METER,
  49NZ20140717,   P01,    72,  1,      9, X12J09,2,20140727,0500, 46.5590, 159.2282, 5109,   4001.0,2,   1.4492,2,   1.44912,2,  34.6838,2,  34.6838,2,-999.0000,9,   150.89,2,   150.67,2,   99.957,   0.0017,2,    0.004,2,  -999.00,9,    2.245,1,    0.000,2,   151.71,2,     0.17,    36.17,2,     0.05,     0.01,2,     0.01,     2.52,2,     0.01,  -999.00,9,  -999.00,    0.000,2,    0.000,2,    0.000,2,    0.000,2,   -999.0,9,   -999.0,9,   -999.0,9,-999.0000,     -999,9, -999.000,9,  -999.00,9, -999.000,9, -999.000,   -999.0,9,   -999.0, -999.000,9, -999.000, -999.000,9, -999.000,   -999.0,9,   -999.0, -999.000,9, -999.000,9, -999.000,9
  49NZ20140717,   P01,    72,  1,      8, X12J08,2,20140727,0500, 46.5590, 159.2282, 5109,   4250.8,2,   1.4553,2,   1.45541,2,  34.6862,2,  34.6859,2,-999.0000,9,   153.68,2,   153.64,2,   99.966,   0.0014,2,    0.004,2,  -999.00,9,    2.473,4,    0.000,2,   151.06,2,     0.17,    35.99,2,     0.05,     0.01,2,     0.01,     2.50,2,     0.01,  -999.00,9,  -999.00,    0.000,2,    0.000,2,    0.000,2,    0.000,2,   -999.0,9,   -999.0,9,   -999.0,9,-999.0000,     -999,9, -999.000,9,  -999.00,9, -999.000,9, -999.000,   -999.0,9,   -999.0, -999.000,9, -999.000, -999.000,9, -999.000,   -999.0,9,   -999.0, -999.000,9, -999.000,9, -999.000,9
  49NZ20140717,   P01,    72,  1,      7, X12J07,2,20140727,0500, 46.5590, 159.2282, 5109,   4500.8,2,   1.4700,2,   1.47002,2,  34.6877,2,  34.6875,2,-999.0000,9,   155.26,2,   155.31,2,   99.942,   0.0023,2,    0.003,2,  -999.00,9,    2.173,4,    0.000,2,   151.27,2,     0.17,    35.84,2,     0.05,     0.01,2,     0.01,     2.49,2,     0.01,  -999.00,9,  -999.00,    0.000,2,    0.000,2,    0.000,2,    0.000,2,   -999.0,9,   -999.0,9,   -999.0,9,-999.0000,     -999,9, -999.000,9,  -999.00,9, -999.000,9, -999.000,   -999.0,9,   -999.0, -999.000,9, -999.000, -999.000,9, -999.000,   -999.0,9,   -999.0, -999.000,9, -999.000,9, -999.000,9
  49NZ20140717,   P01,    72,  1,      6, X12J06,2,20140727,0500, 46.5590, 159.2282, 5109,   4751.6,2,   1.4911,2,   1.49097,2,  34.6885,2,  34.6886,2,-999.0000,9,   156.28,2,   156.36,2,   99.897,   0.0041,2,    0.003,2,  -999.00,9,   -0.188,4,    0.000,2,   151.60,2,     0.17,    35.76,2,     0.05,     0.01,2,     0.01,     2.48,2,     0.01,  -999.00,9,  -999.00,    0.002,2,    0.001,2,    0.000,2,    0.000,2,   -999.0,9,   -999.0,9,   -999.0,9,-999.0000,     -999,9, -999.000,9,  -999.00,9, -999.000,9, -999.000,   -999.0,9,   -999.0, -999.000,9, -999.000, -999.000,9, -999.000,   -999.0,9,   -999.0, -999.000,9, -999.000,9, -999.000,9
  49NZ20140717,   P01,    72,  1,      5, X12J05,2,20140727,0500, 46.5590, 159.2282, 5109,   4998.9,2,   1.5151,2,   1.51514,2,  34.6894,2,  34.6890,2,-999.0000,9,   157.00,2,   157.30,2,   99.819,   0.0072,2,    0.003,2,  -999.00,9,   -1.465,4,    0.000,2,   151.48,2,     0.17,    35.76,2,     0.05,     0.01,2,     0.01,     2.48,2,     0.01,  -999.00,9,  -999.00,    0.001,2,    0.000,2,    0.000,2,    0.000,2,   -999.0,9,   -999.0,9,   -999.0,9,-999.0000,     -999,9, -999.000,9,  -999.00,9, -999.000,9, -999.000,   -999.0,9,   -999.0, -999.000,9, -999.000, -999.000,9, -999.000,   -999.0,9,   -999.0, -999.000,9, -999.000,9, -999.000,9
  49NZ20140717,   P01,    72,  1,      4, X12J04,9,20140727,0500, 46.5590, 159.2282, 5109,   -999.0,9,-999.0000,9,-999.00000,9,-999.0000,9,-999.0000,9,-999.0000,9,  -999.00,9,  -999.00,9, -999.000,-999.0000,9, -999.000,9,  -999.00,9, -999.000,9, -999.000,9,  -999.00,9,  -999.00,  -999.00,9,  -999.00,  -999.00,9,  -999.00,  -999.00,9,  -999.00,  -999.00,9,  -999.00, -999.000,9, -999.000,9, -999.000,9, -999.000,9,   -999.0,9,   -999.0,9,   -999.0,9,-999.0000,     -999,9, -999.000,9,  -999.00,9, -999.000,9, -999.000,   -999.0,9,   -999.0, -999.000,9, -999.000, -999.000,9, -999.000,   -999.0,9,   -999.0, -999.000,9, -999.000,9, -999.000,9
  49NZ20140717,   P01,    72,  1,      3, X12J03,9,20140727,0500, 46.5590, 159.2282, 5109,   -999.0,9,-999.0000,9,-999.00000,9,-999.0000,9,-999.0000,9,-999.0000,9,  -999.00,9,  -999.00,9, -999.000,-999.0000,9, -999.000,9,  -999.00,9, -999.000,9, -999.000,9,  -999.00,9,  -999.00,  -999.00,9,  -999.00,  -999.00,9,  -999.00,  -999.00,9,  -999.00,  -999.00,9,  -999.00, -999.000,9, -999.000,9, -999.000,9, -999.000,9,   -999.0,9,   -999.0,9,   -999.0,9,-999.0000,     -999,9, -999.000,9,  -999.00,9, -999.000,9, -999.000,   -999.0,9,   -999.0, -999.000,9, -999.000, -999.000,9, -999.000,   -999.0,9,   -999.0, -999.000,9, -999.000,9, -999.000,9
  49NZ20140717,   P01,    72,  1,      2, X12J02,2,20140727,0500, 46.5590, 159.2282, 5109,    501.1,2,   3.3883,2,   3.38816,2,  34.2027,2,  34.2027,2,-999.0000,9,    14.04,2,    13.60,2,   99.843,   0.0063,2,    0.021,2,  -999.00,9,    3.057,1,    0.000,2,   127.24,2,     0.15,    44.56,2,     0.06,     0.01,2,     0.01,     3.16,2,     0.01,  -999.00,9,  -999.00,    0.591,2,    0.315,2,    0.033,2,    0.130,2,   -999.0,9,   -999.0,9,   -999.0,9,-999.0000,     -999,9, -999.000,9,  -999.00,9, -999.000,9, -999.000,   -999.0,9,   -999.0, -999.000,9, -999.000, -999.000,9, -999.000,   -999.0,9,   -999.0, -999.000,9, -999.000,9, -999.000,9
  49NZ20140717,   P01,    72,  1,      1, X12J01,2,20140727,0500, 46.5590, 159.2282, 5109,   5204.5,2,   1.5373,2,   1.53705,2,  34.6896,2,  34.6899,2,-999.0000,9,   157.14,2,   157.69,2,   99.662,   0.0136,2,    0.003,2,  -999.00,9,   -0.451,4,    0.000,2,   152.72,2,     0.17,    35.75,2,     0.05,     0.01,2,     0.01,     2.48,2,     0.01,  -999.00,9,  -999.00,    0.006,2,    0.001,2,    0.000,2,    0.000,2,   -999.0,9,   -999.0,9,   -999.0,9,-999.0000,     -999,9, -999.000,9,  -999.00,9, -999.000,9, -999.000,   -999.0,9,   -999.0, -999.000,9, -999.000, -999.000,9, -999.000,   -999.0,9,   -999.0, -999.000,9, -999.000,9, -999.000,9