BOTTLE,20230904JAMSTECRIGC
EXPOCODE,SECT,STNNBR,CASTNO,SAMPNO,BTLNBR,BTLNBR_FLAG_W,DATE,TIME,LATITUDE,LONGITUDE,DEPTH,CTDPRS,CTDPRS_FLAG_W,CTDTMP,CTDTMP_FLAG_W,SBE35,SBE35_FLAG_W,CTDSAL,CTDSAL_FLAG_W,SALNTY,SALNTY_FLAG_W,DNSSAL,DNSSAL_FLAG_W,CTDOXY,CTDOXY_FLAG_W,OXYGEN,OXYGEN_FLAG_W,XMISS,XMISSCP,XMISS_FLAG_W,FLUOR,FLUOR_FLAG_W,CHLORA,CHLORA_FLAG_W,CDOM,CDOM_FLAG_W,PAR,PAR_FLAG_W,SILCAT,SILCAT_FLAG_W,SILUNC,NITRAT,NITRAT_FLAG_W,NRAUNC,NITRIT,NITRIT_FLAG_W,NRIUNC,PHSPHT,PHSPHT_FLAG_W,PHPUNC,AMMONIA,AMMONIA_FLAG_W,NH4UNC,CFC-11,CFC-11_FLAG_W,CFC-12,CFC-12_FLAG_W,CFC113,CFC113_FLAG_W,SF6,SF6_FLAG_W,TCARBN,TCARBN_FLAG_W,ALKALI,ALKALI_FLAG_W,ALKALI_POT,ALKALI_POT_FLAG_W,PH_TOT,PH_TMP,PH_TOT_FLAG_W,CALCIUM,CALCIUM_FLAG_W,DOC,DOC_FLAG_W,DELC13,DELC13_FLAG_W,C13ERR,DELC14,DELC14_FLAG_W,C14ERR,CS-134,CS-134_FLAG_W,CS134ER,CS-137,CS-137_FLAG_W,CS137ER,I-129,I-129_FLAG_W,I-129ER,CDOM-325,CDOM-325_FLAG_W,CDOM-370,CDOM-370_FLAG_W,CDOM-443,CDOM-443_FLAG_W
,,,,,,,,UTC,DEG,DEG,METERS,DBAR,,ITS-90,,ITS-90,,PSS-78,,PSS-78,,G/KG,,UMOL/KG,,UMOL/KG,,%TRANS,/METER,,MG/CUM,,MG/CUM,,MG/CUM,,UE/SQM/S,,UMOL/KG,,UMOL/KG,UMOL/KG,,UMOL/KG,UMOL/KG,,UMOL/KG,UMOL/KG,,UMOL/KG,UMOL/KG,,UMOL/KG,PMOL/KG,,PMOL/KG,,PMOL/KG,,FMOL/KG,,UMOL/KG,,UMOL/KG,,UMOL/KG,,,DEG C,,MMOL/KG,,UMOL/KG,,/MILLE,,/MILLE,/MILLE,,/MILLE,MBQ/KG,,MBQ/KG,MBQ/KG,,MBQ/KG,,,,/METER,,/METER,,/METER,
  49NZ20140717,   P01,    76,  1,      0,   -999,9,20140729,1451, 46.9871, 163.3798, 5767,   -999.0,9,-999.0000,9,-999.00000,9,-999.0000,9,  32.7327,2,-999.0000,9,  -999.00,9,  -999.00,9, -999.000,-999.0000,9, -999.000,9,  -999.00,9, -999.000,9, -999.000,9,    18.75,2,     0.09,    12.88,2,     0.02,     0.16,2,     0.01,     1.26,2,     0.01,  -999.00,9,  -999.00, -999.000,9, -999.000,9, -999.000,9, -999.000,9,   -999.0,9,   -999.0,9,   -999.0,9,-999.0000,     -999,9, -999.000,9,  -999.00,9, -999.000,9, -999.000,   -999.0,9,   -999.0, -999.000,9, -999.000, -999.000,9, -999.000,   -999.0,9,   -999.0, -999.000,9, -999.000,9, -999.000,9
  49NZ20140717,   P01,    76,  1,     36, X12J36,2,20140729,1451, 46.9871, 163.3798, 5767,     10.3,2,  11.7997,2,  11.80085,2,  32.7260,2,  32.7287,2,-999.0000,9,   279.74,2,   281.14,2,   95.200,   0.1968,2,    0.444,2,  -999.00,9,   -0.125,1,    0.291,2,    18.78,2,     0.09,    12.91,2,     0.02,     0.16,2,     0.01,     1.26,2,     0.01,  -999.00,9,  -999.00,    3.532,2,    1.995,2,    0.347,2, -999.000,9,   -999.0,9,   -999.0,9,   -999.0,9,-999.0000,     -999,9, -999.000,9,  -999.00,9, -999.000,9, -999.000,   -999.0,9,   -999.0, -999.000,9, -999.000, -999.000,9, -999.000,   -999.0,9,   -999.0, -999.000,9, -999.000,9, -999.000,9
  49NZ20140717,   P01,    76,  1,     35, X12J35,2,20140729,1451, 46.9871, 163.3798, 5767,     50.5,2,   3.4326,2,   3.43711,2,  32.8450,2,  32.8472,2,-999.0000,9,   331.56,2,   332.65,2,   97.066,   0.1191,2,    0.510,2,  -999.00,9,    0.853,1,    0.000,2,    28.30,2,     0.09,    18.32,2,     0.03,     0.24,2,     0.01,     1.63,2,     0.01,  -999.00,9,  -999.00,    5.514,2,    2.922,2,    0.533,2, -999.000,9,   -999.0,9,   -999.0,9,   -999.0,9,-999.0000,     -999,9, -999.000,9,  -999.00,9, -999.000,9, -999.000,   -999.0,9,   -999.0, -999.000,9, -999.000, -999.000,9, -999.000,   -999.0,9,   -999.0, -999.000,9, -999.000,9, -999.000,9
  49NZ20140717,   P01,    76,  1,     34, X12J34,2,20140729,1451, 46.9871, 163.3798, 5767,    100.4,2,   1.5984,2,   1.59720,2,  32.9324,2,  32.9375,2,-999.0000,9,   323.42,2,   323.28,2,   99.503,   0.0199,2,    0.075,2,  -999.00,9,    1.013,1,    0.000,2,    35.56,2,     0.10,    23.11,2,     0.03,     0.01,2,     0.01,     1.85,2,     0.01,  -999.00,9,  -999.00,    5.757,2,    3.038,2,    0.552,2, -999.000,9,   -999.0,9,   -999.0,9,   -999.0,9,-999.0000,     -999,9, -999.000,9,  -999.00,9, -999.000,9, -999.000,   -999.0,9,   -999.0, -999.000,9, -999.000, -999.000,9, -999.000,   -999.0,9,   -999.0, -999.000,9, -999.000,9, -999.000,9
  49NZ20140717,   P01,    76,  1,     33, X12J33,2,20140729,1451, 46.9871, 163.3798, 5767,    150.2,2,   2.2830,2,   2.28331,2,  33.4428,2,  33.4428,2,-999.0000,9,   174.71,2,   176.09,2,   99.572,   0.0171,2,    0.016,2,  -999.00,9,    2.178,1,    0.000,2,    70.50,2,     0.12,    35.49,2,     0.05,     0.01,2,     0.01,     2.62,2,     0.01,  -999.00,9,  -999.00,    4.129,2,    2.178,2,    0.347,2, -999.000,9,   -999.0,9,   -999.0,9,   -999.0,9,-999.0000,     -999,9, -999.000,9,  -999.00,9, -999.000,9, -999.000,   -999.0,9,   -999.0, -999.000,9, -999.000, -999.000,9, -999.000,   -999.0,9,   -999.0, -999.000,9, -999.000,9, -999.000,9
  49NZ20140717,   P01,    76,  1,     32, X12J32,2,20140729,1451, 46.9871, 163.3798, 5767,    200.4,2,   3.0823,2,   3.08155,2,  33.7121,2,  33.7117,2,-999.0000,9,    80.54,2,    80.44,2,   99.590,   0.0164,2,    0.016,2,  -999.00,9,    2.554,1,    0.000,2,    89.09,2,     0.13,    42.20,2,     0.05,     0.01,2,     0.01,     3.01,2,     0.01,  -999.00,9,  -999.00,    2.920,2,    1.505,2,    0.213,2, -999.000,9,   -999.0,9,   -999.0,9,   -999.0,9,-999.0000,     -999,9, -999.000,9,  -999.00,9, -999.000,9, -999.000,   -999.0,9,   -999.0, -999.000,9, -999.000, -999.000,9, -999.000,   -999.0,9,   -999.0, -999.000,9, -999.000,9, -999.000,9
  49NZ20140717,   P01,    76,  1,     31, X12J31,2,20140729,1451, 46.9871, 163.3798, 5767,    250.0,2,   3.3729,2,   3.37280,2,  33.8506,2,  33.8485,2,-999.0000,9,    41.21,2,    41.73,2,   99.605,   0.0158,2,    0.016,2,  -999.00,9,    2.735,1,    0.000,2,    98.67,2,     0.14,    44.49,2,     0.06,     0.01,2,     0.01,     3.14,2,     0.01,  -999.00,9,  -999.00,    2.264,2,    1.140,2,    0.172,2, -999.000,9,   -999.0,9,   -999.0,9,   -999.0,9,-999.0000,     -999,9, -999.000,9,  -999.00,9, -999.000,9, -999.000,   -999.0,9,   -999.0, -999.000,9, -999.000, -999.000,9, -999.000,   -999.0,9,   -999.0, -999.000,9, -999.000,9, -999.000,9
  49NZ20140717,   P01,    76,  1,     30, X12J30,2,20140729,1451, 46.9871, 163.3798, 5767,    330.2,2,   3.4507,2,   3.45010,2,  33.9773,2,  33.9768,2,-999.0000,9,    28.38,2,    28.05,2,   99.730,   0.0108,2,    0.016,2,  -999.00,9,    2.849,1,    0.000,2,   108.32,2,     0.14,    44.63,2,     0.06,     0.00,2,     0.01,     3.16,2,     0.01,  -999.00,9,  -999.00,    1.654,2,    0.818,2,    0.117,2, -999.000,9,   -999.0,9,   -999.0,9,   -999.0,9,-999.0000,     -999,9, -999.000,9,  -999.00,9, -999.000,9, -999.000,   -999.0,9,   -999.0, -999.000,9, -999.000, -999.000,9, -999.000,   -999.0,9,   -999.0, -999.000,9, -999.000,9, -999.000,9
  49NZ20140717,   P01,    76,  1,     29, X12J29,2,20140729,1451, 46.9871, 163.3798, 5767,    429.9,2,   3.5564,2,   3.55641,2,  34.1061,2,  34.1058,2,-999.0000,9,    17.02,2,    16.63,2,   99.864,   0.0054,2,    0.014,2,  -999.00,9,    2.865,1,    0.000,2,   117.05,2,     0.15,    44.75,2,     0.06,     0.00,2,     0.01,     3.16,2,     0.01,  -999.00,9,  -999.00,    1.021,2,    0.484,2,    0.068,2, -999.000,9,   -999.0,9,   -999.0,9,   -999.0,9,-999.0000,     -999,9, -999.000,9,  -999.00,9, -999.000,9, -999.000,   -999.0,9,   -999.0, -999.000,9, -999.000, -999.000,9, -999.000,   -999.0,9,   -999.0, -999.000,9, -999.000,9, -999.000,9
  49NZ20140717,   P01,    76,  1,     28, X12J28,2,20140729,1451, 46.9871, 163.3798, 5767,    530.7,2,   3.3647,2,   3.36486,2,  34.1898,2,  34.1877,2,-999.0000,9,    14.82,2,    14.40,2,   99.899,   0.0041,2,    0.015,2,  -999.00,9,    2.985,1,    0.000,2,   127.24,2,     0.15,    44.67,2,     0.06,     0.00,2,     0.01,     3.16,2,     0.01,  -999.00,9,  -999.00,    0.696,2,    0.325,2,    0.056,2, -999.000,9,   -999.0,9,   -999.0,9,   -999.0,9,-999.0000,     -999,9, -999.000,9,  -999.00,9, -999.000,9, -999.000,   -999.0,9,   -999.0, -999.000,9, -999.000, -999.000,9, -999.000,   -999.0,9,   -999.0, -999.000,9, -999.000,9, -999.000,9
  49NZ20140717,   P01,    76,  1,     27, X12J27,2,20140729,1451, 46.9871, 163.3798, 5767,    630.0,2,   3.1812,2,   3.18106,2,  34.2480,2,  34.2466,2,-999.0000,9,    14.91,2,    14.22,2,   99.892,   0.0043,2,    0.013,2,  -999.00,9,    3.003,1,    0.000,2,   134.86,2,     0.16,    44.57,2,     0.06,     0.00,2,     0.01,     3.16,2,     0.01,  -999.00,9,  -999.00,    0.500,2,    0.231,2,    0.043,2, -999.000,9,   -999.0,9,   -999.0,9,   -999.0,9,-999.0000,     -999,9, -999.000,9,  -999.00,9, -999.000,9, -999.000,   -999.0,9,   -999.0, -999.000,9, -999.000, -999.000,9, -999.000,   -999.0,9,   -999.0, -999.000,9, -999.000,9, -999.000,9
  49NZ20140717,   P01,    76,  1,     26, X12J26,2,20140729,1451, 46.9871, 163.3798, 5767,    730.6,2,   3.0353,2,   3.03548,2,  34.3015,2,  34.3006,2,-999.0000,9,    16.19,2,    15.52,2,   99.866,   0.0054,2,    0.012,2,  -999.00,9,    3.026,1,    0.000,2,   141.07,2,     0.16,    44.46,2,     0.06,     0.00,2,     0.01,     3.16,2,     0.01,  -999.00,9,  -999.00,    0.355,2,    0.157,2,    0.020,2, -999.000,9,   -999.0,9,   -999.0,9,   -999.0,9,-999.0000,     -999,9, -999.000,9,  -999.00,9, -999.000,9, -999.000,   -999.0,9,   -999.0, -999.000,9, -999.000, -999.000,9, -999.000,   -999.0,9,   -999.0, -999.000,9, -999.000,9, -999.000,9
  49NZ20140717,   P01,    76,  1,     25, X12J25,2,20140729,1451, 46.9871, 163.3798, 5767,    830.0,2,   2.9070,2,   2.90700,2,  34.3448,2,  34.3446,2,-999.0000,9,    17.63,2,    17.48,2,   99.881,   0.0047,2,    0.012,2,  -999.00,9,    3.059,1,    0.000,2,   145.84,2,     0.17,    44.35,2,     0.06,     0.00,2,     0.01,     3.15,2,     0.01,  -999.00,9,  -999.00,    0.256,2,    0.113,2,    0.014,2, -999.000,9,   -999.0,9,   -999.0,9,   -999.0,9,-999.0000,     -999,9, -999.000,9,  -999.00,9, -999.000,9, -999.000,   -999.0,9,   -999.0, -999.000,9, -999.000, -999.000,9, -999.000,   -999.0,9,   -999.0, -999.000,9, -999.000,9, -999.000,9
  49NZ20140717,   P01,    76,  1,     24, X12J24,2,20140729,1451, 46.9871, 163.3798, 5767,    931.0,2,   2.7583,2,   2.75816,2,  34.3827,2,  34.3822,2,-999.0000,9,    19.05,2,    18.44,2,   99.832,   0.0067,2,    0.011,2,  -999.00,9,    3.086,1,    0.000,2,   150.89,2,     0.17,    44.18,2,     0.06,     0.00,2,     0.01,     3.14,2,     0.01,  -999.00,9,  -999.00,    0.186,2,    0.082,2,    0.007,2, -999.000,9,   -999.0,9,   -999.0,9,   -999.0,9,-999.0000,     -999,9, -999.000,9,  -999.00,9, -999.000,9, -999.000,   -999.0,9,   -999.0, -999.000,9, -999.000, -999.000,9, -999.000,   -999.0,9,   -999.0, -999.000,9, -999.000,9, -999.000,9
  49NZ20140717,   P01,    76,  1,     23, X12J23,2,20140729,1451, 46.9871, 163.3798, 5767,   1070.6,2,   2.5616,2,   2.56180,2,  34.4340,2,  34.4339,2,-999.0000,9,    21.88,2,    21.28,2,   99.914,   0.0035,2,    0.011,2,  -999.00,9,    3.097,1,    0.000,2,   157.43,2,     0.17,    44.12,2,     0.06,     0.00,2,     0.01,     3.13,2,     0.01,  -999.00,9,  -999.00,    0.096,2,    0.044,2,    0.000,2, -999.000,9,   -999.0,9,   -999.0,9,   -999.0,9,-999.0000,     -999,9, -999.000,9,  -999.00,9, -999.000,9, -999.000,   -999.0,9,   -999.0, -999.000,9, -999.000, -999.000,9, -999.000,   -999.0,9,   -999.0, -999.000,9, -999.000,9, -999.000,9
  49NZ20140717,   P01,    76,  1,     22, X12J22,2,20140729,1451, 46.9871, 163.3798, 5767,   1270.6,2,   2.3300,2,   2.33000,2,  34.4899,2,  34.4897,2,-999.0000,9,    29.71,2,    29.51,2,   99.927,   0.0029,2,    0.010,2,  -999.00,9,    3.058,1,    0.000,2,   163.68,2,     0.18,    43.77,2,     0.06,     0.00,2,     0.01,     3.10,2,     0.01,  -999.00,9,  -999.00,    0.044,2,    0.020,2,    0.000,2, -999.000,9,   -999.0,9,   -999.0,9,   -999.0,9,-999.0000,     -999,9, -999.000,9,  -999.00,9, -999.000,9, -999.000,   -999.0,9,   -999.0, -999.000,9, -999.000, -999.000,9, -999.000,   -999.0,9,   -999.0, -999.000,9, -999.000,9, -999.000,9
  49NZ20140717,   P01,    76,  1,     21, X12J21,2,20140729,1451, 46.9871, 163.3798, 5767,   1469.6,2,   2.1550,2,   2.15464,2,  34.5290,2,  34.5294,2,-999.0000,9,    42.42,2,    42.56,2,   99.909,   0.0036,2,    0.009,2,  -999.00,9,    3.046,1,    0.000,2,   167.39,2,     0.18,    42.94,2,     0.05,     0.00,2,     0.01,     3.04,2,     0.01,  -999.00,9,  -999.00,    0.035,2,    0.015,2,    0.000,2, -999.000,9,   -999.0,9,   -999.0,9,   -999.0,9,-999.0000,     -999,9, -999.000,9,  -999.00,9, -999.000,9, -999.000,   -999.0,9,   -999.0, -999.000,9, -999.000, -999.000,9, -999.000,   -999.0,9,   -999.0, -999.000,9, -999.000,9, -999.000,9
  49NZ20140717,   P01,    76,  1,     20, X12J20,2,20140729,1451, 46.9871, 163.3798, 5767,   1670.4,2,   2.0025,2,   2.00240,2,  34.5647,2,  34.5647,2,-999.0000,9,    54.61,2,    54.68,2,   99.953,   0.0019,2,    0.008,2,  -999.00,9,    2.899,1,    0.000,2,   169.88,2,     0.18,    42.22,2,     0.05,     0.00,2,     0.01,     2.99,2,     0.01,  -999.00,9,  -999.00,    0.017,2,    0.008,2,    0.000,2, -999.000,9,   -999.0,9,   -999.0,9,   -999.0,9,-999.0000,     -999,9, -999.000,9,  -999.00,9, -999.000,9, -999.000,   -999.0,9,   -999.0, -999.000,9, -999.000, -999.000,9, -999.000,   -999.0,9,   -999.0, -999.000,9, -999.000,9, -999.000,9
  49NZ20140717,   P01,    76,  1,     19, X12J19,2,20140729,1451, 46.9871, 163.3798, 5767,   1871.2,2,   1.8943,2,   1.89419,2,  34.5912,2,  34.5909,2,-999.0000,9,    68.21,2,    68.41,2,   99.959,   0.0016,2,    0.006,2,  -999.00,9,    2.841,1,    0.000,2,   169.04,2,     0.18,    41.39,2,     0.05,     0.00,2,     0.01,     2.92,2,     0.01,  -999.00,9,  -999.00,    0.006,2,    0.003,2,    0.000,2, -999.000,9,   -999.0,9,   -999.0,9,   -999.0,9,-999.0000,     -999,9, -999.000,9,  -999.00,9, -999.000,9, -999.000,   -999.0,9,   -999.0, -999.000,9, -999.000, -999.000,9, -999.000,   -999.0,9,   -999.0, -999.000,9, -999.000,9, -999.000,9
  49NZ20140717,   P01,    76,  1,     18, X12J18,2,20140729,1451, 46.9871, 163.3798, 5767,   2071.0,2,   1.7938,2,   1.79385,2,  34.6123,2,  34.6124,2,-999.0000,9,    80.97,2,    81.01,2,   99.948,   0.0021,2,    0.006,2,  -999.00,9,    2.819,1,    0.000,2,   168.29,2,     0.18,    40.63,2,     0.05,     0.00,2,     0.01,     2.87,2,     0.01,  -999.00,9,  -999.00,    0.001,2,    0.001,2,    0.000,2, -999.000,9,   -999.0,9,   -999.0,9,   -999.0,9,-999.0000,     -999,9, -999.000,9,  -999.00,9, -999.000,9, -999.000,   -999.0,9,   -999.0, -999.000,9, -999.000, -999.000,9, -999.000,   -999.0,9,   -999.0, -999.000,9, -999.000,9, -999.000,9
  49NZ20140717,   P01,    76,  1,     17, X12J17,2,20140729,1451, 46.9871, 163.3798, 5767,   2270.4,2,   1.7173,2,   1.71734,2,  34.6275,2,  34.6277,2,-999.0000,9,    92.03,2,    92.21,2,   99.938,   0.0025,2,    0.005,2,  -999.00,9,    2.682,1,    0.000,2,   166.79,2,     0.18,    39.90,2,     0.05,     0.00,2,     0.01,     2.81,2,     0.01,  -999.00,9,  -999.00,    0.003,2,    0.001,2,    0.000,2, -999.000,9,   -999.0,9,   -999.0,9,   -999.0,9,-999.0000,     -999,9, -999.000,9,  -999.00,9, -999.000,9, -999.000,   -999.0,9,   -999.0, -999.000,9, -999.000, -999.000,9, -999.000,   -999.0,9,   -999.0, -999.000,9, -999.000,9, -999.000,9
  49NZ20140717,   P01,    76,  1,     16, X12J16,2,20140729,1451, 46.9871, 163.3798, 5767,   2470.9,2,   1.6497,2,   1.64972,2,  34.6405,2,  34.6406,2,-999.0000,9,   103.14,2,   103.27,2,   99.948,   0.0021,2,    0.004,2,  -999.00,9,    2.695,1,    0.000,2,   164.75,2,     0.18,    39.23,2,     0.05,     0.00,2,     0.01,     2.76,2,     0.01,  -999.00,9,  -999.00,    0.000,2,    0.001,2,    0.000,2, -999.000,9,   -999.0,9,   -999.0,9,   -999.0,9,-999.0000,     -999,9, -999.000,9,  -999.00,9, -999.000,9, -999.000,   -999.0,9,   -999.0, -999.000,9, -999.000, -999.000,9, -999.000,   -999.0,9,   -999.0, -999.000,9, -999.000,9, -999.000,9
  49NZ20140717,   P01,    76,  1,     15, X12J15,2,20140729,1451, 46.9871, 163.3798, 5767,   2670.5,2,   1.5998,2,   1.59984,2,  34.6502,2,  34.6500,2,-999.0000,9,   112.26,2,   112.40,2,   99.953,   0.0019,2,    0.004,2,  -999.00,9,    2.631,1,    0.000,2,   162.81,2,     0.18,    38.67,2,     0.05,     0.00,2,     0.01,     2.72,2,     0.01,  -999.00,9,  -999.00,    0.000,2,    0.000,2,    0.000,2, -999.000,9,   -999.0,9,   -999.0,9,   -999.0,9,-999.0000,     -999,9, -999.000,9,  -999.00,9, -999.000,9, -999.000,   -999.0,9,   -999.0, -999.000,9, -999.000, -999.000,9, -999.000,   -999.0,9,   -999.0, -999.000,9, -999.000,9, -999.000,9
  49NZ20140717,   P01,    76,  1,     14, X12J14,2,20140729,1451, 46.9871, 163.3798, 5767,   2870.7,2,   1.5537,2,   1.55380,2,  34.6590,2,  34.6584,2,-999.0000,9,   121.26,2,   121.25,2,   99.966,   0.0014,2,    0.003,2,  -999.00,9,    2.492,1,    0.000,2,   160.48,2,     0.17,    38.18,2,     0.05,     0.00,2,     0.01,     2.67,2,     0.01,  -999.00,9,  -999.00,    0.000,2,    0.000,2,    0.000,2, -999.000,9,   -999.0,9,   -999.0,9,   -999.0,9,-999.0000,     -999,9, -999.000,9,  -999.00,9, -999.000,9, -999.000,   -999.0,9,   -999.0, -999.000,9, -999.000, -999.000,9, -999.000,   -999.0,9,   -999.0, -999.000,9, -999.000,9, -999.000,9
  49NZ20140717,   P01,    76,  1,     13, X12113,2,20140729,1451, 46.9871, 163.3798, 5767,   3081.2,2,   1.5227,2,   1.52286,2,  34.6652,2,  34.6647,2,-999.0000,9,   128.29,2,   128.13,2,   99.970,   0.0012,2,    0.003,2,  -999.00,9,    2.433,1,    0.000,2,   158.71,2,     0.17,    37.76,2,     0.05,     0.00,2,     0.01,     2.64,2,     0.01,  -999.00,9,  -999.00,    0.000,2,    0.000,2,    0.000,2, -999.000,9,   -999.0,9,   -999.0,9,   -999.0,9,-999.0000,     -999,9, -999.000,9,  -999.00,9, -999.000,9, -999.000,   -999.0,9,   -999.0, -999.000,9, -999.000, -999.000,9, -999.000,   -999.0,9,   -999.0, -999.000,9, -999.000,9, -999.000,9
  49NZ20140717,   P01,    76,  1,     12, X12J12,2,20140729,1451, 46.9871, 163.3798, 5767,   3330.5,2,   1.4943,2,   1.49431,2,  34.6714,2,  34.6710,2,-999.0000,9,   135.44,2,   135.22,2,   99.974,   0.0010,2,    0.003,2,  -999.00,9,    2.412,1,    0.000,2,   156.26,2,     0.17,    37.25,2,     0.05,     0.00,2,     0.01,     2.60,2,     0.01,  -999.00,9,  -999.00,    0.000,2,    0.000,2,    0.000,2, -999.000,9,   -999.0,9,   -999.0,9,   -999.0,9,-999.0000,     -999,9, -999.000,9,  -999.00,9, -999.000,9, -999.000,   -999.0,9,   -999.0, -999.000,9, -999.000, -999.000,9, -999.000,   -999.0,9,   -999.0, -999.000,9, -999.000,9, -999.000,9
  49NZ20140717,   P01,    76,  1,     11, X12J11,2,20140729,1451, 46.9871, 163.3798, 5767,   3581.1,2,   1.4755,2,   1.47572,2,  34.6763,2,  34.6762,2,-999.0000,9,   141.31,2,   140.93,2,   99.976,   0.0009,2,    0.002,2,  -999.00,9,    2.389,1,    0.000,2,   154.74,2,     0.17,    36.88,2,     0.05,     0.00,2,     0.01,     2.57,2,     0.01,  -999.00,9,  -999.00,    0.000,2,    0.000,2,    0.000,2, -999.000,9,   -999.0,9,   -999.0,9,   -999.0,9,-999.0000,     -999,9, -999.000,9,  -999.00,9, -999.000,9, -999.000,   -999.0,9,   -999.0, -999.000,9, -999.000, -999.000,9, -999.000,   -999.0,9,   -999.0, -999.000,9, -999.000,9, -999.000,9
  49NZ20140717,   P01,    76,  1,     10, X12J10,2,20140729,1451, 46.9871, 163.3798, 5767,   3830.3,2,   1.4675,2,   1.46753,2,  34.6799,2,  34.6798,2,-999.0000,9,   145.99,2,   145.58,2,   99.979,   0.0009,2,    0.001,2,  -999.00,9,    2.314,1,    0.000,2,   153.43,2,     0.17,    36.56,2,     0.05,     0.00,2,     0.01,     2.54,2,     0.01,  -999.00,9,  -999.00,    0.000,2,    0.000,2,    0.000,2, -999.000,9,   -999.0,9,   -999.0,9,   -999.0,9,-999.0000,     -999,9, -999.000,9,  -999.00,9, -999.000,9, -999.000,   -999.0,9,   -999.0, -999.000,9, -999.000, -999.000,9, -999.000,   -999.0,9,   -999.0, -999.000,9, -999.000,9, -999.000,9