BOTTLE,20230904JAMSTECRIGC
EXPOCODE,SECT,STNNBR,CASTNO,SAMPNO,BTLNBR,BTLNBR_FLAG_W,DATE,TIME,LATITUDE,LONGITUDE,DEPTH,CTDPRS,CTDPRS_FLAG_W,CTDTMP,CTDTMP_FLAG_W,SBE35,SBE35_FLAG_W,CTDSAL,CTDSAL_FLAG_W,SALNTY,SALNTY_FLAG_W,DNSSAL,DNSSAL_FLAG_W,CTDOXY,CTDOXY_FLAG_W,OXYGEN,OXYGEN_FLAG_W,XMISS,XMISSCP,XMISS_FLAG_W,FLUOR,FLUOR_FLAG_W,CHLORA,CHLORA_FLAG_W,CDOM,CDOM_FLAG_W,PAR,PAR_FLAG_W,SILCAT,SILCAT_FLAG_W,SILUNC,NITRAT,NITRAT_FLAG_W,NRAUNC,NITRIT,NITRIT_FLAG_W,NRIUNC,PHSPHT,PHSPHT_FLAG_W,PHPUNC,AMMONIA,AMMONIA_FLAG_W,NH4UNC,CFC-11,CFC-11_FLAG_W,CFC-12,CFC-12_FLAG_W,CFC113,CFC113_FLAG_W,SF6,SF6_FLAG_W,TCARBN,TCARBN_FLAG_W,ALKALI,ALKALI_FLAG_W,ALKALI_POT,ALKALI_POT_FLAG_W,PH_TOT,PH_TMP,PH_TOT_FLAG_W,CALCIUM,CALCIUM_FLAG_W,DOC,DOC_FLAG_W,DELC13,DELC13_FLAG_W,C13ERR,DELC14,DELC14_FLAG_W,C14ERR,CS-134,CS-134_FLAG_W,CS134ER,CS-137,CS-137_FLAG_W,CS137ER,I-129,I-129_FLAG_W,I-129ER,CDOM-325,CDOM-325_FLAG_W,CDOM-370,CDOM-370_FLAG_W,CDOM-443,CDOM-443_FLAG_W
,,,,,,,,UTC,DEG,DEG,METERS,DBAR,,ITS-90,,ITS-90,,PSS-78,,PSS-78,,G/KG,,UMOL/KG,,UMOL/KG,,%TRANS,/METER,,MG/CUM,,MG/CUM,,MG/CUM,,UE/SQM/S,,UMOL/KG,,UMOL/KG,UMOL/KG,,UMOL/KG,UMOL/KG,,UMOL/KG,UMOL/KG,,UMOL/KG,UMOL/KG,,UMOL/KG,PMOL/KG,,PMOL/KG,,PMOL/KG,,FMOL/KG,,UMOL/KG,,UMOL/KG,,UMOL/KG,,,DEG C,,MMOL/KG,,UMOL/KG,,/MILLE,,/MILLE,/MILLE,,/MILLE,MBQ/KG,,MBQ/KG,MBQ/KG,,MBQ/KG,,,,/METER,,/METER,,/METER,
  49NZ20140717,   P01,    91,  3,      9, X12J09,2,20140802,2037, 47.0058, 173.8337, 5784,   4079.7,2,   1.4616,2,   1.46163,2,  34.6836,2,  34.6834,2,-999.0000,9,   148.99,2,   148.83,2,   99.977,   0.0009,2,    0.001,2,  -999.00,9,    2.064,4,    0.000,2,   155.04,2,     0.17,    36.25,2,     0.05,     0.00,2,     0.01,     2.54,2,     0.01,  -999.00,9,  -999.00,    0.000,2,    0.000,2,    0.000,2,    0.000,2,   2330.4,2,   2418.7,2,   -999.0,9,   7.5698,       25,2, -999.000,9,    39.09,2, -999.000,1, -999.000,   -999.0,1,   -999.0, -999.000,9, -999.000, -999.000,9, -999.000,   -999.0,9,   -999.0, -999.000,9, -999.000,9, -999.000,9
  49NZ20140717,   P01,    91,  3,      8, X12J08,2,20140802,2037, 47.0058, 173.8337, 5784,   4331.1,2,   1.4717,2,   1.47194,2,  34.6858,2,  34.6853,2,-999.0000,9,   151.34,2,   151.09,2,   99.990,   0.0004,2,    0.000,2,  -999.00,9,    0.637,4,    0.000,2,   155.37,2,     0.17,    36.09,2,     0.05,     0.00,2,     0.01,     2.52,2,     0.01,  -999.00,9,  -999.00,    0.000,2,    0.001,2,    0.000,2,    0.000,2,   2328.8,6,   2418.3,2,   -999.0,9,   7.5746,       25,2, -999.000,9,    40.40,2, -999.000,9, -999.000,   -999.0,9,   -999.0, -999.000,9, -999.000, -999.000,9, -999.000,   -999.0,9,   -999.0, -999.000,9, -999.000,9, -999.000,9
  49NZ20140717,   P01,    91,  3,      7, X12J07,2,20140802,2037, 47.0058, 173.8337, 5784,   4579.5,2,   1.4912,2,   1.49135,2,  34.6870,2,  34.6865,2,-999.0000,9,   152.53,2,   152.26,2,   99.981,   0.0007,2,    0.000,2,  -999.00,9,   -1.646,4,    0.000,2,   156.27,2,     0.17,    36.04,2,     0.05,     0.00,2,     0.01,     2.52,2,     0.01,  -999.00,9,  -999.00,    0.000,2,    0.000,2,    0.001,2,    0.000,2,   2327.9,2,   2418.2,2,   -999.0,9,   7.5772,       25,6, -999.000,9,    39.54,2, -999.000,1, -999.000,   -999.0,1,   -999.0, -999.000,9, -999.000, -999.000,9, -999.000,   -999.0,9,   -999.0, -999.000,9, -999.000,9, -999.000,9
  49NZ20140717,   P01,    91,  3,      6, X12J06,2,20140802,2037, 47.0058, 173.8337, 5784,   4830.1,2,   1.5158,2,   1.51591,2,  34.6877,2,  34.6873,2,-999.0000,9,   153.19,2,   152.91,2,   99.996,   0.0001,2,    0.000,2,  -999.00,9,   -1.740,4,    0.000,2,   156.93,2,     0.17,    36.01,2,     0.05,     0.00,2,     0.01,     2.51,2,     0.01,  -999.00,9,  -999.00,    0.001,2,    0.001,2,    0.000,2,    0.000,2,   2327.5,2,   2420.0,6,   -999.0,9,   7.5788,       25,2, -999.000,9,    39.24,2, -999.000,9, -999.000,   -999.0,9,   -999.0, -999.000,9, -999.000, -999.000,9, -999.000,   -999.0,9,   -999.0, -999.000,9, -999.000,9, -999.000,9
  49NZ20140717,   P01,    91,  3,      5, X12J05,2,20140802,2037, 47.0058, 173.8337, 5784,   5081.8,2,   1.5434,2,   1.54345,2,  34.6880,2,  34.6879,2,-999.0000,9,   153.79,2,   153.65,2,   99.990,   0.0004,2,    0.000,2,  -999.00,9,   -1.802,4,    0.000,2,   156.66,2,     0.17,    35.96,2,     0.05,     0.00,2,     0.01,     2.51,2,     0.01,  -999.00,9,  -999.00,    0.000,2,    0.000,2,    0.000,2,    0.000,2,   2326.8,2,   2419.6,2,   -999.0,9,   7.5794,       25,2, -999.000,9,    38.94,2, -999.000,1, -999.000,   -999.0,1,   -999.0, -999.000,9, -999.000, -999.000,9, -999.000,   -999.0,9,   -999.0, -999.000,9, -999.000,9, -999.000,9
  49NZ20140717,   P01,    91,  3,      4, X12J04,2,20140802,2037, 47.0058, 173.8337, 5784,   5329.2,2,   1.5726,2,   1.57254,2,  34.6882,2,  34.6882,2,-999.0000,9,   154.25,2,   154.19,2,   99.957,   0.0017,2,    0.000,2,  -999.00,9,   -1.900,4,    0.000,2,   155.91,2,     0.17,    35.91,2,     0.05,     0.00,2,     0.01,     2.50,2,     0.01,  -999.00,9,  -999.00,    0.000,2,    0.000,2,    0.000,2,    0.000,2,   2327.3,2,   2419.0,2,   -999.0,9,   7.5806,       25,2, -999.000,9,    38.35,2, -999.000,9, -999.000,   -999.0,9,   -999.0, -999.000,9, -999.000, -999.000,9, -999.000,   -999.0,9,   -999.0, -999.000,9, -999.000,9, -999.000,9
  49NZ20140717,   P01,    91,  3,      3, X12J03,2,20140802,2037, 47.0058, 173.8337, 5784,   5579.7,2,   1.6037,2,   1.60363,2,  34.6884,2,  34.6869,3,-999.0000,9,   154.55,2,   154.62,2,   99.912,   0.0035,2,    0.000,2,  -999.00,9,   -1.908,4,    0.000,2,   155.66,2,     0.17,    35.88,2,     0.05,     0.00,2,     0.01,     2.50,2,     0.01,  -999.00,9,  -999.00,    0.004,2,    0.003,2,    0.000,2,    0.000,2,   2326.4,2,   2419.5,2,   -999.0,9,   7.5814,       25,2, -999.000,9,    39.22,2, -999.000,9, -999.000,   -999.0,9,   -999.0, -999.000,9, -999.000, -999.000,9, -999.000,   -999.0,9,   -999.0, -999.000,9, -999.000,9, -999.000,9
  49NZ20140717,   P01,    91,  3,      2, X12J02,2,20140802,2037, 47.0058, 173.8337, 5784,   5829.6,2,   1.6376,2,   1.63749,2,  34.6883,2,  34.6883,2,-999.0000,9,   154.38,2,   154.76,2,   99.895,   0.0042,2,    0.000,2,  -999.00,9,   -1.927,4,    0.000,2,   155.82,2,     0.17,    35.91,2,     0.05,     0.01,2,     0.01,     2.51,2,     0.01,  -999.00,9,  -999.00,    0.002,2,    0.001,2,    0.000,2,    0.000,2,   2326.6,2,   2416.6,2,   -999.0,9,   7.5811,       25,2, -999.000,9,    38.71,2, -999.000,9, -999.000,   -999.0,9,   -999.0, -999.000,9, -999.000, -999.000,9, -999.000,   -999.0,9,   -999.0, -999.000,9, -999.000,9, -999.000,9
  49NZ20140717,   P01,    91,  3,      1, X12J01,2,20140802,2037, 47.0058, 173.8337, 5784,   5909.8,2,   1.6487,2,   1.64857,2,  34.6882,2,  34.6884,2,-999.0000,9,   154.31,2,   154.72,2,   99.875,   0.0050,2,    0.000,2,  -999.00,9,   -1.273,4,    0.000,2,   155.90,2,     0.17,    35.95,2,     0.05,     0.01,2,     0.01,     2.51,2,     0.01,  -999.00,9,  -999.00,    0.003,2,    0.002,2,    0.000,2,    0.000,2,   2326.6,2,   2417.1,2,   -999.0,9,   7.5812,       25,2, -999.000,9,    39.33,2, -999.000,1, -999.000,   -999.0,1,   -999.0, -999.000,9, -999.000, -999.000,9, -999.000,   -999.0,9,   -999.0, -999.000,9, -999.000,9, -999.000,9