BOTTLE,20230904JAMSTECRIGC
EXPOCODE,SECT,STNNBR,CASTNO,SAMPNO,BTLNBR,BTLNBR_FLAG_W,DATE,TIME,LATITUDE,LONGITUDE,DEPTH,CTDPRS,CTDPRS_FLAG_W,CTDTMP,CTDTMP_FLAG_W,SBE35,SBE35_FLAG_W,CTDSAL,CTDSAL_FLAG_W,SALNTY,SALNTY_FLAG_W,DNSSAL,DNSSAL_FLAG_W,CTDOXY,CTDOXY_FLAG_W,OXYGEN,OXYGEN_FLAG_W,XMISS,XMISSCP,XMISS_FLAG_W,FLUOR,FLUOR_FLAG_W,CHLORA,CHLORA_FLAG_W,CDOM,CDOM_FLAG_W,PAR,PAR_FLAG_W,SILCAT,SILCAT_FLAG_W,SILUNC,NITRAT,NITRAT_FLAG_W,NRAUNC,NITRIT,NITRIT_FLAG_W,NRIUNC,PHSPHT,PHSPHT_FLAG_W,PHPUNC,AMMONIA,AMMONIA_FLAG_W,NH4UNC,CFC-11,CFC-11_FLAG_W,CFC-12,CFC-12_FLAG_W,CFC113,CFC113_FLAG_W,SF6,SF6_FLAG_W,TCARBN,TCARBN_FLAG_W,ALKALI,ALKALI_FLAG_W,ALKALI_POT,ALKALI_POT_FLAG_W,PH_TOT,PH_TMP,PH_TOT_FLAG_W,CALCIUM,CALCIUM_FLAG_W,DOC,DOC_FLAG_W,DELC13,DELC13_FLAG_W,C13ERR,DELC14,DELC14_FLAG_W,C14ERR,CS-134,CS-134_FLAG_W,CS134ER,CS-137,CS-137_FLAG_W,CS137ER,I-129,I-129_FLAG_W,I-129ER,CDOM-325,CDOM-325_FLAG_W,CDOM-370,CDOM-370_FLAG_W,CDOM-443,CDOM-443_FLAG_W
,,,,,,,,UTC,DEG,DEG,METERS,DBAR,,ITS-90,,ITS-90,,PSS-78,,PSS-78,,G/KG,,UMOL/KG,,UMOL/KG,,%TRANS,/METER,,MG/CUM,,MG/CUM,,MG/CUM,,UE/SQM/S,,UMOL/KG,,UMOL/KG,UMOL/KG,,UMOL/KG,UMOL/KG,,UMOL/KG,UMOL/KG,,UMOL/KG,UMOL/KG,,UMOL/KG,PMOL/KG,,PMOL/KG,,PMOL/KG,,FMOL/KG,,UMOL/KG,,UMOL/KG,,UMOL/KG,,,DEG C,,MMOL/KG,,UMOL/KG,,/MILLE,,/MILLE,/MILLE,,/MILLE,MBQ/KG,,MBQ/KG,MBQ/KG,,MBQ/KG,,,,/METER,,/METER,,/METER,
  49NZ20140717,   P01,    89,  1,      0,   -999,9,20140802,0024, 46.9985, 171.6175, 6022,   -999.0,9,-999.0000,9,-999.00000,9,-999.0000,9,  32.8010,2,-999.0000,9,  -999.00,9,  -999.00,9, -999.000,-999.0000,9, -999.000,9,  -999.00,9, -999.000,9, -999.000,9,    27.65,2,     0.09,    12.96,2,     0.02,     0.14,2,     0.01,     1.28,2,     0.01,  -999.00,9,  -999.00, -999.000,9, -999.000,9, -999.000,9, -999.000,9,   -999.0,9,   -999.0,9,   -999.0,9,-999.0000,     -999,9, -999.000,9,  -999.00,9, -999.000,9, -999.000,   -999.0,9,   -999.0, -999.000,9, -999.000, -999.000,9, -999.000,   -999.0,9,   -999.0, -999.000,9, -999.000,9, -999.000,9
  49NZ20140717,   P01,    89,  1,     36, X12J36,2,20140802,0024, 46.9985, 171.6175, 6022,     10.0,2,  11.5263,2,  11.52512,2,  32.8173,2,  32.8112,2,-999.0000,9,   285.71,2,   285.38,2,   95.602,   0.1799,2,    0.320,2,  -999.00,9,   -0.044,1,  196.264,2,    25.90,2,     0.09,    12.67,2,     0.02,     0.14,2,     0.01,     1.26,2,     0.01,  -999.00,9,  -999.00, -999.000,9, -999.000,9, -999.000,9, -999.000,9,   2041.2,2,   2222.6,2,   2224.5,2,   7.8471,       25,6,    9.737,2,    61.21,2, -999.000,9, -999.000,   -999.0,9,   -999.0, -999.000,9, -999.000, -999.000,9, -999.000,   -999.0,9,   -999.0, -999.000,9, -999.000,9, -999.000,9
  49NZ20140717,   P01,    89,  1,     35, X12J35,2,20140802,0024, 46.9985, 171.6175, 6022,     50.2,2,   4.2189,2,   4.21399,2,  32.8947,2,  32.8985,2,  33.0586,2,   319.73,2,   320.39,2,   96.783,   0.1308,2,    0.559,2,  -999.00,9,    0.793,1,    5.812,2,    34.57,2,     0.10,    20.79,2,     0.03,     0.25,2,     0.01,     1.79,2,     0.01,  -999.00,9,  -999.00, -999.000,9, -999.000,9, -999.000,9, -999.000,9,   2101.9,6,   2223.2,2,   2223.2,2,   7.6970,       25,2,    9.739,2,    53.14,2, -999.000,9, -999.000,   -999.0,9,   -999.0, -999.000,9, -999.000, -999.000,9, -999.000,   -999.0,9,   -999.0, -999.000,9, -999.000,9, -999.000,9
  49NZ20140717,   P01,    89,  1,     34, X12J34,2,20140802,0024, 46.9985, 171.6175, 6022,    100.5,2,   2.8718,2,   2.87021,2,  32.9915,2,  33.0053,2,  33.1654,2,   312.28,2,   309.44,2,   99.421,   0.0232,2,    0.078,2,  -999.00,9,    0.835,1,    0.196,2,    40.85,2,     0.10,    24.81,2,     0.04,     0.05,2,     0.01,     1.96,2,     0.01,  -999.00,9,  -999.00, -999.000,9, -999.000,9, -999.000,9, -999.000,9,   2126.8,2,   2229.7,2,   2234.3,2,   7.6421,       25,2,    9.778,2,    48.82,2, -999.000,9, -999.000,   -999.0,9,   -999.0, -999.000,9, -999.000, -999.000,9, -999.000,   -999.0,9,   -999.0, -999.000,9, -999.000,9, -999.000,9
  49NZ20140717,   P01,    89,  1,     33, X12J33,2,20140802,0024, 46.9985, 171.6175, 6022,    150.4,2,   3.6321,2,   3.63561,2,  33.7710,2,  33.7765,2,  33.9438,2,    58.92,2,    58.20,2,   99.495,   0.0203,2,    0.022,2,  -999.00,9,    2.598,1,    0.000,2,    88.36,2,     0.13,    43.40,2,     0.05,     0.01,2,     0.01,     3.07,2,     0.01,  -999.00,9,  -999.00, -999.000,9, -999.000,9, -999.000,9, -999.000,9,   2314.1,2,   2287.1,2,   2289.2,2,   7.2537,       25,6,   10.023,2,    45.83,2, -999.000,9, -999.000,   -999.0,9,   -999.0, -999.000,9, -999.000, -999.000,9, -999.000,   -999.0,9,   -999.0, -999.000,9, -999.000,9, -999.000,9
  49NZ20140717,   P01,    89,  1,     32, X12J32,2,20140802,0024, 46.9985, 171.6175, 6022,    199.8,2,   3.7235,2,   3.72333,2,  33.9004,2,  33.9004,2,  34.0711,2,    25.94,2,    26.07,2,   99.702,   0.0119,2,    0.020,2,  -999.00,9,    2.840,1,    0.000,2,    97.61,2,     0.14,    45.35,2,     0.06,     0.01,2,     0.01,     3.19,2,     0.01,  -999.00,9,  -999.00, -999.000,9, -999.000,9, -999.000,9, -999.000,9,   2337.4,2,   2300.8,6,   -999.0,9,   7.2188,       25,2, -999.000,9,    43.73,2, -999.000,9, -999.000,   -999.0,9,   -999.0, -999.000,9, -999.000, -999.000,9, -999.000,   -999.0,9,   -999.0, -999.000,9, -999.000,9, -999.000,9
  49NZ20140717,   P01,    89,  1,     31, X12J31,2,20140802,0024, 46.9985, 171.6175, 6022,    250.7,2,   3.7162,2,   3.71609,2,  33.9704,2,  33.9693,2,  34.1397,2,    16.96,2,    16.78,2,   99.720,   0.0112,2,    0.019,2,  -999.00,9,    2.909,1,    0.000,2,   103.40,2,     0.14,    45.66,2,     0.06,     0.01,2,     0.01,     3.23,2,     0.01,  -999.00,9,  -999.00, -999.000,9, -999.000,9, -999.000,9, -999.000,9,   2348.0,2,   2310.3,2,   -999.0,9,   7.2179,       25,2, -999.000,9,    43.29,2, -999.000,9, -999.000,   -999.0,9,   -999.0, -999.000,9, -999.000, -999.000,9, -999.000,   -999.0,9,   -999.0, -999.000,9, -999.000,9, -999.000,9
  49NZ20140717,   P01,    89,  1,     30, X12J30,2,20140802,0024, 46.9985, 171.6175, 6022,    279.7,2,   3.6965,2,   3.69626,2,  34.0130,2,  34.0122,2,  34.1839,2,    14.68,2,    14.35,2,   99.717,   0.0113,2,    0.017,2,  -999.00,9,    2.960,1,    0.000,2,   107.38,2,     0.14,    45.58,2,     0.06,     0.01,2,     0.01,     3.23,2,     0.01,  -999.00,9,  -999.00, -999.000,9, -999.000,9, -999.000,9, -999.000,9,   2352.1,2,   2315.1,2,   -999.0,9,   7.2245,       25,2, -999.000,9,    42.49,2, -999.000,9, -999.000,   -999.0,9,   -999.0, -999.000,9, -999.000, -999.000,9, -999.000,   -999.0,9,   -999.0, -999.000,9, -999.000,9, -999.000,9
  49NZ20140717,   P01,    89,  1,     29, X12J29,2,20140802,0024, 46.9985, 171.6175, 6022,    370.8,2,   3.5553,2,   3.55495,2,  34.1099,2,  34.1098,2,  34.2848,2,    17.02,2,    16.69,2,   99.808,   0.0077,2,    0.015,2,  -999.00,9,    3.010,1,    0.000,2,   117.05,2,     0.15,    44.71,2,     0.06,     0.01,2,     0.01,     3.17,2,     0.01,  -999.00,9,  -999.00, -999.000,9, -999.000,9, -999.000,9, -999.000,9,   2356.2,2,   2331.2,2,   -999.0,9,   7.2526,       25,2, -999.000,9,    41.99,2, -999.000,9, -999.000,   -999.0,9,   -999.0, -999.000,9, -999.000, -999.000,9, -999.000,   -999.0,9,   -999.0, -999.000,9, -999.000,9, -999.000,9
  49NZ20140717,   P01,    89,  1,     28, X12J28,2,20140802,0024, 46.9985, 171.6175, 6022,    470.4,2,   3.4297,2,   3.42948,2,  34.1917,2,  34.1917,2,  34.3652,2,    14.17,2,    13.62,2,   99.890,   0.0044,2,    0.015,2,  -999.00,9,    3.011,1,    0.000,2,   125.06,2,     0.15,    44.57,2,     0.06,     0.01,2,     0.01,     3.17,2,     0.01,  -999.00,9,  -999.00, -999.000,9, -999.000,9, -999.000,9, -999.000,9,   2364.7,2,   2343.7,2,   2347.2,2,   7.2644,       25,2,   10.174,2,    41.98,2, -999.000,9, -999.000,   -999.0,9,   -999.0, -999.000,9, -999.000, -999.000,9, -999.000,   -999.0,9,   -999.0, -999.000,9, -999.000,9, -999.000,9
  49NZ20140717,   P01,    89,  1,     27, X12J27,2,20140802,0024, 46.9985, 171.6175, 6022,    570.8,2,   3.2636,2,   3.26343,2,  34.2538,2,  34.2536,2,  34.4299,2,    14.54,2,    13.91,2,   99.875,   0.0050,2,    0.014,2,  -999.00,9,    3.094,1,    0.000,2,   132.51,2,     0.16,    44.56,2,     0.06,     0.01,2,     0.01,     3.16,2,     0.01,  -999.00,9,  -999.00, -999.000,9, -999.000,9, -999.000,9, -999.000,9,   2371.3,2,   2353.1,2,   -999.0,9,   7.2766,       25,2, -999.000,9,    40.40,2, -999.000,9, -999.000,   -999.0,9,   -999.0, -999.000,9, -999.000, -999.000,9, -999.000,   -999.0,9,   -999.0, -999.000,9, -999.000,9, -999.000,9
  49NZ20140717,   P01,    89,  1,     26, X12J26,2,20140802,0024, 46.9985, 171.6175, 6022,    669.6,2,   3.0990,2,   3.09884,2,  34.3020,2,  34.3014,2,  34.4787,2,    15.32,2,    14.69,2,   99.871,   0.0052,2,    0.014,2,  -999.00,9,    3.086,1,    0.000,2,   139.20,2,     0.16,    44.49,2,     0.06,     0.00,2,     0.01,     3.17,2,     0.01,  -999.00,9,  -999.00, -999.000,9, -999.000,9, -999.000,9, -999.000,9,   2376.8,6,   2364.8,2,   -999.0,9,   7.2840,       25,2, -999.000,9,    40.20,2, -999.000,9, -999.000,   -999.0,9,   -999.0, -999.000,9, -999.000, -999.000,9, -999.000,   -999.0,9,   -999.0, -999.000,9, -999.000,9, -999.000,9
  49NZ20140717,   P01,    89,  1,     25, X12J25,2,20140802,0024, 46.9985, 171.6175, 6022,    770.3,2,   2.9492,2,   2.94956,2,  34.3427,2,  34.3424,2,  34.5195,2,    15.31,2,    14.53,2,   99.884,   0.0046,2,    0.013,2,  -999.00,9,    3.170,1,    0.000,2,   145.15,2,     0.16,    44.56,2,     0.06,     0.00,2,     0.01,     3.17,2,     0.01,  -999.00,9,  -999.00, -999.000,9, -999.000,9, -999.000,9, -999.000,9,   2383.1,2,   2370.1,2,   2371.2,2,   7.2890,       25,2,   10.218,2,    40.11,2, -999.000,9, -999.000,   -999.0,9,   -999.0, -999.000,9, -999.000, -999.000,9, -999.000,   -999.0,9,   -999.0, -999.000,9, -999.000,9, -999.000,9
  49NZ20140717,   P01,    89,  1,     24, X12J24,2,20140802,0024, 46.9985, 171.6175, 6022,    868.8,2,   2.7841,2,   2.78381,2,  34.3832,2,  34.3831,2,  34.5598,2,    16.61,2,    15.88,2,   99.882,   0.0047,2,    0.012,2,  -999.00,9,    3.119,1,    0.000,2,   150.43,2,     0.17,    44.28,2,     0.06,     0.01,2,     0.01,     3.16,2,     0.01,  -999.00,9,  -999.00, -999.000,9, -999.000,9, -999.000,9, -999.000,9,   2387.2,2,   2377.8,2,   -999.0,9,   7.2995,       25,2, -999.000,9,    39.99,2, -999.000,9, -999.000,   -999.0,9,   -999.0, -999.000,9, -999.000, -999.000,9, -999.000,   -999.0,9,   -999.0, -999.000,9, -999.000,9, -999.000,9
  49NZ20140717,   P01,    89,  1,     23, X12J23,2,20140802,0024, 46.9985, 171.6175, 6022,    969.9,2,   2.6260,2,   2.62576,2,  34.4172,2,  34.4175,2,  34.5960,2,    23.23,2,    23.12,2,   99.914,   0.0034,2,    0.011,2,  -999.00,9,    3.141,1,    0.000,2,   154.24,2,     0.17,    43.92,2,     0.06,     0.00,2,     0.01,     3.13,2,     0.01,  -999.00,9,  -999.00, -999.000,9, -999.000,9, -999.000,9, -999.000,9,   2387.6,2,   2383.6,2,   2382.7,2,   7.3148,       25,2,   10.240,2,    39.84,2, -999.000,9, -999.000,   -999.0,9,   -999.0, -999.000,9, -999.000, -999.000,9, -999.000,   -999.0,9,   -999.0, -999.000,9, -999.000,9, -999.000,9
  49NZ20140717,   P01,    89,  1,     22, X12J22,2,20140802,0024, 46.9985, 171.6175, 6022,   1129.1,2,   2.4252,2,   2.42527,2,  34.4645,2,  34.4646,2,  34.6442,2,    28.66,2,    28.53,2,   99.899,   0.0040,2,    0.010,2,  -999.00,9,    3.137,1,    0.000,2,   160.56,2,     0.17,    43.67,2,     0.06,     0.01,2,     0.01,     3.11,2,     0.01,  -999.00,9,  -999.00, -999.000,9, -999.000,9, -999.000,9, -999.000,9,   2389.6,2,   2391.2,6,   2389.6,2,   7.3306,       25,2,   10.265,2,    39.77,2, -999.000,9, -999.000,   -999.0,9,   -999.0, -999.000,9, -999.000, -999.000,9, -999.000,   -999.0,9,   -999.0, -999.000,9, -999.000,9, -999.000,9
  49NZ20140717,   P01,    89,  1,     21, X12J21,2,20140802,0024, 46.9985, 171.6175, 6022,   1329.5,2,   2.2450,2,   2.24557,2,  34.5084,2,  34.5082,2,  34.6877,2,    39.54,2,    39.80,2,   99.843,   0.0063,2,    0.009,2,  -999.00,9,    3.017,1,    0.000,2,   164.29,2,     0.18,    43.03,2,     0.05,     0.01,2,     0.01,     3.06,2,     0.01,  -999.00,9,  -999.00, -999.000,9, -999.000,9, -999.000,9, -999.000,9,   2388.6,2,   2398.9,2,   -999.0,9,   7.3549,       25,2, -999.000,9,    39.69,2, -999.000,9, -999.000,   -999.0,9,   -999.0, -999.000,9, -999.000, -999.000,9, -999.000,   -999.0,9,   -999.0, -999.000,9, -999.000,9, -999.000,9
  49NZ20140717,   P01,    89,  1,     20, X12J20,2,20140802,0024, 46.9985, 171.6175, 6022,   1529.9,2,   2.1082,2,   2.10790,2,  34.5444,2,  34.5443,2,  34.7239,2,    50.89,2,    50.84,2,   99.932,   0.0027,2,    0.007,2,  -999.00,9,    3.020,1,    0.000,2,   165.88,2,     0.18,    42.41,2,     0.05,     0.00,2,     0.01,     3.01,2,     0.01,  -999.00,9,  -999.00, -999.000,9, -999.000,9, -999.000,9, -999.000,9,   2385.4,2,   2408.8,2,   2401.3,2,   7.3821,       25,6,   10.293,2,    39.48,2, -999.000,9, -999.000,   -999.0,9,   -999.0, -999.000,9, -999.000, -999.000,9, -999.000,   -999.0,9,   -999.0, -999.000,9, -999.000,9, -999.000,9
  49NZ20140717,   P01,    89,  1,     19, X12J19,2,20140802,0024, 46.9985, 171.6175, 6022,   1729.0,2,   1.9909,2,   1.99084,2,  34.5712,2,  34.5709,2,  34.7503,2,    60.57,2,    60.92,2,   99.947,   0.0021,2,    0.007,2,  -999.00,9,    2.914,1,    0.000,2,   167.09,2,     0.18,    41.82,2,     0.05,     0.00,2,     0.01,     2.97,2,     0.01,  -999.00,9,  -999.00, -999.000,9, -999.000,9, -999.000,9, -999.000,9,   2382.1,2,   2411.6,2,   -999.0,9,   7.4019,       25,2, -999.000,9,    39.39,2, -999.000,9, -999.000,   -999.0,9,   -999.0, -999.000,9, -999.000, -999.000,9, -999.000,   -999.0,9,   -999.0, -999.000,9, -999.000,9, -999.000,9
  49NZ20140717,   P01,    89,  1,     18, X12J18,2,20140802,0024, 46.9985, 171.6175, 6022,   1929.7,2,   1.8747,2,   1.87460,2,  34.5953,2,  34.5952,2,  34.7760,2,    71.28,2,    71.61,2,   99.925,   0.0030,2,    0.005,2,  -999.00,9,    2.924,1,    0.000,2,   168.41,2,     0.18,    41.23,2,     0.05,     0.00,2,     0.01,     2.92,2,     0.01,  -999.00,9,  -999.00, -999.000,9, -999.000,9, -999.000,9, -999.000,9,   2377.1,2,   2410.3,3,   2409.1,2,   7.4260,       25,2,   10.299,2,    39.34,2, -999.000,9, -999.000,   -999.0,9,   -999.0, -999.000,9, -999.000, -999.000,9, -999.000,   -999.0,9,   -999.0, -999.000,9, -999.000,9, -999.000,9
  49NZ20140717,   P01,    89,  1,     17, X12J17,2,20140802,0024, 46.9985, 171.6175, 6022,   2129.8,2,   1.7741,2,   1.77420,2,  34.6154,2,  34.6152,2,  34.7951,2,    83.23,2,    83.62,2,   99.927,   0.0029,2,    0.005,2,  -999.00,9,    2.863,1,    0.000,2,   168.43,2,     0.18,    40.47,2,     0.05,     0.00,2,     0.01,     2.86,2,     0.01,  -999.00,9,  -999.00, -999.000,9, -999.000,9, -999.000,9, -999.000,9,   2370.3,2,   2413.6,2,   -999.0,9,   7.4486,       25,2, -999.000,9,    38.99,2, -999.000,9, -999.000,   -999.0,9,   -999.0, -999.000,9, -999.000, -999.000,9, -999.000,   -999.0,9,   -999.0, -999.000,9, -999.000,9, -999.000,9
  49NZ20140717,   P01,    89,  1,     16, X12J16,2,20140802,0024, 46.9985, 171.6175, 6022,   2330.7,2,   1.6933,2,   1.69318,2,  34.6306,2,  34.6306,2,  34.8116,2,    94.13,2,    94.42,2,   99.938,   0.0025,2,    0.004,2,  -999.00,9,    2.825,1,    0.000,2,   167.74,2,     0.18,    39.79,2,     0.05,     0.00,2,     0.01,     2.81,2,     0.01,  -999.00,9,  -999.00, -999.000,9, -999.000,9, -999.000,9, -999.000,9,   2364.7,6,   2416.1,2,   -999.0,9,   7.4695,       25,2, -999.000,9,    38.93,2, -999.000,9, -999.000,   -999.0,9,   -999.0, -999.000,9, -999.000, -999.000,9, -999.000,   -999.0,9,   -999.0, -999.000,9, -999.000,9, -999.000,9
  49NZ20140717,   P01,    89,  1,     15, X12J15,2,20140802,0024, 46.9985, 171.6175, 6022,   2530.1,2,   1.6386,2,   1.63861,2,  34.6416,2,  34.6414,2,  34.8228,2,   103.70,2,   104.00,2,   99.977,   0.0009,2,    0.003,2,  -999.00,9,    2.688,1,    0.000,2,   165.86,2,     0.18,    39.19,2,     0.05,     0.00,2,     0.01,     2.76,2,     0.01,  -999.00,9,  -999.00, -999.000,9, -999.000,9, -999.000,9, -999.000,9,   2360.7,2,   2419.5,2,   -999.0,9,   7.4877,       25,2, -999.000,9,    38.91,2, -999.000,9, -999.000,   -999.0,9,   -999.0, -999.000,9, -999.000, -999.000,9, -999.000,   -999.0,9,   -999.0, -999.000,9, -999.000,9, -999.000,9
  49NZ20140717,   P01,    89,  1,     14, X12J14,2,20140802,0024, 46.9985, 171.6175, 6022,   2730.0,2,   1.5903,2,   1.59031,2,  34.6512,2,  34.6505,2,  34.8321,2,   112.76,2,   113.22,2,   99.975,   0.0010,2,    0.003,2,  -999.00,9,    2.689,1,    0.000,2,   164.01,2,     0.18,    38.61,2,     0.05,     0.00,2,     0.01,     2.72,2,     0.01,  -999.00,9,  -999.00, -999.000,9, -999.000,9, -999.000,9, -999.000,9,   2353.0,2,   2416.3,3,   -999.0,9,   7.5061,       25,6, -999.000,9,    38.69,2, -999.000,9, -999.000,   -999.0,9,   -999.0, -999.000,9, -999.000, -999.000,9, -999.000,   -999.0,9,   -999.0, -999.000,9, -999.000,9, -999.000,9
  49NZ20140717,   P01,    89,  1,     13, X12113,2,20140802,0024, 46.9985, 171.6175, 6022,   2930.4,2,   1.5462,2,   1.54634,2,  34.6596,2,  34.6590,2,  34.8400,2,   121.33,2,   121.73,2,   99.973,   0.0011,2,    0.002,2,  -999.00,9,    2.546,1,    0.000,2,   161.99,2,     0.18,    38.12,2,     0.05,     0.00,2,     0.01,     2.68,2,     0.01,  -999.00,9,  -999.00, -999.000,9, -999.000,9, -999.000,9, -999.000,9,   2347.6,2,   2419.6,2,   2413.5,2,   7.5210,       25,2,   10.325,2,    38.58,2, -999.000,9, -999.000,   -999.0,9,   -999.0, -999.000,9, -999.000, -999.000,9, -999.000,   -999.0,9,   -999.0, -999.000,9, -999.000,9, -999.000,9
  49NZ20140717,   P01,    89,  1,     12, X12J12,2,20140802,0024, 46.9985, 171.6175, 6022,   3170.3,2,   1.5090,2,   1.50919,2,  34.6673,2,  34.6666,2,  34.8479,2,   129.65,2,   129.88,2,   99.981,   0.0007,2,    0.002,2,  -999.00,9,    2.450,1,    0.000,2,   159.13,2,     0.17,    37.45,2,     0.05,     0.01,2,     0.01,     2.63,2,     0.01,  -999.00,9,  -999.00, -999.000,9, -999.000,9, -999.000,9, -999.000,9,   2342.8,2,   2419.6,6,   -999.0,9,   7.5358,       25,2, -999.000,9,    38.52,2, -999.000,9, -999.000,   -999.0,9,   -999.0, -999.000,9, -999.000, -999.000,9, -999.000,   -999.0,9,   -999.0, -999.000,9, -999.000,9, -999.000,9
  49NZ20140717,   P01,    89,  1,     11, X12J11,2,20140802,0024, 46.9985, 171.6175, 6022,   3419.8,2,   1.4815,2,   1.48157,2,  34.6734,2,  34.6732,2,  34.8532,2,   137.15,2,   137.29,2,   99.994,   0.0002,2,    0.001,2,  -999.00,9,    2.506,1,    0.000,2,   156.77,2,     0.17,    37.00,2,     0.05,     0.00,2,     0.01,     2.58,2,     0.01,  -999.00,9,  -999.00, -999.000,9, -999.000,9, -999.000,9, -999.000,9,   2338.0,2,   2420.9,2,   -999.0,9,   7.5491,       25,2, -999.000,9,    38.38,2, -999.000,9, -999.000,   -999.0,9,   -999.0, -999.000,9, -999.000, -999.000,9, -999.000,   -999.0,9,   -999.0, -999.000,9, -999.000,9, -999.000,9
  49NZ20140717,   P01,    89,  1,     10, X12J10,2,20140802,0024, 46.9985, 171.6175, 6022,   3670.1,2,   1.4672,2,   1.46734,2,  34.6781,2,  34.6778,2,  34.8578,2,   142.75,2,   142.73,2,   99.994,   0.0002,2,    0.001,2,  -999.00,9,    2.342,4,    0.000,2,   155.54,2,     0.17,    36.68,2,     0.05,     0.00,2,     0.01,     2.56,2,     0.01,  -999.00,9,  -999.00, -999.000,9, -999.000,9, -999.000,9, -999.000,9,   2334.2,2,   2420.0,2,   -999.0,9,   7.5590,       25,2, -999.000,9,    38.33,2, -999.000,9, -999.000,   -999.0,9,   -999.0, -999.000,9, -999.000, -999.000,9, -999.000,   -999.0,9,   -999.0, -999.000,9, -999.000,9, -999.000,9