BOTTLE,20230904JAMSTECRIGC
EXPOCODE,SECT,STNNBR,CASTNO,SAMPNO,BTLNBR,BTLNBR_FLAG_W,DATE,TIME,LATITUDE,LONGITUDE,DEPTH,CTDPRS,CTDPRS_FLAG_W,CTDTMP,CTDTMP_FLAG_W,SBE35,SBE35_FLAG_W,CTDSAL,CTDSAL_FLAG_W,SALNTY,SALNTY_FLAG_W,DNSSAL,DNSSAL_FLAG_W,CTDOXY,CTDOXY_FLAG_W,OXYGEN,OXYGEN_FLAG_W,XMISS,XMISSCP,XMISS_FLAG_W,FLUOR,FLUOR_FLAG_W,CHLORA,CHLORA_FLAG_W,CDOM,CDOM_FLAG_W,PAR,PAR_FLAG_W,SILCAT,SILCAT_FLAG_W,SILUNC,NITRAT,NITRAT_FLAG_W,NRAUNC,NITRIT,NITRIT_FLAG_W,NRIUNC,PHSPHT,PHSPHT_FLAG_W,PHPUNC,AMMONIA,AMMONIA_FLAG_W,NH4UNC,CFC-11,CFC-11_FLAG_W,CFC-12,CFC-12_FLAG_W,CFC113,CFC113_FLAG_W,SF6,SF6_FLAG_W,TCARBN,TCARBN_FLAG_W,ALKALI,ALKALI_FLAG_W,ALKALI_POT,ALKALI_POT_FLAG_W,PH_TOT,PH_TMP,PH_TOT_FLAG_W,CALCIUM,CALCIUM_FLAG_W,DOC,DOC_FLAG_W,DELC13,DELC13_FLAG_W,C13ERR,DELC14,DELC14_FLAG_W,C14ERR,CS-134,CS-134_FLAG_W,CS134ER,CS-137,CS-137_FLAG_W,CS137ER,I-129,I-129_FLAG_W,I-129ER,CDOM-325,CDOM-325_FLAG_W,CDOM-370,CDOM-370_FLAG_W,CDOM-443,CDOM-443_FLAG_W
,,,,,,,,UTC,DEG,DEG,METERS,DBAR,,ITS-90,,ITS-90,,PSS-78,,PSS-78,,G/KG,,UMOL/KG,,UMOL/KG,,%TRANS,/METER,,MG/CUM,,MG/CUM,,MG/CUM,,UE/SQM/S,,UMOL/KG,,UMOL/KG,UMOL/KG,,UMOL/KG,UMOL/KG,,UMOL/KG,UMOL/KG,,UMOL/KG,UMOL/KG,,UMOL/KG,PMOL/KG,,PMOL/KG,,PMOL/KG,,FMOL/KG,,UMOL/KG,,UMOL/KG,,UMOL/KG,,,DEG C,,MMOL/KG,,UMOL/KG,,/MILLE,,/MILLE,/MILLE,,/MILLE,MBQ/KG,,MBQ/KG,MBQ/KG,,MBQ/KG,,,,/METER,,/METER,,/METER,
  49NZ20140717,   P01,    95,  1,      9, X12J09,2,20140804,0307, 46.9973, 178.3047, 5760,   3921.0,2,   1.4671,2,   1.46725,2,  34.6807,2,  34.6804,2,  34.8608,2,   144.76,2,   144.59,2,   99.982,   0.0007,2,    0.001,2,  -999.00,9,    2.341,4,    0.000,2,   157.11,2,     0.17,    36.62,2,     0.05,     0.00,2,     0.01,     2.56,2,     0.01,  -999.00,9,  -999.00, -999.000,9, -999.000,9, -999.000,9, -999.000,9,   2331.5,2,   2416.6,2,   -999.0,9,   7.5630,       25,2, -999.000,9,    38.93,2, -999.000,9, -999.000,   -999.0,9,   -999.0, -999.000,9, -999.000, -999.000,9, -999.000,   -999.0,9,   -999.0, -999.000,9, -999.000,9, -999.000,9
  49NZ20140717,   P01,    95,  1,      8, X12J08,2,20140804,0307, 46.9973, 178.3047, 5760,   4170.5,2,   1.4693,2,   1.46934,2,  34.6837,2,  34.6833,2,  34.8640,2,   148.40,2,   148.47,2,   99.973,   0.0011,2,    0.001,2,  -999.00,9,    2.089,4,    0.000,2,   156.96,2,     0.17,    36.41,2,     0.05,     0.00,2,     0.01,     2.54,2,     0.01,  -999.00,9,  -999.00, -999.000,9, -999.000,9, -999.000,9, -999.000,9,   2330.9,6,   2416.5,2,   -999.0,9,   7.5698,       25,2, -999.000,9,    40.77,2, -999.000,9, -999.000,   -999.0,9,   -999.0, -999.000,9, -999.000, -999.000,9, -999.000,   -999.0,9,   -999.0, -999.000,9, -999.000,9, -999.000,9
  49NZ20140717,   P01,    95,  1,      7, X12J07,2,20140804,0307, 46.9973, 178.3047, 5760,   4421.3,2,   1.4823,2,   1.48242,2,  34.6856,2,  34.6854,2,  34.8664,2,   150.46,2,   150.27,2,   99.976,   0.0010,2,    0.001,2,  -999.00,9,    0.340,4,    0.000,2,   157.76,2,     0.17,    36.29,2,     0.05,     0.00,2,     0.01,     2.53,2,     0.01,  -999.00,9,  -999.00, -999.000,9, -999.000,9, -999.000,9, -999.000,9,   2328.9,2,   2419.7,2,   -999.0,9,   7.5747,       25,6, -999.000,9,    37.45,2, -999.000,9, -999.000,   -999.0,9,   -999.0, -999.000,9, -999.000, -999.000,9, -999.000,   -999.0,9,   -999.0, -999.000,9, -999.000,9, -999.000,9
  49NZ20140717,   P01,    95,  1,      6, X12J06,2,20140804,0307, 46.9973, 178.3047, 5760,   4670.0,2,   1.5023,2,   1.50249,2,  34.6870,2,  34.6869,2,  34.8687,2,   151.62,2,   151.43,2,   99.989,   0.0005,2,    0.001,2,  -999.00,9,   -1.629,4,    0.000,2,   158.88,2,     0.17,    36.24,2,     0.05,     0.00,2,     0.01,     2.53,2,     0.01,  -999.00,9,  -999.00, -999.000,9, -999.000,9, -999.000,9, -999.000,9,   2329.5,2,   2418.3,6,   -999.0,9,   7.5777,       25,2, -999.000,9,    41.57,3, -999.000,9, -999.000,   -999.0,9,   -999.0, -999.000,9, -999.000, -999.000,9, -999.000,   -999.0,9,   -999.0, -999.000,9, -999.000,9, -999.000,9
  49NZ20140717,   P01,    95,  1,      5, X12J05,2,20140804,0307, 46.9973, 178.3047, 5760,   4921.1,2,   1.5286,2,   1.52863,2,  34.6875,2,  34.6866,2,  34.8687,2,   152.28,2,   152.10,2,  100.012,  -0.0005,2,    0.001,2,  -999.00,9,   -1.759,4,    0.000,2,   159.57,2,     0.17,    36.18,2,     0.05,     0.00,2,     0.01,     2.52,2,     0.01,  -999.00,9,  -999.00, -999.000,9, -999.000,9, -999.000,9, -999.000,9,   2329.6,2,   2419.2,2,   -999.0,9,   7.5792,       25,2, -999.000,9,    38.76,2, -999.000,9, -999.000,   -999.0,9,   -999.0, -999.000,9, -999.000, -999.000,9, -999.000,   -999.0,9,   -999.0, -999.000,9, -999.000,9, -999.000,9
  49NZ20140717,   P01,    95,  1,      4, X12J04,2,20140804,0307, 46.9973, 178.3047, 5760,   5170.0,2,   1.5585,2,   1.55845,2,  34.6876,2,  34.6878,2,  34.8687,2,   152.49,2,   152.56,2,   99.995,   0.0002,2,    0.001,2,  -999.00,9,  108.800,4,    0.000,2,   159.57,2,     0.17,    36.16,2,     0.05,     0.00,2,     0.01,     2.52,2,     0.01,  -999.00,9,  -999.00, -999.000,9, -999.000,9, -999.000,9, -999.000,9,   2328.7,2,   2419.3,2,   -999.0,9,   7.5799,       25,2, -999.000,9,    40.05,2, -999.000,9, -999.000,   -999.0,9,   -999.0, -999.000,9, -999.000, -999.000,9, -999.000,   -999.0,9,   -999.0, -999.000,9, -999.000,9, -999.000,9
  49NZ20140717,   P01,    95,  1,      3, X12J03,2,20140804,0307, 46.9973, 178.3047, 5760,   5419.4,2,   1.5888,2,   1.58878,2,  34.6879,2,  34.6880,2,  34.8687,2,   152.90,2,   152.95,2,   99.945,   0.0022,2,    0.001,2,  -999.00,9,   -1.839,4,    0.000,2,   159.05,2,     0.17,    36.07,2,     0.05,     0.00,2,     0.01,     2.52,2,     0.01,  -999.00,9,  -999.00, -999.000,9, -999.000,9, -999.000,9, -999.000,9,   2328.1,2,   2419.4,2,   -999.0,9,   7.5806,       25,2, -999.000,9,    38.61,2, -999.000,9, -999.000,   -999.0,9,   -999.0, -999.000,9, -999.000, -999.000,9, -999.000,   -999.0,9,   -999.0, -999.000,9, -999.000,9, -999.000,9
  49NZ20140717,   P01,    95,  1,      2, X12J02,2,20140804,0307, 46.9973, 178.3047, 5760,   5669.4,2,   1.6193,2,   1.61902,2,  34.6877,2,  34.6880,2,  34.8693,2,   153.43,2,   153.84,2,   99.902,   0.0039,2,    0.001,2,  -999.00,9,   -1.880,4,    0.000,2,   158.07,2,     0.17,    36.06,2,     0.05,     0.00,2,     0.01,     2.52,2,     0.01,  -999.00,9,  -999.00, -999.000,9, -999.000,9, -999.000,9, -999.000,9,   2327.7,2,   2417.9,2,   -999.0,9,   7.5808,       25,2, -999.000,9,    38.38,2, -999.000,9, -999.000,   -999.0,9,   -999.0, -999.000,9, -999.000, -999.000,9, -999.000,   -999.0,9,   -999.0, -999.000,9, -999.000,9, -999.000,9
  49NZ20140717,   P01,    95,  1,      1, X12J01,2,20140804,0307, 46.9973, 178.3047, 5760,   5864.9,2,   1.6439,2,   1.64360,2,  34.6879,2,  34.6881,2,  34.8684,2,   153.74,2,   154.27,2,   99.802,   0.0079,2,    0.001,2,  -999.00,9,  204.474,4,    0.000,2,   157.63,2,     0.17,    36.05,2,     0.05,     0.00,2,     0.01,     2.52,2,     0.01,  -999.00,9,  -999.00, -999.000,9, -999.000,9, -999.000,9, -999.000,9,   2327.8,2,   2417.3,2,   -999.0,9,   7.5821,       25,2, -999.000,9,    37.71,2, -999.000,9, -999.000,   -999.0,9,   -999.0, -999.000,9, -999.000, -999.000,9, -999.000,   -999.0,9,   -999.0, -999.000,9, -999.000,9, -999.000,9