BOTTLE,20230904JAMSTECRIGC
EXPOCODE,SECT,STNNBR,CASTNO,SAMPNO,BTLNBR,BTLNBR_FLAG_W,DATE,TIME,LATITUDE,LONGITUDE,DEPTH,CTDPRS,CTDPRS_FLAG_W,CTDTMP,CTDTMP_FLAG_W,SBE35,SBE35_FLAG_W,CTDSAL,CTDSAL_FLAG_W,SALNTY,SALNTY_FLAG_W,DNSSAL,DNSSAL_FLAG_W,CTDOXY,CTDOXY_FLAG_W,OXYGEN,OXYGEN_FLAG_W,XMISS,XMISSCP,XMISS_FLAG_W,FLUOR,FLUOR_FLAG_W,CHLORA,CHLORA_FLAG_W,CDOM,CDOM_FLAG_W,PAR,PAR_FLAG_W,SILCAT,SILCAT_FLAG_W,SILUNC,NITRAT,NITRAT_FLAG_W,NRAUNC,NITRIT,NITRIT_FLAG_W,NRIUNC,PHSPHT,PHSPHT_FLAG_W,PHPUNC,AMMONIA,AMMONIA_FLAG_W,NH4UNC,CFC-11,CFC-11_FLAG_W,CFC-12,CFC-12_FLAG_W,CFC113,CFC113_FLAG_W,SF6,SF6_FLAG_W,TCARBN,TCARBN_FLAG_W,ALKALI,ALKALI_FLAG_W,ALKALI_POT,ALKALI_POT_FLAG_W,PH_TOT,PH_TMP,PH_TOT_FLAG_W,CALCIUM,CALCIUM_FLAG_W,DOC,DOC_FLAG_W,DELC13,DELC13_FLAG_W,C13ERR,DELC14,DELC14_FLAG_W,C14ERR,CS-134,CS-134_FLAG_W,CS134ER,CS-137,CS-137_FLAG_W,CS137ER,I-129,I-129_FLAG_W,I-129ER,CDOM-325,CDOM-325_FLAG_W,CDOM-370,CDOM-370_FLAG_W,CDOM-443,CDOM-443_FLAG_W
,,,,,,,,UTC,DEG,DEG,METERS,DBAR,,ITS-90,,ITS-90,,PSS-78,,PSS-78,,G/KG,,UMOL/KG,,UMOL/KG,,%TRANS,/METER,,MG/CUM,,MG/CUM,,MG/CUM,,UE/SQM/S,,UMOL/KG,,UMOL/KG,UMOL/KG,,UMOL/KG,UMOL/KG,,UMOL/KG,UMOL/KG,,UMOL/KG,UMOL/KG,,UMOL/KG,PMOL/KG,,PMOL/KG,,PMOL/KG,,FMOL/KG,,UMOL/KG,,UMOL/KG,,UMOL/KG,,,DEG C,,MMOL/KG,,UMOL/KG,,/MILLE,,/MILLE,/MILLE,,/MILLE,MBQ/KG,,MBQ/KG,MBQ/KG,,MBQ/KG,,,,/METER,,/METER,,/METER,
  49NZ20140717,   P01,   135,  1,      0,   -999,9,20140819,1053, 46.9921,-136.8542, 4176,   -999.0,9,-999.0000,9,-999.00000,9,-999.0000,9,  32.2815,2,-999.0000,9,  -999.00,9,  -999.00,9, -999.000,-999.0000,9, -999.000,9,  -999.00,9, -999.000,9, -999.000,9,     0.46,2,     0.18,     0.03,2,     0.02,     0.01,2,     0.01,     0.36,2,     0.01,  -999.00,9,  -999.00, -999.000,9, -999.000,9, -999.000,9, -999.000,9,   -999.0,9,   -999.0,9,   -999.0,9,-999.0000,     -999,9, -999.000,9,  -999.00,9, -999.000,9, -999.000,   -999.0,9,   -999.0, -999.000,9, -999.000, -999.000,9, -999.000,   -999.0,9,   -999.0, -999.000,9, -999.000,9, -999.000,9
  49NZ20140717,   P01,   135,  1,     36, X12J36,2,20140819,1053, 46.9921,-136.8542, 4176,     10.3,2,  18.3256,2,  18.32022,2,  32.2784,2,  32.2782,2,-999.0000,9,   244.12,2,   243.64,2,   98.020,   0.0800,2,    0.126,2,  -999.00,9,   -1.132,1,    0.183,2,     0.36,2,     0.18,    -0.02,2,     0.02,     0.00,2,     0.01,     0.35,2,     0.01,  -999.00,9,  -999.00, -999.000,9, -999.000,9, -999.000,9, -999.000,9,   -999.0,9,   -999.0,9,   -999.0,9,-999.0000,     -999,9, -999.000,9,  -999.00,9, -999.000,9, -999.000,   -999.0,9,   -999.0, -999.000,9, -999.000, -999.000,9, -999.000,   -999.0,9,   -999.0, -999.000,9, -999.000,9, -999.000,9
  49NZ20140717,   P01,   135,  1,     35, X12J35,2,20140819,1053, 46.9921,-136.8542, 4176,     50.3,2,  10.8690,2,  10.87405,2,  32.5109,2,  32.5191,2,-999.0000,9,   295.05,2,   293.87,2,   93.039,   0.2886,2,    0.914,2,  -999.00,9,    0.705,1,    0.000,2,     3.93,2,     0.09,     3.10,2,     0.01,     0.10,2,     0.01,     0.60,2,     0.01,  -999.00,9,  -999.00, -999.000,9, -999.000,9, -999.000,9, -999.000,9,   -999.0,9,   -999.0,9,   -999.0,9,-999.0000,     -999,9, -999.000,9,  -999.00,9, -999.000,9, -999.000,   -999.0,9,   -999.0, -999.000,9, -999.000, -999.000,9, -999.000,   -999.0,9,   -999.0, -999.000,9, -999.000,9, -999.000,9
  49NZ20140717,   P01,   135,  1,     34, X12J34,2,20140819,1053, 46.9921,-136.8542, 4176,    100.3,2,   6.9406,2,   6.94227,2,  32.9030,2,  32.9262,2,-999.0000,9,   262.73,2,   260.77,2,   99.664,   0.0135,2,    0.127,2,  -999.00,9,    0.692,1,    0.000,2,    19.60,2,     0.09,    16.32,2,     0.03,     0.02,2,     0.01,     1.36,2,     0.01,  -999.00,9,  -999.00, -999.000,9, -999.000,9, -999.000,9, -999.000,9,   -999.0,9,   -999.0,9,   -999.0,9,-999.0000,     -999,9, -999.000,9,  -999.00,9, -999.000,9, -999.000,   -999.0,9,   -999.0, -999.000,9, -999.000, -999.000,9, -999.000,   -999.0,9,   -999.0, -999.000,9, -999.000,9, -999.000,9
  49NZ20140717,   P01,   135,  1,     33, X12J33,2,20140819,1053, 46.9921,-136.8542, 4176,    149.7,2,   7.0944,2,   7.09017,2,  33.6275,2,  33.6299,2,-999.0000,9,   219.13,2,   217.88,2,   99.778,   0.0089,2,    0.012,2,  -999.00,9,    1.253,1,    0.000,2,    28.79,2,     0.09,    20.94,2,     0.03,     0.01,2,     0.01,     1.55,2,     0.01,  -999.00,9,  -999.00, -999.000,9, -999.000,9, -999.000,9, -999.000,9,   -999.0,9,   -999.0,9,   -999.0,9,-999.0000,     -999,9, -999.000,9,  -999.00,9, -999.000,9, -999.000,   -999.0,9,   -999.0, -999.000,9, -999.000, -999.000,9, -999.000,   -999.0,9,   -999.0, -999.000,9, -999.000,9, -999.000,9
  49NZ20140717,   P01,   135,  1,     32, X12J32,2,20140819,1053, 46.9921,-136.8542, 4176,    200.0,2,   6.3049,2,   6.30719,2,  33.7771,2,  33.7797,2,-999.0000,9,   190.05,2,   188.24,2,   99.703,   0.0119,2,    0.010,2,  -999.00,9,    1.787,1,    0.000,2,    40.62,2,     0.10,    25.83,2,     0.04,     0.01,2,     0.01,     1.87,2,     0.01,  -999.00,9,  -999.00, -999.000,9, -999.000,9, -999.000,9, -999.000,9,   -999.0,9,   -999.0,9,   -999.0,9,-999.0000,     -999,9, -999.000,9,  -999.00,9, -999.000,9, -999.000,   -999.0,9,   -999.0, -999.000,9, -999.000, -999.000,9, -999.000,   -999.0,9,   -999.0, -999.000,9, -999.000,9, -999.000,9
  49NZ20140717,   P01,   135,  1,     31, X12J31,2,20140819,1053, 46.9921,-136.8542, 4176,    249.7,2,   5.6708,2,   5.67031,2,  33.8272,2,  33.8275,2,-999.0000,9,   153.40,2,   152.61,2,   99.711,   0.0116,2,    0.013,2,  -999.00,9,    2.161,1,    0.000,2,    52.49,2,     0.11,    30.20,2,     0.04,     0.01,2,     0.01,     2.17,2,     0.01,  -999.00,9,  -999.00, -999.000,9, -999.000,9, -999.000,9, -999.000,9,   -999.0,9,   -999.0,9,   -999.0,9,-999.0000,     -999,9, -999.000,9,  -999.00,9, -999.000,9, -999.000,   -999.0,9,   -999.0, -999.000,9, -999.000, -999.000,9, -999.000,   -999.0,9,   -999.0, -999.000,9, -999.000,9, -999.000,9
  49NZ20140717,   P01,   135,  1,     30, X12J30,2,20140819,1053, 46.9921,-136.8542, 4176,    299.9,2,   4.9248,2,   4.92429,2,  33.8438,2,  33.8425,2,-999.0000,9,   123.66,2,   123.81,2,   99.713,   0.0115,2,    0.014,2,  -999.00,9,    2.389,1,    0.000,2,    64.73,2,     0.11,    34.03,2,     0.05,     0.01,2,     0.01,     2.44,2,     0.01,  -999.00,9,  -999.00, -999.000,9, -999.000,9, -999.000,9, -999.000,9,   -999.0,9,   -999.0,9,   -999.0,9,-999.0000,     -999,9, -999.000,9,  -999.00,9, -999.000,9, -999.000,   -999.0,9,   -999.0, -999.000,9, -999.000, -999.000,9, -999.000,   -999.0,9,   -999.0, -999.000,9, -999.000,9, -999.000,9
  49NZ20140717,   P01,   135,  1,     29, X12J29,2,20140819,1053, 46.9921,-136.8542, 4176,    400.1,2,   4.4233,2,   4.42309,2,  33.9286,2,  33.9277,2,-999.0000,9,    81.00,2,    81.13,2,   99.822,   0.0071,2,    0.015,2,  -999.00,9,    2.714,1,    0.000,2,    80.68,2,     0.12,    38.60,2,     0.05,     0.01,2,     0.01,     2.74,2,     0.01,  -999.00,9,  -999.00, -999.000,9, -999.000,9, -999.000,9, -999.000,9,   -999.0,9,   -999.0,9,   -999.0,9,-999.0000,     -999,9, -999.000,9,  -999.00,9, -999.000,9, -999.000,   -999.0,9,   -999.0, -999.000,9, -999.000, -999.000,9, -999.000,   -999.0,9,   -999.0, -999.000,9, -999.000,9, -999.000,9
  49NZ20140717,   P01,   135,  1,     28, X12J28,2,20140819,1053, 46.9921,-136.8542, 4176,    501.3,2,   4.2738,2,   4.27405,2,  34.0438,2,  34.0428,2,-999.0000,9,    48.05,2,    48.61,2,   99.945,   0.0022,2,    0.015,2,  -999.00,9,    2.801,1,    0.000,2,    93.58,2,     0.13,    41.08,2,     0.05,     0.01,2,     0.01,     2.91,2,     0.01,  -999.00,9,  -999.00, -999.000,9, -999.000,9, -999.000,9, -999.000,9,   -999.0,9,   -999.0,9,   -999.0,9,-999.0000,     -999,9, -999.000,9,  -999.00,9, -999.000,9, -999.000,   -999.0,9,   -999.0, -999.000,9, -999.000, -999.000,9, -999.000,   -999.0,9,   -999.0, -999.000,9, -999.000,9, -999.000,9
  49NZ20140717,   P01,   135,  1,     27, X12J27,2,20140819,1053, 46.9921,-136.8542, 4176,    600.6,2,   4.0063,2,   4.00622,2,  34.1215,2,  34.1209,2,-999.0000,9,    32.95,2,    33.12,2,   99.950,   0.0020,2,    0.015,2,  -999.00,9,    2.959,1,    0.000,2,   105.03,2,     0.14,    42.29,2,     0.05,     0.01,2,     0.01,     3.00,2,     0.01,  -999.00,9,  -999.00, -999.000,9, -999.000,9, -999.000,9, -999.000,9,   -999.0,9,   -999.0,9,   -999.0,9,-999.0000,     -999,9, -999.000,9,  -999.00,9, -999.000,9, -999.000,   -999.0,9,   -999.0, -999.000,9, -999.000, -999.000,9, -999.000,   -999.0,9,   -999.0, -999.000,9, -999.000,9, -999.000,9
  49NZ20140717,   P01,   135,  1,     26, X12J26,2,20140819,1053, 46.9921,-136.8542, 4176,    700.5,2,   3.7413,2,   3.74101,2,  34.1935,2,  34.1922,2,-999.0000,9,    23.16,2,    23.15,2,   99.954,   0.0018,2,    0.015,2,  -999.00,9,    3.007,1,    0.000,2,   115.67,2,     0.15,    43.24,2,     0.05,     0.00,2,     0.01,     3.07,2,     0.01,  -999.00,9,  -999.00, -999.000,9, -999.000,9, -999.000,9, -999.000,9,   -999.0,9,   -999.0,9,   -999.0,9,-999.0000,     -999,9, -999.000,9,  -999.00,9, -999.000,9, -999.000,   -999.0,9,   -999.0, -999.000,9, -999.000, -999.000,9, -999.000,   -999.0,9,   -999.0, -999.000,9, -999.000,9, -999.000,9
  49NZ20140717,   P01,   135,  1,     25, X12J25,2,20140819,1053, 46.9921,-136.8542, 4176,    801.5,2,   3.5217,2,   3.52142,2,  34.2472,2,  34.2471,2,-999.0000,9,    21.85,2,    21.65,2,   99.952,   0.0019,2,    0.015,2,  -999.00,9,    3.084,1,    0.000,2,   124.15,2,     0.15,    43.54,2,     0.05,     0.00,2,     0.01,     3.10,2,     0.01,  -999.00,9,  -999.00, -999.000,9, -999.000,9, -999.000,9, -999.000,9,   -999.0,9,   -999.0,9,   -999.0,9,-999.0000,     -999,9, -999.000,9,  -999.00,9, -999.000,9, -999.000,   -999.0,9,   -999.0, -999.000,9, -999.000, -999.000,9, -999.000,   -999.0,9,   -999.0, -999.000,9, -999.000,9, -999.000,9
  49NZ20140717,   P01,   135,  1,     24, X12J24,2,20140819,1053, 46.9921,-136.8542, 4176,    899.9,2,   3.3138,2,   3.31359,2,  34.2936,2,  34.2933,2,-999.0000,9,    16.56,2,    16.11,2,   99.924,   0.0031,2,    0.015,2,  -999.00,9,    3.152,1,    0.000,2,   131.80,2,     0.16,    44.09,2,     0.06,     0.00,2,     0.01,     3.14,2,     0.01,  -999.00,9,  -999.00, -999.000,9, -999.000,9, -999.000,9, -999.000,9,   -999.0,9,   -999.0,9,   -999.0,9,-999.0000,     -999,9, -999.000,9,  -999.00,9, -999.000,9, -999.000,   -999.0,9,   -999.0, -999.000,9, -999.000, -999.000,9, -999.000,   -999.0,9,   -999.0, -999.000,9, -999.000,9, -999.000,9
  49NZ20140717,   P01,   135,  1,     23, X12J23,2,20140819,1053, 46.9921,-136.8542, 4176,   1000.8,2,   3.1273,2,   3.12757,2,  34.3400,2,  34.3397,2,-999.0000,9,    13.84,2,    13.18,2,   99.952,   0.0019,2,    0.015,2,  -999.00,9,    3.228,1,    0.000,2,   138.53,2,     0.16,    44.40,2,     0.06,     0.00,2,     0.01,     3.17,2,     0.01,  -999.00,9,  -999.00, -999.000,9, -999.000,9, -999.000,9, -999.000,9,   -999.0,9,   -999.0,9,   -999.0,9,-999.0000,     -999,9, -999.000,9,  -999.00,9, -999.000,9, -999.000,   -999.0,9,   -999.0, -999.000,9, -999.000, -999.000,9, -999.000,   -999.0,9,   -999.0, -999.000,9, -999.000,9, -999.000,9
  49NZ20140717,   P01,   135,  1,     22, X12J22,2,20140819,1053, 46.9921,-136.8542, 4176,   1198.6,2,   2.8672,2,   2.86631,2,  34.4266,2,  34.4245,2,-999.0000,9,    11.38,2,    10.17,2,   99.922,   0.0031,2,    0.015,2,  -999.00,9,    3.259,1,    0.000,2,   148.70,2,     0.17,    44.84,2,     0.06,     0.00,2,     0.01,     3.20,2,     0.01,  -999.00,9,  -999.00, -999.000,9, -999.000,9, -999.000,9, -999.000,9,   -999.0,9,   -999.0,9,   -999.0,9,-999.0000,     -999,9, -999.000,9,  -999.00,9, -999.000,9, -999.000,   -999.0,9,   -999.0, -999.000,9, -999.000, -999.000,9, -999.000,   -999.0,9,   -999.0, -999.000,9, -999.000,9, -999.000,9
  49NZ20140717,   P01,   135,  1,     21, X12J21,2,20140819,1053, 46.9921,-136.8542, 4176,   1399.6,2,   2.5832,2,   2.58238,2,  34.4876,2,  34.4856,2,-999.0000,9,    18.91,2,    17.70,2,   99.958,   0.0017,2,    0.013,2,  -999.00,9,    3.259,1,    0.000,2,   157.80,2,     0.17,    44.58,2,     0.06,     0.00,2,     0.01,     3.17,2,     0.01,  -999.00,9,  -999.00, -999.000,9, -999.000,9, -999.000,9, -999.000,9,   -999.0,9,   -999.0,9,   -999.0,9,-999.0000,     -999,9, -999.000,9,  -999.00,9, -999.000,9, -999.000,   -999.0,9,   -999.0, -999.000,9, -999.000, -999.000,9, -999.000,   -999.0,9,   -999.0, -999.000,9, -999.000,9, -999.000,9
  49NZ20140717,   P01,   135,  1,     20, X12J20,2,20140819,1053, 46.9921,-136.8542, 4176,   1599.9,2,   2.2827,2,   2.28304,2,  34.5284,2,  34.5301,2,-999.0000,9,    30.46,2,    30.57,2,   99.954,   0.0018,2,    0.012,2,  -999.00,9,    3.254,1,    0.000,2,   165.99,2,     0.18,    43.90,2,     0.06,     0.00,2,     0.01,     3.10,2,     0.01,  -999.00,9,  -999.00, -999.000,9, -999.000,9, -999.000,9, -999.000,9,   -999.0,9,   -999.0,9,   -999.0,9,-999.0000,     -999,9, -999.000,9,  -999.00,9, -999.000,9, -999.000,   -999.0,9,   -999.0, -999.000,9, -999.000, -999.000,9, -999.000,   -999.0,9,   -999.0, -999.000,9, -999.000,9, -999.000,9
  49NZ20140717,   P01,   135,  1,     19, X12J19,2,20140819,1053, 46.9921,-136.8542, 4176,   1800.1,2,   2.0712,2,   2.07061,2,  34.5661,2,  34.5646,2,-999.0000,9,    45.08,2,    44.73,2,   99.900,   0.0040,2,    0.010,2,  -999.00,9,    3.236,1,    0.000,2,   171.07,2,     0.47,    43.08,2,     0.05,     0.00,2,     0.01,     3.04,2,     0.01,  -999.00,9,  -999.00, -999.000,9, -999.000,9, -999.000,9, -999.000,9,   -999.0,9,   -999.0,9,   -999.0,9,-999.0000,     -999,9, -999.000,9,  -999.00,9, -999.000,9, -999.000,   -999.0,9,   -999.0, -999.000,9, -999.000, -999.000,9, -999.000,   -999.0,9,   -999.0, -999.000,9, -999.000,9, -999.000,9
  49NZ20140717,   P01,   135,  1,     18, X12J18,2,20140819,1053, 46.9921,-136.8542, 4176,   2002.0,2,   1.9399,2,   1.94228,2,  34.5948,2,  34.5942,2,-999.0000,9,    57.89,2,    57.81,2,   99.978,   0.0009,2,    0.009,2,  -999.00,9,    3.156,1,    0.000,2,   174.19,2,     0.18,    42.23,2,     0.05,     0.00,2,     0.01,     2.99,2,     0.01,  -999.00,9,  -999.00, -999.000,9, -999.000,9, -999.000,9, -999.000,9,   -999.0,9,   -999.0,9,   -999.0,9,-999.0000,     -999,9, -999.000,9,  -999.00,9, -999.000,9, -999.000,   -999.0,9,   -999.0, -999.000,9, -999.000, -999.000,9, -999.000,   -999.0,9,   -999.0, -999.000,9, -999.000,9, -999.000,9
  49NZ20140717,   P01,   135,  1,     17, X12J17,2,20140819,1053, 46.9921,-136.8542, 4176,   2199.8,2,   1.8526,2,   1.85262,2,  34.6130,2,  34.6123,2,-999.0000,9,    68.37,2,    68.26,2,   99.971,   0.0011,2,    0.008,2,  -999.00,9,    3.030,1,    0.000,2,   175.25,2,     0.18,    41.49,2,     0.05,     0.00,2,     0.01,     2.93,2,     0.01,  -999.00,9,  -999.00, -999.000,9, -999.000,9, -999.000,9, -999.000,9,   -999.0,9,   -999.0,9,   -999.0,9,-999.0000,     -999,9, -999.000,9,  -999.00,9, -999.000,9, -999.000,   -999.0,9,   -999.0, -999.000,9, -999.000, -999.000,9, -999.000,   -999.0,9,   -999.0, -999.000,9, -999.000,9, -999.000,9
  49NZ20140717,   P01,   135,  1,     16, X12J16,2,20140819,1053, 46.9921,-136.8542, 4176,   2399.8,2,   1.7742,2,   1.77376,2,  34.6256,2,  34.6251,2,-999.0000,9,    77.77,2,    77.68,2,   99.956,   0.0018,2,    0.008,2,  -999.00,9,    3.025,1,    0.000,2,   175.73,2,     0.18,    40.99,2,     0.05,     0.00,2,     0.01,     2.89,2,     0.01,  -999.00,9,  -999.00, -999.000,9, -999.000,9, -999.000,9, -999.000,9,   -999.0,9,   -999.0,9,   -999.0,9,-999.0000,     -999,9, -999.000,9,  -999.00,9, -999.000,9, -999.000,   -999.0,9,   -999.0, -999.000,9, -999.000, -999.000,9, -999.000,   -999.0,9,   -999.0, -999.000,9, -999.000,9, -999.000,9
  49NZ20140717,   P01,   135,  1,     15, X12J15,2,20140819,1053, 46.9921,-136.8542, 4176,   2602.2,2,   1.7048,2,   1.70474,2,  34.6365,2,  34.6361,2,-999.0000,9,    87.07,2,    87.16,2,   99.971,   0.0011,2,    0.007,2,  -999.00,9,    2.959,1,    0.000,2,   175.45,2,     0.18,    40.42,2,     0.05,     0.00,2,     0.01,     2.85,2,     0.01,  -999.00,9,  -999.00, -999.000,9, -999.000,9, -999.000,9, -999.000,9,   -999.0,9,   -999.0,9,   -999.0,9,-999.0000,     -999,9, -999.000,9,  -999.00,9, -999.000,9, -999.000,   -999.0,9,   -999.0, -999.000,9, -999.000, -999.000,9, -999.000,   -999.0,9,   -999.0, -999.000,9, -999.000,9, -999.000,9
  49NZ20140717,   P01,   135,  1,     14, X12J14,2,20140819,1053, 46.9921,-136.8542, 4176,   2801.8,2,   1.6406,2,   1.64067,2,  34.6452,2,  34.6448,2,-999.0000,9,    96.44,2,    96.07,2,   99.978,   0.0009,2,    0.006,2,  -999.00,9,    2.865,1,    0.000,2,   173.83,2,     0.18,    39.90,2,     0.05,     0.00,2,     0.01,     2.80,2,     0.01,  -999.00,9,  -999.00, -999.000,9, -999.000,9, -999.000,9, -999.000,9,   -999.0,9,   -999.0,9,   -999.0,9,-999.0000,     -999,9, -999.000,9,  -999.00,9, -999.000,9, -999.000,   -999.0,9,   -999.0, -999.000,9, -999.000, -999.000,9, -999.000,   -999.0,9,   -999.0, -999.000,9, -999.000,9, -999.000,9
  49NZ20140717,   P01,   135,  1,     13, X12113,2,20140819,1053, 46.9921,-136.8542, 4176,   3000.4,2,   1.5912,2,   1.59118,2,  34.6532,2,  34.6526,2,-999.0000,9,   105.56,2,   105.48,2,   99.976,   0.0010,2,    0.005,2,  -999.00,9,    2.861,1,    0.000,2,   172.59,2,     0.18,    39.26,2,     0.05,     0.00,2,     0.01,     2.76,2,     0.01,  -999.00,9,  -999.00, -999.000,9, -999.000,9, -999.000,9, -999.000,9,   -999.0,9,   -999.0,9,   -999.0,9,-999.0000,     -999,9, -999.000,9,  -999.00,9, -999.000,9, -999.000,   -999.0,9,   -999.0, -999.000,9, -999.000, -999.000,9, -999.000,   -999.0,9,   -999.0, -999.000,9, -999.000,9, -999.000,9
  49NZ20140717,   P01,   135,  1,     12, X12J12,2,20140819,1053, 46.9921,-136.8542, 4176,   3251.5,2,   1.5467,2,   1.54665,2,  34.6623,2,  34.6622,2,-999.0000,9,   115.97,2,   116.02,2,   99.984,   0.0006,2,    0.005,2,  -999.00,9,    2.742,1,    0.000,2,   171.84,2,     0.18,    38.59,2,     0.05,     0.00,2,     0.01,     2.70,2,     0.01,  -999.00,9,  -999.00, -999.000,9, -999.000,9, -999.000,9, -999.000,9,   -999.0,9,   -999.0,9,   -999.0,9,-999.0000,     -999,9, -999.000,9,  -999.00,9, -999.000,9, -999.000,   -999.0,9,   -999.0, -999.000,9, -999.000, -999.000,9, -999.000,   -999.0,9,   -999.0, -999.000,9, -999.000,9, -999.000,9
  49NZ20140717,   P01,   135,  1,     11, X12J11,2,20140819,1053, 46.9921,-136.8542, 4176,   3498.5,2,   1.5203,2,   1.52031,2,  34.6698,2,  34.6723,3,-999.0000,9,   123.95,2,   123.97,2,   99.995,   0.0002,2,    0.005,2,  -999.00,9,    2.745,1,    0.000,2,   171.95,2,     0.18,    38.08,2,     0.05,     0.00,2,     0.01,     2.67,2,     0.01,  -999.00,9,  -999.00, -999.000,9, -999.000,9, -999.000,9, -999.000,9,   -999.0,9,   -999.0,9,   -999.0,9,-999.0000,     -999,9, -999.000,9,  -999.00,9, -999.000,9, -999.000,   -999.0,9,   -999.0, -999.000,9, -999.000, -999.000,9, -999.000,   -999.0,9,   -999.0, -999.000,9, -999.000,9, -999.000,9
  49NZ20140717,   P01,   135,  1,     10, X12J10,2,20140819,1053, 46.9921,-136.8542, 4176,   3748.8,2,   1.5204,2,   1.52044,2,  34.6739,2,  34.6735,2,-999.0000,9,   128.00,2,   128.11,2,   99.989,   0.0004,2,    0.005,2,  -999.00,9,    2.677,1,    0.000,2,   172.97,2,     0.18,    37.85,2,     0.05,     0.00,2,     0.01,     2.65,2,     0.01,  -999.00,9,  -999.00, -999.000,9, -999.000,9, -999.000,9, -999.000,9,   -999.0,9,   -999.0,9,   -999.0,9,-999.0000,     -999,9, -999.000,9,  -999.00,9, -999.000,9, -999.000,   -999.0,9,   -999.0, -999.000,9, -999.000, -999.000,9, -999.000,   -999.0,9,   -999.0, -999.000,9, -999.000,9, -999.000,9