BOTTLE,20230904JAMSTECRIGC
EXPOCODE,SECT,STNNBR,CASTNO,SAMPNO,BTLNBR,BTLNBR_FLAG_W,DATE,TIME,LATITUDE,LONGITUDE,DEPTH,CTDPRS,CTDPRS_FLAG_W,CTDTMP,CTDTMP_FLAG_W,SBE35,SBE35_FLAG_W,CTDSAL,CTDSAL_FLAG_W,SALNTY,SALNTY_FLAG_W,DNSSAL,DNSSAL_FLAG_W,CTDOXY,CTDOXY_FLAG_W,OXYGEN,OXYGEN_FLAG_W,XMISS,XMISSCP,XMISS_FLAG_W,FLUOR,FLUOR_FLAG_W,CHLORA,CHLORA_FLAG_W,CDOM,CDOM_FLAG_W,PAR,PAR_FLAG_W,SILCAT,SILCAT_FLAG_W,SILUNC,NITRAT,NITRAT_FLAG_W,NRAUNC,NITRIT,NITRIT_FLAG_W,NRIUNC,PHSPHT,PHSPHT_FLAG_W,PHPUNC,AMMONIA,AMMONIA_FLAG_W,NH4UNC,CFC-11,CFC-11_FLAG_W,CFC-12,CFC-12_FLAG_W,CFC113,CFC113_FLAG_W,SF6,SF6_FLAG_W,TCARBN,TCARBN_FLAG_W,ALKALI,ALKALI_FLAG_W,ALKALI_POT,ALKALI_POT_FLAG_W,PH_TOT,PH_TMP,PH_TOT_FLAG_W,CALCIUM,CALCIUM_FLAG_W,DOC,DOC_FLAG_W,DELC13,DELC13_FLAG_W,C13ERR,DELC14,DELC14_FLAG_W,C14ERR,CS-134,CS-134_FLAG_W,CS134ER,CS-137,CS-137_FLAG_W,CS137ER,I-129,I-129_FLAG_W,I-129ER,CDOM-325,CDOM-325_FLAG_W,CDOM-370,CDOM-370_FLAG_W,CDOM-443,CDOM-443_FLAG_W
,,,,,,,,UTC,DEG,DEG,METERS,DBAR,,ITS-90,,ITS-90,,PSS-78,,PSS-78,,G/KG,,UMOL/KG,,UMOL/KG,,%TRANS,/METER,,MG/CUM,,MG/CUM,,MG/CUM,,UE/SQM/S,,UMOL/KG,,UMOL/KG,UMOL/KG,,UMOL/KG,UMOL/KG,,UMOL/KG,UMOL/KG,,UMOL/KG,UMOL/KG,,UMOL/KG,PMOL/KG,,PMOL/KG,,PMOL/KG,,FMOL/KG,,UMOL/KG,,UMOL/KG,,UMOL/KG,,,DEG C,,MMOL/KG,,UMOL/KG,,/MILLE,,/MILLE,/MILLE,,/MILLE,MBQ/KG,,MBQ/KG,MBQ/KG,,MBQ/KG,,,,/METER,,/METER,,/METER,
  49NZ20140717,   P01,    79,  2,      0,   -999,9,20140730,1756, 46.9718, 166.7472, 5955,   -999.0,9,-999.0000,9,-999.00000,9,-999.0000,9,  32.9282,2,-999.0000,9,  -999.00,9,  -999.00,9, -999.000,-999.0000,9, -999.000,9,  -999.00,9, -999.000,9, -999.000,9,    21.28,2,     0.09,    12.08,2,     0.02,     0.16,2,     0.01,     1.18,2,     0.01,     0.14,2,     0.02, -999.000,9, -999.000,9, -999.000,9, -999.000,9,   -999.0,9,   -999.0,9,   -999.0,9,-999.0000,     -999,9, -999.000,9,  -999.00,9, -999.000,9, -999.000,   -999.0,9,   -999.0, -999.000,1, -999.000, -999.000,1, -999.000,   -999.0,1,   -999.0, -999.000,9, -999.000,9, -999.000,9
  49NZ20140717,   P01,    79,  2,     36, X12J36,2,20140730,1756, 46.9718, 166.7472, 5955,     10.1,2,  12.1657,2,  12.16178,2,  32.9272,2,  32.9270,2,  33.0850,2,   275.36,2,   277.19,2,   94.714,   0.2172,2,    0.417,2,  -999.00,9,   -0.240,1,   46.498,2,    21.08,2,     0.09,    12.09,2,     0.02,     0.16,2,     0.01,     1.17,2,     0.01,     0.14,2,     0.02, -999.000,9, -999.000,9, -999.000,9, -999.000,9,   2048.1,2,   2231.6,2,   -999.0,9,   7.8437,       25,6, -999.000,9,    57.98,2, -999.000,1, -999.000,   -999.0,1,   -999.0, -999.000,9, -999.000, -999.000,9, -999.000,   -999.0,9,   -999.0, -999.000,9, -999.000,9, -999.000,9
  49NZ20140717,   P01,    79,  2,     35, X12J35,2,20140730,1756, 46.9718, 166.7472, 5955,     50.2,2,   3.6453,2,   3.63887,2,  32.9018,2,  32.8972,2,  33.0567,2,   326.49,2,   328.23,2,   97.530,   0.1001,2,    0.432,2,  -999.00,9,    0.803,1,    1.254,2,    29.03,2,     0.09,    18.04,2,     0.03,     0.34,2,     0.01,     1.62,2,     0.01,     0.85,2,     0.03, -999.000,9, -999.000,9, -999.000,9, -999.000,9,   2103.2,6,   2227.7,2,   -999.0,9,   7.7047,       25,2, -999.000,9,    51.41,2, -999.000,1, -999.000,   -999.0,1,   -999.0, -999.000,9, -999.000, -999.000,9, -999.000,   -999.0,9,   -999.0, -999.000,9, -999.000,9, -999.000,9
  49NZ20140717,   P01,    79,  2,     34, X12J34,2,20140730,1756, 46.9718, 166.7472, 5955,     99.7,2,   3.1121,2,   3.10726,2,  33.1500,2,  33.1424,2,  33.3041,2,   296.72,2,   297.84,2,   99.589,   0.0165,2,    0.064,2,  -999.00,9,    1.152,1,    0.025,2,    35.62,2,     0.10,    22.00,2,     0.03,     0.01,2,     0.01,     1.75,2,     0.01,     0.00,2,     0.01, -999.000,9, -999.000,9, -999.000,9, -999.000,9,   2132.7,2,   2234.8,2,   -999.0,9,   7.6500,       25,2, -999.000,9,    48.09,2, -999.000,1, -999.000,   -999.0,1,   -999.0, -999.000,9, -999.000, -999.000,9, -999.000,   -999.0,9,   -999.0, -999.000,9, -999.000,9, -999.000,9
  49NZ20140717,   P01,    79,  2,     33, X12J33,2,20140730,1756, 46.9718, 166.7472, 5955,    149.9,2,   3.0946,2,   3.09449,2,  33.5210,2,  33.5221,2,  33.6867,2,   196.49,2,   196.16,2,   99.591,   0.0164,2,    0.019,2,  -999.00,9,    1.987,1,    0.000,2,    61.08,2,     0.11,    31.10,2,     0.04,     0.01,2,     0.01,     2.31,2,     0.01,     0.00,2,     0.01, -999.000,9, -999.000,9, -999.000,9, -999.000,9,   2217.9,2,   2267.6,2,   -999.0,9,   7.4805,       25,6, -999.000,9,    45.11,2, -999.000,1, -999.000,   -999.0,1,   -999.0, -999.000,9, -999.000, -999.000,9, -999.000,   -999.0,9,   -999.0, -999.000,9, -999.000,9, -999.000,9
  49NZ20140717,   P01,    79,  2,     32, X12J32,2,20140730,1756, 46.9718, 166.7472, 5955,    201.4,2,   3.2019,2,   3.20358,2,  33.6599,2,  33.6600,2,  33.8278,2,   145.02,2,   146.00,2,   99.615,   0.0154,2,    0.012,2,  -999.00,9,    2.331,1,    0.000,2,    73.85,2,     0.12,    35.08,2,     0.05,     0.01,2,     0.01,     2.57,2,     0.01,     0.01,2,     0.01, -999.000,9, -999.000,9, -999.000,9, -999.000,9,   2256.9,2,   2280.2,6,   -999.0,9,   7.4025,       25,2, -999.000,9,    44.60,2, -999.000,1, -999.000,   -999.0,1,   -999.0, -999.000,9, -999.000, -999.000,9, -999.000,   -999.0,9,   -999.0, -999.000,9, -999.000,9, -999.000,9
  49NZ20140717,   P01,    79,  2,     31, X12J31,2,20140730,1756, 46.9718, 166.7472, 5955,    248.9,2,   3.2344,2,   3.23595,2,  33.7553,2,  33.7548,2,  33.9235,2,   103.44,2,   103.22,2,   99.706,   0.0118,2,    0.012,2,  -999.00,9,    2.501,1,    0.000,2,    85.14,2,     0.13,    38.82,2,     0.05,     0.01,2,     0.01,     2.81,2,     0.01,     0.00,2,     0.01, -999.000,9, -999.000,9, -999.000,9, -999.000,9,   2289.9,2,   2290.4,2,   -999.0,9,   7.3332,       25,2, -999.000,9,    43.42,2, -999.000,1, -999.000,   -999.0,1,   -999.0, -999.000,9, -999.000, -999.000,9, -999.000,   -999.0,9,   -999.0, -999.000,9, -999.000,9, -999.000,9
  49NZ20140717,   P01,    79,  2,     30, X12J30,2,20140730,1756, 46.9718, 166.7472, 5955,    329.5,2,   3.5462,2,   3.54593,2,  33.9129,2,  33.9117,2,  34.0824,2,    75.76,2,    76.39,2,   99.732,   0.0107,2,    0.014,2,  -999.00,9,    2.599,1,    0.000,2,    94.19,2,     0.13,    39.85,2,     0.05,     0.01,2,     0.01,     2.87,2,     0.01,     0.00,2,     0.01, -999.000,9, -999.000,9, -999.000,9, -999.000,9,   2305.9,2,   2306.0,2,   -999.0,9,   7.3255,       25,2, -999.000,9,    42.87,2, -999.000,1, -999.000,   -999.0,1,   -999.0, -999.000,9, -999.000, -999.000,9, -999.000,   -999.0,9,   -999.0, -999.000,9, -999.000,9, -999.000,9
  49NZ20140717,   P01,    79,  2,     29, X12J29,2,20140730,1756, 46.9718, 166.7472, 5955,    428.9,2,   3.5464,2,   3.54617,2,  34.0408,2,  34.0400,2,  34.2123,2,    47.71,2,    48.07,2,   99.868,   0.0053,2,    0.014,2,  -999.00,9,    2.835,1,    0.000,2,   107.74,2,     0.14,    42.01,2,     0.05,     0.00,2,     0.01,     3.01,2,     0.01,     0.00,2,     0.01, -999.000,9, -999.000,9, -999.000,9, -999.000,9,   2332.0,2,   2321.7,2,   -999.0,9,   7.2986,       25,2, -999.000,9,    40.18,2, -999.000,1, -999.000,   -999.0,1,   -999.0, -999.000,9, -999.000, -999.000,9, -999.000,   -999.0,9,   -999.0, -999.000,9, -999.000,9, -999.000,9
  49NZ20140717,   P01,    79,  2,     28, X12J28,2,20140730,1756, 46.9718, 166.7472, 5955,    531.0,2,   3.4536,2,   3.45355,2,  34.1561,2,  34.1544,2,  34.3290,2,    18.69,2,    18.34,2,   99.868,   0.0053,2,    0.017,2,  -999.00,9,    2.990,1,    0.000,2,   121.73,2,     0.15,    44.30,2,     0.06,     0.00,2,     0.01,     3.14,2,     0.01,     0.01,2,     0.01, -999.000,9, -999.000,9, -999.000,9, -999.000,9,   2357.9,2,   2337.6,2,   -999.0,9,   7.2644,       25,2, -999.000,9,    38.36,2, -999.000,1, -999.000,   -999.0,1,   -999.0, -999.000,9, -999.000, -999.000,9, -999.000,   -999.0,9,   -999.0, -999.000,9, -999.000,9, -999.000,9
  49NZ20140717,   P01,    79,  2,     27, X12J27,2,20140730,1756, 46.9718, 166.7472, 5955,    629.3,2,   3.2624,2,   3.26210,2,  34.2300,2,  34.2291,2,  34.4042,2,    17.46,2,    16.78,2,   99.920,   0.0032,2,    0.015,2,  -999.00,9,    3.056,1,    0.000,2,   130.74,2,     0.16,    44.25,2,     0.06,     0.00,2,     0.01,     3.14,2,     0.01,     0.01,2,     0.01, -999.000,9, -999.000,9, -999.000,9, -999.000,9,   2366.5,2,   2349.0,2,   -999.0,9,   7.2764,       25,2, -999.000,9,    38.69,2, -999.000,1, -999.000,   -999.0,1,   -999.0, -999.000,9, -999.000, -999.000,9, -999.000,   -999.0,9,   -999.0, -999.000,9, -999.000,9, -999.000,9
  49NZ20140717,   P01,    79,  2,     26, X12J26,2,20140730,1756, 46.9718, 166.7472, 5955,    730.7,2,   3.1113,2,   3.11123,2,  34.2854,2,  34.2852,2,  34.4629,2,    16.45,2,    15.65,2,   99.892,   0.0043,2,    0.014,2,  -999.00,9,    3.078,1,    0.000,2,   137.80,2,     0.16,    44.31,2,     0.06,     0.00,2,     0.01,     3.15,2,     0.01,     0.01,2,     0.01, -999.000,9, -999.000,9, -999.000,9, -999.000,9,   2373.7,6,   2361.7,2,   -999.0,9,   7.2840,       25,2, -999.000,9,    38.49,2, -999.000,1, -999.000,   -999.0,1,   -999.0, -999.000,9, -999.000, -999.000,9, -999.000,   -999.0,9,   -999.0, -999.000,9, -999.000,9, -999.000,9
  49NZ20140717,   P01,    79,  2,     25, X12J25,2,20140730,1756, 46.9718, 166.7472, 5955,    830.8,2,   2.9355,2,   2.93527,2,  34.3319,2,  34.3316,2,  34.5077,2,    25.20,2,    24.88,2,   99.881,   0.0048,2,    0.013,2,  -999.00,9,    3.080,1,    0.000,2,   142.22,2,     0.16,    43.61,2,     0.05,     0.00,2,     0.01,     3.11,2,     0.01,     0.01,2,     0.01, -999.000,9, -999.000,9, -999.000,9, -999.000,9,   2373.0,2,   2367.0,2,   -999.0,9,   7.3086,       25,2, -999.000,9,    36.75,2, -999.000,1, -999.000,   -999.0,1,   -999.0, -999.000,9, -999.000, -999.000,9, -999.000,   -999.0,9,   -999.0, -999.000,9, -999.000,9, -999.000,9
  49NZ20140717,   P01,    79,  2,     24, X12J24,2,20140730,1756, 46.9718, 166.7472, 5955,    929.5,2,   2.8006,2,   2.80064,2,  34.3717,2,  34.3712,2,  34.5480,2,    26.99,2,    26.84,2,   99.894,   0.0043,2,    0.012,2,  -999.00,9,    3.039,1,    0.000,2,   147.16,2,     0.17,    43.56,2,     0.05,     0.00,2,     0.01,     3.11,2,     0.01,     0.00,2,     0.01, -999.000,9, -999.000,9, -999.000,9, -999.000,9,   2376.3,2,   2376.7,2,   -999.0,9,   7.3160,       25,2, -999.000,9,    37.43,2, -999.000,1, -999.000,   -999.0,1,   -999.0, -999.000,9, -999.000, -999.000,9, -999.000,   -999.0,9,   -999.0, -999.000,9, -999.000,9, -999.000,9
  49NZ20140717,   P01,    79,  2,     23, X12J23,2,20140730,1756, 46.9718, 166.7472, 5955,   1070.8,2,   2.6430,2,   2.64285,2,  34.4173,2,  34.4171,2,  34.5954,2,    30.56,2,    30.42,2,   99.898,   0.0041,2,    0.012,2,  -999.00,9,    2.999,1,    0.000,2,   152.00,2,     0.17,    43.38,2,     0.05,     0.00,2,     0.01,     3.10,2,     0.01,     0.00,2,     0.01, -999.000,9, -999.000,9, -999.000,9, -999.000,9,   2380.4,2,   2383.1,2,   -999.0,9,   7.3292,       25,2, -999.000,9,    37.83,2, -999.000,1, -999.000,   -999.0,1,   -999.0, -999.000,9, -999.000, -999.000,9, -999.000,   -999.0,9,   -999.0, -999.000,9, -999.000,9, -999.000,9
  49NZ20140717,   P01,    79,  2,     22, X12J22,2,20140730,1756, 46.9718, 166.7472, 5955,   1270.8,2,   2.4084,2,   2.40836,2,  34.4722,2,  34.4723,2,  34.6508,2,    28.62,2,    28.25,2,   99.889,   0.0044,2,    0.011,2,  -999.00,9,    3.118,1,    0.000,2,   161.43,2,     0.17,    43.75,2,     0.06,     0.00,2,     0.01,     3.10,2,     0.01,     0.00,2,     0.01, -999.000,9, -999.000,9, -999.000,9, -999.000,9,   2392.0,2,   2393.3,6,   -999.0,9,   7.3319,       25,2, -999.000,9,    38.54,2, -999.000,1, -999.000,   -999.0,1,   -999.0, -999.000,9, -999.000, -999.000,9, -999.000,   -999.0,9,   -999.0, -999.000,9, -999.000,9, -999.000,9
  49NZ20140717,   P01,    79,  2,     21, X12J21,2,20140730,1756, 46.9718, 166.7472, 5955,   1470.7,2,   2.1997,2,   2.19962,2,  34.5194,2,  34.5194,2,  34.6983,2,    41.58,2,    41.54,2,   99.926,   0.0030,2,    0.010,2,  -999.00,9,    3.044,1,    0.000,2,   166.05,2,     0.18,    42.89,2,     0.05,     0.00,2,     0.01,     3.05,2,     0.01,     0.01,2,     0.01, -999.000,9, -999.000,9, -999.000,9, -999.000,9,   2387.1,2,   2403.3,2,   -999.0,9,   7.3622,       25,2, -999.000,9,    37.51,2, -999.000,9, -999.000,   -999.0,9,   -999.0, -999.000,9, -999.000, -999.000,9, -999.000,   -999.0,9,   -999.0, -999.000,9, -999.000,9, -999.000,9
  49NZ20140717,   P01,    79,  2,     20, X12J20,2,20140730,1756, 46.9718, 166.7472, 5955,   1669.5,2,   2.0668,2,   2.06677,2,  34.5533,2,  34.5533,2,  34.7332,2,    51.55,2,    51.71,2,   99.911,   0.0036,2,    0.009,2,  -999.00,9,    2.961,1,    0.000,2,   167.98,2,     0.18,    42.33,2,     0.05,     0.00,2,     0.01,     3.00,2,     0.01,     0.00,2,     0.01, -999.000,9, -999.000,9, -999.000,9, -999.000,9,   2388.2,2,   2406.1,2,   -999.0,9,   7.3839,       25,6, -999.000,9,    38.69,2, -999.000,1, -999.000,   -999.0,1,   -999.0, -999.000,9, -999.000, -999.000,9, -999.000,   -999.0,9,   -999.0, -999.000,9, -999.000,9, -999.000,9
  49NZ20140717,   P01,    79,  2,     19, X12J19,2,20140730,1756, 46.9718, 166.7472, 5955,   1870.1,2,   1.9527,2,   1.95262,2,  34.5810,2,  34.5808,2,  34.7616,2,    63.46,2,    63.63,2,   99.952,   0.0019,2,    0.008,2,  -999.00,9,    2.970,1,    0.000,2,   168.42,2,     0.18,    41.63,2,     0.05,     0.00,2,     0.01,     2.95,2,     0.01,     0.01,2,     0.01, -999.000,9, -999.000,9, -999.000,9, -999.000,9,   2378.1,2,   2411.2,2,   -999.0,9,   7.4096,       25,2, -999.000,9,    36.11,2, -999.000,9, -999.000,   -999.0,9,   -999.0, -999.000,9, -999.000, -999.000,9, -999.000,   -999.0,9,   -999.0, -999.000,9, -999.000,9, -999.000,9
  49NZ20140717,   P01,    79,  2,     18, X12J18,2,20140730,1756, 46.9718, 166.7472, 5955,   2072.0,2,   1.8486,2,   1.84860,2,  34.6032,2,  34.6031,2,  34.7820,2,    75.18,2,    75.38,2,   99.954,   0.0018,2,    0.006,2,  -999.00,9,    2.828,1,    0.000,2,   168.40,2,     0.18,    40.93,2,     0.05,     0.00,2,     0.01,     2.90,2,     0.01,     0.01,2,     0.01, -999.000,9, -999.000,9, -999.000,9, -999.000,9,   2368.7,2,   2412.8,2,   -999.0,9,   7.4343,       25,2, -999.000,9,    36.24,2, -999.000,1, -999.000,   -999.0,1,   -999.0, -999.000,9, -999.000, -999.000,9, -999.000,   -999.0,9,   -999.0, -999.000,9, -999.000,9, -999.000,9
  49NZ20140717,   P01,    79,  2,     17, X12J17,2,20140730,1756, 46.9718, 166.7472, 5955,   2272.9,2,   1.7547,2,   1.75473,2,  34.6217,2,  34.6214,2,  34.8018,2,    87.78,2,    87.88,2,   99.961,   0.0016,2,    0.005,2,  -999.00,9,    2.762,1,    0.000,2,   166.82,2,     0.18,    40.17,2,     0.05,     0.00,2,     0.01,     2.84,2,     0.01,     0.01,2,     0.01, -999.000,9, -999.000,9, -999.000,9, -999.000,9,   2364.5,2,   2414.5,2,   -999.0,9,   7.4586,       25,2, -999.000,9,  -999.00,9, -999.000,9, -999.000,   -999.0,9,   -999.0, -999.000,9, -999.000, -999.000,9, -999.000,   -999.0,9,   -999.0, -999.000,9, -999.000,9, -999.000,9
  49NZ20140717,   P01,    79,  2,     16, X12J16,2,20140730,1756, 46.9718, 166.7472, 5955,   2470.4,2,   1.6835,2,   1.68349,2,  34.6353,2,  34.6350,2,  34.8150,2,    98.48,2,    98.62,2,   99.950,   0.0020,2,    0.005,2,  -999.00,9,    2.681,1,    0.000,2,   165.29,2,     0.18,    39.47,2,     0.05,     0.00,2,     0.01,     2.78,2,     0.01,     0.01,2,     0.01, -999.000,9, -999.000,9, -999.000,9, -999.000,9,   2359.0,6,   2415.1,2,   -999.0,9,   7.4792,       25,2, -999.000,9,    35.20,2, -999.000,9, -999.000,   -999.0,9,   -999.0, -999.000,9, -999.000, -999.000,9, -999.000,   -999.0,9,   -999.0, -999.000,9, -999.000,9, -999.000,9
  49NZ20140717,   P01,    79,  2,     15, X12J15,2,20140730,1756, 46.9718, 166.7472, 5955,   2670.5,2,   1.6238,2,   1.62376,2,  34.6467,2,  34.6463,2,  34.8269,2,   109.11,2,   109.13,2,   99.965,   0.0014,2,    0.003,2,  -999.00,9,    2.623,1,    0.000,2,   163.16,2,     0.18,    38.83,2,     0.05,     0.00,2,     0.01,     2.73,2,     0.01,     0.01,2,     0.01, -999.000,9, -999.000,9, -999.000,9, -999.000,9,   2355.7,2,   2417.8,2,   -999.0,9,   7.4987,       25,2, -999.000,9,    35.92,2, -999.000,1, -999.000,   -999.0,1,   -999.0, -999.000,9, -999.000, -999.000,9, -999.000,   -999.0,9,   -999.0, -999.000,9, -999.000,9, -999.000,9
  49NZ20140717,   P01,    79,  2,     14, X12J14,2,20140730,1756, 46.9718, 166.7472, 5955,   2870.8,2,   1.5803,2,   1.58034,2,  34.6553,2,  34.6550,2,  34.8354,2,   117.45,2,   117.48,2,   99.969,   0.0012,2,    0.003,2,  -999.00,9,    2.470,1,    0.000,2,   160.95,2,     0.17,    38.32,2,     0.05,     0.00,2,     0.01,     2.69,2,     0.01,     0.00,2,     0.01, -999.000,9, -999.000,9, -999.000,9, -999.000,9,   2349.2,2,   2417.3,2,   -999.0,9,   7.5149,       25,6, -999.000,9,    36.31,2, -999.000,9, -999.000,   -999.0,9,   -999.0, -999.000,9, -999.000, -999.000,9, -999.000,   -999.0,9,   -999.0, -999.000,9, -999.000,9, -999.000,9
  49NZ20140717,   P01,    79,  2,     13, X12113,2,20140730,1756, 46.9718, 166.7472, 5955,   3080.9,2,   1.5418,2,   1.54190,2,  34.6629,2,  34.6624,2,  34.8433,2,   125.53,2,   125.51,2,   99.974,   0.0011,2,    0.002,2,  -999.00,9,    2.492,1,    0.000,2,   159.10,2,     0.17,    37.82,2,     0.05,     0.00,2,     0.01,     2.65,2,     0.01,     0.00,2,     0.01, -999.000,9, -999.000,9, -999.000,9, -999.000,9,   2343.3,2,   2418.5,2,   -999.0,9,   7.5294,       25,2, -999.000,9,    35.12,2, -999.000,1, -999.000,   -999.0,1,   -999.0, -999.000,9, -999.000, -999.000,9, -999.000,   -999.0,9,   -999.0, -999.000,9, -999.000,9, -999.000,9
  49NZ20140717,   P01,    79,  2,     12, X12J12,2,20140730,1756, 46.9718, 166.7472, 5955,   3330.3,2,   1.5080,2,   1.50808,2,  34.6697,2,  34.6692,2,  34.8506,2,   133.32,2,   133.14,2,   99.972,   0.0011,2,    0.002,2,  -999.00,9,    2.425,1,    0.000,2,   156.70,2,     0.17,    37.31,2,     0.05,     0.00,2,     0.01,     2.60,2,     0.01,     0.01,2,     0.01, -999.000,9, -999.000,9, -999.000,9, -999.000,9,   2337.4,2,   2417.7,6,   -999.0,9,   7.5430,       25,2, -999.000,9,    38.25,2, -999.000,9, -999.000,   -999.0,9,   -999.0, -999.000,9, -999.000, -999.000,9, -999.000,   -999.0,9,   -999.0, -999.000,9, -999.000,9, -999.000,9
  49NZ20140717,   P01,    79,  2,     11, X12J11,2,20140730,1756, 46.9718, 166.7472, 5955,   3580.5,2,   1.4882,2,   1.48837,2,  34.6750,2,  34.6742,2,  34.8546,2,   139.37,2,   139.29,2,   99.976,   0.0010,2,    0.001,2,  -999.00,9,    2.329,1,    0.000,2,   155.30,2,     0.17,    36.95,2,     0.05,     0.00,2,     0.01,     2.57,2,     0.01,     0.01,2,     0.01, -999.000,9, -999.000,9, -999.000,9, -999.000,9,   2333.6,2,   2417.9,2,   -999.0,9,   7.5531,       25,2, -999.000,9,    37.78,2, -999.000,1, -999.000,   -999.0,1,   -999.0, -999.000,9, -999.000, -999.000,9, -999.000,   -999.0,9,   -999.0, -999.000,9, -999.000,9, -999.000,9
  49NZ20140717,   P01,    79,  2,     10, X12J10,2,20140730,1756, 46.9718, 166.7472, 5955,   3830.7,2,   1.4787,2,   1.47887,2,  34.6790,2,  34.6784,2,  34.8592,2,   144.27,2,   144.10,2,   99.974,   0.0011,2,    0.001,2,  -999.00,9,    2.293,1,    0.000,2,   154.09,2,     0.17,    36.65,2,     0.05,     0.00,2,     0.01,     2.55,2,     0.01,     0.00,2,     0.01, -999.000,9, -999.000,9, -999.000,9, -999.000,9,   2329.8,2,   2415.5,2,   -999.0,9,   7.5615,       25,2, -999.000,9,    37.85,2, -999.000,9, -999.000,   -999.0,9,   -999.0, -999.000,9, -999.000, -999.000,9, -999.000,   -999.0,9,   -999.0, -999.000,9, -999.000,9, -999.000,9