BOTTLE,20230904JAMSTECRIGC
EXPOCODE,SECT,STNNBR,CASTNO,SAMPNO,BTLNBR,BTLNBR_FLAG_W,DATE,TIME,LATITUDE,LONGITUDE,DEPTH,CTDPRS,CTDPRS_FLAG_W,CTDTMP,CTDTMP_FLAG_W,SBE35,SBE35_FLAG_W,CTDSAL,CTDSAL_FLAG_W,SALNTY,SALNTY_FLAG_W,DNSSAL,DNSSAL_FLAG_W,CTDOXY,CTDOXY_FLAG_W,OXYGEN,OXYGEN_FLAG_W,XMISS,XMISSCP,XMISS_FLAG_W,FLUOR,FLUOR_FLAG_W,CHLORA,CHLORA_FLAG_W,CDOM,CDOM_FLAG_W,PAR,PAR_FLAG_W,SILCAT,SILCAT_FLAG_W,SILUNC,NITRAT,NITRAT_FLAG_W,NRAUNC,NITRIT,NITRIT_FLAG_W,NRIUNC,PHSPHT,PHSPHT_FLAG_W,PHPUNC,AMMONIA,AMMONIA_FLAG_W,NH4UNC,CFC-11,CFC-11_FLAG_W,CFC-12,CFC-12_FLAG_W,CFC113,CFC113_FLAG_W,SF6,SF6_FLAG_W,TCARBN,TCARBN_FLAG_W,ALKALI,ALKALI_FLAG_W,ALKALI_POT,ALKALI_POT_FLAG_W,PH_TOT,PH_TMP,PH_TOT_FLAG_W,CALCIUM,CALCIUM_FLAG_W,DOC,DOC_FLAG_W,DELC13,DELC13_FLAG_W,C13ERR,DELC14,DELC14_FLAG_W,C14ERR,CS-134,CS-134_FLAG_W,CS134ER,CS-137,CS-137_FLAG_W,CS137ER,I-129,I-129_FLAG_W,I-129ER,CDOM-325,CDOM-325_FLAG_W,CDOM-370,CDOM-370_FLAG_W,CDOM-443,CDOM-443_FLAG_W
,,,,,,,,UTC,DEG,DEG,METERS,DBAR,,ITS-90,,ITS-90,,PSS-78,,PSS-78,,G/KG,,UMOL/KG,,UMOL/KG,,%TRANS,/METER,,MG/CUM,,MG/CUM,,MG/CUM,,UE/SQM/S,,UMOL/KG,,UMOL/KG,UMOL/KG,,UMOL/KG,UMOL/KG,,UMOL/KG,UMOL/KG,,UMOL/KG,UMOL/KG,,UMOL/KG,PMOL/KG,,PMOL/KG,,PMOL/KG,,FMOL/KG,,UMOL/KG,,UMOL/KG,,UMOL/KG,,,DEG C,,MMOL/KG,,UMOL/KG,,/MILLE,,/MILLE,/MILLE,,/MILLE,MBQ/KG,,MBQ/KG,MBQ/KG,,MBQ/KG,,,,/METER,,/METER,,/METER,
  49NZ20140717,   P01,    50,  1,      0,   -999,9,20140720,2220, 40.8688, 147.0668, 4830,   -999.0,9,-999.0000,9,-999.00000,9,-999.0000,9,  33.6253,2,-999.0000,9,  -999.00,9,  -999.00,9, -999.000,-999.0000,9, -999.000,9,  -999.00,9, -999.000,9, -999.000,9,     1.55,2,     0.11,     0.04,2,     0.02,     0.00,2,     0.01,     0.11,2,     0.01,     0.03,2,     0.01, -999.000,9, -999.000,9, -999.000,9, -999.000,9,   -999.0,9,   -999.0,9,   -999.0,9,-999.0000,     -999,9, -999.000,9,  -999.00,9, -999.000,9, -999.000,   -999.0,9,   -999.0, -999.000,9, -999.000, -999.000,9, -999.000,   -999.0,9,   -999.0, -999.000,9, -999.000,9, -999.000,9
  49NZ20140717,   P01,    50,  1,     36, X12J36,2,20140720,2220, 40.8688, 147.0668, 4830,     10.4,2,  18.4076,2,  18.40806,2,  33.6023,2,  33.6034,2,-999.0000,9,   245.43,2,   245.82,2,   97.351,   0.1074,2,    0.167,2,  -999.00,9,    0.158,1,  259.564,2,     1.49,2,     0.11,    -0.01,2,     0.02,     0.00,2,     0.01,     0.09,2,     0.01,     0.00,2,     0.01,    2.438,2,    1.437,2,    0.302,2, -999.000,9,   -999.0,9,   -999.0,9,   -999.0,9,-999.0000,     -999,9, -999.000,9,  -999.00,9, -999.000,9, -999.000,   -999.0,9,   -999.0, -999.000,9, -999.000, -999.000,9, -999.000,   -999.0,9,   -999.0, -999.000,9, -999.000,9, -999.000,9
  49NZ20140717,   P01,    50,  1,     35, X12J35,2,20140720,2220, 40.8688, 147.0668, 4830,     50.8,2,  11.1796,2,  11.18158,2,  34.2087,2,  34.2090,2,-999.0000,9,   200.29,2,   199.95,2,   98.698,   0.0524,2,    0.249,2,  -999.00,9,    0.874,1,    5.726,2,    20.81,2,     0.09,    14.40,2,     0.03,     0.11,2,     0.01,     1.05,2,     0.01,     0.01,2,     0.01,    2.758,2,    1.550,2,    0.143,2, -999.000,9,   -999.0,9,   -999.0,9,   -999.0,9,-999.0000,     -999,9, -999.000,9,  -999.00,9, -999.000,9, -999.000,   -999.0,9,   -999.0, -999.000,9, -999.000, -999.000,9, -999.000,   -999.0,9,   -999.0, -999.000,9, -999.000,9, -999.000,9
  49NZ20140717,   P01,    50,  1,     34, X12J34,2,20140720,2220, 40.8688, 147.0668, 4830,    102.0,2,   5.7824,2,   5.78155,2,  33.6610,2,  33.6594,2,-999.0000,9,   278.44,2,   277.93,2,   99.672,   0.0131,2,    0.041,2,  -999.00,9,    1.066,1,    0.373,2,    25.26,2,     0.09,    17.80,2,     0.03,     0.01,2,     0.01,     1.38,2,     0.01,     0.01,2,     0.01,    4.275,2,    2.337,2,    0.360,2, -999.000,9,   -999.0,9,   -999.0,9,   -999.0,9,-999.0000,     -999,9, -999.000,9,  -999.00,9, -999.000,9, -999.000,   -999.0,9,   -999.0, -999.000,9, -999.000, -999.000,9, -999.000,   -999.0,9,   -999.0, -999.000,9, -999.000,9, -999.000,9
  49NZ20140717,   P01,    50,  1,     33, X12J33,2,20140720,2220, 40.8688, 147.0668, 4830,    150.6,2,   5.8697,2,   5.86963,2,  33.7150,2,  33.7158,2,-999.0000,9,   284.14,2,   283.94,2,   99.560,   0.0176,2,    0.003,2,  -999.00,9,    0.915,1,    0.008,2,    27.40,2,     0.09,    17.03,2,     0.03,     0.01,2,     0.01,     1.31,2,     0.01,     0.01,2,     0.01,    4.232,2,    2.317,2,    0.345,2, -999.000,9,   -999.0,9,   -999.0,9,   -999.0,9,-999.0000,     -999,9, -999.000,9,  -999.00,9, -999.000,9, -999.000,   -999.0,9,   -999.0, -999.000,9, -999.000, -999.000,9, -999.000,   -999.0,9,   -999.0, -999.000,9, -999.000,9, -999.000,9
  49NZ20140717,   P01,    50,  1,     32, X12J32,2,20140720,2220, 40.8688, 147.0668, 4830,    199.7,2,   5.8817,2,   5.88160,2,  33.7288,2,  33.7294,2,-999.0000,9,   285.58,2,   285.74,2,   99.510,   0.0196,2,    0.000,2,  -999.00,9,    0.831,1,    0.000,2,    27.50,2,     0.09,    16.71,2,     0.03,     0.01,2,     0.01,     1.28,2,     0.01,     0.01,2,     0.01,    4.231,2,    2.308,2,    0.350,2, -999.000,9,   -999.0,9,   -999.0,9,   -999.0,9,-999.0000,     -999,9, -999.000,9,  -999.00,9, -999.000,9, -999.000,   -999.0,9,   -999.0, -999.000,9, -999.000, -999.000,9, -999.000,   -999.0,9,   -999.0, -999.000,9, -999.000,9, -999.000,9
  49NZ20140717,   P01,    50,  1,     31, X12J31,2,20140720,2220, 40.8688, 147.0668, 4830,    250.7,2,   5.0987,2,   5.09552,2,  33.6499,2,  33.6546,2,-999.0000,9,   272.84,2,   272.55,2,   99.497,   0.0202,2,   -0.002,2,  -999.00,9,    1.220,1,    0.000,2,    32.63,2,     0.10,    18.98,2,     0.03,     0.01,2,     0.01,     1.46,2,     0.01,     0.01,2,     0.01,    4.283,2,    2.325,2,    0.326,2, -999.000,9,   -999.0,9,   -999.0,9,   -999.0,9,-999.0000,     -999,9, -999.000,9,  -999.00,9, -999.000,9, -999.000,   -999.0,9,   -999.0, -999.000,9, -999.000, -999.000,9, -999.000,   -999.0,9,   -999.0, -999.000,9, -999.000,9, -999.000,9
  49NZ20140717,   P01,    50,  1,     30, X12J30,2,20140720,2220, 40.8688, 147.0668, 4830,    280.9,2,   4.1766,2,   4.17864,2,  33.5909,2,  33.5921,2,-999.0000,9,   256.53,2,   256.07,2,   99.560,   0.0176,2,    0.000,2,  -999.00,9,    1.437,1,    0.000,2,    39.39,2,     0.10,    22.00,2,     0.03,     0.01,2,     0.01,     1.69,2,     0.01,     0.07,2,     0.02,    4.347,2,    2.347,2,    0.319,2, -999.000,9,   -999.0,9,   -999.0,9,   -999.0,9,-999.0000,     -999,9, -999.000,9,  -999.00,9, -999.000,9, -999.000,   -999.0,9,   -999.0, -999.000,9, -999.000, -999.000,9, -999.000,   -999.0,9,   -999.0, -999.000,9, -999.000,9, -999.000,9
  49NZ20140717,   P01,    50,  1,     29, X12J29,2,20140720,2220, 40.8688, 147.0668, 4830,    371.7,2,   2.4003,2,   2.40042,2,  33.5363,2,  33.5365,2,-999.0000,9,   189.39,2,   189.03,2,   99.689,   0.0125,2,    0.003,2,  -999.00,9,    2.208,1,    0.000,2,    67.11,2,     0.12,    31.94,2,     0.04,     0.00,2,     0.01,     2.42,2,     0.01,     0.02,2,     0.01,    4.070,2,    2.132,2,    0.312,2, -999.000,9,   -999.0,9,   -999.0,9,   -999.0,9,-999.0000,     -999,9, -999.000,9,  -999.00,9, -999.000,9, -999.000,   -999.0,9,   -999.0, -999.000,9, -999.000, -999.000,9, -999.000,   -999.0,9,   -999.0, -999.000,9, -999.000,9, -999.000,9
  49NZ20140717,   P01,    50,  1,     28, X12J28,2,20140720,2220, 40.8688, 147.0668, 4830,    472.6,2,   2.6948,2,   2.69688,2,  33.7006,2,  33.6977,2,-999.0000,9,   133.29,2,   133.67,2,   99.823,   0.0071,2,    0.004,2,  -999.00,9,    2.461,1,    0.000,2,    83.23,2,     0.13,    36.35,2,     0.05,     0.00,2,     0.01,     2.70,2,     0.01,     0.03,2,     0.01,    3.250,2,    1.688,2,    0.242,2, -999.000,9,   -999.0,9,   -999.0,9,   -999.0,9,-999.0000,     -999,9, -999.000,9,  -999.00,9, -999.000,9, -999.000,   -999.0,9,   -999.0, -999.000,9, -999.000, -999.000,9, -999.000,   -999.0,9,   -999.0, -999.000,9, -999.000,9, -999.000,9
  49NZ20140717,   P01,    50,  1,     27, X12J27,2,20140720,2220, 40.8688, 147.0668, 4830,    571.7,2,   2.5866,2,   2.58643,2,  33.7774,2,  33.7772,2,-999.0000,9,   102.07,2,   102.10,2,   99.635,   0.0146,2,    0.006,2,  -999.00,9,    2.564,1,    0.000,2,    94.29,2,     0.13,    38.56,2,     0.05,     0.00,2,     0.01,     2.85,2,     0.01,  -999.00,9,  -999.00,    2.827,2,    1.465,2,    0.216,2, -999.000,9,   -999.0,9,   -999.0,9,   -999.0,9,-999.0000,     -999,9, -999.000,9,  -999.00,9, -999.000,9, -999.000,   -999.0,9,   -999.0, -999.000,9, -999.000, -999.000,9, -999.000,   -999.0,9,   -999.0, -999.000,9, -999.000,9, -999.000,9
  49NZ20140717,   P01,    50,  1,     26, X12J26,2,20140720,2220, 40.8688, 147.0668, 4830,    671.3,2,   3.2023,2,   3.20200,2,  33.9424,2,  33.9407,2,-999.0000,9,    67.86,2,    68.42,2,   99.767,   0.0093,2,    0.006,2,  -999.00,9,    2.636,1,    0.000,2,   103.36,2,     0.14,    40.70,2,     0.05,     0.00,2,     0.01,     2.95,2,     0.01,  -999.00,9,  -999.00,    1.991,2,    1.042,2,    0.156,2, -999.000,9,   -999.0,9,   -999.0,9,   -999.0,9,-999.0000,     -999,9, -999.000,9,  -999.00,9, -999.000,9, -999.000,   -999.0,9,   -999.0, -999.000,9, -999.000, -999.000,9, -999.000,   -999.0,9,   -999.0, -999.000,9, -999.000,9, -999.000,9
  49NZ20140717,   P01,    50,  1,     25, X12J25,2,20140720,2220, 40.8688, 147.0668, 4830,    770.4,2,   3.4700,2,   3.46983,2,  34.0804,2,  34.0807,2,-999.0000,9,    48.19,2,    48.67,2,   99.801,   0.0080,2,    0.006,2,  -999.00,9,    2.650,1,    0.000,2,   112.12,2,     0.14,    41.54,2,     0.05,     0.00,2,     0.01,     3.00,2,     0.01,  -999.00,9,  -999.00,    1.346,2,    0.709,2,    0.103,2, -999.000,9,   -999.0,9,   -999.0,9,   -999.0,9,-999.0000,     -999,9, -999.000,9,  -999.00,9, -999.000,9, -999.000,   -999.0,9,   -999.0, -999.000,9, -999.000, -999.000,9, -999.000,   -999.0,9,   -999.0, -999.000,9, -999.000,9, -999.000,9
  49NZ20140717,   P01,    50,  1,     24, X12J24,2,20140720,2220, 40.8688, 147.0668, 4830,    868.7,2,   3.4102,2,   3.41003,2,  34.1644,2,  34.1638,2,-999.0000,9,    39.03,2,    39.37,2,   99.775,   0.0090,2,    0.007,2,  -999.00,9,    2.695,1,    0.000,2,   119.97,2,     0.15,    42.19,2,     0.05,     0.00,2,     0.01,     3.04,2,     0.01,  -999.00,9,  -999.00,    0.978,2,    0.518,2,    0.088,2, -999.000,9,   -999.0,9,   -999.0,9,   -999.0,9,-999.0000,     -999,9, -999.000,9,  -999.00,9, -999.000,9, -999.000,   -999.0,9,   -999.0, -999.000,9, -999.000, -999.000,9, -999.000,   -999.0,9,   -999.0, -999.000,9, -999.000,9, -999.000,9
  49NZ20140717,   P01,    50,  1,     23, X12J23,2,20140720,2220, 40.8688, 147.0668, 4830,    969.8,2,   3.2517,2,   3.25144,2,  34.2570,2,  34.2567,2,-999.0000,9,    33.64,2,    33.80,2,   99.840,   0.0064,2,    0.006,2,  -999.00,9,    2.724,1,    0.000,2,   129.53,2,     0.15,    42.57,2,     0.05,     0.00,2,     0.01,     3.06,2,     0.01,     0.02,2,     0.01,    0.628,2,    0.327,2,    0.052,2, -999.000,9,   -999.0,9,   -999.0,9,   -999.0,9,-999.0000,     -999,9, -999.000,9,  -999.00,9, -999.000,9, -999.000,   -999.0,9,   -999.0, -999.000,9, -999.000, -999.000,9, -999.000,   -999.0,9,   -999.0, -999.000,9, -999.000,9, -999.000,9
  49NZ20140717,   P01,    50,  1,     22, X12J22,2,20140720,2220, 40.8688, 147.0668, 4830,   1130.4,2,   2.9681,2,   2.96800,2,  34.3592,2,  34.3594,2,-999.0000,9,    34.31,2,    34.49,2,   99.862,   0.0055,2,    0.005,2,  -999.00,9,    2.767,1,    0.000,2,   140.43,2,     0.16,    42.64,2,     0.05,     0.00,2,     0.01,     3.07,2,     0.01,  -999.00,9,  -999.00,    0.326,2,    0.166,2,    0.019,2, -999.000,9,   -999.0,9,   -999.0,9,   -999.0,9,-999.0000,     -999,9, -999.000,9,  -999.00,9, -999.000,9, -999.000,   -999.0,9,   -999.0, -999.000,9, -999.000, -999.000,9, -999.000,   -999.0,9,   -999.0, -999.000,9, -999.000,9, -999.000,9
  49NZ20140717,   P01,    50,  1,     21, X12J21,2,20140720,2220, 40.8688, 147.0668, 4830,   1331.3,2,   2.5945,2,   2.59460,2,  34.4296,2,  34.4291,2,-999.0000,9,    36.39,2,    36.27,2,   99.866,   0.0054,2,    0.005,2,  -999.00,9,    2.815,1,    0.000,2,   152.26,2,     0.17,    42.81,2,     0.05,     0.00,2,     0.01,     3.08,2,     0.01,  -999.00,9,  -999.00,    0.196,2,    0.098,2,    0.000,2, -999.000,9,   -999.0,9,   -999.0,9,   -999.0,9,-999.0000,     -999,9, -999.000,9,  -999.00,9, -999.000,9, -999.000,   -999.0,9,   -999.0, -999.000,9, -999.000, -999.000,9, -999.000,   -999.0,9,   -999.0, -999.000,9, -999.000,9, -999.000,9
  49NZ20140717,   P01,    50,  1,     20, X12J20,2,20140720,2220, 40.8688, 147.0668, 4830,   1530.6,2,   2.3756,2,   2.37549,2,  34.4904,2,  34.4902,2,-999.0000,9,    43.90,2,    43.88,2,   99.829,   0.0068,2,    0.003,2,  -999.00,9,    2.727,1,    0.000,2,   158.10,2,     0.17,    42.44,2,     0.05,     0.00,2,     0.01,     3.05,2,     0.01,     0.01,2,     0.01,    0.105,2,    0.054,2,    0.000,2, -999.000,9,   -999.0,9,   -999.0,9,   -999.0,9,-999.0000,     -999,9, -999.000,9,  -999.00,9, -999.000,9, -999.000,   -999.0,9,   -999.0, -999.000,9, -999.000, -999.000,9, -999.000,   -999.0,9,   -999.0, -999.000,9, -999.000,9, -999.000,9
  49NZ20140717,   P01,    50,  1,     19, X12J19,2,20140720,2220, 40.8688, 147.0668, 4830,   1731.6,2,   2.2368,2,   2.23679,2,  34.5306,2,  34.5301,2,-999.0000,9,    51.10,2,    51.19,2,   99.851,   0.0060,2,    0.004,2,  -999.00,9,    2.661,1,    0.000,2,   160.65,2,     0.17,    42.22,2,     0.05,     0.00,2,     0.01,     3.02,2,     0.01,  -999.00,9,  -999.00,    0.046,2,    0.025,2,    0.000,2, -999.000,9,   -999.0,9,   -999.0,9,   -999.0,9,-999.0000,     -999,9, -999.000,9,  -999.00,9, -999.000,9, -999.000,   -999.0,9,   -999.0, -999.000,9, -999.000, -999.000,9, -999.000,   -999.0,9,   -999.0, -999.000,9, -999.000,9, -999.000,9
  49NZ20140717,   P01,    50,  1,     18, X12J18,2,20140720,2220, 40.8688, 147.0668, 4830,   1930.1,2,   2.0796,2,   2.07961,2,  34.5664,2,  34.5664,2,-999.0000,9,    62.20,2,    62.49,2,   99.896,   0.0042,2,    0.002,2,  -999.00,9,    2.608,1,    0.000,2,   162.59,2,     0.18,    41.66,2,     0.05,     0.00,2,     0.01,     2.96,2,     0.01,     0.01,2,     0.01,    0.017,2,    0.008,2,    0.000,2, -999.000,9,   -999.0,9,   -999.0,9,   -999.0,9,-999.0000,     -999,9, -999.000,9,  -999.00,9, -999.000,9, -999.000,   -999.0,9,   -999.0, -999.000,9, -999.000, -999.000,9, -999.000,   -999.0,9,   -999.0, -999.000,9, -999.000,9, -999.000,9
  49NZ20140717,   P01,    50,  1,     17, X12J17,2,20140720,2220, 40.8688, 147.0668, 4830,   2130.9,2,   1.9607,2,   1.96048,2,  34.5924,2,  34.5925,2,-999.0000,9,    74.37,2,    74.40,2,   99.885,   0.0046,2,    0.001,2,  -999.00,9,    2.539,1,    0.000,2,   162.45,2,     0.18,    40.90,2,     0.05,     0.00,2,     0.01,     2.90,2,     0.01,  -999.00,9,  -999.00,    0.002,2,    0.002,2,    0.000,2, -999.000,9,   -999.0,9,   -999.0,9,   -999.0,9,-999.0000,     -999,9, -999.000,9,  -999.00,9, -999.000,9, -999.000,   -999.0,9,   -999.0, -999.000,9, -999.000, -999.000,9, -999.000,   -999.0,9,   -999.0, -999.000,9, -999.000,9, -999.000,9
  49NZ20140717,   P01,    50,  1,     16, X12J16,2,20140720,2220, 40.8688, 147.0668, 4830,   2330.0,2,   1.8428,2,   1.84284,2,  34.6135,2,  34.6136,2,-999.0000,9,    86.33,2,    86.53,2,   99.900,   0.0040,2,    0.001,2,  -999.00,9,    2.465,1,    0.000,2,   162.48,2,     0.18,    40.23,2,     0.05,     0.00,2,     0.01,     2.85,2,     0.01,  -999.00,9,  -999.00,    0.000,2,    0.000,2,    0.000,2, -999.000,9,   -999.0,9,   -999.0,9,   -999.0,9,-999.0000,     -999,9, -999.000,9,  -999.00,9, -999.000,9, -999.000,   -999.0,9,   -999.0, -999.000,9, -999.000, -999.000,9, -999.000,   -999.0,9,   -999.0, -999.000,9, -999.000,9, -999.000,9
  49NZ20140717,   P01,    50,  1,     15, X12J15,2,20140720,2220, 40.8688, 147.0668, 4830,   2530.7,2,   1.7366,2,   1.73699,2,  34.6318,2,  34.6313,2,-999.0000,9,    99.41,2,    99.62,2,   99.933,   0.0027,2,    0.000,2,  -999.00,9,    2.405,1,    0.000,2,   161.02,2,     0.17,    39.35,2,     0.05,     0.00,2,     0.01,     2.78,2,     0.01,     0.02,2,     0.01,    0.000,2,    0.000,2,    0.000,2, -999.000,9,   -999.0,9,   -999.0,9,   -999.0,9,-999.0000,     -999,9, -999.000,9,  -999.00,9, -999.000,9, -999.000,   -999.0,9,   -999.0, -999.000,9, -999.000, -999.000,9, -999.000,   -999.0,9,   -999.0, -999.000,9, -999.000,9, -999.000,9
  49NZ20140717,   P01,    50,  1,     14, X12J14,2,20140720,2220, 40.8688, 147.0668, 4830,   2730.4,2,   1.6645,2,   1.66467,2,  34.6442,2,  34.6441,2,-999.0000,9,   109.48,2,   109.55,2,   99.948,   0.0021,2,   -0.001,2,  -999.00,9,    2.309,1,    0.000,2,   159.65,2,     0.17,    38.76,2,     0.05,    -0.01,2,     0.01,     2.74,2,     0.01,  -999.00,9,  -999.00,    0.000,2,    0.000,2,    0.000,2, -999.000,9,   -999.0,9,   -999.0,9,   -999.0,9,-999.0000,     -999,9, -999.000,9,  -999.00,9, -999.000,9, -999.000,   -999.0,9,   -999.0, -999.000,9, -999.000, -999.000,9, -999.000,   -999.0,9,   -999.0, -999.000,9, -999.000,9, -999.000,9
  49NZ20140717,   P01,    50,  1,     13, X12113,2,20140720,2220, 40.8688, 147.0668, 4830,   2930.0,2,   1.6043,2,   1.60425,2,  34.6546,2,  34.6548,2,-999.0000,9,   119.12,2,   119.13,2,   99.952,   0.0019,2,   -0.002,2,  -999.00,9,    2.313,1,    0.000,2,   157.98,2,     0.17,    38.18,2,     0.05,     0.00,2,     0.01,     2.69,2,     0.01,     0.01,2,     0.01,    0.000,2,    0.000,2,    0.000,2, -999.000,9,   -999.0,9,   -999.0,9,   -999.0,9,-999.0000,     -999,9, -999.000,9,  -999.00,9, -999.000,9, -999.000,   -999.0,9,   -999.0, -999.000,9, -999.000, -999.000,9, -999.000,   -999.0,9,   -999.0, -999.000,9, -999.000,9, -999.000,9
  49NZ20140717,   P01,    50,  1,     12, X12J12,2,20140720,2220, 40.8688, 147.0668, 4830,   3169.7,2,   1.5568,2,   1.55682,2,  34.6629,2,  34.6629,2,-999.0000,9,   126.98,2,   127.03,2,   99.950,   0.0020,2,   -0.002,2,  -999.00,9,    2.286,1,    0.000,2,   156.86,2,     0.17,    37.70,2,     0.05,     0.00,2,     0.01,     2.65,2,     0.01,  -999.00,9,  -999.00,    0.000,2,    0.000,2,    0.000,2, -999.000,9,   -999.0,9,   -999.0,9,   -999.0,9,-999.0000,     -999,9, -999.000,9,  -999.00,9, -999.000,9, -999.000,   -999.0,9,   -999.0, -999.000,9, -999.000, -999.000,9, -999.000,   -999.0,9,   -999.0, -999.000,9, -999.000,9, -999.000,9
  49NZ20140717,   P01,    50,  1,     11, X12J11,2,20140720,2220, 40.8688, 147.0668, 4830,   3420.9,2,   1.5168,2,   1.51679,2,  34.6704,2,  34.6706,2,-999.0000,9,   135.08,2,   135.54,2,   99.941,   0.0023,2,   -0.003,2,  -999.00,9,    2.124,1,    0.000,2,   154.88,2,     0.17,    37.11,2,     0.05,    -0.01,2,     0.01,     2.60,2,     0.01,     0.00,2,     0.01,    0.000,2,    0.000,2,    0.000,2, -999.000,9,   -999.0,9,   -999.0,9,   -999.0,9,-999.0000,     -999,9, -999.000,9,  -999.00,9, -999.000,9, -999.000,   -999.0,9,   -999.0, -999.000,9, -999.000, -999.000,9, -999.000,   -999.0,9,   -999.0, -999.000,9, -999.000,9, -999.000,9
  49NZ20140717,   P01,    50,  1,     10, X12J10,2,20140720,2220, 40.8688, 147.0668, 4830,   3670.3,2,   1.4837,2,   1.48376,2,  34.6767,2,  34.6768,2,-999.0000,9,   142.35,2,   142.33,2,   99.943,   0.0023,2,   -0.003,2,  -999.00,9,    2.186,1,    0.000,2,   152.94,2,     0.17,    36.68,2,     0.05,    -0.01,2,     0.01,     2.57,2,     0.01,  -999.00,9,  -999.00,    0.000,2,    0.000,2,    0.000,2, -999.000,9,   -999.0,9,   -999.0,9,   -999.0,9,-999.0000,     -999,9, -999.000,9,  -999.00,9, -999.000,9, -999.000,   -999.0,9,   -999.0, -999.000,9, -999.000, -999.000,9, -999.000,   -999.0,9,   -999.0, -999.000,9, -999.000,9, -999.000,9