BOTTLE,20230904JAMSTECRIGC
EXPOCODE,SECT,STNNBR,CASTNO,SAMPNO,BTLNBR,BTLNBR_FLAG_W,DATE,TIME,LATITUDE,LONGITUDE,DEPTH,CTDPRS,CTDPRS_FLAG_W,CTDTMP,CTDTMP_FLAG_W,SBE35,SBE35_FLAG_W,CTDSAL,CTDSAL_FLAG_W,SALNTY,SALNTY_FLAG_W,DNSSAL,DNSSAL_FLAG_W,CTDOXY,CTDOXY_FLAG_W,OXYGEN,OXYGEN_FLAG_W,XMISS,XMISSCP,XMISS_FLAG_W,FLUOR,FLUOR_FLAG_W,CHLORA,CHLORA_FLAG_W,CDOM,CDOM_FLAG_W,PAR,PAR_FLAG_W,SILCAT,SILCAT_FLAG_W,SILUNC,NITRAT,NITRAT_FLAG_W,NRAUNC,NITRIT,NITRIT_FLAG_W,NRIUNC,PHSPHT,PHSPHT_FLAG_W,PHPUNC,AMMONIA,AMMONIA_FLAG_W,NH4UNC,CFC-11,CFC-11_FLAG_W,CFC-12,CFC-12_FLAG_W,CFC113,CFC113_FLAG_W,SF6,SF6_FLAG_W,TCARBN,TCARBN_FLAG_W,ALKALI,ALKALI_FLAG_W,ALKALI_POT,ALKALI_POT_FLAG_W,PH_TOT,PH_TMP,PH_TOT_FLAG_W,CALCIUM,CALCIUM_FLAG_W,DOC,DOC_FLAG_W,DELC13,DELC13_FLAG_W,C13ERR,DELC14,DELC14_FLAG_W,C14ERR,CS-134,CS-134_FLAG_W,CS134ER,CS-137,CS-137_FLAG_W,CS137ER,I-129,I-129_FLAG_W,I-129ER,CDOM-325,CDOM-325_FLAG_W,CDOM-370,CDOM-370_FLAG_W,CDOM-443,CDOM-443_FLAG_W
,,,,,,,,UTC,DEG,DEG,METERS,DBAR,,ITS-90,,ITS-90,,PSS-78,,PSS-78,,G/KG,,UMOL/KG,,UMOL/KG,,%TRANS,/METER,,MG/CUM,,MG/CUM,,MG/CUM,,UE/SQM/S,,UMOL/KG,,UMOL/KG,UMOL/KG,,UMOL/KG,UMOL/KG,,UMOL/KG,UMOL/KG,,UMOL/KG,UMOL/KG,,UMOL/KG,PMOL/KG,,PMOL/KG,,PMOL/KG,,FMOL/KG,,UMOL/KG,,UMOL/KG,,UMOL/KG,,,DEG C,,MMOL/KG,,UMOL/KG,,/MILLE,,/MILLE,/MILLE,,/MILLE,MBQ/KG,,MBQ/KG,MBQ/KG,,MBQ/KG,,,,/METER,,/METER,,/METER,
  49NZ20140717,   P01,   112,  1,      0,   -999,9,20140810,1549, 47.0025,-162.6202, 5171,   -999.0,9,-999.0000,9,-999.00000,9,-999.0000,9,  32.6051,2,-999.0000,9,  -999.00,9,  -999.00,9, -999.000,-999.0000,9, -999.000,9,  -999.00,9, -999.000,9, -999.000,9,     8.26,2,     0.09,     7.61,2,     0.02,     0.10,2,     0.01,     0.84,2,     0.01,  -999.00,9,  -999.00, -999.000,9, -999.000,9, -999.000,9, -999.000,9,   -999.0,9,   -999.0,9,   -999.0,9,-999.0000,     -999,9, -999.000,9,  -999.00,9, -999.000,9, -999.000,   -999.0,9,   -999.0, -999.000,9, -999.000, -999.000,9, -999.000,   -999.0,9,   -999.0, -999.000,9, -999.000,9, -999.000,9
  49NZ20140717,   P01,   112,  1,     36, X12J36,2,20140810,1549, 47.0025,-162.6202, 5171,     11.1,2,  13.0289,2,  13.02809,2,  32.5958,2,  32.5966,2,-999.0000,9,   275.44,2,   275.83,2,   91.472,   0.3566,2,    0.840,2,  -999.00,9,   -1.086,1,   62.449,2,     8.75,2,     0.09,     7.75,2,     0.02,     0.10,2,     0.01,     0.85,2,     0.01,  -999.00,9,  -999.00,    3.079,2,    1.851,2,    0.304,2,    2.260,2,   2000.2,2,   2202.7,2,   -999.0,9,   7.8883,       25,6, -999.000,9,    65.16,2, -999.000,9, -999.000,   -999.0,9,   -999.0, -999.000,9, -999.000, -999.000,9, -999.000,   -999.0,9,   -999.0, -999.000,9, -999.000,9, -999.000,9
  49NZ20140717,   P01,   112,  1,     35, X12J35,2,20140810,1549, 47.0025,-162.6202, 5171,     50.2,2,   6.2717,2,   6.27354,2,  32.9324,2,  32.9344,2,-999.0000,9,   307.19,2,   307.76,2,   98.215,   0.0721,2,    0.398,2,  -999.00,9,    0.603,1,    1.141,2,    20.51,2,     0.09,    13.45,2,     0.02,     0.18,2,     0.01,     1.27,2,     0.01,  -999.00,9,  -999.00,    4.249,2,    2.485,2,    0.408,2,    2.790,2,   2067.7,6,   2216.7,2,   -999.0,9,   7.7638,       25,2, -999.000,9,    55.51,2, -999.000,9, -999.000,   -999.0,9,   -999.0, -999.000,9, -999.000, -999.000,9, -999.000,   -999.0,9,   -999.0, -999.000,9, -999.000,9, -999.000,9
  49NZ20140717,   P01,   112,  1,     34, X12J34,2,20140810,1549, 47.0025,-162.6202, 5171,    100.7,2,   5.6458,2,   5.64452,2,  33.1443,2,  33.1551,2,-999.0000,9,   288.21,2,   287.43,2,   99.475,   0.0210,2,    0.105,2,  -999.00,9,    0.640,1,    0.018,2,    23.27,2,     0.09,    16.75,2,     0.03,     0.02,2,     0.01,     1.38,2,     0.01,  -999.00,9,  -999.00,    4.206,2,    2.462,2,    0.378,2,    2.730,2,   2092.3,2,   2227.5,2,   -999.0,9,   7.7232,       25,2, -999.000,9,    49.98,2, -999.000,9, -999.000,   -999.0,9,   -999.0, -999.000,9, -999.000, -999.000,9, -999.000,   -999.0,9,   -999.0, -999.000,9, -999.000,9, -999.000,9
  49NZ20140717,   P01,   112,  1,     33, X12J33,2,20140810,1549, 47.0025,-162.6202, 5171,    149.7,2,   4.9170,2,   4.91640,2,  33.6680,2,  33.6661,2,-999.0000,9,   193.94,2,   194.65,2,   99.603,   0.0159,2,    0.022,2,  -999.00,9,    1.880,1,    0.000,2,    48.47,2,     0.11,    27.52,2,     0.04,     0.01,2,     0.01,     2.02,2,     0.01,  -999.00,9,  -999.00,    3.615,2,    2.067,2,    0.259,2,    1.890,2,   2191.0,2,   2264.3,2,   -999.0,9,   7.5466,       25,6, -999.000,9,    48.41,2, -999.000,9, -999.000,   -999.0,9,   -999.0, -999.000,9, -999.000, -999.000,9, -999.000,   -999.0,9,   -999.0, -999.000,9, -999.000,9, -999.000,9
  49NZ20140717,   P01,   112,  1,     32, X12J32,2,20140810,1549, 47.0025,-162.6202, 5171,    200.0,2,   4.4136,2,   4.41229,2,  33.7610,2,  33.7609,2,-999.0000,9,   142.93,2,   143.06,2,   99.761,   0.0096,2,    0.026,2,  -999.00,9,    2.383,1,    0.000,2,    64.45,2,     0.11,    33.12,2,     0.04,     0.01,2,     0.01,     2.40,2,     0.01,  -999.00,9,  -999.00,    3.170,2,    1.770,2,    0.217,2,    1.360,2,   2239.1,2,   2276.8,6,   -999.0,9,   7.4473,       25,2, -999.000,9,    47.72,2, -999.000,9, -999.000,   -999.0,9,   -999.0, -999.000,9, -999.000, -999.000,9, -999.000,   -999.0,9,   -999.0, -999.000,9, -999.000,9, -999.000,9
  49NZ20140717,   P01,   112,  1,     31, X12J31,2,20140810,1549, 47.0025,-162.6202, 5171,    249.9,2,   4.1608,2,   4.15955,2,  33.8221,2,  33.8221,2,-999.0000,9,   112.80,2,   113.30,2,   99.824,   0.0070,2,    0.021,2,  -999.00,9,    2.551,1,    0.000,2,    74.57,2,     0.12,    36.19,2,     0.05,     0.01,2,     0.01,     2.60,2,     0.01,  -999.00,9,  -999.00,    2.804,2,    1.537,2,    0.185,2,    1.130,2,   2265.4,2,   2286.4,2,   -999.0,9,   7.3922,       25,2, -999.000,9,  -999.00,9, -999.000,9, -999.000,   -999.0,9,   -999.0, -999.000,9, -999.000, -999.000,9, -999.000,   -999.0,9,   -999.0, -999.000,9, -999.000,9, -999.000,9
  49NZ20140717,   P01,   112,  1,     30, X12J30,2,20140810,1549, 47.0025,-162.6202, 5171,    329.8,2,   3.9477,2,   3.94770,2,  33.9033,2,  33.9022,2,-999.0000,9,    79.35,2,    80.19,2,   99.744,   0.0103,2,    0.022,2,  -999.00,9,    2.695,1,    0.000,2,    86.75,2,     0.13,    39.42,2,     0.05,     0.01,2,     0.01,     2.81,2,     0.01,  -999.00,9,  -999.00,    2.322,2,    1.254,2,    0.145,2,    0.840,2,   2295.1,2,   2297.5,2,   -999.0,9,   7.3374,       25,2, -999.000,9,    45.15,2, -999.000,9, -999.000,   -999.0,9,   -999.0, -999.000,9, -999.000, -999.000,9, -999.000,   -999.0,9,   -999.0, -999.000,9, -999.000,9, -999.000,9
  49NZ20140717,   P01,   112,  1,     29, X12J29,2,20140810,1549, 47.0025,-162.6202, 5171,    430.4,2,   3.9012,2,   3.90233,2,  34.0352,2,  34.0343,2,-999.0000,9,    55.11,2,    55.76,2,   99.841,   0.0064,2,    0.022,2,  -999.00,9,    2.871,1,    0.000,2,    99.31,2,     0.14,    40.97,2,     0.05,     0.01,2,     0.01,     2.92,2,     0.01,  -999.00,9,  -999.00,    1.615,2,    0.835,2,    0.098,2,    0.490,2,   2317.2,2,   2316.9,2,   -999.0,9,   7.3226,       25,2, -999.000,9,    42.88,2, -999.000,9, -999.000,   -999.0,9,   -999.0, -999.000,9, -999.000, -999.000,9, -999.000,   -999.0,9,   -999.0, -999.000,9, -999.000,9, -999.000,9
  49NZ20140717,   P01,   112,  1,     28, X12J28,2,20140810,1549, 47.0025,-162.6202, 5171,    530.1,2,   3.7006,2,   3.70040,2,  34.1344,2,  34.1336,2,-999.0000,9,    32.20,2,    32.64,2,   99.835,   0.0066,2,    0.024,2,  -999.00,9,    3.016,1,    0.000,2,   112.40,2,     0.14,    42.76,2,     0.05,     0.00,2,     0.01,     3.04,2,     0.01,  -999.00,9,  -999.00,    1.018,2,    0.525,2,    0.059,2,    0.240,2,   2342.3,2,   2330.7,2,   -999.0,9,   7.2951,       25,2, -999.000,9,    40.06,2, -999.000,9, -999.000,   -999.0,9,   -999.0, -999.000,9, -999.000, -999.000,9, -999.000,   -999.0,9,   -999.0, -999.000,9, -999.000,9, -999.000,9
  49NZ20140717,   P01,   112,  1,     27, X12J27,2,20140810,1549, 47.0025,-162.6202, 5171,    629.2,2,   3.5098,2,   3.50971,2,  34.1995,2,  34.1989,2,-999.0000,9,    25.56,2,    25.62,2,   99.878,   0.0049,2,    0.023,2,  -999.00,9,    3.037,1,    0.000,2,   121.50,2,     0.15,    43.35,2,     0.05,     0.00,2,     0.01,     3.09,2,     0.01,  -999.00,9,  -999.00,    0.695,2,    0.365,2,    0.039,2,    0.170,2,   2353.9,2,   2343.1,2,   -999.0,9,   7.2934,       25,2, -999.000,9,  -999.00,9, -999.000,9, -999.000,   -999.0,9,   -999.0, -999.000,9, -999.000, -999.000,9, -999.000,   -999.0,9,   -999.0, -999.000,9, -999.000,9, -999.000,9
  49NZ20140717,   P01,   112,  1,     26, X12J26,2,20140810,1549, 47.0025,-162.6202, 5171,    730.7,2,   3.3029,2,   3.30308,2,  34.2541,2,  34.2542,2,-999.0000,9,    22.16,2,    22.13,2,   99.874,   0.0051,2,    0.021,2,  -999.00,9,    3.168,1,    0.000,2,   129.98,2,     0.16,    43.72,2,     0.06,     0.01,2,     0.01,     3.12,2,     0.01,  -999.00,9,  -999.00,    0.484,2,    0.258,2,    0.029,2,    0.100,2,   2364.4,6,   2352.0,2,   -999.0,9,   7.2946,       25,2, -999.000,9,    41.77,2, -999.000,9, -999.000,   -999.0,9,   -999.0, -999.000,9, -999.000, -999.000,9, -999.000,   -999.0,9,   -999.0, -999.000,9, -999.000,9, -999.000,9
  49NZ20140717,   P01,   112,  1,     25, X12J25,2,20140810,1549, 47.0025,-162.6202, 5171,    830.6,2,   3.1599,2,   3.15965,2,  34.3109,2,  34.3108,2,-999.0000,9,    22.92,2,    22.86,2,   99.854,   0.0058,2,    0.021,2,  -999.00,9,    3.107,1,    0.000,2,   135.27,2,     0.16,    43.58,2,     0.05,     0.01,2,     0.01,     3.11,2,     0.01,  -999.00,9,  -999.00,    0.302,2,    0.170,2,    0.014,2,    0.070,2,   2367.8,2,   2363.8,2,   -999.0,9,   7.3059,       25,2, -999.000,9,    41.19,2, -999.000,9, -999.000,   -999.0,9,   -999.0, -999.000,9, -999.000, -999.000,9, -999.000,   -999.0,9,   -999.0, -999.000,9, -999.000,9, -999.000,9
  49NZ20140717,   P01,   112,  1,     24, X12J24,2,20140810,1549, 47.0025,-162.6202, 5171,    930.3,2,   3.0169,2,   3.01659,2,  34.3528,2,  34.3527,2,-999.0000,9,    26.01,2,    25.85,2,   99.874,   0.0051,2,    0.020,2,  -999.00,9,    3.130,1,    0.000,2,   140.21,2,     0.16,    43.45,2,     0.05,     0.01,2,     0.01,     3.10,2,     0.01,  -999.00,9,  -999.00,    0.219,2,    0.125,2,    0.008,2,    0.050,2,   2373.0,2,   2372.5,2,   -999.0,9,   7.3176,       25,6, -999.000,9,    42.87,2, -999.000,9, -999.000,   -999.0,9,   -999.0, -999.000,9, -999.000, -999.000,9, -999.000,   -999.0,9,   -999.0, -999.000,9, -999.000,9, -999.000,9
  49NZ20140717,   P01,   112,  1,     23, X12J23,2,20140810,1549, 47.0025,-162.6202, 5171,   1070.0,2,   2.7850,2,   2.78472,2,  34.4046,2,  34.4043,2,-999.0000,9,    25.28,2,    25.00,2,   99.882,   0.0047,2,    0.020,2,  -999.00,9,    3.255,1,    0.000,2,   147.94,2,     0.17,    43.71,2,     0.06,     0.00,2,     0.01,     3.12,2,     0.01,  -999.00,9,  -999.00,    0.118,2,    0.069,2,    0.004,2,    0.050,2,   2387.1,2,   2380.3,2,   -999.0,9,   7.3229,       25,2, -999.000,9,    39.44,2, -999.000,9, -999.000,   -999.0,9,   -999.0, -999.000,9, -999.000, -999.000,9, -999.000,   -999.0,9,   -999.0, -999.000,9, -999.000,9, -999.000,9
  49NZ20140717,   P01,   112,  1,     22, X12J22,2,20140810,1549, 47.0025,-162.6202, 5171,   1270.6,2,   2.5105,2,   2.51019,2,  34.4617,2,  34.4615,2,-999.0000,9,    28.74,2,    28.47,2,   99.887,   0.0045,2,    0.019,2,  -999.00,9,    3.264,1,    0.000,2,   156.60,2,     0.17,    43.73,2,     0.06,     0.01,2,     0.01,     3.10,2,     0.01,  -999.00,9,  -999.00,    0.059,2,    0.036,2,    0.003,2,    0.030,2,   2389.1,2,   2391.9,6,   -999.0,9,   7.3338,       25,2, -999.000,9,    37.00,2, -999.000,9, -999.000,   -999.0,9,   -999.0, -999.000,9, -999.000, -999.000,9, -999.000,   -999.0,9,   -999.0, -999.000,9, -999.000,9, -999.000,9
  49NZ20140717,   P01,   112,  1,     21, X12J21,2,20140810,1549, 47.0025,-162.6202, 5171,   1470.4,2,   2.3211,2,   2.32096,2,  34.5015,2,  34.5014,2,-999.0000,9,    34.64,2,    34.31,2,   99.893,   0.0043,2,    0.018,2,  -999.00,9,    3.148,1,    0.000,2,   161.78,2,     0.17,    43.44,2,     0.05,     0.00,2,     0.01,     3.08,2,     0.01,  -999.00,9,  -999.00,    0.034,2,    0.020,2,    0.003,2,    0.000,2,   2389.8,2,   2402.5,2,   -999.0,9,   7.3492,       25,2, -999.000,9,    41.89,3, -999.000,9, -999.000,   -999.0,9,   -999.0, -999.000,9, -999.000, -999.000,9, -999.000,   -999.0,9,   -999.0, -999.000,9, -999.000,9, -999.000,9
  49NZ20140717,   P01,   112,  1,     20, X12J20,2,20140810,1549, 47.0025,-162.6202, 5171,   1670.0,2,   2.1626,2,   2.16271,2,  34.5369,2,  34.5363,2,-999.0000,9,    42.62,2,    42.31,2,   99.928,   0.0029,2,    0.017,2,  -999.00,9,    3.134,1,    0.000,2,   165.88,2,     0.18,    43.07,2,     0.05,     0.00,2,     0.01,     3.04,2,     0.01,  -999.00,9,  -999.00,    0.017,2,    0.010,2,    0.001,2,    0.000,2,   2393.4,2,   2406.4,2,   -999.0,9,   7.3663,       25,6, -999.000,9,    38.72,2, -999.000,9, -999.000,   -999.0,9,   -999.0, -999.000,9, -999.000, -999.000,9, -999.000,   -999.0,9,   -999.0, -999.000,9, -999.000,9, -999.000,9
  49NZ20140717,   P01,   112,  1,     19, X12J19,2,20140810,1549, 47.0025,-162.6202, 5171,   1869.6,2,   2.0192,2,   2.01916,2,  34.5679,2,  34.5677,2,-999.0000,9,    51.05,2,    50.83,2,   99.963,   0.0015,2,    0.016,2,  -999.00,9,    3.135,1,    0.000,2,   168.98,2,     0.18,    42.57,2,     0.05,     0.00,2,     0.01,     3.00,2,     0.01,  -999.00,9,  -999.00,    0.005,2,    0.003,2,    0.000,2,    0.000,2,   2387.4,2,   2409.3,2,   -999.0,9,   7.3853,       25,2, -999.000,9,    41.33,3, -999.000,9, -999.000,   -999.0,9,   -999.0, -999.000,9, -999.000, -999.000,9, -999.000,   -999.0,9,   -999.0, -999.000,9, -999.000,9, -999.000,9
  49NZ20140717,   P01,   112,  1,     18, X12J18,2,20140810,1549, 47.0025,-162.6202, 5171,   2070.9,2,   1.9165,2,   1.91647,2,  34.5902,2,  34.5902,2,-999.0000,9,    60.31,2,    60.19,2,   99.943,   0.0023,2,    0.014,2,  -999.00,9,    3.081,1,    0.000,2,   170.47,2,     0.18,    42.06,2,     0.05,     0.00,2,     0.01,     2.96,2,     0.01,  -999.00,9,  -999.00,    0.001,2,    0.000,2,    0.000,2,    0.000,2,   2385.2,2,   2414.8,2,   -999.0,9,   7.4057,       25,2, -999.000,9,    41.97,3, -999.000,9, -999.000,   -999.0,9,   -999.0, -999.000,9, -999.000, -999.000,9, -999.000,   -999.0,9,   -999.0, -999.000,9, -999.000,9, -999.000,9
  49NZ20140717,   P01,   112,  1,     17, X12J17,2,20140810,1549, 47.0025,-162.6202, 5171,   2271.9,2,   1.8197,2,   1.81965,2,  34.6100,2,  34.6100,2,-999.0000,9,    69.58,2,    69.61,2,   99.908,   0.0037,2,    0.014,2,  -999.00,9,    2.933,1,    0.000,2,   172.35,2,     0.18,    41.59,2,     0.05,     0.00,2,     0.01,     2.92,2,     0.01,  -999.00,9,  -999.00,    0.000,2,    0.000,2,    0.000,2,    0.000,2,   2381.6,2,   2415.0,2,   -999.0,9,   7.4242,       25,2, -999.000,9,    37.23,2, -999.000,9, -999.000,   -999.0,9,   -999.0, -999.000,9, -999.000, -999.000,9, -999.000,   -999.0,9,   -999.0, -999.000,9, -999.000,9, -999.000,9
  49NZ20140717,   P01,   112,  1,     16, X12J16,2,20140810,1549, 47.0025,-162.6202, 5171,   2471.2,2,   1.7321,2,   1.73213,2,  34.6267,2,  34.6265,2,-999.0000,9,    80.62,2,    80.74,2,   99.917,   0.0033,2,    0.013,2,  -999.00,9,    2.924,1,    0.000,2,   172.56,2,     0.18,    40.96,2,     0.05,     0.00,2,     0.01,     2.87,2,     0.01,  -999.00,9,  -999.00,    0.000,2,    0.000,2,    0.001,2,    0.000,2,   2374.1,6,   2420.1,2,   -999.0,9,   7.4464,       25,2, -999.000,9,    35.75,2, -999.000,9, -999.000,   -999.0,9,   -999.0, -999.000,9, -999.000, -999.000,9, -999.000,   -999.0,9,   -999.0, -999.000,9, -999.000,9, -999.000,9
  49NZ20140717,   P01,   112,  1,     15, X12J15,2,20140810,1549, 47.0025,-162.6202, 5171,   2669.9,2,   1.6660,2,   1.66580,2,  34.6388,2,  34.6384,2,-999.0000,9,    92.87,2,    92.82,2,   99.958,   0.0017,2,    0.012,2,  -999.00,9,    2.850,1,    0.000,2,   170.89,2,     0.18,    40.17,2,     0.05,     0.00,2,     0.01,     2.82,2,     0.01,  -999.00,9,  -999.00,    0.000,2,    0.000,2,    0.001,2,    0.000,2,   2368.7,2,   2421.2,2,   -999.0,9,   7.4693,       25,2, -999.000,9,  -999.00,9, -999.000,9, -999.000,   -999.0,9,   -999.0, -999.000,9, -999.000, -999.000,9, -999.000,   -999.0,9,   -999.0, -999.000,9, -999.000,9, -999.000,9
  49NZ20140717,   P01,   112,  1,     14, X12J14,2,20140810,1549, 47.0025,-162.6202, 5171,   2872.8,2,   1.6067,2,   1.60665,2,  34.6496,2,  34.6493,2,-999.0000,9,   104.05,2,   104.03,2,   99.958,   0.0017,2,    0.011,2,  -999.00,9,    2.794,1,    0.000,2,   168.47,2,     0.18,    39.29,2,     0.05,     0.00,2,     0.01,     2.75,2,     0.01,  -999.00,9,  -999.00,    0.000,2,    0.000,2,    0.000,2,    0.000,2,   2360.5,2,   2420.1,2,   -999.0,9,   7.4904,       25,2, -999.000,9,    39.95,2, -999.000,9, -999.000,   -999.0,9,   -999.0, -999.000,9, -999.000, -999.000,9, -999.000,   -999.0,9,   -999.0, -999.000,9, -999.000,9, -999.000,9
  49NZ20140717,   P01,   112,  1,     13, X12113,2,20140810,1549, 47.0025,-162.6202, 5171,   3080.4,2,   1.5668,2,   1.56693,2,  34.6576,2,  34.6578,2,-999.0000,9,   112.97,2,   112.99,2,   99.945,   0.0022,2,    0.011,2,  -999.00,9,    2.685,1,    0.000,2,   166.87,2,     0.18,    38.70,2,     0.05,     0.00,2,     0.01,     2.70,2,     0.01,  -999.00,9,  -999.00,    0.000,2,    0.000,2,    0.000,2,    0.000,2,   2355.6,2,   2420.8,2,   -999.0,9,   7.5073,       25,2, -999.000,9,    38.45,2, -999.000,9, -999.000,   -999.0,9,   -999.0, -999.000,9, -999.000, -999.000,9, -999.000,   -999.0,9,   -999.0, -999.000,9, -999.000,9, -999.000,9
  49NZ20140717,   P01,   112,  1,     12, X12J12,2,20140810,1549, 47.0025,-162.6202, 5171,   3331.5,2,   1.5237,2,   1.52371,2,  34.6664,2,  34.6662,2,-999.0000,9,   124.00,2,   123.83,2,   99.969,   0.0012,2,    0.010,2,  -999.00,9,    2.584,1,    0.000,2,   164.37,2,     0.18,    38.00,2,     0.05,     0.00,2,     0.01,     2.65,2,     0.01,  -999.00,9,  -999.00,    0.000,2,    0.000,2,    0.000,2,    0.000,2,   2348.0,2,   2421.2,6,   -999.0,9,   7.5273,       25,2, -999.000,9,    39.14,2, -999.000,9, -999.000,   -999.0,9,   -999.0, -999.000,9, -999.000, -999.000,9, -999.000,   -999.0,9,   -999.0, -999.000,9, -999.000,9, -999.000,9
  49NZ20140717,   P01,   112,  1,     11, X12J11,2,20140810,1549, 47.0025,-162.6202, 5171,   3581.3,2,   1.4926,2,   1.49275,2,  34.6735,2,  34.6731,2,-999.0000,9,   132.41,2,   132.27,2,   99.982,   0.0007,2,    0.009,2,  -999.00,9,    2.534,1,    0.000,2,   163.03,2,     0.18,    37.44,2,     0.05,     0.00,2,     0.01,     2.61,2,     0.01,  -999.00,9,  -999.00,    0.004,2,    0.000,2,    0.000,2,    0.000,2,   2340.0,2,   2424.5,2,   -999.0,9,   7.5451,       25,2, -999.000,9,    38.92,2, -999.000,9, -999.000,   -999.0,9,   -999.0, -999.000,9, -999.000, -999.000,9, -999.000,   -999.0,9,   -999.0, -999.000,9, -999.000,9, -999.000,9
  49NZ20140717,   P01,   112,  1,     10, X12J10,2,20140810,1549, 47.0025,-162.6202, 5171,   3830.6,2,   1.4805,2,   1.48058,2,  34.6782,2,  34.6777,2,-999.0000,9,   138.48,2,   138.57,2,   99.984,   0.0006,2,    0.009,2,  -999.00,9,    2.498,1,    0.000,2,   162.17,2,     0.18,    37.00,2,     0.05,     0.00,2,     0.01,     2.58,2,     0.01,  -999.00,9,  -999.00,    0.000,2,    0.000,2,    0.000,2,    0.000,2,   2336.6,2,   2422.8,2,   -999.0,9,   7.5565,       25,2, -999.000,9,    35.44,2, -999.000,9, -999.000,   -999.0,9,   -999.0, -999.000,9, -999.000, -999.000,9, -999.000,   -999.0,9,   -999.0, -999.000,9, -999.000,9, -999.000,9