BOTTLE,20230904JAMSTECRIGC
EXPOCODE,SECT,STNNBR,CASTNO,SAMPNO,BTLNBR,BTLNBR_FLAG_W,DATE,TIME,LATITUDE,LONGITUDE,DEPTH,CTDPRS,CTDPRS_FLAG_W,CTDTMP,CTDTMP_FLAG_W,SBE35,SBE35_FLAG_W,CTDSAL,CTDSAL_FLAG_W,SALNTY,SALNTY_FLAG_W,DNSSAL,DNSSAL_FLAG_W,CTDOXY,CTDOXY_FLAG_W,OXYGEN,OXYGEN_FLAG_W,XMISS,XMISSCP,XMISS_FLAG_W,FLUOR,FLUOR_FLAG_W,CHLORA,CHLORA_FLAG_W,CDOM,CDOM_FLAG_W,PAR,PAR_FLAG_W,SILCAT,SILCAT_FLAG_W,SILUNC,NITRAT,NITRAT_FLAG_W,NRAUNC,NITRIT,NITRIT_FLAG_W,NRIUNC,PHSPHT,PHSPHT_FLAG_W,PHPUNC,AMMONIA,AMMONIA_FLAG_W,NH4UNC,CFC-11,CFC-11_FLAG_W,CFC-12,CFC-12_FLAG_W,CFC113,CFC113_FLAG_W,SF6,SF6_FLAG_W,TCARBN,TCARBN_FLAG_W,ALKALI,ALKALI_FLAG_W,ALKALI_POT,ALKALI_POT_FLAG_W,PH_TOT,PH_TMP,PH_TOT_FLAG_W,CALCIUM,CALCIUM_FLAG_W,DOC,DOC_FLAG_W,DELC13,DELC13_FLAG_W,C13ERR,DELC14,DELC14_FLAG_W,C14ERR,CS-134,CS-134_FLAG_W,CS134ER,CS-137,CS-137_FLAG_W,CS137ER,I-129,I-129_FLAG_W,I-129ER,CDOM-325,CDOM-325_FLAG_W,CDOM-370,CDOM-370_FLAG_W,CDOM-443,CDOM-443_FLAG_W
,,,,,,,,UTC,DEG,DEG,METERS,DBAR,,ITS-90,,ITS-90,,PSS-78,,PSS-78,,G/KG,,UMOL/KG,,UMOL/KG,,%TRANS,/METER,,MG/CUM,,MG/CUM,,MG/CUM,,UE/SQM/S,,UMOL/KG,,UMOL/KG,UMOL/KG,,UMOL/KG,UMOL/KG,,UMOL/KG,UMOL/KG,,UMOL/KG,UMOL/KG,,UMOL/KG,PMOL/KG,,PMOL/KG,,PMOL/KG,,FMOL/KG,,UMOL/KG,,UMOL/KG,,UMOL/KG,,,DEG C,,MMOL/KG,,UMOL/KG,,/MILLE,,/MILLE,/MILLE,,/MILLE,MBQ/KG,,MBQ/KG,MBQ/KG,,MBQ/KG,,,,/METER,,/METER,,/METER,
  49NZ20140717,   P01,   116,  1,      0,   -999,9,20140811,2103, 47.0001,-158.1368, 5230,   -999.0,9,-999.0000,9,-999.00000,9,-999.0000,9,  32.5885,2,-999.0000,9,  -999.00,9,  -999.00,9, -999.000,-999.0000,9, -999.000,9,  -999.00,9, -999.000,9, -999.000,9,     0.41,2,     0.18,     5.73,2,     0.02,     0.09,2,     0.01,     0.72,2,     0.01,     0.25,2,     0.02, -999.000,9, -999.000,9, -999.000,9, -999.000,9,   -999.0,9,   -999.0,9,   -999.0,9,-999.0000,     -999,9, -999.000,9,  -999.00,9, -999.000,9, -999.000,   -999.0,9,   -999.0, -999.000,1, -999.000, -999.000,1, -999.000,   -999.0,1,   -999.0, -999.000,9, -999.000,9, -999.000,9
  49NZ20140717,   P01,   116,  1,     36, X12J36,2,20140811,2103, 47.0001,-158.1368, 5230,     10.8,2,  13.6115,2,  13.61138,2,  32.5821,2,  32.5850,2,-999.0000,9,   269.69,2,   270.56,2,   86.994,   0.5573,2,    0.787,2,  -999.00,9,    0.448,1,  124.604,2,     0.52,2,     0.18,     5.82,2,     0.02,     0.09,2,     0.01,     0.71,2,     0.01,  -999.00,9,  -999.00,    3.003,2,    1.827,2,    0.288,2,    2.200,2,   1992.9,2,   2201.2,2,   -999.0,9,   7.8973,       25,2, -999.000,9,    61.77,2, -999.000,1, -999.000,   -999.0,1,   -999.0, -999.000,9, -999.000, -999.000,9, -999.000,   -999.0,9,   -999.0, -999.000,9, -999.000,9, -999.000,9
  49NZ20140717,   P01,   116,  1,     35, X12J35,2,20140811,2103, 47.0001,-158.1368, 5230,     49.8,2,   5.8868,2,   5.89237,2,  32.8277,2,  32.8308,2,-999.0000,9,   308.16,2,   307.85,2,   98.143,   0.0750,2,    0.359,2,  -999.00,9,    0.686,1,    1.316,2,    23.03,2,     0.09,    14.98,2,     0.03,     0.20,2,     0.01,     1.42,2,     0.01,  -999.00,9,  -999.00,    4.410,2,    2.576,2,    0.408,2,    2.890,2,   2071.7,6,   2214.2,2,   -999.0,9,   7.7457,       25,2, -999.000,9,    53.71,2, -999.000,1, -999.000,   -999.0,1,   -999.0, -999.000,9, -999.000, -999.000,9, -999.000,   -999.0,9,   -999.0, -999.000,9, -999.000,9, -999.000,9
  49NZ20140717,   P01,   116,  1,     34, X12J34,2,20140811,2103, 47.0001,-158.1368, 5230,    100.4,2,   5.8027,2,   5.80383,2,  33.0661,2,  33.0659,2,-999.0000,9,   289.00,2,   289.44,2,   99.367,   0.0254,2,    0.071,2,  -999.00,9,    0.643,1,    0.047,2,    22.41,2,     0.09,    15.94,2,     0.03,     0.02,2,     0.01,     1.34,2,     0.01,  -999.00,9,  -999.00,    4.257,2,    2.479,2,    0.388,2,    2.730,2,   2084.9,2,   2220.0,2,   -999.0,9,   7.7286,       25,2, -999.000,9,    52.36,2, -999.000,1, -999.000,   -999.0,1,   -999.0, -999.000,9, -999.000, -999.000,9, -999.000,   -999.0,9,   -999.0, -999.000,9, -999.000,9, -999.000,9
  49NZ20140717,   P01,   116,  1,     33, X12J33,2,20140811,2103, 47.0001,-158.1368, 5230,    150.5,2,   5.4291,2,   5.43142,2,  33.6864,2,  33.6833,2,-999.0000,9,   201.12,2,   201.21,2,   99.354,   0.0259,2,    0.061,2,  -999.00,9,    1.739,1,    0.000,2,    44.07,2,     0.10,    25.84,2,     0.04,     0.01,2,     0.01,     1.90,2,     0.01,  -999.00,9,  -999.00,    3.666,2,    2.093,2,    0.258,2,    1.900,2,   2178.6,2,   2261.9,2,   -999.0,9,   7.5737,       25,6, -999.000,9,    48.00,2, -999.000,1, -999.000,   -999.0,1,   -999.0, -999.000,9, -999.000, -999.000,9, -999.000,   -999.0,9,   -999.0, -999.000,9, -999.000,9, -999.000,9
  49NZ20140717,   P01,   116,  1,     32, X12J32,2,20140811,2103, 47.0001,-158.1368, 5230,    200.3,2,   4.6188,2,   4.62091,2,  33.7512,2,  33.7498,2,-999.0000,9,   147.49,2,   147.45,2,   99.683,   0.0127,2,    0.024,2,  -999.00,9,    2.330,1,    0.000,2,    61.64,2,     0.11,    32.37,2,     0.04,     0.01,2,     0.01,     2.35,2,     0.01,  -999.00,9,  -999.00,    3.249,2,    1.811,2,    0.218,2,    1.420,2,   2230.9,2,   2275.8,6,   -999.0,9,   7.4569,       25,2, -999.000,9,    48.69,2, -999.000,1, -999.000,   -999.0,1,   -999.0, -999.000,9, -999.000, -999.000,9, -999.000,   -999.0,9,   -999.0, -999.000,9, -999.000,9, -999.000,9
  49NZ20140717,   P01,   116,  1,     31, X12J31,2,20140811,2103, 47.0001,-158.1368, 5230,    249.9,2,   4.2973,2,   4.29751,2,  33.7957,2,  33.7951,2,-999.0000,9,   123.33,2,   123.52,2,   99.681,   0.0128,2,    0.024,2,  -999.00,9,    2.487,1,    0.000,2,    70.22,2,     0.12,    35.10,2,     0.05,     0.01,2,     0.01,     2.54,2,     0.01,  -999.00,9,  -999.00,    2.988,2,    1.644,2,    0.196,2,    1.160,2,   2254.8,2,   2284.0,2,   -999.0,9,   7.4071,       25,2, -999.000,9,    43.29,2, -999.000,1, -999.000,   -999.0,1,   -999.0, -999.000,9, -999.000, -999.000,9, -999.000,   -999.0,9,   -999.0, -999.000,9, -999.000,9, -999.000,9
  49NZ20140717,   P01,   116,  1,     30, X12J30,2,20140811,2103, 47.0001,-158.1368, 5230,    282.2,2,   4.1817,2,   4.18020,2,  33.8316,2,  33.8290,2,-999.0000,9,   105.72,2,   106.32,2,   99.685,   0.0126,2,    0.024,2,  -999.00,9,    2.551,1,    0.000,2,    75.90,2,     0.12,    36.84,2,     0.05,     0.01,2,     0.01,     2.65,2,     0.01,  -999.00,9,  -999.00,    2.760,2,    1.519,2,    0.183,2,    1.070,2,   2269.4,2,   2286.3,2,   -999.0,9,   7.3762,       25,2, -999.000,9,    43.58,2, -999.000,1, -999.000,   -999.0,1,   -999.0, -999.000,9, -999.000, -999.000,9, -999.000,   -999.0,9,   -999.0, -999.000,9, -999.000,9, -999.000,9
  49NZ20140717,   P01,   116,  1,     29, X12J29,2,20140811,2103, 47.0001,-158.1368, 5230,    370.0,2,   3.9919,2,   3.99203,2,  33.9484,2,  33.9482,2,-999.0000,9,    64.43,2,    64.44,2,   99.722,   0.0111,2,    0.024,2,  -999.00,9,    2.827,1,    0.000,2,    90.98,2,     0.13,    40.59,2,     0.05,     0.01,2,     0.01,     2.89,2,     0.01,  -999.00,9,  -999.00,    2.024,2,    1.068,2,    0.130,2,    0.650,2,   2304.6,2,   2304.7,2,   -999.0,9,   7.3152,       25,2, -999.000,9,    42.65,2, -999.000,1, -999.000,   -999.0,1,   -999.0, -999.000,9, -999.000, -999.000,9, -999.000,   -999.0,9,   -999.0, -999.000,9, -999.000,9, -999.000,9
  49NZ20140717,   P01,   116,  1,     28, X12J28,2,20140811,2103, 47.0001,-158.1368, 5230,    469.0,2,   3.8893,2,   3.88949,2,  34.0514,2,  34.0502,2,-999.0000,9,    50.77,2,    51.32,2,   99.845,   0.0062,2,    0.024,2,  -999.00,9,    2.840,1,    0.000,2,   101.17,2,     0.14,    41.24,2,     0.05,     0.01,2,     0.01,     2.95,2,     0.01,  -999.00,9,  -999.00,    1.485,2,    0.778,2,    0.090,2,    0.470,2,   2320.7,2,   2318.9,2,   -999.0,9,   7.3132,       25,2, -999.000,9,    41.65,2, -999.000,1, -999.000,   -999.0,1,   -999.0, -999.000,9, -999.000, -999.000,9, -999.000,   -999.0,9,   -999.0, -999.000,9, -999.000,9, -999.000,9
  49NZ20140717,   P01,   116,  1,     27, X12J27,2,20140811,2103, 47.0001,-158.1368, 5230,    570.0,2,   3.7977,2,   3.79754,2,  34.1509,2,  34.1510,2,-999.0000,9,    40.27,2,    40.67,2,   99.884,   0.0046,2,    0.023,2,  -999.00,9,    2.989,1,    0.000,2,   110.64,2,     0.14,    41.84,2,     0.05,     0.01,2,     0.01,     2.99,2,     0.01,  -999.00,9,  -999.00,    0.966,2,    0.504,2,    0.053,2,    0.260,2,   2334.7,2,   2331.8,2,   -999.0,9,   7.3172,       25,2, -999.000,9,    38.47,2, -999.000,1, -999.000,   -999.0,1,   -999.0, -999.000,9, -999.000, -999.000,9, -999.000,   -999.0,9,   -999.0, -999.000,9, -999.000,9, -999.000,9
  49NZ20140717,   P01,   116,  1,     26, X12J26,2,20140811,2103, 47.0001,-158.1368, 5230,    671.9,2,   3.5828,2,   3.58250,2,  34.2226,2,  34.2217,2,-999.0000,9,    32.43,2,    32.74,2,   99.880,   0.0048,2,    0.023,2,  -999.00,9,    2.998,1,    0.000,2,   120.01,2,     0.15,    42.62,2,     0.05,     0.01,2,     0.01,     3.05,2,     0.01,  -999.00,9,  -999.00,    0.623,2,    0.334,2,    0.032,2,    0.140,2,   2346.7,6,   2346.9,2,   -999.0,9,   7.3130,       25,2, -999.000,9,    40.20,2, -999.000,1, -999.000,   -999.0,1,   -999.0, -999.000,9, -999.000, -999.000,9, -999.000,   -999.0,9,   -999.0, -999.000,9, -999.000,9, -999.000,9
  49NZ20140717,   P01,   116,  1,     25, X12J25,2,20140811,2103, 47.0001,-158.1368, 5230,    769.5,2,   3.3416,2,   3.34162,2,  34.2799,2,  34.2788,2,-999.0000,9,    25.40,2,    25.38,2,   99.882,   0.0047,2,    0.022,2,  -999.00,9,    3.018,1,    0.000,2,   129.40,2,     0.15,    43.35,2,     0.05,     0.00,2,     0.01,     3.10,2,     0.01,  -999.00,9,  -999.00,    0.380,2,    0.212,2,    0.016,2,    0.080,2,   2360.0,2,   2358.4,2,   -999.0,9,   7.3068,       25,2, -999.000,9,    40.80,2, -999.000,1, -999.000,   -999.0,1,   -999.0, -999.000,9, -999.000, -999.000,9, -999.000,   -999.0,9,   -999.0, -999.000,9, -999.000,9, -999.000,9
  49NZ20140717,   P01,   116,  1,     24, X12J24,2,20140811,2103, 47.0001,-158.1368, 5230,    869.7,2,   3.1720,2,   3.17224,2,  34.3208,2,  34.3201,2,-999.0000,9,    24.32,2,    24.10,2,   99.869,   0.0052,2,    0.022,2,  -999.00,9,    3.150,1,    0.000,2,   135.20,2,     0.16,    43.45,2,     0.05,     0.00,2,     0.01,     3.10,2,     0.01,  -999.00,9,  -999.00,    0.270,2,    0.152,2,    0.011,2,    0.040,2,   2368.1,2,   2364.1,2,   -999.0,9,   7.3098,       25,6, -999.000,9,    39.75,2, -999.000,1, -999.000,   -999.0,1,   -999.0, -999.000,9, -999.000, -999.000,9, -999.000,   -999.0,9,   -999.0, -999.000,9, -999.000,9, -999.000,9
  49NZ20140717,   P01,   116,  1,     23, X12J23,2,20140811,2103, 47.0001,-158.1368, 5230,    969.5,2,   3.0075,2,   3.00769,2,  34.3612,2,  34.3603,2,-999.0000,9,    23.59,2,    23.51,2,   99.876,   0.0050,2,    0.022,2,  -999.00,9,    3.118,1,    0.000,2,   140.80,2,     0.16,    43.68,2,     0.06,     0.00,2,     0.01,     3.12,2,     0.01,  -999.00,9,  -999.00,    0.172,2,    0.100,2,    0.006,2,    0.060,2,   2374.3,2,   2371.8,2,   -999.0,9,   7.3132,       25,2, -999.000,9,    40.21,2, -999.000,1, -999.000,   -999.0,1,   -999.0, -999.000,9, -999.000, -999.000,9, -999.000,   -999.0,9,   -999.0, -999.000,9, -999.000,9, -999.000,9
  49NZ20140717,   P01,   116,  1,     22, X12J22,2,20140811,2103, 47.0001,-158.1368, 5230,   1130.8,2,   2.7673,2,   2.76510,2,  34.4134,2,  34.4132,2,-999.0000,9,    21.12,2,    20.72,2,   99.882,   0.0047,2,    0.021,2,  -999.00,9,    3.263,1,    0.000,2,   149.23,2,     0.17,    44.14,2,     0.06,     0.00,2,     0.01,     3.14,2,     0.01,  -999.00,9,  -999.00,    0.074,2,    0.044,2,    0.003,2,    0.040,2,   2384.5,2,   2385.9,6,   -999.0,9,   7.3163,       25,2, -999.000,9,    38.08,2, -999.000,1, -999.000,   -999.0,1,   -999.0, -999.000,9, -999.000, -999.000,9, -999.000,   -999.0,9,   -999.0, -999.000,9, -999.000,9, -999.000,9
  49NZ20140717,   P01,   116,  1,     21, X12J21,2,20140811,2103, 47.0001,-158.1368, 5230,   1330.4,2,   2.5017,2,   2.50150,2,  34.4659,2,  34.4663,2,-999.0000,9,    22.33,2,    21.55,2,   99.891,   0.0044,2,    0.021,2,  -999.00,9,    3.207,1,    0.000,2,   158.13,2,     0.17,    44.26,2,     0.06,     0.00,2,     0.01,     3.14,2,     0.01,  -999.00,9,  -999.00,    0.030,2,    0.018,2,    0.002,2,    0.000,2,   2393.5,2,   2392.9,2,   -999.0,9,   7.3212,       25,2, -999.000,9,    38.48,2, -999.000,9, -999.000,   -999.0,9,   -999.0, -999.000,9, -999.000, -999.000,9, -999.000,   -999.0,9,   -999.0, -999.000,9, -999.000,9, -999.000,9
  49NZ20140717,   P01,   116,  1,     20, X12J20,2,20140811,2103, 47.0001,-158.1368, 5230,   1530.2,2,   2.2684,2,   2.26801,2,  34.5137,2,  34.5137,2,-999.0000,9,    31.20,2,    30.64,2,   99.884,   0.0046,2,    0.020,2,  -999.00,9,    3.195,1,    0.000,2,   164.83,2,     0.18,    43.82,2,     0.06,     0.00,2,     0.01,     3.10,2,     0.01,  -999.00,9,  -999.00,    0.014,2,    0.009,2,    0.001,2,    0.000,2,   2392.6,2,   2400.4,2,   -999.0,9,   7.3413,       25,6, -999.000,9,    38.15,2, -999.000,1, -999.000,   -999.0,1,   -999.0, -999.000,9, -999.000, -999.000,9, -999.000,   -999.0,9,   -999.0, -999.000,9, -999.000,9, -999.000,9
  49NZ20140717,   P01,   116,  1,     19, X12J19,2,20140811,2103, 47.0001,-158.1368, 5230,   1729.5,2,   2.1234,2,   2.12341,2,  34.5469,2,  34.5464,2,-999.0000,9,    37.89,2,    37.52,2,   99.967,   0.0013,2,    0.019,2,  -999.00,9,    3.191,1,    0.000,2,   168.81,2,     0.18,    43.56,2,     0.05,     0.00,2,     0.01,     3.07,2,     0.01,  -999.00,9,  -999.00,    0.004,2,    0.002,2,    0.000,2,    0.000,2,   2392.3,2,   2407.9,2,   -999.0,9,   7.3577,       25,2, -999.000,9,    37.72,2, -999.000,9, -999.000,   -999.0,9,   -999.0, -999.000,9, -999.000, -999.000,9, -999.000,   -999.0,9,   -999.0, -999.000,9, -999.000,9, -999.000,9
  49NZ20140717,   P01,   116,  1,     18, X12J18,2,20140811,2103, 47.0001,-158.1368, 5230,   1932.1,2,   2.0088,2,   2.00883,2,  34.5724,2,  34.5723,2,-999.0000,9,    46.41,2,    46.11,2,   99.941,   0.0024,2,    0.018,2,  -999.00,9,    3.163,1,    0.000,2,   171.57,2,     0.18,    43.11,2,     0.05,     0.00,2,     0.01,     3.03,2,     0.01,  -999.00,9,  -999.00,    0.002,2,    0.001,2,    0.000,2,    0.000,2,   2390.2,2,   2413.5,2,   -999.0,9,   7.3762,       25,2, -999.000,9,    37.38,2, -999.000,1, -999.000,   -999.0,1,   -999.0, -999.000,9, -999.000, -999.000,9, -999.000,   -999.0,9,   -999.0, -999.000,9, -999.000,9, -999.000,9
  49NZ20140717,   P01,   116,  1,     17, X12J17,2,20140811,2103, 47.0001,-158.1368, 5230,   2130.9,2,   1.8959,2,   1.89606,2,  34.5965,2,  34.5964,2,-999.0000,9,    57.42,2,    57.15,2,   99.930,   0.0028,2,    0.016,2,  -999.00,9,    3.011,1,    0.000,2,   173.35,2,     0.18,    42.44,2,     0.05,     0.00,2,     0.01,     2.98,2,     0.01,  -999.00,9,  -999.00,    0.000,2,    0.000,2,    0.000,2,    0.000,2,   2385.7,2,   2417.2,2,   -999.0,9,   7.3993,       25,2, -999.000,9,    36.60,2, -999.000,9, -999.000,   -999.0,9,   -999.0, -999.000,9, -999.000, -999.000,9, -999.000,   -999.0,9,   -999.0, -999.000,9, -999.000,9, -999.000,9
  49NZ20140717,   P01,   116,  1,     16, X12J16,2,20140811,2103, 47.0001,-158.1368, 5230,   2330.1,2,   1.7889,2,   1.78890,2,  34.6168,2,  34.6168,2,-999.0000,9,    71.54,2,    71.57,2,   99.917,   0.0033,2,    0.015,2,  -999.00,9,    3.039,1,    0.000,2,   173.30,2,     0.18,    41.46,2,     0.05,     0.00,2,     0.01,     2.92,2,     0.01,  -999.00,9,  -999.00,    0.000,2,    0.000,2,    0.000,2,    0.000,2,   2378.2,6,   2421.0,2,   -999.0,9,   7.4269,       25,2, -999.000,9,    36.11,2, -999.000,9, -999.000,   -999.0,9,   -999.0, -999.000,9, -999.000, -999.000,9, -999.000,   -999.0,9,   -999.0, -999.000,9, -999.000,9, -999.000,9
  49NZ20140717,   P01,   116,  1,     15, X12J15,2,20140811,2103, 47.0001,-158.1368, 5230,   2529.6,2,   1.7170,2,   1.71700,2,  34.6301,2,  34.6301,2,-999.0000,9,    83.43,2,    83.54,2,   99.938,   0.0025,2,    0.014,2,  -999.00,9,    2.945,1,    0.000,2,   172.19,2,     0.18,    40.75,2,     0.05,     0.00,2,     0.01,     2.86,2,     0.01,  -999.00,9,  -999.00,    0.000,2,    0.000,2,    0.001,2,    0.000,2,   2371.0,2,   2420.2,3,   -999.0,9,   7.4506,       25,2, -999.000,9,    35.98,2, -999.000,1, -999.000,   -999.0,1,   -999.0, -999.000,9, -999.000, -999.000,9, -999.000,   -999.0,9,   -999.0, -999.000,9, -999.000,9, -999.000,9
  49NZ20140717,   P01,   116,  1,     14, X12J14,2,20140811,2103, 47.0001,-158.1368, 5230,   2730.7,2,   1.6505,2,   1.65058,2,  34.6421,2,  34.6417,2,-999.0000,9,    95.46,2,    95.48,2,   99.949,   0.0020,2,    0.013,2,  -999.00,9,    2.815,1,    0.000,2,   170.75,2,     0.18,    39.98,2,     0.05,     0.00,2,     0.01,     2.81,2,     0.01,  -999.00,9,  -999.00,    0.000,2,    0.000,2,    0.000,2,    0.000,2,   2362.7,2,   2420.1,2,   -999.0,9,   7.4736,       25,6, -999.000,9,    37.36,2, -999.000,9, -999.000,   -999.0,9,   -999.0, -999.000,9, -999.000, -999.000,9, -999.000,   -999.0,9,   -999.0, -999.000,9, -999.000,9, -999.000,9
  49NZ20140717,   P01,   116,  1,     13, X12113,2,20140811,2103, 47.0001,-158.1368, 5230,   2929.4,2,   1.6043,2,   1.60426,2,  34.6509,2,  34.6503,2,-999.0000,9,   104.77,2,   104.74,2,   99.921,   0.0032,2,    0.013,2,  -999.00,9,    2.808,1,    0.000,2,   168.62,2,     0.18,    39.26,2,     0.05,     0.00,2,     0.01,     2.75,2,     0.01,  -999.00,9,  -999.00,    0.000,2,    0.000,2,    0.002,2,    0.000,2,   2356.0,2,   2421.4,2,   -999.0,9,   7.4910,       25,2, -999.000,9,    37.01,2, -999.000,1, -999.000,   -999.0,1,   -999.0, -999.000,9, -999.000, -999.000,9, -999.000,   -999.0,9,   -999.0, -999.000,9, -999.000,9, -999.000,9
  49NZ20140717,   P01,   116,  1,     12, X12J12,2,20140811,2103, 47.0001,-158.1368, 5230,   3169.3,2,   1.5564,2,   1.55665,2,  34.6604,2,  34.6599,2,-999.0000,9,   115.34,2,   115.23,2,   99.947,   0.0021,2,    0.012,2,  -999.00,9,    2.769,1,    0.000,2,   166.82,2,     0.18,    38.55,2,     0.05,     0.00,2,     0.01,     2.70,2,     0.01,  -999.00,9,  -999.00,    0.000,2,    0.000,2,    0.002,2,    0.000,2,   2349.3,2,   2420.4,6,   -999.0,9,   7.5117,       25,2, -999.000,9,    37.12,2, -999.000,9, -999.000,   -999.0,9,   -999.0, -999.000,9, -999.000, -999.000,9, -999.000,   -999.0,9,   -999.0, -999.000,9, -999.000,9, -999.000,9
  49NZ20140717,   P01,   116,  1,     11, X12J11,2,20140811,2103, 47.0001,-158.1368, 5230,   3420.3,2,   1.5197,2,   1.51977,2,  34.6681,2,  34.6679,2,-999.0000,9,   124.76,2,   124.84,2,   99.986,   0.0006,2,    0.011,2,  -999.00,9,    2.681,1,    0.000,2,   165.25,2,     0.18,    37.95,2,     0.05,     0.00,2,     0.01,     2.66,2,     0.01,  -999.00,9,  -999.00,    0.000,2,    0.000,2,    0.000,2,    0.000,2,   2344.4,2,   2422.0,2,   -999.0,9,   7.5290,       25,2, -999.000,9,    36.76,2, -999.000,1, -999.000,   -999.0,1,   -999.0, -999.000,9, -999.000, -999.000,9, -999.000,   -999.0,9,   -999.0, -999.000,9, -999.000,9, -999.000,9
  49NZ20140717,   P01,   116,  1,     10, X12J10,2,20140811,2103, 47.0001,-158.1368, 5230,   3668.9,2,   1.4903,2,   1.49033,2,  34.6749,2,  34.6746,2,-999.0000,9,   134.16,2,   134.20,2,   99.980,   0.0008,2,    0.011,2,  -999.00,9,    2.504,1,    0.000,2,   162.70,2,     0.18,    37.34,2,     0.05,     0.00,2,     0.01,     2.61,2,     0.01,  -999.00,9,  -999.00,    0.000,2,    0.000,2,    0.001,2,    0.000,2,   2338.6,2,   2421.0,2,   -999.0,9,   7.5466,       25,2, -999.000,9,    36.55,2, -999.000,9, -999.000,   -999.0,9,   -999.0, -999.000,9, -999.000, -999.000,9, -999.000,   -999.0,9,   -999.0, -999.000,9, -999.000,9, -999.000,9