BOTTLE,20230904JAMSTECRIGC
EXPOCODE,SECT,STNNBR,CASTNO,SAMPNO,BTLNBR,BTLNBR_FLAG_W,DATE,TIME,LATITUDE,LONGITUDE,DEPTH,CTDPRS,CTDPRS_FLAG_W,CTDTMP,CTDTMP_FLAG_W,SBE35,SBE35_FLAG_W,CTDSAL,CTDSAL_FLAG_W,SALNTY,SALNTY_FLAG_W,DNSSAL,DNSSAL_FLAG_W,CTDOXY,CTDOXY_FLAG_W,OXYGEN,OXYGEN_FLAG_W,XMISS,XMISSCP,XMISS_FLAG_W,FLUOR,FLUOR_FLAG_W,CHLORA,CHLORA_FLAG_W,CDOM,CDOM_FLAG_W,PAR,PAR_FLAG_W,SILCAT,SILCAT_FLAG_W,SILUNC,NITRAT,NITRAT_FLAG_W,NRAUNC,NITRIT,NITRIT_FLAG_W,NRIUNC,PHSPHT,PHSPHT_FLAG_W,PHPUNC,AMMONIA,AMMONIA_FLAG_W,NH4UNC,CFC-11,CFC-11_FLAG_W,CFC-12,CFC-12_FLAG_W,CFC113,CFC113_FLAG_W,SF6,SF6_FLAG_W,TCARBN,TCARBN_FLAG_W,ALKALI,ALKALI_FLAG_W,ALKALI_POT,ALKALI_POT_FLAG_W,PH_TOT,PH_TMP,PH_TOT_FLAG_W,CALCIUM,CALCIUM_FLAG_W,DOC,DOC_FLAG_W,DELC13,DELC13_FLAG_W,C13ERR,DELC14,DELC14_FLAG_W,C14ERR,CS-134,CS-134_FLAG_W,CS134ER,CS-137,CS-137_FLAG_W,CS137ER,I-129,I-129_FLAG_W,I-129ER,CDOM-325,CDOM-325_FLAG_W,CDOM-370,CDOM-370_FLAG_W,CDOM-443,CDOM-443_FLAG_W
,,,,,,,,UTC,DEG,DEG,METERS,DBAR,,ITS-90,,ITS-90,,PSS-78,,PSS-78,,G/KG,,UMOL/KG,,UMOL/KG,,%TRANS,/METER,,MG/CUM,,MG/CUM,,MG/CUM,,UE/SQM/S,,UMOL/KG,,UMOL/KG,UMOL/KG,,UMOL/KG,UMOL/KG,,UMOL/KG,UMOL/KG,,UMOL/KG,UMOL/KG,,UMOL/KG,PMOL/KG,,PMOL/KG,,PMOL/KG,,FMOL/KG,,UMOL/KG,,UMOL/KG,,UMOL/KG,,,DEG C,,MMOL/KG,,UMOL/KG,,/MILLE,,/MILLE,/MILLE,,/MILLE,MBQ/KG,,MBQ/KG,MBQ/KG,,MBQ/KG,,,,/METER,,/METER,,/METER,
  49NZ20140717,   P01,    74,  1,      9, X12J09,2,20140728,2330, 46.9997, 161.1488, 5459,   3919.9,2,   1.4626,2,   1.46272,2,  34.6817,2,  34.6813,2,-999.0000,9,   147.91,2,   147.73,2,   99.971,   0.0012,2,    0.005,2,  -999.00,9,    2.522,4,    0.000,2,   152.82,2,     0.17,    36.41,2,     0.05,     0.00,2,     0.01,     2.53,2,     0.01,  -999.00,9,  -999.00,    0.000,2,    0.000,2,    0.000,2, -999.000,9,   -999.0,9,   -999.0,9,   -999.0,9,-999.0000,     -999,9, -999.000,9,  -999.00,9, -999.000,9, -999.000,   -999.0,9,   -999.0, -999.000,9, -999.000, -999.000,9, -999.000,   -999.0,9,   -999.0, -999.000,9, -999.000,9, -999.000,9
  49NZ20140717,   P01,    74,  1,      8, X12J08,2,20140728,2330, 46.9997, 161.1488, 5459,   4170.9,2,   1.4632,2,   1.46340,2,  34.6846,2,  34.6841,2,-999.0000,9,   151.60,2,   151.38,2,   99.965,   0.0014,2,    0.005,2,  -999.00,9,    2.043,4,    0.000,2,   151.54,2,     0.17,    36.15,2,     0.05,     0.00,2,     0.01,     2.51,2,     0.01,  -999.00,9,  -999.00,    0.000,2,    0.000,2,    0.000,2, -999.000,9,   -999.0,9,   -999.0,9,   -999.0,9,-999.0000,     -999,9, -999.000,9,  -999.00,9, -999.000,9, -999.000,   -999.0,9,   -999.0, -999.000,9, -999.000, -999.000,9, -999.000,   -999.0,9,   -999.0, -999.000,9, -999.000,9, -999.000,9
  49NZ20140717,   P01,    74,  1,      7, X12J07,2,20140728,2330, 46.9997, 161.1488, 5459,   4419.5,2,   1.4728,2,   1.47295,2,  34.6866,2,  34.6858,2,-999.0000,9,   154.10,2,   154.15,2,   99.967,   0.0013,2,    0.004,2,  -999.00,9,   -1.405,4,    0.000,2,   150.80,2,     0.17,    35.94,2,     0.05,     0.00,2,     0.01,     2.49,2,     0.01,  -999.00,9,  -999.00,    0.000,2,    0.002,2,    0.000,2, -999.000,9,   -999.0,9,   -999.0,9,   -999.0,9,-999.0000,     -999,9, -999.000,9,  -999.00,9, -999.000,9, -999.000,   -999.0,9,   -999.0, -999.000,9, -999.000, -999.000,9, -999.000,   -999.0,9,   -999.0, -999.000,9, -999.000,9, -999.000,9
  49NZ20140717,   P01,    74,  1,      6, X12J06,2,20140728,2330, 46.9997, 161.1488, 5459,   4670.0,2,   1.4865,2,   1.48686,2,  34.6884,2,  34.6875,2,-999.0000,9,   156.07,2,   155.90,2,   99.982,   0.0007,2,    0.003,2,  -999.00,9,   -1.727,4,    0.000,2,   150.78,2,     0.17,    35.85,2,     0.05,     0.00,2,     0.01,     2.49,2,     0.01,  -999.00,9,  -999.00,    0.000,2,    0.001,2,    0.000,2, -999.000,9,   -999.0,9,   -999.0,9,   -999.0,9,-999.0000,     -999,9, -999.000,9,  -999.00,9, -999.000,9, -999.000,   -999.0,9,   -999.0, -999.000,9, -999.000, -999.000,9, -999.000,   -999.0,9,   -999.0, -999.000,9, -999.000,9, -999.000,9
  49NZ20140717,   P01,    74,  1,      5, X12J05,2,20140728,2330, 46.9997, 161.1488, 5459,   4919.8,2,   1.5062,2,   1.50638,2,  34.6893,2,  34.6889,2,-999.0000,9,   157.91,2,   157.92,2,   99.958,   0.0017,2,    0.003,2,  -999.00,9,   -1.783,4,    0.000,2,   149.15,2,     0.17,    35.73,2,     0.05,     0.00,2,     0.01,     2.48,2,     0.01,  -999.00,9,  -999.00,    0.002,2,    0.000,2,    0.000,2, -999.000,9,   -999.0,9,   -999.0,9,   -999.0,9,-999.0000,     -999,9, -999.000,9,  -999.00,9, -999.000,9, -999.000,   -999.0,9,   -999.0, -999.000,9, -999.000, -999.000,9, -999.000,   -999.0,9,   -999.0, -999.000,9, -999.000,9, -999.000,9
  49NZ20140717,   P01,    74,  1,      4, X12J04,2,20140728,2330, 46.9997, 161.1488, 5459,   5168.6,2,   1.5344,2,   1.53444,2,  34.6896,2,  34.6893,2,-999.0000,9,   157.64,2,   157.72,2,   99.893,   0.0043,2,    0.003,2,  -999.00,9,   -1.791,4,    0.000,2,   150.65,2,     0.17,    35.71,2,     0.05,     0.00,2,     0.01,     2.48,2,     0.01,  -999.00,9,  -999.00,    0.000,2,    0.002,2,    0.000,2, -999.000,9,   -999.0,9,   -999.0,9,   -999.0,9,-999.0000,     -999,9, -999.000,9,  -999.00,9, -999.000,9, -999.000,   -999.0,9,   -999.0, -999.000,9, -999.000, -999.000,9, -999.000,   -999.0,9,   -999.0, -999.000,9, -999.000,9, -999.000,9
  49NZ20140717,   P01,    74,  1,      3, X12J03,2,20140728,2330, 46.9997, 161.1488, 5459,   5419.3,2,   1.5615,2,   1.56154,2,  34.6900,2,  34.6889,3,-999.0000,9,   158.94,2,   159.10,2,   99.842,   0.0063,2,    0.003,2,  -999.00,9,   -1.779,4,    0.000,2,   148.29,2,     0.17,    35.61,2,     0.05,     0.00,2,     0.01,     2.47,2,     0.01,  -999.00,9,  -999.00,    0.003,2,    0.004,2,    0.000,2, -999.000,9,   -999.0,9,   -999.0,9,   -999.0,9,-999.0000,     -999,9, -999.000,9,  -999.00,9, -999.000,9, -999.000,   -999.0,9,   -999.0, -999.000,9, -999.000, -999.000,9, -999.000,   -999.0,9,   -999.0, -999.000,9, -999.000,9, -999.000,9
  49NZ20140717,   P01,    74,  1,      2, X12J02,2,20140728,2330, 46.9997, 161.1488, 5459,    370.6,2,   3.4658,2,   3.46570,2,  34.0593,2,  34.0585,2,-999.0000,9,    21.72,2,    21.79,2,   99.792,   0.0083,2,    0.022,2,  -999.00,9,    2.920,1,    0.000,2,   114.90,2,     0.15,    44.53,2,     0.06,     0.01,2,     0.01,     3.16,2,     0.01,  -999.00,9,  -999.00,    1.248,2,    0.612,2,    0.081,2, -999.000,9,   -999.0,9,   -999.0,9,   -999.0,9,-999.0000,     -999,9, -999.000,9,  -999.00,9, -999.000,9, -999.000,   -999.0,9,   -999.0, -999.000,9, -999.000, -999.000,9, -999.000,   -999.0,9,   -999.0, -999.000,9, -999.000,9, -999.000,9
  49NZ20140717,   P01,    74,  1,      1, X12J01,2,20140728,2330, 46.9997, 161.1488, 5459,   5561.8,2,   1.5756,2,   1.57543,2,  34.6905,2,  34.6903,2,-999.0000,9,   158.91,2,   159.12,2,   99.446,   0.0222,2,    0.004,2,  -999.00,9,   -1.125,4,    0.000,2,   149.63,2,     0.17,    35.60,2,     0.05,     0.01,2,     0.01,     2.47,2,     0.01,  -999.00,9,  -999.00,    0.006,2,    0.004,2,    0.000,2, -999.000,9,   -999.0,9,   -999.0,9,   -999.0,9,-999.0000,     -999,9, -999.000,9,  -999.00,9, -999.000,9, -999.000,   -999.0,9,   -999.0, -999.000,9, -999.000, -999.000,9, -999.000,   -999.0,9,   -999.0, -999.000,9, -999.000,9, -999.000,9