BOTTLE,20230904JAMSTECRIGC
EXPOCODE,SECT,STNNBR,CASTNO,SAMPNO,BTLNBR,BTLNBR_FLAG_W,DATE,TIME,LATITUDE,LONGITUDE,DEPTH,CTDPRS,CTDPRS_FLAG_W,CTDTMP,CTDTMP_FLAG_W,SBE35,SBE35_FLAG_W,CTDSAL,CTDSAL_FLAG_W,SALNTY,SALNTY_FLAG_W,DNSSAL,DNSSAL_FLAG_W,CTDOXY,CTDOXY_FLAG_W,OXYGEN,OXYGEN_FLAG_W,XMISS,XMISSCP,XMISS_FLAG_W,FLUOR,FLUOR_FLAG_W,CHLORA,CHLORA_FLAG_W,CDOM,CDOM_FLAG_W,PAR,PAR_FLAG_W,SILCAT,SILCAT_FLAG_W,SILUNC,NITRAT,NITRAT_FLAG_W,NRAUNC,NITRIT,NITRIT_FLAG_W,NRIUNC,PHSPHT,PHSPHT_FLAG_W,PHPUNC,AMMONIA,AMMONIA_FLAG_W,NH4UNC,CFC-11,CFC-11_FLAG_W,CFC-12,CFC-12_FLAG_W,CFC113,CFC113_FLAG_W,SF6,SF6_FLAG_W,TCARBN,TCARBN_FLAG_W,ALKALI,ALKALI_FLAG_W,ALKALI_POT,ALKALI_POT_FLAG_W,PH_TOT,PH_TMP,PH_TOT_FLAG_W,CALCIUM,CALCIUM_FLAG_W,DOC,DOC_FLAG_W,DELC13,DELC13_FLAG_W,C13ERR,DELC14,DELC14_FLAG_W,C14ERR,CS-134,CS-134_FLAG_W,CS134ER,CS-137,CS-137_FLAG_W,CS137ER,I-129,I-129_FLAG_W,I-129ER,CDOM-325,CDOM-325_FLAG_W,CDOM-370,CDOM-370_FLAG_W,CDOM-443,CDOM-443_FLAG_W
,,,,,,,,UTC,DEG,DEG,METERS,DBAR,,ITS-90,,ITS-90,,PSS-78,,PSS-78,,G/KG,,UMOL/KG,,UMOL/KG,,%TRANS,/METER,,MG/CUM,,MG/CUM,,MG/CUM,,UE/SQM/S,,UMOL/KG,,UMOL/KG,UMOL/KG,,UMOL/KG,UMOL/KG,,UMOL/KG,UMOL/KG,,UMOL/KG,UMOL/KG,,UMOL/KG,PMOL/KG,,PMOL/KG,,PMOL/KG,,FMOL/KG,,UMOL/KG,,UMOL/KG,,UMOL/KG,,,DEG C,,MMOL/KG,,UMOL/KG,,/MILLE,,/MILLE,/MILLE,,/MILLE,MBQ/KG,,MBQ/KG,MBQ/KG,,MBQ/KG,,,,/METER,,/METER,,/METER,
  49NZ20140717,   P01,   131,  1,      0,   -999,9,20140818,0744, 46.9879,-141.3525, 4416,   -999.0,9,-999.0000,9,-999.00000,9,-999.0000,9,  32.3696,2,-999.0000,9,  -999.00,9,  -999.00,9, -999.000,-999.0000,9, -999.000,9,  -999.00,9, -999.000,9, -999.000,9,     2.22,2,     0.10,     0.08,2,     0.02,     0.00,2,     0.01,     0.35,2,     0.01,  -999.00,9,  -999.00, -999.000,9, -999.000,9, -999.000,9, -999.000,9,   -999.0,9,   -999.0,9,   -999.0,9,-999.0000,     -999,9, -999.000,9,  -999.00,9, -999.000,9, -999.000,   -999.0,9,   -999.0, -999.000,9, -999.000, -999.000,9, -999.000,   -999.0,9,   -999.0, -999.000,9, -999.000,9, -999.000,9
  49NZ20140717,   P01,   131,  1,     36, X12J36,2,20140818,0744, 46.9879,-141.3525, 4416,     10.5,2,  17.3108,2,  17.30790,2,  32.3590,2,  32.3574,2,-999.0000,9,   250.04,2,   250.06,2,   97.955,   0.0826,2,    0.118,2,  -999.00,9,   -1.333,1,    0.150,2,     2.15,2,     0.10,     0.05,2,     0.02,     0.00,2,     0.01,     0.34,2,     0.01,  -999.00,9,  -999.00, -999.000,9, -999.000,9, -999.000,9, -999.000,9,   -999.0,9,   -999.0,9,   -999.0,9,-999.0000,     -999,9, -999.000,9,  -999.00,9, -999.000,9, -999.000,   -999.0,9,   -999.0, -999.000,9, -999.000, -999.000,9, -999.000,   -999.0,9,   -999.0, -999.000,9, -999.000,9, -999.000,9
  49NZ20140717,   P01,   131,  1,     35, X12J35,2,20140818,0744, 46.9879,-141.3525, 4416,     50.3,2,   9.7870,2,   9.79068,2,  32.5059,2,  32.5063,2,-999.0000,9,   277.58,2,   277.85,2,   97.845,   0.0871,2,    0.379,2,  -999.00,9,    0.316,1,    0.000,2,     6.86,2,     0.09,     5.32,2,     0.02,     0.77,2,     0.01,     0.79,2,     0.01,  -999.00,9,  -999.00, -999.000,9, -999.000,9, -999.000,9, -999.000,9,   -999.0,9,   -999.0,9,   -999.0,9,-999.0000,     -999,9, -999.000,9,  -999.00,9, -999.000,9, -999.000,   -999.0,9,   -999.0, -999.000,9, -999.000, -999.000,9, -999.000,   -999.0,9,   -999.0, -999.000,9, -999.000,9, -999.000,9
  49NZ20140717,   P01,   131,  1,     34, X12J34,2,20140818,0744, 46.9879,-141.3525, 4416,    100.6,2,   7.6266,2,   7.62750,2,  32.8629,2,  32.8782,2,-999.0000,9,   261.22,2,   260.06,2,   99.634,   0.0147,2,    0.113,2,  -999.00,9,    0.613,1,    0.000,2,    17.23,2,     0.09,    14.83,2,     0.03,     0.04,2,     0.01,     1.27,2,     0.01,  -999.00,9,  -999.00, -999.000,9, -999.000,9, -999.000,9, -999.000,9,   -999.0,9,   -999.0,9,   -999.0,9,-999.0000,     -999,9, -999.000,9,  -999.00,9, -999.000,9, -999.000,   -999.0,9,   -999.0, -999.000,9, -999.000, -999.000,9, -999.000,   -999.0,9,   -999.0, -999.000,9, -999.000,9, -999.000,9
  49NZ20140717,   P01,   131,  1,     33, X12J33,2,20140818,0744, 46.9879,-141.3525, 4416,    150.2,2,   7.4479,2,   7.44895,2,  33.6490,2,  33.6466,2,-999.0000,9,   224.83,2,   223.86,2,   99.827,   0.0069,2,    0.017,2,  -999.00,9,    1.121,1,    0.000,2,    26.25,2,     0.09,    19.40,2,     0.03,     0.01,2,     0.01,     1.44,2,     0.01,  -999.00,9,  -999.00, -999.000,9, -999.000,9, -999.000,9, -999.000,9,   -999.0,9,   -999.0,9,   -999.0,9,-999.0000,     -999,9, -999.000,9,  -999.00,9, -999.000,9, -999.000,   -999.0,9,   -999.0, -999.000,9, -999.000, -999.000,9, -999.000,   -999.0,9,   -999.0, -999.000,9, -999.000,9, -999.000,9
  49NZ20140717,   P01,   131,  1,     32, X12J32,2,20140818,0744, 46.9879,-141.3525, 4416,    200.2,2,   6.7096,2,   6.70777,2,  33.8382,2,  33.8384,2,-999.0000,9,   189.47,2,   187.38,2,   99.668,   0.0133,2,    0.013,2,  -999.00,9,    1.777,1,    0.000,2,    39.40,2,     0.10,    24.99,2,     0.04,     0.01,2,     0.01,     1.80,2,     0.01,  -999.00,9,  -999.00, -999.000,9, -999.000,9, -999.000,9, -999.000,9,   -999.0,9,   -999.0,9,   -999.0,9,-999.0000,     -999,9, -999.000,9,  -999.00,9, -999.000,9, -999.000,   -999.0,9,   -999.0, -999.000,9, -999.000, -999.000,9, -999.000,   -999.0,9,   -999.0, -999.000,9, -999.000,9, -999.000,9
  49NZ20140717,   P01,   131,  1,     31, X12J31,2,20140818,0744, 46.9879,-141.3525, 4416,    250.0,2,   5.5232,2,   5.52002,2,  33.8164,2,  33.8166,2,-999.0000,9,   157.11,2,   156.52,2,   99.649,   0.0141,2,    0.015,2,  -999.00,9,    2.181,1,    0.000,2,    53.03,2,     0.11,    30.06,2,     0.04,     0.01,2,     0.01,     2.17,2,     0.01,  -999.00,9,  -999.00, -999.000,9, -999.000,9, -999.000,9, -999.000,9,   -999.0,9,   -999.0,9,   -999.0,9,-999.0000,     -999,9, -999.000,9,  -999.00,9, -999.000,9, -999.000,   -999.0,9,   -999.0, -999.000,9, -999.000, -999.000,9, -999.000,   -999.0,9,   -999.0, -999.000,9, -999.000,9, -999.000,9
  49NZ20140717,   P01,   131,  1,     30, X12J30,2,20140818,0744, 46.9879,-141.3525, 4416,    280.4,2,   5.1377,2,   5.13500,2,  33.8326,2,  33.8324,2,-999.0000,9,   135.49,2,   134.73,2,   99.705,   0.0118,2,    0.015,2,  -999.00,9,    2.343,1,    0.000,2,    60.76,2,     0.11,    32.77,2,     0.04,     0.01,2,     0.01,     2.36,2,     0.01,  -999.00,9,  -999.00, -999.000,9, -999.000,9, -999.000,9, -999.000,9,   -999.0,9,   -999.0,9,   -999.0,9,-999.0000,     -999,9, -999.000,9,  -999.00,9, -999.000,9, -999.000,   -999.0,9,   -999.0, -999.000,9, -999.000, -999.000,9, -999.000,   -999.0,9,   -999.0, -999.000,9, -999.000,9, -999.000,9
  49NZ20140717,   P01,   131,  1,     29, X12J29,2,20140818,0744, 46.9879,-141.3525, 4416,    370.2,2,   4.4464,2,   4.44632,2,  33.9020,2,  33.8960,2,-999.0000,9,    86.78,2,    88.58,2,   99.740,   0.0104,2,    0.016,2,  -999.00,9,    2.615,1,    0.000,2,    77.32,2,     0.12,    37.97,2,     0.05,     0.01,2,     0.01,     2.70,2,     0.01,  -999.00,9,  -999.00, -999.000,9, -999.000,9, -999.000,9, -999.000,9,   -999.0,9,   -999.0,9,   -999.0,9,-999.0000,     -999,9, -999.000,9,  -999.00,9, -999.000,9, -999.000,   -999.0,9,   -999.0, -999.000,9, -999.000, -999.000,9, -999.000,   -999.0,9,   -999.0, -999.000,9, -999.000,9, -999.000,9
  49NZ20140717,   P01,   131,  1,     28, X12J28,2,20140818,0744, 46.9879,-141.3525, 4416,    470.4,2,   4.2779,2,   4.27850,2,  34.0151,2,  34.0144,2,-999.0000,9,    57.21,2,    57.64,2,   99.850,   0.0060,2,    0.016,2,  -999.00,9,    2.825,1,    0.000,2,    90.83,2,     0.13,    40.47,2,     0.05,     0.01,2,     0.01,     2.88,2,     0.01,  -999.00,9,  -999.00, -999.000,9, -999.000,9, -999.000,9, -999.000,9,   -999.0,9,   -999.0,9,   -999.0,9,-999.0000,     -999,9, -999.000,9,  -999.00,9, -999.000,9, -999.000,   -999.0,9,   -999.0, -999.000,9, -999.000, -999.000,9, -999.000,   -999.0,9,   -999.0, -999.000,9, -999.000,9, -999.000,9
  49NZ20140717,   P01,   131,  1,     27, X12J27,2,20140818,0744, 46.9879,-141.3525, 4416,    570.3,2,   4.0834,2,   4.08093,2,  34.1100,2,  34.1094,2,-999.0000,9,    37.37,2,    37.83,2,   99.948,   0.0021,2,    0.016,2,  -999.00,9,    2.893,1,    0.000,2,   102.41,2,     0.14,    42.04,2,     0.05,     0.00,2,     0.01,     2.99,2,     0.01,  -999.00,9,  -999.00, -999.000,9, -999.000,9, -999.000,9, -999.000,9,   -999.0,9,   -999.0,9,   -999.0,9,-999.0000,     -999,9, -999.000,9,  -999.00,9, -999.000,9, -999.000,   -999.0,9,   -999.0, -999.000,9, -999.000, -999.000,9, -999.000,   -999.0,9,   -999.0, -999.000,9, -999.000,9, -999.000,9
  49NZ20140717,   P01,   131,  1,     26, X12J26,2,20140818,0744, 46.9879,-141.3525, 4416,    670.6,2,   3.8174,2,   3.81679,2,  34.1796,2,  34.1785,2,-999.0000,9,    25.76,2,    25.85,2,   99.939,   0.0024,2,    0.016,2,  -999.00,9,    2.985,1,    0.000,2,   112.89,2,     0.14,    43.04,2,     0.05,     0.00,2,     0.01,     3.06,2,     0.01,  -999.00,9,  -999.00, -999.000,9, -999.000,9, -999.000,9, -999.000,9,   -999.0,9,   -999.0,9,   -999.0,9,-999.0000,     -999,9, -999.000,9,  -999.00,9, -999.000,9, -999.000,   -999.0,9,   -999.0, -999.000,9, -999.000, -999.000,9, -999.000,   -999.0,9,   -999.0, -999.000,9, -999.000,9, -999.000,9
  49NZ20140717,   P01,   131,  1,     25, X12J25,2,20140818,0744, 46.9879,-141.3525, 4416,    769.6,2,   3.5446,2,   3.54417,2,  34.2421,2,  34.2415,2,-999.0000,9,    18.38,2,    18.01,2,   99.965,   0.0014,2,    0.016,2,  -999.00,9,    3.113,1,    0.000,2,   123.19,2,     0.15,    43.84,2,     0.06,     0.00,2,     0.01,     3.13,2,     0.01,  -999.00,9,  -999.00, -999.000,9, -999.000,9, -999.000,9, -999.000,9,   -999.0,9,   -999.0,9,   -999.0,9,-999.0000,     -999,9, -999.000,9,  -999.00,9, -999.000,9, -999.000,   -999.0,9,   -999.0, -999.000,9, -999.000, -999.000,9, -999.000,   -999.0,9,   -999.0, -999.000,9, -999.000,9, -999.000,9
  49NZ20140717,   P01,   131,  1,     24, X12J24,2,20140818,0744, 46.9879,-141.3525, 4416,    871.2,2,   3.3331,2,   3.33281,2,  34.2976,2,  34.2971,2,-999.0000,9,    13.87,2,    13.14,2,   99.963,   0.0015,2,    0.016,2,  -999.00,9,    3.107,1,    0.000,2,   131.38,2,     0.16,    44.35,2,     0.06,     0.00,2,     0.01,     3.17,2,     0.01,  -999.00,9,  -999.00, -999.000,9, -999.000,9, -999.000,9, -999.000,9,   -999.0,9,   -999.0,9,   -999.0,9,-999.0000,     -999,9, -999.000,9,  -999.00,9, -999.000,9, -999.000,   -999.0,9,   -999.0, -999.000,9, -999.000, -999.000,9, -999.000,   -999.0,9,   -999.0, -999.000,9, -999.000,9, -999.000,9
  49NZ20140717,   P01,   131,  1,     23, X12J23,2,20140818,0744, 46.9879,-141.3525, 4416,    970.0,2,   3.1933,2,   3.19239,2,  34.3435,2,  34.3428,2,-999.0000,9,    11.24,2,    10.44,2,   99.924,   0.0030,2,    0.016,2,  -999.00,9,    3.206,1,    0.000,2,   137.27,2,     0.16,    44.64,2,     0.06,     0.00,2,     0.01,     3.20,2,     0.01,  -999.00,9,  -999.00, -999.000,9, -999.000,9, -999.000,9, -999.000,9,   -999.0,9,   -999.0,9,   -999.0,9,-999.0000,     -999,9, -999.000,9,  -999.00,9, -999.000,9, -999.000,   -999.0,9,   -999.0, -999.000,9, -999.000, -999.000,9, -999.000,   -999.0,9,   -999.0, -999.000,9, -999.000,9, -999.000,9
  49NZ20140717,   P01,   131,  1,     22, X12J22,2,20140818,0744, 46.9879,-141.3525, 4416,   1128.8,2,   2.8887,2,   2.88788,2,  34.3990,2,  34.3992,2,-999.0000,9,    12.11,2,    11.13,2,   99.976,   0.0009,2,    0.015,2,  -999.00,9,    3.227,1,    0.000,2,   147.66,2,     0.17,    44.84,2,     0.06,     0.00,2,     0.01,     3.20,2,     0.01,  -999.00,9,  -999.00, -999.000,9, -999.000,9, -999.000,9, -999.000,9,   -999.0,9,   -999.0,9,   -999.0,9,-999.0000,     -999,9, -999.000,9,  -999.00,9, -999.000,9, -999.000,   -999.0,9,   -999.0, -999.000,9, -999.000, -999.000,9, -999.000,   -999.0,9,   -999.0, -999.000,9, -999.000,9, -999.000,9
  49NZ20140717,   P01,   131,  1,     21, X12J21,2,20140818,0744, 46.9879,-141.3525, 4416,   1330.2,2,   2.5880,2,   2.58795,2,  34.4569,2,  34.4549,2,-999.0000,9,    14.00,2,    12.79,2,   99.937,   0.0025,2,    0.015,2,  -999.00,9,    3.286,1,    0.000,2,   157.65,2,     0.17,    44.96,2,     0.06,     0.00,2,     0.01,     3.20,2,     0.01,  -999.00,9,  -999.00, -999.000,9, -999.000,9, -999.000,9, -999.000,9,   -999.0,9,   -999.0,9,   -999.0,9,-999.0000,     -999,9, -999.000,9,  -999.00,9, -999.000,9, -999.000,   -999.0,9,   -999.0, -999.000,9, -999.000, -999.000,9, -999.000,   -999.0,9,   -999.0, -999.000,9, -999.000,9, -999.000,9
  49NZ20140717,   P01,   131,  1,     20, X12J20,2,20140818,0744, 46.9879,-141.3525, 4416,   1528.4,2,   2.3749,2,   2.37407,2,  34.5042,2,  34.5034,2,-999.0000,9,    21.48,2,    20.55,2,   99.989,   0.0004,2,    0.013,2,  -999.00,9,    3.262,1,    0.000,2,   164.20,2,     0.18,    44.60,2,     0.06,     0.00,2,     0.01,     3.16,2,     0.01,  -999.00,9,  -999.00, -999.000,9, -999.000,9, -999.000,9, -999.000,9,   -999.0,9,   -999.0,9,   -999.0,9,-999.0000,     -999,9, -999.000,9,  -999.00,9, -999.000,9, -999.000,   -999.0,9,   -999.0, -999.000,9, -999.000, -999.000,9, -999.000,   -999.0,9,   -999.0, -999.000,9, -999.000,9, -999.000,9
  49NZ20140717,   P01,   131,  1,     19, X12J19,2,20140818,0744, 46.9879,-141.3525, 4416,   1730.1,2,   2.1618,2,   2.16167,2,  34.5481,2,  34.5473,2,-999.0000,9,    35.93,2,    35.40,2,   99.968,   0.0013,2,    0.011,2,  -999.00,9,    3.211,1,    0.000,2,   169.43,2,     0.18,    43.70,2,     0.06,     0.00,2,     0.01,     3.09,2,     0.01,  -999.00,9,  -999.00, -999.000,9, -999.000,9, -999.000,9, -999.000,9,   -999.0,9,   -999.0,9,   -999.0,9,-999.0000,     -999,9, -999.000,9,  -999.00,9, -999.000,9, -999.000,   -999.0,9,   -999.0, -999.000,9, -999.000, -999.000,9, -999.000,   -999.0,9,   -999.0, -999.000,9, -999.000,9, -999.000,9
  49NZ20140717,   P01,   131,  1,     18, X12J18,2,20140818,0744, 46.9879,-141.3525, 4416,   1933.8,2,   1.9830,2,   1.98258,2,  34.5778,2,  34.5785,2,-999.0000,9,    49.32,2,    49.54,2,   99.972,   0.0011,2,    0.010,2,  -999.00,9,    3.174,1,    0.000,2,   173.13,2,     0.18,    42.86,2,     0.05,     0.00,2,     0.01,     3.02,2,     0.01,  -999.00,9,  -999.00, -999.000,9, -999.000,9, -999.000,9, -999.000,9,   -999.0,9,   -999.0,9,   -999.0,9,-999.0000,     -999,9, -999.000,9,  -999.00,9, -999.000,9, -999.000,   -999.0,9,   -999.0, -999.000,9, -999.000, -999.000,9, -999.000,   -999.0,9,   -999.0, -999.000,9, -999.000,9, -999.000,9
  49NZ20140717,   P01,   131,  1,     17, X12J17,2,20140818,0744, 46.9879,-141.3525, 4416,   2129.9,2,   1.8718,2,   1.87149,2,  34.5996,2,  34.6000,2,-999.0000,9,    61.63,2,    61.59,2,   99.987,   0.0005,2,    0.009,2,  -999.00,9,    3.055,1,    0.000,2,   174.51,2,     0.18,    42.12,2,     0.05,     0.00,2,     0.01,     2.97,2,     0.01,  -999.00,9,  -999.00, -999.000,9, -999.000,9, -999.000,9, -999.000,9,   -999.0,9,   -999.0,9,   -999.0,9,-999.0000,     -999,9, -999.000,9,  -999.00,9, -999.000,9, -999.000,   -999.0,9,   -999.0, -999.000,9, -999.000, -999.000,9, -999.000,   -999.0,9,   -999.0, -999.000,9, -999.000,9, -999.000,9
  49NZ20140717,   P01,   131,  1,     16, X12J16,2,20140818,0744, 46.9879,-141.3525, 4416,   2331.5,2,   1.7867,2,   1.78645,2,  34.6162,2,  34.6164,2,-999.0000,9,    72.56,2,    72.63,2,   99.994,   0.0003,2,    0.008,2,  -999.00,9,    2.967,1,    0.000,2,   175.21,2,     0.18,    41.47,2,     0.05,     0.00,2,     0.01,     2.92,2,     0.01,  -999.00,9,  -999.00, -999.000,9, -999.000,9, -999.000,9, -999.000,9,   -999.0,9,   -999.0,9,   -999.0,9,-999.0000,     -999,9, -999.000,9,  -999.00,9, -999.000,9, -999.000,   -999.0,9,   -999.0, -999.000,9, -999.000, -999.000,9, -999.000,   -999.0,9,   -999.0, -999.000,9, -999.000,9, -999.000,9
  49NZ20140717,   P01,   131,  1,     15, X12J15,2,20140818,0744, 46.9879,-141.3525, 4416,   2529.9,2,   1.6952,2,   1.69510,2,  34.6311,2,  34.6309,2,-999.0000,9,    85.32,2,    85.56,2,   99.991,   0.0003,2,    0.008,2,  -999.00,9,    2.945,1,    0.000,2,   173.65,2,     0.18,    40.54,2,     0.05,     0.00,2,     0.01,     2.85,2,     0.01,  -999.00,9,  -999.00, -999.000,9, -999.000,9, -999.000,9, -999.000,9,   -999.0,9,   -999.0,9,   -999.0,9,-999.0000,     -999,9, -999.000,9,  -999.00,9, -999.000,9, -999.000,   -999.0,9,   -999.0, -999.000,9, -999.000, -999.000,9, -999.000,   -999.0,9,   -999.0, -999.000,9, -999.000,9, -999.000,9
  49NZ20140717,   P01,   131,  1,     14, X12J14,2,20140818,0744, 46.9879,-141.3525, 4416,   2730.8,2,   1.6268,2,   1.62685,2,  34.6436,2,  34.6434,2,-999.0000,9,    97.03,2,    96.92,2,   99.985,   0.0006,2,    0.007,2,  -999.00,9,    2.850,1,    0.000,2,   172.67,2,     0.18,    39.78,2,     0.05,     0.00,2,     0.01,     2.80,2,     0.01,  -999.00,9,  -999.00, -999.000,9, -999.000,9, -999.000,9, -999.000,9,   -999.0,9,   -999.0,9,   -999.0,9,-999.0000,     -999,9, -999.000,9,  -999.00,9, -999.000,9, -999.000,   -999.0,9,   -999.0, -999.000,9, -999.000, -999.000,9, -999.000,   -999.0,9,   -999.0, -999.000,9, -999.000,9, -999.000,9
  49NZ20140717,   P01,   131,  1,     13, X12113,2,20140818,0744, 46.9879,-141.3525, 4416,   2929.9,2,   1.5772,2,   1.57729,2,  34.6532,2,  34.6534,2,-999.0000,9,   106.78,2,   106.71,2,   99.987,   0.0005,2,    0.006,2,  -999.00,9,    2.827,1,    0.000,2,   171.97,2,     0.18,    39.15,2,     0.05,     0.00,2,     0.01,     2.75,2,     0.01,  -999.00,9,  -999.00, -999.000,9, -999.000,9, -999.000,9, -999.000,9,   -999.0,9,   -999.0,9,   -999.0,9,-999.0000,     -999,9, -999.000,9,  -999.00,9, -999.000,9, -999.000,   -999.0,9,   -999.0, -999.000,9, -999.000, -999.000,9, -999.000,   -999.0,9,   -999.0, -999.000,9, -999.000,9, -999.000,9
  49NZ20140717,   P01,   131,  1,     12, X12J12,2,20140818,0744, 46.9879,-141.3525, 4416,   3170.6,2,   1.5305,2,   1.53079,2,  34.6630,2,  34.6629,2,-999.0000,9,   117.45,2,   117.29,2,   99.983,   0.0007,2,    0.005,2,  -999.00,9,    2.674,1,    0.000,2,   170.83,2,     0.18,    38.46,2,     0.05,     0.00,2,     0.01,     2.70,2,     0.01,  -999.00,9,  -999.00, -999.000,9, -999.000,9, -999.000,9, -999.000,9,   -999.0,9,   -999.0,9,   -999.0,9,-999.0000,     -999,9, -999.000,9,  -999.00,9, -999.000,9, -999.000,   -999.0,9,   -999.0, -999.000,9, -999.000, -999.000,9, -999.000,   -999.0,9,   -999.0, -999.000,9, -999.000,9, -999.000,9
  49NZ20140717,   P01,   131,  1,     11, X12J11,2,20140818,0744, 46.9879,-141.3525, 4416,   3420.3,2,   1.5007,2,   1.50068,2,  34.6704,2,  34.6706,2,-999.0000,9,   126.14,2,   125.89,2,   99.991,   0.0003,2,    0.005,2,  -999.00,9,    2.691,1,    0.000,2,   170.02,2,     0.18,    37.93,2,     0.05,     0.00,2,     0.01,     2.66,2,     0.01,  -999.00,9,  -999.00, -999.000,9, -999.000,9, -999.000,9, -999.000,9,   -999.0,9,   -999.0,9,   -999.0,9,-999.0000,     -999,9, -999.000,9,  -999.00,9, -999.000,9, -999.000,   -999.0,9,   -999.0, -999.000,9, -999.000, -999.000,9, -999.000,   -999.0,9,   -999.0, -999.000,9, -999.000,9, -999.000,9
  49NZ20140717,   P01,   131,  1,     10, X12J10,2,20140818,0744, 46.9879,-141.3525, 4416,   3669.1,2,   1.4910,2,   1.49081,2,  34.6755,2,  34.6758,2,-999.0000,9,   131.58,2,   131.55,2,   99.989,   0.0004,2,    0.004,2,  -999.00,9,    2.607,1,    0.000,2,   170.10,2,     0.18,    37.58,2,     0.05,     0.00,2,     0.01,     2.63,2,     0.01,  -999.00,9,  -999.00, -999.000,9, -999.000,9, -999.000,9, -999.000,9,   -999.0,9,   -999.0,9,   -999.0,9,-999.0000,     -999,9, -999.000,9,  -999.00,9, -999.000,9, -999.000,   -999.0,9,   -999.0, -999.000,9, -999.000, -999.000,9, -999.000,   -999.0,9,   -999.0, -999.000,9, -999.000,9, -999.000,9