BOTTLE,20230904JAMSTECRIGC
EXPOCODE,SECT,STNNBR,CASTNO,SAMPNO,BTLNBR,BTLNBR_FLAG_W,DATE,TIME,LATITUDE,LONGITUDE,DEPTH,CTDPRS,CTDPRS_FLAG_W,CTDTMP,CTDTMP_FLAG_W,SBE35,SBE35_FLAG_W,CTDSAL,CTDSAL_FLAG_W,SALNTY,SALNTY_FLAG_W,DNSSAL,DNSSAL_FLAG_W,CTDOXY,CTDOXY_FLAG_W,OXYGEN,OXYGEN_FLAG_W,XMISS,XMISSCP,XMISS_FLAG_W,FLUOR,FLUOR_FLAG_W,CHLORA,CHLORA_FLAG_W,CDOM,CDOM_FLAG_W,PAR,PAR_FLAG_W,SILCAT,SILCAT_FLAG_W,SILUNC,NITRAT,NITRAT_FLAG_W,NRAUNC,NITRIT,NITRIT_FLAG_W,NRIUNC,PHSPHT,PHSPHT_FLAG_W,PHPUNC,AMMONIA,AMMONIA_FLAG_W,NH4UNC,CFC-11,CFC-11_FLAG_W,CFC-12,CFC-12_FLAG_W,CFC113,CFC113_FLAG_W,SF6,SF6_FLAG_W,TCARBN,TCARBN_FLAG_W,ALKALI,ALKALI_FLAG_W,ALKALI_POT,ALKALI_POT_FLAG_W,PH_TOT,PH_TMP,PH_TOT_FLAG_W,CALCIUM,CALCIUM_FLAG_W,DOC,DOC_FLAG_W,DELC13,DELC13_FLAG_W,C13ERR,DELC14,DELC14_FLAG_W,C14ERR,CS-134,CS-134_FLAG_W,CS134ER,CS-137,CS-137_FLAG_W,CS137ER,I-129,I-129_FLAG_W,I-129ER,CDOM-325,CDOM-325_FLAG_W,CDOM-370,CDOM-370_FLAG_W,CDOM-443,CDOM-443_FLAG_W
,,,,,,,,UTC,DEG,DEG,METERS,DBAR,,ITS-90,,ITS-90,,PSS-78,,PSS-78,,G/KG,,UMOL/KG,,UMOL/KG,,%TRANS,/METER,,MG/CUM,,MG/CUM,,MG/CUM,,UE/SQM/S,,UMOL/KG,,UMOL/KG,UMOL/KG,,UMOL/KG,UMOL/KG,,UMOL/KG,UMOL/KG,,UMOL/KG,UMOL/KG,,UMOL/KG,PMOL/KG,,PMOL/KG,,PMOL/KG,,FMOL/KG,,UMOL/KG,,UMOL/KG,,UMOL/KG,,,DEG C,,MMOL/KG,,UMOL/KG,,/MILLE,,/MILLE,/MILLE,,/MILLE,MBQ/KG,,MBQ/KG,MBQ/KG,,MBQ/KG,,,,/METER,,/METER,,/METER,
  49NZ20140717,   P01,    87,  1,      0,   -999,9,20140801,1106, 46.9810, 169.9958, 4923,   -999.0,9,-999.0000,9,-999.00000,9,-999.0000,9,  32.7866,2,-999.0000,9,  -999.00,9,  -999.00,9, -999.000,-999.0000,9, -999.000,9,     0.46,2, -999.000,9, -999.000,9,    27.90,2,     0.09,    12.93,2,     0.02,     0.15,2,     0.01,     1.28,2,     0.01,  -999.00,9,  -999.00, -999.000,9, -999.000,9, -999.000,9, -999.000,9,   -999.0,9,   -999.0,9,   -999.0,9,-999.0000,     -999,9, -999.000,9,  -999.00,9, -999.000,9, -999.000,   -999.0,9,   -999.0, -999.000,9, -999.000, -999.000,9, -999.000,   -999.0,9,   -999.0,    0.266,2,    0.131,2,    0.057,2
  49NZ20140717,   P01,    87,  1,     36, X12J36,2,20140801,1106, 46.9810, 169.9958, 4923,     10.1,2,  12.1331,2,  12.13560,2,  32.7854,2,  32.7889,2,-999.0000,9,   277.67,2,   282.36,2,   93.841,   0.2543,2,    0.578,2,     0.43,2,    0.049,1,    0.179,2,    28.01,2,     0.09,    13.02,2,     0.02,     0.15,2,     0.01,     1.28,2,     0.01,  -999.00,9,  -999.00,    3.448,2,    2.011,2,    0.330,2,    2.420,2,   2034.2,2,   2225.7,2,   -999.0,9,   7.8564,       25,6, -999.000,9,    63.20,2, -999.000,9, -999.000,   -999.0,9,   -999.0, -999.000,9, -999.000, -999.000,9, -999.000,   -999.0,9,   -999.0,    0.213,2,    0.091,2,    0.039,2
  49NZ20140717,   P01,    87,  1,     35, X12J35,2,20140801,1106, 46.9810, 169.9958, 4923,     49.3,2,   4.4104,2,   4.41047,2,  32.8888,2,  32.8983,2,-999.0000,9,   318.00,2,   320.21,2,   96.477,   0.1435,2,    0.523,2,     0.67,2,    1.008,1,    0.000,2,    34.65,2,     0.10,    20.49,2,     0.03,     0.21,2,     0.01,     1.79,2,     0.01,  -999.00,9,  -999.00,    4.867,2,    2.753,2,    0.471,2,    3.070,2,   2102.9,6,   2227.5,2,   -999.0,9,   7.6956,       25,2, -999.000,9,    50.08,2, -999.000,9, -999.000,   -999.0,9,   -999.0, -999.000,9, -999.000, -999.000,9, -999.000,   -999.0,9,   -999.0,    0.190,2,    0.092,2,    0.045,2
  49NZ20140717,   P01,    87,  1,     34, X12J34,2,20140801,1106, 46.9810, 169.9958, 4923,    100.4,2,   2.8967,2,   2.89709,2,  32.9883,2,  32.9917,2,-999.0000,9,   309.15,2,   309.77,2,   99.387,   0.0246,2,    0.082,2,     0.08,2,    1.007,1,    0.000,2,    39.82,2,     0.10,    24.44,2,     0.04,     0.04,2,     0.01,     1.93,2,     0.01,  -999.00,9,  -999.00,    5.035,2,    2.801,2,    0.485,2,    3.070,2,   2124.5,2,   2230.8,2,   -999.0,9,   7.6446,       25,2, -999.000,9,    50.11,2, -999.000,9, -999.000,   -999.0,9,   -999.0, -999.000,9, -999.000, -999.000,9, -999.000,   -999.0,9,   -999.0,    0.186,2,    0.085,2,    0.031,2
  49NZ20140717,   P01,    87,  1,     33, X12J33,2,20140801,1106, 46.9810, 169.9958, 4923,    150.2,2,   3.6276,2,   3.62763,2,  33.7498,2,  33.7552,2,-999.0000,9,    62.52,2,    61.80,2,   99.437,   0.0226,2,    0.027,2,     0.02,2,    2.575,1,    0.000,2,    86.91,2,     0.13,    43.29,2,     0.05,     0.01,2,     0.01,     3.06,2,     0.01,  -999.00,9,  -999.00,    2.640,2,    1.370,2,    0.186,2,    0.960,2,   2309.4,2,   2286.4,2,   -999.0,9,   7.2560,       25,6, -999.000,9,    46.17,2, -999.000,9, -999.000,   -999.0,9,   -999.0, -999.000,9, -999.000, -999.000,9, -999.000,   -999.0,9,   -999.0, -999.000,9, -999.000,9, -999.000,9
  49NZ20140717,   P01,    87,  1,     32, X12J32,2,20140801,1106, 46.9810, 169.9958, 4923,    201.5,2,   3.7297,2,   3.72993,2,  33.9483,2,  33.9487,2,-999.0000,9,    16.82,2,    16.27,2,   99.651,   0.0140,2,    0.018,2,     0.01,2,    2.901,1,    0.000,2,   101.33,2,     0.14,    45.78,2,     0.06,     0.01,2,     0.01,     3.23,2,     0.01,  -999.00,9,  -999.00,    1.824,2,    0.942,2,    0.111,2,    0.520,2,   2345.3,2,   2306.7,6,   -999.0,9,   7.2115,       25,2, -999.000,9,    44.66,2, -999.000,9, -999.000,   -999.0,9,   -999.0, -999.000,9, -999.000, -999.000,9, -999.000,   -999.0,9,   -999.0,    0.216,2,    0.095,2,    0.033,2
  49NZ20140717,   P01,    87,  1,     31, X12J31,2,20140801,1106, 46.9810, 169.9958, 4923,    249.2,2,   3.6764,2,   3.67654,2,  34.0106,2,  34.0093,2,-999.0000,9,    15.44,2,    15.13,2,   99.727,   0.0109,2,    0.018,2,     0.00,2,    2.920,1,    0.000,2,   106.89,2,     0.14,    45.43,2,     0.06,     0.01,2,     0.01,     3.22,2,     0.01,  -999.00,9,  -999.00,    1.527,2,    0.772,2,    0.100,2,    0.370,2,   2349.5,2,   2317.5,2,   -999.0,9,   7.2259,       25,2, -999.000,9,    41.94,2, -999.000,9, -999.000,   -999.0,9,   -999.0, -999.000,9, -999.000, -999.000,9, -999.000,   -999.0,9,   -999.0, -999.000,9, -999.000,9, -999.000,9
  49NZ20140717,   P01,    87,  1,     30, X12J30,2,20140801,1106, 46.9810, 169.9958, 4923,    302.2,2,   3.6444,2,   3.64444,2,  34.0563,2,  34.0552,2,-999.0000,9,    15.31,2,    14.95,2,   99.759,   0.0096,2,    0.017,2,  -999.00,9,    2.966,1,    0.000,2,   111.02,2,     0.14,    45.13,2,     0.06,     0.01,2,     0.01,     3.20,2,     0.01,  -999.00,9,  -999.00,    1.282,2,    0.651,2,    0.084,2,    0.290,2,   2352.5,2,   2322.4,2,   -999.0,9,   7.2345,       25,2, -999.000,9,    42.59,2, -999.000,9, -999.000,   -999.0,9,   -999.0, -999.000,9, -999.000, -999.000,9, -999.000,   -999.0,9,   -999.0, -999.000,9, -999.000,9, -999.000,9
  49NZ20140717,   P01,    87,  1,     29, X12J29,2,20140801,1106, 46.9810, 169.9958, 4923,    400.2,2,   3.5159,2,   3.51585,2,  34.1520,2,  34.1517,2,-999.0000,9,    15.43,2,    14.87,2,   99.848,   0.0061,2,    0.016,2,  -999.00,9,    3.033,1,    0.000,2,   120.35,2,     0.15,    44.53,2,     0.06,     0.01,2,     0.01,     3.17,2,     0.01,  -999.00,9,  -999.00,    0.838,2,    0.430,2,    0.053,2,    0.180,2,   2359.3,2,   2338.7,2,   -999.0,9,   7.2602,       25,2, -999.000,9,    41.35,2, -999.000,9, -999.000,   -999.0,9,   -999.0, -999.000,9, -999.000, -999.000,9, -999.000,   -999.0,9,   -999.0, -999.000,9, -999.000,9, -999.000,9
  49NZ20140717,   P01,    87,  1,     28, X12J28,2,20140801,1106, 46.9810, 169.9958, 4923,    500.7,2,   3.3545,2,   3.35423,2,  34.2199,2,  34.2202,2,-999.0000,9,    14.17,2,    13.49,2,   99.898,   0.0041,2,    0.015,2,  -999.00,9,    3.080,1,    0.000,2,   128.60,2,     0.15,    44.52,2,     0.06,     0.01,2,     0.01,     3.16,2,     0.01,  -999.00,9,  -999.00,    0.564,2,    0.299,2,    0.035,2,    0.110,2,   2366.8,2,   2351.1,2,   -999.0,9,   7.2709,       25,2, -999.000,9,    40.14,2, -999.000,9, -999.000,   -999.0,9,   -999.0, -999.000,9, -999.000, -999.000,9, -999.000,   -999.0,9,   -999.0,    0.236,2,    0.115,2,    0.047,2
  49NZ20140717,   P01,    87,  1,     27, X12J27,2,20140801,1106, 46.9810, 169.9958, 4923,    599.8,2,   3.1741,2,   3.17419,2,  34.2780,2,  34.2783,2,-999.0000,9,    14.19,2,    13.39,2,   99.874,   0.0051,2,    0.014,2,  -999.00,9,    3.121,1,    0.000,2,   136.27,2,     0.16,    44.49,2,     0.06,     0.01,2,     0.01,     3.16,2,     0.01,  -999.00,9,  -999.00,    0.374,2,    0.206,2,    0.022,2,    0.090,2,   2375.1,2,   2358.2,2,   -999.0,9,   7.2809,       25,2, -999.000,9,    39.92,2, -999.000,9, -999.000,   -999.0,9,   -999.0, -999.000,9, -999.000, -999.000,9, -999.000,   -999.0,9,   -999.0, -999.000,9, -999.000,9, -999.000,9
  49NZ20140717,   P01,    87,  1,     26, X12J26,2,20140801,1106, 46.9810, 169.9958, 4923,    700.3,2,   3.0326,2,   3.03268,2,  34.3190,2,  34.3189,2,-999.0000,9,    14.61,2,    13.87,2,   99.859,   0.0057,2,    0.014,2,  -999.00,9,    3.149,1,    0.000,2,   141.43,2,     0.16,    44.34,2,     0.06,     0.00,2,     0.01,     3.15,2,     0.01,  -999.00,9,  -999.00,    0.271,2,    0.154,2,    0.015,2,    0.000,2,   2379.2,6,   2369.1,2,   -999.0,9,   7.2848,       25,2, -999.000,9,    41.53,2, -999.000,9, -999.000,   -999.0,9,   -999.0, -999.000,9, -999.000, -999.000,9, -999.000,   -999.0,9,   -999.0, -999.000,9, -999.000,9, -999.000,9
  49NZ20140717,   P01,    87,  1,     25, X12J25,2,20140801,1106, 46.9810, 169.9958, 4923,    800.6,2,   2.8699,2,   2.86973,2,  34.3606,2,  34.3602,2,-999.0000,9,    16.87,2,    16.11,2,   99.917,   0.0033,2,    0.013,2,  -999.00,9,    3.145,1,    0.000,2,   146.97,2,     0.17,    44.25,2,     0.06,     0.01,2,     0.01,     3.15,2,     0.01,  -999.00,9,  -999.00,    0.198,2,    0.114,2,    0.011,2,    0.000,2,   2383.6,2,   2375.5,2,   -999.0,9,   7.2973,       25,2, -999.000,9,    39.86,2, -999.000,9, -999.000,   -999.0,9,   -999.0, -999.000,9, -999.000, -999.000,9, -999.000,   -999.0,9,   -999.0,    0.162,2,    0.068,2,    0.021,2
  49NZ20140717,   P01,    87,  1,     24, X12J24,2,20140801,1106, 46.9810, 169.9958, 4923,    899.2,2,   2.7313,2,   2.73124,2,  34.3981,2,  34.3980,2,-999.0000,9,    18.49,2,    17.82,2,   99.895,   0.0042,2,    0.012,2,  -999.00,9,    3.130,1,    0.000,2,   151.48,2,     0.17,    44.24,2,     0.06,     0.00,2,     0.01,     3.14,2,     0.01,  -999.00,9,  -999.00,    0.130,2,    0.077,2,    0.008,2,    0.000,2,   2388.3,2,   2382.1,2,   -999.0,9,   7.3046,       25,2, -999.000,9,    39.01,2, -999.000,9, -999.000,   -999.0,9,   -999.0, -999.000,9, -999.000, -999.000,9, -999.000,   -999.0,9,   -999.0, -999.000,9, -999.000,9, -999.000,9
  49NZ20140717,   P01,    87,  1,     23, X12J23,2,20140801,1106, 46.9810, 169.9958, 4923,   1000.5,2,   2.5979,2,   2.59768,2,  34.4294,2,  34.4298,2,-999.0000,9,    21.56,2,    21.13,2,   99.872,   0.0051,2,    0.011,2,  -999.00,9,    3.125,1,    0.000,2,   155.59,2,     0.17,    44.08,2,     0.06,     0.00,2,     0.01,     3.13,2,     0.01,  -999.00,9,  -999.00,    0.095,2,    0.057,2,    0.005,2,    0.000,2,   2390.4,2,   2387.9,2,   -999.0,9,   7.3148,       25,2, -999.000,9,    36.09,2, -999.000,9, -999.000,   -999.0,9,   -999.0, -999.000,9, -999.000, -999.000,9, -999.000,   -999.0,9,   -999.0,    0.212,2,    0.105,2,    0.043,2
  49NZ20140717,   P01,    87,  1,     22, X12J22,2,20140801,1106, 46.9810, 169.9958, 4923,   1200.4,2,   2.3516,2,   2.35144,2,  34.4844,2,  34.4858,2,-999.0000,9,    30.15,2,    30.20,2,   99.891,   0.0044,2,    0.010,2,  -999.00,9,    3.096,1,    0.000,2,   162.74,2,     0.18,    43.61,2,     0.05,     0.00,2,     0.01,     3.09,2,     0.01,  -999.00,9,  -999.00,    0.054,2,    0.032,2,    0.003,2,    0.000,2,   2390.9,2,   2397.2,6,   -999.0,9,   7.3363,       25,2, -999.000,9,    40.13,2, -999.000,9, -999.000,   -999.0,9,   -999.0, -999.000,9, -999.000, -999.000,9, -999.000,   -999.0,9,   -999.0, -999.000,9, -999.000,9, -999.000,9
  49NZ20140717,   P01,    87,  1,     21, X12J21,2,20140801,1106, 46.9810, 169.9958, 4923,   1400.8,2,   2.1409,2,   2.13985,2,  34.5325,2,  34.5332,2,-999.0000,9,    42.85,2,    43.78,2,   99.915,   0.0034,2,    0.009,2,  -999.00,9,    3.056,1,    0.000,2,   167.29,2,     0.18,    42.84,2,     0.05,     0.00,2,     0.01,     3.03,2,     0.01,  -999.00,9,  -999.00,    0.030,2,    0.017,2,    0.002,2,    0.000,2,   2390.3,2,   2404.3,2,   -999.0,9,   7.3643,       25,2, -999.000,9,    38.38,2, -999.000,9, -999.000,   -999.0,9,   -999.0, -999.000,9, -999.000, -999.000,9, -999.000,   -999.0,9,   -999.0, -999.000,9, -999.000,9, -999.000,9
  49NZ20140717,   P01,    87,  1,     20, X12J20,2,20140801,1106, 46.9810, 169.9958, 4923,   1601.2,2,   1.9949,2,   1.99475,2,  34.5661,2,  34.5663,2,-999.0000,9,    55.09,2,    55.61,2,   99.930,   0.0028,2,    0.007,2,  -999.00,9,    2.962,1,    0.000,2,   169.19,2,     0.18,    42.10,2,     0.05,     0.00,2,     0.01,     2.98,2,     0.01,  -999.00,9,  -999.00,    0.015,2,    0.009,2,    0.002,2,    0.000,2,   2385.1,2,   2412.1,2,   -999.0,9,   7.3919,       25,6, -999.000,9,    43.64,2, -999.000,9, -999.000,   -999.0,9,   -999.0, -999.000,9, -999.000, -999.000,9, -999.000,   -999.0,9,   -999.0, -999.000,9, -999.000,9, -999.000,9
  49NZ20140717,   P01,    87,  1,     19, X12J19,2,20140801,1106, 46.9810, 169.9958, 4923,   1800.2,2,   1.8869,2,   1.88675,2,  34.5902,2,  34.5908,2,-999.0000,9,    67.04,2,    67.88,2,   99.947,   0.0021,2,    0.006,2,  -999.00,9,    2.907,1,    0.000,2,   169.43,2,     0.18,    41.37,2,     0.05,     0.00,2,     0.01,     2.92,2,     0.01,  -999.00,9,  -999.00,    0.008,2,    0.004,2,    0.002,2,    0.000,2,   2380.5,2,   2411.9,2,   -999.0,9,   7.4179,       25,2, -999.000,9,    40.03,2, -999.000,9, -999.000,   -999.0,9,   -999.0, -999.000,9, -999.000, -999.000,9, -999.000,   -999.0,9,   -999.0, -999.000,9, -999.000,9, -999.000,9
  49NZ20140717,   P01,    87,  1,     18, X12J18,2,20140801,1106, 46.9810, 169.9958, 4923,   2000.3,2,   1.7917,2,   1.79161,2,  34.6101,2,  34.6102,2,-999.0000,9,    79.41,2,    80.03,2,   99.930,   0.0028,2,    0.005,2,  -999.00,9,    2.891,1,    0.000,2,   169.03,2,     0.18,    40.63,2,     0.05,     0.00,2,     0.01,     2.87,2,     0.01,  -999.00,9,  -999.00,    0.003,2,    0.001,2,    0.000,2,    0.000,2,   2373.9,2,   2414.9,2,   -999.0,9,   7.4411,       25,2, -999.000,9,    39.66,2, -999.000,9, -999.000,   -999.0,9,   -999.0, -999.000,9, -999.000, -999.000,9, -999.000,   -999.0,9,   -999.0,    0.160,2,    0.076,2,    0.030,2
  49NZ20140717,   P01,    87,  1,     17, X12J17,2,20140801,1106, 46.9810, 169.9958, 4923,   2200.0,2,   1.7055,2,   1.70559,2,  34.6265,2,  34.6267,2,-999.0000,9,    90.57,2,    91.33,2,   99.924,   0.0031,2,    0.004,2,  -999.00,9,    2.813,1,    0.000,2,   168.22,2,     0.18,    39.91,2,     0.05,     0.00,2,     0.01,     2.82,2,     0.01,  -999.00,9,  -999.00,    0.001,2,    0.000,2,    0.000,2,    0.000,2,   2366.9,2,   2416.1,2,   -999.0,9,   7.4637,       25,2, -999.000,9,    39.71,2, -999.000,9, -999.000,   -999.0,9,   -999.0, -999.000,9, -999.000, -999.000,9, -999.000,   -999.0,9,   -999.0, -999.000,9, -999.000,9, -999.000,9
  49NZ20140717,   P01,    87,  1,     16, X12J16,2,20140801,1106, 46.9810, 169.9958, 4923,   2399.6,2,   1.6455,2,   1.64562,2,  34.6387,2,  34.6390,2,-999.0000,9,   100.99,2,   101.72,2,   99.930,   0.0028,2,    0.004,2,  -999.00,9,    2.731,1,    0.000,2,   166.29,2,     0.18,    39.27,2,     0.05,     0.00,2,     0.01,     2.77,2,     0.01,  -999.00,9,  -999.00,    0.000,2,    0.000,2,    0.001,2,    0.000,2,   2361.3,6,   2419.7,2,   -999.0,9,   7.4839,       25,2, -999.000,9,    39.32,2, -999.000,9, -999.000,   -999.0,9,   -999.0, -999.000,9, -999.000, -999.000,9, -999.000,   -999.0,9,   -999.0, -999.000,9, -999.000,9, -999.000,9
  49NZ20140717,   P01,    87,  1,     15, X12J15,2,20140801,1106, 46.9810, 169.9958, 4923,   2599.4,2,   1.5866,2,   1.58658,2,  34.6495,2,  34.6498,2,-999.0000,9,   110.76,2,   111.05,2,   99.934,   0.0026,2,    0.003,2,  -999.00,9,    2.617,1,    0.000,2,   164.61,2,     0.18,    38.58,2,     0.05,     0.00,2,     0.01,     2.71,2,     0.01,  -999.00,9,  -999.00,    0.001,2,    0.000,2,    0.000,2,    0.000,2,   2355.2,2,   2419.0,2,   -999.0,9,   7.5019,       25,2, -999.000,9,    38.85,2, -999.000,9, -999.000,   -999.0,9,   -999.0, -999.000,9, -999.000, -999.000,9, -999.000,   -999.0,9,   -999.0, -999.000,9, -999.000,9, -999.000,9
  49NZ20140717,   P01,    87,  1,     14, X12J14,2,20140801,1106, 46.9810, 169.9958, 4923,   2800.1,2,   1.5388,2,   1.53904,2,  34.6586,2,  34.6584,2,-999.0000,9,   119.99,2,   120.37,2,   99.949,   0.0020,2,    0.002,2,  -999.00,9,    2.590,1,    0.000,2,   162.07,2,     0.18,    37.98,2,     0.05,     0.00,2,     0.01,     2.67,2,     0.01,  -999.00,9,  -999.00,    0.001,2,    0.000,2,    0.000,2,    0.000,2,   2349.8,2,   2420.9,2,   -999.0,9,   7.5193,       25,6, -999.000,9,    39.40,2, -999.000,9, -999.000,   -999.0,9,   -999.0, -999.000,9, -999.000, -999.000,9, -999.000,   -999.0,9,   -999.0, -999.000,9, -999.000,9, -999.000,9
  49NZ20140717,   P01,    87,  1,     13, X12113,2,20140801,1106, 46.9810, 169.9958, 4923,   2999.1,2,   1.5045,2,   1.50459,2,  34.6654,2,  34.6655,2,-999.0000,9,   127.61,2,   128.02,2,   99.956,   0.0018,2,    0.002,2,  -999.00,9,    2.537,1,    0.000,2,   159.92,2,     0.17,    37.52,2,     0.05,     0.00,2,     0.01,     2.63,2,     0.01,  -999.00,9,  -999.00,    0.000,2,    0.000,2,    0.000,2,    0.000,2,   2344.7,2,   2418.2,2,   -999.0,9,   7.5328,       25,2, -999.000,9,    39.14,2, -999.000,9, -999.000,   -999.0,9,   -999.0, -999.000,9, -999.000, -999.000,9, -999.000,   -999.0,9,   -999.0,    0.103,2,    0.035,2,    0.004,2
  49NZ20140717,   P01,    87,  1,     12, X12J12,2,20140801,1106, 46.9810, 169.9958, 4923,   3250.1,2,   1.4680,2,   1.46820,2,  34.6729,2,  34.6728,2,-999.0000,9,   136.60,2,   136.97,2,   99.952,   0.0019,2,    0.001,2,  -999.00,9,    2.466,1,    0.000,2,   157.22,2,     0.17,    36.97,2,     0.05,     0.00,2,     0.01,     2.58,2,     0.01,  -999.00,9,  -999.00,    0.000,2,    0.000,2,    0.000,2,    0.000,2,   2339.0,2,   2420.5,6,   -999.0,9,   7.5488,       25,2, -999.000,9,    37.74,2, -999.000,9, -999.000,   -999.0,9,   -999.0, -999.000,9, -999.000, -999.000,9, -999.000,   -999.0,9,   -999.0, -999.000,9, -999.000,9, -999.000,9
  49NZ20140717,   P01,    87,  1,     11, X12J11,2,20140801,1106, 46.9810, 169.9958, 4923,   3500.3,2,   1.4490,2,   1.44912,2,  34.6780,2,  34.6776,2,-999.0000,9,   142.86,2,   143.08,2,   99.917,   0.0033,2,    0.001,2,  -999.00,9,    2.429,1,    0.000,2,   155.07,2,     0.17,    36.55,2,     0.05,     0.01,2,     0.01,     2.55,2,     0.01,  -999.00,9,  -999.00,    0.000,2,    0.000,2,    0.001,2,    0.000,2,   2334.0,2,   2418.6,2,   -999.0,9,   7.5599,       25,2, -999.000,9,    35.87,2, -999.000,9, -999.000,   -999.0,9,   -999.0, -999.000,9, -999.000, -999.000,9, -999.000,   -999.0,9,   -999.0, -999.000,9, -999.000,9, -999.000,9
  49NZ20140717,   P01,    87,  1,     10, X12J10,2,20140801,1106, 46.9810, 169.9958, 4923,   3750.6,2,   1.4536,2,   1.45379,2,  34.6805,2,  34.6803,2,-999.0000,9,   145.78,2,   146.05,2,   99.906,   0.0038,2,    0.001,2,  -999.00,9,    2.379,1,    0.000,2,   154.19,2,     0.17,    36.36,2,     0.05,     0.00,2,     0.01,     2.53,2,     0.01,  -999.00,9,  -999.00,    0.000,2,    0.000,2,    0.001,2,    0.000,2,   2331.1,2,   2418.9,2,   -999.0,9,   7.5647,       25,2, -999.000,9,    38.61,2, -999.000,9, -999.000,   -999.0,9,   -999.0, -999.000,9, -999.000, -999.000,9, -999.000,   -999.0,9,   -999.0, -999.000,9, -999.000,9, -999.000,9