BOTTLE,20230904JAMSTECRIGC
EXPOCODE,SECT,STNNBR,CASTNO,SAMPNO,BTLNBR,BTLNBR_FLAG_W,DATE,TIME,LATITUDE,LONGITUDE,DEPTH,CTDPRS,CTDPRS_FLAG_W,CTDTMP,CTDTMP_FLAG_W,SBE35,SBE35_FLAG_W,CTDSAL,CTDSAL_FLAG_W,SALNTY,SALNTY_FLAG_W,DNSSAL,DNSSAL_FLAG_W,CTDOXY,CTDOXY_FLAG_W,OXYGEN,OXYGEN_FLAG_W,XMISS,XMISSCP,XMISS_FLAG_W,FLUOR,FLUOR_FLAG_W,CHLORA,CHLORA_FLAG_W,CDOM,CDOM_FLAG_W,PAR,PAR_FLAG_W,SILCAT,SILCAT_FLAG_W,SILUNC,NITRAT,NITRAT_FLAG_W,NRAUNC,NITRIT,NITRIT_FLAG_W,NRIUNC,PHSPHT,PHSPHT_FLAG_W,PHPUNC,AMMONIA,AMMONIA_FLAG_W,NH4UNC,CFC-11,CFC-11_FLAG_W,CFC-12,CFC-12_FLAG_W,CFC113,CFC113_FLAG_W,SF6,SF6_FLAG_W,TCARBN,TCARBN_FLAG_W,ALKALI,ALKALI_FLAG_W,ALKALI_POT,ALKALI_POT_FLAG_W,PH_TOT,PH_TMP,PH_TOT_FLAG_W,CALCIUM,CALCIUM_FLAG_W,DOC,DOC_FLAG_W,DELC13,DELC13_FLAG_W,C13ERR,DELC14,DELC14_FLAG_W,C14ERR,CS-134,CS-134_FLAG_W,CS134ER,CS-137,CS-137_FLAG_W,CS137ER,I-129,I-129_FLAG_W,I-129ER,CDOM-325,CDOM-325_FLAG_W,CDOM-370,CDOM-370_FLAG_W,CDOM-443,CDOM-443_FLAG_W
,,,,,,,,UTC,DEG,DEG,METERS,DBAR,,ITS-90,,ITS-90,,PSS-78,,PSS-78,,G/KG,,UMOL/KG,,UMOL/KG,,%TRANS,/METER,,MG/CUM,,MG/CUM,,MG/CUM,,UE/SQM/S,,UMOL/KG,,UMOL/KG,UMOL/KG,,UMOL/KG,UMOL/KG,,UMOL/KG,UMOL/KG,,UMOL/KG,UMOL/KG,,UMOL/KG,PMOL/KG,,PMOL/KG,,PMOL/KG,,FMOL/KG,,UMOL/KG,,UMOL/KG,,UMOL/KG,,,DEG C,,MMOL/KG,,UMOL/KG,,/MILLE,,/MILLE,/MILLE,,/MILLE,MBQ/KG,,MBQ/KG,MBQ/KG,,MBQ/KG,,,,/METER,,/METER,,/METER,
  49NZ20140717,   P01,    87,  1,      9, X12J09,2,20140801,1106, 46.9810, 169.9958, 4923,   4000.5,2,   1.4521,2,   1.45225,2,  34.6836,2,  34.6835,2,-999.0000,9,   149.62,2,   150.09,2,   99.898,   0.0041,2,    0.001,2,  -999.00,9,    2.448,1,    0.000,2,   153.30,2,     0.17,    36.14,2,     0.05,     0.00,2,     0.01,     2.52,2,     0.01,  -999.00,9,  -999.00,    0.000,2,    0.000,2,    0.001,2,    0.000,2,   2328.0,2,   2418.2,2,   -999.0,9,   7.5708,       25,2, -999.000,9,    39.05,2, -999.000,9, -999.000,   -999.0,9,   -999.0, -999.000,9, -999.000, -999.000,9, -999.000,   -999.0,9,   -999.0, -999.000,9, -999.000,9, -999.000,9
  49NZ20140717,   P01,    87,  1,      8, X12J08,2,20140801,1106, 46.9810, 169.9958, 4923,   4249.3,2,   1.4630,2,   1.46321,2,  34.6855,2,  34.6856,2,-999.0000,9,   151.63,2,   151.99,2,   99.926,   0.0030,2,    0.000,2,  -999.00,9,    2.321,1,    0.000,2,   153.11,2,     0.17,    36.00,2,     0.05,     0.00,2,     0.01,     2.50,2,     0.01,  -999.00,9,  -999.00,    0.000,2,    0.000,2,    0.000,2,    0.000,2,   2327.1,6,   2418.7,2,   -999.0,9,   7.5748,       25,2, -999.000,9,    36.30,2, -999.000,9, -999.000,   -999.0,9,   -999.0, -999.000,9, -999.000, -999.000,9, -999.000,   -999.0,9,   -999.0, -999.000,9, -999.000,9, -999.000,9
  49NZ20140717,   P01,    87,  1,      7, X12J07,2,20140801,1106, 46.9810, 169.9958, 4923,   4499.7,2,   1.4827,2,   1.48274,2,  34.6863,2,  34.6862,2,-999.0000,9,   152.99,2,   153.43,2,   99.900,   0.0040,2,    0.000,2,  -999.00,9,    2.467,4,    0.000,2,   152.82,2,     0.17,    35.91,2,     0.05,     0.00,2,     0.01,     2.50,2,     0.01,  -999.00,9,  -999.00,    0.002,2,    0.001,2,    0.002,2,    0.000,2,   2326.2,2,   2419.1,2,   -999.0,9,   7.5773,       25,6, -999.000,9,    38.63,2, -999.000,9, -999.000,   -999.0,9,   -999.0, -999.000,9, -999.000, -999.000,9, -999.000,   -999.0,9,   -999.0, -999.000,9, -999.000,9, -999.000,9
  49NZ20140717,   P01,    87,  1,      6, X12J06,2,20140801,1106, 46.9810, 169.9958, 4923,   4749.2,2,   1.5064,2,   1.50652,2,  34.6870,2,  34.6871,2,-999.0000,9,   153.63,2,  -999.00,5,   99.833,   0.0067,2,    0.001,2,  -999.00,9,    2.544,4,    0.000,2,   152.82,2,     0.17,    35.86,2,     0.05,     0.00,2,     0.01,     2.49,2,     0.01,  -999.00,9,  -999.00,    0.000,2,    0.000,2,    0.000,2,    0.000,2,   2325.1,2,   2417.8,6,   -999.0,9,   7.5783,       25,2, -999.000,9,    37.86,2, -999.000,9, -999.000,   -999.0,9,   -999.0, -999.000,9, -999.000, -999.000,9, -999.000,   -999.0,9,   -999.0, -999.000,9, -999.000,9, -999.000,9
  49NZ20140717,   P01,    87,  1,      5, X12J05,2,20140801,1106, 46.9810, 169.9958, 4923,   5005.7,2,   1.5354,2,   1.53523,2,  34.6871,2,-999.0000,9,-999.0000,9,   153.95,2,  -999.00,9,   99.794,   0.0083,2,    0.001,2,  -999.00,9,    2.353,4,    0.000,2,  -999.00,9,  -999.00,  -999.00,9,  -999.00,  -999.00,9,  -999.00,  -999.00,9,  -999.00,  -999.00,9,  -999.00, -999.000,9, -999.000,9, -999.000,9, -999.000,9,   -999.0,9,   -999.0,9,   -999.0,9,-999.0000,     -999,9, -999.000,9,  -999.00,9, -999.000,9, -999.000,   -999.0,9,   -999.0, -999.000,9, -999.000, -999.000,9, -999.000,   -999.0,9,   -999.0, -999.000,9, -999.000,9, -999.000,9
  49NZ20140717,   P01,    87,  1,      4, X12J04,2,20140801,1106, 46.9810, 169.9958, 4923,     10.1,2,  12.1368,2,  12.13480,2,  32.7854,2,-999.0000,9,-999.0000,9,   277.68,2,  -999.00,9,   93.658,   0.2621,2,    0.588,2,  -999.00,9,    0.012,1,    0.165,2,  -999.00,9,  -999.00,  -999.00,9,  -999.00,  -999.00,9,  -999.00,  -999.00,9,  -999.00,  -999.00,9,  -999.00, -999.000,9, -999.000,9, -999.000,9, -999.000,9,   -999.0,9,   -999.0,9,   -999.0,9,-999.0000,     -999,9, -999.000,9,  -999.00,9, -999.000,9, -999.000,   -999.0,9,   -999.0, -999.000,9, -999.000, -999.000,9, -999.000,   -999.0,9,   -999.0, -999.000,9, -999.000,9, -999.000,9
  49NZ20140717,   P01,    87,  1,      3, X12J03,2,20140801,1106, 46.9810, 169.9958, 4923,     49.2,2,   4.3993,2,   4.42083,2,  32.8898,2,-999.0000,9,-999.0000,9,   319.30,2,  -999.00,9,   96.367,   0.1480,2,    0.511,2,  -999.00,9,    0.786,1,    0.000,2,  -999.00,9,  -999.00,  -999.00,9,  -999.00,  -999.00,9,  -999.00,  -999.00,9,  -999.00,  -999.00,9,  -999.00, -999.000,9, -999.000,9, -999.000,9, -999.000,9,   -999.0,9,   -999.0,9,   -999.0,9,-999.0000,     -999,9, -999.000,9,  -999.00,9, -999.000,9, -999.000,   -999.0,9,   -999.0, -999.000,9, -999.000, -999.000,9, -999.000,   -999.0,9,   -999.0, -999.000,9, -999.000,9, -999.000,9
  49NZ20140717,   P01,    87,  1,      2, X12J02,2,20140801,1106, 46.9810, 169.9958, 4923,    100.3,2,   2.8974,2,   2.89806,2,  32.9876,2,-999.0000,9,-999.0000,9,   309.68,2,  -999.00,9,   99.394,   0.0243,2,    0.077,2,  -999.00,9,    0.949,1,    0.000,2,  -999.00,9,  -999.00,  -999.00,9,  -999.00,  -999.00,9,  -999.00,  -999.00,9,  -999.00,  -999.00,9,  -999.00, -999.000,9, -999.000,9, -999.000,9, -999.000,9,   -999.0,9,   -999.0,9,   -999.0,9,-999.0000,     -999,9, -999.000,9,  -999.00,9, -999.000,9, -999.000,   -999.0,9,   -999.0, -999.000,9, -999.000, -999.000,9, -999.000,   -999.0,9,   -999.0, -999.000,9, -999.000,9, -999.000,9
  49NZ20140717,   P01,    87,  1,      1, X12J01,2,20140801,1106, 46.9810, 169.9958, 4923,   5005.3,2,   1.5353,2,   1.53524,2,  34.6872,2,  34.6873,2,-999.0000,9,   153.95,2,   154.67,2,   99.789,   0.0084,2,    0.001,2,  -999.00,9,    2.304,4,    0.000,2,   152.91,2,     0.17,    35.87,2,     0.05,     0.00,2,     0.01,     2.49,2,     0.01,  -999.00,9,  -999.00,    0.000,2,    0.001,2,    0.000,2,    0.000,2,   2323.5,2,   2419.6,2,   -999.0,9,   7.5794,       25,2, -999.000,9,    37.35,2, -999.000,9, -999.000,   -999.0,9,   -999.0, -999.000,9, -999.000, -999.000,9, -999.000,   -999.0,9,   -999.0,    0.119,2,    0.044,2,    0.010,2