BOTTLE,20230904JAMSTECRIGC
EXPOCODE,SECT,STNNBR,CASTNO,SAMPNO,BTLNBR,BTLNBR_FLAG_W,DATE,TIME,LATITUDE,LONGITUDE,DEPTH,CTDPRS,CTDPRS_FLAG_W,CTDTMP,CTDTMP_FLAG_W,SBE35,SBE35_FLAG_W,CTDSAL,CTDSAL_FLAG_W,SALNTY,SALNTY_FLAG_W,DNSSAL,DNSSAL_FLAG_W,CTDOXY,CTDOXY_FLAG_W,OXYGEN,OXYGEN_FLAG_W,XMISS,XMISSCP,XMISS_FLAG_W,FLUOR,FLUOR_FLAG_W,CHLORA,CHLORA_FLAG_W,CDOM,CDOM_FLAG_W,PAR,PAR_FLAG_W,SILCAT,SILCAT_FLAG_W,SILUNC,NITRAT,NITRAT_FLAG_W,NRAUNC,NITRIT,NITRIT_FLAG_W,NRIUNC,PHSPHT,PHSPHT_FLAG_W,PHPUNC,AMMONIA,AMMONIA_FLAG_W,NH4UNC,CFC-11,CFC-11_FLAG_W,CFC-12,CFC-12_FLAG_W,CFC113,CFC113_FLAG_W,SF6,SF6_FLAG_W,TCARBN,TCARBN_FLAG_W,ALKALI,ALKALI_FLAG_W,ALKALI_POT,ALKALI_POT_FLAG_W,PH_TOT,PH_TMP,PH_TOT_FLAG_W,CALCIUM,CALCIUM_FLAG_W,DOC,DOC_FLAG_W,DELC13,DELC13_FLAG_W,C13ERR,DELC14,DELC14_FLAG_W,C14ERR,CS-134,CS-134_FLAG_W,CS134ER,CS-137,CS-137_FLAG_W,CS137ER,I-129,I-129_FLAG_W,I-129ER,CDOM-325,CDOM-325_FLAG_W,CDOM-370,CDOM-370_FLAG_W,CDOM-443,CDOM-443_FLAG_W
,,,,,,,,UTC,DEG,DEG,METERS,DBAR,,ITS-90,,ITS-90,,PSS-78,,PSS-78,,G/KG,,UMOL/KG,,UMOL/KG,,%TRANS,/METER,,MG/CUM,,MG/CUM,,MG/CUM,,UE/SQM/S,,UMOL/KG,,UMOL/KG,UMOL/KG,,UMOL/KG,UMOL/KG,,UMOL/KG,UMOL/KG,,UMOL/KG,UMOL/KG,,UMOL/KG,PMOL/KG,,PMOL/KG,,PMOL/KG,,FMOL/KG,,UMOL/KG,,UMOL/KG,,UMOL/KG,,,DEG C,,MMOL/KG,,UMOL/KG,,/MILLE,,/MILLE,/MILLE,,/MILLE,MBQ/KG,,MBQ/KG,MBQ/KG,,MBQ/KG,,,,/METER,,/METER,,/METER,
  49NZ20140717,   P01,    43,  1,      0,   -999,9,20140720,0148, 42.1804, 146.0813, 5040,   -999.0,9,-999.0000,9,-999.00000,9,-999.0000,9,  32.4248,2,-999.0000,9,  -999.00,9,  -999.00,9, -999.000,-999.0000,9, -999.000,9,  -999.00,9, -999.000,9, -999.000,9,     3.71,2,     0.09,     0.92,2,     0.01,     0.05,2,     0.01,     0.44,2,     0.01,     0.20,2,     0.02, -999.000,9, -999.000,9, -999.000,9, -999.000,9,   -999.0,9,   -999.0,9,   -999.0,9,-999.0000,     -999,9, -999.000,9,  -999.00,9, -999.000,9, -999.000,   -999.0,9,   -999.0, -999.000,9, -999.000, -999.000,9, -999.000,   -999.0,9,   -999.0, -999.000,9, -999.000,9, -999.000,9
  49NZ20140717,   P01,    43,  1,     36, X12J36,2,20140720,0148, 42.1804, 146.0813, 5040,     10.4,2,   9.9618,2,   9.95228,2,  32.6094,2,  32.6074,2,  32.7637,2,   342.53,2,   344.55,2,   83.225,   0.7345,2,    0.969,2,  -999.00,9,    0.789,1,  312.004,2,     7.65,2,     0.09,     6.72,2,     0.02,     0.12,2,     0.01,     0.84,2,     0.01,     0.25,2,     0.02,    4.046,2,    2.333,2,    0.356,2,    2.650,2,   1999.5,2,   2223.5,2,   -999.0,9,   7.9431,       25,6, -999.000,9,    69.86,2, -999.000,9, -999.000,   -999.0,9,   -999.0, -999.000,9, -999.000, -999.000,9, -999.000,   -999.0,9,   -999.0, -999.000,9, -999.000,9, -999.000,9
  49NZ20140717,   P01,    43,  1,     35, X12J35,2,20140720,0148, 42.1804, 146.0813, 5040,     50.2,2,   1.8216,2,   1.82123,2,  32.8499,2,  32.8528,2,  33.0108,2,   320.19,2,   321.65,2,   95.998,   0.1634,2,    0.389,2,  -999.00,9,    1.417,1,    1.122,2,    31.54,2,     0.10,    18.77,2,     0.03,     0.36,2,     0.01,     1.67,2,     0.01,     0.91,2,     0.03,    5.472,2,    3.077,2,    0.475,2,    3.310,2,   2126.1,6,   2231.7,2,   -999.0,9,   7.6590,       25,2, -999.000,9,    50.80,2, -999.000,9, -999.000,   -999.0,9,   -999.0, -999.000,9, -999.000, -999.000,9, -999.000,   -999.0,9,   -999.0, -999.000,9, -999.000,9, -999.000,9
  49NZ20140717,   P01,    43,  1,     34, X12J34,2,20140720,0148, 42.1804, 146.0813, 5040,    101.6,2,   0.5627,2,   0.57022,2,  33.0468,2,  33.0455,2,  33.2077,2,   288.60,2,   289.13,2,   98.769,   0.0495,2,    0.042,2,  -999.00,9,    1.705,1,    0.000,2,    44.45,2,     0.10,    24.28,2,     0.04,     0.02,2,     0.01,     1.97,2,     0.01,     0.01,2,     0.01,    5.389,2,    3.012,2,    0.467,2,    3.090,2,   2172.8,2,   2243.0,2,   -999.0,9,   7.5532,       25,2, -999.000,9,    50.41,2, -999.000,9, -999.000,   -999.0,9,   -999.0, -999.000,9, -999.000, -999.000,9, -999.000,   -999.0,9,   -999.0, -999.000,9, -999.000,9, -999.000,9
  49NZ20140717,   P01,    43,  1,     33, X12J33,2,20140720,0148, 42.1804, 146.0813, 5040,    150.9,2,   1.7698,2,   1.76941,2,  33.3013,2,  33.3017,2,  33.4631,2,   235.96,2,   236.47,2,   98.728,   0.0512,2,    0.019,2,  -999.00,9,    1.663,1,    0.000,2,    61.96,2,     0.11,    30.67,2,     0.04,     0.02,2,     0.01,     2.34,2,     0.01,     0.01,2,     0.01,    4.445,2,    2.491,2,    0.379,2,    2.450,2,   2204.1,2,   2256.6,2,   -999.0,9,   7.4977,       25,6, -999.000,9,    46.28,2, -999.000,9, -999.000,   -999.0,9,   -999.0, -999.000,9, -999.000, -999.000,9, -999.000,   -999.0,9,   -999.0, -999.000,9, -999.000,9, -999.000,9
  49NZ20140717,   P01,    43,  1,     32, X12J32,2,20140720,0148, 42.1804, 146.0813, 5040,    200.9,2,   2.0662,2,   2.06578,2,  33.4269,2,  33.4243,2,  33.5910,2,   199.25,2,   199.76,2,   98.869,   0.0455,2,    0.013,2,  -999.00,9,    1.862,1,    0.000,2,    70.62,2,     0.12,    32.98,2,     0.04,     0.03,2,     0.01,     2.48,2,     0.01,     0.03,2,     0.01,    3.996,2,    2.220,2,    0.321,2,    2.170,2,   2230.1,2,   2266.3,6,   -999.0,9,   7.4494,       25,2, -999.000,9,    46.20,2, -999.000,9, -999.000,   -999.0,9,   -999.0, -999.000,9, -999.000, -999.000,9, -999.000,   -999.0,9,   -999.0, -999.000,9, -999.000,9, -999.000,9
  49NZ20140717,   P01,    43,  1,     31, X12J31,2,20140720,0148, 42.1804, 146.0813, 5040,    251.3,2,   2.6108,2,   2.61114,2,  33.5788,2,  33.5795,2,  33.7454,2,   144.33,2,   143.87,2,   99.073,   0.0372,2,    0.013,2,  -999.00,9,    2.163,1,    0.000,2,    80.25,2,     0.12,    36.80,2,     0.05,     0.02,2,     0.01,     2.71,2,     0.01,     0.02,2,     0.01,    3.388,2,    1.859,2,    0.263,2,    1.690,2,   2264.6,2,   2278.5,2,   -999.0,9,   7.3717,       25,2, -999.000,9,    45.50,2, -999.000,9, -999.000,   -999.0,9,   -999.0, -999.000,9, -999.000, -999.000,9, -999.000,   -999.0,9,   -999.0, -999.000,9, -999.000,9, -999.000,9
  49NZ20140717,   P01,    43,  1,     30, X12J30,2,20140720,0148, 42.1804, 146.0813, 5040,    331.1,2,   2.1171,2,   2.12122,2,  33.6324,2,  33.6271,2,  33.7962,2,   141.87,2,   143.72,2,   99.235,   0.0307,2,    0.008,2,  -999.00,9,    2.355,1,    0.000,2,    83.71,2,     0.13,    35.83,2,     0.05,     0.02,2,     0.01,     2.69,2,     0.01,     0.02,2,     0.01,    3.477,2,    1.917,2,    0.268,2,    1.710,2,   2273.2,2,   2285.6,2,   -999.0,9,   7.3645,       25,2, -999.000,9,    44.30,2, -999.000,9, -999.000,   -999.0,9,   -999.0, -999.000,9, -999.000, -999.000,9, -999.000,   -999.0,9,   -999.0, -999.000,9, -999.000,9, -999.000,9
  49NZ20140717,   P01,    43,  1,     29, X12J29,2,20140720,0148, 42.1804, 146.0813, 5040,    430.9,2,   3.2925,2,   3.29207,2,  33.8936,2,  33.8950,2,  34.0639,2,    53.42,2,    53.30,2,   99.565,   0.0175,2,    0.009,2,  -999.00,9,    2.534,1,    0.000,2,   101.80,2,     0.41,    42.70,2,     0.05,     0.01,2,     0.01,     3.06,2,     0.01,     0.02,2,     0.01,    2.068,2,    1.091,2,    0.149,2,    0.720,2,   2325.1,2,   2308.2,2,   -999.0,9,   7.2676,       25,2, -999.000,9,    41.73,2, -999.000,9, -999.000,   -999.0,9,   -999.0, -999.000,9, -999.000, -999.000,9, -999.000,   -999.0,9,   -999.0, -999.000,9, -999.000,9, -999.000,9
  49NZ20140717,   P01,    43,  1,     28, X12J28,2,20140720,0148, 42.1804, 146.0813, 5040,    532.9,2,   3.4895,2,   3.48885,2,  34.0455,2,  34.0436,2,  34.2130,2,    24.89,2,    25.58,2,   99.696,   0.0122,2,    0.010,2,  -999.00,9,    2.640,1,    0.000,2,   113.26,2,     0.14,    44.34,2,     0.06,     0.01,2,     0.01,     3.15,2,     0.01,     0.02,2,     0.01,    1.325,2,    0.688,2,    0.093,2,    0.410,2,   2347.2,2,   2322.2,2,   -999.0,9,   7.2516,       25,2, -999.000,9,    40.83,2, -999.000,9, -999.000,   -999.0,9,   -999.0, -999.000,9, -999.000, -999.000,9, -999.000,   -999.0,9,   -999.0, -999.000,9, -999.000,9, -999.000,9
  49NZ20140717,   P01,    43,  1,     27, X12J27,2,20140720,0148, 42.1804, 146.0813, 5040,    630.0,2,   3.1555,2,   3.15415,2,  34.1249,2,  34.1222,2,  34.2941,2,    37.51,2,    38.11,2,   99.595,   0.0162,2,    0.009,2,  -999.00,9,    2.754,1,    0.000,2,   122.50,2,     0.15,    42.78,2,     0.05,     0.01,2,     0.01,     3.07,2,     0.01,  -999.00,9,  -999.00,    1.133,2,    0.600,2,    0.082,2,    0.360,2,   2350.2,2,   2339.4,2,   -999.0,9,   7.2885,       25,2, -999.000,9,    40.51,2, -999.000,9, -999.000,   -999.0,9,   -999.0, -999.000,9, -999.000, -999.000,9, -999.000,   -999.0,9,   -999.0, -999.000,9, -999.000,9, -999.000,9
  49NZ20140717,   P01,    43,  1,     26, X12J26,2,20140720,0148, 42.1804, 146.0813, 5040,    730.4,2,   3.0635,2,   3.06319,2,  34.1967,2,  34.1957,2,  34.3686,2,    27.20,2,    27.20,2,   99.653,   0.0139,2,    0.008,2,  -999.00,9,    2.763,1,    0.000,2,   131.16,2,     0.16,    43.49,2,     0.05,     0.01,2,     0.01,     3.12,2,     0.01,  -999.00,9,  -999.00,    0.801,2,    0.431,2,    0.055,2,    0.260,2,   2361.9,6,   2348.2,2,   -999.0,9,   7.2837,       25,2, -999.000,9,    38.69,2, -999.000,9, -999.000,   -999.0,9,   -999.0, -999.000,9, -999.000, -999.000,9, -999.000,   -999.0,9,   -999.0, -999.000,9, -999.000,9, -999.000,9
  49NZ20140717,   P01,    43,  1,     25, X12J25,2,20140720,0148, 42.1804, 146.0813, 5040,    831.2,2,   2.9874,2,   2.98726,2,  34.2559,2,  34.2554,2,  34.4293,2,    25.29,2,    25.33,2,   99.666,   0.0134,2,    0.008,2,  -999.00,9,    2.824,1,    0.000,2,   137.18,2,     0.16,    43.62,2,     0.05,     0.01,2,     0.01,     3.13,2,     0.01,  -999.00,9,  -999.00, -999.000,9, -999.000,9, -999.000,9, -999.000,9,   2372.1,2,   2359.5,2,   -999.0,9,   7.2935,       25,2, -999.000,9,    38.76,2, -999.000,9, -999.000,   -999.0,9,   -999.0, -999.000,9, -999.000, -999.000,9, -999.000,   -999.0,9,   -999.0, -999.000,9, -999.000,9, -999.000,9
  49NZ20140717,   P01,    43,  1,     24, X12J24,2,20140720,0148, 42.1804, 146.0813, 5040,    930.4,2,   2.8181,2,   2.81796,2,  34.3221,2,  34.3215,2,  34.4978,2,    26.97,2,    26.92,2,   99.739,   0.0105,2,    0.006,2,  -999.00,9,    2.726,1,    0.000,2,   144.63,2,     0.16,    43.51,2,     0.05,     0.01,2,     0.01,     3.12,2,     0.01,  -999.00,9,  -999.00,    0.420,2,    0.236,2,    0.025,2,    0.050,2,   2377.0,2,   2370.5,2,   -999.0,9,   7.3050,       25,2, -999.000,9,    40.21,2, -999.000,9, -999.000,   -999.0,9,   -999.0, -999.000,9, -999.000, -999.000,9, -999.000,   -999.0,9,   -999.0, -999.000,9, -999.000,9, -999.000,9
  49NZ20140717,   P01,    43,  1,     23, X12J23,2,20140720,0148, 42.1804, 146.0813, 5040,   1070.9,2,   2.7008,2,   2.70034,2,  34.3732,2,  34.3726,2,  34.5499,2,    25.88,2,    26.16,2,   99.864,   0.0054,2,    0.006,2,  -999.00,9,    2.791,1,    0.000,2,   150.50,2,     0.17,    43.64,2,     0.05,     0.00,2,     0.01,     3.12,2,     0.01,     0.02,2,     0.01,    0.274,2,    0.156,2,    0.016,2,    0.020,2,   2382.6,2,   2375.3,2,   -999.0,9,   7.3118,       25,2, -999.000,9,    40.69,2, -999.000,9, -999.000,   -999.0,9,   -999.0, -999.000,9, -999.000, -999.000,9, -999.000,   -999.0,9,   -999.0, -999.000,9, -999.000,9, -999.000,9
  49NZ20140717,   P01,    43,  1,     22, X12J22,2,20140720,0148, 42.1804, 146.0813, 5040,   1270.5,2,   2.4716,2,   2.47132,2,  34.4360,2,  34.4355,2,  34.6146,2,    34.55,2,    34.40,2,   99.894,   0.0042,2,    0.004,2,  -999.00,9,    2.777,1,    0.000,2,   157.18,2,     0.17,    43.14,2,     0.05,     0.00,2,     0.01,     3.09,2,     0.01,  -999.00,9,  -999.00,    0.187,2,    0.109,2,    0.010,2,    0.020,2,   2383.8,2,   2387.3,6,   -999.0,9,   7.3390,       25,2, -999.000,9,    37.05,2, -999.000,9, -999.000,   -999.0,9,   -999.0, -999.000,9, -999.000, -999.000,9, -999.000,   -999.0,9,   -999.0, -999.000,9, -999.000,9, -999.000,9
  49NZ20140717,   P01,    43,  1,     21, X12J21,2,20140720,0148, 42.1804, 146.0813, 5040,   1470.7,2,   2.3183,2,   2.31813,2,  34.4843,2,  34.4838,2,  34.6647,2,    43.90,2,    43.84,2,   99.894,   0.0042,2,    0.006,2,  -999.00,9,    2.771,1,    0.000,2,   160.21,2,     0.17,    42.66,2,     0.05,     0.00,2,     0.01,     3.05,2,     0.01,     0.03,2,     0.01,    0.124,2,    0.073,2,    0.006,2,    0.000,2,   2383.4,2,   2393.7,2,   -999.0,9,   7.3638,       25,2, -999.000,9,    37.95,2, -999.000,9, -999.000,   -999.0,9,   -999.0, -999.000,9, -999.000, -999.000,9, -999.000,   -999.0,9,   -999.0, -999.000,9, -999.000,9, -999.000,9
  49NZ20140717,   P01,    43,  1,     20, X12J20,2,20140720,0148, 42.1804, 146.0813, 5040,   1670.3,2,   2.1994,2,   2.19925,2,  34.5233,2,  34.5230,2,  34.7016,2,    51.35,2,    51.35,2,   99.877,   0.0049,2,    0.003,2,  -999.00,9,    2.703,1,    0.000,2,   162.31,2,     0.18,    42.28,2,     0.05,     0.00,2,     0.01,     3.02,2,     0.01,  -999.00,9,  -999.00,    0.073,2,    0.042,2,    0.005,2,    0.000,2,   2382.3,2,   2401.2,2,   -999.0,9,   7.3825,       25,6, -999.000,9,    36.41,2, -999.000,9, -999.000,   -999.0,9,   -999.0, -999.000,9, -999.000, -999.000,9, -999.000,   -999.0,9,   -999.0, -999.000,9, -999.000,9, -999.000,9
  49NZ20140717,   P01,    43,  1,     19, X12J19,2,20140720,0148, 42.1804, 146.0813, 5040,   1870.7,2,   2.0716,2,   2.07166,2,  34.5611,2,  34.5609,2,  34.7431,2,    61.89,2,    62.21,2,   99.888,   0.0045,2,    0.002,2,  -999.00,9,    2.518,1,    0.000,2,   163.36,2,     0.18,    41.75,2,     0.05,     0.00,2,     0.01,     2.97,2,     0.01,  -999.00,9,  -999.00,    0.030,2,    0.020,2,    0.001,2,    0.000,2,   2378.8,2,   2404.1,2,   -999.0,9,   7.4067,       25,2, -999.000,9,    37.03,2, -999.000,9, -999.000,   -999.0,9,   -999.0, -999.000,9, -999.000, -999.000,9, -999.000,   -999.0,9,   -999.0, -999.000,9, -999.000,9, -999.000,9
  49NZ20140717,   P01,    43,  1,     18, X12J18,2,20140720,0148, 42.1804, 146.0813, 5040,   2069.9,2,   1.9479,2,   1.94786,2,  34.5878,2,  34.5879,2,  34.7708,2,    73.04,2,    73.13,2,   99.862,   0.0055,2,    0.002,2,  -999.00,9,    2.483,1,    0.000,2,   164.03,2,     0.18,    41.12,2,     0.05,     0.00,2,     0.01,     2.91,2,     0.01,     0.00,2,     0.01,    0.011,2,    0.007,2,    0.000,2,    0.030,2,   2375.5,2,   2410.9,2,   -999.0,9,   7.4302,       25,2, -999.000,9,    37.19,2, -999.000,9, -999.000,   -999.0,9,   -999.0, -999.000,9, -999.000, -999.000,9, -999.000,   -999.0,9,   -999.0, -999.000,9, -999.000,9, -999.000,9
  49NZ20140717,   P01,    43,  1,     17, X12J17,2,20140720,0148, 42.1804, 146.0813, 5040,   2270.3,2,   1.8310,2,   1.83091,2,  34.6147,2,  34.6148,2,  34.7965,2,    88.28,2,    88.35,2,   99.847,   0.0061,2,    0.001,2,  -999.00,9,    2.410,1,    0.000,2,   162.00,2,     0.37,    40.21,2,     0.05,     0.00,2,     0.01,     2.84,2,     0.01,  -999.00,9,  -999.00,    0.000,2,    0.000,2,    0.000,2,    0.050,2,   2365.8,2,   2415.2,2,   -999.0,9,   7.4620,       25,2, -999.000,9,    37.74,2, -999.000,9, -999.000,   -999.0,9,   -999.0, -999.000,9, -999.000, -999.000,9, -999.000,   -999.0,9,   -999.0, -999.000,9, -999.000,9, -999.000,9
  49NZ20140717,   P01,    43,  1,     16, X12J16,2,20140720,0148, 42.1804, 146.0813, 5040,   2470.2,2,   1.7095,2,   1.70932,2,  34.6336,2,  34.6334,2,  34.8170,2,   101.92,2,   101.94,2,   99.899,   0.0041,2,    0.000,2,  -999.00,9,    2.370,1,    0.000,2,   161.32,2,     0.17,    39.41,2,     0.05,     0.00,2,     0.01,     2.78,2,     0.01,     0.01,2,     0.01,    0.000,2,    0.000,2,    0.000,2,    0.130,2,   2358.4,6,   2416.6,2,   -999.0,9,   7.4870,       25,2, -999.000,9,    37.61,2, -999.000,9, -999.000,   -999.0,9,   -999.0, -999.000,9, -999.000, -999.000,9, -999.000,   -999.0,9,   -999.0, -999.000,9, -999.000,9, -999.000,9
  49NZ20140717,   P01,    43,  1,     15, X12J15,2,20140720,0148, 42.1804, 146.0813, 5040,   2670.2,2,   1.6382,2,   1.63814,2,  34.6463,2,  34.6459,2,  34.8295,2,   112.18,2,   112.16,2,   99.920,   0.0032,2,   -0.001,2,  -999.00,9,    2.288,1,    0.000,2,   159.67,2,     0.17,    38.71,2,     0.05,     0.00,2,     0.01,     2.73,2,     0.01,  -999.00,9,  -999.00,    0.000,2,    0.000,2,    0.000,2,    0.060,2,   2352.6,2,   2418.0,2,   -999.0,9,   7.5081,       25,2, -999.000,9,    38.89,2, -999.000,9, -999.000,   -999.0,9,   -999.0, -999.000,9, -999.000, -999.000,9, -999.000,   -999.0,9,   -999.0, -999.000,9, -999.000,9, -999.000,9
  49NZ20140717,   P01,    43,  1,     14, X12J14,2,20140720,0148, 42.1804, 146.0813, 5040,   2870.5,2,   1.5784,2,   1.57822,2,  34.6564,2,  34.6561,2,  34.8374,2,   121.38,2,   121.24,2,   99.933,   0.0027,2,   -0.002,2,  -999.00,9,    2.237,1,    0.000,2,   157.90,2,     0.17,    38.04,2,     0.05,     0.00,2,     0.01,     2.67,2,     0.01,  -999.00,9,  -999.00,    0.000,2,    0.000,2,    0.000,2,    0.020,2,   2346.8,2,   2418.9,2,   -999.0,9,   7.5240,       25,6, -999.000,9,    35.18,2, -999.000,9, -999.000,   -999.0,9,   -999.0, -999.000,9, -999.000, -999.000,9, -999.000,   -999.0,9,   -999.0, -999.000,9, -999.000,9, -999.000,9
  49NZ20140717,   P01,    43,  1,     13, X12113,2,20140720,0148, 42.1804, 146.0813, 5040,   3080.0,2,   1.5372,2,   1.53699,2,  34.6637,2,  34.6637,2,  34.8427,2,   128.66,2,   128.47,2,   99.952,   0.0019,2,   -0.002,2,  -999.00,9,    2.159,1,    0.000,2,   156.44,2,     0.17,    37.62,2,     0.05,     0.00,2,     0.01,     2.64,2,     0.01,    -0.01,2,     0.01,    0.000,2,    0.000,2,    0.000,2,    0.000,2,   2342.8,2,   2419.1,2,   -999.0,9,   7.5358,       25,2, -999.000,9,    36.96,2, -999.000,9, -999.000,   -999.0,9,   -999.0, -999.000,9, -999.000, -999.000,9, -999.000,   -999.0,9,   -999.0, -999.000,9, -999.000,9, -999.000,9
  49NZ20140717,   P01,    43,  1,     12, X12J12,2,20140720,0148, 42.1804, 146.0813, 5040,   3329.5,2,   1.5011,2,   1.50106,2,  34.6706,2,  34.6703,2,  34.8506,2,   135.77,2,   135.86,2,   99.899,   0.0041,2,   -0.002,2,  -999.00,9,    2.157,1,    0.000,2,   155.02,2,     0.17,    37.12,2,     0.05,     0.00,2,     0.01,     2.60,2,     0.01,  -999.00,9,  -999.00,    0.000,2,    0.000,2,    0.000,2,    0.000,2,   2336.6,2,   2415.8,6,   -999.0,9,   7.5485,       25,2, -999.000,9,    37.99,2, -999.000,9, -999.000,   -999.0,9,   -999.0, -999.000,9, -999.000, -999.000,9, -999.000,   -999.0,9,   -999.0, -999.000,9, -999.000,9, -999.000,9
  49NZ20140717,   P01,    43,  1,     11, X12J11,2,20140720,0148, 42.1804, 146.0813, 5040,   3579.4,2,   1.4761,2,   1.47613,2,  34.6764,2,  34.6764,2,  34.8548,2,   142.35,2,   142.19,2,   99.946,   0.0022,2,   -0.003,2,  -999.00,9,    1.576,4,    0.000,2,   153.06,2,     0.17,    36.75,2,     0.05,     0.00,2,     0.01,     2.57,2,     0.01,     0.00,2,     0.01,    0.000,2,    0.000,2,    0.000,2,    0.000,2,   2332.3,2,   2417.2,2,   -999.0,9,   7.5591,       25,2, -999.000,9,    38.51,2, -999.000,9, -999.000,   -999.0,9,   -999.0, -999.000,9, -999.000, -999.000,9, -999.000,   -999.0,9,   -999.0, -999.000,9, -999.000,9, -999.000,9
  49NZ20140717,   P01,    43,  1,     10, X12J10,2,20140720,0148, 42.1804, 146.0813, 5040,   3830.8,2,   1.4560,2,   1.45584,2,  34.6811,2,  34.6815,2,  34.8625,2,   148.09,2,   148.11,2,   99.896,   0.0041,2,   -0.003,2,  -999.00,9,    1.122,4,    0.000,2,   151.47,2,     0.17,    36.32,2,     0.05,     0.00,2,     0.01,     2.54,2,     0.01,  -999.00,9,  -999.00,    0.000,2,    0.000,2,    0.000,2,    0.000,2,   2327.9,2,   2417.9,2,   -999.0,9,   7.5689,       25,2, -999.000,9,    38.05,2, -999.000,9, -999.000,   -999.0,9,   -999.0, -999.000,9, -999.000, -999.000,9, -999.000,   -999.0,9,   -999.0, -999.000,9, -999.000,9, -999.000,9