BOTTLE,20230904JAMSTECRIGC
EXPOCODE,SECT,STNNBR,CASTNO,SAMPNO,BTLNBR,BTLNBR_FLAG_W,DATE,TIME,LATITUDE,LONGITUDE,DEPTH,CTDPRS,CTDPRS_FLAG_W,CTDTMP,CTDTMP_FLAG_W,SBE35,SBE35_FLAG_W,CTDSAL,CTDSAL_FLAG_W,SALNTY,SALNTY_FLAG_W,DNSSAL,DNSSAL_FLAG_W,CTDOXY,CTDOXY_FLAG_W,OXYGEN,OXYGEN_FLAG_W,XMISS,XMISSCP,XMISS_FLAG_W,FLUOR,FLUOR_FLAG_W,CHLORA,CHLORA_FLAG_W,CDOM,CDOM_FLAG_W,PAR,PAR_FLAG_W,SILCAT,SILCAT_FLAG_W,SILUNC,NITRAT,NITRAT_FLAG_W,NRAUNC,NITRIT,NITRIT_FLAG_W,NRIUNC,PHSPHT,PHSPHT_FLAG_W,PHPUNC,AMMONIA,AMMONIA_FLAG_W,NH4UNC,CFC-11,CFC-11_FLAG_W,CFC-12,CFC-12_FLAG_W,CFC113,CFC113_FLAG_W,SF6,SF6_FLAG_W,TCARBN,TCARBN_FLAG_W,ALKALI,ALKALI_FLAG_W,ALKALI_POT,ALKALI_POT_FLAG_W,PH_TOT,PH_TMP,PH_TOT_FLAG_W,CALCIUM,CALCIUM_FLAG_W,DOC,DOC_FLAG_W,DELC13,DELC13_FLAG_W,C13ERR,DELC14,DELC14_FLAG_W,C14ERR,CS-134,CS-134_FLAG_W,CS134ER,CS-137,CS-137_FLAG_W,CS137ER,I-129,I-129_FLAG_W,I-129ER,CDOM-325,CDOM-325_FLAG_W,CDOM-370,CDOM-370_FLAG_W,CDOM-443,CDOM-443_FLAG_W
,,,,,,,,UTC,DEG,DEG,METERS,DBAR,,ITS-90,,ITS-90,,PSS-78,,PSS-78,,G/KG,,UMOL/KG,,UMOL/KG,,%TRANS,/METER,,MG/CUM,,MG/CUM,,MG/CUM,,UE/SQM/S,,UMOL/KG,,UMOL/KG,UMOL/KG,,UMOL/KG,UMOL/KG,,UMOL/KG,UMOL/KG,,UMOL/KG,UMOL/KG,,UMOL/KG,PMOL/KG,,PMOL/KG,,PMOL/KG,,FMOL/KG,,UMOL/KG,,UMOL/KG,,UMOL/KG,,,DEG C,,MMOL/KG,,UMOL/KG,,/MILLE,,/MILLE,/MILLE,,/MILLE,MBQ/KG,,MBQ/KG,MBQ/KG,,MBQ/KG,,,,/METER,,/METER,,/METER,
  49NZ20140717,   P01,    80,  1,      0,   -999,9,20140731,0134, 46.9959, 167.8320, 6246,   -999.0,9,-999.0000,9,-999.00000,9,-999.0000,9,  32.8329,2,-999.0000,9,  -999.00,9,  -999.00,9, -999.000,-999.0000,9, -999.000,9,  -999.00,9, -999.000,9, -999.000,9,    24.87,2,     0.09,    11.37,2,     0.02,     0.13,2,     0.01,     1.18,2,     0.01,  -999.00,9,  -999.00, -999.000,9, -999.000,9, -999.000,9, -999.000,9,   -999.0,9,   -999.0,9,   -999.0,9,-999.0000,     -999,9, -999.000,9,  -999.00,9, -999.000,9, -999.000,   -999.0,9,   -999.0, -999.000,9, -999.000, -999.000,9, -999.000,   -999.0,9,   -999.0, -999.000,9, -999.000,9, -999.000,9
  49NZ20140717,   P01,    80,  1,     36, X12J36,2,20140731,0134, 46.9959, 167.8320, 6246,     10.0,2,  12.1125,2,  12.11357,2,  32.8325,2,  32.8331,2,-999.0000,9,   276.78,2,   278.95,2,   94.598,   0.2221,2,    0.379,2,  -999.00,9,    0.047,1,  193.294,2,    24.91,2,     0.09,    11.37,2,     0.02,     0.12,2,     0.01,     1.18,2,     0.01,  -999.00,9,  -999.00,    3.491,2,    1.963,2,    0.408,2, -999.000,9,   -999.0,9,   -999.0,9,   -999.0,9,-999.0000,     -999,9, -999.000,9,  -999.00,9, -999.000,9, -999.000,   -999.0,9,   -999.0, -999.000,9, -999.000, -999.000,9, -999.000,   -999.0,9,   -999.0, -999.000,9, -999.000,9, -999.000,9
  49NZ20140717,   P01,    80,  1,     35, X12J35,2,20140731,0134, 46.9959, 167.8320, 6246,     50.3,2,   3.3498,2,   3.34967,2,  32.9174,2,  32.9197,2,-999.0000,9,   324.07,2,   325.92,2,   98.035,   0.0794,2,    0.331,2,  -999.00,9,    0.839,1,    4.352,2,    30.38,2,     0.09,    19.13,2,     0.03,     0.47,2,     0.01,     1.69,2,     0.01,  -999.00,9,  -999.00,    5.517,2,    2.905,2,    0.529,2, -999.000,9,   -999.0,9,   -999.0,9,   -999.0,9,-999.0000,     -999,9, -999.000,9,  -999.00,9, -999.000,9, -999.000,   -999.0,9,   -999.0, -999.000,9, -999.000, -999.000,9, -999.000,   -999.0,9,   -999.0, -999.000,9, -999.000,9, -999.000,9
  49NZ20140717,   P01,    80,  1,     34, X12J34,2,20140731,0134, 46.9959, 167.8320, 6246,    100.9,2,   1.8780,2,   1.87479,2,  32.9835,2,  32.9876,2,-999.0000,9,   318.47,2,   319.26,2,   99.429,   0.0229,2,    0.081,2,  -999.00,9,    1.116,1,    0.218,2,    37.60,2,     0.10,    23.94,2,     0.04,     0.01,2,     0.01,     1.91,2,     0.01,  -999.00,9,  -999.00,    5.704,2,    2.994,2,    0.568,2, -999.000,9,   -999.0,9,   -999.0,9,   -999.0,9,-999.0000,     -999,9, -999.000,9,  -999.00,9, -999.000,9, -999.000,   -999.0,9,   -999.0, -999.000,9, -999.000, -999.000,9, -999.000,   -999.0,9,   -999.0, -999.000,9, -999.000,9, -999.000,9
  49NZ20140717,   P01,    80,  1,     33, X12J33,2,20140731,0134, 46.9959, 167.8320, 6246,    150.4,2,   2.7065,2,   2.70904,2,  33.4675,2,  33.4786,2,-999.0000,9,   183.74,2,   178.03,2,   99.521,   0.0192,2,    0.016,2,  -999.00,9,    2.107,1,    0.000,2,    67.81,2,     0.12,    34.35,2,     0.05,     0.01,2,     0.01,     2.53,2,     0.01,  -999.00,9,  -999.00,    4.103,2,    2.150,2,    0.353,2, -999.000,9,   -999.0,9,   -999.0,9,   -999.0,9,-999.0000,     -999,9, -999.000,9,  -999.00,9, -999.000,9, -999.000,   -999.0,9,   -999.0, -999.000,9, -999.000, -999.000,9, -999.000,   -999.0,9,   -999.0, -999.000,9, -999.000,9, -999.000,9
  49NZ20140717,   P01,    80,  1,     32, X12J32,2,20140731,0134, 46.9959, 167.8320, 6246,    200.9,2,   3.0517,2,   3.05155,2,  33.6868,2,  33.6871,2,-999.0000,9,   103.62,2,   103.75,2,   99.638,   0.0145,2,    0.013,2,  -999.00,9,    2.485,1,    0.000,2,    83.91,2,     0.13,    39.68,2,     0.05,     0.01,2,     0.01,     2.87,2,     0.01,  -999.00,9,  -999.00,    3.123,2,    1.611,2,    0.255,2, -999.000,9,   -999.0,9,   -999.0,9,   -999.0,9,-999.0000,     -999,9, -999.000,9,  -999.00,9, -999.000,9, -999.000,   -999.0,9,   -999.0, -999.000,9, -999.000, -999.000,9, -999.000,   -999.0,9,   -999.0, -999.000,9, -999.000,9, -999.000,9
  49NZ20140717,   P01,    80,  1,     31, X12J31,2,20140731,0134, 46.9959, 167.8320, 6246,    249.8,2,   3.2707,2,   3.26834,2,  33.8111,2,  33.8105,2,-999.0000,9,    66.61,2,    66.56,2,   99.729,   0.0109,2,    0.014,2,  -999.00,9,    2.747,1,    0.000,2,    93.52,2,     0.13,    42.15,2,     0.05,     0.01,2,     0.01,     3.02,2,     0.01,  -999.00,9,  -999.00,    2.545,2,    1.300,2,    0.196,2, -999.000,9,   -999.0,9,   -999.0,9,   -999.0,9,-999.0000,     -999,9, -999.000,9,  -999.00,9, -999.000,9, -999.000,   -999.0,9,   -999.0, -999.000,9, -999.000, -999.000,9, -999.000,   -999.0,9,   -999.0, -999.000,9, -999.000,9, -999.000,9
  49NZ20140717,   P01,    80,  1,     30, X12J30,2,20140731,0134, 46.9959, 167.8320, 6246,    279.2,2,   3.3958,2,   3.39550,2,  33.8777,2,  33.8756,2,-999.0000,9,    49.29,2,    48.67,2,   99.718,   0.0113,2,    0.014,2,  -999.00,9,    2.790,1,    0.000,2,    98.31,2,     0.14,    43.18,2,     0.05,     0.01,2,     0.01,     3.08,2,     0.01,  -999.00,9,  -999.00,    2.196,2,    1.107,2,    0.169,2, -999.000,9,   -999.0,9,   -999.0,9,   -999.0,9,-999.0000,     -999,9, -999.000,9,  -999.00,9, -999.000,9, -999.000,   -999.0,9,   -999.0, -999.000,9, -999.000, -999.000,9, -999.000,   -999.0,9,   -999.0, -999.000,9, -999.000,9, -999.000,9
  49NZ20140717,   P01,    80,  1,     29, X12J29,2,20140731,0134, 46.9959, 167.8320, 6246,    370.2,2,   3.6587,2,   3.65872,2,  34.0516,2,  34.0509,2,-999.0000,9,    17.55,2,    17.52,2,   99.794,   0.0083,2,    0.017,2,  -999.00,9,    2.907,1,    0.000,2,   111.81,2,     0.14,    44.76,2,     0.06,     0.01,2,     0.01,     3.18,2,     0.01,  -999.00,9,  -999.00,    1.244,2,    0.599,2,    0.080,2, -999.000,9,   -999.0,9,   -999.0,9,   -999.0,9,-999.0000,     -999,9, -999.000,9,  -999.00,9, -999.000,9, -999.000,   -999.0,9,   -999.0, -999.000,9, -999.000, -999.000,9, -999.000,   -999.0,9,   -999.0, -999.000,9, -999.000,9, -999.000,9
  49NZ20140717,   P01,    80,  1,     28, X12J28,2,20140731,0134, 46.9959, 167.8320, 6246,    469.9,2,   3.5317,2,   3.53142,2,  34.1519,2,  34.1502,2,-999.0000,9,    16.06,2,    15.73,2,   99.861,   0.0056,2,    0.015,2,  -999.00,9,    2.964,1,    0.000,2,   119.89,2,     0.15,    44.42,2,     0.06,     0.01,2,     0.01,     3.15,2,     0.01,  -999.00,9,  -999.00,    0.824,2,    0.386,2,    0.053,2, -999.000,9,   -999.0,9,   -999.0,9,   -999.0,9,-999.0000,     -999,9, -999.000,9,  -999.00,9, -999.000,9, -999.000,   -999.0,9,   -999.0, -999.000,9, -999.000, -999.000,9, -999.000,   -999.0,9,   -999.0, -999.000,9, -999.000,9, -999.000,9
  49NZ20140717,   P01,    80,  1,     27, X12J27,2,20140731,0134, 46.9959, 167.8320, 6246,    569.2,2,   3.2974,2,   3.29725,2,  34.2202,2,  34.2201,2,-999.0000,9,    18.07,2,    17.72,2,   99.882,   0.0047,2,    0.014,2,  -999.00,9,    3.025,1,    0.000,2,   129.30,2,     0.15,    44.13,2,     0.06,     0.01,2,     0.01,     3.14,2,     0.01,  -999.00,9,  -999.00,    0.602,2,    0.280,2,    0.035,2, -999.000,9,   -999.0,9,   -999.0,9,   -999.0,9,-999.0000,     -999,9, -999.000,9,  -999.00,9, -999.000,9, -999.000,   -999.0,9,   -999.0, -999.000,9, -999.000, -999.000,9, -999.000,   -999.0,9,   -999.0, -999.000,9, -999.000,9, -999.000,9
  49NZ20140717,   P01,    80,  1,     26, X12J26,2,20140731,0134, 46.9959, 167.8320, 6246,    669.2,2,   3.1265,2,   3.12719,2,  34.2759,2,  34.2747,2,-999.0000,9,    19.04,2,    18.63,2,   99.880,   0.0048,2,    0.013,2,  -999.00,9,    3.067,1,    0.000,2,   136.17,2,     0.16,    44.01,2,     0.06,     0.01,2,     0.01,     3.14,2,     0.01,  -999.00,9,  -999.00,    0.443,2,    0.203,2,    0.028,2, -999.000,9,   -999.0,9,   -999.0,9,   -999.0,9,-999.0000,     -999,9, -999.000,9,  -999.00,9, -999.000,9, -999.000,   -999.0,9,   -999.0, -999.000,9, -999.000, -999.000,9, -999.000,   -999.0,9,   -999.0, -999.000,9, -999.000,9, -999.000,9
  49NZ20140717,   P01,    80,  1,     25, X12J25,2,20140731,0134, 46.9959, 167.8320, 6246,    770.2,2,   2.9995,2,   2.99947,2,  34.3196,2,  34.3190,2,-999.0000,9,    18.89,2,    18.59,2,   99.895,   0.0042,2,    0.012,2,  -999.00,9,    3.113,1,    0.000,2,   141.18,2,     0.16,    43.97,2,     0.06,     0.01,2,     0.01,     3.14,2,     0.01,  -999.00,9,  -999.00,    0.321,2,    0.143,2,    0.013,2, -999.000,9,   -999.0,9,   -999.0,9,   -999.0,9,-999.0000,     -999,9, -999.000,9,  -999.00,9, -999.000,9, -999.000,   -999.0,9,   -999.0, -999.000,9, -999.000, -999.000,9, -999.000,   -999.0,9,   -999.0, -999.000,9, -999.000,9, -999.000,9
  49NZ20140717,   P01,    80,  1,     24, X12J24,2,20140731,0134, 46.9959, 167.8320, 6246,    870.4,2,   2.8687,2,   2.86868,2,  34.3616,2,  34.3615,2,-999.0000,9,    17.59,2,    16.84,2,   99.902,   0.0039,2,    0.011,2,  -999.00,9,    3.108,1,    0.000,2,   146.77,2,     0.17,    44.10,2,     0.06,     0.00,2,     0.01,     3.15,2,     0.01,  -999.00,9,  -999.00,    0.203,2,    0.089,2,    0.003,2, -999.000,9,   -999.0,9,   -999.0,9,   -999.0,9,-999.0000,     -999,9, -999.000,9,  -999.00,9, -999.000,9, -999.000,   -999.0,9,   -999.0, -999.000,9, -999.000, -999.000,9, -999.000,   -999.0,9,   -999.0, -999.000,9, -999.000,9, -999.000,9
  49NZ20140717,   P01,    80,  1,     23, X12J23,2,20140731,0134, 46.9959, 167.8320, 6246,    969.6,2,   2.7262,2,   2.72708,2,  34.3971,2,  34.3968,2,-999.0000,9,    19.48,2,    19.39,2,   99.876,   0.0050,2,    0.011,2,  -999.00,9,    3.124,1,    0.000,2,   151.54,2,     0.17,    44.04,2,     0.06,     0.01,2,     0.01,     3.14,2,     0.01,  -999.00,9,  -999.00,    0.144,2,    0.066,2,    0.000,2, -999.000,9,   -999.0,9,   -999.0,9,   -999.0,9,-999.0000,     -999,9, -999.000,9,  -999.00,9, -999.000,9, -999.000,   -999.0,9,   -999.0, -999.000,9, -999.000, -999.000,9, -999.000,   -999.0,9,   -999.0, -999.000,9, -999.000,9, -999.000,9
  49NZ20140717,   P01,    80,  1,     22, X12J22,2,20140731,0134, 46.9959, 167.8320, 6246,   1129.8,2,   2.5095,2,   2.50938,2,  34.4456,2,  34.4455,2,-999.0000,9,    25.74,2,    25.32,2,   99.930,   0.0028,2,    0.010,2,  -999.00,9,    3.080,1,    0.000,2,   158.19,2,     0.17,    43.72,2,     0.06,     0.00,2,     0.01,     3.12,2,     0.01,  -999.00,9,  -999.00,    0.107,2,    0.049,2,    0.000,2, -999.000,9,   -999.0,9,   -999.0,9,   -999.0,9,-999.0000,     -999,9, -999.000,9,  -999.00,9, -999.000,9, -999.000,   -999.0,9,   -999.0, -999.000,9, -999.000, -999.000,9, -999.000,   -999.0,9,   -999.0, -999.000,9, -999.000,9, -999.000,9
  49NZ20140717,   P01,    80,  1,     21, X12J21,2,20140731,0134, 46.9959, 167.8320, 6246,   1329.2,2,   2.3115,2,   2.31183,2,  34.4912,2,  34.4919,2,-999.0000,9,    33.82,2,    33.61,2,   99.904,   0.0038,2,    0.009,2,  -999.00,9,    3.062,1,    0.000,2,   163.74,2,     0.18,    43.30,2,     0.05,     0.01,2,     0.01,     3.09,2,     0.01,  -999.00,9,  -999.00,    0.061,2,    0.030,2,    0.000,2, -999.000,9,   -999.0,9,   -999.0,9,   -999.0,9,-999.0000,     -999,9, -999.000,9,  -999.00,9, -999.000,9, -999.000,   -999.0,9,   -999.0, -999.000,9, -999.000, -999.000,9, -999.000,   -999.0,9,   -999.0, -999.000,9, -999.000,9, -999.000,9
  49NZ20140717,   P01,    80,  1,     20, X12J20,2,20140731,0134, 46.9959, 167.8320, 6246,   1528.7,2,   2.1397,2,   2.13928,2,  34.5359,2,  34.5344,2,-999.0000,9,    46.65,2,    46.30,2,   99.904,   0.0038,2,    0.008,2,  -999.00,9,    3.016,1,    0.000,2,   165.93,2,     0.18,    42.54,2,     0.05,     0.00,2,     0.01,     3.03,2,     0.01,  -999.00,9,  -999.00,    0.034,2,    0.016,2,    0.000,2, -999.000,9,   -999.0,9,   -999.0,9,   -999.0,9,-999.0000,     -999,9, -999.000,9,  -999.00,9, -999.000,9, -999.000,   -999.0,9,   -999.0, -999.000,9, -999.000, -999.000,9, -999.000,   -999.0,9,   -999.0, -999.000,9, -999.000,9, -999.000,9
  49NZ20140717,   P01,    80,  1,     19, X12J19,2,20140731,0134, 46.9959, 167.8320, 6246,   1729.7,2,   2.0131,2,   2.01267,2,  34.5671,2,  34.5670,2,-999.0000,9,    57.74,2,    57.62,2,   99.928,   0.0029,2,    0.007,2,  -999.00,9,    2.964,1,    0.000,2,   167.40,2,     0.18,    41.87,2,     0.05,     0.01,2,     0.01,     2.98,2,     0.01,  -999.00,9,  -999.00,    0.015,2,    0.008,2,    0.000,2, -999.000,9,   -999.0,9,   -999.0,9,   -999.0,9,-999.0000,     -999,9, -999.000,9,  -999.00,9, -999.000,9, -999.000,   -999.0,9,   -999.0, -999.000,9, -999.000, -999.000,9, -999.000,   -999.0,9,   -999.0, -999.000,9, -999.000,9, -999.000,9
  49NZ20140717,   P01,    80,  1,     18, X12J18,2,20140731,0134, 46.9959, 167.8320, 6246,   1931.4,2,   1.8941,2,   1.89385,2,  34.5925,2,  34.5927,2,-999.0000,9,    68.98,2,    69.62,2,   99.934,   0.0026,2,    0.006,2,  -999.00,9,    2.859,1,    0.000,2,   168.34,2,     0.18,    41.20,2,     0.05,     0.00,2,     0.01,     2.92,2,     0.01,  -999.00,9,  -999.00,    0.004,2,    0.002,2,    0.000,2, -999.000,9,   -999.0,9,   -999.0,9,   -999.0,9,-999.0000,     -999,9, -999.000,9,  -999.00,9, -999.000,9, -999.000,   -999.0,9,   -999.0, -999.000,9, -999.000, -999.000,9, -999.000,   -999.0,9,   -999.0, -999.000,9, -999.000,9, -999.000,9
  49NZ20140717,   P01,    80,  1,     17, X12J17,2,20140731,0134, 46.9959, 167.8320, 6246,   2129.8,2,   1.7927,2,   1.79250,2,  34.6145,2,  34.6144,2,-999.0000,9,    83.22,2,    83.31,2,   99.934,   0.0026,2,    0.004,2,  -999.00,9,    2.713,1,    0.000,2,   166.63,2,     0.18,    40.38,2,     0.05,     0.00,2,     0.01,     2.86,2,     0.01,  -999.00,9,  -999.00,    0.000,2,    0.000,2,    0.000,2, -999.000,9,   -999.0,9,   -999.0,9,   -999.0,9,-999.0000,     -999,9, -999.000,9,  -999.00,9, -999.000,9, -999.000,   -999.0,9,   -999.0, -999.000,9, -999.000, -999.000,9, -999.000,   -999.0,9,   -999.0, -999.000,9, -999.000,9, -999.000,9
  49NZ20140717,   P01,    80,  1,     16, X12J16,2,20140731,0134, 46.9959, 167.8320, 6246,   2330.2,2,   1.7079,2,   1.70772,2,  34.6297,2,  34.6299,2,-999.0000,9,    93.62,2,    94.15,2,   99.928,   0.0029,2,    0.004,2,  -999.00,9,    2.662,1,    0.000,2,   166.07,2,     0.18,    39.72,2,     0.05,     0.00,2,     0.01,     2.81,2,     0.01,  -999.00,9,  -999.00,    0.000,2,    0.000,2,    0.000,2, -999.000,9,   -999.0,9,   -999.0,9,   -999.0,9,-999.0000,     -999,9, -999.000,9,  -999.00,9, -999.000,9, -999.000,   -999.0,9,   -999.0, -999.000,9, -999.000, -999.000,9, -999.000,   -999.0,9,   -999.0, -999.000,9, -999.000,9, -999.000,9
  49NZ20140717,   P01,    80,  1,     15, X12J15,2,20140731,0134, 46.9959, 167.8320, 6246,   2530.1,2,   1.6441,2,   1.64443,2,  34.6424,2,  34.6423,2,-999.0000,9,   105.03,2,   105.49,2,   99.975,   0.0010,2,    0.003,2,  -999.00,9,    2.649,1,    0.000,2,   163.51,2,     0.18,    38.99,2,     0.05,     0.00,2,     0.01,     2.75,2,     0.01,  -999.00,9,  -999.00,    0.000,2,    0.000,2,    0.000,2, -999.000,9,   -999.0,9,   -999.0,9,   -999.0,9,-999.0000,     -999,9, -999.000,9,  -999.00,9, -999.000,9, -999.000,   -999.0,9,   -999.0, -999.000,9, -999.000, -999.000,9, -999.000,   -999.0,9,   -999.0, -999.000,9, -999.000,9, -999.000,9
  49NZ20140717,   P01,    80,  1,     14, X12J14,2,20140731,0134, 46.9959, 167.8320, 6246,   2729.8,2,   1.5883,2,   1.58848,2,  34.6528,2,  34.6527,2,-999.0000,9,   114.83,2,   115.26,2,   99.969,   0.0012,2,    0.003,2,  -999.00,9,    2.491,1,    0.000,2,   161.44,2,     0.17,    38.39,2,     0.05,     0.00,2,     0.01,     2.70,2,     0.01,  -999.00,9,  -999.00,    0.000,2,    0.000,2,    0.000,2, -999.000,9,   -999.0,9,   -999.0,9,   -999.0,9,-999.0000,     -999,9, -999.000,9,  -999.00,9, -999.000,9, -999.000,   -999.0,9,   -999.0, -999.000,9, -999.000, -999.000,9, -999.000,   -999.0,9,   -999.0, -999.000,9, -999.000,9, -999.000,9
  49NZ20140717,   P01,    80,  1,     13, X12113,2,20140731,0134, 46.9959, 167.8320, 6246,   2930.3,2,   1.5496,2,   1.54979,2,  34.6603,2,  34.6596,2,-999.0000,9,   122.54,2,   122.69,2,   99.986,   0.0006,2,    0.002,2,  -999.00,9,    2.514,1,    0.000,2,   159.55,2,     0.17,    37.96,2,     0.05,     0.00,2,     0.01,     2.67,2,     0.01,  -999.00,9,  -999.00,    0.000,2,    0.000,2,    0.000,2, -999.000,9,   -999.0,9,   -999.0,9,   -999.0,9,-999.0000,     -999,9, -999.000,9,  -999.00,9, -999.000,9, -999.000,   -999.0,9,   -999.0, -999.000,9, -999.000, -999.000,9, -999.000,   -999.0,9,   -999.0, -999.000,9, -999.000,9, -999.000,9
  49NZ20140717,   P01,    80,  1,     12, X12J12,2,20140731,0134, 46.9959, 167.8320, 6246,   3169.9,2,   1.5121,2,   1.51236,2,  34.6676,2,  34.6673,2,-999.0000,9,   130.57,2,   131.15,2,   99.986,   0.0006,2,    0.001,2,  -999.00,9,    2.468,1,    0.000,2,   157.26,2,     0.17,    37.33,2,     0.05,     0.00,2,     0.01,     2.62,2,     0.01,  -999.00,9,  -999.00,    0.000,2,    0.000,2,    0.000,2, -999.000,9,   -999.0,9,   -999.0,9,   -999.0,9,-999.0000,     -999,9, -999.000,9,  -999.00,9, -999.000,9, -999.000,   -999.0,9,   -999.0, -999.000,9, -999.000, -999.000,9, -999.000,   -999.0,9,   -999.0, -999.000,9, -999.000,9, -999.000,9
  49NZ20140717,   P01,    80,  1,     11, X12J11,2,20140731,0134, 46.9959, 167.8320, 6246,   3419.4,2,   1.4878,2,   1.48748,2,  34.6732,2,  34.6727,2,-999.0000,9,   137.26,2,   137.25,2,   99.986,   0.0006,2,    0.001,2,  -999.00,9,    2.432,1,    0.000,2,   155.71,2,     0.17,    36.93,2,     0.05,     0.00,2,     0.01,     2.59,2,     0.01,  -999.00,9,  -999.00,    0.000,2,    0.000,2,    0.000,2, -999.000,9,   -999.0,9,   -999.0,9,   -999.0,9,-999.0000,     -999,9, -999.000,9,  -999.00,9, -999.000,9, -999.000,   -999.0,9,   -999.0, -999.000,9, -999.000, -999.000,9, -999.000,   -999.0,9,   -999.0, -999.000,9, -999.000,9, -999.000,9
  49NZ20140717,   P01,    80,  1,     10, X12J10,2,20140731,0134, 46.9959, 167.8320, 6246,   3669.9,2,   1.4767,2,   1.47701,2,  34.6774,2,  34.6769,2,-999.0000,9,   142.13,2,   142.12,2,   99.982,   0.0007,2,    0.001,2,  -999.00,9,    2.376,1,    0.000,2,   154.41,2,     0.17,    36.65,2,     0.05,     0.00,2,     0.01,     2.56,2,     0.01,  -999.00,9,  -999.00,    0.000,2,    0.000,2,    0.000,2, -999.000,9,   -999.0,9,   -999.0,9,   -999.0,9,-999.0000,     -999,9, -999.000,9,  -999.00,9, -999.000,9, -999.000,   -999.0,9,   -999.0, -999.000,9, -999.000, -999.000,9, -999.000,   -999.0,9,   -999.0, -999.000,9, -999.000,9, -999.000,9