BOTTLE,20230904JAMSTECRIGC
EXPOCODE,SECT,STNNBR,CASTNO,SAMPNO,BTLNBR,BTLNBR_FLAG_W,DATE,TIME,LATITUDE,LONGITUDE,DEPTH,CTDPRS,CTDPRS_FLAG_W,CTDTMP,CTDTMP_FLAG_W,SBE35,SBE35_FLAG_W,CTDSAL,CTDSAL_FLAG_W,SALNTY,SALNTY_FLAG_W,DNSSAL,DNSSAL_FLAG_W,CTDOXY,CTDOXY_FLAG_W,OXYGEN,OXYGEN_FLAG_W,XMISS,XMISSCP,XMISS_FLAG_W,FLUOR,FLUOR_FLAG_W,CHLORA,CHLORA_FLAG_W,CDOM,CDOM_FLAG_W,PAR,PAR_FLAG_W,SILCAT,SILCAT_FLAG_W,SILUNC,NITRAT,NITRAT_FLAG_W,NRAUNC,NITRIT,NITRIT_FLAG_W,NRIUNC,PHSPHT,PHSPHT_FLAG_W,PHPUNC,AMMONIA,AMMONIA_FLAG_W,NH4UNC,CFC-11,CFC-11_FLAG_W,CFC-12,CFC-12_FLAG_W,CFC113,CFC113_FLAG_W,SF6,SF6_FLAG_W,TCARBN,TCARBN_FLAG_W,ALKALI,ALKALI_FLAG_W,ALKALI_POT,ALKALI_POT_FLAG_W,PH_TOT,PH_TMP,PH_TOT_FLAG_W,CALCIUM,CALCIUM_FLAG_W,DOC,DOC_FLAG_W,DELC13,DELC13_FLAG_W,C13ERR,DELC14,DELC14_FLAG_W,C14ERR,CS-134,CS-134_FLAG_W,CS134ER,CS-137,CS-137_FLAG_W,CS137ER,I-129,I-129_FLAG_W,I-129ER,CDOM-325,CDOM-325_FLAG_W,CDOM-370,CDOM-370_FLAG_W,CDOM-443,CDOM-443_FLAG_W
,,,,,,,,UTC,DEG,DEG,METERS,DBAR,,ITS-90,,ITS-90,,PSS-78,,PSS-78,,G/KG,,UMOL/KG,,UMOL/KG,,%TRANS,/METER,,MG/CUM,,MG/CUM,,MG/CUM,,UE/SQM/S,,UMOL/KG,,UMOL/KG,UMOL/KG,,UMOL/KG,UMOL/KG,,UMOL/KG,UMOL/KG,,UMOL/KG,UMOL/KG,,UMOL/KG,PMOL/KG,,PMOL/KG,,PMOL/KG,,FMOL/KG,,UMOL/KG,,UMOL/KG,,UMOL/KG,,,DEG C,,MMOL/KG,,UMOL/KG,,/MILLE,,/MILLE,/MILLE,,/MILLE,MBQ/KG,,MBQ/KG,MBQ/KG,,MBQ/KG,,,,/METER,,/METER,,/METER,
  49NZ20140717,   P01,    50,  1,      9, X12J09,2,20140720,2220, 40.8688, 147.0668, 4830,   3921.1,2,   1.4682,2,   1.46829,2,  34.6810,2,  34.6809,2,-999.0000,9,   147.60,2,   147.74,2,   99.950,   0.0020,2,   -0.003,2,  -999.00,9,    1.257,4,    0.000,2,   151.50,2,     0.17,    36.32,2,     0.05,    -0.01,2,     0.01,     2.54,2,     0.01,     0.00,2,     0.01,    0.000,2,    0.000,2,    0.000,2, -999.000,9,   -999.0,9,   -999.0,9,   -999.0,9,-999.0000,     -999,9, -999.000,9,  -999.00,9, -999.000,9, -999.000,   -999.0,9,   -999.0, -999.000,9, -999.000, -999.000,9, -999.000,   -999.0,9,   -999.0, -999.000,9, -999.000,9, -999.000,9
  49NZ20140717,   P01,    50,  1,      8, X12J08,2,20140720,2220, 40.8688, 147.0668, 4830,   4170.9,2,   1.4579,2,   1.45793,2,  34.6847,2,  34.6848,2,-999.0000,9,   152.36,2,   152.47,2,   99.954,   0.0018,2,   -0.004,2,  -999.00,9,    1.085,4,    0.000,2,   150.21,2,     0.17,    35.90,2,     0.05,     0.00,2,     0.01,     2.51,2,     0.01,  -999.00,9,  -999.00,    0.000,2,    0.000,2,    0.000,2, -999.000,9,   -999.0,9,   -999.0,9,   -999.0,9,-999.0000,     -999,9, -999.000,9,  -999.00,9, -999.000,9, -999.000,   -999.0,9,   -999.0, -999.000,9, -999.000, -999.000,9, -999.000,   -999.0,9,   -999.0, -999.000,9, -999.000,9, -999.000,9
  49NZ20140717,   P01,    50,  1,      7, X12J07,2,20140720,2220, 40.8688, 147.0668, 4830,   4420.4,2,   1.4633,2,   1.46336,2,  34.6871,2,  34.6873,2,-999.0000,9,   155.38,2,   156.00,2,   99.952,   0.0019,2,   -0.004,2,  -999.00,9,    0.469,4,    0.000,2,   149.57,2,     0.17,    35.78,2,     0.05,    -0.01,2,     0.01,     2.50,2,     0.01,  -999.00,9,  -999.00,    0.000,2,    0.000,2,    0.000,2, -999.000,9,   -999.0,9,   -999.0,9,   -999.0,9,-999.0000,     -999,9, -999.000,9,  -999.00,9, -999.000,9, -999.000,   -999.0,9,   -999.0, -999.000,9, -999.000, -999.000,9, -999.000,   -999.0,9,   -999.0, -999.000,9, -999.000,9, -999.000,9
  49NZ20140717,   P01,    50,  1,      6, X12J06,2,20140720,2220, 40.8688, 147.0668, 4830,   4669.6,2,   1.4801,2,   1.48018,2,  34.6885,2,  34.6882,2,-999.0000,9,   156.77,2,   157.12,2,   99.928,   0.0029,2,   -0.004,2,  -999.00,9,   -0.601,4,    0.000,2,   149.51,2,     0.17,    35.68,2,     0.05,    -0.01,2,     0.01,     2.48,2,     0.01,     0.00,2,     0.01,    0.000,2,    0.001,2,    0.000,2, -999.000,9,   -999.0,9,   -999.0,9,   -999.0,9,-999.0000,     -999,9, -999.000,9,  -999.00,9, -999.000,9, -999.000,   -999.0,9,   -999.0, -999.000,9, -999.000, -999.000,9, -999.000,   -999.0,9,   -999.0, -999.000,9, -999.000,9, -999.000,9
  49NZ20140717,   P01,    50,  1,      5, X12J05,2,20140720,2220, 40.8688, 147.0668, 4830,    200.2,2,   5.8857,2,   5.88569,2,  33.7296,2,-999.0000,9,-999.0000,9,   285.95,2,  -999.00,9,   99.525,   0.0190,2,    0.000,2,  -999.00,9,    0.860,1,    0.000,2,  -999.00,9,  -999.00,  -999.00,9,  -999.00,  -999.00,9,  -999.00,  -999.00,9,  -999.00,  -999.00,9,  -999.00, -999.000,9, -999.000,9, -999.000,9, -999.000,9,   -999.0,9,   -999.0,9,   -999.0,9,-999.0000,     -999,9, -999.000,9,  -999.00,9, -999.000,9, -999.000,   -999.0,9,   -999.0, -999.000,9, -999.000, -999.000,9, -999.000,   -999.0,9,   -999.0, -999.000,9, -999.000,9, -999.000,9
  49NZ20140717,   P01,    50,  1,      4, X12J04,2,20140720,2220, 40.8688, 147.0668, 4830,    970.1,2,   3.2512,2,   3.25124,2,  34.2571,2,-999.0000,9,-999.0000,9,    33.62,2,  -999.00,9,   99.829,   0.0068,2,    0.006,2,  -999.00,9,    2.782,1,    0.000,2,  -999.00,9,  -999.00,  -999.00,9,  -999.00,  -999.00,9,  -999.00,  -999.00,9,  -999.00,  -999.00,9,  -999.00, -999.000,9, -999.000,9, -999.000,9, -999.000,9,   -999.0,9,   -999.0,9,   -999.0,9,-999.0000,     -999,9, -999.000,9,  -999.00,9, -999.000,9, -999.000,   -999.0,9,   -999.0, -999.000,9, -999.000, -999.000,9, -999.000,   -999.0,9,   -999.0, -999.000,9, -999.000,9, -999.000,9
  49NZ20140717,   P01,    50,  1,      3, X12J03,2,20140720,2220, 40.8688, 147.0668, 4830,   3421.1,2,   1.5168,2,   1.51688,2,  34.6703,2,-999.0000,9,-999.0000,9,   135.10,2,  -999.00,9,   99.948,   0.0021,2,   -0.003,2,  -999.00,9,    2.098,1,    0.000,2,  -999.00,9,  -999.00,  -999.00,9,  -999.00,  -999.00,9,  -999.00,  -999.00,9,  -999.00,  -999.00,9,  -999.00, -999.000,9, -999.000,9, -999.000,9, -999.000,9,   -999.0,9,   -999.0,9,   -999.0,9,-999.0000,     -999,9, -999.000,9,  -999.00,9, -999.000,9, -999.000,   -999.0,9,   -999.0, -999.000,9, -999.000, -999.000,9, -999.000,   -999.0,9,   -999.0, -999.000,9, -999.000,9, -999.000,9
  49NZ20140717,   P01,    50,  1,      2, X12J02,2,20140720,2220, 40.8688, 147.0668, 4830,   4767.5,2,   1.4910,2,   1.49111,2,  34.6885,2,-999.0000,9,-999.0000,9,   156.84,2,  -999.00,9,   99.911,   0.0036,2,   -0.004,2,  -999.00,9,    1.520,4,    0.000,2,  -999.00,9,  -999.00,  -999.00,9,  -999.00,  -999.00,9,  -999.00,  -999.00,9,  -999.00,  -999.00,9,  -999.00, -999.000,9, -999.000,9, -999.000,9, -999.000,9,   -999.0,9,   -999.0,9,   -999.0,9,-999.0000,     -999,9, -999.000,9,  -999.00,9, -999.000,9, -999.000,   -999.0,9,   -999.0, -999.000,9, -999.000, -999.000,9, -999.000,   -999.0,9,   -999.0, -999.000,9, -999.000,9, -999.000,9
  49NZ20140717,   P01,    50,  1,      1, X12J01,2,20140720,2220, 40.8688, 147.0668, 4830,   4767.6,2,   1.4919,2,   1.49195,2,  34.6883,2,  34.6887,2,-999.0000,9,   156.83,2,   157.36,2,   99.924,   0.0030,2,   -0.004,2,  -999.00,9,    1.535,4,    0.000,2,   149.63,2,     0.17,    35.72,2,     0.05,     0.00,2,     0.01,     2.49,2,     0.01,    -0.01,2,     0.01,    0.001,2,    0.000,2,    0.000,2, -999.000,9,   -999.0,9,   -999.0,9,   -999.0,9,-999.0000,     -999,9, -999.000,9,  -999.00,9, -999.000,9, -999.000,   -999.0,9,   -999.0, -999.000,9, -999.000, -999.000,9, -999.000,   -999.0,9,   -999.0, -999.000,9, -999.000,9, -999.000,9