BOTTLE,20230904JAMSTECRIGC
EXPOCODE,SECT,STNNBR,CASTNO,SAMPNO,BTLNBR,BTLNBR_FLAG_W,DATE,TIME,LATITUDE,LONGITUDE,DEPTH,CTDPRS,CTDPRS_FLAG_W,CTDTMP,CTDTMP_FLAG_W,SBE35,SBE35_FLAG_W,CTDSAL,CTDSAL_FLAG_W,SALNTY,SALNTY_FLAG_W,DNSSAL,DNSSAL_FLAG_W,CTDOXY,CTDOXY_FLAG_W,OXYGEN,OXYGEN_FLAG_W,XMISS,XMISSCP,XMISS_FLAG_W,FLUOR,FLUOR_FLAG_W,CHLORA,CHLORA_FLAG_W,CDOM,CDOM_FLAG_W,PAR,PAR_FLAG_W,SILCAT,SILCAT_FLAG_W,SILUNC,NITRAT,NITRAT_FLAG_W,NRAUNC,NITRIT,NITRIT_FLAG_W,NRIUNC,PHSPHT,PHSPHT_FLAG_W,PHPUNC,AMMONIA,AMMONIA_FLAG_W,NH4UNC,CFC-11,CFC-11_FLAG_W,CFC-12,CFC-12_FLAG_W,CFC113,CFC113_FLAG_W,SF6,SF6_FLAG_W,TCARBN,TCARBN_FLAG_W,ALKALI,ALKALI_FLAG_W,ALKALI_POT,ALKALI_POT_FLAG_W,PH_TOT,PH_TMP,PH_TOT_FLAG_W,CALCIUM,CALCIUM_FLAG_W,DOC,DOC_FLAG_W,DELC13,DELC13_FLAG_W,C13ERR,DELC14,DELC14_FLAG_W,C14ERR,CS-134,CS-134_FLAG_W,CS134ER,CS-137,CS-137_FLAG_W,CS137ER,I-129,I-129_FLAG_W,I-129ER,CDOM-325,CDOM-325_FLAG_W,CDOM-370,CDOM-370_FLAG_W,CDOM-443,CDOM-443_FLAG_W
,,,,,,,,UTC,DEG,DEG,METERS,DBAR,,ITS-90,,ITS-90,,PSS-78,,PSS-78,,G/KG,,UMOL/KG,,UMOL/KG,,%TRANS,/METER,,MG/CUM,,MG/CUM,,MG/CUM,,UE/SQM/S,,UMOL/KG,,UMOL/KG,UMOL/KG,,UMOL/KG,UMOL/KG,,UMOL/KG,UMOL/KG,,UMOL/KG,UMOL/KG,,UMOL/KG,PMOL/KG,,PMOL/KG,,PMOL/KG,,FMOL/KG,,UMOL/KG,,UMOL/KG,,UMOL/KG,,,DEG C,,MMOL/KG,,UMOL/KG,,/MILLE,,/MILLE,/MILLE,,/MILLE,MBQ/KG,,MBQ/KG,MBQ/KG,,MBQ/KG,,,,/METER,,/METER,,/METER,
  49NZ20140717,   P01,   126,  1,      0,   -999,9,20140815,0625, 46.9983,-146.9288, 4915,   -999.0,9,-999.0000,9,-999.00000,9,-999.0000,9,  32.6653,2,-999.0000,9,  -999.00,9,  -999.00,9, -999.000,-999.0000,9, -999.000,9,  -999.00,9, -999.000,9, -999.000,9,     5.97,2,     0.09,     3.63,2,     0.01,     0.05,2,     0.01,     0.62,2,     0.01,  -999.00,9,  -999.00, -999.000,9, -999.000,9, -999.000,9, -999.000,9,   -999.0,9,   -999.0,9,   -999.0,9,-999.0000,     -999,9, -999.000,9,  -999.00,9, -999.000,9, -999.000,   -999.0,9,   -999.0, -999.000,9, -999.000, -999.000,9, -999.000,   -999.0,9,   -999.0, -999.000,9, -999.000,9, -999.000,9
  49NZ20140717,   P01,   126,  1,     36, X12J36,2,20140815,0625, 46.9983,-146.9288, 4915,     10.7,2,  15.1972,2,  15.19511,2,  32.6584,2,  32.6587,2,-999.0000,9,   256.80,2,   256.37,2,   98.115,   0.0761,2,    0.238,2,  -999.00,9,   -0.763,1,    0.116,2,     6.01,2,     0.09,     3.63,2,     0.01,     0.05,2,     0.01,     0.62,2,     0.01,  -999.00,9,  -999.00,    2.779,2,    1.697,2,    0.261,2,    2.090,2,   1991.9,2,   2198.2,2,   -999.0,9,   7.8966,       25,6, -999.000,9,    55.11,2, -999.000,9, -999.000,   -999.0,9,   -999.0, -999.000,9, -999.000, -999.000,9, -999.000,   -999.0,9,   -999.0, -999.000,9, -999.000,9, -999.000,9
  49NZ20140717,   P01,   126,  1,     35, X12J35,2,20140815,0625, 46.9983,-146.9288, 4915,     50.0,2,   9.4743,2,   9.47445,2,  32.8554,2,  32.8587,2,-999.0000,9,   297.95,2,   297.93,2,   96.650,   0.1363,2,    0.416,2,  -999.00,9,    0.514,1,    0.000,2,     8.74,2,     0.09,     6.31,2,     0.02,     0.17,2,     0.01,     0.76,2,     0.01,  -999.00,9,  -999.00,    3.684,2,    2.189,2,    0.354,2,    2.500,2,   2023.4,6,   2204.6,2,   -999.0,9,   7.8378,       25,2, -999.000,9,    49.95,2, -999.000,9, -999.000,   -999.0,9,   -999.0, -999.000,9, -999.000, -999.000,9, -999.000,   -999.0,9,   -999.0, -999.000,9, -999.000,9, -999.000,9
  49NZ20140717,   P01,   126,  1,     34, X12J34,2,20140815,0625, 46.9983,-146.9288, 4915,    101.8,2,   7.7010,2,   7.70805,2,  33.3796,2,  33.3782,2,-999.0000,9,   255.73,2,   255.28,2,   99.455,   0.0219,2,    0.168,2,  -999.00,9,    0.800,1,    0.000,2,    17.74,2,     0.09,    14.60,2,     0.03,     0.03,2,     0.01,     1.17,2,     0.01,  -999.00,9,  -999.00,    3.786,2,    2.233,2,    0.307,2,    2.380,2,   2088.1,2,   2228.9,2,   -999.0,9,   7.7325,       25,2, -999.000,9,    47.04,2, -999.000,9, -999.000,   -999.0,9,   -999.0, -999.000,9, -999.000, -999.000,9, -999.000,   -999.0,9,   -999.0, -999.000,9, -999.000,9, -999.000,9
  49NZ20140717,   P01,   126,  1,     33, X12J33,2,20140815,0625, 46.9983,-146.9288, 4915,    150.2,2,   7.0488,2,   7.04809,2,  33.8033,2,  33.8024,2,-999.0000,9,   206.45,2,   206.15,2,   99.806,   0.0078,2,    0.023,2,  -999.00,9,    1.485,1,    0.000,2,    32.79,2,     0.10,    22.03,2,     0.03,     0.01,2,     0.01,     1.60,2,     0.01,  -999.00,9,  -999.00,    3.571,2,    2.057,2,    0.246,2,    1.920,2,   2152.5,2,   2259.7,2,   -999.0,9,   7.6397,       25,6, -999.000,9,    46.20,2, -999.000,9, -999.000,   -999.0,9,   -999.0, -999.000,9, -999.000, -999.000,9, -999.000,   -999.0,9,   -999.0, -999.000,9, -999.000,9, -999.000,9
  49NZ20140717,   P01,   126,  1,     32, X12J32,2,20140815,0625, 46.9983,-146.9288, 4915,    200.7,2,   6.0084,2,   6.00812,2,  33.8290,2,  33.8294,2,-999.0000,9,   171.75,2,   171.17,2,   99.739,   0.0105,2,    0.020,2,  -999.00,9,    2.029,1,    0.000,2,    47.41,2,     0.10,    27.53,2,     0.09,     0.01,2,     0.01,     1.99,2,     0.01,  -999.00,9,  -999.00,    3.358,2,    1.884,2,    0.216,2,    1.520,2,   2195.5,2,   2271.6,6,   -999.0,9,   7.5505,       25,2, -999.000,9,    45.11,2, -999.000,9, -999.000,   -999.0,9,   -999.0, -999.000,9, -999.000, -999.000,9, -999.000,   -999.0,9,   -999.0, -999.000,9, -999.000,9, -999.000,9
  49NZ20140717,   P01,   126,  1,     31, X12J31,2,20140815,0625, 46.9983,-146.9288, 4915,    251.0,2,   5.0735,2,   5.07311,2,  33.8177,2,  33.8181,2,-999.0000,9,   142.78,2,   142.62,2,   99.780,   0.0088,2,    0.020,2,  -999.00,9,    2.332,1,    0.000,2,    60.01,2,     0.11,    31.99,2,     0.04,     0.01,2,     0.01,     2.31,2,     0.01,  -999.00,9,  -999.00,    3.124,2,    1.748,2,    0.198,2,    1.360,2,   2229.6,2,   2278.1,2,   -999.0,9,   7.4701,       25,2, -999.000,9,    43.09,2, -999.000,9, -999.000,   -999.0,9,   -999.0, -999.000,9, -999.000, -999.000,9, -999.000,   -999.0,9,   -999.0, -999.000,9, -999.000,9, -999.000,9
  49NZ20140717,   P01,   126,  1,     30, X12J30,2,20140815,0625, 46.9983,-146.9288, 4915,    299.1,2,   4.5186,2,   4.51861,2,  33.8395,2,  33.8375,2,-999.0000,9,   115.47,2,   116.32,2,   99.776,   0.0090,2,    0.020,2,  -999.00,9,    2.533,1,    0.000,2,    70.23,2,     0.12,    35.35,2,     0.05,     0.01,2,     0.01,     2.54,2,     0.01,  -999.00,9,  -999.00,    2.861,2,    1.559,2,    0.179,2,    1.000,2,   2257.1,2,   2285.4,2,   -999.0,9,   7.4080,       25,2, -999.000,9,    41.61,2, -999.000,9, -999.000,   -999.0,9,   -999.0, -999.000,9, -999.000, -999.000,9, -999.000,   -999.0,9,   -999.0, -999.000,9, -999.000,9, -999.000,9
  49NZ20140717,   P01,   126,  1,     29, X12J29,2,20140815,0625, 46.9983,-146.9288, 4915,    399.8,2,   4.1261,2,   4.12603,2,  33.9463,2,  33.9461,2,-999.0000,9,    71.45,2,    71.78,2,   99.834,   0.0066,2,    0.020,2,  -999.00,9,    2.740,1,    0.000,2,    87.52,2,     0.13,    39.79,2,     0.05,     0.01,2,     0.01,     2.83,2,     0.01,  -999.00,9,  -999.00,    2.128,2,    1.113,2,    0.130,2,    0.580,2,   2297.9,2,   2302.2,2,   -999.0,9,   7.3368,       25,2, -999.000,9,    38.77,2, -999.000,9, -999.000,   -999.0,9,   -999.0, -999.000,9, -999.000, -999.000,9, -999.000,   -999.0,9,   -999.0, -999.000,9, -999.000,9, -999.000,9
  49NZ20140717,   P01,   126,  1,     28, X12J28,2,20140815,0625, 46.9983,-146.9288, 4915,    501.7,2,   3.9893,2,   3.98911,2,  34.0709,2,  34.0691,2,-999.0000,9,    44.56,2,    45.15,2,   99.903,   0.0039,2,    0.020,2,  -999.00,9,    2.983,1,    0.000,2,   101.09,2,     0.14,    41.65,2,     0.05,     0.00,2,     0.01,     2.97,2,     0.01,  -999.00,9,  -999.00,    1.378,2,    0.709,2,    0.082,2,    0.350,2,   2322.8,2,   2320.7,2,   -999.0,9,   7.3109,       25,2, -999.000,9,    38.66,2, -999.000,9, -999.000,   -999.0,9,   -999.0, -999.000,9, -999.000, -999.000,9, -999.000,   -999.0,9,   -999.0, -999.000,9, -999.000,9, -999.000,9
  49NZ20140717,   P01,   126,  1,     27, X12J27,2,20140815,0625, 46.9983,-146.9288, 4915,    599.3,2,   3.8548,2,   3.85501,2,  34.1492,2,  34.1483,2,-999.0000,9,    33.52,2,    33.84,2,   99.908,   0.0037,2,    0.020,2,  -999.00,9,    3.006,1,    0.000,2,   110.18,2,     0.14,    42.46,2,     0.05,     0.00,2,     0.01,     3.02,2,     0.01,  -999.00,9,  -999.00,    0.927,2,    0.480,2,    0.055,2,    0.170,2,   2336.0,2,   2332.4,2,   -999.0,9,   7.3060,       25,2, -999.000,9,    40.49,2, -999.000,9, -999.000,   -999.0,9,   -999.0, -999.000,9, -999.000, -999.000,9, -999.000,   -999.0,9,   -999.0, -999.000,9, -999.000,9, -999.000,9
  49NZ20140717,   P01,   126,  1,     26, X12J26,2,20140815,0625, 46.9983,-146.9288, 4915,    698.2,2,   3.6587,2,   3.65878,2,  34.2156,2,  34.2146,2,-999.0000,9,    27.36,2,    27.43,2,   99.940,   0.0024,2,    0.028,2,  -999.00,9,    3.059,1,    0.000,2,   118.52,2,     0.15,    42.89,2,     0.05,     0.00,2,     0.01,     3.06,2,     0.01,  -999.00,9,  -999.00,    0.596,2,    0.312,2,    0.026,2,    0.090,2,   2348.2,6,   2344.2,2,   -999.0,9,   7.3056,       25,2, -999.000,9,    41.23,3, -999.000,9, -999.000,   -999.0,9,   -999.0, -999.000,9, -999.000, -999.000,9, -999.000,   -999.0,9,   -999.0, -999.000,9, -999.000,9, -999.000,9
  49NZ20140717,   P01,   126,  1,     25, X12J25,2,20140815,0625, 46.9983,-146.9288, 4915,    801.0,2,   3.4216,2,   3.42148,2,  34.2749,2,  34.2750,2,-999.0000,9,    23.71,2,    23.57,2,   99.934,   0.0026,2,    0.019,2,  -999.00,9,    3.125,1,    0.000,2,   127.30,2,     0.15,    43.34,2,     0.05,     0.00,2,     0.01,     3.10,2,     0.01,  -999.00,9,  -999.00,    0.347,2,    0.191,2,    0.013,2,    0.050,2,   2358.8,2,   2355.8,2,   -999.0,9,   7.3066,       25,2, -999.000,9,    39.27,2, -999.000,9, -999.000,   -999.0,9,   -999.0, -999.000,9, -999.000, -999.000,9, -999.000,   -999.0,9,   -999.0, -999.000,9, -999.000,9, -999.000,9
  49NZ20140717,   P01,   126,  1,     24, X12J24,2,20140815,0625, 46.9983,-146.9288, 4915,    901.8,2,   3.1846,2,   3.18448,2,  34.3254,2,  34.3251,2,-999.0000,9,    20.72,2,    20.27,2,   99.916,   0.0033,2,    0.018,2,  -999.00,9,    3.253,1,    0.000,2,   135.21,2,     0.16,    43.82,2,     0.06,     0.00,2,     0.01,     3.13,2,     0.01,  -999.00,9,  -999.00,    0.188,2,    0.108,2,    0.006,2,    0.000,2,   2370.0,2,   2367.7,2,   -999.0,9,   7.3074,       25,6, -999.000,9,    36.32,2, -999.000,9, -999.000,   -999.0,9,   -999.0, -999.000,9, -999.000, -999.000,9, -999.000,   -999.0,9,   -999.0, -999.000,9, -999.000,9, -999.000,9
  49NZ20140717,   P01,   126,  1,     23, X12J23,2,20140815,0625, 46.9983,-146.9288, 4915,    999.1,2,   2.9925,2,   2.99234,2,  34.3623,2,  34.3616,2,-999.0000,9,    18.98,2,    18.51,2,   99.947,   0.0021,2,    0.018,2,  -999.00,9,    3.224,1,    0.000,2,   141.79,2,     0.16,    44.08,2,     0.06,     0.00,2,     0.01,     3.15,2,     0.01,  -999.00,9,  -999.00,    0.117,2,    0.069,2,    0.003,2,    0.000,2,   2376.7,2,   2374.2,2,   -999.0,9,   7.3062,       25,2, -999.000,9,    37.56,2, -999.000,9, -999.000,   -999.0,9,   -999.0, -999.000,9, -999.000, -999.000,9, -999.000,   -999.0,9,   -999.0, -999.000,9, -999.000,9, -999.000,9
  49NZ20140717,   P01,   126,  1,     22, X12J22,2,20140815,0625, 46.9983,-146.9288, 4915,   1198.8,2,   2.6950,2,   2.69459,2,  34.4249,2,  34.4249,2,-999.0000,9,    17.95,2,    17.28,2,   99.929,   0.0028,2,    0.017,2,  -999.00,9,    3.293,1,    0.000,2,   152.50,2,     0.17,    44.44,2,     0.06,     0.00,2,     0.01,     3.16,2,     0.01,  -999.00,9,  -999.00,    0.043,2,    0.027,2,    0.000,2,    0.000,2,   2388.9,2,   2386.6,6,   -999.0,9,   7.3112,       25,2, -999.000,9,    36.90,2, -999.000,9, -999.000,   -999.0,9,   -999.0, -999.000,9, -999.000, -999.000,9, -999.000,   -999.0,9,   -999.0, -999.000,9, -999.000,9, -999.000,9
  49NZ20140717,   P01,   126,  1,     21, X12J21,2,20140815,0625, 46.9983,-146.9288, 4915,   1400.4,2,   2.4396,2,   2.43950,2,  34.4812,2,  34.4812,2,-999.0000,9,    18.12,2,    17.24,2,   99.938,   0.0025,2,    0.016,2,  -999.00,9,    3.300,1,    0.000,2,   161.46,2,     0.17,    44.67,2,     0.06,     0.00,2,     0.01,     3.16,2,     0.01,  -999.00,9,  -999.00,    0.007,2,    0.005,2,    0.000,2,    0.000,2,   2396.5,2,   2397.6,2,   -999.0,9,   7.3169,       25,2, -999.000,9,    36.07,2, -999.000,9, -999.000,   -999.0,9,   -999.0, -999.000,9, -999.000, -999.000,9, -999.000,   -999.0,9,   -999.0, -999.000,9, -999.000,9, -999.000,9
  49NZ20140717,   P01,   126,  1,     20, X12J20,2,20140815,0625, 46.9983,-146.9288, 4915,   1598.9,2,   2.2617,2,   2.26081,2,  34.5201,2,  34.5200,2,-999.0000,9,    23.57,2,    22.98,2,   99.938,   0.0025,2,    0.016,2,  -999.00,9,    3.265,1,    0.000,2,   166.98,2,     0.18,    44.45,2,     0.06,     0.00,2,     0.01,     3.14,2,     0.01,  -999.00,9,  -999.00,    0.000,2,    0.001,2,    0.000,2,    0.000,2,   2399.9,2,   2407.5,2,   -999.0,9,   7.3308,       25,6, -999.000,9,    36.16,2, -999.000,9, -999.000,   -999.0,9,   -999.0, -999.000,9, -999.000, -999.000,9, -999.000,   -999.0,9,   -999.0, -999.000,9, -999.000,9, -999.000,9
  49NZ20140717,   P01,   126,  1,     19, X12J19,2,20140815,0625, 46.9983,-146.9288, 4915,   1798.9,2,   2.0901,2,   2.08999,2,  34.5545,2,  34.5545,2,-999.0000,9,    36.14,2,    35.39,2,   99.973,   0.0011,2,    0.014,2,  -999.00,9,    3.277,1,    0.000,2,   170.99,2,     0.18,    43.75,2,     0.06,     0.00,2,     0.01,     3.08,2,     0.01,  -999.00,9,  -999.00,    0.000,2,    0.000,2,    0.000,2,    0.000,2,   2396.6,2,   2411.8,2,   -999.0,9,   7.3561,       25,2, -999.000,9,    36.70,2, -999.000,9, -999.000,   -999.0,9,   -999.0, -999.000,9, -999.000, -999.000,9, -999.000,   -999.0,9,   -999.0, -999.000,9, -999.000,9, -999.000,9
  49NZ20140717,   P01,   126,  1,     18, X12J18,2,20140815,0625, 46.9983,-146.9288, 4915,   1998.7,2,   1.9492,2,   1.94904,2,  34.5827,2,  34.5816,2,-999.0000,9,    49.85,2,    49.34,2,   99.964,   0.0014,2,    0.013,2,  -999.00,9,    3.169,1,    0.000,2,   173.42,2,     0.18,    42.91,2,     0.05,     0.00,2,     0.01,     3.02,2,     0.01,  -999.00,9,  -999.00,    0.000,2,    0.000,2,    0.001,2,    0.000,2,   2390.8,2,   2414.1,2,   -999.0,9,   7.3844,       25,2, -999.000,9,    36.91,2, -999.000,9, -999.000,   -999.0,9,   -999.0, -999.000,9, -999.000, -999.000,9, -999.000,   -999.0,9,   -999.0, -999.000,9, -999.000,9, -999.000,9
  49NZ20140717,   P01,   126,  1,     17, X12J17,2,20140815,0625, 46.9983,-146.9288, 4915,   2199.9,2,   1.8513,2,   1.85120,2,  34.6022,2,  34.6017,2,-999.0000,9,    62.17,2,    61.80,2,   99.942,   0.0023,2,    0.012,2,  -999.00,9,    3.087,1,    0.000,2,   174.19,2,     0.18,    42.14,2,     0.05,     0.00,2,     0.01,     2.96,2,     0.01,  -999.00,9,  -999.00,    0.000,2,    0.000,2,    0.000,2,    0.000,2,   2382.3,2,   2418.5,2,   -999.0,9,   7.4105,       25,2, -999.000,9,    35.47,2, -999.000,9, -999.000,   -999.0,9,   -999.0, -999.000,9, -999.000, -999.000,9, -999.000,   -999.0,9,   -999.0, -999.000,9, -999.000,9, -999.000,9
  49NZ20140717,   P01,   126,  1,     16, X12J16,2,20140815,0625, 46.9983,-146.9288, 4915,   2399.0,2,   1.7585,2,   1.75856,2,  34.6201,2,  34.6201,2,-999.0000,9,    74.54,2,    74.42,2,   99.938,   0.0025,2,    0.011,2,  -999.00,9,    3.055,1,    0.000,2,   174.35,2,     0.18,    41.32,2,     0.05,     0.00,2,     0.01,     2.91,2,     0.01,  -999.00,9,  -999.00,    0.002,2,    0.000,2,    0.001,2,    0.000,2,   2377.1,6,   2419.7,2,   -999.0,9,   7.4351,       25,2, -999.000,9,    37.74,2, -999.000,9, -999.000,   -999.0,9,   -999.0, -999.000,9, -999.000, -999.000,9, -999.000,   -999.0,9,   -999.0, -999.000,9, -999.000,9, -999.000,9
  49NZ20140717,   P01,   126,  1,     15, X12J15,2,20140815,0625, 46.9983,-146.9288, 4915,   2600.4,2,   1.6943,2,   1.69426,2,  34.6325,2,  34.6327,2,-999.0000,9,    85.13,2,    84.97,2,   99.945,   0.0022,2,    0.010,2,  -999.00,9,    2.925,1,    0.000,2,   173.33,2,     0.18,    40.53,2,     0.05,     0.00,2,     0.01,     2.85,2,     0.01,  -999.00,9,  -999.00,    0.001,2,    0.000,2,    0.000,2,    0.000,2,   2370.7,2,   2420.7,2,   -999.0,9,   7.4557,       25,2, -999.000,9,    36.36,2, -999.000,9, -999.000,   -999.0,9,   -999.0, -999.000,9, -999.000, -999.000,9, -999.000,   -999.0,9,   -999.0, -999.000,9, -999.000,9, -999.000,9
  49NZ20140717,   P01,   126,  1,     14, X12J14,2,20140815,0625, 46.9983,-146.9288, 4915,   2800.9,2,   1.6270,2,   1.62725,2,  34.6454,2,  34.6450,2,-999.0000,9,    96.74,2,    96.43,2,   99.953,   0.0019,2,    0.009,2,  -999.00,9,    2.837,1,    0.000,2,   172.36,2,     0.18,    39.85,2,     0.05,     0.00,2,     0.01,     2.80,2,     0.01,  -999.00,9,  -999.00,    0.000,2,    0.000,2,    0.001,2,    0.000,2,   2364.1,2,   2424.0,2,   -999.0,9,   7.4774,       25,6, -999.000,9,    38.62,2, -999.000,9, -999.000,   -999.0,9,   -999.0, -999.000,9, -999.000, -999.000,9, -999.000,   -999.0,9,   -999.0, -999.000,9, -999.000,9, -999.000,9
  49NZ20140717,   P01,   126,  1,     13, X12113,2,20140815,0625, 46.9983,-146.9288, 4915,   3002.0,2,   1.5767,2,   1.57681,2,  34.6548,2,  34.6549,2,-999.0000,9,   107.03,2,   106.90,2,   99.942,   0.0023,2,    0.008,2,  -999.00,9,    2.819,1,    0.000,2,   170.98,2,     0.18,    39.16,2,     0.05,     0.00,2,     0.01,     2.75,2,     0.01,  -999.00,9,  -999.00,    0.000,2,    0.000,2,    0.000,2,    0.000,2,   2357.1,2,   2423.3,2,   -999.0,9,   7.4982,       25,2, -999.000,9,    39.16,2, -999.000,9, -999.000,   -999.0,9,   -999.0, -999.000,9, -999.000, -999.000,9, -999.000,   -999.0,9,   -999.0, -999.000,9, -999.000,9, -999.000,9
  49NZ20140717,   P01,   126,  1,     12, X12J12,2,20140815,0625, 46.9983,-146.9288, 4915,   3250.3,2,   1.5268,2,   1.52675,2,  34.6648,2,  34.6650,2,-999.0000,9,   118.72,2,   118.67,2,   99.968,   0.0013,2,    0.007,2,  -999.00,9,    2.728,1,    0.000,2,   169.14,2,     0.18,    38.42,2,     0.05,     0.00,2,     0.01,     2.69,2,     0.01,  -999.00,9,  -999.00,    0.000,2,    0.000,2,    0.000,2,    0.000,2,   2349.1,2,   2424.8,6,   -999.0,9,   7.5207,       25,2, -999.000,9,    38.11,2, -999.000,9, -999.000,   -999.0,9,   -999.0, -999.000,9, -999.000, -999.000,9, -999.000,   -999.0,9,   -999.0, -999.000,9, -999.000,9, -999.000,9
  49NZ20140717,   P01,   126,  1,     11, X12J11,2,20140815,0625, 46.9983,-146.9288, 4915,   3499.7,2,   1.4997,2,   1.49970,2,  34.6717,2,  34.6713,2,-999.0000,9,   127.19,2,   127.30,2,   99.981,   0.0007,2,    0.007,2,  -999.00,9,    2.735,1,    0.000,2,   167.84,2,     0.18,    37.84,2,     0.05,     0.00,2,     0.01,     2.65,2,     0.01,  -999.00,9,  -999.00,    0.000,2,    0.001,2,    0.000,2,    0.000,2,   2344.3,2,   2424.1,2,   -999.0,9,   7.5379,       25,2, -999.000,9,    33.49,2, -999.000,9, -999.000,   -999.0,9,   -999.0, -999.000,9, -999.000, -999.000,9, -999.000,   -999.0,9,   -999.0, -999.000,9, -999.000,9, -999.000,9
  49NZ20140717,   P01,   126,  1,     10, X12J10,2,20140815,0625, 46.9983,-146.9288, 4915,   3750.8,2,   1.4892,2,   1.48913,2,  34.6766,2,  34.6766,2,-999.0000,9,   133.20,2,   133.31,2,   99.979,   0.0008,2,    0.006,2,  -999.00,9,    2.609,1,    0.000,2,   167.98,2,     0.18,    37.45,2,     0.05,     0.00,2,     0.01,     2.62,2,     0.01,  -999.00,9,  -999.00,    0.000,2,    0.000,2,    0.000,2,    0.000,2,   2340.2,2,   2428.5,2,   -999.0,9,   7.5507,       25,2, -999.000,9,    38.40,2, -999.000,9, -999.000,   -999.0,9,   -999.0, -999.000,9, -999.000, -999.000,9, -999.000,   -999.0,9,   -999.0, -999.000,9, -999.000,9, -999.000,9