BOTTLE,20230904JAMSTECRIGC
EXPOCODE,SECT,STNNBR,CASTNO,SAMPNO,BTLNBR,BTLNBR_FLAG_W,DATE,TIME,LATITUDE,LONGITUDE,DEPTH,CTDPRS,CTDPRS_FLAG_W,CTDTMP,CTDTMP_FLAG_W,SBE35,SBE35_FLAG_W,CTDSAL,CTDSAL_FLAG_W,SALNTY,SALNTY_FLAG_W,DNSSAL,DNSSAL_FLAG_W,CTDOXY,CTDOXY_FLAG_W,OXYGEN,OXYGEN_FLAG_W,XMISS,XMISSCP,XMISS_FLAG_W,FLUOR,FLUOR_FLAG_W,CHLORA,CHLORA_FLAG_W,CDOM,CDOM_FLAG_W,PAR,PAR_FLAG_W,SILCAT,SILCAT_FLAG_W,SILUNC,NITRAT,NITRAT_FLAG_W,NRAUNC,NITRIT,NITRIT_FLAG_W,NRIUNC,PHSPHT,PHSPHT_FLAG_W,PHPUNC,AMMONIA,AMMONIA_FLAG_W,NH4UNC,CFC-11,CFC-11_FLAG_W,CFC-12,CFC-12_FLAG_W,CFC113,CFC113_FLAG_W,SF6,SF6_FLAG_W,TCARBN,TCARBN_FLAG_W,ALKALI,ALKALI_FLAG_W,ALKALI_POT,ALKALI_POT_FLAG_W,PH_TOT,PH_TMP,PH_TOT_FLAG_W,CALCIUM,CALCIUM_FLAG_W,DOC,DOC_FLAG_W,DELC13,DELC13_FLAG_W,C13ERR,DELC14,DELC14_FLAG_W,C14ERR,CS-134,CS-134_FLAG_W,CS134ER,CS-137,CS-137_FLAG_W,CS137ER,I-129,I-129_FLAG_W,I-129ER,CDOM-325,CDOM-325_FLAG_W,CDOM-370,CDOM-370_FLAG_W,CDOM-443,CDOM-443_FLAG_W
,,,,,,,,UTC,DEG,DEG,METERS,DBAR,,ITS-90,,ITS-90,,PSS-78,,PSS-78,,G/KG,,UMOL/KG,,UMOL/KG,,%TRANS,/METER,,MG/CUM,,MG/CUM,,MG/CUM,,UE/SQM/S,,UMOL/KG,,UMOL/KG,UMOL/KG,,UMOL/KG,UMOL/KG,,UMOL/KG,UMOL/KG,,UMOL/KG,UMOL/KG,,UMOL/KG,PMOL/KG,,PMOL/KG,,PMOL/KG,,FMOL/KG,,UMOL/KG,,UMOL/KG,,UMOL/KG,,,DEG C,,MMOL/KG,,UMOL/KG,,/MILLE,,/MILLE,/MILLE,,/MILLE,MBQ/KG,,MBQ/KG,MBQ/KG,,MBQ/KG,,,,/METER,,/METER,,/METER,
  49NZ20140717,   P01,   109,  1,      0,   -999,9,20140809,1555, 47.0098,-165.9832, 5340,   -999.0,9,-999.0000,9,-999.00000,9,-999.0000,9,  32.7906,2,-999.0000,9,  -999.00,9,  -999.00,9, -999.000,-999.0000,9, -999.000,9,     0.61,2, -999.000,9, -999.000,9,    18.42,2,     0.09,    11.50,2,     0.02,     0.14,2,     0.01,     1.11,2,     0.01,  -999.00,9,  -999.00, -999.000,9, -999.000,9, -999.000,9, -999.000,9,   -999.0,9,   -999.0,9,   -999.0,9,-999.0000,     -999,9, -999.000,9,  -999.00,9, -999.000,9, -999.000,   -999.0,9,   -999.0, -999.000,9, -999.000, -999.000,9, -999.000,   -999.0,9,   -999.0,    0.244,2,    0.132,2,    0.066,2
  49NZ20140717,   P01,   109,  1,     36, X12J36,2,20140809,1555, 47.0098,-165.9832, 5340,     10.5,2,  12.8635,2,  12.86212,2,  32.7807,2,  32.7864,2,-999.0000,9,   272.27,2,   273.92,2,   94.157,   0.2408,2,    0.554,2,     0.58,2,   -0.617,1,   44.633,2,    18.72,2,     0.09,    11.66,2,     0.02,     0.14,2,     0.01,     1.13,2,     0.01,  -999.00,9,  -999.00,    3.248,2,    1.889,2,    0.358,2, -999.000,9,   2028.2,2,   2213.7,2,   -999.0,9,   7.8482,       25,6, -999.000,9,    60.94,2, -999.000,9, -999.000,   -999.0,9,   -999.0, -999.000,9, -999.000, -999.000,9, -999.000,   -999.0,9,   -999.0,    0.200,2,    0.088,2,    0.038,2
  49NZ20140717,   P01,   109,  1,     35, X12J35,2,20140809,1555, 47.0098,-165.9832, 5340,     50.1,2,   5.7872,2,   5.78590,2,  32.9499,2,  32.9506,2,-999.0000,9,   315.35,2,   316.20,2,   97.980,   0.0816,2,    0.415,2,     0.33,2,    0.698,1,    1.520,2,    21.67,2,     0.09,    14.84,2,     0.03,     0.17,2,     0.01,     1.37,2,     0.01,  -999.00,9,  -999.00,    4.654,2,    2.586,2,    0.447,2, -999.000,9,   2072.2,6,   2221.1,2,   -999.0,9,   7.7644,       25,2, -999.000,9,    57.17,2, -999.000,9, -999.000,   -999.0,9,   -999.0, -999.000,9, -999.000, -999.000,9, -999.000,   -999.0,9,   -999.0,    0.250,2,    0.114,2,    0.045,2
  49NZ20140717,   P01,   109,  1,     34, X12J34,2,20140809,1555, 47.0098,-165.9832, 5340,    101.0,2,   5.3620,2,   5.36205,2,  33.0947,2,  33.0875,2,-999.0000,9,   292.66,2,   293.64,2,   99.433,   0.0228,2,    0.166,2,     0.16,2,    0.642,1,    0.037,2,    23.67,2,     0.09,    17.39,2,     0.03,     0.01,2,     0.01,     1.44,2,     0.01,  -999.00,9,  -999.00,    4.583,2,    2.539,2,    0.427,2, -999.000,9,   2092.3,2,   2225.0,2,   -999.0,9,   7.7222,       25,2, -999.000,9,    51.17,2, -999.000,9, -999.000,   -999.0,9,   -999.0, -999.000,9, -999.000, -999.000,9, -999.000,   -999.0,9,   -999.0,    0.180,2,    0.086,2,    0.038,2
  49NZ20140717,   P01,   109,  1,     33, X12J33,2,20140809,1555, 47.0098,-165.9832, 5340,    150.6,2,   5.1413,2,   5.13745,2,  33.6562,2,  33.6482,2,-999.0000,9,   227.83,2,   228.21,2,   99.675,   0.0130,2,    0.020,2,     0.01,2,    1.544,1,    0.000,2,    40.49,2,     0.10,    24.07,2,     0.04,     0.01,2,     0.01,     1.78,2,     0.01,  -999.00,9,  -999.00,    4.055,2,    2.235,2,    0.294,2, -999.000,9,   2163.1,2,   2260.7,2,   -999.0,9,   7.6098,       25,6, -999.000,9,    47.78,2, -999.000,9, -999.000,   -999.0,9,   -999.0, -999.000,9, -999.000, -999.000,9, -999.000,   -999.0,9,   -999.0, -999.000,9, -999.000,9, -999.000,9
  49NZ20140717,   P01,   109,  1,     32, X12J32,2,20140809,1555, 47.0098,-165.9832, 5340,    201.0,2,   4.5944,2,   4.59794,2,  33.7488,2,  33.7493,2,-999.0000,9,   155.99,2,   156.43,2,   99.788,   0.0085,2,    0.022,2,     0.01,2,    2.162,1,    0.000,2,    60.26,2,     0.11,    31.66,2,     0.04,     0.01,2,     0.01,     2.30,2,     0.01,  -999.00,9,  -999.00,    3.437,2,    1.845,2,    0.253,2, -999.000,9,   2225.8,2,   2275.2,6,   -999.0,9,   7.4750,       25,2, -999.000,9,    47.47,2, -999.000,9, -999.000,   -999.0,9,   -999.0, -999.000,9, -999.000, -999.000,9, -999.000,   -999.0,9,   -999.0,    0.242,2,    0.124,2,    0.063,2
  49NZ20140717,   P01,   109,  1,     31, X12J31,2,20140809,1555, 47.0098,-165.9832, 5340,    249.9,2,   4.3881,2,   4.38793,2,  33.8387,2,  33.8371,2,-999.0000,9,   119.20,2,   119.50,2,   99.814,   0.0074,2,    0.022,2,     0.00,2,    2.462,1,    0.000,2,    72.17,2,     0.12,    35.22,2,     0.05,     0.01,2,     0.01,     2.54,2,     0.01,  -999.00,9,  -999.00,    2.879,2,    1.526,2,    0.182,2, -999.000,9,   2256.2,2,   2287.4,2,   -999.0,9,   7.4125,       25,2, -999.000,9,    45.47,2, -999.000,9, -999.000,   -999.0,9,   -999.0, -999.000,9, -999.000, -999.000,9, -999.000,   -999.0,9,   -999.0, -999.000,9, -999.000,9, -999.000,9
  49NZ20140717,   P01,   109,  1,     30, X12J30,2,20140809,1555, 47.0098,-165.9832, 5340,    331.9,2,   4.2039,2,   4.20473,2,  33.9276,2,  33.9253,2,-999.0000,9,    87.95,2,    88.28,2,   99.656,   0.0138,2,    0.021,2,  -999.00,9,    2.542,1,    0.000,2,    84.05,2,     0.13,    38.25,2,     0.05,     0.01,2,     0.01,     2.74,2,     0.01,  -999.00,9,  -999.00,    2.304,2,    1.207,2,    0.145,2, -999.000,9,   2285.9,2,   2299.7,2,   -999.0,9,   7.3649,       25,2, -999.000,9,    45.02,2, -999.000,9, -999.000,   -999.0,9,   -999.0, -999.000,9, -999.000, -999.000,9, -999.000,   -999.0,9,   -999.0, -999.000,9, -999.000,9, -999.000,9
  49NZ20140717,   P01,   109,  1,     29, X12J29,2,20140809,1555, 47.0098,-165.9832, 5340,    429.7,2,   3.8426,2,   3.84243,2,  34.0168,2,  34.0157,2,-999.0000,9,    53.66,2,    54.17,2,   99.855,   0.0058,2,    0.021,2,  -999.00,9,    2.870,1,    0.000,2,    99.63,2,     0.14,    41.45,2,     0.05,     0.01,2,     0.01,     2.96,2,     0.01,  -999.00,9,  -999.00,    1.670,2,    0.861,2,    0.128,2, -999.000,9,   2317.8,2,   2311.7,2,   -999.0,9,   7.3100,       25,2, -999.000,9,    43.85,2, -999.000,9, -999.000,   -999.0,9,   -999.0, -999.000,9, -999.000, -999.000,9, -999.000,   -999.0,9,   -999.0, -999.000,9, -999.000,9, -999.000,9
  49NZ20140717,   P01,   109,  1,     28, X12J28,2,20140809,1555, 47.0098,-165.9832, 5340,    530.0,2,   3.7130,2,   3.71297,2,  34.1180,2,  34.1166,2,-999.0000,9,    37.16,2,    37.42,2,   99.896,   0.0042,2,    0.022,2,  -999.00,9,    3.014,1,    0.000,2,   110.57,2,     0.14,    42.58,2,     0.05,     0.00,2,     0.01,     3.03,2,     0.01,  -999.00,9,  -999.00,    1.122,2,    0.552,2,    0.070,2, -999.000,9,   2335.5,2,   2329.9,2,   -999.0,9,   7.2997,       25,2, -999.000,9,    42.03,2, -999.000,9, -999.000,   -999.0,9,   -999.0, -999.000,9, -999.000, -999.000,9, -999.000,   -999.0,9,   -999.0,    0.311,2,    0.193,2,    0.108,2
  49NZ20140717,   P01,   109,  1,     27, X12J27,2,20140809,1555, 47.0098,-165.9832, 5340,    630.6,2,   3.5842,2,   3.58391,2,  34.1903,2,  34.1903,2,-999.0000,9,    34.08,2,    34.36,2,   99.879,   0.0048,2,    0.021,2,  -999.00,9,    2.963,1,    0.000,2,   118.30,2,     0.15,    42.71,2,     0.05,     0.00,2,     0.01,     3.05,2,     0.01,  -999.00,9,  -999.00,    0.799,2,    0.387,2,    0.041,2, -999.000,9,   2346.3,2,   2340.1,2,   -999.0,9,   7.3053,       25,2, -999.000,9,    40.65,2, -999.000,9, -999.000,   -999.0,9,   -999.0, -999.000,9, -999.000, -999.000,9, -999.000,   -999.0,9,   -999.0, -999.000,9, -999.000,9, -999.000,9
  49NZ20140717,   P01,   109,  1,     26, X12J26,2,20140809,1555, 47.0098,-165.9832, 5340,    729.5,2,   3.3485,2,   3.34846,2,  34.2505,2,  34.2502,2,-999.0000,9,    27.96,2,    28.01,2,   99.922,   0.0031,2,    0.021,2,  -999.00,9,    3.081,1,    0.000,2,   127.69,2,     0.15,    43.35,2,     0.05,     0.00,2,     0.01,     3.10,2,     0.01,  -999.00,9,  -999.00,    0.555,2,    0.262,2,    0.028,2, -999.000,9,   2356.6,6,   2352.0,2,   -999.0,9,   7.3086,       25,2, -999.000,9,    43.31,2, -999.000,9, -999.000,   -999.0,9,   -999.0, -999.000,9, -999.000, -999.000,9, -999.000,   -999.0,9,   -999.0, -999.000,9, -999.000,9, -999.000,9
  49NZ20140717,   P01,   109,  1,     25, X12J25,2,20140809,1555, 47.0098,-165.9832, 5340,    827.7,2,   3.1923,2,   3.19225,2,  34.3049,2,  34.3037,2,-999.0000,9,    27.46,2,    27.58,2,   99.896,   0.0042,2,    0.021,2,  -999.00,9,    3.100,1,    0.000,2,   133.33,2,     0.16,    43.19,2,     0.05,     0.00,2,     0.01,     3.10,2,     0.01,  -999.00,9,  -999.00,    0.379,2,    0.177,2,    0.018,2, -999.000,9,   2365.1,2,   2360.5,2,   -999.0,9,   7.3134,       25,2, -999.000,9,    41.11,2, -999.000,9, -999.000,   -999.0,9,   -999.0, -999.000,9, -999.000, -999.000,9, -999.000,   -999.0,9,   -999.0,    0.247,2,    0.152,2,    0.085,2
  49NZ20140717,   P01,   109,  1,     24, X12J24,2,20140809,1555, 47.0098,-165.9832, 5340,    929.9,2,   3.0185,2,   3.01892,2,  34.3512,2,  34.3493,2,-999.0000,9,    26.80,2,    26.77,2,   99.857,   0.0057,2,    0.020,2,  -999.00,9,    3.134,1,    0.000,2,   139.56,2,     0.16,    43.40,2,     0.05,     0.00,2,     0.01,     3.11,2,     0.01,  -999.00,9,  -999.00,    0.257,2,    0.117,2,    0.012,2, -999.000,9,   2371.5,2,   2370.2,2,   -999.0,9,   7.3181,       25,2, -999.000,9,    43.23,3, -999.000,9, -999.000,   -999.0,9,   -999.0, -999.000,9, -999.000, -999.000,9, -999.000,   -999.0,9,   -999.0, -999.000,9, -999.000,9, -999.000,9
  49NZ20140717,   P01,   109,  1,     23, X12J23,2,20140809,1555, 47.0098,-165.9832, 5340,   1070.1,2,   2.8063,2,   2.80558,2,  34.3999,2,  34.3995,2,-999.0000,9,    26.17,2,    25.92,2,   99.898,   0.0041,2,    0.020,2,  -999.00,9,    3.170,1,    0.000,2,   146.99,2,     0.17,    43.65,2,     0.05,     0.00,2,     0.01,     3.12,2,     0.01,  -999.00,9,  -999.00,    0.149,2,    0.065,2,    0.005,2, -999.000,9,   2379.1,2,   2379.0,2,   -999.0,9,   7.3226,       25,2, -999.000,9,    40.92,2, -999.000,9, -999.000,   -999.0,9,   -999.0, -999.000,9, -999.000, -999.000,9, -999.000,   -999.0,9,   -999.0,    0.257,2,    0.165,2,    0.093,2
  49NZ20140717,   P01,   109,  1,     22, X12J22,2,20140809,1555, 47.0098,-165.9832, 5340,   1271.2,2,   2.5219,2,   2.52155,2,  34.4605,2,  34.4604,2,-999.0000,9,    28.37,2,    27.96,2,   99.883,   0.0047,2,    0.019,2,  -999.00,9,    3.180,1,    0.000,2,   156.21,2,     0.17,    43.85,2,     0.06,     0.00,2,     0.01,     3.12,2,     0.01,  -999.00,9,  -999.00,    0.070,2,    0.028,2,    0.000,2, -999.000,9,   2388.3,2,   2390.8,6,   -999.0,9,   7.3331,       25,2, -999.000,9,    39.75,2, -999.000,9, -999.000,   -999.0,9,   -999.0, -999.000,9, -999.000, -999.000,9, -999.000,   -999.0,9,   -999.0, -999.000,9, -999.000,9, -999.000,9
  49NZ20140717,   P01,   109,  1,     21, X12J21,2,20140809,1555, 47.0098,-165.9832, 5340,   1470.0,2,   2.3210,2,   2.32182,2,  34.5024,2,  34.5032,2,-999.0000,9,    34.41,2,    34.25,2,   99.911,   0.0035,2,    0.018,2,  -999.00,9,    3.195,1,    0.000,2,   162.26,2,     0.18,    43.53,2,     0.05,     0.00,2,     0.01,     3.09,2,     0.01,  -999.00,9,  -999.00,    0.034,2,    0.014,2,    0.000,2, -999.000,9,   2390.6,2,   2400.4,2,   -999.0,9,   7.3492,       25,2, -999.000,9,    39.68,2, -999.000,9, -999.000,   -999.0,9,   -999.0, -999.000,9, -999.000, -999.000,9, -999.000,   -999.0,9,   -999.0, -999.000,9, -999.000,9, -999.000,9
  49NZ20140717,   P01,   109,  1,     20, X12J20,2,20140809,1555, 47.0098,-165.9832, 5340,   1670.8,2,   2.1477,2,   2.14765,2,  34.5400,2,  34.5394,2,-999.0000,9,    42.98,2,    42.81,2,   99.901,   0.0040,2,    0.016,2,  -999.00,9,    3.101,1,    0.000,2,   166.35,2,     0.18,    43.12,2,     0.05,     0.00,2,     0.01,     3.06,2,     0.01,  -999.00,9,  -999.00,    0.016,2,    0.007,2,    0.000,2, -999.000,9,   2387.3,2,   2405.1,2,   -999.0,9,   7.3662,       25,6, -999.000,9,    40.84,2, -999.000,9, -999.000,   -999.0,9,   -999.0, -999.000,9, -999.000, -999.000,9, -999.000,   -999.0,9,   -999.0, -999.000,9, -999.000,9, -999.000,9
  49NZ20140717,   P01,   109,  1,     19, X12J19,2,20140809,1555, 47.0098,-165.9832, 5340,   1871.3,2,   2.0175,2,   2.01753,2,  34.5683,2,  34.5680,2,-999.0000,9,    53.60,2,    53.44,2,   99.968,   0.0013,2,    0.015,2,  -999.00,9,    3.104,1,    0.000,2,   168.37,2,     0.18,    42.42,2,     0.05,     0.00,2,     0.01,     3.00,2,     0.01,  -999.00,9,  -999.00,    0.007,2,    0.003,2,    0.000,2, -999.000,9,   2386.2,2,   2410.2,2,   -999.0,9,   7.3887,       25,2, -999.000,9,    42.02,3, -999.000,9, -999.000,   -999.0,9,   -999.0, -999.000,9, -999.000, -999.000,9, -999.000,   -999.0,9,   -999.0, -999.000,9, -999.000,9, -999.000,9
  49NZ20140717,   P01,   109,  1,     18, X12J18,2,20140809,1555, 47.0098,-165.9832, 5340,   2070.2,2,   1.8949,2,   1.89484,2,  34.5939,2,  34.5934,2,-999.0000,9,    63.94,2,    63.74,2,   99.966,   0.0014,2,    0.014,2,  -999.00,9,    3.030,1,    0.000,2,   170.27,2,     0.18,    41.86,2,     0.05,     0.00,2,     0.01,     2.96,2,     0.01,  -999.00,9,  -999.00,    0.002,2,    0.001,2,    0.000,2, -999.000,9,   2383.3,2,   2414.7,2,   -999.0,9,   7.4106,       25,2, -999.000,9,    40.30,2, -999.000,9, -999.000,   -999.0,9,   -999.0, -999.000,9, -999.000, -999.000,9, -999.000,   -999.0,9,   -999.0,    0.253,2,    0.161,2,    0.095,2
  49NZ20140717,   P01,   109,  1,     17, X12J17,2,20140809,1555, 47.0098,-165.9832, 5340,   2271.1,2,   1.8084,2,   1.80812,2,  34.6115,2,  34.6118,2,-999.0000,9,    74.13,2,    74.29,2,   99.948,   0.0021,2,    0.013,2,  -999.00,9,    2.977,1,    0.000,2,   170.72,2,     0.18,    41.28,2,     0.05,     0.00,2,     0.01,     2.91,2,     0.01,  -999.00,9,  -999.00,    0.000,2,    0.000,2,    0.000,2, -999.000,9,   2377.7,2,   2416.2,2,   -999.0,9,   7.4317,       25,2, -999.000,9,    40.05,2, -999.000,9, -999.000,   -999.0,9,   -999.0, -999.000,9, -999.000, -999.000,9, -999.000,   -999.0,9,   -999.0, -999.000,9, -999.000,9, -999.000,9
  49NZ20140717,   P01,   109,  1,     16, X12J16,2,20140809,1555, 47.0098,-165.9832, 5340,   2470.7,2,   1.7278,2,   1.72787,2,  34.6270,2,  34.6272,2,-999.0000,9,    85.63,2,    85.54,2,   99.940,   0.0024,2,    0.013,2,  -999.00,9,    2.901,1,    0.000,2,   170.02,2,     0.18,    40.51,2,     0.05,     0.00,2,     0.01,     2.86,2,     0.01,  -999.00,9,  -999.00,    0.000,2,    0.000,2,    0.000,2, -999.000,9,   2370.9,6,   2418.5,2,   -999.0,9,   7.4538,       25,2, -999.000,9,    39.39,2, -999.000,9, -999.000,   -999.0,9,   -999.0, -999.000,9, -999.000, -999.000,9, -999.000,   -999.0,9,   -999.0, -999.000,9, -999.000,9, -999.000,9
  49NZ20140717,   P01,   109,  1,     15, X12J15,2,20140809,1555, 47.0098,-165.9832, 5340,   2670.4,2,   1.6689,2,   1.66869,2,  34.6383,2,  34.6379,2,-999.0000,9,    95.82,2,    95.76,2,   99.950,   0.0020,2,    0.012,2,  -999.00,9,    2.800,1,    0.000,2,   168.80,2,     0.18,    39.84,2,     0.05,     0.00,2,     0.01,     2.81,2,     0.01,  -999.00,9,  -999.00,    0.000,2,    0.000,2,    0.000,2, -999.000,9,   2366.1,2,   2417.7,2,   -999.0,9,   7.4729,       25,2, -999.000,9,    38.60,2, -999.000,9, -999.000,   -999.0,9,   -999.0, -999.000,9, -999.000, -999.000,9, -999.000,   -999.0,9,   -999.0, -999.000,9, -999.000,9, -999.000,9
  49NZ20140717,   P01,   109,  1,     14, X12J14,2,20140809,1555, 47.0098,-165.9832, 5340,   2871.2,2,   1.6101,2,   1.61015,2,  34.6493,2,  34.6490,2,-999.0000,9,   105.99,2,   105.99,2,   99.970,   0.0012,2,    0.011,2,  -999.00,9,    2.748,1,    0.000,2,   167.32,2,     0.18,    39.22,2,     0.05,     0.00,2,     0.01,     2.76,2,     0.01,  -999.00,9,  -999.00,    0.002,2,    0.000,2,    0.000,2, -999.000,9,   2359.3,2,   2419.8,2,   -999.0,9,   7.4927,       25,6, -999.000,9,    40.35,2, -999.000,9, -999.000,   -999.0,9,   -999.0, -999.000,9, -999.000, -999.000,9, -999.000,   -999.0,9,   -999.0, -999.000,9, -999.000,9, -999.000,9
  49NZ20140717,   P01,   109,  1,     13, X12113,2,20140809,1555, 47.0098,-165.9832, 5340,   3080.4,2,   1.5666,2,   1.56640,2,  34.6577,2,  34.6576,2,-999.0000,9,   115.54,2,   115.44,2,   99.953,   0.0019,2,    0.011,2,  -999.00,9,    2.679,1,    0.000,2,   165.14,2,     0.44,    38.58,2,     0.05,     0.00,2,     0.01,     2.70,2,     0.01,  -999.00,9,  -999.00,    0.000,2,    0.000,2,    0.000,2, -999.000,9,   2352.5,2,   2420.2,2,   -999.0,9,   7.5109,       25,2, -999.000,9,    40.46,2, -999.000,9, -999.000,   -999.0,9,   -999.0, -999.000,9, -999.000, -999.000,9, -999.000,   -999.0,9,   -999.0,    0.224,2,    0.146,2,    0.083,2
  49NZ20140717,   P01,   109,  1,     12, X12J12,2,20140809,1555, 47.0098,-165.9832, 5340,   3331.2,2,   1.5190,2,   1.51909,2,  34.6671,2,  34.6673,2,-999.0000,9,   126.20,2,   125.88,2,   99.955,   0.0018,2,    0.010,2,  -999.00,9,    2.507,1,    0.000,2,   162.53,2,     0.18,    37.87,2,     0.05,     0.00,2,     0.01,     2.65,2,     0.01,  -999.00,9,  -999.00,    0.000,2,    0.000,2,    0.000,2, -999.000,9,   2345.7,2,   2419.0,6,   -999.0,9,   7.5302,       25,2, -999.000,9,    40.87,2, -999.000,9, -999.000,   -999.0,9,   -999.0, -999.000,9, -999.000, -999.000,9, -999.000,   -999.0,9,   -999.0, -999.000,9, -999.000,9, -999.000,9
  49NZ20140717,   P01,   109,  1,     11, X12J11,2,20140809,1555, 47.0098,-165.9832, 5340,   3580.8,2,   1.4897,2,   1.48989,2,  34.6737,2,  34.6736,2,-999.0000,9,   134.38,2,   134.12,2,   99.959,   0.0016,2,    0.009,2,  -999.00,9,    2.507,1,    0.000,2,   160.80,2,     0.17,    37.35,2,     0.05,     0.00,2,     0.01,     2.61,2,     0.01,  -999.00,9,  -999.00,    0.000,2,    0.000,2,    0.000,2, -999.000,9,   2339.7,2,   2420.6,2,   -999.0,9,   7.5458,       25,2, -999.000,9,    40.53,2, -999.000,9, -999.000,   -999.0,9,   -999.0, -999.000,9, -999.000, -999.000,9, -999.000,   -999.0,9,   -999.0, -999.000,9, -999.000,9, -999.000,9
  49NZ20140717,   P01,   109,  1,     10, X12J10,2,20140809,1555, 47.0098,-165.9832, 5340,   3829.7,2,   1.4719,2,   1.47198,2,  34.6790,2,  34.6786,2,-999.0000,9,   140.83,2,   140.57,2,   99.987,   0.0005,2,    0.009,2,  -999.00,9,    2.567,1,    0.000,2,   160.05,2,     0.17,    36.94,2,     0.05,     0.00,2,     0.01,     2.58,2,     0.01,  -999.00,9,  -999.00,    0.000,2,    0.000,2,    0.000,2, -999.000,9,   2336.7,2,   2420.8,2,   -999.0,9,   7.5577,       25,2, -999.000,9,    39.96,2, -999.000,9, -999.000,   -999.0,9,   -999.0, -999.000,9, -999.000, -999.000,9, -999.000,   -999.0,9,   -999.0, -999.000,9, -999.000,9, -999.000,9