BOTTLE,20230904JAMSTECRIGC
EXPOCODE,SECT,STNNBR,CASTNO,SAMPNO,BTLNBR,BTLNBR_FLAG_W,DATE,TIME,LATITUDE,LONGITUDE,DEPTH,CTDPRS,CTDPRS_FLAG_W,CTDTMP,CTDTMP_FLAG_W,SBE35,SBE35_FLAG_W,CTDSAL,CTDSAL_FLAG_W,SALNTY,SALNTY_FLAG_W,DNSSAL,DNSSAL_FLAG_W,CTDOXY,CTDOXY_FLAG_W,OXYGEN,OXYGEN_FLAG_W,XMISS,XMISSCP,XMISS_FLAG_W,FLUOR,FLUOR_FLAG_W,CHLORA,CHLORA_FLAG_W,CDOM,CDOM_FLAG_W,PAR,PAR_FLAG_W,SILCAT,SILCAT_FLAG_W,SILUNC,NITRAT,NITRAT_FLAG_W,NRAUNC,NITRIT,NITRIT_FLAG_W,NRIUNC,PHSPHT,PHSPHT_FLAG_W,PHPUNC,AMMONIA,AMMONIA_FLAG_W,NH4UNC,CFC-11,CFC-11_FLAG_W,CFC-12,CFC-12_FLAG_W,CFC113,CFC113_FLAG_W,SF6,SF6_FLAG_W,TCARBN,TCARBN_FLAG_W,ALKALI,ALKALI_FLAG_W,ALKALI_POT,ALKALI_POT_FLAG_W,PH_TOT,PH_TMP,PH_TOT_FLAG_W,CALCIUM,CALCIUM_FLAG_W,DOC,DOC_FLAG_W,DELC13,DELC13_FLAG_W,C13ERR,DELC14,DELC14_FLAG_W,C14ERR,CS-134,CS-134_FLAG_W,CS134ER,CS-137,CS-137_FLAG_W,CS137ER,I-129,I-129_FLAG_W,I-129ER,CDOM-325,CDOM-325_FLAG_W,CDOM-370,CDOM-370_FLAG_W,CDOM-443,CDOM-443_FLAG_W
,,,,,,,,UTC,DEG,DEG,METERS,DBAR,,ITS-90,,ITS-90,,PSS-78,,PSS-78,,G/KG,,UMOL/KG,,UMOL/KG,,%TRANS,/METER,,MG/CUM,,MG/CUM,,MG/CUM,,UE/SQM/S,,UMOL/KG,,UMOL/KG,UMOL/KG,,UMOL/KG,UMOL/KG,,UMOL/KG,UMOL/KG,,UMOL/KG,UMOL/KG,,UMOL/KG,PMOL/KG,,PMOL/KG,,PMOL/KG,,FMOL/KG,,UMOL/KG,,UMOL/KG,,UMOL/KG,,,DEG C,,MMOL/KG,,UMOL/KG,,/MILLE,,/MILLE,/MILLE,,/MILLE,MBQ/KG,,MBQ/KG,MBQ/KG,,MBQ/KG,,,,/METER,,/METER,,/METER,
  49NZ20140717,   P01,    53,  1,      0,   -999,9,20140721,1531, 40.1312, 147.5500, 5293,   -999.0,9,-999.0000,9,-999.00000,9,-999.0000,9,  32.8035,2,-999.0000,9,  -999.00,9,  -999.00,9, -999.000,-999.0000,9, -999.000,9,  -999.00,9, -999.000,9, -999.000,9,     1.78,2,     0.11,     0.25,2,     0.06,     0.02,2,     0.01,     0.22,2,     0.01,  -999.00,9,  -999.00, -999.000,9, -999.000,9, -999.000,9, -999.000,9,   -999.0,9,   -999.0,9,   -999.0,9,-999.0000,     -999,9, -999.000,9,  -999.00,9, -999.000,9, -999.000,   -999.0,9,   -999.0, -999.000,9, -999.000, -999.000,9, -999.000,   -999.0,9,   -999.0, -999.000,9, -999.000,9, -999.000,9
  49NZ20140717,   P01,    53,  1,     36, X12J36,2,20140721,1531, 40.1312, 147.5500, 5293,     10.6,2,  18.0453,2,  17.99160,2,  32.8155,2,  32.8084,2,-999.0000,9,   254.06,2,   257.35,2,   95.381,   0.1892,2,    0.427,2,  -999.00,9,    0.264,1,    0.277,2,     1.76,2,     0.11,     0.11,2,     0.01,     0.02,2,     0.01,     0.19,2,     0.01,  -999.00,9,  -999.00, -999.000,9, -999.000,9, -999.000,9, -999.000,9,   -999.0,9,   -999.0,9,   -999.0,9,-999.0000,     -999,9, -999.000,9,  -999.00,9, -999.000,9, -999.000,   -999.0,9,   -999.0, -999.000,9, -999.000, -999.000,9, -999.000,   -999.0,9,   -999.0, -999.000,9, -999.000,9, -999.000,9
  49NZ20140717,   P01,    53,  1,     35, X12J35,2,20140721,1531, 40.1312, 147.5500, 5293,     49.7,2,   3.3636,2,   3.36114,2,  32.8766,2,  32.8786,2,-999.0000,9,   331.73,2,   332.99,2,   96.627,   0.1372,2,    0.407,2,  -999.00,9,    1.094,1,    0.000,2,    22.77,2,     0.09,    16.95,2,     0.03,     0.40,2,     0.01,     1.64,2,     0.01,  -999.00,9,  -999.00, -999.000,9, -999.000,9, -999.000,9, -999.000,9,   -999.0,9,   -999.0,9,   -999.0,9,-999.0000,     -999,9, -999.000,9,  -999.00,9, -999.000,9, -999.000,   -999.0,9,   -999.0, -999.000,9, -999.000, -999.000,9, -999.000,   -999.0,9,   -999.0, -999.000,9, -999.000,9, -999.000,9
  49NZ20140717,   P01,    53,  1,     34, X12J34,2,20140721,1531, 40.1312, 147.5500, 5293,    100.6,2,   1.5129,2,   1.51206,2,  33.0148,2,  33.0163,2,-999.0000,9,   316.13,2,   316.97,2,   98.958,   0.0419,2,    0.078,2,  -999.00,9,    1.205,1,    0.000,2,    41.76,2,     0.10,    24.54,2,     0.04,     0.03,2,     0.01,     1.96,2,     0.01,  -999.00,9,  -999.00, -999.000,9, -999.000,9, -999.000,9, -999.000,9,   -999.0,9,   -999.0,9,   -999.0,9,-999.0000,     -999,9, -999.000,9,  -999.00,9, -999.000,9, -999.000,   -999.0,9,   -999.0, -999.000,9, -999.000, -999.000,9, -999.000,   -999.0,9,   -999.0, -999.000,9, -999.000,9, -999.000,9
  49NZ20140717,   P01,    53,  1,     33, X12J33,2,20140721,1531, 40.1312, 147.5500, 5293,    150.7,2,   1.6130,2,   1.61172,2,  33.2429,2,  33.2441,2,-999.0000,9,   248.93,2,   248.03,2,   99.059,   0.0378,2,    0.016,2,  -999.00,9,    1.698,1,    0.000,2,    57.70,2,     0.11,    29.56,2,     0.04,     0.03,2,     0.01,     2.27,2,     0.01,  -999.00,9,  -999.00, -999.000,9, -999.000,9, -999.000,9, -999.000,9,   -999.0,9,   -999.0,9,   -999.0,9,-999.0000,     -999,9, -999.000,9,  -999.00,9, -999.000,9, -999.000,   -999.0,9,   -999.0, -999.000,9, -999.000, -999.000,9, -999.000,   -999.0,9,   -999.0, -999.000,9, -999.000,9, -999.000,9
  49NZ20140717,   P01,    53,  1,     32, X12J32,2,20140721,1531, 40.1312, 147.5500, 5293,    200.5,2,   2.2017,2,   2.20252,2,  33.4670,2,  33.4695,2,-999.0000,9,   176.73,2,   175.32,2,   98.979,   0.0410,2,    0.011,2,  -999.00,9,    2.094,1,    0.000,2,    72.93,2,     0.12,    34.82,2,     0.05,     0.03,2,     0.01,     2.60,2,     0.01,  -999.00,9,  -999.00, -999.000,9, -999.000,9, -999.000,9, -999.000,9,   -999.0,9,   -999.0,9,   -999.0,9,-999.0000,     -999,9, -999.000,9,  -999.00,9, -999.000,9, -999.000,   -999.0,9,   -999.0, -999.000,9, -999.000, -999.000,9, -999.000,   -999.0,9,   -999.0, -999.000,9, -999.000,9, -999.000,9
  49NZ20140717,   P01,    53,  1,     31, X12J31,2,20140721,1531, 40.1312, 147.5500, 5293,    249.2,2,   2.6691,2,   2.66993,2,  33.6191,2,  33.6203,2,-999.0000,9,   125.39,2,   124.74,2,   99.048,   0.0383,2,    0.008,2,  -999.00,9,    2.370,1,    0.000,2,    83.62,2,     0.13,    38.54,2,     0.05,     0.02,2,     0.01,     2.81,2,     0.01,  -999.00,9,  -999.00, -999.000,9, -999.000,9, -999.000,9, -999.000,9,   -999.0,9,   -999.0,9,   -999.0,9,-999.0000,     -999,9, -999.000,9,  -999.00,9, -999.000,9, -999.000,   -999.0,9,   -999.0, -999.000,9, -999.000, -999.000,9, -999.000,   -999.0,9,   -999.0, -999.000,9, -999.000,9, -999.000,9
  49NZ20140717,   P01,    53,  1,     30, X12J30,2,20140721,1531, 40.1312, 147.5500, 5293,    279.8,2,   2.6577,2,   2.65412,2,  33.6702,2,  33.6672,2,-999.0000,9,   111.98,2,   113.68,2,   99.165,   0.0336,2,    0.008,2,  -999.00,9,    2.400,1,    0.000,2,    86.72,2,     0.13,    39.07,2,     0.05,     0.02,2,     0.01,     2.85,2,     0.01,  -999.00,9,  -999.00, -999.000,9, -999.000,9, -999.000,9, -999.000,9,   -999.0,9,   -999.0,9,   -999.0,9,-999.0000,     -999,9, -999.000,9,  -999.00,9, -999.000,9, -999.000,   -999.0,9,   -999.0, -999.000,9, -999.000, -999.000,9, -999.000,   -999.0,9,   -999.0, -999.000,9, -999.000,9, -999.000,9
  49NZ20140717,   P01,    53,  1,     29, X12J29,2,20140721,1531, 40.1312, 147.5500, 5293,    370.3,2,   3.1367,2,   3.13636,2,  33.8541,2,  33.8542,2,-999.0000,9,    63.87,2,    64.38,2,   99.462,   0.0216,2,    0.010,2,  -999.00,9,    2.685,1,    0.000,2,    99.70,2,     0.14,    42.18,2,     0.05,     0.02,2,     0.01,     3.03,2,     0.01,  -999.00,9,  -999.00, -999.000,9, -999.000,9, -999.000,9, -999.000,9,   -999.0,9,   -999.0,9,   -999.0,9,-999.0000,     -999,9, -999.000,9,  -999.00,9, -999.000,9, -999.000,   -999.0,9,   -999.0, -999.000,9, -999.000, -999.000,9, -999.000,   -999.0,9,   -999.0, -999.000,9, -999.000,9, -999.000,9
  49NZ20140717,   P01,    53,  1,     28, X12J28,2,20140721,1531, 40.1312, 147.5500, 5293,    469.2,2,   3.8470,2,   3.84819,2,  34.0788,2,  34.0785,2,-999.0000,9,    61.39,2,    61.78,2,   99.835,   0.0066,2,    0.007,2,  -999.00,9,    2.517,1,    0.000,2,   103.76,2,     0.14,    40.29,2,     0.05,     0.01,2,     0.01,     2.91,2,     0.01,  -999.00,9,  -999.00, -999.000,9, -999.000,9, -999.000,9, -999.000,9,   -999.0,9,   -999.0,9,   -999.0,9,-999.0000,     -999,9, -999.000,9,  -999.00,9, -999.000,9, -999.000,   -999.0,9,   -999.0, -999.000,9, -999.000, -999.000,9, -999.000,   -999.0,9,   -999.0, -999.000,9, -999.000,9, -999.000,9
  49NZ20140717,   P01,    53,  1,     27, X12J27,2,20140721,1531, 40.1312, 147.5500, 5293,    568.8,2,   3.5483,2,   3.54751,2,  34.1640,2,  34.1630,2,-999.0000,9,    44.20,2,    44.40,2,   99.820,   0.0072,2,    0.007,2,  -999.00,9,    2.667,1,    0.000,2,   116.63,2,     0.15,    41.80,2,     0.05,     0.01,2,     0.01,     3.01,2,     0.01,  -999.00,9,  -999.00, -999.000,9, -999.000,9, -999.000,9, -999.000,9,   -999.0,9,   -999.0,9,   -999.0,9,-999.0000,     -999,9, -999.000,9,  -999.00,9, -999.000,9, -999.000,   -999.0,9,   -999.0, -999.000,9, -999.000, -999.000,9, -999.000,   -999.0,9,   -999.0, -999.000,9, -999.000,9, -999.000,9
  49NZ20140717,   P01,    53,  1,     26, X12J26,2,20140721,1531, 40.1312, 147.5500, 5293,    669.7,2,   3.3803,2,   3.37926,2,  34.2440,2,  34.2444,2,-999.0000,9,    36.10,2,    36.94,2,   99.807,   0.0077,2,    0.006,2,  -999.00,9,    2.746,1,    0.000,2,   126.35,2,     0.15,    42.52,2,     0.05,     0.01,2,     0.01,     3.06,2,     0.01,  -999.00,9,  -999.00, -999.000,9, -999.000,9, -999.000,9, -999.000,9,   -999.0,9,   -999.0,9,   -999.0,9,-999.0000,     -999,9, -999.000,9,  -999.00,9, -999.000,9, -999.000,   -999.0,9,   -999.0, -999.000,9, -999.000, -999.000,9, -999.000,   -999.0,9,   -999.0, -999.000,9, -999.000,9, -999.000,9
  49NZ20140717,   P01,    53,  1,     25, X12J25,2,20140721,1531, 40.1312, 147.5500, 5293,    770.6,2,   3.3689,2,   3.36820,2,  34.3318,2,  34.3328,2,-999.0000,9,    40.55,2,    40.92,2,   99.835,   0.0066,2,    0.005,2,  -999.00,9,    2.678,1,    0.000,2,   129.08,2,     0.15,    42.11,2,     0.05,     0.01,2,     0.01,     3.02,2,     0.01,  -999.00,9,  -999.00, -999.000,9, -999.000,9, -999.000,9, -999.000,9,   -999.0,9,   -999.0,9,   -999.0,9,-999.0000,     -999,9, -999.000,9,  -999.00,9, -999.000,9, -999.000,   -999.0,9,   -999.0, -999.000,9, -999.000, -999.000,9, -999.000,   -999.0,9,   -999.0, -999.000,9, -999.000,9, -999.000,9
  49NZ20140717,   P01,    53,  1,     24, X12J24,2,20140721,1531, 40.1312, 147.5500, 5293,    870.6,2,   3.1400,2,   3.14081,2,  34.3768,2,  34.3767,2,-999.0000,9,    39.46,2,    39.65,2,   99.885,   0.0046,2,    0.005,2,  -999.00,9,    2.704,1,    0.000,2,   135.63,2,     0.16,    42.52,2,     0.05,     0.01,2,     0.01,     3.05,2,     0.01,  -999.00,9,  -999.00, -999.000,9, -999.000,9, -999.000,9, -999.000,9,   -999.0,9,   -999.0,9,   -999.0,9,-999.0000,     -999,9, -999.000,9,  -999.00,9, -999.000,9, -999.000,   -999.0,9,   -999.0, -999.000,9, -999.000, -999.000,9, -999.000,   -999.0,9,   -999.0, -999.000,9, -999.000,9, -999.000,9
  49NZ20140717,   P01,    53,  1,     23, X12J23,2,20140721,1531, 40.1312, 147.5500, 5293,    969.6,2,   2.7460,2,   2.74586,2,  34.3823,2,  34.3825,2,-999.0000,9,    33.28,2,    33.31,2,   99.861,   0.0056,2,    0.005,2,  -999.00,9,    2.822,1,    0.000,2,   147.74,2,     0.17,    43.24,2,     0.05,     0.01,2,     0.01,     3.10,2,     0.01,  -999.00,9,  -999.00, -999.000,9, -999.000,9, -999.000,9, -999.000,9,   -999.0,9,   -999.0,9,   -999.0,9,-999.0000,     -999,9, -999.000,9,  -999.00,9, -999.000,9, -999.000,   -999.0,9,   -999.0, -999.000,9, -999.000, -999.000,9, -999.000,   -999.0,9,   -999.0, -999.000,9, -999.000,9, -999.000,9
  49NZ20140717,   P01,    53,  1,     22, X12J22,2,20140721,1531, 40.1312, 147.5500, 5293,   1130.4,2,   2.5464,2,   2.54783,2,  34.4325,2,  34.4301,3,-999.0000,9,    35.86,2,    35.71,2,   99.855,   0.0058,2,    0.006,2,  -999.00,9,    2.798,1,    0.000,2,   154.33,2,     0.17,    43.19,2,     0.05,     0.01,2,     0.01,     3.09,2,     0.01,  -999.00,9,  -999.00, -999.000,9, -999.000,9, -999.000,9, -999.000,9,   -999.0,9,   -999.0,9,   -999.0,9,-999.0000,     -999,9, -999.000,9,  -999.00,9, -999.000,9, -999.000,   -999.0,9,   -999.0, -999.000,9, -999.000, -999.000,9, -999.000,   -999.0,9,   -999.0, -999.000,9, -999.000,9, -999.000,9
  49NZ20140717,   P01,    53,  1,     21, X12J21,2,20140721,1531, 40.1312, 147.5500, 5293,   1329.3,2,   2.4016,2,   2.40148,2,  34.4939,2,  34.4934,2,-999.0000,9,    43.49,2,    43.61,2,   99.837,   0.0065,2,    0.004,2,  -999.00,9,    2.819,1,    0.000,2,   157.23,2,     0.17,    42.91,2,     0.05,     0.01,2,     0.01,     3.06,2,     0.01,  -999.00,9,  -999.00, -999.000,9, -999.000,9, -999.000,9, -999.000,9,   -999.0,9,   -999.0,9,   -999.0,9,-999.0000,     -999,9, -999.000,9,  -999.00,9, -999.000,9, -999.000,   -999.0,9,   -999.0, -999.000,9, -999.000, -999.000,9, -999.000,   -999.0,9,   -999.0, -999.000,9, -999.000,9, -999.000,9
  49NZ20140717,   P01,    53,  1,     20, X12J20,2,20140721,1531, 40.1312, 147.5500, 5293,   1529.6,2,   2.1860,2,   2.18570,2,  34.5283,2,  34.5285,2,-999.0000,9,    52.22,2,    52.25,2,   99.870,   0.0052,2,    0.003,2,  -999.00,9,    2.754,1,    0.000,2,   162.57,2,     0.18,    42.42,2,     0.05,     0.01,2,     0.01,     3.03,2,     0.01,  -999.00,9,  -999.00, -999.000,9, -999.000,9, -999.000,9, -999.000,9,   -999.0,9,   -999.0,9,   -999.0,9,-999.0000,     -999,9, -999.000,9,  -999.00,9, -999.000,9, -999.000,   -999.0,9,   -999.0, -999.000,9, -999.000, -999.000,9, -999.000,   -999.0,9,   -999.0, -999.000,9, -999.000,9, -999.000,9
  49NZ20140717,   P01,    53,  1,     19, X12J19,2,20140721,1531, 40.1312, 147.5500, 5293,   1729.0,2,   2.0628,2,   2.06205,2,  34.5677,2,  34.5667,2,-999.0000,9,    63.50,2,    63.74,2,   99.811,   0.0075,2,    0.003,2,  -999.00,9,    2.711,1,    0.000,2,   162.80,2,     0.18,    41.87,2,     0.05,     0.01,2,     0.01,     2.97,2,     0.01,  -999.00,9,  -999.00, -999.000,9, -999.000,9, -999.000,9, -999.000,9,   -999.0,9,   -999.0,9,   -999.0,9,-999.0000,     -999,9, -999.000,9,  -999.00,9, -999.000,9, -999.000,   -999.0,9,   -999.0, -999.000,9, -999.000, -999.000,9, -999.000,   -999.0,9,   -999.0, -999.000,9, -999.000,9, -999.000,9
  49NZ20140717,   P01,    53,  1,     18, X12J18,2,20140721,1531, 40.1312, 147.5500, 5293,   1930.0,2,   1.9424,2,   1.94213,2,  34.5929,2,  34.5928,2,-999.0000,9,    74.88,2,    75.04,2,   99.839,   0.0064,2,    0.002,2,  -999.00,9,    2.529,1,    0.000,2,   162.85,2,     0.18,    41.22,2,     0.05,     0.01,2,     0.01,     2.92,2,     0.01,  -999.00,9,  -999.00, -999.000,9, -999.000,9, -999.000,9, -999.000,9,   -999.0,9,   -999.0,9,   -999.0,9,-999.0000,     -999,9, -999.000,9,  -999.00,9, -999.000,9, -999.000,   -999.0,9,   -999.0, -999.000,9, -999.000, -999.000,9, -999.000,   -999.0,9,   -999.0, -999.000,9, -999.000,9, -999.000,9
  49NZ20140717,   P01,    53,  1,     17, X12J17,2,20140721,1531, 40.1312, 147.5500, 5293,   2129.8,2,   1.8204,2,   1.82041,2,  34.6150,2,  34.6145,2,-999.0000,9,    88.21,2,    88.13,2,   99.902,   0.0039,2,    0.001,2,  -999.00,9,    2.516,1,    0.000,2,   162.37,2,     0.18,    40.47,2,     0.05,     0.01,2,     0.01,     2.85,2,     0.01,  -999.00,9,  -999.00, -999.000,9, -999.000,9, -999.000,9, -999.000,9,   -999.0,9,   -999.0,9,   -999.0,9,-999.0000,     -999,9, -999.000,9,  -999.00,9, -999.000,9, -999.000,   -999.0,9,   -999.0, -999.000,9, -999.000, -999.000,9, -999.000,   -999.0,9,   -999.0, -999.000,9, -999.000,9, -999.000,9
  49NZ20140717,   P01,    53,  1,     16, X12J16,2,20140721,1531, 40.1312, 147.5500, 5293,   2331.8,2,   1.7301,2,   1.73002,2,  34.6303,2,  34.6305,2,-999.0000,9,    98.65,2,    98.44,2,   99.904,   0.0038,2,    0.000,2,  -999.00,9,    2.474,1,    0.000,2,   162.14,2,     0.18,    39.78,2,     0.05,     0.01,2,     0.01,     2.81,2,     0.01,  -999.00,9,  -999.00, -999.000,9, -999.000,9, -999.000,9, -999.000,9,   -999.0,9,   -999.0,9,   -999.0,9,-999.0000,     -999,9, -999.000,9,  -999.00,9, -999.000,9, -999.000,   -999.0,9,   -999.0, -999.000,9, -999.000, -999.000,9, -999.000,   -999.0,9,   -999.0, -999.000,9, -999.000,9, -999.000,9
  49NZ20140717,   P01,    53,  1,     15, X12J15,2,20140721,1531, 40.1312, 147.5500, 5293,   2531.0,2,   1.6557,2,   1.65558,2,  34.6429,2,  34.6428,2,-999.0000,9,   108.44,2,   108.64,2,   99.928,   0.0029,2,   -0.001,2,  -999.00,9,    2.389,1,    0.000,2,   160.86,2,     0.17,    39.13,2,     0.05,     0.01,2,     0.01,     2.76,2,     0.01,  -999.00,9,  -999.00, -999.000,9, -999.000,9, -999.000,9, -999.000,9,   -999.0,9,   -999.0,9,   -999.0,9,-999.0000,     -999,9, -999.000,9,  -999.00,9, -999.000,9, -999.000,   -999.0,9,   -999.0, -999.000,9, -999.000, -999.000,9, -999.000,   -999.0,9,   -999.0, -999.000,9, -999.000,9, -999.000,9
  49NZ20140717,   P01,    53,  1,     14, X12J14,2,20140721,1531, 40.1312, 147.5500, 5293,   2729.7,2,   1.6028,2,   1.60282,2,  34.6527,2,  34.6522,2,-999.0000,9,   117.62,2,   117.50,2,   99.943,   0.0023,2,   -0.002,2,  -999.00,9,    2.309,1,    0.000,2,   158.77,2,     0.17,    38.61,2,     0.05,     0.01,2,     0.01,     2.71,2,     0.01,  -999.00,9,  -999.00, -999.000,9, -999.000,9, -999.000,9, -999.000,9,   -999.0,9,   -999.0,9,   -999.0,9,-999.0000,     -999,9, -999.000,9,  -999.00,9, -999.000,9, -999.000,   -999.0,9,   -999.0, -999.000,9, -999.000, -999.000,9, -999.000,   -999.0,9,   -999.0, -999.000,9, -999.000,9, -999.000,9
  49NZ20140717,   P01,    53,  1,     13, X12113,2,20140721,1531, 40.1312, 147.5500, 5293,   5169.0,2,   1.5227,2,   1.52266,2,  34.6905,2,  34.6905,2,-999.0000,9,   160.37,2,   160.54,2,   99.801,   0.0080,2,   -0.004,2,  -999.00,9,   -1.793,4,    0.000,2,  -999.00,9,  -999.00,  -999.00,9,  -999.00,  -999.00,9,  -999.00,  -999.00,9,  -999.00,  -999.00,9,  -999.00, -999.000,9, -999.000,9, -999.000,9, -999.000,9,   -999.0,9,   -999.0,9,   -999.0,9,-999.0000,     -999,9, -999.000,9,  -999.00,9, -999.000,9, -999.000,   -999.0,9,   -999.0, -999.000,9, -999.000, -999.000,9, -999.000,   -999.0,9,   -999.0, -999.000,9, -999.000,9, -999.000,9
  49NZ20140717,   P01,    53,  1,     12, X12J12,2,20140721,1531, 40.1312, 147.5500, 5293,   3170.9,2,   1.5227,2,   1.52283,2,  34.6672,2,  34.6665,2,-999.0000,9,   131.96,2,   131.70,2,   99.969,   0.0012,2,   -0.002,2,  -999.00,9,    2.169,1,    0.000,2,   155.87,2,     0.17,    37.61,2,     0.05,     0.01,2,     0.01,     2.63,2,     0.01,  -999.00,9,  -999.00, -999.000,9, -999.000,9, -999.000,9, -999.000,9,   -999.0,9,   -999.0,9,   -999.0,9,-999.0000,     -999,9, -999.000,9,  -999.00,9, -999.000,9, -999.000,   -999.0,9,   -999.0, -999.000,9, -999.000, -999.000,9, -999.000,   -999.0,9,   -999.0, -999.000,9, -999.000,9, -999.000,9
  49NZ20140717,   P01,    53,  1,     11, X12J11,2,20140721,1531, 40.1312, 147.5500, 5293,   3419.7,2,   1.4979,2,   1.49790,2,  34.6725,2,  34.6725,2,-999.0000,9,   137.69,2,   137.57,2,   99.962,   0.0015,2,   -0.003,2,  -999.00,9,    2.103,1,    0.000,2,   154.07,2,     0.17,    37.32,2,     0.05,     0.01,2,     0.01,     2.59,2,     0.01,  -999.00,9,  -999.00, -999.000,9, -999.000,9, -999.000,9, -999.000,9,   -999.0,9,   -999.0,9,   -999.0,9,-999.0000,     -999,9, -999.000,9,  -999.00,9, -999.000,9, -999.000,   -999.0,9,   -999.0, -999.000,9, -999.000, -999.000,9, -999.000,   -999.0,9,   -999.0, -999.000,9, -999.000,9, -999.000,9
  49NZ20140717,   P01,    53,  1,     10, X12J10,2,20140721,1531, 40.1312, 147.5500, 5293,   3670.8,2,   1.4787,2,   1.47884,2,  34.6775,2,  34.6772,2,-999.0000,9,   143.68,2,   143.39,2,   99.954,   0.0019,2,   -0.003,2,  -999.00,9,    2.156,1,    0.000,2,   152.29,2,     0.17,    36.84,2,     0.05,     0.01,2,     0.01,     2.57,2,     0.01,  -999.00,9,  -999.00, -999.000,9, -999.000,9, -999.000,9, -999.000,9,   -999.0,9,   -999.0,9,   -999.0,9,-999.0000,     -999,9, -999.000,9,  -999.00,9, -999.000,9, -999.000,   -999.0,9,   -999.0, -999.000,9, -999.000, -999.000,9, -999.000,   -999.0,9,   -999.0, -999.000,9, -999.000,9, -999.000,9