BOTTLE,20230904JAMSTECRIGC
EXPOCODE,SECT,STNNBR,CASTNO,SAMPNO,BTLNBR,BTLNBR_FLAG_W,DATE,TIME,LATITUDE,LONGITUDE,DEPTH,CTDPRS,CTDPRS_FLAG_W,CTDTMP,CTDTMP_FLAG_W,SBE35,SBE35_FLAG_W,CTDSAL,CTDSAL_FLAG_W,SALNTY,SALNTY_FLAG_W,DNSSAL,DNSSAL_FLAG_W,CTDOXY,CTDOXY_FLAG_W,OXYGEN,OXYGEN_FLAG_W,XMISS,XMISSCP,XMISS_FLAG_W,FLUOR,FLUOR_FLAG_W,CHLORA,CHLORA_FLAG_W,CDOM,CDOM_FLAG_W,PAR,PAR_FLAG_W,SILCAT,SILCAT_FLAG_W,SILUNC,NITRAT,NITRAT_FLAG_W,NRAUNC,NITRIT,NITRIT_FLAG_W,NRIUNC,PHSPHT,PHSPHT_FLAG_W,PHPUNC,AMMONIA,AMMONIA_FLAG_W,NH4UNC,CFC-11,CFC-11_FLAG_W,CFC-12,CFC-12_FLAG_W,CFC113,CFC113_FLAG_W,SF6,SF6_FLAG_W,TCARBN,TCARBN_FLAG_W,ALKALI,ALKALI_FLAG_W,ALKALI_POT,ALKALI_POT_FLAG_W,PH_TOT,PH_TMP,PH_TOT_FLAG_W,CALCIUM,CALCIUM_FLAG_W,DOC,DOC_FLAG_W,DELC13,DELC13_FLAG_W,C13ERR,DELC14,DELC14_FLAG_W,C14ERR,CS-134,CS-134_FLAG_W,CS134ER,CS-137,CS-137_FLAG_W,CS137ER,I-129,I-129_FLAG_W,I-129ER,CDOM-325,CDOM-325_FLAG_W,CDOM-370,CDOM-370_FLAG_W,CDOM-443,CDOM-443_FLAG_W
,,,,,,,,UTC,DEG,DEG,METERS,DBAR,,ITS-90,,ITS-90,,PSS-78,,PSS-78,,G/KG,,UMOL/KG,,UMOL/KG,,%TRANS,/METER,,MG/CUM,,MG/CUM,,MG/CUM,,UE/SQM/S,,UMOL/KG,,UMOL/KG,UMOL/KG,,UMOL/KG,UMOL/KG,,UMOL/KG,UMOL/KG,,UMOL/KG,UMOL/KG,,UMOL/KG,PMOL/KG,,PMOL/KG,,PMOL/KG,,FMOL/KG,,UMOL/KG,,UMOL/KG,,UMOL/KG,,,DEG C,,MMOL/KG,,UMOL/KG,,/MILLE,,/MILLE,/MILLE,,/MILLE,MBQ/KG,,MBQ/KG,MBQ/KG,,MBQ/KG,,,,/METER,,/METER,,/METER,
  49NZ20140717,   P01,    93,  1,      9, X12J09,2,20140803,1205, 46.9969, 176.0940, 5693,   4000.9,2,   1.4654,2,   1.46569,2,  34.6821,2,  34.6816,2,-999.0000,9,   146.80,2,   146.64,2,   99.998,   0.0001,2,    0.001,2,  -999.00,9,    2.447,4,    0.000,2,   155.77,2,     0.17,    36.45,2,     0.05,     0.00,2,     0.01,     2.54,2,     0.01,  -999.00,9,  -999.00,    0.000,2,    0.000,2,    0.000,2, -999.000,9,   2329.8,2,   2415.7,2,   -999.0,9,   7.5665,       25,2, -999.000,9,    40.88,2, -999.000,9, -999.000,   -999.0,9,   -999.0, -999.000,9, -999.000, -999.000,9, -999.000,   -999.0,9,   -999.0, -999.000,9, -999.000,9, -999.000,9
  49NZ20140717,   P01,    93,  1,      8, X12J08,2,20140803,1205, 46.9969, 176.0940, 5693,   4248.6,2,   1.4693,2,   1.46952,2,  34.6847,2,  34.6844,2,-999.0000,9,   150.11,2,   149.94,2,   99.994,   0.0003,2,    0.001,2,  -999.00,9,    1.166,4,    0.000,2,   155.79,2,     0.17,    36.26,2,     0.05,    -0.01,2,     0.01,     2.52,2,     0.01,  -999.00,9,  -999.00,    0.000,2,    0.001,2,    0.000,2, -999.000,9,   2326.3,6,   2415.8,2,   -999.0,9,   7.5723,       25,2, -999.000,9,    36.68,2, -999.000,9, -999.000,   -999.0,9,   -999.0, -999.000,9, -999.000, -999.000,9, -999.000,   -999.0,9,   -999.0, -999.000,9, -999.000,9, -999.000,9
  49NZ20140717,   P01,    93,  1,      7, X12J07,2,20140803,1205, 46.9969, 176.0940, 5693,   4501.1,2,   1.4853,2,   1.48547,2,  34.6864,2,  34.6859,2,-999.0000,9,   151.80,2,   151.47,2,   99.978,   0.0009,2,    0.001,2,  -999.00,9,  497.217,4,    0.000,2,   156.71,2,     0.17,    36.18,2,     0.05,     0.00,2,     0.01,     2.52,2,     0.01,  -999.00,9,  -999.00,    0.000,2,    0.000,2,    0.000,2, -999.000,9,   2325.7,2,   2417.1,2,   -999.0,9,   7.5765,       25,2, -999.000,9,    38.88,2, -999.000,9, -999.000,   -999.0,9,   -999.0, -999.000,9, -999.000, -999.000,9, -999.000,   -999.0,9,   -999.0, -999.000,9, -999.000,9, -999.000,9
  49NZ20140717,   P01,    93,  1,      6, X12J06,2,20140803,1205, 46.9969, 176.0940, 5693,   4750.8,2,   1.5084,2,   1.50860,2,  34.6873,2,  34.6870,2,-999.0000,9,   152.53,2,   152.53,2,   99.985,   0.0006,2,    0.001,2,  -999.00,9,  497.217,4,    0.000,2,   157.65,2,     0.17,    36.12,2,     0.05,     0.00,2,     0.01,     2.52,2,     0.01,  -999.00,9,  -999.00,    0.000,2,    0.000,2,    0.000,2, -999.000,9,   2327.6,2,   2417.7,6,   -999.0,9,   7.5790,       25,2, -999.000,9,    37.34,2, -999.000,9, -999.000,   -999.0,9,   -999.0, -999.000,9, -999.000, -999.000,9, -999.000,   -999.0,9,   -999.0, -999.000,9, -999.000,9, -999.000,9
  49NZ20140717,   P01,    93,  1,      5, X12J05,2,20140803,1205, 46.9969, 176.0940, 5693,   5001.6,2,   1.5371,2,   1.53725,2,  34.6876,2,  34.6874,2,-999.0000,9,   152.59,2,   152.66,2,   99.991,   0.0003,2,    0.001,2,  -999.00,9,  497.217,4,    0.000,2,   158.87,2,     0.17,    36.14,2,     0.05,     0.00,2,     0.01,     2.52,2,     0.01,  -999.00,9,  -999.00,    0.000,2,    0.000,2,    0.000,2, -999.000,9,   2326.0,2,   2419.5,2,   -999.0,9,   7.5792,       25,2, -999.000,9,    38.66,2, -999.000,9, -999.000,   -999.0,9,   -999.0, -999.000,9, -999.000, -999.000,9, -999.000,   -999.0,9,   -999.0,    0.324,2,    0.197,2,    0.093,2
  49NZ20140717,   P01,    93,  1,      4, X12J04,2,20140803,1205, 46.9969, 176.0940, 5693,   5249.2,2,   1.5639,2,   1.56391,2,  34.6879,2,  34.6879,2,-999.0000,9,   153.69,2,   153.99,2,   99.953,   0.0019,2,    0.001,2,  -999.00,9,  497.217,4,    0.000,2,   157.05,2,     0.17,    36.06,2,     0.05,    -0.01,2,     0.01,     2.51,2,     0.01,  -999.00,9,  -999.00,    0.001,2,    0.000,2,    0.000,2, -999.000,9,   2326.8,2,   2415.4,2,   -999.0,9,   7.5804,       25,2, -999.000,9,    38.60,2, -999.000,9, -999.000,   -999.0,9,   -999.0, -999.000,9, -999.000, -999.000,9, -999.000,   -999.0,9,   -999.0, -999.000,9, -999.000,9, -999.000,9
  49NZ20140717,   P01,    93,  1,      3, X12J03,2,20140803,1205, 46.9969, 176.0940, 5693,   5499.5,2,   1.5932,2,   1.59332,2,  34.6883,2,  34.6871,3,-999.0000,9,   154.32,2,   154.60,2,   99.927,   0.0029,2,    0.001,2,  -999.00,9,  497.217,4,    0.000,2,   156.30,2,     0.17,    35.98,2,     0.05,     0.00,2,     0.01,     2.51,2,     0.01,  -999.00,9,  -999.00,    0.002,2,    0.003,2,    0.000,2, -999.000,9,   2323.9,2,   2414.8,2,   -999.0,9,   7.5824,       25,2, -999.000,9,    38.78,2, -999.000,9, -999.000,   -999.0,9,   -999.0, -999.000,9, -999.000, -999.000,9, -999.000,   -999.0,9,   -999.0, -999.000,9, -999.000,9, -999.000,9
  49NZ20140717,   P01,    93,  1,      2, X12J02,9,20140803,1205, 46.9969, 176.0940, 5693,   -999.0,9,-999.0000,9,-999.00000,9,-999.0000,9,-999.0000,9,-999.0000,9,  -999.00,9,  -999.00,9, -999.000,-999.0000,9, -999.000,9,  -999.00,9, -999.000,9, -999.000,9,  -999.00,9,  -999.00,  -999.00,9,  -999.00,  -999.00,9,  -999.00,  -999.00,9,  -999.00,  -999.00,9,  -999.00, -999.000,9, -999.000,9, -999.000,9, -999.000,9,   -999.0,9,   -999.0,9,   -999.0,9,-999.0000,     -999,9, -999.000,9,  -999.00,9, -999.000,9, -999.000,   -999.0,9,   -999.0, -999.000,9, -999.000, -999.000,9, -999.000,   -999.0,9,   -999.0, -999.000,9, -999.000,9, -999.000,9
  49NZ20140717,   P01,    93,  1,      1, X12J01,2,20140803,1205, 46.9969, 176.0940, 5693,   5802.9,2,   1.6295,2,   1.62942,2,  34.6885,2,  34.6884,2,-999.0000,9,   155.00,2,   155.52,2,   99.710,   0.0116,2,    0.001,2,  -999.00,9,  494.380,4,    0.000,2,   155.29,2,     0.17,    35.91,2,     0.05,     0.00,2,     0.01,     2.50,2,     0.01,  -999.00,9,  -999.00,    0.002,2,    0.001,2,    0.000,2, -999.000,9,   2324.2,2,   2414.7,2,   -999.0,9,   7.5818,       25,2, -999.000,9,    37.08,2, -999.000,9, -999.000,   -999.0,9,   -999.0, -999.000,9, -999.000, -999.000,9, -999.000,   -999.0,9,   -999.0,    0.260,2,    0.150,2,    0.064,2