BOTTLE,20230904JAMSTECRIGC
EXPOCODE,SECT,STNNBR,CASTNO,SAMPNO,BTLNBR,BTLNBR_FLAG_W,DATE,TIME,LATITUDE,LONGITUDE,DEPTH,CTDPRS,CTDPRS_FLAG_W,CTDTMP,CTDTMP_FLAG_W,SBE35,SBE35_FLAG_W,CTDSAL,CTDSAL_FLAG_W,SALNTY,SALNTY_FLAG_W,DNSSAL,DNSSAL_FLAG_W,CTDOXY,CTDOXY_FLAG_W,OXYGEN,OXYGEN_FLAG_W,XMISS,XMISSCP,XMISS_FLAG_W,FLUOR,FLUOR_FLAG_W,CHLORA,CHLORA_FLAG_W,CDOM,CDOM_FLAG_W,PAR,PAR_FLAG_W,SILCAT,SILCAT_FLAG_W,SILUNC,NITRAT,NITRAT_FLAG_W,NRAUNC,NITRIT,NITRIT_FLAG_W,NRIUNC,PHSPHT,PHSPHT_FLAG_W,PHPUNC,AMMONIA,AMMONIA_FLAG_W,NH4UNC,CFC-11,CFC-11_FLAG_W,CFC-12,CFC-12_FLAG_W,CFC113,CFC113_FLAG_W,SF6,SF6_FLAG_W,TCARBN,TCARBN_FLAG_W,ALKALI,ALKALI_FLAG_W,ALKALI_POT,ALKALI_POT_FLAG_W,PH_TOT,PH_TMP,PH_TOT_FLAG_W,CALCIUM,CALCIUM_FLAG_W,DOC,DOC_FLAG_W,DELC13,DELC13_FLAG_W,C13ERR,DELC14,DELC14_FLAG_W,C14ERR,CS-134,CS-134_FLAG_W,CS134ER,CS-137,CS-137_FLAG_W,CS137ER,I-129,I-129_FLAG_W,I-129ER,CDOM-325,CDOM-325_FLAG_W,CDOM-370,CDOM-370_FLAG_W,CDOM-443,CDOM-443_FLAG_W
,,,,,,,,UTC,DEG,DEG,METERS,DBAR,,ITS-90,,ITS-90,,PSS-78,,PSS-78,,G/KG,,UMOL/KG,,UMOL/KG,,%TRANS,/METER,,MG/CUM,,MG/CUM,,MG/CUM,,UE/SQM/S,,UMOL/KG,,UMOL/KG,UMOL/KG,,UMOL/KG,UMOL/KG,,UMOL/KG,UMOL/KG,,UMOL/KG,UMOL/KG,,UMOL/KG,PMOL/KG,,PMOL/KG,,PMOL/KG,,FMOL/KG,,UMOL/KG,,UMOL/KG,,UMOL/KG,,,DEG C,,MMOL/KG,,UMOL/KG,,/MILLE,,/MILLE,/MILLE,,/MILLE,MBQ/KG,,MBQ/KG,MBQ/KG,,MBQ/KG,,,,/METER,,/METER,,/METER,
  49NZ20140717,   P01,   116,  1,      9, X12J09,2,20140811,2103, 47.0001,-158.1368, 5230,   3920.0,2,   1.4803,2,   1.48050,2,  34.6798,2,  34.6794,2,-999.0000,9,   139.43,2,   139.50,2,  100.003,  -0.0001,2,    0.011,2,  -999.00,9,    1.994,4,    0.000,2,   163.11,2,     0.18,    37.01,2,     0.05,     0.00,2,     0.01,     2.58,2,     0.01,  -999.00,9,  -999.00,    0.000,2,    0.000,2,    0.001,2,    0.000,2,   2336.4,2,   2422.6,2,   -999.0,9,   7.5587,       25,2, -999.000,9,    36.29,2, -999.000,1, -999.000,   -999.0,1,   -999.0, -999.000,9, -999.000, -999.000,9, -999.000,   -999.0,9,   -999.0, -999.000,9, -999.000,9, -999.000,9
  49NZ20140717,   P01,   116,  1,      8, X12J08,2,20140811,2103, 47.0001,-158.1368, 5230,   4170.8,2,   1.4876,2,   1.48762,2,  34.6825,2,  34.6820,2,-999.0000,9,   142.37,2,   142.39,2,  100.006,  -0.0002,2,    0.010,2,  -999.00,9,   -0.823,4,    0.000,2,   164.02,2,     0.18,    36.77,2,     0.05,     0.00,2,     0.01,     2.57,2,     0.01,  -999.00,9,  -999.00,    0.000,2,    0.000,2,    0.000,2,    0.000,2,   2334.3,6,   2425.7,2,   -999.0,9,   7.5658,       25,2, -999.000,9,    36.71,2, -999.000,9, -999.000,   -999.0,9,   -999.0, -999.000,9, -999.000, -999.000,9, -999.000,   -999.0,9,   -999.0, -999.000,9, -999.000,9, -999.000,9
  49NZ20140717,   P01,   116,  1,      7, X12J07,2,20140811,2103, 47.0001,-158.1368, 5230,   4419.4,2,   1.5044,2,   1.50443,2,  34.6845,2,  34.6845,2,-999.0000,9,   143.60,2,   143.65,2,   99.993,   0.0003,2,    0.010,2,  -999.00,9,   -1.674,4,    0.000,2,   166.39,2,     0.18,    36.77,2,     0.05,     0.00,2,     0.01,     2.56,2,     0.01,  -999.00,9,  -999.00,    0.000,2,    0.001,2,    0.000,2,    0.000,2,   2337.1,2,   2426.2,2,   -999.0,9,   7.5708,       25,6, -999.000,9,    37.98,2, -999.000,1, -999.000,   -999.0,1,   -999.0, -999.000,9, -999.000, -999.000,9, -999.000,   -999.0,9,   -999.0, -999.000,9, -999.000,9, -999.000,9
  49NZ20140717,   P01,   116,  1,      6, X12J06,2,20140811,2103, 47.0001,-158.1368, 5230,   4671.3,2,   1.5254,2,   1.52555,2,  34.6858,2,  34.6855,2,-999.0000,9,   144.89,2,   144.93,2,   99.986,   0.0006,2,    0.010,2,  -999.00,9,   -1.740,4,    0.000,2,   167.36,2,     0.18,    36.75,2,     0.05,     0.00,2,     0.01,     2.55,2,     0.01,  -999.00,9,  -999.00,    0.000,2,    0.001,2,    0.000,2,    0.000,2,   2336.4,2,   2427.4,6,   -999.0,9,   7.5736,       25,2, -999.000,9,    38.17,2, -999.000,9, -999.000,   -999.0,9,   -999.0, -999.000,9, -999.000, -999.000,9, -999.000,   -999.0,9,   -999.0, -999.000,9, -999.000,9, -999.000,9
  49NZ20140717,   P01,   116,  1,      5, X12J05,2,20140811,2103, 47.0001,-158.1368, 5230,   4919.3,2,   1.5498,2,   1.54980,2,  34.6865,2,  34.6860,2,-999.0000,9,   145.78,2,   146.09,2,   99.941,   0.0024,2,    0.010,2,  -999.00,9,   -1.971,4,    0.000,2,   167.41,2,     0.18,    36.63,2,     0.05,     0.00,2,     0.01,     2.54,2,     0.01,  -999.00,9,  -999.00,    0.001,2,    0.001,2,    0.000,2,    0.000,2,   2332.0,2,   2427.2,2,   -999.0,9,   7.5753,       25,2, -999.000,9,    39.57,2, -999.000,1, -999.000,   -999.0,1,   -999.0, -999.000,9, -999.000, -999.000,9, -999.000,   -999.0,9,   -999.0, -999.000,9, -999.000,9, -999.000,9
  49NZ20140717,   P01,   116,  1,      4, X12J04,2,20140811,2103, 47.0001,-158.1368, 5230,   5169.4,2,   1.5775,2,   1.57733,2,  34.6869,2,  34.6871,2,-999.0000,9,   146.19,2,   146.69,2,   99.869,   0.0052,2,    0.010,2,  -999.00,9,  497.217,4,    0.000,2,   168.90,2,     0.18,    36.61,2,     0.05,     0.00,2,     0.01,     2.54,2,     0.01,  -999.00,9,  -999.00,    0.002,2,    0.003,2,    0.000,2,    0.000,2,   2332.7,2,   2429.6,2,   -999.0,9,   7.5769,       25,2, -999.000,9,    38.93,2, -999.000,9, -999.000,   -999.0,9,   -999.0, -999.000,9, -999.000, -999.000,9, -999.000,   -999.0,9,   -999.0, -999.000,9, -999.000,9, -999.000,9
  49NZ20140717,   P01,   116,  1,      3, X12J03,9,20140811,2103, 47.0001,-158.1368, 5230,   -999.0,9,-999.0000,9,-999.00000,9,-999.0000,9,-999.0000,9,-999.0000,9,  -999.00,9,  -999.00,9, -999.000,-999.0000,9, -999.000,9,  -999.00,9, -999.000,9, -999.000,9,  -999.00,9,  -999.00,  -999.00,9,  -999.00,  -999.00,9,  -999.00,  -999.00,9,  -999.00,  -999.00,9,  -999.00, -999.000,9, -999.000,9, -999.000,9, -999.000,9,   -999.0,9,   -999.0,9,   -999.0,9,-999.0000,     -999,9, -999.000,9,  -999.00,9, -999.000,9, -999.000,   -999.0,9,   -999.0, -999.000,9, -999.000, -999.000,9, -999.000,   -999.0,9,   -999.0, -999.000,9, -999.000,9, -999.000,9
  49NZ20140717,   P01,   116,  1,      2, X12J02,9,20140811,2103, 47.0001,-158.1368, 5230,   -999.0,9,-999.0000,9,-999.00000,9,-999.0000,9,-999.0000,9,-999.0000,9,  -999.00,9,  -999.00,9, -999.000,-999.0000,9, -999.000,9,  -999.00,9, -999.000,9, -999.000,9,  -999.00,9,  -999.00,  -999.00,9,  -999.00,  -999.00,9,  -999.00,  -999.00,9,  -999.00,  -999.00,9,  -999.00, -999.000,9, -999.000,9, -999.000,9, -999.000,9,   -999.0,9,   -999.0,9,   -999.0,9,-999.0000,     -999,9, -999.000,9,  -999.00,9, -999.000,9, -999.000,   -999.0,9,   -999.0, -999.000,9, -999.000, -999.000,9, -999.000,   -999.0,9,   -999.0, -999.000,9, -999.000,9, -999.000,9
  49NZ20140717,   P01,   116,  1,      1, X12J01,2,20140811,2103, 47.0001,-158.1368, 5230,   5325.9,2,   1.5962,2,   1.59591,2,  34.6870,2,  34.6869,2,-999.0000,9,   146.25,2,   146.96,2,   99.624,   0.0151,2,    0.010,2,  -999.00,9,  494.380,4,    0.000,2,   169.36,2,     0.18,    36.62,2,     0.05,     0.00,2,     0.01,     2.54,2,     0.01,  -999.00,9,  -999.00,    0.006,2,    0.001,2,    0.001,2,    0.000,2,   2335.2,2,   2429.6,3,   -999.0,9,   7.5769,       25,2, -999.000,9,    38.22,2, -999.000,1, -999.000,   -999.0,1,   -999.0, -999.000,9, -999.000, -999.000,9, -999.000,   -999.0,9,   -999.0, -999.000,9, -999.000,9, -999.000,9