BOTTLE,20230904JAMSTECRIGC
EXPOCODE,SECT,STNNBR,CASTNO,SAMPNO,BTLNBR,BTLNBR_FLAG_W,DATE,TIME,LATITUDE,LONGITUDE,DEPTH,CTDPRS,CTDPRS_FLAG_W,CTDTMP,CTDTMP_FLAG_W,SBE35,SBE35_FLAG_W,CTDSAL,CTDSAL_FLAG_W,SALNTY,SALNTY_FLAG_W,DNSSAL,DNSSAL_FLAG_W,CTDOXY,CTDOXY_FLAG_W,OXYGEN,OXYGEN_FLAG_W,XMISS,XMISSCP,XMISS_FLAG_W,FLUOR,FLUOR_FLAG_W,CHLORA,CHLORA_FLAG_W,CDOM,CDOM_FLAG_W,PAR,PAR_FLAG_W,SILCAT,SILCAT_FLAG_W,SILUNC,NITRAT,NITRAT_FLAG_W,NRAUNC,NITRIT,NITRIT_FLAG_W,NRIUNC,PHSPHT,PHSPHT_FLAG_W,PHPUNC,AMMONIA,AMMONIA_FLAG_W,NH4UNC,CFC-11,CFC-11_FLAG_W,CFC-12,CFC-12_FLAG_W,CFC113,CFC113_FLAG_W,SF6,SF6_FLAG_W,TCARBN,TCARBN_FLAG_W,ALKALI,ALKALI_FLAG_W,ALKALI_POT,ALKALI_POT_FLAG_W,PH_TOT,PH_TMP,PH_TOT_FLAG_W,CALCIUM,CALCIUM_FLAG_W,DOC,DOC_FLAG_W,DELC13,DELC13_FLAG_W,C13ERR,DELC14,DELC14_FLAG_W,C14ERR,CS-134,CS-134_FLAG_W,CS134ER,CS-137,CS-137_FLAG_W,CS137ER,I-129,I-129_FLAG_W,I-129ER,CDOM-325,CDOM-325_FLAG_W,CDOM-370,CDOM-370_FLAG_W,CDOM-443,CDOM-443_FLAG_W
,,,,,,,,UTC,DEG,DEG,METERS,DBAR,,ITS-90,,ITS-90,,PSS-78,,PSS-78,,G/KG,,UMOL/KG,,UMOL/KG,,%TRANS,/METER,,MG/CUM,,MG/CUM,,MG/CUM,,UE/SQM/S,,UMOL/KG,,UMOL/KG,UMOL/KG,,UMOL/KG,UMOL/KG,,UMOL/KG,UMOL/KG,,UMOL/KG,UMOL/KG,,UMOL/KG,PMOL/KG,,PMOL/KG,,PMOL/KG,,FMOL/KG,,UMOL/KG,,UMOL/KG,,UMOL/KG,,,DEG C,,MMOL/KG,,UMOL/KG,,/MILLE,,/MILLE,/MILLE,,/MILLE,MBQ/KG,,MBQ/KG,MBQ/KG,,MBQ/KG,,,,/METER,,/METER,,/METER,
  49NZ20140717,   P01,   140,  1,      0,   -999,9,20140820,2114, 47.0012,-131.2207, 3053,   -999.0,9,-999.0000,9,-999.00000,9,-999.0000,9,  32.4463,2,-999.0000,9,  -999.00,9,  -999.00,9, -999.000,-999.0000,9, -999.000,9,  -999.00,9, -999.000,9, -999.000,9,     0.46,2,     0.18,     0.08,2,     0.02,     0.01,2,     0.01,     0.36,2,     0.01,  -999.00,9,  -999.00, -999.000,9, -999.000,9, -999.000,9, -999.000,9,   -999.0,9,   -999.0,9,   -999.0,9,-999.0000,     -999,9, -999.000,9,  -999.00,9, -999.000,9, -999.000,   -999.0,9,   -999.0, -999.000,9, -999.000, -999.000,9, -999.000,   -999.0,9,   -999.0, -999.000,9, -999.000,9, -999.000,9
  49NZ20140717,   P01,   140,  1,     36, X12J36,2,20140820,2114, 47.0012,-131.2207, 3053,     10.1,2,  19.0659,2,  19.06600,2,  32.4426,2,  32.4438,2,  32.5994,2,   242.04,2,   241.76,2,   97.048,   0.1199,2,    0.139,2,  -999.00,9,   -0.969,1,  193.134,2,     0.35,2,     0.18,     0.01,2,     0.02,     0.00,2,     0.01,     0.35,2,     0.01,  -999.00,9,  -999.00,    2.307,2,    1.435,2,    0.580,2,    1.710,2,   1963.2,2,   2182.7,2,   -999.0,9,   7.9381,       25,6, -999.000,9,    66.11,2, -999.000,9, -999.000,   -999.0,9,   -999.0, -999.000,9, -999.000, -999.000,9, -999.000,   -999.0,9,   -999.0, -999.000,9, -999.000,9, -999.000,9
  49NZ20140717,   P01,   140,  1,     35, X12J35,2,20140820,2114, 47.0012,-131.2207, 3053,     50.3,2,  12.1983,2,  12.20037,2,  32.4903,2,  32.4920,2,  32.6463,2,   292.54,2,   291.00,2,   91.040,   0.3755,2,    1.063,2,  -999.00,9,    0.972,1,    7.605,2,     2.66,2,     0.10,     0.49,2,     0.01,     0.05,2,     0.01,     0.50,2,     0.01,  -999.00,9,  -999.00,    3.192,2,    1.936,2,    0.314,2,    2.230,2,   1980.8,6,   2181.2,2,   -999.0,9,   7.8982,       25,2, -999.000,9,    64.19,2, -999.000,9, -999.000,   -999.0,9,   -999.0, -999.000,9, -999.000, -999.000,9, -999.000,   -999.0,9,   -999.0, -999.000,9, -999.000,9, -999.000,9
  49NZ20140717,   P01,   140,  1,     34, X12J34,2,20140820,2114, 47.0012,-131.2207, 3053,    100.0,2,   9.3418,2,   9.34294,2,  32.6176,2,  32.6220,2,  32.7769,2,   258.28,2,   256.94,2,   99.403,   0.0239,2,    0.095,2,  -999.00,9,    0.453,1,    0.125,2,    10.10,2,     0.09,    10.30,2,     0.02,     0.02,2,     0.01,     1.03,2,     0.01,  -999.00,9,  -999.00,    3.555,2,    2.135,2,    0.300,2,    2.370,2,   2040.1,2,   2185.4,2,   -999.0,9,   7.7695,       25,2, -999.000,9,    53.95,2, -999.000,9, -999.000,   -999.0,9,   -999.0, -999.000,9, -999.000, -999.000,9, -999.000,   -999.0,9,   -999.0, -999.000,9, -999.000,9, -999.000,9
  49NZ20140717,   P01,   140,  1,     33, X12J33,2,20140820,2114, 47.0012,-131.2207, 3053,    150.2,2,   7.2720,2,   7.27179,2,  32.9918,2,  32.9922,2,  33.1477,2,   254.38,2,   253.18,2,   99.592,   0.0164,2,    0.014,2,  -999.00,9,    0.758,1,    0.000,2,    19.90,2,     0.09,    16.44,2,     0.03,     0.01,2,     0.01,     1.36,2,     0.01,  -999.00,9,  -999.00,    3.943,2,    2.353,2,    0.308,2,    2.440,2,   2085.0,2,   2205.9,2,   -999.0,9,   7.7007,       25,2, -999.000,9,    50.70,2, -999.000,9, -999.000,   -999.0,9,   -999.0, -999.000,9, -999.000, -999.000,9, -999.000,   -999.0,9,   -999.0, -999.000,9, -999.000,9, -999.000,9
  49NZ20140717,   P01,   140,  1,     32, X12J32,2,20140820,2114, 47.0012,-131.2207, 3053,    199.5,2,   7.4245,2,   7.42492,2,  33.7482,2,  33.7496,2,  33.9109,2,   210.66,2,   208.83,2,   99.538,   0.0185,2,    0.010,2,  -999.00,9,    1.318,1,    0.000,2,    29.56,2,     0.09,    21.27,2,     0.03,     0.01,2,     0.01,     1.54,2,     0.01,  -999.00,9,  -999.00,    3.617,2,    2.150,2,    0.258,2,    1.910,2,   2142.4,2,   2251.2,6,   -999.0,9,   7.6475,       25,2, -999.000,9,    48.85,2, -999.000,9, -999.000,   -999.0,9,   -999.0, -999.000,9, -999.000, -999.000,9, -999.000,   -999.0,9,   -999.0, -999.000,9, -999.000,9, -999.000,9
  49NZ20140717,   P01,   140,  1,     31, X12J31,2,20140820,2114, 47.0012,-131.2207, 3053,    249.5,2,   6.6630,2,   6.66180,2,  33.8447,2,  33.8450,2,  34.0092,2,   186.57,2,   185.33,2,   99.548,   0.0181,2,    0.011,2,  -999.00,9,    1.873,1,    0.000,2,    39.85,2,     0.10,    25.18,2,     0.04,     0.01,2,     0.01,     1.81,2,     0.01,  -999.00,9,  -999.00,    3.380,2,    1.943,2,    0.219,2,    1.700,2,   2176.0,2,   2263.0,2,   -999.0,9,   7.5903,       25,2, -999.000,9,    49.20,2, -999.000,9, -999.000,   -999.0,9,   -999.0, -999.000,9, -999.000, -999.000,9, -999.000,   -999.0,9,   -999.0, -999.000,9, -999.000,9, -999.000,9
  49NZ20140717,   P01,   140,  1,     30, X12J30,2,20140820,2114, 47.0012,-131.2207, 3053,    282.4,2,   6.2875,2,   6.28745,2,  33.8719,2,  33.8703,2,  34.0356,2,   156.76,2,   156.56,2,   99.548,   0.0181,2,    0.013,2,  -999.00,9,    2.034,1,    0.000,2,    47.51,2,     0.10,    28.52,2,     0.04,     0.01,2,     0.01,     2.03,2,     0.01,  -999.00,9,  -999.00,    3.173,2,    1.784,2,    0.200,2,    1.300,2,   2202.0,2,   2268.2,2,   -999.0,9,   7.5300,       25,2, -999.000,9,    47.05,2, -999.000,9, -999.000,   -999.0,9,   -999.0, -999.000,9, -999.000, -999.000,9, -999.000,   -999.0,9,   -999.0, -999.000,9, -999.000,9, -999.000,9
  49NZ20140717,   P01,   140,  1,     29, X12J29,2,20140820,2114, 47.0012,-131.2207, 3053,    369.1,2,   5.0807,2,   5.08099,2,  33.8955,2,  33.8963,2,  34.0646,2,   102.35,2,   101.84,2,   99.731,   0.0108,2,    0.014,2,  -999.00,9,    2.470,1,    0.000,2,    67.58,2,     0.12,    35.55,2,     0.05,     0.01,2,     0.01,     2.52,2,     0.01,  -999.00,9,  -999.00,    2.605,2,    1.395,2,    0.153,2,    0.770,2,   2257.9,2,   2283.2,2,   -999.0,9,   7.4060,       25,2, -999.000,9,    45.33,2, -999.000,9, -999.000,   -999.0,9,   -999.0, -999.000,9, -999.000, -999.000,9, -999.000,   -999.0,9,   -999.0, -999.000,9, -999.000,9, -999.000,9
  49NZ20140717,   P01,   140,  1,     28, X12J28,2,20140820,2114, 47.0012,-131.2207, 3053,    470.6,2,   4.5898,2,   4.58993,2,  34.0053,2,  34.0045,2,  34.1741,2,    53.10,2,    53.52,2,   99.865,   0.0054,2,    0.015,2,  -999.00,9,    2.791,1,    0.000,2,    84.86,2,     0.13,    40.34,2,     0.05,     0.00,2,     0.01,     2.85,2,     0.01,  -999.00,9,  -999.00,    1.707,2,    0.868,2,    0.096,2,    0.400,2,   2301.8,2,   2303.4,2,   -999.0,9,   7.3288,       25,2, -999.000,9,    42.90,2, -999.000,9, -999.000,   -999.0,9,   -999.0, -999.000,9, -999.000, -999.000,9, -999.000,   -999.0,9,   -999.0, -999.000,9, -999.000,9, -999.000,9
  49NZ20140717,   P01,   140,  1,     27, X12J27,3,20140820,2114, 47.0012,-131.2207, 3053,    571.8,2,   4.3133,2,   4.31401,2,  34.1014,2,  34.0991,2,  34.2684,2,    26.58,2,    27.16,2,   99.919,   0.0032,2,    0.016,2,  -999.00,9,    3.005,1,    0.000,2,    97.67,2,     0.14,    42.64,2,     0.05,     0.00,2,     0.01,     3.03,2,     0.01,  -999.00,9,  -999.00,    0.976,2,    0.498,2,    0.052,2,    0.160,2,   2329.4,2,   2316.4,2,   -999.0,9,   7.2924,       25,2, -999.000,9,    42.72,2, -999.000,9, -999.000,   -999.0,9,   -999.0, -999.000,9, -999.000, -999.000,9, -999.000,   -999.0,9,   -999.0, -999.000,9, -999.000,9, -999.000,9
  49NZ20140717,   P01,   140,  1,     26, X12J26,2,20140820,2114, 47.0012,-131.2207, 3053,    669.6,2,   4.1500,2,   4.14974,2,  34.1955,2,  34.1941,2,  34.3673,2,    13.91,2,    13.78,2,   99.906,   0.0038,2,    0.016,2,  -999.00,9,    3.072,1,    0.000,2,   107.36,2,     0.14,    43.59,2,     0.05,     0.00,2,     0.01,     3.14,2,     0.01,  -999.00,9,  -999.00,    0.424,2,    0.231,2,    0.020,2,    0.060,2,   2347.2,6,   2333.3,2,   -999.0,9,   7.2835,       25,2, -999.000,9,    42.69,2, -999.000,9, -999.000,   -999.0,9,   -999.0, -999.000,9, -999.000, -999.000,9, -999.000,   -999.0,9,   -999.0, -999.000,9, -999.000,9, -999.000,9
  49NZ20140717,   P01,   140,  1,     25, X12J25,2,20140820,2114, 47.0012,-131.2207, 3053,    770.2,2,   3.9679,2,   3.96774,2,  34.2688,2,  34.2691,2,  34.4411,2,     9.44,2,     8.79,2,   99.937,   0.0025,2,    0.015,2,  -999.00,9,    3.063,1,    0.000,2,   115.49,2,     0.15,    44.06,2,     0.06,     0.00,2,     0.01,     3.20,2,     0.01,  -999.00,9,  -999.00,    0.172,2,    0.104,2,    0.007,2,    0.050,2,   2357.4,2,   2346.0,2,   -999.0,9,   7.2876,       25,2, -999.000,9,    39.59,2, -999.000,9, -999.000,   -999.0,9,   -999.0, -999.000,9, -999.000, -999.000,9, -999.000,   -999.0,9,   -999.0, -999.000,9, -999.000,9, -999.000,9
  49NZ20140717,   P01,   140,  1,     24, X12J24,2,20140820,2114, 47.0012,-131.2207, 3053,    871.8,2,   3.7389,2,   3.73891,2,  34.3239,2,  34.3224,2,  34.4972,2,     8.40,2,     7.69,2,   99.906,   0.0038,2,    0.015,2,  -999.00,9,    3.144,1,    0.000,2,   123.02,2,     0.15,    44.31,2,     0.06,     0.00,2,     0.01,     3.22,2,     0.01,  -999.00,9,  -999.00,    0.081,2,    0.051,2,    0.004,2,    0.050,2,   2368.1,2,   2356.4,2,   -999.0,9,   7.2926,       25,6, -999.000,9,    40.59,2, -999.000,9, -999.000,   -999.0,9,   -999.0, -999.000,9, -999.000, -999.000,9, -999.000,   -999.0,9,   -999.0, -999.000,9, -999.000,9, -999.000,9
  49NZ20140717,   P01,   140,  1,     23, X12J23,2,20140820,2114, 47.0012,-131.2207, 3053,    969.3,2,   3.4853,2,   3.48481,2,  34.3588,2,  34.3591,2,  34.5361,2,     9.02,2,     8.22,2,   99.911,   0.0036,2,    0.014,2,  -999.00,9,    3.211,1,    0.000,2,   131.11,2,     0.16,    44.56,2,     0.06,     0.00,2,     0.01,     3.23,2,     0.01,  -999.00,9,  -999.00,    0.046,2,    0.030,2,    0.002,2,    0.000,2,   2375.7,2,   2365.6,2,   -999.0,9,   7.2969,       25,2, -999.000,9,    39.88,2, -999.000,9, -999.000,   -999.0,9,   -999.0, -999.000,9, -999.000, -999.000,9, -999.000,   -999.0,9,   -999.0, -999.000,9, -999.000,9, -999.000,9
  49NZ20140717,   P01,   140,  1,     22, X12J22,2,20140820,2114, 47.0012,-131.2207, 3053,   1131.1,2,   3.0618,2,   3.06054,2,  34.4070,2,  34.4066,2,  34.5862,2,    10.94,2,    10.22,2,   99.919,   0.0032,2,    0.014,2,  -999.00,9,    3.237,1,    0.000,2,   143.55,2,     0.16,    44.85,2,     0.06,     0.00,2,     0.01,     3.22,2,     0.01,  -999.00,9,  -999.00,    0.019,2,    0.013,2,    0.001,2,    0.000,2,   2383.6,2,   2378.4,6,   -999.0,9,   7.3026,       25,2, -999.000,9,    41.66,3, -999.000,9, -999.000,   -999.0,9,   -999.0, -999.000,9, -999.000, -999.000,9, -999.000,   -999.0,9,   -999.0, -999.000,9, -999.000,9, -999.000,9
  49NZ20140717,   P01,   140,  1,     21, X12J21,2,20140820,2114, 47.0012,-131.2207, 3053,   1331.8,2,   2.7962,2,   2.79610,2,  34.4657,2,  34.4656,2,  34.6442,2,    16.27,2,    15.77,2,   99.928,   0.0029,2,    0.013,2,  -999.00,9,    3.251,1,    0.000,2,   152.06,2,     0.17,    44.63,2,     0.06,     0.00,2,     0.01,     3.19,2,     0.01,  -999.00,9,  -999.00,    0.007,2,    0.006,2,    0.000,2,    0.000,2,   2390.3,2,   2388.8,2,   -999.0,9,   7.3169,       25,2, -999.000,9,    40.21,2, -999.000,9, -999.000,   -999.0,9,   -999.0, -999.000,9, -999.000, -999.000,9, -999.000,   -999.0,9,   -999.0, -999.000,9, -999.000,9, -999.000,9
  49NZ20140717,   P01,   140,  1,     20, X12J20,2,20140820,2114, 47.0012,-131.2207, 3053,   1530.1,2,   2.5243,2,   2.52447,2,  34.5097,2,  34.5096,2,  34.6891,2,    25.94,2,    25.92,2,   99.939,   0.0024,2,    0.012,2,  -999.00,9,    3.264,1,    0.000,2,   159.37,2,     0.17,    43.93,2,     0.06,     0.00,2,     0.01,     3.13,2,     0.01,  -999.00,9,  -999.00,    0.003,2,    0.004,2,    0.000,2,    0.000,2,   2391.6,2,   2399.9,2,   -999.0,9,   7.3394,       25,6, -999.000,9,    40.11,2, -999.000,9, -999.000,   -999.0,9,   -999.0, -999.000,9, -999.000, -999.000,9, -999.000,   -999.0,9,   -999.0, -999.000,9, -999.000,9, -999.000,9
  49NZ20140717,   P01,   140,  1,     19, X12J19,2,20140820,2114, 47.0012,-131.2207, 3053,   1730.2,2,   2.2036,2,   2.20357,2,  34.5439,2,  34.5438,2,  34.7240,2,    37.27,2,    37.27,2,   99.928,   0.0029,2,    0.012,2,  -999.00,9,    3.260,1,    0.000,2,   167.60,2,     0.18,    43.41,2,     0.05,     0.00,2,     0.01,     3.07,2,     0.01,  -999.00,9,  -999.00,    0.002,2,    0.001,2,    0.000,2,    0.000,2,   2392.7,2,   2406.6,2,   -999.0,9,   7.3618,       25,2, -999.000,9,    37.91,2, -999.000,9, -999.000,   -999.0,9,   -999.0, -999.000,9, -999.000, -999.000,9, -999.000,   -999.0,9,   -999.0, -999.000,9, -999.000,9, -999.000,9
  49NZ20140717,   P01,   140,  1,     18, X12J18,2,20140820,2114, 47.0012,-131.2207, 3053,   1932.1,2,   1.9939,2,   1.99336,2,  34.5781,2,  34.5779,2,  34.7623,2,    52.11,2,    52.36,2,   99.947,   0.0021,2,    0.009,2,  -999.00,9,    3.164,1,    0.000,2,   172.38,2,     0.18,    42.54,2,     0.05,     0.00,2,     0.01,     3.00,2,     0.01,  -999.00,9,  -999.00,    0.000,2,    0.000,2,    0.000,2,    0.000,2,   2388.7,2,   2414.9,2,   -999.0,9,   7.3937,       25,2, -999.000,9,    38.98,2, -999.000,9, -999.000,   -999.0,9,   -999.0, -999.000,9, -999.000, -999.000,9, -999.000,   -999.0,9,   -999.0, -999.000,9, -999.000,9, -999.000,9
  49NZ20140717,   P01,   140,  1,     17, X12J17,2,20140820,2114, 47.0012,-131.2207, 3053,   2131.3,2,   1.8690,2,   1.86888,2,  34.6017,2,  34.6017,2,  34.7853,2,    64.73,2,    65.02,2,   99.963,   0.0015,2,    0.008,2,  -999.00,9,    3.131,1,    0.000,2,   174.75,2,     0.18,    41.80,2,     0.05,     0.00,2,     0.01,     2.95,2,     0.01,  -999.00,9,  -999.00,    0.001,2,    0.000,2,    0.000,2,    0.000,2,   2383.9,2,   2419.3,2,   -999.0,9,   7.4213,       25,2, -999.000,9,    37.67,2, -999.000,9, -999.000,   -999.0,9,   -999.0, -999.000,9, -999.000, -999.000,9, -999.000,   -999.0,9,   -999.0, -999.000,9, -999.000,9, -999.000,9
  49NZ20140717,   P01,   140,  1,     16, X12J16,4,20140820,2114, 47.0012,-131.2207, 3053,   2330.0,2,   1.8025,2,   1.80228,2,  34.6179,2,  32.5513,4,  32.7063,4,    74.23,2,   261.22,4,   99.971,   0.0011,2,    0.007,2,  -999.00,9,    3.043,1,    0.000,2,     6.88,4,     0.09,     7.79,4,     0.02,     0.05,4,     0.00,     0.89,4,     0.01,  -999.00,9,  -999.00,    3.501,2,    2.083,2,    0.304,2,    2.350,2,   2023.5,4,   2176.8,4,   -999.0,9,   7.7899,       25,4, -999.000,9,  -999.00,9, -999.000,9, -999.000,   -999.0,9,   -999.0, -999.000,9, -999.000, -999.000,9, -999.000,   -999.0,9,   -999.0, -999.000,9, -999.000,9, -999.000,9
  49NZ20140717,   P01,   140,  1,     15, X12J15,2,20140820,2114, 47.0012,-131.2207, 3053,   2529.3,2,   1.7242,2,   1.72416,2,  34.6305,2,  34.6305,2,  34.8176,2,    84.15,2,    84.56,2,   99.919,   0.0032,2,    0.006,2,  -999.00,9,    2.966,1,    0.000,2,   177.22,2,     0.18,    40.59,2,     0.05,     0.00,2,     0.01,     2.86,2,     0.01,  -999.00,9,  -999.00,    0.000,2,    0.000,2,    0.000,2,    0.000,2,   2373.7,2,   2426.3,2,   -999.0,9,   7.4639,       25,2, -999.000,9,    39.90,2, -999.000,9, -999.000,   -999.0,9,   -999.0, -999.000,9, -999.000, -999.000,9, -999.000,   -999.0,9,   -999.0, -999.000,9, -999.000,9, -999.000,9
  49NZ20140717,   P01,   140,  1,     14, X12J14,2,20140820,2114, 47.0012,-131.2207, 3053,   2730.5,2,   1.6906,2,   1.69048,2,  34.6376,2,  34.6380,2,  34.8222,2,    89.70,2,    89.99,2,   99.878,   0.0049,2,    0.007,2,  -999.00,9,    2.899,1,    0.000,2,   177.85,2,     0.18,    40.26,2,     0.05,     0.00,2,     0.01,     2.83,2,     0.01,  -999.00,9,  -999.00,    0.000,2,    0.000,2,    0.000,2,    0.000,2,   2371.5,2,   2428.1,2,   -999.0,9,   7.4740,       25,6, -999.000,9,    38.68,2, -999.000,9, -999.000,   -999.0,9,   -999.0, -999.000,9, -999.000, -999.000,9, -999.000,   -999.0,9,   -999.0, -999.000,9, -999.000,9, -999.000,9
  49NZ20140717,   P01,   140,  1,     13, X12113,2,20140820,2114, 47.0012,-131.2207, 3053,   2929.9,2,   1.6751,2,   1.67499,2,  34.6424,2,  34.6424,2,  34.8275,2,    93.49,2,    93.88,2,   99.817,   0.0073,2,    0.007,2,  -999.00,9,    2.895,1,    0.000,2,   178.39,2,     0.19,    40.02,2,     0.05,     0.00,2,     0.01,     2.82,2,     0.01,  -999.00,9,  -999.00,    0.000,2,    0.000,2,    0.003,2,    0.000,2,   2370.8,2,   2425.8,2,   -999.0,9,   7.4823,       25,2, -999.000,9,    36.20,2, -999.000,9, -999.000,   -999.0,9,   -999.0, -999.000,9, -999.000, -999.000,9, -999.000,   -999.0,9,   -999.0, -999.000,9, -999.000,9, -999.000,9
  49NZ20140717,   P01,   140,  1,     12, X12J12,9,20140820,2114, 47.0012,-131.2207, 3053,   -999.0,9,-999.0000,9,-999.00000,9,-999.0000,9,-999.0000,9,-999.0000,9,  -999.00,9,  -999.00,9, -999.000,-999.0000,9, -999.000,9,  -999.00,9, -999.000,9, -999.000,9,  -999.00,9,  -999.00,  -999.00,9,  -999.00,  -999.00,9,  -999.00,  -999.00,9,  -999.00,  -999.00,9,  -999.00, -999.000,9, -999.000,9, -999.000,9, -999.000,9,   -999.0,9,   -999.0,9,   -999.0,9,-999.0000,     -999,9, -999.000,9,  -999.00,9, -999.000,9, -999.000,   -999.0,9,   -999.0, -999.000,9, -999.000, -999.000,9, -999.000,   -999.0,9,   -999.0, -999.000,9, -999.000,9, -999.000,9
  49NZ20140717,   P01,   140,  1,     11, X12J11,9,20140820,2114, 47.0012,-131.2207, 3053,   -999.0,9,-999.0000,9,-999.00000,9,-999.0000,9,-999.0000,9,-999.0000,9,  -999.00,9,  -999.00,9, -999.000,-999.0000,9, -999.000,9,  -999.00,9, -999.000,9, -999.000,9,  -999.00,9,  -999.00,  -999.00,9,  -999.00,  -999.00,9,  -999.00,  -999.00,9,  -999.00,  -999.00,9,  -999.00, -999.000,9, -999.000,9, -999.000,9, -999.000,9,   -999.0,9,   -999.0,9,   -999.0,9,-999.0000,     -999,9, -999.000,9,  -999.00,9, -999.000,9, -999.000,   -999.0,9,   -999.0, -999.000,9, -999.000, -999.000,9, -999.000,   -999.0,9,   -999.0, -999.000,9, -999.000,9, -999.000,9
  49NZ20140717,   P01,   140,  1,     10, X12J10,9,20140820,2114, 47.0012,-131.2207, 3053,   -999.0,9,-999.0000,9,-999.00000,9,-999.0000,9,-999.0000,9,-999.0000,9,  -999.00,9,  -999.00,9, -999.000,-999.0000,9, -999.000,9,  -999.00,9, -999.000,9, -999.000,9,  -999.00,9,  -999.00,  -999.00,9,  -999.00,  -999.00,9,  -999.00,  -999.00,9,  -999.00,  -999.00,9,  -999.00, -999.000,9, -999.000,9, -999.000,9, -999.000,9,   -999.0,9,   -999.0,9,   -999.0,9,-999.0000,     -999,9, -999.000,9,  -999.00,9, -999.000,9, -999.000,   -999.0,9,   -999.0, -999.000,9, -999.000, -999.000,9, -999.000,   -999.0,9,   -999.0, -999.000,9, -999.000,9, -999.000,9