BOTTLE,20230904JAMSTECRIGC
EXPOCODE,SECT,STNNBR,CASTNO,SAMPNO,BTLNBR,BTLNBR_FLAG_W,DATE,TIME,LATITUDE,LONGITUDE,DEPTH,CTDPRS,CTDPRS_FLAG_W,CTDTMP,CTDTMP_FLAG_W,SBE35,SBE35_FLAG_W,CTDSAL,CTDSAL_FLAG_W,SALNTY,SALNTY_FLAG_W,DNSSAL,DNSSAL_FLAG_W,CTDOXY,CTDOXY_FLAG_W,OXYGEN,OXYGEN_FLAG_W,XMISS,XMISSCP,XMISS_FLAG_W,FLUOR,FLUOR_FLAG_W,CHLORA,CHLORA_FLAG_W,CDOM,CDOM_FLAG_W,PAR,PAR_FLAG_W,SILCAT,SILCAT_FLAG_W,SILUNC,NITRAT,NITRAT_FLAG_W,NRAUNC,NITRIT,NITRIT_FLAG_W,NRIUNC,PHSPHT,PHSPHT_FLAG_W,PHPUNC,AMMONIA,AMMONIA_FLAG_W,NH4UNC,CFC-11,CFC-11_FLAG_W,CFC-12,CFC-12_FLAG_W,CFC113,CFC113_FLAG_W,SF6,SF6_FLAG_W,TCARBN,TCARBN_FLAG_W,ALKALI,ALKALI_FLAG_W,ALKALI_POT,ALKALI_POT_FLAG_W,PH_TOT,PH_TMP,PH_TOT_FLAG_W,CALCIUM,CALCIUM_FLAG_W,DOC,DOC_FLAG_W,DELC13,DELC13_FLAG_W,C13ERR,DELC14,DELC14_FLAG_W,C14ERR,CS-134,CS-134_FLAG_W,CS134ER,CS-137,CS-137_FLAG_W,CS137ER,I-129,I-129_FLAG_W,I-129ER,CDOM-325,CDOM-325_FLAG_W,CDOM-370,CDOM-370_FLAG_W,CDOM-443,CDOM-443_FLAG_W
,,,,,,,,UTC,DEG,DEG,METERS,DBAR,,ITS-90,,ITS-90,,PSS-78,,PSS-78,,G/KG,,UMOL/KG,,UMOL/KG,,%TRANS,/METER,,MG/CUM,,MG/CUM,,MG/CUM,,UE/SQM/S,,UMOL/KG,,UMOL/KG,UMOL/KG,,UMOL/KG,UMOL/KG,,UMOL/KG,UMOL/KG,,UMOL/KG,UMOL/KG,,UMOL/KG,PMOL/KG,,PMOL/KG,,PMOL/KG,,FMOL/KG,,UMOL/KG,,UMOL/KG,,UMOL/KG,,,DEG C,,MMOL/KG,,UMOL/KG,,/MILLE,,/MILLE,/MILLE,,/MILLE,MBQ/KG,,MBQ/KG,MBQ/KG,,MBQ/KG,,,,/METER,,/METER,,/METER,
  49NZ20140717,   P01,   102,  1,      9, X12J09,2,20140807,1030, 46.9931,-173.7860, 5724,   4000.8,2,   1.4722,2,   1.47240,2,  34.6809,2,  34.6808,2,-999.0000,9,   144.62,2,   144.28,2,   99.984,   0.0006,2,    0.002,2,  -999.00,9,    2.058,4,    0.000,2,   158.35,2,     0.17,    36.64,2,     0.05,     0.00,2,     0.01,     2.56,2,     0.01,  -999.00,9,  -999.00,    0.000,2,    0.000,2,    0.000,2, -999.000,9,   -999.0,9,   -999.0,9,   -999.0,9,-999.0000,     -999,9, -999.000,9,  -999.00,9, -999.000,9, -999.000,   -999.0,9,   -999.0, -999.000,9, -999.000, -999.000,9, -999.000,   -999.0,9,   -999.0, -999.000,9, -999.000,9, -999.000,9
  49NZ20140717,   P01,   102,  1,      8, X12J08,2,20140807,1030, 46.9931,-173.7860, 5724,   4249.0,2,   1.4737,2,   1.47390,2,  34.6842,2,  34.6841,2,-999.0000,9,   148.22,2,   147.95,2,   99.988,   0.0005,2,    0.003,2,  -999.00,9,    1.893,4,    0.000,2,   158.65,2,     0.17,    36.41,2,     0.05,     0.00,2,     0.01,     2.54,2,     0.01,  -999.00,9,  -999.00,    0.000,2,    0.000,2,    0.000,2, -999.000,9,   -999.0,9,   -999.0,9,   -999.0,9,-999.0000,     -999,9, -999.000,9,  -999.00,9, -999.000,9, -999.000,   -999.0,9,   -999.0, -999.000,9, -999.000, -999.000,9, -999.000,   -999.0,9,   -999.0, -999.000,9, -999.000,9, -999.000,9
  49NZ20140717,   P01,   102,  1,      7, X12J07,2,20140807,1030, 46.9931,-173.7860, 5724,   4500.6,2,   1.4903,2,   1.49051,2,  34.6860,2,  34.6858,2,-999.0000,9,   149.67,2,   149.47,2,   99.986,   0.0006,2,    0.002,2,  -999.00,9,   -1.511,4,    0.000,2,   160.27,2,     0.17,    36.34,2,     0.05,     0.00,2,     0.01,     2.54,2,     0.01,  -999.00,9,  -999.00,    0.000,2,    0.000,2,    0.000,2, -999.000,9,   -999.0,9,   -999.0,9,   -999.0,9,-999.0000,     -999,9, -999.000,9,  -999.00,9, -999.000,9, -999.000,   -999.0,9,   -999.0, -999.000,9, -999.000, -999.000,9, -999.000,   -999.0,9,   -999.0, -999.000,9, -999.000,9, -999.000,9
  49NZ20140717,   P01,   102,  1,      6, X12J06,2,20140807,1030, 46.9931,-173.7860, 5724,   4750.1,2,   1.5164,2,   1.51646,2,  34.6866,2,  34.6862,2,-999.0000,9,   150.07,2,   149.75,2,  100.001,  -0.0001,2,    0.002,2,  -999.00,9,   -1.968,4,    0.000,2,   161.56,2,     0.17,    36.34,2,     0.05,     0.00,2,     0.01,     2.53,2,     0.01,  -999.00,9,  -999.00,    0.000,2,    0.000,2,    0.000,2, -999.000,9,   -999.0,9,   -999.0,9,   -999.0,9,-999.0000,     -999,9, -999.000,9,  -999.00,9, -999.000,9, -999.000,   -999.0,9,   -999.0, -999.000,9, -999.000, -999.000,9, -999.000,   -999.0,9,   -999.0, -999.000,9, -999.000,9, -999.000,9
  49NZ20140717,   P01,   102,  1,      5, X12J05,2,20140807,1030, 46.9931,-173.7860, 5724,   5000.0,2,   1.5449,2,   1.54487,2,  34.6868,2,  34.6867,2,-999.0000,9,   150.54,2,   150.28,2,   99.999,   0.0000,2,    0.002,2,  -999.00,9,  497.217,4,    0.000,2,   161.74,2,     0.17,    36.30,2,     0.05,     0.00,2,     0.01,     2.53,2,     0.01,  -999.00,9,  -999.00,    0.000,2,    0.000,2,    0.000,2, -999.000,9,   -999.0,9,   -999.0,9,   -999.0,9,-999.0000,     -999,9, -999.000,9,  -999.00,9, -999.000,9, -999.000,   -999.0,9,   -999.0, -999.000,9, -999.000, -999.000,9, -999.000,   -999.0,9,   -999.0, -999.000,9, -999.000,9, -999.000,9
  49NZ20140717,   P01,   102,  1,      4, X12J04,2,20140807,1030, 46.9931,-173.7860, 5724,   5251.1,2,   1.5737,2,   1.57363,2,  34.6871,2,  34.6872,2,-999.0000,9,   151.19,2,   151.04,2,   99.995,   0.0002,2,    0.002,2,  -999.00,9,  497.217,4,    0.000,2,   161.58,2,     0.17,    36.24,2,     0.05,     0.00,2,     0.01,     2.53,2,     0.01,  -999.00,9,  -999.00,    0.001,2,    0.001,2,    0.000,2, -999.000,9,   -999.0,9,   -999.0,9,   -999.0,9,-999.0000,     -999,9, -999.000,9,  -999.00,9, -999.000,9, -999.000,   -999.0,9,   -999.0, -999.000,9, -999.000, -999.000,9, -999.000,   -999.0,9,   -999.0, -999.000,9, -999.000,9, -999.000,9
  49NZ20140717,   P01,   102,  1,      3, X12J03,2,20140807,1030, 46.9931,-173.7860, 5724,   5500.1,2,   1.6044,2,   1.60438,2,  34.6873,2,  34.6878,2,-999.0000,9,   151.59,2,   151.56,2,   99.988,   0.0005,2,    0.002,2,  -999.00,9,  497.217,4,    0.000,2,   161.57,2,     0.17,    36.21,2,     0.05,     0.00,2,     0.01,     2.52,2,     0.01,  -999.00,9,  -999.00,    0.001,2,    0.000,2,    0.000,2, -999.000,9,   -999.0,9,   -999.0,9,   -999.0,9,-999.0000,     -999,9, -999.000,9,  -999.00,9, -999.000,9, -999.000,   -999.0,9,   -999.0, -999.000,9, -999.000, -999.000,9, -999.000,   -999.0,9,   -999.0, -999.000,9, -999.000,9, -999.000,9
  49NZ20140717,   P01,   102,  1,      2, X12J02,2,20140807,1030, 46.9931,-173.7860, 5724,   5749.5,2,   1.6379,2,   1.63784,2,  34.6872,2,  34.6876,2,-999.0000,9,   151.45,2,   151.74,2,   99.947,   0.0021,2,    0.002,2,  -999.00,9,  497.217,4,    0.000,2,   162.02,2,     0.18,    36.26,2,     0.05,     0.00,2,     0.01,     2.52,2,     0.01,  -999.00,9,  -999.00,    0.002,2,    0.000,2,    0.000,2, -999.000,9,   -999.0,9,   -999.0,9,   -999.0,9,-999.0000,     -999,9, -999.000,9,  -999.00,9, -999.000,9, -999.000,   -999.0,9,   -999.0, -999.000,9, -999.000, -999.000,9, -999.000,   -999.0,9,   -999.0, -999.000,9, -999.000,9, -999.000,9
  49NZ20140717,   P01,   102,  1,      1, X12J01,2,20140807,1030, 46.9931,-173.7860, 5724,   5834.4,2,   1.6491,2,   1.64881,2,  34.6871,2,  34.6880,2,-999.0000,9,   151.50,2,   151.97,2,   99.882,   0.0047,2,    0.002,2,  -999.00,9,  494.380,4,    0.000,2,   162.19,2,     0.18,    36.23,2,     0.05,     0.01,2,     0.01,     2.52,2,     0.01,  -999.00,9,  -999.00,    0.000,2,    0.002,2,    0.000,2, -999.000,9,   -999.0,9,   -999.0,9,   -999.0,9,-999.0000,     -999,9, -999.000,9,  -999.00,9, -999.000,9, -999.000,   -999.0,9,   -999.0, -999.000,9, -999.000, -999.000,9, -999.000,   -999.0,9,   -999.0, -999.000,9, -999.000,9, -999.000,9