BOTTLE,20230904JAMSTECRIGC
EXPOCODE,SECT,STNNBR,CASTNO,SAMPNO,BTLNBR,BTLNBR_FLAG_W,DATE,TIME,LATITUDE,LONGITUDE,DEPTH,CTDPRS,CTDPRS_FLAG_W,CTDTMP,CTDTMP_FLAG_W,SBE35,SBE35_FLAG_W,CTDSAL,CTDSAL_FLAG_W,SALNTY,SALNTY_FLAG_W,DNSSAL,DNSSAL_FLAG_W,CTDOXY,CTDOXY_FLAG_W,OXYGEN,OXYGEN_FLAG_W,XMISS,XMISSCP,XMISS_FLAG_W,FLUOR,FLUOR_FLAG_W,CHLORA,CHLORA_FLAG_W,CDOM,CDOM_FLAG_W,PAR,PAR_FLAG_W,SILCAT,SILCAT_FLAG_W,SILUNC,NITRAT,NITRAT_FLAG_W,NRAUNC,NITRIT,NITRIT_FLAG_W,NRIUNC,PHSPHT,PHSPHT_FLAG_W,PHPUNC,AMMONIA,AMMONIA_FLAG_W,NH4UNC,CFC-11,CFC-11_FLAG_W,CFC-12,CFC-12_FLAG_W,CFC113,CFC113_FLAG_W,SF6,SF6_FLAG_W,TCARBN,TCARBN_FLAG_W,ALKALI,ALKALI_FLAG_W,ALKALI_POT,ALKALI_POT_FLAG_W,PH_TOT,PH_TMP,PH_TOT_FLAG_W,CALCIUM,CALCIUM_FLAG_W,DOC,DOC_FLAG_W,DELC13,DELC13_FLAG_W,C13ERR,DELC14,DELC14_FLAG_W,C14ERR,CS-134,CS-134_FLAG_W,CS134ER,CS-137,CS-137_FLAG_W,CS137ER,I-129,I-129_FLAG_W,I-129ER,CDOM-325,CDOM-325_FLAG_W,CDOM-370,CDOM-370_FLAG_W,CDOM-443,CDOM-443_FLAG_W
,,,,,,,,UTC,DEG,DEG,METERS,DBAR,,ITS-90,,ITS-90,,PSS-78,,PSS-78,,G/KG,,UMOL/KG,,UMOL/KG,,%TRANS,/METER,,MG/CUM,,MG/CUM,,MG/CUM,,UE/SQM/S,,UMOL/KG,,UMOL/KG,UMOL/KG,,UMOL/KG,UMOL/KG,,UMOL/KG,UMOL/KG,,UMOL/KG,UMOL/KG,,UMOL/KG,PMOL/KG,,PMOL/KG,,PMOL/KG,,FMOL/KG,,UMOL/KG,,UMOL/KG,,UMOL/KG,,,DEG C,,MMOL/KG,,UMOL/KG,,/MILLE,,/MILLE,/MILLE,,/MILLE,MBQ/KG,,MBQ/KG,MBQ/KG,,MBQ/KG,,,,/METER,,/METER,,/METER,
  49NZ20140717,   P01,   129,  1,      0,   -999,9,20140817,1813, 47.0130,-143.4928, 4598,   -999.0,9,-999.0000,9,-999.00000,9,-999.0000,9,  32.4692,2,-999.0000,9,  -999.00,9,  -999.00,9, -999.000,-999.0000,9, -999.000,9,  -999.00,9, -999.000,9, -999.000,9,     6.55,2,     0.09,     2.13,2,     0.13,     0.05,2,     0.01,     0.51,2,     0.01,  -999.00,9,  -999.00, -999.000,9, -999.000,9, -999.000,9, -999.000,9,   -999.0,9,   -999.0,9,   -999.0,9,-999.0000,     -999,9, -999.000,9,  -999.00,9, -999.000,9, -999.000,   -999.0,9,   -999.0, -999.000,9, -999.000, -999.000,9, -999.000,   -999.0,9,   -999.0, -999.000,9, -999.000,9, -999.000,9
  49NZ20140717,   P01,   129,  1,     36, X12J36,2,20140817,1813, 47.0130,-143.4928, 4598,     10.5,2,  16.4233,2,  16.42195,2,  32.4757,2,  32.4751,2,-999.0000,9,   257.92,2,   257.28,2,   96.493,   0.1428,2,    0.222,2,  -999.00,9,   -0.797,1,  246.824,2,     6.33,2,     0.09,     1.96,2,     0.01,     0.05,2,     0.01,     0.50,2,     0.01,  -999.00,9,  -999.00, -999.000,9, -999.000,9, -999.000,9, -999.000,9,   -999.0,9,   -999.0,9,   -999.0,9,-999.0000,     -999,9, -999.000,9,  -999.00,9, -999.000,9, -999.000,   -999.0,9,   -999.0, -999.000,9, -999.000, -999.000,9, -999.000,   -999.0,9,   -999.0, -999.000,9, -999.000,9, -999.000,9
  49NZ20140717,   P01,   129,  1,     35, X12J35,2,20140817,1813, 47.0130,-143.4928, 4598,     50.2,2,   9.6297,2,   9.62887,2,  32.6951,2,  32.7107,2,-999.0000,9,   297.67,2,   296.31,2,   95.856,   0.1693,2,    0.630,2,  -999.00,9,    0.369,1,   10.946,2,     7.45,2,     0.09,     5.77,2,     0.02,     0.12,2,     0.01,     0.74,2,     0.01,  -999.00,9,  -999.00, -999.000,9, -999.000,9, -999.000,9, -999.000,9,   -999.0,9,   -999.0,9,   -999.0,9,-999.0000,     -999,9, -999.000,9,  -999.00,9, -999.000,9, -999.000,   -999.0,9,   -999.0, -999.000,9, -999.000, -999.000,9, -999.000,   -999.0,9,   -999.0, -999.000,9, -999.000,9, -999.000,9
  49NZ20140717,   P01,   129,  1,     34, X12J34,2,20140817,1813, 47.0130,-143.4928, 4598,    101.0,2,   7.6107,2,   7.61022,2,  33.2991,2,  33.3053,2,-999.0000,9,   255.38,2,   253.99,2,   99.587,   0.0166,2,    0.116,2,  -999.00,9,    0.669,1,    0.559,2,    17.94,2,     0.09,    15.21,2,     0.03,     0.02,2,     0.01,     1.21,2,     0.01,  -999.00,9,  -999.00, -999.000,9, -999.000,9, -999.000,9, -999.000,9,   -999.0,9,   -999.0,9,   -999.0,9,-999.0000,     -999,9, -999.000,9,  -999.00,9, -999.000,9, -999.000,   -999.0,9,   -999.0, -999.000,9, -999.000, -999.000,9, -999.000,   -999.0,9,   -999.0, -999.000,9, -999.000,9, -999.000,9
  49NZ20140717,   P01,   129,  1,     33, X12J33,2,20140817,1813, 47.0130,-143.4928, 4598,    149.7,2,   7.3534,2,   7.35323,2,  33.7785,2,  33.7804,2,-999.0000,9,   212.78,2,   211.53,2,   99.728,   0.0109,2,    0.014,2,  -999.00,9,    1.201,1,    0.055,2,    29.42,2,     0.09,    20.93,2,     0.03,     0.01,2,     0.01,     1.51,2,     0.01,  -999.00,9,  -999.00, -999.000,9, -999.000,9, -999.000,9, -999.000,9,   -999.0,9,   -999.0,9,   -999.0,9,-999.0000,     -999,9, -999.000,9,  -999.00,9, -999.000,9, -999.000,   -999.0,9,   -999.0, -999.000,9, -999.000, -999.000,9, -999.000,   -999.0,9,   -999.0, -999.000,9, -999.000,9, -999.000,9
  49NZ20140717,   P01,   129,  1,     32, X12J32,2,20140817,1813, 47.0130,-143.4928, 4598,    199.3,2,   6.3602,2,   6.35950,2,  33.8367,2,  33.8379,2,-999.0000,9,   179.95,2,   179.27,2,   99.541,   0.0184,2,    0.013,2,  -999.00,9,    1.852,1,    0.000,2,    42.96,2,     0.10,    26.20,2,     0.04,     0.01,2,     0.01,     1.89,2,     0.01,  -999.00,9,  -999.00, -999.000,9, -999.000,9, -999.000,9, -999.000,9,   -999.0,9,   -999.0,9,   -999.0,9,-999.0000,     -999,9, -999.000,9,  -999.00,9, -999.000,9, -999.000,   -999.0,9,   -999.0, -999.000,9, -999.000, -999.000,9, -999.000,   -999.0,9,   -999.0, -999.000,9, -999.000,9, -999.000,9
  49NZ20140717,   P01,   129,  1,     31, X12J31,2,20140817,1813, 47.0130,-143.4928, 4598,    250.0,2,   5.5363,2,   5.53632,2,  33.8400,2,  33.8402,2,-999.0000,9,   151.11,2,   150.43,2,   99.606,   0.0158,2,    0.014,2,  -999.00,9,    2.101,1,    0.000,2,    54.76,2,     0.11,    30.43,2,     0.04,     0.01,2,     0.01,     2.19,2,     0.01,  -999.00,9,  -999.00, -999.000,9, -999.000,9, -999.000,9, -999.000,9,   -999.0,9,   -999.0,9,   -999.0,9,-999.0000,     -999,9, -999.000,9,  -999.00,9, -999.000,9, -999.000,   -999.0,9,   -999.0, -999.000,9, -999.000, -999.000,9, -999.000,   -999.0,9,   -999.0, -999.000,9, -999.000,9, -999.000,9
  49NZ20140717,   P01,   129,  1,     30, X12J30,2,20140817,1813, 47.0130,-143.4928, 4598,    301.2,2,   4.9244,2,   4.92476,2,  33.8489,2,  33.8487,2,-999.0000,9,   124.52,2,   124.10,2,   99.713,   0.0115,2,    0.015,2,  -999.00,9,    2.452,1,    0.000,2,    64.99,2,     0.12,    33.97,2,     0.05,     0.01,2,     0.01,     2.44,2,     0.01,  -999.00,9,  -999.00, -999.000,9, -999.000,9, -999.000,9, -999.000,9,   -999.0,9,   -999.0,9,   -999.0,9,-999.0000,     -999,9, -999.000,9,  -999.00,9, -999.000,9, -999.000,   -999.0,9,   -999.0, -999.000,9, -999.000, -999.000,9, -999.000,   -999.0,9,   -999.0, -999.000,9, -999.000,9, -999.000,9
  49NZ20140717,   P01,   129,  1,     29, X12J29,2,20140817,1813, 47.0130,-143.4928, 4598,    399.9,2,   4.3148,2,   4.31425,2,  33.9306,2,  33.9304,2,-999.0000,9,    80.55,2,    80.64,2,   99.788,   0.0085,2,    0.015,2,  -999.00,9,    2.722,1,    0.000,2,    82.54,2,     0.13,    38.83,2,     0.05,     0.01,2,     0.01,     2.76,2,     0.01,  -999.00,9,  -999.00, -999.000,9, -999.000,9, -999.000,9, -999.000,9,   -999.0,9,   -999.0,9,   -999.0,9,-999.0000,     -999,9, -999.000,9,  -999.00,9, -999.000,9, -999.000,   -999.0,9,   -999.0, -999.000,9, -999.000, -999.000,9, -999.000,   -999.0,9,   -999.0, -999.000,9, -999.000,9, -999.000,9
  49NZ20140717,   P01,   129,  1,     28, X12J28,2,20140817,1813, 47.0130,-143.4928, 4598,    499.4,2,   4.0852,2,   4.08481,2,  34.0313,2,  34.0303,2,-999.0000,9,    51.88,2,    52.33,2,   99.908,   0.0037,2,    0.014,2,  -999.00,9,    2.844,1,    0.000,2,    95.92,2,     0.13,    41.19,2,     0.05,     0.01,2,     0.01,     2.93,2,     0.01,  -999.00,9,  -999.00, -999.000,9, -999.000,9, -999.000,9, -999.000,9,   -999.0,9,   -999.0,9,   -999.0,9,-999.0000,     -999,9, -999.000,9,  -999.00,9, -999.000,9, -999.000,   -999.0,9,   -999.0, -999.000,9, -999.000, -999.000,9, -999.000,   -999.0,9,   -999.0, -999.000,9, -999.000,9, -999.000,9
  49NZ20140717,   P01,   129,  1,     27, X12J27,2,20140817,1813, 47.0130,-143.4928, 4598,    603.0,2,   3.9289,2,   3.92870,2,  34.1533,2,  34.1524,2,-999.0000,9,    32.15,2,    32.45,2,   99.945,   0.0022,2,    0.015,2,  -999.00,9,    2.937,1,    0.000,2,   108.74,2,     0.14,    42.49,2,     0.05,     0.00,2,     0.01,     3.02,2,     0.01,  -999.00,9,  -999.00, -999.000,9, -999.000,9, -999.000,9, -999.000,9,   -999.0,9,   -999.0,9,   -999.0,9,-999.0000,     -999,9, -999.000,9,  -999.00,9, -999.000,9, -999.000,   -999.0,9,   -999.0, -999.000,9, -999.000, -999.000,9, -999.000,   -999.0,9,   -999.0, -999.000,9, -999.000,9, -999.000,9
  49NZ20140717,   P01,   129,  1,     26, X12J26,2,20140817,1813, 47.0130,-143.4928, 4598,    698.3,2,   3.6920,2,   3.69165,2,  34.2161,2,  34.2160,2,-999.0000,9,    24.92,2,    24.85,2,   99.958,   0.0017,2,    0.014,2,  -999.00,9,    3.002,1,    0.000,2,   118.14,2,     0.15,    43.21,2,     0.05,     0.00,2,     0.01,     3.07,2,     0.01,  -999.00,9,  -999.00, -999.000,9, -999.000,9, -999.000,9, -999.000,9,   -999.0,9,   -999.0,9,   -999.0,9,-999.0000,     -999,9, -999.000,9,  -999.00,9, -999.000,9, -999.000,   -999.0,9,   -999.0, -999.000,9, -999.000, -999.000,9, -999.000,   -999.0,9,   -999.0, -999.000,9, -999.000,9, -999.000,9
  49NZ20140717,   P01,   129,  1,     25, X12J25,2,20140817,1813, 47.0130,-143.4928, 4598,    800.1,2,   3.3979,2,   3.39797,2,  34.2787,2,  34.2785,2,-999.0000,9,    21.48,2,    21.20,2,   99.962,   0.0015,2,    0.014,2,  -999.00,9,    3.138,1,    0.000,2,   128.27,2,     0.15,    43.65,2,     0.05,     0.00,2,     0.01,     3.12,2,     0.01,  -999.00,9,  -999.00, -999.000,9, -999.000,9, -999.000,9, -999.000,9,   -999.0,9,   -999.0,9,   -999.0,9,-999.0000,     -999,9, -999.000,9,  -999.00,9, -999.000,9, -999.000,   -999.0,9,   -999.0, -999.000,9, -999.000, -999.000,9, -999.000,   -999.0,9,   -999.0, -999.000,9, -999.000,9, -999.000,9
  49NZ20140717,   P01,   129,  1,     24, X12J24,2,20140817,1813, 47.0130,-143.4928, 4598,    900.3,2,   3.2011,2,   3.20209,2,  34.3194,2,  34.3191,2,-999.0000,9,    20.18,2,    19.92,2,   99.955,   0.0018,2,    0.014,2,  -999.00,9,    3.216,1,    0.000,2,   135.19,2,     0.16,    43.91,2,     0.06,     0.00,2,     0.01,     3.14,2,     0.01,  -999.00,9,  -999.00, -999.000,9, -999.000,9, -999.000,9, -999.000,9,   -999.0,9,   -999.0,9,   -999.0,9,-999.0000,     -999,9, -999.000,9,  -999.00,9, -999.000,9, -999.000,   -999.0,9,   -999.0, -999.000,9, -999.000, -999.000,9, -999.000,   -999.0,9,   -999.0, -999.000,9, -999.000,9, -999.000,9
  49NZ20140717,   P01,   129,  1,     23, X12J23,2,20140817,1813, 47.0130,-143.4928, 4598,    999.8,2,   3.0089,2,   3.00846,2,  34.3568,2,  34.3567,2,-999.0000,9,    19.34,2,    18.92,2,   99.955,   0.0018,2,    0.014,2,  -999.00,9,    3.258,1,    0.000,2,   141.81,2,     0.16,    44.12,2,     0.06,     0.00,2,     0.01,     3.14,2,     0.01,  -999.00,9,  -999.00, -999.000,9, -999.000,9, -999.000,9, -999.000,9,   -999.0,9,   -999.0,9,   -999.0,9,-999.0000,     -999,9, -999.000,9,  -999.00,9, -999.000,9, -999.000,   -999.0,9,   -999.0, -999.000,9, -999.000, -999.000,9, -999.000,   -999.0,9,   -999.0, -999.000,9, -999.000,9, -999.000,9
  49NZ20140717,   P01,   129,  1,     22, X12J22,2,20140817,1813, 47.0130,-143.4928, 4598,   1200.3,2,   2.7059,2,   2.70614,2,  34.4219,2,  34.4216,2,-999.0000,9,    17.81,2,    16.99,2,   99.977,   0.0009,2,    0.013,2,  -999.00,9,    3.277,1,    0.000,2,   152.25,2,     0.17,    44.52,2,     0.06,     0.00,2,     0.01,     3.16,2,     0.01,  -999.00,9,  -999.00, -999.000,9, -999.000,9, -999.000,9, -999.000,9,   -999.0,9,   -999.0,9,   -999.0,9,-999.0000,     -999,9, -999.000,9,  -999.00,9, -999.000,9, -999.000,   -999.0,9,   -999.0, -999.000,9, -999.000, -999.000,9, -999.000,   -999.0,9,   -999.0, -999.000,9, -999.000,9, -999.000,9
  49NZ20140717,   P01,   129,  1,     21, X12J21,2,20140817,1813, 47.0130,-143.4928, 4598,   1399.2,2,   2.4568,2,   2.45648,2,  34.4781,2,  34.4771,2,-999.0000,9,    16.96,2,    15.82,2,   99.971,   0.0012,2,    0.013,2,  -999.00,9,    3.310,1,    0.000,2,   161.35,2,     0.17,    44.88,2,     0.06,     0.00,2,     0.01,     3.17,2,     0.01,  -999.00,9,  -999.00, -999.000,9, -999.000,9, -999.000,9, -999.000,9,   -999.0,9,   -999.0,9,   -999.0,9,-999.0000,     -999,9, -999.000,9,  -999.00,9, -999.000,9, -999.000,   -999.0,9,   -999.0, -999.000,9, -999.000, -999.000,9, -999.000,   -999.0,9,   -999.0, -999.000,9, -999.000,9, -999.000,9
  49NZ20140717,   P01,   129,  1,     20, X12J20,2,20140817,1813, 47.0130,-143.4928, 4598,   1597.8,2,   2.2710,2,   2.27097,2,  34.5194,2,  34.5181,2,-999.0000,9,    24.33,2,    23.38,2,   99.958,   0.0017,2,    0.012,2,  -999.00,9,    3.262,1,    0.000,2,   166.65,2,     0.18,    44.52,2,     0.06,     0.00,2,     0.01,     3.14,2,     0.01,  -999.00,9,  -999.00, -999.000,9, -999.000,9, -999.000,9, -999.000,9,   -999.0,9,   -999.0,9,   -999.0,9,-999.0000,     -999,9, -999.000,9,  -999.00,9, -999.000,9, -999.000,   -999.0,9,   -999.0, -999.000,9, -999.000, -999.000,9, -999.000,   -999.0,9,   -999.0, -999.000,9, -999.000,9, -999.000,9
  49NZ20140717,   P01,   129,  1,     19, X12J19,2,20140817,1813, 47.0130,-143.4928, 4598,   1797.9,2,   2.0874,2,   2.08812,2,  34.5561,2,  34.5552,2,-999.0000,9,    38.75,2,    37.85,2,  100.016,  -0.0006,2,    0.011,2,  -999.00,9,    3.222,1,    0.000,2,   170.65,2,     0.18,    43.65,2,     0.05,     0.00,2,     0.01,     3.07,2,     0.01,  -999.00,9,  -999.00, -999.000,9, -999.000,9, -999.000,9, -999.000,9,   -999.0,9,   -999.0,9,   -999.0,9,-999.0000,     -999,9, -999.000,9,  -999.00,9, -999.000,9, -999.000,   -999.0,9,   -999.0, -999.000,9, -999.000, -999.000,9, -999.000,   -999.0,9,   -999.0, -999.000,9, -999.000,9, -999.000,9
  49NZ20140717,   P01,   129,  1,     18, X12J18,2,20140817,1813, 47.0130,-143.4928, 4598,   2000.7,2,   1.9497,2,   1.94952,2,  34.5832,2,  34.5832,2,-999.0000,9,    52.04,2,    51.92,2,  100.007,  -0.0003,2,    0.009,2,  -999.00,9,    3.135,1,    0.000,2,   173.19,2,     0.18,    42.79,2,     0.05,     0.00,2,     0.01,     3.01,2,     0.01,  -999.00,9,  -999.00, -999.000,9, -999.000,9, -999.000,9, -999.000,9,   -999.0,9,   -999.0,9,   -999.0,9,-999.0000,     -999,9, -999.000,9,  -999.00,9, -999.000,9, -999.000,   -999.0,9,   -999.0, -999.000,9, -999.000, -999.000,9, -999.000,   -999.0,9,   -999.0, -999.000,9, -999.000,9, -999.000,9
  49NZ20140717,   P01,   129,  1,     17, X12J17,2,20140817,1813, 47.0130,-143.4928, 4598,   2198.7,2,   1.8344,2,   1.83531,2,  34.6053,2,  34.6044,2,-999.0000,9,    65.20,2,    64.79,2,   99.984,   0.0007,2,    0.008,2,  -999.00,9,    3.050,1,    0.000,2,   174.33,2,     0.18,    42.03,2,     0.05,     0.00,2,     0.01,     2.96,2,     0.01,  -999.00,9,  -999.00, -999.000,9, -999.000,9, -999.000,9, -999.000,9,   -999.0,9,   -999.0,9,   -999.0,9,-999.0000,     -999,9, -999.000,9,  -999.00,9, -999.000,9, -999.000,   -999.0,9,   -999.0, -999.000,9, -999.000, -999.000,9, -999.000,   -999.0,9,   -999.0, -999.000,9, -999.000,9, -999.000,9
  49NZ20140717,   P01,   129,  1,     16, X12J16,2,20140817,1813, 47.0130,-143.4928, 4598,   2400.9,2,   1.7399,2,   1.73951,2,  34.6225,2,  34.6217,2,-999.0000,9,    78.12,2,    77.77,2,   99.962,   0.0015,2,    0.008,2,  -999.00,9,    2.914,1,    0.000,2,   173.80,2,     0.18,    41.09,2,     0.05,     0.00,2,     0.01,     2.88,2,     0.01,  -999.00,9,  -999.00, -999.000,9, -999.000,9, -999.000,9, -999.000,9,   -999.0,9,   -999.0,9,   -999.0,9,-999.0000,     -999,9, -999.000,9,  -999.00,9, -999.000,9, -999.000,   -999.0,9,   -999.0, -999.000,9, -999.000, -999.000,9, -999.000,   -999.0,9,   -999.0, -999.000,9, -999.000,9, -999.000,9
  49NZ20140717,   P01,   129,  1,     15, X12J15,2,20140817,1813, 47.0130,-143.4928, 4598,   2601.1,2,   1.6638,2,   1.66382,2,  34.6365,2,  34.6365,2,-999.0000,9,    90.11,2,    90.21,2,   99.990,   0.0004,2,    0.007,2,  -999.00,9,    2.882,1,    0.000,2,   173.02,2,     0.18,    40.28,2,     0.05,     0.00,2,     0.01,     2.82,2,     0.01,  -999.00,9,  -999.00, -999.000,9, -999.000,9, -999.000,9, -999.000,9,   -999.0,9,   -999.0,9,   -999.0,9,-999.0000,     -999,9, -999.000,9,  -999.00,9, -999.000,9, -999.000,   -999.0,9,   -999.0, -999.000,9, -999.000, -999.000,9, -999.000,   -999.0,9,   -999.0, -999.000,9, -999.000,9, -999.000,9
  49NZ20140717,   P01,   129,  1,     14, X12J14,2,20140817,1813, 47.0130,-143.4928, 4598,   2799.6,2,   1.6006,2,   1.60054,2,  34.6484,2,  34.6480,2,-999.0000,9,   101.54,2,   101.44,2,  100.001,   0.0000,2,    0.006,2,  -999.00,9,    2.810,1,    0.000,2,   172.20,2,     0.18,    39.55,2,     0.05,     0.00,2,     0.01,     2.77,2,     0.01,  -999.00,9,  -999.00, -999.000,9, -999.000,9, -999.000,9, -999.000,9,   -999.0,9,   -999.0,9,   -999.0,9,-999.0000,     -999,9, -999.000,9,  -999.00,9, -999.000,9, -999.000,   -999.0,9,   -999.0, -999.000,9, -999.000, -999.000,9, -999.000,   -999.0,9,   -999.0, -999.000,9, -999.000,9, -999.000,9
  49NZ20140717,   P01,   129,  1,     13, X12113,2,20140817,1813, 47.0130,-143.4928, 4598,   3001.1,2,   1.5586,2,   1.55855,2,  34.6569,2,  34.6568,2,-999.0000,9,   110.69,2,   110.61,2,   99.990,   0.0004,2,    0.006,2,  -999.00,9,    2.822,1,    0.000,2,   171.22,2,     0.18,    38.93,2,     0.05,     0.01,2,     0.01,     2.73,2,     0.01,  -999.00,9,  -999.00, -999.000,9, -999.000,9, -999.000,9, -999.000,9,   -999.0,9,   -999.0,9,   -999.0,9,-999.0000,     -999,9, -999.000,9,  -999.00,9, -999.000,9, -999.000,   -999.0,9,   -999.0, -999.000,9, -999.000, -999.000,9, -999.000,   -999.0,9,   -999.0, -999.000,9, -999.000,9, -999.000,9
  49NZ20140717,   P01,   129,  1,     12, X12J12,2,20140817,1813, 47.0130,-143.4928, 4598,   3250.2,2,   1.5207,2,   1.52068,2,  34.6655,2,  34.6653,2,-999.0000,9,   120.17,2,   120.02,2,   99.999,   0.0001,2,    0.005,2,  -999.00,9,    2.694,1,    0.000,2,   170.02,2,     0.18,    38.36,2,     0.05,     0.00,2,     0.01,     2.68,2,     0.01,  -999.00,9,  -999.00, -999.000,9, -999.000,9, -999.000,9, -999.000,9,   -999.0,9,   -999.0,9,   -999.0,9,-999.0000,     -999,9, -999.000,9,  -999.00,9, -999.000,9, -999.000,   -999.0,9,   -999.0, -999.000,9, -999.000, -999.000,9, -999.000,   -999.0,9,   -999.0, -999.000,9, -999.000,9, -999.000,9
  49NZ20140717,   P01,   129,  1,     11, X12J11,2,20140817,1813, 47.0130,-143.4928, 4598,   3500.8,2,   1.5011,2,   1.50113,2,  34.6718,2,  34.6714,2,-999.0000,9,   127.19,2,   127.09,2,   99.992,   0.0003,2,    0.005,2,  -999.00,9,    2.653,1,    0.000,2,   169.36,2,     0.18,    37.92,2,     0.05,     0.00,2,     0.01,     2.65,2,     0.01,  -999.00,9,  -999.00, -999.000,9, -999.000,9, -999.000,9, -999.000,9,   -999.0,9,   -999.0,9,   -999.0,9,-999.0000,     -999,9, -999.000,9,  -999.00,9, -999.000,9, -999.000,   -999.0,9,   -999.0, -999.000,9, -999.000, -999.000,9, -999.000,   -999.0,9,   -999.0, -999.000,9, -999.000,9, -999.000,9
  49NZ20140717,   P01,   129,  1,     10, X12J10,2,20140817,1813, 47.0130,-143.4928, 4598,   3749.1,2,   1.4955,2,   1.49546,2,  34.6763,2,  34.6763,2,-999.0000,9,   132.19,2,   132.23,2,   99.994,   0.0002,2,    0.004,2,  -999.00,9,    2.682,1,    0.000,2,   169.82,2,     0.18,    37.59,2,     0.05,     0.00,2,     0.01,     2.62,2,     0.01,  -999.00,9,  -999.00, -999.000,9, -999.000,9, -999.000,9, -999.000,9,   -999.0,9,   -999.0,9,   -999.0,9,-999.0000,     -999,9, -999.000,9,  -999.00,9, -999.000,9, -999.000,   -999.0,9,   -999.0, -999.000,9, -999.000, -999.000,9, -999.000,   -999.0,9,   -999.0, -999.000,9, -999.000,9, -999.000,9