BOTTLE,20230904JAMSTECRIGC
EXPOCODE,SECT,STNNBR,CASTNO,SAMPNO,BTLNBR,BTLNBR_FLAG_W,DATE,TIME,LATITUDE,LONGITUDE,DEPTH,CTDPRS,CTDPRS_FLAG_W,CTDTMP,CTDTMP_FLAG_W,SBE35,SBE35_FLAG_W,CTDSAL,CTDSAL_FLAG_W,SALNTY,SALNTY_FLAG_W,DNSSAL,DNSSAL_FLAG_W,CTDOXY,CTDOXY_FLAG_W,OXYGEN,OXYGEN_FLAG_W,XMISS,XMISSCP,XMISS_FLAG_W,FLUOR,FLUOR_FLAG_W,CHLORA,CHLORA_FLAG_W,CDOM,CDOM_FLAG_W,PAR,PAR_FLAG_W,SILCAT,SILCAT_FLAG_W,SILUNC,NITRAT,NITRAT_FLAG_W,NRAUNC,NITRIT,NITRIT_FLAG_W,NRIUNC,PHSPHT,PHSPHT_FLAG_W,PHPUNC,AMMONIA,AMMONIA_FLAG_W,NH4UNC,CFC-11,CFC-11_FLAG_W,CFC-12,CFC-12_FLAG_W,CFC113,CFC113_FLAG_W,SF6,SF6_FLAG_W,TCARBN,TCARBN_FLAG_W,ALKALI,ALKALI_FLAG_W,ALKALI_POT,ALKALI_POT_FLAG_W,PH_TOT,PH_TMP,PH_TOT_FLAG_W,CALCIUM,CALCIUM_FLAG_W,DOC,DOC_FLAG_W,DELC13,DELC13_FLAG_W,C13ERR,DELC14,DELC14_FLAG_W,C14ERR,CS-134,CS-134_FLAG_W,CS134ER,CS-137,CS-137_FLAG_W,CS137ER,I-129,I-129_FLAG_W,I-129ER,CDOM-325,CDOM-325_FLAG_W,CDOM-370,CDOM-370_FLAG_W,CDOM-443,CDOM-443_FLAG_W
,,,,,,,,UTC,DEG,DEG,METERS,DBAR,,ITS-90,,ITS-90,,PSS-78,,PSS-78,,G/KG,,UMOL/KG,,UMOL/KG,,%TRANS,/METER,,MG/CUM,,MG/CUM,,MG/CUM,,UE/SQM/S,,UMOL/KG,,UMOL/KG,UMOL/KG,,UMOL/KG,UMOL/KG,,UMOL/KG,UMOL/KG,,UMOL/KG,UMOL/KG,,UMOL/KG,PMOL/KG,,PMOL/KG,,PMOL/KG,,FMOL/KG,,UMOL/KG,,UMOL/KG,,UMOL/KG,,,DEG C,,MMOL/KG,,UMOL/KG,,/MILLE,,/MILLE,/MILLE,,/MILLE,MBQ/KG,,MBQ/KG,MBQ/KG,,MBQ/KG,,,,/METER,,/METER,,/METER,
  49NZ20140717,   P01,   110,  2,      9, X12J09,2,20140810,0036, 46.9939,-164.9878, 5329,   3919.7,2,   1.4729,2,   1.47309,2,  34.6802,2,  34.6802,2,  34.8631,2,   141.83,2,   141.93,2,   99.984,   0.0006,2,    0.008,2,  -999.00,9,    2.203,1,    0.000,2,   160.32,2,     0.17,    36.72,2,     0.05,     0.00,2,     0.01,     2.56,2,     0.01,     0.01,2,     0.01, -999.000,9, -999.000,9, -999.000,9, -999.000,9,   2335.6,2,   2420.3,2,   -999.0,9,   7.5609,       25,2, -999.000,9,    38.38,2, -999.000,1, -999.000,   -999.0,1,   -999.0, -999.000,9, -999.000, -999.000,9, -999.000,   -999.0,9,   -999.0, -999.000,9, -999.000,9, -999.000,9
  49NZ20140717,   P01,   110,  2,      8, X12J08,2,20140810,0036, 46.9939,-164.9878, 5329,   4170.1,2,   1.4748,2,   1.47487,2,  34.6834,2,  34.6833,2,  34.8651,2,   145.58,2,   145.51,2,   99.997,   0.0001,2,    0.008,2,  -999.00,9,    1.705,4,    0.000,2,   160.68,2,     0.17,    36.57,2,     0.05,     0.00,2,     0.01,     2.54,2,     0.01,     0.01,2,     0.01, -999.000,9, -999.000,9, -999.000,9, -999.000,9,   2333.2,6,   2420.8,2,   -999.0,9,   7.5691,       25,2, -999.000,9,    38.01,2, -999.000,9, -999.000,   -999.0,9,   -999.0, -999.000,9, -999.000, -999.000,9, -999.000,   -999.0,9,   -999.0, -999.000,9, -999.000,9, -999.000,9
  49NZ20140717,   P01,   110,  2,      7, X12J07,2,20140810,0036, 46.9939,-164.9878, 5329,   4418.8,2,   1.4878,2,   1.48789,2,  34.6855,2,  34.6853,2,  34.8638,2,   147.80,2,   147.84,2,   99.997,   0.0001,2,    0.007,2,  -999.00,9,   -0.192,4,    0.000,2,   161.05,2,     0.17,    36.36,2,     0.05,     0.00,2,     0.01,     2.53,2,     0.01,     0.00,2,     0.01, -999.000,9, -999.000,9, -999.000,9, -999.000,9,   2332.6,2,   2423.6,2,   -999.0,9,   7.5737,       25,6, -999.000,9,    39.06,2, -999.000,1, -999.000,   -999.0,1,   -999.0, -999.000,9, -999.000, -999.000,9, -999.000,   -999.0,9,   -999.0, -999.000,9, -999.000,9, -999.000,9
  49NZ20140717,   P01,   110,  2,      6, X12J06,2,20140810,0036, 46.9939,-164.9878, 5329,   4671.4,2,   1.5099,2,   1.51000,2,  34.6865,2,  34.6865,2,  34.8677,2,   148.87,2,   149.04,2,   99.986,   0.0006,2,    0.007,2,  -999.00,9,  497.217,4,    0.000,2,   161.82,2,     0.17,    36.29,2,     0.05,     0.00,2,     0.01,     2.53,2,     0.01,     0.00,2,     0.01, -999.000,9, -999.000,9, -999.000,9, -999.000,9,   2332.8,2,   2423.0,6,   -999.0,9,   7.5759,       25,2, -999.000,9,    39.69,2, -999.000,9, -999.000,   -999.0,9,   -999.0, -999.000,9, -999.000, -999.000,9, -999.000,   -999.0,9,   -999.0, -999.000,9, -999.000,9, -999.000,9
  49NZ20140717,   P01,   110,  2,      5, X12J05,2,20140810,0036, 46.9939,-164.9878, 5329,   4920.1,2,   1.5351,2,   1.53521,2,  34.6872,2,  34.6871,2,  34.8684,2,   149.76,2,   150.00,2,   99.971,   0.0012,2,    0.007,2,  -999.00,9,  497.217,4,    0.000,2,   161.80,2,     0.17,    36.25,2,     0.05,     0.00,2,     0.01,     2.52,2,     0.01,     0.00,2,     0.01, -999.000,9, -999.000,9, -999.000,9, -999.000,9,   2329.0,2,   2423.2,2,   -999.0,9,   7.5780,       25,2, -999.000,9,    37.89,2, -999.000,1, -999.000,   -999.0,1,   -999.0, -999.000,9, -999.000, -999.000,9, -999.000,   -999.0,9,   -999.0, -999.000,9, -999.000,9, -999.000,9
  49NZ20140717,   P01,   110,  2,      4, X12J04,2,20140810,0036, 46.9939,-164.9878, 5329,   5171.9,2,   1.5627,2,   1.56274,2,  34.6876,2,  34.6876,2,  34.8704,2,   150.48,2,   151.08,2,   99.919,   0.0032,2,    0.007,2,  -999.00,9,  497.217,4,    0.000,2,   161.80,2,     0.17,    36.23,2,     0.05,     0.01,2,     0.01,     2.52,2,     0.01,     0.01,2,     0.01, -999.000,9, -999.000,9, -999.000,9, -999.000,9,   2329.8,2,   2422.6,2,   -999.0,9,   7.5784,       25,2, -999.000,9,  -999.00,9, -999.000,9, -999.000,   -999.0,9,   -999.0, -999.000,9, -999.000, -999.000,9, -999.000,   -999.0,9,   -999.0, -999.000,9, -999.000,9, -999.000,9
  49NZ20140717,   P01,   110,  2,      3, X12J03,2,20140810,0036, 46.9939,-164.9878, 5329,   3421.2,2,   1.5079,2,   1.50788,2,  34.6693,2,-999.0000,9,-999.0000,9,   129.12,2,  -999.00,9,   99.984,   0.0006,2,    0.010,2,  -999.00,9,    2.595,1,    0.000,2,  -999.00,9,  -999.00,  -999.00,9,  -999.00,  -999.00,9,  -999.00,  -999.00,9,  -999.00,  -999.00,9,  -999.00, -999.000,9, -999.000,9, -999.000,9, -999.000,9,   -999.0,9,   -999.0,9,   -999.0,9,-999.0000,     -999,9, -999.000,9,  -999.00,9, -999.000,9, -999.000,   -999.0,9,   -999.0, -999.000,9, -999.000, -999.000,9, -999.000,   -999.0,9,   -999.0, -999.000,9, -999.000,9, -999.000,9
  49NZ20140717,   P01,   110,  2,      2, X12J02,2,20140810,0036, 46.9939,-164.9878, 5329,   5425.4,2,   1.5941,2,   1.59395,2,  34.6877,2,-999.0000,9,-999.0000,9,   150.68,2,  -999.00,9,   99.882,   0.0047,2,    0.007,2,  -999.00,9,  494.380,4,    0.000,2,  -999.00,9,  -999.00,  -999.00,9,  -999.00,  -999.00,9,  -999.00,  -999.00,9,  -999.00,  -999.00,9,  -999.00, -999.000,9, -999.000,9, -999.000,9, -999.000,9,   -999.0,9,   -999.0,9,   -999.0,9,-999.0000,     -999,9, -999.000,9,  -999.00,9, -999.000,9, -999.000,   -999.0,9,   -999.0, -999.000,9, -999.000, -999.000,9, -999.000,   -999.0,9,   -999.0, -999.000,9, -999.000,9, -999.000,9
  49NZ20140717,   P01,   110,  2,      1, X12J01,2,20140810,0036, 46.9939,-164.9878, 5329,   5424.8,2,   1.5942,2,   1.59399,2,  34.6876,2,  34.6879,2,  34.8717,2,   150.66,2,   151.25,2,   99.882,   0.0047,2,    0.007,2,  -999.00,9,  494.380,4,    0.000,2,   161.56,2,     0.17,    36.12,2,     0.05,     0.00,2,     0.01,     2.52,2,     0.01,     0.01,2,     0.01, -999.000,9, -999.000,9, -999.000,9, -999.000,9,   2328.0,2,   2422.1,2,   -999.0,9,   7.5796,       25,2, -999.000,9,    38.33,2, -999.000,1, -999.000,   -999.0,1,   -999.0, -999.000,9, -999.000, -999.000,9, -999.000,   -999.0,9,   -999.0, -999.000,9, -999.000,9, -999.000,9