BOTTLE,20230904JAMSTECRIGC
EXPOCODE,SECT,STNNBR,CASTNO,SAMPNO,BTLNBR,BTLNBR_FLAG_W,DATE,TIME,LATITUDE,LONGITUDE,DEPTH,CTDPRS,CTDPRS_FLAG_W,CTDTMP,CTDTMP_FLAG_W,SBE35,SBE35_FLAG_W,CTDSAL,CTDSAL_FLAG_W,SALNTY,SALNTY_FLAG_W,DNSSAL,DNSSAL_FLAG_W,CTDOXY,CTDOXY_FLAG_W,OXYGEN,OXYGEN_FLAG_W,XMISS,XMISSCP,XMISS_FLAG_W,FLUOR,FLUOR_FLAG_W,CHLORA,CHLORA_FLAG_W,CDOM,CDOM_FLAG_W,PAR,PAR_FLAG_W,SILCAT,SILCAT_FLAG_W,SILUNC,NITRAT,NITRAT_FLAG_W,NRAUNC,NITRIT,NITRIT_FLAG_W,NRIUNC,PHSPHT,PHSPHT_FLAG_W,PHPUNC,AMMONIA,AMMONIA_FLAG_W,NH4UNC,CFC-11,CFC-11_FLAG_W,CFC-12,CFC-12_FLAG_W,CFC113,CFC113_FLAG_W,SF6,SF6_FLAG_W,TCARBN,TCARBN_FLAG_W,ALKALI,ALKALI_FLAG_W,ALKALI_POT,ALKALI_POT_FLAG_W,PH_TOT,PH_TMP,PH_TOT_FLAG_W,CALCIUM,CALCIUM_FLAG_W,DOC,DOC_FLAG_W,DELC13,DELC13_FLAG_W,C13ERR,DELC14,DELC14_FLAG_W,C14ERR,CS-134,CS-134_FLAG_W,CS134ER,CS-137,CS-137_FLAG_W,CS137ER,I-129,I-129_FLAG_W,I-129ER,CDOM-325,CDOM-325_FLAG_W,CDOM-370,CDOM-370_FLAG_W,CDOM-443,CDOM-443_FLAG_W
,,,,,,,,UTC,DEG,DEG,METERS,DBAR,,ITS-90,,ITS-90,,PSS-78,,PSS-78,,G/KG,,UMOL/KG,,UMOL/KG,,%TRANS,/METER,,MG/CUM,,MG/CUM,,MG/CUM,,UE/SQM/S,,UMOL/KG,,UMOL/KG,UMOL/KG,,UMOL/KG,UMOL/KG,,UMOL/KG,UMOL/KG,,UMOL/KG,UMOL/KG,,UMOL/KG,PMOL/KG,,PMOL/KG,,PMOL/KG,,FMOL/KG,,UMOL/KG,,UMOL/KG,,UMOL/KG,,,DEG C,,MMOL/KG,,UMOL/KG,,/MILLE,,/MILLE,/MILLE,,/MILLE,MBQ/KG,,MBQ/KG,MBQ/KG,,MBQ/KG,,,,/METER,,/METER,,/METER,
  49NZ20140717,   P01,   108,  1,      0,   -999,9,20140809,0820, 46.9965,-167.0842, 5425,   -999.0,9,-999.0000,9,-999.00000,9,-999.0000,9,  32.7699,2,-999.0000,9,  -999.00,9,  -999.00,9, -999.000,-999.0000,9, -999.000,9,  -999.00,9, -999.000,9, -999.000,9,    20.10,2,     0.09,    12.10,2,     0.02,     0.16,2,     0.01,     1.18,2,     0.01,  -999.00,9,  -999.00, -999.000,9, -999.000,9, -999.000,9, -999.000,9,   -999.0,9,   -999.0,9,   -999.0,9,-999.0000,     -999,9, -999.000,9,  -999.00,9, -999.000,9, -999.000,   -999.0,9,   -999.0, -999.000,9, -999.000, -999.000,9, -999.000,   -999.0,9,   -999.0, -999.000,9, -999.000,9, -999.000,9
  49NZ20140717,   P01,   108,  1,     36, X12J36,2,20140809,0820, 46.9965,-167.0842, 5425,      9.8,2,  12.6939,2,  12.69352,2,  32.7626,2,  32.7630,2,-999.0000,9,   275.20,2,   275.56,2,   94.596,   0.2222,2,    0.591,2,  -999.00,9,   -0.480,1,    0.279,2,    20.24,2,     0.09,    12.05,2,     0.02,     0.16,2,     0.01,     1.17,2,     0.01,  -999.00,9,  -999.00,    3.258,2,    1.905,2,    0.339,2, -999.000,9,   -999.0,9,   -999.0,9,   -999.0,9,-999.0000,     -999,9, -999.000,9,  -999.00,9, -999.000,9, -999.000,   -999.0,9,   -999.0, -999.000,9, -999.000, -999.000,9, -999.000,   -999.0,9,   -999.0, -999.000,9, -999.000,9, -999.000,9
  49NZ20140717,   P01,   108,  1,     35, X12J35,2,20140809,0820, 46.9965,-167.0842, 5425,     49.8,2,   5.5259,2,   5.52782,2,  32.8690,2,  32.8712,2,-999.0000,9,   321.73,2,   322.48,2,   97.658,   0.0948,2,    0.458,2,  -999.00,9,    0.766,1,    0.000,2,    24.21,2,     0.09,    15.55,2,     0.03,     0.19,2,     0.01,     1.44,2,     0.01,  -999.00,9,  -999.00,    4.725,2,    2.637,2,    0.482,2, -999.000,9,   -999.0,9,   -999.0,9,   -999.0,9,-999.0000,     -999,9, -999.000,9,  -999.00,9, -999.000,9, -999.000,   -999.0,9,   -999.0, -999.000,9, -999.000, -999.000,9, -999.000,   -999.0,9,   -999.0, -999.000,9, -999.000,9, -999.000,9
  49NZ20140717,   P01,   108,  1,     34, X12J34,2,20140809,0820, 46.9965,-167.0842, 5425,    100.9,2,   5.1511,2,   5.14978,2,  32.9614,2,  32.9607,2,-999.0000,9,   301.31,2,   302.06,2,   99.451,   0.0220,2,    0.132,2,  -999.00,9,    0.673,1,    0.000,2,    24.46,2,     0.09,    17.32,2,     0.03,     0.21,2,     0.01,     1.48,2,     0.01,  -999.00,9,  -999.00,    4.675,2,    2.608,2,    0.457,2, -999.000,9,   -999.0,9,   -999.0,9,   -999.0,9,-999.0000,     -999,9, -999.000,9,  -999.00,9, -999.000,9, -999.000,   -999.0,9,   -999.0, -999.000,9, -999.000, -999.000,9, -999.000,   -999.0,9,   -999.0, -999.000,9, -999.000,9, -999.000,9
  49NZ20140717,   P01,   108,  1,     33, X12J33,2,20140809,0820, 46.9965,-167.0842, 5425,    150.7,2,   4.3181,2,   4.31138,2,  33.5649,2,  33.5570,2,-999.0000,9,   205.75,2,   205.44,2,   99.685,   0.0126,2,    0.029,2,  -999.00,9,    1.789,1,    0.000,2,    49.96,2,     0.11,    28.14,2,     0.04,     0.01,2,     0.01,     2.08,2,     0.01,  -999.00,9,  -999.00,    4.028,2,    2.217,2,    0.309,2, -999.000,9,   -999.0,9,   -999.0,9,   -999.0,9,-999.0000,     -999,9, -999.000,9,  -999.00,9, -999.000,9, -999.000,   -999.0,9,   -999.0, -999.000,9, -999.000, -999.000,9, -999.000,   -999.0,9,   -999.0, -999.000,9, -999.000,9, -999.000,9
  49NZ20140717,   P01,   108,  1,     32, X12J32,2,20140809,0820, 46.9965,-167.0842, 5425,    201.9,2,   4.5002,2,   4.50054,2,  33.7770,2,  33.7773,2,-999.0000,9,   144.91,2,   144.80,2,   99.771,   0.0092,2,    0.021,2,  -999.00,9,    2.330,1,    0.000,2,    64.50,2,     0.11,    32.64,2,     0.04,     0.01,2,     0.01,     2.37,2,     0.01,  -999.00,9,  -999.00,    3.239,2,    1.753,2,    0.225,2, -999.000,9,   -999.0,9,   -999.0,9,   -999.0,9,-999.0000,     -999,9, -999.000,9,  -999.00,9, -999.000,9, -999.000,   -999.0,9,   -999.0, -999.000,9, -999.000, -999.000,9, -999.000,   -999.0,9,   -999.0, -999.000,9, -999.000,9, -999.000,9
  49NZ20140717,   P01,   108,  1,     31, X12J31,2,20140809,0820, 46.9965,-167.0842, 5425,    250.8,2,   4.0883,2,   4.08594,2,  33.8177,2,  33.8184,2,-999.0000,9,   112.48,2,   112.87,2,   99.812,   0.0075,2,    0.019,2,  -999.00,9,    2.551,1,    0.000,2,    75.44,2,     0.12,    36.19,2,     0.05,     0.01,2,     0.01,     2.61,2,     0.01,  -999.00,9,  -999.00,    2.885,2,    1.538,2,    0.193,2, -999.000,9,   -999.0,9,   -999.0,9,   -999.0,9,-999.0000,     -999,9, -999.000,9,  -999.00,9, -999.000,9, -999.000,   -999.0,9,   -999.0, -999.000,9, -999.000, -999.000,9, -999.000,   -999.0,9,   -999.0, -999.000,9, -999.000,9, -999.000,9
  49NZ20140717,   P01,   108,  1,     30, X12J30,2,20140809,0820, 46.9965,-167.0842, 5425,    300.9,2,   4.0222,2,   4.02202,2,  33.8938,2,  33.8936,2,-999.0000,9,    87.56,2,    87.61,2,   99.812,   0.0075,2,    0.020,2,  -999.00,9,    2.687,1,    0.000,2,    84.45,2,     0.13,    38.49,2,     0.05,     0.01,2,     0.01,     2.75,2,     0.01,  -999.00,9,  -999.00,    2.430,2,    1.274,2,    0.165,2, -999.000,9,   -999.0,9,   -999.0,9,   -999.0,9,-999.0000,     -999,9, -999.000,9,  -999.00,9, -999.000,9, -999.000,   -999.0,9,   -999.0, -999.000,9, -999.000, -999.000,9, -999.000,   -999.0,9,   -999.0, -999.000,9, -999.000,9, -999.000,9
  49NZ20140717,   P01,   108,  1,     29, X12J29,2,20140809,0820, 46.9965,-167.0842, 5425,    400.7,2,   3.7772,2,   3.77541,2,  33.9978,2,  33.9974,2,-999.0000,9,    51.33,2,    51.57,2,   99.864,   0.0054,2,    0.021,2,  -999.00,9,    2.846,1,    0.000,2,    99.76,2,     0.14,    41.71,2,     0.05,     0.00,2,     0.01,     2.98,2,     0.01,  -999.00,9,  -999.00,    1.745,2,    0.896,2,    0.120,2, -999.000,9,   -999.0,9,   -999.0,9,   -999.0,9,-999.0000,     -999,9, -999.000,9,  -999.00,9, -999.000,9, -999.000,   -999.0,9,   -999.0, -999.000,9, -999.000, -999.000,9, -999.000,   -999.0,9,   -999.0, -999.000,9, -999.000,9, -999.000,9
  49NZ20140717,   P01,   108,  1,     28, X12J28,2,20140809,0820, 46.9965,-167.0842, 5425,    500.6,2,   3.7442,2,   3.74396,2,  34.1093,2,  34.1087,2,-999.0000,9,    42.69,2,    43.09,2,   99.892,   0.0043,2,    0.020,2,  -999.00,9,    2.962,1,    0.000,2,   108.89,2,     0.14,    41.80,2,     0.05,     0.00,2,     0.01,     2.99,2,     0.01,  -999.00,9,  -999.00,    1.196,2,    0.603,2,    0.070,2, -999.000,9,   -999.0,9,   -999.0,9,   -999.0,9,-999.0000,     -999,9, -999.000,9,  -999.00,9, -999.000,9, -999.000,   -999.0,9,   -999.0, -999.000,9, -999.000, -999.000,9, -999.000,   -999.0,9,   -999.0, -999.000,9, -999.000,9, -999.000,9
  49NZ20140717,   P01,   108,  1,     27, X12J27,2,20140809,0820, 46.9965,-167.0842, 5425,    601.1,2,   3.5904,2,   3.59082,2,  34.1732,2,  34.1714,2,-999.0000,9,    29.64,2,    30.19,2,   99.854,   0.0059,2,    0.020,2,  -999.00,9,    2.988,1,    0.000,2,   117.56,2,     0.15,    42.90,2,     0.05,     0.00,2,     0.01,     3.07,2,     0.01,  -999.00,9,  -999.00,    0.848,2,    0.417,2,    0.050,2, -999.000,9,   -999.0,9,   -999.0,9,   -999.0,9,-999.0000,     -999,9, -999.000,9,  -999.00,9, -999.000,9, -999.000,   -999.0,9,   -999.0, -999.000,9, -999.000, -999.000,9, -999.000,   -999.0,9,   -999.0, -999.000,9, -999.000,9, -999.000,9
  49NZ20140717,   P01,   108,  1,     26, X12J26,2,20140809,0820, 46.9965,-167.0842, 5425,    700.2,2,   3.3890,2,   3.38877,2,  34.2406,2,  34.2398,2,-999.0000,9,    27.93,2,    27.84,2,   99.895,   0.0042,2,    0.020,2,  -999.00,9,    3.070,1,    0.000,2,   126.34,2,     0.15,    43.11,2,     0.05,     0.00,2,     0.01,     3.09,2,     0.01,  -999.00,9,  -999.00,    0.587,2,    0.280,2,    0.031,2, -999.000,9,   -999.0,9,   -999.0,9,   -999.0,9,-999.0000,     -999,9, -999.000,9,  -999.00,9, -999.000,9, -999.000,   -999.0,9,   -999.0, -999.000,9, -999.000, -999.000,9, -999.000,   -999.0,9,   -999.0, -999.000,9, -999.000,9, -999.000,9
  49NZ20140717,   P01,   108,  1,     25, X12J25,2,20140809,0820, 46.9965,-167.0842, 5425,    799.6,2,   3.1877,2,   3.18750,2,  34.2812,2,  34.2811,2,-999.0000,9,    25.59,2,    25.22,2,   99.886,   0.0046,2,    0.019,2,  -999.00,9,    3.095,1,    0.000,2,   133.17,2,     0.16,    43.33,2,     0.05,     0.00,2,     0.01,     3.10,2,     0.01,  -999.00,9,  -999.00,    0.460,2,    0.219,2,    0.022,2, -999.000,9,   -999.0,9,   -999.0,9,   -999.0,9,-999.0000,     -999,9, -999.000,9,  -999.00,9, -999.000,9, -999.000,   -999.0,9,   -999.0, -999.000,9, -999.000, -999.000,9, -999.000,   -999.0,9,   -999.0, -999.000,9, -999.000,9, -999.000,9
  49NZ20140717,   P01,   108,  1,     24, X12J24,2,20140809,0820, 46.9965,-167.0842, 5425,    901.9,2,   3.0306,2,   3.03059,2,  34.3377,2,  34.3362,2,-999.0000,9,    26.48,2,    26.23,2,   99.892,   0.0043,2,    0.018,2,  -999.00,9,    3.160,1,    0.000,2,   138.72,2,     0.16,    43.27,2,     0.05,     0.00,2,     0.01,     3.10,2,     0.01,  -999.00,9,  -999.00,    0.297,2,    0.137,2,    0.013,2, -999.000,9,   -999.0,9,   -999.0,9,   -999.0,9,-999.0000,     -999,9, -999.000,9,  -999.00,9, -999.000,9, -999.000,   -999.0,9,   -999.0, -999.000,9, -999.000, -999.000,9, -999.000,   -999.0,9,   -999.0, -999.000,9, -999.000,9, -999.000,9
  49NZ20140717,   P01,   108,  1,     23, X12J23,2,20140809,0820, 46.9965,-167.0842, 5425,    999.0,2,   2.8926,2,   2.89239,2,  34.3743,2,  34.3736,2,-999.0000,9,    26.57,2,    26.60,2,   99.892,   0.0043,2,    0.018,2,  -999.00,9,    3.149,1,    0.000,2,   143.74,2,     0.16,    43.39,2,     0.05,     0.00,2,     0.01,     3.11,2,     0.01,  -999.00,9,  -999.00,    0.213,2,    0.094,2,    0.010,2, -999.000,9,   -999.0,9,   -999.0,9,   -999.0,9,-999.0000,     -999,9, -999.000,9,  -999.00,9, -999.000,9, -999.000,   -999.0,9,   -999.0, -999.000,9, -999.000, -999.000,9, -999.000,   -999.0,9,   -999.0, -999.000,9, -999.000,9, -999.000,9
  49NZ20140717,   P01,   108,  1,     22, X12J22,2,20140809,0820, 46.9965,-167.0842, 5425,   1199.9,2,   2.6222,2,   2.61978,2,  34.4398,2,  34.4402,2,-999.0000,9,    27.70,2,    27.28,2,   99.892,   0.0043,2,    0.017,2,  -999.00,9,    3.150,1,    0.000,2,   152.78,2,     0.17,    43.65,2,     0.05,     0.00,2,     0.01,     3.11,2,     0.01,  -999.00,9,  -999.00,    0.094,2,    0.040,2,    0.000,2, -999.000,9,   -999.0,9,   -999.0,9,   -999.0,9,-999.0000,     -999,9, -999.000,9,  -999.00,9, -999.000,9, -999.000,   -999.0,9,   -999.0, -999.000,9, -999.000, -999.000,9, -999.000,   -999.0,9,   -999.0, -999.000,9, -999.000,9, -999.000,9
  49NZ20140717,   P01,   108,  1,     21, X12J21,2,20140809,0820, 46.9965,-167.0842, 5425,   1401.0,2,   2.3803,2,   2.38067,2,  34.4896,2,  34.4897,2,-999.0000,9,    32.77,2,    32.65,2,   99.912,   0.0035,2,    0.016,2,  -999.00,9,    3.146,1,    0.000,2,   159.79,2,     0.17,    43.50,2,     0.05,     0.00,2,     0.01,     3.09,2,     0.01,  -999.00,9,  -999.00,    0.042,2,    0.019,2,    0.000,2, -999.000,9,   -999.0,9,   -999.0,9,   -999.0,9,-999.0000,     -999,9, -999.000,9,  -999.00,9, -999.000,9, -999.000,   -999.0,9,   -999.0, -999.000,9, -999.000, -999.000,9, -999.000,   -999.0,9,   -999.0, -999.000,9, -999.000,9, -999.000,9
  49NZ20140717,   P01,   108,  1,     20, X12J20,2,20140809,0820, 46.9965,-167.0842, 5425,   1599.5,2,   2.2213,2,   2.22127,2,  34.5243,2,  34.5245,2,-999.0000,9,    38.53,2,    38.53,2,   99.871,   0.0052,2,    0.015,2,  -999.00,9,    3.147,1,    0.000,2,   164.33,2,     0.18,    43.16,2,     0.05,     0.00,2,     0.01,     3.06,2,     0.01,  -999.00,9,  -999.00,    0.021,2,    0.008,2,    0.000,2, -999.000,9,   -999.0,9,   -999.0,9,   -999.0,9,-999.0000,     -999,9, -999.000,9,  -999.00,9, -999.000,9, -999.000,   -999.0,9,   -999.0, -999.000,9, -999.000, -999.000,9, -999.000,   -999.0,9,   -999.0, -999.000,9, -999.000,9, -999.000,9
  49NZ20140717,   P01,   108,  1,     19, X12J19,2,20140809,0820, 46.9965,-167.0842, 5425,   1799.0,2,   2.0725,2,   2.07242,2,  34.5570,2,  34.5568,2,-999.0000,9,    48.56,2,    48.67,2,   99.931,   0.0027,2,    0.013,2,  -999.00,9,    3.060,1,    0.000,2,   167.38,2,     0.18,    42.64,2,     0.05,     0.00,2,     0.01,     3.02,2,     0.01,  -999.00,9,  -999.00,    0.010,2,    0.003,2,    0.000,2, -999.000,9,   -999.0,9,   -999.0,9,   -999.0,9,-999.0000,     -999,9, -999.000,9,  -999.00,9, -999.000,9, -999.000,   -999.0,9,   -999.0, -999.000,9, -999.000, -999.000,9, -999.000,   -999.0,9,   -999.0, -999.000,9, -999.000,9, -999.000,9
  49NZ20140717,   P01,   108,  1,     18, X12J18,2,20140809,0820, 46.9965,-167.0842, 5425,   2001.3,2,   1.9436,2,   1.94419,2,  34.5847,2,  34.5850,2,-999.0000,9,    58.53,2,    58.16,2,   99.944,   0.0022,2,    0.013,2,  -999.00,9,    3.109,1,    0.000,2,   169.74,2,     0.18,    42.13,2,     0.05,     0.00,2,     0.01,     2.98,2,     0.01,  -999.00,9,  -999.00,    0.000,2,    0.000,2,    0.000,2, -999.000,9,   -999.0,9,   -999.0,9,   -999.0,9,-999.0000,     -999,9, -999.000,9,  -999.00,9, -999.000,9, -999.000,   -999.0,9,   -999.0, -999.000,9, -999.000, -999.000,9, -999.000,   -999.0,9,   -999.0, -999.000,9, -999.000,9, -999.000,9
  49NZ20140717,   P01,   108,  1,     17, X12J17,2,20140809,0820, 46.9965,-167.0842, 5425,   2200.7,2,   1.8261,2,   1.82613,2,  34.6075,2,  34.6070,2,-999.0000,9,    72.34,2,    72.30,2,   99.940,   0.0024,2,    0.012,2,  -999.00,9,    2.973,1,    0.000,2,   169.70,2,     0.18,    41.24,2,     0.05,     0.00,2,     0.01,     2.91,2,     0.01,  -999.00,9,  -999.00,    0.000,2,    0.000,2,    0.000,2, -999.000,9,   -999.0,9,   -999.0,9,   -999.0,9,-999.0000,     -999,9, -999.000,9,  -999.00,9, -999.000,9, -999.000,   -999.0,9,   -999.0, -999.000,9, -999.000, -999.000,9, -999.000,   -999.0,9,   -999.0, -999.000,9, -999.000,9, -999.000,9
  49NZ20140717,   P01,   108,  1,     16, X12J16,2,20140809,0820, 46.9965,-167.0842, 5425,   2400.6,2,   1.7466,2,   1.74673,2,  34.6233,2,  34.6234,2,-999.0000,9,    82.72,2,    82.78,2,   99.944,   0.0022,2,    0.011,2,  -999.00,9,    2.927,1,    0.000,2,   169.59,2,     0.18,    40.55,2,     0.05,     0.00,2,     0.01,     2.86,2,     0.01,  -999.00,9,  -999.00,    0.000,2,    0.000,2,    0.000,2, -999.000,9,   -999.0,9,   -999.0,9,   -999.0,9,-999.0000,     -999,9, -999.000,9,  -999.00,9, -999.000,9, -999.000,   -999.0,9,   -999.0, -999.000,9, -999.000, -999.000,9, -999.000,   -999.0,9,   -999.0, -999.000,9, -999.000,9, -999.000,9
  49NZ20140717,   P01,   108,  1,     15, X12J15,2,20140809,0820, 46.9965,-167.0842, 5425,   2599.2,2,   1.6850,2,   1.68547,2,  34.6353,2,  34.6349,2,-999.0000,9,    92.64,2,    92.64,2,   99.944,   0.0022,2,    0.010,2,  -999.00,9,    2.847,1,    0.000,2,   168.83,2,     0.18,    39.97,2,     0.05,     0.00,2,     0.01,     2.82,2,     0.01,  -999.00,9,  -999.00,    0.000,2,    0.000,2,    0.000,2, -999.000,9,   -999.0,9,   -999.0,9,   -999.0,9,-999.0000,     -999,9, -999.000,9,  -999.00,9, -999.000,9, -999.000,   -999.0,9,   -999.0, -999.000,9, -999.000, -999.000,9, -999.000,   -999.0,9,   -999.0, -999.000,9, -999.000,9, -999.000,9
  49NZ20140717,   P01,   108,  1,     14, X12J14,2,20140809,0820, 46.9965,-167.0842, 5425,   2800.7,2,   1.6359,2,   1.63590,2,  34.6449,2,  34.6452,2,-999.0000,9,   101.69,2,   102.05,2,   99.975,   0.0010,2,    0.009,2,  -999.00,9,    2.755,1,    0.000,2,   167.69,2,     0.18,    39.41,2,     0.05,     0.00,2,     0.01,     2.77,2,     0.01,  -999.00,9,  -999.00,    0.000,2,    0.000,2,    0.000,2, -999.000,9,   -999.0,9,   -999.0,9,   -999.0,9,-999.0000,     -999,9, -999.000,9,  -999.00,9, -999.000,9, -999.000,   -999.0,9,   -999.0, -999.000,9, -999.000, -999.000,9, -999.000,   -999.0,9,   -999.0, -999.000,9, -999.000,9, -999.000,9
  49NZ20140717,   P01,   108,  1,     13, X12113,2,20140809,0820, 46.9965,-167.0842, 5425,   3000.3,2,   1.5913,2,   1.59133,2,  34.6536,2,  34.6537,2,-999.0000,9,   110.72,2,   110.83,2,   99.968,   0.0013,2,    0.008,2,  -999.00,9,    2.722,1,    0.000,2,   165.54,2,     0.18,    38.77,2,     0.05,     0.00,2,     0.01,     2.72,2,     0.01,  -999.00,9,  -999.00,    0.000,2,    0.000,2,    0.000,2, -999.000,9,   -999.0,9,   -999.0,9,   -999.0,9,-999.0000,     -999,9, -999.000,9,  -999.00,9, -999.000,9, -999.000,   -999.0,9,   -999.0, -999.000,9, -999.000, -999.000,9, -999.000,   -999.0,9,   -999.0, -999.000,9, -999.000,9, -999.000,9
  49NZ20140717,   P01,   108,  1,     12, X12J12,2,20140809,0820, 46.9965,-167.0842, 5425,   3250.2,2,   1.5408,2,   1.54098,2,  34.6633,2,  34.6632,2,-999.0000,9,   121.78,2,   121.79,2,   99.973,   0.0011,2,    0.008,2,  -999.00,9,    2.633,1,    0.000,2,   162.97,2,     0.18,    37.99,2,     0.05,     0.00,2,     0.01,     2.67,2,     0.01,  -999.00,9,  -999.00,    0.000,2,    0.000,2,    0.000,2, -999.000,9,   -999.0,9,   -999.0,9,   -999.0,9,-999.0000,     -999,9, -999.000,9,  -999.00,9, -999.000,9, -999.000,   -999.0,9,   -999.0, -999.000,9, -999.000, -999.000,9, -999.000,   -999.0,9,   -999.0, -999.000,9, -999.000,9, -999.000,9
  49NZ20140717,   P01,   108,  1,     11, X12J11,2,20140809,0820, 46.9965,-167.0842, 5425,   3499.6,2,   1.5011,2,   1.50107,2,  34.6712,2,  34.6711,2,-999.0000,9,   131.57,2,   131.53,2,   99.990,   0.0004,2,    0.007,2,  -999.00,9,    2.648,1,    0.000,2,   160.89,2,     0.17,    37.42,2,     0.05,     0.00,2,     0.01,     2.62,2,     0.01,  -999.00,9,  -999.00,    0.000,2,    0.000,2,    0.000,2, -999.000,9,   -999.0,9,   -999.0,9,   -999.0,9,-999.0000,     -999,9, -999.000,9,  -999.00,9, -999.000,9, -999.000,   -999.0,9,   -999.0, -999.000,9, -999.000, -999.000,9, -999.000,   -999.0,9,   -999.0, -999.000,9, -999.000,9, -999.000,9
  49NZ20140717,   P01,   108,  1,     10, X12J10,2,20140809,0820, 46.9965,-167.0842, 5425,   3749.8,2,   1.4783,2,   1.47835,2,  34.6772,2,  34.6770,2,-999.0000,9,   138.70,2,   138.83,2,   99.994,   0.0002,2,    0.007,2,  -999.00,9,    2.821,4,    0.000,2,   159.81,2,     0.17,    36.95,2,     0.05,     0.00,2,     0.01,     2.58,2,     0.01,  -999.00,9,  -999.00,    0.000,2,    0.000,2,    0.000,2, -999.000,9,   -999.0,9,   -999.0,9,   -999.0,9,-999.0000,     -999,9, -999.000,9,  -999.00,9, -999.000,9, -999.000,   -999.0,9,   -999.0, -999.000,9, -999.000, -999.000,9, -999.000,   -999.0,9,   -999.0, -999.000,9, -999.000,9, -999.000,9