BOTTLE,20230904JAMSTECRIGC
EXPOCODE,SECT,STNNBR,CASTNO,SAMPNO,BTLNBR,BTLNBR_FLAG_W,DATE,TIME,LATITUDE,LONGITUDE,DEPTH,CTDPRS,CTDPRS_FLAG_W,CTDTMP,CTDTMP_FLAG_W,SBE35,SBE35_FLAG_W,CTDSAL,CTDSAL_FLAG_W,SALNTY,SALNTY_FLAG_W,DNSSAL,DNSSAL_FLAG_W,CTDOXY,CTDOXY_FLAG_W,OXYGEN,OXYGEN_FLAG_W,XMISS,XMISSCP,XMISS_FLAG_W,FLUOR,FLUOR_FLAG_W,CHLORA,CHLORA_FLAG_W,CDOM,CDOM_FLAG_W,PAR,PAR_FLAG_W,SILCAT,SILCAT_FLAG_W,SILUNC,NITRAT,NITRAT_FLAG_W,NRAUNC,NITRIT,NITRIT_FLAG_W,NRIUNC,PHSPHT,PHSPHT_FLAG_W,PHPUNC,AMMONIA,AMMONIA_FLAG_W,NH4UNC,CFC-11,CFC-11_FLAG_W,CFC-12,CFC-12_FLAG_W,CFC113,CFC113_FLAG_W,SF6,SF6_FLAG_W,TCARBN,TCARBN_FLAG_W,ALKALI,ALKALI_FLAG_W,ALKALI_POT,ALKALI_POT_FLAG_W,PH_TOT,PH_TMP,PH_TOT_FLAG_W,CALCIUM,CALCIUM_FLAG_W,DOC,DOC_FLAG_W,DELC13,DELC13_FLAG_W,C13ERR,DELC14,DELC14_FLAG_W,C14ERR,CS-134,CS-134_FLAG_W,CS134ER,CS-137,CS-137_FLAG_W,CS137ER,I-129,I-129_FLAG_W,I-129ER,CDOM-325,CDOM-325_FLAG_W,CDOM-370,CDOM-370_FLAG_W,CDOM-443,CDOM-443_FLAG_W
,,,,,,,,UTC,DEG,DEG,METERS,DBAR,,ITS-90,,ITS-90,,PSS-78,,PSS-78,,G/KG,,UMOL/KG,,UMOL/KG,,%TRANS,/METER,,MG/CUM,,MG/CUM,,MG/CUM,,UE/SQM/S,,UMOL/KG,,UMOL/KG,UMOL/KG,,UMOL/KG,UMOL/KG,,UMOL/KG,UMOL/KG,,UMOL/KG,UMOL/KG,,UMOL/KG,PMOL/KG,,PMOL/KG,,PMOL/KG,,FMOL/KG,,UMOL/KG,,UMOL/KG,,UMOL/KG,,,DEG C,,MMOL/KG,,UMOL/KG,,/MILLE,,/MILLE,/MILLE,,/MILLE,MBQ/KG,,MBQ/KG,MBQ/KG,,MBQ/KG,,,,/METER,,/METER,,/METER,
  49NZ20140717,   P01,    59,  1,      9, X12J09,2,20140723,0718, 40.9291, 149.8653, 5374,   3919.7,2,   1.4710,2,   1.47104,2,  34.6807,2,  34.6812,2,-999.0000,9,   147.60,2,   147.32,2,   99.982,   0.0007,2,   -0.004,2,  -999.00,9,    2.195,1,    0.000,2,   151.64,2,     0.17,    36.41,2,     0.05,    -0.01,2,     0.01,     2.54,2,     0.01,  -999.00,9,  -999.00,    0.000,2,    0.000,2,    0.002,2,    0.000,2,   -999.0,9,   -999.0,9,   -999.0,9,-999.0000,     -999,9, -999.000,9,  -999.00,9, -999.000,9, -999.000,   -999.0,9,   -999.0, -999.000,9, -999.000, -999.000,9, -999.000,   -999.0,9,   -999.0, -999.000,9, -999.000,9, -999.000,9
  49NZ20140717,   P01,    59,  1,      8, X12J08,2,20140723,0718, 40.9291, 149.8653, 5374,   4170.6,2,   1.4676,2,   1.46765,2,  34.6838,2,  34.6840,2,-999.0000,9,   151.62,2,   151.27,2,   99.986,   0.0006,2,   -0.004,2,  -999.00,9,    2.345,4,    0.000,2,   150.58,2,     0.17,    36.10,2,     0.05,    -0.01,2,     0.01,     2.52,2,     0.01,  -999.00,9,  -999.00,    0.000,2,    0.000,2,    0.001,2,    0.000,2,   -999.0,9,   -999.0,9,   -999.0,9,-999.0000,     -999,9, -999.000,9,  -999.00,9, -999.000,9, -999.000,   -999.0,9,   -999.0, -999.000,9, -999.000, -999.000,9, -999.000,   -999.0,9,   -999.0, -999.000,9, -999.000,9, -999.000,9
  49NZ20140717,   P01,    59,  1,      7, X12J07,2,20140723,0718, 40.9291, 149.8653, 5374,   4419.7,2,   1.4704,2,   1.47045,2,  34.6864,2,  34.6863,2,-999.0000,9,   154.85,2,   154.53,2,   99.984,   0.0006,2,   -0.004,2,  -999.00,9,    1.008,4,    0.000,2,   149.86,2,     0.17,    35.90,2,     0.05,    -0.01,2,     0.01,     2.50,2,     0.01,  -999.00,9,  -999.00,    0.000,2,    0.000,2,    0.001,2,    0.000,2,   -999.0,9,   -999.0,9,   -999.0,9,-999.0000,     -999,9, -999.000,9,  -999.00,9, -999.000,9, -999.000,   -999.0,9,   -999.0, -999.000,9, -999.000, -999.000,9, -999.000,   -999.0,9,   -999.0, -999.000,9, -999.000,9, -999.000,9
  49NZ20140717,   P01,    59,  1,      6, X12J06,2,20140723,0718, 40.9291, 149.8653, 5374,   4670.1,2,   1.4841,2,   1.48415,2,  34.6881,2,  34.6880,2,-999.0000,9,   156.76,2,   156.51,2,   99.993,   0.0003,2,   -0.004,2,  -999.00,9,   -1.558,4,    0.000,2,   149.80,2,     0.17,    35.77,2,     0.05,    -0.01,2,     0.01,     2.49,2,     0.01,  -999.00,9,  -999.00,    0.001,2,    0.000,2,    0.001,2,    0.000,2,   -999.0,9,   -999.0,9,   -999.0,9,-999.0000,     -999,9, -999.000,9,  -999.00,9, -999.000,9, -999.000,   -999.0,9,   -999.0, -999.000,9, -999.000, -999.000,9, -999.000,   -999.0,9,   -999.0, -999.000,9, -999.000,9, -999.000,9
  49NZ20140717,   P01,    59,  1,      5, X12J05,2,20140723,0718, 40.9291, 149.8653, 5374,   4919.7,2,   1.5047,2,   1.50472,2,  34.6891,2,  34.6894,2,-999.0000,9,   157.93,2,   157.73,2,   99.902,   0.0039,2,   -0.004,2,  -999.00,9,   -1.709,4,    0.000,2,   149.71,2,     0.17,    35.71,2,     0.05,    -0.01,2,     0.01,     2.49,2,     0.01,  -999.00,9,  -999.00,    0.002,2,    0.001,2,    0.002,2,    0.000,2,   -999.0,9,   -999.0,9,   -999.0,9,-999.0000,     -999,9, -999.000,9,  -999.00,9, -999.000,9, -999.000,   -999.0,9,   -999.0, -999.000,9, -999.000, -999.000,9, -999.000,   -999.0,9,   -999.0, -999.000,9, -999.000,9, -999.000,9
  49NZ20140717,   P01,    59,  1,      4, X12J04,2,20140723,0718, 40.9291, 149.8653, 5374,   5169.9,2,   1.5279,2,   1.52801,2,  34.6899,2,  34.6901,2,-999.0000,9,   159.14,2,   159.17,2,   99.790,   0.0084,2,   -0.004,2,  -999.00,9,   -1.749,4,    0.000,2,   148.81,2,     0.17,    35.62,2,     0.05,    -0.01,2,     0.01,     2.48,2,     0.01,  -999.00,9,  -999.00,    0.002,2,    0.001,2,    0.000,2,    0.000,2,   -999.0,9,   -999.0,9,   -999.0,9,-999.0000,     -999,9, -999.000,9,  -999.00,9, -999.000,9, -999.000,   -999.0,9,   -999.0, -999.000,9, -999.000, -999.000,9, -999.000,   -999.0,9,   -999.0, -999.000,9, -999.000,9, -999.000,9
  49NZ20140717,   P01,    59,  1,      3, X12J03,9,20140723,0718, 40.9291, 149.8653, 5374,   -999.0,9,-999.0000,9,-999.00000,9,-999.0000,9,-999.0000,9,-999.0000,9,  -999.00,9,  -999.00,9, -999.000,-999.0000,9, -999.000,9,  -999.00,9, -999.000,9, -999.000,9,  -999.00,9,  -999.00,  -999.00,9,  -999.00,  -999.00,9,  -999.00,  -999.00,9,  -999.00,  -999.00,9,  -999.00, -999.000,9, -999.000,9, -999.000,9, -999.000,9,   -999.0,9,   -999.0,9,   -999.0,9,-999.0000,     -999,9, -999.000,9,  -999.00,9, -999.000,9, -999.000,   -999.0,9,   -999.0, -999.000,9, -999.000, -999.000,9, -999.000,   -999.0,9,   -999.0, -999.000,9, -999.000,9, -999.000,9
  49NZ20140717,   P01,    59,  1,      2, X12J02,2,20140723,0718, 40.9291, 149.8653, 5374,   2130.2,2,   1.8419,2,   1.84186,2,  34.6095,2,  34.6097,2,-999.0000,9,    83.37,2,    83.36,2,   99.930,   0.0028,2,    0.001,2,  -999.00,9,    2.536,1,    0.000,2,   163.61,2,     0.18,    40.44,2,     0.05,    -0.01,2,     0.01,     2.86,2,     0.01,  -999.00,9,  -999.00,    0.001,2,    0.000,2,    0.001,2,    0.050,2,   -999.0,9,   -999.0,9,   -999.0,9,-999.0000,     -999,9, -999.000,9,  -999.00,9, -999.000,9, -999.000,   -999.0,9,   -999.0, -999.000,9, -999.000, -999.000,9, -999.000,   -999.0,9,   -999.0, -999.000,9, -999.000,9, -999.000,9
  49NZ20140717,   P01,    59,  1,      1, X12J01,2,20140723,0718, 40.9291, 149.8653, 5374,   5469.7,2,   1.5613,2,   1.56121,2,  34.6904,2,  34.6909,2,-999.0000,9,   159.41,2,   159.54,2,   99.587,   0.0166,2,   -0.004,2,  -999.00,9,   -1.162,4,    0.000,2,   149.47,2,     0.17,    35.59,2,     0.05,    -0.01,2,     0.01,     2.48,2,     0.01,  -999.00,9,  -999.00,    0.003,2,    0.001,2,    0.000,2,    0.000,2,   -999.0,9,   -999.0,9,   -999.0,9,-999.0000,     -999,9, -999.000,9,  -999.00,9, -999.000,9, -999.000,   -999.0,9,   -999.0, -999.000,9, -999.000, -999.000,9, -999.000,   -999.0,9,   -999.0, -999.000,9, -999.000,9, -999.000,9