BOTTLE,20230904JAMSTECRIGC
EXPOCODE,SECT,STNNBR,CASTNO,SAMPNO,BTLNBR,BTLNBR_FLAG_W,DATE,TIME,LATITUDE,LONGITUDE,DEPTH,CTDPRS,CTDPRS_FLAG_W,CTDTMP,CTDTMP_FLAG_W,SBE35,SBE35_FLAG_W,CTDSAL,CTDSAL_FLAG_W,SALNTY,SALNTY_FLAG_W,DNSSAL,DNSSAL_FLAG_W,CTDOXY,CTDOXY_FLAG_W,OXYGEN,OXYGEN_FLAG_W,XMISS,XMISSCP,XMISS_FLAG_W,FLUOR,FLUOR_FLAG_W,CHLORA,CHLORA_FLAG_W,CDOM,CDOM_FLAG_W,PAR,PAR_FLAG_W,SILCAT,SILCAT_FLAG_W,SILUNC,NITRAT,NITRAT_FLAG_W,NRAUNC,NITRIT,NITRIT_FLAG_W,NRIUNC,PHSPHT,PHSPHT_FLAG_W,PHPUNC,AMMONIA,AMMONIA_FLAG_W,NH4UNC,CFC-11,CFC-11_FLAG_W,CFC-12,CFC-12_FLAG_W,CFC113,CFC113_FLAG_W,SF6,SF6_FLAG_W,TCARBN,TCARBN_FLAG_W,ALKALI,ALKALI_FLAG_W,ALKALI_POT,ALKALI_POT_FLAG_W,PH_TOT,PH_TMP,PH_TOT_FLAG_W,CALCIUM,CALCIUM_FLAG_W,DOC,DOC_FLAG_W,DELC13,DELC13_FLAG_W,C13ERR,DELC14,DELC14_FLAG_W,C14ERR,CS-134,CS-134_FLAG_W,CS134ER,CS-137,CS-137_FLAG_W,CS137ER,I-129,I-129_FLAG_W,I-129ER,CDOM-325,CDOM-325_FLAG_W,CDOM-370,CDOM-370_FLAG_W,CDOM-443,CDOM-443_FLAG_W
,,,,,,,,UTC,DEG,DEG,METERS,DBAR,,ITS-90,,ITS-90,,PSS-78,,PSS-78,,G/KG,,UMOL/KG,,UMOL/KG,,%TRANS,/METER,,MG/CUM,,MG/CUM,,MG/CUM,,UE/SQM/S,,UMOL/KG,,UMOL/KG,UMOL/KG,,UMOL/KG,UMOL/KG,,UMOL/KG,UMOL/KG,,UMOL/KG,UMOL/KG,,UMOL/KG,PMOL/KG,,PMOL/KG,,PMOL/KG,,FMOL/KG,,UMOL/KG,,UMOL/KG,,UMOL/KG,,,DEG C,,MMOL/KG,,UMOL/KG,,/MILLE,,/MILLE,/MILLE,,/MILLE,MBQ/KG,,MBQ/KG,MBQ/KG,,MBQ/KG,,,,/METER,,/METER,,/METER,
  49NZ20140717,   P01,   115,  1,      0,   -999,9,20140811,1347, 46.9871,-159.2553, 5188,   -999.0,9,-999.0000,9,-999.00000,9,-999.0000,9,  32.5627,2,-999.0000,9,  -999.00,9,  -999.00,9, -999.000,-999.0000,9, -999.000,9,  -999.00,9, -999.000,9, -999.000,9,     7.19,2,     0.09,     7.66,2,     0.02,     0.10,2,     0.01,     0.86,2,     0.01,  -999.00,9,  -999.00, -999.000,9, -999.000,9, -999.000,9, -999.000,9,   -999.0,9,   -999.0,9,   -999.0,9,-999.0000,     -999,9, -999.000,9,  -999.00,9, -999.000,9, -999.000,   -999.0,9,   -999.0, -999.000,9, -999.000, -999.000,9, -999.000,   -999.0,9,   -999.0, -999.000,9, -999.000,9, -999.000,9
  49NZ20140717,   P01,   115,  1,     36, X12J36,2,20140811,1347, 46.9871,-159.2553, 5188,     10.3,2,  13.1878,2,  13.18762,2,  32.5559,2,  32.5565,2,-999.0000,9,   274.23,2,   274.53,2,   88.114,   0.5062,2,    0.938,2,  -999.00,9,    0.212,1,    4.009,2,     7.23,2,     0.09,     7.68,2,     0.02,     0.10,2,     0.01,     0.85,2,     0.01,  -999.00,9,  -999.00,    3.153,2,    1.852,2,    0.357,2, -999.000,9,   -999.0,9,   -999.0,9,   -999.0,9,-999.0000,     -999,9, -999.000,9,  -999.00,9, -999.000,9, -999.000,   -999.0,9,   -999.0, -999.000,9, -999.000, -999.000,9, -999.000,   -999.0,9,   -999.0, -999.000,9, -999.000,9, -999.000,9
  49NZ20140717,   P01,   115,  1,     35, X12J35,2,20140811,1347, 46.9871,-159.2553, 5188,     49.5,2,   6.7636,2,   6.77103,2,  32.8449,2,  32.8600,2,-999.0000,9,   317.92,2,   317.37,2,   96.625,   0.1373,2,    0.586,2,  -999.00,9,    0.827,1,    0.000,2,    20.47,2,     0.09,    13.36,2,     0.02,     0.12,2,     0.01,     1.32,2,     0.01,  -999.00,9,  -999.00,    4.531,2,    2.540,2,    0.439,2, -999.000,9,   -999.0,9,   -999.0,9,   -999.0,9,-999.0000,     -999,9, -999.000,9,  -999.00,9, -999.000,9, -999.000,   -999.0,9,   -999.0, -999.000,9, -999.000, -999.000,9, -999.000,   -999.0,9,   -999.0, -999.000,9, -999.000,9, -999.000,9
  49NZ20140717,   P01,   115,  1,     34, X12J34,2,20140811,1347, 46.9871,-159.2553, 5188,     99.6,2,   5.3542,2,   5.35249,2,  33.0590,2,  33.0543,2,-999.0000,9,   289.99,2,   290.46,2,   99.381,   0.0248,2,    0.066,2,  -999.00,9,    0.669,1,    0.000,2,    24.43,2,     0.09,    17.24,2,     0.03,     0.01,2,     0.01,     1.44,2,     0.01,  -999.00,9,  -999.00,    4.553,2,    2.538,2,    0.397,2, -999.000,9,   -999.0,9,   -999.0,9,   -999.0,9,-999.0000,     -999,9, -999.000,9,  -999.00,9, -999.000,9, -999.000,   -999.0,9,   -999.0, -999.000,9, -999.000, -999.000,9, -999.000,   -999.0,9,   -999.0, -999.000,9, -999.000,9, -999.000,9
  49NZ20140717,   P01,   115,  1,     33, X12J33,2,20140811,1347, 46.9871,-159.2553, 5188,    150.8,2,   5.7057,2,   5.70449,2,  33.7402,2,  33.7375,2,-999.0000,9,   184.19,2,   184.08,2,   99.340,   0.0265,2,    0.043,2,  -999.00,9,    1.847,1,    0.000,2,    46.23,2,     0.10,    26.75,2,     0.04,     0.01,2,     0.01,     1.95,2,     0.01,  -999.00,9,  -999.00,    3.559,2,    1.966,2,    0.257,2, -999.000,9,   -999.0,9,   -999.0,9,   -999.0,9,-999.0000,     -999,9, -999.000,9,  -999.00,9, -999.000,9, -999.000,   -999.0,9,   -999.0, -999.000,9, -999.000, -999.000,9, -999.000,   -999.0,9,   -999.0, -999.000,9, -999.000,9, -999.000,9
  49NZ20140717,   P01,   115,  1,     32, X12J32,2,20140811,1347, 46.9871,-159.2553, 5188,    199.9,2,   5.0218,2,   5.02151,2,  33.7812,2,  33.7820,2,-999.0000,9,   154.88,2,   154.56,2,   99.550,   0.0181,2,    0.023,2,  -999.00,9,    2.311,1,    0.000,2,    57.94,2,     0.11,    30.92,2,     0.04,     0.01,2,     0.01,     2.25,2,     0.01,  -999.00,9,  -999.00,    3.356,2,    1.811,2,    0.221,2, -999.000,9,   -999.0,9,   -999.0,9,   -999.0,9,-999.0000,     -999,9, -999.000,9,  -999.00,9, -999.000,9, -999.000,   -999.0,9,   -999.0, -999.000,9, -999.000, -999.000,9, -999.000,   -999.0,9,   -999.0, -999.000,9, -999.000,9, -999.000,9
  49NZ20140717,   P01,   115,  1,     31, X12J31,2,20140811,1347, 46.9871,-159.2553, 5188,    250.3,2,   4.5667,2,   4.56562,2,  33.8118,2,  33.8138,2,-999.0000,9,   129.50,2,   129.16,2,   99.671,   0.0132,2,    0.021,2,  -999.00,9,    2.452,1,    0.000,2,    67.38,2,     0.12,    34.06,2,     0.05,     0.01,2,     0.01,     2.46,2,     0.01,  -999.00,9,  -999.00,    3.075,2,    1.633,2,    0.213,2, -999.000,9,   -999.0,9,   -999.0,9,   -999.0,9,-999.0000,     -999,9, -999.000,9,  -999.00,9, -999.000,9, -999.000,   -999.0,9,   -999.0, -999.000,9, -999.000, -999.000,9, -999.000,   -999.0,9,   -999.0, -999.000,9, -999.000,9, -999.000,9
  49NZ20140717,   P01,   115,  1,     30, X12J30,2,20140811,1347, 46.9871,-159.2553, 5188,    329.9,2,   4.1311,2,   4.13361,2,  33.8795,2,  33.8799,2,-999.0000,9,    92.84,2,    93.13,2,   99.671,   0.0132,2,    0.023,2,  -999.00,9,    2.670,1,    0.000,2,    81.02,2,     0.12,    37.95,2,     0.05,     0.01,2,     0.01,     2.72,2,     0.01,  -999.00,9,  -999.00,    2.544,2,    1.331,2,    0.188,2, -999.000,9,   -999.0,9,   -999.0,9,   -999.0,9,-999.0000,     -999,9, -999.000,9,  -999.00,9, -999.000,9, -999.000,   -999.0,9,   -999.0, -999.000,9, -999.000, -999.000,9, -999.000,   -999.0,9,   -999.0, -999.000,9, -999.000,9, -999.000,9
  49NZ20140717,   P01,   115,  1,     29, X12J29,2,20140811,1347, 46.9871,-159.2553, 5188,    429.2,2,   3.9783,2,   3.97839,2,  34.0113,2,  34.0115,2,-999.0000,9,    57.73,2,    59.70,2,   99.786,   0.0086,2,    0.023,2,  -999.00,9,    2.796,1,    0.000,2,    96.08,2,     0.13,    40.66,2,     0.05,     0.01,2,     0.01,     2.91,2,     0.01,  -999.00,9,  -999.00,    1.745,2,    0.884,2,    0.113,2, -999.000,9,   -999.0,9,   -999.0,9,   -999.0,9,-999.0000,     -999,9, -999.000,9,  -999.00,9, -999.000,9, -999.000,   -999.0,9,   -999.0, -999.000,9, -999.000, -999.000,9, -999.000,   -999.0,9,   -999.0, -999.000,9, -999.000,9, -999.000,9
  49NZ20140717,   P01,   115,  1,     28, X12J28,2,20140811,1347, 46.9871,-159.2553, 5188,    529.0,2,   3.7145,2,   3.71430,2,  34.1002,2,  34.0992,2,-999.0000,9,    31.58,2,    31.92,2,   99.853,   0.0059,2,    0.024,2,  -999.00,9,    3.046,1,    0.000,2,   110.25,2,     0.14,    43.06,2,     0.05,     0.00,2,     0.01,     3.07,2,     0.01,  -999.00,9,  -999.00,    1.169,2,    0.567,2,    0.087,2, -999.000,9,   -999.0,9,   -999.0,9,   -999.0,9,-999.0000,     -999,9, -999.000,9,  -999.00,9, -999.000,9, -999.000,   -999.0,9,   -999.0, -999.000,9, -999.000, -999.000,9, -999.000,   -999.0,9,   -999.0, -999.000,9, -999.000,9, -999.000,9
  49NZ20140717,   P01,   115,  1,     27, X12J27,2,20140811,1347, 46.9871,-159.2553, 5188,    630.3,2,   3.5744,2,   3.57421,2,  34.1903,2,  34.1893,2,-999.0000,9,    33.86,2,    34.21,2,   99.857,   0.0057,2,    0.022,2,  -999.00,9,    2.992,1,    0.000,2,   118.82,2,     0.15,    42.64,2,     0.05,     0.00,2,     0.01,     3.05,2,     0.01,  -999.00,9,  -999.00,    0.804,2,    0.382,2,    0.060,2, -999.000,9,   -999.0,9,   -999.0,9,   -999.0,9,-999.0000,     -999,9, -999.000,9,  -999.00,9, -999.000,9, -999.000,   -999.0,9,   -999.0, -999.000,9, -999.000, -999.000,9, -999.000,   -999.0,9,   -999.0, -999.000,9, -999.000,9, -999.000,9
  49NZ20140717,   P01,   115,  1,     26, X12J26,2,20140811,1347, 46.9871,-159.2553, 5188,    729.0,2,   3.4127,2,   3.41378,2,  34.2559,2,  34.2544,2,-999.0000,9,    28.25,2,    28.83,2,   99.875,   0.0050,2,    0.022,2,  -999.00,9,    3.056,1,    0.000,2,   126.45,2,     0.15,    43.13,2,     0.05,     0.00,2,     0.01,     3.08,2,     0.01,  -999.00,9,  -999.00,    0.522,2,    0.240,2,    0.037,2, -999.000,9,   -999.0,9,   -999.0,9,   -999.0,9,-999.0000,     -999,9, -999.000,9,  -999.00,9, -999.000,9, -999.000,   -999.0,9,   -999.0, -999.000,9, -999.000, -999.000,9, -999.000,   -999.0,9,   -999.0, -999.000,9, -999.000,9, -999.000,9
  49NZ20140717,   P01,   115,  1,     25, X12J25,2,20140811,1347, 46.9871,-159.2553, 5188,    829.1,2,   3.2527,2,   3.25250,2,  34.3060,2,  34.3060,2,-999.0000,9,    26.84,2,    27.02,2,   99.862,   0.0055,2,    0.022,2,  -999.00,9,    3.097,1,    0.000,2,   132.41,2,     0.16,    43.31,2,     0.05,     0.00,2,     0.01,     3.09,2,     0.01,  -999.00,9,  -999.00,    0.344,2,    0.154,2,    0.015,2, -999.000,9,   -999.0,9,   -999.0,9,   -999.0,9,-999.0000,     -999,9, -999.000,9,  -999.00,9, -999.000,9, -999.000,   -999.0,9,   -999.0, -999.000,9, -999.000, -999.000,9, -999.000,   -999.0,9,   -999.0, -999.000,9, -999.000,9, -999.000,9
  49NZ20140717,   P01,   115,  1,     24, X12J24,3,20140811,1347, 46.9871,-159.2553, 5188,    931.0,2,   3.0536,2,   3.05476,2,  34.3466,2,  34.3445,2,-999.0000,9,    25.11,2,    25.13,2,   99.877,   0.0049,2,    0.021,2,  -999.00,9,    3.138,1,    0.000,2,   139.39,2,     0.16,    43.58,2,     0.05,     0.00,2,     0.01,     3.11,2,     0.01,  -999.00,9,  -999.00,    0.248,2,    0.107,2,    0.010,2, -999.000,9,   -999.0,9,   -999.0,9,   -999.0,9,-999.0000,     -999,9, -999.000,9,  -999.00,9, -999.000,9, -999.000,   -999.0,9,   -999.0, -999.000,9, -999.000, -999.000,9, -999.000,   -999.0,9,   -999.0, -999.000,9, -999.000,9, -999.000,9
  49NZ20140717,   P01,   115,  1,     23, X12J23,2,20140811,1347, 46.9871,-159.2553, 5188,   1070.0,2,   2.8060,2,   2.80573,2,  34.4024,2,  34.4018,2,-999.0000,9,    24.34,2,    24.01,2,   99.855,   0.0058,2,    0.022,2,  -999.00,9,    3.225,1,    0.000,2,   147.66,2,     0.17,    43.93,2,     0.06,     0.00,2,     0.01,     3.12,2,     0.01,  -999.00,9,  -999.00,    0.129,2,    0.055,2,    0.000,2, -999.000,9,   -999.0,9,   -999.0,9,   -999.0,9,-999.0000,     -999,9, -999.000,9,  -999.00,9, -999.000,9, -999.000,   -999.0,9,   -999.0, -999.000,9, -999.000, -999.000,9, -999.000,   -999.0,9,   -999.0, -999.000,9, -999.000,9, -999.000,9
  49NZ20140717,   P01,   115,  1,     22, X12J22,2,20140811,1347, 46.9871,-159.2553, 5188,   1271.3,2,   2.5379,2,   2.53757,2,  34.4568,2,  34.4567,2,-999.0000,9,    25.40,2,    25.18,2,   99.914,   0.0035,2,    0.020,2,  -999.00,9,    3.206,1,    0.000,2,   156.65,2,     0.17,    44.08,2,     0.06,     0.00,2,     0.01,     3.12,2,     0.01,  -999.00,9,  -999.00,    0.052,2,    0.025,2,    0.000,2, -999.000,9,   -999.0,9,   -999.0,9,   -999.0,9,-999.0000,     -999,9, -999.000,9,  -999.00,9, -999.000,9, -999.000,   -999.0,9,   -999.0, -999.000,9, -999.000, -999.000,9, -999.000,   -999.0,9,   -999.0, -999.000,9, -999.000,9, -999.000,9
  49NZ20140717,   P01,   115,  1,     21, X12J21,2,20140811,1347, 46.9871,-159.2553, 5188,   1471.0,2,   2.3202,2,   2.31943,2,  34.5009,2,  34.5005,2,-999.0000,9,    33.65,2,    33.40,2,   99.905,   0.0038,2,    0.019,2,  -999.00,9,    3.187,1,    0.000,2,   162.57,2,     0.18,    43.75,2,     0.06,     0.00,2,     0.01,     3.08,2,     0.01,  -999.00,9,  -999.00,    0.029,2,    0.014,2,    0.000,2, -999.000,9,   -999.0,9,   -999.0,9,   -999.0,9,-999.0000,     -999,9, -999.000,9,  -999.00,9, -999.000,9, -999.000,   -999.0,9,   -999.0, -999.000,9, -999.000, -999.000,9, -999.000,   -999.0,9,   -999.0, -999.000,9, -999.000,9, -999.000,9
  49NZ20140717,   P01,   115,  1,     20, X12J20,2,20140811,1347, 46.9871,-159.2553, 5188,   1670.8,2,   2.1543,2,   2.15416,2,  34.5391,2,  34.5388,2,-999.0000,9,    38.21,2,    38.10,2,   99.931,   0.0028,2,    0.019,2,  -999.00,9,    3.201,1,    0.000,2,   167.71,2,     0.18,    43.65,2,     0.05,     0.00,2,     0.01,     3.07,2,     0.01,  -999.00,9,  -999.00,    0.009,2,    0.006,2,    0.000,2, -999.000,9,   -999.0,9,   -999.0,9,   -999.0,9,-999.0000,     -999,9, -999.000,9,  -999.00,9, -999.000,9, -999.000,   -999.0,9,   -999.0, -999.000,9, -999.000, -999.000,9, -999.000,   -999.0,9,   -999.0, -999.000,9, -999.000,9, -999.000,9
  49NZ20140717,   P01,   115,  1,     19, X12J19,2,20140811,1347, 46.9871,-159.2553, 5188,   1870.8,2,   2.0298,2,   2.02981,2,  34.5671,2,  34.5667,2,-999.0000,9,    46.53,2,    46.66,2,   99.940,   0.0024,2,    0.017,2,  -999.00,9,    3.077,1,    0.000,2,   170.89,2,     0.18,    43.24,2,     0.05,     0.00,2,     0.01,     3.03,2,     0.01,  -999.00,9,  -999.00,    0.003,2,    0.001,2,    0.000,2, -999.000,9,   -999.0,9,   -999.0,9,   -999.0,9,-999.0000,     -999,9, -999.000,9,  -999.00,9, -999.000,9, -999.000,   -999.0,9,   -999.0, -999.000,9, -999.000, -999.000,9, -999.000,   -999.0,9,   -999.0, -999.000,9, -999.000,9, -999.000,9
  49NZ20140717,   P01,   115,  1,     18, X12J18,2,20140811,1347, 46.9871,-159.2553, 5188,   2070.9,2,   1.9177,2,   1.91768,2,  34.5911,2,  34.5909,2,-999.0000,9,    56.56,2,    56.63,2,   99.933,   0.0027,2,    0.016,2,  -999.00,9,    3.056,1,    0.000,2,   172.90,2,     0.18,    42.62,2,     0.05,     0.00,2,     0.01,     2.98,2,     0.01,  -999.00,9,  -999.00,    0.000,2,    0.001,2,    0.000,2, -999.000,9,   -999.0,9,   -999.0,9,   -999.0,9,-999.0000,     -999,9, -999.000,9,  -999.00,9, -999.000,9, -999.000,   -999.0,9,   -999.0, -999.000,9, -999.000, -999.000,9, -999.000,   -999.0,9,   -999.0, -999.000,9, -999.000,9, -999.000,9
  49NZ20140717,   P01,   115,  1,     17, X12J17,2,20140811,1347, 46.9871,-159.2553, 5188,   2270.5,2,   1.8144,2,   1.81450,2,  34.6115,2,  34.6132,3,-999.0000,9,    68.06,2,    68.31,2,   99.916,   0.0034,2,    0.015,2,  -999.00,9,    2.986,1,    0.000,2,   173.73,2,     0.18,    41.91,2,     0.05,     0.00,2,     0.01,     2.93,2,     0.01,  -999.00,9,  -999.00,    0.000,2,    0.000,2,    0.000,2, -999.000,9,   -999.0,9,   -999.0,9,   -999.0,9,-999.0000,     -999,9, -999.000,9,  -999.00,9, -999.000,9, -999.000,   -999.0,9,   -999.0, -999.000,9, -999.000, -999.000,9, -999.000,   -999.0,9,   -999.0, -999.000,9, -999.000,9, -999.000,9
  49NZ20140717,   P01,   115,  1,     16, X12J16,2,20140811,1347, 46.9871,-159.2553, 5188,   2469.4,2,   1.7347,2,   1.73474,2,  34.6267,2,  34.6264,2,-999.0000,9,    80.30,2,    80.43,2,   99.931,   0.0028,2,    0.014,2,  -999.00,9,    2.954,1,    0.000,2,   173.01,2,     0.18,    41.18,2,     0.05,     0.00,2,     0.01,     2.88,2,     0.01,  -999.00,9,  -999.00,    0.001,2,    0.000,2,    0.000,2, -999.000,9,   -999.0,9,   -999.0,9,   -999.0,9,-999.0000,     -999,9, -999.000,9,  -999.00,9, -999.000,9, -999.000,   -999.0,9,   -999.0, -999.000,9, -999.000, -999.000,9, -999.000,   -999.0,9,   -999.0, -999.000,9, -999.000,9, -999.000,9
  49NZ20140717,   P01,   115,  1,     15, X12J15,2,20140811,1347, 46.9871,-159.2553, 5188,   2670.8,2,   1.6687,2,   1.66895,2,  34.6388,2,  34.6385,2,-999.0000,9,    91.57,2,    91.76,2,   99.950,   0.0020,2,    0.013,2,  -999.00,9,    2.796,1,    0.000,2,   171.81,2,     0.18,    40.41,2,     0.05,     0.00,2,     0.01,     2.82,2,     0.01,  -999.00,9,  -999.00,    0.000,2,    0.000,2,    0.000,2, -999.000,9,   -999.0,9,   -999.0,9,   -999.0,9,-999.0000,     -999,9, -999.000,9,  -999.00,9, -999.000,9, -999.000,   -999.0,9,   -999.0, -999.000,9, -999.000, -999.000,9, -999.000,   -999.0,9,   -999.0, -999.000,9, -999.000,9, -999.000,9
  49NZ20140717,   P01,   115,  1,     14, X12J14,2,20140811,1347, 46.9871,-159.2553, 5188,   2870.2,2,   1.6118,2,   1.61178,2,  34.6491,2,  34.6489,2,-999.0000,9,   103.03,2,   103.23,2,   99.942,   0.0023,2,    0.013,2,  -999.00,9,    2.789,1,    0.000,2,   169.28,2,     0.18,    39.45,2,     0.05,     0.00,2,     0.01,     2.77,2,     0.01,  -999.00,9,  -999.00,    0.000,2,    0.000,2,    0.000,2, -999.000,9,   -999.0,9,   -999.0,9,   -999.0,9,-999.0000,     -999,9, -999.000,9,  -999.00,9, -999.000,9, -999.000,   -999.0,9,   -999.0, -999.000,9, -999.000, -999.000,9, -999.000,   -999.0,9,   -999.0, -999.000,9, -999.000,9, -999.000,9
  49NZ20140717,   P01,   115,  1,     13, X12113,2,20140811,1347, 46.9871,-159.2553, 5188,   3079.6,2,   1.5659,2,   1.56594,2,  34.6578,2,  34.6578,2,-999.0000,9,   113.12,2,   113.16,2,   99.944,   0.0022,2,    0.012,2,  -999.00,9,    2.721,1,    0.000,2,   167.23,2,     0.18,    38.80,2,     0.05,     0.00,2,     0.01,     2.71,2,     0.01,  -999.00,9,  -999.00,    0.001,2,    0.000,2,    0.000,2, -999.000,9,   -999.0,9,   -999.0,9,   -999.0,9,-999.0000,     -999,9, -999.000,9,  -999.00,9, -999.000,9, -999.000,   -999.0,9,   -999.0, -999.000,9, -999.000, -999.000,9, -999.000,   -999.0,9,   -999.0, -999.000,9, -999.000,9, -999.000,9
  49NZ20140717,   P01,   115,  1,     12, X12J12,2,20140811,1347, 46.9871,-159.2553, 5188,   3330.2,2,   1.5226,2,   1.52264,2,  34.6666,2,  34.6662,2,-999.0000,9,   123.95,2,   123.94,2,   99.950,   0.0020,2,    0.011,2,  -999.00,9,    2.600,1,    0.000,2,   164.71,2,     0.18,    38.07,2,     0.05,     0.00,2,     0.01,     2.66,2,     0.01,  -999.00,9,  -999.00,    0.001,2,    0.000,2,    0.000,2, -999.000,9,   -999.0,9,   -999.0,9,   -999.0,9,-999.0000,     -999,9, -999.000,9,  -999.00,9, -999.000,9, -999.000,   -999.0,9,   -999.0, -999.000,9, -999.000, -999.000,9, -999.000,   -999.0,9,   -999.0, -999.000,9, -999.000,9, -999.000,9
  49NZ20140717,   P01,   115,  1,     11, X12J11,2,20140811,1347, 46.9871,-159.2553, 5188,   3579.6,2,   1.4885,2,   1.48853,2,  34.6740,2,  34.6739,2,-999.0000,9,   133.03,2,   132.92,2,   99.972,   0.0011,2,    0.011,2,  -999.00,9,    2.542,1,    0.000,2,   163.19,2,     0.18,    37.50,2,     0.05,     0.00,2,     0.01,     2.61,2,     0.01,  -999.00,9,  -999.00,    0.002,2,    0.000,2,    0.000,2, -999.000,9,   -999.0,9,   -999.0,9,   -999.0,9,-999.0000,     -999,9, -999.000,9,  -999.00,9, -999.000,9, -999.000,   -999.0,9,   -999.0, -999.000,9, -999.000, -999.000,9, -999.000,   -999.0,9,   -999.0, -999.000,9, -999.000,9, -999.000,9
  49NZ20140717,   P01,   115,  1,     10, X12J10,2,20140811,1347, 46.9871,-159.2553, 5188,   3829.5,2,   1.4767,2,   1.47665,2,  34.6788,2,  34.6785,2,-999.0000,9,   138.67,2,   138.58,2,   99.961,   0.0015,2,    0.011,2,  -999.00,9,    2.587,1,    0.000,2,   163.20,2,     0.18,    37.14,2,     0.05,     0.00,2,     0.01,     2.58,2,     0.01,  -999.00,9,  -999.00,    0.000,2,    0.001,2,    0.000,2, -999.000,9,   -999.0,9,   -999.0,9,   -999.0,9,-999.0000,     -999,9, -999.000,9,  -999.00,9, -999.000,9, -999.000,   -999.0,9,   -999.0, -999.000,9, -999.000, -999.000,9, -999.000,   -999.0,9,   -999.0, -999.000,9, -999.000,9, -999.000,9