BOTTLE,20230904JAMSTECRIGC
EXPOCODE,SECT,STNNBR,CASTNO,SAMPNO,BTLNBR,BTLNBR_FLAG_W,DATE,TIME,LATITUDE,LONGITUDE,DEPTH,CTDPRS,CTDPRS_FLAG_W,CTDTMP,CTDTMP_FLAG_W,SBE35,SBE35_FLAG_W,CTDSAL,CTDSAL_FLAG_W,SALNTY,SALNTY_FLAG_W,DNSSAL,DNSSAL_FLAG_W,CTDOXY,CTDOXY_FLAG_W,OXYGEN,OXYGEN_FLAG_W,XMISS,XMISSCP,XMISS_FLAG_W,FLUOR,FLUOR_FLAG_W,CHLORA,CHLORA_FLAG_W,CDOM,CDOM_FLAG_W,PAR,PAR_FLAG_W,SILCAT,SILCAT_FLAG_W,SILUNC,NITRAT,NITRAT_FLAG_W,NRAUNC,NITRIT,NITRIT_FLAG_W,NRIUNC,PHSPHT,PHSPHT_FLAG_W,PHPUNC,AMMONIA,AMMONIA_FLAG_W,NH4UNC,CFC-11,CFC-11_FLAG_W,CFC-12,CFC-12_FLAG_W,CFC113,CFC113_FLAG_W,SF6,SF6_FLAG_W,TCARBN,TCARBN_FLAG_W,ALKALI,ALKALI_FLAG_W,ALKALI_POT,ALKALI_POT_FLAG_W,PH_TOT,PH_TMP,PH_TOT_FLAG_W,CALCIUM,CALCIUM_FLAG_W,DOC,DOC_FLAG_W,DELC13,DELC13_FLAG_W,C13ERR,DELC14,DELC14_FLAG_W,C14ERR,CS-134,CS-134_FLAG_W,CS134ER,CS-137,CS-137_FLAG_W,CS137ER,I-129,I-129_FLAG_W,I-129ER,CDOM-325,CDOM-325_FLAG_W,CDOM-370,CDOM-370_FLAG_W,CDOM-443,CDOM-443_FLAG_W
,,,,,,,,UTC,DEG,DEG,METERS,DBAR,,ITS-90,,ITS-90,,PSS-78,,PSS-78,,G/KG,,UMOL/KG,,UMOL/KG,,%TRANS,/METER,,MG/CUM,,MG/CUM,,MG/CUM,,UE/SQM/S,,UMOL/KG,,UMOL/KG,UMOL/KG,,UMOL/KG,UMOL/KG,,UMOL/KG,UMOL/KG,,UMOL/KG,UMOL/KG,,UMOL/KG,PMOL/KG,,PMOL/KG,,PMOL/KG,,FMOL/KG,,UMOL/KG,,UMOL/KG,,UMOL/KG,,,DEG C,,MMOL/KG,,UMOL/KG,,/MILLE,,/MILLE,/MILLE,,/MILLE,MBQ/KG,,MBQ/KG,MBQ/KG,,MBQ/KG,,,,/METER,,/METER,,/METER,
  49NZ20140717,   P01,   147,  1,      0,   -999,9,20140822,1139, 47.0041,-126.0038, 2554,   -999.0,9,-999.0000,9,-999.00000,9,-999.0000,9,  31.9131,2,-999.0000,9,  -999.00,9,  -999.00,9, -999.000,-999.0000,9, -999.000,9,  -999.00,9, -999.000,9, -999.000,9,     4.35,2,     0.09,     0.08,2,     0.02,     0.01,2,     0.01,     0.33,2,     0.01,     0.03,2,     0.01, -999.000,9, -999.000,9, -999.000,9, -999.000,9,   -999.0,9,   -999.0,9,   -999.0,9,-999.0000,     -999,9, -999.000,9,  -999.00,9, -999.000,9, -999.000,   -999.0,9,   -999.0, -999.000,9, -999.000, -999.000,9, -999.000,   -999.0,9,   -999.0, -999.000,9, -999.000,9, -999.000,9
  49NZ20140717,   P01,   147,  1,     36, X12J36,2,20140822,1139, 47.0041,-126.0038, 2554,     10.4,2,  17.9824,2,  17.98031,2,  31.9063,2,  31.9075,2,  32.0564,2,   246.00,2,   245.20,2,   95.964,   0.1648,2,    0.261,2,  -999.00,9,    0.264,1,    0.091,2,     4.22,2,     0.09,     0.05,2,     0.02,     0.01,2,     0.01,     0.32,2,     0.01,     0.03,2,     0.01,    2.396,2,    1.466,2,    0.242,2,    1.770,2,   1936.1,2,   2162.8,2,   -999.0,9,   7.9625,       25,6, -999.000,9,    72.30,2, -999.000,9, -999.000,   -999.0,9,   -999.0, -999.000,9, -999.000, -999.000,9, -999.000,   -999.0,9,   -999.0, -999.000,9, -999.000,9, -999.000,9
  49NZ20140717,   P01,   147,  1,     35, X12J35,2,20140822,1139, 47.0041,-126.0038, 2554,     50.1,2,   8.8581,2,   8.85571,2,  32.4226,2,  32.4508,2,  32.6048,2,   262.36,2,   258.53,2,   99.005,   0.0400,2,    0.181,2,  -999.00,9,    0.778,1,    0.000,2,    12.62,2,     0.09,    11.00,2,     0.02,     0.16,2,     0.01,     1.15,2,     0.01,     0.15,2,     0.02,    3.658,2,    2.163,2,    0.330,2,    2.420,2,   2042.6,6,   2179.5,2,   -999.0,9,   7.7469,       25,2, -999.000,9,    53.00,2, -999.000,9, -999.000,   -999.0,9,   -999.0, -999.000,9, -999.000, -999.000,9, -999.000,   -999.0,9,   -999.0, -999.000,9, -999.000,9, -999.000,9
  49NZ20140717,   P01,   147,  1,     34, X12J34,2,20140822,1139, 47.0041,-126.0038, 2554,    100.3,2,   7.8798,2,   7.87956,2,  33.1771,2,  33.1838,2,  33.3425,2,   191.00,2,   191.99,2,   99.660,   0.0136,2,    0.043,2,  -999.00,9,    1.230,1,    0.000,2,    25.41,2,     0.09,    21.86,2,     0.03,     0.02,2,     0.01,     1.72,2,     0.01,     0.01,2,     0.01,    3.598,2,    2.135,2,    0.272,2,    1.940,2,   2133.2,2,   2217.1,2,   -999.0,9,   7.5837,       25,2, -999.000,9,    50.96,2, -999.000,9, -999.000,   -999.0,9,   -999.0, -999.000,9, -999.000, -999.000,9, -999.000,   -999.0,9,   -999.0, -999.000,9, -999.000,9, -999.000,9
  49NZ20140717,   P01,   147,  1,     33, X12J33,2,20140822,1139, 47.0041,-126.0038, 2554,    150.6,2,   7.6878,2,   7.68529,2,  33.7725,2,  33.7779,2,  33.9394,2,   128.78,2,   130.40,2,   99.689,   0.0125,2,    0.006,2,  -999.00,9,    1.708,1,    0.000,2,    36.65,2,     0.10,    28.39,2,     0.04,     0.01,2,     0.01,     2.07,2,     0.01,     0.01,2,     0.01,    3.242,2,    1.880,2,    0.207,2,    1.400,2,   2197.6,2,   2249.9,2,   -999.0,9,   7.4812,       25,2, -999.000,9,    46.84,2, -999.000,9, -999.000,   -999.0,9,   -999.0, -999.000,9, -999.000, -999.000,9, -999.000,   -999.0,9,   -999.0, -999.000,9, -999.000,9, -999.000,9
  49NZ20140717,   P01,   147,  1,     32, X12J32,2,20140822,1139, 47.0041,-126.0038, 2554,    199.3,2,   7.3083,2,   7.31275,2,  33.8928,2,  33.8949,2,  34.0568,2,    90.15,2,    90.25,2,   98.906,   0.0440,2,    0.011,2,  -999.00,9,    2.095,1,    0.000,2,    47.52,2,     0.10,    32.00,2,     0.04,     0.01,2,     0.01,     2.37,2,     0.01,     0.01,2,     0.01,    2.963,2,    1.703,2,    0.177,2,    1.190,2,   2235.2,2,   2261.0,6,   -999.0,9,   7.4009,       25,2, -999.000,9,    47.63,2, -999.000,9, -999.000,   -999.0,9,   -999.0, -999.000,9, -999.000, -999.000,9, -999.000,   -999.0,9,   -999.0, -999.000,9, -999.000,9, -999.000,9
  49NZ20140717,   P01,   147,  1,     31, X12J31,2,20140822,1139, 47.0041,-126.0038, 2554,    249.3,2,   6.8337,2,   6.81565,2,  33.9394,2,  33.9411,2,  34.1043,2,    98.20,2,    97.46,2,   99.578,   0.0169,2,    0.009,2,  -999.00,9,    2.207,1,    0.000,2,    49.39,2,     0.11,    32.70,2,     0.04,     0.01,2,     0.01,     2.35,2,     0.01,     0.00,2,     0.01,    2.814,2,    1.531,2,    0.162,2,    0.920,2,   2236.3,2,   2268.5,2,   -999.0,9,   7.4218,       25,2, -999.000,9,    46.21,2, -999.000,9, -999.000,   -999.0,9,   -999.0, -999.000,9, -999.000, -999.000,9, -999.000,   -999.0,9,   -999.0, -999.000,9, -999.000,9, -999.000,9
  49NZ20140717,   P01,   147,  1,     30, X12J30,2,20140822,1139, 47.0041,-126.0038, 2554,    300.2,2,   6.4590,2,   6.45839,2,  33.9603,2,  33.9606,2,  34.1234,2,    85.13,2,    85.22,2,   99.660,   0.0136,2,    0.009,2,  -999.00,9,    2.331,1,    0.000,2,    54.56,2,     0.11,    34.38,2,     0.05,     0.01,2,     0.01,     2.47,2,     0.01,     0.00,2,     0.01,    2.578,2,    1.385,2,    0.145,2,    0.750,2,   2250.6,2,   2274.6,2,   -999.0,9,   7.3973,       25,2, -999.000,9,    45.99,2, -999.000,9, -999.000,   -999.0,9,   -999.0, -999.000,9, -999.000, -999.000,9, -999.000,   -999.0,9,   -999.0, -999.000,9, -999.000,9, -999.000,9
  49NZ20140717,   P01,   147,  1,     29, X12J29,2,20140822,1139, 47.0041,-126.0038, 2554,    399.8,2,   5.7178,2,   5.71450,2,  34.0224,2,  34.0216,2,  34.1880,2,    51.53,2,    52.19,2,   99.734,   0.0106,2,    0.010,2,  -999.00,9,    2.705,1,    0.000,2,    69.13,2,     0.12,    38.52,2,     0.05,     0.01,2,     0.01,     2.77,2,     0.01,     0.00,2,     0.01,    1.841,2,    0.945,2,    0.094,2,    0.440,2,   2286.0,2,   2291.5,2,   -999.0,9,   7.3374,       25,2, -999.000,9,    43.93,2, -999.000,9, -999.000,   -999.0,9,   -999.0, -999.000,9, -999.000, -999.000,9, -999.000,   -999.0,9,   -999.0, -999.000,9, -999.000,9, -999.000,9
  49NZ20140717,   P01,   147,  1,     28, X12J28,2,20140822,1139, 47.0041,-126.0038, 2554,    500.1,2,   5.0647,2,   5.05815,2,  34.0913,2,  34.0911,2,  34.2599,2,    29.23,2,    29.18,2,   99.773,   0.0091,2,    0.010,2,  -999.00,9,    2.819,1,    0.000,2,    83.79,2,     0.13,    41.21,2,     0.05,     0.01,2,     0.01,     2.99,2,     0.01,     0.01,2,     0.01,    1.120,2,    0.572,2,    0.054,2,    0.210,2,   2314.4,2,   2307.1,2,   -999.0,9,   7.3008,       25,2, -999.000,9,    41.85,2, -999.000,9, -999.000,   -999.0,9,   -999.0, -999.000,9, -999.000, -999.000,9, -999.000,   -999.0,9,   -999.0, -999.000,9, -999.000,9, -999.000,9
  49NZ20140717,   P01,   147,  1,     27, X12J27,2,20140822,1139, 47.0041,-126.0038, 2554,    600.3,2,   4.7893,2,   4.78957,2,  34.1659,2,  34.1688,2,  34.3371,2,    17.80,2,    17.81,2,   99.673,   0.0131,2,    0.010,2,  -999.00,9,    2.908,1,    0.000,2,    93.82,2,     0.13,    42.23,2,     0.05,     0.01,2,     0.01,     3.10,2,     0.01,     0.01,2,     0.01,    0.633,2,    0.338,2,    0.031,2,    0.120,2,   2331.4,2,   2322.1,2,   -999.0,9,   7.2923,       25,2, -999.000,9,    41.31,2, -999.000,9, -999.000,   -999.0,9,   -999.0, -999.000,9, -999.000, -999.000,9, -999.000,   -999.0,9,   -999.0, -999.000,9, -999.000,9, -999.000,9
  49NZ20140717,   P01,   147,  1,     26, X12J26,2,20140822,1139, 47.0041,-126.0038, 2554,    700.1,2,   4.4072,2,   4.40664,2,  34.2484,2,  34.2491,2,  34.4215,2,    10.79,2,    10.44,2,   99.695,   0.0122,2,    0.012,2,  -999.00,9,    2.997,1,    0.000,2,   105.21,2,     0.14,    43.21,2,     0.05,     0.01,2,     0.01,     3.18,2,     0.01,     0.01,2,     0.01,    0.268,2,    0.153,2,    0.013,2,    0.050,2,   2348.8,6,   2338.0,2,   -999.0,9,   7.2894,       25,2, -999.000,9,    41.37,2, -999.000,9, -999.000,   -999.0,9,   -999.0, -999.000,9, -999.000, -999.000,9, -999.000,   -999.0,9,   -999.0, -999.000,9, -999.000,9, -999.000,9
  49NZ20140717,   P01,   147,  1,     25, X12J25,2,20140822,1139, 47.0041,-126.0038, 2554,    799.5,2,   4.1068,2,   4.10302,2,  34.3121,2,  34.3092,2,  34.4195,3,     8.66,2,     8.27,2,   99.791,   0.0084,2,    0.011,2,  -999.00,9,    3.098,1,    0.000,2,   113.42,2,     0.14,    43.62,2,     0.05,     0.01,2,     0.01,     3.20,2,     0.01,     0.01,2,     0.01,    0.121,2,    0.076,2,    0.006,2,    0.050,2,   2358.4,2,   2351.1,2,   -999.0,9,   7.2926,       25,2, -999.000,9,    39.15,2, -999.000,9, -999.000,   -999.0,9,   -999.0, -999.000,9, -999.000, -999.000,9, -999.000,   -999.0,9,   -999.0, -999.000,9, -999.000,9, -999.000,9
  49NZ20140717,   P01,   147,  1,     24, X12J24,2,20140822,1139, 47.0041,-126.0038, 2554,    900.4,2,   3.8744,2,   3.87474,2,  34.3618,2,  34.3613,2,  34.5369,2,     8.99,2,     8.51,2,   99.791,   0.0084,2,    0.010,2,  -999.00,9,    3.049,1,    0.000,2,   121.40,2,     0.15,    43.91,2,     0.06,     0.01,2,     0.01,     3.22,2,     0.01,     0.00,2,     0.01,    0.057,2,    0.039,2,    0.004,2,    0.050,2,   2366.0,2,   2362.4,2,   -999.0,9,   7.2995,       25,6, -999.000,9,    40.04,2, -999.000,9, -999.000,   -999.0,9,   -999.0, -999.000,9, -999.000, -999.000,9, -999.000,   -999.0,9,   -999.0, -999.000,9, -999.000,9, -999.000,9
  49NZ20140717,   P01,   147,  1,     23, X12J23,2,20140822,1139, 47.0041,-126.0038, 2554,   1000.2,2,   3.6520,2,   3.65159,2,  34.3966,2,  34.3969,2,  34.5731,2,    10.31,2,     9.75,2,   99.875,   0.0050,2,    0.010,2,  -999.00,9,    3.196,1,    0.000,2,   127.22,2,     0.15,    44.12,2,     0.06,     0.01,2,     0.01,     3.22,2,     0.01,     0.00,2,     0.01,    0.032,2,    0.023,2,    0.002,2,    0.040,2,   2371.5,2,   2371.0,2,   -999.0,9,   7.3063,       25,2, -999.000,9,    40.50,2, -999.000,9, -999.000,   -999.0,9,   -999.0, -999.000,9, -999.000, -999.000,9, -999.000,   -999.0,9,   -999.0, -999.000,9, -999.000,9, -999.000,9
  49NZ20140717,   P01,   147,  1,     22, X12J22,2,20140822,1139, 47.0041,-126.0038, 2554,   1199.9,2,   3.1430,2,   3.14305,2,  34.4551,2,  34.4549,2,  34.6318,2,    15.83,2,    15.40,2,   99.778,   0.0089,2,    0.009,2,  -999.00,9,    3.187,1,    0.000,2,   141.34,2,     0.16,    44.15,2,     0.06,     0.01,2,     0.01,     3.20,2,     0.01,     0.00,2,     0.01,    0.015,2,    0.012,2,    0.002,2,    0.040,2,   2382.5,2,   2384.8,6,   -999.0,9,   7.3174,       25,2, -999.000,9,    41.45,2, -999.000,9, -999.000,   -999.0,9,   -999.0, -999.000,9, -999.000, -999.000,9, -999.000,   -999.0,9,   -999.0, -999.000,9, -999.000,9, -999.000,9
  49NZ20140717,   P01,   147,  1,     21, X12J21,2,20140822,1139, 47.0041,-126.0038, 2554,   1399.4,2,   2.7391,2,   2.73977,2,  34.4995,2,  34.4996,2,  34.6773,2,    23.71,2,    23.55,2,   99.795,   0.0082,2,    0.008,2,  -999.00,9,    3.235,1,    0.000,2,   153.13,2,     0.17,    43.80,2,     0.06,     0.01,2,     0.01,     3.16,2,     0.01,     0.00,2,     0.01,    0.009,2,    0.008,2,    0.002,2,    0.040,2,   2387.3,2,   2396.5,2,   -999.0,9,   7.3349,       25,2, -999.000,9,    40.46,2, -999.000,9, -999.000,   -999.0,9,   -999.0, -999.000,9, -999.000, -999.000,9, -999.000,   -999.0,9,   -999.0, -999.000,9, -999.000,9, -999.000,9
  49NZ20140717,   P01,   147,  1,     20, X12J20,2,20140822,1139, 47.0041,-126.0038, 2554,   1600.1,2,   2.4297,2,   2.42946,2,  34.5339,2,  34.5342,2,  34.7123,2,    33.71,2,    33.89,2,   99.780,   0.0088,2,    0.007,2,  -999.00,9,    3.267,1,    0.000,2,   162.10,2,     0.18,    43.20,2,     0.05,     0.01,2,     0.01,     3.10,2,     0.01,     0.01,2,     0.01,    0.005,2,    0.005,2,    0.001,2,    0.030,2,   2390.4,2,   2408.0,2,   -999.0,9,   7.3562,       25,6, -999.000,9,    38.65,2, -999.000,9, -999.000,   -999.0,9,   -999.0, -999.000,9, -999.000, -999.000,9, -999.000,   -999.0,9,   -999.0, -999.000,9, -999.000,9, -999.000,9
  49NZ20140717,   P01,   147,  1,     19, X12J19,2,20140822,1139, 47.0041,-126.0038, 2554,   1799.3,2,   2.1075,2,   2.10809,2,  34.5689,2,  34.5688,2,  34.7479,2,    47.84,2,    47.72,2,   99.775,   0.0090,2,    0.006,2,  -999.00,9,    3.322,1,    0.000,2,   170.80,2,     0.18,    42.42,2,     0.05,     0.01,2,     0.01,     3.03,2,     0.01,     0.01,2,     0.01,    0.005,2,    0.005,2,    0.000,2,    0.000,2,   2389.1,2,   2414.9,2,   -999.0,9,   7.3839,       25,2, -999.000,9,    38.06,2, -999.000,9, -999.000,   -999.0,9,   -999.0, -999.000,9, -999.000, -999.000,9, -999.000,   -999.0,9,   -999.0, -999.000,9, -999.000,9, -999.000,9
  49NZ20140717,   P01,   147,  1,     18, X12J18,2,20140822,1139, 47.0041,-126.0038, 2554,   2000.8,2,   1.8864,2,   1.88660,2,  34.6051,2,  34.6061,2,  34.7855,2,    63.20,2,    63.74,2,   99.671,   0.0132,2,    0.006,2,  -999.00,9,    3.292,1,    0.000,2,   178.07,2,     0.19,    41.29,2,     0.05,     0.01,2,     0.01,     2.96,2,     0.01,     0.01,2,     0.01,    0.005,2,    0.007,2,    0.002,2,    0.000,2,   2385.8,2,   2426.9,2,   -999.0,9,   7.4210,       25,2, -999.000,9,    38.49,2, -999.000,9, -999.000,   -999.0,9,   -999.0, -999.000,9, -999.000, -999.000,9, -999.000,   -999.0,9,   -999.0, -999.000,9, -999.000,9, -999.000,9
  49NZ20140717,   P01,   147,  1,     17, X12J17,2,20140822,1139, 47.0041,-126.0038, 2554,   2199.4,2,   1.7766,2,   1.77696,2,  34.6250,2,  34.6254,2,  34.8066,2,    72.27,2,    72.59,2,   99.773,   0.0091,2,    0.005,2,  -999.00,9,    3.345,1,    0.000,2,   182.91,2,     0.19,    40.63,2,     0.05,     0.01,2,     0.01,     2.92,2,     0.01,     0.01,2,     0.01,    0.006,2,    0.010,2,    0.001,2,    0.070,2,   2386.0,2,   2432.0,2,   -999.0,9,   7.4417,       25,2, -999.000,9,    38.43,2, -999.000,9, -999.000,   -999.0,9,   -999.0, -999.000,9, -999.000, -999.000,9, -999.000,   -999.0,9,   -999.0, -999.000,9, -999.000,9, -999.000,9
  49NZ20140717,   P01,   147,  1,     16, X12J16,2,20140822,1139, 47.0041,-126.0038, 2554,   2576.4,2,   1.7440,2,   1.74376,2,  34.6426,2,-999.0000,9,-999.0000,9,    73.12,2,    73.56,1,   98.817,   0.0476,2,    0.008,2,  -999.00,9,    3.328,1,    0.000,2,  -999.00,9,  -999.00,  -999.00,9,  -999.00,  -999.00,9,  -999.00,  -999.00,9,  -999.00,  -999.00,9,  -999.00, -999.000,9, -999.000,9, -999.000,9, -999.000,9,   -999.0,9,   -999.0,9,   -999.0,9,-999.0000,     -999,9, -999.000,9,  -999.00,9, -999.000,9, -999.000,   -999.0,9,   -999.0, -999.000,9, -999.000, -999.000,9, -999.000,   -999.0,9,   -999.0, -999.000,9, -999.000,9, -999.000,9
  49NZ20140717,   P01,   147,  1,     15, X12J15,9,20140822,1139, 47.0041,-126.0038, 2554,   -999.0,9,-999.0000,9,-999.00000,9,-999.0000,9,-999.0000,9,-999.0000,9,  -999.00,9,  -999.00,9, -999.000,-999.0000,9, -999.000,9,  -999.00,9, -999.000,9, -999.000,9,  -999.00,9,  -999.00,  -999.00,9,  -999.00,  -999.00,9,  -999.00,  -999.00,9,  -999.00,  -999.00,9,  -999.00, -999.000,9, -999.000,9, -999.000,9, -999.000,9,   -999.0,9,   -999.0,9,   -999.0,9,-999.0000,     -999,9, -999.000,9,  -999.00,9, -999.000,9, -999.000,   -999.0,9,   -999.0, -999.000,9, -999.000, -999.000,9, -999.000,   -999.0,9,   -999.0, -999.000,9, -999.000,9, -999.000,9
  49NZ20140717,   P01,   147,  1,     14, X12J14,9,20140822,1139, 47.0041,-126.0038, 2554,   -999.0,9,-999.0000,9,-999.00000,9,-999.0000,9,-999.0000,9,-999.0000,9,  -999.00,9,  -999.00,9, -999.000,-999.0000,9, -999.000,9,  -999.00,9, -999.000,9, -999.000,9,  -999.00,9,  -999.00,  -999.00,9,  -999.00,  -999.00,9,  -999.00,  -999.00,9,  -999.00,  -999.00,9,  -999.00, -999.000,9, -999.000,9, -999.000,9, -999.000,9,   -999.0,9,   -999.0,9,   -999.0,9,-999.0000,     -999,9, -999.000,9,  -999.00,9, -999.000,9, -999.000,   -999.0,9,   -999.0, -999.000,9, -999.000, -999.000,9, -999.000,   -999.0,9,   -999.0, -999.000,9, -999.000,9, -999.000,9
  49NZ20140717,   P01,   147,  1,     13, X12113,9,20140822,1139, 47.0041,-126.0038, 2554,   -999.0,9,-999.0000,9,-999.00000,9,-999.0000,9,-999.0000,9,-999.0000,9,  -999.00,9,  -999.00,9, -999.000,-999.0000,9, -999.000,9,  -999.00,9, -999.000,9, -999.000,9,  -999.00,9,  -999.00,  -999.00,9,  -999.00,  -999.00,9,  -999.00,  -999.00,9,  -999.00,  -999.00,9,  -999.00, -999.000,9, -999.000,9, -999.000,9, -999.000,9,   -999.0,9,   -999.0,9,   -999.0,9,-999.0000,     -999,9, -999.000,9,  -999.00,9, -999.000,9, -999.000,   -999.0,9,   -999.0, -999.000,9, -999.000, -999.000,9, -999.000,   -999.0,9,   -999.0, -999.000,9, -999.000,9, -999.000,9
  49NZ20140717,   P01,   147,  1,     12, X12J12,9,20140822,1139, 47.0041,-126.0038, 2554,   -999.0,9,-999.0000,9,-999.00000,9,-999.0000,9,-999.0000,9,-999.0000,9,  -999.00,9,  -999.00,9, -999.000,-999.0000,9, -999.000,9,  -999.00,9, -999.000,9, -999.000,9,  -999.00,9,  -999.00,  -999.00,9,  -999.00,  -999.00,9,  -999.00,  -999.00,9,  -999.00,  -999.00,9,  -999.00, -999.000,9, -999.000,9, -999.000,9, -999.000,9,   -999.0,9,   -999.0,9,   -999.0,9,-999.0000,     -999,9, -999.000,9,  -999.00,9, -999.000,9, -999.000,   -999.0,9,   -999.0, -999.000,9, -999.000, -999.000,9, -999.000,   -999.0,9,   -999.0, -999.000,9, -999.000,9, -999.000,9
  49NZ20140717,   P01,   147,  1,     11, X12J11,9,20140822,1139, 47.0041,-126.0038, 2554,   -999.0,9,-999.0000,9,-999.00000,9,-999.0000,9,-999.0000,9,-999.0000,9,  -999.00,9,  -999.00,9, -999.000,-999.0000,9, -999.000,9,  -999.00,9, -999.000,9, -999.000,9,  -999.00,9,  -999.00,  -999.00,9,  -999.00,  -999.00,9,  -999.00,  -999.00,9,  -999.00,  -999.00,9,  -999.00, -999.000,9, -999.000,9, -999.000,9, -999.000,9,   -999.0,9,   -999.0,9,   -999.0,9,-999.0000,     -999,9, -999.000,9,  -999.00,9, -999.000,9, -999.000,   -999.0,9,   -999.0, -999.000,9, -999.000, -999.000,9, -999.000,   -999.0,9,   -999.0, -999.000,9, -999.000,9, -999.000,9
  49NZ20140717,   P01,   147,  1,     10, X12J10,2,20140822,1139, 47.0041,-126.0038, 2554,    199.3,2,   7.2993,2,   7.29706,2,  33.8939,2,-999.0000,9,-999.0000,9,    89.97,2,  -999.00,9,   99.008,   0.0399,2,    0.009,2,  -999.00,9,    2.085,1,    0.000,2,  -999.00,9,  -999.00,  -999.00,9,  -999.00,  -999.00,9,  -999.00,  -999.00,9,  -999.00,  -999.00,9,  -999.00, -999.000,9, -999.000,9, -999.000,9, -999.000,9,   -999.0,9,   -999.0,9,   -999.0,9,-999.0000,     -999,9, -999.000,9,  -999.00,9, -999.000,9, -999.000,   -999.0,9,   -999.0, -999.000,9, -999.000, -999.000,9, -999.000,   -999.0,9,   -999.0, -999.000,9, -999.000,9, -999.000,9