BOTTLE,20230904JAMSTECRIGC
EXPOCODE,SECT,STNNBR,CASTNO,SAMPNO,BTLNBR,BTLNBR_FLAG_W,DATE,TIME,LATITUDE,LONGITUDE,DEPTH,CTDPRS,CTDPRS_FLAG_W,CTDTMP,CTDTMP_FLAG_W,SBE35,SBE35_FLAG_W,CTDSAL,CTDSAL_FLAG_W,SALNTY,SALNTY_FLAG_W,DNSSAL,DNSSAL_FLAG_W,CTDOXY,CTDOXY_FLAG_W,OXYGEN,OXYGEN_FLAG_W,XMISS,XMISSCP,XMISS_FLAG_W,FLUOR,FLUOR_FLAG_W,CHLORA,CHLORA_FLAG_W,CDOM,CDOM_FLAG_W,PAR,PAR_FLAG_W,SILCAT,SILCAT_FLAG_W,SILUNC,NITRAT,NITRAT_FLAG_W,NRAUNC,NITRIT,NITRIT_FLAG_W,NRIUNC,PHSPHT,PHSPHT_FLAG_W,PHPUNC,AMMONIA,AMMONIA_FLAG_W,NH4UNC,CFC-11,CFC-11_FLAG_W,CFC-12,CFC-12_FLAG_W,CFC113,CFC113_FLAG_W,SF6,SF6_FLAG_W,TCARBN,TCARBN_FLAG_W,ALKALI,ALKALI_FLAG_W,ALKALI_POT,ALKALI_POT_FLAG_W,PH_TOT,PH_TMP,PH_TOT_FLAG_W,CALCIUM,CALCIUM_FLAG_W,DOC,DOC_FLAG_W,DELC13,DELC13_FLAG_W,C13ERR,DELC14,DELC14_FLAG_W,C14ERR,CS-134,CS-134_FLAG_W,CS134ER,CS-137,CS-137_FLAG_W,CS137ER,I-129,I-129_FLAG_W,I-129ER,CDOM-325,CDOM-325_FLAG_W,CDOM-370,CDOM-370_FLAG_W,CDOM-443,CDOM-443_FLAG_W
,,,,,,,,UTC,DEG,DEG,METERS,DBAR,,ITS-90,,ITS-90,,PSS-78,,PSS-78,,G/KG,,UMOL/KG,,UMOL/KG,,%TRANS,/METER,,MG/CUM,,MG/CUM,,MG/CUM,,UE/SQM/S,,UMOL/KG,,UMOL/KG,UMOL/KG,,UMOL/KG,UMOL/KG,,UMOL/KG,UMOL/KG,,UMOL/KG,UMOL/KG,,UMOL/KG,PMOL/KG,,PMOL/KG,,PMOL/KG,,FMOL/KG,,UMOL/KG,,UMOL/KG,,UMOL/KG,,,DEG C,,MMOL/KG,,UMOL/KG,,/MILLE,,/MILLE,/MILLE,,/MILLE,MBQ/KG,,MBQ/KG,MBQ/KG,,MBQ/KG,,,,/METER,,/METER,,/METER,
  49NZ20140717,   P01,    88,  1,      0,   -999,9,20140801,1634, 46.9949, 170.4747, 6334,   -999.0,9,-999.0000,9,-999.00000,9,-999.0000,9,  32.7942,2,-999.0000,9,  -999.00,9,  -999.00,9, -999.000,-999.0000,9, -999.000,9,  -999.00,9, -999.000,9, -999.000,9,    28.83,2,     0.09,    13.08,2,     0.02,     0.14,2,     0.01,     1.30,2,     0.01,  -999.00,9,  -999.00, -999.000,9, -999.000,9, -999.000,9, -999.000,9,   -999.0,9,   -999.0,9,   -999.0,9,-999.0000,     -999,9, -999.000,9,  -999.00,9, -999.000,9, -999.000,   -999.0,9,   -999.0, -999.000,9, -999.000, -999.000,9, -999.000,   -999.0,9,   -999.0, -999.000,9, -999.000,9, -999.000,9
  49NZ20140717,   P01,    88,  1,     36, X12J36,2,20140801,1634, 46.9949, 170.4747, 6334,     10.1,2,  12.1680,2,  12.16640,2,  32.7907,2,  32.7917,2,-999.0000,9,   276.71,2,   278.30,2,   94.507,   0.2260,2,    0.468,2,  -999.00,9,    0.218,1,   50.894,2,    28.55,2,     0.09,    12.97,2,     0.02,     0.14,2,     0.01,     1.29,2,     0.01,  -999.00,9,  -999.00,    3.513,2,    1.952,2,    0.335,2, -999.000,9,   -999.0,9,   -999.0,9,   -999.0,9,-999.0000,     -999,9, -999.000,9,  -999.00,9, -999.000,9, -999.000,   -999.0,9,   -999.0, -999.000,9, -999.000, -999.000,9, -999.000,   -999.0,9,   -999.0, -999.000,9, -999.000,9, -999.000,9
  49NZ20140717,   P01,    88,  1,     35, X12J35,2,20140801,1634, 46.9949, 170.4747, 6334,     50.5,2,   4.1685,2,   4.16541,2,  32.8971,2,  32.9038,2,-999.0000,9,   322.16,2,   322.87,2,   96.516,   0.1419,2,    0.523,2,  -999.00,9,    0.800,1,    1.062,2,    35.11,2,     0.10,    20.71,2,     0.03,     0.23,2,     0.01,     1.80,2,     0.01,  -999.00,9,  -999.00,    5.265,2,    2.775,2,    0.479,2, -999.000,9,   -999.0,9,   -999.0,9,   -999.0,9,-999.0000,     -999,9, -999.000,9,  -999.00,9, -999.000,9, -999.000,   -999.0,9,   -999.0, -999.000,9, -999.000, -999.000,9, -999.000,   -999.0,9,   -999.0, -999.000,9, -999.000,9, -999.000,9
  49NZ20140717,   P01,    88,  1,     34, X12J34,2,20140801,1634, 46.9949, 170.4747, 6334,    100.2,2,   2.9658,2,   2.96805,2,  33.1701,2,  33.1847,2,-999.0000,9,   246.83,2,   249.64,2,   99.416,   0.0234,2,    0.057,2,  -999.00,9,    1.522,1,    0.034,2,    51.75,2,     0.11,    29.40,2,     0.04,     0.02,2,     0.01,     2.23,2,     0.01,  -999.00,9,  -999.00,    4.705,2,    2.477,2,    0.404,2, -999.000,9,   -999.0,9,   -999.0,9,   -999.0,9,-999.0000,     -999,9, -999.000,9,  -999.00,9, -999.000,9, -999.000,   -999.0,9,   -999.0, -999.000,9, -999.000, -999.000,9, -999.000,   -999.0,9,   -999.0, -999.000,9, -999.000,9, -999.000,9
  49NZ20140717,   P01,    88,  1,     33, X12J33,2,20140801,1634, 46.9949, 170.4747, 6334,    150.0,2,   3.6588,2,   3.65867,2,  33.7910,2,  33.7915,2,-999.0000,9,    53.14,2,    53.65,2,   99.515,   0.0194,2,    0.033,2,  -999.00,9,    2.751,1,    0.000,2,    89.60,2,     0.13,    43.51,2,     0.05,     0.01,2,     0.01,     3.08,2,     0.01,  -999.00,9,  -999.00,    2.503,2,    1.257,2,    0.159,2, -999.000,9,   -999.0,9,   -999.0,9,   -999.0,9,-999.0000,     -999,9, -999.000,9,  -999.00,9, -999.000,9, -999.000,   -999.0,9,   -999.0, -999.000,9, -999.000, -999.000,9, -999.000,   -999.0,9,   -999.0, -999.000,9, -999.000,9, -999.000,9
  49NZ20140717,   P01,    88,  1,     32, X12J32,2,20140801,1634, 46.9949, 170.4747, 6334,    199.7,2,   3.7333,2,   3.73357,2,  33.9396,2,  33.9391,2,-999.0000,9,    16.06,2,    16.74,2,   99.524,   0.0191,2,    0.020,2,  -999.00,9,    2.924,1,    0.000,2,   100.53,2,     0.14,    45.86,2,     0.06,     0.01,2,     0.01,     3.24,2,     0.01,  -999.00,9,  -999.00,    1.851,2,    0.901,2,    0.120,2, -999.000,9,   -999.0,9,   -999.0,9,   -999.0,9,-999.0000,     -999,9, -999.000,9,  -999.00,9, -999.000,9, -999.000,   -999.0,9,   -999.0, -999.000,9, -999.000, -999.000,9, -999.000,   -999.0,9,   -999.0, -999.000,9, -999.000,9, -999.000,9
  49NZ20140717,   P01,    88,  1,     31, X12J31,2,20140801,1634, 46.9949, 170.4747, 6334,    250.2,2,   3.6996,2,   3.69947,2,  34.0139,2,  34.0124,2,-999.0000,9,    14.36,2,    13.92,2,   99.723,   0.0111,2,    0.018,2,  -999.00,9,    2.970,1,    0.000,2,   106.99,2,     0.14,    45.50,2,     0.06,     0.01,2,     0.01,     3.22,2,     0.01,  -999.00,9,  -999.00,    1.468,2,    0.706,2,    0.097,2, -999.000,9,   -999.0,9,   -999.0,9,   -999.0,9,-999.0000,     -999,9, -999.000,9,  -999.00,9, -999.000,9, -999.000,   -999.0,9,   -999.0, -999.000,9, -999.000, -999.000,9, -999.000,   -999.0,9,   -999.0, -999.000,9, -999.000,9, -999.000,9
  49NZ20140717,   P01,    88,  1,     30, X12J30,2,20140801,1634, 46.9949, 170.4747, 6334,    330.9,2,   3.6052,2,   3.60537,2,  34.1036,2,  34.1031,2,-999.0000,9,    14.93,2,    14.60,2,   99.785,   0.0086,2,    0.016,2,  -999.00,9,    2.993,1,    0.000,2,   115.45,2,     0.15,    44.79,2,     0.06,     0.00,2,     0.01,     3.18,2,     0.01,  -999.00,9,  -999.00,    1.028,2,    0.483,2,    0.070,2, -999.000,9,   -999.0,9,   -999.0,9,   -999.0,9,-999.0000,     -999,9, -999.000,9,  -999.00,9, -999.000,9, -999.000,   -999.0,9,   -999.0, -999.000,9, -999.000, -999.000,9, -999.000,   -999.0,9,   -999.0, -999.000,9, -999.000,9, -999.000,9
  49NZ20140717,   P01,    88,  1,     29, X12J29,2,20140801,1634, 46.9949, 170.4747, 6334,    431.3,2,   3.4556,2,   3.45658,2,  34.1847,2,  34.1846,2,-999.0000,9,    13.55,2,    12.86,2,   99.833,   0.0067,2,    0.016,2,  -999.00,9,    3.095,1,    0.000,2,   123.95,2,     0.15,    44.60,2,     0.06,     0.00,2,     0.01,     3.16,2,     0.01,  -999.00,9,  -999.00,    0.682,2,    0.309,2,    0.045,2, -999.000,9,   -999.0,9,   -999.0,9,   -999.0,9,-999.0000,     -999,9, -999.000,9,  -999.00,9, -999.000,9, -999.000,   -999.0,9,   -999.0, -999.000,9, -999.000, -999.000,9, -999.000,   -999.0,9,   -999.0, -999.000,9, -999.000,9, -999.000,9
  49NZ20140717,   P01,    88,  1,     28, X12J28,2,20140801,1634, 46.9949, 170.4747, 6334,    530.4,2,   3.2843,2,   3.28450,2,  34.2484,2,  34.2479,2,-999.0000,9,    13.75,2,    13.04,2,   99.900,   0.0040,2,    0.015,2,  -999.00,9,    3.080,1,    0.000,2,   131.67,2,     0.16,    44.52,2,     0.06,     0.00,2,     0.01,     3.17,2,     0.01,  -999.00,9,  -999.00,    0.464,2,    0.207,2,    0.028,2, -999.000,9,   -999.0,9,   -999.0,9,   -999.0,9,-999.0000,     -999,9, -999.000,9,  -999.00,9, -999.000,9, -999.000,   -999.0,9,   -999.0, -999.000,9, -999.000, -999.000,9, -999.000,   -999.0,9,   -999.0, -999.000,9, -999.000,9, -999.000,9
  49NZ20140717,   P01,    88,  1,     27, X12J27,2,20140801,1634, 46.9949, 170.4747, 6334,    629.4,2,   3.1307,2,   3.13085,2,  34.2938,2,  34.2934,2,-999.0000,9,    15.48,2,    14.80,2,   99.889,   0.0044,2,    0.014,2,  -999.00,9,    3.162,1,    0.000,2,   137.72,2,     0.16,    44.42,2,     0.06,     0.00,2,     0.01,     3.16,2,     0.01,  -999.00,9,  -999.00,    0.348,2,    0.151,2,    0.018,2, -999.000,9,   -999.0,9,   -999.0,9,   -999.0,9,-999.0000,     -999,9, -999.000,9,  -999.00,9, -999.000,9, -999.000,   -999.0,9,   -999.0, -999.000,9, -999.000, -999.000,9, -999.000,   -999.0,9,   -999.0, -999.000,9, -999.000,9, -999.000,9
  49NZ20140717,   P01,    88,  1,     26, X12J26,2,20140801,1634, 46.9949, 170.4747, 6334,    729.4,2,   2.9930,2,   2.99206,2,  34.3348,2,  34.3345,2,-999.0000,9,    15.47,2,    14.76,2,   99.861,   0.0056,2,    0.013,2,  -999.00,9,    3.110,1,    0.000,2,   142.76,2,     0.16,    44.41,2,     0.06,     0.00,2,     0.01,     3.17,2,     0.01,  -999.00,9,  -999.00,    0.240,2,    0.103,2,    0.000,2, -999.000,9,   -999.0,9,   -999.0,9,   -999.0,9,-999.0000,     -999,9, -999.000,9,  -999.00,9, -999.000,9, -999.000,   -999.0,9,   -999.0, -999.000,9, -999.000, -999.000,9, -999.000,   -999.0,9,   -999.0, -999.000,9, -999.000,9, -999.000,9
  49NZ20140717,   P01,    88,  1,     25, X12J25,2,20140801,1634, 46.9949, 170.4747, 6334,    830.0,2,   2.8384,2,   2.83788,2,  34.3741,2,  34.3741,2,-999.0000,9,    16.88,2,    16.20,2,   99.876,   0.0050,2,    0.013,2,  -999.00,9,    3.044,1,    0.000,2,   148.03,2,     0.17,    44.32,2,     0.06,     0.00,2,     0.01,     3.15,2,     0.01,  -999.00,9,  -999.00,    0.170,2,    0.071,2,    0.000,2, -999.000,9,   -999.0,9,   -999.0,9,   -999.0,9,-999.0000,     -999,9, -999.000,9,  -999.00,9, -999.000,9, -999.000,   -999.0,9,   -999.0, -999.000,9, -999.000, -999.000,9, -999.000,   -999.0,9,   -999.0, -999.000,9, -999.000,9, -999.000,9
  49NZ20140717,   P01,    88,  1,     24, X12J24,2,20140801,1634, 46.9949, 170.4747, 6334,    929.7,2,   2.6948,2,   2.69557,2,  34.4074,2,  34.4068,2,-999.0000,9,    19.47,2,    19.05,2,   99.909,   0.0037,2,    0.012,2,  -999.00,9,    3.163,1,    0.000,2,   152.28,2,     0.17,    44.18,2,     0.06,     0.00,2,     0.01,     3.14,2,     0.01,  -999.00,9,  -999.00,    0.118,2,    0.054,2,    0.000,2, -999.000,9,   -999.0,9,   -999.0,9,   -999.0,9,-999.0000,     -999,9, -999.000,9,  -999.00,9, -999.000,9, -999.000,   -999.0,9,   -999.0, -999.000,9, -999.000, -999.000,9, -999.000,   -999.0,9,   -999.0, -999.000,9, -999.000,9, -999.000,9
  49NZ20140717,   P01,    88,  1,     23, X12J23,2,20140801,1634, 46.9949, 170.4747, 6334,   1068.6,2,   2.5020,2,   2.50188,2,  34.4513,2,  34.4516,2,-999.0000,9,    24.11,2,    23.74,2,   99.887,   0.0045,2,    0.011,2,  -999.00,9,    3.195,1,    0.000,2,   158.30,2,     0.17,    44.01,2,     0.06,     0.00,2,     0.01,     3.13,2,     0.01,  -999.00,9,  -999.00,    0.076,2,    0.033,2,    0.000,2, -999.000,9,   -999.0,9,   -999.0,9,   -999.0,9,-999.0000,     -999,9, -999.000,9,  -999.00,9, -999.000,9, -999.000,   -999.0,9,   -999.0, -999.000,9, -999.000, -999.000,9, -999.000,   -999.0,9,   -999.0, -999.000,9, -999.000,9, -999.000,9
  49NZ20140717,   P01,    88,  1,     22, X12J22,2,20140801,1634, 46.9949, 170.4747, 6334,   1269.8,2,   2.2792,2,   2.27928,2,  34.5012,2,  34.5011,2,-999.0000,9,    33.76,2,    33.66,2,   99.891,   0.0044,2,    0.009,2,  -999.00,9,    3.183,1,    0.000,2,   164.04,2,     0.18,    43.40,2,     0.05,     0.00,2,     0.01,     3.08,2,     0.01,  -999.00,9,  -999.00,    0.043,2,    0.019,2,    0.000,2, -999.000,9,   -999.0,9,   -999.0,9,   -999.0,9,-999.0000,     -999,9, -999.000,9,  -999.00,9, -999.000,9, -999.000,   -999.0,9,   -999.0, -999.000,9, -999.000, -999.000,9, -999.000,   -999.0,9,   -999.0, -999.000,9, -999.000,9, -999.000,9
  49NZ20140717,   P01,    88,  1,     21, X12J21,2,20140801,1634, 46.9949, 170.4747, 6334,   1470.0,2,   2.1033,2,   2.10348,2,  34.5416,2,  34.5418,2,-999.0000,9,    44.86,2,    44.94,2,   99.915,   0.0034,2,    0.008,2,  -999.00,9,    3.067,1,    0.000,2,   167.93,2,     0.18,    42.77,2,     0.05,     0.00,2,     0.01,     3.03,2,     0.01,  -999.00,9,  -999.00,    0.021,2,    0.011,2,    0.000,2, -999.000,9,   -999.0,9,   -999.0,9,   -999.0,9,-999.0000,     -999,9, -999.000,9,  -999.00,9, -999.000,9, -999.000,   -999.0,9,   -999.0, -999.000,9, -999.000, -999.000,9, -999.000,   -999.0,9,   -999.0, -999.000,9, -999.000,9, -999.000,9
  49NZ20140717,   P01,    88,  1,     20, X12J20,2,20140801,1634, 46.9949, 170.4747, 6334,   1670.9,2,   1.9766,2,   1.97663,2,  34.5717,2,  34.5715,2,-999.0000,9,    58.23,2,    58.47,2,   99.915,   0.0034,2,    0.007,2,  -999.00,9,    2.997,1,    0.000,2,   168.36,2,     0.18,    41.97,2,     0.05,     0.00,2,     0.01,     2.98,2,     0.01,  -999.00,9,  -999.00,    0.011,2,    0.005,2,    0.000,2, -999.000,9,   -999.0,9,   -999.0,9,   -999.0,9,-999.0000,     -999,9, -999.000,9,  -999.00,9, -999.000,9, -999.000,   -999.0,9,   -999.0, -999.000,9, -999.000, -999.000,9, -999.000,   -999.0,9,   -999.0, -999.000,9, -999.000,9, -999.000,9
  49NZ20140717,   P01,    88,  1,     19, X12J19,2,20140801,1634, 46.9949, 170.4747, 6334,   1869.0,2,   1.8739,2,   1.87539,2,  34.5932,2,  34.5926,2,-999.0000,9,    68.40,2,    68.46,2,   99.932,   0.0027,2,    0.006,2,  -999.00,9,    2.927,1,    0.000,2,   169.50,2,     0.18,    41.38,2,     0.05,     0.00,2,     0.01,     2.93,2,     0.01,  -999.00,9,  -999.00,    0.006,2,    0.001,2,    0.000,2, -999.000,9,   -999.0,9,   -999.0,9,   -999.0,9,-999.0000,     -999,9, -999.000,9,  -999.00,9, -999.000,9, -999.000,   -999.0,9,   -999.0, -999.000,9, -999.000, -999.000,9, -999.000,   -999.0,9,   -999.0, -999.000,9, -999.000,9, -999.000,9
  49NZ20140717,   P01,    88,  1,     18, X12J18,2,20140801,1634, 46.9949, 170.4747, 6334,   2072.9,2,   1.7807,2,   1.78071,2,  34.6126,2,  34.6127,2,-999.0000,9,    80.43,2,    80.81,2,   99.943,   0.0023,2,    0.005,2,  -999.00,9,    2.861,1,    0.000,2,   168.82,2,     0.18,    40.55,2,     0.05,     0.00,2,     0.01,     2.87,2,     0.01,  -999.00,9,  -999.00,    0.001,2,    0.000,2,    0.000,2, -999.000,9,   -999.0,9,   -999.0,9,   -999.0,9,-999.0000,     -999,9, -999.000,9,  -999.00,9, -999.000,9, -999.000,   -999.0,9,   -999.0, -999.000,9, -999.000, -999.000,9, -999.000,   -999.0,9,   -999.0, -999.000,9, -999.000,9, -999.000,9
  49NZ20140717,   P01,    88,  1,     17, X12J17,2,20140801,1634, 46.9949, 170.4747, 6334,   2269.6,2,   1.6985,2,   1.69877,2,  34.6286,2,  34.6288,2,-999.0000,9,    92.23,2,    92.74,2,   99.945,   0.0022,2,    0.004,2,  -999.00,9,    2.786,1,    0.000,2,   168.11,2,     0.18,    39.82,2,     0.05,     0.00,2,     0.01,     2.82,2,     0.01,  -999.00,9,  -999.00,    0.001,2,    0.000,2,    0.000,2, -999.000,9,   -999.0,9,   -999.0,9,   -999.0,9,-999.0000,     -999,9, -999.000,9,  -999.00,9, -999.000,9, -999.000,   -999.0,9,   -999.0, -999.000,9, -999.000, -999.000,9, -999.000,   -999.0,9,   -999.0, -999.000,9, -999.000,9, -999.000,9
  49NZ20140717,   P01,    88,  1,     16, X12J16,2,20140801,1634, 46.9949, 170.4747, 6334,   2470.3,2,   1.6400,2,   1.64036,2,  34.6405,2,  34.6400,2,-999.0000,9,   102.14,2,   102.32,2,   99.960,   0.0016,2,    0.003,2,  -999.00,9,    2.714,1,    0.000,2,   166.36,2,     0.18,    39.21,2,     0.05,     0.00,2,     0.01,     2.77,2,     0.01,  -999.00,9,  -999.00,    0.000,2,    0.000,2,    0.000,2, -999.000,9,   -999.0,9,   -999.0,9,   -999.0,9,-999.0000,     -999,9, -999.000,9,  -999.00,9, -999.000,9, -999.000,   -999.0,9,   -999.0, -999.000,9, -999.000, -999.000,9, -999.000,   -999.0,9,   -999.0, -999.000,9, -999.000,9, -999.000,9
  49NZ20140717,   P01,    88,  1,     15, X12J15,2,20140801,1634, 46.9949, 170.4747, 6334,   2670.9,2,   1.5958,2,   1.59583,2,  34.6495,2,  34.6492,2,-999.0000,9,   110.49,2,   110.51,2,   99.967,   0.0013,2,    0.003,2,  -999.00,9,    2.685,1,    0.000,2,   164.74,2,     0.18,    38.68,2,     0.05,     0.00,2,     0.01,     2.73,2,     0.01,  -999.00,9,  -999.00,    0.000,2,    0.000,2,    0.000,2, -999.000,9,   -999.0,9,   -999.0,9,   -999.0,9,-999.0000,     -999,9, -999.000,9,  -999.00,9, -999.000,9, -999.000,   -999.0,9,   -999.0, -999.000,9, -999.000, -999.000,9, -999.000,   -999.0,9,   -999.0, -999.000,9, -999.000,9, -999.000,9
  49NZ20140717,   P01,    88,  1,     14, X12J14,2,20140801,1634, 46.9949, 170.4747, 6334,   2870.7,2,   1.5603,2,   1.56067,2,  34.6570,2,  34.6568,2,-999.0000,9,   118.22,2,   118.58,2,   99.956,   0.0018,2,    0.003,2,  -999.00,9,    2.594,1,    0.000,2,   162.61,2,     0.18,    38.25,2,     0.05,     0.00,2,     0.01,     2.69,2,     0.01,  -999.00,9,  -999.00,    0.000,2,    0.000,2,    0.000,2, -999.000,9,   -999.0,9,   -999.0,9,   -999.0,9,-999.0000,     -999,9, -999.000,9,  -999.00,9, -999.000,9, -999.000,   -999.0,9,   -999.0, -999.000,9, -999.000, -999.000,9, -999.000,   -999.0,9,   -999.0, -999.000,9, -999.000,9, -999.000,9
  49NZ20140717,   P01,    88,  1,     13, X12113,2,20140801,1634, 46.9949, 170.4747, 6334,   3080.6,2,   1.5134,2,   1.51343,2,  34.6657,2,  34.6653,2,-999.0000,9,   128.21,2,   127.96,2,   99.956,   0.0018,2,    0.002,2,  -999.00,9,    2.556,1,    0.000,2,   159.99,2,     0.17,    37.65,2,     0.05,     0.00,2,     0.01,     2.65,2,     0.01,  -999.00,9,  -999.00,    0.000,2,    0.000,2,    0.000,2, -999.000,9,   -999.0,9,   -999.0,9,   -999.0,9,-999.0000,     -999,9, -999.000,9,  -999.00,9, -999.000,9, -999.000,   -999.0,9,   -999.0, -999.000,9, -999.000, -999.000,9, -999.000,   -999.0,9,   -999.0, -999.000,9, -999.000,9, -999.000,9
  49NZ20140717,   P01,    88,  1,     12, X12J12,2,20140801,1634, 46.9949, 170.4747, 6334,   3330.5,2,   1.4724,2,   1.47272,2,  34.6734,2,  34.6733,2,-999.0000,9,   137.13,2,   137.15,2,   99.952,   0.0019,2,    0.001,2,  -999.00,9,    2.487,1,    0.000,2,   156.82,2,     0.17,    37.00,2,     0.05,     0.00,2,     0.01,     2.59,2,     0.01,  -999.00,9,  -999.00,    0.000,2,    0.000,2,    0.000,2, -999.000,9,   -999.0,9,   -999.0,9,   -999.0,9,-999.0000,     -999,9, -999.000,9,  -999.00,9, -999.000,9, -999.000,   -999.0,9,   -999.0, -999.000,9, -999.000, -999.000,9, -999.000,   -999.0,9,   -999.0, -999.000,9, -999.000,9, -999.000,9
  49NZ20140717,   P01,    88,  1,     11, X12J11,2,20140801,1634, 46.9949, 170.4747, 6334,   3580.2,2,   1.4603,2,   1.46053,2,  34.6778,2,  34.6774,2,-999.0000,9,   142.33,2,   142.38,2,   99.960,   0.0016,2,    0.001,2,  -999.00,9,    2.418,1,    0.000,2,   155.41,2,     0.17,    36.68,2,     0.05,     0.00,2,     0.01,     2.56,2,     0.01,  -999.00,9,  -999.00,    0.000,2,    0.000,2,    0.000,2, -999.000,9,   -999.0,9,   -999.0,9,   -999.0,9,-999.0000,     -999,9, -999.000,9,  -999.00,9, -999.000,9, -999.000,   -999.0,9,   -999.0, -999.000,9, -999.000, -999.000,9, -999.000,   -999.0,9,   -999.0, -999.000,9, -999.000,9, -999.000,9
  49NZ20140717,   P01,    88,  1,     10, X12J10,2,20140801,1634, 46.9949, 170.4747, 6334,   3830.8,2,   1.4566,2,   1.45689,2,  34.6813,2,  34.6812,2,-999.0000,9,   146.51,2,   146.56,2,   99.980,   0.0008,2,    0.001,2,  -999.00,9,    2.309,4,    0.000,2,   154.20,2,     0.17,    36.39,2,     0.05,     0.00,2,     0.01,     2.54,2,     0.01,  -999.00,9,  -999.00,    0.000,2,    0.001,2,    0.000,2, -999.000,9,   -999.0,9,   -999.0,9,   -999.0,9,-999.0000,     -999,9, -999.000,9,  -999.00,9, -999.000,9, -999.000,   -999.0,9,   -999.0, -999.000,9, -999.000, -999.000,9, -999.000,   -999.0,9,   -999.0, -999.000,9, -999.000,9, -999.000,9