BOTTLE,20230904JAMSTECRIGC
EXPOCODE,SECT,STNNBR,CASTNO,SAMPNO,BTLNBR,BTLNBR_FLAG_W,DATE,TIME,LATITUDE,LONGITUDE,DEPTH,CTDPRS,CTDPRS_FLAG_W,CTDTMP,CTDTMP_FLAG_W,SBE35,SBE35_FLAG_W,CTDSAL,CTDSAL_FLAG_W,SALNTY,SALNTY_FLAG_W,DNSSAL,DNSSAL_FLAG_W,CTDOXY,CTDOXY_FLAG_W,OXYGEN,OXYGEN_FLAG_W,XMISS,XMISSCP,XMISS_FLAG_W,FLUOR,FLUOR_FLAG_W,CHLORA,CHLORA_FLAG_W,CDOM,CDOM_FLAG_W,PAR,PAR_FLAG_W,SILCAT,SILCAT_FLAG_W,SILUNC,NITRAT,NITRAT_FLAG_W,NRAUNC,NITRIT,NITRIT_FLAG_W,NRIUNC,PHSPHT,PHSPHT_FLAG_W,PHPUNC,AMMONIA,AMMONIA_FLAG_W,NH4UNC,CFC-11,CFC-11_FLAG_W,CFC-12,CFC-12_FLAG_W,CFC113,CFC113_FLAG_W,SF6,SF6_FLAG_W,TCARBN,TCARBN_FLAG_W,ALKALI,ALKALI_FLAG_W,ALKALI_POT,ALKALI_POT_FLAG_W,PH_TOT,PH_TMP,PH_TOT_FLAG_W,CALCIUM,CALCIUM_FLAG_W,DOC,DOC_FLAG_W,DELC13,DELC13_FLAG_W,C13ERR,DELC14,DELC14_FLAG_W,C14ERR,CS-134,CS-134_FLAG_W,CS134ER,CS-137,CS-137_FLAG_W,CS137ER,I-129,I-129_FLAG_W,I-129ER,CDOM-325,CDOM-325_FLAG_W,CDOM-370,CDOM-370_FLAG_W,CDOM-443,CDOM-443_FLAG_W
,,,,,,,,UTC,DEG,DEG,METERS,DBAR,,ITS-90,,ITS-90,,PSS-78,,PSS-78,,G/KG,,UMOL/KG,,UMOL/KG,,%TRANS,/METER,,MG/CUM,,MG/CUM,,MG/CUM,,UE/SQM/S,,UMOL/KG,,UMOL/KG,UMOL/KG,,UMOL/KG,UMOL/KG,,UMOL/KG,UMOL/KG,,UMOL/KG,UMOL/KG,,UMOL/KG,PMOL/KG,,PMOL/KG,,PMOL/KG,,FMOL/KG,,UMOL/KG,,UMOL/KG,,UMOL/KG,,,DEG C,,MMOL/KG,,UMOL/KG,,/MILLE,,/MILLE,/MILLE,,/MILLE,MBQ/KG,,MBQ/KG,MBQ/KG,,MBQ/KG,,,,/METER,,/METER,,/METER,
  49NZ20140717,   P01,    46,  1,      0,   -999,9,20140718,1922, 41.7148, 146.4303, 6512,   -999.0,9,-999.0000,9,-999.00000,9,-999.0000,9,  33.6398,2,-999.0000,9,  -999.00,9,  -999.00,9, -999.000,-999.0000,9, -999.000,9,  -999.00,9, -999.000,9, -999.000,9,     1.94,2,     0.10,     0.13,2,     0.01,     0.00,2,     0.01,     0.11,2,     0.01,  -999.00,9,  -999.00, -999.000,9, -999.000,9, -999.000,9, -999.000,9,   -999.0,9,   -999.0,9,   -999.0,9,-999.0000,     -999,9, -999.000,9,  -999.00,9, -999.000,9, -999.000,   -999.0,9,   -999.0, -999.000,9, -999.000, -999.000,9, -999.000,   -999.0,9,   -999.0, -999.000,9, -999.000,9, -999.000,9
  49NZ20140717,   P01,    46,  1,     36, X12J36,2,20140718,1922, 41.7148, 146.4303, 6512,      9.8,2,  19.9642,2,  19.95180,2,  33.7000,2,  33.7671,2,-999.0000,9,   235.42,2,   236.73,2, -999.000,-999.0000,9, -999.000,9,  -999.00,9, -999.000,9,  104.424,2,     2.06,2,     0.10,     0.09,2,     0.02,     0.00,2,     0.01,     0.09,2,     0.01,  -999.00,9,  -999.00,    2.231,2,    1.428,2,    0.302,2,    1.720,2,   -999.0,9,   -999.0,9,   -999.0,9,-999.0000,     -999,9, -999.000,9,  -999.00,9, -999.000,9, -999.000,   -999.0,9,   -999.0, -999.000,9, -999.000, -999.000,9, -999.000,   -999.0,9,   -999.0, -999.000,9, -999.000,9, -999.000,9
  49NZ20140717,   P01,    46,  1,     35, X12J35,2,20140718,1922, 41.7148, 146.4303, 6512,     50.3,2,  13.1358,2,  13.12161,2,  34.3386,2,  34.3080,2,-999.0000,9,   200.16,2,   202.54,2, -999.000,-999.0000,9, -999.000,9,  -999.00,9, -999.000,9,    2.660,2,    15.71,2,     0.09,    11.77,2,     0.02,     0.05,2,     0.01,     0.85,2,     0.01,  -999.00,9,  -999.00,    2.642,2,    1.625,2,    0.143,2,    1.560,2,   -999.0,9,   -999.0,9,   -999.0,9,-999.0000,     -999,9, -999.000,9,  -999.00,9, -999.000,9, -999.000,   -999.0,9,   -999.0, -999.000,9, -999.000, -999.000,9, -999.000,   -999.0,9,   -999.0, -999.000,9, -999.000,9, -999.000,9
  49NZ20140717,   P01,    46,  1,     34, X12J34,2,20140718,1922, 41.7148, 146.4303, 6512,    100.0,2,   9.4828,2,   9.48513,2,  34.0526,2,  34.0486,2,-999.0000,9,   234.68,2,   233.78,2, -999.000,-999.0000,9, -999.000,9,  -999.00,9, -999.000,9,    0.218,2,    20.94,2,     0.09,    14.28,2,     0.03,     0.01,2,     0.01,     1.05,2,     0.01,  -999.00,9,  -999.00,    3.154,2,    1.911,2,    0.226,2,    2.060,2,   -999.0,9,   -999.0,9,   -999.0,9,-999.0000,     -999,9, -999.000,9,  -999.00,9, -999.000,9, -999.000,   -999.0,9,   -999.0, -999.000,9, -999.000, -999.000,9, -999.000,   -999.0,9,   -999.0, -999.000,9, -999.000,9, -999.000,9
  49NZ20140717,   P01,    46,  1,     33, X12J33,2,20140718,1922, 41.7148, 146.4303, 6512,    150.5,2,   5.9930,2,   5.99202,2,  33.6561,2,  33.6523,2,-999.0000,9,   242.82,2,   242.90,2, -999.000,-999.0000,9, -999.000,9,  -999.00,9, -999.000,9,    0.000,2,    31.80,2,     0.10,    19.48,2,     0.03,     0.01,2,     0.01,     1.49,2,     0.01,  -999.00,9,  -999.00,    3.788,2,    2.253,2,    0.301,2,    2.280,2,   -999.0,9,   -999.0,9,   -999.0,9,-999.0000,     -999,9, -999.000,9,  -999.00,9, -999.000,9, -999.000,   -999.0,9,   -999.0, -999.000,9, -999.000, -999.000,9, -999.000,   -999.0,9,   -999.0, -999.000,9, -999.000,9, -999.000,9
  49NZ20140717,   P01,    46,  1,     32, X12J32,2,20140718,1922, 41.7148, 146.4303, 6512,    199.5,2,   4.6529,2,   4.65102,2,  33.5939,2,  33.5970,2,-999.0000,9,   248.13,2,   246.63,2, -999.000,-999.0000,9, -999.000,9,  -999.00,9, -999.000,9,    0.000,2,    40.36,2,     0.10,    22.10,2,     0.03,     0.01,2,     0.01,     1.69,2,     0.01,  -999.00,9,  -999.00,    3.977,2,    2.370,2,    0.337,2,    2.250,2,   -999.0,9,   -999.0,9,   -999.0,9,-999.0000,     -999,9, -999.000,9,  -999.00,9, -999.000,9, -999.000,   -999.0,9,   -999.0, -999.000,9, -999.000, -999.000,9, -999.000,   -999.0,9,   -999.0, -999.000,9, -999.000,9, -999.000,9
  49NZ20140717,   P01,    46,  1,     31, X12J31,2,20140718,1922, 41.7148, 146.4303, 6512,    249.7,2,   4.4473,2,   4.45396,2,  33.6807,2,  33.6824,2,-999.0000,9,   202.99,2,   201.55,2, -999.000,-999.0000,9, -999.000,9,  -999.00,9, -999.000,9,    0.000,2,    51.28,2,     0.11,    26.23,2,     0.04,     0.01,2,     0.01,     1.97,2,     0.01,  -999.00,9,  -999.00,    3.546,2,    2.073,2,    0.267,2,    1.920,2,   -999.0,9,   -999.0,9,   -999.0,9,-999.0000,     -999,9, -999.000,9,  -999.00,9, -999.000,9, -999.000,   -999.0,9,   -999.0, -999.000,9, -999.000, -999.000,9, -999.000,   -999.0,9,   -999.0, -999.000,9, -999.000,9, -999.000,9
  49NZ20140717,   P01,    46,  1,     30, X12J30,2,20140718,1922, 41.7148, 146.4303, 6512,    331.0,2,   4.5793,2,   4.57975,2,  33.8729,2,  33.8759,2,-999.0000,9,   141.45,2,   140.36,2, -999.000,-999.0000,9, -999.000,9,  -999.00,9, -999.000,9,    0.000,2,    68.71,2,     0.12,    32.10,2,     0.04,     0.01,2,     0.01,     2.36,2,     0.01,  -999.00,9,  -999.00,    2.674,2,    1.530,2,    0.167,2,    1.300,2,   -999.0,9,   -999.0,9,   -999.0,9,-999.0000,     -999,9, -999.000,9,  -999.00,9, -999.000,9, -999.000,   -999.0,9,   -999.0, -999.000,9, -999.000, -999.000,9, -999.000,   -999.0,9,   -999.0, -999.000,9, -999.000,9, -999.000,9
  49NZ20140717,   P01,    46,  1,     29, X12J29,2,20140718,1922, 41.7148, 146.4303, 6512,    431.1,2,   3.3294,2,   3.33299,2,  33.8673,2,  33.8611,2,-999.0000,9,    93.25,2,    94.36,2, -999.000,-999.0000,9, -999.000,9,  -999.00,9, -999.000,9,    0.000,2,    91.58,2,     0.13,    38.46,2,     0.05,     0.01,2,     0.01,     2.80,2,     0.01,  -999.00,9,  -999.00,    2.434,2,    1.354,2,    0.176,2,    1.140,2,   -999.0,9,   -999.0,9,   -999.0,9,-999.0000,     -999,9, -999.000,9,  -999.00,9, -999.000,9, -999.000,   -999.0,9,   -999.0, -999.000,9, -999.000, -999.000,9, -999.000,   -999.0,9,   -999.0, -999.000,9, -999.000,9, -999.000,9
  49NZ20140717,   P01,    46,  1,     28, X12J28,2,20140718,1922, 41.7148, 146.4303, 6512,    530.5,2,   3.2045,2,   3.20371,2,  33.9726,2,  33.9777,2,-999.0000,9,    59.03,2,    58.94,2, -999.000,-999.0000,9, -999.000,9,  -999.00,9, -999.000,9,    0.000,2,   107.44,2,     0.14,    41.44,2,     0.05,     0.00,2,     0.01,     2.99,2,     0.01,  -999.00,9,  -999.00,    1.788,2,    0.994,2,    0.126,2,    0.850,2,   -999.0,9,   -999.0,9,   -999.0,9,-999.0000,     -999,9, -999.000,9,  -999.00,9, -999.000,9, -999.000,   -999.0,9,   -999.0, -999.000,9, -999.000, -999.000,9, -999.000,   -999.0,9,   -999.0, -999.000,9, -999.000,9, -999.000,9
  49NZ20140717,   P01,    46,  1,     27, X12J27,2,20140718,1922, 41.7148, 146.4303, 6512,    629.3,2,   3.5631,2,   3.56641,2,  34.1410,2,  34.1510,2,-999.0000,9,    45.01,2,    46.17,2, -999.000,-999.0000,9, -999.000,9,  -999.00,9, -999.000,9,    0.000,2,   114.37,2,     0.15,    41.54,2,     0.05,     0.00,2,     0.01,     2.98,2,     0.01,  -999.00,9,  -999.00,    1.004,2,    0.580,2,    0.062,2,    0.500,2,   -999.0,9,   -999.0,9,   -999.0,9,-999.0000,     -999,9, -999.000,9,  -999.00,9, -999.000,9, -999.000,   -999.0,9,   -999.0, -999.000,9, -999.000, -999.000,9, -999.000,   -999.0,9,   -999.0, -999.000,9, -999.000,9, -999.000,9
  49NZ20140717,   P01,    46,  1,     26, X12J26,2,20140718,1922, 41.7148, 146.4303, 6512,    730.7,2,   3.1176,2,   3.11725,2,  34.1802,2,  34.1810,2,-999.0000,9,    27.58,2,    27.66,2, -999.000,-999.0000,9, -999.000,9,  -999.00,9, -999.000,9,    0.000,2,   129.64,2,     0.16,    43.58,2,     0.05,     0.00,2,     0.01,     3.12,2,     0.01,  -999.00,9,  -999.00,    0.781,2,    0.462,2,    0.051,2,    0.440,2,   -999.0,9,   -999.0,9,   -999.0,9,-999.0000,     -999,9, -999.000,9,  -999.00,9, -999.000,9, -999.000,   -999.0,9,   -999.0, -999.000,9, -999.000, -999.000,9, -999.000,   -999.0,9,   -999.0, -999.000,9, -999.000,9, -999.000,9
  49NZ20140717,   P01,    46,  1,     25, X12J25,2,20140718,1922, 41.7148, 146.4303, 6512,    829.9,2,   3.1713,2,   3.17131,2,  34.2722,2,  34.2712,2,-999.0000,9,    32.89,2,    33.06,2, -999.000,-999.0000,9, -999.000,9,  -999.00,9, -999.000,9,    0.000,2,   132.82,2,     0.16,    42.79,2,     0.05,     0.00,2,     0.01,     3.07,2,     0.01,  -999.00,9,  -999.00,    0.499,2,    0.312,2,    0.032,2,    0.350,2,   -999.0,9,   -999.0,9,   -999.0,9,-999.0000,     -999,9, -999.000,9,  -999.00,9, -999.000,9, -999.000,   -999.0,9,   -999.0, -999.000,9, -999.000, -999.000,9, -999.000,   -999.0,9,   -999.0, -999.000,9, -999.000,9, -999.000,9
  49NZ20140717,   P01,    46,  1,     24, X12J24,2,20140718,1922, 41.7148, 146.4303, 6512,    930.8,2,   3.1719,2,   3.17187,2,  34.3560,2,  34.3560,2,-999.0000,9,    38.34,2,    38.54,2, -999.000,-999.0000,9, -999.000,9,  -999.00,9, -999.000,9,    0.000,2,   134.96,2,     0.16,    42.30,2,     0.05,     0.00,2,     0.01,     3.04,2,     0.01,  -999.00,9,  -999.00,    0.252,2,    0.167,2,    0.013,2,    0.010,2,   -999.0,9,   -999.0,9,   -999.0,9,-999.0000,     -999,9, -999.000,9,  -999.00,9, -999.000,9, -999.000,   -999.0,9,   -999.0, -999.000,9, -999.000, -999.000,9, -999.000,   -999.0,9,   -999.0, -999.000,9, -999.000,9, -999.000,9
  49NZ20140717,   P01,    46,  1,     23, X12J23,2,20140718,1922, 41.7148, 146.4303, 6512,   1069.7,2,   2.8633,2,   2.86416,2,  34.3982,2,  34.4012,2,-999.0000,9,    36.30,2,    36.95,2, -999.000,-999.0000,9, -999.000,9,  -999.00,9, -999.000,9,    0.000,2,   143.81,2,     0.16,    42.73,2,     0.05,    -0.01,2,     0.01,     3.06,2,     0.01,  -999.00,9,  -999.00,    0.169,2,    0.117,2,    0.009,2,    0.120,2,   -999.0,9,   -999.0,9,   -999.0,9,-999.0000,     -999,9, -999.000,9,  -999.00,9, -999.000,9, -999.000,   -999.0,9,   -999.0, -999.000,9, -999.000, -999.000,9, -999.000,   -999.0,9,   -999.0, -999.000,9, -999.000,9, -999.000,9
  49NZ20140717,   P01,    46,  1,     22, X12J22,2,20140718,1922, 41.7148, 146.4303, 6512,   1270.0,2,   2.6448,2,   2.64360,2,  34.4603,2,  34.4616,2,-999.0000,9,    39.67,2,    39.70,2, -999.000,-999.0000,9, -999.000,9,  -999.00,9, -999.000,9,    0.000,2,   150.72,2,     0.17,    42.88,2,     0.05,    -0.01,2,     0.01,     3.06,2,     0.01,  -999.00,9,  -999.00,    0.070,2,    0.048,2,    0.003,2,    0.090,2,   -999.0,9,   -999.0,9,   -999.0,9,-999.0000,     -999,9, -999.000,9,  -999.00,9, -999.000,9, -999.000,   -999.0,9,   -999.0, -999.000,9, -999.000, -999.000,9, -999.000,   -999.0,9,   -999.0, -999.000,9, -999.000,9, -999.000,9
  49NZ20140717,   P01,    46,  1,     21, X12J21,2,20140718,1922, 41.7148, 146.4303, 6512,   1469.7,2,   2.4244,2,   2.42396,2,  34.5015,2,  34.5033,2,-999.0000,9,    44.68,2,    44.90,2, -999.000,-999.0000,9, -999.000,9,  -999.00,9, -999.000,9,    0.000,2,   156.48,2,     0.17,    42.78,2,     0.05,    -0.01,2,     0.01,     3.05,2,     0.01,  -999.00,9,  -999.00,    0.038,2,    0.026,2,    0.002,2,    0.120,2,   -999.0,9,   -999.0,9,   -999.0,9,-999.0000,     -999,9, -999.000,9,  -999.00,9, -999.000,9, -999.000,   -999.0,9,   -999.0, -999.000,9, -999.000, -999.000,9, -999.000,   -999.0,9,   -999.0, -999.000,9, -999.000,9, -999.000,9
  49NZ20140717,   P01,    46,  1,     20, X12J20,2,20140718,1922, 41.7148, 146.4303, 6512,   1671.6,2,   2.2290,2,   2.22898,2,  34.5348,2,  34.5346,2,-999.0000,9,    52.18,2,    52.83,2, -999.000,-999.0000,9, -999.000,9,  -999.00,9, -999.000,9,    0.000,2,   161.07,2,     0.17,    42.35,2,     0.05,    -0.01,2,     0.01,     3.01,2,     0.01,  -999.00,9,  -999.00,    0.026,2,    0.018,2,    0.003,2,    0.050,2,   -999.0,9,   -999.0,9,   -999.0,9,-999.0000,     -999,9, -999.000,9,  -999.00,9, -999.000,9, -999.000,   -999.0,9,   -999.0, -999.000,9, -999.000, -999.000,9, -999.000,   -999.0,9,   -999.0, -999.000,9, -999.000,9, -999.000,9
  49NZ20140717,   P01,    46,  1,     19, X12J19,2,20140718,1922, 41.7148, 146.4303, 6512,   1867.2,2,   2.0769,2,   2.07672,2,  34.5657,2,  34.5659,2,-999.0000,9,    61.81,2,    61.78,2, -999.000,-999.0000,9, -999.000,9,  -999.00,9, -999.000,9,    0.000,2,   163.38,2,     0.18,    41.83,2,     0.05,    -0.01,2,     0.01,     2.97,2,     0.01,  -999.00,9,  -999.00,    0.014,2,    0.010,2,    0.001,2,    0.120,2,   -999.0,9,   -999.0,9,   -999.0,9,-999.0000,     -999,9, -999.000,9,  -999.00,9, -999.000,9, -999.000,   -999.0,9,   -999.0, -999.000,9, -999.000, -999.000,9, -999.000,   -999.0,9,   -999.0, -999.000,9, -999.000,9, -999.000,9
  49NZ20140717,   P01,    46,  1,     18, X12J18,2,20140718,1922, 41.7148, 146.4303, 6512,   2070.5,2,   1.9433,2,   1.94399,2,  34.5944,2,  34.5939,2,-999.0000,9,    75.34,2,    75.36,2, -999.000,-999.0000,9, -999.000,9,  -999.00,9, -999.000,9,    0.000,2,   163.13,2,     0.18,    41.04,2,     0.05,     0.00,2,     0.01,     2.90,2,     0.01,  -999.00,9,  -999.00,    0.001,2,    0.000,2,    0.000,2,    0.080,2,   -999.0,9,   -999.0,9,   -999.0,9,-999.0000,     -999,9, -999.000,9,  -999.00,9, -999.000,9, -999.000,   -999.0,9,   -999.0, -999.000,9, -999.000, -999.000,9, -999.000,   -999.0,9,   -999.0, -999.000,9, -999.000,9, -999.000,9
  49NZ20140717,   P01,    46,  1,     17, X12J17,2,20140718,1922, 41.7148, 146.4303, 6512,   2270.4,2,   1.8497,2,   1.84951,2,  34.6126,2,  34.6131,2,-999.0000,9,    86.80,2,    86.80,2, -999.000,-999.0000,9, -999.000,9,  -999.00,9, -999.000,9,    0.000,2,   162.36,2,     0.18,    40.32,2,     0.05,    -0.01,2,     0.01,     2.84,2,     0.01,  -999.00,9,  -999.00,    0.000,2,    0.000,2,    0.000,2,    0.020,2,   -999.0,9,   -999.0,9,   -999.0,9,-999.0000,     -999,9, -999.000,9,  -999.00,9, -999.000,9, -999.000,   -999.0,9,   -999.0, -999.000,9, -999.000, -999.000,9, -999.000,   -999.0,9,   -999.0, -999.000,9, -999.000,9, -999.000,9
  49NZ20140717,   P01,    46,  1,     16, X12J16,2,20140718,1922, 41.7148, 146.4303, 6512,   2469.4,2,   1.7626,2,   1.76244,2,  34.6280,2,  34.6285,2,-999.0000,9,    97.54,2,    97.95,2, -999.000,-999.0000,9, -999.000,9,  -999.00,9, -999.000,9,    0.000,2,   161.32,2,     0.17,    39.62,2,     0.05,    -0.01,2,     0.01,     2.79,2,     0.01,  -999.00,9,  -999.00,    0.000,2,    0.000,2,    0.002,2,    0.000,2,   -999.0,9,   -999.0,9,   -999.0,9,-999.0000,     -999,9, -999.000,9,  -999.00,9, -999.000,9, -999.000,   -999.0,9,   -999.0, -999.000,9, -999.000, -999.000,9, -999.000,   -999.0,9,   -999.0, -999.000,9, -999.000,9, -999.000,9
  49NZ20140717,   P01,    46,  1,     15, X12J15,2,20140718,1922, 41.7148, 146.4303, 6512,   2671.2,2,   1.6901,2,   1.68998,2,  34.6401,2,  34.6402,2,-999.0000,9,   106.41,2,   106.37,2, -999.000,-999.0000,9, -999.000,9,  -999.00,9, -999.000,9,    0.000,2,   160.90,2,     0.17,    39.12,2,     0.05,    -0.01,2,     0.01,     2.75,2,     0.01,  -999.00,9,  -999.00,    0.000,2,    0.000,2,    0.000,2,    0.040,2,   -999.0,9,   -999.0,9,   -999.0,9,-999.0000,     -999,9, -999.000,9,  -999.00,9, -999.000,9, -999.000,   -999.0,9,   -999.0, -999.000,9, -999.000, -999.000,9, -999.000,   -999.0,9,   -999.0, -999.000,9, -999.000,9, -999.000,9
  49NZ20140717,   P01,    46,  1,     14, X12J14,2,20140718,1922, 41.7148, 146.4303, 6512,   2869.9,2,   1.6476,2,   1.64750,2,  34.6483,2,  34.6486,2,-999.0000,9,   113.37,2,   113.31,2, -999.000,-999.0000,9, -999.000,9,  -999.00,9, -999.000,9,    0.000,2,   160.14,2,     0.17,    38.68,2,     0.05,    -0.01,2,     0.01,     2.72,2,     0.01,  -999.00,9,  -999.00,    0.000,2,    0.000,2,    0.000,2,    0.110,2,   -999.0,9,   -999.0,9,   -999.0,9,-999.0000,     -999,9, -999.000,9,  -999.00,9, -999.000,9, -999.000,   -999.0,9,   -999.0, -999.000,9, -999.000, -999.000,9, -999.000,   -999.0,9,   -999.0, -999.000,9, -999.000,9, -999.000,9
  49NZ20140717,   P01,    46,  1,     13, X12113,2,20140718,1922, 41.7148, 146.4303, 6512,   3080.1,2,   1.6002,2,   1.60016,2,  34.6570,2,  34.6569,2,-999.0000,9,   121.40,2,   121.15,2, -999.000,-999.0000,9, -999.000,9,  -999.00,9, -999.000,9,    0.000,2,   158.61,2,     0.17,    38.16,2,     0.05,    -0.01,2,     0.01,     2.68,2,     0.01,  -999.00,9,  -999.00,    0.000,2,    0.000,2,    0.000,2,    0.060,2,   -999.0,9,   -999.0,9,   -999.0,9,-999.0000,     -999,9, -999.000,9,  -999.00,9, -999.000,9, -999.000,   -999.0,9,   -999.0, -999.000,9, -999.000, -999.000,9, -999.000,   -999.0,9,   -999.0, -999.000,9, -999.000,9, -999.000,9
  49NZ20140717,   P01,    46,  1,     12, X12J12,2,20140718,1922, 41.7148, 146.4303, 6512,   3329.9,2,   1.5669,2,   1.56674,2,  34.6639,2,  34.6639,2,-999.0000,9,   128.57,2,   128.36,2, -999.000,-999.0000,9, -999.000,9,  -999.00,9, -999.000,9,    0.000,2,   156.68,2,     0.17,    37.60,2,     0.05,    -0.01,2,     0.01,     2.63,2,     0.01,  -999.00,9,  -999.00,    0.000,2,    0.000,2,    0.000,2,    0.100,2,   -999.0,9,   -999.0,9,   -999.0,9,-999.0000,     -999,9, -999.000,9,  -999.00,9, -999.000,9, -999.000,   -999.0,9,   -999.0, -999.000,9, -999.000, -999.000,9, -999.000,   -999.0,9,   -999.0, -999.000,9, -999.000,9, -999.000,9
  49NZ20140717,   P01,    46,  1,     11, X12J11,2,20140718,1922, 41.7148, 146.4303, 6512,   3580.1,2,   1.5385,2,   1.53850,2,  34.6701,2,  34.6698,2,-999.0000,9,   135.22,2,   134.95,2, -999.000,-999.0000,9, -999.000,9,  -999.00,9, -999.000,9,    0.000,2,   155.08,2,     0.17,    37.16,2,     0.05,    -0.01,2,     0.01,     2.60,2,     0.01,  -999.00,9,  -999.00,    0.000,2,    0.000,2,    0.000,2,    0.030,2,   -999.0,9,   -999.0,9,   -999.0,9,-999.0000,     -999,9, -999.000,9,  -999.00,9, -999.000,9, -999.000,   -999.0,9,   -999.0, -999.000,9, -999.000, -999.000,9, -999.000,   -999.0,9,   -999.0, -999.000,9, -999.000,9, -999.000,9
  49NZ20140717,   P01,    46,  1,     10, X12J10,2,20140718,1922, 41.7148, 146.4303, 6512,   3831.2,2,   1.5218,2,   1.52179,2,  34.6747,2,  34.6745,2,-999.0000,9,   140.61,2,   140.14,2, -999.000,-999.0000,9, -999.000,9,  -999.00,9, -999.000,9,    0.000,2,   153.92,2,     0.17,    36.87,2,     0.05,    -0.01,2,     0.01,     2.58,2,     0.01,  -999.00,9,  -999.00,    0.000,2,    0.000,2,    0.000,2,    0.050,2,   -999.0,9,   -999.0,9,   -999.0,9,-999.0000,     -999,9, -999.000,9,  -999.00,9, -999.000,9, -999.000,   -999.0,9,   -999.0, -999.000,9, -999.000, -999.000,9, -999.000,   -999.0,9,   -999.0, -999.000,9, -999.000,9, -999.000,9