BOTTLE,20230904JAMSTECRIGC
EXPOCODE,SECT,STNNBR,CASTNO,SAMPNO,BTLNBR,BTLNBR_FLAG_W,DATE,TIME,LATITUDE,LONGITUDE,DEPTH,CTDPRS,CTDPRS_FLAG_W,CTDTMP,CTDTMP_FLAG_W,SBE35,SBE35_FLAG_W,CTDSAL,CTDSAL_FLAG_W,SALNTY,SALNTY_FLAG_W,DNSSAL,DNSSAL_FLAG_W,CTDOXY,CTDOXY_FLAG_W,OXYGEN,OXYGEN_FLAG_W,XMISS,XMISSCP,XMISS_FLAG_W,FLUOR,FLUOR_FLAG_W,CHLORA,CHLORA_FLAG_W,CDOM,CDOM_FLAG_W,PAR,PAR_FLAG_W,SILCAT,SILCAT_FLAG_W,SILUNC,NITRAT,NITRAT_FLAG_W,NRAUNC,NITRIT,NITRIT_FLAG_W,NRIUNC,PHSPHT,PHSPHT_FLAG_W,PHPUNC,AMMONIA,AMMONIA_FLAG_W,NH4UNC,CFC-11,CFC-11_FLAG_W,CFC-12,CFC-12_FLAG_W,CFC113,CFC113_FLAG_W,SF6,SF6_FLAG_W,TCARBN,TCARBN_FLAG_W,ALKALI,ALKALI_FLAG_W,ALKALI_POT,ALKALI_POT_FLAG_W,PH_TOT,PH_TMP,PH_TOT_FLAG_W,CALCIUM,CALCIUM_FLAG_W,DOC,DOC_FLAG_W,DELC13,DELC13_FLAG_W,C13ERR,DELC14,DELC14_FLAG_W,C14ERR,CS-134,CS-134_FLAG_W,CS134ER,CS-137,CS-137_FLAG_W,CS137ER,I-129,I-129_FLAG_W,I-129ER,CDOM-325,CDOM-325_FLAG_W,CDOM-370,CDOM-370_FLAG_W,CDOM-443,CDOM-443_FLAG_W
,,,,,,,,UTC,DEG,DEG,METERS,DBAR,,ITS-90,,ITS-90,,PSS-78,,PSS-78,,G/KG,,UMOL/KG,,UMOL/KG,,%TRANS,/METER,,MG/CUM,,MG/CUM,,MG/CUM,,UE/SQM/S,,UMOL/KG,,UMOL/KG,UMOL/KG,,UMOL/KG,UMOL/KG,,UMOL/KG,UMOL/KG,,UMOL/KG,UMOL/KG,,UMOL/KG,PMOL/KG,,PMOL/KG,,PMOL/KG,,FMOL/KG,,UMOL/KG,,UMOL/KG,,UMOL/KG,,,DEG C,,MMOL/KG,,UMOL/KG,,/MILLE,,/MILLE,/MILLE,,/MILLE,MBQ/KG,,MBQ/KG,MBQ/KG,,MBQ/KG,,,,/METER,,/METER,,/METER,
  49NZ20140717,   P01,    57,  1,      0,   -999,9,20140722,1851, 40.3250, 148.8705, 5458,   -999.0,9,-999.0000,9,-999.00000,9,-999.0000,9,  33.0288,2,-999.0000,9,  -999.00,9,  -999.00,9, -999.000,-999.0000,9, -999.000,9,  -999.00,9, -999.000,9, -999.000,9,     0.69,2,     0.15,     0.05,2,     0.02,    -0.01,2,     0.01,     0.12,2,     0.01,  -999.00,9,  -999.00, -999.000,9, -999.000,9, -999.000,9, -999.000,9,   -999.0,9,   -999.0,9,   -999.0,9,-999.0000,     -999,9, -999.000,9,  -999.00,9, -999.000,9, -999.000,   -999.0,9,   -999.0, -999.000,9, -999.000, -999.000,9, -999.000,   -999.0,9,   -999.0, -999.000,9, -999.000,9, -999.000,9
  49NZ20140717,   P01,    57,  1,     36, X12J36,2,20140722,1851, 40.3250, 148.8705, 5458,     10.6,2,  19.4266,2,  19.42915,2,  33.0371,2,  33.0583,2,-999.0000,9,   240.32,2,   241.96,2,   97.688,   0.0936,2,    0.184,2,  -999.00,9,    0.674,1,   54.024,2,     0.61,2,     0.16,     0.03,2,     0.02,    -0.01,2,     0.01,     0.08,2,     0.01,  -999.00,9,  -999.00,    2.353,2,    1.452,2,    0.251,2,    1.750,2,   -999.0,9,   -999.0,9,   -999.0,9,-999.0000,     -999,9, -999.000,9,  -999.00,9, -999.000,9, -999.000,   -999.0,9,   -999.0, -999.000,9, -999.000, -999.000,9, -999.000,   -999.0,9,   -999.0, -999.000,9, -999.000,9, -999.000,9
  49NZ20140717,   P01,    57,  1,     35, X12J35,2,20140722,1851, 40.3250, 148.8705, 5458,     49.9,2,   6.1049,2,   6.10026,2,  33.3405,2,  33.3349,2,-999.0000,9,   272.71,2,   274.01,2,   97.802,   0.0889,2,    0.323,2,  -999.00,9,    1.571,1,    1.257,2,    18.93,2,     0.09,    15.57,2,     0.03,     0.26,2,     0.01,     1.35,2,     0.01,  -999.00,9,  -999.00,    4.352,2,    2.501,2,    0.357,2,    2.570,2,   -999.0,9,   -999.0,9,   -999.0,9,-999.0000,     -999,9, -999.000,9,  -999.00,9, -999.000,9, -999.000,   -999.0,9,   -999.0, -999.000,9, -999.000, -999.000,9, -999.000,   -999.0,9,   -999.0, -999.000,9, -999.000,9, -999.000,9
  49NZ20140717,   P01,    57,  1,     34, X12J34,2,20140722,1851, 40.3250, 148.8705, 5458,    100.6,2,   3.9524,2,   3.95157,2,  33.3137,2,  33.3141,2,-999.0000,9,   286.21,2,   286.08,2,   99.493,   0.0203,2,    0.054,2,  -999.00,9,    1.547,1,    0.034,2,    31.41,2,     0.10,    20.09,2,     0.03,     0.01,2,     0.01,     1.59,2,     0.01,  -999.00,9,  -999.00,    4.697,2,    2.683,2,    0.406,2,    2.910,2,   -999.0,9,   -999.0,9,   -999.0,9,-999.0000,     -999,9, -999.000,9,  -999.00,9, -999.000,9, -999.000,   -999.0,9,   -999.0, -999.000,9, -999.000, -999.000,9, -999.000,   -999.0,9,   -999.0, -999.000,9, -999.000,9, -999.000,9
  49NZ20140717,   P01,    57,  1,     33, X12J33,2,20140722,1851, 40.3250, 148.8705, 5458,    150.9,2,   3.8689,2,   3.87291,2,  33.4214,2,  33.4179,2,-999.0000,9,   265.84,2,   265.37,2,   99.461,   0.0216,2,    0.015,2,  -999.00,9,    1.637,1,    0.000,2,    38.61,2,     0.10,    21.84,2,     0.03,     0.00,2,     0.01,     1.70,2,     0.01,  -999.00,9,  -999.00,    4.453,2,    2.531,2,    0.359,2,    2.620,2,   -999.0,9,   -999.0,9,   -999.0,9,-999.0000,     -999,9, -999.000,9,  -999.00,9, -999.000,9, -999.000,   -999.0,9,   -999.0, -999.000,9, -999.000, -999.000,9, -999.000,   -999.0,9,   -999.0, -999.000,9, -999.000,9, -999.000,9
  49NZ20140717,   P01,    57,  1,     32, X12J32,2,20140722,1851, 40.3250, 148.8705, 5458,    202.0,2,   2.4202,2,   2.42039,2,  33.4024,2,  33.4041,2,-999.0000,9,   229.39,2,   228.61,2,   99.346,   0.0262,2,    0.012,2,  -999.00,9,    1.848,1,    0.000,2,    55.11,2,     0.11,    27.88,2,     0.04,     0.00,2,     0.01,     2.15,2,     0.01,  -999.00,9,  -999.00,    4.380,2,    2.459,2,    0.343,2,    2.550,2,   -999.0,9,   -999.0,9,   -999.0,9,-999.0000,     -999,9, -999.000,9,  -999.00,9, -999.000,9, -999.000,   -999.0,9,   -999.0, -999.000,9, -999.000, -999.000,9, -999.000,   -999.0,9,   -999.0, -999.000,9, -999.000,9, -999.000,9
  49NZ20140717,   P01,    57,  1,     31, X12J31,2,20140722,1851, 40.3250, 148.8705, 5458,    251.3,2,   3.0248,2,   3.02581,2,  33.5839,2,  33.5854,2,-999.0000,9,   183.36,2,   182.34,2,   99.506,   0.0198,2,    0.005,2,  -999.00,9,    2.010,1,    0.000,2,    64.76,2,     0.12,    31.18,2,     0.04,     0.00,2,     0.01,     2.35,2,     0.01,  -999.00,9,  -999.00,    3.764,2,    2.109,2,    0.279,2,    1.920,2,   -999.0,9,   -999.0,9,   -999.0,9,-999.0000,     -999,9, -999.000,9,  -999.00,9, -999.000,9, -999.000,   -999.0,9,   -999.0, -999.000,9, -999.000, -999.000,9, -999.000,   -999.0,9,   -999.0, -999.000,9, -999.000,9, -999.000,9
  49NZ20140717,   P01,    57,  1,     30, X12J30,2,20140722,1851, 40.3250, 148.8705, 5458,    299.3,2,   2.7818,2,   2.78239,2,  33.6394,2,  33.6418,2,-999.0000,9,   160.65,2,   160.45,2,   99.592,   0.0163,2,    0.006,2,  -999.00,9,    2.166,1,    0.000,2,    72.16,2,     0.12,    33.29,2,     0.04,     0.00,2,     0.01,     2.50,2,     0.01,  -999.00,9,  -999.00,    3.551,2,    1.955,2,    0.264,2,    1.730,2,   -999.0,9,   -999.0,9,   -999.0,9,-999.0000,     -999,9, -999.000,9,  -999.00,9, -999.000,9, -999.000,   -999.0,9,   -999.0, -999.000,9, -999.000, -999.000,9, -999.000,   -999.0,9,   -999.0, -999.000,9, -999.000,9, -999.000,9
  49NZ20140717,   P01,    57,  1,     29, X12J29,2,20140722,1851, 40.3250, 148.8705, 5458,    400.5,2,   3.5982,2,   3.59750,2,  33.8900,2,  33.8879,2,-999.0000,9,    98.69,2,    99.36,2,   99.782,   0.0087,2,    0.006,2,  -999.00,9,    2.222,1,    0.000,2,    88.74,2,     0.13,    37.53,2,     0.05,     0.00,2,     0.01,     2.74,2,     0.01,  -999.00,9,  -999.00,    2.404,2,    1.289,2,    0.170,2,    0.980,2,   -999.0,9,   -999.0,9,   -999.0,9,-999.0000,     -999,9, -999.000,9,  -999.00,9, -999.000,9, -999.000,   -999.0,9,   -999.0, -999.000,9, -999.000, -999.000,9, -999.000,   -999.0,9,   -999.0, -999.000,9, -999.000,9, -999.000,9
  49NZ20140717,   P01,    57,  1,     28, X12J28,2,20140722,1851, 40.3250, 148.8705, 5458,    498.5,2,   4.0040,2,   4.00043,2,  34.0889,2,  34.0867,2,-999.0000,9,    65.51,2,    65.35,2,   99.871,   0.0052,2,    0.006,2,  -999.00,9,    2.257,1,    0.000,2,   100.84,2,     0.14,    39.51,2,     0.05,    -0.01,2,     0.01,     2.85,2,     0.01,  -999.00,9,  -999.00,    1.453,2,    0.766,2,    0.091,2,    0.490,2,   -999.0,9,   -999.0,9,   -999.0,9,-999.0000,     -999,9, -999.000,9,  -999.00,9, -999.000,9, -999.000,   -999.0,9,   -999.0, -999.000,9, -999.000, -999.000,9, -999.000,   -999.0,9,   -999.0, -999.000,9, -999.000,9, -999.000,9
  49NZ20140717,   P01,    57,  1,     27, X12J27,2,20140722,1851, 40.3250, 148.8705, 5458,    599.1,2,   4.0746,2,   4.07432,2,  34.2249,2,  34.2246,2,-999.0000,9,    54.30,2,    54.80,2,   99.918,   0.0033,2,    0.005,2,  -999.00,9,    2.273,1,    0.000,2,   108.61,2,     0.14,    40.02,2,     0.05,    -0.01,2,     0.01,     2.88,2,     0.01,  -999.00,9,  -999.00,    0.787,2,    0.420,2,    0.036,2,    0.200,2,   -999.0,9,   -999.0,9,   -999.0,9,-999.0000,     -999,9, -999.000,9,  -999.00,9, -999.000,9, -999.000,   -999.0,9,   -999.0, -999.000,9, -999.000, -999.000,9, -999.000,   -999.0,9,   -999.0, -999.000,9, -999.000,9, -999.000,9
  49NZ20140717,   P01,    57,  1,     26, X12J26,2,20140722,1851, 40.3250, 148.8705, 5458,    700.6,2,   3.7270,2,   3.72660,2,  34.2836,2,  34.2836,2,-999.0000,9,    46.62,2,    47.10,2,   99.892,   0.0043,2,    0.005,2,  -999.00,9,    2.357,1,    0.000,2,   118.78,2,     0.15,    41.05,2,     0.05,    -0.01,2,     0.01,     2.95,2,     0.01,  -999.00,9,  -999.00,    0.532,2,    0.290,2,    0.025,2,    0.110,2,   -999.0,9,   -999.0,9,   -999.0,9,-999.0000,     -999,9, -999.000,9,  -999.00,9, -999.000,9, -999.000,   -999.0,9,   -999.0, -999.000,9, -999.000, -999.000,9, -999.000,   -999.0,9,   -999.0, -999.000,9, -999.000,9, -999.000,9
  49NZ20140717,   P01,    57,  1,     25, X12J25,2,20140722,1851, 40.3250, 148.8705, 5458,    799.6,2,   3.4418,2,   3.44152,2,  34.3336,2,  34.3332,2,-999.0000,9,    43.16,2,    43.50,2,   99.905,   0.0038,2,    0.005,2,  -999.00,9,    2.350,1,    0.000,2,   126.66,2,     0.15,    41.60,2,     0.05,    -0.01,2,     0.01,     2.99,2,     0.01,  -999.00,9,  -999.00,    0.358,2,    0.205,2,    0.016,2,    0.090,2,   -999.0,9,   -999.0,9,   -999.0,9,-999.0000,     -999,9, -999.000,9,  -999.00,9, -999.000,9, -999.000,   -999.0,9,   -999.0, -999.000,9, -999.000, -999.000,9, -999.000,   -999.0,9,   -999.0, -999.000,9, -999.000,9, -999.000,9
  49NZ20140717,   P01,    57,  1,     24, X12J24,2,20140722,1851, 40.3250, 148.8705, 5458,    900.5,2,   3.0937,2,   3.09318,2,  34.3569,2,  34.3564,2,-999.0000,9,    36.30,2,    36.50,2,   99.888,   0.0045,2,    0.005,2,  -999.00,9,    2.472,1,    0.000,2,   136.47,2,     0.16,    42.51,2,     0.05,    -0.01,2,     0.01,     3.05,2,     0.01,  -999.00,9,  -999.00,    0.292,2,    0.166,2,    0.015,2,    0.050,2,   -999.0,9,   -999.0,9,   -999.0,9,-999.0000,     -999,9, -999.000,9,  -999.00,9, -999.000,9, -999.000,   -999.0,9,   -999.0, -999.000,9, -999.000, -999.000,9, -999.000,   -999.0,9,   -999.0, -999.000,9, -999.000,9, -999.000,9
  49NZ20140717,   P01,    57,  1,     23, X12J23,2,20140722,1851, 40.3250, 148.8705, 5458,    999.3,2,   2.8935,2,   2.89342,2,  34.4010,2,  34.4016,2,-999.0000,9,    36.77,2,    37.03,2,   99.875,   0.0050,2,    0.005,2,  -999.00,9,    2.433,1,    0.000,2,   142.60,2,     0.16,    42.70,2,     0.05,    -0.01,2,     0.01,     3.06,2,     0.01,  -999.00,9,  -999.00,    0.190,2,    0.110,2,    0.010,2,    0.030,2,   -999.0,9,   -999.0,9,   -999.0,9,-999.0000,     -999,9, -999.000,9,  -999.00,9, -999.000,9, -999.000,   -999.0,9,   -999.0, -999.000,9, -999.000, -999.000,9, -999.000,   -999.0,9,   -999.0, -999.000,9, -999.000,9, -999.000,9
  49NZ20140717,   P01,    57,  1,     22, X12J22,2,20140722,1851, 40.3250, 148.8705, 5458,   1198.8,2,   2.5690,2,   2.56859,2,  34.4615,2,  34.4619,2,-999.0000,9,    39.66,2,    39.69,2,   99.888,   0.0045,2,    0.004,2,  -999.00,9,    2.435,1,    0.000,2,   152.00,2,     0.17,    42.81,2,     0.05,    -0.01,2,     0.01,     3.06,2,     0.01,  -999.00,9,  -999.00,    0.107,2,    0.064,2,    0.007,2,    0.030,2,   -999.0,9,   -999.0,9,   -999.0,9,-999.0000,     -999,9, -999.000,9,  -999.00,9, -999.000,9, -999.000,   -999.0,9,   -999.0, -999.000,9, -999.000, -999.000,9, -999.000,   -999.0,9,   -999.0, -999.000,9, -999.000,9, -999.000,9
  49NZ20140717,   P01,    57,  1,     21, X12J21,2,20140722,1851, 40.3250, 148.8705, 5458,   1400.6,2,   2.3521,2,   2.35080,2,  34.5089,2,  34.5092,2,-999.0000,9,    44.79,2,    44.80,2,   99.920,   0.0032,2,    0.003,2,  -999.00,9,    2.451,1,    0.000,2,   157.67,2,     0.17,    42.72,2,     0.05,    -0.01,2,     0.01,     3.04,2,     0.01,  -999.00,9,  -999.00,    0.044,2,    0.026,2,    0.003,2,    0.020,2,   -999.0,9,   -999.0,9,   -999.0,9,-999.0000,     -999,9, -999.000,9,  -999.00,9, -999.000,9, -999.000,   -999.0,9,   -999.0, -999.000,9, -999.000, -999.000,9, -999.000,   -999.0,9,   -999.0, -999.000,9, -999.000,9, -999.000,9
  49NZ20140717,   P01,    57,  1,     20, X12J20,2,20140722,1851, 40.3250, 148.8705, 5458,   1600.5,2,   2.1823,2,   2.18164,2,  34.5469,2,  34.5473,2,-999.0000,9,    53.93,2,    54.10,2,   99.940,   0.0024,2,    0.003,2,  -999.00,9,    2.411,1,    0.000,2,   160.59,2,     0.17,    42.31,2,     0.05,    -0.01,2,     0.01,     3.00,2,     0.01,  -999.00,9,  -999.00,    0.022,2,    0.013,2,    0.003,2,    0.030,2,   -999.0,9,   -999.0,9,   -999.0,9,-999.0000,     -999,9, -999.000,9,  -999.00,9, -999.000,9, -999.000,   -999.0,9,   -999.0, -999.000,9, -999.000, -999.000,9, -999.000,   -999.0,9,   -999.0, -999.000,9, -999.000,9, -999.000,9
  49NZ20140717,   P01,    57,  1,     19, X12J19,2,20140722,1851, 40.3250, 148.8705, 5458,   1800.3,2,   2.0259,2,   2.02643,2,  34.5762,2,  34.5762,2,-999.0000,9,    65.91,2,    66.09,2,   99.883,   0.0047,2,    0.002,2,  -999.00,9,    2.389,1,    0.000,2,   162.40,2,     0.18,    41.58,2,     0.05,    -0.01,2,     0.01,     2.94,2,     0.01,  -999.00,9,  -999.00,    0.011,2,    0.007,2,    0.000,2,    0.050,2,   -999.0,9,   -999.0,9,   -999.0,9,-999.0000,     -999,9, -999.000,9,  -999.00,9, -999.000,9, -999.000,   -999.0,9,   -999.0, -999.000,9, -999.000, -999.000,9, -999.000,   -999.0,9,   -999.0, -999.000,9, -999.000,9, -999.000,9
  49NZ20140717,   P01,    57,  1,     18, X12J18,2,20140722,1851, 40.3250, 148.8705, 5458,   2000.0,2,   1.8899,2,   1.88980,2,  34.6016,2,  34.6021,2,-999.0000,9,    79.25,2,    79.40,2,   99.918,   0.0033,2,    0.001,2,  -999.00,9,    2.293,1,    0.000,2,   162.71,2,     0.18,    40.82,2,     0.05,    -0.01,2,     0.01,     2.88,2,     0.01,  -999.00,9,  -999.00,    0.006,2,    0.003,2,    0.000,2,    0.060,2,   -999.0,9,   -999.0,9,   -999.0,9,-999.0000,     -999,9, -999.000,9,  -999.00,9, -999.000,9, -999.000,   -999.0,9,   -999.0, -999.000,9, -999.000, -999.000,9, -999.000,   -999.0,9,   -999.0, -999.000,9, -999.000,9, -999.000,9
  49NZ20140717,   P01,    57,  1,     17, X12J17,2,20140722,1851, 40.3250, 148.8705, 5458,   2200.5,2,   1.7868,2,   1.78675,2,  34.6202,2,  34.6208,2,-999.0000,9,    91.21,2,    91.38,2,   99.957,   0.0017,2,    0.000,2,  -999.00,9,    2.264,1,    0.000,2,   161.91,2,     0.18,    40.09,2,     0.05,    -0.01,2,     0.01,     2.82,2,     0.01,  -999.00,9,  -999.00,    0.000,2,    0.000,2,    0.000,2,    0.060,2,   -999.0,9,   -999.0,9,   -999.0,9,-999.0000,     -999,9, -999.000,9,  -999.00,9, -999.000,9, -999.000,   -999.0,9,   -999.0, -999.000,9, -999.000, -999.000,9, -999.000,   -999.0,9,   -999.0, -999.000,9, -999.000,9, -999.000,9
  49NZ20140717,   P01,    57,  1,     16, X12J16,2,20140722,1851, 40.3250, 148.8705, 5458,   5499.4,2,   1.5610,2,   1.56095,2,  34.6909,2,  34.6906,2,-999.0000,9,   160.54,2,   160.60,2,   99.480,   0.0208,2,   -0.004,2,  -999.00,9,  497.217,4,    0.000,2,  -999.00,9,  -999.00,  -999.00,9,  -999.00,  -999.00,9,  -999.00,  -999.00,9,  -999.00,  -999.00,9,  -999.00, -999.000,9, -999.000,9, -999.000,9, -999.000,9,   -999.0,9,   -999.0,9,   -999.0,9,-999.0000,     -999,9, -999.000,9,  -999.00,9, -999.000,9, -999.000,   -999.0,9,   -999.0, -999.000,9, -999.000, -999.000,9, -999.000,   -999.0,9,   -999.0, -999.000,9, -999.000,9, -999.000,9
  49NZ20140717,   P01,    57,  1,     15, X12J15,2,20140722,1851, 40.3250, 148.8705, 5458,   2599.5,2,   1.6469,2,   1.64707,2,  34.6450,2,  34.6450,2,-999.0000,9,   110.44,2,   110.26,2,   99.963,   0.0015,2,   -0.001,2,  -999.00,9,    2.229,1,    0.000,2,   159.78,2,     0.17,    38.87,2,     0.05,    -0.01,2,     0.01,     2.73,2,     0.01,  -999.00,9,  -999.00,    0.000,2,    0.000,2,    0.000,2,    0.040,2,   -999.0,9,   -999.0,9,   -999.0,9,-999.0000,     -999,9, -999.000,9,  -999.00,9, -999.000,9, -999.000,   -999.0,9,   -999.0, -999.000,9, -999.000, -999.000,9, -999.000,   -999.0,9,   -999.0, -999.000,9, -999.000,9, -999.000,9
  49NZ20140717,   P01,    57,  1,     14, X12J14,2,20140722,1851, 40.3250, 148.8705, 5458,   2800.5,2,   1.5968,2,   1.59688,2,  34.6537,2,  34.6539,2,-999.0000,9,   118.21,2,   117.96,2,   99.963,   0.0015,2,   -0.002,2,  -999.00,9,    2.167,1,    0.000,2,   158.75,2,     0.17,    38.40,2,     0.05,    -0.01,2,     0.01,     2.69,2,     0.01,  -999.00,9,  -999.00,    0.000,2,    0.000,2,    0.002,2,    0.020,2,   -999.0,9,   -999.0,9,   -999.0,9,-999.0000,     -999,9, -999.000,9,  -999.00,9, -999.000,9, -999.000,   -999.0,9,   -999.0, -999.000,9, -999.000, -999.000,9, -999.000,   -999.0,9,   -999.0, -999.000,9, -999.000,9, -999.000,9
  49NZ20140717,   P01,    57,  1,     13, X12113,2,20140722,1851, 40.3250, 148.8705, 5458,   3000.2,2,   1.5556,2,   1.55550,2,  34.6612,2,  34.6611,2,-999.0000,9,   126.30,2,   118.24,3,   99.946,   0.0022,2,   -0.002,2,  -999.00,9,    2.156,1,    0.000,2,   156.20,2,     0.17,    37.75,2,     0.05,    -0.01,2,     0.01,     2.64,2,     0.01,  -999.00,9,  -999.00,    0.000,2,    0.000,2,    0.001,2,    0.000,2,   -999.0,9,   -999.0,9,   -999.0,9,-999.0000,     -999,9, -999.000,9,  -999.00,9, -999.000,9, -999.000,   -999.0,9,   -999.0, -999.000,9, -999.000, -999.000,9, -999.000,   -999.0,9,   -999.0, -999.000,9, -999.000,9, -999.000,9
  49NZ20140717,   P01,    57,  1,     12, X12J12,2,20140722,1851, 40.3250, 148.8705, 5458,   3249.0,2,   1.5229,2,   1.52305,2,  34.6678,2,  34.6679,2,-999.0000,9,   132.74,2,   132.41,2,   99.940,   0.0024,2,   -0.003,2,  -999.00,9,    2.169,1,    0.000,2,   154.96,2,     0.17,    37.35,2,     0.05,    -0.01,2,     0.01,     2.61,2,     0.01,  -999.00,9,  -999.00,    0.000,2,    0.000,2,    0.001,2,    0.000,2,   -999.0,9,   -999.0,9,   -999.0,9,-999.0000,     -999,9, -999.000,9,  -999.00,9, -999.000,9, -999.000,   -999.0,9,   -999.0, -999.000,9, -999.000, -999.000,9, -999.000,   -999.0,9,   -999.0, -999.000,9, -999.000,9, -999.000,9
  49NZ20140717,   P01,    57,  1,     11, X12J11,2,20140722,1851, 40.3250, 148.8705, 5458,   3500.4,2,   1.4988,2,   1.49888,2,  34.6734,2,  34.6735,2,-999.0000,9,   138.84,2,   138.68,2,   99.946,   0.0022,2,   -0.003,2,  -999.00,9,    2.075,1,    0.000,2,   153.53,2,     0.17,    36.95,2,     0.05,    -0.01,2,     0.01,     2.58,2,     0.01,  -999.00,9,  -999.00,    0.000,2,    0.000,2,    0.002,2,    0.000,2,   -999.0,9,   -999.0,9,   -999.0,9,-999.0000,     -999,9, -999.000,9,  -999.00,9, -999.000,9, -999.000,   -999.0,9,   -999.0, -999.000,9, -999.000, -999.000,9, -999.000,   -999.0,9,   -999.0, -999.000,9, -999.000,9, -999.000,9
  49NZ20140717,   P01,    57,  1,     10, X12J10,2,20140722,1851, 40.3250, 148.8705, 5458,   3750.4,2,   1.4822,2,   1.48226,2,  34.6778,2,  34.6779,2,-999.0000,9,   144.14,2,   143.76,2,   99.957,   0.0017,2,   -0.003,2,  -999.00,9,    2.121,1,    0.000,2,   152.31,2,     0.17,    36.62,2,     0.05,    -0.01,2,     0.01,     2.55,2,     0.01,  -999.00,9,  -999.00,    0.000,2,    0.000,2,    0.001,2,    0.000,2,   -999.0,9,   -999.0,9,   -999.0,9,-999.0000,     -999,9, -999.000,9,  -999.00,9, -999.000,9, -999.000,   -999.0,9,   -999.0, -999.000,9, -999.000, -999.000,9, -999.000,   -999.0,9,   -999.0, -999.000,9, -999.000,9, -999.000,9