BOTTLE,20230904JAMSTECRIGC
EXPOCODE,SECT,STNNBR,CASTNO,SAMPNO,BTLNBR,BTLNBR_FLAG_W,DATE,TIME,LATITUDE,LONGITUDE,DEPTH,CTDPRS,CTDPRS_FLAG_W,CTDTMP,CTDTMP_FLAG_W,SBE35,SBE35_FLAG_W,CTDSAL,CTDSAL_FLAG_W,SALNTY,SALNTY_FLAG_W,DNSSAL,DNSSAL_FLAG_W,CTDOXY,CTDOXY_FLAG_W,OXYGEN,OXYGEN_FLAG_W,XMISS,XMISSCP,XMISS_FLAG_W,FLUOR,FLUOR_FLAG_W,CHLORA,CHLORA_FLAG_W,CDOM,CDOM_FLAG_W,PAR,PAR_FLAG_W,SILCAT,SILCAT_FLAG_W,SILUNC,NITRAT,NITRAT_FLAG_W,NRAUNC,NITRIT,NITRIT_FLAG_W,NRIUNC,PHSPHT,PHSPHT_FLAG_W,PHPUNC,AMMONIA,AMMONIA_FLAG_W,NH4UNC,CFC-11,CFC-11_FLAG_W,CFC-12,CFC-12_FLAG_W,CFC113,CFC113_FLAG_W,SF6,SF6_FLAG_W,TCARBN,TCARBN_FLAG_W,ALKALI,ALKALI_FLAG_W,ALKALI_POT,ALKALI_POT_FLAG_W,PH_TOT,PH_TMP,PH_TOT_FLAG_W,CALCIUM,CALCIUM_FLAG_W,DOC,DOC_FLAG_W,DELC13,DELC13_FLAG_W,C13ERR,DELC14,DELC14_FLAG_W,C14ERR,CS-134,CS-134_FLAG_W,CS134ER,CS-137,CS-137_FLAG_W,CS137ER,I-129,I-129_FLAG_W,I-129ER,CDOM-325,CDOM-325_FLAG_W,CDOM-370,CDOM-370_FLAG_W,CDOM-443,CDOM-443_FLAG_W
,,,,,,,,UTC,DEG,DEG,METERS,DBAR,,ITS-90,,ITS-90,,PSS-78,,PSS-78,,G/KG,,UMOL/KG,,UMOL/KG,,%TRANS,/METER,,MG/CUM,,MG/CUM,,MG/CUM,,UE/SQM/S,,UMOL/KG,,UMOL/KG,UMOL/KG,,UMOL/KG,UMOL/KG,,UMOL/KG,UMOL/KG,,UMOL/KG,UMOL/KG,,UMOL/KG,PMOL/KG,,PMOL/KG,,PMOL/KG,,FMOL/KG,,UMOL/KG,,UMOL/KG,,UMOL/KG,,,DEG C,,MMOL/KG,,UMOL/KG,,/MILLE,,/MILLE,/MILLE,,/MILLE,MBQ/KG,,MBQ/KG,MBQ/KG,,MBQ/KG,,,,/METER,,/METER,,/METER,
  49NZ20140717,   P01,   132,  1,      0,   -999,9,20140818,1448, 47.0277,-140.2263, 4333,   -999.0,9,-999.0000,9,-999.00000,9,-999.0000,9,  32.3465,2,-999.0000,9,  -999.00,9,  -999.00,9, -999.000,-999.0000,9, -999.000,9,     0.19,2, -999.000,9, -999.000,9,     1.55,2,     0.11,     0.08,2,     0.02,     0.01,2,     0.01,     0.34,2,     0.01,  -999.00,9,  -999.00, -999.000,9, -999.000,9, -999.000,9, -999.000,9,   -999.0,9,   -999.0,9,   -999.0,9,-999.0000,     -999,9, -999.000,9,  -999.00,9, -999.000,9, -999.000,   -999.0,9,   -999.0, -999.000,9, -999.000, -999.000,9, -999.000,   -999.0,9,   -999.0,    0.170,2,    0.069,2,    0.028,2
  49NZ20140717,   P01,   132,  1,     36, X12J36,2,20140818,1448, 47.0277,-140.2263, 4333,     10.5,2,  16.8305,2,  16.85383,2,  32.3254,2,  32.3295,2,-999.0000,9,   255.01,2,   253.27,2,   96.791,   0.1305,2,    0.176,2,     0.18,2,   -1.001,1,   84.794,2,     1.38,2,     0.11,     0.05,2,     0.02,     0.01,2,     0.01,     0.34,2,     0.01,  -999.00,9,  -999.00,    2.580,2,    1.589,2,    0.326,2,    1.890,2,   1957.4,2,   2176.8,2,   -999.0,9,   7.9354,       25,6, -999.000,9,    63.60,2, -999.000,9, -999.000,   -999.0,9,   -999.0, -999.000,9, -999.000, -999.000,9, -999.000,   -999.0,9,   -999.0,    0.164,2,    0.062,2,    0.013,2
  49NZ20140717,   P01,   132,  1,     35, X12J35,2,20140818,1448, 47.0277,-140.2263, 4333,     50.1,2,  10.0295,2,  10.03016,2,  32.4853,2,  32.4900,2,-999.0000,9,   278.49,2,   277.46,2,   97.680,   0.0939,2,    0.413,2,     0.40,2,    0.471,1,    3.927,2,     6.19,2,     0.09,     4.94,2,     0.02,     0.50,2,     0.01,     0.78,2,     0.01,  -999.00,9,  -999.00,    3.503,2,    2.121,2,    0.321,2,    2.390,2,   2014.0,6,   2185.8,2,   -999.0,9,   7.8219,       25,2, -999.000,9,    56.40,2, -999.000,9, -999.000,   -999.0,9,   -999.0, -999.000,9, -999.000, -999.000,9, -999.000,   -999.0,9,   -999.0,    0.140,2,    0.056,2,    0.005,2
  49NZ20140717,   P01,   132,  1,     34, X12J34,2,20140818,1448, 47.0277,-140.2263, 4333,    100.6,2,   7.0558,2,   7.05650,2,  32.9605,2,  32.9588,2,-999.0000,9,   261.01,2,   259.97,2,   99.690,   0.0124,2,    0.086,2,     0.07,2,    0.649,1,    0.227,2,    19.58,2,     0.09,    16.22,2,     0.03,     0.02,2,     0.01,     1.34,2,     0.01,  -999.00,9,  -999.00,    3.919,2,    2.314,2,    0.313,2,    2.550,2,   2079.8,2,   2208.9,2,   -999.0,9,   7.7041,       25,2, -999.000,9,    48.65,2, -999.000,9, -999.000,   -999.0,9,   -999.0, -999.000,9, -999.000, -999.000,9, -999.000,   -999.0,9,   -999.0,    0.128,2,    0.055,2,    0.008,2
  49NZ20140717,   P01,   132,  1,     33, X12J33,2,20140818,1448, 47.0277,-140.2263, 4333,    150.0,2,   6.9595,2,   6.95958,2,  33.6275,2,  33.6119,2,-999.0000,9,   219.09,2,   219.48,2,   99.716,   0.0114,2,    0.014,2,     0.01,2,    1.255,1,    0.000,2,    29.21,2,     0.09,    20.97,2,     0.03,     0.01,2,     0.01,     1.55,2,     0.01,  -999.00,9,  -999.00,    3.635,2,    2.144,2,    0.267,2,    2.000,2,   2135.6,2,   2242.9,2,   -999.0,9,   7.6491,       25,6, -999.000,9,    48.42,2, -999.000,9, -999.000,   -999.0,9,   -999.0, -999.000,9, -999.000, -999.000,9, -999.000,   -999.0,9,   -999.0, -999.000,9, -999.000,9, -999.000,9
  49NZ20140717,   P01,   132,  1,     32, X12J32,2,20140818,1448, 47.0277,-140.2263, 4333,    201.9,2,   6.2218,2,   6.22357,2,  33.8098,2,  33.8105,2,-999.0000,9,   182.39,2,   181.40,2,   99.644,   0.0143,2,    0.014,2,     0.01,2,    1.846,1,    0.000,2,    43.41,2,     0.10,    26.46,2,     0.04,     0.01,2,     0.01,     1.91,2,     0.01,  -999.00,9,  -999.00,    3.403,2,    1.947,2,    0.225,2,    1.580,2,   2183.9,2,   2268.3,6,   -999.0,9,   7.5676,       25,2, -999.000,9,    47.79,2, -999.000,9, -999.000,   -999.0,9,   -999.0, -999.000,9, -999.000, -999.000,9, -999.000,   -999.0,9,   -999.0,    0.152,2,    0.068,2,    0.014,2
  49NZ20140717,   P01,   132,  1,     31, X12J31,2,20140818,1448, 47.0277,-140.2263, 4333,    251.7,2,   5.5367,2,   5.53555,2,  33.8240,2,  33.8237,2,-999.0000,9,   154.26,2,   153.86,2,   99.657,   0.0137,2,    0.016,2,     0.00,2,    2.174,1,    0.000,2,    53.95,2,     0.11,    30.25,2,     0.04,     0.01,2,     0.01,     2.18,2,     0.01,  -999.00,9,  -999.00,    3.211,2,    1.794,2,    0.208,2,    1.360,2,   2214.0,2,   2277.1,2,   -999.0,9,   7.5014,       25,2, -999.000,9,    44.88,2, -999.000,9, -999.000,   -999.0,9,   -999.0, -999.000,9, -999.000, -999.000,9, -999.000,   -999.0,9,   -999.0, -999.000,9, -999.000,9, -999.000,9
  49NZ20140717,   P01,   132,  1,     30, X12J30,2,20140818,1448, 47.0277,-140.2263, 4333,    299.7,2,   4.7889,2,   4.78930,2,  33.8268,2,  33.8263,2,-999.0000,9,   123.32,2,   123.14,2,   99.657,   0.0137,2,    0.016,2,  -999.00,9,    2.410,1,    0.000,2,    65.74,2,     0.12,    34.42,2,     0.05,     0.01,2,     0.01,     2.47,2,     0.01,  -999.00,9,  -999.00,    2.956,2,    1.632,2,    0.192,2,    1.190,2,   2247.2,2,   2282.7,2,   -999.0,9,   7.4237,       25,2, -999.000,9,    45.97,2, -999.000,9, -999.000,   -999.0,9,   -999.0, -999.000,9, -999.000, -999.000,9, -999.000,   -999.0,9,   -999.0,    0.234,2,    0.119,2,    0.055,2
  49NZ20140717,   P01,   132,  1,     29, X12J29,2,20140818,1448, 47.0277,-140.2263, 4333,    399.3,2,   4.4913,2,   4.49035,2,  33.9453,2,  33.9445,2,-999.0000,9,    73.21,2,    73.60,2,   99.839,   0.0064,2,    0.016,2,  -999.00,9,    2.682,1,    0.000,2,    81.51,2,     0.13,    39.10,2,     0.05,     0.01,2,     0.01,     2.77,2,     0.01,  -999.00,9,  -999.00,    2.122,2,    1.107,2,    0.125,2,    0.580,2,   2287.6,2,   2299.0,2,   -999.0,9,   7.3474,       25,2, -999.000,9,    42.22,2, -999.000,9, -999.000,   -999.0,9,   -999.0, -999.000,9, -999.000, -999.000,9, -999.000,   -999.0,9,   -999.0, -999.000,9, -999.000,9, -999.000,9
  49NZ20140717,   P01,   132,  1,     28, X12J28,2,20140818,1448, 47.0277,-140.2263, 4333,    499.3,2,   4.2873,2,   4.28708,2,  34.0559,2,  34.0547,2,-999.0000,9,    42.94,2,    43.49,2,   99.935,   0.0026,2,    0.018,2,  -999.00,9,    2.913,1,    0.000,2,    94.58,2,     0.13,    41.44,2,     0.05,     0.01,2,     0.01,     2.94,2,     0.01,  -999.00,9,  -999.00,    1.380,2,    0.702,2,    0.078,2,    0.310,2,   2316.0,2,   2316.2,2,   -999.0,9,   7.3118,       25,2, -999.000,9,    42.41,2, -999.000,9, -999.000,   -999.0,9,   -999.0, -999.000,9, -999.000, -999.000,9, -999.000,   -999.0,9,   -999.0,    0.216,2,    0.109,2,    0.048,2
  49NZ20140717,   P01,   132,  1,     27, X12J27,2,20140818,1448, 47.0277,-140.2263, 4333,    602.3,2,   3.9975,2,   3.99734,2,  34.1275,2,  34.1273,2,-999.0000,9,    34.48,2,    34.68,2,   99.954,   0.0018,2,    0.016,2,  -999.00,9,    2.929,1,    0.000,2,   105.97,2,     0.14,    42.25,2,     0.05,     0.01,2,     0.01,     3.01,2,     0.01,  -999.00,9,  -999.00,    0.951,2,    0.488,2,    0.052,2,    0.180,2,   2333.3,2,   2329.4,2,   -999.0,9,   7.3061,       25,2, -999.000,9,    41.59,2, -999.000,9, -999.000,   -999.0,9,   -999.0, -999.000,9, -999.000, -999.000,9, -999.000,   -999.0,9,   -999.0, -999.000,9, -999.000,9, -999.000,9
  49NZ20140717,   P01,   132,  1,     26, X12J26,2,20140818,1448, 47.0277,-140.2263, 4333,    701.8,2,   3.7139,2,   3.71362,2,  34.2026,2,  34.2018,2,-999.0000,9,    23.38,2,    23.38,2,   99.971,   0.0011,2,    0.016,2,  -999.00,9,    3.074,1,    0.000,2,   117.16,2,     0.15,    43.32,2,     0.05,     0.01,2,     0.01,     3.08,2,     0.01,  -999.00,9,  -999.00,    0.513,2,    0.274,2,    0.023,2,    0.080,2,   2349.7,6,   2343.8,2,   -999.0,9,   7.2975,       25,2, -999.000,9,    43.24,3, -999.000,9, -999.000,   -999.0,9,   -999.0, -999.000,9, -999.000, -999.000,9, -999.000,   -999.0,9,   -999.0, -999.000,9, -999.000,9, -999.000,9
  49NZ20140717,   P01,   132,  1,     25, X12J25,2,20140818,1448, 47.0277,-140.2263, 4333,    802.9,2,   3.4619,2,   3.46143,2,  34.2602,2,  34.2598,2,-999.0000,9,    20.20,2,    19.93,2,   99.956,   0.0017,2,    0.016,2,  -999.00,9,    3.129,1,    0.000,2,   126.36,2,     0.15,    43.68,2,     0.06,     0.01,2,     0.01,     3.12,2,     0.01,  -999.00,9,  -999.00,    0.312,2,    0.172,2,    0.015,2,    0.000,2,   2361.1,2,   2355.0,2,   -999.0,9,   7.2973,       25,2, -999.000,9,    40.55,2, -999.000,9, -999.000,   -999.0,9,   -999.0, -999.000,9, -999.000, -999.000,9, -999.000,   -999.0,9,   -999.0,    0.232,2,    0.120,2,    0.054,2
  49NZ20140717,   P01,   132,  1,     24, X12J24,2,20140818,1448, 47.0277,-140.2263, 4333,    903.1,2,   3.2581,2,   3.25828,2,  34.3076,2,  34.3070,2,-999.0000,9,    16.21,2,    15.69,2,   99.928,   0.0029,2,    0.016,2,  -999.00,9,    3.179,1,    0.000,2,   133.86,2,     0.16,    44.15,2,     0.06,     0.01,2,     0.01,     3.16,2,     0.01,  -999.00,9,  -999.00,    0.153,2,    0.089,2,    0.004,2,    0.000,2,   2371.0,2,   2363.8,2,   -999.0,9,   7.2970,       25,2, -999.000,9,    41.50,2, -999.000,9, -999.000,   -999.0,9,   -999.0, -999.000,9, -999.000, -999.000,9, -999.000,   -999.0,9,   -999.0, -999.000,9, -999.000,9, -999.000,9
  49NZ20140717,   P01,   132,  1,     23, X12J23,2,20140818,1448, 47.0277,-140.2263, 4333,    998.6,2,   3.0661,2,   3.06624,2,  34.3510,2,  34.3497,2,-999.0000,9,    14.26,2,    13.55,2,   99.950,   0.0020,2,    0.015,2,  -999.00,9,    3.227,1,    0.000,2,   140.51,2,     0.16,    44.44,2,     0.06,     0.01,2,     0.01,     3.17,2,     0.01,  -999.00,9,  -999.00,    0.079,2,    0.047,2,    0.004,2,    0.000,2,   2378.6,2,   2373.4,2,   -999.0,9,   7.2970,       25,2, -999.000,9,    39.85,2, -999.000,9, -999.000,   -999.0,9,   -999.0, -999.000,9, -999.000, -999.000,9, -999.000,   -999.0,9,   -999.0,    0.225,2,    0.120,2,    0.055,2
  49NZ20140717,   P01,   132,  1,     22, X12J22,2,20140818,1448, 47.0277,-140.2263, 4333,   1203.7,2,   2.7860,2,   2.78590,2,  34.4211,2,  34.4205,2,-999.0000,9,    12.23,2,    11.14,2,   99.943,   0.0023,2,    0.015,2,  -999.00,9,    3.316,1,    0.000,2,   151.09,2,     0.17,    44.85,2,     0.06,     0.01,2,     0.01,     3.20,2,     0.01,  -999.00,9,  -999.00,    0.013,2,    0.008,2,    0.000,2,    0.000,2,   2391.2,2,   2387.8,6,   -999.0,9,   7.3007,       25,2, -999.000,9,    39.73,2, -999.000,9, -999.000,   -999.0,9,   -999.0, -999.000,9, -999.000, -999.000,9, -999.000,   -999.0,9,   -999.0, -999.000,9, -999.000,9, -999.000,9
  49NZ20140717,   P01,   132,  1,     21, X12J21,2,20140818,1448, 47.0277,-140.2263, 4333,   1400.2,2,   2.5585,2,   2.55835,2,  34.4787,2,  34.4789,2,-999.0000,9,    16.46,2,    15.63,2,   99.945,   0.0022,2,    0.014,2,  -999.00,9,    3.320,1,    0.000,2,   158.78,2,     0.17,    44.76,2,     0.06,     0.01,2,     0.01,     3.18,2,     0.01,  -999.00,9,  -999.00,    0.001,2,    0.001,2,    0.001,2,    0.000,2,   2397.1,2,   2397.5,2,   -999.0,9,   7.3149,       25,2, -999.000,9,    40.46,2, -999.000,9, -999.000,   -999.0,9,   -999.0, -999.000,9, -999.000, -999.000,9, -999.000,   -999.0,9,   -999.0, -999.000,9, -999.000,9, -999.000,9
  49NZ20140717,   P01,   132,  1,     20, X12J20,2,20140818,1448, 47.0277,-140.2263, 4333,   1600.1,2,   2.2971,2,   2.29704,2,  34.5242,2,  34.5244,2,-999.0000,9,    27.73,2,    27.04,2,   99.995,   0.0002,2,    0.012,2,  -999.00,9,    3.223,1,    0.000,2,   165.85,2,     0.18,    44.06,2,     0.06,     0.01,2,     0.01,     3.12,2,     0.01,  -999.00,9,  -999.00,    0.000,2,    0.001,2,    0.001,2,    0.000,2,   2397.2,2,   2406.6,2,   -999.0,9,   7.3389,       25,6, -999.000,9,  -999.00,9, -999.000,9, -999.000,   -999.0,9,   -999.0, -999.000,9, -999.000, -999.000,9, -999.000,   -999.0,9,   -999.0, -999.000,9, -999.000,9, -999.000,9
  49NZ20140717,   P01,   132,  1,     19, X12J19,2,20140818,1448, 47.0277,-140.2263, 4333,   1801.6,2,   2.0946,2,   2.09471,2,  34.5596,2,  34.5595,2,-999.0000,9,    40.78,2,    40.74,2,   99.965,   0.0014,2,    0.012,2,  -999.00,9,    3.181,1,    0.000,2,   170.56,2,     0.18,    43.28,2,     0.05,     0.01,2,     0.01,     3.06,2,     0.01,  -999.00,9,  -999.00,    0.000,2,    0.000,2,    0.002,2,    0.000,2,   2394.0,2,   2413.4,2,   -999.0,9,   7.3662,       25,2, -999.000,9,    36.71,2, -999.000,9, -999.000,   -999.0,9,   -999.0, -999.000,9, -999.000, -999.000,9, -999.000,   -999.0,9,   -999.0, -999.000,9, -999.000,9, -999.000,9
  49NZ20140717,   P01,   132,  1,     18, X12J18,2,20140818,1448, 47.0277,-140.2263, 4333,   2001.5,2,   1.9601,2,   1.95990,2,  34.5869,2,  34.5897,3,-999.0000,9,    53.65,2,    53.81,2,   99.956,   0.0017,2,    0.010,2,  -999.00,9,    3.195,1,    0.000,2,   173.76,2,     0.18,    42.59,2,     0.05,     0.01,2,     0.01,     3.01,2,     0.01,  -999.00,9,  -999.00,    0.000,2,    0.000,2,    0.000,2,    0.000,2,   2389.8,2,   2417.5,2,   -999.0,9,   7.3957,       25,2, -999.000,9,    37.67,2, -999.000,9, -999.000,   -999.0,9,   -999.0, -999.000,9, -999.000, -999.000,9, -999.000,   -999.0,9,   -999.0,    0.192,2,    0.101,2,    0.045,2
  49NZ20140717,   P01,   132,  1,     17, X12J17,2,20140818,1448, 47.0277,-140.2263, 4333,   2202.9,2,   1.8554,2,   1.85652,2,  34.6069,2,  34.6059,2,-999.0000,9,    65.09,2,    64.69,2,   99.963,   0.0015,2,    0.009,2,  -999.00,9,    3.114,1,    0.000,2,   174.93,2,     0.18,    41.92,2,     0.05,     0.01,2,     0.01,     2.96,2,     0.01,  -999.00,9,  -999.00,    0.000,2,    0.000,2,    0.000,2,    0.000,2,   2384.3,2,   2422.1,2,   -999.0,9,   7.4182,       25,2, -999.000,9,    38.70,2, -999.000,9, -999.000,   -999.0,9,   -999.0, -999.000,9, -999.000, -999.000,9, -999.000,   -999.0,9,   -999.0, -999.000,9, -999.000,9, -999.000,9
  49NZ20140717,   P01,   132,  1,     16, X12J16,2,20140818,1448, 47.0277,-140.2263, 4333,   2402.7,2,   1.7635,2,   1.76351,2,  34.6221,2,  34.6225,2,-999.0000,9,    76.69,2,    76.69,2,   99.998,   0.0001,2,    0.008,2,  -999.00,9,    3.045,1,    0.000,2,   174.61,2,     0.18,    41.06,2,     0.05,     0.01,2,     0.01,     2.89,2,     0.01,  -999.00,9,  -999.00,    0.000,2,    0.000,2,    0.000,2,    0.000,2,   2377.8,6,   2421.3,2,   -999.0,9,   7.4391,       25,2, -999.000,9,    39.45,2, -999.000,9, -999.000,   -999.0,9,   -999.0, -999.000,9, -999.000, -999.000,9, -999.000,   -999.0,9,   -999.0, -999.000,9, -999.000,9, -999.000,9
  49NZ20140717,   P01,   132,  1,     15, X12J15,2,20140818,1448, 47.0277,-140.2263, 4333,   2600.0,2,   1.6876,2,   1.68745,2,  34.6343,2,  34.6341,2,-999.0000,9,    87.31,2,    87.31,2,   99.989,   0.0004,2,    0.007,2,  -999.00,9,    2.968,1,    0.000,2,   173.73,2,     0.18,    40.40,2,     0.05,     0.01,2,     0.01,     2.85,2,     0.01,  -999.00,9,  -999.00,    0.000,2,    0.000,2,    0.000,2,    0.000,2,   2370.7,2,   2425.5,2,   -999.0,9,   7.4603,       25,2, -999.000,9,    39.17,2, -999.000,9, -999.000,   -999.0,9,   -999.0, -999.000,9, -999.000, -999.000,9, -999.000,   -999.0,9,   -999.0, -999.000,9, -999.000,9, -999.000,9
  49NZ20140717,   P01,   132,  1,     14, X12J14,2,20140818,1448, 47.0277,-140.2263, 4333,   2799.9,2,   1.6166,2,   1.61691,2,  34.6462,2,  34.6460,2,-999.0000,9,    99.31,2,    99.25,2,   99.969,   0.0012,2,    0.007,2,  -999.00,9,    2.875,1,    0.000,2,   172.58,2,     0.18,    39.65,2,     0.05,     0.01,2,     0.01,     2.78,2,     0.01,  -999.00,9,  -999.00,    0.001,2,    0.000,2,    0.000,2,    0.000,2,   2364.4,2,   2424.0,2,   -999.0,9,   7.4837,       25,6, -999.000,9,    40.54,2, -999.000,9, -999.000,   -999.0,9,   -999.0, -999.000,9, -999.000, -999.000,9, -999.000,   -999.0,9,   -999.0, -999.000,9, -999.000,9, -999.000,9
  49NZ20140717,   P01,   132,  1,     13, X12113,2,20140818,1448, 47.0277,-140.2263, 4333,   3000.5,2,   1.5625,2,   1.56261,2,  34.6564,2,  34.6561,2,-999.0000,9,   110.08,2,   110.02,2,   99.995,   0.0002,2,    0.006,2,  -999.00,9,    2.783,1,    0.000,2,   171.51,2,     0.18,    38.92,2,     0.05,     0.01,2,     0.01,     2.73,2,     0.01,  -999.00,9,  -999.00,    0.000,2,    0.000,2,    0.001,2,    0.000,2,   2357.3,2,   2425.9,2,   -999.0,9,   7.5037,       25,2, -999.000,9,    38.28,2, -999.000,9, -999.000,   -999.0,9,   -999.0, -999.000,9, -999.000, -999.000,9, -999.000,   -999.0,9,   -999.0,    0.182,2,    0.092,2,    0.040,2
  49NZ20140717,   P01,   132,  1,     12, X12J12,2,20140818,1448, 47.0277,-140.2263, 4333,   3250.8,2,   1.5231,2,   1.52310,2,  34.6651,2,  34.6647,2,-999.0000,9,   119.96,2,   119.92,2,   99.995,   0.0002,2,    0.005,2,  -999.00,9,    2.696,1,    0.000,2,   170.52,2,     0.18,    38.27,2,     0.05,     0.01,2,     0.01,     2.68,2,     0.01,  -999.00,9,  -999.00,    0.000,2,    0.000,2,    0.000,2,    0.000,2,   2352.6,2,   2425.9,6,   -999.0,9,   7.5233,       25,2, -999.000,9,    39.79,2, -999.000,9, -999.000,   -999.0,9,   -999.0, -999.000,9, -999.000, -999.000,9, -999.000,   -999.0,9,   -999.0, -999.000,9, -999.000,9, -999.000,9
  49NZ20140717,   P01,   132,  1,     11, X12J11,2,20140818,1448, 47.0277,-140.2263, 4333,   3500.2,2,   1.5024,2,   1.50244,2,  34.6715,2,  34.6710,2,-999.0000,9,   127.17,2,   127.16,2,   99.995,   0.0002,2,    0.005,2,  -999.00,9,    2.637,1,    0.000,2,   169.70,2,     0.18,    37.78,2,     0.05,     0.00,2,     0.01,     2.64,2,     0.01,  -999.00,9,  -999.00,    0.000,2,    0.000,2,    0.000,2,    0.000,2,   2346.9,2,   2423.7,2,   -999.0,9,   7.5379,       25,2, -999.000,9,    39.59,2, -999.000,9, -999.000,   -999.0,9,   -999.0, -999.000,9, -999.000, -999.000,9, -999.000,   -999.0,9,   -999.0, -999.000,9, -999.000,9, -999.000,9
  49NZ20140717,   P01,   132,  1,     10, X12J10,2,20140818,1448, 47.0277,-140.2263, 4333,   3749.9,2,   1.4958,2,   1.49586,2,  34.6763,2,  34.6760,2,-999.0000,9,   132.06,2,   132.15,2,   99.991,   0.0004,2,    0.004,2,  -999.00,9,    2.652,1,    0.000,2,   170.21,2,     0.18,    37.51,2,     0.05,     0.01,2,     0.01,     2.62,2,     0.01,  -999.00,9,  -999.00,    0.000,2,    0.000,2,    0.000,2,    0.000,2,   2345.1,2,   2425.9,2,   -999.0,9,   7.5492,       25,2, -999.000,9,    39.88,2, -999.000,9, -999.000,   -999.0,9,   -999.0, -999.000,9, -999.000, -999.000,9, -999.000,   -999.0,9,   -999.0, -999.000,9, -999.000,9, -999.000,9