BOTTLE,20230904JAMSTECRIGC
EXPOCODE,SECT,STNNBR,CASTNO,SAMPNO,BTLNBR,BTLNBR_FLAG_W,DATE,TIME,LATITUDE,LONGITUDE,DEPTH,CTDPRS,CTDPRS_FLAG_W,CTDTMP,CTDTMP_FLAG_W,SBE35,SBE35_FLAG_W,CTDSAL,CTDSAL_FLAG_W,SALNTY,SALNTY_FLAG_W,DNSSAL,DNSSAL_FLAG_W,CTDOXY,CTDOXY_FLAG_W,OXYGEN,OXYGEN_FLAG_W,XMISS,XMISSCP,XMISS_FLAG_W,FLUOR,FLUOR_FLAG_W,CHLORA,CHLORA_FLAG_W,CDOM,CDOM_FLAG_W,PAR,PAR_FLAG_W,SILCAT,SILCAT_FLAG_W,SILUNC,NITRAT,NITRAT_FLAG_W,NRAUNC,NITRIT,NITRIT_FLAG_W,NRIUNC,PHSPHT,PHSPHT_FLAG_W,PHPUNC,AMMONIA,AMMONIA_FLAG_W,NH4UNC,CFC-11,CFC-11_FLAG_W,CFC-12,CFC-12_FLAG_W,CFC113,CFC113_FLAG_W,SF6,SF6_FLAG_W,TCARBN,TCARBN_FLAG_W,ALKALI,ALKALI_FLAG_W,ALKALI_POT,ALKALI_POT_FLAG_W,PH_TOT,PH_TMP,PH_TOT_FLAG_W,CALCIUM,CALCIUM_FLAG_W,DOC,DOC_FLAG_W,DELC13,DELC13_FLAG_W,C13ERR,DELC14,DELC14_FLAG_W,C14ERR,CS-134,CS-134_FLAG_W,CS134ER,CS-137,CS-137_FLAG_W,CS137ER,I-129,I-129_FLAG_W,I-129ER,CDOM-325,CDOM-325_FLAG_W,CDOM-370,CDOM-370_FLAG_W,CDOM-443,CDOM-443_FLAG_W
,,,,,,,,UTC,DEG,DEG,METERS,DBAR,,ITS-90,,ITS-90,,PSS-78,,PSS-78,,G/KG,,UMOL/KG,,UMOL/KG,,%TRANS,/METER,,MG/CUM,,MG/CUM,,MG/CUM,,UE/SQM/S,,UMOL/KG,,UMOL/KG,UMOL/KG,,UMOL/KG,UMOL/KG,,UMOL/KG,UMOL/KG,,UMOL/KG,UMOL/KG,,UMOL/KG,PMOL/KG,,PMOL/KG,,PMOL/KG,,FMOL/KG,,UMOL/KG,,UMOL/KG,,UMOL/KG,,,DEG C,,MMOL/KG,,UMOL/KG,,/MILLE,,/MILLE,/MILLE,,/MILLE,MBQ/KG,,MBQ/KG,MBQ/KG,,MBQ/KG,,,,/METER,,/METER,,/METER,
  49NZ20140717,   P01,    66,  1,      0,   -999,9,20140725,0524, 43.5663, 154.1778, 5437,   -999.0,9,-999.0000,9,-999.00000,9,-999.0000,9,  32.6482,2,-999.0000,9,  -999.00,9,  -999.00,9, -999.000,-999.0000,9, -999.000,9,  -999.00,9, -999.000,9, -999.000,9,     6.47,2,     0.09,     4.61,2,     0.02,     0.09,2,     0.01,     0.67,2,     0.01,  -999.00,9,  -999.00, -999.000,9, -999.000,9, -999.000,9, -999.000,9,   -999.0,9,   -999.0,9,   -999.0,9,-999.0000,     -999,9, -999.000,9,  -999.00,9, -999.000,9, -999.000,   -999.0,9,   -999.0, -999.000,9, -999.000, -999.000,9, -999.000,   -999.0,9,   -999.0, -999.000,9, -999.000,9, -999.000,9
  49NZ20140717,   P01,    66,  1,     36, X12J36,2,20140725,0524, 43.5663, 154.1778, 5437,     10.4,2,  15.3226,2,  15.31561,2,  32.6892,2,  32.6875,2,-999.0000,9,   270.01,2,   270.96,2,   91.544,   0.3534,2,    0.596,2,  -999.00,9,    0.233,1,   37.475,2,     5.89,2,     0.09,     3.88,2,     0.01,     0.08,2,     0.01,     0.59,2,     0.01,  -999.00,9,  -999.00, -999.000,9, -999.000,9, -999.000,9, -999.000,9,   1985.7,2,   2217.5,2,   -999.0,9,   7.9616,       25,6, -999.000,9,    68.19,2, -999.000,9, -999.000,   -999.0,9,   -999.0, -999.000,9, -999.000, -999.000,9, -999.000,   -999.0,9,   -999.0, -999.000,9, -999.000,9, -999.000,9
  49NZ20140717,   P01,    66,  1,     35, X12J35,2,20140725,0524, 43.5663, 154.1778, 5437,     51.2,2,   3.6566,2,   3.68417,2,  33.0098,2,  33.0183,2,-999.0000,9,   317.91,2,   317.29,2,   97.983,   0.0815,2,    0.333,2,  -999.00,9,    1.226,1,    0.686,2,    24.66,2,     0.09,    17.99,2,     0.03,     0.41,2,     0.01,     1.62,2,     0.01,  -999.00,9,  -999.00, -999.000,9, -999.000,9, -999.000,9, -999.000,9,   2116.1,6,   2234.1,2,   -999.0,9,   7.6988,       25,2, -999.000,9,    52.95,2, -999.000,9, -999.000,   -999.0,9,   -999.0, -999.000,9, -999.000, -999.000,9, -999.000,   -999.0,9,   -999.0, -999.000,9, -999.000,9, -999.000,9
  49NZ20140717,   P01,    66,  1,     34, X12J34,2,20140725,0524, 43.5663, 154.1778, 5437,    101.1,2,   1.7304,2,   1.73062,2,  33.0968,2,  33.0984,2,-999.0000,9,   301.81,2,   301.59,2,   99.354,   0.0259,2,    0.052,2,  -999.00,9,    1.392,1,    0.002,2,    44.47,2,     0.10,    24.96,2,     0.04,     0.01,2,     0.01,     1.97,2,     0.01,  -999.00,9,  -999.00, -999.000,9, -999.000,9, -999.000,9, -999.000,9,   2156.6,2,   2240.7,2,   -999.0,9,   7.5942,       25,2, -999.000,9,    51.72,2, -999.000,9, -999.000,   -999.0,9,   -999.0, -999.000,9, -999.000, -999.000,9, -999.000,   -999.0,9,   -999.0, -999.000,9, -999.000,9, -999.000,9
  49NZ20140717,   P01,    66,  1,     33, X12J33,2,20140725,0524, 43.5663, 154.1778, 5437,    150.1,2,   2.4644,2,   2.46402,2,  33.4707,2,  33.4710,2,-999.0000,9,   195.65,2,   195.33,2,   99.335,   0.0267,2,    0.010,2,  -999.00,9,    2.060,1,    0.000,2,    65.28,2,     0.12,    31.75,2,     0.04,     0.00,2,     0.01,     2.39,2,     0.01,  -999.00,9,  -999.00, -999.000,9, -999.000,9, -999.000,9, -999.000,9,   2228.6,2,   2267.7,2,   -999.0,9,   7.4532,       25,2, -999.000,9,    47.16,2, -999.000,9, -999.000,   -999.0,9,   -999.0, -999.000,9, -999.000, -999.000,9, -999.000,   -999.0,9,   -999.0, -999.000,9, -999.000,9, -999.000,9
  49NZ20140717,   P01,    66,  1,     32, X12J32,2,20140725,0524, 43.5663, 154.1778, 5437,    201.1,2,   2.5473,2,   2.54750,2,  33.5858,2,  33.5840,2,-999.0000,9,   137.20,2,   137.34,2,   99.175,   0.0332,2,    0.010,2,  -999.00,9,    2.347,1,    0.000,2,    80.49,2,     0.12,    37.49,2,     0.05,     0.00,2,     0.01,     2.74,2,     0.01,  -999.00,9,  -999.00, -999.000,9, -999.000,9, -999.000,9, -999.000,9,   2272.5,2,   2279.4,6,   -999.0,9,   7.3541,       25,2, -999.000,9,    45.58,2, -999.000,9, -999.000,   -999.0,9,   -999.0, -999.000,9, -999.000, -999.000,9, -999.000,   -999.0,9,   -999.0, -999.000,9, -999.000,9, -999.000,9
  49NZ20140717,   P01,    66,  1,     31, X12J31,2,20140725,0524, 43.5663, 154.1778, 5437,    248.7,2,   2.7301,2,   2.73021,2,  33.6982,2,  33.6980,2,-999.0000,9,   103.94,2,   104.20,2,   99.335,   0.0267,2,    0.010,2,  -999.00,9,    2.558,1,    0.000,2,    88.94,2,     0.13,    39.56,2,     0.05,     0.00,2,     0.01,     2.87,2,     0.01,  -999.00,9,  -999.00, -999.000,9, -999.000,9, -999.000,9, -999.000,9,   2296.4,2,   2286.5,2,   -999.0,9,   7.3130,       25,2, -999.000,9,    44.24,2, -999.000,9, -999.000,   -999.0,9,   -999.0, -999.000,9, -999.000, -999.000,9, -999.000,   -999.0,9,   -999.0, -999.000,9, -999.000,9, -999.000,9
  49NZ20140717,   P01,    66,  1,     30, X12J30,2,20140725,0524, 43.5663, 154.1778, 5437,    300.1,2,   3.0268,2,   3.02641,2,  33.8221,2,  33.8217,2,-999.0000,9,    74.77,2,    74.87,2,   99.534,   0.0187,2,    0.010,2,  -999.00,9,    2.627,1,    0.000,2,    96.79,2,     0.13,    41.22,2,     0.05,     0.01,2,     0.01,     2.97,2,     0.01,  -999.00,9,  -999.00, -999.000,9, -999.000,9, -999.000,9, -999.000,9,   2315.3,2,   2300.2,2,   -999.0,9,   7.2892,       25,2, -999.000,9,    43.82,2, -999.000,9, -999.000,   -999.0,9,   -999.0, -999.000,9, -999.000, -999.000,9, -999.000,   -999.0,9,   -999.0, -999.000,9, -999.000,9, -999.000,9
  49NZ20140717,   P01,    66,  1,     29, X12J29,2,20140725,0524, 43.5663, 154.1778, 5437,    401.0,2,   3.2949,2,   3.29374,2,  33.9753,2,  33.9714,2,-999.0000,9,    59.09,2,    59.57,2,   99.640,   0.0144,2,    0.011,2,  -999.00,9,    2.768,1,    0.000,2,   105.78,2,     0.14,    41.39,2,     0.05,     0.00,2,     0.01,     2.98,2,     0.01,  -999.00,9,  -999.00, -999.000,9, -999.000,9, -999.000,9, -999.000,9,   2328.7,2,   2313.7,2,   -999.0,9,   7.3007,       25,2, -999.000,9,    42.80,2, -999.000,9, -999.000,   -999.0,9,   -999.0, -999.000,9, -999.000, -999.000,9, -999.000,   -999.0,9,   -999.0, -999.000,9, -999.000,9, -999.000,9
  49NZ20140717,   P01,    66,  1,     28, X12J28,2,20140725,0524, 43.5663, 154.1778, 5437,    501.4,2,   3.2284,2,   3.22845,2,  34.1021,2,  34.0998,2,-999.0000,9,    32.15,2,    33.40,2,   99.783,   0.0087,2,    0.011,2,  -999.00,9,    2.805,1,    0.000,2,   120.46,2,     0.15,    43.32,2,     0.05,     0.00,2,     0.01,     3.09,2,     0.01,  -999.00,9,  -999.00, -999.000,9, -999.000,9, -999.000,9, -999.000,9,   2352.9,2,   2333.6,2,   -999.0,9,   7.2785,       25,2, -999.000,9,    41.45,2, -999.000,9, -999.000,   -999.0,9,   -999.0, -999.000,9, -999.000, -999.000,9, -999.000,   -999.0,9,   -999.0, -999.000,9, -999.000,9, -999.000,9
  49NZ20140717,   P01,    66,  1,     27, X12J27,2,20140725,0524, 43.5663, 154.1778, 5437,    601.3,2,   3.1478,2,   3.14751,2,  34.2074,2,  34.2060,2,-999.0000,9,    30.80,2,    31.41,2,   99.805,   0.0078,2,    0.010,2,  -999.00,9,    2.864,1,    0.000,2,   129.49,2,     0.15,    43.14,2,     0.05,     0.00,2,     0.01,     3.09,2,     0.01,  -999.00,9,  -999.00, -999.000,9, -999.000,9, -999.000,9, -999.000,9,   2361.6,2,   2348.5,2,   -999.0,9,   7.2971,       25,2, -999.000,9,    42.72,2, -999.000,9, -999.000,   -999.0,9,   -999.0, -999.000,9, -999.000, -999.000,9, -999.000,   -999.0,9,   -999.0, -999.000,9, -999.000,9, -999.000,9
  49NZ20140717,   P01,    66,  1,     26, X12J26,2,20140725,0524, 43.5663, 154.1778, 5437,    699.5,2,   2.9592,2,   2.95886,2,  34.2590,2,  34.2586,2,-999.0000,9,    32.80,2,    32.95,2,   99.796,   0.0082,2,    0.009,2,  -999.00,9,    2.898,1,    0.000,2,   136.76,2,     0.16,    43.07,2,     0.05,     0.00,2,     0.01,     3.09,2,     0.01,  -999.00,9,  -999.00, -999.000,9, -999.000,9, -999.000,9, -999.000,9,   2367.7,6,   2355.3,2,   -999.0,9,   7.3085,       25,2, -999.000,9,    41.61,2, -999.000,9, -999.000,   -999.0,9,   -999.0, -999.000,9, -999.000, -999.000,9, -999.000,   -999.0,9,   -999.0, -999.000,9, -999.000,9, -999.000,9
  49NZ20140717,   P01,    66,  1,     25, X12J25,2,20140725,0524, 43.5663, 154.1778, 5437,    800.4,2,   3.0369,2,   3.03695,2,  34.3435,2,  34.3430,2,-999.0000,9,    34.30,2,    34.47,2,   99.829,   0.0069,2,    0.008,2,  -999.00,9,    2.861,1,    0.000,2,   138.01,2,     0.16,    42.66,2,     0.05,     0.00,2,     0.01,     3.06,2,     0.01,  -999.00,9,  -999.00, -999.000,9, -999.000,9, -999.000,9, -999.000,9,   2369.4,2,   2367.2,2,   -999.0,9,   7.3326,       25,2, -999.000,9,    41.72,2, -999.000,9, -999.000,   -999.0,9,   -999.0, -999.000,9, -999.000, -999.000,9, -999.000,   -999.0,9,   -999.0, -999.000,9, -999.000,9, -999.000,9
  49NZ20140717,   P01,    66,  1,     24, X12J24,2,20140725,0524, 43.5663, 154.1778, 5437,    901.3,2,   2.7835,2,   2.78342,2,  34.3716,2,  34.3701,2,-999.0000,9,    31.25,2,    31.12,2,   99.883,   0.0047,2,    0.008,2,  -999.00,9,    2.932,1,    0.000,2,   146.31,2,     0.17,    43.21,2,     0.05,     0.00,2,     0.01,     3.09,2,     0.01,  -999.00,9,  -999.00, -999.000,9, -999.000,9, -999.000,9, -999.000,9,   2378.0,2,   2374.7,2,   -999.0,9,   7.3263,       25,6, -999.000,9,    40.70,2, -999.000,9, -999.000,   -999.0,9,   -999.0, -999.000,9, -999.000, -999.000,9, -999.000,   -999.0,9,   -999.0, -999.000,9, -999.000,9, -999.000,9
  49NZ20140717,   P01,    66,  1,     23, X12J23,2,20140725,0524, 43.5663, 154.1778, 5437,   5250.2,2,   1.5453,2,   1.54535,2,  34.6897,2,  34.6894,2,-999.0000,9,   157.20,2,   157.20,2,   99.861,   0.0056,2,   -0.004,2,  -999.00,9,  497.217,4,    0.000,2,  -999.00,9,  -999.00,  -999.00,9,  -999.00,  -999.00,9,  -999.00,  -999.00,9,  -999.00,  -999.00,9,  -999.00, -999.000,9, -999.000,9, -999.000,9, -999.000,9,   -999.0,9,   -999.0,9,   -999.0,9,-999.0000,     -999,9, -999.000,9,  -999.00,9, -999.000,9, -999.000,   -999.0,9,   -999.0, -999.000,9, -999.000, -999.000,9, -999.000,   -999.0,9,   -999.0, -999.000,9, -999.000,9, -999.000,9
  49NZ20140717,   P01,    66,  1,     22, X12J22,2,20140725,0524, 43.5663, 154.1778, 5437,   1203.1,2,   2.4300,2,   2.42982,2,  34.4591,2,  34.4584,2,-999.0000,9,    37.33,2,    37.33,2,   99.879,   0.0049,2,    0.007,2,  -999.00,9,    2.873,1,    0.000,2,   157.53,2,     0.17,    43.00,2,     0.05,    -0.01,2,     0.01,     3.07,2,     0.01,  -999.00,9,  -999.00, -999.000,9, -999.000,9, -999.000,9, -999.000,9,   2386.9,2,   2393.3,6,   -999.0,9,   7.3475,       25,2, -999.000,9,    38.22,2, -999.000,9, -999.000,   -999.0,9,   -999.0, -999.000,9, -999.000, -999.000,9, -999.000,   -999.0,9,   -999.0, -999.000,9, -999.000,9, -999.000,9
  49NZ20140717,   P01,    66,  1,     21, X12J21,2,20140725,0524, 43.5663, 154.1778, 5437,   1400.6,2,   2.3025,2,   2.30271,2,  34.5157,2,  34.5155,2,-999.0000,9,    46.35,2,    46.31,2,   99.918,   0.0033,2,    0.006,2,  -999.00,9,    2.823,1,    0.000,2,   159.03,2,     0.17,    42.69,2,     0.05,    -0.01,2,     0.01,     3.03,2,     0.01,  -999.00,9,  -999.00, -999.000,9, -999.000,9, -999.000,9, -999.000,9,   2385.3,2,   2402.6,2,   -999.0,9,   7.3763,       25,2, -999.000,9,    40.25,3, -999.000,9, -999.000,   -999.0,9,   -999.0, -999.000,9, -999.000, -999.000,9, -999.000,   -999.0,9,   -999.0, -999.000,9, -999.000,9, -999.000,9
  49NZ20140717,   P01,    66,  1,     20, X12J20,2,20140725,0524, 43.5663, 154.1778, 5437,   1600.8,2,   2.1522,2,   2.15210,2,  34.5482,2,  34.5484,2,-999.0000,9,    54.86,2,    55.05,2,   99.918,   0.0033,2,    0.005,2,  -999.00,9,    2.838,1,    0.000,2,   161.76,2,     0.17,    42.22,2,     0.05,    -0.01,2,     0.01,     2.99,2,     0.01,  -999.00,9,  -999.00, -999.000,9, -999.000,9, -999.000,9, -999.000,9,   2384.4,2,   2402.8,2,   -999.0,9,   7.3948,       25,6, -999.000,9,    37.58,2, -999.000,9, -999.000,   -999.0,9,   -999.0, -999.000,9, -999.000, -999.000,9, -999.000,   -999.0,9,   -999.0, -999.000,9, -999.000,9, -999.000,9
  49NZ20140717,   P01,    66,  1,     19, X12J19,2,20140725,0524, 43.5663, 154.1778, 5437,   1803.0,2,   2.0120,2,   2.01189,2,  34.5777,2,  34.5774,2,-999.0000,9,    65.90,2,    65.85,2,   99.922,   0.0031,2,    0.004,2,  -999.00,9,    2.781,1,    0.000,2,   163.06,2,     0.18,    41.61,2,     0.05,    -0.01,2,     0.01,     2.94,2,     0.01,  -999.00,9,  -999.00, -999.000,9, -999.000,9, -999.000,9, -999.000,9,   2377.9,2,   2412.8,2,   -999.0,9,   7.4198,       25,2, -999.000,9,    37.03,2, -999.000,9, -999.000,   -999.0,9,   -999.0, -999.000,9, -999.000, -999.000,9, -999.000,   -999.0,9,   -999.0, -999.000,9, -999.000,9, -999.000,9
  49NZ20140717,   P01,    66,  1,     18, X12J18,2,20140725,0524, 43.5663, 154.1778, 5437,   2000.2,2,   1.9025,2,   1.90214,2,  34.5994,2,  34.5993,2,-999.0000,9,    77.18,2,    77.32,2,   99.942,   0.0023,2,    0.003,2,  -999.00,9,    2.671,1,    0.000,2,   163.22,2,     0.18,    40.93,2,     0.05,    -0.01,2,     0.01,     2.88,2,     0.01,  -999.00,9,  -999.00, -999.000,9, -999.000,9, -999.000,9, -999.000,9,   2374.4,2,   2411.9,2,   -999.0,9,   7.4400,       25,2, -999.000,9,    36.46,2, -999.000,9, -999.000,   -999.0,9,   -999.0, -999.000,9, -999.000, -999.000,9, -999.000,   -999.0,9,   -999.0, -999.000,9, -999.000,9, -999.000,9
  49NZ20140717,   P01,    66,  1,     17, X12J17,2,20140725,0524, 43.5663, 154.1778, 5437,   2199.3,2,   1.7951,2,   1.79507,2,  34.6177,2,  34.6178,2,-999.0000,9,    88.01,2,    87.96,2,   99.924,   0.0030,2,    0.001,2,  -999.00,9,    2.570,1,    0.000,2,   163.68,2,     0.18,    40.28,2,     0.05,    -0.01,2,     0.01,     2.83,2,     0.01,  -999.00,9,  -999.00, -999.000,9, -999.000,9, -999.000,9, -999.000,9,   2367.9,2,   2415.8,2,   -999.0,9,   7.4608,       25,2, -999.000,9,    36.93,2, -999.000,9, -999.000,   -999.0,9,   -999.0, -999.000,9, -999.000, -999.000,9, -999.000,   -999.0,9,   -999.0, -999.000,9, -999.000,9, -999.000,9
  49NZ20140717,   P01,    66,  1,     16, X12J16,2,20140725,0524, 43.5663, 154.1778, 5437,   2400.5,2,   1.7030,2,   1.70296,2,  34.6338,2,  34.6337,2,-999.0000,9,    99.55,2,    99.59,2,   99.939,   0.0024,2,    0.000,2,  -999.00,9,    2.553,1,    0.000,2,   162.90,2,     0.18,    39.52,2,     0.05,    -0.01,2,     0.01,     2.78,2,     0.01,  -999.00,9,  -999.00, -999.000,9, -999.000,9, -999.000,9, -999.000,9,   2363.3,6,   2415.9,2,   -999.0,9,   7.4829,       25,2, -999.000,9,    37.85,2, -999.000,9, -999.000,   -999.0,9,   -999.0, -999.000,9, -999.000, -999.000,9, -999.000,   -999.0,9,   -999.0, -999.000,9, -999.000,9, -999.000,9
  49NZ20140717,   P01,    66,  1,     15, X12J15,2,20140725,0524, 43.5663, 154.1778, 5437,   2600.6,2,   1.6430,2,   1.64288,2,  34.6445,2,  34.6447,2,-999.0000,9,   108.31,2,   108.37,2,   99.926,   0.0029,2,   -0.001,2,  -999.00,9,    2.507,1,    0.000,2,   162.01,2,     0.18,    39.00,2,     0.05,    -0.01,2,     0.01,     2.74,2,     0.01,  -999.00,9,  -999.00, -999.000,9, -999.000,9, -999.000,9, -999.000,9,   2357.7,2,   2419.1,2,   -999.0,9,   7.4999,       25,2, -999.000,9,    39.12,2, -999.000,9, -999.000,   -999.0,9,   -999.0, -999.000,9, -999.000, -999.000,9, -999.000,   -999.0,9,   -999.0, -999.000,9, -999.000,9, -999.000,9
  49NZ20140717,   P01,    66,  1,     14, X12J14,2,20140725,0524, 43.5663, 154.1778, 5437,   2801.4,2,   1.5901,2,   1.59023,2,  34.6542,2,  34.6538,2,-999.0000,9,   117.07,2,   116.92,2,   99.955,   0.0018,2,   -0.001,2,  -999.00,9,    2.441,1,    0.000,2,   160.24,2,     0.17,    38.42,2,     0.05,    -0.01,2,     0.01,     2.69,2,     0.01,  -999.00,9,  -999.00, -999.000,9, -999.000,9, -999.000,9, -999.000,9,   2353.3,2,   2418.2,2,   -999.0,9,   7.5153,       25,6, -999.000,9,    36.18,2, -999.000,9, -999.000,   -999.0,9,   -999.0, -999.000,9, -999.000, -999.000,9, -999.000,   -999.0,9,   -999.0, -999.000,9, -999.000,9, -999.000,9
  49NZ20140717,   P01,    66,  1,     13, X12113,2,20140725,0524, 43.5663, 154.1778, 5437,   3000.5,2,   1.5465,2,   1.54653,2,  34.6619,2,  34.6619,2,-999.0000,9,   125.15,2,   125.14,2,   99.965,   0.0014,2,   -0.002,2,  -999.00,9,    2.439,1,    0.000,2,   157.93,2,     0.17,    37.84,2,     0.05,    -0.01,2,     0.01,     2.65,2,     0.01,  -999.00,9,  -999.00, -999.000,9, -999.000,9, -999.000,9, -999.000,9,   2347.1,2,   2418.0,2,   -999.0,9,   7.5306,       25,2, -999.000,9,    36.34,2, -999.000,9, -999.000,   -999.0,9,   -999.0, -999.000,9, -999.000, -999.000,9, -999.000,   -999.0,9,   -999.0, -999.000,9, -999.000,9, -999.000,9
  49NZ20140717,   P01,    66,  1,     12, X12J12,2,20140725,0524, 43.5663, 154.1778, 5437,   3250.0,2,   1.5113,2,   1.51126,2,  34.6690,2,  34.6684,2,-999.0000,9,   133.10,2,   132.92,2,   99.944,   0.0023,2,   -0.002,2,  -999.00,9,    2.331,1,    0.000,2,   155.96,2,     0.17,    37.36,2,     0.05,    -0.01,2,     0.01,     2.61,2,     0.01,  -999.00,9,  -999.00, -999.000,9, -999.000,9, -999.000,9, -999.000,9,   2343.2,2,   2416.7,6,   -999.0,9,   7.5436,       25,2, -999.000,9,    37.39,2, -999.000,9, -999.000,   -999.0,9,   -999.0, -999.000,9, -999.000, -999.000,9, -999.000,   -999.0,9,   -999.0, -999.000,9, -999.000,9, -999.000,9
  49NZ20140717,   P01,    66,  1,     11, X12J11,2,20140725,0524, 43.5663, 154.1778, 5437,   3500.5,2,   1.4909,2,   1.49109,2,  34.6741,2,  34.6737,2,-999.0000,9,   138.82,2,   138.47,2,   99.957,   0.0017,2,   -0.003,2,  -999.00,9,    2.264,1,    0.000,2,   154.60,2,     0.17,    37.02,2,     0.05,    -0.01,2,     0.01,     2.58,2,     0.01,  -999.00,9,  -999.00, -999.000,9, -999.000,9, -999.000,9, -999.000,9,   2338.1,2,   2417.2,2,   -999.0,9,   7.5543,       25,2, -999.000,9,    38.53,2, -999.000,9, -999.000,   -999.0,9,   -999.0, -999.000,9, -999.000, -999.000,9, -999.000,   -999.0,9,   -999.0, -999.000,9, -999.000,9, -999.000,9
  49NZ20140717,   P01,    66,  1,     10, X12J10,2,20140725,0524, 43.5663, 154.1778, 5437,   3750.6,2,   1.4758,2,   1.47588,2,  34.6785,2,  34.6782,2,-999.0000,9,   144.16,2,   144.00,2,   99.968,   0.0013,2,   -0.003,2,  -999.00,9,    2.247,1,    0.000,2,   153.31,2,     0.17,    36.67,2,     0.05,    -0.01,2,     0.01,     2.55,2,     0.01,  -999.00,9,  -999.00, -999.000,9, -999.000,9, -999.000,9, -999.000,9,   2334.2,2,   2418.5,2,   -999.0,9,   7.5624,       25,2, -999.000,9,    37.64,2, -999.000,9, -999.000,   -999.0,9,   -999.0, -999.000,9, -999.000, -999.000,9, -999.000,   -999.0,9,   -999.0, -999.000,9, -999.000,9, -999.000,9