BOTTLE,20230904JAMSTECRIGC
EXPOCODE,SECT,STNNBR,CASTNO,SAMPNO,BTLNBR,BTLNBR_FLAG_W,DATE,TIME,LATITUDE,LONGITUDE,DEPTH,CTDPRS,CTDPRS_FLAG_W,CTDTMP,CTDTMP_FLAG_W,SBE35,SBE35_FLAG_W,CTDSAL,CTDSAL_FLAG_W,SALNTY,SALNTY_FLAG_W,DNSSAL,DNSSAL_FLAG_W,CTDOXY,CTDOXY_FLAG_W,OXYGEN,OXYGEN_FLAG_W,XMISS,XMISSCP,XMISS_FLAG_W,FLUOR,FLUOR_FLAG_W,CHLORA,CHLORA_FLAG_W,CDOM,CDOM_FLAG_W,PAR,PAR_FLAG_W,SILCAT,SILCAT_FLAG_W,SILUNC,NITRAT,NITRAT_FLAG_W,NRAUNC,NITRIT,NITRIT_FLAG_W,NRIUNC,PHSPHT,PHSPHT_FLAG_W,PHPUNC,AMMONIA,AMMONIA_FLAG_W,NH4UNC,CFC-11,CFC-11_FLAG_W,CFC-12,CFC-12_FLAG_W,CFC113,CFC113_FLAG_W,SF6,SF6_FLAG_W,TCARBN,TCARBN_FLAG_W,ALKALI,ALKALI_FLAG_W,ALKALI_POT,ALKALI_POT_FLAG_W,PH_TOT,PH_TMP,PH_TOT_FLAG_W,CALCIUM,CALCIUM_FLAG_W,DOC,DOC_FLAG_W,DELC13,DELC13_FLAG_W,C13ERR,DELC14,DELC14_FLAG_W,C14ERR,CS-134,CS-134_FLAG_W,CS134ER,CS-137,CS-137_FLAG_W,CS137ER,I-129,I-129_FLAG_W,I-129ER,CDOM-325,CDOM-325_FLAG_W,CDOM-370,CDOM-370_FLAG_W,CDOM-443,CDOM-443_FLAG_W
,,,,,,,,UTC,DEG,DEG,METERS,DBAR,,ITS-90,,ITS-90,,PSS-78,,PSS-78,,G/KG,,UMOL/KG,,UMOL/KG,,%TRANS,/METER,,MG/CUM,,MG/CUM,,MG/CUM,,UE/SQM/S,,UMOL/KG,,UMOL/KG,UMOL/KG,,UMOL/KG,UMOL/KG,,UMOL/KG,UMOL/KG,,UMOL/KG,UMOL/KG,,UMOL/KG,PMOL/KG,,PMOL/KG,,PMOL/KG,,FMOL/KG,,UMOL/KG,,UMOL/KG,,UMOL/KG,,,DEG C,,MMOL/KG,,UMOL/KG,,/MILLE,,/MILLE,/MILLE,,/MILLE,MBQ/KG,,MBQ/KG,MBQ/KG,,MBQ/KG,,,,/METER,,/METER,,/METER,
  49NZ20140717,   P01,   103,  1,      9, X12J09,2,20140807,1805, 46.9892,-172.7043, 5795,   4080.4,2,   1.4761,2,   1.47624,2,  34.6817,2,  34.6815,2,-999.0000,9,   145.16,2,   144.84,2,   99.971,   0.0011,2,    0.002,2,  -999.00,9,    2.439,4,    0.000,2,   158.85,2,     0.17,    36.58,2,     0.05,     0.00,2,     0.01,     2.55,2,     0.01,  -999.00,9,  -999.00,    0.000,2,    0.000,2,    0.000,2,    0.000,2,   2332.9,2,   2421.4,2,   -999.0,9,   7.5650,       25,2, -999.000,9,    38.70,2, -999.000,9, -999.000,   -999.0,9,   -999.0, -999.000,9, -999.000, -999.000,9, -999.000,   -999.0,9,   -999.0, -999.000,9, -999.000,9, -999.000,9
  49NZ20140717,   P01,   103,  1,      8, X12J08,2,20140807,1805, 46.9892,-172.7043, 5795,   4331.6,2,   1.4824,2,   1.48253,2,  34.6845,2,  34.6842,2,-999.0000,9,   148.23,2,   147.91,2,   99.965,   0.0014,2,    0.002,2,  -999.00,9,    1.157,4,    0.000,2,   158.96,2,     0.17,    36.38,2,     0.05,     0.00,2,     0.01,     2.54,2,     0.01,  -999.00,9,  -999.00,    0.000,2,    0.000,2,    0.000,2,    0.000,2,   2330.5,6,   2422.9,2,   -999.0,9,   7.5716,       25,2, -999.000,9,    39.19,2, -999.000,9, -999.000,   -999.0,9,   -999.0, -999.000,9, -999.000, -999.000,9, -999.000,   -999.0,9,   -999.0, -999.000,9, -999.000,9, -999.000,9
  49NZ20140717,   P01,   103,  1,      7, X12J07,2,20140807,1805, 46.9892,-172.7043, 5795,   4580.3,2,   1.5013,2,   1.50132,2,  34.6858,2,  34.6857,2,-999.0000,9,   149.54,2,   149.23,2,   99.950,   0.0020,2,    0.002,2,  -999.00,9,  497.217,4,    0.000,2,   160.13,2,     0.17,    36.29,2,     0.05,     0.00,2,     0.01,     2.53,2,     0.01,  -999.00,9,  -999.00,    0.000,2,    0.000,2,    0.000,2,    0.000,2,   2330.1,2,   2424.6,2,   -999.0,9,   7.5752,       25,2, -999.000,9,    38.20,2, -999.000,9, -999.000,   -999.0,9,   -999.0, -999.000,9, -999.000, -999.000,9, -999.000,   -999.0,9,   -999.0, -999.000,9, -999.000,9, -999.000,9
  49NZ20140717,   P01,   103,  1,      6, X12J06,2,20140807,1805, 46.9892,-172.7043, 5795,   4830.1,2,   1.5258,2,   1.52576,2,  34.6866,2,  34.6865,2,-999.0000,9,   150.34,2,   149.92,2,   99.965,   0.0014,2,    0.002,2,  -999.00,9,  497.217,4,    0.000,2,   161.12,2,     0.17,    36.27,2,     0.05,     0.00,2,     0.01,     2.53,2,     0.01,  -999.00,9,  -999.00,    0.000,2,    0.000,2,    0.000,2,    0.000,2,   2330.9,2,   2423.8,6,   -999.0,9,   7.5777,       25,2, -999.000,9,    39.47,2, -999.000,9, -999.000,   -999.0,9,   -999.0, -999.000,9, -999.000, -999.000,9, -999.000,   -999.0,9,   -999.0, -999.000,9, -999.000,9, -999.000,9
  49NZ20140717,   P01,   103,  1,      5, X12J05,2,20140807,1805, 46.9892,-172.7043, 5795,   5079.9,2,   1.5525,2,   1.55245,2,  34.6871,2,  34.6874,2,-999.0000,9,   151.23,2,   150.95,2,   99.969,   0.0012,2,    0.002,2,  -999.00,9,  497.217,4,    0.000,2,   160.88,2,     0.17,    36.26,2,     0.05,     0.00,2,     0.01,     2.52,2,     0.01,  -999.00,9,  -999.00,    0.000,2,    0.000,2,    0.000,2,    0.000,2,   2326.6,2,   2422.5,2,   -999.0,9,   7.5782,       25,2, -999.000,9,    38.99,2, -999.000,9, -999.000,   -999.0,9,   -999.0, -999.000,9, -999.000, -999.000,9, -999.000,   -999.0,9,   -999.0, -999.000,9, -999.000,9, -999.000,9
  49NZ20140717,   P01,   103,  1,      4, X12J04,2,20140807,1805, 46.9892,-172.7043, 5795,   5329.3,2,   1.5805,2,   1.58043,2,  34.6875,2,  34.6874,2,-999.0000,9,   152.12,2,   151.95,2,   99.971,   0.0011,2,    0.002,2,  -999.00,9,  497.217,4,    0.000,2,   160.42,2,     0.17,    36.14,2,     0.05,     0.00,2,     0.01,     2.52,2,     0.01,  -999.00,9,  -999.00,    0.002,2,    0.001,2,    0.000,2,    0.000,2,   2327.1,2,   2422.5,2,   -999.0,9,   7.5793,       25,2, -999.000,9,    39.22,2, -999.000,9, -999.000,   -999.0,9,   -999.0, -999.000,9, -999.000, -999.000,9, -999.000,   -999.0,9,   -999.0, -999.000,9, -999.000,9, -999.000,9
  49NZ20140717,   P01,   103,  1,      3, X12J03,2,20140807,1805, 46.9892,-172.7043, 5795,   5579.8,2,   1.6077,2,   1.60768,2,  34.6879,2,  34.6879,2,-999.0000,9,   153.27,2,   153.33,2,   99.915,   0.0034,2,    0.002,2,  -999.00,9,  497.217,4,    0.000,2,   158.30,2,     0.17,    35.99,2,     0.05,     0.00,2,     0.01,     2.51,2,     0.01,  -999.00,9,  -999.00,    0.002,2,    0.001,2,    0.000,2,    0.000,2,   2325.6,2,   2421.9,2,   -999.0,9,   7.5800,       25,2, -999.000,9,    39.55,2, -999.000,9, -999.000,   -999.0,9,   -999.0, -999.000,9, -999.000, -999.000,9, -999.000,   -999.0,9,   -999.0, -999.000,9, -999.000,9, -999.000,9
  49NZ20140717,   P01,   103,  1,      2, X12J02,2,20140807,1805, 46.9892,-172.7043, 5795,   5829.5,2,   1.6351,2,   1.63488,2,  34.6882,2,  34.6892,2,-999.0000,9,   154.54,2,   154.77,2,   99.824,   0.0070,2,    0.002,2,  -999.00,9,  497.217,4,    0.000,2,   156.60,2,     0.17,    35.87,2,     0.05,     0.00,2,     0.01,     2.50,2,     0.01,  -999.00,9,  -999.00,    0.002,2,    0.002,2,    0.000,2,    0.000,2,   2320.8,2,   2418.9,2,   -999.0,9,   7.5810,       25,2, -999.000,9,    38.86,2, -999.000,9, -999.000,   -999.0,9,   -999.0, -999.000,9, -999.000, -999.000,9, -999.000,   -999.0,9,   -999.0, -999.000,9, -999.000,9, -999.000,9
  49NZ20140717,   P01,   103,  1,      1, X12J01,2,20140807,1805, 46.9892,-172.7043, 5795,   5906.8,2,   1.6454,2,   1.64521,2,  34.6883,2,  34.6887,2,-999.0000,9,   154.51,2,   154.90,2,   99.822,   0.0071,2,    0.002,2,  -999.00,9,  494.380,4,    0.000,2,   156.45,2,     0.17,    35.95,2,     0.05,     0.00,2,     0.01,     2.50,2,     0.01,  -999.00,9,  -999.00,    0.002,2,    0.002,2,    0.001,2,    0.000,2,   2324.4,2,   2418.8,2,   -999.0,9,   7.5814,       25,2, -999.000,9,    39.99,2, -999.000,9, -999.000,   -999.0,9,   -999.0, -999.000,9, -999.000, -999.000,9, -999.000,   -999.0,9,   -999.0, -999.000,9, -999.000,9, -999.000,9