BOTTLE,20230904JAMSTECRIGC
EXPOCODE,SECT,STNNBR,CASTNO,SAMPNO,BTLNBR,BTLNBR_FLAG_W,DATE,TIME,LATITUDE,LONGITUDE,DEPTH,CTDPRS,CTDPRS_FLAG_W,CTDTMP,CTDTMP_FLAG_W,SBE35,SBE35_FLAG_W,CTDSAL,CTDSAL_FLAG_W,SALNTY,SALNTY_FLAG_W,DNSSAL,DNSSAL_FLAG_W,CTDOXY,CTDOXY_FLAG_W,OXYGEN,OXYGEN_FLAG_W,XMISS,XMISSCP,XMISS_FLAG_W,FLUOR,FLUOR_FLAG_W,CHLORA,CHLORA_FLAG_W,CDOM,CDOM_FLAG_W,PAR,PAR_FLAG_W,SILCAT,SILCAT_FLAG_W,SILUNC,NITRAT,NITRAT_FLAG_W,NRAUNC,NITRIT,NITRIT_FLAG_W,NRIUNC,PHSPHT,PHSPHT_FLAG_W,PHPUNC,AMMONIA,AMMONIA_FLAG_W,NH4UNC,CFC-11,CFC-11_FLAG_W,CFC-12,CFC-12_FLAG_W,CFC113,CFC113_FLAG_W,SF6,SF6_FLAG_W,TCARBN,TCARBN_FLAG_W,ALKALI,ALKALI_FLAG_W,ALKALI_POT,ALKALI_POT_FLAG_W,PH_TOT,PH_TMP,PH_TOT_FLAG_W,CALCIUM,CALCIUM_FLAG_W,DOC,DOC_FLAG_W,DELC13,DELC13_FLAG_W,C13ERR,DELC14,DELC14_FLAG_W,C14ERR,CS-134,CS-134_FLAG_W,CS134ER,CS-137,CS-137_FLAG_W,CS137ER,I-129,I-129_FLAG_W,I-129ER,CDOM-325,CDOM-325_FLAG_W,CDOM-370,CDOM-370_FLAG_W,CDOM-443,CDOM-443_FLAG_W
,,,,,,,,UTC,DEG,DEG,METERS,DBAR,,ITS-90,,ITS-90,,PSS-78,,PSS-78,,G/KG,,UMOL/KG,,UMOL/KG,,%TRANS,/METER,,MG/CUM,,MG/CUM,,MG/CUM,,UE/SQM/S,,UMOL/KG,,UMOL/KG,UMOL/KG,,UMOL/KG,UMOL/KG,,UMOL/KG,UMOL/KG,,UMOL/KG,UMOL/KG,,UMOL/KG,PMOL/KG,,PMOL/KG,,PMOL/KG,,FMOL/KG,,UMOL/KG,,UMOL/KG,,UMOL/KG,,,DEG C,,MMOL/KG,,UMOL/KG,,/MILLE,,/MILLE,/MILLE,,/MILLE,MBQ/KG,,MBQ/KG,MBQ/KG,,MBQ/KG,,,,/METER,,/METER,,/METER,
  49NZ20140717,   P01,    44,  1,      0,   -999,9,20140719,0825, 41.9902, 146.2507, 6187,   -999.0,9,-999.0000,9,-999.00000,9,-999.0000,9,  32.4081,2,-999.0000,9,  -999.00,9,  -999.00,9, -999.000,-999.0000,9, -999.000,9,  -999.00,9, -999.000,9, -999.000,9,     1.24,2,     0.12,     0.07,2,     0.02,     0.02,2,     0.01,     0.12,2,     0.01,  -999.00,9,  -999.00, -999.000,9, -999.000,9, -999.000,9, -999.000,9,   -999.0,9,   -999.0,9,   -999.0,9,-999.0000,     -999,9, -999.000,9,  -999.00,9, -999.000,9, -999.000,   -999.0,9,   -999.0, -999.000,9, -999.000, -999.000,9, -999.000,   -999.0,9,   -999.0, -999.000,9, -999.000,9, -999.000,9
  49NZ20140717,   P01,    44,  1,     36, X12J36,2,20140719,0825, 41.9902, 146.2507, 6187,     10.6,2,  10.0660,2,  10.06282,2,  32.5420,2,  32.5477,2,-999.0000,9,   352.59,2,   355.73,2, -999.000,-999.0000,9, -999.000,9,  -999.00,9, -999.000,9,    0.184,2,     4.56,2,     0.09,     6.89,2,     0.02,     0.12,2,     0.01,     0.84,2,     0.01,  -999.00,9,  -999.00,    4.136,2,    2.372,2,    0.362,2,    2.580,2,   -999.0,9,   -999.0,9,   -999.0,9,-999.0000,     -999,9, -999.000,9,  -999.00,9, -999.000,9, -999.000,   -999.0,9,   -999.0, -999.000,9, -999.000, -999.000,9, -999.000,   -999.0,9,   -999.0, -999.000,9, -999.000,9, -999.000,9
  49NZ20140717,   P01,    44,  1,     35, X12J35,2,20140719,0825, 41.9902, 146.2507, 6187,     50.3,2,   2.4783,2,   2.48316,2,  32.9638,2,  32.9657,2,-999.0000,9,   326.69,2,   327.17,2, -999.000,-999.0000,9, -999.000,9,  -999.00,9, -999.000,9,    0.000,2,    29.99,2,     0.09,    20.21,2,     0.03,     0.47,2,     0.01,     1.81,2,     0.01,  -999.00,9,  -999.00,    5.352,2,    2.999,2,    0.475,2,    3.100,2,   -999.0,9,   -999.0,9,   -999.0,9,-999.0000,     -999,9, -999.000,9,  -999.00,9, -999.000,9, -999.000,   -999.0,9,   -999.0, -999.000,9, -999.000, -999.000,9, -999.000,   -999.0,9,   -999.0, -999.000,9, -999.000,9, -999.000,9
  49NZ20140717,   P01,    44,  1,     34, X12J34,2,20140719,0825, 41.9902, 146.2507, 6187,    100.6,2,   1.0005,2,   0.99993,2,  33.0782,2,  33.0812,2,-999.0000,9,   281.19,2,   281.77,2, -999.000,-999.0000,9, -999.000,9,  -999.00,9, -999.000,9,    0.000,2,    46.66,2,     0.10,    25.31,2,     0.04,     0.08,2,     0.01,     2.05,2,     0.01,  -999.00,9,  -999.00,    5.260,2,    2.937,2,    0.443,2,    2.760,2,   -999.0,9,   -999.0,9,   -999.0,9,-999.0000,     -999,9, -999.000,9,  -999.00,9, -999.000,9, -999.000,   -999.0,9,   -999.0, -999.000,9, -999.000, -999.000,9, -999.000,   -999.0,9,   -999.0, -999.000,9, -999.000,9, -999.000,9
  49NZ20140717,   P01,    44,  1,     33, X12J33,2,20140719,0825, 41.9902, 146.2507, 6187,    150.6,2,   2.1446,2,   2.14173,2,  33.3270,2,  33.3338,2,-999.0000,9,   236.65,2,   235.49,2, -999.000,-999.0000,9, -999.000,9,  -999.00,9, -999.000,9,    0.000,2,    55.66,2,     0.11,    28.38,2,     0.04,     0.04,2,     0.01,     2.19,2,     0.01,  -999.00,9,  -999.00,    4.519,2,    2.513,2,    0.375,2,    2.230,2,   -999.0,9,   -999.0,9,   -999.0,9,-999.0000,     -999,9, -999.000,9,  -999.00,9, -999.000,9, -999.000,   -999.0,9,   -999.0, -999.000,9, -999.000, -999.000,9, -999.000,   -999.0,9,   -999.0, -999.000,9, -999.000,9, -999.000,9
  49NZ20140717,   P01,    44,  1,     32, X12J32,2,20140719,0825, 41.9902, 146.2507, 6187,    199.4,2,   2.0139,2,   2.01231,2,  33.4213,2,  33.4220,2,-999.0000,9,   192.42,2,   192.19,2, -999.000,-999.0000,9, -999.000,9,  -999.00,9, -999.000,9,    0.000,2,    69.52,2,     0.12,    33.37,2,     0.04,     0.03,2,     0.01,     2.51,2,     0.01,  -999.00,9,  -999.00,    4.092,2,    2.280,2,    0.330,2,    1.750,2,   -999.0,9,   -999.0,9,   -999.0,9,-999.0000,     -999,9, -999.000,9,  -999.00,9, -999.000,9, -999.000,   -999.0,9,   -999.0, -999.000,9, -999.000, -999.000,9, -999.000,   -999.0,9,   -999.0, -999.000,9, -999.000,9, -999.000,9
  49NZ20140717,   P01,    44,  1,     31, X12J31,2,20140719,0825, 41.9902, 146.2507, 6187,    249.0,2,   2.0414,2,   2.04328,2,  33.5312,2,  33.5324,2,-999.0000,9,   166.63,2,   166.28,2, -999.000,-999.0000,9, -999.000,9,  -999.00,9, -999.000,9,    0.000,2,    76.12,2,     0.12,    34.45,2,     0.05,     0.03,2,     0.01,     2.60,2,     0.01,  -999.00,9,  -999.00,    3.838,2,    2.091,2,    0.297,2,    1.950,2,   -999.0,9,   -999.0,9,   -999.0,9,-999.0000,     -999,9, -999.000,9,  -999.00,9, -999.000,9, -999.000,   -999.0,9,   -999.0, -999.000,9, -999.000, -999.000,9, -999.000,   -999.0,9,   -999.0, -999.000,9, -999.000,9, -999.000,9
  49NZ20140717,   P01,    44,  1,     30, X12J30,2,20140719,0825, 41.9902, 146.2507, 6187,    278.5,2,   2.1581,2,   2.15835,2,  33.5801,2,  33.5810,2,-999.0000,9,   153.65,2,   153.60,2, -999.000,-999.0000,9, -999.000,9,  -999.00,9, -999.000,9,    0.000,2,    79.43,2,     0.12,    35.20,2,     0.05,     0.02,2,     0.01,     2.64,2,     0.01,  -999.00,9,  -999.00,    3.637,2,    1.985,2,    0.285,2,    1.780,2,   -999.0,9,   -999.0,9,   -999.0,9,-999.0000,     -999,9, -999.000,9,  -999.00,9, -999.000,9, -999.000,   -999.0,9,   -999.0, -999.000,9, -999.000, -999.000,9, -999.000,   -999.0,9,   -999.0, -999.000,9, -999.000,9, -999.000,9
  49NZ20140717,   P01,    44,  1,     29, X12J29,2,20140719,0825, 41.9902, 146.2507, 6187,    369.0,2,   2.7487,2,   2.74891,2,  33.7740,2,  33.7753,2,-999.0000,9,   103.89,2,   103.97,2, -999.000,-999.0000,9, -999.000,9,  -999.00,9, -999.000,9,    0.000,2,    91.93,2,     0.13,    38.34,2,     0.05,     0.02,2,     0.01,     2.82,2,     0.01,  -999.00,9,  -999.00,    2.793,2,    1.494,2,    0.206,2,    1.240,2,   -999.0,9,   -999.0,9,   -999.0,9,-999.0000,     -999,9, -999.000,9,  -999.00,9, -999.000,9, -999.000,   -999.0,9,   -999.0, -999.000,9, -999.000, -999.000,9, -999.000,   -999.0,9,   -999.0, -999.000,9, -999.000,9, -999.000,9
  49NZ20140717,   P01,    44,  1,     28, X12J28,2,20140719,0825, 41.9902, 146.2507, 6187,    471.6,2,   3.1677,2,   3.16633,2,  33.9574,2,  33.9497,2,-999.0000,9,    51.98,2,    54.08,2, -999.000,-999.0000,9, -999.000,9,  -999.00,9, -999.000,9,    0.000,2,   107.61,2,     0.14,    42.09,2,     0.05,     0.02,2,     0.01,     3.03,2,     0.01,  -999.00,9,  -999.00,    1.890,2,    0.985,2,    0.134,2,    0.790,2,   -999.0,9,   -999.0,9,   -999.0,9,-999.0000,     -999,9, -999.000,9,  -999.00,9, -999.000,9, -999.000,   -999.0,9,   -999.0, -999.000,9, -999.000, -999.000,9, -999.000,   -999.0,9,   -999.0, -999.000,9, -999.000,9, -999.000,9
  49NZ20140717,   P01,    44,  1,     27, X12J27,2,20140719,0825, 41.9902, 146.2507, 6187,    569.2,2,   3.1540,2,   3.15395,2,  34.0703,2,  34.0704,2,-999.0000,9,    41.61,2,    42.01,2, -999.000,-999.0000,9, -999.000,9,  -999.00,9, -999.000,9,    0.000,2,   118.14,2,     0.15,    42.53,2,     0.05,     0.02,2,     0.01,     3.06,2,     0.01,  -999.00,9,  -999.00,    1.358,2,    0.709,2,    0.096,2,    0.550,2,   -999.0,9,   -999.0,9,   -999.0,9,-999.0000,     -999,9, -999.000,9,  -999.00,9, -999.000,9, -999.000,   -999.0,9,   -999.0, -999.000,9, -999.000, -999.000,9, -999.000,   -999.0,9,   -999.0, -999.000,9, -999.000,9, -999.000,9
  49NZ20140717,   P01,    44,  1,     26, X12J26,2,20140719,0825, 41.9902, 146.2507, 6187,    670.5,2,   3.3562,2,   3.35722,2,  34.1939,2,  34.1920,2,-999.0000,9,    35.97,2,    36.12,2, -999.000,-999.0000,9, -999.000,9,  -999.00,9, -999.000,9,    0.000,2,   123.66,2,     0.15,    42.41,2,     0.05,     0.02,2,     0.01,     3.05,2,     0.01,  -999.00,9,  -999.00,    0.848,2,    0.449,2,    0.052,2,    0.330,2,   -999.0,9,   -999.0,9,   -999.0,9,-999.0000,     -999,9, -999.000,9,  -999.00,9, -999.000,9, -999.000,   -999.0,9,   -999.0, -999.000,9, -999.000, -999.000,9, -999.000,   -999.0,9,   -999.0, -999.000,9, -999.000,9, -999.000,9
  49NZ20140717,   P01,    44,  1,     25, X12J25,2,20140719,0825, 41.9902, 146.2507, 6187,    770.7,2,   3.1098,2,   3.11008,2,  34.2466,2,  34.2469,2,-999.0000,9,    31.56,2,    31.71,2, -999.000,-999.0000,9, -999.000,9,  -999.00,9, -999.000,9,    0.000,2,   132.63,2,     0.16,    42.92,2,     0.05,     0.01,2,     0.01,     3.08,2,     0.01,  -999.00,9,  -999.00,    0.650,2,    0.348,2,    0.039,2,    0.280,2,   -999.0,9,   -999.0,9,   -999.0,9,-999.0000,     -999,9, -999.000,9,  -999.00,9, -999.000,9, -999.000,   -999.0,9,   -999.0, -999.000,9, -999.000, -999.000,9, -999.000,   -999.0,9,   -999.0, -999.000,9, -999.000,9, -999.000,9
  49NZ20140717,   P01,    44,  1,     24, X12J24,2,20140719,0825, 41.9902, 146.2507, 6187,    871.2,2,   3.0598,2,   3.05953,2,  34.3023,2,  34.3024,2,-999.0000,9,    33.09,2,    33.26,2, -999.000,-999.0000,9, -999.000,9,  -999.00,9, -999.000,9,    0.000,2,   136.20,2,     0.16,    42.75,2,     0.05,     0.01,2,     0.01,     3.07,2,     0.01,  -999.00,9,  -999.00,    0.482,2,    0.269,2,    0.031,2,    0.280,2,   -999.0,9,   -999.0,9,   -999.0,9,-999.0000,     -999,9, -999.000,9,  -999.00,9, -999.000,9, -999.000,   -999.0,9,   -999.0, -999.000,9, -999.000, -999.000,9, -999.000,   -999.0,9,   -999.0, -999.000,9, -999.000,9, -999.000,9
  49NZ20140717,   P01,    44,  1,     23, X12J23,2,20140719,0825, 41.9902, 146.2507, 6187,    970.1,2,   3.0013,2,   3.00228,2,  34.3578,2,  34.3588,2,-999.0000,9,    35.82,2,    36.33,2, -999.000,-999.0000,9, -999.000,9,  -999.00,9, -999.000,9,    0.000,2,   138.65,2,     0.16,    42.53,2,     0.05,     0.01,2,     0.01,     3.05,2,     0.01,  -999.00,9,  -999.00,    0.307,2,    0.172,2,    0.016,2,    0.190,2,   -999.0,9,   -999.0,9,   -999.0,9,-999.0000,     -999,9, -999.000,9,  -999.00,9, -999.000,9, -999.000,   -999.0,9,   -999.0, -999.000,9, -999.000, -999.000,9, -999.000,   -999.0,9,   -999.0, -999.000,9, -999.000,9, -999.000,9
  49NZ20140717,   P01,    44,  1,     22, X12J22,2,20140719,0825, 41.9902, 146.2507, 6187,   1131.0,2,   2.5857,2,   2.58540,2,  34.3915,2,  34.3916,2,-999.0000,9,    30.76,2,    30.93,2, -999.000,-999.0000,9, -999.000,9,  -999.00,9, -999.000,9,    0.000,2,   153.05,2,     0.17,    43.26,2,     0.05,     0.01,2,     0.01,     3.10,2,     0.01,  -999.00,9,  -999.00,    0.273,2,    0.153,2,    0.017,2,    0.190,2,   -999.0,9,   -999.0,9,   -999.0,9,-999.0000,     -999,9, -999.000,9,  -999.00,9, -999.000,9, -999.000,   -999.0,9,   -999.0, -999.000,9, -999.000, -999.000,9, -999.000,   -999.0,9,   -999.0, -999.000,9, -999.000,9, -999.000,9
  49NZ20140717,   P01,    44,  1,     21, X12J21,2,20140719,0825, 41.9902, 146.2507, 6187,   1330.1,2,   2.3987,2,   2.39827,2,  34.4523,2,  34.4525,2,-999.0000,9,    38.09,2,    38.09,2, -999.000,-999.0000,9, -999.000,9,  -999.00,9, -999.000,9,    0.000,2,   158.66,2,     0.17,    42.88,2,     0.05,     0.01,2,     0.01,     3.07,2,     0.01,  -999.00,9,  -999.00,    0.173,2,    0.099,2,    0.011,2,    0.160,2,   -999.0,9,   -999.0,9,   -999.0,9,-999.0000,     -999,9, -999.000,9,  -999.00,9, -999.000,9, -999.000,   -999.0,9,   -999.0, -999.000,9, -999.000, -999.000,9, -999.000,   -999.0,9,   -999.0, -999.000,9, -999.000,9, -999.000,9
  49NZ20140717,   P01,    44,  1,     20, X12J20,2,20140719,0825, 41.9902, 146.2507, 6187,   1530.8,2,   2.2583,2,   2.25812,2,  34.4962,2,  34.4965,2,-999.0000,9,    46.24,2,    46.33,2, -999.000,-999.0000,9, -999.000,9,  -999.00,9, -999.000,9,    0.000,2,   161.76,2,     0.17,    42.43,2,     0.05,     0.01,2,     0.01,     3.03,2,     0.01,  -999.00,9,  -999.00,    0.132,2,    0.080,2,    0.010,2,    0.180,2,   -999.0,9,   -999.0,9,   -999.0,9,-999.0000,     -999,9, -999.000,9,  -999.00,9, -999.000,9, -999.000,   -999.0,9,   -999.0, -999.000,9, -999.000, -999.000,9, -999.000,   -999.0,9,   -999.0, -999.000,9, -999.000,9, -999.000,9
  49NZ20140717,   P01,    44,  1,     19, X12J19,2,20140719,0825, 41.9902, 146.2507, 6187,   1731.7,2,   2.1921,2,   2.19200,2,  34.5480,2,  34.5477,2,-999.0000,9,    56.03,2,    56.21,2, -999.000,-999.0000,9, -999.000,9,  -999.00,9, -999.000,9,    0.000,2,   160.22,2,     0.17,    42.07,2,     0.05,     0.01,2,     0.01,     2.99,2,     0.01,  -999.00,9,  -999.00,    0.025,2,    0.018,2,    0.002,2,    0.130,2,   -999.0,9,   -999.0,9,   -999.0,9,-999.0000,     -999,9, -999.000,9,  -999.00,9, -999.000,9, -999.000,   -999.0,9,   -999.0, -999.000,9, -999.000, -999.000,9, -999.000,   -999.0,9,   -999.0, -999.000,9, -999.000,9, -999.000,9
  49NZ20140717,   P01,    44,  1,     18, X12J18,2,20140719,0825, 41.9902, 146.2507, 6187,   1930.6,2,   2.0449,2,   2.04486,2,  34.5765,2,  34.5762,2,-999.0000,9,    66.59,2,    66.93,2, -999.000,-999.0000,9, -999.000,9,  -999.00,9, -999.000,9,    0.000,2,   161.84,2,     0.17,    41.49,2,     0.05,     0.01,2,     0.01,     2.94,2,     0.01,  -999.00,9,  -999.00,    0.006,2,    0.003,2,    0.000,2,    0.150,2,   -999.0,9,   -999.0,9,   -999.0,9,-999.0000,     -999,9, -999.000,9,  -999.00,9, -999.000,9, -999.000,   -999.0,9,   -999.0, -999.000,9, -999.000, -999.000,9, -999.000,   -999.0,9,   -999.0, -999.000,9, -999.000,9, -999.000,9
  49NZ20140717,   P01,    44,  1,     17, X12J17,2,20140719,0825, 41.9902, 146.2507, 6187,   2130.1,2,   1.9353,2,   1.93502,2,  34.5975,2,  34.5976,2,-999.0000,9,    77.59,2,    77.82,2, -999.000,-999.0000,9, -999.000,9,  -999.00,9, -999.000,9,    0.000,2,   161.91,2,     0.18,    40.80,2,     0.05,     0.01,2,     0.01,     2.88,2,     0.01,  -999.00,9,  -999.00,    0.002,2,    0.001,2,    0.001,2,    0.130,2,   -999.0,9,   -999.0,9,   -999.0,9,-999.0000,     -999,9, -999.000,9,  -999.00,9, -999.000,9, -999.000,   -999.0,9,   -999.0, -999.000,9, -999.000, -999.000,9, -999.000,   -999.0,9,   -999.0, -999.000,9, -999.000,9, -999.000,9
  49NZ20140717,   P01,    44,  1,     16, X12J16,2,20140719,0825, 41.9902, 146.2507, 6187,   2330.9,2,   1.8093,2,   1.80913,2,  34.6169,2,  34.6172,2,-999.0000,9,    89.83,2,    89.93,2, -999.000,-999.0000,9, -999.000,9,  -999.00,9, -999.000,9,    0.000,2,   162.43,2,     0.18,    40.02,2,     0.05,     0.01,2,     0.01,     2.82,2,     0.01,  -999.00,9,  -999.00,    0.002,2,    0.001,2,    0.000,2,    0.200,2,   -999.0,9,   -999.0,9,   -999.0,9,-999.0000,     -999,9, -999.000,9,  -999.00,9, -999.000,9, -999.000,   -999.0,9,   -999.0, -999.000,9, -999.000, -999.000,9, -999.000,   -999.0,9,   -999.0, -999.000,9, -999.000,9, -999.000,9
  49NZ20140717,   P01,    44,  1,     15, X12J15,2,20140719,0825, 41.9902, 146.2507, 6187,   2530.5,2,   1.7175,2,   1.71762,2,  34.6341,2,  34.6340,2,-999.0000,9,   102.02,2,   102.24,2, -999.000,-999.0000,9, -999.000,9,  -999.00,9, -999.000,9,    0.000,2,   160.80,2,     0.17,    39.24,2,     0.05,     0.01,2,     0.01,     2.76,2,     0.01,  -999.00,9,  -999.00,    0.000,2,    0.000,2,    0.000,2,    0.210,2,   -999.0,9,   -999.0,9,   -999.0,9,-999.0000,     -999,9, -999.000,9,  -999.00,9, -999.000,9, -999.000,   -999.0,9,   -999.0, -999.000,9, -999.000, -999.000,9, -999.000,   -999.0,9,   -999.0, -999.000,9, -999.000,9, -999.000,9
  49NZ20140717,   P01,    44,  1,     14, X12J14,2,20140719,0825, 41.9902, 146.2507, 6187,   2731.0,2,   1.6436,2,   1.64347,2,  34.6466,2,  34.6465,2,-999.0000,9,   112.54,2,   112.68,2, -999.000,-999.0000,9, -999.000,9,  -999.00,9, -999.000,9,    0.000,2,   159.32,2,     0.17,    38.57,2,     0.05,     0.01,2,     0.01,     2.71,2,     0.01,  -999.00,9,  -999.00,    0.000,2,    0.000,2,    0.000,2,    0.200,2,   -999.0,9,   -999.0,9,   -999.0,9,-999.0000,     -999,9, -999.000,9,  -999.00,9, -999.000,9, -999.000,   -999.0,9,   -999.0, -999.000,9, -999.000, -999.000,9, -999.000,   -999.0,9,   -999.0, -999.000,9, -999.000,9, -999.000,9
  49NZ20140717,   P01,    44,  1,     13, X12113,2,20140719,0825, 41.9902, 146.2507, 6187,   2930.2,2,   1.5835,2,   1.58352,2,  34.6568,2,  34.6568,2,-999.0000,9,   121.57,2,   121.78,2, -999.000,-999.0000,9, -999.000,9,  -999.00,9, -999.000,9,    0.000,2,   157.86,2,     0.17,    38.00,2,     0.05,     0.01,2,     0.01,     2.67,2,     0.01,  -999.00,9,  -999.00,    0.002,2,    0.002,2,    0.000,2,    0.150,2,   -999.0,9,   -999.0,9,   -999.0,9,-999.0000,     -999,9, -999.000,9,  -999.00,9, -999.000,9, -999.000,   -999.0,9,   -999.0, -999.000,9, -999.000, -999.000,9, -999.000,   -999.0,9,   -999.0, -999.000,9, -999.000,9, -999.000,9
  49NZ20140717,   P01,    44,  1,     12, X12J12,2,20140719,0825, 41.9902, 146.2507, 6187,   3170.5,2,   1.5275,2,   1.52763,2,  34.6658,2,  34.6658,2,-999.0000,9,   130.71,2,   130.66,2, -999.000,-999.0000,9, -999.000,9,  -999.00,9, -999.000,9,    0.000,2,   155.92,2,     0.17,    37.31,2,     0.05,     0.01,2,     0.01,     2.62,2,     0.01,  -999.00,9,  -999.00,    0.000,2,    0.000,2,    0.000,2,    0.110,2,   -999.0,9,   -999.0,9,   -999.0,9,-999.0000,     -999,9, -999.000,9,  -999.00,9, -999.000,9, -999.000,   -999.0,9,   -999.0, -999.000,9, -999.000, -999.000,9, -999.000,   -999.0,9,   -999.0, -999.000,9, -999.000,9, -999.000,9
  49NZ20140717,   P01,    44,  1,     11, X12J11,2,20140719,0825, 41.9902, 146.2507, 6187,   3421.0,2,   1.4947,2,   1.49470,2,  34.6726,2,  34.6722,2,-999.0000,9,   138.08,2,   137.90,2, -999.000,-999.0000,9, -999.000,9,  -999.00,9, -999.000,9,    0.000,2,   153.90,2,     0.17,    36.90,2,     0.05,     0.01,2,     0.01,     2.58,2,     0.01,  -999.00,9,  -999.00,    0.006,2,    0.004,2,    0.000,2,    0.120,2,   -999.0,9,   -999.0,9,   -999.0,9,-999.0000,     -999,9, -999.000,9,  -999.00,9, -999.000,9, -999.000,   -999.0,9,   -999.0, -999.000,9, -999.000, -999.000,9, -999.000,   -999.0,9,   -999.0, -999.000,9, -999.000,9, -999.000,9
  49NZ20140717,   P01,    44,  1,     10, X12J10,2,20140719,0825, 41.9902, 146.2507, 6187,   3670.6,2,   1.4702,2,   1.47011,2,  34.6779,2,  34.6778,2,-999.0000,9,   144.44,2,   144.23,2, -999.000,-999.0000,9, -999.000,9,  -999.00,9, -999.000,9,    0.000,2,   152.39,2,     0.17,    36.51,2,     0.05,     0.01,2,     0.01,     2.55,2,     0.01,  -999.00,9,  -999.00,    0.003,2,    0.001,2,    0.001,2,    0.100,2,   -999.0,9,   -999.0,9,   -999.0,9,-999.0000,     -999,9, -999.000,9,  -999.00,9, -999.000,9, -999.000,   -999.0,9,   -999.0, -999.000,9, -999.000, -999.000,9, -999.000,   -999.0,9,   -999.0, -999.000,9, -999.000,9, -999.000,9