BOTTLE,20230904JAMSTECRIGC
EXPOCODE,SECT,STNNBR,CASTNO,SAMPNO,BTLNBR,BTLNBR_FLAG_W,DATE,TIME,LATITUDE,LONGITUDE,DEPTH,CTDPRS,CTDPRS_FLAG_W,CTDTMP,CTDTMP_FLAG_W,SBE35,SBE35_FLAG_W,CTDSAL,CTDSAL_FLAG_W,SALNTY,SALNTY_FLAG_W,DNSSAL,DNSSAL_FLAG_W,CTDOXY,CTDOXY_FLAG_W,OXYGEN,OXYGEN_FLAG_W,XMISS,XMISSCP,XMISS_FLAG_W,FLUOR,FLUOR_FLAG_W,CHLORA,CHLORA_FLAG_W,CDOM,CDOM_FLAG_W,PAR,PAR_FLAG_W,SILCAT,SILCAT_FLAG_W,SILUNC,NITRAT,NITRAT_FLAG_W,NRAUNC,NITRIT,NITRIT_FLAG_W,NRIUNC,PHSPHT,PHSPHT_FLAG_W,PHPUNC,AMMONIA,AMMONIA_FLAG_W,NH4UNC,CFC-11,CFC-11_FLAG_W,CFC-12,CFC-12_FLAG_W,CFC113,CFC113_FLAG_W,SF6,SF6_FLAG_W,TCARBN,TCARBN_FLAG_W,ALKALI,ALKALI_FLAG_W,ALKALI_POT,ALKALI_POT_FLAG_W,PH_TOT,PH_TMP,PH_TOT_FLAG_W,CALCIUM,CALCIUM_FLAG_W,DOC,DOC_FLAG_W,DELC13,DELC13_FLAG_W,C13ERR,DELC14,DELC14_FLAG_W,C14ERR,CS-134,CS-134_FLAG_W,CS134ER,CS-137,CS-137_FLAG_W,CS137ER,I-129,I-129_FLAG_W,I-129ER,CDOM-325,CDOM-325_FLAG_W,CDOM-370,CDOM-370_FLAG_W,CDOM-443,CDOM-443_FLAG_W
,,,,,,,,UTC,DEG,DEG,METERS,DBAR,,ITS-90,,ITS-90,,PSS-78,,PSS-78,,G/KG,,UMOL/KG,,UMOL/KG,,%TRANS,/METER,,MG/CUM,,MG/CUM,,MG/CUM,,UE/SQM/S,,UMOL/KG,,UMOL/KG,UMOL/KG,,UMOL/KG,UMOL/KG,,UMOL/KG,UMOL/KG,,UMOL/KG,UMOL/KG,,UMOL/KG,PMOL/KG,,PMOL/KG,,PMOL/KG,,FMOL/KG,,UMOL/KG,,UMOL/KG,,UMOL/KG,,,DEG C,,MMOL/KG,,UMOL/KG,,/MILLE,,/MILLE,/MILLE,,/MILLE,MBQ/KG,,MBQ/KG,MBQ/KG,,MBQ/KG,,,,/METER,,/METER,,/METER,
  49NZ20140717,   P01,    51,  1,      0,   -999,9,20140721,0353, 40.6351, 147.2050, 5302,   -999.0,9,-999.0000,9,-999.00000,9,-999.0000,9,  33.6014,2,-999.0000,9,  -999.00,9,  -999.00,9, -999.000,-999.0000,9, -999.000,9,  -999.00,9, -999.000,9, -999.000,9,     0.68,2,     0.16,     0.05,2,     0.02,     0.01,2,     0.01,     0.10,2,     0.01,  -999.00,9,  -999.00, -999.000,9, -999.000,9, -999.000,9, -999.000,9,   -999.0,9,   -999.0,9,   -999.0,9,-999.0000,     -999,9, -999.000,9,  -999.00,9, -999.000,9, -999.000,   -999.0,9,   -999.0, -999.000,9, -999.000, -999.000,9, -999.000,   -999.0,9,   -999.0, -999.000,9, -999.000,9, -999.000,9
  49NZ20140717,   P01,    51,  1,     36, X12J36,2,20140721,0353, 40.6351, 147.2050, 5302,      9.7,2,  18.1156,2,  18.06037,2,  33.6622,2,  33.6343,2,  33.7962,2,   250.01,2,   257.72,2,   95.876,   0.1685,2,    0.322,2,  -999.00,9,    0.156,1,   75.721,2,     1.54,2,     0.11,     0.03,2,     0.02,     0.01,2,     0.01,     0.10,2,     0.01,  -999.00,9,  -999.00,    2.534,2,    1.540,2,    0.237,2,    1.940,2,   1985.9,2,   2251.5,2,   -999.0,9,   8.0073,       25,2, -999.000,9,    65.17,2, -999.000,9, -999.000,   -999.0,9,   -999.0, -999.000,9, -999.000, -999.000,9, -999.000,   -999.0,9,   -999.0, -999.000,9, -999.000,9, -999.000,9
  49NZ20140717,   P01,    51,  1,     35, X12J35,2,20140721,0353, 40.6351, 147.2050, 5302,     50.1,2,   7.6715,2,   7.67060,2,  33.5255,2,  33.5254,2,  33.6873,2,   266.59,2,   266.53,2,   97.874,   0.0860,2,    0.317,2,  -999.00,9,    1.219,1,    0.741,2,    14.65,2,     0.09,    12.51,2,     0.02,     0.28,2,     0.01,     1.06,2,     0.01,  -999.00,9,  -999.00,    3.967,2,    2.289,2,    0.301,2,    2.530,2,   2094.9,6,   2254.8,2,   -999.0,9,   7.7828,       25,2, -999.000,9,    53.72,2, -999.000,9, -999.000,   -999.0,9,   -999.0, -999.000,9, -999.000, -999.000,9, -999.000,   -999.0,9,   -999.0, -999.000,9, -999.000,9, -999.000,9
  49NZ20140717,   P01,    51,  1,     34, X12J34,2,20140721,0353, 40.6351, 147.2050, 5302,     99.6,2,   5.1772,2,   5.17811,2,  33.5279,2,  33.5265,2,  33.6887,2,   273.99,2,   273.64,2,   99.605,   0.0158,2,    0.017,2,  -999.00,9,    1.272,1,    0.012,2,    27.20,2,     0.09,    18.64,2,     0.03,     0.01,2,     0.01,     1.46,2,     0.01,  -999.00,9,  -999.00,    4.226,2,    2.471,2,    0.336,2,    2.790,2,   2131.9,2,   2252.9,2,   -999.0,9,   7.6872,       25,2, -999.000,9,    50.55,2, -999.000,9, -999.000,   -999.0,9,   -999.0, -999.000,9, -999.000, -999.000,9, -999.000,   -999.0,9,   -999.0, -999.000,9, -999.000,9, -999.000,9
  49NZ20140717,   P01,    51,  1,     33, X12J33,2,20140721,0353, 40.6351, 147.2050, 5302,    150.2,2,   5.6487,2,   5.64942,2,  33.6699,2,  33.6694,2,  33.8338,2,   281.41,2,   281.21,2,   99.568,   0.0173,2,    0.006,2,  -999.00,9,    0.934,1,    0.000,2,    28.43,2,     0.09,    17.72,2,     0.03,     0.01,2,     0.01,     1.37,2,     0.01,  -999.00,9,  -999.00,    4.177,2,    2.437,2,    0.330,2,    2.790,2,   2127.3,2,   2256.9,2,   -999.0,9,   7.7072,       25,6, -999.000,9,    50.77,2, -999.000,9, -999.000,   -999.0,9,   -999.0, -999.000,9, -999.000, -999.000,9, -999.000,   -999.0,9,   -999.0, -999.000,9, -999.000,9, -999.000,9
  49NZ20140717,   P01,    51,  1,     32, X12J32,2,20140721,0353, 40.6351, 147.2050, 5302,    199.1,2,   5.5108,2,   5.50243,2,  33.6725,2,  33.6744,2,  33.8370,2,   277.94,2,   278.15,2,   99.461,   0.0216,2,    0.002,2,  -999.00,9,    1.059,1,    0.000,2,    30.40,2,     0.09,    18.10,2,     0.03,     0.02,2,     0.01,     1.39,2,     0.01,  -999.00,9,  -999.00,    4.177,2,    2.425,2,    0.323,2,    2.820,2,   2131.0,2,   2257.4,6,   -999.0,9,   7.6998,       25,2, -999.000,9,    50.82,2, -999.000,9, -999.000,   -999.0,9,   -999.0, -999.000,9, -999.000, -999.000,9, -999.000,   -999.0,9,   -999.0, -999.000,9, -999.000,9, -999.000,9
  49NZ20140717,   P01,    51,  1,     31, X12J31,2,20140721,0353, 40.6351, 147.2050, 5302,    249.4,2,   3.9523,2,   3.94411,2,  33.5567,2,  33.5714,2,  33.7361,2,   253.89,2,   253.85,2,   99.476,   0.0210,2,    0.003,2,  -999.00,9,    1.459,1,    0.000,2,    40.79,2,     0.10,    22.51,2,     0.03,     0.02,2,     0.01,     1.72,2,     0.01,  -999.00,9,  -999.00,    4.259,2,    2.437,2,    0.319,2,    2.540,2,   2163.9,2,   2262.3,2,   -999.0,9,   7.6182,       25,2, -999.000,9,    49.17,2, -999.000,9, -999.000,   -999.0,9,   -999.0, -999.000,9, -999.000, -999.000,9, -999.000,   -999.0,9,   -999.0, -999.000,9, -999.000,9, -999.000,9
  49NZ20140717,   P01,    51,  1,     30, X12J30,2,20140721,0353, 40.6351, 147.2050, 5302,    301.2,2,   2.9317,2,   2.92595,2,  33.5172,2,  33.5176,2,  33.6834,2,   233.79,2,   233.14,2,   99.709,   0.0117,2,    0.002,2,  -999.00,9,    1.823,1,    0.000,2,    50.51,2,     0.11,    26.32,2,     0.11,     0.01,2,     0.01,     2.01,2,     0.01,  -999.00,9,  -999.00,    4.344,2,    2.482,2,    0.327,2,    2.430,2,   2193.7,2,   2263.3,2,   -999.0,9,   7.5454,       25,2, -999.000,9,    48.66,2, -999.000,9, -999.000,   -999.0,9,   -999.0, -999.000,9, -999.000, -999.000,9, -999.000,   -999.0,9,   -999.0, -999.000,9, -999.000,9, -999.000,9
  49NZ20140717,   P01,    51,  1,     29, X12J29,2,20140721,0353, 40.6351, 147.2050, 5302,    400.3,2,   2.4276,2,   2.42752,2,  33.5681,2,  33.5683,2,  33.7355,2,   176.77,2,   176.47,2,   99.857,   0.0057,2,    0.002,2,  -999.00,9,    2.204,1,    0.000,2,    50.67,3,     0.11,    26.35,3,     0.04,     0.01,3,     0.01,     2.02,3,     0.01,  -999.00,9,  -999.00,    3.858,2,    2.135,2,    0.293,2,    1.870,2,   2245.5,2,   2278.5,2,   -999.0,9,   7.4274,       25,2, -999.000,9,    49.99,2, -999.000,9, -999.000,   -999.0,9,   -999.0, -999.000,9, -999.000, -999.000,9, -999.000,   -999.0,9,   -999.0, -999.000,9, -999.000,9, -999.000,9
  49NZ20140717,   P01,    51,  1,     28, X12J28,2,20140721,0353, 40.6351, 147.2050, 5302,    499.5,2,   2.8205,2,   2.82065,2,  33.7353,2,  33.7346,2,  33.9050,2,   124.35,2,   124.46,2,   99.851,   0.0060,2,    0.004,2,  -999.00,9,    2.423,1,    0.000,2,    85.29,2,     0.13,    36.86,2,     0.05,     0.01,2,     0.01,     2.72,2,     0.01,  -999.00,9,  -999.00,    3.054,2,    1.660,2,    0.226,2,    1.300,2,   2280.9,2,   2292.8,2,   -999.0,9,   7.3656,       25,2, -999.000,9,    45.98,2, -999.000,9, -999.000,   -999.0,9,   -999.0, -999.000,9, -999.000, -999.000,9, -999.000,   -999.0,9,   -999.0, -999.000,9, -999.000,9, -999.000,9
  49NZ20140717,   P01,    51,  1,     27, X12J27,2,20140721,0353, 40.6351, 147.2050, 5302,    599.6,2,   3.2170,2,   3.21681,2,  33.9209,2,  33.9201,2,  34.0936,2,    75.03,2,    75.43,2,   99.810,   0.0076,2,    0.006,2,  -999.00,9,    2.568,1,    0.000,2,   100.34,2,     0.14,    40.20,2,     0.05,     0.01,2,     0.01,     2.92,2,     0.01,  -999.00,9,  -999.00,    2.131,2,    1.129,2,    0.155,2,    0.840,2,   2315.0,2,   2310.1,2,   -999.0,9,   7.3183,       25,2, -999.000,9,    44.15,2, -999.000,9, -999.000,   -999.0,9,   -999.0, -999.000,9, -999.000, -999.000,9, -999.000,   -999.0,9,   -999.0, -999.000,9, -999.000,9, -999.000,9
  49NZ20140717,   P01,    51,  1,     26, X12J26,2,20140721,0353, 40.6351, 147.2050, 5302,    699.8,2,   3.2618,2,   3.26123,2,  34.0371,2,  34.0357,2,  34.2110,2,    48.22,2,    48.67,2,   99.760,   0.0096,2,    0.008,2,  -999.00,9,    2.743,1,    0.000,2,   112.63,2,     0.14,    41.97,2,     0.05,     0.00,2,     0.01,     3.03,2,     0.01,  -999.00,9,  -999.00,    1.546,2,    0.809,2,    0.109,2,    0.550,2,   2338.4,6,   2325.0,2,   -999.0,9,   7.2934,       25,2, -999.000,9,    43.53,2, -999.000,9, -999.000,   -999.0,9,   -999.0, -999.000,9, -999.000, -999.000,9, -999.000,   -999.0,9,   -999.0, -999.000,9, -999.000,9, -999.000,9
  49NZ20140717,   P01,    51,  1,     25, X12J25,2,20140721,0353, 40.6351, 147.2050, 5302,    801.8,2,   3.3740,2,   3.37384,2,  34.1658,2,  34.1645,2,  34.3422,2,    39.18,2,    39.55,2,   99.784,   0.0087,2,    0.007,2,  -999.00,9,    2.776,1,    0.000,2,   120.63,2,     0.15,    42.20,2,     0.05,     0.00,2,     0.01,     3.03,2,     0.01,  -999.00,9,  -999.00,    0.978,2,    0.516,2,    0.066,2,    0.280,2,   2349.8,2,   2340.8,2,   -999.0,9,   7.3086,       25,2, -999.000,9,    40.32,2, -999.000,9, -999.000,   -999.0,9,   -999.0, -999.000,9, -999.000, -999.000,9, -999.000,   -999.0,9,   -999.0, -999.000,9, -999.000,9, -999.000,9
  49NZ20140717,   P01,    51,  1,     24, X12J24,2,20140721,0353, 40.6351, 147.2050, 5302,    900.8,2,   3.3182,2,   3.31834,2,  34.2795,2,  34.2792,2,  34.4570,2,    35.97,2,    36.32,2,   99.834,   0.0067,2,    0.006,2,  -999.00,9,    2.748,1,    0.000,2,   128.91,2,     0.15,    42.33,2,     0.05,     0.00,2,     0.01,     3.04,2,     0.01,  -999.00,9,  -999.00,    0.535,2,    0.290,2,    0.032,2,    0.150,2,   2356.0,2,   2356.7,2,   -999.0,9,   7.3285,       25,6, -999.000,9,    39.79,2, -999.000,9, -999.000,   -999.0,9,   -999.0, -999.000,9, -999.000, -999.000,9, -999.000,   -999.0,9,   -999.0, -999.000,9, -999.000,9, -999.000,9
  49NZ20140717,   P01,    51,  1,     23, X12J23,2,20140721,0353, 40.6351, 147.2050, 5302,   1000.4,2,   3.1265,2,   3.12824,2,  34.3303,2,  34.3295,2,  34.5084,2,    36.83,2,    37.05,2,   99.816,   0.0074,2,    0.005,2,  -999.00,9,    2.743,1,    0.000,2,   135.13,2,     0.16,    42.44,2,     0.05,     0.00,2,     0.01,     3.05,2,     0.01,  -999.00,9,  -999.00,    0.394,2,    0.219,2,    0.022,2,    0.100,2,   2361.8,2,   2368.3,2,   -999.0,9,   7.3374,       25,2, -999.000,9,    40.98,2, -999.000,9, -999.000,   -999.0,9,   -999.0, -999.000,9, -999.000, -999.000,9, -999.000,   -999.0,9,   -999.0, -999.000,9, -999.000,9, -999.000,9
  49NZ20140717,   P01,    51,  1,     22, X12J22,2,20140721,0353, 40.6351, 147.2050, 5302,   1200.7,2,   2.6676,2,   2.66733,2,  34.3899,2,  34.3894,2,  34.5697,2,    30.65,2,    30.75,2,   99.849,   0.0061,2,    0.005,2,  -999.00,9,    2.823,1,    0.000,2,   150.70,2,     0.17,    43.25,2,     0.05,     0.00,2,     0.01,     3.10,2,     0.01,  -999.00,9,  -999.00,    0.261,2,    0.151,2,    0.017,2,    0.060,2,   2379.3,2,   2381.4,6,   -999.0,9,   7.3246,       25,2, -999.000,9,    41.41,2, -999.000,9, -999.000,   -999.0,9,   -999.0, -999.000,9, -999.000, -999.000,9, -999.000,   -999.0,9,   -999.0, -999.000,9, -999.000,9, -999.000,9
  49NZ20140717,   P01,    51,  1,     21, X12J21,2,20140721,0353, 40.6351, 147.2050, 5302,   1401.1,2,   2.4639,2,   2.46370,2,  34.4627,2,  34.4623,2,  34.6429,2,    40.57,2,    40.66,2,   99.829,   0.0068,2,    0.005,2,  -999.00,9,    2.783,1,    0.000,2,   155.89,2,     0.17,    42.73,2,     0.05,     0.00,2,     0.01,     3.06,2,     0.01,  -999.00,9,  -999.00,    0.144,2,    0.085,2,    0.007,2,    0.050,2,   2380.3,2,   2392.0,2,   -999.0,9,   7.3555,       25,2, -999.000,9,    38.23,2, -999.000,9, -999.000,   -999.0,9,   -999.0, -999.000,9, -999.000, -999.000,9, -999.000,   -999.0,9,   -999.0, -999.000,9, -999.000,9, -999.000,9
  49NZ20140717,   P01,    51,  1,     20, X12J20,2,20140721,0353, 40.6351, 147.2050, 5302,   1601.6,2,   2.3137,2,   2.31354,2,  34.5144,2,  34.5139,2,  34.6950,2,    47.27,2,    47.42,2,   99.851,   0.0060,2,    0.004,2,  -999.00,9,    2.718,1,    0.000,2,   159.24,2,     0.17,    42.53,2,     0.05,     0.00,2,     0.01,     3.03,2,     0.01,  -999.00,9,  -999.00,    0.055,2,    0.032,2,    0.001,2,    0.020,2,   2381.9,2,   2400.9,2,   -999.0,9,   7.3761,       25,6, -999.000,9,    38.90,2, -999.000,9, -999.000,   -999.0,9,   -999.0, -999.000,9, -999.000, -999.000,9, -999.000,   -999.0,9,   -999.0, -999.000,9, -999.000,9, -999.000,9
  49NZ20140717,   P01,    51,  1,     19, X12J19,2,20140721,0353, 40.6351, 147.2050, 5302,   1800.8,2,   2.1354,2,   2.13521,2,  34.5528,2,  34.5525,2,  34.7346,2,    57.42,2,    57.64,2,   99.883,   0.0047,2,    0.003,2,  -999.00,9,    2.677,1,    0.000,2,   162.19,2,     0.18,    42.02,2,     0.05,     0.00,2,     0.01,     2.99,2,     0.01,  -999.00,9,  -999.00,    0.030,2,    0.020,2,    0.000,2,    0.050,2,   2379.8,2,   2407.9,2,   -999.0,9,   7.3995,       25,2, -999.000,9,    37.76,2, -999.000,9, -999.000,   -999.0,9,   -999.0, -999.000,9, -999.000, -999.000,9, -999.000,   -999.0,9,   -999.0, -999.000,9, -999.000,9, -999.000,9
  49NZ20140717,   P01,    51,  1,     18, X12J18,2,20140721,0353, 40.6351, 147.2050, 5302,   2000.8,2,   1.9949,2,   1.99495,2,  34.5844,2,  34.5838,2,  34.7649,2,    69.78,2,    70.06,2,   99.874,   0.0050,2,    0.002,2,  -999.00,9,    2.591,1,    0.000,2,   162.74,2,     0.18,    41.33,2,     0.05,     0.00,2,     0.01,     2.93,2,     0.01,  -999.00,9,  -999.00,    0.008,2,    0.005,2,    0.001,2,    0.060,2,   2375.8,2,   2409.3,2,   -999.0,9,   7.4252,       25,2, -999.000,9,    38.81,2, -999.000,9, -999.000,   -999.0,9,   -999.0, -999.000,9, -999.000, -999.000,9, -999.000,   -999.0,9,   -999.0, -999.000,9, -999.000,9, -999.000,9
  49NZ20140717,   P01,    51,  1,     17, X12J17,2,20140721,0353, 40.6351, 147.2050, 5302,   2200.5,2,   1.8685,2,   1.86851,2,  34.6080,2,  34.6077,2,  34.7899,2,    82.71,2,    82.67,2,   99.892,   0.0043,2,    0.001,2,  -999.00,9,    2.522,1,    0.000,2,   162.86,2,     0.18,    40.57,2,     0.05,     0.00,2,     0.01,     2.87,2,     0.01,  -999.00,9,  -999.00,    0.003,2,    0.004,2,    0.000,2,    0.070,2,   2368.8,2,   2415.0,2,   -999.0,9,   7.4520,       25,2, -999.000,9,    38.89,2, -999.000,9, -999.000,   -999.0,9,   -999.0, -999.000,9, -999.000, -999.000,9, -999.000,   -999.0,9,   -999.0, -999.000,9, -999.000,9, -999.000,9
  49NZ20140717,   P01,    51,  1,     16, X12J16,2,20140721,0353, 40.6351, 147.2050, 5302,   2401.4,2,   1.7814,2,   1.78149,2,  34.6238,2,  34.6232,2,  34.8064,2,    93.38,2,    93.41,2,   99.907,   0.0037,2,    0.000,2,  -999.00,9,    2.443,1,    0.000,2,   162.10,2,     0.18,    39.91,2,     0.05,     0.00,2,     0.01,     2.82,2,     0.01,  -999.00,9,  -999.00,    0.001,2,    0.002,2,    0.000,2,    0.120,2,   2362.8,6,   2414.9,2,   -999.0,9,   7.4714,       25,2, -999.000,9,    40.62,3, -999.000,9, -999.000,   -999.0,9,   -999.0, -999.000,9, -999.000, -999.000,9, -999.000,   -999.0,9,   -999.0, -999.000,9, -999.000,9, -999.000,9
  49NZ20140717,   P01,    51,  1,     15, X12J15,2,20140721,0353, 40.6351, 147.2050, 5302,   2600.6,2,   1.6962,2,   1.69620,2,  34.6385,2,  34.6379,2,  34.8209,2,   104.63,2,   104.66,2,   99.922,   0.0031,2,   -0.001,2,  -999.00,9,    2.388,1,    0.000,2,   160.87,2,     0.17,    39.25,2,     0.05,     0.00,2,     0.01,     2.76,2,     0.01,  -999.00,9,  -999.00,    0.002,2,    0.004,2,    0.000,2,    0.090,2,   2356.8,2,   2417.9,2,   -999.0,9,   7.4931,       25,2, -999.000,9,    35.48,2, -999.000,9, -999.000,   -999.0,9,   -999.0, -999.000,9, -999.000, -999.000,9, -999.000,   -999.0,9,   -999.0, -999.000,9, -999.000,9, -999.000,9
  49NZ20140717,   P01,    51,  1,     14, X12J14,2,20140721,0353, 40.6351, 147.2050, 5302,   2799.4,2,   1.6451,2,   1.64514,2,  34.6479,2,  34.6471,2,  34.8308,2,   112.55,2,   112.45,2,   99.950,   0.0020,2,   -0.001,2,  -999.00,9,    2.320,1,    0.000,2,   159.73,2,     0.17,    38.72,2,     0.05,     0.00,2,     0.01,     2.72,2,     0.01,  -999.00,9,  -999.00,    0.000,2,    0.000,2,    0.000,2,    0.060,2,   2351.6,2,   2417.8,2,   -999.0,9,   7.5072,       25,6, -999.000,9,    37.46,2, -999.000,9, -999.000,   -999.0,9,   -999.0, -999.000,9, -999.000, -999.000,9, -999.000,   -999.0,9,   -999.0, -999.000,9, -999.000,9, -999.000,9
  49NZ20140717,   P01,    51,  1,     13, X12113,2,20140721,0353, 40.6351, 147.2050, 5302,   3001.4,2,   1.5981,2,   1.59819,2,  34.6562,2,  34.6559,2,  34.8400,2,   120.41,2,   120.38,2,   99.943,   0.0023,2,   -0.002,2,  -999.00,9,    2.244,1,    0.000,2,   157.95,2,     0.17,    38.16,2,     0.05,     0.00,2,     0.01,     2.68,2,     0.01,  -999.00,9,  -999.00,    0.000,2,    0.000,2,    0.000,2,    0.000,2,   2347.4,2,   2421.9,3,   -999.0,9,   7.5226,       25,2, -999.000,9,    39.06,2, -999.000,9, -999.000,   -999.0,9,   -999.0, -999.000,9, -999.000, -999.000,9, -999.000,   -999.0,9,   -999.0, -999.000,9, -999.000,9, -999.000,9
  49NZ20140717,   P01,    51,  1,     12, X12J12,2,20140721,0353, 40.6351, 147.2050, 5302,   3250.8,2,   1.5465,2,   1.54655,2,  34.6655,2,  34.6648,2,  34.8506,2,   130.05,2,   129.91,2,   99.943,   0.0023,2,   -0.002,2,  -999.00,9,    2.195,1,    0.000,2,   155.78,2,     0.17,    37.57,2,     0.05,     0.00,2,     0.01,     2.63,2,     0.01,  -999.00,9,  -999.00,    0.004,2,    0.003,2,    0.001,2,    0.000,2,   2340.5,2,   2418.9,6,   -999.0,9,   7.5387,       25,2, -999.000,9,    38.33,2, -999.000,9, -999.000,   -999.0,9,   -999.0, -999.000,9, -999.000, -999.000,9, -999.000,   -999.0,9,   -999.0, -999.000,9, -999.000,9, -999.000,9
  49NZ20140717,   P01,    51,  1,     11, X12J11,2,20140721,0353, 40.6351, 147.2050, 5302,   5249.6,2,   1.5338,2,   1.53371,2,  34.6904,2,  34.6903,2,-999.0000,9,   159.77,2,   160.04,2,   99.706,   0.0118,2,   -0.004,2,  -999.00,9,   -1.867,4,    0.000,2,  -999.00,9,  -999.00,  -999.00,9,  -999.00,  -999.00,9,  -999.00,  -999.00,9,  -999.00,  -999.00,9,  -999.00, -999.000,9, -999.000,9, -999.000,9, -999.000,9,   -999.0,9,   -999.0,9,   -999.0,9,-999.0000,     -999,9, -999.000,9,  -999.00,9, -999.000,9, -999.000,   -999.0,9,   -999.0, -999.000,9, -999.000, -999.000,9, -999.000,   -999.0,9,   -999.0, -999.000,9, -999.000,9, -999.000,9
  49NZ20140717,   P01,    51,  1,     10, X12J10,2,20140721,0353, 40.6351, 147.2050, 5302,   3750.0,2,   1.4955,2,   1.49545,2,  34.6766,2,  34.6765,2,  34.8612,2,   142.38,2,   142.10,2,   99.948,   0.0021,2,   -0.003,2,  -999.00,9,    1.931,4,    0.000,2,   153.06,2,     0.17,    36.76,2,     0.05,     0.00,2,     0.01,     2.57,2,     0.01,  -999.00,9,  -999.00,    0.000,2,    0.000,2,    0.000,2,    0.000,2,   2332.1,2,   2417.4,2,   -999.0,9,   7.5606,       25,2, -999.000,9,    42.39,3, -999.000,9, -999.000,   -999.0,9,   -999.0, -999.000,9, -999.000, -999.000,9, -999.000,   -999.0,9,   -999.0, -999.000,9, -999.000,9, -999.000,9