BOTTLE,20230904JAMSTECRIGC
EXPOCODE,SECT,STNNBR,CASTNO,SAMPNO,BTLNBR,BTLNBR_FLAG_W,DATE,TIME,LATITUDE,LONGITUDE,DEPTH,CTDPRS,CTDPRS_FLAG_W,CTDTMP,CTDTMP_FLAG_W,SBE35,SBE35_FLAG_W,CTDSAL,CTDSAL_FLAG_W,SALNTY,SALNTY_FLAG_W,DNSSAL,DNSSAL_FLAG_W,CTDOXY,CTDOXY_FLAG_W,OXYGEN,OXYGEN_FLAG_W,XMISS,XMISSCP,XMISS_FLAG_W,FLUOR,FLUOR_FLAG_W,CHLORA,CHLORA_FLAG_W,CDOM,CDOM_FLAG_W,PAR,PAR_FLAG_W,SILCAT,SILCAT_FLAG_W,SILUNC,NITRAT,NITRAT_FLAG_W,NRAUNC,NITRIT,NITRIT_FLAG_W,NRIUNC,PHSPHT,PHSPHT_FLAG_W,PHPUNC,AMMONIA,AMMONIA_FLAG_W,NH4UNC,CFC-11,CFC-11_FLAG_W,CFC-12,CFC-12_FLAG_W,CFC113,CFC113_FLAG_W,SF6,SF6_FLAG_W,TCARBN,TCARBN_FLAG_W,ALKALI,ALKALI_FLAG_W,ALKALI_POT,ALKALI_POT_FLAG_W,PH_TOT,PH_TMP,PH_TOT_FLAG_W,CALCIUM,CALCIUM_FLAG_W,DOC,DOC_FLAG_W,DELC13,DELC13_FLAG_W,C13ERR,DELC14,DELC14_FLAG_W,C14ERR,CS-134,CS-134_FLAG_W,CS134ER,CS-137,CS-137_FLAG_W,CS137ER,I-129,I-129_FLAG_W,I-129ER,CDOM-325,CDOM-325_FLAG_W,CDOM-370,CDOM-370_FLAG_W,CDOM-443,CDOM-443_FLAG_W
,,,,,,,,UTC,DEG,DEG,METERS,DBAR,,ITS-90,,ITS-90,,PSS-78,,PSS-78,,G/KG,,UMOL/KG,,UMOL/KG,,%TRANS,/METER,,MG/CUM,,MG/CUM,,MG/CUM,,UE/SQM/S,,UMOL/KG,,UMOL/KG,UMOL/KG,,UMOL/KG,UMOL/KG,,UMOL/KG,UMOL/KG,,UMOL/KG,UMOL/KG,,UMOL/KG,PMOL/KG,,PMOL/KG,,PMOL/KG,,FMOL/KG,,UMOL/KG,,UMOL/KG,,UMOL/KG,,,DEG C,,MMOL/KG,,UMOL/KG,,/MILLE,,/MILLE,/MILLE,,/MILLE,MBQ/KG,,MBQ/KG,MBQ/KG,,MBQ/KG,,,,/METER,,/METER,,/METER,
  49NZ20140717,   P01,    85,  1,      0,   -999,9,20140801,0201, 46.9844, 169.5743, 2401,   -999.0,9,-999.0000,9,-999.00000,9,-999.0000,9,  32.7814,2,-999.0000,9,  -999.00,9,  -999.00,9, -999.000,-999.0000,9, -999.000,9,  -999.00,9, -999.000,9, -999.000,9,    26.71,2,     0.09,    12.08,2,     0.02,     0.13,2,     0.01,     1.24,2,     0.01,     0.29,2,     0.02, -999.000,9, -999.000,9, -999.000,9, -999.000,9,   -999.0,9,   -999.0,9,   -999.0,9,-999.0000,     -999,9, -999.000,9,  -999.00,9, -999.000,9, -999.000,   -999.0,9,   -999.0, -999.000,9, -999.000, -999.000,9, -999.000,   -999.0,9,   -999.0, -999.000,9, -999.000,9, -999.000,9
  49NZ20140717,   P01,    85,  1,     36, X12J36,2,20140801,0201, 46.9844, 169.5743, 2401,     10.2,2,  10.6376,2,  10.63785,2,  32.8015,2,  32.7959,2,-999.0000,9,   296.51,2,   293.69,2,   94.403,   0.2304,2,    0.460,2,  -999.00,9,    0.280,1,  150.004,2,    27.64,2,     0.09,    12.81,2,     0.02,     0.13,2,     0.01,     1.28,2,     0.01,     0.34,2,     0.02, -999.000,9, -999.000,9, -999.000,9, -999.000,9,   2039.6,2,   2226.7,2,   -999.0,9,   7.8530,       25,2, -999.000,9,    62.92,2, -999.000,9, -999.000,   -999.0,9,   -999.0, -999.000,9, -999.000, -999.000,9, -999.000,   -999.0,9,   -999.0, -999.000,9, -999.000,9, -999.000,9
  49NZ20140717,   P01,    85,  1,     35, X12J35,2,20140801,0201, 46.9844, 169.5743, 2401,     50.5,2,   3.8867,2,   3.88670,2,  32.9073,2,  32.9104,2,-999.0000,9,   315.06,2,   316.21,2,   98.467,   0.0618,2,    0.265,2,  -999.00,9,    0.834,1,    2.664,2,    35.17,2,     0.10,    21.32,2,     0.03,     0.42,2,     0.01,     1.83,2,     0.01,     0.92,2,     0.03, -999.000,9, -999.000,9, -999.000,9, -999.000,9,   2107.5,6,   2223.2,2,   -999.0,9,   7.6836,       25,2, -999.000,9,    51.71,2, -999.000,9, -999.000,   -999.0,9,   -999.0, -999.000,9, -999.000, -999.000,9, -999.000,   -999.0,9,   -999.0, -999.000,9, -999.000,9, -999.000,9
  49NZ20140717,   P01,    85,  1,     34, X12J34,2,20140801,0201, 46.9844, 169.5743, 2401,    100.2,2,   1.8104,2,   1.80905,2,  32.9831,2,  33.0541,2,-999.0000,9,   311.50,2,   295.89,2,   99.356,   0.0258,2,    0.069,2,  -999.00,9,    1.077,1,    0.174,2,    43.81,2,     0.10,    26.30,2,     0.04,     0.01,2,     0.01,     2.05,2,     0.01,     0.01,2,     0.01, -999.000,9, -999.000,9, -999.000,9, -999.000,9,   2147.4,2,   2235.0,2,   -999.0,9,   7.6003,       25,2, -999.000,9,    48.60,2, -999.000,9, -999.000,   -999.0,9,   -999.0, -999.000,9, -999.000, -999.000,9, -999.000,   -999.0,9,   -999.0, -999.000,9, -999.000,9, -999.000,9
  49NZ20140717,   P01,    85,  1,     33, X12J33,2,20140801,0201, 46.9844, 169.5743, 2401,    150.5,2,   3.3687,2,   3.36923,2,  33.7017,2,  33.7033,2,-999.0000,9,    86.43,2,    86.42,2,   99.514,   0.0195,2,    0.023,2,  -999.00,9,    2.591,1,    0.000,2,    84.63,2,     0.13,    41.41,2,     0.05,     0.01,2,     0.01,     2.96,2,     0.01,     0.01,2,     0.01, -999.000,9, -999.000,9, -999.000,9, -999.000,9,   2296.8,2,   2284.8,2,   -999.0,9,   7.2912,       25,6, -999.000,9,    47.53,2, -999.000,9, -999.000,   -999.0,9,   -999.0, -999.000,9, -999.000, -999.000,9, -999.000,   -999.0,9,   -999.0, -999.000,9, -999.000,9, -999.000,9
  49NZ20140717,   P01,    85,  1,     32, X12J32,2,20140801,0201, 46.9844, 169.5743, 2401,    199.8,2,   3.6593,2,   3.65936,2,  33.8589,2,  33.8588,2,-999.0000,9,    37.92,2,    38.63,2,   99.617,   0.0153,2,    0.015,2,  -999.00,9,    2.790,1,    0.000,2,    94.94,2,     0.13,    44.50,2,     0.06,     0.01,2,     0.01,     3.14,2,     0.01,     0.01,2,     0.01, -999.000,9, -999.000,9, -999.000,9, -999.000,9,   2330.9,2,   2294.8,6,   -999.0,9,   7.2355,       25,2, -999.000,9,    45.50,2, -999.000,9, -999.000,   -999.0,9,   -999.0, -999.000,9, -999.000, -999.000,9, -999.000,   -999.0,9,   -999.0, -999.000,9, -999.000,9, -999.000,9
  49NZ20140717,   P01,    85,  1,     31, X12J31,2,20140801,0201, 46.9844, 169.5743, 2401,    249.7,2,   3.6434,2,   3.64310,2,  33.9543,2,  33.9562,2,-999.0000,9,    23.72,2,    23.84,2,   99.672,   0.0132,2,    0.016,2,  -999.00,9,    2.855,1,    0.000,2,   103.01,2,     0.14,    45.11,2,     0.06,     0.01,2,     0.01,     3.19,2,     0.01,     0.00,2,     0.01, -999.000,9, -999.000,9, -999.000,9, -999.000,9,   2344.2,2,   2310.1,2,   -999.0,9,   7.2288,       25,2, -999.000,9,    44.94,2, -999.000,9, -999.000,   -999.0,9,   -999.0, -999.000,9, -999.000, -999.000,9, -999.000,   -999.0,9,   -999.0, -999.000,9, -999.000,9, -999.000,9
  49NZ20140717,   P01,    85,  1,     30, X12J30,2,20140801,0201, 46.9844, 169.5743, 2401,    329.9,2,   3.6060,2,   3.60607,2,  34.0614,2,  34.0635,2,-999.0000,9,    17.94,2,    17.84,2,   99.617,   0.0153,2,    0.015,2,  -999.00,9,    2.919,1,    0.000,2,   112.35,2,     0.14,    44.87,2,     0.06,     0.01,2,     0.01,     3.18,2,     0.01,     0.00,2,     0.01, -999.000,9, -999.000,9, -999.000,9, -999.000,9,   2352.0,2,   2324.6,2,   -999.0,9,   7.2457,       25,2, -999.000,9,    43.91,2, -999.000,9, -999.000,   -999.0,9,   -999.0, -999.000,9, -999.000, -999.000,9, -999.000,   -999.0,9,   -999.0, -999.000,9, -999.000,9, -999.000,9
  49NZ20140717,   P01,    85,  1,     29, X12J29,2,20140801,0201, 46.9844, 169.5743, 2401,    430.2,2,   3.4694,2,   3.46945,2,  34.1501,2,  34.1516,2,-999.0000,9,    16.93,2,    16.86,2,   99.797,   0.0081,2,    0.015,2,  -999.00,9,    3.036,1,    0.000,2,   121.29,2,     0.15,    44.51,2,     0.06,     0.00,2,     0.01,     3.15,2,     0.01,    -0.01,2,     0.01, -999.000,9, -999.000,9, -999.000,9, -999.000,9,   2358.5,2,   2339.6,2,   -999.0,9,   7.2630,       25,2, -999.000,9,    44.70,2, -999.000,9, -999.000,   -999.0,9,   -999.0, -999.000,9, -999.000, -999.000,9, -999.000,   -999.0,9,   -999.0, -999.000,9, -999.000,9, -999.000,9
  49NZ20140717,   P01,    85,  1,     28, X12J28,2,20140801,0201, 46.9844, 169.5743, 2401,    529.4,2,   3.3076,2,   3.30746,2,  34.2282,2,  34.2281,2,-999.0000,9,    14.38,2,    14.06,2,   99.834,   0.0067,2,    0.015,2,  -999.00,9,    3.068,1,    0.000,2,   129.94,2,     0.16,    44.58,2,     0.06,     0.00,2,     0.01,     3.17,2,     0.01,     0.00,2,     0.01, -999.000,9, -999.000,9, -999.000,9, -999.000,9,   2367.7,2,   2348.0,2,   -999.0,9,   7.2736,       25,2, -999.000,9,    40.32,2, -999.000,9, -999.000,   -999.0,9,   -999.0, -999.000,9, -999.000, -999.000,9, -999.000,   -999.0,9,   -999.0, -999.000,9, -999.000,9, -999.000,9
  49NZ20140717,   P01,    85,  1,     27, X12J27,2,20140801,0201, 46.9844, 169.5743, 2401,    630.3,2,   3.1742,2,   3.17404,2,  34.2771,2,  34.2768,2,-999.0000,9,    14.69,2,    14.43,2,   99.853,   0.0059,2,    0.014,2,  -999.00,9,    3.172,1,    0.000,2,   135.91,2,     0.16,    44.51,2,     0.06,     0.00,2,     0.01,     3.17,2,     0.01,     0.00,2,     0.01, -999.000,9, -999.000,9, -999.000,9, -999.000,9,   2372.7,2,   2358.9,2,   -999.0,9,   7.2822,       25,2, -999.000,9,    42.27,2, -999.000,9, -999.000,   -999.0,9,   -999.0, -999.000,9, -999.000, -999.000,9, -999.000,   -999.0,9,   -999.0, -999.000,9, -999.000,9, -999.000,9
  49NZ20140717,   P01,    85,  1,     26, X12J26,2,20140801,0201, 46.9844, 169.5743, 2401,    730.0,2,   3.0141,2,   3.01406,2,  34.3235,2,  34.3244,2,-999.0000,9,    15.51,2,    15.25,2,   99.788,   0.0085,2,    0.013,2,  -999.00,9,    3.107,1,    0.000,2,   141.62,2,     0.16,    44.36,2,     0.06,     0.00,2,     0.01,     3.15,2,     0.01,     0.01,2,     0.01, -999.000,9, -999.000,9, -999.000,9, -999.000,9,   2379.4,6,   2364.9,2,   -999.0,9,   7.2909,       25,2, -999.000,9,    40.22,2, -999.000,9, -999.000,   -999.0,9,   -999.0, -999.000,9, -999.000, -999.000,9, -999.000,   -999.0,9,   -999.0, -999.000,9, -999.000,9, -999.000,9
  49NZ20140717,   P01,    85,  1,     25, X12J25,2,20140801,0201, 46.9844, 169.5743, 2401,    830.4,2,   2.8670,2,   2.86693,2,  34.3630,2,  34.3631,2,-999.0000,9,    16.24,2,    16.00,2,   99.786,   0.0086,2,    0.013,2,  -999.00,9,    3.159,1,    0.000,2,   147.14,2,     0.17,    44.36,2,     0.06,     0.00,2,     0.01,     3.16,2,     0.01,     0.01,2,     0.01, -999.000,9, -999.000,9, -999.000,9, -999.000,9,   2383.9,2,   2374.1,2,   -999.0,9,   7.2976,       25,2, -999.000,9,    40.96,2, -999.000,9, -999.000,   -999.0,9,   -999.0, -999.000,9, -999.000, -999.000,9, -999.000,   -999.0,9,   -999.0, -999.000,9, -999.000,9, -999.000,9
  49NZ20140717,   P01,    85,  1,     24, X12J24,2,20140801,0201, 46.9844, 169.5743, 2401,    930.1,2,   2.7238,2,   2.72353,2,  34.3997,2,  34.4001,2,-999.0000,9,    17.38,2,    17.05,2,   99.832,   0.0067,2,    0.011,2,  -999.00,9,    3.181,1,    0.000,2,   151.98,2,     0.17,    44.35,2,     0.06,     0.00,2,     0.01,     3.15,2,     0.01,     0.01,2,     0.01, -999.000,9, -999.000,9, -999.000,9, -999.000,9,   2387.0,2,   2380.8,2,   -999.0,9,   7.3043,       25,6, -999.000,9,    40.25,2, -999.000,9, -999.000,   -999.0,9,   -999.0, -999.000,9, -999.000, -999.000,9, -999.000,   -999.0,9,   -999.0, -999.000,9, -999.000,9, -999.000,9
  49NZ20140717,   P01,    85,  1,     23, X12J23,2,20140801,0201, 46.9844, 169.5743, 2401,   1070.4,2,   2.4927,2,   2.49253,2,  34.4529,2,  34.4530,2,-999.0000,9,    22.64,2,    22.59,2,   99.793,   0.0083,2,    0.011,2,  -999.00,9,    3.119,1,    0.000,2,   158.91,2,     0.17,    44.18,2,     0.06,     0.00,2,     0.01,     3.13,2,     0.01,     0.00,2,     0.01, -999.000,9, -999.000,9, -999.000,9, -999.000,9,   2391.6,2,   2390.5,2,   -999.0,9,   7.3196,       25,2, -999.000,9,    40.33,2, -999.000,9, -999.000,   -999.0,9,   -999.0, -999.000,9, -999.000, -999.000,9, -999.000,   -999.0,9,   -999.0, -999.000,9, -999.000,9, -999.000,9
  49NZ20140717,   P01,    85,  1,     22, X12J22,2,20140801,0201, 46.9844, 169.5743, 2401,   1270.0,2,   2.2602,2,   2.25992,2,  34.5047,2,  34.5051,2,-999.0000,9,    32.89,2,    33.22,2,   99.834,   0.0067,2,    0.010,2,  -999.00,9,    3.123,1,    0.000,2,   164.94,2,     0.18,    43.56,2,     0.05,     0.00,2,     0.01,     3.08,2,     0.01,     0.01,2,     0.01, -999.000,9, -999.000,9, -999.000,9, -999.000,9,   2390.9,2,   2401.1,6,   -999.0,9,   7.3431,       25,2, -999.000,9,    38.47,2, -999.000,9, -999.000,   -999.0,9,   -999.0, -999.000,9, -999.000, -999.000,9, -999.000,   -999.0,9,   -999.0, -999.000,9, -999.000,9, -999.000,9
  49NZ20140717,   P01,    85,  1,     21, X12J21,2,20140801,0201, 46.9844, 169.5743, 2401,   1470.4,2,   2.1016,2,   2.10133,2,  34.5415,2,  34.5419,2,-999.0000,9,    44.88,2,    45.34,2,   99.836,   0.0066,2,    0.009,2,  -999.00,9,    3.003,1,    0.000,2,   167.64,2,     0.18,    42.82,2,     0.05,     0.00,2,     0.01,     3.03,2,     0.01,     0.01,2,     0.01, -999.000,9, -999.000,9, -999.000,9, -999.000,9,   2388.5,2,   2406.0,2,   -999.0,9,   7.3722,       25,2, -999.000,9,    39.80,2, -999.000,9, -999.000,   -999.0,9,   -999.0, -999.000,9, -999.000, -999.000,9, -999.000,   -999.0,9,   -999.0, -999.000,9, -999.000,9, -999.000,9
  49NZ20140717,   P01,    85,  1,     20, X12J20,2,20140801,0201, 46.9844, 169.5743, 2401,   1669.7,2,   1.9642,2,   1.96415,2,  34.5725,2,  34.5735,2,-999.0000,9,    57.72,2,    58.68,2,   99.827,   0.0069,2,    0.008,2,  -999.00,9,    2.948,1,    0.000,2,   168.76,2,     0.18,    41.98,2,     0.05,     0.00,2,     0.01,     2.98,2,     0.01,     0.01,2,     0.01, -999.000,9, -999.000,9, -999.000,9, -999.000,9,   2383.4,2,   2410.8,2,   -999.0,9,   7.4000,       25,6, -999.000,9,    40.67,2, -999.000,9, -999.000,   -999.0,9,   -999.0, -999.000,9, -999.000, -999.000,9, -999.000,   -999.0,9,   -999.0, -999.000,9, -999.000,9, -999.000,9
  49NZ20140717,   P01,    85,  1,     19, X12J19,2,20140801,0201, 46.9844, 169.5743, 2401,   1869.9,2,   1.8083,2,   1.80820,2,  34.6047,2,  34.6053,2,-999.0000,9,    75.86,2,    76.77,2,   99.825,   0.0070,2,    0.006,2,  -999.00,9,    2.816,1,    0.000,2,   168.11,2,     0.18,    40.97,2,     0.05,     0.00,2,     0.01,     2.90,2,     0.01,     0.00,2,     0.01, -999.000,9, -999.000,9, -999.000,9, -999.000,9,   2374.1,2,   2414.2,2,   -999.0,9,   7.4366,       25,2, -999.000,9,    39.89,2, -999.000,9, -999.000,   -999.0,9,   -999.0, -999.000,9, -999.000, -999.000,9, -999.000,   -999.0,9,   -999.0, -999.000,9, -999.000,9, -999.000,9
  49NZ20140717,   P01,    85,  1,     18, X12J18,2,20140801,0201, 46.9844, 169.5743, 2401,   2069.7,2,   1.7153,2,   1.71528,2,  34.6225,2,  34.6231,2,-999.0000,9,    88.88,2,    89.88,2,   99.790,   0.0084,2,    0.006,2,  -999.00,9,    2.801,1,    0.000,2,   167.22,2,     0.18,    40.11,2,     0.05,     0.00,2,     0.01,     2.83,2,     0.01,     0.00,2,     0.01, -999.000,9, -999.000,9, -999.000,9, -999.000,9,   2367.0,2,   2415.2,2,   -999.0,9,   7.4629,       25,2, -999.000,9,    39.82,2, -999.000,9, -999.000,   -999.0,9,   -999.0, -999.000,9, -999.000, -999.000,9, -999.000,   -999.0,9,   -999.0, -999.000,9, -999.000,9, -999.000,9
  49NZ20140717,   P01,    85,  1,     17, X12J17,2,20140801,0201, 46.9844, 169.5743, 2401,   2271.8,2,   1.6597,2,   1.65970,2,  34.6341,2,  34.6349,2,-999.0000,9,    97.97,2,    98.93,2,   99.784,   0.0087,2,    0.005,2,  -999.00,9,    2.640,1,    0.000,2,   166.28,2,     0.18,    39.56,2,     0.05,     0.00,2,     0.01,     2.79,2,     0.01,     0.00,2,     0.01, -999.000,9, -999.000,9, -999.000,9, -999.000,9,   2362.0,2,   2415.8,2,   -999.0,9,   7.4813,       25,2, -999.000,9,    39.89,2, -999.000,9, -999.000,   -999.0,9,   -999.0, -999.000,9, -999.000, -999.000,9, -999.000,   -999.0,9,   -999.0, -999.000,9, -999.000,9, -999.000,9
  49NZ20140717,   P01,    85,  1,     16, X12J16,9,20140801,0201, 46.9844, 169.5743, 2401,   -999.0,9,-999.0000,9,-999.00000,9,-999.0000,9,-999.0000,9,-999.0000,9,  -999.00,9,  -999.00,9, -999.000,-999.0000,9, -999.000,9,  -999.00,9, -999.000,9, -999.000,9,  -999.00,9,  -999.00,  -999.00,9,  -999.00,  -999.00,9,  -999.00,  -999.00,9,  -999.00,  -999.00,9,  -999.00, -999.000,9, -999.000,9, -999.000,9, -999.000,9,   -999.0,9,   -999.0,9,   -999.0,9,-999.0000,     -999,9, -999.000,9,  -999.00,9, -999.000,9, -999.000,   -999.0,9,   -999.0, -999.000,9, -999.000, -999.000,9, -999.000,   -999.0,9,   -999.0, -999.000,9, -999.000,9, -999.000,9
  49NZ20140717,   P01,    85,  1,     15, X12J15,9,20140801,0201, 46.9844, 169.5743, 2401,   -999.0,9,-999.0000,9,-999.00000,9,-999.0000,9,-999.0000,9,-999.0000,9,  -999.00,9,  -999.00,9, -999.000,-999.0000,9, -999.000,9,  -999.00,9, -999.000,9, -999.000,9,  -999.00,9,  -999.00,  -999.00,9,  -999.00,  -999.00,9,  -999.00,  -999.00,9,  -999.00,  -999.00,9,  -999.00, -999.000,9, -999.000,9, -999.000,9, -999.000,9,   -999.0,9,   -999.0,9,   -999.0,9,-999.0000,     -999,9, -999.000,9,  -999.00,9, -999.000,9, -999.000,   -999.0,9,   -999.0, -999.000,9, -999.000, -999.000,9, -999.000,   -999.0,9,   -999.0, -999.000,9, -999.000,9, -999.000,9
  49NZ20140717,   P01,    85,  1,     14, X12J14,9,20140801,0201, 46.9844, 169.5743, 2401,   -999.0,9,-999.0000,9,-999.00000,9,-999.0000,9,-999.0000,9,-999.0000,9,  -999.00,9,  -999.00,9, -999.000,-999.0000,9, -999.000,9,  -999.00,9, -999.000,9, -999.000,9,  -999.00,9,  -999.00,  -999.00,9,  -999.00,  -999.00,9,  -999.00,  -999.00,9,  -999.00,  -999.00,9,  -999.00, -999.000,9, -999.000,9, -999.000,9, -999.000,9,   -999.0,9,   -999.0,9,   -999.0,9,-999.0000,     -999,9, -999.000,9,  -999.00,9, -999.000,9, -999.000,   -999.0,9,   -999.0, -999.000,9, -999.000, -999.000,9, -999.000,   -999.0,9,   -999.0, -999.000,9, -999.000,9, -999.000,9
  49NZ20140717,   P01,    85,  1,     13, X12113,9,20140801,0201, 46.9844, 169.5743, 2401,   -999.0,9,-999.0000,9,-999.00000,9,-999.0000,9,-999.0000,9,-999.0000,9,  -999.00,9,  -999.00,9, -999.000,-999.0000,9, -999.000,9,  -999.00,9, -999.000,9, -999.000,9,  -999.00,9,  -999.00,  -999.00,9,  -999.00,  -999.00,9,  -999.00,  -999.00,9,  -999.00,  -999.00,9,  -999.00, -999.000,9, -999.000,9, -999.000,9, -999.000,9,   -999.0,9,   -999.0,9,   -999.0,9,-999.0000,     -999,9, -999.000,9,  -999.00,9, -999.000,9, -999.000,   -999.0,9,   -999.0, -999.000,9, -999.000, -999.000,9, -999.000,   -999.0,9,   -999.0, -999.000,9, -999.000,9, -999.000,9
  49NZ20140717,   P01,    85,  1,     12, X12J12,2,20140801,0201, 46.9844, 169.5743, 2401,     50.7,2,   3.8853,2,   3.88512,2,  32.9077,2,-999.0000,9,-999.0000,9,   315.48,2,  -999.00,9,   98.457,   0.0622,2,    0.260,2,  -999.00,9,    0.803,1,    2.752,2,  -999.00,9,  -999.00,  -999.00,9,  -999.00,  -999.00,9,  -999.00,  -999.00,9,  -999.00,  -999.00,9,  -999.00, -999.000,9, -999.000,9, -999.000,9, -999.000,9,   -999.0,9,   -999.0,9,   -999.0,9,-999.0000,     -999,9, -999.000,9,  -999.00,9, -999.000,9, -999.000,   -999.0,9,   -999.0, -999.000,9, -999.000, -999.000,9, -999.000,   -999.0,9,   -999.0, -999.000,9, -999.000,9, -999.000,9
  49NZ20140717,   P01,    85,  1,     11, X12J11,2,20140801,0201, 46.9844, 169.5743, 2401,    100.3,2,   1.8175,2,   1.81729,2,  32.9960,2,-999.0000,9,-999.0000,9,   312.80,2,  -999.00,9,   99.375,   0.0251,2,    0.069,2,  -999.00,9,    1.142,1,    0.163,2,  -999.00,9,  -999.00,  -999.00,9,  -999.00,  -999.00,9,  -999.00,  -999.00,9,  -999.00,  -999.00,9,  -999.00, -999.000,9, -999.000,9, -999.000,9, -999.000,9,   -999.0,9,   -999.0,9,   -999.0,9,-999.0000,     -999,9, -999.000,9,  -999.00,9, -999.000,9, -999.000,   -999.0,9,   -999.0, -999.000,9, -999.000, -999.000,9, -999.000,   -999.0,9,   -999.0, -999.000,9, -999.000,9, -999.000,9
  49NZ20140717,   P01,    85,  1,     10, X12J10,2,20140801,0201, 46.9844, 169.5743, 2401,    150.6,2,   3.3701,2,   3.36980,2,  33.7014,2,-999.0000,9,-999.0000,9,    86.60,2,  -999.00,9,   99.522,   0.0192,2,    0.019,2,  -999.00,9,    2.502,1,    0.000,2,  -999.00,9,  -999.00,  -999.00,9,  -999.00,  -999.00,9,  -999.00,  -999.00,9,  -999.00,  -999.00,9,  -999.00, -999.000,9, -999.000,9, -999.000,9, -999.000,9,   -999.0,9,   -999.0,9,   -999.0,9,-999.0000,     -999,9, -999.000,9,  -999.00,9, -999.000,9, -999.000,   -999.0,9,   -999.0, -999.000,9, -999.000, -999.000,9, -999.000,   -999.0,9,   -999.0, -999.000,9, -999.000,9, -999.000,9