BOTTLE,20230904JAMSTECRIGC
EXPOCODE,SECT,STNNBR,CASTNO,SAMPNO,BTLNBR,BTLNBR_FLAG_W,DATE,TIME,LATITUDE,LONGITUDE,DEPTH,CTDPRS,CTDPRS_FLAG_W,CTDTMP,CTDTMP_FLAG_W,SBE35,SBE35_FLAG_W,CTDSAL,CTDSAL_FLAG_W,SALNTY,SALNTY_FLAG_W,DNSSAL,DNSSAL_FLAG_W,CTDOXY,CTDOXY_FLAG_W,OXYGEN,OXYGEN_FLAG_W,XMISS,XMISSCP,XMISS_FLAG_W,FLUOR,FLUOR_FLAG_W,CHLORA,CHLORA_FLAG_W,CDOM,CDOM_FLAG_W,PAR,PAR_FLAG_W,SILCAT,SILCAT_FLAG_W,SILUNC,NITRAT,NITRAT_FLAG_W,NRAUNC,NITRIT,NITRIT_FLAG_W,NRIUNC,PHSPHT,PHSPHT_FLAG_W,PHPUNC,AMMONIA,AMMONIA_FLAG_W,NH4UNC,CFC-11,CFC-11_FLAG_W,CFC-12,CFC-12_FLAG_W,CFC113,CFC113_FLAG_W,SF6,SF6_FLAG_W,TCARBN,TCARBN_FLAG_W,ALKALI,ALKALI_FLAG_W,ALKALI_POT,ALKALI_POT_FLAG_W,PH_TOT,PH_TMP,PH_TOT_FLAG_W,CALCIUM,CALCIUM_FLAG_W,DOC,DOC_FLAG_W,DELC13,DELC13_FLAG_W,C13ERR,DELC14,DELC14_FLAG_W,C14ERR,CS-134,CS-134_FLAG_W,CS134ER,CS-137,CS-137_FLAG_W,CS137ER,I-129,I-129_FLAG_W,I-129ER,CDOM-325,CDOM-325_FLAG_W,CDOM-370,CDOM-370_FLAG_W,CDOM-443,CDOM-443_FLAG_W
,,,,,,,,UTC,DEG,DEG,METERS,DBAR,,ITS-90,,ITS-90,,PSS-78,,PSS-78,,G/KG,,UMOL/KG,,UMOL/KG,,%TRANS,/METER,,MG/CUM,,MG/CUM,,MG/CUM,,UE/SQM/S,,UMOL/KG,,UMOL/KG,UMOL/KG,,UMOL/KG,UMOL/KG,,UMOL/KG,UMOL/KG,,UMOL/KG,UMOL/KG,,UMOL/KG,PMOL/KG,,PMOL/KG,,PMOL/KG,,FMOL/KG,,UMOL/KG,,UMOL/KG,,UMOL/KG,,,DEG C,,MMOL/KG,,UMOL/KG,,/MILLE,,/MILLE,/MILLE,,/MILLE,MBQ/KG,,MBQ/KG,MBQ/KG,,MBQ/KG,,,,/METER,,/METER,,/METER,
  49NZ20140717,   P01,    83,  1,      0,   -999,9,20140731,1809, 47.0019, 169.0982, 4167,   -999.0,9,-999.0000,9,-999.00000,9,-999.0000,9,  32.7966,2,-999.0000,9,  -999.00,9,  -999.00,9, -999.000,-999.0000,9, -999.000,9,  -999.00,9, -999.000,9, -999.000,9,    25.90,2,     0.09,    11.26,2,     0.02,     0.12,2,     0.01,     1.20,2,     0.01,  -999.00,9,  -999.00, -999.000,9, -999.000,9, -999.000,9, -999.000,9,   -999.0,9,   -999.0,9,   -999.0,9,-999.0000,     -999,9, -999.000,9,  -999.00,9, -999.000,9, -999.000,   -999.0,9,   -999.0, -999.000,9, -999.000, -999.000,9, -999.000,   -999.0,9,   -999.0, -999.000,9, -999.000,9, -999.000,9
  49NZ20140717,   P01,    83,  1,     36, X12J36,2,20140731,1809, 47.0019, 169.0982, 4167,      9.9,2,  12.1954,2,  12.19294,2,  32.7983,2,  32.8003,2,-999.0000,9,   275.30,2,   277.99,2,   95.872,   0.1686,2,    0.379,2,  -999.00,9,    0.210,1,   36.451,2,    25.80,2,     0.09,    11.29,2,     0.02,     0.12,2,     0.01,     1.20,2,     0.01,  -999.00,9,  -999.00,    3.469,2,    1.978,2,    0.366,2, -999.000,9,   2037.2,2,   2226.9,2,   -999.0,9,   7.8629,       25,6, -999.000,9,    59.85,2, -999.000,9, -999.000,   -999.0,9,   -999.0, -999.000,9, -999.000, -999.000,9, -999.000,   -999.0,9,   -999.0, -999.000,9, -999.000,9, -999.000,9
  49NZ20140717,   P01,    83,  1,     35, X12J35,2,20140731,1809, 47.0019, 169.0982, 4167,     50.5,2,   3.2629,2,   3.25971,2,  32.9294,2,  32.9268,2,-999.0000,9,   325.74,2,   326.29,2,   98.140,   0.0751,2,    0.292,2,  -999.00,9,    0.891,1,    0.952,2,    34.08,2,     0.10,    20.86,2,     0.03,     0.41,2,     0.01,     1.80,2,     0.01,  -999.00,9,  -999.00,    5.480,2,    2.927,2,    0.524,2, -999.000,9,   2111.8,6,   2228.4,2,   -999.0,9,   7.6859,       25,2, -999.000,9,    50.24,2, -999.000,9, -999.000,   -999.0,9,   -999.0, -999.000,9, -999.000, -999.000,9, -999.000,   -999.0,9,   -999.0, -999.000,9, -999.000,9, -999.000,9
  49NZ20140717,   P01,    83,  1,     34, X12J34,2,20140731,1809, 47.0019, 169.0982, 4167,    100.5,2,   2.2212,2,   2.22098,2,  32.9769,2,  32.9787,2,-999.0000,9,   316.57,2,   317.94,2,   99.311,   0.0276,2,    0.127,2,  -999.00,9,    1.148,1,    0.042,2,    37.80,2,     0.10,    24.28,2,     0.04,     0.03,2,     0.01,     1.93,2,     0.01,  -999.00,9,  -999.00,    5.556,2,    2.963,2,    0.523,2, -999.000,9,   2128.1,2,   2228.8,2,   -999.0,9,   7.6429,       25,2, -999.000,9,    48.48,2, -999.000,9, -999.000,   -999.0,9,   -999.0, -999.000,9, -999.000, -999.000,9, -999.000,   -999.0,9,   -999.0, -999.000,9, -999.000,9, -999.000,9
  49NZ20140717,   P01,    83,  1,     33, X12J33,2,20140731,1809, 47.0019, 169.0982, 4167,    150.2,2,   3.1680,2,   3.16782,2,  33.6062,2,  33.6100,2,-999.0000,9,   116.91,2,   116.86,2,   99.502,   0.0200,2,    0.029,2,  -999.00,9,    2.468,1,    0.000,2,    78.32,2,     0.12,    39.22,2,     0.05,     0.02,2,     0.01,     2.83,2,     0.01,  -999.00,9,  -999.00,    3.326,2,    1.748,2,    0.256,2, -999.000,9,   2276.4,2,   2276.0,2,   -999.0,9,   7.3302,       25,6, -999.000,9,    45.54,2, -999.000,9, -999.000,   -999.0,9,   -999.0, -999.000,9, -999.000, -999.000,9, -999.000,   -999.0,9,   -999.0, -999.000,9, -999.000,9, -999.000,9
  49NZ20140717,   P01,    83,  1,     32, X12J32,2,20140731,1809, 47.0019, 169.0982, 4167,   4172.3,2,   1.4721,2,   1.47200,2,  34.6831,2,  34.6833,2,-999.0000,9,   148.97,2,   149.95,2,   99.901,   0.0039,2,    0.001,2,  -999.00,9,    2.387,1,    0.000,2,  -999.00,9,  -999.00,  -999.00,9,  -999.00,  -999.00,9,  -999.00,  -999.00,9,  -999.00,  -999.00,9,  -999.00, -999.000,9, -999.000,9, -999.000,9, -999.000,9,   -999.0,9,   -999.0,9,   -999.0,9,-999.0000,     -999,9, -999.000,9,  -999.00,9, -999.000,9, -999.000,   -999.0,9,   -999.0, -999.000,9, -999.000, -999.000,9, -999.000,   -999.0,9,   -999.0, -999.000,9, -999.000,9, -999.000,9
  49NZ20140717,   P01,    83,  1,     31, X12J31,2,20140731,1809, 47.0019, 169.0982, 4167,    249.8,2,   3.5908,2,   3.59091,2,  33.9183,2,  33.9183,2,-999.0000,9,    29.50,2,    29.62,2,   99.720,   0.0112,2,    0.015,2,  -999.00,9,    2.851,1,    0.000,2,   100.32,2,     0.14,    44.73,2,     0.06,     0.02,2,     0.01,     3.17,2,     0.01,  -999.00,9,  -999.00,    1.950,2,    0.982,2,    0.143,2, -999.000,9,   2340.4,2,   2303.6,2,   -999.0,9,   7.2279,       25,2, -999.000,9,    44.76,2, -999.000,9, -999.000,   -999.0,9,   -999.0, -999.000,9, -999.000, -999.000,9, -999.000,   -999.0,9,   -999.0, -999.000,9, -999.000,9, -999.000,9
  49NZ20140717,   P01,    83,  1,     30, X12J30,2,20140731,1809, 47.0019, 169.0982, 4167,    278.1,2,   3.6309,2,   3.63076,2,  33.9664,2,  33.9656,2,-999.0000,9,    22.99,2,    22.99,2,   99.772,   0.0091,2,    0.016,2,  -999.00,9,    2.895,1,    0.000,2,   103.78,2,     0.14,    44.94,2,     0.06,     0.02,2,     0.01,     3.19,2,     0.01,  -999.00,9,  -999.00,    1.706,2,    0.852,2,    0.113,2, -999.000,9,   2345.0,2,   2311.8,2,   -999.0,9,   7.2269,       25,2, -999.000,9,    42.30,2, -999.000,9, -999.000,   -999.0,9,   -999.0, -999.000,9, -999.000, -999.000,9, -999.000,   -999.0,9,   -999.0, -999.000,9, -999.000,9, -999.000,9
  49NZ20140717,   P01,    83,  1,     29, X12J29,2,20140731,1809, 47.0019, 169.0982, 4167,    368.6,2,   3.5204,2,   3.52072,2,  34.0710,2,  34.0704,2,-999.0000,9,    23.19,2,    23.29,2,   99.843,   0.0063,2,    0.015,2,  -999.00,9,    3.023,1,    0.000,2,   113.79,2,     0.15,    44.20,2,     0.06,     0.01,2,     0.01,     3.15,2,     0.01,  -999.00,9,  -999.00,    1.213,2,    0.602,2,    0.074,2, -999.000,9,   2351.9,2,   2325.4,2,   -999.0,9,   7.2551,       25,2, -999.000,9,    43.88,2, -999.000,9, -999.000,   -999.0,9,   -999.0, -999.000,9, -999.000, -999.000,9, -999.000,   -999.0,9,   -999.0, -999.000,9, -999.000,9, -999.000,9
  49NZ20140717,   P01,    83,  1,     28, X12J28,2,20140731,1809, 47.0019, 169.0982, 4167,    471.8,2,   3.4427,2,   3.44262,2,  34.1628,2,  34.1637,2,-999.0000,9,    17.14,2,    16.94,2,   99.884,   0.0046,2,    0.015,2,  -999.00,9,    2.974,1,    0.000,2,   122.81,2,     0.15,    44.30,2,     0.06,     0.01,2,     0.01,     3.15,2,     0.01,  -999.00,9,  -999.00,    0.792,2,    0.377,2,    0.052,2, -999.000,9,   2362.7,2,   2339.8,2,   -999.0,9,   7.2644,       25,2, -999.000,9,    41.73,2, -999.000,9, -999.000,   -999.0,9,   -999.0, -999.000,9, -999.000, -999.000,9, -999.000,   -999.0,9,   -999.0, -999.000,9, -999.000,9, -999.000,9
  49NZ20140717,   P01,    83,  1,     27, X12J27,2,20140731,1809, 47.0019, 169.0982, 4167,    567.9,2,   3.2888,2,   3.28849,2,  34.2338,2,  34.2338,2,-999.0000,9,    15.46,2,    14.91,2,   99.927,   0.0029,2,    0.015,2,  -999.00,9,    3.057,1,    0.000,2,   130.67,2,     0.16,    44.40,2,     0.06,     0.01,2,     0.01,     3.16,2,     0.01,  -999.00,9,  -999.00,    0.533,2,    0.256,2,    0.031,2, -999.000,9,   2371.2,2,   2351.4,2,   -999.0,9,   7.2740,       25,2, -999.000,9,    39.11,2, -999.000,9, -999.000,   -999.0,9,   -999.0, -999.000,9, -999.000, -999.000,9, -999.000,   -999.0,9,   -999.0, -999.000,9, -999.000,9, -999.000,9
  49NZ20140717,   P01,    83,  1,     26, X12J26,2,20140731,1809, 47.0019, 169.0982, 4167,    669.8,2,   3.1308,2,   3.13068,2,  34.2877,2,  34.2867,2,-999.0000,9,    15.69,2,    15.12,2,   99.901,   0.0039,2,    0.014,2,  -999.00,9,    3.110,1,    0.000,2,   136.94,2,     0.16,    44.27,2,     0.06,     0.01,2,     0.01,     3.16,2,     0.01,  -999.00,9,  -999.00,    0.372,2,    0.181,2,    0.026,2, -999.000,9,   2376.8,6,   2361.5,2,   -999.0,9,   7.2827,       25,2, -999.000,9,    40.74,2, -999.000,9, -999.000,   -999.0,9,   -999.0, -999.000,9, -999.000, -999.000,9, -999.000,   -999.0,9,   -999.0, -999.000,9, -999.000,9, -999.000,9
  49NZ20140717,   P01,    83,  1,     25, X12J25,2,20140731,1809, 47.0019, 169.0982, 4167,    768.8,2,   2.9854,2,   2.98483,2,  34.3293,2,  34.3317,2,-999.0000,9,    17.46,2,    17.03,2,   99.841,   0.0064,2,    0.013,2,  -999.00,9,    3.114,1,    0.000,2,   142.40,2,     0.16,    44.15,2,     0.06,     0.01,2,     0.01,     3.15,2,     0.01,  -999.00,9,  -999.00,    0.274,2,    0.120,2,    0.018,2, -999.000,9,   2381.3,2,   2368.7,2,   -999.0,9,   7.2915,       25,2, -999.000,9,    41.53,2, -999.000,9, -999.000,   -999.0,9,   -999.0, -999.000,9, -999.000, -999.000,9, -999.000,   -999.0,9,   -999.0, -999.000,9, -999.000,9, -999.000,9
  49NZ20140717,   P01,    83,  1,     24, X12J24,2,20140731,1809, 47.0019, 169.0982, 4167,    868.5,2,   2.7987,2,   2.79866,2,  34.3758,2,  34.3753,2,-999.0000,9,    19.42,2,    19.11,2,   99.899,   0.0040,2,    0.012,2,  -999.00,9,    3.142,1,    0.000,2,   148.63,2,     0.17,    44.10,2,     0.06,     0.01,2,     0.01,     3.15,2,     0.01,  -999.00,9,  -999.00,    0.199,2,    0.087,2,    0.008,2, -999.000,9,   2384.1,2,   2376.2,2,   -999.0,9,   7.3029,       25,6, -999.000,9,    38.49,2, -999.000,9, -999.000,   -999.0,9,   -999.0, -999.000,9, -999.000, -999.000,9, -999.000,   -999.0,9,   -999.0, -999.000,9, -999.000,9, -999.000,9
  49NZ20140717,   P01,    83,  1,     23, X12J23,2,20140731,1809, 47.0019, 169.0982, 4167,    970.3,2,   2.6693,2,   2.66937,2,  34.4086,2,  34.4086,2,-999.0000,9,    21.11,2,    20.49,2,   99.921,   0.0032,2,    0.011,2,  -999.00,9,    3.148,1,    0.000,2,   153.06,2,     0.17,    44.03,2,     0.06,     0.01,2,     0.01,     3.14,2,     0.01,  -999.00,9,  -999.00,    0.140,2,    0.062,2,    0.009,2, -999.000,9,   2390.4,2,   2383.7,2,   -999.0,9,   7.3105,       25,2, -999.000,9,    41.38,2, -999.000,9, -999.000,   -999.0,9,   -999.0, -999.000,9, -999.000, -999.000,9, -999.000,   -999.0,9,   -999.0, -999.000,9, -999.000,9, -999.000,9
  49NZ20140717,   P01,    83,  1,     22, X12J22,2,20140731,1809, 47.0019, 169.0982, 4167,   1129.7,2,   2.4794,2,   2.47976,2,  34.4538,2,  34.4536,2,-999.0000,9,    25.45,2,    25.18,2,   99.876,   0.0050,2,    0.010,2,  -999.00,9,    3.051,1,    0.000,2,   158.81,2,     0.17,    43.82,2,     0.06,     0.01,2,     0.01,     3.12,2,     0.01,  -999.00,9,  -999.00,    0.094,2,    0.040,2,    0.000,2, -999.000,9,   2393.0,2,   2388.8,6,   -999.0,9,   7.3234,       25,2, -999.000,9,    40.42,2, -999.000,9, -999.000,   -999.0,9,   -999.0, -999.000,9, -999.000, -999.000,9, -999.000,   -999.0,9,   -999.0, -999.000,9, -999.000,9, -999.000,9
  49NZ20140717,   P01,    83,  1,     21, X12J21,2,20140731,1809, 47.0019, 169.0982, 4167,   1330.5,2,   2.2577,2,   2.25751,2,  34.5046,2,  34.5045,2,-999.0000,9,    36.88,2,    36.89,2,   99.912,   0.0035,2,    0.009,2,  -999.00,9,    3.131,1,    0.000,2,   164.25,2,     0.18,    43.18,2,     0.05,     0.01,2,     0.01,     3.07,2,     0.01,  -999.00,9,  -999.00,    0.059,2,    0.027,2,    0.000,2, -999.000,9,   2391.7,2,   2400.5,2,   -999.0,9,   7.3508,       25,2, -999.000,9,    40.00,2, -999.000,9, -999.000,   -999.0,9,   -999.0, -999.000,9, -999.000, -999.000,9, -999.000,   -999.0,9,   -999.0, -999.000,9, -999.000,9, -999.000,9
  49NZ20140717,   P01,    83,  1,     20, X12J20,2,20140731,1809, 47.0019, 169.0982, 4167,   1530.1,2,   2.1287,2,   2.12886,2,  34.5371,2,  34.5370,2,-999.0000,9,    45.94,2,    46.08,2,   99.921,   0.0032,2,    0.008,2,  -999.00,9,    3.048,1,    0.000,2,   166.72,2,     0.18,    42.61,2,     0.05,     0.01,2,     0.01,     3.03,2,     0.01,  -999.00,9,  -999.00,    0.035,2,    0.015,2,    0.000,2, -999.000,9,   2388.3,2,   2401.6,2,   -999.0,9,   7.3717,       25,6, -999.000,9,    40.09,2, -999.000,9, -999.000,   -999.0,9,   -999.0, -999.000,9, -999.000, -999.000,9, -999.000,   -999.0,9,   -999.0, -999.000,9, -999.000,9, -999.000,9
  49NZ20140717,   P01,    83,  1,     19, X12J19,2,20140731,1809, 47.0019, 169.0982, 4167,   1732.3,2,   1.9983,2,   1.99836,2,  34.5698,2,  34.5702,2,-999.0000,9,    58.71,2,    59.06,2,   99.932,   0.0027,2,    0.007,2,  -999.00,9,    2.961,1,    0.000,2,   167.24,2,     0.18,    41.86,2,     0.05,     0.01,2,     0.01,     2.97,2,     0.01,  -999.00,9,  -999.00,    0.018,2,    0.008,2,    0.000,2, -999.000,9,   2385.2,2,   2408.4,2,   -999.0,9,   7.3998,       25,2, -999.000,9,    38.99,2, -999.000,9, -999.000,   -999.0,9,   -999.0, -999.000,9, -999.000, -999.000,9, -999.000,   -999.0,9,   -999.0, -999.000,9, -999.000,9, -999.000,9
  49NZ20140717,   P01,    83,  1,     18, X12J18,2,20140731,1809, 47.0019, 169.0982, 4167,   1930.2,2,   1.8807,2,   1.88033,2,  34.5964,2,  34.5969,2,-999.0000,9,    72.60,2,    72.76,2,   99.958,   0.0017,2,    0.005,2,  -999.00,9,    2.864,1,    0.000,2,   166.71,2,     0.18,    41.09,2,     0.05,     0.01,2,     0.01,     2.91,2,     0.01,  -999.00,9,  -999.00,    0.007,2,    0.002,2,    0.000,2, -999.000,9,   2376.8,2,   2412.8,2,   -999.0,9,   7.4287,       25,2, -999.000,9,    39.62,2, -999.000,9, -999.000,   -999.0,9,   -999.0, -999.000,9, -999.000, -999.000,9, -999.000,   -999.0,9,   -999.0, -999.000,9, -999.000,9, -999.000,9
  49NZ20140717,   P01,    83,  1,     17, X12J17,2,20140731,1809, 47.0019, 169.0982, 4167,   2130.4,2,   1.7820,2,   1.78155,2,  34.6162,2,  34.6174,2,-999.0000,9,    85.30,2,    85.75,2,   99.958,   0.0017,2,    0.005,2,  -999.00,9,    2.794,1,    0.000,2,   165.78,2,     0.18,    40.29,2,     0.05,     0.01,2,     0.01,     2.85,2,     0.01,  -999.00,9,  -999.00,    0.002,2,    0.000,2,    0.000,2, -999.000,9,   2370.1,2,   2415.8,2,   -999.0,9,   7.4549,       25,2, -999.000,9,    38.37,2, -999.000,9, -999.000,   -999.0,9,   -999.0, -999.000,9, -999.000, -999.000,9, -999.000,   -999.0,9,   -999.0, -999.000,9, -999.000,9, -999.000,9
  49NZ20140717,   P01,    83,  1,     16, X12J16,2,20140731,1809, 47.0019, 169.0982, 4167,   2330.1,2,   1.6917,2,   1.69157,2,  34.6322,2,  34.6323,2,-999.0000,9,    96.45,2,    96.76,2,   99.966,   0.0013,2,    0.004,2,  -999.00,9,    2.766,1,    0.000,2,   164.67,2,     0.18,    39.50,2,     0.05,     0.01,2,     0.01,     2.80,2,     0.01,  -999.00,9,  -999.00,    0.003,2,    0.002,2,    0.000,2, -999.000,9,   2365.4,6,   2415.8,2,   -999.0,9,   7.4755,       25,2, -999.000,9,    37.72,2, -999.000,9, -999.000,   -999.0,9,   -999.0, -999.000,9, -999.000, -999.000,9, -999.000,   -999.0,9,   -999.0, -999.000,9, -999.000,9, -999.000,9
  49NZ20140717,   P01,    83,  1,     15, X12J15,2,20140731,1809, 47.0019, 169.0982, 4167,   2532.2,2,   1.6299,2,   1.62996,2,  34.6427,2,  34.6426,2,-999.0000,9,   105.36,2,   105.84,2,   99.921,   0.0032,2,    0.003,2,  -999.00,9,    2.723,1,    0.000,2,   164.11,2,     0.18,    38.96,2,     0.05,     0.01,2,     0.01,     2.75,2,     0.01,  -999.00,9,  -999.00,    0.004,2,    0.000,2,    0.000,2, -999.000,9,   2359.4,2,   2417.3,2,   -999.0,9,   7.4920,       25,2, -999.000,9,    38.13,2, -999.000,9, -999.000,   -999.0,9,   -999.0, -999.000,9, -999.000, -999.000,9, -999.000,   -999.0,9,   -999.0, -999.000,9, -999.000,9, -999.000,9
  49NZ20140717,   P01,    83,  1,     14, X12J14,2,20140731,1809, 47.0019, 169.0982, 4167,   2731.5,2,   1.5934,2,   1.59332,2,  34.6502,2,  34.6504,2,-999.0000,9,   112.46,2,   113.11,2,   99.925,   0.0030,2,    0.002,2,  -999.00,9,    2.675,1,    0.000,2,   162.86,2,     0.18,    38.49,2,     0.05,     0.01,2,     0.01,     2.72,2,     0.01,  -999.00,9,  -999.00,    0.001,2,    0.000,2,    0.000,2, -999.000,9,   2355.2,2,   2419.5,2,   -999.0,9,   7.5054,       25,2, -999.000,9,    39.40,2, -999.000,9, -999.000,   -999.0,9,   -999.0, -999.000,9, -999.000, -999.000,9, -999.000,   -999.0,9,   -999.0, -999.000,9, -999.000,9, -999.000,9
  49NZ20140717,   P01,    83,  1,     13, X12113,2,20140731,1809, 47.0019, 169.0982, 4167,   2930.0,2,   1.5376,2,   1.53761,2,  34.6602,2,  34.6605,2,-999.0000,9,   122.20,2,   122.87,2,   99.930,   0.0028,2,    0.002,2,  -999.00,9,    2.661,1,    0.000,2,   160.84,2,     0.17,    37.86,2,     0.05,     0.01,2,     0.01,     2.67,2,     0.01,  -999.00,9,  -999.00,    0.000,2,    0.002,2,    0.000,2, -999.000,9,   2349.3,2,   2419.9,2,   -999.0,9,   7.5232,       25,2, -999.000,9,    37.93,2, -999.000,9, -999.000,   -999.0,9,   -999.0, -999.000,9, -999.000, -999.000,9, -999.000,   -999.0,9,   -999.0, -999.000,9, -999.000,9, -999.000,9
  49NZ20140717,   P01,    83,  1,     12, X12J12,2,20140731,1809, 47.0019, 169.0982, 4167,   3170.0,2,   1.4970,2,   1.49714,2,  34.6683,2,  34.6681,2,-999.0000,9,   131.23,2,   131.71,2,   99.914,   0.0034,2,    0.002,2,  -999.00,9,    2.471,1,    0.000,2,   158.04,2,     0.17,    37.31,2,     0.05,     0.01,2,     0.01,     2.62,2,     0.01,  -999.00,9,  -999.00,    0.002,2,    0.000,2,    0.000,2, -999.000,9,   2342.3,2,   2417.4,6,   -999.0,9,   7.5408,       25,2, -999.000,9,    36.26,2, -999.000,9, -999.000,   -999.0,9,   -999.0, -999.000,9, -999.000, -999.000,9, -999.000,   -999.0,9,   -999.0, -999.000,9, -999.000,9, -999.000,9
  49NZ20140717,   P01,    83,  1,     11, X12J11,2,20140731,1809, 47.0019, 169.0982, 4167,   3422.0,2,   1.4829,2,   1.48293,2,  34.6729,2,  34.6730,2,-999.0000,9,   136.70,2,   137.17,2,   99.921,   0.0032,2,    0.001,2,  -999.00,9,    2.445,1,    0.000,2,   156.47,2,     0.17,    36.98,2,     0.05,     0.01,2,     0.01,     2.59,2,     0.01,  -999.00,9,  -999.00,    0.003,2,    0.001,2,    0.000,2, -999.000,9,   2337.5,2,   2418.1,2,   -999.0,9,   7.5499,       25,2, -999.000,9,    37.66,2, -999.000,9, -999.000,   -999.0,9,   -999.0, -999.000,9, -999.000, -999.000,9, -999.000,   -999.0,9,   -999.0, -999.000,9, -999.000,9, -999.000,9
  49NZ20140717,   P01,    83,  1,     10, X12J10,2,20140731,1809, 47.0019, 169.0982, 4167,   3670.5,2,   1.4830,2,   1.48291,2,  34.6759,2,  34.6756,2,-999.0000,9,   140.36,2,   141.05,2,   99.930,   0.0028,2,    0.001,2,  -999.00,9,    2.451,1,    0.000,2,   155.01,2,     0.17,    36.73,2,     0.05,     0.01,2,     0.01,     2.57,2,     0.01,  -999.00,9,  -999.00,    0.002,2,    0.000,2,    0.000,2, -999.000,9,   2335.8,2,   2418.2,2,   -999.0,9,   7.5569,       25,2, -999.000,9,    38.73,2, -999.000,9, -999.000,   -999.0,9,   -999.0, -999.000,9, -999.000, -999.000,9, -999.000,   -999.0,9,   -999.0, -999.000,9, -999.000,9, -999.000,9