BOTTLE,20230904JAMSTECRIGC
EXPOCODE,SECT,STNNBR,CASTNO,SAMPNO,BTLNBR,BTLNBR_FLAG_W,DATE,TIME,LATITUDE,LONGITUDE,DEPTH,CTDPRS,CTDPRS_FLAG_W,CTDTMP,CTDTMP_FLAG_W,SBE35,SBE35_FLAG_W,CTDSAL,CTDSAL_FLAG_W,SALNTY,SALNTY_FLAG_W,DNSSAL,DNSSAL_FLAG_W,CTDOXY,CTDOXY_FLAG_W,OXYGEN,OXYGEN_FLAG_W,XMISS,XMISSCP,XMISS_FLAG_W,FLUOR,FLUOR_FLAG_W,CHLORA,CHLORA_FLAG_W,CDOM,CDOM_FLAG_W,PAR,PAR_FLAG_W,SILCAT,SILCAT_FLAG_W,SILUNC,NITRAT,NITRAT_FLAG_W,NRAUNC,NITRIT,NITRIT_FLAG_W,NRIUNC,PHSPHT,PHSPHT_FLAG_W,PHPUNC,AMMONIA,AMMONIA_FLAG_W,NH4UNC,CFC-11,CFC-11_FLAG_W,CFC-12,CFC-12_FLAG_W,CFC113,CFC113_FLAG_W,SF6,SF6_FLAG_W,TCARBN,TCARBN_FLAG_W,ALKALI,ALKALI_FLAG_W,ALKALI_POT,ALKALI_POT_FLAG_W,PH_TOT,PH_TMP,PH_TOT_FLAG_W,CALCIUM,CALCIUM_FLAG_W,DOC,DOC_FLAG_W,DELC13,DELC13_FLAG_W,C13ERR,DELC14,DELC14_FLAG_W,C14ERR,CS-134,CS-134_FLAG_W,CS134ER,CS-137,CS-137_FLAG_W,CS137ER,I-129,I-129_FLAG_W,I-129ER,CDOM-325,CDOM-325_FLAG_W,CDOM-370,CDOM-370_FLAG_W,CDOM-443,CDOM-443_FLAG_W
,,,,,,,,UTC,DEG,DEG,METERS,DBAR,,ITS-90,,ITS-90,,PSS-78,,PSS-78,,G/KG,,UMOL/KG,,UMOL/KG,,%TRANS,/METER,,MG/CUM,,MG/CUM,,MG/CUM,,UE/SQM/S,,UMOL/KG,,UMOL/KG,UMOL/KG,,UMOL/KG,UMOL/KG,,UMOL/KG,UMOL/KG,,UMOL/KG,UMOL/KG,,UMOL/KG,PMOL/KG,,PMOL/KG,,PMOL/KG,,FMOL/KG,,UMOL/KG,,UMOL/KG,,UMOL/KG,,,DEG C,,MMOL/KG,,UMOL/KG,,/MILLE,,/MILLE,/MILLE,,/MILLE,MBQ/KG,,MBQ/KG,MBQ/KG,,MBQ/KG,,,,/METER,,/METER,,/METER,
  49NZ20140717,   P01,    69,  1,      9, X12J09,2,20140726,0637, 45.0713, 156.6378, 4783,   4001.0,2,   1.4376,2,   1.43755,2,  34.6850,2,  34.6850,2,-999.0000,9,   152.22,2,   152.17,2,   99.956,   0.0018,2,    0.009,2,  -999.00,9,    2.262,1,    0.000,2,   151.21,2,     0.17,    35.94,2,     0.05,     0.00,2,     0.01,     2.51,2,     0.01,  -999.00,9,  -999.00,    0.000,2,    0.000,2,    0.000,2,    0.000,2,   2326.1,2,   2418.2,2,   -999.0,9,   7.5757,       25,2, -999.000,9,    38.38,2, -999.000,9, -999.000,   -999.0,9,   -999.0, -999.000,9, -999.000, -999.000,9, -999.000,   -999.0,9,   -999.0, -999.000,9, -999.000,9, -999.000,9
  49NZ20140717,   P01,    69,  1,      8, X12J08,2,20140726,0637, 45.0713, 156.6378, 4783,   4253.4,2,   1.4451,2,   1.44509,2,  34.6872,2,  34.6872,2,-999.0000,9,   154.56,2,   154.66,2,   99.943,   0.0023,2,    0.008,2,  -999.00,9,    2.203,1,    0.000,2,   151.65,2,     0.17,    35.83,2,     0.05,     0.00,2,     0.01,     2.50,2,     0.01,  -999.00,9,  -999.00,    0.000,2,    0.000,2,    0.000,2,    0.000,2,   2323.4,6,   2415.1,3,   -999.0,9,   7.5795,       25,2, -999.000,9,    38.99,2, -999.000,9, -999.000,   -999.0,9,   -999.0, -999.000,9, -999.000, -999.000,9, -999.000,   -999.0,9,   -999.0, -999.000,9, -999.000,9, -999.000,9
  49NZ20140717,   P01,    69,  1,      7, X12J07,2,20140726,0637, 45.0713, 156.6378, 4783,   4499.4,2,   1.4629,2,   1.46293,2,  34.6883,2,  34.6883,2,-999.0000,9,   155.83,2,   156.03,2,   99.921,   0.0031,2,    0.008,2,  -999.00,9,    2.486,4,    0.000,2,   151.59,2,     0.17,    35.71,2,     0.05,     0.01,2,     0.01,     2.49,2,     0.01,  -999.00,9,  -999.00,    0.005,2,    0.002,2,    0.000,2,    0.000,2,   2323.1,2,   2417.7,2,   -999.0,9,   7.5820,       25,6, -999.000,9,    40.64,2, -999.000,9, -999.000,   -999.0,9,   -999.0, -999.000,9, -999.000, -999.000,9, -999.000,   -999.0,9,   -999.0, -999.000,9, -999.000,9, -999.000,9
  49NZ20140717,   P01,    69,  1,      6, X12J06,2,20140726,0637, 45.0713, 156.6378, 4783,   4748.7,2,   1.4842,2,   1.48414,2,  34.6892,2,  34.6896,2,-999.0000,9,   156.84,2,   157.17,2,   99.898,   0.0041,2,    0.007,2,  -999.00,9,    2.492,4,    0.000,2,   151.61,2,     0.17,    35.72,2,     0.05,     0.00,2,     0.01,     2.48,2,     0.01,  -999.00,9,  -999.00,    0.008,2,    0.003,2,    0.000,2,    0.000,2,   2322.2,2,   2416.5,2,   -999.0,9,   7.5837,       25,2, -999.000,9,    39.97,2, -999.000,9, -999.000,   -999.0,9,   -999.0, -999.000,9, -999.000, -999.000,9, -999.000,   -999.0,9,   -999.0, -999.000,9, -999.000,9, -999.000,9
  49NZ20140717,   P01,    69,  1,      5, X12J05,9,20140726,0637, 45.0713, 156.6378, 4783,   -999.0,9,-999.0000,9,-999.00000,9,-999.0000,9,-999.0000,9,-999.0000,9,  -999.00,9,  -999.00,9, -999.000,-999.0000,9, -999.000,9,  -999.00,9, -999.000,9, -999.000,9,  -999.00,9,  -999.00,  -999.00,9,  -999.00,  -999.00,9,  -999.00,  -999.00,9,  -999.00,  -999.00,9,  -999.00, -999.000,9, -999.000,9, -999.000,9, -999.000,9,   -999.0,9,   -999.0,9,   -999.0,9,-999.0000,     -999,9, -999.000,9,  -999.00,9, -999.000,9, -999.000,   -999.0,9,   -999.0, -999.000,9, -999.000, -999.000,9, -999.000,   -999.0,9,   -999.0, -999.000,9, -999.000,9, -999.000,9
  49NZ20140717,   P01,    69,  1,      4, X12J04,9,20140726,0637, 45.0713, 156.6378, 4783,   -999.0,9,-999.0000,9,-999.00000,9,-999.0000,9,-999.0000,9,-999.0000,9,  -999.00,9,  -999.00,9, -999.000,-999.0000,9, -999.000,9,  -999.00,9, -999.000,9, -999.000,9,  -999.00,9,  -999.00,  -999.00,9,  -999.00,  -999.00,9,  -999.00,  -999.00,9,  -999.00,  -999.00,9,  -999.00, -999.000,9, -999.000,9, -999.000,9, -999.000,9,   -999.0,9,   -999.0,9,   -999.0,9,-999.0000,     -999,9, -999.000,9,  -999.00,9, -999.000,9, -999.000,   -999.0,9,   -999.0, -999.000,9, -999.000, -999.000,9, -999.000,   -999.0,9,   -999.0, -999.000,9, -999.000,9, -999.000,9
  49NZ20140717,   P01,    69,  1,      3, X12J03,9,20140726,0637, 45.0713, 156.6378, 4783,   -999.0,9,-999.0000,9,-999.00000,9,-999.0000,9,-999.0000,9,-999.0000,9,  -999.00,9,  -999.00,9, -999.000,-999.0000,9, -999.000,9,  -999.00,9, -999.000,9, -999.000,9,  -999.00,9,  -999.00,  -999.00,9,  -999.00,  -999.00,9,  -999.00,  -999.00,9,  -999.00,  -999.00,9,  -999.00, -999.000,9, -999.000,9, -999.000,9, -999.000,9,   -999.0,9,   -999.0,9,   -999.0,9,-999.0000,     -999,9, -999.000,9,  -999.00,9, -999.000,9, -999.000,   -999.0,9,   -999.0, -999.000,9, -999.000, -999.000,9, -999.000,   -999.0,9,   -999.0, -999.000,9, -999.000,9, -999.000,9
  49NZ20140717,   P01,    69,  1,      2, X12J02,2,20140726,0637, 45.0713, 156.6378, 4783,    799.1,2,   2.9236,2,   2.92341,2,  34.3410,2,  34.3418,2,-999.0000,9,    28.06,2,    28.02,2,   99.878,   0.0049,2,    0.020,2,  -999.00,9,    2.911,1,    0.000,2,   142.10,2,     0.16,    43.28,2,     0.05,     0.00,2,     0.01,     3.09,2,     0.01,  -999.00,9,  -999.00,    0.315,2,    0.185,2,    0.021,2,    0.080,2,   2373.4,2,   2372.8,2,   -999.0,9,   7.3162,       25,2, -999.000,9,    40.28,2, -999.000,9, -999.000,   -999.0,9,   -999.0, -999.000,9, -999.000, -999.000,9, -999.000,   -999.0,9,   -999.0, -999.000,9, -999.000,9, -999.000,9
  49NZ20140717,   P01,    69,  1,      1, X12J01,2,20140726,0637, 45.0713, 156.6378, 4783,   4851.1,2,   1.4947,2,   1.49459,2,  34.6894,2,  34.6897,2,-999.0000,9,   156.97,2,   157.37,2,   99.829,   0.0069,2,    0.007,2,  -999.00,9,    2.339,4,    0.000,2,   151.93,2,     0.17,    35.64,2,     0.05,     0.00,2,     0.01,     2.48,2,     0.01,  -999.00,9,  -999.00,    0.017,2,    0.008,2,    0.000,2,    0.000,2,   2321.8,2,   2415.6,3,   -999.0,9,   7.5837,       25,2, -999.000,9,    38.52,2, -999.000,9, -999.000,   -999.0,9,   -999.0, -999.000,9, -999.000, -999.000,9, -999.000,   -999.0,9,   -999.0, -999.000,9, -999.000,9, -999.000,9