BOTTLE,20230904JAMSTECRIGC
EXPOCODE,SECT,STNNBR,CASTNO,SAMPNO,BTLNBR,BTLNBR_FLAG_W,DATE,TIME,LATITUDE,LONGITUDE,DEPTH,CTDPRS,CTDPRS_FLAG_W,CTDTMP,CTDTMP_FLAG_W,SBE35,SBE35_FLAG_W,CTDSAL,CTDSAL_FLAG_W,SALNTY,SALNTY_FLAG_W,DNSSAL,DNSSAL_FLAG_W,CTDOXY,CTDOXY_FLAG_W,OXYGEN,OXYGEN_FLAG_W,XMISS,XMISSCP,XMISS_FLAG_W,FLUOR,FLUOR_FLAG_W,CHLORA,CHLORA_FLAG_W,CDOM,CDOM_FLAG_W,PAR,PAR_FLAG_W,SILCAT,SILCAT_FLAG_W,SILUNC,NITRAT,NITRAT_FLAG_W,NRAUNC,NITRIT,NITRIT_FLAG_W,NRIUNC,PHSPHT,PHSPHT_FLAG_W,PHPUNC,AMMONIA,AMMONIA_FLAG_W,NH4UNC,CFC-11,CFC-11_FLAG_W,CFC-12,CFC-12_FLAG_W,CFC113,CFC113_FLAG_W,SF6,SF6_FLAG_W,TCARBN,TCARBN_FLAG_W,ALKALI,ALKALI_FLAG_W,ALKALI_POT,ALKALI_POT_FLAG_W,PH_TOT,PH_TMP,PH_TOT_FLAG_W,CALCIUM,CALCIUM_FLAG_W,DOC,DOC_FLAG_W,DELC13,DELC13_FLAG_W,C13ERR,DELC14,DELC14_FLAG_W,C14ERR,CS-134,CS-134_FLAG_W,CS134ER,CS-137,CS-137_FLAG_W,CS137ER,I-129,I-129_FLAG_W,I-129ER,CDOM-325,CDOM-325_FLAG_W,CDOM-370,CDOM-370_FLAG_W,CDOM-443,CDOM-443_FLAG_W
,,,,,,,,UTC,DEG,DEG,METERS,DBAR,,ITS-90,,ITS-90,,PSS-78,,PSS-78,,G/KG,,UMOL/KG,,UMOL/KG,,%TRANS,/METER,,MG/CUM,,MG/CUM,,MG/CUM,,UE/SQM/S,,UMOL/KG,,UMOL/KG,UMOL/KG,,UMOL/KG,UMOL/KG,,UMOL/KG,UMOL/KG,,UMOL/KG,UMOL/KG,,UMOL/KG,PMOL/KG,,PMOL/KG,,PMOL/KG,,FMOL/KG,,UMOL/KG,,UMOL/KG,,UMOL/KG,,,DEG C,,MMOL/KG,,UMOL/KG,,/MILLE,,/MILLE,/MILLE,,/MILLE,MBQ/KG,,MBQ/KG,MBQ/KG,,MBQ/KG,,,,/METER,,/METER,,/METER,
  49NZ20140717,   P01,    98,  1,      0,   -999,9,20140805,0204, 46.9983,-178.3013, 5494,   -999.0,9,-999.0000,9,-999.00000,9,-999.0000,9,  32.7475,2,-999.0000,9,  -999.00,9,  -999.00,9, -999.000,-999.0000,9, -999.000,9,  -999.00,9, -999.000,9, -999.000,9,    20.52,2,     0.09,    12.75,2,     0.02,     0.20,2,     0.01,     1.25,2,     0.01,  -999.00,9,  -999.00, -999.000,9, -999.000,9, -999.000,9, -999.000,9,   -999.0,9,   -999.0,9,   -999.0,9,-999.0000,     -999,9, -999.000,9,  -999.00,9, -999.000,9, -999.000,   -999.0,9,   -999.0, -999.000,9, -999.000, -999.000,9, -999.000,   -999.0,9,   -999.0, -999.000,9, -999.000,9, -999.000,9
  49NZ20140717,   P01,    98,  1,     36, X12J36,2,20140805,0204, 46.9983,-178.3013, 5494,     10.0,2,  12.0214,2,  12.02363,2,  32.7667,2,  32.7685,2,-999.0000,9,   281.06,2,   281.84,2,   96.792,   0.1304,2,    0.261,2,  -999.00,9,   -0.478,1,  145.264,2,    20.54,2,     0.09,    12.67,2,     0.02,     0.17,2,     0.01,     1.23,2,     0.01,  -999.00,9,  -999.00,    3.545,2,    1.987,2,    0.381,2, -999.000,9,   2041.4,2,   2213.3,2,   2215.1,2,   7.8214,       25,6,    9.692,2,    55.63,2, -999.000,9, -999.000,   -999.0,9,   -999.0, -999.000,9, -999.000, -999.000,9, -999.000,   -999.0,9,   -999.0, -999.000,9, -999.000,9, -999.000,9
  49NZ20140717,   P01,    98,  1,     35, X12J35,2,20140805,0204, 46.9983,-178.3013, 5494,     49.8,2,   5.1933,2,   5.19947,2,  32.9279,2,  32.9288,2,-999.0000,9,   323.76,2,   322.80,2,   97.030,   0.1206,2,    0.572,2,  -999.00,9,    0.697,1,    8.269,2,    24.85,2,     0.09,    16.38,2,     0.03,     0.16,2,     0.01,     1.48,2,     0.01,  -999.00,9,  -999.00,    4.993,2,    2.665,2,    0.479,2, -999.000,9,   2080.9,6,   2220.5,2,   2227.0,2,   7.7433,       25,2,    9.736,2,    52.59,2, -999.000,9, -999.000,   -999.0,9,   -999.0, -999.000,9, -999.000, -999.000,9, -999.000,   -999.0,9,   -999.0, -999.000,9, -999.000,9, -999.000,9
  49NZ20140717,   P01,    98,  1,     34, X12J34,2,20140805,0204, 46.9983,-178.3013, 5494,     99.6,2,   4.3934,2,   4.40084,2,  33.0344,2,  33.0338,2,-999.0000,9,   302.50,2,   150.88,4,   99.458,   0.0217,2,    0.180,2,  -999.00,9,    0.686,1,    0.387,2,    27.16,2,     0.09,    18.99,2,     0.03,     0.06,2,     0.01,     1.56,2,     0.01,  -999.00,9,  -999.00,    4.999,2,    2.669,2,    0.460,2, -999.000,9,   2101.0,2,   2220.4,2,   2227.7,2,   7.6992,       25,2,    9.784,2,    50.56,2, -999.000,9, -999.000,   -999.0,9,   -999.0, -999.000,9, -999.000, -999.000,9, -999.000,   -999.0,9,   -999.0, -999.000,9, -999.000,9, -999.000,9
  49NZ20140717,   P01,    98,  1,     33, X12J33,2,20140805,0204, 46.9983,-178.3013, 5494,    149.8,2,   3.8952,2,   3.89500,2,  33.5967,2,  33.5989,2,-999.0000,9,   204.41,2,   203.60,2,   99.687,   0.0125,2,    0.016,2,  -999.00,9,    1.896,1,    0.009,2,    53.38,2,     0.11,    28.86,2,     0.04,     0.01,2,     0.01,     2.14,2,     0.01,  -999.00,9,  -999.00,    4.110,2,    2.175,2,    0.332,2, -999.000,9,   2199.9,2,   2264.8,2,   2268.5,2,   7.5208,       25,6,    9.940,2,    49.05,2, -999.000,9, -999.000,   -999.0,9,   -999.0, -999.000,9, -999.000, -999.000,9, -999.000,   -999.0,9,   -999.0, -999.000,9, -999.000,9, -999.000,9
  49NZ20140717,   P01,    98,  1,     32, X12J32,2,20140805,0204, 46.9983,-178.3013, 5494,    200.4,2,   3.7106,2,   3.71030,2,  33.6992,2,  33.6999,2,-999.0000,9,   144.03,2,   143.36,2,   99.685,   0.0126,2,    0.014,2,  -999.00,9,    2.363,1,    0.000,2,    69.76,2,     0.12,    34.56,2,     0.05,     0.01,2,     0.01,     2.52,2,     0.01,  -999.00,9,  -999.00,    3.462,2,    1.815,2,    0.270,2, -999.000,9,   2248.1,2,   2276.4,6,   -999.0,9,   7.4138,       25,2, -999.000,9,    45.00,2, -999.000,9, -999.000,   -999.0,9,   -999.0, -999.000,9, -999.000, -999.000,9, -999.000,   -999.0,9,   -999.0, -999.000,9, -999.000,9, -999.000,9
  49NZ20140717,   P01,    98,  1,     31, X12J31,2,20140805,0204, 46.9983,-178.3013, 5494,    249.7,2,   3.6240,2,   3.62294,2,  33.7801,2,  33.7811,2,-999.0000,9,   106.86,2,   106.95,2,   99.808,   0.0077,2,    0.014,2,  -999.00,9,    2.560,1,    0.000,2,    80.40,2,     0.12,    37.81,2,     0.05,     0.01,2,     0.01,     2.73,2,     0.01,  -999.00,9,  -999.00,    2.939,2,    1.521,2,    0.230,2, -999.000,9,   2277.0,2,   2286.2,2,   -999.0,9,   7.3537,       25,2, -999.000,9,    45.57,2, -999.000,9, -999.000,   -999.0,9,   -999.0, -999.000,9, -999.000, -999.000,9, -999.000,   -999.0,9,   -999.0, -999.000,9, -999.000,9, -999.000,9
  49NZ20140717,   P01,    98,  1,     30, X12J30,2,20140805,0204, 46.9983,-178.3013, 5494,    280.1,2,   3.6692,2,   3.66891,2,  33.8352,2,  33.8344,2,-999.0000,9,    89.34,2,    89.59,2,   99.802,   0.0079,2,    0.016,2,  -999.00,9,    2.667,1,    0.000,2,    85.74,2,     0.13,    39.17,2,     0.05,     0.01,2,     0.01,     2.82,2,     0.01,  -999.00,9,  -999.00,    2.622,2,    1.349,2,    0.188,2, -999.000,9,   2289.9,2,   2292.0,2,   -999.0,9,   7.3318,       25,2, -999.000,9,    44.41,2, -999.000,9, -999.000,   -999.0,9,   -999.0, -999.000,9, -999.000, -999.000,9, -999.000,   -999.0,9,   -999.0, -999.000,9, -999.000,9, -999.000,9
  49NZ20140717,   P01,    98,  1,     29, X12J29,2,20140805,0204, 46.9983,-178.3013, 5494,    370.1,2,   3.7511,2,   3.75107,2,  33.9791,2,  33.9785,2,-999.0000,9,    57.76,2,    58.34,2,   99.819,   0.0072,2,    0.017,2,  -999.00,9,    2.835,1,    0.000,2,    98.44,2,     0.14,    41.30,2,     0.05,     0.01,2,     0.01,     2.95,2,     0.01,  -999.00,9,  -999.00,    1.843,2,    0.926,2,    0.125,2, -999.000,9,   2315.9,2,   2308.7,2,   -999.0,9,   7.3048,       25,2, -999.000,9,    42.91,2, -999.000,9, -999.000,   -999.0,9,   -999.0, -999.000,9, -999.000, -999.000,9, -999.000,   -999.0,9,   -999.0, -999.000,9, -999.000,9, -999.000,9
  49NZ20140717,   P01,    98,  1,     28, X12J28,2,20140805,0204, 46.9983,-178.3013, 5494,    469.9,2,   3.6911,2,   3.69089,2,  34.0777,2,  34.0770,2,-999.0000,9,    42.39,2,    43.40,2,   99.854,   0.0059,2,    0.017,2,  -999.00,9,    2.829,1,    0.000,2,   108.19,2,     0.14,    42.18,2,     0.05,     0.01,2,     0.01,     3.01,2,     0.01,  -999.00,9,  -999.00,    1.327,2,    0.654,2,    0.097,2, -999.000,9,   2331.1,2,   2325.2,2,   2325.2,2,   7.2981,       25,2,   10.114,2,    41.70,2, -999.000,9, -999.000,   -999.0,9,   -999.0, -999.000,9, -999.000, -999.000,9, -999.000,   -999.0,9,   -999.0, -999.000,9, -999.000,9, -999.000,9
  49NZ20140717,   P01,    98,  1,     27, X12J27,2,20140805,0204, 46.9983,-178.3013, 5494,    570.6,2,   3.5408,2,   3.54057,2,  34.1770,2,  34.1766,2,-999.0000,9,    33.01,2,    33.42,2,   99.845,   0.0062,2,    0.016,2,  -999.00,9,    2.962,1,    0.000,2,   119.08,2,     0.15,    42.82,2,     0.05,     0.01,2,     0.01,     3.06,2,     0.01,  -999.00,9,  -999.00,    0.858,2,    0.410,2,    0.057,2, -999.000,9,   2347.0,2,   2339.1,2,   -999.0,9,   7.3015,       25,2, -999.000,9,    39.61,2, -999.000,9, -999.000,   -999.0,9,   -999.0, -999.000,9, -999.000, -999.000,9, -999.000,   -999.0,9,   -999.0, -999.000,9, -999.000,9, -999.000,9
  49NZ20140717,   P01,    98,  1,     26, X12J26,2,20140805,0204, 46.9983,-178.3013, 5494,    670.0,2,   3.3434,2,   3.34328,2,  34.2470,2,  34.2464,2,-999.0000,9,    28.82,2,    28.84,2,   99.875,   0.0050,2,    0.016,2,  -999.00,9,    2.995,1,    0.000,2,   127.87,2,     0.15,    43.18,2,     0.05,     0.01,2,     0.01,     3.08,2,     0.01,  -999.00,9,  -999.00,    0.584,2,    0.267,2,    0.036,2, -999.000,9,   2357.8,6,   2351.2,2,   -999.0,9,   7.3040,       25,2, -999.000,9,    39.26,2, -999.000,9, -999.000,   -999.0,9,   -999.0, -999.000,9, -999.000, -999.000,9, -999.000,   -999.0,9,   -999.0, -999.000,9, -999.000,9, -999.000,9
  49NZ20140717,   P01,    98,  1,     25, X12J25,2,20140805,0204, 46.9983,-178.3013, 5494,    771.3,2,   3.1628,2,   3.16259,2,  34.2972,2,  34.2969,2,-999.0000,9,    27.68,2,    27.65,2,   99.882,   0.0047,2,    0.015,2,  -999.00,9,    3.092,1,    0.000,2,   134.31,2,     0.16,    43.23,2,     0.05,     0.00,2,     0.01,     3.09,2,     0.01,  -999.00,9,  -999.00,    0.421,2,    0.192,2,    0.021,2, -999.000,9,   2363.9,2,   2359.9,2,   2359.6,2,   7.3090,       25,2,   10.192,2,    39.08,2, -999.000,9, -999.000,   -999.0,9,   -999.0, -999.000,9, -999.000, -999.000,9, -999.000,   -999.0,9,   -999.0, -999.000,9, -999.000,9, -999.000,9
  49NZ20140717,   P01,    98,  1,     24, X12J24,2,20140805,0204, 46.9983,-178.3013, 5494,    870.0,2,   3.0146,2,   3.01407,2,  34.3390,2,  34.3388,2,-999.0000,9,    27.97,2,    27.96,2,   99.875,   0.0050,2,    0.014,2,  -999.00,9,    3.073,1,    0.000,2,   139.54,2,     0.16,    43.30,2,     0.05,     0.01,2,     0.01,     3.10,2,     0.01,  -999.00,9,  -999.00,    0.310,2,    0.135,2,    0.008,2, -999.000,9,   2368.8,2,   2374.3,2,   -999.0,9,   7.3166,       25,2, -999.000,9,    39.66,2, -999.000,9, -999.000,   -999.0,9,   -999.0, -999.000,9, -999.000, -999.000,9, -999.000,   -999.0,9,   -999.0, -999.000,9, -999.000,9, -999.000,9
  49NZ20140717,   P01,    98,  1,     23, X12J23,2,20140805,0204, 46.9983,-178.3013, 5494,    970.7,2,   2.8495,2,   2.84933,2,  34.3793,2,  34.3791,2,-999.0000,9,    27.67,2,    27.41,2,   99.878,   0.0049,2,    0.014,2,  -999.00,9,    3.024,1,    0.000,2,   145.74,2,     0.16,    43.52,2,     0.05,     0.00,2,     0.01,     3.11,2,     0.01,  -999.00,9,  -999.00,    0.219,2,    0.098,2,    0.000,2, -999.000,9,   2377.4,2,   2373.6,2,   2373.8,2,   7.3191,       25,2,   10.213,2,    39.85,2, -999.000,9, -999.000,   -999.0,9,   -999.0, -999.000,9, -999.000, -999.000,9, -999.000,   -999.0,9,   -999.0, -999.000,9, -999.000,9, -999.000,9
  49NZ20140717,   P01,    98,  1,     22, X12J22,2,20140805,0204, 46.9983,-178.3013, 5494,   1129.5,2,   2.6355,2,   2.63567,2,  34.4261,2,  34.4265,2,-999.0000,9,    29.01,2,    28.79,2,   99.901,   0.0039,2,    0.013,2,  -999.00,9,    3.157,1,    0.000,2,   152.99,2,     0.17,    43.61,2,     0.05,     0.00,2,     0.01,     3.11,2,     0.01,  -999.00,9,  -999.00,    0.142,2,    0.061,2,    0.000,2, -999.000,9,   2381.5,2,   2385.6,6,   2383.5,2,   7.3268,       25,2,   10.236,2,    40.24,2, -999.000,9, -999.000,   -999.0,9,   -999.0, -999.000,9, -999.000, -999.000,9, -999.000,   -999.0,9,   -999.0, -999.000,9, -999.000,9, -999.000,9
  49NZ20140717,   P01,    98,  1,     21, X12J21,2,20140805,0204, 46.9983,-178.3013, 5494,   1330.5,2,   2.4253,2,   2.42522,2,  34.4752,2,  34.4753,2,-999.0000,9,    34.11,2,    34.12,2,   99.914,   0.0034,2,    0.012,2,  -999.00,9,    3.135,1,    0.000,2,   159.14,2,     0.17,    43.44,2,     0.05,     0.00,2,     0.01,     3.09,2,     0.01,  -999.00,9,  -999.00,    0.084,2,    0.035,2,    0.000,2, -999.000,9,   2386.1,2,   2392.5,2,   -999.0,9,   7.3434,       25,2, -999.000,9,    39.53,2, -999.000,9, -999.000,   -999.0,9,   -999.0, -999.000,9, -999.000, -999.000,9, -999.000,   -999.0,9,   -999.0, -999.000,9, -999.000,9, -999.000,9
  49NZ20140717,   P01,    98,  1,     20, X12J20,2,20140805,0204, 46.9983,-178.3013, 5494,   1530.1,2,   2.2352,2,   2.23499,2,  34.5179,2,  34.5183,2,-999.0000,9,    41.32,2,    41.41,2,   99.951,   0.0020,2,    0.011,2,  -999.00,9,    3.067,1,    0.000,2,   164.29,2,     0.18,    43.05,2,     0.05,     0.01,2,     0.01,     3.06,2,     0.01,  -999.00,9,  -999.00,    0.037,2,    0.016,2,    0.000,2, -999.000,9,   2386.8,2,   2401.2,2,   2400.8,2,   7.3604,       25,6,   10.277,2,    36.72,2, -999.000,9, -999.000,   -999.0,9,   -999.0, -999.000,9, -999.000, -999.000,9, -999.000,   -999.0,9,   -999.0, -999.000,9, -999.000,9, -999.000,9
  49NZ20140717,   P01,    98,  1,     19, X12J19,2,20140805,0204, 46.9983,-178.3013, 5494,   1730.1,2,   2.1070,2,   2.10707,2,  34.5479,2,  34.5483,2,-999.0000,9,    49.15,2,    49.28,2,   99.927,   0.0029,2,    0.010,2,  -999.00,9,    3.083,1,    0.000,2,   166.96,2,     0.18,    42.66,2,     0.05,     0.00,2,     0.01,     3.02,2,     0.01,  -999.00,9,  -999.00,    0.021,2,    0.008,2,    0.000,2, -999.000,9,   2383.8,2,   2405.7,2,   -999.0,9,   7.3778,       25,2, -999.000,9,    38.38,2, -999.000,9, -999.000,   -999.0,9,   -999.0, -999.000,9, -999.000, -999.000,9, -999.000,   -999.0,9,   -999.0, -999.000,9, -999.000,9, -999.000,9
  49NZ20140717,   P01,    98,  1,     18, X12J18,2,20140805,0204, 46.9983,-178.3013, 5494,   1930.9,2,   1.9920,2,   1.99204,2,  34.5740,2,  34.5744,2,-999.0000,9,    58.29,2,    58.27,2,   99.910,   0.0036,2,    0.009,2,  -999.00,9,    2.896,1,    0.000,2,   168.67,2,     0.18,    42.20,2,     0.05,     0.00,2,     0.01,     2.98,2,     0.01,  -999.00,9,  -999.00,    0.004,2,    0.000,2,    0.000,2, -999.000,9,   2383.3,2,   2410.9,2,   2406.9,2,   7.3983,       25,2,   10.293,2,    38.19,2, -999.000,9, -999.000,   -999.0,9,   -999.0, -999.000,9, -999.000, -999.000,9, -999.000,   -999.0,9,   -999.0, -999.000,9, -999.000,9, -999.000,9
  49NZ20140717,   P01,    98,  1,     17, X12J17,2,20140805,0204, 46.9983,-178.3013, 5494,   2129.9,2,   1.8664,2,   1.86639,2,  34.5991,2,  34.5994,2,-999.0000,9,    71.74,2,    71.98,2,   99.955,   0.0018,2,    0.007,2,  -999.00,9,    2.870,1,    0.000,2,   169.18,2,     0.18,    41.32,2,     0.05,     0.00,2,     0.01,     2.92,2,     0.01,  -999.00,9,  -999.00,    0.009,2,    0.003,2,    0.000,2, -999.000,9,   2374.6,2,   2412.9,2,   -999.0,9,   7.4249,       25,2, -999.000,9,    39.40,2, -999.000,9, -999.000,   -999.0,9,   -999.0, -999.000,9, -999.000, -999.000,9, -999.000,   -999.0,9,   -999.0, -999.000,9, -999.000,9, -999.000,9
  49NZ20140717,   P01,    98,  1,     16, X12J16,2,20140805,0204, 46.9983,-178.3013, 5494,   2328.3,2,   1.7770,2,   1.77700,2,  34.6166,2,  34.6171,2,-999.0000,9,    82.65,2,    82.89,2,   99.953,   0.0019,2,    0.007,2,  -999.00,9,    2.833,1,    0.000,2,   169.13,2,     0.18,    40.61,2,     0.05,     0.01,2,     0.01,     2.87,2,     0.01,  -999.00,9,  -999.00,    0.002,2,    0.001,2,    0.000,2, -999.000,9,   2369.3,6,   2414.7,2,   -999.0,9,   7.4488,       25,2, -999.000,9,    40.36,2, -999.000,9, -999.000,   -999.0,9,   -999.0, -999.000,9, -999.000, -999.000,9, -999.000,   -999.0,9,   -999.0, -999.000,9, -999.000,9, -999.000,9
  49NZ20140717,   P01,    98,  1,     15, X12J15,2,20140805,0204, 46.9983,-178.3013, 5494,   2530.3,2,   1.6891,2,   1.68914,2,  34.6328,2,  34.6332,2,-999.0000,9,    95.30,2,    95.21,2,   99.955,   0.0018,2,    0.006,2,  -999.00,9,    2.807,1,    0.000,2,   168.07,2,     0.18,    39.82,2,     0.05,     0.01,2,     0.01,     2.81,2,     0.01,  -999.00,9,  -999.00,    0.002,2,    0.000,2,    0.000,2, -999.000,9,   2363.8,2,   2416.5,2,   -999.0,9,   7.4717,       25,2, -999.000,9,    41.67,3, -999.000,9, -999.000,   -999.0,9,   -999.0, -999.000,9, -999.000, -999.000,9, -999.000,   -999.0,9,   -999.0, -999.000,9, -999.000,9, -999.000,9
  49NZ20140717,   P01,    98,  1,     14, X12J14,2,20140805,0204, 46.9983,-178.3013, 5494,   2729.3,2,   1.6321,2,   1.63210,2,  34.6438,2,  34.6443,2,-999.0000,9,   104.67,2,   104.85,2,   99.964,   0.0014,2,    0.006,2,  -999.00,9,    2.721,1,    0.000,2,   166.97,2,     0.18,    39.24,2,     0.05,     0.01,2,     0.01,     2.77,2,     0.01,  -999.00,9,  -999.00,    0.002,2,    0.000,2,    0.000,2, -999.000,9,   2357.9,2,   2415.6,2,   -999.0,9,   7.4893,       25,6, -999.000,9,    36.75,2, -999.000,9, -999.000,   -999.0,9,   -999.0, -999.000,9, -999.000, -999.000,9, -999.000,   -999.0,9,   -999.0, -999.000,9, -999.000,9, -999.000,9
  49NZ20140717,   P01,    98,  1,     13, X12113,2,20140805,0204, 46.9983,-178.3013, 5494,   2929.1,2,   1.5895,2,   1.58966,2,  34.6524,2,  34.6525,2,-999.0000,9,   112.59,2,   112.59,2,   99.971,   0.0012,2,    0.005,2,  -999.00,9,    2.661,1,    0.000,2,   164.95,2,     0.18,    38.63,2,     0.05,     0.00,2,     0.01,     2.72,2,     0.01,  -999.00,9,  -999.00,    0.000,2,    0.000,2,    0.000,2, -999.000,9,   2352.5,2,   2417.9,2,   2414.4,2,   7.5043,       25,2,   10.312,2,    39.26,2, -999.000,9, -999.000,   -999.0,9,   -999.0, -999.000,9, -999.000, -999.000,9, -999.000,   -999.0,9,   -999.0, -999.000,9, -999.000,9, -999.000,9
  49NZ20140717,   P01,    98,  1,     12, X12J12,2,20140805,0204, 46.9983,-178.3013, 5494,   3170.1,2,   1.5402,2,   1.54037,2,  34.6621,2,  34.6620,2,-999.0000,9,   122.70,2,   122.64,2,   99.973,   0.0011,2,    0.003,2,  -999.00,9,    2.584,1,    0.000,2,   162.85,2,     0.18,    38.00,2,     0.05,     0.00,2,     0.01,     2.67,2,     0.01,  -999.00,9,  -999.00,    0.000,2,    0.000,2,    0.000,2, -999.000,9,   2346.4,2,   2418.2,6,   -999.0,9,   7.5233,       25,2, -999.000,9,    39.21,2, -999.000,9, -999.000,   -999.0,9,   -999.0, -999.000,9, -999.000, -999.000,9, -999.000,   -999.0,9,   -999.0, -999.000,9, -999.000,9, -999.000,9
  49NZ20140717,   P01,    98,  1,     11, X12J11,2,20140805,0204, 46.9983,-178.3013, 5494,   3419.8,2,   1.5039,2,   1.50385,2,  34.6697,2,  34.6698,2,-999.0000,9,   131.75,2,   131.66,2,   99.975,   0.0010,2,    0.003,2,  -999.00,9,    2.713,4,    0.000,2,   160.47,2,     0.17,    37.44,2,     0.05,     0.00,2,     0.01,     2.62,2,     0.01,  -999.00,9,  -999.00,    0.001,2,    0.000,2,    0.000,2, -999.000,9,   2340.4,2,   2417.5,2,   -999.0,9,   7.5398,       25,2, -999.000,9,    38.30,2, -999.000,9, -999.000,   -999.0,9,   -999.0, -999.000,9, -999.000, -999.000,9, -999.000,   -999.0,9,   -999.0, -999.000,9, -999.000,9, -999.000,9
  49NZ20140717,   P01,    98,  1,     10, X12J10,2,20140805,0204, 46.9983,-178.3013, 5494,   3669.5,2,   1.4828,2,   1.48282,2,  34.6753,2,  34.6754,2,-999.0000,9,   138.64,2,   138.62,2,   99.981,   0.0007,2,    0.002,2,  -999.00,9,    2.576,4,    0.000,2,   158.81,2,     0.17,    37.03,2,     0.05,     0.00,2,     0.01,     2.59,2,     0.01,  -999.00,9,  -999.00,    0.000,2,    0.000,2,    0.000,2, -999.000,9,   2335.4,2,   2415.3,2,   -999.0,9,   7.5520,       25,2, -999.000,9,    39.19,2, -999.000,9, -999.000,   -999.0,9,   -999.0, -999.000,9, -999.000, -999.000,9, -999.000,   -999.0,9,   -999.0, -999.000,9, -999.000,9, -999.000,9