BOTTLE,20230904JAMSTECRIGC
EXPOCODE,SECT,STNNBR,CASTNO,SAMPNO,BTLNBR,BTLNBR_FLAG_W,DATE,TIME,LATITUDE,LONGITUDE,DEPTH,CTDPRS,CTDPRS_FLAG_W,CTDTMP,CTDTMP_FLAG_W,SBE35,SBE35_FLAG_W,CTDSAL,CTDSAL_FLAG_W,SALNTY,SALNTY_FLAG_W,DNSSAL,DNSSAL_FLAG_W,CTDOXY,CTDOXY_FLAG_W,OXYGEN,OXYGEN_FLAG_W,XMISS,XMISSCP,XMISS_FLAG_W,FLUOR,FLUOR_FLAG_W,CHLORA,CHLORA_FLAG_W,CDOM,CDOM_FLAG_W,PAR,PAR_FLAG_W,SILCAT,SILCAT_FLAG_W,SILUNC,NITRAT,NITRAT_FLAG_W,NRAUNC,NITRIT,NITRIT_FLAG_W,NRIUNC,PHSPHT,PHSPHT_FLAG_W,PHPUNC,AMMONIA,AMMONIA_FLAG_W,NH4UNC,CFC-11,CFC-11_FLAG_W,CFC-12,CFC-12_FLAG_W,CFC113,CFC113_FLAG_W,SF6,SF6_FLAG_W,TCARBN,TCARBN_FLAG_W,ALKALI,ALKALI_FLAG_W,ALKALI_POT,ALKALI_POT_FLAG_W,PH_TOT,PH_TMP,PH_TOT_FLAG_W,CALCIUM,CALCIUM_FLAG_W,DOC,DOC_FLAG_W,DELC13,DELC13_FLAG_W,C13ERR,DELC14,DELC14_FLAG_W,C14ERR,CS-134,CS-134_FLAG_W,CS134ER,CS-137,CS-137_FLAG_W,CS137ER,I-129,I-129_FLAG_W,I-129ER,CDOM-325,CDOM-325_FLAG_W,CDOM-370,CDOM-370_FLAG_W,CDOM-443,CDOM-443_FLAG_W
,,,,,,,,UTC,DEG,DEG,METERS,DBAR,,ITS-90,,ITS-90,,PSS-78,,PSS-78,,G/KG,,UMOL/KG,,UMOL/KG,,%TRANS,/METER,,MG/CUM,,MG/CUM,,MG/CUM,,UE/SQM/S,,UMOL/KG,,UMOL/KG,UMOL/KG,,UMOL/KG,UMOL/KG,,UMOL/KG,UMOL/KG,,UMOL/KG,UMOL/KG,,UMOL/KG,PMOL/KG,,PMOL/KG,,PMOL/KG,,FMOL/KG,,UMOL/KG,,UMOL/KG,,UMOL/KG,,,DEG C,,MMOL/KG,,UMOL/KG,,/MILLE,,/MILLE,/MILLE,,/MILLE,MBQ/KG,,MBQ/KG,MBQ/KG,,MBQ/KG,,,,/METER,,/METER,,/METER,
  49NZ20140717,   P01,    58,  1,      0,   -999,9,20140723,0109, 40.6239, 149.3828, 5343,   -999.0,9,-999.0000,9,-999.00000,9,-999.0000,9,  33.9972,2,-999.0000,9,  -999.00,9,  -999.00,9, -999.000,-999.0000,9, -999.000,9,  -999.00,9, -999.000,9, -999.000,9,     2.79,2,     0.10,     0.07,2,     0.02,     0.01,2,     0.01,     0.14,2,     0.01,     0.09,2,     0.02, -999.000,9, -999.000,9, -999.000,9, -999.000,9,   -999.0,9,   -999.0,9,   -999.0,9,-999.0000,     -999,9, -999.000,9,  -999.00,9, -999.000,9, -999.000,   -999.0,9,   -999.0, -999.000,9, -999.000, -999.000,9, -999.000,   -999.0,9,   -999.0, -999.000,9, -999.000,9, -999.000,9
  49NZ20140717,   P01,    58,  1,     36, X12J36,2,20140723,0109, 40.6239, 149.3828, 5343,     10.2,2,  19.3027,2,  19.30330,2,  34.0401,2,  34.0388,2,-999.0000,9,   240.58,2,   244.49,2,   95.885,   0.1681,2,    0.232,2,  -999.00,9,   -0.078,1,  252.474,2,     2.53,2,     0.10,     0.09,2,     0.02,     0.01,2,     0.01,     0.12,2,     0.01,     0.05,2,     0.01,    2.296,2,    1.385,2,    0.331,2, -999.000,9,   1995.5,2,   2267.5,2,   -999.0,9,   8.0088,       25,6, -999.000,9,    61.99,2, -999.000,9, -999.000,   -999.0,9,   -999.0, -999.000,9, -999.000, -999.000,9, -999.000,   -999.0,9,   -999.0, -999.000,9, -999.000,9, -999.000,9
  49NZ20140717,   P01,    58,  1,     35, X12J35,2,20140723,0109, 40.6239, 149.3828, 5343,     50.5,2,  11.5264,2,  11.53035,2,  34.2587,2,  34.2545,2,-999.0000,9,   196.65,2,   201.26,2,   99.304,   0.0279,2,    0.187,2,  -999.00,9,    0.879,1,    8.811,2,    20.37,2,     0.09,    14.19,2,     0.03,     0.04,2,     0.01,     1.02,2,     0.01,     0.09,2,     0.02,    2.758,2,    1.570,2,    0.159,2, -999.000,9,   2107.1,6,   2273.1,2,   -999.0,9,   7.7922,       25,2, -999.000,9,    45.87,2, -999.000,9, -999.000,   -999.0,9,   -999.0, -999.000,9, -999.000, -999.000,9, -999.000,   -999.0,9,   -999.0, -999.000,9, -999.000,9, -999.000,9
  49NZ20140717,   P01,    58,  1,     34, X12J34,2,20140723,0109, 40.6239, 149.3828, 5343,    100.2,2,   9.1454,2,   9.14502,2,  34.0312,2,  34.0304,2,-999.0000,9,   238.15,2,   237.29,2,   99.845,   0.0062,2,    0.019,2,  -999.00,9,    0.874,1,    0.837,2,    21.96,2,     0.09,    14.77,2,     0.03,     0.02,2,     0.01,     1.09,2,     0.01,     0.06,2,     0.02,    3.315,2,    1.882,2,    0.253,2, -999.000,9,   2110.5,2,   2269.4,2,   -999.0,9,   7.7693,       25,2, -999.000,9,    47.64,2, -999.000,9, -999.000,   -999.0,9,   -999.0, -999.000,9, -999.000, -999.000,9, -999.000,   -999.0,9,   -999.0, -999.000,9, -999.000,9, -999.000,9
  49NZ20140717,   P01,    58,  1,     33, X12J33,2,20140723,0109, 40.6239, 149.3828, 5343,    150.7,2,   8.0210,2,   8.02115,2,  33.9826,2,  33.9824,2,-999.0000,9,   235.81,2,   234.91,2,   99.789,   0.0084,2,   -0.002,2,  -999.00,9,    1.063,1,    0.063,2,    27.40,2,     0.09,    17.27,2,     0.03,     0.02,2,     0.01,     1.27,2,     0.01,     0.00,2,     0.01,    3.409,2,    1.914,2,    0.265,2, -999.000,9,   2129.7,2,   2267.4,2,   -999.0,9,   7.7315,       25,6, -999.000,9,    46.09,2, -999.000,9, -999.000,   -999.0,9,   -999.0, -999.000,9, -999.000, -999.000,9, -999.000,   -999.0,9,   -999.0, -999.000,9, -999.000,9, -999.000,9
  49NZ20140717,   P01,    58,  1,     32, X12J32,2,20140723,0109, 40.6239, 149.3828, 5343,    201.1,2,   6.8212,2,   6.81744,2,  33.8954,2,  33.9040,2,-999.0000,9,   209.34,2,   207.32,2,   99.703,   0.0119,2,    0.000,2,  -999.00,9,    1.475,1,    0.000,2,    38.08,2,     0.10,    21.92,2,     0.03,     0.02,2,     0.01,     1.61,2,     0.01,     0.00,2,     0.01,    3.338,2,    1.840,2,    0.190,2, -999.000,9,   2161.8,2,   2273.3,6,   -999.0,9,   7.6551,       25,2, -999.000,9,    44.97,2, -999.000,9, -999.000,   -999.0,9,   -999.0, -999.000,9, -999.000, -999.000,9, -999.000,   -999.0,9,   -999.0, -999.000,9, -999.000,9, -999.000,9
  49NZ20140717,   P01,    58,  1,     31, X12J31,2,20140723,0109, 40.6239, 149.3828, 5343,    249.7,2,   5.9924,2,   5.97671,2,  33.8893,2,  33.8791,2,-999.0000,9,   177.27,2,   177.16,2,   99.688,   0.0125,2,    0.001,2,  -999.00,9,    1.784,1,    0.000,2,    50.54,2,     0.11,    26.55,2,     0.04,     0.02,2,     0.01,     1.95,2,     0.01,     0.02,2,     0.01,    3.123,2,    1.691,2,    0.216,2, -999.000,9,   2196.7,2,   2278.8,2,   -999.0,9,   7.5765,       25,2, -999.000,9,    43.42,2, -999.000,9, -999.000,   -999.0,9,   -999.0, -999.000,9, -999.000, -999.000,9, -999.000,   -999.0,9,   -999.0, -999.000,9, -999.000,9, -999.000,9
  49NZ20140717,   P01,    58,  1,     30, X12J30,2,20140723,0109, 40.6239, 149.3828, 5343,    329.9,2,   4.2381,2,   4.23805,2,  33.8134,2,  33.8138,2,-999.0000,9,   147.60,2,   146.89,2,   99.718,   0.0113,2,    0.003,2,  -999.00,9,    2.108,1,    0.000,2,    68.55,2,     0.12,    32.22,2,     0.04,     0.02,2,     0.01,     2.38,2,     0.01,     0.03,2,     0.01,    2.979,2,    1.599,2,    0.218,2, -999.000,9,   2242.6,2,   2289.6,2,   -999.0,9,   7.4684,       25,2, -999.000,9,    43.56,2, -999.000,9, -999.000,   -999.0,9,   -999.0, -999.000,9, -999.000, -999.000,9, -999.000,   -999.0,9,   -999.0, -999.000,9, -999.000,9, -999.000,9
  49NZ20140717,   P01,    58,  1,     29, X12J29,2,20140723,0109, 40.6239, 149.3828, 5343,    429.8,2,   4.7104,2,   4.71052,2,  34.0586,2,  34.0592,2,-999.0000,9,    93.10,2,    93.19,2,   99.884,   0.0046,2,    0.004,2,  -999.00,9,    2.306,1,    0.000,2,    84.68,2,     0.13,    36.04,2,     0.05,     0.01,2,     0.01,     2.61,2,     0.01,     0.02,2,     0.01,    1.750,2,    0.914,2,    0.111,2, -999.000,9,   2278.8,2,   2313.1,2,   -999.0,9,   7.4253,       25,2, -999.000,9,    40.05,2, -999.000,9, -999.000,   -999.0,9,   -999.0, -999.000,9, -999.000, -999.000,9, -999.000,   -999.0,9,   -999.0, -999.000,9, -999.000,9, -999.000,9
  49NZ20140717,   P01,    58,  1,     28, X12J28,2,20140723,0109, 40.6239, 149.3828, 5343,    529.7,2,   4.4118,2,   4.41145,2,  34.1859,2,  34.1855,2,-999.0000,9,    65.48,2,    65.97,2,   99.908,   0.0037,2,    0.004,2,  -999.00,9,    2.448,1,    0.000,2,   100.24,2,     0.14,    38.69,2,     0.05,     0.01,2,     0.01,     2.79,2,     0.01,     0.02,2,     0.01,    1.041,2,    0.524,2,    0.057,2, -999.000,9,   2310.8,2,   2332.5,2,   -999.0,9,   7.3924,       25,2, -999.000,9,    39.27,2, -999.000,9, -999.000,   -999.0,9,   -999.0, -999.000,9, -999.000, -999.000,9, -999.000,   -999.0,9,   -999.0, -999.000,9, -999.000,9, -999.000,9
  49NZ20140717,   P01,    58,  1,     27, X12J27,2,20140723,0109, 40.6239, 149.3828, 5343,    630.2,2,   3.9592,2,   3.95961,2,  34.2421,2,  34.2421,2,-999.0000,9,    51.26,2,    51.82,2,   99.914,   0.0034,2,    0.004,2,  -999.00,9,    2.638,1,    0.000,2,   112.14,2,     0.14,    40.39,2,     0.05,     0.01,2,     0.01,     2.90,2,     0.01,  -999.00,9,  -999.00,    0.715,2,    0.349,2,    0.045,2, -999.000,9,   2330.8,2,   2345.7,2,   -999.0,9,   7.3680,       25,2, -999.000,9,    38.77,2, -999.000,9, -999.000,   -999.0,9,   -999.0, -999.000,9, -999.000, -999.000,9, -999.000,   -999.0,9,   -999.0, -999.000,9, -999.000,9, -999.000,9
  49NZ20140717,   P01,    58,  1,     26, X12J26,2,20140723,0109, 40.6239, 149.3828, 5343,    730.5,2,   3.6053,2,   3.60489,2,  34.2996,2,  34.2990,2,-999.0000,9,    44.07,2,    44.49,2,   99.850,   0.0060,2,    0.005,2,  -999.00,9,    2.701,1,    0.000,2,   122.03,2,     0.15,    41.33,2,     0.05,     0.01,2,     0.01,     2.97,2,     0.01,  -999.00,9,  -999.00,    0.471,2,    0.225,2,    0.027,2, -999.000,9,   2346.2,6,   2357.9,2,   -999.0,9,   7.3586,       25,2, -999.000,9,    37.79,2, -999.000,9, -999.000,   -999.0,9,   -999.0, -999.000,9, -999.000, -999.000,9, -999.000,   -999.0,9,   -999.0, -999.000,9, -999.000,9, -999.000,9
  49NZ20140717,   P01,    58,  1,     25, X12J25,2,20140723,0109, 40.6239, 149.3828, 5343,    832.2,2,   3.3430,2,   3.34243,2,  34.3434,2,  34.3437,2,-999.0000,9,    40.92,2,    41.14,2,   99.930,   0.0028,2,    0.004,2,  -999.00,9,    2.715,1,    0.000,2,   129.47,2,     0.15,    41.91,2,     0.05,     0.00,2,     0.01,     3.01,2,     0.01,  -999.00,9,  -999.00,    0.326,2,    0.151,2,    0.014,2, -999.000,9,   2355.3,2,   2366.6,2,   -999.0,9,   7.3555,       25,2, -999.000,9,    37.95,2, -999.000,9, -999.000,   -999.0,9,   -999.0, -999.000,9, -999.000, -999.000,9, -999.000,   -999.0,9,   -999.0, -999.000,9, -999.000,9, -999.000,9
  49NZ20140717,   P01,    58,  1,     24, X12J24,2,20140723,0109, 40.6239, 149.3828, 5343,    929.7,2,   3.1124,2,   3.11213,2,  34.3825,2,  34.3817,2,-999.0000,9,    39.43,2,    39.64,2,   99.889,   0.0045,2,    0.004,2,  -999.00,9,    2.748,1,    0.000,2,   136.13,2,     0.16,    42.30,2,     0.05,     0.01,2,     0.01,     3.03,2,     0.01,  -999.00,9,  -999.00,    0.226,2,    0.105,2,    0.000,2, -999.000,9,   2363.1,2,   2374.4,2,   -999.0,9,   7.3578,       25,6, -999.000,9,    37.24,2, -999.000,9, -999.000,   -999.0,9,   -999.0, -999.000,9, -999.000, -999.000,9, -999.000,   -999.0,9,   -999.0, -999.000,9, -999.000,9, -999.000,9
  49NZ20140717,   P01,    58,  1,     23, X12J23,2,20140723,0109, 40.6239, 149.3828, 5343,   1071.0,2,   2.8245,2,   2.82453,2,  34.4288,2,  34.4282,2,-999.0000,9,    37.82,2,    37.89,2,   99.904,   0.0039,2,    0.005,2,  -999.00,9,    2.805,1,    0.000,2,   144.31,2,     0.16,    42.72,2,     0.05,     0.00,2,     0.01,     3.06,2,     0.01,     0.09,2,     0.02,    0.000,4,    0.000,4,    0.000,4, -999.000,9,   2372.8,2,   2385.5,2,   -999.0,9,   7.3563,       25,2, -999.000,9,    36.90,2, -999.000,9, -999.000,   -999.0,9,   -999.0, -999.000,9, -999.000, -999.000,9, -999.000,   -999.0,9,   -999.0, -999.000,9, -999.000,9, -999.000,9
  49NZ20140717,   P01,    58,  1,     22, X12J22,2,20140723,0109, 40.6239, 149.3828, 5343,   1269.9,2,   2.5134,2,   2.51313,2,  34.4826,2,  34.4828,2,-999.0000,9,    40.67,2,    40.94,2,   99.921,   0.0032,2,    0.004,2,  -999.00,9,    2.844,1,    0.000,2,   153.19,2,     0.17,    42.80,2,     0.05,     0.01,2,     0.01,     3.06,2,     0.01,  -999.00,9,  -999.00,    0.067,2,    0.026,2,    0.000,2, -999.000,9,   2381.6,2,   2396.2,6,   -999.0,9,   7.3644,       25,2, -999.000,9,    37.38,2, -999.000,9, -999.000,   -999.0,9,   -999.0, -999.000,9, -999.000, -999.000,9, -999.000,   -999.0,9,   -999.0, -999.000,9, -999.000,9, -999.000,9
  49NZ20140717,   P01,    58,  1,     21, X12J21,2,20140723,0109, 40.6239, 149.3828, 5343,   1469.0,2,   2.2955,2,   2.29529,2,  34.5220,2,  34.5223,2,-999.0000,9,    47.82,2,    47.78,2,   99.940,   0.0024,2,    0.003,2,  -999.00,9,    2.786,1,    0.000,2,   158.53,2,     0.17,    42.52,2,     0.05,     0.01,2,     0.01,     3.02,2,     0.01,     0.02,2,     0.01,    0.041,2,    0.015,2,    0.000,2, -999.000,9,   2382.7,2,   2402.6,2,   -999.0,9,   7.3820,       25,2, -999.000,9,    37.31,2, -999.000,9, -999.000,   -999.0,9,   -999.0, -999.000,9, -999.000, -999.000,9, -999.000,   -999.0,9,   -999.0, -999.000,9, -999.000,9, -999.000,9
  49NZ20140717,   P01,    58,  1,     20, X12J20,2,20140723,0109, 40.6239, 149.3828, 5343,   1670.3,2,   2.1372,2,   2.13699,2,  34.5579,2,  34.5584,2,-999.0000,9,    59.36,2,    59.61,2,   99.906,   0.0038,2,    0.002,2,  -999.00,9,    2.734,1,    0.000,2,   160.46,2,     0.17,    41.88,2,     0.05,     0.01,2,     0.01,     2.97,2,     0.01,  -999.00,9,  -999.00,    0.010,2,    0.006,2,    0.000,2, -999.000,9,   2379.3,2,   2406.4,2,   -999.0,9,   7.4063,       25,2, -999.000,9,    38.50,2, -999.000,9, -999.000,   -999.0,9,   -999.0, -999.000,9, -999.000, -999.000,9, -999.000,   -999.0,9,   -999.0, -999.000,9, -999.000,9, -999.000,9
  49NZ20140717,   P01,    58,  1,     19, X12J19,2,20140723,0109, 40.6239, 149.3828, 5343,   1870.1,2,   1.9817,2,   1.98168,2,  34.5846,2,  34.5847,2,-999.0000,9,    69.25,2,    69.30,2,   99.958,   0.0017,2,    0.001,2,  -999.00,9,    2.688,1,    0.000,2,   162.83,2,     0.18,    41.33,2,     0.05,     0.01,2,     0.01,     2.93,2,     0.01,  -999.00,9,  -999.00,    0.005,2,    0.001,2,    0.000,2, -999.000,9,   2376.7,2,   2412.6,2,   -999.0,9,   7.4258,       25,2, -999.000,9,    37.50,2, -999.000,9, -999.000,   -999.0,9,   -999.0, -999.000,9, -999.000, -999.000,9, -999.000,   -999.0,9,   -999.0, -999.000,9, -999.000,9, -999.000,9
  49NZ20140717,   P01,    58,  1,     18, X12J18,2,20140723,0109, 40.6239, 149.3828, 5343,   2070.4,2,   1.8561,2,   1.85602,2,  34.6079,2,  34.6081,2,-999.0000,9,    82.46,2,    82.46,2,   99.955,   0.0018,2,    0.001,2,  -999.00,9,    2.658,1,    0.000,2,   162.82,2,     0.18,    40.52,2,     0.05,     0.00,2,     0.01,     2.86,2,     0.01,     0.00,2,     0.01,    0.000,2,    0.000,2,    0.000,2, -999.000,9,   2370.2,2,   2415.8,2,   -999.0,9,   7.4523,       25,2, -999.000,9,    36.95,2, -999.000,9, -999.000,   -999.0,9,   -999.0, -999.000,9, -999.000, -999.000,9, -999.000,   -999.0,9,   -999.0, -999.000,9, -999.000,9, -999.000,9
  49NZ20140717,   P01,    58,  1,     17, X12J17,2,20140723,0109, 40.6239, 149.3828, 5343,   2270.4,2,   1.7591,2,   1.75908,2,  34.6253,2,  34.6258,2,-999.0000,9,    94.63,2,    94.57,2,   99.951,   0.0020,2,    0.000,2,  -999.00,9,    2.514,1,    0.000,2,   161.67,2,     0.17,    39.80,2,     0.05,     0.00,2,     0.01,     2.81,2,     0.01,  -999.00,9,  -999.00,    0.000,2,    0.000,2,    0.000,2, -999.000,9,   2364.2,2,   2417.8,2,   -999.0,9,   7.4754,       25,2, -999.000,9,    37.88,2, -999.000,9, -999.000,   -999.0,9,   -999.0, -999.000,9, -999.000, -999.000,9, -999.000,   -999.0,9,   -999.0, -999.000,9, -999.000,9, -999.000,9
  49NZ20140717,   P01,    58,  1,     16, X12J16,2,20140723,0109, 40.6239, 149.3828, 5343,   2470.2,2,   1.6839,2,   1.68392,2,  34.6385,2,  34.6389,2,-999.0000,9,   105.05,2,   105.03,2,   99.947,   0.0021,2,   -0.001,2,  -999.00,9,    2.480,1,    0.000,2,   160.71,2,     0.17,    39.15,2,     0.05,     0.00,2,     0.01,     2.76,2,     0.01,     0.00,2,     0.01,    0.002,2,    0.001,2,    0.000,2, -999.000,9,   2357.7,6,   2418.5,2,   -999.0,9,   7.4943,       25,2, -999.000,9,    41.33,3, -999.000,9, -999.000,   -999.0,9,   -999.0, -999.000,9, -999.000, -999.000,9, -999.000,   -999.0,9,   -999.0, -999.000,9, -999.000,9, -999.000,9
  49NZ20140717,   P01,    58,  1,     15, X12J15,2,20140723,0109, 40.6239, 149.3828, 5343,   2670.0,2,   1.6254,2,   1.62534,2,  34.6487,2,  34.6490,2,-999.0000,9,   113.82,2,   113.72,2,   99.968,   0.0013,2,   -0.001,2,  -999.00,9,    2.415,1,    0.000,2,   159.03,2,     0.17,    38.57,2,     0.05,     0.01,2,     0.01,     2.71,2,     0.01,  -999.00,9,  -999.00,    0.000,2,    0.000,2,    0.000,2, -999.000,9,   2352.5,2,   2417.6,2,   -999.0,9,   7.5116,       25,2, -999.000,9,    36.52,2, -999.000,9, -999.000,   -999.0,9,   -999.0, -999.000,9, -999.000, -999.000,9, -999.000,   -999.0,9,   -999.0, -999.000,9, -999.000,9, -999.000,9
  49NZ20140717,   P01,    58,  1,     14, X12J14,2,20140723,0109, 40.6239, 149.3828, 5343,   2869.5,2,   1.5754,2,   1.57533,2,  34.6573,2,  34.6573,2,-999.0000,9,   122.00,2,   121.89,2,   99.973,   0.0011,2,   -0.002,2,  -999.00,9,    2.392,1,    0.000,2,   157.25,2,     0.17,    37.99,2,     0.05,     0.00,2,     0.01,     2.67,2,     0.01,  -999.00,9,  -999.00,    0.001,2,    0.000,2,    0.000,2, -999.000,9,   2347.7,2,   2419.8,2,   -999.0,9,   7.5262,       25,6, -999.000,9,    37.72,2, -999.000,9, -999.000,   -999.0,9,   -999.0, -999.000,9, -999.000, -999.000,9, -999.000,   -999.0,9,   -999.0, -999.000,9, -999.000,9, -999.000,9
  49NZ20140717,   P01,    58,  1,     13, X12113,2,20140723,0109, 40.6239, 149.3828, 5343,   3079.3,2,   1.5309,2,   1.53074,2,  34.6649,2,  34.6650,2,-999.0000,9,   129.87,2,   129.62,2,   99.964,   0.0014,2,   -0.002,2,  -999.00,9,    2.355,1,    0.000,2,   155.69,2,     0.17,    37.50,2,     0.05,     0.01,2,     0.01,     2.63,2,     0.01,     0.01,2,     0.01,    0.000,2,    0.000,2,    0.000,2, -999.000,9,   2342.5,2,   2419.1,2,   -999.0,9,   7.5403,       25,2, -999.000,9,    37.30,2, -999.000,9, -999.000,   -999.0,9,   -999.0, -999.000,9, -999.000, -999.000,9, -999.000,   -999.0,9,   -999.0, -999.000,9, -999.000,9, -999.000,9
  49NZ20140717,   P01,    58,  1,     12, X12J12,2,20140723,0109, 40.6239, 149.3828, 5343,   3331.3,2,   1.5024,2,   1.50249,2,  34.6711,2,  34.6710,2,-999.0000,9,   136.26,2,   136.16,2,   99.973,   0.0011,2,   -0.003,2,  -999.00,9,    2.157,1,    0.000,2,   154.41,2,     0.17,    37.11,2,     0.05,     0.00,2,     0.01,     2.60,2,     0.01,  -999.00,9,  -999.00,    0.000,2,    0.000,2,    0.000,2, -999.000,9,   2338.4,2,   2418.7,6,   -999.0,9,   7.5500,       25,2, -999.000,9,    37.32,2, -999.000,9, -999.000,   -999.0,9,   -999.0, -999.000,9, -999.000, -999.000,9, -999.000,   -999.0,9,   -999.0, -999.000,9, -999.000,9, -999.000,9
  49NZ20140717,   P01,    58,  1,     11, X12J11,2,20140723,0109, 40.6239, 149.3828, 5343,   3580.4,2,   1.4759,2,   1.47597,2,  34.6765,2,  34.6764,2,-999.0000,9,   142.57,2,   142.28,2,   99.962,   0.0015,2,   -0.003,2,  -999.00,9,    2.231,1,    0.000,2,   152.80,2,     0.17,    36.69,2,     0.05,     0.00,2,     0.01,     2.56,2,     0.01,     0.02,2,     0.01,    0.000,2,    0.000,2,    0.000,2, -999.000,9,   2332.8,2,   2418.9,2,   -999.0,9,   7.5608,       25,2, -999.000,9,    39.73,2, -999.000,9, -999.000,   -999.0,9,   -999.0, -999.000,9, -999.000, -999.000,9, -999.000,   -999.0,9,   -999.0, -999.000,9, -999.000,9, -999.000,9
  49NZ20140717,   P01,    58,  1,     10, X12J10,2,20140723,0109, 40.6239, 149.3828, 5343,   3829.4,2,   1.4645,2,   1.46451,2,  34.6803,2,  34.6804,2,-999.0000,9,   147.36,2,   147.03,2,   99.979,   0.0008,2,   -0.003,2,  -999.00,9,    2.144,1,    0.000,2,   151.39,2,     0.17,    36.34,2,     0.05,     0.01,2,     0.01,     2.54,2,     0.01,  -999.00,9,  -999.00,    0.000,2,    0.000,2,    0.000,2, -999.000,9,   2330.1,2,   2419.4,2,   -999.0,9,   7.5683,       25,2, -999.000,9,  -999.00,9, -999.000,9, -999.000,   -999.0,9,   -999.0, -999.000,9, -999.000, -999.000,9, -999.000,   -999.0,9,   -999.0, -999.000,9, -999.000,9, -999.000,9