BOTTLE,20230904JAMSTECRIGC
EXPOCODE,SECT,STNNBR,CASTNO,SAMPNO,BTLNBR,BTLNBR_FLAG_W,DATE,TIME,LATITUDE,LONGITUDE,DEPTH,CTDPRS,CTDPRS_FLAG_W,CTDTMP,CTDTMP_FLAG_W,SBE35,SBE35_FLAG_W,CTDSAL,CTDSAL_FLAG_W,SALNTY,SALNTY_FLAG_W,DNSSAL,DNSSAL_FLAG_W,CTDOXY,CTDOXY_FLAG_W,OXYGEN,OXYGEN_FLAG_W,XMISS,XMISSCP,XMISS_FLAG_W,FLUOR,FLUOR_FLAG_W,CHLORA,CHLORA_FLAG_W,CDOM,CDOM_FLAG_W,PAR,PAR_FLAG_W,SILCAT,SILCAT_FLAG_W,SILUNC,NITRAT,NITRAT_FLAG_W,NRAUNC,NITRIT,NITRIT_FLAG_W,NRIUNC,PHSPHT,PHSPHT_FLAG_W,PHPUNC,AMMONIA,AMMONIA_FLAG_W,NH4UNC,CFC-11,CFC-11_FLAG_W,CFC-12,CFC-12_FLAG_W,CFC113,CFC113_FLAG_W,SF6,SF6_FLAG_W,TCARBN,TCARBN_FLAG_W,ALKALI,ALKALI_FLAG_W,ALKALI_POT,ALKALI_POT_FLAG_W,PH_TOT,PH_TMP,PH_TOT_FLAG_W,CALCIUM,CALCIUM_FLAG_W,DOC,DOC_FLAG_W,DELC13,DELC13_FLAG_W,C13ERR,DELC14,DELC14_FLAG_W,C14ERR,CS-134,CS-134_FLAG_W,CS134ER,CS-137,CS-137_FLAG_W,CS137ER,I-129,I-129_FLAG_W,I-129ER,CDOM-325,CDOM-325_FLAG_W,CDOM-370,CDOM-370_FLAG_W,CDOM-443,CDOM-443_FLAG_W
,,,,,,,,UTC,DEG,DEG,METERS,DBAR,,ITS-90,,ITS-90,,PSS-78,,PSS-78,,G/KG,,UMOL/KG,,UMOL/KG,,%TRANS,/METER,,MG/CUM,,MG/CUM,,MG/CUM,,UE/SQM/S,,UMOL/KG,,UMOL/KG,UMOL/KG,,UMOL/KG,UMOL/KG,,UMOL/KG,UMOL/KG,,UMOL/KG,UMOL/KG,,UMOL/KG,PMOL/KG,,PMOL/KG,,PMOL/KG,,FMOL/KG,,UMOL/KG,,UMOL/KG,,UMOL/KG,,,DEG C,,MMOL/KG,,UMOL/KG,,/MILLE,,/MILLE,/MILLE,,/MILLE,MBQ/KG,,MBQ/KG,MBQ/KG,,MBQ/KG,,,,/METER,,/METER,,/METER,
  49NZ20140717,   P01,   130,  1,      0,   -999,9,20140818,0057, 47.0068,-142.4347, 4501,   -999.0,9,-999.0000,9,-999.00000,9,-999.0000,9,  32.4957,2,-999.0000,9,  -999.00,9,  -999.00,9, -999.000,-999.0000,9, -999.000,9,  -999.00,9, -999.000,9, -999.000,9,     4.34,2,     0.09,     1.66,2,     0.01,     0.04,2,     0.01,     0.47,2,     0.01,  -999.00,9,  -999.00, -999.000,9, -999.000,9, -999.000,9, -999.000,9,   -999.0,9,   -999.0,9,   -999.0,9,-999.0000,     -999,9, -999.000,9,  -999.00,9, -999.000,9, -999.000,   -999.0,9,   -999.0, -999.000,9, -999.000, -999.000,9, -999.000,   -999.0,9,   -999.0, -999.000,9, -999.000,9, -999.000,9
  49NZ20140717,   P01,   130,  1,     36, X12J36,2,20140818,0057, 47.0068,-142.4347, 4501,     10.6,2,  16.7776,2,  16.77620,2,  32.4943,2,  32.4939,2,-999.0000,9,   257.50,2,   256.95,2,   95.541,   0.1825,2,    0.248,2,  -999.00,9,   -1.060,1,  132.904,2,     4.59,2,     0.09,     1.64,2,     0.01,     0.04,2,     0.01,     0.47,2,     0.01,  -999.00,9,  -999.00, -999.000,9, -999.000,9, -999.000,9, -999.000,9,   1972.7,2,   2184.9,2,   -999.0,9,   7.9176,       25,6, -999.000,9,    63.90,2, -999.000,9, -999.000,   -999.0,9,   -999.0, -999.000,9, -999.000, -999.000,9, -999.000,   -999.0,9,   -999.0, -999.000,9, -999.000,9, -999.000,9
  49NZ20140717,   P01,   130,  1,     35, X12J35,2,20140818,0057, 47.0068,-142.4347, 4501,     50.9,2,  10.7700,2,  10.78124,2,  32.7195,2,  32.7237,2,-999.0000,9,   299.08,2,   297.08,2,   95.658,   0.1776,2,    0.556,2,  -999.00,9,    0.535,1,    3.879,2,     4.96,2,     0.09,     3.49,2,     0.03,     0.08,2,     0.01,     0.60,2,     0.01,  -999.00,9,  -999.00, -999.000,9, -999.000,9, -999.000,9, -999.000,9,   2003.2,6,   2194.1,2,   -999.0,9,   7.8661,       25,2, -999.000,9,    57.29,2, -999.000,9, -999.000,   -999.0,9,   -999.0, -999.000,9, -999.000, -999.000,9, -999.000,   -999.0,9,   -999.0, -999.000,9, -999.000,9, -999.000,9
  49NZ20140717,   P01,   130,  1,     34, X12J34,2,20140818,0057, 47.0068,-142.4347, 4501,    100.3,2,   8.3229,2,   8.32333,2,  33.1768,2,  33.1799,2,-999.0000,9,   258.75,2,   257.28,2,   99.346,   0.0263,2,    0.179,2,  -999.00,9,    0.530,1,    0.137,2,    13.26,2,     0.09,    12.52,2,     0.02,     0.03,2,     0.01,     1.06,2,     0.01,  -999.00,9,  -999.00, -999.000,9, -999.000,9, -999.000,9, -999.000,9,   2072.0,2,   2215.7,2,   -999.0,9,   7.7491,       25,2, -999.000,9,    53.91,2, -999.000,9, -999.000,   -999.0,9,   -999.0, -999.000,9, -999.000, -999.000,9, -999.000,   -999.0,9,   -999.0, -999.000,9, -999.000,9, -999.000,9
  49NZ20140717,   P01,   130,  1,     33, X12J33,2,20140818,0057, 47.0068,-142.4347, 4501,    149.8,2,   7.5480,2,   7.54772,2,  33.7591,2,  33.7595,2,-999.0000,9,   217.97,2,   216.74,2,   99.320,   0.0273,2,    0.017,2,  -999.00,9,    1.257,1,    0.000,2,    27.12,2,     0.09,    19.87,2,     0.03,     0.01,2,     0.01,     1.45,2,     0.01,  -999.00,9,  -999.00, -999.000,9, -999.000,9, -999.000,9, -999.000,9,   2135.2,2,   2254.8,2,   -999.0,9,   7.6708,       25,2, -999.000,9,    47.96,2, -999.000,9, -999.000,   -999.0,9,   -999.0, -999.000,9, -999.000, -999.000,9, -999.000,   -999.0,9,   -999.0, -999.000,9, -999.000,9, -999.000,9
  49NZ20140717,   P01,   130,  1,     32, X12J32,2,20140818,0057, 47.0068,-142.4347, 4501,    200.5,2,   6.8170,2,   6.81388,2,  33.8560,2,  33.8561,2,-999.0000,9,   187.72,2,   186.65,2,   99.636,   0.0146,2,    0.013,2,  -999.00,9,    1.727,1,    0.000,2,    38.66,2,     0.10,    24.66,2,     0.04,     0.01,2,     0.01,     1.78,2,     0.01,  -999.00,9,  -999.00, -999.000,9, -999.000,9, -999.000,9, -999.000,9,   2173.4,2,   2268.1,6,   -999.0,9,   7.6015,       25,2, -999.000,9,    46.17,2, -999.000,9, -999.000,   -999.0,9,   -999.0, -999.000,9, -999.000, -999.000,9, -999.000,   -999.0,9,   -999.0, -999.000,9, -999.000,9, -999.000,9
  49NZ20140717,   P01,   130,  1,     31, X12J31,2,20140818,0057, 47.0068,-142.4347, 4501,    249.0,2,   5.9156,2,   5.91528,2,  33.8556,2,  33.8537,2,-999.0000,9,   159.93,2,   159.03,2,   99.630,   0.0148,2,    0.013,2,  -999.00,9,    2.073,1,    0.000,2,    50.47,2,     0.11,    28.84,2,     0.04,     0.01,2,     0.01,     2.09,2,     0.01,  -999.00,9,  -999.00, -999.000,9, -999.000,9, -999.000,9, -999.000,9,   2206.7,2,   2278.0,2,   -999.0,9,   7.5290,       25,2, -999.000,9,    46.39,2, -999.000,9, -999.000,   -999.0,9,   -999.0, -999.000,9, -999.000, -999.000,9, -999.000,   -999.0,9,   -999.0, -999.000,9, -999.000,9, -999.000,9
  49NZ20140717,   P01,   130,  1,     30, X12J30,2,20140818,0057, 47.0068,-142.4347, 4501,    331.5,2,   4.7909,2,   4.79120,2,  33.8825,2,  33.8819,2,-999.0000,9,   109.50,2,   109.28,2,   99.723,   0.0111,2,    0.014,2,  -999.00,9,    2.510,1,    0.000,2,    69.79,2,     0.12,    35.45,2,     0.05,     0.01,2,     0.01,     2.54,2,     0.01,  -999.00,9,  -999.00, -999.000,9, -999.000,9, -999.000,9, -999.000,9,   2259.5,2,   2286.8,2,   -999.0,9,   7.4131,       25,2, -999.000,9,    46.44,2, -999.000,9, -999.000,   -999.0,9,   -999.0, -999.000,9, -999.000, -999.000,9, -999.000,   -999.0,9,   -999.0, -999.000,9, -999.000,9, -999.000,9
  49NZ20140717,   P01,   130,  1,     29, X12J29,2,20140818,0057, 47.0068,-142.4347, 4501,    428.7,2,   4.3002,2,   4.29998,2,  33.9762,2,  33.9766,2,-999.0000,9,    68.31,2,    68.51,2,   99.834,   0.0067,2,    0.015,2,  -999.00,9,    2.739,1,    0.000,2,    86.90,2,     0.13,    39.71,2,     0.05,     0.01,2,     0.01,     2.83,2,     0.01,  -999.00,9,  -999.00, -999.000,9, -999.000,9, -999.000,9, -999.000,9,   2298.3,2,   2304.4,2,   -999.0,9,   7.3448,       25,2, -999.000,9,    46.96,2, -999.000,9, -999.000,   -999.0,9,   -999.0, -999.000,9, -999.000, -999.000,9, -999.000,   -999.0,9,   -999.0, -999.000,9, -999.000,9, -999.000,9
  49NZ20140717,   P01,   130,  1,     28, X12J28,2,20140818,0057, 47.0068,-142.4347, 4501,    529.1,2,   4.0735,2,   4.07324,2,  34.0750,2,  34.0746,2,-999.0000,9,    44.04,2,    44.47,2,   99.961,   0.0015,2,    0.016,2,  -999.00,9,    2.824,1,    0.000,2,    99.93,2,     0.14,    41.71,2,     0.05,     0.01,2,     0.01,     2.97,2,     0.01,  -999.00,9,  -999.00, -999.000,9, -999.000,9, -999.000,9, -999.000,9,   2323.1,2,   2319.7,2,   -999.0,9,   7.3152,       25,2, -999.000,9,    41.93,2, -999.000,9, -999.000,   -999.0,9,   -999.0, -999.000,9, -999.000, -999.000,9, -999.000,   -999.0,9,   -999.0, -999.000,9, -999.000,9, -999.000,9
  49NZ20140717,   P01,   130,  1,     27, X12J27,2,20140818,0057, 47.0068,-142.4347, 4501,    629.1,2,   3.8928,2,   3.89262,2,  34.1646,2,  34.1637,2,-999.0000,9,    30.72,2,    30.94,2,   99.957,   0.0017,2,    0.015,2,  -999.00,9,    2.942,1,    0.000,2,   110.39,2,     0.14,    42.69,2,     0.05,     0.01,2,     0.01,     3.05,2,     0.01,  -999.00,9,  -999.00, -999.000,9, -999.000,9, -999.000,9, -999.000,9,   2340.6,2,   2335.0,2,   -999.0,9,   7.3081,       25,6, -999.000,9,    42.47,2, -999.000,9, -999.000,   -999.0,9,   -999.0, -999.000,9, -999.000, -999.000,9, -999.000,   -999.0,9,   -999.0, -999.000,9, -999.000,9, -999.000,9
  49NZ20140717,   P01,   130,  1,     26, X12J26,2,20140818,0057, 47.0068,-142.4347, 4501,    730.1,2,   3.6269,2,   3.62685,2,  34.2278,2,  34.2274,2,-999.0000,9,    22.71,2,    22.64,2,   99.920,   0.0032,2,    0.015,2,  -999.00,9,    2.994,1,    0.000,2,   120.56,2,     0.15,    43.40,2,     0.05,     0.00,2,     0.01,     3.10,2,     0.01,  -999.00,9,  -999.00, -999.000,9, -999.000,9, -999.000,9, -999.000,9,   2355.2,6,   2347.3,2,   -999.0,9,   7.3017,       25,2, -999.000,9,    40.44,2, -999.000,9, -999.000,   -999.0,9,   -999.0, -999.000,9, -999.000, -999.000,9, -999.000,   -999.0,9,   -999.0, -999.000,9, -999.000,9, -999.000,9
  49NZ20140717,   P01,   130,  1,     25, X12J25,2,20140818,0057, 47.0068,-142.4347, 4501,    830.3,2,   3.3895,2,   3.38936,2,  34.2792,2,  34.2787,2,-999.0000,9,    17.94,2,    17.51,2,   99.998,   0.0001,2,    0.015,2,  -999.00,9,    3.123,1,    0.000,2,   128.98,2,     0.15,    43.98,2,     0.06,     0.00,2,     0.01,     3.14,2,     0.01,  -999.00,9,  -999.00, -999.000,9, -999.000,9, -999.000,9, -999.000,9,   2367.8,2,   2361.0,2,   -999.0,9,   7.2992,       25,2, -999.000,9,    38.42,2, -999.000,9, -999.000,   -999.0,9,   -999.0, -999.000,9, -999.000, -999.000,9, -999.000,   -999.0,9,   -999.0, -999.000,9, -999.000,9, -999.000,9
  49NZ20140717,   P01,   130,  1,     24, X12J24,2,20140818,0057, 47.0068,-142.4347, 4501,    930.5,2,   3.1766,2,   3.17636,2,  34.3263,2,  34.3261,2,-999.0000,9,    14.76,2,    14.10,2,   99.931,   0.0028,2,    0.015,2,  -999.00,9,    3.232,1,    0.000,2,   136.72,2,     0.16,    44.42,2,     0.06,     0.00,2,     0.01,     3.18,2,     0.01,  -999.00,9,  -999.00, -999.000,9, -999.000,9, -999.000,9, -999.000,9,   2377.0,2,   2368.6,2,   -999.0,9,   7.2977,       25,6, -999.000,9,    39.38,2, -999.000,9, -999.000,   -999.0,9,   -999.0, -999.000,9, -999.000, -999.000,9, -999.000,   -999.0,9,   -999.0, -999.000,9, -999.000,9, -999.000,9
  49NZ20140717,   P01,   130,  1,     23, X12J23,2,20140818,0057, 47.0068,-142.4347, 4501,   1072.4,2,   2.9279,2,   2.92767,2,  34.3806,2,  34.3804,2,-999.0000,9,    13.04,2,    12.08,2,   99.972,   0.0011,2,    0.015,2,  -999.00,9,    3.279,1,    0.000,2,   145.59,2,     0.16,    44.71,2,     0.06,     0.00,2,     0.01,     3.20,2,     0.01,  -999.00,9,  -999.00, -999.000,9, -999.000,9, -999.000,9, -999.000,9,   2387.1,2,   2378.3,2,   -999.0,9,   7.3011,       25,2, -999.000,9,    39.21,2, -999.000,9, -999.000,   -999.0,9,   -999.0, -999.000,9, -999.000, -999.000,9, -999.000,   -999.0,9,   -999.0, -999.000,9, -999.000,9, -999.000,9
  49NZ20140717,   P01,   130,  1,     22, X12J22,2,20140818,0057, 47.0068,-142.4347, 4501,   1270.3,2,   2.6596,2,   2.65969,2,  34.4408,2,  34.4405,2,-999.0000,9,    13.18,2,    11.95,2,   99.951,   0.0020,2,    0.014,2,  -999.00,9,    3.290,1,    0.000,2,   155.35,2,     0.17,    44.99,2,     0.06,     0.00,2,     0.01,     3.21,2,     0.01,  -999.00,9,  -999.00, -999.000,9, -999.000,9, -999.000,9, -999.000,9,   2396.7,2,   2390.3,6,   -999.0,9,   7.3078,       25,2, -999.000,9,    38.67,2, -999.000,9, -999.000,   -999.0,9,   -999.0, -999.000,9, -999.000, -999.000,9, -999.000,   -999.0,9,   -999.0, -999.000,9, -999.000,9, -999.000,9
  49NZ20140717,   P01,   130,  1,     21, X12J21,2,20140818,0057, 47.0068,-142.4347, 4501,   1470.7,2,   2.4098,2,   2.40966,2,  34.4899,2,  34.4894,2,-999.0000,9,    17.73,2,    16.78,2,   99.968,   0.0013,2,    0.013,2,  -999.00,9,    3.270,1,    0.000,2,   163.17,2,     0.18,    44.85,2,     0.06,     0.00,2,     0.01,     3.18,2,     0.01,  -999.00,9,  -999.00, -999.000,9, -999.000,9, -999.000,9, -999.000,9,   2402.0,2,   2400.4,2,   -999.0,9,   7.3186,       25,2, -999.000,9,    38.61,2, -999.000,9, -999.000,   -999.0,9,   -999.0, -999.000,9, -999.000, -999.000,9, -999.000,   -999.0,9,   -999.0, -999.000,9, -999.000,9, -999.000,9
  49NZ20140717,   P01,   130,  1,     20, X12J20,2,20140818,0057, 47.0068,-142.4347, 4501,   1669.9,2,   2.2074,2,   2.20715,2,  34.5301,2,  34.5301,2,-999.0000,9,    28.36,2,    27.82,2,   99.964,   0.0015,2,    0.012,2,  -999.00,9,    3.227,1,    0.000,2,   168.52,2,     0.18,    44.26,2,     0.06,     0.00,2,     0.01,     3.13,2,     0.01,  -999.00,9,  -999.00, -999.000,9, -999.000,9, -999.000,9, -999.000,9,   2400.6,2,   2406.9,2,   -999.0,9,   7.3416,       25,6, -999.000,9,    39.21,2, -999.000,9, -999.000,   -999.0,9,   -999.0, -999.000,9, -999.000, -999.000,9, -999.000,   -999.0,9,   -999.0, -999.000,9, -999.000,9, -999.000,9
  49NZ20140717,   P01,   130,  1,     19, X12J19,2,20140818,0057, 47.0068,-142.4347, 4501,   1871.5,2,   2.0350,2,   2.03487,2,  34.5652,2,  34.5651,2,-999.0000,9,    43.30,2,    43.18,2,   99.994,   0.0002,2,    0.011,2,  -999.00,9,    3.193,1,    0.000,2,   171.48,2,     0.18,    43.29,2,     0.05,     0.00,2,     0.01,     3.06,2,     0.01,  -999.00,9,  -999.00, -999.000,9, -999.000,9, -999.000,9, -999.000,9,   2393.9,2,   2412.3,2,   -999.0,9,   7.3716,       25,2, -999.000,9,    37.95,2, -999.000,9, -999.000,   -999.0,9,   -999.0, -999.000,9, -999.000, -999.000,9, -999.000,   -999.0,9,   -999.0, -999.000,9, -999.000,9, -999.000,9
  49NZ20140717,   P01,   130,  1,     18, X12J18,2,20140818,0057, 47.0068,-142.4347, 4501,   2070.2,2,   1.9161,2,   1.91607,2,  34.5920,2,  34.5916,2,-999.0000,9,    56.60,2,    56.55,2,   99.987,   0.0005,2,    0.010,2,  -999.00,9,    3.146,1,    0.000,2,   173.87,2,     0.18,    42.50,2,     0.05,     0.00,2,     0.01,     3.00,2,     0.01,  -999.00,9,  -999.00, -999.000,9, -999.000,9, -999.000,9, -999.000,9,   2389.0,2,   2419.5,2,   -999.0,9,   7.4017,       25,2, -999.000,9,    38.38,2, -999.000,9, -999.000,   -999.0,9,   -999.0, -999.000,9, -999.000, -999.000,9, -999.000,   -999.0,9,   -999.0, -999.000,9, -999.000,9, -999.000,9
  49NZ20140717,   P01,   130,  1,     17, X12J17,2,20140818,0057, 47.0068,-142.4347, 4501,   2270.4,2,   1.8057,2,   1.80567,2,  34.6110,2,  34.6110,2,-999.0000,9,    68.82,2,    68.93,2,   99.987,   0.0005,2,    0.009,2,  -999.00,9,    2.988,1,    0.000,2,   174.43,2,     0.18,    41.76,2,     0.05,     0.00,2,     0.01,     2.95,2,     0.01,  -999.00,9,  -999.00, -999.000,9, -999.000,9, -999.000,9, -999.000,9,   2383.5,2,   2420.0,2,   -999.0,9,   7.4263,       25,2, -999.000,9,    39.98,2, -999.000,9, -999.000,   -999.0,9,   -999.0, -999.000,9, -999.000, -999.000,9, -999.000,   -999.0,9,   -999.0, -999.000,9, -999.000,9, -999.000,9
  49NZ20140717,   P01,   130,  1,     16, X12J16,2,20140818,0057, 47.0068,-142.4347, 4501,   2469.9,2,   1.7154,2,   1.71548,2,  34.6274,2,  34.6275,2,-999.0000,9,    81.86,2,    82.03,2,   99.994,   0.0002,2,    0.008,2,  -999.00,9,    3.033,1,    0.000,2,   173.65,2,     0.18,    40.78,2,     0.05,     0.00,2,     0.01,     2.87,2,     0.01,  -999.00,9,  -999.00, -999.000,9, -999.000,9, -999.000,9, -999.000,9,   2374.4,6,   2423.4,2,   -999.0,9,   7.4498,       25,2, -999.000,9,    39.90,2, -999.000,9, -999.000,   -999.0,9,   -999.0, -999.000,9, -999.000, -999.000,9, -999.000,   -999.0,9,   -999.0, -999.000,9, -999.000,9, -999.000,9
  49NZ20140717,   P01,   130,  1,     15, X12J15,2,20140818,0057, 47.0068,-142.4347, 4501,   2671.7,2,   1.6437,2,   1.64352,2,  34.6401,2,  34.6403,2,-999.0000,9,    94.11,2,    94.08,2,   99.985,   0.0006,2,    0.007,2,  -999.00,9,    2.905,1,    0.000,2,   172.88,2,     0.18,    39.98,2,     0.05,     0.00,2,     0.01,     2.81,2,     0.01,  -999.00,9,  -999.00, -999.000,9, -999.000,9, -999.000,9, -999.000,9,   2366.9,2,   2423.9,2,   -999.0,9,   7.4750,       25,2, -999.000,9,    39.51,2, -999.000,9, -999.000,   -999.0,9,   -999.0, -999.000,9, -999.000, -999.000,9, -999.000,   -999.0,9,   -999.0, -999.000,9, -999.000,9, -999.000,9
  49NZ20140717,   P01,   130,  1,     14, X12J14,2,20140818,0057, 47.0068,-142.4347, 4501,   2869.7,2,   1.5844,2,   1.58436,2,  34.6515,2,  34.6518,2,-999.0000,9,   104.81,2,   104.95,2,   99.977,   0.0009,2,    0.006,2,  -999.00,9,    2.847,1,    0.000,2,   171.96,2,     0.18,    39.32,2,     0.05,     0.00,2,     0.01,     2.76,2,     0.01,  -999.00,9,  -999.00, -999.000,9, -999.000,9, -999.000,9, -999.000,9,   2359.9,2,   2423.5,2,   -999.0,9,   7.4952,       25,6, -999.000,9,    38.56,2, -999.000,9, -999.000,   -999.0,9,   -999.0, -999.000,9, -999.000, -999.000,9, -999.000,   -999.0,9,   -999.0, -999.000,9, -999.000,9, -999.000,9
  49NZ20140717,   P01,   130,  1,     13, X12113,2,20140818,0057, 47.0068,-142.4347, 4501,   3079.6,2,   1.5406,2,   1.54059,2,  34.6604,2,  34.6607,2,-999.0000,9,   114.45,2,   114.18,2,   99.957,   0.0017,2,    0.005,2,  -999.00,9,    2.838,1,    0.000,2,   171.01,2,     0.18,    38.74,2,     0.05,     0.00,2,     0.01,     2.72,2,     0.01,  -999.00,9,  -999.00, -999.000,9, -999.000,9, -999.000,9, -999.000,9,   2354.8,2,   2424.5,2,   -999.0,9,   7.5133,       25,2, -999.000,9,    37.45,2, -999.000,9, -999.000,   -999.0,9,   -999.0, -999.000,9, -999.000, -999.000,9, -999.000,   -999.0,9,   -999.0, -999.000,9, -999.000,9, -999.000,9
  49NZ20140717,   P01,   130,  1,     12, X12J12,2,20140818,0057, 47.0068,-142.4347, 4501,   3331.5,2,   1.5050,2,   1.50486,2,  34.6687,2,  34.6690,2,-999.0000,9,   123.99,2,   123.90,2,   99.961,   0.0015,2,    0.004,2,  -999.00,9,    2.726,1,    0.000,2,   170.01,2,     0.18,    38.12,2,     0.05,     0.00,2,     0.01,     2.67,2,     0.01,  -999.00,9,  -999.00, -999.000,9, -999.000,9, -999.000,9, -999.000,9,   2349.0,2,   2425.0,6,   -999.0,9,   7.5332,       25,2, -999.000,9,    39.43,2, -999.000,9, -999.000,   -999.0,9,   -999.0, -999.000,9, -999.000, -999.000,9, -999.000,   -999.0,9,   -999.0, -999.000,9, -999.000,9, -999.000,9
  49NZ20140717,   P01,   130,  1,     11, X12J11,2,20140818,0057, 47.0068,-142.4347, 4501,   3582.5,2,   1.4908,2,   1.49077,2,  34.6744,2,  34.6744,2,-999.0000,9,   130.18,2,   130.13,2,   99.964,   0.0015,2,    0.004,2,  -999.00,9,    2.655,1,    0.000,2,   169.63,2,     0.18,    37.69,2,     0.05,     0.00,2,     0.01,     2.64,2,     0.01,  -999.00,9,  -999.00, -999.000,9, -999.000,9, -999.000,9, -999.000,9,   2346.1,2,   2428.0,2,   -999.0,9,   7.5467,       25,2, -999.000,9,    39.13,2, -999.000,9, -999.000,   -999.0,9,   -999.0, -999.000,9, -999.000, -999.000,9, -999.000,   -999.0,9,   -999.0, -999.000,9, -999.000,9, -999.000,9
  49NZ20140717,   P01,   130,  1,     10, X12J10,2,20140818,0057, 47.0068,-142.4347, 4501,   3832.2,2,   1.4888,2,   1.48863,2,  34.6785,2,  34.6784,2,-999.0000,9,   134.57,2,   134.61,2,   99.964,   0.0015,2,    0.004,2,  -999.00,9,    2.586,1,    0.000,2,   170.37,2,     0.18,    37.42,2,     0.05,     0.00,2,     0.01,     2.62,2,     0.01,  -999.00,9,  -999.00, -999.000,9, -999.000,9, -999.000,9, -999.000,9,   2343.5,2,   2431.0,2,   -999.0,9,   7.5561,       25,2, -999.000,9,    39.71,2, -999.000,9, -999.000,   -999.0,9,   -999.0, -999.000,9, -999.000, -999.000,9, -999.000,   -999.0,9,   -999.0, -999.000,9, -999.000,9, -999.000,9