BOTTLE,20230904JAMSTECRIGC
EXPOCODE,SECT,STNNBR,CASTNO,SAMPNO,BTLNBR,BTLNBR_FLAG_W,DATE,TIME,LATITUDE,LONGITUDE,DEPTH,CTDPRS,CTDPRS_FLAG_W,CTDTMP,CTDTMP_FLAG_W,SBE35,SBE35_FLAG_W,CTDSAL,CTDSAL_FLAG_W,SALNTY,SALNTY_FLAG_W,DNSSAL,DNSSAL_FLAG_W,CTDOXY,CTDOXY_FLAG_W,OXYGEN,OXYGEN_FLAG_W,XMISS,XMISSCP,XMISS_FLAG_W,FLUOR,FLUOR_FLAG_W,CHLORA,CHLORA_FLAG_W,CDOM,CDOM_FLAG_W,PAR,PAR_FLAG_W,SILCAT,SILCAT_FLAG_W,SILUNC,NITRAT,NITRAT_FLAG_W,NRAUNC,NITRIT,NITRIT_FLAG_W,NRIUNC,PHSPHT,PHSPHT_FLAG_W,PHPUNC,AMMONIA,AMMONIA_FLAG_W,NH4UNC,CFC-11,CFC-11_FLAG_W,CFC-12,CFC-12_FLAG_W,CFC113,CFC113_FLAG_W,SF6,SF6_FLAG_W,TCARBN,TCARBN_FLAG_W,ALKALI,ALKALI_FLAG_W,ALKALI_POT,ALKALI_POT_FLAG_W,PH_TOT,PH_TMP,PH_TOT_FLAG_W,CALCIUM,CALCIUM_FLAG_W,DOC,DOC_FLAG_W,DELC13,DELC13_FLAG_W,C13ERR,DELC14,DELC14_FLAG_W,C14ERR,CS-134,CS-134_FLAG_W,CS134ER,CS-137,CS-137_FLAG_W,CS137ER,I-129,I-129_FLAG_W,I-129ER,CDOM-325,CDOM-325_FLAG_W,CDOM-370,CDOM-370_FLAG_W,CDOM-443,CDOM-443_FLAG_W
,,,,,,,,UTC,DEG,DEG,METERS,DBAR,,ITS-90,,ITS-90,,PSS-78,,PSS-78,,G/KG,,UMOL/KG,,UMOL/KG,,%TRANS,/METER,,MG/CUM,,MG/CUM,,MG/CUM,,UE/SQM/S,,UMOL/KG,,UMOL/KG,UMOL/KG,,UMOL/KG,UMOL/KG,,UMOL/KG,UMOL/KG,,UMOL/KG,UMOL/KG,,UMOL/KG,PMOL/KG,,PMOL/KG,,PMOL/KG,,FMOL/KG,,UMOL/KG,,UMOL/KG,,UMOL/KG,,,DEG C,,MMOL/KG,,UMOL/KG,,/MILLE,,/MILLE,/MILLE,,/MILLE,MBQ/KG,,MBQ/KG,MBQ/KG,,MBQ/KG,,,,/METER,,/METER,,/METER,
  49NZ20140717,   P01,    72,  1,      0,   -999,9,20140727,0500, 46.5590, 159.2282, 5109,   -999.0,9,-999.0000,9,-999.00000,9,-999.0000,9,  32.6473,2,-999.0000,9,  -999.00,9,  -999.00,9, -999.000,-999.0000,9, -999.000,9,  -999.00,9, -999.000,9, -999.000,9,    23.23,2,     0.09,    12.20,2,     0.06,     0.12,2,     0.01,     1.25,2,     0.01,  -999.00,9,  -999.00, -999.000,9, -999.000,9, -999.000,9, -999.000,9,   -999.0,9,   -999.0,9,   -999.0,9,-999.0000,     -999,9, -999.000,9,  -999.00,9, -999.000,9, -999.000,   -999.0,9,   -999.0, -999.000,9, -999.000, -999.000,9, -999.000,   -999.0,9,   -999.0, -999.000,9, -999.000,9, -999.000,9
  49NZ20140717,   P01,    72,  1,     36, X12J36,2,20140727,0500, 46.5590, 159.2282, 5109,     10.0,2,  11.1402,2,  11.14003,2,  32.6533,2,  32.6626,2,-999.0000,9,   289.70,2,   293.04,2,   93.349,   0.2753,2,    0.529,2,  -999.00,9,    0.413,1,   46.130,2,    23.54,2,     0.09,    12.27,2,     0.02,     0.12,2,     0.01,     1.24,2,     0.01,  -999.00,9,  -999.00,    3.693,2,    2.179,2,    0.352,2,    2.450,2,   -999.0,9,   -999.0,9,   -999.0,9,-999.0000,     -999,9, -999.000,9,  -999.00,9, -999.000,9, -999.000,   -999.0,9,   -999.0, -999.000,9, -999.000, -999.000,9, -999.000,   -999.0,9,   -999.0, -999.000,9, -999.000,9, -999.000,9
  49NZ20140717,   P01,    72,  1,     35, X12J35,2,20140727,0500, 46.5590, 159.2282, 5109,     50.3,2,   3.0032,2,   3.00261,2,  32.8622,2,  32.8643,2,-999.0000,9,   331.22,2,   332.06,2,   97.666,   0.0945,2,    0.358,2,  -999.00,9,    0.947,1,    0.876,2,    30.19,2,     0.09,    19.30,2,     0.03,     0.27,2,     0.01,     1.70,2,     0.01,  -999.00,9,  -999.00,    5.415,2,    3.066,2,    0.495,2,    3.240,2,   -999.0,9,   -999.0,9,   -999.0,9,-999.0000,     -999,9, -999.000,9,  -999.00,9, -999.000,9, -999.000,   -999.0,9,   -999.0, -999.000,9, -999.000, -999.000,9, -999.000,   -999.0,9,   -999.0, -999.000,9, -999.000,9, -999.000,9
  49NZ20140717,   P01,    72,  1,     34, X12J34,2,20140727,0500, 46.5590, 159.2282, 5109,    100.3,2,   1.8955,2,   1.89715,2,  32.9603,2,  32.9616,2,-999.0000,9,   310.01,2,   312.38,2,   99.545,   0.0182,2,    0.058,2,  -999.00,9,    1.120,1,    0.011,2,    37.23,2,     0.10,    23.58,2,     0.03,     0.02,2,     0.01,     1.88,2,     0.01,  -999.00,9,  -999.00,    5.300,2,    2.998,2,    0.467,2,    3.170,2,   -999.0,9,   -999.0,9,   -999.0,9,-999.0000,     -999,9, -999.000,9,  -999.00,9, -999.000,9, -999.000,   -999.0,9,   -999.0, -999.000,9, -999.000, -999.000,9, -999.000,   -999.0,9,   -999.0, -999.000,9, -999.000,9, -999.000,9
  49NZ20140717,   P01,    72,  1,     33, X12J33,2,20140727,0500, 46.5590, 159.2282, 5109,    150.2,2,   2.4712,2,   2.46989,2,  33.4757,2,  33.4779,2,-999.0000,9,   161.23,2,   161.65,2,   99.513,   0.0195,2,    0.037,2,  -999.00,9,    2.190,1,    0.000,2,    72.46,2,     0.12,    36.75,2,     0.05,     0.02,2,     0.01,     2.69,2,     0.01,  -999.00,9,  -999.00,    3.795,2,    2.104,2,    0.295,2,    1.880,2,   -999.0,9,   -999.0,9,   -999.0,9,-999.0000,     -999,9, -999.000,9,  -999.00,9, -999.000,9, -999.000,   -999.0,9,   -999.0, -999.000,9, -999.000, -999.000,9, -999.000,   -999.0,9,   -999.0, -999.000,9, -999.000,9, -999.000,9
  49NZ20140717,   P01,    72,  1,     32, X12J32,2,20140727,0500, 46.5590, 159.2282, 5109,    199.7,2,   3.3814,2,   3.38282,2,  33.7872,2,  33.7893,2,-999.0000,9,    55.95,2,    55.99,2,   99.633,   0.0147,2,    0.021,2,  -999.00,9,    2.712,1,    0.000,2,    92.86,2,     0.13,    43.61,2,     0.05,     0.01,2,     0.01,     3.10,2,     0.01,  -999.00,9,  -999.00,    2.471,2,    1.339,2,    0.185,2,    0.950,2,   -999.0,9,   -999.0,9,   -999.0,9,-999.0000,     -999,9, -999.000,9,  -999.00,9, -999.000,9, -999.000,   -999.0,9,   -999.0, -999.000,9, -999.000, -999.000,9, -999.000,   -999.0,9,   -999.0, -999.000,9, -999.000,9, -999.000,9
  49NZ20140717,   P01,    72,  1,     31, X12J31,2,20140727,0500, 46.5590, 159.2282, 5109,    249.7,2,   3.5453,2,   3.54471,2,  33.9078,2,  33.9086,2,-999.0000,9,    29.56,2,    29.77,2,   99.716,   0.0114,2,    0.022,2,  -999.00,9,    2.788,1,    0.000,2,   101.01,2,     0.14,    44.93,2,     0.06,     0.01,2,     0.01,     3.18,2,     0.01,  -999.00,9,  -999.00,    1.972,2,    1.053,2,    0.139,2,    0.690,2,   -999.0,9,   -999.0,9,   -999.0,9,-999.0000,     -999,9, -999.000,9,  -999.00,9, -999.000,9, -999.000,   -999.0,9,   -999.0, -999.000,9, -999.000, -999.000,9, -999.000,   -999.0,9,   -999.0, -999.000,9, -999.000,9, -999.000,9
  49NZ20140717,   P01,    72,  1,     30, X12J30,2,20140727,0500, 46.5590, 159.2282, 5109,    299.2,2,   3.5643,2,   3.56400,2,  33.9911,2,  33.9916,2,-999.0000,9,    21.52,2,    21.46,2,   99.748,   0.0101,2,    0.022,2,  -999.00,9,    2.867,1,    0.000,2,   107.78,2,     0.14,    45.01,2,     0.06,     0.01,2,     0.01,     3.19,2,     0.01,  -999.00,9,  -999.00,    1.537,2,    0.807,2,    0.098,2,    0.480,2,   -999.0,9,   -999.0,9,   -999.0,9,-999.0000,     -999,9, -999.000,9,  -999.00,9, -999.000,9, -999.000,   -999.0,9,   -999.0, -999.000,9, -999.000, -999.000,9, -999.000,   -999.0,9,   -999.0, -999.000,9, -999.000,9, -999.000,9
  49NZ20140717,   P01,    72,  1,     29, X12J29,2,20140727,0500, 46.5590, 159.2282, 5109,    399.6,2,   3.5261,2,   3.52592,2,  34.1230,2,  34.1230,2,-999.0000,9,    15.59,2,    15.07,2,   99.847,   0.0061,2,    0.021,2,  -999.00,9,    2.941,1,    0.000,2,   119.04,2,     0.15,    44.65,2,     0.06,     0.01,2,     0.01,     3.16,2,     0.01,  -999.00,9,  -999.00,    0.911,2,    0.479,2,    0.054,2,    0.240,2,   -999.0,9,   -999.0,9,   -999.0,9,-999.0000,     -999,9, -999.000,9,  -999.00,9, -999.000,9, -999.000,   -999.0,9,   -999.0, -999.000,9, -999.000, -999.000,9, -999.000,   -999.0,9,   -999.0, -999.000,9, -999.000,9, -999.000,9
  49NZ20140717,   P01,    72,  1,     28, X12J28,2,20140727,0500, 46.5590, 159.2282, 5109,   4999.3,2,   1.5152,2,   1.51513,2,  34.6893,2,  34.6892,2,-999.0000,9,   157.05,2,   157.11,2,   99.815,   0.0074,2,    0.003,2,  -999.00,9,   -1.404,4,    0.000,2,  -999.00,9,  -999.00,  -999.00,9,  -999.00,  -999.00,9,  -999.00,  -999.00,9,  -999.00,  -999.00,9,  -999.00, -999.000,9, -999.000,9, -999.000,9, -999.000,9,   -999.0,9,   -999.0,9,   -999.0,9,-999.0000,     -999,9, -999.000,9,  -999.00,9, -999.000,9, -999.000,   -999.0,9,   -999.0, -999.000,9, -999.000, -999.000,9, -999.000,   -999.0,9,   -999.0, -999.000,9, -999.000,9, -999.000,9
  49NZ20140717,   P01,    72,  1,     27, X12J27,2,20140727,0500, 46.5590, 159.2282, 5109,    600.3,2,   3.2054,2,   3.20550,2,  34.2589,2,  34.2603,2,-999.0000,9,    14.62,2,    13.89,2,   99.860,   0.0056,2,    0.019,2,  -999.00,9,    2.954,1,    0.000,2,   134.90,2,     0.16,    44.51,2,     0.06,     0.01,2,     0.01,     3.16,2,     0.01,  -999.00,9,  -999.00,    0.420,2,    0.230,2,    0.024,2,    0.090,2,   -999.0,9,   -999.0,9,   -999.0,9,-999.0000,     -999,9, -999.000,9,  -999.00,9, -999.000,9, -999.000,   -999.0,9,   -999.0, -999.000,9, -999.000, -999.000,9, -999.000,   -999.0,9,   -999.0, -999.000,9, -999.000,9, -999.000,9
  49NZ20140717,   P01,    72,  1,     26, X12J26,2,20140727,0500, 46.5590, 159.2282, 5109,    699.4,2,   3.0299,2,   3.02974,2,  34.3095,2,  34.3095,2,-999.0000,9,    15.21,2,    14.54,2,   99.878,   0.0049,2,    0.019,2,  -999.00,9,    2.967,1,    0.000,2,   141.71,2,     0.16,    44.48,2,     0.06,     0.01,2,     0.01,     3.17,2,     0.01,  -999.00,9,  -999.00,    0.300,2,    0.170,2,    0.021,2,    0.060,2,   -999.0,9,   -999.0,9,   -999.0,9,-999.0000,     -999,9, -999.000,9,  -999.00,9, -999.000,9, -999.000,   -999.0,9,   -999.0, -999.000,9, -999.000, -999.000,9, -999.000,   -999.0,9,   -999.0, -999.000,9, -999.000,9, -999.000,9
  49NZ20140717,   P01,    72,  1,     25, X12J25,2,20140727,0500, 46.5590, 159.2282, 5109,    801.4,2,   2.8706,2,   2.86997,2,  34.3519,2,  34.3522,2,-999.0000,9,    16.61,2,    15.86,2,   99.867,   0.0053,2,    0.018,2,  -999.00,9,    3.024,1,    0.000,2,   147.26,2,     0.17,    44.22,2,     0.06,     0.01,2,     0.01,     3.15,2,     0.01,  -999.00,9,  -999.00,    0.227,2,    0.130,2,    0.011,2,    0.050,2,   -999.0,9,   -999.0,9,   -999.0,9,-999.0000,     -999,9, -999.000,9,  -999.00,9, -999.000,9, -999.000,   -999.0,9,   -999.0, -999.000,9, -999.000, -999.000,9, -999.000,   -999.0,9,   -999.0, -999.000,9, -999.000,9, -999.000,9
  49NZ20140717,   P01,    72,  1,     24, X12J24,2,20140727,0500, 46.5590, 159.2282, 5109,    899.5,2,   2.7187,2,   2.71891,2,  34.3915,2,  34.3921,2,-999.0000,9,    18.05,2,    17.36,2,   99.856,   0.0058,2,    0.017,2,  -999.00,9,    3.143,1,    0.000,2,   152.67,2,     0.17,    44.22,2,     0.06,     0.01,2,     0.01,     3.15,2,     0.01,  -999.00,9,  -999.00,    0.153,2,    0.089,2,    0.007,2,    0.010,2,   -999.0,9,   -999.0,9,   -999.0,9,-999.0000,     -999,9, -999.000,9,  -999.00,9, -999.000,9, -999.000,   -999.0,9,   -999.0, -999.000,9, -999.000, -999.000,9, -999.000,   -999.0,9,   -999.0, -999.000,9, -999.000,9, -999.000,9
  49NZ20140717,   P01,    72,  1,     23, X12J23,2,20140727,0500, 46.5590, 159.2282, 5109,    999.5,2,   2.5773,2,   2.57611,2,  34.4246,2,  34.4233,2,-999.0000,9,    21.21,2,    20.35,2,   99.893,   0.0043,2,    0.016,2,  -999.00,9,    3.091,1,    0.000,2,   157.07,2,     0.17,    44.09,2,     0.06,     0.01,2,     0.01,     3.14,2,     0.01,  -999.00,9,  -999.00,    0.119,2,    0.070,2,    0.008,2,    0.040,2,   -999.0,9,   -999.0,9,   -999.0,9,-999.0000,     -999,9, -999.000,9,  -999.00,9, -999.000,9, -999.000,   -999.0,9,   -999.0, -999.000,9, -999.000, -999.000,9, -999.000,   -999.0,9,   -999.0, -999.000,9, -999.000,9, -999.000,9
  49NZ20140717,   P01,    72,  1,     22, X12J22,2,20140727,0500, 46.5590, 159.2282, 5109,   1198.9,2,   2.3263,2,   2.32591,2,  34.4791,2,  34.4805,2,-999.0000,9,    32.28,2,    32.16,2,   99.875,   0.0050,2,    0.015,2,  -999.00,9,    2.990,1,    0.000,2,   164.21,2,     0.18,    43.35,2,     0.05,     0.01,2,     0.01,     3.09,2,     0.01,  -999.00,9,  -999.00,    0.087,2,    0.050,2,    0.006,2,    0.020,2,   -999.0,9,   -999.0,9,   -999.0,9,-999.0000,     -999,9, -999.000,9,  -999.00,9, -999.000,9, -999.000,   -999.0,9,   -999.0, -999.000,9, -999.000, -999.000,9, -999.000,   -999.0,9,   -999.0, -999.000,9, -999.000,9, -999.000,9
  49NZ20140717,   P01,    72,  1,     21, X12J21,2,20140727,0500, 46.5590, 159.2282, 5109,   1399.3,2,   2.1428,2,   2.14298,2,  34.5263,2,  34.5262,2,-999.0000,9,    43.11,2,    43.06,2,   99.932,   0.0027,2,    0.014,2,  -999.00,9,    2.999,1,    0.000,2,   168.16,2,     0.18,    42.75,2,     0.05,     0.01,2,     0.01,     3.04,2,     0.01,  -999.00,9,  -999.00,    0.046,2,    0.027,2,    0.003,2,    0.040,2,   -999.0,9,   -999.0,9,   -999.0,9,-999.0000,     -999,9, -999.000,9,  -999.00,9, -999.000,9, -999.000,   -999.0,9,   -999.0, -999.000,9, -999.000, -999.000,9, -999.000,   -999.0,9,   -999.0, -999.000,9, -999.000,9, -999.000,9
  49NZ20140717,   P01,    72,  1,     20, X12J20,2,20140727,0500, 46.5590, 159.2282, 5109,   1600.3,2,   1.9996,2,   1.99924,2,  34.5635,2,  34.5647,2,-999.0000,9,    55.75,2,    56.52,2,   99.916,   0.0033,2,    0.013,2,  -999.00,9,    2.917,1,    0.000,2,   169.55,2,     0.18,    41.96,2,     0.05,     0.01,2,     0.01,     2.98,2,     0.01,  -999.00,9,  -999.00,    0.022,2,    0.012,2,    0.002,2,    0.030,2,   -999.0,9,   -999.0,9,   -999.0,9,-999.0000,     -999,9, -999.000,9,  -999.00,9, -999.000,9, -999.000,   -999.0,9,   -999.0, -999.000,9, -999.000, -999.000,9, -999.000,   -999.0,9,   -999.0, -999.000,9, -999.000,9, -999.000,9
  49NZ20140717,   P01,    72,  1,     19, X12J19,2,20140727,0500, 46.5590, 159.2282, 5109,   1802.0,2,   1.8762,2,   1.87618,2,  34.5935,2,  34.5934,2,-999.0000,9,    71.30,2,    71.37,2,   99.916,   0.0033,2,    0.011,2,  -999.00,9,    2.855,1,    0.000,2,   168.30,2,     0.18,    41.11,2,     0.05,     0.01,2,     0.01,     2.92,2,     0.01,  -999.00,9,  -999.00,    0.010,2,    0.005,2,    0.000,2,    0.020,2,   -999.0,9,   -999.0,9,   -999.0,9,-999.0000,     -999,9, -999.000,9,  -999.00,9, -999.000,9, -999.000,   -999.0,9,   -999.0, -999.000,9, -999.000, -999.000,9, -999.000,   -999.0,9,   -999.0, -999.000,9, -999.000,9, -999.000,9
  49NZ20140717,   P01,    72,  1,     18, X12J18,2,20140727,0500, 46.5590, 159.2282, 5109,   1997.7,2,   1.7783,2,   1.77854,2,  34.6146,2,  34.6147,2,-999.0000,9,    84.34,2,    84.58,2,   99.912,   0.0035,2,    0.010,2,  -999.00,9,    2.765,1,    0.000,2,   166.75,2,     0.18,    40.31,2,     0.05,     0.01,2,     0.01,     2.85,2,     0.01,  -999.00,9,  -999.00,    0.002,2,    0.001,2,    0.000,2,    0.060,2,   -999.0,9,   -999.0,9,   -999.0,9,-999.0000,     -999,9, -999.000,9,  -999.00,9, -999.000,9, -999.000,   -999.0,9,   -999.0, -999.000,9, -999.000, -999.000,9, -999.000,   -999.0,9,   -999.0, -999.000,9, -999.000,9, -999.000,9
  49NZ20140717,   P01,    72,  1,     17, X12J17,2,20140727,0500, 46.5590, 159.2282, 5109,   2201.5,2,   1.6952,2,   1.69511,2,  34.6316,2,  34.6317,2,-999.0000,9,    97.63,2,    97.98,2,   99.901,   0.0040,2,    0.009,2,  -999.00,9,    2.550,1,    0.000,2,   164.15,2,     0.18,    39.51,2,     0.05,     0.01,2,     0.01,     2.78,2,     0.01,  -999.00,9,  -999.00,    0.000,2,    0.000,2,    0.000,2,    0.110,2,   -999.0,9,   -999.0,9,   -999.0,9,-999.0000,     -999,9, -999.000,9,  -999.00,9, -999.000,9, -999.000,   -999.0,9,   -999.0, -999.000,9, -999.000, -999.000,9, -999.000,   -999.0,9,   -999.0, -999.000,9, -999.000,9, -999.000,9
  49NZ20140717,   P01,    72,  1,     16, X12J16,2,20140727,0500, 46.5590, 159.2282, 5109,   2401.4,2,   1.6218,2,   1.62165,2,  34.6447,2,  34.6454,2,-999.0000,9,   109.00,2,   109.22,2,   99.912,   0.0035,2,    0.008,2,  -999.00,9,    2.501,1,    0.000,2,   161.91,2,     0.18,    38.83,2,     0.05,     0.01,2,     0.01,     2.73,2,     0.01,  -999.00,9,  -999.00,    0.000,2,    0.000,2,    0.000,2,    0.040,2,   -999.0,9,   -999.0,9,   -999.0,9,-999.0000,     -999,9, -999.000,9,  -999.00,9, -999.000,9, -999.000,   -999.0,9,   -999.0, -999.000,9, -999.000, -999.000,9, -999.000,   -999.0,9,   -999.0, -999.000,9, -999.000,9, -999.000,9
  49NZ20140717,   P01,    72,  1,     15, X12J15,2,20140727,0500, 46.5590, 159.2282, 5109,   2600.3,2,   1.5709,2,   1.57083,2,  34.6540,2,  34.6540,2,-999.0000,9,   117.84,2,   118.06,2,   99.940,   0.0024,2,    0.007,2,  -999.00,9,    2.489,1,    0.000,2,   159.94,2,     0.17,    38.27,2,     0.14,     0.01,2,     0.01,     2.69,2,     0.01,  -999.00,9,  -999.00,    0.000,2,    0.000,2,    0.000,2,    0.030,2,   -999.0,9,   -999.0,9,   -999.0,9,-999.0000,     -999,9, -999.000,9,  -999.00,9, -999.000,9, -999.000,   -999.0,9,   -999.0, -999.000,9, -999.000, -999.000,9, -999.000,   -999.0,9,   -999.0, -999.000,9, -999.000,9, -999.000,9
  49NZ20140717,   P01,    72,  1,     14, X12J14,2,20140727,0500, 46.5590, 159.2282, 5109,   2800.2,2,   1.5343,2,   1.53430,2,  34.6611,2,  34.6608,2,-999.0000,9,   125.05,2,   124.86,2,   99.921,   0.0032,2,    0.007,2,  -999.00,9,    2.422,1,    0.000,2,   157.61,2,     0.17,    37.78,2,     0.05,     0.00,2,     0.01,     2.65,2,     0.01,  -999.00,9,  -999.00,    0.000,2,    0.000,2,    0.000,2,    0.000,2,   -999.0,9,   -999.0,9,   -999.0,9,-999.0000,     -999,9, -999.000,9,  -999.00,9, -999.000,9, -999.000,   -999.0,9,   -999.0, -999.000,9, -999.000, -999.000,9, -999.000,   -999.0,9,   -999.0, -999.000,9, -999.000,9, -999.000,9
  49NZ20140717,   P01,    72,  1,     13, X12113,2,20140727,0500, 46.5590, 159.2282, 5109,   3001.0,2,   1.5046,2,   1.50454,2,  34.6669,2,  34.6670,2,-999.0000,9,   131.20,2,   131.31,2,   99.964,   0.0014,2,    0.006,2,  -999.00,9,    2.359,1,    0.000,2,   155.87,2,     0.17,    37.41,2,     0.05,     0.00,2,     0.01,     2.61,2,     0.01,  -999.00,9,  -999.00,    0.000,2,    0.000,2,    0.000,2,    0.000,2,   -999.0,9,   -999.0,9,   -999.0,9,-999.0000,     -999,9, -999.000,9,  -999.00,9, -999.000,9, -999.000,   -999.0,9,   -999.0, -999.000,9, -999.000, -999.000,9, -999.000,   -999.0,9,   -999.0, -999.000,9, -999.000,9, -999.000,9
  49NZ20140717,   P01,    72,  1,     12, X12J12,2,20140727,0500, 46.5590, 159.2282, 5109,   3250.2,2,   1.4773,2,   1.47706,2,  34.6726,2,  34.6724,2,-999.0000,9,   137.41,2,   137.24,2,   99.966,   0.0014,2,    0.005,2,  -999.00,9,    2.387,1,    0.000,2,   154.73,2,     0.17,    37.03,2,     0.05,     0.01,2,     0.01,     2.58,2,     0.01,  -999.00,9,  -999.00,    0.000,2,    0.000,2,    0.000,2,    0.000,2,   -999.0,9,   -999.0,9,   -999.0,9,-999.0000,     -999,9, -999.000,9,  -999.00,9, -999.000,9, -999.000,   -999.0,9,   -999.0, -999.000,9, -999.000, -999.000,9, -999.000,   -999.0,9,   -999.0, -999.000,9, -999.000,9, -999.000,9
  49NZ20140717,   P01,    72,  1,     11, X12J11,2,20140727,0500, 46.5590, 159.2282, 5109,   3499.8,2,   1.4615,2,   1.46149,2,  34.6772,2,  34.6770,2,-999.0000,9,   143.00,2,   143.01,2,   99.940,   0.0024,2,    0.005,2,  -999.00,9,    2.285,1,    0.000,2,   153.06,2,     0.17,    36.67,2,     0.05,     0.00,2,     0.01,     2.56,2,     0.01,  -999.00,9,  -999.00,    0.000,2,    0.000,2,    0.001,2,    0.000,2,   -999.0,9,   -999.0,9,   -999.0,9,-999.0000,     -999,9, -999.000,9,  -999.00,9, -999.000,9, -999.000,   -999.0,9,   -999.0, -999.000,9, -999.000, -999.000,9, -999.000,   -999.0,9,   -999.0, -999.000,9, -999.000,9, -999.000,9
  49NZ20140717,   P01,    72,  1,     10, X12J10,2,20140727,0500, 46.5590, 159.2282, 5109,   3749.0,2,   1.4504,2,   1.45039,2,  34.6809,2,  34.6809,2,-999.0000,9,   147.51,2,   147.46,2,   99.949,   0.0020,2,    0.004,2,  -999.00,9,    2.307,1,    0.000,2,   152.08,2,     0.17,    36.38,2,     0.05,     0.00,2,     0.01,     2.53,2,     0.01,  -999.00,9,  -999.00,    0.000,2,    0.000,2,    0.000,2,    0.010,2,   -999.0,9,   -999.0,9,   -999.0,9,-999.0000,     -999,9, -999.000,9,  -999.00,9, -999.000,9, -999.000,   -999.0,9,   -999.0, -999.000,9, -999.000, -999.000,9, -999.000,   -999.0,9,   -999.0, -999.000,9, -999.000,9, -999.000,9