BOTTLE,20230904JAMSTECRIGC
EXPOCODE,SECT,STNNBR,CASTNO,SAMPNO,BTLNBR,BTLNBR_FLAG_W,DATE,TIME,LATITUDE,LONGITUDE,DEPTH,CTDPRS,CTDPRS_FLAG_W,CTDTMP,CTDTMP_FLAG_W,SBE35,SBE35_FLAG_W,CTDSAL,CTDSAL_FLAG_W,SALNTY,SALNTY_FLAG_W,DNSSAL,DNSSAL_FLAG_W,CTDOXY,CTDOXY_FLAG_W,OXYGEN,OXYGEN_FLAG_W,XMISS,XMISSCP,XMISS_FLAG_W,FLUOR,FLUOR_FLAG_W,CHLORA,CHLORA_FLAG_W,CDOM,CDOM_FLAG_W,PAR,PAR_FLAG_W,SILCAT,SILCAT_FLAG_W,SILUNC,NITRAT,NITRAT_FLAG_W,NRAUNC,NITRIT,NITRIT_FLAG_W,NRIUNC,PHSPHT,PHSPHT_FLAG_W,PHPUNC,AMMONIA,AMMONIA_FLAG_W,NH4UNC,CFC-11,CFC-11_FLAG_W,CFC-12,CFC-12_FLAG_W,CFC113,CFC113_FLAG_W,SF6,SF6_FLAG_W,TCARBN,TCARBN_FLAG_W,ALKALI,ALKALI_FLAG_W,ALKALI_POT,ALKALI_POT_FLAG_W,PH_TOT,PH_TMP,PH_TOT_FLAG_W,CALCIUM,CALCIUM_FLAG_W,DOC,DOC_FLAG_W,DELC13,DELC13_FLAG_W,C13ERR,DELC14,DELC14_FLAG_W,C14ERR,CS-134,CS-134_FLAG_W,CS134ER,CS-137,CS-137_FLAG_W,CS137ER,I-129,I-129_FLAG_W,I-129ER,CDOM-325,CDOM-325_FLAG_W,CDOM-370,CDOM-370_FLAG_W,CDOM-443,CDOM-443_FLAG_W
,,,,,,,,UTC,DEG,DEG,METERS,DBAR,,ITS-90,,ITS-90,,PSS-78,,PSS-78,,G/KG,,UMOL/KG,,UMOL/KG,,%TRANS,/METER,,MG/CUM,,MG/CUM,,MG/CUM,,UE/SQM/S,,UMOL/KG,,UMOL/KG,UMOL/KG,,UMOL/KG,UMOL/KG,,UMOL/KG,UMOL/KG,,UMOL/KG,UMOL/KG,,UMOL/KG,PMOL/KG,,PMOL/KG,,PMOL/KG,,FMOL/KG,,UMOL/KG,,UMOL/KG,,UMOL/KG,,,DEG C,,MMOL/KG,,UMOL/KG,,/MILLE,,/MILLE,/MILLE,,/MILLE,MBQ/KG,,MBQ/KG,MBQ/KG,,MBQ/KG,,,,/METER,,/METER,,/METER,
  49NZ20140717,   P01,   120,  1,      9, X12J09,2,20140813,0715, 46.9963,-153.6173, 5228,   3999.0,2,   1.4850,2,   1.48500,2,  34.6803,2,  34.6805,2,  34.8603,2,   139.61,2,   139.65,2,   99.992,   0.0003,2,    0.008,2,  -999.00,9,    2.602,4,    0.000,2,   163.75,2,     0.18,    37.02,2,     0.05,     0.00,2,     0.01,     2.58,2,     0.01,  -999.00,9,  -999.00, -999.000,9, -999.000,9, -999.000,9, -999.000,9,   2339.4,2,   2424.0,2,   -999.0,9,   7.5607,       25,2, -999.000,9,    39.50,2, -999.000,9, -999.000,   -999.0,9,   -999.0, -999.000,9, -999.000, -999.000,9, -999.000,   -999.0,9,   -999.0, -999.000,9, -999.000,9, -999.000,9
  49NZ20140717,   P01,   120,  1,      8, X12J08,2,20140813,0715, 46.9963,-153.6173, 5228,   4251.5,2,   1.4964,2,   1.49649,2,  34.6831,2,  34.6832,2,  34.8642,2,   141.66,2,   141.78,2,   99.988,   0.0005,2,    0.007,2,  -999.00,9,    2.359,4,    0.000,2,   166.52,2,     0.18,    36.91,2,     0.05,     0.00,2,     0.01,     2.57,2,     0.01,  -999.00,9,  -999.00, -999.000,9, -999.000,9, -999.000,9, -999.000,9,   2338.7,6,   2427.3,2,   -999.0,9,   7.5677,       25,2, -999.000,9,    42.30,3, -999.000,9, -999.000,   -999.0,9,   -999.0, -999.000,9, -999.000, -999.000,9, -999.000,   -999.0,9,   -999.0, -999.000,9, -999.000,9, -999.000,9
  49NZ20140717,   P01,   120,  1,      7, X12J07,2,20140813,0715, 46.9963,-153.6173, 5228,   4501.3,2,   1.5145,2,   1.51441,2,  34.6845,2,  34.6848,2,  34.8642,2,   143.21,2,   143.33,2,   99.975,   0.0010,2,    0.008,2,  -999.00,9,   -0.018,4,    0.000,2,   167.84,2,     0.18,    36.86,2,     0.05,     0.00,2,     0.01,     2.56,2,     0.01,  -999.00,9,  -999.00, -999.000,9, -999.000,9, -999.000,9, -999.000,9,   2338.6,2,   2427.6,2,   -999.0,9,   7.5723,       25,6, -999.000,9,    40.94,2, -999.000,9, -999.000,   -999.0,9,   -999.0, -999.000,9, -999.000, -999.000,9, -999.000,   -999.0,9,   -999.0, -999.000,9, -999.000,9, -999.000,9
  49NZ20140717,   P01,   120,  1,      6, X12J06,2,20140813,0715, 46.9963,-153.6173, 5228,   4749.2,2,   1.5380,2,   1.53797,2,  34.6856,2,  34.6860,2,  34.8682,2,   143.97,2,   144.27,2,   99.966,   0.0013,2,    0.007,2,  -999.00,9,   -1.825,4,    0.000,2,   169.02,2,     0.18,    36.83,2,     0.05,     0.00,2,     0.01,     2.56,2,     0.01,  -999.00,9,  -999.00, -999.000,9, -999.000,9, -999.000,9, -999.000,9,   2338.7,2,   2429.9,6,   -999.0,9,   7.5739,       25,2, -999.000,9,    43.06,3, -999.000,9, -999.000,   -999.0,9,   -999.0, -999.000,9, -999.000, -999.000,9, -999.000,   -999.0,9,   -999.0, -999.000,9, -999.000,9, -999.000,9
  49NZ20140717,   P01,   120,  1,      5, X12J05,2,20140813,0715, 46.9963,-153.6173, 5228,   4999.6,2,   1.5633,2,   1.56329,2,  34.6864,2,  34.6865,2,  34.8682,2,   144.81,2,   145.18,2,   99.940,   0.0024,2,    0.008,2,  -999.00,9,   -1.962,4,    0.000,2,   169.31,2,     0.18,    36.78,2,     0.05,     0.00,2,     0.01,     2.56,2,     0.01,  -999.00,9,  -999.00, -999.000,9, -999.000,9, -999.000,9, -999.000,9,   2338.7,2,   2430.5,2,   -999.0,9,   7.5757,       25,2, -999.000,9,    42.26,2, -999.000,9, -999.000,   -999.0,9,   -999.0, -999.000,9, -999.000, -999.000,9, -999.000,   -999.0,9,   -999.0, -999.000,9, -999.000,9, -999.000,9
  49NZ20140717,   P01,   120,  1,      4, X12J04,2,20140813,0715, 46.9963,-153.6173, 5228,   5250.2,2,   1.5937,2,   1.59348,2,  34.6863,2,  34.6868,2,  34.8689,2,   144.98,2,   145.65,2,   99.871,   0.0052,2,    0.008,2,  -999.00,9,   -1.929,4,    0.000,2,   170.21,2,     0.18,    36.75,2,     0.05,     0.00,2,     0.01,     2.55,2,     0.01,  -999.00,9,  -999.00, -999.000,9, -999.000,9, -999.000,9, -999.000,9,   2338.1,2,   2428.0,2,   -999.0,9,   7.5762,       25,2, -999.000,9,    39.88,2, -999.000,9, -999.000,   -999.0,9,   -999.0, -999.000,9, -999.000, -999.000,9, -999.000,   -999.0,9,   -999.0, -999.000,9, -999.000,9, -999.000,9
  49NZ20140717,   P01,   120,  1,      3, X12J03,9,20140813,0715, 46.9963,-153.6173, 5228,   -999.0,9,-999.0000,9,-999.00000,9,-999.0000,9,-999.0000,9,-999.0000,9,  -999.00,9,  -999.00,9, -999.000,-999.0000,9, -999.000,9,  -999.00,9, -999.000,9, -999.000,9,  -999.00,9,  -999.00,  -999.00,9,  -999.00,  -999.00,9,  -999.00,  -999.00,9,  -999.00,  -999.00,9,  -999.00, -999.000,9, -999.000,9, -999.000,9, -999.000,9,   -999.0,9,   -999.0,9,   -999.0,9,-999.0000,     -999,9, -999.000,9,  -999.00,9, -999.000,9, -999.000,   -999.0,9,   -999.0, -999.000,9, -999.000, -999.000,9, -999.000,   -999.0,9,   -999.0, -999.000,9, -999.000,9, -999.000,9
  49NZ20140717,   P01,   120,  1,      2, X12J02,9,20140813,0715, 46.9963,-153.6173, 5228,   -999.0,9,-999.0000,9,-999.00000,9,-999.0000,9,-999.0000,9,-999.0000,9,  -999.00,9,  -999.00,9, -999.000,-999.0000,9, -999.000,9,  -999.00,9, -999.000,9, -999.000,9,  -999.00,9,  -999.00,  -999.00,9,  -999.00,  -999.00,9,  -999.00,  -999.00,9,  -999.00,  -999.00,9,  -999.00, -999.000,9, -999.000,9, -999.000,9, -999.000,9,   -999.0,9,   -999.0,9,   -999.0,9,-999.0000,     -999,9, -999.000,9,  -999.00,9, -999.000,9, -999.000,   -999.0,9,   -999.0, -999.000,9, -999.000, -999.000,9, -999.000,   -999.0,9,   -999.0, -999.000,9, -999.000,9, -999.000,9
  49NZ20140717,   P01,   120,  1,      1, X12J01,2,20140813,0715, 46.9963,-153.6173, 5228,   5315.8,2,   1.6023,2,   1.60203,2,  34.6864,2,  34.6871,2,  34.8702,2,   144.95,2,   145.66,2,   99.787,   0.0085,2,    0.007,2,  -999.00,9,   -1.274,4,    0.000,2,   170.64,2,     0.18,    36.81,2,     0.11,     0.01,2,     0.01,     2.56,2,     0.01,  -999.00,9,  -999.00, -999.000,9, -999.000,9, -999.000,9, -999.000,9,   2337.6,2,   2430.3,2,   -999.0,9,   7.5771,       25,2, -999.000,9,    38.45,2, -999.000,9, -999.000,   -999.0,9,   -999.0, -999.000,9, -999.000, -999.000,9, -999.000,   -999.0,9,   -999.0, -999.000,9, -999.000,9, -999.000,9