BOTTLE,20230904JAMSTECRIGC
EXPOCODE,SECT,STNNBR,CASTNO,SAMPNO,BTLNBR,BTLNBR_FLAG_W,DATE,TIME,LATITUDE,LONGITUDE,DEPTH,CTDPRS,CTDPRS_FLAG_W,CTDTMP,CTDTMP_FLAG_W,SBE35,SBE35_FLAG_W,CTDSAL,CTDSAL_FLAG_W,SALNTY,SALNTY_FLAG_W,DNSSAL,DNSSAL_FLAG_W,CTDOXY,CTDOXY_FLAG_W,OXYGEN,OXYGEN_FLAG_W,XMISS,XMISSCP,XMISS_FLAG_W,FLUOR,FLUOR_FLAG_W,CHLORA,CHLORA_FLAG_W,CDOM,CDOM_FLAG_W,PAR,PAR_FLAG_W,SILCAT,SILCAT_FLAG_W,SILUNC,NITRAT,NITRAT_FLAG_W,NRAUNC,NITRIT,NITRIT_FLAG_W,NRIUNC,PHSPHT,PHSPHT_FLAG_W,PHPUNC,AMMONIA,AMMONIA_FLAG_W,NH4UNC,CFC-11,CFC-11_FLAG_W,CFC-12,CFC-12_FLAG_W,CFC113,CFC113_FLAG_W,SF6,SF6_FLAG_W,TCARBN,TCARBN_FLAG_W,ALKALI,ALKALI_FLAG_W,ALKALI_POT,ALKALI_POT_FLAG_W,PH_TOT,PH_TMP,PH_TOT_FLAG_W,CALCIUM,CALCIUM_FLAG_W,DOC,DOC_FLAG_W,DELC13,DELC13_FLAG_W,C13ERR,DELC14,DELC14_FLAG_W,C14ERR,CS-134,CS-134_FLAG_W,CS134ER,CS-137,CS-137_FLAG_W,CS137ER,I-129,I-129_FLAG_W,I-129ER,CDOM-325,CDOM-325_FLAG_W,CDOM-370,CDOM-370_FLAG_W,CDOM-443,CDOM-443_FLAG_W
,,,,,,,,UTC,DEG,DEG,METERS,DBAR,,ITS-90,,ITS-90,,PSS-78,,PSS-78,,G/KG,,UMOL/KG,,UMOL/KG,,%TRANS,/METER,,MG/CUM,,MG/CUM,,MG/CUM,,UE/SQM/S,,UMOL/KG,,UMOL/KG,UMOL/KG,,UMOL/KG,UMOL/KG,,UMOL/KG,UMOL/KG,,UMOL/KG,UMOL/KG,,UMOL/KG,PMOL/KG,,PMOL/KG,,PMOL/KG,,FMOL/KG,,UMOL/KG,,UMOL/KG,,UMOL/KG,,,DEG C,,MMOL/KG,,UMOL/KG,,/MILLE,,/MILLE,/MILLE,,/MILLE,MBQ/KG,,MBQ/KG,MBQ/KG,,MBQ/KG,,,,/METER,,/METER,,/METER,
  49NZ20140717,   P01,   133,  1,      0,   -999,9,20140818,2134, 46.9929,-139.0627, 4230,   -999.0,9,-999.0000,9,-999.00000,9,-999.0000,9,  32.3171,2,-999.0000,9,  -999.00,9,  -999.00,9, -999.000,-999.0000,9, -999.000,9,  -999.00,9, -999.000,9, -999.000,9,     0.20,2,     0.18,     0.02,2,     0.02,     0.01,2,     0.01,     0.33,2,     0.01,  -999.00,9,  -999.00, -999.000,9, -999.000,9, -999.000,9, -999.000,9,   -999.0,9,   -999.0,9,   -999.0,9,-999.0000,     -999,9, -999.000,9,  -999.00,9, -999.000,9, -999.000,   -999.0,9,   -999.0, -999.000,9, -999.000, -999.000,9, -999.000,   -999.0,9,   -999.0, -999.000,9, -999.000,9, -999.000,9
  49NZ20140717,   P01,   133,  1,     36, X12J36,2,20140818,2134, 46.9929,-139.0627, 4230,     10.4,2,  17.1199,2,  17.13299,2,  32.3065,2,  32.3074,2,-999.0000,9,   253.51,2,   252.94,2,   96.215,   0.1543,2,    0.136,2,  -999.00,9,   -1.091,1,  278.114,2,     0.46,2,     0.18,     0.00,2,     0.02,     0.01,2,     0.01,     0.33,2,     0.01,  -999.00,9,  -999.00, -999.000,9, -999.000,9, -999.000,9, -999.000,9,   -999.0,9,   -999.0,9,   -999.0,9,-999.0000,     -999,9, -999.000,9,  -999.00,9, -999.000,9, -999.000,   -999.0,9,   -999.0, -999.000,9, -999.000, -999.000,9, -999.000,   -999.0,9,   -999.0, -999.000,9, -999.000,9, -999.000,9
  49NZ20140717,   P01,   133,  1,     35, X12J35,2,20140818,2134, 46.9929,-139.0627, 4230,     50.5,2,  10.7822,2,  10.77663,2,  32.4623,2,  32.4615,2,-999.0000,9,   283.33,2,   284.49,2,   96.239,   0.1533,2,    0.557,2,  -999.00,9,    0.527,1,    8.504,2,     5.05,2,     0.09,     3.77,2,     0.01,     0.09,2,     0.01,     0.66,2,     0.01,  -999.00,9,  -999.00, -999.000,9, -999.000,9, -999.000,9, -999.000,9,   -999.0,9,   -999.0,9,   -999.0,9,-999.0000,     -999,9, -999.000,9,  -999.00,9, -999.000,9, -999.000,   -999.0,9,   -999.0, -999.000,9, -999.000, -999.000,9, -999.000,   -999.0,9,   -999.0, -999.000,9, -999.000,9, -999.000,9
  49NZ20140717,   P01,   133,  1,     34, X12J34,2,20140818,2134, 46.9929,-139.0627, 4230,    100.5,2,   7.6417,2,   7.64334,2,  32.7752,2,  32.7854,2,-999.0000,9,   263.94,2,   262.61,2,   99.607,   0.0158,2,    0.124,2,  -999.00,9,    0.612,1,    0.406,2,    16.29,2,     0.09,    14.48,2,     0.03,     0.04,2,     0.01,     1.26,2,     0.01,  -999.00,9,  -999.00, -999.000,9, -999.000,9, -999.000,9, -999.000,9,   -999.0,9,   -999.0,9,   -999.0,9,-999.0000,     -999,9, -999.000,9,  -999.00,9, -999.000,9, -999.000,   -999.0,9,   -999.0, -999.000,9, -999.000, -999.000,9, -999.000,   -999.0,9,   -999.0, -999.000,9, -999.000,9, -999.000,9
  49NZ20140717,   P01,   133,  1,     33, X12J33,2,20140818,2134, 46.9929,-139.0627, 4230,    149.7,2,   7.0644,2,   7.06318,2,  33.5869,2,  33.5868,2,-999.0000,9,   222.78,2,   222.59,2,   99.806,   0.0078,2,    0.014,2,  -999.00,9,    1.212,1,    0.024,2,    27.72,2,     0.09,    20.46,2,     0.03,     0.02,2,     0.01,     1.51,2,     0.01,  -999.00,9,  -999.00, -999.000,9, -999.000,9, -999.000,9, -999.000,9,   -999.0,9,   -999.0,9,   -999.0,9,-999.0000,     -999,9, -999.000,9,  -999.00,9, -999.000,9, -999.000,   -999.0,9,   -999.0, -999.000,9, -999.000, -999.000,9, -999.000,   -999.0,9,   -999.0, -999.000,9, -999.000,9, -999.000,9
  49NZ20140717,   P01,   133,  1,     32, X12J32,2,20140818,2134, 46.9929,-139.0627, 4230,    200.5,2,   6.4263,2,   6.42630,2,  33.8186,2,  33.8137,2,-999.0000,9,   187.29,2,   186.06,2,   99.678,   0.0129,2,    0.010,2,  -999.00,9,    1.742,1,    0.000,2,    40.73,2,     0.10,    25.69,2,     0.04,     0.01,2,     0.01,     1.85,2,     0.01,  -999.00,9,  -999.00, -999.000,9, -999.000,9, -999.000,9, -999.000,9,   -999.0,9,   -999.0,9,   -999.0,9,-999.0000,     -999,9, -999.000,9,  -999.00,9, -999.000,9, -999.000,   -999.0,9,   -999.0, -999.000,9, -999.000, -999.000,9, -999.000,   -999.0,9,   -999.0, -999.000,9, -999.000,9, -999.000,9
  49NZ20140717,   P01,   133,  1,     31, X12J31,2,20140818,2134, 46.9929,-139.0627, 4230,    250.8,2,   5.6864,2,   5.68628,2,  33.8341,2,  33.8343,2,-999.0000,9,   157.30,2,   156.47,2,   99.682,   0.0127,2,    0.013,2,  -999.00,9,    2.164,1,    0.000,2,    51.90,2,     0.11,    29.66,2,     0.04,     0.01,2,     0.01,     2.13,2,     0.01,  -999.00,9,  -999.00, -999.000,9, -999.000,9, -999.000,9, -999.000,9,   -999.0,9,   -999.0,9,   -999.0,9,-999.0000,     -999,9, -999.000,9,  -999.00,9, -999.000,9, -999.000,   -999.0,9,   -999.0, -999.000,9, -999.000, -999.000,9, -999.000,   -999.0,9,   -999.0, -999.000,9, -999.000,9, -999.000,9
  49NZ20140717,   P01,   133,  1,     30, X12J30,2,20140818,2134, 46.9929,-139.0627, 4230,    329.9,2,   4.7989,2,   4.79866,2,  33.8649,2,  33.8652,2,-999.0000,9,   105.20,2,   104.97,2,   99.745,   0.0102,2,    0.015,2,  -999.00,9,    2.528,1,    0.000,2,    69.15,2,     0.12,    35.97,2,     0.05,     0.01,2,     0.01,     2.55,2,     0.01,  -999.00,9,  -999.00, -999.000,9, -999.000,9, -999.000,9, -999.000,9,   -999.0,9,   -999.0,9,   -999.0,9,-999.0000,     -999,9, -999.000,9,  -999.00,9, -999.000,9, -999.000,   -999.0,9,   -999.0, -999.000,9, -999.000, -999.000,9, -999.000,   -999.0,9,   -999.0, -999.000,9, -999.000,9, -999.000,9
  49NZ20140717,   P01,   133,  1,     29, X12J29,2,20140818,2134, 46.9929,-139.0627, 4230,    430.1,2,   4.4136,2,   4.41253,2,  33.9736,2,  33.9734,2,-999.0000,9,    63.83,2,    64.22,2,   99.843,   0.0063,2,    0.015,2,  -999.00,9,    2.776,1,    0.000,2,    84.95,2,     0.13,    39.92,2,     0.05,     0.01,2,     0.01,     2.82,2,     0.01,  -999.00,9,  -999.00, -999.000,9, -999.000,9, -999.000,9, -999.000,9,   -999.0,9,   -999.0,9,   -999.0,9,-999.0000,     -999,9, -999.000,9,  -999.00,9, -999.000,9, -999.000,   -999.0,9,   -999.0, -999.000,9, -999.000, -999.000,9, -999.000,   -999.0,9,   -999.0, -999.000,9, -999.000,9, -999.000,9
  49NZ20140717,   P01,   133,  1,     28, X12J28,2,20140818,2134, 46.9929,-139.0627, 4230,    529.4,2,   4.1479,2,   4.14745,2,  34.0772,2,  34.0770,2,-999.0000,9,    40.40,2,    40.85,2,   99.930,   0.0028,2,    0.015,2,  -999.00,9,    2.869,1,    0.000,2,    98.93,2,     0.14,    41.86,2,     0.05,     0.01,2,     0.01,     2.97,2,     0.01,  -999.00,9,  -999.00, -999.000,9, -999.000,9, -999.000,9, -999.000,9,   -999.0,9,   -999.0,9,   -999.0,9,-999.0000,     -999,9, -999.000,9,  -999.00,9, -999.000,9, -999.000,   -999.0,9,   -999.0, -999.000,9, -999.000, -999.000,9, -999.000,   -999.0,9,   -999.0, -999.000,9, -999.000,9, -999.000,9
  49NZ20140717,   P01,   133,  1,     27, X12J27,2,20140818,2134, 46.9929,-139.0627, 4230,    630.1,2,   3.8942,2,   3.89399,2,  34.1514,2,  34.1507,2,-999.0000,9,    29.95,2,    30.12,2,   99.971,   0.0012,2,    0.015,2,  -999.00,9,    3.024,1,    0.000,2,   109.43,2,     0.14,    42.64,2,     0.05,     0.00,2,     0.01,     3.02,2,     0.01,  -999.00,9,  -999.00, -999.000,9, -999.000,9, -999.000,9, -999.000,9,   -999.0,9,   -999.0,9,   -999.0,9,-999.0000,     -999,9, -999.000,9,  -999.00,9, -999.000,9, -999.000,   -999.0,9,   -999.0, -999.000,9, -999.000, -999.000,9, -999.000,   -999.0,9,   -999.0, -999.000,9, -999.000,9, -999.000,9
  49NZ20140717,   P01,   133,  1,     26, X12J26,2,20140818,2134, 46.9929,-139.0627, 4230,    729.0,2,   3.6273,2,   3.62735,2,  34.2236,2,  34.2233,2,-999.0000,9,    23.36,2,    23.23,2,   99.951,   0.0019,2,    0.015,2,  -999.00,9,    3.065,1,    0.000,2,   120.18,2,     0.15,    43.30,2,     0.05,     0.01,2,     0.01,     3.08,2,     0.01,  -999.00,9,  -999.00, -999.000,9, -999.000,9, -999.000,9, -999.000,9,   -999.0,9,   -999.0,9,   -999.0,9,-999.0000,     -999,9, -999.000,9,  -999.00,9, -999.000,9, -999.000,   -999.0,9,   -999.0, -999.000,9, -999.000, -999.000,9, -999.000,   -999.0,9,   -999.0, -999.000,9, -999.000,9, -999.000,9
  49NZ20140717,   P01,   133,  1,     25, X12J25,2,20140818,2134, 46.9929,-139.0627, 4230,    830.5,2,   3.3861,2,   3.38551,2,  34.2770,2,  34.2769,2,-999.0000,9,    18.20,2,    18.00,2,   99.947,   0.0021,2,    0.015,2,  -999.00,9,    3.199,1,    0.000,2,   129.07,2,     0.42,    43.94,2,     0.06,     0.00,2,     0.01,     3.13,2,     0.01,  -999.00,9,  -999.00, -999.000,9, -999.000,9, -999.000,9, -999.000,9,   -999.0,9,   -999.0,9,   -999.0,9,-999.0000,     -999,9, -999.000,9,  -999.00,9, -999.000,9, -999.000,   -999.0,9,   -999.0, -999.000,9, -999.000, -999.000,9, -999.000,   -999.0,9,   -999.0, -999.000,9, -999.000,9, -999.000,9
  49NZ20140717,   P01,   133,  1,     24, X12J24,2,20140818,2134, 46.9929,-139.0627, 4230,    930.5,2,   3.1737,2,   3.17366,2,  34.3252,2,  34.3249,2,-999.0000,9,    15.78,2,    15.20,2,   99.940,   0.0024,2,    0.015,2,  -999.00,9,    3.258,1,    0.000,2,   136.57,2,     0.16,    44.28,2,     0.06,     0.00,2,     0.01,     3.16,2,     0.01,  -999.00,9,  -999.00, -999.000,9, -999.000,9, -999.000,9, -999.000,9,   -999.0,9,   -999.0,9,   -999.0,9,-999.0000,     -999,9, -999.000,9,  -999.00,9, -999.000,9, -999.000,   -999.0,9,   -999.0, -999.000,9, -999.000, -999.000,9, -999.000,   -999.0,9,   -999.0, -999.000,9, -999.000,9, -999.000,9
  49NZ20140717,   P01,   133,  1,     23, X12J23,2,20140818,2134, 46.9929,-139.0627, 4230,   1070.0,2,   2.9610,2,   2.96060,2,  34.3782,2,  34.3779,2,-999.0000,9,    12.67,2,    11.61,2,   99.943,   0.0023,2,    0.015,2,  -999.00,9,    3.248,1,    0.000,2,   144.66,2,     0.16,    44.68,2,     0.06,     0.00,2,     0.01,     3.19,2,     0.01,  -999.00,9,  -999.00, -999.000,9, -999.000,9, -999.000,9, -999.000,9,   -999.0,9,   -999.0,9,   -999.0,9,-999.0000,     -999,9, -999.000,9,  -999.00,9, -999.000,9, -999.000,   -999.0,9,   -999.0, -999.000,9, -999.000, -999.000,9, -999.000,   -999.0,9,   -999.0, -999.000,9, -999.000,9, -999.000,9
  49NZ20140717,   P01,   133,  1,     22, X12J22,2,20140818,2134, 46.9929,-139.0627, 4230,   1270.2,2,   2.6855,2,   2.68655,2,  34.4462,2,  34.4457,2,-999.0000,9,    13.04,2,    11.77,2,   99.940,   0.0024,2,    0.014,2,  -999.00,9,    3.271,1,    0.000,2,   154.63,2,     0.17,    44.90,2,     0.06,     0.00,2,     0.01,     3.19,2,     0.01,  -999.00,9,  -999.00, -999.000,9, -999.000,9, -999.000,9, -999.000,9,   -999.0,9,   -999.0,9,   -999.0,9,-999.0000,     -999,9, -999.000,9,  -999.00,9, -999.000,9, -999.000,   -999.0,9,   -999.0, -999.000,9, -999.000, -999.000,9, -999.000,   -999.0,9,   -999.0, -999.000,9, -999.000,9, -999.000,9
  49NZ20140717,   P01,   133,  1,     21, X12J21,2,20140818,2134, 46.9929,-139.0627, 4230,   1469.7,2,   2.4212,2,   2.42105,2,  34.4940,2,  34.4940,2,-999.0000,9,    19.38,2,    18.44,2,   99.973,   0.0011,2,    0.013,2,  -999.00,9,    3.288,1,    0.000,2,   162.66,2,     0.18,    44.68,2,     0.06,     0.00,2,     0.01,     3.16,2,     0.01,  -999.00,9,  -999.00, -999.000,9, -999.000,9, -999.000,9, -999.000,9,   -999.0,9,   -999.0,9,   -999.0,9,-999.0000,     -999,9, -999.000,9,  -999.00,9, -999.000,9, -999.000,   -999.0,9,   -999.0, -999.000,9, -999.000, -999.000,9, -999.000,   -999.0,9,   -999.0, -999.000,9, -999.000,9, -999.000,9
  49NZ20140717,   P01,   133,  1,     20, X12J20,2,20140818,2134, 46.9929,-139.0627, 4230,   1672.3,2,   2.2322,2,   2.23226,2,  34.5368,2,  34.5369,2,-999.0000,9,    32.56,2,    32.12,2,   99.949,   0.0020,2,    0.011,2,  -999.00,9,    3.228,1,    0.000,2,   167.50,2,     0.18,    43.78,2,     0.06,     0.00,2,     0.01,     3.10,2,     0.01,  -999.00,9,  -999.00, -999.000,9, -999.000,9, -999.000,9, -999.000,9,   -999.0,9,   -999.0,9,   -999.0,9,-999.0000,     -999,9, -999.000,9,  -999.00,9, -999.000,9, -999.000,   -999.0,9,   -999.0, -999.000,9, -999.000, -999.000,9, -999.000,   -999.0,9,   -999.0, -999.000,9, -999.000,9, -999.000,9
  49NZ20140717,   P01,   133,  1,     19, X12J19,2,20140818,2134, 46.9929,-139.0627, 4230,   1869.7,2,   2.0447,2,   2.04472,2,  34.5731,2,  34.5730,2,-999.0000,9,    47.34,2,    47.18,2,   99.949,   0.0020,2,    0.010,2,  -999.00,9,    3.192,1,    0.000,2,   172.05,2,     0.18,    42.92,2,     0.05,     0.00,2,     0.01,     3.03,2,     0.01,  -999.00,9,  -999.00, -999.000,9, -999.000,9, -999.000,9, -999.000,9,   -999.0,9,   -999.0,9,   -999.0,9,-999.0000,     -999,9, -999.000,9,  -999.00,9, -999.000,9, -999.000,   -999.0,9,   -999.0, -999.000,9, -999.000, -999.000,9, -999.000,   -999.0,9,   -999.0, -999.000,9, -999.000,9, -999.000,9
  49NZ20140717,   P01,   133,  1,     18, X12J18,2,20140818,2134, 46.9929,-139.0627, 4230,   2069.7,2,   1.9205,2,   1.92045,2,  34.5951,2,  34.5951,2,-999.0000,9,    58.12,2,    57.91,2,   99.982,   0.0007,2,    0.009,2,  -999.00,9,    3.160,1,    0.000,2,   174.16,2,     0.18,    42.32,2,     0.05,     0.00,2,     0.01,     2.98,2,     0.01,  -999.00,9,  -999.00, -999.000,9, -999.000,9, -999.000,9, -999.000,9,   -999.0,9,   -999.0,9,   -999.0,9,-999.0000,     -999,9, -999.000,9,  -999.00,9, -999.000,9, -999.000,   -999.0,9,   -999.0, -999.000,9, -999.000, -999.000,9, -999.000,   -999.0,9,   -999.0, -999.000,9, -999.000,9, -999.000,9
  49NZ20140717,   P01,   133,  1,     17, X12J17,2,20140818,2134, 46.9929,-139.0627, 4230,   2270.1,2,   1.8404,2,   1.84020,2,  34.6134,2,  34.6135,2,-999.0000,9,    68.80,2,    68.94,2,  100.014,  -0.0006,2,    0.008,2,  -999.00,9,    3.047,1,    0.000,2,   174.89,2,     0.18,    41.47,2,     0.05,     0.00,2,     0.01,     2.92,2,     0.01,  -999.00,9,  -999.00, -999.000,9, -999.000,9, -999.000,9, -999.000,9,   -999.0,9,   -999.0,9,   -999.0,9,-999.0000,     -999,9, -999.000,9,  -999.00,9, -999.000,9, -999.000,   -999.0,9,   -999.0, -999.000,9, -999.000, -999.000,9, -999.000,   -999.0,9,   -999.0, -999.000,9, -999.000,9, -999.000,9
  49NZ20140717,   P01,   133,  1,     16, X12J16,2,20140818,2134, 46.9929,-139.0627, 4230,   2470.7,2,   1.7577,2,   1.75759,2,  34.6275,2,  34.6273,2,-999.0000,9,    79.22,2,    79.28,2,  100.003,  -0.0001,2,    0.007,2,  -999.00,9,    2.993,1,    0.000,2,   175.22,2,     0.18,    40.89,2,     0.05,     0.00,2,     0.01,     2.88,2,     0.01,  -999.00,9,  -999.00, -999.000,9, -999.000,9, -999.000,9, -999.000,9,   -999.0,9,   -999.0,9,   -999.0,9,-999.0000,     -999,9, -999.000,9,  -999.00,9, -999.000,9, -999.000,   -999.0,9,   -999.0, -999.000,9, -999.000, -999.000,9, -999.000,   -999.0,9,   -999.0, -999.000,9, -999.000,9, -999.000,9
  49NZ20140717,   P01,   133,  1,     15, X12J15,2,20140818,2134, 46.9929,-139.0627, 4230,   2670.1,2,   1.6767,2,   1.67665,2,  34.6389,2,  34.6388,2,-999.0000,9,    90.10,2,    90.13,2,   99.999,   0.0000,2,    0.007,2,  -999.00,9,    2.907,1,    0.000,2,   174.27,2,     0.18,    40.27,2,     0.05,     0.00,2,     0.01,     2.82,2,     0.01,  -999.00,9,  -999.00, -999.000,9, -999.000,9, -999.000,9, -999.000,9,   -999.0,9,   -999.0,9,   -999.0,9,-999.0000,     -999,9, -999.000,9,  -999.00,9, -999.000,9, -999.000,   -999.0,9,   -999.0, -999.000,9, -999.000, -999.000,9, -999.000,   -999.0,9,   -999.0, -999.000,9, -999.000,9, -999.000,9
  49NZ20140717,   P01,   133,  1,     14, X12J14,2,20140818,2134, 46.9929,-139.0627, 4230,   2870.3,2,   1.6142,2,   1.61411,2,  34.6482,2,  34.6480,2,-999.0000,9,   100.36,2,   100.35,2,   99.999,   0.0000,2,    0.006,2,  -999.00,9,    2.829,1,    0.000,2,   172.93,2,     0.18,    39.61,2,     0.05,     0.00,2,     0.01,     2.77,2,     0.01,  -999.00,9,  -999.00, -999.000,9, -999.000,9, -999.000,9, -999.000,9,   -999.0,9,   -999.0,9,   -999.0,9,-999.0000,     -999,9, -999.000,9,  -999.00,9, -999.000,9, -999.000,   -999.0,9,   -999.0, -999.000,9, -999.000, -999.000,9, -999.000,   -999.0,9,   -999.0, -999.000,9, -999.000,9, -999.000,9
  49NZ20140717,   P01,   133,  1,     13, X12113,2,20140818,2134, 46.9929,-139.0627, 4230,   3080.8,2,   1.5656,2,   1.56546,2,  34.6571,2,  34.6573,2,-999.0000,9,   110.56,2,   110.60,2,   99.977,   0.0009,2,    0.006,2,  -999.00,9,    2.775,1,    0.000,2,   171.85,2,     0.18,    38.90,2,     0.05,     0.00,2,     0.01,     2.72,2,     0.01,  -999.00,9,  -999.00, -999.000,9, -999.000,9, -999.000,9, -999.000,9,   -999.0,9,   -999.0,9,   -999.0,9,-999.0000,     -999,9, -999.000,9,  -999.00,9, -999.000,9, -999.000,   -999.0,9,   -999.0, -999.000,9, -999.000, -999.000,9, -999.000,   -999.0,9,   -999.0, -999.000,9, -999.000,9, -999.000,9
  49NZ20140717,   P01,   133,  1,     12, X12J12,2,20140818,2134, 46.9929,-139.0627, 4230,   3330.6,2,   1.5340,2,   1.53399,2,  34.6648,2,  34.6648,2,-999.0000,9,   119.30,2,   119.41,2,   99.975,   0.0010,2,    0.005,2,  -999.00,9,    2.782,1,    0.000,2,   171.13,2,     0.18,    38.30,2,     0.05,     0.00,2,     0.01,     2.68,2,     0.01,  -999.00,9,  -999.00, -999.000,9, -999.000,9, -999.000,9, -999.000,9,   -999.0,9,   -999.0,9,   -999.0,9,-999.0000,     -999,9, -999.000,9,  -999.00,9, -999.000,9, -999.000,   -999.0,9,   -999.0, -999.000,9, -999.000, -999.000,9, -999.000,   -999.0,9,   -999.0, -999.000,9, -999.000,9, -999.000,9
  49NZ20140717,   P01,   133,  1,     11, X12J11,2,20140818,2134, 46.9929,-139.0627, 4230,   3580.3,2,   1.5116,2,   1.51154,2,  34.6717,2,  34.6717,2,-999.0000,9,   126.77,2,   126.89,2,   99.977,   0.0009,2,    0.004,2,  -999.00,9,    2.682,1,    0.000,2,   171.21,2,     0.18,    37.88,2,     0.05,     0.00,2,     0.01,     2.64,2,     0.01,  -999.00,9,  -999.00, -999.000,9, -999.000,9, -999.000,9, -999.000,9,   -999.0,9,   -999.0,9,   -999.0,9,-999.0000,     -999,9, -999.000,9,  -999.00,9, -999.000,9, -999.000,   -999.0,9,   -999.0, -999.000,9, -999.000, -999.000,9, -999.000,   -999.0,9,   -999.0, -999.000,9, -999.000,9, -999.000,9
  49NZ20140717,   P01,   133,  1,     10, X12J10,2,20140818,2134, 46.9929,-139.0627, 4230,   3829.6,2,   1.5106,2,   1.51048,2,  34.6758,2,  34.6757,2,-999.0000,9,   130.93,2,   131.18,2,   99.973,   0.0011,2,    0.004,2,  -999.00,9,    2.690,1,    0.000,2,   172.05,2,     0.18,    37.59,2,     0.05,     0.00,2,     0.01,     2.62,2,     0.01,  -999.00,9,  -999.00, -999.000,9, -999.000,9, -999.000,9, -999.000,9,   -999.0,9,   -999.0,9,   -999.0,9,-999.0000,     -999,9, -999.000,9,  -999.00,9, -999.000,9, -999.000,   -999.0,9,   -999.0, -999.000,9, -999.000, -999.000,9, -999.000,   -999.0,9,   -999.0, -999.000,9, -999.000,9, -999.000,9