BOTTLE,20230904JAMSTECRIGC
EXPOCODE,SECT,STNNBR,CASTNO,SAMPNO,BTLNBR,BTLNBR_FLAG_W,DATE,TIME,LATITUDE,LONGITUDE,DEPTH,CTDPRS,CTDPRS_FLAG_W,CTDTMP,CTDTMP_FLAG_W,SBE35,SBE35_FLAG_W,CTDSAL,CTDSAL_FLAG_W,SALNTY,SALNTY_FLAG_W,DNSSAL,DNSSAL_FLAG_W,CTDOXY,CTDOXY_FLAG_W,OXYGEN,OXYGEN_FLAG_W,XMISS,XMISSCP,XMISS_FLAG_W,FLUOR,FLUOR_FLAG_W,CHLORA,CHLORA_FLAG_W,CDOM,CDOM_FLAG_W,PAR,PAR_FLAG_W,SILCAT,SILCAT_FLAG_W,SILUNC,NITRAT,NITRAT_FLAG_W,NRAUNC,NITRIT,NITRIT_FLAG_W,NRIUNC,PHSPHT,PHSPHT_FLAG_W,PHPUNC,AMMONIA,AMMONIA_FLAG_W,NH4UNC,CFC-11,CFC-11_FLAG_W,CFC-12,CFC-12_FLAG_W,CFC113,CFC113_FLAG_W,SF6,SF6_FLAG_W,TCARBN,TCARBN_FLAG_W,ALKALI,ALKALI_FLAG_W,ALKALI_POT,ALKALI_POT_FLAG_W,PH_TOT,PH_TMP,PH_TOT_FLAG_W,CALCIUM,CALCIUM_FLAG_W,DOC,DOC_FLAG_W,DELC13,DELC13_FLAG_W,C13ERR,DELC14,DELC14_FLAG_W,C14ERR,CS-134,CS-134_FLAG_W,CS134ER,CS-137,CS-137_FLAG_W,CS137ER,I-129,I-129_FLAG_W,I-129ER,CDOM-325,CDOM-325_FLAG_W,CDOM-370,CDOM-370_FLAG_W,CDOM-443,CDOM-443_FLAG_W
,,,,,,,,UTC,DEG,DEG,METERS,DBAR,,ITS-90,,ITS-90,,PSS-78,,PSS-78,,G/KG,,UMOL/KG,,UMOL/KG,,%TRANS,/METER,,MG/CUM,,MG/CUM,,MG/CUM,,UE/SQM/S,,UMOL/KG,,UMOL/KG,UMOL/KG,,UMOL/KG,UMOL/KG,,UMOL/KG,UMOL/KG,,UMOL/KG,UMOL/KG,,UMOL/KG,PMOL/KG,,PMOL/KG,,PMOL/KG,,FMOL/KG,,UMOL/KG,,UMOL/KG,,UMOL/KG,,,DEG C,,MMOL/KG,,UMOL/KG,,/MILLE,,/MILLE,/MILLE,,/MILLE,MBQ/KG,,MBQ/KG,MBQ/KG,,MBQ/KG,,,,/METER,,/METER,,/METER,
  49NZ20140717,   P01,    82,  1,      0,   -999,9,20140731,1332, 46.9870, 168.9953, 5200,   -999.0,9,-999.0000,9,-999.00000,9,-999.0000,9,  32.8122,2,-999.0000,9,  -999.00,9,  -999.00,9, -999.000,-999.0000,9, -999.000,9,  -999.00,9, -999.000,9, -999.000,9,    25.75,2,     0.09,    10.85,2,     0.02,     0.12,2,     0.01,     1.17,2,     0.01,  -999.00,9,  -999.00, -999.000,9, -999.000,9, -999.000,9, -999.000,9,   -999.0,9,   -999.0,9,   -999.0,9,-999.0000,     -999,9, -999.000,9,  -999.00,9, -999.000,9, -999.000,   -999.0,9,   -999.0, -999.000,9, -999.000, -999.000,9, -999.000,   -999.0,9,   -999.0, -999.000,9, -999.000,9, -999.000,9
  49NZ20140717,   P01,    82,  1,     36, X12J36,2,20140731,1332, 46.9870, 168.9953, 5200,     10.5,2,  12.2973,2,  12.29895,2,  32.8097,2,  32.8139,2,-999.0000,9,   275.25,2,   281.76,2,   95.268,   0.1939,2,    0.468,2,  -999.00,9,    0.028,1,    0.208,2,    25.65,2,     0.09,    11.11,2,     0.02,     0.12,2,     0.01,     1.19,2,     0.01,  -999.00,9,  -999.00, -999.000,9, -999.000,9, -999.000,9, -999.000,9,   -999.0,9,   -999.0,9,   -999.0,9,-999.0000,     -999,9, -999.000,9,  -999.00,9, -999.000,9, -999.000,   -999.0,9,   -999.0, -999.000,9, -999.000, -999.000,9, -999.000,   -999.0,9,   -999.0, -999.000,9, -999.000,9, -999.000,9
  49NZ20140717,   P01,    82,  1,     35, X12J35,2,20140731,1332, 46.9870, 168.9953, 5200,     51.7,2,   3.3541,2,   3.37444,2,  32.9277,2,  32.9345,2,-999.0000,9,   324.79,2,   324.48,2,   97.910,   0.0845,2,    0.365,2,  -999.00,9,    0.812,1,    0.000,2,    30.32,2,     0.09,    19.44,2,     0.03,     0.50,2,     0.01,     1.68,2,     0.01,  -999.00,9,  -999.00, -999.000,9, -999.000,9, -999.000,9, -999.000,9,   -999.0,9,   -999.0,9,   -999.0,9,-999.0000,     -999,9, -999.000,9,  -999.00,9, -999.000,9, -999.000,   -999.0,9,   -999.0, -999.000,9, -999.000, -999.000,9, -999.000,   -999.0,9,   -999.0, -999.000,9, -999.000,9, -999.000,9
  49NZ20140717,   P01,    82,  1,     34, X12J34,2,20140731,1332, 46.9870, 168.9953, 5200,    100.5,2,   1.1427,2,   1.13849,2,  32.9667,2,  32.9706,2,-999.0000,9,   325.33,2,   326.39,2,   99.494,   0.0203,2,    0.055,2,  -999.00,9,    1.190,1,    0.000,2,    38.86,2,     0.10,    24.36,2,     0.04,     0.02,2,     0.01,     1.94,2,     0.01,  -999.00,9,  -999.00, -999.000,9, -999.000,9, -999.000,9, -999.000,9,   -999.0,9,   -999.0,9,   -999.0,9,-999.0000,     -999,9, -999.000,9,  -999.00,9, -999.000,9, -999.000,   -999.0,9,   -999.0, -999.000,9, -999.000, -999.000,9, -999.000,   -999.0,9,   -999.0, -999.000,9, -999.000,9, -999.000,9
  49NZ20140717,   P01,    82,  1,     33, X12J33,2,20140731,1332, 46.9870, 168.9953, 5200,    150.0,2,   3.1469,2,   3.14639,2,  33.6237,2,  33.6230,2,-999.0000,9,   113.53,2,   115.03,2,   99.570,   0.0172,2,    0.020,2,  -999.00,9,    2.384,1,    0.000,2,    79.21,2,     0.12,    39.43,2,     0.05,     0.02,2,     0.01,     2.84,2,     0.01,  -999.00,9,  -999.00, -999.000,9, -999.000,9, -999.000,9, -999.000,9,   -999.0,9,   -999.0,9,   -999.0,9,-999.0000,     -999,9, -999.000,9,  -999.00,9, -999.000,9, -999.000,   -999.0,9,   -999.0, -999.000,9, -999.000, -999.000,9, -999.000,   -999.0,9,   -999.0, -999.000,9, -999.000,9, -999.000,9
  49NZ20140717,   P01,    82,  1,     32, X12J32,2,20140731,1332, 46.9870, 168.9953, 5200,    199.1,2,   3.5187,2,   3.51853,2,  33.8230,2,  33.8239,2,-999.0000,9,    48.58,2,    48.87,2,   99.695,   0.0122,2,    0.015,2,  -999.00,9,    2.778,1,    0.000,2,    93.38,2,     0.13,    43.80,2,     0.06,     0.02,2,     0.01,     3.10,2,     0.01,  -999.00,9,  -999.00, -999.000,9, -999.000,9, -999.000,9, -999.000,9,   -999.0,9,   -999.0,9,   -999.0,9,-999.0000,     -999,9, -999.000,9,  -999.00,9, -999.000,9, -999.000,   -999.0,9,   -999.0, -999.000,9, -999.000, -999.000,9, -999.000,   -999.0,9,   -999.0, -999.000,9, -999.000,9, -999.000,9
  49NZ20140717,   P01,    82,  1,     31, X12J31,2,20140731,1332, 46.9870, 168.9953, 5200,   5079.9,2,   1.5346,2,   1.53457,2,  34.6882,2,  34.6884,2,-999.0000,9,   155.60,2,   156.02,2,   99.953,   0.0019,2,    0.000,2,  -999.00,9,    0.640,4,    0.000,2,  -999.00,9,  -999.00,  -999.00,9,  -999.00,  -999.00,9,  -999.00,  -999.00,9,  -999.00,  -999.00,9,  -999.00, -999.000,9, -999.000,9, -999.000,9, -999.000,9,   -999.0,9,   -999.0,9,   -999.0,9,-999.0000,     -999,9, -999.000,9,  -999.00,9, -999.000,9, -999.000,   -999.0,9,   -999.0, -999.000,9, -999.000, -999.000,9, -999.000,   -999.0,9,   -999.0, -999.000,9, -999.000,9, -999.000,9
  49NZ20140717,   P01,    82,  1,     30, X12J30,2,20140731,1332, 46.9870, 168.9953, 5200,    330.1,2,   3.6631,2,   3.66323,2,  34.0296,2,  34.0281,2,-999.0000,9,    18.02,2,    18.17,2,   99.832,   0.0067,2,    0.015,2,  -999.00,9,    2.955,1,    0.000,2,   108.47,2,     0.14,    44.99,2,     0.06,     0.02,2,     0.01,     3.19,2,     0.01,  -999.00,9,  -999.00, -999.000,9, -999.000,9, -999.000,9, -999.000,9,   -999.0,9,   -999.0,9,   -999.0,9,-999.0000,     -999,9, -999.000,9,  -999.00,9, -999.000,9, -999.000,   -999.0,9,   -999.0, -999.000,9, -999.000, -999.000,9, -999.000,   -999.0,9,   -999.0, -999.000,9, -999.000,9, -999.000,9
  49NZ20140717,   P01,    82,  1,     29, X12J29,2,20140731,1332, 46.9870, 168.9953, 5200,    430.6,2,   3.5274,2,   3.52724,2,  34.1164,2,  34.1150,2,-999.0000,9,    18.53,2,    18.44,2,   99.888,   0.0045,2,    0.015,2,  -999.00,9,    2.959,1,    0.000,2,   117.52,2,     0.15,    44.44,2,     0.06,     0.01,2,     0.01,     3.15,2,     0.01,  -999.00,9,  -999.00, -999.000,9, -999.000,9, -999.000,9, -999.000,9,   -999.0,9,   -999.0,9,   -999.0,9,-999.0000,     -999,9, -999.000,9,  -999.00,9, -999.000,9, -999.000,   -999.0,9,   -999.0, -999.000,9, -999.000, -999.000,9, -999.000,   -999.0,9,   -999.0, -999.000,9, -999.000,9, -999.000,9
  49NZ20140717,   P01,    82,  1,     28, X12J28,2,20140731,1332, 46.9870, 168.9953, 5200,    529.7,2,   3.3729,2,   3.37272,2,  34.2024,2,  34.2016,2,-999.0000,9,    15.42,2,    14.99,2,   99.866,   0.0054,2,    0.015,2,  -999.00,9,    2.993,1,    0.000,2,   126.79,2,     0.15,    44.40,2,     0.06,     0.01,2,     0.01,     3.15,2,     0.01,  -999.00,9,  -999.00, -999.000,9, -999.000,9, -999.000,9, -999.000,9,   -999.0,9,   -999.0,9,   -999.0,9,-999.0000,     -999,9, -999.000,9,  -999.00,9, -999.000,9, -999.000,   -999.0,9,   -999.0, -999.000,9, -999.000, -999.000,9, -999.000,   -999.0,9,   -999.0, -999.000,9, -999.000,9, -999.000,9
  49NZ20140717,   P01,    82,  1,     27, X12J27,2,20140731,1332, 46.9870, 168.9953, 5200,    629.8,2,   3.2063,2,   3.20648,2,  34.2659,2,  34.2652,2,-999.0000,9,    15.34,2,    14.79,2,   99.909,   0.0036,2,    0.013,2,  -999.00,9,    3.136,1,    0.000,2,   134.63,2,     0.16,    44.43,2,     0.06,     0.01,2,     0.01,     3.16,2,     0.01,  -999.00,9,  -999.00, -999.000,9, -999.000,9, -999.000,9, -999.000,9,   -999.0,9,   -999.0,9,   -999.0,9,-999.0000,     -999,9, -999.000,9,  -999.00,9, -999.000,9, -999.000,   -999.0,9,   -999.0, -999.000,9, -999.000, -999.000,9, -999.000,   -999.0,9,   -999.0, -999.000,9, -999.000,9, -999.000,9
  49NZ20140717,   P01,    82,  1,     26, X12J26,2,20140731,1332, 46.9870, 168.9953, 5200,    730.2,2,   3.0307,2,   3.03105,2,  34.3169,2,  34.3160,2,-999.0000,9,    16.71,2,    16.14,2,   99.909,   0.0036,2,    0.013,2,  -999.00,9,    3.176,1,    0.000,2,   140.92,2,     0.16,    44.33,2,     0.06,     0.01,2,     0.01,     3.16,2,     0.01,  -999.00,9,  -999.00, -999.000,9, -999.000,9, -999.000,9, -999.000,9,   -999.0,9,   -999.0,9,   -999.0,9,-999.0000,     -999,9, -999.000,9,  -999.00,9, -999.000,9, -999.000,   -999.0,9,   -999.0, -999.000,9, -999.000, -999.000,9, -999.000,   -999.0,9,   -999.0, -999.000,9, -999.000,9, -999.000,9
  49NZ20140717,   P01,    82,  1,     25, X12J25,2,20140731,1332, 46.9870, 168.9953, 5200,    830.1,2,   2.8978,2,   2.89794,2,  34.3539,2,  34.3537,2,-999.0000,9,    17.44,2,    16.84,2,   99.866,   0.0054,2,    0.012,2,  -999.00,9,    3.152,1,    0.000,2,   145.56,2,     0.16,    44.21,2,     0.06,     0.01,2,     0.01,     3.15,2,     0.01,  -999.00,9,  -999.00, -999.000,9, -999.000,9, -999.000,9, -999.000,9,   -999.0,9,   -999.0,9,   -999.0,9,-999.0000,     -999,9, -999.000,9,  -999.00,9, -999.000,9, -999.000,   -999.0,9,   -999.0, -999.000,9, -999.000, -999.000,9, -999.000,   -999.0,9,   -999.0, -999.000,9, -999.000,9, -999.000,9
  49NZ20140717,   P01,    82,  1,     24, X12J24,2,20140731,1332, 46.9870, 168.9953, 5200,    930.2,2,   2.7359,2,   2.73615,2,  34.3937,2,  34.3929,2,-999.0000,9,    19.30,2,    18.86,2,   99.890,   0.0044,2,    0.012,2,  -999.00,9,    3.157,1,    0.000,2,   151.04,2,     0.17,    44.15,2,     0.06,     0.01,2,     0.01,     3.14,2,     0.01,  -999.00,9,  -999.00, -999.000,9, -999.000,9, -999.000,9, -999.000,9,   -999.0,9,   -999.0,9,   -999.0,9,-999.0000,     -999,9, -999.000,9,  -999.00,9, -999.000,9, -999.000,   -999.0,9,   -999.0, -999.000,9, -999.000, -999.000,9, -999.000,   -999.0,9,   -999.0, -999.000,9, -999.000,9, -999.000,9
  49NZ20140717,   P01,    82,  1,     23, X12J23,2,20140731,1332, 46.9870, 168.9953, 5200,   1070.5,2,   2.5489,2,   2.54878,2,  34.4375,2,  34.4374,2,-999.0000,9,    24.24,2,    23.76,2,   99.918,   0.0033,2,    0.011,2,  -999.00,9,    3.185,1,    0.000,2,   156.53,2,     0.17,    43.87,2,     0.06,     0.01,2,     0.01,     3.12,2,     0.01,  -999.00,9,  -999.00, -999.000,9, -999.000,9, -999.000,9, -999.000,9,   -999.0,9,   -999.0,9,   -999.0,9,-999.0000,     -999,9, -999.000,9,  -999.00,9, -999.000,9, -999.000,   -999.0,9,   -999.0, -999.000,9, -999.000, -999.000,9, -999.000,   -999.0,9,   -999.0, -999.000,9, -999.000,9, -999.000,9
  49NZ20140717,   P01,    82,  1,     22, X12J22,2,20140731,1332, 46.9870, 168.9953, 5200,   1270.5,2,   2.3189,2,   2.31878,2,  34.4896,2,  34.4897,2,-999.0000,9,    33.08,2,    33.04,2,   99.914,   0.0035,2,    0.010,2,  -999.00,9,    3.120,1,    0.000,2,   163.09,2,     0.18,    43.46,2,     0.05,     0.01,2,     0.01,     3.09,2,     0.01,  -999.00,9,  -999.00, -999.000,9, -999.000,9, -999.000,9, -999.000,9,   -999.0,9,   -999.0,9,   -999.0,9,-999.0000,     -999,9, -999.000,9,  -999.00,9, -999.000,9, -999.000,   -999.0,9,   -999.0, -999.000,9, -999.000, -999.000,9, -999.000,   -999.0,9,   -999.0, -999.000,9, -999.000,9, -999.000,9
  49NZ20140717,   P01,    82,  1,     21, X12J21,2,20140731,1332, 46.9870, 168.9953, 5200,   1470.3,2,   2.1616,2,   2.16156,2,  34.5287,2,  34.5290,2,-999.0000,9,    43.15,2,    43.34,2,   99.920,   0.0032,2,    0.008,2,  -999.00,9,    3.027,1,    0.000,2,   166.13,2,     0.18,    42.82,2,     0.05,     0.01,2,     0.01,     3.04,2,     0.01,  -999.00,9,  -999.00, -999.000,9, -999.000,9, -999.000,9, -999.000,9,   -999.0,9,   -999.0,9,   -999.0,9,-999.0000,     -999,9, -999.000,9,  -999.00,9, -999.000,9, -999.000,   -999.0,9,   -999.0, -999.000,9, -999.000, -999.000,9, -999.000,   -999.0,9,   -999.0, -999.000,9, -999.000,9, -999.000,9
  49NZ20140717,   P01,    82,  1,     20, X12J20,2,20140731,1332, 46.9870, 168.9953, 5200,   1670.1,2,   2.0427,2,   2.04276,2,  34.5593,2,  34.5592,2,-999.0000,9,    53.96,2,    54.09,2,   99.903,   0.0039,2,    0.007,2,  -999.00,9,    2.912,1,    0.000,2,   167.60,2,     0.18,    42.21,2,     0.05,     0.01,2,     0.01,     3.00,2,     0.01,  -999.00,9,  -999.00, -999.000,9, -999.000,9, -999.000,9, -999.000,9,   -999.0,9,   -999.0,9,   -999.0,9,-999.0000,     -999,9, -999.000,9,  -999.00,9, -999.000,9, -999.000,   -999.0,9,   -999.0, -999.000,9, -999.000, -999.000,9, -999.000,   -999.0,9,   -999.0, -999.000,9, -999.000,9, -999.000,9
  49NZ20140717,   P01,    82,  1,     19, X12J19,2,20140731,1332, 46.9870, 168.9953, 5200,   1870.4,2,   1.9052,2,   1.90508,2,  34.5904,2,  34.5904,2,-999.0000,9,    68.46,2,    68.69,2,   99.922,   0.0031,2,    0.006,2,  -999.00,9,    2.909,1,    0.000,2,   167.14,2,     0.18,    41.27,2,     0.05,     0.01,2,     0.01,     2.92,2,     0.01,  -999.00,9,  -999.00, -999.000,9, -999.000,9, -999.000,9, -999.000,9,   -999.0,9,   -999.0,9,   -999.0,9,-999.0000,     -999,9, -999.000,9,  -999.00,9, -999.000,9, -999.000,   -999.0,9,   -999.0, -999.000,9, -999.000, -999.000,9, -999.000,   -999.0,9,   -999.0, -999.000,9, -999.000,9, -999.000,9
  49NZ20140717,   P01,    82,  1,     18, X12J18,2,20140731,1332, 46.9870, 168.9953, 5200,   2070.6,2,   1.8093,2,   1.80927,2,  34.6110,2,  34.6114,2,-999.0000,9,    81.23,2,    81.72,2,   99.968,   0.0013,2,    0.005,2,  -999.00,9,    2.834,1,    0.000,2,   166.06,2,     0.18,    40.61,2,     0.05,     0.01,2,     0.01,     2.87,2,     0.01,  -999.00,9,  -999.00, -999.000,9, -999.000,9, -999.000,9, -999.000,9,   -999.0,9,   -999.0,9,   -999.0,9,-999.0000,     -999,9, -999.000,9,  -999.00,9, -999.000,9, -999.000,   -999.0,9,   -999.0, -999.000,9, -999.000, -999.000,9, -999.000,   -999.0,9,   -999.0, -999.000,9, -999.000,9, -999.000,9
  49NZ20140717,   P01,    82,  1,     17, X12J17,2,20140731,1332, 46.9870, 168.9953, 5200,   2269.4,2,   1.7125,2,   1.71249,2,  34.6287,2,  34.6285,2,-999.0000,9,    93.73,2,    93.96,2,   99.974,   0.0010,2,    0.004,2,  -999.00,9,    2.789,1,    0.000,2,   165.07,2,     0.18,    39.78,2,     0.05,     0.01,2,     0.01,     2.81,2,     0.01,  -999.00,9,  -999.00, -999.000,9, -999.000,9, -999.000,9, -999.000,9,   -999.0,9,   -999.0,9,   -999.0,9,-999.0000,     -999,9, -999.000,9,  -999.00,9, -999.000,9, -999.000,   -999.0,9,   -999.0, -999.000,9, -999.000, -999.000,9, -999.000,   -999.0,9,   -999.0, -999.000,9, -999.000,9, -999.000,9
  49NZ20140717,   P01,    82,  1,     16, X12J16,2,20140731,1332, 46.9870, 168.9953, 5200,   2470.4,2,   1.6734,2,   1.67355,2,  34.6373,2,  34.6373,2,-999.0000,9,   100.83,2,   100.94,2,   99.979,   0.0009,2,    0.003,2,  -999.00,9,    2.741,1,    0.000,2,   164.23,2,     0.18,    39.39,2,     0.05,     0.01,2,     0.01,     2.78,2,     0.01,  -999.00,9,  -999.00, -999.000,9, -999.000,9, -999.000,9, -999.000,9,   -999.0,9,   -999.0,9,   -999.0,9,-999.0000,     -999,9, -999.000,9,  -999.00,9, -999.000,9, -999.000,   -999.0,9,   -999.0, -999.000,9, -999.000, -999.000,9, -999.000,   -999.0,9,   -999.0, -999.000,9, -999.000,9, -999.000,9
  49NZ20140717,   P01,    82,  1,     15, X12J15,2,20140731,1332, 46.9870, 168.9953, 5200,   2670.7,2,   1.6025,2,   1.60272,2,  34.6498,2,  34.6497,2,-999.0000,9,   112.30,2,   112.18,2,   99.976,   0.0009,2,    0.003,2,  -999.00,9,    2.631,1,    0.000,2,   161.95,2,     0.18,    38.68,2,     0.05,     0.01,2,     0.01,     2.72,2,     0.01,  -999.00,9,  -999.00, -999.000,9, -999.000,9, -999.000,9, -999.000,9,   -999.0,9,   -999.0,9,   -999.0,9,-999.0000,     -999,9, -999.000,9,  -999.00,9, -999.000,9, -999.000,   -999.0,9,   -999.0, -999.000,9, -999.000, -999.000,9, -999.000,   -999.0,9,   -999.0, -999.000,9, -999.000,9, -999.000,9
  49NZ20140717,   P01,    82,  1,     14, X12J14,2,20140731,1332, 46.9870, 168.9953, 5200,   2870.1,2,   1.5565,2,   1.55661,2,  34.6581,2,  34.6579,2,-999.0000,9,   120.62,2,   120.79,2,   99.976,   0.0009,2,    0.002,2,  -999.00,9,    2.627,1,    0.000,2,   159.67,2,     0.17,    38.09,2,     0.05,     0.01,2,     0.01,     2.67,2,     0.01,  -999.00,9,  -999.00, -999.000,9, -999.000,9, -999.000,9, -999.000,9,   -999.0,9,   -999.0,9,   -999.0,9,-999.0000,     -999,9, -999.000,9,  -999.00,9, -999.000,9, -999.000,   -999.0,9,   -999.0, -999.000,9, -999.000, -999.000,9, -999.000,   -999.0,9,   -999.0, -999.000,9, -999.000,9, -999.000,9
  49NZ20140717,   P01,    82,  1,     13, X12113,2,20140731,1332, 46.9870, 168.9953, 5200,   3079.4,2,   1.5238,2,   1.52386,2,  34.6645,2,  34.6645,2,-999.0000,9,   127.60,2,   127.55,2,   99.976,   0.0009,2,    0.002,2,  -999.00,9,    2.543,1,    0.000,2,   158.23,2,     0.17,    37.65,2,     0.05,     0.01,2,     0.01,     2.64,2,     0.01,  -999.00,9,  -999.00, -999.000,9, -999.000,9, -999.000,9, -999.000,9,   -999.0,9,   -999.0,9,   -999.0,9,-999.0000,     -999,9, -999.000,9,  -999.00,9, -999.000,9, -999.000,   -999.0,9,   -999.0, -999.000,9, -999.000, -999.000,9, -999.000,   -999.0,9,   -999.0, -999.000,9, -999.000,9, -999.000,9
  49NZ20140717,   P01,    82,  1,     12, X12J12,2,20140731,1332, 46.9870, 168.9953, 5200,   3330.4,2,   1.4929,2,   1.49273,2,  34.6709,2,  34.6712,2,-999.0000,9,   134.92,2,   135.73,2,   99.972,   0.0011,2,    0.002,2,  -999.00,9,    2.462,1,    0.000,2,   156.06,2,     0.17,    37.12,2,     0.05,     0.01,2,     0.01,     2.60,2,     0.01,  -999.00,9,  -999.00, -999.000,9, -999.000,9, -999.000,9, -999.000,9,   -999.0,9,   -999.0,9,   -999.0,9,-999.0000,     -999,9, -999.000,9,  -999.00,9, -999.000,9, -999.000,   -999.0,9,   -999.0, -999.000,9, -999.000, -999.000,9, -999.000,   -999.0,9,   -999.0, -999.000,9, -999.000,9, -999.000,9
  49NZ20140717,   P01,    82,  1,     11, X12J11,2,20140731,1332, 46.9870, 168.9953, 5200,   3579.4,2,   1.4737,2,   1.47381,2,  34.6761,2,  34.6757,2,-999.0000,9,   140.95,2,   141.04,2,   99.966,   0.0014,2,    0.001,2,  -999.00,9,    2.466,1,    0.000,2,   154.71,2,     0.17,    36.76,2,     0.05,     0.01,2,     0.01,     2.57,2,     0.01,  -999.00,9,  -999.00, -999.000,9, -999.000,9, -999.000,9, -999.000,9,   -999.0,9,   -999.0,9,   -999.0,9,-999.0000,     -999,9, -999.000,9,  -999.00,9, -999.000,9, -999.000,   -999.0,9,   -999.0, -999.000,9, -999.000, -999.000,9, -999.000,   -999.0,9,   -999.0, -999.000,9, -999.000,9, -999.000,9
  49NZ20140717,   P01,    82,  1,     10, X12J10,2,20140731,1332, 46.9870, 168.9953, 5200,   3829.6,2,   1.4759,2,   1.47601,2,  34.6789,2,  34.6785,2,-999.0000,9,   144.26,2,   144.31,2,   99.963,   0.0015,2,    0.000,2,  -999.00,9,    2.448,1,    0.000,2,   153.93,2,     0.17,    36.58,2,     0.05,     0.01,2,     0.01,     2.55,2,     0.01,  -999.00,9,  -999.00, -999.000,9, -999.000,9, -999.000,9, -999.000,9,   -999.0,9,   -999.0,9,   -999.0,9,-999.0000,     -999,9, -999.000,9,  -999.00,9, -999.000,9, -999.000,   -999.0,9,   -999.0, -999.000,9, -999.000, -999.000,9, -999.000,   -999.0,9,   -999.0, -999.000,9, -999.000,9, -999.000,9