BOTTLE,20230904JAMSTECRIGC
EXPOCODE,SECT,STNNBR,CASTNO,SAMPNO,BTLNBR,BTLNBR_FLAG_W,DATE,TIME,LATITUDE,LONGITUDE,DEPTH,CTDPRS,CTDPRS_FLAG_W,CTDTMP,CTDTMP_FLAG_W,SBE35,SBE35_FLAG_W,CTDSAL,CTDSAL_FLAG_W,SALNTY,SALNTY_FLAG_W,DNSSAL,DNSSAL_FLAG_W,CTDOXY,CTDOXY_FLAG_W,OXYGEN,OXYGEN_FLAG_W,XMISS,XMISSCP,XMISS_FLAG_W,FLUOR,FLUOR_FLAG_W,CHLORA,CHLORA_FLAG_W,CDOM,CDOM_FLAG_W,PAR,PAR_FLAG_W,SILCAT,SILCAT_FLAG_W,SILUNC,NITRAT,NITRAT_FLAG_W,NRAUNC,NITRIT,NITRIT_FLAG_W,NRIUNC,PHSPHT,PHSPHT_FLAG_W,PHPUNC,AMMONIA,AMMONIA_FLAG_W,NH4UNC,CFC-11,CFC-11_FLAG_W,CFC-12,CFC-12_FLAG_W,CFC113,CFC113_FLAG_W,SF6,SF6_FLAG_W,TCARBN,TCARBN_FLAG_W,ALKALI,ALKALI_FLAG_W,ALKALI_POT,ALKALI_POT_FLAG_W,PH_TOT,PH_TMP,PH_TOT_FLAG_W,CALCIUM,CALCIUM_FLAG_W,DOC,DOC_FLAG_W,DELC13,DELC13_FLAG_W,C13ERR,DELC14,DELC14_FLAG_W,C14ERR,CS-134,CS-134_FLAG_W,CS134ER,CS-137,CS-137_FLAG_W,CS137ER,I-129,I-129_FLAG_W,I-129ER,CDOM-325,CDOM-325_FLAG_W,CDOM-370,CDOM-370_FLAG_W,CDOM-443,CDOM-443_FLAG_W
,,,,,,,,UTC,DEG,DEG,METERS,DBAR,,ITS-90,,ITS-90,,PSS-78,,PSS-78,,G/KG,,UMOL/KG,,UMOL/KG,,%TRANS,/METER,,MG/CUM,,MG/CUM,,MG/CUM,,UE/SQM/S,,UMOL/KG,,UMOL/KG,UMOL/KG,,UMOL/KG,UMOL/KG,,UMOL/KG,UMOL/KG,,UMOL/KG,UMOL/KG,,UMOL/KG,PMOL/KG,,PMOL/KG,,PMOL/KG,,FMOL/KG,,UMOL/KG,,UMOL/KG,,UMOL/KG,,,DEG C,,MMOL/KG,,UMOL/KG,,/MILLE,,/MILLE,/MILLE,,/MILLE,MBQ/KG,,MBQ/KG,MBQ/KG,,MBQ/KG,,,,/METER,,/METER,,/METER,
  49NZ20140717,   P01,   106,  1,      9, X12J09,2,20140808,1701, 46.9905,-169.3443, 5617,   4080.0,2,   1.4711,2,   1.47127,2,  34.6824,2,  34.6822,2,-999.0000,9,   145.32,2,   144.97,2,   99.939,   0.0025,2,    0.004,2,  -999.00,9,    0.472,4,    0.000,2,   159.18,2,     0.17,    36.56,2,     0.05,     0.00,2,     0.01,     2.56,2,     0.01,  -999.00,9,  -999.00,    0.000,2,    0.000,2,    0.000,2, -999.000,9,   -999.0,9,   -999.0,9,   -999.0,9,-999.0000,     -999,9, -999.000,9,  -999.00,9, -999.000,9, -999.000,   -999.0,9,   -999.0, -999.000,9, -999.000, -999.000,9, -999.000,   -999.0,9,   -999.0, -999.000,9, -999.000,9, -999.000,9
  49NZ20140717,   P01,   106,  1,      8, X12J08,2,20140808,1701, 46.9905,-169.3443, 5617,   4330.6,2,   1.4823,2,   1.48243,2,  34.6846,2,  34.6845,2,-999.0000,9,   147.71,2,   147.44,2,   99.932,   0.0027,2,    0.003,2,  -999.00,9,   -0.010,4,    0.000,2,   159.67,2,     0.17,    36.42,2,     0.05,     0.00,2,     0.01,     2.55,2,     0.01,  -999.00,9,  -999.00,    0.000,2,    0.000,2,    0.000,2, -999.000,9,   -999.0,9,   -999.0,9,   -999.0,9,-999.0000,     -999,9, -999.000,9,  -999.00,9, -999.000,9, -999.000,   -999.0,9,   -999.0, -999.000,9, -999.000, -999.000,9, -999.000,   -999.0,9,   -999.0, -999.000,9, -999.000,9, -999.000,9
  49NZ20140717,   P01,   106,  1,      7, X12J07,2,20140808,1701, 46.9905,-169.3443, 5617,   4580.0,2,   1.5002,2,   1.50033,2,  34.6863,2,  34.6862,2,-999.0000,9,   149.04,2,   148.76,2,   99.936,   0.0025,2,    0.003,2,  -999.00,9,   -1.859,4,    0.000,2,   161.19,2,     0.17,    36.36,2,     0.05,     0.00,2,     0.01,     2.54,2,     0.01,  -999.00,9,  -999.00,    0.000,2,    0.000,2,    0.000,2, -999.000,9,   -999.0,9,   -999.0,9,   -999.0,9,-999.0000,     -999,9, -999.000,9,  -999.00,9, -999.000,9, -999.000,   -999.0,9,   -999.0, -999.000,9, -999.000, -999.000,9, -999.000,   -999.0,9,   -999.0, -999.000,9, -999.000,9, -999.000,9
  49NZ20140717,   P01,   106,  1,      6, X12J06,2,20140808,1701, 46.9905,-169.3443, 5617,   4832.0,2,   1.5279,2,   1.52804,2,  34.6868,2,  34.6864,2,-999.0000,9,   149.38,2,   149.10,2,   99.928,   0.0029,2,    0.003,2,  -999.00,9,  271.723,4,    0.000,2,   161.84,2,     0.17,    36.36,2,     0.05,     0.00,2,     0.01,     2.54,2,     0.01,  -999.00,9,  -999.00,    0.000,2,    0.001,2,    0.000,2, -999.000,9,   -999.0,9,   -999.0,9,   -999.0,9,-999.0000,     -999,9, -999.000,9,  -999.00,9, -999.000,9, -999.000,   -999.0,9,   -999.0, -999.000,9, -999.000, -999.000,9, -999.000,   -999.0,9,   -999.0, -999.000,9, -999.000,9, -999.000,9
  49NZ20140717,   P01,   106,  1,      5, X12J05,2,20140808,1701, 46.9905,-169.3443, 5617,   5079.5,2,   1.5544,2,   1.55442,2,  34.6871,2,  34.6872,2,-999.0000,9,   150.37,2,   150.23,2,   99.932,   0.0027,2,    0.003,2,  -999.00,9,  497.217,4,    0.000,2,   161.25,2,     0.17,    36.28,2,     0.05,     0.00,2,     0.01,     2.53,2,     0.01,  -999.00,9,  -999.00,    0.000,2,    0.001,2,    0.000,2, -999.000,9,   -999.0,9,   -999.0,9,   -999.0,9,-999.0000,     -999,9, -999.000,9,  -999.00,9, -999.000,9, -999.000,   -999.0,9,   -999.0, -999.000,9, -999.000, -999.000,9, -999.000,   -999.0,9,   -999.0, -999.000,9, -999.000,9, -999.000,9
  49NZ20140717,   P01,   106,  1,      4, X12J04,2,20140808,1701, 46.9905,-169.3443, 5617,   5330.4,2,   1.5815,2,   1.58139,2,  34.6875,2,  34.6877,2,-999.0000,9,   151.40,2,   151.33,2,   99.904,   0.0038,2,    0.004,2,  -999.00,9,  497.217,4,    0.000,2,   160.53,2,     0.17,    36.15,2,     0.05,     0.00,2,     0.01,     2.53,2,     0.01,  -999.00,9,  -999.00,    0.001,2,    0.003,2,    0.000,2, -999.000,9,   -999.0,9,   -999.0,9,   -999.0,9,-999.0000,     -999,9, -999.000,9,  -999.00,9, -999.000,9, -999.000,   -999.0,9,   -999.0, -999.000,9, -999.000, -999.000,9, -999.000,   -999.0,9,   -999.0, -999.000,9, -999.000,9, -999.000,9
  49NZ20140717,   P01,   106,  1,      3, X12J03,2,20140808,1701, 46.9905,-169.3443, 5617,   5579.3,2,   1.6092,2,   1.60914,2,  34.6879,2,  34.6883,2,-999.0000,9,   152.47,2,   152.64,2,   99.802,   0.0079,2,    0.004,2,  -999.00,9,  497.217,4,    0.000,2,   159.28,2,     0.17,    36.05,2,     0.05,     0.00,2,     0.01,     2.52,2,     0.01,  -999.00,9,  -999.00,    0.002,2,    0.002,2,    0.000,2, -999.000,9,   -999.0,9,   -999.0,9,   -999.0,9,-999.0000,     -999,9, -999.000,9,  -999.00,9, -999.000,9, -999.000,   -999.0,9,   -999.0, -999.000,9, -999.000, -999.000,9, -999.000,   -999.0,9,   -999.0, -999.000,9, -999.000,9, -999.000,9
  49NZ20140717,   P01,   106,  1,      2, X12J02,2,20140808,1701, 46.9905,-169.3443, 5617,   5578.8,2,   1.6092,2,   1.60898,2,  34.6879,2,  34.6876,2,-999.0000,9,   152.44,2,   152.84,2,   99.800,   0.0080,2,    0.004,2,  -999.00,9,  497.217,4,    0.000,2,  -999.00,9,  -999.00,  -999.00,9,  -999.00,  -999.00,9,  -999.00,  -999.00,9,  -999.00,  -999.00,9,  -999.00, -999.000,9, -999.000,9, -999.000,9, -999.000,9,   -999.0,9,   -999.0,9,   -999.0,9,-999.0000,     -999,9, -999.000,9,  -999.00,9, -999.000,9, -999.000,   -999.0,9,   -999.0, -999.000,9, -999.000, -999.000,9, -999.000,   -999.0,9,   -999.0, -999.000,9, -999.000,9, -999.000,9
  49NZ20140717,   P01,   106,  1,      1, X12J01,2,20140808,1701, 46.9905,-169.3443, 5617,   5724.3,2,   1.6276,2,   1.62750,2,  34.6880,2,  34.6883,2,-999.0000,9,   152.58,2,   153.02,2,   99.783,   0.0087,2,    0.004,2,  -999.00,9,  494.380,4,    0.000,2,   159.21,2,     0.17,    36.10,2,     0.05,     0.00,2,     0.01,     2.52,2,     0.01,  -999.00,9,  -999.00,    0.000,2,    0.002,2,    0.000,2, -999.000,9,   -999.0,9,   -999.0,9,   -999.0,9,-999.0000,     -999,9, -999.000,9,  -999.00,9, -999.000,9, -999.000,   -999.0,9,   -999.0, -999.000,9, -999.000, -999.000,9, -999.000,   -999.0,9,   -999.0, -999.000,9, -999.000,9, -999.000,9