BOTTLE,20230904JAMSTECRIGC
EXPOCODE,SECT,STNNBR,CASTNO,SAMPNO,BTLNBR,BTLNBR_FLAG_W,DATE,TIME,LATITUDE,LONGITUDE,DEPTH,CTDPRS,CTDPRS_FLAG_W,CTDTMP,CTDTMP_FLAG_W,SBE35,SBE35_FLAG_W,CTDSAL,CTDSAL_FLAG_W,SALNTY,SALNTY_FLAG_W,DNSSAL,DNSSAL_FLAG_W,CTDOXY,CTDOXY_FLAG_W,OXYGEN,OXYGEN_FLAG_W,XMISS,XMISSCP,XMISS_FLAG_W,FLUOR,FLUOR_FLAG_W,CHLORA,CHLORA_FLAG_W,CDOM,CDOM_FLAG_W,PAR,PAR_FLAG_W,SILCAT,SILCAT_FLAG_W,SILUNC,NITRAT,NITRAT_FLAG_W,NRAUNC,NITRIT,NITRIT_FLAG_W,NRIUNC,PHSPHT,PHSPHT_FLAG_W,PHPUNC,AMMONIA,AMMONIA_FLAG_W,NH4UNC,CFC-11,CFC-11_FLAG_W,CFC-12,CFC-12_FLAG_W,CFC113,CFC113_FLAG_W,SF6,SF6_FLAG_W,TCARBN,TCARBN_FLAG_W,ALKALI,ALKALI_FLAG_W,ALKALI_POT,ALKALI_POT_FLAG_W,PH_TOT,PH_TMP,PH_TOT_FLAG_W,CALCIUM,CALCIUM_FLAG_W,DOC,DOC_FLAG_W,DELC13,DELC13_FLAG_W,C13ERR,DELC14,DELC14_FLAG_W,C14ERR,CS-134,CS-134_FLAG_W,CS134ER,CS-137,CS-137_FLAG_W,CS137ER,I-129,I-129_FLAG_W,I-129ER,CDOM-325,CDOM-325_FLAG_W,CDOM-370,CDOM-370_FLAG_W,CDOM-443,CDOM-443_FLAG_W
,,,,,,,,UTC,DEG,DEG,METERS,DBAR,,ITS-90,,ITS-90,,PSS-78,,PSS-78,,G/KG,,UMOL/KG,,UMOL/KG,,%TRANS,/METER,,MG/CUM,,MG/CUM,,MG/CUM,,UE/SQM/S,,UMOL/KG,,UMOL/KG,UMOL/KG,,UMOL/KG,UMOL/KG,,UMOL/KG,UMOL/KG,,UMOL/KG,UMOL/KG,,UMOL/KG,PMOL/KG,,PMOL/KG,,PMOL/KG,,FMOL/KG,,UMOL/KG,,UMOL/KG,,UMOL/KG,,,DEG C,,MMOL/KG,,UMOL/KG,,/MILLE,,/MILLE,/MILLE,,/MILLE,MBQ/KG,,MBQ/KG,MBQ/KG,,MBQ/KG,,,,/METER,,/METER,,/METER,
  49NZ20140717,   P01,    98,  1,      9, X12J09,2,20140805,0204, 46.9983,-178.3013, 5494,   3919.8,2,   1.4709,2,   1.47108,2,  34.6800,2,  34.6794,2,-999.0000,9,   144.05,2,   144.10,2,   99.977,   0.0009,2,    0.002,2,  -999.00,9,    2.590,4,    0.000,2,   157.82,2,     0.17,    36.69,2,     0.05,     0.00,2,     0.01,     2.56,2,     0.01,  -999.00,9,  -999.00,    0.000,2,    0.000,2,    0.000,2, -999.000,9,   2332.9,2,   2420.6,2,   2412.9,2,   7.5620,       25,2,   10.312,2,    38.35,2, -999.000,9, -999.000,   -999.0,9,   -999.0, -999.000,9, -999.000, -999.000,9, -999.000,   -999.0,9,   -999.0, -999.000,9, -999.000,9, -999.000,9
  49NZ20140717,   P01,    98,  1,      8, X12J08,2,20140805,0204, 46.9983,-178.3013, 5494,   4168.9,2,   1.4694,2,   1.46950,2,  34.6832,2,  34.6831,2,-999.0000,9,   148.04,2,   148.22,2,   99.977,   0.0009,2,    0.002,2,  -999.00,9,    2.086,4,    0.000,2,   157.85,2,     0.17,    36.45,2,     0.05,     0.00,2,     0.01,     2.54,2,     0.01,  -999.00,9,  -999.00,    0.001,2,    0.001,2,    0.000,2, -999.000,9,   2329.6,6,   2418.5,2,   -999.0,9,   7.5697,       25,2, -999.000,9,    35.92,2, -999.000,9, -999.000,   -999.0,9,   -999.0, -999.000,9, -999.000, -999.000,9, -999.000,   -999.0,9,   -999.0, -999.000,9, -999.000,9, -999.000,9
  49NZ20140717,   P01,    98,  1,      7, X12J07,2,20140805,0204, 46.9983,-178.3013, 5494,   4421.6,2,   1.4814,2,   1.48150,2,  34.6855,2,  34.6852,2,-999.0000,9,   150.21,2,   150.10,2,   99.986,   0.0006,2,    0.002,2,  -999.00,9,   -0.001,4,    0.000,2,   158.86,2,     0.17,    36.35,2,     0.05,     0.00,2,     0.01,     2.53,2,     0.01,  -999.00,9,  -999.00,    0.002,2,    0.000,2,    0.000,2, -999.000,9,   2329.0,2,   2417.5,2,   -999.0,9,   7.5751,       25,6, -999.000,9,    40.44,2, -999.000,9, -999.000,   -999.0,9,   -999.0, -999.000,9, -999.000, -999.000,9, -999.000,   -999.0,9,   -999.0, -999.000,9, -999.000,9, -999.000,9
  49NZ20140717,   P01,    98,  1,      6, X12J06,2,20140805,0204, 46.9983,-178.3013, 5494,   4672.1,2,   1.5013,2,   1.50142,2,  34.6869,2,  34.6866,2,-999.0000,9,   151.51,2,   151.45,2,   99.981,   0.0007,2,    0.002,2,  -999.00,9,   -1.761,4,    0.000,2,   159.94,2,     0.17,    36.26,2,     0.05,     0.00,2,     0.01,     2.52,2,     0.01,  -999.00,9,  -999.00,    0.001,2,    0.000,2,    0.000,2, -999.000,9,   2328.3,2,   2419.6,6,   -999.0,9,   7.5779,       25,2, -999.000,9,    39.09,2, -999.000,9, -999.000,   -999.0,9,   -999.0, -999.000,9, -999.000, -999.000,9, -999.000,   -999.0,9,   -999.0, -999.000,9, -999.000,9, -999.000,9
  49NZ20140717,   P01,    98,  1,      5, X12J05,2,20140805,0204, 46.9983,-178.3013, 5494,   4919.9,2,   1.5288,2,   1.52882,2,  34.6870,2,  34.6871,2,-999.0000,9,   151.91,2,   151.91,2,  100.007,  -0.0003,2,    0.001,2,  -999.00,9,  497.217,4,    0.000,2,   160.22,2,     0.17,    36.21,2,     0.05,     0.01,2,     0.01,     2.52,2,     0.01,  -999.00,9,  -999.00,    0.000,2,    0.000,2,    0.000,2, -999.000,9,   2326.3,2,   2419.3,2,   2418.9,2,   7.5790,       25,2,   10.317,2,    40.55,2, -999.000,9, -999.000,   -999.0,9,   -999.0, -999.000,9, -999.000, -999.000,9, -999.000,   -999.0,9,   -999.0, -999.000,9, -999.000,9, -999.000,9
  49NZ20140717,   P01,    98,  1,      4, X12J04,2,20140805,0204, 46.9983,-178.3013, 5494,   5171.9,2,   1.5581,2,   1.55814,2,  34.6875,2,  34.6875,2,-999.0000,9,   152.36,2,   152.57,2,   99.986,   0.0006,2,    0.001,2,  -999.00,9,  497.217,4,    0.000,2,   160.14,2,     0.17,    36.17,2,     0.05,     0.00,2,     0.01,     2.52,2,     0.01,  -999.00,9,  -999.00,    0.003,2,    0.000,2,    0.000,2, -999.000,9,   2326.8,2,   2419.3,2,   -999.0,9,   7.5799,       25,2, -999.000,9,    39.52,2, -999.000,9, -999.000,   -999.0,9,   -999.0, -999.000,9, -999.000, -999.000,9, -999.000,   -999.0,9,   -999.0, -999.000,9, -999.000,9, -999.000,9
  49NZ20140717,   P01,    98,  1,      3, X12J03,2,20140805,0204, 46.9983,-178.3013, 5494,   5420.2,2,   1.5882,2,   1.58808,2,  34.6876,2,  34.6879,2,-999.0000,9,   152.79,2,   153.17,2,   99.884,   0.0046,2,    0.001,2,  -999.00,9,  497.217,4,    0.000,2,   159.87,2,     0.17,    36.12,2,     0.05,     0.00,2,     0.01,     2.52,2,     0.01,  -999.00,9,  -999.00,    0.006,2,    0.003,2,    0.000,2, -999.000,9,   2327.5,2,   2418.1,2,   -999.0,9,   7.5805,       25,2, -999.000,9,    41.01,2, -999.000,9, -999.000,   -999.0,9,   -999.0, -999.000,9, -999.000, -999.000,9, -999.000,   -999.0,9,   -999.0, -999.000,9, -999.000,9, -999.000,9
  49NZ20140717,   P01,    98,  1,      2, X12J02,9,20140805,0204, 46.9983,-178.3013, 5494,   -999.0,9,-999.0000,9,-999.00000,9,-999.0000,9,-999.0000,9,-999.0000,9,  -999.00,9,  -999.00,9, -999.000,-999.0000,9, -999.000,9,  -999.00,9, -999.000,9, -999.000,9,  -999.00,9,  -999.00,  -999.00,9,  -999.00,  -999.00,9,  -999.00,  -999.00,9,  -999.00,  -999.00,9,  -999.00, -999.000,9, -999.000,9, -999.000,9, -999.000,9,   -999.0,9,   -999.0,9,   -999.0,9,-999.0000,     -999,9, -999.000,9,  -999.00,9, -999.000,9, -999.000,   -999.0,9,   -999.0, -999.000,9, -999.000, -999.000,9, -999.000,   -999.0,9,   -999.0, -999.000,9, -999.000,9, -999.000,9
  49NZ20140717,   P01,    98,  1,      1, X12J01,2,20140805,0204, 46.9983,-178.3013, 5494,   5602.5,2,   1.6125,2,   1.61239,2,  34.6875,2,  34.6874,2,-999.0000,9,   152.78,2,   153.06,2,   99.871,   0.0052,2,    0.002,2,  -999.00,9,  494.380,4,    0.000,2,   160.05,2,     0.17,    36.16,2,     0.05,     0.00,2,     0.01,     2.52,2,     0.01,  -999.00,9,  -999.00,    0.004,2,    0.002,2,    0.000,2, -999.000,9,   2327.4,2,   2419.7,2,   2416.1,2,   7.5808,       25,2,   10.320,2,    36.67,2, -999.000,9, -999.000,   -999.0,9,   -999.0, -999.000,9, -999.000, -999.000,9, -999.000,   -999.0,9,   -999.0, -999.000,9, -999.000,9, -999.000,9