BOTTLE,20230904JAMSTECRIGC
EXPOCODE,SECT,STNNBR,CASTNO,SAMPNO,BTLNBR,BTLNBR_FLAG_W,DATE,TIME,LATITUDE,LONGITUDE,DEPTH,CTDPRS,CTDPRS_FLAG_W,CTDTMP,CTDTMP_FLAG_W,SBE35,SBE35_FLAG_W,CTDSAL,CTDSAL_FLAG_W,SALNTY,SALNTY_FLAG_W,DNSSAL,DNSSAL_FLAG_W,CTDOXY,CTDOXY_FLAG_W,OXYGEN,OXYGEN_FLAG_W,XMISS,XMISSCP,XMISS_FLAG_W,FLUOR,FLUOR_FLAG_W,CHLORA,CHLORA_FLAG_W,CDOM,CDOM_FLAG_W,PAR,PAR_FLAG_W,SILCAT,SILCAT_FLAG_W,SILUNC,NITRAT,NITRAT_FLAG_W,NRAUNC,NITRIT,NITRIT_FLAG_W,NRIUNC,PHSPHT,PHSPHT_FLAG_W,PHPUNC,AMMONIA,AMMONIA_FLAG_W,NH4UNC,CFC-11,CFC-11_FLAG_W,CFC-12,CFC-12_FLAG_W,CFC113,CFC113_FLAG_W,SF6,SF6_FLAG_W,TCARBN,TCARBN_FLAG_W,ALKALI,ALKALI_FLAG_W,ALKALI_POT,ALKALI_POT_FLAG_W,PH_TOT,PH_TMP,PH_TOT_FLAG_W,CALCIUM,CALCIUM_FLAG_W,DOC,DOC_FLAG_W,DELC13,DELC13_FLAG_W,C13ERR,DELC14,DELC14_FLAG_W,C14ERR,CS-134,CS-134_FLAG_W,CS134ER,CS-137,CS-137_FLAG_W,CS137ER,I-129,I-129_FLAG_W,I-129ER,CDOM-325,CDOM-325_FLAG_W,CDOM-370,CDOM-370_FLAG_W,CDOM-443,CDOM-443_FLAG_W
,,,,,,,,UTC,DEG,DEG,METERS,DBAR,,ITS-90,,ITS-90,,PSS-78,,PSS-78,,G/KG,,UMOL/KG,,UMOL/KG,,%TRANS,/METER,,MG/CUM,,MG/CUM,,MG/CUM,,UE/SQM/S,,UMOL/KG,,UMOL/KG,UMOL/KG,,UMOL/KG,UMOL/KG,,UMOL/KG,UMOL/KG,,UMOL/KG,UMOL/KG,,UMOL/KG,PMOL/KG,,PMOL/KG,,PMOL/KG,,FMOL/KG,,UMOL/KG,,UMOL/KG,,UMOL/KG,,,DEG C,,MMOL/KG,,UMOL/KG,,/MILLE,,/MILLE,/MILLE,,/MILLE,MBQ/KG,,MBQ/KG,MBQ/KG,,MBQ/KG,,,,/METER,,/METER,,/METER,
  49NZ20140717,   P01,    94,  1,      9, X12J09,2,20140803,1933, 46.9934, 177.1898, 5683,   4081.0,2,   1.4727,2,   1.47295,2,  34.6821,2,  34.6821,2,-999.0000,9,   146.63,2,   146.55,2,   99.955,   0.0018,2,    0.001,2,  -999.00,9,    2.252,4,    0.000,2,   156.48,2,     0.17,    36.53,2,     0.05,     0.00,2,     0.01,     2.55,2,     0.01,  -999.00,9,  -999.00,    0.000,2,    0.000,2,    0.000,2,    0.000,2,   -999.0,9,   -999.0,9,   -999.0,9,-999.0000,     -999,9, -999.000,9,  -999.00,9, -999.000,9, -999.000,   -999.0,9,   -999.0, -999.000,9, -999.000, -999.000,9, -999.000,   -999.0,9,   -999.0, -999.000,9, -999.000,9, -999.000,9
  49NZ20140717,   P01,    94,  1,      8, X12J08,2,20140803,1933, 46.9934, 177.1898, 5683,   4331.9,2,   1.4788,2,   1.47900,2,  34.6848,2,  34.6846,2,-999.0000,9,   149.63,2,   149.35,2,   99.966,   0.0013,2,    0.001,2,  -999.00,9,    1.466,4,    0.000,2,   156.51,2,     0.17,    36.31,2,     0.05,     0.01,2,     0.01,     2.53,2,     0.01,  -999.00,9,  -999.00,    0.000,2,    0.000,2,    0.000,2,    0.000,2,   -999.0,9,   -999.0,9,   -999.0,9,-999.0000,     -999,9, -999.000,9,  -999.00,9, -999.000,9, -999.000,   -999.0,9,   -999.0, -999.000,9, -999.000, -999.000,9, -999.000,   -999.0,9,   -999.0, -999.000,9, -999.000,9, -999.000,9
  49NZ20140717,   P01,    94,  1,      7, X12J07,2,20140803,1933, 46.9934, 177.1898, 5683,   4579.8,2,   1.4955,2,   1.49573,2,  34.6864,2,  34.6859,2,-999.0000,9,   151.24,2,   151.06,2,   99.979,   0.0008,2,    0.001,2,  -999.00,9,   -1.563,4,    0.000,2,   157.32,2,     0.17,    36.17,2,     0.05,     0.00,2,     0.01,     2.52,2,     0.01,  -999.00,9,  -999.00,    0.000,2,    0.000,2,    0.000,2,    0.000,2,   -999.0,9,   -999.0,9,   -999.0,9,-999.0000,     -999,9, -999.000,9,  -999.00,9, -999.000,9, -999.000,   -999.0,9,   -999.0, -999.000,9, -999.000, -999.000,9, -999.000,   -999.0,9,   -999.0, -999.000,9, -999.000,9, -999.000,9
  49NZ20140717,   P01,    94,  1,      6, X12J06,2,20140803,1933, 46.9934, 177.1898, 5683,   4831.2,2,   1.5181,2,   1.51811,2,  34.6873,2,  34.6873,2,-999.0000,9,   152.23,2,   152.06,2,   99.979,   0.0008,2,    0.001,2,  -999.00,9,   -1.739,4,    0.000,2,   158.56,2,     0.17,    36.19,2,     0.05,     0.01,2,     0.01,     2.51,2,     0.01,  -999.00,9,  -999.00,    0.000,2,    0.000,2,    0.000,2,    0.000,2,   -999.0,9,   -999.0,9,   -999.0,9,-999.0000,     -999,9, -999.000,9,  -999.00,9, -999.000,9, -999.000,   -999.0,9,   -999.0, -999.000,9, -999.000, -999.000,9, -999.000,   -999.0,9,   -999.0, -999.000,9, -999.000,9, -999.000,9
  49NZ20140717,   P01,    94,  1,      5, X12J05,2,20140803,1933, 46.9934, 177.1898, 5683,   5080.3,2,   1.5477,2,   1.54777,2,  34.6876,2,  34.6874,2,-999.0000,9,   152.37,2,   152.40,2,   99.997,   0.0001,2,    0.001,2,  -999.00,9,   -1.768,4,    0.000,2,   158.85,2,     0.17,    36.19,2,     0.05,     0.01,2,     0.01,     2.51,2,     0.01,  -999.00,9,  -999.00,    0.001,2,    0.000,2,    0.000,2,    0.000,2,   -999.0,9,   -999.0,9,   -999.0,9,-999.0000,     -999,9, -999.000,9,  -999.00,9, -999.000,9, -999.000,   -999.0,9,   -999.0, -999.000,9, -999.000, -999.000,9, -999.000,   -999.0,9,   -999.0, -999.000,9, -999.000,9, -999.000,9
  49NZ20140717,   P01,    94,  1,      4, X12J04,2,20140803,1933, 46.9934, 177.1898, 5683,   5330.2,2,   1.5754,2,   1.57538,2,  34.6878,2,  34.6877,2,-999.0000,9,   153.40,2,   153.43,2,   99.979,   0.0008,2,    0.001,2,  -999.00,9,   -1.822,4,    0.000,2,   157.09,2,     0.17,    36.07,2,     0.05,     0.00,2,     0.01,     2.51,2,     0.01,  -999.00,9,  -999.00,    0.002,2,    0.001,2,    0.000,2,    0.000,2,   -999.0,9,   -999.0,9,   -999.0,9,-999.0000,     -999,9, -999.000,9,  -999.00,9, -999.000,9, -999.000,   -999.0,9,   -999.0, -999.000,9, -999.000, -999.000,9, -999.000,   -999.0,9,   -999.0, -999.000,9, -999.000,9, -999.000,9
  49NZ20140717,   P01,    94,  1,      3, X12J03,3,20140803,1933, 46.9934, 177.1898, 5683,   5579.9,2,   1.6041,2,   1.60406,2,  34.6881,2,  34.6876,2,-999.0000,9,   154.10,2,   154.38,2,   99.873,   0.0051,2,    0.000,2,  -999.00,9,   -1.875,4,    0.000,2,   156.41,2,     0.17,    36.03,2,     0.05,     0.01,2,     0.01,     2.50,2,     0.01,  -999.00,9,  -999.00,    0.004,2,    0.002,2,    0.000,2,    0.000,2,   -999.0,9,   -999.0,9,   -999.0,9,-999.0000,     -999,9, -999.000,9,  -999.00,9, -999.000,9, -999.000,   -999.0,9,   -999.0, -999.000,9, -999.000, -999.000,9, -999.000,   -999.0,9,   -999.0, -999.000,9, -999.000,9, -999.000,9
  49NZ20140717,   P01,    94,  1,      2, X12J02,2,20140803,1933, 46.9934, 177.1898, 5683,     50.4,2,   5.8061,2,   5.80357,2,  32.9876,2,  32.9786,2,-999.0000,9,   328.46,2,   328.70,2,   96.548,   0.1405,2,    0.569,2,  -999.00,9,    0.624,1,    9.325,2,    24.98,2,     0.09,    15.29,2,     0.03,     0.13,2,     0.01,     1.41,2,     0.01,  -999.00,9,  -999.00,    4.677,2,    2.679,2,    0.456,2,    2.960,2,   -999.0,9,   -999.0,9,   -999.0,9,-999.0000,     -999,9, -999.000,9,  -999.00,9, -999.000,9, -999.000,   -999.0,9,   -999.0, -999.000,9, -999.000, -999.000,9, -999.000,   -999.0,9,   -999.0, -999.000,9, -999.000,9, -999.000,9
  49NZ20140717,   P01,    94,  1,      1, X12J01,2,20140803,1933, 46.9934, 177.1898, 5683,   5785.8,2,   1.6298,2,   1.62967,2,  34.6882,2,  34.6884,2,-999.0000,9,   154.45,2,   154.98,2,   99.750,   0.0100,2,    0.001,2,  -999.00,9,   -1.178,4,    0.000,2,   155.83,2,     0.17,    36.01,2,     0.05,     0.01,2,     0.01,     2.50,2,     0.01,  -999.00,9,  -999.00,    0.002,2,    0.001,2,    0.000,2,    0.000,2,   -999.0,9,   -999.0,9,   -999.0,9,-999.0000,     -999,9, -999.000,9,  -999.00,9, -999.000,9, -999.000,   -999.0,9,   -999.0, -999.000,9, -999.000, -999.000,9, -999.000,   -999.0,9,   -999.0, -999.000,9, -999.000,9, -999.000,9