BOTTLE,20230904JAMSTECRIGC
EXPOCODE,SECT,STNNBR,CASTNO,SAMPNO,BTLNBR,BTLNBR_FLAG_W,DATE,TIME,LATITUDE,LONGITUDE,DEPTH,CTDPRS,CTDPRS_FLAG_W,CTDTMP,CTDTMP_FLAG_W,SBE35,SBE35_FLAG_W,CTDSAL,CTDSAL_FLAG_W,SALNTY,SALNTY_FLAG_W,DNSSAL,DNSSAL_FLAG_W,CTDOXY,CTDOXY_FLAG_W,OXYGEN,OXYGEN_FLAG_W,XMISS,XMISSCP,XMISS_FLAG_W,FLUOR,FLUOR_FLAG_W,CHLORA,CHLORA_FLAG_W,CDOM,CDOM_FLAG_W,PAR,PAR_FLAG_W,SILCAT,SILCAT_FLAG_W,SILUNC,NITRAT,NITRAT_FLAG_W,NRAUNC,NITRIT,NITRIT_FLAG_W,NRIUNC,PHSPHT,PHSPHT_FLAG_W,PHPUNC,AMMONIA,AMMONIA_FLAG_W,NH4UNC,CFC-11,CFC-11_FLAG_W,CFC-12,CFC-12_FLAG_W,CFC113,CFC113_FLAG_W,SF6,SF6_FLAG_W,TCARBN,TCARBN_FLAG_W,ALKALI,ALKALI_FLAG_W,ALKALI_POT,ALKALI_POT_FLAG_W,PH_TOT,PH_TMP,PH_TOT_FLAG_W,CALCIUM,CALCIUM_FLAG_W,DOC,DOC_FLAG_W,DELC13,DELC13_FLAG_W,C13ERR,DELC14,DELC14_FLAG_W,C14ERR,CS-134,CS-134_FLAG_W,CS134ER,CS-137,CS-137_FLAG_W,CS137ER,I-129,I-129_FLAG_W,I-129ER,CDOM-325,CDOM-325_FLAG_W,CDOM-370,CDOM-370_FLAG_W,CDOM-443,CDOM-443_FLAG_W
,,,,,,,,UTC,DEG,DEG,METERS,DBAR,,ITS-90,,ITS-90,,PSS-78,,PSS-78,,G/KG,,UMOL/KG,,UMOL/KG,,%TRANS,/METER,,MG/CUM,,MG/CUM,,MG/CUM,,UE/SQM/S,,UMOL/KG,,UMOL/KG,UMOL/KG,,UMOL/KG,UMOL/KG,,UMOL/KG,UMOL/KG,,UMOL/KG,UMOL/KG,,UMOL/KG,PMOL/KG,,PMOL/KG,,PMOL/KG,,FMOL/KG,,UMOL/KG,,UMOL/KG,,UMOL/KG,,,DEG C,,MMOL/KG,,UMOL/KG,,/MILLE,,/MILLE,/MILLE,,/MILLE,MBQ/KG,,MBQ/KG,MBQ/KG,,MBQ/KG,,,,/METER,,/METER,,/METER,
  49NZ20140717,  PAPA,   151,  1,      0,   -999,9,20140816,2020, 49.9950,-144.9857, 4253,   -999.0,9,-999.0000,9,-999.00000,9,-999.0000,9,  32.3166,2,-999.0000,9,  -999.00,9,  -999.00,9, -999.000,-999.0000,9, -999.000,9,     0.78,2, -999.000,9, -999.000,9,    11.68,2,     0.09,     5.39,2,     0.02,     0.08,2,     0.01,     0.75,2,     0.01,  -999.00,9,  -999.00, -999.000,9, -999.000,9, -999.000,9, -999.000,9,   -999.0,9,   -999.0,9,   -999.0,9,-999.0000,     -999,9, -999.000,9,  -999.00,9, -999.000,9, -999.000,   -999.0,9,   -999.0, -999.000,9, -999.000, -999.000,9, -999.000,   -999.0,9,   -999.0,    0.198,2,    0.094,2,    0.038,2
  49NZ20140717,  PAPA,   151,  1,     36, X12J36,2,20140816,2020, 49.9950,-144.9857, 4253,     10.4,2,  14.3453,2,  14.34353,2,  32.3144,2,  32.3155,2,  32.4695,2,   268.33,2,   267.98,2,   92.236,   0.3233,2,    0.569,2,     0.76,2,   -0.270,1,  105.614,2,    11.66,2,     0.09,     5.36,2,     0.02,     0.08,2,     0.01,     0.75,2,     0.01,  -999.00,9,  -999.00,    2.832,2,    1.723,2,    0.268,2,    2.110,2,   1978.0,2,   2181.2,2,   -999.0,9,   7.9057,       25,6, -999.000,9,    62.66,2, -999.000,9, -999.000,   -999.0,9,   -999.0, -999.000,9, -999.000, -999.000,9, -999.000,   -999.0,9,   -999.0,    0.253,2,    0.127,2,    0.049,2
  49NZ20140717,  PAPA,   151,  1,     35, X12J35,2,20140816,2020, 49.9950,-144.9857, 4253,     51.0,2,   8.5899,2,   8.61094,2,  32.4504,2,  32.4561,2,  32.6114,2,   297.42,2,   296.91,2,   97.506,   0.1010,2,    0.373,2,     0.33,2,    0.638,1,    2.161,2,    16.59,2,     0.09,    10.58,2,     0.02,     0.10,2,     0.01,     1.13,2,     0.01,  -999.00,9,  -999.00,    3.816,2,    2.273,2,    0.358,2,    2.720,2,   2030.5,6,   2189.0,2,   -999.0,9,   7.7981,       25,2, -999.000,9,    54.93,2, -999.000,9, -999.000,   -999.0,9,   -999.0, -999.000,9, -999.000, -999.000,9, -999.000,   -999.0,9,   -999.0,    0.208,2,    0.098,2,    0.028,2
  49NZ20140717,  PAPA,   151,  1,     34, X12J34,2,20140816,2020, 49.9950,-144.9857, 4253,    100.6,2,   6.3289,2,   6.33482,2,  32.6906,2,  32.6992,2,  32.8562,2,   280.11,2,   279.32,2,   99.520,   0.0192,2,    0.118,2,     0.12,2,    0.699,1,    0.106,2,    22.15,2,     0.09,    16.66,2,     0.03,     0.04,2,     0.01,     1.44,2,     0.01,  -999.00,9,  -999.00,    4.098,2,    2.420,2,    0.366,2,    2.660,2,   2074.5,2,   2199.5,2,   -999.0,9,   7.7157,       25,2, -999.000,9,    50.54,2, -999.000,9, -999.000,   -999.0,9,   -999.0, -999.000,9, -999.000, -999.000,9, -999.000,   -999.0,9,   -999.0,    0.205,2,    0.100,2,    0.033,2
  49NZ20140717,  PAPA,   151,  1,     33, X12J33,2,20140816,2020, 49.9950,-144.9857, 4253,    151.0,2,   4.3424,2,   4.34543,2,  33.4539,2,  33.4400,2,  33.6024,2,   189.91,2,   191.12,2,   99.605,   0.0158,2,    0.030,2,     0.02,2,    1.955,1,    0.000,2,    50.41,2,     0.11,    29.65,2,     0.04,     0.01,2,     0.01,     2.21,2,     0.01,  -999.00,9,  -999.00,    3.853,2,    2.213,2,    0.298,2,    1.940,2,   2195.9,6,   2252.3,2,   -999.0,9,   7.5011,       25,6, -999.000,9,    47.46,2, -999.000,9, -999.000,   -999.0,9,   -999.0, -999.000,9, -999.000, -999.000,9, -999.000,   -999.0,9,   -999.0, -999.000,9, -999.000,9, -999.000,9
  49NZ20140717,  PAPA,   151,  1,     32, X12J32,2,20140816,2020, 49.9950,-144.9857, 4253,    202.2,2,   4.0213,2,   4.02077,2,  33.6915,2,  33.6919,2,  33.8556,2,   136.59,2,   136.59,2,   99.587,   0.0165,2,    0.020,2,     0.01,2,    2.469,1,    0.000,2,    65.91,2,     0.12,    35.00,2,     0.05,     0.01,2,     0.01,     2.55,2,     0.01,  -999.00,9,  -999.00,    3.369,2,    1.883,2,    0.241,2,    1.450,2,   2249.8,2,   2273.2,6,   -999.0,9,   7.4034,       25,2, -999.000,9,    48.80,2, -999.000,9, -999.000,   -999.0,9,   -999.0, -999.000,9, -999.000, -999.000,9, -999.000,   -999.0,9,   -999.0,    0.239,2,    0.119,2,    0.043,2
  49NZ20140717,  PAPA,   151,  1,     31, X12J31,2,20140816,2020, 49.9950,-144.9857, 4253,    249.3,2,   3.6525,2,   3.65236,2,  33.7494,2,  33.7481,2,  33.9137,2,    99.88,2,   100.91,2,   99.759,   0.0097,2,    0.018,2,     0.00,2,    2.725,1,    0.000,2,    77.65,2,     0.12,    38.79,2,     0.05,     0.01,2,     0.01,     2.79,2,     0.01,  -999.00,9,  -999.00,    3.009,2,    1.672,2,    0.216,2,    1.150,2,   2282.0,2,   2283.1,2,   -999.0,9,   7.3321,       25,2, -999.000,9,    43.49,2, -999.000,9, -999.000,   -999.0,9,   -999.0, -999.000,9, -999.000, -999.000,9, -999.000,   -999.0,9,   -999.0, -999.000,9, -999.000,9, -999.000,9
  49NZ20140717,  PAPA,   151,  1,     30, X12J30,2,20140816,2020, 49.9950,-144.9857, 4253,    299.6,2,   3.6261,2,   3.62605,2,  33.8138,2,  33.8121,2,  33.9796,2,    74.73,2,    75.65,2,   99.817,   0.0073,2,    0.019,2,  -999.00,9,    2.826,1,    0.000,2,    85.24,2,     0.13,    40.92,2,     0.05,     0.01,2,     0.01,     2.92,2,     0.01,  -999.00,9,  -999.00,    2.688,2,    1.444,2,    0.185,2,    0.940,2,   2301.7,2,   2289.7,2,   -999.0,9,   7.2959,       25,2, -999.000,9,    43.63,2, -999.000,9, -999.000,   -999.0,9,   -999.0, -999.000,9, -999.000, -999.000,9, -999.000,   -999.0,9,   -999.0,    0.226,2,    0.107,2,    0.041,2
  49NZ20140717,  PAPA,   151,  1,     29, X12J29,2,20140816,2020, 49.9950,-144.9857, 4253,    399.9,2,   3.6930,2,   3.69281,2,  33.9515,2,  33.9511,2,  34.1195,2,    41.62,2,    42.15,2,   99.956,   0.0018,2,    0.019,2,  -999.00,9,    3.015,1,    0.000,2,    98.25,2,     0.14,    43.21,2,     0.05,     0.01,2,     0.01,     3.06,2,     0.01,  -999.00,9,  -999.00,    1.934,2,    1.009,2,    0.133,2,    0.520,2,   2327.3,2,   2308.9,2,   -999.0,9,   7.2631,       25,2, -999.000,9,    43.07,2, -999.000,9, -999.000,   -999.0,9,   -999.0, -999.000,9, -999.000, -999.000,9, -999.000,   -999.0,9,   -999.0, -999.000,9, -999.000,9, -999.000,9
  49NZ20140717,  PAPA,   151,  1,     28, X12J28,2,20140816,2020, 49.9950,-144.9857, 4253,    500.4,2,   3.7295,2,   3.72926,2,  34.1022,2,  34.1019,2,  34.2738,2,    26.23,2,    26.36,2,   99.975,   0.0010,2,    0.018,2,  -999.00,9,    3.063,1,    0.000,2,   110.23,2,     0.14,    43.53,2,     0.05,     0.01,2,     0.01,     3.09,2,     0.01,  -999.00,9,  -999.00,    1.107,2,    0.572,2,    0.069,2,    0.230,2,   2343.8,2,   2328.2,2,   -999.0,9,   7.2729,       25,2, -999.000,9,    41.52,2, -999.000,9, -999.000,   -999.0,9,   -999.0, -999.000,9, -999.000, -999.000,9, -999.000,   -999.0,9,   -999.0,    0.242,2,    0.121,2,    0.050,2
  49NZ20140717,  PAPA,   151,  1,     27, X12J27,2,20140816,2020, 49.9950,-144.9857, 4253,    599.8,2,   3.5906,2,   3.59066,2,  34.1888,2,  34.1873,2,  34.3602,2,    21.99,2,    21.97,2,   99.971,   0.0012,2,    0.018,2,  -999.00,9,    3.091,1,    0.000,2,   118.99,2,     0.15,    43.59,2,     0.05,     0.01,2,     0.01,     3.10,2,     0.01,  -999.00,9,  -999.00,    0.687,2,    0.362,2,    0.039,2,    0.140,2,   2353.0,2,   2339.6,2,   -999.0,9,   7.2851,       25,2, -999.000,9,    40.44,2, -999.000,9, -999.000,   -999.0,9,   -999.0, -999.000,9, -999.000, -999.000,9, -999.000,   -999.0,9,   -999.0, -999.000,9, -999.000,9, -999.000,9
  49NZ20140717,  PAPA,   151,  1,     26, X12J26,2,20140816,2020, 49.9950,-144.9857, 4253,    699.9,2,   3.3825,2,   3.38197,2,  34.2522,2,  34.2525,2,  34.4268,2,    20.90,2,    20.84,2,   99.949,   0.0020,2,    0.018,2,  -999.00,9,    3.151,1,    0.000,2,   127.75,2,     0.15,    43.62,2,     0.05,     0.01,2,     0.01,     3.12,2,     0.01,  -999.00,9,  -999.00,    0.438,2,    0.239,2,    0.022,2,    0.070,2,   2362.2,6,   2353.1,2,   -999.0,9,   7.2917,       25,2, -999.000,9,    39.55,2, -999.000,9, -999.000,   -999.0,9,   -999.0, -999.000,9, -999.000, -999.000,9, -999.000,   -999.0,9,   -999.0, -999.000,9, -999.000,9, -999.000,9
  49NZ20140717,  PAPA,   151,  1,     25, X12J25,2,20140816,2020, 49.9950,-144.9857, 4253,    800.4,2,   3.2251,2,   3.22841,2,  34.3043,2,  34.3033,2,  34.4795,2,    21.60,2,    21.53,2,   99.956,   0.0018,2,    0.016,2,  -999.00,9,    3.207,1,    0.000,2,   133.64,2,     0.16,    43.63,2,     0.05,     0.01,2,     0.01,     3.12,2,     0.01,  -999.00,9,  -999.00,    0.281,2,    0.160,2,    0.011,2,    0.050,2,   2368.2,2,   2364.2,2,   -999.0,9,   7.3029,       25,2, -999.000,9,    37.75,2, -999.000,9, -999.000,   -999.0,9,   -999.0, -999.000,9, -999.000, -999.000,9, -999.000,   -999.0,9,   -999.0,    0.252,2,    0.137,2,    0.062,2
  49NZ20140717,  PAPA,   151,  1,     24, X12J24,2,20140816,2020, 49.9950,-144.9857, 4253,    899.0,2,   3.0380,2,   3.03840,2,  34.3462,2,  34.3456,2,  34.5211,2,    20.39,2,    20.11,2,   99.936,   0.0025,2,    0.016,2,  -999.00,9,    3.218,1,    0.000,2,   140.13,2,     0.16,    43.89,2,     0.06,     0.01,2,     0.01,     3.14,2,     0.01,  -999.00,9,  -999.00,    0.171,2,    0.101,2,    0.005,2,    0.000,2,   2376.0,2,   2368.6,2,   -999.0,9,   7.3060,       25,6, -999.000,9,    37.70,2, -999.000,9, -999.000,   -999.0,9,   -999.0, -999.000,9, -999.000, -999.000,9, -999.000,   -999.0,9,   -999.0, -999.000,9, -999.000,9, -999.000,9
  49NZ20140717,  PAPA,   151,  1,     23, X12J23,2,20140816,2020, 49.9950,-144.9857, 4253,    999.3,2,   2.8545,2,   2.85494,2,  34.3865,2,  34.3861,2,  34.5639,2,    19.91,2,    19.20,2,   99.928,   0.0029,2,    0.016,2,  -999.00,9,    3.268,1,    0.000,2,   146.14,2,     0.17,    44.08,2,     0.06,     0.01,2,     0.01,     3.14,2,     0.01,  -999.00,9,  -999.00,    0.099,2,    0.060,2,    0.004,2,    0.000,2,   2383.7,2,   2379.3,2,   -999.0,9,   7.3091,       25,2, -999.000,9,    38.26,2, -999.000,9, -999.000,   -999.0,9,   -999.0, -999.000,9, -999.000, -999.000,9, -999.000,   -999.0,9,   -999.0,    0.269,2,    0.146,2,    0.064,2
  49NZ20140717,  PAPA,   151,  1,     22, X12J22,2,20140816,2020, 49.9950,-144.9857, 4253,   1198.5,2,   2.6210,2,   2.62088,2,  34.4360,2,  34.4360,2,  34.6140,2,    19.99,2,    19.14,2,   99.952,   0.0019,2,    0.015,2,  -999.00,9,    3.260,1,    0.000,2,   154.01,2,     0.17,    44.28,2,     0.06,     0.01,2,     0.01,     3.16,2,     0.01,  -999.00,9,  -999.00,    0.040,2,    0.024,2,    0.001,2,    0.000,2,   2389.0,2,   2389.7,6,   -999.0,9,   7.3153,       25,2, -999.000,9,    37.49,2, -999.000,9, -999.000,   -999.0,9,   -999.0, -999.000,9, -999.000, -999.000,9, -999.000,   -999.0,9,   -999.0, -999.000,9, -999.000,9, -999.000,9
  49NZ20140717,  PAPA,   151,  1,     21, X12J21,2,20140816,2020, 49.9950,-144.9857, 4253,   1399.4,2,   2.4083,2,   2.40841,2,  34.4829,2,  34.4827,2,  34.6615,2,    21.46,2,    20.63,2,   99.949,   0.0020,2,    0.015,2,  -999.00,9,    3.252,1,    0.000,2,   161.83,2,     0.17,    44.43,2,     0.06,     0.01,2,     0.01,     3.15,2,     0.01,  -999.00,9,  -999.00,    0.010,2,    0.006,2,    0.000,2,    0.000,2,   2396.8,2,   2397.1,2,   -999.0,9,   7.3215,       25,2, -999.000,9,    37.96,2, -999.000,9, -999.000,   -999.0,9,   -999.0, -999.000,9, -999.000, -999.000,9, -999.000,   -999.0,9,   -999.0, -999.000,9, -999.000,9, -999.000,9
  49NZ20140717,  PAPA,   151,  1,     20, X12J20,2,20140816,2020, 49.9950,-144.9857, 4253,   1598.9,2,   2.2110,2,   2.21096,2,  34.5250,2,  34.5241,2,  34.7044,2,    30.75,2,    29.68,2,   99.947,   0.0021,2,    0.013,2,  -999.00,9,    3.221,1,    0.000,2,   166.57,2,     0.18,    43.88,2,     0.06,     0.01,2,     0.01,     3.11,2,     0.01,  -999.00,9,  -999.00,    0.004,2,    0.001,2,    0.000,2,    0.000,2,   2397.3,2,   2405.4,2,   -999.0,9,   7.3426,       25,6, -999.000,9,  -999.00,9, -999.000,9, -999.000,   -999.0,9,   -999.0, -999.000,9, -999.000, -999.000,9, -999.000,   -999.0,9,   -999.0, -999.000,9, -999.000,9, -999.000,9
  49NZ20140717,  PAPA,   151,  1,     19, X12J19,2,20140816,2020, 49.9950,-144.9857, 4253,   1799.0,2,   2.0757,2,   2.07559,2,  34.5547,2,  34.5549,2,  34.7373,2,    40.12,2,    39.65,2,  100.004,  -0.0001,2,    0.012,2,  -999.00,9,    3.229,1,    0.000,2,   169.71,2,     0.18,    43.44,2,     0.05,     0.01,2,     0.01,     3.06,2,     0.01,  -999.00,9,  -999.00,    0.004,2,    0.003,2,    0.001,2,    0.000,2,   2395.2,2,   2409.7,2,   -999.0,9,   7.3646,       25,2, -999.000,9,    36.05,2, -999.000,9, -999.000,   -999.0,9,   -999.0, -999.000,9, -999.000, -999.000,9, -999.000,   -999.0,9,   -999.0, -999.000,9, -999.000,9, -999.000,9
  49NZ20140717,  PAPA,   151,  1,     18, X12J18,2,20140816,2020, 49.9950,-144.9857, 4253,   2002.8,2,   1.9394,2,   1.93923,2,  34.5823,2,  34.5823,2,  34.7630,2,    53.96,2,    53.80,2,  100.006,  -0.0002,2,    0.011,2,  -999.00,9,    3.076,1,    0.000,2,   171.53,2,     0.18,    42.56,2,     0.05,     0.01,2,     0.01,     3.00,2,     0.01,  -999.00,9,  -999.00,    0.000,2,    0.000,2,    0.000,2,    0.000,2,   2387.7,2,   2413.7,2,   -999.0,9,   7.3912,       25,2, -999.000,9,    38.44,2, -999.000,9, -999.000,   -999.0,9,   -999.0, -999.000,9, -999.000, -999.000,9, -999.000,   -999.0,9,   -999.0,    0.207,2,    0.108,2,    0.049,2
  49NZ20140717,  PAPA,   151,  1,     17, X12J17,2,20140816,2020, 49.9950,-144.9857, 4253,   2200.6,2,   1.8409,2,   1.84076,2,  34.6020,2,  34.6023,2,  34.7848,2,    65.83,2,    66.03,2,   99.980,   0.0008,2,    0.010,2,  -999.00,9,    3.086,1,    0.000,2,   172.60,2,     0.18,    41.82,2,     0.05,     0.01,2,     0.01,     2.95,2,     0.01,  -999.00,9,  -999.00,    0.002,2,    0.000,2,    0.000,2,    0.000,2,   2383.8,2,   2417.2,2,   -999.0,9,   7.4174,       25,2, -999.000,9,    38.37,2, -999.000,9, -999.000,   -999.0,9,   -999.0, -999.000,9, -999.000, -999.000,9, -999.000,   -999.0,9,   -999.0, -999.000,9, -999.000,9, -999.000,9
  49NZ20140717,  PAPA,   151,  1,     16, X12J16,2,20140816,2020, 49.9950,-144.9857, 4253,   2400.4,2,   1.7492,2,   1.74913,2,  34.6198,2,  34.6200,2,  34.7986,2,    78.19,2,    78.35,2,   99.984,   0.0006,2,    0.009,2,  -999.00,9,    2.914,1,    0.000,2,   172.21,2,     0.18,    40.93,2,     0.05,     0.01,2,     0.01,     2.88,2,     0.01,  -999.00,9,  -999.00,    0.000,2,    0.000,2,    0.000,2,    0.000,2,   2376.5,6,   2419.2,2,   -999.0,9,   7.4409,       25,2, -999.000,9,    37.04,2, -999.000,9, -999.000,   -999.0,9,   -999.0, -999.000,9, -999.000, -999.000,9, -999.000,   -999.0,9,   -999.0, -999.000,9, -999.000,9, -999.000,9
  49NZ20140717,  PAPA,   151,  1,     15, X12J15,2,20140816,2020, 49.9950,-144.9857, 4253,   2601.7,2,   1.6820,2,   1.68196,2,  34.6332,2,  34.6334,2,  34.8151,2,    88.95,2,    89.05,2,   99.995,   0.0002,2,    0.008,2,  -999.00,9,    2.924,1,    0.000,2,   171.70,2,     0.18,    40.24,2,     0.05,     0.01,2,     0.01,     2.84,2,     0.01,  -999.00,9,  -999.00,    0.000,2,    0.000,2,    0.000,2,    0.000,2,   2370.8,2,   2424.2,2,   -999.0,9,   7.4622,       25,2, -999.000,9,    38.40,2, -999.000,9, -999.000,   -999.0,9,   -999.0, -999.000,9, -999.000, -999.000,9, -999.000,   -999.0,9,   -999.0, -999.000,9, -999.000,9, -999.000,9
  49NZ20140717,  PAPA,   151,  1,     14, X12J14,2,20140816,2020, 49.9950,-144.9857, 4253,   2802.4,2,   1.6296,2,   1.62970,2,  34.6438,2,  34.6440,2,  34.8244,2,    98.50,2,    98.50,2,  100.017,  -0.0007,2,    0.008,2,  -999.00,9,    2.876,1,    0.000,2,   171.46,2,     0.18,    39.65,2,     0.05,     0.01,2,     0.01,     2.79,2,     0.01,  -999.00,9,  -999.00,    0.000,2,    0.000,2,    0.000,2,    0.000,2,   2364.8,2,   2422.6,2,   -999.0,9,   7.4811,       25,2, -999.000,9,  -999.00,9, -999.000,9, -999.000,   -999.0,9,   -999.0, -999.000,9, -999.000, -999.000,9, -999.000,   -999.0,9,   -999.0, -999.000,9, -999.000,9, -999.000,9
  49NZ20140717,  PAPA,   151,  1,     13, X12113,2,20140816,2020, 49.9950,-144.9857, 4253,   3000.5,2,   1.5806,2,   1.58046,2,  34.6534,2,  34.6538,2,  34.8342,2,   108.27,2,   108.40,2,  100.010,  -0.0004,2,    0.007,2,  -999.00,9,    2.794,1,    0.000,2,   170.62,2,     0.18,    38.97,2,     0.05,     0.01,2,     0.01,     2.74,2,     0.01,  -999.00,9,  -999.00,    0.001,2,    0.000,2,    0.000,2,    0.000,2,   2358.5,2,   2423.9,2,   -999.0,9,   7.5004,       25,2, -999.000,9,    36.03,2, -999.000,9, -999.000,   -999.0,9,   -999.0, -999.000,9, -999.000, -999.000,9, -999.000,   -999.0,9,   -999.0,    0.171,2,    0.087,2,    0.040,2
  49NZ20140717,  PAPA,   151,  1,     12, X12J12,2,20140816,2020, 49.9950,-144.9857, 4253,   3249.4,2,   1.5365,2,   1.53657,2,  34.6631,2,  34.6634,2,  34.8441,2,   118.52,2,   118.69,2,  100.019,  -0.0007,2,    0.006,2,  -999.00,9,    2.708,1,    0.000,2,   169.59,2,     0.18,    38.34,2,     0.05,     0.01,2,     0.01,     2.70,2,     0.01,  -999.00,9,  -999.00,    0.000,2,    0.000,2,    0.000,2,    0.000,2,   2352.7,2,   2424.9,6,   -999.0,9,   7.5210,       25,2, -999.000,9,    37.64,2, -999.000,9, -999.000,   -999.0,9,   -999.0, -999.000,9, -999.000, -999.000,9, -999.000,   -999.0,9,   -999.0, -999.000,9, -999.000,9, -999.000,9
  49NZ20140717,  PAPA,   151,  1,     11, X12J11,2,20140816,2020, 49.9950,-144.9857, 4253,   3499.7,2,   1.5101,2,   1.51023,2,  34.6702,2,  34.6704,2,  34.8507,2,   126.45,2,   126.71,2,  100.006,  -0.0002,2,    0.006,2,  -999.00,9,    2.663,1,    0.000,2,   168.55,2,     0.18,    37.81,2,     0.05,     0.01,2,     0.01,     2.65,2,     0.01,  -999.00,9,  -999.00,    0.001,2,    0.000,2,    0.000,2,    0.000,2,   2346.6,2,   2425.7,2,   -999.0,9,   7.5363,       25,2, -999.000,9,    38.43,2, -999.000,9, -999.000,   -999.0,9,   -999.0, -999.000,9, -999.000, -999.000,9, -999.000,   -999.0,9,   -999.0, -999.000,9, -999.000,9, -999.000,9
  49NZ20140717,  PAPA,   151,  1,     10, X12J10,2,20140816,2020, 49.9950,-144.9857, 4253,   3751.5,2,   1.4988,2,   1.49878,2,  34.6753,2,  34.6753,2,  34.8556,2,   132.27,2,   132.67,2,   99.997,   0.0001,2,    0.006,2,  -999.00,9,    2.554,1,    0.000,2,   167.92,2,     0.18,    37.43,2,     0.05,     0.01,2,     0.01,     2.63,2,     0.01,  -999.00,9,  -999.00,    0.000,2,    0.000,2,    0.000,2,    0.000,2,   2343.1,2,   2427.1,2,   -999.0,9,   7.5480,       25,2, -999.000,9,    38.95,2, -999.000,9, -999.000,   -999.0,9,   -999.0, -999.000,9, -999.000, -999.000,9, -999.000,   -999.0,9,   -999.0, -999.000,9, -999.000,9, -999.000,9