BOTTLE,20230904JAMSTECRIGC
EXPOCODE,SECT,STNNBR,CASTNO,SAMPNO,BTLNBR,BTLNBR_FLAG_W,DATE,TIME,LATITUDE,LONGITUDE,DEPTH,CTDPRS,CTDPRS_FLAG_W,CTDTMP,CTDTMP_FLAG_W,SBE35,SBE35_FLAG_W,CTDSAL,CTDSAL_FLAG_W,SALNTY,SALNTY_FLAG_W,DNSSAL,DNSSAL_FLAG_W,CTDOXY,CTDOXY_FLAG_W,OXYGEN,OXYGEN_FLAG_W,XMISS,XMISSCP,XMISS_FLAG_W,FLUOR,FLUOR_FLAG_W,CHLORA,CHLORA_FLAG_W,CDOM,CDOM_FLAG_W,PAR,PAR_FLAG_W,SILCAT,SILCAT_FLAG_W,SILUNC,NITRAT,NITRAT_FLAG_W,NRAUNC,NITRIT,NITRIT_FLAG_W,NRIUNC,PHSPHT,PHSPHT_FLAG_W,PHPUNC,AMMONIA,AMMONIA_FLAG_W,NH4UNC,CFC-11,CFC-11_FLAG_W,CFC-12,CFC-12_FLAG_W,CFC113,CFC113_FLAG_W,SF6,SF6_FLAG_W,TCARBN,TCARBN_FLAG_W,ALKALI,ALKALI_FLAG_W,ALKALI_POT,ALKALI_POT_FLAG_W,PH_TOT,PH_TMP,PH_TOT_FLAG_W,CALCIUM,CALCIUM_FLAG_W,DOC,DOC_FLAG_W,DELC13,DELC13_FLAG_W,C13ERR,DELC14,DELC14_FLAG_W,C14ERR,CS-134,CS-134_FLAG_W,CS134ER,CS-137,CS-137_FLAG_W,CS137ER,I-129,I-129_FLAG_W,I-129ER,CDOM-325,CDOM-325_FLAG_W,CDOM-370,CDOM-370_FLAG_W,CDOM-443,CDOM-443_FLAG_W
,,,,,,,,UTC,DEG,DEG,METERS,DBAR,,ITS-90,,ITS-90,,PSS-78,,PSS-78,,G/KG,,UMOL/KG,,UMOL/KG,,%TRANS,/METER,,MG/CUM,,MG/CUM,,MG/CUM,,UE/SQM/S,,UMOL/KG,,UMOL/KG,UMOL/KG,,UMOL/KG,UMOL/KG,,UMOL/KG,UMOL/KG,,UMOL/KG,UMOL/KG,,UMOL/KG,PMOL/KG,,PMOL/KG,,PMOL/KG,,FMOL/KG,,UMOL/KG,,UMOL/KG,,UMOL/KG,,,DEG C,,MMOL/KG,,UMOL/KG,,/MILLE,,/MILLE,/MILLE,,/MILLE,MBQ/KG,,MBQ/KG,MBQ/KG,,MBQ/KG,,,,/METER,,/METER,,/METER,
  49NZ20140717,   P01,   107,  1,      0,   -999,9,20140809,0045, 46.9954,-168.2088, 5395,   -999.0,9,-999.0000,9,-999.00000,9,-999.0000,9,  32.8835,2,-999.0000,9,  -999.00,9,  -999.00,9, -999.000,-999.0000,9, -999.000,9,  -999.00,9, -999.000,9, -999.000,9,    17.17,2,     0.09,    11.79,2,     0.02,     0.16,2,     0.01,     1.14,2,     0.01,  -999.00,9,  -999.00, -999.000,9, -999.000,9, -999.000,9, -999.000,9,   -999.0,9,   -999.0,9,   -999.0,9,-999.0000,     -999,9, -999.000,9,  -999.00,9, -999.000,9, -999.000,   -999.0,9,   -999.0, -999.000,9, -999.000, -999.000,9, -999.000,   -999.0,9,   -999.0, -999.000,9, -999.000,9, -999.000,9
  49NZ20140717,   P01,   107,  1,     36, X12J36,2,20140809,0045, 46.9954,-168.2088, 5395,     10.1,2,  12.9747,2,  12.97499,2,  32.8500,2,  32.8508,2,-999.0000,9,   273.41,2,   273.73,2,   95.578,   0.1809,2,    0.398,2,  -999.00,9,   -0.674,1,   52.533,2,    17.38,2,     0.09,    12.06,2,     0.02,     0.16,2,     0.01,     1.17,2,     0.01,  -999.00,9,  -999.00, -999.000,9, -999.000,9, -999.000,9, -999.000,9,   2034.6,2,   2218.1,2,   2206.6,2,   7.8439,       25,6,    9.734,2,    60.78,2, -999.000,9, -999.000,   -999.0,9,   -999.0, -999.000,9, -999.000, -999.000,9, -999.000,   -999.0,9,   -999.0, -999.000,9, -999.000,9, -999.000,9
  49NZ20140717,   P01,   107,  1,     35, X12J35,2,20140809,0045, 46.9954,-168.2088, 5395,     50.0,2,   6.4901,2,   6.48632,2,  33.0745,2,  33.0752,2,-999.0000,9,   315.23,2,   315.76,2,   98.044,   0.0790,2,    0.402,2,  -999.00,9,    0.585,1,    3.438,2,    19.41,2,     0.09,    13.28,2,     0.02,     0.16,2,     0.01,     1.25,2,     0.01,  -999.00,9,  -999.00, -999.000,9, -999.000,9, -999.000,9, -999.000,9,   2068.7,6,   2227.6,2,   2232.1,2,   7.7823,       25,2,    9.806,2,    54.96,2, -999.000,9, -999.000,   -999.0,9,   -999.0, -999.000,9, -999.000, -999.000,9, -999.000,   -999.0,9,   -999.0, -999.000,9, -999.000,9, -999.000,9
  49NZ20140717,   P01,   107,  1,     34, X12J34,2,20140809,0045, 46.9954,-168.2088, 5395,    101.0,2,   5.9327,2,   5.92949,2,  33.1835,2,  33.1817,2,-999.0000,9,   297.16,2,   297.51,2,   99.287,   0.0286,2,    0.195,2,  -999.00,9,    0.542,1,    0.251,2,    19.49,2,     0.09,    15.14,2,     0.03,     0.12,2,     0.01,     1.30,2,     0.01,  -999.00,9,  -999.00, -999.000,9, -999.000,9, -999.000,9, -999.000,9,   2084.2,2,   2229.1,2,   2236.4,2,   7.7471,       25,2,    9.841,2,    53.95,2, -999.000,9, -999.000,   -999.0,9,   -999.0, -999.000,9, -999.000, -999.000,9, -999.000,   -999.0,9,   -999.0, -999.000,9, -999.000,9, -999.000,9
  49NZ20140717,   P01,   107,  1,     33, X12J33,2,20140809,0045, 46.9954,-168.2088, 5395,    150.4,2,   5.3723,2,   5.37190,2,  33.6290,2,  33.6275,2,-999.0000,9,   257.00,2,   257.33,2,   99.707,   0.0117,2,    0.017,2,  -999.00,9,    1.273,1,    0.009,2,    32.99,2,     0.10,    21.04,2,     0.03,     0.01,2,     0.01,     1.58,2,     0.01,  -999.00,9,  -999.00, -999.000,9, -999.000,9, -999.000,9, -999.000,9,   2139.7,2,   2251.5,2,   2261.6,2,   7.6612,       25,2,    9.977,2,    51.06,2, -999.000,9, -999.000,   -999.0,9,   -999.0, -999.000,9, -999.000, -999.000,9, -999.000,   -999.0,9,   -999.0, -999.000,9, -999.000,9, -999.000,9
  49NZ20140717,   P01,   107,  1,     32, X12J32,2,20140809,0045, 46.9954,-168.2088, 5395,    200.3,2,   4.7206,2,   4.72209,2,  33.7253,2,  33.7271,2,-999.0000,9,   179.75,2,   179.10,2,   99.731,   0.0108,2,    0.017,2,  -999.00,9,    2.032,1,    0.000,2,    54.62,2,     0.11,    29.26,2,     0.04,     0.01,2,     0.01,     2.15,2,     0.01,  -999.00,9,  -999.00, -999.000,9, -999.000,9, -999.000,9, -999.000,9,   2207.4,2,   2271.6,6,   -999.0,9,   7.5193,       25,2, -999.000,9,    48.31,2, -999.000,9, -999.000,   -999.0,9,   -999.0, -999.000,9, -999.000, -999.000,9, -999.000,   -999.0,9,   -999.0, -999.000,9, -999.000,9, -999.000,9
  49NZ20140717,   P01,   107,  1,     31, X12J31,2,20140809,0045, 46.9954,-168.2088, 5395,    249.9,2,   4.2364,2,   4.23445,2,  33.7731,2,  33.7741,2,-999.0000,9,   134.76,2,   134.78,2,   99.863,   0.0055,2,    0.017,2,  -999.00,9,    2.397,1,    0.000,2,    68.61,2,     0.12,    34.20,2,     0.05,     0.00,2,     0.01,     2.49,2,     0.01,  -999.00,9,  -999.00, -999.000,9, -999.000,9, -999.000,9, -999.000,9,   2248.3,2,   2282.0,2,   -999.0,9,   7.4282,       25,2, -999.000,9,    48.85,2, -999.000,9, -999.000,   -999.0,9,   -999.0, -999.000,9, -999.000, -999.000,9, -999.000,   -999.0,9,   -999.0, -999.000,9, -999.000,9, -999.000,9
  49NZ20140717,   P01,   107,  1,     30, X12J30,2,20140809,0045, 46.9954,-168.2088, 5395,    279.6,2,   4.3310,2,   4.33090,2,  33.8414,2,  33.8417,2,-999.0000,9,   116.88,2,   116.96,2,   99.835,   0.0066,2,    0.018,2,  -999.00,9,    2.450,1,    0.000,2,    73.66,2,     0.12,    35.54,2,     0.05,     0.01,2,     0.01,     2.57,2,     0.01,  -999.00,9,  -999.00, -999.000,9, -999.000,9, -999.000,9, -999.000,9,   2261.3,2,   2288.3,2,   -999.0,9,   7.4083,       25,2, -999.000,9,    45.89,2, -999.000,9, -999.000,   -999.0,9,   -999.0, -999.000,9, -999.000, -999.000,9, -999.000,   -999.0,9,   -999.0, -999.000,9, -999.000,9, -999.000,9
  49NZ20140717,   P01,   107,  1,     29, X12J29,2,20140809,0045, 46.9954,-168.2088, 5395,    369.5,2,   3.9312,2,   3.93102,2,  33.9266,2,  33.9264,2,-999.0000,9,    74.98,2,    75.34,2,   99.802,   0.0079,2,    0.019,2,  -999.00,9,    2.710,1,    0.000,2,    89.65,2,     0.13,    39.82,2,     0.05,     0.01,2,     0.01,     2.85,2,     0.01,  -999.00,9,  -999.00, -999.000,9, -999.000,9, -999.000,9, -999.000,9,   2299.5,2,   2300.9,2,   -999.0,9,   7.3325,       25,2, -999.000,9,    44.21,2, -999.000,9, -999.000,   -999.0,9,   -999.0, -999.000,9, -999.000, -999.000,9, -999.000,   -999.0,9,   -999.0, -999.000,9, -999.000,9, -999.000,9
  49NZ20140717,   P01,   107,  1,     28, X12J28,2,20140809,0045, 46.9954,-168.2088, 5395,    470.4,2,   4.0055,2,   4.00523,2,  34.0720,2,  34.0710,2,-999.0000,9,    57.07,2,    57.59,2,   99.874,   0.0051,2,    0.018,2,  -999.00,9,    2.802,1,    0.000,2,   100.42,2,     0.14,    40.61,2,     0.05,     0.00,2,     0.01,     2.91,2,     0.01,  -999.00,9,  -999.00, -999.000,9, -999.000,9, -999.000,9, -999.000,9,   2316.8,2,   2321.7,2,   2323.1,2,   7.3366,       25,2,   10.126,2,    43.52,2, -999.000,9, -999.000,   -999.0,9,   -999.0, -999.000,9, -999.000, -999.000,9, -999.000,   -999.0,9,   -999.0, -999.000,9, -999.000,9, -999.000,9
  49NZ20140717,   P01,   107,  1,     27, X12J27,2,20140809,0045, 46.9954,-168.2088, 5395,    571.1,2,   3.7961,2,   3.79614,2,  34.1556,2,  34.1550,2,-999.0000,9,    43.34,2,    43.78,2,   99.891,   0.0044,2,    0.018,2,  -999.00,9,    2.872,1,    0.000,2,   111.29,2,     0.14,    41.77,2,     0.05,     0.00,2,     0.01,     2.99,2,     0.01,  -999.00,9,  -999.00, -999.000,9, -999.000,9, -999.000,9, -999.000,9,   2333.3,2,   2334.4,2,   -999.0,9,   7.3252,       25,2, -999.000,9,    44.00,2, -999.000,9, -999.000,   -999.0,9,   -999.0, -999.000,9, -999.000, -999.000,9, -999.000,   -999.0,9,   -999.0, -999.000,9, -999.000,9, -999.000,9
  49NZ20140717,   P01,   107,  1,     26, X12J26,2,20140809,0045, 46.9954,-168.2088, 5395,    671.0,2,   3.5170,2,   3.51652,2,  34.2267,2,  34.2262,2,-999.0000,9,    33.80,2,    34.05,2,   99.867,   0.0053,2,    0.018,2,  -999.00,9,    2.967,1,    0.000,2,   122.28,2,     0.15,    42.75,2,     0.05,     0.00,2,     0.01,     3.06,2,     0.01,  -999.00,9,  -999.00, -999.000,9, -999.000,9, -999.000,9, -999.000,9,   2349.7,6,   2348.6,2,   -999.0,9,   7.3175,       25,2, -999.000,9,    40.10,2, -999.000,9, -999.000,   -999.0,9,   -999.0, -999.000,9, -999.000, -999.000,9, -999.000,   -999.0,9,   -999.0, -999.000,9, -999.000,9, -999.000,9
  49NZ20140717,   P01,   107,  1,     25, X12J25,2,20140809,0045, 46.9954,-168.2088, 5395,    772.2,2,   3.3455,2,   3.34527,2,  34.2844,2,  34.2839,2,-999.0000,9,    29.18,2,    29.33,2,   99.887,   0.0045,2,    0.017,2,  -999.00,9,    2.997,1,    0.000,2,   128.91,2,     0.15,    43.04,2,     0.05,     0.00,2,     0.01,     3.08,2,     0.01,  -999.00,9,  -999.00, -999.000,9, -999.000,9, -999.000,9, -999.000,9,   2358.1,2,   2357.8,2,   2356.1,2,   7.3171,       25,2,   10.195,2,    40.97,2, -999.000,9, -999.000,   -999.0,9,   -999.0, -999.000,9, -999.000, -999.000,9, -999.000,   -999.0,9,   -999.0, -999.000,9, -999.000,9, -999.000,9
  49NZ20140717,   P01,   107,  1,     24, X12J24,2,20140809,0045, 46.9954,-168.2088, 5395,    871.2,2,   3.1791,2,   3.17936,2,  34.3269,2,  34.3270,2,-999.0000,9,    26.64,2,    26.66,2,   99.880,   0.0048,2,    0.016,2,  -999.00,9,    3.034,1,    0.000,2,   135.06,2,     0.16,    43.39,2,     0.05,     0.00,2,     0.01,     3.11,2,     0.01,  -999.00,9,  -999.00, -999.000,9, -999.000,9, -999.000,9, -999.000,9,   2367.9,2,   2365.9,2,   -999.0,9,   7.3189,       25,6, -999.000,9,    42.72,2, -999.000,9, -999.000,   -999.0,9,   -999.0, -999.000,9, -999.000, -999.000,9, -999.000,   -999.0,9,   -999.0, -999.000,9, -999.000,9, -999.000,9
  49NZ20140717,   P01,   107,  1,     23, X12J23,2,20140809,0045, 46.9954,-168.2088, 5395,    971.4,2,   2.9760,2,   2.97594,2,  34.3711,2,  34.3707,2,-999.0000,9,    24.92,2,    24.75,2,   99.904,   0.0038,2,    0.016,2,  -999.00,9,    3.096,1,    0.000,2,   142.05,2,     0.16,    43.73,2,     0.06,     0.00,2,     0.01,     3.13,2,     0.01,  -999.00,9,  -999.00, -999.000,9, -999.000,9, -999.000,9, -999.000,9,   2375.6,2,   2376.0,2,   2378.6,2,   7.3197,       25,2,   10.243,2,    42.56,2, -999.000,9, -999.000,   -999.0,9,   -999.0, -999.000,9, -999.000, -999.000,9, -999.000,   -999.0,9,   -999.0, -999.000,9, -999.000,9, -999.000,9
  49NZ20140717,   P01,   107,  1,     22, X12J22,2,20140809,0045, 46.9954,-168.2088, 5395,   1131.7,2,   2.7279,2,   2.72776,2,  34.4217,2,  34.4212,2,-999.0000,9,    24.60,2,    24.11,2,   99.856,   0.0058,2,    0.016,2,  -999.00,9,    3.169,1,    0.000,2,   150.27,2,     0.17,    44.03,2,     0.06,     0.00,2,     0.01,     3.14,2,     0.01,  -999.00,9,  -999.00, -999.000,9, -999.000,9, -999.000,9, -999.000,9,   2385.0,2,   2384.6,6,   2385.3,2,   7.3223,       25,2,   10.258,2,    40.96,2, -999.000,9, -999.000,   -999.0,9,   -999.0, -999.000,9, -999.000, -999.000,9, -999.000,   -999.0,9,   -999.0, -999.000,9, -999.000,9, -999.000,9
  49NZ20140717,   P01,   107,  1,     21, X12J21,2,20140809,0045, 46.9954,-168.2088, 5395,   1330.3,2,   2.4740,2,   2.47406,2,  34.4717,2,  34.4715,2,-999.0000,9,    26.34,2,    26.14,2,   99.917,   0.0033,2,    0.015,2,  -999.00,9,    3.225,1,    0.000,2,   158.62,2,     0.17,    44.13,2,     0.06,     0.00,2,     0.01,     3.14,2,     0.01,  -999.00,9,  -999.00, -999.000,9, -999.000,9, -999.000,9, -999.000,9,   2392.1,2,   2396.0,2,   -999.0,9,   7.3318,       25,2, -999.000,9,    43.01,3, -999.000,9, -999.000,   -999.0,9,   -999.0, -999.000,9, -999.000, -999.000,9, -999.000,   -999.0,9,   -999.0, -999.000,9, -999.000,9, -999.000,9
  49NZ20140717,   P01,   107,  1,     20, X12J20,2,20140809,0045, 46.9954,-168.2088, 5395,   1529.0,2,   2.2865,2,   2.28633,2,  34.5109,2,  34.5109,2,-999.0000,9,    33.14,2,    32.99,2,   99.895,   0.0042,2,    0.014,2,  -999.00,9,    3.153,1,    0.000,2,   163.92,2,     0.18,    43.79,2,     0.06,     0.00,2,     0.01,     3.10,2,     0.01,  -999.00,9,  -999.00, -999.000,9, -999.000,9, -999.000,9, -999.000,9,   2392.5,2,   2402.7,2,   2400.5,2,   7.3469,       25,6,   10.290,2,    38.06,2, -999.000,9, -999.000,   -999.0,9,   -999.0, -999.000,9, -999.000, -999.000,9, -999.000,   -999.0,9,   -999.0, -999.000,9, -999.000,9, -999.000,9
  49NZ20140717,   P01,   107,  1,     19, X12J19,2,20140809,0045, 46.9954,-168.2088, 5395,   1731.2,2,   2.1384,2,   2.13846,2,  34.5437,2,  34.5436,2,-999.0000,9,    41.42,2,    41.42,2,   99.925,   0.0030,2,    0.013,2,  -999.00,9,    3.155,1,    0.000,2,   167.42,2,     0.18,    43.34,2,     0.05,     0.00,2,     0.01,     3.07,2,     0.01,  -999.00,9,  -999.00, -999.000,9, -999.000,9, -999.000,9, -999.000,9,   2391.6,2,   2407.7,2,   -999.0,9,   7.3664,       25,2, -999.000,9,    39.44,2, -999.000,9, -999.000,   -999.0,9,   -999.0, -999.000,9, -999.000, -999.000,9, -999.000,   -999.0,9,   -999.0, -999.000,9, -999.000,9, -999.000,9
  49NZ20140717,   P01,   107,  1,     18, X12J18,2,20140809,0045, 46.9954,-168.2088, 5395,   1930.9,2,   2.0072,2,   2.00712,2,  34.5714,2,  34.5713,2,-999.0000,9,    54.47,2,    54.45,2,   99.945,   0.0022,2,    0.012,2,  -999.00,9,    3.082,1,    0.000,2,   169.07,2,     0.18,    42.51,2,     0.05,     0.00,2,     0.01,     3.01,2,     0.01,  -999.00,9,  -999.00, -999.000,9, -999.000,9, -999.000,9, -999.000,9,   2386.0,2,   2410.6,2,   2409.0,2,   7.3912,       25,2,   10.321,2,    38.93,2, -999.000,9, -999.000,   -999.0,9,   -999.0, -999.000,9, -999.000, -999.000,9, -999.000,   -999.0,9,   -999.0, -999.000,9, -999.000,9, -999.000,9
  49NZ20140717,   P01,   107,  1,     17, X12J17,2,20140809,0045, 46.9954,-168.2088, 5395,   2131.2,2,   1.8925,2,   1.89254,2,  34.5954,2,  34.5954,2,-999.0000,9,    65.14,2,    65.19,2,   99.938,   0.0025,2,    0.011,2,  -999.00,9,    3.057,1,    0.000,2,   170.60,2,     0.18,    41.91,2,     0.05,     0.00,2,     0.01,     2.96,2,     0.01,  -999.00,9,  -999.00, -999.000,9, -999.000,9, -999.000,9, -999.000,9,   2380.7,2,   2414.5,2,   -999.0,9,   7.4146,       25,2, -999.000,9,    39.71,2, -999.000,9, -999.000,   -999.0,9,   -999.0, -999.000,9, -999.000, -999.000,9, -999.000,   -999.0,9,   -999.0, -999.000,9, -999.000,9, -999.000,9
  49NZ20140717,   P01,   107,  1,     16, X12J16,2,20140809,0045, 46.9954,-168.2088, 5395,   2330.6,2,   1.8021,2,   1.80220,2,  34.6136,2,  34.6138,2,-999.0000,9,    75.59,2,    75.72,2,   99.932,   0.0027,2,    0.010,2,  -999.00,9,    2.947,1,    0.000,2,   171.02,2,     0.18,    41.23,2,     0.05,     0.00,2,     0.01,     2.91,2,     0.01,  -999.00,9,  -999.00, -999.000,9, -999.000,9, -999.000,9, -999.000,9,   2376.2,6,   2417.1,2,   -999.0,9,   7.4371,       25,2, -999.000,9,    39.74,2, -999.000,9, -999.000,   -999.0,9,   -999.0, -999.000,9, -999.000, -999.000,9, -999.000,   -999.0,9,   -999.0, -999.000,9, -999.000,9, -999.000,9
  49NZ20140717,   P01,   107,  1,     15, X12J15,2,20140809,0045, 46.9954,-168.2088, 5395,   2530.5,2,   1.7177,2,   1.71778,2,  34.6296,2,  34.6295,2,-999.0000,9,    87.62,2,    87.63,2,   99.960,   0.0016,2,    0.008,2,  -999.00,9,    2.850,1,    0.000,2,   170.15,2,     0.18,    40.49,2,     0.05,     0.00,2,     0.01,     2.85,2,     0.01,  -999.00,9,  -999.00, -999.000,9, -999.000,9, -999.000,9, -999.000,9,   2370.1,2,   2418.4,2,   -999.0,9,   7.4587,       25,2, -999.000,9,    42.81,2, -999.000,9, -999.000,   -999.0,9,   -999.0, -999.000,9, -999.000, -999.000,9, -999.000,   -999.0,9,   -999.0, -999.000,9, -999.000,9, -999.000,9
  49NZ20140717,   P01,   107,  1,     14, X12J14,2,20140809,0045, 46.9954,-168.2088, 5395,   2730.1,2,   1.6517,2,   1.65160,2,  34.6416,2,  34.6417,2,-999.0000,9,    98.59,2,    98.72,2,   99.977,   0.0009,2,    0.008,2,  -999.00,9,    2.817,1,    0.000,2,   168.89,2,     0.18,    39.85,2,     0.05,     0.00,2,     0.01,     2.80,2,     0.01,  -999.00,9,  -999.00, -999.000,9, -999.000,9, -999.000,9, -999.000,9,   2362.2,2,   2419.1,2,   -999.0,9,   7.4802,       25,6, -999.000,9,    37.83,2, -999.000,9, -999.000,   -999.0,9,   -999.0, -999.000,9, -999.000, -999.000,9, -999.000,   -999.0,9,   -999.0, -999.000,9, -999.000,9, -999.000,9
  49NZ20140717,   P01,   107,  1,     13, X12113,2,20140809,0045, 46.9954,-168.2088, 5395,   2930.3,2,   1.6040,2,   1.60402,2,  34.6510,2,  34.6513,2,-999.0000,9,   107.75,2,   107.83,2,   99.984,   0.0006,2,    0.007,2,  -999.00,9,    2.742,1,    0.000,2,   166.71,2,     0.18,    39.09,2,     0.05,     0.00,2,     0.01,     2.74,2,     0.01,  -999.00,9,  -999.00, -999.000,9, -999.000,9, -999.000,9, -999.000,9,   2356.3,2,   2419.7,2,   2422.7,2,   7.4978,       25,2,   10.324,2,    38.57,2, -999.000,9, -999.000,   -999.0,9,   -999.0, -999.000,9, -999.000, -999.000,9, -999.000,   -999.0,9,   -999.0, -999.000,9, -999.000,9, -999.000,9
  49NZ20140717,   P01,   107,  1,     12, X12J12,2,20140809,0045, 46.9954,-168.2088, 5395,   3170.7,2,   1.5557,2,   1.55576,2,  34.6604,2,  34.6603,2,-999.0000,9,   118.36,2,   118.32,2,   99.975,   0.0010,2,    0.007,2,  -999.00,9,    2.672,1,    0.000,2,   164.39,2,     0.18,    38.46,2,     0.05,     0.00,2,     0.01,     2.70,2,     0.01,  -999.00,9,  -999.00, -999.000,9, -999.000,9, -999.000,9, -999.000,9,   2351.0,2,   2420.3,6,   -999.0,9,   7.5181,       25,2, -999.000,9,    39.44,2, -999.000,9, -999.000,   -999.0,9,   -999.0, -999.000,9, -999.000, -999.000,9, -999.000,   -999.0,9,   -999.0, -999.000,9, -999.000,9, -999.000,9
  49NZ20140717,   P01,   107,  1,     11, X12J11,2,20140809,0045, 46.9954,-168.2088, 5395,   3419.4,2,   1.5145,2,   1.51462,2,  34.6686,2,  34.6684,2,-999.0000,9,   128.34,2,   128.45,2,   99.988,   0.0005,2,    0.006,2,  -999.00,9,    2.622,1,    0.000,2,   162.09,2,     0.18,    37.80,2,     0.05,     0.00,2,     0.01,     2.64,2,     0.01,  -999.00,9,  -999.00, -999.000,9, -999.000,9, -999.000,9, -999.000,9,   2342.1,2,   2420.9,2,   -999.0,9,   7.5357,       25,2, -999.000,9,    39.44,2, -999.000,9, -999.000,   -999.0,9,   -999.0, -999.000,9, -999.000, -999.000,9, -999.000,   -999.0,9,   -999.0, -999.000,9, -999.000,9, -999.000,9
  49NZ20140717,   P01,   107,  1,     10, X12J10,2,20140809,0045, 46.9954,-168.2088, 5395,   3669.7,2,   1.4876,2,   1.48772,2,  34.6749,2,  34.6751,2,-999.0000,9,   136.25,2,   136.21,2,   99.988,   0.0005,2,    0.005,2,  -999.00,9,    2.713,1,    0.000,2,   160.71,2,     0.17,    37.26,2,     0.05,     0.00,2,     0.01,     2.60,2,     0.01,  -999.00,9,  -999.00, -999.000,9, -999.000,9, -999.000,9, -999.000,9,   2338.0,2,   2421.2,2,   -999.0,9,   7.5499,       25,2, -999.000,9,    40.21,2, -999.000,9, -999.000,   -999.0,9,   -999.0, -999.000,9, -999.000, -999.000,9, -999.000,   -999.0,9,   -999.0, -999.000,9, -999.000,9, -999.000,9