BOTTLE,20230904JAMSTECRIGC
EXPOCODE,SECT,STNNBR,CASTNO,SAMPNO,BTLNBR,BTLNBR_FLAG_W,DATE,TIME,LATITUDE,LONGITUDE,DEPTH,CTDPRS,CTDPRS_FLAG_W,CTDTMP,CTDTMP_FLAG_W,SBE35,SBE35_FLAG_W,CTDSAL,CTDSAL_FLAG_W,SALNTY,SALNTY_FLAG_W,DNSSAL,DNSSAL_FLAG_W,CTDOXY,CTDOXY_FLAG_W,OXYGEN,OXYGEN_FLAG_W,XMISS,XMISSCP,XMISS_FLAG_W,FLUOR,FLUOR_FLAG_W,CHLORA,CHLORA_FLAG_W,CDOM,CDOM_FLAG_W,PAR,PAR_FLAG_W,SILCAT,SILCAT_FLAG_W,SILUNC,NITRAT,NITRAT_FLAG_W,NRAUNC,NITRIT,NITRIT_FLAG_W,NRIUNC,PHSPHT,PHSPHT_FLAG_W,PHPUNC,AMMONIA,AMMONIA_FLAG_W,NH4UNC,CFC-11,CFC-11_FLAG_W,CFC-12,CFC-12_FLAG_W,CFC113,CFC113_FLAG_W,SF6,SF6_FLAG_W,TCARBN,TCARBN_FLAG_W,ALKALI,ALKALI_FLAG_W,ALKALI_POT,ALKALI_POT_FLAG_W,PH_TOT,PH_TMP,PH_TOT_FLAG_W,CALCIUM,CALCIUM_FLAG_W,DOC,DOC_FLAG_W,DELC13,DELC13_FLAG_W,C13ERR,DELC14,DELC14_FLAG_W,C14ERR,CS-134,CS-134_FLAG_W,CS134ER,CS-137,CS-137_FLAG_W,CS137ER,I-129,I-129_FLAG_W,I-129ER,CDOM-325,CDOM-325_FLAG_W,CDOM-370,CDOM-370_FLAG_W,CDOM-443,CDOM-443_FLAG_W
,,,,,,,,UTC,DEG,DEG,METERS,DBAR,,ITS-90,,ITS-90,,PSS-78,,PSS-78,,G/KG,,UMOL/KG,,UMOL/KG,,%TRANS,/METER,,MG/CUM,,MG/CUM,,MG/CUM,,UE/SQM/S,,UMOL/KG,,UMOL/KG,UMOL/KG,,UMOL/KG,UMOL/KG,,UMOL/KG,UMOL/KG,,UMOL/KG,UMOL/KG,,UMOL/KG,PMOL/KG,,PMOL/KG,,PMOL/KG,,FMOL/KG,,UMOL/KG,,UMOL/KG,,UMOL/KG,,,DEG C,,MMOL/KG,,UMOL/KG,,/MILLE,,/MILLE,/MILLE,,/MILLE,MBQ/KG,,MBQ/KG,MBQ/KG,,MBQ/KG,,,,/METER,,/METER,,/METER,
  49NZ20140717,   P01,    84,  1,      0,   -999,9,20140731,2229, 47.0030, 169.1830, 2687,   -999.0,9,-999.0000,9,-999.00000,9,-999.0000,9,  32.7916,2,-999.0000,9,  -999.00,9,  -999.00,9, -999.000,-999.0000,9, -999.000,9,  -999.00,9, -999.000,9, -999.000,9,    26.97,2,     0.09,    11.93,2,     0.02,     0.13,2,     0.01,     1.25,2,     0.01,  -999.00,9,  -999.00, -999.000,9, -999.000,9, -999.000,9, -999.000,9,   -999.0,9,   -999.0,9,   -999.0,9,-999.0000,     -999,9, -999.000,9,  -999.00,9, -999.000,9, -999.000,   -999.0,9,   -999.0, -999.000,9, -999.000, -999.000,9, -999.000,   -999.0,9,   -999.0, -999.000,9, -999.000,9, -999.000,9
  49NZ20140717,   P01,    84,  1,     36, X12J36,2,20140731,2229, 47.0030, 169.1830, 2687,     10.3,2,  12.2543,2,  12.24760,2,  32.7915,2,  32.7921,2,-999.0000,9,   273.74,2,   277.34,2,   95.752,   0.1736,2,    0.308,2,  -999.00,9,    0.162,1,  154.984,2,    26.97,2,     0.09,    11.93,2,     0.02,     0.13,2,     0.01,     1.24,2,     0.01,  -999.00,9,  -999.00,    3.332,2,    1.956,2,    0.311,2,    2.320,2,   -999.0,9,   -999.0,9,   -999.0,9,-999.0000,     -999,9, -999.000,9,  -999.00,9, -999.000,9, -999.000,   -999.0,9,   -999.0, -999.000,9, -999.000, -999.000,9, -999.000,   -999.0,9,   -999.0, -999.000,9, -999.000,9, -999.000,9
  49NZ20140717,   P01,    84,  1,     35, X12J35,2,20140731,2229, 47.0030, 169.1830, 2687,     50.2,2,   3.1851,2,   3.18565,2,  32.8632,2,  32.8688,2,-999.0000,9,   326.44,2,   327.91,2,   97.655,   0.0949,2,    0.438,2,  -999.00,9,    0.827,1,    2.951,2,    31.59,2,     0.10,    19.52,2,     0.03,     0.30,2,     0.01,     1.72,2,     0.01,  -999.00,9,  -999.00,    5.174,2,    2.930,2,    0.489,2,    3.250,2,   -999.0,9,   -999.0,9,   -999.0,9,-999.0000,     -999,9, -999.000,9,  -999.00,9, -999.000,9, -999.000,   -999.0,9,   -999.0, -999.000,9, -999.000, -999.000,9, -999.000,   -999.0,9,   -999.0, -999.000,9, -999.000,9, -999.000,9
  49NZ20140717,   P01,    84,  1,     34, X12J34,2,20140731,2229, 47.0030, 169.1830, 2687,    100.2,2,   2.2744,2,   2.27655,2,  33.0479,2,  33.0806,2,-999.0000,9,   290.83,2,   282.49,2,   99.553,   0.0179,2,    0.038,2,  -999.00,9,    1.241,1,    0.111,2,    44.84,2,     0.10,    26.45,2,     0.04,     0.01,2,     0.01,     2.06,2,     0.01,  -999.00,9,  -999.00,    4.876,2,    2.738,2,    0.439,2,    2.910,2,   -999.0,9,   -999.0,9,   -999.0,9,-999.0000,     -999,9, -999.000,9,  -999.00,9, -999.000,9, -999.000,   -999.0,9,   -999.0, -999.000,9, -999.000, -999.000,9, -999.000,   -999.0,9,   -999.0, -999.000,9, -999.000,9, -999.000,9
  49NZ20140717,   P01,    84,  1,     33, X12J33,2,20140731,2229, 47.0030, 169.1830, 2687,    150.1,2,   3.3553,2,   3.35610,2,  33.6720,2,  33.6751,2,-999.0000,9,    94.78,2,    94.44,2,   99.507,   0.0198,2,    0.027,2,  -999.00,9,    2.517,1,    0.000,2,    82.44,2,     0.13,    40.73,2,     0.05,     0.01,2,     0.01,     2.92,2,     0.01,  -999.00,9,  -999.00,    2.986,2,    1.603,2,    0.219,2,    1.260,2,   -999.0,9,   -999.0,9,   -999.0,9,-999.0000,     -999,9, -999.000,9,  -999.00,9, -999.000,9, -999.000,   -999.0,9,   -999.0, -999.000,9, -999.000, -999.000,9, -999.000,   -999.0,9,   -999.0, -999.000,9, -999.000,9, -999.000,9
  49NZ20140717,   P01,    84,  1,     32, X12J32,2,20140731,2229, 47.0030, 169.1830, 2687,    200.1,2,   3.6193,2,   3.61914,2,  33.8392,2,  33.8393,2,-999.0000,9,    43.29,2,    43.88,2,   99.724,   0.0111,2,    0.015,2,  -999.00,9,    2.784,1,    0.000,2,    93.64,2,     0.13,    44.10,2,     0.06,     0.01,2,     0.01,     3.12,2,     0.01,  -999.00,9,  -999.00,    2.343,2,    1.225,2,    0.161,2,    0.790,2,   -999.0,9,   -999.0,9,   -999.0,9,-999.0000,     -999,9, -999.000,9,  -999.00,9, -999.000,9, -999.000,   -999.0,9,   -999.0, -999.000,9, -999.000, -999.000,9, -999.000,   -999.0,9,   -999.0, -999.000,9, -999.000,9, -999.000,9
  49NZ20140717,   P01,    84,  1,     31, X12J31,2,20140731,2229, 47.0030, 169.1830, 2687,    249.5,2,   3.6410,2,   3.64089,2,  33.9070,2,  33.9098,2,-999.0000,9,    29.29,2,    29.30,2,   99.732,   0.0107,2,    0.015,2,  -999.00,9,    2.846,1,    0.000,2,    99.23,2,     0.14,    44.86,2,     0.06,     0.01,2,     0.01,     3.16,2,     0.01,  -999.00,9,  -999.00,    2.023,2,    1.046,2,    0.138,2,    0.620,2,   -999.0,9,   -999.0,9,   -999.0,9,-999.0000,     -999,9, -999.000,9,  -999.00,9, -999.000,9, -999.000,   -999.0,9,   -999.0, -999.000,9, -999.000, -999.000,9, -999.000,   -999.0,9,   -999.0, -999.000,9, -999.000,9, -999.000,9
  49NZ20140717,   P01,    84,  1,     30, X12J30,2,20140731,2229, 47.0030, 169.1830, 2687,    300.1,2,   3.6730,2,   3.67230,2,  33.9953,2,  33.9929,2,-999.0000,9,    19.30,2,    19.78,2,   99.775,   0.0090,2,    0.015,2,  -999.00,9,    2.952,1,    0.000,2,   105.70,2,     0.14,    45.16,2,     0.06,     0.01,2,     0.01,     3.20,2,     0.01,  -999.00,9,  -999.00,    1.619,2,    0.833,2,    0.109,2,    0.440,2,   -999.0,9,   -999.0,9,   -999.0,9,-999.0000,     -999,9, -999.000,9,  -999.00,9, -999.000,9, -999.000,   -999.0,9,   -999.0, -999.000,9, -999.000, -999.000,9, -999.000,   -999.0,9,   -999.0, -999.000,9, -999.000,9, -999.000,9
  49NZ20140717,   P01,    84,  1,     29, X12J29,2,20140731,2229, 47.0030, 169.1830, 2687,    399.9,2,   3.5808,2,   3.58060,2,  34.1068,2,  34.1073,2,-999.0000,9,    16.94,2,    16.78,2,   99.884,   0.0047,2,    0.015,2,  -999.00,9,    2.955,1,    0.000,2,   116.27,2,     0.15,    44.60,2,     0.06,     0.01,2,     0.01,     3.16,2,     0.01,  -999.00,9,  -999.00,    1.034,2,    0.531,2,    0.066,2,    0.270,2,   -999.0,9,   -999.0,9,   -999.0,9,-999.0000,     -999,9, -999.000,9,  -999.00,9, -999.000,9, -999.000,   -999.0,9,   -999.0, -999.000,9, -999.000, -999.000,9, -999.000,   -999.0,9,   -999.0, -999.000,9, -999.000,9, -999.000,9
  49NZ20140717,   P01,    84,  1,     28, X12J28,2,20140731,2229, 47.0030, 169.1830, 2687,    500.6,2,   3.3517,2,   3.35156,2,  34.1934,2,  34.1928,2,-999.0000,9,    17.36,2,    17.21,2,   99.910,   0.0036,2,    0.014,2,  -999.00,9,    3.041,1,    0.000,2,   126.45,2,     0.15,    44.29,2,     0.06,     0.01,2,     0.01,     3.14,2,     0.01,  -999.00,9,  -999.00,    0.702,2,    0.374,2,    0.043,2,    0.190,2,   -999.0,9,   -999.0,9,   -999.0,9,-999.0000,     -999,9, -999.000,9,  -999.00,9, -999.000,9, -999.000,   -999.0,9,   -999.0, -999.000,9, -999.000, -999.000,9, -999.000,   -999.0,9,   -999.0, -999.000,9, -999.000,9, -999.000,9
  49NZ20140717,   P01,    84,  1,     27, X12J27,2,20140731,2229, 47.0030, 169.1830, 2687,    599.4,2,   3.2151,2,   3.21616,2,  34.2601,2,  34.2599,2,-999.0000,9,    14.82,2,    14.67,2,   99.881,   0.0047,2,    0.014,2,  -999.00,9,    3.097,1,    0.000,2,   134.08,2,     0.16,    44.44,2,     0.06,     0.01,2,     0.01,     3.16,2,     0.01,  -999.00,9,  -999.00,    0.442,2,    0.244,2,    0.025,2,    0.090,2,   -999.0,9,   -999.0,9,   -999.0,9,-999.0000,     -999,9, -999.000,9,  -999.00,9, -999.000,9, -999.000,   -999.0,9,   -999.0, -999.000,9, -999.000, -999.000,9, -999.000,   -999.0,9,   -999.0, -999.000,9, -999.000,9, -999.000,9
  49NZ20140717,   P01,    84,  1,     26, X12J26,2,20140731,2229, 47.0030, 169.1830, 2687,    700.2,2,   3.0491,2,   3.04712,2,  34.3097,2,  34.3108,2,-999.0000,9,    16.90,2,    16.63,2,   99.901,   0.0040,2,    0.013,2,  -999.00,9,    3.063,1,    0.000,2,   140.29,2,     0.16,    44.28,2,     0.06,     0.00,2,     0.01,     3.16,2,     0.01,  -999.00,9,  -999.00,    0.311,2,    0.176,2,    0.018,2,    0.090,2,   -999.0,9,   -999.0,9,   -999.0,9,-999.0000,     -999,9, -999.000,9,  -999.00,9, -999.000,9, -999.000,   -999.0,9,   -999.0, -999.000,9, -999.000, -999.000,9, -999.000,   -999.0,9,   -999.0, -999.000,9, -999.000,9, -999.000,9
  49NZ20140717,   P01,    84,  1,     25, X12J25,2,20140731,2229, 47.0030, 169.1830, 2687,    800.2,2,   2.9105,2,   2.91008,2,  34.3503,2,  34.3507,2,-999.0000,9,    16.87,2,    16.57,2,   99.914,   0.0034,2,    0.013,2,  -999.00,9,    3.123,1,    0.000,2,   145.09,2,     0.16,    44.24,2,     0.06,     0.00,2,     0.01,     3.15,2,     0.01,  -999.00,9,  -999.00,    0.216,2,    0.125,2,    0.010,2,    0.060,2,   -999.0,9,   -999.0,9,   -999.0,9,-999.0000,     -999,9, -999.000,9,  -999.00,9, -999.000,9, -999.000,   -999.0,9,   -999.0, -999.000,9, -999.000, -999.000,9, -999.000,   -999.0,9,   -999.0, -999.000,9, -999.000,9, -999.000,9
  49NZ20140717,   P01,    84,  1,     24, X12J24,2,20140731,2229, 47.0030, 169.1830, 2687,    899.8,2,   2.7358,2,   2.73562,2,  34.3908,2,  34.3909,2,-999.0000,9,    20.13,2,    20.01,2,   99.877,   0.0049,2,    0.011,2,  -999.00,9,    3.089,1,    0.000,2,   150.52,2,     0.17,    44.05,2,     0.06,     0.00,2,     0.01,     3.14,2,     0.01,  -999.00,9,  -999.00,    0.166,2,    0.097,2,    0.008,2,    0.050,2,   -999.0,9,   -999.0,9,   -999.0,9,-999.0000,     -999,9, -999.000,9,  -999.00,9, -999.000,9, -999.000,   -999.0,9,   -999.0, -999.000,9, -999.000, -999.000,9, -999.000,   -999.0,9,   -999.0, -999.000,9, -999.000,9, -999.000,9
  49NZ20140717,   P01,    84,  1,     23, X12J23,2,20140731,2229, 47.0030, 169.1830, 2687,   1000.1,2,   2.5925,2,   2.59245,2,  34.4278,2,  34.4284,2,-999.0000,9,    21.32,2,    21.17,2,   99.901,   0.0040,2,    0.011,2,  -999.00,9,    3.086,1,    0.000,2,   155.56,2,     0.17,    44.07,2,     0.06,     0.01,2,     0.01,     3.13,2,     0.01,  -999.00,9,  -999.00,    0.103,2,    0.062,2,    0.005,2,    0.000,2,   -999.0,9,   -999.0,9,   -999.0,9,-999.0000,     -999,9, -999.000,9,  -999.00,9, -999.000,9, -999.000,   -999.0,9,   -999.0, -999.000,9, -999.000, -999.000,9, -999.000,   -999.0,9,   -999.0, -999.000,9, -999.000,9, -999.000,9
  49NZ20140717,   P01,    84,  1,     22, X12J22,2,20140731,2229, 47.0030, 169.1830, 2687,   1200.6,2,   2.3308,2,   2.33043,2,  34.4854,2,  34.4863,2,-999.0000,9,    31.61,2,    31.87,2,   99.933,   0.0027,2,    0.009,2,  -999.00,9,    3.153,1,    0.000,2,   162.69,2,     0.18,    43.47,2,     0.05,     0.00,2,     0.01,     3.09,2,     0.01,  -999.00,9,  -999.00,    0.066,2,    0.040,2,    0.003,2,    0.000,2,   -999.0,9,   -999.0,9,   -999.0,9,-999.0000,     -999,9, -999.000,9,  -999.00,9, -999.000,9, -999.000,   -999.0,9,   -999.0, -999.000,9, -999.000, -999.000,9, -999.000,   -999.0,9,   -999.0, -999.000,9, -999.000,9, -999.000,9
  49NZ20140717,   P01,    84,  1,     21, X12J21,2,20140731,2229, 47.0030, 169.1830, 2687,   1399.7,2,   2.1829,2,   2.18279,2,  34.5225,2,  34.5230,2,-999.0000,9,    41.49,2,    41.98,2,   99.905,   0.0038,2,    0.008,2,  -999.00,9,    2.982,1,    0.000,2,   165.50,2,     0.18,    42.87,2,     0.05,     0.00,2,     0.01,     3.04,2,     0.01,  -999.00,9,  -999.00,    0.043,2,    0.025,2,    0.002,2,    0.020,2,   -999.0,9,   -999.0,9,   -999.0,9,-999.0000,     -999,9, -999.000,9,  -999.00,9, -999.000,9, -999.000,   -999.0,9,   -999.0, -999.000,9, -999.000, -999.000,9, -999.000,   -999.0,9,   -999.0, -999.000,9, -999.000,9, -999.000,9
  49NZ20140717,   P01,    84,  1,     20, X12J20,2,20140731,2229, 47.0030, 169.1830, 2687,   1600.2,2,   2.0217,2,   2.02174,2,  34.5634,2,  34.5640,2,-999.0000,9,    56.60,2,    57.06,2,   99.942,   0.0023,2,    0.007,2,  -999.00,9,    2.958,1,    0.000,2,   166.56,2,     0.18,    42.03,2,     0.05,     0.01,2,     0.01,     2.98,2,     0.01,  -999.00,9,  -999.00,    0.019,2,    0.011,2,    0.002,2,    0.060,2,   -999.0,9,   -999.0,9,   -999.0,9,-999.0000,     -999,9, -999.000,9,  -999.00,9, -999.000,9, -999.000,   -999.0,9,   -999.0, -999.000,9, -999.000, -999.000,9, -999.000,   -999.0,9,   -999.0, -999.000,9, -999.000,9, -999.000,9
  49NZ20140717,   P01,    84,  1,     19, X12J19,2,20140731,2229, 47.0030, 169.1830, 2687,   1798.1,2,   1.8977,2,   1.89759,2,  34.5913,2,  34.5919,2,-999.0000,9,    69.39,2,    70.17,2,   99.925,   0.0030,2,    0.006,2,  -999.00,9,    2.845,1,    0.000,2,   166.53,2,     0.18,    41.24,2,     0.05,     0.00,2,     0.01,     2.92,2,     0.01,  -999.00,9,  -999.00,    0.008,2,    0.004,2,    0.001,2,    0.040,2,   -999.0,9,   -999.0,9,   -999.0,9,-999.0000,     -999,9, -999.000,9,  -999.00,9, -999.000,9, -999.000,   -999.0,9,   -999.0, -999.000,9, -999.000, -999.000,9, -999.000,   -999.0,9,   -999.0, -999.000,9, -999.000,9, -999.000,9
  49NZ20140717,   P01,    84,  1,     18, X12J18,2,20140731,2229, 47.0030, 169.1830, 2687,   1998.6,2,   1.8112,2,   1.81090,2,  34.6076,2,  34.6086,2,-999.0000,9,    78.44,2,    79.28,2,   99.933,   0.0027,2,    0.006,2,  -999.00,9,    2.822,1,    0.000,2,   167.06,2,     0.18,    40.70,2,     0.05,     0.00,2,     0.01,     2.87,2,     0.01,  -999.00,9,  -999.00,    0.003,2,    0.002,2,    0.000,2,    0.080,2,   -999.0,9,   -999.0,9,   -999.0,9,-999.0000,     -999,9, -999.000,9,  -999.00,9, -999.000,9, -999.000,   -999.0,9,   -999.0, -999.000,9, -999.000, -999.000,9, -999.000,   -999.0,9,   -999.0, -999.000,9, -999.000,9, -999.000,9
  49NZ20140717,   P01,    84,  1,     17, X12J17,2,20140731,2229, 47.0030, 169.1830, 2687,   2201.4,2,   1.7024,2,   1.70233,2,  34.6270,2,  34.6276,2,-999.0000,9,    91.86,2,    92.60,2,   99.929,   0.0028,2,    0.005,2,  -999.00,9,    2.746,1,    0.000,2,   166.57,2,     0.18,    39.88,2,     0.05,     0.00,2,     0.01,     2.81,2,     0.01,  -999.00,9,  -999.00,    0.002,2,    0.001,2,    0.001,2,    0.040,2,   -999.0,9,   -999.0,9,   -999.0,9,-999.0000,     -999,9, -999.000,9,  -999.00,9, -999.000,9, -999.000,   -999.0,9,   -999.0, -999.000,9, -999.000, -999.000,9, -999.000,   -999.0,9,   -999.0, -999.000,9, -999.000,9, -999.000,9
  49NZ20140717,   P01,    84,  1,     16, X12J16,2,20140731,2229, 47.0030, 169.1830, 2687,   2401.8,2,   1.6273,2,   1.62734,2,  34.6410,2,  34.6413,2,-999.0000,9,   103.35,2,   104.09,2,   99.910,   0.0036,2,    0.004,2,  -999.00,9,    2.632,1,    0.000,2,   164.77,2,     0.18,    39.14,2,     0.05,     0.00,2,     0.01,     2.76,2,     0.01,  -999.00,9,  -999.00,    0.000,2,    0.000,2,    0.000,2,    0.000,2,   -999.0,9,   -999.0,9,   -999.0,9,-999.0000,     -999,9, -999.000,9,  -999.00,9, -999.000,9, -999.000,   -999.0,9,   -999.0, -999.000,9, -999.000, -999.000,9, -999.000,   -999.0,9,   -999.0, -999.000,9, -999.000,9, -999.000,9
  49NZ20140717,   P01,    84,  1,     15, X12J15,2,20140731,2229, 47.0030, 169.1830, 2687,   2599.6,2,   1.6005,2,   1.60028,2,  34.6472,2,  34.6481,2,-999.0000,9,   109.34,2,   110.23,2,   99.905,   0.0038,2,    0.004,2,  -999.00,9,    2.688,1,    0.000,2,   163.45,2,     0.18,    38.69,2,     0.05,     0.01,2,     0.01,     2.72,2,     0.01,  -999.00,9,  -999.00,    0.000,2,    0.001,2,    0.000,2,    0.000,2,   -999.0,9,   -999.0,9,   -999.0,9,-999.0000,     -999,9, -999.000,9,  -999.00,9, -999.000,9, -999.000,   -999.0,9,   -999.0, -999.000,9, -999.000, -999.000,9, -999.000,   -999.0,9,   -999.0, -999.000,9, -999.000,9, -999.000,9
  49NZ20140717,   P01,    84,  1,     14, X12J14,9,20140731,2229, 47.0030, 169.1830, 2687,   -999.0,9,-999.0000,9,-999.00000,9,-999.0000,9,-999.0000,9,-999.0000,9,  -999.00,9,  -999.00,9, -999.000,-999.0000,9, -999.000,9,  -999.00,9, -999.000,9, -999.000,9,  -999.00,9,  -999.00,  -999.00,9,  -999.00,  -999.00,9,  -999.00,  -999.00,9,  -999.00,  -999.00,9,  -999.00, -999.000,9, -999.000,9, -999.000,9, -999.000,9,   -999.0,9,   -999.0,9,   -999.0,9,-999.0000,     -999,9, -999.000,9,  -999.00,9, -999.000,9, -999.000,   -999.0,9,   -999.0, -999.000,9, -999.000, -999.000,9, -999.000,   -999.0,9,   -999.0, -999.000,9, -999.000,9, -999.000,9
  49NZ20140717,   P01,    84,  1,     13, X12113,9,20140731,2229, 47.0030, 169.1830, 2687,   -999.0,9,-999.0000,9,-999.00000,9,-999.0000,9,-999.0000,9,-999.0000,9,  -999.00,9,  -999.00,9, -999.000,-999.0000,9, -999.000,9,  -999.00,9, -999.000,9, -999.000,9,  -999.00,9,  -999.00,  -999.00,9,  -999.00,  -999.00,9,  -999.00,  -999.00,9,  -999.00,  -999.00,9,  -999.00, -999.000,9, -999.000,9, -999.000,9, -999.000,9,   -999.0,9,   -999.0,9,   -999.0,9,-999.0000,     -999,9, -999.000,9,  -999.00,9, -999.000,9, -999.000,   -999.0,9,   -999.0, -999.000,9, -999.000, -999.000,9, -999.000,   -999.0,9,   -999.0, -999.000,9, -999.000,9, -999.000,9
  49NZ20140717,   P01,    84,  1,     12, X12J12,9,20140731,2229, 47.0030, 169.1830, 2687,   -999.0,9,-999.0000,9,-999.00000,9,-999.0000,9,-999.0000,9,-999.0000,9,  -999.00,9,  -999.00,9, -999.000,-999.0000,9, -999.000,9,  -999.00,9, -999.000,9, -999.000,9,  -999.00,9,  -999.00,  -999.00,9,  -999.00,  -999.00,9,  -999.00,  -999.00,9,  -999.00,  -999.00,9,  -999.00, -999.000,9, -999.000,9, -999.000,9, -999.000,9,   -999.0,9,   -999.0,9,   -999.0,9,-999.0000,     -999,9, -999.000,9,  -999.00,9, -999.000,9, -999.000,   -999.0,9,   -999.0, -999.000,9, -999.000, -999.000,9, -999.000,   -999.0,9,   -999.0, -999.000,9, -999.000,9, -999.000,9
  49NZ20140717,   P01,    84,  1,     11, X12J11,9,20140731,2229, 47.0030, 169.1830, 2687,   -999.0,9,-999.0000,9,-999.00000,9,-999.0000,9,-999.0000,9,-999.0000,9,  -999.00,9,  -999.00,9, -999.000,-999.0000,9, -999.000,9,  -999.00,9, -999.000,9, -999.000,9,  -999.00,9,  -999.00,  -999.00,9,  -999.00,  -999.00,9,  -999.00,  -999.00,9,  -999.00,  -999.00,9,  -999.00, -999.000,9, -999.000,9, -999.000,9, -999.000,9,   -999.0,9,   -999.0,9,   -999.0,9,-999.0000,     -999,9, -999.000,9,  -999.00,9, -999.000,9, -999.000,   -999.0,9,   -999.0, -999.000,9, -999.000, -999.000,9, -999.000,   -999.0,9,   -999.0, -999.000,9, -999.000,9, -999.000,9
  49NZ20140717,   P01,    84,  1,     10, X12J10,9,20140731,2229, 47.0030, 169.1830, 2687,   -999.0,9,-999.0000,9,-999.00000,9,-999.0000,9,-999.0000,9,-999.0000,9,  -999.00,9,  -999.00,9, -999.000,-999.0000,9, -999.000,9,  -999.00,9, -999.000,9, -999.000,9,  -999.00,9,  -999.00,  -999.00,9,  -999.00,  -999.00,9,  -999.00,  -999.00,9,  -999.00,  -999.00,9,  -999.00, -999.000,9, -999.000,9, -999.000,9, -999.000,9,   -999.0,9,   -999.0,9,   -999.0,9,-999.0000,     -999,9, -999.000,9,  -999.00,9, -999.000,9, -999.000,   -999.0,9,   -999.0, -999.000,9, -999.000, -999.000,9, -999.000,   -999.0,9,   -999.0, -999.000,9, -999.000,9, -999.000,9