BOTTLE,20230904JAMSTECRIGC
EXPOCODE,SECT,STNNBR,CASTNO,SAMPNO,BTLNBR,BTLNBR_FLAG_W,DATE,TIME,LATITUDE,LONGITUDE,DEPTH,CTDPRS,CTDPRS_FLAG_W,CTDTMP,CTDTMP_FLAG_W,SBE35,SBE35_FLAG_W,CTDSAL,CTDSAL_FLAG_W,SALNTY,SALNTY_FLAG_W,DNSSAL,DNSSAL_FLAG_W,CTDOXY,CTDOXY_FLAG_W,OXYGEN,OXYGEN_FLAG_W,XMISS,XMISSCP,XMISS_FLAG_W,FLUOR,FLUOR_FLAG_W,CHLORA,CHLORA_FLAG_W,CDOM,CDOM_FLAG_W,PAR,PAR_FLAG_W,SILCAT,SILCAT_FLAG_W,SILUNC,NITRAT,NITRAT_FLAG_W,NRAUNC,NITRIT,NITRIT_FLAG_W,NRIUNC,PHSPHT,PHSPHT_FLAG_W,PHPUNC,AMMONIA,AMMONIA_FLAG_W,NH4UNC,CFC-11,CFC-11_FLAG_W,CFC-12,CFC-12_FLAG_W,CFC113,CFC113_FLAG_W,SF6,SF6_FLAG_W,TCARBN,TCARBN_FLAG_W,ALKALI,ALKALI_FLAG_W,ALKALI_POT,ALKALI_POT_FLAG_W,PH_TOT,PH_TMP,PH_TOT_FLAG_W,CALCIUM,CALCIUM_FLAG_W,DOC,DOC_FLAG_W,DELC13,DELC13_FLAG_W,C13ERR,DELC14,DELC14_FLAG_W,C14ERR,CS-134,CS-134_FLAG_W,CS134ER,CS-137,CS-137_FLAG_W,CS137ER,I-129,I-129_FLAG_W,I-129ER,CDOM-325,CDOM-325_FLAG_W,CDOM-370,CDOM-370_FLAG_W,CDOM-443,CDOM-443_FLAG_W
,,,,,,,,UTC,DEG,DEG,METERS,DBAR,,ITS-90,,ITS-90,,PSS-78,,PSS-78,,G/KG,,UMOL/KG,,UMOL/KG,,%TRANS,/METER,,MG/CUM,,MG/CUM,,MG/CUM,,UE/SQM/S,,UMOL/KG,,UMOL/KG,UMOL/KG,,UMOL/KG,UMOL/KG,,UMOL/KG,UMOL/KG,,UMOL/KG,UMOL/KG,,UMOL/KG,PMOL/KG,,PMOL/KG,,PMOL/KG,,FMOL/KG,,UMOL/KG,,UMOL/KG,,UMOL/KG,,,DEG C,,MMOL/KG,,UMOL/KG,,/MILLE,,/MILLE,/MILLE,,/MILLE,MBQ/KG,,MBQ/KG,MBQ/KG,,MBQ/KG,,,,/METER,,/METER,,/METER,
  49NZ20140717,   P01,   143,  1,      0,   -999,9,20140821,1737, 47.0021,-128.6442, 2724,   -999.0,9,-999.0000,9,-999.00000,9,-999.0000,9,  31.9604,2,-999.0000,9,  -999.00,9,  -999.00,9, -999.000,-999.0000,9, -999.000,9,  -999.00,9, -999.000,9, -999.000,9,     1.74,2,     0.11,     0.09,2,     0.02,     0.01,2,     0.01,     0.34,2,     0.01,  -999.00,9,  -999.00, -999.000,9, -999.000,9, -999.000,9, -999.000,9,   -999.0,9,   -999.0,9,   -999.0,9,-999.0000,     -999,9, -999.000,9,  -999.00,9, -999.000,9, -999.000,   -999.0,9,   -999.0, -999.000,9, -999.000, -999.000,9, -999.000,   -999.0,9,   -999.0, -999.000,9, -999.000,9, -999.000,9
  49NZ20140717,   P01,   143,  1,     36, X12J36,2,20140821,1737, 47.0021,-128.6442, 2724,      9.7,2,  18.7837,2,  18.78531,2,  31.9725,2,  31.9725,2,  32.1242,2,   241.95,2,   241.24,2,   98.246,   0.0708,2,    0.051,2,  -999.00,9,   -0.587,1,  212.654,2,     1.74,2,     0.11,     0.03,2,     0.02,     0.00,2,     0.01,     0.33,2,     0.01,  -999.00,9,  -999.00,    2.346,2,    1.443,2,    0.333,2,    1.790,2,   1948.0,2,   2163.0,2,   -999.0,9,   7.9425,       25,6, -999.000,9,    62.71,2, -999.000,9, -999.000,   -999.0,9,   -999.0, -999.000,9, -999.000, -999.000,9, -999.000,   -999.0,9,   -999.0, -999.000,9, -999.000,9, -999.000,9
  49NZ20140717,   P01,   143,  1,     35, X12J35,2,20140821,1737, 47.0021,-128.6442, 2724,     50.2,2,  10.4567,2,  10.45051,2,  32.3322,2,  32.3420,2,  32.4965,2,   291.33,2,   285.83,2,   95.604,   0.1798,2,    0.730,2,  -999.00,9,    0.906,1,    7.216,2,     7.73,2,     0.09,     4.64,2,     0.02,     0.38,2,     0.01,     0.84,2,     0.01,  -999.00,9,  -999.00,    3.519,2,    2.076,2,    0.348,2,    2.390,2,   2001.8,6,   2177.6,2,   -999.0,9,   7.8417,       25,2, -999.000,9,    61.36,2, -999.000,9, -999.000,   -999.0,9,   -999.0, -999.000,9, -999.000, -999.000,9, -999.000,   -999.0,9,   -999.0, -999.000,9, -999.000,9, -999.000,9
  49NZ20140717,   P01,   143,  1,     34, X12J34,2,20140821,1737, 47.0021,-128.6442, 2724,    100.8,2,   7.7413,2,   7.73897,2,  32.7375,2,  32.7377,2,  32.8937,2,   243.50,2,   242.41,2,   99.643,   0.0143,2,    0.072,2,  -999.00,9,    0.914,1,    0.408,2,    19.07,2,     0.09,    16.50,2,     0.03,     0.02,2,     0.01,     1.42,2,     0.01,  -999.00,9,  -999.00,    3.763,2,    2.217,2,    0.307,2,    2.320,2,   2079.2,2,   2194.2,2,   -999.0,9,   7.6834,       25,2, -999.000,9,    52.72,2, -999.000,9, -999.000,   -999.0,9,   -999.0, -999.000,9, -999.000, -999.000,9, -999.000,   -999.0,9,   -999.0, -999.000,9, -999.000,9, -999.000,9
  49NZ20140717,   P01,   143,  1,     33, X12J33,2,20140821,1737, 47.0021,-128.6442, 2724,    150.5,2,   7.7286,2,   7.72806,2,  33.4195,2,  33.4190,2,  33.5805,2,   168.74,2,   168.77,2,   99.764,   0.0094,2,    0.012,2,  -999.00,9,    1.518,1,    0.017,2,    30.39,2,     0.09,    24.63,2,     0.04,     0.02,2,     0.01,     1.88,2,     0.01,  -999.00,9,  -999.00,    3.498,2,    2.031,2,    0.249,2,    1.760,2,   2159.1,2,   2227.7,2,   -999.0,9,   7.5378,       25,6, -999.000,9,    47.94,2, -999.000,9, -999.000,   -999.0,9,   -999.0, -999.000,9, -999.000, -999.000,9, -999.000,   -999.0,9,   -999.0, -999.000,9, -999.000,9, -999.000,9
  49NZ20140717,   P01,   143,  1,     32, X12J32,2,20140821,1737, 47.0021,-128.6442, 2724,    200.0,2,   7.4772,2,   7.47706,2,  33.8257,2,  33.8270,2,  33.9894,2,   122.93,2,   122.02,2,   99.640,   0.0144,2,    0.011,2,  -999.00,9,    1.904,1,    0.000,2,    39.40,2,     0.10,    29.54,2,     0.04,     0.01,2,     0.01,     2.14,2,     0.01,  -999.00,9,  -999.00,    3.200,2,    1.830,2,    0.198,2,    1.320,2,   2207.1,2,   2252.9,6,   -999.0,9,   7.4659,       25,2, -999.000,9,  -999.00,9, -999.000,9, -999.000,   -999.0,9,   -999.0, -999.000,9, -999.000, -999.000,9, -999.000,   -999.0,9,   -999.0, -999.000,9, -999.000,9, -999.000,9
  49NZ20140717,   P01,   143,  1,     31, X12J31,2,20140821,1737, 47.0021,-128.6442, 2724,    249.5,2,   6.8970,2,   6.89491,2,  33.9155,2,  33.9152,2,  34.0804,2,   116.47,2,   117.19,2,   99.660,   0.0136,2,    0.013,2,  -999.00,9,    2.086,1,    0.000,2,    45.74,2,     0.10,    31.03,2,     0.04,     0.01,2,     0.01,     2.21,2,     0.01,  -999.00,9,  -999.00,    3.084,2,    1.712,2,    0.191,2,    1.090,2,   2220.4,2,   2263.9,2,   -999.0,9,   7.4604,       25,2, -999.000,9,    47.45,2, -999.000,9, -999.000,   -999.0,9,   -999.0, -999.000,9, -999.000, -999.000,9, -999.000,   -999.0,9,   -999.0, -999.000,9, -999.000,9, -999.000,9
  49NZ20140717,   P01,   143,  1,     30, X12J30,2,20140821,1737, 47.0021,-128.6442, 2724,    279.2,2,   6.5495,2,   6.54898,2,  33.9374,2,  33.9363,2,  34.1022,2,    98.01,2,    98.48,2,   99.751,   0.0100,2,    0.013,2,  -999.00,9,    2.189,1,    0.000,2,    51.38,2,     0.11,    33.26,2,     0.04,     0.01,2,     0.01,     2.37,2,     0.01,  -999.00,9,  -999.00,    2.859,2,    1.565,2,    0.167,2,    0.880,2,   2238.0,2,   2270.9,2,   -999.0,9,   7.4209,       25,2, -999.000,9,    46.89,2, -999.000,9, -999.000,   -999.0,9,   -999.0, -999.000,9, -999.000, -999.000,9, -999.000,   -999.0,9,   -999.0, -999.000,9, -999.000,9, -999.000,9
  49NZ20140717,   P01,   143,  1,     29, X12J29,2,20140821,1737, 47.0021,-128.6442, 2724,    368.7,2,   5.8321,2,   5.83085,2,  33.9911,2,  33.9921,2,  34.1596,2,    61.63,2,    61.44,2,   99.820,   0.0072,2,    0.013,2,  -999.00,9,    2.618,1,    0.000,2,    64.81,2,     0.12,    37.60,2,     0.05,     0.01,2,     0.01,     2.69,2,     0.01,  -999.00,9,  -999.00,    2.173,2,    1.129,2,    0.118,2,    0.530,2,   2275.1,2,   2284.1,2,   -999.0,9,   7.3509,       25,2, -999.000,9,    45.22,2, -999.000,9, -999.000,   -999.0,9,   -999.0, -999.000,9, -999.000, -999.000,9, -999.000,   -999.0,9,   -999.0, -999.000,9, -999.000,9, -999.000,9
  49NZ20140717,   P01,   143,  1,     28, X12J28,2,20140821,1737, 47.0021,-128.6442, 2724,    469.0,2,   5.2945,2,   5.29396,2,  34.0627,2,  34.0622,2,  34.2308,2,    35.94,2,    36.41,2,   99.818,   0.0073,2,    0.013,2,  -999.00,9,    2.817,1,    0.000,2,    77.87,2,     0.12,    40.40,2,     0.05,     0.01,2,     0.01,     2.92,2,     0.01,  -999.00,9,  -999.00,    1.433,2,    0.728,2,    0.070,2,    0.280,2,   2303.5,2,   2299.0,2,   -999.0,9,   7.3105,       25,2, -999.000,9,    45.85,2, -999.000,9, -999.000,   -999.0,9,   -999.0, -999.000,9, -999.000, -999.000,9, -999.000,   -999.0,9,   -999.0, -999.000,9, -999.000,9, -999.000,9
  49NZ20140717,   P01,   143,  1,     27, X12J27,2,20140821,1737, 47.0021,-128.6442, 2724,    569.4,2,   4.8752,2,   4.87414,2,  34.1362,2,  34.1362,2,  34.3060,2,    20.79,2,    21.08,2,   99.929,   0.0028,2,    0.013,2,  -999.00,9,    2.890,1,    0.000,2,    89.87,2,     0.13,    42.11,2,     0.05,     0.01,2,     0.01,     3.06,2,     0.01,  -999.00,9,  -999.00,    0.820,2,    0.426,2,    0.041,2,    0.150,2,   2325.0,2,   2315.7,2,   -999.0,9,   7.2929,       25,2, -999.000,9,  -999.00,9, -999.000,9, -999.000,   -999.0,9,   -999.0, -999.000,9, -999.000, -999.000,9, -999.000,   -999.0,9,   -999.0, -999.000,9, -999.000,9, -999.000,9
  49NZ20140717,   P01,   143,  1,     26, X12J26,2,20140821,1737, 47.0021,-128.6442, 2724,    668.4,2,   4.4959,2,   4.49536,2,  34.2135,2,  34.2124,2,  34.3851,2,    12.16,2,    12.15,2,   99.877,   0.0049,2,    0.014,2,  -999.00,9,    2.994,1,    0.000,2,   101.28,2,     0.14,    43.10,2,     0.05,     0.01,2,     0.01,     3.16,2,     0.01,  -999.00,9,  -999.00,    0.378,2,    0.212,2,    0.015,2,    0.060,2,   2342.4,6,   2330.9,2,   -999.0,9,   7.2863,       25,2, -999.000,9,    37.10,2, -999.000,9, -999.000,   -999.0,9,   -999.0, -999.000,9, -999.000, -999.000,9, -999.000,   -999.0,9,   -999.0, -999.000,9, -999.000,9, -999.000,9
  49NZ20140717,   P01,   143,  1,     25, X12J25,2,20140821,1737, 47.0021,-128.6442, 2724,    768.6,2,   4.2240,2,   4.22086,2,  34.2792,2,  34.2768,2,  34.4497,2,     8.98,2,     8.51,2,   99.888,   0.0045,2,    0.014,2,  -999.00,9,    2.970,1,    0.000,2,   109.91,2,     0.14,    43.52,2,     0.05,     0.01,2,     0.01,     3.20,2,     0.01,  -999.00,9,  -999.00,    0.167,2,    0.101,2,    0.007,2,    0.070,2,   2353.9,2,   2343.9,2,   -999.0,9,   7.2895,       25,2, -999.000,9,    39.38,2, -999.000,9, -999.000,   -999.0,9,   -999.0, -999.000,9, -999.000, -999.000,9, -999.000,   -999.0,9,   -999.0, -999.000,9, -999.000,9, -999.000,9
  49NZ20140717,   P01,   143,  1,     24, X12J24,2,20140821,1737, 47.0021,-128.6442, 2724,    869.2,2,   3.9535,2,   3.95503,2,  34.3270,2,  34.3269,2,  34.5011,2,     8.37,2,     7.70,2,   99.860,   0.0056,2,    0.013,2,  -999.00,9,    3.144,1,    0.000,2,   118.18,2,     0.15,    43.97,2,     0.06,     0.00,2,     0.01,     3.23,2,     0.01,  -999.00,9,  -999.00,    0.085,2,    0.056,2,    0.003,2,    0.040,2,   2362.6,2,   2354.6,2,   -999.0,9,   7.2943,       25,6, -999.000,9,    36.77,2, -999.000,9, -999.000,   -999.0,9,   -999.0, -999.000,9, -999.000, -999.000,9, -999.000,   -999.0,9,   -999.0, -999.000,9, -999.000,9, -999.000,9
  49NZ20140717,   P01,   143,  1,     23, X12J23,2,20140821,1737, 47.0021,-128.6442, 2724,    970.0,2,   3.6765,2,   3.67596,2,  34.3760,2,  34.3759,2,  34.5513,2,     9.20,2,     8.53,2,   99.894,   0.0042,2,    0.013,2,  -999.00,9,    3.168,1,    0.000,2,   126.33,2,     0.15,    44.22,2,     0.06,     0.00,2,     0.01,     3.24,2,     0.01,  -999.00,9,  -999.00,    0.039,2,    0.027,2,    0.002,2,    0.030,2,   2372.4,2,   2366.0,2,   -999.0,9,   7.3009,       25,2, -999.000,9,    36.56,2, -999.000,9, -999.000,   -999.0,9,   -999.0, -999.000,9, -999.000, -999.000,9, -999.000,   -999.0,9,   -999.0, -999.000,9, -999.000,9, -999.000,9
  49NZ20140717,   P01,   143,  1,     22, X12J22,2,20140821,1737, 47.0021,-128.6442, 2724,   1130.3,2,   3.2231,2,   3.22275,2,  34.4200,2,  34.4200,2,  34.5968,2,    11.62,2,    11.03,2,   99.875,   0.0050,2,    0.012,2,  -999.00,9,    3.253,1,    0.000,2,   139.26,2,     0.16,    44.46,2,     0.06,     0.00,2,     0.01,     3.22,2,     0.01,  -999.00,9,  -999.00,    0.018,2,    0.013,2,    0.001,2,    0.050,2,   2382.6,2,   2376.9,6,   -999.0,9,   7.3066,       25,2, -999.000,9,    39.71,2, -999.000,9, -999.000,   -999.0,9,   -999.0, -999.000,9, -999.000, -999.000,9, -999.000,   -999.0,9,   -999.0, -999.000,9, -999.000,9, -999.000,9
  49NZ20140717,   P01,   143,  1,     21, X12J21,2,20140821,1737, 47.0021,-128.6442, 2724,   1329.6,2,   2.8367,2,   2.83612,2,  34.4627,2,  34.4629,2,  34.6416,2,    16.04,2,    15.63,2,   99.905,   0.0038,2,    0.011,2,  -999.00,9,    3.319,1,    0.000,2,   150.52,2,     0.17,    44.43,2,     0.06,     0.00,2,     0.01,     3.19,2,     0.01,  -999.00,9,  -999.00,    0.008,2,    0.006,2,    0.001,2,    0.000,2,   2390.4,2,   2388.6,2,   -999.0,9,   7.3149,       25,2, -999.000,9,    39.06,2, -999.000,9, -999.000,   -999.0,9,   -999.0, -999.000,9, -999.000, -999.000,9, -999.000,   -999.0,9,   -999.0, -999.000,9, -999.000,9, -999.000,9
  49NZ20140717,   P01,   143,  1,     20, X12J20,2,20140821,1737, 47.0021,-128.6442, 2724,   1528.1,2,   2.4827,2,   2.48248,2,  34.5118,2,  34.5121,2,  34.6910,2,    26.39,2,    26.40,2,   99.918,   0.0033,2,    0.010,2,  -999.00,9,    3.263,1,    0.000,2,   160.62,2,     0.17,    43.92,2,     0.06,     0.00,2,     0.01,     3.14,2,     0.01,  -999.00,9,  -999.00,    0.004,2,    0.004,2,    0.002,2,    0.000,2,   2393.2,2,   2402.5,2,   -999.0,9,   7.3381,       25,2, -999.000,9,    34.14,2, -999.000,9, -999.000,   -999.0,9,   -999.0, -999.000,9, -999.000, -999.000,9, -999.000,   -999.0,9,   -999.0, -999.000,9, -999.000,9, -999.000,9
  49NZ20140717,   P01,   143,  1,     19, X12J19,2,20140821,1737, 47.0021,-128.6442, 2724,   1729.5,2,   2.1968,2,   2.19674,2,  34.5515,2,  34.5516,2,  34.7299,2,    40.23,2,    40.59,2,   99.927,   0.0029,2,    0.009,2,  -999.00,9,    3.242,1,    0.000,2,   168.16,2,     0.18,    43.01,2,     0.05,     0.00,2,     0.01,     3.06,2,     0.01,  -999.00,9,  -999.00,    0.003,2,    0.004,2,    0.000,2,    0.000,2,   2391.4,2,   2410.5,2,   -999.0,9,   7.3677,       25,2, -999.000,9,    35.94,2, -999.000,9, -999.000,   -999.0,9,   -999.0, -999.000,9, -999.000, -999.000,9, -999.000,   -999.0,9,   -999.0, -999.000,9, -999.000,9, -999.000,9
  49NZ20140717,   P01,   143,  1,     18, X12J18,2,20140821,1737, 47.0021,-128.6442, 2724,   1929.3,2,   2.0084,2,   2.00814,2,  34.5793,2,  34.5793,2,  34.7583,2,    52.64,2,    53.05,2,   99.920,   0.0032,2,    0.008,2,  -999.00,9,    3.089,1,    0.000,2,   172.63,2,     0.18,    42.29,2,     0.05,     0.01,2,     0.01,     3.00,2,     0.01,  -999.00,9,  -999.00,    0.003,2,    0.002,2,    0.001,2,    0.000,2,   2389.0,2,   2415.9,2,   -999.0,9,   7.3933,       25,2, -999.000,9,    38.52,2, -999.000,9, -999.000,   -999.0,9,   -999.0, -999.000,9, -999.000, -999.000,9, -999.000,   -999.0,9,   -999.0, -999.000,9, -999.000,9, -999.000,9
  49NZ20140717,   P01,   143,  1,     17, X12J17,2,20140821,1737, 47.0021,-128.6442, 2724,   2129.5,2,   1.8832,2,   1.88313,2,  34.6019,2,  34.6023,2,  34.7827,2,    64.30,2,    64.75,2,   99.927,   0.0029,2,    0.007,2,  -999.00,9,    3.054,1,    0.000,2,   175.52,2,     0.18,    41.60,2,     0.05,     0.00,2,     0.01,     2.95,2,     0.01,  -999.00,9,  -999.00,    0.001,2,    0.002,2,    0.000,2,    0.000,2,   2384.7,2,   2421.0,2,   -999.0,9,   7.4204,       25,2, -999.000,9,    38.60,2, -999.000,9, -999.000,   -999.0,9,   -999.0, -999.000,9, -999.000, -999.000,9, -999.000,   -999.0,9,   -999.0, -999.000,9, -999.000,9, -999.000,9
  49NZ20140717,   P01,   143,  1,     16, X12J16,2,20140821,1737, 47.0021,-128.6442, 2724,   2532.2,2,   1.7654,2,   1.76522,2,  34.6282,2,-999.0000,9,-999.0000,9,    78.75,2,    79.18,1,   99.868,   0.0053,2,    0.006,2,  -999.00,9,    3.136,1,    0.000,2,  -999.00,9,  -999.00,  -999.00,9,  -999.00,  -999.00,9,  -999.00,  -999.00,9,  -999.00,  -999.00,9,  -999.00, -999.000,9, -999.000,9, -999.000,9, -999.000,9,   -999.0,9,   -999.0,9,   -999.0,9,-999.0000,     -999,9, -999.000,9,  -999.00,9, -999.000,9, -999.000,   -999.0,9,   -999.0, -999.000,9, -999.000, -999.000,9, -999.000,   -999.0,9,   -999.0, -999.000,9, -999.000,9, -999.000,9
  49NZ20140717,   P01,   143,  1,     15, X12J15,2,20140821,1737, 47.0021,-128.6442, 2724,   2532.0,2,   1.7653,2,   1.76515,2,  34.6282,2,  34.6285,2,  34.8084,2,    78.75,2,    79.22,2,   99.879,   0.0048,2,    0.006,2,  -999.00,9,    3.143,1,    0.000,2,   180.07,2,     0.19,    40.69,2,     0.05,     0.00,2,     0.01,     2.89,2,     0.01,  -999.00,9,  -999.00,    0.002,2,    0.004,2,    0.001,2,    0.000,2,   2381.0,2,   2427.7,2,   -999.0,9,   7.4536,       25,2, -999.000,9,    38.06,2, -999.000,9, -999.000,   -999.0,9,   -999.0, -999.000,9, -999.000, -999.000,9, -999.000,   -999.0,9,   -999.0, -999.000,9, -999.000,9, -999.000,9
  49NZ20140717,   P01,   143,  1,     14, X12J14,9,20140821,1737, 47.0021,-128.6442, 2724,   -999.0,9,-999.0000,9,-999.00000,9,-999.0000,9,-999.0000,9,-999.0000,9,  -999.00,9,  -999.00,9, -999.000,-999.0000,9, -999.000,9,  -999.00,9, -999.000,9, -999.000,9,  -999.00,9,  -999.00,  -999.00,9,  -999.00,  -999.00,9,  -999.00,  -999.00,9,  -999.00,  -999.00,9,  -999.00, -999.000,9, -999.000,9, -999.000,9, -999.000,9,   -999.0,9,   -999.0,9,   -999.0,9,-999.0000,     -999,9, -999.000,9,  -999.00,9, -999.000,9, -999.000,   -999.0,9,   -999.0, -999.000,9, -999.000, -999.000,9, -999.000,   -999.0,9,   -999.0, -999.000,9, -999.000,9, -999.000,9
  49NZ20140717,   P01,   143,  1,     13, X12113,9,20140821,1737, 47.0021,-128.6442, 2724,   -999.0,9,-999.0000,9,-999.00000,9,-999.0000,9,-999.0000,9,-999.0000,9,  -999.00,9,  -999.00,9, -999.000,-999.0000,9, -999.000,9,  -999.00,9, -999.000,9, -999.000,9,  -999.00,9,  -999.00,  -999.00,9,  -999.00,  -999.00,9,  -999.00,  -999.00,9,  -999.00,  -999.00,9,  -999.00, -999.000,9, -999.000,9, -999.000,9, -999.000,9,   -999.0,9,   -999.0,9,   -999.0,9,-999.0000,     -999,9, -999.000,9,  -999.00,9, -999.000,9, -999.000,   -999.0,9,   -999.0, -999.000,9, -999.000, -999.000,9, -999.000,   -999.0,9,   -999.0, -999.000,9, -999.000,9, -999.000,9
  49NZ20140717,   P01,   143,  1,     12, X12J12,9,20140821,1737, 47.0021,-128.6442, 2724,   -999.0,9,-999.0000,9,-999.00000,9,-999.0000,9,-999.0000,9,-999.0000,9,  -999.00,9,  -999.00,9, -999.000,-999.0000,9, -999.000,9,  -999.00,9, -999.000,9, -999.000,9,  -999.00,9,  -999.00,  -999.00,9,  -999.00,  -999.00,9,  -999.00,  -999.00,9,  -999.00,  -999.00,9,  -999.00, -999.000,9, -999.000,9, -999.000,9, -999.000,9,   -999.0,9,   -999.0,9,   -999.0,9,-999.0000,     -999,9, -999.000,9,  -999.00,9, -999.000,9, -999.000,   -999.0,9,   -999.0, -999.000,9, -999.000, -999.000,9, -999.000,   -999.0,9,   -999.0, -999.000,9, -999.000,9, -999.000,9
  49NZ20140717,   P01,   143,  1,     11, X12J11,9,20140821,1737, 47.0021,-128.6442, 2724,   -999.0,9,-999.0000,9,-999.00000,9,-999.0000,9,-999.0000,9,-999.0000,9,  -999.00,9,  -999.00,9, -999.000,-999.0000,9, -999.000,9,  -999.00,9, -999.000,9, -999.000,9,  -999.00,9,  -999.00,  -999.00,9,  -999.00,  -999.00,9,  -999.00,  -999.00,9,  -999.00,  -999.00,9,  -999.00, -999.000,9, -999.000,9, -999.000,9, -999.000,9,   -999.0,9,   -999.0,9,   -999.0,9,-999.0000,     -999,9, -999.000,9,  -999.00,9, -999.000,9, -999.000,   -999.0,9,   -999.0, -999.000,9, -999.000, -999.000,9, -999.000,   -999.0,9,   -999.0, -999.000,9, -999.000,9, -999.000,9
  49NZ20140717,   P01,   143,  1,     10, X12J10,9,20140821,1737, 47.0021,-128.6442, 2724,   -999.0,9,-999.0000,9,-999.00000,9,-999.0000,9,-999.0000,9,-999.0000,9,  -999.00,9,  -999.00,9, -999.000,-999.0000,9, -999.000,9,  -999.00,9, -999.000,9, -999.000,9,  -999.00,9,  -999.00,  -999.00,9,  -999.00,  -999.00,9,  -999.00,  -999.00,9,  -999.00,  -999.00,9,  -999.00, -999.000,9, -999.000,9, -999.000,9, -999.000,9,   -999.0,9,   -999.0,9,   -999.0,9,-999.0000,     -999,9, -999.000,9,  -999.00,9, -999.000,9, -999.000,   -999.0,9,   -999.0, -999.000,9, -999.000, -999.000,9, -999.000,   -999.0,9,   -999.0, -999.000,9, -999.000,9, -999.000,9