BOTTLE,20230904JAMSTECRIGC
EXPOCODE,SECT,STNNBR,CASTNO,SAMPNO,BTLNBR,BTLNBR_FLAG_W,DATE,TIME,LATITUDE,LONGITUDE,DEPTH,CTDPRS,CTDPRS_FLAG_W,CTDTMP,CTDTMP_FLAG_W,SBE35,SBE35_FLAG_W,CTDSAL,CTDSAL_FLAG_W,SALNTY,SALNTY_FLAG_W,DNSSAL,DNSSAL_FLAG_W,CTDOXY,CTDOXY_FLAG_W,OXYGEN,OXYGEN_FLAG_W,XMISS,XMISSCP,XMISS_FLAG_W,FLUOR,FLUOR_FLAG_W,CHLORA,CHLORA_FLAG_W,CDOM,CDOM_FLAG_W,PAR,PAR_FLAG_W,SILCAT,SILCAT_FLAG_W,SILUNC,NITRAT,NITRAT_FLAG_W,NRAUNC,NITRIT,NITRIT_FLAG_W,NRIUNC,PHSPHT,PHSPHT_FLAG_W,PHPUNC,AMMONIA,AMMONIA_FLAG_W,NH4UNC,CFC-11,CFC-11_FLAG_W,CFC-12,CFC-12_FLAG_W,CFC113,CFC113_FLAG_W,SF6,SF6_FLAG_W,TCARBN,TCARBN_FLAG_W,ALKALI,ALKALI_FLAG_W,ALKALI_POT,ALKALI_POT_FLAG_W,PH_TOT,PH_TMP,PH_TOT_FLAG_W,CALCIUM,CALCIUM_FLAG_W,DOC,DOC_FLAG_W,DELC13,DELC13_FLAG_W,C13ERR,DELC14,DELC14_FLAG_W,C14ERR,CS-134,CS-134_FLAG_W,CS134ER,CS-137,CS-137_FLAG_W,CS137ER,I-129,I-129_FLAG_W,I-129ER,CDOM-325,CDOM-325_FLAG_W,CDOM-370,CDOM-370_FLAG_W,CDOM-443,CDOM-443_FLAG_W
,,,,,,,,UTC,DEG,DEG,METERS,DBAR,,ITS-90,,ITS-90,,PSS-78,,PSS-78,,G/KG,,UMOL/KG,,UMOL/KG,,%TRANS,/METER,,MG/CUM,,MG/CUM,,MG/CUM,,UE/SQM/S,,UMOL/KG,,UMOL/KG,UMOL/KG,,UMOL/KG,UMOL/KG,,UMOL/KG,UMOL/KG,,UMOL/KG,UMOL/KG,,UMOL/KG,PMOL/KG,,PMOL/KG,,PMOL/KG,,FMOL/KG,,UMOL/KG,,UMOL/KG,,UMOL/KG,,,DEG C,,MMOL/KG,,UMOL/KG,,/MILLE,,/MILLE,/MILLE,,/MILLE,MBQ/KG,,MBQ/KG,MBQ/KG,,MBQ/KG,,,,/METER,,/METER,,/METER,
  49NZ20140717,   P01,    67,  2,      9, X12J09,2,20140725,1558, 44.0859, 155.0153, 5308,   4080.1,2,   1.4650,2,   1.46506,2,  34.6831,2,  34.6832,2,  34.8647,2,   150.08,2,   149.83,2,  100.017,  -0.0007,2,   -0.002,2,  -999.00,9,    2.231,1,    0.000,2,   151.48,2,     0.17,    36.17,2,     0.05,     0.00,2,     0.01,     2.52,2,     0.01,     0.00,2,     0.01,    0.000,2,    0.000,2,    0.000,2,    0.000,2,   2328.5,2,   2414.3,2,   -999.0,9,   7.5709,       25,2, -999.000,9,    39.61,2, -999.000,1, -999.000,   -999.0,1,   -999.0, -999.000,9, -999.000, -999.000,9, -999.000,   -999.0,9,   -999.0,    0.341,2,    0.218,2,    0.114,2
  49NZ20140717,   P01,    67,  2,      8, X12J08,2,20140725,1558, 44.0859, 155.0153, 5308,   4329.5,2,   1.4683,2,   1.46841,2,  34.6857,2,  34.6858,2,  34.8667,2,   153.26,2,   153.02,2,  100.006,  -0.0003,2,   -0.003,2,  -999.00,9,    2.264,4,    0.000,2,   150.75,2,     0.17,    35.96,2,     0.05,     0.01,2,     0.01,     2.51,2,     0.01,     0.00,2,     0.01,    0.000,2,    0.000,2,    0.000,2,    0.000,2,   2326.6,6,   2414.8,2,   -999.0,9,   7.5766,       25,2, -999.000,9,    38.47,2, -999.000,9, -999.000,   -999.0,9,   -999.0, -999.000,9, -999.000, -999.000,9, -999.000,   -999.0,9,   -999.0, -999.000,9, -999.000,9, -999.000,9
  49NZ20140717,   P01,    67,  2,      7, X12J07,2,20140725,1558, 44.0859, 155.0153, 5308,   4582.2,2,   1.4822,2,   1.48219,2,  34.6873,2,  34.6876,2,  34.8687,2,   155.23,2,   154.95,2,  100.002,  -0.0001,2,   -0.003,2,  -999.00,9,    0.621,4,    0.000,2,   150.57,2,     0.17,    35.81,2,     0.05,     0.00,2,     0.01,     2.50,2,     0.01,     0.01,2,     0.01,    0.000,2,    0.001,2,    0.002,2,    0.000,2,   2324.6,2,   2415.2,2,   -999.0,9,   7.5792,       25,6, -999.000,9,    37.73,2, -999.000,1, -999.000,   -999.0,1,   -999.0, -999.000,9, -999.000, -999.000,9, -999.000,   -999.0,9,   -999.0, -999.000,9, -999.000,9, -999.000,9
  49NZ20140717,   P01,    67,  2,      6, X12J06,2,20140725,1558, 44.0859, 155.0153, 5308,   4829.7,2,   1.5032,2,   1.50322,2,  34.6882,2,  34.6883,2,  34.8706,2,   156.15,2,   155.93,2,   99.967,   0.0013,2,   -0.003,2,  -999.00,9,   -1.607,4,    0.000,2,   151.01,2,     0.17,    35.78,2,     0.05,     0.01,2,     0.01,     2.49,2,     0.01,     0.01,2,     0.01,    0.004,2,    0.002,2,    0.001,2,    0.000,2,   2323.8,2,   2413.6,6,   -999.0,9,   7.5816,       25,2, -999.000,9,    39.64,2, -999.000,9, -999.000,   -999.0,9,   -999.0, -999.000,9, -999.000, -999.000,9, -999.000,   -999.0,9,   -999.0, -999.000,9, -999.000,9, -999.000,9
  49NZ20140717,   P01,    67,  2,      5, X12J05,2,20140725,1558, 44.0859, 155.0153, 5308,   5079.7,2,   1.5286,2,   1.52866,2,  34.6889,2,  34.6892,2,  34.8713,2,   156.65,2,   156.76,2,   99.946,   0.0022,2,   -0.003,2,  -999.00,9,   -1.703,4,    0.000,2,   151.14,2,     0.17,    35.73,2,     0.05,     0.01,2,     0.01,     2.49,2,     0.01,     0.01,2,     0.01,    0.008,2,    0.003,2,    0.002,2,    0.000,2,   2323.4,2,   2415.2,2,   -999.0,9,   7.5823,       25,2, -999.000,9,    39.92,2, -999.000,1, -999.000,   -999.0,1,   -999.0, -999.000,9, -999.000, -999.000,9, -999.000,   -999.0,9,   -999.0,    0.276,2,    0.165,2,    0.079,2
  49NZ20140717,   P01,    67,  2,      4, X12J04,2,20140725,1558, 44.0859, 155.0153, 5308,   5329.3,2,   1.5558,2,   1.55577,2,  34.6894,2,  34.6898,2,  34.8719,2,   156.68,2,   156.80,2,   99.834,   0.0067,2,   -0.003,2,  -999.00,9,   -1.772,4,    0.000,2,   153.51,2,     0.17,    35.73,2,     0.05,     0.01,2,     0.01,     2.49,2,     0.01,     0.01,2,     0.01,    0.008,2,    0.002,2,    0.001,2,    0.000,2,   2323.2,2,   2418.4,3,   -999.0,9,   7.5829,       25,2, -999.000,9,    42.94,3, -999.000,9, -999.000,   -999.0,9,   -999.0, -999.000,9, -999.000, -999.000,9, -999.000,   -999.0,9,   -999.0, -999.000,9, -999.000,9, -999.000,9
  49NZ20140717,   P01,    67,  2,      3, X12J03,2,20140725,1558, 44.0859, 155.0153, 5308,     50.7,2,   3.4917,2,   3.49375,2,  33.0661,2,-999.0000,9,-999.0000,9,   311.11,2,  -999.00,9,   98.089,   0.0772,2,    0.326,2,  -999.00,9,    1.305,1,    0.000,2,  -999.00,9,  -999.00,  -999.00,9,  -999.00,  -999.00,9,  -999.00,  -999.00,9,  -999.00,  -999.00,9,  -999.00, -999.000,9, -999.000,9, -999.000,9, -999.000,9,   -999.0,9,   -999.0,9,   -999.0,9,-999.0000,     -999,9, -999.000,9,  -999.00,9, -999.000,9, -999.000,   -999.0,9,   -999.0, -999.000,9, -999.000, -999.000,9, -999.000,   -999.0,9,   -999.0, -999.000,9, -999.000,9, -999.000,9
  49NZ20140717,   P01,    67,  2,      2, X12J02,2,20140725,1558, 44.0859, 155.0153, 5308,     99.7,2,   3.3049,2,   3.30539,2,  33.2750,2,-999.0000,9,-999.0000,9,   289.31,2,  -999.00,9,   99.534,   0.0187,2,    0.032,2,  -999.00,9,    1.362,1,    0.000,2,  -999.00,9,  -999.00,  -999.00,9,  -999.00,  -999.00,9,  -999.00,  -999.00,9,  -999.00,  -999.00,9,  -999.00, -999.000,9, -999.000,9, -999.000,9, -999.000,9,   -999.0,9,   -999.0,9,   -999.0,9,-999.0000,     -999,9, -999.000,9,  -999.00,9, -999.000,9, -999.000,   -999.0,9,   -999.0, -999.000,9, -999.000, -999.000,9, -999.000,   -999.0,9,   -999.0, -999.000,9, -999.000,9, -999.000,9
  49NZ20140717,   P01,    67,  2,      1, X12J01,2,20140725,1558, 44.0859, 155.0153, 5308,   5404.8,2,   1.5657,2,   1.56563,2,  34.6895,2,  34.6899,2,  34.8719,2,   156.59,2,   156.90,2,   99.844,   0.0062,2,   -0.003,2,  -999.00,9,   -1.078,4,    0.000,2,   153.97,2,     0.17,    35.65,2,     0.05,     0.01,2,     0.01,     2.49,2,     0.01,     0.02,2,     0.01,    0.010,2,    0.004,2,    0.003,2,    0.000,2,   2324.2,2,   2418.8,2,   -999.0,9,   7.5825,       25,2, -999.000,9,    38.73,2, -999.000,1, -999.000,   -999.0,1,   -999.0, -999.000,9, -999.000, -999.000,9, -999.000,   -999.0,9,   -999.0,    0.274,2,    0.160,2,    0.081,2