BOTTLE,20230904JAMSTECRIGC
EXPOCODE,SECT,STNNBR,CASTNO,SAMPNO,BTLNBR,BTLNBR_FLAG_W,DATE,TIME,LATITUDE,LONGITUDE,DEPTH,CTDPRS,CTDPRS_FLAG_W,CTDTMP,CTDTMP_FLAG_W,SBE35,SBE35_FLAG_W,CTDSAL,CTDSAL_FLAG_W,SALNTY,SALNTY_FLAG_W,DNSSAL,DNSSAL_FLAG_W,CTDOXY,CTDOXY_FLAG_W,OXYGEN,OXYGEN_FLAG_W,XMISS,XMISSCP,XMISS_FLAG_W,FLUOR,FLUOR_FLAG_W,CHLORA,CHLORA_FLAG_W,CDOM,CDOM_FLAG_W,PAR,PAR_FLAG_W,SILCAT,SILCAT_FLAG_W,SILUNC,NITRAT,NITRAT_FLAG_W,NRAUNC,NITRIT,NITRIT_FLAG_W,NRIUNC,PHSPHT,PHSPHT_FLAG_W,PHPUNC,AMMONIA,AMMONIA_FLAG_W,NH4UNC,CFC-11,CFC-11_FLAG_W,CFC-12,CFC-12_FLAG_W,CFC113,CFC113_FLAG_W,SF6,SF6_FLAG_W,TCARBN,TCARBN_FLAG_W,ALKALI,ALKALI_FLAG_W,ALKALI_POT,ALKALI_POT_FLAG_W,PH_TOT,PH_TMP,PH_TOT_FLAG_W,CALCIUM,CALCIUM_FLAG_W,DOC,DOC_FLAG_W,DELC13,DELC13_FLAG_W,C13ERR,DELC14,DELC14_FLAG_W,C14ERR,CS-134,CS-134_FLAG_W,CS134ER,CS-137,CS-137_FLAG_W,CS137ER,I-129,I-129_FLAG_W,I-129ER,CDOM-325,CDOM-325_FLAG_W,CDOM-370,CDOM-370_FLAG_W,CDOM-443,CDOM-443_FLAG_W
,,,,,,,,UTC,DEG,DEG,METERS,DBAR,,ITS-90,,ITS-90,,PSS-78,,PSS-78,,G/KG,,UMOL/KG,,UMOL/KG,,%TRANS,/METER,,MG/CUM,,MG/CUM,,MG/CUM,,UE/SQM/S,,UMOL/KG,,UMOL/KG,UMOL/KG,,UMOL/KG,UMOL/KG,,UMOL/KG,UMOL/KG,,UMOL/KG,UMOL/KG,,UMOL/KG,PMOL/KG,,PMOL/KG,,PMOL/KG,,FMOL/KG,,UMOL/KG,,UMOL/KG,,UMOL/KG,,,DEG C,,MMOL/KG,,UMOL/KG,,/MILLE,,/MILLE,/MILLE,,/MILLE,MBQ/KG,,MBQ/KG,MBQ/KG,,MBQ/KG,,,,/METER,,/METER,,/METER,
  49NZ20140717,   P01,   137,  1,      0,   -999,9,20140820,0201, 47.0195,-134.6187, 3997,   -999.0,9,-999.0000,9,-999.00000,9,-999.0000,9,  32.3065,2,-999.0000,9,  -999.00,9,  -999.00,9, -999.000,-999.0000,9, -999.000,9,  -999.00,9, -999.000,9, -999.000,9,     0.42,2,     0.18,     0.13,2,     0.04,     0.01,2,     0.01,     0.38,2,     0.01,  -999.00,9,  -999.00, -999.000,9, -999.000,9, -999.000,9, -999.000,9,   -999.0,9,   -999.0,9,   -999.0,9,-999.0000,     -999,9, -999.000,9,  -999.00,9, -999.000,9, -999.000,   -999.0,9,   -999.0, -999.000,9, -999.000, -999.000,9, -999.000,   -999.0,9,   -999.0, -999.000,9, -999.000,9, -999.000,9
  49NZ20140717,   P01,   137,  1,     36, X12J36,2,20140820,0201, 47.0195,-134.6187, 3997,     10.0,2,  17.9886,2,  17.98587,2,  32.3465,2,  32.3679,2,-999.0000,9,   248.23,2,   249.35,2,   97.876,   0.0859,2,    0.180,2,  -999.00,9,   -1.183,1,    5.723,2,     0.30,2,     0.18,     0.06,2,     0.02,     0.00,2,     0.01,     0.36,2,     0.01,  -999.00,9,  -999.00, -999.000,9, -999.000,9, -999.000,9, -999.000,9,   -999.0,9,   -999.0,9,   -999.0,9,-999.0000,     -999,9, -999.000,9,  -999.00,9, -999.000,9, -999.000,   -999.0,9,   -999.0, -999.000,9, -999.000, -999.000,9, -999.000,   -999.0,9,   -999.0, -999.000,9, -999.000,9, -999.000,9
  49NZ20140717,   P01,   137,  1,     35, X12J35,2,20140820,0201, 47.0195,-134.6187, 3997,     50.5,2,  10.8583,2,  10.86349,2,  32.5247,2,  32.5311,2,-999.0000,9,   301.47,2,   296.82,2,   92.190,   0.3253,2,    0.958,2,  -999.00,9,    0.689,1,    0.504,2,     4.44,2,     0.09,     2.95,2,     0.01,     0.07,2,     0.01,     0.58,2,     0.01,  -999.00,9,  -999.00, -999.000,9, -999.000,9, -999.000,9, -999.000,9,   -999.0,9,   -999.0,9,   -999.0,9,-999.0000,     -999,9, -999.000,9,  -999.00,9, -999.000,9, -999.000,   -999.0,9,   -999.0, -999.000,9, -999.000, -999.000,9, -999.000,   -999.0,9,   -999.0, -999.000,9, -999.000,9, -999.000,9
  49NZ20140717,   P01,   137,  1,     34, X12J34,2,20140820,0201, 47.0195,-134.6187, 3997,    100.9,2,   7.7458,2,   7.74421,2,  32.9689,2,  33.0179,2,-999.0000,9,   256.35,2,   254.35,2,   99.474,   0.0211,2,    0.123,2,  -999.00,9,    0.572,1,    0.000,2,    17.10,2,     0.09,    15.01,2,     0.03,     0.02,2,     0.01,     1.25,2,     0.01,  -999.00,9,  -999.00, -999.000,9, -999.000,9, -999.000,9, -999.000,9,   -999.0,9,   -999.0,9,   -999.0,9,-999.0000,     -999,9, -999.000,9,  -999.00,9, -999.000,9, -999.000,   -999.0,9,   -999.0, -999.000,9, -999.000, -999.000,9, -999.000,   -999.0,9,   -999.0, -999.000,9, -999.000,9, -999.000,9
  49NZ20140717,   P01,   137,  1,     33, X12J33,2,20140820,0201, 47.0195,-134.6187, 3997,    150.1,2,   8.0483,2,   8.04828,2,  33.7617,2,  33.7581,2,-999.0000,9,   222.97,2,   221.63,2,   99.698,   0.0121,2,    0.011,2,  -999.00,9,    1.018,1,    0.000,2,    23.50,2,     0.09,    18.38,2,     0.03,     0.01,2,     0.01,     1.34,2,     0.01,  -999.00,9,  -999.00, -999.000,9, -999.000,9, -999.000,9, -999.000,9,   -999.0,9,   -999.0,9,   -999.0,9,-999.0000,     -999,9, -999.000,9,  -999.00,9, -999.000,9, -999.000,   -999.0,9,   -999.0, -999.000,9, -999.000, -999.000,9, -999.000,   -999.0,9,   -999.0, -999.000,9, -999.000,9, -999.000,9
  49NZ20140717,   P01,   137,  1,     32, X12J32,2,20140820,0201, 47.0195,-134.6187, 3997,    200.7,2,   7.3066,2,   7.30554,2,  33.8590,2,  33.8600,2,-999.0000,9,   199.73,2,   198.68,2,   99.552,   0.0179,2,    0.011,2,  -999.00,9,    1.565,1,    0.000,2,    33.42,2,     0.10,    22.76,2,     0.03,     0.01,2,     0.01,     1.63,2,     0.01,  -999.00,9,  -999.00, -999.000,9, -999.000,9, -999.000,9, -999.000,9,   -999.0,9,   -999.0,9,   -999.0,9,-999.0000,     -999,9, -999.000,9,  -999.00,9, -999.000,9, -999.000,   -999.0,9,   -999.0, -999.000,9, -999.000, -999.000,9, -999.000,   -999.0,9,   -999.0, -999.000,9, -999.000,9, -999.000,9
  49NZ20140717,   P01,   137,  1,     31, X12J31,2,20140820,0201, 47.0195,-134.6187, 3997,    252.0,2,   6.3835,2,   6.38551,2,  33.8612,2,  33.8593,2,-999.0000,9,   171.24,2,   172.63,2,   99.583,   0.0167,2,    0.012,2,  -999.00,9,    1.953,1,    0.000,2,    44.24,2,     0.10,    26.81,2,     0.04,     0.01,2,     0.01,     1.93,2,     0.01,  -999.00,9,  -999.00, -999.000,9, -999.000,9, -999.000,9, -999.000,9,   -999.0,9,   -999.0,9,   -999.0,9,-999.0000,     -999,9, -999.000,9,  -999.00,9, -999.000,9, -999.000,   -999.0,9,   -999.0, -999.000,9, -999.000, -999.000,9, -999.000,   -999.0,9,   -999.0, -999.000,9, -999.000,9, -999.000,9
  49NZ20140717,   P01,   137,  1,     30, X12J30,2,20140820,0201, 47.0195,-134.6187, 3997,    279.6,2,   6.1099,2,   6.10883,2,  33.8669,2,  33.8678,2,-999.0000,9,   160.18,2,   158.88,2,   99.635,   0.0146,2,    0.012,2,  -999.00,9,    2.028,1,    0.000,2,    49.06,2,     0.11,    28.55,2,     0.04,     0.01,2,     0.01,     2.05,2,     0.01,  -999.00,9,  -999.00, -999.000,9, -999.000,9, -999.000,9, -999.000,9,   -999.0,9,   -999.0,9,   -999.0,9,-999.0000,     -999,9, -999.000,9,  -999.00,9, -999.000,9, -999.000,   -999.0,9,   -999.0, -999.000,9, -999.000, -999.000,9, -999.000,   -999.0,9,   -999.0, -999.000,9, -999.000,9, -999.000,9
  49NZ20140717,   P01,   137,  1,     29, X12J29,2,20140820,0201, 47.0195,-134.6187, 3997,    370.8,2,   4.7747,2,   4.77359,2,  33.8955,2,  33.8962,2,-999.0000,9,    99.28,2,    98.78,2,   99.745,   0.0102,2,    0.014,2,  -999.00,9,    2.524,1,    0.000,2,    72.23,2,     0.12,    36.48,2,     0.05,     0.01,2,     0.01,     2.59,2,     0.01,  -999.00,9,  -999.00, -999.000,9, -999.000,9, -999.000,9, -999.000,9,   -999.0,9,   -999.0,9,   -999.0,9,-999.0000,     -999,9, -999.000,9,  -999.00,9, -999.000,9, -999.000,   -999.0,9,   -999.0, -999.000,9, -999.000, -999.000,9, -999.000,   -999.0,9,   -999.0, -999.000,9, -999.000,9, -999.000,9
  49NZ20140717,   P01,   137,  1,     28, X12J28,2,20140820,0201, 47.0195,-134.6187, 3997,    470.9,2,   4.4118,2,   4.41097,2,  34.0008,2,  34.0030,2,-999.0000,9,    61.42,2,    61.30,2,   99.839,   0.0065,2,    0.014,2,  -999.00,9,    2.813,1,    0.000,2,    87.60,2,     0.13,    40.02,2,     0.05,     0.01,2,     0.01,     2.84,2,     0.01,  -999.00,9,  -999.00, -999.000,9, -999.000,9, -999.000,9, -999.000,9,   -999.0,9,   -999.0,9,   -999.0,9,-999.0000,     -999,9, -999.000,9,  -999.00,9, -999.000,9, -999.000,   -999.0,9,   -999.0, -999.000,9, -999.000, -999.000,9, -999.000,   -999.0,9,   -999.0, -999.000,9, -999.000,9, -999.000,9
  49NZ20140717,   P01,   137,  1,     27, X12J27,2,20140820,0201, 47.0195,-134.6187, 3997,    570.5,2,   4.1289,2,   4.12802,2,  34.1038,2,  34.1038,2,-999.0000,9,    35.71,2,    36.18,2,   99.921,   0.0032,2,    0.015,2,  -999.00,9,    2.929,1,    0.000,2,   101.19,2,     0.14,    42.04,2,     0.05,     0.00,2,     0.01,     2.98,2,     0.01,  -999.00,9,  -999.00, -999.000,9, -999.000,9, -999.000,9, -999.000,9,   -999.0,9,   -999.0,9,   -999.0,9,-999.0000,     -999,9, -999.000,9,  -999.00,9, -999.000,9, -999.000,   -999.0,9,   -999.0, -999.000,9, -999.000, -999.000,9, -999.000,   -999.0,9,   -999.0, -999.000,9, -999.000,9, -999.000,9
  49NZ20140717,   P01,   137,  1,     26, X12J26,2,20140820,0201, 47.0195,-134.6187, 3997,    669.0,2,   3.8499,2,   3.85048,2,  34.1707,2,  34.1693,2,-999.0000,9,    23.08,2,    23.00,2,   99.928,   0.0029,2,    0.015,2,  -999.00,9,    3.027,1,    0.000,2,   111.72,2,     0.14,    43.25,2,     0.05,     0.00,2,     0.01,     3.07,2,     0.01,  -999.00,9,  -999.00, -999.000,9, -999.000,9, -999.000,9, -999.000,9,   -999.0,9,   -999.0,9,   -999.0,9,-999.0000,     -999,9, -999.000,9,  -999.00,9, -999.000,9, -999.000,   -999.0,9,   -999.0, -999.000,9, -999.000, -999.000,9, -999.000,   -999.0,9,   -999.0, -999.000,9, -999.000,9, -999.000,9
  49NZ20140717,   P01,   137,  1,     25, X12J25,2,20140820,0201, 47.0195,-134.6187, 3997,    771.4,2,   3.5903,2,   3.59136,2,  34.2362,2,  34.2356,2,-999.0000,9,    17.08,2,    17.13,2,   99.915,   0.0034,2,    0.015,2,  -999.00,9,    3.156,1,    0.000,2,   121.73,2,     0.15,    43.84,2,     0.06,     0.00,2,     0.01,     3.12,2,     0.01,  -999.00,9,  -999.00, -999.000,9, -999.000,9, -999.000,9, -999.000,9,   -999.0,9,   -999.0,9,   -999.0,9,-999.0000,     -999,9, -999.000,9,  -999.00,9, -999.000,9, -999.000,   -999.0,9,   -999.0, -999.000,9, -999.000, -999.000,9, -999.000,   -999.0,9,   -999.0, -999.000,9, -999.000,9, -999.000,9
  49NZ20140717,   P01,   137,  1,     24, X12J24,2,20140820,0201, 47.0195,-134.6187, 3997,    870.4,2,   3.3753,2,   3.37602,2,  34.2857,2,  34.2857,2,-999.0000,9,    15.39,2,    14.97,2,   99.943,   0.0023,2,    0.014,2,  -999.00,9,    3.185,1,    0.000,2,   129.55,2,     0.15,    44.11,2,     0.06,     0.00,2,     0.01,     3.15,2,     0.01,  -999.00,9,  -999.00, -999.000,9, -999.000,9, -999.000,9, -999.000,9,   -999.0,9,   -999.0,9,   -999.0,9,-999.0000,     -999,9, -999.000,9,  -999.00,9, -999.000,9, -999.000,   -999.0,9,   -999.0, -999.000,9, -999.000, -999.000,9, -999.000,   -999.0,9,   -999.0, -999.000,9, -999.000,9, -999.000,9
  49NZ20140717,   P01,   137,  1,     23, X12J23,2,20140820,0201, 47.0195,-134.6187, 3997,    970.0,2,   3.1226,2,   3.12164,2,  34.3387,2,  34.3399,2,-999.0000,9,    14.28,2,    13.57,2,   99.910,   0.0036,2,    0.014,2,  -999.00,9,    3.215,1,    0.000,2,   138.38,2,     0.16,    44.33,2,     0.06,     0.00,2,     0.01,     3.16,2,     0.01,  -999.00,9,  -999.00, -999.000,9, -999.000,9, -999.000,9, -999.000,9,   -999.0,9,   -999.0,9,   -999.0,9,-999.0000,     -999,9, -999.000,9,  -999.00,9, -999.000,9, -999.000,   -999.0,9,   -999.0, -999.000,9, -999.000, -999.000,9, -999.000,   -999.0,9,   -999.0, -999.000,9, -999.000,9, -999.000,9
  49NZ20140717,   P01,   137,  1,     22, X12J22,2,20140820,0201, 47.0195,-134.6187, 3997,   1132.0,2,   2.9720,2,   2.97154,2,  34.4110,2,  34.4116,2,-999.0000,9,    10.67,2,     9.71,2,   99.917,   0.0033,2,    0.014,2,  -999.00,9,    3.263,1,    0.000,2,   145.55,2,     0.16,    44.75,2,     0.06,     0.00,2,     0.01,     3.21,2,     0.01,  -999.00,9,  -999.00, -999.000,9, -999.000,9, -999.000,9, -999.000,9,   -999.0,9,   -999.0,9,   -999.0,9,-999.0000,     -999,9, -999.000,9,  -999.00,9, -999.000,9, -999.000,   -999.0,9,   -999.0, -999.000,9, -999.000, -999.000,9, -999.000,   -999.0,9,   -999.0, -999.000,9, -999.000,9, -999.000,9
  49NZ20140717,   P01,   137,  1,     21, X12J21,2,20140820,0201, 47.0195,-134.6187, 3997,   1328.6,2,   2.6078,2,   2.61140,2,  34.4631,2,  34.4623,2,-999.0000,9,    15.01,2,    13.75,2,   99.928,   0.0029,2,    0.012,2,  -999.00,9,    3.315,1,    0.000,2,   156.32,2,     0.17,    44.76,2,     0.06,     0.00,2,     0.01,     3.18,2,     0.01,  -999.00,9,  -999.00, -999.000,9, -999.000,9, -999.000,9, -999.000,9,   -999.0,9,   -999.0,9,   -999.0,9,-999.0000,     -999,9, -999.000,9,  -999.00,9, -999.000,9, -999.000,   -999.0,9,   -999.0, -999.000,9, -999.000, -999.000,9, -999.000,   -999.0,9,   -999.0, -999.000,9, -999.000,9, -999.000,9
  49NZ20140717,   P01,   137,  1,     20, X12J20,2,20140820,0201, 47.0195,-134.6187, 3997,   1532.6,2,   2.3316,2,   2.33136,2,  34.5147,2,  34.5148,2,-999.0000,9,    25.61,2,    25.32,2,   99.941,   0.0024,2,    0.011,2,  -999.00,9,    3.272,1,    0.000,2,   164.03,2,     0.18,    44.19,2,     0.06,     0.00,2,     0.01,     3.12,2,     0.01,  -999.00,9,  -999.00, -999.000,9, -999.000,9, -999.000,9, -999.000,9,   -999.0,9,   -999.0,9,   -999.0,9,-999.0000,     -999,9, -999.000,9,  -999.00,9, -999.000,9, -999.000,   -999.0,9,   -999.0, -999.000,9, -999.000, -999.000,9, -999.000,   -999.0,9,   -999.0, -999.000,9, -999.000,9, -999.000,9
  49NZ20140717,   P01,   137,  1,     19, X12J19,2,20140820,0201, 47.0195,-134.6187, 3997,   1731.9,2,   2.1202,2,   2.12006,2,  34.5547,2,  34.5545,2,-999.0000,9,    40.59,2,    40.59,2,   99.925,   0.0030,2,    0.010,2,  -999.00,9,    3.241,1,    0.000,2,   169.05,2,     0.18,    43.25,2,     0.05,     0.00,2,     0.01,     3.06,2,     0.01,  -999.00,9,  -999.00, -999.000,9, -999.000,9, -999.000,9, -999.000,9,   -999.0,9,   -999.0,9,   -999.0,9,-999.0000,     -999,9, -999.000,9,  -999.00,9, -999.000,9, -999.000,   -999.0,9,   -999.0, -999.000,9, -999.000, -999.000,9, -999.000,   -999.0,9,   -999.0, -999.000,9, -999.000,9, -999.000,9
  49NZ20140717,   P01,   137,  1,     18, X12J18,2,20140820,0201, 47.0195,-134.6187, 3997,   1931.0,2,   1.9695,2,   1.96891,2,  34.5841,2,  34.5850,2,-999.0000,9,    53.57,2,    53.87,2,   99.943,   0.0023,2,    0.009,2,  -999.00,9,    3.165,1,    0.000,2,   172.67,2,     0.18,    42.48,2,     0.05,     0.00,2,     0.01,     3.00,2,     0.01,  -999.00,9,  -999.00, -999.000,9, -999.000,9, -999.000,9, -999.000,9,   -999.0,9,   -999.0,9,   -999.0,9,-999.0000,     -999,9, -999.000,9,  -999.00,9, -999.000,9, -999.000,   -999.0,9,   -999.0, -999.000,9, -999.000, -999.000,9, -999.000,   -999.0,9,   -999.0, -999.000,9, -999.000,9, -999.000,9
  49NZ20140717,   P01,   137,  1,     17, X12J17,2,20140820,0201, 47.0195,-134.6187, 3997,   2130.5,2,   1.8664,2,   1.86669,2,  34.6078,2,  34.6079,2,-999.0000,9,    65.71,2,    65.88,2,   99.984,   0.0006,2,    0.008,2,  -999.00,9,    3.130,1,    0.000,2,   174.33,2,     0.18,    41.66,2,     0.05,     0.00,2,     0.01,     2.94,2,     0.01,  -999.00,9,  -999.00, -999.000,9, -999.000,9, -999.000,9, -999.000,9,   -999.0,9,   -999.0,9,   -999.0,9,-999.0000,     -999,9, -999.000,9,  -999.00,9, -999.000,9, -999.000,   -999.0,9,   -999.0, -999.000,9, -999.000, -999.000,9, -999.000,   -999.0,9,   -999.0, -999.000,9, -999.000,9, -999.000,9
  49NZ20140717,   P01,   137,  1,     16, X12J16,2,20140820,0201, 47.0195,-134.6187, 3997,   2330.4,2,   1.7973,2,   1.79713,2,  34.6211,2,  34.6216,2,-999.0000,9,    74.42,2,    74.58,2,   99.988,   0.0005,2,    0.007,2,  -999.00,9,    3.088,1,    0.000,2,   175.26,2,     0.18,    41.08,2,     0.05,     0.00,2,     0.01,     2.90,2,     0.01,  -999.00,9,  -999.00, -999.000,9, -999.000,9, -999.000,9, -999.000,9,   -999.0,9,   -999.0,9,   -999.0,9,-999.0000,     -999,9, -999.000,9,  -999.00,9, -999.000,9, -999.000,   -999.0,9,   -999.0, -999.000,9, -999.000, -999.000,9, -999.000,   -999.0,9,   -999.0, -999.000,9, -999.000,9, -999.000,9
  49NZ20140717,   P01,   137,  1,     15, X12J15,2,20140820,0201, 47.0195,-134.6187, 3997,   2529.7,2,   1.7244,2,   1.72433,2,  34.6327,2,  34.6321,2,-999.0000,9,    84.01,2,    83.81,2,   99.984,   0.0006,2,    0.007,2,  -999.00,9,    2.972,1,    0.000,2,   175.11,2,     0.46,    40.58,2,     0.05,     0.00,2,     0.01,     2.86,2,     0.01,  -999.00,9,  -999.00, -999.000,9, -999.000,9, -999.000,9, -999.000,9,   -999.0,9,   -999.0,9,   -999.0,9,-999.0000,     -999,9, -999.000,9,  -999.00,9, -999.000,9, -999.000,   -999.0,9,   -999.0, -999.000,9, -999.000, -999.000,9, -999.000,   -999.0,9,   -999.0, -999.000,9, -999.000,9, -999.000,9
  49NZ20140717,   P01,   137,  1,     14, X12J14,2,20140820,0201, 47.0195,-134.6187, 3997,   2729.6,2,   1.6767,2,   1.67653,2,  34.6405,2,  34.6414,2,-999.0000,9,    91.40,2,    91.37,2,   99.980,   0.0008,2,    0.006,2,  -999.00,9,    2.891,1,    0.000,2,   174.63,2,     0.18,    40.11,2,     0.05,     0.00,2,     0.01,     2.82,2,     0.01,  -999.00,9,  -999.00, -999.000,9, -999.000,9, -999.000,9, -999.000,9,   -999.0,9,   -999.0,9,   -999.0,9,-999.0000,     -999,9, -999.000,9,  -999.00,9, -999.000,9, -999.000,   -999.0,9,   -999.0, -999.000,9, -999.000, -999.000,9, -999.000,   -999.0,9,   -999.0, -999.000,9, -999.000,9, -999.000,9
  49NZ20140717,   P01,   137,  1,     13, X12113,2,20140820,0201, 47.0195,-134.6187, 3997,   2931.5,2,   1.6249,2,   1.62483,2,  34.6490,2,  34.6490,2,-999.0000,9,   100.04,2,   100.02,2,   99.962,   0.0015,2,    0.005,2,  -999.00,9,    2.840,1,    0.000,2,   173.54,2,     0.18,    39.63,2,     0.05,     0.00,2,     0.01,     2.78,2,     0.01,  -999.00,9,  -999.00, -999.000,9, -999.000,9, -999.000,9, -999.000,9,   -999.0,9,   -999.0,9,   -999.0,9,-999.0000,     -999,9, -999.000,9,  -999.00,9, -999.000,9, -999.000,   -999.0,9,   -999.0, -999.000,9, -999.000, -999.000,9, -999.000,   -999.0,9,   -999.0, -999.000,9, -999.000,9, -999.000,9
  49NZ20140717,   P01,   137,  1,     12, X12J12,2,20140820,0201, 47.0195,-134.6187, 3997,   3169.7,2,   1.5763,2,   1.57625,2,  34.6581,2,  34.6584,2,-999.0000,9,   110.04,2,   110.18,2,   99.960,   0.0016,2,    0.005,2,  -999.00,9,    2.786,1,    0.000,2,   172.71,2,     0.18,    38.95,2,     0.05,     0.00,2,     0.01,     2.73,2,     0.01,  -999.00,9,  -999.00, -999.000,9, -999.000,9, -999.000,9, -999.000,9,   -999.0,9,   -999.0,9,   -999.0,9,-999.0000,     -999,9, -999.000,9,  -999.00,9, -999.000,9, -999.000,   -999.0,9,   -999.0, -999.000,9, -999.000, -999.000,9, -999.000,   -999.0,9,   -999.0, -999.000,9, -999.000,9, -999.000,9
  49NZ20140717,   P01,   137,  1,     11, X12J11,2,20140820,0201, 47.0195,-134.6187, 3997,   3420.1,2,   1.5432,2,   1.54304,2,  34.6656,2,  34.6657,2,-999.0000,9,   118.75,2,   118.84,2,   99.936,   0.0026,2,    0.004,2,  -999.00,9,    2.757,1,    0.000,2,   171.98,2,     0.18,    38.33,2,     0.05,     0.00,2,     0.01,     2.69,2,     0.01,  -999.00,9,  -999.00, -999.000,9, -999.000,9, -999.000,9, -999.000,9,   -999.0,9,   -999.0,9,   -999.0,9,-999.0000,     -999,9, -999.000,9,  -999.00,9, -999.000,9, -999.000,   -999.0,9,   -999.0, -999.000,9, -999.000, -999.000,9, -999.000,   -999.0,9,   -999.0, -999.000,9, -999.000,9, -999.000,9
  49NZ20140717,   P01,   137,  1,     10, X12J10,2,20140820,0201, 47.0195,-134.6187, 3997,   3670.9,2,   1.5320,2,   1.53193,2,  34.6716,2,  34.6719,2,-999.0000,9,   124.42,2,   124.69,2,   99.932,   0.0027,2,    0.004,2,  -999.00,9,    2.735,1,    0.000,2,   173.37,2,     0.18,    37.97,2,     0.05,     0.00,2,     0.01,     2.66,2,     0.01,  -999.00,9,  -999.00, -999.000,9, -999.000,9, -999.000,9, -999.000,9,   -999.0,9,   -999.0,9,   -999.0,9,-999.0000,     -999,9, -999.000,9,  -999.00,9, -999.000,9, -999.000,   -999.0,9,   -999.0, -999.000,9, -999.000, -999.000,9, -999.000,   -999.0,9,   -999.0, -999.000,9, -999.000,9, -999.000,9