BOTTLE,20230904JAMSTECRIGC
EXPOCODE,SECT,STNNBR,CASTNO,SAMPNO,BTLNBR,BTLNBR_FLAG_W,DATE,TIME,LATITUDE,LONGITUDE,DEPTH,CTDPRS,CTDPRS_FLAG_W,CTDTMP,CTDTMP_FLAG_W,SBE35,SBE35_FLAG_W,CTDSAL,CTDSAL_FLAG_W,SALNTY,SALNTY_FLAG_W,DNSSAL,DNSSAL_FLAG_W,CTDOXY,CTDOXY_FLAG_W,OXYGEN,OXYGEN_FLAG_W,XMISS,XMISSCP,XMISS_FLAG_W,FLUOR,FLUOR_FLAG_W,CHLORA,CHLORA_FLAG_W,CDOM,CDOM_FLAG_W,PAR,PAR_FLAG_W,SILCAT,SILCAT_FLAG_W,SILUNC,NITRAT,NITRAT_FLAG_W,NRAUNC,NITRIT,NITRIT_FLAG_W,NRIUNC,PHSPHT,PHSPHT_FLAG_W,PHPUNC,AMMONIA,AMMONIA_FLAG_W,NH4UNC,CFC-11,CFC-11_FLAG_W,CFC-12,CFC-12_FLAG_W,CFC113,CFC113_FLAG_W,SF6,SF6_FLAG_W,TCARBN,TCARBN_FLAG_W,ALKALI,ALKALI_FLAG_W,ALKALI_POT,ALKALI_POT_FLAG_W,PH_TOT,PH_TMP,PH_TOT_FLAG_W,CALCIUM,CALCIUM_FLAG_W,DOC,DOC_FLAG_W,DELC13,DELC13_FLAG_W,C13ERR,DELC14,DELC14_FLAG_W,C14ERR,CS-134,CS-134_FLAG_W,CS134ER,CS-137,CS-137_FLAG_W,CS137ER,I-129,I-129_FLAG_W,I-129ER,CDOM-325,CDOM-325_FLAG_W,CDOM-370,CDOM-370_FLAG_W,CDOM-443,CDOM-443_FLAG_W
,,,,,,,,UTC,DEG,DEG,METERS,DBAR,,ITS-90,,ITS-90,,PSS-78,,PSS-78,,G/KG,,UMOL/KG,,UMOL/KG,,%TRANS,/METER,,MG/CUM,,MG/CUM,,MG/CUM,,UE/SQM/S,,UMOL/KG,,UMOL/KG,UMOL/KG,,UMOL/KG,UMOL/KG,,UMOL/KG,UMOL/KG,,UMOL/KG,UMOL/KG,,UMOL/KG,PMOL/KG,,PMOL/KG,,PMOL/KG,,FMOL/KG,,UMOL/KG,,UMOL/KG,,UMOL/KG,,,DEG C,,MMOL/KG,,UMOL/KG,,/MILLE,,/MILLE,/MILLE,,/MILLE,MBQ/KG,,MBQ/KG,MBQ/KG,,MBQ/KG,,,,/METER,,/METER,,/METER,
  49NZ20140717,   P01,    60,  1,      9, X12J09,2,20140723,1334, 41.2680, 150.3867, 5382,   4003.2,2,   1.4698,2,   1.46978,2,  34.6816,2,  34.6819,2,  34.8625,2,   148.88,2,   148.55,2,   99.999,   0.0000,2,   -0.003,2,  -999.00,9,    2.210,1,    0.000,2,   151.64,2,     0.17,    36.26,2,     0.05,     0.00,2,     0.01,     2.53,2,     0.01,  -999.00,9,  -999.00, -999.000,9, -999.000,9, -999.000,9, -999.000,9,   2329.4,2,   2418.0,2,   -999.0,9,   7.5696,       25,2, -999.000,9,    37.07,2, -999.000,9, -999.000,   -999.0,9,   -999.0, -999.000,9, -999.000, -999.000,9, -999.000,   -999.0,9,   -999.0,    0.173,2,    0.086,2,    0.030,2
  49NZ20140717,   P01,    60,  1,      8, X12J08,2,20140723,1334, 41.2680, 150.3867, 5382,   4252.1,2,   1.4664,2,   1.46660,2,  34.6849,2,  34.6848,2,  34.8684,2,   152.85,2,   152.42,2,   99.993,   0.0003,2,   -0.004,2,  -999.00,9,    1.759,4,    0.000,2,   150.74,2,     0.17,    36.02,2,     0.05,     0.00,2,     0.01,     2.51,2,     0.01,  -999.00,9,  -999.00, -999.000,9, -999.000,9, -999.000,9, -999.000,9,   2326.4,6,   2415.6,2,   -999.0,9,   7.5764,       25,2, -999.000,9,    38.20,2, -999.000,9, -999.000,   -999.0,9,   -999.0, -999.000,9, -999.000, -999.000,9, -999.000,   -999.0,9,   -999.0, -999.000,9, -999.000,9, -999.000,9
  49NZ20140717,   P01,    60,  1,      7, X12J07,2,20140723,1334, 41.2680, 150.3867, 5382,   4503.3,2,   1.4781,2,   1.47827,2,  34.6868,2,  34.6864,2,  34.8697,2,   155.06,2,   154.69,2,   99.989,   0.0005,2,   -0.004,2,  -999.00,9,    1.345,4,    0.000,2,   150.13,2,     0.17,    35.89,2,     0.05,     0.00,2,     0.01,     2.50,2,     0.01,  -999.00,9,  -999.00, -999.000,9, -999.000,9, -999.000,9, -999.000,9,   2324.7,2,   2414.6,2,   -999.0,9,   7.5798,       25,6, -999.000,9,    38.26,2, -999.000,9, -999.000,   -999.0,9,   -999.0, -999.000,9, -999.000, -999.000,9, -999.000,   -999.0,9,   -999.0, -999.000,9, -999.000,9, -999.000,9
  49NZ20140717,   P01,    60,  1,      6, X12J06,2,20140723,1334, 41.2680, 150.3867, 5382,   4748.8,2,   1.4926,2,   1.49276,2,  34.6884,2,  34.6885,2,  34.8704,2,   156.69,2,   156.36,2,   99.973,   0.0011,2,   -0.004,2,  -999.00,9,    0.168,4,    0.000,2,   150.50,2,     0.17,    35.75,2,     0.05,     0.00,2,     0.01,     2.49,2,     0.01,  -999.00,9,  -999.00, -999.000,9, -999.000,9, -999.000,9, -999.000,9,   2323.8,2,   2415.6,6,   -999.0,9,   7.5829,       25,2, -999.000,9,    39.30,2, -999.000,9, -999.000,   -999.0,9,   -999.0, -999.000,9, -999.000, -999.000,9, -999.000,   -999.0,9,   -999.0, -999.000,9, -999.000,9, -999.000,9
  49NZ20140717,   P01,    60,  1,      5, X12J05,2,20140723,1334, 41.2680, 150.3867, 5382,   4999.2,2,   1.5163,2,   1.51654,2,  34.6891,2,  34.6893,2,  34.8717,2,   157.39,2,   157.23,2,   99.965,   0.0014,2,   -0.004,2,  -999.00,9,   -1.545,4,    0.000,2,   150.71,2,     0.17,    35.68,2,     0.05,     0.01,2,     0.01,     2.49,2,     0.01,  -999.00,9,  -999.00, -999.000,9, -999.000,9, -999.000,9, -999.000,9,   2323.7,2,   2416.7,2,   -999.0,9,   7.5837,       25,2, -999.000,9,    38.40,2, -999.000,9, -999.000,   -999.0,9,   -999.0, -999.000,9, -999.000, -999.000,9, -999.000,   -999.0,9,   -999.0,    0.178,2,    0.088,2,    0.026,2
  49NZ20140717,   P01,    60,  1,      4, X12J04,2,20140723,1334, 41.2680, 150.3867, 5382,   5250.5,2,   1.5434,2,   1.54347,2,  34.6896,2,  34.6898,2,  34.8717,2,   157.79,2,   157.64,2,   99.870,   0.0052,2,   -0.004,2,  -999.00,9,   -1.732,4,    0.000,2,   151.33,2,     0.17,    35.65,2,     0.05,     0.00,2,     0.01,     2.48,2,     0.01,  -999.00,9,  -999.00, -999.000,9, -999.000,9, -999.000,9, -999.000,9,   2321.9,2,   2416.0,2,   -999.0,9,   7.5846,       25,2, -999.000,9,    38.51,2, -999.000,9, -999.000,   -999.0,9,   -999.0, -999.000,9, -999.000, -999.000,9, -999.000,   -999.0,9,   -999.0, -999.000,9, -999.000,9, -999.000,9
  49NZ20140717,   P01,    60,  1,      3, X12J03,2,20140723,1334, 41.2680, 150.3867, 5382,      9.9,2,  19.8406,2,  19.84326,2,  34.0032,2,-999.0000,9,-999.0000,9,   236.83,2,  -999.00,9,   95.678,   0.1767,2,    0.254,2,  -999.00,9,    0.165,1,    0.193,2,  -999.00,9,  -999.00,  -999.00,9,  -999.00,  -999.00,9,  -999.00,  -999.00,9,  -999.00,  -999.00,9,  -999.00, -999.000,9, -999.000,9, -999.000,9, -999.000,9,   -999.0,9,   -999.0,9,   -999.0,9,-999.0000,     -999,9, -999.000,9,  -999.00,9, -999.000,9, -999.000,   -999.0,9,   -999.0, -999.000,9, -999.000, -999.000,9, -999.000,   -999.0,9,   -999.0, -999.000,9, -999.000,9, -999.000,9
  49NZ20140717,   P01,    60,  1,      2, X12J02,2,20140723,1334, 41.2680, 150.3867, 5382,     50.3,2,  12.0187,2,  12.01846,2,  34.1825,2,-999.0000,9,-999.0000,9,   230.60,2,  -999.00,9,   98.237,   0.0712,2,    0.366,2,  -999.00,9,    0.634,1,    0.000,2,  -999.00,9,  -999.00,  -999.00,9,  -999.00,  -999.00,9,  -999.00,  -999.00,9,  -999.00,  -999.00,9,  -999.00, -999.000,9, -999.000,9, -999.000,9, -999.000,9,   -999.0,9,   -999.0,9,   -999.0,9,-999.0000,     -999,9, -999.000,9,  -999.00,9, -999.000,9, -999.000,   -999.0,9,   -999.0, -999.000,9, -999.000, -999.000,9, -999.000,   -999.0,9,   -999.0, -999.000,9, -999.000,9, -999.000,9
  49NZ20140717,   P01,    60,  1,      1, X12J01,2,20140723,1334, 41.2680, 150.3867, 5382,   5480.6,2,   1.5668,2,   1.56672,2,  34.6901,2,  34.6903,2,  34.8743,2,   158.48,2,   158.45,2,   99.620,   0.0152,2,   -0.003,2,  -999.00,9,   -1.026,4,    0.000,2,   151.53,2,     0.17,    35.60,2,     0.05,     0.01,2,     0.01,     2.48,2,     0.01,  -999.00,9,  -999.00, -999.000,9, -999.000,9, -999.000,9, -999.000,9,   2322.3,2,   2416.2,2,   -999.0,9,   7.5856,       25,2, -999.000,9,    37.50,2, -999.000,9, -999.000,   -999.0,9,   -999.0, -999.000,9, -999.000, -999.000,9, -999.000,   -999.0,9,   -999.0,    0.161,2,    0.075,2,    0.022,2