BOTTLE,20231011CCHSIOENA
EXPOCODE,SECT_ID,STNNBR,CASTNO,SAMPNO,BTLNBR,BTLNBR_FLAG_W,DATE,TIME,LATITUDE,LONGITUDE,DEPTH,CTDPRS,CTDPRS_FLAG_W,CTDTMP,CTDTMP_FLAG_W,CTDSAL,CTDSAL_FLAG_W,SALNTY,SALNTY_FLAG_W,CTDOXY,CTDOXY_FLAG_W,OXYGEN,OXYGEN_FLAG_W,SILCAT,SILCAT_FLAG_W,NH4,NH4_FLAG_W,NITRAT,NITRAT_FLAG_W,NITRIT,NITRIT_FLAG_W,PHSPHT,PHSPHT_FLAG_W,CFC-11,CFC-11_FLAG_W,CFC-12,CFC-12_FLAG_W,CFC113,CFC113_FLAG_W,SF6,SF6_FLAG_W,TCARBN,TCARBN_FLAG_W,ALKALI,ALKALI_FLAG_W,DOC,DOC_FLAG_W,TDN,TDN_FLAG_W,DNSSAL,DNSSAL_FLAG_W,RIANOMALY,RIANOMALY_FLAG_W,SILUNC,NH4UNC,NRAUNC,NRIUNC,PHPUNC,FDOM,FDOM_FLAG_W,REFTMP,REFTMP_FLAG_W,CTDFLUOR,CTDFLUOR_FLAG_W,PAR,PAR_FLAG_W,CDOM300,CDOM300_FLAG_W,CDOM325,CDOM325_FLAG_W,CDOM443,CDOM443_FLAG_W,CTDXMISS,CTDBEAMCP,CTDBEAMCP_FLAG_W,CTDTURB,CTDTURB_FLAG_W,CTDCDOM,CTDCDOM_FLAG_W,CHLORA,CHLORA_FLAG_W
,,,,,,,,,,,METERS,DBAR,,ITS-90,,PSS-78,,PSS-78,,UMOL/KG,,UMOL/KG,,UMOL/KG,,UMOL/KG,,UMOL/KG,,UMOL/KG,,UMOL/KG,,PMOL/KG,,PMOL/KG,,PMOL/KG,,FMOL/KG,,UMOL/KG,,UMOL/KG,,UMOL/KG,,UMOL/KG,,G/KG,,ND,,UMOL/KG,UMOL/KG,UMOL/KG,UMOL/KG,UMOL/KG,RFU,,ITS-90,,MG/M^3,,UMOL/M^2/SEC,,/METER,,/METER,,/METER,,%TRANS,/METER,,FTU,,QSU,,UG/L,
49NZ20210713,        P01,       8,          1,          6,     X12S06,2,20210716,       1056,    42.1798,   146.0871,       5070,  4829.9,2,   1.4891,2,  34.6891,2,  34.6891,2,   157.94,2,  158.25,2,  149.40,2,    0.05,2,   35.66,2,    0.00,2,   2.466,2,   0.001,2,   0.003,2,   0.001,2,   0.000,2,  2317.8,2,  2409.8,6,   40.91,2, -999.00,9,    34.8683,2,     640.34,3,       0.24,       0.01,       0.08,       0.01,      0.006,     -999.0,9,    1.48920,2,      0.054,1,      0.000,2,     -999.0,9,     -999.0,9,     -999.0,9,     99.512,     0.0196,2,      0.078,1,      0.543,1,     -999.0,9
49NZ20210713,        P01,       8,          1,          5,     X12S05,2,20210716,       1056,    42.1798,   146.0871,       5070,  5080.8,2,   1.5114,2,  34.6899,2,  34.6896,2,   159.27,2,  159.83,2,  148.49,2,    0.02,2,   35.56,2,    0.00,2,   2.457,2,   0.006,2,   0.006,2,   0.001,2,   0.000,2,  2317.6,2,  2409.7,2,   37.75,2, -999.00,9,    34.8697,2,     640.68,2,       0.24,       0.01,       0.08,       0.01,      0.006,     0.0101,2,    1.51149,2,      0.054,1,      0.000,2,      0.300,1,      0.167,1,      0.033,1,     99.573,     0.0171,2,      0.078,1,      0.566,1,     -999.0,9
49NZ20210713,        P01,       8,          1,          1,     X12S01,2,20210716,       1056,    42.1798,   146.0871,       5070,  5148.9,2,   1.5185,2,  34.6901,2,  34.6894,2,   159.34,2,  159.66,2,  149.02,2,    0.03,2,   35.58,2,    0.00,2,   2.459,2,   0.003,2,   0.002,2,   0.000,2,   0.000,2,  2320.2,2,  2412.1,2,   38.06,2, -999.00,9,    34.8703,2,     640.74,2,       0.24,       0.01,       0.08,       0.01,      0.006,     0.0099,2,    1.51848,2,      0.054,1,      0.000,2,      0.295,1,      0.160,1,      0.026,1,     99.530,     0.0188,2,      0.080,1,      0.561,1,     -999.0,9