BOTTLE,20231011CCHSIOENA
EXPOCODE,SECT_ID,STNNBR,CASTNO,SAMPNO,BTLNBR,BTLNBR_FLAG_W,DATE,TIME,LATITUDE,LONGITUDE,DEPTH,CTDPRS,CTDPRS_FLAG_W,CTDTMP,CTDTMP_FLAG_W,CTDSAL,CTDSAL_FLAG_W,SALNTY,SALNTY_FLAG_W,CTDOXY,CTDOXY_FLAG_W,OXYGEN,OXYGEN_FLAG_W,SILCAT,SILCAT_FLAG_W,NH4,NH4_FLAG_W,NITRAT,NITRAT_FLAG_W,NITRIT,NITRIT_FLAG_W,PHSPHT,PHSPHT_FLAG_W,CFC-11,CFC-11_FLAG_W,CFC-12,CFC-12_FLAG_W,CFC113,CFC113_FLAG_W,SF6,SF6_FLAG_W,TCARBN,TCARBN_FLAG_W,ALKALI,ALKALI_FLAG_W,DOC,DOC_FLAG_W,TDN,TDN_FLAG_W,DNSSAL,DNSSAL_FLAG_W,RIANOMALY,RIANOMALY_FLAG_W,SILUNC,NH4UNC,NRAUNC,NRIUNC,PHPUNC,FDOM,FDOM_FLAG_W,REFTMP,REFTMP_FLAG_W,CTDFLUOR,CTDFLUOR_FLAG_W,PAR,PAR_FLAG_W,CDOM300,CDOM300_FLAG_W,CDOM325,CDOM325_FLAG_W,CDOM443,CDOM443_FLAG_W,CTDXMISS,CTDBEAMCP,CTDBEAMCP_FLAG_W,CTDTURB,CTDTURB_FLAG_W,CTDCDOM,CTDCDOM_FLAG_W,CHLORA,CHLORA_FLAG_W
,,,,,,,,,,,METERS,DBAR,,ITS-90,,PSS-78,,PSS-78,,UMOL/KG,,UMOL/KG,,UMOL/KG,,UMOL/KG,,UMOL/KG,,UMOL/KG,,UMOL/KG,,PMOL/KG,,PMOL/KG,,PMOL/KG,,FMOL/KG,,UMOL/KG,,UMOL/KG,,UMOL/KG,,UMOL/KG,,G/KG,,ND,,UMOL/KG,UMOL/KG,UMOL/KG,UMOL/KG,UMOL/KG,RFU,,ITS-90,,MG/M^3,,UMOL/M^2/SEC,,/METER,,/METER,,/METER,,%TRANS,/METER,,FTU,,QSU,,UG/L,
49NZ20210713,        P01,      64,          1,          5,     X12S05,2,20210803,       1836,    46.9972,  -177.2142,       5712,  4921.4,2,   1.5324,2,  34.6870,2,  34.6862,2,   151.62,2,  151.45,2,  160.58,2,    0.02,2,   36.25,2,    0.00,2,   2.500,2,   0.000,2,   0.000,2,   0.002,2,   0.003,2,  2330.7,2,  2418.3,2,   39.58,2, -999.00,9,    34.8676,2,     640.77,2,       0.25,       0.01,       0.08,       0.01,      0.006,     0.0099,2,    1.53244,2,      0.054,1,      0.000,2,      0.295,1,      0.164,1,      0.027,1,    100.009,    -0.0004,2,      0.044,1,      0.338,1,     -999.0,9
49NZ20210713,        P01,      64,          1,          4,     X12S04,2,20210803,       1836,    46.9972,  -177.2142,       5712,  5169.6,2,   1.5616,2,  34.6873,2,  34.6868,2,   152.13,2,  152.06,2,  160.68,2,    0.03,2,   36.18,2,    0.00,2,   2.498,2,   0.003,2,   0.000,2,   0.000,2,   0.006,2,  2329.6,2,  2418.7,2,   36.44,2, -999.00,9,    34.8693,2,     640.77,2,       0.25,       0.01,       0.08,       0.01,      0.006,     0.0095,2,    1.56162,2,      0.053,1,      0.000,2,      0.312,1,      0.179,1,      0.031,1,     99.995,     0.0002,2,      0.044,1,      0.340,1,     -999.0,9
49NZ20210713,        P01,      64,          1,          3,     X12S03,2,20210803,       1836,    46.9972,  -177.2142,       5712,  5420.4,2,   1.5932,2,  34.6874,2,  34.6872,2,   152.30,2,  152.32,2,  160.97,2,    0.01,2,   36.22,2,    0.00,2,   2.494,2,   0.002,2,   0.000,2,   0.003,2,   0.000,2,  2332.6,2,  2419.8,2,   37.29,2, -999.00,9,    34.8683,2,     640.77,2,       0.25,       0.01,       0.08,       0.01,      0.006,     0.0096,2,    1.59319,2,      0.054,1,      0.000,2,      0.301,1,      0.170,1,      0.027,1,     99.967,     0.0013,2,      0.046,1,      0.339,1,     -999.0,9
49NZ20210713,        P01,      64,          1,          2,     X12B34,2,20210803,       1836,    46.9972,  -177.2142,       5712,  5670.1,2,   1.6246,2,  34.6877,2,  34.6873,2,   152.76,2,  152.86,2,  160.82,2,    0.01,2,   36.26,2,    0.00,2,   2.496,2,   0.000,2,   0.000,2,   0.000,2,   0.000,2,  2329.3,2,  2418.5,2,   40.26,2, -999.00,9,    34.8696,2,     640.77,2,       0.28,       0.01,       0.08,       0.01,      0.006,     0.0096,2,    1.62466,2,      0.053,1,      0.000,2,      0.304,1,      0.172,1,      0.032,1,     99.937,     0.0025,2,      0.049,1,      0.326,1,     -999.0,9
49NZ20210713,        P01,      64,          1,          1,     X12S01,2,20210803,       1836,    46.9972,  -177.2142,       5712,  5816.6,2,   1.6442,2,  34.6876,2,  34.6871,2,   153.04,2,  153.07,2,  160.71,2,    0.02,2,   36.20,2,    0.00,2,   2.495,2,   0.002,2,   0.002,2,   0.000,2,   0.003,2,  2330.8,2,  2417.5,2,   38.06,2, -999.00,9,    34.8683,2,     640.92,2,       0.25,       0.01,       0.08,       0.01,      0.006,     0.0097,2,    1.64408,2,      0.054,1,      0.000,2,      0.299,1,      0.172,1,      0.029,1,     99.895,     0.0042,2,      0.048,1,      0.322,1,     -999.0,9