BOTTLE,20231011CCHSIOENA
EXPOCODE,SECT_ID,STNNBR,CASTNO,SAMPNO,BTLNBR,BTLNBR_FLAG_W,DATE,TIME,LATITUDE,LONGITUDE,DEPTH,CTDPRS,CTDPRS_FLAG_W,CTDTMP,CTDTMP_FLAG_W,CTDSAL,CTDSAL_FLAG_W,SALNTY,SALNTY_FLAG_W,CTDOXY,CTDOXY_FLAG_W,OXYGEN,OXYGEN_FLAG_W,SILCAT,SILCAT_FLAG_W,NH4,NH4_FLAG_W,NITRAT,NITRAT_FLAG_W,NITRIT,NITRIT_FLAG_W,PHSPHT,PHSPHT_FLAG_W,CFC-11,CFC-11_FLAG_W,CFC-12,CFC-12_FLAG_W,CFC113,CFC113_FLAG_W,SF6,SF6_FLAG_W,TCARBN,TCARBN_FLAG_W,ALKALI,ALKALI_FLAG_W,DOC,DOC_FLAG_W,TDN,TDN_FLAG_W,DNSSAL,DNSSAL_FLAG_W,RIANOMALY,RIANOMALY_FLAG_W,SILUNC,NH4UNC,NRAUNC,NRIUNC,PHPUNC,FDOM,FDOM_FLAG_W,REFTMP,REFTMP_FLAG_W,CTDFLUOR,CTDFLUOR_FLAG_W,PAR,PAR_FLAG_W,CDOM300,CDOM300_FLAG_W,CDOM325,CDOM325_FLAG_W,CDOM443,CDOM443_FLAG_W,CTDXMISS,CTDBEAMCP,CTDBEAMCP_FLAG_W,CTDTURB,CTDTURB_FLAG_W,CTDCDOM,CTDCDOM_FLAG_W,CHLORA,CHLORA_FLAG_W
,,,,,,,,,,,METERS,DBAR,,ITS-90,,PSS-78,,PSS-78,,UMOL/KG,,UMOL/KG,,UMOL/KG,,UMOL/KG,,UMOL/KG,,UMOL/KG,,UMOL/KG,,PMOL/KG,,PMOL/KG,,PMOL/KG,,FMOL/KG,,UMOL/KG,,UMOL/KG,,UMOL/KG,,UMOL/KG,,G/KG,,ND,,UMOL/KG,UMOL/KG,UMOL/KG,UMOL/KG,UMOL/KG,RFU,,ITS-90,,MG/M^3,,UMOL/M^2/SEC,,/METER,,/METER,,/METER,,%TRANS,/METER,,FTU,,QSU,,UG/L,
49NZ20210713,        P01,      60,          1,          5,     X12S05,2,20210802,       0553,    46.9970,   178.3064,       5766,  4999.5,2,   1.5400,2,  34.6869,2,  34.6872,2,   152.72,2,  152.60,2,  158.65,2,    0.00,2,   36.19,2,    0.00,2,   2.497,2,   0.003,2,   0.000,2,   0.000,2,   0.000,2,  2329.7,2,  2418.6,2,   38.69,2, -999.00,9,    34.8686,2,     640.75,2,       0.25,       0.01,       0.08,       0.01,      0.006,     0.0108,3,    1.54007,2,      0.054,1,      0.000,2,      0.287,1,      0.160,1,      0.026,1,     99.974,     0.0010,2,      0.045,1,      0.346,1,     -999.0,9
49NZ20210713,        P01,      60,          1,          4,     X12S04,2,20210802,       0553,    46.9970,   178.3064,       5766,  5251.2,2,   1.5683,2,  34.6873,2,  34.6876,2,   153.51,2,  153.29,2,  157.99,2,    0.01,2,   36.09,2,    0.00,2,   2.495,2,   0.000,2,   0.000,2,   0.000,2,   0.000,2,  2328.2,2,  2415.9,2,   39.14,2, -999.00,9,    34.8683,2,     640.75,2,       0.25,       0.01,       0.08,       0.01,      0.006,     0.0101,2,    1.56829,2,      0.054,1,      0.000,2,      0.327,1,      0.198,1,      0.042,1,     99.944,     0.0022,2,      0.047,1,      0.344,1,     -999.0,9
49NZ20210713,        P01,      60,          1,          3,     X12S03,2,20210802,       0553,    46.9970,   178.3064,       5766,  5499.7,2,   1.5992,2,  34.6874,2,  34.6880,2,   153.89,2,  153.86,2,  157.70,2,    0.02,2,   36.07,2,    0.00,2,   2.494,2,   0.002,2,   0.000,2,   0.001,2,   0.000,2,  2328.1,2,  2413.7,2,   39.92,2, -999.00,9,    34.8682,2,     640.80,2,       0.25,       0.01,       0.08,       0.01,      0.006,     0.0103,2,    1.59923,2,      0.054,1,      0.000,2,      0.280,1,      0.153,1,      0.024,1,     99.921,     0.0032,2,      0.049,1,      0.346,1,     -999.0,9
49NZ20210713,        P01,      60,          1,          2,     X12B34,2,20210802,       0553,    46.9970,   178.3064,       5766,  5749.4,2,   1.6298,2,  34.6877,2,  34.6883,2,   154.39,2,  154.29,2,  157.22,2,    0.01,2,   36.00,2,    0.00,2,   2.493,2,   0.006,2,   0.001,2,   0.002,2,   0.000,2,  2327.4,2,  2416.3,2,   39.59,2, -999.00,9,    34.8697,2,     640.70,2,       0.25,       0.01,       0.08,       0.01,      0.006,     0.0100,2,    1.62981,2,      0.053,1,      0.000,2,      0.290,1,      0.163,1,      0.025,1,     99.889,     0.0044,2,      0.049,1,      0.339,1,     -999.0,9
49NZ20210713,        P01,      60,          1,          1,     X12S01,2,20210802,       0553,    46.9970,   178.3064,       5766,  5869.3,2,   1.6459,2,  34.6877,2,  34.6877,2,   154.48,2,  154.35,2,  157.97,2,    0.00,2,   36.05,2,    0.00,2,   2.492,2,   0.021,2,   0.004,2,   0.002,2,   0.011,2,  2328.0,2,  2418.0,2,   38.85,2, -999.00,9,    34.8690,2,     640.95,2,       0.25,       0.01,       0.08,       0.01,      0.006,     0.0103,2,    1.64590,2,      0.053,1,      0.000,2,      0.293,1,      0.168,1,      0.026,1,     99.877,     0.0049,2,      0.052,1,      0.327,1,     -999.0,9
49NZ20210713,        P01,      61,          1,          2,     X12B34,2,20210802,       1448,    47.0111,   179.4374,       5556,    21.3,2,   8.2064,2,  32.9835,2,-999.0000,9,   309.13,2, -999.00,9, -999.00,9, -999.00,9, -999.00,9, -999.00,9,-999.000,9,-999.000,9,-999.000,9,-999.000,9,-999.000,9,  -999.0,9,  -999.0,9, -999.00,9, -999.00,9,     -999.0,9,     -999.0,9,     -999.0,     -999.0,     -999.0,     -999.0,     -999.0,     -999.0,9,    8.18943,2,      0.844,1,      0.000,2,     -999.0,9,     -999.0,9,     -999.0,9,     97.583,     0.0979,2,      0.162,1,      0.202,1,     -999.0,9