BOTTLE,20231011CCHSIOENA
EXPOCODE,SECT_ID,STNNBR,CASTNO,SAMPNO,BTLNBR,BTLNBR_FLAG_W,DATE,TIME,LATITUDE,LONGITUDE,DEPTH,CTDPRS,CTDPRS_FLAG_W,CTDTMP,CTDTMP_FLAG_W,CTDSAL,CTDSAL_FLAG_W,SALNTY,SALNTY_FLAG_W,CTDOXY,CTDOXY_FLAG_W,OXYGEN,OXYGEN_FLAG_W,SILCAT,SILCAT_FLAG_W,NH4,NH4_FLAG_W,NITRAT,NITRAT_FLAG_W,NITRIT,NITRIT_FLAG_W,PHSPHT,PHSPHT_FLAG_W,CFC-11,CFC-11_FLAG_W,CFC-12,CFC-12_FLAG_W,CFC113,CFC113_FLAG_W,SF6,SF6_FLAG_W,TCARBN,TCARBN_FLAG_W,ALKALI,ALKALI_FLAG_W,DOC,DOC_FLAG_W,TDN,TDN_FLAG_W,DNSSAL,DNSSAL_FLAG_W,RIANOMALY,RIANOMALY_FLAG_W,SILUNC,NH4UNC,NRAUNC,NRIUNC,PHPUNC,FDOM,FDOM_FLAG_W,REFTMP,REFTMP_FLAG_W,CTDFLUOR,CTDFLUOR_FLAG_W,PAR,PAR_FLAG_W,CDOM300,CDOM300_FLAG_W,CDOM325,CDOM325_FLAG_W,CDOM443,CDOM443_FLAG_W,CTDXMISS,CTDBEAMCP,CTDBEAMCP_FLAG_W,CTDTURB,CTDTURB_FLAG_W,CTDCDOM,CTDCDOM_FLAG_W,CHLORA,CHLORA_FLAG_W
,,,,,,,,,,,METERS,DBAR,,ITS-90,,PSS-78,,PSS-78,,UMOL/KG,,UMOL/KG,,UMOL/KG,,UMOL/KG,,UMOL/KG,,UMOL/KG,,UMOL/KG,,PMOL/KG,,PMOL/KG,,PMOL/KG,,FMOL/KG,,UMOL/KG,,UMOL/KG,,UMOL/KG,,UMOL/KG,,G/KG,,ND,,UMOL/KG,UMOL/KG,UMOL/KG,UMOL/KG,UMOL/KG,RFU,,ITS-90,,MG/M^3,,UMOL/M^2/SEC,,/METER,,/METER,,/METER,,%TRANS,/METER,,FTU,,QSU,,UG/L,
49NZ20210713,        P01,      58,          1,          5,     X12S05,2,20210801,       1418,    46.9952,   176.0940,       5697,  4919.5,2,   1.5299,2,  34.6869,2,  34.6869,2,   152.64,2,  152.38,2,  158.43,2,    0.00,2,   36.09,2,    0.00,2,   2.508,2,   0.000,2,   0.000,2,   0.000,2,   0.010,2,  2328.0,2,  2417.4,2,   39.21,2, -999.00,9,    34.8672,2,     640.60,2,       0.25,       0.01,       0.08,       0.01,      0.006,     0.0103,2,    1.52990,2,      0.054,1,      0.000,2,      0.294,1,      0.160,1,      0.027,1,     99.970,     0.0012,2,      0.050,1,      0.348,1,     -999.0,9
49NZ20210713,        P01,      58,          1,          4,     X12S04,2,20210801,       1418,    46.9952,   176.0940,       5697,  5169.3,2,   1.5597,2,  34.6871,2,  34.6875,2,   152.87,2,  152.62,2,  158.49,2,    0.01,2,   36.04,2,    0.00,2,   2.502,2,   0.003,2,   0.002,2,   0.000,2,   0.022,2,  2325.7,2,  2416.1,2,   39.06,2, -999.00,9,    34.8687,2,     640.65,2,       0.25,       0.01,       0.08,       0.01,      0.006,     0.0108,2,    1.55969,2,      0.054,1,      0.000,2,      0.338,1,      0.195,1,      0.035,1,     99.966,     0.0014,2,      0.046,1,      0.346,1,     -999.0,9
49NZ20210713,        P01,      58,          1,          3,     X12S03,2,20210801,       1418,    46.9952,   176.0940,       5697,  5419.6,2,   1.5901,2,  34.6873,2,  34.6871,2,   153.45,2,  153.34,2,  157.83,2,    0.01,2,   36.03,2,    0.00,2,   2.502,2,   0.001,2,   0.001,2,   0.001,2,   0.017,2,  2325.4,2,  2415.2,2,   38.86,2, -999.00,9,    34.8687,2,     640.70,2,       0.25,       0.01,       0.08,       0.01,      0.006,     0.0106,2,    1.59007,2,      0.053,1,      0.000,2,      0.311,1,      0.177,1,      0.032,1,     99.945,     0.0022,2,      0.048,1,      0.345,1,     -999.0,9
49NZ20210713,        P01,      58,          1,          2,     X12B34,2,20210801,       1418,    46.9952,   176.0940,       5697,  5670.3,2,   1.6219,2,  34.6875,2,  34.6873,2,   153.80,2,  153.75,2,  157.64,2,    0.00,2,   36.08,2,    0.00,2,   2.507,2,   0.002,2,   0.000,2,   0.001,2,   0.000,2,  2322.6,2,  2415.1,2,   39.18,2, -999.00,9,    34.8708,2,     640.65,2,       0.25,       0.01,       0.08,       0.01,      0.006,     0.0107,2,    1.62194,2,      0.053,1,      0.000,2,      0.307,1,      0.171,1,      0.029,1,     99.912,     0.0035,2,      0.052,1,      0.342,1,     -999.0,9
49NZ20210713,        P01,      58,          1,          1,     X12S01,2,20210801,       1418,    46.9952,   176.0940,       5697,  5803.4,2,   1.6389,2,  34.6875,2,  34.6877,2,   154.20,2,  154.08,2,  157.37,2,    0.00,2,   36.01,2,    0.00,2,   2.503,2,   0.005,2,   0.003,2,   0.001,2,   0.010,2,  2322.8,2,  2414.6,2,   44.30,4, -999.00,9,    34.8679,2,     640.80,2,       0.25,       0.01,       0.08,       0.01,      0.006,     0.0108,2,    1.63883,2,      0.053,1,      0.000,2,      0.321,1,      0.190,1,      0.035,1,     99.880,     0.0048,2,      0.051,1,      0.334,1,     -999.0,9