BOTTLE,20231011CCHSIOENA
EXPOCODE,SECT_ID,STNNBR,CASTNO,SAMPNO,BTLNBR,BTLNBR_FLAG_W,DATE,TIME,LATITUDE,LONGITUDE,DEPTH,CTDPRS,CTDPRS_FLAG_W,CTDTMP,CTDTMP_FLAG_W,CTDSAL,CTDSAL_FLAG_W,SALNTY,SALNTY_FLAG_W,CTDOXY,CTDOXY_FLAG_W,OXYGEN,OXYGEN_FLAG_W,SILCAT,SILCAT_FLAG_W,NH4,NH4_FLAG_W,NITRAT,NITRAT_FLAG_W,NITRIT,NITRIT_FLAG_W,PHSPHT,PHSPHT_FLAG_W,CFC-11,CFC-11_FLAG_W,CFC-12,CFC-12_FLAG_W,CFC113,CFC113_FLAG_W,SF6,SF6_FLAG_W,TCARBN,TCARBN_FLAG_W,ALKALI,ALKALI_FLAG_W,DOC,DOC_FLAG_W,TDN,TDN_FLAG_W,DNSSAL,DNSSAL_FLAG_W,RIANOMALY,RIANOMALY_FLAG_W,SILUNC,NH4UNC,NRAUNC,NRIUNC,PHPUNC,FDOM,FDOM_FLAG_W,REFTMP,REFTMP_FLAG_W,CTDFLUOR,CTDFLUOR_FLAG_W,PAR,PAR_FLAG_W,CDOM300,CDOM300_FLAG_W,CDOM325,CDOM325_FLAG_W,CDOM443,CDOM443_FLAG_W,CTDXMISS,CTDBEAMCP,CTDBEAMCP_FLAG_W,CTDTURB,CTDTURB_FLAG_W,CTDCDOM,CTDCDOM_FLAG_W,CHLORA,CHLORA_FLAG_W
,,,,,,,,,,,METERS,DBAR,,ITS-90,,PSS-78,,PSS-78,,UMOL/KG,,UMOL/KG,,UMOL/KG,,UMOL/KG,,UMOL/KG,,UMOL/KG,,UMOL/KG,,PMOL/KG,,PMOL/KG,,PMOL/KG,,FMOL/KG,,UMOL/KG,,UMOL/KG,,UMOL/KG,,UMOL/KG,,G/KG,,ND,,UMOL/KG,UMOL/KG,UMOL/KG,UMOL/KG,UMOL/KG,RFU,,ITS-90,,MG/M^3,,UMOL/M^2/SEC,,/METER,,/METER,,/METER,,%TRANS,/METER,,FTU,,QSU,,UG/L,
49NZ20210713,        P01,      79,          1,          6,     X12S06,2,20210808,       1627,    46.9943,  -160.3608,       5130,  4749.4,2,   1.5355,2,  34.6855,2,  34.6856,2,   145.04,2,  144.89,2,  168.42,2,    0.00,2,   36.54,2,    0.00,2,   2.541,2,   0.000,2,   0.000,2,   0.000,2,   0.023,2,  2338.7,2,  2427.1,6,   37.58,2, -999.00,9,    34.8705,2,     640.68,2,       0.26,       0.01,       0.08,       0.01,      0.006,     -999.0,9,    1.53566,2,      0.054,1,      0.000,2,     -999.0,9,     -999.0,9,     -999.0,9,     99.965,     0.0014,2,      0.034,1,      0.290,1,     -999.0,9
49NZ20210713,        P01,      79,          1,          5,     X12S05,2,20210808,       1627,    46.9943,  -160.3608,       5130,  4999.7,2,   1.5633,2,  34.6863,2,  34.6854,2,   144.71,2,  144.89,2,  171.90,2,    0.03,2,   36.69,2,    0.00,2,   2.553,2,-999.000,5,-999.000,5,-999.000,5,-999.000,5,  2342.4,2,  2429.7,2,   36.69,2, -999.00,9,    34.8712,2,     640.68,2,       0.27,       0.01,       0.08,       0.01,      0.008,     0.0101,2,    1.56338,2,      0.055,1,      0.000,2,      0.309,1,      0.178,1,      0.032,1,     99.926,     0.0030,2,      0.038,1,      0.290,1,     -999.0,9
49NZ20210713,        P01,      79,          1,          1,     X12S01,2,20210808,       1627,    46.9943,  -160.3608,       5130,  5212.5,2,   1.5905,2,  34.6865,2,  34.6869,2,   144.61,2,  145.05,2,  172.57,2,    0.01,2,   36.73,2,    0.00,2,   2.550,2,   0.000,2,   0.001,2,   0.000,2,   0.020,2,  2333.7,2,  2431.9,2,   36.71,2, -999.00,9,    34.8716,2,     640.73,2,       0.27,       0.01,       0.08,       0.01,      0.006,     0.0099,2,    1.59062,2,      0.054,1,      0.000,2,      0.314,1,      0.182,1,      0.033,1,     99.847,     0.0061,2,      0.042,1,      0.290,1,     -999.0,9