BOTTLE,20231011CCHSIOENA
EXPOCODE,SECT_ID,STNNBR,CASTNO,SAMPNO,BTLNBR,BTLNBR_FLAG_W,DATE,TIME,LATITUDE,LONGITUDE,DEPTH,CTDPRS,CTDPRS_FLAG_W,CTDTMP,CTDTMP_FLAG_W,CTDSAL,CTDSAL_FLAG_W,SALNTY,SALNTY_FLAG_W,CTDOXY,CTDOXY_FLAG_W,OXYGEN,OXYGEN_FLAG_W,SILCAT,SILCAT_FLAG_W,NH4,NH4_FLAG_W,NITRAT,NITRAT_FLAG_W,NITRIT,NITRIT_FLAG_W,PHSPHT,PHSPHT_FLAG_W,CFC-11,CFC-11_FLAG_W,CFC-12,CFC-12_FLAG_W,CFC113,CFC113_FLAG_W,SF6,SF6_FLAG_W,TCARBN,TCARBN_FLAG_W,ALKALI,ALKALI_FLAG_W,DOC,DOC_FLAG_W,TDN,TDN_FLAG_W,DNSSAL,DNSSAL_FLAG_W,RIANOMALY,RIANOMALY_FLAG_W,SILUNC,NH4UNC,NRAUNC,NRIUNC,PHPUNC,FDOM,FDOM_FLAG_W,REFTMP,REFTMP_FLAG_W,CTDFLUOR,CTDFLUOR_FLAG_W,PAR,PAR_FLAG_W,CDOM300,CDOM300_FLAG_W,CDOM325,CDOM325_FLAG_W,CDOM443,CDOM443_FLAG_W,CTDXMISS,CTDBEAMCP,CTDBEAMCP_FLAG_W,CTDTURB,CTDTURB_FLAG_W,CTDCDOM,CTDCDOM_FLAG_W,CHLORA,CHLORA_FLAG_W
,,,,,,,,,,,METERS,DBAR,,ITS-90,,PSS-78,,PSS-78,,UMOL/KG,,UMOL/KG,,UMOL/KG,,UMOL/KG,,UMOL/KG,,UMOL/KG,,UMOL/KG,,PMOL/KG,,PMOL/KG,,PMOL/KG,,FMOL/KG,,UMOL/KG,,UMOL/KG,,UMOL/KG,,UMOL/KG,,G/KG,,ND,,UMOL/KG,UMOL/KG,UMOL/KG,UMOL/KG,UMOL/KG,RFU,,ITS-90,,MG/M^3,,UMOL/M^2/SEC,,/METER,,/METER,,/METER,,%TRANS,/METER,,FTU,,QSU,,UG/L,
49NZ20210713,        P01,      54,          1,         36,     X12S36,2,20210731,       0550,    46.9985,   171.6176,       6023,    10.3,2,  10.8990,2,  32.9774,2,  32.9885,2,   291.45,2,  292.18,2,   21.34,2,    0.20,2,   14.99,2,    0.19,2,   1.297,2,   3.500,3,   1.959,3,   0.351,3,   3.388,3,  2073.4,2,  2227.2,2,   57.28,2, -999.00,9,    33.1480,2,     609.47,2,       0.06,       0.01,       0.04,       0.01,      0.004,     0.0030,2,   10.90252,2,      1.315,1,      0.206,2,      0.328,1,      0.165,1,      0.019,1,     95.422,     0.1874,2,      0.193,1,      0.223,1,       0.57,2
49NZ20210713,        P01,      54,          1,         35,     X12S35,2,20210731,       0550,    46.9985,   171.6176,       6023,    50.4,2,   5.4674,2,  33.1756,2,  33.1685,2,   319.73,2,  321.30,2,   31.46,2,    0.68,2,   19.09,2,    0.33,2,   1.632,2,   0.113,4,   0.090,4,   0.009,4,   0.561,4,  2114.9,2,  2239.4,2,   53.00,2, -999.00,9,    33.3309,2,     612.76,2,       0.11,       0.02,       0.05,       0.01,      0.005,     0.0052,2,    5.47275,2,      1.383,1,      0.000,2,      0.397,1,      0.215,1,      0.033,1,     97.794,     0.0892,2,      0.144,1,      0.269,1,       0.53,2
49NZ20210713,        P01,      54,          1,         34,     X12S34,2,20210731,       0550,    46.9985,   171.6176,       6023,   100.1,2,   3.6085,2,  33.2026,2,  33.2051,2,   314.45,2,  316.22,2,   36.45,2,    0.02,2,   22.68,2,    0.02,2,   1.766,2,   4.874,2,   2.207,2,   0.490,2,   4.291,2,  2137.8,2,  2242.1,2,   52.23,2, -999.00,9,    33.3669,2,     613.47,2,       0.08,       0.01,       0.07,       0.01,      0.005,     0.0052,2,    3.60745,2,      0.211,1,      0.000,2,      0.406,1,      0.219,1,      0.033,1,     99.493,     0.0203,2,      0.070,1,      0.273,1,       0.12,2
49NZ20210713,        P01,      54,          1,         33,     X12S33,2,20210731,       0550,    46.9985,   171.6176,       6023,   149.8,2,   3.3658,2,  33.3513,2,  33.3548,2,   293.18,2,  292.31,2,   41.12,2,    0.01,2,   23.76,2,    0.02,2,   1.817,2,   4.574,2,   2.075,2,   0.434,2,   4.025,2,  2154.5,2,  2245.9,2,   48.26,2, -999.00,9,    33.5166,2,     616.22,2,       0.13,       0.01,       0.06,       0.01,      0.005,     0.0060,2,    3.36597,2,      0.072,1,      0.000,2,      0.401,1,      0.217,1,      0.033,1,     99.595,     0.0162,2,      0.069,1,      0.289,1,       0.03,2
49NZ20210713,        P01,      54,          1,         32,     X12S32,2,20210731,       0550,    46.9985,   171.6176,       6023,   200.0,2,   4.5965,2,  33.6925,2,  33.6948,2,   188.73,2,  187.58,2,   54.54,2,    0.00,2,   28.49,2,    0.01,2,   2.098,2,   3.522,2,   1.615,2,   0.251,2,   2.673,2,  2210.0,2,  2268.9,2,   49.57,2, -999.00,9,    33.8599,2,     622.41,2,       0.14,       0.01,       0.07,       0.01,      0.005,     0.0091,2,    4.59684,2,      0.067,1,      0.000,2,      0.398,1,      0.223,1,      0.033,1,     99.639,     0.0145,2,      0.070,1,      0.342,1,       0.02,2
49NZ20210713,        P01,      54,          1,         31,     X12S31,2,20210731,       0550,    46.9985,   171.6176,       6023,   249.6,2,   4.2648,2,  33.8022,2,  33.8024,2,   127.17,2,  126.73,2,   72.70,2,    0.01,2,   34.45,2,    0.01,2,   2.498,2,   2.935,2,   1.565,2,   0.192,2,   1.745,2,  2263.2,2,  2283.8,2,   46.86,2, -999.00,9,    33.9700,2,     624.47,2,       0.15,       0.01,       0.07,       0.01,      0.006,     0.0107,2,    4.26892,2,      0.069,1,      0.000,2,      0.431,1,      0.250,1,      0.042,1,     99.544,     0.0183,2,      0.556,1,      0.371,1,       0.01,2
49NZ20210713,        P01,      54,          1,         30,     X12S30,2,20210731,       0550,    46.9985,   171.6176,       6023,   299.4,2,   3.9024,2,  33.8541,2,  33.8463,2,    93.31,2,   92.15,2,   85.50,2,    0.01,2,   38.22,2,    0.01,2,   2.749,2,   2.589,2,   1.361,2,   0.174,2,   1.444,2,  2291.5,2,  2293.4,2,   45.68,2, -999.00,9,    34.0155,2,     625.26,2,       0.19,       0.01,       0.08,       0.01,      0.006,     0.0113,2,    3.90106,2,      0.070,1,      0.000,2,      0.433,1,      0.250,1,      0.047,1,     99.683,     0.0127,2,      0.064,1,      0.384,1,     -999.0,9
49NZ20210713,        P01,      54,          1,         29,     X12S29,2,20210731,       0550,    46.9985,   171.6176,       6023,   399.8,2,   3.8711,2,  34.0194,2,  34.0198,2,    48.31,2,   48.32,2,  101.80,2,    0.01,2,   41.60,2,    0.01,2,   2.962,2,   1.747,2,   0.909,2,   0.107,2,   0.707,2,  2327.2,2,  2312.4,2,   42.31,2, -999.00,9,    34.1913,2,     628.51,2,       0.17,       0.01,       0.09,       0.01,      0.006,     0.0122,2,    3.87123,2,      0.071,1,      0.000,2,      0.438,1,      0.257,1,      0.052,1,     99.777,     0.0089,2,      0.059,1,      0.392,1,     -999.0,9
49NZ20210713,        P01,      54,          1,         28,     X12S28,2,20210731,       0550,    46.9985,   171.6176,       6023,   499.7,2,   3.6889,2,  34.1324,2,  34.1320,2,    33.44,2,   33.83,2,  114.37,2,    0.02,2,   42.53,2,    0.01,2,   3.027,2,   1.157,2,   0.623,2,   0.065,2,   0.403,2,  2341.7,2,  2331.9,2,   41.77,2, -999.00,9,    34.3057,2,     630.56,2,       0.19,       0.01,       0.09,       0.01,      0.006,     0.0127,2,    3.68934,2,      0.072,1,      0.000,2,      0.406,1,      0.239,1,      0.047,1,     99.835,     0.0066,2,      0.054,1,      0.405,1,     -999.0,9
49NZ20210713,        P01,      54,          1,         27,     X12S27,2,20210731,       0550,    46.9985,   171.6176,       6023,   598.8,2,   3.4862,2,  34.2075,2,  34.2086,2,    27.11,2,   27.01,2,  124.29,2,    0.01,2,   43.08,2,    0.00,2,   3.065,2,   0.793,2,   0.430,2,   0.045,2,   0.262,2,  2356.7,2,  2348.6,2,   40.76,2, -999.00,9,    34.3839,2,     631.91,2,       0.20,       0.01,       0.09,       0.01,      0.006,     0.0128,2,    3.48547,2,      0.071,1,      0.000,2,      0.396,1,      0.233,1,      0.044,1,     99.856,     0.0058,2,      0.055,1,      0.399,1,     -999.0,9
49NZ20210713,        P01,      54,          1,         26,     X12S26,2,20210731,       0550,    46.9985,   171.6176,       6023,   699.2,2,   3.2669,2,  34.2704,2,  34.2725,2,    23.05,2,   22.94,2,  133.31,2,    0.02,2,   43.53,2,    0.00,2,   3.097,2,   0.533,2,   0.292,2,   0.027,2,   0.163,2,  2370.0,6,  2359.4,2,   40.46,2, -999.00,9,    34.4485,2,     633.12,2,       0.21,       0.01,       0.09,       0.01,      0.006,     -999.0,9,    3.26621,2,      0.072,1,      0.000,2,     -999.0,9,     -999.0,9,     -999.0,9,     99.858,     0.0057,2,      0.056,1,      0.403,1,     -999.0,9
49NZ20210713,        P01,      54,          1,         25,     X12S25,2,20210731,       0550,    46.9985,   171.6176,       6023,   798.3,2,   3.0720,2,  34.3218,2,  34.3175,2,    22.88,2,   22.47,2,  139.50,2,    0.03,2,   43.68,2,    0.00,2,   3.108,2,   0.391,2,   0.215,2,   0.021,2,   0.125,2,  2374.0,2,  2363.5,2,   40.51,2, -999.00,9,    34.4956,2,     633.97,2,       0.29,       0.01,       0.09,       0.01,      0.006,     0.0133,2,    3.07346,2,      0.071,1,      0.000,2,      0.472,1,      0.291,1,      0.066,1,     99.872,     0.0051,2,      0.053,1,      0.395,1,     -999.0,9
49NZ20210713,        P01,      54,          1,         24,     X12S24,2,20210731,       0550,    46.9985,   171.6176,       6023,   898.6,2,   2.9161,2,  34.3604,2,  34.3590,2,    23.95,2,   23.68,2,  144.60,2,    0.02,2,   43.64,2,    0.00,2,   3.102,2,   0.282,2,   0.162,2,   0.020,2,   0.131,2,  2376.6,2,  2370.8,2,   36.91,2, -999.00,9,    34.5369,2,     634.72,2,       0.23,       0.01,       0.09,       0.01,      0.006,     -999.0,9,    2.91623,2,      0.070,1,      0.000,2,     -999.0,9,     -999.0,9,     -999.0,9,     99.863,     0.0055,2,      0.053,1,      0.385,1,     -999.0,9
49NZ20210713,        P01,      54,          1,         23,     X12S23,2,20210731,       0550,    46.9985,   171.6176,       6023,   998.5,2,   2.7657,2,  34.3969,2,  34.3956,2,    25.96,2,   25.54,2,  149.44,2,    0.02,2,   43.53,2,    0.00,2,   3.098,2,   0.206,2,   0.121,2,   0.007,2,   0.040,2,  2382.8,2,  2380.8,2,   40.26,2, -999.00,9,    34.5740,2,     635.37,2,       0.27,       0.01,       0.09,       0.01,      0.006,     0.0133,2,    2.76572,2,      0.070,1,      0.000,2,      0.402,1,      0.239,1,      0.049,1,     99.900,     0.0040,2,      0.050,1,      0.388,1,     -999.0,9
49NZ20210713,        P01,      54,          1,         22,     X12S22,2,20210731,       0550,    46.9985,   171.6176,       6023,  1199.3,2,   2.5248,2,  34.4510,2,  34.4485,2,    30.19,2,   29.91,2,  156.69,2,    0.03,2,   43.39,2,    0.00,2,   3.087,2,   0.123,2,   0.073,2,   0.011,2,   0.052,2,  2387.2,2,  2387.1,6,   39.63,2, -999.00,9,    34.6284,2,     636.37,2,       0.25,       0.01,       0.09,       0.01,      0.006,     -999.0,9,    2.52600,2,      0.069,1,      0.000,2,     -999.0,9,     -999.0,9,     -999.0,9,     99.907,     0.0037,2,      0.050,1,      0.384,1,     -999.0,9
49NZ20210713,        P01,      54,          1,         21,     X12S21,2,20210731,       0550,    46.9985,   171.6176,       6023,  1402.1,2,   2.3131,2,  34.4993,2,  34.4998,2,    38.29,2,   38.18,2,  162.39,2,    0.03,2,   43.04,2,    0.00,2,   3.054,2,   0.068,2,   0.041,2,   0.003,2,   0.079,2,  2392.3,2,  2398.1,2,   37.85,2, -999.00,9,    34.6802,2,     637.22,2,       0.25,       0.01,       0.09,       0.01,      0.006,     0.0130,2,    2.31297,2,      0.067,1,      0.000,2,      0.374,1,      0.220,1,      0.043,1,     99.916,     0.0034,2,      0.051,1,      0.379,1,     -999.0,9
49NZ20210713,        P01,      54,          1,         20,     X12S20,2,20210731,       0550,    46.9985,   171.6176,       6023,  1599.2,2,   2.1388,2,  34.5396,2,  34.5394,2,    49.12,2,   48.84,2,  165.69,2,    0.03,2,   42.52,2,    0.00,2,   3.005,2,   0.037,2,   0.021,2,   0.001,2,   0.054,2,  2387.9,2,  2404.3,2,   36.24,2, -999.00,9,    34.7204,2,     637.97,2,       0.26,       0.01,       0.09,       0.01,      0.006,     -999.0,9,    2.13845,2,      0.065,1,      0.000,2,     -999.0,9,     -999.0,9,     -999.0,9,     99.921,     0.0032,2,      0.050,1,      0.374,1,     -999.0,9
49NZ20210713,        P01,      54,          1,         19,     X12S19,2,20210731,       0550,    46.9985,   171.6176,       6023,  1798.4,2,   2.0170,2,  34.5679,2,  34.5688,2,    58.89,2,   59.18,2,  167.22,2,    0.02,2,   41.96,2,    0.00,2,   2.958,2,   0.017,2,   0.009,2,   0.002,2,   0.044,2,  2384.4,2,  2406.5,2,   37.16,2, -999.00,9,    34.7492,2,     638.51,2,       0.26,       0.01,       0.09,       0.01,      0.006,     0.0123,2,    2.01716,2,      0.064,1,      0.000,2,      0.341,1,      0.197,1,      0.036,1,     99.932,     0.0027,2,      0.049,1,      0.370,1,     -999.0,9
49NZ20210713,        P01,      54,          1,         18,     X12S18,2,20210731,       0550,    46.9985,   171.6176,       6023,  1999.8,2,   1.8999,2,  34.5921,2,  34.5914,2,    70.06,2,   69.96,2,  167.99,2,    0.01,2,   41.29,2,    0.00,2,   2.906,2,   0.007,2,   0.004,2,   0.000,2,   0.079,2,  2380.2,2,  2413.8,2,   39.29,2, -999.00,9,    34.7728,2,     638.91,2,       0.26,       0.01,       0.09,       0.01,      0.007,     -999.0,9,    1.89951,2,      0.062,1,      0.000,2,     -999.0,9,     -999.0,9,     -999.0,9,     99.937,     0.0025,2,      0.049,1,      0.362,1,     -999.0,9
49NZ20210713,        P01,      54,          1,         17,     X12S17,2,20210731,       0550,    46.9985,   171.6176,       6023,  2199.9,2,   1.8021,2,  34.6118,2,  34.6118,2,    81.92,2,   81.70,2,  167.90,2,   -0.01,2,   40.59,2,    0.00,2,   2.858,2,   0.004,2,   0.002,2,   0.000,2,   0.005,2,  2373.2,2,  2417.5,2,   38.27,2, -999.00,9,    34.7932,2,     639.31,2,       0.27,       0.01,       0.09,       0.01,      0.006,     0.0119,2,    1.80222,2,      0.061,1,      0.000,2,      0.325,1,      0.185,1,      0.032,1,     99.955,     0.0018,2,      0.048,1,      0.356,1,     -999.0,9
49NZ20210713,        P01,      54,          1,         16,     X12S16,2,20210731,       0550,    46.9985,   171.6176,       6023,  2399.1,2,   1.7276,2,  34.6265,2,  34.6257,2,    92.44,2,   92.02,2,  166.86,2,    0.00,2,   39.96,2,    0.00,2,   2.810,2,   0.000,2,   0.000,2,   0.002,2,   0.016,2,  2367.6,6,  2415.1,2,   35.69,2, -999.00,9,    34.8093,2,     639.62,2,       0.26,       0.01,       0.08,       0.01,      0.006,     -999.0,9,    1.72798,2,      0.060,1,      0.000,2,     -999.0,9,     -999.0,9,     -999.0,9,     99.944,     0.0023,2,      0.048,1,      0.349,1,     -999.0,9
49NZ20210713,        P01,      54,          1,         15,     X12S15,2,20210731,       0550,    46.9985,   171.6176,       6023,  2599.5,2,   1.6621,2,  34.6383,2,  34.6384,2,   101.20,2,  101.15,2,  166.71,2,    0.00,2,   39.36,2,    0.00,2,   2.763,2,   0.001,2,   0.001,2,   0.000,2,   0.040,2,  2363.6,2,  2416.7,2,   48.71,4, -999.00,9,    34.8205,2,     639.76,2,       0.26,       0.01,       0.08,       0.01,      0.006,     0.0116,2,    1.66202,2,      0.059,1,      0.000,2,      0.371,1,      0.220,1,      0.043,1,     99.939,     0.0024,2,      0.048,1,      0.346,1,     -999.0,9
49NZ20210713,        P01,      54,          1,         14,     X12S14,2,20210731,       0550,    46.9985,   171.6176,       6023,  2800.0,2,   1.6098,2,  34.6486,2,  34.6488,2,   110.74,2,  110.95,2,  164.85,2,    0.00,2,   38.82,2,    0.00,2,   2.715,2,   0.000,2,   0.000,2,   0.000,2,   0.010,2,  2356.7,2,  2418.8,2,   35.24,2, -999.00,9,    34.8304,2,     640.01,2,       0.26,       0.01,       0.08,       0.01,      0.006,     -999.0,9,    1.60894,2,      0.059,1,      0.000,2,     -999.0,9,     -999.0,9,     -999.0,9,     99.960,     0.0016,2,      0.047,1,      0.343,1,     -999.0,9
49NZ20210713,        P01,      54,          1,         13,     X12S13,2,20210731,       0550,    46.9985,   171.6176,       6023,  3000.2,2,   1.5684,2,  34.6568,2,  34.6565,2,   119.32,2,  119.61,2,  162.67,2,    0.01,2,   38.22,2,    0.00,2,   2.677,2,   0.000,2,   0.000,2,   0.001,2,   0.018,2,  2350.1,2,  2416.4,2,   36.94,2, -999.00,9,    34.8380,2,     640.12,2,       0.25,       0.01,       0.08,       0.01,      0.006,     0.0107,2,    1.56784,2,      0.058,1,      0.000,2,      0.300,1,      0.164,1,      0.030,1,     99.960,     0.0016,2,      0.062,1,      0.339,1,     -999.0,9
49NZ20210713,        P01,      54,          1,         12,     X12S12,2,20210731,       0550,    46.9985,   171.6176,       6023,  3250.5,2,   1.5293,2,  34.6650,2,  34.6655,2,   128.54,2,  129.00,2,  159.27,2,    0.01,2,   37.49,2,    0.00,2,   2.620,2,   0.000,2,   0.000,2,   0.003,2,   0.014,2,  2344.6,2,  2418.9,6,   37.55,2, -999.00,9,    34.8475,2,     640.26,2,       0.25,       0.01,       0.08,       0.01,      0.006,     -999.0,9,    1.52912,2,      0.057,1,      0.000,2,     -999.0,9,     -999.0,9,     -999.0,9,     99.964,     0.0014,2,      0.047,1,      0.333,1,     -999.0,9
49NZ20210713,        P01,      54,          1,         11,     X12S11,2,20210731,       0550,    46.9985,   171.6176,       6023,  3500.1,2,   1.4996,2,  34.6718,2,  34.6714,2,   136.08,2,  136.15,2,  157.34,2,    0.01,2,   37.08,2,    0.00,2,   2.581,2,   0.000,2,   0.000,2,   0.000,2,   0.000,2,  2338.4,2,  2416.5,2,   39.59,2, -999.00,9,    34.8528,2,     640.41,2,       0.25,       0.01,       0.08,       0.01,      0.006,     0.0105,2,    1.49968,2,      0.057,1,      0.000,2,      0.308,1,      0.172,1,      0.030,1,     99.978,     0.0009,2,      0.047,1,      0.337,1,     -999.0,9
49NZ20210713,        P01,      54,          1,         10,     X12S10,2,20210731,       0550,    46.9985,   171.6176,       6023,  3750.3,2,   1.4830,2,  34.6766,2,  34.6770,2,   141.82,2,  141.87,2,  156.12,2,    0.01,2,   36.77,2,    0.00,2,   2.554,2,   0.000,2,   0.000,2,   0.001,2,   0.000,2,  2337.5,2,  2418.5,2,   38.06,2, -999.00,9,    34.8588,2,     640.51,2,       0.25,       0.01,       0.08,       0.01,      0.006,     -999.0,9,    1.48324,2,      0.056,1,      0.000,2,     -999.0,9,     -999.0,9,     -999.0,9,     99.988,     0.0005,2,      0.046,1,      0.335,1,     -999.0,9
49NZ20210713,        P01,      54,          1,          9,     X12S09,2,20210731,       0550,    46.9985,   171.6176,       6023,  3999.6,2,   1.4787,2,  34.6802,2,  34.6799,2,   146.22,2,  146.33,2,  155.05,2,    0.01,2,   36.54,2,    0.00,2,   2.529,2,   0.000,2,   0.000,2,   0.000,2,   0.002,2,  2332.9,2,  2414.9,2,   37.42,4, -999.00,9,    34.8614,2,     640.56,2,       0.24,       0.01,       0.08,       0.01,      0.006,     0.0100,2,    1.47878,2,      0.056,1,      0.000,2,      0.320,1,      0.179,1,      0.034,1,     99.981,     0.0008,2,      0.047,1,      0.333,1,     -999.0,9
49NZ20210713,        P01,      54,          1,          8,     X12S08,2,20210731,       0550,    46.9985,   171.6176,       6023,  4251.4,2,   1.4834,2,  34.6827,2,  34.6831,2,   149.55,2,  149.51,2,  154.14,2,    0.02,2,   36.28,2,    0.00,2,   2.511,2,   0.000,2,   0.000,2,   0.005,2,   0.000,2,  2330.5,6,  2418.9,2,   39.27,2, -999.00,9,    34.8665,2,     640.62,2,       0.24,       0.01,       0.08,       0.01,      0.006,     -999.0,9,    1.48324,2,      0.055,1,      0.000,2,     -999.0,9,     -999.0,9,     -999.0,9,     99.978,     0.0009,2,      0.047,1,      0.361,1,     -999.0,9
49NZ20210713,        P01,      54,          1,          7,     X12S07,2,20210731,       0550,    46.9985,   171.6176,       6023,  4499.5,2,   1.4962,2,  34.6847,2,  34.6843,2,   151.59,2,  151.20,2,  154.13,2,    0.02,2,   36.07,2,    0.00,2,   2.502,2,   0.001,2,   0.001,2,   0.000,2,   0.000,2,  2327.4,2,  2416.6,2,   35.61,2, -999.00,9,    34.8674,2,     640.66,2,       0.24,       0.01,       0.09,       0.01,      0.006,     0.0102,2,    1.49617,2,      0.055,1,      0.000,2,      0.295,1,      0.157,1,      0.027,1,     99.978,     0.0009,2,      0.046,1,      0.358,1,     -999.0,9
49NZ20210713,        P01,      54,          1,          6,     X12S06,2,20210731,       0550,    46.9985,   171.6176,       6023,  4750.3,2,   1.5149,2,  34.6858,2,  34.6857,2,   153.12,2,  152.66,2,  154.27,2,    0.03,2,   36.06,2,    0.00,2,   2.494,2,   0.002,2,   0.001,2,   0.002,2,   0.004,2,  2326.0,2,  2417.1,6,   37.63,2, -999.00,9,    34.8674,2,     640.56,2,       0.24,       0.01,       0.08,       0.01,      0.006,     -999.0,9,    1.51480,2,      0.055,1,      0.000,2,     -999.0,9,     -999.0,9,     -999.0,9,     99.981,     0.0008,2,      0.046,1,      0.352,1,     -999.0,9