BOTTLE,20231011CCHSIOENA
EXPOCODE,SECT_ID,STNNBR,CASTNO,SAMPNO,BTLNBR,BTLNBR_FLAG_W,DATE,TIME,LATITUDE,LONGITUDE,DEPTH,CTDPRS,CTDPRS_FLAG_W,CTDTMP,CTDTMP_FLAG_W,CTDSAL,CTDSAL_FLAG_W,SALNTY,SALNTY_FLAG_W,CTDOXY,CTDOXY_FLAG_W,OXYGEN,OXYGEN_FLAG_W,SILCAT,SILCAT_FLAG_W,NH4,NH4_FLAG_W,NITRAT,NITRAT_FLAG_W,NITRIT,NITRIT_FLAG_W,PHSPHT,PHSPHT_FLAG_W,CFC-11,CFC-11_FLAG_W,CFC-12,CFC-12_FLAG_W,CFC113,CFC113_FLAG_W,SF6,SF6_FLAG_W,TCARBN,TCARBN_FLAG_W,ALKALI,ALKALI_FLAG_W,DOC,DOC_FLAG_W,TDN,TDN_FLAG_W,DNSSAL,DNSSAL_FLAG_W,RIANOMALY,RIANOMALY_FLAG_W,SILUNC,NH4UNC,NRAUNC,NRIUNC,PHPUNC,FDOM,FDOM_FLAG_W,REFTMP,REFTMP_FLAG_W,CTDFLUOR,CTDFLUOR_FLAG_W,PAR,PAR_FLAG_W,CDOM300,CDOM300_FLAG_W,CDOM325,CDOM325_FLAG_W,CDOM443,CDOM443_FLAG_W,CTDXMISS,CTDBEAMCP,CTDBEAMCP_FLAG_W,CTDTURB,CTDTURB_FLAG_W,CTDCDOM,CTDCDOM_FLAG_W,CHLORA,CHLORA_FLAG_W
,,,,,,,,,,,METERS,DBAR,,ITS-90,,PSS-78,,PSS-78,,UMOL/KG,,UMOL/KG,,UMOL/KG,,UMOL/KG,,UMOL/KG,,UMOL/KG,,UMOL/KG,,PMOL/KG,,PMOL/KG,,PMOL/KG,,FMOL/KG,,UMOL/KG,,UMOL/KG,,UMOL/KG,,UMOL/KG,,G/KG,,ND,,UMOL/KG,UMOL/KG,UMOL/KG,UMOL/KG,UMOL/KG,RFU,,ITS-90,,MG/M^3,,UMOL/M^2/SEC,,/METER,,/METER,,/METER,,%TRANS,/METER,,FTU,,QSU,,UG/L,
49NZ20210713,        P01,      40,          1,          6,     X12S06,2,20210726,       0737,    46.9821,   162.2429,       5626,  4829.3,2,   1.5043,2,  34.6879,2,  34.6877,2,   156.52,2,  155.95,2,  151.57,2,    0.01,2,   35.90,2,    0.00,2,   2.473,2,   0.001,2,   0.002,2,   0.000,2,   0.000,2,  2324.4,2,  2411.9,6,   35.88,2, -999.00,9,    34.8675,2,     640.69,2,       0.24,       0.01,       0.08,       0.01,      0.006,     -999.0,9,    1.50433,2,      0.056,1,      0.000,2,     -999.0,9,     -999.0,9,     -999.0,9,     99.985,     0.0006,2,      0.045,1,      0.343,1,     -999.0,9
49NZ20210713,        P01,      40,          1,          5,     X12S05,2,20210726,       0737,    46.9821,   162.2429,       5626,  5080.6,2,   1.5279,2,  34.6888,2,  34.6882,2,   157.27,2,  157.03,2,  152.44,2,    0.02,2,   35.78,2,    0.00,2,   2.468,2,   0.003,2,   0.002,2,   0.000,2,   0.000,2,  2323.1,2,  2410.2,2,   37.96,2, -999.00,9,    34.8714,2,     640.69,2,       0.24,       0.01,       0.08,       0.01,      0.006,     0.0099,2,    1.52791,2,      0.055,1,      0.000,2,      0.308,1,      0.174,1,      0.032,1,     99.939,     0.0024,2,      0.048,1,      0.353,1,     -999.0,9
49NZ20210713,        P01,      40,          1,          4,     X12S04,2,20210726,       0737,    46.9821,   162.2429,       5626,  5329.2,2,   1.5586,2,  34.6890,2,  34.6885,2,   157.38,2,  156.96,2,  152.81,2,    0.01,2,   35.78,2,    0.00,2,   2.471,2,   0.003,2,   0.003,2,   0.000,2,   0.000,2,  2323.6,2,  2408.7,2,   37.19,2, -999.00,9,    34.8688,2,     640.69,2,       0.24,       0.01,       0.08,       0.01,      0.006,     0.0095,2,    1.55862,2,      0.055,1,      0.000,2,      0.337,1,      0.195,1,      0.036,1,     99.909,     0.0036,2,      0.050,1,      0.378,1,     -999.0,9
49NZ20210713,        P01,      40,          1,          3,     X12S03,2,20210726,       0737,    46.9821,   162.2429,       5626,  5579.6,2,   1.5911,2,  34.6890,2,  34.6886,2,   157.34,2,  157.19,2,  153.11,2,    0.00,2,   35.84,2,    0.00,2,   2.473,2,   0.004,2,   0.002,2,   0.000,2,   0.000,2,  2325.5,2,  2412.2,2,   36.53,2, -999.00,9,    34.8706,2,     640.69,2,       0.24,       0.01,       0.08,       0.01,      0.006,     0.0097,2,    1.59101,2,      0.054,1,      0.000,2,      0.282,1,      0.151,1,      0.023,1,     99.838,     0.0065,2,      0.051,1,      0.405,1,     -999.0,9
49NZ20210713,        P01,      40,          1,          1,     X12S01,2,20210726,       0737,    46.9821,   162.2429,       5626,  5732.8,2,   1.6119,2,  34.6890,2,  34.6887,2,   157.35,2,  156.99,2,  153.10,2,    0.00,2,   35.85,2,    0.00,2,   2.478,2,   0.004,2,   0.003,2,   0.002,2,   0.014,2,  2320.0,2,  2410.5,2,   36.41,2, -999.00,9,    34.8685,2,     640.79,2,       0.24,       0.01,       0.08,       0.01,      0.006,     0.0095,2,    1.61193,2,      0.054,1,      0.000,2,      0.285,1,      0.154,1,      0.022,1,     99.718,     0.0113,2,      0.061,1,      0.397,1,     -999.0,9
49NZ20210713,        P01,      41,          1,          2,     X12B34,2,20210727,       1420,    46.9919,   163.3890,       5773,    33.9,2,   5.5288,2,  32.9445,2,-999.0000,9,   350.81,2, -999.00,9, -999.00,9, -999.00,9, -999.00,9, -999.00,9,-999.000,9,-999.000,9,-999.000,9,-999.000,9,-999.000,9,  -999.0,9,  -999.0,9, -999.00,9, -999.00,9,     -999.0,9,     -999.0,9,     -999.0,     -999.0,     -999.0,     -999.0,     -999.0,     -999.0,9,    5.51318,2,      3.470,1,      0.000,2,     -999.0,9,     -999.0,9,     -999.0,9,     93.867,     0.2532,2,      0.222,1,      0.269,1,     -999.0,9