BOTTLE,20231011CCHSIOENA
EXPOCODE,SECT_ID,STNNBR,CASTNO,SAMPNO,BTLNBR,BTLNBR_FLAG_W,DATE,TIME,LATITUDE,LONGITUDE,DEPTH,CTDPRS,CTDPRS_FLAG_W,CTDTMP,CTDTMP_FLAG_W,CTDSAL,CTDSAL_FLAG_W,SALNTY,SALNTY_FLAG_W,CTDOXY,CTDOXY_FLAG_W,OXYGEN,OXYGEN_FLAG_W,SILCAT,SILCAT_FLAG_W,NH4,NH4_FLAG_W,NITRAT,NITRAT_FLAG_W,NITRIT,NITRIT_FLAG_W,PHSPHT,PHSPHT_FLAG_W,CFC-11,CFC-11_FLAG_W,CFC-12,CFC-12_FLAG_W,CFC113,CFC113_FLAG_W,SF6,SF6_FLAG_W,TCARBN,TCARBN_FLAG_W,ALKALI,ALKALI_FLAG_W,DOC,DOC_FLAG_W,TDN,TDN_FLAG_W,DNSSAL,DNSSAL_FLAG_W,RIANOMALY,RIANOMALY_FLAG_W,SILUNC,NH4UNC,NRAUNC,NRIUNC,PHPUNC,FDOM,FDOM_FLAG_W,REFTMP,REFTMP_FLAG_W,CTDFLUOR,CTDFLUOR_FLAG_W,PAR,PAR_FLAG_W,CDOM300,CDOM300_FLAG_W,CDOM325,CDOM325_FLAG_W,CDOM443,CDOM443_FLAG_W,CTDXMISS,CTDBEAMCP,CTDBEAMCP_FLAG_W,CTDTURB,CTDTURB_FLAG_W,CTDCDOM,CTDCDOM_FLAG_W,CHLORA,CHLORA_FLAG_W
,,,,,,,,,,,METERS,DBAR,,ITS-90,,PSS-78,,PSS-78,,UMOL/KG,,UMOL/KG,,UMOL/KG,,UMOL/KG,,UMOL/KG,,UMOL/KG,,UMOL/KG,,PMOL/KG,,PMOL/KG,,PMOL/KG,,FMOL/KG,,UMOL/KG,,UMOL/KG,,UMOL/KG,,UMOL/KG,,G/KG,,ND,,UMOL/KG,UMOL/KG,UMOL/KG,UMOL/KG,UMOL/KG,RFU,,ITS-90,,MG/M^3,,UMOL/M^2/SEC,,/METER,,/METER,,/METER,,%TRANS,/METER,,FTU,,QSU,,UG/L,
49NZ20210713,        P01,      34,          1,         36,     X12S36,2,20210723,       1626,    45.0746,   156.6451,       4758,     9.9,2,  14.2971,2,  32.8987,2,  32.8900,2,   278.66,2,  291.97,2,   17.11,2,    0.55,2,   11.68,2,    0.14,2,   1.104,2,   3.287,2,   1.604,2,   0.294,2,   3.176,2,  2044.2,2,  2229.7,2,   59.71,2, -999.00,9,    33.0486,2,     607.47,2,       0.07,       0.02,       0.03,       0.01,      0.004,     0.0037,2,   14.32588,2,      1.906,1,      1.818,2,      0.497,1,      0.282,1,      0.045,1,     93.323,     0.2764,2,      0.228,1,      0.284,1,       0.55,2
49NZ20210713,        P01,      34,          1,          2,     X12B34,2,20210723,       1626,    45.0746,   156.6451,       4758,    20.1,2,   9.8973,2,  32.9159,2,  32.9224,2,   326.68,2,  331.99,2,   19.57,2,    0.41,2,   14.07,2,    0.14,2,   1.341,2,-999.000,9,-999.000,9,-999.000,9,-999.000,9,  2054.3,2,  2237.2,2,   60.48,2, -999.00,9,    33.0831,2,     608.01,2,       0.07,       0.02,       0.07,       0.01,      0.005,     0.0056,2,    9.87947,2,      3.600,1,      0.352,2,      0.532,1,      0.307,1,      0.044,1,     91.401,     0.3596,2,      0.249,1,      0.321,1,       0.88,2
49NZ20210713,        P01,      34,          1,         35,     X12S35,2,20210723,       1626,    45.0746,   156.6451,       4758,    50.3,2,   3.6879,2,  33.0491,2,  33.0504,2,   332.24,2,  332.34,2,   38.23,2,    2.43,2,   21.98,2,    0.37,2,   1.966,2,   4.977,2,   2.322,2,   0.694,3,   4.381,2,  2122.7,2,  2242.2,2,   53.96,2, -999.00,9,    33.2124,2,     610.56,2,       0.09,       0.52,       0.05,       0.01,      0.019,     0.0062,2,    3.69604,2,      1.192,1,      0.000,2,      0.468,1,      0.271,1,      0.046,1,     97.519,     0.1005,2,      0.124,1,      0.354,1,       0.61,2
49NZ20210713,        P01,      34,          1,         34,     X12S34,2,20210723,       1626,    45.0746,   156.6451,       4758,   100.5,2,   1.8801,2,  33.1320,2,  33.1395,2,   315.04,2,  315.51,2,   50.70,2,    0.04,2,   28.02,2,    0.02,2,   2.149,2,   5.096,2,   2.359,2,   0.599,3,   4.341,2,  2161.8,2,  2235.4,2,   51.66,2, -999.00,9,    33.3019,2,     612.16,2,       0.10,       0.01,       0.06,       0.01,      0.005,     0.0057,2,    1.88018,2,      0.132,1,      0.000,2,      0.418,1,      0.224,1,      0.032,1,     98.979,     0.0410,3,      0.107,1,      0.346,1,       0.08,2
49NZ20210713,        P01,      34,          1,         33,     X12S33,2,20210723,       1626,    45.0746,   156.6451,       4758,   150.6,2,   2.7299,2,  33.5370,2,  33.5469,2,   156.93,2,  152.03,2,   77.29,2,    0.03,2,   37.58,2,    0.02,2,   2.728,2,   3.505,2,   1.653,2,   0.253,2,   2.577,2,  2262.5,2,  2269.2,2,   49.45,2, -999.00,9,    33.7137,2,     619.66,2,       0.14,       0.01,       0.08,       0.01,      0.006,     0.0096,2,    2.72837,2,      0.091,1,      0.000,2,      0.454,1,      0.258,1,      0.047,1,     99.025,     0.0392,3,      0.100,1,      0.436,1,       0.06,2
49NZ20210713,        P01,      34,          1,         32,     X12S32,2,20210723,       1626,    45.0746,   156.6451,       4758,   199.9,2,   3.7644,2,  33.9082,2,  33.9086,2,    23.42,2,   23.30,2,   99.99,2,    0.01,2,   44.99,2,    0.02,2,   3.179,2,   2.062,2,   0.953,2,   0.140,2,   0.894,2,  2348.3,2,  2300.0,2,   45.11,2, -999.00,9,    34.0782,2,     626.31,2,       0.17,       0.01,       0.09,       0.01,      0.007,     0.0120,2,    3.76421,2,      0.079,1,      0.000,2,      0.470,1,      0.277,1,      0.053,1,     99.048,     0.0383,3,      0.107,1,      0.499,1,       0.05,2
49NZ20210713,        P01,      34,          1,         31,     X12S31,2,20210723,       1626,    45.0746,   156.6451,       4758,   252.6,2,   3.7380,2,  34.0023,2,  34.0018,2,    14.52,2,   14.49,2,  107.40,2,    0.01,2,   45.29,2,    0.01,2,   3.206,2,   1.635,2,   0.758,2,   0.112,2,   0.631,2,  2356.7,2,  2310.4,2,   45.48,2, -999.00,9,    34.1733,2,     628.06,2,       0.20,       0.01,       0.09,       0.01,      0.007,     0.0122,2,    3.73786,2,      0.078,1,      0.000,2,      0.443,1,      0.258,1,      0.041,1,     99.519,     0.0193,3,      0.094,1,      0.492,1,       0.03,2
49NZ20210713,        P01,      34,          1,         30,     X12S30,2,20210723,       1626,    45.0746,   156.6451,       4758,   329.1,2,   3.6092,2,  34.0846,2,  34.0840,2,    12.85,2,   12.64,2,  115.62,2,    0.01,2,   44.98,2,    0.01,2,   3.184,2,   1.238,2,   0.588,2,   0.095,2,   0.445,2,  2358.1,2,  2321.9,2,   43.05,2, -999.00,9,    34.2571,2,     629.56,2,       0.19,       0.01,       0.09,       0.01,      0.007,     0.0123,2,    3.60904,2,      0.076,1,      0.000,2,      0.468,1,      0.286,1,      0.061,1,     99.519,     0.0193,3,      0.067,1,      0.494,1,     -999.0,9
49NZ20210713,        P01,      34,          1,         29,     X12S29,2,20210723,       1626,    45.0746,   156.6451,       4758,   430.9,2,   3.3704,2,  34.1580,2,  34.1582,2,    25.51,2,   25.11,2,  123.18,2,    0.01,2,   43.47,2,    0.00,2,   3.103,2,   0.971,2,   0.476,2,   0.079,2,   0.403,2,  2360.2,2,  2337.4,2,   40.14,2, -999.00,9,    34.3329,2,     630.91,2,       0.20,       0.01,       0.09,       0.01,      0.006,     0.0123,2,    3.37021,2,      0.073,1,      0.000,2,      0.429,1,      0.254,1,      0.052,1,     99.579,     0.0169,3,      0.068,1,      0.486,1,     -999.0,9
49NZ20210713,        P01,      34,          1,         28,     X12S28,2,20210723,       1626,    45.0746,   156.6451,       4758,   529.8,2,   3.2804,2,  34.2354,2,  34.2350,2,    25.92,2,   25.76,2,  129.63,2,    0.01,2,   43.32,2,    0.00,2,   3.094,2,   0.676,2,   0.383,2,   0.050,2,   0.254,2,  2364.5,2,  2344.8,2,   39.15,2, -999.00,9,    34.4101,2,     632.31,2,       0.21,       0.01,       0.09,       0.01,      0.008,     0.0125,2,    3.28033,2,      0.072,1,      0.000,2,      0.402,1,      0.235,1,      0.042,1,     99.687,     0.0125,3,      0.059,1,      0.469,1,     -999.0,9
49NZ20210713,        P01,      34,          1,         27,     X12S27,2,20210723,       1626,    45.0746,   156.6451,       4758,   630.3,2,   3.0925,2,  34.2923,2,  34.2921,2,    17.33,2,   17.00,2,  138.95,2,    0.01,2,   44.13,2,    0.00,2,   3.146,2,   0.425,2,   0.249,2,   0.028,2,   0.124,2,  2377.1,2,  2356.7,2,   42.43,2, -999.00,9,    34.4681,2,     633.41,2,       0.22,       0.01,       0.09,       0.01,      0.006,     0.0134,2,    3.09256,2,      0.072,1,      0.000,2,      0.470,1,      0.295,1,      0.068,1,     99.777,     0.0089,3,      0.061,1,      0.451,1,     -999.0,9
49NZ20210713,        P01,      34,          1,         26,     X12S26,2,20210723,       1626,    45.0746,   156.6451,       4758,   728.6,2,   2.9158,2,  34.3487,2,  34.3479,2,    14.50,2,   14.47,2,  146.21,2,    0.02,2,   44.25,2,    0.00,2,   3.132,2,   0.244,2,   0.153,2,   0.020,2,   0.065,2,  2389.5,6,  2366.6,2,   39.18,2, -999.00,9,    34.5253,2,     634.47,2,       0.23,       0.01,       0.09,       0.01,      0.012,     -999.0,9,    2.91573,2,      0.072,1,      0.000,2,     -999.0,9,     -999.0,9,     -999.0,9,     99.759,     0.0097,3,      0.059,1,      0.442,1,     -999.0,9
49NZ20210713,        P01,      34,          1,         25,     X12S25,2,20210723,       1626,    45.0746,   156.6451,       4758,   828.9,2,   2.7363,2,  34.3841,2,  34.3838,2,    21.72,2,   21.33,2,  150.78,2,    0.02,2,   43.88,2,    0.00,2,   3.117,2,   0.216,2,   0.133,2,   0.023,2,   0.070,2,  2388.7,2,  2372.3,2,   39.02,2, -999.00,9,    34.5604,2,     635.06,2,       0.24,       0.01,       0.09,       0.01,      0.006,     0.0133,2,    2.73620,2,      0.070,1,      0.000,2,      0.409,1,      0.250,1,      0.050,1,     99.834,     0.0066,3,      0.065,1,      0.431,1,     -999.0,9
49NZ20210713,        P01,      34,          1,         24,     X12S24,2,20210723,       1626,    45.0746,   156.6451,       4758,   930.7,2,   2.5919,2,  34.4241,2,  34.4238,2,    19.92,2,   19.47,2,  157.03,2,    0.02,2,   44.07,2,    0.00,2,   3.126,2,   0.125,2,   0.079,2,   0.014,2,   0.035,2,  2394.0,2,  2378.1,2,   39.31,2, -999.00,9,    34.6019,2,     635.81,2,       0.25,       0.01,       0.09,       0.01,      0.006,     -999.0,9,    2.59185,2,      0.070,1,      0.000,2,     -999.0,9,     -999.0,9,     -999.0,9,     99.646,     0.0142,3,      0.059,1,      0.428,1,     -999.0,9
49NZ20210713,        P01,      34,          1,         23,     X12S23,2,20210723,       1626,    45.0746,   156.6451,       4758,  1069.1,2,   2.4146,2,  34.4644,2,  34.4640,2,    31.27,2,   31.09,2,  160.08,2,    0.02,2,   43.33,2,    0.00,2,   3.089,2,   0.108,2,   0.070,2,   0.013,2,   0.029,2,  2392.0,2,  2387.8,2,   40.98,4, -999.00,9,    34.6441,2,     636.51,2,       0.25,       0.01,       0.09,       0.01,      0.006,     0.0128,2,    2.41448,2,      0.068,1,      0.000,2,      0.402,1,      0.242,1,      0.048,1,     99.655,     0.0138,3,      0.057,1,      0.473,1,     -999.0,9
49NZ20210713,        P01,      34,          1,         22,     X12S22,2,20210723,       1626,    45.0746,   156.6451,       4758,  1271.4,2,   2.2123,2,  34.5106,2,  34.5103,2,    38.60,2,   38.60,2,  166.64,2,    0.01,2,   42.94,2,    0.00,2,   3.055,2,   0.058,2,   0.039,2,   0.004,2,   0.027,2,  2394.5,2,  2397.2,6,   38.33,2, -999.00,9,    34.6913,2,     637.37,2,       0.26,       0.01,       0.09,       0.01,      0.006,     -999.0,9,    2.21219,2,      0.066,1,      0.000,2,     -999.0,9,     -999.0,9,     -999.0,9,     99.678,     0.0129,3,      0.057,1,      0.493,1,     -999.0,9
49NZ20210713,        P01,      34,          1,         21,     X12S21,2,20210723,       1626,    45.0746,   156.6451,       4758,  1471.5,2,   2.0643,2,  34.5472,2,  34.5471,2,    44.93,2,   44.92,2,  171.87,2,    0.01,2,   42.63,2,    0.00,2,   3.033,2,   0.021,2,   0.014,2,   0.005,2,   0.025,2,  2396.5,2,  2400.2,2,   38.83,2, -999.00,9,    34.7278,2,     638.01,2,       0.27,       0.01,       0.09,       0.01,      0.006,     0.0134,2,    2.06425,2,      0.065,1,      0.000,2,      0.368,1,      0.216,1,      0.037,1,     99.664,     0.0135,3,      0.055,1,      0.487,1,     -999.0,9
49NZ20210713,        P01,      34,          1,         20,     X12S20,2,20210723,       1626,    45.0746,   156.6451,       4758,  1671.2,2,   1.9332,2,  34.5790,2,  34.5790,2,    60.38,2,   59.96,2,  171.35,2,    0.01,2,   41.80,2,    0.00,2,   2.965,2,   0.011,2,   0.008,2,   0.000,2,   0.028,2,  2387.7,2,  2406.1,2,   37.56,2, -999.00,9,    34.7608,2,     638.62,2,       0.27,       0.01,       0.09,       0.01,      0.006,     -999.0,9,    1.93319,2,      0.064,1,      0.000,2,     -999.0,9,     -999.0,9,     -999.0,9,     99.676,     0.0130,3,      0.056,1,      0.479,1,     -999.0,9
49NZ20210713,        P01,      34,          1,         19,     X12S19,2,20210723,       1626,    45.0746,   156.6451,       4758,  1871.1,2,   1.8291,2,  34.6022,2,  34.6019,2,    74.31,2,   73.94,2,  170.02,2,    0.01,2,   40.95,2,    0.00,2,   2.903,2,   0.003,2,   0.003,2,   0.000,2,   0.037,2,  2378.7,2,  2410.7,2,   37.69,2, -999.00,9,    34.7846,2,     639.01,2,       0.26,       0.01,       0.09,       0.01,      0.006,     0.0121,2,    1.82901,2,      0.063,1,      0.000,2,      0.349,1,      0.206,1,      0.040,1,     99.731,     0.0108,3,      0.054,1,      0.457,1,     -999.0,9
49NZ20210713,        P01,      34,          1,         18,     X12S18,2,20210723,       1626,    45.0746,   156.6451,       4758,  2071.4,2,   1.7312,2,  34.6228,2,  34.6223,2,    89.86,2,   89.29,2,  166.98,2,    0.00,2,   40.03,2,    0.00,2,   2.826,2,   0.000,2,   0.000,2,   0.001,2,   0.035,2,  2371.0,2,  2410.6,2,   35.97,2, -999.00,9,    34.8070,2,     639.41,2,       0.26,       0.01,       0.08,       0.01,      0.008,     -999.0,9,    1.73113,2,      0.062,1,      0.000,2,     -999.0,9,     -999.0,9,     -999.0,9,     99.890,     0.0044,3,      0.056,1,      0.446,1,     -999.0,9
49NZ20210713,        P01,      34,          1,         17,     X12S17,2,20210723,       1626,    45.0746,   156.6451,       4758,  2270.5,2,   1.6582,2,  34.6366,2,  34.6362,2,   101.07,2,  100.67,2,  165.21,2,    0.00,2,   39.31,2,    0.00,2,   2.770,2,   0.000,2,   0.000,2,   0.000,2,   0.035,2,  2364.7,2,  2414.3,2,   36.70,2, -999.00,9,    34.8129,2,     639.62,2,       0.26,       0.01,       0.08,       0.01,      0.006,     0.0115,2,    1.65814,2,      0.061,1,      0.000,2,      0.320,1,      0.186,1,      0.033,1,     99.924,     0.0030,2,      0.058,1,      0.437,1,     -999.0,9
49NZ20210713,        P01,      34,          1,         16,     X12S16,2,20210723,       1626,    45.0746,   156.6451,       4758,  2472.4,2,   1.5886,2,  34.6492,2,  34.6498,2,   113.18,2,  112.60,2,  162.16,2,    0.01,2,   38.63,2,    0.00,2,   2.715,2,   0.000,2,   0.000,2,   0.000,2,   0.023,2,  2358.0,6,  2413.1,2,   37.06,2, -999.00,9,    34.8327,2,     639.91,2,       0.25,       0.01,       0.08,       0.01,      0.007,     -999.0,9,    1.58854,2,      0.060,1,      0.000,2,     -999.0,9,     -999.0,9,     -999.0,9,     99.959,     0.0017,2,      0.051,1,      0.430,1,     -999.0,9
49NZ20210713,        P01,      34,          1,         15,     X12S15,2,20210723,       1626,    45.0746,   156.6451,       4758,  2670.7,2,   1.5493,2,  34.6569,2,  34.6559,2,   121.09,2,  120.73,2,  159.42,2,    0.01,2,   38.04,2,    0.00,2,   2.653,2,   0.001,2,   0.001,2,   0.000,2,   0.003,2,  2352.4,2,  2415.5,2,   37.54,2, -999.00,9,    34.8372,2,     640.01,2,       0.25,       0.01,       0.08,       0.01,      0.006,     0.0112,2,    1.54922,2,      0.059,1,      0.000,2,      0.331,1,      0.197,1,      0.040,1,     99.961,     0.0016,2,      0.052,1,      0.423,1,     -999.0,9
49NZ20210713,        P01,      34,          1,         14,     X12S14,2,20210723,       1626,    45.0746,   156.6451,       4758,  2870.9,2,   1.5031,2,  34.6648,2,  34.6652,2,   129.37,2,  129.01,2,  157.47,2,    0.01,2,   37.50,2,    0.00,2,   2.617,2,   0.000,2,   0.000,2,   0.000,2,   0.004,2,  2346.2,2,  2416.4,2,   39.97,2, -999.00,9,    34.8478,2,     640.16,2,       0.25,       0.01,       0.08,       0.01,      0.006,     -999.0,9,    1.50299,2,      0.059,1,      0.000,2,     -999.0,9,     -999.0,9,     -999.0,9,     99.906,     0.0038,2,      0.053,1,      0.410,1,     -999.0,9
49NZ20210713,        P01,      34,          1,         13,     X12S13,2,20210723,       1626,    45.0746,   156.6451,       4758,  3079.9,2,   1.4810,2,  34.6696,2,  34.6699,2,   134.88,2,  134.44,2,  155.94,2,    0.01,2,   37.19,2,    0.00,2,   2.591,2,   0.000,2,   0.000,2,   0.000,2,   0.000,2,  2343.1,2,  2412.5,2,   37.39,2, -999.00,9,    34.8511,2,     640.26,2,       0.25,       0.01,       0.08,       0.01,      0.006,     0.0101,2,    1.48076,2,      0.058,1,      0.000,2,      0.319,1,      0.183,1,      0.038,1,     99.963,     0.0015,2,      0.053,1,      0.389,1,     -999.0,9
49NZ20210713,        P01,      34,          1,         12,     X12S12,2,20210723,       1626,    45.0746,   156.6451,       4758,  3331.2,2,   1.4567,2,  34.6749,2,  34.6752,2,   141.27,2,  140.97,2,  154.07,2,    0.03,2,   36.76,2,    0.00,2,   2.562,2,   0.000,2,   0.000,2,   0.000,2,   0.000,2,  2338.8,2,  2413.9,6,   38.13,2, -999.00,9,    34.8564,2,     640.37,2,       0.26,       0.01,       0.08,       0.01,      0.006,     -999.0,9,    1.45644,2,      0.058,1,      0.000,2,     -999.0,9,     -999.0,9,     -999.0,9,     99.961,     0.0016,2,      0.050,1,      0.397,1,     -999.0,9
49NZ20210713,        P01,      34,          1,         11,     X12S11,2,20210723,       1626,    45.0746,   156.6451,       4758,  3581.0,2,   1.4442,2,  34.6792,2,  34.6793,2,   146.16,2,  145.84,2,  152.63,2,    0.02,2,   36.43,2,    0.00,2,   2.537,2,   0.000,2,   0.000,2,   0.000,2,   0.000,2,  2334.9,2,  2413.6,2,   35.04,3, -999.00,9,    34.8610,2,     640.51,2,       0.24,       0.01,       0.08,       0.01,      0.008,     0.0099,2,    1.44404,2,      0.058,1,      0.000,2,      0.283,1,      0.156,1,      0.025,1,     99.988,     0.0005,2,      0.052,1,      0.428,1,     -999.0,9
49NZ20210713,        P01,      34,          1,         10,     X12S10,2,20210723,       1626,    45.0746,   156.6451,       4758,  3830.2,2,   1.4361,2,  34.6827,2,  34.6826,2,   150.63,2,  150.27,2,  151.65,2,    0.01,2,   36.22,2,    0.00,2,   2.511,2,   0.000,2,   0.000,2,   0.000,2,   0.000,2,  2334.7,2,  2414.3,2,   38.97,2, -999.00,9,    34.8643,2,     640.47,2,       0.24,       0.01,       0.08,       0.01,      0.006,     -999.0,9,    1.43602,2,      0.057,1,      0.000,2,     -999.0,9,     -999.0,9,     -999.0,9,     99.972,     0.0011,2,      0.050,1,      0.424,1,     -999.0,9
49NZ20210713,        P01,      34,          1,          9,     X12S09,2,20210723,       1626,    45.0746,   156.6451,       4758,  4080.6,2,   1.4386,2,  34.6854,2,  34.6855,2,   153.79,2,  153.44,2,  151.34,2,    0.01,2,   36.02,2,    0.00,2,   2.495,2,   0.000,2,   0.000,2,   0.000,2,   0.000,2,  2330.4,2,  2414.5,2,   37.25,2, -999.00,9,    34.8676,2,     640.56,2,       0.24,       0.01,       0.08,       0.01,      0.006,     0.0095,2,    1.43860,2,      0.056,1,      0.000,2,      0.277,1,      0.152,1,      0.018,1,     99.975,     0.0010,2,      0.052,1,      0.427,1,     -999.0,9
49NZ20210713,        P01,      34,          1,          8,     X12S08,2,20210723,       1626,    45.0746,   156.6451,       4758,  4332.3,2,   1.4504,2,  34.6872,2,  34.6874,2,   155.68,2,  155.48,2,  151.27,2,    0.01,2,   35.80,2,    0.00,2,   2.485,2,   0.000,2,   0.001,2,   0.000,2,   0.000,2,  2327.9,6,  2412.6,2,   39.11,2, -999.00,9,    34.8696,2,     640.51,2,       0.24,       0.01,       0.08,       0.01,      0.006,     -999.0,9,    1.45044,2,      0.057,1,      0.000,2,     -999.0,9,     -999.0,9,     -999.0,9,     99.945,     0.0022,2,      0.054,1,      0.423,1,     -999.0,9
49NZ20210713,        P01,      34,          1,          7,     X12S07,2,20210723,       1626,    45.0746,   156.6451,       4758,  4581.3,2,   1.4714,2,  34.6881,2,  34.6881,2,   156.70,2,  156.48,2,  151.43,2,    0.01,2,   35.68,2,    0.00,2,   2.474,2,   0.004,2,   0.001,2,   0.000,2,   0.000,2,  2326.4,2,  2414.3,2,   36.06,2, -999.00,9,    34.8688,2,     640.56,2,       0.24,       0.01,       0.13,       0.01,      0.006,     0.0096,2,    1.47134,2,      0.056,1,      0.000,2,      0.286,1,      0.158,1,      0.020,1,     99.878,     0.0049,2,      0.061,1,      0.417,1,     -999.0,9