BOTTLE,20231011CCHSIOENA
EXPOCODE,SECT_ID,STNNBR,CASTNO,SAMPNO,BTLNBR,BTLNBR_FLAG_W,DATE,TIME,LATITUDE,LONGITUDE,DEPTH,CTDPRS,CTDPRS_FLAG_W,CTDTMP,CTDTMP_FLAG_W,CTDSAL,CTDSAL_FLAG_W,SALNTY,SALNTY_FLAG_W,CTDOXY,CTDOXY_FLAG_W,OXYGEN,OXYGEN_FLAG_W,SILCAT,SILCAT_FLAG_W,NH4,NH4_FLAG_W,NITRAT,NITRAT_FLAG_W,NITRIT,NITRIT_FLAG_W,PHSPHT,PHSPHT_FLAG_W,CFC-11,CFC-11_FLAG_W,CFC-12,CFC-12_FLAG_W,CFC113,CFC113_FLAG_W,SF6,SF6_FLAG_W,TCARBN,TCARBN_FLAG_W,ALKALI,ALKALI_FLAG_W,DOC,DOC_FLAG_W,TDN,TDN_FLAG_W,DNSSAL,DNSSAL_FLAG_W,RIANOMALY,RIANOMALY_FLAG_W,SILUNC,NH4UNC,NRAUNC,NRIUNC,PHPUNC,FDOM,FDOM_FLAG_W,REFTMP,REFTMP_FLAG_W,CTDFLUOR,CTDFLUOR_FLAG_W,PAR,PAR_FLAG_W,CDOM300,CDOM300_FLAG_W,CDOM325,CDOM325_FLAG_W,CDOM443,CDOM443_FLAG_W,CTDXMISS,CTDBEAMCP,CTDBEAMCP_FLAG_W,CTDTURB,CTDTURB_FLAG_W,CTDCDOM,CTDCDOM_FLAG_W,CHLORA,CHLORA_FLAG_W
,,,,,,,,,,,METERS,DBAR,,ITS-90,,PSS-78,,PSS-78,,UMOL/KG,,UMOL/KG,,UMOL/KG,,UMOL/KG,,UMOL/KG,,UMOL/KG,,UMOL/KG,,PMOL/KG,,PMOL/KG,,PMOL/KG,,FMOL/KG,,UMOL/KG,,UMOL/KG,,UMOL/KG,,UMOL/KG,,G/KG,,ND,,UMOL/KG,UMOL/KG,UMOL/KG,UMOL/KG,UMOL/KG,RFU,,ITS-90,,MG/M^3,,UMOL/M^2/SEC,,/METER,,/METER,,/METER,,%TRANS,/METER,,FTU,,QSU,,UG/L,
49NZ20210713,        P01,      25,          1,          6,     X12S06,2,20210720,       2215,    41.2678,   150.3863,       5384,  4751.3,2,   1.4929,2,  34.6877,2,  34.6881,2,   156.74,2,  156.16,2,  151.66,2,    0.01,2,   35.80,2,    0.00,2,   2.472,2,   0.005,2,   0.006,2,   0.000,2,   0.009,2,  2319.8,2,  2410.5,6,   36.52,2, -999.00,9,    34.8706,2,     640.63,2,       0.24,       0.01,       0.08,       0.01,      0.006,     -999.0,9,    1.49295,2,      0.051,1,      0.000,2,     -999.0,9,     -999.0,9,     -999.0,9,     99.882,     0.0047,2,      0.068,1,      0.416,1,     -999.0,9
49NZ20210713,        P01,      25,          1,          5,     X12S05,2,20210720,       2215,    41.2678,   150.3863,       5384,  5000.5,2,   1.5172,2,  34.6883,2,  34.6876,2,   157.50,2,  157.18,2,  151.73,2,    0.01,2,   35.74,2,    0.00,2,   2.469,2,   0.003,2,   0.005,2,   0.000,2,   0.000,2,  2322.4,2,  2413.5,2,   39.65,2, -999.00,9,    34.8703,2,     640.68,2,       0.24,       0.01,       0.08,       0.01,      0.006,     0.0093,2,    1.51723,2,      0.050,1,      0.000,2,      0.288,1,      0.157,1,      0.028,1,     99.806,     0.0078,2,      0.062,1,      0.436,1,     -999.0,9
49NZ20210713,        P01,      25,          1,          4,     X12S04,2,20210720,       2215,    41.2678,   150.3863,       5384,  5249.5,2,   1.5422,2,  34.6890,2,  34.6886,2,   158.68,2,  158.39,2,  150.42,2,    0.00,2,   35.63,2,    0.01,2,   2.463,2,   0.007,2,   0.006,2,   0.001,2,   0.007,2,  2320.1,2,  2408.6,2,   35.73,2, -999.00,9,    34.8699,2,     640.68,2,       0.24,       0.01,       0.08,       0.01,      0.006,     0.0094,2,    1.54221,2,      0.050,1,      0.000,2,      0.315,1,      0.181,1,      0.038,1,     99.719,     0.0112,2,      0.063,1,      0.449,1,     -999.0,9
49NZ20210713,        P01,      25,          1,          1,     X12S01,2,20210720,       2215,    41.2678,   150.3863,       5384,  5477.0,2,   1.5639,2,  34.6897,2,  34.6895,2,   159.69,2,  159.26,2,  150.09,2,    0.01,2,   35.52,2,    0.01,2,   2.457,2,   0.007,2,   0.002,2,   0.000,2,   0.000,2,  2315.3,2,  2411.0,2,   37.50,2, -999.00,9,    34.8703,2,     640.68,2,       0.24,       0.01,       0.08,       0.01,      0.006,     0.0097,2,    1.56387,2,      0.051,1,      0.000,2,      0.298,1,      0.165,1,      0.026,1,     99.425,     0.0230,2,      0.089,1,      0.453,1,     -999.0,9
49NZ20210713,        P01,      27,          1,          2,     X12B34,2,20210721,       1048,    41.9427,   151.4850,       5152,    29.9,2,   8.1416,2,  33.0825,2,-999.0000,9,   313.05,2, -999.00,9, -999.00,9, -999.00,9, -999.00,9, -999.00,9,-999.000,9,-999.000,9,-999.000,9,-999.000,9,-999.000,9,  -999.0,9,  -999.0,9, -999.00,9, -999.00,9,     -999.0,9,     -999.0,9,     -999.0,     -999.0,     -999.0,     -999.0,     -999.0,     -999.0,9,    8.14600,2,      2.803,1,      0.000,2,     -999.0,9,     -999.0,9,     -999.0,9,     94.012,     0.2470,2,      0.234,1,      0.411,1,     -999.0,9