BOTTLE,20231011CCHSIOENA
EXPOCODE,SECT_ID,STNNBR,CASTNO,SAMPNO,BTLNBR,BTLNBR_FLAG_W,DATE,TIME,LATITUDE,LONGITUDE,DEPTH,CTDPRS,CTDPRS_FLAG_W,CTDTMP,CTDTMP_FLAG_W,CTDSAL,CTDSAL_FLAG_W,SALNTY,SALNTY_FLAG_W,CTDOXY,CTDOXY_FLAG_W,OXYGEN,OXYGEN_FLAG_W,SILCAT,SILCAT_FLAG_W,NH4,NH4_FLAG_W,NITRAT,NITRAT_FLAG_W,NITRIT,NITRIT_FLAG_W,PHSPHT,PHSPHT_FLAG_W,CFC-11,CFC-11_FLAG_W,CFC-12,CFC-12_FLAG_W,CFC113,CFC113_FLAG_W,SF6,SF6_FLAG_W,TCARBN,TCARBN_FLAG_W,ALKALI,ALKALI_FLAG_W,DOC,DOC_FLAG_W,TDN,TDN_FLAG_W,DNSSAL,DNSSAL_FLAG_W,RIANOMALY,RIANOMALY_FLAG_W,SILUNC,NH4UNC,NRAUNC,NRIUNC,PHPUNC,FDOM,FDOM_FLAG_W,REFTMP,REFTMP_FLAG_W,CTDFLUOR,CTDFLUOR_FLAG_W,PAR,PAR_FLAG_W,CDOM300,CDOM300_FLAG_W,CDOM325,CDOM325_FLAG_W,CDOM443,CDOM443_FLAG_W,CTDXMISS,CTDBEAMCP,CTDBEAMCP_FLAG_W,CTDTURB,CTDTURB_FLAG_W,CTDCDOM,CTDCDOM_FLAG_W,CHLORA,CHLORA_FLAG_W
,,,,,,,,,,,METERS,DBAR,,ITS-90,,PSS-78,,PSS-78,,UMOL/KG,,UMOL/KG,,UMOL/KG,,UMOL/KG,,UMOL/KG,,UMOL/KG,,UMOL/KG,,PMOL/KG,,PMOL/KG,,PMOL/KG,,FMOL/KG,,UMOL/KG,,UMOL/KG,,UMOL/KG,,UMOL/KG,,G/KG,,ND,,UMOL/KG,UMOL/KG,UMOL/KG,UMOL/KG,UMOL/KG,RFU,,ITS-90,,MG/M^3,,UMOL/M^2/SEC,,/METER,,/METER,,/METER,,%TRANS,/METER,,FTU,,QSU,,UG/L,
49NZ20210713,        P01,      32,          1,          6,     X12S06,2,20210723,       0108,    44.0859,   155.0166,       5307,  4750.6,2,   1.4932,2,  34.6876,2,  34.6878,2,   156.84,2,  156.31,2,  151.03,2,    0.01,2,   35.79,2,    0.00,2,   2.467,2,   0.004,2,   0.007,2,   0.000,2,   0.000,2,  2326.6,2,  2412.8,6,   36.94,2, -999.00,9,    34.8721,2,     640.76,2,       0.24,       0.01,       0.08,       0.01,      0.006,     -999.0,9,    1.49320,2,      0.056,1,      0.000,2,     -999.0,9,     -999.0,9,     -999.0,9,     99.971,     0.0012,2,      0.050,1,      0.411,1,     -999.0,9
49NZ20210713,        P01,      32,          1,          5,     X12S05,2,20210723,       0108,    44.0859,   155.0166,       5307,  4999.7,2,   1.5175,2,  34.6884,2,  34.6883,2,   157.52,2,  156.87,2,  151.81,2,    0.02,2,   35.69,2,    0.00,2,   2.466,2,   0.002,2,   0.003,2,   0.000,2,   0.000,2,  2325.2,2,  2410.7,2,   38.11,2, -999.00,9,    34.8724,2,     640.72,2,       0.24,       0.01,       0.08,       0.01,      0.006,     0.0094,2,    1.51751,2,      0.055,1,      0.000,2,      0.286,1,      0.158,1,      0.025,1,     99.893,     0.0043,2,      0.055,1,      0.414,1,     -999.0,9
49NZ20210713,        P01,      32,          1,          4,     X12S04,2,20210723,       0108,    44.0859,   155.0166,       5307,  5249.5,2,   1.5468,2,  34.6888,2,  34.6890,2,   157.76,2,  157.39,2,  152.25,2,    0.01,2,   35.73,2,    0.00,2,   2.467,2,   0.005,2,   0.008,2,   0.000,2,   0.000,2,  2326.1,2,  2414.0,2,   40.02,2, -999.00,9,    34.8717,2,     640.72,2,       0.24,       0.01,       0.08,       0.01,      0.006,     0.0098,2,    1.54675,2,      0.055,1,      0.000,2,      0.302,1,      0.169,1,      0.029,1,     99.762,     0.0095,2,      0.063,1,      0.429,1,     -999.0,9
49NZ20210713,        P01,      32,          1,          1,     X12S01,2,20210723,       0108,    44.0859,   155.0166,       5307,  5402.9,2,   1.5667,2,  34.6888,2,  34.6892,2,   157.70,2,  157.17,2,  152.82,2,    0.02,2,   35.73,2,    0.00,2,   2.466,2,   0.001,2,   0.002,2,   0.000,2,   0.000,2,  2324.7,2,  2411.3,2,   35.75,2, -999.00,9,    34.8714,2,     640.76,2,       0.24,       0.01,       0.08,       0.01,      0.006,     0.0101,2,    1.56671,2,      0.055,1,      0.000,2,      0.297,1,      0.164,1,      0.024,1,     99.693,     0.0123,2,      0.066,1,      0.442,1,     -999.0,9