BOTTLE,20231011CCHSIOENA
EXPOCODE,SECT_ID,STNNBR,CASTNO,SAMPNO,BTLNBR,BTLNBR_FLAG_W,DATE,TIME,LATITUDE,LONGITUDE,DEPTH,CTDPRS,CTDPRS_FLAG_W,CTDTMP,CTDTMP_FLAG_W,CTDSAL,CTDSAL_FLAG_W,SALNTY,SALNTY_FLAG_W,CTDOXY,CTDOXY_FLAG_W,OXYGEN,OXYGEN_FLAG_W,SILCAT,SILCAT_FLAG_W,NH4,NH4_FLAG_W,NITRAT,NITRAT_FLAG_W,NITRIT,NITRIT_FLAG_W,PHSPHT,PHSPHT_FLAG_W,CFC-11,CFC-11_FLAG_W,CFC-12,CFC-12_FLAG_W,CFC113,CFC113_FLAG_W,SF6,SF6_FLAG_W,TCARBN,TCARBN_FLAG_W,ALKALI,ALKALI_FLAG_W,DOC,DOC_FLAG_W,TDN,TDN_FLAG_W,DNSSAL,DNSSAL_FLAG_W,RIANOMALY,RIANOMALY_FLAG_W,SILUNC,NH4UNC,NRAUNC,NRIUNC,PHPUNC,FDOM,FDOM_FLAG_W,REFTMP,REFTMP_FLAG_W,CTDFLUOR,CTDFLUOR_FLAG_W,PAR,PAR_FLAG_W,CDOM300,CDOM300_FLAG_W,CDOM325,CDOM325_FLAG_W,CDOM443,CDOM443_FLAG_W,CTDXMISS,CTDBEAMCP,CTDBEAMCP_FLAG_W,CTDTURB,CTDTURB_FLAG_W,CTDCDOM,CTDCDOM_FLAG_W,CHLORA,CHLORA_FLAG_W
,,,,,,,,,,,METERS,DBAR,,ITS-90,,PSS-78,,PSS-78,,UMOL/KG,,UMOL/KG,,UMOL/KG,,UMOL/KG,,UMOL/KG,,UMOL/KG,,UMOL/KG,,PMOL/KG,,PMOL/KG,,PMOL/KG,,FMOL/KG,,UMOL/KG,,UMOL/KG,,UMOL/KG,,UMOL/KG,,G/KG,,ND,,UMOL/KG,UMOL/KG,UMOL/KG,UMOL/KG,UMOL/KG,RFU,,ITS-90,,MG/M^3,,UMOL/M^2/SEC,,/METER,,/METER,,/METER,,%TRANS,/METER,,FTU,,QSU,,UG/L,
49NZ20210713,        P01,      85,          1,         36,     X12S36,2,20210812,       0611,    46.9961,  -153.6165,       5228,    10.1,2,  14.9507,2,  32.3357,2,  32.3315,2,   264.97,2,  263.30,2,   12.94,2,    0.26,2,    9.40,2,    0.14,2,   0.954,2,   2.790,2,   1.409,2,   0.325,2,   2.747,2,  2017.8,2,  2179.6,2,   56.27,2, -999.00,9,    32.4886,2,     597.25,2,       0.05,       0.02,       0.06,       0.01,      0.005,     0.0026,2,   14.95023,2,      0.548,1,      0.000,2,      0.284,1,      0.139,1,      0.020,1,     97.674,     0.0941,2,      0.098,1,      0.170,1,       0.13,2
49NZ20210713,        P01,      85,          1,         35,     X12S35,2,20210812,       0611,    46.9961,  -153.6165,       5228,    51.0,2,   8.1268,2,  32.7435,2,  32.7494,2,   305.05,2,  302.69,2,   11.12,2,    0.36,2,   10.02,2,    0.16,2,   1.003,2,   3.839,2,   2.153,2,   0.408,2,   3.428,2,  2048.5,2,  2199.9,2,   58.63,2, -999.00,9,    32.9070,2,     605.00,2,       0.06,       0.02,       0.03,       0.01,      0.004,     0.0045,2,    8.13046,2,      0.697,1,      0.000,2,      0.343,1,      0.178,1,      0.023,1,     98.488,     0.0609,2,      0.091,1,      0.201,1,       0.16,2
49NZ20210713,        P01,      85,          1,          2,     X12B34,2,20210812,       0611,    46.9961,  -153.6165,       5228,    76.2,2,   7.2970,2,  32.8535,2,  32.8579,2,   293.66,2,  292.47,2,   13.42,2,    0.02,2,   12.37,2,    0.56,2,   1.155,2,-999.000,9,-999.000,9,-999.000,9,-999.000,9,  2069.3,2,  2203.4,2,   55.95,2, -999.00,9,    33.0165,2,     606.90,2,       0.05,       0.01,       0.03,       0.01,      0.004,     0.0041,2,    7.29186,2,      0.855,1,      0.000,2,      0.327,1,      0.170,1,      0.022,1,     98.841,     0.0466,2,      0.077,1,      0.197,1,       0.25,2
49NZ20210713,        P01,      85,          1,         34,     X12S34,2,20210812,       0611,    46.9961,  -153.6165,       5228,   100.2,2,   7.0791,2,  32.9428,2,  32.9422,2,   290.02,2,  288.60,2,   15.64,2,    0.02,2,   13.81,2,    0.04,2,   1.194,2,   3.928,2,   1.932,2,   0.432,2,   3.471,2,  2075.3,2,  2208.9,2,   55.36,2, -999.00,9,    33.1003,2,     608.65,2,       0.06,       0.01,       0.04,       0.01,      0.004,     0.0043,2,    7.07839,2,      0.458,1,      0.000,2,      0.313,1,      0.161,1,      0.019,1,     99.381,     0.0248,2,      0.060,1,      0.196,1,       0.22,2
49NZ20210713,        P01,      85,          1,         33,     X12S33,2,20210812,       0611,    46.9961,  -153.6165,       5228,   150.9,2,   6.6913,2,  33.6557,2,  33.6528,2,   229.52,2,  228.44,2,   30.08,2,    0.02,2,   21.20,2,    0.01,2,   1.559,2,   3.741,2,   1.828,2,   0.401,2,   2.904,2,  2152.6,2,  2248.5,2,   49.20,2, -999.00,9,    33.8180,2,     621.80,2,       0.08,       0.01,       0.05,       0.01,      0.005,     0.0074,2,    6.69139,2,      0.077,1,      0.000,2,      0.340,1,      0.188,1,      0.024,1,     99.862,     0.0055,2,      0.048,1,      0.240,1,       0.02,2
49NZ20210713,        P01,      85,          1,         32,     X12S32,2,20210812,       0611,    46.9961,  -153.6165,       5228,   200.3,2,   5.9635,2,  33.7616,2,  33.7622,2,   180.71,2,  179.78,2,   43.85,2,    0.01,2,   26.58,2,    0.01,2,   1.918,2,   3.440,2,   1.641,2,   0.378,2,   2.183,2,  2191.7,2,  2261.5,2,   50.59,2, -999.00,9,    33.9272,2,     623.85,2,       0.09,       0.01,       0.10,       0.01,      0.005,     0.0094,2,    5.96352,2,      0.067,1,      0.000,2,      0.372,1,      0.212,1,      0.034,1,     99.725,     0.0110,2,      0.054,1,      0.267,1,       0.01,2
49NZ20210713,        P01,      85,          1,         31,     X12S31,2,20210812,       0611,    46.9961,  -153.6165,       5228,   249.4,2,   5.5418,2,  33.8212,2,  33.8215,2,   142.56,2,  141.86,2,   55.37,2,    0.01,2,   30.72,2,    0.01,2,   2.202,2,   3.134,2,   1.496,2,   0.293,2,   1.696,2,  2228.2,2,  2272.2,2,   48.43,2, -999.00,9,    33.9888,2,     624.85,2,       0.11,       0.01,       0.07,       0.01,      0.005,     0.0101,2,    5.54162,2,      0.068,1,      0.000,2,      0.379,1,      0.216,1,      0.038,1,     99.762,     0.0095,2,      0.051,1,      0.287,1,       0.01,2
49NZ20210713,        P01,      85,          1,         30,     X12S30,2,20210812,       0611,    46.9961,  -153.6165,       5228,   297.8,2,   5.0279,2,  33.8407,2,  33.8412,2,   118.65,2,  117.87,2,   64.52,2,    0.04,2,   33.84,2,    0.01,2,   2.419,2,   2.928,2,   1.398,2,   0.219,2,   1.439,2,  2251.7,2,  2279.7,2,   43.73,2, -999.00,9,    34.0083,2,     625.25,2,       0.12,       0.01,       0.07,       0.01,      0.006,     0.0106,2,    5.02775,2,      0.068,1,      0.000,2,      0.398,1,      0.229,1,      0.038,1,     99.795,     0.0082,2,      0.050,1,      0.289,1,     -999.0,9
49NZ20210713,        P01,      85,          1,         29,     X12S29,2,20210812,       0611,    46.9961,  -153.6165,       5228,   398.9,2,   4.5585,2,  33.9305,2,  33.9309,2,    84.05,2,   83.67,2,   79.04,2,    0.02,2,   37.83,2,    0.00,2,   2.684,2,   2.401,2,   1.277,2,   0.172,2,   1.002,2,  2283.5,2,  2292.8,2,   47.91,2, -999.00,9,    34.1009,2,     626.90,2,       0.14,       0.01,       0.08,       0.01,      0.006,     0.0111,2,    4.55830,2,      0.069,1,      0.000,2,      0.400,1,      0.227,1,      0.044,1,     99.804,     0.0078,2,      0.050,1,      0.303,1,     -999.0,9
49NZ20210713,        P01,      85,          1,         28,     X12S28,2,20210812,       0611,    46.9961,  -153.6165,       5228,   500.0,2,   4.2585,2,  34.0528,2,  34.0532,2,    54.40,2,   54.87,2,   94.90,2,    0.01,2,   40.46,2,    0.00,2,   2.874,2,   1.614,2,   0.844,2,   0.162,2,   0.529,2,  2313.4,2,  2314.0,2,   43.25,2, -999.00,9,    34.2262,2,     629.10,2,       0.16,       0.01,       0.09,       0.01,      0.006,     0.0121,2,    4.25820,2,      0.070,1,      0.000,2,      0.403,1,      0.237,1,      0.046,1,     99.862,     0.0055,2,      0.047,1,      0.309,1,     -999.0,9
49NZ20210713,        P01,      85,          1,         27,     X12S27,2,20210812,       0611,    46.9961,  -153.6165,       5228,   598.3,2,   3.9913,2,  34.1392,2,  34.1393,2,    36.28,2,   36.91,2,  106.93,2,    0.00,2,   41.99,2,    0.00,2,   2.987,2,   1.044,2,   0.553,2,   0.062,2,   0.265,2,  2334.5,2,  2326.3,2,   43.36,2, -999.00,9,    34.3136,2,     630.75,2,       0.18,       0.01,       0.09,       0.01,      0.006,     0.0127,2,    3.99149,2,      0.070,1,      0.000,2,      0.402,1,      0.237,1,      0.045,1,     99.911,     0.0036,2,      0.041,1,      0.317,1,     -999.0,9
49NZ20210713,        P01,      85,          1,         26,     X12S26,2,20210812,       0611,    46.9961,  -153.6165,       5228,   699.2,2,   3.7399,2,  34.2101,2,  34.2101,2,    27.33,2,   27.99,2,  117.06,2,    0.01,2,   42.74,2,    0.00,2,   3.046,2,   0.000,4,   0.000,4,   0.000,4,   0.000,4,  2351.9,6,  2340.3,2,   42.60,2, -999.00,9,    34.3856,2,     632.00,2,       0.19,       0.01,       0.09,       0.01,      0.006,     -999.0,9,    3.74010,2,      0.070,1,      0.000,2,     -999.0,9,     -999.0,9,     -999.0,9,     99.909,     0.0037,2,      0.041,1,      0.323,1,     -999.0,9
49NZ20210713,        P01,      85,          1,         25,     X12S25,2,20210812,       0611,    46.9961,  -153.6165,       5228,   800.0,2,   3.4980,2,  34.2663,2,  34.2661,2,    21.48,2,   21.87,2,  125.53,2,    0.04,2,   43.28,2,    0.00,2,   3.084,2,   0.376,2,   0.205,2,   0.006,2,   0.093,2,  2364.5,2,  2352.9,2,   39.65,2, -999.00,9,    34.4424,2,     633.05,2,       0.20,       0.01,       0.09,       0.01,      0.006,     0.0125,2,    3.49838,2,      0.070,1,      0.000,2,      0.393,1,      0.232,1,      0.044,1,     99.885,     0.0046,2,      0.041,1,      0.320,1,     -999.0,9
49NZ20210713,        P01,      85,          1,         24,     X12S24,2,20210812,       0611,    46.9961,  -153.6165,       5228,   899.7,2,   3.2720,2,  34.3154,2,  34.3148,2,    18.43,2,   18.68,2,  133.01,2,    0.03,2,   43.72,2,    0.00,2,   3.120,2,   0.214,2,   0.123,2,   0.006,2,   0.053,2,  2372.9,2,  2364.0,2,   41.27,2, -999.00,9,    34.4919,2,     633.95,2,       0.21,       0.01,       0.09,       0.01,      0.006,     -999.0,9,    3.27191,2,      0.070,1,      0.000,2,     -999.0,9,     -999.0,9,     -999.0,9,     99.911,     0.0036,2,      0.040,1,      0.328,1,     -999.0,9
49NZ20210713,        P01,      85,          1,         23,     X12S23,2,20210812,       0611,    46.9961,  -153.6165,       5228,   998.5,2,   3.0873,2,  34.3511,2,  34.3509,2,    15.60,2,   15.59,2,  139.84,2,    0.01,2,   44.13,2,    0.00,2,   3.140,2,   0.121,2,   0.071,2,   0.000,2,   0.022,2,  2379.9,2,  2370.5,2,   37.62,2, -999.00,9,    34.5308,2,     634.60,2,       0.22,       0.01,       0.09,       0.01,      0.006,     0.0128,2,    3.08708,2,      0.070,1,      0.000,2,      0.391,1,      0.228,1,      0.047,1,     99.883,     0.0047,2,      0.039,1,      0.328,1,     -999.0,9
49NZ20210713,        P01,      85,          1,         22,     X12S22,2,20210812,       0611,    46.9961,  -153.6165,       5228,  1201.2,2,   2.7504,2,  34.4176,2,  34.4178,2,    14.26,2,   14.09,2,  151.93,2,    0.01,2,   44.56,2,    0.00,2,   3.161,2,   0.041,2,   0.024,2,   0.003,2,   0.000,2,  2391.8,2,  2383.4,6,   39.80,2, -999.00,9,    34.5987,2,     635.80,2,       0.24,       0.01,       0.09,       0.01,      0.007,     -999.0,9,    2.74995,2,      0.070,1,      0.000,2,     -999.0,9,     -999.0,9,     -999.0,9,     99.909,     0.0037,2,      0.039,1,      0.332,1,     -999.0,9
49NZ20210713,        P01,      85,          1,         21,     X12S21,2,20210812,       0611,    46.9961,  -153.6165,       5228,  1400.2,2,   2.5025,2,  34.4698,2,  34.4698,2,    16.94,2,   16.71,2,  160.24,2,    0.02,2,   44.65,2,    0.00,2,   3.153,2,   0.016,2,   0.010,2,   0.001,2,   0.000,2,  2398.3,2,  2393.4,2,   38.03,2, -999.00,9,    34.6514,2,     636.75,2,       0.25,       0.01,       0.09,       0.01,      0.007,     0.0127,2,    2.50257,2,      0.069,1,      0.000,2,      0.389,1,      0.232,1,      0.046,1,     99.899,     0.0040,2,      0.037,1,      0.335,1,     -999.0,9
49NZ20210713,        P01,      85,          1,         20,     X12S20,2,20210812,       0611,    46.9961,  -153.6165,       5228,  1599.1,2,   2.2992,2,  34.5155,2,  34.5160,2,    21.74,2,   21.84,2,  166.74,2,    0.02,2,   44.45,2,    0.00,2,   3.124,2,   0.004,2,   0.002,2,   0.000,2,   0.000,2,  2406.3,2,  2402.3,2,   37.16,2, -999.00,9,    34.6981,2,     637.55,2,       0.26,       0.01,       0.09,       0.01,      0.006,     -999.0,9,    2.29955,2,      0.067,1,      0.000,2,     -999.0,9,     -999.0,9,     -999.0,9,     99.909,     0.0037,2,      0.039,1,      0.331,1,     -999.0,9
49NZ20210713,        P01,      85,          1,         19,     X12S19,2,20210812,       0611,    46.9961,  -153.6165,       5228,  1798.7,2,   2.1170,2,  34.5532,2,  34.5536,2,    34.28,2,   34.08,2,  171.29,2,    0.01,2,   43.77,2,    0.00,2,   3.069,2,   0.000,2,   0.001,2,   0.000,2,   0.000,2,  2401.5,2,  2408.5,2,   39.17,2, -999.00,9,    34.7371,2,     638.30,2,       0.27,       0.01,       0.09,       0.01,      0.006,     0.0127,2,    2.11740,2,      0.065,1,      0.000,2,      0.360,1,      0.206,1,      0.042,1,     99.923,     0.0031,2,      0.038,1,      0.322,1,     -999.0,9
49NZ20210713,        P01,      85,          1,         18,     X12S18,2,20210812,       0611,    46.9961,  -153.6165,       5228,  2002.4,2,   1.9838,2,  34.5787,2,  34.5792,2,    45.92,2,   46.22,2,  173.97,2,    0.00,2,   43.05,2,    0.00,2,   3.019,2,   0.000,2,   0.000,2,   0.000,2,   0.014,2,  2397.9,2,  2412.9,2,   38.98,2, -999.00,9,    34.7622,2,     638.75,2,       0.27,       0.01,       0.09,       0.01,      0.006,     -999.0,9,    1.98343,2,      0.063,1,      0.000,2,     -999.0,9,     -999.0,9,     -999.0,9,     99.930,     0.0028,2,      0.037,1,      0.317,1,     -999.0,9
49NZ20210713,        P01,      85,          1,         17,     X12S17,2,20210812,       0611,    46.9961,  -153.6165,       5228,  2200.1,2,   1.8700,2,  34.6017,2,  34.6016,2,    59.13,2,   59.17,2,  175.38,2,    0.00,2,   42.23,2,    0.00,2,   2.961,2,   0.000,2,   0.000,2,   0.000,2,   0.000,2,  2391.4,2,  2414.7,2,   36.19,2, -999.00,9,    34.7866,2,     639.15,2,       0.27,       0.01,       0.09,       0.01,      0.006,     0.0121,2,    1.87003,2,      0.063,1,      0.000,2,      0.361,1,      0.215,1,      0.044,1,     99.911,     0.0036,2,      0.039,1,      0.315,1,     -999.0,9
49NZ20210713,        P01,      85,          1,         16,     X12S16,2,20210812,       0611,    46.9961,  -153.6165,       5228,  2400.6,2,   1.7864,2,  34.6179,2,  34.6180,2,    71.00,2,   70.94,2,  175.48,2,    0.01,2,   41.43,2,    0.00,2,   2.909,2,   0.000,2,   0.000,2,   0.000,2,   0.000,2,  2384.4,6,  2418.9,2,   38.42,2, -999.00,9,    34.8037,2,     639.50,2,       0.27,       0.01,       0.09,       0.01,      0.006,     -999.0,9,    1.78636,2,      0.061,1,      0.000,2,     -999.0,9,     -999.0,9,     -999.0,9,     99.918,     0.0033,2,      0.038,1,      0.312,1,     -999.0,9
49NZ20210713,        P01,      85,          1,         15,     X12S15,2,20210812,       0611,    46.9961,  -153.6165,       5228,  2599.1,2,   1.7083,2,  34.6317,2,  34.6311,2,    83.38,2,   83.15,2,  174.65,2,    0.01,2,   40.69,2,    0.00,2,   2.851,2,   0.000,2,   0.000,2,   0.001,2,   0.000,2,  2379.0,2,  2417.5,2,   40.23,2, -999.00,9,    34.8147,2,     639.70,2,       0.27,       0.01,       0.09,       0.01,      0.006,     0.0113,2,    1.70835,2,      0.060,1,      0.000,2,      0.353,1,      0.207,1,      0.036,1,     99.939,     0.0024,2,      0.037,1,      0.311,1,     -999.0,9
49NZ20210713,        P01,      85,          1,         14,     X12S14,2,20210812,       0611,    46.9961,  -153.6165,       5228,  2800.7,2,   1.6408,2,  34.6438,2,  34.6434,2,    95.68,2,   95.37,2,  172.62,2,    0.01,2,   39.91,2,    0.00,2,   2.795,2,   0.000,2,   0.000,2,   0.000,2,   0.048,2,  2368.5,2,  2419.7,2,   38.32,2, -999.00,9,    34.8281,2,     639.95,2,       0.27,       0.01,       0.08,       0.01,      0.006,     -999.0,9,    1.64085,2,      0.059,1,      0.000,2,     -999.0,9,     -999.0,9,     -999.0,9,     99.951,     0.0020,2,      0.036,1,      0.306,1,     -999.0,9
49NZ20210713,        P01,      85,          1,         13,     X12S13,2,20210812,       0611,    46.9961,  -153.6165,       5228,  3000.1,2,   1.5913,2,  34.6527,2,  34.6532,2,   106.27,2,  106.00,2,  170.41,2,    0.03,2,   39.07,2,    0.00,2,   2.731,2,   0.000,2,   0.000,2,   0.000,2,   0.000,2,  2361.6,2,  2418.0,2,   38.10,2, -999.00,9,    34.8380,2,     640.15,2,       0.26,       0.01,       0.08,       0.01,      0.006,     0.0108,2,    1.59174,2,      0.059,1,      0.000,2,      0.362,1,      0.223,1,      0.044,1,     99.955,     0.0018,2,      0.038,1,      0.298,1,     -999.0,9
49NZ20210713,        P01,      85,          1,         12,     X12S12,2,20210812,       0611,    46.9961,  -153.6165,       5228,  3250.2,2,   1.5416,2,  34.6624,2,  34.6628,2,   118.39,2,  118.21,2,  167.61,2,    0.02,2,   38.26,2,    0.00,2,   2.669,2,   0.000,2,   0.000,2,   0.000,2,   0.003,2,  2354.6,2,  2418.3,6,   38.02,2, -999.00,9,    34.8473,2,     640.30,2,       0.26,       0.01,       0.08,       0.01,      0.006,     -999.0,9,    1.54128,2,      0.058,1,      0.000,2,     -999.0,9,     -999.0,9,     -999.0,9,     99.969,     0.0012,2,      0.036,1,      0.295,1,     -999.0,9
49NZ20210713,        P01,      85,          1,         11,     X12S11,2,20210812,       0611,    46.9961,  -153.6165,       5228,  3499.4,2,   1.5059,2,  34.6700,2,  34.6703,2,   128.35,2,  128.39,2,  165.22,2,    0.03,2,   37.59,2,    0.00,2,   2.625,2,   0.000,2,   0.000,2,   0.001,2,   0.000,2,  2348.3,2,  2419.6,2,   37.00,2, -999.00,9,    34.8528,2,     640.40,2,       0.26,       0.01,       0.08,       0.01,      0.006,     0.0099,2,    1.50594,2,      0.056,1,      0.000,2,      0.302,1,      0.171,1,      0.028,1,     99.974,     0.0010,2,      0.037,1,      0.292,1,     -999.0,9
49NZ20210713,        P01,      85,          1,         10,     X12S10,2,20210812,       0611,    46.9961,  -153.6165,       5228,  3749.9,2,   1.4907,2,  34.6752,2,  34.6761,2,   135.01,2,  134.91,2,  164.27,2,    0.02,2,   37.12,2,    0.00,2,   2.593,2,   0.000,2,   0.000,2,   0.000,2,   0.000,2,  2342.4,2,  2421.2,2,   37.21,2, -999.00,9,    34.8598,2,     640.45,2,       0.26,       0.01,       0.08,       0.01,      0.006,     -999.0,9,    1.49070,2,      0.056,1,      0.000,2,     -999.0,9,     -999.0,9,     -999.0,9,     99.967,     0.0013,2,      0.037,1,      0.285,1,     -999.0,9
49NZ20210713,        P01,      85,          1,          9,     X12S09,2,20210812,       0611,    46.9961,  -153.6165,       5228,  3999.8,2,   1.4887,2,  34.6790,2,  34.6793,2,   139.39,2,  139.39,2,  164.94,2,    0.03,2,   36.84,2,    0.00,2,   2.567,2,   0.000,2,   0.000,2,   0.000,2,   0.000,2,  2341.9,2,  2421.2,2,   36.80,2, -999.00,9,    34.8648,2,     640.60,2,       0.26,       0.01,       0.08,       0.01,      0.006,     0.0100,2,    1.48868,2,      0.055,1,      0.000,2,      0.295,1,      0.166,1,      0.026,1,     99.962,     0.0015,2,      0.036,1,      0.286,1,     -999.0,9
49NZ20210713,        P01,      85,          1,          8,     X12S08,2,20210812,       0611,    46.9961,  -153.6165,       5228,  4249.9,2,   1.4994,2,  34.6816,2,  34.6823,2,   141.75,2,  141.71,2,  166.50,2,    0.03,2,   36.79,2,    0.00,2,   2.557,2,   0.000,2,   0.000,2,   0.000,2,   0.021,2,  2339.4,6,  2424.8,2,   39.06,2, -999.00,9,    34.8669,2,     640.65,2,       0.26,       0.01,       0.08,       0.01,      0.006,     -999.0,9,    1.49945,2,      0.055,1,      0.000,2,     -999.0,9,     -999.0,9,     -999.0,9,     99.974,     0.0010,2,      0.035,1,      0.288,1,     -999.0,9
49NZ20210713,        P01,      85,          1,          7,     X12S07,2,20210812,       0611,    46.9961,  -153.6165,       5228,  4500.8,2,   1.5162,2,  34.6836,2,  34.6841,2,   143.46,2,  143.34,2,  168.01,2,    0.02,2,   36.65,2,    0.00,2,   2.548,2,   0.000,2,   0.000,2,   0.000,2,   0.004,2,  2337.9,2,  2425.2,2,   37.12,2, -999.00,9,    34.8670,2,     640.65,2,       0.26,       0.01,       0.08,       0.01,      0.006,     0.0097,2,    1.51624,2,      0.055,1,      0.000,2,      0.293,1,      0.161,1,      0.021,1,     99.988,     0.0005,2,      0.035,1,      0.288,1,     -999.0,9