BOTTLE,20231011CCHSIOENA
EXPOCODE,SECT_ID,STNNBR,CASTNO,SAMPNO,BTLNBR,BTLNBR_FLAG_W,DATE,TIME,LATITUDE,LONGITUDE,DEPTH,CTDPRS,CTDPRS_FLAG_W,CTDTMP,CTDTMP_FLAG_W,CTDSAL,CTDSAL_FLAG_W,SALNTY,SALNTY_FLAG_W,CTDOXY,CTDOXY_FLAG_W,OXYGEN,OXYGEN_FLAG_W,SILCAT,SILCAT_FLAG_W,NH4,NH4_FLAG_W,NITRAT,NITRAT_FLAG_W,NITRIT,NITRIT_FLAG_W,PHSPHT,PHSPHT_FLAG_W,CFC-11,CFC-11_FLAG_W,CFC-12,CFC-12_FLAG_W,CFC113,CFC113_FLAG_W,SF6,SF6_FLAG_W,TCARBN,TCARBN_FLAG_W,ALKALI,ALKALI_FLAG_W,DOC,DOC_FLAG_W,TDN,TDN_FLAG_W,DNSSAL,DNSSAL_FLAG_W,RIANOMALY,RIANOMALY_FLAG_W,SILUNC,NH4UNC,NRAUNC,NRIUNC,PHPUNC,FDOM,FDOM_FLAG_W,REFTMP,REFTMP_FLAG_W,CTDFLUOR,CTDFLUOR_FLAG_W,PAR,PAR_FLAG_W,CDOM300,CDOM300_FLAG_W,CDOM325,CDOM325_FLAG_W,CDOM443,CDOM443_FLAG_W,CTDXMISS,CTDBEAMCP,CTDBEAMCP_FLAG_W,CTDTURB,CTDTURB_FLAG_W,CTDCDOM,CTDCDOM_FLAG_W,CHLORA,CHLORA_FLAG_W
,,,,,,,,,,,METERS,DBAR,,ITS-90,,PSS-78,,PSS-78,,UMOL/KG,,UMOL/KG,,UMOL/KG,,UMOL/KG,,UMOL/KG,,UMOL/KG,,UMOL/KG,,PMOL/KG,,PMOL/KG,,PMOL/KG,,FMOL/KG,,UMOL/KG,,UMOL/KG,,UMOL/KG,,UMOL/KG,,G/KG,,ND,,UMOL/KG,UMOL/KG,UMOL/KG,UMOL/KG,UMOL/KG,RFU,,ITS-90,,MG/M^3,,UMOL/M^2/SEC,,/METER,,/METER,,/METER,,%TRANS,/METER,,FTU,,QSU,,UG/L,
49NZ20210713,        P01,      40,          1,         36,     X12S36,2,20210726,       0737,    46.9821,   162.2429,       5626,     9.9,2,   8.9649,2,  32.8748,2,  32.8798,2,   314.59,2,  315.90,2,   25.58,2,    0.31,2,   17.11,2,    0.18,2,   1.471,2,   3.969,2,   1.935,2,   0.274,2,   3.741,2,  2068.6,2,  2231.3,2,   58.35,2, -999.00,9,    33.0391,2,     607.38,2,       0.07,       0.02,       0.04,       0.01,      0.005,     0.0039,2,    9.00768,2,      2.250,1,      0.000,2,      0.375,1,      0.188,1,      0.026,1,     93.751,     0.2581,2,      0.232,1,      0.242,1,       0.77,2
49NZ20210713,        P01,      40,          1,          2,     X12B34,2,20210726,       0737,    46.9821,   162.2429,       5626,    37.3,2,   4.9322,2,  32.9210,2,  32.9317,2,   334.27,2,  335.77,2,   33.48,2,    1.18,2,   20.09,2,    0.23,2,   1.751,2,-999.000,9,-999.000,9,-999.000,9,-999.000,9,  2106.9,2,  2228.2,2,   54.90,2, -999.00,9,    33.0927,2,     608.29,2,       0.08,       0.03,       0.05,       0.01,      0.013,     0.0057,2,    4.93210,2,      1.879,1,      0.000,2,      0.386,1,      0.200,1,      0.025,1,     96.524,     0.1415,2,      0.163,1,      0.279,1,       0.77,2
49NZ20210713,        P01,      40,          1,         35,     X12S35,2,20210726,       0737,    46.9821,   162.2429,       5626,    49.7,2,   3.6313,2,  32.9686,2,  32.9729,2,   326.64,2,  329.47,2,   37.03,2,    1.23,2,   21.81,2,    0.48,2,   1.869,2,   5.023,2,   2.367,2,   0.388,3,   4.392,2,  2116.7,2,  2228.6,2,   50.85,2, -999.00,9,    33.1333,2,     609.13,2,       0.09,       0.03,       0.05,       0.01,      0.005,     0.0056,2,    3.63631,2,      0.915,1,      0.000,2,      0.410,1,      0.222,1,      0.036,1,     98.206,     0.0724,2,      0.107,1,      0.282,1,       0.50,2
49NZ20210713,        P01,      40,          1,         34,     X12S34,2,20210726,       0737,    46.9821,   162.2429,       5626,   100.1,2,   2.2483,2,  33.0512,2,  33.0523,2,   323.92,2,  326.62,2,   41.07,2,    0.00,2,   25.24,2,    0.01,2,   1.963,2,   5.139,2,   2.455,2,   0.430,3,   4.502,2,  2136.9,2,  2229.6,2,   49.96,2, -999.00,9,    33.2149,2,     610.59,2,       0.09,       0.01,       0.06,       0.01,      0.005,     0.0059,2,    2.24844,2,      0.125,1,      0.000,2,      0.398,1,      0.205,1,      0.028,1,     99.485,     0.0207,2,      0.075,1,      0.282,1,       0.06,2
49NZ20210713,        P01,      40,          1,         33,     X12S33,2,20210726,       0737,    46.9821,   162.2429,       5626,   150.7,2,   1.8877,2,  33.1836,2,  33.1818,2,   291.95,2,  293.84,2,   49.89,2,    0.01,2,   28.21,2,    0.01,2,   2.147,2,   4.836,2,   2.285,2,   0.383,3,   4.153,2,  2165.1,2,  2240.1,2,   49.19,2, -999.00,9,    33.3427,2,     612.99,2,       0.10,       0.01,       0.06,       0.01,      0.005,     0.0066,2,    1.88724,2,      0.081,1,      0.000,2,      0.409,1,      0.213,1,      0.031,1,     99.538,     0.0185,2,      0.073,1,      0.302,1,       0.03,2
49NZ20210713,        P01,      40,          1,         32,     X12S32,2,20210726,       0737,    46.9821,   162.2429,       5626,   199.9,2,   3.1361,2,  33.6455,2,  33.6451,2,   105.61,2,  104.22,2,   83.32,2,    0.00,2,   40.52,2,    0.00,2,   2.901,2,   3.111,2,   1.464,2,   0.217,2,   1.931,2,  2286.6,2,  2279.3,2,   51.38,2, -999.00,9,    33.8115,2,     621.59,2,       0.15,       0.01,       0.09,       0.01,      0.006,     0.0115,2,    3.13890,2,      0.079,1,      0.000,2,      0.442,1,      0.251,1,      0.049,1,     99.402,     0.0240,2,      0.075,1,      0.395,1,       0.02,2
49NZ20210713,        P01,      40,          1,         31,     X12S31,2,20210726,       0737,    46.9821,   162.2429,       5626,   249.4,2,   3.6296,2,  33.8864,2,  33.8855,2,    25.11,2,   24.99,2,   99.54,2,    0.01,2,   45.31,2,    0.00,2,   3.206,2,   2.142,2,   1.004,2,   0.159,2,   1.044,2,  2341.6,2,  2295.0,2,   43.90,2, -999.00,9,    34.0562,2,     625.94,2,       0.17,       0.01,       0.09,       0.01,      0.007,     0.0128,2,    3.62938,2,      0.076,1,      0.000,2,      0.455,1,      0.261,1,      0.046,1,     99.626,     0.0150,2,      0.070,1,      0.409,1,       0.01,2
49NZ20210713,        P01,      40,          1,         30,     X12S30,2,20210726,       0737,    46.9821,   162.2429,       5626,   329.9,2,   3.6727,2,  34.0411,2,  34.0382,2,    14.01,2,   13.55,2,  111.36,2,    0.01,2,   45.12,2,    0.00,2,   3.201,2,   1.447,2,   0.764,2,   0.114,2,   0.524,2,  2356.0,2,  2318.3,2,   44.14,2, -999.00,9,    34.2105,2,     628.79,2,       0.19,       0.01,       0.09,       0.01,      0.007,     0.0133,2,    3.67243,2,      0.076,1,      0.000,2,      0.486,1,      0.295,1,      0.066,1,     99.775,     0.0090,2,      0.058,1,      0.412,1,     -999.0,9
49NZ20210713,        P01,      40,          1,         29,     X12S29,2,20210726,       0737,    46.9821,   162.2429,       5626,   430.1,2,   3.5090,2,  34.1597,2,  34.1583,2,    14.47,2,   13.98,2,  122.83,2,    0.02,2,   44.54,2,    0.00,2,   3.146,2,   0.875,2,   0.487,2,   0.066,2,   0.320,2,  2363.0,2,  2341.1,2,   41.81,2, -999.00,9,    34.3321,2,     631.04,2,       0.20,       0.01,       0.09,       0.01,      0.006,     0.0133,2,    3.50891,2,      0.075,1,      0.000,2,      0.426,1,      0.254,1,      0.049,1,     99.828,     0.0069,2,      0.057,1,      0.409,1,     -999.0,9
49NZ20210713,        P01,      40,          1,         28,     X12S28,2,20210726,       0737,    46.9821,   162.2429,       5626,   529.1,2,   3.3091,2,  34.2388,2,  34.2377,2,    13.46,2,   12.86,2,  132.07,2,    0.02,2,   44.48,2,    0.00,2,   3.150,2,   0.554,2,   0.318,2,   0.046,2,   0.157,2,  2368.5,2,  2351.4,2,   39.48,2, -999.00,9,    34.4123,2,     632.38,2,       0.21,       0.01,       0.09,       0.01,      0.007,     0.0178,4,    3.30913,2,      0.074,1,      0.000,2,      0.422,1,      0.254,1,      0.056,1,     99.872,     0.0051,2,      0.053,1,      0.410,1,     -999.0,9
49NZ20210713,        P01,      40,          1,         27,     X12S27,2,20210726,       0737,    46.9821,   162.2429,       5626,   629.7,2,   3.1220,2,  34.2975,2,  34.2966,2,    14.19,2,   13.55,2,  139.48,2,    0.02,2,   44.50,2,    0.00,2,   3.148,2,   0.365,2,   0.216,2,   0.030,2,   0.148,2,  2375.1,2,  2359.7,2,   40.65,2, -999.00,9,    34.4723,2,     633.54,2,       0.22,       0.01,       0.09,       0.01,      0.007,     0.0140,2,    3.12195,2,      0.073,1,      0.000,2,      0.469,1,      0.287,1,      0.061,1,     99.898,     0.0041,2,      0.052,1,      0.414,1,     -999.0,9
49NZ20210713,        P01,      40,          1,         26,     X12S26,2,20210726,       0737,    46.9821,   162.2429,       5626,   730.4,2,   2.9240,2,  34.3494,2,  34.3485,2,    15.68,2,   15.04,2,  146.64,2,    0.02,2,   44.34,2,    0.00,2,   3.149,2,   0.242,2,   0.151,2,   0.017,2,   0.106,2,  2382.1,6,  2365.4,2,   38.17,2, -999.00,9,    34.5269,2,     634.49,2,       0.23,       0.01,       0.09,       0.01,      0.007,     -999.0,9,    2.92388,2,      0.072,1,      0.000,2,     -999.0,9,     -999.0,9,     -999.0,9,     99.863,     0.0055,2,      0.051,1,      0.411,1,     -999.0,9
49NZ20210713,        P01,      40,          1,         25,     X12S25,2,20210726,       0737,    46.9821,   162.2429,       5626,   830.5,2,   2.7621,2,  34.3890,2,  34.3887,2,    16.87,2,   16.29,2,  151.57,2,    0.02,2,   44.22,2,    0.00,2,   3.132,2,   0.165,2,   0.103,2,   0.010,2,   0.024,2,  2389.5,2,  2373.7,2,   38.73,2, -999.00,9,    34.5661,2,     635.24,2,       0.24,       0.01,       0.09,       0.01,      0.006,     0.0141,2,    2.76210,2,      0.072,1,      0.000,2,      0.455,1,      0.285,1,      0.062,1,     99.898,     0.0041,2,      0.050,1,      0.413,1,     -999.0,9
49NZ20210713,        P01,      40,          1,         24,     X12S24,2,20210726,       0737,    46.9821,   162.2429,       5626,   930.4,2,   2.6094,2,  34.4240,2,  34.4238,2,    19.24,2,   18.78,2,  156.86,2,    0.02,2,   44.10,2,    0.00,2,   3.126,2,   0.116,2,   0.072,2,   0.012,2,   0.026,2,  2390.6,2,  2382.7,2,   37.63,2, -999.00,9,    34.6036,2,     635.88,2,       0.25,       0.01,       0.09,       0.01,      0.006,     -999.0,9,    2.60937,2,      0.070,1,      0.000,2,     -999.0,9,     -999.0,9,     -999.0,9,     99.911,     0.0035,2,      0.050,1,      0.442,1,     -999.0,9
49NZ20210713,        P01,      40,          1,         23,     X12S23,2,20210726,       0737,    46.9821,   162.2429,       5626,  1071.2,2,   2.4176,2,  34.4669,2,  34.4662,2,    25.15,2,   24.68,2,  162.73,2,    0.02,2,   43.85,2,    0.00,2,   3.105,2,   0.074,2,   0.046,2,   0.010,2,   0.048,2,  2392.8,2,  2389.1,2,   37.44,2, -999.00,9,    34.6437,2,     636.69,2,       0.25,       0.01,       0.09,       0.01,      0.006,     0.0140,2,    2.41731,2,      0.068,1,      0.000,2,      0.420,1,      0.254,1,      0.053,1,     99.914,     0.0035,2,      0.051,1,      0.444,1,     -999.0,9
49NZ20210713,        P01,      40,          1,         22,     X12S22,2,20210726,       0737,    46.9821,   162.2429,       5626,  1270.7,2,   2.2201,2,  34.5125,2,  34.5122,2,    36.26,2,   36.05,2,  167.29,2,    0.01,2,   43.29,2,    0.00,2,   3.060,2,   0.046,2,   0.029,2,   0.009,2,   0.043,2,  2391.4,2,  2396.6,6,   40.92,2, -999.00,9,    34.6899,2,     637.44,2,       0.26,       0.01,       0.09,       0.01,      0.006,     -999.0,9,    2.21943,2,      0.067,1,      0.000,2,     -999.0,9,     -999.0,9,     -999.0,9,     99.921,     0.0032,2,      0.051,1,      0.419,1,     -999.0,9
49NZ20210713,        P01,      40,          1,         21,     X12S21,2,20210726,       0737,    46.9821,   162.2429,       5626,  1470.3,2,   2.0564,2,  34.5512,2,  34.5504,2,    49.17,2,   49.02,2,  169.72,2,    0.02,2,   42.53,2,    0.00,2,   3.004,2,   0.022,2,   0.014,2,   0.005,2,   0.023,2,  2387.8,2,  2400.7,2,   39.74,2, -999.00,9,    34.7296,2,     638.19,2,       0.26,       0.01,       0.09,       0.01,      0.006,     0.0129,2,    2.05635,2,      0.065,1,      0.000,2,      0.360,1,      0.210,1,      0.041,1,     99.930,     0.0028,2,      0.051,1,      0.394,1,     -999.0,9
49NZ20210713,        P01,      40,          1,         20,     X12S20,2,20210726,       0737,    46.9821,   162.2429,       5626,  1668.8,2,   1.9431,2,  34.5781,2,  34.5776,2,    61.20,2,   60.99,2,  169.95,2,    0.04,2,   41.74,2,    0.00,2,   2.952,2,   0.012,2,   0.010,2,   0.005,2,   0.029,2,  2382.4,2,  2405.3,2,   38.12,2, -999.00,9,    34.7580,2,     638.69,2,       0.26,       0.01,       0.09,       0.01,      0.006,     -999.0,9,    1.94301,2,      0.064,1,      0.000,2,     -999.0,9,     -999.0,9,     -999.0,9,     99.939,     0.0024,2,      0.050,1,      0.395,1,     -999.0,9
49NZ20210713,        P01,      40,          1,         19,     X12S19,2,20210726,       0737,    46.9821,   162.2429,       5626,  1869.8,2,   1.8350,2,  34.6017,2,  34.6011,2,    74.31,2,   74.16,2,  169.17,2,    0.02,2,   40.93,2,    0.00,2,   2.894,2,   0.004,2,   0.003,2,   0.000,2,   0.039,2,  2378.9,2,  2409.6,2,   37.83,2, -999.00,9,    34.7814,2,     639.09,2,       0.26,       0.01,       0.09,       0.01,      0.006,     0.0127,2,    1.83496,2,      0.062,1,      0.000,2,      0.335,1,      0.190,1,      0.034,1,     99.946,     0.0022,2,      0.055,1,      0.379,1,     -999.0,9
49NZ20210713,        P01,      40,          1,         18,     X12S18,2,20210726,       0737,    46.9821,   162.2429,       5626,  2070.0,2,   1.7408,2,  34.6209,2,  34.6204,2,    87.52,2,   87.42,2,  167.44,2,   -0.01,2,   40.26,2,    0.00,2,   2.830,2,   0.002,2,   0.001,2,   0.000,2,   0.040,2,  2369.4,2,  2413.7,2,   36.97,2, -999.00,9,    34.8049,2,     639.54,2,       0.26,       0.01,       0.08,       0.01,      0.006,     -999.0,9,    1.74080,2,      0.061,1,      0.000,2,     -999.0,9,     -999.0,9,     -999.0,9,     99.941,     0.0023,2,      0.049,1,      0.369,1,     -999.0,9
49NZ20210713,        P01,      40,          1,         17,     X12S17,2,20210726,       0737,    46.9821,   162.2429,       5626,  2268.3,2,   1.6673,2,  34.6348,2,  34.6348,2,    98.77,2,   98.70,2,  166.00,2,    0.00,2,   39.55,2,    0.00,2,   2.771,2,   0.000,2,   0.000,2,   0.000,2,   0.036,2,  2363.2,2,  2411.7,2,   37.21,2, -999.00,9,    34.8167,2,     639.79,2,       0.26,       0.01,       0.08,       0.01,      0.006,     0.0115,2,    1.66722,2,      0.060,1,      0.000,2,      0.322,1,      0.177,1,      0.030,1,     99.953,     0.0019,2,      0.051,1,      0.360,1,     -999.0,9
49NZ20210713,        P01,      40,          1,         16,     X12S16,2,20210726,       0737,    46.9821,   162.2429,       5626,  2470.6,2,   1.6125,2,  34.6457,2,  34.6455,2,   108.75,2,  108.71,2,  163.58,2,    0.00,2,   38.83,2,    0.00,2,   2.725,2,   0.000,2,   0.000,2,   0.000,2,   0.032,2,  2356.5,6,  2412.0,2,   35.02,2, -999.00,9,    34.8252,2,     639.88,2,       0.26,       0.01,       0.08,       0.01,      0.006,     -999.0,9,    1.61236,2,      0.060,1,      0.000,2,     -999.0,9,     -999.0,9,     -999.0,9,     99.976,     0.0010,2,      0.048,1,      0.356,1,     -999.0,9
49NZ20210713,        P01,      40,          1,         15,     X12S15,3,20210726,       0737,    46.9821,   162.2429,       5626,  2670.4,2,   1.5711,2,  34.6540,2,  34.6522,2,   117.14,2,  117.55,2,  161.05,2,    0.00,2,   38.29,2,    0.00,2,   2.683,2,   0.000,2,   0.000,2,   0.000,2,   0.032,2,  2350.9,2,  2416.5,2,   33.24,2, -999.00,9,    34.8331,2,     640.09,2,       0.25,       0.01,       0.08,       0.01,      0.006,     0.0113,2,    1.57101,2,      0.059,1,      0.000,2,      0.300,1,      0.168,1,      0.028,1,     99.951,     0.0020,2,      0.048,1,      0.350,1,     -999.0,9
49NZ20210713,        P01,      40,          1,         14,     X12S14,2,20210726,       0737,    46.9821,   162.2429,       5626,  2869.6,2,   1.5383,2,  34.6604,2,  34.6597,2,   124.05,2,  124.23,2,  159.21,2,    0.02,2,   37.94,2,    0.00,2,   2.647,2,   0.000,2,   0.000,2,   0.000,2,   0.009,2,  2348.4,2,  2409.4,2,   32.97,2, -999.00,9,    34.8402,2,     640.24,2,       0.25,       0.01,       0.08,       0.01,      0.006,     -999.0,9,    1.53816,2,      0.059,1,      0.000,2,     -999.0,9,     -999.0,9,     -999.0,9,     99.974,     0.0011,2,      0.048,1,      0.395,1,     -999.0,9
49NZ20210713,        P01,      40,          1,         13,     X12S13,2,20210726,       0737,    46.9821,   162.2429,       5626,  3080.5,2,   1.5050,2,  34.6668,2,  34.6665,2,   131.06,2,  131.18,2,  157.20,2,    0.01,2,   37.40,2,    0.00,2,   2.608,2,   0.000,2,   0.000,2,   0.000,2,   0.000,2,  2342.3,2,  2411.8,2,   36.74,2, -999.00,9,    34.8464,2,     640.29,2,       0.25,       0.01,       0.08,       0.01,      0.006,     0.0103,2,    1.50482,2,      0.058,1,      0.000,2,      0.460,1,      0.303,1,      0.072,1,     99.978,     0.0009,2,      0.048,1,      0.364,1,     -999.0,9
49NZ20210713,        P01,      40,          1,         12,     X12S12,2,20210726,       0737,    46.9821,   162.2429,       5626,  3329.4,2,   1.4803,2,  34.6725,2,  34.6722,2,   137.73,2,  137.80,2,  155.34,2,    0.01,2,   37.10,2,    0.00,2,   2.575,2,   0.000,2,   0.000,2,   0.000,2,   0.000,2,  2336.9,2,  2411.6,6,   35.73,2, -999.00,9,    34.8535,2,     640.38,2,       0.24,       0.01,       0.08,       0.01,      0.006,     -999.0,9,    1.48022,2,      0.058,1,      0.000,2,     -999.0,9,     -999.0,9,     -999.0,9,     99.957,     0.0017,2,      0.048,1,      0.354,1,     -999.0,9
49NZ20210713,        P01,      40,          1,         11,     X12S11,2,20210726,       0737,    46.9821,   162.2429,       5626,  3580.1,2,   1.4670,2,  34.6767,2,  34.6763,2,   142.75,2,  142.95,2,  153.95,2,    0.01,2,   36.74,2,    0.00,2,   2.545,2,   0.000,2,   0.000,2,   0.000,2,   0.000,2,  2333.9,2,  2412.0,2,   36.02,2, -999.00,9,    34.8563,2,     640.49,2,       0.24,       0.01,       0.08,       0.01,      0.006,     0.0100,2,    1.46674,2,      0.057,1,      0.000,2,      0.287,1,      0.154,1,      0.028,1,     99.990,     0.0004,2,      0.047,1,      0.351,1,     -999.0,9
49NZ20210713,        P01,      40,          1,         10,     X12S10,2,20210726,       0737,    46.9821,   162.2429,       5626,  3829.5,2,   1.4607,2,  34.6801,2,  34.6796,2,   147.09,2,  147.09,2,  152.80,2,    0.03,2,   36.46,2,    0.00,2,   2.526,2,   0.000,2,   0.000,2,   0.000,2,   0.000,2,  2330.6,2,  2412.9,2,   36.64,2, -999.00,9,    34.8589,2,     640.49,2,       0.24,       0.01,       0.08,       0.01,      0.006,     -999.0,9,    1.46052,2,      0.057,1,      0.000,2,     -999.0,9,     -999.0,9,     -999.0,9,     99.985,     0.0006,2,      0.046,1,      0.346,1,     -999.0,9
49NZ20210713,        P01,      40,          1,          9,     X12S09,2,20210726,       0737,    46.9821,   162.2429,       5626,  4079.8,2,   1.4637,2,  34.6826,2,  34.6821,2,   150.35,2,  150.03,2,  151.55,2,    0.02,2,   36.00,2,    0.00,2,   2.495,2,   0.001,2,   0.000,2,   0.000,2,   0.000,2,  2329.3,2,  2414.3,2,   37.36,2, -999.00,9,    34.8609,2,     640.49,2,       0.24,       0.01,       0.08,       0.01,      0.006,     0.0098,2,    1.46348,2,      0.057,1,      0.000,2,      0.289,1,      0.161,1,      0.028,1,     99.987,     0.0005,2,      0.046,1,      0.350,1,     -999.0,9
49NZ20210713,        P01,      40,          1,          8,     X12S08,2,20210726,       0737,    46.9821,   162.2429,       5626,  4329.6,2,   1.4699,2,  34.6850,2,  34.6848,2,   153.27,2,  152.98,2,  151.60,2,    0.02,2,   36.07,2,    0.00,2,   2.493,2,   0.000,2,   0.001,2,   0.000,2,   0.000,2,  2328.3,6,  2412.8,2,   38.53,2, -999.00,9,    34.8654,2,     640.59,2,       0.24,       0.01,       0.08,       0.01,      0.006,     -999.0,9,    1.46975,2,      0.057,1,      0.000,2,     -999.0,9,     -999.0,9,     -999.0,9,     99.987,     0.0005,2,      0.047,1,      0.361,1,     -999.0,9
49NZ20210713,        P01,      40,          1,          7,     X12S07,2,20210726,       0737,    46.9821,   162.2429,       5626,  4580.4,2,   1.4845,2,  34.6866,2,  34.6861,2,   155.22,2,  154.78,2,  151.37,2,    0.02,2,   35.98,2,    0.00,2,   2.480,2,   0.001,2,   0.001,2,   0.000,2,   0.000,2,  2325.4,2,  2407.6,2,   37.96,2, -999.00,9,    34.8668,2,     640.59,2,       0.24,       0.01,       0.08,       0.01,      0.006,     0.0098,2,    1.48442,2,      0.056,1,      0.000,2,      0.299,1,      0.168,1,      0.029,1,     99.997,     0.0001,2,      0.045,1,      0.356,1,     -999.0,9