BOTTLE,20231011CCHSIOENA
EXPOCODE,SECT_ID,STNNBR,CASTNO,SAMPNO,BTLNBR,BTLNBR_FLAG_W,DATE,TIME,LATITUDE,LONGITUDE,DEPTH,CTDPRS,CTDPRS_FLAG_W,CTDTMP,CTDTMP_FLAG_W,CTDSAL,CTDSAL_FLAG_W,SALNTY,SALNTY_FLAG_W,CTDOXY,CTDOXY_FLAG_W,OXYGEN,OXYGEN_FLAG_W,SILCAT,SILCAT_FLAG_W,NH4,NH4_FLAG_W,NITRAT,NITRAT_FLAG_W,NITRIT,NITRIT_FLAG_W,PHSPHT,PHSPHT_FLAG_W,CFC-11,CFC-11_FLAG_W,CFC-12,CFC-12_FLAG_W,CFC113,CFC113_FLAG_W,SF6,SF6_FLAG_W,TCARBN,TCARBN_FLAG_W,ALKALI,ALKALI_FLAG_W,DOC,DOC_FLAG_W,TDN,TDN_FLAG_W,DNSSAL,DNSSAL_FLAG_W,RIANOMALY,RIANOMALY_FLAG_W,SILUNC,NH4UNC,NRAUNC,NRIUNC,PHPUNC,FDOM,FDOM_FLAG_W,REFTMP,REFTMP_FLAG_W,CTDFLUOR,CTDFLUOR_FLAG_W,PAR,PAR_FLAG_W,CDOM300,CDOM300_FLAG_W,CDOM325,CDOM325_FLAG_W,CDOM443,CDOM443_FLAG_W,CTDXMISS,CTDBEAMCP,CTDBEAMCP_FLAG_W,CTDTURB,CTDTURB_FLAG_W,CTDCDOM,CTDCDOM_FLAG_W,CHLORA,CHLORA_FLAG_W
,,,,,,,,,,,METERS,DBAR,,ITS-90,,PSS-78,,PSS-78,,UMOL/KG,,UMOL/KG,,UMOL/KG,,UMOL/KG,,UMOL/KG,,UMOL/KG,,UMOL/KG,,PMOL/KG,,PMOL/KG,,PMOL/KG,,FMOL/KG,,UMOL/KG,,UMOL/KG,,UMOL/KG,,UMOL/KG,,G/KG,,ND,,UMOL/KG,UMOL/KG,UMOL/KG,UMOL/KG,UMOL/KG,RFU,,ITS-90,,MG/M^3,,UMOL/M^2/SEC,,/METER,,/METER,,/METER,,%TRANS,/METER,,FTU,,QSU,,UG/L,
49NZ20210713,        P01,      54,          1,          5,     X12S05,2,20210731,       0550,    46.9985,   171.6176,       6023,  4999.5,2,   1.5386,2,  34.6867,2,  34.6867,2,   154.03,2,  153.58,2,  154.74,2,    0.02,2,   36.06,2,    0.00,2,   2.491,2,   0.001,2,   0.000,2,   0.001,2,   0.000,2,  2327.7,2,  2416.0,2,   38.74,2, -999.00,9,    34.8701,2,     640.66,2,       0.29,       0.01,       0.08,       0.01,      0.006,     0.0096,2,    1.53858,2,      0.055,1,      0.000,2,      0.392,1,      0.241,1,      0.055,1,     99.969,     0.0012,2,      0.045,1,      0.355,1,     -999.0,9
49NZ20210713,        P01,      54,          1,          4,     X12S04,2,20210731,       0550,    46.9985,   171.6176,       6023,  5250.2,2,   1.5660,2,  34.6872,2,  34.6873,2,   154.55,2,  154.04,2,  155.19,2,    0.02,2,   36.03,2,    0.00,2,   2.488,2,   0.001,2,   0.001,2,   0.001,2,   0.000,2,  2328.3,2,  2417.2,2,   39.82,3, -999.00,9,    34.8691,2,     640.66,2,       0.24,       0.01,       0.08,       0.01,      0.006,     0.0099,2,    1.56587,2,      0.054,1,      0.000,2,      0.387,1,      0.234,1,      0.051,1,     99.955,     0.0018,2,      0.044,1,      0.354,1,     -999.0,9
49NZ20210713,        P01,      54,          1,          3,     X12S03,2,20210731,       0550,    46.9985,   171.6176,       6023,  5500.0,2,   1.5962,2,  34.6876,2,  34.6876,2,   154.78,2,  154.37,2,  155.70,2,    0.01,2,   36.00,2,    0.00,2,   2.484,2,   0.003,2,   0.002,2,   0.001,2,   0.023,2,  2329.0,2,  2417.6,2,   37.20,2, -999.00,9,    34.8698,2,     640.62,2,       0.30,       0.01,       0.08,       0.01,      0.006,     0.0100,2,    1.59616,2,      0.054,1,      0.000,2,      0.293,1,      0.162,1,      0.025,1,     99.921,     0.0032,2,      0.049,1,      0.361,1,     -999.0,9
49NZ20210713,        P01,      54,          1,          2,     X12B34,2,20210731,       0550,    46.9985,   171.6176,       6023,  5750.6,2,   1.6291,2,  34.6877,2,  34.6879,2,   154.82,2,  154.45,2,  155.75,2,    0.01,2,   35.97,2,    0.00,2,   2.484,2,   0.003,2,   0.001,2,   0.003,2,   0.048,2,  2326.3,2,  2417.0,2,   36.39,2, -999.00,9,    34.8697,2,     640.56,2,       0.25,       0.01,       0.08,       0.01,      0.006,     0.0102,2,    1.62908,2,      0.053,1,      0.000,2,      0.283,1,      0.153,1,      0.023,1,     99.872,     0.0051,2,      0.050,1,      0.372,1,     -999.0,9
49NZ20210713,        P01,      54,          1,          1,     X12S01,2,20210731,       0550,    46.9985,   171.6176,       6023,  6099.3,2,   1.6773,2,  34.6877,2,  34.6878,2,   154.81,2,  154.60,2,  155.75,2,    0.01,2,   35.94,2,    0.00,2,   2.487,2,   0.001,2,   0.001,2,   0.000,2,   0.031,2,  2324.8,2,  2417.8,2,   37.25,2, -999.00,9,    34.8694,2,     640.91,2,       0.25,       0.01,       0.08,       0.01,      0.006,     0.0104,2,    1.67724,2,      0.053,1,      0.000,2,      0.290,1,      0.160,1,      0.026,1,     99.814,     0.0074,2,      0.054,1,      0.374,1,     -999.0,9
49NZ20210713,        P01,      55,          1,          2,     X12B34,2,20210731,       1445,    47.0032,   172.7246,       5624,    25.0,2,   8.8989,2,  32.9416,2,-999.0000,9,   304.12,2, -999.00,9, -999.00,9, -999.00,9, -999.00,9, -999.00,9,-999.000,9,-999.000,9,-999.000,9,-999.000,9,-999.000,9,  -999.0,9,  -999.0,9, -999.00,9, -999.00,9,     -999.0,9,     -999.0,9,     -999.0,     -999.0,     -999.0,     -999.0,     -999.0,     -999.0,9,    8.90845,2,      1.587,1,      0.000,2,     -999.0,9,     -999.0,9,     -999.0,9,     96.490,     0.1429,2,      0.227,1,      0.212,1,     -999.0,9