BOTTLE,20231011CCHSIOENA
EXPOCODE,SECT_ID,STNNBR,CASTNO,SAMPNO,BTLNBR,BTLNBR_FLAG_W,DATE,TIME,LATITUDE,LONGITUDE,DEPTH,CTDPRS,CTDPRS_FLAG_W,CTDTMP,CTDTMP_FLAG_W,CTDSAL,CTDSAL_FLAG_W,SALNTY,SALNTY_FLAG_W,CTDOXY,CTDOXY_FLAG_W,OXYGEN,OXYGEN_FLAG_W,SILCAT,SILCAT_FLAG_W,NH4,NH4_FLAG_W,NITRAT,NITRAT_FLAG_W,NITRIT,NITRIT_FLAG_W,PHSPHT,PHSPHT_FLAG_W,CFC-11,CFC-11_FLAG_W,CFC-12,CFC-12_FLAG_W,CFC113,CFC113_FLAG_W,SF6,SF6_FLAG_W,TCARBN,TCARBN_FLAG_W,ALKALI,ALKALI_FLAG_W,DOC,DOC_FLAG_W,TDN,TDN_FLAG_W,DNSSAL,DNSSAL_FLAG_W,RIANOMALY,RIANOMALY_FLAG_W,SILUNC,NH4UNC,NRAUNC,NRIUNC,PHPUNC,FDOM,FDOM_FLAG_W,REFTMP,REFTMP_FLAG_W,CTDFLUOR,CTDFLUOR_FLAG_W,PAR,PAR_FLAG_W,CDOM300,CDOM300_FLAG_W,CDOM325,CDOM325_FLAG_W,CDOM443,CDOM443_FLAG_W,CTDXMISS,CTDBEAMCP,CTDBEAMCP_FLAG_W,CTDTURB,CTDTURB_FLAG_W,CTDCDOM,CTDCDOM_FLAG_W,CHLORA,CHLORA_FLAG_W
,,,,,,,,,,,METERS,DBAR,,ITS-90,,PSS-78,,PSS-78,,UMOL/KG,,UMOL/KG,,UMOL/KG,,UMOL/KG,,UMOL/KG,,UMOL/KG,,UMOL/KG,,PMOL/KG,,PMOL/KG,,PMOL/KG,,FMOL/KG,,UMOL/KG,,UMOL/KG,,UMOL/KG,,UMOL/KG,,G/KG,,ND,,UMOL/KG,UMOL/KG,UMOL/KG,UMOL/KG,UMOL/KG,RFU,,ITS-90,,MG/M^3,,UMOL/M^2/SEC,,/METER,,/METER,,/METER,,%TRANS,/METER,,FTU,,QSU,,UG/L,
49NZ20210713,        P01,      44,          1,          5,     X12S05,2,20210728,       1419,    46.9714,   166.7606,       5955,  5001.0,2,   1.5261,2,  34.6879,2,  34.6871,2,   156.54,2,  156.28,2,  151.96,2,    0.02,2,   35.83,2,    0.00,2,   2.473,2,   0.002,2,   0.003,2,   0.000,2,   0.000,2,  2324.7,2,  2413.0,2,   39.60,2, -999.00,9,    34.8716,2,     640.82,2,       0.24,       0.01,       0.08,       0.01,      0.006,     0.0096,2,    1.52595,2,      0.055,1,      0.000,2,      0.298,1,      0.170,1,      0.029,1,     99.971,     0.0012,2,      0.046,1,      0.365,1,     -999.0,9
49NZ20210713,        P01,      44,          1,          4,     X12S04,2,20210728,       1419,    46.9714,   166.7606,       5955,  5251.5,2,   1.5514,2,  34.6886,2,  34.6881,2,   157.21,2,  156.92,2,  152.85,2,    0.02,2,   35.78,2,    0.00,2,   2.470,2,   0.001,2,   0.000,2,   0.000,2,   0.000,2,  2324.4,2,  2413.4,2,   37.99,2, -999.00,9,    34.8706,2,     640.77,2,       0.24,       0.01,       0.08,       0.01,      0.006,     0.0097,2,    1.55119,2,      0.054,1,      0.000,2,      0.291,1,      0.162,1,      0.029,1,     99.948,     0.0021,2,      0.045,1,      0.372,1,     -999.0,9
49NZ20210713,        P01,      44,          1,          3,     X12S03,2,20210728,       1419,    46.9714,   166.7606,       5955,  5500.2,2,   1.5816,2,  34.6892,2,  34.6887,2,   157.31,2, -999.00,5,  153.63,2,    0.02,2,   35.76,2,    0.00,2,   2.469,2,   0.000,2,   0.001,2,   0.000,2,   0.000,2,  2325.8,2,  2416.1,2,   35.18,2, -999.00,9,    34.8690,2,     640.72,2,       0.24,       0.01,       0.08,       0.01,      0.006,     0.0097,2,    1.58158,2,      0.054,1,      0.000,2,      0.276,1,      0.149,1,      0.020,1,     99.897,     0.0041,2,      0.050,1,      0.379,1,     -999.0,9
49NZ20210713,        P01,      44,          1,          2,     X12B34,2,20210728,       1419,    46.9714,   166.7606,       5955,  5749.7,2,   1.6150,2,  34.6891,2,  34.6886,2,   157.32,2,  157.01,2,  153.42,2,    0.02,2,   35.79,2,    0.00,2,   2.472,2,   0.001,2,   0.001,2,   0.002,2,   0.014,2,  2325.5,2,  2413.2,2,   36.76,2, -999.00,9,    34.8714,2,     640.82,2,       0.24,       0.01,       0.08,       0.01,      0.006,     0.0095,2,    1.61492,2,      0.054,1,      0.000,2,      0.277,1,      0.152,1,      0.022,1,     99.899,     0.0040,2,      0.049,1,      0.405,1,     -999.0,9
49NZ20210713,        P01,      44,          1,          1,     X12S01,2,20210728,       1419,    46.9714,   166.7606,       5955,  6071.2,2,   1.6588,2,  34.6893,2,  34.6885,2,   157.40,2,  157.29,2,  153.72,2,    0.02,2,   35.78,2,    0.00,2,   2.472,2,   0.002,2,   0.002,2,   0.000,2,   0.026,2,  2323.1,2,  2412.2,2,   39.62,2, -999.00,9,    34.8708,2,     641.02,2,       0.24,       0.01,       0.08,       0.01,      0.006,     0.0097,2,    1.65875,2,      0.054,1,      0.000,2,      0.276,1,      0.149,1,      0.016,1,     99.782,     0.0087,2,      0.054,1,      0.383,1,     -999.0,9