BOTTLE,20231011CCHSIOENA
EXPOCODE,SECT_ID,STNNBR,CASTNO,SAMPNO,BTLNBR,BTLNBR_FLAG_W,DATE,TIME,LATITUDE,LONGITUDE,DEPTH,CTDPRS,CTDPRS_FLAG_W,CTDTMP,CTDTMP_FLAG_W,CTDSAL,CTDSAL_FLAG_W,SALNTY,SALNTY_FLAG_W,CTDOXY,CTDOXY_FLAG_W,OXYGEN,OXYGEN_FLAG_W,SILCAT,SILCAT_FLAG_W,NH4,NH4_FLAG_W,NITRAT,NITRAT_FLAG_W,NITRIT,NITRIT_FLAG_W,PHSPHT,PHSPHT_FLAG_W,CFC-11,CFC-11_FLAG_W,CFC-12,CFC-12_FLAG_W,CFC113,CFC113_FLAG_W,SF6,SF6_FLAG_W,TCARBN,TCARBN_FLAG_W,ALKALI,ALKALI_FLAG_W,DOC,DOC_FLAG_W,TDN,TDN_FLAG_W,DNSSAL,DNSSAL_FLAG_W,RIANOMALY,RIANOMALY_FLAG_W,SILUNC,NH4UNC,NRAUNC,NRIUNC,PHPUNC,FDOM,FDOM_FLAG_W,REFTMP,REFTMP_FLAG_W,CTDFLUOR,CTDFLUOR_FLAG_W,PAR,PAR_FLAG_W,CDOM300,CDOM300_FLAG_W,CDOM325,CDOM325_FLAG_W,CDOM443,CDOM443_FLAG_W,CTDXMISS,CTDBEAMCP,CTDBEAMCP_FLAG_W,CTDTURB,CTDTURB_FLAG_W,CTDCDOM,CTDCDOM_FLAG_W,CHLORA,CHLORA_FLAG_W
,,,,,,,,,,,METERS,DBAR,,ITS-90,,PSS-78,,PSS-78,,UMOL/KG,,UMOL/KG,,UMOL/KG,,UMOL/KG,,UMOL/KG,,UMOL/KG,,UMOL/KG,,PMOL/KG,,PMOL/KG,,PMOL/KG,,FMOL/KG,,UMOL/KG,,UMOL/KG,,UMOL/KG,,UMOL/KG,,G/KG,,ND,,UMOL/KG,UMOL/KG,UMOL/KG,UMOL/KG,UMOL/KG,RFU,,ITS-90,,MG/M^3,,UMOL/M^2/SEC,,/METER,,/METER,,/METER,,%TRANS,/METER,,FTU,,QSU,,UG/L,
49NZ20210713,        P01,      64,          1,         36,     X12S36,2,20210803,       1836,    46.9972,  -177.2142,       5712,    10.3,2,  12.2312,2,  32.8169,2,  32.8144,2,   282.08,2,  282.54,2,   23.37,2,    0.24,2,   16.17,2,    0.26,2,   1.410,2,   3.330,2,   1.874,2,   0.301,2,   3.132,2,  2055.8,2,  2218.6,2,   57.55,2, -999.00,9,    32.9725,2,     606.37,2,       0.07,       0.02,       0.04,       0.01,      0.028,     0.0029,2,   12.23497,2,      1.113,1,    143.626,2,      0.308,1,      0.153,1,      0.017,1,     94.596,     0.2222,2,      0.222,1,      0.187,1,       0.62,2
49NZ20210713,        P01,      64,          1,         35,     X12S35,2,20210803,       1836,    46.9972,  -177.2142,       5712,    49.9,2,   6.1187,2,  33.0531,2,  33.0540,2,   312.29,2,  313.22,2,   29.26,2,    0.65,2,   18.36,2,    0.28,2,   1.601,2,   4.448,2,   2.418,2,   0.412,2,   3.786,2,  2098.6,2,  2230.9,2,   56.03,2, -999.00,9,    33.2121,2,     610.87,2,       0.07,       0.02,       0.05,       0.01,      0.005,     0.0053,2,    6.13133,2,      1.200,1,      5.543,2,      0.423,1,      0.237,1,      0.034,1,     97.995,     0.0810,2,      0.117,1,      0.226,1,       0.37,2
49NZ20210713,        P01,      64,          1,         34,     X12S34,2,20210803,       1836,    46.9972,  -177.2142,       5712,   100.1,2,   4.9191,2,  33.2612,2,  33.2645,2,   305.43,2,  306.81,2,   32.07,2,    0.03,2,   20.29,2,    0.03,2,   1.598,2,   4.563,2,   2.483,2,   0.416,2,   4.006,2,  2120.9,2,  2239.2,2,   52.37,2, -999.00,9,    33.4241,2,     614.72,2,       0.08,       0.01,       0.05,       0.01,      0.005,     0.0053,2,    4.96327,2,      0.323,1,      0.014,2,      0.399,1,      0.227,1,      0.039,1,     99.307,     0.0278,2,      0.077,1,      0.227,1,       0.17,2
49NZ20210713,        P01,      64,          1,         33,     X12S33,2,20210803,       1836,    46.9972,  -177.2142,       5712,   150.4,2,   3.4019,2,  33.1750,2,  33.1829,2,   307.49,2,  308.19,2,   41.64,2,    0.04,2,   24.55,2,    0.01,2,   1.886,2,   4.846,2,   2.632,2,   0.444,2,   4.118,2,  2138.0,2,  2235.8,2,   53.44,2, -999.00,9,    33.3427,2,     613.27,2,       0.09,       0.01,       0.06,       0.01,      0.006,     0.0063,2,    3.40210,2,      0.074,1,      0.000,2,      0.390,1,      0.206,1,      0.031,1,     99.550,     0.0180,2,      0.072,1,      0.236,1,       0.03,2
49NZ20210713,        P01,      64,          1,         32,     X12S32,2,20210803,       1836,    46.9972,  -177.2142,       5712,   199.7,2,   3.9726,2,  33.5736,2,  33.5776,2,   195.34,2,  193.18,2,   57.54,2,    0.02,2,   30.11,2,    0.01,2,   2.219,2,   3.824,2,   2.056,2,   0.279,2,   2.784,2,  2215.8,2,  2263.9,2,   51.45,2, -999.00,9,    33.7419,2,     620.52,2,       0.11,       0.01,       0.07,       0.01,      0.005,     0.0092,2,    3.97327,2,      0.071,1,      0.000,2,      0.417,1,      0.232,1,      0.039,1,     99.499,     0.0201,2,      0.076,1,      0.303,1,       0.02,2
49NZ20210713,        P01,      64,          1,         31,     X12S31,2,20210803,       1836,    46.9972,  -177.2142,       5712,   249.9,2,   3.9127,2,  33.7340,2,  33.7345,2,   128.72,2,  128.25,2,   73.01,2,    0.01,2,   35.23,2,    0.01,2,   2.553,2,   3.174,2,   1.714,2,   0.200,2,   2.048,2,  2258.7,2,  2282.5,2,   50.40,2, -999.00,9,    33.9015,2,     623.47,2,       0.13,       0.01,       0.08,       0.01,      0.006,     0.0114,2,    3.91287,2,      0.068,1,      0.000,2,      0.495,1,      0.300,1,      0.060,1,     99.636,     0.0146,2,      0.067,1,      0.333,1,       0.01,2
49NZ20210713,        P01,      64,          1,         30,     X12S30,2,20210803,       1836,    46.9972,  -177.2142,       5712,   279.5,2,   3.8775,2,  33.7851,2,  33.7845,2,   105.63,2,  105.32,2,   79.56,2,    0.01,2,   37.28,2,    0.01,2,   2.682,2,   2.898,2,   1.581,2,   0.187,2,   1.564,2,  2280.1,2,  2286.7,2,   48.20,2, -999.00,9,    33.9518,2,     624.37,2,       0.14,       0.01,       0.09,       0.01,      0.006,     0.0116,2,    3.87712,2,      0.069,1,      0.000,2,      0.480,1,      0.283,1,      0.055,1,     99.664,     0.0135,2,      0.067,1,      0.340,1,     -999.0,9
49NZ20210713,        P01,      64,          1,         29,     X12S29,2,20210803,       1836,    46.9972,  -177.2142,       5712,   369.6,2,   3.8974,2,  33.9386,2,  33.9399,2,    58.52,2,   58.52,2,   94.96,2,    0.01,2,   41.13,2,    0.01,2,   2.925,2,   2.132,2,   1.144,2,   0.127,2,   1.035,2,  2313.8,2,  2300.8,2,   47.48,2, -999.00,9,    34.1107,2,     627.17,2,       0.16,       0.01,       0.09,       0.01,      0.006,     0.0118,2,    3.89723,2,      0.071,1,      0.000,2,      0.463,1,      0.272,1,      0.053,1,     99.717,     0.0113,2,      0.062,1,      0.354,1,     -999.0,9
49NZ20210713,        P01,      64,          1,         28,     X12S28,2,20210803,       1836,    46.9972,  -177.2142,       5712,   469.3,2,   3.8577,2,  34.0756,2,  34.0752,2,    40.01,2,   40.33,2,  106.86,2,    0.01,2,   42.25,2,    0.01,2,   2.997,2,   1.454,2,   0.761,2,   0.088,2,   0.523,2,  2331.8,2,  2324.9,2,   42.36,2, -999.00,9,    34.2485,2,     629.72,2,       0.18,       0.01,       0.09,       0.01,      0.006,     0.0131,2,    3.85767,2,      0.070,1,      0.000,2,      0.432,1,      0.261,1,      0.048,1,     99.817,     0.0073,2,      0.057,1,      0.364,1,     -999.0,9
49NZ20210713,        P01,      64,          1,         27,     X12S27,2,20210803,       1836,    46.9972,  -177.2142,       5712,   569.7,2,   3.7569,2,  34.1721,2,  34.1711,2,    36.29,2,   36.34,2,  115.04,2,    0.00,2,   42.36,2,    0.00,2,   3.006,2,   0.990,2,   0.527,2,   0.054,2,   0.318,2,  2344.2,2,  2333.8,2,   44.21,2, -999.00,9,    34.3444,2,     631.42,2,       0.19,       0.01,       0.09,       0.01,      0.006,     0.0127,2,    3.75619,2,      0.069,1,      0.000,2,      0.416,1,      0.250,1,      0.051,1,     99.856,     0.0058,2,      0.055,1,      0.368,1,     -999.0,9
49NZ20210713,        P01,      64,          1,         26,     X12S26,2,20210803,       1836,    46.9972,  -177.2142,       5712,   670.6,2,   3.5466,2,  34.2438,2,  34.2463,2,    32.26,2,   32.32,2,  123.52,2,    0.01,2,   42.71,2,    0.00,2,   3.036,2,   0.645,2,   0.355,2,   0.030,2,   0.190,2,  2351.6,6,  2347.5,2,   42.19,2, -999.00,9,    34.4226,2,     632.87,2,       0.20,       0.01,       0.09,       0.01,      0.006,     -999.0,9,    3.54671,2,      0.070,1,      0.000,2,     -999.0,9,     -999.0,9,     -999.0,9,     99.877,     0.0049,2,      0.053,1,      0.370,1,     -999.0,9
49NZ20210713,        P01,      64,          1,         25,     X12S25,2,20210803,       1836,    46.9972,  -177.2142,       5712,   769.6,2,   3.2989,2,  34.2996,2,  34.2990,2,    29.08,2,   29.11,2,  131.65,2,    0.01,2,   43.14,2,    0.00,2,   3.064,2,   0.435,2,   0.245,2,   0.018,2,   0.089,2,  2365.6,2,  2356.9,2,   43.34,2, -999.00,9,    34.4753,2,     633.77,2,       0.21,       0.01,       0.09,       0.01,      0.006,     0.0127,2,    3.29804,2,      0.069,1,      0.000,2,      0.396,1,      0.234,1,      0.047,1,     99.881,     0.0047,2,      0.051,1,      0.367,1,     -999.0,9
49NZ20210713,        P01,      64,          1,         24,     X12S24,2,20210803,       1836,    46.9972,  -177.2142,       5712,   869.5,2,   3.0976,2,  34.3433,2,  34.3434,2,    28.06,2,   28.07,2,  137.79,2,    0.03,2,   43.23,2,    0.00,2,   3.072,2,   0.299,2,   0.171,2,   0.012,2,   0.066,2,  2370.8,2,  2364.3,2,   41.38,2, -999.00,9,    34.5208,2,     634.57,2,       0.22,       0.01,       0.13,       0.01,      0.006,     -999.0,9,    3.09727,2,      0.069,1,      0.000,2,     -999.0,9,     -999.0,9,     -999.0,9,     99.893,     0.0043,2,      0.051,1,      0.366,1,     -999.0,9
49NZ20210713,        P01,      64,          1,         23,     X12S23,2,20210803,       1836,    46.9972,  -177.2142,       5712,   968.5,2,   2.9046,2,  34.3818,2,  34.3795,2,    27.96,2,   28.25,2,  143.63,2,    0.01,2,   43.41,2,    0.00,2,   3.085,2,   0.221,2,   0.128,2,   0.012,2,   0.036,2,  2377.1,2,  2372.1,2,   39.66,2, -999.00,9,    34.5591,2,     635.22,2,       0.23,       0.01,       0.09,       0.01,      0.006,     0.0127,2,    2.90545,2,      0.070,1,      0.000,2,      0.403,1,      0.245,1,      0.052,1,     99.886,     0.0046,2,      0.050,1,      0.366,1,     -999.0,9
49NZ20210713,        P01,      64,          1,         22,     X12S22,2,20210803,       1836,    46.9972,  -177.2142,       5712,  1129.4,2,   2.6588,2,  34.4290,2,  34.4284,2,    29.32,2,   29.53,2,  152.03,2,    0.02,2,   43.54,2,    0.00,2,   3.092,2,   0.138,2,   0.083,2,   0.009,2,   0.016,2,  2384.1,2,  2380.7,6,   40.12,2, -999.00,9,     -999.0,9,     636.27,2,       0.24,       0.01,       0.09,       0.01,      0.006,     -999.0,9,    2.65838,2,      0.069,1,      0.000,2,     -999.0,9,     -999.0,9,     -999.0,9,     99.886,     0.0046,2,      0.054,1,      0.371,1,     -999.0,9
49NZ20210713,        P01,      64,          1,         21,     X12S21,2,20210803,       1836,    46.9972,  -177.2142,       5712,  1331.7,2,   2.4089,2,  34.4806,2,  34.4811,2,    34.70,2,   35.28,2,  159.42,2,    0.01,2,   43.31,2,    0.00,2,   3.066,2,   0.082,2,   0.047,2,   0.005,2,   0.008,2,  2387.3,2,  2390.3,2,   42.30,2, -999.00,9,    34.6619,2,     637.17,2,       0.25,       0.01,       0.09,       0.01,      0.006,     0.0126,2,    2.40864,2,      0.067,1,      0.000,2,      0.388,1,      0.227,1,      0.044,1,     99.937,     0.0025,2,      0.050,1,      0.368,1,     -999.0,9
49NZ20210713,        P01,      64,          1,         20,     X12S20,2,20210803,       1836,    46.9972,  -177.2142,       5712,  1530.8,2,   2.2468,2,  34.5172,2,  34.5181,2,    41.96,2,   42.52,2,  163.42,2,    0.02,2,   42.97,2,    0.00,2,   3.034,2,   0.048,2,   0.028,2,   0.003,2,   0.008,2,  2387.1,2,  2398.3,2,   38.67,2, -999.00,9,    34.6989,2,     637.77,2,       0.26,       0.01,       0.09,       0.01,      0.006,     -999.0,9,    2.24679,2,      0.066,1,      0.000,2,     -999.0,9,     -999.0,9,     -999.0,9,     99.914,     0.0034,2,      0.051,1,      0.362,1,     -999.0,9
49NZ20210713,        P01,      64,          1,         19,     X12S19,2,20210803,       1836,    46.9972,  -177.2142,       5712,  1730.4,2,   2.0819,2,  34.5539,2,  34.5540,2,    54.36,2,   54.67,2,  165.88,2,    0.02,2,   42.29,2,    0.00,2,   2.979,2,   0.028,2,   0.017,2,   0.003,2,   0.017,2,  2384.5,2,  2402.9,2,   38.93,2, -999.00,9,    34.7371,2,     638.52,2,       0.26,       0.01,       0.09,       0.01,      0.006,     0.0123,2,    2.08169,2,      0.064,1,      0.000,2,      0.379,1,      0.225,1,      0.045,1,     99.926,     0.0030,2,      0.050,1,      0.360,1,     -999.0,9
49NZ20210713,        P01,      64,          1,         18,     X12S18,2,20210803,       1836,    46.9972,  -177.2142,       5712,  1929.5,2,   1.9820,2,  34.5762,2,  34.5762,2,    64.30,2,   64.00,2,  166.55,2,    0.02,2,   41.71,2,    0.00,2,   2.934,2,   0.016,2,   0.010,2,   0.000,2,   0.025,2,  2380.4,2,  2407.3,2,   39.84,2, -999.00,9,    34.7579,2,     638.92,2,       0.26,       0.01,       0.09,       0.01,      0.006,     -999.0,9,    1.98219,2,      0.062,1,      0.000,2,     -999.0,9,     -999.0,9,     -999.0,9,     99.935,     0.0026,2,      0.049,1,      0.348,1,     -999.0,9
49NZ20210713,        P01,      64,          1,         17,     X12S17,2,20210803,       1836,    46.9972,  -177.2142,       5712,  2129.9,2,   1.9181,2,  34.5911,2,  34.5903,2,    71.56,2,   74.64,3,  166.73,2,    0.00,2,   41.35,2,    0.00,2,   2.903,2,   0.011,2,   0.007,2,   0.000,2,   0.000,2,  2375.3,2,  2408.9,2,   38.89,2, -999.00,9,    34.7733,2,     639.17,2,       0.26,       0.01,       0.09,       0.01,      0.006,     0.0120,2,    1.91840,2,      0.061,1,      0.000,2,      0.354,1,      0.207,1,      0.040,1,     99.937,     0.0025,2,      0.049,1,      0.344,1,     -999.0,9
49NZ20210713,        P01,      64,          1,         16,     X12S16,2,20210803,       1836,    46.9972,  -177.2142,       5712,  2329.3,2,   1.8385,2,  34.6075,2,  34.6070,2,    79.03,2,   79.00,2,  167.65,2,    0.01,2,   40.79,2,    0.00,2,   2.869,2,   0.004,2,   0.003,2,   0.002,2,   0.029,2,  2373.5,6,  2414.6,2,   36.65,2, -999.00,9,    34.7905,2,     639.47,2,       0.26,       0.01,       0.09,       0.01,      0.006,     -999.0,9,    1.83860,2,      0.061,1,      0.000,2,     -999.0,9,     -999.0,9,     -999.0,9,     99.939,     0.0024,2,      0.052,1,      0.341,1,     -999.0,9
49NZ20210713,        P01,      64,          1,         15,     X12S15,2,20210803,       1836,    46.9972,  -177.2142,       5712,  2529.4,2,   1.7450,2,  34.6249,2,  34.6245,2,    88.93,2,   88.72,2,  168.48,2,    0.01,2,   40.26,2,    0.00,2,   2.821,2,   0.002,2,   0.001,2,   0.000,2,   0.039,2,  2369.6,2,  2414.9,2,   38.13,2, -999.00,9,    34.8083,2,     639.67,2,       0.26,       0.01,       0.08,       0.01,      0.006,     0.0116,2,    1.74510,2,      0.060,1,      0.000,2,      0.432,1,      0.273,1,      0.068,1,     99.939,     0.0024,2,      0.048,1,      0.349,1,     -999.0,9
49NZ20210713,        P01,      64,          1,         14,     X12S14,2,20210803,       1836,    46.9972,  -177.2142,       5712,  2729.5,2,   1.6704,2,  34.6388,2,  34.6386,2,   100.07,2,  100.23,2,  167.29,2,    0.01,2,   39.54,2,    0.00,2,   2.769,2,   0.000,2,   0.000,2,   0.001,2,   0.015,2,  2363.8,2,  2413.6,2,   39.34,2, -999.00,9,    34.8207,2,     640.02,2,       0.26,       0.01,       0.08,       0.01,      0.006,     -999.0,9,    1.67060,2,      0.059,1,      0.000,2,     -999.0,9,     -999.0,9,     -999.0,9,     99.949,     0.0021,2,      0.047,1,      0.335,1,     -999.0,9
49NZ20210713,        P01,      64,          1,         13,     X12S13,2,20210803,       1836,    46.9972,  -177.2142,       5712,  2929.1,2,   1.6081,2,  34.6502,2,  34.6501,2,   110.58,2,  110.67,2,  165.54,2,    0.00,2,   38.94,2,    0.00,2,   2.716,2,   0.000,2,   0.000,2,   0.000,2,   0.012,2,  2358.0,2,  2417.4,2,   38.25,2, -999.00,9,    34.8360,2,     640.22,2,       0.26,       0.01,       0.08,       0.01,      0.006,     0.0110,2,    1.60813,2,      0.058,1,      0.000,2,      0.320,1,      0.182,1,      0.034,1,     99.967,     0.0013,2,      0.047,1,      0.331,1,     -999.0,9
49NZ20210713,        P01,      64,          1,         12,     X12S12,2,20210803,       1836,    46.9972,  -177.2142,       5712,  3170.0,2,   1.5582,2,  34.6601,2,  34.6591,2,   120.98,2,  120.26,2,  162.98,2,    0.04,2,   38.13,2,    0.00,2,   2.652,2,   0.000,2,   0.000,2,   0.001,2,   0.009,2,  2351.6,2,  2419.3,6,   38.46,2, -999.00,9,    34.8444,2,     640.42,2,       0.25,       0.01,       0.08,       0.01,      0.006,     -999.0,9,    1.55836,2,      0.057,1,      0.000,2,     -999.0,9,     -999.0,9,     -999.0,9,     99.951,     0.0020,2,      0.047,1,      0.329,1,     -999.0,9
49NZ20210713,        P01,      64,          1,         11,     X12S11,2,20210803,       1836,    46.9972,  -177.2142,       5712,  3422.8,2,   1.5185,2,  34.6680,2,  34.6678,2,   130.06,2,  129.86,2,  160.82,2,    0.04,2,   37.67,2,    0.00,2,   2.612,2,   0.000,2,   0.000,2,   0.004,2,   0.000,2,  2341.4,2,  2417.1,2,   37.31,2, -999.00,9,    34.8505,2,     640.47,2,       0.25,       0.01,       0.08,       0.01,      0.006,     0.0106,2,    1.51849,2,      0.056,1,      0.000,2,      0.328,1,      0.192,1,      0.036,1,     99.958,     0.0017,2,      0.047,1,      0.323,1,     -999.0,9
49NZ20210713,        P01,      64,          1,         10,     X12S10,2,20210803,       1836,    46.9972,  -177.2142,       5712,  3668.9,2,   1.4914,2,  34.6743,2,  34.6741,2,   137.12,2,  137.20,2,  159.29,2,    0.03,2,   37.15,2,    0.00,2,   2.576,2,   0.001,2,   0.000,2,   0.000,2,   0.002,2,  2338.5,2,  2414.4,2,   37.39,2, -999.00,9,    34.8577,2,     640.57,2,       0.32,       0.01,       0.08,       0.01,      0.006,     -999.0,9,    1.49145,2,      0.056,1,      0.000,2,     -999.0,9,     -999.0,9,     -999.0,9,     99.965,     0.0014,2,      0.046,1,      0.318,1,     -999.0,9
49NZ20210713,        P01,      64,          1,          9,     X12S09,2,20210803,       1836,    46.9972,  -177.2142,       5712,  3921.4,2,   1.4793,2,  34.6789,2,  34.6787,2,   143.06,2,  143.02,2,  157.95,2,    0.02,2,   36.78,2,    0.00,2,   2.546,2,   0.000,2,   0.001,2,   0.002,2,   0.000,2,  2334.0,2,  2415.0,2,   35.81,2, -999.00,9,    34.8616,2,     640.57,2,       0.25,       0.01,       0.08,       0.01,      0.006,     0.0103,2,    1.47939,2,      0.055,1,      0.000,2,      0.298,1,      0.169,1,      0.029,1,     99.986,     0.0006,2,      0.048,1,      0.315,1,     -999.0,9
49NZ20210713,        P01,      64,          1,          8,     X12S08,2,20210803,       1836,    46.9972,  -177.2142,       5712,  4171.9,2,   1.4763,2,  34.6825,2,  34.6822,2,   147.33,2,  147.33,2,  157.66,2,    0.02,2,   36.54,2,    0.00,2,   2.523,2,   0.000,2,   0.000,2,   0.001,2,   0.000,2,  2333.1,6,  2417.7,2,   37.19,2, -999.00,9,    34.8627,2,     640.77,2,       0.25,       0.01,       0.08,       0.01,      0.006,     -999.0,9,    1.47626,2,      0.055,1,      0.000,2,     -999.0,9,     -999.0,9,     -999.0,9,     99.988,     0.0005,2,      0.046,1,      0.338,1,     -999.0,9
49NZ20210713,        P01,      64,          1,          7,     X12S07,2,20210803,       1836,    46.9972,  -177.2142,       5712,  4422.2,2,   1.4874,2,  34.6846,2,  34.6847,2,   149.59,2,  149.74,2,  158.31,2,    0.01,2,   36.40,2,    0.00,2,   2.510,2,   0.001,2,   0.000,2,   0.000,2,   0.000,2,  2332.9,2,  2419.0,2,   38.31,2, -999.00,9,    34.8663,2,     640.77,2,       0.25,       0.01,       0.08,       0.01,      0.006,     0.0098,2,    1.48734,2,      0.055,1,      0.000,2,      0.297,1,      0.170,1,      0.030,1,     99.977,     0.0009,2,      0.046,1,      0.342,1,     -999.0,9
49NZ20210713,        P01,      64,          1,          6,     X12S06,2,20210803,       1836,    46.9972,  -177.2142,       5712,  4670.6,2,   1.5065,2,  34.6862,2,  34.6861,2,   150.78,2,  150.74,2,  159.98,2,    0.03,2,   36.34,2,    0.00,2,   2.505,2,   0.001,2,   0.000,2,   0.002,2,   0.000,2,  2330.5,2,  2420.2,6,   39.03,2, -999.00,9,    34.8689,2,     640.77,2,       0.25,       0.01,       0.08,       0.01,      0.006,     -999.0,9,    1.50645,2,      0.055,1,      0.000,2,     -999.0,9,     -999.0,9,     -999.0,9,     99.988,     0.0005,2,      0.046,1,      0.337,1,     -999.0,9