BOTTLE,20231011CCHSIOENA
EXPOCODE,SECT_ID,STNNBR,CASTNO,SAMPNO,BTLNBR,BTLNBR_FLAG_W,DATE,TIME,LATITUDE,LONGITUDE,DEPTH,CTDPRS,CTDPRS_FLAG_W,CTDTMP,CTDTMP_FLAG_W,CTDSAL,CTDSAL_FLAG_W,SALNTY,SALNTY_FLAG_W,CTDOXY,CTDOXY_FLAG_W,OXYGEN,OXYGEN_FLAG_W,SILCAT,SILCAT_FLAG_W,NH4,NH4_FLAG_W,NITRAT,NITRAT_FLAG_W,NITRIT,NITRIT_FLAG_W,PHSPHT,PHSPHT_FLAG_W,CFC-11,CFC-11_FLAG_W,CFC-12,CFC-12_FLAG_W,CFC113,CFC113_FLAG_W,SF6,SF6_FLAG_W,TCARBN,TCARBN_FLAG_W,ALKALI,ALKALI_FLAG_W,DOC,DOC_FLAG_W,TDN,TDN_FLAG_W,DNSSAL,DNSSAL_FLAG_W,RIANOMALY,RIANOMALY_FLAG_W,SILUNC,NH4UNC,NRAUNC,NRIUNC,PHPUNC,FDOM,FDOM_FLAG_W,REFTMP,REFTMP_FLAG_W,CTDFLUOR,CTDFLUOR_FLAG_W,PAR,PAR_FLAG_W,CDOM300,CDOM300_FLAG_W,CDOM325,CDOM325_FLAG_W,CDOM443,CDOM443_FLAG_W,CTDXMISS,CTDBEAMCP,CTDBEAMCP_FLAG_W,CTDTURB,CTDTURB_FLAG_W,CTDCDOM,CTDCDOM_FLAG_W,CHLORA,CHLORA_FLAG_W
,,,,,,,,,,,METERS,DBAR,,ITS-90,,PSS-78,,PSS-78,,UMOL/KG,,UMOL/KG,,UMOL/KG,,UMOL/KG,,UMOL/KG,,UMOL/KG,,UMOL/KG,,PMOL/KG,,PMOL/KG,,PMOL/KG,,FMOL/KG,,UMOL/KG,,UMOL/KG,,UMOL/KG,,UMOL/KG,,G/KG,,ND,,UMOL/KG,UMOL/KG,UMOL/KG,UMOL/KG,UMOL/KG,RFU,,ITS-90,,MG/M^3,,UMOL/M^2/SEC,,/METER,,/METER,,/METER,,%TRANS,/METER,,FTU,,QSU,,UG/L,
49NZ20210713,        P01,      90,          1,         36,     X12S36,2,20210810,       1624,    46.9903,  -149.1437,       5055,     9.6,2,  14.6985,2,  32.2631,2,  32.2629,2,   265.01,2,  264.35,2,   15.05,2,    0.40,2,    8.75,2,    0.13,2,   0.938,2,   2.794,2,   1.410,2,   0.300,2,   2.778,2,  2002.9,2,  2171.0,2,   57.95,2, -999.00,9,    32.4184,2,     595.95,2,       0.17,       0.02,       0.05,       0.01,      0.004,     0.0027,2,   14.69831,2,      0.433,1,    212.926,2,      0.250,1,      0.121,1,      0.017,1,     97.509,     0.1009,2,      0.122,1,      0.162,1,       0.16,2
49NZ20210713,        P01,      90,          1,         35,     X12S35,2,20210810,       1624,    46.9903,  -149.1437,       5055,    50.4,2,   9.5459,2,  32.5670,2,  32.5714,2,   296.79,2,  295.75,2,   14.69,2,    0.31,2,   10.05,2,    0.13,2,   1.017,2,   3.639,2,   1.805,2,   0.361,2,   3.397,2,  2035.9,2,  2191.9,2,   55.93,2, -999.00,9,    32.7309,2,     601.70,2,       0.20,       0.02,       0.05,       0.01,      0.004,     0.0043,2,    9.54806,2,      1.055,1,     23.359,2,      0.317,1,      0.154,1,      0.021,1,     97.897,     0.0850,2,      0.113,1,      0.195,1,       0.23,2
49NZ20210713,        P01,      90,          1,          2,     X12B34,2,20210810,       1624,    46.9903,  -149.1437,       5055,    64.2,2,   8.4122,2,  32.6440,2,  32.6407,2,   300.49,2,  300.05,2,   13.48,2,    0.38,2,   10.49,2,    0.15,2,   1.046,2,-999.000,9,-999.000,9,-999.000,9,-999.000,9,  2047.7,2,  2196.6,2,   54.67,2, -999.00,9,    32.7976,2,     602.85,2,       0.16,       0.02,       0.03,       0.01,      0.004,     0.0037,2,    8.41776,2,      1.128,1,     11.015,2,      0.338,1,      0.179,1,      0.027,1,     98.230,     0.0714,2,      0.098,1,      0.198,1,       0.24,2
49NZ20210713,        P01,      90,          1,         34,     X12S34,2,20210810,       1624,    46.9903,  -149.1437,       5055,   100.4,2,   6.1388,2,  32.6385,2,  32.6419,2,   301.78,2,  301.37,2,   19.50,2,    0.32,2,   14.44,2,    0.61,2,   1.320,2,   4.198,2,   2.079,2,   0.301,2,   3.706,2,  2066.9,2,  2196.2,2,   52.66,2, -999.00,9,    32.7992,2,     602.95,2,       0.14,       0.02,       0.04,       0.01,      0.005,     0.0051,2,    6.14266,2,      0.519,1,      1.522,2,      0.336,1,      0.171,1,      0.021,1,     99.268,     0.0294,2,      0.067,1,      0.205,1,       0.24,2
49NZ20210713,        P01,      90,          1,         33,     X12S33,2,20210810,       1624,    46.9903,  -149.1437,       5055,   150.3,2,   6.2634,2,  33.6073,2,  33.6102,2,   216.28,2,  214.50,2,   33.87,2,    0.02,2,   23.37,2,    0.01,2,   1.707,2,   3.878,2,   1.930,2,   0.195,2,   2.796,2,  2159.7,2,  2250.7,2,   48.98,2, -999.00,9,    33.7741,2,     620.95,2,       0.08,       0.01,       0.05,       0.01,      0.005,     0.0087,2,    6.26656,2,      0.072,1,      0.000,2,      0.363,1,      0.207,1,      0.032,1,     99.896,     0.0042,2,      0.047,1,      0.250,1,       0.02,2
49NZ20210713,        P01,      90,          1,         32,     X12S32,2,20210810,       1624,    46.9903,  -149.1437,       5055,   199.9,2,   5.7314,2,  33.7538,2,  33.7531,2,   170.44,2,  167.64,2,   47.75,2,    0.02,2,   28.31,2,    0.01,2,   2.033,2,   3.531,2,   1.955,2,   0.191,2,   2.167,2,  2205.0,2,  2265.9,2,   49.49,2, -999.00,9,    33.9184,2,     623.60,2,       0.10,       0.01,       0.06,       0.01,      0.005,     0.0098,2,    5.74089,2,      0.063,1,      0.000,2,      0.370,1,      0.205,1,      0.026,1,     99.817,     0.0073,2,      0.049,1,      0.281,1,       0.01,2
49NZ20210713,        P01,      90,          1,         31,     X12S31,2,20210810,       1624,    46.9903,  -149.1437,       5055,   250.4,2,   5.2644,2,  33.7986,2,  33.7978,2,   135.36,2,  135.46,2,   58.04,2,    0.01,2,   32.13,2,    0.01,2,   2.287,2,   3.255,2,   1.570,2,   0.193,2,   1.767,2,  2232.2,2,  2275.8,2,   47.48,2, -999.00,9,    33.9641,2,     624.40,2,       0.11,       0.01,       0.07,       0.01,      0.006,     0.0111,2,    5.26298,2,      0.065,1,      0.000,2,      0.389,1,      0.218,1,      0.036,1,     99.805,     0.0078,2,      0.049,1,      0.295,1,       0.01,2
49NZ20210713,        P01,      90,          1,         30,     X12S30,2,20210810,       1624,    46.9903,  -149.1437,       5055,   299.7,2,   4.6081,2,  33.8001,2,  33.8012,2,   109.87,2,  109.06,2,   68.28,2,    0.01,2,   35.80,2,    0.01,2,   2.545,2,   3.052,2,   1.482,2,   0.198,2,   1.499,2,  2262.8,2,  2280.3,2,   46.06,2, -999.00,9,    33.9687,2,     624.45,2,       0.13,       0.01,       0.08,       0.01,      0.006,     0.0109,2,    4.60802,2,      0.067,1,      0.000,2,      0.421,1,      0.246,1,      0.046,1,     99.812,     0.0075,2,      0.048,1,      0.298,1,     -999.0,9
49NZ20210713,        P01,      90,          1,         29,     X12S29,2,20210810,       1624,    46.9903,  -149.1437,       5055,   401.1,2,   4.2111,2,  33.9159,2,  33.9154,2,    69.56,2,   70.04,2,   84.62,2,    0.00,2,   39.93,2,    0.00,2,   2.816,2,   2.389,2,   1.259,2,   0.184,2,   0.996,2,  2298.1,2,  2296.1,2,   42.50,2, -999.00,9,    34.0874,2,     626.55,2,       0.22,       0.01,       0.08,       0.01,      0.006,     0.0125,2,    4.21071,2,      0.069,1,      0.000,2,      0.427,1,      0.252,1,      0.047,1,     99.861,     0.0056,2,      0.044,1,      0.308,1,     -999.0,9
49NZ20210713,        P01,      90,          1,         28,     X12S28,2,20210810,       1624,    46.9903,  -149.1437,       5055,   500.4,2,   4.1746,2,  34.0498,2,  34.0488,2,    49.78,2,   50.58,2,   96.57,2,    0.01,2,   41.18,2,    0.01,2,   2.912,2,   1.594,2,   0.849,2,   0.189,2,   0.546,2,  2316.0,2,  2314.4,2,   43.21,2, -999.00,9,    34.2219,2,     629.05,2,       0.17,       0.01,       0.09,       0.01,      0.006,     0.0125,2,    4.17465,2,      0.069,1,      0.000,2,      0.424,1,      0.255,1,      0.047,1,     99.921,     0.0031,2,      0.040,1,      0.311,1,     -999.0,9
49NZ20210713,        P01,      90,          1,         27,     X12S27,2,20210810,       1624,    46.9903,  -149.1437,       5055,   600.4,2,   3.9826,2,  34.1367,2,  34.1373,2,    35.58,2,   36.61,2,  107.31,2,    0.01,2,   42.22,2,    0.01,2,   2.998,2,   1.032,2,   0.547,2,   0.115,2,   0.312,2,  2333.7,2,  2328.4,2,   41.80,2, -999.00,9,    34.3094,2,     630.65,2,       0.25,       0.01,       0.09,       0.01,      0.006,     0.0128,2,    3.98244,2,      0.069,1,      0.000,2,      0.407,1,      0.243,1,      0.047,1,     99.947,     0.0021,2,      0.040,1,      0.320,1,     -999.0,9
49NZ20210713,        P01,      90,          1,         26,     X12S26,2,20210810,       1624,    46.9903,  -149.1437,       5055,   699.8,2,   3.6901,2,  34.2069,2,  34.2058,2,    26.89,2,   27.70,2,  118.00,2,    0.02,2,   43.03,2,    0.01,2,   3.062,2,   0.659,2,   0.351,2,   0.069,2,   0.149,2,  2349.1,6,  2342.1,2,   42.77,2, -999.00,9,    34.3809,2,     631.85,2,       0.19,       0.01,       0.09,       0.01,      0.006,     -999.0,9,    3.68971,2,      0.070,1,      0.000,2,     -999.0,9,     -999.0,9,     -999.0,9,     99.947,     0.0021,2,      0.037,1,      0.322,1,     -999.0,9
49NZ20210713,        P01,      90,          1,         25,     X12S25,2,20210810,       1624,    46.9903,  -149.1437,       5055,   799.7,2,   3.4748,2,  34.2629,2,  34.2638,2,    21.14,2,   21.82,2,  126.47,2,    0.03,2,   43.52,2,    0.00,2,   3.094,2,   0.379,2,   0.220,2,   0.027,2,   0.090,2,  2361.3,2,  2352.6,2,   39.99,2, -999.00,9,    34.4395,2,     632.95,2,       0.21,       0.01,       0.09,       0.01,      0.006,     0.0131,2,    3.47473,2,      0.070,1,      0.000,2,      0.397,1,      0.235,1,      0.046,1,     99.919,     0.0032,2,      0.038,1,      0.327,1,     -999.0,9
49NZ20210713,        P01,      90,          1,         24,     X12S24,2,20210810,       1624,    46.9903,  -149.1437,       5055,   901.0,2,   3.2533,2,  34.3118,2,  34.3111,2,    18.01,2,   18.13,2,  134.15,2,    0.01,2,   43.95,2,    0.00,2,   3.127,2,   0.222,2,   0.136,2,   0.010,2,   0.031,2,  2370.7,2,  2361.4,2,   40.92,2, -999.00,9,    34.4919,2,     633.85,2,       0.22,       0.01,       0.09,       0.01,      0.006,     -999.0,9,    3.25683,2,      0.070,1,      0.000,2,     -999.0,9,     -999.0,9,     -999.0,9,     99.926,     0.0030,2,      0.038,1,      0.326,1,     -999.0,9
49NZ20210713,        P01,      90,          1,         23,     X12S23,2,20210810,       1624,    46.9903,  -149.1437,       5055,   999.9,2,   3.0762,2,  34.3507,2,  34.3517,2,    15.28,2,   15.12,2,  140.78,2,    0.01,2,   44.34,2,    0.00,2,   3.154,2,   0.114,2,   0.077,2,   0.002,2,   0.000,2,  2380.0,2,  2371.1,2,   39.61,2, -999.00,9,    34.5317,2,     634.65,2,       0.22,       0.01,       0.09,       0.01,      0.007,     0.0135,2,    3.07528,2,      0.070,1,      0.000,2,      0.408,1,      0.248,1,      0.049,1,     99.898,     0.0041,2,      0.038,1,      0.334,1,     -999.0,9
49NZ20210713,        P01,      90,          1,         22,     X12S22,2,20210810,       1624,    46.9903,  -149.1437,       5055,  1200.3,2,   2.7569,2,  34.4256,2,  34.4241,2,    12.33,2,   11.97,2,  152.12,2,    0.01,2,   44.93,2,    0.01,2,   3.187,2,   0.021,2,   0.015,2,   0.000,2,   0.042,2,  2394.2,2,  2387.1,6,   39.76,2, -999.00,9,    34.6037,2,     635.95,2,       0.24,       0.01,       0.09,       0.01,      0.007,     -999.0,9,    2.75648,2,      0.070,1,      0.000,2,     -999.0,9,     -999.0,9,     -999.0,9,     99.907,     0.0037,2,      0.037,1,      0.333,1,     -999.0,9
49NZ20210713,        P01,      90,          1,         21,     X12S21,2,20210810,       1624,    46.9903,  -149.1437,       5055,  1400.4,2,   2.4853,2,  34.4743,2,  34.4737,2,    18.03,2,   18.21,2,  160.77,2,    0.01,2,   44.68,2,    0.00,2,   3.150,2,   0.012,2,   0.008,2,   0.000,2,   0.000,2,  2396.4,2,  2394.2,2,   38.06,2, -999.00,9,    34.6558,2,     636.80,2,       0.25,       0.01,       0.09,       0.01,      0.007,     0.0130,2,    2.48516,2,      0.068,1,      0.000,2,      0.398,1,      0.242,1,      0.050,1,     99.912,     0.0035,2,      0.037,1,      0.330,1,     -999.0,9
49NZ20210713,        P01,      90,          1,         20,     X12S20,2,20210810,       1624,    46.9903,  -149.1437,       5055,  1600.3,2,   2.2573,2,  34.5233,2,  34.5226,2,    26.71,2,   26.83,2,  167.14,2,    0.02,2,   44.22,2,    0.00,2,   3.108,2,   0.000,2,   0.002,2,   0.000,2,   0.000,2,  2398.5,2,  2402.1,2,   39.19,2, -999.00,9,    34.7059,2,     637.70,2,       0.26,       0.01,       0.09,       0.01,      0.006,     -999.0,9,    2.25727,2,      0.066,1,      0.000,2,     -999.0,9,     -999.0,9,     -999.0,9,     99.949,     0.0020,2,      0.037,1,      0.329,1,     -999.0,9
49NZ20210713,        P01,      90,          1,         19,     X12S19,2,20210810,       1624,    46.9903,  -149.1437,       5055,  1800.6,2,   2.0883,2,  34.5570,2,  34.5573,2,    39.32,2,   39.13,2,  170.99,2,    0.01,2,   43.46,2,    0.00,2,   3.049,2,   0.000,2,   0.000,2,   0.000,2,   0.000,2,  2396.6,2,  2408.4,2,   38.83,2, -999.00,9,    34.7428,2,     638.35,2,       0.27,       0.01,       0.09,       0.01,      0.006,     0.0126,2,    2.08833,2,      0.064,1,      0.000,2,      0.366,1,      0.217,1,      0.038,1,     99.952,     0.0019,2,      0.037,1,      0.323,1,     -999.0,9
49NZ20210713,        P01,      90,          1,         18,     X12S18,2,20210810,       1624,    46.9903,  -149.1437,       5055,  1999.8,2,   1.9361,2,  34.5853,2,  34.5851,2,    53.78,2,   53.52,2,  173.30,2,    0.00,2,   42.58,2,    0.00,2,   2.986,2,   0.000,2,   0.000,2,   0.000,2,   0.000,2,  2389.2,2,  2416.2,2,   39.81,2, -999.00,9,    34.7670,2,     638.85,2,       0.27,       0.01,       0.09,       0.01,      0.006,     -999.0,9,    1.93648,2,      0.063,1,      0.000,2,     -999.0,9,     -999.0,9,     -999.0,9,     99.935,     0.0026,2,      0.038,1,      0.319,1,     -999.0,9
49NZ20210713,        P01,      90,          1,         17,     X12S17,2,20210810,       1624,    46.9903,  -149.1437,       5055,  2199.7,2,   1.8299,2,  34.6051,2,  34.6047,2,    66.52,2,   66.12,2,  174.06,2,    0.00,2,   41.78,2,    0.00,2,   2.927,2,   0.000,2,   0.000,2,   0.000,2,   0.000,2,  2383.6,2,  2417.7,2,   39.14,2, -999.00,9,    34.7869,2,     639.20,2,       0.27,       0.01,       0.09,       0.01,      0.006,     0.0121,2,    1.82973,2,      0.061,1,      0.000,2,      0.353,1,      0.211,1,      0.036,1,     99.928,     0.0029,2,      0.037,1,      0.314,1,     -999.0,9
49NZ20210713,        P01,      90,          1,         16,     X12S16,2,20210810,       1624,    46.9903,  -149.1437,       5055,  2401.0,2,   1.7446,2,  34.6213,2,  34.6207,2,    78.04,2,   77.59,2,  174.25,2,    0.00,2,   41.08,2,    0.00,2,   2.877,2,   0.000,2,   0.000,2,   0.000,2,   0.000,2,  2376.9,6,  2417.3,2,   36.52,2, -999.00,9,    34.8032,2,     639.45,2,       0.27,       0.01,       0.09,       0.01,      0.006,     -999.0,9,    1.74480,2,      0.060,1,      0.000,2,     -999.0,9,     -999.0,9,     -999.0,9,     99.952,     0.0019,2,      0.037,1,      0.312,1,     -999.0,9
49NZ20210713,        P01,      90,          1,         15,     X12S15,2,20210810,       1624,    46.9903,  -149.1437,       5055,  2601.9,2,   1.6692,2,  34.6354,2,  34.6354,2,    90.01,2,   90.03,2,  173.62,2,    0.00,2,   40.28,2,    0.00,2,   2.819,2,   0.000,2,   0.000,2,   0.000,2,   0.000,2,  2369.8,2,  2417.6,2,   38.30,2, -999.00,9,    34.8206,2,     639.75,2,       0.27,       0.01,       0.08,       0.01,      0.006,     0.0116,2,    1.66920,2,      0.060,1,      0.000,2,      0.332,1,      0.191,1,      0.033,1,     99.961,     0.0016,2,      0.041,1,      0.313,1,     -999.0,9
49NZ20210713,        P01,      90,          1,         14,     X12S14,2,20210810,       1624,    46.9903,  -149.1437,       5055,  2800.0,2,   1.6090,2,  34.6470,2,  34.6464,2,   100.55,2,  100.35,2,  172.17,2,    0.05,2,   39.55,2,    0.00,2,   2.757,2,   0.000,2,   0.000,2,   0.000,2,   0.000,2,  2364.2,2,  2419.7,2,   39.04,2, -999.00,9,    34.8318,2,     640.05,2,       0.27,       0.01,       0.08,       0.01,      0.006,     -999.0,9,    1.60931,2,      0.059,1,      0.000,2,     -999.0,9,     -999.0,9,     -999.0,9,     99.968,     0.0013,2,      0.036,1,      0.302,1,     -999.0,9
49NZ20210713,        P01,      90,          1,         13,     X12S13,2,20210810,       1624,    46.9903,  -149.1437,       5055,  3000.3,2,   1.5674,2,  34.6556,2,  34.6551,2,   109.35,2,  109.17,2,  171.21,2,    0.02,2,   38.97,2,    0.00,2,   2.715,2,   0.000,2,   0.000,2,   0.000,2,   0.000,2,  2358.6,2,  2422.3,2,   37.17,2, -999.00,9,    34.8397,2,     640.15,2,       0.27,       0.01,       0.08,       0.01,      0.006,     0.0111,2,    1.56741,2,      0.058,1,      0.000,2,      0.317,1,      0.181,1,      0.029,1,     99.956,     0.0018,2,      0.036,1,      0.298,1,     -999.0,9
49NZ20210713,        P01,      90,          1,         12,     X12S12,2,20210810,       1624,    46.9903,  -149.1437,       5055,  3250.5,2,   1.5191,2,  34.6656,2,  34.6651,2,   120.64,2,  120.38,2,  169.52,2,    0.01,2,   38.25,2,    0.00,2,   2.665,2,   0.000,2,   0.000,2,   0.000,2,   0.000,2,  2351.8,2,  2422.2,6,   37.32,2, -999.00,9,    34.8488,2,     640.35,2,       0.26,       0.01,       0.08,       0.01,      0.006,     -999.0,9,    1.51917,2,      0.057,1,      0.000,2,     -999.0,9,     -999.0,9,     -999.0,9,     99.977,     0.0009,2,      0.035,1,      0.296,1,     -999.0,9
49NZ20210713,        P01,      90,          1,         11,     X12S11,2,20210810,       1624,    46.9903,  -149.1437,       5055,  3500.2,2,   1.4945,2,  34.6721,2,  34.6723,2,   129.00,2,  128.94,2,  167.57,2,    0.02,2,   37.73,2,    0.00,2,   2.621,2,   0.000,2,   0.000,2,   0.000,2,   0.000,2,  2346.6,2,  2421.7,2,   33.94,3, -999.00,9,    34.8548,2,     640.45,2,       0.26,       0.01,       0.08,       0.01,      0.006,     0.0105,2,    1.49443,2,      0.057,1,      0.000,2,      0.295,1,      0.166,1,      0.022,1,     99.979,     0.0008,2,      0.036,1,      0.287,1,     -999.0,9
49NZ20210713,        P01,      90,          1,         10,     X12S10,2,20210810,       1624,    46.9903,  -149.1437,       5055,  3750.7,2,   1.4858,2,  34.6767,2,  34.6770,2,   134.68,2,  134.58,2,  167.56,2,    0.02,2,   37.33,2,    0.00,2,   2.594,2,   0.000,2,   0.000,2,   0.000,2,   0.000,2,  2343.2,2,  2426.1,2,   37.68,2, -999.00,9,    34.8595,2,     640.55,2,       0.26,       0.01,       0.08,       0.01,      0.006,     -999.0,9,    1.48561,2,      0.056,1,      0.000,2,     -999.0,9,     -999.0,9,     -999.0,9,    100.003,    -0.0001,2,      0.035,1,      0.291,1,     -999.0,9
49NZ20210713,        P01,      90,          1,          9,     X12S09,2,20210810,       1624,    46.9903,  -149.1437,       5055,  3999.7,2,   1.4895,2,  34.6803,2,  34.6800,2,   138.18,2,  138.17,2,  169.11,2,    0.03,2,   37.21,2,    0.00,2,   2.576,2,   0.000,2,   0.000,2,   0.000,2,   0.000,2,  2340.9,2,  2428.6,2,   37.52,2, -999.00,9,    34.8628,2,     640.60,2,       0.26,       0.01,       0.08,       0.01,      0.006,     0.0103,2,    1.48956,2,      0.056,1,      0.000,2,      0.296,1,      0.164,1,      0.023,1,    100.010,    -0.0004,2,      0.034,1,      0.290,1,     -999.0,9
49NZ20210713,        P01,      90,          1,          8,     X12S08,2,20210810,       1624,    46.9903,  -149.1437,       5055,  4250.5,2,   1.5054,2,  34.6824,2,  34.6821,2,   139.88,2,  139.87,2,  171.41,2,    0.03,2,   37.11,2,    0.00,2,   2.567,2,   0.000,2,   0.000,2,   0.000,2,   0.004,2,  2342.2,6,  2430.5,2,   38.09,2, -999.00,9,    34.8661,2,     640.60,2,       0.27,       0.01,       0.08,       0.01,      0.006,     -999.0,9,    1.50549,2,      0.056,1,      0.000,2,     -999.0,9,     -999.0,9,     -999.0,9,     99.993,     0.0003,2,      0.035,1,      0.285,1,     -999.0,9
49NZ20210713,        P01,      90,          1,          7,     X12S07,2,20210810,       1624,    46.9903,  -149.1437,       5055,  4500.3,2,   1.5262,2,  34.6836,2,  34.6836,2,   141.14,2,  141.10,2,  171.96,2,    0.02,2,   37.03,2,    0.00,2,   2.559,2,   0.000,2,   0.000,2,   0.003,2,   0.016,2,  2338.4,2,  2431.1,2,   37.59,2, -999.00,9,    34.8674,2,     640.65,2,       0.27,       0.01,       0.08,       0.01,      0.006,     0.0101,2,    1.52628,2,      0.056,1,      0.000,2,      0.294,1,      0.160,1,      0.023,1,     99.979,     0.0008,2,      0.035,1,      0.292,1,     -999.0,9