BOTTLE,20231011CCHSIOENA
EXPOCODE,SECT_ID,STNNBR,CASTNO,SAMPNO,BTLNBR,BTLNBR_FLAG_W,DATE,TIME,LATITUDE,LONGITUDE,DEPTH,CTDPRS,CTDPRS_FLAG_W,CTDTMP,CTDTMP_FLAG_W,CTDSAL,CTDSAL_FLAG_W,SALNTY,SALNTY_FLAG_W,CTDOXY,CTDOXY_FLAG_W,OXYGEN,OXYGEN_FLAG_W,SILCAT,SILCAT_FLAG_W,NH4,NH4_FLAG_W,NITRAT,NITRAT_FLAG_W,NITRIT,NITRIT_FLAG_W,PHSPHT,PHSPHT_FLAG_W,CFC-11,CFC-11_FLAG_W,CFC-12,CFC-12_FLAG_W,CFC113,CFC113_FLAG_W,SF6,SF6_FLAG_W,TCARBN,TCARBN_FLAG_W,ALKALI,ALKALI_FLAG_W,DOC,DOC_FLAG_W,TDN,TDN_FLAG_W,DNSSAL,DNSSAL_FLAG_W,RIANOMALY,RIANOMALY_FLAG_W,SILUNC,NH4UNC,NRAUNC,NRIUNC,PHPUNC,FDOM,FDOM_FLAG_W,REFTMP,REFTMP_FLAG_W,CTDFLUOR,CTDFLUOR_FLAG_W,PAR,PAR_FLAG_W,CDOM300,CDOM300_FLAG_W,CDOM325,CDOM325_FLAG_W,CDOM443,CDOM443_FLAG_W,CTDXMISS,CTDBEAMCP,CTDBEAMCP_FLAG_W,CTDTURB,CTDTURB_FLAG_W,CTDCDOM,CTDCDOM_FLAG_W,CHLORA,CHLORA_FLAG_W
,,,,,,,,,,,METERS,DBAR,,ITS-90,,PSS-78,,PSS-78,,UMOL/KG,,UMOL/KG,,UMOL/KG,,UMOL/KG,,UMOL/KG,,UMOL/KG,,UMOL/KG,,PMOL/KG,,PMOL/KG,,PMOL/KG,,FMOL/KG,,UMOL/KG,,UMOL/KG,,UMOL/KG,,UMOL/KG,,G/KG,,ND,,UMOL/KG,UMOL/KG,UMOL/KG,UMOL/KG,UMOL/KG,RFU,,ITS-90,,MG/M^3,,UMOL/M^2/SEC,,/METER,,/METER,,/METER,,%TRANS,/METER,,FTU,,QSU,,UG/L,
49NZ20210713,        P01,      52,          1,         36,     X12S36,2,20210730,       1507,    46.9815,   170.0007,       4941,    10.1,2,  10.2039,2,  32.7780,2,  32.7985,2,   302.08,2,  303.87,2,   26.74,2,    0.35,2,   17.91,2,    0.21,2,   1.526,2,   3.728,2,   2.095,2,   0.366,2,   4.272,2,  2065.1,2,  2224.1,2,   56.78,2, -999.00,9,    32.9561,2,     606.03,2,       0.07,       0.02,       0.05,       0.01,      0.005,     0.0039,2,   10.23573,2,      2.186,1,      2.344,2,      0.372,1,      0.193,1,      0.027,1,     94.231,     0.2377,2,      0.296,1,      0.208,1,       0.92,2
49NZ20210713,        P01,      52,          1,          2,     X12B34,2,20210730,       1507,    46.9815,   170.0007,       4941,    22.5,2,   9.0209,2,  32.8653,2,  32.8756,2,   309.53,2,  311.08,2,   28.83,2,    0.30,2,   18.82,2,    0.21,2,   1.587,2,-999.000,9,-999.000,9,-999.000,9,-999.000,9,  2081.1,2,  2227.5,2,   54.43,2, -999.00,9,    33.0348,2,     607.28,2,       0.08,       0.02,       0.05,       0.01,      0.005,     0.0036,2,    9.02278,2,      2.779,1,      0.445,2,      0.363,1,      0.183,1,      0.022,1,     93.802,     0.2559,2,      0.304,1,      0.216,1,       1.11,2
49NZ20210713,        P01,      52,          1,         35,     X12S35,2,20210730,       1507,    46.9815,   170.0007,       4941,    49.9,2,   4.3622,2,  33.0585,2,  33.0599,2,   326.99,2,  328.77,2,   42.01,2,    1.19,2,   23.03,2,    0.31,2,   1.944,2,   4.899,2,   2.666,2,   0.497,2,   5.185,2,  2119.0,2,  2234.8,2,   51.91,2, -999.00,9,    33.2213,2,     610.83,2,       0.09,       0.03,       0.05,       0.01,      0.010,     0.0058,2,    4.36105,2,      0.779,1,      0.000,2,      0.411,1,      0.222,1,      0.031,1,     98.795,     0.0485,2,      0.101,1,      0.244,1,       0.29,2
49NZ20210713,        P01,      52,          1,         34,     X12S34,2,20210730,       1507,    46.9815,   170.0007,       4941,   100.2,2,   2.9189,2,  33.1129,2,  33.1142,2,   319.27,2,  321.68,2,   48.70,2,    0.04,2,   27.56,2,    0.01,2,   2.104,2,   5.112,2,   2.794,2,   0.519,2,   5.385,2,  2146.2,2,  2237.8,2,   51.19,2, -999.00,9,    33.2773,2,     611.88,2,       0.10,       0.01,       0.06,       0.01,      0.006,     0.0060,2,    2.92129,2,      0.291,1,      0.000,2,      0.383,1,      0.199,1,      0.024,1,     99.172,     0.0333,2,      0.083,1,      0.246,1,       0.18,2
49NZ20210713,        P01,      52,          1,         33,     X12S33,2,20210730,       1507,    46.9815,   170.0007,       4941,   150.0,2,   2.4217,2,  33.2614,2,  33.2704,2,   279.01,2,  278.15,2,   58.65,2,    0.02,2,   31.27,2,    0.01,2,   2.340,2,   4.690,2,   2.565,2,   0.467,2,   4.635,2,  2185.4,2,  2243.4,2,   48.03,2, -999.00,9,    33.4350,2,     614.78,2,       0.11,       0.01,       0.07,       0.01,      0.006,     0.0070,2,    2.42142,2,      0.091,1,      0.000,2,      0.415,1,      0.226,1,      0.032,1,     99.504,     0.0199,2,      0.078,1,      0.279,1,       0.04,2
49NZ20210713,        P01,      52,          1,         32,     X12S32,2,20210730,       1507,    46.9815,   170.0007,       4941,   200.1,2,   3.5347,2,  33.8255,2,  33.8285,2,    50.98,2,   50.11,2,   94.49,2,    0.02,2,   43.60,2,    0.00,2,   3.101,2,   2.431,2,   1.286,2,   0.178,2,   1.544,2,  2325.0,2,  2295.7,2,   46.75,2, -999.00,9,    34.0029,2,     625.23,2,       0.16,       0.01,       0.09,       0.01,      0.006,     0.0129,2,    3.53428,2,      0.078,1,      0.000,2,      0.491,1,      0.299,1,      0.055,1,     99.608,     0.0157,2,      0.070,1,      0.374,1,       0.02,2
49NZ20210713,        P01,      52,          1,         31,     X12S31,2,20210730,       1507,    46.9815,   170.0007,       4941,   250.3,2,   3.6808,2,  33.9765,2,  33.9764,2,    18.54,2,   18.76,2,  105.26,2,    0.02,2,   44.95,2,    0.00,2,   3.195,2,   1.795,2,   0.923,2,   0.119,2,   0.893,2,  2351.8,2,  2309.2,2,   46.11,2, -999.00,9,    34.1470,2,     627.83,2,       0.18,       0.01,       0.09,       0.01,      0.007,     0.0129,2,    3.68043,2,      0.075,1,      0.000,2,      0.494,1,      0.301,1,      0.060,1,     99.680,     0.0128,2,      0.066,1,      0.385,1,       0.01,2
49NZ20210713,        P01,      52,          1,         30,     X12S30,2,20210730,       1507,    46.9815,   170.0007,       4941,   280.8,2,   3.6775,2,  34.0125,2,  34.0113,2,    18.43,2,   18.47,2,  107.94,2,    0.01,2,   44.71,2,    0.00,2,   3.184,2,   1.642,2,   0.850,2,   0.113,2,   0.810,2,  2355.1,2,  2313.2,2,   40.98,2, -999.00,9,    34.1828,2,     628.38,2,       0.18,       0.01,       0.09,       0.01,      0.008,     0.0129,2,    3.67712,2,      0.075,1,      0.000,2,      0.471,1,      0.285,1,      0.057,1,     99.707,     0.0117,2,      0.070,1,      0.384,1,     -999.0,9
49NZ20210713,        P01,      52,          1,         29,     X12S29,2,20210730,       1507,    46.9815,   170.0007,       4941,   369.5,2,   3.5922,2,  34.1154,2,  34.1146,2,    17.63,2,   17.77,2,  116.83,2,    0.02,2,   44.22,2,    0.00,2,   3.139,2,   0.096,4,   0.108,4,   0.009,4,   1.440,4,  2355.1,2,  2332.2,2,   43.80,2, -999.00,9,    34.2860,2,     630.33,2,       0.19,       0.01,       0.09,       0.01,      0.006,     0.0132,2,    3.59176,2,      0.074,1,      0.000,2,      0.443,1,      0.266,1,      0.052,1,     99.811,     0.0076,2,      0.057,1,      0.392,1,     -999.0,9
49NZ20210713,        P01,      52,          1,         28,     X12S28,2,20210730,       1507,    46.9815,   170.0007,       4941,   470.4,2,   3.4530,2,  34.1884,2,  34.1883,2,    17.00,2,   17.04,2,  124.65,2,    0.01,2,   44.11,2,    0.00,2,   3.131,2,   0.809,2,   0.440,2,   0.052,2,   0.345,2,  2361.7,2,  2340.3,2,   43.24,2, -999.00,9,    34.3628,2,     631.63,2,       0.36,       0.01,       0.14,       0.01,      0.018,     0.0132,2,    3.45294,2,      0.073,1,      0.000,2,      0.430,1,      0.257,1,      0.048,1,     99.844,     0.0063,2,      0.053,1,      0.387,1,     -999.0,9
49NZ20210713,        P01,      52,          1,         27,     X12S27,2,20210730,       1507,    46.9815,   170.0007,       4941,   570.6,2,   3.2763,2,  34.2566,2,  34.2564,2,    17.66,2,   17.78,2,  132.15,2,    0.02,2,   44.05,2,    0.00,2,   3.130,2,   0.545,2,   0.301,2,   0.032,2,   0.207,2,  2371.1,2,  2350.6,2,   42.26,2, -999.00,9,    34.4314,2,     632.88,2,       0.21,       0.01,       0.09,       0.01,      0.008,     0.0135,2,    3.27590,2,      0.073,1,      0.000,2,      0.422,1,      0.253,1,      0.052,1,     99.871,     0.0052,2,      0.055,1,      0.390,1,     -999.0,9
49NZ20210713,        P01,      52,          1,         26,     X12S26,2,20210730,       1507,    46.9815,   170.0007,       4941,   669.5,2,   3.1279,2,  34.3059,2,  34.3058,2,    22.22,2,   22.11,2,  137.06,2,    0.02,2,   43.59,2,    0.00,2,   3.118,2,   0.410,2,   0.233,2,   0.022,2,   0.164,2,  2372.9,6,  2359.1,2,   42.27,2, -999.00,9,    34.4823,2,     633.83,2,       0.29,       0.01,       0.09,       0.01,      0.006,     -999.0,9,    3.12755,2,      0.071,1,      0.000,2,     -999.0,9,     -999.0,9,     -999.0,9,     99.871,     0.0052,2,      0.052,1,      0.389,1,     -999.0,9
49NZ20210713,        P01,      52,          1,         25,     X12S25,2,20210730,       1507,    46.9815,   170.0007,       4941,   771.1,2,   2.9763,2,  34.3457,2,  34.3459,2,    24.11,2,   24.24,2,  141.73,2,    0.03,2,   43.35,2,    0.00,2,   3.096,2,   0.311,2,   0.181,2,   0.017,2,   0.094,2,  2380.5,2,  2368.4,2,   39.66,2, -999.00,9,    34.5231,2,     634.53,2,       0.28,       0.01,       0.09,       0.01,      0.006,     0.0132,2,    2.97590,2,      0.071,1,      0.000,2,      0.416,1,      0.249,1,      0.052,1,     99.876,     0.0050,2,      0.051,1,      0.389,1,     -999.0,9
49NZ20210713,        P01,      52,          1,         24,     X12S24,2,20210730,       1507,    46.9815,   170.0007,       4941,   869.4,2,   2.8329,2,  34.3797,2,  34.3795,2,    24.97,2,   25.13,2,  146.60,2,    0.03,2,   43.41,2,    0.00,2,   3.092,2,   0.238,2,   0.139,2,   0.015,2,   0.117,2,  2382.7,2,  2372.8,2,   40.40,2, -999.00,9,    34.5577,2,     635.13,2,       0.23,       0.01,       0.09,       0.01,      0.008,     -999.0,9,    2.83279,2,      0.071,1,      0.000,2,     -999.0,9,     -999.0,9,     -999.0,9,     99.885,     0.0046,2,      0.050,1,      0.389,1,     -999.0,9
49NZ20210713,        P01,      52,          1,         23,     X12S23,2,20210730,       1507,    46.9815,   170.0007,       4941,   970.3,2,   2.6664,2,  34.4173,2,  34.4173,2,    27.11,2,   27.32,2,  151.79,2,    0.02,2,   43.47,2,    0.00,2,   3.107,2,   0.171,2,   0.100,2,   0.008,2,   0.070,2,  2386.4,2,  2381.1,2,   38.30,2, -999.00,9,    34.5957,2,     635.83,2,       0.32,       0.01,       0.09,       0.01,      0.006,     0.0130,2,    2.66607,2,      0.070,1,      0.000,2,      0.398,1,      0.239,1,      0.050,1,     99.897,     0.0041,2,      0.050,1,      0.391,1,     -999.0,9
49NZ20210713,        P01,      52,          1,         22,     X12S22,2,20210730,       1507,    46.9815,   170.0007,       4941,  1129.9,2,   2.4883,2,  34.4550,2,  34.4549,2,    27.89,2,   28.04,2,  158.01,2,    0.02,2,   43.57,2,    0.00,2,   3.103,2,   0.107,2,   0.064,2,   0.006,2,   0.124,2,  2391.9,2,  2388.2,6,   38.59,4, -999.00,9,    34.6346,2,     636.03,3,       0.25,       0.01,       0.09,       0.01,      0.006,     -999.0,9,    2.48800,2,      0.069,1,      0.000,2,     -999.0,9,     -999.0,9,     -999.0,9,     99.913,     0.0035,2,      0.051,1,      0.387,1,     -999.0,9
49NZ20210713,        P01,      52,          1,         21,     X12S21,2,20210730,       1507,    46.9815,   170.0007,       4941,  1331.2,2,   2.2707,2,  34.5050,2,  34.5049,2,    37.63,2,   38.04,2,  163.75,2,    0.01,2,   43.09,2,    0.00,2,   3.067,2,   0.063,2,   0.036,2,   0.007,2,   0.032,2,  2391.6,2,  2397.1,2,   39.90,2, -999.00,9,    34.6845,2,     637.43,2,       0.26,       0.01,       0.09,       0.01,      0.006,     0.0130,2,    2.27055,2,      0.068,1,      0.000,2,      0.398,1,      0.241,1,      0.053,1,     99.906,     0.0038,2,      0.050,1,      0.386,1,     -999.0,9
49NZ20210713,        P01,      52,          1,         20,     X12S20,2,20210730,       1507,    46.9815,   170.0007,       4941,  1530.7,2,   2.1308,2,  34.5385,2,  34.5385,2,    46.67,2,   46.74,2,  166.33,2,    0.00,2,   42.58,2,    0.00,2,   3.024,2,   0.037,2,   0.020,2,   0.003,2,   0.090,2,  2389.4,2,  2401.6,2,   39.13,2, -999.00,9,    34.7203,2,     637.83,2,       0.26,       0.01,       0.09,       0.01,      0.006,     -999.0,9,    2.13069,2,      0.066,1,      0.000,2,     -999.0,9,     -999.0,9,     -999.0,9,     99.929,     0.0028,2,      0.050,1,      0.383,1,     -999.0,9
49NZ20210713,        P01,      52,          1,         19,     X12S19,2,20210730,       1507,    46.9815,   170.0007,       4941,  1730.3,2,   1.9796,2,  34.5712,2,  34.5712,2,    56.80,2,   56.82,2,  168.85,2,    0.02,2,   41.90,2,    0.00,2,   2.973,2,   0.014,2,   0.008,2,   0.000,2,   0.054,2,  2388.6,2,  2407.4,2,   38.14,2, -999.00,9,    34.7530,2,     638.43,2,       0.26,       0.01,       0.09,       0.01,      0.006,     0.0122,2,    1.97944,2,      0.064,1,      0.000,2,      0.360,1,      0.210,1,      0.043,1,     99.917,     0.0033,2,      0.053,1,      0.368,1,     -999.0,9
49NZ20210713,        P01,      52,          1,         18,     X12S18,2,20210730,       1507,    46.9815,   170.0007,       4941,  1931.0,2,   1.8875,2,  34.5920,2,  34.5917,2,    67.55,2,   67.42,2,  169.21,2,    0.01,2,   41.34,2,    0.00,2,   2.929,2,   0.007,2,   0.004,2,   0.002,2,   0.082,2,  2381.9,2,  2412.4,2,   37.52,2, -999.00,9,    34.7767,2,     638.98,2,       0.26,       0.01,       0.09,       0.01,      0.006,     -999.0,9,    1.88728,2,      0.063,1,      0.000,2,     -999.0,9,     -999.0,9,     -999.0,9,     99.927,     0.0029,2,      0.050,1,      0.363,1,     -999.0,9
49NZ20210713,        P01,      52,          1,         17,     X12S17,2,20210730,       1507,    46.9815,   170.0007,       4941,  2131.3,2,   1.7919,2,  34.6120,2,  34.6123,2,    80.85,2,   80.74,2,  167.95,2,    0.01,2,   40.55,2,    0.00,2,   2.869,2,   0.004,2,   0.001,2,   0.001,2,   0.020,2,  2375.0,2,  2413.9,2,   35.17,2, -999.00,9,    34.7945,2,     639.38,2,       0.26,       0.01,       0.09,       0.01,      0.006,     0.0113,2,    1.79180,2,      0.062,1,      0.000,2,      0.398,1,      0.239,1,      0.053,1,     99.943,     0.0023,2,      0.050,1,      0.357,1,     -999.0,9
49NZ20210713,        P01,      52,          1,         16,     X12S16,2,20210730,       1507,    46.9815,   170.0007,       4941,  2330.6,2,   1.7125,2,  34.6281,2,  34.6284,2,    94.33,2,   94.05,2,  165.48,2,    0.02,2,   39.80,2,    0.00,2,   2.812,2,   0.005,2,   0.001,2,   0.002,2,   0.089,2,  2367.4,6,  2415.2,2,   37.11,2, -999.00,9,    34.8106,2,     639.43,2,       0.26,       0.01,       0.08,       0.01,      0.006,     -999.0,9,    1.71224,2,      0.061,1,      0.000,2,     -999.0,9,     -999.0,9,     -999.0,9,     99.957,     0.0017,2,      0.050,1,      0.351,1,     -999.0,9
49NZ20210713,        P01,      52,          1,         15,     X12S15,2,20210730,       1507,    46.9815,   170.0007,       4941,  2530.7,2,   1.6571,2,  34.6392,2,  34.6398,2,   103.49,2,  103.43,2,  163.95,2,    0.03,2,   39.19,2,    0.00,2,   2.762,2,   0.001,2,   0.000,2,   0.000,2,   0.063,2,  2361.6,2,  2415.8,2,   35.05,2, -999.00,9,    34.8211,2,     639.88,2,       0.26,       0.01,       0.09,       0.01,      0.006,     0.0109,2,    1.65688,2,      0.060,1,      0.000,2,      0.319,1,      0.180,1,      0.034,1,     99.959,     0.0016,2,      0.048,1,      0.346,1,     -999.0,9
49NZ20210713,        P01,      52,          1,         14,     X12S14,2,20210730,       1507,    46.9815,   170.0007,       4941,  2730.3,2,   1.6089,2,  34.6486,2,  34.6486,2,   112.12,2,  112.02,2,  161.92,2,    0.03,2,   38.51,2,    0.00,2,   2.705,2,   0.000,2,   0.000,2,   0.000,2,   0.046,2,  2357.1,2,  2415.6,2,   37.49,2, -999.00,9,    34.8321,2,     640.08,2,       0.25,       0.01,       0.09,       0.01,      0.006,     -999.0,9,    1.60882,2,      0.060,1,      0.000,2,     -999.0,9,     -999.0,9,     -999.0,9,     99.957,     0.0017,2,      0.048,1,      0.340,1,     -999.0,9
49NZ20210713,        P01,      52,          1,         13,     X12S13,2,20210730,       1507,    46.9815,   170.0007,       4941,  2930.6,2,   1.5635,2,  34.6567,2,  34.6565,2,   119.36,2,  119.30,2,  161.54,2,    0.02,2,   37.99,2,    0.00,2,   2.675,2,   0.000,2,   0.000,2,   0.000,2,   0.000,2,  2352.8,2,  2413.9,2,   37.71,2, -999.00,9,    34.8376,2,     640.18,2,       0.25,       0.01,       0.08,       0.01,      0.006,     0.0111,2,    1.56321,2,      0.058,1,      0.000,2,      0.360,1,      0.215,1,      0.046,1,     99.961,     0.0015,2,      0.049,1,      0.341,1,     -999.0,9
49NZ20210713,        P01,      52,          1,         12,     X12S12,2,20210730,       1507,    46.9815,   170.0007,       4941,  3170.1,2,   1.5186,2,  34.6653,2,  34.6653,2,   129.56,2,  129.63,2,  158.29,2,    0.02,2,   37.42,2,    0.00,2,   2.624,2,   0.002,2,   0.002,2,   0.000,2,   0.027,2,  2345.4,2,  2415.9,2,   36.17,2, -999.00,9,    34.8473,2,     640.33,2,       0.25,       0.01,       0.08,       0.01,      0.007,     -999.0,9,    1.51830,2,      0.058,1,      0.000,2,     -999.0,9,     -999.0,9,     -999.0,9,     99.964,     0.0015,2,      0.051,1,      0.331,1,     -999.0,9
49NZ20210713,        P01,      52,          1,         11,     X12S11,2,20210730,       1507,    46.9815,   170.0007,       4941,  3420.9,2,   1.4920,2,  34.6716,2,  34.6719,2,   136.27,2,  136.46,2,  156.59,2,    0.02,2,   37.00,2,    0.00,2,   2.588,2,   0.015,4,   0.067,4,   0.004,4,   1.920,4,  2339.5,2,  2414.0,2,   37.83,2, -999.00,9,    34.8534,2,     640.43,2,       0.37,       0.01,       0.08,       0.01,      0.010,     0.0098,2,    1.49181,2,      0.058,1,      0.000,2,      0.304,1,      0.171,1,      0.031,1,     99.966,     0.0014,2,      0.050,1,      0.331,1,     -999.0,9
49NZ20210713,        P01,      52,          1,         10,     X12S10,2,20210730,       1507,    46.9815,   170.0007,       4941,  3671.7,2,   1.4705,2,  34.6769,2,  34.6777,2,   142.86,2,  143.06,2,  154.80,2,    0.04,2,   36.62,2,    0.00,2,   2.560,2,   0.000,2,   0.000,2,   0.000,2,   0.000,2,  2335.6,2,  2414.8,2,   35.03,2, -999.00,9,    34.8578,2,     640.63,2,       0.24,       0.01,       0.08,       0.01,      0.007,     -999.0,9,    1.47018,2,      0.057,1,      0.000,2,     -999.0,9,     -999.0,9,     -999.0,9,     99.945,     0.0022,2,      0.049,1,      0.336,1,     -999.0,9
49NZ20210713,        P01,      52,          1,          9,     X12S09,2,20210730,       1507,    46.9815,   170.0007,       4941,  3921.0,2,   1.4566,2,  34.6815,2,  34.6817,2,   148.37,2,  148.57,2,  153.21,2,    0.03,2,   36.32,2,    0.00,2,   2.533,2,   0.000,2,   0.000,2,   0.002,2,   0.000,2,  2331.5,2,  2416.0,2,   36.88,2, -999.00,9,    34.8633,2,     640.63,2,       0.24,       0.01,       0.08,       0.01,      0.006,     0.0093,2,    1.45638,2,      0.057,1,      0.000,2,      0.305,1,      0.172,1,      0.029,1,     99.924,     0.0030,2,      0.051,1,      0.331,1,     -999.0,9
49NZ20210713,        P01,      52,          1,          8,     X12S08,2,20210730,       1507,    46.9815,   170.0007,       4941,  4171.7,2,   1.4643,2,  34.6837,2,  34.6832,2,   151.12,2,  151.19,2,  152.38,2,    0.03,2,   36.10,2,    0.00,2,   2.516,2,   0.001,2,   0.001,2,   0.001,2,   0.000,2,  2329.9,6,  2415.5,2,   37.50,2, -999.00,9,    34.8642,2,     640.63,2,       0.32,       0.01,       0.20,       0.01,      0.006,     -999.0,9,    1.46411,2,      0.056,1,      0.000,2,     -999.0,9,     -999.0,9,     -999.0,9,     99.917,     0.0033,2,      0.052,1,      0.332,1,     -999.0,9
49NZ20210713,        P01,      52,          1,          7,     X12S07,2,20210730,       1507,    46.9815,   170.0007,       4941,  4422.2,2,   1.4805,2,  34.6850,2,  34.6847,2,   152.78,2,  152.97,2,  152.27,2,    0.01,2,   35.91,2,    0.00,2,   2.505,2,   0.002,2,   0.000,2,   0.000,2,   0.023,2,  2327.5,2,  2412.4,2,   38.22,2, -999.00,9,    34.8670,2,     640.68,2,       0.24,       0.01,       0.08,       0.01,      0.011,     0.0094,2,    1.48026,2,      0.056,1,      0.000,2,      0.290,1,      0.160,1,      0.024,1,     99.910,     0.0036,2,      0.051,1,      0.330,1,     -999.0,9