BOTTLE,20231011CCHSIOENA
EXPOCODE,SECT_ID,STNNBR,CASTNO,SAMPNO,BTLNBR,BTLNBR_FLAG_W,DATE,TIME,LATITUDE,LONGITUDE,DEPTH,CTDPRS,CTDPRS_FLAG_W,CTDTMP,CTDTMP_FLAG_W,CTDSAL,CTDSAL_FLAG_W,SALNTY,SALNTY_FLAG_W,CTDOXY,CTDOXY_FLAG_W,OXYGEN,OXYGEN_FLAG_W,SILCAT,SILCAT_FLAG_W,NH4,NH4_FLAG_W,NITRAT,NITRAT_FLAG_W,NITRIT,NITRIT_FLAG_W,PHSPHT,PHSPHT_FLAG_W,CFC-11,CFC-11_FLAG_W,CFC-12,CFC-12_FLAG_W,CFC113,CFC113_FLAG_W,SF6,SF6_FLAG_W,TCARBN,TCARBN_FLAG_W,ALKALI,ALKALI_FLAG_W,DOC,DOC_FLAG_W,TDN,TDN_FLAG_W,DNSSAL,DNSSAL_FLAG_W,RIANOMALY,RIANOMALY_FLAG_W,SILUNC,NH4UNC,NRAUNC,NRIUNC,PHPUNC,FDOM,FDOM_FLAG_W,REFTMP,REFTMP_FLAG_W,CTDFLUOR,CTDFLUOR_FLAG_W,PAR,PAR_FLAG_W,CDOM300,CDOM300_FLAG_W,CDOM325,CDOM325_FLAG_W,CDOM443,CDOM443_FLAG_W,CTDXMISS,CTDBEAMCP,CTDBEAMCP_FLAG_W,CTDTURB,CTDTURB_FLAG_W,CTDCDOM,CTDCDOM_FLAG_W,CHLORA,CHLORA_FLAG_W
,,,,,,,,,,,METERS,DBAR,,ITS-90,,PSS-78,,PSS-78,,UMOL/KG,,UMOL/KG,,UMOL/KG,,UMOL/KG,,UMOL/KG,,UMOL/KG,,UMOL/KG,,PMOL/KG,,PMOL/KG,,PMOL/KG,,FMOL/KG,,UMOL/KG,,UMOL/KG,,UMOL/KG,,UMOL/KG,,G/KG,,ND,,UMOL/KG,UMOL/KG,UMOL/KG,UMOL/KG,UMOL/KG,RFU,,ITS-90,,MG/M^3,,UMOL/M^2/SEC,,/METER,,/METER,,/METER,,%TRANS,/METER,,FTU,,QSU,,UG/L,
49NZ20210713,        P01,      38,          3,          6,     X12S06,2,20210725,       0057,    47.0096,   160.0221,       5195,  4750.1,2,   1.4962,2,  34.6876,2,  34.6878,2,   156.04,2,  155.85,2,  151.72,2,    0.01,2,   35.73,2,    0.00,2,   2.488,2,   0.003,2,   0.002,2,   0.000,2,   0.000,2,  2322.0,2,  2413.3,6,   36.94,2, -999.00,9,    34.8688,2,     640.69,2,       0.24,       0.01,       0.08,       0.01,      0.006,     -999.0,9,    1.49610,2,      0.056,1,      0.000,2,     -999.0,9,     -999.0,9,     -999.0,9,     99.919,     0.0032,2,      0.052,1,      0.404,1,     -999.0,9
49NZ20210713,        P01,      38,          3,          5,     X12S05,2,20210725,       0057,    47.0096,   160.0221,       5195,  4999.8,2,   1.5210,2,  34.6883,2,  34.6886,2,   156.78,2,  156.72,2,  151.45,2,    0.03,2,   35.66,2,    0.00,2,   2.496,2,   0.004,2,   0.003,2,   0.000,2,   0.000,2,  2319.8,2,  2413.6,2,   37.03,2, -999.00,9,    34.8701,2,     640.74,2,       0.24,       0.01,       0.08,       0.01,      0.010,     0.0096,2,    1.52091,2,      0.056,1,      0.000,2,      0.282,1,      0.157,1,      0.025,1,     99.854,     0.0058,2,      0.053,1,      0.405,1,     -999.0,9
49NZ20210713,        P01,      38,          3,          4,     X12S04,2,20210725,       0057,    47.0096,   160.0221,       5195,  5249.8,2,   1.5446,2,  34.6891,2,  34.6898,2,   158.07,2,  157.87,2,  151.01,2,    0.02,2,   35.50,2,    0.00,2,   2.477,2,   0.000,2,   0.001,2,   0.000,2,   0.000,2,  2323.8,2,  2414.5,2,   37.85,2, -999.00,9,    34.8708,2,     640.69,2,       0.24,       0.01,       0.08,       0.01,      0.011,     0.0095,2,    1.54445,2,      0.056,1,      0.000,2,      0.347,1,      0.205,1,      0.046,1,     99.737,     0.0105,2,      0.065,1,      0.419,1,     -999.0,9
49NZ20210713,        P01,      38,          3,          1,     X12S01,2,20210725,       0057,    47.0096,   160.0221,       5195,  5286.4,2,   1.5484,2,  34.6892,2,  34.6896,2,   158.21,2,  158.09,2,  151.10,2,    0.01,2,   35.52,2,    0.00,2,   2.482,2,   0.000,2,   0.001,2,   0.000,2,   0.000,2,  2322.1,2,  2412.3,2,   39.69,2, -999.00,9,    34.8708,2,     640.79,2,       0.24,       0.01,       0.08,       0.01,      0.006,     0.0096,2,    1.54829,2,      0.055,1,      0.000,2,      0.291,1,      0.160,1,      0.030,1,     99.657,     0.0138,2,      0.068,1,      0.418,1,     -999.0,9