BOTTLE,20231011CCHSIOENA
EXPOCODE,SECT_ID,STNNBR,CASTNO,SAMPNO,BTLNBR,BTLNBR_FLAG_W,DATE,TIME,LATITUDE,LONGITUDE,DEPTH,CTDPRS,CTDPRS_FLAG_W,CTDTMP,CTDTMP_FLAG_W,CTDSAL,CTDSAL_FLAG_W,SALNTY,SALNTY_FLAG_W,CTDOXY,CTDOXY_FLAG_W,OXYGEN,OXYGEN_FLAG_W,SILCAT,SILCAT_FLAG_W,NH4,NH4_FLAG_W,NITRAT,NITRAT_FLAG_W,NITRIT,NITRIT_FLAG_W,PHSPHT,PHSPHT_FLAG_W,CFC-11,CFC-11_FLAG_W,CFC-12,CFC-12_FLAG_W,CFC113,CFC113_FLAG_W,SF6,SF6_FLAG_W,TCARBN,TCARBN_FLAG_W,ALKALI,ALKALI_FLAG_W,DOC,DOC_FLAG_W,TDN,TDN_FLAG_W,DNSSAL,DNSSAL_FLAG_W,RIANOMALY,RIANOMALY_FLAG_W,SILUNC,NH4UNC,NRAUNC,NRIUNC,PHPUNC,FDOM,FDOM_FLAG_W,REFTMP,REFTMP_FLAG_W,CTDFLUOR,CTDFLUOR_FLAG_W,PAR,PAR_FLAG_W,CDOM300,CDOM300_FLAG_W,CDOM325,CDOM325_FLAG_W,CDOM443,CDOM443_FLAG_W,CTDXMISS,CTDBEAMCP,CTDBEAMCP_FLAG_W,CTDTURB,CTDTURB_FLAG_W,CTDCDOM,CTDCDOM_FLAG_W,CHLORA,CHLORA_FLAG_W
,,,,,,,,,,,METERS,DBAR,,ITS-90,,PSS-78,,PSS-78,,UMOL/KG,,UMOL/KG,,UMOL/KG,,UMOL/KG,,UMOL/KG,,UMOL/KG,,UMOL/KG,,PMOL/KG,,PMOL/KG,,PMOL/KG,,FMOL/KG,,UMOL/KG,,UMOL/KG,,UMOL/KG,,UMOL/KG,,G/KG,,ND,,UMOL/KG,UMOL/KG,UMOL/KG,UMOL/KG,UMOL/KG,RFU,,ITS-90,,MG/M^3,,UMOL/M^2/SEC,,/METER,,/METER,,/METER,,%TRANS,/METER,,FTU,,QSU,,UG/L,
49NZ20210713,        P01,      74,          1,         36,     X12S36,2,20210807,       0147,    47.0100,  -165.9831,       5342,     9.9,2,  13.1321,2,  32.7729,2,  32.7703,2,   282.34,2,  281.35,2,    6.11,2,    0.08,2,   10.55,2,    0.18,2,   0.971,2,   3.228,2,   1.570,2,   0.288,2,   3.093,2,  2033.6,2,  2209.8,2,   62.37,2, -999.00,9,    32.9306,2,     605.38,2,       0.04,       0.01,       0.04,       0.01,      0.004,     0.0039,2,   13.12696,2,      1.772,1,     28.171,2,      0.348,1,      0.180,1,      0.021,1,     91.373,     0.3609,2,      0.483,1,      0.183,1,       0.57,2
49NZ20210713,        P01,      74,          1,          2,     X12B34,2,20210807,       0147,    47.0100,  -165.9831,       5342,    26.7,2,   9.2835,2,  32.8763,2,  32.8790,2,   300.99,2,  300.86,2,   11.14,2,    0.61,2,   12.58,2,    0.21,2,   1.202,2,-999.000,9,-999.000,9,-999.000,9,-999.000,9,  2067.0,2,  2216.8,2,   58.38,2, -999.00,9,    33.0381,2,     607.34,2,       0.05,       0.02,       0.04,       0.01,      0.004,     0.0054,2,    9.28662,2,      1.722,1,      4.506,2,      0.383,1,      0.203,1,      0.035,1,     94.541,     0.2245,2,      0.307,1,      0.212,1,       0.47,2
49NZ20210713,        P01,      74,          1,         35,     X12S35,2,20210807,       0147,    47.0100,  -165.9831,       5342,    50.3,2,   7.2899,2,  32.9501,2,  32.9447,2,   300.20,2,  299.23,2,   20.23,2,    1.07,2,   14.72,2,    0.29,2,   1.403,2,   4.172,2,   1.956,2,   0.389,2,   3.605,2,  2081.5,2,  2221.4,2,   51.16,2, -999.00,9,    33.1062,2,     608.63,2,       0.06,       0.03,       0.07,       0.01,      0.005,     0.0052,2,    7.31261,2,      0.518,1,      1.060,2,      0.357,1,      0.186,1,      0.028,1,     98.692,     0.0526,2,      0.115,1,      0.209,1,       0.26,2
49NZ20210713,        P01,      74,          1,         34,     X12S34,2,20210807,       0147,    47.0100,  -165.9831,       5342,   100.0,2,   5.1964,2,  33.0041,2,  33.0081,2,   305.29,2,  305.62,2,   24.97,2,    0.01,2,   18.86,2,    0.03,2,   1.550,2,   4.563,2,   2.145,2,   0.424,2,   3.944,2,  2099.8,2,  2220.0,2,   48.39,2, -999.00,9,    33.1689,2,     609.78,2,       0.07,       0.01,       0.06,       0.01,      0.005,     0.0050,2,    5.19466,2,      0.153,1,      0.000,2,      0.346,1,      0.175,1,      0.028,1,     99.377,     0.0250,2,      0.082,1,      0.207,1,       0.08,2
49NZ20210713,        P01,      74,          1,         33,     X12S33,2,20210807,       0147,    47.0100,  -165.9831,       5342,   150.8,2,   4.7758,2,  33.1790,2,  33.1763,2,   286.83,2,  288.12,2,   29.99,2,    0.01,2,   20.89,2,    0.01,2,   1.645,2,   4.497,2,   2.114,2,   0.377,2,   3.709,2,  2119.5,2,  2230.0,2,   55.94,2, -999.00,9,    33.3371,2,     612.94,2,       0.08,       0.01,       0.05,       0.01,      0.005,     0.0060,2,    4.77417,2,      0.072,1,      0.000,2,      0.369,1,      0.194,1,      0.030,1,     99.512,     0.0196,2,      0.075,1,      0.220,1,       0.03,2
49NZ20210713,        P01,      74,          1,         32,     X12S32,2,20210807,       0147,    47.0100,  -165.9831,       5342,   200.4,2,   4.9213,2,  33.6754,2,  33.6748,2,   191.94,2,  195.92,2,   48.66,2,    0.01,2,   27.43,2,    0.01,2,   2.004,2,   3.783,2,   1.777,2,   0.251,2,   2.722,2,  2198.1,2,  2263.3,2,   49.29,2, -999.00,9,    33.8424,2,     622.13,2,       0.10,       0.01,       0.06,       0.01,      0.005,     0.0097,2,    4.92345,2,      0.069,1,      0.000,2,      0.389,1,      0.221,1,      0.036,1,     99.275,     0.0291,2,      0.084,1,      0.282,1,       0.02,2
49NZ20210713,        P01,      74,          1,         31,     X12S31,2,20210807,       0147,    47.0100,  -165.9831,       5342,   251.1,2,   4.4768,2,  33.7699,2,  33.7712,2,   128.14,2,  126.86,2,   67.43,2,    0.00,2,   34.18,2,    0.00,2,   2.461,2,   3.179,2,   1.468,2,   0.198,2,   1.793,2,  2254.5,2,  2282.5,2,   48.81,2, -999.00,9,    33.9393,2,     623.88,2,       0.13,       0.01,       0.07,       0.01,      0.006,     0.0111,2,    4.47682,2,      0.069,1,      0.000,2,      0.413,1,      0.234,1,      0.037,1,     99.572,     0.0171,2,      0.071,1,      0.301,1,       0.02,2
49NZ20210713,        P01,      74,          1,         30,     X12S30,2,20210807,       0147,    47.0100,  -165.9831,       5342,   330.9,2,   4.3341,2,  33.8903,2,  33.8899,2,    83.87,2,   83.57,2,   81.47,2,    0.00,2,   38.05,2,    0.00,2,   2.722,2,   2.540,2,   1.355,2,   0.145,2,   1.206,2,  2284.5,2,  2293.5,2,   43.72,2, -999.00,9,    34.0604,2,     626.13,2,       0.15,       0.01,       0.15,       0.01,      0.006,     0.0119,2,    4.33396,2,      0.070,1,      0.000,2,      0.433,1,      0.256,1,      0.054,1,     99.626,     0.0150,2,      0.074,1,      0.312,1,     -999.0,9
49NZ20210713,        P01,      74,          1,         29,     X12S29,2,20210807,       0147,    47.0100,  -165.9831,       5342,   429.7,2,   4.1551,2,  34.0239,2,  34.0236,2,    56.30,2,   56.25,2,   95.83,2,    0.00,2,   40.56,2,    0.00,2,   2.891,2,   1.817,2,   0.965,2,   0.104,2,   0.675,2,  2313.3,2,  2308.7,2,   42.08,2, -999.00,9,    34.1957,2,     628.59,2,       0.21,       0.01,       0.13,       0.01,      0.006,     0.0124,2,    4.15641,2,      0.070,1,      0.000,2,      0.422,1,      0.253,1,      0.048,1,     99.733,     0.0107,2,      0.055,1,      0.325,1,     -999.0,9
49NZ20210713,        P01,      74,          1,         28,     X12S28,2,20210807,       0147,    47.0100,  -165.9831,       5342,   531.5,2,   3.8936,2,  34.1122,2,  34.1117,2,    39.93,2,   40.18,2,  108.03,2,    0.00,2,   41.88,2,    0.00,2,   2.980,2,   1.302,2,   0.693,2,   0.071,2,   0.397,2,  2331.8,2,  2323.4,2,   43.42,2, -999.00,9,    34.2868,2,     630.24,2,       0.18,       0.01,       0.09,       0.01,      0.006,     0.0124,2,    3.89330,2,      0.071,1,      0.000,2,      0.414,1,      0.250,1,      0.044,1,     99.811,     0.0075,2,      0.049,1,      0.324,1,     -999.0,9
49NZ20210713,        P01,      74,          1,         27,     X12S27,2,20210807,       0147,    47.0100,  -165.9831,       5342,   630.0,2,   3.6905,2,  34.1846,2,  34.1837,2,    33.20,2,   33.37,2,  117.07,2,    0.00,2,   42.44,2,    0.00,2,   3.025,2,   0.918,2,   0.485,2,   0.044,2,   0.271,2,  2347.0,2,  2335.8,2,   45.68,2, -999.00,9,    34.3617,2,     631.49,2,       0.19,       0.01,       0.09,       0.01,      0.006,     0.0131,2,    3.68965,2,      0.070,1,      0.000,2,      0.411,1,      0.247,1,      0.047,1,     99.823,     0.0071,2,      0.049,1,      0.332,1,     -999.0,9
49NZ20210713,        P01,      74,          1,         26,     X12S26,2,20210807,       0147,    47.0100,  -165.9831,       5342,   730.0,2,   3.4581,2,  34.2502,2,  34.2493,2,    28.74,2,   28.93,2,  125.94,2,    0.02,2,   42.87,2,    0.00,2,   3.062,2,   0.607,2,   0.334,2,   0.026,2,   0.195,2,  2357.6,6,  2348.5,2,   41.06,2, -999.00,9,    34.4246,2,     632.63,2,       0.28,       0.01,       0.14,       0.01,      0.006,     -999.0,9,    3.45838,2,      0.071,1,      0.000,2,     -999.0,9,     -999.0,9,     -999.0,9,     99.818,     0.0073,2,      0.047,1,      0.336,1,     -999.0,9
49NZ20210713,        P01,      74,          1,         25,     X12S25,2,20210807,       0147,    47.0100,  -165.9831,       5342,   829.1,2,   3.2500,2,  34.3028,2,  34.3023,2,    27.11,2,   27.23,2,  132.96,2,    0.01,2,   43.09,2,    0.00,2,   3.071,2,   0.407,2,   0.232,2,   0.013,2,   0.129,2,  2367.0,2,  2358.8,2,   38.90,2, -999.00,9,    34.4806,2,     633.63,2,       0.21,       0.01,       0.09,       0.01,      0.006,     0.0131,2,    3.24997,2,      0.070,1,      0.000,2,      0.400,1,      0.246,1,      0.048,1,     99.839,     0.0064,2,      0.048,1,      0.337,1,     -999.0,9
49NZ20210713,        P01,      74,          1,         24,     X12S24,2,20210807,       0147,    47.0100,  -165.9831,       5342,   927.3,2,   3.0773,2,  34.3378,2,  34.3370,2,    25.45,2,   25.53,2,  138.84,2,    0.01,2,   43.40,2,    0.00,2,   3.092,2,   0.300,2,   0.173,2,   0.010,2,   0.127,2,  2372.4,2,  2366.6,2,   39.44,2, -999.00,9,    34.5156,2,     634.24,2,       0.22,       0.01,       0.09,       0.01,      0.006,     -999.0,9,    3.07729,2,      0.070,1,      0.000,2,     -999.0,9,     -999.0,9,     -999.0,9,     99.837,     0.0065,2,      0.047,1,      0.339,1,     -999.0,9
49NZ20210713,        P01,      74,          1,         23,     X12S23,2,20210807,       0147,    47.0100,  -165.9831,       5342,  1067.6,2,   2.8347,2,  34.3899,2,  34.3883,2,    25.59,2,   25.72,2,  146.85,2,    0.01,2,   43.55,2,    0.00,2,   3.105,2,   0.186,2,   0.116,2,   0.007,2,   0.033,2,  2380.5,2,  2374.8,2,   36.89,2, -999.00,9,    34.5684,2,     635.24,2,       0.23,       0.01,       0.09,       0.01,      0.006,     0.0138,2,    2.83758,2,      0.069,1,      0.000,2,      0.403,1,      0.243,1,      0.047,1,     99.818,     0.0073,2,      0.049,1,      0.336,1,     -999.0,9
49NZ20210713,        P01,      74,          1,         22,     X12S22,2,20210807,       0147,    47.0100,  -165.9831,       5342,  1269.3,2,   2.5665,2,  34.4470,2,  34.4466,2,    28.32,2,   28.27,2,  155.68,2,    0.02,2,   43.56,2,    0.00,2,   3.099,2,   0.100,2,   0.059,2,   0.001,2,   0.043,2,  2385.9,2,  2386.3,6,   39.25,2, -999.00,9,    34.6284,2,     636.28,2,       0.24,       0.01,       0.09,       0.01,      0.006,     -999.0,9,    2.56544,2,      0.068,1,      0.000,2,     -999.0,9,     -999.0,9,     -999.0,9,     99.823,     0.0071,2,      0.046,1,      0.337,1,     -999.0,9
49NZ20210713,        P01,      74,          1,         21,     X12S21,2,20210807,       0147,    47.0100,  -165.9831,       5342,  1468.8,2,   2.3487,2,  34.4949,2,  34.4939,2,    33.82,2,   33.33,2,  161.99,2,    0.01,2,   43.33,2,    0.00,2,   3.079,2,   0.050,2,   0.030,2,   0.002,2,   0.029,2,  2393.0,2,  2393.1,2,   35.37,2, -999.00,9,    34.6765,2,     637.13,2,       0.25,       0.01,       0.09,       0.01,      0.006,     0.0128,2,    2.34945,2,      0.067,1,      0.000,2,      0.449,1,      0.287,1,      0.063,1,     99.860,     0.0056,2,      0.043,1,      0.337,1,     -999.0,9
49NZ20210713,        P01,      74,          1,         20,     X12S20,2,20210807,       0147,    47.0100,  -165.9831,       5342,  1667.4,2,   2.1948,2,  34.5301,2,  34.5294,2,    40.89,2,   40.52,2,  165.85,2,    0.01,2,   43.03,2,    0.00,2,   3.044,2,   0.026,2,   0.014,2,   0.000,2,   0.033,2,  2393.2,2,  2403.9,2,   36.16,2, -999.00,9,    34.7125,2,     637.78,2,       0.26,       0.01,       0.09,       0.01,      0.006,     -999.0,9,    2.19509,2,      0.065,1,      0.000,2,     -999.0,9,     -999.0,9,     -999.0,9,     99.874,     0.0050,2,      0.041,1,      0.334,1,     -999.0,9
49NZ20210713,        P01,      74,          1,         19,     X12S19,2,20210807,       0147,    47.0100,  -165.9831,       5342,  1869.2,2,   2.0590,2,  34.5612,2,  34.5601,2,    47.96,2,   47.77,2,  169.32,2,    0.01,2,   42.86,2,    0.00,2,   3.010,2,   0.008,2,   0.003,2,   0.001,2,   0.022,2,  2390.0,2,  2406.8,2,   36.92,2, -999.00,9,    34.7424,2,     638.38,2,       0.26,       0.01,       0.09,       0.01,      0.006,     0.0127,2,    2.05907,2,      0.064,1,      0.000,2,      0.395,1,      0.244,1,      0.046,1,     99.900,     0.0040,2,      0.042,1,      0.335,1,     -999.0,9
49NZ20210713,        P01,      74,          1,         18,     X12S18,2,20210807,       0147,    47.0100,  -165.9831,       5342,  2068.3,2,   1.9406,2,  34.5859,2,  34.5856,2,    59.26,2,   59.21,2,  170.78,2,    0.00,2,   42.11,2,    0.00,2,   2.962,2,   0.002,2,   0.000,2,   0.000,2,   0.000,2,  2387.6,2,  2408.6,2,   35.95,2, -999.00,9,    34.7693,2,     638.88,2,       0.27,       0.01,       0.09,       0.01,      0.006,     -999.0,9,    1.94071,2,      0.063,1,      0.000,2,     -999.0,9,     -999.0,9,     -999.0,9,     99.867,     0.0053,2,      0.045,1,      0.327,1,     -999.0,9
49NZ20210713,        P01,      74,          1,         17,     X12S17,2,20210807,       0147,    47.0100,  -165.9831,       5342,  2270.4,2,   1.8313,2,  34.6075,2,  34.6068,2,    72.09,2,   71.79,2,  171.38,2,    0.00,2,   41.32,2,    0.00,2,   2.905,2,   0.000,2,   0.000,2,   0.000,2,   0.000,2,  2379.8,2,  2412.1,2,   36.22,2, -999.00,9,    34.7906,2,     639.24,2,       0.27,       0.01,       0.09,       0.01,      0.006,     0.0128,2,    1.83139,2,      0.062,1,      0.000,2,      0.364,1,      0.216,1,      0.041,1,     99.865,     0.0054,2,      0.046,1,      0.317,1,     -999.0,9
49NZ20210713,        P01,      74,          1,         16,     X12S16,2,20210807,       0147,    47.0100,  -165.9831,       5342,  2471.3,2,   1.7451,2,  34.6241,2,  34.6232,2,    83.49,2,   83.42,2,  171.04,2,    0.00,2,   40.64,2,    0.00,2,   2.848,2,   0.001,2,   0.000,2,   0.001,2,   0.000,2,  2373.9,6,  2415.5,2,   38.14,2, -999.00,9,    34.8077,2,     639.49,2,       0.27,       0.01,       0.09,       0.01,      0.006,     -999.0,9,    1.74500,2,      0.060,1,      0.000,2,     -999.0,9,     -999.0,9,     -999.0,9,     99.881,     0.0048,2,      0.044,1,      0.316,1,     -999.0,9
49NZ20210713,        P01,      74,          1,         15,     X12S15,2,20210807,       0147,    47.0100,  -165.9831,       5342,  2670.4,2,   1.6692,2,  34.6379,2,  34.6370,2,    95.57,2,   95.60,2,  169.79,2,    0.00,2,   39.91,2,    0.00,2,   2.797,2,   0.000,2,   0.000,2,   0.000,2,   0.009,2,  2368.8,2,  2416.1,2,   37.03,2, -999.00,9,    34.8213,2,     639.74,2,       0.26,       0.01,       0.08,       0.01,      0.006,     0.0116,2,    1.66954,2,      0.059,1,      0.000,2,      0.340,1,      0.194,1,      0.032,1,     99.895,     0.0042,2,      0.042,1,      0.315,1,     -999.0,9
49NZ20210713,        P01,      74,          1,         14,     X12S14,2,20210807,       0147,    47.0100,  -165.9831,       5342,  2870.6,2,   1.6165,2,  34.6479,2,  34.6474,2,   105.35,2,  105.86,2,  168.05,2,    0.00,2,   39.26,2,    0.00,2,   2.748,2,   0.000,2,   0.000,2,   0.001,2,   0.000,2,  2361.9,2,  2416.3,2,   36.58,2, -999.00,9,    34.8314,2,     639.94,2,       0.26,       0.01,       0.08,       0.01,      0.006,     -999.0,9,    1.61665,2,      0.059,1,      0.000,2,     -999.0,9,     -999.0,9,     -999.0,9,     99.911,     0.0035,2,      0.042,1,      0.309,1,     -999.0,9
49NZ20210713,        P01,      74,          1,         13,     X12S13,2,20210807,       0147,    47.0100,  -165.9831,       5342,  3081.3,2,   1.5711,2,  34.6566,2,  34.6563,2,   114.91,2,  115.15,2,  166.11,2,    0.02,2,   38.51,2,    0.01,2,   2.684,2,   0.000,2,   0.000,2,   0.000,2,   0.000,2,  2354.2,2,  2418.9,2,   34.50,2, -999.00,9,    34.8380,2,     640.09,2,       0.26,       0.01,       0.08,       0.01,      0.006,     0.0110,2,    1.57103,2,      0.058,1,      0.000,2,      0.312,1,      0.180,1,      0.028,1,     99.798,     0.0081,2,      0.044,1,      0.305,1,     -999.0,9
49NZ20210713,        P01,      74,          1,         12,     X12S12,2,20210807,       0147,    47.0100,  -165.9831,       5342,  3329.4,2,   1.5298,2,  34.6649,2,  34.6643,2,   124.71,2,  125.07,2,  163.79,2,    0.01,2,   37.87,2,    0.00,2,   2.641,2,   0.000,2,   0.000,2,   0.000,2,   0.000,2,  2348.0,2,  2417.4,6,   36.03,2, -999.00,9,    34.8484,2,     640.34,2,       0.26,       0.01,       0.08,       0.01,      0.006,     -999.0,9,    1.52961,2,      0.057,1,      0.000,2,     -999.0,9,     -999.0,9,     -999.0,9,     99.895,     0.0042,2,      0.042,1,      0.300,1,     -999.0,9
49NZ20210713,        P01,      74,          1,         11,     X12S11,2,20210807,       0147,    47.0100,  -165.9831,       5342,  3580.5,2,   1.5003,2,  34.6717,2,  34.6714,2,   132.97,2,  133.22,2,  162.05,2,    0.00,2,   37.32,2,    0.00,2,   2.601,2,   0.000,2,   0.000,2,   0.000,2,   0.000,2,  2341.1,2,  2416.6,2,   41.04,4, -999.00,9,    34.8552,2,     640.38,2,       0.25,       0.01,       0.08,       0.01,      0.006,     0.0102,2,    1.50016,2,      0.056,1,      0.000,2,      0.303,1,      0.171,1,      0.031,1,     99.921,     0.0032,2,      0.040,1,      0.300,1,     -999.0,9
49NZ20210713,        P01,      74,          1,         10,     X12S10,2,20210807,       0147,    47.0100,  -165.9831,       5342,  3829.6,2,   1.4821,2,  34.6772,2,  34.6771,2,   139.54,2,  139.65,2,  161.02,2,    0.00,2,   36.88,2,    0.00,2,   2.571,2,   0.001,2,   0.000,2,   0.001,2,   0.000,2,  2341.3,2,  2422.3,2,   37.85,2, -999.00,9,    34.8587,2,     640.49,2,       0.25,       0.01,       0.08,       0.01,      0.006,     -999.0,9,    1.48205,2,      0.056,1,      0.000,2,     -999.0,9,     -999.0,9,     -999.0,9,     99.932,     0.0027,2,      0.042,1,      0.291,1,     -999.0,9
49NZ20210713,        P01,      74,          1,          9,     X12S09,2,20210807,       0147,    47.0100,  -165.9831,       5342,  4082.7,2,   1.4791,2,  34.6811,2,  34.6806,2,   143.91,2,  144.06,2,  161.05,2,    0.01,2,   36.75,2,    0.00,2,   2.548,2,   0.001,2,   0.000,2,   0.000,2,   0.000,2,  2337.4,2,  2420.9,2,   42.89,4, -999.00,9,    34.8618,2,     640.49,2,       0.25,       0.01,       0.08,       0.01,      0.006,     0.0100,2,    1.47914,2,      0.055,1,      0.000,2,      0.301,1,      0.172,1,      0.025,1,     99.925,     0.0030,2,      0.039,1,      0.291,1,     -999.0,9
49NZ20210713,        P01,      74,          1,          8,     X12S08,2,20210807,       0147,    47.0100,  -165.9831,       5342,  4331.1,2,   1.4854,2,  34.6839,2,  34.6831,2,   147.13,2,  146.95,2,  161.61,2,    0.00,2,   36.50,2,    0.00,2,   2.528,2,   0.000,2,   0.000,2,   0.000,2,   0.001,2,  2334.9,6,  2423.7,2,   34.36,2, -999.00,9,    34.8664,2,     640.59,2,       0.25,       0.01,       0.08,       0.01,      0.006,     -999.0,9,    1.48547,2,      0.056,1,      0.000,2,     -999.0,9,     -999.0,9,     -999.0,9,     99.928,     0.0029,2,      0.038,1,      0.304,1,     -999.0,9
49NZ20210713,        P01,      74,          1,          7,     X12S07,2,20210807,       0147,    47.0100,  -165.9831,       5342,  4579.4,2,   1.5035,2,  34.6854,2,  34.6850,2,   148.72,2,  148.42,2,  162.13,2,    0.01,2,   36.35,2,    0.00,2,   2.522,2,   0.002,2,   0.001,2,   0.000,2,   0.006,2,  2332.8,2,  2420.8,2,   36.29,2, -999.00,9,    34.8693,2,     640.69,2,       0.25,       0.01,       0.09,       0.01,      0.006,     0.0099,2,    1.50360,2,      0.055,1,      0.000,2,      0.297,1,      0.166,1,      0.026,1,     99.958,     0.0017,2,      0.041,1,      0.309,1,     -999.0,9