BOTTLE,20231011CCHSIOENA
EXPOCODE,SECT_ID,STNNBR,CASTNO,SAMPNO,BTLNBR,BTLNBR_FLAG_W,DATE,TIME,LATITUDE,LONGITUDE,DEPTH,CTDPRS,CTDPRS_FLAG_W,CTDTMP,CTDTMP_FLAG_W,CTDSAL,CTDSAL_FLAG_W,SALNTY,SALNTY_FLAG_W,CTDOXY,CTDOXY_FLAG_W,OXYGEN,OXYGEN_FLAG_W,SILCAT,SILCAT_FLAG_W,NH4,NH4_FLAG_W,NITRAT,NITRAT_FLAG_W,NITRIT,NITRIT_FLAG_W,PHSPHT,PHSPHT_FLAG_W,CFC-11,CFC-11_FLAG_W,CFC-12,CFC-12_FLAG_W,CFC113,CFC113_FLAG_W,SF6,SF6_FLAG_W,TCARBN,TCARBN_FLAG_W,ALKALI,ALKALI_FLAG_W,DOC,DOC_FLAG_W,TDN,TDN_FLAG_W,DNSSAL,DNSSAL_FLAG_W,RIANOMALY,RIANOMALY_FLAG_W,SILUNC,NH4UNC,NRAUNC,NRIUNC,PHPUNC,FDOM,FDOM_FLAG_W,REFTMP,REFTMP_FLAG_W,CTDFLUOR,CTDFLUOR_FLAG_W,PAR,PAR_FLAG_W,CDOM300,CDOM300_FLAG_W,CDOM325,CDOM325_FLAG_W,CDOM443,CDOM443_FLAG_W,CTDXMISS,CTDBEAMCP,CTDBEAMCP_FLAG_W,CTDTURB,CTDTURB_FLAG_W,CTDCDOM,CTDCDOM_FLAG_W,CHLORA,CHLORA_FLAG_W
,,,,,,,,,,,METERS,DBAR,,ITS-90,,PSS-78,,PSS-78,,UMOL/KG,,UMOL/KG,,UMOL/KG,,UMOL/KG,,UMOL/KG,,UMOL/KG,,UMOL/KG,,PMOL/KG,,PMOL/KG,,PMOL/KG,,FMOL/KG,,UMOL/KG,,UMOL/KG,,UMOL/KG,,UMOL/KG,,G/KG,,ND,,UMOL/KG,UMOL/KG,UMOL/KG,UMOL/KG,UMOL/KG,RFU,,ITS-90,,MG/M^3,,UMOL/M^2/SEC,,/METER,,/METER,,/METER,,%TRANS,/METER,,FTU,,QSU,,UG/L,
49NZ20210713,        P01,      32,          1,         36,     X12S36,2,20210723,       0108,    44.0859,   155.0166,       5307,    10.1,2,  16.8872,2,  33.0094,2,  32.9964,2,   270.42,2,  270.94,2,    6.21,2,    0.17,2,    4.75,2,    0.09,2,   0.529,2,   2.774,2,   1.425,2,   0.241,2,   2.772,2,  2000.9,2,  2235.6,2,   73.57,3, -999.00,9,    33.1564,2,     609.62,2,       0.04,       0.01,       0.02,       0.01,      0.004,     0.0046,2,   16.88472,2,      1.803,1,    205.216,2,      0.448,1,      0.251,1,      0.031,1,     88.959,     0.4680,2,      0.287,1,      0.279,1,       0.78,2
49NZ20210713,        P01,      32,          1,          2,     X12B34,2,20210723,       0108,    44.0859,   155.0166,       5307,    20.2,2,   9.2372,2,  32.8602,2,  32.8779,2,   335.03,2,  339.64,2,   17.57,2,    0.44,2,   13.94,2,    0.16,2,   1.322,2,-999.000,9,-999.000,9,-999.000,9,-999.000,9,  2053.5,2,  2227.5,2,   57.90,2, -999.00,9,    33.0416,2,     607.32,2,       0.06,       0.02,       0.04,       0.01,      0.005,     0.0061,2,    9.25956,2,      3.129,1,     65.781,2,      0.499,1,      0.287,1,      0.038,1,     91.422,     0.3587,2,      0.277,1,      0.331,1,       0.93,2
49NZ20210713,        P01,      32,          1,         35,     X12S35,2,20210723,       0108,    44.0859,   155.0166,       5307,    50.0,2,   2.8134,2,  33.0457,2,  33.0506,2,   324.79,2,  326.69,2,   41.92,2,    1.01,2,   23.92,2,    0.63,2,   2.000,2,   5.082,2,   2.361,2,   0.746,3,   4.391,2,  2136.7,2,  2237.9,2,   58.45,2, -999.00,9,    33.2118,2,     610.62,2,       0.09,       0.03,       0.06,       0.01,      0.005,     0.0059,2,    2.81407,2,      1.078,1,      2.695,2,      0.417,1,      0.226,1,      0.033,1,     97.901,     0.0849,2,      0.112,1,      0.340,1,       0.63,2
49NZ20210713,        P01,      32,          1,         34,     X12S34,2,20210723,       0108,    44.0859,   155.0166,       5307,   100.8,2,   1.8207,2,  33.1213,2,  33.1214,2,   319.77,2,  320.96,2,   51.47,2,    0.02,2,   28.31,2,    0.04,2,   2.157,2,   5.114,2,   2.350,2,   0.839,3,   4.397,2,  2158.4,2,  2234.9,2,   54.50,2, -999.00,9,    33.2824,2,     611.87,2,       0.10,       0.01,       0.07,       0.01,      0.005,     0.0063,2,    1.82106,2,      0.128,1,      0.000,2,      0.408,1,      0.211,1,      0.026,1,     99.185,     0.0327,2,      0.099,1,      0.334,1,       0.08,2
49NZ20210713,        P01,      32,          1,         33,     X12S33,2,20210723,       0108,    44.0859,   155.0166,       5307,   150.6,2,   2.2595,2,  33.4035,2,  33.3895,2,   219.17,2,  222.66,2,   66.98,2,    0.02,2,   33.44,2,    0.02,2,   2.469,2,   4.107,2,   1.903,2,   0.411,3,   3.234,2,  2220.9,2,  2259.1,2,   51.38,2, -999.00,9,    33.5554,2,     616.87,2,       0.13,       0.01,       0.07,       0.01,      0.006,     0.0087,2,    2.25951,2,      0.089,1,      0.000,2,      0.486,1,      0.280,1,      0.052,1,     99.107,     0.0359,2,      0.105,1,      0.401,1,       0.06,2
49NZ20210713,        P01,      32,          1,         32,     X12S32,2,20210723,       0108,    44.0859,   155.0166,       5307,   200.1,2,   3.3287,2,  33.7382,2,  33.7335,2,    86.83,2,   87.31,2,   90.16,2,    0.01,2,   41.19,2,    0.01,2,   2.926,2,   2.691,2,   1.411,2,   0.217,2,   1.659,2,  2303.0,2,  2287.5,2,   49.33,2, -999.00,9,    33.9035,2,     623.22,2,       0.16,       0.01,       0.09,       0.01,      0.007,     0.0119,2,    3.33069,2,      0.080,1,      0.000,2,      0.464,1,      0.269,1,      0.050,1,     98.912,     0.0438,2,      0.123,1,      0.459,1,       0.06,2
49NZ20210713,        P01,      32,          1,         31,     X12S31,2,20210723,       0108,    44.0859,   155.0166,       5307,   250.2,2,   3.6608,2,  33.9283,2,  33.9252,2,    29.47,2,   29.90,2,  102.50,2,    0.02,2,   44.43,2,    0.01,2,   3.136,2,   1.957,2,   1.036,2,   0.139,2,   0.906,2,  2340.8,2,  2304.9,2,   45.68,2, -999.00,9,    34.0963,2,     626.76,2,       0.19,       0.01,       0.16,       0.01,      0.010,     0.0129,2,    3.66069,2,      0.078,1,      0.000,2,      0.454,1,      0.267,1,      0.050,1,     99.505,     0.0199,2,      0.084,1,      0.473,1,       0.03,2
49NZ20210713,        P01,      32,          1,         30,     X12S30,2,20210723,       0108,    44.0859,   155.0166,       5307,   301.1,2,   3.5612,2,  34.0125,2,  34.0120,2,    24.55,2,   24.76,2,  110.31,2,    0.03,2,   44.40,2,    0.01,2,   3.150,2,   1.588,2,   0.853,2,   0.122,2,   0.699,2,  2352.5,2,  2317.2,2,   46.51,2, -999.00,9,    34.1840,2,     628.32,2,       0.18,       0.01,       0.09,       0.01,      0.007,     0.0132,2,    3.56110,2,      0.075,1,      0.000,2,      0.480,1,      0.291,1,      0.063,1,     99.615,     0.0154,2,      0.094,1,      0.472,1,     -999.0,9
49NZ20210713,        P01,      32,          1,         29,     X12S29,2,20210723,       0108,    44.0859,   155.0166,       5307,   401.2,2,   3.4625,2,  34.1380,2,  34.1381,2,    19.60,2,   18.90,2,  121.81,2,    0.02,2,   44.25,2,    0.00,2,   3.125,2,   0.997,2,   0.551,2,   0.085,2,   0.338,2,  2360.6,2,  2333.1,2,   42.25,2, -999.00,9,    34.3148,2,     630.57,2,       0.20,       0.01,       0.09,       0.01,      0.006,     0.0129,2,    3.46214,2,      0.075,1,      0.000,2,      0.466,1,      0.287,1,      0.065,1,     99.640,     0.0144,2,      0.069,1,      0.457,1,     -999.0,9
49NZ20210713,        P01,      32,          1,         28,     X12S28,2,20210723,       0108,    44.0859,   155.0166,       5307,   499.7,2,   3.3132,2,  34.2271,2,  34.2269,2,    12.55,2,   11.69,2,  131.69,2,    0.02,2,   44.60,2,    0.00,2,   3.150,2,   0.593,2,   0.341,2,   0.051,2,   0.175,2,  2371.9,2,  2346.2,2,   40.10,2, -999.00,9,    34.4016,2,     632.26,2,       0.21,       0.01,       0.09,       0.01,      0.007,     0.0133,2,    3.31317,2,      0.075,1,      0.000,2,      0.463,1,      0.287,1,      0.064,1,     99.732,     0.0107,2,      0.070,1,      0.433,1,     -999.0,9
49NZ20210713,        P01,      32,          1,         27,     X12S27,2,20210723,       0108,    44.0859,   155.0166,       5307,   600.2,2,   3.0958,2,  34.2865,2,  34.2860,2,    19.90,2,   19.37,2,  138.06,2,    0.00,2,   43.92,2,    0.00,2,   3.119,2,   0.454,2,   0.272,2,   0.039,2,   0.163,2,  2373.4,2,  2360.6,2,   40.66,2, -999.00,9,    34.4629,2,     633.32,2,       0.22,       0.01,       0.18,       0.01,      0.006,     0.0134,2,    3.09561,2,      0.072,1,      0.000,2,      0.412,1,      0.248,1,      0.048,1,     99.813,     0.0075,2,      0.061,1,      0.436,1,     -999.0,9
49NZ20210713,        P01,      32,          1,         26,     X12S26,2,20210723,       0108,    44.0859,   155.0166,       5307,   700.2,2,   2.9316,2,  34.3355,2,  34.3350,2,    18.25,2,   17.56,2,  145.24,2,    0.00,2,   44.14,2,    0.00,2,   3.133,2,   0.304,2,   0.187,2,   0.027,2,   0.101,2,  2383.6,6,  2365.6,2,   39.45,2, -999.00,9,    34.5123,2,     634.32,2,       0.23,       0.01,       0.09,       0.01,      0.006,     -999.0,9,    2.93154,2,      0.072,1,      0.000,2,     -999.0,9,     -999.0,9,     -999.0,9,     99.840,     0.0064,2,      0.062,1,      0.429,1,     -999.0,9
49NZ20210713,        P01,      32,          1,         25,     X12S25,2,20210723,       0108,    44.0859,   155.0166,       5307,   800.4,2,   2.7856,2,  34.3774,2,  34.3765,2,    27.63,2,   26.46,2,  147.91,2,    0.02,2,   43.31,2,    0.00,2,   3.078,2,   0.253,2,   0.155,2,   0.026,2,   0.088,2,  2383.8,2,  2372.4,2,   40.70,2, -999.00,9,    34.5546,2,     634.97,2,       0.23,       0.01,       0.21,       0.01,      0.006,     0.0131,2,    2.78593,2,      0.070,1,      0.000,2,      0.387,1,      0.233,1,      0.042,1,     99.877,     0.0049,2,      0.059,1,      0.426,1,     -999.0,9
49NZ20210713,        P01,      32,          1,         24,     X12S24,2,20210723,       0108,    44.0859,   155.0166,       5307,   899.8,2,   2.6452,2,  34.4103,2,  34.4110,2,    29.86,2,   28.98,2,  152.36,2,    0.01,2,   43.36,2,    0.00,2,   3.084,2,   0.193,2,   0.120,2,   0.018,2,   0.065,2,  2386.6,2,  2382.1,2,   44.73,2, -999.00,9,    34.5893,2,     635.62,2,       0.24,       0.01,       0.09,       0.01,      0.006,     -999.0,9,    2.64501,2,      0.069,1,      0.000,2,     -999.0,9,     -999.0,9,     -999.0,9,     99.893,     0.0043,2,      0.056,1,      0.453,1,     -999.0,9
49NZ20210713,        P01,      32,          1,         23,     X12S23,2,20210723,       0108,    44.0859,   155.0166,       5307,  1002.6,2,   2.5040,2,  34.4409,2,  34.4405,2,    28.65,2,   28.17,2,  157.90,2,    0.00,2,   43.55,2,    0.00,2,   3.086,2,-999.000,5,-999.000,5,-999.000,5,-999.000,5,  2390.9,2,  2383.3,2,   40.71,2, -999.00,9,    34.6197,2,     636.22,2,       0.25,       0.01,       0.09,       0.01,      0.006,     0.0132,2,    2.50374,2,      0.068,1,      0.000,2,      0.407,1,      0.250,1,      0.051,1,     99.884,     0.0046,2,      0.055,1,      0.506,1,     -999.0,9
49NZ20210713,        P01,      32,          1,         22,     X12S22,2,20210723,       0108,    44.0859,   155.0166,       5307,  1200.7,2,   2.3171,2,  34.4867,2,  34.4868,2,    41.05,2,   40.57,2,  161.22,2,    0.01,2,   42.86,2,    0.00,2,   3.037,2,   0.104,2,   0.068,2,   0.013,2,   0.056,2,  2388.0,2,  2392.4,6,   43.62,2, -999.00,9,    34.6686,2,     637.01,2,       0.25,       0.01,       0.09,       0.01,      0.006,     -999.0,9,    2.31714,2,      0.067,1,      0.000,2,     -999.0,9,     -999.0,9,     -999.0,9,     99.914,     0.0035,2,      0.056,1,      0.501,1,     -999.0,9
49NZ20210713,        P01,      32,          1,         21,     X12S21,2,20210723,       0108,    44.0859,   155.0166,       5307,  1401.0,2,   2.1905,2,  34.5263,2,  34.5263,2,    48.74,2,   48.37,2,  163.31,2,    0.02,2,   42.42,2,    0.00,2,   3.001,2,   0.051,2,   0.035,2,   0.005,2,   0.050,2,  2386.9,2,  2397.3,2,   41.80,2, -999.00,9,    34.7089,2,     637.72,2,       0.26,       0.01,       0.09,       0.01,      0.006,     0.0123,2,    2.19058,2,      0.066,1,      0.000,2,      0.361,1,      0.208,1,      0.040,1,     99.925,     0.0030,2,      0.056,1,      0.495,1,     -999.0,9
49NZ20210713,        P01,      32,          1,         20,     X12S20,2,20210723,       0108,    44.0859,   155.0166,       5307,  1600.8,2,   2.0589,2,  34.5580,2,  34.5583,2,    56.32,2,   56.08,2,  166.29,2,    0.02,2,   42.05,2,    0.00,2,   2.966,2,   0.024,2,   0.017,2,   0.002,2,   0.024,2,  2385.3,2,  2403.2,2,   37.73,2, -999.00,9,    34.7405,2,     638.32,2,       0.26,       0.01,       0.09,       0.01,      0.006,     -999.0,9,    2.05890,2,      0.064,1,      0.000,2,     -999.0,9,     -999.0,9,     -999.0,9,     99.934,     0.0026,2,      0.054,1,      0.485,1,     -999.0,9
49NZ20210713,        P01,      32,          1,         19,     X12S19,2,20210723,       0108,    44.0859,   155.0166,       5307,  1801.1,2,   1.9294,2,  34.5874,2,  34.5873,2,    69.63,2,   69.22,2,  166.18,2,    0.02,2,   41.33,2,    0.00,2,   2.907,2,   0.006,2,   0.008,2,   0.000,2,   0.037,2,  2383.5,2,  2409.3,2,   38.96,2, -999.00,9,    34.7702,2,     638.82,2,       0.26,       0.01,       0.09,       0.01,      0.006,     0.0119,2,    1.92952,2,      0.063,1,      0.000,2,      0.334,1,      0.190,1,      0.034,1,     99.944,     0.0023,2,      0.052,1,      0.472,1,     -999.0,9
49NZ20210713,        P01,      32,          1,         18,     X12S18,2,20210723,       0108,    44.0859,   155.0166,       5307,  2001.1,2,   1.8264,2,  34.6086,2,  34.6087,2,    82.10,2,   81.83,2,  165.51,2,    0.02,2,   40.64,2,    0.00,2,   2.846,2,   0.001,2,   0.003,2,   0.000,2,   0.042,2,  2374.4,2,  2412.2,2,   38.18,2, -999.00,9,    34.7918,2,     639.32,2,       0.26,       0.01,       0.09,       0.01,      0.006,     -999.0,9,    1.82674,2,      0.062,1,      0.000,2,     -999.0,9,     -999.0,9,     -999.0,9,     99.934,     0.0026,2,      0.055,1,      0.458,1,     -999.0,9
49NZ20210713,        P01,      32,          1,         17,     X12S17,2,20210723,       0108,    44.0859,   155.0166,       5307,  2200.8,2,   1.7301,2,  34.6252,2,  34.6249,2,    92.14,2,   91.90,2,  166.29,2,    0.02,2,   39.96,2,    0.00,2,   2.801,2,   0.000,2,   0.001,2,   0.000,2,   0.034,2,  2369.3,2,  2414.0,2,   35.41,2, -999.00,9,    34.8091,2,     639.57,2,       0.26,       0.01,       0.08,       0.01,      0.006,     0.0111,2,    1.73111,2,      0.061,1,      0.000,2,      0.323,1,      0.181,1,      0.032,1,     99.905,     0.0038,2,      0.054,1,      0.455,1,     -999.0,9
49NZ20210713,        P01,      32,          1,         16,     X12S16,2,20210723,       0108,    44.0859,   155.0166,       5307,  2401.3,2,   1.6495,2,  34.6397,2,  34.6399,2,   104.24,2,  103.90,2,  164.44,2,    0.02,2,   39.17,2,    0.00,2,   2.743,2,   0.000,2,   0.000,2,   0.000,2,   0.032,2,  2362.1,6,  2413.3,2,   35.30,2, -999.00,9,    34.8249,2,     639.82,2,       0.26,       0.01,       0.08,       0.01,      0.006,     -999.0,9,    1.64959,2,      0.060,1,      0.000,2,     -999.0,9,     -999.0,9,     -999.0,9,     99.962,     0.0015,2,      0.056,1,      0.440,1,     -999.0,9
49NZ20210713,        P01,      32,          1,         15,     X12S15,2,20210723,       0108,    44.0859,   155.0166,       5307,  2600.6,2,   1.5956,2,  34.6500,2,  34.6503,2,   114.33,2,  114.34,2,  161.44,2,    0.01,2,   38.58,2,    0.00,2,   2.695,2,   0.001,2,   0.002,2,   0.000,2,   0.022,2,  2355.7,2,  2416.9,2,   39.49,2, -999.00,9,    34.8328,2,     640.01,2,       0.25,       0.01,       0.08,       0.01,      0.006,     0.0107,2,    1.59557,2,      0.060,1,      0.000,2,      0.308,1,      0.170,1,      0.029,1,     99.973,     0.0011,2,      0.052,1,      0.435,1,     -999.0,9
49NZ20210713,        P01,      32,          1,         14,     X12S14,2,20210723,       0108,    44.0859,   155.0166,       5307,  2800.7,2,   1.5578,2,  34.6574,2,  34.6576,2,   121.61,2,  121.47,2,  159.63,2,    0.01,2,   38.15,2,    0.00,2,   2.658,2,   0.000,2,   0.000,2,   0.000,2,   0.008,2,  2354.3,2,  2416.9,2,   36.11,2, -999.00,9,    34.8381,2,     640.12,2,       0.25,       0.01,       0.08,       0.01,      0.006,     -999.0,9,    1.55791,2,      0.059,1,      0.000,2,     -999.0,9,     -999.0,9,     -999.0,9,     99.969,     0.0012,2,      0.055,1,      0.424,1,     -999.0,9
49NZ20210713,        P01,      32,          1,         13,     X12S13,2,20210723,       0108,    44.0859,   155.0166,       5307,  3000.5,2,   1.5238,2,  34.6637,2,  34.6614,2,   128.35,2,  128.36,2,  157.88,2,    0.04,2,   37.56,2,    0.00,2,   2.611,2,   0.000,2,   0.000,2,   0.000,2,   0.000,2,  2349.4,2,  2416.8,2,   41.24,2, -999.00,9,    34.8486,2,     640.32,2,       0.25,       0.01,       0.08,       0.01,      0.006,     0.0103,2,    1.52376,2,      0.059,1,      0.000,2,      0.287,1,      0.160,1,      0.024,1,     99.973,     0.0011,2,      0.050,1,      0.414,1,     -999.0,9
49NZ20210713,        P01,      32,          1,         12,     X12S12,2,20210723,       0108,    44.0859,   155.0166,       5307,  3250.7,2,   1.4918,2,  34.6701,2,  34.6699,3,   135.77,2,  135.25,2,  155.93,2,    0.03,2,   37.16,2,    0.00,2,   2.575,2,   0.000,2,   0.000,2,   0.000,2,   0.000,2,  2343.3,2,  2411.5,6,   33.27,2, -999.00,9,    34.8524,2,     640.37,2,       0.25,       0.01,       0.08,       0.01,      0.006,     -999.0,9,    1.49163,2,      0.058,1,      0.000,2,     -999.0,9,     -999.0,9,     -999.0,9,     99.976,     0.0010,2,      0.051,1,      0.395,1,     -999.0,9
49NZ20210713,        P01,      32,          1,         11,     X12S11,2,20210723,       0108,    44.0859,   155.0166,       5307,  3500.9,2,   1.4737,2,  34.6750,2,  34.6745,2,   141.24,2,  140.94,2,  154.58,2,    0.02,2,   36.80,2,    0.00,2,   2.549,2,   0.000,2,   0.001,2,   0.000,2,   0.000,2,  2338.9,2,  2411.4,2,   42.72,2, -999.00,9,    34.8576,2,     640.47,2,       0.24,       0.01,       0.08,       0.01,      0.006,     0.0098,2,    1.47372,2,      0.058,1,      0.000,2,      0.305,1,      0.172,1,      0.031,1,     99.976,     0.0010,2,      0.052,1,      0.378,1,     -999.0,9
49NZ20210713,        P01,      32,          1,         10,     X12S10,2,20210723,       0108,    44.0859,   155.0166,       5307,  3750.2,2,   1.4613,2,  34.6790,2,  34.6792,2,   146.23,2,  145.79,2,  153.45,2,    0.01,2,   36.55,2,    0.00,2,   2.525,2,   0.000,2,   0.001,2,   0.000,2,   0.000,2,  2334.4,2,  2413.8,2,   37.56,2, -999.00,9,    34.8631,2,     640.57,2,       0.24,       0.01,       0.08,       0.01,      0.006,     -999.0,9,    1.46133,2,      0.057,1,      0.000,2,     -999.0,9,     -999.0,9,     -999.0,9,     99.987,     0.0005,2,      0.051,1,      0.373,1,     -999.0,9
49NZ20210713,        P01,      32,          1,          9,     X12S09,2,20210723,       0108,    44.0859,   155.0166,       5307,  4001.3,2,   1.4610,2,  34.6820,2,  34.6807,2,   149.88,2,  149.23,2,  152.40,2,    0.02,2,   36.28,2,    0.00,2,   2.505,2,   0.000,2,   0.001,2,   0.000,2,   0.000,2,  2333.3,2,  2411.6,2,   37.83,2, -999.00,9,    34.8651,2,     640.62,2,       0.24,       0.01,       0.08,       0.01,      0.006,     0.0101,2,    1.46098,2,      0.057,1,      0.000,2,      0.351,1,      0.214,1,      0.045,1,     99.985,     0.0006,2,      0.050,1,      0.376,1,     -999.0,9
49NZ20210713,        P01,      32,          1,          8,     X12S08,2,20210723,       0108,    44.0859,   155.0166,       5307,  4250.0,2,   1.4651,2,  34.6844,2,  34.6838,2,   152.96,2,  152.32,2,  151.69,2,    0.01,2,   36.12,2,    0.00,2,   2.490,2,   0.000,2,   0.000,2,   0.000,2,   0.000,2,  2331.9,6,  2410.9,2,   35.12,2, -999.00,9,    34.8664,2,     640.66,2,       0.24,       0.01,       0.08,       0.01,      0.006,     -999.0,9,    1.46507,2,      0.056,1,      0.000,2,     -999.0,9,     -999.0,9,     -999.0,9,     99.980,     0.0008,2,      0.052,1,      0.387,1,     -999.0,9
49NZ20210713,        P01,      32,          1,          7,     X12S07,2,20210723,       0108,    44.0859,   155.0166,       5307,  4500.4,2,   1.4752,2,  34.6863,2,  34.6856,2,   155.43,2,  154.82,2,  151.02,2,    0.02,2,   35.88,2,    0.00,2,   2.475,2,   0.000,2,   0.001,2,   0.000,2,   0.000,2,  2327.9,2,  2410.6,2,   36.86,2, -999.00,9,    34.8708,2,     640.62,2,       0.24,       0.01,       0.08,       0.01,      0.006,     0.0100,2,    1.47512,2,      0.056,1,      0.000,2,      0.642,3,      0.450,3,      0.130,3,     99.985,     0.0006,2,      0.056,1,      0.393,1,     -999.0,9