BOTTLE,20231011CCHSIOENA
EXPOCODE,SECT_ID,STNNBR,CASTNO,SAMPNO,BTLNBR,BTLNBR_FLAG_W,DATE,TIME,LATITUDE,LONGITUDE,DEPTH,CTDPRS,CTDPRS_FLAG_W,CTDTMP,CTDTMP_FLAG_W,CTDSAL,CTDSAL_FLAG_W,SALNTY,SALNTY_FLAG_W,CTDOXY,CTDOXY_FLAG_W,OXYGEN,OXYGEN_FLAG_W,SILCAT,SILCAT_FLAG_W,NH4,NH4_FLAG_W,NITRAT,NITRAT_FLAG_W,NITRIT,NITRIT_FLAG_W,PHSPHT,PHSPHT_FLAG_W,CFC-11,CFC-11_FLAG_W,CFC-12,CFC-12_FLAG_W,CFC113,CFC113_FLAG_W,SF6,SF6_FLAG_W,TCARBN,TCARBN_FLAG_W,ALKALI,ALKALI_FLAG_W,DOC,DOC_FLAG_W,TDN,TDN_FLAG_W,DNSSAL,DNSSAL_FLAG_W,RIANOMALY,RIANOMALY_FLAG_W,SILUNC,NH4UNC,NRAUNC,NRIUNC,PHPUNC,FDOM,FDOM_FLAG_W,REFTMP,REFTMP_FLAG_W,CTDFLUOR,CTDFLUOR_FLAG_W,PAR,PAR_FLAG_W,CDOM300,CDOM300_FLAG_W,CDOM325,CDOM325_FLAG_W,CDOM443,CDOM443_FLAG_W,CTDXMISS,CTDBEAMCP,CTDBEAMCP_FLAG_W,CTDTURB,CTDTURB_FLAG_W,CTDCDOM,CTDCDOM_FLAG_W,CHLORA,CHLORA_FLAG_W
,,,,,,,,,,,METERS,DBAR,,ITS-90,,PSS-78,,PSS-78,,UMOL/KG,,UMOL/KG,,UMOL/KG,,UMOL/KG,,UMOL/KG,,UMOL/KG,,UMOL/KG,,PMOL/KG,,PMOL/KG,,PMOL/KG,,FMOL/KG,,UMOL/KG,,UMOL/KG,,UMOL/KG,,UMOL/KG,,G/KG,,ND,,UMOL/KG,UMOL/KG,UMOL/KG,UMOL/KG,UMOL/KG,RFU,,ITS-90,,MG/M^3,,UMOL/M^2/SEC,,/METER,,/METER,,/METER,,%TRANS,/METER,,FTU,,QSU,,UG/L,
49NZ20210713,        P01,      21,          1,         36,     X12S36,2,20210719,       2040,    40.0281,   148.4028,       5459,    10.7,2,  19.8422,2,  34.3130,2,  34.3262,2,   240.23,2,  240.94,2,    3.90,2,    0.02,2,    0.07,2,    0.01,2,   0.052,2,   2.173,2,   1.325,2,   0.151,2,   2.213,2,  2006.9,2,  2263.8,2,   61.57,2, -999.00,9,    34.4875,2,     633.92,2,       0.05,       0.01,       0.01,       0.01,      0.003,     0.0031,2,   19.84707,2,      0.263,1,    130.086,2,      0.330,1,      0.190,1,      0.023,1,     97.624,     0.0962,2,      0.161,1,      0.251,1,       0.24,2
49NZ20210713,        P01,      21,          1,          2,     X12B34,2,20210719,       2040,    40.0281,   148.4028,       5459,    42.5,2,  15.6694,2,  34.5564,2,  34.5419,2,   190.61,2,  189.67,2,   12.33,2,    0.04,2,    8.75,2,    0.25,2,   0.628,2,-999.000,9,-999.000,9,-999.000,9,-999.000,9,  2086.4,2,  2277.4,2,   54.02,2, -999.00,9,    34.7045,2,     637.77,2,       0.05,       0.01,       0.03,       0.01,      0.004,     0.0054,2,   15.67377,2,      0.910,1,      7.326,2,      0.385,1,      0.252,1,      0.059,1,     98.239,     0.0711,2,      0.131,1,      0.310,1,       0.59,2
49NZ20210713,        P01,      21,          1,         35,     X12S35,2,20210719,       2040,    40.0281,   148.4028,       5459,    51.0,2,  14.9116,2,  34.5158,2,  34.5158,2,   208.28,2,  199.19,2,   12.15,2,    0.03,2,    8.94,2,    0.06,2,   0.633,2,   2.459,2,   1.465,2,   0.107,2,   2.221,2,  2081.4,2,  2279.7,2,   55.45,2, -999.00,9,    34.6781,2,     637.32,2,       0.05,       0.01,       0.03,       0.01,      0.004,     0.0056,2,   14.91500,2,      0.429,1,      3.738,2,      0.259,1,      0.150,1,      0.022,1,     99.036,     0.0387,2,      0.103,1,      0.312,1,       0.29,2
49NZ20210713,        P01,      21,          1,         34,     X12S34,2,20210719,       2040,    40.0281,   148.4028,       5459,   100.4,2,  12.5477,2,  34.3973,2,  34.3787,2,   173.70,2,  174.71,2,   22.67,2,    0.01,2,   14.85,2,    0.03,2,   1.049,2,   2.471,2,   1.445,2,   0.068,2,   1.684,2,  2124.2,2,  2281.9,2,   49.13,2, -999.00,9,    34.5409,2,     634.87,2,       0.07,       0.01,       0.04,       0.01,      0.004,     0.0070,2,   12.54817,2,      0.071,1,      0.336,2,      0.266,1,      0.153,1,      0.023,1,     99.706,     0.0118,2,      0.083,1,      0.347,1,       0.03,2
49NZ20210713,        P01,      21,          1,         33,     X12S33,2,20210719,       2040,    40.0281,   148.4028,       5459,   150.4,2,   9.7848,2,  34.1635,2,  34.1626,2,   243.37,2,  241.77,2,   19.20,2,    0.03,2,   12.97,2,    0.01,2,   0.939,2,   3.152,2,   1.825,2,   0.200,2,   2.738,2,  2111.1,2,  2267.3,2,   50.12,2, -999.00,9,    34.3247,2,     630.92,2,       0.06,       0.01,       0.04,       0.01,      0.004,     0.0056,2,    9.78331,2,      0.059,1,      0.000,2,      0.293,1,      0.162,1,      0.021,1,     99.692,     0.0123,2,      0.080,1,      0.312,1,       0.02,2
49NZ20210713,        P01,      21,          1,         32,     X12S32,2,20210719,       2040,    40.0281,   148.4028,       5459,   199.3,2,   8.5216,2,  34.0200,2,  34.0125,2,   237.60,2,  236.18,2,   24.81,2,    0.02,2,   15.53,2,    0.01,2,   1.137,2,   3.305,2,   1.877,2,   0.208,2,   2.648,2,  2128.6,2,  2264.3,2,   51.87,2, -999.00,9,    34.1756,2,     628.22,2,       0.07,       0.01,       0.04,       0.01,      0.004,     0.0066,2,    8.52444,2,      0.060,1,      0.000,2,      0.339,1,      0.190,1,      0.028,1,     99.674,     0.0131,2,      0.086,1,      0.346,1,       0.02,2
49NZ20210713,        P01,      21,          1,         31,     X12S31,2,20210719,       2040,    40.0281,   148.4028,       5459,   251.2,2,   6.5658,2,  33.8175,2,  33.8173,2,   229.53,2,  228.01,2,   36.29,2,    0.02,2,   20.55,2,    0.02,2,   1.530,2,   3.566,2,   1.988,2,   0.209,2,   2.802,2,  2159.7,2,  2262.9,2,   51.91,2, -999.00,9,    33.9811,2,     624.62,2,       0.08,       0.01,       0.05,       0.01,      0.005,     0.0077,2,    6.56538,2,      0.058,1,      0.000,2,      0.374,1,      0.211,1,      0.031,1,     99.694,     0.0122,2,      0.079,1,      0.397,1,       0.02,2
49NZ20210713,        P01,      21,          1,         30,     X12S30,2,20210719,       2040,    40.0281,   148.4028,       5459,   330.5,2,   5.2402,2,  33.8394,2,  33.8426,2,   165.82,2,  165.84,2,   58.58,2,    0.03,2,   28.92,2,    0.02,2,   2.122,2,   3.084,2,   1.697,2,   0.167,2,   1.983,2,  2215.6,2,  2279.2,2,   47.88,2, -999.00,9,    34.0081,2,     625.12,2,       0.11,       0.01,       0.06,       0.01,      0.005,     0.0094,2,    5.24040,2,      0.063,1,      0.000,2,      0.397,1,      0.235,1,      0.042,1,     99.706,     0.0118,2,      0.079,1,      0.457,1,     -999.0,9
49NZ20210713,        P01,      21,          1,         29,     X12S29,2,20210719,       2040,    40.0281,   148.4028,       5459,   430.0,2,   4.7132,2,  33.9651,2,  33.9622,2,   112.85,2,  111.57,2,   77.96,2,    0.02,2,   34.44,2,    0.00,2,   2.501,2,   2.337,2,   1.268,2,   0.116,2,   1.311,2,  2264.9,2,  2300.1,2,   47.51,2, -999.00,9,    34.1321,2,     627.32,2,       0.14,       0.01,       0.07,       0.01,      0.007,     0.0106,2,    4.71467,2,      0.065,1,      0.000,2,      0.390,1,      0.233,1,      0.042,1,     99.800,     0.0080,2,      0.070,1,      0.485,1,     -999.0,9
49NZ20210713,        P01,      21,          1,         28,     X12S28,2,20210719,       2040,    40.0281,   148.4028,       5459,   528.7,2,   5.0094,2,  34.1696,2,  34.1695,2,    78.63,2,   77.94,2,   89.78,2,    0.01,2,   36.53,2,    0.00,2,   2.628,2,   1.351,2,   0.738,2,   0.046,2,   0.555,2,  2290.7,2,  2319.5,2,   44.82,2, -999.00,9,    34.3425,2,     631.22,2,       0.16,       0.01,       0.08,       0.01,      0.006,     0.0113,2,    5.00926,2,      0.065,1,      0.000,2,      0.354,1,      0.209,1,      0.038,1,     99.917,     0.0033,2,      0.060,1,      0.497,1,     -999.0,9
49NZ20210713,        P01,      21,          1,         27,     X12S27,2,20210719,       2040,    40.0281,   148.4028,       5459,   629.2,2,   3.5219,2,  34.1022,2,  34.1026,2,    38.56,2,   38.47,2,  115.38,2,    0.01,2,   42.24,2,    0.01,2,   3.035,2,   1.300,2,   0.698,2,   0.072,2,   0.550,2,  2341.8,2,  2325.9,2,   42.31,2, -999.00,9,    34.2765,2,     629.92,2,       0.19,       0.01,       0.09,       0.01,      0.006,     0.0125,2,    3.52172,2,      0.072,1,      0.000,2,      0.434,1,      0.258,1,      0.051,1,     99.731,     0.0108,2,      0.068,1,      0.544,1,     -999.0,9
49NZ20210713,        P01,      21,          1,         26,     X12S26,2,20210719,       2040,    40.0281,   148.4028,       5459,   728.8,2,   3.4072,2,  34.1955,2,  34.1958,2,    31.98,2,   31.95,2,  124.54,2,    0.02,2,   42.69,2,    0.01,2,   3.065,2,   0.880,2,   0.481,2,   0.048,2,   0.311,2,  2355.9,6,  2336.5,2,   40.86,2, -999.00,9,    34.3715,2,     631.62,2,       0.20,       0.01,       0.09,       0.01,      0.011,     -999.0,9,    3.40700,2,      0.072,1,      0.000,2,     -999.0,9,     -999.0,9,     -999.0,9,     99.715,     0.0114,2,      0.066,1,      0.546,1,     -999.0,9
49NZ20210713,        P01,      21,          1,         25,     X12S25,2,20210719,       2040,    40.0281,   148.4028,       5459,   831.9,2,   3.5561,2,  34.3180,2,  34.3180,2,    43.75,2,   43.66,2,  124.67,2,    0.02,2,   41.27,2,    0.00,2,   2.940,2,   0.458,2,   0.268,2,   0.016,2,   0.161,2,  2349.5,2,  2355.0,2,   40.82,2, -999.00,9,    34.4935,2,     633.87,2,       0.20,       0.01,       0.09,       0.01,      0.006,     0.0124,2,    3.55587,2,      0.068,1,      0.000,2,      0.466,1,      0.292,1,      0.063,1,     99.852,     0.0059,2,      0.062,1,      0.530,1,     -999.0,9
49NZ20210713,        P01,      21,          1,         24,     X12S24,2,20210719,       2040,    40.0281,   148.4028,       5459,   931.1,2,   3.0401,2,  34.3271,2,  34.3266,2,    32.69,2,   32.28,2,  138.77,2,    0.02,2,   42.64,2,    0.01,2,   3.053,2,   0.425,2,   0.248,2,   0.022,2,   0.166,2,  2368.6,2,  2365.3,2,   38.03,2, -999.00,9,    34.5027,2,     633.97,2,       0.22,       0.01,       0.09,       0.01,      0.006,     -999.0,9,    3.03996,2,      0.070,1,      0.000,2,     -999.0,9,     -999.0,9,     -999.0,9,     99.788,     0.0085,2,      0.063,1,      0.541,1,     -999.0,9
49NZ20210713,        P01,      21,          1,         23,     X12S23,2,20210719,       2040,    40.0281,   148.4028,       5459,  1071.4,2,   2.7648,2,  34.3931,2,  34.3925,2,    33.06,2,   32.68,2,  147.92,2,    0.02,2,   42.88,2,    0.01,2,   3.072,2,   0.256,2,   0.152,2,   0.013,2,   0.095,2,  2376.8,2,  2374.3,2,   39.79,2, -999.00,9,    34.5706,2,     635.27,2,       0.23,       0.01,       0.09,       0.01,      0.006,     0.0127,2,    2.76470,2,      0.068,1,      0.000,2,      0.381,1,      0.225,1,      0.042,1,     99.811,     0.0076,2,      0.064,1,      0.538,1,     -999.0,9
49NZ20210713,        P01,      21,          1,         22,     X12S22,2,20210719,       2040,    40.0281,   148.4028,       5459,  1270.5,2,   2.5157,2,  34.4563,2,  34.4558,2,    38.09,2,   37.86,2,  155.10,2,    0.03,2,   42.75,2,    0.00,2,   3.059,2,   0.145,2,   0.091,2,   0.008,2,   0.084,2,  2382.7,2,  2384.7,6,   41.96,4, -999.00,9,    34.6331,2,     636.42,2,       0.24,       0.01,       0.09,       0.01,      0.006,     -999.0,9,    2.51599,2,      0.066,1,      0.000,2,     -999.0,9,     -999.0,9,     -999.0,9,     99.816,     0.0074,2,      0.063,1,      0.537,1,     -999.0,9
49NZ20210713,        P01,      21,          1,         21,     X12S21,2,20210719,       2040,    40.0281,   148.4028,       5459,  1469.5,2,   2.3188,2,  34.5019,2,  34.5022,2,    45.08,2,   44.71,2,  159.93,2,    0.02,2,   42.58,2,    0.00,2,   3.024,2,   0.083,2,   0.050,2,   0.006,2,   0.036,2,  2385.0,2,  2394.9,2,   39.24,2, -999.00,9,    34.6807,2,     637.27,2,       0.25,       0.01,       0.09,       0.01,      0.006,     0.0122,2,    2.31886,2,      0.065,1,      0.000,2,      0.392,1,      0.237,1,      0.050,1,     99.848,     0.0061,2,      0.062,1,      0.532,1,     -999.0,9
49NZ20210713,        P01,      21,          1,         20,     X12S20,2,20210719,       2040,    40.0281,   148.4028,       5459,  1670.0,2,   2.1670,2,  34.5399,2,  34.5398,2,    55.13,2,   54.72,2,  162.09,2,    0.02,2,   41.99,2,    0.00,2,   2.982,2,   0.051,2,   0.030,2,   0.002,2,   0.056,2,  2381.8,2,  2403.1,2,   39.24,2, -999.00,9,    34.7192,2,     637.97,2,       0.25,       0.01,       0.09,       0.01,      0.006,     -999.0,9,    2.16699,2,      0.063,1,      0.000,2,     -999.0,9,     -999.0,9,     -999.0,9,     99.825,     0.0070,2,      0.060,1,      0.529,1,     -999.0,9
49NZ20210713,        P01,      21,          1,         19,     X12S19,2,20210719,       2040,    40.0281,   148.4028,       5459,  1870.1,2,   2.0396,2,  34.5704,2,  34.5707,2,    64.67,2,   64.38,2,  163.37,2,    0.02,2,   41.47,2,    0.00,2,   2.937,2,   0.020,2,   0.011,2,   0.001,2,   0.053,2,  2379.5,2,  2403.7,2,   37.42,2, -999.00,9,    34.7512,2,     638.57,2,       0.26,       0.01,       0.09,       0.01,      0.006,     0.0118,2,    2.03966,2,      0.063,1,      0.000,2,      0.348,1,      0.201,1,      0.037,1,     99.859,     0.0056,2,      0.063,1,      0.516,1,     -999.0,9
49NZ20210713,        P01,      21,          1,         18,     X12S18,2,20210719,       2040,    40.0281,   148.4028,       5459,  2070.6,2,   1.9127,2,  34.5978,2,  34.5979,2,    77.76,2,   77.45,2,  163.12,2,    0.01,2,   40.75,2,    0.00,2,   2.874,2,   0.004,2,   0.003,2,   0.001,2,   0.053,2,  2371.6,2,  2407.6,2,   40.73,2, -999.00,9,    34.7787,2,     639.02,2,       0.25,       0.01,       0.09,       0.01,      0.006,     -999.0,9,    1.91273,2,      0.061,1,      0.000,2,     -999.0,9,     -999.0,9,     -999.0,9,     99.878,     0.0049,2,      0.057,1,      0.502,1,     -999.0,9
49NZ20210713,        P01,      21,          1,         17,     X12S17,2,20210719,       2040,    40.0281,   148.4028,       5459,  2270.2,2,   1.8071,2,  34.6170,2,  34.6172,2,    89.31,2,   88.90,2,  163.21,2,    0.00,2,   40.05,2,    0.00,2,   2.823,2,   0.001,2,   0.001,2,   0.001,2,   0.095,2,  2366.0,2,  2410.7,2,   38.90,2, -999.00,9,    34.7967,2,     639.32,2,       0.26,       0.01,       0.08,       0.01,      0.009,     0.0108,2,    1.80710,2,      0.059,1,      0.000,2,      0.337,1,      0.193,1,      0.038,1,     99.896,     0.0042,2,      0.059,1,      0.495,1,     -999.0,9
49NZ20210713,        P01,      21,          1,         16,     X12S16,2,20210719,       2040,    40.0281,   148.4028,       5459,  2470.6,2,   1.7229,2,  34.6319,2,  34.6319,2,   100.11,2,  100.22,2,  161.91,2,    0.01,2,   39.35,2,    0.00,2,   2.768,2,   0.004,2,   0.002,2,   0.002,2,   0.037,2,  2362.8,6,  2415.5,2,   40.19,2, -999.00,9,    34.8126,2,     639.62,2,       0.25,       0.01,       0.08,       0.01,      0.006,     -999.0,9,    1.72285,2,      0.058,1,      0.000,2,     -999.0,9,     -999.0,9,     -999.0,9,     99.880,     0.0048,2,      0.057,1,      0.491,1,     -999.0,9
49NZ20210713,        P01,      21,          1,         15,     X12S15,2,20210719,       2040,    40.0281,   148.4028,       5459,  2670.1,2,   1.6524,2,  34.6442,2,  34.6443,2,   110.12,2,  110.10,2,  160.63,2,    0.00,2,   38.75,2,    0.00,2,   2.724,2,   0.002,2,   0.001,2,   0.002,2,   0.074,2,  2355.3,2,  2414.6,2,   39.45,2, -999.00,9,    34.8244,2,     639.82,2,       0.25,       0.01,       0.08,       0.01,      0.006,     0.0106,2,    1.65271,2,      0.058,1,      0.000,2,      0.303,1,      0.169,1,      0.028,1,     99.942,     0.0023,2,      0.054,1,      0.480,1,     -999.0,9
49NZ20210713,        P01,      21,          1,         14,     X12S14,2,20210719,       2040,    40.0281,   148.4028,       5459,  2870.4,2,   1.5959,2,  34.6538,2,  34.6541,2,   118.95,2,  118.99,2,  159.12,2,    0.01,2,   38.20,2,    0.00,2,   2.677,2,   0.000,2,   0.000,2,   0.001,2,   0.083,2,  2353.1,2,  2411.8,2,   38.34,2, -999.00,9,    34.8343,2,     640.07,2,       0.25,       0.01,       0.08,       0.01,      0.006,     -999.0,9,    1.59593,2,      0.057,1,      0.000,2,     -999.0,9,     -999.0,9,     -999.0,9,     99.949,     0.0021,2,      0.066,1,      0.482,1,     -999.0,9
49NZ20210713,        P01,      21,          1,         13,     X12S13,2,20210719,       2040,    40.0281,   148.4028,       5459,  3081.4,2,   1.5527,2,  34.6615,2,  34.6613,2,   126.80,2,  126.94,2,  156.93,2,    0.01,2,   37.57,2,    0.00,2,   2.612,2,   0.000,2,   0.000,2,   0.000,2,   0.021,2,  2346.4,2,  2411.6,2,   36.45,2, -999.00,9,    34.8422,2,     640.17,2,       0.25,       0.01,       0.08,       0.01,      0.006,     0.0097,2,    1.55262,2,      0.055,1,      0.000,2,      0.294,1,      0.165,1,      0.030,1,     99.926,     0.0030,2,      0.059,1,      0.473,1,     -999.0,9
49NZ20210713,        P01,      21,          1,         12,     X12S12,2,20210719,       2040,    40.0281,   148.4028,       5459,  3330.0,2,   1.5141,2,  34.6688,2,  34.6679,2,   134.53,2,  134.60,2,  155.43,2,    0.02,2,   37.14,2,    0.00,2,   2.581,2,   0.000,2,   0.000,2,   0.000,2,   0.017,2,  2339.9,2,  2416.4,6,   35.78,2, -999.00,9,    34.8488,2,     640.27,2,       0.24,       0.01,       0.08,       0.01,      0.006,     -999.0,9,    1.51405,2,      0.055,1,      0.000,2,     -999.0,9,     -999.0,9,     -999.0,9,     99.926,     0.0030,2,      0.056,1,      0.463,1,     -999.0,9
49NZ20210713,        P01,      21,          1,         11,     X12S11,2,20210719,       2040,    40.0281,   148.4028,       5459,  3580.5,2,   1.4910,2,  34.6741,2,  34.6739,2,   140.52,2,  140.40,2,  153.98,2,    0.02,2,   36.80,2,    0.00,2,   2.558,2,   0.003,2,   0.001,2,   0.000,2,   0.015,2,  2337.3,2,  2412.2,2,   38.59,2, -999.00,9,    34.8541,2,     640.37,2,       0.24,       0.01,       0.08,       0.01,      0.006,     0.0096,2,    1.49101,2,      0.054,1,      0.000,2,      0.301,1,      0.170,1,      0.030,1,     99.910,     0.0036,2,      0.054,1,      0.455,1,     -999.0,9
49NZ20210713,        P01,      21,          1,         10,     X12S10,2,20210719,       2040,    40.0281,   148.4028,       5459,  3831.3,2,   1.4801,2,  34.6781,2,  34.6780,2,   145.43,2,  145.04,2,  152.51,2,    0.02,2,   36.53,2,    0.00,2,   2.534,2,   0.000,2,   0.000,2,   0.000,2,   0.000,2,  2334.7,2,  2412.1,2,   36.17,2, -999.00,9,    34.8574,2,     640.47,2,       0.28,       0.01,       0.08,       0.01,      0.006,     -999.0,9,    1.48008,2,      0.054,1,      0.000,2,     -999.0,9,     -999.0,9,     -999.0,9,     99.928,     0.0029,2,      0.056,1,      0.445,1,     -999.0,9
49NZ20210713,        P01,      21,          1,          9,     X12S09,2,20210719,       2040,    40.0281,   148.4028,       5459,  4080.0,2,   1.4722,2,  34.6817,2,  34.6817,2,   149.90,2,  149.61,2,  151.15,2,    0.02,2,   36.21,2,    0.00,2,   2.509,2,   0.154,4,   0.386,4,   0.061,4,   9.101,4,  2330.4,2,  2412.2,2,   33.88,2, -999.00,9,    34.8614,2,     640.47,2,       0.24,       0.01,       0.08,       0.01,      0.006,     0.0093,2,    1.47226,2,      0.053,1,      0.000,2,      0.286,1,      0.164,1,      0.028,1,     99.921,     0.0032,2,      0.053,1,      0.448,1,     -999.0,9
49NZ20210713,        P01,      21,          1,          8,     X12S08,2,20210719,       2040,    40.0281,   148.4028,       5459,  4330.6,2,   1.4758,2,  34.6841,2,  34.6845,2,   153.02,2,  152.59,2,  150.35,2,    0.01,2,   35.96,2,    0.00,2,   2.489,2,   0.001,2,   0.000,2,   0.000,2,   0.006,2,  2327.5,6,  2412.8,2,   35.45,2, -999.00,9,    34.8642,2,     640.62,2,       0.27,       0.01,       0.08,       0.01,      0.006,     -999.0,9,    1.47572,2,      0.052,1,      0.000,2,     -999.0,9,     -999.0,9,     -999.0,9,     99.953,     0.0019,2,      0.052,1,      0.423,1,     -999.0,9
49NZ20210713,        P01,      21,          1,          7,     X12S07,2,20210719,       2040,    40.0281,   148.4028,       5459,  4581.8,2,   1.4861,2,  34.6861,2,  34.6861,2,   155.39,2,  155.01,2,  149.97,2,    0.02,2,   35.83,2,    0.00,2,   2.479,2,   0.003,2,   0.001,2,   0.000,2,   0.044,2,  2322.9,2,  2411.5,2,   35.96,2, -999.00,9,    34.8652,2,     640.57,2,       0.24,       0.01,       0.08,       0.01,      0.006,     0.0092,2,    1.48619,2,      0.052,1,      0.000,2,      0.281,1,      0.156,1,      0.026,1,     99.891,     0.0043,2,      0.051,1,      0.389,1,     -999.0,9