BOTTLE,20231011CCHSIOENA
EXPOCODE,SECT_ID,STNNBR,CASTNO,SAMPNO,BTLNBR,BTLNBR_FLAG_W,DATE,TIME,LATITUDE,LONGITUDE,DEPTH,CTDPRS,CTDPRS_FLAG_W,CTDTMP,CTDTMP_FLAG_W,CTDSAL,CTDSAL_FLAG_W,SALNTY,SALNTY_FLAG_W,CTDOXY,CTDOXY_FLAG_W,OXYGEN,OXYGEN_FLAG_W,SILCAT,SILCAT_FLAG_W,NH4,NH4_FLAG_W,NITRAT,NITRAT_FLAG_W,NITRIT,NITRIT_FLAG_W,PHSPHT,PHSPHT_FLAG_W,CFC-11,CFC-11_FLAG_W,CFC-12,CFC-12_FLAG_W,CFC113,CFC113_FLAG_W,SF6,SF6_FLAG_W,TCARBN,TCARBN_FLAG_W,ALKALI,ALKALI_FLAG_W,DOC,DOC_FLAG_W,TDN,TDN_FLAG_W,DNSSAL,DNSSAL_FLAG_W,RIANOMALY,RIANOMALY_FLAG_W,SILUNC,NH4UNC,NRAUNC,NRIUNC,PHPUNC,FDOM,FDOM_FLAG_W,REFTMP,REFTMP_FLAG_W,CTDFLUOR,CTDFLUOR_FLAG_W,PAR,PAR_FLAG_W,CDOM300,CDOM300_FLAG_W,CDOM325,CDOM325_FLAG_W,CDOM443,CDOM443_FLAG_W,CTDXMISS,CTDBEAMCP,CTDBEAMCP_FLAG_W,CTDTURB,CTDTURB_FLAG_W,CTDCDOM,CTDCDOM_FLAG_W,CHLORA,CHLORA_FLAG_W
,,,,,,,,,,,METERS,DBAR,,ITS-90,,PSS-78,,PSS-78,,UMOL/KG,,UMOL/KG,,UMOL/KG,,UMOL/KG,,UMOL/KG,,UMOL/KG,,UMOL/KG,,PMOL/KG,,PMOL/KG,,PMOL/KG,,FMOL/KG,,UMOL/KG,,UMOL/KG,,UMOL/KG,,UMOL/KG,,G/KG,,ND,,UMOL/KG,UMOL/KG,UMOL/KG,UMOL/KG,UMOL/KG,RFU,,ITS-90,,MG/M^3,,UMOL/M^2/SEC,,/METER,,/METER,,/METER,,%TRANS,/METER,,FTU,,QSU,,UG/L,
49NZ20210713,        P01,      46,          1,          5,     X12S05,2,20210729,       0505,    46.9903,   168.3797,       6242,  5080.8,2,   1.5511,2,  34.6862,2,  34.6853,2,   154.53,2,  154.61,2,  152.07,2,    0.01,2,   36.01,2,    0.00,2,   2.486,2,   0.005,2,   0.003,2,   0.000,2,   0.000,2,  2326.7,2,  2411.7,2,   35.65,2, -999.00,9,    34.8677,2,     640.82,2,       0.24,       0.01,       0.08,       0.01,      0.006,     0.0100,2,    1.55097,2,      0.054,1,      0.000,2,      0.280,1,      0.151,1,      0.022,1,     99.970,     0.0012,2,      0.046,1,      0.360,1,     -999.0,9
49NZ20210713,        P01,      46,          1,          4,     X12S04,2,20210729,       0505,    46.9903,   168.3797,       6242,  5329.3,2,   1.5725,2,  34.6874,2,  34.6873,2,   155.90,2,  155.86,2,  151.85,2,    0.01,2,   35.95,2,    0.00,2,   2.482,2,   0.002,2,   0.001,2,   0.000,2,   0.000,2,  2324.6,2,  2411.8,2,   36.75,2, -999.00,9,    34.8680,2,     640.92,2,       0.24,       0.01,       0.08,       0.01,      0.006,     0.0094,2,    1.57231,2,      0.054,1,      0.000,2,      0.276,1,      0.151,1,      0.023,1,     99.965,     0.0014,2,      0.045,1,      0.373,1,     -999.0,9
49NZ20210713,        P01,      46,          1,          3,     X12S03,2,20210729,       0505,    46.9903,   168.3797,       6242,  5580.7,2,   1.5981,2,  34.6883,2,  34.6876,2,   156.77,2,  156.90,2,  152.09,2,    0.00,2,   35.92,2,    0.00,2,   2.475,2,   0.003,2,   0.002,2,   0.000,2,   0.020,2,  2324.8,2,  2417.9,2,   37.52,2, -999.00,9,    34.8702,2,     640.92,2,       0.24,       0.01,       0.08,       0.01,      0.006,     0.0094,2,    1.59794,2,      0.054,1,      0.000,2,      0.294,1,      0.158,1,      0.030,1,     99.952,     0.0019,2,      0.046,1,      0.374,1,     -999.0,9
49NZ20210713,        P01,      46,          1,          2,     X12B34,2,20210729,       0505,    46.9903,   168.3797,       6242,  5830.1,2,   1.6275,2,  34.6889,2,  34.6882,2,   157.23,2,  157.28,2,  152.65,2,    0.00,2,   35.88,2,    0.00,2,   2.476,2,   0.006,2,   0.003,2,   0.000,2,   0.000,2,  2323.1,2,  2415.8,2,   36.13,2, -999.00,9,    34.8699,2,     640.87,2,       0.24,       0.01,       0.08,       0.01,      0.006,     0.0094,2,    1.62748,2,      0.053,1,      0.000,2,      0.294,1,      0.158,1,      0.026,1,     99.928,     0.0029,2,      0.048,1,      0.384,1,     -999.0,9
49NZ20210713,        P01,      46,          1,          1,     X12S01,2,20210729,       0505,    46.9903,   168.3797,       6242,  6099.5,2,   1.6631,2,  34.6890,2,  34.6882,2,   157.40,2,  157.58,2,  153.19,2,    0.02,2,   35.85,2,    0.00,2,   2.474,2,   0.005,2,   0.003,2,   0.000,2,   0.000,2,  2323.7,2,  2413.0,2,   36.86,2, -999.00,9,    34.8720,2,     640.97,2,       0.24,       0.01,       0.08,       0.01,      0.006,     0.0094,2,    1.66294,2,      0.053,1,      0.000,2,      0.281,1,      0.154,1,      0.023,1,     99.889,     0.0044,2,      0.049,1,      0.370,1,     -999.0,9
49NZ20210713,        P01,      47,          1,          2,     X12B34,2,20210729,       1144,    46.9870,   168.9953,       5198,    30.0,2,   8.2209,2,  32.9174,2,-999.0000,9,   313.31,2, -999.00,9, -999.00,9, -999.00,9, -999.00,9, -999.00,9,-999.000,9,-999.000,9,-999.000,9,-999.000,9,-999.000,9,  -999.0,9,  -999.0,9, -999.00,9, -999.00,9,     -999.0,9,     -999.0,9,     -999.0,     -999.0,     -999.0,     -999.0,     -999.0,     -999.0,9,    8.20446,2,      2.231,1,      0.000,2,     -999.0,9,     -999.0,9,     -999.0,9,     95.328,     0.1914,2,      0.209,1,      0.248,1,     -999.0,9