BOTTLE,20231011CCHSIOENA
EXPOCODE,SECT_ID,STNNBR,CASTNO,SAMPNO,BTLNBR,BTLNBR_FLAG_W,DATE,TIME,LATITUDE,LONGITUDE,DEPTH,CTDPRS,CTDPRS_FLAG_W,CTDTMP,CTDTMP_FLAG_W,CTDSAL,CTDSAL_FLAG_W,SALNTY,SALNTY_FLAG_W,CTDOXY,CTDOXY_FLAG_W,OXYGEN,OXYGEN_FLAG_W,SILCAT,SILCAT_FLAG_W,NH4,NH4_FLAG_W,NITRAT,NITRAT_FLAG_W,NITRIT,NITRIT_FLAG_W,PHSPHT,PHSPHT_FLAG_W,CFC-11,CFC-11_FLAG_W,CFC-12,CFC-12_FLAG_W,CFC113,CFC113_FLAG_W,SF6,SF6_FLAG_W,TCARBN,TCARBN_FLAG_W,ALKALI,ALKALI_FLAG_W,DOC,DOC_FLAG_W,TDN,TDN_FLAG_W,DNSSAL,DNSSAL_FLAG_W,RIANOMALY,RIANOMALY_FLAG_W,SILUNC,NH4UNC,NRAUNC,NRIUNC,PHPUNC,FDOM,FDOM_FLAG_W,REFTMP,REFTMP_FLAG_W,CTDFLUOR,CTDFLUOR_FLAG_W,PAR,PAR_FLAG_W,CDOM300,CDOM300_FLAG_W,CDOM325,CDOM325_FLAG_W,CDOM443,CDOM443_FLAG_W,CTDXMISS,CTDBEAMCP,CTDBEAMCP_FLAG_W,CTDTURB,CTDTURB_FLAG_W,CTDCDOM,CTDCDOM_FLAG_W,CHLORA,CHLORA_FLAG_W
,,,,,,,,,,,METERS,DBAR,,ITS-90,,PSS-78,,PSS-78,,UMOL/KG,,UMOL/KG,,UMOL/KG,,UMOL/KG,,UMOL/KG,,UMOL/KG,,UMOL/KG,,PMOL/KG,,PMOL/KG,,PMOL/KG,,FMOL/KG,,UMOL/KG,,UMOL/KG,,UMOL/KG,,UMOL/KG,,G/KG,,ND,,UMOL/KG,UMOL/KG,UMOL/KG,UMOL/KG,UMOL/KG,RFU,,ITS-90,,MG/M^3,,UMOL/M^2/SEC,,/METER,,/METER,,/METER,,%TRANS,/METER,,FTU,,QSU,,UG/L,
49NZ20210713,        P01,      27,          2,         36,     X12S36,2,20210721,       1427,    41.9422,   151.4808,       5155,     9.8,2,  17.2779,2,  32.9754,2,  32.9722,2,   274.72,2,  274.05,2,    0.91,2,    0.18,2,    1.17,2,    0.06,2,   0.270,2,   2.786,2,   1.640,2,   0.141,2,   2.745,2,  1983.2,2,  2229.9,2,   68.42,2, -999.00,9,    33.1289,2,     609.02,2,       0.04,       0.01,       0.01,       0.01,      0.003,     0.0052,2,   17.31886,2,      2.269,1,      0.000,2,      0.526,1,      0.307,1,      0.032,1,     93.926,     0.2506,2,      0.235,1,      0.288,1,       0.63,2
49NZ20210713,        P01,      27,          2,          2,     X12B34,2,20210721,       1427,    41.9422,   151.4808,       5155,    20.0,2,  12.2655,2,  32.8403,2,  32.8558,2,   315.98,2,  315.59,2,    2.59,2,    0.27,2,    5.16,2,    0.12,2,   0.632,2,-999.000,9,-999.000,9,-999.000,9,-999.000,9,  2013.5,2,  2228.0,2,   63.51,2, -999.00,9,    33.0141,2,     606.82,2,       0.04,       0.02,       0.02,       0.01,      0.004,     0.0080,2,   12.30170,2,      2.679,1,      0.000,2,      0.714,1,      0.447,1,      0.078,1,     93.756,     0.2579,2,      0.247,1,      0.353,1,       0.80,2
49NZ20210713,        P01,      27,          2,         35,     X12S35,2,20210721,       1427,    41.9422,   151.4808,       5155,    49.9,2,   5.0390,2,  33.2849,2,  33.2944,2,   293.79,2,  292.73,2,   23.35,2,    1.55,2,   18.32,2,    0.39,2,   1.645,2,   4.628,2,   2.566,2,   0.227,2,   3.916,2,  2132.3,2,  2245.5,2,   53.35,2, -999.00,9,    33.4541,2,     615.02,2,       0.07,       0.04,       0.05,       0.01,      0.005,     0.0080,2,    5.03968,2,      0.911,1,      0.000,2,      0.453,1,      0.255,1,      0.043,1,     97.946,     0.0830,2,      0.114,1,      0.362,1,       0.65,2
49NZ20210713,        P01,      27,          2,         34,     X12S34,2,20210721,       1427,    41.9422,   151.4808,       5155,   100.6,2,   3.4156,2,  33.4010,2,  33.4103,2,   273.50,2,  272.95,2,   42.94,2,    0.01,2,   24.48,2,    0.02,2,   1.905,2,   4.550,2,   2.482,2,   0.278,2,   3.746,2,  2165.9,2,  2252.0,2,   54.46,2, -999.00,9,    33.5729,2,     617.17,2,       0.09,       0.01,       0.06,       0.01,      0.005,     0.0076,2,    3.41716,2,      0.085,1,      0.000,2,      0.431,1,      0.238,1,      0.036,1,     99.415,     0.0235,2,      0.084,1,      0.357,1,       0.04,2
49NZ20210713,        P01,      27,          2,         33,     X12S33,2,20210721,       1427,    41.9422,   151.4808,       5155,   150.3,2,   3.4143,2,  33.5271,2,  33.5287,2,   229.71,2,  228.20,2,   54.31,2,    0.02,2,   27.82,2,    0.02,2,   2.120,2,   4.030,2,   2.200,2,   0.276,2,   3.158,2,  2201.9,2,  2267.2,2,   52.88,2, -999.00,9,    33.6936,2,     619.37,2,       0.12,       0.01,       0.06,       0.01,      0.005,     0.0086,2,    3.41226,2,      0.070,1,      0.000,2,      0.453,1,      0.259,1,      0.041,1,     99.418,     0.0234,2,      0.090,1,      0.377,1,       0.03,2
49NZ20210713,        P01,      27,          2,         32,     X12S32,2,20210721,       1427,    41.9422,   151.4808,       5155,   198.6,2,   2.7983,2,  33.5682,2,  33.5698,2,   174.20,2,  173.33,2,   71.35,2,    0.02,2,   33.64,2,    0.01,2,   2.512,2,   3.620,2,   1.952,2,   0.254,2,   2.669,2,  2246.0,2,  2267.0,2,   49.17,2, -999.00,9,    33.7355,2,     620.17,2,       0.15,       0.01,       0.10,       0.01,      0.006,     0.0100,2,    2.79958,2,      0.070,1,      0.000,2,      0.452,1,      0.256,1,      0.045,1,     99.374,     0.0251,2,      0.094,1,      0.404,1,       0.03,2
49NZ20210713,        P01,      27,          2,         31,     X12S31,2,20210721,       1427,    41.9422,   151.4808,       5155,   250.0,2,   3.6026,2,  33.7676,2,  33.7670,2,   121.07,2,  119.92,2,   81.40,2,    0.01,2,   36.45,2,    0.01,2,   2.674,2,   2.844,2,   1.513,2,   0.211,2,   1.750,2,  2278.0,2,  2284.5,2,   47.71,2, -999.00,9,    33.9343,2,     623.77,2,       0.14,       0.01,       0.08,       0.01,      0.010,     0.0111,2,    3.60229,2,      0.073,1,      0.000,2,      0.428,1,      0.243,1,      0.040,1,     99.406,     0.0238,2,      0.089,1,      0.419,1,       0.02,2
49NZ20210713,        P01,      27,          2,         30,     X12S30,2,20210721,       1427,    41.9422,   151.4808,       5155,   330.4,2,   3.9607,2,  33.9718,2,  33.9727,2,    73.99,2,   74.38,2,   94.06,2,    0.01,2,   39.14,2,    0.01,2,   2.831,2,   1.985,2,   1.070,2,   0.146,2,   1.025,2,  2308.2,2,  2310.0,2,   41.53,2, -999.00,9,    34.1412,2,     627.52,2,       0.19,       0.01,       0.08,       0.01,      0.006,     0.0118,2,    3.96214,2,      0.071,1,      0.000,2,      0.478,1,      0.288,1,      0.058,1,     99.647,     0.0141,2,      0.074,1,      0.427,1,     -999.0,9
49NZ20210713,        P01,      27,          2,         29,     X12S29,2,20210721,       1427,    41.9422,   151.4808,       5155,   430.6,2,   3.9554,2,  34.1112,2,  34.1160,2,    52.31,2,   53.03,2,  105.24,2,    0.01,2,   40.57,2,    0.01,2,   2.912,2,   1.311,2,   0.718,2,   0.083,2,   0.552,2,  2326.1,2,  2329.2,2,   43.22,2, -999.00,9,    34.2884,2,     630.17,2,       0.18,       0.01,       0.09,       0.01,      0.006,     0.0125,2,    3.96009,2,      0.071,1,      0.000,2,      0.416,1,      0.244,1,      0.050,1,     99.776,     0.0090,2,      0.073,1,      0.419,1,     -999.0,9
49NZ20210713,        P01,      27,          2,         28,     X12S28,2,20210721,       1427,    41.9422,   151.4808,       5155,   531.2,2,   3.4546,2,  34.1660,2,  34.1675,2,    31.81,2,   32.69,2,  121.05,2,    0.00,2,   42.80,2,    0.01,2,   3.064,2,   0.970,2,   0.545,2,   0.070,2,   0.416,2,  2349.6,2,  2336.7,2,   43.34,2, -999.00,9,    34.3418,2,     631.12,2,       0.20,       0.01,       0.09,       0.01,      0.006,     0.0127,2,    3.45513,2,      0.075,1,      0.000,2,      0.423,1,      0.251,1,      0.058,1,     99.751,     0.0100,2,      0.070,1,      0.431,1,     -999.0,9
49NZ20210713,        P01,      27,          2,         27,     X12S27,2,20210721,       1427,    41.9422,   151.4808,       5155,   630.4,2,   3.2020,2,  34.2260,2,  34.2250,2,    27.18,2,   27.66,2,  130.99,2,    0.01,2,   43.37,2,    0.01,2,   3.098,2,   0.719,2,   0.424,2,   0.053,2,   0.289,2,  2361.4,2,  2347.1,2,   42.95,2, -999.00,9,    34.4023,2,     632.17,2,       0.21,       0.01,       0.09,       0.01,      0.006,     0.0129,2,    3.20193,2,      0.072,1,      0.000,2,      0.470,1,      0.286,1,      0.071,1,     99.757,     0.0097,2,      0.088,1,      0.434,1,     -999.0,9
49NZ20210713,        P01,      27,          2,         26,     X12S26,2,20210721,       1427,    41.9422,   151.4808,       5155,   730.6,2,   3.0912,2,  34.2936,2,  34.2935,2,    29.36,2,   29.38,2,  136.79,2,    0.02,2,   43.07,2,    0.01,2,   3.096,2,   0.492,2,   0.291,2,   0.037,2,   0.190,2,  2366.5,6,  2357.4,2,   41.74,2, -999.00,9,    34.4703,2,     633.47,2,       0.22,       0.01,       0.09,       0.01,      0.006,     -999.0,9,    3.09109,2,      0.071,1,      0.000,2,     -999.0,9,     -999.0,9,     -999.0,9,     99.778,     0.0089,2,      0.065,1,      0.436,1,     -999.0,9
49NZ20210713,        P01,      27,          2,         25,     X12S25,2,20210721,       1427,    41.9422,   151.4808,       5155,   830.9,2,   2.9030,2,  34.3382,2,  34.3383,2,    30.64,2,   30.71,2,  142.57,2,    0.02,2,   42.97,2,    0.00,2,   3.068,2,   0.376,2,   0.226,2,   0.037,2,   0.147,2,  2374.5,2,  2366.2,2,   41.68,2, -999.00,9,    34.5155,2,     634.22,2,       0.23,       0.01,       0.09,       0.01,      0.009,     0.0130,2,    2.90289,2,      0.070,1,      0.000,2,      0.407,1,      0.241,1,      0.049,1,     99.785,     0.0086,2,      0.083,1,      0.513,1,     -999.0,9
49NZ20210713,        P01,      27,          2,         24,     X12S24,2,20210721,       1427,    41.9422,   151.4808,       5155,   930.4,2,   2.7824,2,  34.3796,2,  34.3796,2,    32.85,2,   32.80,2,  146.60,2,    0.02,2,   42.93,2,    0.00,2,   3.072,2,   0.276,2,   0.173,2,   0.022,2,   0.116,2,  2377.2,2,  2374.6,2,   41.07,2, -999.00,9,    34.5561,2,     635.02,2,       0.23,       0.01,       0.09,       0.01,      0.006,     -999.0,9,    2.78234,2,      0.069,1,      0.000,2,     -999.0,9,     -999.0,9,     -999.0,9,     99.780,     0.0088,2,      0.063,1,      0.518,1,     -999.0,9
49NZ20210713,        P01,      27,          2,         23,     X12S23,2,20210721,       1427,    41.9422,   151.4808,       5155,  1070.3,2,   2.6027,2,  34.4296,2,  34.4293,2,    35.47,2,   35.45,2,  152.26,2,    0.02,2,   42.96,2,    0.00,2,   3.068,2,   0.176,2,   0.114,2,   0.012,2,   0.083,2,  2380.4,2,  2383.0,2,   39.23,2, -999.00,9,    34.6082,2,     635.87,2,       0.24,       0.01,       0.09,       0.01,      0.006,     0.0128,2,    2.60267,2,      0.068,1,      0.000,2,      0.382,1,      0.220,1,      0.038,1,     99.833,     0.0067,2,      0.094,1,      0.524,1,     -999.0,9
49NZ20210713,        P01,      27,          2,         22,     X12S22,2,20210721,       1427,    41.9422,   151.4808,       5155,  1270.9,2,   2.4052,2,  34.4828,2,  34.4829,2,    41.68,2,   41.70,2,  157.26,2,    0.02,2,   42.71,2,    0.00,2,   3.046,2,   0.093,2,   0.063,2,   0.008,2,   0.041,2,  2382.1,2,  2391.1,6,   38.76,2, -999.00,9,    34.6616,2,     636.92,2,       0.25,       0.01,       0.09,       0.01,      0.007,     -999.0,9,    2.40518,2,      0.067,1,      0.000,2,     -999.0,9,     -999.0,9,     -999.0,9,     99.865,     0.0054,2,      0.060,1,      0.505,1,     -999.0,9
49NZ20210713,        P01,      27,          2,         21,     X12S21,2,20210721,       1427,    41.9422,   151.4808,       5155,  1470.5,2,   2.2645,2,  34.5293,2,  34.5295,2,    50.02,2,   50.01,2,  159.09,2,    0.02,2,   42.42,2,    0.00,2,   3.009,2,   0.027,2,   0.019,2,   0.000,2,   0.029,2,  2384.1,2,  2399.7,2,   39.48,2, -999.00,9,    34.7084,2,     637.77,2,       0.25,       0.01,       0.09,       0.01,      0.006,     0.0122,2,    2.26448,2,      0.065,1,      0.000,2,      0.354,1,      0.202,1,      0.035,1,     99.895,     0.0042,2,      0.063,1,      0.504,1,     -999.0,9
49NZ20210713,        P01,      27,          2,         20,     X12S20,2,20210721,       1427,    41.9422,   151.4808,       5155,  1670.4,2,   2.0898,2,  34.5597,2,  34.5602,2,    59.91,2,   60.20,2,  162.78,2,    0.02,2,   41.89,2,    0.00,2,   2.962,2,   0.016,2,   0.013,2,   0.000,2,   0.049,2,  2381.5,2,  2402.5,2,   38.01,2, -999.00,9,    34.7394,2,     638.37,2,       0.25,       0.01,       0.09,       0.01,      0.006,     -999.0,9,    2.08976,2,      0.065,1,      0.000,2,     -999.0,9,     -999.0,9,     -999.0,9,     99.872,     0.0051,2,      0.092,1,      0.497,1,     -999.0,9
49NZ20210713,        P01,      27,          2,         19,     X12S19,2,20210721,       1427,    41.9422,   151.4808,       5155,  1870.1,2,   1.9671,2,  34.5862,2,  34.5865,2,    71.33,2,   71.02,2,  163.20,2,    0.01,2,   41.26,2,    0.00,2,   2.920,2,   0.002,2,   0.004,2,   0.000,2,   0.054,2,  2378.0,2,  2406.0,2,   38.75,2, -999.00,9,    34.7691,2,     638.87,2,       0.26,       0.01,       0.09,       0.01,      0.010,     0.0116,2,    1.96712,2,      0.064,1,      0.000,2,      0.346,1,      0.200,1,      0.038,1,     99.877,     0.0049,2,      0.058,1,      0.490,1,     -999.0,9
49NZ20210713,        P01,      27,          2,         18,     X12S18,2,20210721,       1427,    41.9422,   151.4808,       5155,  2071.8,2,   1.8337,2,  34.6104,2,  34.6108,2,    85.10,2,   84.84,2,  163.12,2,    0.01,2,   40.46,2,    0.00,2,   2.852,2,   0.000,2,   0.001,2,   0.000,2,   0.061,2,  2370.2,2,  2409.5,2,   38.58,2, -999.00,9,    34.7915,2,     639.22,2,       0.25,       0.01,       0.09,       0.01,      0.006,     -999.0,9,    1.83365,2,      0.062,1,      0.000,2,     -999.0,9,     -999.0,9,     -999.0,9,     99.907,     0.0037,2,      0.057,1,      0.481,1,     -999.0,9
49NZ20210713,        P01,      27,          2,         17,     X12S17,2,20210721,       1427,    41.9422,   151.4808,       5155,  2270.0,2,   1.7401,2,  34.6263,2,  34.6266,2,    95.88,2,   95.34,2,  162.97,2,    0.00,2,   39.76,2,    0.00,2,   2.799,2,   0.000,2,   0.000,2,   0.000,2,   0.053,2,  2363.7,2,  2411.8,2,   38.62,2, -999.00,9,    34.8073,2,     639.52,2,       0.25,       0.01,       0.08,       0.01,      0.008,     0.0112,2,    1.74007,2,      0.062,1,      0.000,2,      0.320,1,      0.182,1,      0.029,1,     99.927,     0.0029,2,      0.053,1,      0.464,1,     -999.0,9
49NZ20210713,        P01,      27,          2,         16,     X12S16,2,20210721,       1427,    41.9422,   151.4808,       5155,  2470.1,2,   1.6643,2,  34.6394,2,  34.6400,2,   106.10,2,  105.72,2,  161.64,2,    0.01,2,   39.08,2,    0.00,2,   2.751,2,   0.000,2,   0.000,2,   0.000,2,   0.032,2,  2359.3,6,  2412.2,2,   38.31,2, -999.00,9,    34.8184,2,     639.77,2,       0.25,       0.01,       0.08,       0.01,      0.006,     -999.0,9,    1.66425,2,      0.061,1,      0.000,2,     -999.0,9,     -999.0,9,     -999.0,9,     99.950,     0.0020,2,      0.053,1,      0.465,1,     -999.0,9
49NZ20210713,        P01,      27,          2,         15,     X12S15,3,20210721,       1427,    41.9422,   151.4808,       5155,  2670.2,2,   1.6047,2,  34.6494,2,  34.6482,2,   114.10,2,  114.30,2,  160.98,2,    0.02,2,   38.50,2,    0.00,2,   2.712,2,   0.000,2,   0.003,2,   0.000,2,   0.028,2,  2352.9,2,  2415.4,2,   38.61,2, -999.00,9,    34.8277,2,     639.87,2,       0.30,       0.01,       0.08,       0.01,      0.006,     0.0104,2,    1.60457,2,      0.060,1,      0.000,2,      0.313,1,      0.175,1,      0.026,1,     99.966,     0.0013,2,      0.053,1,      0.462,1,     -999.0,9
49NZ20210713,        P01,      27,          2,         14,     X12S14,2,20210721,       1427,    41.9422,   151.4808,       5155,  2870.0,2,   1.5562,2,  34.6583,2,  34.6586,2,   123.26,2,  122.99,2,  158.25,2,    0.03,2,   37.83,2,    0.00,2,   2.647,2,   0.000,2,   0.000,2,   0.000,2,   0.000,2,  2350.4,2,  2415.7,2,   35.33,2, -999.00,9,    34.8400,2,     640.12,2,       0.25,       0.01,       0.08,       0.01,      0.006,     -999.0,9,    1.55612,2,      0.060,1,      0.000,2,     -999.0,9,     -999.0,9,     -999.0,9,     99.975,     0.0010,2,      0.053,1,      0.452,1,     -999.0,9
49NZ20210713,        P01,      27,          2,         13,     X12S13,2,20210721,       1427,    41.9422,   151.4808,       5155,  3080.6,2,   1.5222,2,  34.6649,2,  34.6656,2,   130.61,2,  130.59,2,  156.41,2,    0.01,2,   37.48,2,    0.00,2,   2.615,2,   0.000,2,   0.000,2,   0.000,2,   0.000,2,  2346.0,2,  2413.6,2,   35.95,2, -999.00,9,    34.8459,2,     640.27,2,       0.25,       0.01,       0.08,       0.01,      0.006,     0.0104,2,    1.52213,2,      0.059,1,      0.000,2,      0.412,1,      0.257,1,      0.061,1,     99.948,     0.0021,2,      0.053,1,      0.446,1,     -999.0,9
49NZ20210713,        P01,      27,          2,         12,     X12S12,2,20210721,       1427,    41.9422,   151.4808,       5155,  3329.1,2,   1.4870,2,  34.6714,2,  34.6721,2,   137.90,2,  137.83,2,  154.68,2,    0.01,2,   37.06,2,    0.00,2,   2.587,2,   0.000,2,   0.000,2,   0.000,2,   0.000,2,  2340.0,2,  2413.6,6,   38.53,2, -999.00,9,    34.8519,2,     640.37,2,       0.24,       0.01,       0.08,       0.01,      0.006,     -999.0,9,    1.48684,2,      0.059,1,      0.000,2,     -999.0,9,     -999.0,9,     -999.0,9,     99.953,     0.0019,2,      0.054,1,      0.444,1,     -999.0,9
49NZ20210713,        P01,      27,          2,         11,     X12S11,2,20210721,       1427,    41.9422,   151.4808,       5155,  3579.5,2,   1.4645,2,  34.6765,2,  34.6770,2,   143.61,2,  143.53,2,  153.44,2,    0.02,2,   36.63,2,    0.00,2,   2.554,2,   0.000,2,   0.001,2,   0.010,2,   0.000,2,  2335.3,2,  2411.4,2,   37.39,2, -999.00,9,    34.8577,2,     640.47,2,       0.24,       0.01,       0.08,       0.01,      0.006,     0.0097,2,    1.46444,2,      0.058,1,      0.000,2,      0.345,1,      0.202,1,      0.039,1,     99.959,     0.0016,2,      0.052,1,      0.443,1,     -999.0,9
49NZ20210713,        P01,      27,          2,         10,     X12S10,2,20210721,       1427,    41.9422,   151.4808,       5155,  3828.8,2,   1.4556,2,  34.6802,2,  34.6809,2,   148.34,2,  148.13,2,  151.88,2,    0.01,2,   36.29,2,    0.00,2,   2.524,2,   0.000,2,   0.000,2,   0.000,2,   0.000,2,  2331.4,2,     2.0,2,   36.00,2, -999.00,9,    34.8627,2,     640.47,2,       0.24,       0.01,       0.08,       0.01,      0.006,     -999.0,9,    1.45549,2,      0.058,1,      0.000,2,     -999.0,9,     -999.0,9,     -999.0,9,     99.962,     0.0015,2,      0.054,1,      0.447,1,     -999.0,9
49NZ20210713,        P01,      27,          2,          9,     X12S09,2,20210721,       1427,    41.9422,   151.4808,       5155,  4080.2,2,   1.4518,2,  34.6835,2,  34.6832,2,   152.29,2,  152.24,2,  151.24,2,    0.02,2,   36.11,2,    0.00,2,   2.513,2,   0.000,2,   0.000,2,   0.001,2,   0.000,2,  2329.3,2,  2413.5,2,   37.12,2, -999.00,9,    34.8646,2,     640.57,2,       0.24,       0.01,       0.08,       0.01,      0.006,     0.0095,2,    1.45179,2,      0.057,1,      0.000,2,      0.284,1,      0.155,1,      0.026,1,     99.959,     0.0016,2,      0.050,1,      0.457,1,     -999.0,9
49NZ20210713,        P01,      27,          2,          8,     X12S08,2,20210721,       1427,    41.9422,   151.4808,       5155,  4330.2,2,   1.4591,2,  34.6857,2,  34.6864,2,   154.91,2,  154.68,2,  150.86,2,    0.02,2,   35.91,2,    0.00,2,   2.500,2,   0.000,2,   0.000,2,   0.000,2,   0.000,2,  2327.2,6,  2414.7,2,   37.05,2, -999.00,9,    34.8653,2,     640.57,2,       0.24,       0.01,       0.08,       0.01,      0.006,     -999.0,9,    1.45906,2,      0.057,1,      0.000,2,     -999.0,9,     -999.0,9,     -999.0,9,     99.971,     0.0012,2,      0.052,1,      0.452,1,     -999.0,9
49NZ20210713,        P01,      27,          2,          7,     X12S07,2,20210721,       1427,    41.9422,   151.4808,       5155,  4580.0,2,   1.4757,2,  34.6872,2,  34.6873,2,   156.26,2,  156.18,2,  151.45,2,    0.00,2,   35.85,2,    0.00,2,   2.494,2,   0.000,2,   0.002,2,   0.007,2,   0.000,2,  2325.4,2,  2412.4,2,   36.93,2, -999.00,9,    34.8699,2,     640.57,2,       0.24,       0.01,       0.08,       0.01,      0.006,     0.0093,2,    1.47576,2,      0.056,1,      0.000,2,      0.283,1,      0.152,1,      0.025,1,     99.936,     0.0025,2,      0.054,1,      0.456,1,     -999.0,9