BOTTLE,20231011CCHSIOENA
EXPOCODE,SECT_ID,STNNBR,CASTNO,SAMPNO,BTLNBR,BTLNBR_FLAG_W,DATE,TIME,LATITUDE,LONGITUDE,DEPTH,CTDPRS,CTDPRS_FLAG_W,CTDTMP,CTDTMP_FLAG_W,CTDSAL,CTDSAL_FLAG_W,SALNTY,SALNTY_FLAG_W,CTDOXY,CTDOXY_FLAG_W,OXYGEN,OXYGEN_FLAG_W,SILCAT,SILCAT_FLAG_W,NH4,NH4_FLAG_W,NITRAT,NITRAT_FLAG_W,NITRIT,NITRIT_FLAG_W,PHSPHT,PHSPHT_FLAG_W,CFC-11,CFC-11_FLAG_W,CFC-12,CFC-12_FLAG_W,CFC113,CFC113_FLAG_W,SF6,SF6_FLAG_W,TCARBN,TCARBN_FLAG_W,ALKALI,ALKALI_FLAG_W,DOC,DOC_FLAG_W,TDN,TDN_FLAG_W,DNSSAL,DNSSAL_FLAG_W,RIANOMALY,RIANOMALY_FLAG_W,SILUNC,NH4UNC,NRAUNC,NRIUNC,PHPUNC,FDOM,FDOM_FLAG_W,REFTMP,REFTMP_FLAG_W,CTDFLUOR,CTDFLUOR_FLAG_W,PAR,PAR_FLAG_W,CDOM300,CDOM300_FLAG_W,CDOM325,CDOM325_FLAG_W,CDOM443,CDOM443_FLAG_W,CTDXMISS,CTDBEAMCP,CTDBEAMCP_FLAG_W,CTDTURB,CTDTURB_FLAG_W,CTDCDOM,CTDCDOM_FLAG_W,CHLORA,CHLORA_FLAG_W
,,,,,,,,,,,METERS,DBAR,,ITS-90,,PSS-78,,PSS-78,,UMOL/KG,,UMOL/KG,,UMOL/KG,,UMOL/KG,,UMOL/KG,,UMOL/KG,,UMOL/KG,,PMOL/KG,,PMOL/KG,,PMOL/KG,,FMOL/KG,,UMOL/KG,,UMOL/KG,,UMOL/KG,,UMOL/KG,,G/KG,,ND,,UMOL/KG,UMOL/KG,UMOL/KG,UMOL/KG,UMOL/KG,RFU,,ITS-90,,MG/M^3,,UMOL/M^2/SEC,,/METER,,/METER,,/METER,,%TRANS,/METER,,FTU,,QSU,,UG/L,
49NZ20210713,        P01,      83,          1,          6,     X12S06,2,20210812,       2240,    46.9879,  -155.8510,       5253,  4671.9,2,   1.5291,2,  34.6848,2,  34.6848,2,   144.59,2,  144.38,2,  168.43,2,    0.00,2,   36.82,2,    0.00,2,   2.543,2,   0.000,2,   0.000,2,   0.000,2,   0.000,2,  2344.3,2,  2424.9,6,   36.66,2, -999.00,9,    34.8690,2,     640.80,2,       0.26,       0.01,       0.08,       0.01,      0.006,     -999.0,9,    1.52913,2,      0.055,1,      0.000,2,     -999.0,9,     -999.0,9,     -999.0,9,     99.968,     0.0013,2,      0.034,1,      0.288,1,     -999.0,9
49NZ20210713,        P01,      83,          1,          5,     X12S05,2,20210812,       2240,    46.9879,  -155.8510,       5253,  4921.6,2,   1.5536,2,  34.6855,2,  34.6867,2,   145.42,2,  145.22,2,  169.47,2,    0.00,2,   36.81,2,    0.00,2,   2.539,2,   0.000,2,   0.000,2,   0.000,2,   0.000,2,  2342.1,2,  2427.5,2,   37.04,2, -999.00,9,    34.8703,2,     640.80,2,       0.26,       0.01,       0.08,       0.01,      0.006,     0.0098,2,    1.55352,2,      0.055,1,      0.000,2,      0.303,1,      0.168,1,      0.022,1,     99.966,     0.0014,2,      0.035,1,      0.283,1,     -999.0,9
49NZ20210713,        P01,      83,          1,          4,     X12S04,2,20210812,       2240,    46.9879,  -155.8510,       5253,  5170.1,2,   1.5810,2,  34.6862,2,  34.6866,2,   146.04,2,  146.02,2,  169.95,2,    0.00,2,   36.79,2,    0.00,2,   2.538,2,   0.000,2,   0.000,2,   0.000,2,   0.000,2,  2340.3,2,  2425.6,2,   38.49,2, -999.00,9,    34.8710,2,     640.80,2,       0.26,       0.01,       0.08,       0.01,      0.006,     0.0100,2,    1.58104,2,      0.054,1,      0.000,2,      0.300,1,      0.165,1,      0.026,1,     99.868,     0.0053,2,      0.043,1,      0.284,1,     -999.0,9
49NZ20210713,        P01,      83,          1,          1,     X12S01,2,20210812,       2240,    46.9879,  -155.8510,       5253,  5343.7,2,   1.6029,2,  34.6862,2,  34.6863,2,   146.47,2,  146.38,2,  169.35,2,    0.00,2,   36.71,2,    0.00,2,   2.537,2,   0.003,2,   0.002,2,   0.000,2,   0.000,2,  2340.5,2,  2425.7,2,   36.51,2, -999.00,9,    34.8689,2,     640.85,2,       0.26,       0.01,       0.08,       0.01,      0.006,     0.0099,2,    1.60301,2,      0.054,1,      0.000,2,      0.303,1,      0.171,1,      0.026,1,     99.808,     0.0077,2,      0.047,1,      0.282,1,     -999.0,9