BOTTLE,20231011CCHSIOENA
EXPOCODE,SECT_ID,STNNBR,CASTNO,SAMPNO,BTLNBR,BTLNBR_FLAG_W,DATE,TIME,LATITUDE,LONGITUDE,DEPTH,CTDPRS,CTDPRS_FLAG_W,CTDTMP,CTDTMP_FLAG_W,CTDSAL,CTDSAL_FLAG_W,SALNTY,SALNTY_FLAG_W,CTDOXY,CTDOXY_FLAG_W,OXYGEN,OXYGEN_FLAG_W,SILCAT,SILCAT_FLAG_W,NH4,NH4_FLAG_W,NITRAT,NITRAT_FLAG_W,NITRIT,NITRIT_FLAG_W,PHSPHT,PHSPHT_FLAG_W,CFC-11,CFC-11_FLAG_W,CFC-12,CFC-12_FLAG_W,CFC113,CFC113_FLAG_W,SF6,SF6_FLAG_W,TCARBN,TCARBN_FLAG_W,ALKALI,ALKALI_FLAG_W,DOC,DOC_FLAG_W,TDN,TDN_FLAG_W,DNSSAL,DNSSAL_FLAG_W,RIANOMALY,RIANOMALY_FLAG_W,SILUNC,NH4UNC,NRAUNC,NRIUNC,PHPUNC,FDOM,FDOM_FLAG_W,REFTMP,REFTMP_FLAG_W,CTDFLUOR,CTDFLUOR_FLAG_W,PAR,PAR_FLAG_W,CDOM300,CDOM300_FLAG_W,CDOM325,CDOM325_FLAG_W,CDOM443,CDOM443_FLAG_W,CTDXMISS,CTDBEAMCP,CTDBEAMCP_FLAG_W,CTDTURB,CTDTURB_FLAG_W,CTDCDOM,CTDCDOM_FLAG_W,CHLORA,CHLORA_FLAG_W
,,,,,,,,,,,METERS,DBAR,,ITS-90,,PSS-78,,PSS-78,,UMOL/KG,,UMOL/KG,,UMOL/KG,,UMOL/KG,,UMOL/KG,,UMOL/KG,,UMOL/KG,,PMOL/KG,,PMOL/KG,,PMOL/KG,,FMOL/KG,,UMOL/KG,,UMOL/KG,,UMOL/KG,,UMOL/KG,,G/KG,,ND,,UMOL/KG,UMOL/KG,UMOL/KG,UMOL/KG,UMOL/KG,RFU,,ITS-90,,MG/M^3,,UMOL/M^2/SEC,,/METER,,/METER,,/METER,,%TRANS,/METER,,FTU,,QSU,,UG/L,
49NZ20210713,        P01,      36,          1,         36,     X12S36,2,20210724,       0705,    46.0696,   158.3264,       4838,    10.0,2,  10.6919,2,  32.8790,2,  32.8763,2,   298.67,2,  298.11,2,   18.60,2,    0.41,2,   17.49,2,    0.23,2,   1.509,2,   3.770,3,   2.121,3,   0.360,3,   4.330,3,  2071.0,2,  2235.5,2,   57.40,2, -999.00,9,    33.0336,2,     607.26,2,       0.06,       0.02,       0.07,       0.01,      0.006,     0.0030,2,   10.73999,2,      1.683,1,      0.073,2,      0.326,1,      0.156,1,      0.021,1,     94.665,     0.2193,2,      0.189,1,      0.258,1,       0.57,2
49NZ20210713,        P01,      36,          1,          2,     X12B34,2,20210724,       0705,    46.0696,   158.3264,       4838,    39.9,2,   3.8989,2,  32.9598,2,  32.9735,2,   336.28,2,  337.88,2,   32.36,2,    0.91,2,   22.02,2,    0.26,2,   1.873,2,-999.000,9,-999.000,9,-999.000,9,-999.000,9,  2119.6,2,  2237.6,2,   56.23,2, -999.00,9,    33.1339,2,     609.06,2,       0.08,       0.03,       0.05,       0.01,      0.005,     0.0059,2,    3.90975,2,      1.231,1,      0.000,2,      0.524,1,      0.304,1,      0.057,1,     97.534,     0.0999,2,      0.117,1,      0.323,1,       0.42,2
49NZ20210713,        P01,      36,          1,         35,     X12S35,2,20210724,       0705,    46.0696,   158.3264,       4838,    50.9,2,   2.8310,2,  33.0267,2,  33.0262,2,   330.27,2,  332.44,2,   36.96,2,    0.86,2,   23.57,2,    0.53,2,   1.965,2,   5.387,2,   2.900,2,   0.530,2,   6.191,2,  2131.3,2,  2234.6,2,   53.24,2, -999.00,9,    33.1860,2,     610.12,2,       0.09,       0.02,       0.06,       0.01,      0.005,     0.0057,2,    2.83740,2,      0.826,1,      0.000,2,      0.418,1,      0.225,1,      0.037,1,     98.460,     0.0621,2,      0.101,1,      0.329,1,       0.37,2
49NZ20210713,        P01,      36,          1,         34,     X12S34,2,20210724,       0705,    46.0696,   158.3264,       4838,   100.2,2,   1.7930,2,  33.1456,2,  33.1500,2,   306.17,2,  306.38,2,   49.66,2,    0.02,2,   28.55,2,    0.01,2,   2.175,2,   5.280,2,   2.860,2,   0.503,2,   5.942,2,  2164.1,2,  2239.6,2,   53.86,2, -999.00,9,    33.3120,2,     612.37,2,       0.10,       0.01,       0.06,       0.01,      0.005,     0.0064,2,    1.79326,2,      0.140,1,      0.000,2,      0.416,1,      0.220,1,      0.035,1,     99.475,     0.0211,2,      0.078,1,      0.349,1,       0.07,2
49NZ20210713,        P01,      36,          1,         33,     X12S33,2,20210724,       0705,    46.0696,   158.3264,       4838,   150.0,2,   3.1106,2,  33.6815,2,  33.6815,2,   110.31,2,  109.18,2,   84.46,2,    0.01,2,   38.95,2,    0.00,2,   2.812,2,   3.140,2,   1.748,2,   0.238,2,   3.667,2,  2287.3,2,  2283.8,2,   48.97,2, -999.00,9,    33.8493,2,     622.22,2,       0.15,       0.01,       0.08,       0.01,      0.006,     0.0110,2,    3.11042,2,      0.081,1,      0.000,2,      0.450,1,      0.260,1,      0.044,1,     99.528,     0.0189,2,      0.072,1,      0.470,1,       0.03,2
49NZ20210713,        P01,      36,          1,         32,     X12S32,2,20210724,       0705,    46.0696,   158.3264,       4838,   199.9,2,   3.3379,2,  33.8017,2,  33.7981,2,    72.53,2,   72.13,2,   93.09,2,    0.00,2,   41.43,2,    0.00,2,   2.961,2,   2.642,2,   1.480,2,   0.190,2,   3.281,2,  2312.7,2,  2292.9,2,   46.49,2, -999.00,9,    33.9661,2,     624.37,2,       0.16,       0.01,       0.09,       0.01,      0.006,     0.0119,2,    3.33696,2,      0.076,1,      0.000,2,      0.456,1,      0.266,1,      0.048,1,     99.546,     0.0182,2,      0.072,1,      0.488,1,       0.02,2
49NZ20210713,        P01,      36,          1,         31,     X12S31,2,20210724,       0705,    46.0696,   158.3264,       4838,   249.3,2,   3.4932,2,  33.9195,2,  33.9196,2,    42.02,2,   41.96,2,  102.16,2,    0.01,2,   43.42,2,    0.00,2,   3.087,2,   2.127,3,   1.169,3,   0.141,3,   2.895,3,  2332.1,2,  2307.0,2,   44.85,2, -999.00,9,    34.0893,2,     626.56,2,       0.21,       0.01,       0.09,       0.01,      0.006,     0.0124,2,    3.49345,2,      0.076,1,      0.000,2,      0.453,1,      0.267,1,      0.052,1,     99.659,     0.0137,2,      0.066,1,      0.498,1,       0.02,2
49NZ20210713,        P01,      36,          1,         30,     X12S30,2,20210724,       0705,    46.0696,   158.3264,       4838,   280.1,2,   3.5667,2,  33.9762,2,  33.9727,2,    32.71,2,   32.59,2,  105.71,2,    0.01,2,   43.88,2,    0.01,2,   3.111,2,   1.845,2,   0.964,2,   0.118,2,   0.752,2,  2342.7,2,  2312.8,2,   44.82,2, -999.00,9,    34.1413,2,     627.62,2,       0.29,       0.01,       0.09,       0.01,      0.006,     0.0126,2,    3.56635,2,      0.075,1,      0.000,2,      0.458,1,      0.274,1,      0.056,1,     99.670,     0.0132,2,      0.067,1,      0.499,1,     -999.0,9
49NZ20210713,        P01,      36,          1,         29,     X12S29,2,20210724,       0705,    46.0696,   158.3264,       4838,   369.8,2,   3.5538,2,  34.0925,2,  34.0921,2,    23.15,2,   22.87,2,  115.43,2,    0.02,2,   44.05,2,    0.00,2,   3.119,2,   1.303,3,   0.720,3,   0.086,3,   1.769,3,  2351.3,2,  2327.5,2,   41.86,2, -999.00,9,    34.2634,2,     629.72,2,       0.20,       0.01,       0.09,       0.01,      0.006,     0.0137,2,    3.55369,2,      0.075,1,      0.000,2,      0.498,1,      0.308,1,      0.070,1,     99.753,     0.0099,2,      0.060,1,      0.501,1,     -999.0,9
49NZ20210713,        P01,      36,          1,         28,     X12S28,2,20210724,       0705,    46.0696,   158.3264,       4838,   470.3,2,   3.4403,2,  34.2074,2,  34.2089,2,    25.80,2,   25.54,2,  124.76,2,    0.01,2,   43.35,2,    0.00,2,   3.078,2,   0.787,2,   0.424,2,   0.043,2,   0.215,2,  2355.7,2,  2342.8,2,   41.34,2, -999.00,9,    34.3820,2,     631.91,2,       0.20,       0.01,       0.09,       0.01,      0.006,     0.0133,2,    3.44109,2,      0.073,1,      0.000,2,      0.417,1,      0.243,1,      0.051,1,     99.859,     0.0057,2,      0.056,1,      0.484,1,     -999.0,9
49NZ20210713,        P01,      36,          1,         27,     X12S27,2,20210724,       0705,    46.0696,   158.3264,       4838,   571.0,2,   3.2438,2,  34.2690,2,  34.2678,2,    23.22,2,   22.95,2,  132.46,2,    0.01,2,   43.44,2,    0.00,2,   3.098,2,   0.583,3,   0.373,3,   0.039,3,   2.129,3,  2364.9,2,  2353.3,2,   39.46,2, -999.00,9,    34.4417,2,     633.01,2,       0.21,       0.01,       0.09,       0.01,      0.006,     0.0134,2,    3.24384,2,      0.073,1,      0.000,2,      0.452,1,      0.278,1,      0.061,1,     99.679,     0.0128,2,      0.054,1,      0.478,1,     -999.0,9
49NZ20210713,        P01,      36,          1,         26,     X12S26,2,20210724,       0705,    46.0696,   158.3264,       4838,   669.9,2,   3.0661,2,  34.3167,2,  34.3156,2,    23.23,2,   22.73,2,  139.08,2,    0.02,2,   43.58,2,    0.00,2,   3.093,2,   0.396,2,   0.223,2,   0.020,2,   0.143,2,  2371.6,6,  2365.8,2,   39.77,2, -999.00,9,    34.4912,2,     633.87,2,       0.29,       0.01,       0.09,       0.01,      0.006,     -999.0,9,    3.06631,2,      0.072,1,      0.000,2,     -999.0,9,     -999.0,9,     -999.0,9,     99.866,     0.0054,2,      0.058,1,      0.462,1,     -999.0,9
49NZ20210713,        P01,      36,          1,         25,     X12S25,2,20210724,       0705,    46.0696,   158.3264,       4838,   768.1,2,   2.9139,2,  34.3538,2,  34.3530,2,    20.69,2,   20.20,2,  145.26,2,    0.01,2,   43.95,2,    0.00,2,   3.105,2,   0.306,3,   0.231,3,   0.028,3,   2.013,3,  2382.6,2,  2370.5,2,   41.06,2, -999.00,9,    34.5301,2,     634.56,2,       0.23,       0.01,       0.09,       0.01,      0.006,     0.0135,2,    2.91492,2,      0.071,1,      0.000,2,      0.455,1,      0.278,1,      0.061,1,     99.857,     0.0057,2,      0.052,1,      0.433,1,     -999.0,9
49NZ20210713,        P01,      36,          1,         24,     X12S24,2,20210724,       0705,    46.0696,   158.3264,       4838,   868.6,2,   2.7442,2,  34.3887,2,  34.3886,2,    18.27,2,   17.67,2,  152.07,2,    0.02,2,   44.23,2,    0.00,2,   3.135,2,   0.219,3,   0.182,3,   0.019,3,   1.770,3,  2386.7,2,  2383.5,2,   41.01,2, -999.00,9,    34.5657,2,     635.22,2,       0.24,       0.01,       0.09,       0.01,      0.006,     -999.0,9,    2.74489,2,      0.070,1,      0.000,2,     -999.0,9,     -999.0,9,     -999.0,9,     99.866,     0.0054,2,      0.053,1,      0.427,1,     -999.0,9
49NZ20210713,        P01,      36,          1,         23,     X12S23,2,20210724,       0705,    46.0696,   158.3264,       4838,   970.9,2,   2.5892,2,  34.4292,2,  34.4286,2,    18.47,2,   17.93,2,  157.57,2,    0.01,2,   44.29,2,    0.00,2,   3.129,2,   0.118,3,   0.088,3,   0.009,3,   0.542,3,  2391.6,2,  2386.2,2,   38.86,2, -999.00,9,    34.6072,2,     635.91,2,       0.25,       0.01,       0.09,       0.01,      0.006,     0.0135,2,    2.58920,2,      0.069,1,      0.000,2,      0.396,1,      0.234,1,      0.049,1,     99.861,     0.0056,2,      0.051,1,      0.428,1,     -999.0,9
49NZ20210713,        P01,      36,          1,         22,     X12S22,2,20210724,       0705,    46.0696,   158.3264,       4838,  1131.2,2,   2.3626,2,  34.4764,2,  34.4762,2,    28.05,2,   27.62,2,  164.09,2,    0.01,2,   43.83,2,    0.00,2,   3.097,2,   0.102,3,   0.102,3,   0.008,3,   1.270,3,  2392.0,2,  2394.9,6,   39.37,2, -999.00,9,    34.6539,2,     636.76,2,       0.28,       0.01,       0.09,       0.01,      0.006,     -999.0,9,    2.36266,2,      0.068,1,      0.000,2,     -999.0,9,     -999.0,9,     -999.0,9,     99.900,     0.0040,2,      0.053,1,      0.464,1,     -999.0,9
49NZ20210713,        P01,      36,          1,         21,     X12S21,2,20210724,       0705,    46.0696,   158.3264,       4838,  1329.5,2,   2.1613,2,  34.5235,2,  34.5234,2,    40.03,2,   39.77,2,  168.72,2,    0.01,2,   43.02,2,    0.00,2,   3.046,2,   0.045,2,   0.027,2,   0.003,2,   0.000,2,  2390.4,2,  2401.1,2,   38.35,2, -999.00,9,    34.7040,2,     637.62,2,       0.26,       0.01,       0.09,       0.01,      0.006,     0.0131,2,    2.16114,2,      0.066,1,      0.000,2,      0.373,1,      0.220,1,      0.045,1,     99.923,     0.0031,2,      0.069,1,      0.472,1,     -999.0,9
49NZ20210713,        P01,      36,          1,         20,     X12S20,2,20210724,       0705,    46.0696,   158.3264,       4838,  1530.0,2,   2.0090,2,  34.5602,2,  34.5600,2,    51.07,2,   50.75,2,  171.45,2,    0.01,2,   42.25,2,    0.00,2,   2.995,2,   0.020,2,   0.012,2,   0.000,2,   0.000,2,  2387.8,2,  2405.9,2,   39.59,2, -999.00,9,    34.7408,2,     638.31,2,       0.27,       0.01,       0.09,       0.01,      0.008,     -999.0,9,    2.00901,2,      0.064,1,      0.000,2,     -999.0,9,     -999.0,9,     -999.0,9,     99.919,     0.0033,2,      0.051,1,      0.468,1,     -999.0,9
49NZ20210713,        P01,      36,          1,         19,     X12S19,2,20210724,       0705,    46.0696,   158.3264,       4838,  1729.5,2,   1.8981,2,  34.5867,2,  34.5866,2,    65.12,2,   64.91,2,  170.59,2,    0.01,2,   41.54,2,    0.00,2,   2.928,2,   0.033,3,   0.065,3,   0.008,3,   1.523,3,  2380.0,2,  2407.3,2,   39.05,2, -999.00,9,    34.7668,2,     638.81,2,       0.26,       0.01,       0.09,       0.01,      0.006,     0.0127,2,    1.89815,2,      0.064,1,      0.000,2,      0.351,1,      0.202,1,      0.037,1,     99.942,     0.0023,2,      0.055,1,      0.451,1,     -999.0,9
49NZ20210713,        P01,      36,          1,         18,     X12S18,2,20210724,       0705,    46.0696,   158.3264,       4838,  1930.0,2,   1.8037,2,  34.6076,2,  34.6074,2,    77.94,2,   77.86,2,  169.44,2,    0.03,2,   40.76,2,    0.00,2,   2.877,2,   0.038,3,   0.092,3,   0.012,3,   2.055,3,  2373.3,2,  2413.2,2,   38.95,2, -999.00,9,    34.7898,2,     639.16,2,       0.26,       0.01,       0.09,       0.01,      0.006,     -999.0,9,    1.80367,2,      0.063,1,      0.000,2,     -999.0,9,     -999.0,9,     -999.0,9,     99.949,     0.0021,2,      0.049,1,      0.441,1,     -999.0,9
49NZ20210713,        P01,      36,          1,         17,     X12S17,2,20210724,       0705,    46.0696,   158.3264,       4838,  2129.4,2,   1.7179,2,  34.6257,2,  34.6256,2,    92.03,2,   91.88,2,  166.68,2,    0.01,2,   39.97,2,    0.00,2,   2.817,2,   0.005,2,   0.002,2,   0.001,2,   0.014,2,  2366.6,2,  2416.0,2,   38.09,2, -999.00,9,    34.8066,2,     639.51,2,       0.26,       0.01,       0.08,       0.01,      0.011,     0.0118,2,    1.71797,2,      0.062,1,      0.000,2,      0.323,1,      0.185,1,      0.034,1,     99.930,     0.0028,2,      0.052,1,      0.432,1,     -999.0,9
49NZ20210713,        P01,      36,          1,         16,     X12S16,2,20210724,       0705,    46.0696,   158.3264,       4838,  2329.7,2,   1.6450,2,  34.6397,2,  34.6400,2,   104.11,2,  104.09,2,  164.16,2,    0.02,2,   39.29,2,    0.00,2,   2.762,2,   0.000,2,   0.000,2,   0.000,2,   0.054,2,  2359.6,6,  2414.3,2,   38.73,2, -999.00,9,    34.8215,2,     639.72,2,       0.26,       0.01,       0.08,       0.01,      0.006,     -999.0,9,    1.64499,2,      0.060,1,      0.000,2,     -999.0,9,     -999.0,9,     -999.0,9,     99.953,     0.0019,2,      0.050,1,      0.423,1,     -999.0,9
49NZ20210713,        P01,      36,          1,         15,     X12S15,2,20210724,       0705,    46.0696,   158.3264,       4838,  2529.5,2,   1.5889,2,  34.6502,2,  34.6497,2,   114.00,2,  113.97,2,  161.37,2,    0.02,2,   38.58,2,    0.00,2,   2.691,2,   0.000,2,   0.000,2,   0.002,2,   0.018,2,  2355.6,2,  2415.9,2,   40.44,4, -999.00,9,    34.8307,2,     639.91,2,       0.25,       0.01,       0.08,       0.01,      0.006,     0.0107,2,    1.58882,2,      0.060,1,      0.000,2,      0.344,1,      0.199,1,      0.037,1,     99.972,     0.0011,2,      0.049,1,      0.412,1,     -999.0,9
49NZ20210713,        P01,      36,          1,         14,     X12S14,2,20210724,       0705,    46.0696,   158.3264,       4838,  2728.9,2,   1.5497,2,  34.6577,2,  34.6575,2,   121.96,2,  122.02,2,  159.17,2,    0.01,2,   38.07,2,    0.00,2,   2.659,2,   0.000,2,   0.000,2,   0.002,2,   0.038,2,  2349.7,2,  2416.1,2,   37.09,2, -999.00,9,    34.8393,2,     640.06,2,       0.36,       0.01,       0.08,       0.01,      0.006,     -999.0,9,    1.54953,2,      0.059,1,      0.000,2,     -999.0,9,     -999.0,9,     -999.0,9,     99.965,     0.0014,2,      0.050,1,      0.403,1,     -999.0,9
49NZ20210713,        P01,      36,          1,         13,     X12S13,2,20210724,       0705,    46.0696,   158.3264,       4838,  2930.5,2,   1.5100,2,  34.6647,2,  34.6652,2,   129.61,2,  129.71,2,  157.16,2,    0.01,2,   37.60,2,    0.00,2,   2.619,2,   0.001,2,   0.000,2,   0.002,2,   0.054,2,  2344.0,2,  2415.1,2,   35.64,2, -999.00,9,    34.8461,2,     640.26,2,       0.25,       0.01,       0.08,       0.01,      0.006,     0.0102,2,    1.50963,2,      0.059,1,      0.000,2,      0.295,1,      0.160,1,      0.026,1,     99.967,     0.0013,2,      0.049,1,      0.386,1,     -999.0,9
49NZ20210713,        P01,      36,          1,         12,     X12S12,2,20210724,       0705,    46.0696,   158.3264,       4838,  3169.8,2,   1.4812,2,  34.6707,2,  34.6712,2,   136.13,2,  136.20,2,  155.59,2,    0.01,2,   37.23,2,    0.00,2,   2.587,2,   0.029,3,   0.070,3,   0.008,3,   1.612,3,  2338.9,2,  2418.2,6,   37.28,2, -999.00,9,    34.8524,2,     640.31,2,       0.24,       0.01,       0.08,       0.01,      0.006,     -999.0,9,    1.48103,2,      0.059,1,      0.000,2,     -999.0,9,     -999.0,9,     -999.0,9,     99.976,     0.0010,2,      0.049,1,      0.371,1,     -999.0,9
49NZ20210713,        P01,      36,          1,         11,     X12S11,2,20210724,       0705,    46.0696,   158.3264,       4838,  3420.2,2,   1.4598,2,  34.6757,2,  34.6752,2,   142.05,2,  141.91,2,  153.98,2,    0.01,2,   36.90,2,    0.00,2,   2.556,2,   0.043,3,   0.113,3,   0.014,3,   2.562,3,  2335.0,2,  2413.2,2,   37.87,2, -999.00,9,    34.8571,2,     640.41,2,       0.24,       0.01,       0.08,       0.01,      0.006,     0.0101,2,    1.45979,2,      0.058,1,      0.000,2,      0.293,1,      0.160,1,      0.027,1,     99.976,     0.0010,2,      0.048,1,      0.389,1,     -999.0,9
49NZ20210713,        P01,      36,          1,         10,     X12S10,2,20210724,       0705,    46.0696,   158.3264,       4838,  3670.6,2,   1.4454,2,  34.6799,2,  34.6803,2,   147.29,2,  146.80,2,  152.56,2,    0.01,2,   36.52,2,    0.00,2,   2.533,2,   0.002,2,   0.001,2,   0.000,2,   0.000,2,  2327.9,2,  2413.3,2,   38.24,2, -999.00,9,    34.8610,2,     640.51,2,       0.24,       0.01,       0.08,       0.01,      0.006,     -999.0,9,    1.44523,2,      0.057,1,      0.000,2,     -999.0,9,     -999.0,9,     -999.0,9,     99.985,     0.0006,2,      0.048,1,      0.422,1,     -999.0,9
49NZ20210713,        P01,      36,          1,          9,     X12S09,2,20210724,       0705,    46.0696,   158.3264,       4838,  3919.6,2,   1.4409,2,  34.6833,2,  34.6831,2,   151.22,2,  150.58,2,  151.84,2,    0.01,2,   36.27,2,    0.00,2,   2.512,2,   0.022,3,   0.053,3,   0.007,3,   1.207,3,  2328.4,2,  2412.2,2,   38.95,2, -999.00,9,    34.8637,2,     640.51,2,       0.24,       0.01,       0.08,       0.01,      0.006,     0.0103,2,    1.44088,2,      0.057,1,      0.000,2,      0.285,1,      0.152,1,      0.024,1,     99.999,     0.0000,2,      0.047,1,      0.426,1,     -999.0,9
49NZ20210713,        P01,      36,          1,          8,     X12S08,2,20210724,       0705,    46.0696,   158.3264,       4838,  4169.7,2,   1.4478,2,  34.6856,2,  34.6858,2,   153.79,2,  153.16,2,  151.64,2,    0.00,2,   36.03,2,    0.00,2,   2.504,2,   0.003,2,   0.001,2,   0.000,2,   0.030,2,  2326.6,6,  2413.5,2,   37.94,2, -999.00,9,    34.8656,2,     640.56,2,       0.24,       0.01,       0.08,       0.01,      0.006,     -999.0,9,    1.44780,2,      0.057,1,      0.000,2,     -999.0,9,     -999.0,9,     -999.0,9,     99.967,     0.0013,2,      0.050,1,      0.426,1,     -999.0,9
49NZ20210713,        P01,      36,          1,          7,     X12S07,2,20210724,       0705,    46.0696,   158.3264,       4838,  4419.2,2,   1.4622,2,  34.6870,2,  34.6865,2,   155.46,2,  154.87,2,  151.79,2,    0.00,2,   35.88,2,    0.00,2,   2.488,2,   0.005,2,   0.002,2,   0.000,2,   0.000,2,  2324.3,2,  2415.5,2,   38.64,2, -999.00,9,    34.8676,2,     640.62,2,       0.24,       0.01,       0.08,       0.01,      0.006,     0.0098,2,    1.46219,2,      0.056,1,      0.000,2,      0.278,1,      0.150,1,      0.022,1,     99.951,     0.0020,2,      0.049,1,      0.417,1,     -999.0,9