BOTTLE,20231011CCHSIOENA
EXPOCODE,SECT_ID,STNNBR,CASTNO,SAMPNO,BTLNBR,BTLNBR_FLAG_W,DATE,TIME,LATITUDE,LONGITUDE,DEPTH,CTDPRS,CTDPRS_FLAG_W,CTDTMP,CTDTMP_FLAG_W,CTDSAL,CTDSAL_FLAG_W,SALNTY,SALNTY_FLAG_W,CTDOXY,CTDOXY_FLAG_W,OXYGEN,OXYGEN_FLAG_W,SILCAT,SILCAT_FLAG_W,NH4,NH4_FLAG_W,NITRAT,NITRAT_FLAG_W,NITRIT,NITRIT_FLAG_W,PHSPHT,PHSPHT_FLAG_W,CFC-11,CFC-11_FLAG_W,CFC-12,CFC-12_FLAG_W,CFC113,CFC113_FLAG_W,SF6,SF6_FLAG_W,TCARBN,TCARBN_FLAG_W,ALKALI,ALKALI_FLAG_W,DOC,DOC_FLAG_W,TDN,TDN_FLAG_W,DNSSAL,DNSSAL_FLAG_W,RIANOMALY,RIANOMALY_FLAG_W,SILUNC,NH4UNC,NRAUNC,NRIUNC,PHPUNC,FDOM,FDOM_FLAG_W,REFTMP,REFTMP_FLAG_W,CTDFLUOR,CTDFLUOR_FLAG_W,PAR,PAR_FLAG_W,CDOM300,CDOM300_FLAG_W,CDOM325,CDOM325_FLAG_W,CDOM443,CDOM443_FLAG_W,CTDXMISS,CTDBEAMCP,CTDBEAMCP_FLAG_W,CTDTURB,CTDTURB_FLAG_W,CTDCDOM,CTDCDOM_FLAG_W,CHLORA,CHLORA_FLAG_W
,,,,,,,,,,,METERS,DBAR,,ITS-90,,PSS-78,,PSS-78,,UMOL/KG,,UMOL/KG,,UMOL/KG,,UMOL/KG,,UMOL/KG,,UMOL/KG,,UMOL/KG,,PMOL/KG,,PMOL/KG,,PMOL/KG,,FMOL/KG,,UMOL/KG,,UMOL/KG,,UMOL/KG,,UMOL/KG,,G/KG,,ND,,UMOL/KG,UMOL/KG,UMOL/KG,UMOL/KG,UMOL/KG,RFU,,ITS-90,,MG/M^3,,UMOL/M^2/SEC,,/METER,,/METER,,/METER,,%TRANS,/METER,,FTU,,QSU,,UG/L,
49NZ20210713,        P01,      21,          1,          6,     X12S06,2,20210719,       2040,    40.0281,   148.4028,       5459,  4829.6,2,   1.5023,2,  34.6877,2,  34.6875,2,   156.99,2,  156.74,2,  150.01,2,    0.02,2,   35.71,2,    0.00,2,   2.475,2,   0.002,2,   0.000,2,   0.000,2,   0.000,2,  2326.9,2,  2409.6,6,   35.49,2, -999.00,9,    34.8686,2,     640.62,2,       0.24,       0.01,       0.08,       0.01,      0.006,     -999.0,9,    1.50244,2,      0.051,1,      0.000,2,     -999.0,9,     -999.0,9,     -999.0,9,     99.921,     0.0032,2,      0.055,1,      0.383,1,     -999.0,9
49NZ20210713,        P01,      21,          1,          5,     X12S05,2,20210719,       2040,    40.0281,   148.4028,       5459,  5082.8,2,   1.5245,2,  34.6887,2,  34.6888,2,   158.12,2,  157.89,2,  149.88,2,    0.01,2,   35.60,2,    0.00,2,   2.466,2,   0.006,2,   0.002,2,   0.000,2,   0.000,2,  2324.6,2,  2411.8,2,   39.57,2, -999.00,9,    34.8686,2,     640.62,2,       0.24,       0.01,       0.08,       0.01,      0.006,     0.0087,2,    1.52463,2,      0.051,1,      0.000,2,      0.292,1,      0.165,1,      0.031,1,     99.841,     0.0064,2,      0.059,1,      0.416,1,     -999.0,9
49NZ20210713,        P01,      21,          1,          4,     X12S04,2,20210719,       2040,    40.0281,   148.4028,       5459,  5330.1,2,   1.5471,2,  34.6894,2,  34.6899,2,   159.74,2,  159.69,2,  148.27,2,    0.01,2,   35.45,2,    0.00,2,   2.462,2,   0.008,2,   0.003,2,   0.000,2,   0.000,2,  2322.0,2,  2412.7,2,   38.11,2, -999.00,9,    34.8712,2,     640.67,2,       0.23,       0.01,       0.08,       0.01,      0.006,     0.0091,2,    1.54711,2,      0.051,1,      0.000,2,      0.288,1,      0.156,1,      0.023,1,     99.726,     0.0110,2,      0.064,1,      0.463,1,     -999.0,9
49NZ20210713,        P01,      21,          1,          1,     X12S01,2,20210719,       2040,    40.0281,   148.4028,       5459,  5552.1,2,   1.5689,2,  34.6902,2,  34.6906,2,   160.61,2,  160.73,2,  147.87,2,    0.02,2,   35.42,2,    0.01,2,   2.456,2,   0.003,2,   0.002,2,   0.000,2,   0.007,2,  2314.6,2,  2408.7,2,   38.16,2, -999.00,9,    34.8699,2,     640.72,2,       0.23,       0.01,       0.10,       0.01,      0.006,     0.0089,2,    1.56890,2,      0.051,1,      0.000,2,      0.314,1,      0.181,1,      0.035,1,     99.032,     0.0389,2,      0.113,1,      0.465,1,     -999.0,9