BOTTLE,20231011CCHSIOENA
EXPOCODE,SECT_ID,STNNBR,CASTNO,SAMPNO,BTLNBR,BTLNBR_FLAG_W,DATE,TIME,LATITUDE,LONGITUDE,DEPTH,CTDPRS,CTDPRS_FLAG_W,CTDTMP,CTDTMP_FLAG_W,CTDSAL,CTDSAL_FLAG_W,SALNTY,SALNTY_FLAG_W,CTDOXY,CTDOXY_FLAG_W,OXYGEN,OXYGEN_FLAG_W,SILCAT,SILCAT_FLAG_W,NH4,NH4_FLAG_W,NITRAT,NITRAT_FLAG_W,NITRIT,NITRIT_FLAG_W,PHSPHT,PHSPHT_FLAG_W,CFC-11,CFC-11_FLAG_W,CFC-12,CFC-12_FLAG_W,CFC113,CFC113_FLAG_W,SF6,SF6_FLAG_W,TCARBN,TCARBN_FLAG_W,ALKALI,ALKALI_FLAG_W,DOC,DOC_FLAG_W,TDN,TDN_FLAG_W,DNSSAL,DNSSAL_FLAG_W,RIANOMALY,RIANOMALY_FLAG_W,SILUNC,NH4UNC,NRAUNC,NRIUNC,PHPUNC,FDOM,FDOM_FLAG_W,REFTMP,REFTMP_FLAG_W,CTDFLUOR,CTDFLUOR_FLAG_W,PAR,PAR_FLAG_W,CDOM300,CDOM300_FLAG_W,CDOM325,CDOM325_FLAG_W,CDOM443,CDOM443_FLAG_W,CTDXMISS,CTDBEAMCP,CTDBEAMCP_FLAG_W,CTDTURB,CTDTURB_FLAG_W,CTDCDOM,CTDCDOM_FLAG_W,CHLORA,CHLORA_FLAG_W
,,,,,,,,,,,METERS,DBAR,,ITS-90,,PSS-78,,PSS-78,,UMOL/KG,,UMOL/KG,,UMOL/KG,,UMOL/KG,,UMOL/KG,,UMOL/KG,,UMOL/KG,,PMOL/KG,,PMOL/KG,,PMOL/KG,,FMOL/KG,,UMOL/KG,,UMOL/KG,,UMOL/KG,,UMOL/KG,,G/KG,,ND,,UMOL/KG,UMOL/KG,UMOL/KG,UMOL/KG,UMOL/KG,RFU,,ITS-90,,MG/M^3,,UMOL/M^2/SEC,,/METER,,/METER,,/METER,,%TRANS,/METER,,FTU,,QSU,,UG/L,
49NZ20210713,        P01,       5,          1,         36,     X12S36,2,20210715,       2217,    42.6333,   145.6998,       2403,    10.6,2,  14.8684,2,  32.7390,2,  32.7413,2,   287.77,2,  288.07,2,    0.36,2,    0.28,2,    1.23,2,    0.06,2,   0.213,2,   2.999,2,   1.722,2,   0.257,2,   2.931,2,  1977.1,2,  2217.2,2,   69.07,2, -999.00,9,    32.8984,2,     604.84,2,       0.05,       0.02,       0.02,       0.01,      0.006,     0.0076,2,   14.93097,2,      2.163,1,    115.636,2,      0.656,1,      0.410,1,      0.062,1,     92.518,     0.3111,2,      0.375,1,      0.472,1,       1.29,2
49NZ20210713,        P01,       5,          1,          2,     X12B34,2,20210715,       2217,    42.6333,   145.6998,       2403,    10.6,2,  14.9007,2,  32.7445,2,  32.7312,2,   286.99,2,  287.79,2,    0.33,2,    0.27,2,    1.12,2,    0.06,2,   0.205,2,-999.000,9,-999.000,9,-999.000,9,-999.000,9,  1978.6,2,  2214.0,2,   73.36,2, -999.00,9,    32.8909,2,     604.63,2,       0.04,       0.02,       0.01,       0.01,      0.003,     0.0076,2,   14.96149,2,      2.120,1,    114.416,2,      0.615,1,      0.377,1,      0.052,1,     92.385,     0.3168,2,      0.382,1,      0.467,1,       1.33,2
49NZ20210713,        P01,       5,          1,         35,     X12S35,2,20210715,       2217,    42.6333,   145.6998,       2403,    50.5,2,   8.7150,2,  33.8717,2,  33.8825,2,   252.98,2,  253.27,2,   17.75,2,    0.99,2,   13.36,2,    0.22,2,   1.132,2,   3.587,2,   1.743,2,   0.292,2,   3.065,2,  2112.3,2,  2265.3,2,   53.98,2, -999.00,9,    34.0448,2,     625.84,2,       0.06,       0.03,       0.04,       0.01,      0.004,     0.0068,2,    8.75558,2,      0.319,1,      2.264,2,      0.358,1,      0.200,1,      0.028,1,     98.955,     0.0420,2,      0.120,1,      0.469,1,       0.20,2
49NZ20210713,        P01,       5,          1,         34,     X12S34,2,20210715,       2217,    42.6333,   145.6998,       2403,   100.7,2,   3.8706,2,  33.3332,2,  33.3379,2,   295.92,2,  297.54,2,   37.85,2,    0.47,2,   22.49,2,    0.26,2,   1.815,2,   4.773,2,   2.201,2,   0.427,2,   4.110,2,  2145.3,2,  2247.4,2,   54.22,2, -999.00,9,    33.5036,2,     615.99,2,       0.09,       0.02,       0.05,       0.01,      0.005,     0.0067,2,    3.83654,2,      0.143,1,      0.000,2,      0.430,1,      0.236,1,      0.044,1,     99.353,     0.0260,2,      0.107,1,      0.467,1,       0.07,2
49NZ20210713,        P01,       5,          1,         33,     X12S33,2,20210715,       2217,    42.6333,   145.6998,       2403,   150.6,2,   3.3231,2,  33.4259,2,  33.4179,2,   264.71,2,  266.56,2,   47.16,2,    0.03,2,   25.43,2,    0.02,2,   1.961,2,   4.509,2,   2.098,2,   0.392,2,   3.638,2,  2175.4,2,  2260.6,2,   50.68,2, -999.00,9,    33.5805,2,     617.28,2,       0.10,       0.01,       0.06,       0.01,      0.005,     0.0078,2,    3.33237,2,      0.101,1,      0.000,2,      0.434,1,      0.240,1,      0.035,1,     99.408,     0.0238,2,      0.097,1,      0.509,1,       0.05,2
49NZ20210713,        P01,       5,          1,         32,     X12S32,2,20210715,       2217,    42.6333,   145.6998,       2403,   200.3,2,   2.6408,2,  33.4644,2,  33.4653,2,   222.31,2,  221.42,2,   61.17,2,    0.04,2,   30.23,2,    0.01,2,   2.295,2,   4.188,2,   2.284,2,   0.341,2,   3.223,2,  2213.2,2,  2267.3,2,   55.08,2, -999.00,9,    33.6326,2,     618.24,2,       0.12,       0.01,       0.07,       0.01,      0.006,     0.0090,2,    2.64177,2,      0.091,1,      0.000,2,      0.494,1,      0.289,1,      0.051,1,     99.376,     0.0251,2,      0.096,1,      0.555,1,       0.04,2
49NZ20210713,        P01,       5,          1,         31,     X12S31,2,20210715,       2217,    42.6333,   145.6998,       2403,   250.0,2,   2.7765,2,  33.5923,2,  33.5973,2,   163.39,2,  161.80,2,   74.88,2,    0.03,2,   34.26,2,    0.01,2,   2.558,2,   3.609,2,   1.691,2,   0.268,2,   2.518,2,  2255.9,2,  2277.6,2,   48.36,2, -999.00,9,    33.7639,2,     620.68,2,       0.14,       0.01,       0.07,       0.01,      0.006,     0.0105,2,    2.77515,2,      0.077,1,      0.000,2,      0.499,1,      0.299,1,      0.056,1,     99.325,     0.0271,2,      0.110,1,      0.602,1,       0.03,2
49NZ20210713,        P01,       5,          1,         30,     X12S30,2,20210715,       2217,    42.6333,   145.6998,       2403,   299.7,2,   3.1265,2,  33.7002,2,  33.7004,2,   129.04,2,  127.74,2,   82.56,2,    0.02,2,   36.52,2,    0.01,2,   2.694,2,   3.136,2,   1.706,2,   0.229,2,   2.012,2,  2271.8,2,  2285.5,2,   48.86,2, -999.00,9,    33.8654,2,     622.49,2,       0.15,       0.01,       0.09,       0.01,      0.006,     0.0114,2,    3.12596,2,      0.075,1,      0.000,2,      0.473,1,      0.277,1,      0.056,1,     99.392,     0.0244,2,      0.112,1,      0.624,1,     -999.0,9
49NZ20210713,        P01,       5,          1,         29,     X12S29,2,20210715,       2217,    42.6333,   145.6998,       2403,   401.9,2,   3.7281,2,  33.9457,2,  33.9432,2,    77.79,2,   77.56,2,   96.63,2,    0.02,2,   39.29,2,    0.01,2,   2.842,2,   2.131,2,   1.154,2,   0.139,2,   1.114,2,  2309.4,2,  2309.3,2,   45.76,2, -999.00,9,    34.1180,2,     627.03,2,       0.17,       0.01,       0.08,       0.01,      0.006,     0.0121,2,    3.72829,2,      0.073,1,      0.000,2,      0.431,1,      0.252,1,      0.048,1,     99.727,     0.0109,2,      0.074,1,      0.653,1,     -999.0,9
49NZ20210713,        P01,       5,          1,         28,     X12S28,2,20210715,       2217,    42.6333,   145.6998,       2403,   500.1,2,   3.2467,2,  33.9938,2,  33.9948,2,    50.76,2,   50.75,2,  111.08,2,    0.03,2,   41.98,2,    0.00,2,   3.023,2,   1.762,2,   0.964,2,   0.119,2,   0.990,2,  2335.8,2,  2321.8,2,   44.10,2, -999.00,9,    34.1694,2,     628.03,2,       0.18,       0.01,       0.09,       0.01,      0.006,     0.0130,2,    3.24473,2,      0.076,1,      0.000,2,      0.456,1,      0.274,1,      0.059,1,     99.807,     0.0077,2,      0.070,1,      0.680,1,     -999.0,9
49NZ20210713,        P01,       5,          1,         27,     X12S27,2,20210715,       2217,    42.6333,   145.6998,       2403,   599.5,2,   3.1340,2,  34.0865,2,  34.0854,2,    37.81,2,   37.78,2,  121.84,2,    0.02,2,   42.76,2,    0.00,2,   3.076,2,   1.363,2,   0.729,2,   0.097,2,   0.631,2,  2350.1,2,  2329.2,2,   42.57,2, -999.00,9,    34.2624,2,     629.68,2,       0.20,       0.01,       0.09,       0.01,      0.006,     0.0131,2,    3.13377,2,      0.081,1,      0.000,2,      0.463,1,      0.281,1,      0.070,1,     99.833,     0.0067,2,      0.072,1,      0.700,1,     -999.0,9
49NZ20210713,        P01,       5,          1,         26,     X12S26,2,20210715,       2217,    42.6333,   145.6998,       2403,   698.3,2,   3.3035,2,  34.2079,2,  34.2081,2,    31.75,2,   31.98,2,  127.40,2,    0.01,2,   42.82,2,    0.00,2,   3.067,2,   0.837,2,   0.455,2,   0.048,2,   0.434,2,  2358.1,6,  2348.0,2,   40.93,2, -999.00,9,    34.3831,2,     631.88,2,       0.21,       0.01,       0.09,       0.01,      0.006,     -999.0,9,    3.30385,2,      0.075,1,      0.000,2,     -999.0,9,     -999.0,9,     -999.0,9,     99.801,     0.0080,2,      0.071,1,      0.690,1,     -999.0,9
49NZ20210713,        P01,       5,          1,         25,     X12S25,2,20210715,       2217,    42.6333,   145.6998,       2403,   800.0,2,   3.1654,2,  34.2738,2,  34.2738,2,    29.12,2,   30.41,2,  134.15,2,    0.03,2,   42.96,2,    0.00,2,   3.072,2,   0.572,2,   0.329,2,   0.033,2,   0.188,2,  2363.9,2,  2362.6,2,   41.18,2, -999.00,9,    34.4517,2,     633.13,2,       0.22,       0.01,       0.09,       0.01,      0.006,     0.0133,2,    3.16553,2,      0.075,1,      0.000,2,      0.406,1,      0.242,1,      0.051,1,     99.846,     0.0062,2,      0.068,1,      0.691,1,     -999.0,9
49NZ20210713,        P01,       5,          1,         24,     X12S24,2,20210715,       2217,    42.6333,   145.6998,       2403,   901.6,2,   2.9715,2,  34.3217,2,  34.3219,2,    28.72,2,   28.97,2,  141.02,2,    0.02,2,   43.12,2,    0.00,2,   3.090,2,   0.437,2,   0.248,2,   0.026,2,   0.215,2,  2374.1,2,  2366.0,2,   42.31,2, -999.00,9,    34.4991,2,     633.99,2,       0.23,       0.01,       0.09,       0.01,      0.006,     -999.0,9,    2.97159,2,      0.074,1,      0.000,2,     -999.0,9,     -999.0,9,     -999.0,9,     99.844,     0.0062,2,      0.068,1,      0.699,1,     -999.0,9
49NZ20210713,        P01,       5,          1,         23,     X12S23,2,20210715,       2217,    42.6333,   145.6998,       2403,   999.9,2,   2.8558,2,  34.3673,2,  34.3664,2,    31.69,2,   32.45,2,  144.77,2,    0.01,2,   42.92,2,    0.00,2,   3.079,2,   0.316,2,   0.184,2,   0.017,2,   0.120,2,  2375.3,2,  2372.3,2,   41.59,2, -999.00,9,    34.5446,2,     634.88,2,       0.23,       0.01,       0.09,       0.01,      0.006,     0.0131,2,    2.85858,2,      0.073,1,      0.000,2,      0.403,1,      0.240,1,      0.049,1,     99.862,     0.0055,2,      0.067,1,      0.693,1,     -999.0,9
49NZ20210713,        P01,       5,          1,         22,     X12S22,2,20210715,       2217,    42.6333,   145.6998,       2403,  1197.9,2,   2.5560,2,  34.4346,2,  34.4350,2,    36.15,2,   36.33,2,  154.04,2,    0.03,2,   42.93,2,    0.00,2,   3.069,2,   0.189,2,   0.113,2,   0.012,2,   0.123,2,  2381.8,2,  2388.9,6,   39.70,2, -999.00,9,    34.6152,2,     636.13,2,       0.24,       0.01,       0.09,       0.01,      0.006,     -999.0,9,    2.55716,2,      0.072,1,      0.000,2,     -999.0,9,     -999.0,9,     -999.0,9,     99.938,     0.0025,2,      0.066,1,      0.686,1,     -999.0,9
49NZ20210713,        P01,       5,          1,         21,     X12S21,2,20210715,       2217,    42.6333,   145.6998,       2403,  1399.7,2,   2.3996,2,  34.4923,2,  34.4946,2,    43.58,2,   44.45,2,  157.76,2,    0.02,2,   42.56,2,    0.00,2,   3.041,2,   0.084,2,   0.051,2,   0.003,2,   0.074,2,  2381.9,2,  2399.4,2,   38.15,2, -999.00,9,    34.6745,2,     637.24,2,       0.25,       0.01,       0.09,       0.01,      0.006,     0.0127,2,    2.39921,2,      0.070,1,      0.000,2,      0.378,1,      0.229,1,      0.050,1,     99.858,     0.0057,2,      0.065,1,      0.678,1,     -999.0,9
49NZ20210713,        P01,       5,          1,         20,     X12S20,2,20210715,       2217,    42.6333,   145.6998,       2403,  1599.5,2,   2.2371,2,  34.5272,2,  34.5276,2,    50.42,2,   50.70,2,  161.11,2,    0.02,2,   42.31,2,    0.00,2,   3.010,2,   0.050,2,   0.030,2,   0.004,2,   0.063,2,  2383.1,2,  2398.4,2,   37.65,2, -999.00,9,    34.7101,2,     637.78,2,       0.25,       0.01,       0.09,       0.01,      0.006,     -999.0,9,    2.23619,2,      0.068,1,      0.000,2,     -999.0,9,     -999.0,9,     -999.0,9,     99.958,     0.0017,2,      0.063,1,      0.673,1,     -999.0,9
49NZ20210713,        P01,       5,          1,         19,     X12S19,2,20210715,       2217,    42.6333,   145.6998,       2403,  1801.9,2,   2.1000,2,  34.5609,2,  34.5612,2,    60.95,2,   60.86,2,  162.41,2,    0.01,2,   41.76,2,    0.00,2,   2.957,2,   0.022,2,   0.014,2,   0.002,2,   0.088,2,  2378.7,2,  2403.7,2,   37.86,2, -999.00,9,    34.7431,2,     638.34,2,       0.25,       0.01,       0.09,       0.01,      0.006,     0.0123,2,    2.10024,2,      0.067,1,      0.000,2,      0.359,1,      0.213,1,      0.042,1,     99.919,     0.0032,2,      0.062,1,      0.661,1,     -999.0,9
49NZ20210713,        P01,       5,          1,         18,     X12S18,2,20210715,       2217,    42.6333,   145.6998,       2403,  2002.0,2,   1.9638,2,  34.5896,2,  34.5894,2,    73.42,2,   73.56,2,  162.97,2,    0.02,2,   40.99,2,    0.00,2,   2.896,2,   0.006,2,   0.004,2,   0.000,2,   0.037,2,  2375.3,2,  2415.7,2,   39.88,2, -999.00,9,    34.7714,2,     638.88,2,       0.25,       0.01,       0.09,       0.01,      0.006,     -999.0,9,    1.96407,2,      0.065,1,      0.000,2,     -999.0,9,     -999.0,9,     -999.0,9,     99.787,     0.0085,2,      0.075,1,      0.648,1,     -999.0,9
49NZ20210713,        P01,       5,          1,         17,     X12S17,2,20210715,       2217,    42.6333,   145.6998,       2403,  2201.6,2,   1.8537,2,  34.6102,2,  34.6102,2,    85.53,2,   85.25,2,  163.90,2,    0.02,2,   40.13,2,    0.02,2,   2.847,2,   0.005,2,   0.002,2,   0.001,2,   0.034,2,  2369.9,2,  2415.1,2,   39.04,2, -999.00,9,    34.7912,2,     639.28,2,       0.26,       0.01,       0.08,       0.01,      0.006,     0.0114,2,    1.85397,2,      0.066,1,      0.000,2,      0.451,1,      0.289,1,      0.078,1,     98.923,     0.0433,2,      0.120,1,      0.656,1,     -999.0,9
49NZ20210713,        P01,       5,          1,         16,     X12S16,2,20210715,       2217,    42.6333,   145.6998,       2403,  2400.4,2,   1.6849,2,  34.6371,2,  34.6370,2,   105.15,2,  105.20,2,  161.49,2,    0.02,2,   39.07,2,    0.01,2,   2.748,2,   0.001,2,   0.001,2,   0.002,2,   0.086,2,  2358.6,6,  2412.8,2,   37.66,2, -999.00,9,    34.8202,2,     639.74,2,       0.25,       0.01,       0.08,       0.01,      0.006,     -999.0,9,    1.68521,2,      0.064,1,      0.000,2,     -999.0,9,     -999.0,9,     -999.0,9,     99.234,     0.0308,2,      0.115,1,      0.624,1,     -999.0,9
49NZ20210713,        P01,       5,          1,          1,     X12S01,2,20210715,       2217,    42.6333,   145.6998,       2403,  2421.7,2,   1.6870,2,  34.6369,2,  34.6372,2,   105.16,2,  105.24,2,  161.67,2,    0.03,2,   39.05,2,    0.01,2,   2.750,2,   0.003,2,   0.002,2,   0.002,2,   0.071,2,  2351.9,2,  2418.9,2,   39.31,2, -999.00,9,    34.8215,2,     639.68,2,       0.25,       0.01,       0.08,       0.01,      0.006,     0.0111,2,    1.68733,2,      0.064,1,      0.000,2,      0.355,1,      0.212,1,      0.047,1,     99.113,     0.0356,2,      0.125,1,      0.628,1,     -999.0,9