BOTTLE,20231011CCHSIOENA
EXPOCODE,SECT_ID,STNNBR,CASTNO,SAMPNO,BTLNBR,BTLNBR_FLAG_W,DATE,TIME,LATITUDE,LONGITUDE,DEPTH,CTDPRS,CTDPRS_FLAG_W,CTDTMP,CTDTMP_FLAG_W,CTDSAL,CTDSAL_FLAG_W,SALNTY,SALNTY_FLAG_W,CTDOXY,CTDOXY_FLAG_W,OXYGEN,OXYGEN_FLAG_W,SILCAT,SILCAT_FLAG_W,NH4,NH4_FLAG_W,NITRAT,NITRAT_FLAG_W,NITRIT,NITRIT_FLAG_W,PHSPHT,PHSPHT_FLAG_W,CFC-11,CFC-11_FLAG_W,CFC-12,CFC-12_FLAG_W,CFC113,CFC113_FLAG_W,SF6,SF6_FLAG_W,TCARBN,TCARBN_FLAG_W,ALKALI,ALKALI_FLAG_W,DOC,DOC_FLAG_W,TDN,TDN_FLAG_W,DNSSAL,DNSSAL_FLAG_W,RIANOMALY,RIANOMALY_FLAG_W,SILUNC,NH4UNC,NRAUNC,NRIUNC,PHPUNC,FDOM,FDOM_FLAG_W,REFTMP,REFTMP_FLAG_W,CTDFLUOR,CTDFLUOR_FLAG_W,PAR,PAR_FLAG_W,CDOM300,CDOM300_FLAG_W,CDOM325,CDOM325_FLAG_W,CDOM443,CDOM443_FLAG_W,CTDXMISS,CTDBEAMCP,CTDBEAMCP_FLAG_W,CTDTURB,CTDTURB_FLAG_W,CTDCDOM,CTDCDOM_FLAG_W,CHLORA,CHLORA_FLAG_W
,,,,,,,,,,,METERS,DBAR,,ITS-90,,PSS-78,,PSS-78,,UMOL/KG,,UMOL/KG,,UMOL/KG,,UMOL/KG,,UMOL/KG,,UMOL/KG,,UMOL/KG,,PMOL/KG,,PMOL/KG,,PMOL/KG,,FMOL/KG,,UMOL/KG,,UMOL/KG,,UMOL/KG,,UMOL/KG,,G/KG,,ND,,UMOL/KG,UMOL/KG,UMOL/KG,UMOL/KG,UMOL/KG,RFU,,ITS-90,,MG/M^3,,UMOL/M^2/SEC,,/METER,,/METER,,/METER,,%TRANS,/METER,,FTU,,QSU,,UG/L,
49NZ20210713,        P01,      87,          1,          6,     X12S06,2,20210811,       1517,    46.9956,  -151.9999,       5131,  4829.7,2,   1.5479,2,  34.6849,2,  34.6855,2,   144.17,2,  144.40,2,  169.90,2,    0.01,2,   36.80,2,    0.00,2,   2.551,2,   0.000,2,   0.001,2,   0.000,2,   0.029,2,  2342.5,2,  2428.7,6,   41.47,3, -999.00,9,    34.8677,2,     640.73,2,       0.26,       0.01,       0.08,       0.01,      0.006,     -999.0,9,    1.54791,2,      0.055,1,      0.000,2,     -999.0,9,     -999.0,9,     -999.0,9,     99.966,     0.0014,2,      0.036,1,      0.284,1,     -999.0,9
49NZ20210713,        P01,      87,          1,          5,     X12S05,2,20210811,       1517,    46.9956,  -151.9999,       5131,  5078.8,2,   1.5768,2,  34.6855,2,  34.6853,2,   144.35,2,  144.73,2,  171.54,2,    0.00,2,   36.84,2,    0.00,2,   2.551,2,   0.000,2,   0.001,2,   0.000,2,   0.036,2,  2341.0,2,  2428.6,2,   38.44,2, -999.00,9,    34.8683,2,     640.68,2,       0.27,       0.01,       0.08,       0.01,      0.006,     0.0108,2,    1.57692,2,      0.054,1,      0.000,2,      0.331,1,      0.195,1,      0.036,1,     99.875,     0.0050,2,      0.043,1,      0.287,1,     -999.0,9
49NZ20210713,        P01,      87,          1,          1,     X12S01,2,20210811,       1517,    46.9956,  -151.9999,       5131,  5223.8,2,   1.5949,2,  34.6856,2,  34.6858,2,   144.32,2,  144.58,2,  171.75,2,    0.01,2,   36.82,2,    0.00,2,   2.549,2,   0.000,2,   0.000,2,   0.000,2,   0.087,2,  2342.4,2,  2428.7,2,   36.43,2, -999.00,9,    34.8703,2,     640.73,2,       0.27,       0.01,       0.08,       0.01,      0.006,     0.0108,2,    1.59496,2,      0.054,1,      0.000,2,      0.303,1,      0.172,1,      0.030,1,     99.773,     0.0091,2,      0.049,1,      0.286,1,     -999.0,9