BOTTLE,20231011CCHSIOENA
EXPOCODE,SECT_ID,STNNBR,CASTNO,SAMPNO,BTLNBR,BTLNBR_FLAG_W,DATE,TIME,LATITUDE,LONGITUDE,DEPTH,CTDPRS,CTDPRS_FLAG_W,CTDTMP,CTDTMP_FLAG_W,CTDSAL,CTDSAL_FLAG_W,SALNTY,SALNTY_FLAG_W,CTDOXY,CTDOXY_FLAG_W,OXYGEN,OXYGEN_FLAG_W,SILCAT,SILCAT_FLAG_W,NH4,NH4_FLAG_W,NITRAT,NITRAT_FLAG_W,NITRIT,NITRIT_FLAG_W,PHSPHT,PHSPHT_FLAG_W,CFC-11,CFC-11_FLAG_W,CFC-12,CFC-12_FLAG_W,CFC113,CFC113_FLAG_W,SF6,SF6_FLAG_W,TCARBN,TCARBN_FLAG_W,ALKALI,ALKALI_FLAG_W,DOC,DOC_FLAG_W,TDN,TDN_FLAG_W,DNSSAL,DNSSAL_FLAG_W,RIANOMALY,RIANOMALY_FLAG_W,SILUNC,NH4UNC,NRAUNC,NRIUNC,PHPUNC,FDOM,FDOM_FLAG_W,REFTMP,REFTMP_FLAG_W,CTDFLUOR,CTDFLUOR_FLAG_W,PAR,PAR_FLAG_W,CDOM300,CDOM300_FLAG_W,CDOM325,CDOM325_FLAG_W,CDOM443,CDOM443_FLAG_W,CTDXMISS,CTDBEAMCP,CTDBEAMCP_FLAG_W,CTDTURB,CTDTURB_FLAG_W,CTDCDOM,CTDCDOM_FLAG_W,CHLORA,CHLORA_FLAG_W
,,,,,,,,,,,METERS,DBAR,,ITS-90,,PSS-78,,PSS-78,,UMOL/KG,,UMOL/KG,,UMOL/KG,,UMOL/KG,,UMOL/KG,,UMOL/KG,,UMOL/KG,,PMOL/KG,,PMOL/KG,,PMOL/KG,,FMOL/KG,,UMOL/KG,,UMOL/KG,,UMOL/KG,,UMOL/KG,,G/KG,,ND,,UMOL/KG,UMOL/KG,UMOL/KG,UMOL/KG,UMOL/KG,RFU,,ITS-90,,MG/M^3,,UMOL/M^2/SEC,,/METER,,/METER,,/METER,,%TRANS,/METER,,FTU,,QSU,,UG/L,
49NZ20210713,        P01,      70,          1,         36,     X12S36,2,20210805,       1859,    46.9960,  -170.4249,       5434,    10.1,2,  13.0860,2,  32.7821,2,  32.7806,2,   279.63,2,  280.03,2,   25.27,2,    0.12,2,   15.22,2,    0.25,2,   1.348,2,   3.246,2,   1.612,2,   0.259,2,   3.022,2,  2055.2,2,  2212.5,2,   57.52,2, -999.00,9,    32.9385,2,     605.63,2,       0.09,       0.01,       0.04,       0.01,      0.009,     0.0028,2,   13.08749,2,      1.097,1,    131.216,2,      0.351,1,      0.183,1,      0.028,1,     92.922,     0.2937,2,      0.212,1,      0.177,1,       0.56,2
49NZ20210713,        P01,      70,          1,          2,     X12B34,2,20210805,       1859,    46.9960,  -170.4249,       5434,    19.2,2,   9.2718,2,  32.8711,2,  32.8724,2,   305.45,2,  309.04,2,   25.46,2,    0.15,2,   16.29,2,    0.20,2,   1.438,2,-999.000,9,-999.000,9,-999.000,9,-999.000,9,  2069.0,2,  2217.5,2,   51.25,2, -999.00,9,    33.0319,2,     607.24,2,       0.07,       0.01,       0.04,       0.01,      0.005,     0.0040,2,    9.05983,2,      1.404,1,     62.118,2,      0.378,1,      0.195,1,      0.020,1,     93.822,     0.2551,2,      0.217,1,      0.193,1,       0.52,2
49NZ20210713,        P01,      70,          1,         35,     X12S35,2,20210805,       1859,    46.9960,  -170.4249,       5434,    50.4,2,   7.3398,2,  32.9496,2,  32.9621,2,   305.35,2,  306.87,2,   26.28,2,    0.31,2,   16.83,2,    0.24,2,   1.481,2,   4.226,2,   2.026,2,   0.356,2,   3.884,2,  2083.0,2,  2224.2,2,   55.57,2, -999.00,9,    33.1219,2,     608.99,2,       0.07,       0.02,       0.04,       0.01,      0.005,     0.0049,2,    7.34884,2,      0.855,1,      6.515,2,      0.399,1,      0.217,1,      0.032,1,     98.068,     0.0780,2,      0.123,1,      0.207,1,       0.32,2
49NZ20210713,        P01,      70,          1,         34,     X12S34,2,20210805,       1859,    46.9960,  -170.4249,       5434,   100.2,2,   4.7851,2,  33.1137,2,  33.1145,2,   307.31,2,  308.12,2,   28.59,2,    0.02,2,   19.80,2,    0.02,2,   1.584,2,   4.619,2,   2.150,2,   0.368,2,   4.050,2,  2109.2,2,  2226.8,2,   50.53,2, -999.00,9,    33.2757,2,     611.83,2,       0.07,       0.01,       0.05,       0.01,      0.005,     0.0052,2,    4.78695,2,      0.246,1,      0.082,2,      0.359,1,      0.189,1,      0.024,1,     99.330,     0.0269,2,      0.063,1,      0.216,1,       0.12,2
49NZ20210713,        P01,      70,          1,         33,     X12S33,2,20210805,       1859,    46.9960,  -170.4249,       5434,   150.7,2,   4.7517,2,  33.4345,2,  33.4412,2,   259.92,2,  261.09,2,   38.06,2,    0.03,2,   23.11,2,    0.01,2,   1.754,2,   4.287,2,   2.044,2,   0.282,2,   3.834,2,  2153.3,2,  2244.6,2,   52.72,2, -999.00,9,    33.6038,2,     617.93,2,       0.09,       0.01,       0.05,       0.01,      0.005,     0.0067,2,    4.75462,2,      0.079,1,      0.000,2,      0.400,1,      0.228,1,      0.035,1,     99.564,     0.0175,2,      0.061,1,      0.247,1,       0.02,2
49NZ20210713,        P01,      70,          1,         32,     X12S32,2,20210805,       1859,    46.9960,  -170.4249,       5434,   199.8,2,   4.2763,2,  33.6691,2,  33.6709,2,   172.15,2,  169.78,2,   59.99,2,    0.03,2,   31.06,2,    0.01,2,   2.272,2,   3.593,2,   1.698,2,   0.215,2,   2.500,2,  2227.5,2,  2267.9,2,   46.74,2, -999.00,9,    33.8383,2,     622.13,2,       0.12,       0.01,       0.07,       0.01,      0.006,     0.0098,2,    4.27677,2,      0.073,1,      0.000,2,      0.420,1,      0.242,1,      0.043,1,     99.550,     0.0180,2,      0.059,1,      0.295,1,       0.02,2
49NZ20210713,        P01,      70,          1,         31,     X12S31,2,20210805,       1859,    46.9960,  -170.4249,       5434,   249.6,2,   4.1856,2,  33.7664,2,  33.7716,2,   124.65,2,  123.77,2,   72.27,2,    0.02,2,   35.11,2,    0.00,2,   2.537,2,   3.068,2,   1.697,2,   0.171,2,   1.808,2,  2264.0,2,  2283.9,2,   47.78,2, -999.00,9,    33.9399,2,     623.88,2,       0.13,       0.01,       0.08,       0.01,      0.006,     0.0108,2,    4.18537,2,      0.067,1,      0.000,2,      0.428,1,      0.248,1,      0.044,1,     99.669,     0.0133,2,      0.056,1,      0.309,1,       0.01,2
49NZ20210713,        P01,      70,          1,         30,     X12S30,2,20210805,       1859,    46.9960,  -170.4249,       5434,   279.9,2,   4.1241,2,  33.8136,2,  33.8144,2,   104.21,2,  104.92,2,   77.72,2,    0.01,2,   36.79,2,    0.01,2,   2.649,2,   2.848,2,   1.535,2,   0.162,2,   1.657,2,  2277.1,2,  2286.2,2,   46.77,2, -999.00,9,    33.9828,2,     624.74,2,       0.14,       0.01,       0.08,       0.01,      0.006,     0.0110,2,    4.12383,2,      0.068,1,      0.000,2,      0.448,1,      0.264,1,      0.052,1,     99.701,     0.0120,2,      0.055,1,      0.318,1,     -999.0,9
49NZ20210713,        P01,      70,          1,         29,     X12S29,2,20210805,       1859,    46.9960,  -170.4249,       5434,   369.4,2,   4.0113,2,  33.9606,2,  33.9613,2,    58.98,2,   59.21,2,   94.37,2,    0.01,2,   40.85,2,    0.01,2,   2.906,2,   2.069,2,   1.088,2,   0.118,2,   0.963,2,  2312.9,2,  2302.9,2,   42.14,2, -999.00,9,    34.1319,2,     627.53,2,       0.16,       0.01,       0.09,       0.01,      0.006,     0.0123,2,    4.01139,2,      0.070,1,      0.000,2,      0.442,1,      0.260,1,      0.051,1,     99.801,     0.0080,2,      0.049,1,      0.330,1,     -999.0,9
49NZ20210713,        P01,      70,          1,         28,     X12S28,2,20210805,       1859,    46.9960,  -170.4249,       5434,   469.1,2,   3.8621,2,  34.0844,2,  34.0829,2,    39.14,2,   39.85,2,  107.19,2,    0.00,2,   42.35,2,    0.00,2,   3.005,2,   1.418,2,   0.758,2,   0.081,2,   0.475,2,  2332.1,2,  2323.3,2,   40.94,2, -999.00,9,    34.2544,2,     629.68,2,       0.18,       0.01,       0.09,       0.01,      0.006,     0.0126,2,    3.86220,2,      0.070,1,      0.000,2,      0.418,1,      0.247,1,      0.047,1,     99.834,     0.0067,2,      0.045,1,      0.341,1,     -999.0,9
49NZ20210713,        P01,      70,          1,         27,     X12S27,2,20210805,       1859,    46.9960,  -170.4249,       5434,   569.2,2,   3.6645,2,  34.1645,2,  34.1633,2,    30.88,2,   31.44,2,  117.25,2,   -0.01,2,   42.99,2,    0.00,2,   3.050,2,   1.000,2,   0.532,2,   0.051,2,   0.302,2,  2350.5,2,  2339.1,2,   40.13,2, -999.00,9,    34.3375,2,     631.13,2,       0.19,       0.01,       0.09,       0.01,      0.006,     0.0127,2,    3.66430,2,      0.070,1,      0.000,2,      0.417,1,      0.245,1,      0.048,1,     99.864,     0.0055,2,      0.044,1,      0.345,1,     -999.0,9
49NZ20210713,        P01,      70,          1,         26,     X12S26,2,20210805,       1859,    46.9960,  -170.4249,       5434,   668.4,2,   3.4937,2,  34.2274,2,  34.2270,2,    27.78,2,   27.96,2,  124.65,2,    0.01,2,   43.23,2,    0.00,2,   3.066,2,   0.707,2,   0.378,2,   0.037,2,   0.192,2,  2358.7,6,  2345.3,2,   40.15,2, -999.00,9,    34.4027,2,     632.33,2,       0.20,       0.01,       0.09,       0.01,      0.006,     -999.0,9,    3.49379,2,      0.070,1,      0.000,2,     -999.0,9,     -999.0,9,     -999.0,9,     99.857,     0.0057,2,      0.042,1,      0.343,1,     -999.0,9
49NZ20210713,        P01,      70,          1,         25,     X12S25,2,20210805,       1859,    46.9960,  -170.4249,       5434,   769.7,2,   3.3246,2,  34.2770,2,  34.2764,2,    26.53,2,   26.72,2,  130.48,2,    0.06,2,   43.15,2,    0.00,2,   3.069,2,   0.508,2,   0.281,2,   0.021,2,   0.197,2,  2365.9,2,  2353.2,2,   39.02,2, -999.00,9,    34.4536,2,     633.24,2,       0.21,       0.01,       0.10,       0.01,      0.006,     0.0131,2,    3.32514,2,      0.070,1,      0.000,2,      0.406,1,      0.244,1,      0.048,1,     99.866,     0.0054,2,      0.040,1,      0.340,1,     -999.0,9
49NZ20210713,        P01,      70,          1,         24,     X12S24,2,20210805,       1859,    46.9960,  -170.4249,       5434,   869.2,2,   3.1311,2,  34.3256,2,  34.3259,2,    26.55,2,   26.61,2,  137.01,2,    0.03,2,   43.37,2,    0.00,2,   3.086,2,   0.348,2,   0.201,2,   0.015,2,   0.087,2,  2370.8,2,  2365.9,2,   39.95,2, -999.00,9,    34.5022,2,     634.24,2,       0.22,       0.01,       0.09,       0.01,      0.006,     -999.0,9,    3.13095,2,      0.069,1,      0.000,2,     -999.0,9,     -999.0,9,     -999.0,9,     99.854,     0.0058,2,      0.041,1,      0.341,1,     -999.0,9
49NZ20210713,        P01,      70,          1,         23,     X12S23,2,20210805,       1859,    46.9960,  -170.4249,       5434,   971.0,2,   2.9563,2,  34.3668,2,  34.3664,2,    26.60,2,   27.07,2,  142.74,2,    0.02,2,   43.54,2,    0.00,2,   3.090,2,   0.239,2,   0.138,2,   0.010,2,   0.093,2,  2375.1,2,  2373.2,2,   38.63,2, -999.00,9,    34.5454,2,     635.03,2,       0.23,       0.01,       0.09,       0.01,      0.006,     0.0130,2,    2.95628,2,      0.069,1,      0.000,2,      0.408,1,      0.246,1,      0.055,1,     99.864,     0.0055,2,      0.041,1,      0.346,1,     -999.0,9
49NZ20210713,        P01,      70,          1,         22,     X12S22,2,20210805,       1859,    46.9960,  -170.4249,       5434,  1131.0,2,   2.7384,2,  34.4142,2,  34.4143,2,    27.76,2,   27.80,2,  149.87,2,    0.01,2,   43.71,2,    0.00,2,   3.103,2,   0.147,2,   0.086,2,   0.005,2,   0.083,2,  2385.8,2,  2380.4,6,   37.82,2, -999.00,9,    34.5939,2,     635.88,2,       0.24,       0.01,       0.09,       0.01,      0.006,     -999.0,9,    2.73858,2,      0.069,1,      0.000,2,     -999.0,9,     -999.0,9,     -999.0,9,     99.875,     0.0050,2,      0.040,1,      0.344,1,     -999.0,9
49NZ20210713,        P01,      70,          1,         21,     X12S21,2,20210805,       1859,    46.9960,  -170.4249,       5434,  1330.0,2,   2.4516,2,  34.4706,2,  34.4714,2,    32.09,2,   32.55,2,  158.88,2,    0.03,2,   43.60,2,    0.00,2,   3.089,2,   0.084,2,   0.049,2,   0.004,2,   0.041,2,  2391.2,2,  2394.4,2,   37.28,2, -999.00,9,    34.6510,2,     636.88,2,       0.25,       0.01,       0.09,       0.01,      0.006,     0.0131,2,    2.44913,2,      0.067,1,      0.000,2,      0.390,1,      0.229,1,      0.045,1,     99.892,     0.0043,2,      0.039,1,      0.342,1,     -999.0,9
49NZ20210713,        P01,      70,          1,         20,     X12S20,2,20210805,       1859,    46.9960,  -170.4249,       5434,  1529.5,2,   2.2457,2,  34.5160,2,  34.5156,2,    40.28,2,   41.22,2,  164.10,2,    0.01,2,   43.14,2,    0.00,2,   3.051,2,   0.048,2,   0.026,2,   0.005,2,   0.031,2,  2389.6,2,  2400.0,2,   38.37,2, -999.00,9,    34.6958,2,     637.74,2,       0.26,       0.01,       0.09,       0.01,      0.006,     -999.0,9,    2.24504,2,      0.066,1,      0.000,2,     -999.0,9,     -999.0,9,     -999.0,9,     99.896,     0.0042,2,      0.039,1,      0.340,1,     -999.0,9
49NZ20210713,        P01,      70,          1,         19,     X12S19,2,20210805,       1859,    46.9960,  -170.4249,       5434,  1731.0,2,   2.1190,2,  34.5456,2,  34.5455,2,    48.11,2,   48.34,2,  166.65,2,    0.02,2,   42.71,2,    0.00,2,   3.016,2,   0.023,2,   0.013,2,   0.003,2,   0.039,2,  2387.6,2,  2402.8,2,   35.95,2, -999.00,9,    34.7261,2,     638.24,2,       0.26,       0.01,       0.09,       0.01,      0.006,     0.0126,2,    2.11911,2,      0.064,1,      0.000,2,      0.361,1,      0.209,1,      0.039,1,     99.915,     0.0034,2,      0.039,1,      0.339,1,     -999.0,9
49NZ20210713,        P01,      70,          1,         18,     X12S18,2,20210805,       1859,    46.9960,  -170.4249,       5434,  1930.3,2,   2.0108,2,  34.5702,2,  34.5698,2,    56.64,2,   56.85,2,  168.25,2,    0.02,2,   42.16,2,    0.00,2,   2.971,2,   0.013,2,   0.006,2,   0.000,2,   0.013,2,  2386.7,2,  2409.7,2,   37.00,2, -999.00,9,    34.7534,2,     638.63,2,       0.26,       0.01,       0.09,       0.01,      0.006,     -999.0,9,    2.01083,2,      0.063,1,      0.000,2,     -999.0,9,     -999.0,9,     -999.0,9,     99.922,     0.0031,2,      0.037,1,      0.330,1,     -999.0,9
49NZ20210713,        P01,      70,          1,         17,     X12S17,2,20210805,       1859,    46.9960,  -170.4249,       5434,  2130.4,2,   1.8932,2,  34.5943,2,  34.5943,2,    68.08,2,   68.00,2,  169.44,2,    0.02,2,   41.51,2,    0.00,2,   2.919,2,   0.005,2,   0.001,2,   0.002,2,   0.020,2,  2379.9,2,  2410.9,2,   38.13,2, -999.00,9,    34.7769,2,     639.13,2,       0.26,       0.01,       0.09,       0.01,      0.006,     0.0120,2,    1.89323,2,      0.062,1,      0.000,2,      0.342,1,      0.195,1,      0.037,1,     99.910,     0.0036,2,      0.039,1,      0.327,1,     -999.0,9
49NZ20210713,        P01,      70,          1,         16,     X12S16,2,20210805,       1859,    46.9960,  -170.4249,       5434,  2328.8,2,   1.7974,2,  34.6140,2,  34.6128,2,    77.91,2,   77.31,2,  170.17,2,    0.02,2,   41.00,2,    0.00,2,   2.882,2,   0.000,2,   0.000,2,   0.003,2,   0.034,2,  2378.7,6,  2416.6,2,   35.88,2, -999.00,9,    34.7964,2,     639.43,2,       0.26,       0.01,       0.09,       0.01,      0.006,     -999.0,9,    1.79772,2,      0.061,1,      0.000,2,     -999.0,9,     -999.0,9,     -999.0,9,     99.919,     0.0032,2,      0.040,1,      0.318,1,     -999.0,9
49NZ20210713,        P01,      70,          1,         15,     X12S15,2,20210805,       1859,    46.9960,  -170.4249,       5434,  2530.4,2,   1.7118,2,  34.6301,2,  34.6296,2,    89.67,2,   89.66,2,  169.46,2,    0.02,2,   40.28,2,    0.00,2,   2.821,2,   0.001,2,   0.000,2,   0.000,2,   0.000,2,  2371.2,2,  2415.6,2,   34.55,2, -999.00,9,    34.8118,2,     639.78,2,       0.26,       0.01,       0.08,       0.01,      0.006,     0.0112,2,    1.71194,2,      0.059,1,      0.000,2,      0.331,1,      0.188,1,      0.038,1,     99.917,     0.0033,2,      0.037,1,      0.320,1,     -999.0,9
49NZ20210713,        P01,      70,          1,         14,     X12S14,2,20210805,       1859,    46.9960,  -170.4249,       5434,  2729.9,2,   1.6554,2,  34.6409,2,  34.6408,2,    99.41,2,   99.46,2,  168.30,2,    0.01,2,   39.66,2,    0.00,2,   2.779,2,   0.000,2,   0.000,2,   0.000,2,   0.021,2,  2364.2,2,  2415.0,2,   38.29,2, -999.00,9,    34.8221,2,     639.99,2,       0.26,       0.01,       0.08,       0.01,      0.006,     -999.0,9,    1.65553,2,      0.059,1,      0.000,2,     -999.0,9,     -999.0,9,     -999.0,9,     99.924,     0.0030,2,      0.037,1,      0.322,1,     -999.0,9
49NZ20210713,        P01,      70,          1,         13,     X12S13,2,20210805,       1859,    46.9960,  -170.4249,       5434,  2930.0,2,   1.6046,2,  34.6508,2,  34.6498,2,   108.63,2,  108.78,2,  166.33,2,    0.04,2,   38.93,2,    0.00,2,   2.726,2,   0.000,2,   0.000,2,   0.004,2,   0.000,2,  2357.4,2,  2418.6,2,   36.93,2, -999.00,9,    34.8320,2,     640.13,2,       0.26,       0.01,       0.08,       0.01,      0.006,     0.0107,2,    1.60473,2,      0.058,1,      0.000,2,      0.319,1,      0.182,1,      0.034,1,     99.936,     0.0026,2,      0.038,1,      0.315,1,     -999.0,9
49NZ20210713,        P01,      70,          1,         12,     X12S12,2,20210805,       1859,    46.9960,  -170.4249,       5434,  3170.9,2,   1.5575,2,  34.6599,2,  34.6602,2,   118.79,2,  119.02,2,  164.26,2,    0.04,2,   38.25,2,    0.00,2,   2.672,2,   0.000,2,   0.000,2,   0.002,2,   0.028,2,  2349.3,2,  2417.8,6,   34.03,2, -999.00,9,    34.8431,2,     640.33,2,       0.26,       0.01,       0.08,       0.01,      0.006,     -999.0,9,    1.55745,2,      0.058,1,      0.000,2,     -999.0,9,     -999.0,9,     -999.0,9,     99.945,     0.0022,2,      0.037,1,      0.307,1,     -999.0,9
49NZ20210713,        P01,      70,          1,         11,     X12S11,2,20210805,       1859,    46.9960,  -170.4249,       5434,  3420.3,2,   1.5180,2,  34.6680,2,  34.6680,2,   128.34,2,  128.71,2,  162.02,2,    0.04,2,   37.73,2,    0.00,2,   2.630,2,   0.000,2,   0.000,2,   0.005,2,   0.000,2,  2347.3,2,  2417.2,2,   34.78,2, -999.00,9,    34.8501,2,     640.43,2,       0.25,       0.01,       0.08,       0.01,      0.006,     0.0104,2,    1.51788,2,      0.057,1,      0.000,2,      0.305,1,      0.171,1,      0.032,1,     99.952,     0.0019,2,      0.038,1,      0.307,1,     -999.0,9
49NZ20210713,        P01,      70,          1,         10,     X12S10,2,20210805,       1859,    46.9960,  -170.4249,       5434,  3669.4,2,   1.4928,2,  34.6742,2,  34.6743,2,   135.83,2,  135.92,2,  160.64,2,    0.03,2,   37.26,2,    0.00,2,   2.592,2,   0.001,2,   0.000,2,   0.006,2,   0.000,2,  2342.5,2,  2420.6,2,   34.69,2, -999.00,9,    34.8567,2,     640.53,2,       0.25,       0.01,       0.08,       0.01,      0.006,     -999.0,9,    1.49291,2,      0.057,1,      0.000,2,     -999.0,9,     -999.0,9,     -999.0,9,     99.952,     0.0019,2,      0.038,1,      0.302,1,     -999.0,9
49NZ20210713,        P01,      70,          1,          9,     X12S09,2,20210805,       1859,    46.9960,  -170.4249,       5434,  3919.5,2,   1.4792,2,  34.6790,2,  34.6784,2,   141.81,2,  141.82,2,  159.60,2,    0.02,2,   36.91,2,    0.00,2,   2.561,2,   0.001,2,   0.000,2,   0.001,2,   0.000,2,  2336.5,2,  2416.7,2,   37.51,2, -999.00,9,    34.8626,2,     640.63,2,       0.25,       0.01,       0.08,       0.01,      0.006,     0.0102,2,    1.47926,2,      0.055,1,      0.000,2,      0.298,1,      0.165,1,      0.030,1,     99.947,     0.0021,2,      0.038,1,      0.295,1,     -999.0,9
49NZ20210713,        P01,      70,          1,          8,     X12S08,2,20210805,       1859,    46.9960,  -170.4249,       5434,  4170.6,2,   1.4776,2,  34.6826,2,  34.6826,2,   146.01,2,  145.97,2,  159.69,2,    0.03,2,   36.59,2,    0.00,2,   2.543,2,   0.000,2,   0.000,2,   0.001,2,   0.000,2,  2334.8,6,  2422.1,2,   37.75,2, -999.00,9,    34.8658,2,     640.68,2,       0.25,       0.01,       0.08,       0.01,      0.006,     -999.0,9,    1.47760,2,      0.055,1,      0.000,2,     -999.0,9,     -999.0,9,     -999.0,9,     99.950,     0.0020,2,      0.036,1,      0.310,1,     -999.0,9
49NZ20210713,        P01,      70,          1,          7,     X12S07,2,20210805,       1859,    46.9960,  -170.4249,       5434,  4419.6,2,   1.4873,2,  34.6851,2,  34.6849,2,   148.50,2,  148.22,2,  161.08,2,    0.02,2,   36.49,2,    0.00,2,   2.525,2,   0.000,2,   0.000,2,   0.001,2,   0.000,2,  2334.6,2,  2419.8,2,   35.72,2, -999.00,9,    34.8666,2,     640.74,2,       0.25,       0.01,       0.08,       0.01,      0.006,     0.0100,2,    1.48732,2,      0.055,1,      0.000,2,      0.365,1,      0.224,1,      0.049,1,     99.968,     0.0013,2,      0.036,1,      0.324,1,     -999.0,9