BOTTLE,20231011CCHSIOENA
EXPOCODE,SECT_ID,STNNBR,CASTNO,SAMPNO,BTLNBR,BTLNBR_FLAG_W,DATE,TIME,LATITUDE,LONGITUDE,DEPTH,CTDPRS,CTDPRS_FLAG_W,CTDTMP,CTDTMP_FLAG_W,CTDSAL,CTDSAL_FLAG_W,SALNTY,SALNTY_FLAG_W,CTDOXY,CTDOXY_FLAG_W,OXYGEN,OXYGEN_FLAG_W,SILCAT,SILCAT_FLAG_W,NH4,NH4_FLAG_W,NITRAT,NITRAT_FLAG_W,NITRIT,NITRIT_FLAG_W,PHSPHT,PHSPHT_FLAG_W,CFC-11,CFC-11_FLAG_W,CFC-12,CFC-12_FLAG_W,CFC113,CFC113_FLAG_W,SF6,SF6_FLAG_W,TCARBN,TCARBN_FLAG_W,ALKALI,ALKALI_FLAG_W,DOC,DOC_FLAG_W,TDN,TDN_FLAG_W,DNSSAL,DNSSAL_FLAG_W,RIANOMALY,RIANOMALY_FLAG_W,SILUNC,NH4UNC,NRAUNC,NRIUNC,PHPUNC,FDOM,FDOM_FLAG_W,REFTMP,REFTMP_FLAG_W,CTDFLUOR,CTDFLUOR_FLAG_W,PAR,PAR_FLAG_W,CDOM300,CDOM300_FLAG_W,CDOM325,CDOM325_FLAG_W,CDOM443,CDOM443_FLAG_W,CTDXMISS,CTDBEAMCP,CTDBEAMCP_FLAG_W,CTDTURB,CTDTURB_FLAG_W,CTDCDOM,CTDCDOM_FLAG_W,CHLORA,CHLORA_FLAG_W
,,,,,,,,,,,METERS,DBAR,,ITS-90,,PSS-78,,PSS-78,,UMOL/KG,,UMOL/KG,,UMOL/KG,,UMOL/KG,,UMOL/KG,,UMOL/KG,,UMOL/KG,,PMOL/KG,,PMOL/KG,,PMOL/KG,,FMOL/KG,,UMOL/KG,,UMOL/KG,,UMOL/KG,,UMOL/KG,,G/KG,,ND,,UMOL/KG,UMOL/KG,UMOL/KG,UMOL/KG,UMOL/KG,RFU,,ITS-90,,MG/M^3,,UMOL/M^2/SEC,,/METER,,/METER,,/METER,,%TRANS,/METER,,FTU,,QSU,,UG/L,
49NZ20210713,        P01,      31,          1,         11,     X12S11,2,20210722,       1759,    43.5654,   154.1851,       5444,  4999.6,2,   1.5186,2,  34.6883,2,  34.6882,2,   157.43,2,  157.03,2, -999.00,9, -999.00,9, -999.00,9, -999.00,9,-999.000,9,-999.000,9,-999.000,9,-999.000,9,-999.000,9,  -999.0,9,  -999.0,9, -999.00,9, -999.00,9,     -999.0,9,     -999.0,9,     -999.0,     -999.0,     -999.0,     -999.0,     -999.0,     -999.0,9,    1.51859,2,      0.055,1,      0.000,2,     -999.0,9,     -999.0,9,     -999.0,9,     99.871,     0.0051,2,      0.059,1,      0.426,1,     -999.0,9
49NZ20210713,        P01,      31,          1,          1,     X12S01,2,20210722,       1759,    43.5654,   154.1851,       5444,  4999.6,2,   1.5186,2,  34.6883,2,  34.6882,2,   157.37,2,  157.04,2, -999.00,9, -999.00,9, -999.00,9, -999.00,9,-999.000,9,-999.000,9,-999.000,9,-999.000,9,-999.000,9,  -999.0,9,  -999.0,9, -999.00,9, -999.00,9,     -999.0,9,     -999.0,9,     -999.0,     -999.0,     -999.0,     -999.0,     -999.0,     -999.0,9,    1.51862,2,      0.055,1,      0.000,2,     -999.0,9,     -999.0,9,     -999.0,9,     99.869,     0.0052,2,      0.061,1,      0.424,1,     -999.0,9
49NZ20210713,        P01,      31,          1,          6,     X12S06,2,20210722,       1759,    43.5654,   154.1851,       5444,  4999.7,2,   1.5185,2,  34.6885,2,  34.6884,2,   157.41,2,  157.13,2, -999.00,9, -999.00,9, -999.00,9, -999.00,9,-999.000,9,-999.000,9,-999.000,9,-999.000,9,-999.000,9,  -999.0,9,  -999.0,9, -999.00,9, -999.00,9,     -999.0,9,     -999.0,9,     -999.0,     -999.0,     -999.0,     -999.0,     -999.0,     -999.0,9,    1.51865,2,      0.055,1,      0.000,2,     -999.0,9,     -999.0,9,     -999.0,9,     99.864,     0.0054,2,      0.055,1,      0.425,1,     -999.0,9
49NZ20210713,        P01,      31,          1,         10,     X12S10,2,20210722,       1759,    43.5654,   154.1851,       5444,  4999.7,2,   1.5186,2,  34.6884,2,  34.6883,2,   157.43,2,  156.93,2, -999.00,9, -999.00,9, -999.00,9, -999.00,9,-999.000,9,-999.000,9,-999.000,9,-999.000,9,-999.000,9,  -999.0,9,  -999.0,9, -999.00,9, -999.00,9,     -999.0,9,     -999.0,9,     -999.0,     -999.0,     -999.0,     -999.0,     -999.0,     -999.0,9,    1.51866,2,      0.055,1,      0.000,2,     -999.0,9,     -999.0,9,     -999.0,9,     99.862,     0.0055,2,      0.055,1,      0.421,1,     -999.0,9
49NZ20210713,        P01,      31,          1,         12,     X12S12,2,20210722,       1759,    43.5654,   154.1851,       5444,  4999.7,2,   1.5186,2,  34.6883,2,  34.6884,2,   157.41,2,  157.14,2, -999.00,9, -999.00,9, -999.00,9, -999.00,9,-999.000,9,-999.000,9,-999.000,9,-999.000,9,-999.000,9,  -999.0,9,  -999.0,9, -999.00,9, -999.00,9,     -999.0,9,     -999.0,9,     -999.0,     -999.0,     -999.0,     -999.0,     -999.0,     -999.0,9,    1.51861,2,      0.055,1,      0.000,2,     -999.0,9,     -999.0,9,     -999.0,9,     99.867,     0.0053,2,      0.056,1,      0.420,1,     -999.0,9
49NZ20210713,        P01,      31,          1,         13,     X12S13,2,20210722,       1759,    43.5654,   154.1851,       5444,  4999.8,2,   1.5186,2,  34.6884,2,  34.6886,2,   157.43,2,  157.06,2, -999.00,9, -999.00,9, -999.00,9, -999.00,9,-999.000,9,-999.000,9,-999.000,9,-999.000,9,-999.000,9,  -999.0,9,  -999.0,9, -999.00,9, -999.00,9,     -999.0,9,     -999.0,9,     -999.0,     -999.0,     -999.0,     -999.0,     -999.0,     -999.0,9,    1.51866,2,      0.055,1,      0.000,2,     -999.0,9,     -999.0,9,     -999.0,9,     99.869,     0.0052,2,      0.055,1,      0.420,1,     -999.0,9
49NZ20210713,        P01,      31,          1,         19,     X12S19,2,20210722,       1759,    43.5654,   154.1851,       5444,  4999.8,2,   1.5186,2,  34.6884,2,  34.6884,2,   157.43,2,  156.97,2, -999.00,9, -999.00,9, -999.00,9, -999.00,9,-999.000,9,-999.000,9,-999.000,9,-999.000,9,-999.000,9,  -999.0,9,  -999.0,9, -999.00,9, -999.00,9,     -999.0,9,     -999.0,9,     -999.0,     -999.0,     -999.0,     -999.0,     -999.0,     -999.0,9,    1.51867,2,      0.055,1,      0.000,2,     -999.0,9,     -999.0,9,     -999.0,9,     99.874,     0.0051,2,      0.059,1,      0.423,1,     -999.0,9
49NZ20210713,        P01,      31,          1,         14,     X12S14,2,20210722,       1759,    43.5654,   154.1851,       5444,  4999.8,2,   1.5186,2,  34.6883,2,  34.6884,2,   157.43,2,  157.01,2, -999.00,9, -999.00,9, -999.00,9, -999.00,9,-999.000,9,-999.000,9,-999.000,9,-999.000,9,-999.000,9,  -999.0,9,  -999.0,9, -999.00,9, -999.00,9,     -999.0,9,     -999.0,9,     -999.0,     -999.0,     -999.0,     -999.0,     -999.0,     -999.0,9,    1.51863,2,      0.056,1,      0.000,2,     -999.0,9,     -999.0,9,     -999.0,9,     99.874,     0.0051,2,      0.057,1,      0.422,1,     -999.0,9
49NZ20210713,        P01,      31,          1,          3,     X12S03,2,20210722,       1759,    43.5654,   154.1851,       5444,  4999.8,2,   1.5186,2,  34.6884,2,  34.6880,2,   157.39,2,  157.19,2, -999.00,9, -999.00,9, -999.00,9, -999.00,9,-999.000,9,-999.000,9,-999.000,9,-999.000,9,-999.000,9,  -999.0,9,  -999.0,9, -999.00,9, -999.00,9,     -999.0,9,     -999.0,9,     -999.0,     -999.0,     -999.0,     -999.0,     -999.0,     -999.0,9,    1.51867,2,      0.055,1,      0.000,2,     -999.0,9,     -999.0,9,     -999.0,9,     99.871,     0.0051,2,      0.057,1,      0.422,1,     -999.0,9
49NZ20210713,        P01,      31,          1,          2,     X12B34,2,20210722,       1759,    43.5654,   154.1851,       5444,  4999.8,2,   1.5186,2,  34.6884,2,  34.6885,2,   157.39,2,  157.14,2, -999.00,9, -999.00,9, -999.00,9, -999.00,9,-999.000,9,-999.000,9,-999.000,9,-999.000,9,-999.000,9,  -999.0,9,  -999.0,9, -999.00,9, -999.00,9,     -999.0,9,     -999.0,9,     -999.0,     -999.0,     -999.0,     -999.0,     -999.0,     -999.0,9,    1.51860,2,      0.055,1,      0.000,2,     -999.0,9,     -999.0,9,     -999.0,9,     99.830,     0.0068,2,      0.057,1,      0.424,1,     -999.0,9
49NZ20210713,        P01,      31,          1,          7,     X12S07,2,20210722,       1759,    43.5654,   154.1851,       5444,  4999.9,2,   1.5186,2,  34.6883,2,  34.6880,2,   157.41,2,  157.11,2, -999.00,9, -999.00,9, -999.00,9, -999.00,9,-999.000,9,-999.000,9,-999.000,9,-999.000,9,-999.000,9,  -999.0,9,  -999.0,9, -999.00,9, -999.00,9,     -999.0,9,     -999.0,9,     -999.0,     -999.0,     -999.0,     -999.0,     -999.0,     -999.0,9,    1.51859,2,      0.055,1,      0.000,2,     -999.0,9,     -999.0,9,     -999.0,9,     99.874,     0.0051,2,      0.056,1,      0.426,1,     -999.0,9
49NZ20210713,        P01,      31,          1,         21,     X12S21,2,20210722,       1759,    43.5654,   154.1851,       5444,  5000.0,2,   1.5186,2,  34.6884,2,  34.6887,2,   157.43,2,  156.79,2, -999.00,9, -999.00,9, -999.00,9, -999.00,9,-999.000,9,-999.000,9,-999.000,9,-999.000,9,-999.000,9,  -999.0,9,  -999.0,9, -999.00,9, -999.00,9,     -999.0,9,     -999.0,9,     -999.0,     -999.0,     -999.0,     -999.0,     -999.0,     -999.0,9,    1.51858,2,      0.055,1,      0.000,2,     -999.0,9,     -999.0,9,     -999.0,9,     99.871,     0.0051,2,      0.055,1,      0.421,1,     -999.0,9
49NZ20210713,        P01,      31,          1,         15,     X12S15,2,20210722,       1759,    43.5654,   154.1851,       5444,  5000.0,2,   1.5186,2,  34.6883,2,  34.6885,2,   157.41,2,  157.28,2, -999.00,9, -999.00,9, -999.00,9, -999.00,9,-999.000,9,-999.000,9,-999.000,9,-999.000,9,-999.000,9,  -999.0,9,  -999.0,9, -999.00,9, -999.00,9,     -999.0,9,     -999.0,9,     -999.0,     -999.0,     -999.0,     -999.0,     -999.0,     -999.0,9,    1.51862,2,      0.055,1,      0.000,2,     -999.0,9,     -999.0,9,     -999.0,9,     99.860,     0.0056,2,      0.056,1,      0.420,1,     -999.0,9
49NZ20210713,        P01,      31,          1,         22,     X12S22,2,20210722,       1759,    43.5654,   154.1851,       5444,  5000.0,2,   1.5186,2,  34.6884,2,  34.6881,2,   157.43,2,  156.80,2, -999.00,9, -999.00,9, -999.00,9, -999.00,9,-999.000,9,-999.000,9,-999.000,9,-999.000,9,-999.000,9,  -999.0,9,  -999.0,9, -999.00,9, -999.00,9,     -999.0,9,     -999.0,9,     -999.0,     -999.0,     -999.0,     -999.0,     -999.0,     -999.0,9,    1.51860,2,      0.055,1,      0.000,2,     -999.0,9,     -999.0,9,     -999.0,9,     99.867,     0.0053,2,      0.055,1,      0.419,1,     -999.0,9
49NZ20210713,        P01,      31,          1,          8,     X12S08,2,20210722,       1759,    43.5654,   154.1851,       5444,  5000.0,2,   1.5186,2,  34.6884,2,  34.6881,2,   157.43,2,  156.89,2, -999.00,9, -999.00,9, -999.00,9, -999.00,9,-999.000,9,-999.000,9,-999.000,9,-999.000,9,-999.000,9,  -999.0,9,  -999.0,9, -999.00,9, -999.00,9,     -999.0,9,     -999.0,9,     -999.0,     -999.0,     -999.0,     -999.0,     -999.0,     -999.0,9,    1.51860,2,      0.055,1,      0.000,2,     -999.0,9,     -999.0,9,     -999.0,9,     99.871,     0.0051,2,      0.057,1,      0.425,1,     -999.0,9
49NZ20210713,        P01,      31,          1,         18,     X12S18,2,20210722,       1759,    43.5654,   154.1851,       5444,  5000.0,2,   1.5186,2,  34.6884,2,  34.6881,2,   157.43,2,  157.18,2, -999.00,9, -999.00,9, -999.00,9, -999.00,9,-999.000,9,-999.000,9,-999.000,9,-999.000,9,-999.000,9,  -999.0,9,  -999.0,9, -999.00,9, -999.00,9,     -999.0,9,     -999.0,9,     -999.0,     -999.0,     -999.0,     -999.0,     -999.0,     -999.0,9,    1.51866,2,      0.056,1,      0.000,2,     -999.0,9,     -999.0,9,     -999.0,9,     99.874,     0.0051,2,      0.055,1,      0.420,1,     -999.0,9
49NZ20210713,        P01,      31,          1,          5,     X12S05,2,20210722,       1759,    43.5654,   154.1851,       5444,  5000.0,2,   1.5185,2,  34.6885,2,  34.6881,2,   157.41,2,  157.24,2, -999.00,9, -999.00,9, -999.00,9, -999.00,9,-999.000,9,-999.000,9,-999.000,9,-999.000,9,-999.000,9,  -999.0,9,  -999.0,9, -999.00,9, -999.00,9,     -999.0,9,     -999.0,9,     -999.0,     -999.0,     -999.0,     -999.0,     -999.0,     -999.0,9,    1.51863,2,      0.056,1,      0.000,2,     -999.0,9,     -999.0,9,     -999.0,9,     99.874,     0.0051,2,      0.057,1,      0.420,1,     -999.0,9
49NZ20210713,        P01,      31,          1,         20,     X12S20,2,20210722,       1759,    43.5654,   154.1851,       5444,  5000.1,2,   1.5186,2,  34.6883,2,  34.6881,2,   157.43,2,  156.85,2, -999.00,9, -999.00,9, -999.00,9, -999.00,9,-999.000,9,-999.000,9,-999.000,9,-999.000,9,-999.000,9,  -999.0,9,  -999.0,9, -999.00,9, -999.00,9,     -999.0,9,     -999.0,9,     -999.0,     -999.0,     -999.0,     -999.0,     -999.0,     -999.0,9,    1.51861,2,      0.055,1,      0.000,2,     -999.0,9,     -999.0,9,     -999.0,9,     99.876,     0.0050,2,      0.054,1,      0.423,1,     -999.0,9
49NZ20210713,        P01,      31,          1,         23,     X12S23,2,20210722,       1759,    43.5654,   154.1851,       5444,  5000.1,2,   1.5186,2,  34.6883,2,  34.6883,2,   157.47,2,  156.95,2, -999.00,9, -999.00,9, -999.00,9, -999.00,9,-999.000,9,-999.000,9,-999.000,9,-999.000,9,-999.000,9,  -999.0,9,  -999.0,9, -999.00,9, -999.00,9,     -999.0,9,     -999.0,9,     -999.0,     -999.0,     -999.0,     -999.0,     -999.0,     -999.0,9,    1.51859,2,      0.055,1,      0.000,2,     -999.0,9,     -999.0,9,     -999.0,9,     99.871,     0.0051,2,      0.055,1,      0.414,1,     -999.0,9
49NZ20210713,        P01,      31,          1,         28,     X12S28,2,20210722,       1759,    43.5654,   154.1851,       5444,  5000.1,2,   1.5186,2,  34.6884,2,  34.6885,2,   157.49,2,  156.80,2, -999.00,9, -999.00,9, -999.00,9, -999.00,9,-999.000,9,-999.000,9,-999.000,9,-999.000,9,-999.000,9,  -999.0,9,  -999.0,9, -999.00,9, -999.00,9,     -999.0,9,     -999.0,9,     -999.0,     -999.0,     -999.0,     -999.0,     -999.0,     -999.0,9,    1.51855,2,      0.055,1,      0.000,2,     -999.0,9,     -999.0,9,     -999.0,9,     99.874,     0.0051,2,      0.054,1,      0.418,1,     -999.0,9
49NZ20210713,        P01,      31,          1,         25,     X12S25,2,20210722,       1759,    43.5654,   154.1851,       5444,  5000.1,2,   1.5185,2,  34.6885,2,  34.6880,2,   157.49,2,  156.86,2, -999.00,9, -999.00,9, -999.00,9, -999.00,9,-999.000,9,-999.000,9,-999.000,9,-999.000,9,-999.000,9,  -999.0,9,  -999.0,9, -999.00,9, -999.00,9,     -999.0,9,     -999.0,9,     -999.0,     -999.0,     -999.0,     -999.0,     -999.0,     -999.0,9,    1.51858,2,      0.055,1,      0.000,2,     -999.0,9,     -999.0,9,     -999.0,9,     99.876,     0.0050,2,      0.056,1,      0.421,1,     -999.0,9
49NZ20210713,        P01,      31,          1,         24,     X12S24,2,20210722,       1759,    43.5654,   154.1851,       5444,  5000.1,2,   1.5185,2,  34.6885,2,  34.6880,2,   157.41,2,  156.66,2, -999.00,9, -999.00,9, -999.00,9, -999.00,9,-999.000,9,-999.000,9,-999.000,9,-999.000,9,-999.000,9,  -999.0,9,  -999.0,9, -999.00,9, -999.00,9,     -999.0,9,     -999.0,9,     -999.0,     -999.0,     -999.0,     -999.0,     -999.0,     -999.0,9,    1.51852,2,      0.055,1,      0.000,2,     -999.0,9,     -999.0,9,     -999.0,9,     99.878,     0.0049,2,      0.055,1,      0.421,1,     -999.0,9
49NZ20210713,        P01,      31,          1,         16,     X12S16,2,20210722,       1759,    43.5654,   154.1851,       5444,  5000.2,2,   1.5186,2,  34.6884,2,  34.6884,2,   157.45,2,  157.13,2, -999.00,9, -999.00,9, -999.00,9, -999.00,9,-999.000,9,-999.000,9,-999.000,9,-999.000,9,-999.000,9,  -999.0,9,  -999.0,9, -999.00,9, -999.00,9,     -999.0,9,     -999.0,9,     -999.0,     -999.0,     -999.0,     -999.0,     -999.0,     -999.0,9,    1.51866,2,      0.055,1,      0.000,2,     -999.0,9,     -999.0,9,     -999.0,9,     99.846,     0.0062,2,      0.055,1,      0.420,1,     -999.0,9
49NZ20210713,        P01,      31,          1,         32,     X12S32,2,20210722,       1759,    43.5654,   154.1851,       5444,  5000.2,2,   1.5185,2,  34.6884,2,  34.6881,2,   157.43,2,  156.86,2, -999.00,9, -999.00,9, -999.00,9, -999.00,9,-999.000,9,-999.000,9,-999.000,9,-999.000,9,-999.000,9,  -999.0,9,  -999.0,9, -999.00,9, -999.00,9,     -999.0,9,     -999.0,9,     -999.0,     -999.0,     -999.0,     -999.0,     -999.0,     -999.0,9,    1.51853,2,      0.055,1,      0.000,2,     -999.0,9,     -999.0,9,     -999.0,9,     99.869,     0.0052,2,      0.056,1,      0.422,1,     -999.0,9
49NZ20210713,        P01,      31,          1,          4,     X12S04,2,20210722,       1759,    43.5654,   154.1851,       5444,  5000.2,2,   1.5186,2,  34.6884,2,  34.6881,2,   157.43,2,  157.10,2, -999.00,9, -999.00,9, -999.00,9, -999.00,9,-999.000,9,-999.000,9,-999.000,9,-999.000,9,-999.000,9,  -999.0,9,  -999.0,9, -999.00,9, -999.00,9,     -999.0,9,     -999.0,9,     -999.0,     -999.0,     -999.0,     -999.0,     -999.0,     -999.0,9,    1.51873,2,      0.055,1,      0.000,2,     -999.0,9,     -999.0,9,     -999.0,9,     99.874,     0.0051,2,      0.056,1,      0.421,1,     -999.0,9
49NZ20210713,        P01,      31,          1,         17,     X12S17,2,20210722,       1759,    43.5654,   154.1851,       5444,  5000.3,2,   1.5186,2,  34.6884,2,  34.6880,2,   157.43,2,  157.11,2, -999.00,9, -999.00,9, -999.00,9, -999.00,9,-999.000,9,-999.000,9,-999.000,9,-999.000,9,-999.000,9,  -999.0,9,  -999.0,9, -999.00,9, -999.00,9,     -999.0,9,     -999.0,9,     -999.0,     -999.0,     -999.0,     -999.0,     -999.0,     -999.0,9,    1.51864,2,      0.055,1,      0.000,2,     -999.0,9,     -999.0,9,     -999.0,9,     99.878,     0.0049,2,      0.055,1,      0.420,1,     -999.0,9
49NZ20210713,        P01,      31,          1,          9,     X12S09,2,20210722,       1759,    43.5654,   154.1851,       5444,  5000.3,2,   1.5186,2,  34.6884,2,  34.6881,2,   157.45,2,  156.88,2, -999.00,9, -999.00,9, -999.00,9, -999.00,9,-999.000,9,-999.000,9,-999.000,9,-999.000,9,-999.000,9,  -999.0,9,  -999.0,9, -999.00,9, -999.00,9,     -999.0,9,     -999.0,9,     -999.0,     -999.0,     -999.0,     -999.0,     -999.0,     -999.0,9,    1.51866,2,      0.055,1,      0.000,2,     -999.0,9,     -999.0,9,     -999.0,9,     99.874,     0.0051,2,      0.055,1,      0.423,1,     -999.0,9
49NZ20210713,        P01,      31,          1,         29,     X12S29,2,20210722,       1759,    43.5654,   154.1851,       5444,  5000.4,2,   1.5186,2,  34.6884,2,  34.6884,2,   157.45,2,  156.91,2, -999.00,9, -999.00,9, -999.00,9, -999.00,9,-999.000,9,-999.000,9,-999.000,9,-999.000,9,-999.000,9,  -999.0,9,  -999.0,9, -999.00,9, -999.00,9,     -999.0,9,     -999.0,9,     -999.0,     -999.0,     -999.0,     -999.0,     -999.0,     -999.0,9,    1.51858,2,      0.055,1,      0.000,2,     -999.0,9,     -999.0,9,     -999.0,9,     99.871,     0.0051,2,      0.060,1,      0.422,1,     -999.0,9
49NZ20210713,        P01,      31,          1,         27,     X12S27,2,20210722,       1759,    43.5654,   154.1851,       5444,  5000.4,2,   1.5185,2,  34.6884,2,  34.6883,2,   157.43,2,  156.73,2, -999.00,9, -999.00,9, -999.00,9, -999.00,9,-999.000,9,-999.000,9,-999.000,9,-999.000,9,-999.000,9,  -999.0,9,  -999.0,9, -999.00,9, -999.00,9,     -999.0,9,     -999.0,9,     -999.0,     -999.0,     -999.0,     -999.0,     -999.0,     -999.0,9,    1.51857,2,      0.055,1,      0.000,2,     -999.0,9,     -999.0,9,     -999.0,9,     99.871,     0.0051,2,      0.056,1,      0.426,1,     -999.0,9
49NZ20210713,        P01,      31,          1,         26,     X12S26,2,20210722,       1759,    43.5654,   154.1851,       5444,  5000.4,2,   1.5185,2,  34.6884,2,  34.6882,2,   157.43,2,  156.74,2, -999.00,9, -999.00,9, -999.00,9, -999.00,9,-999.000,9,-999.000,9,-999.000,9,-999.000,9,-999.000,9,  -999.0,9,  -999.0,9, -999.00,9, -999.00,9,     -999.0,9,     -999.0,9,     -999.0,     -999.0,     -999.0,     -999.0,     -999.0,     -999.0,9,    1.51853,2,      0.055,1,      0.000,2,     -999.0,9,     -999.0,9,     -999.0,9,     99.871,     0.0051,2,      0.055,1,      0.421,1,     -999.0,9
49NZ20210713,        P01,      31,          1,         30,     X12S30,2,20210722,       1759,    43.5654,   154.1851,       5444,  5000.5,2,   1.5186,2,  34.6883,2,  34.6879,2,   157.39,2,  157.15,2, -999.00,9, -999.00,9, -999.00,9, -999.00,9,-999.000,9,-999.000,9,-999.000,9,-999.000,9,-999.000,9,  -999.0,9,  -999.0,9, -999.00,9, -999.00,9,     -999.0,9,     -999.0,9,     -999.0,     -999.0,     -999.0,     -999.0,     -999.0,     -999.0,9,    1.51861,2,      0.055,1,      0.000,2,     -999.0,9,     -999.0,9,     -999.0,9,     99.874,     0.0051,2,      0.057,1,      0.421,1,     -999.0,9