BOTTLE,20231011CCHSIOENA
EXPOCODE,SECT_ID,STNNBR,CASTNO,SAMPNO,BTLNBR,BTLNBR_FLAG_W,DATE,TIME,LATITUDE,LONGITUDE,DEPTH,CTDPRS,CTDPRS_FLAG_W,CTDTMP,CTDTMP_FLAG_W,CTDSAL,CTDSAL_FLAG_W,SALNTY,SALNTY_FLAG_W,CTDOXY,CTDOXY_FLAG_W,OXYGEN,OXYGEN_FLAG_W,SILCAT,SILCAT_FLAG_W,NH4,NH4_FLAG_W,NITRAT,NITRAT_FLAG_W,NITRIT,NITRIT_FLAG_W,PHSPHT,PHSPHT_FLAG_W,CFC-11,CFC-11_FLAG_W,CFC-12,CFC-12_FLAG_W,CFC113,CFC113_FLAG_W,SF6,SF6_FLAG_W,TCARBN,TCARBN_FLAG_W,ALKALI,ALKALI_FLAG_W,DOC,DOC_FLAG_W,TDN,TDN_FLAG_W,DNSSAL,DNSSAL_FLAG_W,RIANOMALY,RIANOMALY_FLAG_W,SILUNC,NH4UNC,NRAUNC,NRIUNC,PHPUNC,FDOM,FDOM_FLAG_W,REFTMP,REFTMP_FLAG_W,CTDFLUOR,CTDFLUOR_FLAG_W,PAR,PAR_FLAG_W,CDOM300,CDOM300_FLAG_W,CDOM325,CDOM325_FLAG_W,CDOM443,CDOM443_FLAG_W,CTDXMISS,CTDBEAMCP,CTDBEAMCP_FLAG_W,CTDTURB,CTDTURB_FLAG_W,CTDCDOM,CTDCDOM_FLAG_W,CHLORA,CHLORA_FLAG_W
,,,,,,,,,,,METERS,DBAR,,ITS-90,,PSS-78,,PSS-78,,UMOL/KG,,UMOL/KG,,UMOL/KG,,UMOL/KG,,UMOL/KG,,UMOL/KG,,UMOL/KG,,PMOL/KG,,PMOL/KG,,PMOL/KG,,FMOL/KG,,UMOL/KG,,UMOL/KG,,UMOL/KG,,UMOL/KG,,G/KG,,ND,,UMOL/KG,UMOL/KG,UMOL/KG,UMOL/KG,UMOL/KG,RFU,,ITS-90,,MG/M^3,,UMOL/M^2/SEC,,/METER,,/METER,,/METER,,%TRANS,/METER,,FTU,,QSU,,UG/L,
49NZ20210713,        P01,      66,          1,         36,     X12S36,2,20210804,       1024,    46.9990,  -174.9561,       5796,    22.4,2,   9.1771,2,  32.9993,2,  33.0069,2,   304.80,2,  305.09,2,   22.96,2,    0.13,2,   14.55,2,    0.16,2,   1.272,2,   3.905,2,   2.183,2,   0.353,2,   3.668,2,  2076.6,2,  2220.8,2,   59.71,2, -999.00,9,    33.1652,2,     609.90,2,       0.07,       0.01,       0.04,       0.01,      0.004,     0.0043,2,    9.18361,2,      1.711,1,      0.000,2,      0.374,1,      0.201,1,      0.030,1,     95.298,     0.1926,2,      0.185,1,      0.205,1,       0.57,2
49NZ20210713,        P01,      66,          1,         35,     X12S35,2,20210804,       1024,    46.9990,  -174.9561,       5796,    50.3,2,   7.3223,2,  33.0792,2,  33.0773,2,   301.60,2,  302.03,2,   25.16,2,    0.39,2,   15.55,2,    0.20,2,   1.365,2,   4.145,2,   1.944,2,   0.369,2,   3.976,2,  2086.4,2,  2230.9,2,   60.17,2, -999.00,9,    33.2345,2,     611.20,2,       0.07,       0.02,       0.04,       0.01,      0.005,     0.0045,2,    7.33579,2,      1.089,1,      0.000,2,      0.374,1,      0.198,1,      0.028,1,     97.995,     0.0810,2,      0.123,1,      0.219,1,       0.36,2
49NZ20210713,        P01,      66,          1,         34,     X12S34,2,20210804,       1024,    46.9990,  -174.9561,       5796,   100.1,2,   4.4211,2,  33.2214,2,  33.2234,2,   307.23,2,  308.37,2,   32.98,2,    0.04,2,   20.95,2,    0.01,2,   1.639,2,   4.683,2,   2.151,2,   0.415,2,   4.066,2,  2126.0,2,  2237.9,2,   60.04,2, -999.00,9,    33.3832,2,     613.95,2,       0.08,       0.01,       0.05,       0.01,      0.005,     0.0052,2,    4.41796,2,      0.341,1,      0.000,2,      0.370,1,      0.196,1,      0.029,1,     99.279,     0.0289,2,      0.082,1,      0.231,1,       0.19,2
49NZ20210713,        P01,      66,          1,         33,     X12S33,2,20210804,       1024,    46.9990,  -174.9561,       5796,   150.0,2,   3.9454,2,  33.2542,2,  33.2581,2,   298.98,2,  299.30,2,   37.90,2,    0.04,2,   22.89,2,    0.01,2,   1.763,2,   4.654,2,   2.132,2,   0.401,2,   4.021,2,  2137.0,2,  2237.6,2,   53.30,2, -999.00,9,    33.4198,2,     614.60,2,       0.11,       0.01,       0.05,       0.01,      0.005,     0.0057,2,    3.94935,2,      0.073,1,      0.000,2,      0.379,1,      0.200,1,      0.033,1,     99.613,     0.0155,2,      0.071,1,      0.237,1,       0.03,2
49NZ20210713,        P01,      66,          1,         32,     X12S32,2,20210804,       1024,    46.9990,  -174.9561,       5796,   199.8,2,   4.8751,2,  33.6455,2,  33.6484,2,   214.20,2,  212.80,2,   46.79,2,    0.02,2,   26.08,2,    0.00,2,   1.924,2,   3.834,2,   1.764,2,   0.259,2,   2.774,2,  2189.2,2,  2256.4,2,   53.44,2, -999.00,9,    33.8129,2,     621.80,2,       0.10,       0.01,       0.06,       0.01,      0.005,     0.0083,2,    4.87507,2,      0.073,1,      0.000,2,      0.400,1,      0.227,1,      0.041,1,     99.574,     0.0171,2,      0.074,1,      0.285,1,       0.02,2
49NZ20210713,        P01,      66,          1,         31,     X12S31,2,20210804,       1024,    46.9990,  -174.9561,       5796,   249.7,2,   4.5012,2,  33.7598,2,  33.7600,2,   145.37,2,  144.54,2,   64.40,2,    0.02,2,   32.43,2,    0.01,2,   2.347,2,   3.235,2,   1.488,2,   0.195,2,   2.017,2,  2242.9,2,  2275.7,2,   48.86,2, -999.00,9,    33.9257,2,     623.80,2,       0.12,       0.01,       0.07,       0.01,      0.006,     0.0104,2,    4.50124,2,      0.067,1,      0.000,2,      0.425,1,      0.247,1,      0.045,1,     99.660,     0.0136,2,      0.068,1,      0.317,1,       0.01,2
49NZ20210713,        P01,      66,          1,         30,     X12S30,2,20210804,       1024,    46.9990,  -174.9561,       5796,   299.4,2,   4.3635,2,  33.8345,2,  33.8364,2,   112.62,2,  111.03,2,   74.77,2,    0.01,2,   35.55,2,    0.00,2,   2.554,2,   2.813,2,   1.308,2,   0.159,2,   1.631,2,  2268.2,2,  2289.1,2,   50.24,2, -999.00,9,    34.0048,2,     625.15,2,       0.14,       0.01,       0.08,       0.01,      0.006,     0.0108,2,    4.36342,2,      0.068,1,      0.000,2,      0.430,1,      0.255,1,      0.049,1,     99.755,     0.0098,2,      0.064,1,      0.336,1,     -999.0,9
49NZ20210713,        P01,      66,          1,         29,     X12S29,2,20210804,       1024,    46.9990,  -174.9561,       5796,   399.4,2,   4.1578,2,  33.9814,2,  33.9796,2,    64.64,2,   64.59,2,   92.36,2,    0.02,2,   39.83,2,    0.00,2,   2.840,2,   2.016,2,   1.067,2,   0.108,2,   0.905,2,  2308.4,2,  2304.3,2,   47.28,2, -999.00,9,    34.1539,2,     627.90,2,       0.16,       0.01,       0.08,       0.01,      0.006,     0.0121,2,    4.15677,2,      0.069,1,      0.000,2,      0.429,1,      0.257,1,      0.053,1,     99.792,     0.0083,2,      0.061,1,      0.346,1,     -999.0,9
49NZ20210713,        P01,      66,          1,         28,     X12S28,2,20210804,       1024,    46.9990,  -174.9561,       5796,   501.0,2,   4.0603,2,  34.1079,2,  34.1081,2,    48.36,2,   48.30,2,  103.52,2,    0.02,2,   40.84,2,    0.00,2,   2.916,2,   1.347,2,   0.728,2,   0.066,2,   0.548,2,  2323.9,2,  2320.5,2,   45.24,2, -999.00,9,    34.2804,2,     630.20,2,       0.25,       0.01,       0.09,       0.01,      0.006,     0.0120,2,    4.06018,2,      0.069,1,      0.000,2,      0.406,1,      0.246,1,      0.050,1,     99.868,     0.0053,2,      0.057,1,      0.350,1,     -999.0,9
49NZ20210713,        P01,      66,          1,         27,     X12S27,2,20210804,       1024,    46.9990,  -174.9561,       5796,   601.9,2,   3.6614,2,  34.1748,2,  34.1751,2,    31.89,2,   31.85,2,  117.58,2,    0.01,2,   42.55,2,    0.00,2,   3.032,2,   0.943,2,   0.524,2,   0.054,2,   0.280,2,  2353.2,2,  2334.7,2,   43.86,2, -999.00,9,    34.3489,2,     631.40,2,       0.19,       0.01,       0.09,       0.01,      0.006,     0.0125,2,    3.66135,2,      0.070,1,      0.000,2,      0.427,1,      0.263,1,      0.055,1,     99.852,     0.0059,2,      0.056,1,      0.361,1,     -999.0,9
49NZ20210713,        P01,      66,          1,         26,     X12S26,2,20210804,       1024,    46.9990,  -174.9561,       5796,   698.5,2,   3.5287,2,  34.2502,2,  34.2503,2,    31.92,2,   31.95,2,  123.75,2,    0.01,2,   42.57,2,    0.00,2,   3.043,2,   0.617,2,   0.342,2,   0.026,2,   0.164,2,  2356.3,6,  2350.1,2,   42.54,2, -999.00,9,    34.4248,2,     632.80,2,       0.20,       0.01,       0.09,       0.01,      0.006,     -999.0,9,    3.52875,2,      0.070,1,      0.000,2,     -999.0,9,     -999.0,9,     -999.0,9,     99.882,     0.0047,2,      0.063,1,      0.357,1,     -999.0,9
49NZ20210713,        P01,      66,          1,         25,     X12S25,2,20210804,       1024,    46.9990,  -174.9561,       5796,   799.1,2,   3.2276,2,  34.2892,2,  34.2884,2,    24.59,2,   24.43,2,  134.07,2,    0.01,2,   43.35,2,    0.00,2,   3.102,2,   0.472,2,   0.261,2,   0.026,2,   0.117,2,  2368.8,2,  2355.9,2,   43.50,2, -999.00,9,    34.4664,2,     633.55,2,       0.28,       0.01,       0.09,       0.01,      0.006,     0.0127,2,    3.22783,2,      0.070,1,      0.000,2,      0.405,1,      0.243,1,      0.051,1,     99.868,     0.0053,2,      0.053,1,      0.366,1,     -999.0,9
49NZ20210713,        P01,      66,          1,         24,     X12S24,2,20210804,       1024,    46.9990,  -174.9561,       5796,   900.1,2,   3.0819,2,  34.3325,2,  34.3324,2,    25.67,2,   25.54,2,  138.69,2,    0.05,2,   43.26,2,    0.00,2,   3.081,2,   0.338,2,   0.195,2,   0.016,2,   0.087,2,  2372.5,2,  2362.9,2,   42.32,2, -999.00,9,    34.5080,2,     634.30,2,       0.22,       0.01,       0.09,       0.01,      0.008,     -999.0,9,    3.08196,2,      0.070,1,      0.000,2,     -999.0,9,     -999.0,9,     -999.0,9,     99.894,     0.0043,2,      0.053,1,      0.363,1,     -999.0,9
49NZ20210713,        P01,      66,          1,         23,     X12S23,2,20210804,       1024,    46.9990,  -174.9561,       5796,   998.8,2,   2.9086,2,  34.3718,2,  34.3714,2,    26.30,2,   26.07,2,  144.50,2,    0.04,2,   43.45,2,    0.00,2,   3.091,2,   0.251,2,   0.147,2,   0.011,2,   0.056,2,  2378.7,2,  2371.6,2,   43.50,2, -999.00,9,    34.5493,2,     635.10,2,       0.23,       0.01,       0.09,       0.01,      0.006,     0.0127,2,    2.90855,2,      0.069,1,      0.000,2,      0.410,1,      0.248,1,      0.045,1,     99.884,     0.0046,2,      0.052,1,      0.363,1,     -999.0,9
49NZ20210713,        P01,      66,          1,         22,     X12S22,2,20210804,       1024,    46.9990,  -174.9561,       5796,  1198.4,2,   2.6229,2,  34.4354,2,  34.4350,2,    29.25,2,   29.01,2,  153.54,2,    0.03,2,   43.57,2,    0.00,2,   3.095,2,   0.128,2,   0.078,2,   0.008,2,   0.021,2,  2387.9,2,  2383.1,6,   40.41,2, -999.00,9,    34.6141,2,     636.20,2,       0.24,       0.01,       0.09,       0.01,      0.006,     -999.0,9,    2.62290,2,      0.069,1,      0.000,2,     -999.0,9,     -999.0,9,     -999.0,9,     99.882,     0.0047,2,      0.051,1,      0.361,1,     -999.0,9
49NZ20210713,        P01,      66,          1,         21,     X12S21,2,20210804,       1024,    46.9990,  -174.9561,       5796,  1398.4,2,   2.4111,2,  34.4800,2,  34.4797,2,    34.23,2,   34.16,2,  159.76,2,    0.03,2,   43.38,2,    0.00,2,   3.067,2,   0.081,2,   0.048,2,   0.003,2,   0.035,2,  2390.2,2,  2391.3,2,   40.86,2, -999.00,9,    34.6596,2,     637.10,2,       0.25,       0.01,       0.09,       0.01,      0.006,     0.0127,2,    2.41118,2,      0.067,1,      0.000,2,      0.383,1,      0.228,1,      0.044,1,     99.912,     0.0035,2,      0.051,1,      0.361,1,     -999.0,9
49NZ20210713,        P01,      66,          1,         20,     X12S20,2,20210804,       1024,    46.9990,  -174.9561,       5796,  1600.4,2,   2.2249,2,  34.5217,2,  34.5212,2,    42.04,2,   41.66,2,  164.35,2,    0.03,2,   42.90,2,    0.00,2,   3.040,2,   0.042,2,   0.025,2,   0.004,2,   0.040,2,  2389.0,2,  2399.7,2,   42.57,2, -999.00,9,    34.7011,2,     637.80,2,       0.26,       0.01,       0.09,       0.01,      0.006,     -999.0,9,    2.22492,2,      0.065,1,      0.000,2,     -999.0,9,     -999.0,9,     -999.0,9,     99.908,     0.0037,2,      0.052,1,      0.360,1,     -999.0,9
49NZ20210713,        P01,      66,          1,         19,     X12S19,2,20210804,       1024,    46.9990,  -174.9561,       5796,  1798.7,2,   2.0955,2,  34.5513,2,  34.5516,2,    51.01,2,   50.82,2,  166.63,2,    0.02,2,   42.38,2,    0.00,2,   2.990,2,   0.025,2,   0.015,2,   0.003,2,   0.029,2,  2387.0,2,  2405.1,2,   50.09,4, -999.00,9,    34.7321,2,     638.35,2,       0.36,       0.01,       0.09,       0.01,      0.006,     0.0122,2,    2.09548,2,      0.064,1,      0.000,2,      0.362,1,      0.213,1,      0.038,1,     99.915,     0.0034,2,      0.052,1,      0.354,1,     -999.0,9
49NZ20210713,        P01,      66,          1,         18,     X12S18,2,20210804,       1024,    46.9990,  -174.9561,       5796,  2000.1,2,   1.9826,2,  34.5762,2,  34.5761,2,    60.21,2,   60.50,2,  168.47,2,    0.02,2,   41.88,2,    0.00,2,   2.953,2,   0.011,2,   0.007,2,   0.000,2,   0.027,2,  2385.3,2,  2408.8,2,   41.74,2, -999.00,9,    34.7565,2,     638.80,2,       0.26,       0.01,       0.09,       0.01,      0.006,     -999.0,9,    1.98256,2,      0.063,1,      0.000,2,     -999.0,9,     -999.0,9,     -999.0,9,     99.931,     0.0028,2,      0.050,1,      0.351,1,     -999.0,9
49NZ20210713,        P01,      66,          1,         17,     X12S17,2,20210804,       1024,    46.9990,  -174.9561,       5796,  2199.8,2,   1.8806,2,  34.5976,2,  34.5976,2,    70.63,2,   70.86,2,  169.19,2,    0.02,2,   41.25,2,    0.00,2,   2.907,2,   0.003,2,   0.001,2,   0.005,2,   0.013,2,  2377.9,2,  2412.1,2,   41.36,2, -999.00,9,    34.7783,2,     639.20,2,       0.28,       0.01,       0.09,       0.01,      0.006,     0.0129,2,    1.88053,2,      0.062,1,      0.000,2,      0.360,1,      0.216,1,      0.037,1,     99.945,     0.0022,2,      0.051,1,      0.344,1,     -999.0,9
49NZ20210713,        P01,      66,          1,         16,     X12S16,2,20210804,       1024,    46.9990,  -174.9561,       5796,  2399.9,2,   1.7872,2,  34.6163,2,  34.6164,2,    81.49,2,   81.77,2,  169.25,2,    0.01,2,   40.62,2,    0.00,2,   2.857,2,   0.000,2,   0.000,2,   0.002,2,   0.002,2,  2375.9,6,  2414.0,2,   38.55,2, -999.00,9,    34.8014,2,     639.55,2,       0.26,       0.01,       0.09,       0.01,      0.009,     -999.0,9,    1.78724,2,      0.060,1,      0.000,2,     -999.0,9,     -999.0,9,     -999.0,9,     99.942,     0.0023,2,      0.049,1,      0.341,1,     -999.0,9
49NZ20210713,        P01,      66,          1,         15,     X12S15,2,20210804,       1024,    46.9990,  -174.9561,       5796,  2601.9,2,   1.7064,2,  34.6313,2,  34.6311,2,    93.04,2,   93.29,2,  168.75,2,    0.01,2,   39.92,2,    0.00,2,   2.801,2,   0.000,2,   0.000,2,   0.000,2,   0.000,2,  2366.7,2,  2415.8,2,   38.39,2, -999.00,9,    34.8126,2,     639.80,2,       0.26,       0.01,       0.08,       0.01,      0.006,     0.0124,2,    1.70641,2,      0.059,1,      0.000,2,      0.327,1,      0.187,1,      0.028,1,     99.949,     0.0020,2,      0.049,1,      0.337,1,     -999.0,9
49NZ20210713,        P01,      66,          1,         14,     X12S14,2,20210804,       1024,    46.9990,  -174.9561,       5796,  2800.5,2,   1.6482,2,  34.6427,2,  34.6424,2,   102.61,2,  102.75,2,  167.54,2,    0.01,2,   39.37,2,    0.00,2,   2.760,2,   0.000,2,   0.000,2,   0.000,2,   0.000,2,  2362.3,2,  2414.4,2,   38.36,2, -999.00,9,    34.8229,2,     639.95,2,       0.26,       0.01,       0.08,       0.01,      0.006,     -999.0,9,    1.64824,2,      0.059,1,      0.000,2,     -999.0,9,     -999.0,9,     -999.0,9,     99.959,     0.0017,2,      0.049,1,      0.335,1,     -999.0,9
49NZ20210713,        P01,      66,          1,         13,     X12S13,2,20210804,       1024,    46.9990,  -174.9561,       5796,  3000.6,2,   1.6000,2,  34.6521,2,  34.6526,2,   111.63,2,  111.91,2,  165.62,2,    0.01,2,   38.71,2,    0.00,2,   2.716,2,   0.000,2,   0.000,2,   0.000,2,   0.000,2,  2354.7,2,  2415.2,2,   40.84,2, -999.00,9,    34.8337,2,     640.10,2,       0.26,       0.01,       0.08,       0.01,      0.006,     0.0114,2,    1.59994,2,      0.058,1,      0.000,2,      0.329,1,      0.190,1,      0.034,1,     99.968,     0.0013,2,      0.049,1,      0.329,1,     -999.0,9
49NZ20210713,        P01,      66,          1,         12,     X12S12,2,20210804,       1024,    46.9990,  -174.9561,       5796,  3250.2,2,   1.5552,2,  34.6613,2,  34.6613,2,   121.48,2,  121.87,2,  163.33,2,    0.04,2,   38.04,2,    0.00,2,   2.653,2,   0.000,2,   0.000,2,   0.000,2,   0.000,2,  2347.5,2,  2417.8,6,   40.32,2, -999.00,9,    34.8409,2,     640.30,2,       0.26,       0.01,       0.08,       0.01,      0.006,     -999.0,9,    1.55519,2,      0.057,1,      0.000,2,     -999.0,9,     -999.0,9,     -999.0,9,     99.954,     0.0018,2,      0.049,1,      0.322,1,     -999.0,9
49NZ20210713,        P01,      66,          1,         11,     X12S11,2,20210804,       1024,    46.9990,  -174.9561,       5796,  3500.7,2,   1.5158,2,  34.6694,2,  34.6694,2,   130.86,2,  131.23,2,  160.92,2,    0.03,2,   37.41,2,    0.00,2,   2.604,2,   0.003,2,   0.000,2,   0.001,2,   0.000,2,  2342.5,2,  2414.6,2,   39.44,2, -999.00,9,    34.8492,2,     640.45,2,       0.27,       0.01,       0.08,       0.01,      0.006,     0.0104,2,    1.51586,2,      0.057,1,      0.000,2,      0.343,1,      0.204,1,      0.037,1,     99.963,     0.0015,2,      0.049,1,      0.316,1,     -999.0,9
49NZ20210713,        P01,      66,          1,         10,     X12S10,2,20210804,       1024,    46.9990,  -174.9561,       5796,  3749.9,2,   1.4976,2,  34.6745,2,  34.6747,2,   137.32,2,  137.55,2,  159.53,2,    0.03,2,   37.05,2,    0.00,2,   2.573,2,   0.000,2,   0.000,2,   0.002,2,   0.000,2,  2340.0,2,  2413.3,2,   37.79,2, -999.00,9,    34.8546,2,     640.55,2,       0.25,       0.01,       0.08,       0.01,      0.006,     -999.0,9,    1.49749,2,      0.056,1,      0.000,2,     -999.0,9,     -999.0,9,     -999.0,9,     99.956,     0.0017,2,      0.051,1,      0.318,1,     -999.0,9
49NZ20210713,        P01,      66,          1,          9,     X12S09,2,20210804,       1024,    46.9990,  -174.9561,       5796,  4000.9,2,   1.4854,2,  34.6792,2,  34.6793,2,   143.07,2,  143.29,2,  158.34,2,    0.01,2,   36.63,2,    0.00,2,   2.547,2,   0.000,2,   0.000,2,   0.000,2,   0.000,2,  2334.8,2,  2416.4,2,   40.35,2, -999.00,9,    34.8600,2,     640.65,2,       0.26,       0.01,       0.09,       0.01,      0.006,     0.0103,2,    1.48540,2,      0.056,1,      0.000,2,      0.330,1,      0.190,1,      0.033,1,     99.963,     0.0015,2,      0.049,1,      0.316,1,     -999.0,9
49NZ20210713,        P01,      66,          1,          8,     X12S08,2,20210804,       1024,    46.9990,  -174.9561,       5796,  4250.4,2,   1.4847,2,  34.6826,2,  34.6827,2,   146.96,2,  147.08,2,  158.26,2,    0.01,2,   36.42,2,    0.00,2,   2.533,2,   0.000,2,   0.000,2,   0.003,2,   0.000,2,  2330.3,6,  2415.7,2,   38.61,2, -999.00,9,    34.8636,2,     640.65,2,       0.25,       0.01,       0.08,       0.01,      0.006,     -999.0,9,    1.48469,2,      0.055,1,      0.000,2,     -999.0,9,     -999.0,9,     -999.0,9,     99.975,     0.0010,2,      0.050,1,      0.346,1,     -999.0,9
49NZ20210713,        P01,      66,          1,          7,     X12S07,2,20210804,       1024,    46.9990,  -174.9561,       5796,  4499.8,2,   1.4958,2,  34.6849,2,  34.6842,2,   149.27,2,  149.02,2,  159.69,2,    0.01,2,   36.27,2,    0.00,2,   2.521,2,   0.003,2,   0.001,2,   0.004,2,   0.000,2,  2328.7,2,  2417.2,2,   39.26,2, -999.00,9,    34.8658,2,     640.70,2,       0.38,       0.01,       0.08,       0.01,      0.006,     0.0109,2,    1.49577,2,      0.055,1,      0.000,2,      0.281,1,      0.157,1,      0.023,1,     99.970,     0.0012,2,      0.050,1,      0.340,1,     -999.0,9
49NZ20210713,        P01,      66,          1,          6,     X12S06,2,20210804,       1024,    46.9990,  -174.9561,       5796,  4751.1,2,   1.5176,2,  34.6863,2,  34.6859,2,   150.21,2,  149.86,2,  161.45,2,    0.01,2,   36.29,2,    0.00,2,   2.516,2,   0.000,2,   0.000,2,   0.001,2,   0.000,2,  2333.6,2,  2417.4,6,   39.76,2, -999.00,9,    34.8672,2,     640.70,2,       0.25,       0.01,       0.09,       0.01,      0.007,     -999.0,9,    1.51771,2,      0.054,1,      0.000,2,     -999.0,9,     -999.0,9,     -999.0,9,     99.979,     0.0008,2,      0.048,1,      0.338,1,     -999.0,9