BOTTLE,20231011CCHSIOENA
EXPOCODE,SECT_ID,STNNBR,CASTNO,SAMPNO,BTLNBR,BTLNBR_FLAG_W,DATE,TIME,LATITUDE,LONGITUDE,DEPTH,CTDPRS,CTDPRS_FLAG_W,CTDTMP,CTDTMP_FLAG_W,CTDSAL,CTDSAL_FLAG_W,SALNTY,SALNTY_FLAG_W,CTDOXY,CTDOXY_FLAG_W,OXYGEN,OXYGEN_FLAG_W,SILCAT,SILCAT_FLAG_W,NH4,NH4_FLAG_W,NITRAT,NITRAT_FLAG_W,NITRIT,NITRIT_FLAG_W,PHSPHT,PHSPHT_FLAG_W,CFC-11,CFC-11_FLAG_W,CFC-12,CFC-12_FLAG_W,CFC113,CFC113_FLAG_W,SF6,SF6_FLAG_W,TCARBN,TCARBN_FLAG_W,ALKALI,ALKALI_FLAG_W,DOC,DOC_FLAG_W,TDN,TDN_FLAG_W,DNSSAL,DNSSAL_FLAG_W,RIANOMALY,RIANOMALY_FLAG_W,SILUNC,NH4UNC,NRAUNC,NRIUNC,PHPUNC,FDOM,FDOM_FLAG_W,REFTMP,REFTMP_FLAG_W,CTDFLUOR,CTDFLUOR_FLAG_W,PAR,PAR_FLAG_W,CDOM300,CDOM300_FLAG_W,CDOM325,CDOM325_FLAG_W,CDOM443,CDOM443_FLAG_W,CTDXMISS,CTDBEAMCP,CTDBEAMCP_FLAG_W,CTDTURB,CTDTURB_FLAG_W,CTDCDOM,CTDCDOM_FLAG_W,CHLORA,CHLORA_FLAG_W
,,,,,,,,,,,METERS,DBAR,,ITS-90,,PSS-78,,PSS-78,,UMOL/KG,,UMOL/KG,,UMOL/KG,,UMOL/KG,,UMOL/KG,,UMOL/KG,,UMOL/KG,,PMOL/KG,,PMOL/KG,,PMOL/KG,,FMOL/KG,,UMOL/KG,,UMOL/KG,,UMOL/KG,,UMOL/KG,,G/KG,,ND,,UMOL/KG,UMOL/KG,UMOL/KG,UMOL/KG,UMOL/KG,RFU,,ITS-90,,MG/M^3,,UMOL/M^2/SEC,,/METER,,/METER,,/METER,,%TRANS,/METER,,FTU,,QSU,,UG/L,
49NZ20210713,        P01,      23,          1,          6,     X12S06,2,20210720,       0915,    40.6202,   149.3920,       5332,  4669.4,2,   1.4790,2,  34.6877,2,  34.6883,2,   158.32,2,  158.06,2,  148.18,2,    0.01,2,   35.73,2,    0.00,2,   2.459,2,   0.001,4,   0.000,4,   0.000,4,   0.013,4,  2320.0,2,  2409.9,6,   39.79,2, -999.00,9,    34.8658,2,     640.67,2,       0.23,       0.01,       0.08,       0.01,      0.006,     -999.0,9,    1.47906,2,      0.051,1,      0.000,2,     -999.0,9,     -999.0,9,     -999.0,9,     99.988,     0.0005,2,      0.050,1,      0.436,1,     -999.0,9
49NZ20210713,        P01,      23,          1,          5,     X12S05,2,20210720,       0915,    40.6202,   149.3920,       5332,  4920.5,2,   1.4992,2,  34.6889,2,  34.6888,2,   159.45,2,  159.33,2,  148.17,2,    0.01,2,   35.61,2,    0.00,2,   2.449,2,   0.006,4,   0.002,4,   0.000,4,   0.000,4,  2318.8,2,  2410.9,2,   39.21,2, -999.00,9,    34.8677,2,     640.77,2,       0.23,       0.01,       0.08,       0.01,      0.006,     0.0098,2,    1.49929,2,      0.050,1,      0.000,2,      0.268,1,      0.141,1,      0.023,1,     99.942,     0.0023,2,      0.055,1,      0.444,1,     -999.0,9
49NZ20210713,        P01,      23,          1,          4,     X12S04,2,20210720,       0915,    40.6202,   149.3920,       5332,  5170.0,2,   1.5198,2,  34.6897,2,  34.6903,2,   161.55,2,  161.51,2,  145.64,2,    0.02,2,   35.49,2,    0.00,2,   2.436,2,   0.003,4,   0.001,4,   0.000,4,   0.021,4,  2316.2,2,  2408.4,2,   37.30,2, -999.00,9,    34.8677,2,     640.67,2,       0.23,       0.01,       0.08,       0.01,      0.006,     0.0097,2,    1.51977,2,      0.050,1,      0.000,2,      0.282,1,      0.153,1,      0.027,1,     99.836,     0.0066,2,      0.059,1,      0.454,1,     -999.0,9
49NZ20210713,        P01,      23,          1,          1,     X12S01,2,20210720,       0915,    40.6202,   149.3920,       5332,  5423.8,2,   1.5472,2,  34.6904,2,  34.6905,2,   162.24,2,  162.11,2,  145.48,2,    0.00,2,   35.44,2,    0.01,2,   2.439,2,   0.004,4,   0.001,4,   0.000,4,   0.015,4,  2315.4,2,  2406.9,2,   35.48,2, -999.00,9,    34.8699,2,     640.77,2,       0.23,       0.01,       0.08,       0.01,      0.006,     0.0095,2,    1.54739,2,      0.051,1,      0.000,2,      0.285,1,      0.152,1,      0.025,1,     99.410,     0.0237,2,      0.088,1,      0.470,1,     -999.0,9
49NZ20210713,        P01,      24,          1,          2,     X12B34,2,20210720,       1625,    40.9183,   149.8627,       5388,    27.2,2,   6.0500,2,  33.0446,2,-999.0000,9,   310.54,2, -999.00,9, -999.00,9, -999.00,9, -999.00,9, -999.00,9,-999.000,9,-999.000,9,-999.000,9,-999.000,9,-999.000,9,  -999.0,9,  -999.0,9, -999.00,9, -999.00,9,     -999.0,9,     -999.0,9,     -999.0,     -999.0,     -999.0,     -999.0,     -999.0,     -999.0,9,    6.17562,2,      2.132,1,      0.000,2,     -999.0,9,     -999.0,9,     -999.0,9,     93.706,     0.2600,2,      0.186,1,      0.419,1,     -999.0,9