BOTTLE,20231011CCHSIOENA
# Several parameter updates (see below for full list) merged according to submission on 2023-04-03 by Shinya Kouketsu
# flag issues still exist for CDOM
# Merged parameters: FDOM, FDOM_FLAG_W, CFC-11, CFC-11_FLAG_W, CFC-12, CFC-12_FLAG_W, SF6, SF6_FLAG_W, CFC113, CFC113_FLAG_W, ALKALI, ALKALI_FLAG_W, TCARBN, TCARBN_FLAG_W, CHLORA, CDOM300, CDOM300_FLAG_W, CDOM325, CDOM325_FLAG_W, CDOM443, CDOM443_FLAG_W, CTDCDOM, CTDCDOM_FLAG_W
# 20230227CCHSIOENA
# merged DOC and DOC_FLAG_W from submission by Lillian Custals on 2023-02-22
# reassigned the following DOC samples and flags according to email communication with on board DOC technician:
# - reassigned value from stn 2, cast 1, sample 35 to sample 17
# - reassigned value from stn 3, cast 1, sample 36 to sample 18
# - reassigned value from stn 8, cast 1, sample 34 to sample 3
# some flag issues remain in the file for parameters other than DOC
# BOTTLE,20220915CCHSIOENA
# Original header:
# Merged parameters: DOC, DOC_FLAG_W
# 20220915CCHSIOAMB
# Change TURB to CTDTURB
# Change units of PAR from UMOL PHOTONS/M^2/S to UMOL/M^2/SEC
# Removed CTDUVFLUOR-370 column and flag, there were no data or flags to indicate data owed, additionally, this UV fluorometer would have been the instrument measuring the reported CDOM [QSU] param
# Documented NH4UNC as the uncertainty for NH4 (this is consistent with the rest of the nutrient uncertainty params)
# CHLWEL was found to be the shipboard analyzed bottle samples for chlorophyll a, changed name to CCHDO standard CHLORA
# Documented CDOM300 in params DB
# Documented RIANOMALY (I suspect the values have been scaled somehow, the cruise report has 10^5 but I think this is reversed and should be 10^-5)
# Removed a significant number (700+) lines of nothing but empty values
# Still contains a _lot_ of flag errors
#BOTTLE,20220915CCHSIOSCD
#BOTTLE,20220316RIGJAMKKT
#| CCHDO Citation Information
#|
#| Please cite data downloaded from CCHDO as: 
#| [Data providers of the parameter(s) used]. [Year of file access]. [CTD/Bottle] data from cruise [expocode], 
#| [format version used]. Accessed from CCHDO [url of cruise data page]. Access date [date of download].
#| [Applicable CCHDO cruise DOI if provided].
#|
#| For example: 
#| Swift, J. and Becker, S. 2019. CTD data from Cruise 33RR20160321, exchange version. Accessed from CCHDO 
#| https://cchdo.ucsd.edu/cruise/33RR20160321. Access date 2019-08-21. CCHDO cruise DOI: 10.7942/C2008W
#|
#| Information on the scientists who provided the different parameters can be found in the cruise report. 
#| Additionally, for US GO-SHIP cruises, this information is usually in the comments section in the text headers 
#| of the Exchange bottle files.
#|
#| Users are also encouraged to acknowledge the funding program that supported the data collection in their publication. 
#| For US GO-SHIP data this is the NSF/NOAA funded U.S Repeat Hydrography Program.
EXPOCODE,SECT_ID,STNNBR,CASTNO,SAMPNO,BTLNBR,BTLNBR_FLAG_W,DATE,TIME,LATITUDE,LONGITUDE,DEPTH,CTDPRS,CTDPRS_FLAG_W,CTDTMP,CTDTMP_FLAG_W,CTDSAL,CTDSAL_FLAG_W,SALNTY,SALNTY_FLAG_W,CTDOXY,CTDOXY_FLAG_W,OXYGEN,OXYGEN_FLAG_W,SILCAT,SILCAT_FLAG_W,NH4,NH4_FLAG_W,NITRAT,NITRAT_FLAG_W,NITRIT,NITRIT_FLAG_W,PHSPHT,PHSPHT_FLAG_W,CFC-11,CFC-11_FLAG_W,CFC-12,CFC-12_FLAG_W,CFC113,CFC113_FLAG_W,SF6,SF6_FLAG_W,TCARBN,TCARBN_FLAG_W,ALKALI,ALKALI_FLAG_W,DOC,DOC_FLAG_W,TDN,TDN_FLAG_W,DNSSAL,DNSSAL_FLAG_W,RIANOMALY,RIANOMALY_FLAG_W,SILUNC,NH4UNC,NRAUNC,NRIUNC,PHPUNC,FDOM,FDOM_FLAG_W,REFTMP,REFTMP_FLAG_W,CTDFLUOR,CTDFLUOR_FLAG_W,PAR,PAR_FLAG_W,CDOM300,CDOM300_FLAG_W,CDOM325,CDOM325_FLAG_W,CDOM443,CDOM443_FLAG_W,CTDXMISS,CTDBEAMCP,CTDBEAMCP_FLAG_W,CTDTURB,CTDTURB_FLAG_W,CTDCDOM,CTDCDOM_FLAG_W,CHLORA,CHLORA_FLAG_W
,,,,,,,,,,,METERS,DBAR,,ITS-90,,PSS-78,,PSS-78,,UMOL/KG,,UMOL/KG,,UMOL/KG,,UMOL/KG,,UMOL/KG,,UMOL/KG,,UMOL/KG,,PMOL/KG,,PMOL/KG,,PMOL/KG,,FMOL/KG,,UMOL/KG,,UMOL/KG,,UMOL/KG,,UMOL/KG,,G/KG,,ND,,UMOL/KG,UMOL/KG,UMOL/KG,UMOL/KG,UMOL/KG,RFU,,ITS-90,,MG/M^3,,UMOL/M^2/SEC,,/METER,,/METER,,/METER,,%TRANS,/METER,,FTU,,QSU,,UG/L,
49NZ20210713,        P01,       1,          1,          2,     X12B34,2,20210715,       0723,    42.9720,   145.4485,         97,     6.3,2,  13.1914,2,  32.7337,2,  32.7326,2,   331.07,2,  325.04,2,    0.10,2,    0.01,2,   -0.01,2,    0.02,2,   0.042,2,-999.000,9,-999.000,9,-999.000,9,-999.000,9,  1958.4,2,  2225.7,2,   71.47,2, -999.00,9,    32.8929,2,     604.58,2,       0.04,       0.01,       0.01,       0.01,      0.006,     0.0105,2,   13.15655,2,      4.891,4,     68.554,2,      0.700,1,      0.418,1,      0.058,1,     67.312,     1.5834,2,      1.070,1,      0.513,1,       6.58,2
49NZ20210713,        P01,       1,          1,         36,     X12S36,2,20210715,       0723,    42.9720,   145.4485,         97,    10.1,2,  14.8768,2,  32.7531,2,  32.7420,2,   314.60,2,  315.33,2,    0.07,2,    0.02,2,   -0.02,2,    0.02,2,   0.041,2,   3.337,3,   1.663,3,   0.310,3,   4.794,3,  1956.3,2,  2221.6,2,   78.77,2, -999.00,9,    32.9004,2,     604.77,2,       0.04,       0.01,       0.01,       0.01,      0.005,     0.0095,2,   14.84379,2,     -999.0,9,     28.637,2,      0.667,1,      0.398,1,      0.052,1,     69.918,     1.4314,2,      1.101,1,      0.489,1,       5.42,2
49NZ20210713,        P01,       1,          1,         35,     X12S35,3,20210715,       0723,    42.9720,   145.4485,         97,    50.5,2,   5.1741,2,  32.9899,2,  32.9920,2,   298.20,2,  296.62,2,   22.12,2,    1.98,2,    9.72,2,    0.18,2,   1.113,2,   4.753,2,   2.211,2,   0.433,2,   4.498,2,  2106.8,2,  2243.0,2,   61.31,2, -999.00,9,    33.1551,2,     609.48,2,       0.07,       0.04,       0.03,       0.01,      0.004,     0.0105,2,    5.17954,2,      0.237,1,      0.000,2,      0.625,1,      0.361,1,      0.047,1,     98.968,     0.0415,2,      0.126,1,      0.543,1,       0.20,2
49NZ20210713,        P01,       1,          1,          1,     X12S01,2,20210715,       0723,    42.9720,   145.4485,         97,    85.9,2,   4.5569,2,  33.0221,2,  33.0208,2,   289.69,2,  288.63,2,   26.94,2,    2.13,2,   11.63,2,    0.20,2,   1.290,2,   4.805,2,   2.214,2,   0.414,2,   3.875,2,  2122.1,2,  2246.1,2,   60.04,2, -999.00,9,    33.1858,2,     609.98,2,       0.07,       0.04,       0.03,       0.01,      0.004,     0.0105,2,    4.55799,2,      0.242,1,      0.000,2,      0.619,1,      0.359,1,      0.044,1,     97.641,     0.0955,2,      0.273,1,      0.553,1,     -999.0,9
49NZ20210713,        P01,       2,          1,         36,     X12S36,2,20210715,       1010,    42.8918,   145.5188,        376,    10.2,2,  16.3706,2,  33.4434,2,  33.5139,2,   272.00,2,  274.04,2,    0.55,2,    0.03,2,    0.06,2,    0.02,2,   0.095,2,   2.769,2,   1.603,2,   0.247,2,   2.721,2,  1989.9,2,  2241.7,2,   61.12,2, -999.00,9,    33.6733,2,     619.23,2,       0.04,       0.01,       0.01,       0.01,      0.003,     0.0065,2,   16.32314,2,      1.760,1,      0.000,2,      0.485,1,      0.284,1,      0.024,1,     91.154,     0.3705,2,      0.366,1,      0.386,1,       0.82,2
49NZ20210713,        P01,       2,          1,          2,     X12B34,2,20210715,       1010,    42.8918,   145.5188,        376,    17.5,2,  13.8329,2,  33.4850,2,  33.4996,2,   280.66,2,  280.58,2,    2.01,2,    0.45,2,    1.98,2,    0.14,2,   0.298,2,-999.000,9,-999.000,9,-999.000,9,-999.000,9,  2015.5,2,  2249.7,2,   62.56,2, -999.00,9,    33.6643,2,     618.92,2,       0.04,       0.02,       0.02,       0.01,      0.003,     0.0090,2,   13.82644,2,      4.272,1,      0.000,2,      0.506,1,      0.303,1,      0.039,1,     89.528,     0.4425,2,      0.391,1,      0.471,1,       1.73,2
49NZ20210713,        P01,       2,          1,         17,     X12S17,2,20210715,       1010,    42.8918,   145.5188,        376,    50.2,2,   6.7534,2,  33.3400,2,  33.3525,2,   292.75,2,  291.59,2,    8.95,2,    3.00,2,   11.75,2,    0.25,2,   1.301,2,   4.333,2,   2.060,2,   0.405,2,   3.749,2,  2100.4,2,  2252.9,2,   56.80,2, -999.00,9,    33.5133,2,     616.12,2,       0.05,       0.06,       0.03,       0.01,      0.004,     0.0088,2,    6.76953,2,      1.098,1,      0.000,2,      0.422,1,      0.236,1,      0.029,1,     97.681,     0.0938,2,      0.138,1,      0.495,1,       0.60,2
49NZ20210713,        P01,       2,          1,         34,     X12S34,2,20210715,       1010,    42.8918,   145.5188,        376,   100.4,2,   3.9554,2,  33.3248,2,  33.3111,2,   282.81,2,  284.46,3,   33.89,2,    0.97,2,   20.57,2,    0.22,2,   1.727,2,   4.746,2,   2.199,2,   0.424,2,   4.043,2,  2152.3,2,  2247.6,2,   53.03,2, -999.00,9,    33.4737,2,     615.38,2,       0.08,       0.03,       0.05,       0.01,      0.005,     0.0084,2,    3.95384,2,      0.157,1,      0.000,2,      0.444,1,      0.243,1,      0.034,1,     99.258,     0.0298,2,      0.176,1,      0.491,1,       0.08,2
49NZ20210713,        P01,       2,          1,         33,     X12S33,2,20210715,       1010,    42.8918,   145.5188,        376,   150.2,2,   1.4460,2,  33.2179,2,  33.2183,2,   263.52,2,  263.29,2,   55.95,2,    0.02,2,   27.89,2,    0.05,2,   2.173,2,   4.897,2,   2.245,2,   0.446,2,   3.832,2,  2196.2,2,  2251.4,2,   49.91,2, -999.00,9,    33.3827,2,     613.58,2,       0.11,       0.01,       0.06,       0.01,      0.005,     0.0091,2,    1.44516,2,      0.109,1,      0.000,2,      0.439,1,      0.233,1,      0.029,1,     98.988,     0.0407,2,      0.145,1,      0.528,1,       0.08,2
49NZ20210713,        P01,       2,          1,         32,     X12S32,2,20210715,       1010,    42.8918,   145.5188,        376,   199.8,2,   3.0228,2,  33.4719,2,  33.4704,2,   264.29,2,  264.51,2,   46.03,2,    0.00,2,   24.33,2,    0.03,2,   1.883,2,   3.579,4,   1.662,4,   0.291,4,   2.923,4,  2180.3,2,  2259.0,2,   50.78,2, -999.00,9,    33.6358,2,     618.38,2,       0.10,       0.01,       0.06,       0.01,      0.005,     0.0083,2,    3.02345,2,      0.080,1,      0.000,2,      0.407,1,      0.213,1,      0.023,1,     99.173,     0.0332,2,      0.140,1,      0.499,1,       0.06,2
49NZ20210713,        P01,       2,          1,         31,     X12S31,2,20210715,       1010,    42.8918,   145.5188,        376,   252.2,2,   2.3866,2,  33.4291,2,  33.4281,2,   244.34,2,  244.02,2,   55.88,2,    0.01,2,   27.50,2,    0.06,2,   2.129,2,   4.485,2,   2.075,2,   0.380,2,   3.541,2,  2202.3,2,  2257.8,2,   47.14,2, -999.00,9,    33.5944,2,     617.58,2,       0.11,       0.01,       0.06,       0.01,      0.005,     0.0091,2,    2.38547,2,      0.074,1,      0.000,2,      0.429,1,      0.235,1,      0.031,1,     99.128,     0.0351,2,      0.133,1,      0.526,1,       0.06,2
49NZ20210713,        P01,       2,          1,         30,     X12S30,2,20210715,       1010,    42.8918,   145.5188,        376,   330.2,2,   2.0803,2,  33.4737,2,  33.4741,2,   199.20,2,  198.81,2,   71.65,2,    0.00,2,   32.27,2,    0.04,2,   2.463,2,   4.070,2,   2.195,2,   0.334,2,   2.980,2,  2237.5,2,  2267.0,2,   46.47,2, -999.00,9,    33.6451,2,     618.38,2,       0.13,       0.01,       0.07,       0.01,      0.006,     0.0107,2,    2.08052,2,      0.075,1,      0.000,2,      0.477,1,      0.269,1,      0.045,1,     99.203,     0.0320,2,      0.142,1,      0.573,1,     -999.0,9
49NZ20210713,        P01,       2,          1,          1,     X12S01,2,20210715,       1010,    42.8918,   145.5188,        376,   366.4,2,   2.1352,2,  33.4986,2,  33.4992,2,   190.12,2,  189.14,2,   74.35,2,    0.02,2,   32.92,2,    0.04,2,   2.515,2,   3.958,2,   1.833,2,   0.325,2,   2.840,2,  2246.2,2,  2277.3,2,   47.64,2, -999.00,9,    33.6676,2,     618.83,2,       0.14,       0.01,       0.07,       0.01,      0.006,     0.0106,2,    2.13531,2,      0.078,1,      0.000,2,      0.504,1,      0.296,1,      0.054,1,     98.993,     0.0405,2,      0.142,1,      0.578,1,     -999.0,9