BOTTLE,20231011CCHSIOENA
EXPOCODE,SECT_ID,STNNBR,CASTNO,SAMPNO,BTLNBR,BTLNBR_FLAG_W,DATE,TIME,LATITUDE,LONGITUDE,DEPTH,CTDPRS,CTDPRS_FLAG_W,CTDTMP,CTDTMP_FLAG_W,CTDSAL,CTDSAL_FLAG_W,SALNTY,SALNTY_FLAG_W,CTDOXY,CTDOXY_FLAG_W,OXYGEN,OXYGEN_FLAG_W,SILCAT,SILCAT_FLAG_W,NH4,NH4_FLAG_W,NITRAT,NITRAT_FLAG_W,NITRIT,NITRIT_FLAG_W,PHSPHT,PHSPHT_FLAG_W,CFC-11,CFC-11_FLAG_W,CFC-12,CFC-12_FLAG_W,CFC113,CFC113_FLAG_W,SF6,SF6_FLAG_W,TCARBN,TCARBN_FLAG_W,ALKALI,ALKALI_FLAG_W,DOC,DOC_FLAG_W,TDN,TDN_FLAG_W,DNSSAL,DNSSAL_FLAG_W,RIANOMALY,RIANOMALY_FLAG_W,SILUNC,NH4UNC,NRAUNC,NRIUNC,PHPUNC,FDOM,FDOM_FLAG_W,REFTMP,REFTMP_FLAG_W,CTDFLUOR,CTDFLUOR_FLAG_W,PAR,PAR_FLAG_W,CDOM300,CDOM300_FLAG_W,CDOM325,CDOM325_FLAG_W,CDOM443,CDOM443_FLAG_W,CTDXMISS,CTDBEAMCP,CTDBEAMCP_FLAG_W,CTDTURB,CTDTURB_FLAG_W,CTDCDOM,CTDCDOM_FLAG_W,CHLORA,CHLORA_FLAG_W
,,,,,,,,,,,METERS,DBAR,,ITS-90,,PSS-78,,PSS-78,,UMOL/KG,,UMOL/KG,,UMOL/KG,,UMOL/KG,,UMOL/KG,,UMOL/KG,,UMOL/KG,,PMOL/KG,,PMOL/KG,,PMOL/KG,,FMOL/KG,,UMOL/KG,,UMOL/KG,,UMOL/KG,,UMOL/KG,,G/KG,,ND,,UMOL/KG,UMOL/KG,UMOL/KG,UMOL/KG,UMOL/KG,RFU,,ITS-90,,MG/M^3,,UMOL/M^2/SEC,,/METER,,/METER,,/METER,,%TRANS,/METER,,FTU,,QSU,,UG/L,
49NZ20210713,        P01,      46,          1,         36,     X12S36,2,20210729,       0505,    46.9903,   168.3797,       6242,     9.7,2,  10.1117,2,  32.8585,2,  32.8736,2,   301.82,2,  303.83,2,   27.78,2,    0.45,2,   17.34,2,    0.19,2,   1.512,2,   3.819,2,   1.804,2,   0.349,2,   3.496,2,  2069.6,2,  2231.6,2,   56.53,2, -999.00,9,    33.0319,2,     607.57,2,       0.07,       0.02,       0.04,       0.01,      0.006,     0.0045,2,   10.09382,2,      1.943,1,     21.279,2,      0.460,1,      0.251,1,      0.034,1,     93.481,     0.2697,2,      0.259,1,      0.266,1,       0.72,2
49NZ20210713,        P01,      46,          1,         35,     X12S35,2,20210729,       0505,    46.9903,   168.3797,       6242,    49.6,2,   4.1854,2,  33.0629,2,  33.0631,2,   326.95,2,  328.28,2,   41.71,2,    1.40,2,   23.15,2,    0.31,2,   1.966,2,   4.988,2,   2.276,2,   0.456,2,   4.321,2,  2121.1,2,  2236.0,2,   50.70,2, -999.00,9,    33.2236,2,     611.07,2,       0.09,       0.03,       0.05,       0.01,      0.005,     0.0056,2,    4.20176,2,      1.149,1,      0.238,2,      0.411,1,      0.222,1,      0.031,1,     98.005,     0.0806,2,      0.116,1,      0.293,1,       0.45,2
49NZ20210713,        P01,      46,          1,         34,     X12S34,2,20210729,       0505,    46.9903,   168.3797,       6242,   100.2,2,   2.3795,2,  33.1614,2,  33.1609,2,   320.36,2,  323.16,2,   52.91,2,    0.01,2,   29.17,2,    0.01,2,   2.198,2,   5.255,2,   2.375,2,   0.475,2,   4.437,2,  2154.9,2,  2237.5,2,   51.52,2, -999.00,9,    33.3238,2,     612.92,2,       0.11,       0.01,       0.07,       0.01,      0.005,     0.0055,2,    2.37955,2,      0.164,1,      0.000,2,      0.402,1,      0.211,1,      0.032,1,     99.402,     0.0240,2,      0.077,1,      0.296,1,       0.11,2
49NZ20210713,        P01,      46,          1,         33,     X12S33,2,20210729,       0505,    46.9903,   168.3797,       6242,   149.6,2,   2.7382,2,  33.5020,2,  33.4987,2,   182.03,2,  188.12,2,   73.32,2,    0.02,2,   36.87,2,    0.01,2,   2.666,2,   3.898,2,   2.069,2,   0.320,2,   2.876,2,  2246.2,2,  2266.5,2,   49.47,2, -999.00,9,    33.6648,2,     619.12,2,       0.13,       0.01,       0.08,       0.01,      0.006,     0.0094,2,    2.73866,2,      0.087,1,      0.000,2,      0.668,1,      0.431,1,      0.108,1,     99.375,     0.0251,2,      0.080,1,      0.374,1,       0.04,2
49NZ20210713,        P01,      46,          1,         32,     X12S32,2,20210729,       0505,    46.9903,   168.3797,       6242,   200.2,2,   3.7399,2,  33.9280,2,  33.9286,2,    17.26,2,   16.91,2,  101.01,2,    0.02,2,   45.69,2,    0.00,2,   3.219,2,   2.025,2,   1.045,2,   0.132,2,   0.878,2,  2346.3,2,  2300.6,2,   44.72,2, -999.00,9,    34.0980,2,     627.02,2,       0.17,       0.01,       0.09,       0.01,      0.007,     0.0130,2,    3.73945,2,      0.078,1,      0.000,2,      0.481,1,      0.283,1,      0.053,1,     99.546,     0.0182,2,      0.080,1,      0.451,1,       0.02,2
49NZ20210713,        P01,      46,          1,         31,     X12S31,2,20210729,       0505,    46.9903,   168.3797,       6242,   250.5,2,   3.7160,2,  34.0052,2,  34.0048,2,    13.69,2,   13.43,2,  107.47,2,    0.01,2,   45.46,2,    0.00,2,   3.210,2,   1.654,2,   0.844,2,   0.103,2,   0.538,2,  2356.4,2,  2311.0,2,   44.98,2, -999.00,9,    34.1766,2,     628.42,2,       0.18,       0.01,       0.09,       0.01,      0.007,     0.0132,2,    3.71545,2,      0.076,1,      0.000,2,      0.437,1,      0.253,1,      0.043,1,     99.649,     0.0141,2,      0.066,1,      0.452,1,       0.01,2
49NZ20210713,        P01,      46,          1,         30,     X12S30,2,20210729,       0505,    46.9903,   168.3797,       6242,   330.8,2,   3.6331,2,  34.1001,2,  34.0990,2,    16.89,2,   16.59,2,  115.16,2,    0.02,2,   44.47,2,    0.00,2,   3.137,2,   1.208,2,   0.614,2,   0.070,2,   0.348,2,  2353.5,2,  2328.7,2,   40.42,2, -999.00,9,    34.2719,2,     630.17,2,       0.19,       0.01,       0.09,       0.01,      0.006,     0.0135,2,    3.63250,2,      0.078,1,      0.000,2,      0.454,1,      0.270,1,      0.052,1,     99.735,     0.0106,2,      0.061,1,      0.456,1,     -999.0,9
49NZ20210713,        P01,      46,          1,         29,     X12S29,2,20210729,       0505,    46.9903,   168.3797,       6242,   430.6,2,   3.4953,2,  34.1774,2,  34.1766,2,    13.98,2,   13.53,2,  123.76,2,    0.02,2,   44.56,2,    0.00,2,   3.139,2,   0.824,2,   0.423,2,   0.048,2,   0.211,2,  2361.5,2,  2336.9,2,   41.58,2, -999.00,9,    34.3500,2,     631.57,2,       0.20,       0.01,       0.09,       0.01,      0.006,     0.0136,2,    3.49493,2,      0.074,1,      0.000,2,      0.429,1,      0.257,1,      0.050,1,     99.841,     0.0064,2,      0.056,1,      0.450,1,     -999.0,9
49NZ20210713,        P01,      46,          1,         28,     X12S28,2,20210729,       0505,    46.9903,   168.3797,       6242,   530.8,2,   3.3234,2,  34.2441,2,  34.2430,2,    13.50,2,   13.05,2,  131.20,2,    0.02,2,   44.58,2,    0.00,2,   3.144,2,   0.556,2,   0.293,2,   0.025,2,   0.173,2,  2367.6,2,  2347.4,2,   41.30,2, -999.00,9,    34.4170,2,     632.77,2,       0.21,       0.01,       0.09,       0.01,      0.006,     0.0134,2,    3.32322,2,      0.073,1,      0.000,2,      0.446,1,      0.271,1,      0.053,1,     99.841,     0.0064,2,      0.053,1,      0.452,1,     -999.0,9
49NZ20210713,        P01,      46,          1,         27,     X12S27,2,20210729,       0505,    46.9903,   168.3797,       6242,   628.8,2,   3.1731,2,  34.2884,2,  34.2876,2,    16.13,2,   15.69,2,  136.87,2,    0.03,2,   44.31,2,    0.00,2,   3.135,2,   0.426,2,   0.229,2,   0.019,2,   0.073,2,  2378.9,2,  2359.8,2,   37.86,2, -999.00,9,    34.4626,2,     633.57,2,       0.22,       0.01,       0.09,       0.01,      0.006,     0.0137,2,    3.17320,2,      0.072,1,      0.000,2,      0.406,1,      0.238,1,      0.048,1,     99.868,     0.0053,2,      0.055,1,      0.449,1,     -999.0,9
49NZ20210713,        P01,      46,          1,         26,     X12S26,2,20210729,       0505,    46.9903,   168.3797,       6242,   730.4,2,   3.0088,2,  34.3324,2,  34.3311,2,    16.14,2,   15.69,2,  142.89,2,    0.01,2,   44.33,2,    0.00,2,   3.141,2,   0.292,2,   0.167,2,   0.010,2,   0.026,2,  2382.7,6,  2365.7,2,   40.44,2, -999.00,9,    34.5074,2,     634.42,2,       0.23,       0.01,       0.09,       0.01,      0.006,     -999.0,9,    3.00926,2,      0.072,1,      0.000,2,     -999.0,9,     -999.0,9,     -999.0,9,     99.850,     0.0060,2,      0.055,1,      0.447,1,     -999.0,9
49NZ20210713,        P01,      46,          1,         25,     X12S25,2,20210729,       0505,    46.9903,   168.3797,       6242,   830.5,2,   2.8333,2,  34.3775,2,  34.3759,2,    23.20,2,   22.94,2,  147.64,2,    0.02,2,   43.83,2,    0.00,2,   3.111,2,   0.236,2,   0.138,2,   0.008,2,   0.061,2,  2383.1,2,  2372.6,2,   39.45,2, -999.00,9,    34.5554,2,     635.22,2,       0.23,       0.01,       0.09,       0.01,      0.006,     0.0133,2,    2.83389,2,      0.070,1,      0.000,2,      0.426,1,      0.260,1,      0.052,1,     99.898,     0.0041,2,      0.051,1,      0.430,1,     -999.0,9
49NZ20210713,        P01,      46,          1,         24,     X12S24,2,20210729,       0505,    46.9903,   168.3797,       6242,   930.1,2,   2.6756,2,  34.4131,2,  34.4128,2,    25.90,2,   25.75,2,  152.12,2,    0.03,2,   43.57,2,    0.00,2,   3.093,2,   0.174,2,   0.104,2,   0.008,2,   0.086,2,  2385.5,2,  2379.9,2,   37.78,2, -999.00,9,    34.5913,2,     635.87,2,       0.24,       0.01,       0.09,       0.01,      0.006,     -999.0,9,    2.67481,2,      0.070,1,      0.000,2,     -999.0,9,     -999.0,9,     -999.0,9,     99.898,     0.0041,2,      0.050,1,      0.406,1,     -999.0,9
49NZ20210713,        P01,      46,          1,         23,     X12S23,2,20210729,       0505,    46.9903,   168.3797,       6242,  1068.5,2,   2.4940,2,  34.4541,2,  34.4537,2,    30.08,2,   30.05,2,  157.40,2,    0.03,2,   43.44,2,    0.00,2,   3.082,2,   0.117,2,   0.073,2,   0.006,2,   0.014,2,  2389.9,2,  2387.4,2,   36.33,2, -999.00,9,    34.6335,2,     636.67,2,       0.25,       0.01,       0.09,       0.01,      0.006,     0.0131,2,    2.49302,2,      0.068,1,      0.000,2,      0.423,1,      0.255,1,      0.056,1,     99.896,     0.0042,2,      0.049,1,      0.399,1,     -999.0,9
49NZ20210713,        P01,      46,          1,         22,     X12S22,2,20210729,       0505,    46.9903,   168.3797,       6242,  1270.7,2,   2.3011,2,  34.4978,2,  34.4972,2,    36.65,2,   36.63,2,  163.05,2,    0.02,2,   43.20,2,    0.00,2,   3.053,2,   0.062,2,   0.039,2,   0.005,2,   0.004,2,  2393.7,2,  2395.0,6,   36.17,2, -999.00,9,    34.6771,2,     637.42,2,       0.25,       0.01,       0.09,       0.01,      0.006,     -999.0,9,    2.30114,2,      0.066,1,      0.000,2,     -999.0,9,     -999.0,9,     -999.0,9,     99.910,     0.0036,2,      0.051,1,      0.397,1,     -999.0,9
49NZ20210713,        P01,      46,          1,         21,     X12S21,2,20210729,       0505,    46.9903,   168.3797,       6242,  1469.6,2,   2.1177,2,  34.5413,2,  34.5414,2,    49.18,2,   49.52,2,  165.97,2,    0.02,2,   42.56,2,    0.00,2,   2.999,2,   0.034,2,   0.020,2,   0.002,2,   0.063,2,  2388.8,2,  2401.4,2,   37.97,2, -999.00,9,    34.7226,2,     638.22,2,       0.26,       0.01,       0.09,       0.01,      0.006,     0.0126,2,    2.11727,2,      0.065,1,      0.000,2,      0.409,1,      0.245,1,      0.050,1,     99.915,     0.0034,2,      0.051,1,      0.386,1,     -999.0,9
49NZ20210713,        P01,      46,          1,         20,     X12S20,2,20210729,       0505,    46.9903,   168.3797,       6242,  1670.3,2,   1.9993,2,  34.5695,2,  34.5689,2,    59.65,2,   59.44,2,  166.98,2,    0.01,2,   41.93,2,    0.00,2,   2.954,2,   0.017,2,   0.011,2,   0.004,2,   0.043,2,  2384.4,2,  2406.9,2,   35.91,2, -999.00,9,    34.7514,2,     638.72,2,       0.26,       0.01,       0.09,       0.01,      0.006,     -999.0,9,    1.99887,2,      0.064,1,      0.000,2,     -999.0,9,     -999.0,9,     -999.0,9,     99.864,     0.0054,2,      0.049,1,      0.381,1,     -999.0,9
49NZ20210713,        P01,      46,          1,         19,     X12S19,2,20210729,       0505,    46.9903,   168.3797,       6242,  1870.2,2,   1.8874,2,  34.5932,2,  34.5932,2,    71.27,2,   71.92,2,  167.40,2,    0.00,2,   41.20,2,    0.00,2,   2.902,2,   0.008,2,   0.004,2,   0.002,2,   0.045,2,  2378.3,2,  2408.3,2,   38.23,2, -999.00,9,    34.7767,2,     639.12,2,       0.26,       0.01,       0.09,       0.01,      0.006,     0.0121,2,    1.88589,2,      0.062,1,      0.000,2,      0.331,1,      0.186,1,      0.034,1,     99.924,     0.0030,2,      0.050,1,      0.378,1,     -999.0,9
49NZ20210713,        P01,      46,          1,         18,     X12S18,2,20210729,       0505,    46.9903,   168.3797,       6242,  2070.8,2,   1.7958,2,  34.6122,2,  34.6117,2,    82.97,2,   83.11,2,  166.48,2,    0.00,2,   40.54,2,    0.00,2,   2.846,2,   0.002,2,   0.002,2,   0.001,2,   0.034,2,  2373.1,2,  2411.4,2,   40.22,2, -999.00,9,    34.7956,2,     639.52,2,       0.26,       0.01,       0.09,       0.01,      0.007,     -999.0,9,    1.79593,2,      0.062,1,      0.000,2,     -999.0,9,     -999.0,9,     -999.0,9,     99.931,     0.0028,2,      0.049,1,      0.363,1,     -999.0,9
49NZ20210713,        P01,      46,          1,         17,     X12S17,2,20210729,       0505,    46.9903,   168.3797,       6242,  2270.1,2,   1.7115,2,  34.6289,2,  34.6284,2,    94.92,2,   94.90,2,  165.09,2,    0.00,2,   39.84,2,    0.00,2,   2.787,2,   0.003,2,   0.003,2,   0.001,2,   0.033,2,  2365.2,2,  2415.5,2,   37.21,2, -999.00,9,    34.8122,2,     639.82,2,       0.26,       0.01,       0.08,       0.01,      0.006,     0.0113,2,    1.71139,2,      0.060,1,      0.000,2,      0.320,1,      0.179,1,      0.031,1,     99.958,     0.0017,2,      0.049,1,      0.357,1,     -999.0,9
49NZ20210713,        P01,      46,          1,         16,     X12S16,2,20210729,       0505,    46.9903,   168.3797,       6242,  2469.5,2,   1.6380,2,  34.6414,2,  34.6411,2,   105.32,2,  105.19,2,  163.85,2,    0.00,2,   39.11,2,    0.00,2,   2.740,2,   0.000,2,   0.000,2,   0.000,2,   0.026,2,  2361.5,6,  2415.0,2,   34.65,2, -999.00,9,    34.8235,2,     640.02,2,       0.26,       0.01,       0.08,       0.01,      0.006,     -999.0,9,    1.63799,2,      0.060,1,      0.000,2,     -999.0,9,     -999.0,9,     -999.0,9,     99.945,     0.0022,2,      0.048,1,      0.359,1,     -999.0,9
49NZ20210713,        P01,      46,          1,         15,     X12S15,2,20210729,       0505,    46.9903,   168.3797,       6242,  2669.7,2,   1.5789,2,  34.6522,2,  34.6518,2,   115.50,2,  115.76,2,  161.68,2,    0.01,2,   38.46,2,    0.00,2,   2.685,2,   0.000,2,   0.000,2,   0.000,2,   0.045,2,  2353.0,2,  2415.1,2,   37.86,2, -999.00,9,    34.8330,2,     640.27,2,       0.25,       0.01,       0.08,       0.01,      0.006,     0.0107,2,    1.57850,2,      0.059,1,      0.000,2,      0.297,1,      0.163,1,      0.024,1,     99.956,     0.0018,2,      0.048,1,      0.353,1,     -999.0,9
49NZ20210713,        P01,      46,          1,         14,     X12S14,2,20210729,       0505,    46.9903,   168.3797,       6242,  2870.5,2,   1.5346,2,  34.6605,2,  34.6602,2,   124.10,2,  124.28,2,  159.48,2,    0.01,2,   38.00,2,    0.00,2,   2.648,2,   0.000,2,   0.000,2,   0.000,2,   0.020,2,  2347.8,2,  2416.1,2,   37.54,2, -999.00,9,    34.8424,2,     640.37,2,       0.25,       0.01,       0.08,       0.01,      0.006,     -999.0,9,    1.53441,2,      0.058,1,      0.000,2,     -999.0,9,     -999.0,9,     -999.0,9,     99.970,     0.0012,2,      0.049,1,      0.341,1,     -999.0,9
49NZ20210713,        P01,      46,          1,         13,     X12S13,2,20210729,       0505,    46.9903,   168.3797,       6242,  3080.2,2,   1.4958,2,  34.6676,2,  34.6677,2,   131.93,2,  132.02,2,  157.62,2,    0.02,2,   37.55,2,    0.00,2,   2.607,2,   0.004,2,   0.002,2,   0.000,2,   0.020,2,  2342.4,2,  2414.3,2,   37.23,2, -999.00,9,    34.8498,2,     640.57,2,       0.25,       0.01,       0.08,       0.01,      0.006,     0.0102,2,    1.49570,2,      0.058,1,      0.000,2,      0.317,1,      0.179,1,      0.032,1,     99.968,     0.0013,2,      0.048,1,      0.341,1,     -999.0,9
49NZ20210713,        P01,      46,          1,         12,     X12S12,2,20210729,       0505,    46.9903,   168.3797,       6242,  3330.4,2,   1.4840,2,  34.6718,2,  34.6715,2,   136.61,2,  136.67,2,  156.11,2,    0.02,2,   37.12,2,    0.00,2,   2.576,2,   0.000,2,   0.000,2,   0.000,2,   0.000,2,  2338.7,2,  2414.0,6,   38.07,2, -999.00,9,    34.8531,2,     640.62,2,       0.25,       0.01,       0.08,       0.01,      0.006,     -999.0,9,    1.48381,2,      0.057,1,      0.000,2,     -999.0,9,     -999.0,9,     -999.0,9,     99.958,     0.0017,2,      0.048,1,      0.336,1,     -999.0,9
49NZ20210713,        P01,      46,          1,         11,     X12S11,2,20210729,       0505,    46.9903,   168.3797,       6242,  3579.3,2,   1.4801,2,  34.6750,2,  34.6738,2,   140.55,2,  140.62,2,  155.22,2,    0.02,2,   36.85,2,    0.00,2,   2.557,2,   0.000,2,   0.000,2,   0.000,2,   0.008,2,  2338.5,2,  2415.0,2,   37.14,2, -999.00,9,    34.8561,2,     640.67,2,       0.24,       0.01,       0.08,       0.01,      0.007,     0.0104,2,    1.47984,2,      0.057,1,      0.000,2,      0.300,1,      0.168,1,      0.025,1,     99.965,     0.0014,2,      0.051,1,      0.332,1,     -999.0,9
49NZ20210713,        P01,      46,          1,         10,     X12S10,2,20210729,       0505,    46.9903,   168.3797,       6242,  3830.1,2,   1.4816,2,  34.6779,2,  34.6776,2,   143.87,2,  144.01,2,  154.60,2,    0.02,2,   36.64,2,    0.00,2,   2.542,2,   0.001,2,   0.000,2,   0.000,2,   0.000,2,  2336.5,2,  2414.5,2,   36.91,2, -999.00,9,    34.8598,2,     640.72,2,       0.24,       0.01,       0.08,       0.01,      0.006,     -999.0,9,    1.48143,2,      0.056,1,      0.000,2,     -999.0,9,     -999.0,9,     -999.0,9,     99.968,     0.0013,2,      0.047,1,      0.332,1,     -999.0,9
49NZ20210713,        P01,      46,          1,          9,     X12S09,2,20210729,       0505,    46.9903,   168.3797,       6242,  4079.8,2,   1.4839,2,  34.6806,2,  34.6802,2,   147.37,2,  147.43,2,  153.66,2,    0.03,2,   36.40,2,    0.00,2,   2.523,2,   0.000,2,   0.000,2,   0.000,2,   0.000,2,  2331.5,2,  2413.6,2,   36.42,2, -999.00,9,    34.8623,2,     640.77,2,       0.24,       0.01,       0.08,       0.01,      0.007,     0.0101,2,    1.48372,2,      0.056,1,      0.000,2,      0.326,1,      0.189,1,      0.030,1,     99.975,     0.0010,2,      0.048,1,      0.360,1,     -999.0,9
49NZ20210713,        P01,      46,          1,          8,     X12S08,2,20210729,       0505,    46.9903,   168.3797,       6242,  4329.9,2,   1.4966,2,  34.6823,2,  34.6823,2,   149.50,2,  149.53,2,  153.33,2,    0.02,2,   36.29,2,    0.00,2,   2.514,2,   0.000,2,   0.000,2,   0.000,2,   0.000,2,  2330.2,6,  2413.3,2,   36.04,2, -999.00,9,    34.8642,2,     640.72,2,       0.24,       0.01,       0.08,       0.01,      0.006,     -999.0,9,    1.49624,2,      0.056,1,      0.000,2,     -999.0,9,     -999.0,9,     -999.0,9,     99.968,     0.0013,2,      0.047,1,      0.363,1,     -999.0,9
49NZ20210713,        P01,      46,          1,          7,     X12S07,2,20210729,       0505,    46.9903,   168.3797,       6242,  4579.3,2,   1.5126,2,  34.6838,2,  34.6836,2,   151.32,2,  151.37,2,  152.80,2,    0.01,2,   36.19,2,    0.00,2,   2.500,2,   0.002,2,   0.000,2,   0.000,2,   0.000,2,  2329.4,2,  2414.3,2,   37.96,2, -999.00,9,    34.8649,2,     640.77,2,       0.24,       0.01,       0.08,       0.01,      0.008,     0.0099,2,    1.51236,2,      0.055,1,      0.000,2,      0.279,1,      0.151,1,      0.020,1,     99.958,     0.0017,2,      0.046,1,      0.360,1,     -999.0,9
49NZ20210713,        P01,      46,          1,          6,     X12S06,2,20210729,       0505,    46.9903,   168.3797,       6242,  4829.5,2,   1.5315,2,  34.6850,2,  34.6850,2,   152.96,2,  152.93,2,  152.29,2,    0.02,2,   36.12,2,    0.00,2,   2.492,2,   0.002,2,   0.001,2,   0.000,2,   0.000,2,  2330.7,2,  2416.6,6,   37.55,2, -999.00,9,    34.8664,2,     640.87,2,       0.24,       0.01,       0.08,       0.01,      0.006,     -999.0,9,    1.53128,2,      0.055,1,      0.000,2,     -999.0,9,     -999.0,9,     -999.0,9,     99.970,     0.0012,2,      0.048,1,      0.367,1,     -999.0,9