BOTTLE,20231011CCHSIOENA
EXPOCODE,SECT_ID,STNNBR,CASTNO,SAMPNO,BTLNBR,BTLNBR_FLAG_W,DATE,TIME,LATITUDE,LONGITUDE,DEPTH,CTDPRS,CTDPRS_FLAG_W,CTDTMP,CTDTMP_FLAG_W,CTDSAL,CTDSAL_FLAG_W,SALNTY,SALNTY_FLAG_W,CTDOXY,CTDOXY_FLAG_W,OXYGEN,OXYGEN_FLAG_W,SILCAT,SILCAT_FLAG_W,NH4,NH4_FLAG_W,NITRAT,NITRAT_FLAG_W,NITRIT,NITRIT_FLAG_W,PHSPHT,PHSPHT_FLAG_W,CFC-11,CFC-11_FLAG_W,CFC-12,CFC-12_FLAG_W,CFC113,CFC113_FLAG_W,SF6,SF6_FLAG_W,TCARBN,TCARBN_FLAG_W,ALKALI,ALKALI_FLAG_W,DOC,DOC_FLAG_W,TDN,TDN_FLAG_W,DNSSAL,DNSSAL_FLAG_W,RIANOMALY,RIANOMALY_FLAG_W,SILUNC,NH4UNC,NRAUNC,NRIUNC,PHPUNC,FDOM,FDOM_FLAG_W,REFTMP,REFTMP_FLAG_W,CTDFLUOR,CTDFLUOR_FLAG_W,PAR,PAR_FLAG_W,CDOM300,CDOM300_FLAG_W,CDOM325,CDOM325_FLAG_W,CDOM443,CDOM443_FLAG_W,CTDXMISS,CTDBEAMCP,CTDBEAMCP_FLAG_W,CTDTURB,CTDTURB_FLAG_W,CTDCDOM,CTDCDOM_FLAG_W,CHLORA,CHLORA_FLAG_W
,,,,,,,,,,,METERS,DBAR,,ITS-90,,PSS-78,,PSS-78,,UMOL/KG,,UMOL/KG,,UMOL/KG,,UMOL/KG,,UMOL/KG,,UMOL/KG,,UMOL/KG,,PMOL/KG,,PMOL/KG,,PMOL/KG,,FMOL/KG,,UMOL/KG,,UMOL/KG,,UMOL/KG,,UMOL/KG,,G/KG,,ND,,UMOL/KG,UMOL/KG,UMOL/KG,UMOL/KG,UMOL/KG,RFU,,ITS-90,,MG/M^3,,UMOL/M^2/SEC,,/METER,,/METER,,/METER,,%TRANS,/METER,,FTU,,QSU,,UG/L,
49NZ20210713,        P01,      31,          1,         31,     X12S31,2,20210722,       1759,    43.5654,   154.1851,       5444,  5000.5,2,   1.5186,2,  34.6883,2,  34.6883,2,   157.41,2,  156.98,2, -999.00,9, -999.00,9, -999.00,9, -999.00,9,-999.000,9,-999.000,9,-999.000,9,-999.000,9,-999.000,9,  -999.0,9,  -999.0,9, -999.00,9, -999.00,9,     -999.0,9,     -999.0,9,     -999.0,     -999.0,     -999.0,     -999.0,     -999.0,     -999.0,9,    1.51864,2,      0.056,1,      0.000,2,     -999.0,9,     -999.0,9,     -999.0,9,     99.867,     0.0053,2,      0.056,1,      0.412,1,     -999.0,9
49NZ20210713,        P01,      31,          1,         33,     X12S33,2,20210722,       1759,    43.5654,   154.1851,       5444,  5000.7,2,   1.5186,2,  34.6884,2,  34.6883,2,   157.48,2,  157.01,2, -999.00,9, -999.00,9, -999.00,9, -999.00,9,-999.000,9,-999.000,9,-999.000,9,-999.000,9,-999.000,9,  -999.0,9,  -999.0,9, -999.00,9, -999.00,9,     -999.0,9,     -999.0,9,     -999.0,     -999.0,     -999.0,     -999.0,     -999.0,     -999.0,9,    1.51863,2,      0.055,1,      0.000,2,     -999.0,9,     -999.0,9,     -999.0,9,     99.867,     0.0053,2,      0.061,1,      0.423,1,     -999.0,9
49NZ20210713,        P01,      31,          1,         35,     X12S35,2,20210722,       1759,    43.5654,   154.1851,       5444,  5000.9,2,   1.5186,2,  34.6884,2,  34.6883,2,   157.45,2,  156.81,2, -999.00,9, -999.00,9, -999.00,9, -999.00,9,-999.000,9,-999.000,9,-999.000,9,-999.000,9,-999.000,9,  -999.0,9,  -999.0,9, -999.00,9, -999.00,9,     -999.0,9,     -999.0,9,     -999.0,     -999.0,     -999.0,     -999.0,     -999.0,     -999.0,9,    1.51865,2,      0.056,1,      0.000,2,     -999.0,9,     -999.0,9,     -999.0,9,     99.869,     0.0052,2,      0.055,1,      0.424,1,     -999.0,9
49NZ20210713,        P01,      31,          1,         36,     X12S36,2,20210722,       1759,    43.5654,   154.1851,       5444,  5001.0,2,   1.5186,2,  34.6884,2,  34.6882,2,   157.46,2,  156.84,2, -999.00,9, -999.00,9, -999.00,9, -999.00,9,-999.000,9,-999.000,9,-999.000,9,-999.000,9,-999.000,9,  -999.0,9,  -999.0,9, -999.00,9, -999.00,9,     -999.0,9,     -999.0,9,     -999.0,     -999.0,     -999.0,     -999.0,     -999.0,     -999.0,9,    1.51858,2,      0.055,1,      0.000,2,     -999.0,9,     -999.0,9,     -999.0,9,     99.881,     0.0048,2,      0.056,1,      0.419,1,     -999.0,9
49NZ20210713,        P01,      31,          1,         34,     X12S34,2,20210722,       1759,    43.5654,   154.1851,       5444,  5001.0,2,   1.5186,2,  34.6884,2,  34.6882,2,   157.43,2,  157.07,2, -999.00,9, -999.00,9, -999.00,9, -999.00,9,-999.000,9,-999.000,9,-999.000,9,-999.000,9,-999.000,9,  -999.0,9,  -999.0,9, -999.00,9, -999.00,9,     -999.0,9,     -999.0,9,     -999.0,     -999.0,     -999.0,     -999.0,     -999.0,     -999.0,9,    1.51863,2,      0.055,1,      0.000,2,     -999.0,9,     -999.0,9,     -999.0,9,     99.844,     0.0063,2,      0.056,1,      0.419,1,     -999.0,9