BOTTLE,20231011CCHSIOENA
EXPOCODE,SECT_ID,STNNBR,CASTNO,SAMPNO,BTLNBR,BTLNBR_FLAG_W,DATE,TIME,LATITUDE,LONGITUDE,DEPTH,CTDPRS,CTDPRS_FLAG_W,CTDTMP,CTDTMP_FLAG_W,CTDSAL,CTDSAL_FLAG_W,SALNTY,SALNTY_FLAG_W,CTDOXY,CTDOXY_FLAG_W,OXYGEN,OXYGEN_FLAG_W,SILCAT,SILCAT_FLAG_W,NH4,NH4_FLAG_W,NITRAT,NITRAT_FLAG_W,NITRIT,NITRIT_FLAG_W,PHSPHT,PHSPHT_FLAG_W,CFC-11,CFC-11_FLAG_W,CFC-12,CFC-12_FLAG_W,CFC113,CFC113_FLAG_W,SF6,SF6_FLAG_W,TCARBN,TCARBN_FLAG_W,ALKALI,ALKALI_FLAG_W,DOC,DOC_FLAG_W,TDN,TDN_FLAG_W,DNSSAL,DNSSAL_FLAG_W,RIANOMALY,RIANOMALY_FLAG_W,SILUNC,NH4UNC,NRAUNC,NRIUNC,PHPUNC,FDOM,FDOM_FLAG_W,REFTMP,REFTMP_FLAG_W,CTDFLUOR,CTDFLUOR_FLAG_W,PAR,PAR_FLAG_W,CDOM300,CDOM300_FLAG_W,CDOM325,CDOM325_FLAG_W,CDOM443,CDOM443_FLAG_W,CTDXMISS,CTDBEAMCP,CTDBEAMCP_FLAG_W,CTDTURB,CTDTURB_FLAG_W,CTDCDOM,CTDCDOM_FLAG_W,CHLORA,CHLORA_FLAG_W
,,,,,,,,,,,METERS,DBAR,,ITS-90,,PSS-78,,PSS-78,,UMOL/KG,,UMOL/KG,,UMOL/KG,,UMOL/KG,,UMOL/KG,,UMOL/KG,,UMOL/KG,,PMOL/KG,,PMOL/KG,,PMOL/KG,,FMOL/KG,,UMOL/KG,,UMOL/KG,,UMOL/KG,,UMOL/KG,,G/KG,,ND,,UMOL/KG,UMOL/KG,UMOL/KG,UMOL/KG,UMOL/KG,RFU,,ITS-90,,MG/M^3,,UMOL/M^2/SEC,,/METER,,/METER,,/METER,,%TRANS,/METER,,FTU,,QSU,,UG/L,
49NZ20210713,        P01,      10,          1,         36,     X12S36,2,20210716,       2327,    41.8745,   146.3222,       6770,    10.7,2,  15.3164,2,  32.8637,2,  32.8822,2,   299.17,2,  306.08,2,    0.52,2,    0.37,2,    1.10,2,    0.03,2,   0.182,2,   3.429,2,   1.662,2,   0.283,2,   2.995,2,  1977.9,2,  2225.8,2,   76.13,2, -999.00,9,    33.0421,2,     607.43,2,       0.09,       0.02,       0.01,       0.01,      0.003,     0.0089,2,   15.33996,2,      1.434,1,    205.716,2,      0.671,1,      0.408,1,      0.056,1,     90.941,     0.3798,2,      0.469,1,      0.450,1,       1.37,2
49NZ20210713,        P01,      10,          1,         35,     X12S35,2,20210716,       2327,    41.8745,   146.3222,       6770,    50.4,2,   3.0884,2,  33.1333,2,  33.1435,2,   308.89,2,  308.25,2,   37.79,2,    1.42,2,   22.81,2,    0.35,2,   1.953,2,   5.122,2,   2.315,2,   0.488,2,   4.123,2,  2148.2,2,  2244.0,2,   54.84,2, -999.00,9,    33.3079,2,     612.34,2,       0.09,       0.03,       0.05,       0.01,      0.008,     0.0072,2,    3.09444,2,      0.225,1,      2.130,2,      0.440,1,      0.245,1,      0.037,1,     99.090,     0.0366,2,      0.100,1,      0.451,1,       0.13,2
49NZ20210713,        P01,      10,          1,         34,     X12S34,3,20210716,       2327,    41.8745,   146.3222,       6770,   100.5,2,   3.1073,2,  33.3986,2,  33.4001,2,   265.44,2,  266.68,2,   45.29,2,    0.01,2,   24.70,2,    0.01,2,   1.912,2,   4.657,2,   2.541,2,   0.386,2,   3.591,2,  2176.6,2,  2255.7,2,   54.34,2, -999.00,9,    33.5660,2,     617.03,2,       0.10,       0.01,       0.06,       0.01,      0.005,     0.0080,2,    3.09154,2,      0.087,1,      0.000,2,      0.456,1,      0.258,1,      0.038,1,     99.198,     0.0322,2,      0.113,1,      0.493,1,       0.05,2
49NZ20210713,        P01,      10,          1,         33,     X12S33,2,20210716,       2327,    41.8745,   146.3222,       6770,   150.4,2,   3.6308,2,  33.5661,2,  33.5654,2,   227.71,2,  226.99,2,   52.96,2,    0.02,2,   27.09,2,    0.02,2,   2.057,2,   4.114,2,   2.260,2,   0.308,2,   2.974,2,  2198.7,2,  2264.6,2,   51.10,2, -999.00,9,    33.7318,2,     620.03,2,       0.11,       0.01,       0.06,       0.01,      0.005,     0.0086,2,    3.62907,2,      0.090,1,      0.000,2,      0.431,1,      0.243,1,      0.037,1,     99.202,     0.0320,2,      0.099,1,      0.507,1,       0.04,2
49NZ20210713,        P01,      10,          1,         32,     X12S32,2,20210716,       2327,    41.8745,   146.3222,       6770,   200.3,2,   3.2446,2,  33.6165,2,  33.6179,2,   182.87,2,  181.50,2,   67.09,2,    0.02,2,   31.82,2,    0.01,2,   2.380,2,   3.671,2,   1.995,2,   0.265,2,   2.467,2,  2236.4,2,  2272.1,2,   49.27,2, -999.00,9,    33.7872,2,     621.03,2,       0.13,       0.01,       0.07,       0.01,      0.006,     0.0098,2,    3.24519,2,      0.071,1,      0.000,2,      0.466,1,      0.270,1,      0.047,1,     99.225,     0.0311,2,      0.118,1,      0.543,1,       0.03,2
49NZ20210713,        P01,      10,          1,         31,     X12S31,2,20210716,       2327,    41.8745,   146.3222,       6770,   250.5,2,   3.1020,2,  33.6999,2,  33.6991,2,   125.77,2,  125.91,2,   83.37,2,    0.02,2,   36.99,2,    0.01,2,   2.720,2,   3.072,2,   1.665,2,   0.220,2,   1.882,2,  2277.1,2,  2286.8,2,   49.96,2, -999.00,9,    33.8700,2,     622.53,2,       0.16,       0.01,       0.08,       0.01,      0.006,     0.0109,2,    3.10171,2,      0.074,1,      0.000,2,      0.493,1,      0.290,1,      0.055,1,     99.214,     0.0316,2,      0.106,1,      0.588,1,       0.03,2
49NZ20210713,        P01,      10,          1,         30,     X12S30,2,20210716,       2327,    41.8745,   146.3222,       6770,   279.6,2,   3.6423,2,  33.8062,2,  33.8055,2,   118.92,2,  118.91,2,   83.03,2,    0.04,2,   36.22,2,    0.01,2,   2.657,2,   2.749,2,   1.499,2,   0.179,2,   1.803,2,  2279.6,2,  2293.4,2,   47.08,2, -999.00,9,    33.9755,2,     624.49,2,       0.15,       0.01,       0.08,       0.01,      0.006,     0.0127,2,    3.64240,2,      0.072,1,      0.000,2,      0.455,1,      0.267,1,      0.062,1,     99.422,     0.0232,2,      0.096,1,      0.590,1,     -999.0,9
49NZ20210713,        P01,      10,          1,         29,     X12S29,2,20210716,       2327,    41.8745,   146.3222,       6770,   369.2,2,   3.4899,2,  33.9268,2,  33.9256,2,    59.15,2,   59.76,2,  101.16,2,    0.02,2,   41.54,2,    0.00,2,   2.998,2,   2.082,2,   1.124,2,   0.134,2,   0.979,2,  2322.7,2,  2304.6,2,   44.62,2, -999.00,9,    34.0982,2,     626.74,2,       0.17,       0.01,       0.09,       0.01,      0.006,     0.0127,2,    3.48963,2,      0.073,1,      0.000,2,      0.531,1,      0.328,1,      0.077,1,     99.499,     0.0201,2,      0.078,1,      0.626,1,     -999.0,9
49NZ20210713,        P01,      10,          1,         28,     X12S28,2,20210716,       2327,    41.8745,   146.3222,       6770,   468.2,2,   3.5227,2,  34.0658,2,  34.0657,2,    40.51,2,   41.13,2,  112.46,2,    0.03,2,   42.34,2,    0.00,2,   3.045,2,   1.459,2,   0.794,2,   0.085,2,   0.622,2,  2340.6,2,  2323.1,2,   43.12,2, -999.00,9,    34.2403,2,     629.24,2,       0.27,       0.01,       0.09,       0.01,      0.006,     0.0131,2,    3.52279,2,      0.078,1,      0.000,2,      0.491,1,      0.305,1,      0.065,1,     99.648,     0.0141,2,      0.078,1,      0.634,1,     -999.0,9
49NZ20210713,        P01,      10,          1,         27,     X12S27,2,20210716,       2327,    41.8745,   146.3222,       6770,   569.7,2,   3.3802,2,  34.1662,2,  34.1661,2,    32.24,2,   32.62,2,  123.45,2,    0.02,2,   42.85,2,    0.00,2,   3.079,2,   1.003,2,   0.561,2,   0.056,2,   0.421,2,  2352.9,2,  2340.0,2,   40.78,2, -999.00,9,    34.3438,2,     631.09,2,       0.20,       0.01,       0.09,       0.01,      0.006,     0.0130,2,    3.37962,2,      0.075,1,      0.000,2,      0.438,1,      0.263,1,      0.056,1,     99.472,     0.0212,2,      0.084,1,      0.651,1,     -999.0,9
49NZ20210713,        P01,      10,          1,         26,     X12S26,2,20210716,       2327,    41.8745,   146.3222,       6770,   668.8,2,   3.4665,2,  34.2676,2,  34.2676,2,    37.35,2,   38.01,2,  125.95,2,    0.02,2,   42.19,2,    0.00,2,   3.028,2,   0.624,2,   0.355,2,   0.031,2,   0.192,2,  2354.6,6,  2350.5,2,   40.35,2, -999.00,9,    34.4456,2,     632.93,2,       0.20,       0.01,       0.09,       0.01,      0.006,     -999.0,9,    3.46642,2,      0.072,1,      0.000,2,     -999.0,9,     -999.0,9,     -999.0,9,     99.817,     0.0073,2,      0.069,1,      0.635,1,     -999.0,9
49NZ20210713,        P01,      10,          1,         25,     X12S25,2,20210716,       2327,    41.8745,   146.3222,       6770,   768.5,2,   3.2263,2,  34.3199,2,  34.3192,2,    35.43,2,   36.16,2,  133.21,2,    0.04,2,   42.38,2,    0.00,2,   3.039,2,   0.442,2,   0.249,2,   0.022,2,   0.067,2,  2365.2,2,  2359.3,2,   40.61,2, -999.00,9,    34.4980,2,     633.88,2,       0.21,       0.01,       0.09,       0.01,      0.006,     0.0129,2,    3.22626,2,      0.072,1,      0.000,2,      0.392,1,      0.231,1,      0.047,1,     99.833,     0.0067,2,      0.065,1,      0.637,1,     -999.0,9
49NZ20210713,        P01,      10,          1,         24,     X12S24,2,20210716,       2327,    41.8745,   146.3222,       6770,   869.0,2,   2.9361,2,  34.3431,2,  34.3439,2,    31.48,2,   32.05,2,  142.26,2,    0.04,2,   42.81,2,    0.00,2,   3.082,2,   0.382,2,   0.222,2,   0.019,2,   0.111,2,  2372.8,2,  2364.9,2,   39.18,2, -999.00,9,    34.5229,2,     634.43,2,       0.23,       0.01,       0.09,       0.01,      0.006,     -999.0,9,    2.93616,2,      0.073,1,      0.000,2,     -999.0,9,     -999.0,9,     -999.0,9,     99.584,     0.0167,2,      0.076,1,      0.640,1,     -999.0,9
49NZ20210713,        P01,      10,          1,         23,     X12S23,2,20210716,       2327,    41.8745,   146.3222,       6770,   971.1,2,   2.7819,2,  34.3856,2,  34.3850,2,    33.04,2,   34.20,2,  147.09,2,    0.03,2,   42.87,2,    0.00,2,   3.086,2,   0.290,2,   0.174,2,   0.014,2,   0.102,2,  2377.5,2,  2376.7,2,   39.60,2, -999.00,9,    34.5644,2,     635.13,2,       0.23,       0.01,       0.09,       0.01,      0.006,     0.0130,2,    2.78170,2,      0.073,1,      0.000,2,      0.439,1,      0.268,1,      0.062,1,     99.550,     0.0180,2,      0.080,1,      0.641,1,     -999.0,9
49NZ20210713,        P01,      10,          1,         22,     X12S22,3,20210716,       2327,    41.8745,   146.3222,       6770,  1130.2,2,   2.6075,2,  34.4408,2,  34.4376,3,    36.73,2,   37.60,2,  152.08,2,    0.01,2,   42.81,2,    0.00,2,   3.069,2,   0.192,2,   0.120,2,   0.012,2,   0.067,2,  2381.2,2,  2383.2,6,   39.90,2, -999.00,9,    34.6186,2,     635.63,3,       0.24,       0.01,       0.09,       0.01,      0.006,     -999.0,9,    2.60762,2,      0.071,1,      0.000,2,     -999.0,9,     -999.0,9,     -999.0,9,     99.609,     0.0157,2,      0.075,1,      0.640,1,     -999.0,9
49NZ20210713,        P01,      10,          1,         21,     X12S21,2,20210716,       2327,    41.8745,   146.3222,       6770,  1330.2,2,   2.4360,2,  34.4918,2,  34.4910,2,    43.28,2,   43.65,2,  155.80,2,    0.03,2,   42.72,2,    0.00,2,   3.050,2,   0.076,2,   0.045,2,   0.002,2,   0.059,2,  2383.9,2,  2392.7,2,   42.29,2, -999.00,9,    34.6715,2,     637.09,2,       0.25,       0.01,       0.09,       0.01,      0.006,     0.0125,2,    2.43602,2,      0.068,1,      0.000,2,      0.363,1,      0.212,1,      0.041,1,     99.742,     0.0103,2,      0.071,1,      0.628,1,     -999.0,9
49NZ20210713,        P01,      10,          1,         20,     X12S20,2,20210716,       2327,    41.8745,   146.3222,       6770,  1530.9,2,   2.2514,2,  34.5304,2,  34.5303,2,    50.91,2,   51.37,2,  160.34,2,    0.01,2,   42.31,2,    0.00,2,   3.015,2,   0.043,2,   0.026,2,   0.001,2,   0.027,2,  2382.9,2,  2397.7,2,   38.55,2, -999.00,9,    34.7117,2,     637.78,2,       0.25,       0.01,       0.09,       0.01,      0.006,     -999.0,9,    2.25154,2,      0.066,1,      0.000,2,     -999.0,9,     -999.0,9,     -999.0,9,     99.415,     0.0235,2,      0.087,1,      0.627,1,     -999.0,9
49NZ20210713,        P01,      10,          1,         19,     X12S19,2,20210716,       2327,    41.8745,   146.3222,       6770,  1730.9,2,   2.0882,2,  34.5628,2,  34.5625,2,    61.06,2,   61.24,2,  162.18,2,    0.02,2,   41.82,2,    0.00,2,   2.961,2,   0.020,2,   0.012,2,   0.001,2,   0.014,2,  2384.3,2,  2403.9,2,   38.23,2, -999.00,9,    34.7434,2,     638.34,2,       0.25,       0.01,       0.09,       0.01,      0.006,     0.0121,2,    2.08841,2,      0.064,1,      0.000,2,      0.345,1,      0.201,1,      0.039,1,     99.863,     0.0055,2,      0.061,1,      0.605,1,     -999.0,9
49NZ20210713,        P01,      10,          1,         18,     X12S18,2,20210716,       2327,    41.8745,   146.3222,       6770,  1930.4,2,   1.9841,2,  34.5866,2,  34.5866,2,    72.50,2,   72.72,2,  161.99,2,    0.01,2,   41.16,2,    0.00,2,   2.909,2,   0.010,2,   0.006,2,   0.001,2,   0.009,2,  2376.4,2,  2411.4,2,   39.09,2, -999.00,9,    34.7702,2,     638.84,2,       0.25,       0.01,       0.09,       0.01,      0.006,     -999.0,9,    1.98420,2,      0.063,1,      0.000,2,     -999.0,9,     -999.0,9,     -999.0,9,     99.902,     0.0039,2,      0.067,1,      0.592,1,     -999.0,9
49NZ20210713,        P01,      10,          1,         17,     X12S17,2,20210716,       2327,    41.8745,   146.3222,       6770,  2130.4,2,   1.8559,2,  34.6082,2,  34.6090,2,    83.18,2,   83.55,2,  163.05,2,    0.02,2,   40.48,2,    0.00,2,   2.859,2,   0.006,2,   0.003,2,   0.000,2,   0.022,2,  2373.0,2,  2409.9,2,   37.29,2, -999.00,9,    34.7913,2,     639.24,2,       0.25,       0.01,       0.09,       0.01,      0.006,     0.0113,2,    1.85622,2,      0.061,1,      0.000,2,      0.368,1,      0.214,1,      0.043,1,     99.870,     0.0052,2,      0.059,1,      0.582,1,     -999.0,9
49NZ20210713,        P01,      10,          1,         16,     X12S16,2,20210716,       2327,    41.8745,   146.3222,       6770,  2330.8,2,   1.7663,2,  34.6255,2,  34.6257,2,    96.18,2,   96.28,2,  160.95,2,    0.01,2,   39.75,2,    0.00,2,   2.792,2,   0.000,2,   0.000,2,   0.000,2,   0.008,2,  2364.8,6,  2407.6,2,   39.24,2, -999.00,9,    34.8070,2,     639.49,2,       0.25,       0.01,       0.08,       0.01,      0.006,     -999.0,9,    1.76656,2,      0.060,1,      0.000,2,     -999.0,9,     -999.0,9,     -999.0,9,     99.918,     0.0033,2,      0.058,1,      0.571,1,     -999.0,9
49NZ20210713,        P01,      10,          1,         15,     X12S15,2,20210716,       2327,    41.8745,   146.3222,       6770,  2530.2,2,   1.6879,2,  34.6385,2,  34.6384,2,   105.71,2,  105.70,2,  160.01,2,    0.03,2,   39.06,2,    0.00,2,   2.741,2,   0.001,2,   0.002,2,   0.000,2,   0.026,2,  2359.9,2,  2406.6,2,   37.11,2, -999.00,9,    34.8192,2,     639.78,2,       0.25,       0.01,       0.08,       0.01,      0.006,     0.0112,2,    1.68798,2,      0.059,1,      0.000,2,      0.312,1,      0.176,1,      0.030,1,     99.895,     0.0042,2,      0.056,1,      0.565,1,     -999.0,9
49NZ20210713,        P01,      10,          1,         14,     X12S14,2,20210716,       2327,    41.8745,   146.3222,       6770,  2731.1,2,   1.6311,2,  34.6487,2,  34.6488,2,   114.20,2,  114.28,2,  158.14,2,    0.04,2,   38.46,2,    0.00,2,   2.690,2,   0.015,3,   0.044,3,   0.002,3,   0.950,3,  2357.4,2,  2412.4,2,   37.93,2, -999.00,9,    34.8300,2,     639.88,2,       0.25,       0.01,       0.08,       0.01,      0.006,     -999.0,9,    1.63127,2,      0.058,1,      0.000,2,     -999.0,9,     -999.0,9,     -999.0,9,     99.929,     0.0028,2,      0.057,1,      0.552,1,     -999.0,9
49NZ20210713,        P01,      10,          1,         13,     X12S13,2,20210716,       2327,    41.8745,   146.3222,       6770,  2929.8,2,   1.5898,2,  34.6562,2,  34.6561,2,   121.61,2,  121.89,2,  156.71,2,    0.04,2,   38.08,2,    0.00,2,   2.664,2,   0.003,2,   0.000,2,   0.000,2,   0.000,2,  2351.8,2,  2415.7,2,   37.19,2, -999.00,9,    34.8379,2,     640.09,2,       0.25,       0.01,       0.08,       0.01,      0.006,     0.0102,2,    1.58982,2,      0.058,1,      0.000,2,      0.301,1,      0.167,1,      0.023,1,     99.932,     0.0027,2,      0.058,1,      0.541,1,     -999.0,9
49NZ20210713,        P01,      10,          1,         12,     X12S12,2,20210716,       2327,    41.8745,   146.3222,       6770,  3171.2,2,   1.5535,2,  34.6633,2,  34.6633,2,   128.50,2,  128.75,2,  155.65,2,    0.02,2,   37.70,2,    0.00,2,   2.625,2,   0.001,2,   0.001,2,   0.000,2,   0.000,2,  2346.5,2,  2415.2,6,   38.28,2, -999.00,9,    34.8461,2,     640.24,2,       0.24,       0.01,       0.08,       0.01,      0.006,     -999.0,9,    1.55375,2,      0.057,1,      0.000,2,     -999.0,9,     -999.0,9,     -999.0,9,     99.925,     0.0030,2,      0.057,1,      0.535,1,     -999.0,9
49NZ20210713,        P01,      10,          1,         11,     X12S11,2,20210716,       2327,    41.8745,   146.3222,       6770,  3419.7,2,   1.5240,2,  34.6696,2,  34.6700,2,   135.61,2,  136.42,2,  153.83,2,    0.02,2,   37.16,2,    0.00,2,   2.589,2,   0.002,2,   0.000,2,   0.000,2,   0.000,2,  2341.7,2,  2411.2,2,   36.11,2, -999.00,9,    34.8520,2,     640.38,2,       0.24,       0.01,       0.08,       0.01,      0.006,     0.0100,2,    1.52391,2,      0.056,1,      0.000,2,      0.294,1,      0.159,1,      0.027,1,     99.900,     0.0040,2,      0.058,1,      0.537,1,     -999.0,9
49NZ20210713,        P01,      10,          1,         10,     X12S10,2,20210716,       2327,    41.8745,   146.3222,       6770,  3670.2,2,   1.5040,2,  34.6746,2,  34.6757,2,   141.05,2,  141.78,2,  152.14,2,    0.01,2,   36.83,2,    0.00,2,   2.558,2,   0.000,2,   0.000,2,   0.000,2,   0.000,2,  2338.4,2,  2415.4,2,   37.38,2, -999.00,9,    34.8577,2,     640.43,2,       0.24,       0.01,       0.08,       0.01,      0.006,     -999.0,9,    1.50419,2,      0.055,1,      0.000,2,     -999.0,9,     -999.0,9,     -999.0,9,     99.939,     0.0025,2,      0.055,1,      0.532,1,     -999.0,9
49NZ20210713,        P01,      10,          1,          9,     X12S09,2,20210716,       2327,    41.8745,   146.3222,       6770,  3920.7,2,   1.4960,2,  34.6782,2,  34.6785,2,   145.14,2,  146.00,2,  151.31,2,    0.01,2,   36.56,2,    0.00,2,   2.535,2,   0.001,2,   0.001,2,   0.000,2,   0.000,2,  2332.7,2,  2414.9,2,   37.65,2, -999.00,9,    34.8601,2,     640.43,2,       0.24,       0.01,       0.08,       0.01,      0.006,     0.0095,2,    1.49604,2,      0.055,1,      0.000,2,      0.291,1,      0.162,1,      0.023,1,     99.923,     0.0031,2,      0.060,1,      0.536,1,     -999.0,9
49NZ20210713,        P01,      10,          1,          8,     X12S08,2,20210716,       2327,    41.8745,   146.3222,       6770,  4170.2,2,   1.4934,2,  34.6811,2,  34.6812,2,   148.80,2,  149.23,2,  150.24,2,    0.01,2,   36.32,2,    0.00,2,   2.515,2,   0.002,2,   0.001,2,   0.000,2,   0.000,2,  2332.2,6,  2413.5,2,   35.96,2, -999.00,9,    34.8627,2,     640.53,2,       0.26,       0.01,       0.08,       0.01,      0.006,     -999.0,9,    1.49338,2,      0.054,1,      0.000,2,     -999.0,9,     -999.0,9,     -999.0,9,     99.943,     0.0023,2,      0.055,1,      0.532,1,     -999.0,9
49NZ20210713,        P01,      10,          1,          7,     X12S07,2,20210716,       2327,    41.8745,   146.3222,       6770,  4420.5,2,   1.4999,2,  34.6834,2,  34.6822,2,   151.60,2,  151.95,2,  149.36,2,    0.01,2,   36.15,2,    0.00,2,   2.500,2,   0.001,2,   0.000,2,   0.000,2,   0.000,2,  2329.0,2,  2412.1,2,   37.47,2, -999.00,9,    34.8639,2,     640.53,2,       0.29,       0.01,       0.08,       0.01,      0.006,     0.0094,2,    1.49992,2,      0.053,1,      0.000,2,      0.283,1,      0.156,1,      0.024,1,     99.950,     0.0020,2,      0.056,1,      0.521,1,     -999.0,9
49NZ20210713,        P01,      10,          1,          6,     X12S06,2,20210716,       2327,    41.8745,   146.3222,       6770,  4669.3,2,   1.5066,2,  34.6857,2,  34.6858,2,   154.44,2,  154.96,2,  148.60,2,    0.01,2,   35.96,2,    0.00,2,   2.489,2,   0.004,2,   0.004,2,   0.001,2,   0.000,2,  2327.5,2,  2413.5,6,   41.71,2, -999.00,9,    34.8687,2,     640.63,2,       0.24,       0.01,       0.08,       0.01,      0.006,     -999.0,9,    1.50666,2,      0.053,1,      0.000,2,     -999.0,9,     -999.0,9,     -999.0,9,     99.909,     0.0036,2,      0.056,1,      0.513,1,     -999.0,9