BOTTLE,20231011CCHSIOENA
EXPOCODE,SECT_ID,STNNBR,CASTNO,SAMPNO,BTLNBR,BTLNBR_FLAG_W,DATE,TIME,LATITUDE,LONGITUDE,DEPTH,CTDPRS,CTDPRS_FLAG_W,CTDTMP,CTDTMP_FLAG_W,CTDSAL,CTDSAL_FLAG_W,SALNTY,SALNTY_FLAG_W,CTDOXY,CTDOXY_FLAG_W,OXYGEN,OXYGEN_FLAG_W,SILCAT,SILCAT_FLAG_W,NH4,NH4_FLAG_W,NITRAT,NITRAT_FLAG_W,NITRIT,NITRIT_FLAG_W,PHSPHT,PHSPHT_FLAG_W,CFC-11,CFC-11_FLAG_W,CFC-12,CFC-12_FLAG_W,CFC113,CFC113_FLAG_W,SF6,SF6_FLAG_W,TCARBN,TCARBN_FLAG_W,ALKALI,ALKALI_FLAG_W,DOC,DOC_FLAG_W,TDN,TDN_FLAG_W,DNSSAL,DNSSAL_FLAG_W,RIANOMALY,RIANOMALY_FLAG_W,SILUNC,NH4UNC,NRAUNC,NRIUNC,PHPUNC,FDOM,FDOM_FLAG_W,REFTMP,REFTMP_FLAG_W,CTDFLUOR,CTDFLUOR_FLAG_W,PAR,PAR_FLAG_W,CDOM300,CDOM300_FLAG_W,CDOM325,CDOM325_FLAG_W,CDOM443,CDOM443_FLAG_W,CTDXMISS,CTDBEAMCP,CTDBEAMCP_FLAG_W,CTDTURB,CTDTURB_FLAG_W,CTDCDOM,CTDCDOM_FLAG_W,CHLORA,CHLORA_FLAG_W
,,,,,,,,,,,METERS,DBAR,,ITS-90,,PSS-78,,PSS-78,,UMOL/KG,,UMOL/KG,,UMOL/KG,,UMOL/KG,,UMOL/KG,,UMOL/KG,,UMOL/KG,,PMOL/KG,,PMOL/KG,,PMOL/KG,,FMOL/KG,,UMOL/KG,,UMOL/KG,,UMOL/KG,,UMOL/KG,,G/KG,,ND,,UMOL/KG,UMOL/KG,UMOL/KG,UMOL/KG,UMOL/KG,RFU,,ITS-90,,MG/M^3,,UMOL/M^2/SEC,,/METER,,/METER,,/METER,,%TRANS,/METER,,FTU,,QSU,,UG/L,
49NZ20210713,        P01,      19,          1,         36,     X12S36,2,20210719,       0821,    39.9513,   147.7061,       5243,     9.7,2,  15.9556,2,  32.7582,2,  32.7670,2,   310.38,2,  333.91,2,    1.14,2,    0.12,2,    3.43,2,    0.16,2,   0.276,2,   3.389,2,   1.870,2,   0.296,2,   3.062,2,  1957.0,2,  2224.6,2,   68.26,2, -999.00,9,    32.9234,2,     605.35,2,       0.05,       0.01,       0.02,       0.01,      0.004,     0.0085,2,   15.97167,2,      6.329,1,      0.000,2,      0.689,1,      0.416,1,      0.065,1,     78.487,     0.9689,2,      1.375,1,      0.416,1,       2.46,2
49NZ20210713,        P01,      19,          1,          2,     X12B34,2,20210719,       0821,    39.9513,   147.7061,       5243,    11.9,2,  12.1869,2,  32.8074,2,  32.8453,2,   339.83,2,  340.93,2,    6.33,2,    0.93,2,    7.33,2,    0.19,2,   0.747,2,-999.000,9,-999.000,9,-999.000,9,-999.000,9,  2009.2,2,  2236.5,2,   60.68,2, -999.00,9,    33.0036,2,     606.85,2,       0.35,       0.03,       0.24,       0.01,      0.021,     0.0090,2,   12.19050,2,      9.338,1,      0.000,2,      0.620,1,      0.369,1,      0.051,1,     79.257,     0.9299,2,      0.950,1,      0.461,1,       2.28,2
49NZ20210713,        P01,      19,          1,         35,     X12S35,2,20210719,       0821,    39.9513,   147.7061,       5243,    49.9,2,   2.8471,2,  33.0674,2,  33.0696,2,   321.44,2,  324.35,2,   41.75,2,    2.01,2,   22.94,2,    0.55,2,   2.022,2,   5.078,2,   2.690,2,   0.434,2,   4.264,2,  2140.5,2,  2239.6,2,   49.47,2, -999.00,9,    33.2299,2,     611.00,2,       0.09,       0.04,       0.05,       0.01,      0.005,     0.0065,2,    2.84777,2,      0.424,1,      0.000,2,      0.424,1,      0.230,1,      0.037,1,     98.125,     0.0757,2,      0.149,1,      0.394,1,       0.31,2
49NZ20210713,        P01,      19,          1,         34,     X12S34,2,20210719,       0821,    39.9513,   147.7061,       5243,   100.0,2,   1.9130,2,  33.2073,2,  33.2087,2,   295.55,2,  296.09,2,   52.10,2,    0.01,2,   27.78,2,    0.06,2,   2.127,2,   4.926,2,   2.625,2,   0.427,2,   4.047,2,  2171.6,2,  2247.4,2,   48.21,2, -999.00,9,    33.3711,2,     613.60,2,       0.11,       0.01,       0.06,       0.01,      0.005,     0.0067,2,    1.91284,2,      0.107,1,      0.000,2,      0.415,1,      0.223,1,      0.032,1,     99.056,     0.0380,2,      0.132,1,      0.409,1,       0.08,2
49NZ20210713,        P01,      19,          1,         33,     X12S33,2,20210719,       0821,    39.9513,   147.7061,       5243,   149.5,2,   2.0306,2,  33.3704,2,  33.3713,2,   235.94,2,  236.08,2,   65.52,2,    0.01,2,   31.21,2,    0.04,2,   2.353,2,   4.338,2,   2.314,2,   0.360,2,   3.485,2,  2214.2,2,  2266.0,2,   44.68,2, -999.00,9,    33.5356,2,     616.60,2,       0.12,       0.01,       0.07,       0.01,      0.006,     0.0089,2,    2.03064,2,      0.087,1,      0.000,2,      0.442,1,      0.246,1,      0.040,1,     98.925,     0.0432,2,      0.239,1,      0.467,1,       0.07,2
49NZ20210713,        P01,      19,          1,         32,     X12S32,2,20210719,       0821,    39.9513,   147.7061,       5243,   201.5,2,   2.4059,2,  33.5152,2,  33.5134,2,   178.62,2,  179.43,2,   74.98,2,    0.01,2,   34.34,2,    0.02,2,   2.550,2,   3.783,2,   1.996,2,   0.346,2,   2.700,2,  2249.5,2,  2272.3,2,   46.72,2, -999.00,9,    33.6804,2,     619.30,2,       0.14,       0.01,       0.07,       0.01,      0.006,     0.0103,2,    2.40874,2,      0.084,1,      0.000,2,      0.439,1,      0.247,1,      0.042,1,     98.893,     0.0445,2,      0.122,1,      0.500,1,       0.05,2
49NZ20210713,        P01,      19,          1,         31,     X12S31,2,20210719,       0821,    39.9513,   147.7061,       5243,   249.5,2,   2.5634,2,  33.6283,2,  33.6291,2,   141.90,2,  141.29,2,   75.10,2,    0.02,2,   34.38,2,    0.02,2,   2.555,2,   3.231,2,   1.703,2,   0.368,2,   2.327,2,  2274.0,2,  2280.4,2,   46.20,2, -999.00,9,    33.7961,2,     621.35,2,       0.14,       0.01,       0.07,       0.01,      0.006,     0.0109,2,    2.56323,2,      0.080,1,      0.000,2,      0.431,1,      0.243,1,      0.037,1,     98.820,     0.0475,2,      0.138,1,      0.520,1,       0.06,2
49NZ20210713,        P01,      19,          1,         30,     X12S30,2,20210719,       0821,    39.9513,   147.7061,       5243,   299.7,2,   2.5878,2,  33.7309,2,  33.7298,2,   119.70,2,  119.49,2,   94.23,2,    0.03,2,   37.96,2,    0.01,2,   2.778,2,   2.837,2,   1.477,2,   0.370,2,   1.857,2,  2294.4,2,  2296.8,2,   43.98,2, -999.00,9,    33.8994,2,     623.20,2,       0.16,       0.01,       0.08,       0.01,      0.006,     0.0118,2,    2.58781,2,      0.076,1,      0.000,2,      0.471,1,      0.275,1,      0.049,1,     99.111,     0.0357,2,      0.131,1,      0.539,1,     -999.0,9
49NZ20210713,        P01,      19,          1,         29,     X12S29,2,20210719,       0821,    39.9513,   147.7061,       5243,   400.6,2,   2.7144,2,  33.8651,2,  33.8651,2,    89.92,2,   89.31,2,  105.74,2,    0.02,2,   39.66,2,    0.01,2,   2.887,2,   2.259,2,   1.204,2,   0.326,2,   1.420,2,  2316.8,2,  2309.6,2,   43.16,2, -999.00,9,    34.0363,2,     625.70,2,       0.18,       0.01,       0.08,       0.01,      0.006,     0.0121,2,    2.71459,2,      0.075,1,      0.000,2,      0.465,1,      0.278,1,      0.059,1,     99.450,     0.0221,2,      0.092,1,      0.554,1,     -999.0,9
49NZ20210713,        P01,      19,          1,         28,     X12S28,2,20210719,       0821,    39.9513,   147.7061,       5243,   500.1,2,   3.3838,2,  34.0837,2,  34.0835,2,    42.08,2,   42.42,2,  116.08,2,    0.02,2,   42.29,2,    0.01,2,   3.023,2,   1.326,2,   0.709,2,   0.193,2,   0.624,2,  2340.8,2,  2332.0,2,   41.36,2, -999.00,9,    34.2546,2,     629.75,2,       0.19,       0.01,       0.09,       0.01,      0.006,     0.0128,2,    3.38273,2,      0.076,1,      0.000,2,      0.435,1,      0.257,1,      0.054,1,     99.686,     0.0126,2,      0.072,1,      0.574,1,     -999.0,9
49NZ20210713,        P01,      19,          1,         27,     X12S27,2,20210719,       0821,    39.9513,   147.7061,       5243,   599.8,2,   3.2009,2,  34.1733,2,  34.1734,2,    25.46,2,   25.63,2,  128.52,2,    0.00,2,   43.62,2,    0.00,2,   3.107,2,   0.893,2,   0.490,2,   0.138,2,   0.361,2,  2361.4,2,  2346.1,2,   38.47,2, -999.00,9,    34.3475,2,     631.35,2,       0.21,       0.01,       0.09,       0.01,      0.006,     0.0136,2,    3.20078,2,      0.075,1,      0.000,2,      0.443,1,      0.269,1,      0.057,1,     99.709,     0.0117,2,      0.069,1,      0.585,1,     -999.0,9
49NZ20210713,        P01,      19,          1,         26,     X12S26,2,20210719,       0821,    39.9513,   147.7061,       5243,   700.7,2,   3.0644,2,  34.2495,2,  34.2487,2,    26.04,2,   26.01,2,  136.19,2,    0.00,2,   43.55,2,    0.00,2,   3.101,2,   0.622,2,   0.364,2,   0.086,2,   0.291,2,  2368.7,6,  2355.6,2,   44.04,2, -999.00,9,    34.4240,2,     632.75,2,       0.22,       0.01,       0.09,       0.01,      0.006,     -999.0,9,    3.06434,2,      0.073,1,      0.000,2,     -999.0,9,     -999.0,9,     -999.0,9,     99.741,     0.0104,2,      0.065,1,      0.588,1,     -999.0,9
49NZ20210713,        P01,      19,          1,         25,     X12S25,2,20210719,       0821,    39.9513,   147.7061,       5243,   798.1,2,   2.8823,2,  34.2956,2,  34.2960,2,    25.58,2,   25.62,2,  142.86,2,    0.03,2,   43.50,2,    0.00,2,   3.103,2,   0.494,2,   0.294,2,   0.065,2,   0.199,2,  2377.7,2,  2362.3,2,   37.48,2, -999.00,9,    34.4711,2,     633.60,2,       0.23,       0.01,       0.09,       0.01,      0.006,     0.0135,2,    2.88275,2,      0.074,1,      0.000,2,      0.418,1,      0.248,1,      0.052,1,     99.764,     0.0095,2,      0.063,1,      0.585,1,     -999.0,9
49NZ20210713,        P01,      19,          1,         24,     X12S24,2,20210719,       0821,    39.9513,   147.7061,       5243,   900.3,2,   2.7710,2,  34.3430,2,  34.3426,2,    25.95,2,   25.78,2,  147.86,2,    0.03,2,   43.47,2,    0.00,2,   3.101,2,   0.349,2,   0.213,2,   0.054,2,   0.139,2,  2377.8,2,  2367.1,2,   38.35,2, -999.00,9,    34.5183,2,     634.45,2,       0.23,       0.01,       0.09,       0.01,      0.006,     -999.0,9,    2.77097,2,      0.072,1,      0.000,2,     -999.0,9,     -999.0,9,     -999.0,9,     99.842,     0.0063,2,      0.061,1,      0.587,1,     -999.0,9
49NZ20210713,        P01,      19,          1,         23,     X12S23,2,20210719,       0821,    39.9513,   147.7061,       5243,   998.2,2,   2.6700,2,  34.3751,2,  34.3749,2,    29.87,2,   30.30,2,  151.06,2,    0.05,2,   43.24,2,    0.00,2,   3.090,2,   0.291,2,   0.182,2,   0.054,2,   0.123,2,  2381.2,2,  2373.4,2,   35.85,2, -999.00,9,    34.5521,2,     635.05,2,       0.24,       0.01,       0.09,       0.01,      0.006,     0.0134,2,    2.67020,2,      0.070,1,      0.000,2,      0.397,1,      0.235,1,      0.050,1,     99.796,     0.0082,2,      0.063,1,      0.586,1,     -999.0,9
49NZ20210713,        P01,      19,          1,         22,     X12S22,2,20210719,       0821,    39.9513,   147.7061,       5243,  1200.1,2,   2.4364,2,  34.4423,2,  34.4407,2,    37.68,2,   37.80,2,  157.83,2,    0.03,2,   42.91,2,    0.00,2,   3.057,2,   0.180,2,   0.117,2,   0.036,2,   0.101,2,  2382.0,2,  2387.1,6,   39.72,2, -999.00,9,    34.6193,2,     636.30,2,       0.25,       0.01,       0.09,       0.01,      0.006,     -999.0,9,    2.43642,2,      0.068,1,      0.000,2,     -999.0,9,     -999.0,9,     -999.0,9,     99.846,     0.0062,2,      0.063,1,      0.572,1,     -999.0,9
49NZ20210713,        P01,      19,          1,         21,     X12S21,2,20210719,       0821,    39.9513,   147.7061,       5243,  1399.3,2,   2.3044,2,  34.4961,2,  34.4974,2,    45.08,2,   45.58,2,  160.61,2,    0.02,2,   42.55,2,    0.00,2,   3.022,2,   0.086,2,   0.057,2,   0.019,2,   0.041,2,  2383.0,2,  2391.7,2,   38.18,2, -999.00,9,    34.6754,2,     637.25,2,       0.25,       0.01,       0.09,       0.01,      0.006,     0.0127,2,    2.30384,2,      0.066,1,      0.000,2,      0.368,1,      0.213,1,      0.041,1,     99.821,     0.0072,2,      0.068,1,      0.558,1,     -999.0,9
49NZ20210713,        P01,      19,          1,         20,     X12S20,2,20210719,       0821,    39.9513,   147.7061,       5243,  1599.6,2,   2.1785,2,  34.5390,2,  34.5389,2,    54.31,2,   54.63,2,  162.09,2,    0.02,2,   42.15,2,    0.00,2,   2.982,2,   0.034,2,   0.024,2,   0.007,2,   0.024,2,  2381.7,2,  2400.8,2,   35.59,2, -999.00,9,    34.7189,2,     638.10,2,       0.25,       0.01,       0.09,       0.01,      0.006,     -999.0,9,    2.17848,2,      0.063,1,      0.000,2,     -999.0,9,     -999.0,9,     -999.0,9,     99.798,     0.0081,2,      0.063,1,      0.547,1,     -999.0,9
49NZ20210713,        P01,      19,          1,         19,     X12S19,2,20210719,       0821,    39.9513,   147.7061,       5243,  1801.5,2,   2.0476,2,  34.5692,2,  34.5690,2,    63.44,2,   63.61,2,  163.55,2,    0.02,2,   41.61,2,    0.00,2,   2.936,2,   0.011,2,   0.011,2,   0.000,2,   0.053,2,  2380.2,2,  2403.3,2,   36.48,2, -999.00,9,    34.7486,2,     638.60,2,       0.26,       0.01,       0.09,       0.01,      0.006,     0.0120,2,    2.04765,2,      0.063,1,      0.000,2,      0.413,1,      0.254,1,      0.052,1,     99.855,     0.0058,2,      0.059,1,      0.542,1,     -999.0,9
49NZ20210713,        P01,      19,          1,         18,     X12S18,2,20210719,       0821,    39.9513,   147.7061,       5243,  2000.5,2,   1.9403,2,  34.5919,2,  34.5916,2,    73.82,2,   73.60,2,  163.93,2,    0.02,2,   41.06,2,    0.00,2,   2.887,2,   0.001,2,   0.004,2,   0.000,2,   0.030,2,  2375.0,2,  2409.5,2,   36.33,2, -999.00,9,    34.7720,2,     639.00,2,       0.26,       0.01,       0.09,       0.01,      0.006,     -999.0,9,    1.94052,2,      0.062,1,      0.000,2,     -999.0,9,     -999.0,9,     -999.0,9,     99.810,     0.0076,2,      0.060,1,      0.534,1,     -999.0,9
49NZ20210713,        P01,      19,          1,         17,     X12S17,2,20210719,       0821,    39.9513,   147.7061,       5243,  2199.7,2,   1.8224,2,  34.6143,2,  34.6144,2,    88.01,2,   88.22,2,  162.56,2,    0.01,2,   40.18,2,    0.00,2,   2.815,2,   0.000,2,   0.002,2,   0.000,2,   0.055,2,  2366.3,2,  2413.1,2,   33.94,2, -999.00,9,    34.7957,2,     639.55,2,       0.25,       0.01,       0.08,       0.01,      0.006,     0.0113,2,    1.82271,2,      0.059,1,      0.000,2,      0.305,1,      0.165,1,      0.023,1,     99.913,     0.0035,2,      0.057,1,      0.518,1,     -999.0,9
49NZ20210713,        P01,      19,          1,         16,     X12S16,2,20210719,       0821,    39.9513,   147.7061,       5243,  2400.2,2,   1.7186,2,  34.6311,2,  34.6311,2,    98.49,2,   99.22,2,  163.10,2,    0.01,2,   39.46,2,    0.00,2,   2.766,2,   0.000,2,   0.001,2,   0.000,2,   0.049,2,  2362.6,6,  2413.8,2,   36.02,2, -999.00,9,    34.8120,2,     639.70,2,       0.25,       0.01,       0.08,       0.01,      0.006,     -999.0,9,    1.71883,2,      0.060,1,      0.000,2,     -999.0,9,     -999.0,9,     -999.0,9,     99.915,     0.0034,2,      0.055,1,      0.513,1,     -999.0,9
49NZ20210713,        P01,      19,          1,         15,     X12S15,3,20210719,       0821,    39.9513,   147.7061,       5243,  2600.6,2,   1.6544,2,  34.6436,2,  34.6408,3,   110.66,2,  110.91,2,  159.59,2,    0.01,2,   38.76,2,    0.00,2,   2.705,2,   0.001,2,   0.005,2,   0.000,2,   0.031,2,  2353.1,2,  2415.6,2,   37.15,2, -999.00,9,    34.8203,2,     639.90,2,       0.25,       0.01,       0.08,       0.01,      0.006,     0.0106,2,    1.65457,2,      0.059,1,      0.000,2,      0.302,1,      0.170,1,      0.032,1,     99.908,     0.0037,2,      0.057,1,      0.504,1,     -999.0,9
49NZ20210713,        P01,      19,          1,         14,     X12S14,2,20210719,       0821,    39.9513,   147.7061,       5243,  2800.0,2,   1.5890,2,  34.6538,2,  34.6544,2,   118.15,2,  118.11,2,  160.10,2,    0.00,2,   38.40,2,    0.00,2,   2.672,2,   0.000,2,   0.001,2,   0.000,2,   0.143,2,  2353.1,2,  2415.4,2,   37.57,2, -999.00,9,    34.8328,2,     640.20,2,       0.25,       0.01,       0.08,       0.01,      0.006,     -999.0,9,    1.58909,2,      0.057,1,      0.000,2,     -999.0,9,     -999.0,9,     -999.0,9,     99.940,     0.0024,2,      0.056,1,      0.503,1,     -999.0,9
49NZ20210713,        P01,      19,          1,         13,     X12S13,2,20210719,       0821,    39.9513,   147.7061,       5243,  3000.9,2,   1.5454,2,  34.6613,2,  34.6618,2,   125.96,2,  126.22,2,  157.94,2,    0.02,2,   37.73,2,    0.00,2,   2.623,2,   0.000,2,   0.001,2,   0.000,2,   0.181,2,  2348.1,2,  2413.9,2,   34.51,2, -999.00,9,    34.8428,2,     640.30,2,       0.25,       0.01,       0.08,       0.01,      0.006,     0.0103,2,    1.54532,2,      0.057,1,      0.000,2,      0.307,1,      0.174,1,      0.030,1,     99.965,     0.0014,2,      0.055,1,      0.491,1,     -999.0,9
49NZ20210713,        P01,      19,          1,         12,     X12S12,2,20210719,       0821,    39.9513,   147.7061,       5243,  3249.6,2,   1.5113,2,  34.6680,2,  34.6686,2,   133.13,2,  133.37,2,  156.48,2,    0.01,2,   37.34,2,    0.00,2,   2.585,2,   0.000,2,   0.001,2,   0.000,2,   0.000,2,  2340.8,2,  2413.5,6,   34.78,2, -999.00,9,    34.8478,2,     640.45,2,       0.25,       0.01,       0.08,       0.01,      0.010,     -999.0,9,    1.51115,2,      0.056,1,      0.000,2,     -999.0,9,     -999.0,9,     -999.0,9,     99.926,     0.0029,2,      0.055,1,      0.485,1,     -999.0,9
49NZ20210713,        P01,      19,          1,         11,     X12S11,2,20210719,       0821,    39.9513,   147.7061,       5243,  3500.4,2,   1.4837,2,  34.6742,2,  34.6742,2,   140.92,2,  140.82,2,  153.40,2,    0.02,2,   36.82,2,    0.00,2,   2.550,2,   0.000,2,   0.005,2,   0.000,2,   0.000,2,  2335.3,2,  2411.6,2,   34.34,2, -999.00,9,    34.8535,2,     640.55,2,       0.24,       0.01,       0.08,       0.01,      0.006,     0.0099,2,    1.48360,2,      0.055,1,      0.000,2,      0.415,1,      0.263,1,      0.057,1,     99.968,     0.0013,2,      0.056,1,      0.478,1,     -999.0,9
49NZ20210713,        P01,      19,          1,         10,     X12S10,2,20210719,       0821,    39.9513,   147.7061,       5243,  3750.8,2,   1.4652,2,  34.6786,2,  34.6792,2,   145.60,2,  145.58,2,  153.14,2,    0.01,2,   36.54,2,    0.00,2,   2.528,2,   0.000,2,   0.000,2,   0.000,2,   0.000,2,  2330.9,2,  2412.5,2,   35.20,2, -999.00,9,    34.8580,2,     640.60,2,       0.24,       0.01,       0.08,       0.01,      0.006,     -999.0,9,    1.46509,2,      0.054,1,      0.000,2,     -999.0,9,     -999.0,9,     -999.0,9,    100.018,    -0.0007,2,      0.054,1,      0.472,1,     -999.0,9
49NZ20210713,        P01,      19,          1,          9,     X12S09,2,20210719,       0821,    39.9513,   147.7061,       5243,  3999.4,2,   1.4594,2,  34.6819,2,  34.6817,2,   149.87,2,  149.98,2,  152.05,2,    0.01,2,   36.28,2,    0.00,2,   2.505,2,   0.000,2,   0.003,2,   0.000,2,   0.000,2,  2328.3,2,  2414.0,2,   34.88,2, -999.00,9,    34.8621,2,     640.65,2,       0.24,       0.01,       0.08,       0.01,      0.006,     0.0097,2,    1.45932,2,      0.053,1,      0.000,2,      0.277,1,      0.151,1,      0.023,1,     99.952,     0.0019,2,      0.052,1,      0.469,1,     -999.0,9
49NZ20210713,        P01,      19,          1,          8,     X12S08,2,20210719,       0821,    39.9513,   147.7061,       5243,  4252.4,2,   1.4597,2,  34.6849,2,  34.6846,2,   153.50,2,  153.43,2,  151.35,2,    0.02,2,   35.99,2,    0.00,2,   2.485,2,   0.000,2,   0.002,2,   0.000,2,   0.000,2,  2325.1,6,  2410.4,2,   34.61,2, -999.00,9,    34.8651,2,     640.70,2,       0.24,       0.01,       0.08,       0.01,      0.006,     -999.0,9,    1.45974,2,      0.053,1,      0.000,2,     -999.0,9,     -999.0,9,     -999.0,9,     99.931,     0.0028,2,      0.052,1,      0.464,1,     -999.0,9
49NZ20210713,        P01,      19,          1,          7,     X12S07,2,20210719,       0821,    39.9513,   147.7061,       5243,  4500.1,2,   1.4739,2,  34.6865,2,  34.6861,2,   155.24,2,  155.33,2,  151.13,2,    0.02,2,   35.85,2,    0.00,2,   2.477,2,   0.000,2,   0.002,2,   0.000,2,   0.000,2,  2322.9,2,  2410.9,2,   34.15,2, -999.00,9,    34.8654,2,     640.80,2,       0.24,       0.01,       0.08,       0.01,      0.006,     0.0094,2,    1.47399,2,      0.052,1,      0.000,2,      0.280,1,      0.152,1,      0.021,1,     99.936,     0.0026,2,      0.052,1,      0.455,1,     -999.0,9