BOTTLE,20231011CCHSIOENA
EXPOCODE,SECT_ID,STNNBR,CASTNO,SAMPNO,BTLNBR,BTLNBR_FLAG_W,DATE,TIME,LATITUDE,LONGITUDE,DEPTH,CTDPRS,CTDPRS_FLAG_W,CTDTMP,CTDTMP_FLAG_W,CTDSAL,CTDSAL_FLAG_W,SALNTY,SALNTY_FLAG_W,CTDOXY,CTDOXY_FLAG_W,OXYGEN,OXYGEN_FLAG_W,SILCAT,SILCAT_FLAG_W,NH4,NH4_FLAG_W,NITRAT,NITRAT_FLAG_W,NITRIT,NITRIT_FLAG_W,PHSPHT,PHSPHT_FLAG_W,CFC-11,CFC-11_FLAG_W,CFC-12,CFC-12_FLAG_W,CFC113,CFC113_FLAG_W,SF6,SF6_FLAG_W,TCARBN,TCARBN_FLAG_W,ALKALI,ALKALI_FLAG_W,DOC,DOC_FLAG_W,TDN,TDN_FLAG_W,DNSSAL,DNSSAL_FLAG_W,RIANOMALY,RIANOMALY_FLAG_W,SILUNC,NH4UNC,NRAUNC,NRIUNC,PHPUNC,FDOM,FDOM_FLAG_W,REFTMP,REFTMP_FLAG_W,CTDFLUOR,CTDFLUOR_FLAG_W,PAR,PAR_FLAG_W,CDOM300,CDOM300_FLAG_W,CDOM325,CDOM325_FLAG_W,CDOM443,CDOM443_FLAG_W,CTDXMISS,CTDBEAMCP,CTDBEAMCP_FLAG_W,CTDTURB,CTDTURB_FLAG_W,CTDCDOM,CTDCDOM_FLAG_W,CHLORA,CHLORA_FLAG_W
,,,,,,,,,,,METERS,DBAR,,ITS-90,,PSS-78,,PSS-78,,UMOL/KG,,UMOL/KG,,UMOL/KG,,UMOL/KG,,UMOL/KG,,UMOL/KG,,UMOL/KG,,PMOL/KG,,PMOL/KG,,PMOL/KG,,FMOL/KG,,UMOL/KG,,UMOL/KG,,UMOL/KG,,UMOL/KG,,G/KG,,ND,,UMOL/KG,UMOL/KG,UMOL/KG,UMOL/KG,UMOL/KG,RFU,,ITS-90,,MG/M^3,,UMOL/M^2/SEC,,/METER,,/METER,,/METER,,%TRANS,/METER,,FTU,,QSU,,UG/L,
49NZ20210713,        P01,      77,          1,          6,     X12S06,2,20210808,       0037,    47.0020,  -162.6192,       5176,  4670.0,2,   1.5232,2,  34.6848,2,  34.6856,2,   146.17,2,  146.15,2,  166.38,2,    0.03,2,   36.57,2,    0.00,2,   2.532,2,   0.000,2,   0.001,2,   0.000,2,   0.000,2,  2339.2,2,  2423.9,6,   38.16,2, -999.00,9,    34.8687,2,     640.74,2,       0.26,       0.01,       0.08,       0.01,      0.006,     -999.0,9,    1.52330,2,      0.054,1,      0.000,2,     -999.0,9,     -999.0,9,     -999.0,9,     99.956,     0.0018,2,      0.036,1,      0.295,1,     -999.0,9
49NZ20210713,        P01,      77,          1,          5,     X12S05,2,20210808,       0037,    47.0020,  -162.6192,       5176,  4919.2,2,   1.5487,2,  34.6858,2,  34.6866,2,   146.71,2,  146.79,2,  167.69,2,    0.03,2,   36.56,2,    0.00,2,   2.525,2,   0.000,2,   0.002,2,   0.000,2,   0.000,2,  2340.7,2,  2426.6,2,   36.40,2, -999.00,9,    34.8713,2,     640.74,2,       0.26,       0.01,       0.08,       0.01,      0.006,     0.0100,2,    1.54876,2,      0.054,1,      0.000,2,      0.289,1,      0.156,1,      0.026,1,     99.963,     0.0015,2,      0.034,1,      0.292,1,     -999.0,9
49NZ20210713,        P01,      77,          1,          4,     X12S04,2,20210808,       0037,    47.0020,  -162.6192,       5176,  5169.4,2,   1.5766,2,  34.6864,2,  34.6872,2,   147.36,2,  147.51,2,  168.34,2,    0.03,2,   36.49,2,    0.00,2,   2.522,2,   0.000,2,   0.001,2,   0.000,2,   0.000,2,  2337.7,2,  2426.2,2,   35.71,2, -999.00,9,    34.8697,2,     640.74,2,       0.26,       0.01,       0.08,       0.01,      0.006,     0.0100,2,    1.57665,2,      0.054,1,      0.000,2,      0.297,1,      0.156,1,      0.028,1,     99.902,     0.0039,2,      0.039,1,      0.293,1,     -999.0,9
49NZ20210713,        P01,      77,          1,          1,     X12S01,2,20210808,       0037,    47.0020,  -162.6192,       5176,  5267.7,2,   1.5885,2,  34.6865,2,  34.6873,2,   147.82,2,  147.85,2,  168.01,2,    0.03,2,   36.44,2,    0.00,2,   2.522,2,   0.000,2,   0.002,2,   0.000,2,   0.000,2,  2334.9,2,  2425.9,2,   35.68,2, -999.00,9,    34.8713,2,     640.83,2,       0.26,       0.01,       0.08,       0.01,      0.006,     0.0103,2,    1.58849,2,      0.054,1,      0.000,2,      0.292,1,      0.154,1,      0.023,1,     99.821,     0.0072,2,      0.050,1,      0.286,1,     -999.0,9
49NZ20210713,        P01,      78,          1,          2,     X12B34,2,20210808,       0847,    46.9956,  -161.4845,       5084,    21.2,2,  12.8242,2,  32.6170,2,-999.0000,9,   285.82,2, -999.00,9, -999.00,9, -999.00,9, -999.00,9, -999.00,9,-999.000,9,-999.000,9,-999.000,9,-999.000,9,-999.000,9,  -999.0,9,  -999.0,9, -999.00,9, -999.00,9,     -999.0,9,     -999.0,9,     -999.0,     -999.0,     -999.0,     -999.0,     -999.0,     -999.0,9,   12.78586,2,      2.405,1,      0.000,2,     -999.0,9,     -999.0,9,     -999.0,9,     93.363,     0.2747,2,      0.322,1,      0.187,1,     -999.0,9