BOTTLE,20231011CCHSIOENA
EXPOCODE,SECT_ID,STNNBR,CASTNO,SAMPNO,BTLNBR,BTLNBR_FLAG_W,DATE,TIME,LATITUDE,LONGITUDE,DEPTH,CTDPRS,CTDPRS_FLAG_W,CTDTMP,CTDTMP_FLAG_W,CTDSAL,CTDSAL_FLAG_W,SALNTY,SALNTY_FLAG_W,CTDOXY,CTDOXY_FLAG_W,OXYGEN,OXYGEN_FLAG_W,SILCAT,SILCAT_FLAG_W,NH4,NH4_FLAG_W,NITRAT,NITRAT_FLAG_W,NITRIT,NITRIT_FLAG_W,PHSPHT,PHSPHT_FLAG_W,CFC-11,CFC-11_FLAG_W,CFC-12,CFC-12_FLAG_W,CFC113,CFC113_FLAG_W,SF6,SF6_FLAG_W,TCARBN,TCARBN_FLAG_W,ALKALI,ALKALI_FLAG_W,DOC,DOC_FLAG_W,TDN,TDN_FLAG_W,DNSSAL,DNSSAL_FLAG_W,RIANOMALY,RIANOMALY_FLAG_W,SILUNC,NH4UNC,NRAUNC,NRIUNC,PHPUNC,FDOM,FDOM_FLAG_W,REFTMP,REFTMP_FLAG_W,CTDFLUOR,CTDFLUOR_FLAG_W,PAR,PAR_FLAG_W,CDOM300,CDOM300_FLAG_W,CDOM325,CDOM325_FLAG_W,CDOM443,CDOM443_FLAG_W,CTDXMISS,CTDBEAMCP,CTDBEAMCP_FLAG_W,CTDTURB,CTDTURB_FLAG_W,CTDCDOM,CTDCDOM_FLAG_W,CHLORA,CHLORA_FLAG_W
,,,,,,,,,,,METERS,DBAR,,ITS-90,,PSS-78,,PSS-78,,UMOL/KG,,UMOL/KG,,UMOL/KG,,UMOL/KG,,UMOL/KG,,UMOL/KG,,UMOL/KG,,PMOL/KG,,PMOL/KG,,PMOL/KG,,FMOL/KG,,UMOL/KG,,UMOL/KG,,UMOL/KG,,UMOL/KG,,G/KG,,ND,,UMOL/KG,UMOL/KG,UMOL/KG,UMOL/KG,UMOL/KG,RFU,,ITS-90,,MG/M^3,,UMOL/M^2/SEC,,/METER,,/METER,,/METER,,%TRANS,/METER,,FTU,,QSU,,UG/L,
49NZ20210713,        P01,      12,          1,          5,     X12S05,2,20210717,       1609,    41.6432,   146.5191,       6034,  5000.9,2,   1.5150,2,  34.6884,2,  34.6898,2,   158.82,2,  159.45,2,  147.19,2,    0.02,2,   35.49,2,    0.00,2,   2.467,2,   0.006,2,   0.005,2,   0.000,2,   0.037,2,  2321.6,2,  2412.5,2,   40.77,2, -999.00,9,    34.8706,2,     640.75,2,       0.23,       0.01,       0.08,       0.01,      0.006,     0.0092,2,    1.51498,2,      0.052,1,      0.000,2,      0.306,1,      0.175,1,      0.026,1,     99.903,     0.0039,2,      0.056,1,      0.485,1,     -999.0,9
49NZ20210713,        P01,      12,          1,          4,     X12S04,2,20210717,       1609,    41.6432,   146.5191,       6034,  5249.6,2,   1.5394,2,  34.6890,2,  34.6897,2,   160.37,2,  160.88,2,  145.38,2,    0.04,2,   35.40,2,    0.00,2,   2.459,2,   0.007,2,   0.006,2,   0.002,2,   0.047,2,  2319.9,2,  2409.6,2,   36.62,2, -999.00,9,    34.8691,2,     640.70,2,       0.23,       0.01,       0.08,       0.01,      0.006,     0.0093,2,    1.53947,2,      0.051,1,      0.000,2,      0.298,1,      0.166,1,      0.031,1,     99.825,     0.0070,2,      0.068,1,      0.491,1,     -999.0,9
49NZ20210713,        P01,      12,          1,          3,     X12S03,2,20210717,       1609,    41.6432,   146.5191,       6034,  5502.2,2,   1.5634,2,  34.6899,2,  34.6909,2,   161.89,2,  162.13,2,  144.14,2,    0.03,2,   35.33,2,    0.00,2,   2.456,2,   0.004,2,   0.004,2,   0.000,2,   0.012,2,  2319.9,2,  2411.2,2,   37.40,2, -999.00,9,    34.8703,2,     640.75,2,       0.26,       0.01,       0.09,       0.01,      0.006,     0.0094,2,    1.56349,2,      0.051,1,      0.000,2,      0.290,1,      0.163,1,      0.023,1,     99.669,     0.0132,2,      0.070,1,      0.490,1,     -999.0,9
49NZ20210713,        P01,      12,          1,          2,     X12B34,2,20210717,       1609,    41.6432,   146.5191,       6034,  5749.8,2,   1.5923,2,  34.6903,2,  34.6904,2,   162.40,2,  162.87,2,  143.88,2,    0.04,2,   35.32,2,    0.00,2,   2.452,2,   0.003,2,   0.001,2,   0.002,2,   0.006,2,  2319.4,2,  2411.1,2,   42.53,4, -999.00,9,    34.8700,2,     640.70,2,       0.30,       0.01,       0.09,       0.01,      0.009,     0.0091,2,    1.59240,2,      0.050,1,      0.000,2,      0.328,1,      0.188,1,      0.035,1,     99.502,     0.0200,2,      0.082,1,      0.490,1,     -999.0,9
49NZ20210713,        P01,      12,          1,          1,     X12S01,2,20210717,       1609,    41.6432,   146.5191,       6034,  6101.6,2,   1.6376,2,  34.6906,2,  34.6913,2,   162.97,2,  307.52,4,  143.36,2,    0.04,2,   35.25,2,    0.01,2,   2.449,2,   0.005,2,   0.004,2,   0.003,2,   0.030,2,  2314.6,2,  2406.8,2,   38.91,2, -999.00,9,    34.8726,2,     640.90,2,       0.23,       0.01,       0.08,       0.01,      0.006,     0.0093,2,    1.63763,2,      0.050,1,      0.000,2,      0.296,1,      0.163,1,      0.027,1,     98.857,     0.0460,2,      0.132,1,      0.522,1,     -999.0,9