BOTTLE,20231011CCHSIOENA
EXPOCODE,SECT_ID,STNNBR,CASTNO,SAMPNO,BTLNBR,BTLNBR_FLAG_W,DATE,TIME,LATITUDE,LONGITUDE,DEPTH,CTDPRS,CTDPRS_FLAG_W,CTDTMP,CTDTMP_FLAG_W,CTDSAL,CTDSAL_FLAG_W,SALNTY,SALNTY_FLAG_W,CTDOXY,CTDOXY_FLAG_W,OXYGEN,OXYGEN_FLAG_W,SILCAT,SILCAT_FLAG_W,NH4,NH4_FLAG_W,NITRAT,NITRAT_FLAG_W,NITRIT,NITRIT_FLAG_W,PHSPHT,PHSPHT_FLAG_W,CFC-11,CFC-11_FLAG_W,CFC-12,CFC-12_FLAG_W,CFC113,CFC113_FLAG_W,SF6,SF6_FLAG_W,TCARBN,TCARBN_FLAG_W,ALKALI,ALKALI_FLAG_W,DOC,DOC_FLAG_W,TDN,TDN_FLAG_W,DNSSAL,DNSSAL_FLAG_W,RIANOMALY,RIANOMALY_FLAG_W,SILUNC,NH4UNC,NRAUNC,NRIUNC,PHPUNC,FDOM,FDOM_FLAG_W,REFTMP,REFTMP_FLAG_W,CTDFLUOR,CTDFLUOR_FLAG_W,PAR,PAR_FLAG_W,CDOM300,CDOM300_FLAG_W,CDOM325,CDOM325_FLAG_W,CDOM443,CDOM443_FLAG_W,CTDXMISS,CTDBEAMCP,CTDBEAMCP_FLAG_W,CTDTURB,CTDTURB_FLAG_W,CTDCDOM,CTDCDOM_FLAG_W,CHLORA,CHLORA_FLAG_W
,,,,,,,,,,,METERS,DBAR,,ITS-90,,PSS-78,,PSS-78,,UMOL/KG,,UMOL/KG,,UMOL/KG,,UMOL/KG,,UMOL/KG,,UMOL/KG,,UMOL/KG,,PMOL/KG,,PMOL/KG,,PMOL/KG,,FMOL/KG,,UMOL/KG,,UMOL/KG,,UMOL/KG,,UMOL/KG,,G/KG,,ND,,UMOL/KG,UMOL/KG,UMOL/KG,UMOL/KG,UMOL/KG,RFU,,ITS-90,,MG/M^3,,UMOL/M^2/SEC,,/METER,,/METER,,/METER,,%TRANS,/METER,,FTU,,QSU,,UG/L,
49NZ20210713,        P01,      81,          1,          2,     X12B34,2,20210813,       1525,    47.0004,  -158.1401,       5233,     6.9,2,  13.4506,2,  32.4607,2,  32.4580,2,   274.91,2,  273.19,2,   16.72,2,    0.15,2,    9.50,2,    0.11,2,   0.948,2,-999.000,9,-999.000,9,-999.000,9,-999.000,9,  2018.9,2,  2189.0,2,   57.75,2, -999.00,9,    32.6153,2,     599.51,2,       0.06,       0.01,       0.03,       0.01,      0.007,     0.0044,2,   13.45047,2,      2.779,1,     30.164,2,      0.431,1,      0.233,1,      0.032,1,     91.482,     0.3561,2,      0.367,1,      0.204,1,       0.89,2
49NZ20210713,        P01,      81,          1,         36,     X12S36,2,20210813,       1525,    47.0004,  -158.1401,       5233,    10.1,2,  13.4476,2,  32.4607,2,  32.4579,2,   274.42,2,  273.40,2,   16.74,2,    0.14,2,    9.52,2,    0.12,2,   0.952,2,   2.935,2,   1.475,2,   0.330,3,   2.947,2,  2021.7,2,  2188.3,2,   58.14,2, -999.00,9,    32.6147,2,     599.56,2,       0.06,       0.01,       0.03,       0.01,      0.008,     0.0043,2,   13.44697,2,      2.871,1,     25.399,2,      0.425,1,      0.229,1,      0.031,1,     91.493,     0.3556,2,      0.363,1,      0.203,1,       0.92,2
49NZ20210713,        P01,      81,          1,         35,     X12S35,2,20210813,       1525,    47.0004,  -158.1401,       5233,    50.5,2,   8.1704,2,  32.6580,2,  32.6631,2,   305.50,2,  304.31,2,   18.82,2,    0.38,2,   12.62,2,    0.10,2,   1.193,2,   3.832,2,   1.874,2,   0.503,3,   3.606,2,  2055.0,2,  2199.5,2,   54.52,2, -999.00,9,    32.8199,2,     603.41,2,       0.06,       0.02,       0.04,       0.01,      0.006,     0.0049,2,    8.16811,2,      1.414,1,      0.207,2,      0.377,1,      0.198,1,      0.023,1,     97.289,     0.1099,2,      0.142,1,      0.208,1,       0.46,2
49NZ20210713,        P01,      81,          1,         34,     X12S34,2,20210813,       1525,    47.0004,  -158.1401,       5233,   100.5,2,   5.8298,2,  32.8773,2,  32.8841,2,   301.76,2,  301.27,2,   20.39,2,    0.01,2,   16.50,2,    0.02,2,   1.377,2,   4.176,2,   2.033,2,   0.430,3,   3.776,2,  2088.0,2,  2210.5,2,   49.21,2, -999.00,9,    33.0426,2,     607.56,2,       0.06,       0.01,       0.04,       0.01,      0.008,     0.0044,2,    5.82834,2,      0.206,1,      0.000,2,      0.342,1,      0.181,1,      0.027,1,     99.516,     0.0194,2,      0.067,1,      0.201,1,       0.10,2
49NZ20210713,        P01,      81,          1,         33,     X12S33,2,20210813,       1525,    47.0004,  -158.1401,       5233,   150.9,2,   6.1215,2,  33.6143,2,  33.6151,2,   260.77,2,  260.70,2,   28.36,2,    0.01,2,   19.31,2,    0.01,2,   1.448,2,   3.905,2,   1.923,2,   0.277,2,   3.223,2,  2139.1,2,  2247.0,2,   50.68,2, -999.00,9,    33.7776,2,     621.06,2,       0.07,       0.01,       0.05,       0.01,      0.005,     0.0059,2,    6.11777,2,      0.066,1,      0.000,2,      0.333,1,      0.177,1,      0.025,1,     99.690,     0.0124,2,      0.078,1,      0.223,1,       0.02,2
49NZ20210713,        P01,      81,          1,         32,     X12S32,2,20210813,       1525,    47.0004,  -158.1401,       5233,   202.3,2,   5.6890,2,  33.7889,2,  33.7874,2,   186.75,2,  191.27,2,   45.06,2,    0.01,2,   25.98,2,    0.00,2,   1.885,2,   3.431,2,   1.685,2,   0.213,2,   2.425,2,  2196.5,2,  2266.0,2,   44.05,2, -999.00,9,    33.9525,2,     624.21,2,       0.10,       0.01,       0.06,       0.01,      0.005,     0.0087,2,    5.68602,2,      0.065,1,      0.000,2,      0.370,1,      0.210,1,      0.036,1,     99.672,     0.0132,2,      0.064,1,      0.265,1,       0.01,2
49NZ20210713,        P01,      81,          1,         31,     X12S31,2,20210813,       1525,    47.0004,  -158.1401,       5233,   248.3,2,   5.2121,2,  33.8053,2,  33.8057,2,   147.34,2,  147.07,2,   57.47,2,    0.01,2,   30.71,2,    0.00,2,   2.216,2,   3.134,2,   1.507,2,   0.214,2,   1.926,2,  2233.3,2,  2274.8,2,   47.97,2, -999.00,9,    33.9725,2,     624.56,2,       0.11,       0.01,       0.07,       0.01,      0.005,     0.0101,2,    5.21221,2,      0.065,1,      0.000,2,      0.396,1,      0.227,1,      0.039,1,     99.723,     0.0111,2,      0.064,1,      0.280,1,       0.01,2
49NZ20210713,        P01,      81,          1,         30,     X12S30,2,20210813,       1525,    47.0004,  -158.1401,       5233,   329.3,2,   4.5540,2,  33.8568,2,  33.8585,2,    98.04,2,   98.04,2,   74.27,2,    0.01,2,   36.54,2,    0.00,2,   2.602,2,   2.663,2,   1.281,2,   0.193,2,   1.358,2,  2276.1,2,  2287.1,2,   45.50,2, -999.00,9,    34.0261,2,     625.51,2,       0.15,       0.01,       0.08,       0.01,      0.006,     0.0112,2,    4.55448,2,      0.068,1,      0.000,2,      0.433,1,      0.252,1,      0.049,1,     99.744,     0.0103,2,      0.058,1,      0.299,1,     -999.0,9
49NZ20210713,        P01,      81,          1,         29,     X12S29,2,20210813,       1525,    47.0004,  -158.1401,       5233,   428.9,2,   4.2362,2,  33.9941,2,  33.9944,2,    63.21,2,   63.75,2,   90.48,2,    0.00,2,   39.84,2,    0.00,2,   2.827,2,   1.930,2,   1.033,2,   0.137,2,   0.814,2,  2308.5,2,  2305.6,2,   40.54,2, -999.00,9,    34.1655,2,     628.01,2,       0.22,       0.01,       0.08,       0.01,      0.011,     0.0117,2,    4.23638,2,      0.068,1,      0.000,2,      0.419,1,      0.244,1,      0.044,1,     99.816,     0.0074,2,      0.051,1,      0.307,1,     -999.0,9
49NZ20210713,        P01,      81,          1,         28,     X12S28,2,20210813,       1525,    47.0004,  -158.1401,       5233,   529.9,2,   4.0709,2,  34.0939,2,  34.0927,2,    44.93,2,   45.79,2,  101.62,2,    0.00,2,   41.26,2,    0.00,2,   2.928,2,   1.351,2,   0.715,2,   0.112,2,   0.482,2,  2328.1,2,  2319.9,2,   41.79,2, -999.00,9,    34.2644,2,     629.81,2,       0.17,       0.01,       0.09,       0.01,      0.006,     0.0122,2,    4.07105,2,      0.069,1,      0.000,2,      0.404,1,      0.238,1,      0.042,1,     99.904,     0.0038,2,      0.044,1,      0.314,1,     -999.0,9
49NZ20210713,        P01,      81,          1,         27,     X12S27,2,20210813,       1525,    47.0004,  -158.1401,       5233,   628.2,2,   3.8347,2,  34.1823,2,  34.1821,2,    31.88,2,   32.80,2,  113.01,2,    0.00,2,   42.43,2,    0.00,2,   3.015,2,   0.799,2,   0.400,2,   0.071,2,   0.222,2,  2343.3,2,  2335.0,2,   37.49,2, -999.00,9,    34.3580,2,     631.41,2,       0.19,       0.01,       0.09,       0.01,      0.009,     0.0127,2,    3.83492,2,      0.070,1,      0.000,2,      0.395,1,      0.232,1,      0.042,1,     99.890,     0.0044,2,      0.044,1,      0.314,1,     -999.0,9
49NZ20210713,        P01,      81,          1,         26,     X12S26,2,20210813,       1525,    47.0004,  -158.1401,       5233,   727.3,2,   3.6019,2,  34.2432,2,  34.2432,2,    25.11,2,   25.77,2,  121.96,2,    0.00,2,   43.10,2,    0.00,2,   3.074,2,   0.480,2,   0.274,2,   0.030,2,   0.140,2,  2360.5,6,  2347.1,2,   40.48,2, -999.00,9,    34.4207,2,     632.62,2,       0.20,       0.01,       0.09,       0.01,      0.006,     -999.0,9,    3.60208,2,      0.070,1,      0.000,2,     -999.0,9,     -999.0,9,     -999.0,9,     99.848,     0.0061,2,      0.043,1,      0.320,1,     -999.0,9
49NZ20210713,        P01,      81,          1,         25,     X12S25,2,20210813,       1525,    47.0004,  -158.1401,       5233,   830.6,2,   3.3142,2,  34.2934,2,  34.2930,2,    24.72,2,   25.51,2,  130.65,2,    0.02,2,   43.18,2,    0.00,2,   3.070,2,   0.368,2,   0.215,2,   0.026,2,   0.094,2,  2367.1,2,  2357.2,2,   37.11,2, -999.00,9,    34.4695,2,     633.46,2,       0.21,       0.01,       0.09,       0.01,      0.006,     0.0126,2,    3.31415,2,      0.069,1,      0.000,2,      0.401,1,      0.242,1,      0.054,1,     99.855,     0.0058,2,      0.047,1,      0.325,1,     -999.0,9
49NZ20210713,        P01,      81,          1,         24,     X12S24,2,20210813,       1525,    47.0004,  -158.1401,       5233,   929.1,2,   3.1196,2,  34.3346,2,  34.3346,2,    22.82,2,   23.16,2,  137.34,2,    0.02,2,   43.46,2,    0.00,2,   3.094,2,   0.247,2,   0.147,2,   0.014,2,   0.028,2,  2376.7,2,  2365.1,2,   39.32,2, -999.00,9,    34.5126,2,     634.31,2,       0.22,       0.01,       0.09,       0.01,      0.006,     -999.0,9,    3.11972,2,      0.069,1,      0.000,2,     -999.0,9,     -999.0,9,     -999.0,9,     99.874,     0.0050,2,      0.044,1,      0.326,1,     -999.0,9
49NZ20210713,        P01,      81,          1,         23,     X12S23,2,20210813,       1525,    47.0004,  -158.1401,       5233,  1070.2,2,   2.8981,2,  34.3869,2,  34.3867,2,    16.88,2,   16.92,2,  145.54,2,    0.01,2,   44.17,2,    0.00,2,   3.136,2,   0.088,2,   0.055,2,   0.006,2,   0.043,2,  2389.0,2,  2376.6,2,   36.39,2, -999.00,9,    34.5640,2,     635.21,2,       0.23,       0.01,       0.09,       0.01,      0.006,     0.0135,2,    2.89832,2,      0.069,1,      0.000,2,      0.393,1,      0.237,1,      0.048,1,     99.858,     0.0057,2,      0.041,1,      0.324,1,     -999.0,9
49NZ20210713,        P01,      81,          1,         22,     X12S22,2,20210813,       1525,    47.0004,  -158.1401,       5233,  1270.4,2,   2.6106,2,  34.4455,2,  34.4456,2,    15.95,2,   15.91,2,  155.82,2,    0.00,2,   44.48,2,    0.00,2,   3.151,2,   0.026,2,   0.017,2,   0.012,2,   0.000,2,  2399.0,2,  2389.1,6,   34.03,2, -999.00,9,    34.6277,2,     636.37,2,       0.25,       0.01,       0.09,       0.01,      0.007,     -999.0,9,    2.61040,2,      0.069,1,      0.000,2,     -999.0,9,     -999.0,9,     -999.0,9,     99.907,     0.0037,2,      0.040,1,      0.331,1,     -999.0,9
49NZ20210713,        P01,      81,          1,         21,     X12S21,2,20210813,       1525,    47.0004,  -158.1401,       5233,  1468.4,2,   2.3973,2,  34.4905,2,  34.4909,2,    19.67,2,   19.86,2,  162.47,2,    0.01,2,   44.39,2,    0.00,2,   3.131,2,   0.010,2,   0.007,2,   0.009,2,   0.000,2,  2406.1,2,  2396.6,2,   35.77,2, -999.00,9,    34.6712,2,     637.12,2,       0.32,       0.01,       0.09,       0.01,      0.008,     0.0133,2,    2.39706,2,      0.068,1,      0.000,2,      0.385,1,      0.226,1,      0.037,1,     99.909,     0.0036,2,      0.039,1,      0.324,1,     -999.0,9
49NZ20210713,        P01,      81,          1,         20,     X12S20,2,20210813,       1525,    47.0004,  -158.1401,       5233,  1669.6,2,   2.2167,2,  34.5300,2,  34.5301,2,    26.81,2,   26.78,2,  168.16,2,    0.00,2,   44.10,2,    0.00,2,   3.102,2,   0.001,2,   0.001,2,   0.003,2,   0.000,2,  2404.1,2,  2403.9,2,   36.46,2, -999.00,9,    34.7113,2,     637.81,2,       0.26,       0.01,       0.09,       0.01,      0.006,     -999.0,9,    2.21708,2,      0.066,1,      0.000,2,     -999.0,9,     -999.0,9,     -999.0,9,     99.911,     0.0035,2,      0.038,1,      0.321,1,     -999.0,9
49NZ20210713,        P01,      81,          1,         19,     X12S19,2,20210813,       1525,    47.0004,  -158.1401,       5233,  1871.9,2,   2.0633,2,  34.5630,2,  34.5630,2,    38.50,2,   38.02,2,  171.77,2,    0.00,2,   43.47,2,    0.00,2,   3.056,2,   0.002,2,   0.000,2,   0.000,2,   0.000,2,  2401.8,2,  2409.9,2,   36.46,2, -999.00,9,    34.7463,2,     638.41,2,       0.27,       0.01,       0.09,       0.01,      0.008,     0.0128,2,    2.06372,2,      0.064,1,      0.000,2,      0.368,1,      0.218,1,      0.036,1,     99.930,     0.0028,2,      0.038,1,      0.322,1,     -999.0,9
49NZ20210713,        P01,      81,          1,         18,     X12S18,2,20210813,       1525,    47.0004,  -158.1401,       5233,  2069.7,2,   1.9434,2,  34.5880,2,  34.5881,2,    50.43,2,   50.67,2,  174.08,2,    0.01,2,   42.73,2,    0.00,2,   3.003,2,   0.001,2,   0.000,2,   0.000,2,   0.000,2,  2400.6,2,  2414.7,2,   38.14,2, -999.00,9,    34.7750,2,     638.96,2,       0.27,       0.01,       0.09,       0.01,      0.006,     -999.0,9,    1.94341,2,      0.063,1,      0.000,2,     -999.0,9,     -999.0,9,     -999.0,9,     99.937,     0.0025,2,      0.038,1,      0.318,1,     -999.0,9
49NZ20210713,        P01,      81,          1,         17,     X12S17,2,20210813,       1525,    47.0004,  -158.1401,       5233,  2270.0,2,   1.8464,2,  34.6069,2,  34.6068,2,    62.84,2,   63.17,2,  174.48,2,    0.00,2,   41.89,2,    0.00,2,   2.946,2,   0.000,2,   0.000,2,   0.000,2,   0.000,2,  2391.8,2,  2415.3,2,   39.65,2, -999.00,9,    34.7945,2,     639.31,2,       0.27,       0.01,       0.09,       0.01,      0.006,     0.0123,2,    1.84638,2,      0.062,1,      0.000,2,      0.349,1,      0.203,1,      0.033,1,     99.935,     0.0026,2,      0.038,1,      0.309,1,     -999.0,9
49NZ20210713,        P01,      81,          1,         16,     X12S16,2,20210813,       1525,    47.0004,  -158.1401,       5233,  2468.7,2,   1.7578,2,  34.6234,2,  34.6233,2,    75.94,2,   76.09,2,  174.12,2,    0.01,2,   41.15,2,    0.00,2,   2.894,2,   0.000,2,   0.000,2,   0.000,2,   0.000,2,  2387.0,6,  2418.0,2,   35.34,2, -999.00,9,    34.8060,2,     639.46,2,       0.27,       0.01,       0.09,       0.01,      0.006,     -999.0,9,    1.75804,2,      0.060,1,      0.000,2,     -999.0,9,     -999.0,9,     -999.0,9,     99.939,     0.0024,2,      0.038,1,      0.308,1,     -999.0,9
49NZ20210713,        P01,      81,          1,         15,     X12S15,2,20210813,       1525,    47.0004,  -158.1401,       5233,  2669.7,2,   1.6817,2,  34.6366,2,  34.6369,2,    89.03,2,   89.19,2,  172.08,2,    0.02,2,   40.30,2,    0.00,2,   2.833,2,   0.000,2,   0.000,2,   0.000,2,   0.022,2,  2377.5,2,  2420.0,2,   36.26,2, -999.00,9,    34.8215,2,     639.76,2,       0.27,       0.01,       0.08,       0.01,      0.008,     0.0117,2,    1.68187,2,      0.060,1,      0.000,2,      0.329,1,      0.183,1,      0.030,1,     99.960,     0.0016,2,      0.038,1,      0.310,1,     -999.0,9
49NZ20210713,        P01,      81,          1,         14,     X12S14,2,20210813,       1525,    47.0004,  -158.1401,       5233,  2871.4,2,   1.6327,2,  34.6458,2,  34.6462,2,    98.54,2,   98.73,2,  170.60,2,    0.01,2,   39.57,2,    0.00,2,   2.758,2,   0.000,2,   0.000,2,   0.000,2,   0.004,2,  2370.5,2,  2418.7,2,   35.14,2, -999.00,9,    34.8297,2,     639.91,2,       0.26,       0.01,       0.08,       0.01,      0.006,     -999.0,9,    1.63270,2,      0.058,1,      0.000,2,     -999.0,9,     -999.0,9,     -999.0,9,     99.962,     0.0015,2,      0.039,1,      0.305,1,     -999.0,9
49NZ20210713,        P01,      81,          1,         13,     X12S13,2,20210813,       1525,    47.0004,  -158.1401,       5233,  3080.0,2,   1.5837,2,  34.6549,2,  34.6553,2,   109.55,2,  109.56,2,  168.45,2,    0.01,2,   38.85,2,    0.00,2,   2.716,2,   0.000,2,   0.000,2,   0.000,2,   0.000,2,  2364.3,2,  2418.4,2,   35.27,2, -999.00,9,    34.8367,2,     640.12,2,       0.26,       0.01,       0.08,       0.01,      0.006,     0.0112,2,    1.58362,2,      0.058,1,      0.000,2,      0.318,1,      0.176,1,      0.026,1,     99.939,     0.0024,2,      0.039,1,      0.296,1,     -999.0,9
49NZ20210713,        P01,      81,          1,         12,     X12S12,2,20210813,       1525,    47.0004,  -158.1401,       5233,  3331.0,2,   1.5381,2,  34.6640,2,  34.6642,2,   120.71,2,  120.84,2,  166.02,2,    0.01,2,   38.14,2,    0.00,2,   2.665,2,   0.000,2,   0.000,2,   0.000,2,   0.000,2,  2357.6,2,  2419.2,6,   33.19,2, -999.00,9,    34.8492,2,     640.37,2,       0.26,       0.01,       0.08,       0.01,      0.006,     -999.0,9,    1.53810,2,      0.057,1,      0.000,2,     -999.0,9,     -999.0,9,     -999.0,9,     99.939,     0.0024,2,      0.039,1,      0.295,1,     -999.0,9
49NZ20210713,        P01,      81,          1,         11,     X12S11,2,20210813,       1525,    47.0004,  -158.1401,       5233,  3580.3,2,   1.5014,2,  34.6717,2,  34.6725,2,   130.65,2,  130.88,2,  164.01,2,    0.02,2,   37.49,2,    0.00,2,   2.614,2,   0.000,2,   0.000,2,   0.000,2,   0.002,2,  2349.5,2,  2420.9,2,   35.09,2, -999.00,9,    34.8557,2,     640.41,2,       0.26,       0.01,       0.09,       0.01,      0.006,     0.0107,2,    1.50135,2,      0.056,1,      0.000,2,      0.299,1,      0.164,1,      0.023,1,     99.944,     0.0022,2,      0.041,1,      0.292,1,     -999.0,9
49NZ20210713,        P01,      81,          1,         10,     X12S10,2,20210813,       1525,    47.0004,  -158.1401,       5233,  3829.9,2,   1.4892,2,  34.6767,2,  34.6775,2,   136.23,2,  136.55,2,  164.57,2,    0.02,2,   37.17,2,    0.00,2,   2.591,2,   0.000,2,   0.000,2,   0.000,2,   0.000,2,  2351.2,2,  2423.1,2,   36.64,2, -999.00,9,    34.8610,2,     640.51,2,       0.28,       0.01,       0.08,       0.01,      0.006,     -999.0,9,    1.48912,2,      0.055,1,      0.000,2,     -999.0,9,     -999.0,9,     -999.0,9,     99.956,     0.0018,2,      0.037,1,      0.289,1,     -999.0,9
49NZ20210713,        P01,      81,          1,          9,     X12S09,2,20210813,       1525,    47.0004,  -158.1401,       5233,  4079.5,2,   1.4928,2,  34.6800,2,  34.6807,2,   139.89,2,  140.18,2,  165.11,2,    0.02,2,   36.92,2,    0.00,2,   2.570,2,   0.001,2,   0.001,2,   0.001,2,   0.028,2,  2347.5,2,  2422.4,2,   36.12,2, -999.00,9,    34.8664,2,     640.51,2,       0.26,       0.01,       0.08,       0.01,      0.006,     0.0105,2,    1.49274,2,      0.055,1,      0.000,2,      0.299,1,      0.168,1,      0.021,1,     99.969,     0.0012,2,      0.037,1,      0.282,1,     -999.0,9
49NZ20210713,        P01,      81,          1,          8,     X12S08,2,20210813,       1525,    47.0004,  -158.1401,       5233,  4332.6,2,   1.5076,2,  34.6819,2,  34.6826,2,   141.88,2,  142.07,2,  166.14,2,    0.00,2,   36.82,2,    0.00,2,   2.555,2,   0.000,2,   0.000,2,   0.004,2,   0.010,2,  2347.4,6,  2424.9,2,   33.24,2, -999.00,9,    34.8669,2,     640.56,2,       0.26,       0.01,       0.08,       0.01,      0.006,     -999.0,9,    1.50754,2,      0.055,1,      0.000,2,     -999.0,9,     -999.0,9,     -999.0,9,     99.972,     0.0011,2,      0.035,1,      0.286,1,     -999.0,9
49NZ20210713,        P01,      81,          1,          7,     X12S07,2,20210813,       1525,    47.0004,  -158.1401,       5233,  4580.5,2,   1.5253,2,  34.6838,2,  34.6840,2,   143.47,2,  143.78,2,  167.54,2,    0.01,2,   36.70,2,    0.00,2,   2.552,2,   0.000,2,   0.000,2,   0.000,2,   0.020,2,  2346.1,2,  2426.8,2,   38.14,2, -999.00,9,    34.8690,2,     640.62,2,       0.26,       0.01,       0.08,       0.01,      0.006,     0.0105,2,    1.52528,2,      0.055,1,      0.000,2,      0.295,1,      0.159,1,      0.019,1,     99.967,     0.0013,2,      0.037,1,      0.280,1,     -999.0,9