BOTTLE,20231011CCHSIOENA
EXPOCODE,SECT_ID,STNNBR,CASTNO,SAMPNO,BTLNBR,BTLNBR_FLAG_W,DATE,TIME,LATITUDE,LONGITUDE,DEPTH,CTDPRS,CTDPRS_FLAG_W,CTDTMP,CTDTMP_FLAG_W,CTDSAL,CTDSAL_FLAG_W,SALNTY,SALNTY_FLAG_W,CTDOXY,CTDOXY_FLAG_W,OXYGEN,OXYGEN_FLAG_W,SILCAT,SILCAT_FLAG_W,NH4,NH4_FLAG_W,NITRAT,NITRAT_FLAG_W,NITRIT,NITRIT_FLAG_W,PHSPHT,PHSPHT_FLAG_W,CFC-11,CFC-11_FLAG_W,CFC-12,CFC-12_FLAG_W,CFC113,CFC113_FLAG_W,SF6,SF6_FLAG_W,TCARBN,TCARBN_FLAG_W,ALKALI,ALKALI_FLAG_W,DOC,DOC_FLAG_W,TDN,TDN_FLAG_W,DNSSAL,DNSSAL_FLAG_W,RIANOMALY,RIANOMALY_FLAG_W,SILUNC,NH4UNC,NRAUNC,NRIUNC,PHPUNC,FDOM,FDOM_FLAG_W,REFTMP,REFTMP_FLAG_W,CTDFLUOR,CTDFLUOR_FLAG_W,PAR,PAR_FLAG_W,CDOM300,CDOM300_FLAG_W,CDOM325,CDOM325_FLAG_W,CDOM443,CDOM443_FLAG_W,CTDXMISS,CTDBEAMCP,CTDBEAMCP_FLAG_W,CTDTURB,CTDTURB_FLAG_W,CTDCDOM,CTDCDOM_FLAG_W,CHLORA,CHLORA_FLAG_W
,,,,,,,,,,,METERS,DBAR,,ITS-90,,PSS-78,,PSS-78,,UMOL/KG,,UMOL/KG,,UMOL/KG,,UMOL/KG,,UMOL/KG,,UMOL/KG,,UMOL/KG,,PMOL/KG,,PMOL/KG,,PMOL/KG,,FMOL/KG,,UMOL/KG,,UMOL/KG,,UMOL/KG,,UMOL/KG,,G/KG,,ND,,UMOL/KG,UMOL/KG,UMOL/KG,UMOL/KG,UMOL/KG,RFU,,ITS-90,,MG/M^3,,UMOL/M^2/SEC,,/METER,,/METER,,/METER,,%TRANS,/METER,,FTU,,QSU,,UG/L,
49NZ20210713,        P01,      79,          1,         36,     X12S36,2,20210808,       1627,    46.9943,  -160.3608,       5130,    10.1,2,  13.2045,2,  32.5549,2,  32.5529,2,   270.45,2,  269.64,2,   17.29,2,    0.14,2,   11.42,2,    0.14,2,   1.061,2,   3.106,2,   1.500,2,   0.271,2,   2.977,2,  2035.8,2,  2191.3,2,   55.98,2, -999.00,9,    32.7092,2,     601.23,2,       0.06,       0.01,       0.03,       0.01,      0.004,     0.0029,2,   13.20473,2,      0.302,1,     95.086,2,      0.315,1,      0.161,1,      0.023,1,     98.536,     0.0590,2,      0.075,1,      0.167,1,       0.10,2
49NZ20210713,        P01,      79,          1,          2,     X12B34,2,20210808,       1627,    46.9943,  -160.3608,       5130,    33.8,2,   9.0474,2,  32.7361,2,  32.7554,2,   300.01,2,  299.10,2,   16.52,2,    0.28,2,   12.33,2,    0.12,2,   1.149,2,-999.000,9,-999.000,9,-999.000,9,-999.000,9,  2057.9,2,  2203.3,2,   54.11,2, -999.00,9,    32.9204,2,     605.03,2,       0.09,       0.02,       0.03,       0.01,      0.004,     0.0047,2,    9.06006,2,      1.025,1,     19.642,2,      0.370,1,      0.195,1,      0.025,1,     97.103,     0.1176,2,      0.145,1,      0.207,1,       0.25,2
49NZ20210713,        P01,      79,          1,         35,     X12S35,2,20210808,       1627,    46.9943,  -160.3608,       5130,    49.8,2,   7.7014,2,  32.8310,2,  32.8297,2,   301.84,2,  301.36,2,   17.56,2,    0.41,2,   13.12,2,    0.15,2,   1.220,2,   4.061,2,   1.875,2,   0.366,2,   3.692,2,  2067.2,2,  2208.9,2,   53.99,2, -999.00,9,    32.9883,2,     606.43,2,       0.06,       0.02,       0.04,       0.01,      0.006,     0.0051,2,    7.70646,2,      1.061,1,      8.212,2,      0.347,1,      0.181,1,      0.025,1,     97.874,     0.0859,2,      0.121,1,      0.203,1,       0.28,2
49NZ20210713,        P01,      79,          1,         34,     X12S34,3,20210808,       1627,    46.9943,  -160.3608,       5130,    99.8,2,   5.5180,2,  32.8948,2,  32.8979,2,   304.09,2,  303.94,2,   21.77,2,    0.03,2,   17.42,2,    0.02,2,   1.457,2,   4.400,2,   2.074,2,   0.366,2,   3.893,2,  2090.7,2,  2214.6,2,   56.06,2, -999.00,9,    33.0596,2,     607.73,2,       0.06,       0.01,       0.04,       0.01,      0.005,     0.0048,2,    5.51707,2,      0.169,1,      0.416,2,      0.346,1,      0.180,1,      0.028,1,     99.533,     0.0187,2,      0.096,1,      0.200,1,       0.08,2
49NZ20210713,        P01,      79,          1,         33,     X12S33,2,20210808,       1627,    46.9943,  -160.3608,       5130,   149.9,2,   6.4943,2,  33.6530,2,  33.6530,2,   251.10,2,  250.58,2,   27.93,2,    0.01,2,   19.46,2,    0.02,2,   1.451,2,   3.934,2,   1.869,2,   0.263,2,   3.233,2,  2138.7,2,  2250.6,2,   51.39,2, -999.00,9,    33.8142,2,     621.68,2,       0.07,       0.01,       0.05,       0.01,      0.005,     0.0062,2,    6.49573,2,      0.074,1,      0.000,2,      0.333,1,      0.185,1,      0.031,1,     99.756,     0.0098,2,      0.059,1,      0.227,1,       0.02,2
49NZ20210713,        P01,      79,          1,         32,     X12S32,3,20210808,       1627,    46.9943,  -160.3608,       5130,   199.6,2,   5.7073,2,  33.7428,2,  33.7428,2,   210.41,2,  210.97,2,   40.86,2,    0.00,2,   24.34,2,    0.01,2,   1.785,2,   3.696,2,   1.775,2,   0.228,2,   2.767,2,  2182.8,2,  2261.7,2,   47.88,2, -999.00,9,    33.9117,2,     623.33,2,       0.12,       0.01,       0.06,       0.01,      0.008,     0.0086,2,    5.70295,2,      0.064,1,      0.000,2,      0.416,1,      0.244,1,      0.051,1,     99.617,     0.0154,2,      0.074,1,      0.257,1,       0.01,2
49NZ20210713,        P01,      79,          1,         31,     X12S31,2,20210808,       1627,    46.9943,  -160.3608,       5130,   250.2,2,   5.4092,2,  33.8109,2,  33.8091,2,   155.42,2,  154.41,2,   55.02,2,    0.00,2,   29.78,2,    0.01,2,   2.154,2,   3.208,2,   1.736,2,   0.190,2,   2.025,2,  2225.3,2,  2274.8,2,   49.02,2, -999.00,9,    33.9760,2,     624.53,2,       0.17,       0.01,       0.07,       0.01,      0.006,     0.0104,2,    5.41138,2,      0.067,1,      0.000,2,      0.394,1,      0.230,1,      0.041,1,     99.617,     0.0154,2,      0.063,1,      0.278,1,       0.01,2
49NZ20210713,        P01,      79,          1,         30,     X12S30,2,20210808,       1627,    46.9943,  -160.3608,       5130,   299.4,2,   4.9147,2,  33.8609,2,  33.8588,2,   115.95,2,  115.05,2,   67.57,2,    0.00,2,   34.11,2,    0.01,2,   2.447,2,   2.815,2,   1.294,2,   0.155,2,   1.487,2,  2255.7,2,  2283.3,2,   44.72,2, -999.00,9,    34.0272,2,     625.53,2,       0.13,       0.01,       0.07,       0.01,      0.006,     0.0114,2,    4.91487,2,      0.068,1,      0.000,2,      0.418,1,      0.244,1,      0.048,1,     99.656,     0.0138,2,      0.075,1,      0.292,1,     -999.0,9
49NZ20210713,        P01,      79,          1,         29,     X12S29,2,20210808,       1627,    46.9943,  -160.3608,       5130,   400.1,2,   4.5100,2,  33.9507,2,  33.9551,2,    79.81,2,   78.88,2,   82.87,2,    0.01,2,   38.16,2,    0.00,2,   2.716,2,   2.243,2,   1.180,2,   0.118,2,   0.935,2,  2293.5,2,  2299.5,2,   42.49,2, -999.00,9,    34.1354,2,     627.38,2,       0.15,       0.01,       0.08,       0.01,      0.008,     0.0116,2,    4.50798,2,      0.068,1,      0.000,2,      0.421,1,      0.249,1,      0.051,1,     99.719,     0.0113,2,      0.057,1,      0.300,1,     -999.0,9
49NZ20210713,        P01,      79,          1,         28,     X12S28,2,20210808,       1627,    46.9943,  -160.3608,       5130,   499.5,2,   4.1733,2,  34.0446,2,  34.0439,2,    55.87,2,   56.09,2,   95.96,2,    0.01,2,   40.30,2,    0.00,2,   2.875,2,   1.691,2,   0.892,2,   0.093,2,   0.663,2,  2317.1,2,  2315.3,2,   41.53,2, -999.00,9,    34.2169,2,     628.83,2,       0.22,       0.01,       0.09,       0.01,      0.008,     0.0123,2,    4.16943,2,      0.069,1,      0.000,2,      0.417,1,      0.243,1,      0.047,1,     99.784,     0.0086,2,      0.051,1,      0.310,1,     -999.0,9
49NZ20210713,        P01,      79,          1,         27,     X12S27,2,20210808,       1627,    46.9943,  -160.3608,       5130,   600.0,2,   3.8576,2,  34.1321,2,  34.1326,2,    38.40,2,   38.60,2,  109.42,2,    0.00,2,   41.90,2,    0.00,2,   2.990,2,   1.162,2,   0.617,2,   0.062,2,   0.392,2,  2337.3,2,  2331.2,2,   40.36,2, -999.00,9,    34.3075,2,     630.53,2,       0.31,       0.01,       0.15,       0.01,      0.006,     0.0128,2,    3.85737,2,      0.070,1,      0.000,2,      0.406,1,      0.236,1,      0.044,1,     99.826,     0.0070,2,      0.054,1,      0.320,1,     -999.0,9
49NZ20210713,        P01,      79,          1,         26,     X12S26,2,20210808,       1627,    46.9943,  -160.3608,       5130,   699.6,2,   3.6367,2,  34.2151,2,  34.2123,2,    31.60,2,   31.84,2,  118.85,2,    0.02,2,   42.40,2,    0.00,2,   3.028,2,   0.748,2,   0.400,2,   0.037,2,   0.169,2,  2354.4,6,  2344.5,2,   43.17,2, -999.00,9,    34.3899,2,     631.98,2,       0.45,       0.01,       0.19,       0.01,      0.011,     -999.0,9,    3.63843,2,      0.069,1,      0.000,2,     -999.0,9,     -999.0,9,     -999.0,9,     99.856,     0.0058,2,      0.050,1,      0.321,1,     -999.0,9
49NZ20210713,        P01,      79,          1,         25,     X12S25,2,20210808,       1627,    46.9943,  -160.3608,       5130,   800.6,2,   3.4246,2,  34.2682,2,  34.2679,2,    27.84,2,   28.04,2,  126.86,2,    0.00,2,   42.78,2,    0.00,2,   3.042,2,   0.503,2,   0.277,2,   0.018,2,   0.128,2,  2362.4,2,  2354.7,2,   41.44,2, -999.00,9,    34.4449,2,     633.08,2,       0.21,       0.01,       0.09,       0.01,      0.006,     0.0135,2,    3.42474,2,      0.070,1,      0.000,2,      0.402,1,      0.239,1,      0.048,1,     99.821,     0.0072,2,      0.045,1,      0.325,1,     -999.0,9
49NZ20210713,        P01,      79,          1,         24,     X12S24,2,20210808,       1627,    46.9943,  -160.3608,       5130,   899.8,2,   3.2296,2,  34.3167,2,  34.3175,2,    24.26,2,   24.26,2,  133.67,2,    0.02,2,   43.28,2,    0.00,2,   3.082,2,   0.301,2,   0.166,2,   0.008,2,   0.087,2,  2371.3,2,  2363.3,2,   39.20,2, -999.00,9,    34.4972,2,     633.98,2,       0.22,       0.01,       0.09,       0.01,      0.006,     -999.0,9,    3.22990,2,      0.070,1,      0.000,2,     -999.0,9,     -999.0,9,     -999.0,9,     99.849,     0.0060,2,      0.047,1,      0.333,1,     -999.0,9
49NZ20210713,        P01,      79,          1,         23,     X12S23,2,20210808,       1627,    46.9943,  -160.3608,       5130,   999.3,2,   3.0382,2,  34.3584,2,  34.3584,2,    21.99,2,   21.85,2,  140.09,2,    0.00,2,   43.60,2,    0.00,2,   3.111,2,   0.183,2,   0.106,2,   0.004,2,   0.073,2,  2378.5,2,  2371.3,2,   38.49,2, -999.00,9,    34.5382,2,     634.68,2,       0.22,       0.01,       0.09,       0.01,      0.006,     0.0142,2,    3.03842,2,      0.070,1,      0.000,2,      0.399,1,      0.237,1,      0.046,1,     99.835,     0.0066,2,      0.051,1,      0.329,1,     -999.0,9
49NZ20210713,        P01,      79,          1,         22,     X12S22,2,20210808,       1627,    46.9943,  -160.3608,       5130,  1199.2,2,   2.7379,2,  34.4199,2,  34.4193,2,    21.27,2,   21.05,2,  150.28,2,    0.02,2,   43.94,2,    0.00,2,   3.128,2,   0.083,2,   0.049,2,   0.001,2,   0.027,2,  2388.5,2,  2384.1,6,   41.53,2, -999.00,9,    34.6001,2,     635.83,2,       0.24,       0.01,       0.09,       0.01,      0.006,     -999.0,9,    2.73861,2,      0.069,1,      0.000,2,     -999.0,9,     -999.0,9,     -999.0,9,     99.840,     0.0064,2,      0.052,1,      0.332,1,     -999.0,9
49NZ20210713,        P01,      79,          1,         21,     X12S21,2,20210808,       1627,    46.9943,  -160.3608,       5130,  1400.1,2,   2.4613,2,  34.4762,2,  34.4740,3,    21.81,2,   21.46,2,  159.60,2,    0.02,2,   44.24,2,    0.00,2,   3.133,2,   0.027,2,   0.016,2,   0.001,2,   0.017,2,  2401.4,2,  2396.7,2,   36.78,2, -999.00,9,    34.6549,2,     636.78,2,       0.25,       0.01,       0.09,       0.01,      0.006,     0.0130,2,    2.46207,2,      0.068,1,      0.000,2,      0.381,1,      0.229,1,      0.048,1,     99.851,     0.0059,2,      0.046,1,      0.335,1,     -999.0,9
49NZ20210713,        P01,      79,          1,         20,     X12S20,2,20210808,       1627,    46.9943,  -160.3608,       5130,  1600.7,2,   2.2598,2,  34.5182,2,  34.5171,2,    30.08,2,   29.25,2,  165.11,2,    0.01,2,   43.79,2,    0.00,2,   3.096,2,   0.013,2,   0.007,2,   0.000,2,   0.033,2,  2403.2,2,  2403.7,2,   39.94,2, -999.00,9,    34.7011,2,     637.63,2,       0.26,       0.01,       0.09,       0.01,      0.006,     -999.0,9,    2.25976,2,      0.066,1,      0.000,2,     -999.0,9,     -999.0,9,     -999.0,9,     99.879,     0.0048,2,      0.046,1,      0.328,1,     -999.0,9
49NZ20210713,        P01,      79,          1,         19,     X12S19,2,20210808,       1627,    46.9943,  -160.3608,       5130,  1800.7,2,   2.1039,2,  34.5512,2,  34.5507,2,    42.65,2,   42.96,2,  168.05,2,    0.01,2,   42.95,2,    0.00,2,   3.035,2,   0.008,2,   0.004,2,   0.001,2,   0.040,2,  2394.9,2,  2406.9,2,   39.45,2, -999.00,9,    34.7321,2,     638.13,2,       0.26,       0.01,       0.09,       0.01,      0.006,     0.0125,2,    2.10391,2,      0.065,1,      0.000,2,      0.372,1,      0.219,1,      0.044,1,     99.907,     0.0037,2,      0.039,1,      0.320,1,     -999.0,9
49NZ20210713,        P01,      79,          1,         18,     X12S18,2,20210808,       1627,    46.9943,  -160.3608,       5130,  2000.1,2,   1.9892,2,  34.5767,2,  34.5763,2,    50.35,2,   50.69,2,  170.89,2,    0.00,2,   42.62,2,    0.00,2,   3.005,2,   0.002,2,   0.000,2,   0.000,2,   0.006,2,  2394.3,2,  2413.7,2,   39.60,2, -999.00,9,    34.7617,2,     638.68,2,       0.27,       0.01,       0.09,       0.01,      0.006,     -999.0,9,    1.98952,2,      0.063,1,      0.000,2,     -999.0,9,     -999.0,9,     -999.0,9,     99.916,     0.0033,2,      0.039,1,      0.321,1,     -999.0,9
49NZ20210713,        P01,      79,          1,         17,     X12S17,2,20210808,       1627,    46.9943,  -160.3608,       5130,  2200.6,2,   1.8932,2,  34.5973,2,  34.5970,2,    59.56,2,   59.75,2,  172.73,2,    0.00,2,   42.13,2,    0.00,2,   2.963,2,   0.000,2,   0.000,2,   0.001,2,   0.000,2,  2389.5,2,  2415.7,2,   37.13,2, -999.00,9,    34.7813,2,     639.03,2,       0.31,       0.01,       0.09,       0.01,      0.006,     0.0123,2,    1.89323,2,      0.062,1,      0.000,2,      0.350,1,      0.204,1,      0.041,1,     99.891,     0.0044,2,      0.042,1,      0.316,1,     -999.0,9
49NZ20210713,        P01,      79,          1,         16,     X12S16,2,20210808,       1627,    46.9943,  -160.3608,       5130,  2401.4,2,   1.7927,2,  34.6167,2,  34.6153,2,    72.26,2,   71.72,2,  173.31,2,    0.00,2,   41.40,2,    0.00,2,   2.914,2,   0.000,2,   0.000,2,   0.001,2,   0.017,2,  2384.6,6,  2419.2,2,   38.06,2, -999.00,9,    34.8046,2,     639.43,2,       0.27,       0.01,       0.09,       0.01,      0.006,     -999.0,9,    1.79267,2,      0.061,1,      0.000,2,     -999.0,9,     -999.0,9,     -999.0,9,     99.898,     0.0041,2,      0.053,1,      0.310,1,     -999.0,9
49NZ20210713,        P01,      79,          1,         15,     X12S15,2,20210808,       1627,    46.9943,  -160.3608,       5130,  2600.1,2,   1.7164,2,  34.6307,2,  34.6303,2,    84.34,2,   84.14,2,  172.27,2,    0.00,2,   40.59,2,    0.00,2,   2.857,2,   0.000,2,   0.000,2,   0.000,2,   0.000,2,  2375.2,2,  2420.0,2,   36.65,2, -999.00,9,    34.8145,2,     639.73,2,       0.28,       0.01,       0.09,       0.01,      0.006,     0.0116,2,    1.71671,2,      0.060,1,      0.000,2,      0.331,1,      0.194,1,      0.037,1,     99.898,     0.0041,2,      0.039,1,      0.312,1,     -999.0,9
49NZ20210713,        P01,      79,          1,         14,     X12S14,2,20210808,       1627,    46.9943,  -160.3608,       5130,  2801.2,2,   1.6512,2,  34.6426,2,  34.6421,2,    95.93,2,   95.85,2,  170.25,2,    0.03,2,   39.73,2,    0.00,2,   2.776,2,   0.001,2,   0.000,2,   0.000,2,   0.000,2,  2369.0,2,  2421.3,2,   37.29,2, -999.00,9,    34.8256,2,     639.83,2,       0.26,       0.01,       0.08,       0.01,      0.006,     -999.0,9,    1.65134,2,      0.059,1,      0.000,2,     -999.0,9,     -999.0,9,     -999.0,9,     99.928,     0.0029,2,      0.046,1,      0.303,1,     -999.0,9
49NZ20210713,        P01,      79,          1,         13,     X12S13,2,20210808,       1627,    46.9943,  -160.3608,       5130,  3000.9,2,   1.6015,2,  34.6517,2,  34.6517,2,   106.19,2,  106.68,2,  168.72,2,    0.01,2,   38.99,2,    0.00,2,   2.732,2,   0.000,2,   0.000,2,   0.000,2,   0.000,2,  2362.0,2,  2421.7,2,   37.56,2, -999.00,9,    34.8409,2,     640.28,2,       0.26,       0.01,       0.08,       0.01,      0.006,     0.0110,2,    1.60145,2,      0.059,1,      0.000,2,      0.310,1,      0.172,1,      0.030,1,     99.914,     0.0034,2,      0.039,1,      0.300,1,     -999.0,9
49NZ20210713,        P01,      79,          1,         12,     X12S12,2,20210808,       1627,    46.9943,  -160.3608,       5130,  3250.0,2,   1.5500,2,  34.6617,2,  34.6613,2,   117.89,2,  118.15,2,  165.98,2,    0.03,2,   38.24,2,    0.00,2,   2.679,2,   0.000,2,   0.000,2,   0.000,2,   0.004,2,  2352.2,2,  2420.9,6,   35.42,2, -999.00,9,    34.8465,2,     640.28,2,       0.26,       0.01,       0.08,       0.01,      0.006,     -999.0,9,    1.54975,2,      0.057,1,      0.000,2,     -999.0,9,     -999.0,9,     -999.0,9,     99.930,     0.0028,2,      0.044,1,      0.297,1,     -999.0,9
49NZ20210713,        P01,      79,          1,         11,     X12S11,2,20210808,       1627,    46.9943,  -160.3608,       5130,  3498.8,2,   1.5084,2,  34.6699,2,  34.6704,2,   128.78,2,  129.06,2,  163.93,2,    0.02,2,   37.56,2,    0.00,2,   2.632,2,   0.000,2,   0.000,2,   0.000,2,   0.000,2,  2344.4,2,  2422.9,2,   38.48,2, -999.00,9,    34.8540,2,     640.43,2,       0.26,       0.01,       0.08,       0.01,      0.006,     0.0101,2,    1.50856,2,      0.056,1,      0.000,2,      0.314,1,      0.184,1,      0.035,1,     99.935,     0.0026,2,      0.042,1,      0.293,1,     -999.0,9
49NZ20210713,        P01,      79,          1,         10,     X12S10,2,20210808,       1627,    46.9943,  -160.3608,       5130,  3749.7,2,   1.4907,2,  34.6755,2,  34.6759,2,   135.41,2,  135.74,2,  163.11,2,    0.01,2,   37.10,2,    0.00,2,   2.593,2,   0.007,2,   0.002,2,   0.001,2,   0.015,2,  2344.3,2,  2421.3,2,   37.45,2, -999.00,9,    34.8580,2,     640.43,2,       0.25,       0.01,       0.08,       0.01,      0.006,     -999.0,9,    1.49069,2,      0.056,1,      0.000,2,     -999.0,9,     -999.0,9,     -999.0,9,     99.935,     0.0026,2,      0.038,1,      0.287,1,     -999.0,9
49NZ20210713,        P01,      79,          1,          9,     X12S09,2,20210808,       1627,    46.9943,  -160.3608,       5130,  4000.1,2,   1.4871,2,  34.6795,2,  34.6800,2,   139.79,2,  140.06,2,  163.73,2,   -0.01,2,   36.81,2,    0.00,2,   2.574,2,   0.001,2,   0.000,2,   0.000,2,   0.000,2,  2340.5,2,  2423.1,2,   36.76,2, -999.00,9,    34.8676,2,     640.53,2,       0.26,       0.01,       0.08,       0.01,      0.006,     0.0098,2,    1.48698,2,      0.056,1,      0.000,2,      0.293,1,      0.167,1,      0.027,1,     99.935,     0.0026,2,      0.037,1,      0.285,1,     -999.0,9
49NZ20210713,        P01,      79,          1,          8,     X12S08,2,20210808,       1627,    46.9943,  -160.3608,       5130,  4249.6,2,   1.4965,2,  34.6822,2,  34.6822,2,   142.53,2,  142.63,2,  164.82,2,    0.01,2,   36.68,2,    0.00,2,   2.559,2,   0.001,2,   0.000,2,   0.000,2,   0.016,2,  2339.9,6,  2423.4,2,   39.56,2, -999.00,9,    34.8692,2,     640.58,2,       0.50,       0.01,       0.08,       0.01,      0.006,     -999.0,9,    1.49657,2,      0.055,1,      0.000,2,     -999.0,9,     -999.0,9,     -999.0,9,     99.947,     0.0021,2,      0.037,1,      0.280,1,     -999.0,9
49NZ20210713,        P01,      79,          1,          7,     X12S07,2,20210808,       1627,    46.9943,  -160.3608,       5130,  4501.4,2,   1.5127,2,  34.6841,2,  34.6843,2,   144.33,2,  144.58,2,  166.34,2,    0.02,2,   36.58,2,    0.00,2,   2.550,2,   0.000,2,   0.000,2,   0.000,2,   0.013,2,  2337.7,2,  2426.2,2,   36.21,2, -999.00,9,    34.8705,2,     640.63,2,       0.26,       0.01,       0.08,       0.01,      0.006,     0.0102,2,    1.51280,2,      0.055,1,      0.000,2,      0.296,1,      0.164,1,      0.023,1,     99.956,     0.0018,2,      0.035,1,      0.289,1,     -999.0,9