BOTTLE,20231011CCHSIOENA
EXPOCODE,SECT_ID,STNNBR,CASTNO,SAMPNO,BTLNBR,BTLNBR_FLAG_W,DATE,TIME,LATITUDE,LONGITUDE,DEPTH,CTDPRS,CTDPRS_FLAG_W,CTDTMP,CTDTMP_FLAG_W,CTDSAL,CTDSAL_FLAG_W,SALNTY,SALNTY_FLAG_W,CTDOXY,CTDOXY_FLAG_W,OXYGEN,OXYGEN_FLAG_W,SILCAT,SILCAT_FLAG_W,NH4,NH4_FLAG_W,NITRAT,NITRAT_FLAG_W,NITRIT,NITRIT_FLAG_W,PHSPHT,PHSPHT_FLAG_W,CFC-11,CFC-11_FLAG_W,CFC-12,CFC-12_FLAG_W,CFC113,CFC113_FLAG_W,SF6,SF6_FLAG_W,TCARBN,TCARBN_FLAG_W,ALKALI,ALKALI_FLAG_W,DOC,DOC_FLAG_W,TDN,TDN_FLAG_W,DNSSAL,DNSSAL_FLAG_W,RIANOMALY,RIANOMALY_FLAG_W,SILUNC,NH4UNC,NRAUNC,NRIUNC,PHPUNC,FDOM,FDOM_FLAG_W,REFTMP,REFTMP_FLAG_W,CTDFLUOR,CTDFLUOR_FLAG_W,PAR,PAR_FLAG_W,CDOM300,CDOM300_FLAG_W,CDOM325,CDOM325_FLAG_W,CDOM443,CDOM443_FLAG_W,CTDXMISS,CTDBEAMCP,CTDBEAMCP_FLAG_W,CTDTURB,CTDTURB_FLAG_W,CTDCDOM,CTDCDOM_FLAG_W,CHLORA,CHLORA_FLAG_W
,,,,,,,,,,,METERS,DBAR,,ITS-90,,PSS-78,,PSS-78,,UMOL/KG,,UMOL/KG,,UMOL/KG,,UMOL/KG,,UMOL/KG,,UMOL/KG,,UMOL/KG,,PMOL/KG,,PMOL/KG,,PMOL/KG,,FMOL/KG,,UMOL/KG,,UMOL/KG,,UMOL/KG,,UMOL/KG,,G/KG,,ND,,UMOL/KG,UMOL/KG,UMOL/KG,UMOL/KG,UMOL/KG,RFU,,ITS-90,,MG/M^3,,UMOL/M^2/SEC,,/METER,,/METER,,/METER,,%TRANS,/METER,,FTU,,QSU,,UG/L,
49NZ20210713,        P01,       3,          1,         18,     X12S18,2,20210715,       1419,    42.8545,   145.5430,        973,     9.5,2,  14.8662,2,  32.9582,2,  32.9748,2,   279.35,2,  280.53,2,    0.67,2,    0.23,2,    1.09,2,    0.05,2,   0.214,2,   3.069,2,   1.511,2,   0.255,2,   2.807,2,  1981.1,2,  2223.0,2,   60.20,2, -999.00,9,    33.1313,2,     609.12,2,       0.04,       0.02,       0.01,       0.01,      0.006,     0.0071,2,   14.87875,2,      2.236,1,      0.000,2,      0.584,1,      0.348,1,      0.048,1,     93.897,     0.2519,2,      0.273,1,      0.450,1,       0.65,2
49NZ20210713,        P01,       3,          1,          2,     X12B34,2,20210715,       1419,    42.8545,   145.5430,        973,    14.5,2,  14.4970,2,  33.1479,2,  33.1990,2,   283.70,2,  283.67,2,    1.84,2,    0.26,2,    2.04,2,    0.10,2,   0.290,2,-999.000,9,-999.000,9,-999.000,9,-999.000,9,  2005.6,2,  2232.8,2,   62.01,2, -999.00,9,    33.3576,2,     613.33,2,       0.04,       0.02,       0.02,       0.01,      0.003,     0.0080,2,   14.50476,2,      2.305,1,      0.000,2,      0.533,1,      0.309,1,      0.030,1,     93.474,     0.2700,2,      0.322,1,      0.473,1,       0.72,2
49NZ20210713,        P01,       3,          1,         35,     X12S35,2,20210715,       1419,    42.8545,   145.5430,        973,    49.5,2,   9.9128,2,  34.0605,2,  34.0534,2,   232.66,2,  232.71,2,   17.24,2,    0.02,2,   12.45,2,    0.05,2,   0.933,2,   3.303,2,   1.600,2,   0.203,2,   2.825,2,  2108.5,2,  2269.0,2,   51.38,2, -999.00,9,    34.2157,2,     628.98,2,       0.06,       0.01,       0.04,       0.01,      0.004,     0.0068,2,    9.90791,2,      0.193,1,      0.000,2,      0.356,1,      0.202,1,      0.029,1,     99.346,     0.0263,2,      0.151,1,      0.468,1,       0.12,2
49NZ20210713,        P01,       3,          1,         34,     X12S34,2,20210715,       1419,    42.8545,   145.5430,        973,   100.1,2,   8.7951,2,  34.0402,2,  34.0299,2,   245.72,2,  245.96,2,   22.30,2,    0.03,2,   14.52,2,    0.10,2,   1.076,2,   3.448,2,   1.698,2,   0.196,2,   3.064,2,  2120.3,2,  2268.6,2,   51.69,2, -999.00,9,    34.1926,2,     628.62,2,       0.07,       0.01,       0.04,       0.01,      0.004,     0.0061,2,    8.80935,2,      0.077,1,      0.000,2,      0.332,1,      0.181,1,      0.029,1,     99.652,     0.0140,2,      0.100,1,      0.441,1,       0.03,2
49NZ20210713,        P01,       3,          1,         33,     X12S33,2,20210715,       1419,    42.8545,   145.5430,        973,   149.6,2,   3.3664,2,  33.3765,2,  33.3709,2,   267.35,2,  268.78,2,   42.79,2,    0.09,2,   23.64,2,    0.13,2,   1.854,2,   4.704,2,   2.193,2,   0.361,2,   3.766,2,  2165.9,2,  2252.0,2,   49.76,2, -999.00,9,    33.5331,2,     616.48,2,       0.09,       0.01,       0.06,       0.01,      0.005,     0.0079,2,    3.36543,2,      0.096,1,      0.000,2,      0.447,1,      0.243,1,      0.034,1,     99.188,     0.0326,2,      0.109,1,      0.517,1,       0.07,2
49NZ20210713,        P01,       3,          1,         32,     X12S32,2,20210715,       1419,    42.8545,   145.5430,        973,   199.3,2,   2.1539,2,  33.3531,2,  33.3504,2,   255.32,2,  255.51,2,   54.96,2,    0.02,2,   27.45,2,    0.02,2,   2.118,2,   4.707,2,   2.200,2,   0.360,2,   3.785,2,  2194.7,2,  2258.3,2,   54.10,2, -999.00,9,    33.5146,2,     616.12,2,       0.11,       0.01,       0.06,       0.01,      0.005,     0.0085,2,    2.15170,2,      0.083,1,      0.000,2,      0.466,1,      0.259,1,      0.040,1,     99.202,     0.0321,2,      0.116,1,      0.540,1,       0.06,2
49NZ20210713,        P01,       3,          1,         31,     X12S31,2,20210715,       1419,    42.8545,   145.5430,        973,   249.9,2,   1.7704,2,  33.3747,2,  33.3741,2,   232.42,2,  232.95,2,   64.01,2,    0.01,2,   30.17,2,    0.02,2,   2.311,2,   4.514,2,   2.066,2,   0.351,2,   4.357,2,  2214.4,2,  2264.5,2,   47.86,2, -999.00,9,    33.5381,2,     616.62,2,       0.15,       0.01,       0.07,       0.01,      0.006,     0.0089,2,    1.77087,2,      0.080,1,      0.000,2,      0.479,1,      0.272,1,      0.047,1,     99.234,     0.0308,2,      0.125,1,      0.565,1,       0.07,2
49NZ20210713,        P01,       3,          1,         30,     X12S30,2,20210715,       1419,    42.8545,   145.5430,        973,   279.0,2,   1.8682,2,  33.4192,2,  33.4191,2,   212.72,2,  212.94,2,   69.19,2,    0.03,2,   31.76,2,    0.03,2,   2.414,2,   4.319,2,   1.973,2,   0.343,2,   4.368,2,  2230.1,2,  2265.4,2,   43.95,2, -999.00,9,    33.5836,2,     617.42,2,       0.13,       0.01,       0.07,       0.01,      0.006,     0.0097,2,    1.86829,2,      0.080,1,      0.000,2,      0.521,1,      0.311,1,      0.065,1,     99.318,     0.0274,2,      0.123,1,      0.584,1,     -999.0,9
49NZ20210713,        P01,       3,          1,         29,     X12S29,2,20210715,       1419,    42.8545,   145.5430,        973,   371.3,2,   2.3769,2,  33.5854,2,  33.5840,2,   160.63,2,  160.25,2,   81.13,2,    0.03,2,   34.83,2,    0.01,2,   2.610,2,   3.602,2,   1.642,2,   0.269,2,   2.484,2,  2261.9,2,  2279.7,2,   46.30,2, -999.00,9,    33.7503,2,     620.38,2,       0.14,       0.01,       0.08,       0.01,      0.006,     0.0108,2,    2.37830,2,      0.075,1,      0.000,2,      0.482,1,      0.282,1,      0.052,1,     99.608,     0.0157,2,      0.294,1,      0.623,1,     -999.0,9
49NZ20210713,        P01,       3,          1,         28,     X12S28,2,20210715,       1419,    42.8545,   145.5430,        973,   470.6,2,   2.7830,2,  33.7799,2,  33.7794,2,   107.04,2,  106.11,2,   95.90,2,    0.02,2,   38.39,2,    0.01,2,   2.815,2,   2.761,2,   1.536,2,   0.205,2,   3.555,2,  2296.2,2,  2298.0,2,   41.71,2, -999.00,9,    33.9492,2,     624.02,2,       0.16,       0.01,       0.08,       0.01,      0.006,     0.0119,2,    2.78319,2,      0.076,1,      0.000,2,      0.472,1,      0.284,1,      0.054,1,     99.713,     0.0115,2,      0.080,1,      0.659,1,     -999.0,9
49NZ20210713,        P01,       3,          1,         27,     X12S27,2,20210715,       1419,    42.8545,   145.5430,        973,   570.3,2,   3.2119,2,  33.9608,2,  33.9620,2,    56.31,2,   56.10,2,  108.89,2,    0.02,2,   41.79,2,    0.01,2,   3.012,2,   1.910,2,   1.032,2,   0.131,2,   1.865,2,  2329.6,2,  2316.9,2,   41.66,2, -999.00,9,    34.1339,2,     627.42,2,       0.18,       0.01,       0.09,       0.01,      0.006,     0.0127,2,    3.21213,2,      0.077,1,      0.000,2,      0.455,1,      0.273,1,      0.056,1,     99.768,     0.0093,2,      0.078,1,      0.691,1,     -999.0,9
49NZ20210713,        P01,       3,          1,         26,     X12S26,2,20210715,       1419,    42.8545,   145.5430,        973,   670.5,2,   3.3165,2,  34.1025,2,  34.1023,2,    36.40,2,   36.80,2,  119.48,2,    0.03,2,   42.72,2,    0.00,2,   3.060,2,   1.272,2,   0.668,2,   0.081,2,   0.619,2,  2346.9,6,  2332.2,2,   38.66,2, -999.00,9,    34.2767,2,     630.02,2,       0.20,       0.01,       0.09,       0.01,      0.006,     -999.0,9,    3.31562,2,      0.076,1,      0.000,2,     -999.0,9,     -999.0,9,     -999.0,9,     99.816,     0.0074,2,      0.075,1,      0.690,1,     -999.0,9
49NZ20210713,        P01,       3,          1,         25,     X12S25,2,20210715,       1419,    42.8545,   145.5430,        973,   769.5,2,   3.2210,2,  34.2140,2,  34.2133,2,    28.01,2,   28.31,2,  130.07,2,    0.02,2,   43.13,2,    0.00,2,   3.089,2,   0.787,2,   0.426,2,   0.047,2,   0.311,2,  2362.6,2,  2349.0,2,   41.86,2, -999.00,9,    34.3891,2,     632.02,2,       0.21,       0.01,       0.09,       0.01,      0.006,     0.0132,2,    3.22143,2,      0.076,1,      0.000,2,      0.405,1,      0.242,1,      0.050,1,     99.889,     0.0044,2,      0.073,1,      0.704,1,     -999.0,9
49NZ20210713,        P01,       3,          1,         24,     X12S24,2,20210715,       1419,    42.8545,   145.5430,        973,   871.4,2,   3.0343,2,  34.2930,2,  34.2922,2,    27.20,2,   27.48,2,  139.23,2,    0.02,2,   43.18,2,    0.01,2,   3.107,2,   0.516,2,   0.298,2,   0.028,2,   0.200,2,  2368.6,2,  2360.9,2,   37.09,2, -999.00,9,    34.4698,2,     633.48,2,       0.22,       0.01,       0.09,       0.01,      0.006,     -999.0,9,    3.03454,2,      0.076,1,      0.000,2,     -999.0,9,     -999.0,9,     -999.0,9,     99.777,     0.0089,2,      0.078,1,      0.693,1,     -999.0,9
49NZ20210713,        P01,       3,          1,          1,     X12S01,2,20210715,       1419,    42.8545,   145.5430,        973,   989.6,2,   2.8905,2,  34.3443,2,  34.3427,2,    28.95,2,   28.98,2,  145.03,2,    0.04,2,   43.14,2,    0.01,2,   3.105,2,   0.378,2,   0.221,2,   0.023,2,   0.205,2,  2368.8,2,  2368.5,2,   38.40,2, -999.00,9,    34.5223,2,     634.38,2,       0.23,       0.01,       0.09,       0.01,      0.006,     0.0132,2,    2.88981,2,      0.076,1,      0.000,2,      0.368,1,      0.212,1,      0.037,1,     99.464,     0.0215,2,      0.099,1,      0.689,1,     -999.0,9