BOTTLE,20231011CCHSIOENA
EXPOCODE,SECT_ID,STNNBR,CASTNO,SAMPNO,BTLNBR,BTLNBR_FLAG_W,DATE,TIME,LATITUDE,LONGITUDE,DEPTH,CTDPRS,CTDPRS_FLAG_W,CTDTMP,CTDTMP_FLAG_W,CTDSAL,CTDSAL_FLAG_W,SALNTY,SALNTY_FLAG_W,CTDOXY,CTDOXY_FLAG_W,OXYGEN,OXYGEN_FLAG_W,SILCAT,SILCAT_FLAG_W,NH4,NH4_FLAG_W,NITRAT,NITRAT_FLAG_W,NITRIT,NITRIT_FLAG_W,PHSPHT,PHSPHT_FLAG_W,CFC-11,CFC-11_FLAG_W,CFC-12,CFC-12_FLAG_W,CFC113,CFC113_FLAG_W,SF6,SF6_FLAG_W,TCARBN,TCARBN_FLAG_W,ALKALI,ALKALI_FLAG_W,DOC,DOC_FLAG_W,TDN,TDN_FLAG_W,DNSSAL,DNSSAL_FLAG_W,RIANOMALY,RIANOMALY_FLAG_W,SILUNC,NH4UNC,NRAUNC,NRIUNC,PHPUNC,FDOM,FDOM_FLAG_W,REFTMP,REFTMP_FLAG_W,CTDFLUOR,CTDFLUOR_FLAG_W,PAR,PAR_FLAG_W,CDOM300,CDOM300_FLAG_W,CDOM325,CDOM325_FLAG_W,CDOM443,CDOM443_FLAG_W,CTDXMISS,CTDBEAMCP,CTDBEAMCP_FLAG_W,CTDTURB,CTDTURB_FLAG_W,CTDCDOM,CTDCDOM_FLAG_W,CHLORA,CHLORA_FLAG_W
,,,,,,,,,,,METERS,DBAR,,ITS-90,,PSS-78,,PSS-78,,UMOL/KG,,UMOL/KG,,UMOL/KG,,UMOL/KG,,UMOL/KG,,UMOL/KG,,UMOL/KG,,PMOL/KG,,PMOL/KG,,PMOL/KG,,FMOL/KG,,UMOL/KG,,UMOL/KG,,UMOL/KG,,UMOL/KG,,G/KG,,ND,,UMOL/KG,UMOL/KG,UMOL/KG,UMOL/KG,UMOL/KG,RFU,,ITS-90,,MG/M^3,,UMOL/M^2/SEC,,/METER,,/METER,,/METER,,%TRANS,/METER,,FTU,,QSU,,UG/L,
49NZ20210713,        P01,      72,          1,         36,     X12S36,2,20210806,       1041,    46.9976,  -168.2029,       5394,    10.2,2,  13.2235,2,  32.8101,2,  32.8059,2,   283.94,2,  281.98,2,   15.31,2,    0.08,2,   12.79,2,    0.20,2,   1.184,2,   3.107,2,   1.521,2,   0.486,2,   3.008,2,  2037.1,2,  2218.3,2,   57.00,2, -999.00,9,    32.9631,2,     606.08,2,       0.06,       0.01,       0.04,       0.01,      0.011,     0.0031,2,   13.22615,2,      2.004,1,      0.016,2,      0.364,1,      0.192,1,      0.026,1,     92.488,     0.3124,2,      0.292,1,      0.175,1,       0.63,2
49NZ20210713,        P01,      72,          1,          2,     X12B34,2,20210806,       1041,    46.9976,  -168.2029,       5394,    13.3,2,  13.0082,2,  32.8127,2,  32.8099,2,   286.41,2,  287.03,2,   15.07,2,    0.07,2,   12.72,2,    0.20,2,   1.187,2,-999.000,9,-999.000,9,-999.000,9,-999.000,9,  2037.3,2,  2215.8,2,   54.17,2, -999.00,9,    32.9692,2,     606.13,2,       0.06,       0.01,       0.04,       0.01,      0.006,     0.0034,2,   13.02785,2,      2.095,1,      0.000,2,      0.375,1,      0.197,1,      0.028,1,     92.337,     0.3189,2,      0.276,1,      0.179,1,       0.61,2
49NZ20210713,        P01,      72,          1,         35,     X12S35,2,20210806,       1041,    46.9976,  -168.2029,       5394,    50.4,2,   7.4739,2,  32.9270,2,  32.9316,2,   302.51,2,  302.12,2,   19.38,2,    0.77,2,   15.34,2,    0.27,2,   1.434,2,   3.981,2,   1.899,2,   0.613,3,   3.609,2,  2081.2,2,  2226.1,2,   52.63,2, -999.00,9,    33.0912,2,     608.43,2,       0.06,       0.02,       0.04,       0.01,      0.010,     0.0049,2,    7.47769,2,      1.085,1,      0.000,2,      0.395,1,      0.213,1,      0.029,1,     97.900,     0.0849,2,      0.108,1,      0.210,1,       0.39,2
49NZ20210713,        P01,      72,          1,         34,     X12S34,2,20210806,       1041,    46.9976,  -168.2029,       5394,   100.0,2,   4.9669,2,  33.0575,2,  33.0595,2,   306.33,2,  306.77,2,   26.60,2,    0.04,2,   19.60,2,    0.02,2,   1.589,2,   4.367,2,   2.081,2,   0.866,3,   3.822,2,  2104.5,2,  2224.5,2,   48.35,2, -999.00,9,    33.2197,2,     610.93,2,       0.10,       0.01,       0.05,       0.01,      0.010,     0.0047,2,    4.96669,2,      0.234,1,      0.000,2,      0.358,1,      0.179,1,      0.029,1,     99.297,     0.0282,2,      0.073,1,      0.208,1,       0.13,2
49NZ20210713,        P01,      72,          1,         33,     X12S33,2,20210806,       1041,    46.9976,  -168.2029,       5394,   150.1,2,   4.4853,2,  33.1921,2,  33.2143,2,   291.33,2,  289.99,2,   32.62,2,    0.04,2,   21.74,2,    0.01,2,   1.705,2,   4.307,2,   2.063,2,   0.664,3,   3.697,2,  2129.6,2,  2234.0,2,   50.01,2, -999.00,9,    33.3754,2,     613.74,2,       0.08,       0.01,       0.05,       0.01,      0.005,     0.0055,2,    4.48371,2,      0.075,1,      0.000,2,      0.370,1,      0.195,1,      0.031,1,     99.499,     0.0201,2,      0.097,1,      0.218,1,       0.03,2
49NZ20210713,        P01,      72,          1,         32,     X12S32,2,20210806,       1041,    46.9976,  -168.2029,       5394,   199.5,2,   4.8251,2,  33.6398,2,  33.6402,2,   211.01,2,  211.21,2,   46.34,2,    0.03,2,   26.35,2,    0.01,2,   1.953,2,   3.737,2,   1.776,2,   0.451,2,   2.805,2,  2188.6,2,  2260.5,2,   47.67,2, -999.00,9,    33.8056,2,     621.63,2,       0.10,       0.01,       0.06,       0.01,      0.005,     0.0082,2,    4.82854,2,      0.073,1,      0.000,2,      0.426,1,      0.249,1,      0.052,1,     99.395,     0.0243,2,      0.074,1,      0.270,1,       0.02,2
49NZ20210713,        P01,      72,          1,         31,     X12S31,2,20210806,       1041,    46.9976,  -168.2029,       5394,   250.3,2,   4.3719,2,  33.7178,2,  33.7191,2,   151.49,2,  150.31,2,   62.67,2,    0.03,2,   32.35,2,    0.01,2,   2.353,2,   3.305,2,   1.567,2,   0.269,2,   2.141,2,  2234.2,2,  2273.8,2,   46.47,2, -999.00,9,    33.8867,2,     623.08,2,       0.12,       0.01,       0.07,       0.01,      0.006,     0.0105,2,    4.37194,2,      0.067,1,      0.000,2,      0.404,1,      0.228,1,      0.034,1,     99.492,     0.0204,2,      0.067,1,      0.298,1,       0.01,2
49NZ20210713,        P01,      72,          1,         30,     X12S30,2,20210806,       1041,    46.9976,  -168.2029,       5394,   300.7,2,   4.2314,2,  33.8040,2,  33.8054,2,   108.77,2,  108.03,2,   74.71,2,    0.02,2,   36.26,2,    0.01,2,   2.611,2,   2.853,2,   1.537,2,   0.202,2,   1.603,2,  2271.1,2,  2282.2,2,   43.60,2, -999.00,9,    33.9750,2,     624.68,2,       0.14,       0.01,       0.08,       0.01,      0.006,     0.0107,2,    4.23153,2,      0.068,1,      0.000,2,      0.442,1,      0.261,1,      0.049,1,     99.557,     0.0178,2,      0.060,1,      0.313,1,     -999.0,9
49NZ20210713,        P01,      72,          1,         29,     X12S29,2,20210806,       1041,    46.9976,  -168.2029,       5394,   400.5,2,   4.0315,2,  33.9576,2,  33.9582,2,    59.95,2,   60.37,2,   93.10,2,    0.01,2,   40.58,2,    0.00,2,   2.896,2,   2.039,2,   1.091,2,   0.160,2,   0.949,2,  2309.8,2,  2302.4,2,   41.73,2, -999.00,9,    34.1284,2,     627.49,2,       0.16,       0.01,       0.09,       0.01,      0.006,     0.0118,2,    4.03137,2,      0.070,1,      0.000,2,      0.404,1,      0.233,1,      0.043,1,     99.747,     0.0101,2,      0.049,1,      0.327,1,     -999.0,9
49NZ20210713,        P01,      72,          1,         28,     X12S28,2,20210806,       1041,    46.9976,  -168.2029,       5394,   499.7,2,   3.8752,2,  34.0788,2,  34.0787,2,    39.40,2,   39.86,2,  105.89,2,    0.02,2,   42.12,2,    0.00,2,   2.997,2,   1.395,2,   0.739,2,   0.190,2,   0.495,2,  2333.5,2,  2322.9,2,   40.31,2, -999.00,9,    34.2540,2,     629.74,2,       0.18,       0.01,       0.09,       0.01,      0.006,     0.0126,2,    3.87512,2,      0.070,1,      0.000,2,      0.397,1,      0.232,1,      0.043,1,     99.826,     0.0070,2,      0.043,1,      0.332,1,     -999.0,9
49NZ20210713,        P01,      72,          1,         27,     X12S27,2,20210806,       1041,    46.9976,  -168.2029,       5394,   600.0,2,   3.7219,2,  34.1667,2,  34.1669,2,    33.51,2,   34.04,2,  114.80,2,    0.03,2,   42.44,2,    0.00,2,   3.024,2,   0.941,2,   0.514,2,   0.143,2,   0.345,2,  2343.2,2,  2334.2,2,   40.69,2, -999.00,9,    34.3410,2,     631.33,2,       0.19,       0.01,       0.09,       0.01,      0.006,     0.0125,2,    3.72169,2,      0.070,1,      0.000,2,      0.379,1,      0.220,1,      0.038,1,     99.833,     0.0067,2,      0.045,1,      0.333,1,     -999.0,9
49NZ20210713,        P01,      72,          1,         26,     X12S26,2,20210806,       1041,    46.9976,  -168.2029,       5394,   699.8,2,   3.4846,2,  34.2379,2,  34.2379,2,    28.66,2,   28.92,2,  124.36,2,    0.03,2,   42.98,2,    0.00,2,   3.059,2,   0.615,2,   0.346,2,   0.106,2,   0.168,2,  2352.9,6,  2347.0,2,   37.47,2, -999.00,9,    34.4143,2,     632.68,2,       0.21,       0.01,       0.09,       0.01,      0.006,     -999.0,9,    3.48465,2,      0.070,1,      0.000,2,     -999.0,9,     -999.0,9,     -999.0,9,     99.863,     0.0055,2,      0.042,1,      0.341,1,     -999.0,9
49NZ20210713,        P01,      72,          1,         25,     X12S25,2,20210806,       1041,    46.9976,  -168.2029,       5394,   799.7,2,   3.2990,2,  34.2875,2,  34.2873,2,    27.19,2,   27.48,2,  130.69,2,    0.04,2,   43.12,2,    0.00,2,   3.053,2,   0.431,2,   0.251,2,   0.085,2,   0.124,2,  2363.9,2,  2353.7,2,   38.73,2, -999.00,9,    34.4650,2,     633.53,2,       0.21,       0.01,       0.09,       0.01,      0.006,     0.0126,2,    3.29901,2,      0.069,1,      0.000,2,      0.391,1,      0.231,1,      0.043,1,     99.826,     0.0070,2,      0.042,1,      0.340,1,     -999.0,9
49NZ20210713,        P01,      72,          1,         24,     X12S24,2,20210806,       1041,    46.9976,  -168.2029,       5394,   899.1,2,   3.1067,2,  34.3255,2,  34.3257,2,    25.60,2,   25.86,2,  137.40,2,    0.05,2,   43.37,2,    0.00,2,   3.083,2,   0.324,2,   0.197,2,   0.052,2,   0.110,2,  2370.6,2,  2364.9,2,   38.69,2, -999.00,9,    34.5032,2,     634.28,2,       0.23,       0.01,       0.09,       0.01,      0.006,     -999.0,9,    3.10750,2,      0.070,1,      0.000,2,     -999.0,9,     -999.0,9,     -999.0,9,     99.866,     0.0054,2,      0.045,1,      0.338,1,     -999.0,9
49NZ20210713,        P01,      72,          1,         23,     X12S23,2,20210806,       1041,    46.9976,  -168.2029,       5394,   998.7,2,   2.9433,2,  34.3710,2,  34.3708,2,    26.23,2,   26.45,2,  142.90,2,    0.05,2,   43.46,2,    0.00,2,   3.089,2,   0.205,2,   0.113,2,   0.023,2,   0.097,2,  2374.0,2,  2372.5,2,   39.13,2, -999.00,9,    34.5488,2,     635.03,2,       0.53,       0.01,       0.09,       0.01,      0.006,     0.0126,2,    2.94412,2,      0.070,1,      0.000,2,      0.389,1,      0.233,1,      0.047,1,     99.859,     0.0057,2,      0.040,1,      0.344,1,     -999.0,9
49NZ20210713,        P01,      72,          1,         22,     X12S22,2,20210806,       1041,    46.9976,  -168.2029,       5394,  1200.4,2,   2.6390,2,  34.4359,2,  34.4355,2,    27.13,2,   27.23,2,  152.43,2,    0.03,2,   43.66,2,    0.00,2,   3.100,2,   0.097,2,   0.061,2,   0.000,2,   0.070,2,  2386.4,2,  2383.3,6,   35.61,2, -999.00,9,    34.6143,2,     636.24,2,       0.24,       0.01,       0.09,       0.01,      0.006,     -999.0,9,    2.63903,2,      0.069,1,      0.000,2,     -999.0,9,     -999.0,9,     -999.0,9,     99.868,     0.0053,2,      0.040,1,      0.337,1,     -999.0,9
49NZ20210713,        P01,      72,          1,         21,     X12S21,2,20210806,       1041,    46.9976,  -168.2029,       5394,  1400.4,2,   2.4239,2,  34.4792,2,  34.4788,2,    31.17,2,   31.13,2,  159.46,2,    0.03,2,   43.44,2,    0.01,2,   3.093,2,   0.056,2,   0.036,2,   0.000,2,   0.065,2,  2388.1,2,  2392.1,2,   37.19,2, -999.00,9,    34.6596,2,     637.03,2,       0.25,       0.01,       0.09,       0.01,      0.006,     0.0125,2,    2.42393,2,      0.067,1,      0.000,2,      0.376,1,      0.223,1,      0.041,1,     99.891,     0.0044,2,      0.039,1,      0.342,1,     -999.0,9
49NZ20210713,        P01,      72,          1,         20,     X12S20,2,20210806,       1041,    46.9976,  -168.2029,       5394,  1599.9,2,   2.2413,2,  34.5192,2,  34.5189,2,    38.01,2,   37.81,2,  164.24,2,    0.04,2,   43.25,2,    0.00,2,   3.062,2,   0.027,2,   0.017,2,   0.000,2,   0.026,2,  2390.3,2,  2400.8,2,   35.50,2, -999.00,9,    34.7003,2,     637.78,2,       0.26,       0.01,       0.09,       0.01,      0.011,     -999.0,9,    2.24124,2,      0.066,1,      0.000,2,     -999.0,9,     -999.0,9,     -999.0,9,     99.882,     0.0047,2,      0.047,1,      0.333,1,     -999.0,9
49NZ20210713,        P01,      72,          1,         19,     X12S19,2,20210806,       1041,    46.9976,  -168.2029,       5394,  1798.4,2,   2.0868,2,  34.5538,2,  34.5532,2,    47.87,2,   47.96,2,  167.46,2,    0.05,2,   42.67,2,    0.00,2,   3.014,2,   0.014,2,   0.009,2,   0.000,2,   0.037,2,  2389.7,2,  2404.7,2,   38.05,2, -999.00,9,    34.7352,2,     638.43,2,       0.26,       0.01,       0.09,       0.01,      0.006,     0.0126,3,    2.08684,2,      0.064,1,      0.000,2,      0.364,1,      0.214,1,      0.033,1,     99.894,     0.0043,2,      0.040,1,      0.326,1,     -999.0,9
49NZ20210713,        P01,      72,          1,         18,     X12S18,2,20210806,       1041,    46.9976,  -168.2029,       5394,  1999.7,2,   1.9626,2,  34.5803,2,  34.5799,2,    59.25,2,   59.00,2,  168.78,2,    0.04,2,   42.04,2,    0.00,2,   2.968,2,   0.005,2,   0.002,2,   0.000,2,   0.004,2,  2383.6,2,  2407.5,2,   36.77,2, -999.00,9,    34.7624,2,     638.93,2,       0.26,       0.01,       0.09,       0.01,      0.006,     -999.0,9,    1.96282,2,      0.063,1,      0.000,2,     -999.0,9,     -999.0,9,     -999.0,9,     99.905,     0.0038,2,      0.038,1,      0.327,1,     -999.0,9
49NZ20210713,        P01,      72,          1,         17,     X12S17,2,20210806,       1041,    46.9976,  -168.2029,       5394,  2199.0,2,   1.8643,2,  34.6006,2,  34.6003,2,    69.62,2,   69.42,2,  169.79,2,    0.04,2,   41.40,2,    0.00,2,   2.919,2,   0.001,2,   0.001,2,   0.000,2,   0.000,2,  2379.6,2,  2410.3,2,   37.04,2, -999.00,9,    34.7809,2,     639.28,2,       0.26,       0.01,       0.09,       0.01,      0.006,     0.0116,2,    1.86434,2,      0.062,1,      0.000,2,      0.363,1,      0.217,1,      0.043,1,     99.907,     0.0037,2,      0.039,1,      0.320,1,     -999.0,9
49NZ20210713,        P01,      72,          1,         16,     X12S16,2,20210806,       1041,    46.9976,  -168.2029,       5394,  2400.7,2,   1.7710,2,  34.6186,2,  34.6187,2,    81.06,2,   80.81,2,  169.76,2,    0.02,2,   40.66,2,    0.00,2,   2.868,2,   0.000,2,   0.000,2,   0.000,2,   0.000,2,  2372.6,6,  2412.0,2,   36.38,2, -999.00,9,    34.8009,2,     639.58,2,       0.26,       0.01,       0.09,       0.01,      0.006,     -999.0,9,    1.77110,2,      0.061,1,      0.000,2,     -999.0,9,     -999.0,9,     -999.0,9,     99.912,     0.0035,2,      0.038,1,      0.315,1,     -999.0,9
49NZ20210713,        P01,      72,          1,         15,     X12S15,2,20210806,       1041,    46.9976,  -168.2029,       5394,  2600.1,2,   1.6949,2,  34.6331,2,  34.6329,2,    92.39,2,   92.43,2,  169.23,2,    0.01,2,   40.02,2,    0.00,2,   2.817,2,   0.000,2,   0.000,2,   0.000,2,   0.000,2,  2365.5,2,  2415.1,2,   35.56,2, -999.00,9,    34.8145,2,     639.83,2,       0.26,       0.01,       0.08,       0.01,      0.006,     0.0112,2,    1.69502,2,      0.060,1,      0.000,2,      0.379,1,      0.226,1,      0.047,1,     99.924,     0.0031,2,      0.039,1,      0.317,1,     -999.0,9
49NZ20210713,        P01,      72,          1,         14,     X12S14,2,20210806,       1041,    46.9976,  -168.2029,       5394,  2800.0,2,   1.6266,2,  34.6455,2,  34.6456,2,   103.68,2,  103.59,2,  167.41,2,    0.02,2,   39.26,2,    0.00,2,   2.756,2,   0.000,2,   0.000,2,   0.016,2,   0.024,2,  2361.1,2,  2416.8,2,   36.93,2, -999.00,9,    34.8290,2,     640.08,2,       0.26,       0.01,       0.08,       0.01,      0.006,     -999.0,9,    1.62664,2,      0.059,1,      0.000,2,     -999.0,9,     -999.0,9,     -999.0,9,     99.947,     0.0021,2,      0.038,1,      0.310,1,     -999.0,9
49NZ20210713,        P01,      72,          1,         13,     X12S13,2,20210806,       1041,    46.9976,  -168.2029,       5394,  3000.2,2,   1.5878,2,  34.6534,2,  34.6534,2,   111.70,2,  111.82,2,  165.99,2,    0.04,2,   38.73,2,    0.00,2,   2.706,2,   0.000,2,   0.000,2,   0.000,2,   0.000,2,  2354.0,2,  2415.8,2,   36.27,2, -999.00,9,    34.8358,2,     640.24,2,       0.26,       0.01,       0.08,       0.01,      0.006,     0.0110,2,    1.58780,2,      0.058,1,      0.000,2,      0.314,1,      0.179,1,      0.031,1,     99.935,     0.0026,2,      0.038,1,      0.303,1,     -999.0,9
49NZ20210713,        P01,      72,          1,         12,     X12S12,2,20210806,       1041,    46.9976,  -168.2029,       5394,  3250.1,2,   1.5364,2,  34.6632,2,  34.6633,2,   122.83,2,  122.76,2,  163.40,2,    0.04,2,   37.97,2,    0.00,2,   2.651,2,   0.000,2,   0.000,2,   0.000,2,   0.000,2,  2346.2,2,  2416.6,6,   35.58,2, -999.00,9,    34.8447,2,     640.43,2,       0.26,       0.01,       0.08,       0.01,      0.006,     -999.0,9,    1.53633,2,      0.057,1,      0.000,2,     -999.0,9,     -999.0,9,     -999.0,9,     99.924,     0.0031,2,      0.039,1,      0.298,1,     -999.0,9
49NZ20210713,        P01,      72,          1,         11,     X12S11,2,20210806,       1041,    46.9976,  -168.2029,       5394,  3500.2,2,   1.5007,2,  34.6707,2,  34.6714,2,   131.92,2,  132.16,2,  161.29,2,    0.03,2,   37.41,2,    0.00,2,   2.607,2,   0.000,2,   0.000,2,   0.000,2,   0.006,2,  2342.1,2,  2418.5,2,   34.21,2, -999.00,9,    34.8523,2,     640.53,2,       0.25,       0.01,       0.08,       0.01,      0.006,     0.0100,2,    1.50059,2,      0.056,1,      0.000,2,      0.299,1,      0.170,1,      0.030,1,     99.933,     0.0027,2,      0.038,1,      0.297,1,     -999.0,9
49NZ20210713,        P01,      72,          1,         10,     X12S10,2,20210806,       1041,    46.9976,  -168.2029,       5394,  3749.9,2,   1.4822,2,  34.6761,2,  34.6764,2,   138.54,2,  138.71,2,  159.97,2,    0.02,2,   36.99,2,    0.00,2,   2.575,2,   0.000,2,   0.000,2,   0.000,2,   0.000,2,  2336.5,2,  2415.2,2,   39.82,2, -999.00,9,    34.8573,2,     640.58,2,       0.25,       0.01,       0.08,       0.01,      0.006,     -999.0,9,    1.48202,2,      0.056,1,      0.000,2,     -999.0,9,     -999.0,9,     -999.0,9,     99.945,     0.0022,2,      0.037,1,      0.292,1,     -999.0,9
49NZ20210713,        P01,      72,          1,          9,     X12S09,2,20210806,       1041,    46.9976,  -168.2029,       5394,  4000.6,2,   1.4723,2,  34.6807,2,  34.6810,2,   143.95,2,  144.11,2,  159.81,2,    0.01,2,   36.64,2,    0.00,2,   2.548,2,   0.000,2,   0.000,2,   0.000,2,   0.000,2,  2333.6,2,  2418.5,2,   35.56,2, -999.00,9,    34.8626,2,     640.68,2,       0.25,       0.01,       0.08,       0.01,      0.006,     0.0100,2,    1.47244,2,      0.055,1,      0.000,2,      0.289,1,      0.160,1,      0.028,1,     99.949,     0.0020,2,      0.036,1,      0.294,1,     -999.0,9
49NZ20210713,        P01,      72,          1,          8,     X12S08,2,20210806,       1041,    46.9976,  -168.2029,       5394,  4249.9,2,   1.4736,2,  34.6841,2,  34.6844,2,   147.63,2,  147.75,2,  160.44,2,    0.02,2,   36.40,2,    0.00,2,   2.529,2,   0.000,2,   0.001,2,   0.000,2,   0.000,2,  2333.2,6,  2417.6,2,   36.52,2, -999.00,9,    34.8655,2,     640.68,2,       0.25,       0.01,       0.08,       0.01,      0.006,     -999.0,9,    1.47358,2,      0.055,1,      0.000,2,     -999.0,9,     -999.0,9,     -999.0,9,     99.959,     0.0017,2,      0.039,1,      0.312,1,     -999.0,9
49NZ20210713,        P01,      72,          1,          7,     X12S07,2,20210806,       1041,    46.9976,  -168.2029,       5394,  4499.3,2,   1.4927,2,  34.6856,2,  34.6853,2,   148.88,2,  149.03,2,  161.89,2,    0.02,2,   36.39,2,    0.00,2,   2.527,2,   0.000,2,   0.000,2,   0.000,2,   0.000,2,  2332.7,2,  2418.1,2,   36.72,2, -999.00,9,    34.8670,2,     640.74,2,       0.75,       0.01,       0.08,       0.01,      0.006,     0.0100,2,    1.49279,2,      0.054,1,      0.000,2,      0.298,1,      0.166,1,      0.025,1,     99.907,     0.0037,2,      0.035,1,      0.314,1,     -999.0,9