BOTTLE,20231011CCHSIOENA
EXPOCODE,SECT_ID,STNNBR,CASTNO,SAMPNO,BTLNBR,BTLNBR_FLAG_W,DATE,TIME,LATITUDE,LONGITUDE,DEPTH,CTDPRS,CTDPRS_FLAG_W,CTDTMP,CTDTMP_FLAG_W,CTDSAL,CTDSAL_FLAG_W,SALNTY,SALNTY_FLAG_W,CTDOXY,CTDOXY_FLAG_W,OXYGEN,OXYGEN_FLAG_W,SILCAT,SILCAT_FLAG_W,NH4,NH4_FLAG_W,NITRAT,NITRAT_FLAG_W,NITRIT,NITRIT_FLAG_W,PHSPHT,PHSPHT_FLAG_W,CFC-11,CFC-11_FLAG_W,CFC-12,CFC-12_FLAG_W,CFC113,CFC113_FLAG_W,SF6,SF6_FLAG_W,TCARBN,TCARBN_FLAG_W,ALKALI,ALKALI_FLAG_W,DOC,DOC_FLAG_W,TDN,TDN_FLAG_W,DNSSAL,DNSSAL_FLAG_W,RIANOMALY,RIANOMALY_FLAG_W,SILUNC,NH4UNC,NRAUNC,NRIUNC,PHPUNC,FDOM,FDOM_FLAG_W,REFTMP,REFTMP_FLAG_W,CTDFLUOR,CTDFLUOR_FLAG_W,PAR,PAR_FLAG_W,CDOM300,CDOM300_FLAG_W,CDOM325,CDOM325_FLAG_W,CDOM443,CDOM443_FLAG_W,CTDXMISS,CTDBEAMCP,CTDBEAMCP_FLAG_W,CTDTURB,CTDTURB_FLAG_W,CTDCDOM,CTDCDOM_FLAG_W,CHLORA,CHLORA_FLAG_W
,,,,,,,,,,,METERS,DBAR,,ITS-90,,PSS-78,,PSS-78,,UMOL/KG,,UMOL/KG,,UMOL/KG,,UMOL/KG,,UMOL/KG,,UMOL/KG,,UMOL/KG,,PMOL/KG,,PMOL/KG,,PMOL/KG,,FMOL/KG,,UMOL/KG,,UMOL/KG,,UMOL/KG,,UMOL/KG,,G/KG,,ND,,UMOL/KG,UMOL/KG,UMOL/KG,UMOL/KG,UMOL/KG,RFU,,ITS-90,,MG/M^3,,UMOL/M^2/SEC,,/METER,,/METER,,/METER,,%TRANS,/METER,,FTU,,QSU,,UG/L,
49NZ20210713,        P01,      85,          1,          6,     X12S06,2,20210812,       0611,    46.9961,  -153.6165,       5228,  4751.2,2,   1.5401,2,  34.6846,2,  34.6855,2,   144.01,2,  144.03,2,  170.15,2,    0.01,2,   36.67,2,    0.00,2,   2.544,2,   0.000,2,   0.000,2,   0.000,2,   0.050,2,  2339.4,2,  2428.1,6,   38.36,2, -999.00,9,    34.8703,2,     640.70,2,       0.26,       0.01,       0.08,       0.01,      0.006,     -999.0,9,    1.54015,2,      0.055,1,      0.000,2,     -999.0,9,     -999.0,9,     -999.0,9,     99.983,     0.0007,2,      0.034,1,      0.284,1,     -999.0,9
49NZ20210713,        P01,      85,          1,          5,     X12S05,2,20210812,       0611,    46.9961,  -153.6165,       5228,  4999.8,2,   1.5654,2,  34.6855,2,  34.6851,2,   144.72,2,  144.70,2,  171.35,2,    0.01,2,   36.57,2,    0.00,2,   2.543,2,   0.001,2,   0.001,2,   0.000,2,   0.037,2,  2338.5,2,  2428.1,2,   38.63,2, -999.00,9,    34.8715,2,     640.70,2,       0.27,       0.01,       0.13,       0.01,      0.006,     0.0098,2,    1.56544,2,      0.055,1,      0.000,2,      0.298,1,      0.165,1,      0.024,1,     99.948,     0.0021,2,      0.036,1,      0.289,1,     -999.0,9
49NZ20210713,        P01,      85,          1,          4,     X12S04,2,20210812,       0611,    46.9961,  -153.6165,       5228,  5249.5,2,   1.5963,2,  34.6859,2,  34.6863,2,   144.38,2,  144.49,2,  172.96,2,    0.01,2,   36.67,2,    0.00,2,   2.544,2,   0.002,2,   0.001,2,   0.001,2,   0.228,2,  2340.5,2,  2429.0,2,   39.50,2, -999.00,9,    34.8716,2,     640.70,2,       0.27,       0.01,       0.08,       0.01,      0.006,     0.0098,2,    1.59634,2,      0.057,1,      0.000,2,      0.301,1,      0.166,1,      0.025,1,     99.825,     0.0070,2,      0.050,1,      0.287,1,     -999.0,9
49NZ20210713,        P01,      85,          1,          1,     X12S01,2,20210812,       0611,    46.9961,  -153.6165,       5228,  5316.9,2,   1.6050,2,  34.6858,2,  34.6862,2,   144.43,2,  144.62,2,  172.99,2,    0.02,2,   36.71,2,    0.00,2,   2.543,2,   0.001,2,   0.002,2,   0.000,2,   0.130,2,  2335.7,2,  2427.9,2,   36.77,2, -999.00,9,    34.8710,2,     640.95,2,       0.27,       0.01,       0.08,       0.01,      0.006,     0.0099,2,    1.60496,2,      0.056,1,      0.000,2,      0.312,1,      0.177,1,      0.027,1,     99.799,     0.0080,2,      0.046,1,      0.281,1,     -999.0,9
49NZ20210713,        P01,      84,          1,          2,     X12B34,2,20210812,       1532,    46.9919,  -154.7489,       5209,    26.2,2,  13.7855,2,  32.4165,2,-999.0000,9,   275.14,2, -999.00,9, -999.00,9, -999.00,9, -999.00,9, -999.00,9,-999.000,9,-999.000,9,-999.000,9,-999.000,9,-999.000,9,  -999.0,9,  -999.0,9, -999.00,9, -999.00,9,     -999.0,9,     -999.0,9,     -999.0,     -999.0,     -999.0,     -999.0,     -999.0,     -999.0,9,   13.78585,2,      0.916,1,     11.786,2,     -999.0,9,     -999.0,9,     -999.0,9,     97.093,     0.1180,2,      0.132,1,      0.178,1,     -999.0,9