BOTTLE,20231011CCHSIOENA
EXPOCODE,SECT_ID,STNNBR,CASTNO,SAMPNO,BTLNBR,BTLNBR_FLAG_W,DATE,TIME,LATITUDE,LONGITUDE,DEPTH,CTDPRS,CTDPRS_FLAG_W,CTDTMP,CTDTMP_FLAG_W,CTDSAL,CTDSAL_FLAG_W,SALNTY,SALNTY_FLAG_W,CTDOXY,CTDOXY_FLAG_W,OXYGEN,OXYGEN_FLAG_W,SILCAT,SILCAT_FLAG_W,NH4,NH4_FLAG_W,NITRAT,NITRAT_FLAG_W,NITRIT,NITRIT_FLAG_W,PHSPHT,PHSPHT_FLAG_W,CFC-11,CFC-11_FLAG_W,CFC-12,CFC-12_FLAG_W,CFC113,CFC113_FLAG_W,SF6,SF6_FLAG_W,TCARBN,TCARBN_FLAG_W,ALKALI,ALKALI_FLAG_W,DOC,DOC_FLAG_W,TDN,TDN_FLAG_W,DNSSAL,DNSSAL_FLAG_W,RIANOMALY,RIANOMALY_FLAG_W,SILUNC,NH4UNC,NRAUNC,NRIUNC,PHPUNC,FDOM,FDOM_FLAG_W,REFTMP,REFTMP_FLAG_W,CTDFLUOR,CTDFLUOR_FLAG_W,PAR,PAR_FLAG_W,CDOM300,CDOM300_FLAG_W,CDOM325,CDOM325_FLAG_W,CDOM443,CDOM443_FLAG_W,CTDXMISS,CTDBEAMCP,CTDBEAMCP_FLAG_W,CTDTURB,CTDTURB_FLAG_W,CTDCDOM,CTDCDOM_FLAG_W,CHLORA,CHLORA_FLAG_W
,,,,,,,,,,,METERS,DBAR,,ITS-90,,PSS-78,,PSS-78,,UMOL/KG,,UMOL/KG,,UMOL/KG,,UMOL/KG,,UMOL/KG,,UMOL/KG,,UMOL/KG,,PMOL/KG,,PMOL/KG,,PMOL/KG,,FMOL/KG,,UMOL/KG,,UMOL/KG,,UMOL/KG,,UMOL/KG,,G/KG,,ND,,UMOL/KG,UMOL/KG,UMOL/KG,UMOL/KG,UMOL/KG,RFU,,ITS-90,,MG/M^3,,UMOL/M^2/SEC,,/METER,,/METER,,/METER,,%TRANS,/METER,,FTU,,QSU,,UG/L,
49NZ20210713,        P01,      51,          1,         36,     X12S36,2,20210730,       0739,    46.9672,   169.8093,       4114,    10.1,2,  10.2913,2,  32.8526,2,  32.8364,2,   301.22,2,  300.36,2,   27.01,2,    0.34,2,   16.98,2,    0.19,2,   1.484,2,   3.614,2,   1.784,2,   0.355,3,   3.421,2,  2071.3,2,  2226.0,2,   54.86,2, -999.00,9,    32.9963,2,     606.58,2,       0.19,       0.02,       0.04,       0.01,      0.005,     0.0045,2,   10.29302,2,      2.109,1,      0.000,2,      0.413,1,      0.218,1,      0.030,1,     93.508,     0.2685,2,      0.262,1,      0.233,1,       0.76,2
49NZ20210713,        P01,      51,          1,          2,     X12B34,2,20210730,       0739,    46.9672,   169.8093,       4114,    24.6,2,   8.9088,2,  32.9011,2,  32.9047,2,   307.31,2,  308.00,2,   28.16,2,    0.62,2,   17.85,2,    0.19,2,   1.567,2,-999.000,9,-999.000,9,-999.000,9,-999.000,9,  2081.9,2,  2227.0,2,   58.57,2, -999.00,9,    33.0662,2,     607.73,2,       0.12,       0.02,       0.04,       0.01,      0.005,     0.0047,2,    8.90600,2,      2.455,1,      0.000,2,      0.463,1,      0.259,1,      0.043,1,     94.876,     0.2104,2,      0.266,1,      0.242,1,       0.83,2
49NZ20210713,        P01,      51,          1,         35,     X12S35,2,20210730,       0739,    46.9672,   169.8093,       4114,    50.8,2,   3.4680,2,  33.0608,2,  33.0631,2,   328.56,2,  330.68,2,   39.54,2,    0.76,2,   23.26,2,    0.61,2,   1.937,2,   4.894,2,   2.288,2,   1.014,3,   4.270,2,  2130.1,2,  2236.7,2,   49.79,2, -999.00,9,    33.2244,2,     610.73,2,       0.09,       0.02,       0.05,       0.01,      0.005,     0.0062,2,    3.46935,2,      0.855,1,      0.000,2,      0.424,1,      0.226,1,      0.034,1,     98.461,     0.0620,2,      0.107,1,      0.272,1,       0.38,2
49NZ20210713,        P01,      51,          1,         34,     X12S34,2,20210730,       0739,    46.9672,   169.8093,       4114,   100.5,2,   2.5087,2,  33.1383,2,  33.1378,2,   320.84,2,  322.96,2,   47.65,2,    0.02,2,   27.12,2,    0.02,2,   2.081,2,   4.938,2,   2.311,2,   0.877,3,   4.293,2,  2149.7,2,  2237.9,2,   47.95,2, -999.00,9,    33.3004,2,     612.13,2,       0.10,       0.01,       0.06,       0.01,      0.005,     0.0063,2,    2.50571,2,      0.290,1,      0.000,2,      0.498,1,      0.287,1,      0.061,1,     99.108,     0.0359,2,      0.082,1,      0.265,1,       0.22,2
49NZ20210713,        P01,      51,          1,         33,     X12S33,2,20210730,       0739,    46.9672,   169.8093,       4114,   150.4,2,   2.2323,2,  33.2971,2,  33.3067,2,   267.61,2,  266.10,2,   58.92,2,    0.01,2,   31.22,2,    0.01,2,   2.333,2,-999.000,9,-999.000,9,-999.000,9,-999.000,9,  2194.8,2,  2246.6,2,   49.19,2, -999.00,9,    33.4699,2,     615.33,2,       0.14,       0.01,       0.07,       0.01,      0.006,     0.0078,2,    2.23026,2,      0.095,1,      0.000,2,      0.422,1,      0.224,1,      0.035,1,     99.451,     0.0220,2,      0.078,1,      0.295,1,       0.05,2
49NZ20210713,        P01,      51,          1,         32,     X12S32,2,20210730,       0739,    46.9672,   169.8093,       4114,   199.5,2,   3.4906,2,  33.8008,2,  33.8088,2,    68.79,2,   66.56,2,   91.56,2,    0.00,2,   41.85,2,    0.01,2,   2.986,2,   2.578,2,   1.194,2,   0.179,2,   1.336,2,  2313.6,2,  2290.9,2,   45.31,2, -999.00,9,    33.9789,2,     624.58,2,       0.16,       0.01,       0.09,       0.01,      0.006,     0.0127,2,    3.48555,2,      0.078,1,      0.000,2,      0.444,1,      0.247,1,      0.037,1,     99.484,     0.0207,2,      0.070,1,      0.380,1,       0.02,2
49NZ20210713,        P01,      51,          1,         31,     X12S31,2,20210730,       0739,    46.9672,   169.8093,       4114,   249.1,2,   3.7001,2,  33.9673,2,  33.9725,2,    27.73,2,   27.19,2,  103.66,2,    0.00,2,   44.18,2,    0.01,2,   3.136,2,   1.858,2,   0.865,2,   0.133,2,   0.695,2,  2347.7,2,  2309.5,2,   42.65,2, -999.00,9,    34.1453,2,     627.58,2,       0.17,       0.01,       0.10,       0.01,      0.006,     0.0134,2,    3.69895,2,      0.075,1,      0.000,2,      0.460,1,      0.268,1,      0.048,1,     99.622,     0.0151,2,      0.104,1,      0.391,1,       0.02,2
49NZ20210713,        P01,      51,          1,         30,     X12S30,2,20210730,       0739,    46.9672,   169.8093,       4114,   328.8,2,   3.6401,2,  34.0656,2,  34.0656,2,    19.54,2,   19.41,2,  112.54,2,    0.01,2,   44.28,2,    0.00,2,   3.146,2,   1.383,2,   0.726,2,   0.107,2,   0.478,2,  2353.7,2,  2320.9,2,   43.63,2, -999.00,9,    34.2383,2,     629.28,2,       0.19,       0.01,       0.09,       0.01,      0.006,     0.0135,2,    3.63938,2,      0.075,1,      0.000,2,      0.460,1,      0.271,1,      0.063,1,     99.738,     0.0105,2,      0.060,1,      0.395,1,     -999.0,9
49NZ20210713,        P01,      51,          1,         29,     X12S29,2,20210730,       0739,    46.9672,   169.8093,       4114,   430.4,2,   3.5095,2,  34.1653,2,  34.1660,2,    17.47,2,   17.36,2,  122.07,2,    0.03,2,   43.97,2,    0.00,2,   3.126,2,   0.900,2,   0.493,2,   0.073,2,   0.264,2,  2362.7,2,  2335.4,2,   41.22,2, -999.00,9,    34.3411,2,     631.13,2,       0.20,       0.01,       0.09,       0.01,      0.006,     0.0136,2,    3.50835,2,      0.073,1,      0.000,2,      0.425,1,      0.248,1,      0.049,1,     99.821,     0.0072,2,      0.056,1,      0.388,1,     -999.0,9
49NZ20210713,        P01,      51,          1,         28,     X12S28,2,20210730,       0739,    46.9672,   169.8093,       4114,   530.1,2,   3.3589,2,  34.2280,2,  34.2286,2,    15.67,2,   15.37,2,  129.45,2,    0.01,2,   44.10,2,    0.00,2,   3.135,2,   0.629,2,   0.350,2,   0.053,2,   0.148,2,  2369.5,2,  2347.7,2,   42.43,2, -999.00,9,    34.4038,2,     632.23,2,       0.21,       0.01,       0.09,       0.01,      0.006,     0.0139,2,    3.35869,2,      0.073,1,      0.000,2,      0.437,1,      0.261,1,      0.055,1,     99.883,     0.0047,2,      0.053,1,      0.393,1,     -999.0,9
49NZ20210713,        P01,      51,          1,         27,     X12S27,2,20210730,       0739,    46.9672,   169.8093,       4114,   630.0,2,   3.1670,2,  34.2885,2,  34.2887,2,    16.29,2,   16.11,2,  136.65,2,    0.02,2,   44.00,2,    0.00,2,   3.129,2,   0.422,2,   0.245,2,   0.044,2,   0.043,2,  2375.8,2,  2356.7,2,   43.76,2, -999.00,9,    34.4642,2,     633.28,2,       0.22,       0.01,       0.09,       0.01,      0.007,     0.0133,2,    3.16661,2,      0.072,1,      0.000,2,      0.404,1,      0.233,1,      0.050,1,     99.904,     0.0038,2,      0.052,1,      0.394,1,     -999.0,9
49NZ20210713,        P01,      51,          1,         26,     X12S26,2,20210730,       0739,    46.9672,   169.8093,       4114,   729.2,2,   3.0246,2,  34.3258,2,  34.3259,2,    17.10,2,  231.75,4,  141.74,2,    0.02,2,   44.03,2,    0.00,2,   3.131,2,   0.322,2,   0.190,2,   0.034,2,   0.062,2,  2382.9,6,  2363.9,2,   44.15,2, -999.00,9,    34.5020,2,     633.98,2,       0.23,       0.01,       0.09,       0.01,      0.006,     -999.0,9,    3.02433,2,      0.072,1,      0.000,2,     -999.0,9,     -999.0,9,     -999.0,9,     99.874,     0.0050,2,      0.051,1,      0.394,1,     -999.0,9
49NZ20210713,        P01,      51,          1,         25,     X12S25,2,20210730,       0739,    46.9672,   169.8093,       4114,   828.2,2,   2.8695,2,  34.3653,2,  34.3632,2,    20.48,2,   19.52,2,  146.44,2,    0.02,2,   43.84,2,    0.00,2,   3.126,2,   0.248,2,   0.144,2,   0.017,2,   0.013,2,  2387.6,2,  2367.9,2,   44.46,2, -999.00,9,    34.5416,2,     634.68,2,       0.23,       0.01,       0.09,       0.01,      0.007,     0.0135,2,    2.86713,2,      0.071,1,      0.000,2,      0.398,1,      0.236,1,      0.047,1,     99.897,     0.0041,2,      0.059,1,      0.389,1,     -999.0,9
49NZ20210713,        P01,      51,          1,         24,     X12S24,2,20210730,       0739,    46.9672,   169.8093,       4114,   932.0,2,   2.7133,2,  34.4044,2,  34.4040,2,    23.82,2,   23.54,2,  151.31,2,    0.01,2,   43.61,2,    0.00,2,   3.112,2,   0.178,2,   0.107,2,   0.012,2,   0.028,2,  2387.1,2,  2377.0,2,   42.84,2, -999.00,9,    34.5831,2,     635.48,2,       0.29,       0.01,       0.09,       0.01,      0.006,     -999.0,9,    2.71292,2,      0.071,1,      0.000,2,     -999.0,9,     -999.0,9,     -999.0,9,     99.902,     0.0039,2,      0.052,1,      0.389,1,     -999.0,9
49NZ20210713,        P01,      51,          1,         23,     X12S23,2,20210730,       0739,    46.9672,   169.8093,       4114,  1068.6,2,   2.5199,2,  34.4474,2,  34.4475,2,    28.24,2,   28.13,2,  157.13,2,    0.01,2,   43.44,2,    0.00,2,   3.096,2,   0.121,2,   0.074,2,   0.008,2,   0.025,2,  2391.5,2,  2384.5,2,   40.73,2, -999.00,9,    34.6286,2,     636.28,2,       0.49,       0.01,       0.15,       0.01,      0.006,     0.0132,2,    2.51957,2,      0.069,1,      0.000,2,      0.393,1,      0.232,1,      0.048,1,     99.885,     0.0046,2,      0.050,1,      0.390,1,     -999.0,9
49NZ20210713,        P01,      51,          1,         22,     X12S22,2,20210730,       0739,    46.9672,   169.8093,       4114,  1269.1,2,   2.3173,2,  34.4942,2,  34.4943,2,    35.74,2,   35.66,2,  162.49,2,    0.00,2,   43.13,2,    0.00,2,   3.068,2,   0.071,2,   0.041,2,   0.008,2,   0.021,2,  2392.5,2,  2393.8,6,   41.94,2, -999.00,9,    34.6752,2,     637.08,2,       0.32,       0.01,       0.09,       0.01,      0.006,     -999.0,9,    2.31713,2,      0.068,1,      0.000,2,     -999.0,9,     -999.0,9,     -999.0,9,     99.897,     0.0041,2,      0.049,1,      0.385,1,     -999.0,9
49NZ20210713,        P01,      51,          1,         21,     X12S21,2,20210730,       0739,    46.9672,   169.8093,       4114,  1468.9,2,   2.1338,2,  34.5363,2,  34.5363,2,    45.74,2,   45.99,2,  166.72,2,    0.01,2,   42.55,2,    0.00,2,   3.021,2,   0.036,2,   0.021,2,   0.002,2,   0.000,2,  2390.5,2,  2404.0,2,   43.10,2, -999.00,9,    34.7196,2,     637.88,2,       0.26,       0.01,       0.09,       0.01,      0.006,     0.0132,2,    2.13411,2,      0.066,1,      0.000,2,      0.369,1,      0.220,1,      0.036,1,     99.929,     0.0028,2,      0.049,1,      0.383,1,     -999.0,9
49NZ20210713,        P01,      51,          1,         20,     X12S20,2,20210730,       0739,    46.9672,   169.8093,       4114,  1670.0,2,   1.9961,2,  34.5683,2,  34.5684,2,    56.88,2,   57.20,2,  168.46,2,    0.00,2,   41.87,2,    0.00,2,   2.971,2,   0.013,2,   0.008,2,   0.000,2,   0.000,2,  2390.6,2,  2407.5,2,   39.90,2, -999.00,9,    34.7526,2,     638.48,2,       0.26,       0.01,       0.09,       0.01,      0.006,     -999.0,9,    1.99607,2,      0.065,1,      0.000,2,     -999.0,9,     -999.0,9,     -999.0,9,     99.936,     0.0026,2,      0.050,1,      0.370,1,     -999.0,9
49NZ20210713,        P01,      51,          1,         19,     X12S19,2,20210730,       0739,    46.9672,   169.8093,       4114,  1870.0,2,   1.8994,2,  34.5904,2,  34.5903,2,    69.21,2,   69.19,2,  167.83,2,    0.00,2,   41.28,2,    0.00,2,   2.920,2,   0.006,2,   0.004,2,   0.000,2,   0.009,2,  2382.3,2,  2410.5,2,   39.58,2, -999.00,9,    34.7750,2,     638.93,2,       0.26,       0.01,       0.09,       0.01,      0.006,     0.0126,2,    1.89952,2,      0.064,1,      0.000,2,      0.344,1,      0.202,1,      0.037,1,     99.927,     0.0029,2,      0.050,1,      0.364,1,     -999.0,9
49NZ20210713,        P01,      51,          1,         18,     X12S18,2,20210730,       0739,    46.9672,   169.8093,       4114,  2070.8,2,   1.7864,2,  34.6123,2,  34.6127,2,    83.18,2,   83.07,2,  166.74,2,    0.00,2,   40.41,2,    0.00,2,   2.855,2,   0.002,2,   0.002,2,   0.000,2,   0.011,2,  2371.0,2,  2410.9,2,   39.32,2, -999.00,9,    34.7954,2,     639.23,2,       0.26,       0.01,       0.09,       0.01,      0.007,     -999.0,9,    1.78616,2,      0.062,1,      0.000,2,     -999.0,9,     -999.0,9,     -999.0,9,     99.957,     0.0017,2,      0.051,1,      0.358,1,     -999.0,9
49NZ20210713,        P01,      51,          1,         17,     X12S17,2,20210730,       0739,    46.9672,   169.8093,       4114,  2269.5,2,   1.6847,2,  34.6307,2,  34.6307,2,    97.27,2,   97.13,2,  164.86,2,    0.02,2,   39.50,2,    0.00,2,   2.777,2,   0.000,2,   0.000,2,   0.000,2,   0.000,2,  2365.9,2,  2411.6,2,   38.69,2, -999.00,9,    34.8172,2,     639.58,2,       0.26,       0.01,       0.09,       0.01,      0.006,     0.0113,2,    1.68452,2,      0.061,1,      0.000,2,      0.316,1,      0.182,1,      0.032,1,     99.915,     0.0034,2,      0.052,1,      0.350,1,     -999.0,9
49NZ20210713,        P01,      51,          1,         16,     X12S16,2,20210730,       0739,    46.9672,   169.8093,       4114,  2469.9,2,   1.6548,2,  34.6380,2,  34.6377,2,   103.34,2,  103.04,2,  163.78,2,    0.01,2,   39.11,2,    0.00,2,   2.746,2,   0.000,2,   0.000,2,   0.000,2,   0.000,2,  2361.3,6,  2412.5,2,   39.82,2, -999.00,9,    34.8238,2,     639.73,2,       0.26,       0.01,       0.08,       0.01,      0.006,     -999.0,9,    1.65460,2,      0.060,1,      0.000,2,     -999.0,9,     -999.0,9,     -999.0,9,     99.719,     0.0112,2,      0.059,1,      0.347,1,     -999.0,9
49NZ20210713,        P01,      51,          1,         15,     X12S15,2,20210730,       0739,    46.9672,   169.8093,       4114,  2670.5,2,   1.6068,2,  34.6474,2,  34.6477,2,   111.71,2,  111.00,2,  162.49,2,    0.01,2,   38.59,2,    0.00,2,   2.712,2,   0.000,2,   0.000,2,   0.000,2,   0.000,2,  2358.6,2,  2414.4,2,   40.62,2, -999.00,9,    34.8327,2,     639.93,2,       0.25,       0.01,       0.08,       0.01,      0.006,     0.0108,2,    1.60661,2,      0.060,1,      0.000,2,      0.303,1,      0.171,1,      0.026,1,     99.638,     0.0145,2,      0.054,1,      0.340,1,     -999.0,9
49NZ20210713,        P01,      51,          1,         14,     X12S14,2,20210730,       0739,    46.9672,   169.8093,       4114,  2869.9,2,   1.5630,2,  34.6560,2,  34.6563,2,   119.99,2,  120.12,2,  160.58,2,    0.00,2,   38.08,2,    0.00,2,   2.671,2,   0.000,2,   0.000,2,   0.000,2,   0.000,2,  2353.4,2,  2415.3,2,   37.34,2, -999.00,9,    34.8383,2,     639.98,2,       0.25,       0.01,       0.08,       0.01,      0.006,     -999.0,9,    1.56290,2,      0.059,1,      0.000,2,     -999.0,9,     -999.0,9,     -999.0,9,     99.883,     0.0047,2,      0.058,1,      0.339,1,     -999.0,9
49NZ20210713,        P01,      51,          1,         13,     X12S13,2,20210730,       0739,    46.9672,   169.8093,       4114,  3080.4,2,   1.5460,2,  34.6606,2,  34.6610,2,   124.95,2,  125.18,2,  159.19,2,    0.00,2,   37.81,2,    0.00,2,   2.646,2,   0.000,2,   0.000,2,   0.000,2,   0.005,2,  2348.9,2,  2414.0,2,   37.89,2, -999.00,9,    34.8482,2,     640.13,2,       0.25,       0.01,       0.08,       0.01,      0.006,     0.0102,2,    1.54572,2,      0.059,1,      0.000,2,      0.299,1,      0.168,1,      0.027,1,     99.883,     0.0047,2,      0.059,1,      0.352,1,     -999.0,9
49NZ20210713,        P01,      51,          1,         12,     X12S12,2,20210730,       0739,    46.9672,   169.8093,       4114,  3329.4,2,   1.5108,2,  34.6682,2,  34.6682,2,   132.67,2,  133.11,2,  157.49,2,    0.01,2,   37.29,2,    0.00,2,   2.603,2,   0.000,2,   0.000,2,   0.000,2,   0.000,2,  2342.7,2,  2415.8,6,   38.52,2, -999.00,9,    34.8552,2,     640.28,2,       0.25,       0.01,       0.08,       0.01,      0.006,     -999.0,9,    1.51104,2,      0.058,1,      0.000,2,     -999.0,9,     -999.0,9,     -999.0,9,     99.832,     0.0067,2,      0.061,1,      0.373,1,     -999.0,9
49NZ20210713,        P01,      51,          1,         11,     X12S11,2,20210730,       0739,    46.9672,   169.8093,       4114,  3578.7,2,   1.4907,2,  34.6736,2,  34.6737,2,   138.72,2,  138.76,2,  156.26,2,    0.01,2,   36.88,2,    0.00,2,   2.573,2,   0.000,2,   0.000,2,   0.000,2,   0.000,2,  2338.4,2,  2413.7,2,   39.13,2, -999.00,9,    34.8581,2,     640.38,2,       0.28,       0.01,       0.08,       0.01,      0.006,     0.0105,2,    1.49054,2,      0.057,1,      0.000,2,      0.339,1,      0.203,1,      0.041,1,     99.788,     0.0085,2,      0.061,1,      0.387,1,     -999.0,9
49NZ20210713,        P01,      51,          1,         10,     X12S10,2,20210730,       0739,    46.9672,   169.8093,       4114,  3831.4,2,   1.4950,2,  34.6760,2,  34.6767,2,   141.86,2,  141.78,2,  155.35,2,    0.02,2,   36.60,2,    0.00,2,   2.557,2,   0.000,2,   0.000,2,   0.000,2,   0.000,2,  2335.8,2,  2411.9,2,   38.82,2, -999.00,9,    34.8627,2,     640.43,2,       0.24,       0.01,       0.09,       0.01,      0.006,     -999.0,9,    1.49485,2,      0.057,1,      0.000,2,     -999.0,9,     -999.0,9,     -999.0,9,     99.731,     0.0108,2,      0.069,1,      0.384,1,     -999.0,9
49NZ20210713,        P01,      51,          1,          9,     X12S09,2,20210730,       0739,    46.9672,   169.8093,       4114,  4079.8,2,   1.4883,2,  34.6799,2,  34.6802,2,   146.42,2,  146.18,2,  154.25,2,    0.02,2,   36.38,2,    0.00,2,   2.532,2,   0.000,2,   0.000,2,   0.001,2,   0.000,2,  2335.7,2,  2414.8,2,   37.07,2, -999.00,9,    34.8637,2,     640.43,2,       0.24,       0.01,       0.08,       0.01,      0.006,     0.0100,2,    1.48828,2,      0.058,1,      0.000,2,      0.305,1,      0.178,1,      0.043,1,     99.020,     0.0394,2,      0.119,1,      0.380,1,     -999.0,9
49NZ20210713,        P01,      51,          1,          1,     X12S01,2,20210730,       0739,    46.9672,   169.8093,       4114,  4195.7,2,   1.4864,2,  34.6815,2,  34.6822,2,   148.42,2,  148.03,2,  153.88,2,    0.02,2,   36.28,2,    0.00,2,   2.525,2,   0.000,2,   0.000,2,   0.000,2,   0.000,3,  2329.3,2,  2416.1,2,   40.16,2, -999.00,9,    34.8640,2,     640.73,2,       0.24,       0.01,       0.08,       0.01,      0.006,     0.0100,2,    1.48617,2,      0.057,1,      0.000,2,      0.304,1,      0.171,1,      0.024,1,     99.138,     0.0346,2,      0.110,1,      0.380,1,     -999.0,9