BOTTLE,20231011CCHSIOENA
EXPOCODE,SECT_ID,STNNBR,CASTNO,SAMPNO,BTLNBR,BTLNBR_FLAG_W,DATE,TIME,LATITUDE,LONGITUDE,DEPTH,CTDPRS,CTDPRS_FLAG_W,CTDTMP,CTDTMP_FLAG_W,CTDSAL,CTDSAL_FLAG_W,SALNTY,SALNTY_FLAG_W,CTDOXY,CTDOXY_FLAG_W,OXYGEN,OXYGEN_FLAG_W,SILCAT,SILCAT_FLAG_W,NH4,NH4_FLAG_W,NITRAT,NITRAT_FLAG_W,NITRIT,NITRIT_FLAG_W,PHSPHT,PHSPHT_FLAG_W,CFC-11,CFC-11_FLAG_W,CFC-12,CFC-12_FLAG_W,CFC113,CFC113_FLAG_W,SF6,SF6_FLAG_W,TCARBN,TCARBN_FLAG_W,ALKALI,ALKALI_FLAG_W,DOC,DOC_FLAG_W,TDN,TDN_FLAG_W,DNSSAL,DNSSAL_FLAG_W,RIANOMALY,RIANOMALY_FLAG_W,SILUNC,NH4UNC,NRAUNC,NRIUNC,PHPUNC,FDOM,FDOM_FLAG_W,REFTMP,REFTMP_FLAG_W,CTDFLUOR,CTDFLUOR_FLAG_W,PAR,PAR_FLAG_W,CDOM300,CDOM300_FLAG_W,CDOM325,CDOM325_FLAG_W,CDOM443,CDOM443_FLAG_W,CTDXMISS,CTDBEAMCP,CTDBEAMCP_FLAG_W,CTDTURB,CTDTURB_FLAG_W,CTDCDOM,CTDCDOM_FLAG_W,CHLORA,CHLORA_FLAG_W
,,,,,,,,,,,METERS,DBAR,,ITS-90,,PSS-78,,PSS-78,,UMOL/KG,,UMOL/KG,,UMOL/KG,,UMOL/KG,,UMOL/KG,,UMOL/KG,,UMOL/KG,,PMOL/KG,,PMOL/KG,,PMOL/KG,,FMOL/KG,,UMOL/KG,,UMOL/KG,,UMOL/KG,,UMOL/KG,,G/KG,,ND,,UMOL/KG,UMOL/KG,UMOL/KG,UMOL/KG,UMOL/KG,RFU,,ITS-90,,MG/M^3,,UMOL/M^2/SEC,,/METER,,/METER,,/METER,,%TRANS,/METER,,FTU,,QSU,,UG/L,
49NZ20210713,        P01,      25,          1,         36,     X12S36,2,20210720,       2215,    41.2678,   150.3863,       5384,    10.5,2,  18.8671,2,  33.4625,2,  33.4343,2,   246.35,2,  254.16,2,    0.90,2,    0.08,2,    0.19,2,    0.01,2,   0.063,2,   2.499,2,   1.425,2,   0.236,2,   2.542,2,  1988.3,2,  2236.1,2,   70.05,2, -999.00,9,    33.5938,2,     617.68,2,       0.04,       0.01,       0.01,       0.01,      0.003,     0.0058,2,   18.87767,2,      0.610,1,    123.976,2,      0.633,1,      0.392,1,      0.059,1,     96.124,     0.1581,2,      0.177,1,      0.296,1,       0.36,2
49NZ20210713,        P01,      25,          1,          2,     X12B34,2,20210720,       2215,    41.2678,   150.3863,       5384,    26.5,2,   5.7700,2,  33.0106,2,  33.0379,2,   351.33,2,  344.46,2,   11.15,2,    1.40,2,   11.19,2,    0.23,2,   1.269,2,-999.000,9,-999.000,9,-999.000,9,-999.000,9,  2080.4,2,  2242.0,2,   57.46,2, -999.00,9,    33.2021,2,     610.28,2,       0.05,       0.03,       0.03,       0.01,      0.004,     0.0096,2,    5.80166,2,      3.042,1,     18.015,2,      0.563,1,      0.337,1,      0.051,1,     92.542,     0.3100,2,      0.274,1,      0.412,1,       1.42,2
49NZ20210713,        P01,      25,          1,         35,     X12S35,2,20210720,       2215,    41.2678,   150.3863,       5384,    50.4,2,   2.2492,2,  33.0780,2,  33.0793,2,   297.28,2,  297.71,2,   43.76,2,    1.76,2,   22.69,2,    0.27,2,   1.988,2,   4.921,2,   2.578,2,   0.553,3,   4.074,2,  2160.4,2,  2242.6,2,   52.22,2, -999.00,9,    33.2449,2,     611.08,2,       0.09,       0.04,       0.05,       0.01,      0.005,     0.0079,2,    2.25084,2,      0.243,1,      1.155,2,      0.489,1,      0.273,1,      0.043,1,     98.432,     0.0632,2,      0.148,1,      0.378,1,       0.23,2
49NZ20210713,        P01,      25,          1,         34,     X12S34,2,20210720,       2215,    41.2678,   150.3863,       5384,   100.4,2,   1.4527,2,  33.2122,2,  33.2124,2,   267.55,2,  267.21,2,   54.19,2,    0.02,2,   27.64,2,    0.04,2,   2.156,2,   4.841,2,   2.542,2,   0.429,3,   3.922,2,  2192.8,2,  2247.9,2,   51.72,2, -999.00,9,    33.3776,2,     613.53,2,       0.11,       0.01,       0.06,       0.01,      0.005,     0.0082,2,    1.45315,2,      0.093,1,      0.000,2,      0.464,1,      0.251,1,      0.033,1,     98.886,     0.0448,2,      0.118,1,      0.391,1,       0.07,2
49NZ20210713,        P01,      25,          1,         33,     X12S33,2,20210720,       2215,    41.2678,   150.3863,       5384,   150.4,2,   2.0223,2,  33.3741,2,  33.3750,2,   240.43,2,  240.66,2,   60.52,2,    0.01,2,   29.39,2,    0.02,2,   2.243,2,   4.452,2,   2.351,2,   0.286,2,   3.484,2,  2208.0,2,  2260.0,2,   48.49,2, -999.00,9,    33.5405,2,     616.58,2,       0.12,       0.01,       0.07,       0.01,      0.006,     0.0090,2,    2.02332,2,      0.074,1,      0.000,2,      0.449,1,      0.248,1,      0.035,1,     98.916,     0.0436,2,      0.119,1,      0.395,1,       0.06,2
49NZ20210713,        P01,      25,          1,         32,     X12S32,2,20210720,       2215,    41.2678,   150.3863,       5384,   199.4,2,   1.9838,2,  33.4697,2,  33.4691,2,   195.80,2,  194.35,2,   74.33,2,    0.01,2,   33.10,2,    0.02,2,   2.497,2,   4.017,2,   2.094,2,   0.272,2,   2.890,2,  2244.1,2,  2269.0,2,   52.09,2, -999.00,9,    33.6355,2,     618.33,2,       0.14,       0.01,       0.07,       0.01,      0.006,     0.0098,2,    1.98360,2,      0.072,1,      0.000,2,      0.451,1,      0.254,1,      0.041,1,     98.937,     0.0428,2,      0.119,1,      0.418,1,       0.06,2
49NZ20210713,        P01,      25,          1,         31,     X12S31,2,20210720,       2215,    41.2678,   150.3863,       5384,   248.4,2,   2.0776,2,  33.5608,2,  33.5615,2,   172.56,2,  170.78,2,   82.88,2,    0.00,2,   34.55,2,    0.01,2,   2.586,2,   3.622,2,   1.897,2,   0.271,2,   2.583,2,  2258.9,2,  2279.3,2,   51.75,2, -999.00,9,    33.7311,2,     620.03,2,       0.15,       0.01,       0.07,       0.01,      0.006,     0.0105,2,    2.07792,2,      0.072,1,      0.000,2,      0.439,1,      0.245,1,      0.037,1,     99.058,     0.0378,2,      0.110,1,      0.423,1,       0.05,2
49NZ20210713,        P01,      25,          1,         30,     X12S30,2,20210720,       2215,    41.2678,   150.3863,       5384,   302.7,2,   2.4491,2,  33.7018,2,  33.7018,2,   130.41,2,  128.67,2,   93.26,2,    0.01,2,   37.33,2,    0.01,2,   2.744,2,   3.054,2,   1.594,2,   0.246,2,   1.993,2,  2285.1,2,  2289.2,2,   48.55,2, -999.00,9,    33.8729,2,     622.63,2,       0.16,       0.01,       0.08,       0.01,      0.006,     0.0112,2,    2.45210,2,      0.073,1,      0.000,2,      0.490,1,      0.290,1,      0.060,1,     99.256,     0.0299,2,      0.108,1,      0.426,1,     -999.0,9
49NZ20210713,        P01,      25,          1,         29,     X12S29,2,20210720,       2215,    41.2678,   150.3863,       5384,   399.9,2,   3.1389,2,  33.9692,2,  33.9688,2,    52.98,2,   54.89,2,  111.07,2,    0.01,2,   42.07,2,    0.00,2,   3.021,2,   1.850,2,   0.973,2,   0.165,2,   0.941,2,  2333.3,2,  2317.6,2,   45.47,2, -999.00,9,    34.1427,2,     627.58,2,       0.18,       0.01,       0.09,       0.01,      0.006,     0.0128,2,    3.14375,2,      0.073,1,      0.000,2,      0.452,1,      0.264,1,      0.053,1,     99.455,     0.0218,2,      0.083,1,      0.452,1,     -999.0,9
49NZ20210713,        P01,      25,          1,         28,     X12S28,2,20210720,       2215,    41.2678,   150.3863,       5384,   499.9,2,   3.0468,2,  34.0778,2,  34.0770,2,    42.56,2,   42.77,2,  122.72,2,    0.01,2,   42.60,2,    0.00,2,   3.056,2,   1.376,2,   0.731,2,   0.140,2,   0.677,2,  2349.5,2,  2333.0,2,   41.84,2, -999.00,9,    34.2528,2,     629.58,2,       0.20,       0.01,       0.09,       0.01,      0.006,     0.0131,2,    3.04637,2,      0.074,1,      0.000,2,      0.509,1,      0.316,1,      0.074,1,     99.637,     0.0146,2,      0.077,1,      0.474,1,     -999.0,9
49NZ20210713,        P01,      25,          1,         27,     X12S27,2,20210720,       2215,    41.2678,   150.3863,       5384,   599.9,2,   3.1985,2,  34.1934,2,  34.1930,2,    28.21,2,   27.91,2,  129.42,2,    0.01,2,   43.39,2,    0.00,2,   3.090,2,   0.840,2,   0.466,2,   0.080,2,   0.378,2,  2358.2,2,  2344.6,2,   45.55,2, -999.00,9,    34.3680,2,     631.58,2,       0.21,       0.01,       0.09,       0.01,      0.006,     0.0130,2,    3.19870,2,      0.073,1,      0.000,2,      0.421,1,      0.245,1,      0.047,1,     99.749,     0.0101,2,      0.067,1,      0.519,1,     -999.0,9
49NZ20210713,        P01,      25,          1,         26,     X12S26,2,20210720,       2215,    41.2678,   150.3863,       5384,   700.0,2,   3.0873,2,  34.2569,2,  34.2563,2,    29.74,2,   29.32,2,  135.63,2,    0.00,2,   43.16,2,    0.00,2,   3.086,2,   0.614,2,   0.355,2,   0.057,2,   0.278,2,  2366.7,6,  2349.9,2,   38.34,2, -999.00,9,    34.4335,2,     632.78,2,       0.22,       0.01,       0.09,       0.01,      0.006,     -999.0,9,    3.08685,2,      0.071,1,      0.000,2,     -999.0,9,     -999.0,9,     -999.0,9,     99.738,     0.0105,2,      0.098,1,      0.523,1,     -999.0,9
49NZ20210713,        P01,      25,          1,         25,     X12S25,2,20210720,       2215,    41.2678,   150.3863,       5384,   799.4,2,   2.8961,2,  34.3189,2,  34.3189,2,    26.07,2,   25.48,2,  143.65,2,    0.04,2,   43.48,2,    0.00,2,   3.096,2,   0.418,2,   0.255,2,   0.036,2,   0.178,2,  2373.2,2,  2367.9,2,   38.57,2, -999.00,9,    34.4961,2,     633.93,2,       0.23,       0.01,       0.09,       0.01,      0.006,     0.0135,2,    2.89586,2,      0.071,1,      0.000,2,      0.415,1,      0.246,1,      0.048,1,     99.797,     0.0081,2,      0.066,1,      0.525,1,     -999.0,9
49NZ20210713,        P01,      25,          1,         24,     X12S24,2,20210720,       2215,    41.2678,   150.3863,       5384,   898.8,2,   2.7514,2,  34.3643,2,  34.3635,2,    31.02,2,   30.60,2,  148.11,2,    0.03,2,   43.21,2,    0.00,2,   3.083,2,   0.322,2,   0.201,2,   0.028,2,   0.113,2,  2375.5,2,  2372.6,2,   39.96,2, -999.00,9,    34.5416,2,     634.78,2,       0.23,       0.01,       0.09,       0.01,      0.006,     -999.0,9,    2.75135,2,      0.070,1,      0.000,2,     -999.0,9,     -999.0,9,     -999.0,9,     99.756,     0.0098,2,      0.063,1,      0.524,1,     -999.0,9
49NZ20210713,        P01,      25,          1,         23,     X12S23,2,20210720,       2215,    41.2678,   150.3863,       5384,  1001.4,2,   2.6477,2,  34.4006,2,  34.3995,2,    30.31,2,   30.86,2,  152.40,2,    0.02,2,   43.35,2,    0.00,2,   3.088,2,   0.232,2,   0.153,2,   0.026,2,   0.102,2,  2380.8,2,  2376.2,2,   37.31,2, -999.00,9,    34.5789,2,     635.38,2,       0.24,       0.01,       0.09,       0.01,      0.006,     0.0131,2,    2.64847,2,      0.068,1,      0.000,2,      0.377,1,      0.219,1,      0.039,1,     99.786,     0.0086,2,      0.061,1,      0.524,1,     -999.0,9
49NZ20210713,        P01,      25,          1,         22,     X12S22,2,20210720,       2215,    41.2678,   150.3863,       5384,  1199.9,2,   2.3855,2,  34.4639,2,  34.4638,2,    39.37,2,   38.91,2,  159.60,2,    0.01,2,   42.90,2,    0.00,2,   3.054,2,   0.144,2,   0.092,2,   0.013,2,   0.060,2,  2383.4,2,  2388.6,6,   39.48,2, -999.00,9,    34.6438,2,     636.58,2,       0.25,       0.01,       0.09,       0.01,      0.006,     -999.0,9,    2.38549,2,      0.066,1,      0.000,2,     -999.0,9,     -999.0,9,     -999.0,9,     99.820,     0.0072,2,      0.061,1,      0.520,1,     -999.0,9
49NZ20210713,        P01,      25,          1,         21,     X12S21,2,20210720,       2215,    41.2678,   150.3863,       5384,  1399.5,2,   2.1722,2,  34.4923,2,  34.4918,2,    51.43,2,   50.93,2,  164.01,2,    0.00,2,   42.23,2,    0.00,2,   3.004,2,   0.155,2,   0.102,2,   0.013,2,   0.109,2,  2382.6,2,  2394.0,2,   37.93,2, -999.00,9,    34.6728,2,     637.13,2,       0.26,       0.01,       0.09,       0.01,      0.006,     0.0127,2,    2.17227,2,      0.064,1,      0.000,2,      0.313,1,      0.173,1,      0.022,1,     99.804,     0.0078,2,      0.064,1,      0.520,1,     -999.0,9
49NZ20210713,        P01,      25,          1,         20,     X12S20,2,20210720,       2215,    41.2678,   150.3863,       5384,  1601.1,2,   2.1340,2,  34.5289,2,  34.5287,2,    54.16,2,   53.94,2,  164.85,2,    0.00,2,   42.14,2,    0.00,2,   2.989,2,   0.079,2,   0.053,2,   0.008,2,   0.053,2,  2380.6,2,  2397.4,2,   37.93,2, -999.00,9,    34.7104,2,     637.78,2,       0.26,       0.01,       0.09,       0.01,      0.006,     -999.0,9,    2.13406,2,      0.063,1,      0.000,2,     -999.0,9,     -999.0,9,     -999.0,9,     99.802,     0.0079,2,      0.068,1,      0.505,1,     -999.0,9
49NZ20210713,        P01,      25,          1,         19,     X12S19,2,20210720,       2215,    41.2678,   150.3863,       5384,  1799.0,2,   2.0407,2,  34.5669,2,  34.5675,2,    62.69,2,   62.55,2,  165.00,2,    0.00,2,   41.79,2,    0.00,2,   2.947,2,   0.023,2,   0.018,2,   0.005,2,   0.043,2,  2379.7,2,  2404.4,2,   36.57,2, -999.00,9,    34.7499,2,     638.53,2,       0.26,       0.01,       0.09,       0.01,      0.006,     0.0121,2,    2.04060,2,      0.061,1,      0.000,2,      0.270,1,      0.138,1,      0.012,1,     99.845,     0.0062,2,      0.060,1,      0.493,1,     -999.0,9
49NZ20210713,        P01,      25,          1,         18,     X12S18,2,20210720,       2215,    41.2678,   150.3863,       5384,  2000.6,2,   1.9086,2,  34.5977,2,  34.5972,2,    77.44,2,   77.32,2,  163.90,2,    0.00,2,   40.93,2,    0.00,2,   2.878,2,   0.002,2,   0.003,2,   0.001,2,   0.042,2,  2371.4,2,  2411.7,2,   39.99,2, -999.00,9,    34.7796,2,     638.98,2,       0.26,       0.01,       0.09,       0.01,      0.006,     -999.0,9,    1.90867,2,      0.060,1,      0.000,2,     -999.0,9,     -999.0,9,     -999.0,9,     99.880,     0.0048,2,      0.060,1,      0.476,1,     -999.0,9
49NZ20210713,        P01,      25,          1,         17,     X12S17,2,20210720,       2215,    41.2678,   150.3863,       5384,  2200.5,2,   1.7925,2,  34.6178,2,  34.6177,2,    89.39,2,   88.99,2,  163.96,2,    0.01,2,   40.21,2,    0.00,2,   2.815,2,   0.000,2,   0.000,2,   0.000,2,   0.057,2,  2367.2,2,  2412.6,2,   36.03,2, -999.00,9,    34.8027,2,     639.38,2,       0.26,       0.01,       0.08,       0.01,      0.006,     0.0112,2,    1.79254,2,      0.059,1,      0.000,2,      0.330,1,      0.190,1,      0.034,1,     99.880,     0.0048,2,      0.059,1,      0.470,1,     -999.0,9
49NZ20210713,        P01,      25,          1,         16,     X12S16,2,20210720,       2215,    41.2678,   150.3863,       5384,  2402.5,2,   1.7055,2,  34.6331,2,  34.6331,2,   100.37,2,  100.07,2,  163.17,2,    0.02,2,   39.48,2,    0.00,2,   2.764,2,   0.000,2,   0.000,2,   0.000,2,   0.041,2,  2360.8,6,  2412.4,2,   40.04,2, -999.00,9,    34.8172,2,     639.73,2,       0.25,       0.01,       0.08,       0.01,      0.006,     -999.0,9,    1.70553,2,      0.058,1,      0.000,2,     -999.0,9,     -999.0,9,     -999.0,9,     99.896,     0.0042,2,      0.054,1,      0.463,1,     -999.0,9
49NZ20210713,        P01,      25,          1,         15,     X12S15,2,20210720,       2215,    41.2678,   150.3863,       5384,  2600.9,2,   1.6419,2,  34.6444,2,  34.6437,2,   109.84,2,  109.84,2,  161.69,2,    0.02,2,   38.80,2,    0.01,2,   2.721,2,   0.000,2,   0.000,2,   0.000,2,   0.006,2,  2354.7,2,  2416.1,2,   37.98,2, -999.00,9,    34.8291,2,     639.93,2,       0.25,       0.01,       0.08,       0.01,      0.006,     0.0110,2,    1.64198,2,      0.058,1,      0.000,2,      0.219,1,      0.101,1,      0.007,1,     99.907,     0.0037,2,      0.054,1,      0.457,1,     -999.0,9
49NZ20210713,        P01,      25,          1,         14,     X12S14,2,20210720,       2215,    41.2678,   150.3863,       5384,  2799.4,2,   1.5882,2,  34.6540,2,  34.6538,2,   118.99,2,  119.16,2,  159.75,2,    0.02,2,   38.24,2,    0.00,2,   2.672,2,   0.000,2,   0.000,2,   0.005,2,   0.001,2,  2349.4,2,  2412.7,2,   36.77,2, -999.00,9,    34.8350,2,     639.98,2,       0.25,       0.01,       0.08,       0.01,      0.006,     -999.0,9,    1.58828,2,      0.057,1,      0.000,2,     -999.0,9,     -999.0,9,     -999.0,9,     99.921,     0.0032,2,      0.057,1,      0.447,1,     -999.0,9
49NZ20210713,        P01,      25,          1,         13,     X12S13,2,20210720,       2215,    41.2678,   150.3863,       5384,  3000.4,2,   1.5452,2,  34.6615,2,  34.6611,2,   126.76,2,  126.79,2,  157.55,2,    0.02,2,   37.73,2,    0.00,2,   2.623,2,   0.000,2,   0.002,2,   0.006,2,   0.007,2,  2342.1,2,  2413.2,2,   36.19,2, -999.00,9,    34.8466,2,     640.28,2,       0.25,       0.01,       0.08,       0.01,      0.006,     0.0104,2,    1.54513,2,      0.056,1,      0.000,2,      0.232,1,      0.111,1,      0.013,1,     99.914,     0.0034,2,      0.058,1,      0.445,1,     -999.0,9
49NZ20210713,        P01,      25,          1,         12,     X12S12,2,20210720,       2215,    41.2678,   150.3863,       5384,  3250.0,2,   1.5072,2,  34.6688,2,  34.6685,2,   134.59,2,  134.37,2,  155.67,2,    0.02,2,   37.28,2,    0.00,2,   2.586,2,   0.000,2,   0.000,2,   0.007,2,   0.000,2,  2337.7,2,  2412.8,6,   38.37,2, -999.00,9,    34.8521,2,     640.33,2,       0.24,       0.01,       0.08,       0.01,      0.006,     -999.0,9,    1.50718,2,      0.055,1,      0.000,2,     -999.0,9,     -999.0,9,     -999.0,9,     99.914,     0.0034,2,      0.056,1,      0.432,1,     -999.0,9
49NZ20210713,        P01,      25,          1,         11,     X12S11,2,20210720,       2215,    41.2678,   150.3863,       5384,  3501.4,2,   1.4845,2,  34.6740,2,  34.6739,2,   140.43,2,  140.30,2,  154.46,2,    0.01,2,   36.88,2,    0.00,2,   2.559,2,   0.000,2,   0.001,2,   0.000,2,   0.000,2,  2334.0,2,  2414.5,2,   38.53,2, -999.00,9,    34.8573,2,     640.48,2,       0.24,       0.01,       0.08,       0.01,      0.006,     0.0096,2,    1.48448,2,      0.054,1,      0.000,2,      0.281,1,      0.155,1,      0.029,1,     99.916,     0.0033,2,      0.054,1,      0.427,1,     -999.0,9
49NZ20210713,        P01,      25,          1,         10,     X12S10,2,20210720,       2215,    41.2678,   150.3863,       5384,  3749.5,2,   1.4693,2,  34.6782,2,  34.6786,2,   145.51,2,  145.16,2,  153.32,2,    0.01,2,   36.56,2,    0.00,2,   2.531,2,   0.000,2,   0.000,2,   0.000,2,   0.000,2,  2332.2,2,  2416.7,2,   38.49,2, -999.00,9,    34.8633,2,     640.48,2,       0.24,       0.01,       0.08,       0.01,      0.006,     -999.0,9,    1.46931,2,      0.053,1,      0.000,2,     -999.0,9,     -999.0,9,     -999.0,9,     99.930,     0.0028,2,      0.078,1,      0.403,1,     -999.0,9
49NZ20210713,        P01,      25,          1,          9,     X12S09,2,20210720,       2215,    41.2678,   150.3863,       5384,  4000.9,2,   1.4667,2,  34.6814,2,  34.6809,2,   149.38,2,  148.78,2,  152.25,2,    0.02,2,   36.33,2,    0.00,2,   2.507,2,   0.000,2,   0.003,2,   0.000,2,   0.000,2,  2328.7,2,  2413.3,2,   37.73,2, -999.00,9,    34.8640,2,     640.48,2,       0.24,       0.01,       0.08,       0.01,      0.006,     0.0096,2,    1.46672,2,      0.052,1,      0.000,2,      0.263,1,      0.139,1,      0.022,1,     99.937,     0.0025,2,      0.060,1,      0.380,1,     -999.0,9
49NZ20210713,        P01,      25,          1,          8,     X12S08,2,20210720,       2215,    41.2678,   150.3863,       5384,  4250.6,2,   1.4652,2,  34.6842,2,  34.6843,2,   153.13,2,  152.68,2,  151.35,2,    0.01,2,   36.08,2,    0.00,2,   2.490,2,   0.000,2,   0.000,2,   0.000,2,   0.004,2,  2324.2,6,  2414.6,2,   36.32,2, -999.00,9,    34.8666,2,     640.58,2,       0.24,       0.01,       0.08,       0.01,      0.006,     -999.0,9,    1.46518,2,      0.052,1,      0.000,2,     -999.0,9,     -999.0,9,     -999.0,9,     99.914,     0.0034,2,      0.052,1,      0.394,1,     -999.0,9
49NZ20210713,        P01,      25,          1,          7,     X12S07,2,20210720,       2215,    41.2678,   150.3863,       5384,  4499.5,2,   1.4752,2,  34.6862,2,  34.6860,2,   155.46,2,  155.16,2,  151.13,2,    0.00,2,   35.91,2,    0.00,2,   2.477,2,   0.005,2,   0.005,2,   0.000,2,   0.000,2,  2321.0,2,  2412.6,2,   35.40,2, -999.00,9,    34.8666,2,     640.63,2,       0.24,       0.01,       0.08,       0.01,      0.006,     0.0095,2,    1.47521,2,      0.052,1,      0.000,2,      0.294,1,      0.162,1,      0.031,1,     99.933,     0.0027,2,      0.052,1,      0.399,1,     -999.0,9