BOTTLE,20231011CCHSIOENA
EXPOCODE,SECT_ID,STNNBR,CASTNO,SAMPNO,BTLNBR,BTLNBR_FLAG_W,DATE,TIME,LATITUDE,LONGITUDE,DEPTH,CTDPRS,CTDPRS_FLAG_W,CTDTMP,CTDTMP_FLAG_W,CTDSAL,CTDSAL_FLAG_W,SALNTY,SALNTY_FLAG_W,CTDOXY,CTDOXY_FLAG_W,OXYGEN,OXYGEN_FLAG_W,SILCAT,SILCAT_FLAG_W,NH4,NH4_FLAG_W,NITRAT,NITRAT_FLAG_W,NITRIT,NITRIT_FLAG_W,PHSPHT,PHSPHT_FLAG_W,CFC-11,CFC-11_FLAG_W,CFC-12,CFC-12_FLAG_W,CFC113,CFC113_FLAG_W,SF6,SF6_FLAG_W,TCARBN,TCARBN_FLAG_W,ALKALI,ALKALI_FLAG_W,DOC,DOC_FLAG_W,TDN,TDN_FLAG_W,DNSSAL,DNSSAL_FLAG_W,RIANOMALY,RIANOMALY_FLAG_W,SILUNC,NH4UNC,NRAUNC,NRIUNC,PHPUNC,FDOM,FDOM_FLAG_W,REFTMP,REFTMP_FLAG_W,CTDFLUOR,CTDFLUOR_FLAG_W,PAR,PAR_FLAG_W,CDOM300,CDOM300_FLAG_W,CDOM325,CDOM325_FLAG_W,CDOM443,CDOM443_FLAG_W,CTDXMISS,CTDBEAMCP,CTDBEAMCP_FLAG_W,CTDTURB,CTDTURB_FLAG_W,CTDCDOM,CTDCDOM_FLAG_W,CHLORA,CHLORA_FLAG_W
,,,,,,,,,,,METERS,DBAR,,ITS-90,,PSS-78,,PSS-78,,UMOL/KG,,UMOL/KG,,UMOL/KG,,UMOL/KG,,UMOL/KG,,UMOL/KG,,UMOL/KG,,PMOL/KG,,PMOL/KG,,PMOL/KG,,FMOL/KG,,UMOL/KG,,UMOL/KG,,UMOL/KG,,UMOL/KG,,G/KG,,ND,,UMOL/KG,UMOL/KG,UMOL/KG,UMOL/KG,UMOL/KG,RFU,,ITS-90,,MG/M^3,,UMOL/M^2/SEC,,/METER,,/METER,,/METER,,%TRANS,/METER,,FTU,,QSU,,UG/L,
49NZ20210713,        P01,      36,          1,          6,     X12S06,2,20210724,       0705,    46.0696,   158.3264,       4838,  4669.3,2,   1.4846,2,  34.6879,2,  34.6881,2,   156.18,2,  155.83,2,  152.39,2,    0.01,2,   35.84,2,    0.00,2,   2.486,2,   0.008,2,   0.003,2,   0.000,2,   0.009,2,  2322.8,2,  2412.6,6,   38.47,2, -999.00,9,    34.8670,2,     640.66,2,       0.26,       0.01,       0.08,       0.01,      0.011,     -999.0,9,    1.48457,2,      0.056,1,      0.000,2,     -999.0,9,     -999.0,9,     -999.0,9,     99.886,     0.0045,2,      0.055,1,      0.415,1,     -999.0,9
49NZ20210713,        P01,      36,          1,          1,     X12S01,2,20210724,       0705,    46.0696,   158.3264,       4838,  4917.4,2,   1.5070,2,  34.6889,2,  34.6880,2,   157.18,2,  156.74,2,  153.30,2,    0.01,2,   35.85,2,    0.00,2,   2.487,2,   0.005,2,   0.001,2,   0.000,2,   0.018,2,  2324.3,2,  2413.3,2,   39.57,2, -999.00,9,    34.8696,2,     640.66,2,       0.79,       0.01,       0.08,       0.01,      0.009,     0.0099,2,    1.50703,2,      0.056,1,      0.000,2,      0.289,1,      0.160,1,      0.026,1,     99.698,     0.0121,2,      0.066,1,      0.412,1,     -999.0,9
49NZ20210713,        P01,      37,          1,          2,     X12B34,2,20210724,       1523,    46.5624,   159.2246,       5102,    25.3,2,   8.5443,2,  32.8998,2,-999.0000,9,   321.00,2, -999.00,9, -999.00,9, -999.00,9, -999.00,9, -999.00,9,-999.000,9,-999.000,9,-999.000,9,-999.000,9,-999.000,9,  -999.0,9,  -999.0,9, -999.00,9, -999.00,9,     -999.0,9,     -999.0,9,     -999.0,     -999.0,     -999.0,     -999.0,     -999.0,     -999.0,9,    8.54429,2,      1.920,1,      0.000,2,     -999.0,9,     -999.0,9,     -999.0,9,     94.834,     0.2122,2,      0.198,1,      0.265,1,     -999.0,9
49NZ20210713,        P01,      38,          1,         24,     X12S24,2,20210724,       2043,    47.0091,   160.0214,       5196,   135.6,2,   1.7945,2,  33.1698,2,  33.1734,2,   315.70,2,  316.82,2, -999.00,9, -999.00,9, -999.00,9, -999.00,9,-999.000,9,-999.000,9,-999.000,9,-999.000,9,-999.000,9,  -999.0,9,  -999.0,9, -999.00,9, -999.00,9,     -999.0,9,     -999.0,9,     -999.0,     -999.0,     -999.0,     -999.0,     -999.0,     -999.0,9,    1.79465,2,      0.116,1,      0.000,2,     -999.0,9,     -999.0,9,     -999.0,9,     99.250,     0.0301,2,      0.106,1,      0.344,1,     -999.0,9
49NZ20210713,        P01,      38,          1,          8,     X12S08,7,20210724,       2043,    47.0091,   160.0214,       5196,   155.5,4,   2.4098,4,  33.4075,4,  33.4645,2,   188.27,4,  187.15,2, -999.00,9, -999.00,9, -999.00,9, -999.00,9,-999.000,9,-999.000,9,-999.000,9,-999.000,9,-999.000,9,  -999.0,9,  -999.0,9, -999.00,9, -999.00,9,     -999.0,9,     -999.0,9,     -999.0,     -999.0,     -999.0,     -999.0,     -999.0,     -999.0,9,    2.38726,4,      0.089,4,      0.000,4,     -999.0,9,     -999.0,9,     -999.0,9,     99.377,     0.0250,4,      0.089,4,      0.421,4,     -999.0,9
49NZ20210713,        P01,      38,          1,         13,     X12S13,7,20210724,       2043,    47.0091,   160.0214,       5196,   156.9,4,   2.3835,4,  33.3986,4,  33.4032,2,   208.82,4,  212.16,2, -999.00,9, -999.00,9, -999.00,9, -999.00,9,-999.000,9,-999.000,9,-999.000,9,-999.000,9,-999.000,9,  -999.0,9,  -999.0,9, -999.00,9, -999.00,9,     -999.0,9,     -999.0,9,     -999.0,     -999.0,     -999.0,     -999.0,     -999.0,     -999.0,9,    2.38371,4,      0.097,4,      0.000,4,     -999.0,9,     -999.0,9,     -999.0,9,     99.414,     0.0235,4,      0.087,4,      0.404,4,     -999.0,9
49NZ20210713,        P01,      38,          1,         18,     X12S18,7,20210724,       2043,    47.0091,   160.0214,       5196,   157.0,4,   2.3498,4,  33.3876,4,  33.3880,2,   218.71,4,  218.81,2, -999.00,9, -999.00,9, -999.00,9, -999.00,9,-999.000,9,-999.000,9,-999.000,9,-999.000,9,-999.000,9,  -999.0,9,  -999.0,9, -999.00,9, -999.00,9,     -999.0,9,     -999.0,9,     -999.0,     -999.0,     -999.0,     -999.0,     -999.0,     -999.0,9,    2.34637,4,      0.092,4,      0.000,4,     -999.0,9,     -999.0,9,     -999.0,9,     99.404,     0.0239,4,      0.092,4,      0.411,4,     -999.0,9
49NZ20210713,        P01,      38,          1,         22,     X12S22,7,20210724,       2043,    47.0091,   160.0214,       5196,   157.1,4,   2.3191,4,  33.3773,4,  33.3725,2,   222.71,4,  224.96,2, -999.00,9, -999.00,9, -999.00,9, -999.00,9,-999.000,9,-999.000,9,-999.000,9,-999.000,9,-999.000,9,  -999.0,9,  -999.0,9, -999.00,9, -999.00,9,     -999.0,9,     -999.0,9,     -999.0,     -999.0,     -999.0,     -999.0,     -999.0,     -999.0,9,    2.32276,4,      0.097,4,      0.000,4,     -999.0,9,     -999.0,9,     -999.0,9,     99.374,     0.0251,4,      0.085,4,      0.402,4,     -999.0,9
49NZ20210713,        P01,      38,          1,         21,     X12S21,7,20210724,       2043,    47.0091,   160.0214,       5196,   157.1,4,   2.3231,4,  33.3758,4,  33.3762,2,   221.42,4,  223.63,2, -999.00,9, -999.00,9, -999.00,9, -999.00,9,-999.000,9,-999.000,9,-999.000,9,-999.000,9,-999.000,9,  -999.0,9,  -999.0,9, -999.00,9, -999.00,9,     -999.0,9,     -999.0,9,     -999.0,     -999.0,     -999.0,     -999.0,     -999.0,     -999.0,9,    2.32557,4,      0.093,4,      0.000,4,     -999.0,9,     -999.0,9,     -999.0,9,     99.365,     0.0255,4,      0.085,4,      0.405,4,     -999.0,9
49NZ20210713,        P01,      38,          1,         20,     X12S20,7,20210724,       2043,    47.0091,   160.0214,       5196,   157.1,4,   2.3273,4,  33.3806,4,  33.3793,2,   220.10,4,  222.19,2, -999.00,9, -999.00,9, -999.00,9, -999.00,9,-999.000,9,-999.000,9,-999.000,9,-999.000,9,-999.000,9,  -999.0,9,  -999.0,9, -999.00,9, -999.00,9,     -999.0,9,     -999.0,9,     -999.0,     -999.0,     -999.0,     -999.0,     -999.0,     -999.0,9,    2.32787,4,      0.097,4,      0.000,4,     -999.0,9,     -999.0,9,     -999.0,9,     99.416,     0.0234,4,      0.088,4,      0.398,4,     -999.0,9
49NZ20210713,        P01,      38,          1,         23,     X12S23,7,20210724,       2043,    47.0091,   160.0214,       5196,   157.2,4,   2.3226,4,  33.3774,4,  33.3725,2,   223.51,4,  224.84,2, -999.00,9, -999.00,9, -999.00,9, -999.00,9,-999.000,9,-999.000,9,-999.000,9,-999.000,9,-999.000,9,  -999.0,9,  -999.0,9, -999.00,9, -999.00,9,     -999.0,9,     -999.0,9,     -999.0,     -999.0,     -999.0,     -999.0,     -999.0,     -999.0,9,    2.31928,4,      0.102,4,      0.000,4,     -999.0,9,     -999.0,9,     -999.0,9,     99.395,     0.0243,4,      0.087,4,      0.397,4,     -999.0,9
49NZ20210713,        P01,      38,          1,         17,     X12S17,7,20210724,       2043,    47.0091,   160.0214,       5196,   157.2,4,   2.3526,4,  33.3889,4,  33.3987,2,   218.28,4,  212.92,2, -999.00,9, -999.00,9, -999.00,9, -999.00,9,-999.000,9,-999.000,9,-999.000,9,-999.000,9,-999.000,9,  -999.0,9,  -999.0,9, -999.00,9, -999.00,9,     -999.0,9,     -999.0,9,     -999.0,     -999.0,     -999.0,     -999.0,     -999.0,     -999.0,9,    2.35423,4,      0.094,4,      0.000,4,     -999.0,9,     -999.0,9,     -999.0,9,     99.381,     0.0248,4,      0.087,4,      0.406,4,     -999.0,9
49NZ20210713,        P01,      38,          1,         16,     X12S16,7,20210724,       2043,    47.0091,   160.0214,       5196,   157.2,4,   2.3478,4,  33.3881,4,  33.4008,2,   218.47,4,  213.18,2, -999.00,9, -999.00,9, -999.00,9, -999.00,9,-999.000,9,-999.000,9,-999.000,9,-999.000,9,-999.000,9,  -999.0,9,  -999.0,9, -999.00,9, -999.00,9,     -999.0,9,     -999.0,9,     -999.0,     -999.0,     -999.0,     -999.0,     -999.0,     -999.0,9,    2.34962,4,      0.094,4,      0.000,4,     -999.0,9,     -999.0,9,     -999.0,9,     99.379,     0.0249,4,      0.096,4,      0.401,4,     -999.0,9
49NZ20210713,        P01,      38,          1,         14,     X12S14,7,20210724,       2043,    47.0091,   160.0214,       5196,   157.2,4,   2.3606,4,  33.3920,4,  33.4040,2,   215.81,4,  211.91,2, -999.00,9, -999.00,9, -999.00,9, -999.00,9,-999.000,9,-999.000,9,-999.000,9,-999.000,9,-999.000,9,  -999.0,9,  -999.0,9, -999.00,9, -999.00,9,     -999.0,9,     -999.0,9,     -999.0,     -999.0,     -999.0,     -999.0,     -999.0,     -999.0,9,    2.36102,4,      0.092,4,      0.000,4,     -999.0,9,     -999.0,9,     -999.0,9,     99.409,     0.0237,4,      0.089,4,      0.406,4,     -999.0,9
49NZ20210713,        P01,      38,          1,         15,     X12S15,3,20210724,       2043,    47.0091,   160.0214,       5196,   157.3,4,   2.3531,4,  33.3887,4,  33.4047,2,   217.73,4,  210.67,2, -999.00,9, -999.00,9, -999.00,9, -999.00,9,-999.000,9,-999.000,9,-999.000,9,-999.000,9,-999.000,9,  -999.0,9,  -999.0,9, -999.00,9, -999.00,9,     -999.0,9,     -999.0,9,     -999.0,     -999.0,     -999.0,     -999.0,     -999.0,     -999.0,9,    2.35085,4,      0.091,4,      0.000,4,     -999.0,9,     -999.0,9,     -999.0,9,     99.404,     0.0239,4,      0.084,4,      0.404,4,     -999.0,9
49NZ20210713,        P01,      38,          1,         12,     X12S12,7,20210724,       2043,    47.0091,   160.0214,       5196,   157.5,4,   2.4187,4,  33.4098,4,  33.4159,2,   207.08,4,  205.97,2, -999.00,9, -999.00,9, -999.00,9, -999.00,9,-999.000,9,-999.000,9,-999.000,9,-999.000,9,-999.000,9,  -999.0,9,  -999.0,9, -999.00,9, -999.00,9,     -999.0,9,     -999.0,9,     -999.0,     -999.0,     -999.0,     -999.0,     -999.0,     -999.0,9,    2.41185,4,      0.088,4,      0.000,4,     -999.0,9,     -999.0,9,     -999.0,9,     99.397,     0.0242,4,      0.084,4,      0.406,4,     -999.0,9
49NZ20210713,        P01,      38,          1,         10,     X12S10,7,20210724,       2043,    47.0091,   160.0214,       5196,   157.8,4,   2.4281,4,  33.4140,4,  33.4427,2,   208.31,4,  195.81,2, -999.00,9, -999.00,9, -999.00,9, -999.00,9,-999.000,9,-999.000,9,-999.000,9,-999.000,9,-999.000,9,  -999.0,9,  -999.0,9, -999.00,9, -999.00,9,     -999.0,9,     -999.0,9,     -999.0,     -999.0,     -999.0,     -999.0,     -999.0,     -999.0,9,    2.43828,4,      0.088,4,      0.000,4,     -999.0,9,     -999.0,9,     -999.0,9,     99.365,     0.0255,4,      0.091,4,      0.408,4,     -999.0,9
49NZ20210713,        P01,      38,          1,          7,     X12S07,7,20210724,       2043,    47.0091,   160.0214,       5196,   157.8,4,   2.5536,4,  33.4579,4,  33.4928,2,   178.96,4,  176.80,2, -999.00,9, -999.00,9, -999.00,9, -999.00,9,-999.000,9,-999.000,9,-999.000,9,-999.000,9,-999.000,9,  -999.0,9,  -999.0,9, -999.00,9, -999.00,9,     -999.0,9,     -999.0,9,     -999.0,     -999.0,     -999.0,     -999.0,     -999.0,     -999.0,9,    2.53550,4,      0.087,4,      0.000,4,     -999.0,9,     -999.0,9,     -999.0,9,     99.333,     0.0268,4,      0.086,4,      0.416,4,     -999.0,9
49NZ20210713,        P01,      38,          1,          9,     X12S09,7,20210724,       2043,    47.0091,   160.0214,       5196,   158.0,4,   2.4392,4,  33.4223,4,  33.4875,2,   212.33,4,  178.72,2, -999.00,9, -999.00,9, -999.00,9, -999.00,9,-999.000,9,-999.000,9,-999.000,9,-999.000,9,-999.000,9,  -999.0,9,  -999.0,9, -999.00,9, -999.00,9,     -999.0,9,     -999.0,9,     -999.0,     -999.0,     -999.0,     -999.0,     -999.0,     -999.0,9,    2.46857,4,      0.087,4,      0.000,4,     -999.0,9,     -999.0,9,     -999.0,9,     99.402,     0.0240,4,      0.085,4,      0.409,4,     -999.0,9
49NZ20210713,        P01,      38,          1,         11,     X12S11,7,20210724,       2043,    47.0091,   160.0214,       5196,   158.4,4,   2.4565,4,  33.4241,4,  33.4182,2,   205.22,4,  205.26,2, -999.00,9, -999.00,9, -999.00,9, -999.00,9,-999.000,9,-999.000,9,-999.000,9,-999.000,9,-999.000,9,  -999.0,9,  -999.0,9, -999.00,9, -999.00,9,     -999.0,9,     -999.0,9,     -999.0,     -999.0,     -999.0,     -999.0,     -999.0,     -999.0,9,    2.46708,4,      0.089,4,      0.000,4,     -999.0,9,     -999.0,9,     -999.0,9,     99.400,     0.0241,4,      0.087,4,      0.409,4,     -999.0,9
49NZ20210713,        P01,      38,          1,          6,     X12S06,7,20210724,       2043,    47.0091,   160.0214,       5196,   164.3,4,   2.7516,4,  33.5205,4,  33.5467,2,   152.72,4,  155.37,2, -999.00,9, -999.00,9, -999.00,9, -999.00,9,-999.000,9,-999.000,9,-999.000,9,-999.000,9,-999.000,9,  -999.0,9,  -999.0,9, -999.00,9, -999.00,9,     -999.0,9,     -999.0,9,     -999.0,     -999.0,     -999.0,     -999.0,     -999.0,     -999.0,9,    2.73356,4,      0.085,4,      0.000,4,     -999.0,9,     -999.0,9,     -999.0,9,     99.227,     0.0310,4,      0.095,4,      0.431,4,     -999.0,9
49NZ20210713,        P01,      38,          1,          5,     X12S05,7,20210724,       2043,    47.0091,   160.0214,       5196,   173.1,4,   3.1417,4,  33.6367,4,  33.6668,2,   107.79,4,  107.00,2, -999.00,9, -999.00,9, -999.00,9, -999.00,9,-999.000,9,-999.000,9,-999.000,9,-999.000,9,-999.000,9,  -999.0,9,  -999.0,9, -999.00,9, -999.00,9,     -999.0,9,     -999.0,9,     -999.0,     -999.0,     -999.0,     -999.0,     -999.0,     -999.0,9,    3.10338,4,      0.087,4,      0.000,4,     -999.0,9,     -999.0,9,     -999.0,9,     99.193,     0.0324,4,      0.100,4,      0.457,4,     -999.0,9
49NZ20210713,        P01,      38,          1,          4,     X12S04,7,20210724,       2043,    47.0091,   160.0214,       5196,   185.1,4,   3.4855,4,  33.7492,4,  33.7708,2,    62.71,4,   62.53,2, -999.00,9, -999.00,9, -999.00,9, -999.00,9,-999.000,9,-999.000,9,-999.000,9,-999.000,9,-999.000,9,  -999.0,9,  -999.0,9, -999.00,9, -999.00,9,     -999.0,9,     -999.0,9,     -999.0,     -999.0,     -999.0,     -999.0,     -999.0,     -999.0,9,    3.46842,4,      0.085,4,      0.000,4,     -999.0,9,     -999.0,9,     -999.0,9,     99.165,     0.0335,4,      0.098,4,      0.479,4,     -999.0,9
49NZ20210713,        P01,      38,          1,          3,     X12S03,7,20210724,       2043,    47.0091,   160.0214,       5196,   197.8,4,   3.5592,4,  33.8291,4,  33.8390,2,    36.62,4,   35.56,2, -999.00,9, -999.00,9, -999.00,9, -999.00,9,-999.000,9,-999.000,9,-999.000,9,-999.000,9,-999.000,9,  -999.0,9,  -999.0,9, -999.00,9, -999.00,9,     -999.0,9,     -999.0,9,     -999.0,     -999.0,     -999.0,     -999.0,     -999.0,     -999.0,9,    3.56386,4,      0.079,4,      0.000,4,     -999.0,9,     -999.0,9,     -999.0,9,     99.292,     0.0284,4,      0.089,4,      0.500,4,     -999.0,9
49NZ20210713,        P01,      38,          1,          2,     X12B34,7,20210724,       2043,    47.0091,   160.0214,       5196,   209.9,4,   3.5884,4,  33.8725,4,  33.8838,2,    25.18,4,   24.66,2, -999.00,9, -999.00,9, -999.00,9, -999.00,9,-999.000,9,-999.000,9,-999.000,9,-999.000,9,-999.000,9,  -999.0,9,  -999.0,9, -999.00,9, -999.00,9,     -999.0,9,     -999.0,9,     -999.0,     -999.0,     -999.0,     -999.0,     -999.0,     -999.0,9,    3.58487,4,      0.077,4,      0.000,4,     -999.0,9,     -999.0,9,     -999.0,9,     99.388,     0.0245,4,      0.083,4,      0.507,4,     -999.0,9
49NZ20210713,        P01,      38,          1,          1,     X12S01,2,20210724,       2043,    47.0091,   160.0214,       5196,   220.1,2,   3.6540,2,  33.9111,2,  33.9099,2,    21.35,2,   21.28,2, -999.00,9, -999.00,9, -999.00,9, -999.00,9,-999.000,9,-999.000,9,-999.000,9,-999.000,9,-999.000,9,  -999.0,9,  -999.0,9, -999.00,9, -999.00,9,     -999.0,9,     -999.0,9,     -999.0,     -999.0,     -999.0,     -999.0,     -999.0,     -999.0,9,    3.65297,2,      0.078,1,      0.000,2,     -999.0,9,     -999.0,9,     -999.0,9,     99.480,     0.0208,2,      0.081,1,      0.507,1,     -999.0,9