BOTTLE,20231011CCHSIOENA
EXPOCODE,SECT_ID,STNNBR,CASTNO,SAMPNO,BTLNBR,BTLNBR_FLAG_W,DATE,TIME,LATITUDE,LONGITUDE,DEPTH,CTDPRS,CTDPRS_FLAG_W,CTDTMP,CTDTMP_FLAG_W,CTDSAL,CTDSAL_FLAG_W,SALNTY,SALNTY_FLAG_W,CTDOXY,CTDOXY_FLAG_W,OXYGEN,OXYGEN_FLAG_W,SILCAT,SILCAT_FLAG_W,NH4,NH4_FLAG_W,NITRAT,NITRAT_FLAG_W,NITRIT,NITRIT_FLAG_W,PHSPHT,PHSPHT_FLAG_W,CFC-11,CFC-11_FLAG_W,CFC-12,CFC-12_FLAG_W,CFC113,CFC113_FLAG_W,SF6,SF6_FLAG_W,TCARBN,TCARBN_FLAG_W,ALKALI,ALKALI_FLAG_W,DOC,DOC_FLAG_W,TDN,TDN_FLAG_W,DNSSAL,DNSSAL_FLAG_W,RIANOMALY,RIANOMALY_FLAG_W,SILUNC,NH4UNC,NRAUNC,NRIUNC,PHPUNC,FDOM,FDOM_FLAG_W,REFTMP,REFTMP_FLAG_W,CTDFLUOR,CTDFLUOR_FLAG_W,PAR,PAR_FLAG_W,CDOM300,CDOM300_FLAG_W,CDOM325,CDOM325_FLAG_W,CDOM443,CDOM443_FLAG_W,CTDXMISS,CTDBEAMCP,CTDBEAMCP_FLAG_W,CTDTURB,CTDTURB_FLAG_W,CTDCDOM,CTDCDOM_FLAG_W,CHLORA,CHLORA_FLAG_W
,,,,,,,,,,,METERS,DBAR,,ITS-90,,PSS-78,,PSS-78,,UMOL/KG,,UMOL/KG,,UMOL/KG,,UMOL/KG,,UMOL/KG,,UMOL/KG,,UMOL/KG,,PMOL/KG,,PMOL/KG,,PMOL/KG,,FMOL/KG,,UMOL/KG,,UMOL/KG,,UMOL/KG,,UMOL/KG,,G/KG,,ND,,UMOL/KG,UMOL/KG,UMOL/KG,UMOL/KG,UMOL/KG,RFU,,ITS-90,,MG/M^3,,UMOL/M^2/SEC,,/METER,,/METER,,/METER,,%TRANS,/METER,,FTU,,QSU,,UG/L,
49NZ20210713,        P01,      62,          1,          6,     X12S06,2,20210802,       2206,    46.9859,  -179.4262,       5743,  4830.3,2,   1.5218,2,  34.6867,2,  34.6870,2,   151.89,2,  151.58,2,  158.97,2,    0.01,2,   36.22,2,    0.00,2,   2.497,2,   0.000,4,   0.000,4,   0.001,4,   0.000,4,  2334.3,2,  2416.7,6,   39.06,2, -999.00,9,    34.8670,2,     640.80,2,       0.61,       0.01,       0.08,       0.01,      0.006,     -999.0,9,    1.52184,2,      0.054,1,      0.000,2,     -999.0,9,     -999.0,9,     -999.0,9,     99.967,     0.0013,2,      0.045,1,      0.341,1,     -999.0,9
49NZ20210713,        P01,      62,          1,          5,     X12S05,2,20210802,       2206,    46.9859,  -179.4262,       5743,  5080.6,2,   1.5503,2,  34.6871,2,  34.6872,2,   152.27,2,  152.08,2,  159.92,2,    0.01,2,   36.29,2,    0.00,2,   2.491,2,   0.000,4,   0.000,4,   0.000,4,   0.000,4,  2330.7,2,  2418.5,2,   38.15,2, -999.00,9,    34.8668,2,     640.80,2,       0.57,       0.01,       0.08,       0.01,      0.006,     0.0093,2,    1.55025,2,      0.054,1,      0.000,2,      0.297,1,      0.159,1,      0.022,1,     99.976,     0.0010,2,      0.045,1,      0.344,1,     -999.0,9
49NZ20210713,        P01,      62,          1,          4,     X12S04,2,20210802,       2206,    46.9859,  -179.4262,       5743,  5330.0,2,   1.5807,2,  34.6874,2,  34.6873,2,   152.66,2,  152.35,2,  159.59,2,    0.01,2,   36.26,2,    0.00,2,   2.492,2,   0.000,4,   0.000,4,   0.001,4,   0.000,4,  2330.7,2,  2418.7,2,   37.18,2, -999.00,9,    34.8661,2,     640.80,2,       0.25,       0.01,       0.08,       0.01,      0.006,     0.0096,2,    1.58082,2,      0.054,1,      0.000,2,      0.308,1,      0.172,1,      0.027,1,     99.967,     0.0013,2,      0.046,1,      0.342,1,     -999.0,9
49NZ20210713,        P01,      62,          1,          3,     X12S03,2,20210802,       2206,    46.9859,  -179.4262,       5743,  5579.8,2,   1.6113,2,  34.6876,2,  34.6876,2,   153.23,2,  153.09,2,  159.23,2,    0.00,2,   36.21,2,    0.00,2,   2.493,2,   0.000,4,   0.000,4,   0.001,4,   0.001,4,  2331.1,2,  2414.5,2,   38.24,2, -999.00,9,    34.8664,2,     640.80,2,       0.25,       0.01,       0.09,       0.01,      0.006,     0.0095,2,    1.61139,2,      0.053,1,      0.000,2,      0.284,1,      0.153,1,      0.020,1,     99.930,     0.0028,2,      0.047,1,      0.339,1,     -999.0,9
49NZ20210713,        P01,      62,          1,          1,     X12S01,2,20210802,       2206,    46.9859,  -179.4262,       5743,  5854.5,2,   1.6437,2,  34.6879,2,  34.6871,2,   154.44,2,  154.25,2,  157.88,2,    0.00,2,   36.08,2,    0.00,2,   2.487,2,   0.000,4,   0.001,4,   0.000,4,   0.016,4,  2331.4,2,  2417.4,2,   37.65,2, -999.00,9,    34.8677,2,     640.85,2,       0.25,       0.01,       0.08,       0.01,      0.006,     0.0094,2,    1.64363,2,      0.053,1,      0.000,2,      0.297,1,      0.167,1,      0.024,1,     99.837,     0.0065,2,      0.052,1,      0.324,1,     -999.0,9
49NZ20210713,        P01,      63,          1,          2,     X12B34,2,20210803,       1111,    46.9967,  -178.3073,       5509,    50.5,2,   5.5152,2,  33.0712,2,-999.0000,9,   317.88,2, -999.00,9, -999.00,9, -999.00,9, -999.00,9, -999.00,9,-999.000,9,-999.000,9,-999.000,9,-999.000,9,-999.000,9,  -999.0,9,  -999.0,9, -999.00,9, -999.00,9,     -999.0,9,     -999.0,9,     -999.0,     -999.0,     -999.0,     -999.0,     -999.0,     -999.0,9,    5.51774,2,      1.176,1,      0.000,2,     -999.0,9,     -999.0,9,     -999.0,9,     97.998,     0.0809,2,      0.115,1,      0.235,1,     -999.0,9