BOTTLE,20231011CCHSIOENA
EXPOCODE,SECT_ID,STNNBR,CASTNO,SAMPNO,BTLNBR,BTLNBR_FLAG_W,DATE,TIME,LATITUDE,LONGITUDE,DEPTH,CTDPRS,CTDPRS_FLAG_W,CTDTMP,CTDTMP_FLAG_W,CTDSAL,CTDSAL_FLAG_W,SALNTY,SALNTY_FLAG_W,CTDOXY,CTDOXY_FLAG_W,OXYGEN,OXYGEN_FLAG_W,SILCAT,SILCAT_FLAG_W,NH4,NH4_FLAG_W,NITRAT,NITRAT_FLAG_W,NITRIT,NITRIT_FLAG_W,PHSPHT,PHSPHT_FLAG_W,CFC-11,CFC-11_FLAG_W,CFC-12,CFC-12_FLAG_W,CFC113,CFC113_FLAG_W,SF6,SF6_FLAG_W,TCARBN,TCARBN_FLAG_W,ALKALI,ALKALI_FLAG_W,DOC,DOC_FLAG_W,TDN,TDN_FLAG_W,DNSSAL,DNSSAL_FLAG_W,RIANOMALY,RIANOMALY_FLAG_W,SILUNC,NH4UNC,NRAUNC,NRIUNC,PHPUNC,FDOM,FDOM_FLAG_W,REFTMP,REFTMP_FLAG_W,CTDFLUOR,CTDFLUOR_FLAG_W,PAR,PAR_FLAG_W,CDOM300,CDOM300_FLAG_W,CDOM325,CDOM325_FLAG_W,CDOM443,CDOM443_FLAG_W,CTDXMISS,CTDBEAMCP,CTDBEAMCP_FLAG_W,CTDTURB,CTDTURB_FLAG_W,CTDCDOM,CTDCDOM_FLAG_W,CHLORA,CHLORA_FLAG_W
,,,,,,,,,,,METERS,DBAR,,ITS-90,,PSS-78,,PSS-78,,UMOL/KG,,UMOL/KG,,UMOL/KG,,UMOL/KG,,UMOL/KG,,UMOL/KG,,UMOL/KG,,PMOL/KG,,PMOL/KG,,PMOL/KG,,FMOL/KG,,UMOL/KG,,UMOL/KG,,UMOL/KG,,UMOL/KG,,G/KG,,ND,,UMOL/KG,UMOL/KG,UMOL/KG,UMOL/KG,UMOL/KG,RFU,,ITS-90,,MG/M^3,,UMOL/M^2/SEC,,/METER,,/METER,,/METER,,%TRANS,/METER,,FTU,,QSU,,UG/L,
49NZ20210713,        P01,      12,          1,         36,     X12S36,2,20210717,       1609,    41.6432,   146.5191,       6034,    10.5,2,   8.7385,2,  32.7534,2,  32.7769,2,   338.74,2,  344.28,2,    3.46,2,    1.85,2,    2.94,2,    0.09,2,   0.636,2,   4.396,2,   2.045,2,   0.414,2,   3.864,2,  2038.4,2,  2236.5,2,   66.80,2, -999.00,9,    32.9351,2,     605.45,2,       0.04,       0.04,       0.02,       0.01,      0.006,     0.0114,2,    8.64078,2,      2.017,1,      1.242,2,      0.695,1,      0.416,1,      0.058,1,     91.149,     0.3707,2,      0.301,1,      0.562,1,       1.20,2
49NZ20210713,        P01,      12,          1,         35,     X12S35,2,20210717,       1609,    41.6432,   146.5191,       6034,    50.4,2,   2.4787,2,  32.9933,2,  32.9967,2,   303.62,2,  305.02,2,   31.64,2,    3.61,2,   18.04,2,    0.26,2,   1.851,2,   5.143,2,   2.763,2,   0.451,2,   4.296,2,  2156.1,2,  2244.3,2,   57.38,2, -999.00,9,    33.1575,2,     609.50,2,       0.08,       0.07,       0.05,       0.01,      0.005,     0.0094,2,    2.47694,2,      0.144,1,      0.000,2,      0.526,1,      0.297,1,      0.043,1,     98.617,     0.0557,2,      0.154,1,      0.504,1,       0.11,2
49NZ20210713,        P01,      12,          1,         34,     X12S34,2,20210717,       1609,    41.6432,   146.5191,       6034,   100.1,2,   2.1477,2,  33.2220,2,  33.2214,2,   273.23,2,  273.89,2,   48.65,2,    0.03,2,   26.22,2,    0.02,2,   2.071,2,   4.887,2,   2.633,2,   0.415,2,   3.542,2,  2186.1,2,  2246.6,2,   55.51,2, -999.00,9,    33.3849,2,     613.70,2,       0.10,       0.01,       0.06,       0.01,      0.005,     0.0079,2,    2.14698,2,      0.099,1,      0.000,2,      0.472,1,      0.257,1,      0.037,1,     98.910,     0.0438,2,      0.154,1,      0.481,1,       0.06,2
49NZ20210713,        P01,      12,          1,         33,     X12S33,2,20210717,       1609,    41.6432,   146.5191,       6034,   150.3,2,   4.4621,2,  33.6492,2,  33.6510,2,   223.05,2,  221.38,2,   48.37,2,    0.03,2,   24.86,2,    0.01,2,   1.898,2,   3.808,2,   1.801,2,   0.273,2,   2.874,2,  2194.0,2,  2267.0,2,   49.44,2, -999.00,9,    33.8148,2,     621.65,2,       0.17,       0.01,       0.06,       0.01,      0.005,     0.0089,2,    4.46482,2,      0.072,1,      0.000,2,      0.462,1,      0.269,1,      0.051,1,     99.406,     0.0238,2,      0.099,1,      0.495,1,       0.03,2
49NZ20210713,        P01,      12,          1,         32,     X12S32,2,20210717,       1609,    41.6432,   146.5191,       6034,   200.7,2,   3.5407,2,  33.6194,2,  33.6201,2,   190.16,2,  189.73,2,   63.06,2,    0.03,2,   29.87,2,    0.01,2,   2.260,2,   3.706,2,   2.031,2,   0.266,2,   2.673,2,  2230.2,2,  2273.1,2,   48.27,2, -999.00,9,    33.7844,2,     621.05,2,       0.14,       0.01,       0.07,       0.01,      0.006,     0.0098,2,    3.54022,2,      0.073,1,      0.000,2,      0.430,1,      0.240,1,      0.038,1,     99.415,     0.0234,2,      0.091,1,      0.522,1,       0.03,2
49NZ20210713,        P01,      12,          1,         31,     X12S31,2,20210717,       1609,    41.6432,   146.5191,       6034,   249.9,2,   3.2612,2,  33.6488,2,  33.6510,2,   163.86,2,  162.62,2,   72.40,2,    0.03,2,   32.85,2,    0.01,2,   2.467,2,   3.482,2,   1.912,2,   0.242,2,   2.399,2,  2250.1,2,  2280.6,2,   48.76,2, -999.00,9,    33.8173,2,     621.70,2,       0.13,       0.01,       0.07,       0.01,      0.006,     0.0105,2,    3.26001,2,      0.071,1,      0.000,2,      0.449,1,      0.257,1,      0.045,1,     99.381,     0.0248,2,      0.090,1,      0.550,1,       0.03,2
49NZ20210713,        P01,      12,          1,         30,     X12S30,2,20210717,       1609,    41.6432,   146.5191,       6034,   300.0,2,   2.4455,2,  33.6224,2,  33.6241,2,   150.26,2,  149.62,2,   83.11,2,    0.02,2,   35.61,2,    0.02,2,   2.670,2,   3.441,2,   1.890,2,   0.250,2,   2.234,2,  2274.8,2,  2286.3,2,   46.23,2, -999.00,9,    33.7917,2,     621.20,2,       0.23,       0.01,       0.08,       0.01,      0.006,     0.0109,2,    2.44606,2,      0.071,1,      0.000,2,      0.501,1,      0.294,1,      0.061,1,     99.454,     0.0219,2,      0.095,1,      0.568,1,     -999.0,9
49NZ20210713,        P01,      12,          1,         29,     X12S29,2,20210717,       1609,    41.6432,   146.5191,       6034,   400.1,2,   3.2470,2,  33.8699,2,  33.8708,2,    82.35,2,   81.61,2,   97.69,2,    0.01,2,   39.72,2,    0.01,2,   2.894,2,   2.370,2,   1.277,2,   0.157,2,   1.342,2,  2314.3,2,  2304.4,2,   41.93,2, -999.00,9,    34.0406,2,     625.75,2,       0.17,       0.01,       0.08,       0.01,      0.006,     0.0122,2,    3.24773,2,      0.073,1,      0.000,2,      0.452,1,      0.265,1,      0.051,1,     99.665,     0.0134,2,      0.089,1,      0.597,1,     -999.0,9
49NZ20210713,        P01,      12,          1,         28,     X12S28,2,20210717,       1609,    41.6432,   146.5191,       6034,   500.6,2,   3.2881,2,  34.0214,2,  34.0205,2,    47.63,2,   48.31,2,  111.89,2,    0.01,2,   42.00,2,    0.00,2,   3.032,2,   1.661,2,   0.896,2,   0.107,2,   0.790,2,  2339.8,2,  2319.5,2,   41.33,2, -999.00,9,    34.1925,2,     628.50,2,       0.30,       0.01,       0.09,       0.01,      0.006,     0.0125,2,    3.28843,2,      0.076,1,      0.000,2,      0.498,1,      0.303,1,      0.064,1,     99.683,     0.0127,2,      0.074,1,      0.618,1,     -999.0,9
49NZ20210713,        P01,      12,          1,         27,     X12S27,2,20210717,       1609,    41.6432,   146.5191,       6034,   600.2,2,   3.6605,2,  34.1854,2,  34.1803,2,    40.72,2,   40.44,2,  117.10,2,    0.02,2,   41.71,2,    0.00,2,   3.008,2,   0.984,2,   0.539,2,   0.052,2,   0.420,2,  2345.3,2,  2337.7,2,   40.73,2, -999.00,9,    34.3542,2,     631.45,2,       0.28,       0.01,       0.09,       0.01,      0.006,     0.0129,2,    3.66126,2,      0.074,1,      0.000,2,      0.603,1,      0.396,1,      0.104,1,     99.779,     0.0088,2,      0.066,1,      0.610,1,     -999.0,9
49NZ20210713,        P01,      12,          1,         26,     X12S26,2,20210717,       1609,    41.6432,   146.5191,       6034,   700.5,2,   3.3500,2,  34.2314,2,  34.2325,2,    31.87,2,   31.99,2,  127.60,2,    0.03,2,   42.71,2,    0.00,2,   3.076,2,   0.736,2,   0.415,2,   0.036,2,   0.292,2,  2358.8,6,  2346.2,2,   41.51,2, -999.00,9,    34.4052,2,     632.40,2,       0.22,       0.01,       0.09,       0.01,      0.006,     -999.0,9,    3.34988,2,      0.074,1,      0.000,2,     -999.0,9,     -999.0,9,     -999.0,9,     99.667,     0.0133,2,      0.072,1,      0.620,1,     -999.0,9
49NZ20210713,        P01,      12,          1,         25,     X12S25,2,20210717,       1609,    41.6432,   146.5191,       6034,   800.3,2,   3.2141,2,  34.2989,2,  34.2962,2,    32.62,2,   32.96,2,  132.89,2,    0.02,2,   42.60,2,    0.00,2,   3.075,2,   0.511,2,   0.292,2,   0.026,2,   0.151,2,  2366.7,2,  2359.0,2,   37.61,2, -999.00,9,    34.4718,2,     633.50,2,       0.27,       0.01,       0.09,       0.01,      0.006,     0.0129,2,    3.21401,2,      0.073,1,      0.000,2,      0.412,1,      0.243,1,      0.046,1,     99.827,     0.0069,2,      0.064,1,      0.623,1,     -999.0,9
49NZ20210713,        P01,      12,          1,         24,     X12S24,2,20210717,       1609,    41.6432,   146.5191,       6034,   900.3,2,   3.0884,2,  34.3486,2,  34.3488,2,    34.96,2,   35.46,2,  137.73,2,    0.04,2,   42.49,2,    0.00,2,   3.045,2,   0.357,2,   0.216,2,   0.019,2,   0.113,2,  2368.7,2,  2364.1,2,   38.44,2, -999.00,9,    34.5238,2,     634.55,2,       0.22,       0.01,       0.09,       0.01,      0.006,     -999.0,9,    3.08836,2,      0.071,1,      0.000,2,     -999.0,9,     -999.0,9,     -999.0,9,     99.818,     0.0073,2,      0.070,1,      0.618,1,     -999.0,9
49NZ20210713,        P01,      12,          1,         23,     X12S23,2,20210717,       1609,    41.6432,   146.5191,       6034,  1000.5,2,   2.8931,2,  34.3765,2,  34.3768,2,    34.89,2,   36.01,2,  143.30,2,    0.03,2,   42.68,2,    0.00,2,   3.064,2,   0.296,2,   0.182,2,   0.012,2,   0.121,2,  2375.3,2,  2373.3,2,   39.90,2, -999.00,9,    34.5513,2,     635.05,2,       0.29,       0.01,       0.09,       0.01,      0.006,     0.0129,2,    2.89273,2,      0.071,1,      0.000,2,      0.399,1,      0.238,1,      0.049,1,     99.820,     0.0072,2,      0.065,1,      0.617,1,     -999.0,9
49NZ20210713,        P01,      12,          1,         22,     X12S22,3,20210717,       1609,    41.6432,   146.5191,       6034,  1200.6,2,   2.6166,2,  34.4476,2,  34.4445,3,    37.73,2,   37.80,2,  151.56,2,    0.03,2,   42.68,2,    0.00,2,   3.066,2,   0.162,2,   0.101,2,   0.007,2,   0.050,2,  2381.3,2,  2384.8,6,   38.60,2, -999.00,9,    34.6222,2,     636.20,2,       0.24,       0.01,       0.09,       0.01,      0.006,     -999.0,9,    2.61668,2,      0.070,1,      0.000,2,     -999.0,9,     -999.0,9,     -999.0,9,     99.711,     0.0116,2,      0.081,1,      0.610,1,     -999.0,9
49NZ20210713,        P01,      12,          1,         21,     X12S21,2,20210717,       1609,    41.6432,   146.5191,       6034,  1401.3,2,   2.3867,2,  34.4989,2,  34.4986,2,    44.35,2,   44.58,2,  157.62,2,    0.02,2,   42.54,2,    0.00,2,   3.046,2,   0.071,2,   0.044,2,   0.002,2,   0.031,2,  2385.9,2,  2392.0,2,   37.98,2, -999.00,9,    34.6778,2,     637.25,2,       0.25,       0.01,       0.09,       0.01,      0.006,     0.0129,2,    2.38672,2,      0.067,1,      0.000,2,      0.410,1,      0.250,1,      0.054,1,     99.711,     0.0116,2,      0.072,1,      0.606,1,     -999.0,9
49NZ20210713,        P01,      12,          1,         20,     X12S20,2,20210717,       1609,    41.6432,   146.5191,       6034,  1600.0,2,   2.2080,2,  34.5359,2,  34.5361,2,    52.74,2,   53.00,2,  161.11,2,    0.03,2,   42.22,2,    0.00,2,   3.009,2,   0.039,2,   0.024,2,   0.004,2,   0.006,2,  2383.2,2,  2400.2,2,   38.53,2, -999.00,9,    34.7133,2,     637.90,2,       0.25,       0.01,       0.09,       0.01,      0.006,     -999.0,9,    2.20817,2,      0.065,1,      0.000,2,     -999.0,9,     -999.0,9,     -999.0,9,     99.862,     0.0055,2,      0.060,1,      0.598,1,     -999.0,9
49NZ20210713,        P01,      12,          1,         19,     X12S19,2,20210717,       1609,    41.6432,   146.5191,       6034,  1800.4,2,   2.0819,2,  34.5684,2,  34.5683,2,    64.53,2,   65.07,2,  161.32,2,    0.02,2,   41.56,2,    0.00,2,   2.952,2,   0.013,2,   0.007,2,   0.002,2,   0.017,2,  2382.2,2,  2407.1,2,   52.19,4, -999.00,9,    34.7472,2,     638.50,2,       0.25,       0.01,       0.09,       0.01,      0.006,     0.0123,2,    2.08197,2,      0.063,1,      0.000,2,      0.336,1,      0.191,1,      0.035,1,     99.802,     0.0079,2,      0.063,1,      0.581,1,     -999.0,9
49NZ20210713,        P01,      12,          1,         18,     X12S18,2,20210717,       1609,    41.6432,   146.5191,       6034,  2000.8,2,   1.9493,2,  34.5928,2,  34.5935,2,    76.00,2,   76.15,2,  162.21,2,    0.02,2,   40.89,2,    0.00,2,   2.896,2,   0.005,2,   0.003,2,   0.000,2,   0.027,2,  2376.4,2,  2411.6,2,   37.36,2, -999.00,9,    34.7738,2,     639.00,2,       0.25,       0.01,       0.09,       0.01,      0.006,     -999.0,9,    1.94922,2,      0.062,1,      0.000,2,     -999.0,9,     -999.0,9,     -999.0,9,     99.878,     0.0049,2,      0.065,1,      0.570,1,     -999.0,9
49NZ20210713,        P01,      12,          1,         17,     X12S17,2,20210717,       1609,    41.6432,   146.5191,       6034,  2199.5,2,   1.8289,2,  34.6135,2,  34.6147,2,    87.60,2,   87.71,2,  162.71,2,    0.02,2,   40.23,2,    0.00,2,   2.851,2,   0.002,2,   0.000,2,   0.001,2,   0.053,2,  2370.0,2,  2411.8,2,   37.06,2, -999.00,9,    34.7927,2,     639.40,2,       0.25,       0.01,       0.08,       0.01,      0.006,     0.0113,2,    1.82893,2,      0.060,1,      0.000,2,      0.315,1,      0.179,1,      0.031,1,     99.880,     0.0048,2,      0.057,1,      0.558,1,     -999.0,9
49NZ20210713,        P01,      12,          1,         16,     X12S16,2,20210717,       1609,    41.6432,   146.5191,       6034,  2400.7,2,   1.7307,2,  34.6300,2,  34.6302,2,    98.46,2,   99.08,2,  161.87,2,    0.02,2,   39.53,2,    0.00,2,   2.787,2,   0.002,2,   0.000,2,   0.000,2,   0.015,2,  2364.4,6,  2414.6,2,   36.43,2, -999.00,9,    34.8087,2,     639.65,2,       0.25,       0.01,       0.08,       0.01,      0.006,     -999.0,9,    1.73085,2,      0.060,1,      0.000,2,     -999.0,9,     -999.0,9,     -999.0,9,     99.905,     0.0038,2,      0.059,1,      0.549,1,     -999.0,9
49NZ20210713,        P01,      12,          1,         15,     X12S15,2,20210717,       1609,    41.6432,   146.5191,       6034,  2600.2,2,   1.6667,2,  34.6421,2,  34.6422,2,   109.36,2,  110.10,2,  159.23,2,    0.02,2,   38.76,2,    0.00,2,   2.731,2,   0.004,2,   0.001,2,   0.000,2,   0.046,2,  2357.5,2,  2414.7,2,   37.71,2, -999.00,9,    34.8222,2,     639.85,2,       0.25,       0.01,       0.08,       0.01,      0.006,     0.0107,2,    1.66676,2,      0.058,1,      0.000,2,      0.307,1,      0.175,1,      0.022,1,     99.949,     0.0021,2,      0.057,1,      0.539,1,     -999.0,9
49NZ20210713,        P01,      12,          1,         14,     X12S14,2,20210717,       1609,    41.6432,   146.5191,       6034,  2801.1,2,   1.6094,2,  34.6519,2,  34.6522,2,   117.87,2,  118.40,2,  157.88,2,    0.02,2,   38.23,2,    0.00,2,   2.695,2,   0.000,2,   0.000,2,   0.000,2,   0.015,2,  2354.7,2,  2414.7,2,   38.63,2, -999.00,9,    34.8319,2,     640.15,2,       0.25,       0.01,       0.08,       0.01,      0.006,     -999.0,9,    1.60948,2,      0.058,1,      0.000,2,     -999.0,9,     -999.0,9,     -999.0,9,     99.926,     0.0030,2,      0.054,1,      0.540,1,     -999.0,9
49NZ20210713,        P01,      12,          1,         13,     X12S13,2,20210717,       1609,    41.6432,   146.5191,       6034,  2999.7,2,   1.5550,2,  34.6607,2,  34.6615,2,   126.34,2,  126.94,2,  156.61,2,    0.02,2,   37.77,2,    0.00,2,   2.646,2,   0.000,4,   0.000,4,   0.000,4,   0.000,4,  2348.1,2,  2415.7,2,   38.97,2, -999.00,9,    34.8395,2,     640.25,2,       0.25,       0.01,       0.08,       0.01,      0.006,     0.0102,2,    1.55506,2,      0.057,1,      0.000,2,      0.282,1,      0.154,1,      0.020,1,     99.898,     0.0041,2,      0.060,1,      0.530,1,     -999.0,9
49NZ20210713,        P01,      12,          1,         12,     X12S12,2,20210717,       1609,    41.6432,   146.5191,       6034,  3249.9,2,   1.5220,2,  34.6674,2,  34.6679,2,   133.50,2,  133.89,2,  154.30,2,    0.04,2,   37.09,2,    0.00,2,   2.591,2,   0.002,2,   0.000,2,   0.002,2,   0.031,2,  2340.4,2,  2413.8,6,   37.95,2, -999.00,9,    34.8476,2,     640.35,2,       0.24,       0.01,       0.08,       0.01,      0.006,     -999.0,9,    1.52192,2,      0.056,1,      0.000,2,     -999.0,9,     -999.0,9,     -999.0,9,     99.935,     0.0026,2,      0.057,1,      0.519,1,     -999.0,9
49NZ20210713,        P01,      12,          1,         11,     X12S11,2,20210717,       1609,    41.6432,   146.5191,       6034,  3500.7,2,   1.4966,2,  34.6730,2,  34.6740,2,   139.44,2,  140.14,2,  153.04,2,    0.02,2,   36.78,2,    0.00,2,   2.568,2,   0.006,2,   0.004,2,   0.001,2,   0.013,2,  2336.9,2,  2414.6,2,   37.87,2, -999.00,9,    34.8538,2,     640.45,2,       0.24,       0.01,       0.08,       0.01,      0.006,     0.0098,2,    1.49662,2,      0.054,1,      0.000,2,      0.295,1,      0.167,1,      0.025,1,     99.962,     0.0015,2,      0.056,1,      0.517,1,     -999.0,9
49NZ20210713,        P01,      12,          1,         10,     X12S10,2,20210717,       1609,    41.6432,   146.5191,       6034,  3749.7,2,   1.4812,2,  34.6772,2,  34.6779,2,   144.48,2,  145.24,2,  151.97,2,    0.04,2,   36.52,2,    0.00,2,   2.550,2,   0.002,2,   0.001,2,   0.001,2,   0.000,2,  2331.9,2,  2412.1,2,   37.89,2, -999.00,9,    34.8580,2,     640.55,2,       0.24,       0.01,       0.08,       0.01,      0.006,     -999.0,9,    1.48116,2,      0.054,1,      0.000,2,     -999.0,9,     -999.0,9,     -999.0,9,     99.837,     0.0065,2,      0.052,1,      0.516,1,     -999.0,9
49NZ20210713,        P01,      12,          1,          9,     X12S09,2,20210717,       1609,    41.6432,   146.5191,       6034,  4001.0,2,   1.4784,2,  34.6802,2,  34.6810,2,   148.02,2,  150.78,3,  151.11,2,    0.04,2,   36.26,2,    0.00,2,   2.531,2,   0.002,2,   0.001,2,   0.001,2,   0.003,2,  2329.2,2,  2412.9,2,   37.11,2, -999.00,9,    34.8619,2,     640.55,2,       0.24,       0.01,       0.08,       0.01,      0.007,     0.0095,2,    1.47844,2,      0.054,1,      0.000,2,      0.299,1,      0.169,1,      0.027,1,     99.965,     0.0014,2,      0.053,1,      0.506,1,     -999.0,9
49NZ20210713,        P01,      12,          1,          8,     X12S08,2,20210717,       1609,    41.6432,   146.5191,       6034,  4249.7,2,   1.4795,2,  34.6829,2,  34.6834,2,   151.45,2,  151.96,2,  150.03,2,    0.01,2,   36.06,2,    0.00,2,   2.506,2,   0.002,2,   0.000,2,   0.001,2,   0.012,2,  2329.1,6,  2412.4,2,   38.33,2, -999.00,9,    34.8625,2,     640.55,2,       0.24,       0.01,       0.09,       0.01,      0.006,     -999.0,9,    1.47946,2,      0.053,1,      0.000,2,     -999.0,9,     -999.0,9,     -999.0,9,     99.960,     0.0016,2,      0.057,1,      0.508,1,     -999.0,9
49NZ20210713,        P01,      12,          1,          7,     X12S07,2,20210717,       1609,    41.6432,   146.5191,       6034,  4501.6,2,   1.4858,2,  34.6853,2,  34.6859,2,   154.43,2,  154.66,2,  149.07,2,    0.01,2,   35.82,2,    0.00,2,   2.495,2,   0.004,2,   0.003,2,   0.001,2,   0.024,2,  2324.8,2,  2410.7,2,   36.73,2, -999.00,9,    34.8653,2,     640.65,2,       0.24,       0.01,       0.08,       0.01,      0.006,     0.0095,2,    1.48592,2,      0.053,1,      0.000,2,      0.278,1,      0.150,1,      0.021,1,     99.953,     0.0019,2,      0.050,1,      0.491,1,     -999.0,9
49NZ20210713,        P01,      12,          1,          6,     X12S06,2,20210717,       1609,    41.6432,   146.5191,       6034,  4750.2,2,   1.4974,2,  34.6871,2,  34.6877,2,   156.85,2,  157.32,2,  148.25,2,    0.02,2,   35.66,2,    0.00,2,   2.482,2,   0.005,2,   0.004,2,   0.001,2,   0.038,2,  2322.5,2,  2413.6,6,   42.99,4, -999.00,9,    34.8678,2,     640.65,2,       0.23,       0.01,       0.09,       0.01,      0.006,     -999.0,9,    1.49741,2,      0.052,1,      0.000,2,     -999.0,9,     -999.0,9,     -999.0,9,     99.953,     0.0019,2,      0.055,1,      0.485,1,     -999.0,9