BOTTLE,20231011CCHSIOENA
EXPOCODE,SECT_ID,STNNBR,CASTNO,SAMPNO,BTLNBR,BTLNBR_FLAG_W,DATE,TIME,LATITUDE,LONGITUDE,DEPTH,CTDPRS,CTDPRS_FLAG_W,CTDTMP,CTDTMP_FLAG_W,CTDSAL,CTDSAL_FLAG_W,SALNTY,SALNTY_FLAG_W,CTDOXY,CTDOXY_FLAG_W,OXYGEN,OXYGEN_FLAG_W,SILCAT,SILCAT_FLAG_W,NH4,NH4_FLAG_W,NITRAT,NITRAT_FLAG_W,NITRIT,NITRIT_FLAG_W,PHSPHT,PHSPHT_FLAG_W,CFC-11,CFC-11_FLAG_W,CFC-12,CFC-12_FLAG_W,CFC113,CFC113_FLAG_W,SF6,SF6_FLAG_W,TCARBN,TCARBN_FLAG_W,ALKALI,ALKALI_FLAG_W,DOC,DOC_FLAG_W,TDN,TDN_FLAG_W,DNSSAL,DNSSAL_FLAG_W,RIANOMALY,RIANOMALY_FLAG_W,SILUNC,NH4UNC,NRAUNC,NRIUNC,PHPUNC,FDOM,FDOM_FLAG_W,REFTMP,REFTMP_FLAG_W,CTDFLUOR,CTDFLUOR_FLAG_W,PAR,PAR_FLAG_W,CDOM300,CDOM300_FLAG_W,CDOM325,CDOM325_FLAG_W,CDOM443,CDOM443_FLAG_W,CTDXMISS,CTDBEAMCP,CTDBEAMCP_FLAG_W,CTDTURB,CTDTURB_FLAG_W,CTDCDOM,CTDCDOM_FLAG_W,CHLORA,CHLORA_FLAG_W
,,,,,,,,,,,METERS,DBAR,,ITS-90,,PSS-78,,PSS-78,,UMOL/KG,,UMOL/KG,,UMOL/KG,,UMOL/KG,,UMOL/KG,,UMOL/KG,,UMOL/KG,,PMOL/KG,,PMOL/KG,,PMOL/KG,,FMOL/KG,,UMOL/KG,,UMOL/KG,,UMOL/KG,,UMOL/KG,,G/KG,,ND,,UMOL/KG,UMOL/KG,UMOL/KG,UMOL/KG,UMOL/KG,RFU,,ITS-90,,MG/M^3,,UMOL/M^2/SEC,,/METER,,/METER,,/METER,,%TRANS,/METER,,FTU,,QSU,,UG/L,
49NZ20210713,        P01,      83,          1,         36,     X12S36,2,20210812,       2240,    46.9879,  -155.8510,       5253,    10.4,2,  13.9695,2,  32.3803,2,  32.3772,2,   274.21,2,  271.70,2,   18.24,2,    0.07,2,   10.57,2,    0.12,2,   1.022,2,   2.979,2,   1.555,2,   0.162,2,   2.983,2,  2009.3,2,  2182.3,2,   60.69,2, -999.00,9,    32.5348,2,     598.15,2,       0.06,       0.01,       0.03,       0.01,      0.004,     0.0034,2,   13.96900,2,      1.149,1,    186.366,2,      0.361,1,      0.188,1,      0.021,1,     92.862,     0.2962,2,      0.281,1,      0.180,1,       0.61,2
49NZ20210713,        P01,      83,          1,          2,     X12B34,2,20210812,       2240,    46.9879,  -155.8510,       5253,    25.5,2,  13.9186,2,  32.3826,2,  32.3952,2,   273.67,2,  275.37,2,   18.29,2,    0.09,2,   10.71,2,    0.12,2,   1.037,2,-999.000,9,-999.000,9,-999.000,9,-999.000,9,  2011.3,2,  2182.4,2,   59.16,2, -999.00,9,    32.5520,2,     598.45,2,       0.06,       0.01,       0.03,       0.01,      0.004,     0.0028,2,   13.90462,2,      1.908,1,     38.984,2,      0.364,1,      0.193,1,      0.025,1,     92.848,     0.2968,2,      0.283,1,      0.179,1,       0.61,2
49NZ20210713,        P01,      83,          1,         35,     X12S35,2,20210812,       2240,    46.9879,  -155.8510,       5253,    50.9,2,   8.3718,2,  32.6212,2,  32.6350,2,   305.34,2,  304.16,2,   19.39,2,    0.44,2,   12.92,2,    0.11,2,   1.211,2,   3.939,2,   2.025,2,   0.258,2,   3.523,2,  2049.5,2,  2196.3,2,   54.60,2, -999.00,9,    32.7922,2,     602.95,2,       0.08,       0.02,       0.04,       0.01,      0.004,     0.0049,2,    8.37404,2,      1.674,1,      4.798,2,      0.427,1,      0.243,1,      0.046,1,     97.158,     0.1153,2,      0.122,1,      0.208,1,       0.44,2
49NZ20210713,        P01,      83,          1,         34,     X12S34,2,20210812,       2240,    46.9879,  -155.8510,       5253,    99.7,2,   5.6246,2,  32.8516,2,  32.8579,2,   300.37,2,  299.70,2,   21.84,2,    0.01,2,   16.93,2,    0.02,2,   1.403,2,   4.293,2,   2.150,2,   0.268,2,   3.918,2,  2085.3,2,  2206.8,2,   51.03,2, -999.00,9,    33.0165,2,     607.20,2,       0.06,       0.01,       0.04,       0.01,      0.005,     0.0045,2,    5.62613,2,      0.282,1,      0.030,2,      0.347,1,      0.181,1,      0.026,1,     99.342,     0.0264,2,      0.068,1,      0.202,1,       0.14,2
49NZ20210713,        P01,      83,          1,         33,     X12S33,2,20210812,       2240,    46.9879,  -155.8510,       5253,   150.5,2,   5.9960,2,  33.6230,2,  33.6229,2,   250.13,2,  249.50,2,   30.82,2,    0.01,2,   20.63,2,    0.01,2,   1.530,2,   3.943,2,   1.971,2,   0.240,2,   3.228,2,  2147.6,2,  2249.8,2,   47.73,2, -999.00,9,    33.7855,2,     621.35,2,       0.08,       0.01,       0.05,       0.01,      0.005,     0.0068,2,    5.99750,2,      0.068,1,      0.000,2,      0.342,1,      0.188,1,      0.027,1,     99.645,     0.0142,2,      0.064,1,      0.239,1,       0.02,2
49NZ20210713,        P01,      83,          1,         32,     X12S32,2,20210812,       2240,    46.9879,  -155.8510,       5253,   202.4,2,   5.6891,2,  33.7549,2,  33.7546,2,   198.15,2,  197.53,2,   43.32,2,    0.01,2,   25.62,2,    0.01,2,   1.856,2,   3.573,2,   1.765,2,   0.220,2,   2.492,2,  2187.5,2,  2261.2,2,   53.42,2, -999.00,9,    33.9188,2,     623.70,2,       0.09,       0.01,       0.06,       0.01,      0.005,     0.0089,2,    5.68855,2,      0.065,1,      0.000,2,      0.367,1,      0.207,1,      0.030,1,     99.661,     0.0136,2,      0.063,1,      0.261,1,       0.01,2
49NZ20210713,        P01,      83,          1,         31,     X12S31,2,20210812,       2240,    46.9879,  -155.8510,       5253,   250.4,2,   5.1487,2,  33.8033,2,  33.8098,2,   137.81,2,  136.69,2,   60.49,2,    0.02,2,   32.08,2,    0.01,2,   2.299,2,   3.062,2,   1.488,2,   0.267,2,   1.782,2,  2239.7,2,  2276.1,2,   49.76,2, -999.00,9,    33.9782,2,     624.80,2,       0.12,       0.01,       0.07,       0.01,      0.006,     0.0104,2,    5.14835,2,      0.067,1,      0.000,2,      0.394,1,      0.227,1,      0.040,1,     99.747,     0.0101,2,      0.054,1,      0.283,1,       0.01,2
49NZ20210713,        P01,      83,          1,         30,     X12S30,2,20210812,       2240,    46.9879,  -155.8510,       5253,   280.2,2,   4.8745,2,  33.8339,2,  33.8342,2,   120.17,2,  119.05,2,   66.70,2,    0.01,2,   34.09,2,    0.01,2,   2.442,2,   2.861,2,   1.392,2,   0.235,2,   1.553,2,  2257.7,2,  2280.1,2,   46.78,2, -999.00,9,    34.0026,2,     625.25,2,       0.13,       0.01,       0.07,       0.01,      0.006,     0.0107,2,    4.87491,2,      0.066,1,      0.000,2,      0.409,1,      0.243,1,      0.044,1,     99.789,     0.0084,2,      0.055,1,      0.291,1,     -999.0,9
49NZ20210713,        P01,      83,          1,         29,     X12S29,2,20210812,       2240,    46.9879,  -155.8510,       5253,   368.6,2,   4.3781,2,  33.9125,2,  33.9133,2,    79.72,2,   79.37,2,   82.18,2,    0.02,2,   38.62,2,    0.00,2,   2.731,2,   2.351,2,   1.263,2,   0.233,2,   1.061,2,  2292.2,2,  2292.6,2,   45.53,2, -999.00,9,    34.0828,2,     626.65,2,       0.15,       0.01,       0.08,       0.01,      0.006,     0.0119,2,    4.37820,2,      0.068,1,      0.000,2,      0.429,1,      0.256,1,      0.053,1,     99.805,     0.0078,2,      0.051,1,      0.308,1,     -999.0,9
49NZ20210713,        P01,      83,          1,         28,     X12S28,2,20210812,       2240,    46.9879,  -155.8510,       5253,   470.2,2,   4.0589,2,  34.0055,2,  34.0064,2,    53.11,2,   53.82,2,   96.00,2,    0.00,2,   41.06,2,    0.00,2,   2.916,2,   1.822,2,   0.960,2,   0.177,2,   0.728,2,  2320.2,2,  2307.6,2,   42.02,2, -999.00,9,    34.1780,2,     628.40,2,       0.16,       0.01,       0.15,       0.01,      0.006,     0.0119,2,    4.05875,2,      0.069,1,      0.000,2,      0.419,1,      0.246,1,      0.051,1,     99.796,     0.0082,2,      0.049,1,      0.309,1,     -999.0,9
49NZ20210713,        P01,      83,          1,         27,     X12S27,2,20210812,       2240,    46.9879,  -155.8510,       5253,   570.6,2,   3.8694,2,  34.1152,2,  34.1149,2,    38.87,2,   39.22,2,  108.21,2,    0.00,2,   42.17,2,    0.00,2,   2.992,2,   1.213,2,   0.665,2,   0.134,2,   0.453,2,  2337.4,2,  2324.2,2,   43.14,2, -999.00,9,    34.2888,2,     630.35,2,       0.18,       0.01,       0.09,       0.01,      0.006,     0.0127,2,    3.86980,2,      0.069,1,      0.000,2,      0.406,1,      0.243,1,      0.048,1,     99.884,     0.0046,2,      0.046,1,      0.318,1,     -999.0,9
49NZ20210713,        P01,      83,          1,         26,     X12S26,2,20210812,       2240,    46.9879,  -155.8510,       5253,   670.3,2,   3.7206,2,  34.1910,2,  34.1898,2,    31.77,2,   32.20,2,  116.27,2,    0.00,2,   42.63,2,    0.00,2,   3.028,2,   0.806,2,   0.445,2,   0.082,2,   0.207,2,  2350.2,6,  2337.3,2,   41.68,2, -999.00,9,    34.3670,2,     631.70,2,       0.19,       0.01,       0.09,       0.01,      0.006,     -999.0,9,    3.72064,2,      0.069,1,      0.000,2,     -999.0,9,     -999.0,9,     -999.0,9,     99.864,     0.0055,2,      0.044,1,      0.315,1,     -999.0,9
49NZ20210713,        P01,      83,          1,         25,     X12S25,2,20210812,       2240,    46.9879,  -155.8510,       5253,   770.0,2,   3.5205,2,  34.2534,2,  34.2532,2,    24.97,2,   25.46,2,  124.49,2,    0.06,2,   43.29,2,    0.00,2,   3.063,2,   0.470,2,   0.271,2,   0.041,2,   0.104,2,  2364.3,2,  2346.7,2,   44.17,2, -999.00,9,    34.4285,2,     632.85,2,       0.24,       0.01,       0.09,       0.01,      0.006,     0.0126,2,    3.52123,2,      0.070,1,      0.000,2,      0.397,1,      0.235,1,      0.048,1,     99.884,     0.0046,2,      0.046,1,      0.317,1,     -999.0,9
49NZ20210713,        P01,      83,          1,         24,     X12S24,2,20210812,       2240,    46.9879,  -155.8510,       5253,   870.7,2,   3.2893,2,  34.3062,2,  34.3060,2,    20.64,2,   20.70,2,  132.59,2,    0.04,2,   43.74,2,    0.00,2,   3.111,2,   0.259,2,   0.155,2,   0.028,2,   0.042,2,  2374.3,2,  2360.8,2,   41.76,2, -999.00,9,    34.4840,2,     633.90,2,       0.21,       0.01,       0.09,       0.01,      0.009,     -999.0,9,    3.28928,2,      0.069,1,      0.000,2,     -999.0,9,     -999.0,9,     -999.0,9,     99.873,     0.0051,2,      0.042,1,      0.321,1,     -999.0,9
49NZ20210713,        P01,      83,          1,         23,     X12S23,2,20210812,       2240,    46.9879,  -155.8510,       5253,   969.9,2,   3.0930,2,  34.3472,2,  34.3469,2,    18.18,2,   18.21,2,  139.03,2,    0.02,2,   44.04,2,    0.00,2,   3.131,2,   0.149,2,   0.094,2,   0.006,2,   0.038,2,  2382.3,2,  2367.1,2,   41.35,2, -999.00,9,    34.5235,2,     634.60,2,       0.28,       0.01,       0.09,       0.01,      0.006,     0.0133,2,    3.09296,2,      0.070,1,      0.000,2,      0.393,1,      0.232,1,      0.040,1,     99.889,     0.0044,2,      0.040,1,      0.325,1,     -999.0,9
49NZ20210713,        P01,      83,          1,         22,     X12S22,2,20210812,       2240,    46.9879,  -155.8510,       5253,  1129.2,2,   2.8501,2,  34.3968,2,  34.3973,2,    17.43,2,   17.27,2,  147.64,2,    0.02,2,   44.44,2,    0.00,2,   3.149,2,   0.078,2,   0.050,2,   0.006,2,   0.019,2,  2390.9,2,  2378.9,6,   40.07,2, -999.00,9,    34.5763,2,     635.50,2,       0.23,       0.01,       0.09,       0.01,      0.007,     -999.0,9,    2.85028,2,      0.070,1,      0.000,2,     -999.0,9,     -999.0,9,     -999.0,9,     99.880,     0.0048,2,      0.041,1,      0.326,1,     -999.0,9
49NZ20210713,        P01,      83,          1,         21,     X12S21,2,20210812,       2240,    46.9879,  -155.8510,       5253,  1329.7,2,   2.5782,2,  34.4520,2,  34.4526,2,    18.14,2,   17.91,2,  156.77,2,    0.01,2,   44.64,2,    0.00,2,   3.147,2,   0.030,2,   0.023,2,   0.000,2,   0.005,2,  2401.6,2,  2389.6,2,   38.78,2, -999.00,9,    34.6323,2,     636.55,2,       0.25,       0.01,       0.09,       0.01,      0.006,     0.0133,2,    2.57851,2,      0.069,1,      0.000,2,      0.389,1,      0.234,1,      0.052,1,     99.903,     0.0039,2,      0.039,1,      0.332,1,     -999.0,9
49NZ20210713,        P01,      83,          1,         20,     X12S20,2,20210812,       2240,    46.9879,  -155.8510,       5253,  1529.2,2,   2.3504,2,  34.4998,2,  34.4998,2,    22.34,2,   22.30,2,  164.46,2,    0.01,2,   44.61,2,    0.01,2,   3.132,2,   0.010,2,   0.006,2,   0.000,2,   0.000,2,  2403.6,2,  2399.3,2,   40.84,2, -999.00,9,    34.6831,2,     637.50,2,       0.26,       0.01,       0.09,       0.01,      0.006,     -999.0,9,    2.35070,2,      0.067,1,      0.000,2,     -999.0,9,     -999.0,9,     -999.0,9,     99.917,     0.0033,2,      0.037,1,      0.328,1,     -999.0,9
49NZ20210713,        P01,      83,          1,         19,     X12S19,2,20210812,       2240,    46.9879,  -155.8510,       5253,  1728.7,2,   2.1721,2,  34.5393,2,  34.5373,3,    30.03,2,   29.55,2,  169.23,2,    0.00,2,   44.27,2,    0.01,2,   3.096,2,   0.000,2,   0.000,2,   0.000,2,   0.010,2,  2406.0,2,  2404.5,2,   40.85,2, -999.00,9,    34.7193,2,     638.10,2,       0.26,       0.01,       0.09,       0.01,      0.006,     0.0132,2,    2.17224,2,      0.065,1,      0.000,2,      0.371,1,      0.218,1,      0.045,1,     99.940,     0.0024,2,      0.037,1,      0.324,1,     -999.0,9
49NZ20210713,        P01,      83,          1,         18,     X12S18,2,20210812,       2240,    46.9879,  -155.8510,       5253,  1930.0,2,   2.0215,2,  34.5723,2,  34.5722,2,    41.73,2,   41.90,2,  173.14,2,    0.00,2,   43.52,2,    0.00,2,   3.038,2,   0.000,2,   0.000,2,   0.000,2,   0.000,2,  2403.5,2,  2413.1,2,   37.03,2, -999.00,9,    34.7546,2,     638.80,2,       0.27,       0.01,       0.09,       0.01,      0.006,     -999.0,9,    2.02160,2,      0.064,1,      0.000,2,     -999.0,9,     -999.0,9,     -999.0,9,     99.940,     0.0024,2,      0.038,1,      0.318,1,     -999.0,9
49NZ20210713,        P01,      83,          1,         17,     X12S17,2,20210812,       2240,    46.9879,  -155.8510,       5253,  2130.6,2,   1.9027,2,  34.5964,2,  34.5959,2,    54.70,2,   54.86,2,  175.04,2,    0.01,2,   42.76,2,    0.00,2,   2.981,2,   0.000,2,   0.000,2,   0.001,2,   0.000,2,  2395.9,2,  2415.2,2,   36.96,2, -999.00,9,    34.7794,2,     639.25,2,       0.27,       0.01,       0.09,       0.01,      0.006,     0.0124,2,    1.90283,2,      0.063,1,      0.000,2,      0.354,1,      0.205,1,      0.043,1,     99.940,     0.0024,2,      0.037,1,      0.316,1,     -999.0,9
49NZ20210713,        P01,      83,          1,         16,     X12S16,2,20210812,       2240,    46.9879,  -155.8510,       5253,  2330.4,2,   1.8077,2,  34.6140,2,  34.6149,2,    67.59,2,   68.53,2,  175.36,2,    0.02,2,   41.80,2,    0.00,2,   2.923,2,   0.000,2,   0.000,2,   0.000,2,   0.026,2,  2389.2,6,  2417.7,2,   35.28,2, -999.00,9,    34.7978,2,     639.55,2,       0.27,       0.01,       0.09,       0.01,      0.006,     -999.0,9,    1.80748,2,      0.061,1,      0.000,2,     -999.0,9,     -999.0,9,     -999.0,9,     99.940,     0.0024,2,      0.037,1,      0.309,1,     -999.0,9
49NZ20210713,        P01,      83,          1,         15,     X12S15,2,20210812,       2240,    46.9879,  -155.8510,       5253,  2529.7,2,   1.7305,2,  34.6279,2,  34.6286,2,    80.07,2,   80.29,2,  174.12,2,    0.01,2,   41.01,2,    0.00,2,   2.868,2,   0.000,2,   0.000,2,   0.002,2,   0.000,2,  2381.6,2,  2419.6,2,   36.74,2, -999.00,9,    34.8123,2,     639.80,2,       0.27,       0.01,       0.09,       0.01,      0.006,     0.0124,2,    1.73057,2,      0.061,1,      0.000,2,      0.336,1,      0.193,1,      0.034,1,     99.952,     0.0019,2,      0.037,1,      0.303,1,     -999.0,9
49NZ20210713,        P01,      83,          1,         14,     X12S14,2,20210812,       2240,    46.9879,  -155.8510,       5253,  2730.6,2,   1.6650,2,  34.6396,2,  34.6402,2,    92.03,2,   92.15,2,  172.45,2,    0.02,2,   40.25,2,    0.00,2,   2.813,2,   0.000,2,   0.000,2,   0.000,2,   0.000,2,  2378.7,2,  2419.8,2,   39.73,2, -999.00,9,    34.8261,2,     640.00,2,       0.27,       0.01,       0.10,       0.01,      0.006,     -999.0,9,    1.66498,2,      0.060,1,      0.000,2,     -999.0,9,     -999.0,9,     -999.0,9,     99.959,     0.0016,2,      0.037,1,      0.303,1,     -999.0,9
49NZ20210713,        P01,      83,          1,         13,     X12S13,2,20210812,       2240,    46.9879,  -155.8510,       5253,  2929.6,2,   1.6103,2,  34.6495,2,  34.6496,2,   102.94,2,  103.16,2,  170.28,2,    0.04,2,   39.47,2,    0.00,2,   2.748,2,   0.000,2,   0.000,2,   0.000,2,   0.000,2,  2367.4,2,  2418.9,2,   37.23,2, -999.00,9,    34.8341,2,     640.15,2,       0.26,       0.01,       0.08,       0.01,      0.006,     0.0113,2,    1.61030,2,      0.059,1,      0.000,2,      0.325,1,      0.184,1,      0.032,1,     99.957,     0.0017,2,      0.038,1,      0.296,1,     -999.0,9
49NZ20210713,        P01,      83,          1,         12,     X12S12,2,20210812,       2240,    46.9879,  -155.8510,       5253,  3170.9,2,   1.5634,2,  34.6588,2,  34.6592,2,   114.02,2,  114.26,2,  168.17,2,    0.04,2,   38.78,2,    0.00,2,   2.698,2,   0.000,2,   0.000,2,   0.000,2,   0.000,2,  2362.6,2,  2420.6,6,   35.43,2, -999.00,9,    34.8446,2,     640.30,2,       0.26,       0.01,       0.08,       0.01,      0.006,     -999.0,9,    1.56337,2,      0.058,1,      0.000,2,     -999.0,9,     -999.0,9,     -999.0,9,     99.940,     0.0024,2,      0.038,1,      0.300,1,     -999.0,9
49NZ20210713,        P01,      83,          1,         11,     X12S11,2,20210812,       2240,    46.9879,  -155.8510,       5253,  3420.1,2,   1.5228,2,  34.6671,2,  34.6677,2,   124.71,2,  125.02,2,  165.64,2,    0.03,2,   38.09,2,    0.00,2,   2.643,2,   0.000,2,   0.000,2,   0.000,2,   0.000,2,  2352.9,2,  2420.1,2,   38.71,2, -999.00,9,    34.8512,2,     640.55,2,       0.26,       0.01,       0.08,       0.01,      0.006,     0.0105,2,    1.52289,2,      0.058,1,      0.000,2,      0.304,1,      0.167,1,      0.029,1,     99.943,     0.0023,2,      0.037,1,      0.291,1,     -999.0,9
49NZ20210713,        P01,      83,          1,         10,     X12S10,2,20210812,       2240,    46.9879,  -155.8510,       5253,  3671.1,2,   1.4972,2,  34.6734,2,  34.6738,2,   132.99,2,  133.23,2,  163.87,2,    0.04,2,   37.44,2,    0.00,2,   2.602,2,   0.000,2,   0.000,2,   0.000,2,   0.000,2,  2347.9,2,  2420.2,2,   36.15,2, -999.00,9,    34.8571,2,     640.65,2,       0.26,       0.01,       0.08,       0.01,      0.006,     -999.0,9,    1.49712,2,      0.056,1,      0.000,2,     -999.0,9,     -999.0,9,     -999.0,9,     99.940,     0.0024,2,      0.037,1,      0.287,1,     -999.0,9
49NZ20210713,        P01,      83,          1,          9,     X12S09,2,20210812,       2240,    46.9879,  -155.8510,       5253,  3920.2,2,   1.4875,2,  34.6782,2,  34.6777,2,   138.29,2,  138.49,2,  164.44,2,    0.03,2,   37.21,2,    0.00,2,   2.573,2,   0.000,2,   0.000,2,   0.000,2,   0.000,2,  2344.9,2,  2421.8,2,   40.55,2, -999.00,9,    34.8600,2,     640.75,2,       0.26,       0.01,       0.08,       0.01,      0.006,     0.0099,2,    1.48751,2,      0.056,1,      0.000,2,      0.296,1,      0.163,1,      0.023,1,     99.945,     0.0022,2,      0.037,1,      0.285,1,     -999.0,9
49NZ20210713,        P01,      83,          1,          8,     X12S08,2,20210812,       2240,    46.9879,  -155.8510,       5253,  4171.3,2,   1.4930,2,  34.6813,2,  34.6815,2,   141.64,2,  141.70,2,  165.41,2,    0.03,2,   36.99,2,    0.00,2,   2.558,2,   0.000,2,   0.000,2,   0.000,2,   0.000,2,  2344.6,6,  2423.1,2,   41.77,2, -999.00,9,    34.8648,2,     640.70,2,       0.26,       0.01,       0.08,       0.01,      0.006,     -999.0,9,    1.49301,2,      0.056,1,      0.000,2,     -999.0,9,     -999.0,9,     -999.0,9,     99.977,     0.0009,2,      0.036,1,      0.285,1,     -999.0,9
49NZ20210713,        P01,      83,          1,          7,     X12S07,2,20210812,       2240,    46.9879,  -155.8510,       5253,  4420.6,2,   1.5074,2,  34.6834,2,  34.6834,2,   143.65,2,  143.70,2,  166.78,2,    0.01,2,   36.92,2,    0.01,2,   2.547,2,   0.000,2,   0.000,2,   0.000,2,   0.001,2,  2342.2,2,  2424.3,2,   40.38,2, -999.00,9,    34.8677,2,     640.75,2,       0.26,       0.01,       0.08,       0.01,      0.006,     0.0101,2,    1.50731,2,      0.055,1,      0.000,2,      0.294,1,      0.163,1,      0.023,1,     99.971,     0.0012,2,      0.039,1,      0.282,1,     -999.0,9