BOTTLE,20231011CCHSIOENA
EXPOCODE,SECT_ID,STNNBR,CASTNO,SAMPNO,BTLNBR,BTLNBR_FLAG_W,DATE,TIME,LATITUDE,LONGITUDE,DEPTH,CTDPRS,CTDPRS_FLAG_W,CTDTMP,CTDTMP_FLAG_W,CTDSAL,CTDSAL_FLAG_W,SALNTY,SALNTY_FLAG_W,CTDOXY,CTDOXY_FLAG_W,OXYGEN,OXYGEN_FLAG_W,SILCAT,SILCAT_FLAG_W,NH4,NH4_FLAG_W,NITRAT,NITRAT_FLAG_W,NITRIT,NITRIT_FLAG_W,PHSPHT,PHSPHT_FLAG_W,CFC-11,CFC-11_FLAG_W,CFC-12,CFC-12_FLAG_W,CFC113,CFC113_FLAG_W,SF6,SF6_FLAG_W,TCARBN,TCARBN_FLAG_W,ALKALI,ALKALI_FLAG_W,DOC,DOC_FLAG_W,TDN,TDN_FLAG_W,DNSSAL,DNSSAL_FLAG_W,RIANOMALY,RIANOMALY_FLAG_W,SILUNC,NH4UNC,NRAUNC,NRIUNC,PHPUNC,FDOM,FDOM_FLAG_W,REFTMP,REFTMP_FLAG_W,CTDFLUOR,CTDFLUOR_FLAG_W,PAR,PAR_FLAG_W,CDOM300,CDOM300_FLAG_W,CDOM325,CDOM325_FLAG_W,CDOM443,CDOM443_FLAG_W,CTDXMISS,CTDBEAMCP,CTDBEAMCP_FLAG_W,CTDTURB,CTDTURB_FLAG_W,CTDCDOM,CTDCDOM_FLAG_W,CHLORA,CHLORA_FLAG_W
,,,,,,,,,,,METERS,DBAR,,ITS-90,,PSS-78,,PSS-78,,UMOL/KG,,UMOL/KG,,UMOL/KG,,UMOL/KG,,UMOL/KG,,UMOL/KG,,UMOL/KG,,PMOL/KG,,PMOL/KG,,PMOL/KG,,FMOL/KG,,UMOL/KG,,UMOL/KG,,UMOL/KG,,UMOL/KG,,G/KG,,ND,,UMOL/KG,UMOL/KG,UMOL/KG,UMOL/KG,UMOL/KG,RFU,,ITS-90,,MG/M^3,,UMOL/M^2/SEC,,/METER,,/METER,,/METER,,%TRANS,/METER,,FTU,,QSU,,UG/L,
49NZ20210713,        P01,      42,          1,          5,     X12S05,2,20210727,       2134,    46.9985,   164.5137,       5920,  4919.9,2,   1.5190,2,  34.6876,2,  34.6874,2,   156.14,2,  156.22,2,  151.66,2,    0.01,2,   35.94,2,    0.00,2,   2.471,2,   0.002,2,   0.001,2,   0.000,2,   0.000,2,  2324.9,2,  2419.1,2,   37.35,2, -999.00,9,    34.8709,2,     640.67,2,       0.24,       0.01,       0.08,       0.01,      0.006,     0.0101,2,    1.51889,2,      0.055,1,      0.000,2,      0.284,1,      0.157,1,      0.024,1,     99.987,     0.0005,2,      0.044,1,      0.363,1,     -999.0,9
49NZ20210713,        P01,      42,          1,          4,     X12S04,2,20210727,       2134,    46.9985,   164.5137,       5920,  5171.1,2,   1.5426,2,  34.6885,2,  34.6887,2,   157.14,2,  157.12,2,  151.88,2,    0.01,2,   35.90,2,    0.00,2,   2.468,2,   0.006,2,   0.002,2,   0.000,2,   0.000,2,  2322.9,2,  2414.7,2,   38.68,2, -999.00,9,    34.8709,2,     640.67,2,       0.24,       0.01,       0.08,       0.01,      0.006,     0.0099,2,    1.54245,2,      0.054,1,      0.000,2,      0.283,1,      0.157,1,      0.026,1,     99.973,     0.0011,2,      0.047,1,      0.373,1,     -999.0,9
49NZ20210713,        P01,      42,          1,          3,     X12S03,2,20210727,       2134,    46.9985,   164.5137,       5920,  5420.1,2,   1.5710,2,  34.6891,2,  34.6890,2,   157.38,2,  157.51,2,  153.00,2,    0.01,2,   35.82,2,    0.00,2,   2.466,2,   0.005,2,   0.002,2,   0.000,2,   0.000,2,  2323.0,2,  2416.0,2,   36.72,2, -999.00,9,    34.8709,2,     640.67,2,       0.24,       0.01,       0.08,       0.01,      0.006,     0.0103,2,    1.57089,2,      0.054,1,      0.000,2,      0.435,1,      0.285,1,      0.072,1,     99.920,     0.0032,2,      0.049,1,      0.396,1,     -999.0,9
49NZ20210713,        P01,      42,          1,          2,     X12B34,2,20210727,       2134,    46.9985,   164.5137,       5920,  5668.5,2,   1.6033,2,  34.6892,2,  34.6891,2,   157.42,2,  157.53,2,  152.98,2,    0.01,2,   35.89,2,    0.00,2,   2.467,2,   0.004,2,   0.002,2,   0.000,2,   0.000,2,  2322.5,2,  2414.3,2,   37.30,2, -999.00,9,    34.8721,2,     640.62,2,       0.24,       0.01,       0.08,       0.01,      0.006,     0.0104,2,    1.60333,2,      0.054,1,      0.000,2,      0.216,1,      0.102,1,      0.011,1,     99.899,     0.0040,2,      0.051,1,      0.420,1,     -999.0,9
49NZ20210713,        P01,      42,          1,          1,     X12S01,2,20210727,       2134,    46.9985,   164.5137,       5920,  6038.1,2,   1.6525,2,  34.6894,2,  34.6894,2,   157.71,2,  157.83,2,  152.86,2,    0.01,2,   35.83,2,    0.00,2,   2.468,2,   0.006,2,   0.002,2,   0.000,2,   0.003,2,  2321.9,2,  2413.6,2,   39.80,2, -999.00,9,    34.8710,2,     640.67,2,       0.24,       0.01,       0.08,       0.01,      0.006,     0.0104,2,    1.65245,2,      0.054,1,      0.000,2,      0.291,1,      0.161,1,      0.026,1,     99.844,     0.0062,2,      0.052,1,      0.397,1,     -999.0,9