BOTTLE,20231011CCHSIOENA
EXPOCODE,SECT_ID,STNNBR,CASTNO,SAMPNO,BTLNBR,BTLNBR_FLAG_W,DATE,TIME,LATITUDE,LONGITUDE,DEPTH,CTDPRS,CTDPRS_FLAG_W,CTDTMP,CTDTMP_FLAG_W,CTDSAL,CTDSAL_FLAG_W,SALNTY,SALNTY_FLAG_W,CTDOXY,CTDOXY_FLAG_W,OXYGEN,OXYGEN_FLAG_W,SILCAT,SILCAT_FLAG_W,NH4,NH4_FLAG_W,NITRAT,NITRAT_FLAG_W,NITRIT,NITRIT_FLAG_W,PHSPHT,PHSPHT_FLAG_W,CFC-11,CFC-11_FLAG_W,CFC-12,CFC-12_FLAG_W,CFC113,CFC113_FLAG_W,SF6,SF6_FLAG_W,TCARBN,TCARBN_FLAG_W,ALKALI,ALKALI_FLAG_W,DOC,DOC_FLAG_W,TDN,TDN_FLAG_W,DNSSAL,DNSSAL_FLAG_W,RIANOMALY,RIANOMALY_FLAG_W,SILUNC,NH4UNC,NRAUNC,NRIUNC,PHPUNC,FDOM,FDOM_FLAG_W,REFTMP,REFTMP_FLAG_W,CTDFLUOR,CTDFLUOR_FLAG_W,PAR,PAR_FLAG_W,CDOM300,CDOM300_FLAG_W,CDOM325,CDOM325_FLAG_W,CDOM443,CDOM443_FLAG_W,CTDXMISS,CTDBEAMCP,CTDBEAMCP_FLAG_W,CTDTURB,CTDTURB_FLAG_W,CTDCDOM,CTDCDOM_FLAG_W,CHLORA,CHLORA_FLAG_W
,,,,,,,,,,,METERS,DBAR,,ITS-90,,PSS-78,,PSS-78,,UMOL/KG,,UMOL/KG,,UMOL/KG,,UMOL/KG,,UMOL/KG,,UMOL/KG,,UMOL/KG,,PMOL/KG,,PMOL/KG,,PMOL/KG,,FMOL/KG,,UMOL/KG,,UMOL/KG,,UMOL/KG,,UMOL/KG,,G/KG,,ND,,UMOL/KG,UMOL/KG,UMOL/KG,UMOL/KG,UMOL/KG,RFU,,ITS-90,,MG/M^3,,UMOL/M^2/SEC,,/METER,,/METER,,/METER,,%TRANS,/METER,,FTU,,QSU,,UG/L,
49NZ20210713,        P01,      29,          1,          6,     X12S06,2,20210722,       0250,    42.6778,   152.7024,       5300,  4671.7,2,   1.4864,2,  34.6873,2,  34.6880,2,   156.44,2,  156.09,2,  151.31,2,    0.00,2,   35.90,2,    0.00,2,   2.476,2,   0.004,2,   0.001,2,   0.000,2,   0.000,2,  2323.2,2,  2413.1,6,   40.49,3, -999.00,9,    34.8685,2,     640.67,2,       0.24,       0.01,       0.08,       0.01,      0.006,     -999.0,9,    1.48642,2,      0.056,1,      0.000,2,     -999.0,9,     -999.0,9,     -999.0,9,     99.948,     0.0021,2,      0.052,1,      0.428,1,     -999.0,9
49NZ20210713,        P01,      29,          1,          5,     X12S05,2,20210722,       0250,    42.6778,   152.7024,       5300,  4919.9,2,   1.5102,2,  34.6881,2,  34.6887,2,   157.12,2,  156.50,2,  151.52,2,    0.01,2,   35.78,2,    0.00,2,   2.469,2,   0.008,2,   0.004,2,   0.000,2,   0.000,2,  2323.9,2,  2412.7,2,   40.44,3, -999.00,9,    34.8672,2,     640.67,2,       0.24,       0.01,       0.08,       0.01,      0.006,     0.0101,2,    1.51021,2,      0.056,1,      0.000,2,      0.521,1,      0.342,1,      0.090,1,     99.888,     0.0045,2,      0.054,1,      0.426,1,     -999.0,9
49NZ20210713,        P01,      29,          1,          4,     X12S04,2,20210722,       0250,    42.6778,   152.7024,       5300,  5169.1,2,   1.5368,2,  34.6886,2,  34.6894,2,   157.52,2,  157.30,2,  151.96,2,    0.01,2,   35.83,2,    0.00,2,   2.471,2,   0.008,2,   0.003,2,   0.001,2,   0.000,2,  2324.7,2,  2412.7,2,   42.80,3, -999.00,9,    34.8672,2,     640.67,2,       0.24,       0.01,       0.08,       0.01,      0.006,     0.0104,2,    1.53682,2,      0.056,1,      0.000,2,      0.263,1,      0.140,1,      0.021,1,     99.691,     0.0124,2,      0.068,1,      0.440,1,     -999.0,9
49NZ20210713,        P01,      29,          1,          1,     X12S01,2,20210722,       0250,    42.6778,   152.7024,       5300,  5392.0,2,   1.5621,2,  34.6890,2,  34.6891,2,   158.22,2,  157.74,2,  151.91,2,    0.01,2,   35.73,2,    0.00,2,   2.468,2,   0.007,2,   0.002,2,   0.001,2,   0.000,2,  2319.0,2,  2409.0,2,   42.52,3, -999.00,9,    34.8676,2,     640.57,2,       0.24,       0.01,       0.08,       0.01,      0.006,     0.0099,2,    1.56211,2,      0.056,1,      0.000,2,      0.279,1,      0.152,1,      0.021,1,     99.470,     0.0213,2,      0.084,1,      0.449,1,     -999.0,9
49NZ20210713,        P01,      30,          1,          2,     X12B34,2,20210722,       1023,    43.0889,   153.3288,       5177,    20.4,2,   7.9686,2,  32.8578,2,-999.0000,9,   350.47,2, -999.00,9, -999.00,9, -999.00,9, -999.00,9, -999.00,9,-999.000,9,-999.000,9,-999.000,9,-999.000,9,-999.000,9,  -999.0,9,  -999.0,9, -999.00,9, -999.00,9,     -999.0,9,     -999.0,9,     -999.0,     -999.0,     -999.0,     -999.0,     -999.0,     -999.0,9,    8.13334,2,      2.703,1,      0.000,2,     -999.0,9,     -999.0,9,     -999.0,9,     93.391,     0.2735,2,      0.250,1,      0.296,1,     -999.0,9