BOTTLE,20231011CCHSIOENA
EXPOCODE,SECT_ID,STNNBR,CASTNO,SAMPNO,BTLNBR,BTLNBR_FLAG_W,DATE,TIME,LATITUDE,LONGITUDE,DEPTH,CTDPRS,CTDPRS_FLAG_W,CTDTMP,CTDTMP_FLAG_W,CTDSAL,CTDSAL_FLAG_W,SALNTY,SALNTY_FLAG_W,CTDOXY,CTDOXY_FLAG_W,OXYGEN,OXYGEN_FLAG_W,SILCAT,SILCAT_FLAG_W,NH4,NH4_FLAG_W,NITRAT,NITRAT_FLAG_W,NITRIT,NITRIT_FLAG_W,PHSPHT,PHSPHT_FLAG_W,CFC-11,CFC-11_FLAG_W,CFC-12,CFC-12_FLAG_W,CFC113,CFC113_FLAG_W,SF6,SF6_FLAG_W,TCARBN,TCARBN_FLAG_W,ALKALI,ALKALI_FLAG_W,DOC,DOC_FLAG_W,TDN,TDN_FLAG_W,DNSSAL,DNSSAL_FLAG_W,RIANOMALY,RIANOMALY_FLAG_W,SILUNC,NH4UNC,NRAUNC,NRIUNC,PHPUNC,FDOM,FDOM_FLAG_W,REFTMP,REFTMP_FLAG_W,CTDFLUOR,CTDFLUOR_FLAG_W,PAR,PAR_FLAG_W,CDOM300,CDOM300_FLAG_W,CDOM325,CDOM325_FLAG_W,CDOM443,CDOM443_FLAG_W,CTDXMISS,CTDBEAMCP,CTDBEAMCP_FLAG_W,CTDTURB,CTDTURB_FLAG_W,CTDCDOM,CTDCDOM_FLAG_W,CHLORA,CHLORA_FLAG_W
,,,,,,,,,,,METERS,DBAR,,ITS-90,,PSS-78,,PSS-78,,UMOL/KG,,UMOL/KG,,UMOL/KG,,UMOL/KG,,UMOL/KG,,UMOL/KG,,UMOL/KG,,PMOL/KG,,PMOL/KG,,PMOL/KG,,FMOL/KG,,UMOL/KG,,UMOL/KG,,UMOL/KG,,UMOL/KG,,G/KG,,ND,,UMOL/KG,UMOL/KG,UMOL/KG,UMOL/KG,UMOL/KG,RFU,,ITS-90,,MG/M^3,,UMOL/M^2/SEC,,/METER,,/METER,,/METER,,%TRANS,/METER,,FTU,,QSU,,UG/L,
49NZ20210713,        P01,      27,          2,          6,     X12S06,2,20210721,       1427,    41.9422,   151.4808,       5155,  4831.8,2,   1.4988,2,  34.6879,2,  34.6891,2,   157.10,2,  156.90,2,  151.56,2,    0.00,2,   35.78,2,    0.00,2,   2.487,2,   0.000,2,   0.002,2,   0.000,2,   0.000,2,  2325.1,2,  2412.8,6,   35.70,2, -999.00,9,    34.8706,2,     640.62,2,       0.24,       0.01,       0.08,       0.01,      0.006,     -999.0,9,    1.49879,2,      0.056,1,      0.000,2,     -999.0,9,     -999.0,9,     -999.0,9,     99.858,     0.0057,2,      0.055,1,      0.452,1,     -999.0,9
49NZ20210713,        P01,      27,          2,          5,     X12S05,2,20210721,       1427,    41.9422,   151.4808,       5155,  5079.2,2,   1.5253,2,  34.6884,2,  34.6888,2,   157.42,2,  157.37,2,  152.01,2,    0.01,2,   35.71,2,    0.00,2,   2.485,2,   0.001,2,   0.003,2,   0.000,2,   0.000,2,  2323.8,2,  2411.1,2,   37.82,2, -999.00,9,    34.8698,2,     640.67,2,       0.24,       0.01,       0.08,       0.01,      0.006,     0.0096,2,    1.52535,2,      0.056,1,      0.000,2,      0.287,1,      0.158,1,      0.027,1,     99.748,     0.0101,2,      0.063,1,      0.455,1,     -999.0,9
49NZ20210713,        P01,      27,          2,          1,     X12S01,2,20210721,       1427,    41.9422,   151.4808,       5155,  5242.5,2,   1.5433,2,  34.6888,2,  34.6889,2,   157.67,2,  157.42,2,  152.57,2,    0.01,2,   35.70,2,    0.00,2,   2.487,2,   0.011,2,   0.005,2,   0.000,2,   0.000,2,  2324.7,2,  2412.4,2,   37.44,2, -999.00,9,    34.8693,2,     640.67,2,       0.24,       0.01,       0.08,       0.01,      0.011,     0.0102,2,    1.54336,2,      0.056,1,      0.000,2,      0.336,1,      0.193,1,      0.032,1,     99.250,     0.0301,2,      0.100,1,      0.461,1,     -999.0,9