BOTTLE,20231011CCHSIOENA
EXPOCODE,SECT_ID,STNNBR,CASTNO,SAMPNO,BTLNBR,BTLNBR_FLAG_W,DATE,TIME,LATITUDE,LONGITUDE,DEPTH,CTDPRS,CTDPRS_FLAG_W,CTDTMP,CTDTMP_FLAG_W,CTDSAL,CTDSAL_FLAG_W,SALNTY,SALNTY_FLAG_W,CTDOXY,CTDOXY_FLAG_W,OXYGEN,OXYGEN_FLAG_W,SILCAT,SILCAT_FLAG_W,NH4,NH4_FLAG_W,NITRAT,NITRAT_FLAG_W,NITRIT,NITRIT_FLAG_W,PHSPHT,PHSPHT_FLAG_W,CFC-11,CFC-11_FLAG_W,CFC-12,CFC-12_FLAG_W,CFC113,CFC113_FLAG_W,SF6,SF6_FLAG_W,TCARBN,TCARBN_FLAG_W,ALKALI,ALKALI_FLAG_W,DOC,DOC_FLAG_W,TDN,TDN_FLAG_W,DNSSAL,DNSSAL_FLAG_W,RIANOMALY,RIANOMALY_FLAG_W,SILUNC,NH4UNC,NRAUNC,NRIUNC,PHPUNC,FDOM,FDOM_FLAG_W,REFTMP,REFTMP_FLAG_W,CTDFLUOR,CTDFLUOR_FLAG_W,PAR,PAR_FLAG_W,CDOM300,CDOM300_FLAG_W,CDOM325,CDOM325_FLAG_W,CDOM443,CDOM443_FLAG_W,CTDXMISS,CTDBEAMCP,CTDBEAMCP_FLAG_W,CTDTURB,CTDTURB_FLAG_W,CTDCDOM,CTDCDOM_FLAG_W,CHLORA,CHLORA_FLAG_W
,,,,,,,,,,,METERS,DBAR,,ITS-90,,PSS-78,,PSS-78,,UMOL/KG,,UMOL/KG,,UMOL/KG,,UMOL/KG,,UMOL/KG,,UMOL/KG,,UMOL/KG,,PMOL/KG,,PMOL/KG,,PMOL/KG,,FMOL/KG,,UMOL/KG,,UMOL/KG,,UMOL/KG,,UMOL/KG,,G/KG,,ND,,UMOL/KG,UMOL/KG,UMOL/KG,UMOL/KG,UMOL/KG,RFU,,ITS-90,,MG/M^3,,UMOL/M^2/SEC,,/METER,,/METER,,/METER,,%TRANS,/METER,,FTU,,QSU,,UG/L,
49NZ20210713,        P01,      38,          2,         24,     X12S24,2,20210724,       2209,    47.0093,   160.0213,       5196,   135.3,2,   1.8446,2,  33.1522,2,  33.1516,2,   322.79,2,  324.79,2, -999.00,9, -999.00,9, -999.00,9, -999.00,9,-999.000,9,-999.000,9,-999.000,9,-999.000,9,-999.000,9,  -999.0,9,  -999.0,9, -999.00,9, -999.00,9,     -999.0,9,     -999.0,9,     -999.0,     -999.0,     -999.0,     -999.0,     -999.0,     -999.0,9,    1.84476,2,      0.134,1,      0.000,2,     -999.0,9,     -999.0,9,     -999.0,9,     99.263,     0.0296,2,      0.094,1,      0.347,1,     -999.0,9
49NZ20210713,        P01,      38,          2,         18,     X12S18,7,20210724,       2209,    47.0093,   160.0213,       5196,   164.4,4,   2.0206,4,  33.2853,4,  33.2883,2,   271.52,4,  270.89,2, -999.00,9, -999.00,9, -999.00,9, -999.00,9,-999.000,9,-999.000,9,-999.000,9,-999.000,9,-999.000,9,  -999.0,9,  -999.0,9, -999.00,9, -999.00,9,     -999.0,9,     -999.0,9,     -999.0,     -999.0,     -999.0,     -999.0,     -999.0,     -999.0,9,    2.02277,4,      0.093,4,      0.000,4,     -999.0,9,     -999.0,9,     -999.0,9,     99.270,     0.0293,4,      0.097,4,      0.378,4,     -999.0,9
49NZ20210713,        P01,      38,          2,         17,     X12S17,7,20210724,       2209,    47.0093,   160.0213,       5196,   164.5,4,   2.0273,4,  33.2865,4,  33.2873,2,   271.45,4,  165.73,3, -999.00,9, -999.00,9, -999.00,9, -999.00,9,-999.000,9,-999.000,9,-999.000,9,-999.000,9,-999.000,9,  -999.0,9,  -999.0,9, -999.00,9, -999.00,9,     -999.0,9,     -999.0,9,     -999.0,     -999.0,     -999.0,     -999.0,     -999.0,     -999.0,9,    2.02499,4,      0.094,4,      0.000,4,     -999.0,9,     -999.0,9,     -999.0,9,     99.268,     0.0294,4,      0.096,4,      0.378,4,     -999.0,9
49NZ20210713,        P01,      38,          2,         19,     X12S19,7,20210724,       2209,    47.0093,   160.0213,       5196,   164.6,4,   2.0172,4,  33.2833,4,  33.2845,2,   271.82,4,  272.65,2, -999.00,9, -999.00,9, -999.00,9, -999.00,9,-999.000,9,-999.000,9,-999.000,9,-999.000,9,-999.000,9,  -999.0,9,  -999.0,9, -999.00,9, -999.00,9,     -999.0,9,     -999.0,9,     -999.0,     -999.0,     -999.0,     -999.0,     -999.0,     -999.0,9,    2.01552,4,      0.097,4,      0.000,4,     -999.0,9,     -999.0,9,     -999.0,9,     99.270,     0.0293,4,      0.094,4,      0.382,4,     -999.0,9
49NZ20210713,        P01,      38,          2,         14,     X12S14,7,20210724,       2209,    47.0093,   160.0213,       5196,   164.6,4,   2.0391,4,  33.2903,4,  33.3009,2,   264.57,4,  265.60,2, -999.00,9, -999.00,9, -999.00,9, -999.00,9,-999.000,9,-999.000,9,-999.000,9,-999.000,9,-999.000,9,  -999.0,9,  -999.0,9, -999.00,9, -999.00,9,     -999.0,9,     -999.0,9,     -999.0,     -999.0,     -999.0,     -999.0,     -999.0,     -999.0,9,    2.03378,4,      0.095,4,      0.000,4,     -999.0,9,     -999.0,9,     -999.0,9,     99.270,     0.0293,4,      0.097,4,      0.381,4,     -999.0,9
49NZ20210713,        P01,      38,          2,         23,     X12S23,7,20210724,       2209,    47.0093,   160.0213,       5196,   164.7,4,   2.0026,4,  33.2793,4,  33.2772,2,   273.52,4,  275.64,2, -999.00,9, -999.00,9, -999.00,9, -999.00,9,-999.000,9,-999.000,9,-999.000,9,-999.000,9,-999.000,9,  -999.0,9,  -999.0,9, -999.00,9, -999.00,9,     -999.0,9,     -999.0,9,     -999.0,     -999.0,     -999.0,     -999.0,     -999.0,     -999.0,9,    2.00257,4,      0.098,4,      0.000,4,     -999.0,9,     -999.0,9,     -999.0,9,     99.268,     0.0294,4,      0.103,4,      0.375,4,     -999.0,9
49NZ20210713,        P01,      38,          2,         22,     X12S22,7,20210724,       2209,    47.0093,   160.0213,       5196,   164.9,4,   2.0049,4,  33.2804,4,  33.2810,2,   273.20,4,  273.76,2, -999.00,9, -999.00,9, -999.00,9, -999.00,9,-999.000,9,-999.000,9,-999.000,9,-999.000,9,-999.000,9,  -999.0,9,  -999.0,9, -999.00,9, -999.00,9,     -999.0,9,     -999.0,9,     -999.0,     -999.0,     -999.0,     -999.0,     -999.0,     -999.0,9,    2.00474,4,      0.098,4,      0.000,4,     -999.0,9,     -999.0,9,     -999.0,9,     99.280,     0.0289,4,      0.096,4,      0.374,4,     -999.0,9
49NZ20210713,        P01,      38,          2,         16,     X12S16,7,20210724,       2209,    47.0093,   160.0213,       5196,   164.9,4,   2.0238,4,  33.2862,4,  33.2932,2,   272.11,4,  268.09,2, -999.00,9, -999.00,9, -999.00,9, -999.00,9,-999.000,9,-999.000,9,-999.000,9,-999.000,9,-999.000,9,  -999.0,9,  -999.0,9, -999.00,9, -999.00,9,     -999.0,9,     -999.0,9,     -999.0,     -999.0,     -999.0,     -999.0,     -999.0,     -999.0,9,    2.02290,4,      0.097,4,      0.000,4,     -999.0,9,     -999.0,9,     -999.0,9,     99.270,     0.0293,4,      0.097,4,      0.380,4,     -999.0,9
49NZ20210713,        P01,      38,          2,          8,     X12S08,7,20210724,       2209,    47.0093,   160.0213,       5196,   165.0,4,   2.1300,4,  33.3170,4,  33.3670,2,   236.30,4,  233.25,2, -999.00,9, -999.00,9, -999.00,9, -999.00,9,-999.000,9,-999.000,9,-999.000,9,-999.000,9,-999.000,9,  -999.0,9,  -999.0,9, -999.00,9, -999.00,9,     -999.0,9,     -999.0,9,     -999.0,     -999.0,     -999.0,     -999.0,     -999.0,     -999.0,9,    2.11098,4,      0.092,4,      0.000,4,     -999.0,9,     -999.0,9,     -999.0,9,     99.257,     0.0298,4,      0.099,4,      0.404,4,     -999.0,9
49NZ20210713,        P01,      38,          2,         21,     X12S21,7,20210724,       2209,    47.0093,   160.0213,       5196,   165.1,4,   2.0094,4,  33.2813,4,  33.2810,2,   272.71,4,  273.93,2, -999.00,9, -999.00,9, -999.00,9, -999.00,9,-999.000,9,-999.000,9,-999.000,9,-999.000,9,-999.000,9,  -999.0,9,  -999.0,9, -999.00,9, -999.00,9,     -999.0,9,     -999.0,9,     -999.0,     -999.0,     -999.0,     -999.0,     -999.0,     -999.0,9,    2.00822,4,      0.096,4,      0.000,4,     -999.0,9,     -999.0,9,     -999.0,9,     99.268,     0.0294,4,      0.097,4,      0.378,4,     -999.0,9
49NZ20210713,        P01,      38,          2,         20,     X12S20,7,20210724,       2209,    47.0093,   160.0213,       5196,   165.1,4,   2.0136,4,  33.2825,4,  33.2830,2,   272.48,4,  273.01,2, -999.00,9, -999.00,9, -999.00,9, -999.00,9,-999.000,9,-999.000,9,-999.000,9,-999.000,9,-999.000,9,  -999.0,9,  -999.0,9, -999.00,9, -999.00,9,     -999.0,9,     -999.0,9,     -999.0,     -999.0,     -999.0,     -999.0,     -999.0,     -999.0,9,    2.01225,4,      0.094,4,      0.000,4,     -999.0,9,     -999.0,9,     -999.0,9,     99.280,     0.0289,4,      0.098,4,      0.379,4,     -999.0,9
49NZ20210713,        P01,      38,          2,         15,     X12S15,3,20210724,       2209,    47.0093,   160.0213,       5196,   165.1,4,   2.0141,4,  33.2836,4,  33.2986,2,   271.56,4,  265.80,2, -999.00,9, -999.00,9, -999.00,9, -999.00,9,-999.000,9,-999.000,9,-999.000,9,-999.000,9,-999.000,9,  -999.0,9,  -999.0,9, -999.00,9, -999.00,9,     -999.0,9,     -999.0,9,     -999.0,     -999.0,     -999.0,     -999.0,     -999.0,     -999.0,9,    2.01340,4,      0.095,4,      0.000,4,     -999.0,9,     -999.0,9,     -999.0,9,     99.017,     0.0395,4,      0.100,4,      0.379,4,     -999.0,9
49NZ20210713,        P01,      38,          2,         11,     X12S11,7,20210724,       2209,    47.0093,   160.0213,       5196,   165.3,4,   2.0988,4,  33.3080,4,  33.3286,2,   258.51,4,  252.39,2, -999.00,9, -999.00,9, -999.00,9, -999.00,9,-999.000,9,-999.000,9,-999.000,9,-999.000,9,-999.000,9,  -999.0,9,  -999.0,9, -999.00,9, -999.00,9,     -999.0,9,     -999.0,9,     -999.0,     -999.0,     -999.0,     -999.0,     -999.0,     -999.0,9,    2.08476,4,      0.090,4,      0.000,4,     -999.0,9,     -999.0,9,     -999.0,9,     99.250,     0.0301,4,      0.094,4,      0.382,4,     -999.0,9
49NZ20210713,        P01,      38,          2,         13,     X12S13,7,20210724,       2209,    47.0093,   160.0213,       5196,   165.8,4,   2.0591,4,  33.2975,4,  33.3012,2,   264.22,4,  264.93,2, -999.00,9, -999.00,9, -999.00,9, -999.00,9,-999.000,9,-999.000,9,-999.000,9,-999.000,9,-999.000,9,  -999.0,9,  -999.0,9, -999.00,9, -999.00,9,     -999.0,9,     -999.0,9,     -999.0,     -999.0,     -999.0,     -999.0,     -999.0,     -999.0,9,    2.05973,4,      0.093,4,      0.000,4,     -999.0,9,     -999.0,9,     -999.0,9,     99.268,     0.0294,4,      0.104,4,      0.383,4,     -999.0,9
49NZ20210713,        P01,      38,          2,          7,     X12S07,7,20210724,       2209,    47.0093,   160.0213,       5196,   166.9,4,   2.1346,4,  33.3300,4,  33.4168,2,   229.31,4,  208.89,2, -999.00,9, -999.00,9, -999.00,9, -999.00,9,-999.000,9,-999.000,9,-999.000,9,-999.000,9,-999.000,9,  -999.0,9,  -999.0,9, -999.00,9, -999.00,9,     -999.0,9,     -999.0,9,     -999.0,     -999.0,     -999.0,     -999.0,     -999.0,     -999.0,9,    2.18028,4,      0.092,4,      0.000,4,     -999.0,9,     -999.0,9,     -999.0,9,     99.247,     0.0302,4,      0.098,4,      0.388,4,     -999.0,9
49NZ20210713,        P01,      38,          2,         10,     X12S10,7,20210724,       2209,    47.0093,   160.0213,       5196,   167.0,4,   2.1029,4,  33.3137,4,  33.3375,2,   263.19,4,  249.82,2, -999.00,9, -999.00,9, -999.00,9, -999.00,9,-999.000,9,-999.000,9,-999.000,9,-999.000,9,-999.000,9,  -999.0,9,  -999.0,9, -999.00,9, -999.00,9,     -999.0,9,     -999.0,9,     -999.0,     -999.0,     -999.0,     -999.0,     -999.0,     -999.0,9,    2.10329,4,      0.096,4,      0.000,4,     -999.0,9,     -999.0,9,     -999.0,9,     99.259,     0.0298,4,      0.096,4,      0.382,4,     -999.0,9
49NZ20210713,        P01,      38,          2,          9,     X12S09,7,20210724,       2209,    47.0093,   160.0213,       5196,   167.9,4,   2.1006,4,  33.3151,4,  33.3685,2,   263.22,4,  234.26,2, -999.00,9, -999.00,9, -999.00,9, -999.00,9,-999.000,9,-999.000,9,-999.000,9,-999.000,9,-999.000,9,  -999.0,9,  -999.0,9, -999.00,9, -999.00,9,     -999.0,9,     -999.0,9,     -999.0,     -999.0,     -999.0,     -999.0,     -999.0,     -999.0,9,    2.10912,4,      0.091,4,      0.000,4,     -999.0,9,     -999.0,9,     -999.0,9,     99.266,     0.0295,4,      0.100,4,      0.385,4,     -999.0,9
49NZ20210713,        P01,      38,          2,         12,     X12S12,7,20210724,       2209,    47.0093,   160.0213,       5196,   168.6,4,   2.1007,4,  33.3131,4,  33.3059,2,   262.45,4,  262.71,2, -999.00,9, -999.00,9, -999.00,9, -999.00,9,-999.000,9,-999.000,9,-999.000,9,-999.000,9,-999.000,9,  -999.0,9,  -999.0,9, -999.00,9, -999.00,9,     -999.0,9,     -999.0,9,     -999.0,     -999.0,     -999.0,     -999.0,     -999.0,     -999.0,9,    2.11005,4,      0.093,4,      0.000,4,     -999.0,9,     -999.0,9,     -999.0,9,     99.270,     0.0293,4,      0.098,4,      0.381,4,     -999.0,9
49NZ20210713,        P01,      38,          2,          6,     X12S06,7,20210724,       2209,    47.0093,   160.0213,       5196,   173.5,4,   2.6324,4,  33.4793,4,  33.5248,2,   172.07,4,  271.46,3, -999.00,9, -999.00,9, -999.00,9, -999.00,9,-999.000,9,-999.000,9,-999.000,9,-999.000,9,-999.000,9,  -999.0,9,  -999.0,9, -999.00,9, -999.00,9,     -999.0,9,     -999.0,9,     -999.0,     -999.0,     -999.0,     -999.0,     -999.0,     -999.0,9,    2.61911,4,      0.086,4,      0.000,4,     -999.0,9,     -999.0,9,     -999.0,9,     99.224,     0.0311,4,      0.097,4,      0.426,4,     -999.0,9
49NZ20210713,        P01,      38,          2,          5,     X12S05,7,20210724,       2209,    47.0093,   160.0213,       5196,   182.5,4,   3.0279,4,  33.6012,4,  33.6451,2,   123.56,4,  114.78,2, -999.00,9, -999.00,9, -999.00,9, -999.00,9,-999.000,9,-999.000,9,-999.000,9,-999.000,9,-999.000,9,  -999.0,9,  -999.0,9, -999.00,9, -999.00,9,     -999.0,9,     -999.0,9,     -999.0,     -999.0,     -999.0,     -999.0,     -999.0,     -999.0,9,    3.00510,4,      0.086,4,      0.000,4,     -999.0,9,     -999.0,9,     -999.0,9,     99.137,     0.0347,4,      0.095,4,      0.454,4,     -999.0,9
49NZ20210713,        P01,      38,          2,          4,     X12S04,7,20210724,       2209,    47.0093,   160.0213,       5196,   193.4,4,   3.3898,4,  33.7105,4,  33.7449,2,    77.25,4,   72.71,2, -999.00,9, -999.00,9, -999.00,9, -999.00,9,-999.000,9,-999.000,9,-999.000,9,-999.000,9,-999.000,9,  -999.0,9,  -999.0,9, -999.00,9, -999.00,9,     -999.0,9,     -999.0,9,     -999.0,     -999.0,     -999.0,     -999.0,     -999.0,     -999.0,9,    3.35518,4,      0.085,4,      0.000,4,     -999.0,9,     -999.0,9,     -999.0,9,     99.183,     0.0328,4,      0.100,4,      0.480,4,     -999.0,9
49NZ20210713,        P01,      38,          2,          3,     X12S03,7,20210724,       2209,    47.0093,   160.0213,       5196,   205.0,4,   3.6280,4,  33.8052,4,  33.8230,2,    45.12,4,   42.61,2, -999.00,9, -999.00,9, -999.00,9, -999.00,9,-999.000,9,-999.000,9,-999.000,9,-999.000,9,-999.000,9,  -999.0,9,  -999.0,9, -999.00,9, -999.00,9,     -999.0,9,     -999.0,9,     -999.0,     -999.0,     -999.0,     -999.0,     -999.0,     -999.0,9,    3.62457,4,      0.082,4,      0.000,4,     -999.0,9,     -999.0,9,     -999.0,9,     99.144,     0.0344,4,      0.101,4,      0.497,4,     -999.0,9
49NZ20210713,        P01,      38,          2,          2,     X12B34,7,20210724,       2209,    47.0093,   160.0213,       5196,   215.3,4,   3.6750,4,  33.8604,4,  33.8617,2,    30.14,4,   29.91,2, -999.00,9, -999.00,9, -999.00,9, -999.00,9,-999.000,9,-999.000,9,-999.000,9,-999.000,9,-999.000,9,  -999.0,9,  -999.0,9, -999.00,9, -999.00,9,     -999.0,9,     -999.0,9,     -999.0,     -999.0,     -999.0,     -999.0,     -999.0,     -999.0,9,    3.68984,4,      0.080,4,      0.000,4,     -999.0,9,     -999.0,9,     -999.0,9,     99.257,     0.0298,4,      0.100,4,      0.506,4,     -999.0,9
49NZ20210713,        P01,      38,          2,          1,     X12S01,3,20210724,       2209,    47.0093,   160.0213,       5196,   229.3,2,   3.6679,2,  33.8993,2,  33.8941,2,    23.20,2,   23.95,2, -999.00,9, -999.00,9, -999.00,9, -999.00,9,-999.000,9,-999.000,9,-999.000,9,-999.000,9,-999.000,9,  -999.0,9,  -999.0,9, -999.00,9, -999.00,9,     -999.0,9,     -999.0,9,     -999.0,     -999.0,     -999.0,     -999.0,     -999.0,     -999.0,9,    3.66815,2,      0.077,1,      0.000,2,     -999.0,9,     -999.0,9,     -999.0,9,     99.395,     0.0243,2,      0.084,1,      0.511,1,     -999.0,9