BOTTLE,20231011CCHSIOENA
EXPOCODE,SECT_ID,STNNBR,CASTNO,SAMPNO,BTLNBR,BTLNBR_FLAG_W,DATE,TIME,LATITUDE,LONGITUDE,DEPTH,CTDPRS,CTDPRS_FLAG_W,CTDTMP,CTDTMP_FLAG_W,CTDSAL,CTDSAL_FLAG_W,SALNTY,SALNTY_FLAG_W,CTDOXY,CTDOXY_FLAG_W,OXYGEN,OXYGEN_FLAG_W,SILCAT,SILCAT_FLAG_W,NH4,NH4_FLAG_W,NITRAT,NITRAT_FLAG_W,NITRIT,NITRIT_FLAG_W,PHSPHT,PHSPHT_FLAG_W,CFC-11,CFC-11_FLAG_W,CFC-12,CFC-12_FLAG_W,CFC113,CFC113_FLAG_W,SF6,SF6_FLAG_W,TCARBN,TCARBN_FLAG_W,ALKALI,ALKALI_FLAG_W,DOC,DOC_FLAG_W,TDN,TDN_FLAG_W,DNSSAL,DNSSAL_FLAG_W,RIANOMALY,RIANOMALY_FLAG_W,SILUNC,NH4UNC,NRAUNC,NRIUNC,PHPUNC,FDOM,FDOM_FLAG_W,REFTMP,REFTMP_FLAG_W,CTDFLUOR,CTDFLUOR_FLAG_W,PAR,PAR_FLAG_W,CDOM300,CDOM300_FLAG_W,CDOM325,CDOM325_FLAG_W,CDOM443,CDOM443_FLAG_W,CTDXMISS,CTDBEAMCP,CTDBEAMCP_FLAG_W,CTDTURB,CTDTURB_FLAG_W,CTDCDOM,CTDCDOM_FLAG_W,CHLORA,CHLORA_FLAG_W
,,,,,,,,,,,METERS,DBAR,,ITS-90,,PSS-78,,PSS-78,,UMOL/KG,,UMOL/KG,,UMOL/KG,,UMOL/KG,,UMOL/KG,,UMOL/KG,,UMOL/KG,,PMOL/KG,,PMOL/KG,,PMOL/KG,,FMOL/KG,,UMOL/KG,,UMOL/KG,,UMOL/KG,,UMOL/KG,,G/KG,,ND,,UMOL/KG,UMOL/KG,UMOL/KG,UMOL/KG,UMOL/KG,RFU,,ITS-90,,MG/M^3,,UMOL/M^2/SEC,,/METER,,/METER,,/METER,,%TRANS,/METER,,FTU,,QSU,,UG/L,
49NZ20210713,        P01,       8,          1,         36,     X12S36,2,20210716,       1056,    42.1798,   146.0871,       5070,    10.0,2,  14.7461,2,  32.7948,2,  32.8051,2,   297.74,2,  296.00,2,    0.30,2,    0.41,2,    2.16,2,    0.09,2,   0.212,2,   3.588,2,   2.260,2,   0.292,2,   3.860,2,  1974.0,2,  2220.0,2,   70.34,2, -999.00,9,    32.9616,2,     605.99,2,       0.06,       0.02,       0.02,       0.01,      0.003,     0.0094,2,   14.70944,2,      3.364,1,      0.000,2,      0.721,1,      0.456,1,      0.062,1,     91.840,     0.3405,2,      0.538,1,      0.515,1,       1.56,2
49NZ20210713,        P01,       8,          1,          2,     X12B34,2,20210716,       1056,    42.1798,   146.0871,       5070,    11.1,2,  13.9836,2,  32.8149,2,  32.8247,2,   293.82,2,  293.96,2,    0.61,2,    0.95,2,    3.24,2,    0.10,2,   0.336,2,-999.000,9,-999.000,9,-999.000,9,-999.000,9,  1998.5,2,  2225.0,2,   68.61,2, -999.00,9,    32.9828,2,     606.38,2,       0.07,       0.03,       0.02,       0.01,      0.004,     0.0101,2,   13.96672,2,      4.514,1,      0.000,2,      0.674,1,      0.412,1,      0.057,1,     93.540,     0.2671,2,      0.487,1,      0.539,1,       1.80,2
49NZ20210713,        P01,       8,          1,         35,     X12S35,2,20210716,       1056,    42.1798,   146.0871,       5070,    50.6,2,   3.6646,2,  33.1551,2,  33.1583,2,   307.76,2,  309.81,2,   32.41,2,    2.66,2,   20.64,2,    0.42,2,   1.907,2,   5.666,2,   3.329,2,   0.483,2,   5.355,2,  2143.8,2,  2241.5,2,   54.50,2, -999.00,9,    33.3186,2,     612.59,2,       0.12,       0.05,       0.05,       0.01,      0.005,     0.0070,2,    3.66754,2,      0.433,1,      0.000,2,      0.447,1,      0.251,1,      0.040,1,     99.020,     0.0394,2,      0.106,1,      0.471,1,       0.25,2
49NZ20210713,        P01,       8,          1,          3,     X12S03,2,20210716,       1056,    42.1798,   146.0871,       5070,   100.1,2,   2.5328,2,  33.3166,2,  33.3227,2,   284.26,2,  284.73,2,   49.78,2,    0.07,2,   26.70,2,    0.02,2,   2.057,2,   5.400,2,   2.686,2,   0.445,2,   5.038,2,  2176.5,2,  2254.0,2,   52.29,2, -999.00,9,    33.4868,2,     615.59,2,       0.13,       0.01,       0.06,       0.01,      0.005,     0.0072,2,    2.53566,2,      0.105,1,      0.000,2,      0.463,1,      0.268,1,      0.048,1,     99.141,     0.0345,2,      0.124,1,      0.477,1,       0.05,2
49NZ20210713,        P01,       8,          1,         33,     X12S33,2,20210716,       1056,    42.1798,   146.0871,       5070,   150.2,2,   2.5824,2,  33.4408,2,  33.4416,2,   233.21,2,  231.44,2,   60.15,2,    0.05,2,   29.89,2,    0.02,2,   2.259,2,   4.750,2,   2.754,2,   0.363,2,   4.019,2,  2211.8,2,  2261.0,2,   51.22,2, -999.00,9,    33.6062,2,     617.84,2,       0.12,       0.01,       0.07,       0.01,      0.006,     0.0090,2,    2.58238,2,      0.087,1,      0.000,2,      0.445,1,      0.250,1,      0.042,1,     99.164,     0.0336,2,      0.110,1,      0.529,1,       0.04,2
49NZ20210713,        P01,       8,          1,         32,     X12S32,2,20210716,       1056,    42.1798,   146.0871,       5070,   199.7,2,   2.6304,2,  33.5699,2,  33.5706,2,   167.97,2,  166.78,2,   75.63,2,    0.03,2,   34.61,2,    0.01,2,   2.566,2,   3.237,4,   1.852,4,   0.228,4,   2.561,4,  2250.5,2,  2277.2,2,   51.64,2, -999.00,9,    33.7368,2,     620.18,2,       0.16,       0.01,       0.07,       0.01,      0.006,     0.0104,2,    2.63141,2,      0.076,1,      0.000,2,      0.500,1,      0.294,1,      0.057,1,     99.173,     0.0332,2,      0.118,1,      0.582,1,       0.04,2
49NZ20210713,        P01,       8,          1,         31,     X12S31,2,20210716,       1056,    42.1798,   146.0871,       5070,   250.8,2,   2.8025,2,  33.6784,2,  33.6889,2,   128.04,2,  126.84,2,   85.51,2,    0.02,2,   37.31,2,    0.01,2,   2.731,2,   3.400,2,   1.927,2,   0.222,2,   2.375,2,  2280.6,2,  2284.3,2,   48.54,2, -999.00,9,    33.8555,2,     622.34,2,       0.15,       0.01,       0.08,       0.01,      0.006,     0.0112,2,    2.79928,2,      0.076,1,      0.000,2,      0.514,1,      0.308,1,      0.059,1,     99.253,     0.0300,2,      0.119,1,      0.614,1,       0.03,2
49NZ20210713,        P01,       8,          1,         30,     X12S30,2,20210716,       1056,    42.1798,   146.0871,       5070,   330.9,2,   3.3150,2,  33.8829,2,  33.8828,2,    73.77,2,   73.68,2,   98.65,2,    0.01,2,   40.51,2,    0.01,2,   2.929,2,   2.458,2,   1.379,2,   0.166,2,   1.468,2,  2316.5,2,  2304.2,2,   45.98,2, -999.00,9,    34.0540,2,     625.93,2,       0.21,       0.01,       0.09,       0.01,      0.006,     0.0122,2,    3.31487,2,      0.075,1,      0.000,2,      0.459,1,      0.272,1,      0.053,1,     99.537,     0.0186,2,      0.082,1,      0.641,1,     -999.0,9
49NZ20210713,        P01,       8,          1,         29,     X12S29,2,20210716,       1056,    42.1798,   146.0871,       5070,   429.0,2,   3.4388,2,  34.0356,2,  34.0356,2,    42.21,2,   42.51,2,  111.36,2,    0.01,2,   42.51,2,    0.00,2,   3.046,2,   1.671,2,   0.914,2,   0.103,2,   0.852,2,  2340.4,2,  2325.8,2,   46.63,2, -999.00,9,    34.2097,2,     628.74,2,       0.19,       0.01,       0.09,       0.01,      0.006,     0.0129,2,    3.43884,2,      0.077,1,      0.000,2,     -999.0,5,     -999.0,5,     -999.0,5,     99.678,     0.0129,2,      0.077,1,      0.665,1,     -999.0,9
49NZ20210713,        P01,       8,          1,         28,     X12S28,2,20210716,       1056,    42.1798,   146.0871,       5070,   529.1,2,   3.3863,2,  34.1369,2,  34.1372,2,    31.80,2,   31.85,2,  120.90,2,    0.02,2,   43.03,2,    0.00,2,   3.076,2,   1.155,2,   0.639,2,   0.067,2,   0.464,2,  2349.9,2,  2331.3,2,   41.83,2, -999.00,9,    34.3112,2,     630.63,2,       0.20,       0.01,       0.09,       0.01,      0.006,     0.0131,2,    3.38618,2,      0.076,1,      0.000,2,      0.429,1,      0.250,1,      0.050,1,     99.727,     0.0110,2,      0.081,1,      0.668,1,     -999.0,9
49NZ20210713,        P01,       8,          1,         27,     X12S27,2,20210716,       1056,    42.1798,   146.0871,       5070,   630.6,2,   3.2499,2,  34.2177,2,  34.2180,2,    26.83,2,   27.17,2,  129.41,2,    0.01,2,   43.40,2,    0.00,2,   3.097,2,   0.796,2,   0.443,2,   0.041,2,   0.387,2,  2360.7,2,  2346.7,2,   41.98,2, -999.00,9,    34.3936,2,     632.09,2,       0.21,       0.01,       0.09,       0.01,      0.006,     0.0131,2,    3.24977,2,      0.076,1,      0.000,2,      0.549,1,      0.350,1,      0.089,1,     99.793,     0.0083,2,      0.074,1,      0.671,1,     -999.0,9
49NZ20210713,        P01,       8,          1,         26,     X12S26,2,20210716,       1056,    42.1798,   146.0871,       5070,   728.2,2,   3.2708,2,  34.3067,2,  34.3081,2,    34.54,2,   35.75,2,  131.15,2,    0.02,2,   42.45,2,    0.00,2,   3.036,2,   0.486,2,   0.277,2,   0.023,2,   0.181,2,  2358.1,6,  2360.7,2,   42.26,2, -999.00,9,    34.4833,2,     633.78,2,       0.21,       0.01,       0.09,       0.01,      0.006,     -999.0,9,    3.27762,2,      0.073,1,      0.000,2,     -999.0,9,     -999.0,9,     -999.0,9,     99.820,     0.0072,2,      0.069,1,      0.662,1,     -999.0,9
49NZ20210713,        P01,       8,          1,         25,     X12S25,2,20210716,       1056,    42.1798,   146.0871,       5070,   829.6,2,   2.9288,2,  34.3285,2,  34.3287,2,    29.43,2,   29.28,2,  141.91,2,    0.01,2,   43.13,2,    0.00,2,   3.089,2,   0.420,2,   0.245,2,   0.023,2,   0.134,2,  2374.5,2,  2368.8,2,   40.83,2, -999.00,9,    34.5037,2,     634.13,2,       0.23,       0.01,       0.09,       0.01,      0.006,     0.0129,2,    2.92827,2,      0.074,1,      0.000,2,      0.433,1,      0.255,1,      0.050,1,     99.825,     0.0070,2,      0.068,1,      0.673,1,     -999.0,9
49NZ20210713,        P01,       8,          1,         24,     X12S24,2,20210716,       1056,    42.1798,   146.0871,       5070,   929.2,2,   2.7995,2,  34.3667,2,  34.3667,2,    30.85,2,   30.65,2,  146.18,2,    0.02,2,   43.15,2,    0.00,2,   3.087,2,   0.323,2,   0.192,2,   0.016,2,   0.123,2,  2377.4,2,  2371.8,2,   40.19,2, -999.00,9,    34.5427,2,     634.84,2,       0.23,       0.01,       0.09,       0.01,      0.006,     -999.0,9,    2.79981,2,      0.074,1,      0.000,2,     -999.0,9,     -999.0,9,     -999.0,9,     99.852,     0.0059,2,      0.066,1,      0.669,1,     -999.0,9
49NZ20210713,        P01,       8,          1,         23,     X12S23,2,20210716,       1056,    42.1798,   146.0871,       5070,  1069.4,2,   2.6209,2,  34.4210,2,  34.4203,2,    34.05,2,   34.62,2,  151.83,2,    0.02,2,   43.06,2,    0.00,2,   3.078,2,   0.203,2,   0.124,2,   0.017,2,   0.086,2,  2379.8,2,  2376.2,2,   41.73,2, -999.00,9,    34.5987,2,     635.84,2,       0.24,       0.01,       0.09,       0.01,      0.006,     0.0127,2,    2.62075,2,      0.072,1,      0.000,2,      0.574,1,      0.374,1,      0.096,1,     99.866,     0.0054,2,      0.065,1,      0.665,1,     -999.0,9
49NZ20210713,        P01,       8,          1,         22,     X12S22,2,20210716,       1056,    42.1798,   146.0871,       5070,  1268.2,2,   2.4032,2,  34.4799,2,  34.4796,2,    40.38,2,   40.62,2,  157.72,2,    0.02,2,   42.83,2,    0.00,2,   3.053,2,   0.111,2,   0.066,2,   0.006,2,   0.027,2,  2381.7,2,  2389.2,6,   40.71,2, -999.00,9,    34.6567,2,     636.88,2,       0.25,       0.01,       0.09,       0.01,      0.006,     -999.0,9,    2.40169,2,      0.070,1,      0.000,2,     -999.0,9,     -999.0,9,     -999.0,9,     99.873,     0.0051,2,      0.062,1,      0.659,1,     -999.0,9
49NZ20210713,        P01,       8,          1,         21,     X12S21,2,20210716,       1056,    42.1798,   146.0871,       5070,  1470.3,2,   2.2534,2,  34.5224,2,  34.5222,2,    48.57,2,   48.75,2,  160.44,2,    0.02,2,   42.49,2,    0.00,2,   3.015,2,   0.052,2,   0.031,2,   0.002,2,   0.046,2,  2380.9,2,  2394.2,2,   38.53,2, -999.00,9,    34.7005,2,     637.74,2,       0.25,       0.01,       0.09,       0.01,      0.006,     0.0122,2,    2.25346,2,      0.067,1,      0.000,2,      0.362,1,      0.206,1,      0.036,1,     99.855,     0.0058,2,      0.061,1,      0.648,1,     -999.0,9
49NZ20210713,        P01,       8,          1,         20,     X12S20,2,20210716,       1056,    42.1798,   146.0871,       5070,  1670.8,2,   2.1257,2,  34.5554,2,  34.5553,2,    58.92,2,   59.21,2,  161.55,2,    0.02,2,   41.95,2,    0.00,2,   2.963,2,   0.021,2,   0.014,2,   0.000,2,   0.054,2,  2377.6,2,  2400.3,2,   36.70,2, -999.00,9,    34.7338,2,     638.24,2,       0.25,       0.01,       0.09,       0.01,      0.006,     -999.0,9,    2.12588,2,      0.065,1,      0.000,2,     -999.0,9,     -999.0,9,     -999.0,9,     99.861,     0.0055,2,      0.062,1,      0.627,1,     -999.0,9
49NZ20210713,        P01,       8,          1,         19,     X12S19,2,20210716,       1056,    42.1798,   146.0871,       5070,  1871.4,2,   1.9938,2,  34.5834,2,  34.5831,2,    70.94,2,   71.13,2,  162.37,2,    0.02,2,   41.33,2,    0.00,2,   2.909,2,   0.008,2,   0.005,2,   0.002,2,   0.015,2,  2374.4,2,  2409.9,2,   38.01,2, -999.00,9,    34.7635,2,     638.84,2,       0.30,       0.01,       0.09,       0.01,      0.006,     0.0117,2,    1.99446,2,      0.064,1,      0.000,2,     -999.0,5,     -999.0,5,     -999.0,5,     99.848,     0.0061,2,      0.064,1,      0.610,1,     -999.0,9
49NZ20210713,        P01,       8,          1,         18,     X12S18,2,20210716,       1056,    42.1798,   146.0871,       5070,  2070.0,2,   1.8859,2,  34.6045,2,  34.6039,2,    82.99,2,   83.08,2,  161.67,2,    0.02,2,   40.62,2,    0.00,2,   2.850,2,   0.003,2,   0.002,2,   0.000,2,   0.037,2,  2368.9,2,  2408.4,2,   39.04,2, -999.00,9,    34.7859,2,     639.13,2,       0.27,       0.01,       0.09,       0.01,      0.006,     -999.0,9,    1.88606,2,      0.063,1,      0.000,2,     -999.0,9,     -999.0,9,     -999.0,9,     99.825,     0.0070,2,      0.064,1,      0.603,1,     -999.0,9
49NZ20210713,        P01,       8,          1,         17,     X12S17,2,20210716,       1056,    42.1798,   146.0871,       5070,  2270.9,2,   1.7811,2,  34.6228,2,  34.6227,2,    95.13,2,   95.00,2,  160.79,2,    0.01,2,   39.84,2,    0.00,2,   2.791,2,   0.004,2,   0.002,2,   0.000,2,   0.028,2,  2361.4,2,  2408.0,2,   35.76,2, -999.00,9,    34.8024,2,     639.53,2,       0.25,       0.01,       0.08,       0.01,      0.006,     0.0110,2,    1.78120,2,      0.061,1,      0.000,2,      0.310,1,      0.173,1,      0.021,1,     99.875,     0.0050,2,      0.063,1,      0.590,1,     -999.0,9
49NZ20210713,        P01,       8,          1,         16,     X12S16,2,20210716,       1056,    42.1798,   146.0871,       5070,  2471.4,2,   1.6939,2,  34.6374,2,  34.6377,2,   105.87,2,  106.25,2,  159.73,2,    0.00,2,   39.17,2,    0.00,2,   2.741,2,   0.001,2,   0.001,2,   0.000,2,   0.034,2,  2355.8,6,  2411.6,2,   36.89,2, -999.00,9,    34.8169,2,     639.74,2,       0.25,       0.01,       0.08,       0.01,      0.006,     -999.0,9,    1.69407,2,      0.059,1,      0.000,2,     -999.0,9,     -999.0,9,     -999.0,9,     99.896,     0.0042,2,      0.064,1,      0.576,1,     -999.0,9
49NZ20210713,        P01,       8,          1,         15,     X12S15,2,20210716,       1056,    42.1798,   146.0871,       5070,  2669.3,2,   1.6305,2,  34.6482,2,  34.6457,3,   114.79,2,  115.26,2,  158.13,2,   -0.01,2,   38.58,2,    0.00,2,   2.693,2,   0.006,2,   0.002,2,   0.000,2,   0.036,2,  2347.9,2,  2415.5,2,   37.51,2, -999.00,9,    34.8275,2,     639.88,2,       0.31,       0.01,       0.08,       0.01,      0.006,     0.0105,2,    1.63055,2,      0.059,1,      0.000,2,      0.321,1,      0.181,1,      0.034,1,     99.930,     0.0028,2,      0.060,1,      0.568,1,     -999.0,9
49NZ20210713,        P01,       8,          1,         14,     X12S14,2,20210716,       1056,    42.1798,   146.0871,       5070,  2869.1,2,   1.5818,2,  34.6567,2,  34.6556,2,   122.52,2,  122.86,2,  156.66,2,    0.03,2,   38.01,2,    0.00,2,   2.644,2,   0.001,2,   0.001,2,   0.000,2,   0.000,2,  2346.9,2,  2416.6,2,   40.41,2, -999.00,9,    34.8387,2,     640.13,2,       0.25,       0.01,       0.08,       0.01,      0.006,     -999.0,9,    1.58206,2,      0.058,1,      0.000,2,     -999.0,9,     -999.0,9,     -999.0,9,     99.930,     0.0028,2,      0.061,1,      0.555,1,     -999.0,9
49NZ20210713,        P01,       8,          1,         13,     X12S13,2,20210716,       1056,    42.1798,   146.0871,       5070,  3079.5,2,   1.5473,2,  34.6630,2,  34.6631,2,   129.01,2,  130.07,2,  155.18,2,    0.03,2,   37.63,2,    0.00,2,   2.611,2,   0.002,2,   0.003,2,   0.000,2,   0.005,2,  2341.3,2,  2416.6,2,   40.58,2, -999.00,9,    34.8446,2,     640.24,2,       0.27,       0.01,       0.08,       0.01,      0.006,     0.0099,2,    1.54728,2,      0.058,1,      0.000,2,      0.295,1,      0.159,1,      0.028,1,     99.928,     0.0029,2,      0.059,1,      0.555,1,     -999.0,9
49NZ20210713,        P01,       8,          1,         12,     X12S12,2,20210716,       1056,    42.1798,   146.0871,       5070,  3330.1,2,   1.5057,2,  34.6704,2,  34.6700,2,   136.48,2,  136.75,2,  153.77,2,    0.02,2,   37.17,2,    0.00,2,   2.574,2,   0.001,2,   0.001,2,   0.001,2,   0.000,2,  2336.1,2,  2413.9,6,   38.85,2, -999.00,9,    34.8512,2,     640.49,2,       0.24,       0.01,       0.08,       0.01,      0.006,     -999.0,9,    1.50564,2,      0.057,1,      0.000,2,     -999.0,9,     -999.0,9,     -999.0,9,     99.884,     0.0046,2,      0.058,1,      0.549,1,     -999.0,9
49NZ20210713,        P01,       8,          1,         11,     X12S11,2,20210716,       1056,    42.1798,   146.0871,       5070,  3581.9,2,   1.4653,2,  34.6770,2,  34.6773,2,   143.44,2,  143.91,2,  153.13,2,    0.01,2,   36.69,2,    0.00,2,   2.542,2,   0.005,2,   0.003,2,   0.000,2,   0.000,2,  2329.9,2,  2411.8,2,   37.57,2, -999.00,9,    34.8578,2,     640.49,2,       0.24,       0.01,       0.08,       0.01,      0.006,     0.0102,2,    1.46549,2,      0.057,1,      0.000,2,      0.293,1,      0.162,1,      0.029,1,     99.893,     0.0043,2,      0.060,1,      0.547,1,     -999.0,9
49NZ20210713,        P01,       8,          1,         10,     X12S10,2,20210716,       1056,    42.1798,   146.0871,       5070,  3833.3,2,   1.4586,2,  34.6804,2,  34.6813,2,   147.68,2,  148.01,2,  151.78,2,    0.00,2,   36.43,2,    0.00,2,   2.520,2,   0.000,2,   0.000,2,   0.000,2,   0.000,2,  2328.3,2,  2410.3,2,   39.35,2, -999.00,9,    34.8598,2,     640.53,2,       0.24,       0.01,       0.08,       0.01,      0.006,     -999.0,9,    1.45863,2,      0.056,1,      0.000,2,     -999.0,9,     -999.0,9,     -999.0,9,     99.916,     0.0034,2,      0.060,1,      0.544,1,     -999.0,9
49NZ20210713,        P01,       8,          1,          9,     X12S09,2,20210716,       1056,    42.1798,   146.0871,       5070,  4079.1,2,   1.4446,2,  34.6847,2,  34.6850,2,   152.46,2,  152.66,2,  150.76,2,    0.00,2,   36.08,2,    0.00,2,   2.496,2,   0.004,2,   0.005,2,   0.000,2,   0.000,2,  2322.6,2,  2411.3,2,   37.27,2, -999.00,9,    34.8641,2,     640.59,2,       0.24,       0.01,       0.08,       0.01,      0.006,     0.0100,2,    1.44460,2,      0.056,1,      0.000,2,      0.313,1,      0.180,1,      0.034,1,     99.731,     0.0108,2,      0.069,1,      0.543,1,     -999.0,9
49NZ20210713,        P01,       8,          1,          8,     X12S08,2,20210716,       1056,    42.1798,   146.0871,       5070,  4332.5,2,   1.4515,2,  34.6869,2,  34.6872,2,   155.44,2,  155.74,2,  149.52,2,    0.01,2,   35.87,2,    0.00,2,   2.480,2,   0.001,2,   0.001,2,   0.000,2,   0.000,2,  2323.7,6,  2412.7,2,   37.72,2, -999.00,9,    34.8670,2,     640.74,2,       0.24,       0.01,       0.08,       0.01,      0.006,     -999.0,9,    1.45158,2,      0.055,1,      0.000,2,     -999.0,9,     -999.0,9,     -999.0,9,     99.759,     0.0097,2,      0.074,1,      0.533,1,     -999.0,9
49NZ20210713,        P01,       8,          1,          7,     X12S07,2,20210716,       1056,    42.1798,   146.0871,       5070,  4581.9,2,   1.4678,2,  34.6882,2,  34.6877,2,   157.13,2,  157.34,2,  148.82,2,    0.06,2,   35.74,2,    0.00,2,   2.473,2,   0.001,2,   0.001,2,   0.000,2,   0.000,2,  2320.2,2,  2412.0,2,   39.05,2, -999.00,9,    34.8670,2,     640.68,2,       0.24,       0.01,       0.08,       0.01,      0.006,     0.0097,2,    1.46787,2,      0.054,1,      0.000,2,      0.343,1,      0.206,1,      0.042,1,     99.710,     0.0116,2,      0.074,1,      0.533,1,     -999.0,9