BOTTLE,20231011CCHSIOENA
EXPOCODE,SECT_ID,STNNBR,CASTNO,SAMPNO,BTLNBR,BTLNBR_FLAG_W,DATE,TIME,LATITUDE,LONGITUDE,DEPTH,CTDPRS,CTDPRS_FLAG_W,CTDTMP,CTDTMP_FLAG_W,CTDSAL,CTDSAL_FLAG_W,SALNTY,SALNTY_FLAG_W,CTDOXY,CTDOXY_FLAG_W,OXYGEN,OXYGEN_FLAG_W,SILCAT,SILCAT_FLAG_W,NH4,NH4_FLAG_W,NITRAT,NITRAT_FLAG_W,NITRIT,NITRIT_FLAG_W,PHSPHT,PHSPHT_FLAG_W,CFC-11,CFC-11_FLAG_W,CFC-12,CFC-12_FLAG_W,CFC113,CFC113_FLAG_W,SF6,SF6_FLAG_W,TCARBN,TCARBN_FLAG_W,ALKALI,ALKALI_FLAG_W,DOC,DOC_FLAG_W,TDN,TDN_FLAG_W,DNSSAL,DNSSAL_FLAG_W,RIANOMALY,RIANOMALY_FLAG_W,SILUNC,NH4UNC,NRAUNC,NRIUNC,PHPUNC,FDOM,FDOM_FLAG_W,REFTMP,REFTMP_FLAG_W,CTDFLUOR,CTDFLUOR_FLAG_W,PAR,PAR_FLAG_W,CDOM300,CDOM300_FLAG_W,CDOM325,CDOM325_FLAG_W,CDOM443,CDOM443_FLAG_W,CTDXMISS,CTDBEAMCP,CTDBEAMCP_FLAG_W,CTDTURB,CTDTURB_FLAG_W,CTDCDOM,CTDCDOM_FLAG_W,CHLORA,CHLORA_FLAG_W
,,,,,,,,,,,METERS,DBAR,,ITS-90,,PSS-78,,PSS-78,,UMOL/KG,,UMOL/KG,,UMOL/KG,,UMOL/KG,,UMOL/KG,,UMOL/KG,,UMOL/KG,,PMOL/KG,,PMOL/KG,,PMOL/KG,,FMOL/KG,,UMOL/KG,,UMOL/KG,,UMOL/KG,,UMOL/KG,,G/KG,,ND,,UMOL/KG,UMOL/KG,UMOL/KG,UMOL/KG,UMOL/KG,RFU,,ITS-90,,MG/M^3,,UMOL/M^2/SEC,,/METER,,/METER,,/METER,,%TRANS,/METER,,FTU,,QSU,,UG/L,
49NZ20210713,        P01,      60,          1,         36,     X12S36,2,20210802,       0553,    46.9970,   178.3064,       5766,    10.3,2,  11.3802,2,  32.7787,2,  32.7813,2,   286.39,2,  287.18,2,   31.28,2,    0.23,2,   19.18,2,    0.26,2,   1.612,2,   3.244,2,   1.745,2,   0.290,2,   3.279,2,  2063.0,2,  2219.3,2,   59.17,2, -999.00,9,    32.9404,2,     605.60,2,       0.08,       0.02,       0.06,       0.01,      0.005,     0.0033,2,   11.38218,2,      1.427,1,      0.000,2,      0.350,1,      0.178,1,      0.029,1,     95.425,     0.1873,2,      0.221,1,      0.199,1,       0.52,2
49NZ20210713,        P01,      60,          1,         35,     X12S35,2,20210802,       0553,    46.9970,   178.3064,       5766,    50.7,2,   5.3129,2,  33.1575,2,  33.1595,2,   319.83,2,  320.92,2,   32.24,2,    0.57,2,   19.27,2,    0.28,2,   1.644,2,   4.910,2,   2.909,2,   0.439,2,   4.552,2,  2110.2,2,  2242.1,2,   54.79,2, -999.00,9,    33.3244,2,     612.80,2,       0.08,       0.02,       0.05,       0.01,      0.005,     0.0052,2,    5.31119,2,      1.135,1,      0.000,2,      0.412,1,      0.228,1,      0.034,1,     98.363,     0.0660,2,      0.112,1,      0.234,1,       0.30,2
49NZ20210713,        P01,      60,          1,         34,     X12S34,2,20210802,       0553,    46.9970,   178.3064,       5766,   101.3,2,   3.6560,2,  33.1876,2,  33.1872,2,   313.09,2,  314.91,2,   37.57,2,    0.01,2,   23.12,2,    0.02,2,   1.806,2,   4.929,2,   2.481,2,   0.445,2,   4.376,2,  2134.8,2,  2238.2,2,   54.54,2, -999.00,9,    33.3488,2,     613.25,2,       0.09,       0.01,       0.05,       0.01,      0.005,     0.0053,2,    3.65506,2,      0.294,1,      0.000,2,      0.361,1,      0.184,1,      0.026,1,     99.387,     0.0246,2,      0.074,1,      0.242,1,       0.18,2
49NZ20210713,        P01,      60,          1,         33,     X12S33,2,20210802,       0553,    46.9970,   178.3064,       5766,   150.1,2,   2.8083,2,  33.2587,2,  33.2612,2,   304.08,2,  305.68,2,   43.57,2,    0.01,2,   25.24,2,    0.01,2,   1.918,2,   5.049,2,   2.967,2,   0.447,2,   4.546,2,  2151.7,2,  2241.4,2,   52.25,2, -999.00,9,    33.4242,2,     614.70,2,       0.09,       0.01,       0.19,       0.01,      0.005,     0.0060,2,    2.81090,2,      0.079,1,      0.000,2,      0.368,1,      0.192,1,      0.028,1,     99.618,     0.0153,2,      0.069,1,      0.251,1,       0.03,2
49NZ20210713,        P01,      60,          1,         32,     X12S32,2,20210802,       0553,    46.9970,   178.3064,       5766,   200.4,2,   3.1309,2,  33.5251,2,  33.5277,2,   189.54,2,  188.64,2,   65.78,2,    0.02,2,   32.77,2,    0.01,2,   2.415,2,   4.021,2,   2.329,2,   0.294,2,   3.024,2,  2228.9,2,  2265.5,2,   50.17,2, -999.00,9,    33.6925,2,     619.55,2,       0.12,       0.01,       0.07,       0.01,      0.006,     0.0090,2,    3.13103,2,      0.074,1,      0.000,2,      0.406,1,      0.223,1,      0.034,1,     99.526,     0.0190,2,      0.079,1,      0.317,1,       0.02,2
49NZ20210713,        P01,      60,          1,         31,     X12S31,2,20210802,       0553,    46.9970,   178.3064,       5766,   250.6,2,   3.5490,2,  33.7672,2,  33.7670,2,    98.47,2,   98.29,2,   84.29,2,    0.01,2,   38.72,2,    0.01,2,   2.785,2,   2.996,2,   1.730,2,   0.205,2,   1.825,2,  2288.8,2,  2286.7,2,   45.65,2, -999.00,9,    33.9339,2,     624.00,2,       0.15,       0.01,       0.08,       0.01,      0.006,     0.0111,2,    3.54855,2,      0.070,1,      0.000,2,      0.417,1,      0.237,1,      0.039,1,     99.635,     0.0146,2,      0.067,1,      0.351,1,       0.01,2
49NZ20210713,        P01,      60,          1,         30,     X12S30,2,20210802,       0553,    46.9970,   178.3064,       5766,   301.3,2,   3.7754,2,  33.8861,2,  33.8848,2,    70.23,2,   71.18,2,   91.67,2,    0.03,2,   40.27,2,    0.01,2,   2.881,2,   2.383,2,   1.387,2,   0.138,2,   1.351,2,  2309.7,2,  2297.9,2,   45.94,2, -999.00,9,    34.0547,2,     626.15,2,       0.16,       0.01,       0.08,       0.01,      0.006,     0.0115,2,    3.77574,2,      0.070,1,      0.000,2,      0.426,1,      0.248,1,      0.044,1,     99.695,     0.0122,2,      0.065,1,      0.357,1,     -999.0,9
49NZ20210713,        P01,      60,          1,         29,     X12S29,2,20210802,       0553,    46.9970,   178.3064,       5766,   400.9,2,   3.7800,2,  34.0407,2,  34.0401,2,    39.35,2,   39.58,2,  106.04,2,    0.04,2,   42.54,2,    0.01,2,   3.020,2,   1.658,2,   0.961,2,   0.101,2,   0.758,2,  2330.2,2,  2317.6,2,   43.11,2, -999.00,9,    34.2128,2,     628.95,2,       0.18,       0.01,       0.09,       0.01,      0.006,     0.0120,2,    3.77980,2,      0.071,1,      0.000,2,      0.456,1,      0.273,1,      0.055,1,     99.801,     0.0080,2,      0.059,1,      0.368,1,     -999.0,9
49NZ20210713,        P01,      60,          1,         28,     X12S28,2,20210802,       0553,    46.9970,   178.3064,       5766,   499.8,2,   3.6214,2,  34.1386,2,  34.1378,2,    27.15,2,   27.31,2,  117.29,2,    0.04,2,   43.32,2,    0.00,2,   3.067,2,   1.063,2,   0.632,2,   0.057,2,   0.342,2,  2348.6,2,  2332.6,2,   43.09,2, -999.00,9,    34.3124,2,     630.85,2,       0.19,       0.01,       0.09,       0.01,      0.006,     0.0128,2,    3.62117,2,      0.072,1,      0.000,2,      0.437,1,      0.264,1,      0.055,1,     99.824,     0.0070,2,      0.056,1,      0.371,1,     -999.0,9
49NZ20210713,        P01,      60,          1,         27,     X12S27,2,20210802,       0553,    46.9970,   178.3064,       5766,   599.7,2,   3.4319,2,  34.2143,2,  34.2142,2,    22.48,2,   22.41,2,  126.40,2,    0.03,2,   43.57,2,    0.00,2,   3.087,2,   0.721,2,   0.447,2,   0.032,2,   0.205,2,  2361.1,2,  2343.5,2,   42.46,2, -999.00,9,    34.3880,2,     632.25,2,       0.21,       0.01,       0.09,       0.01,      0.006,     0.0130,2,    3.43184,2,      0.071,1,      0.000,2,      0.421,1,      0.250,1,      0.054,1,     99.826,     0.0069,2,      0.057,1,      0.383,1,     -999.0,9
49NZ20210713,        P01,      60,          1,         26,     X12S26,2,20210802,       0553,    46.9970,   178.3064,       5766,   700.6,2,   3.2355,2,  34.2819,2,  34.2824,2,    23.21,2,   23.07,2,  134.21,2,    0.03,2,   43.66,2,    0.00,2,   3.098,2,   0.474,2,   0.294,2,   0.018,2,   0.184,2,  2368.4,6,  2356.8,2,   41.90,2, -999.00,9,    34.4576,2,     633.50,2,       0.22,       0.01,       0.09,       0.01,      0.006,     -999.0,9,    3.23558,2,      0.071,1,      0.000,2,     -999.0,9,     -999.0,9,     -999.0,9,     99.870,     0.0052,2,      0.052,1,      0.379,1,     -999.0,9
49NZ20210713,        P01,      60,          1,         25,     X12S25,2,20210802,       0553,    46.9970,   178.3064,       5766,   800.2,2,   3.0620,2,  34.3252,2,  34.3256,2,    23.03,2,   22.89,2,  140.62,2,    0.02,2,   43.78,2,    0.00,2,   3.107,2,   0.346,2,   0.225,2,   0.015,2,   0.109,2,  2374.5,2,  2364.3,2,   41.93,2, -999.00,9,    34.5024,2,     634.35,2,       0.22,       0.01,       0.09,       0.01,      0.006,     0.0132,2,    3.06221,2,      0.070,1,      0.000,2,      0.402,1,      0.241,1,      0.050,1,     99.863,     0.0055,2,      0.052,1,      0.382,1,     -999.0,9
49NZ20210713,        P01,      60,          1,         24,     X12S24,2,20210802,       0553,    46.9970,   178.3064,       5766,   900.0,2,   2.9141,2,  34.3616,2,  34.3617,2,    24.29,2,   24.13,2,  144.88,2,    0.04,2,   43.62,2,    0.00,2,   3.093,2,   0.272,2,   0.174,2,   0.012,2,   0.067,2,  2377.1,2,  2370.2,2,   43.45,2, -999.00,9,    34.5380,2,     634.95,2,       0.23,       0.01,       0.09,       0.01,      0.006,     -999.0,9,    2.91411,2,      0.070,1,      0.000,2,     -999.0,9,     -999.0,9,     -999.0,9,     99.873,     0.0051,2,      0.053,1,      0.379,1,     -999.0,9
49NZ20210713,        P01,      60,          1,         23,     X12S23,2,20210802,       0553,    46.9970,   178.3064,       5766,  1000.0,2,   2.7413,2,  34.4003,2,  34.4003,2,    25.54,2,   25.28,2,  150.79,2,    0.04,2,   43.73,2,    0.00,2,   3.098,2,   0.188,2,   0.122,2,   0.007,2,   0.050,2,  2385.1,2,  2379.2,2,   42.23,2, -999.00,9,    34.5794,2,     635.65,2,       0.24,       0.01,       0.09,       0.01,      0.006,     0.0131,2,    2.74208,2,      0.069,1,      0.000,2,      0.399,1,      0.236,1,      0.047,1,     99.884,     0.0046,2,      0.050,1,      0.375,1,     -999.0,9
49NZ20210713,        P01,      60,          1,         22,     X12S22,2,20210802,       0553,    46.9970,   178.3064,       5766,  1199.2,2,   2.4946,2,  34.4570,2,  34.4567,2,    29.92,2,   29.74,2,  157.86,2,    0.03,2,   43.61,2,    0.00,2,   3.083,2,   0.101,2,   0.065,2,   0.005,2,   0.019,2,  2388.3,2,  2389.2,6,   38.95,2, -999.00,9,    34.6347,2,     636.65,2,       0.25,       0.01,       0.09,       0.01,      0.006,     -999.0,9,    2.49471,2,      0.069,1,      0.000,2,     -999.0,9,     -999.0,9,     -999.0,9,     99.903,     0.0039,2,      0.050,1,      0.378,1,     -999.0,9
49NZ20210713,        P01,      60,          1,         21,     X12S21,2,20210802,       0553,    46.9970,   178.3064,       5766,  1400.5,2,   2.2983,2,  34.5008,2,  34.5005,2,    35.55,2,   35.40,2,  163.85,2,    0.03,2,   43.37,2,    0.00,2,   3.059,2,   0.055,2,   0.032,2,   0.005,2,   0.000,2,  2390.8,2,  2394.7,2,   39.76,2, -999.00,9,    34.6798,2,     637.45,2,       0.26,       0.01,       0.09,       0.01,      0.006,     0.0129,2,    2.29829,2,      0.067,1,      0.000,2,      0.384,1,      0.225,1,      0.045,1,     99.933,     0.0027,2,      0.049,1,      0.369,1,     -999.0,9
49NZ20210713,        P01,      60,          1,         20,     X12S20,2,20210802,       0553,    46.9970,   178.3064,       5766,  1600.2,2,   2.1519,2,  34.5354,2,  34.5355,2,    44.70,2,   44.58,2,  166.63,2,    0.03,2,   42.86,2,    0.00,2,   3.021,2,   0.028,2,   0.015,2,   0.000,2,   0.000,2,  2391.3,2,  2400.7,2,   44.30,4, -999.00,9,    34.7134,2,     638.10,2,       0.26,       0.01,       0.09,       0.01,      0.006,     -999.0,9,    2.15185,2,      0.065,1,      0.000,2,     -999.0,9,     -999.0,9,     -999.0,9,     99.921,     0.0032,2,      0.050,1,      0.370,1,     -999.0,9
49NZ20210713,        P01,      60,          1,         19,     X12S19,2,20210802,       0553,    46.9970,   178.3064,       5766,  1800.5,2,   2.0170,2,  34.5662,2,  34.5658,2,    56.34,2,   56.34,2,  168.48,2,    0.00,2,   42.26,2,    0.00,2,   2.970,2,   0.016,2,   0.007,2,   0.002,2,   0.027,2,  2386.5,2,  2404.4,2,   39.18,2, -999.00,9,    34.7476,2,     638.65,2,       0.26,       0.01,       0.09,       0.01,      0.006,     0.0124,2,    2.01672,2,      0.064,1,      0.000,2,      0.361,1,      0.209,1,      0.038,1,     99.891,     0.0044,2,      0.049,1,      0.359,1,     -999.0,9
49NZ20210713,        P01,      60,          1,         18,     X12S18,2,20210802,       0553,    46.9970,   178.3064,       5766,  1999.9,2,   1.9123,2,  34.5900,2,  34.5895,2,    68.56,2,   68.47,2,  168.11,2,    0.00,2,   41.49,2,    0.00,2,   2.918,2,   0.008,2,   0.002,2,   0.005,2,   0.005,2,  2381.0,2,  2407.4,2,   38.69,2, -999.00,9,    34.7721,2,     639.15,2,       0.26,       0.01,       0.09,       0.01,      0.006,     -999.0,9,    1.91283,2,      0.062,1,      0.000,2,     -999.0,9,     -999.0,9,     -999.0,9,     99.935,     0.0026,2,      0.049,1,      0.358,1,     -999.0,9
49NZ20210713,        P01,      60,          1,         17,     X12S17,2,20210802,       0553,    46.9970,   178.3064,       5766,  2200.6,2,   1.8132,2,  34.6094,2,  34.6101,2,    79.65,2,   79.50,2,  168.37,2,    0.01,2,   40.80,2,    0.00,2,   2.863,2,   0.002,2,   0.000,2,   0.002,2,   0.000,2,  2373.0,2,  2411.7,2,   37.73,2, -999.00,9,    34.7899,2,     639.40,2,       0.26,       0.01,       0.09,       0.01,      0.006,     0.0115,2,    1.81315,2,      0.061,1,      0.000,2,      0.339,1,      0.196,1,      0.037,1,     99.940,     0.0024,2,      0.049,1,      0.349,1,     -999.0,9
49NZ20210713,        P01,      60,          1,         16,     X12S16,2,20210802,       0553,    46.9970,   178.3064,       5766,  2400.2,2,   1.7265,2,  34.6264,2,  34.6261,2,    91.75,2,   91.53,2,  167.27,2,    0.02,2,   40.07,2,    0.00,2,   2.810,2,   0.002,2,   0.000,2,   0.003,2,   0.033,2,  2367.6,6,  2414.0,2,   39.21,2, -999.00,9,    34.8070,2,     639.75,2,       0.26,       0.01,       0.08,       0.01,      0.006,     -999.0,9,    1.72667,2,      0.060,1,      0.000,2,     -999.0,9,     -999.0,9,     -999.0,9,     99.954,     0.0019,2,      0.048,1,      0.342,1,     -999.0,9
49NZ20210713,        P01,      60,          1,         15,     X12S15,2,20210802,       0553,    46.9970,   178.3064,       5766,  2600.2,2,   1.6619,2,  34.6384,2,  34.6386,2,   100.95,2,  100.63,2,  166.58,2,    0.02,2,   39.47,2,    0.00,2,   2.762,2,   0.000,2,   0.000,2,   0.000,2,   0.000,2,  2363.8,2,  2413.8,2,   39.25,2, -999.00,9,    34.8202,2,     639.95,2,       0.26,       0.01,       0.08,       0.01,      0.006,     0.0115,2,    1.66192,2,      0.059,1,      0.000,2,      0.312,1,      0.176,1,      0.032,1,     99.949,     0.0020,2,      0.049,1,      0.344,1,     -999.0,9
49NZ20210713,        P01,      60,          1,         14,     X12S14,2,20210802,       0553,    46.9970,   178.3064,       5766,  2800.4,2,   1.5977,2,  34.6502,2,  34.6499,2,   111.91,2,  111.85,2,  164.37,2,    0.02,2,   38.67,2,    0.00,2,   2.711,2,   0.000,2,   0.000,2,   0.000,2,   0.000,2,  2357.6,2,  2414.9,2,   37.02,2, -999.00,9,    34.8318,2,     640.15,2,       0.26,       0.01,       0.08,       0.01,      0.006,     -999.0,9,    1.59770,2,      0.058,1,      0.000,2,     -999.0,9,     -999.0,9,     -999.0,9,     99.960,     0.0016,2,      0.048,1,      0.336,1,     -999.0,9
49NZ20210713,        P01,      60,          1,         13,     X12S13,2,20210802,       0553,    46.9970,   178.3064,       5766,  3000.0,2,   1.5495,2,  34.6591,2,  34.6592,2,   121.32,2,  121.31,2,  162.21,2,    0.03,2,   38.11,2,    0.00,2,   2.664,2,   0.001,2,   0.000,2,   0.000,2,   0.023,2,  2351.1,2,  2414.1,2,   38.69,2, -999.00,9,    34.8393,2,     640.35,2,       0.25,       0.01,       0.08,       0.01,      0.006,     0.0109,2,    1.54953,2,      0.058,1,      0.000,2,      0.306,1,      0.173,1,      0.029,1,     99.963,     0.0015,2,      0.049,1,      0.326,1,     -999.0,9
49NZ20210713,        P01,      60,          1,         12,     X12S12,2,20210802,       0553,    46.9970,   178.3064,       5766,  3249.8,2,   1.5116,2,  34.6670,2,  34.6672,2,   130.35,2,  130.06,2,  159.37,2,    0.02,2,   37.52,2,    0.00,2,   2.607,2,   0.000,2,   0.000,2,   0.000,2,   0.000,2,  2343.5,2,  2415.8,6,   37.71,2, -999.00,9,    34.8470,2,     640.45,2,       0.25,       0.01,       0.08,       0.01,      0.006,     -999.0,9,    1.51190,2,      0.057,1,      0.000,2,     -999.0,9,     -999.0,9,     -999.0,9,     99.963,     0.0015,2,      0.048,1,      0.322,1,     -999.0,9
49NZ20210713,        P01,      60,          1,         11,     X12S11,2,20210802,       0553,    46.9970,   178.3064,       5766,  3499.5,2,   1.4980,2,  34.6717,2,  34.6720,2,   135.93,2,  135.84,2,  158.01,2,    0.02,2,   37.17,2,    0.00,2,   2.579,2,   0.001,2,   0.000,2,   0.000,2,   0.007,2,  2340.8,2,  2413.4,2,   38.34,2, -999.00,9,    34.8519,2,     640.50,2,       0.25,       0.01,       0.08,       0.01,      0.006,     0.0104,2,    1.49794,2,      0.056,1,      0.000,2,      0.289,1,      0.159,1,      0.024,1,     99.972,     0.0011,2,      0.047,1,      0.318,1,     -999.0,9
49NZ20210713,        P01,      60,          1,         10,     X12S10,2,20210802,       0553,    46.9970,   178.3064,       5766,  3750.3,2,   1.4860,2,  34.6763,2,  34.6764,2,   140.95,2,  140.63,2,  156.76,2,    0.02,2,   36.86,2,    0.00,2,   2.558,2,   0.000,2,   0.000,2,   0.000,2,   0.000,2,  2336.9,2,  2415.7,2,   38.77,2, -999.00,9,    34.8552,2,     640.60,2,       0.25,       0.01,       0.08,       0.01,      0.006,     -999.0,9,    1.48621,2,      0.056,1,      0.000,2,     -999.0,9,     -999.0,9,     -999.0,9,     99.972,     0.0011,2,      0.046,1,      0.325,1,     -999.0,9
49NZ20210713,        P01,      60,          1,          9,     X12S09,2,20210802,       0553,    46.9970,   178.3064,       5766,  4000.3,2,   1.4779,2,  34.6801,2,  34.6796,2,   145.62,2,  145.35,2,  156.12,2,    0.02,2,   36.53,2,    0.00,2,   2.533,2,   0.001,2,   0.000,2,   0.000,2,   0.020,2,  2334.7,2,  2414.6,2,   39.72,2, -999.00,9,    34.8596,2,     640.65,2,       0.25,       0.01,       0.08,       0.01,      0.006,     0.0101,2,    1.47802,2,      0.055,1,      0.000,2,      0.297,1,      0.167,1,      0.026,1,     99.977,     0.0009,2,      0.046,1,      0.325,1,     -999.0,9
49NZ20210713,        P01,      60,          1,          8,     X12S08,2,20210802,       0553,    46.9970,   178.3064,       5766,  4250.3,2,   1.4798,2,  34.6832,2,  34.6836,2,   149.28,2,  149.08,2,  155.57,2,    0.01,2,   36.35,2,    0.00,2,   2.517,2,   0.000,2,   0.000,2,   0.000,2,   0.000,2,  2330.8,6,  2414.9,2,   38.78,2, -999.00,9,    34.8641,2,     640.75,2,       0.24,       0.01,       0.08,       0.01,      0.006,     -999.0,9,    1.47986,2,      0.055,1,      0.000,2,     -999.0,9,     -999.0,9,     -999.0,9,     99.979,     0.0008,2,      0.046,1,      0.346,1,     -999.0,9
49NZ20210713,        P01,      60,          1,          7,     X12S07,2,20210802,       0553,    46.9970,   178.3064,       5766,  4499.7,2,   1.4916,2,  34.6852,2,  34.6853,2,   151.44,2,  151.15,2,  156.27,2,    0.02,2,   36.20,2,    0.01,2,   2.503,2,   0.000,2,   0.000,2,   0.000,2,   0.004,2,  2331.2,2,  2415.3,2,   39.75,2, -999.00,9,    34.8657,2,     640.85,2,       0.25,       0.01,       0.08,       0.01,      0.006,     0.0101,2,    1.49168,2,      0.054,1,      0.000,2,      0.298,1,      0.171,1,      0.026,1,     99.972,     0.0011,2,      0.046,1,      0.347,1,     -999.0,9
49NZ20210713,        P01,      60,          1,          6,     X12S06,2,20210802,       0553,    46.9970,   178.3064,       5766,  4750.5,2,   1.5119,2,  34.6865,2,  34.6864,2,   152.32,2,  152.11,2,  158.16,2,    0.02,2,   36.14,2,    0.00,2,   2.502,2,   0.001,2,   0.000,2,   0.000,2,   0.000,2,  2329.0,2,  2417.9,6,   39.48,2, -999.00,9,    34.8682,2,     640.75,2,       0.25,       0.01,       0.08,       0.01,      0.006,     -999.0,9,    1.51199,2,      0.054,1,      0.000,2,     -999.0,9,     -999.0,9,     -999.0,9,     99.988,     0.0005,2,      0.046,1,      0.347,1,     -999.0,9