BOTTLE,20231011CCHSIOENA
EXPOCODE,SECT_ID,STNNBR,CASTNO,SAMPNO,BTLNBR,BTLNBR_FLAG_W,DATE,TIME,LATITUDE,LONGITUDE,DEPTH,CTDPRS,CTDPRS_FLAG_W,CTDTMP,CTDTMP_FLAG_W,CTDSAL,CTDSAL_FLAG_W,SALNTY,SALNTY_FLAG_W,CTDOXY,CTDOXY_FLAG_W,OXYGEN,OXYGEN_FLAG_W,SILCAT,SILCAT_FLAG_W,NH4,NH4_FLAG_W,NITRAT,NITRAT_FLAG_W,NITRIT,NITRIT_FLAG_W,PHSPHT,PHSPHT_FLAG_W,CFC-11,CFC-11_FLAG_W,CFC-12,CFC-12_FLAG_W,CFC113,CFC113_FLAG_W,SF6,SF6_FLAG_W,TCARBN,TCARBN_FLAG_W,ALKALI,ALKALI_FLAG_W,DOC,DOC_FLAG_W,TDN,TDN_FLAG_W,DNSSAL,DNSSAL_FLAG_W,RIANOMALY,RIANOMALY_FLAG_W,SILUNC,NH4UNC,NRAUNC,NRIUNC,PHPUNC,FDOM,FDOM_FLAG_W,REFTMP,REFTMP_FLAG_W,CTDFLUOR,CTDFLUOR_FLAG_W,PAR,PAR_FLAG_W,CDOM300,CDOM300_FLAG_W,CDOM325,CDOM325_FLAG_W,CDOM443,CDOM443_FLAG_W,CTDXMISS,CTDBEAMCP,CTDBEAMCP_FLAG_W,CTDTURB,CTDTURB_FLAG_W,CTDCDOM,CTDCDOM_FLAG_W,CHLORA,CHLORA_FLAG_W
,,,,,,,,,,,METERS,DBAR,,ITS-90,,PSS-78,,PSS-78,,UMOL/KG,,UMOL/KG,,UMOL/KG,,UMOL/KG,,UMOL/KG,,UMOL/KG,,UMOL/KG,,PMOL/KG,,PMOL/KG,,PMOL/KG,,FMOL/KG,,UMOL/KG,,UMOL/KG,,UMOL/KG,,UMOL/KG,,G/KG,,ND,,UMOL/KG,UMOL/KG,UMOL/KG,UMOL/KG,UMOL/KG,RFU,,ITS-90,,MG/M^3,,UMOL/M^2/SEC,,/METER,,/METER,,/METER,,%TRANS,/METER,,FTU,,QSU,,UG/L,
49NZ20210713,        P01,      44,          1,         36,     X12S36,2,20210728,       1419,    46.9714,   166.7606,       5955,    23.8,2,   7.6241,2,  32.9685,2,  32.9709,2,   315.24,2,  316.74,2,   29.95,2,    0.66,2,   18.28,2,    0.18,2,   1.614,2,   4.167,2,   2.045,2,   0.372,3,   3.782,2,  2085.6,2,  2233.9,2,   53.76,2, -999.00,9,    33.1310,2,     609.17,2,       0.08,       0.02,       0.05,       0.01,      0.005,     0.0044,2,    7.53327,2,      1.858,1,      0.000,2,      0.431,1,      0.233,1,      0.035,1,     96.120,     0.1583,2,      0.165,1,      0.249,1,       0.58,2
49NZ20210713,        P01,      44,          1,         35,     X12S35,2,20210728,       1419,    46.9714,   166.7606,       5955,    50.8,2,   4.0977,2,  33.0138,2,  33.0158,2,   327.62,2,  329.93,2,   33.13,2,    1.18,2,   20.60,2,    0.24,2,   1.777,2,   4.790,2,   2.292,2,   0.567,3,   4.186,2,  2117.7,2,  2238.6,2,   54.84,2, -999.00,9,    33.1781,2,     610.07,2,       0.08,       0.03,       0.05,       0.01,      0.005,     0.0062,2,    4.09144,2,      0.724,1,      0.000,2,      0.519,1,      0.310,1,      0.064,1,     98.622,     0.0555,2,      0.097,1,      0.280,1,       0.26,2
49NZ20210713,        P01,      44,          1,         34,     X12S34,2,20210728,       1419,    46.9714,   166.7606,       5955,   100.3,2,   2.7527,2,  33.1216,2,  33.1181,2,   316.84,2,  318.91,2,   37.95,2,    0.02,2,   24.20,2,    0.01,2,   1.879,2,   4.935,2,   2.344,2,   0.609,3,   4.377,2,  2138.2,2,  2234.2,2,   49.97,2, -999.00,9,    33.2822,2,     612.02,2,       0.10,       0.01,       0.06,       0.01,      0.005,     0.0064,2,    2.74939,2,      0.105,1,      0.000,2,      0.408,1,      0.219,1,      0.037,1,     99.517,     0.0194,2,      0.087,1,      0.289,1,       0.05,2
49NZ20210713,        P01,      44,          1,         33,     X12S33,2,20210728,       1419,    46.9714,   166.7606,       5955,   150.8,2,   3.2064,2,  33.5734,2,  33.5714,2,   164.05,2,  164.36,2,   70.42,2,    0.01,2,   34.15,2,    0.01,2,   2.511,2,   3.550,2,   1.699,2,   0.249,2,   2.479,2,  2244.4,2,  2267.8,2,   48.81,2, -999.00,9,    33.7384,2,     620.42,2,       0.13,       0.01,       0.07,       0.01,      0.006,     0.0108,2,    3.20663,2,      0.076,1,      0.000,2,      0.450,1,      0.264,1,      0.052,1,     99.420,     0.0233,2,      0.076,1,      0.376,1,       0.03,2
49NZ20210713,        P01,      44,          1,         32,     X12S32,2,20210728,       1419,    46.9714,   166.7606,       5955,   201.6,2,   3.3140,2,  33.7425,2,  33.7376,2,    94.61,2,   95.55,2,   87.30,2,    0.01,2,   39.51,2,    0.00,2,   2.850,2,   2.827,2,   1.346,2,   0.202,2,   1.850,2,  2295.4,2,  2286.8,2,   47.75,2, -999.00,9,    33.9054,2,     623.47,2,       0.15,       0.01,       0.08,       0.01,      0.006,     0.0119,2,    3.31282,2,      0.071,1,      0.000,2,      0.442,1,      0.256,1,      0.049,1,     99.519,     0.0193,2,      0.071,1,      0.405,1,       0.02,2
49NZ20210713,        P01,      44,          1,         31,     X12S31,2,20210728,       1419,    46.9714,   166.7606,       5955,   250.3,2,   3.5049,2,  33.8733,2,  33.8715,2,    61.40,2,   61.18,2,   96.95,2,    0.02,2,   41.70,2,    0.01,2,   2.980,2,   2.285,2,   1.093,2,   0.165,2,   1.230,2,  2320.2,2,  2295.4,2,   45.11,2, -999.00,9,    34.0426,2,     625.92,2,       0.17,       0.01,       0.09,       0.01,      0.006,     0.0129,2,    3.50436,2,      0.072,1,      0.000,2,      0.439,1,      0.256,1,      0.050,1,     99.523,     0.0191,2,      0.070,1,      0.417,1,       0.02,2
49NZ20210713,        P01,      44,          1,         30,     X12S30,2,20210728,       1419,    46.9714,   166.7606,       5955,   301.4,2,   3.6256,2,  33.9735,2,  33.9729,2,    41.57,2,   41.95,2,  103.78,2,    0.02,2,   42.77,2,    0.01,2,   3.052,2,   1.845,2,   0.893,2,   0.141,2,   0.920,2,  2335.5,2,  2308.7,2,   42.51,2, -999.00,9,    34.1444,2,     627.72,2,       0.18,       0.01,       0.09,       0.01,      0.006,     0.0130,2,    3.62543,2,      0.074,1,      0.000,2,      0.452,1,      0.269,1,      0.054,1,     99.673,     0.0131,2,      0.066,1,      0.429,1,     -999.0,9
49NZ20210713,        P01,      44,          1,         29,     X12S29,2,20210728,       1419,    46.9714,   166.7606,       5955,   400.4,2,   3.6428,2,  34.1000,2,  34.0992,2,    26.44,2,   26.57,2,  114.19,2,    0.03,2,   43.53,2,    0.00,2,   3.085,2,   1.236,2,   0.604,2,   0.104,2,   0.496,2,  2347.3,2,  2324.9,2,   41.49,2, -999.00,9,    34.2728,2,     630.12,2,       0.19,       0.01,       0.09,       0.01,      0.006,     0.0137,2,    3.64249,2,      0.072,1,      0.000,2,      0.425,1,      0.254,1,      0.051,1,     99.816,     0.0074,2,      0.056,1,      0.435,1,     -999.0,9
49NZ20210713,        P01,      44,          1,         28,     X12S28,2,20210728,       1419,    46.9714,   166.7606,       5955,   501.7,2,   3.4843,2,  34.1906,2,  34.1891,2,    23.52,2,   23.48,2,  123.61,2,    0.03,2,   43.53,2,    0.00,2,   3.085,2,   0.825,2,   0.460,2,   0.072,2,   0.361,2,  2358.3,2,  2342.2,2,   42.08,2, -999.00,9,    34.3646,2,     631.77,2,       0.20,       0.01,       0.09,       0.01,      0.006,     0.0136,2,    3.48408,2,      0.072,1,      0.000,2,      0.414,1,      0.245,1,      0.047,1,     99.853,     0.0059,2,      0.055,1,      0.439,1,     -999.0,9
49NZ20210713,        P01,      44,          1,         27,     X12S27,2,20210728,       1419,    46.9714,   166.7606,       5955,   600.4,2,   3.3067,2,  34.2542,2,  34.2529,2,    26.67,2,   26.72,2,  130.41,2,    0.02,2,   43.20,2,    0.00,2,   3.078,2,   0.604,2,   0.351,2,   0.057,2,   0.209,2,  2362.1,2,  2349.4,2,   42.28,2, -999.00,9,    34.4277,2,     632.82,2,       0.21,       0.01,       0.09,       0.01,      0.006,     0.0136,2,    3.30643,2,      0.071,1,      0.000,2,      0.407,1,      0.239,1,      0.050,1,     99.874,     0.0050,2,      0.055,1,      0.436,1,     -999.0,9
49NZ20210713,        P01,      44,          1,         26,     X12S26,2,20210728,       1419,    46.9714,   166.7606,       5955,   700.0,2,   3.1867,2,  34.3081,2,  34.3074,2,    27.70,2,   27.71,2,  135.38,2,    0.02,2,   43.16,2,    0.00,2,   3.079,2,   0.422,2,   0.251,2,   0.033,2,   0.153,2,  2367.7,6,  2357.8,2,   38.89,2, -999.00,9,    34.4846,2,     633.87,2,       0.22,       0.01,       0.09,       0.01,      0.006,     -999.0,9,    3.18650,2,      0.071,1,      0.000,2,     -999.0,9,     -999.0,9,     -999.0,9,     99.860,     0.0056,2,      0.054,1,      0.431,1,     -999.0,9
49NZ20210713,        P01,      44,          1,         25,     X12S25,2,20210728,       1419,    46.9714,   166.7606,       5955,   800.8,2,   2.9658,2,  34.3500,2,  34.3493,2,    24.92,2,   25.08,2,  143.32,2,    0.02,2,   43.54,2,    0.00,2,   3.110,2,   0.301,2,   0.181,2,   0.023,2,   0.115,2,  2378.2,2,  2369.9,2,   39.01,2, -999.00,9,    34.5274,2,     634.67,2,       0.23,       0.01,       0.09,       0.01,      0.006,     0.0135,2,    2.96544,2,      0.070,1,      0.000,2,      0.397,1,      0.237,1,      0.046,1,     99.879,     0.0049,2,      0.052,1,      0.431,1,     -999.0,9
49NZ20210713,        P01,      44,          1,         24,     X12S24,2,20210728,       1419,    46.9714,   166.7606,       5955,   900.1,2,   2.8246,2,  34.3838,2,  34.3835,2,    26.30,2,   26.20,2,  147.39,2,    0.04,2,   43.38,2,    0.00,2,   3.089,2,   0.233,2,   0.118,2,   0.019,2,   0.102,2,  2378.3,2,  2373.8,2,   36.67,2, -999.00,9,    34.5616,2,     635.22,2,       0.23,       0.01,       0.09,       0.01,      0.006,     -999.0,9,    2.82489,2,      0.070,1,      0.000,2,     -999.0,9,     -999.0,9,     -999.0,9,     99.883,     0.0047,2,      0.052,1,      0.414,1,     -999.0,9
49NZ20210713,        P01,      44,          1,         23,     X12S23,2,20210728,       1419,    46.9714,   166.7606,       5955,  1000.4,2,   2.6721,2,  34.4156,2,  34.4150,2,    26.06,2,   26.00,2,  153.12,2,    0.03,2,   43.59,2,    0.00,2,   3.101,2,   0.167,2,   0.102,2,   0.012,2,   0.059,2,  2384.3,2,  2378.6,2,   36.48,2, -999.00,9,    34.5950,2,     635.82,2,       0.24,       0.01,       0.09,       0.01,      0.006,     0.0133,2,    2.67258,2,      0.069,1,      0.000,2,      0.391,1,      0.228,1,      0.041,1,     99.899,     0.0040,2,      0.051,1,      0.408,1,     -999.0,9
49NZ20210713,        P01,      44,          1,         22,     X12S22,2,20210728,       1419,    46.9714,   166.7606,       5955,  1200.3,2,   2.4186,2,  34.4740,2,  34.4743,2,    34.21,2,   34.34,2,  159.99,2,    0.03,2,   43.26,2,    0.00,2,   3.067,2,   0.095,2,   0.061,2,   0.009,2,   0.052,2,  2388.5,2,  2391.2,6,   35.85,2, -999.00,9,    34.6559,2,     636.92,2,       0.25,       0.01,       0.09,       0.01,      0.006,     -999.0,9,    2.41762,2,      0.067,1,      0.000,2,     -999.0,9,     -999.0,9,     -999.0,9,     99.881,     0.0048,2,      0.050,1,      0.406,1,     -999.0,9
49NZ20210713,        P01,      44,          1,         21,     X12S21,2,20210728,       1419,    46.9714,   166.7606,       5955,  1400.1,2,   2.2403,2,  34.5129,2,  34.5122,2,    39.68,2,   39.64,2,  165.47,2,    0.02,2,   43.00,2,    0.00,2,   3.043,2,   0.052,2,   0.033,2,   0.005,2,   0.053,2,  2389.7,2,  2395.1,2,   38.42,2, -999.00,9,    34.6946,2,     637.62,2,       0.26,       0.01,       0.09,       0.01,      0.006,     0.0132,2,    2.24041,2,      0.066,1,      0.000,2,      0.381,1,      0.225,1,      0.039,1,     99.916,     0.0034,2,      0.050,1,      0.400,1,     -999.0,9
49NZ20210713,        P01,      44,          1,         20,     X12S20,2,20210728,       1419,    46.9714,   166.7606,       5955,  1599.9,2,   2.0849,2,  34.5488,2,  34.5480,2,    48.98,2,   49.01,2,  169.04,2,    0.02,2,   42.51,2,    0.00,2,   3.003,2,   0.025,2,   0.016,2,   0.004,2,   0.056,2,  2387.9,2,  2402.8,2,   39.62,2, -999.00,9,    34.7292,2,     638.27,2,       0.26,       0.01,       0.09,       0.01,      0.006,     -999.0,9,    2.08493,2,      0.064,1,      0.000,2,     -999.0,9,     -999.0,9,     -999.0,9,     99.925,     0.0030,2,      0.050,1,      0.390,1,     -999.0,9
49NZ20210713,        P01,      44,          1,         19,     X12S19,2,20210728,       1419,    46.9714,   166.7606,       5955,  1801.2,2,   1.9578,2,  34.5785,2,  34.5776,2,    62.01,2,   62.02,2,  169.29,2,    0.01,2,   41.76,2,    0.00,2,   2.943,2,   0.011,2,   0.007,2,   0.006,2,   0.042,2,  2385.3,2,  2410.0,2,   37.61,2, -999.00,9,    34.7592,2,     638.82,2,       0.26,       0.01,       0.09,       0.01,      0.006,     0.0127,2,    1.95782,2,      0.063,1,      0.000,2,      0.348,1,      0.202,1,      0.036,1,     99.934,     0.0026,2,      0.049,1,      0.382,1,     -999.0,9
49NZ20210713,        P01,      44,          1,         18,     X12S18,2,20210728,       1419,    46.9714,   166.7606,       5955,  2000.7,2,   1.8519,2,  34.6010,2,  34.6002,2,    74.20,2,   74.10,2,  169.24,2,    0.01,2,   41.07,2,    0.00,2,   2.888,2,   0.004,2,   0.003,2,   0.004,2,   0.059,2,  2377.3,2,  2410.1,2,   37.71,2, -999.00,9,    34.7859,2,     639.22,2,       0.26,       0.01,       0.09,       0.01,      0.006,     -999.0,9,    1.85160,2,      0.062,1,      0.000,2,     -999.0,9,     -999.0,9,     -999.0,9,     99.932,     0.0027,2,      0.052,1,      0.379,1,     -999.0,9
49NZ20210713,        P01,      44,          1,         17,     X12S17,2,20210728,       1419,    46.9714,   166.7606,       5955,  2200.8,2,   1.7597,2,  34.6195,2,  34.6176,3,    86.48,2,   85.43,2,  168.18,2,    0.01,2,   40.33,2,    0.00,2,   2.836,2,   0.001,2,   0.001,2,   0.003,2,   0.044,2,  2371.7,2,  2412.1,2,   39.48,2, -999.00,9,    34.7996,2,     639.52,2,       0.26,       0.01,       0.09,       0.01,      0.006,     0.0120,2,    1.75962,2,      0.061,1,      0.000,2,      0.329,1,      0.186,1,      0.033,1,     99.943,     0.0023,2,      0.049,1,      0.367,1,     -999.0,9
49NZ20210713,        P01,      44,          1,         16,     X12S16,2,20210728,       1419,    46.9714,   166.7606,       5955,  2400.5,2,   1.6849,2,  34.6343,2,  34.6337,2,    98.30,2,   98.41,2,  166.12,2,    0.02,2,   39.50,2,    0.00,2,   2.774,2,   0.000,2,   0.000,2,   0.003,2,   0.037,2,  2365.4,6,  2413.6,2,   36.75,2, -999.00,9,    34.8163,2,     639.87,2,       0.26,       0.01,       0.08,       0.01,      0.006,     -999.0,9,    1.68475,2,      0.060,1,      0.000,2,     -999.0,9,     -999.0,9,     -999.0,9,     99.941,     0.0024,2,      0.049,1,      0.362,1,     -999.0,9
49NZ20210713,        P01,      44,          1,         15,     X12S15,2,20210728,       1419,    46.9714,   166.7606,       5955,  2601.3,2,   1.6308,2,  34.6449,2,  34.6443,2,   107.95,2,  107.93,2,  163.90,2,    0.01,2,   38.89,2,    0.00,2,   2.723,2,   0.000,2,   0.000,2,   0.000,2,   0.037,2,  2358.9,2,  2416.2,2,   38.59,2, -999.00,9,    34.8272,2,     640.02,2,       0.26,       0.01,       0.08,       0.01,      0.006,     0.0112,2,    1.63077,2,      0.059,1,      0.000,2,      0.313,1,      0.175,1,      0.031,1,     99.962,     0.0015,2,      0.048,1,      0.361,1,     -999.0,9
49NZ20210713,        P01,      44,          1,         14,     X12S14,2,20210728,       1419,    46.9714,   166.7606,       5955,  2801.6,2,   1.5831,2,  34.6541,2,  34.6531,2,   116.96,2,  117.43,2,  161.77,2,    0.02,2,   38.36,2,    0.00,2,   2.679,2,   0.000,2,   0.000,2,   0.000,2,   0.020,2,  2354.4,2,  2414.1,2,   35.22,2, -999.00,9,    34.8371,2,     640.22,2,       0.25,       0.01,       0.08,       0.01,      0.006,     -999.0,9,    1.58309,2,      0.059,1,      0.000,2,     -999.0,9,     -999.0,9,     -999.0,9,     99.957,     0.0017,2,      0.048,1,      0.351,1,     -999.0,9
49NZ20210713,        P01,      44,          1,         13,     X12S13,2,20210728,       1419,    46.9714,   166.7606,       5955,  3001.3,2,   1.5485,2,  34.6607,2,  34.6606,2,   124.21,2,  124.57,2,  159.78,2,    0.01,2,   37.88,2,    0.00,2,   2.641,2,   0.000,2,   0.000,2,   0.003,2,   0.036,2,  2347.9,2,  2414.2,2,   37.97,3, -999.00,9,    34.8424,2,     640.37,2,       0.26,       0.01,       0.08,       0.01,      0.006,     0.0107,2,    1.54809,2,      0.058,1,      0.000,2,      0.320,1,      0.184,1,      0.037,1,     99.975,     0.0010,2,      0.049,1,      0.349,1,     -999.0,9
49NZ20210713,        P01,      44,          1,         12,     X12S12,2,20210728,       1419,    46.9714,   166.7606,       5955,  3251.1,2,   1.5125,2,  34.6679,2,  34.6678,2,   132.08,2,  132.66,2,  157.30,2,    0.02,2,   37.31,2,    0.00,2,   2.594,2,   0.000,2,   0.000,2,   0.000,2,   0.000,2,  2344.0,2,  2414.5,6,   37.03,3, -999.00,9,    34.8516,2,     640.47,2,       0.25,       0.01,       0.08,       0.01,      0.006,     -999.0,9,    1.51217,2,      0.058,1,      0.000,2,     -999.0,9,     -999.0,9,     -999.0,9,     99.950,     0.0020,2,      0.048,1,      0.356,1,     -999.0,9
49NZ20210713,        P01,      44,          1,         11,     X12S11,2,20210728,       1419,    46.9714,   166.7606,       5955,  3500.5,2,   1.4905,2,  34.6733,2,  34.6725,2,   138.35,2,  138.67,2,  155.87,2,    0.03,2,   36.93,2,    0.00,2,   2.568,2,   0.000,2,   0.000,2,   0.000,2,   0.000,2,  2338.3,2,  2412.5,2,   36.40,2, -999.00,9,    34.8549,2,     640.52,2,       0.25,       0.01,       0.08,       0.01,      0.006,     0.0098,2,    1.49040,2,      0.057,1,      0.000,2,      0.292,1,      0.160,1,      0.022,1,     99.971,     0.0012,2,      0.048,1,      0.333,1,     -999.0,9
49NZ20210713,        P01,      44,          1,         10,     X12S10,2,20210728,       1419,    46.9714,   166.7606,       5955,  3750.9,2,   1.4801,2,  34.6773,2,  34.6764,2,   143.29,2,  143.57,2,  154.51,2,    0.03,2,   36.70,2,    0.00,2,   2.539,2,   0.000,2,   0.000,2,   0.000,2,   0.000,2,  2334.8,2,  2416.2,2,   38.58,2, -999.00,9,    34.8602,2,     640.57,2,       0.24,       0.01,       0.08,       0.01,      0.006,     -999.0,9,    1.47997,2,      0.057,1,      0.000,2,     -999.0,9,     -999.0,9,     -999.0,9,     99.962,     0.0015,2,      0.047,1,      0.333,1,     -999.0,9
49NZ20210713,        P01,      44,          1,          9,     X12S09,2,20210728,       1419,    46.9714,   166.7606,       5955,  4001.5,2,   1.4779,2,  34.6804,2,  34.6800,2,   147.24,2,  147.35,2,  153.42,2,    0.03,2,   36.35,2,    0.00,2,   2.522,2,   0.000,2,   0.001,2,   0.000,2,   0.022,2,  2332.0,2,  2412.2,2,   37.45,2, -999.00,9,    34.8635,2,     640.67,2,       0.24,       0.01,       0.08,       0.01,      0.006,     0.0096,2,    1.47762,2,      0.056,1,      0.000,2,      0.291,1,      0.162,1,      0.026,1,     99.980,     0.0008,2,      0.047,1,      0.341,1,     -999.0,9
49NZ20210713,        P01,      44,          1,          8,     X12S08,2,20210728,       1419,    46.9714,   166.7606,       5955,  4250.0,2,   1.4814,2,  34.6830,2,  34.6827,2,   150.59,2,  150.40,2,  152.46,2,    0.02,2,   36.20,2,    0.00,2,   2.504,2,   0.000,2,   0.001,2,   0.000,2,   0.000,2,  2330.8,6,  2413.0,2,   38.58,2, -999.00,9,    34.8654,2,     640.67,2,       0.24,       0.01,       0.08,       0.01,      0.006,     -999.0,9,    1.48119,2,      0.056,1,      0.000,2,     -999.0,9,     -999.0,9,     -999.0,9,     99.978,     0.0009,2,      0.047,1,      0.366,1,     -999.0,9
49NZ20210713,        P01,      44,          1,          7,     X12S07,2,20210728,       1419,    46.9714,   166.7606,       5955,  4501.2,2,   1.4905,2,  34.6851,2,  34.6848,2,   153.24,2,  153.14,2,  152.02,2,    0.02,2,   36.04,2,    0.00,2,   2.488,2,   0.000,2,   0.000,2,   0.000,2,   0.000,2,  2328.7,2,  2412.7,2,   37.08,2, -999.00,9,    34.8670,2,     640.77,2,       0.24,       0.01,       0.08,       0.01,      0.006,     0.0096,2,    1.49032,2,      0.056,1,      0.000,2,      0.291,1,      0.162,1,      0.026,1,     99.978,     0.0009,2,      0.068,1,      0.361,1,     -999.0,9
49NZ20210713,        P01,      44,          1,          6,     X12S06,2,20210728,       1419,    46.9714,   166.7606,       5955,  4750.5,2,   1.5060,2,  34.6866,2,  34.6853,2,   155.17,2,  155.06,2,  151.78,2,    0.03,2,   35.89,2,    0.00,2,   2.481,2,   0.000,2,   0.001,2,   0.000,2,   0.000,2,  2325.4,2,  2413.2,6,   38.98,2, -999.00,9,    34.8716,2,     640.77,2,       0.24,       0.01,       0.08,       0.01,      0.006,     -999.0,9,    1.50583,2,      0.055,1,      0.000,2,     -999.0,9,     -999.0,9,     -999.0,9,     99.971,     0.0012,2,      0.047,1,      0.363,1,     -999.0,9