BOTTLE,20231011CCHSIOENA
EXPOCODE,SECT_ID,STNNBR,CASTNO,SAMPNO,BTLNBR,BTLNBR_FLAG_W,DATE,TIME,LATITUDE,LONGITUDE,DEPTH,CTDPRS,CTDPRS_FLAG_W,CTDTMP,CTDTMP_FLAG_W,CTDSAL,CTDSAL_FLAG_W,SALNTY,SALNTY_FLAG_W,CTDOXY,CTDOXY_FLAG_W,OXYGEN,OXYGEN_FLAG_W,SILCAT,SILCAT_FLAG_W,NH4,NH4_FLAG_W,NITRAT,NITRAT_FLAG_W,NITRIT,NITRIT_FLAG_W,PHSPHT,PHSPHT_FLAG_W,CFC-11,CFC-11_FLAG_W,CFC-12,CFC-12_FLAG_W,CFC113,CFC113_FLAG_W,SF6,SF6_FLAG_W,TCARBN,TCARBN_FLAG_W,ALKALI,ALKALI_FLAG_W,DOC,DOC_FLAG_W,TDN,TDN_FLAG_W,DNSSAL,DNSSAL_FLAG_W,RIANOMALY,RIANOMALY_FLAG_W,SILUNC,NH4UNC,NRAUNC,NRIUNC,PHPUNC,FDOM,FDOM_FLAG_W,REFTMP,REFTMP_FLAG_W,CTDFLUOR,CTDFLUOR_FLAG_W,PAR,PAR_FLAG_W,CDOM300,CDOM300_FLAG_W,CDOM325,CDOM325_FLAG_W,CDOM443,CDOM443_FLAG_W,CTDXMISS,CTDBEAMCP,CTDBEAMCP_FLAG_W,CTDTURB,CTDTURB_FLAG_W,CTDCDOM,CTDCDOM_FLAG_W,CHLORA,CHLORA_FLAG_W
,,,,,,,,,,,METERS,DBAR,,ITS-90,,PSS-78,,PSS-78,,UMOL/KG,,UMOL/KG,,UMOL/KG,,UMOL/KG,,UMOL/KG,,UMOL/KG,,UMOL/KG,,PMOL/KG,,PMOL/KG,,PMOL/KG,,FMOL/KG,,UMOL/KG,,UMOL/KG,,UMOL/KG,,UMOL/KG,,G/KG,,ND,,UMOL/KG,UMOL/KG,UMOL/KG,UMOL/KG,UMOL/KG,RFU,,ITS-90,,MG/M^3,,UMOL/M^2/SEC,,/METER,,/METER,,/METER,,%TRANS,/METER,,FTU,,QSU,,UG/L,
49NZ20210713,        P01,      80,          1,         10,     X12S10,2,20210813,       2327,    46.9878,  -159.2535,       5194,  2999.8,2,   1.5856,2,  34.6532,2,  34.6544,2,   109.21,2, -999.00,9, -999.00,9, -999.00,9, -999.00,9, -999.00,9,-999.000,9,   0.002,2,   0.000,2,   0.000,2,   0.000,2,  -999.0,9,  -999.0,9, -999.00,9, -999.00,9,     -999.0,9,     -999.0,9,     -999.0,     -999.0,     -999.0,     -999.0,     -999.0,     -999.0,9,    1.58551,2,      0.058,1,      0.000,2,     -999.0,9,     -999.0,9,     -999.0,9,     99.951,     0.0020,2,      0.040,1,      0.297,1,     -999.0,9
49NZ20210713,        P01,      80,          1,          7,     X12S07,2,20210813,       2327,    46.9878,  -159.2535,       5194,  2999.9,2,   1.5856,2,  34.6532,2,  34.6537,2,   109.19,2, -999.00,9, -999.00,9, -999.00,9, -999.00,9, -999.00,9,-999.000,9,   0.000,2,   0.000,2,   0.000,2,   0.000,2,  -999.0,9,  -999.0,9, -999.00,9, -999.00,9,     -999.0,9,     -999.0,9,     -999.0,     -999.0,     -999.0,     -999.0,     -999.0,     -999.0,9,    1.58548,2,      0.058,1,      0.000,2,     -999.0,9,     -999.0,9,     -999.0,9,     99.944,     0.0022,2,      0.039,1,      0.297,1,     -999.0,9
49NZ20210713,        P01,      80,          1,         13,     X12S13,2,20210813,       2327,    46.9878,  -159.2535,       5194,  3000.0,2,   1.5859,2,  34.6532,2,  34.6543,2,   109.13,2, -999.00,9, -999.00,9, -999.00,9, -999.00,9, -999.00,9,-999.000,9,   0.007,2,   0.005,2,   0.000,2,   0.000,2,  -999.0,9,  -999.0,9, -999.00,9, -999.00,9,     -999.0,9,     -999.0,9,     -999.0,     -999.0,     -999.0,     -999.0,     -999.0,     -999.0,9,    1.58581,2,      0.059,1,      0.000,2,     -999.0,9,     -999.0,9,     -999.0,9,     99.946,     0.0021,2,      0.040,1,      0.291,1,     -999.0,9
49NZ20210713,        P01,      80,          1,          8,     X12S08,2,20210813,       2327,    46.9878,  -159.2535,       5194,  3000.1,2,   1.5857,2,  34.6531,2,  34.6543,2,   109.14,2, -999.00,9, -999.00,9, -999.00,9, -999.00,9, -999.00,9,-999.000,9,   0.000,2,   0.000,2,   0.000,2,   0.000,2,  -999.0,9,  -999.0,9, -999.00,9, -999.00,9,     -999.0,9,     -999.0,9,     -999.0,     -999.0,     -999.0,     -999.0,     -999.0,     -999.0,9,    1.58560,2,      0.058,1,      0.000,2,     -999.0,9,     -999.0,9,     -999.0,9,     99.944,     0.0022,2,      0.039,1,      0.295,1,     -999.0,9
49NZ20210713,        P01,      80,          1,          6,     X12S06,2,20210813,       2327,    46.9878,  -159.2535,       5194,  3000.2,2,   1.5856,2,  34.6533,2,  34.6540,2,   109.18,2, -999.00,9, -999.00,9, -999.00,9, -999.00,9, -999.00,9,-999.000,9,   0.000,2,   0.000,2,   0.000,2,   0.000,2,  -999.0,9,  -999.0,9, -999.00,9, -999.00,9,     -999.0,9,     -999.0,9,     -999.0,     -999.0,     -999.0,     -999.0,     -999.0,     -999.0,9,    1.58563,2,      0.058,1,      0.000,2,     -999.0,9,     -999.0,9,     -999.0,9,     99.937,     0.0025,2,      0.038,1,      0.295,1,     -999.0,9