BOTTLE,20231011CCHSIOENA
EXPOCODE,SECT_ID,STNNBR,CASTNO,SAMPNO,BTLNBR,BTLNBR_FLAG_W,DATE,TIME,LATITUDE,LONGITUDE,DEPTH,CTDPRS,CTDPRS_FLAG_W,CTDTMP,CTDTMP_FLAG_W,CTDSAL,CTDSAL_FLAG_W,SALNTY,SALNTY_FLAG_W,CTDOXY,CTDOXY_FLAG_W,OXYGEN,OXYGEN_FLAG_W,SILCAT,SILCAT_FLAG_W,NH4,NH4_FLAG_W,NITRAT,NITRAT_FLAG_W,NITRIT,NITRIT_FLAG_W,PHSPHT,PHSPHT_FLAG_W,CFC-11,CFC-11_FLAG_W,CFC-12,CFC-12_FLAG_W,CFC113,CFC113_FLAG_W,SF6,SF6_FLAG_W,TCARBN,TCARBN_FLAG_W,ALKALI,ALKALI_FLAG_W,DOC,DOC_FLAG_W,TDN,TDN_FLAG_W,DNSSAL,DNSSAL_FLAG_W,RIANOMALY,RIANOMALY_FLAG_W,SILUNC,NH4UNC,NRAUNC,NRIUNC,PHPUNC,FDOM,FDOM_FLAG_W,REFTMP,REFTMP_FLAG_W,CTDFLUOR,CTDFLUOR_FLAG_W,PAR,PAR_FLAG_W,CDOM300,CDOM300_FLAG_W,CDOM325,CDOM325_FLAG_W,CDOM443,CDOM443_FLAG_W,CTDXMISS,CTDBEAMCP,CTDBEAMCP_FLAG_W,CTDTURB,CTDTURB_FLAG_W,CTDCDOM,CTDCDOM_FLAG_W,CHLORA,CHLORA_FLAG_W
,,,,,,,,,,,METERS,DBAR,,ITS-90,,PSS-78,,PSS-78,,UMOL/KG,,UMOL/KG,,UMOL/KG,,UMOL/KG,,UMOL/KG,,UMOL/KG,,UMOL/KG,,PMOL/KG,,PMOL/KG,,PMOL/KG,,FMOL/KG,,UMOL/KG,,UMOL/KG,,UMOL/KG,,UMOL/KG,,G/KG,,ND,,UMOL/KG,UMOL/KG,UMOL/KG,UMOL/KG,UMOL/KG,RFU,,ITS-90,,MG/M^3,,UMOL/M^2/SEC,,/METER,,/METER,,/METER,,%TRANS,/METER,,FTU,,QSU,,UG/L,
49NZ20210713,        P01,      50,          1,         36,     X12S36,2,20210730,       0213,    46.9846,   169.5752,       2396,    10.3,2,  10.6998,2,  32.7696,2,  32.7799,2,   295.99,2,  296.33,2,   27.68,2,    0.29,2,   17.29,2,    0.20,2,   1.493,2,   3.715,2,   2.079,2,   0.340,2,   3.433,2,  2065.7,2,  2224.3,2,   57.94,2, -999.00,9,    32.9384,2,     605.70,2,       0.07,       0.02,       0.04,       0.01,      0.005,     0.0042,2,   10.69910,2,      0.716,1,    302.506,2,      0.390,1,      0.201,1,      0.023,1,     93.443,     0.2713,2,      0.251,1,      0.261,1,       0.72,2
49NZ20210713,        P01,      50,          1,          2,     X12B34,2,20210730,       0213,    46.9846,   169.5752,       2396,    20.1,2,   9.7392,2,  32.8576,2,  32.8749,2,   305.04,2,  308.13,2,   28.58,2,    0.40,2,   17.83,2,    0.20,2,   1.548,2,-999.000,9,-999.000,9,-999.000,9,-999.000,9,  2072.6,2,  2232.3,2,   57.72,2, -999.00,9,    33.0358,2,     607.35,2,       0.07,       0.02,       0.04,       0.01,      0.005,     0.0049,2,    9.75018,2,      1.736,1,     94.820,2,      0.418,1,      0.224,1,      0.033,1,     93.157,     0.2836,2,      0.276,1,      0.267,1,       0.87,2
49NZ20210713,        P01,      50,          1,         35,     X12S35,2,20210730,       0213,    46.9846,   169.5752,       2396,    49.9,2,   3.8274,2,  33.0803,2,  33.0818,2,   322.74,2,  325.11,2,   38.85,2,    0.59,2,   22.80,2,    0.51,2,   1.881,2,   5.037,2,   2.258,2,   0.484,2,   4.375,2,  2128.2,2,  2235.2,2,   54.79,2, -999.00,9,    33.2436,2,     611.40,2,       0.09,       0.02,       0.05,       0.01,      0.005,     0.0059,2,    3.83398,2,      0.912,1,      7.577,2,      0.376,1,      0.198,1,      0.025,1,     98.689,     0.0528,2,      0.097,1,      0.297,1,       0.37,2
49NZ20210713,        P01,      50,          1,         34,     X12S34,2,20210730,       0213,    46.9846,   169.5752,       2396,    99.9,2,   2.4998,2,  33.1374,2,  33.1381,2,   318.86,2,  321.27,2,   45.55,2,    0.02,2,   26.43,2,    0.02,2,   2.027,2,   5.227,2,   2.355,2,   0.500,2,   4.412,2,  2148.3,2,  2237.1,2,   50.82,2, -999.00,9,    33.3012,2,     612.35,2,       0.10,       0.01,       0.06,       0.01,      0.005,     0.0064,2,    2.50321,2,      0.157,1,      0.177,2,      0.364,1,      0.185,1,      0.024,1,     99.395,     0.0243,2,      0.086,1,      0.302,1,       0.09,2
49NZ20210713,        P01,      50,          1,         33,     X12S33,2,20210730,       0213,    46.9846,   169.5752,       2396,   150.5,2,   2.8914,2,  33.5200,2,  33.5192,2,   173.18,2,  173.64,2,   70.59,2,    0.02,2,   34.68,2,    0.01,2,   2.548,2,   3.799,2,   1.721,2,   0.309,2,   2.711,2,  2243.8,2,  2267.3,2,   48.76,2, -999.00,9,    33.6858,2,     619.45,2,       0.13,       0.01,       0.07,       0.01,      0.006,     0.0104,2,    2.89157,2,      0.078,1,      0.000,2,      0.410,1,      0.231,1,      0.036,1,     99.395,     0.0243,2,      0.080,1,      0.405,1,       0.03,2
49NZ20210713,        P01,      50,          1,         32,     X12S32,2,20210730,       0213,    46.9846,   169.5752,       2396,   198.7,2,   3.4948,2,  33.8140,2,  33.8137,2,    65.88,2,   65.79,2,   92.53,2,    0.02,2,   41.73,2,    0.01,2,   2.985,2,   2.588,2,   1.165,2,   0.179,2,   1.375,2,  2321.4,2,  2291.8,2,   45.56,2, -999.00,9,    33.9839,2,     624.85,2,       0.16,       0.01,       0.09,       0.01,      0.008,     0.0123,2,    3.49452,2,      0.076,1,      0.000,2,      0.517,1,      0.321,1,      0.075,1,     99.605,     0.0158,2,      0.068,1,      0.447,1,       0.02,2
49NZ20210713,        P01,      50,          1,         31,     X12S31,2,20210730,       0213,    46.9846,   169.5752,       2396,   252.4,2,   3.6803,2,  33.9542,2,  33.9546,2,    30.02,2,   29.90,2,  102.73,2,    0.03,2,   43.95,2,    0.01,2,   3.124,2,   1.960,2,   1.000,2,   0.132,2,   0.891,2,  2344.3,2,  2308.9,2,   45.15,2, -999.00,9,    34.1262,2,     627.45,2,       0.24,       0.01,       0.12,       0.01,      0.011,     0.0134,2,    3.67999,2,      0.076,1,      0.000,2,      0.473,1,      0.285,1,      0.060,1,     99.557,     0.0178,2,      0.164,1,      0.465,1,       0.01,2
49NZ20210713,        P01,      50,          1,         30,     X12S30,2,20210730,       0213,    46.9846,   169.5752,       2396,   298.9,2,   3.6901,2,  34.0322,2,  34.0331,2,    20.88,2,   20.89,2,  109.17,2,    0.02,2,   44.38,2,    0.01,2,   3.149,2,   1.556,2,   0.791,2,   0.099,2,   0.627,2,  2351.2,2,  2318.8,2,   42.12,2, -999.00,9,    34.2068,2,     628.95,2,       0.18,       0.01,       0.09,       0.01,      0.007,     0.0133,2,    3.68988,2,      0.075,1,      0.000,2,      0.428,1,      0.248,1,      0.050,1,     99.711,     0.0116,2,      0.064,1,      0.469,1,     -999.0,9
49NZ20210713,        P01,      50,          1,         29,     X12S29,2,20210730,       0213,    46.9846,   169.5752,       2396,   399.2,2,   3.5720,2,  34.1231,2,  34.1232,2,    18.11,2,   17.98,2,  118.56,2,    0.02,2,   44.26,2,    0.00,2,   3.128,2,   1.123,2,   0.584,2,   0.069,2,   0.436,2,  2359.7,2,  2328.8,2,   43.96,2, -999.00,9,    34.2991,2,     630.55,2,       0.19,       0.01,       0.09,       0.01,      0.006,     0.0135,2,    3.57154,2,      0.075,1,      0.000,2,      0.446,1,      0.269,1,      0.055,1,     99.831,     0.0067,2,      0.057,1,      0.474,1,     -999.0,9
49NZ20210713,        P01,      50,          1,         28,     X12S28,2,20210730,       0213,    46.9846,   169.5752,       2396,   500.3,2,   3.4517,2,  34.1925,2,  34.1923,2,    16.97,2,   16.77,2,  125.75,2,    0.01,2,   44.13,2,    0.00,2,   3.127,2,   0.798,2,   0.426,2,   0.045,2,   0.233,2,  2366.7,2,  2344.3,2,   43.75,2, -999.00,9,    34.3663,2,     631.75,2,       0.20,       0.01,       0.09,       0.01,      0.006,     0.0137,2,    3.45146,2,      0.074,1,      0.000,2,      0.432,1,      0.261,1,      0.054,1,     99.864,     0.0055,2,      0.053,1,      0.472,1,     -999.0,9
49NZ20210713,        P01,      50,          1,         27,     X12S27,2,20210730,       0213,    46.9846,   169.5752,       2396,   599.7,2,   3.2030,2,  34.2776,2,  34.2776,2,    16.60,2,   16.27,2,  135.93,2,    0.02,2,   44.19,2,    0.00,2,   3.139,2,   0.476,2,   0.260,2,   0.024,2,   0.196,2,  2375.5,2,  2353.1,2,   40.97,2, -999.00,9,    34.4534,2,     633.35,2,       0.22,       0.01,       0.09,       0.01,      0.006,     0.0138,2,    3.20274,2,      0.072,1,      0.000,2,      0.516,1,      0.338,1,      0.088,1,     99.908,     0.0037,2,      0.056,1,      0.473,1,     -999.0,9
49NZ20210713,        P01,      50,          1,         26,     X12S26,2,20210730,       0213,    46.9846,   169.5752,       2396,   699.4,2,   3.0407,2,  34.3216,2,  34.3215,2,    17.66,2,   17.46,2,  141.33,2,    0.04,2,   43.88,2,    0.00,2,   3.122,2,   0.348,2,   0.192,2,   0.019,2,   0.087,2,  2383.2,6,  2363.4,2,   40.21,2, -999.00,9,    34.4975,2,     634.15,2,       0.23,       0.01,       0.09,       0.01,      0.006,     -999.0,9,    3.04041,2,      0.072,1,      0.000,2,     -999.0,9,     -999.0,9,     -999.0,9,     99.889,     0.0044,2,      0.053,1,      0.473,1,     -999.0,9
49NZ20210713,        P01,      50,          1,         25,     X12S25,2,20210730,       0213,    46.9846,   169.5752,       2396,   801.0,2,   2.9183,2,  34.3528,2,  34.3527,2,    18.90,2,   19.10,2,  145.85,2,    0.03,2,   43.97,2,    0.00,2,   3.121,2,   0.266,2,   0.154,2,   0.010,2,   0.084,2,  2385.6,2,  2371.5,2,   40.15,2, -999.00,9,    34.5305,2,     634.80,2,       0.23,       0.01,       0.09,       0.01,      0.006,     0.0136,2,    2.91798,2,      0.071,1,      0.000,2,      0.394,1,      0.232,1,      0.044,1,     99.891,     0.0043,2,      0.053,1,      0.467,1,     -999.0,9
49NZ20210713,        P01,      50,          1,         24,     X12S24,2,20210730,       0213,    46.9846,   169.5752,       2396,   898.5,2,   2.7924,2,  34.3839,2,  34.3844,2,    19.72,2,   19.65,2,  150.44,2,    0.02,2,   43.99,2,    0.00,2,   3.125,2,   0.200,2,   0.115,2,   0.009,2,   0.101,2,  2387.1,2,  2376.0,2,   40.28,2, -999.00,9,    34.5628,2,     635.25,2,       0.24,       0.01,       0.09,       0.01,      0.006,     -999.0,9,    2.79205,2,      0.071,1,      0.000,2,     -999.0,9,     -999.0,9,     -999.0,9,     99.898,     0.0041,2,      0.050,1,      0.473,1,     -999.0,9
49NZ20210713,        P01,      50,          1,         23,     X12S23,2,20210730,       0213,    46.9846,   169.5752,       2396,   998.2,2,   2.6437,2,  34.4204,2,  34.4201,2,    24.10,2,   24.01,2,  154.65,2,    0.02,2,   43.75,2,    0.00,2,   3.110,2,   0.151,2,   0.090,2,   0.006,2,   0.060,2,  2390.2,2,  2380.0,2,   40.69,2, -999.00,9,    34.5998,2,     635.95,2,       0.24,       0.01,       0.09,       0.01,      0.006,     0.0137,2,    2.64374,2,      0.070,1,      0.000,2,      0.398,1,      0.240,1,      0.053,1,     99.905,     0.0038,2,      0.051,1,      0.464,1,     -999.0,9
49NZ20210713,        P01,      50,          1,         22,     X12S22,2,20210730,       0213,    46.9846,   169.5752,       2396,  1199.9,2,   2.3620,2,  34.4834,2,  34.4833,2,    32.47,2,   32.53,2,  162.36,2,    0.02,2,   43.43,2,    0.00,2,   3.076,2,   0.078,2,   0.046,2,   0.004,2,   0.046,2,  2393.3,2,  2391.3,6,   39.65,2, -999.00,9,    34.6636,2,     637.10,2,       0.25,       0.01,       0.09,       0.01,      0.006,     -999.0,9,    2.36134,2,      0.069,1,      0.000,2,     -999.0,9,     -999.0,9,     -999.0,9,     99.885,     0.0046,2,      0.052,1,      0.464,1,     -999.0,9
49NZ20210713,        P01,      50,          1,         21,     X12S21,2,20210730,       0213,    46.9846,   169.5752,       2396,  1399.8,2,   2.1949,2,  34.5222,2,  34.5222,2,    41.23,2,   41.45,2,  166.47,2,    0.01,2,   42.94,2,    0.00,2,   3.038,2,   0.047,2,   0.025,2,   0.002,2,   0.023,2,  2395.3,2,  2398.0,2,   38.23,2, -999.00,9,    34.7033,2,     637.75,2,       0.26,       0.01,       0.09,       0.01,      0.006,     0.0129,2,    2.19422,2,      0.067,1,      0.000,2,      0.379,1,      0.224,1,      0.044,1,     99.926,     0.0030,2,      0.050,1,      0.458,1,     -999.0,9
49NZ20210713,        P01,      50,          1,         20,     X12S20,2,20210730,       0213,    46.9846,   169.5752,       2396,  1601.8,2,   2.0206,2,  34.5620,2,  34.5623,2,    54.37,2,   54.82,2,  168.86,2,    0.01,2,   42.19,2,    0.00,2,   2.979,2,   0.020,2,   0.011,2,   0.000,2,   0.024,2,  2391.2,2,  2409.3,2,   37.45,2, -999.00,9,    34.7441,2,     638.50,2,       0.26,       0.01,       0.09,       0.01,      0.006,     -999.0,9,    2.02047,2,      0.065,1,      0.000,2,     -999.0,9,     -999.0,9,     -999.0,9,     99.945,     0.0022,2,      0.049,1,      0.452,1,     -999.0,9
49NZ20210713,        P01,      50,          1,         19,     X12S19,2,20210730,       0213,    46.9846,   169.5752,       2396,  1800.7,2,   1.8935,2,  34.5894,2,  34.5896,2,    68.81,2,   69.19,2,  168.40,2,    0.01,2,   41.31,2,    0.00,2,   2.910,2,   0.008,2,   0.005,2,   0.001,2,   0.055,2,  2382.8,2,  2408.5,2,   38.78,2, -999.00,9,    34.7712,2,     639.00,2,       0.26,       0.01,       0.09,       0.01,      0.006,     0.0123,2,    1.89329,2,      0.063,1,      0.000,2,      0.364,1,      0.217,1,      0.043,1,     99.947,     0.0021,2,      0.050,1,      0.439,1,     -999.0,9
49NZ20210713,        P01,      50,          1,         18,     X12S18,2,20210730,       0213,    46.9846,   169.5752,       2396,  1999.1,2,   1.7605,2,  34.6154,2,  34.6160,2,    85.40,2,   85.73,2,  167.27,2,    0.02,2,   40.30,2,    0.00,2,   2.835,2,   0.003,2,   0.001,2,   0.000,2,   0.031,2,  2373.5,2,  2409.9,2,   36.08,2, -999.00,9,    34.7975,2,     639.50,2,       0.26,       0.01,       0.08,       0.01,      0.006,     -999.0,9,    1.76041,2,      0.062,1,      0.000,2,     -999.0,9,     -999.0,9,     -999.0,9,     99.956,     0.0018,2,      0.050,1,      0.436,1,     -999.0,9
49NZ20210713,        P01,      50,          1,         17,     X12S17,2,20210730,       0213,    46.9846,   169.5752,       2396,  2202.6,2,   1.6857,2,  34.6294,2,  34.6299,2,    96.38,2,   96.58,2,  165.98,2,    0.01,2,   39.72,2,    0.00,2,   2.784,2,   0.002,2,   0.000,2,   0.000,2,   0.030,2,  2366.0,2,  2412.6,2,   35.82,2, -999.00,9,    34.8107,2,     639.75,2,       0.26,       0.01,       0.08,       0.01,      0.006,     0.0114,2,    1.68562,2,      0.061,1,      0.000,2,      0.321,1,      0.183,1,      0.034,1,     99.910,     0.0036,2,      0.053,1,      0.422,1,     -999.0,9
49NZ20210713,        P01,      50,          1,          1,     X12S01,2,20210730,       0213,    46.9846,   169.5752,       2396,  2411.8,2,   1.6622,2,  34.6359,2,  34.6364,2,   101.62,2,  101.56,2,  165.29,2,    0.02,2,   39.38,2,    0.00,2,   2.759,2,   0.003,2,   0.002,2,   0.000,2,   0.042,2,  2364.7,2,  2414.1,2,   38.62,2, -999.00,9,    34.8172,2,     639.85,2,       0.26,       0.01,       0.08,       0.01,      0.006,     0.0115,2,    1.66225,2,      0.061,1,      0.000,2,      0.323,1,      0.183,1,      0.036,1,     99.822,     0.0071,2,      0.061,1,      0.422,1,     -999.0,9