BOTTLE,20231011CCHSIOENA
EXPOCODE,SECT_ID,STNNBR,CASTNO,SAMPNO,BTLNBR,BTLNBR_FLAG_W,DATE,TIME,LATITUDE,LONGITUDE,DEPTH,CTDPRS,CTDPRS_FLAG_W,CTDTMP,CTDTMP_FLAG_W,CTDSAL,CTDSAL_FLAG_W,SALNTY,SALNTY_FLAG_W,CTDOXY,CTDOXY_FLAG_W,OXYGEN,OXYGEN_FLAG_W,SILCAT,SILCAT_FLAG_W,NH4,NH4_FLAG_W,NITRAT,NITRAT_FLAG_W,NITRIT,NITRIT_FLAG_W,PHSPHT,PHSPHT_FLAG_W,CFC-11,CFC-11_FLAG_W,CFC-12,CFC-12_FLAG_W,CFC113,CFC113_FLAG_W,SF6,SF6_FLAG_W,TCARBN,TCARBN_FLAG_W,ALKALI,ALKALI_FLAG_W,DOC,DOC_FLAG_W,TDN,TDN_FLAG_W,DNSSAL,DNSSAL_FLAG_W,RIANOMALY,RIANOMALY_FLAG_W,SILUNC,NH4UNC,NRAUNC,NRIUNC,PHPUNC,FDOM,FDOM_FLAG_W,REFTMP,REFTMP_FLAG_W,CTDFLUOR,CTDFLUOR_FLAG_W,PAR,PAR_FLAG_W,CDOM300,CDOM300_FLAG_W,CDOM325,CDOM325_FLAG_W,CDOM443,CDOM443_FLAG_W,CTDXMISS,CTDBEAMCP,CTDBEAMCP_FLAG_W,CTDTURB,CTDTURB_FLAG_W,CTDCDOM,CTDCDOM_FLAG_W,CHLORA,CHLORA_FLAG_W
,,,,,,,,,,,METERS,DBAR,,ITS-90,,PSS-78,,PSS-78,,UMOL/KG,,UMOL/KG,,UMOL/KG,,UMOL/KG,,UMOL/KG,,UMOL/KG,,UMOL/KG,,PMOL/KG,,PMOL/KG,,PMOL/KG,,FMOL/KG,,UMOL/KG,,UMOL/KG,,UMOL/KG,,UMOL/KG,,G/KG,,ND,,UMOL/KG,UMOL/KG,UMOL/KG,UMOL/KG,UMOL/KG,RFU,,ITS-90,,MG/M^3,,UMOL/M^2/SEC,,/METER,,/METER,,/METER,,%TRANS,/METER,,FTU,,QSU,,UG/L,
49NZ20210713,        P01,      88,          1,         36,     X12S36,2,20210811,       0805,    47.0036,  -151.4035,       5202,     9.9,2,  14.3642,2,  32.3601,2,  32.3577,2,   268.90,2,  267.24,2,   16.01,2,    0.24,2,    9.47,2,    0.13,2,   0.977,2,   2.942,2,   1.713,2,   0.239,2,   2.923,2,  2018.5,2,  2178.8,2,   56.04,2, -999.00,9,    32.5131,2,     597.63,2,       0.06,       0.02,       0.03,       0.01,      0.004,     0.0025,2,   14.36699,2,      0.782,1,      0.277,2,      0.258,1,      0.118,1,      0.022,1,     97.679,     0.0939,2,      0.110,1,      0.166,1,       0.18,2
49NZ20210713,        P01,      88,          1,         35,     X12S35,2,20210811,       0805,    47.0036,  -151.4035,       5202,    50.4,2,   8.6169,2,  32.5756,2,  32.5763,2,   300.45,2,  298.89,2,   18.18,2,    0.25,2,   11.52,2,    0.13,2,   1.116,2,   3.856,2,   1.825,2,   0.341,2,   3.570,2,  2042.1,2,  2193.7,2,   54.78,2, -999.00,9,    32.7327,2,     601.68,2,       0.06,       0.02,       0.03,       0.01,      0.004,     0.0041,2,    8.61991,2,      1.068,1,      0.000,2,      0.332,1,      0.165,1,      0.020,1,     97.956,     0.0826,2,      0.111,1,      0.185,1,       0.24,2
49NZ20210713,        P01,      88,          1,          2,     X12B34,2,20210811,       0805,    47.0036,  -151.4035,       5202,    61.5,2,   7.4429,2,  32.6202,2,  32.6220,2,   305.21,2,  303.90,2,   17.33,2,    0.33,2,   12.28,2,    0.18,2,   1.162,2,-999.000,9,-999.000,9,-999.000,9,-999.000,9,  2056.6,2,  2194.6,2,   56.11,2, -999.00,9,    32.7815,2,     602.53,2,       0.06,       0.02,       0.03,       0.01,      0.004,     0.0042,2,    7.44392,2,      1.074,1,      0.000,2,      0.346,1,      0.176,1,      0.026,1,     98.093,     0.0770,2,      0.101,1,      0.199,1,       0.28,2
49NZ20210713,        P01,      88,          1,         34,     X12S34,2,20210811,       0805,    47.0036,  -151.4035,       5202,   101.3,2,   6.1724,2,  32.9856,2,  32.9706,2,   273.99,2,  274.98,2,   22.63,2,    0.01,2,   17.96,2,    0.03,2,   1.446,2,   4.157,2,   1.972,2,   0.321,2,   3.517,2,  2096.2,2,  2212.3,2,   49.05,2, -999.00,9,    33.1305,2,     609.03,2,       0.07,       0.01,       0.04,       0.01,      0.005,     0.0053,2,    6.17329,2,      0.219,1,      0.000,2,      0.337,1,      0.175,1,      0.024,1,     99.634,     0.0147,2,      0.054,1,      0.210,1,       0.13,2
49NZ20210713,        P01,      88,          1,         33,     X12S33,2,20210811,       0805,    47.0036,  -151.4035,       5202,   150.9,2,   6.3553,2,  33.7138,2,  33.7129,2,   204.24,2,  203.34,2,   35.89,2,    0.00,2,   24.00,2,    0.01,2,   1.724,2,   3.800,2,   1.822,2,   0.230,2,   2.695,2,  2168.7,2,  2255.5,2,   47.38,2, -999.00,9,    33.8760,2,     622.83,2,       0.08,       0.01,       0.06,       0.01,      0.005,     0.0082,2,    6.35428,2,      0.064,1,      0.000,2,      0.358,1,      0.201,1,      0.031,1,     99.908,     0.0037,2,      0.047,1,      0.256,1,       0.01,2
49NZ20210713,        P01,      88,          1,         32,     X12S32,2,20210811,       0805,    47.0036,  -151.4035,       5202,   199.0,2,   5.6040,2,  33.7597,2,  33.7593,2,   166.32,2,  165.54,2,   49.07,2,    0.00,2,   28.75,2,    0.01,2,   2.055,2,   3.522,2,   1.674,2,   0.197,2,   2.013,2,  2203.1,2,  2267.0,2,   46.55,2, -999.00,9,    33.9253,2,     623.68,2,       0.10,       0.01,       0.06,       0.01,      0.005,     0.0102,2,    5.60408,2,      0.063,1,      0.000,2,      0.380,1,      0.215,1,      0.033,1,     99.824,     0.0070,2,      0.047,1,      0.274,1,       0.01,2
49NZ20210713,        P01,      88,          1,         31,     X12S31,2,20210811,       0805,    47.0036,  -151.4035,       5202,   249.9,2,   4.9799,2,  33.7874,2,  33.7878,2,   130.00,2,  129.48,2,   60.92,2,    0.00,2,   33.18,2,    0.01,2,   2.360,2,   3.245,2,   1.541,2,   0.188,2,   1.954,2,  2241.3,2,  2274.9,2,   47.55,2, -999.00,9,    33.9564,2,     624.23,2,       0.12,       0.01,       0.07,       0.01,      0.006,     0.0112,2,    4.98154,2,      0.066,1,      0.000,2,      0.403,1,      0.231,1,      0.043,1,     99.810,     0.0076,2,      0.047,1,      0.292,1,       0.01,2
49NZ20210713,        P01,      88,          1,         30,     X12S30,2,20210811,       0805,    47.0036,  -151.4035,       5202,   280.3,2,   4.7426,2,  33.8222,2,  33.8216,2,   109.99,2,  109.84,2,   67.23,2,    0.03,2,   35.36,2,    0.01,2,   2.508,2,   3.048,2,   1.444,2,   0.168,2,   1.337,2,  2256.9,2,  2280.5,2,   43.27,2, -999.00,9,    33.9894,2,     624.73,2,       0.13,       0.01,       0.08,       0.01,      0.006,     0.0111,2,    4.74337,2,      0.067,1,      0.000,2,      0.413,1,      0.241,1,      0.043,1,     99.827,     0.0069,2,      0.048,1,      0.294,1,     -999.0,9
49NZ20210713,        P01,      88,          1,         29,     X12S29,2,20210811,       0805,    47.0036,  -151.4035,       5202,   369.5,2,   4.3877,2,  33.9182,2,  33.9161,2,    76.89,2,   77.33,2,   80.84,2,    0.02,2,   38.99,2,    0.00,2,   2.747,2,   2.483,2,   1.138,2,   0.137,2,   1.018,2,  2285.5,2,  2293.9,2,   44.75,2, -999.00,9,    34.0864,2,     626.53,2,       0.14,       0.01,       0.09,       0.01,      0.006,     0.0118,2,    4.38882,2,      0.068,1,      0.000,2,      0.417,1,      0.244,1,      0.045,1,     99.854,     0.0058,2,      0.043,1,      0.308,1,     -999.0,9
49NZ20210713,        P01,      88,          1,         28,     X12S28,2,20210811,       0805,    47.0036,  -151.4035,       5202,   469.5,2,   4.1666,2,  34.0245,2,  34.0248,2,    54.45,2,   54.61,2,   94.30,2,    0.02,2,   40.87,2,    0.00,2,   2.886,2,   1.809,2,   0.942,2,   0.095,2,   0.581,2,  2311.1,2,  2308.4,2,   44.35,2, -999.00,9,    34.1978,2,     628.43,2,       0.16,       0.01,       0.09,       0.01,      0.006,     0.0124,2,    4.16723,2,      0.069,1,      0.000,2,      0.401,1,      0.235,1,      0.039,1,     99.913,     0.0035,2,      0.041,1,      0.312,1,     -999.0,9
49NZ20210713,        P01,      88,          1,         27,     X12S27,2,20210811,       0805,    47.0036,  -151.4035,       5202,   569.6,2,   3.9710,2,  34.1121,2,  34.1115,2,    37.80,2,   38.40,2,  105.51,2,    0.02,2,   42.17,2,    0.00,2,   2.982,2,   1.252,2,   0.643,2,   0.063,2,   0.348,2,  2332.8,2,  2323.6,2,   42.36,2, -999.00,9,    34.2848,2,     630.13,2,       0.18,       0.01,       0.09,       0.01,      0.006,     0.0129,2,    3.97033,2,      0.069,1,      0.000,2,      0.401,1,      0.237,1,      0.044,1,     99.910,     0.0036,2,      0.040,1,      0.318,1,     -999.0,9
49NZ20210713,        P01,      88,          1,         26,     X12S26,2,20210811,       0805,    47.0036,  -151.4035,       5202,   670.2,2,   3.7119,2,  34.2035,2,  34.2026,2,    27.10,2,   27.32,2,  117.32,2,    0.02,2,   42.98,2,    0.00,2,   3.053,2,   0.708,2,   0.373,2,   0.032,2,   0.166,2,  2347.9,6,  2340.7,2,   39.98,2, -999.00,9,    34.3785,2,     631.73,2,       0.19,       0.01,       0.09,       0.01,      0.006,     -999.0,9,    3.71151,2,      0.070,1,      0.000,2,     -999.0,9,     -999.0,9,     -999.0,9,     99.943,     0.0023,2,      0.038,1,      0.323,1,     -999.0,9
49NZ20210713,        P01,      88,          1,         25,     X12S25,2,20210811,       0805,    47.0036,  -151.4035,       5202,   770.1,2,   3.4449,2,  34.2637,2,  34.2635,2,    22.47,2,   22.45,2,  126.69,2,    0.03,2,   43.48,2,    0.00,2,   3.079,2,   0.440,2,   0.246,2,   0.015,2,   0.079,2,  2362.8,2,  2353.0,2,   39.80,2, -999.00,9,    34.4415,2,     632.98,2,       0.21,       0.01,       0.09,       0.01,      0.006,     0.0131,2,    3.44496,2,      0.070,1,      0.000,2,      0.402,1,      0.240,1,      0.048,1,     99.831,     0.0068,2,      0.038,1,      0.323,1,     -999.0,9
49NZ20210713,        P01,      88,          1,         24,     X12S24,2,20210811,       0805,    47.0036,  -151.4035,       5202,   869.4,2,   3.2817,2,  34.3057,2,  34.3035,2,    19.06,2,   19.21,2,  132.52,2,    0.02,2,   43.75,2,    0.00,2,   3.115,2,   0.270,2,   0.158,2,   0.011,2,   0.072,2,  2369.3,2,  2361.7,2,   41.10,2, -999.00,9,    34.4807,2,     633.63,2,       0.21,       0.01,       0.09,       0.01,      0.006,     -999.0,9,    3.28299,2,      0.070,1,      0.000,2,     -999.0,9,     -999.0,9,     -999.0,9,     99.924,     0.0030,2,      0.037,1,      0.325,1,     -999.0,9
49NZ20210713,        P01,      88,          1,         23,     X12S23,2,20210811,       0805,    47.0036,  -151.4035,       5202,   969.9,2,   3.0972,2,  34.3455,2,  34.3447,2,    17.16,2,   17.14,2,  139.00,2,    0.02,2,   44.12,2,    0.00,2,   3.135,2,   0.161,2,   0.093,2,   0.004,2,   0.054,2,  2376.6,2,  2370.0,2,   38.18,2, -999.00,9,    34.5229,2,     634.43,2,       0.22,       0.01,       0.09,       0.01,      0.006,     0.0132,2,    3.09961,2,      0.070,1,      0.000,2,      0.406,1,      0.241,1,      0.049,1,     99.899,     0.0041,2,      0.038,1,      0.330,1,     -999.0,9
49NZ20210713,        P01,      88,          1,         22,     X12S22,2,20210811,       0805,    47.0036,  -151.4035,       5202,  1130.6,2,   2.8003,2,  34.4049,2,  34.4036,2,    17.48,2,   17.25,2,  148.97,2,    0.01,2,   44.32,2,    0.00,2,   3.144,2,   0.082,2,   0.048,2,   0.001,2,   0.027,2,  2385.6,2,  2379.8,6,   39.28,2, -999.00,9,    34.5835,2,     635.53,2,       0.24,       0.01,       0.09,       0.01,      0.006,     -999.0,9,    2.80051,2,      0.070,1,      0.000,2,     -999.0,9,     -999.0,9,     -999.0,9,     99.917,     0.0033,2,      0.037,1,      0.331,1,     -999.0,9
49NZ20210713,        P01,      88,          1,         21,     X12S21,2,20210811,       0805,    47.0036,  -151.4035,       5202,  1331.6,2,   2.5432,2,  34.4587,2,  34.4586,2,    18.54,2,   18.01,2,  158.12,2,    0.01,2,   44.59,2,    0.00,2,   3.138,2,   0.032,2,   0.019,2,   0.001,2,   0.003,2,  2392.1,2,  2390.8,2,   37.27,2, -999.00,9,    34.6396,2,     636.53,2,       0.25,       0.01,       0.09,       0.01,      0.006,     0.0134,2,    2.54342,2,      0.069,1,      0.000,2,      0.394,1,      0.238,1,      0.051,1,     99.894,     0.0042,2,      0.037,1,      0.337,1,     -999.0,9
49NZ20210713,        P01,      88,          1,         20,     X12S20,2,20210811,       0805,    47.0036,  -151.4035,       5202,  1530.8,2,   2.3414,2,  34.5018,2,  34.5021,2,    21.89,2,   21.76,2,  164.92,2,    0.01,2,   44.45,2,    0.00,2,   3.122,2,   0.007,2,   0.004,2,   0.000,2,   0.015,2,  2401.6,2,  2400.6,2,   43.09,4, -999.00,9,    34.6844,2,     637.33,2,       0.26,       0.01,       0.09,       0.01,      0.006,     -999.0,9,    2.34144,2,      0.067,1,      0.000,2,     -999.0,9,     -999.0,9,     -999.0,9,     99.920,     0.0032,2,      0.036,1,      0.331,1,     -999.0,9
49NZ20210713,        P01,      88,          1,         19,     X12S19,2,20210811,       0805,    47.0036,  -151.4035,       5202,  1729.7,2,   2.1708,2,  34.5375,2,  34.5370,2,    30.56,2,   30.35,2,  169.44,2,   -0.01,2,   44.09,2,    0.00,2,   3.086,2,   0.000,2,   0.000,2,   0.000,2,   0.000,2,  2399.2,2,  2405.1,2,   36.50,2, -999.00,9,    34.7180,2,     637.93,2,       0.26,       0.01,       0.09,       0.01,      0.006,     0.0130,2,    2.17162,2,      0.065,1,      0.000,2,      0.380,1,      0.229,1,      0.047,1,     99.931,     0.0028,2,      0.036,1,      0.324,1,     -999.0,9
49NZ20210713,        P01,      88,          1,         18,     X12S18,2,20210811,       0805,    47.0036,  -151.4035,       5202,  1929.8,2,   2.0185,2,  34.5688,2,  34.5680,2,    43.58,2,   43.86,2,  172.37,2,    0.00,2,   43.37,2,    0.00,2,   3.028,2,   0.001,2,   0.000,2,   0.002,2,   0.000,2,  2395.6,2,  2410.7,2,   36.91,2, -999.00,9,    34.7536,2,     638.53,2,       0.27,       0.01,       0.09,       0.01,      0.006,     -999.0,9,    2.01914,2,      0.064,1,      0.000,2,     -999.0,9,     -999.0,9,     -999.0,9,     99.940,     0.0024,2,      0.036,1,      0.321,1,     -999.0,9
49NZ20210713,        P01,      88,          1,         17,     X12S17,2,20210811,       0805,    47.0036,  -151.4035,       5202,  2130.0,2,   1.8947,2,  34.5946,2,  34.5944,2,    56.89,2,   57.37,2,  174.44,2,   -0.01,2,   42.56,2,    0.00,2,   2.969,2,   0.000,2,   0.000,2,   0.001,2,   0.013,2,  2388.2,2,  2415.5,2,   35.61,2, -999.00,9,    34.7794,2,     639.03,2,       0.27,       0.01,       0.09,       0.01,      0.006,     0.0123,2,    1.89575,2,      0.063,1,      0.000,2,      0.349,1,      0.200,1,      0.038,1,     99.924,     0.0030,2,      0.036,1,      0.316,1,     -999.0,9
49NZ20210713,        P01,      88,          1,         16,     X12S16,2,20210811,       0805,    47.0036,  -151.4035,       5202,  2329.6,2,   1.7981,2,  34.6133,2,  34.6135,2,    68.98,2,   69.29,2,  175.05,2,    0.02,2,   41.73,2,    0.00,2,   2.916,2,   0.000,2,   0.000,2,   0.002,2,   0.006,2,  2380.9,6,  2417.7,2,   36.61,2, -999.00,9,    34.7978,2,     639.33,2,       0.27,       0.01,       0.09,       0.01,      0.006,     -999.0,9,    1.79815,2,      0.061,1,      0.000,2,     -999.0,9,     -999.0,9,     -999.0,9,     99.929,     0.0028,2,      0.036,1,      0.313,1,     -999.0,9
49NZ20210713,        P01,      88,          1,         15,     X12S15,2,20210811,       0805,    47.0036,  -151.4035,       5202,  2531.4,2,   1.7262,2,  34.6275,2,  34.6274,2,    80.16,2,   80.00,2,  174.66,2,    0.00,2,   40.99,2,    0.00,2,   2.865,2,   0.000,2,   0.000,2,   0.001,2,   0.011,2,  2377.9,2,  2418.2,2,   36.23,2, -999.00,9,    34.8110,2,     639.58,2,       0.27,       0.01,       0.09,       0.01,      0.006,     0.0116,2,    1.72666,2,      0.061,1,      0.000,2,      0.344,1,      0.199,1,      0.041,1,     99.938,     0.0025,2,      0.035,1,      0.308,1,     -999.0,9
49NZ20210713,        P01,      88,          1,         14,     X12S14,2,20210811,       0805,    47.0036,  -151.4035,       5202,  2730.0,2,   1.6532,2,  34.6413,2,  34.6415,2,    92.49,2,   92.37,2,  173.26,2,    0.01,2,   40.25,2,    0.00,2,   2.808,2,   0.000,2,   0.000,2,   0.000,2,   0.009,2,  2370.8,2,  2419.0,2,   35.86,2, -999.00,9,    34.8226,2,     639.83,2,       0.27,       0.01,       0.08,       0.01,      0.006,     -999.0,9,    1.65330,2,      0.059,1,      0.000,2,     -999.0,9,     -999.0,9,     -999.0,9,     99.950,     0.0020,2,      0.037,1,      0.308,1,     -999.0,9
49NZ20210713,        P01,      88,          1,         13,     X12S13,2,20210811,       0805,    47.0036,  -151.4035,       5202,  2929.7,2,   1.5975,2,  34.6513,2,  34.6514,2,   103.52,2,  103.80,2,  171.27,2,    0.01,2,   39.44,2,    0.00,2,   2.740,2,   0.000,2,   0.000,2,   0.001,2,   0.027,2,  2362.9,2,  2420.8,2,   38.60,2, -999.00,9,    34.8334,2,     640.03,2,       0.27,       0.01,       0.08,       0.01,      0.006,     0.0119,2,    1.59758,2,      0.058,1,      0.000,2,      0.318,1,      0.182,1,      0.034,1,     99.950,     0.0020,2,      0.037,1,      0.307,1,     -999.0,9
49NZ20210713,        P01,      88,          1,         12,     X12S12,2,20210811,       0805,    47.0036,  -151.4035,       5202,  3169.0,2,   1.5500,2,  34.6604,2,  34.6600,2,   114.72,2,  114.87,2,  169.36,2,    0.01,2,   38.76,2,    0.00,2,   2.693,2,   0.000,2,   0.000,2,   0.001,2,   0.012,2,  2356.3,2,  2420.7,6,   33.61,3, -999.00,9,    34.8430,2,     640.18,2,       0.26,       0.01,       0.08,       0.01,      0.006,     -999.0,9,    1.55004,2,      0.058,1,      0.000,2,     -999.0,9,     -999.0,9,     -999.0,9,     99.954,     0.0018,2,      0.035,1,      0.294,1,     -999.0,9
49NZ20210713,        P01,      88,          1,         11,     X12S11,2,20210811,       0805,    47.0036,  -151.4035,       5202,  3419.8,2,   1.5115,2,  34.6684,2,  34.6681,2,   125.70,2,  125.97,2,  166.17,2,    0.01,2,   37.99,2,    0.00,2,   2.639,2,   0.000,2,   0.000,2,   0.000,2,   0.053,2,  2346.9,2,  2419.5,2,   38.32,2, -999.00,9,    34.8523,2,     640.43,2,       0.26,       0.01,       0.08,       0.01,      0.006,     0.0104,2,    1.51140,2,      0.057,1,      0.000,2,      0.310,1,      0.176,1,      0.035,1,     99.971,     0.0012,2,      0.036,1,      0.293,1,     -999.0,9
49NZ20210713,        P01,      88,          1,         10,     X12S10,2,20210811,       0805,    47.0036,  -151.4035,       5202,  3670.2,2,   1.4901,2,  34.6744,2,  34.6745,2,   133.46,2,  133.42,2,  164.57,2,    0.03,2,   37.48,2,    0.00,2,   2.598,2,   0.000,2,   0.000,2,   0.002,2,   0.022,2,  2341.2,2,  2420.8,2,   38.18,2, -999.00,9,    34.8585,2,     640.43,2,       0.26,       0.01,       0.08,       0.01,      0.006,     -999.0,9,    1.49018,2,      0.056,1,      0.000,2,     -999.0,9,     -999.0,9,     -999.0,9,     99.952,     0.0019,2,      0.036,1,      0.292,1,     -999.0,9
49NZ20210713,        P01,      88,          1,          9,     X12S09,2,20210811,       0805,    47.0036,  -151.4035,       5202,  3920.8,2,   1.4860,2,  34.6784,2,  34.6783,2,   138.31,2,  138.58,2,  164.84,2,    0.02,2,   37.05,2,    0.00,2,   2.569,2,   0.000,2,   0.000,2,   0.002,2,   0.014,2,  2340.4,2,  2423.4,2,   36.89,2, -999.00,9,    34.8616,2,     640.53,2,       0.26,       0.01,       0.09,       0.01,      0.006,     0.0106,2,    1.48599,2,      0.055,1,      0.000,2,      0.296,1,      0.167,1,      0.027,1,     99.975,     0.0010,2,      0.034,1,      0.286,1,     -999.0,9
49NZ20210713,        P01,      88,          1,          8,     X12S08,2,20210811,       0805,    47.0036,  -151.4035,       5202,  4171.8,2,   1.4927,2,  34.6814,2,  34.6818,2,   141.28,2,  141.37,2,  166.30,2,    0.01,2,   37.00,2,    0.00,2,   2.552,2,   0.001,2,   0.000,2,   0.001,2,   0.012,2,  2339.1,6,  2424.3,2,   36.06,2, -999.00,9,    34.8629,2,     640.58,2,       0.26,       0.01,       0.08,       0.01,      0.006,     -999.0,9,    1.49278,2,      0.055,1,      0.000,2,     -999.0,9,     -999.0,9,     -999.0,9,     99.973,     0.0011,2,      0.034,1,      0.284,1,     -999.0,9
49NZ20210713,        P01,      88,          1,          7,     X12S07,2,20210811,       0805,    47.0036,  -151.4035,       5202,  4420.4,2,   1.5101,2,  34.6832,2,  34.6837,2,   142.68,2,  142.67,2,  168.64,2,    0.01,2,   36.93,2,    0.00,2,   2.544,2,   0.001,2,   0.000,2,   0.000,2,   0.025,2,  2337.4,2,  2427.7,2,   39.93,2, -999.00,9,    34.8673,2,     640.53,2,       0.26,       0.01,       0.08,       0.01,      0.006,     0.0104,2,    1.51010,2,      0.055,1,      0.000,2,      0.305,1,      0.173,1,      0.033,1,     99.975,     0.0010,2,      0.035,1,      0.284,1,     -999.0,9