BOTTLE,20231011CCHSIOENA
EXPOCODE,SECT_ID,STNNBR,CASTNO,SAMPNO,BTLNBR,BTLNBR_FLAG_W,DATE,TIME,LATITUDE,LONGITUDE,DEPTH,CTDPRS,CTDPRS_FLAG_W,CTDTMP,CTDTMP_FLAG_W,CTDSAL,CTDSAL_FLAG_W,SALNTY,SALNTY_FLAG_W,CTDOXY,CTDOXY_FLAG_W,OXYGEN,OXYGEN_FLAG_W,SILCAT,SILCAT_FLAG_W,NH4,NH4_FLAG_W,NITRAT,NITRAT_FLAG_W,NITRIT,NITRIT_FLAG_W,PHSPHT,PHSPHT_FLAG_W,CFC-11,CFC-11_FLAG_W,CFC-12,CFC-12_FLAG_W,CFC113,CFC113_FLAG_W,SF6,SF6_FLAG_W,TCARBN,TCARBN_FLAG_W,ALKALI,ALKALI_FLAG_W,DOC,DOC_FLAG_W,TDN,TDN_FLAG_W,DNSSAL,DNSSAL_FLAG_W,RIANOMALY,RIANOMALY_FLAG_W,SILUNC,NH4UNC,NRAUNC,NRIUNC,PHPUNC,FDOM,FDOM_FLAG_W,REFTMP,REFTMP_FLAG_W,CTDFLUOR,CTDFLUOR_FLAG_W,PAR,PAR_FLAG_W,CDOM300,CDOM300_FLAG_W,CDOM325,CDOM325_FLAG_W,CDOM443,CDOM443_FLAG_W,CTDXMISS,CTDBEAMCP,CTDBEAMCP_FLAG_W,CTDTURB,CTDTURB_FLAG_W,CTDCDOM,CTDCDOM_FLAG_W,CHLORA,CHLORA_FLAG_W
,,,,,,,,,,,METERS,DBAR,,ITS-90,,PSS-78,,PSS-78,,UMOL/KG,,UMOL/KG,,UMOL/KG,,UMOL/KG,,UMOL/KG,,UMOL/KG,,UMOL/KG,,PMOL/KG,,PMOL/KG,,PMOL/KG,,FMOL/KG,,UMOL/KG,,UMOL/KG,,UMOL/KG,,UMOL/KG,,G/KG,,ND,,UMOL/KG,UMOL/KG,UMOL/KG,UMOL/KG,UMOL/KG,RFU,,ITS-90,,MG/M^3,,UMOL/M^2/SEC,,/METER,,/METER,,/METER,,%TRANS,/METER,,FTU,,QSU,,UG/L,
49NZ20210713,        P01,      80,          1,         36,     X12S36,2,20210813,       2327,    46.9878,  -159.2535,       5194,    10.1,2,  13.1666,2,  32.5054,2,-999.0000,9,   273.26,2, -999.00,9, -999.00,9, -999.00,9, -999.00,9, -999.00,9,-999.000,9,-999.000,9,-999.000,9,-999.000,9,-999.000,9,  -999.0,9,  -999.0,9, -999.00,9, -999.00,9,     -999.0,9,     -999.0,9,     -999.0,     -999.0,     -999.0,     -999.0,     -999.0,     0.0039,2,   13.16561,2,      1.495,1,     67.338,2,      0.380,1,      0.195,1,      0.023,1,     94.490,     0.2267,2,      0.210,1,      0.206,1,     -999.0,9
49NZ20210713,        P01,      80,          1,          2,     X12B34,2,20210813,       2327,    46.9878,  -159.2535,       5194,    30.3,2,   9.3455,2,  32.6631,2,-999.0000,9,   295.93,2, -999.00,9, -999.00,9, -999.00,9, -999.00,9, -999.00,9,-999.000,9,-999.000,9,-999.000,9,-999.000,9,-999.000,9,  -999.0,9,  -999.0,9, -999.00,9, -999.00,9,     -999.0,9,     -999.0,9,     -999.0,     -999.0,     -999.0,     -999.0,     -999.0,     0.0049,2,    9.31871,2,      2.124,1,     10.810,2,      0.413,1,      0.225,1,      0.031,1,     96.042,     0.1616,2,      0.159,1,      0.223,1,     -999.0,9
49NZ20210713,        P01,      80,          1,         35,     X12S35,2,20210813,       2327,    46.9878,  -159.2535,       5194,    50.1,2,   7.0622,2,  32.8217,2,-999.0000,9,   299.77,2, -999.00,9, -999.00,9, -999.00,9, -999.00,9, -999.00,9,-999.000,9,-999.000,9,-999.000,9,-999.000,9,-999.000,9,  -999.0,9,  -999.0,9, -999.00,9, -999.00,9,     -999.0,9,     -999.0,9,     -999.0,     -999.0,     -999.0,     -999.0,     -999.0,     0.0046,2,    7.06051,2,      0.720,1,      2.361,2,      0.352,1,      0.182,1,      0.025,1,     98.671,     0.0535,2,      0.087,1,      0.217,1,     -999.0,9
49NZ20210713,        P01,      80,          1,         34,     X12S34,2,20210813,       2327,    46.9878,  -159.2535,       5194,   100.9,2,   5.4474,2,  32.9148,2,-999.0000,9,   303.33,2, -999.00,9, -999.00,9, -999.00,9, -999.00,9, -999.00,9,-999.000,9,-999.000,9,-999.000,9,-999.000,9,-999.000,9,  -999.0,9,  -999.0,9, -999.00,9, -999.00,9,     -999.0,9,     -999.0,9,     -999.0,     -999.0,     -999.0,     -999.0,     -999.0,     0.0047,2,    5.44881,2,      0.145,1,      0.004,2,      0.345,1,      0.178,1,      0.029,1,     99.572,     0.0172,2,      0.065,1,      0.208,1,     -999.0,9
49NZ20210713,        P01,      80,          1,         33,     X12S33,2,20210813,       2327,    46.9878,  -159.2535,       5194,   149.8,2,   5.5945,2,  33.5595,2,-999.0000,9,   253.41,2, -999.00,9, -999.00,9, -999.00,9, -999.00,9, -999.00,9,-999.000,9,-999.000,9,-999.000,9,-999.000,9,-999.000,9,  -999.0,9,  -999.0,9, -999.00,9, -999.00,9,     -999.0,9,     -999.0,9,     -999.0,     -999.0,     -999.0,     -999.0,     -999.0,     0.0068,2,    5.59195,2,      0.069,1,      0.000,2,      0.353,1,      0.196,1,      0.031,1,     99.639,     0.0145,2,      0.068,1,      0.242,1,     -999.0,9
49NZ20210713,        P01,      80,          1,         32,     X12S32,2,20210813,       2327,    46.9878,  -159.2535,       5194,   201.1,2,   5.6563,2,  33.7665,2,-999.0000,9,   198.59,2, -999.00,9, -999.00,9, -999.00,9, -999.00,9, -999.00,9,-999.000,9,-999.000,9,-999.000,9,-999.000,9,-999.000,9,  -999.0,9,  -999.0,9, -999.00,9, -999.00,9,     -999.0,9,     -999.0,9,     -999.0,     -999.0,     -999.0,     -999.0,     -999.0,     0.0089,2,    5.65578,2,      0.067,1,      0.000,2,      0.363,1,      0.203,1,      0.030,1,     99.600,     0.0160,2,      0.075,1,      0.262,1,     -999.0,9
49NZ20210713,        P01,      80,          1,         31,     X12S31,2,20210813,       2327,    46.9878,  -159.2535,       5194,   250.1,2,   5.1512,2,  33.8179,2,-999.0000,9,   140.46,2, -999.00,9, -999.00,9, -999.00,9, -999.00,9, -999.00,9,-999.000,9,-999.000,9,-999.000,9,-999.000,9,-999.000,9,  -999.0,9,  -999.0,9, -999.00,9, -999.00,9,     -999.0,9,     -999.0,9,     -999.0,     -999.0,     -999.0,     -999.0,     -999.0,     0.0103,2,    5.14898,2,      0.068,1,      0.000,2,      0.390,1,      0.223,1,      0.037,1,     99.681,     0.0128,2,      0.064,1,      0.285,1,     -999.0,9
49NZ20210713,        P01,      80,          1,         30,     X12S30,2,20210813,       2327,    46.9878,  -159.2535,       5194,   299.9,2,   4.8241,2,  33.8692,2,-999.0000,9,   109.53,2, -999.00,9, -999.00,9, -999.00,9, -999.00,9, -999.00,9,-999.000,9,-999.000,9,-999.000,9,-999.000,9,-999.000,9,  -999.0,9,  -999.0,9, -999.00,9, -999.00,9,     -999.0,9,     -999.0,9,     -999.0,     -999.0,     -999.0,     -999.0,     -999.0,     0.0110,2,    4.82405,2,      0.068,1,      0.000,2,      0.417,1,      0.246,1,      0.052,1,     99.691,     0.0124,2,      0.069,1,      0.291,1,     -999.0,9
49NZ20210713,        P01,      80,          1,         29,     X12S29,2,20210813,       2327,    46.9878,  -159.2535,       5194,   402.2,2,   4.3097,2,  33.9705,2,-999.0000,9,    68.35,2, -999.00,9, -999.00,9, -999.00,9, -999.00,9, -999.00,9,-999.000,9,-999.000,9,-999.000,9,-999.000,9,-999.000,9,  -999.0,9,  -999.0,9, -999.00,9, -999.00,9,     -999.0,9,     -999.0,9,     -999.0,     -999.0,     -999.0,     -999.0,     -999.0,     0.0119,2,    4.30844,2,      0.069,1,      0.000,2,      0.422,1,      0.244,1,      0.050,1,     99.758,     0.0097,2,      0.062,1,      0.304,1,     -999.0,9
49NZ20210713,        P01,      80,          1,         28,     X12S28,2,20210813,       2327,    46.9878,  -159.2535,       5194,   500.8,2,   3.9294,2,  34.0615,2,-999.0000,9,    42.11,2, -999.00,9, -999.00,9, -999.00,9, -999.00,9, -999.00,9,-999.000,9,-999.000,9,-999.000,9,-999.000,9,-999.000,9,  -999.0,9,  -999.0,9, -999.00,9, -999.00,9,     -999.0,9,     -999.0,9,     -999.0,     -999.0,     -999.0,     -999.0,     -999.0,     0.0123,2,    3.92923,2,      0.070,1,      0.000,2,      0.424,1,      0.249,1,      0.052,1,     99.812,     0.0075,2,      0.049,1,      0.314,1,     -999.0,9
49NZ20210713,        P01,      80,          1,         27,     X12S27,2,20210813,       2327,    46.9878,  -159.2535,       5194,   599.9,2,   3.7610,2,  34.1454,2,-999.0000,9,    33.65,2, -999.00,9, -999.00,9, -999.00,9, -999.00,9, -999.00,9,-999.000,9,-999.000,9,-999.000,9,-999.000,9,-999.000,9,  -999.0,9,  -999.0,9, -999.00,9, -999.00,9,     -999.0,9,     -999.0,9,     -999.0,     -999.0,     -999.0,     -999.0,     -999.0,     0.0124,2,    3.76061,2,      0.070,1,      0.000,2,      0.415,1,      0.245,1,      0.051,1,     99.879,     0.0048,2,      0.047,1,      0.320,1,     -999.0,9
49NZ20210713,        P01,      80,          1,         26,     X12S26,2,20210813,       2327,    46.9878,  -159.2535,       5194,   700.2,2,   3.6053,2,  34.2191,2,-999.0000,9,    30.12,2, -999.00,9, -999.00,9, -999.00,9, -999.00,9, -999.00,9,-999.000,9,-999.000,9,-999.000,9,-999.000,9,-999.000,9,  -999.0,9,  -999.0,9, -999.00,9, -999.00,9,     -999.0,9,     -999.0,9,     -999.0,     -999.0,     -999.0,     -999.0,     -999.0,     0.0126,2,    3.60540,2,      0.069,1,      0.000,2,      0.404,1,      0.239,1,      0.048,1,     99.867,     0.0053,2,      0.057,1,      0.318,1,     -999.0,9
49NZ20210713,        P01,      80,          1,         25,     X12S25,2,20210813,       2327,    46.9878,  -159.2535,       5194,   799.5,2,   3.3903,2,  34.2692,2,-999.0000,9,    26.97,2, -999.00,9, -999.00,9, -999.00,9, -999.00,9, -999.00,9,-999.000,9,-999.000,9,-999.000,9,-999.000,9,-999.000,9,  -999.0,9,  -999.0,9, -999.00,9, -999.00,9,     -999.0,9,     -999.0,9,     -999.0,     -999.0,     -999.0,     -999.0,     -999.0,     0.0126,2,    3.39081,2,      0.070,1,      0.000,2,      0.406,1,      0.242,1,      0.051,1,     99.872,     0.0051,2,      0.045,1,      0.316,1,     -999.0,9
49NZ20210713,        P01,      80,          1,         24,     X12S24,2,20210813,       2327,    46.9878,  -159.2535,       5194,   899.8,2,   3.1698,2,  34.3188,2,-999.0000,9,    24.78,2, -999.00,9, -999.00,9, -999.00,9, -999.00,9, -999.00,9,-999.000,9,-999.000,9,-999.000,9,-999.000,9,-999.000,9,  -999.0,9,  -999.0,9, -999.00,9, -999.00,9,     -999.0,9,     -999.0,9,     -999.0,     -999.0,     -999.0,     -999.0,     -999.0,     0.0125,2,    3.16680,2,      0.069,1,      0.000,2,      0.402,1,      0.239,1,      0.046,1,     99.886,     0.0046,2,      0.045,1,      0.322,1,     -999.0,9
49NZ20210713,        P01,      80,          1,         23,     X12S23,2,20210813,       2327,    46.9878,  -159.2535,       5194,  1000.4,2,   3.0099,2,  34.3576,2,-999.0000,9,    23.97,2, -999.00,9, -999.00,9, -999.00,9, -999.00,9, -999.00,9,-999.000,9,-999.000,9,-999.000,9,-999.000,9,-999.000,9,  -999.0,9,  -999.0,9, -999.00,9, -999.00,9,     -999.0,9,     -999.0,9,     -999.0,     -999.0,     -999.0,     -999.0,     -999.0,     0.0128,2,    3.00920,2,      0.069,1,      0.000,2,      0.394,1,      0.231,1,      0.047,1,     99.872,     0.0051,2,      0.046,1,      0.318,1,     -999.0,9
49NZ20210713,        P01,      80,          1,         22,     X12S22,2,20210813,       2327,    46.9878,  -159.2535,       5194,  1200.8,2,   2.7348,2,  34.4196,2,-999.0000,9,    20.65,2, -999.00,9, -999.00,9, -999.00,9, -999.00,9, -999.00,9,-999.000,9,-999.000,9,-999.000,9,-999.000,9,-999.000,9,  -999.0,9,  -999.0,9, -999.00,9, -999.00,9,     -999.0,9,     -999.0,9,     -999.0,     -999.0,     -999.0,     -999.0,     -999.0,     0.0133,2,    2.73358,2,      0.069,1,      0.000,2,      0.390,1,      0.233,1,      0.044,1,     99.877,     0.0049,2,      0.044,1,      0.322,1,     -999.0,9
49NZ20210713,        P01,      80,          1,         21,     X12S21,2,20210813,       2327,    46.9878,  -159.2535,       5194,  1400.6,2,   2.4591,2,  34.4752,2,-999.0000,9,    22.68,2, -999.00,9, -999.00,9, -999.00,9, -999.00,9, -999.00,9,-999.000,9,-999.000,9,-999.000,9,-999.000,9,-999.000,9,  -999.0,9,  -999.0,9, -999.00,9, -999.00,9,     -999.0,9,     -999.0,9,     -999.0,     -999.0,     -999.0,     -999.0,     -999.0,     0.0131,2,    2.45920,2,      0.068,1,      0.000,2,      0.386,1,      0.232,1,      0.046,1,     99.900,     0.0040,2,      0.042,1,      0.328,1,     -999.0,9
49NZ20210713,        P01,      80,          1,         20,     X12S20,2,20210813,       2327,    46.9878,  -159.2535,       5194,  1599.6,2,   2.2646,2,  34.5157,2,-999.0000,9,    30.59,2, -999.00,9, -999.00,9, -999.00,9, -999.00,9, -999.00,9,-999.000,9,-999.000,9,-999.000,9,-999.000,9,-999.000,9,  -999.0,9,  -999.0,9, -999.00,9, -999.00,9,     -999.0,9,     -999.0,9,     -999.0,     -999.0,     -999.0,     -999.0,     -999.0,     0.0124,2,    2.26427,2,      0.066,1,      0.000,2,      0.373,1,      0.224,1,      0.042,1,     99.926,     0.0030,2,      0.043,1,      0.323,1,     -999.0,9
49NZ20210713,        P01,      80,          1,         19,     X12S19,2,20210813,       2327,    46.9878,  -159.2535,       5194,  1798.7,2,   2.1123,2,  34.5503,2,-999.0000,9,    36.63,2, -999.00,9, -999.00,9, -999.00,9, -999.00,9, -999.00,9,-999.000,9,-999.000,9,-999.000,9,-999.000,9,-999.000,9,  -999.0,9,  -999.0,9, -999.00,9, -999.00,9,     -999.0,9,     -999.0,9,     -999.0,     -999.0,     -999.0,     -999.0,     -999.0,     0.0124,2,    2.11276,2,      0.065,1,      0.000,2,      0.360,1,      0.212,1,      0.039,1,     99.942,     0.0023,2,      0.039,1,      0.316,1,     -999.0,9
49NZ20210713,        P01,      80,          1,         18,     X12S18,2,20210813,       2327,    46.9878,  -159.2535,       5194,  1999.5,2,   1.9698,2,  34.5810,2,-999.0000,9,    47.96,2, -999.00,9, -999.00,9, -999.00,9, -999.00,9, -999.00,9,-999.000,9,-999.000,9,-999.000,9,-999.000,9,-999.000,9,  -999.0,9,  -999.0,9, -999.00,9, -999.00,9,     -999.0,9,     -999.0,9,     -999.0,     -999.0,     -999.0,     -999.0,     -999.0,     0.0122,2,    1.97015,2,      0.063,1,      0.000,2,      0.346,1,      0.205,1,      0.033,1,     99.930,     0.0028,2,      0.038,1,      0.315,1,     -999.0,9
49NZ20210713,        P01,      80,          1,         17,     X12S17,2,20210813,       2327,    46.9878,  -159.2535,       5194,  2198.4,2,   1.8734,2,  34.6010,2,-999.0000,9,    59.90,2, -999.00,9, -999.00,9, -999.00,9, -999.00,9, -999.00,9,-999.000,9,-999.000,9,-999.000,9,-999.000,9,-999.000,9,  -999.0,9,  -999.0,9, -999.00,9, -999.00,9,     -999.0,9,     -999.0,9,     -999.0,     -999.0,     -999.0,     -999.0,     -999.0,     0.0120,2,    1.87310,2,      0.062,1,      0.000,2,      0.337,1,      0.195,1,      0.032,1,     99.921,     0.0032,2,      0.043,1,      0.311,1,     -999.0,9
49NZ20210713,        P01,      80,          1,         16,     X12S16,2,20210813,       2327,    46.9878,  -159.2535,       5194,  2399.2,2,   1.7817,2,  34.6179,2,-999.0000,9,    73.20,2, -999.00,9, -999.00,9, -999.00,9, -999.00,9, -999.00,9,-999.000,9,-999.000,9,-999.000,9,-999.000,9,-999.000,9,  -999.0,9,  -999.0,9, -999.00,9, -999.00,9,     -999.0,9,     -999.0,9,     -999.0,     -999.0,     -999.0,     -999.0,     -999.0,     0.0117,2,    1.78190,2,      0.061,1,      0.000,2,      0.340,1,      0.196,1,      0.035,1,     99.930,     0.0028,2,      0.039,1,      0.308,1,     -999.0,9
49NZ20210713,        P01,      80,          1,         15,     X12S15,2,20210813,       2327,    46.9878,  -159.2535,       5194,  2600.5,2,   1.6977,2,  34.6328,2,-999.0000,9,    86.55,2, -999.00,9, -999.00,9, -999.00,9, -999.00,9, -999.00,9,-999.000,9,-999.000,9,-999.000,9,-999.000,9,-999.000,9,  -999.0,9,  -999.0,9, -999.00,9, -999.00,9,     -999.0,9,     -999.0,9,     -999.0,     -999.0,     -999.0,     -999.0,     -999.0,     0.0115,2,    1.69775,2,      0.060,1,      0.000,2,      0.334,1,      0.189,1,      0.033,1,     99.933,     0.0027,2,      0.038,1,      0.306,1,     -999.0,9
49NZ20210713,        P01,      80,          1,         14,     X12S14,2,20210813,       2327,    46.9878,  -159.2535,       5194,  2800.2,2,   1.6325,2,  34.6445,2,-999.0000,9,    99.09,2, -999.00,9, -999.00,9, -999.00,9, -999.00,9, -999.00,9,-999.000,9,-999.000,9,-999.000,9,-999.000,9,-999.000,9,  -999.0,9,  -999.0,9, -999.00,9, -999.00,9,     -999.0,9,     -999.0,9,     -999.0,     -999.0,     -999.0,     -999.0,     -999.0,     0.0105,2,    1.63255,2,      0.059,1,      0.000,2,      0.329,1,      0.190,1,      0.037,1,     99.949,     0.0020,2,      0.037,1,      0.300,1,     -999.0,9
49NZ20210713,        P01,      80,          1,          1,     X12S01,2,20210813,       2327,    46.9878,  -159.2535,       5194,  2999.5,2,   1.5842,2,  34.6534,2,  34.6542,2,   109.31,2, -999.00,9, -999.00,9, -999.00,9, -999.00,9, -999.00,9,-999.000,9,   0.000,2,   0.000,2,   0.000,2,   0.000,2,  -999.0,9,  -999.0,9, -999.00,9, -999.00,9,     -999.0,9,     -999.0,9,     -999.0,     -999.0,     -999.0,     -999.0,     -999.0,     -999.0,9,    1.58429,2,      0.058,1,      0.000,2,     -999.0,9,     -999.0,9,     -999.0,9,     99.939,     0.0024,2,      0.043,1,      0.292,1,     -999.0,9
49NZ20210713,        P01,      80,          1,         11,     X12S11,2,20210813,       2327,    46.9878,  -159.2535,       5194,  2999.5,2,   1.5856,2,  34.6533,2,  34.6545,2,   109.16,2, -999.00,9, -999.00,9, -999.00,9, -999.00,9, -999.00,9,-999.000,9,   0.005,2,   0.002,2,   0.000,2,   0.000,2,  -999.0,9,  -999.0,9, -999.00,9, -999.00,9,     -999.0,9,     -999.0,9,     -999.0,     -999.0,     -999.0,     -999.0,     -999.0,     -999.0,9,    1.58564,2,      0.058,1,      0.000,2,     -999.0,9,     -999.0,9,     -999.0,9,     99.939,     0.0024,2,      0.040,1,      0.293,1,     -999.0,9
49NZ20210713,        P01,      80,          1,          9,     X12S09,2,20210813,       2327,    46.9878,  -159.2535,       5194,  2999.7,2,   1.5856,2,  34.6532,2,  34.6540,2,   109.21,2, -999.00,9, -999.00,9, -999.00,9, -999.00,9, -999.00,9,-999.000,9,   0.000,2,   0.000,2,   0.000,2,   0.000,2,  -999.0,9,  -999.0,9, -999.00,9, -999.00,9,     -999.0,9,     -999.0,9,     -999.0,     -999.0,     -999.0,     -999.0,     -999.0,     -999.0,9,    1.58526,2,      0.058,1,      0.000,2,     -999.0,9,     -999.0,9,     -999.0,9,     99.944,     0.0022,2,      0.070,1,      0.297,1,     -999.0,9
49NZ20210713,        P01,      80,          1,         12,     X12S12,2,20210813,       2327,    46.9878,  -159.2535,       5194,  2999.7,2,   1.5859,2,  34.6531,2,  34.6547,2,   109.14,2, -999.00,9, -999.00,9, -999.00,9, -999.00,9, -999.00,9,-999.000,9,   0.005,2,   0.003,2,   0.000,2,   0.000,2,  -999.0,9,  -999.0,9, -999.00,9, -999.00,9,     -999.0,9,     -999.0,9,     -999.0,     -999.0,     -999.0,     -999.0,     -999.0,     -999.0,9,    1.58582,2,      0.058,1,      0.000,2,     -999.0,9,     -999.0,9,     -999.0,9,     99.926,     0.0030,2,      0.038,1,      0.290,1,     -999.0,9
49NZ20210713,        P01,      80,          1,          4,     X12S04,2,20210813,       2327,    46.9878,  -159.2535,       5194,  2999.8,2,   1.5854,2,  34.6533,2,  34.6536,2,   109.21,2, -999.00,9, -999.00,9, -999.00,9, -999.00,9, -999.00,9,-999.000,9,   0.000,2,   0.000,2,   0.000,2,   0.000,2,  -999.0,9,  -999.0,9, -999.00,9, -999.00,9,     -999.0,9,     -999.0,9,     -999.0,     -999.0,     -999.0,     -999.0,     -999.0,     -999.0,9,    1.58537,2,      0.058,1,      0.000,2,     -999.0,9,     -999.0,9,     -999.0,9,     99.933,     0.0027,2,      0.039,1,      0.291,1,     -999.0,9
49NZ20210713,        P01,      80,          1,          3,     X12S03,2,20210813,       2327,    46.9878,  -159.2535,       5194,  2999.8,2,   1.5855,2,  34.6532,2,  34.6540,2,   109.21,2, -999.00,9, -999.00,9, -999.00,9, -999.00,9, -999.00,9,-999.000,9,   0.000,2,   0.000,2,   0.000,2,   0.000,2,  -999.0,9,  -999.0,9, -999.00,9, -999.00,9,     -999.0,9,     -999.0,9,     -999.0,     -999.0,     -999.0,     -999.0,     -999.0,     -999.0,9,    1.58536,2,      0.058,1,      0.000,2,     -999.0,9,     -999.0,9,     -999.0,9,     99.935,     0.0026,2,      0.039,1,      0.291,1,     -999.0,9
49NZ20210713,        P01,      80,          1,          5,     X12S05,2,20210813,       2327,    46.9878,  -159.2535,       5194,  2999.8,2,   1.5856,2,  34.6532,2,  34.6537,2,   109.19,2, -999.00,9, -999.00,9, -999.00,9, -999.00,9, -999.00,9,-999.000,9,   0.000,2,   0.000,2,   0.000,2,   0.000,2,  -999.0,9,  -999.0,9, -999.00,9, -999.00,9,     -999.0,9,     -999.0,9,     -999.0,     -999.0,     -999.0,     -999.0,     -999.0,     -999.0,9,    1.58541,2,      0.058,1,      0.000,2,     -999.0,9,     -999.0,9,     -999.0,9,     99.944,     0.0022,2,      0.039,1,      0.292,1,     -999.0,9