BOTTLE,20231011CCHSIOENA
EXPOCODE,SECT_ID,STNNBR,CASTNO,SAMPNO,BTLNBR,BTLNBR_FLAG_W,DATE,TIME,LATITUDE,LONGITUDE,DEPTH,CTDPRS,CTDPRS_FLAG_W,CTDTMP,CTDTMP_FLAG_W,CTDSAL,CTDSAL_FLAG_W,SALNTY,SALNTY_FLAG_W,CTDOXY,CTDOXY_FLAG_W,OXYGEN,OXYGEN_FLAG_W,SILCAT,SILCAT_FLAG_W,NH4,NH4_FLAG_W,NITRAT,NITRAT_FLAG_W,NITRIT,NITRIT_FLAG_W,PHSPHT,PHSPHT_FLAG_W,CFC-11,CFC-11_FLAG_W,CFC-12,CFC-12_FLAG_W,CFC113,CFC113_FLAG_W,SF6,SF6_FLAG_W,TCARBN,TCARBN_FLAG_W,ALKALI,ALKALI_FLAG_W,DOC,DOC_FLAG_W,TDN,TDN_FLAG_W,DNSSAL,DNSSAL_FLAG_W,RIANOMALY,RIANOMALY_FLAG_W,SILUNC,NH4UNC,NRAUNC,NRIUNC,PHPUNC,FDOM,FDOM_FLAG_W,REFTMP,REFTMP_FLAG_W,CTDFLUOR,CTDFLUOR_FLAG_W,PAR,PAR_FLAG_W,CDOM300,CDOM300_FLAG_W,CDOM325,CDOM325_FLAG_W,CDOM443,CDOM443_FLAG_W,CTDXMISS,CTDBEAMCP,CTDBEAMCP_FLAG_W,CTDTURB,CTDTURB_FLAG_W,CTDCDOM,CTDCDOM_FLAG_W,CHLORA,CHLORA_FLAG_W
,,,,,,,,,,,METERS,DBAR,,ITS-90,,PSS-78,,PSS-78,,UMOL/KG,,UMOL/KG,,UMOL/KG,,UMOL/KG,,UMOL/KG,,UMOL/KG,,UMOL/KG,,PMOL/KG,,PMOL/KG,,PMOL/KG,,FMOL/KG,,UMOL/KG,,UMOL/KG,,UMOL/KG,,UMOL/KG,,G/KG,,ND,,UMOL/KG,UMOL/KG,UMOL/KG,UMOL/KG,UMOL/KG,RFU,,ITS-90,,MG/M^3,,UMOL/M^2/SEC,,/METER,,/METER,,/METER,,%TRANS,/METER,,FTU,,QSU,,UG/L,
49NZ20210713,        P01,      10,          1,          5,     X12S05,2,20210716,       2327,    41.8745,   146.3222,       6770,  4920.8,2,   1.5218,2,  34.6872,2,  34.6868,2,   156.46,2,  157.15,2,  147.92,2,    0.01,2,   35.84,2,    0.00,2,   2.479,2,   0.008,2,   0.006,2,   0.000,2,   0.000,2,  2326.8,2,  2410.7,2,   38.08,2, -999.00,9,    34.8693,2,     640.63,2,       0.23,       0.01,       0.08,       0.01,      0.006,     0.0091,2,    1.52186,2,      0.052,1,      0.000,2,      0.321,1,      0.181,1,      0.027,1,     99.909,     0.0036,2,      0.054,1,      0.508,1,     -999.0,9
49NZ20210713,        P01,      10,          1,          4,     X12S04,2,20210716,       2327,    41.8745,   146.3222,       6770,  5170.2,2,   1.5428,2,  34.6882,2,  34.6889,2,   157.74,2,  158.61,2,  147.43,2,    0.02,2,   35.64,2,    0.00,2,   2.463,2,   0.009,2,   0.008,2,   0.000,2,   0.000,2,  2324.0,2,  2411.1,2,   39.17,2, -999.00,9,    34.8706,2,     640.63,2,       0.23,       0.01,       0.08,       0.01,      0.006,     0.0095,2,    1.54290,2,      0.051,1,      0.000,2,      0.287,1,      0.159,1,      0.026,1,     99.870,     0.0052,2,      0.060,1,      0.509,1,     -999.0,9
49NZ20210713,        P01,      10,          1,          3,     X12S03,2,20210716,       2327,    41.8745,   146.3222,       6770,  5421.4,2,   1.5661,2,  34.6890,2,  34.6892,2,   158.66,2,  159.28,2,  147.26,2,    0.03,2,   35.58,2,    0.00,2,   2.461,2,   0.021,3,   0.043,3,   0.006,3,   0.787,3,  2322.9,2,  2409.3,2,   38.91,2, -999.00,9,    34.8726,2,     640.68,2,       0.23,       0.01,       0.08,       0.01,      0.006,     0.0092,2,    1.56613,2,      0.052,1,      0.000,2,      0.290,1,      0.158,1,      0.023,1,     99.776,     0.0090,2,      0.061,1,      0.503,1,     -999.0,9
49NZ20210713,        P01,      10,          1,          2,     X12B34,2,20210716,       2327,    41.8745,   146.3222,       6770,  5670.5,2,   1.5877,2,  34.6902,2,  34.6905,2,   160.18,2,  160.85,2,  146.77,2,    0.02,2,   35.50,2,    0.00,2,   2.454,2,   0.006,2,   0.002,2,   0.000,2,   0.000,2,  2321.2,2,  2412.2,2,   38.93,2, -999.00,9,    34.8726,2,     640.68,2,       0.23,       0.01,       0.08,       0.01,      0.006,     0.0094,2,    1.58776,2,      0.050,1,      0.000,2,      0.292,1,      0.162,1,      0.025,1,     99.685,     0.0126,2,      0.066,1,      0.528,1,     -999.0,9
49NZ20210713,        P01,      10,          1,          1,     X12S01,2,20210716,       2327,    41.8745,   146.3222,       6770,  5999.9,2,   1.6296,2,  34.6906,2,  34.6899,2,   160.55,2,  161.03,2,  146.94,2,    0.07,2,   35.45,2,    0.00,2,   2.455,2,   0.018,2,   0.013,2,   0.001,2,   0.000,2,  2321.4,2,  2411.5,2,   38.39,2, -999.00,9,    34.8735,2,     640.74,2,       0.23,       0.01,       0.08,       0.01,      0.006,     0.0095,2,    1.62981,2,      0.051,1,      0.000,2,      0.300,1,      0.162,1,      0.023,1,     99.660,     0.0136,2,      0.070,1,      0.546,1,     -999.0,9
49NZ20210713,        P01,      10,          2,         12,     X12106,2,20210717,       0509,    41.8735,   146.3196,       6762,  2000.7,2,   1.9337,2,  34.5935,2,  34.5979,2,    75.76,2,   78.17,2, -999.00,9, -999.00,9, -999.00,9, -999.00,9,-999.000,9,-999.000,9,-999.000,9,-999.000,9,-999.000,9,  -999.0,9,  -999.0,9, -999.00,9, -999.00,9,    34.7843,2,     639.09,2,     -999.0,     -999.0,     -999.0,     -999.0,     -999.0,     -999.0,9,    1.91008,2,     -999.0,9,     -999.0,9,     -999.0,9,     -999.0,9,     -999.0,9,     -999.0,     -999.0,9,     -999.0,9,     -999.0,9,     -999.0,9
49NZ20210713,        P01,      10,          2,         11,     X12108,2,20210717,       0509,    41.8735,   146.3196,       6762,  2799.8,2,   1.6067,2,  34.6516,2,  34.6513,2,   117.97,2,  117.28,2, -999.00,9, -999.00,9, -999.00,9, -999.00,9,-999.000,9,-999.000,9,-999.000,9,-999.000,9,-999.000,9,  -999.0,9,  -999.0,9, -999.00,9, -999.00,9,    34.8369,2,     640.09,2,     -999.0,     -999.0,     -999.0,     -999.0,     -999.0,     -999.0,9,    1.61362,2,     -999.0,9,     -999.0,9,     -999.0,9,     -999.0,9,     -999.0,9,     -999.0,     -999.0,9,     -999.0,9,     -999.0,9,     -999.0,9
49NZ20210713,        P01,      10,          2,         10,     X12028,2,20210717,       0509,    41.8735,   146.3196,       6762,  3600.2,2,   1.5088,2,  34.6728,2,  34.6726,2,   139.79,2,  139.82,2, -999.00,9, -999.00,9, -999.00,9, -999.00,9,-999.000,9,-999.000,9,-999.000,9,-999.000,9,-999.000,9,  -999.0,9,  -999.0,9, -999.00,9, -999.00,9,    34.8592,2,     640.24,2,     -999.0,     -999.0,     -999.0,     -999.0,     -999.0,     -999.0,9,    1.50877,2,     -999.0,9,     -999.0,9,     -999.0,9,     -999.0,9,     -999.0,9,     -999.0,     -999.0,9,     -999.0,9,     -999.0,9,     -999.0,9
49NZ20210713,        P01,      10,          2,          9,     X12048,2,20210717,       0509,    41.8735,   146.3196,       6762,  4399.5,2,   1.4956,2,  34.6830,2,  34.6828,2,   152.27,2,  152.26,2, -999.00,9, -999.00,9, -999.00,9, -999.00,9,-999.000,9,-999.000,9,-999.000,9,-999.000,9,-999.000,9,  -999.0,9,  -999.0,9, -999.00,9, -999.00,9,    34.8664,2,     640.63,2,     -999.0,     -999.0,     -999.0,     -999.0,     -999.0,     -999.0,9,    1.49605,2,     -999.0,9,     -999.0,9,     -999.0,9,     -999.0,9,     -999.0,9,     -999.0,     -999.0,9,     -999.0,9,     -999.0,9,     -999.0,9
49NZ20210713,        P01,      10,          2,          8,     X12105,2,20210717,       0509,    41.8735,   146.3196,       6762,  5200.2,2,   1.5430,2,  34.6881,2,  34.6884,2,   158.54,2,  158.56,2, -999.00,9, -999.00,9, -999.00,9, -999.00,9,-999.000,9,-999.000,9,-999.000,9,-999.000,9,-999.000,9,  -999.0,9,  -999.0,9, -999.00,9, -999.00,9,    34.8683,2,     640.63,2,     -999.0,     -999.0,     -999.0,     -999.0,     -999.0,     -999.0,9,    1.54232,2,     -999.0,9,     -999.0,9,     -999.0,9,     -999.0,9,     -999.0,9,     -999.0,     -999.0,9,     -999.0,9,     -999.0,9,     -999.0,9
49NZ20210713,        P01,      10,          2,          7,     X12112,2,20210717,       0509,    41.8735,   146.3196,       6762,  6000.4,2,   1.6299,2,  34.6902,2,  34.6908,2,   161.12,2,  160.91,2, -999.00,9, -999.00,9, -999.00,9, -999.00,9,-999.000,9,-999.000,9,-999.000,9,-999.000,9,-999.000,9,  -999.0,9,  -999.0,9, -999.00,9, -999.00,9,    34.8716,2,     640.74,2,     -999.0,     -999.0,     -999.0,     -999.0,     -999.0,     -999.0,9,    1.63022,2,     -999.0,9,     -999.0,9,     -999.0,9,     -999.0,9,     -999.0,9,     -999.0,     -999.0,9,     -999.0,9,     -999.0,9,     -999.0,9
49NZ20210713,        P01,      10,          2,          6,     X12047,2,20210717,       0509,    41.8735,   146.3196,       6762,  6200.0,2,   1.6583,2,  34.6902,2,  34.6906,2,   161.05,2,  161.04,2,  146.97,2,    0.01,2,   35.43,2,    0.00,2,   2.454,2,   0.000,2,   0.000,2,   0.001,2,   0.013,2,  2323.1,2,  2412.3,2,   40.14,2, -999.00,9,    34.8716,2,     640.74,2,       0.23,       0.01,       0.08,       0.01,      0.006,     -999.0,9,    1.65821,2,     -999.0,9,     -999.0,9,      0.297,1,      0.168,1,      0.028,1,     -999.0,     -999.0,9,     -999.0,9,     -999.0,9,     -999.0,9
49NZ20210713,        P01,      10,          2,          5,     X12126,2,20210717,       0509,    41.8735,   146.3196,       6762,  6400.1,2,   1.6869,2,  34.6902,2,  34.6906,2,   161.09,2,  161.05,2,  146.99,2,    0.02,2,   35.43,2,    0.00,2,   2.454,2,   0.002,2,   0.002,2,   0.000,2,   0.001,2,  2323.0,2,  2409.6,2,   38.71,2, -999.00,9,    34.8726,2,     640.78,2,       0.23,       0.01,       0.08,       0.01,      0.006,     0.0093,2,    1.68683,2,     -999.0,9,     -999.0,9,      0.298,1,      0.169,1,      0.028,1,     -999.0,     -999.0,9,     -999.0,9,     -999.0,9,     -999.0,9
49NZ20210713,        P01,      10,          2,          4,     X12110,2,20210717,       0509,    41.8735,   146.3196,       6762,  6600.8,2,   1.7164,2,  34.6903,2,  34.6896,2,   160.86,2,  161.25,2,  147.03,2,    0.02,2,   35.48,2,    0.00,2,   2.456,2,   0.010,3,   0.016,3,   0.001,3,   0.049,3,  2321.4,2,  2411.5,2,   38.05,2, -999.00,9,    34.8704,2,     640.68,2,       0.23,       0.01,       0.08,       0.01,      0.006,     -999.0,9,    1.71635,2,     -999.0,9,     -999.0,9,      0.326,1,      0.193,1,      0.038,1,     -999.0,     -999.0,9,     -999.0,9,     -999.0,9,     -999.0,9
49NZ20210713,        P01,      10,          2,          3,     X12111,3,20210717,       0509,    41.8735,   146.3196,       6762,  6700.5,2,   1.7313,2,  34.6902,2,  34.6879,2,   160.97,2,  160.77,2,  147.01,2,    0.01,2,   35.41,2,    0.00,2,   2.450,2,   0.005,2,   0.004,2,   0.001,2,   0.000,2,  2320.9,2,  2410.8,2,   41.20,2, -999.00,9,    34.8691,2,     640.68,2,       0.23,       0.01,       0.08,       0.01,      0.006,     0.0095,2,    1.73106,2,     -999.0,9,     -999.0,9,      0.305,1,      0.176,1,      0.029,1,     -999.0,     -999.0,9,     -999.0,9,     -999.0,9,     -999.0,9
49NZ20210713,        P01,      10,          2,          2,     X12127,2,20210717,       0509,    41.8735,   146.3196,       6762,  6800.4,2,   1.7461,2,  34.6902,2,  34.6903,2,   160.97,2,  160.79,2,  147.08,2,    0.01,2,   35.46,2,    0.00,2,   2.455,2,   0.000,2,   0.002,2,   0.000,2,   0.006,2,  2321.2,2,  2410.9,2,   42.82,2, -999.00,9,    34.8718,2,     640.74,2,       0.23,       0.01,       0.08,       0.01,      0.006,     -999.0,9,    1.74606,2,     -999.0,9,     -999.0,9,      0.312,1,      0.183,1,      0.031,1,     -999.0,     -999.0,9,     -999.0,9,     -999.0,9,     -999.0,9
49NZ20210713,        P01,      10,          2,          1,     X12046,2,20210717,       0509,    41.8735,   146.3196,       6762,  6903.9,2,   1.7616,2,  34.6902,2,  34.6896,2,   160.86,2,  160.88,2,  147.32,2,    0.01,2,   35.47,2,    0.00,2,   2.456,2,   0.006,2,   0.011,2,   0.000,2,   0.056,2,  2320.4,2,  2409.2,2,   39.60,2, -999.00,9,    34.8737,2,     640.74,2,       0.23,       0.01,       0.08,       0.01,      0.006,     0.0093,2,    1.76175,2,     -999.0,9,     -999.0,9,      0.304,1,      0.175,1,      0.032,1,     -999.0,     -999.0,9,     -999.0,9,     -999.0,9,     -999.0,9
49NZ20210713,        P01,      11,          1,          2,     X12B34,2,20210717,       1115,    41.7165,   146.4361,       6500,    18.0,2,   6.9763,2,  32.9318,2,-999.0000,9,   349.73,2, -999.00,9, -999.00,9, -999.00,9, -999.00,9, -999.00,9,-999.000,9,-999.000,9,-999.000,9,-999.000,9,-999.000,9,  -999.0,9,  -999.0,9, -999.00,9, -999.00,9,     -999.0,9,     -999.0,9,     -999.0,     -999.0,     -999.0,     -999.0,     -999.0,     -999.0,9,    6.97791,2,      2.259,1,      0.000,2,     -999.0,9,     -999.0,9,     -999.0,9,     93.498,     0.2689,2,      0.282,1,      0.554,1,     -999.0,9