BOTTLE,20231011CCHSIOENA
EXPOCODE,SECT_ID,STNNBR,CASTNO,SAMPNO,BTLNBR,BTLNBR_FLAG_W,DATE,TIME,LATITUDE,LONGITUDE,DEPTH,CTDPRS,CTDPRS_FLAG_W,CTDTMP,CTDTMP_FLAG_W,CTDSAL,CTDSAL_FLAG_W,SALNTY,SALNTY_FLAG_W,CTDOXY,CTDOXY_FLAG_W,OXYGEN,OXYGEN_FLAG_W,SILCAT,SILCAT_FLAG_W,NH4,NH4_FLAG_W,NITRAT,NITRAT_FLAG_W,NITRIT,NITRIT_FLAG_W,PHSPHT,PHSPHT_FLAG_W,CFC-11,CFC-11_FLAG_W,CFC-12,CFC-12_FLAG_W,CFC113,CFC113_FLAG_W,SF6,SF6_FLAG_W,TCARBN,TCARBN_FLAG_W,ALKALI,ALKALI_FLAG_W,DOC,DOC_FLAG_W,TDN,TDN_FLAG_W,DNSSAL,DNSSAL_FLAG_W,RIANOMALY,RIANOMALY_FLAG_W,SILUNC,NH4UNC,NRAUNC,NRIUNC,PHPUNC,FDOM,FDOM_FLAG_W,REFTMP,REFTMP_FLAG_W,CTDFLUOR,CTDFLUOR_FLAG_W,PAR,PAR_FLAG_W,CDOM300,CDOM300_FLAG_W,CDOM325,CDOM325_FLAG_W,CDOM443,CDOM443_FLAG_W,CTDXMISS,CTDBEAMCP,CTDBEAMCP_FLAG_W,CTDTURB,CTDTURB_FLAG_W,CTDCDOM,CTDCDOM_FLAG_W,CHLORA,CHLORA_FLAG_W
,,,,,,,,,,,METERS,DBAR,,ITS-90,,PSS-78,,PSS-78,,UMOL/KG,,UMOL/KG,,UMOL/KG,,UMOL/KG,,UMOL/KG,,UMOL/KG,,UMOL/KG,,PMOL/KG,,PMOL/KG,,PMOL/KG,,FMOL/KG,,UMOL/KG,,UMOL/KG,,UMOL/KG,,UMOL/KG,,G/KG,,ND,,UMOL/KG,UMOL/KG,UMOL/KG,UMOL/KG,UMOL/KG,RFU,,ITS-90,,MG/M^3,,UMOL/M^2/SEC,,/METER,,/METER,,/METER,,%TRANS,/METER,,FTU,,QSU,,UG/L,
49NZ20210713,        P01,      48,          1,         36,     X12S36,2,20210729,       1534,    47.0012,   169.0988,       4138,    10.1,2,  11.0661,2,  32.7620,2,  32.7667,2,   291.66,2,  292.99,2,   27.48,2,    0.38,2,   16.90,2,    0.19,2,   1.495,2,   3.488,2,   1.755,2,   0.296,2,   3.326,2,  2056.3,2,  2221.3,2,   57.06,2, -999.00,9,    32.9265,2,     605.35,2,       0.07,       0.02,       0.04,       0.01,      0.005,     0.0041,2,   11.05841,2,      1.705,1,      4.457,2,      0.583,1,      0.350,1,      0.066,1,     93.955,     0.2494,2,      0.217,1,      0.231,1,       0.66,2
49NZ20210713,        P01,      48,          1,          2,     X12B34,2,20210729,       1534,    47.0012,   169.0988,       4138,    31.1,2,   5.3414,2,  33.0417,2,  33.0468,2,   325.90,2,  328.27,2,   36.32,2,    0.66,2,   20.97,2,    0.26,2,   1.791,2,-999.000,9,-999.000,9,-999.000,9,-999.000,9,  2111.3,2,  2234.7,2,   50.63,2, -999.00,9,    33.2093,2,     610.50,2,       0.08,       0.02,       0.05,       0.01,      0.008,     0.0047,2,    5.34426,2,      1.453,1,      0.359,2,      0.407,1,      0.216,1,      0.030,1,     97.618,     0.0964,2,      0.172,1,      0.247,1,       0.54,2
49NZ20210713,        P01,      48,          1,         35,     X12S35,2,20210729,       1534,    47.0012,   169.0988,       4138,    50.1,2,   3.9682,2,  33.0733,2,  33.0778,2,   324.61,2,  326.44,2,   39.93,2,    0.69,2,   22.81,2,    0.42,2,   1.911,2,   4.748,2,   2.287,2,   0.761,3,   4.196,2,  2126.0,2,  2235.6,2,   50.63,2, -999.00,9,    33.2385,2,     611.10,2,       0.09,       0.02,       0.05,       0.01,      0.015,     0.0051,2,    3.96793,2,      0.787,1,      0.000,2,      0.390,1,      0.203,1,      0.028,1,     98.760,     0.0499,2,      0.099,1,      0.262,1,       0.32,2
49NZ20210713,        P01,      48,          1,         34,     X12S34,2,20210729,       1534,    47.0012,   169.0988,       4138,   100.8,2,   2.5541,2,  33.1648,2,  33.1653,2,   312.91,2,  315.63,2,   44.96,2,    0.02,2,   26.05,2,    0.01,2,   2.015,2,   4.819,2,   2.300,2,   0.644,3,   4.260,2,  2148.7,2,  2237.3,2,   50.20,2, -999.00,9,    33.3281,2,     612.85,2,       0.10,       0.01,       0.06,       0.01,      0.006,     0.0055,2,    2.55456,2,      0.142,1,      0.000,2,      0.422,1,      0.227,1,      0.037,1,     99.542,     0.0184,2,      0.069,1,      0.270,1,       0.07,2
49NZ20210713,        P01,      48,          1,         33,     X12S33,2,20210729,       1534,    47.0012,   169.0988,       4138,   150.4,2,   2.6480,2,  33.3690,2,  33.3704,2,   244.06,2,  244.63,2,   58.10,2,    0.01,2,   30.36,2,    0.01,2,   2.283,2,   4.188,2,   1.981,2,   0.508,3,   3.397,2,  2199.4,2,  2251.0,2,   50.59,2, -999.00,9,    33.5334,2,     616.55,2,       0.11,       0.01,       0.07,       0.01,      0.006,     0.0074,2,    2.64767,2,      0.080,1,      0.000,2,      0.440,1,      0.249,1,      0.042,1,     99.577,     0.0170,2,      0.071,1,      0.317,1,       0.03,2
49NZ20210713,        P01,      48,          1,         32,     X12S32,2,20210729,       1534,    47.0012,   169.0988,       4138,   199.8,2,   3.3408,2,  33.6759,2,  33.6789,2,   128.29,2,  127.07,2,   78.13,2,    0.01,2,   36.72,2,    0.00,2,   2.684,2,   3.067,2,   1.428,2,   0.270,2,   2.004,2,  2275.1,2,  2279.6,2,   42.50,2, -999.00,9,    33.8458,2,     622.25,2,       0.14,       0.01,       0.08,       0.01,      0.013,     0.0103,2,    3.34073,2,      0.076,1,      0.000,2,      0.464,1,      0.271,1,      0.054,1,     99.498,     0.0201,2,      0.071,1,      0.371,1,       0.03,2
49NZ20210713,        P01,      48,          1,         31,     X12S31,2,20210729,       1534,    47.0012,   169.0988,       4138,   250.3,2,   3.6332,2,  33.8656,2,  33.8669,2,    57.85,2,   57.53,2,   93.93,2,    0.02,2,   41.83,2,    0.01,2,   2.992,2,   2.298,2,   1.083,2,   0.180,2,   1.254,2,  2321.5,2,  2298.0,2,   45.25,2, -999.00,9,    34.0366,2,     625.65,2,       0.16,       0.01,       0.09,       0.01,      0.006,     0.0119,2,    3.63268,2,      0.073,1,      0.000,2,      0.450,1,      0.264,1,      0.047,1,     99.611,     0.0156,2,      0.065,1,      0.395,1,       0.01,2
49NZ20210713,        P01,      48,          1,         30,     X12S30,2,20210729,       1534,    47.0012,   169.0988,       4138,   280.5,2,   3.6963,2,  33.9213,2,  33.9208,2,    43.79,2,   45.58,2,   97.91,2,    0.01,2,   42.70,2,    0.01,2,   3.042,2,   2.094,2,   0.996,2,   0.151,2,   1.036,2,  2333.8,2,  2299.5,2,   44.56,2, -999.00,9,    34.0914,2,     626.70,2,       0.17,       0.01,       0.09,       0.01,      0.006,     0.0124,2,    3.69612,2,      0.075,1,      0.000,2,      0.480,1,      0.284,1,      0.054,1,     99.651,     0.0140,2,      0.072,1,      0.398,1,     -999.0,9
49NZ20210713,        P01,      48,          1,         29,     X12S29,2,20210729,       1534,    47.0012,   169.0988,       4138,   369.7,2,   3.6871,2,  34.0759,2,  34.0738,2,    29.69,2,   30.08,2,  110.66,2,    0.00,2,   43.18,2,    0.00,2,   3.087,2,   1.390,2,   0.754,2,   0.098,2,   0.570,2,  2344.7,2,  2322.2,2,   42.23,2, -999.00,9,    34.2470,2,     629.50,2,       0.18,       0.01,       0.09,       0.01,      0.006,     0.0124,2,    3.68633,2,      0.074,1,      0.000,2,      0.510,1,      0.322,1,      0.073,1,     99.805,     0.0078,2,      0.058,1,      0.402,1,     -999.0,9
49NZ20210713,        P01,      48,          1,         28,     X12S28,2,20210729,       1534,    47.0012,   169.0988,       4138,   468.5,2,   3.5340,2,  34.1645,2,  34.1642,2,    22.95,2,   23.05,2,  120.70,2,    0.01,2,   43.48,2,    0.00,2,   3.103,2,   0.930,2,   0.449,2,   0.072,2,   0.361,2,  2357.5,2,  2338.0,2,   38.10,2, -999.00,9,    34.3380,2,     631.15,2,       0.20,       0.01,       0.09,       0.01,      0.006,     0.0125,2,    3.53376,2,      0.073,1,      0.000,2,      0.439,1,      0.263,1,      0.055,1,     99.842,     0.0063,2,      0.053,1,      0.406,1,     -999.0,9
49NZ20210713,        P01,      48,          1,         27,     X12S27,2,20210729,       1534,    47.0012,   169.0988,       4138,   570.2,2,   3.3368,2,  34.2418,2,  34.2408,2,    21.46,2,   21.43,2,  129.58,2,    0.02,2,   43.46,2,    0.00,2,   3.089,2,   0.615,2,   0.355,2,   0.053,2,   0.225,2,  2366.1,2,  2347.5,2,   40.21,2, -999.00,9,    34.4178,2,     632.60,2,       0.21,       0.01,       0.09,       0.01,      0.006,     0.0125,2,    3.33645,2,      0.072,1,      0.000,2,      0.416,1,      0.251,1,      0.049,1,     99.851,     0.0060,2,      0.053,1,      0.408,1,     -999.0,9
49NZ20210713,        P01,      48,          1,         26,     X12S26,2,20210729,       1534,    47.0012,   169.0988,       4138,   669.5,2,   3.1234,2,  34.3059,2,  34.3054,2,    22.37,2,   22.32,2,  137.32,2,    0.02,2,   43.43,2,    0.00,2,   3.100,2,   0.409,2,   0.246,2,   0.030,2,   0.128,2,  2373.4,6,  2358.9,2,   39.32,2, -999.00,9,    34.4830,2,     633.80,2,       0.22,       0.01,       0.09,       0.01,      0.012,     -999.0,9,    3.12304,2,      0.072,1,      0.000,2,     -999.0,9,     -999.0,9,     -999.0,9,     99.854,     0.0059,2,      0.052,1,      0.402,1,     -999.0,9
49NZ20210713,        P01,      48,          1,         25,     X12S25,2,20210729,       1534,    47.0012,   169.0988,       4138,   770.0,2,   2.9538,2,  34.3483,2,  34.3480,2,    22.86,2,   22.91,2,  143.13,2,    0.01,2,   43.48,2,    0.00,2,   3.108,2,   0.297,2,   0.179,2,   0.019,2,   0.080,2,  2383.1,2,  2366.1,2,   40.49,2, -999.00,9,    34.5252,2,     634.55,2,       0.23,       0.01,       0.09,       0.01,      0.006,     0.0125,2,    2.95356,2,      0.071,1,      0.000,2,      0.458,1,      0.289,1,      0.066,1,     99.847,     0.0061,2,      0.051,1,      0.399,1,     -999.0,9
49NZ20210713,        P01,      48,          1,         24,     X12S24,2,20210729,       1534,    47.0012,   169.0988,       4138,   870.3,2,   2.8096,2,  34.3829,2,  34.3828,2,    23.86,2,   23.70,2,  147.92,2,    0.03,2,   43.48,2,    0.00,2,   3.104,2,   0.221,2,   0.137,2,   0.014,2,   0.063,2,  2383.9,2,  2372.8,2,   37.57,2, -999.00,9,    34.5628,2,     635.20,2,       0.24,       0.01,       0.09,       0.01,      0.006,     -999.0,9,    2.81004,2,      0.071,1,      0.000,2,     -999.0,9,     -999.0,9,     -999.0,9,     99.872,     0.0051,2,      0.050,1,      0.390,1,     -999.0,9
49NZ20210713,        P01,      48,          1,         23,     X12S23,2,20210729,       1534,    47.0012,   169.0988,       4138,   970.8,2,   2.6801,2,  34.4133,2,  34.4133,2,    25.56,2,   25.76,2,  151.99,2,    0.01,2,   43.55,2,    0.00,2,   3.109,2,   0.171,2,   0.106,2,   0.013,2,   0.045,2,  2388.1,2,  2380.1,2,   38.67,2, -999.00,9,    34.5925,2,     635.70,2,       0.24,       0.01,       0.09,       0.01,      0.006,     0.0121,2,    2.67987,2,      0.070,1,      0.000,2,      0.392,1,      0.233,1,      0.045,1,     99.879,     0.0048,2,      0.053,1,      0.391,1,     -999.0,9
49NZ20210713,        P01,      48,          1,         22,     X12S22,2,20210729,       1534,    47.0012,   169.0988,       4138,  1128.6,2,   2.4734,2,  34.4590,2,  34.4589,2,    30.07,2,   29.96,2,  158.12,2,    0.01,2,   43.39,2,    0.00,2,   3.092,2,   0.107,2,   0.066,2,   0.010,2,   0.031,2,  2390.4,2,  2385.3,6,   34.79,2, -999.00,9,    34.6393,2,     636.55,2,       0.25,       0.01,       0.09,       0.01,      0.006,     -999.0,9,    2.47457,2,      0.068,1,      0.000,2,     -999.0,9,     -999.0,9,     -999.0,9,     99.888,     0.0045,2,      0.050,1,      0.386,1,     -999.0,9
49NZ20210713,        P01,      48,          1,         21,     X12S21,2,20210729,       1534,    47.0012,   169.0988,       4138,  1330.9,2,   2.2497,2,  34.5105,2,  34.5106,2,    40.41,2,   40.44,2,  163.74,2,    0.01,2,   42.89,2,    0.00,2,   3.059,2,   0.058,2,   0.038,2,   0.006,2,   0.013,2,  2392.0,2,  2397.8,2,   32.95,2, -999.00,9,    34.6934,2,     637.50,2,       0.26,       0.01,       0.09,       0.01,      0.007,     0.0125,2,    2.24964,2,      0.067,1,      0.000,2,      0.432,1,      0.267,1,      0.055,1,     99.904,     0.0038,2,      0.050,1,      0.383,1,     -999.0,9
49NZ20210713,        P01,      48,          1,         20,     X12S20,2,20210729,       1534,    47.0012,   169.0988,       4138,  1529.2,2,   2.1039,2,  34.5452,2,  34.5442,2,    49.82,2,   49.99,2,  166.06,2,    0.01,2,   42.27,2,    0.00,2,   3.009,2,   0.029,2,   0.019,2,   0.007,2,   0.000,2,  2387.9,2,  2401.7,2,   36.64,2, -999.00,9,    34.7244,2,     638.05,2,       0.26,       0.01,       0.09,       0.01,      0.006,     -999.0,9,    2.10397,2,      0.065,1,      0.000,2,     -999.0,9,     -999.0,9,     -999.0,9,     99.911,     0.0035,2,      0.050,1,      0.377,1,     -999.0,9
49NZ20210713,        P01,      48,          1,         19,     X12S19,2,20210729,       1534,    47.0012,   169.0988,       4138,  1731.6,2,   2.0065,2,  34.5694,2,  34.5701,2,    59.41,2,   59.87,2,  166.67,2,    0.01,2,   41.61,2,    0.00,2,   2.965,2,   0.015,2,   0.010,2,   0.007,2,   0.024,2,  2387.6,2,  2404.6,2,   36.87,2, -999.00,9,    34.7514,2,     638.60,2,       0.30,       0.01,       0.09,       0.01,      0.006,     0.0118,2,    2.00537,2,      0.064,1,      0.000,2,      0.350,1,      0.205,1,      0.036,1,     99.923,     0.0031,2,      0.049,1,      0.370,1,     -999.0,9
49NZ20210713,        P01,      48,          1,         18,     X12S18,2,20210729,       1534,    47.0012,   169.0988,       4138,  1930.4,2,   1.8792,2,  34.5962,2,  34.5963,2,    73.15,2,   73.30,2,  166.85,2,    0.01,2,   40.95,2,    0.00,2,   2.914,2,   0.004,2,   0.005,2,   0.003,2,   0.000,2,  2379.1,2,  2411.9,2,   36.53,2, -999.00,9,    34.7811,2,     639.15,2,       0.26,       0.01,       0.09,       0.01,      0.006,     -999.0,9,    1.87904,2,      0.062,1,      0.000,2,     -999.0,9,     -999.0,9,     -999.0,9,     99.902,     0.0039,2,      0.054,1,      0.360,1,     -999.0,9
49NZ20210713,        P01,      48,          1,         17,     X12S17,2,20210729,       1534,    47.0012,   169.0988,       4138,  2130.9,2,   1.7734,2,  34.6173,2,  34.6173,2,    86.48,2,   86.74,2,  165.82,2,    0.02,2,   40.07,2,    0.00,2,   2.820,2,   0.000,2,   0.002,2,   0.003,2,   0.000,2,  2372.9,2,  2407.7,3,   36.32,2, -999.00,9,    34.8028,2,     639.50,2,       0.26,       0.01,       0.08,       0.01,      0.006,     0.0115,2,    1.77327,2,      0.062,1,      0.000,2,      0.351,1,      0.209,1,      0.040,1,     99.937,     0.0025,2,      0.049,1,      0.359,1,     -999.0,9
49NZ20210713,        P01,      48,          1,         16,     X12S16,2,20210729,       1534,    47.0012,   169.0988,       4138,  2331.0,2,   1.7084,2,  34.6295,2,  34.6297,2,    96.12,2,   96.25,2,  164.62,2,    0.02,2,   39.54,2,    0.00,2,   2.779,2,   0.000,2,   0.000,2,   0.003,2,   0.000,2,  2367.1,6,  2415.5,2,   36.98,2, -999.00,9,    34.8140,2,     639.65,2,       0.26,       0.01,       0.08,       0.01,      0.006,     -999.0,9,    1.70821,2,      0.061,1,      0.000,2,     -999.0,9,     -999.0,9,     -999.0,9,     99.941,     0.0023,2,      0.048,1,      0.351,1,     -999.0,9
49NZ20210713,        P01,      48,          1,         15,     X12S15,2,20210729,       1534,    47.0012,   169.0988,       4138,  2530.8,2,   1.6362,2,  34.6426,2,  34.6429,2,   107.18,2,  107.73,2,  162.71,2,    0.02,2,   38.84,2,    0.00,2,   2.737,2,   0.000,2,   0.000,2,   0.003,2,   0.000,2,  2360.6,2,  2414.3,2,   34.60,2, -999.00,9,    34.8257,2,     639.95,2,       0.25,       0.01,       0.09,       0.01,      0.006,     0.0108,2,    1.63603,2,      0.059,1,      0.000,2,      0.319,1,      0.181,1,      0.034,1,     99.948,     0.0021,2,      0.048,1,      0.348,1,     -999.0,9
49NZ20210713,        P01,      48,          1,         14,     X12S14,2,20210729,       1534,    47.0012,   169.0988,       4138,  2730.3,2,   1.5900,2,  34.6514,2,  34.6517,2,   115.35,2,  116.07,2,  161.29,2,    0.01,2,   38.34,2,    0.00,2,   2.697,2,   0.000,2,   0.000,2,   0.000,2,   0.000,2,  2358.0,2,  2412.4,2,   36.02,2, -999.00,9,    34.8351,2,     640.10,2,       0.25,       0.01,       0.08,       0.01,      0.006,     -999.0,9,    1.58985,2,      0.059,1,      0.000,2,     -999.0,9,     -999.0,9,     -999.0,9,     99.944,     0.0023,2,      0.048,1,      0.342,1,     -999.0,9
49NZ20210713,        P01,      48,          1,         13,     X12S13,2,20210729,       1534,    47.0012,   169.0988,       4138,  2929.6,2,   1.5513,2,  34.6584,2,  34.6587,2,   122.04,2,  122.50,2,  160.41,2,    0.01,2,   37.88,2,    0.00,2,   2.666,2,   0.000,2,   0.000,2,   0.000,2,   0.000,2,  2352.4,2,  2414.6,2,   33.29,2, -999.00,9,    34.8411,2,     640.20,2,       0.25,       0.01,       0.08,       0.01,      0.006,     0.0102,2,    1.55120,2,      0.058,1,      0.000,2,      0.317,1,      0.183,1,      0.035,1,     99.925,     0.0030,2,      0.050,1,      0.339,1,     -999.0,9
49NZ20210713,        P01,      48,          1,         12,     X12S12,2,20210729,       1534,    47.0012,   169.0988,       4138,  3171.0,2,   1.5141,2,  34.6659,2,  34.6662,2,   129.85,2,  130.60,2,  158.60,2,    0.01,2,   37.36,2,    0.00,2,   2.627,2,   0.000,2,   0.000,2,   0.002,2,   0.000,2,  2345.5,2,  2413.8,6,   34.59,2, -999.00,9,    34.8488,2,     640.35,2,       0.25,       0.01,       0.08,       0.01,      0.006,     -999.0,9,    1.51372,2,      0.058,1,      0.000,2,     -999.0,9,     -999.0,9,     -999.0,9,     99.914,     0.0035,2,      0.050,1,      0.337,1,     -999.0,9
49NZ20210713,        P01,      48,          1,         11,     X12S11,2,20210729,       1534,    47.0012,   169.0988,       4138,  3420.3,2,   1.4768,2,  34.6734,2,  34.6737,2,   138.38,2,  138.65,2,  155.90,2,    0.02,2,   36.73,2,    0.00,2,   2.581,2,   0.000,2,   0.000,2,   0.000,2,   0.000,2,  2339.3,2,  2413.8,2,   35.00,2, -999.00,9,    34.8566,2,     640.50,2,       0.25,       0.01,       0.08,       0.01,      0.006,     0.0096,2,    1.47666,2,      0.057,1,      0.000,2,      0.293,1,      0.163,1,      0.027,1,     99.934,     0.0026,2,      0.049,1,      0.332,1,     -999.0,9
49NZ20210713,        P01,      48,          1,         10,     X12S10,2,20210729,       1534,    47.0012,   169.0988,       4138,  3670.4,2,   1.4580,2,  34.6783,2,  34.6791,2,   144.69,2,  144.91,2,  154.01,2,    0.01,2,   36.43,2,    0.00,2,   2.545,2,   0.000,2,   0.002,2,   0.002,2,   0.000,2,  2335.3,2,  2415.4,2,   35.93,2, -999.00,9,    34.8608,2,     640.55,2,       0.24,       0.01,       0.08,       0.01,      0.006,     -999.0,9,    1.45791,2,      0.057,1,      0.000,2,     -999.0,9,     -999.0,9,     -999.0,9,     99.934,     0.0026,2,      0.051,1,      0.326,1,     -999.0,9
49NZ20210713,        P01,      48,          1,          9,     X12S09,2,20210729,       1534,    47.0012,   169.0988,       4138,  3920.5,2,   1.4501,2,  34.6821,2,  34.6822,2,   149.24,2,  149.52,2,  153.06,2,    0.01,2,   36.08,2,    0.00,2,   2.527,2,   0.000,2,   0.000,2,   0.000,2,   0.000,2,  2331.2,2,  2414.0,2,   38.55,2, -999.00,9,    34.8645,2,     640.60,2,       0.24,       0.01,       0.08,       0.01,      0.006,     0.0098,2,    1.44996,2,      0.056,1,      0.000,2,      0.401,1,      0.250,1,      0.053,1,     99.932,     0.0027,2,      0.050,1,      0.335,1,     -999.0,9
49NZ20210713,        P01,      48,          1,          1,     X12S01,2,20210729,       1534,    47.0012,   169.0988,       4138,  4166.7,2,   1.4664,2,  34.6834,2,  34.6842,2,   150.85,2,  151.09,2,  152.95,2,    0.01,2,   36.02,2,    0.00,2,   2.522,2,   0.000,2,   0.000,2,   0.000,2,   0.000,2,  2328.4,2,  2414.6,2,   39.38,2, -999.00,9,    34.8648,2,     640.80,2,       0.24,       0.01,       0.08,       0.01,      0.006,     0.0098,2,    1.46640,2,      0.056,1,      0.000,2,      0.289,1,      0.158,1,      0.021,1,     99.918,     0.0033,2,      0.052,1,      0.342,1,     -999.0,9