BOTTLE,20231011CCHSIOENA
EXPOCODE,SECT_ID,STNNBR,CASTNO,SAMPNO,BTLNBR,BTLNBR_FLAG_W,DATE,TIME,LATITUDE,LONGITUDE,DEPTH,CTDPRS,CTDPRS_FLAG_W,CTDTMP,CTDTMP_FLAG_W,CTDSAL,CTDSAL_FLAG_W,SALNTY,SALNTY_FLAG_W,CTDOXY,CTDOXY_FLAG_W,OXYGEN,OXYGEN_FLAG_W,SILCAT,SILCAT_FLAG_W,NH4,NH4_FLAG_W,NITRAT,NITRAT_FLAG_W,NITRIT,NITRIT_FLAG_W,PHSPHT,PHSPHT_FLAG_W,CFC-11,CFC-11_FLAG_W,CFC-12,CFC-12_FLAG_W,CFC113,CFC113_FLAG_W,SF6,SF6_FLAG_W,TCARBN,TCARBN_FLAG_W,ALKALI,ALKALI_FLAG_W,DOC,DOC_FLAG_W,TDN,TDN_FLAG_W,DNSSAL,DNSSAL_FLAG_W,RIANOMALY,RIANOMALY_FLAG_W,SILUNC,NH4UNC,NRAUNC,NRIUNC,PHPUNC,FDOM,FDOM_FLAG_W,REFTMP,REFTMP_FLAG_W,CTDFLUOR,CTDFLUOR_FLAG_W,PAR,PAR_FLAG_W,CDOM300,CDOM300_FLAG_W,CDOM325,CDOM325_FLAG_W,CDOM443,CDOM443_FLAG_W,CTDXMISS,CTDBEAMCP,CTDBEAMCP_FLAG_W,CTDTURB,CTDTURB_FLAG_W,CTDCDOM,CTDCDOM_FLAG_W,CHLORA,CHLORA_FLAG_W
,,,,,,,,,,,METERS,DBAR,,ITS-90,,PSS-78,,PSS-78,,UMOL/KG,,UMOL/KG,,UMOL/KG,,UMOL/KG,,UMOL/KG,,UMOL/KG,,UMOL/KG,,PMOL/KG,,PMOL/KG,,PMOL/KG,,FMOL/KG,,UMOL/KG,,UMOL/KG,,UMOL/KG,,UMOL/KG,,G/KG,,ND,,UMOL/KG,UMOL/KG,UMOL/KG,UMOL/KG,UMOL/KG,RFU,,ITS-90,,MG/M^3,,UMOL/M^2/SEC,,/METER,,/METER,,/METER,,%TRANS,/METER,,FTU,,QSU,,UG/L,
49NZ20210713,        P01,      42,          1,         36,     X12S36,2,20210727,       2134,    46.9985,   164.5137,       5920,    10.6,2,  11.4772,2,  32.8977,2,  32.8923,2,   294.17,2,  292.44,2,   23.71,2,    0.23,2,   14.72,2,    0.15,2,   1.319,2,   3.496,2,   1.946,2,   0.305,2,   3.315,2,  2062.1,2,  2235.2,2,   56.56,2, -999.00,9,    33.0527,2,     607.57,2,       0.07,       0.02,       0.04,       0.01,      0.005,     0.0039,2,   11.50858,2,      1.214,1,    196.516,2,      0.295,1,      0.130,1,      0.006,1,     92.193,     0.3252,2,      0.213,1,      0.222,1,       0.65,2
49NZ20210713,        P01,      42,          1,         35,     X12S35,2,20210727,       2134,    46.9985,   164.5137,       5920,    49.9,2,   5.5409,2,  33.0787,2,  33.0825,2,   328.05,2,  329.08,2,   29.74,2,    0.71,2,   17.64,2,    0.18,2,   1.546,2,   4.659,2,   2.118,2,   0.405,2,   4.203,2,  2098.1,2,  2239.9,2,   52.73,2, -999.00,9,    33.2426,2,     611.17,2,       0.08,       0.02,       0.04,       0.01,      0.005,     0.0060,2,    5.53785,2,      2.620,1,      5.916,2,      0.427,1,      0.234,1,      0.033,1,     96.146,     0.1572,2,      0.217,1,      0.269,1,       0.98,2
49NZ20210713,        P01,      42,          1,         34,     X12S34,2,20210727,       2134,    46.9985,   164.5137,       5920,   101.0,2,   3.5965,2,  33.1951,2,  33.2053,2,   311.49,2,  313.15,2,   36.40,2,    0.01,2,   22.83,2,    0.01,2,   1.779,2,   4.947,2,   2.642,2,   0.444,2,   4.287,2,  2134.8,2,  2240.8,2,   48.41,2, -999.00,9,    33.3672,2,     613.37,2,       0.08,       0.01,       0.05,       0.01,      0.005,     0.0063,2,    3.57428,2,      0.203,1,      0.050,2,      0.569,1,      0.347,1,      0.078,1,     99.434,     0.0227,2,      0.074,1,      0.275,1,       0.13,2
49NZ20210713,        P01,      42,          1,         33,     X12S33,2,20210727,       2134,    46.9985,   164.5137,       5920,   149.8,2,   3.5571,2,  33.4675,2,  33.4680,2,   258.76,2,  260.69,2,   47.26,2,    0.01,2,   25.54,2,    0.01,2,   1.927,2,   4.392,2,   2.392,2,   0.342,2,   3.651,2,  2176.5,2,  2257.8,2,   46.31,2, -999.00,9,    33.6312,2,     618.27,2,       0.10,       0.01,       0.06,       0.01,      0.005,     0.0081,2,    3.55693,2,      0.074,1,      0.000,2,      0.432,1,      0.241,1,      0.040,1,     99.507,     0.0198,2,      0.075,1,      0.308,1,       0.03,2
49NZ20210713,        P01,      42,          1,         32,     X12S32,2,20210727,       2134,    46.9985,   164.5137,       5920,   199.9,2,   3.3133,2,  33.6393,2,  33.6393,2,   144.64,2,  143.97,2,   75.64,2,    0.01,2,   35.42,2,    0.00,2,   2.590,2,   3.399,2,   1.797,2,   0.231,2,   2.226,2,  2259.0,2,  2278.0,2,   43.78,2, -999.00,9,    33.8065,2,     621.42,2,       0.14,       0.01,       0.08,       0.01,      0.006,     0.0109,2,    3.31324,2,      0.071,1,      0.000,2,      0.507,1,      0.302,1,      0.053,1,     99.503,     0.0199,2,      0.074,1,      0.370,1,       0.02,2
49NZ20210713,        P01,      42,          1,         31,     X12S31,2,20210727,       2134,    46.9985,   164.5137,       5920,   250.1,2,   3.5842,2,  33.7938,2,  33.7950,2,    98.08,2,   97.81,2,   86.30,2,    0.01,2,   38.48,2,    0.00,2,   2.776,2,   2.756,2,   1.446,2,   0.177,2,   1.601,2,  2291.7,2,  2293.3,2,   40.71,2, -999.00,9,    33.9632,2,     624.27,2,       0.15,       0.01,       0.08,       0.01,      0.006,     0.0117,2,    3.58329,2,      0.072,1,      0.000,2,      0.475,1,      0.284,1,      0.052,1,     99.604,     0.0159,2,      0.070,1,      0.395,1,       0.02,2
49NZ20210713,        P01,      42,          1,         30,     X12S30,2,20210727,       2134,    46.9985,   164.5137,       5920,   279.2,2,   3.7217,2,  33.8671,2,  33.8673,2,    81.59,2,   81.93,2,   90.37,2,    0.02,2,   39.39,2,    0.00,2,   2.827,2,   2.436,2,   1.278,2,   0.153,2,   1.314,2,  2301.9,2,  2297.9,2,   42.09,2, -999.00,9,    34.0372,2,     625.62,2,       0.16,       0.01,       0.08,       0.01,      0.006,     0.0120,2,    3.72245,2,      0.072,1,      0.000,2,      0.447,1,      0.258,1,      0.048,1,     99.669,     0.0133,2,      0.075,1,      0.396,1,     -999.0,9
49NZ20210713,        P01,      42,          1,         29,     X12S29,2,20210727,       2134,    46.9985,   164.5137,       5920,   370.7,2,   3.7468,2,  34.0106,2,  34.0102,2,    47.86,2,   48.24,2,  103.53,2,    0.01,2,   41.92,2,    0.00,2,   2.989,2,   1.771,2,   0.909,2,   0.107,2,   0.772,2,  2329.0,2,  2314.7,2,   39.82,2, -999.00,9,    34.1836,2,     628.27,2,       0.17,       0.01,       0.09,       0.01,      0.006,     0.0130,2,    3.74683,2,      0.072,1,      0.000,2,      0.435,1,      0.257,1,      0.050,1,     99.775,     0.0090,2,      0.059,1,      0.407,1,     -999.0,9
49NZ20210713,        P01,      42,          1,         28,     X12S28,2,20210727,       2134,    46.9985,   164.5137,       5920,   470.1,2,   3.6098,2,  34.1188,2,  34.1145,2,    34.11,2,   35.72,2,  114.49,2,    0.02,2,   42.71,2,    0.00,2,   3.033,2,   1.242,2,   0.653,2,   0.070,2,   0.508,2,  2345.1,2,  2331.4,2,   39.18,2, -999.00,9,    34.2865,2,     630.17,2,       0.19,       0.01,       0.09,       0.01,      0.006,     0.0128,2,    3.60914,2,      0.073,1,      0.000,2,      0.422,1,      0.249,1,      0.049,1,     99.821,     0.0072,2,      0.056,1,      0.413,1,     -999.0,9
49NZ20210713,        P01,      42,          1,         27,     X12S27,2,20210727,       2134,    46.9985,   164.5137,       5920,   569.8,2,   3.4394,2,  34.1829,2,  34.1824,2,    28.37,2,   28.83,2,  123.41,2,    0.02,2,   43.24,2,    0.00,2,   3.067,2,   0.914,2,   0.494,2,   0.050,2,   0.358,2,  2358.8,2,  2342.5,2,   38.37,2, -999.00,9,    34.3560,2,     631.37,2,       0.20,       0.01,       0.09,       0.01,      0.006,     0.0133,2,    3.43944,2,      0.072,1,      0.000,2,      0.463,1,      0.286,1,      0.065,1,     99.844,     0.0062,2,      0.054,1,      0.417,1,     -999.0,9
49NZ20210713,        P01,      42,          1,         26,     X12S26,2,20210727,       2134,    46.9985,   164.5137,       5920,   671.5,2,   3.2733,2,  34.2536,2,  34.2532,2,    26.61,2,   27.06,2,  131.17,2,    0.02,2,   43.34,2,    0.00,2,   3.081,2,   0.636,2,   0.350,2,   0.031,2,   0.225,2,  2365.9,6,  2352.3,2,   35.03,2, -999.00,9,    34.4288,2,     632.72,2,       0.21,       0.01,       0.09,       0.01,      0.006,     -999.0,9,    3.27325,2,      0.071,1,      0.000,2,     -999.0,9,     -999.0,9,     -999.0,9,     99.892,     0.0043,2,      0.055,1,      0.412,1,     -999.0,9
49NZ20210713,        P01,      42,          1,         25,     X12S25,2,20210727,       2134,    46.9985,   164.5137,       5920,   770.9,2,   3.1116,2,  34.3030,2,  34.3023,2,    27.06,2,   27.20,2,  137.18,2,    0.01,2,   43.35,2,    0.00,2,   3.088,2,   0.470,2,   0.270,2,   0.023,2,   0.140,2,  2370.4,2,  2361.8,2,   35.39,2, -999.00,9,    34.4790,2,     633.57,2,       0.22,       0.01,       0.09,       0.01,      0.006,     0.0131,2,    3.11151,2,      0.071,1,      0.000,2,      0.396,1,      0.235,1,      0.043,1,     99.888,     0.0045,2,      0.053,1,      0.414,1,     -999.0,9
49NZ20210713,        P01,      42,          1,         24,     X12S24,2,20210727,       2134,    46.9985,   164.5137,       5920,   869.8,2,   2.9558,2,  34.3514,2,  34.3509,2,    25.92,2,   26.00,2,  142.97,2,    0.02,2,   43.47,2,    0.00,2,   3.089,2,   0.316,2,   0.183,2,   0.014,2,   0.128,2,  2374.5,2,  2371.5,2,   37.92,2, -999.00,9,    34.5279,2,     634.57,2,       0.23,       0.01,       0.09,       0.01,      0.006,     -999.0,9,    2.95567,2,      0.069,1,      0.000,2,     -999.0,9,     -999.0,9,     -999.0,9,     99.895,     0.0042,2,      0.052,1,      0.410,1,     -999.0,9
49NZ20210713,        P01,      42,          1,         23,     X12S23,2,20210727,       2134,    46.9985,   164.5137,       5920,   970.5,2,   2.7949,2,  34.3917,2,  34.3908,2,    27.39,2,   27.41,2,  148.09,2,    0.02,2,   43.46,2,    0.00,2,   3.092,2,   0.230,2,   0.138,2,   0.009,2,   0.083,2,  2377.9,2,  2378.6,2,   35.95,2, -999.00,9,    34.5688,2,     635.22,2,       0.23,       0.01,       0.09,       0.01,      0.006,     0.0134,2,    2.79478,2,      0.069,1,      0.000,2,      0.388,1,      0.233,1,      0.048,1,     99.883,     0.0047,2,      0.052,1,      0.407,1,     -999.0,9
49NZ20210713,        P01,      42,          1,         22,     X12S22,2,20210727,       2134,    46.9985,   164.5137,       5920,  1131.5,2,   2.5885,2,  34.4414,2,  34.4422,2,    31.62,2,   31.91,2,  154.49,2,    0.03,2,   43.37,2,    0.00,2,   3.076,2,   0.140,2,   0.083,2,   0.007,2,   0.065,2,  2387.1,2,  2387.3,6,   34.51,2, -999.00,9,    34.6210,2,     636.22,2,       0.24,       0.01,       0.09,       0.01,      0.006,     -999.0,9,    2.58832,2,      0.068,1,      0.000,2,     -999.0,9,     -999.0,9,     -999.0,9,     99.929,     0.0028,2,      0.053,1,      0.406,1,     -999.0,9
49NZ20210713,        P01,      42,          1,         21,     X12S21,2,20210727,       2134,    46.9985,   164.5137,       5920,  1329.5,2,   2.3789,2,  34.4845,2,  34.4846,2,    35.90,2,   36.14,2,  161.12,2,    0.03,2,   43.31,2,    0.00,2,   3.058,2,   0.085,2,   0.052,2,   0.004,2,   0.054,2,  2389.0,2,  2394.4,2,   36.26,2, -999.00,9,    34.6643,2,     636.97,2,       0.25,       0.01,       0.09,       0.01,      0.006,     0.0055,4,    2.37893,2,      0.067,1,      0.000,2,      0.377,1,      0.219,1,      0.046,1,     99.929,     0.0028,2,      0.050,1,      0.402,1,     -999.0,9
49NZ20210713,        P01,      42,          1,         20,     X12S20,2,20210727,       2134,    46.9985,   164.5137,       5920,  1531.3,2,   2.1871,2,  34.5282,2,  34.5278,2,    44.62,2,   44.81,2,  165.69,2,    0.02,2,   42.83,2,    0.00,2,   3.019,2,   0.046,2,   0.027,2,   0.001,2,   0.051,2,  2387.7,2,  2402.1,2,   36.72,2, -999.00,9,    34.7091,2,     637.67,2,       0.26,       0.01,       0.09,       0.01,      0.006,     -999.0,9,    2.18728,2,      0.065,1,      0.000,2,     -999.0,9,     -999.0,9,     -999.0,9,     99.918,     0.0033,2,      0.050,1,      0.397,1,     -999.0,9
49NZ20210713,        P01,      42,          1,         19,     X12S19,2,20210727,       2134,    46.9985,   164.5137,       5920,  1730.4,2,   2.0600,2,  34.5565,2,  34.5562,2,    52.19,2,   52.39,2,  168.90,2,    0.02,2,   42.39,2,    0.00,2,   2.987,2,   0.024,2,   0.013,2,   0.001,2,   0.063,2,  2384.9,2,  2407.6,2,   39.94,2, -999.00,9,    34.7367,2,     638.22,2,       0.26,       0.01,       0.09,       0.01,      0.006,     0.0130,2,    2.05971,2,      0.064,1,      0.000,2,      0.355,1,      0.205,1,      0.038,1,     99.950,     0.0020,2,      0.049,1,      0.392,1,     -999.0,9
49NZ20210713,        P01,      42,          1,         18,     X12S18,2,20210727,       2134,    46.9985,   164.5137,       5920,  1931.9,2,   1.9300,2,  34.5859,2,  34.5857,2,    65.19,2,   65.28,2,  169.65,2,    0.01,2,   41.60,2,    0.00,2,   2.926,2,   0.009,2,   0.006,2,   0.000,2,   0.069,2,  2381.1,2,  2410.1,2,   37.83,2, -999.00,9,    34.7674,2,     638.77,2,       0.26,       0.01,       0.09,       0.01,      0.006,     -999.0,9,    1.93000,2,      0.063,1,      0.000,2,     -999.0,9,     -999.0,9,     -999.0,9,     99.950,     0.0020,2,      0.049,1,      0.386,1,     -999.0,9
49NZ20210713,        P01,      42,          1,         17,     X12S17,2,20210727,       2134,    46.9985,   164.5137,       5920,  2130.4,2,   1.8322,2,  34.6064,2,  34.6062,2,    77.45,2,   77.42,2,  168.75,2,    0.00,2,   40.89,2,    0.00,2,   2.873,2,   0.005,2,   0.002,2,   0.000,2,   0.047,2,  2374.9,2,  2413.9,2,   34.74,2, -999.00,9,    34.7882,2,     639.17,2,       0.26,       0.01,       0.09,       0.01,      0.006,     0.0121,2,    1.83191,2,      0.062,1,      0.000,2,      0.315,1,      0.178,1,      0.031,1,     99.955,     0.0018,2,      0.051,1,      0.381,1,     -999.0,9
49NZ20210713,        P01,      42,          1,         16,     X12S16,2,20210727,       2134,    46.9985,   164.5137,       5920,  2330.8,2,   1.7442,2,  34.6239,2,  34.6236,2,    89.35,2,   88.80,2,  168.44,2,    0.00,2,   40.19,2,    0.00,2,   2.818,2,   0.002,2,   0.000,2,   0.000,2,   0.071,2,  2370.2,6,  2417.2,2,   35.13,2, -999.00,9,    34.8074,2,     639.47,2,       0.26,       0.01,       0.08,       0.01,      0.006,     -999.0,9,    1.74557,2,      0.061,1,      0.000,2,     -999.0,9,     -999.0,9,     -999.0,9,     99.952,     0.0019,2,      0.050,1,      0.373,1,     -999.0,9
49NZ20210713,        P01,      42,          1,         15,     X12S15,2,20210727,       2134,    46.9985,   164.5137,       5920,  2530.8,2,   1.6790,2,  34.6371,2,  34.6369,2,   100.45,2,  100.36,2,  165.89,2,    0.01,2,   39.50,2,    0.00,2,   2.765,2,   0.002,2,   0.000,2,   0.001,2,   0.058,2,  2363.2,2,  2416.0,2,   34.19,2, -999.00,9,    34.8200,2,     639.72,2,       0.26,       0.01,       0.08,       0.01,      0.006,     0.0114,2,    1.67853,2,      0.060,1,      0.000,2,      0.301,1,      0.169,1,      0.027,1,     99.968,     0.0013,2,      0.048,1,      0.364,1,     -999.0,9
49NZ20210713,        P01,      42,          1,         14,     X12S14,2,20210727,       2134,    46.9985,   164.5137,       5920,  2730.5,2,   1.6279,2,  34.6472,2,  34.6471,2,   110.01,2,  110.08,2,  163.50,2,    0.01,2,   38.96,2,    0.00,2,   2.716,2,   0.001,2,   0.000,2,   0.002,2,   0.058,2,  2355.8,2,  2417.2,2,   35.61,2, -999.00,9,    34.8300,2,     639.92,2,       0.26,       0.01,       0.08,       0.01,      0.006,     -999.0,9,    1.62819,2,      0.059,1,      0.000,2,     -999.0,9,     -999.0,9,     -999.0,9,     99.971,     0.0012,2,      0.048,1,      0.356,1,     -999.0,9
49NZ20210713,        P01,      42,          1,         13,     X12S13,2,20210727,       2134,    46.9985,   164.5137,       5920,  2930.1,2,   1.5833,2,  34.6556,2,  34.6558,2,   118.65,2,  118.51,2,  161.35,2,    0.02,2,   38.40,2,    0.00,2,   2.676,2,   0.000,2,   0.000,2,   0.000,2,   0.052,2,  2351.0,2,  2415.4,2,   34.75,2, -999.00,9,    34.8378,2,     640.07,2,       0.25,       0.01,       0.08,       0.01,      0.006,     0.0114,2,    1.58318,2,      0.059,1,      0.000,2,      0.282,1,      0.153,1,      0.023,1,     99.971,     0.0012,2,      0.048,1,      0.356,1,     -999.0,9
49NZ20210713,        P01,      42,          1,         12,     X12S12,2,20210727,       2134,    46.9985,   164.5137,       5920,  3171.0,2,   1.5443,2,  34.6634,2,  34.6633,2,   127.09,2,  127.03,2,  158.66,2,    0.03,2,   37.75,2,    0.00,2,   2.628,2,   0.001,2,   0.000,2,   0.000,2,   0.062,2,  2343.6,2,  2416.8,6,   33.99,2, -999.00,9,    34.8464,2,     640.22,2,       0.25,       0.01,       0.08,       0.01,      0.006,     -999.0,9,    1.54421,2,      0.058,1,      0.000,2,     -999.0,9,     -999.0,9,     -999.0,9,     99.975,     0.0010,2,      0.049,1,      0.371,1,     -999.0,9
49NZ20210713,        P01,      42,          1,         11,     X12S11,2,20210727,       2134,    46.9985,   164.5137,       5920,  3420.3,2,   1.5128,2,  34.6701,2,  34.6701,2,   134.54,2,  134.57,2,  156.66,2,    0.01,2,   37.32,2,    0.00,2,   2.587,2,   0.006,2,   0.002,2,   0.002,2,   0.046,2,  2340.5,2,  2412.8,2,   37.89,2, -999.00,9,    34.8514,2,     640.37,2,       0.25,       0.01,       0.08,       0.01,      0.006,     0.0106,2,    1.51276,2,      0.058,1,      0.000,2,      0.292,1,      0.167,1,      0.026,1,     99.962,     0.0015,2,      0.049,1,      0.344,1,     -999.0,9
49NZ20210713,        P01,      42,          1,         10,     X12S10,2,20210727,       2134,    46.9985,   164.5137,       5920,  3670.8,2,   1.4950,2,  34.6750,2,  34.6753,2,   140.33,2,  140.49,2,  155.07,2,    0.02,2,   36.96,2,    0.00,2,   2.557,2,   0.000,2,   0.000,2,   0.000,2,   0.053,2,  2337.6,2,  2417.0,2,   37.78,2, -999.00,9,    34.8571,2,     640.42,2,       0.24,       0.01,       0.08,       0.01,      0.006,     -999.0,9,    1.49489,2,      0.057,1,      0.000,2,     -999.0,9,     -999.0,9,     -999.0,9,     99.957,     0.0017,2,      0.047,1,      0.337,1,     -999.0,9
49NZ20210713,        P01,      42,          1,          9,     X12S09,2,20210727,       2134,    46.9985,   164.5137,       5920,  3919.1,2,   1.4871,2,  34.6786,2,  34.6788,2,   144.96,2,  145.13,2,  153.66,2,    0.01,2,   36.59,2,    0.00,2,   2.533,2,   0.000,4,   0.000,4,   0.001,4,   0.000,4,  2332.5,2,  2414.4,2,   35.50,2, -999.00,9,    34.8602,2,     640.52,2,       0.29,       0.01,       0.08,       0.01,      0.006,     0.0102,2,    1.48687,2,      0.057,1,      0.000,2,      0.288,1,      0.159,1,      0.027,1,     99.982,     0.0007,2,      0.046,1,      0.337,1,     -999.0,9
49NZ20210713,        P01,      42,          1,          8,     X12S08,2,20210727,       2134,    46.9985,   164.5137,       5920,  4171.2,2,   1.4862,2,  34.6817,2,  34.6813,2,   148.81,2,  148.87,2,  152.75,2,    0.02,2,   36.38,2,    0.00,2,   2.511,2,   0.000,2,   0.000,2,   0.000,2,   0.015,2,  2328.9,6,  2416.7,2,   35.30,2, -999.00,9,    34.8613,2,     640.52,2,       0.24,       0.01,       0.08,       0.01,      0.006,     -999.0,9,    1.48604,2,      0.057,1,      0.000,2,     -999.0,9,     -999.0,9,     -999.0,9,     99.996,     0.0002,2,      0.046,1,      0.364,1,     -999.0,9
49NZ20210713,        P01,      42,          1,          7,     X12S07,2,20210727,       2134,    46.9985,   164.5137,       5920,  4420.6,2,   1.4931,2,  34.6839,2,  34.6838,2,   151.82,2,  151.88,2,  151.91,2,    0.02,2,   36.23,2,    0.00,2,   2.492,2,   0.000,2,   0.000,2,   0.000,2,   0.007,2,  2326.7,2,  2417.4,2,   34.76,4, -999.00,9,    34.8662,2,     640.57,2,       0.24,       0.01,       0.08,       0.01,      0.006,     0.0099,2,    1.49291,2,      0.056,1,      0.000,2,      0.431,1,      0.280,1,      0.075,1,     99.991,     0.0003,2,      0.049,1,      0.363,1,     -999.0,9
49NZ20210713,        P01,      42,          1,          6,     X12S06,2,20210727,       2134,    46.9985,   164.5137,       5920,  4670.9,2,   1.5026,2,  34.6861,2,  34.6861,2,   154.38,2,  154.38,2,  151.59,2,    0.03,2,   36.04,2,    0.00,2,   2.479,2,   0.000,2,   0.000,2,   0.000,2,   0.081,2,  2327.5,2,  2415.9,6,   33.34,4, -999.00,9,    34.8683,2,     640.62,2,       0.24,       0.01,       0.08,       0.01,      0.006,     -999.0,9,    1.50254,2,      0.055,1,      0.000,2,     -999.0,9,     -999.0,9,     -999.0,9,     99.989,     0.0004,2,      0.046,1,      0.362,1,     -999.0,9