BOTTLE,20231011CCHSIOENA
EXPOCODE,SECT_ID,STNNBR,CASTNO,SAMPNO,BTLNBR,BTLNBR_FLAG_W,DATE,TIME,LATITUDE,LONGITUDE,DEPTH,CTDPRS,CTDPRS_FLAG_W,CTDTMP,CTDTMP_FLAG_W,CTDSAL,CTDSAL_FLAG_W,SALNTY,SALNTY_FLAG_W,CTDOXY,CTDOXY_FLAG_W,OXYGEN,OXYGEN_FLAG_W,SILCAT,SILCAT_FLAG_W,NH4,NH4_FLAG_W,NITRAT,NITRAT_FLAG_W,NITRIT,NITRIT_FLAG_W,PHSPHT,PHSPHT_FLAG_W,CFC-11,CFC-11_FLAG_W,CFC-12,CFC-12_FLAG_W,CFC113,CFC113_FLAG_W,SF6,SF6_FLAG_W,TCARBN,TCARBN_FLAG_W,ALKALI,ALKALI_FLAG_W,DOC,DOC_FLAG_W,TDN,TDN_FLAG_W,DNSSAL,DNSSAL_FLAG_W,RIANOMALY,RIANOMALY_FLAG_W,SILUNC,NH4UNC,NRAUNC,NRIUNC,PHPUNC,FDOM,FDOM_FLAG_W,REFTMP,REFTMP_FLAG_W,CTDFLUOR,CTDFLUOR_FLAG_W,PAR,PAR_FLAG_W,CDOM300,CDOM300_FLAG_W,CDOM325,CDOM325_FLAG_W,CDOM443,CDOM443_FLAG_W,CTDXMISS,CTDBEAMCP,CTDBEAMCP_FLAG_W,CTDTURB,CTDTURB_FLAG_W,CTDCDOM,CTDCDOM_FLAG_W,CHLORA,CHLORA_FLAG_W
,,,,,,,,,,,METERS,DBAR,,ITS-90,,PSS-78,,PSS-78,,UMOL/KG,,UMOL/KG,,UMOL/KG,,UMOL/KG,,UMOL/KG,,UMOL/KG,,UMOL/KG,,PMOL/KG,,PMOL/KG,,PMOL/KG,,FMOL/KG,,UMOL/KG,,UMOL/KG,,UMOL/KG,,UMOL/KG,,G/KG,,ND,,UMOL/KG,UMOL/KG,UMOL/KG,UMOL/KG,UMOL/KG,RFU,,ITS-90,,MG/M^3,,UMOL/M^2/SEC,,/METER,,/METER,,/METER,,%TRANS,/METER,,FTU,,QSU,,UG/L,
49NZ20210713,        P01,      77,          1,         36,     X12S36,2,20210808,       0037,    47.0020,  -162.6192,       5176,    10.8,2,  13.6077,2,  32.6397,2,  32.6375,2,   275.50,2,  274.44,2,    1.97,2,    0.20,2,    9.07,2,    0.16,2,   0.906,2,   3.040,2,   1.542,2,   0.316,2,   2.980,2,  2015.1,2,  2199.3,2,   59.22,2, -999.00,9,    32.7945,2,     602.88,2,       0.05,       0.01,       0.04,       0.01,      0.004,     0.0033,2,   13.60673,2,      0.770,1,     98.403,2,      0.357,1,      0.181,1,      0.028,1,     93.782,     0.2568,2,      0.265,1,      0.172,1,       0.45,2
49NZ20210713,        P01,      77,          1,          2,     X12B34,2,20210808,       0037,    47.0020,  -162.6192,       5176,    27.4,2,   9.7206,2,  32.7805,2,  32.7826,2,   303.58,2,  303.86,2,   11.50,2,    0.30,2,   12.08,2,    0.17,2,   1.143,2,-999.000,9,-999.000,9,-999.000,9,-999.000,9,  2047.1,2,  2208.7,2,   57.27,2, -999.00,9,    32.9410,2,     605.58,2,       0.07,       0.02,       0.05,       0.01,      0.005,     0.0054,2,    9.72694,2,      2.051,1,     31.879,2,      0.396,1,      0.211,1,      0.030,1,     94.486,     0.2269,2,      0.270,1,      0.201,1,       0.55,2
49NZ20210713,        P01,      77,          1,         35,     X12S35,2,20210808,       0037,    47.0020,  -162.6192,       5176,    50.4,2,   7.0870,2,  32.8611,2,  32.8650,2,   300.45,2,  299.73,2,   21.34,2,    1.01,2,   14.90,2,    0.24,2,   1.405,2,   4.133,2,   2.028,2,   0.384,2,   3.649,2,  2076.1,2,  2213.5,2,   51.98,2, -999.00,9,    33.0238,2,     607.13,2,       0.06,       0.03,       0.04,       0.01,      0.005,     0.0048,2,    7.09634,2,      0.547,1,      5.478,2,      0.356,1,      0.187,1,      0.030,1,     98.297,     0.0687,2,      0.133,1,      0.198,1,       0.25,2
49NZ20210713,        P01,      77,          1,         34,     X12S34,2,20210808,       0037,    47.0020,  -162.6192,       5176,    99.7,2,   5.3297,2,  32.9398,2,  32.9427,2,   305.88,2,  305.42,2,   23.57,2,    0.03,2,   18.32,2,    0.02,2,   1.517,2,   4.447,2,   2.144,2,   0.385,2,   3.946,2,  2091.3,2,  2217.1,2,   49.69,2, -999.00,9,    33.1017,2,     608.58,2,       0.07,       0.01,       0.06,       0.01,      0.005,     0.0048,2,    5.32999,2,      0.144,1,      0.275,2,      0.345,1,      0.175,1,      0.027,1,     99.394,     0.0243,2,      0.082,1,      0.198,1,       0.07,2
49NZ20210713,        P01,      77,          1,         33,     X12S33,2,20210808,       0037,    47.0020,  -162.6192,       5176,   150.2,2,   5.3223,2,  33.2232,2,  33.2324,2,   283.28,2,  282.67,2,   26.99,2,    0.03,2,   19.59,2,    0.02,2,   1.544,2,   4.267,2,   2.077,2,   0.319,2,   3.631,2,  2118.7,2,  2229.7,2,   48.14,2, -999.00,9,    33.3915,2,     614.03,2,       0.07,       0.01,       0.05,       0.01,      0.005,     0.0057,2,    5.31585,2,      0.081,1,      0.000,2,      0.344,1,      0.181,1,      0.027,1,     99.563,     0.0175,2,      0.076,1,      0.214,1,       0.03,2
49NZ20210713,        P01,      77,          1,         32,     X12S32,2,20210808,       0037,    47.0020,  -162.6192,       5176,   200.3,2,   5.2194,2,  33.6474,2,  33.6524,2,   219.17,2,  215.69,2,   41.87,2,    0.01,2,   25.11,2,    0.01,2,   1.844,2,   3.834,2,   1.888,2,   0.282,2,   2.832,2,  2179.3,2,  2255.9,2,   46.41,2, -999.00,9,    33.8196,2,     621.83,2,       0.09,       0.01,       0.06,       0.01,      0.005,     0.0084,2,    5.21683,2,      0.076,1,      0.000,2,      0.364,1,      0.200,1,      0.031,1,     99.396,     0.0242,2,      0.092,1,      0.256,1,       0.02,2
49NZ20210713,        P01,      77,          1,         31,     X12S31,2,20210808,       0037,    47.0020,  -162.6192,       5176,   249.4,2,   4.8755,2,  33.7522,2,  33.7542,2,   155.62,2,  154.58,2,   57.61,2,    0.00,2,   30.94,2,    0.01,2,   2.236,2,   3.328,2,   1.584,2,   0.233,2,   2.123,2,  2226.2,2,  2269.5,2,   44.59,2, -999.00,9,    33.9205,2,     623.63,2,       0.11,       0.01,       0.07,       0.01,      0.006,     0.0102,2,    4.87489,2,      0.073,1,      0.000,2,      0.414,1,      0.239,1,      0.044,1,     99.556,     0.0178,2,      0.073,1,      0.282,1,       0.02,2
49NZ20210713,        P01,      77,          1,         30,     X12S30,2,20210808,       0037,    47.0020,  -162.6192,       5176,   279.3,2,   4.6938,2,  33.7957,2,  33.7980,2,   127.58,2,  126.24,2,   65.83,2,    0.01,2,   33.77,2,    0.01,2,   2.429,2,   3.038,2,   1.503,2,   0.237,2,   1.728,2,  2251.1,2,  2278.3,2,   49.85,2, -999.00,9,    33.9660,2,     624.49,2,       0.12,       0.01,       0.07,       0.01,      0.006,     0.0109,2,    4.69433,2,      0.073,1,      0.000,2,      0.424,1,      0.247,1,      0.044,1,     99.561,     0.0176,2,      0.069,1,      0.297,1,     -999.0,9
49NZ20210713,        P01,      77,          1,         29,     X12S29,2,20210808,       0037,    47.0020,  -162.6192,       5176,   368.9,2,   4.4316,2,  33.9135,2,  33.9137,2,    82.54,2,   82.88,2,   81.00,2,    0.00,2,   38.10,2,    0.00,2,   2.702,2,   2.401,2,   1.161,2,   0.189,2,   1.161,2,  2285.7,2,  2292.3,2,   41.70,2, -999.00,9,    34.0834,2,     626.58,2,       0.14,       0.01,       0.08,       0.01,      0.006,     0.0117,2,    4.43057,2,      0.071,1,      0.000,2,      0.424,1,      0.250,1,      0.050,1,     99.577,     0.0169,2,      0.065,1,      0.306,1,     -999.0,9
49NZ20210713,        P01,      77,          1,         28,     X12S28,2,20210808,       0037,    47.0020,  -162.6192,       5176,   470.3,2,   4.1503,2,  34.0335,2,  34.0352,2,    55.46,2,   55.44,2,   96.02,2,    0.00,2,   40.58,2,    0.00,2,   2.887,2,   1.699,2,   0.903,2,   0.127,2,   0.704,2,  2315.4,2,  2309.2,2,   41.55,2, -999.00,9,    34.2067,2,     628.83,2,       0.27,       0.01,       0.09,       0.01,      0.006,     0.0124,2,    4.15138,2,      0.070,1,      0.000,2,      0.411,1,      0.243,1,      0.051,1,     99.710,     0.0116,2,      0.059,1,      0.316,1,     -999.0,9
49NZ20210713,        P01,      77,          1,         27,     X12S27,2,20210808,       0037,    47.0020,  -162.6192,       5176,   568.9,2,   3.8726,2,  34.1225,2,  34.1230,2,    39.01,2,   39.37,2,  108.30,2,    0.01,2,   41.95,2,    0.00,2,   2.979,2,   1.189,2,   0.647,2,   0.083,2,   0.433,2,  2335.3,2,  2324.3,2,   41.61,2, -999.00,9,    34.2977,2,     630.49,2,       0.18,       0.01,       0.09,       0.01,      0.011,     0.0127,2,    3.87320,2,      0.070,1,      0.000,2,      0.404,1,      0.236,1,      0.047,1,     99.819,     0.0073,2,      0.050,1,      0.323,1,     -999.0,9
49NZ20210713,        P01,      77,          1,         26,     X12S26,2,20210808,       0037,    47.0020,  -162.6192,       5176,   670.4,2,   3.6828,2,  34.2074,2,  34.2072,2,    33.54,2,   33.96,2,  117.42,2,    0.02,2,   42.44,2,    0.00,2,   3.015,2,   0.755,2,   0.429,2,   0.041,2,   0.230,2,  2346.4,6,  2338.3,2,   42.01,2, -999.00,9,    34.3851,2,     632.03,2,       0.23,       0.01,       0.09,       0.01,      0.006,     -999.0,9,    3.68307,2,      0.070,1,      0.000,2,     -999.0,9,     -999.0,9,     -999.0,9,     99.756,     0.0098,2,      0.049,1,      0.322,1,     -999.0,9
49NZ20210713,        P01,      77,          1,         25,     X12S25,2,20210808,       0037,    47.0020,  -162.6192,       5176,   769.5,2,   3.3852,2,  34.2648,2,  34.2646,2,    27.06,2,   27.33,2,  127.78,2,    0.02,2,   42.98,2,    0.00,2,   3.055,2,   0.512,2,   0.294,2,   0.027,2,   0.167,2,  2363.4,2,  2352.5,2,   39.48,2, -999.00,9,    34.4415,2,     633.03,2,       0.21,       0.01,       0.09,       0.01,      0.006,     0.0128,2,    3.38429,2,      0.071,1,      0.000,2,      0.395,1,      0.236,1,      0.051,1,     99.835,     0.0066,2,      0.045,1,      0.328,1,     -999.0,9
49NZ20210713,        P01,      77,          1,         24,     X12S24,2,20210808,       0037,    47.0020,  -162.6192,       5176,   868.4,2,   3.1938,2,  34.3115,2,  34.3114,2,    25.71,2,   25.80,2,  134.43,2,    0.02,2,   43.36,2,    0.00,2,   3.077,2,   0.352,2,   0.215,2,   0.024,2,   0.104,2,  2369.5,2,  2360.7,2,   37.54,2, -999.00,9,    34.4922,2,     633.93,2,       0.22,       0.01,       0.09,       0.01,      0.006,     -999.0,9,    3.19359,2,      0.070,1,      0.000,2,     -999.0,9,     -999.0,9,     -999.0,9,     99.837,     0.0065,2,      0.048,1,      0.332,1,     -999.0,9
49NZ20210713,        P01,      77,          1,         23,     X12S23,2,20210808,       0037,    47.0020,  -162.6192,       5176,   969.9,2,   3.0367,2,  34.3528,2,  34.3524,2,    25.75,2,   25.92,2,  139.63,2,    0.01,2,   43.44,2,    0.00,2,   3.090,2,   0.236,2,   0.145,2,   0.017,2,   0.073,2,  2373.1,2,  2367.2,2,   38.74,2, -999.00,9,    34.5311,2,     634.63,2,       0.22,       0.01,       0.09,       0.01,      0.006,     0.0129,2,    3.03703,2,      0.069,1,      0.000,2,      0.386,1,      0.231,1,      0.047,1,     99.851,     0.0060,2,      0.047,1,      0.329,1,     -999.0,9
49NZ20210713,        P01,      77,          1,         22,     X12S22,2,20210808,       0037,    47.0020,  -162.6192,       5176,  1129.9,2,   2.7721,2,  34.4062,2,  34.4066,2,    25.24,2,   25.44,2,  148.60,2,    0.01,2,   43.66,2,    0.00,2,   3.107,2,   0.131,2,   0.085,2,   0.005,2,   0.101,2,  2384.4,2,  2379.3,6,   36.98,2, -999.00,9,    34.5865,2,     635.63,2,       0.24,       0.01,       0.09,       0.01,      0.006,     -999.0,9,    2.77221,2,      0.069,1,      0.000,2,     -999.0,9,     -999.0,9,     -999.0,9,     99.849,     0.0060,2,      0.045,1,      0.333,1,     -999.0,9
49NZ20210713,        P01,      77,          1,         21,     X12S21,2,20210808,       0037,    47.0020,  -162.6192,       5176,  1328.5,2,   2.5121,2,  34.4622,2,  34.4616,2,    26.84,2,   26.82,2,  157.04,2,    0.02,2,   43.81,2,    0.00,2,   3.105,2,   0.058,2,   0.037,2,   0.002,2,   0.034,2,  2391.6,2,  2389.2,2,   36.51,2, -999.00,9,    34.6412,2,     636.63,2,       0.25,       0.01,       0.09,       0.01,      0.006,     0.0127,2,    2.51305,2,      0.068,1,      0.000,2,      0.371,1,      0.217,1,      0.043,1,     99.851,     0.0060,2,      0.045,1,      0.331,1,     -999.0,9
49NZ20210713,        P01,      77,          1,         20,     X12S20,2,20210808,       0037,    47.0020,  -162.6192,       5176,  1529.1,2,   2.3228,2,  34.5034,2,  34.5021,2,    30.43,2,   30.21,2,  163.16,2,    0.02,2,   43.83,2,    0.00,2,   3.091,2,   0.023,2,   0.014,2,   0.003,2,   0.033,2,  2393.3,2,  2397.2,2,   37.85,2, -999.00,9,    34.6828,2,     637.33,2,       0.25,       0.01,       0.09,       0.01,      0.006,     -999.0,9,    2.32297,2,      0.067,1,      0.000,2,     -999.0,9,     -999.0,9,     -999.0,9,     99.856,     0.0058,2,      0.045,1,      0.328,1,     -999.0,9
49NZ20210713,        P01,      77,          1,         19,     X12S19,2,20210808,       0037,    47.0020,  -162.6192,       5176,  1729.9,2,   2.1675,2,  34.5375,2,  34.5378,2,    38.15,2,   37.89,2,  167.03,2,    0.03,2,   43.38,2,    0.00,2,   3.049,2,   0.009,2,   0.005,2,   0.000,2,   0.000,2,  2398.0,2,  2404.5,2,   36.36,2, -999.00,9,    34.7190,2,     638.03,2,       0.26,       0.01,       0.09,       0.01,      0.006,     0.0126,2,    2.16658,2,      0.065,1,      0.000,2,      0.356,1,      0.209,1,      0.043,1,     99.881,     0.0047,2,      0.041,1,      0.327,1,     -999.0,9
49NZ20210713,        P01,      77,          1,         18,     X12S18,2,20210808,       0037,    47.0020,  -162.6192,       5176,  1930.9,2,   2.0232,2,  34.5685,2,  34.5685,2,    49.51,2,   49.38,2,  169.84,2,    0.02,2,   42.69,2,    0.00,2,   3.000,2,   0.004,2,   0.003,2,   0.003,2,   0.000,2,  2393.0,2,  2407.8,2,   35.90,2, -999.00,9,    34.7559,2,     638.63,2,       0.26,       0.01,       0.09,       0.01,      0.006,     -999.0,9,    2.02318,2,      0.064,1,      0.000,2,     -999.0,9,     -999.0,9,     -999.0,9,     99.907,     0.0037,2,      0.043,1,      0.321,1,     -999.0,9
49NZ20210713,        P01,      77,          1,         17,     X12S17,2,20210808,       0037,    47.0020,  -162.6192,       5176,  2132.0,2,   1.9073,2,  34.5927,2,  34.5930,2,    60.32,2,   60.38,2,  171.49,2,    0.01,2,   42.03,2,    0.00,2,   2.951,2,   0.000,2,   0.000,2,   0.000,2,   0.000,2,  2388.1,2,  2412.1,2,   35.85,2, -999.00,9,    34.7803,2,     639.08,2,       0.27,       0.01,       0.09,       0.01,      0.006,     0.0126,2,    1.90712,2,      0.062,1,      0.000,2,      0.347,1,      0.197,1,      0.038,1,     99.905,     0.0038,2,      0.043,1,      0.314,1,     -999.0,9
49NZ20210713,        P01,      77,          1,         16,     X12S16,2,20210808,       0037,    47.0020,  -162.6192,       5176,  2331.0,2,   1.8086,2,  34.6124,2,  34.6133,2,    71.60,2,   71.85,2,  172.51,2,    0.00,2,   41.51,2,    0.00,2,   2.900,2,   0.000,2,   0.000,2,   0.000,2,   0.000,2,  2384.4,6,  2416.0,2,   37.04,2, -999.00,9,    34.7968,2,     639.43,2,       0.27,       0.01,       0.09,       0.01,      0.006,     -999.0,9,    1.80779,2,      0.061,1,      0.000,2,     -999.0,9,     -999.0,9,     -999.0,9,     99.884,     0.0047,2,      0.042,1,      0.314,1,     -999.0,9
49NZ20210713,        P01,      77,          1,         15,     X12S15,2,20210808,       0037,    47.0020,  -162.6192,       5176,  2530.9,2,   1.7238,2,  34.6282,2,  34.6290,2,    84.24,2,   84.31,2,  171.79,2,    0.00,2,   40.71,2,    0.00,2,   2.850,2,   0.000,2,   0.000,2,   0.000,2,   0.000,2,  2376.5,2,  2418.4,2,   35.05,2, -999.00,9,    34.8107,2,     639.68,2,       0.27,       0.01,       0.09,       0.01,      0.006,     0.0114,2,    1.72388,2,      0.060,1,      0.000,2,      0.316,1,      0.179,1,      0.036,1,     99.900,     0.0040,2,      0.043,1,      0.312,1,     -999.0,9
49NZ20210713,        P01,      77,          1,         14,     X12S14,2,20210808,       0037,    47.0020,  -162.6192,       5176,  2728.5,2,   1.6593,2,  34.6399,2,  34.6403,2,    95.75,2,   95.69,2,  170.14,2,    0.01,2,   39.88,2,    0.00,2,   2.793,2,   0.000,2,   0.000,2,   0.001,2,   0.000,2,  2369.5,2,  2419.0,2,   37.23,2, -999.00,9,    34.8239,2,     639.93,2,       0.26,       0.01,       0.08,       0.01,      0.006,     -999.0,9,    1.65944,2,      0.059,1,      0.000,2,     -999.0,9,     -999.0,9,     -999.0,9,     99.907,     0.0037,2,      0.041,1,      0.304,1,     -999.0,9
49NZ20210713,        P01,      77,          1,         13,     X12S13,2,20210808,       0037,    47.0020,  -162.6192,       5176,  2929.9,2,   1.6049,2,  34.6500,2,  34.6505,2,   105.99,2,  105.88,2,  168.28,2,    0.03,2,   39.05,2,    0.00,2,   2.728,2,   0.000,2,   0.000,2,   0.000,2,   0.000,2,  2364.2,2,  2421.6,2,   36.71,2, -999.00,9,    34.8318,2,     640.08,2,       0.26,       0.01,       0.08,       0.01,      0.006,     0.0111,2,    1.60493,2,      0.058,1,      0.000,2,      0.309,1,      0.169,1,      0.030,1,     99.912,     0.0035,2,      0.045,1,      0.293,1,     -999.0,9
49NZ20210713,        P01,      77,          1,         12,     X12S12,2,20210808,       0037,    47.0020,  -162.6192,       5176,  3169.1,2,   1.5591,2,  34.6590,2,  34.6598,2,   116.36,2,  116.12,2,  166.49,2,    0.04,2,   38.46,2,    0.00,2,   2.684,2,   0.000,2,   0.000,2,   0.000,2,   0.000,2,  2356.7,2,  2419.8,6,   38.65,2, -999.00,9,    34.8417,2,     640.28,2,       0.26,       0.01,       0.08,       0.01,      0.006,     -999.0,9,    1.55911,2,      0.057,1,      0.000,2,     -999.0,9,     -999.0,9,     -999.0,9,     99.921,     0.0032,2,      0.040,1,      0.298,1,     -999.0,9
49NZ20210713,        P01,      77,          1,         11,     X12S11,2,20210808,       0037,    47.0020,  -162.6192,       5176,  3420.3,2,   1.5205,2,  34.6671,2,  34.6677,2,   126.13,2,  126.00,2,  164.38,2,    0.01,2,   37.84,2,    0.00,2,   2.634,2,   0.000,2,   0.000,2,   0.000,2,   0.000,2,  2347.9,2,  2419.3,2,   35.06,2, -999.00,9,    34.8515,2,     640.43,2,       0.26,       0.01,       0.08,       0.01,      0.006,     0.0104,2,    1.52044,2,      0.057,1,      0.000,2,      0.292,1,      0.157,1,      0.026,1,     99.930,     0.0028,2,      0.040,1,      0.291,1,     -999.0,9
49NZ20210713,        P01,      77,          1,         10,     X12S10,2,20210808,       0037,    47.0020,  -162.6192,       5176,  3672.6,2,   1.4924,2,  34.6737,2,  34.6748,2,   134.38,2,  134.25,2,  163.03,2,    0.02,2,   37.37,2,    0.00,2,   2.594,2,   0.000,2,   0.000,2,   0.000,2,   0.000,2,  2346.6,2,  2419.6,2,   36.36,2, -999.00,9,    34.8568,2,     640.49,2,       0.25,       0.01,       0.08,       0.01,      0.006,     -999.0,9,    1.49242,2,      0.056,1,      0.000,2,     -999.0,9,     -999.0,9,     -999.0,9,     99.933,     0.0027,2,      0.039,1,      0.289,1,     -999.0,9
49NZ20210713,        P01,      77,          1,          9,     X12S09,2,20210808,       0037,    47.0020,  -162.6192,       5176,  3919.4,2,   1.4847,2,  34.6782,2,  34.6790,2,   139.39,2,  139.41,2,  163.16,2,    0.02,2,   37.10,2,    0.00,2,   2.568,2,   0.000,2,   0.000,2,   0.000,2,   0.000,2,  2341.1,2,  2423.6,2,   36.61,2, -999.00,9,    34.8614,2,     640.58,2,       0.25,       0.01,       0.08,       0.01,      0.006,     0.0101,2,    1.48466,2,      0.056,1,      0.000,2,      0.287,1,      0.153,1,      0.022,1,     99.933,     0.0027,2,      0.041,1,      0.292,1,     -999.0,9
49NZ20210713,        P01,      77,          1,          8,     X12S08,2,20210808,       0037,    47.0020,  -162.6192,       5176,  4172.0,2,   1.4888,2,  34.6814,2,  34.6818,2,   142.81,2,  142.81,2,  164.01,2,    0.01,2,   36.79,2,    0.00,2,   2.550,2,   0.000,2,   0.000,2,   0.000,2,   0.000,2,  2341.9,6,  2424.5,2,   36.71,2, -999.00,9,    34.8659,2,     640.68,2,       0.26,       0.01,       0.08,       0.01,      0.006,     -999.0,9,    1.48872,2,      0.055,1,      0.000,2,     -999.0,9,     -999.0,9,     -999.0,9,     99.951,     0.0020,2,      0.038,1,      0.294,1,     -999.0,9
49NZ20210713,        P01,      77,          1,          7,     X12S07,2,20210808,       0037,    47.0020,  -162.6192,       5176,  4420.1,2,   1.5025,2,  34.6834,2,  34.6840,2,   144.99,2,  144.99,2,  164.92,2,    0.02,2,   36.65,2,    0.00,2,   2.538,2,   0.000,2,   0.000,2,   0.000,2,   0.000,2,  2339.0,2,  2424.0,2,   35.57,2, -999.00,9,    34.8660,2,     640.58,2,       0.26,       0.01,       0.08,       0.01,      0.006,     0.0100,2,    1.50242,2,      0.055,1,      0.000,2,      0.287,1,      0.151,1,      0.022,1,     99.965,     0.0014,2,      0.037,1,      0.288,1,     -999.0,9