BOTTLE,20231011CCHSIOENA
EXPOCODE,SECT_ID,STNNBR,CASTNO,SAMPNO,BTLNBR,BTLNBR_FLAG_W,DATE,TIME,LATITUDE,LONGITUDE,DEPTH,CTDPRS,CTDPRS_FLAG_W,CTDTMP,CTDTMP_FLAG_W,CTDSAL,CTDSAL_FLAG_W,SALNTY,SALNTY_FLAG_W,CTDOXY,CTDOXY_FLAG_W,OXYGEN,OXYGEN_FLAG_W,SILCAT,SILCAT_FLAG_W,NH4,NH4_FLAG_W,NITRAT,NITRAT_FLAG_W,NITRIT,NITRIT_FLAG_W,PHSPHT,PHSPHT_FLAG_W,CFC-11,CFC-11_FLAG_W,CFC-12,CFC-12_FLAG_W,CFC113,CFC113_FLAG_W,SF6,SF6_FLAG_W,TCARBN,TCARBN_FLAG_W,ALKALI,ALKALI_FLAG_W,DOC,DOC_FLAG_W,TDN,TDN_FLAG_W,DNSSAL,DNSSAL_FLAG_W,RIANOMALY,RIANOMALY_FLAG_W,SILUNC,NH4UNC,NRAUNC,NRIUNC,PHPUNC,FDOM,FDOM_FLAG_W,REFTMP,REFTMP_FLAG_W,CTDFLUOR,CTDFLUOR_FLAG_W,PAR,PAR_FLAG_W,CDOM300,CDOM300_FLAG_W,CDOM325,CDOM325_FLAG_W,CDOM443,CDOM443_FLAG_W,CTDXMISS,CTDBEAMCP,CTDBEAMCP_FLAG_W,CTDTURB,CTDTURB_FLAG_W,CTDCDOM,CTDCDOM_FLAG_W,CHLORA,CHLORA_FLAG_W
,,,,,,,,,,,METERS,DBAR,,ITS-90,,PSS-78,,PSS-78,,UMOL/KG,,UMOL/KG,,UMOL/KG,,UMOL/KG,,UMOL/KG,,UMOL/KG,,UMOL/KG,,PMOL/KG,,PMOL/KG,,PMOL/KG,,FMOL/KG,,UMOL/KG,,UMOL/KG,,UMOL/KG,,UMOL/KG,,G/KG,,ND,,UMOL/KG,UMOL/KG,UMOL/KG,UMOL/KG,UMOL/KG,RFU,,ITS-90,,MG/M^3,,UMOL/M^2/SEC,,/METER,,/METER,,/METER,,%TRANS,/METER,,FTU,,QSU,,UG/L,
49NZ20210713,        P01,      70,          1,          6,     X12S06,2,20210805,       1859,    46.9960,  -170.4249,       5434,  4672.4,2,   1.5119,2,  34.6860,2,  34.6852,2,   149.10,2,  148.82,2,  161.99,2,    0.02,2,   36.50,2,    0.00,2,   2.525,2,   0.000,2,   0.000,2,   0.000,2,   0.000,2,  2331.6,2,  2422.1,6,   35.58,2, -999.00,9,    34.8685,2,     640.74,2,       0.25,       0.01,       0.08,       0.01,      0.006,     -999.0,9,    1.51191,2,      0.054,1,      0.000,2,     -999.0,9,     -999.0,9,     -999.0,9,     99.977,     0.0009,2,      0.034,1,      0.326,1,     -999.0,9
49NZ20210713,        P01,      70,          1,          5,     X12S05,2,20210805,       1859,    46.9960,  -170.4249,       5434,  4921.4,2,   1.5393,2,  34.6865,2,  34.6862,2,   149.68,2,  149.48,2,  162.36,2,    0.02,2,   36.45,2,    0.00,2,   2.525,2,   0.001,2,   0.000,2,   0.000,2,   0.000,2,  2331.5,2,  2419.9,2,   35.91,2, -999.00,9,    34.8692,2,     640.74,2,       0.25,       0.01,       0.08,       0.01,      0.006,     0.0102,2,    1.53938,2,      0.054,1,      0.000,2,      0.316,1,      0.184,1,      0.039,1,     99.973,     0.0011,2,      0.033,1,      0.322,1,     -999.0,9
49NZ20210713,        P01,      70,          1,          4,     X12S04,2,20210805,       1859,    46.9960,  -170.4249,       5434,  5169.4,2,   1.5659,2,  34.6869,2,  34.6867,2,   150.80,2,  150.62,2,  161.75,2,    0.01,2,   36.31,2,    0.00,2,   2.521,2,   0.000,2,   0.000,2,   0.000,2,   0.000,2,  2330.0,2,  2420.3,2,   35.57,2, -999.00,9,    34.8699,2,     640.68,2,       0.25,       0.01,       0.08,       0.01,      0.006,     0.0100,2,    1.56588,2,      0.053,1,      0.000,2,      0.299,1,      0.169,1,      0.031,1,     99.957,     0.0017,2,      0.036,1,      0.322,1,     -999.0,9
49NZ20210713,        P01,      70,          1,          3,     X12S03,2,20210805,       1859,    46.9960,  -170.4249,       5434,  5419.7,2,   1.5936,2,  34.6876,2,  34.6873,2,   151.90,2,  151.98,2,  161.28,2,    0.02,2,   36.25,2,    0.00,2,   2.516,2,   0.000,2,   0.003,2,   0.000,2,   0.000,2,  2327.4,2,  2422.6,2,   35.79,2, -999.00,9,    34.8684,2,     640.74,2,       0.25,       0.01,       0.08,       0.01,      0.006,     0.0097,2,    1.59371,2,      0.054,1,      0.000,2,      0.291,1,      0.161,1,      0.025,1,     99.850,     0.0060,2,      0.044,1,      0.320,1,     -999.0,9
49NZ20210713,        P01,      70,          1,          1,     X12S01,2,20210805,       1859,    46.9960,  -170.4249,       5434,  5522.4,2,   1.6073,2,  34.6876,2,  34.6869,2,   152.00,2,  151.93,2,  161.32,2,    0.02,2,   36.24,2,    0.00,2,   2.514,2,   0.001,2,   0.003,2,   0.002,2,   0.000,2,  2331.9,2,  2416.9,2,   34.49,2, -999.00,9,    34.8699,2,     640.88,2,       0.25,       0.01,       0.08,       0.01,      0.006,     0.0100,2,    1.60733,2,      0.053,1,      0.000,2,      0.289,1,      0.159,1,      0.020,1,     99.838,     0.0065,2,      0.044,1,      0.321,1,     -999.0,9