BOTTLE,20231011CCHSIOENA
EXPOCODE,SECT_ID,STNNBR,CASTNO,SAMPNO,BTLNBR,BTLNBR_FLAG_W,DATE,TIME,LATITUDE,LONGITUDE,DEPTH,CTDPRS,CTDPRS_FLAG_W,CTDTMP,CTDTMP_FLAG_W,CTDSAL,CTDSAL_FLAG_W,SALNTY,SALNTY_FLAG_W,CTDOXY,CTDOXY_FLAG_W,OXYGEN,OXYGEN_FLAG_W,SILCAT,SILCAT_FLAG_W,NH4,NH4_FLAG_W,NITRAT,NITRAT_FLAG_W,NITRIT,NITRIT_FLAG_W,PHSPHT,PHSPHT_FLAG_W,CFC-11,CFC-11_FLAG_W,CFC-12,CFC-12_FLAG_W,CFC113,CFC113_FLAG_W,SF6,SF6_FLAG_W,TCARBN,TCARBN_FLAG_W,ALKALI,ALKALI_FLAG_W,DOC,DOC_FLAG_W,TDN,TDN_FLAG_W,DNSSAL,DNSSAL_FLAG_W,RIANOMALY,RIANOMALY_FLAG_W,SILUNC,NH4UNC,NRAUNC,NRIUNC,PHPUNC,FDOM,FDOM_FLAG_W,REFTMP,REFTMP_FLAG_W,CTDFLUOR,CTDFLUOR_FLAG_W,PAR,PAR_FLAG_W,CDOM300,CDOM300_FLAG_W,CDOM325,CDOM325_FLAG_W,CDOM443,CDOM443_FLAG_W,CTDXMISS,CTDBEAMCP,CTDBEAMCP_FLAG_W,CTDTURB,CTDTURB_FLAG_W,CTDCDOM,CTDCDOM_FLAG_W,CHLORA,CHLORA_FLAG_W
,,,,,,,,,,,METERS,DBAR,,ITS-90,,PSS-78,,PSS-78,,UMOL/KG,,UMOL/KG,,UMOL/KG,,UMOL/KG,,UMOL/KG,,UMOL/KG,,UMOL/KG,,PMOL/KG,,PMOL/KG,,PMOL/KG,,FMOL/KG,,UMOL/KG,,UMOL/KG,,UMOL/KG,,UMOL/KG,,G/KG,,ND,,UMOL/KG,UMOL/KG,UMOL/KG,UMOL/KG,UMOL/KG,RFU,,ITS-90,,MG/M^3,,UMOL/M^2/SEC,,/METER,,/METER,,/METER,,%TRANS,/METER,,FTU,,QSU,,UG/L,
49NZ20210713,        P01,      68,          1,          5,     X12S05,2,20210805,       0212,    46.9894,  -172.7045,       5798,  5080.5,2,   1.5555,2,  34.6867,2,  34.6860,2,   150.77,2,  150.71,2,  161.55,2,    0.02,2,   36.29,2,    0.00,2,   2.504,2,   0.000,2,   0.001,2,   0.000,2,   0.000,2,  2330.1,2,  2420.8,2,   42.38,4, -999.00,9,    34.8689,2,     640.75,2,       0.25,       0.01,       0.08,       0.01,      0.006,     0.0101,2,    1.55550,2,      0.054,1,      0.000,2,      0.252,1,      0.130,1,      0.011,1,     99.979,     0.0009,2,      0.048,1,      0.337,1,     -999.0,9
49NZ20210713,        P01,      68,          1,          4,     X12S04,2,20210805,       0212,    46.9894,  -172.7045,       5798,  5329.6,2,   1.5831,2,  34.6872,2,  34.6873,2,   151.77,2,  151.85,2,  161.07,2,    0.02,2,   36.18,2,    0.00,2,   2.500,2,   0.000,2,   0.002,2,   0.000,2,   0.000,2,  2331.1,2,  2421.5,2,   40.27,2, -999.00,9,    34.8701,2,     640.75,2,       0.25,       0.01,       0.08,       0.01,      0.006,     0.0096,2,    1.58321,2,      0.054,1,      0.000,2,      0.275,1,      0.149,1,      0.019,1,     99.960,     0.0016,2,      0.047,1,      0.330,1,     -999.0,9
49NZ20210713,        P01,      68,          1,          3,     X12S03,2,20210805,       0212,    46.9894,  -172.7045,       5798,  5580.3,2,   1.6119,2,  34.6875,2,  34.6874,2,   152.80,2,  152.88,2,  159.83,2,    0.01,2,   36.13,2,    0.00,2,   2.493,2,   0.001,2,   0.002,2,   0.000,2,   0.000,2,  2333.5,2,  2420.9,2,   38.45,2, -999.00,9,    34.8706,2,     640.80,2,       0.25,       0.01,       0.08,       0.01,      0.006,     0.0097,2,    1.61198,2,      0.053,1,      0.000,2,      0.271,1,      0.150,1,      0.018,1,     99.916,     0.0034,2,      0.050,1,      0.341,1,     -999.0,9
49NZ20210713,        P01,      68,          1,          2,     X12B34,2,20210805,       0212,    46.9894,  -172.7045,       5798,  5829.6,2,   1.6436,2,  34.6878,2,  34.6877,2,   153.34,2,  153.40,2,  159.24,2,    0.01,2,   36.10,2,    0.00,2,   2.491,2,   0.000,2,   0.001,2,   0.000,2,   0.000,2,  2328.9,2,  2417.7,2,   44.02,4, -999.00,9,    34.8708,2,     640.80,2,       0.25,       0.01,       0.08,       0.01,      0.006,     0.0099,2,    1.64366,2,      0.053,1,      0.000,2,      0.274,1,      0.146,1,      0.022,1,     99.832,     0.0067,2,      0.056,1,      0.330,1,     -999.0,9
49NZ20210713,        P01,      68,          1,          1,     X12S01,2,20210805,       0212,    46.9894,  -172.7045,       5798,  5906.9,2,   1.6543,2,  34.6877,2,  34.6874,2,   153.40,2,  153.48,2,  159.17,2,    0.00,2,   36.13,2,    0.00,2,   2.488,2,   0.001,2,   0.003,2,   0.000,2,   0.000,2,  2330.3,2,  2416.0,2,   41.63,4, -999.00,9,    34.8720,2,     640.95,2,       0.25,       0.01,       0.08,       0.01,      0.006,     0.0096,2,    1.65432,2,      0.053,1,      0.000,2,      0.287,1,      0.156,1,      0.019,1,     99.825,     0.0070,2,      0.056,1,      0.329,1,     -999.0,9
49NZ20210713,        P01,      69,          1,          2,     X12B34,2,20210805,       1056,    47.0084,  -171.5581,       5710,     5.7,2,  12.7147,2,  32.7117,2,-999.0000,9,   283.75,2, -999.00,9, -999.00,9, -999.00,9, -999.00,9, -999.00,9,-999.000,9,-999.000,9,-999.000,9,-999.000,9,-999.000,9,  -999.0,9,  -999.0,9, -999.00,9, -999.00,9,     -999.0,9,     -999.0,9,     -999.0,     -999.0,     -999.0,     -999.0,     -999.0,     -999.0,9,   12.69694,2,      2.087,1,      0.638,2,     -999.0,9,     -999.0,9,     -999.0,9,     92.837,     0.2973,2,      0.246,1,      0.179,1,     -999.0,9