BOTTLE,20231011CCHSIOENA
EXPOCODE,SECT_ID,STNNBR,CASTNO,SAMPNO,BTLNBR,BTLNBR_FLAG_W,DATE,TIME,LATITUDE,LONGITUDE,DEPTH,CTDPRS,CTDPRS_FLAG_W,CTDTMP,CTDTMP_FLAG_W,CTDSAL,CTDSAL_FLAG_W,SALNTY,SALNTY_FLAG_W,CTDOXY,CTDOXY_FLAG_W,OXYGEN,OXYGEN_FLAG_W,SILCAT,SILCAT_FLAG_W,NH4,NH4_FLAG_W,NITRAT,NITRAT_FLAG_W,NITRIT,NITRIT_FLAG_W,PHSPHT,PHSPHT_FLAG_W,CFC-11,CFC-11_FLAG_W,CFC-12,CFC-12_FLAG_W,CFC113,CFC113_FLAG_W,SF6,SF6_FLAG_W,TCARBN,TCARBN_FLAG_W,ALKALI,ALKALI_FLAG_W,DOC,DOC_FLAG_W,TDN,TDN_FLAG_W,DNSSAL,DNSSAL_FLAG_W,RIANOMALY,RIANOMALY_FLAG_W,SILUNC,NH4UNC,NRAUNC,NRIUNC,PHPUNC,FDOM,FDOM_FLAG_W,REFTMP,REFTMP_FLAG_W,CTDFLUOR,CTDFLUOR_FLAG_W,PAR,PAR_FLAG_W,CDOM300,CDOM300_FLAG_W,CDOM325,CDOM325_FLAG_W,CDOM443,CDOM443_FLAG_W,CTDXMISS,CTDBEAMCP,CTDBEAMCP_FLAG_W,CTDTURB,CTDTURB_FLAG_W,CTDCDOM,CTDCDOM_FLAG_W,CHLORA,CHLORA_FLAG_W
,,,,,,,,,,,METERS,DBAR,,ITS-90,,PSS-78,,PSS-78,,UMOL/KG,,UMOL/KG,,UMOL/KG,,UMOL/KG,,UMOL/KG,,UMOL/KG,,UMOL/KG,,PMOL/KG,,PMOL/KG,,PMOL/KG,,FMOL/KG,,UMOL/KG,,UMOL/KG,,UMOL/KG,,UMOL/KG,,G/KG,,ND,,UMOL/KG,UMOL/KG,UMOL/KG,UMOL/KG,UMOL/KG,RFU,,ITS-90,,MG/M^3,,UMOL/M^2/SEC,,/METER,,/METER,,/METER,,%TRANS,/METER,,FTU,,QSU,,UG/L,
49NZ20210713,        P01,      56,          1,          6,     X12S06,2,20210731,       2211,    47.0060,   173.8356,       5768,  4830.2,2,   1.5170,2,  34.6872,2,  34.6871,2,   152.97,2,  152.70,2,  158.33,2,    0.02,2,   36.13,2,    0.00,2,   2.491,2,   0.002,2,   0.001,2,   0.000,2,   0.000,2,  2325.8,2,  2415.4,6,   38.06,2, -999.00,9,    34.8681,2,     640.76,2,       0.25,       0.01,       0.09,       0.01,      0.006,     -999.0,9,    1.51688,2,      0.054,1,      0.000,2,     -999.0,9,     -999.0,9,     -999.0,9,     99.985,     0.0006,2,      0.047,1,      0.347,1,     -999.0,9
49NZ20210713,        P01,      56,          1,          5,     X12S05,2,20210731,       2211,    47.0060,   173.8356,       5768,  5082.6,2,   1.5473,2,  34.6874,2,  34.6871,2,   153.17,2,  153.01,2,  158.39,2,    0.01,2,   36.12,2,    0.00,2,   2.492,2,   0.002,2,   0.001,2,   0.000,2,   0.000,2,  2325.4,2,  2416.5,2,   36.35,2, -999.00,9,    34.8701,2,     640.76,2,       0.25,       0.01,       0.08,       0.01,      0.006,     0.0097,2,    1.54733,2,      0.054,1,      0.000,2,      0.287,1,      0.156,1,      0.029,1,     99.962,     0.0015,2,      0.046,1,      0.351,1,     -999.0,9
49NZ20210713,        P01,      56,          1,          4,     X12S04,2,20210731,       2211,    47.0060,   173.8356,       5768,  5329.9,2,   1.5770,2,  34.6876,2,  34.6868,2,   153.76,2,  153.53,2,  157.75,2,    0.00,2,   36.05,2,    0.00,2,   2.488,2,   0.001,2,   0.001,2,   0.000,2,   0.000,2,  2324.5,2,  2415.5,2,   38.61,2, -999.00,9,    34.8680,2,     640.76,2,       0.25,       0.01,       0.00,       0.01,      0.006,     0.0102,2,    1.57696,2,      0.054,1,      0.000,2,      0.311,1,      0.184,1,      0.036,1,     99.914,     0.0035,2,      0.051,1,      0.352,1,     -999.0,9
49NZ20210713,        P01,      56,          1,          3,     X12S03,2,20210731,       2211,    47.0060,   173.8356,       5768,  5579.9,2,   1.6090,2,  34.6877,2,  34.6866,2,   154.00,2,  153.84,2,  157.37,2,    0.00,2,   36.07,2,    0.00,2,   2.488,2,   0.007,2,   0.002,2,   0.001,2,   0.014,2,  2324.2,2,  2415.5,2,   37.05,2, -999.00,9,    34.8691,2,     640.81,2,       0.25,       0.01,       0.08,       0.01,      0.006,     0.0102,2,    1.60899,2,      0.054,1,      0.000,2,      0.335,1,      0.200,1,      0.037,1,     99.888,     0.0045,2,      0.050,1,      0.348,1,     -999.0,9
49NZ20210713,        P01,      56,          1,          1,     X12S01,2,20210731,       2211,    47.0060,   173.8356,       5768,  5795.6,2,   1.6381,2,  34.6876,2,  34.6872,2,   154.14,2,  154.07,2,  157.16,2,    0.01,2,   36.04,2,    0.00,2,   2.488,2,   0.001,2,   0.001,2,   0.000,2,   0.008,2,  2321.1,2,  2414.9,2,   37.14,2, -999.00,9,    34.8664,2,     640.76,2,       0.25,       0.01,       0.08,       0.01,      0.006,     0.0101,2,    1.63804,2,      0.053,1,      0.000,2,      0.340,1,      0.205,1,      0.040,1,     99.865,     0.0054,2,      0.053,1,      0.338,1,     -999.0,9