BOTTLE,20231011CCHSIOENA
EXPOCODE,SECT_ID,STNNBR,CASTNO,SAMPNO,BTLNBR,BTLNBR_FLAG_W,DATE,TIME,LATITUDE,LONGITUDE,DEPTH,CTDPRS,CTDPRS_FLAG_W,CTDTMP,CTDTMP_FLAG_W,CTDSAL,CTDSAL_FLAG_W,SALNTY,SALNTY_FLAG_W,CTDOXY,CTDOXY_FLAG_W,OXYGEN,OXYGEN_FLAG_W,SILCAT,SILCAT_FLAG_W,NH4,NH4_FLAG_W,NITRAT,NITRAT_FLAG_W,NITRIT,NITRIT_FLAG_W,PHSPHT,PHSPHT_FLAG_W,CFC-11,CFC-11_FLAG_W,CFC-12,CFC-12_FLAG_W,CFC113,CFC113_FLAG_W,SF6,SF6_FLAG_W,TCARBN,TCARBN_FLAG_W,ALKALI,ALKALI_FLAG_W,DOC,DOC_FLAG_W,TDN,TDN_FLAG_W,DNSSAL,DNSSAL_FLAG_W,RIANOMALY,RIANOMALY_FLAG_W,SILUNC,NH4UNC,NRAUNC,NRIUNC,PHPUNC,FDOM,FDOM_FLAG_W,REFTMP,REFTMP_FLAG_W,CTDFLUOR,CTDFLUOR_FLAG_W,PAR,PAR_FLAG_W,CDOM300,CDOM300_FLAG_W,CDOM325,CDOM325_FLAG_W,CDOM443,CDOM443_FLAG_W,CTDXMISS,CTDBEAMCP,CTDBEAMCP_FLAG_W,CTDTURB,CTDTURB_FLAG_W,CTDCDOM,CTDCDOM_FLAG_W,CHLORA,CHLORA_FLAG_W
,,,,,,,,,,,METERS,DBAR,,ITS-90,,PSS-78,,PSS-78,,UMOL/KG,,UMOL/KG,,UMOL/KG,,UMOL/KG,,UMOL/KG,,UMOL/KG,,UMOL/KG,,PMOL/KG,,PMOL/KG,,PMOL/KG,,FMOL/KG,,UMOL/KG,,UMOL/KG,,UMOL/KG,,UMOL/KG,,G/KG,,ND,,UMOL/KG,UMOL/KG,UMOL/KG,UMOL/KG,UMOL/KG,RFU,,ITS-90,,MG/M^3,,UMOL/M^2/SEC,,/METER,,/METER,,/METER,,%TRANS,/METER,,FTU,,QSU,,UG/L,
49NZ20210713,        P01,      74,          1,          6,     X12S06,2,20210807,       0147,    47.0100,  -165.9831,       5342,  4830.7,2,   1.5280,2,  34.6863,2,  34.6856,2,   149.57,2,  149.40,2,  162.35,2,    0.01,2,   36.30,2,    0.00,2,   2.518,2,   0.001,2,   0.000,2,   0.001,2,   0.000,2,  2333.8,2,  2420.8,6,   38.64,2, -999.00,9,    34.8699,2,     640.69,2,       0.25,       0.01,       0.08,       0.01,      0.006,     -999.0,9,    1.52816,2,      0.054,1,      0.000,2,     -999.0,9,     -999.0,9,     -999.0,9,     99.972,     0.0011,2,      0.038,1,      0.301,1,     -999.0,9
49NZ20210713,        P01,      74,          1,          5,     X12S05,2,20210807,       0147,    47.0100,  -165.9831,       5342,  5079.8,2,   1.5538,2,  34.6870,2,  34.6862,2,   150.70,2,  150.52,2,  162.74,2,    0.00,2,   36.25,2,    0.00,2,   2.508,2,   0.000,2,   0.000,2,   0.000,2,   0.000,2,  2333.2,2,  2419.6,2,   36.48,2, -999.00,9,    34.8710,2,     640.63,2,       0.25,       0.01,       0.08,       0.01,      0.006,     0.0099,2,    1.55392,2,      0.054,1,      0.000,2,      0.298,1,      0.168,1,      0.023,1,     99.979,     0.0009,2,      0.035,1,      0.304,1,     -999.0,9
49NZ20210713,        P01,      74,          1,          4,     X12S04,2,20210807,       0147,    47.0100,  -165.9831,       5342,  5328.6,2,   1.5821,2,  34.6875,2,  34.6872,2,   151.75,2,  151.72,2,  162.48,2,    0.00,2,   36.21,2,    0.00,2,   2.506,2,   0.004,2,   0.001,2,   0.002,2,   0.010,2,  2329.9,2,  2419.3,2,   39.66,3, -999.00,9,    34.8701,2,     640.59,2,       0.27,       0.01,       0.08,       0.01,      0.006,     0.0097,2,    1.58220,2,      0.054,1,      0.000,2,      0.292,1,      0.166,1,      0.019,1,     99.895,     0.0042,2,      0.039,1,      0.304,1,     -999.0,9
49NZ20210713,        P01,      74,          1,          1,     X12S01,2,20210807,       0147,    47.0100,  -165.9831,       5342,  5434.8,2,   1.5955,2,  34.6876,2,  34.6873,2,   151.99,2,  151.82,2,  162.15,2,    0.00,2,   36.17,2,    0.00,2,   2.506,2,   0.012,2,   0.005,2,   0.000,2,   0.000,2,  2330.4,2,  2419.9,2,   40.33,3, -999.00,9,    34.8701,2,     640.78,2,       0.25,       0.01,       0.08,       0.01,      0.006,     0.0098,2,    1.59556,2,      0.054,1,      0.000,2,      0.307,1,      0.173,1,      0.027,1,     99.844,     0.0062,2,      0.043,1,      0.298,1,     -999.0,9
49NZ20210713,        P01,      75,          1,          2,     X12B34,2,20210807,       0946,    46.9912,  -164.9858,       5333,     5.8,2,  13.3402,2,  32.7495,2,-999.0000,9,   280.37,2, -999.00,9, -999.00,9, -999.00,9, -999.00,9, -999.00,9,-999.000,9,-999.000,9,-999.000,9,-999.000,9,-999.000,9,  -999.0,9,  -999.0,9, -999.00,9, -999.00,9,     -999.0,9,     -999.0,9,     -999.0,     -999.0,     -999.0,     -999.0,     -999.0,     -999.0,9,   13.34182,2,      1.956,1,      0.446,2,     -999.0,9,     -999.0,9,     -999.0,9,     93.069,     0.2873,2,      0.351,1,      0.181,1,     -999.0,9