BOTTLE,20231011CCHSIOENA
EXPOCODE,SECT_ID,STNNBR,CASTNO,SAMPNO,BTLNBR,BTLNBR_FLAG_W,DATE,TIME,LATITUDE,LONGITUDE,DEPTH,CTDPRS,CTDPRS_FLAG_W,CTDTMP,CTDTMP_FLAG_W,CTDSAL,CTDSAL_FLAG_W,SALNTY,SALNTY_FLAG_W,CTDOXY,CTDOXY_FLAG_W,OXYGEN,OXYGEN_FLAG_W,SILCAT,SILCAT_FLAG_W,NH4,NH4_FLAG_W,NITRAT,NITRAT_FLAG_W,NITRIT,NITRIT_FLAG_W,PHSPHT,PHSPHT_FLAG_W,CFC-11,CFC-11_FLAG_W,CFC-12,CFC-12_FLAG_W,CFC113,CFC113_FLAG_W,SF6,SF6_FLAG_W,TCARBN,TCARBN_FLAG_W,ALKALI,ALKALI_FLAG_W,DOC,DOC_FLAG_W,TDN,TDN_FLAG_W,DNSSAL,DNSSAL_FLAG_W,RIANOMALY,RIANOMALY_FLAG_W,SILUNC,NH4UNC,NRAUNC,NRIUNC,PHPUNC,FDOM,FDOM_FLAG_W,REFTMP,REFTMP_FLAG_W,CTDFLUOR,CTDFLUOR_FLAG_W,PAR,PAR_FLAG_W,CDOM300,CDOM300_FLAG_W,CDOM325,CDOM325_FLAG_W,CDOM443,CDOM443_FLAG_W,CTDXMISS,CTDBEAMCP,CTDBEAMCP_FLAG_W,CTDTURB,CTDTURB_FLAG_W,CTDCDOM,CTDCDOM_FLAG_W,CHLORA,CHLORA_FLAG_W
,,,,,,,,,,,METERS,DBAR,,ITS-90,,PSS-78,,PSS-78,,UMOL/KG,,UMOL/KG,,UMOL/KG,,UMOL/KG,,UMOL/KG,,UMOL/KG,,UMOL/KG,,PMOL/KG,,PMOL/KG,,PMOL/KG,,FMOL/KG,,UMOL/KG,,UMOL/KG,,UMOL/KG,,UMOL/KG,,G/KG,,ND,,UMOL/KG,UMOL/KG,UMOL/KG,UMOL/KG,UMOL/KG,RFU,,ITS-90,,MG/M^3,,UMOL/M^2/SEC,,/METER,,/METER,,/METER,,%TRANS,/METER,,FTU,,QSU,,UG/L,
49NZ20210713,        P01,      58,          1,         36,     X12S36,2,20210801,       1418,    46.9952,   176.0940,       5697,    16.8,2,  10.2782,2,  33.0072,2,  32.9981,2,   299.74,2,  299.48,2,   23.02,2,    0.22,2,   15.45,2,    0.19,2,   1.349,2,   3.628,2,   2.054,2,   0.345,2,   3.425,2,  2071.9,2,  2227.7,2,   56.79,2, -999.00,9,    33.1561,2,     609.60,2,       0.07,       0.02,       0.04,       0.01,      0.006,     0.0037,2,   10.24822,2,      2.082,1,      0.031,2,      0.423,1,      0.242,1,      0.044,1,     94.824,     0.2126,2,      0.201,1,      0.204,1,       0.75,2
49NZ20210713,        P01,      58,          1,         35,     X12S35,2,20210801,       1418,    46.9952,   176.0940,       5697,    49.7,2,   5.7639,2,  33.2077,2,  33.2125,2,   313.77,2,  313.62,2,   28.04,2,    0.40,2,   17.68,2,    0.28,2,   1.511,2,   4.444,2,   2.449,2,   0.421,2,   3.861,2,  2106.6,2,  2239.1,2,   53.80,2, -999.00,9,    33.3723,2,     613.60,2,       0.07,       0.02,       0.04,       0.01,      0.005,     0.0054,2,    5.75802,2,      1.519,1,      0.000,2,      0.441,1,      0.252,1,      0.044,1,     97.435,     0.1039,2,      0.120,1,      0.231,1,       0.48,2
49NZ20210713,        P01,      58,          1,         34,     X12S34,3,20210801,       1418,    46.9952,   176.0940,       5697,    99.9,2,   4.8492,2,  33.3095,2,  33.3138,2,   303.67,2,  304.38,2,   30.50,2,    0.02,2,   19.58,2,    0.01,2,   1.543,2,   4.451,2,   2.507,2,   0.403,2,   4.037,2,  2116.7,2,  2239.1,2,   52.10,2, -999.00,9,    33.4738,2,     615.50,2,       0.08,       0.01,       0.05,       0.01,      0.005,     0.0054,2,    4.85081,2,      0.213,1,      0.000,2,      0.362,1,      0.195,1,      0.030,1,     99.471,     0.0212,2,      0.073,1,      0.233,1,       0.12,2
49NZ20210713,        P01,      58,          1,         33,     X12S33,2,20210801,       1418,    46.9952,   176.0940,       5697,   149.9,2,   3.9659,2,  33.3609,2,  33.3646,2,   296.38,2,  297.15,2,   36.24,2,    0.01,2,   21.98,2,    0.01,2,   1.693,2,   4.567,2,   2.545,2,   0.400,2,   3.833,2,  2138.4,2,  2242.8,2,   49.60,2, -999.00,9,    33.5253,2,     616.30,2,       0.10,       0.01,       0.05,       0.01,      0.005,     0.0063,2,    3.96357,2,      0.082,1,      0.000,2,      0.391,1,      0.211,1,      0.025,1,     99.661,     0.0136,2,      0.068,1,      0.249,1,       0.03,2
49NZ20210713,        P01,      58,          1,         32,     X12S32,2,20210801,       1418,    46.9952,   176.0940,       5697,   199.8,2,   4.6804,2,  33.6041,2,  33.6034,2,   231.76,2,  231.40,2,   44.43,2,    0.01,2,   24.86,2,    0.01,2,   1.859,2,   3.904,2,   2.178,2,   0.281,2,   2.897,2,  2174.3,2,  2257.6,2,   51.48,2, -999.00,9,    33.7685,2,     620.80,2,       0.10,       0.01,       0.06,       0.01,      0.005,     0.0081,2,    4.67911,2,      0.073,1,      0.000,2,      0.409,1,      0.231,1,      0.038,1,     99.647,     0.0142,2,      0.069,1,      0.284,1,       0.02,2
49NZ20210713,        P01,      58,          1,         31,     X12S31,2,20210801,       1418,    46.9952,   176.0940,       5697,   249.6,2,   4.3550,2,  33.7512,2,  33.7519,2,   149.49,2,  148.22,2,   65.74,2,    0.00,2,   32.34,2,    0.00,2,   2.362,2,   3.218,2,   1.736,2,   0.209,2,   1.997,2,  2240.6,2,  2278.2,2,   48.95,2, -999.00,9,    33.9179,2,     623.55,2,       0.12,       0.01,       0.07,       0.01,      0.006,     0.0106,2,    4.35515,2,      0.067,1,      0.000,2,      0.411,1,      0.233,1,      0.040,1,     99.677,     0.0130,2,      0.066,1,      0.329,1,       0.01,2
49NZ20210713,        P01,      58,          1,         30,     X12S30,2,20210801,       1418,    46.9952,   176.0940,       5697,   280.7,2,   4.2857,2,  33.7972,2,  33.7966,2,   131.03,2,  130.29,2,   71.41,2,    0.00,2,   34.00,2,    0.00,2,   2.475,2,   2.999,2,   1.608,2,   0.184,2,   1.699,2,  2251.8,2,  2283.2,2,   47.55,2, -999.00,9,    33.9634,2,     624.35,2,       0.13,       0.01,       0.07,       0.01,      0.006,     0.0112,2,    4.28581,2,      0.067,1,      0.000,2,      0.424,1,      0.247,1,      0.050,1,     99.679,     0.0129,2,      0.106,1,      0.338,1,     -999.0,9
49NZ20210713,        P01,      58,          1,         29,     X12S29,2,20210801,       1418,    46.9952,   176.0940,       5697,   370.1,2,   4.1841,2,  33.9252,2,  33.9253,2,    85.53,2,   85.09,2,   85.99,2,    0.01,2,   37.97,2,    0.01,2,   2.730,2,   2.316,2,   1.243,2,   0.133,2,   1.116,2,  2287.8,2,  2297.5,2,   45.15,2, -999.00,9,    34.0987,2,     626.75,2,       0.15,       0.01,       0.08,       0.01,      0.006,     0.0119,2,    4.18396,2,      0.068,1,      0.000,2,      0.446,1,      0.266,1,      0.051,1,     99.771,     0.0092,2,      0.063,1,      0.347,1,     -999.0,9
49NZ20210713,        P01,      58,          1,         28,     X12S28,2,20210801,       1418,    46.9952,   176.0940,       5697,   469.5,2,   3.9012,2,  34.0367,2,  34.0357,2,    47.71,2,   47.98,2,  102.05,2,    0.01,2,   41.42,2,    0.00,2,   2.958,2,   1.684,2,   0.842,2,   0.110,2,   0.700,2,  2322.2,2,  2314.0,2,   43.51,2, -999.00,9,    34.2072,2,     628.70,2,       0.17,       0.01,       0.09,       0.01,      0.006,     0.0128,2,    3.90128,2,      0.071,1,      0.000,2,      0.429,1,      0.253,1,      0.052,1,     99.808,     0.0077,2,      0.057,1,      0.366,1,     -999.0,9
49NZ20210713,        P01,      58,          1,         27,     X12S27,2,20210801,       1418,    46.9952,   176.0940,       5697,   570.9,2,   3.7805,2,  34.1386,2,  34.1379,2,    36.89,2,   36.86,2,  112.34,2,    0.00,2,   42.19,2,    0.00,2,   3.003,2,   1.170,2,   0.605,2,   0.064,2,   0.419,2,  2342.1,2,  2330.0,2,   43.95,2, -999.00,9,    34.3126,2,     630.65,2,       0.19,       0.01,       0.09,       0.01,      0.006,     0.0129,2,    3.78029,2,      0.070,1,      0.000,2,      0.412,1,      0.242,1,      0.051,1,     99.887,     0.0045,2,      0.054,1,      0.368,1,     -999.0,9
49NZ20210713,        P01,      58,          1,         26,     X12S26,2,20210801,       1418,    46.9952,   176.0940,       5697,   670.0,2,   3.5636,2,  34.2147,2,  34.2151,2,    30.60,2,   30.63,2,  121.70,2,    0.00,2,   42.68,2,    0.00,2,   3.042,2,   0.798,2,   0.411,2,   0.043,2,   0.221,2,  2352.8,6,  2341.5,2,   42.44,2, -999.00,9,    34.3900,2,     632.00,2,       0.20,       0.01,       0.09,       0.01,      0.006,     -999.0,9,    3.56255,2,      0.070,1,      0.000,2,     -999.0,9,     -999.0,9,     -999.0,9,     99.882,     0.0047,2,      0.053,1,      0.373,1,     -999.0,9
49NZ20210713,        P01,      58,          1,         25,     X12S25,2,20210801,       1418,    46.9952,   176.0940,       5697,   769.9,2,   3.3458,2,  34.2785,2,  34.2787,2,    28.86,2,   28.87,2,  129.92,2,    0.01,2,   42.95,2,    0.00,2,   3.055,2,   0.537,2,   0.288,2,   0.025,2,   0.181,2,  2359.4,2,  2354.1,2,   42.29,2, -999.00,9,    34.4541,2,     633.20,2,       0.29,       0.01,       0.09,       0.01,      0.000,     0.0132,2,    3.34547,2,      0.070,1,      0.000,2,      0.437,1,      0.266,1,      0.061,1,     99.885,     0.0046,2,      0.053,1,      0.368,1,     -999.0,9
49NZ20210713,        P01,      58,          1,         24,     X12S24,2,20210801,       1418,    46.9952,   176.0940,       5697,   869.5,2,   3.0722,2,  34.3307,2,  34.3309,2,    25.26,2,   25.09,2,  139.12,2,    0.02,2,   43.26,2,    0.00,2,   3.080,2,   0.364,2,   0.198,2,   0.013,2,   0.094,2,  2372.0,2,  2362.4,2,   38.06,2, -999.00,9,    34.5067,2,     634.20,2,       0.22,       0.01,       0.09,       0.01,      0.006,     -999.0,9,    3.07252,2,      0.071,1,      0.000,2,     -999.0,9,     -999.0,9,     -999.0,9,     99.873,     0.0051,2,      0.053,1,      0.382,1,     -999.0,9
49NZ20210713,        P01,      58,          1,         23,     X12S23,2,20210801,       1418,    46.9952,   176.0940,       5697,   969.8,2,   2.9163,2,  34.3712,2,  34.3714,2,    27.43,2,   27.21,2,  143.89,2,    0.02,2,   43.27,2,    0.00,2,   3.078,2,   0.264,2,   0.151,2,   0.010,2,   0.066,2,  2375.9,2,  2369.2,2,   39.55,2, -999.00,9,    34.5476,2,     635.00,2,       0.23,       0.01,       0.09,       0.01,      0.006,     0.0132,2,    2.91610,2,      0.070,1,      0.000,2,      0.424,1,      0.255,1,      0.053,1,     99.899,     0.0041,2,      0.075,1,      0.382,1,     -999.0,9
49NZ20210713,        P01,      58,          1,         22,     X12S22,2,20210801,       1418,    46.9952,   176.0940,       5697,  1130.2,2,   2.6913,2,  34.4233,2,  34.4232,2,    30.31,2,   30.27,2,  150.62,2,    0.01,2,   43.31,2,    0.00,2,   3.079,2,   0.173,2,   0.105,2,   0.009,2,   0.058,2,  2383.5,2,  2380.7,6,   43.25,4, -999.00,9,    34.6024,2,     635.80,2,       0.24,       0.01,       0.09,       0.01,      0.006,     -999.0,9,    2.69191,2,      0.069,1,      0.000,2,     -999.0,9,     -999.0,9,     -999.0,9,     99.908,     0.0037,2,      0.051,1,      0.370,1,     -999.0,9
49NZ20210713,        P01,      58,          1,         21,     X12S21,2,20210801,       1418,    46.9952,   176.0940,       5697,  1330.8,2,   2.4305,2,  34.4740,2,  34.4752,2,    33.93,2,   33.90,2,  158.92,2,    0.01,2,   43.25,2,    0.00,2,   3.073,2,   0.097,2,   0.060,2,   0.005,2,   0.011,2,  2386.2,2,  2390.4,2,   40.73,2, -999.00,9,    34.6551,2,     636.75,2,       0.25,       0.01,       0.09,       0.01,      0.006,     0.0134,2,    2.43055,2,      0.068,1,      0.000,2,      0.382,1,      0.228,1,      0.044,1,     99.924,     0.0030,2,      0.049,1,      0.375,1,     -999.0,9
49NZ20210713,        P01,      58,          1,         20,     X12S20,2,20210801,       1418,    46.9952,   176.0940,       5697,  1529.3,2,   2.2305,2,  34.5200,2,  34.5208,2,    42.96,2,   42.97,2,  163.75,2,    0.01,2,   42.89,2,    0.00,2,   3.041,2,   0.050,2,   0.028,2,   0.001,2,   0.005,2,  2387.1,2,  2398.8,2,   42.27,2, -999.00,9,    34.6998,2,     637.65,2,       0.26,       0.01,       0.09,       0.01,      0.006,     -999.0,9,    2.23040,2,      0.066,1,      0.000,2,     -999.0,9,     -999.0,9,     -999.0,9,     99.929,     0.0029,2,      0.049,1,      0.367,1,     -999.0,9
49NZ20210713,        P01,      58,          1,         19,     X12S19,2,20210801,       1418,    46.9952,   176.0940,       5697,  1730.1,2,   2.0840,2,  34.5540,2,  34.5548,2,    52.65,2,   52.88,2,  165.91,2,    0.01,2,   42.38,2,    0.00,2,   2.998,2,   0.024,2,   0.014,2,   0.002,2,   0.020,2,  2387.1,2,  2403.0,2,   36.44,2, -999.00,9,    34.7363,2,     638.20,2,       0.26,       0.01,       0.09,       0.01,      0.006,     0.0130,2,    2.08382,2,      0.064,1,      0.000,2,      0.384,1,      0.231,1,      0.042,1,     99.938,     0.0025,2,      0.050,1,      0.357,1,     -999.0,9
49NZ20210713,        P01,      58,          1,         18,     X12S18,2,20210801,       1418,    46.9952,   176.0940,       5697,  1929.6,2,   1.9655,2,  34.5793,2,  34.5789,2,    63.46,2,   63.35,2,  167.11,2,    0.00,2,   41.67,2,    0.00,2,   2.942,2,   0.012,2,   0.005,2,   0.002,2,   0.024,2,  2381.4,2,  2405.0,2,   38.69,2, -999.00,9,    34.7587,2,     638.70,2,       0.38,       0.01,       0.09,       0.01,      0.006,     -999.0,9,    1.96545,2,      0.063,1,      0.000,2,     -999.0,9,     -999.0,9,     -999.0,9,     99.942,     0.0023,2,      0.048,1,      0.359,1,     -999.0,9
49NZ20210713,        P01,      58,          1,         17,     X12S17,2,20210801,       1418,    46.9952,   176.0940,       5697,  2130.6,2,   1.8682,2,  34.5996,2,  34.5997,2,    74.01,2,   74.32,2,  167.46,2,    0.00,2,   41.06,2,    0.00,2,   2.896,2,   0.006,2,   0.002,2,   0.002,2,   0.035,2,  2374.8,2,  2409.7,2,   38.96,2, -999.00,9,    34.7805,2,     639.05,2,       0.26,       0.01,       0.09,       0.01,      0.006,     0.0124,2,    1.86785,2,      0.062,1,      0.000,2,      0.335,1,      0.194,1,      0.030,1,     99.966,     0.0014,2,      0.048,1,      0.348,1,     -999.0,9
49NZ20210713,        P01,      58,          1,         16,     X12S16,2,20210801,       1418,    46.9952,   176.0940,       5697,  2330.2,2,   1.7724,2,  34.6180,2,  34.6177,2,    85.13,2,   85.31,2,  167.59,2,    0.00,2,   40.40,2,    0.00,2,   2.849,2,   0.001,2,   0.000,2,   0.001,2,   0.026,2,  2370.9,6,  2412.1,2,   36.81,2, -999.00,9,    34.8002,2,     639.40,2,       0.26,       0.01,       0.09,       0.01,      0.006,     -999.0,9,    1.77150,2,      0.061,1,      0.000,2,     -999.0,9,     -999.0,9,     -999.0,9,     99.952,     0.0019,2,      0.049,1,      0.346,1,     -999.0,9
49NZ20210713,        P01,      58,          1,         15,     X12S15,2,20210801,       1418,    46.9952,   176.0940,       5697,  2530.2,2,   1.6927,2,  34.6330,2,  34.6334,2,    96.07,2,   96.31,2,  166.77,2,    0.00,2,   39.72,2,    0.00,2,   2.795,2,   0.002,2,   0.000,2,   0.001,2,   0.000,2,  2363.5,2,  2413.1,2,   38.14,2, -999.00,9,    34.8130,2,     639.70,2,       0.26,       0.01,       0.08,       0.01,      0.006,     0.0113,2,    1.69286,2,      0.060,1,      0.000,2,      0.372,1,      0.224,1,      0.049,1,     99.963,     0.0015,2,      0.049,1,      0.343,1,     -999.0,9
49NZ20210713,        P01,      58,          1,         14,     X12S14,2,20210801,       1418,    46.9952,   176.0940,       5697,  2730.7,2,   1.6325,2,  34.6444,2,  34.6449,2,   105.99,2,  106.72,2,  165.46,2,    0.00,2,   39.11,2,    0.00,2,   2.751,2,   0.000,2,   0.000,2,   0.000,2,   0.000,2,  2356.0,2,  2414.1,2,   35.55,2, -999.00,9,    34.8259,2,     639.90,2,       0.26,       0.01,       0.08,       0.01,      0.006,     -999.0,9,    1.63256,2,      0.059,1,      0.000,2,     -999.0,9,     -999.0,9,     -999.0,9,     99.973,     0.0011,2,      0.049,1,      0.336,1,     -999.0,9
49NZ20210713,        P01,      58,          1,         13,     X12S13,2,20210801,       1418,    46.9952,   176.0940,       5697,  2930.2,2,   1.5877,2,  34.6531,2,  34.6531,2,   114.53,2,  114.84,2,  164.11,2,    0.00,2,   38.49,2,    0.00,2,   2.710,2,   0.001,2,   0.000,2,   0.000,2,   0.019,2,  2350.9,2,  2413.8,2,   36.81,2, -999.00,9,    34.8352,2,     639.95,2,       0.26,       0.01,       0.08,       0.01,      0.006,     0.0108,2,    1.58791,2,      0.058,1,      0.000,2,      0.328,1,      0.188,1,      0.031,1,     99.963,     0.0015,2,      0.047,1,      0.332,1,     -999.0,9
49NZ20210713,        P01,      58,          1,         12,     X12S12,2,20210801,       1418,    46.9952,   176.0940,       5697,  3170.2,2,   1.5418,2,  34.6621,2,  34.6622,2,   123.86,2,  124.37,2,  160.81,2,    0.02,2,   37.67,2,    0.00,2,   2.638,2,   0.000,2,   0.000,2,   0.000,2,   0.000,2,  2344.7,2,  2415.8,6,   37.66,2, -999.00,9,    34.8430,2,     640.25,2,       0.35,       0.01,       0.08,       0.01,      0.006,     -999.0,9,    1.54188,2,      0.057,1,      0.000,2,     -999.0,9,     -999.0,9,     -999.0,9,     99.968,     0.0013,2,      0.048,1,      0.322,1,     -999.0,9
49NZ20210713,        P01,      58,          1,         11,     X12S11,2,20210801,       1418,    46.9952,   176.0940,       5697,  3420.3,2,   1.5083,2,  34.6693,2,  34.6691,2,   132.14,2,  132.65,2,  159.21,2,    0.02,2,   37.30,2,    0.00,2,   2.603,2,   0.001,2,   0.000,2,   0.000,2,   0.000,2,  2341.8,2,  2414.3,2,   39.37,2, -999.00,9,    34.8499,2,     640.30,2,       0.25,       0.01,       0.08,       0.01,      0.006,     0.0106,2,    1.50849,2,      0.057,1,      0.000,2,      0.296,1,      0.164,1,      0.024,1,     99.968,     0.0013,2,      0.051,1,      0.325,1,     -999.0,9
49NZ20210713,        P01,      58,          1,         10,     X12S10,2,20210801,       1418,    46.9952,   176.0940,       5697,  3670.2,2,   1.4863,2,  34.6750,2,  34.6747,2,   138.95,2,  138.82,2,  158.08,2,    0.01,2,   36.95,2,    0.00,2,   2.576,2,   0.001,2,   0.000,2,   0.000,2,   0.007,2,  2336.9,2,  2414.3,2,   35.03,2, -999.00,9,    34.8556,2,     640.40,2,       0.25,       0.01,       0.08,       0.01,      0.006,     -999.0,9,    1.48623,2,      0.056,1,      0.000,2,     -999.0,9,     -999.0,9,     -999.0,9,     99.973,     0.0011,2,      0.048,1,      0.329,1,     -999.0,9
49NZ20210713,        P01,      58,          1,          9,     X12S09,2,20210801,       1418,    46.9952,   176.0940,       5697,  3920.5,2,   1.4771,2,  34.6791,2,  34.6795,2,   144.20,2,  144.55,2,  156.38,2,    0.02,2,   36.61,2,    0.00,2,   2.548,2,   0.001,2,   0.000,2,   0.000,2,   0.000,2,  2332.0,2,  2414.8,2,   37.29,2, -999.00,9,    34.8594,2,     640.55,2,       0.25,       0.01,       0.08,       0.01,      0.006,     0.0106,2,    1.47709,2,      0.056,1,      0.000,2,      0.289,1,      0.161,1,      0.025,1,     99.959,     0.0017,2,      0.047,1,      0.325,1,     -999.0,9
49NZ20210713,        P01,      58,          1,          8,     X12S08,2,20210801,       1418,    46.9952,   176.0940,       5697,  4170.6,2,   1.4763,2,  34.6823,2,  34.6824,2,   148.01,2,  147.87,2,  155.93,2,    0.01,2,   36.35,2,    0.00,2,   2.529,2,   0.003,2,   0.001,2,   0.000,2,   0.000,2,  2327.8,6,  2413.1,2,   35.39,2, -999.00,9,    34.8635,2,     640.60,2,       0.25,       0.01,       0.08,       0.01,      0.006,     -999.0,9,    1.47626,2,      0.056,1,      0.000,2,     -999.0,9,     -999.0,9,     -999.0,9,     99.984,     0.0006,2,      0.048,1,      0.349,1,     -999.0,9
49NZ20210713,        P01,      58,          1,          7,     X12S07,2,20210801,       1418,    46.9952,   176.0940,       5697,  4420.3,2,   1.4849,2,  34.6848,2,  34.6849,2,   150.85,2,  150.67,2,  156.15,2,    0.01,2,   36.20,2,    0.00,2,   2.511,2,   0.002,2,   0.001,2,   0.000,2,   0.016,2,  2325.8,2,  2415.8,2,   37.57,2, -999.00,9,    34.8639,2,     640.60,2,       0.55,       0.01,       0.08,       0.01,      0.006,     0.0102,2,    1.48490,2,      0.055,1,      0.000,2,      0.291,1,      0.161,1,      0.027,1,     99.975,     0.0010,2,      0.046,1,      0.344,1,     -999.0,9
49NZ20210713,        P01,      58,          1,          6,     X12S06,2,20210801,       1418,    46.9952,   176.0940,       5697,  4672.4,2,   1.5044,2,  34.6862,2,  34.6865,2,   152.20,2,  152.03,2,  157.31,2,    0.00,2,   36.12,2,    0.00,2,   2.509,2,   0.003,2,   0.002,2,   0.001,2,   0.000,2,  2327.8,2,  2415.6,6,   36.12,2, -999.00,9,    34.8681,2,     640.70,2,       0.25,       0.01,       0.08,       0.01,      0.006,     -999.0,9,    1.50435,2,      0.055,1,      0.000,2,     -999.0,9,     -999.0,9,     -999.0,9,     99.979,     0.0008,2,      0.046,1,      0.349,1,     -999.0,9