BOTTLE,20231011CCHSIOENA
EXPOCODE,SECT_ID,STNNBR,CASTNO,SAMPNO,BTLNBR,BTLNBR_FLAG_W,DATE,TIME,LATITUDE,LONGITUDE,DEPTH,CTDPRS,CTDPRS_FLAG_W,CTDTMP,CTDTMP_FLAG_W,CTDSAL,CTDSAL_FLAG_W,SALNTY,SALNTY_FLAG_W,CTDOXY,CTDOXY_FLAG_W,OXYGEN,OXYGEN_FLAG_W,SILCAT,SILCAT_FLAG_W,NH4,NH4_FLAG_W,NITRAT,NITRAT_FLAG_W,NITRIT,NITRIT_FLAG_W,PHSPHT,PHSPHT_FLAG_W,CFC-11,CFC-11_FLAG_W,CFC-12,CFC-12_FLAG_W,CFC113,CFC113_FLAG_W,SF6,SF6_FLAG_W,TCARBN,TCARBN_FLAG_W,ALKALI,ALKALI_FLAG_W,DOC,DOC_FLAG_W,TDN,TDN_FLAG_W,DNSSAL,DNSSAL_FLAG_W,RIANOMALY,RIANOMALY_FLAG_W,SILUNC,NH4UNC,NRAUNC,NRIUNC,PHPUNC,FDOM,FDOM_FLAG_W,REFTMP,REFTMP_FLAG_W,CTDFLUOR,CTDFLUOR_FLAG_W,PAR,PAR_FLAG_W,CDOM300,CDOM300_FLAG_W,CDOM325,CDOM325_FLAG_W,CDOM443,CDOM443_FLAG_W,CTDXMISS,CTDBEAMCP,CTDBEAMCP_FLAG_W,CTDTURB,CTDTURB_FLAG_W,CTDCDOM,CTDCDOM_FLAG_W,CHLORA,CHLORA_FLAG_W
,,,,,,,,,,,METERS,DBAR,,ITS-90,,PSS-78,,PSS-78,,UMOL/KG,,UMOL/KG,,UMOL/KG,,UMOL/KG,,UMOL/KG,,UMOL/KG,,UMOL/KG,,PMOL/KG,,PMOL/KG,,PMOL/KG,,FMOL/KG,,UMOL/KG,,UMOL/KG,,UMOL/KG,,UMOL/KG,,G/KG,,ND,,UMOL/KG,UMOL/KG,UMOL/KG,UMOL/KG,UMOL/KG,RFU,,ITS-90,,MG/M^3,,UMOL/M^2/SEC,,/METER,,/METER,,/METER,,%TRANS,/METER,,FTU,,QSU,,UG/L,
49NZ20210713,        P01,      52,          1,          6,     X12S06,2,20210730,       1507,    46.9815,   170.0007,       4941,  4670.1,2,   1.5021,2,  34.6858,2,  34.6859,2,   153.71,2,  154.06,2,  152.26,2,    0.01,2,   35.87,2,    0.00,2,   2.505,2,   0.000,2,   0.000,2,   0.000,2,   0.000,2,  2327.3,2,  2414.3,6,   39.01,2, -999.00,9,    34.8673,2,     640.68,2,       0.24,       0.01,       0.08,       0.01,      0.008,     -999.0,9,    1.50189,2,      0.056,1,      0.000,2,     -999.0,9,     -999.0,9,     -999.0,9,     99.890,     0.0044,2,      0.053,1,      0.339,1,     -999.0,9
49NZ20210713,        P01,      52,          1,          5,     X12S05,2,20210730,       1507,    46.9815,   170.0007,       4941,  4920.6,2,   1.5280,2,  34.6863,2,  34.6864,2,   154.41,2,  154.55,2,  152.50,2,    0.00,2,   35.85,2,    0.00,2,   2.499,2,   0.004,2,   0.002,2,   0.000,2,   0.010,2,  2326.8,2,  2415.7,2,   38.04,2, -999.00,9,    34.8680,2,     640.63,2,       0.24,       0.01,       0.08,       0.01,      0.007,     0.0095,2,    1.52773,2,      0.056,1,      0.000,2,      0.294,1,      0.166,1,      0.028,1,     99.890,     0.0044,2,      0.055,1,      0.343,1,     -999.0,9
49NZ20210713,        P01,      52,          1,          1,     X12S01,2,20210730,       1507,    46.9815,   170.0007,       4941,  5011.0,2,   1.5387,2,  34.6866,2,  34.6869,2,   154.49,2,  154.73,2,  152.75,2,    0.01,2,   35.91,2,    0.00,2,   2.500,2,   0.003,2,   0.002,2,   0.000,2,   0.023,2,  2328.7,2,  2414.4,2,   37.32,2, -999.00,9,    34.8686,2,     640.68,2,       0.24,       0.01,       0.08,       0.01,      0.006,     0.0094,2,    1.53856,2,      0.055,1,      0.000,2,      0.302,1,      0.172,1,      0.027,1,     99.874,     0.0051,2,      0.055,1,      0.341,1,     -999.0,9