BOTTLE,20231011CCHSIOENA
EXPOCODE,SECT_ID,STNNBR,CASTNO,SAMPNO,BTLNBR,BTLNBR_FLAG_W,DATE,TIME,LATITUDE,LONGITUDE,DEPTH,CTDPRS,CTDPRS_FLAG_W,CTDTMP,CTDTMP_FLAG_W,CTDSAL,CTDSAL_FLAG_W,SALNTY,SALNTY_FLAG_W,CTDOXY,CTDOXY_FLAG_W,OXYGEN,OXYGEN_FLAG_W,SILCAT,SILCAT_FLAG_W,NH4,NH4_FLAG_W,NITRAT,NITRAT_FLAG_W,NITRIT,NITRIT_FLAG_W,PHSPHT,PHSPHT_FLAG_W,CFC-11,CFC-11_FLAG_W,CFC-12,CFC-12_FLAG_W,CFC113,CFC113_FLAG_W,SF6,SF6_FLAG_W,TCARBN,TCARBN_FLAG_W,ALKALI,ALKALI_FLAG_W,DOC,DOC_FLAG_W,TDN,TDN_FLAG_W,DNSSAL,DNSSAL_FLAG_W,RIANOMALY,RIANOMALY_FLAG_W,SILUNC,NH4UNC,NRAUNC,NRIUNC,PHPUNC,FDOM,FDOM_FLAG_W,REFTMP,REFTMP_FLAG_W,CTDFLUOR,CTDFLUOR_FLAG_W,PAR,PAR_FLAG_W,CDOM300,CDOM300_FLAG_W,CDOM325,CDOM325_FLAG_W,CDOM443,CDOM443_FLAG_W,CTDXMISS,CTDBEAMCP,CTDBEAMCP_FLAG_W,CTDTURB,CTDTURB_FLAG_W,CTDCDOM,CTDCDOM_FLAG_W,CHLORA,CHLORA_FLAG_W
,,,,,,,,,,,METERS,DBAR,,ITS-90,,PSS-78,,PSS-78,,UMOL/KG,,UMOL/KG,,UMOL/KG,,UMOL/KG,,UMOL/KG,,UMOL/KG,,UMOL/KG,,PMOL/KG,,PMOL/KG,,PMOL/KG,,FMOL/KG,,UMOL/KG,,UMOL/KG,,UMOL/KG,,UMOL/KG,,G/KG,,ND,,UMOL/KG,UMOL/KG,UMOL/KG,UMOL/KG,UMOL/KG,RFU,,ITS-90,,MG/M^3,,UMOL/M^2/SEC,,/METER,,/METER,,/METER,,%TRANS,/METER,,FTU,,QSU,,UG/L,
49NZ20210713,        P01,      68,          1,         36,     X12S36,2,20210805,       0212,    46.9894,  -172.7045,       5798,    10.0,2,  13.2359,2,  32.8422,2,  32.8397,2,   278.13,2,  278.35,2,   18.23,2,    0.07,2,   13.17,2,    0.22,2,   1.181,2,   3.143,2,   1.565,2,   0.157,2,   3.066,2,  2042.7,2,  2218.1,2,   58.68,2, -999.00,9,    32.9972,2,     606.75,2,       0.10,       0.01,       0.06,       0.01,      0.006,     0.0030,2,   13.23544,2,      1.529,1,    287.476,2,      0.330,1,      0.174,1,      0.023,1,     92.081,     0.3300,2,      0.292,1,      0.177,1,       0.67,2
49NZ20210713,        P01,      68,          1,         35,     X12S35,2,20210805,       0212,    46.9894,  -172.7045,       5798,    50.4,2,   8.2187,2,  32.9588,2,  32.9692,2,   299.63,2,  300.45,2,   21.70,2,    0.41,2,   14.85,2,    0.21,2,   1.333,2,   3.976,2,   1.956,2,   0.176,2,   3.594,2,  2072.3,2,  2220.8,2,   57.83,2, -999.00,9,    33.1311,2,     609.25,2,       0.06,       0.02,       0.04,       0.01,      0.005,     0.0050,2,    8.22193,2,      1.404,1,      6.819,2,      0.372,1,      0.197,1,      0.027,1,     97.485,     0.1019,2,      0.145,1,      0.208,1,       0.38,2
49NZ20210713,        P01,      68,          1,         34,     X12S34,2,20210805,       0212,    46.9894,  -172.7045,       5798,   100.1,2,   4.9523,2,  33.1016,2,  33.1035,2,   305.93,2,  306.84,2,   26.77,2,    0.03,2,   19.28,2,    0.02,2,   1.547,2,   4.513,2,   2.257,2,   0.216,2,   3.862,2,  2105.1,2,  2227.7,2,   54.64,2, -999.00,9,    33.2648,2,     611.75,2,       0.07,       0.01,       0.05,       0.01,      0.005,     0.0052,2,    4.95337,2,      0.251,1,      0.002,2,      0.358,1,      0.188,1,      0.026,1,     99.459,     0.0217,2,      0.078,1,      0.212,1,       0.13,2
49NZ20210713,        P01,      68,          1,         33,     X12S33,2,20210805,       0212,    46.9894,  -172.7045,       5798,   149.8,2,   5.1509,2,  33.2717,2,  33.2631,2,   290.32,2,  294.48,2,   27.84,2,    0.02,2,   19.22,2,    0.02,2,   1.511,2,   4.348,2,   2.166,2,   0.184,2,   3.775,2,  2114.4,2,  2234.7,2,   50.53,2, -999.00,9,    33.4247,2,     614.75,2,       0.07,       0.01,       0.05,       0.01,      0.005,     0.0054,2,    5.14984,2,      0.070,1,      0.000,2,      0.362,1,      0.196,1,      0.026,1,     99.600,     0.0160,2,      0.081,1,      0.222,1,       0.03,2
49NZ20210713,        P01,      68,          1,         32,     X12S32,2,20210805,       0212,    46.9894,  -172.7045,       5798,   199.4,2,   4.9405,2,  33.6591,2,  33.6611,2,   213.38,2,  211.62,2,   46.49,2,    0.01,2,   26.15,2,    0.01,2,   1.918,2,   3.807,2,   1.826,2,   0.157,2,   2.897,2,  2187.3,2,  2262.8,2,   48.89,2, -999.00,9,    33.8257,2,     622.10,2,       0.14,       0.01,       0.06,       0.01,      0.006,     0.0085,2,    4.94046,2,      0.065,1,      0.000,2,      0.397,1,      0.227,1,      0.038,1,     99.480,     0.0209,2,      0.073,1,      0.274,1,       0.02,2
49NZ20210713,        P01,      68,          1,         31,     X12S31,2,20210805,       0212,    46.9894,  -172.7045,       5798,   249.6,2,   4.4055,2,  33.7432,2,  33.7446,2,   143.25,2,  143.18,2,   64.96,2,    0.00,2,   32.96,2,    0.00,2,   2.383,2,   3.236,2,   1.521,2,   0.149,2,   2.034,2,  2239.6,2,  2274.6,2,   47.56,2, -999.00,9,    33.9124,2,     623.60,2,       0.14,       0.01,       0.07,       0.01,      0.006,     0.0106,2,    4.40499,2,      0.066,1,      0.000,2,      0.419,1,      0.240,1,      0.042,1,     99.723,     0.0111,2,      0.071,1,      0.314,1,       0.01,2
49NZ20210713,        P01,      68,          1,         30,     X12S30,2,20210805,       0212,    46.9894,  -172.7045,       5798,   330.8,2,   4.2440,2,  33.8818,2,  33.8825,2,    88.24,2,   88.38,2,   81.88,2,   -0.01,2,   37.90,2,    0.00,2,   2.702,2,   2.489,2,   1.335,2,   0.130,2,   1.249,2,  2286.5,2,  2293.4,2,   44.42,2, -999.00,9,    34.0519,2,     626.15,2,       0.15,       0.01,       0.08,       0.01,      0.006,     0.0118,2,    4.24360,2,      0.069,1,      0.000,2,      0.454,1,      0.272,1,      0.049,1,     99.751,     0.0100,2,      0.071,1,      0.324,1,     -999.0,9
49NZ20210713,        P01,      68,          1,         29,     X12S29,2,20210805,       0212,    46.9894,  -172.7045,       5798,   429.4,2,   4.1204,2,  34.0169,2,  34.0161,2,    56.59,2,   56.96,2,   96.33,2,   -0.01,2,   40.61,2,    0.00,2,   2.889,2,-999.000,5,-999.000,5,-999.000,5,-999.000,5,  2312.9,2,  2312.5,2,   44.11,2, -999.00,9,    34.1891,2,     628.65,2,       0.18,       0.01,       0.09,       0.01,      0.006,     0.0122,2,    4.12040,2,      0.069,1,      0.000,2,      0.418,1,      0.245,1,      0.039,1,     99.809,     0.0076,2,      0.064,1,      0.336,1,     -999.0,9
49NZ20210713,        P01,      68,          1,         28,     X12S28,2,20210805,       0212,    46.9894,  -172.7045,       5798,   529.7,2,   3.8166,2,  34.1152,2,  34.1155,2,    36.34,2,   36.86,2,  110.41,2,    0.01,2,   42.37,2,    0.00,2,   3.006,2,   1.201,2,   0.645,2,   0.100,2,   0.423,2,  2335.6,2,  2327.9,2,   41.15,2, -999.00,9,    34.2892,2,     630.45,2,       0.24,       0.01,       0.09,       0.01,      0.006,     0.0131,2,    3.81726,2,      0.070,1,      0.000,2,      0.413,1,      0.240,1,      0.044,1,     99.856,     0.0058,2,      0.058,1,      0.340,1,     -999.0,9
49NZ20210713,        P01,      68,          1,         27,     X12S27,2,20210805,       0212,    46.9894,  -172.7045,       5798,   629.9,2,   3.6313,2,  34.1944,2,  34.1933,2,    31.33,2,   31.71,2,  119.36,2,    0.00,2,   42.74,2,    0.00,2,   3.033,2,   0.819,2,   0.457,2,   0.058,2,   0.263,2,  2347.0,2,  2339.1,2,   41.73,2, -999.00,9,    34.3690,2,     631.95,2,       0.23,       0.01,       0.09,       0.01,      0.006,     0.0130,2,    3.63193,2,      0.070,1,      0.000,2,      0.405,1,      0.239,1,      0.045,1,     99.856,     0.0058,2,      0.058,1,      0.348,1,     -999.0,9
49NZ20210713,        P01,      68,          1,         26,     X12S26,2,20210805,       0212,    46.9894,  -172.7045,       5798,   730.9,2,   3.4345,2,  34.2579,2,  34.2576,2,    28.78,2,   29.28,2,  127.07,2,    0.00,2,   43.00,2,    0.00,2,   3.059,2,   0.548,2,   0.321,2,   0.031,2,   0.167,2,  2356.7,6,  2349.9,2,   42.29,2, -999.00,9,    34.4337,2,     633.05,2,       0.21,       0.01,       0.09,       0.01,      0.006,     -999.0,9,    3.43470,2,      0.069,1,      0.000,2,     -999.0,9,     -999.0,9,     -999.0,9,     99.886,     0.0046,2,      0.059,1,      0.348,1,     -999.0,9
49NZ20210713,        P01,      68,          1,         25,     X12S25,2,20210805,       0212,    46.9894,  -172.7045,       5798,   829.3,2,   3.2003,2,  34.3098,2,  34.3104,2,    26.86,2,   26.92,2,  135.05,2,    0.01,2,   43.27,2,    0.00,2,   3.081,2,   0.369,2,   0.219,2,   0.017,2,   0.120,2,  2369.7,2,  2361.5,2,   40.79,2, -999.00,9,    34.4891,2,     634.10,2,       0.22,       0.01,       0.09,       0.01,      0.006,     0.0148,2,    3.20316,2,      0.070,1,      0.000,2,      0.398,1,      0.238,1,      0.046,1,     99.860,     0.0056,2,      0.066,1,      0.346,1,     -999.0,9
49NZ20210713,        P01,      68,          1,         24,     X12S24,2,20210805,       0212,    46.9894,  -172.7045,       5798,   930.0,2,   3.0475,2,  34.3472,2,  34.3469,2,    26.72,2,   26.84,2,  139.53,2,    0.03,2,   43.33,2,    0.00,2,   3.077,2,   0.270,2,   0.162,2,   0.008,2,   0.073,2,  2373.0,2,  2367.9,2,   40.17,2, -999.00,9,    34.5247,2,     634.70,2,       0.22,       0.01,       0.09,       0.01,      0.006,     -999.0,9,    3.04814,2,      0.069,1,      0.000,2,     -999.0,9,     -999.0,9,     -999.0,9,     99.883,     0.0047,2,      0.055,1,      0.355,1,     -999.0,9
49NZ20210713,        P01,      68,          1,         23,     X12S23,2,20210805,       0212,    46.9894,  -172.7045,       5798,  1071.6,2,   2.8245,2,  34.3941,2,  34.3935,2,    27.16,2,   27.20,2,  146.92,2,    0.02,2,   43.47,2,    0.00,2,   3.090,2,   0.176,2,   0.119,2,   0.006,2,   0.041,2,  2379.1,2,  2376.8,2,   39.32,2, -999.00,9,    34.5739,2,     635.60,2,       0.23,       0.01,       0.09,       0.01,      0.006,     0.0151,2,    2.82407,2,      0.069,1,      0.000,2,      0.391,1,      0.236,1,      0.044,1,     99.860,     0.0056,2,      0.056,1,      0.354,1,     -999.0,9
49NZ20210713,        P01,      68,          1,         22,     X12S22,2,20210805,       0212,    46.9894,  -172.7045,       5798,  1269.4,2,   2.5553,2,  34.4511,2,  34.4506,2,    30.33,2,   30.45,2,  155.28,2,    0.02,2,   43.46,2,    0.00,2,   3.083,2,   0.093,2,   0.061,2,   0.006,2,   0.044,2,  2384.8,2,  2388.4,6,   40.07,2, -999.00,9,    34.6305,2,     636.65,2,       0.24,       0.01,       0.09,       0.01,      0.006,     -999.0,9,    2.55549,2,      0.068,1,      0.000,2,     -999.0,9,     -999.0,9,     -999.0,9,     99.886,     0.0046,2,      0.066,1,      0.349,1,     -999.0,9
49NZ20210713,        P01,      68,          1,         21,     X12S21,2,20210805,       0212,    46.9894,  -172.7045,       5798,  1470.1,2,   2.3492,2,  34.4943,2,  34.4942,2,    36.02,2,   36.31,2,  161.43,2,    0.02,2,   43.27,2,    0.00,2,   3.060,2,   0.055,2,   0.037,2,   0.004,2,   0.008,2,  2389.7,2,  2397.4,2,   39.14,2, -999.00,9,    34.6737,2,     637.35,2,       0.25,       0.01,       0.09,       0.01,      0.006,     0.0142,2,    2.34886,2,      0.066,1,      0.000,2,      0.379,1,      0.229,1,      0.042,1,     99.883,     0.0047,2,      0.056,1,      0.349,1,     -999.0,9
49NZ20210713,        P01,      68,          1,         20,     X12S20,2,20210805,       0212,    46.9894,  -172.7045,       5798,  1670.9,2,   2.1947,2,  34.5292,2,  34.5287,2,    42.81,2,   42.81,2,  165.65,2,    0.03,2,   42.98,2,    0.00,2,   3.030,2,   0.027,2,   0.019,2,   0.005,2,   0.025,2,  2387.3,2,  2401.0,2,   39.15,2, -999.00,9,    34.7099,2,     638.05,2,       0.26,       0.01,       0.10,       0.01,      0.006,     -999.0,9,    2.19490,2,      0.065,1,      0.000,2,     -999.0,9,     -999.0,9,     -999.0,9,     99.883,     0.0047,2,      0.056,1,      0.347,1,     -999.0,9
49NZ20210713,        P01,      68,          1,         19,     X12S19,2,20210805,       0212,    46.9894,  -172.7045,       5798,  1869.9,2,   2.0550,2,  34.5610,2,  34.5605,2,    51.71,2,   51.82,2,  168.31,2,    0.03,2,   42.48,2,    0.00,2,   2.987,2,   0.009,2,   0.006,2,   0.005,2,   0.000,2,  2389.3,2,  2405.3,2,   38.47,2, -999.00,9,    34.7423,2,     638.55,2,       0.26,       0.01,       0.09,       0.01,      0.006,     0.0123,3,    2.05562,2,      0.064,1,      0.000,2,      0.363,1,      0.215,1,      0.039,1,     99.890,     0.0044,2,      0.053,1,      0.338,1,     -999.0,9
49NZ20210713,        P01,      68,          1,         18,     X12S18,2,20210805,       0212,    46.9894,  -172.7045,       5798,  2071.1,2,   1.9335,2,  34.5872,2,  34.5864,2,    61.81,2,   61.51,2,  170.30,2,    0.03,2,   41.88,2,    0.00,2,   2.941,2,   0.001,2,   0.001,2,   0.004,2,   0.014,2,  2381.6,2,  2409.9,2,   39.38,2, -999.00,9,    34.7718,2,     639.10,2,       0.26,       0.01,       0.09,       0.01,      0.006,     -999.0,9,    1.93338,2,      0.062,1,      0.000,2,     -999.0,9,     -999.0,9,     -999.0,9,     99.907,     0.0037,2,      0.049,1,      0.332,1,     -999.0,9
49NZ20210713,        P01,      68,          1,         17,     X12S17,2,20210805,       0212,    46.9894,  -172.7045,       5798,  2270.8,2,   1.8449,2,  34.6057,2,  34.6054,2,    71.67,2,   71.67,2,  170.72,2,    0.00,2,   41.39,2,    0.00,2,   2.897,2,   0.000,2,   0.000,2,   0.000,2,   0.015,2,  2376.8,2,  2414.3,2,   39.96,2, -999.00,9,    34.7891,2,     639.40,2,       0.27,       0.01,       0.09,       0.01,      0.006,     0.0120,2,    1.84486,2,      0.061,1,      0.000,2,      0.339,1,      0.196,1,      0.039,1,     99.914,     0.0035,2,      0.049,1,      0.334,1,     -999.0,9
49NZ20210713,        P01,      68,          1,         16,     X12S16,2,20210805,       0212,    46.9894,  -172.7045,       5798,  2470.7,2,   1.7648,2,  34.6214,2,  34.6205,2,    82.36,2,   81.93,2,  170.47,2,    0.01,2,   40.73,2,    0.00,2,   2.848,2,   0.000,2,   0.000,2,   0.000,2,   0.030,2,  2374.1,6,  2416.7,2,   40.24,2, -999.00,9,    34.8027,2,     639.60,2,       0.32,       0.01,       0.09,       0.01,      0.006,     -999.0,9,    1.76484,2,      0.060,1,      0.000,2,     -999.0,9,     -999.0,9,     -999.0,9,     99.916,     0.0034,2,      0.049,1,      0.331,1,     -999.0,9
49NZ20210713,        P01,      68,          1,         15,     X12S15,2,20210805,       0212,    46.9894,  -172.7045,       5798,  2670.7,2,   1.6881,2,  34.6355,2,  34.6353,2,    94.44,2,   94.71,2,  169.10,2,    0.00,2,   39.92,2,    0.00,2,   2.791,2,   0.000,2,   0.000,2,   0.000,2,   0.034,2,  2363.2,2,  2415.9,2,   38.20,2, -999.00,9,    34.8186,2,     639.95,2,       0.26,       0.01,       0.08,       0.01,      0.006,     0.0113,2,    1.68806,2,      0.059,1,      0.000,2,      0.328,1,      0.193,1,      0.034,1,     99.925,     0.0030,2,      0.049,1,      0.320,1,     -999.0,9
49NZ20210713,        P01,      68,          1,         14,     X12S14,2,20210805,       0212,    46.9894,  -172.7045,       5798,  2870.4,2,   1.6386,2,  34.6453,2,  34.6449,2,   103.58,2,  103.49,2,  167.77,2,    0.00,2,   39.38,2,    0.00,2,   2.750,2,   0.000,2,   0.000,2,   0.000,2,   0.000,2,  2364.2,2,  2416.7,2,   38.83,2, -999.00,9,    34.8300,2,     640.10,2,       0.26,       0.01,       0.08,       0.01,      0.006,     -999.0,9,    1.63879,2,      0.059,1,      0.000,2,     -999.0,9,     -999.0,9,     -999.0,9,     99.944,     0.0023,2,      0.049,1,      0.319,1,     -999.0,9
49NZ20210713,        P01,      68,          1,         13,     X12S13,2,20210805,       0212,    46.9894,  -172.7045,       5798,  3079.8,2,   1.5905,2,  34.6542,2,  34.6541,2,   113.36,2,  113.37,2,  165.99,2,    0.02,2,   38.80,2,    0.00,2,   2.700,2,   0.000,2,   0.000,2,   0.000,2,   0.000,2,  2355.9,2,  2417.3,2,   38.58,2, -999.00,9,    34.8353,2,     640.30,2,       0.26,       0.01,       0.08,       0.01,      0.006,     0.0108,2,    1.59054,2,      0.058,1,      0.000,2,      0.288,1,      0.159,1,      0.023,1,     99.944,     0.0023,2,      0.050,1,      0.317,1,     -999.0,9
49NZ20210713,        P01,      68,          1,         12,     X12S12,2,20210805,       0212,    46.9894,  -172.7045,       5798,  3329.5,2,   1.5471,2,  34.6633,2,  34.6625,2,   123.11,2,  123.22,2,  163.05,2,    0.05,2,   37.91,2,    0.00,2,   2.640,2,   0.000,2,   0.000,2,   0.000,2,   0.000,2,  2346.7,2,  2417.9,6,   37.53,2, -999.00,9,    34.8445,2,     640.35,2,       0.25,       0.01,       0.08,       0.01,      0.006,     -999.0,9,    1.54713,2,      0.057,1,      0.000,2,     -999.0,9,     -999.0,9,     -999.0,9,     99.925,     0.0030,2,      0.050,1,      0.311,1,     -999.0,9
49NZ20210713,        P01,      68,          1,         11,     X12S11,2,20210805,       0212,    46.9894,  -172.7045,       5798,  3579.7,2,   1.5145,2,  34.6703,2,  34.6698,2,   131.60,2,  131.71,2,  161.37,2,    0.01,2,   37.42,2,    0.00,2,   2.601,2,   0.000,2,   0.000,2,   0.000,2,   0.000,2,  2340.9,2,  2417.5,2,   38.63,2, -999.00,9,    34.8517,2,     640.55,2,       0.25,       0.01,       0.08,       0.01,      0.006,     0.0101,2,    1.51447,2,      0.057,1,      0.000,2,      0.268,1,      0.140,1,      0.020,1,     99.937,     0.0025,2,      0.050,1,      0.303,1,     -999.0,9
49NZ20210713,        P01,      68,          1,         10,     X12S10,2,20210805,       0212,    46.9894,  -172.7045,       5798,  3829.8,2,   1.4925,2,  34.6761,2,  34.6757,2,   138.65,2,  138.68,2,  159.97,2,    0.01,2,   37.05,2,    0.00,2,   2.568,2,   0.000,2,   0.000,2,   0.000,2,   0.000,2,  2339.8,2,  2418.2,2,   37.98,2, -999.00,9,    34.8581,2,     640.65,2,       0.25,       0.01,       0.08,       0.01,      0.006,     -999.0,9,    1.49243,2,      0.056,1,      0.000,2,     -999.0,9,     -999.0,9,     -999.0,9,     99.946,     0.0022,2,      0.051,1,      0.300,1,     -999.0,9
49NZ20210713,        P01,      68,          1,          9,     X12S09,2,20210805,       0212,    46.9894,  -172.7045,       5798,  4080.7,2,   1.4870,2,  34.6801,2,  34.6796,2,   143.35,2,  143.48,2,  159.54,2,    0.01,2,   36.76,2,    0.00,2,   2.542,2,   0.000,2,   0.000,2,   0.000,2,   0.000,2,  2333.8,2,  2417.9,2,   37.18,2, -999.00,9,    34.8629,2,     640.65,2,       0.25,       0.01,       0.08,       0.01,      0.006,     0.0100,2,    1.48695,2,      0.055,1,      0.000,2,      0.271,1,      0.146,1,      0.019,1,     99.953,     0.0019,2,      0.049,1,      0.310,1,     -999.0,9
49NZ20210713,        P01,      68,          1,          8,     X12S08,2,20210805,       0212,    46.9894,  -172.7045,       5798,  4329.8,2,   1.4899,2,  34.6833,2,  34.6828,2,   146.98,2,  146.99,2,  159.75,2,    0.04,2,   36.49,2,    0.00,2,   2.525,2,   0.000,2,   0.000,2,   0.000,2,   0.000,2,  2334.3,6,  2418.8,2,   40.71,2, -999.00,9,    34.8646,2,     640.70,2,       0.25,       0.01,       0.08,       0.01,      0.006,     -999.0,9,    1.48994,2,      0.055,1,      0.000,2,     -999.0,9,     -999.0,9,     -999.0,9,     99.967,     0.0013,2,      0.048,1,      0.333,1,     -999.0,9
49NZ20210713,        P01,      68,          1,          7,     X12S07,2,20210805,       0212,    46.9894,  -172.7045,       5798,  4579.8,2,   1.5055,2,  34.6851,2,  34.6849,2,   148.85,2,  148.84,2,  160.90,2,    0.02,2,   36.38,2,    0.00,2,   2.514,2,   0.000,2,   0.000,2,   0.000,2,   0.000,2,  2335.0,2,  2422.0,2,   39.33,2, -999.00,9,    34.8666,2,     640.80,2,       0.25,       0.01,       0.08,       0.01,      0.006,     0.0097,2,    1.50547,2,      0.054,1,      0.000,2,      0.264,1,      0.140,1,      0.019,1,     99.928,     0.0029,2,      0.049,1,      0.329,1,     -999.0,9
49NZ20210713,        P01,      68,          1,          6,     X12S06,2,20210805,       0212,    46.9894,  -172.7045,       5798,  4829.3,2,   1.5290,2,  34.6860,2,  34.6860,2,   149.78,2,  149.70,2,  161.62,2,    0.02,2,   36.37,2,    0.00,2,   2.506,2,   0.000,2,   0.002,2,   0.000,2,   0.000,2,  2331.8,2,  2421.1,6,   38.80,2, -999.00,9,    34.8691,2,     640.85,2,       0.25,       0.01,       0.08,       0.01,      0.006,     -999.0,9,    1.52903,2,      0.054,1,      0.000,2,     -999.0,9,     -999.0,9,     -999.0,9,     99.969,     0.0012,2,      0.049,1,      0.332,1,     -999.0,9