BOTTLE,20231011CCHSIOENA
EXPOCODE,SECT_ID,STNNBR,CASTNO,SAMPNO,BTLNBR,BTLNBR_FLAG_W,DATE,TIME,LATITUDE,LONGITUDE,DEPTH,CTDPRS,CTDPRS_FLAG_W,CTDTMP,CTDTMP_FLAG_W,CTDSAL,CTDSAL_FLAG_W,SALNTY,SALNTY_FLAG_W,CTDOXY,CTDOXY_FLAG_W,OXYGEN,OXYGEN_FLAG_W,SILCAT,SILCAT_FLAG_W,NH4,NH4_FLAG_W,NITRAT,NITRAT_FLAG_W,NITRIT,NITRIT_FLAG_W,PHSPHT,PHSPHT_FLAG_W,CFC-11,CFC-11_FLAG_W,CFC-12,CFC-12_FLAG_W,CFC113,CFC113_FLAG_W,SF6,SF6_FLAG_W,TCARBN,TCARBN_FLAG_W,ALKALI,ALKALI_FLAG_W,DOC,DOC_FLAG_W,TDN,TDN_FLAG_W,DNSSAL,DNSSAL_FLAG_W,RIANOMALY,RIANOMALY_FLAG_W,SILUNC,NH4UNC,NRAUNC,NRIUNC,PHPUNC,FDOM,FDOM_FLAG_W,REFTMP,REFTMP_FLAG_W,CTDFLUOR,CTDFLUOR_FLAG_W,PAR,PAR_FLAG_W,CDOM300,CDOM300_FLAG_W,CDOM325,CDOM325_FLAG_W,CDOM443,CDOM443_FLAG_W,CTDXMISS,CTDBEAMCP,CTDBEAMCP_FLAG_W,CTDTURB,CTDTURB_FLAG_W,CTDCDOM,CTDCDOM_FLAG_W,CHLORA,CHLORA_FLAG_W
,,,,,,,,,,,METERS,DBAR,,ITS-90,,PSS-78,,PSS-78,,UMOL/KG,,UMOL/KG,,UMOL/KG,,UMOL/KG,,UMOL/KG,,UMOL/KG,,UMOL/KG,,PMOL/KG,,PMOL/KG,,PMOL/KG,,FMOL/KG,,UMOL/KG,,UMOL/KG,,UMOL/KG,,UMOL/KG,,G/KG,,ND,,UMOL/KG,UMOL/KG,UMOL/KG,UMOL/KG,UMOL/KG,RFU,,ITS-90,,MG/M^3,,UMOL/M^2/SEC,,/METER,,/METER,,/METER,,%TRANS,/METER,,FTU,,QSU,,UG/L,
49NZ20210713,        P01,      14,          1,         36,     X12S36,2,20210718,       0428,    41.1396,   146.7978,       5334,    10.1,2,  12.9393,2,  32.9116,2,  32.9083,2,   296.87,2,  296.64,2,    0.08,2,    0.05,2,    0.24,2,    0.03,2,   0.226,2,   3.397,2,   1.916,2,   0.296,2,   3.148,2,  1993.4,2,  2232.1,2,   72.42,2, -999.00,9,    33.0647,2,     607.85,2,       0.04,       0.01,       0.01,       0.01,      0.003,     0.0100,2,   12.89006,2,      4.454,1,    156.276,2,      0.790,1,      0.499,1,      0.073,1,     82.361,     0.7762,2,      0.929,1,      0.488,1,       2.12,2
49NZ20210713,        P01,      14,          1,          2,     X12B34,2,20210718,       0428,    41.1396,   146.7978,       5334,    19.0,2,   9.2765,2,  32.9633,2,  32.9723,2,   311.72,2,  312.59,2,    1.21,2,    1.73,2,    3.63,2,    0.09,2,   0.674,2,-999.000,9,-999.000,9,-999.000,9,-999.000,9,  2055.4,2,  2238.9,2,   62.10,2, -999.00,9,    33.1310,2,     609.05,2,       0.04,       0.04,       0.02,       0.01,      0.004,     0.0097,2,    9.35934,2,      3.057,1,     21.817,2,      0.611,1,      0.374,1,      0.054,1,     91.105,     0.3726,2,      0.393,1,      0.493,1,       1.31,2
49NZ20210713,        P01,      14,          1,         35,     X12S35,2,20210718,       0428,    41.1396,   146.7978,       5334,    50.3,2,   4.0113,2,  33.2033,2,  33.2097,2,   301.09,2,  300.76,2,   19.20,2,    3.09,2,   16.29,2,    0.30,2,   1.617,2,   5.032,2,   2.306,2,   0.440,2,   4.082,2,  2140.7,2,  2247.8,2,   58.54,2, -999.00,9,    33.3731,2,     613.55,2,       0.06,       0.06,       0.04,       0.01,      0.005,     0.0085,2,    4.01288,2,      0.216,1,      0.499,2,      0.508,1,      0.291,1,      0.048,1,     99.108,     0.0358,2,      0.105,1,      0.457,1,       0.14,2
49NZ20210713,        P01,      14,          1,         34,     X12S34,2,20210718,       0428,    41.1396,   146.7978,       5334,    99.7,2,   4.0504,2,  33.5418,2,  33.5428,2,   281.28,2,  281.36,2,   36.28,2,    0.03,2,   21.18,2,    0.01,2,   1.652,2,   4.560,2,   2.503,2,   0.389,2,   3.887,2,  2161.4,2,  2252.1,2,   54.55,2, -999.00,9,    33.7032,2,     619.70,2,       0.08,       0.01,       0.05,       0.01,      0.005,     0.0070,2,    4.04992,2,      0.087,1,      0.000,2,      0.441,1,      0.244,1,      0.035,1,     99.349,     0.0261,2,      0.105,1,      0.424,1,       0.04,2
49NZ20210713,        P01,      14,          1,         33,     X12S33,2,20210718,       0428,    41.1396,   146.7978,       5334,   150.3,2,   4.5899,2,  33.6513,2,  33.6522,2,   277.86,2,  278.15,2,   34.88,2,    0.02,2,   20.08,2,    0.02,2,   1.550,2,   4.386,2,   2.434,2,   0.343,2,   3.719,2,  2159.7,2,  2259.9,2,   54.39,2, -999.00,9,    33.8137,2,     621.65,2,       0.08,       0.01,       0.05,       0.01,      0.005,     0.0068,2,    4.58997,2,      0.071,1,      0.000,2,      0.432,1,      0.241,1,      0.039,1,     99.198,     0.0322,2,      0.251,1,      0.415,1,       0.03,2
49NZ20210713,        P01,      14,          1,         32,     X12S32,2,20210718,       0428,    41.1396,   146.7978,       5334,   201.0,2,   4.1725,2,  33.6099,2,  33.6100,2,   272.19,2,  272.40,2,   38.42,2,    0.02,2,   21.28,2,    0.02,2,   1.643,2,   4.448,2,   2.055,2,   0.330,2,   3.495,2,  2165.9,2,  2261.2,2,   53.56,2, -999.00,9,    33.7728,2,     620.95,2,       0.09,       0.01,       0.06,       0.01,      0.007,     0.0074,2,    4.17233,2,      0.070,1,      0.000,2,      0.428,1,      0.234,1,      0.034,1,     99.236,     0.0307,2,      0.104,1,      0.421,1,       0.03,2
49NZ20210713,        P01,      14,          1,         31,     X12S31,2,20210718,       0428,    41.1396,   146.7978,       5334,   250.2,2,   3.1051,2,  33.5085,2,  33.5086,2,   259.25,2,  259.60,2,   46.71,2,    0.04,2,   24.27,2,    0.02,2,   1.887,2,   4.486,2,   2.440,2,   0.356,2,   3.572,2,  2184.7,2,  2260.0,2,   52.19,2, -999.00,9,    33.6722,2,     619.10,2,       0.10,       0.01,       0.06,       0.01,      0.011,     0.0083,2,    3.10691,2,      0.064,1,      0.000,2,      0.450,1,      0.247,1,      0.038,1,     99.351,     0.0260,2,      0.109,1,      0.454,1,       0.03,2
49NZ20210713,        P01,      14,          1,         30,     X12S30,2,20210718,       0428,    41.1396,   146.7978,       5334,   330.3,2,   2.1667,2,  33.4674,2,  33.4678,2,   200.69,2,  200.74,2,   68.32,2,    0.02,2,   31.67,2,    0.02,2,   2.413,2,   4.170,2,   2.251,2,   0.301,2,   2.901,2,  2237.6,2,  2269.5,2,   49.02,2, -999.00,9,    33.6317,2,     618.25,2,       0.13,       0.01,       0.08,       0.01,      0.006,     0.0105,2,    2.16694,2,      0.068,1,      0.000,2,      0.506,1,      0.292,1,      0.046,1,     99.575,     0.0170,2,      0.079,1,      0.519,1,     -999.0,9
49NZ20210713,        P01,      14,          1,         29,     X12S29,2,20210718,       0428,    41.1396,   146.7978,       5334,   428.2,2,   2.4622,2,  33.5990,2,  33.6015,2,   157.01,2,  155.62,2,   80.77,2,    0.03,2,   35.00,2,    0.01,2,   2.617,2,   3.590,2,   1.926,2,   0.265,2,   2.375,2,  2264.6,2,  2286.6,2,   47.97,2, -999.00,9,    33.7694,2,     620.80,2,       0.14,       0.01,       0.08,       0.01,      0.006,     0.0111,2,    2.46285,2,      0.084,1,      0.000,2,      0.478,1,      0.275,1,      0.046,1,     99.610,     0.0156,2,      0.079,1,      0.541,1,     -999.0,9
49NZ20210713,        P01,      14,          1,         28,     X12S28,2,20210718,       0428,    41.1396,   146.7978,       5334,   529.7,2,   2.6760,2,  33.7660,2,  33.7667,2,   111.65,2,  110.89,2,   96.65,2,    0.03,2,   38.39,2,    0.01,2,   2.814,2,   2.826,2,   1.502,2,   0.198,2,   1.815,2,  2297.9,2,  2300.2,2,   47.69,2, -999.00,9,    33.9357,2,     623.85,2,       0.17,       0.01,       0.08,       0.01,      0.006,     0.0113,2,    2.67638,2,      0.073,1,      0.000,2,      0.492,1,      0.294,1,      0.060,1,     99.468,     0.0213,2,      0.095,1,      0.562,1,     -999.0,9
49NZ20210713,        P01,      14,          1,         27,     X12S27,2,20210718,       0428,    41.1396,   146.7978,       5334,   629.3,2,   3.2851,2,  33.9966,2,  33.9965,2,    47.73,2,   47.93,2,  111.24,2,    0.03,2,   42.31,2,    0.00,2,   3.038,2,   1.760,2,   0.915,2,   0.115,2,   0.843,2,  2336.2,2,  2319.1,2,   45.75,2, -999.00,9,    34.1683,2,     628.10,2,       0.19,       0.01,       0.09,       0.01,      0.006,     0.0126,2,    3.28513,2,      0.076,1,      0.000,2,      0.518,1,      0.325,1,      0.069,1,     99.596,     0.0162,2,      0.081,1,      0.597,1,     -999.0,9
49NZ20210713,        P01,      14,          1,         26,     X12S26,2,20210718,       0428,    41.1396,   146.7978,       5334,   729.5,2,   3.8672,2,  34.2036,2,  34.2038,2,    46.60,2,   46.35,2,  113.67,2,    0.02,2,   41.10,2,    0.00,2,   2.940,2,   0.935,2,   0.495,2,   0.043,2,   0.325,2,  2336.2,6,  2339.7,2,   49.06,4, -999.00,9,    34.3773,2,     631.80,2,       0.19,       0.01,       0.09,       0.01,      0.006,     -999.0,9,    3.86507,2,      0.071,1,      0.000,2,     -999.0,9,     -999.0,9,     -999.0,9,     99.745,     0.0102,2,      0.070,1,      0.578,1,     -999.0,9
49NZ20210713,        P01,      14,          1,         25,     X12S25,2,20210718,       0428,    41.1396,   146.7978,       5334,   830.1,2,   3.4750,2,  34.2533,2,  34.2456,2,    35.57,2,   34.37,2,  126.06,2,    0.04,2,   42.36,2,    0.00,2,   3.030,2,   0.713,2,   0.419,2,   0.038,2,   0.878,2,  2357.5,2,  2350.1,2,   41.10,2, -999.00,9,    34.4198,2,     632.65,2,       0.21,       0.01,       0.09,       0.01,      0.006,     0.0127,2,    3.47448,2,      0.073,1,      0.000,2,      0.423,1,      0.255,1,      0.051,1,     99.768,     0.0093,2,      0.067,1,      0.592,1,     -999.0,9
49NZ20210713,        P01,      14,          1,         24,     X12S24,2,20210718,       0428,    41.1396,   146.7978,       5334,   929.9,2,   3.2267,2,  34.2996,2,  34.3002,2,    33.44,2,   33.55,2,  132.98,2,    0.03,2,   42.55,2,    0.00,2,   3.045,2,   0.512,2,   0.285,2,   0.025,2,   0.184,2,  2364.2,2,  2359.3,2,   42.50,2, -999.00,9,    34.4745,2,     633.65,2,       0.21,       0.01,       0.09,       0.01,      0.006,     -999.0,9,    3.22888,2,      0.073,1,      0.000,2,     -999.0,9,     -999.0,9,     -999.0,9,     99.795,     0.0082,2,      0.067,1,      0.597,1,     -999.0,9
49NZ20210713,        P01,      14,          1,         23,     X12S23,2,20210718,       0428,    41.1396,   146.7978,       5334,  1069.1,2,   2.9843,2,  34.3688,2,  34.3678,2,    34.88,2,   35.77,2,  141.19,2,    0.03,2,   42.71,2,    0.00,2,   3.054,2,   0.309,2,   0.182,2,   0.016,2,   0.090,2,  2370.5,2,  2373.0,2,   39.97,2, -999.00,9,    34.5441,2,     634.90,2,       0.23,       0.01,       0.09,       0.01,      0.006,     0.0130,2,    2.98430,2,      0.071,1,      0.000,2,      0.394,1,      0.235,1,      0.046,1,     99.731,     0.0108,2,      0.074,1,      0.593,1,     -999.0,9
49NZ20210713,        P01,      14,          1,         22,     X12S22,3,20210718,       0428,    41.1396,   146.7978,       5334,  1268.5,2,   2.7068,2,  34.4459,2,  34.4441,3,    37.91,2,   38.07,2,  148.29,2,    0.03,2,   42.68,2,    0.00,2,   3.042,2,   0.123,2,   0.074,2,   0.004,2,   0.039,2,  2377.9,2,  2380.8,6,   39.14,2, -999.00,9,    34.6215,2,     636.25,2,       0.23,       0.01,       0.09,       0.01,      0.006,     -999.0,9,    2.70698,2,      0.069,1,      0.000,2,     -999.0,9,     -999.0,9,     -999.0,9,     99.802,     0.0079,2,      0.068,1,      0.580,1,     -999.0,9
49NZ20210713,        P01,      14,          1,         21,     X12S21,2,20210718,       0428,    41.1396,   146.7978,       5334,  1468.9,2,   2.4293,2,  34.4950,2,  34.4954,2,    43.83,2,   43.86,2,  156.72,2,    0.02,2,   42.64,2,    0.00,2,   3.034,2,   0.075,2,   0.045,2,   0.002,2,   0.026,2,  2383.2,2,  2394.1,2,   38.15,2, -999.00,9,    34.6723,2,     637.15,2,       0.25,       0.01,       0.09,       0.01,      0.006,     0.0129,2,    2.42933,2,      0.067,1,      0.000,2,      0.383,1,      0.233,1,      0.046,1,     99.692,     0.0123,2,      0.077,1,      0.581,1,     -999.0,9
49NZ20210713,        P01,      14,          1,         20,     X12S20,2,20210718,       0428,    41.1396,   146.7978,       5334,  1669.2,2,   2.2395,2,  34.5340,2,  34.5342,2,    52.20,2,   52.31,2,  160.61,2,    0.03,2,   42.21,2,    0.00,2,   2.998,2,   0.043,2,   0.025,2,   0.001,2,   0.009,2,  2381.4,2,  2402.4,2,   39.93,2, -999.00,9,    34.7127,2,     637.95,2,       0.25,       0.01,       0.09,       0.01,      0.006,     -999.0,9,    2.23975,2,      0.064,1,      0.000,2,     -999.0,9,     -999.0,9,     -999.0,9,     99.557,     0.0178,2,      0.076,1,      0.578,1,     -999.0,9
49NZ20210713,        P01,      14,          1,         19,     X12S19,2,20210718,       0428,    41.1396,   146.7978,       5334,  1871.7,2,   2.0902,2,  34.5672,2,  34.5684,2,    64.44,2,   64.95,2,  161.22,2,    0.02,2,   41.57,2,    0.00,2,   2.939,2,   0.015,2,   0.008,2,   0.001,2,   0.046,2,  2382.4,2,  2406.8,2,   39.54,2, -999.00,9,    34.7478,2,     638.55,2,       0.25,       0.01,       0.09,       0.01,      0.006,     0.0121,2,    2.09022,2,      0.063,1,      0.000,2,      0.352,1,      0.207,1,      0.039,1,     99.765,     0.0094,2,      0.066,1,      0.562,1,     -999.0,9
49NZ20210713,        P01,      14,          1,         18,     X12S18,2,20210718,       0428,    41.1396,   146.7978,       5334,  2070.1,2,   1.9394,2,  34.5933,2,  34.5940,2,    74.98,2,   75.48,2,  163.40,2,    0.03,2,   40.97,2,    0.00,2,   2.886,2,   0.008,2,   0.004,2,   0.000,2,   0.038,2,  2376.0,2,  2410.3,2,   37.26,2, -999.00,9,    34.7749,2,     639.05,2,       0.26,       0.01,       0.09,       0.01,      0.006,     -999.0,9,    1.93877,2,      0.063,1,      0.000,2,     -999.0,9,     -999.0,9,     -999.0,9,     99.825,     0.0070,2,      0.066,1,      0.550,1,     -999.0,9
49NZ20210713,        P01,      14,          1,         17,     X12S17,2,20210718,       0428,    41.1396,   146.7978,       5334,  2271.3,2,   1.8309,2,  34.6137,2,  34.6146,2,    86.90,2,   87.63,2,  162.93,2,    0.02,2,   40.21,2,    0.00,2,   2.826,2,   0.003,2,   0.002,2,   0.000,2,   0.064,2,  2370.1,2,  2417.3,2,   37.44,2, -999.00,9,    34.7938,2,     639.30,2,       0.25,       0.01,       0.08,       0.01,      0.006,     0.0114,2,    1.83085,2,      0.060,1,      0.000,2,      0.365,1,      0.218,1,      0.045,1,     99.873,     0.0051,2,      0.063,1,      0.543,1,     -999.0,9
49NZ20210713,        P01,      14,          1,         16,     X12S16,2,20210718,       0428,    41.1396,   146.7978,       5334,  2470.2,2,   1.7279,2,  34.6315,2,  34.6318,2,    99.65,2,   99.78,2,  162.03,2,    0.02,2,   39.45,2,    0.00,2,   2.771,2,   0.001,2,   0.000,2,   0.000,2,   0.074,2,  2362.9,6,  2417.2,2,   40.60,2, -999.00,9,    34.8113,2,     639.70,2,       0.25,       0.01,       0.08,       0.01,      0.006,     -999.0,9,    1.72819,2,      0.059,1,      0.000,2,     -999.0,9,     -999.0,9,     -999.0,9,     99.930,     0.0028,2,      0.059,1,      0.537,1,     -999.0,9
49NZ20210713,        P01,      14,          1,         15,     X12S15,2,20210718,       0428,    41.1396,   146.7978,       5334,  2670.5,2,   1.6676,2,  34.6429,2,  34.6427,2,   109.78,2,  109.67,2,  159.80,2,    0.02,2,   38.87,2,    0.00,2,   2.722,2,   0.002,2,   0.002,2,   0.000,2,   0.030,2,  2360.7,2,  2415.4,2,   37.36,2, -999.00,9,    34.8210,2,     639.85,2,       0.25,       0.01,       0.08,       0.01,      0.006,     0.0108,2,    1.66792,2,      0.058,1,      0.000,2,      0.330,1,      0.196,1,      0.036,1,     99.932,     0.0027,2,      0.057,1,      0.522,1,     -999.0,9
49NZ20210713,        P01,      14,          1,         14,     X12S14,2,20210718,       0428,    41.1396,   146.7978,       5334,  2869.7,2,   1.6093,2,  34.6524,2,  34.6529,2,   117.31,2,  117.42,2,  159.22,2,    0.02,2,   38.38,2,    0.00,2,   2.683,2,   0.000,2,   0.000,2,   0.000,2,   0.037,2,  2355.5,2,  2414.4,2,   37.59,2, -999.00,9,    34.8325,2,     640.05,2,       0.25,       0.01,       0.08,       0.01,      0.006,     -999.0,9,    1.60983,2,      0.058,1,      0.000,2,     -999.0,9,     -999.0,9,     -999.0,9,     99.900,     0.0040,2,      0.056,1,      0.518,1,     -999.0,9
49NZ20210713,        P01,      14,          1,         13,     X12S13,2,20210718,       0428,    41.1396,   146.7978,       5334,  3079.9,2,   1.5614,2,  34.6606,2,  34.6615,2,   125.31,2,  125.62,2,  157.38,2,    0.03,2,   37.78,2,    0.00,2,   2.637,2,   0.006,2,   0.004,2,   0.000,2,   0.049,2,  2349.5,2,  2414.7,2,   35.39,2, -999.00,9,    34.8402,2,     640.25,2,       0.25,       0.01,       0.08,       0.01,      0.007,     0.0101,2,    1.56119,2,      0.057,1,      0.000,2,      0.295,1,      0.169,1,      0.027,1,     99.926,     0.0030,2,      0.056,1,      0.510,1,     -999.0,9
49NZ20210713,        P01,      14,          1,         12,     X12S12,2,20210718,       0428,    41.1396,   146.7978,       5334,  3329.4,2,   1.5237,2,  34.6680,2,  34.6684,2,   133.38,2,  133.21,3,  155.59,2,    0.02,2,   37.31,2,    0.00,2,   2.597,2,   0.001,2,   0.000,2,   0.000,2,   0.031,2,  2342.9,2,  2412.2,6,   37.72,2, -999.00,9,    34.8479,2,     640.35,2,       0.24,       0.01,       0.08,       0.01,      0.006,     -999.0,9,    1.52385,2,      0.055,1,      0.000,2,     -999.0,9,     -999.0,9,     -999.0,9,     99.916,     0.0033,2,      0.056,1,      0.506,1,     -999.0,9
49NZ20210713,        P01,      14,          1,         11,     X12S11,2,20210718,       0428,    41.1396,   146.7978,       5334,  3580.1,2,   1.4928,2,  34.6741,2,  34.6746,2,   140.50,2,  140.70,2,  153.65,2,    0.02,2,   36.89,2,    0.00,2,   2.561,2,   0.002,2,   0.002,2,   0.000,2,   0.015,2,  2338.5,2,  2419.9,3,   36.03,2, -999.00,9,    34.8529,2,     640.45,2,       0.24,       0.01,       0.18,       0.01,      0.006,     0.0099,2,    1.49306,2,      0.054,1,      0.000,2,      0.303,1,      0.176,1,      0.031,1,     99.935,     0.0026,2,      0.057,1,      0.501,1,     -999.0,9
49NZ20210713,        P01,      14,          1,         10,     X12S10,2,20210718,       0428,    41.1396,   146.7978,       5334,  3828.9,2,   1.4757,2,  34.6786,2,  34.6792,2,   145.80,2,  145.73,2,  152.19,2,    0.01,2,   36.50,2,    0.00,2,   2.534,2,   0.001,2,   0.000,2,   0.000,2,   0.000,2,  2334.7,2,  2412.6,2,   37.15,2, -999.00,9,    34.8569,2,     640.55,2,       0.25,       0.01,       0.08,       0.01,      0.006,     -999.0,9,    1.47564,2,      0.054,1,      0.000,2,     -999.0,9,     -999.0,9,     -999.0,9,     99.939,     0.0024,2,      0.059,1,      0.498,1,     -999.0,9
49NZ20210713,        P01,      14,          1,          9,     X12S09,2,20210718,       0428,    41.1396,   146.7978,       5334,  4078.3,2,   1.4703,2,  34.6819,2,  34.6822,2,   149.88,2,  149.91,2,  151.20,2,    0.01,2,   36.23,2,    0.00,2,   2.506,2,   0.007,2,   0.006,2,   0.001,2,   0.023,2,  2334.4,2,  2410.7,2,   37.31,2, -999.00,9,    34.8611,2,     640.65,2,       0.25,       0.01,       0.08,       0.01,      0.008,     0.0097,2,    1.47015,2,      0.054,1,      0.000,2,      0.420,1,      0.268,1,      0.061,1,     99.944,     0.0022,2,      0.054,1,      0.491,1,     -999.0,9
49NZ20210713,        P01,      14,          1,          8,     X12S08,2,20210718,       0428,    41.1396,   146.7978,       5334,  4330.6,2,   1.4682,2,  34.6851,2,  34.6853,2,   153.88,2,  153.92,2,  149.92,2,    0.02,2,   35.96,2,    0.00,2,   2.488,2,   0.000,2,   0.000,2,   0.000,2,   0.014,2,  2330.5,6,  2413.2,2,   35.12,2, -999.00,9,    34.8640,2,     640.65,2,       0.24,       0.01,       0.08,       0.01,      0.006,     -999.0,9,    1.46787,2,      0.053,1,      0.000,2,     -999.0,9,     -999.0,9,     -999.0,9,     99.946,     0.0022,2,      0.073,1,      0.485,1,     -999.0,9
49NZ20210713,        P01,      14,          1,          7,     X12S07,2,20210718,       0428,    41.1396,   146.7978,       5334,  4582.0,2,   1.4781,2,  34.6870,2,  34.6873,2,   156.14,2,  156.13,2,  150.13,2,    0.02,2,   35.81,2,    0.00,2,   2.481,2,   0.007,2,   0.003,2,   0.001,2,   0.006,2,  2326.5,2,  2411.6,2,   37.59,2, -999.00,9,    34.8653,2,     640.70,2,       0.24,       0.01,       0.08,       0.01,      0.006,     0.0096,2,    1.47809,2,      0.052,1,      0.000,2,      0.290,1,      0.161,1,      0.027,1,     99.930,     0.0028,2,      0.059,1,      0.484,1,     -999.0,9