BOTTLE,20231011CCHSIOENA
EXPOCODE,SECT_ID,STNNBR,CASTNO,SAMPNO,BTLNBR,BTLNBR_FLAG_W,DATE,TIME,LATITUDE,LONGITUDE,DEPTH,CTDPRS,CTDPRS_FLAG_W,CTDTMP,CTDTMP_FLAG_W,CTDSAL,CTDSAL_FLAG_W,SALNTY,SALNTY_FLAG_W,CTDOXY,CTDOXY_FLAG_W,OXYGEN,OXYGEN_FLAG_W,SILCAT,SILCAT_FLAG_W,NH4,NH4_FLAG_W,NITRAT,NITRAT_FLAG_W,NITRIT,NITRIT_FLAG_W,PHSPHT,PHSPHT_FLAG_W,CFC-11,CFC-11_FLAG_W,CFC-12,CFC-12_FLAG_W,CFC113,CFC113_FLAG_W,SF6,SF6_FLAG_W,TCARBN,TCARBN_FLAG_W,ALKALI,ALKALI_FLAG_W,DOC,DOC_FLAG_W,TDN,TDN_FLAG_W,DNSSAL,DNSSAL_FLAG_W,RIANOMALY,RIANOMALY_FLAG_W,SILUNC,NH4UNC,NRAUNC,NRIUNC,PHPUNC,FDOM,FDOM_FLAG_W,REFTMP,REFTMP_FLAG_W,CTDFLUOR,CTDFLUOR_FLAG_W,PAR,PAR_FLAG_W,CDOM300,CDOM300_FLAG_W,CDOM325,CDOM325_FLAG_W,CDOM443,CDOM443_FLAG_W,CTDXMISS,CTDBEAMCP,CTDBEAMCP_FLAG_W,CTDTURB,CTDTURB_FLAG_W,CTDCDOM,CTDCDOM_FLAG_W,CHLORA,CHLORA_FLAG_W
,,,,,,,,,,,METERS,DBAR,,ITS-90,,PSS-78,,PSS-78,,UMOL/KG,,UMOL/KG,,UMOL/KG,,UMOL/KG,,UMOL/KG,,UMOL/KG,,UMOL/KG,,PMOL/KG,,PMOL/KG,,PMOL/KG,,FMOL/KG,,UMOL/KG,,UMOL/KG,,UMOL/KG,,UMOL/KG,,G/KG,,ND,,UMOL/KG,UMOL/KG,UMOL/KG,UMOL/KG,UMOL/KG,RFU,,ITS-90,,MG/M^3,,UMOL/M^2/SEC,,/METER,,/METER,,/METER,,%TRANS,/METER,,FTU,,QSU,,UG/L,
49NZ20210713,        P01,      38,          3,         36,     X12S36,2,20210725,       0057,    47.0096,   160.0221,       5195,    10.3,2,  11.0638,2,  32.9232,2,  32.9289,2,   298.95,2,  304.26,2,   24.63,2,    0.23,2,   15.93,2,    0.17,2,   1.442,2,   3.713,2,   1.787,2,   0.264,2,   3.503,2,  2069.4,2,  2234.2,2,   58.46,2, -999.00,9,    33.0886,2,     608.29,2,       0.07,       0.02,       0.04,       0.01,      0.005,     0.0037,2,   11.06554,2,      1.591,1,    144.876,2,      0.395,1,      0.207,1,      0.030,1,     91.329,     0.3628,2,      0.244,1,      0.265,1,       0.77,2
49NZ20210713,        P01,      38,          3,          2,     X12B34,2,20210725,       0057,    47.0096,   160.0221,       5195,    28.1,2,   5.1522,2,  32.9141,2,  32.9159,2,   348.50,2,  345.49,2,   27.49,2,    0.60,2,   18.78,2,    0.16,2,   1.667,2,-999.000,9,-999.000,9,-999.000,9,-999.000,9,  2095.0,2,  2230.7,2,   57.27,2, -999.00,9,    33.0769,2,     608.04,2,       0.07,       0.02,       0.05,       0.01,      0.005,     0.0052,2,    5.15569,2,      1.865,1,     22.518,2,      0.452,1,      0.249,1,      0.035,1,     96.716,     0.1336,2,      0.191,1,      0.309,1,       0.76,2
49NZ20210713,        P01,      38,          3,         35,     X12S35,2,20210725,       0057,    47.0096,   160.0221,       5195,    50.1,2,   3.9100,2,  33.0167,2,  33.0233,2,   333.09,2,  334.33,2,   41.90,2,    1.44,2,   23.59,2,    0.33,2,   2.025,2,   5.009,2,   2.693,2,   0.376,3,   4.317,2,  2123.2,2,  2232.3,2,   54.86,2, -999.00,9,    33.1870,2,     610.04,2,       0.09,       0.03,       0.06,       0.01,      0.006,     0.0059,2,    3.91203,2,      1.594,1,      3.697,2,      0.417,1,      0.226,1,      0.034,1,     97.337,     0.1080,2,      0.125,1,      0.321,1,       0.57,2
49NZ20210713,        P01,      38,          3,         34,     X12S34,2,20210725,       0057,    47.0096,   160.0221,       5195,   100.0,2,   1.9099,2,  33.1234,2,  33.1264,2,   324.86,2,  327.48,2,   52.76,2,    0.01,2,   28.65,2,    0.02,2,   2.192,2,   5.224,2,   2.500,2,   0.502,3,   4.502,2,  2154.0,2,  2237.4,2,   50.40,2, -999.00,9,    33.2899,2,     611.99,2,       0.11,       0.01,       0.06,       0.01,      0.005,     0.0058,2,    1.91010,2,      0.164,1,      0.000,2,      0.398,1,      0.207,1,      0.030,1,     99.157,     0.0339,2,      0.096,1,      0.320,1,       0.10,2
49NZ20210713,        P01,      38,          3,         33,     X12S33,2,20210725,       0057,    47.0096,   160.0221,       5195,   150.0,2,   2.3872,2,  33.4013,2,  33.4002,2,   221.38,2,  220.95,2,   68.18,2,    0.00,2,   34.49,2,    0.01,2,   2.534,2,   4.157,2,   1.955,2,   0.310,2,   3.308,2,  2219.4,2,  2257.2,2,   48.30,2, -999.00,9,    33.5669,2,     617.04,2,       0.13,       0.01,       0.07,       0.01,      0.006,     0.0089,2,    2.38650,2,      0.090,1,      0.000,2,      0.422,1,      0.231,1,      0.037,1,     99.208,     0.0318,2,      0.094,1,      0.387,1,       0.05,2
49NZ20210713,        P01,      38,          3,         32,     X12S32,2,20210725,       0057,    47.0096,   160.0221,       5195,   199.1,2,   3.7495,2,  33.8773,2,  33.8756,2,    26.77,2,   27.34,2,   97.88,2,    0.00,2,   44.96,2,    0.01,2,   3.178,2,   2.192,2,   1.017,2,   0.156,2,   1.058,2,  2334.0,2,  2299.7,2,   44.85,2, -999.00,9,    34.0478,2,     625.79,2,       0.17,       0.01,       0.09,       0.01,      0.007,     0.0128,2,    3.75110,2,      0.082,1,      0.000,2,      0.462,1,      0.271,1,      0.052,1,     99.159,     0.0338,2,      0.098,1,      0.475,1,       0.03,2
49NZ20210713,        P01,      38,          3,         31,     X12S31,2,20210725,       0057,    47.0096,   160.0221,       5195,   250.0,2,   3.7270,2,  33.9810,2,  33.9891,2,    13.70,2,   13.33,2,  106.48,2,    0.01,2,   45.42,2,    0.01,2,   3.221,2,   1.703,2,   0.797,2,   0.142,2,   0.662,2,  2354.5,2,  2306.8,2,   42.89,2, -999.00,9,    34.1626,2,     627.94,2,       0.18,       0.01,       0.09,       0.01,      0.007,     0.0132,2,    3.72555,2,      0.078,1,      0.000,2,      0.459,1,      0.270,1,      0.049,1,     99.636,     0.0146,2,      0.078,1,      0.486,1,       0.02,2
49NZ20210713,        P01,      38,          3,         30,     X12S30,2,20210725,       0057,    47.0096,   160.0221,       5195,   301.3,2,   3.6650,2,  34.0503,2,  34.0491,2,    13.11,2,   13.03,2,  111.68,2,    0.01,2,   45.00,2,    0.00,2,   3.206,2,   1.410,2,   0.665,2,   0.112,2,   0.489,2,  2352.0,2,  2318.8,2,   40.53,2, -999.00,9,    34.2213,2,     628.94,2,       0.19,       0.01,       0.09,       0.01,      0.007,     0.0136,2,    3.66457,2,      0.076,1,      0.000,2,      0.448,1,      0.262,1,      0.054,1,     99.535,     0.0187,2,      0.062,1,      0.485,1,     -999.0,9
49NZ20210713,        P01,      38,          3,         29,     X12S29,2,20210725,       0057,    47.0096,   160.0221,       5195,   398.3,2,   3.5331,2,  34.1536,2,  34.1541,2,    13.06,2,   12.72,2,  121.61,2,    0.00,2,   44.47,2,    0.00,2,   3.152,2,   0.897,2,   0.487,2,   0.069,2,   0.282,2,  2359.9,2,  2337.5,2,   42.27,2, -999.00,9,    34.3286,2,     630.88,2,       0.22,       0.01,       0.09,       0.01,      0.007,     0.0135,2,    3.52979,2,      0.075,1,      0.000,2,      0.486,1,      0.302,1,      0.067,1,     99.795,     0.0082,2,      0.057,1,      0.470,1,     -999.0,9
49NZ20210713,        P01,      38,          3,         28,     X12S28,2,20210725,       0057,    47.0096,   160.0221,       5195,   498.1,2,   3.3663,2,  34.2195,2,  34.2186,2,    13.07,2,   12.57,2,  128.96,2,    0.00,2,   44.32,2,    0.00,2,   3.152,2,   0.630,2,   0.315,2,   0.056,2,   0.155,2,  2366.5,2,  2346.6,2,   40.71,2, -999.00,9,    34.3930,2,     632.09,2,       0.21,       0.01,       0.09,       0.01,      0.009,     0.0134,2,    3.36682,2,      0.074,1,      0.000,2,      0.427,1,      0.253,1,      0.048,1,     99.857,     0.0057,2,      0.055,1,      0.449,1,     -999.0,9
49NZ20210713,        P01,      38,          3,         27,     X12S27,2,20210725,       0057,    47.0096,   160.0221,       5195,   599.8,2,   3.1916,2,  34.2781,2,  34.2775,2,    13.15,2,   12.55,2,  136.42,2,    0.00,2,   44.30,2,    0.00,2,   3.168,2,   0.423,2,   0.244,2,   0.035,2,   0.143,2,  2372.3,2,  2354.6,2,   40.69,2, -999.00,9,    34.4548,2,     633.24,2,       0.22,       0.01,       0.09,       0.01,      0.007,     0.0134,2,    3.19135,2,      0.073,1,      0.000,2,      0.406,1,      0.242,1,      0.045,1,     99.882,     0.0047,2,      0.052,1,      0.430,1,     -999.0,9
49NZ20210713,        P01,      38,          3,         26,     X12S26,2,20210725,       0057,    47.0096,   160.0221,       5195,   698.4,2,   3.0122,2,  34.3280,2,  34.3278,2,    13.94,2,   13.25,2,  143.20,2,    0.00,2,   44.25,2,    0.00,2,   3.170,2,   0.282,2,   0.169,2,   0.023,2,   0.089,2,  2382.2,6,  2365.3,2,   39.91,2, -999.00,9,    34.5051,2,     634.19,2,       0.23,       0.01,       0.09,       0.01,      0.007,     -999.0,9,    3.01199,2,      0.073,1,      0.000,2,     -999.0,9,     -999.0,9,     -999.0,9,     99.889,     0.0044,2,      0.053,1,      0.425,1,     -999.0,9
49NZ20210713,        P01,      38,          3,         25,     X12S25,2,20210725,       0057,    47.0096,   160.0221,       5195,   798.2,2,   2.8485,2,  34.3693,2,  34.3694,2,    15.35,2,   14.71,2,  148.90,2,    0.02,2,   44.18,2,    0.00,2,   3.142,2,   0.195,2,   0.119,2,   0.012,2,   0.082,2,  2388.8,2,  2368.5,2,   43.20,2, -999.00,9,    34.5463,2,     634.88,2,       0.24,       0.01,       0.09,       0.01,      0.006,     0.0133,2,    2.84855,2,      0.072,1,      0.000,2,      0.388,1,      0.227,1,      0.044,1,     99.900,     0.0040,2,      0.053,1,      0.421,1,     -999.0,9
49NZ20210713,        P01,      38,          3,         24,     X12S24,2,20210725,       0057,    47.0096,   160.0221,       5195,   895.6,2,   2.6904,2,  34.4072,2,  34.4073,2,    17.27,2,   16.70,2,  153.98,2,    0.03,2,   44.08,2,    0.00,2,   3.140,2,   0.133,2,   0.082,2,   0.006,2,   0.049,2,  2389.4,2,  2379.2,2,   40.72,2, -999.00,9,    34.5853,2,     635.54,2,       0.24,       0.01,       0.09,       0.01,      0.006,     -999.0,9,    2.69077,2,      0.071,1,      0.000,2,     -999.0,9,     -999.0,9,     -999.0,9,     99.891,     0.0044,2,      0.053,1,      0.420,1,     -999.0,9
49NZ20210713,        P01,      38,          3,         23,     X12S23,2,20210725,       0057,    47.0096,   160.0221,       5195,   999.9,2,   2.5463,2,  34.4393,2,  34.4393,2,    19.94,2,   19.70,2,  158.69,2,    0.02,2,   44.01,2,    0.00,2,   3.133,2,   0.094,2,   0.059,2,   0.007,2,   0.047,2,  2392.7,2,  2387.2,2,   36.84,2, -999.00,9,    34.6180,2,     636.13,2,       0.25,       0.01,       0.09,       0.01,      0.006,     0.0134,2,    2.54632,2,      0.069,1,      0.000,2,      0.409,1,      0.247,1,      0.051,1,     99.912,     0.0035,2,      0.052,1,      0.421,1,     -999.0,9
49NZ20210713,        P01,      38,          3,         22,     X12S22,2,20210725,       0057,    47.0096,   160.0221,       5195,  1200.2,2,   2.2941,2,  34.4959,2,  34.4964,2,    33.01,2,   32.95,2,  165.06,2,    0.01,2,   43.29,2,    0.00,2,   3.077,2,   0.059,2,   0.038,2,   0.006,2,   0.006,2,  2391.8,2,  2392.8,6,   36.42,2, -999.00,9,    34.6767,2,     637.19,2,       0.26,       0.01,       0.09,       0.01,      0.006,     -999.0,9,    2.29374,2,      0.067,1,      0.000,2,     -999.0,9,     -999.0,9,     -999.0,9,     99.907,     0.0037,2,      0.053,1,      0.466,1,     -999.0,9
49NZ20210713,        P01,      38,          3,         21,     X12S21,2,20210725,       0057,    47.0096,   160.0221,       5195,  1400.7,2,   2.1165,2,  34.5357,2,  34.5361,2,    42.30,2,   42.64,2,  169.44,2,    0.00,2,   42.77,2,    0.00,2,   3.035,2,   0.028,2,   0.018,2,   0.004,2,   0.015,2,  2387.9,2,  2401.0,2,   39.50,2, -999.00,9,    34.7169,2,     637.88,2,       0.26,       0.01,       0.09,       0.01,      0.006,     0.0130,2,    2.11646,2,      0.066,1,      0.000,2,      0.370,1,      0.216,1,      0.040,1,     99.926,     0.0030,2,      0.051,1,      0.460,1,     -999.0,9
49NZ20210713,        P01,      38,          3,         20,     X12S20,2,20210725,       0057,    47.0096,   160.0221,       5195,  1599.6,2,   1.9707,2,  34.5702,2,  34.5692,2,    57.21,2,   56.66,2,  170.19,2,    0.01,2,   41.92,2,    0.00,2,   2.981,2,   0.013,2,   0.009,2,   0.003,2,   0.017,2,  2385.9,2,  2406.7,2,   38.93,2, -999.00,9,    34.7505,2,     638.59,2,       0.26,       0.01,       0.09,       0.01,      0.006,     -999.0,9,    1.97048,2,      0.064,1,      0.000,2,     -999.0,9,     -999.0,9,     -999.0,9,     99.937,     0.0025,2,      0.051,1,      0.439,1,     -999.0,9
49NZ20210713,        P01,      38,          3,         19,     X12S19,2,20210725,       0057,    47.0096,   160.0221,       5195,  1800.0,2,   1.8769,2,  34.5917,2,  34.5918,2,    68.22,2,   67.43,2,  170.45,2,    0.01,2,   41.23,2,    0.00,2,   2.928,2,   0.005,2,   0.005,2,   0.003,2,   0.026,2,  2379.1,2,  2409.1,2,   36.99,2, -999.00,9,    34.7735,2,     638.94,2,       0.26,       0.01,       0.09,       0.01,      0.006,     0.0123,2,    1.87689,2,      0.063,1,      0.000,2,      0.353,1,      0.206,1,      0.040,1,     99.944,     0.0022,2,      0.049,1,      0.429,1,     -999.0,9
49NZ20210713,        P01,      38,          3,         18,     X12S18,2,20210725,       0057,    47.0096,   160.0221,       5195,  2000.2,2,   1.7796,2,  34.6125,2,  34.6127,2,    80.87,2,   80.32,2,  169.02,2,    0.01,2,   40.44,2,    0.00,2,   2.874,2,   0.000,2,   0.000,2,   0.000,2,   0.040,2,  2373.5,2,  2410.4,2,   39.89,2, -999.00,9,    34.7921,2,     639.29,2,       0.26,       0.01,       0.12,       0.01,      0.006,     -999.0,9,    1.77949,2,      0.062,1,      0.000,2,     -999.0,9,     -999.0,9,     -999.0,9,     99.940,     0.0024,2,      0.052,1,      0.414,1,     -999.0,9
49NZ20210713,        P01,      38,          3,         17,     X12S17,2,20210725,       0057,    47.0096,   160.0221,       5195,  2198.9,2,   1.6909,2,  34.6305,2,  34.6302,2,    95.71,2,   95.19,2,  166.05,2,    0.00,2,   39.54,2,    0.00,2,   2.801,2,   0.000,2,   0.000,2,   0.000,2,   0.038,2,  2362.9,2,  2414.1,2,   38.56,2, -999.00,9,    34.8120,2,     639.69,2,       0.26,       0.01,       0.08,       0.01,      0.006,     0.0112,2,    1.69088,2,      0.061,1,      0.000,2,      0.323,1,      0.185,1,      0.034,1,     99.944,     0.0022,2,      0.049,1,      0.407,1,     -999.0,9
49NZ20210713,        P01,      38,          3,         16,     X12S16,2,20210725,       0057,    47.0096,   160.0221,       5195,  2400.0,2,   1.6295,2,  34.6425,2,  34.6431,2,   106.29,2,  105.93,2,  163.44,2,    0.00,2,   38.80,2,    0.00,2,   2.744,2,   0.000,2,   0.000,2,   0.002,2,   0.039,2,  2355.6,6,  2415.8,2,   40.70,2, -999.00,9,    34.8233,2,     639.84,2,       0.26,       0.01,       0.08,       0.01,      0.006,     -999.0,9,    1.62969,2,      0.060,1,      0.000,2,     -999.0,9,     -999.0,9,     -999.0,9,     99.969,     0.0012,2,      0.050,1,      0.397,1,     -999.0,9
49NZ20210713,        P01,      38,          3,         15,     X12S15,2,20210725,       0057,    47.0096,   160.0221,       5195,  2600.6,2,   1.5851,2,  34.6515,2,  34.6519,2,   115.44,2,  115.13,2,  160.82,2,    0.00,2,   38.31,2,    0.00,2,   2.707,2,   0.002,2,   0.002,2,   0.000,2,   0.027,2,  2352.4,2,  2412.4,2,   37.09,2, -999.00,9,    34.8344,2,     640.04,2,       0.25,       0.01,       0.08,       0.01,      0.007,     0.0104,2,    1.58486,2,      0.059,1,      0.000,2,      0.308,1,      0.176,1,      0.035,1,     99.967,     0.0013,2,      0.049,1,      0.395,1,     -999.0,9
49NZ20210713,        P01,      38,          3,         14,     X12S14,2,20210725,       0057,    47.0096,   160.0221,       5195,  2801.5,2,   1.5456,2,  34.6588,2,  34.6592,2,   122.63,2,  122.80,2,  159.39,2,    0.00,2,   37.85,2,    0.00,2,   2.669,2,   0.000,2,   0.000,2,   0.005,2,   0.000,2,  2346.5,2,  2413.7,2,   40.90,4, -999.00,9,    34.8397,2,     640.24,2,       0.25,       0.01,       0.08,       0.01,      0.006,     -999.0,9,    1.54549,2,      0.059,1,      0.000,2,     -999.0,9,     -999.0,9,     -999.0,9,     99.981,     0.0008,2,      0.057,1,      0.377,1,     -999.0,9
49NZ20210713,        P01,      38,          3,         13,     X12S13,2,20210725,       0057,    47.0096,   160.0221,       5195,  3000.3,2,   1.5119,2,  34.6651,2,  34.6653,2,   129.90,2,  129.95,2,  156.75,2,    0.02,2,   37.31,2,    0.00,2,   2.609,2,   0.000,2,   0.000,2,   0.000,2,   0.000,2,  2341.0,2,  2417.1,2,   36.71,2, -999.00,9,    34.8448,2,     640.24,2,       0.25,       0.01,       0.08,       0.01,      0.006,     0.0100,2,    1.51165,2,      0.059,1,      0.000,2,      0.367,1,      0.226,1,      0.050,1,     99.992,     0.0003,2,      0.049,1,      0.385,1,     -999.0,9
49NZ20210713,        P01,      38,          3,         12,     X12S12,2,20210725,       0057,    47.0096,   160.0221,       5195,  3251.1,2,   1.4837,2,  34.6713,2,  34.6716,2,   136.85,2,  136.73,2,  154.97,2,    0.02,2,   36.98,2,    0.00,2,   2.582,2,   0.000,2,   0.000,2,   0.004,2,   0.000,2,  2335.3,2,  2413.9,6,   36.75,2, -999.00,9,    34.8506,2,     640.38,2,       0.24,       0.01,       0.08,       0.01,      0.006,     -999.0,9,    1.48344,2,      0.058,1,      0.000,2,     -999.0,9,     -999.0,9,     -999.0,9,     99.969,     0.0012,2,      0.048,1,      0.378,1,     -999.0,9
49NZ20210713,        P01,      38,          3,         11,     X12S11,2,20210725,       0057,    47.0096,   160.0221,       5195,  3499.4,2,   1.4697,2,  34.6754,2,  34.6757,2,   142.01,2,  141.87,2,  153.33,2,    0.02,2,   36.58,2,    0.00,2,   2.561,2,   0.000,2,   0.000,2,   0.002,2,   0.000,2,  2330.4,2,  2414.3,2,   38.64,2, -999.00,9,    34.8565,2,     640.49,2,       0.24,       0.01,       0.08,       0.01,      0.006,     0.0105,2,    1.46952,2,      0.058,1,      0.000,2,      0.285,1,      0.156,1,      0.024,1,     99.974,     0.0010,2,      0.054,1,      0.365,1,     -999.0,9
49NZ20210713,        P01,      38,          3,         10,     X12S10,2,20210725,       0057,    47.0096,   160.0221,       5195,  3751.5,2,   1.4590,2,  34.6794,2,  34.6797,2,   146.60,2,  146.52,2,  152.37,2,    0.01,2,   36.30,2,    0.00,2,   2.531,2,   0.000,2,   0.000,2,   0.000,2,   0.000,2,  2327.6,2,  2413.3,2,   38.68,2, -999.00,9,    34.8602,2,     640.54,2,       0.24,       0.01,       0.08,       0.01,      0.006,     -999.0,9,    1.45877,2,      0.057,1,      0.000,2,     -999.0,9,     -999.0,9,     -999.0,9,    100.002,    -0.0001,2,      0.047,1,      0.361,1,     -999.0,9
49NZ20210713,        P01,      38,          3,          9,     X12S09,2,20210725,       0057,    47.0096,   160.0221,       5195,  3999.7,2,   1.4535,2,  34.6827,2,  34.6829,2,   150.78,2,  150.63,2,  151.51,2,    0.01,2,   36.05,2,    0.00,2,   2.510,2,   0.001,2,   0.001,2,   0.000,2,   0.000,2,  2326.9,2,  2414.1,2,   38.59,2, -999.00,9,    34.8635,2,     640.59,2,       0.24,       0.01,       0.08,       0.01,      0.007,     0.0096,2,    1.45322,2,      0.057,1,      0.000,2,      0.291,1,      0.163,1,      0.026,1,     99.976,     0.0009,2,      0.047,1,      0.382,1,     -999.0,9
49NZ20210713,        P01,      38,          3,          8,     X12S08,2,20210725,       0057,    47.0096,   160.0221,       5195,  4250.5,2,   1.4613,2,  34.6849,2,  34.6853,2,   153.32,2,  153.06,2,  151.06,2,    0.01,2,   35.85,2,    0.00,2,   2.504,2,   0.001,2,   0.001,2,   0.000,2,   0.000,2,  2324.4,6,  2413.4,2,   36.96,2, -999.00,9,    34.8641,2,     640.59,2,       0.24,       0.01,       0.08,       0.01,      0.006,     -999.0,9,    1.46113,2,      0.056,1,      0.000,2,     -999.0,9,     -999.0,9,     -999.0,9,     99.988,     0.0005,2,      0.049,1,      0.395,1,     -999.0,9
49NZ20210713,        P01,      38,          3,          7,     X12S07,2,20210725,       0057,    47.0096,   160.0221,       5195,  4502.5,2,   1.4757,2,  34.6866,2,  34.6872,2,   155.04,2,  154.83,2,  151.16,2,    0.01,2,   35.73,2,    0.00,2,   2.489,2,   0.000,2,   0.000,2,   0.000,2,   0.000,2,  2321.7,2,  2413.2,2,   37.91,2, -999.00,9,    34.8681,2,     640.69,2,       0.24,       0.01,       0.08,       0.01,      0.006,     0.0096,2,    1.47566,2,      0.056,1,      0.000,2,      0.283,1,      0.156,1,      0.025,1,     99.976,     0.0009,2,      0.048,1,      0.403,1,     -999.0,9