BOTTLE,20231011CCHSIOENA
EXPOCODE,SECT_ID,STNNBR,CASTNO,SAMPNO,BTLNBR,BTLNBR_FLAG_W,DATE,TIME,LATITUDE,LONGITUDE,DEPTH,CTDPRS,CTDPRS_FLAG_W,CTDTMP,CTDTMP_FLAG_W,CTDSAL,CTDSAL_FLAG_W,SALNTY,SALNTY_FLAG_W,CTDOXY,CTDOXY_FLAG_W,OXYGEN,OXYGEN_FLAG_W,SILCAT,SILCAT_FLAG_W,NH4,NH4_FLAG_W,NITRAT,NITRAT_FLAG_W,NITRIT,NITRIT_FLAG_W,PHSPHT,PHSPHT_FLAG_W,CFC-11,CFC-11_FLAG_W,CFC-12,CFC-12_FLAG_W,CFC113,CFC113_FLAG_W,SF6,SF6_FLAG_W,TCARBN,TCARBN_FLAG_W,ALKALI,ALKALI_FLAG_W,DOC,DOC_FLAG_W,TDN,TDN_FLAG_W,DNSSAL,DNSSAL_FLAG_W,RIANOMALY,RIANOMALY_FLAG_W,SILUNC,NH4UNC,NRAUNC,NRIUNC,PHPUNC,FDOM,FDOM_FLAG_W,REFTMP,REFTMP_FLAG_W,CTDFLUOR,CTDFLUOR_FLAG_W,PAR,PAR_FLAG_W,CDOM300,CDOM300_FLAG_W,CDOM325,CDOM325_FLAG_W,CDOM443,CDOM443_FLAG_W,CTDXMISS,CTDBEAMCP,CTDBEAMCP_FLAG_W,CTDTURB,CTDTURB_FLAG_W,CTDCDOM,CTDCDOM_FLAG_W,CHLORA,CHLORA_FLAG_W
,,,,,,,,,,,METERS,DBAR,,ITS-90,,PSS-78,,PSS-78,,UMOL/KG,,UMOL/KG,,UMOL/KG,,UMOL/KG,,UMOL/KG,,UMOL/KG,,UMOL/KG,,PMOL/KG,,PMOL/KG,,PMOL/KG,,FMOL/KG,,UMOL/KG,,UMOL/KG,,UMOL/KG,,UMOL/KG,,G/KG,,ND,,UMOL/KG,UMOL/KG,UMOL/KG,UMOL/KG,UMOL/KG,RFU,,ITS-90,,MG/M^3,,UMOL/M^2/SEC,,/METER,,/METER,,/METER,,%TRANS,/METER,,FTU,,QSU,,UG/L,
49NZ20210713,        P01,      19,          1,          6,     X12S06,2,20210719,       0821,    39.9513,   147.7061,       5243,  4749.7,2,   1.4908,2,  34.6878,2,  34.6882,2,   157.60,2,  157.83,2,  148.95,2,    0.02,2,   35.70,2,    0.00,2,   2.462,2,   0.000,2,   0.004,2,   0.000,2,   0.000,2,  2321.5,2,  2410.9,6,   37.83,2, -999.00,9,    34.8671,2,     640.80,2,       0.24,       0.01,       0.08,       0.01,      0.006,     -999.0,9,    1.49093,2,      0.052,1,      0.000,2,     -999.0,9,     -999.0,9,     -999.0,9,     99.842,     0.0063,2,      0.061,1,      0.451,1,     -999.0,9
49NZ20210713,        P01,      19,          1,          5,     X12S05,2,20210719,       0821,    39.9513,   147.7061,       5243,  4999.9,2,   1.5165,2,  34.6885,2,  34.6887,2,   157.24,2,  157.40,2,  151.97,2,    0.02,2,   35.74,2,    0.00,2,   2.463,2,   0.001,2,   0.007,2,   0.000,2,   0.007,2,  2322.0,2,  2412.2,2,   34.85,2, -999.00,9,    34.8663,2,     640.80,2,       0.24,       0.01,       0.08,       0.01,      0.006,     0.0098,2,    1.51656,2,      0.052,1,      0.000,2,      0.370,1,      0.221,1,      0.045,1,     99.690,     0.0124,2,      0.068,1,      0.463,1,     -999.0,9
49NZ20210713,        P01,      19,          1,          4,     X12S04,2,20210719,       0821,    39.9513,   147.7061,       5243,  5250.2,2,   1.5432,2,  34.6890,2,  34.6895,2,   157.95,2,  158.22,2,  151.83,2,    0.02,2,   35.68,2,    0.00,2,   2.461,2,   0.004,2,   0.008,2,   0.007,2,   0.000,2,  2320.9,2,  2413.6,2,   37.89,2, -999.00,9,    34.8680,2,     640.80,2,       0.24,       0.01,       0.08,       0.01,      0.006,     0.0098,2,    1.54321,2,      0.052,1,      0.000,2,      0.333,1,      0.195,1,      0.040,1,     97.637,     0.0956,2,      0.203,1,      0.492,1,     -999.0,9
49NZ20210713,        P01,      19,          1,          1,     X12S01,2,20210719,       0821,    39.9513,   147.7061,       5243,  5333.0,2,   1.5506,2,  34.6892,2,  34.6882,2,   158.91,2,  158.99,2,  150.37,2,    0.02,2,   35.65,2,    0.00,2,   2.461,2,   0.000,2,   0.002,2,   0.000,2,   0.003,2,  2317.1,2,  2411.3,2,   36.37,2, -999.00,9,    34.8689,2,     640.80,2,       0.24,       0.01,       0.08,       0.01,      0.006,     0.0098,2,    1.55058,2,      0.054,1,      0.000,2,      0.345,1,      0.208,1,      0.048,1,     96.533,     0.1411,2,      0.306,1,      0.496,1,     -999.0,9
49NZ20210713,        P01,      20,          1,          2,     X12B34,2,20210719,       1540,    39.7054,   147.9390,       5354,    31.2,2,  16.8164,2,  34.4232,2,-999.0000,9,   235.84,2, -999.00,9, -999.00,9, -999.00,9, -999.00,9, -999.00,9,-999.000,9,-999.000,9,-999.000,9,-999.000,9,-999.000,9,  -999.0,9,  -999.0,9, -999.00,9, -999.00,9,     -999.0,9,     -999.0,9,     -999.0,     -999.0,     -999.0,     -999.0,     -999.0,     -999.0,9,   16.80677,2,      1.762,1,      0.000,2,     -999.0,9,     -999.0,9,     -999.0,9,     96.506,     0.1422,2,      0.174,1,      0.328,1,     -999.0,9