BOTTLE,20231011CCHSIOENA
EXPOCODE,SECT_ID,STNNBR,CASTNO,SAMPNO,BTLNBR,BTLNBR_FLAG_W,DATE,TIME,LATITUDE,LONGITUDE,DEPTH,CTDPRS,CTDPRS_FLAG_W,CTDTMP,CTDTMP_FLAG_W,CTDSAL,CTDSAL_FLAG_W,SALNTY,SALNTY_FLAG_W,CTDOXY,CTDOXY_FLAG_W,OXYGEN,OXYGEN_FLAG_W,SILCAT,SILCAT_FLAG_W,NH4,NH4_FLAG_W,NITRAT,NITRAT_FLAG_W,NITRIT,NITRIT_FLAG_W,PHSPHT,PHSPHT_FLAG_W,CFC-11,CFC-11_FLAG_W,CFC-12,CFC-12_FLAG_W,CFC113,CFC113_FLAG_W,SF6,SF6_FLAG_W,TCARBN,TCARBN_FLAG_W,ALKALI,ALKALI_FLAG_W,DOC,DOC_FLAG_W,TDN,TDN_FLAG_W,DNSSAL,DNSSAL_FLAG_W,RIANOMALY,RIANOMALY_FLAG_W,SILUNC,NH4UNC,NRAUNC,NRIUNC,PHPUNC,FDOM,FDOM_FLAG_W,REFTMP,REFTMP_FLAG_W,CTDFLUOR,CTDFLUOR_FLAG_W,PAR,PAR_FLAG_W,CDOM300,CDOM300_FLAG_W,CDOM325,CDOM325_FLAG_W,CDOM443,CDOM443_FLAG_W,CTDXMISS,CTDBEAMCP,CTDBEAMCP_FLAG_W,CTDTURB,CTDTURB_FLAG_W,CTDCDOM,CTDCDOM_FLAG_W,CHLORA,CHLORA_FLAG_W
,,,,,,,,,,,METERS,DBAR,,ITS-90,,PSS-78,,PSS-78,,UMOL/KG,,UMOL/KG,,UMOL/KG,,UMOL/KG,,UMOL/KG,,UMOL/KG,,UMOL/KG,,PMOL/KG,,PMOL/KG,,PMOL/KG,,FMOL/KG,,UMOL/KG,,UMOL/KG,,UMOL/KG,,UMOL/KG,,G/KG,,ND,,UMOL/KG,UMOL/KG,UMOL/KG,UMOL/KG,UMOL/KG,RFU,,ITS-90,,MG/M^3,,UMOL/M^2/SEC,,/METER,,/METER,,/METER,,%TRANS,/METER,,FTU,,QSU,,UG/L,
49NZ20210713,        P01,      66,          1,          5,     X12S05,2,20210804,       1024,    46.9990,  -174.9561,       5796,  4999.2,2,   1.5436,2,  34.6869,2,  34.6872,2,   151.23,2,  151.03,2,  161.39,2,    0.01,2,   36.19,2,    0.00,2,   2.509,2,   0.000,2,   0.000,2,   0.002,2,   0.000,2,  2331.7,2,  2418.6,2,   39.01,2, -999.00,9,    34.8685,2,     640.70,2,       0.25,       0.01,       0.08,       0.01,      0.006,     0.0108,2,    1.54362,2,      0.054,1,      0.000,2,      0.331,1,      0.199,1,      0.043,1,     99.989,     0.0004,2,      0.045,1,      0.338,1,     -999.0,9
49NZ20210713,        P01,      66,          1,          4,     X12S04,2,20210804,       1024,    46.9990,  -174.9561,       5796,  5250.1,2,   1.5744,2,  34.6870,2,  34.6870,2,   151.50,2,  151.15,2,  161.18,2,    0.01,2,   36.19,2,    0.00,2,   2.508,2,   0.000,2,   0.000,2,   0.001,2,   0.000,2,  2328.6,2,  2420.2,2,   43.84,4, -999.00,9,    34.8693,2,     640.75,2,       0.25,       0.01,       0.08,       0.01,      0.006,     0.0100,2,    1.57438,2,      0.054,1,      0.000,2,      0.285,1,      0.158,1,      0.024,1,     99.993,     0.0003,2,      0.047,1,      0.337,1,     -999.0,9
49NZ20210713,        P01,      66,          1,          3,     X12S03,2,20210804,       1024,    46.9990,  -174.9561,       5796,  5500.6,2,   1.6055,2,  34.6873,2,  34.6870,2,   151.92,2,  151.84,2,  161.86,2,    0.00,2,   36.15,2,    0.00,2,   2.502,2,   0.000,2,   0.000,2,   0.000,2,   0.000,2,  2329.5,2,  2416.9,2,   41.50,2, -999.00,9,    34.8665,2,     640.75,2,       0.25,       0.01,       0.08,       0.01,      0.006,     0.0098,2,    1.60548,2,      0.053,1,      0.000,2,      0.326,1,      0.191,1,      0.033,1,     99.970,     0.0012,2,      0.059,1,      0.339,1,     -999.0,9
49NZ20210713,        P01,      66,          1,          2,     X12B34,2,20210804,       1024,    46.9990,  -174.9561,       5796,  5749.6,2,   1.6376,2,  34.6874,2,  34.6876,2,   152.24,2,  152.10,2,  161.75,2,    0.00,2,   36.18,2,    0.00,2,   2.503,2,   0.001,2,   0.000,2,   0.002,2,   0.000,2,  2327.0,2,  2415.3,2,   42.37,2, -999.00,9,    34.8712,2,     640.80,2,       0.25,       0.01,       0.08,       0.01,      0.007,     0.0097,2,    1.63761,2,      0.053,1,      0.000,2,      0.285,1,      0.162,1,      0.021,1,     99.935,     0.0026,2,      0.049,1,      0.336,1,     -999.0,9
49NZ20210713,        P01,      66,          1,          1,     X12S01,2,20210804,       1024,    46.9990,  -174.9561,       5796,  5902.3,2,   1.6581,2,  34.6875,2,  34.6875,2,   152.43,2,  152.37,2,  161.62,2,    0.01,2,   36.14,2,    0.00,2,   2.502,2,   0.001,2,   0.000,2,   0.001,2,   0.000,2,  2327.0,2,  2419.4,2,   40.42,2, -999.00,9,    34.8680,2,     640.80,2,       0.25,       0.01,       0.08,       0.01,      0.006,     0.0100,2,    1.65809,2,      0.053,1,      0.000,2,      0.284,1,      0.156,1,      0.024,1,     99.901,     0.0040,2,      0.049,1,      0.322,1,     -999.0,9