BOTTLE,20231011CCHSIOENA
EXPOCODE,SECT_ID,STNNBR,CASTNO,SAMPNO,BTLNBR,BTLNBR_FLAG_W,DATE,TIME,LATITUDE,LONGITUDE,DEPTH,CTDPRS,CTDPRS_FLAG_W,CTDTMP,CTDTMP_FLAG_W,CTDSAL,CTDSAL_FLAG_W,SALNTY,SALNTY_FLAG_W,CTDOXY,CTDOXY_FLAG_W,OXYGEN,OXYGEN_FLAG_W,SILCAT,SILCAT_FLAG_W,NH4,NH4_FLAG_W,NITRAT,NITRAT_FLAG_W,NITRIT,NITRIT_FLAG_W,PHSPHT,PHSPHT_FLAG_W,CFC-11,CFC-11_FLAG_W,CFC-12,CFC-12_FLAG_W,CFC113,CFC113_FLAG_W,SF6,SF6_FLAG_W,TCARBN,TCARBN_FLAG_W,ALKALI,ALKALI_FLAG_W,DOC,DOC_FLAG_W,TDN,TDN_FLAG_W,DNSSAL,DNSSAL_FLAG_W,RIANOMALY,RIANOMALY_FLAG_W,SILUNC,NH4UNC,NRAUNC,NRIUNC,PHPUNC,FDOM,FDOM_FLAG_W,REFTMP,REFTMP_FLAG_W,CTDFLUOR,CTDFLUOR_FLAG_W,PAR,PAR_FLAG_W,CDOM300,CDOM300_FLAG_W,CDOM325,CDOM325_FLAG_W,CDOM443,CDOM443_FLAG_W,CTDXMISS,CTDBEAMCP,CTDBEAMCP_FLAG_W,CTDTURB,CTDTURB_FLAG_W,CTDCDOM,CTDCDOM_FLAG_W,CHLORA,CHLORA_FLAG_W
,,,,,,,,,,,METERS,DBAR,,ITS-90,,PSS-78,,PSS-78,,UMOL/KG,,UMOL/KG,,UMOL/KG,,UMOL/KG,,UMOL/KG,,UMOL/KG,,UMOL/KG,,PMOL/KG,,PMOL/KG,,PMOL/KG,,FMOL/KG,,UMOL/KG,,UMOL/KG,,UMOL/KG,,UMOL/KG,,G/KG,,ND,,UMOL/KG,UMOL/KG,UMOL/KG,UMOL/KG,UMOL/KG,RFU,,ITS-90,,MG/M^3,,UMOL/M^2/SEC,,/METER,,/METER,,/METER,,%TRANS,/METER,,FTU,,QSU,,UG/L,
49NZ20210713,        P01,      87,          1,         36,     X12S36,2,20210811,       1517,    46.9956,  -151.9999,       5131,    10.3,2,  14.4858,2,  32.3559,2,  32.3533,2,   268.52,2,  267.16,2,   15.87,2,    0.07,2,    9.39,2,    0.12,2,   0.978,2,   2.864,2,   1.478,2,   0.213,2,   2.842,2,  2008.7,2,  2180.3,2,   60.37,2, -999.00,9,    32.5071,2,     597.68,2,       0.06,       0.01,       0.03,       0.01,      0.004,     0.0025,2,   14.48253,2,      0.715,1,     73.615,2,      0.261,1,      0.121,1,      0.014,1,     96.904,     0.1258,2,      0.132,1,      0.165,1,       0.23,2
49NZ20210713,        P01,      87,          1,         35,     X12S35,2,20210811,       1517,    46.9956,  -151.9999,       5131,    50.2,2,   9.0626,2,  32.5773,2,  32.5785,2,   298.03,2,  296.76,2,   16.40,2,    0.29,2,   10.76,2,    0.11,2,   1.066,2,   3.713,2,   1.863,2,   0.208,2,   3.536,2,  2038.9,2,  2195.5,2,   56.73,2, -999.00,9,    32.7348,2,     601.83,2,       0.06,       0.02,       0.03,       0.01,      0.004,     0.0035,2,    9.06427,2,      0.894,1,      5.881,2,      0.341,1,      0.172,1,      0.028,1,     98.329,     0.0674,2,      0.104,1,      0.188,1,       0.22,2
49NZ20210713,        P01,      87,          1,          2,     X12B34,2,20210811,       1517,    46.9956,  -151.9999,       5131,    62.3,2,   7.6555,2,  32.6049,2,  32.6086,2,   304.77,2,  303.64,2,   16.80,2,    0.29,2,   11.98,2,    0.16,2,   1.145,2,-999.000,9,-999.000,9,-999.000,9,-999.000,9,  2057.3,2,  2193.8,2,   56.52,2, -999.00,9,    32.7662,2,     602.23,2,       0.06,       0.02,       0.03,       0.01,      0.004,     0.0048,2,    7.64346,2,      0.925,1,      2.929,2,      0.362,1,      0.190,1,      0.028,1,     98.397,     0.0647,2,      0.092,1,      0.196,1,       0.24,2
49NZ20210713,        P01,      87,          1,         34,     X12S34,2,20210811,       1517,    46.9956,  -151.9999,       5131,   100.0,2,   5.9759,2,  32.6956,2,  32.6948,2,   298.95,2,  298.51,2,   20.25,2,    0.02,2,   15.72,2,    0.37,2,   1.364,2,   4.230,2,   2.116,2,   0.290,2,   3.817,2,  2075.0,2,  2196.8,2,   52.40,2, -999.00,9,    32.8534,2,     604.03,2,       0.06,       0.01,       0.04,       0.01,      0.005,     0.0046,2,    5.97785,2,      0.388,1,      0.244,2,      0.344,1,      0.178,1,      0.029,1,     99.436,     0.0226,2,      0.062,1,      0.199,1,       0.22,2
49NZ20210713,        P01,      87,          1,         33,     X12S33,2,20210811,       1517,    46.9956,  -151.9999,       5131,   149.9,2,   6.5785,2,  33.6817,2,  33.6829,2,   211.18,2,  210.62,2,   32.68,2,    0.01,2,   22.96,2,    0.01,2,   1.666,2,   3.789,2,   1.882,2,   0.202,2,   2.781,2,  2161.5,2,  2251.1,2,   51.95,2, -999.00,9,    33.8438,2,     622.38,2,       0.08,       0.01,       0.05,       0.01,      0.005,     0.0083,2,    6.58006,2,      0.065,1,      0.000,2,      0.351,1,      0.195,1,      0.029,1,     99.891,     0.0044,2,      0.046,1,      0.258,1,       0.01,2
49NZ20210713,        P01,      87,          1,         32,     X12S32,2,20210811,       1517,    46.9956,  -151.9999,       5131,   198.8,2,   5.7644,2,  33.7442,2,  33.7457,2,   178.32,2,  177.39,2,   45.32,2,    0.00,2,   27.39,2,    0.00,2,   1.974,2,   3.563,2,   1.771,2,   0.186,2,   2.292,2,  2199.6,2,  2265.9,2,   49.83,2, -999.00,9,    33.9103,2,     623.48,2,       0.10,       0.01,       0.06,       0.01,      0.005,     0.0096,2,    5.76405,2,      0.062,1,      0.000,2,      0.378,1,      0.217,1,      0.034,1,     99.840,     0.0064,2,      0.047,1,      0.272,1,       0.01,2
49NZ20210713,        P01,      87,          1,         31,     X12S31,2,20210811,       1517,    46.9956,  -151.9999,       5131,   251.6,2,   5.1452,2,  33.7936,2,  33.7946,2,   133.38,2,  133.09,2,   58.96,2,    0.00,2,   32.55,2,    0.00,2,   2.319,2,   3.225,2,   1.555,2,   0.226,2,   1.757,2,  2239.3,2,  2272.9,2,   48.99,2, -999.00,9,    33.9622,2,     624.43,2,       0.11,       0.01,       0.07,       0.01,      0.006,     0.0105,2,    5.14534,2,      0.066,1,      0.000,2,      0.392,1,      0.217,1,      0.032,1,     99.787,     0.0085,2,      0.049,1,      0.288,1,       0.01,2
49NZ20210713,        P01,      87,          1,         30,     X12S30,2,20210811,       1517,    46.9956,  -151.9999,       5131,   329.3,2,   4.6273,2,  33.8561,2,  33.8563,2,    97.63,2,   97.39,2,   71.89,2,    0.01,2,   36.69,2,    0.01,2,   2.607,2,   2.778,2,   1.339,2,   0.208,2,   1.360,2,  2274.1,2,  2283.9,2,   47.32,2, -999.00,9,    34.0242,2,     625.53,2,       0.13,       0.01,       0.08,       0.01,      0.006,     0.0115,2,    4.62640,2,      0.067,1,      0.000,2,      0.417,1,      0.242,1,      0.048,1,     99.810,     0.0076,2,      0.046,1,      0.295,1,     -999.0,9
49NZ20210713,        P01,      87,          1,         29,     X12S29,2,20210811,       1517,    46.9956,  -151.9999,       5131,   428.8,2,   4.1978,2,  33.9694,2,  33.9701,2,    62.52,2,   63.02,2,   89.03,2,    0.01,2,   40.28,2,    0.00,2,   2.855,2,   2.084,2,   1.098,2,   0.190,2,   0.811,2,  2305.8,2,  2303.8,2,   44.56,2, -999.00,9,    34.1395,2,     627.63,2,       0.16,       0.01,       0.08,       0.01,      0.006,     0.0120,2,    4.19798,2,      0.069,1,      0.000,2,      0.416,1,      0.243,1,      0.047,1,     99.873,     0.0051,2,      0.044,1,      0.309,1,     -999.0,9
49NZ20210713,        P01,      87,          1,         28,     X12S28,2,20210811,       1517,    46.9956,  -151.9999,       5131,   529.6,2,   4.0307,2,  34.0726,2,  34.0730,2,    43.30,2,   43.83,2,  101.09,2,    0.01,2,   41.66,2,    0.00,2,   2.957,2,   1.468,2,   0.768,2,   0.094,2,   0.483,2,  2326.8,2,  2317.8,2,   44.44,2, -999.00,9,    34.2463,2,     629.43,2,       0.24,       0.01,       0.09,       0.01,      0.006,     0.0124,2,    4.03082,2,      0.070,1,      0.000,2,      0.422,1,      0.251,1,      0.049,1,     99.898,     0.0041,2,      0.040,1,      0.314,1,     -999.0,9
49NZ20210713,        P01,      87,          1,         27,     X12S27,2,20210811,       1517,    46.9956,  -151.9999,       5131,   630.1,2,   3.8340,2,  34.1677,2,  34.1673,2,    30.57,2,   31.07,2,  112.28,2,    0.01,2,   42.80,2,    0.00,2,   3.034,2,   0.881,2,   0.489,2,   0.054,2,   0.215,2,  2342.2,2,  2333.5,2,   43.16,2, -999.00,9,    34.3409,2,     631.33,2,       0.20,       0.01,       0.09,       0.01,      0.006,     0.0133,2,    3.83392,2,      0.069,1,      0.000,2,      0.403,1,      0.237,1,      0.046,1,     99.956,     0.0017,2,      0.038,1,      0.320,1,     -999.0,9
49NZ20210713,        P01,      87,          1,         26,     X12S26,2,20210811,       1517,    46.9956,  -151.9999,       5131,   729.6,2,   3.6299,2,  34.2333,2,  34.2342,2,    22.87,2,   23.05,2,  120.88,2,    0.03,2,   43.41,2,    0.00,2,   3.085,2,   0.486,2,   0.283,2,   0.047,2,   0.118,2,  2356.2,6,  2346.1,2,   42.55,2, -999.00,9,    34.4115,2,     632.48,2,       0.20,       0.01,       0.09,       0.01,      0.006,     -999.0,9,    3.62947,2,      0.070,1,      0.000,2,     -999.0,9,     -999.0,9,     -999.0,9,     99.919,     0.0032,2,      0.038,1,      0.325,1,     -999.0,9
49NZ20210713,        P01,      87,          1,         25,     X12S25,2,20210811,       1517,    46.9956,  -151.9999,       5131,   828.9,2,   3.3771,2,  34.2836,2,  34.2836,2,    20.62,2,   20.79,2,  129.11,2,    0.04,2,   43.56,2,    0.00,2,   3.091,2,   0.323,2,   0.198,2,   0.021,2,   0.063,2,  2369.5,2,  2356.2,2,   42.97,2, -999.00,9,    34.4613,2,     633.38,2,       0.21,       0.01,       0.09,       0.01,      0.009,     0.0132,2,    3.37718,2,      0.070,1,      0.000,2,      0.395,1,      0.231,1,      0.045,1,     99.922,     0.0031,2,      0.039,1,      0.323,1,     -999.0,9
49NZ20210713,        P01,      87,          1,         24,     X12S24,2,20210811,       1517,    46.9956,  -151.9999,       5131,   928.8,2,   3.1709,2,  34.3283,2,  34.3287,2,    19.35,2,   19.49,2,  136.30,2,    0.02,2,   43.90,2,    0.00,2,   3.117,2,   0.207,2,   0.125,2,   0.026,2,   0.039,2,  2375.8,2,  2364.2,2,   42.57,2, -999.00,9,    34.5069,2,     634.18,2,       0.22,       0.01,       0.09,       0.01,      0.006,     -999.0,9,    3.16921,2,      0.070,1,      0.000,2,     -999.0,9,     -999.0,9,     -999.0,9,     99.887,     0.0045,2,      0.038,1,      0.324,1,     -999.0,9
49NZ20210713,        P01,      87,          1,         23,     X12S23,2,20210811,       1517,    46.9956,  -151.9999,       5131,  1069.8,2,   2.9040,2,  34.3836,2,  34.3830,2,    18.04,2,   17.74,2,  145.38,2,    0.03,2,   44.19,2,    0.00,2,   3.139,2,   0.102,2,   0.062,2,   0.017,2,   0.057,2,  2384.3,2,  2376.5,2,   40.84,2, -999.00,9,    34.5618,2,     635.18,2,       0.23,       0.01,       0.09,       0.01,      0.008,     0.0133,2,    2.90452,2,      0.069,1,      0.000,2,      0.395,1,      0.236,1,      0.050,1,     99.917,     0.0033,2,      0.037,1,      0.332,1,     -999.0,9
49NZ20210713,        P01,      87,          1,         22,     X12S22,2,20210811,       1517,    46.9956,  -151.9999,       5131,  1270.4,2,   2.6325,2,  34.4387,2,  34.4386,2,    19.38,2,   19.26,2,  154.64,2,    0.02,2,   44.30,2,    0.00,2,   3.140,2,   0.046,2,   0.029,2,   0.010,2,   0.000,2,  2392.5,2,  2387.3,6,   40.30,2, -999.00,9,    34.6197,2,     636.23,2,       0.24,       0.01,       0.09,       0.01,      0.006,     -999.0,9,    2.63253,2,      0.069,1,      0.000,2,     -999.0,9,     -999.0,9,     -999.0,9,     99.903,     0.0039,2,      0.037,1,      0.332,1,     -999.0,9
49NZ20210713,        P01,      87,          1,         21,     X12S21,2,20210811,       1517,    46.9956,  -151.9999,       5131,  1469.8,2,   2.4097,2,  34.4873,2,  34.4869,2,    20.03,2,   19.75,2,  162.35,2,    0.02,2,   44.51,2,    0.00,2,   3.139,2,   0.009,2,   0.006,2,   0.009,2,   0.000,2,  2401.5,2,  2397.5,2,   39.27,2, -999.00,9,    34.6699,2,     637.13,2,       0.25,       0.01,       0.09,       0.01,      0.006,     0.0130,2,    2.41028,2,      0.067,1,      0.000,2,      0.391,1,      0.230,1,      0.047,1,     99.928,     0.0029,2,      0.037,1,      0.330,1,     -999.0,9
49NZ20210713,        P01,      87,          1,         20,     X12S20,2,20210811,       1517,    46.9956,  -151.9999,       5131,  1669.7,2,   2.2088,2,  34.5289,2,  34.5284,2,    28.13,2,   28.00,2,  168.22,2,    0.01,2,   44.17,2,    0.00,2,   3.104,2,   0.001,2,   0.001,2,   0.006,2,   0.000,2,  2400.5,2,  2404.5,2,   44.76,4, -999.00,9,    34.7108,2,     637.83,2,       0.31,       0.01,       0.09,       0.01,      0.008,     -999.0,9,    2.20917,2,      0.066,1,      0.000,2,     -999.0,9,     -999.0,9,     -999.0,9,     99.926,     0.0030,2,      0.036,1,      0.329,1,     -999.0,9
49NZ20210713,        P01,      87,          1,         19,     X12S19,2,20210811,       1517,    46.9956,  -151.9999,       5131,  1870.1,2,   2.0510,2,  34.5632,2,  34.5628,2,    39.50,2,   39.86,2,  171.71,2,    0.00,2,   43.46,2,    0.00,2,   3.054,2,   0.000,2,   0.000,2,   0.000,2,   0.000,2,  2402.7,2,  2408.5,2,   41.81,4, -999.00,9,    34.7477,2,     638.53,2,       0.27,       0.01,       0.09,       0.01,      0.007,     0.0129,2,    2.05110,2,      0.064,1,      0.000,2,      0.373,1,      0.218,1,      0.044,1,     99.922,     0.0031,2,      0.037,1,      0.320,1,     -999.0,9
49NZ20210713,        P01,      87,          1,         18,     X12S18,2,20210811,       1517,    46.9956,  -151.9999,       5131,  2068.9,2,   1.9267,2,  34.5894,2,  34.5894,2,    52.81,2,   53.34,2,  174.14,2,   -0.02,2,   42.67,2,    0.00,2,   2.995,2,   0.000,2,   0.000,2,   0.000,2,   0.000,2,  2392.4,2,  2413.4,2,   38.71,2, -999.00,9,    34.7726,2,     639.03,2,       0.27,       0.01,       0.09,       0.01,      0.006,     -999.0,9,    1.92652,2,      0.063,1,      0.000,2,     -999.0,9,     -999.0,9,     -999.0,9,     99.922,     0.0031,2,      0.037,1,      0.321,1,     -999.0,9
49NZ20210713,        P01,      87,          1,         17,     X12S17,2,20210811,       1517,    46.9956,  -151.9999,       5131,  2270.8,2,   1.8252,2,  34.6100,2,  34.6104,2,    65.30,2,   65.67,2,  175.69,2,    0.00,2,   41.99,2,    0.00,2,   2.941,2,   0.000,2,   0.000,2,   0.000,2,   0.000,2,  2390.8,2,  2415.8,2,   38.40,2, -999.00,9,    34.7957,2,     639.38,2,       0.27,       0.01,       0.09,       0.01,      0.008,     0.0128,2,    1.82457,2,      0.062,1,      0.000,2,      0.341,1,      0.198,1,      0.035,1,     99.915,     0.0034,2,      0.037,1,      0.318,1,     -999.0,9
49NZ20210713,        P01,      87,          1,         16,     X12S16,2,20210811,       1517,    46.9956,  -151.9999,       5131,  2468.9,2,   1.7368,2,  34.6257,2,  34.6253,2,    77.86,2,   77.65,2,  174.53,2,    0.00,2,   41.11,2,    0.00,2,   2.884,2,   0.000,2,   0.000,2,   0.000,2,   0.000,2,  2381.7,6,  2419.0,2,   39.44,2, -999.00,9,    34.8120,2,     639.63,2,       0.27,       0.01,       0.09,       0.01,      0.006,     -999.0,9,    1.73674,2,      0.060,1,      0.000,2,     -999.0,9,     -999.0,9,     -999.0,9,     99.940,     0.0024,2,      0.038,1,      0.315,1,     -999.0,9
49NZ20210713,        P01,      87,          1,         15,     X12S15,2,20210811,       1517,    46.9956,  -151.9999,       5131,  2670.0,2,   1.6640,2,  34.6384,2,  34.6385,2,    90.19,2,   90.53,2,  173.24,2,    0.01,2,   40.25,2,    0.00,2,   2.823,2,   0.000,2,   0.000,2,   0.000,2,   0.000,2,  2371.3,2,  2422.3,2,   36.94,2, -999.00,9,    34.8254,2,     639.88,2,       0.45,       0.01,       0.08,       0.01,      0.006,     0.0114,2,    1.66392,2,      0.059,1,      0.000,2,      0.331,1,      0.190,1,      0.033,1,     99.956,     0.0017,2,      0.035,1,      0.311,1,     -999.0,9
49NZ20210713,        P01,      87,          1,         14,     X12S14,2,20210811,       1517,    46.9956,  -151.9999,       5131,  2870.5,2,   1.6091,2,  34.6488,2,  34.6478,2,   100.73,2,  100.84,2,  171.62,2,    0.01,2,   39.57,2,    0.00,2,   2.753,2,   0.000,2,   0.000,2,   0.000,2,   0.000,2,  2369.4,2,  2419.9,2,   38.58,2, -999.00,9,    34.8310,2,     640.03,2,       0.27,       0.01,       0.08,       0.01,      0.008,     -999.0,9,    1.60889,2,      0.059,1,      0.000,2,     -999.0,9,     -999.0,9,     -999.0,9,     99.952,     0.0019,2,      0.037,1,      0.303,1,     -999.0,9
49NZ20210713,        P01,      87,          1,         13,     X12S13,2,20210811,       1517,    46.9956,  -151.9999,       5131,  3080.3,2,   1.5664,2,  34.6572,2,  34.6568,2,   110.62,2,  111.37,2,  169.78,2,    0.01,2,   38.94,2,    0.00,2,   2.708,2,   0.000,2,   0.000,2,   0.000,2,   0.000,2,  2361.2,2,  2420.8,2,   37.19,2, -999.00,9,    34.8429,2,     640.23,2,       0.26,       0.01,       0.08,       0.01,      0.006,     0.0114,2,    1.56653,2,      0.058,1,      0.000,2,      0.315,1,      0.179,1,      0.028,1,     99.942,     0.0023,2,      0.037,1,      0.299,1,     -999.0,9
49NZ20210713,        P01,      87,          1,         12,     X12S12,2,20210811,       1517,    46.9956,  -151.9999,       5131,  3330.0,2,   1.5229,2,  34.6657,2,  34.6658,2,   121.83,2,  122.20,2,  167.90,2,    0.01,2,   38.26,2,    0.00,2,   2.664,2,   0.000,2,   0.000,2,   0.000,2,   0.041,2,  2352.0,2,  2421.6,6,   38.40,2, -999.00,9,    34.8523,2,     640.38,2,       0.26,       0.01,       0.08,       0.01,      0.006,     -999.0,9,    1.52284,2,      0.057,1,      0.000,2,     -999.0,9,     -999.0,9,     -999.0,9,     99.954,     0.0018,2,      0.035,1,      0.294,1,     -999.0,9
49NZ20210713,        P01,      87,          1,         11,     X12S11,2,20210811,       1517,    46.9956,  -151.9999,       5131,  3581.0,2,   1.4980,2,  34.6723,2,  34.6726,2,   129.93,2,  130.37,2,  166.29,2,    0.01,2,   37.72,2,    0.00,2,   2.616,2,   0.000,2,   0.000,2,   0.000,2,   0.000,2,  2349.3,2,  2420.6,2,   37.95,2, -999.00,9,    34.8556,2,     640.53,2,       0.28,       0.01,       0.08,       0.01,      0.006,     0.0103,2,    1.49805,2,      0.057,1,      0.000,2,      0.305,1,      0.174,1,      0.027,1,     99.968,     0.0013,2,      0.035,1,      0.291,1,     -999.0,9
49NZ20210713,        P01,      87,          1,         10,     X12S10,2,20210811,       1517,    46.9956,  -151.9999,       5131,  3828.9,2,   1.4842,2,  34.6771,2,  34.6773,2,   136.93,2,  137.28,2,  164.46,2,    0.01,2,   37.14,2,    0.00,2,   2.584,2,   0.000,2,   0.000,2,   0.000,2,   0.000,2,  2343.1,2,  2421.2,2,   37.81,2, -999.00,9,    34.8636,2,     640.58,2,       0.26,       0.01,       0.08,       0.01,      0.006,     -999.0,9,    1.48415,2,      0.056,1,      0.000,2,     -999.0,9,     -999.0,9,     -999.0,9,     99.987,     0.0005,2,      0.036,1,      0.289,1,     -999.0,9
49NZ20210713,        P01,      87,          1,          9,     X12S09,2,20210811,       1517,    46.9956,  -151.9999,       5131,  4082.3,2,   1.4888,2,  34.6804,2,  34.6803,2,   140.34,2,  140.54,2,  166.11,2,    0.01,2,   36.95,2,    0.00,2,   2.568,2,   0.000,2,   0.000,2,   0.000,2,   0.000,2,  2341.8,2,  2424.0,2,   40.71,3, -999.00,9,    34.8640,2,     640.63,2,       0.26,       0.01,       0.08,       0.01,      0.006,     0.0104,2,    1.48862,2,      0.056,1,      0.000,2,      0.301,1,      0.167,1,      0.024,1,     99.989,     0.0004,2,      0.035,1,      0.286,1,     -999.0,9
49NZ20210713,        P01,      87,          1,          8,     X12S08,2,20210811,       1517,    46.9956,  -151.9999,       5131,  4331.8,2,   1.5040,2,  34.6826,2,  34.6830,2,   142.02,2,  142.25,2,  167.92,2,    0.02,2,   36.90,2,    0.00,2,   2.563,2,   0.000,2,   0.000,2,   0.000,2,   0.000,2,  2343.1,6,  2426.4,2,   40.83,3, -999.00,9,    34.8668,2,     640.73,2,       0.26,       0.01,       0.08,       0.01,      0.006,     -999.0,9,    1.50398,2,      0.055,1,      0.000,2,     -999.0,9,     -999.0,9,     -999.0,9,     99.970,     0.0012,2,      0.035,1,      0.289,1,     -999.0,9
49NZ20210713,        P01,      87,          1,          7,     X12S07,2,20210811,       1517,    46.9956,  -151.9999,       5131,  4579.6,2,   1.5243,2,  34.6840,2,  34.6838,2,   143.23,2,  143.53,2,  169.30,2,    0.02,2,   36.85,2,    0.00,2,   2.560,2,   0.000,2,   0.000,2,   0.000,2,   0.007,2,  2342.3,2,  2427.5,2,   40.13,3, -999.00,9,    34.8674,2,     640.68,2,       0.26,       0.01,       0.08,       0.01,      0.006,     0.0109,2,    1.52423,2,      0.055,1,      0.000,2,      0.297,1,      0.168,1,      0.028,1,     99.949,     0.0020,2,      0.036,1,      0.285,1,     -999.0,9