BOTTLE,20231011CCHSIOENA
EXPOCODE,SECT_ID,STNNBR,CASTNO,SAMPNO,BTLNBR,BTLNBR_FLAG_W,DATE,TIME,LATITUDE,LONGITUDE,DEPTH,CTDPRS,CTDPRS_FLAG_W,CTDTMP,CTDTMP_FLAG_W,CTDSAL,CTDSAL_FLAG_W,SALNTY,SALNTY_FLAG_W,CTDOXY,CTDOXY_FLAG_W,OXYGEN,OXYGEN_FLAG_W,SILCAT,SILCAT_FLAG_W,NH4,NH4_FLAG_W,NITRAT,NITRAT_FLAG_W,NITRIT,NITRIT_FLAG_W,PHSPHT,PHSPHT_FLAG_W,CFC-11,CFC-11_FLAG_W,CFC-12,CFC-12_FLAG_W,CFC113,CFC113_FLAG_W,SF6,SF6_FLAG_W,TCARBN,TCARBN_FLAG_W,ALKALI,ALKALI_FLAG_W,DOC,DOC_FLAG_W,TDN,TDN_FLAG_W,DNSSAL,DNSSAL_FLAG_W,RIANOMALY,RIANOMALY_FLAG_W,SILUNC,NH4UNC,NRAUNC,NRIUNC,PHPUNC,FDOM,FDOM_FLAG_W,REFTMP,REFTMP_FLAG_W,CTDFLUOR,CTDFLUOR_FLAG_W,PAR,PAR_FLAG_W,CDOM300,CDOM300_FLAG_W,CDOM325,CDOM325_FLAG_W,CDOM443,CDOM443_FLAG_W,CTDXMISS,CTDBEAMCP,CTDBEAMCP_FLAG_W,CTDTURB,CTDTURB_FLAG_W,CTDCDOM,CTDCDOM_FLAG_W,CHLORA,CHLORA_FLAG_W
,,,,,,,,,,,METERS,DBAR,,ITS-90,,PSS-78,,PSS-78,,UMOL/KG,,UMOL/KG,,UMOL/KG,,UMOL/KG,,UMOL/KG,,UMOL/KG,,UMOL/KG,,PMOL/KG,,PMOL/KG,,PMOL/KG,,FMOL/KG,,UMOL/KG,,UMOL/KG,,UMOL/KG,,UMOL/KG,,G/KG,,ND,,UMOL/KG,UMOL/KG,UMOL/KG,UMOL/KG,UMOL/KG,RFU,,ITS-90,,MG/M^3,,UMOL/M^2/SEC,,/METER,,/METER,,/METER,,%TRANS,/METER,,FTU,,QSU,,UG/L,
49NZ20210713,        P01,      29,          1,         36,     X12S36,2,20210722,       0250,    42.6778,   152.7024,       5300,     9.6,2,  12.7769,2,  32.8344,2,  32.8293,2,   304.89,2,  309.11,2,   19.54,2,    0.31,2,   14.97,2,    0.18,2,   1.386,2,   3.817,2,   2.080,2,   0.389,2,   3.320,2,  2055.4,2,  2223.1,2,   58.99,2, -999.00,9,    32.9875,2,     606.37,2,       0.06,       0.13,       0.04,       0.01,      0.008,     0.0036,2,   12.80411,2,      1.526,1,     95.980,2,      0.362,1,      0.180,1,      0.023,1,     92.727,     0.3020,2,      0.216,1,      0.250,1,       0.58,2
49NZ20210713,        P01,      29,          1,          2,     X12B34,2,20210722,       0250,    42.6778,   152.7024,       5300,    30.9,2,   5.7763,2,  32.8945,2,  32.9125,2,   347.09,2,  348.21,2,   23.59,2,    0.84,2,   18.31,2,    0.20,2,   1.675,2,-999.000,9,-999.000,9,-999.000,9,-999.000,9,  2089.6,2,  2232.2,2,   62.29,2, -999.00,9,    33.0714,2,     607.97,2,       0.07,       0.02,       0.05,       0.01,      0.005,     0.0070,2,    5.77203,2,      2.689,1,     12.437,2,      0.462,1,      0.259,1,      0.032,1,     94.502,     0.2262,2,      6.531,1,      0.312,1,       0.85,2
49NZ20210713,        P01,      29,          1,         35,     X12S35,2,20210722,       0250,    42.6778,   152.7024,       5300,    49.1,2,   3.2704,2,  33.0095,2,  33.0121,2,   327.45,2,  329.23,2,   38.63,2,    2.02,2,   22.33,2,    0.46,2,   1.992,2,   5.335,2,   2.813,2,   0.577,2,   5.300,2,  2129.8,2,  2234.2,2,   53.02,2, -999.00,9,    33.1751,2,     609.92,2,       0.09,       0.04,       0.05,       0.01,      0.005,     0.0065,2,    3.27012,2,      1.412,1,      2.142,2,      0.414,1,      0.223,1,      0.035,1,     97.481,     0.1020,2,      0.134,1,      0.331,1,       0.72,2
49NZ20210713,        P01,      29,          1,         34,     X12S34,2,20210722,       0250,    42.6778,   152.7024,       5300,    99.7,2,   1.9709,2,  33.0766,2,  33.0767,2,   324.81,2,  326.59,2,   48.06,2,    0.02,2,   27.45,2,    0.06,2,   2.112,2,   5.512,2,   2.889,2,   0.574,2,   4.497,2,  2150.2,2,  2238.9,2,   54.17,2, -999.00,9,    33.2389,2,     611.07,2,       0.10,       0.01,       0.06,       0.01,      0.005,     0.0063,2,    1.97098,2,      0.170,1,      0.000,2,      0.445,1,      0.247,1,      0.045,1,     99.002,     0.0401,2,      0.102,1,      0.322,1,       0.10,2
49NZ20210713,        P01,      29,          1,         33,     X12S33,2,20210722,       0250,    42.6778,   152.7024,       5300,   149.9,2,   1.9721,2,  33.3236,2,  33.3424,2,   250.34,2,  241.46,2,   63.70,2,    0.02,2,   32.34,2,    0.01,2,   2.407,2,   4.597,2,   2.446,2,   0.417,2,   3.760,2,  2208.5,2,  2251.5,2,   52.01,2, -999.00,9,    33.5062,2,     616.02,2,       0.12,       0.01,       0.07,       0.01,      0.006,     0.0084,2,    1.96428,2,      0.087,1,      0.000,2,      0.425,1,      0.232,1,      0.037,1,     99.119,     0.0354,2,      0.103,1,      0.371,1,       0.06,2
49NZ20210713,        P01,      29,          1,         32,     X12S32,2,20210722,       0250,    42.6778,   152.7024,       5300,   199.7,2,   3.5090,2,  33.8222,2,  33.8210,2,    43.58,2,   43.76,2,   95.85,2,    0.02,2,   44.29,2,    0.00,2,   3.133,2,   2.463,2,   1.266,2,   0.182,2,   1.256,2,  2326.5,2,  2290.7,2,   44.71,2, -999.00,9,    33.9915,2,     624.87,2,       0.16,       0.01,       0.09,       0.01,      0.006,     0.0128,2,    3.50876,2,      0.077,1,      0.000,2,      0.446,1,      0.257,1,      0.050,1,     98.995,     0.0404,2,      0.090,1,      0.465,1,       0.03,2
49NZ20210713,        P01,      29,          1,         31,     X12S31,2,20210722,       0250,    42.6778,   152.7024,       5300,   248.1,2,   3.6369,2,  33.9468,2,  33.9457,2,    20.22,2,   20.13,2,  104.68,2,    0.01,2,   45.24,2,    0.00,2,   3.200,2,   1.947,3,   1.073,3,   0.137,3,   2.416,3,  2352.8,2,  2306.6,2,   46.78,2, -999.00,9,    34.1163,2,     627.07,2,       0.28,       0.01,       0.12,       0.01,      0.007,     0.0133,2,    3.63673,2,      0.076,1,      0.000,2,      0.466,1,      0.274,1,      0.054,1,     99.488,     0.0205,2,      0.075,1,      0.467,1,       0.02,2
49NZ20210713,        P01,      29,          1,         30,     X12S30,2,20210722,       0250,    42.6778,   152.7024,       5300,   280.9,2,   3.6226,2,  34.0077,2,  34.0076,2,    16.86,2,   16.61,2,  109.45,2,    0.00,2,   45.08,2,    0.00,2,   3.197,2,   1.674,2,   0.925,2,   0.116,2,   2.355,2,  2352.5,2,  2312.9,2,   45.93,2, -999.00,9,    34.1789,2,     628.17,2,       0.18,       0.01,       0.09,       0.01,      0.007,     0.0135,2,    3.62224,2,      0.076,1,      0.000,2,      0.454,1,      0.266,1,      0.054,1,     99.599,     0.0161,2,      0.074,1,      0.456,1,     -999.0,9
49NZ20210713,        P01,      29,          1,         29,     X12S29,2,20210722,       0250,    42.6778,   152.7024,       5300,   368.3,2,   3.4921,2,  34.1116,2,  34.1119,2,    17.87,2,   17.55,2,  119.26,2,    0.00,2,   44.43,2,    0.00,2,   3.144,2,   1.174,2,   0.672,2,   0.078,2,   1.947,2,  2358.2,2,  2327.5,2,   46.63,2, -999.00,9,    34.2835,2,     630.17,2,       0.20,       0.01,       0.09,       0.01,      0.006,     0.0137,2,    3.49197,2,      0.076,1,      0.000,2,      0.477,1,      0.292,1,      0.066,1,     99.709,     0.0117,2,      0.065,1,      0.443,1,     -999.0,9
49NZ20210713,        P01,      29,          1,         28,     X12S28,2,20210722,       0250,    42.6778,   152.7024,       5300,   471.4,2,   3.3418,2,  34.2011,2,  34.2005,2,    15.01,2,   14.40,2,  128.58,2,    0.00,2,   44.45,2,    0.00,2,   3.146,2,   0.770,2,   0.471,2,   0.059,2,   2.039,2,  2367.6,2,  2344.5,2,   41.10,2, -999.00,9,    34.3748,2,     631.77,2,       0.21,       0.01,       0.09,       0.01,      0.006,     0.0137,2,    3.34132,2,      0.077,1,      0.000,2,      0.437,1,      0.262,1,      0.061,1,     99.736,     0.0106,2,      0.064,1,      0.437,1,     -999.0,9
49NZ20210713,        P01,      29,          1,         27,     X12S27,2,20210722,       0250,    42.6778,   152.7024,       5300,   571.3,2,   3.1529,2,  34.2744,2,  34.2741,2,    14.43,2,   13.86,2,  137.28,2,    0.01,2,   44.45,2,    0.00,2,   3.151,2,   0.487,2,   0.321,2,   0.032,2,   1.464,2,  2375.8,2,  2357.8,2,   40.51,2, -999.00,9,    34.4492,2,     633.12,2,       0.22,       0.01,       0.09,       0.01,      0.007,     -999.0,9,    3.15282,2,      0.073,1,      0.000,2,      0.421,1,      0.251,1,      0.054,1,     99.812,     0.0075,2,      0.059,1,      0.437,1,     -999.0,9
49NZ20210713,        P01,      29,          1,         26,     X12S26,2,20210722,       0250,    42.6778,   152.7024,       5300,   670.4,2,   2.9467,2,  34.3298,2,  34.3297,2,    16.87,2,   16.19,2,  144.59,2,    0.02,2,   44.23,2,    0.00,2,   3.148,2,   0.322,2,   0.186,2,   0.016,2,   0.092,2,  2383.7,6,  2364.7,2,   38.34,2, -999.00,9,    34.5063,2,     634.12,2,       0.23,       0.01,       0.09,       0.01,      0.007,     -999.0,9,    2.94659,2,      0.074,1,      0.000,2,     -999.0,9,     -999.0,9,     -999.0,9,     99.833,     0.0067,2,      0.056,1,      0.439,1,     -999.0,9
49NZ20210713,        P01,      29,          1,         25,     X12S25,2,20210722,       0250,    42.6778,   152.7024,       5300,   767.7,2,   2.7818,2,  34.3729,2,  34.3729,2,    18.53,2,   17.72,2,  150.32,2,    0.02,2,   44.01,2,    0.00,2,   3.135,2,   0.231,2,   0.140,2,   0.011,2,   0.048,2,  2387.1,2,  2373.3,2,   38.83,2, -999.00,9,    34.5494,2,     634.97,2,       0.24,       0.01,       0.09,       0.01,      0.006,     0.0139,2,    2.78155,2,      0.071,1,      0.000,2,      0.404,1,      0.240,1,      0.051,1,     99.817,     0.0073,2,      0.058,1,      0.453,1,     -999.0,9
49NZ20210713,        P01,      29,          1,         24,     X12S24,2,20210722,       0250,    42.6778,   152.7024,       5300,   869.5,2,   2.6534,2,  34.4051,2,  34.4055,2,    21.09,2,   20.27,2,  154.45,2,    0.02,2,   43.89,2,    0.00,2,   3.123,2,   0.185,3,   0.128,3,   0.012,3,   0.488,3,  2390.7,2,  2377.7,2,   39.85,2, -999.00,9,    34.5825,2,     635.57,2,       0.24,       0.01,       0.09,       0.01,      0.006,     -999.0,9,    2.65348,2,      0.070,1,      0.000,2,     -999.0,9,     -999.0,9,     -999.0,9,     99.840,     0.0064,2,      0.057,1,      0.513,1,     -999.0,9
49NZ20210713,        P01,      29,          1,         23,     X12S23,2,20210722,       0250,    42.6778,   152.7024,       5300,   970.5,2,   2.5148,2,  34.4387,2,  34.4386,2,    24.79,2,   24.77,2,  158.93,2,    0.02,2,   43.79,2,    0.00,2,   3.107,2,   0.140,3,   0.106,3,   0.010,3,   0.530,3,  2391.9,2,  2382.0,2,   39.39,2, -999.00,9,    34.6150,2,     636.12,2,       0.25,       0.01,       0.09,       0.01,      0.006,     0.0135,2,    2.51464,2,      0.069,1,      0.000,2,      0.401,1,      0.241,1,      0.051,1,     99.858,     0.0057,2,      0.057,1,      0.519,1,     -999.0,9
49NZ20210713,        P01,      29,          1,         22,     X12S22,2,20210722,       0250,    42.6778,   152.7024,       5300,  1127.9,2,   2.3551,2,  34.4780,2,  34.4781,2,    39.12,2,   38.62,2,  160.23,2,    0.02,2,   42.94,2,    0.00,2,   3.050,2,   0.117,2,   0.071,2,   0.008,2,   0.022,2,  2386.4,2,  2391.6,6,   43.74,4, -999.00,9,    34.6559,2,     636.87,2,       0.25,       0.01,       0.09,       0.01,      0.006,     -999.0,9,    2.35507,2,      0.067,1,      0.000,2,     -999.0,9,     -999.0,9,     -999.0,9,     99.856,     0.0058,2,      0.057,1,      0.516,1,     -999.0,9
49NZ20210713,        P01,      29,          1,         21,     X12S21,2,20210722,       0250,    42.6778,   152.7024,       5300,  1328.8,2,   2.1818,2,  34.5247,2,  34.5242,2,    48.23,2,   47.56,2,  163.95,2,    0.03,2,   42.46,2,    0.00,2,   3.010,2,   0.062,2,   0.037,2,   0.005,2,   0.020,2,  2385.4,2,  2396.7,2,   36.64,2, -999.00,9,    34.7045,2,     637.67,2,       0.26,       0.01,       0.09,       0.01,      0.006,     0.0128,2,    2.18203,2,      0.066,1,      0.000,2,      0.361,1,      0.212,1,      0.041,1,     99.865,     0.0054,2,      0.102,1,      0.504,1,     -999.0,9
49NZ20210713,        P01,      29,          1,         20,     X12S20,2,20210722,       0250,    42.6778,   152.7024,       5300,  1529.5,2,   2.0586,2,  34.5582,2,  34.5588,2,    58.54,2,   58.13,2,  164.84,2,    0.02,2,   41.99,2,    0.00,2,   2.964,2,   0.028,2,   0.017,2,   0.003,2,   0.021,2,  2385.1,2,  2403.9,2,   37.90,2, -999.00,9,    34.7381,2,     638.37,2,       0.26,       0.01,       0.09,       0.01,      0.006,     -999.0,9,    2.05861,2,      0.064,1,      0.000,2,     -999.0,9,     -999.0,9,     -999.0,9,     99.895,     0.0042,2,      0.056,1,      0.495,1,     -999.0,9
49NZ20210713,        P01,      29,          1,         19,     X12S19,2,20210722,       0250,    42.6778,   152.7024,       5300,  1729.7,2,   1.9288,2,  34.5869,2,  34.5871,2,    69.96,2,   69.58,2,  165.66,2,    0.01,2,   41.33,2,    0.00,2,   2.915,2,   0.011,2,   0.005,2,   0.000,2,   0.001,2,  2377.9,2,  2404.8,2,   37.16,2, -999.00,9,    34.7688,2,     638.87,2,       0.26,       0.01,       0.09,       0.01,      0.010,     0.0122,2,    1.92848,2,      0.063,1,      0.000,2,      0.346,1,      0.197,1,      0.039,1,     99.922,     0.0031,2,      0.059,1,      0.488,1,     -999.0,9
49NZ20210713,        P01,      29,          1,         18,     X12S18,2,20210722,       0250,    42.6778,   152.7024,       5300,  1928.9,2,   1.8228,2,  34.6084,2,  34.6080,2,    82.15,2,   81.68,2,  165.17,2,    0.02,2,   40.60,2,    0.00,2,   2.853,2,   0.003,2,   0.001,2,   0.000,2,   0.029,2,  2372.7,2,  2409.0,2,   38.93,2, -999.00,9,    34.7898,2,     639.17,2,       0.26,       0.01,       0.09,       0.01,      0.006,     -999.0,9,    1.82297,2,      0.062,1,      0.000,2,     -999.0,9,     -999.0,9,     -999.0,9,     99.906,     0.0037,2,      0.053,1,      0.479,1,     -999.0,9
49NZ20210713,        P01,      29,          1,         17,     X12S17,2,20210722,       0250,    42.6778,   152.7024,       5300,  2130.8,2,   1.7342,2,  34.6253,2,  34.6254,2,    94.70,2,   94.47,2,  163.57,2,    0.00,2,   39.82,2,    0.00,2,   2.794,2,   0.001,2,   0.000,2,   0.000,2,   0.032,2,  2364.4,2,  2412.5,2,   36.78,2, -999.00,9,    34.8058,2,     639.47,2,       0.26,       0.01,       0.08,       0.01,      0.006,     0.0115,2,    1.73418,2,      0.062,1,      0.000,2,      0.308,1,      0.170,1,      0.024,1,     99.922,     0.0031,2,      0.053,1,      0.463,1,     -999.0,9
49NZ20210713,        P01,      29,          1,         16,     X12S16,2,20210722,       0250,    42.6778,   152.7024,       5300,  2330.2,2,   1.6639,2,  34.6379,2,  34.6381,2,   104.41,2,  104.24,2,  162.45,2,    0.00,2,   39.21,2,    0.00,2,   2.748,2,   0.000,2,   0.000,2,   0.000,2,   0.000,2,  2359.9,6,  2412.0,2,   37.00,2, -999.00,9,    34.8172,2,     639.77,2,       0.25,       0.01,       0.08,       0.01,      0.006,     -999.0,9,    1.66393,2,      0.061,1,      0.000,2,     -999.0,9,     -999.0,9,     -999.0,9,     99.943,     0.0023,2,      0.051,1,      0.455,1,     -999.0,9
49NZ20210713,        P01,      29,          1,         15,     X12S15,2,20210722,       0250,    42.6778,   152.7024,       5300,  2530.1,2,   1.6076,2,  34.6483,2,  34.6479,2,   114.11,2,  113.98,2,  159.88,2,    0.02,2,   38.54,2,    0.00,2,   2.697,2,   0.001,2,   0.000,2,   0.002,2,   0.040,2,  2352.9,2,  2416.0,2,   37.90,2, -999.00,9,    34.8291,2,     639.97,2,       0.28,       0.01,       0.08,       0.01,      0.006,     0.0110,2,    1.60763,2,      0.060,1,      0.000,2,      0.301,1,      0.166,1,      0.027,1,     99.939,     0.0025,2,      0.052,1,      0.452,1,     -999.0,9
49NZ20210713,        P01,      29,          1,         14,     X12S14,2,20210722,       0250,    42.6778,   152.7024,       5300,  2731.0,2,   1.5612,2,  34.6563,2,  34.6563,2,   121.16,2,  121.41,2,  159.22,2,    0.01,2,   38.15,2,    0.00,2,   2.664,2,   0.000,2,   0.000,2,   0.000,2,   0.017,2,  2349.5,2,  2414.8,2,   39.37,2, -999.00,9,    34.8360,2,     640.12,2,       0.25,       0.01,       0.09,       0.01,      0.006,     -999.0,9,    1.56118,2,      0.059,1,      0.000,2,     -999.0,9,     -999.0,9,     -999.0,9,     99.959,     0.0016,2,      0.052,1,      0.444,1,     -999.0,9
49NZ20210713,        P01,      29,          1,         13,     X12S13,2,20210722,       0250,    42.6778,   152.7024,       5300,  2930.4,2,   1.5259,2,  34.6628,2,  34.6627,2,   128.23,2,  128.54,2,  157.09,2,    0.00,2,   37.64,2,    0.00,2,   2.621,2,   0.000,2,   0.000,2,   0.001,2,   0.000,2,  2344.2,2,  2413.4,2,   38.61,2, -999.00,9,    34.8442,2,     640.27,2,       0.25,       0.01,       0.08,       0.01,      0.006,     0.0106,2,    1.52576,2,      0.059,1,      0.000,2,      0.482,1,      0.317,1,      0.081,1,     99.945,     0.0022,2,      0.052,1,      0.438,1,     -999.0,9
49NZ20210713,        P01,      29,          1,         12,     X12S12,2,20210722,       0250,    42.6778,   152.7024,       5300,  3170.4,2,   1.4938,2,  34.6691,2,  34.6694,2,   134.51,2,  134.31,2,  156.22,2,    0.00,2,   37.33,2,    0.00,2,   2.591,2,   0.001,2,   0.000,2,   0.001,2,   0.004,2,  2340.3,2,  2414.5,6,   39.23,2, -999.00,9,    34.8488,2,     640.32,2,       0.25,       0.01,       0.08,       0.01,      0.006,     -999.0,9,    1.49382,2,      0.059,1,      0.000,2,     -999.0,9,     -999.0,9,     -999.0,9,     99.952,     0.0019,2,      0.054,1,      0.438,1,     -999.0,9
49NZ20210713,        P01,      29,          1,         11,     X12S11,2,20210722,       0250,    42.6778,   152.7024,       5300,  3421.9,2,   1.4716,2,  34.6742,2,  34.6744,2,   140.62,2,  140.50,2,  154.57,2,    0.00,2,   36.95,2,    0.00,2,   2.558,2,   0.001,2,   0.000,2,   0.001,2,   0.000,2,  2335.0,2,  2411.9,2,   39.64,2, -999.00,9,    34.8545,2,     640.42,2,       0.24,       0.01,       0.08,       0.01,      0.006,     0.0104,2,    1.47145,2,      0.059,1,      0.000,2,      0.492,1,      0.321,1,      0.095,1,     99.962,     0.0015,2,      0.051,1,      0.433,1,     -999.0,9
49NZ20210713,        P01,      29,          1,         10,     X12S10,2,20210722,       0250,    42.6778,   152.7024,       5300,  3668.9,2,   1.4589,2,  34.6783,2,  34.6787,2,   145.53,2,  145.28,2,  153.24,2,    0.01,2,   36.58,2,    0.00,2,   2.536,2,   0.003,2,   0.001,2,   0.001,2,   0.000,2,  2331.0,2,  2412.2,2,   38.69,2, -999.00,9,    34.8578,2,     640.57,2,       0.24,       0.01,       0.08,       0.01,      0.006,     -999.0,9,    1.45883,2,      0.058,1,      0.000,2,     -999.0,9,     -999.0,9,     -999.0,9,     99.959,     0.0016,2,      0.054,1,      0.429,1,     -999.0,9
49NZ20210713,        P01,      29,          1,          9,     X12S09,2,20210722,       0250,    42.6778,   152.7024,       5300,  3922.7,2,   1.4527,2,  34.6819,2,  34.6816,2,   149.92,2,  149.21,2,  151.99,2,    0.02,2,   36.26,2,    0.00,2,   2.509,2,   0.004,2,   0.002,2,   0.000,2,   0.000,2,  2331.4,2,  2409.2,2,   39.23,2, -999.00,9,    34.8604,2,     640.62,2,       0.24,       0.01,       0.08,       0.01,      0.006,     0.0103,2,    1.45270,2,      0.057,1,      0.000,2,      0.335,1,      0.200,1,      0.043,1,     99.943,     0.0023,2,      0.054,1,      0.440,1,     -999.0,9
49NZ20210713,        P01,      29,          1,          8,     X12S08,2,20210722,       0250,    42.6778,   152.7024,       5300,  4169.6,2,   1.4557,2,  34.6843,2,  34.6846,2,   153.01,2,  152.40,2,  151.41,2,    0.01,2,   36.14,2,    0.00,2,   2.496,2,   0.003,2,   0.001,2,   0.000,2,   0.000,2,  2326.4,6,  2409.6,2,   37.64,2, -999.00,9,    34.8627,2,     640.62,2,       0.24,       0.01,       0.08,       0.01,      0.006,     -999.0,9,    1.45570,2,      0.057,1,      0.000,2,     -999.0,9,     -999.0,9,     -999.0,9,     99.973,     0.0011,2,      0.050,1,      0.437,1,     -999.0,9
49NZ20210713,        P01,      29,          1,          7,     X12S07,2,20210722,       0250,    42.6778,   152.7024,       5300,  4421.3,2,   1.4674,2,  34.6862,2,  34.6866,2,   155.18,2,  154.67,2,  151.06,2,    0.00,2,   36.03,2,    0.00,2,   2.484,2,   0.006,2,   0.002,2,   0.000,2,   0.000,2,  2323.9,2,  2410.3,2,   51.07,4, -999.00,9,    34.8652,2,     640.62,2,       0.24,       0.01,       0.08,       0.01,      0.006,     0.0103,2,    1.46739,2,      0.057,1,      0.000,2,      0.273,1,      0.148,1,      0.023,1,     99.968,     0.0013,2,      0.051,1,      0.430,1,     -999.0,9