BOTTLE,20231011CCHSIOENA
EXPOCODE,SECT_ID,STNNBR,CASTNO,SAMPNO,BTLNBR,BTLNBR_FLAG_W,DATE,TIME,LATITUDE,LONGITUDE,DEPTH,CTDPRS,CTDPRS_FLAG_W,CTDTMP,CTDTMP_FLAG_W,CTDSAL,CTDSAL_FLAG_W,SALNTY,SALNTY_FLAG_W,CTDOXY,CTDOXY_FLAG_W,OXYGEN,OXYGEN_FLAG_W,SILCAT,SILCAT_FLAG_W,NH4,NH4_FLAG_W,NITRAT,NITRAT_FLAG_W,NITRIT,NITRIT_FLAG_W,PHSPHT,PHSPHT_FLAG_W,CFC-11,CFC-11_FLAG_W,CFC-12,CFC-12_FLAG_W,CFC113,CFC113_FLAG_W,SF6,SF6_FLAG_W,TCARBN,TCARBN_FLAG_W,ALKALI,ALKALI_FLAG_W,DOC,DOC_FLAG_W,TDN,TDN_FLAG_W,DNSSAL,DNSSAL_FLAG_W,RIANOMALY,RIANOMALY_FLAG_W,SILUNC,NH4UNC,NRAUNC,NRIUNC,PHPUNC,FDOM,FDOM_FLAG_W,REFTMP,REFTMP_FLAG_W,CTDFLUOR,CTDFLUOR_FLAG_W,PAR,PAR_FLAG_W,CDOM300,CDOM300_FLAG_W,CDOM325,CDOM325_FLAG_W,CDOM443,CDOM443_FLAG_W,CTDXMISS,CTDBEAMCP,CTDBEAMCP_FLAG_W,CTDTURB,CTDTURB_FLAG_W,CTDCDOM,CTDCDOM_FLAG_W,CHLORA,CHLORA_FLAG_W
,,,,,,,,,,,METERS,DBAR,,ITS-90,,PSS-78,,PSS-78,,UMOL/KG,,UMOL/KG,,UMOL/KG,,UMOL/KG,,UMOL/KG,,UMOL/KG,,UMOL/KG,,PMOL/KG,,PMOL/KG,,PMOL/KG,,FMOL/KG,,UMOL/KG,,UMOL/KG,,UMOL/KG,,UMOL/KG,,G/KG,,ND,,UMOL/KG,UMOL/KG,UMOL/KG,UMOL/KG,UMOL/KG,RFU,,ITS-90,,MG/M^3,,UMOL/M^2/SEC,,/METER,,/METER,,/METER,,%TRANS,/METER,,FTU,,QSU,,UG/L,
49NZ20210713,        P01,      14,          1,          6,     X12S06,2,20210718,       0428,    41.1396,   146.7978,       5334,  4832.6,2,   1.4982,2,  34.6882,2,  34.6885,2,   157.38,2,  157.76,2,  150.00,2,    0.02,2,   35.71,2,    0.00,2,   2.471,2,   0.007,2,   0.007,2,   0.001,2,   0.026,2,  2327.5,2,  2415.2,6,   37.56,2, -999.00,9,    34.8674,2,     640.70,2,       0.27,       0.01,       0.08,       0.01,      0.006,     -999.0,9,    1.49828,2,      0.052,1,      0.000,2,     -999.0,9,     -999.0,9,     -999.0,9,     99.882,     0.0047,2,      0.063,1,      0.478,1,     -999.0,9
49NZ20210713,        P01,      14,          1,          5,     X12S05,2,20210718,       0428,    41.1396,   146.7978,       5334,  5082.5,2,   1.5214,2,  34.6890,2,  34.6901,2,   158.53,2,  159.01,2,  149.10,2,    0.01,2,   35.63,2,    0.00,2,   2.464,2,   0.009,2,   0.007,2,   0.001,2,   0.026,2,  2325.4,2,  2415.7,2,   35.33,2, -999.00,9,    34.8694,2,     640.75,2,       0.26,       0.01,       0.08,       0.01,      0.007,     0.0095,2,    1.52158,2,      0.052,1,      0.000,2,     -999.0,5,     -999.0,5,     -999.0,5,     99.777,     0.0089,2,      0.064,1,      0.480,1,     -999.0,9
49NZ20210713,        P01,      14,          1,          4,     X12S04,2,20210718,       0428,    41.1396,   146.7978,       5334,  5331.1,2,   1.5446,2,  34.6898,2,  34.6906,2,   160.11,2,  160.97,2,  147.43,2,    0.00,2,   35.52,2,    0.00,2,   2.456,2,   0.007,2,   0.009,2,   0.001,2,   0.026,2,  2327.2,2,  2414.0,2,   37.99,2, -999.00,9,    34.8681,2,     640.75,2,       0.23,       0.01,       0.08,       0.01,      0.006,     0.0097,2,    1.54471,2,      0.052,1,      0.000,2,      0.278,1,      0.156,1,      0.025,1,     99.630,     0.0148,2,      0.073,1,      0.505,1,     -999.0,9
49NZ20210713,        P01,      14,          1,          1,     X12S01,2,20210718,       0428,    41.1396,   146.7978,       5334,  5424.2,2,   1.5529,2,  34.6902,2,  34.6901,2,   160.62,2,  160.81,2,  147.48,2,    0.01,2,   35.52,2,    0.00,2,   2.454,2,   0.004,2,   0.002,2,   0.000,2,   0.018,2,  2321.3,2,  2414.9,2,   39.50,2, -999.00,9,    34.8683,2,     640.65,2,       0.23,       0.01,       0.08,       0.01,      0.006,     0.0098,2,    1.55306,2,      0.052,1,      0.000,2,      0.311,1,      0.180,1,      0.035,1,     99.339,     0.0265,2,      0.091,1,      0.497,1,     -999.0,9