BOTTLE,20231011CCHSIOENA
EXPOCODE,SECT_ID,STNNBR,CASTNO,SAMPNO,BTLNBR,BTLNBR_FLAG_W,DATE,TIME,LATITUDE,LONGITUDE,DEPTH,CTDPRS,CTDPRS_FLAG_W,CTDTMP,CTDTMP_FLAG_W,CTDSAL,CTDSAL_FLAG_W,SALNTY,SALNTY_FLAG_W,CTDOXY,CTDOXY_FLAG_W,OXYGEN,OXYGEN_FLAG_W,SILCAT,SILCAT_FLAG_W,NH4,NH4_FLAG_W,NITRAT,NITRAT_FLAG_W,NITRIT,NITRIT_FLAG_W,PHSPHT,PHSPHT_FLAG_W,CFC-11,CFC-11_FLAG_W,CFC-12,CFC-12_FLAG_W,CFC113,CFC113_FLAG_W,SF6,SF6_FLAG_W,TCARBN,TCARBN_FLAG_W,ALKALI,ALKALI_FLAG_W,DOC,DOC_FLAG_W,TDN,TDN_FLAG_W,DNSSAL,DNSSAL_FLAG_W,RIANOMALY,RIANOMALY_FLAG_W,SILUNC,NH4UNC,NRAUNC,NRIUNC,PHPUNC,FDOM,FDOM_FLAG_W,REFTMP,REFTMP_FLAG_W,CTDFLUOR,CTDFLUOR_FLAG_W,PAR,PAR_FLAG_W,CDOM300,CDOM300_FLAG_W,CDOM325,CDOM325_FLAG_W,CDOM443,CDOM443_FLAG_W,CTDXMISS,CTDBEAMCP,CTDBEAMCP_FLAG_W,CTDTURB,CTDTURB_FLAG_W,CTDCDOM,CTDCDOM_FLAG_W,CHLORA,CHLORA_FLAG_W
,,,,,,,,,,,METERS,DBAR,,ITS-90,,PSS-78,,PSS-78,,UMOL/KG,,UMOL/KG,,UMOL/KG,,UMOL/KG,,UMOL/KG,,UMOL/KG,,UMOL/KG,,PMOL/KG,,PMOL/KG,,PMOL/KG,,FMOL/KG,,UMOL/KG,,UMOL/KG,,UMOL/KG,,UMOL/KG,,G/KG,,ND,,UMOL/KG,UMOL/KG,UMOL/KG,UMOL/KG,UMOL/KG,RFU,,ITS-90,,MG/M^3,,UMOL/M^2/SEC,,/METER,,/METER,,/METER,,%TRANS,/METER,,FTU,,QSU,,UG/L,
49NZ20210713,        P01,      90,          1,          6,     X12S06,2,20210810,       1624,    46.9903,  -149.1437,       5055,  4748.9,2,   1.5488,2,  34.6844,2,  34.6849,2,   142.44,2,  142.53,2,  171.87,2,    0.02,2,   36.90,2,    0.00,2,   2.555,2,   0.000,2,   0.000,2,   0.007,2,   0.043,2,  2341.9,2,  2429.4,6,   39.48,2, -999.00,9,    34.8685,2,     640.65,2,       0.27,       0.01,       0.08,       0.01,      0.006,     -999.0,9,    1.54882,2,      0.055,1,      0.000,2,     -999.0,9,     -999.0,9,     -999.0,9,     99.954,     0.0018,2,      0.037,1,      0.288,1,     -999.0,9
49NZ20210713,        P01,      90,          1,          5,     X12S05,2,20210810,       1624,    46.9903,  -149.1437,       5055,  5000.1,2,   1.5712,2,  34.6854,2,  34.6854,2,   143.76,2,  143.84,2,  171.89,2,    0.01,2,   36.87,2,    0.00,2,   2.549,2,   0.001,2,   0.001,2,   0.005,2,   0.000,2,  2339.6,2,  2430.9,2,   37.30,2, -999.00,9,    34.8714,2,     640.75,2,       0.27,       0.01,       0.08,       0.01,      0.006,     0.0102,2,    1.57123,2,      0.055,1,      0.000,2,      0.295,1,      0.163,1,      0.022,1,     99.924,     0.0031,2,      0.039,1,      0.285,1,     -999.0,9
49NZ20210713,        P01,      90,          1,          1,     X12S01,2,20210810,       1624,    46.9903,  -149.1437,       5055,  5138.8,2,   1.5868,2,  34.6858,2,  34.6859,2,   143.97,2,  143.94,2,  172.78,2,    0.02,2,   36.84,2,    0.00,2,   2.548,2,   0.001,2,   0.002,2,   0.000,2,   0.011,2,  2339.6,2,  2431.3,2,   36.91,2, -999.00,9,    34.8670,2,     640.85,2,       0.27,       0.01,       0.08,       0.01,      0.006,     0.0101,2,    1.58684,2,      0.055,1,      0.000,2,      0.299,1,      0.165,1,      0.026,1,     99.791,     0.0084,2,      0.050,1,      0.286,1,     -999.0,9