BOTTLE,20231011CCHSIOENA
EXPOCODE,SECT_ID,STNNBR,CASTNO,SAMPNO,BTLNBR,BTLNBR_FLAG_W,DATE,TIME,LATITUDE,LONGITUDE,DEPTH,CTDPRS,CTDPRS_FLAG_W,CTDTMP,CTDTMP_FLAG_W,CTDSAL,CTDSAL_FLAG_W,SALNTY,SALNTY_FLAG_W,CTDOXY,CTDOXY_FLAG_W,OXYGEN,OXYGEN_FLAG_W,SILCAT,SILCAT_FLAG_W,NH4,NH4_FLAG_W,NITRAT,NITRAT_FLAG_W,NITRIT,NITRIT_FLAG_W,PHSPHT,PHSPHT_FLAG_W,CFC-11,CFC-11_FLAG_W,CFC-12,CFC-12_FLAG_W,CFC113,CFC113_FLAG_W,SF6,SF6_FLAG_W,TCARBN,TCARBN_FLAG_W,ALKALI,ALKALI_FLAG_W,DOC,DOC_FLAG_W,TDN,TDN_FLAG_W,DNSSAL,DNSSAL_FLAG_W,RIANOMALY,RIANOMALY_FLAG_W,SILUNC,NH4UNC,NRAUNC,NRIUNC,PHPUNC,FDOM,FDOM_FLAG_W,REFTMP,REFTMP_FLAG_W,CTDFLUOR,CTDFLUOR_FLAG_W,PAR,PAR_FLAG_W,CDOM300,CDOM300_FLAG_W,CDOM325,CDOM325_FLAG_W,CDOM443,CDOM443_FLAG_W,CTDXMISS,CTDBEAMCP,CTDBEAMCP_FLAG_W,CTDTURB,CTDTURB_FLAG_W,CTDCDOM,CTDCDOM_FLAG_W,CHLORA,CHLORA_FLAG_W
,,,,,,,,,,,METERS,DBAR,,ITS-90,,PSS-78,,PSS-78,,UMOL/KG,,UMOL/KG,,UMOL/KG,,UMOL/KG,,UMOL/KG,,UMOL/KG,,UMOL/KG,,PMOL/KG,,PMOL/KG,,PMOL/KG,,FMOL/KG,,UMOL/KG,,UMOL/KG,,UMOL/KG,,UMOL/KG,,G/KG,,ND,,UMOL/KG,UMOL/KG,UMOL/KG,UMOL/KG,UMOL/KG,RFU,,ITS-90,,MG/M^3,,UMOL/M^2/SEC,,/METER,,/METER,,/METER,,%TRANS,/METER,,FTU,,QSU,,UG/L,
49NZ20210713,        P01,      62,          1,         36,     X12S36,2,20210802,       2206,    46.9859,  -179.4262,       5743,    10.6,2,  11.4283,2,  32.8460,2,  32.8460,2,   282.01,2,  282.27,2,   30.41,2,    0.52,2,   18.77,2,    0.25,2,   1.613,2,   3.508,2,   1.923,2,   0.386,2,   3.360,2,  2075.8,2,  2224.5,2,   51.40,2, -999.00,9,    33.0045,2,     606.90,2,       0.08,       0.02,       0.05,       0.01,      0.005,     0.0030,2,   11.43325,2,      0.313,1,    309.896,2,      0.343,1,      0.170,1,      0.021,1,     97.120,     0.1169,2,      0.141,1,      0.194,1,       0.28,2
49NZ20210713,        P01,      62,          1,         35,     X12S35,2,20210802,       2206,    46.9859,  -179.4262,       5743,    50.1,2,   5.3969,2,  33.0671,2,  33.0745,2,   320.65,2,  321.64,2,   28.82,2,    0.56,2,   19.53,2,    0.27,2,   1.659,2,   4.636,2,   2.458,2,   0.507,2,   3.935,2,  2104.7,2,  2233.0,2,   49.43,2, -999.00,9,    33.2325,2,     611.20,2,       0.07,       0.02,       0.05,       0.01,      0.005,     0.0052,2,    5.39282,2,      1.198,1,     19.318,2,      0.549,1,      0.334,1,      0.072,1,     97.726,     0.0920,2,      0.132,1,      0.232,1,       0.34,2
49NZ20210713,        P01,      62,          1,          2,     X12B34,2,20210802,       2206,    46.9859,  -179.4262,       5743,    56.3,2,   5.0588,2,  33.0931,2,  33.0936,2,   321.80,2,  322.90,2,   29.79,2,    0.35,2,   19.93,2,    0.31,2,   1.668,2,-999.000,9,-999.000,9,-999.000,9,-999.000,9,  2113.5,2,  2232.8,2,   54.32,2, -999.00,9,    33.2532,2,     611.55,2,       0.08,       0.02,       0.05,       0.01,      0.005,     0.0049,2,    5.05965,2,      1.392,1,     12.309,2,      0.397,1,      0.208,1,      0.027,1,     97.710,     0.0927,2,      0.127,1,      0.236,1,       0.42,2
49NZ20210713,        P01,      62,          1,         34,     X12S34,3,20210802,       2206,    46.9859,  -179.4262,       5743,   100.2,2,   4.2960,2,  33.2738,2,  33.2707,2,   302.78,2,  304.21,2,   35.21,2,    0.01,2,   22.00,2,    0.02,2,   1.703,2,-999.000,5,-999.000,5,-999.000,5,-999.000,5,  2133.2,2,  2237.3,2,   46.99,2, -999.00,9,    33.4313,2,     614.85,2,       0.08,       0.01,       0.05,       0.01,      0.005,     0.0060,2,    4.30439,2,      0.234,1,      0.766,2,      0.386,1,      0.208,1,      0.025,1,     99.363,     0.0256,2,      0.078,1,      0.242,1,       0.14,2
49NZ20210713,        P01,      62,          1,         33,     X12S33,2,20210802,       2206,    46.9859,  -179.4262,       5743,   150.2,2,   4.3753,2,  33.5260,2,  33.5251,2,   244.92,2,  244.55,2,   44.00,2,    0.00,2,   24.91,2,    0.01,2,   1.859,2,   4.123,2,   2.219,2,   0.365,2,   3.365,2,  2172.6,2,  2255.6,2,   49.80,2, -999.00,9,    33.6887,2,     619.50,2,       0.09,       0.01,       0.06,       0.01,      0.005,     0.0083,2,    4.37206,2,      0.071,1,      0.000,2,      0.395,1,      0.220,1,      0.033,1,     99.536,     0.0186,2,      0.073,1,      0.277,1,       0.02,2
49NZ20210713,        P01,      62,          1,         32,     X12S32,2,20210802,       2206,    46.9859,  -179.4262,       5743,   200.0,2,   4.3320,2,  33.6818,2,  33.6841,2,   174.26,2,  173.53,2,   59.61,2,    0.00,2,   30.52,2,    0.01,2,   2.229,2,   3.557,2,   1.906,2,   0.255,2,   2.419,2,  2224.5,2,  2271.5,2,   45.23,2, -999.00,9,    33.8483,2,     622.50,2,       0.12,       0.01,       0.07,       0.01,      0.005,     0.0100,2,    4.33406,2,      0.072,1,      0.000,2,      0.408,1,      0.229,1,      0.036,1,     99.523,     0.0191,2,      0.079,1,      0.314,1,       0.02,2
49NZ20210713,        P01,      62,          1,         31,     X12S31,2,20210802,       2206,    46.9859,  -179.4262,       5743,   249.0,2,   4.1108,2,  33.7446,2,  33.7461,2,   138.08,2,  137.44,2,   70.00,2,    0.00,2,   34.00,2,    0.01,2,   2.460,2,   3.165,2,   1.705,2,   0.228,2,   1.936,2,  2254.3,2,  2277.6,2,   43.27,2, -999.00,9,    33.9123,2,     623.55,2,       0.13,       0.01,       0.07,       0.01,      0.006,     0.0109,2,    4.11017,2,      0.067,1,      0.000,2,      0.413,1,      0.236,1,      0.038,1,     99.594,     0.0163,2,      0.071,1,      0.336,1,       0.01,2
49NZ20210713,        P01,      62,          1,         30,     X12S30,2,20210802,       2206,    46.9859,  -179.4262,       5743,   329.9,2,   4.1383,2,  33.9001,2,  33.9026,2,    85.16,2,   85.41,2,   85.55,2,    0.00,2,   38.30,2,    0.01,2,   2.732,2,   2.402,2,   1.261,2,   0.155,2,   1.170,2,  2292.7,2,  2294.5,2,   44.17,2, -999.00,9,    34.0732,2,     626.45,2,       0.15,       0.01,       0.08,       0.01,      0.006,     0.0119,2,    4.14014,2,      0.069,1,      0.000,2,      0.433,1,      0.251,1,      0.047,1,     99.684,     0.0126,2,      0.069,1,      0.349,1,     -999.0,9
49NZ20210713,        P01,      62,          1,         29,     X12S29,2,20210802,       2206,    46.9859,  -179.4262,       5743,   429.9,2,   3.8863,2,  34.0404,2,  34.0400,2,    45.20,2,   45.45,2,  103.48,2,    0.00,2,   41.91,2,    0.00,2,   2.969,2,   1.645,2,   0.863,2,   0.109,2,   0.712,2,  2328.9,2,  2317.5,2,   40.82,2, -999.00,9,    34.2115,2,     629.00,2,       0.17,       0.01,       0.09,       0.01,      0.006,     0.0129,2,    3.88620,2,      0.071,1,      0.000,2,      0.426,1,      0.248,1,      0.049,1,     99.724,     0.0111,2,      0.059,1,      0.358,1,     -999.0,9
49NZ20210713,        P01,      62,          1,         28,     X12S28,2,20210802,       2206,    46.9859,  -179.4262,       5743,   530.6,2,   3.7446,2,  34.1353,2,  34.1353,2,    34.77,2,   34.57,2,  113.73,2,    0.00,2,   42.68,2,    0.00,2,   3.019,2,   1.155,2,   0.600,2,   0.065,2,   0.414,2,  2346.9,2,  2327.8,2,   38.49,2, -999.00,9,    34.3059,2,     630.75,2,       0.19,       0.01,       0.09,       0.01,      0.006,     0.0133,2,    3.74425,2,      0.070,1,      0.000,2,      0.497,1,      0.311,1,      0.071,1,     99.828,     0.0069,2,      0.058,1,      0.362,1,     -999.0,9
49NZ20210713,        P01,      62,          1,         27,     X12S27,2,20210802,       2206,    46.9859,  -179.4262,       5743,   630.8,2,   3.4855,2,  34.2112,2,  34.2118,2,    25.81,2,   25.81,2,  124.90,2,    0.01,2,   43.41,2,    0.00,2,   3.070,2,   0.776,2,   0.412,2,   0.044,2,   0.225,2,  2356.9,2,  2343.3,2,   35.87,2, -999.00,9,    34.3864,2,     632.10,2,       0.20,       0.01,       0.09,       0.01,      0.006,     0.0136,2,    3.48567,2,      0.071,1,      0.000,2,      0.408,1,      0.240,1,      0.046,1,     99.844,     0.0062,2,      0.055,1,      0.375,1,     -999.0,9
49NZ20210713,        P01,      62,          1,         26,     X12S26,2,20210802,       2206,    46.9859,  -179.4262,       5743,   730.8,2,   3.2842,2,  34.2758,2,  34.2759,2,    24.80,2,   24.63,2,  132.61,2,    0.01,2,   43.49,2,    0.00,2,   3.087,2,   0.528,2,   0.288,2,   0.029,2,   0.129,2,  2366.8,6,  2353.3,2,   36.48,2, -999.00,9,    34.4504,2,     633.35,2,       0.21,       0.01,       0.09,       0.01,      0.006,     -999.0,9,    3.28417,2,      0.070,1,      0.000,2,     -999.0,9,     -999.0,9,     -999.0,9,     99.867,     0.0053,2,      0.052,1,      0.377,1,     -999.0,9
49NZ20210713,        P01,      62,          1,         25,     X12S25,2,20210802,       2206,    46.9859,  -179.4262,       5743,   831.2,2,   3.1048,2,  34.3214,2,  34.3216,2,    24.88,2,   24.86,2,  138.47,2,    0.01,2,   43.49,2,    0.01,2,   3.086,2,   0.393,2,   0.215,2,   0.019,2,   0.116,2,  2371.7,2,  2362.0,2,   35.28,2, -999.00,9,    34.4978,2,     634.15,2,       0.22,       0.01,       0.09,       0.01,      0.006,     0.0136,2,    3.10499,2,      0.071,1,      0.000,2,      0.397,1,      0.232,1,      0.046,1,     99.883,     0.0047,2,      0.053,1,      0.369,1,     -999.0,9
49NZ20210713,        P01,      62,          1,         24,     X12S24,2,20210802,       2206,    46.9859,  -179.4262,       5743,   930.4,2,   2.9348,2,  34.3613,2,  34.3606,2,    25.40,2,   25.31,2,  143.93,2,    0.04,2,   43.58,2,    0.01,2,   3.087,2,   0.278,2,   0.157,2,   0.013,2,   0.101,2,  2376.9,2,  2369.5,2,   41.78,2, -999.00,9,    34.5386,2,     634.90,2,       0.23,       0.01,       0.09,       0.01,      0.006,     -999.0,9,    2.93496,2,      0.070,1,      0.000,2,     -999.0,9,     -999.0,9,     -999.0,9,     99.890,     0.0044,2,      0.051,1,      0.370,1,     -999.0,9
49NZ20210713,        P01,      62,          1,         23,     X12S23,2,20210802,       2206,    46.9859,  -179.4262,       5743,  1068.8,2,   2.7187,2,  34.4103,2,  34.4092,2,    27.12,2,   27.05,2,  150.79,2,    0.01,2,   43.67,2,    0.00,2,   3.091,2,   0.182,2,   0.104,2,   0.008,2,   0.058,2,  2385.6,2,  2379.5,2,   35.99,2, -999.00,9,    34.5872,2,     635.75,2,       0.24,       0.01,       0.09,       0.01,      0.006,     0.0132,2,    2.71809,2,      0.069,1,      0.000,2,      0.384,1,      0.224,1,      0.044,1,     99.897,     0.0041,2,      0.050,1,      0.368,1,     -999.0,9
49NZ20210713,        P01,      62,          1,         22,     X12S22,2,20210802,       2206,    46.9859,  -179.4262,       5743,  1270.6,2,   2.4702,2,  34.4660,2,  34.4649,2,    32.78,2,   32.51,2,  158.03,2,    0.02,2,   43.41,2,    0.00,2,   3.071,2,   0.099,2,   0.059,2,   0.003,2,   0.038,2,  2389.4,2,  2388.3,6,   35.45,2, -999.00,9,    34.6444,2,     636.75,2,       0.25,       0.01,       0.09,       0.01,      0.006,     -999.0,9,    2.47063,2,      0.068,1,      0.000,2,     -999.0,9,     -999.0,9,     -999.0,9,     99.920,     0.0032,2,      0.052,1,      0.367,1,     -999.0,9
49NZ20210713,        P01,      62,          1,         21,     X12S21,2,20210802,       2206,    46.9859,  -179.4262,       5743,  1470.2,2,   2.2768,2,  34.5081,2,  34.5096,2,    39.19,2,   39.79,2,  163.60,2,    0.02,2,   43.08,2,    0.01,2,   3.036,2,   0.057,2,   0.032,2,   0.005,2,   0.046,2,  2389.9,2,  2397.2,2,   36.44,2, -999.00,9,    34.6880,2,     637.60,2,       0.27,       0.01,       0.09,       0.01,      0.006,     0.0130,2,    2.27606,2,      0.066,1,      0.000,2,      0.376,1,      0.220,1,      0.043,1,     99.909,     0.0037,2,      0.049,1,      0.368,1,     -999.0,9
49NZ20210713,        P01,      62,          1,         20,     X12S20,2,20210802,       2206,    46.9859,  -179.4262,       5743,  1671.4,2,   2.1251,2,  34.5438,2,  34.5436,2,    48.89,2,   49.04,2,  166.46,2,    0.01,2,   42.70,2,    0.01,2,   2.996,2,   0.032,2,   0.017,2,   0.000,2,   0.005,2,  2387.4,2,  2403.0,2,   35.92,2, -999.00,9,    34.7227,2,     638.20,2,       0.26,       0.01,       0.09,       0.01,      0.006,     -999.0,9,    2.12519,2,      0.065,1,      0.000,2,     -999.0,9,     -999.0,9,     -999.0,9,     99.913,     0.0035,2,      0.050,1,      0.357,1,     -999.0,9
49NZ20210713,        P01,      62,          1,         19,     X12S19,2,20210802,       2206,    46.9859,  -179.4262,       5743,  1869.9,2,   1.9771,2,  34.5754,2,  34.5744,2,    60.21,2,   60.40,2,  168.44,2,    0.01,2,   42.03,2,    0.00,2,   2.944,2,   0.013,2,   0.007,2,   0.000,2,   0.030,2,  2385.2,2,  2406.3,2,   35.78,2, -999.00,9,    34.7542,2,     638.75,2,       0.26,       0.01,       0.09,       0.01,      0.006,     0.0132,3,    1.97675,2,      0.063,1,      0.000,2,      0.375,1,      0.219,1,      0.042,1,     99.930,     0.0028,2,      0.050,1,      0.360,1,     -999.0,9
49NZ20210713,        P01,      62,          1,         18,     X12S18,2,20210802,       2206,    46.9859,  -179.4262,       5743,  2067.7,2,   1.8645,2,  34.5991,2,  34.5979,2,    72.73,2,   72.36,2,  168.82,2,    0.00,2,   41.35,2,    0.00,2,   2.895,2,   0.007,2,   0.002,2,   0.000,2,   0.012,2,  2378.0,2,  2410.2,2,   37.34,2, -999.00,9,    34.7780,2,     639.25,2,       0.26,       0.01,       0.09,       0.01,      0.006,     -999.0,9,    1.86497,2,      0.062,1,      0.000,2,     -999.0,9,     -999.0,9,     -999.0,9,     99.937,     0.0025,2,      0.049,1,      0.348,1,     -999.0,9
49NZ20210713,        P01,      62,          1,         17,     X12S17,2,20210802,       2206,    46.9859,  -179.4262,       5743,  2270.6,2,   1.7765,2,  34.6163,2,  34.6166,2,    83.00,2,   83.41,2,  168.86,2,    0.00,2,   40.62,2,    0.00,2,   2.843,2,   0.006,2,   0.000,2,   0.002,2,   0.019,2,  2375.3,2,  2414.0,2,   40.95,4, -999.00,9,    34.7962,2,     639.55,2,       0.26,       0.01,       0.09,       0.01,      0.006,     0.0114,2,    1.77592,2,      0.061,1,      0.000,2,      0.338,1,      0.191,1,      0.037,1,     99.941,     0.0024,2,      0.049,1,      0.342,1,     -999.0,9
49NZ20210713,        P01,      62,          1,         16,     X12S16,2,20210802,       2206,    46.9859,  -179.4262,       5743,  2470.2,2,   1.7054,2,  34.6300,2,  34.6302,2,    92.97,2,   93.23,2,  168.23,2,    0.00,2,   39.99,2,    0.00,2,   2.798,2,   0.001,2,   0.000,2,   0.002,2,   0.015,2,  2369.1,6,  2416.2,2,   42.08,4, -999.00,9,    34.8103,2,     639.80,2,       0.26,       0.01,       0.08,       0.01,      0.006,     -999.0,9,    1.70568,2,      0.060,1,      0.000,2,     -999.0,9,     -999.0,9,     -999.0,9,     99.941,     0.0024,2,      0.058,1,      0.341,1,     -999.0,9
49NZ20210713,        P01,      62,          1,         15,     X12S15,2,20210802,       2206,    46.9859,  -179.4262,       5743,  2671.2,2,   1.6431,2,  34.6420,2,  34.6416,2,   102.92,2,  102.82,2,  166.96,2,    0.01,2,   39.43,2,    0.00,2,   2.754,2,   0.000,2,   0.000,2,   0.001,2,   0.013,2,  2362.0,2,  2414.4,2,   34.81,2, -999.00,9,    34.8215,2,     640.05,2,       0.28,       0.01,       0.08,       0.01,      0.006,     0.0107,2,    1.64350,2,      0.059,1,      0.000,2,      0.405,1,      0.248,1,      0.058,1,     99.955,     0.0018,2,      0.049,1,      0.342,1,     -999.0,9
49NZ20210713,        P01,      62,          1,         14,     X12S14,2,20210802,       2206,    46.9859,  -179.4262,       5743,  2870.0,2,   1.5921,2,  34.6518,2,  34.6514,2,   112.04,2,  112.48,2,  165.39,2,    0.01,2,   38.84,2,    0.01,2,   2.699,2,   0.002,2,   0.000,2,   0.002,2,   0.000,2,  2355.6,2,  2414.3,2,   38.76,2, -999.00,9,    34.8321,2,     640.15,2,       0.26,       0.01,       0.08,       0.01,      0.006,     -999.0,9,    1.59232,2,      0.058,1,      0.000,2,     -999.0,9,     -999.0,9,     -999.0,9,     99.974,     0.0011,2,      0.048,1,      0.332,1,     -999.0,9
49NZ20210713,        P01,      62,          1,         13,     X12S13,2,20210802,       2206,    46.9859,  -179.4262,       5743,  3080.6,2,   1.5464,2,  34.6603,2,  34.6596,2,   120.98,2,  121.28,2,  163.06,2,    0.00,2,   38.08,2,    0.00,2,   2.654,2,   0.001,2,   0.000,2,   0.001,2,   0.010,2,  2349.5,2,  2415.8,2,   36.37,2, -999.00,9,    34.8400,2,     640.35,2,       0.25,       0.01,       0.08,       0.01,      0.006,     0.0103,2,    1.54595,2,      0.058,1,      0.000,2,      0.311,1,      0.175,1,      0.031,1,     99.971,     0.0012,2,      0.048,1,      0.329,1,     -999.0,9
49NZ20210713,        P01,      62,          1,         12,     X12S12,2,20210802,       2206,    46.9859,  -179.4262,       5743,  3330.3,2,   1.5166,2,  34.6672,2,  34.6676,2,   128.83,2,  129.39,2,  161.22,2,    0.00,2,   37.63,2,    0.00,2,   2.613,2,   0.001,2,   0.000,2,   0.001,2,   0.022,2,  2347.6,2,  2416.1,6,   41.97,4, -999.00,9,    34.8466,2,     640.45,2,       0.25,       0.01,       0.08,       0.01,      0.006,     -999.0,9,    1.51631,2,      0.057,1,      0.000,2,     -999.0,9,     -999.0,9,     -999.0,9,     99.974,     0.0011,2,      0.047,1,      0.321,1,     -999.0,9
49NZ20210713,        P01,      62,          1,         11,     X12S11,2,20210802,       2206,    46.9859,  -179.4262,       5743,  3580.2,2,   1.4924,2,  34.6732,2,  34.6737,2,   135.94,2,  136.36,2,  159.55,2,    0.00,2,   37.22,2,    0.00,2,   2.576,2,   0.000,2,   0.000,2,   0.001,2,   0.000,2,  2342.0,2,  2417.4,2,   39.31,2, -999.00,9,    34.8525,2,     640.60,2,       0.25,       0.01,       0.08,       0.01,      0.006,     0.0101,2,    1.49239,2,      0.056,1,      0.000,2,      0.300,1,      0.164,1,      0.032,1,     99.974,     0.0011,2,      0.048,1,      0.315,1,     -999.0,9
49NZ20210713,        P01,      62,          1,         10,     X12S10,2,20210802,       2206,    46.9859,  -179.4262,       5743,  3830.3,2,   1.4760,2,  34.6783,2,  34.6788,2,   142.51,2,  142.77,2,  157.72,2,    0.01,2,   36.88,2,    0.00,2,   2.543,2,   0.000,2,   0.000,2,   0.001,2,   0.000,2,  2335.8,2,  2416.2,2,   38.91,2, -999.00,9,    34.8584,2,     640.65,2,       0.25,       0.01,       0.08,       0.01,      0.006,     -999.0,9,    1.47600,2,      0.056,1,      0.000,2,     -999.0,9,     -999.0,9,     -999.0,9,     99.967,     0.0013,2,      0.047,1,      0.322,1,     -999.0,9
49NZ20210713,        P01,      62,          1,          9,     X12S09,2,20210802,       2206,    46.9859,  -179.4262,       5743,  4079.8,2,   1.4732,2,  34.6818,2,  34.6820,2,   146.40,2,  146.67,2,  157.53,2,    0.00,2,   36.54,2,    0.00,2,   2.525,2,   0.000,2,   0.000,2,   0.002,2,   0.018,2,  2332.5,2,  2416.6,2,   39.96,2, -999.00,9,    34.8607,2,     640.75,2,       0.25,       0.01,       0.08,       0.01,      0.006,     0.0094,2,    1.47324,2,      0.055,1,      0.000,2,      0.314,1,      0.176,1,      0.029,1,     99.978,     0.0009,2,      0.047,1,      0.319,1,     -999.0,9
49NZ20210713,        P01,      62,          1,          8,     X12S08,2,20210802,       2206,    46.9859,  -179.4262,       5743,  4330.2,2,   1.4811,2,  34.6842,2,  34.6841,2,   149.26,2,  149.38,2,  157.83,2,    0.01,2,   36.36,2,    0.00,2,   2.508,2,   0.002,2,   0.000,2,   0.003,2,   0.016,2,  2330.8,6,  2415.2,2,   36.99,2, -999.00,9,    34.8644,2,     640.80,2,       0.25,       0.01,       0.08,       0.01,      0.006,     -999.0,9,    1.48098,2,      0.055,1,      0.000,2,     -999.0,9,     -999.0,9,     -999.0,9,     99.978,     0.0009,2,      0.046,1,      0.343,1,     -999.0,9
49NZ20210713,        P01,      62,          1,          7,     X12S07,2,20210802,       2206,    46.9859,  -179.4262,       5743,  4580.4,2,   1.4984,2,  34.6857,2,  34.6858,2,   150.89,2,  150.84,2,  158.52,2,    0.01,2,   36.27,2,    0.00,2,   2.501,2,   0.000,4,   0.000,4,   0.000,4,   3.184,4,  2333.5,2,  2420.5,2,   41.33,3, -999.00,9,    34.8641,2,     640.80,2,       0.25,       0.01,       0.08,       0.01,      0.006,     0.0096,2,    1.49841,2,      0.055,1,      0.000,2,      0.282,1,      0.150,1,      0.023,1,     99.978,     0.0009,2,      0.046,1,      0.349,1,     -999.0,9