BOTTLE,20231011CCHSIOENA
EXPOCODE,SECT_ID,STNNBR,CASTNO,SAMPNO,BTLNBR,BTLNBR_FLAG_W,DATE,TIME,LATITUDE,LONGITUDE,DEPTH,CTDPRS,CTDPRS_FLAG_W,CTDTMP,CTDTMP_FLAG_W,CTDSAL,CTDSAL_FLAG_W,SALNTY,SALNTY_FLAG_W,CTDOXY,CTDOXY_FLAG_W,OXYGEN,OXYGEN_FLAG_W,SILCAT,SILCAT_FLAG_W,NH4,NH4_FLAG_W,NITRAT,NITRAT_FLAG_W,NITRIT,NITRIT_FLAG_W,PHSPHT,PHSPHT_FLAG_W,CFC-11,CFC-11_FLAG_W,CFC-12,CFC-12_FLAG_W,CFC113,CFC113_FLAG_W,SF6,SF6_FLAG_W,TCARBN,TCARBN_FLAG_W,ALKALI,ALKALI_FLAG_W,DOC,DOC_FLAG_W,TDN,TDN_FLAG_W,DNSSAL,DNSSAL_FLAG_W,RIANOMALY,RIANOMALY_FLAG_W,SILUNC,NH4UNC,NRAUNC,NRIUNC,PHPUNC,FDOM,FDOM_FLAG_W,REFTMP,REFTMP_FLAG_W,CTDFLUOR,CTDFLUOR_FLAG_W,PAR,PAR_FLAG_W,CDOM300,CDOM300_FLAG_W,CDOM325,CDOM325_FLAG_W,CDOM443,CDOM443_FLAG_W,CTDXMISS,CTDBEAMCP,CTDBEAMCP_FLAG_W,CTDTURB,CTDTURB_FLAG_W,CTDCDOM,CTDCDOM_FLAG_W,CHLORA,CHLORA_FLAG_W
,,,,,,,,,,,METERS,DBAR,,ITS-90,,PSS-78,,PSS-78,,UMOL/KG,,UMOL/KG,,UMOL/KG,,UMOL/KG,,UMOL/KG,,UMOL/KG,,UMOL/KG,,PMOL/KG,,PMOL/KG,,PMOL/KG,,FMOL/KG,,UMOL/KG,,UMOL/KG,,UMOL/KG,,UMOL/KG,,G/KG,,ND,,UMOL/KG,UMOL/KG,UMOL/KG,UMOL/KG,UMOL/KG,RFU,,ITS-90,,MG/M^3,,UMOL/M^2/SEC,,/METER,,/METER,,/METER,,%TRANS,/METER,,FTU,,QSU,,UG/L,
49NZ20210713,        P01,      72,          1,          6,     X12S06,2,20210806,       1041,    46.9976,  -168.2029,       5394,  4750.9,2,   1.5201,2,  34.6860,2,  34.6865,2,   149.19,2,  149.39,2,  162.25,2,    0.02,2,   36.34,2,    0.00,2,   2.524,2,   0.000,2,   0.001,2,   0.000,2,   0.000,2,  2330.6,2,  2423.1,6,   35.58,2, -999.00,9,    34.8678,2,     640.83,2,       0.30,       0.01,       0.08,       0.01,      0.006,     -999.0,9,    1.52014,2,      0.054,1,      0.000,2,     -999.0,9,     -999.0,9,     -999.0,9,     99.889,     0.0044,2,      0.034,1,      0.312,1,     -999.0,9
49NZ20210713,        P01,      72,          1,          5,     X12S05,2,20210806,       1041,    46.9976,  -168.2029,       5394,  5000.1,2,   1.5475,2,  34.6864,2,  34.6872,2,   150.00,2,  150.25,2,  161.76,2,    0.02,2,   36.28,2,    0.00,2,   2.520,2,   0.000,2,   0.001,2,   0.000,2,   0.000,2,  2332.4,2,  2420.5,2,   36.75,2, -999.00,9,    34.8692,2,     640.78,2,       0.25,       0.01,       0.08,       0.01,      0.006,     0.0101,2,    1.54761,2,      0.054,1,      0.000,2,      0.290,1,      0.154,1,      0.019,1,     99.889,     0.0044,2,      0.035,1,      0.309,1,     -999.0,9
49NZ20210713,        P01,      72,          1,          4,     X12S04,2,20210806,       1041,    46.9976,  -168.2029,       5394,  5250.3,2,   1.5753,2,  34.6870,2,  34.6873,2,   150.93,2,  151.20,2,  161.31,2,    0.02,2,   36.18,2,    0.00,2,   2.512,2,   0.000,2,   0.001,2,   0.000,2,   0.000,2,  2329.6,2,  2418.3,2,   37.04,2, -999.00,9,    34.8679,2,     640.83,2,       0.29,       0.01,       0.08,       0.01,      0.006,     0.0098,2,    1.57539,2,      0.053,1,      0.000,2,      0.293,1,      0.162,1,      0.022,1,     99.777,     0.0089,2,      0.035,1,      0.307,1,     -999.0,9
49NZ20210713,        P01,      72,          1,          1,     X12S01,2,20210806,       1041,    46.9976,  -168.2029,       5394,  5490.7,2,   1.6043,2,  34.6872,2,  34.6872,2,   151.68,2,  151.85,2,  160.96,2,    0.02,2,   36.21,2,    0.00,2,   2.516,2,   0.000,2,   0.001,2,   0.000,2,   0.000,2,  2326.9,2,  2419.8,2,   36.02,2, -999.00,9,    34.8692,2,     640.74,2,       0.30,       0.01,       0.08,       0.01,      0.006,     0.0098,2,    1.60431,2,      0.053,1,      0.000,2,      0.298,1,      0.167,1,      0.024,1,     99.701,     0.0120,2,      0.041,1,      0.300,1,     -999.0,9