BOTTLE,20231011CCHSIOENA
EXPOCODE,SECT_ID,STNNBR,CASTNO,SAMPNO,BTLNBR,BTLNBR_FLAG_W,DATE,TIME,LATITUDE,LONGITUDE,DEPTH,CTDPRS,CTDPRS_FLAG_W,CTDTMP,CTDTMP_FLAG_W,CTDSAL,CTDSAL_FLAG_W,SALNTY,SALNTY_FLAG_W,CTDOXY,CTDOXY_FLAG_W,OXYGEN,OXYGEN_FLAG_W,SILCAT,SILCAT_FLAG_W,NH4,NH4_FLAG_W,NITRAT,NITRAT_FLAG_W,NITRIT,NITRIT_FLAG_W,PHSPHT,PHSPHT_FLAG_W,CFC-11,CFC-11_FLAG_W,CFC-12,CFC-12_FLAG_W,CFC113,CFC113_FLAG_W,SF6,SF6_FLAG_W,TCARBN,TCARBN_FLAG_W,ALKALI,ALKALI_FLAG_W,DOC,DOC_FLAG_W,TDN,TDN_FLAG_W,DNSSAL,DNSSAL_FLAG_W,RIANOMALY,RIANOMALY_FLAG_W,SILUNC,NH4UNC,NRAUNC,NRIUNC,PHPUNC,FDOM,FDOM_FLAG_W,REFTMP,REFTMP_FLAG_W,CTDFLUOR,CTDFLUOR_FLAG_W,PAR,PAR_FLAG_W,CDOM300,CDOM300_FLAG_W,CDOM325,CDOM325_FLAG_W,CDOM443,CDOM443_FLAG_W,CTDXMISS,CTDBEAMCP,CTDBEAMCP_FLAG_W,CTDTURB,CTDTURB_FLAG_W,CTDCDOM,CTDCDOM_FLAG_W,CHLORA,CHLORA_FLAG_W
,,,,,,,,,,,METERS,DBAR,,ITS-90,,PSS-78,,PSS-78,,UMOL/KG,,UMOL/KG,,UMOL/KG,,UMOL/KG,,UMOL/KG,,UMOL/KG,,UMOL/KG,,PMOL/KG,,PMOL/KG,,PMOL/KG,,FMOL/KG,,UMOL/KG,,UMOL/KG,,UMOL/KG,,UMOL/KG,,G/KG,,ND,,UMOL/KG,UMOL/KG,UMOL/KG,UMOL/KG,UMOL/KG,RFU,,ITS-90,,MG/M^3,,UMOL/M^2/SEC,,/METER,,/METER,,/METER,,%TRANS,/METER,,FTU,,QSU,,UG/L,
49NZ20210713,        P01,      56,          1,         36,     X12S36,2,20210731,       2211,    47.0060,   173.8356,       5768,    10.3,2,  10.6464,2,  32.8962,2,  32.9033,2,   292.50,2,  294.58,2,   27.44,2,    0.49,2,   19.01,2,    0.24,2,   1.629,2,   3.726,2,   1.728,2,   0.354,2,   3.492,2,  2072.8,2,  2228.4,2,   54.73,2, -999.00,9,    33.0631,2,     607.91,2,       0.13,       0.02,       0.05,       0.01,      0.005,     0.0039,2,   10.62500,2,      0.554,1,    192.886,2,      0.374,1,      0.193,1,      0.028,1,     97.021,     0.1210,2,      0.201,1,      0.202,1,       0.44,2
49NZ20210713,        P01,      56,          1,          2,     X12B34,2,20210731,       2211,    47.0060,   173.8356,       5768,    46.6,2,   4.4449,2,  33.0514,2,  33.0565,2,   331.81,2,  333.27,2,   37.55,2,    0.76,2,   21.73,2,    0.29,2,   1.827,2,   4.769,2,   2.306,2,   0.427,3,   4.330,2,  2116.4,2,  2235.1,2,   55.09,2, -999.00,9,    33.2168,2,     610.66,2,       0.09,       0.02,       0.05,       0.01,      0.006,     0.0053,2,    4.43935,2,      1.224,1,      7.624,2,      0.407,1,      0.224,1,      0.032,1,     97.458,     0.1030,2,      0.128,1,      0.247,1,       0.47,2
49NZ20210713,        P01,      56,          1,         35,     X12S35,2,20210731,       2211,    47.0060,   173.8356,       5768,    50.6,2,   4.1738,2,  33.0637,2,  33.0675,2,   329.42,2,  330.84,2,   38.95,2,    0.67,2,   22.37,2,    0.37,2,   1.862,2,   4.907,2,   2.181,2,   0.480,2,   4.399,2,  2118.4,2,  2236.6,2,   51.42,2, -999.00,9,    33.2283,2,     611.06,2,       0.09,       0.02,       0.07,       0.01,      0.005,     0.0057,2,    4.17419,2,      1.148,1,      5.334,2,      0.454,1,      0.254,1,      0.047,1,     98.176,     0.0736,2,      0.111,1,      0.243,1,       0.43,2
49NZ20210713,        P01,      56,          1,         34,     X12S34,2,20210731,       2211,    47.0060,   173.8356,       5768,   100.4,2,   2.8054,2,  33.1311,2,  33.1363,2,   317.44,2,  318.92,2,   44.92,2,    0.00,2,   26.26,2,    0.01,2,   2.015,2,   5.046,2,   2.230,2,   0.492,2,   4.395,2,  2143.4,2,  2236.6,2,   52.62,2, -999.00,9,    33.2986,2,     612.31,2,       0.10,       0.01,       0.06,       0.01,      0.005,     0.0060,2,    2.80569,2,      0.237,1,      0.169,2,      0.386,1,      0.199,1,      0.026,1,     99.368,     0.0253,2,      0.075,1,      0.251,1,       0.10,2
49NZ20210713,        P01,      56,          1,         33,     X12S33,2,20210731,       2211,    47.0060,   173.8356,       5768,   150.6,2,   2.7132,2,  33.4508,2,  33.4505,2,   207.05,2,  206.82,2,   66.81,2,    0.00,2,   33.79,2,    0.00,2,   2.479,2,   4.009,2,   1.781,2,   0.342,2,   3.224,2,  2223.8,2,  2262.3,2,   50.66,2, -999.00,9,    33.6151,2,     618.12,2,       0.13,       0.01,       0.07,       0.01,      0.006,     0.0090,2,    2.71308,2,      0.079,1,      0.000,2,      0.424,1,      0.235,1,      0.040,1,     99.470,     0.0213,2,      0.076,1,      0.306,1,       0.03,2
49NZ20210713,        P01,      56,          1,         32,     X12S32,2,20210731,       2211,    47.0060,   173.8356,       5768,   199.6,2,   3.4645,2,  33.7974,2,  33.7972,2,    66.42,2,   66.40,2,   91.81,2,    0.01,2,   42.19,2,    0.00,2,   2.998,2,   2.597,2,   1.346,2,   0.184,2,   1.441,2,  2312.2,2,  2287.7,2,   42.31,2, -999.00,9,    33.9661,2,     624.51,2,       0.16,       0.01,       0.09,       0.01,      0.006,     0.0122,2,    3.46422,2,      0.075,1,      0.000,2,      0.451,1,      0.258,1,      0.047,1,     99.636,     0.0146,2,      0.067,1,      0.363,1,       0.02,2
49NZ20210713,        P01,      56,          1,         31,     X12S31,2,20210731,       2211,    47.0060,   173.8356,       5768,   252.0,2,   3.6761,2,  33.9417,2,  33.9430,2,    21.65,2,   21.81,2,  102.74,2,    0.01,2,   45.05,2,    0.00,2,   3.188,2,   1.938,2,   0.985,2,   0.126,2,   0.786,2,  2342.3,2,  2305.3,2,   45.01,2, -999.00,9,    34.1138,2,     627.22,2,       0.17,       0.01,       0.09,       0.01,      0.007,     0.0134,2,    3.67595,2,      0.075,1,      0.000,2,      0.454,1,      0.266,1,      0.050,1,     99.639,     0.0145,2,      0.067,1,      0.377,1,       0.01,2
49NZ20210713,        P01,      56,          1,         30,     X12S30,2,20210731,       2211,    47.0060,   173.8356,       5768,   330.3,2,   3.6787,2,  34.0562,2,  34.0545,2,    24.29,2,   24.24,2,  110.68,2,    0.01,2,   43.98,2,    0.00,2,   3.118,2,   1.455,2,   0.741,2,   0.090,2,   0.622,2,  2348.5,2,  2317.6,2,   44.39,2, -999.00,9,    34.2250,2,     629.22,2,       0.18,       0.01,       0.09,       0.01,      0.006,     0.0132,2,    3.67841,2,      0.074,1,      0.000,2,      0.493,1,      0.305,1,      0.072,1,     99.745,     0.0102,2,      0.075,1,      0.378,1,     -999.0,9
49NZ20210713,        P01,      56,          1,         29,     X12S29,2,20210731,       2211,    47.0060,   173.8356,       5768,   431.7,2,   3.5303,2,  34.1531,2,  34.1569,2,    18.23,2,   18.11,2,  121.43,2,    0.01,2,   44.11,2,    0.00,2,   3.118,2,   0.956,2,   0.490,2,   0.057,2,   0.290,2,  2356.5,2,  2332.8,2,   42.54,2, -999.00,9,    34.3298,2,     631.01,2,       0.20,       0.01,       0.09,       0.01,      0.006,     0.0133,2,    3.53000,2,      0.073,1,      0.000,2,      0.452,1,      0.274,1,      0.058,1,     99.798,     0.0081,2,      0.057,1,      0.389,1,     -999.0,9
49NZ20210713,        P01,      56,          1,         28,     X12S28,2,20210731,       2211,    47.0060,   173.8356,       5768,   532.3,2,   3.3873,2,  34.2210,2,  34.2207,2,    18.28,2,   18.08,2,  128.30,2,    0.02,2,   44.14,2,    0.00,2,   3.133,2,   0.693,2,   0.371,2,   0.042,2,   0.225,2,  2363.0,2,  2346.0,2,   40.57,2, -999.00,9,    34.3965,2,     632.31,2,       0.21,       0.01,       0.09,       0.01,      0.006,     0.0137,2,    3.38718,2,      0.073,1,      0.000,2,      0.442,1,      0.271,1,      0.057,1,     99.860,     0.0056,2,      0.055,1,      0.388,1,     -999.0,9
49NZ20210713,        P01,      56,          1,         27,     X12S27,2,20210731,       2211,    47.0060,   173.8356,       5768,   628.5,2,   3.2389,2,  34.2705,2,  34.2696,2,    17.55,2,   17.11,2,  134.33,2,    0.02,2,   44.21,2,    0.00,2,   3.123,2,   0.501,2,   0.279,2,   0.025,2,   0.119,2,  2369.5,2,  2353.5,2,   41.65,2, -999.00,9,    34.4461,2,     633.22,2,       0.22,       0.01,       0.09,       0.01,      0.006,     0.0133,2,    3.23908,2,      0.072,1,      0.000,2,      0.468,1,      0.283,1,      0.063,1,     99.863,     0.0055,2,      0.055,1,      0.388,1,     -999.0,9
49NZ20210713,        P01,      56,          1,         26,     X12S26,2,20210731,       2211,    47.0060,   173.8356,       5768,   729.7,2,   3.0619,2,  34.3186,2,  34.3182,2,    18.14,2,   17.98,2,  140.74,2,    0.02,2,   44.14,2,    0.00,2,   3.132,2,   0.352,2,   0.201,2,   0.014,2,   0.120,2,  2374.8,6,  2362.5,2,   40.99,2, -999.00,9,    34.4969,2,     634.12,2,       0.22,       0.01,       0.09,       0.01,      0.006,     -999.0,9,    3.06157,2,      0.075,1,      0.000,2,     -999.0,9,     -999.0,9,     -999.0,9,     99.860,     0.0056,2,      0.056,1,      0.386,1,     -999.0,9
49NZ20210713,        P01,      56,          1,         25,     X12S25,2,20210731,       2211,    47.0060,   173.8356,       5768,   829.5,2,   2.9236,2,  34.3538,2,  34.3538,2,    19.28,2,   19.00,2,  145.32,2,    0.03,2,   43.97,2,    0.00,2,   3.119,2,   0.266,2,   0.154,2,   0.014,2,   0.111,2,  2380.1,2,  2369.2,2,   37.90,2, -999.00,9,    34.5312,2,     634.72,2,       0.23,       0.01,       0.09,       0.01,      0.006,     0.0136,2,    2.92344,2,      0.071,1,      0.000,2,      0.390,1,      0.231,1,      0.046,1,     99.840,     0.0064,2,      0.050,1,      0.387,1,     -999.0,9
49NZ20210713,        P01,      56,          1,         24,     X12S24,2,20210731,       2211,    47.0060,   173.8356,       5768,   931.1,2,   2.7617,2,  34.3933,2,  34.3917,2,    22.51,2,   22.55,2,  150.32,2,    0.03,2,   43.79,2,    0.00,2,   3.114,2,   0.197,2,   0.114,2,   0.009,2,   0.066,2,  2383.8,2,  2374.7,2,   38.98,2, -999.00,9,    34.5740,2,     635.41,2,       0.24,       0.01,       0.09,       0.01,      0.006,     -999.0,9,    2.76183,2,      0.071,1,      0.000,2,     -999.0,9,     -999.0,9,     -999.0,9,     99.884,     0.0047,2,      0.051,1,      0.383,1,     -999.0,9
49NZ20210713,        P01,      56,          1,         23,     X12S23,2,20210731,       2211,    47.0060,   173.8356,       5768,  1071.6,2,   2.5809,2,  34.4354,2,  34.4357,2,    26.68,2,   26.32,2,  155.82,2,    0.03,2,   43.65,2,    0.00,2,   3.103,2,   0.136,2,   0.081,2,   0.006,2,   0.060,2,  2386.7,2,  2382.7,2,   39.33,2, -999.00,9,    34.6156,2,     636.26,2,       0.25,       0.01,       0.09,       0.01,      0.006,     0.0131,2,    2.58056,2,      0.070,1,      0.000,2,      0.383,1,      0.226,1,      0.044,1,     99.877,     0.0049,2,      0.050,1,      0.381,1,     -999.0,9
49NZ20210713,        P01,      56,          1,         22,     X12S22,2,20210731,       2211,    47.0060,   173.8356,       5768,  1271.2,2,   2.3570,2,  34.4858,2,  34.4856,2,    33.43,2,   33.84,2,  162.14,2,    0.02,2,   43.36,2,    0.00,2,   3.069,2,   0.078,2,   0.046,2,   0.007,2,   0.041,2,  2387.7,2,  2392.6,6,   40.35,2, -999.00,9,    34.6640,2,     637.06,2,       0.25,       0.01,       0.09,       0.01,      0.009,     -999.0,9,    2.35690,2,      0.068,1,      0.000,2,     -999.0,9,     -999.0,9,     -999.0,9,     99.911,     0.0036,2,      0.050,1,      0.379,1,     -999.0,9
49NZ20210713,        P01,      56,          1,         21,     X12S21,2,20210731,       2211,    47.0060,   173.8356,       5768,  1469.6,2,   2.1793,2,  34.5272,2,  34.5268,2,    41.82,2,   42.14,2,  166.31,2,    0.01,2,   43.04,2,    0.00,2,   3.030,2,   0.040,2,   0.023,2,   0.001,2,   0.041,2,  2388.6,2,  2398.7,2,   39.84,2, -999.00,9,    34.7076,2,     637.87,2,       0.26,       0.01,       0.09,       0.01,      0.006,     0.0130,2,    2.17935,2,      0.066,1,      0.000,2,      0.355,1,      0.203,1,      0.037,1,     99.916,     0.0034,2,      0.053,1,      0.373,1,     -999.0,9
49NZ20210713,        P01,      56,          1,         20,     X12S20,2,20210731,       2211,    47.0060,   173.8356,       5768,  1671.7,2,   2.0394,2,  34.5596,2,  34.5599,2,    52.82,2,   53.27,2,  168.12,2,    0.01,2,   42.37,2,    0.00,2,   2.977,2,   0.017,2,   0.010,2,   0.000,2,   0.066,2,  2383.0,2,  2404.8,2,   36.72,2, -999.00,9,    34.7408,2,     638.51,2,       0.26,       0.01,       0.09,       0.01,      0.006,     -999.0,9,    2.03939,2,      0.064,1,      0.000,2,     -999.0,9,     -999.0,9,     -999.0,9,     99.911,     0.0036,2,      0.051,1,      0.371,1,     -999.0,9
49NZ20210713,        P01,      56,          1,         19,     X12S19,2,20210731,       2211,    47.0060,   173.8356,       5768,  1872.4,2,   1.9161,2,  34.5862,2,  34.5856,2,    65.04,2,   65.35,2,  169.07,2,    0.00,2,   41.65,2,    0.00,2,   2.926,2,   0.009,2,   0.005,2,   0.000,2,   0.017,2,  2380.4,2,  2407.4,2,   35.90,2, -999.00,9,    34.7668,2,     638.97,2,       0.26,       0.01,       0.09,       0.01,      0.006,     0.0122,2,    1.91566,2,      0.063,1,      0.000,2,      0.334,1,      0.187,1,      0.033,1,     99.934,     0.0026,2,      0.049,1,      0.358,1,     -999.0,9
49NZ20210713,        P01,      56,          1,         18,     X12S18,2,20210731,       2211,    47.0060,   173.8356,       5768,  2071.2,2,   1.8002,2,  34.6095,2,  34.6093,2,    78.98,2,   78.81,2,  168.76,2,    0.00,2,   40.80,2,    0.00,2,   2.864,2,   0.011,2,   0.004,2,   0.000,2,   0.070,2,  2371.7,2,  2410.6,2,   35.19,2, -999.00,9,    34.7900,2,     639.41,2,       0.26,       0.01,       0.09,       0.01,      0.008,     -999.0,9,    1.80025,2,      0.062,1,      0.000,2,     -999.0,9,     -999.0,9,     -999.0,9,     99.939,     0.0024,2,      0.050,1,      0.354,1,     -999.0,9
49NZ20210713,        P01,      56,          1,         17,     X12S17,2,20210731,       2211,    47.0060,   173.8356,       5768,  2271.2,2,   1.7154,2,  34.6260,2,  34.6262,2,    90.84,2,   90.48,2,  167.65,2,    0.00,2,   40.03,2,    0.00,2,   2.806,2,   0.007,2,   0.003,2,   0.013,2,   0.061,2,  2365.0,2,  2412.5,2,   38.01,2, -999.00,9,    34.8120,2,     639.76,2,       0.26,       0.01,       0.08,       0.01,      0.006,     0.0115,2,    1.71555,2,      0.061,1,      0.000,2,      0.308,1,      0.167,1,      0.026,1,     99.941,     0.0023,2,      0.048,1,      0.349,1,     -999.0,9
49NZ20210713,        P01,      56,          1,         16,     X12S16,2,20210731,       2211,    47.0060,   173.8356,       5768,  2470.0,2,   1.6453,2,  34.6391,2,  34.6392,2,   101.57,2,  101.22,2,  166.42,2,    0.00,2,   39.32,2,    0.00,2,   2.755,2,   0.003,2,   0.001,2,   0.000,2,   0.036,2,  2358.6,6,  2413.5,2,   36.68,2, -999.00,9,    34.8213,2,     639.91,2,       0.26,       0.01,       0.08,       0.01,      0.006,     -999.0,9,    1.64536,2,      0.060,1,      0.000,2,     -999.0,9,     -999.0,9,     -999.0,9,     99.960,     0.0016,2,      0.054,1,      0.346,1,     -999.0,9
49NZ20210713,        P01,      56,          1,         15,     X12S15,2,20210731,       2211,    47.0060,   173.8356,       5768,  2669.0,2,   1.5943,2,  34.6491,2,  34.6477,2,   110.54,2,  110.26,2,  165.03,2,    0.00,2,   38.77,2,    0.00,2,   2.714,2,   0.000,2,   0.001,2,   0.000,2,   0.072,2,  2354.4,2,  2415.3,2,   38.77,2, -999.00,9,    34.8291,2,     640.12,2,       0.26,       0.01,       0.08,       0.01,      0.006,     0.0110,2,    1.59447,2,      0.059,1,      0.000,2,      0.286,1,      0.148,1,      0.019,1,     99.960,     0.0016,2,      0.048,1,      0.344,1,     -999.0,9
49NZ20210713,        P01,      56,          1,         14,     X12S14,2,20210731,       2211,    47.0060,   173.8356,       5768,  2869.8,2,   1.5507,2,  34.6575,2,  34.6570,2,   119.28,2,  118.90,2,  162.96,2,    0.01,2,   38.23,2,    0.00,2,   2.670,2,   0.003,2,   0.000,2,   0.007,2,   0.021,2,  2348.0,2,  2416.2,2,   36.88,2, -999.00,9,    34.8416,2,     640.31,2,       0.25,       0.01,       0.08,       0.01,      0.006,     -999.0,9,    1.55074,2,      0.058,1,      0.000,2,     -999.0,9,     -999.0,9,     -999.0,9,     99.964,     0.0014,2,      0.049,1,      0.334,1,     -999.0,9
49NZ20210713,        P01,      56,          1,         13,     X12S13,2,20210731,       2211,    47.0060,   173.8356,       5768,  3079.5,2,   1.5090,2,  34.6653,2,  34.6647,2,   127.81,2,  127.75,2,  160.13,2,    0.01,2,   37.53,2,    0.00,2,   2.616,2,   0.000,2,   0.000,2,   0.000,2,   0.027,2,  2341.8,2,  2415.8,2,   38.72,2, -999.00,9,    34.8476,2,     640.41,2,       0.25,       0.01,       0.08,       0.01,      0.006,     0.0107,2,    1.50903,2,      0.058,1,      0.000,2,      0.321,1,      0.186,1,      0.032,1,     99.967,     0.0013,2,      0.049,1,      0.331,1,     -999.0,9
49NZ20210713,        P01,      56,          1,         12,     X12S12,2,20210731,       2211,    47.0060,   173.8356,       5768,  3329.6,2,   1.4805,2,  34.6718,2,  34.6715,2,   135.19,2,  135.10,2,  158.44,2,    0.00,2,   37.17,2,    0.00,2,   2.585,2,   0.002,2,   0.002,2,   0.000,2,   0.000,2,  2335.6,2,  2414.1,6,   39.10,2, -999.00,9,    34.8542,2,     640.47,2,       0.25,       0.01,       0.08,       0.01,      0.006,     -999.0,9,    1.48058,2,      0.057,1,      0.000,2,     -999.0,9,     -999.0,9,     -999.0,9,     99.969,     0.0012,2,      0.053,1,      0.322,1,     -999.0,9
49NZ20210713,        P01,      56,          1,         11,     X12S11,2,20210731,       2211,    47.0060,   173.8356,       5768,  3580.2,2,   1.4575,2,  34.6773,2,  34.6770,2,   141.82,2,  141.60,2,  156.98,2,    0.01,2,   36.82,2,    0.00,2,   2.552,2,   0.002,2,   0.000,2,   0.010,2,   0.000,2,  2331.8,2,  2413.8,2,   37.67,2, -999.00,9,    34.8582,2,     640.62,2,       0.25,       0.01,       0.08,       0.01,      0.006,     0.0099,2,    1.45742,2,      0.056,1,      0.000,2,      0.310,1,      0.177,1,      0.032,1,     99.967,     0.0013,2,      0.049,1,      0.336,1,     -999.0,9
49NZ20210713,        P01,      56,          1,         10,     X12S10,2,20210731,       2211,    47.0060,   173.8356,       5768,  3829.4,2,   1.4527,2,  34.6808,2,  34.6808,2,   146.05,2,  145.73,2,  156.25,2,    0.03,2,   36.53,2,    0.00,2,   2.531,2,   0.000,2,   0.000,2,   0.000,2,   0.000,2,  2329.7,2,  2415.3,2,   35.57,2, -999.00,9,    34.8614,2,     640.62,2,       0.25,       0.01,       0.08,       0.01,      0.006,     -999.0,9,    1.45262,2,      0.056,1,      0.000,2,     -999.0,9,     -999.0,9,     -999.0,9,     99.990,     0.0004,2,      0.047,1,      0.328,1,     -999.0,9
49NZ20210713,        P01,      56,          1,          9,     X12S09,2,20210731,       2211,    47.0060,   173.8356,       5768,  4080.8,2,   1.4542,2,  34.6839,2,  34.6839,2,   149.73,2,  149.55,2,  156.11,2,    0.02,2,   36.30,2,    0.00,2,   2.509,2,   0.003,2,   0.002,2,   0.000,2,   0.000,2,  2328.8,2,  2413.7,2,   37.82,2, -999.00,9,    34.8657,2,     640.76,2,       0.25,       0.01,       0.08,       0.01,      0.006,     0.0102,2,    1.45408,2,      0.056,1,      0.000,2,      0.355,1,      0.208,1,      0.045,1,     99.988,     0.0005,2,      0.046,1,      0.334,1,     -999.0,9
49NZ20210713,        P01,      56,          1,          8,     X12S08,2,20210731,       2211,    47.0060,   173.8356,       5768,  4330.3,2,   1.4680,2,  34.6856,2,  34.6858,2,   152.07,2,  151.72,2,  155.83,2,    0.02,2,   36.12,2,    0.00,2,   2.497,2,   0.002,2,   0.000,2,   0.000,2,   0.000,2,  2326.9,6,  2415.7,2,   36.58,2, -999.00,9,    34.8661,2,     640.72,2,       0.25,       0.01,       0.08,       0.01,      0.006,     -999.0,9,    1.46810,2,      0.055,1,      0.000,2,     -999.0,9,     -999.0,9,     -999.0,9,     99.985,     0.0006,2,      0.046,1,      0.348,1,     -999.0,9
49NZ20210713,        P01,      56,          1,          7,     X12S07,2,20210731,       2211,    47.0060,   173.8356,       5768,  4580.1,2,   1.4895,2,  34.6867,2,  34.6867,2,   152.74,2,  152.46,2,  157.39,2,    0.02,2,   36.11,2,    0.00,2,   2.494,2,   0.007,2,   0.003,2,   0.000,2,   0.000,2,  2326.5,2,  2417.0,2,   36.55,2, -999.00,9,    34.8674,2,     640.76,2,       0.25,       0.01,       0.08,       0.01,      0.006,     0.0101,2,    1.48945,2,      0.055,1,      0.000,2,      0.296,1,      0.161,1,      0.027,1,     99.976,     0.0010,2,      0.045,1,      0.351,1,     -999.0,9