BOTTLE,20231011CCHSIOENA
EXPOCODE,SECT_ID,STNNBR,CASTNO,SAMPNO,BTLNBR,BTLNBR_FLAG_W,DATE,TIME,LATITUDE,LONGITUDE,DEPTH,CTDPRS,CTDPRS_FLAG_W,CTDTMP,CTDTMP_FLAG_W,CTDSAL,CTDSAL_FLAG_W,SALNTY,SALNTY_FLAG_W,CTDOXY,CTDOXY_FLAG_W,OXYGEN,OXYGEN_FLAG_W,SILCAT,SILCAT_FLAG_W,NH4,NH4_FLAG_W,NITRAT,NITRAT_FLAG_W,NITRIT,NITRIT_FLAG_W,PHSPHT,PHSPHT_FLAG_W,CFC-11,CFC-11_FLAG_W,CFC-12,CFC-12_FLAG_W,CFC113,CFC113_FLAG_W,SF6,SF6_FLAG_W,TCARBN,TCARBN_FLAG_W,ALKALI,ALKALI_FLAG_W,DOC,DOC_FLAG_W,TDN,TDN_FLAG_W,DNSSAL,DNSSAL_FLAG_W,RIANOMALY,RIANOMALY_FLAG_W,SILUNC,NH4UNC,NRAUNC,NRIUNC,PHPUNC,FDOM,FDOM_FLAG_W,REFTMP,REFTMP_FLAG_W,CTDFLUOR,CTDFLUOR_FLAG_W,PAR,PAR_FLAG_W,CDOM300,CDOM300_FLAG_W,CDOM325,CDOM325_FLAG_W,CDOM443,CDOM443_FLAG_W,CTDXMISS,CTDBEAMCP,CTDBEAMCP_FLAG_W,CTDTURB,CTDTURB_FLAG_W,CTDCDOM,CTDCDOM_FLAG_W,CHLORA,CHLORA_FLAG_W
,,,,,,,,,,,METERS,DBAR,,ITS-90,,PSS-78,,PSS-78,,UMOL/KG,,UMOL/KG,,UMOL/KG,,UMOL/KG,,UMOL/KG,,UMOL/KG,,UMOL/KG,,PMOL/KG,,PMOL/KG,,PMOL/KG,,FMOL/KG,,UMOL/KG,,UMOL/KG,,UMOL/KG,,UMOL/KG,,G/KG,,ND,,UMOL/KG,UMOL/KG,UMOL/KG,UMOL/KG,UMOL/KG,RFU,,ITS-90,,MG/M^3,,UMOL/M^2/SEC,,/METER,,/METER,,/METER,,%TRANS,/METER,,FTU,,QSU,,UG/L,
49NZ20210713,        P01,      16,          1,          2,     X12B34,2,20210718,       1555,    40.6132,   147.0071,       5151,    13.3,2,  12.8719,2,  33.1136,2,  33.0757,2,   322.49,2,  317.32,2,    0.94,2,    0.03,2,    0.38,2,    0.04,2,   0.254,2,   3.280,2,   1.824,2,   0.205,2,   3.109,2,  2015.4,2,  2239.3,2,   69.06,2, -999.00,9,    33.2358,2,     610.95,2,       0.04,       0.01,       0.01,       0.01,      0.005,     0.0072,2,   13.02274,2,      4.889,1,      0.000,2,      0.696,1,      0.416,1,      0.052,1,     80.206,     0.8823,2,      1.111,1,      0.404,1,       1.27,2
49NZ20210713,        P01,      16,          1,         35,     X12S35,2,20210718,       1555,    40.6132,   147.0071,       5151,    50.2,2,   5.6986,2,  33.6646,2,  33.6716,2,   287.03,2,  287.01,2,   20.78,2,    0.02,2,   17.15,2,    0.02,2,   1.349,2,   4.267,2,   2.317,2,   0.263,2,   3.805,2,  2145.8,2,  2252.5,2,   51.57,2, -999.00,9,    33.8330,2,     622.05,2,       0.06,       0.01,       0.04,       0.01,      0.005,     0.0064,2,    5.69822,2,      0.242,1,      0.000,2,      0.396,1,      0.220,1,      0.032,1,     99.129,     0.0350,2,      0.122,1,      0.403,1,       0.15,2
49NZ20210713,        P01,      16,          1,         34,     X12S34,2,20210718,       1555,    40.6132,   147.0071,       5151,   100.4,2,   5.4816,2,  33.7780,2,  33.7798,2,   282.72,2,  282.39,2,   29.69,2,    0.03,2,   17.88,2,    0.01,2,   1.367,2,   4.154,2,   2.230,2,   0.261,2,   3.551,2,  2148.5,2,  2261.1,2,   50.65,2, -999.00,9,    33.9423,2,     624.00,2,       0.08,       0.01,       0.04,       0.01,      0.013,     0.0061,2,    5.48164,2,      0.105,1,      0.000,2,      0.388,1,      0.213,1,      0.032,1,     99.333,     0.0268,2,      0.098,1,      0.377,1,       0.05,2
49NZ20210713,        P01,      16,          1,         33,     X12S33,2,20210718,       1555,    40.6132,   147.0071,       5151,   150.1,2,   5.7013,2,  33.8263,2,  33.8251,2,   282.79,2,  282.92,2,   28.45,2,    0.01,2,   17.14,2,    0.02,2,   1.302,2,   4.035,2,   2.204,2,   0.250,2,   3.544,2,  2143.5,2,  2268.3,2,   51.25,2, -999.00,9,    33.9872,2,     624.85,2,       0.07,       0.01,       0.04,       0.01,      0.004,     0.0059,2,    5.70033,2,      0.072,1,      0.000,2,      0.363,1,      0.195,1,      0.030,1,     99.493,     0.0203,2,      0.111,1,      0.376,1,       0.03,2
49NZ20210713,        P01,      16,          1,         32,     X12S32,2,20210718,       1555,    40.6132,   147.0071,       5151,   200.3,2,   5.7413,2,  33.8358,2,  33.8374,2,   281.11,2,  281.28,2,   28.53,2,    0.01,2,   17.04,2,    0.02,2,   1.297,2,   4.061,2,   2.175,2,   0.270,2,   3.514,2,  2145.9,2,  2263.5,2,   49.49,2, -999.00,9,    34.0005,2,     625.10,2,       0.07,       0.01,       0.06,       0.01,      0.005,     0.0057,2,    5.74159,2,      0.074,1,      0.000,2,      0.408,1,      0.235,1,      0.043,1,     99.482,     0.0208,2,      0.104,1,      0.376,1,       0.03,2
49NZ20210713,        P01,      16,          1,         31,     X12S31,2,20210718,       1555,    40.6132,   147.0071,       5151,   250.4,2,   5.7131,2,  33.8326,2,  33.8334,2,   278.59,2,  278.84,2,   29.22,2,    0.01,2,   17.32,2,    0.02,2,   1.319,2,   3.915,2,   2.118,2,   0.302,2,   3.400,2,  2147.0,2,  2258.8,2,   57.24,4, -999.00,9,    33.9963,2,     625.00,2,       0.07,       0.01,       0.04,       0.01,      0.005,     0.0062,2,    5.71314,2,      0.068,1,      0.000,2,      0.363,1,      0.200,1,      0.030,1,     99.491,     0.0204,2,      0.089,1,      0.376,1,       0.02,2
49NZ20210713,        P01,      16,          1,         30,     X12S30,2,20210718,       1555,    40.6132,   147.0071,       5151,   279.5,2,   5.1718,2,  33.7712,2,  33.7719,2,   265.03,2,  265.34,2,   35.14,2,    0.01,2,   19.61,2,    0.02,2,   1.494,2,   3.923,2,   2.110,2,   0.326,2,   3.335,2,  2164.1,2,  2260.4,2,   48.95,2, -999.00,9,    33.9333,2,     623.85,2,       0.08,       0.01,       0.05,       0.01,      0.005,     0.0071,2,    5.17152,2,      0.063,1,      0.000,2,      0.376,1,      0.204,1,      0.031,1,     99.663,     0.0135,2,      0.077,1,      0.403,1,     -999.0,9
49NZ20210713,        P01,      16,          1,         29,     X12S29,2,20210718,       1555,    40.6132,   147.0071,       5151,   369.4,2,   2.3739,2,  33.4937,2,  33.4941,2,   205.89,2,  205.85,2,   67.19,2,    0.01,2,   31.17,2,    0.01,2,   2.361,2,   3.911,2,   2.063,2,   0.341,2,   2.898,2,  2232.8,2,  2272.3,2,   45.58,2, -999.00,9,    33.6584,2,     618.75,2,       0.16,       0.01,       0.08,       0.01,      0.006,     0.0097,2,    2.37212,2,      0.064,1,      0.000,2,      0.434,1,      0.241,1,      0.035,1,     99.869,     0.0052,2,      0.069,1,      0.498,1,     -999.0,9
49NZ20210713,        P01,      16,          1,         28,     X12S28,2,20210718,       1555,    40.6132,   147.0071,       5151,   470.9,2,   2.3436,2,  33.5424,2,  33.5427,2,   172.78,2,  172.27,2,   77.84,2,    0.01,2,   34.15,2,    0.01,2,   2.558,2,   3.599,2,   1.893,2,   0.300,2,   2.532,2,  2261.1,2,  2278.5,2,   43.54,2, -999.00,9,    33.7093,2,     619.70,2,       0.16,       0.01,       0.07,       0.01,      0.006,     0.0108,2,    2.34352,2,      0.066,1,      0.000,2,      0.426,1,      0.240,1,      0.038,1,     99.933,     0.0027,2,      0.061,1,      0.521,1,     -999.0,9
49NZ20210713,        P01,      16,          1,         27,     X12S27,2,20210718,       1555,    40.6132,   147.0071,       5151,   569.5,2,   2.7060,2,  33.6780,2,  33.6775,2,   133.37,2,  132.63,2,   85.92,2,    0.01,2,   36.35,2,    0.00,2,   2.694,2,   3.126,2,   1.631,2,   0.255,2,   2.025,2,  2282.7,2,  2289.0,2,   43.05,2, -999.00,9,    33.8473,2,     622.25,2,       0.15,       0.01,       0.08,       0.01,      0.008,     0.0112,2,    2.70497,2,      0.068,1,      0.000,2,      0.421,1,      0.238,1,      0.038,1,     99.869,     0.0052,2,      0.063,1,      0.542,1,     -999.0,9
49NZ20210713,        P01,      16,          1,         26,     X12S26,2,20210718,       1555,    40.6132,   147.0071,       5151,   669.6,2,   3.1856,2,  33.8612,2,  33.8623,2,    81.83,2,   81.06,2,   98.66,2,    0.02,2,   39.75,2,    0.00,2,   2.891,2,   2.279,2,   1.219,2,   0.187,2,   1.324,2,  2318.4,6,  2299.8,2,   41.24,2, -999.00,9,    34.0326,2,     625.55,2,       0.17,       0.01,       0.08,       0.01,      0.006,     -999.0,9,    3.18631,2,      0.071,1,      0.000,2,     -999.0,9,     -999.0,9,     -999.0,9,     99.851,     0.0060,2,      0.065,1,      0.562,1,     -999.0,9
49NZ20210713,        P01,      16,          1,         25,     X12S25,2,20210718,       1555,    40.6132,   147.0071,       5151,   769.0,2,   3.3936,2,  34.0152,2,  34.0139,2,    48.18,2,   48.32,2,  110.31,2,    0.03,2,   41.85,2,    0.00,2,   3.001,2,   1.658,2,   0.870,2,   0.165,2,   0.837,2,  2340.5,2,  2319.6,2,   38.69,2, -999.00,9,    34.1853,2,     628.35,2,       0.21,       0.01,       0.09,       0.01,      0.006,     0.0128,2,    3.39324,2,      0.071,1,      0.000,2,      0.413,1,      0.238,1,      0.043,1,     99.651,     0.0140,2,      0.059,1,      0.577,1,     -999.0,9
49NZ20210713,        P01,      16,          1,         24,     X12S24,2,20210718,       1555,    40.6132,   147.0071,       5151,   868.7,2,   3.3681,2,  34.1238,2,  34.1240,2,    34.41,2,   34.22,2,  120.22,2,    0.02,2,   42.70,2,    0.00,2,   3.055,2,   1.131,2,   0.607,2,   0.138,2,   0.489,2,  2357.2,2,  2337.4,2,   40.23,2, -999.00,9,    34.2982,2,     630.35,2,       0.20,       0.01,       0.09,       0.01,      0.006,     -999.0,9,    3.36793,2,      0.072,1,      0.000,2,     -999.0,9,     -999.0,9,     -999.0,9,     99.798,     0.0081,2,      0.059,1,      0.581,1,     -999.0,9
49NZ20210713,        P01,      16,          1,         23,     X12S23,2,20210718,       1555,    40.6132,   147.0071,       5151,   971.8,2,   3.2683,2,  34.2126,2,  34.2122,2,    29.22,2,   29.17,2,  128.64,2,    0.02,2,   42.96,2,    0.00,2,   3.077,2,   0.757,2,   0.425,2,   0.079,2,   0.306,2,  2364.0,2,  2346.8,2,   37.41,2, -999.00,9,    34.3872,2,     632.00,2,       0.21,       0.01,       0.09,       0.01,      0.006,     0.0132,2,    3.26842,2,      0.072,1,      0.000,2,      0.396,1,      0.234,1,      0.045,1,     99.842,     0.0063,2,      0.061,1,      0.585,1,     -999.0,9
49NZ20210713,        P01,      16,          1,         22,     X12S22,2,20210718,       1555,    40.6132,   147.0071,       5151,  1128.7,2,   2.9975,2,  34.3088,2,  34.3088,2,    26.03,2,   25.99,2,  140.88,2,    0.03,2,   43.32,2,    0.00,2,   3.107,2,   0.431,2,   0.257,2,   0.038,2,   0.168,2,  2379.3,2,  2363.9,6,   37.53,2, -999.00,9,    34.4842,2,     633.70,2,       0.23,       0.01,       0.09,       0.01,      0.006,     -999.0,9,    2.99762,2,      0.071,1,      0.000,2,     -999.0,9,     -999.0,9,     -999.0,9,     99.796,     0.0082,2,      0.060,1,      0.588,1,     -999.0,9
49NZ20210713,        P01,      16,          1,         21,     X12S21,2,20210718,       1555,    40.6132,   147.0071,       5151,  1329.6,2,   2.6916,2,  34.4079,2,  34.4081,2,    34.66,2,   34.64,2,  150.31,2,    0.02,2,   42.87,2,    0.00,2,   3.070,2,   0.221,2,   0.140,2,   0.021,2,   0.055,2,  2387.7,2,  2379.1,2,   37.29,2, -999.00,9,    34.5864,2,     635.60,2,       0.24,       0.01,       0.09,       0.01,      0.006,     0.0130,2,    2.69153,2,      0.068,1,      0.000,2,      0.400,1,      0.241,1,      0.050,1,     99.846,     0.0062,2,      0.062,1,      0.578,1,     -999.0,9
49NZ20210713,        P01,      16,          1,         20,     X12S20,2,20210718,       1555,    40.6132,   147.0071,       5151,  1529.8,2,   2.4439,2,  34.4811,2,  34.4811,2,    42.04,2,   42.13,2,  156.80,2,    0.03,2,   42.60,2,    0.00,2,   3.047,2,   0.099,2,   0.065,2,   0.008,2,   0.057,2,  2390.1,2,  2388.9,2,   36.57,2, -999.00,9,    34.6603,2,     636.90,2,       0.25,       0.01,       0.09,       0.01,      0.006,     -999.0,9,    2.44390,2,      0.065,1,      0.000,2,     -999.0,9,     -999.0,9,     -999.0,9,     99.835,     0.0066,2,      0.061,1,      0.570,1,     -999.0,9
49NZ20210713,        P01,      16,          1,         19,     X12S19,2,20210718,       1555,    40.6132,   147.0071,       5151,  1731.7,2,   2.2529,2,  34.5212,2,  34.5210,2,    50.31,2,   50.43,2,  160.90,2,    0.02,2,   42.17,2,    0.00,2,   3.008,2,   0.064,2,   0.045,2,   0.003,2,   0.067,2,  2389.9,2,  2402.7,2,   33.52,2, -999.00,9,    34.7023,2,     637.65,2,       0.25,       0.01,       0.09,       0.01,      0.006,     0.0126,2,    2.25298,2,      0.065,1,      0.000,2,      0.463,1,      0.294,1,      0.071,1,     99.871,     0.0052,2,      0.058,1,      0.567,1,     -999.0,9
49NZ20210713,        P01,      16,          1,         18,     X12S18,2,20210718,       1555,    40.6132,   147.0071,       5151,  1929.4,2,   2.1304,2,  34.5573,2,  34.5569,2,    59.98,2,   60.04,2,  161.90,2,    0.01,2,   41.77,2,    0.00,2,   2.968,2,   0.018,2,   0.015,2,   0.000,2,   0.035,2,  2387.0,2,  2404.5,2,   35.79,2, -999.00,9,    34.7392,2,     638.35,2,       0.25,       0.01,       0.09,       0.01,      0.009,     -999.0,9,    2.13062,2,      0.063,1,      0.000,2,     -999.0,9,     -999.0,9,     -999.0,9,     99.860,     0.0056,2,      0.060,1,      0.549,1,     -999.0,9
49NZ20210713,        P01,      16,          1,         17,     X12S17,2,20210718,       1555,    40.6132,   147.0071,       5151,  2131.0,2,   1.9655,2,  34.5909,2,  34.5905,2,    74.56,2,   74.59,2,  162.73,2,    0.02,2,   40.95,2,    0.00,2,   2.895,2,   0.001,2,   0.004,2,   0.000,2,   0.046,2,  2380.3,2,  2409.6,2,   35.98,2, -999.00,9,    34.7728,2,     638.90,2,       0.25,       0.01,       0.09,       0.01,      0.006,     0.0120,2,    1.96558,2,      0.062,1,      0.000,2,      0.339,1,      0.200,1,      0.041,1,     99.869,     0.0052,2,      0.058,1,      0.539,1,     -999.0,9
49NZ20210713,        P01,      16,          1,         16,     X12S16,2,20210718,       1555,    40.6132,   147.0071,       5151,  2330.4,2,   1.8527,2,  34.6107,2,  34.6105,2,    84.61,2,   84.51,2,  163.48,2,    0.01,2,   40.35,2,    0.00,2,   2.849,2,   0.000,2,   0.002,2,   0.000,2,   0.049,2,  2377.7,6,  2409.5,2,   35.94,2, -999.00,9,    34.7906,2,     639.30,2,       0.26,       0.01,       0.09,       0.01,      0.006,     -999.0,9,    1.85280,2,      0.060,1,      0.000,2,     -999.0,9,     -999.0,9,     -999.0,9,     99.894,     0.0042,2,      0.057,1,      0.539,1,     -999.0,9
49NZ20210713,        P01,      16,          1,         15,     X12S15,2,20210718,       1555,    40.6132,   147.0071,       5151,  2530.5,2,   1.7300,2,  34.6314,2,  34.6307,2,    98.83,2,   98.83,2,  162.65,2,    0.00,2,   39.43,2,    0.00,2,   2.781,2,   0.000,2,   0.000,2,   0.000,2,   0.068,2,  2370.6,2,  2413.1,2,   34.44,2, -999.00,9,    34.8116,2,     639.60,2,       0.25,       0.01,       0.08,       0.01,      0.006,     0.0117,2,    1.73013,2,      0.059,1,      0.000,2,      0.427,1,      0.276,1,      0.078,1,     99.926,     0.0030,2,      0.055,1,      0.525,1,     -999.0,9
49NZ20210713,        P01,      16,          1,         14,     X12S14,2,20210718,       1555,    40.6132,   147.0071,       5151,  2729.5,2,   1.6519,2,  34.6441,2,  34.6446,2,   108.48,2,  108.58,2,  162.18,2,    0.01,2,   38.78,2,    0.00,2,   2.733,2,   0.000,2,   0.000,2,   0.000,2,   0.036,2,  2362.6,2,  2416.8,2,   33.18,2, -999.00,9,    34.8250,2,     639.95,2,       0.25,       0.01,       0.08,       0.01,      0.006,     -999.0,9,    1.65198,2,      0.058,1,      0.000,2,     -999.0,9,     -999.0,9,     -999.0,9,     99.951,     0.0019,2,      0.054,1,      0.520,1,     -999.0,9
49NZ20210713,        P01,      16,          1,         13,     X12S13,2,20210718,       1555,    40.6132,   147.0071,       5151,  2930.3,2,   1.5949,2,  34.6540,2,  34.6538,2,   117.61,2,  117.58,2,  160.55,2,    0.02,2,   38.18,2,    0.00,2,   2.670,2,   0.000,2,   0.000,2,   0.000,2,   0.026,2,  2356.7,2,  2417.2,2,   34.05,2, -999.00,9,    34.8353,2,     640.05,2,       0.25,       0.01,       0.08,       0.01,      0.006,     0.0109,2,    1.59489,2,      0.057,1,      0.000,2,      0.307,1,      0.173,1,      0.030,1,     99.951,     0.0019,2,      0.052,1,      0.511,1,     -999.0,9
49NZ20210713,        P01,      16,          1,         12,     X12S12,2,20210718,       1555,    40.6132,   147.0071,       5151,  3171.5,2,   1.5529,2,  34.6623,2,  34.6617,2,   126.59,2,  126.71,2,  157.97,2,    0.02,2,   37.66,2,    0.00,2,   2.628,2,   0.000,2,   0.000,2,   0.000,2,   0.000,2,  2350.7,2,  2413.8,6,   34.97,2, -999.00,9,    34.8423,2,     640.15,2,       0.25,       0.01,       0.08,       0.01,      0.006,     -999.0,9,    1.55300,2,      0.056,1,      0.000,2,     -999.0,9,     -999.0,9,     -999.0,9,     99.965,     0.0014,2,      0.053,1,      0.505,1,     -999.0,9
49NZ20210713,        P01,      16,          1,         11,     X12S11,2,20210718,       1555,    40.6132,   147.0071,       5151,  3420.8,2,   1.5022,2,  34.6710,2,  34.6714,2,   136.44,2,  136.65,2,  155.37,2,    0.02,2,   36.99,2,    0.00,2,   2.581,2,   0.000,2,   0.000,2,   0.000,2,   0.000,2,  2344.2,2,  2417.2,2,   36.30,2, -999.00,9,    34.8514,2,     640.35,2,       0.24,       0.01,       0.08,       0.01,      0.006,     0.0102,2,    1.50216,2,      0.055,1,      0.000,2,      0.299,1,      0.166,1,      0.030,1,     99.958,     0.0017,2,      0.054,1,      0.493,1,     -999.0,9
49NZ20210713,        P01,      16,          1,         10,     X12S10,2,20210718,       1555,    40.6132,   147.0071,       5151,  3670.1,2,   1.4815,2,  34.6762,2,  34.6765,2,   142.89,2,  142.80,2,  152.96,2,    0.01,2,   36.60,2,    0.00,2,   2.548,2,   0.000,2,   0.001,2,   0.000,2,   0.000,2,  2342.3,2,  2411.8,2,   34.78,2, -999.00,9,    34.8564,2,     640.45,2,       0.24,       0.01,       0.08,       0.01,      0.006,     -999.0,9,    1.48154,2,      0.054,1,      0.000,2,     -999.0,9,     -999.0,9,     -999.0,9,     99.951,     0.0019,2,      0.054,1,      0.490,1,     -999.0,9
49NZ20210713,        P01,      16,          1,          9,     X12S09,2,20210718,       1555,    40.6132,   147.0071,       5151,  3918.8,2,   1.4776,2,  34.6794,2,  34.6794,2,   146.72,2,  146.86,2,  151.86,2,    0.02,2,   36.33,2,    0.00,2,   2.529,2,   0.000,2,   0.001,2,   0.000,2,   0.011,2,  2339.1,2,  2413.0,2,   36.54,2, -999.00,9,    34.8594,2,     640.50,2,       0.24,       0.01,       0.08,       0.01,      0.006,     0.0099,2,    1.47776,2,      0.054,1,      0.000,2,      0.308,1,      0.175,1,      0.032,1,     99.963,     0.0015,2,      0.056,1,      0.485,1,     -999.0,9
49NZ20210713,        P01,      16,          1,          8,     X12S08,2,20210718,       1555,    40.6132,   147.0071,       5151,  4172.5,2,   1.4624,2,  34.6838,2,  34.6842,2,   152.30,2,  151.96,2,  150.37,2,    0.02,2,   35.99,2,    0.00,2,   2.500,2,   0.005,2,   0.009,2,   0.002,2,   0.012,2,  2333.7,6,  2415.0,2,   35.29,2, -999.00,9,    34.8634,2,     640.55,2,       0.24,       0.01,       0.08,       0.01,      0.006,     -999.0,9,    1.46239,2,      0.053,1,      0.000,2,     -999.0,9,     -999.0,9,     -999.0,9,     99.967,     0.0013,2,      0.051,1,      0.478,1,     -999.0,9
49NZ20210713,        P01,      16,          1,          7,     X12S07,2,20210718,       1555,    40.6132,   147.0071,       5151,  4419.8,2,   1.4692,2,  34.6860,2,  34.6862,2,   155.20,2,  154.95,2,  149.44,2,    0.03,2,   35.79,2,    0.00,2,   2.489,2,   0.000,2,   0.002,2,   0.000,2,   0.000,2,  2331.1,2,  2414.2,2,   34.82,2, -999.00,9,    34.8666,2,     640.55,2,       0.24,       0.01,       0.08,       0.01,      0.006,     0.0095,2,    1.46919,2,      0.052,1,      0.000,2,      0.289,1,      0.159,1,      0.028,1,     99.954,     0.0019,2,      0.052,1,      0.478,1,     -999.0,9
49NZ20210713,        P01,      16,          1,          6,     X12S06,2,20210718,       1555,    40.6132,   147.0071,       5151,  4672.2,2,   1.4841,2,  34.6876,2,  34.6875,2,   156.93,2,  156.80,2,  149.34,2,    0.00,2,   35.64,2,    0.00,2,   2.477,2,   0.000,2,   0.001,2,   0.000,2,   0.029,2,  2329.7,2,  2410.7,6,   34.05,2, -999.00,9,    34.8678,2,     640.65,2,       0.24,       0.01,       0.08,       0.01,      0.006,     -999.0,9,    1.48414,2,      0.052,1,      0.000,2,     -999.0,9,     -999.0,9,     -999.0,9,     99.945,     0.0022,2,      0.052,1,      0.470,1,     -999.0,9