BOTTLE,20231011CCHSIOENA
EXPOCODE,SECT_ID,STNNBR,CASTNO,SAMPNO,BTLNBR,BTLNBR_FLAG_W,DATE,TIME,LATITUDE,LONGITUDE,DEPTH,CTDPRS,CTDPRS_FLAG_W,CTDTMP,CTDTMP_FLAG_W,CTDSAL,CTDSAL_FLAG_W,SALNTY,SALNTY_FLAG_W,CTDOXY,CTDOXY_FLAG_W,OXYGEN,OXYGEN_FLAG_W,SILCAT,SILCAT_FLAG_W,NH4,NH4_FLAG_W,NITRAT,NITRAT_FLAG_W,NITRIT,NITRIT_FLAG_W,PHSPHT,PHSPHT_FLAG_W,CFC-11,CFC-11_FLAG_W,CFC-12,CFC-12_FLAG_W,CFC113,CFC113_FLAG_W,SF6,SF6_FLAG_W,TCARBN,TCARBN_FLAG_W,ALKALI,ALKALI_FLAG_W,DOC,DOC_FLAG_W,TDN,TDN_FLAG_W,DNSSAL,DNSSAL_FLAG_W,RIANOMALY,RIANOMALY_FLAG_W,SILUNC,NH4UNC,NRAUNC,NRIUNC,PHPUNC,FDOM,FDOM_FLAG_W,REFTMP,REFTMP_FLAG_W,CTDFLUOR,CTDFLUOR_FLAG_W,PAR,PAR_FLAG_W,CDOM300,CDOM300_FLAG_W,CDOM325,CDOM325_FLAG_W,CDOM443,CDOM443_FLAG_W,CTDXMISS,CTDBEAMCP,CTDBEAMCP_FLAG_W,CTDTURB,CTDTURB_FLAG_W,CTDCDOM,CTDCDOM_FLAG_W,CHLORA,CHLORA_FLAG_W
,,,,,,,,,,,METERS,DBAR,,ITS-90,,PSS-78,,PSS-78,,UMOL/KG,,UMOL/KG,,UMOL/KG,,UMOL/KG,,UMOL/KG,,UMOL/KG,,UMOL/KG,,PMOL/KG,,PMOL/KG,,PMOL/KG,,FMOL/KG,,UMOL/KG,,UMOL/KG,,UMOL/KG,,UMOL/KG,,G/KG,,ND,,UMOL/KG,UMOL/KG,UMOL/KG,UMOL/KG,UMOL/KG,RFU,,ITS-90,,MG/M^3,,UMOL/M^2/SEC,,/METER,,/METER,,/METER,,%TRANS,/METER,,FTU,,QSU,,UG/L,
49NZ20210713,        P01,      23,          1,         36,     X12S36,2,20210720,       0915,    40.6202,   149.3920,       5332,    10.1,2,  18.3265,2,  34.1787,2,  34.1822,2,   249.91,2,  248.67,2,    5.17,2,    0.03,2,    0.00,2,    0.01,2,   0.073,2,   2.393,2,   1.444,2,   0.194,2,   2.461,2,  2002.5,2,  2259.6,2,   58.33,2, -999.00,9,    34.3418,2,     631.32,2,       0.06,       0.01,       0.02,       0.01,      0.003,     0.0013,4,   18.31824,2,      0.563,1,      0.000,2,      0.400,1,      0.237,1,      0.032,1,     97.295,     0.1097,2,      0.156,1,      0.275,1,       0.22,2
49NZ20210713,        P01,      23,          1,          2,     X12B34,2,20210720,       0915,    40.6202,   149.3920,       5332,    22.3,2,  17.1809,2,  34.2720,2,  34.2757,2,   255.08,2,  250.77,2,    5.03,2,    0.04,2,    0.55,2,    0.07,2,   0.111,2,-999.000,9,-999.000,9,-999.000,9,-999.000,9,  2013.9,2,  2262.7,2,   57.33,2, -999.00,9,    34.4366,2,     633.02,2,       0.06,       0.01,       0.01,       0.01,      0.003,     0.0061,2,   17.18222,2,      1.613,1,      0.000,2,      0.394,1,      0.242,1,      0.038,1,     95.839,     0.1700,2,      0.184,1,      0.303,1,       0.54,2
49NZ20210713,        P01,      23,          1,         35,     X12S35,2,20210720,       0915,    40.6202,   149.3920,       5332,    50.1,2,  12.6818,2,  34.3623,2,  34.3537,2,   227.40,2,  224.91,2,   13.20,2,    0.03,2,   10.05,2,    0.04,2,   0.720,2,   2.883,2,   1.713,2,   0.187,2,   3.006,2,  2090.1,2,  2270.3,2,   51.62,2, -999.00,9,    34.5146,2,     634.47,2,       0.05,       0.01,       0.03,       0.01,      0.004,     0.0021,4,   12.68536,2,      0.611,1,      0.000,2,      0.287,1,      0.165,1,      0.025,1,     98.802,     0.0482,2,      0.110,1,      0.314,1,       0.29,2
49NZ20210713,        P01,      23,          1,         34,     X12S34,2,20210720,       0915,    40.6202,   149.3920,       5332,    99.9,2,  10.0894,2,  34.1698,2,  34.1624,2,   231.11,2,  229.79,2,   19.73,2,    0.02,2,   13.61,2,    0.02,2,   0.982,2,   3.141,2,   1.803,2,   0.210,2,   2.658,2,  2115.9,2,  2268.9,2,   50.56,2, -999.00,9,    34.3253,2,     631.02,2,       0.06,       0.01,       0.04,       0.01,      0.004,     0.0061,2,   10.09925,2,      0.063,1,      0.000,2,      0.305,1,      0.172,1,      0.029,1,     99.676,     0.0130,2,      0.074,1,      0.320,1,       0.02,2
49NZ20210713,        P01,      23,          1,         33,     X12S33,2,20210720,       0915,    40.6202,   149.3920,       5332,   150.5,2,   8.3531,2,  34.0097,2,  34.0017,2,   221.00,2,  218.78,2,   28.65,2,    0.02,2,   17.59,2,    0.02,2,   1.279,2,   3.235,2,   1.821,2,   0.206,2,   2.525,2,  2138.2,2,  2269.3,2,   53.26,2, -999.00,9,    34.1650,2,     628.07,2,       0.07,       0.01,       0.04,       0.01,      0.004,     0.0074,2,    8.35771,2,      0.058,1,      0.000,2,      0.342,1,      0.190,1,      0.028,1,     99.696,     0.0122,2,      0.075,1,      0.344,1,       0.02,2
49NZ20210713,        P01,      23,          1,         32,     X12S32,2,20210720,       0915,    40.6202,   149.3920,       5332,   200.3,2,   6.0148,2,  33.7613,2,  33.7615,2,   226.34,2,  225.13,2,   39.33,2,    0.01,2,   22.35,2,    0.01,2,   1.664,2,   3.642,2,   1.997,2,   0.249,2,   2.842,2,  2166.2,2,  2268.4,2,   50.87,2, -999.00,9,    33.9249,2,     623.67,2,       0.09,       0.01,       0.05,       0.01,      0.005,     0.0081,2,    6.01461,2,      0.063,1,      0.000,2,      0.409,1,      0.232,1,      0.044,1,     99.630,     0.0148,2,      0.076,1,      0.361,1,       0.02,2
49NZ20210713,        P01,      23,          1,         31,     X12S31,2,20210720,       0915,    40.6202,   149.3920,       5332,   249.9,2,   4.9525,2,  33.7658,2,  33.7655,2,   188.13,2,  187.17,2,   55.20,2,    0.01,2,   28.00,2,    0.01,2,   2.068,2,   3.409,2,   1.867,2,   0.204,2,   2.338,2,  2208.9,2,  2273.8,2,   44.81,2, -999.00,9,    33.9290,2,     623.77,2,       0.11,       0.01,       0.06,       0.01,      0.005,     0.0094,2,    4.95164,2,      0.063,1,      0.000,2,      0.392,1,      0.220,1,      0.033,1,     99.657,     0.0137,2,      0.077,1,      0.389,1,       0.02,2
49NZ20210713,        P01,      23,          1,         30,     X12S30,2,20210720,       0915,    40.6202,   149.3920,       5332,   278.2,2,   4.3119,2,  33.7697,2,  33.7812,2,   169.66,2,  166.81,2,   64.09,2,    0.01,2,   30.48,2,    0.01,2,   2.250,2,   3.200,2,   1.739,2,   0.198,2,   2.293,2,  2229.8,2,  2278.1,2,   47.64,2, -999.00,9,    33.9473,2,     624.07,2,       0.12,       0.01,       0.07,       0.01,      0.006,     0.0100,2,    4.30521,2,      0.066,1,      0.000,2,      0.467,1,      0.287,1,      0.060,1,     99.552,     0.0180,2,      0.078,1,      0.403,1,     -999.0,9
49NZ20210713,        P01,      23,          1,         29,     X12S29,2,20210720,       0915,    40.6202,   149.3920,       5332,   369.9,2,   3.2537,2,  33.7763,2,  33.7783,2,   117.75,2,  116.39,2,   86.96,2,    0.02,2,   36.97,2,    0.01,2,   2.702,2,   2.894,2,   1.578,2,   0.186,2,   1.814,2,  2279.5,2,  2291.9,2,   44.53,2, -999.00,9,    33.9468,2,     623.97,2,       0.15,       0.01,       0.08,       0.01,      0.006,     0.0113,2,    3.25290,2,      0.070,1,      0.000,2,      0.449,1,      0.261,1,      0.050,1,     99.570,     0.0172,2,      0.084,1,      0.441,1,     -999.0,9
49NZ20210713,        P01,      23,          1,         28,     X12S28,2,20210720,       0915,    40.6202,   149.3920,       5332,   470.1,2,   3.9668,2,  34.0565,2,  34.0549,2,    61.40,2,   61.17,2,  100.93,2,    0.02,2,   40.01,2,    0.01,2,   2.869,2,   1.670,2,   0.902,2,   0.089,2,   0.921,2,  2314.7,2,  2320.4,2,   42.64,2, -999.00,9,    34.2264,2,     629.12,2,       0.17,       0.01,       0.08,       0.01,      0.006,     0.0121,2,    3.96639,2,      0.070,1,      0.000,2,      0.442,1,      0.268,1,      0.053,1,     99.699,     0.0121,2,      0.079,1,      0.514,1,     -999.0,9
49NZ20210713,        P01,      23,          1,         27,     X12S27,2,20210720,       0915,    40.6202,   149.3920,       5332,   569.9,2,   4.0000,2,  34.2041,2,  34.1997,2,    50.82,2,   50.41,2,  110.25,2,    0.03,2,   40.56,2,    0.01,2,   2.894,2,   1.017,3,   0.620,3,   0.056,3,   2.345,3,  2326.7,2,  2339.0,2,   36.86,2, -999.00,9,    34.3715,2,     631.72,2,       0.18,       0.01,       0.09,       0.01,      0.006,     0.0126,2,    3.99785,2,      0.069,1,      0.000,2,      0.411,1,      0.249,1,      0.051,1,     99.807,     0.0077,2,      0.063,1,      0.510,1,     -999.0,9
49NZ20210713,        P01,      23,          1,         26,     X12S26,2,20210720,       0915,    40.6202,   149.3920,       5332,   670.5,2,   3.8374,2,  34.2731,2,  34.2729,2,    47.75,2,   47.96,2,  117.02,2,    0.03,2,   40.87,2,    0.01,2,   2.916,2,   0.660,2,   0.375,2,   0.024,2,   0.242,2,  2334.3,6,  2347.5,2,   40.66,2, -999.00,9,    34.4466,2,     633.07,2,       0.19,       0.01,       0.13,       0.01,      0.006,     -999.0,9,    3.83762,2,      0.068,1,      0.000,2,     -999.0,9,     -999.0,9,     -999.0,9,     99.832,     0.0067,2,      0.063,1,      0.518,1,     -999.0,9
49NZ20210713,        P01,      23,          1,         25,     X12S25,2,20210720,       0915,    40.6202,   149.3920,       5332,   767.1,2,   3.4472,2,  34.3164,2,  34.3161,2,    41.54,2,   41.66,2,  127.24,2,    0.01,2,   41.69,2,    0.01,2,   2.976,2,   0.498,3,   0.344,3,   0.029,3,   2.053,3,  2353.1,2,  2355.5,2,   38.11,2, -999.00,9,    34.4915,2,     633.92,2,       0.21,       0.01,       0.09,       0.01,      0.006,     0.0122,2,    3.44716,2,      0.069,1,      0.000,2,      0.478,1,      0.304,1,      0.076,1,     99.772,     0.0091,2,      0.062,1,      0.515,1,     -999.0,9
49NZ20210713,        P01,      23,          1,         24,     X12S24,2,20210720,       0915,    40.6202,   149.3920,       5332,   869.8,2,   2.9844,2,  34.3264,2,  34.3263,2,    31.03,2,   31.08,2,  140.36,2,    0.02,2,   42.90,2,    0.01,2,   3.068,2,   0.464,3,   0.327,3,   0.032,3,   2.004,3,  2368.4,2,  2364.1,2,   38.14,2, -999.00,9,    34.5040,2,     634.12,2,       0.22,       0.01,       0.09,       0.01,      0.006,     -999.0,9,    2.98416,2,      0.071,1,      0.000,2,     -999.0,9,     -999.0,9,     -999.0,9,     99.733,     0.0107,2,      0.063,1,      0.529,1,     -999.0,9
49NZ20210713,        P01,      23,          1,         23,     X12S23,2,20210720,       0915,    40.6202,   149.3920,       5332,   971.2,2,   2.8626,2,  34.3835,2,  34.3831,2,    33.76,2,   33.75,2,  144.60,2,    0.02,2,   42.87,2,    0.01,2,   3.059,2,   0.269,2,   0.162,2,   0.011,2,   0.136,2,  2372.0,2,  2373.9,2,   38.66,2, -999.00,9,    34.5601,2,     635.12,2,       0.23,       0.01,       0.09,       0.01,      0.006,     0.0129,2,    2.86207,2,      0.068,1,      0.000,2,      0.433,1,      0.270,1,      0.057,1,     99.781,     0.0088,2,      0.066,1,      0.525,1,     -999.0,9
49NZ20210713,        P01,      23,          1,         22,     X12S22,2,20210720,       0915,    40.6202,   149.3920,       5332,  1129.5,2,   2.6129,2,  34.4334,2,  34.4332,2,    36.55,2,   36.50,2,  151.98,2,    0.03,2,   42.83,2,    0.01,2,   3.056,2,   0.205,3,   0.179,3,   0.018,3,   1.635,3,  2378.1,2,  2382.2,6,   35.85,2, -999.00,9,    34.6112,2,     636.07,2,       0.24,       0.01,       0.09,       0.01,      0.006,     -999.0,9,    2.61293,2,      0.067,1,      0.000,2,     -999.0,9,     -999.0,9,     -999.0,9,     99.777,     0.0089,2,      0.067,1,      0.527,1,     -999.0,9
49NZ20210713,        P01,      23,          1,         21,     X12S21,2,20210720,       0915,    40.6202,   149.3920,       5332,  1330.3,2,   2.3841,2,  34.4832,2,  34.4833,2,    42.31,2,   42.10,2,  158.27,2,    0.02,2,   42.60,2,    0.01,2,   3.035,2,   0.139,3,   0.141,3,   0.013,3,   1.792,3,  2381.5,2,  2387.8,2,   37.58,2, -999.00,9,    34.6629,2,     636.97,2,       0.25,       0.01,       0.12,       0.01,      0.006,     0.0126,2,    2.38407,2,      0.067,1,      0.000,2,      0.389,1,      0.234,1,      0.047,1,     99.816,     0.0074,2,      0.070,1,      0.522,1,     -999.0,9
49NZ20210713,        P01,      23,          1,         20,     X12S20,2,20210720,       0915,    40.6202,   149.3920,       5332,  1529.4,2,   2.2342,2,  34.5272,2,  34.5283,2,    50.94,2,   50.77,2,  160.91,2,    0.02,2,   42.28,2,    0.01,2,   2.994,2,   0.083,3,   0.120,3,   0.011,3,   2.092,3,  2379.5,2,  2395.3,2,   38.68,2, -999.00,9,    34.7075,2,     637.77,2,       0.25,       0.01,       0.09,       0.01,      0.006,     -999.0,9,    2.23579,2,      0.066,1,      0.000,2,     -999.0,9,     -999.0,9,     -999.0,9,     99.804,     0.0078,2,      0.064,1,      0.518,1,     -999.0,9
49NZ20210713,        P01,      23,          1,         19,     X12S19,2,20210720,       0915,    40.6202,   149.3920,       5332,  1728.7,2,   2.0942,2,  34.5628,2,  34.5639,2,    61.15,2,   60.02,2,  162.37,2,    0.00,2,   41.88,2,    0.00,2,   2.948,2,   0.044,3,   0.084,3,   0.007,3,   1.834,3,  2380.5,2,  2406.9,2,   38.62,2, -999.00,9,    34.7426,2,     638.37,2,       0.25,       0.01,       0.09,       0.01,      0.006,     0.0126,2,    2.09396,2,      0.063,1,      0.000,2,      0.349,1,      0.201,1,      0.038,1,     99.905,     0.0038,2,      0.061,1,      0.504,1,     -999.0,9
49NZ20210713,        P01,      23,          1,         18,     X12S18,2,20210720,       0915,    40.6202,   149.3920,       5332,  1930.5,2,   1.9375,2,  34.5924,2,  34.5920,2,    74.14,2,   73.50,2,  163.24,2,   -0.01,2,   41.14,2,    0.00,2,   2.885,2,   0.032,3,   0.077,3,   0.010,3,   1.802,3,  2372.8,2,  2412.9,2,   34.89,2, -999.00,9,    34.7724,2,     638.92,2,       0.26,       0.01,       0.09,       0.01,      0.006,     -999.0,9,    1.93826,2,      0.061,1,      0.000,2,     -999.0,9,     -999.0,9,     -999.0,9,     99.887,     0.0045,2,      0.061,1,      0.496,1,     -999.0,9
49NZ20210713,        P01,      23,          1,         17,     X12S17,2,20210720,       0915,    40.6202,   149.3920,       5332,  2129.9,2,   1.8233,2,  34.6130,2,  34.6130,2,    87.16,2,   86.59,2,  162.72,2,   -0.01,2,   40.33,2,    0.00,2,   2.826,2,   0.003,2,   0.002,2,   0.001,2,   0.006,2,  2366.0,2,  2414.3,2,   38.70,2, -999.00,9,    34.7934,2,     639.27,2,       0.25,       0.01,       0.09,       0.01,      0.006,     0.0114,2,    1.82324,2,      0.059,1,      0.000,2,      0.320,1,      0.182,1,      0.034,1,     99.894,     0.0043,2,      0.057,1,      0.483,1,     -999.0,9
49NZ20210713,        P01,      23,          1,         16,     X12S16,2,20210720,       0915,    40.6202,   149.3920,       5332,  2330.0,2,   1.7334,2,  34.6289,2,  34.6293,2,    98.57,2,   98.32,2,  161.59,2,   -0.01,2,   39.62,2,    0.00,2,   2.772,2,   0.018,3,   0.044,3,   0.007,3,   1.032,3,  2360.0,6,  2409.3,2,   37.43,2, -999.00,9,    34.8073,2,     639.57,2,       0.25,       0.01,       0.08,       0.01,      0.006,     -999.0,9,    1.73357,2,      0.058,1,      0.000,2,     -999.0,9,     -999.0,9,     -999.0,9,     99.924,     0.0031,2,      0.056,1,      0.475,1,     -999.0,9
49NZ20210713,        P01,      23,          1,          3,     X12S03,2,20210720,       0915,    40.6202,   149.3920,       5332,  2528.8,2,   1.6509,2,  34.6425,2,  34.6427,2,   108.95,2,  108.59,2,  160.57,2,    0.02,2,   38.95,2,    0.01,2,   2.724,2,   0.000,2,   0.000,2,   0.000,2,   0.031,2,  2352.6,2,  2412.3,2,   33.32,2, -999.00,9,    34.8218,2,     639.82,2,       0.25,       0.01,       0.08,       0.01,      0.006,     0.0108,2,    1.65097,2,      0.057,1,      0.000,2,      0.300,1,      0.163,1,      0.030,1,     99.956,     0.0018,2,      0.054,1,      0.470,1,     -999.0,9
49NZ20210713,        P01,      23,          1,         15,     X12S15,2,20210720,       0915,    40.6202,   149.3920,       5332,  2729.0,2,   1.5952,2,  34.6522,2,  34.6518,2,   117.98,2,  117.53,2,  158.40,2,    0.01,2,   38.24,2,    0.01,2,   2.669,2,   0.000,2,   0.000,2,   0.000,2,   0.000,2,  2349.0,2,  2415.2,2,   39.22,2, -999.00,9,    34.8304,2,     640.02,2,       0.25,       0.01,       0.09,       0.01,      0.006,     0.0111,2,    1.59514,2,      0.056,1,      0.000,2,      0.303,1,      0.171,1,      0.032,1,     99.946,     0.0021,2,      0.056,1,      0.462,1,     -999.0,9
49NZ20210713,        P01,      23,          1,         13,     X12S13,2,20210720,       0915,    40.6202,   149.3920,       5332,  2929.4,2,   1.5484,2,  34.6602,2,  34.6611,2,   125.90,2,  125.50,2,  156.96,2,   -0.01,2,   37.83,2,    0.00,2,   2.628,2,   0.000,2,   0.000,2,   0.000,2,   0.021,2,  2346.2,2,  2413.4,2,   38.37,2, -999.00,9,    34.8403,2,     640.17,2,       0.25,       0.01,       0.08,       0.01,      0.006,     0.0106,2,    1.54828,2,      0.056,1,      0.000,2,      0.290,1,      0.160,1,      0.026,1,     99.914,     0.0034,2,      0.056,1,      0.464,1,     -999.0,9
49NZ20210713,        P01,      23,          1,         12,     X12S12,2,20210720,       0915,    40.6202,   149.3920,       5332,  3170.1,2,   1.5086,2,  34.6675,2,  34.6681,2,   133.75,2,  132.81,2,  155.15,2,   -0.01,2,   37.30,2,    0.01,2,   2.590,2,   0.000,2,   0.000,2,   0.000,2,   0.031,2,  2338.9,2,  2414.4,6,   36.52,2, -999.00,9,    34.8469,2,     640.27,2,       0.24,       0.01,       0.08,       0.01,      0.006,     -999.0,9,    1.50851,2,      0.055,1,      0.000,2,     -999.0,9,     -999.0,9,     -999.0,9,     99.960,     0.0016,2,      0.068,1,      0.452,1,     -999.0,9
49NZ20210713,        P01,      23,          1,         11,     X12S11,2,20210720,       0915,    40.6202,   149.3920,       5332,  3420.3,2,   1.4826,2,  34.6732,2,  34.6724,2,   139.99,2,  139.93,2,  153.53,2,    0.00,2,   36.91,2,    0.01,2,   2.558,2,   0.001,2,   0.000,2,   0.000,2,   0.000,2,  2334.4,2,  2411.8,2,   36.57,2, -999.00,9,    34.8521,2,     640.37,2,       0.24,       0.01,       0.08,       0.01,      0.006,     0.0101,2,    1.48258,2,      0.054,1,      0.000,2,      0.295,1,      0.165,1,      0.033,1,     99.958,     0.0017,2,      0.054,1,      0.445,1,     -999.0,9
49NZ20210713,        P01,      23,          1,         10,     X12S10,2,20210720,       0915,    40.6202,   149.3920,       5332,  3670.0,2,   1.4667,2,  34.6776,2,  34.6781,2,   145.14,2,  144.95,2,  152.19,2,    0.01,2,   36.56,2,    0.01,2,   2.533,2,   0.000,2,   0.000,2,   0.001,2,   0.000,2,  2330.5,2,  2410.7,2,   35.70,2, -999.00,9,    34.8580,2,     640.47,2,       0.24,       0.01,       0.09,       0.01,      0.006,     -999.0,9,    1.46676,2,      0.054,1,      0.000,2,     -999.0,9,     -999.0,9,     -999.0,9,     99.958,     0.0017,2,      0.058,1,      0.435,1,     -999.0,9
49NZ20210713,        P01,      23,          1,          9,     X12S09,2,20210720,       0915,    40.6202,   149.3920,       5332,  3921.3,2,   1.4579,2,  34.6811,2,  34.6812,2,   149.61,2,  149.35,2,  151.06,2,    0.01,2,   36.30,2,    0.01,2,   2.506,2,   0.000,2,   0.000,2,   0.000,2,   0.000,2,  2327.4,2,  2413.4,2,   33.61,2, -999.00,9,    34.8600,2,     640.57,2,       0.24,       0.01,       0.08,       0.01,      0.006,     0.0097,2,    1.45792,2,      0.053,1,      0.000,2,      0.280,1,      0.154,1,      0.026,1,     99.967,     0.0013,2,      0.056,1,      0.440,1,     -999.0,9
49NZ20210713,        P01,      23,          1,          8,     X12S08,2,20210720,       0915,    40.6202,   149.3920,       5332,  4169.7,2,   1.4579,2,  34.6839,2,  34.6840,2,   153.12,2,  152.85,2,  150.23,2,    0.02,2,   36.05,2,    0.00,2,   2.491,2,   0.000,4,   0.000,4,   0.000,4,   0.000,4,  2325.8,6,  2413.7,2,   38.68,2, -999.00,9,    34.8618,2,     640.57,2,       0.24,       0.01,       0.08,       0.01,      0.006,     -999.0,9,    1.45793,2,      0.052,1,      0.000,2,     -999.0,9,     -999.0,9,     -999.0,9,     99.949,     0.0021,2,      0.051,1,      0.439,1,     -999.0,9
49NZ20210713,        P01,      23,          1,          7,     X12S07,2,20210720,       0915,    40.6202,   149.3920,       5332,  4420.1,2,   1.4654,2,  34.6861,2,  34.6859,2,   156.10,2,  155.78,2,  148.94,2,    0.01,2,   35.84,2,    0.00,2,   2.473,2,   0.000,4,   0.000,4,   0.000,4,   2.004,4,  2321.9,2,  2410.2,2,   34.45,2, -999.00,9,    34.8653,2,     640.57,2,       0.24,       0.01,       0.08,       0.01,      0.006,     0.0097,2,    1.46551,2,      0.052,1,      0.000,2,      0.278,1,      0.154,1,      0.029,1,     99.981,     0.0008,2,      0.054,1,      0.440,1,     -999.0,9