BOTTLE,20231011CCHSIOENA
EXPOCODE,SECT_ID,STNNBR,CASTNO,SAMPNO,BTLNBR,BTLNBR_FLAG_W,DATE,TIME,LATITUDE,LONGITUDE,DEPTH,CTDPRS,CTDPRS_FLAG_W,CTDTMP,CTDTMP_FLAG_W,CTDSAL,CTDSAL_FLAG_W,SALNTY,SALNTY_FLAG_W,CTDOXY,CTDOXY_FLAG_W,OXYGEN,OXYGEN_FLAG_W,SILCAT,SILCAT_FLAG_W,NH4,NH4_FLAG_W,NITRAT,NITRAT_FLAG_W,NITRIT,NITRIT_FLAG_W,PHSPHT,PHSPHT_FLAG_W,CFC-11,CFC-11_FLAG_W,CFC-12,CFC-12_FLAG_W,CFC113,CFC113_FLAG_W,SF6,SF6_FLAG_W,TCARBN,TCARBN_FLAG_W,ALKALI,ALKALI_FLAG_W,DOC,DOC_FLAG_W,TDN,TDN_FLAG_W,DNSSAL,DNSSAL_FLAG_W,RIANOMALY,RIANOMALY_FLAG_W,SILUNC,NH4UNC,NRAUNC,NRIUNC,PHPUNC,FDOM,FDOM_FLAG_W,REFTMP,REFTMP_FLAG_W,CTDFLUOR,CTDFLUOR_FLAG_W,PAR,PAR_FLAG_W,CDOM300,CDOM300_FLAG_W,CDOM325,CDOM325_FLAG_W,CDOM443,CDOM443_FLAG_W,CTDXMISS,CTDBEAMCP,CTDBEAMCP_FLAG_W,CTDTURB,CTDTURB_FLAG_W,CTDCDOM,CTDCDOM_FLAG_W,CHLORA,CHLORA_FLAG_W
,,,,,,,,,,,METERS,DBAR,,ITS-90,,PSS-78,,PSS-78,,UMOL/KG,,UMOL/KG,,UMOL/KG,,UMOL/KG,,UMOL/KG,,UMOL/KG,,UMOL/KG,,PMOL/KG,,PMOL/KG,,PMOL/KG,,FMOL/KG,,UMOL/KG,,UMOL/KG,,UMOL/KG,,UMOL/KG,,G/KG,,ND,,UMOL/KG,UMOL/KG,UMOL/KG,UMOL/KG,UMOL/KG,RFU,,ITS-90,,MG/M^3,,UMOL/M^2/SEC,,/METER,,/METER,,/METER,,%TRANS,/METER,,FTU,,QSU,,UG/L,
49NZ20210713,        P01,      16,          1,          5,     X12S05,2,20210718,       1555,    40.6132,   147.0071,       5151,  4919.3,2,   1.5013,2,  34.6889,2,  34.6891,2,   158.61,2,  159.03,2,  148.88,2,    0.01,2,   35.51,2,    0.00,2,   2.470,2,   0.000,2,   0.002,2,   0.000,2,   0.000,2,  2330.6,2,  2410.8,2,   35.08,2, -999.00,9,    34.8696,2,     640.65,2,       0.24,       0.01,       0.08,       0.01,      0.006,     0.0097,2,    1.50139,2,      0.052,1,      0.000,2,      0.295,1,      0.163,1,      0.029,1,     99.837,     0.0065,2,      0.061,1,      0.477,1,     -999.0,9
49NZ20210713,        P01,      16,          1,          4,     X12S04,2,20210718,       1555,    40.6132,   147.0071,       5151,  5170.0,2,   1.5213,2,  34.6900,2,  34.6906,2,   160.82,2,  160.92,2,  146.64,2,    0.01,2,   35.35,2,    0.00,2,   2.459,2,   0.000,2,   0.002,2,   0.000,2,   0.000,2,  2327.6,2,  2411.7,2,   36.53,2, -999.00,9,    34.8699,2,     640.60,2,       0.23,       0.01,       0.08,       0.01,      0.006,     0.0098,2,    1.52141,2,      0.052,1,      0.000,2,      0.304,1,      0.170,1,      0.029,1,     99.356,     0.0258,2,      0.100,1,      0.487,1,     -999.0,9
49NZ20210713,        P01,      16,          1,          1,     X12S01,2,20210718,       1555,    40.6132,   147.0071,       5151,  5213.9,2,   1.5264,2,  34.6901,2,  34.6903,2,   160.98,2,  161.00,2,  146.70,2,    0.01,2,   35.37,2,    0.00,2,   2.462,2,   0.000,2,   0.002,2,   0.000,2,   0.032,2,  2320.7,2,  2412.2,2,   33.83,2, -999.00,9,    34.8702,2,     640.85,2,       0.23,       0.01,       0.08,       0.01,      0.006,     0.0093,2,    1.52647,2,      0.052,1,      0.000,2,      0.298,1,      0.169,1,      0.021,1,     99.294,     0.0283,2,      0.110,1,      0.488,1,     -999.0,9