BOTTLE,20231011CCHSIOENA
EXPOCODE,SECT_ID,STNNBR,CASTNO,SAMPNO,BTLNBR,BTLNBR_FLAG_W,DATE,TIME,LATITUDE,LONGITUDE,DEPTH,CTDPRS,CTDPRS_FLAG_W,CTDTMP,CTDTMP_FLAG_W,CTDSAL,CTDSAL_FLAG_W,SALNTY,SALNTY_FLAG_W,CTDOXY,CTDOXY_FLAG_W,OXYGEN,OXYGEN_FLAG_W,SILCAT,SILCAT_FLAG_W,NH4,NH4_FLAG_W,NITRAT,NITRAT_FLAG_W,NITRIT,NITRIT_FLAG_W,PHSPHT,PHSPHT_FLAG_W,CFC-11,CFC-11_FLAG_W,CFC-12,CFC-12_FLAG_W,CFC113,CFC113_FLAG_W,SF6,SF6_FLAG_W,TCARBN,TCARBN_FLAG_W,ALKALI,ALKALI_FLAG_W,DOC,DOC_FLAG_W,TDN,TDN_FLAG_W,DNSSAL,DNSSAL_FLAG_W,RIANOMALY,RIANOMALY_FLAG_W,SILUNC,NH4UNC,NRAUNC,NRIUNC,PHPUNC,FDOM,FDOM_FLAG_W,REFTMP,REFTMP_FLAG_W,CTDFLUOR,CTDFLUOR_FLAG_W,PAR,PAR_FLAG_W,CDOM300,CDOM300_FLAG_W,CDOM325,CDOM325_FLAG_W,CDOM443,CDOM443_FLAG_W,CTDXMISS,CTDBEAMCP,CTDBEAMCP_FLAG_W,CTDTURB,CTDTURB_FLAG_W,CTDCDOM,CTDCDOM_FLAG_W,CHLORA,CHLORA_FLAG_W
,,,,,,,,,,,METERS,DBAR,,ITS-90,,PSS-78,,PSS-78,,UMOL/KG,,UMOL/KG,,UMOL/KG,,UMOL/KG,,UMOL/KG,,UMOL/KG,,UMOL/KG,,PMOL/KG,,PMOL/KG,,PMOL/KG,,FMOL/KG,,UMOL/KG,,UMOL/KG,,UMOL/KG,,UMOL/KG,,G/KG,,ND,,UMOL/KG,UMOL/KG,UMOL/KG,UMOL/KG,UMOL/KG,RFU,,ITS-90,,MG/M^3,,UMOL/M^2/SEC,,/METER,,/METER,,/METER,,%TRANS,/METER,,FTU,,QSU,,UG/L,
49NZ20210713,        P01,      88,          1,          6,     X12S06,2,20210811,       0805,    47.0036,  -151.4035,       5202,  4672.3,2,   1.5314,2,  34.6846,2,  34.6849,2,   143.92,2,  143.84,2,  169.53,2,    0.02,2,   36.85,2,    0.00,2,   2.538,2,   0.000,2,   0.000,2,   0.000,2,   0.036,2,  2336.4,2,  2429.1,6,   36.66,2, -999.00,9,    34.8703,2,     640.63,2,       0.26,       0.01,       0.08,       0.01,      0.006,     -999.0,9,    1.53148,2,      0.055,1,      0.000,2,     -999.0,9,     -999.0,9,     -999.0,9,     99.975,     0.0010,2,      0.034,1,      0.286,1,     -999.0,9
49NZ20210713,        P01,      88,          1,          5,     X12S05,2,20210811,       0805,    47.0036,  -151.4035,       5202,  4919.1,2,   1.5575,2,  34.6854,2,  34.6854,2,   144.36,2,  144.59,2,  171.26,2,    0.07,2,   36.84,2,    0.00,2,   2.542,2,   0.000,2,   0.000,2,   0.001,2,   0.035,2,  2335.4,2,  2428.2,2,   38.26,2, -999.00,9,    34.8690,2,     640.73,2,       0.27,       0.01,       0.08,       0.01,      0.006,     0.0105,2,    1.55752,2,      0.055,1,      0.000,2,      0.303,1,      0.171,1,      0.028,1,     99.924,     0.0030,2,      0.038,1,      0.287,1,     -999.0,9
49NZ20210713,        P01,      88,          1,          4,     X12S04,2,20210811,       0805,    47.0036,  -151.4035,       5202,  5168.7,2,   1.5885,2,  34.6856,2,  34.6857,2,   144.36,2,  144.56,2,  171.71,2,   -0.01,2,   36.88,2,    0.00,2,   2.540,2,   0.002,2,   0.000,2,   0.001,2,   0.000,2,  2337.8,2,  2427.6,2,   36.47,2, -999.00,9,    34.8714,2,     640.63,2,       0.27,       0.01,       0.08,       0.01,      0.006,     0.0103,2,    1.58872,2,      0.054,1,      0.000,2,      0.307,1,      0.174,1,      0.029,1,     99.845,     0.0062,2,      0.044,1,      0.290,1,     -999.0,9
49NZ20210713,        P01,      88,          1,          1,     X12S01,2,20210811,       0805,    47.0036,  -151.4035,       5202,  5289.5,2,   1.6043,2,  34.6855,2,  34.6856,2,   144.35,2,  144.58,2,  171.76,2,    0.00,2,   36.87,2,    0.00,2,   2.542,2,   0.003,2,   0.001,2,   0.001,2,   0.003,2,  2334.9,2,  2427.7,2,   38.23,2, -999.00,9,    34.8714,2,     640.83,2,       0.27,       0.01,       0.08,       0.01,      0.006,     0.0101,2,    1.60430,2,      0.055,1,      0.000,2,      0.307,1,      0.176,1,      0.031,1,     99.815,     0.0074,2,      0.054,1,      0.288,1,     -999.0,9