BOTTLE,20231011CCHSIOENA
EXPOCODE,SECT_ID,STNNBR,CASTNO,SAMPNO,BTLNBR,BTLNBR_FLAG_W,DATE,TIME,LATITUDE,LONGITUDE,DEPTH,CTDPRS,CTDPRS_FLAG_W,CTDTMP,CTDTMP_FLAG_W,CTDSAL,CTDSAL_FLAG_W,SALNTY,SALNTY_FLAG_W,CTDOXY,CTDOXY_FLAG_W,OXYGEN,OXYGEN_FLAG_W,SILCAT,SILCAT_FLAG_W,NH4,NH4_FLAG_W,NITRAT,NITRAT_FLAG_W,NITRIT,NITRIT_FLAG_W,PHSPHT,PHSPHT_FLAG_W,CFC-11,CFC-11_FLAG_W,CFC-12,CFC-12_FLAG_W,CFC113,CFC113_FLAG_W,SF6,SF6_FLAG_W,TCARBN,TCARBN_FLAG_W,ALKALI,ALKALI_FLAG_W,DOC,DOC_FLAG_W,TDN,TDN_FLAG_W,DNSSAL,DNSSAL_FLAG_W,RIANOMALY,RIANOMALY_FLAG_W,SILUNC,NH4UNC,NRAUNC,NRIUNC,PHPUNC,FDOM,FDOM_FLAG_W,REFTMP,REFTMP_FLAG_W,CTDFLUOR,CTDFLUOR_FLAG_W,PAR,PAR_FLAG_W,CDOM300,CDOM300_FLAG_W,CDOM325,CDOM325_FLAG_W,CDOM443,CDOM443_FLAG_W,CTDXMISS,CTDBEAMCP,CTDBEAMCP_FLAG_W,CTDTURB,CTDTURB_FLAG_W,CTDCDOM,CTDCDOM_FLAG_W,CHLORA,CHLORA_FLAG_W
,,,,,,,,,,,METERS,DBAR,,ITS-90,,PSS-78,,PSS-78,,UMOL/KG,,UMOL/KG,,UMOL/KG,,UMOL/KG,,UMOL/KG,,UMOL/KG,,UMOL/KG,,PMOL/KG,,PMOL/KG,,PMOL/KG,,FMOL/KG,,UMOL/KG,,UMOL/KG,,UMOL/KG,,UMOL/KG,,G/KG,,ND,,UMOL/KG,UMOL/KG,UMOL/KG,UMOL/KG,UMOL/KG,RFU,,ITS-90,,MG/M^3,,UMOL/M^2/SEC,,/METER,,/METER,,/METER,,%TRANS,/METER,,FTU,,QSU,,UG/L,
49NZ20210713,        P01,      81,          1,          6,     X12S06,2,20210813,       1525,    47.0004,  -158.1401,       5233,  4832.1,2,   1.5487,2,  34.6850,2,  34.6855,2,   144.24,2,  144.53,2,  169.47,2,    0.00,2,   36.67,2,    0.00,2,   2.544,2,   0.000,2,   0.000,2,   0.000,2,   0.011,2,  2344.6,2,  2428.4,6,   35.17,2, -999.00,9,    34.8716,2,     640.62,2,       0.26,       0.01,       0.08,       0.01,      0.006,     -999.0,9,    1.54875,2,      0.054,1,      0.000,2,     -999.0,9,     -999.0,9,     -999.0,9,     99.969,     0.0012,2,      0.035,1,      0.284,1,     -999.0,9
49NZ20210713,        P01,      81,          1,          5,     X12S05,2,20210813,       1525,    47.0004,  -158.1401,       5233,  5078.8,2,   1.5764,2,  34.6857,2,  34.6861,2,   144.06,2,  144.44,2,  172.30,2,    0.00,2,   36.72,2,    0.00,2,   2.548,2,   0.000,2,   0.001,2,   0.000,2,   0.009,2,  2347.7,2,  2428.8,2,   36.01,2, -999.00,9,    34.8715,2,     640.71,2,       0.27,       0.01,       0.08,       0.01,      0.006,     0.0105,2,    1.57637,2,      0.054,1,      0.000,2,      0.310,1,      0.172,1,      0.024,1,     99.907,     0.0037,2,      0.040,1,      0.286,1,     -999.0,9
49NZ20210713,        P01,      81,          1,          1,     X12S01,2,20210813,       1525,    47.0004,  -158.1401,       5233,  5324.4,2,   1.6026,2,  34.6860,2,  34.6867,2,   145.49,2,  145.88,2,  169.84,2,    0.01,2,   36.58,2,    0.00,2,   2.544,2,   0.000,2,   0.000,2,   0.000,2,   0.000,2,  2337.2,2,  2426.6,2,   35.58,2, -999.00,9,    34.8707,2,     640.91,2,       0.26,       0.01,       0.08,       0.01,      0.008,     0.0101,2,    1.60258,2,      0.054,1,      0.000,2,      0.303,1,      0.167,1,      0.019,1,     99.802,     0.0079,2,      0.046,1,      0.284,1,     -999.0,9