BOTTLE,20050923WHPSIOSA
EXPOCODE,SECT_ID,STNNBR,CASTNO,SAMPNO,BTLNBR,BTLNBR_FLAG_W,DATE,TIME,LATITUDE,LONGITUDE,DEPTH,CTDPRS,CTDTMP,CTDSAL,CTDSAL_FLAG_W,SALNTY,SALNTY_FLAG_W,THETA,OXYGEN,OXYGEN_FLAG_W
,,,,,,,,,,,,DBAR,ITS-68,PSS-78,,PSS-78,,DEG C,UMOL/KG,
       74DI202,  AR09,    22,  1,   -999,     24,2,19930514,1918,-29.8200,  -1.0122, 4597,     14.9,  19.9090,  35.7970,2,  35.7970,2, 19.9060,    238.7,2
       74DI202,  AR09,    22,  1,   -999,     23,2,19930514,1918,-29.8200,  -1.0122, 4597,    106.3,  16.7150,  35.5690,2,  35.5570,2, 16.6970,    243.2,2
       74DI202,  AR09,    22,  1,   -999,     22,2,19930514,1918,-29.8200,  -1.0122, 4597,    207.2,  14.9620,  35.4140,2,  35.4120,2, 14.9300,    229.1,2
       74DI202,  AR09,    22,  1,   -999,     21,2,19930514,1918,-29.8200,  -1.0122, 4597,    308.7,  12.8980,  35.1060,2,  35.1060,2, 12.8550,    226.6,2
       74DI202,  AR09,    22,  1,   -999,     20,2,19930514,1918,-29.8200,  -1.0122, 4597,    409.5,  11.2650,  34.9330,2,  34.9330,2, 11.2130,    213.0,2
       74DI202,  AR09,    22,  1,   -999,     19,2,19930514,1918,-29.8200,  -1.0122, 4597,    512.0,   9.5310,  34.7420,2,  34.7460,2,  9.4730,   -999.0,9
       74DI202,  AR09,    22,  1,   -999,     18,2,19930514,1918,-29.8200,  -1.0122, 4597,    613.3,   7.4380,  34.5400,2,  34.5360,2,  7.3770,    198.4,2
       74DI202,  AR09,    22,  1,   -999,     17,2,19930514,1918,-29.8200,  -1.0122, 4597,    714.2,   6.0500,  34.4340,2,  34.4320,2,  5.9870,    192.1,2
       74DI202,  AR09,    22,  1,   -999,     16,2,19930514,1918,-29.8200,  -1.0122, 4597,    816.1,   5.1360,  34.3860,2,  34.3940,2,  5.0690,    200.4,2
       74DI202,  AR09,    22,  1,   -999,     15,2,19930514,1918,-29.8200,  -1.0122, 4597,    918.0,   4.3600,  34.3660,2,  34.3670,2,  4.2890,    193.9,2
       74DI202,  AR09,    22,  1,   -999,     14,2,19930514,1918,-29.8200,  -1.0122, 4597,   1018.1,   3.8320,  34.3860,2,  34.3870,2,  3.7570,    203.0,2
       74DI202,  AR09,    22,  1,   -999,     13,2,19930514,1918,-29.8200,  -1.0122, 4597,   1219.7,   3.2340,  34.4760,2,  34.4780,2,  3.1470,    194.9,2
       74DI202,  AR09,    22,  1,   -999,     12,2,19930514,1918,-29.8200,  -1.0122, 4597,   1419.9,   3.0550,  34.6240,2,  34.6240,2,  2.9540,    184.1,2
       74DI202,  AR09,    22,  1,   -999,     11,2,19930514,1918,-29.8200,  -1.0122, 4597,   1621.6,   2.9910,  34.7130,2,  34.7110,2,  2.8720,    194.3,2
       74DI202,  AR09,    22,  1,   -999,     10,2,19930514,1918,-29.8200,  -1.0122, 4597,   1826.6,   2.9260,  34.7770,2,  34.7780,2,  2.7900,    205.6,2
       74DI202,  AR09,    22,  1,   -999,      9,2,19930514,1918,-29.8200,  -1.0122, 4597,   2032.1,   2.7530,  34.8080,2,  34.8060,2,  2.6020,    213.8,2
       74DI202,  AR09,    22,  1,   -999,      8,2,19930514,1918,-29.8200,  -1.0122, 4597,   2237.5,   2.5900,  34.8210,2,  34.8250,2,  2.4230,    219.2,2
       74DI202,  AR09,    22,  1,   -999,      7,2,19930514,1918,-29.8200,  -1.0122, 4597,   2540.0,   2.4540,  34.8470,2,  34.8480,2,  2.2610,    228.3,2
       74DI202,  AR09,    22,  1,   -999,      6,2,19930514,1918,-29.8200,  -1.0122, 4597,   2845.6,   2.3870,  34.8650,2,  34.8650,2,  2.1660,   -999.0,9
       74DI202,  AR09,    22,  1,   -999,      5,2,19930514,1918,-29.8200,  -1.0122, 4597,   3151.5,   2.3590,  34.8750,2,  34.8750,2,  2.1070,   -999.0,9
       74DI202,  AR09,    22,  1,   -999,      4,2,19930514,1918,-29.8200,  -1.0122, 4597,   3457.2,   2.3570,  34.8800,2,  34.8800,2,  2.0730,   -999.0,9
       74DI202,  AR09,    22,  1,   -999,      3,2,19930514,1918,-29.8200,  -1.0122, 4597,   3764.7,   2.3580,  34.8820,2,  34.8830,2,  2.0410,   -999.0,9
       74DI202,  AR09,    22,  1,   -999,      2,2,19930514,1918,-29.8200,  -1.0122, 4597,   4071.2,   2.3450,  34.8780,2,  34.8750,2,  1.9930,   -999.0,9
       74DI202,  AR09,    22,  1,   -999,      1,2,19930514,1918,-29.8200,  -1.0122, 4597,   4566.9,   2.3470,  34.8730,2,  34.8740,2,  1.9370,    234.1,2
       74DI202,  AR09,    23,  1,   -999,     24,2,19930515,0552,-30.9945,  -1.6623, 4320,     15.1,  19.9190,  35.8290,2,  35.8300,2, 19.9160,    228.3,2
       74DI202,  AR09,    23,  1,   -999,     23,2,19930515,0552,-30.9945,  -1.6623, 4320,     29.7,  19.9150,  35.8300,2,  35.8290,2, 19.9090,    227.2,2
       74DI202,  AR09,    23,  1,   -999,     22,2,19930515,0552,-30.9945,  -1.6623, 4320,     54.5,  19.9080,  35.8270,2,  35.8290,2, 19.8980,    232.6,2
       74DI202,  AR09,    23,  1,   -999,     21,2,19930515,0552,-30.9945,  -1.6623, 4320,    105.4,  16.1560,  35.5140,2,  35.5150,2, 16.1390,    238.5,2
       74DI202,  AR09,    23,  1,   -999,     20,2,19930515,0552,-30.9945,  -1.6623, 4320,    180.5,  15.2990,  35.4810,2,  35.4810,2, 15.2710,   -999.0,9
       74DI202,  AR09,    23,  1,   -999,     19,2,19930515,0552,-30.9945,  -1.6623, 4320,    256.9,  14.4140,  35.3150,2,  35.3160,2, 14.3760,    233.1,2
       74DI202,  AR09,    23,  1,   -999,     18,2,19930515,0552,-30.9945,  -1.6623, 4320,    384.0,  12.4560,  35.0590,2,  35.0600,2, 12.4040,    215.1,2
       74DI202,  AR09,    23,  1,   -999,     17,2,19930515,0552,-30.9945,  -1.6623, 4320,    460.2,  11.4700,  34.9480,2,  34.9540,2, 11.4110,    211.1,2
       74DI202,  AR09,    23,  1,   -999,     16,2,19930515,0552,-30.9945,  -1.6623, 4320,    561.0,   9.2970,  34.7160,2,  34.7180,2,  9.2330,    192.5,2
       74DI202,  AR09,    23,  1,   -999,     15,2,19930515,0552,-30.9945,  -1.6623, 4320,    712.8,   6.4680,  34.4500,2,  34.4520,2,  6.4020,    199.5,2
       74DI202,  AR09,    23,  1,   -999,     14,2,19930515,0552,-30.9945,  -1.6623, 4320,    864.2,   4.7000,  34.3310,2,  34.3360,2,  4.6310,    216.0,2
       74DI202,  AR09,    23,  1,   -999,     13,2,19930515,0552,-30.9945,  -1.6623, 4320,   1014.1,   3.6970,  34.3430,2,  34.3460,2,  3.6230,    207.1,2
       74DI202,  AR09,    23,  1,   -999,     12,2,19930515,0552,-30.9945,  -1.6623, 4320,   1263.4,   3.1560,  34.4810,2,-999.0000,9,  3.0660,    188.5,2
       74DI202,  AR09,    23,  1,   -999,     11,2,19930515,0552,-30.9945,  -1.6623, 4320,   1512.8,   3.0160,  34.6330,2,-999.0000,9,  2.9070,    188.7,2
       74DI202,  AR09,    23,  1,   -999,     10,2,19930515,0552,-30.9945,  -1.6623, 4320,   1713.0,   2.8910,  34.7150,2,  34.7170,2,  2.7660,    196.4,2
       74DI202,  AR09,    23,  1,   -999,      9,2,19930515,0552,-30.9945,  -1.6623, 4320,   1911.4,   2.7890,  34.7710,2,  34.7710,2,  2.6480,    207.6,2
       74DI202,  AR09,    23,  1,   -999,      8,2,19930515,0552,-30.9945,  -1.6623, 4320,   2211.9,   2.5950,  34.8130,2,  34.8150,2,  2.4300,    218.7,2
       74DI202,  AR09,    23,  1,   -999,      7,2,19930515,0552,-30.9945,  -1.6623, 4320,   2515.0,   2.4680,  34.8420,2,  34.8420,2,  2.2770,    227.5,2
       74DI202,  AR09,    23,  1,   -999,      6,2,19930515,0552,-30.9945,  -1.6623, 4320,   2820.5,   2.3910,  34.8590,2,  34.8590,2,  2.1720,    234.5,2
       74DI202,  AR09,    23,  1,   -999,      5,2,19930515,0552,-30.9945,  -1.6623, 4320,   3128.0,   2.3430,  34.8710,2,  34.8710,2,  2.0940,    234.9,2
       74DI202,  AR09,    23,  1,   -999,      4,2,19930515,0552,-30.9945,  -1.6623, 4320,   3434.8,   2.3330,  34.8770,2,  34.8760,2,  2.0520,    234.8,2
       74DI202,  AR09,    23,  1,   -999,      3,2,19930515,0552,-30.9945,  -1.6623, 4320,   3742.8,   2.3260,  34.8760,2,  34.8770,2,  2.0110,    232.9,2
       74DI202,  AR09,    23,  1,   -999,      2,2,19930515,0552,-30.9945,  -1.6623, 4320,   4048.1,   2.3310,  34.8770,2,-999.0000,9,  1.9820,   -999.0,9
       74DI202,  AR09,    23,  1,   -999,      1,2,19930515,0552,-30.9945,  -1.6623, 4320,   4399.7,   2.2940,  34.8670,2,  34.8750,2,  1.9050,    234.3,2
       74DI202,  AR09,    24,  1,   -999,     24,2,19930515,1443,-32.0032,  -1.9977, 2777,     13.2,  19.3120,  35.6750,2,  35.6710,2, 19.3090,    222.5,2
       74DI202,  AR09,    24,  1,   -999,     23,2,19930515,1443,-32.0032,  -1.9977, 2777,     32.6,  19.3620,  35.6870,2,  35.7120,2, 19.3560,    221.1,2
       74DI202,  AR09,    24,  1,   -999,     22,2,19930515,1443,-32.0032,  -1.9977, 2777,     78.8,  17.3680,  35.6020,2,  35.6050,2, 17.3550,    236.1,2
       74DI202,  AR09,    24,  1,   -999,     21,2,19930515,1443,-32.0032,  -1.9977, 2777,    153.2,  15.3670,  35.4530,2,  35.4510,2, 15.3440,    225.0,2
       74DI202,  AR09,    24,  1,   -999,     20,2,19930515,1443,-32.0032,  -1.9977, 2777,    254.3,  13.4860,  35.1680,2,  35.1750,2, 13.4500,    212.1,2
       74DI202,  AR09,    24,  1,   -999,     19,2,19930515,1443,-32.0032,  -1.9977, 2777,    401.1,  11.1020,  34.9170,2,  34.9140,2, 11.0520,    202.4,2
       74DI202,  AR09,    24,  1,   -999,     18,2,19930515,1443,-32.0032,  -1.9977, 2777,    500.7,   9.2360,  34.7100,2,  34.7060,2,  9.1800,    200.1,2
       74DI202,  AR09,    24,  1,   -999,     17,2,19930515,1443,-32.0032,  -1.9977, 2777,    607.3,   7.4310,  34.5310,2,  34.5300,2,  7.3710,    194.2,2
       74DI202,  AR09,    24,  1,   -999,     16,2,19930515,1443,-32.0032,  -1.9977, 2777,    705.7,   5.8540,  34.3970,2,  34.3990,2,  5.7930,    214.6,2
       74DI202,  AR09,    24,  1,   -999,     15,2,19930515,1443,-32.0032,  -1.9977, 2777,    801.6,   4.6420,  34.3120,2,  34.3120,2,  4.5780,    216.2,2
       74DI202,  AR09,    24,  1,   -999,     14,2,19930515,1443,-32.0032,  -1.9977, 2777,    902.7,   3.7130,  34.2830,2,  34.2850,2,  3.6480,   -999.0,9
       74DI202,  AR09,    24,  1,   -999,     13,2,19930515,1443,-32.0032,  -1.9977, 2777,    998.2,   3.5130,  34.3290,2,  34.3290,2,  3.4420,    210.8,2
       74DI202,  AR09,    24,  1,   -999,     12,2,19930515,1443,-32.0032,  -1.9977, 2777,   1090.8,   3.2560,  34.3830,2,  34.3880,2,  3.1800,    203.4,2
       74DI202,  AR09,    24,  1,   -999,     11,2,19930515,1443,-32.0032,  -1.9977, 2777,   1186.1,   3.0500,  34.4290,2,  34.4240,2,  2.9670,    199.8,2
       74DI202,  AR09,    24,  1,   -999,     10,2,19930515,1443,-32.0032,  -1.9977, 2777,   1346.9,   2.8480,  34.5380,2,  34.5380,2,  2.7540,    192.5,2
       74DI202,  AR09,    24,  1,   -999,      9,2,19930515,1443,-32.0032,  -1.9977, 2777,   1508.0,   2.7970,  34.6250,2,  34.6230,2,  2.6910,    193.3,2
       74DI202,  AR09,    24,  1,   -999,      8,2,19930515,1443,-32.0032,  -1.9977, 2777,   1668.2,   2.7660,  34.6860,2,  34.6940,2,  2.6470,    197.6,2
       74DI202,  AR09,    24,  1,   -999,      7,2,19930515,1443,-32.0032,  -1.9977, 2777,   1825.4,   2.7290,  34.7450,2,  34.7440,2,  2.5970,    194.9,2
       74DI202,  AR09,    24,  1,   -999,      6,2,19930515,1443,-32.0032,  -1.9977, 2777,   1980.6,   2.6760,  34.7780,2,  34.7780,2,  2.5300,    207.3,2
       74DI202,  AR09,    24,  1,   -999,      5,2,19930515,1443,-32.0032,  -1.9977, 2777,   2128.3,   2.5990,  34.8070,2,  34.8050,2,  2.4410,    219.3,2
       74DI202,  AR09,    24,  1,   -999,      4,2,19930515,1443,-32.0032,  -1.9977, 2777,   2301.0,   2.5440,  34.8230,2,  34.8200,2,  2.3710,    225.6,2
       74DI202,  AR09,    24,  1,   -999,      3,2,19930515,1443,-32.0032,  -1.9977, 2777,   2564.6,   2.4440,  34.8470,2,  34.8460,2,  2.2490,    231.6,2
       74DI202,  AR09,    24,  1,   -999,      2,2,19930515,1443,-32.0032,  -1.9977, 2777,   2797.6,   2.3870,  34.8590,2,  34.8590,2,  2.1700,   -999.0,9
       74DI202,  AR09,    24,  1,   -999,      1,2,19930515,1443,-32.0032,  -1.9977, 2777,   2882.9,   2.3620,  34.8640,2,  34.8640,2,  2.1370,    237.5,2
       74DI202,  AR09,    25,  1,   -999,     24,2,19930515,2226,-32.8332,  -1.4213, 4054,     15.8,  18.0780,  35.3680,2,  35.3640,2, 18.0750,    232.8,2
       74DI202,  AR09,    25,  1,   -999,     23,2,19930515,2226,-32.8332,  -1.4213, 4054,     96.3,  15.8290,  35.4190,2,  35.4120,2, 15.8140,    235.9,2
       74DI202,  AR09,    25,  1,   -999,     22,2,19930515,2226,-32.8332,  -1.4213, 4054,    197.8,  13.1790,  35.1290,2,-999.0000,9, 13.1510,    224.1,2
       74DI202,  AR09,    25,  1,   -999,     21,2,19930515,2226,-32.8332,  -1.4213, 4054,    297.5,  12.0470,  35.0270,2,  35.0280,2, 12.0070,    227.2,2
       74DI202,  AR09,    25,  1,   -999,     20,2,19930515,2226,-32.8332,  -1.4213, 4054,    399.2,  10.3950,  34.8320,2,  34.8290,2, 10.3470,    220.2,2
       74DI202,  AR09,    25,  1,   -999,     19,2,19930515,2226,-32.8332,  -1.4213, 4054,    500.9,   9.0620,  34.6930,2,  34.6860,2,  9.0060,    205.8,2
       74DI202,  AR09,    25,  1,   -999,     18,2,19930515,2226,-32.8332,  -1.4213, 4054,    602.7,   7.2170,  34.5070,2,  34.5060,2,  7.1580,    207.5,2
       74DI202,  AR09,    25,  1,   -999,     17,2,19930515,2226,-32.8332,  -1.4213, 4054,    704.0,   5.8060,  34.3790,2,  34.3810,2,  5.7450,    218.4,2
       74DI202,  AR09,    25,  1,   -999,     16,2,19930515,2226,-32.8332,  -1.4213, 4054,    804.7,   4.6350,  34.3130,2,  34.3120,2,  4.5710,    220.9,2
       74DI202,  AR09,    25,  1,   -999,     15,2,19930515,2226,-32.8332,  -1.4213, 4054,    904.7,   4.1660,  34.3170,2,  34.3190,2,  4.0970,    216.9,2
       74DI202,  AR09,    25,  1,   -999,     14,2,19930515,2226,-32.8332,  -1.4213, 4054,   1005.3,   3.7110,  34.3380,2,  34.3410,2,  3.6370,    210.1,2
       74DI202,  AR09,    25,  1,   -999,     13,2,19930515,2226,-32.8332,  -1.4213, 4054,   1105.5,   3.3920,  34.3800,2,  34.3810,2,  3.3130,    200.0,2
       74DI202,  AR09,    25,  1,   -999,     12,2,19930515,2226,-32.8332,  -1.4213, 4054,   1205.3,   3.0780,  34.4280,2,  34.4280,2,  2.9940,    194.1,2
       74DI202,  AR09,    25,  1,   -999,     11,2,19930515,2226,-32.8332,  -1.4213, 4054,   1308.0,   2.9310,  34.4840,2,  34.4800,2,  2.8400,    192.5,2
       74DI202,  AR09,    25,  1,   -999,     10,2,19930515,2226,-32.8332,  -1.4213, 4054,   1407.4,   2.8650,  34.5510,2,  34.5490,2,  2.7670,    188.8,2
       74DI202,  AR09,    25,  1,   -999,      9,2,19930515,2226,-32.8332,  -1.4213, 4054,   1508.7,   2.8080,  34.6170,2,  34.6130,2,  2.7020,    187.9,2
       74DI202,  AR09,    25,  1,   -999,      8,2,19930515,2226,-32.8332,  -1.4213, 4054,   1809.1,   2.7600,  34.7390,2,  34.7430,2,  2.6280,    199.8,2
       74DI202,  AR09,    25,  1,   -999,      7,2,19930515,2226,-32.8332,  -1.4213, 4054,   2211.3,   2.5730,  34.8160,2,  34.8170,2,  2.4090,    219.7,2
       74DI202,  AR09,    25,  1,   -999,      6,2,19930515,2226,-32.8332,  -1.4213, 4054,   2621.5,   2.4340,  34.8480,2,  34.8470,2,  2.2330,    229.1,2
       74DI202,  AR09,    25,  1,   -999,      5,2,19930515,2226,-32.8332,  -1.4213, 4054,   2926.4,   2.3560,  34.8640,2,  34.8670,2,  2.1270,    233.9,2
       74DI202,  AR09,    25,  1,   -999,      4,2,19930515,2226,-32.8332,  -1.4213, 4054,   3435.6,   2.2400,  34.8690,2,  34.8700,2,  1.9610,    233.8,2
       74DI202,  AR09,    25,  1,   -999,      3,2,19930515,2226,-32.8332,  -1.4213, 4054,   3747.6,   1.9830,  34.8420,2,  34.8420,2,  1.6770,    229.4,2
       74DI202,  AR09,    25,  1,   -999,      2,2,19930515,2226,-32.8332,  -1.4213, 4054,   4061.2,   1.5090,  34.7860,2,  34.7860,2,  1.1820,    224.9,2
       74DI202,  AR09,    25,  1,   -999,      1,2,19930515,2226,-32.8332,  -1.4213, 4054,   4105.0,   1.4000,  34.7740,2,  34.7720,2,  1.0710,    221.8,2
       74DI202,  AR09,    26,  1,   -999,     24,2,19930516,0711,-32.8358,  -0.2522, 1791,      2.8,  17.8170,  35.2770,2,-999.0000,9, 17.8170,    237.1,2
       74DI202,  AR09,    26,  1,   -999,     23,2,19930516,0711,-32.8358,  -0.2522, 1791,     13.3,  17.8120,  35.2770,2,  35.2760,2, 17.8090,    236.8,2
       74DI202,  AR09,    26,  1,   -999,     22,2,19930516,0711,-32.8358,  -0.2522, 1791,     44.0,  17.8020,  35.2750,2,  35.2730,2, 17.7940,    239.2,2
       74DI202,  AR09,    26,  1,   -999,     21,2,19930516,0711,-32.8358,  -0.2522, 1791,     83.3,  15.9190,  35.4140,2,  35.3980,2, 15.9060,    245.2,2
       74DI202,  AR09,    26,  1,   -999,     20,2,19930516,0711,-32.8358,  -0.2522, 1791,    104.3,  15.3960,  35.4200,2,  35.4170,2, 15.3800,    234.4,2
       74DI202,  AR09,    26,  1,   -999,     19,2,19930516,0711,-32.8358,  -0.2522, 1791,    124.0,  14.9560,  35.3660,2,  35.3640,2, 14.9380,    229.4,2
       74DI202,  AR09,    26,  1,   -999,     18,2,19930516,0711,-32.8358,  -0.2522, 1791,    164.6,  13.8200,  35.1840,2,  35.1840,2, 13.7970,    230.2,2
       74DI202,  AR09,    26,  1,   -999,     17,2,19930516,0711,-32.8358,  -0.2522, 1791,    205.0,  13.1760,  35.0910,2,  35.0930,2, 13.1470,    232.4,2
       74DI202,  AR09,    26,  1,   -999,     16,2,19930516,0711,-32.8358,  -0.2522, 1791,    305.9,  12.3570,  35.0320,2,  35.0300,2, 12.3160,    232.2,2
       74DI202,  AR09,    26,  1,   -999,     15,2,19930516,0711,-32.8358,  -0.2522, 1791,    406.0,  10.8150,  34.8580,2,  34.8570,2, 10.7650,    223.6,2
       74DI202,  AR09,    26,  1,   -999,     14,2,19930516,0711,-32.8358,  -0.2522, 1791,    508.4,   9.2610,  34.6980,2,  34.6990,2,  9.2040,    214.6,2
       74DI202,  AR09,    26,  1,   -999,     13,2,19930516,0711,-32.8358,  -0.2522, 1791,    609.7,   7.2640,  34.4890,2,  34.4900,2,  7.2050,    219.8,2
       74DI202,  AR09,    26,  1,   -999,     12,2,19930516,0711,-32.8358,  -0.2522, 1791,    711.7,   5.7050,  34.3420,2,  34.3430,2,  5.6440,    230.0,2
       74DI202,  AR09,    26,  1,   -999,     11,2,19930516,0711,-32.8358,  -0.2522, 1791,    812.4,   4.5770,  34.2760,2,  34.2780,2,  4.5130,    234.6,2
       74DI202,  AR09,    26,  1,   -999,     10,2,19930516,0711,-32.8358,  -0.2522, 1791,    913.7,   4.1460,  34.2990,2,  34.3090,2,  4.0770,    221.7,2
       74DI202,  AR09,    26,  1,   -999,      8,2,19930516,0711,-32.8358,  -0.2522, 1791,   1014.2,   3.6120,  34.3200,2,  34.3210,2,  3.5390,    218.0,2
       74DI202,  AR09,    26,  1,   -999,      9,2,19930516,0711,-32.8358,  -0.2522, 1791,   1014.7,   3.6130,  34.3200,2,  34.3210,2,  3.5400,   -999.0,9
       74DI202,  AR09,    26,  1,   -999,      7,2,19930516,0711,-32.8358,  -0.2522, 1791,   1115.0,   3.2630,  34.3760,2,  34.3770,2,  3.1850,    201.8,2
       74DI202,  AR09,    26,  1,   -999,      6,2,19930516,0711,-32.8358,  -0.2522, 1791,   1213.7,   3.1660,  34.4620,2,  34.4630,2,  3.0800,    187.4,2
       74DI202,  AR09,    26,  1,   -999,      5,2,19930516,0711,-32.8358,  -0.2522, 1791,   1414.1,   2.9310,  34.5650,2,  34.5660,2,  2.8310,    183.8,2
       74DI202,  AR09,    26,  1,   -999,      4,2,19930516,0711,-32.8358,  -0.2522, 1791,   1513.8,   2.8820,  34.6250,2,  34.6250,2,  2.7750,    187.7,2
       74DI202,  AR09,    26,  1,   -999,      3,2,19930516,0711,-32.8358,  -0.2522, 1791,   1610.9,   2.8680,  34.6650,2,  34.6650,2,  2.7520,   -999.0,9
       74DI202,  AR09,    26,  1,   -999,      2,2,19930516,0711,-32.8358,  -0.2522, 1791,   1711.4,   2.8060,  34.6880,2,-999.0000,9,  2.6820,    193.6,2
       74DI202,  AR09,    26,  1,   -999,      1,2,19930516,0711,-32.8358,  -0.2522, 1791,   1879.6,   2.6670,  34.7700,2,  34.7680,2,  2.5300,   -999.0,9