BOTTLE,20050923WHPSIOSA
EXPOCODE,SECT_ID,STNNBR,CASTNO,SAMPNO,BTLNBR,BTLNBR_FLAG_W,DATE,TIME,LATITUDE,LONGITUDE,DEPTH,CTDPRS,CTDTMP,CTDSAL,CTDSAL_FLAG_W,SALNTY,SALNTY_FLAG_W,THETA,OXYGEN,OXYGEN_FLAG_W
,,,,,,,,,,,,DBAR,ITS-68,PSS-78,,PSS-78,,DEG C,UMOL/KG,
       74DI202,  AR09,    59,  1,   -999,     24,2,19930528,1953,-33.4958,  12.4933, 4566,     14.7,  18.2420,  35.5530,2,-999.0000,9, 18.2400,    231.9,2
       74DI202,  AR09,    59,  1,   -999,     23,2,19930528,1953,-33.4958,  12.4933, 4566,     55.0,  18.2400,  35.5510,2,  35.5480,2, 18.2300,    234.2,2
       74DI202,  AR09,    59,  1,   -999,     22,2,19930528,1953,-33.4958,  12.4933, 4566,    106.3,  17.4750,  35.4600,2,-999.0000,9, 17.4580,    237.6,2
       74DI202,  AR09,    59,  1,   -999,     21,2,19930528,1953,-33.4958,  12.4933, 4566,    154.3,  15.9000,  35.4690,2,-999.0000,9, 15.8750,    207.5,2
       74DI202,  AR09,    59,  1,   -999,     20,2,19930528,1953,-33.4958,  12.4933, 4566,    206.0,  14.2540,  35.2880,2,  35.2890,2, 14.2240,    221.7,2
       74DI202,  AR09,    59,  1,   -999,     19,2,19930528,1953,-33.4958,  12.4933, 4566,    257.2,  12.7830,  35.0880,2,-999.0000,9, 12.7480,    227.1,2
       74DI202,  AR09,    59,  1,   -999,     18,2,19930528,1953,-33.4958,  12.4933, 4566,    307.9,  11.8920,  34.9910,2,-999.0000,9, 11.8520,    227.3,2
       74DI202,  AR09,    59,  1,   -999,     17,2,19930528,1953,-33.4958,  12.4933, 4566,    358.3,  11.1980,  34.9170,2,  34.9220,2, 11.1530,    223.2,2
       74DI202,  AR09,    59,  1,   -999,     16,2,19930528,1953,-33.4958,  12.4933, 4566,    408.5,  10.2440,  34.8030,2,-999.0000,9, 10.1950,    223.0,2
       74DI202,  AR09,    59,  1,   -999,     15,2,19930528,1953,-33.4958,  12.4933, 4566,    459.5,   9.4250,  34.7200,2,  34.7190,2,  9.3730,    215.8,2
       74DI202,  AR09,    59,  1,   -999,     14,2,19930528,1953,-33.4958,  12.4933, 4566,    511.2,   8.5090,  34.6170,2,-999.0000,9,  8.4540,    214.0,2
       74DI202,  AR09,    59,  1,   -999,     13,2,19930528,1953,-33.4958,  12.4933, 4566,    560.7,   7.6340,  34.5420,2,  34.5450,2,  7.5780,    209.2,2
       74DI202,  AR09,    59,  1,   -999,     12,2,19930528,1953,-33.4958,  12.4933, 4566,    610.7,   6.6900,  34.4480,2,-999.0000,9,  6.6330,    215.9,2
       74DI202,  AR09,    59,  1,   -999,     11,2,19930528,1953,-33.4958,  12.4933, 4566,    662.1,   5.7170,  34.3450,2,  34.3470,2,  5.6600,    227.1,2
       74DI202,  AR09,    59,  1,   -999,     10,2,19930528,1953,-33.4958,  12.4933, 4566,    711.0,   5.2280,  34.3260,2,-999.0000,9,  5.1690,    227.4,2
       74DI202,  AR09,    59,  1,   -999,      9,2,19930528,1953,-33.4958,  12.4933, 4566,    762.6,   4.8560,  34.3210,2,  34.3220,2,  4.7950,    226.0,2
       74DI202,  AR09,    59,  1,   -999,      8,2,19930528,1953,-33.4958,  12.4933, 4566,    811.8,   4.4770,  34.3140,2,-999.0000,9,  4.4130,    224.6,2
       74DI202,  AR09,    59,  1,   -999,      7,2,19930528,1953,-33.4958,  12.4933, 4566,    863.4,   4.1210,  34.3230,2,  34.3230,2,  4.0560,    218.5,2
       74DI202,  AR09,    59,  1,   -999,      6,2,19930528,1953,-33.4958,  12.4933, 4566,    913.4,   3.9040,  34.3440,2,-999.0000,9,  3.8360,    211.5,2
       74DI202,  AR09,    59,  1,   -999,      5,2,19930528,1953,-33.4958,  12.4933, 4566,    963.2,   3.7550,  34.3640,2,  34.3640,2,  3.6840,    205.1,2
       74DI202,  AR09,    59,  1,   -999,      4,2,19930528,1953,-33.4958,  12.4933, 4566,   1010.3,   3.6160,  34.3920,2,-999.0000,9,  3.5420,    198.4,2
       74DI202,  AR09,    59,  1,   -999,      3,2,19930528,1953,-33.4958,  12.4933, 4566,   1103.3,   3.3190,  34.4360,2,  34.4340,2,  3.2410,   -999.0,9
       74DI202,  AR09,    59,  1,   -999,      2,2,19930528,1953,-33.4958,  12.4933, 4566,   1305.5,   2.9470,  34.5460,2,-999.0000,9,  2.8560,    180.7,2
       74DI202,  AR09,    59,  1,   -999,      1,2,19930528,1953,-33.4958,  12.4933, 4566,   1554.2,   2.8090,  34.6900,2,  34.6890,2,  2.6980,    188.4,2
       74DI202,  AR09,    60,  1,   -999,     24,2,19930529,0214,-34.0000,  12.8535, 1540,     12.4,  17.7080,  35.4520,2,-999.0000,9, 17.7050,    233.2,2
       74DI202,  AR09,    60,  1,   -999,     23,2,19930529,0214,-34.0000,  12.8535, 1540,     64.5,  17.6730,  35.4460,2,-999.0000,9, 17.6620,    232.9,2
       74DI202,  AR09,    60,  1,   -999,     22,2,19930529,0214,-34.0000,  12.8535, 1540,    104.9,  14.6070,  35.2980,2,-999.0000,9, 14.5920,    197.5,2
       74DI202,  AR09,    60,  1,   -999,     21,2,19930529,0214,-34.0000,  12.8535, 1540,    153.9,  13.0090,  35.0950,2,-999.0000,9, 12.9880,    223.1,2
       74DI202,  AR09,    60,  1,   -999,     20,2,19930529,0214,-34.0000,  12.8535, 1540,    205.5,  12.0120,  34.9910,2,-999.0000,9, 11.9850,    230.2,2
       74DI202,  AR09,    60,  1,   -999,     19,2,19930529,0214,-34.0000,  12.8535, 1540,    255.0,  11.1710,  34.9120,2,-999.0000,9, 11.1390,    227.1,2
       74DI202,  AR09,    60,  1,   -999,     18,2,19930529,0214,-34.0000,  12.8535, 1540,    304.9,  10.8990,  34.9230,2,  34.9200,2, 10.8610,    213.8,2
       74DI202,  AR09,    60,  1,   -999,     17,2,19930529,0214,-34.0000,  12.8535, 1540,    355.0,  10.0840,  34.8100,2,-999.0000,9, 10.0420,    217.3,2
       74DI202,  AR09,    60,  1,   -999,     16,2,19930529,0214,-34.0000,  12.8535, 1540,    406.5,   9.0930,  34.6620,2,  34.6600,2,  9.0480,    222.5,2
       74DI202,  AR09,    60,  1,   -999,     15,2,19930529,0214,-34.0000,  12.8535, 1540,    456.8,   8.4890,  34.6190,2,-999.0000,9,  8.4410,    215.2,2
       74DI202,  AR09,    60,  1,   -999,     14,2,19930529,0214,-34.0000,  12.8535, 1540,    508.1,   7.6390,  34.5450,2,  34.5400,2,  7.5890,    211.9,2
       74DI202,  AR09,    60,  1,   -999,     13,2,19930529,0214,-34.0000,  12.8535, 1540,    558.3,   7.0180,  34.4960,2,-999.0000,9,  6.9640,    207.8,2
       74DI202,  AR09,    60,  1,   -999,     12,2,19930529,0214,-34.0000,  12.8535, 1540,    608.5,   6.4460,  34.4520,2,  34.4540,2,  6.3910,    208.3,2
       74DI202,  AR09,    60,  1,   -999,     11,2,19930529,0214,-34.0000,  12.8535, 1540,    662.5,   5.6560,  34.3840,2,-999.0000,9,  5.6000,    216.4,2
       74DI202,  AR09,    60,  1,   -999,     10,2,19930529,0214,-34.0000,  12.8535, 1540,    710.7,   5.1300,  34.3460,2,  34.3440,2,  5.0720,    222.2,2
       74DI202,  AR09,    60,  1,   -999,      9,2,19930529,0214,-34.0000,  12.8535, 1540,    761.9,   4.8880,  34.3600,2,-999.0000,9,  4.8270,    214.7,2
       74DI202,  AR09,    60,  1,   -999,      7,2,19930529,0214,-34.0000,  12.8535, 1540,    811.3,   4.6010,  34.3650,2,-999.0000,9,  4.5370,    212.9,2
       74DI202,  AR09,    60,  1,   -999,      8,2,19930529,0214,-34.0000,  12.8535, 1540,    812.7,   4.5780,  34.3600,2,  34.3610,2,  4.5150,    211.7,2
       74DI202,  AR09,    60,  1,   -999,      6,2,19930529,0214,-34.0000,  12.8535, 1540,    862.5,   4.1950,  34.3600,2,  34.3610,2,  4.1290,    211.2,2
       74DI202,  AR09,    60,  1,   -999,      5,2,19930529,0214,-34.0000,  12.8535, 1540,    912.2,   4.0010,  34.3880,2,-999.0000,9,  3.9320,    203.3,2
       74DI202,  AR09,    60,  1,   -999,      4,2,19930529,0214,-34.0000,  12.8535, 1540,    960.3,   3.8480,  34.4090,2,-999.0000,9,  3.7770,    199.4,2
       74DI202,  AR09,    60,  1,   -999,      3,2,19930529,0214,-34.0000,  12.8535, 1540,   1005.1,   3.4560,  34.3980,2,-999.0000,9,  3.3840,    197.7,2
       74DI202,  AR09,    60,  1,   -999,      2,2,19930529,0214,-34.0000,  12.8535, 1540,   1213.0,   3.0390,  34.5160,2,  34.5150,2,  2.9550,    181.0,2
       74DI202,  AR09,    60,  1,   -999,      1,2,19930529,0214,-34.0000,  12.8535, 1540,   1558.3,   2.8070,  34.7030,2,  34.7010,2,  2.6960,    189.7,2
       74DI202,  AR09,    61,  1,   -999,     24,2,19930529,0757,-34.4987,  13.2338, 1540,     13.2,  20.3900,  35.4730,2,-999.0000,9, 20.3900,    225.8,2
       74DI202,  AR09,    61,  1,   -999,     23,2,19930529,0757,-34.4987,  13.2338, 1540,     62.6,  18.9200,  35.4180,2,  35.4580,2, 18.9000,    221.4,2
       74DI202,  AR09,    61,  1,   -999,     22,2,19930529,0757,-34.4987,  13.2338, 1540,    105.2,  15.4800,  35.2740,2,  35.2730,2, 15.4700,    205.1,2
       74DI202,  AR09,    61,  1,   -999,     21,2,19930529,0757,-34.4987,  13.2338, 1540,    155.0,  14.1300,  35.2800,2,  35.2770,2, 14.1100,    216.6,2
       74DI202,  AR09,    61,  1,   -999,     20,2,19930529,0757,-34.4987,  13.2338, 1540,    204.0,  12.8500,  35.0840,2,-999.0000,9, 12.8200,    226.9,2
       74DI202,  AR09,    61,  1,   -999,     19,2,19930529,0757,-34.4987,  13.2338, 1540,    254.7,  12.1400,  35.0420,2,  35.0460,2, 12.1100,    222.9,2
       74DI202,  AR09,    61,  1,   -999,     18,2,19930529,0757,-34.4987,  13.2338, 1540,    307.1,  10.3900,  34.7900,2,-999.0000,9, 10.3500,    230.3,2
       74DI202,  AR09,    61,  1,   -999,     17,2,19930529,0757,-34.4987,  13.2338, 1540,    355.9,  10.0700,  34.8090,2,-999.0000,9, 10.0200,    207.7,2
       74DI202,  AR09,    61,  1,   -999,     16,2,19930529,0757,-34.4987,  13.2338, 1540,    408.5,   8.4920,  34.6020,2,  34.5920,2,  8.4480,    237.0,2
       74DI202,  AR09,    61,  1,   -999,     15,2,19930529,0757,-34.4987,  13.2338, 1540,    456.7,   7.7410,  34.4920,2,-999.0000,9,  7.6960,    244.9,2
       74DI202,  AR09,    61,  1,   -999,     14,2,19930529,0757,-34.4987,  13.2338, 1540,    510.2,   7.7380,  34.5910,2,-999.0000,9,  7.6870,    202.0,2
       74DI202,  AR09,    61,  1,   -999,     13,2,19930529,0757,-34.4987,  13.2338, 1540,    560.5,   6.4630,  34.4410,2,  34.4400,2,  6.4120,    217.6,2
       74DI202,  AR09,    61,  1,   -999,     12,2,19930529,0757,-34.4987,  13.2338, 1540,    610.0,   5.9360,  34.4220,2,  34.4290,2,  5.8830,    209.1,2
       74DI202,  AR09,    61,  1,   -999,     11,2,19930529,0757,-34.4987,  13.2338, 1540,    612.6,   5.8730,  34.4230,2,-999.0000,9,  5.8200,    209.8,2
       74DI202,  AR09,    61,  1,   -999,     10,2,19930529,0757,-34.4987,  13.2338, 1540,    660.9,   5.2810,  34.3670,2,-999.0000,9,  5.2270,    215.7,2
       74DI202,  AR09,    61,  1,   -999,      9,2,19930529,0757,-34.4987,  13.2338, 1540,    710.9,   4.7470,  34.3420,2,  34.3430,2,  4.6910,    220.6,2
       74DI202,  AR09,    61,  1,   -999,      8,2,19930529,0757,-34.4987,  13.2338, 1540,    765.3,   4.5480,  34.3690,2,-999.0000,9,  4.4890,    211.8,2
       74DI202,  AR09,    61,  1,   -999,      7,2,19930529,0757,-34.4987,  13.2338, 1540,    811.6,   4.4540,  34.3880,2,  34.3890,2,  4.3910,    204.3,2
       74DI202,  AR09,    61,  1,   -999,      6,2,19930529,0757,-34.4987,  13.2338, 1540,    863.9,   4.1180,  34.3900,2,-999.0000,9,  4.0530,    201.3,2
       74DI202,  AR09,    61,  1,   -999,      5,2,19930529,0757,-34.4987,  13.2338, 1540,    914.9,   3.8040,  34.4040,2,  34.4040,2,  3.7370,    196.7,2
       74DI202,  AR09,    61,  1,   -999,      4,2,19930529,0757,-34.4987,  13.2338, 1540,    962.1,   3.7050,  34.4340,2,-999.0000,9,  3.6350,    190.4,2
       74DI202,  AR09,    61,  1,   -999,      3,2,19930529,0757,-34.4987,  13.2338, 1540,   1003.1,   3.5830,  34.4490,2,  34.4490,2,  3.5100,    186.6,2
       74DI202,  AR09,    61,  1,   -999,      2,2,19930529,0757,-34.4987,  13.2338, 1540,   1206.7,   3.1150,  34.5520,2,-999.0000,9,  3.0300,    182.5,2
       74DI202,  AR09,    61,  1,   -999,      1,2,19930529,0757,-34.4987,  13.2338, 1540,   1548.3,   2.8190,  34.7060,2,  34.7040,2,  2.7090,    190.9,2
       74DI202,  AR09,    62,  1,   -999,     24,2,19930529,1338,-35.0000,  13.6338, 4689,     13.1,  17.6930,  35.4590,2,  35.4610,2, 17.6910,    240.8,2
       74DI202,  AR09,    62,  1,   -999,     23,2,19930529,1338,-35.0000,  13.6338, 4689,     53.3,  17.6710,  35.4600,2,  35.4590,2, 17.6620,    235.6,2
       74DI202,  AR09,    62,  1,   -999,     22,2,19930529,1338,-35.0000,  13.6338, 4689,    104.8,  14.3240,  35.2590,2,-999.0000,9, 14.3090,    201.9,2
       74DI202,  AR09,    62,  1,   -999,     21,2,19930529,1338,-35.0000,  13.6338, 4689,    154.5,  11.9630,  35.0180,2,-999.0000,9, 11.9430,    205.5,2
       74DI202,  AR09,    62,  1,   -999,     20,2,19930529,1338,-35.0000,  13.6338, 4689,    206.3,  10.4340,  34.8650,2,-999.0000,9, 10.4100,    190.2,2
       74DI202,  AR09,    62,  1,   -999,     19,2,19930529,1338,-35.0000,  13.6338, 4689,    255.3,   9.3820,  34.7120,2,  34.7060,2,  9.3530,    221.1,2
       74DI202,  AR09,    62,  1,   -999,     18,2,19930529,1338,-35.0000,  13.6338, 4689,    307.3,   8.7830,  34.6480,2,-999.0000,9,  8.7500,    222.4,2
       74DI202,  AR09,    62,  1,   -999,     17,2,19930529,1338,-35.0000,  13.6338, 4689,    356.9,   8.2080,  34.5980,2,  34.5980,2,  8.1710,    211.9,2
       74DI202,  AR09,    62,  1,   -999,     16,2,19930529,1338,-35.0000,  13.6338, 4689,    407.9,   7.6980,  34.5670,2,-999.0000,9,  7.6570,    196.6,2
       74DI202,  AR09,    62,  1,   -999,     15,2,19930529,1338,-35.0000,  13.6338, 4689,    456.5,   7.1860,  34.5350,2,  34.5340,2,  7.1420,    203.3,2
       74DI202,  AR09,    62,  1,   -999,     14,2,19930529,1338,-35.0000,  13.6338, 4689,    507.7,   6.4020,  34.4600,2,-999.0000,9,  6.3560,    207.6,2
       74DI202,  AR09,    62,  1,   -999,     13,2,19930529,1338,-35.0000,  13.6338, 4689,    556.9,   5.6480,  34.4040,2,  34.4070,2,  5.6010,    212.4,2
       74DI202,  AR09,    62,  1,   -999,     12,2,19930529,1338,-35.0000,  13.6338, 4689,    608.8,   5.0380,  34.3550,2,-999.0000,9,  4.9890,    222.1,2
       74DI202,  AR09,    62,  1,   -999,     11,2,19930529,1338,-35.0000,  13.6338, 4689,    660.0,   4.6790,  34.3470,2,  34.3480,2,  4.6270,    218.1,2
       74DI202,  AR09,    62,  1,   -999,     10,2,19930529,1338,-35.0000,  13.6338, 4689,    712.1,   4.7030,  34.4060,2,-999.0000,9,  4.6470,    203.3,2
       74DI202,  AR09,    62,  1,   -999,      9,2,19930529,1338,-35.0000,  13.6338, 4689,    761.4,   4.2810,  34.3840,2,  34.3860,2,  4.2230,    202.8,2
       74DI202,  AR09,    62,  1,   -999,      8,2,19930529,1338,-35.0000,  13.6338, 4689,    812.2,   4.1280,  34.4030,2,-999.0000,9,  4.0670,    201.1,2
       74DI202,  AR09,    62,  1,   -999,      7,2,19930529,1338,-35.0000,  13.6338, 4689,    862.6,   3.9930,  34.4290,2,  34.4260,2,  3.9280,    192.4,2
       74DI202,  AR09,    62,  1,   -999,      6,2,19930529,1338,-35.0000,  13.6338, 4689,    911.6,   3.7470,  34.4370,2,-999.0000,9,  3.6800,    191.5,2
       74DI202,  AR09,    62,  1,   -999,      5,2,19930529,1338,-35.0000,  13.6338, 4689,    962.3,   3.8100,  34.4980,2,  34.4880,2,  3.7390,    178.7,2
       74DI202,  AR09,    62,  1,   -999,      4,2,19930529,1338,-35.0000,  13.6338, 4689,   1011.8,   3.5860,  34.4950,2,-999.0000,9,  3.5130,    178.8,2
       74DI202,  AR09,    62,  1,   -999,      3,2,19930529,1338,-35.0000,  13.6338, 4689,   1110.4,   3.3050,  34.5530,2,  34.5530,2,  3.2250,    172.9,2
       74DI202,  AR09,    62,  1,   -999,      2,2,19930529,1338,-35.0000,  13.6338, 4689,   1312.0,   2.8750,  34.6220,2,-999.0000,9,  2.7840,    180.3,2
       74DI202,  AR09,    62,  1,   -999,      1,2,19930529,1338,-35.0000,  13.6338, 4689,   1561.1,   2.7630,  34.7270,2,  34.7260,2,  2.6520,    194.3,2
       74DI202,  AR09,    63,  1,   -999,     24,2,19930529,1943,-35.5000,  13.3522, 4750,     14.0,  18.3930,  35.5130,2,-999.0000,9, 18.3910,    226.2,2
       74DI202,  AR09,    63,  1,   -999,     23,2,19930529,1943,-35.5000,  13.3522, 4750,     53.8,  18.3680,  35.5050,2,  35.5120,2, 18.3580,    224.8,2
       74DI202,  AR09,    63,  1,   -999,     22,2,19930529,1943,-35.5000,  13.3522, 4750,    104.4,  16.9330,  35.4620,2,-999.0000,9, 16.9160,    202.6,2
       74DI202,  AR09,    63,  1,   -999,     21,2,19930529,1943,-35.5000,  13.3522, 4750,    154.4,  15.2960,  35.3570,2,-999.0000,9, 15.2720,    209.8,2
       74DI202,  AR09,    63,  1,   -999,     20,2,19930529,1943,-35.5000,  13.3522, 4750,    204.8,  13.3860,  35.1530,2,-999.0000,9, 13.3570,    218.7,2
       74DI202,  AR09,    63,  1,   -999,     19,2,19930529,1943,-35.5000,  13.3522, 4750,    254.6,  12.5550,  35.0840,2,  35.0800,2, 12.5210,    223.6,2
       74DI202,  AR09,    63,  1,   -999,     18,2,19930529,1943,-35.5000,  13.3522, 4750,    304.7,  12.3590,  35.1290,2,-999.0000,9, 12.3180,    217.8,2
       74DI202,  AR09,    63,  1,   -999,     17,2,19930529,1943,-35.5000,  13.3522, 4750,    355.6,  11.4350,  34.9880,2,  34.9850,2, 11.3900,    215.4,2
       74DI202,  AR09,    63,  1,   -999,     16,2,19930529,1943,-35.5000,  13.3522, 4750,    408.2,  10.6400,  34.8810,2,-999.0000,9, 10.5900,    216.7,2
       74DI202,  AR09,    63,  1,   -999,     15,2,19930529,1943,-35.5000,  13.3522, 4750,    456.5,   9.5260,  34.7030,2,  34.7180,2,  9.4740,    227.4,2
       74DI202,  AR09,    63,  1,   -999,     14,2,19930529,1943,-35.5000,  13.3522, 4750,    508.8,   8.9180,  34.6690,2,-999.0000,9,  8.8630,    218.8,2
       74DI202,  AR09,    63,  1,   -999,     13,2,19930529,1943,-35.5000,  13.3522, 4750,    560.1,   8.5050,  34.6610,2,  34.6570,2,  8.4450,    203.3,2
       74DI202,  AR09,    63,  1,   -999,     12,2,19930529,1943,-35.5000,  13.3522, 4750,    609.2,   7.8250,  34.6120,2,-999.0000,9,  7.7620,    193.9,2
       74DI202,  AR09,    63,  1,   -999,     11,2,19930529,1943,-35.5000,  13.3522, 4750,    659.3,   7.3450,  34.5990,2,  34.5970,2,  7.2800,    182.3,2
       74DI202,  AR09,    63,  1,   -999,     10,2,19930529,1943,-35.5000,  13.3522, 4750,    709.9,   6.9300,  34.5930,2,-999.0000,9,  6.8610,    172.3,2
       74DI202,  AR09,    63,  1,   -999,      9,2,19930529,1943,-35.5000,  13.3522, 4750,    761.4,   5.2910,  34.3610,2,  34.3660,2,  5.2270,    217.6,2
       74DI202,  AR09,    63,  1,   -999,      8,2,19930529,1943,-35.5000,  13.3522, 4750,    810.5,   4.7940,  34.3240,2,-999.0000,9,  4.7290,    224.6,2
       74DI202,  AR09,    63,  1,   -999,      7,2,19930529,1943,-35.5000,  13.3522, 4750,    859.3,   4.5250,  34.3340,2,  34.3370,2,  4.4570,    219.2,2
       74DI202,  AR09,    63,  1,   -999,      6,2,19930529,1943,-35.5000,  13.3522, 4750,    909.4,   4.5310,  34.3910,2,-999.0000,9,  4.4600,    202.5,2
       74DI202,  AR09,    63,  1,   -999,      5,2,19930529,1943,-35.5000,  13.3522, 4750,    958.4,   3.7800,  34.3370,2,  34.3360,2,  3.7090,    213.8,2
       74DI202,  AR09,    63,  1,   -999,      4,2,19930529,1943,-35.5000,  13.3522, 4750,   1003.9,   3.7150,  34.3750,2,-999.0000,9,  3.6410,    202.5,2
       74DI202,  AR09,    63,  1,   -999,      3,2,19930529,1943,-35.5000,  13.3522, 4750,   1100.3,   3.9970,  34.5230,2,  34.5210,2,  3.9120,    170.5,2
       74DI202,  AR09,    63,  1,   -999,      2,2,19930529,1943,-35.5000,  13.3522, 4750,   1297.0,   3.2340,  34.5710,2,-999.0000,9,  3.1400,    171.3,2
       74DI202,  AR09,    63,  1,   -999,      1,2,19930529,1943,-35.5000,  13.3522, 4750,   1540.7,   2.8260,  34.6720,2,  34.6720,2,  2.7170,    182.0,2