BOTTLE,20050923WHPSIOSA
EXPOCODE,SECT_ID,STNNBR,CASTNO,SAMPNO,BTLNBR,BTLNBR_FLAG_W,DATE,TIME,LATITUDE,LONGITUDE,DEPTH,CTDPRS,CTDTMP,CTDSAL,CTDSAL_FLAG_W,SALNTY,SALNTY_FLAG_W,THETA,OXYGEN,OXYGEN_FLAG_W
,,,,,,,,,,,,DBAR,ITS-68,PSS-78,,PSS-78,,DEG C,UMOL/KG,
       74DI202,  AR09,     8,  1,   -999,     24,2,19930510,0720,-30.0000,  10.0000, 4862,     14.3,  18.7300,  35.5060,2,  35.5070,2, 18.7280,    238.3,2
       74DI202,  AR09,     8,  1,   -999,     23,2,19930510,0720,-30.0000,  10.0000, 4862,     34.1,  18.7010,  35.5050,2,  35.5040,2, 18.6950,    238.9,2
       74DI202,  AR09,     8,  1,   -999,     22,2,19930510,0720,-30.0000,  10.0000, 4862,     63.8,  16.2390,  35.4500,2,  35.4450,2, 16.2280,    222.8,2
       74DI202,  AR09,     8,  1,   -999,     21,2,19930510,0720,-30.0000,  10.0000, 4862,    104.8,  14.7470,  35.3530,2,  35.3560,2, 14.7310,   -999.0,9
       74DI202,  AR09,     8,  1,   -999,     20,2,19930510,0720,-30.0000,  10.0000, 4862,    180.5,  13.2860,  35.1860,2,  35.1870,2, 13.2610,    221.3,2
       74DI202,  AR09,     8,  1,   -999,     19,2,19930510,0720,-30.0000,  10.0000, 4862,    256.6,  11.9810,  35.0210,2,  35.0250,2, 11.9470,    227.4,2
       74DI202,  AR09,     8,  1,   -999,     18,2,19930510,0720,-30.0000,  10.0000, 4862,    383.0,   9.8180,  34.7750,2,  34.7790,2,  9.7740,    194.0,2
       74DI202,  AR09,     8,  1,   -999,     17,2,19930510,0720,-30.0000,  10.0000, 4862,    509.1,   7.4900,  34.5510,2,  34.5470,2,  7.4400,    200.8,2
       74DI202,  AR09,     8,  1,   -999,     16,2,19930510,0720,-30.0000,  10.0000, 4862,    636.3,   5.5880,  34.3860,2,  34.3900,2,  5.5340,    210.3,2
       74DI202,  AR09,     8,  1,   -999,     15,2,19930510,0720,-30.0000,  10.0000, 4862,    761.5,   4.4420,  34.3610,2,  34.3620,2,  4.3830,    200.5,2
       74DI202,  AR09,     8,  1,   -999,     14,2,19930510,0720,-30.0000,  10.0000, 4862,    885.7,   3.8460,  34.4010,2,  34.4030,2,  3.7810,    189.9,2
       74DI202,  AR09,     8,  1,   -999,     13,2,19930510,0720,-30.0000,  10.0000, 4862,   1011.8,   3.5030,  34.4610,2,  34.4620,2,  3.4300,    183.4,2
       74DI202,  AR09,     8,  1,   -999,     12,2,19930510,0720,-30.0000,  10.0000, 4862,   1262.9,   3.2150,  34.6270,2,  34.6250,2,  3.1240,    185.4,2
       74DI202,  AR09,     8,  1,   -999,     11,2,19930510,0720,-30.0000,  10.0000, 4862,   1513.6,   2.9340,  34.7150,2,-999.0000,9,  2.8250,    197.0,2
       74DI202,  AR09,     8,  1,   -999,     10,2,19930510,0720,-30.0000,  10.0000, 4862,   2021.0,   2.8770,  34.8540,2,  34.8500,2,  2.7240,    226.9,2
       74DI202,  AR09,     8,  1,   -999,      9,2,19930510,0720,-30.0000,  10.0000, 4862,   2022.5,   2.8830,  34.8550,2,  34.8500,2,  2.7310,    227.9,2
       74DI202,  AR09,     8,  1,   -999,      8,2,19930510,0720,-30.0000,  10.0000, 4862,   2327.7,   2.6990,  34.8660,2,  34.8670,2,  2.5210,    235.5,2
       74DI202,  AR09,     8,  1,   -999,      7,2,19930510,0720,-30.0000,  10.0000, 4862,   2772.0,   2.4620,  34.8630,2,  34.8620,2,  2.2460,    236.2,2
       74DI202,  AR09,     8,  1,   -999,      6,2,19930510,0720,-30.0000,  10.0000, 4862,   3450.6,   2.2760,  34.8600,2,  34.8580,2,  1.9950,    236.7,2
       74DI202,  AR09,     8,  1,   -999,      5,2,19930510,0720,-30.0000,  10.0000, 4862,   3864.0,   1.9820,  34.8300,2,  34.8260,2,  1.6640,    233.3,2
       74DI202,  AR09,     8,  1,   -999,      4,2,19930510,0720,-30.0000,  10.0000, 4862,   4071.9,   1.6390,  34.7940,2,-999.0000,9,  1.3080,   -999.0,9
       74DI202,  AR09,     8,  1,   -999,      3,2,19930510,0720,-30.0000,  10.0000, 4862,   4327.5,   1.2960,  34.7590,2,  34.7550,2,  0.9460,    224.8,2
       74DI202,  AR09,     8,  1,   -999,      2,2,19930510,0720,-30.0000,  10.0000, 4862,   4582.4,   1.1690,  34.7460,2,  34.7460,2,  0.7950,    223.6,2
       74DI202,  AR09,     8,  1,   -999,      1,2,19930510,0720,-30.0000,  10.0000, 4862,   4929.2,   1.1460,  34.7380,2,  34.7410,2,  0.7320,    222.9,2
       74DI202,  AR09,     9,  1,   -999,     24,2,19930510,1417,-30.0002,   9.3662, 4921,     14.7,  18.6970,  35.4900,2,  35.4910,2, 18.6940,    236.6,2
       74DI202,  AR09,     9,  1,   -999,     23,2,19930510,1417,-30.0002,   9.3662, 4921,     29.5,  18.7050,  35.4910,2,  35.4920,2, 18.7000,    236.7,2
       74DI202,  AR09,     9,  1,   -999,     22,2,19930510,1417,-30.0002,   9.3662, 4921,     80.1,  16.6430,  35.4780,2,  35.4750,2, 16.6300,    213.1,2
       74DI202,  AR09,     9,  1,   -999,     21,2,19930510,1417,-30.0002,   9.3662, 4921,    130.0,  14.9450,  35.4000,2,  35.3950,2, 14.9260,    222.6,2
       74DI202,  AR09,     9,  1,   -999,     20,2,19930510,1417,-30.0002,   9.3662, 4921,    180.5,  13.7970,  35.2200,2,  35.2230,2, 13.7710,    226.5,2
       74DI202,  AR09,     9,  1,   -999,     19,2,19930510,1417,-30.0002,   9.3662, 4921,    256.4,  12.4430,  35.0830,2,  35.0840,2, 12.4090,    227.1,2
       74DI202,  AR09,     9,  1,   -999,     18,2,19930510,1417,-30.0002,   9.3662, 4921,    357.2,  10.8570,  34.8840,2,  34.8870,2, 10.8130,    218.9,2
       74DI202,  AR09,     9,  1,   -999,     17,2,19930510,1417,-30.0002,   9.3662, 4921,    483.4,   8.6170,  34.6400,2,  34.6400,2,  8.5660,    204.6,2
       74DI202,  AR09,     9,  1,   -999,     16,2,19930510,1417,-30.0002,   9.3662, 4921,    610.9,   6.5370,  34.4790,2,  34.4830,2,  6.4810,    179.6,2
       74DI202,  AR09,     9,  1,   -999,     15,2,19930510,1417,-30.0002,   9.3662, 4921,    762.4,   4.5070,  34.3210,2,  34.3230,2,  4.4480,    225.3,2
       74DI202,  AR09,     9,  1,   -999,     14,2,19930510,1417,-30.0002,   9.3662, 4921,    913.8,   3.7750,  34.3630,2,  34.3720,2,  3.7090,    208.2,2
       74DI202,  AR09,     9,  1,   -999,     13,2,19930510,1417,-30.0002,   9.3662, 4921,   1016.0,   3.3070,  34.4090,2,  34.4100,2,  3.2350,    197.8,2
       74DI202,  AR09,     9,  1,   -999,     12,2,19930510,1417,-30.0002,   9.3662, 4921,   1116.0,   3.1810,  34.4840,2,  34.4840,2,  3.1030,    186.9,2
       74DI202,  AR09,     9,  1,   -999,     11,2,19930510,1417,-30.0002,   9.3662, 4921,   1217.7,   3.0060,  34.5420,2,  34.5110,2,  2.9210,    186.4,2
       74DI202,  AR09,     9,  1,   -999,     10,2,19930510,1417,-30.0002,   9.3662, 4921,   1320.0,   2.9540,  34.6170,2,  34.6140,2,  2.8610,    186.7,2
       74DI202,  AR09,     9,  1,   -999,      9,2,19930510,1417,-30.0002,   9.3662, 4921,   1921.1,   2.8560,  34.8350,2,  34.8340,2,  2.7130,    222.2,2
       74DI202,  AR09,     9,  1,   -999,      8,2,19930510,1417,-30.0002,   9.3662, 4921,   2514.1,   2.5840,  34.8650,2,  34.8670,2,  2.3910,    237.4,2
       74DI202,  AR09,     9,  1,   -999,      7,2,19930510,1417,-30.0002,   9.3662, 4921,   3009.3,   2.3870,  34.8640,2,  34.8630,2,  2.1490,    235.8,2
       74DI202,  AR09,     9,  1,   -999,      6,2,19930510,1417,-30.0002,   9.3662, 4921,   3500.7,   2.2550,  34.8580,2,  34.8570,2,  1.9690,    236.2,2
       74DI202,  AR09,     9,  1,   -999,      5,2,19930510,1417,-30.0002,   9.3662, 4921,   4018.7,   1.6540,  34.7940,2,  34.7920,2,  1.3280,    226.6,2
       74DI202,  AR09,     9,  1,   -999,      4,2,19930510,1417,-30.0002,   9.3662, 4921,   4563.1,   1.1570,  34.7440,2,-999.0000,9,  0.7850,   -999.0,9
       74DI202,  AR09,     9,  1,   -999,      3,2,19930510,1417,-30.0002,   9.3662, 4921,   4563.6,   1.1570,  34.7430,2,  34.7410,2,  0.7850,    222.1,2
       74DI202,  AR09,     9,  1,   -999,      2,2,19930510,1417,-30.0002,   9.3662, 4921,   5016.5,   1.1600,  34.7390,2,-999.0000,9,  0.7340,   -999.0,9
       74DI202,  AR09,     9,  1,   -999,      1,2,19930510,1417,-30.0002,   9.3662, 4921,   5017.0,   1.1600,  34.7380,2,  34.7380,2,  0.7350,    222.7,2
       74DI202,  AR09,    10,  1,   -999,     24,2,19930510,2230,-30.0000,   8.7500, 4985,     13.8,  19.3030,  35.6820,2,  35.6830,2, 19.3000,    231.3,2
       74DI202,  AR09,    10,  1,   -999,     23,2,19930510,2230,-30.0000,   8.7500, 4985,     43.9,  19.3140,  35.6820,2,  35.6820,2, 19.3060,    231.8,2
       74DI202,  AR09,    10,  1,   -999,     22,2,19930510,2230,-30.0000,   8.7500, 4985,     73.9,  18.3850,  35.8600,2,  35.6690,2, 18.3720,    231.9,2
       74DI202,  AR09,    10,  1,   -999,     21,2,19930510,2230,-30.0000,   8.7500, 4985,    139.6,  15.2600,  35.4640,2,  35.4630,2, 15.2380,    229.5,2
       74DI202,  AR09,    10,  1,   -999,     20,2,19930510,2230,-30.0000,   8.7500, 4985,    266.4,  13.0600,  35.1140,2,  35.1150,2, 13.0240,    226.2,2
       74DI202,  AR09,    10,  1,   -999,     19,2,19930510,2230,-30.0000,   8.7500, 4985,    372.8,  11.4860,  34.9580,2,  34.9560,2, 11.4380,    220.0,2
       74DI202,  AR09,    10,  1,   -999,     18,2,19930510,2230,-30.0000,   8.7500, 4985,    498.4,   9.0760,  34.6950,2,  34.6910,2,  9.0210,    211.1,2
       74DI202,  AR09,    10,  1,   -999,     17,2,19930510,2230,-30.0000,   8.7500, 4985,    620.8,   6.7290,  34.4630,2,  34.4680,2,  6.6710,    212.5,2
       74DI202,  AR09,    10,  1,   -999,     16,2,19930510,2230,-30.0000,   8.7500, 4985,    745.6,   5.0000,  34.3390,2,-999.0000,9,  4.9390,    230.3,2
       74DI202,  AR09,    10,  1,   -999,     15,2,19930510,2230,-30.0000,   8.7500, 4985,    937.4,   3.8170,  34.3460,2,  34.3450,2,  3.7480,    209.3,2
       74DI202,  AR09,    10,  1,   -999,     14,2,19930510,2230,-30.0000,   8.7500, 4985,   1080.4,   3.3270,  34.4320,2,  34.4340,2,  3.2500,    191.2,2
       74DI202,  AR09,    10,  1,   -999,     13,2,19930510,2230,-30.0000,   8.7500, 4985,   1151.8,   3.2040,  34.4730,2,  34.4750,2,  3.1230,    183.9,2
       74DI202,  AR09,    10,  1,   -999,     12,2,19930510,2230,-30.0000,   8.7500, 4985,   1254.5,   3.0180,  34.5350,2,  34.5330,2,  2.9300,    180.0,2
       74DI202,  AR09,    10,  1,   -999,     11,2,19930510,2230,-30.0000,   8.7500, 4985,   1354.7,   2.9330,  34.5980,2,  34.5970,2,  2.8380,    181.9,2
       74DI202,  AR09,    10,  1,   -999,     10,2,19930510,2230,-30.0000,   8.7500, 4985,   1508.6,   2.8760,  34.6850,2,  34.6790,2,  2.7690,    188.7,2
       74DI202,  AR09,    10,  1,   -999,      9,2,19930510,2230,-30.0000,   8.7500, 4985,   1761.3,   2.8430,  34.7780,2,  34.7770,2,  2.7150,   -999.0,9
       74DI202,  AR09,    10,  1,   -999,      8,2,19930510,2230,-30.0000,   8.7500, 4985,   2162.2,   2.7170,  34.8430,2,  34.8420,2,  2.5550,    222.8,2
       74DI202,  AR09,    10,  1,   -999,      7,2,19930510,2230,-30.0000,   8.7500, 4985,   2879.3,   2.4030,  34.8620,2,  34.8610,2,  2.1780,    232.5,2
       74DI202,  AR09,    10,  1,   -999,      6,2,19930510,2230,-30.0000,   8.7500, 4985,   3180.4,   2.3320,  34.8610,2,-999.0000,9,  2.0780,   -999.0,9
       74DI202,  AR09,    10,  1,   -999,      5,2,19930510,2230,-30.0000,   8.7500, 4985,   3792.7,   1.9690,  34.8290,2,  34.8280,2,  1.6590,    223.4,2
       74DI202,  AR09,    10,  1,   -999,      3,2,19930510,2230,-30.0000,   8.7500, 4985,   4417.1,   1.2010,  34.7490,2,-999.0000,9,  0.8440,   -999.0,9
       74DI202,  AR09,    10,  1,   -999,      1,2,19930510,2230,-30.0000,   8.7500, 4985,   5060.8,   1.1650,  34.7400,2,  34.7460,2,  0.7350,    219.7,2
       74DI202,  AR09,    11,  1,   -999,     24,2,19930511,0551,-30.0000,   8.1112, 5087,     14.7,  19.2780,  35.6530,2,  35.6540,2, 19.2750,    230.1,2
       74DI202,  AR09,    11,  1,   -999,     23,2,19930511,0551,-30.0000,   8.1112, 5087,     45.0,  19.2700,  35.6550,2,  35.6520,2, 19.2610,    230.6,2
       74DI202,  AR09,    11,  1,   -999,     22,2,19930511,0551,-30.0000,   8.1112, 5087,     99.7,  16.3750,  35.4560,2,  35.4590,2, 16.3580,    236.3,2
       74DI202,  AR09,    11,  1,   -999,     21,2,19930511,0551,-30.0000,   8.1112, 5087,    170.4,  14.6980,  35.3480,2,  35.3530,2, 14.6730,    226.5,2
       74DI202,  AR09,    11,  1,   -999,     20,2,19930511,0551,-30.0000,   8.1112, 5087,    276.8,  13.0350,  35.1070,2,  35.1070,2, 12.9960,    222.7,2
       74DI202,  AR09,    11,  1,   -999,     19,2,19930511,0551,-30.0000,   8.1112, 5087,    421.8,  10.8650,  34.8790,2,  34.8870,2, 10.8130,    217.7,2
       74DI202,  AR09,    11,  1,   -999,     18,2,19930511,0551,-30.0000,   8.1112, 5087,    623.8,   7.0700,  34.4960,2,  34.4960,2,  7.0100,    204.4,2
       74DI202,  AR09,    11,  1,   -999,     17,2,19930511,0551,-30.0000,   8.1112, 5087,    824.2,   4.4580,  34.3330,2,  34.3420,2,  4.3940,    214.6,2
       74DI202,  AR09,    11,  1,   -999,     16,2,19930511,0551,-30.0000,   8.1112, 5087,   1000.2,   3.6410,  34.3760,2,-999.0000,9,  3.5680,   -999.0,9
       74DI202,  AR09,    11,  1,   -999,     15,2,19930511,0551,-30.0000,   8.1112, 5087,   1000.8,   3.6410,  34.3750,2,  34.3770,2,  3.5680,    199.7,2
       74DI202,  AR09,    11,  1,   -999,     14,2,19930511,0551,-30.0000,   8.1112, 5087,   1131.2,   3.2130,  34.4560,2,  34.4520,2,  3.1330,    187.1,2
       74DI202,  AR09,    11,  1,   -999,     13,2,19930511,0551,-30.0000,   8.1112, 5087,   1396.2,   2.9220,  34.6100,2,  34.6080,2,  2.8230,    182.3,2
       74DI202,  AR09,    11,  1,   -999,     12,2,19930511,0551,-30.0000,   8.1112, 5087,   1508.7,   2.9070,  34.6730,2,  34.6710,2,  2.7990,    187.8,2
       74DI202,  AR09,    11,  1,   -999,     11,2,19930511,0551,-30.0000,   8.1112, 5087,   1716.3,   2.9540,  34.7670,2,-999.0000,9,  2.8280,   -999.0,9
       74DI202,  AR09,    11,  1,   -999,     10,2,19930511,0551,-30.0000,   8.1112, 5087,   2015.8,   2.8060,  34.8290,2,  34.8350,2,  2.6550,    217.2,2
       74DI202,  AR09,    11,  1,   -999,      9,2,19930511,0551,-30.0000,   8.1112, 5087,   2369.5,   2.6230,  34.8540,2,  34.8510,2,  2.4420,    226.7,2
       74DI202,  AR09,    11,  1,   -999,      8,2,19930511,0551,-30.0000,   8.1112, 5087,   2828.5,   2.4100,  34.8590,2,  34.8630,2,  2.1900,    231.0,2
       74DI202,  AR09,    11,  1,   -999,      6,2,19930511,0551,-30.0000,   8.1112, 5087,   3337.6,   2.2790,  34.8610,2,  34.8580,2,  2.0090,    231.9,2
       74DI202,  AR09,    11,  1,   -999,      7,2,19930511,0551,-30.0000,   8.1112, 5087,   3337.9,   2.2800,  34.8600,2,  34.8640,2,  2.0100,    231.3,2
       74DI202,  AR09,    11,  1,   -999,      5,2,19930511,0551,-30.0000,   8.1112, 5087,   3952.3,   1.8700,  34.8180,2,  34.8160,2,  1.5450,    225.9,2
       74DI202,  AR09,    11,  1,   -999,      4,2,19930511,0551,-30.0000,   8.1112, 5087,   4416.9,   1.2820,  34.7580,2,  34.7560,2,  0.9230,    220.0,2
       74DI202,  AR09,    11,  1,   -999,      3,2,19930511,0551,-30.0000,   8.1112, 5087,   4776.4,   1.1640,  34.7420,2,  34.7400,2,  0.7670,    217.8,2
       74DI202,  AR09,    11,  1,   -999,      2,2,19930511,0551,-30.0000,   8.1112, 5087,   5013.2,   1.1600,  34.7410,2,  34.7430,2,  0.7350,    217.6,2
       74DI202,  AR09,    11,  1,   -999,      1,2,19930511,0551,-30.0000,   8.1112, 5087,   5172.2,   1.1540,  34.7390,2,  34.7360,2,  0.7100,    217.6,2
       74DI202,  AR09,    12,  1,   -999,     24,2,19930511,1309,-30.0063,   7.4962, 5170,     14.9,  19.2660,  35.7350,2,  35.7270,2, 19.2630,    229.9,2
       74DI202,  AR09,    12,  1,   -999,     23,2,19930511,1309,-30.0063,   7.4962, 5170,     34.1,  19.2220,  35.7390,2,  35.7400,2, 19.2160,    231.0,2
       74DI202,  AR09,    12,  1,   -999,     22,2,19930511,1309,-30.0063,   7.4962, 5170,     80.1,  17.4550,  35.5260,2,  35.5610,2, 17.4410,    235.0,2
       74DI202,  AR09,    12,  1,   -999,     21,2,19930511,1309,-30.0063,   7.4962, 5170,    154.5,  15.1970,  35.4500,2,  35.4500,2, 15.1730,    228.1,2
       74DI202,  AR09,    12,  1,   -999,     20,2,19930511,1309,-30.0063,   7.4962, 5170,    296.6,  13.1880,  35.1060,2,  35.1290,2, 13.1460,    219.0,2
       74DI202,  AR09,    12,  1,   -999,     19,2,19930511,1309,-30.0063,   7.4962, 5170,    438.3,  11.0120,  34.8970,2,  34.8950,2, 10.9570,    213.7,2
       74DI202,  AR09,    12,  1,   -999,     18,2,19930511,1309,-30.0063,   7.4962, 5170,    579.7,   8.6030,  34.6360,2,  34.6380,2,  8.5400,    205.0,2
       74DI202,  AR09,    12,  1,   -999,     17,2,19930511,1309,-30.0063,   7.4962, 5170,    722.4,   6.0450,  34.4170,2,  34.4110,2,  5.9810,    211.2,2
       74DI202,  AR09,    12,  1,   -999,     16,2,19930511,1309,-30.0063,   7.4962, 5170,    864.7,   4.4570,  34.3240,2,  34.3200,2,  4.3900,    217.2,2
       74DI202,  AR09,    12,  1,   -999,     15,2,19930511,1309,-30.0063,   7.4962, 5170,   1006.7,   3.6820,  34.3520,2,  34.3520,2,  3.6090,    205.0,2
       74DI202,  AR09,    12,  1,   -999,     14,2,19930511,1309,-30.0063,   7.4962, 5170,   1142.1,   3.3850,  34.4320,2,  34.4340,2,  3.3020,    188.6,2
       74DI202,  AR09,    12,  1,   -999,     13,2,19930511,1309,-30.0063,   7.4962, 5170,   1273.0,   3.1430,  34.5320,2,  34.5320,2,  3.0520,    179.7,2
       74DI202,  AR09,    12,  1,   -999,     12,2,19930511,1309,-30.0063,   7.4962, 5170,   1419.4,   3.0020,  34.6210,2,  34.6220,2,  2.9010,    182.7,2
       74DI202,  AR09,    12,  1,   -999,     11,2,19930511,1309,-30.0063,   7.4962, 5170,   1568.5,   3.0160,  34.7010,2,-999.0000,9,  2.9020,   -999.0,9
       74DI202,  AR09,    12,  1,   -999,     10,2,19930511,1309,-30.0063,   7.4962, 5170,   1927.9,   3.0290,  34.8280,2,  34.8300,2,  2.8830,    215.4,2
       74DI202,  AR09,    12,  1,   -999,      9,2,19930511,1309,-30.0063,   7.4962, 5170,   2281.7,   2.7760,  34.8510,2,  34.8500,2,  2.6010,    224.5,2
       74DI202,  AR09,    12,  1,   -999,      8,2,19930511,1309,-30.0063,   7.4962, 5170,   2640.5,   2.5600,  34.8550,2,  34.8520,2,  2.3550,    229.9,2
       74DI202,  AR09,    12,  1,   -999,      7,2,19930511,1309,-30.0063,   7.4962, 5170,   2995.6,   2.4050,  34.8580,2,  34.8570,2,  2.1680,    231.7,2
       74DI202,  AR09,    12,  1,   -999,      6,2,19930511,1309,-30.0063,   7.4962, 5170,   3351.1,   2.3120,  34.8580,2,  34.8600,2,  2.0410,    231.7,2
       74DI202,  AR09,    12,  1,   -999,      5,2,19930511,1309,-30.0063,   7.4962, 5170,   3709.4,   2.1560,  34.8460,2,  34.8450,2,  1.8500,   -999.0,9
       74DI202,  AR09,    12,  1,   -999,      4,2,19930511,1309,-30.0063,   7.4962, 5170,   4066.6,   1.7020,  34.7970,2,-999.0000,9,  1.3700,   -999.0,9
       74DI202,  AR09,    12,  1,   -999,      3,2,19930511,1309,-30.0063,   7.4962, 5170,   4419.2,   1.2450,  34.7490,2,  34.7490,2,  0.8860,    218.8,2
       74DI202,  AR09,    12,  1,   -999,      2,2,19930511,1309,-30.0063,   7.4962, 5170,   4765.2,   1.1570,  34.7380,2,  34.7390,2,  0.7610,    217.5,2
       74DI202,  AR09,    12,  1,   -999,      1,2,19930511,1309,-30.0063,   7.4962, 5170,   5270.7,   1.1870,  34.7370,2,  34.7360,2,  0.7300,    217.3,2