BOTTLE,20050923WHPSIOSA
#code : jjward hyd_to_exchange.pl 
#original files copied from HTML directory: Sept. 23, 2005
#original HYD file: ar09_chy.txt   Fri Sep 23 10:49:01 2005
#original SUM file: ar09_csu.txt   Fri Sep 23 10:11:37 2005
EXPOCODE,SECT_ID,STNNBR,CASTNO,SAMPNO,BTLNBR,BTLNBR_FLAG_W,DATE,TIME,LATITUDE,LONGITUDE,DEPTH,CTDPRS,CTDTMP,CTDSAL,CTDSAL_FLAG_W,SALNTY,SALNTY_FLAG_W,THETA,OXYGEN,OXYGEN_FLAG_W
,,,,,,,,,,,,DBAR,ITS-68,PSS-78,,PSS-78,,DEG C,UMOL/KG,
       74DI202,  AR09,     3,  1,   -999,     24,2,19930508,1939,-30.3000,  13.9967, 2096,     12.2,  18.3180,  35.4890,2,  35.4900,2, 18.3160,    240.1,2
       74DI202,  AR09,     3,  1,   -999,     23,2,19930508,1939,-30.3000,  13.9967, 2096,     53.9,  17.8020,  35.4150,2,  35.4400,2, 17.7930,    238.1,2
       74DI202,  AR09,     3,  1,   -999,     22,2,19930508,1939,-30.3000,  13.9967, 2096,    103.4,  13.9510,  35.1390,2,  35.1430,2, 13.9360,    229.5,2
       74DI202,  AR09,     3,  1,   -999,     21,2,19930508,1939,-30.3000,  13.9967, 2096,    154.3,  12.8730,  35.1140,2,  35.1160,2, 12.8510,    207.3,2
       74DI202,  AR09,     3,  1,   -999,     20,2,19930508,1939,-30.3000,  13.9967, 2096,    204.8,  11.7160,  34.9800,2,  34.9970,2, 11.6900,    215.8,2
       74DI202,  AR09,     3,  1,   -999,     19,2,19930508,1939,-30.3000,  13.9967, 2096,    306.0,   9.7600,  34.7660,2,  34.7720,2,  9.7250,    211.5,2
       74DI202,  AR09,     3,  1,   -999,     18,2,19930508,1939,-30.3000,  13.9967, 2096,    405.7,   8.1980,  34.6080,2,  34.6040,2,  8.1560,    199.2,2
       74DI202,  AR09,     3,  1,   -999,     17,2,19930508,1939,-30.3000,  13.9967, 2096,    506.8,   6.7850,  34.4860,2,-999.0000,9,  6.7380,    214.5,2
       74DI202,  AR09,     3,  1,   -999,     16,2,19930508,1939,-30.3000,  13.9967, 2096,    608.8,   5.4240,  34.3730,2,-999.0000,9,  5.3730,    219.0,2
       74DI202,  AR09,     3,  1,   -999,     15,2,19930508,1939,-30.3000,  13.9967, 2096,    708.2,   4.6890,  34.3860,2,  34.3920,2,  4.6340,    208.3,2
       74DI202,  AR09,     3,  1,   -999,     14,2,19930508,1939,-30.3000,  13.9967, 2096,    807.7,   4.0200,  34.3880,2,  34.3960,2,  3.9600,    205.7,2
       74DI202,  AR09,     3,  1,   -999,     13,2,19930508,1939,-30.3000,  13.9967, 2096,    908.5,   3.5340,  34.4170,2,  34.4190,2,  3.4690,    195.8,2
       74DI202,  AR09,     3,  1,   -999,     12,2,19930508,1939,-30.3000,  13.9967, 2096,   1013.1,   3.2490,  34.4700,2,  34.4770,2,  3.1780,    186.9,2
       74DI202,  AR09,     3,  1,   -999,     11,2,19930508,1939,-30.3000,  13.9967, 2096,   1113.5,   3.1330,  34.5520,2,-999.0000,9,  3.0560,    192.1,2
       74DI202,  AR09,     3,  1,   -999,     10,2,19930508,1939,-30.3000,  13.9967, 2096,   1212.7,   3.0470,  34.6130,2,-999.0000,9,  2.9630,    185.8,2
       74DI202,  AR09,     3,  1,   -999,      9,2,19930508,1939,-30.3000,  13.9967, 2096,   1315.4,   3.0370,  34.6660,2,  34.6630,2,  2.9440,    187.6,2
       74DI202,  AR09,     3,  1,   -999,      8,2,19930508,1939,-30.3000,  13.9967, 2096,   1417.6,   3.0880,  34.7310,2,-999.0000,9,  2.9850,    195.7,2
       74DI202,  AR09,     3,  1,   -999,      7,2,19930508,1939,-30.3000,  13.9967, 2096,   1569.2,   3.1120,  34.7920,2,  34.7900,2,  2.9960,    206.0,2
       74DI202,  AR09,     3,  1,   -999,      6,2,19930508,1939,-30.3000,  13.9967, 2096,   1660.8,   3.0950,  34.8190,2,  34.8180,2,  2.9720,    211.9,2
       74DI202,  AR09,     3,  1,   -999,      5,2,19930508,1939,-30.3000,  13.9967, 2096,   1751.0,   3.0780,  34.8370,2,  34.8350,2,  2.9470,    216.1,2
       74DI202,  AR09,     3,  1,   -999,      4,2,19930508,1939,-30.3000,  13.9967, 2096,   1843.3,   3.0500,  34.8480,2,  34.8500,2,  2.9120,    222.3,2
       74DI202,  AR09,     3,  1,   -999,      3,2,19930508,1939,-30.3000,  13.9967, 2096,   1935.2,   2.9970,  34.8610,2,  34.8610,2,  2.8500,    223.9,2
       74DI202,  AR09,     3,  1,   -999,      2,2,19930508,1939,-30.3000,  13.9967, 2096,   2025.5,   2.9200,  34.8690,2,  34.8670,2,  2.7670,    227.0,2
       74DI202,  AR09,     3,  1,   -999,      1,2,19930508,1939,-30.3000,  13.9967, 2096,   2098.1,   2.8890,  34.8740,2,  34.8730,2,  2.7300,    230.3,2
       74DI202,  AR09,     4,  1,   -999,     24,2,19930509,0143,-30.2360,  13.2395, 3084,     13.0,  18.3820,  35.4540,2,  35.4550,2, 18.3790,    239.4,2
       74DI202,  AR09,     4,  1,   -999,     23,2,19930509,0143,-30.2360,  13.2395, 3084,     52.4,  18.3350,  35.4770,2,  35.4740,2, 18.3260,    238.4,2
       74DI202,  AR09,     4,  1,   -999,     22,2,19930509,0143,-30.2360,  13.2395, 3084,    103.6,  13.5470,  35.1560,2,  35.1730,2, 13.5320,    226.2,2
       74DI202,  AR09,     4,  1,   -999,     21,2,19930509,0143,-30.2360,  13.2395, 3084,    204.9,  11.8290,  34.9850,2,  34.9810,2, 11.8030,    228.8,2
       74DI202,  AR09,     4,  1,   -999,     20,2,19930509,0143,-30.2360,  13.2395, 3084,    358.1,   9.0870,  34.6910,2,  34.6960,2,  9.0480,    217.0,2
       74DI202,  AR09,     4,  1,   -999,     19,2,19930509,0143,-30.2360,  13.2395, 3084,    510.7,   7.2300,  34.5270,2,  34.5330,2,  7.1810,    191.4,2
       74DI202,  AR09,     4,  1,   -999,     18,2,19930509,0143,-30.2360,  13.2395, 3084,    713.5,   4.5550,  34.3440,2,  34.3540,2,  4.4990,    207.6,2
       74DI202,  AR09,     4,  1,   -999,     17,2,19930509,0143,-30.2360,  13.2395, 3084,    913.9,   3.5200,  34.3970,2,  34.4020,2,  3.4550,    197.4,2
       74DI202,  AR09,     4,  1,   -999,     16,2,19930509,0143,-30.2360,  13.2395, 3084,   1115.9,   3.1070,  34.5230,2,  34.5240,2,  3.0300,    184.4,2
       74DI202,  AR09,     4,  1,   -999,     15,2,19930509,0143,-30.2360,  13.2395, 3084,   1310.7,   3.1110,  34.6610,2,  34.6580,2,  3.0170,    188.1,2
       74DI202,  AR09,     4,  1,   -999,     14,2,19930509,0143,-30.2360,  13.2395, 3084,   1510.3,   3.1450,  34.7630,2,  34.7690,2,  3.0340,    201.9,2
       74DI202,  AR09,     4,  1,   -999,     13,2,19930509,0143,-30.2360,  13.2395, 3084,   1633.8,   3.1610,  34.8080,2,  34.8000,2,  3.0390,    209.5,2
       74DI202,  AR09,     4,  1,   -999,     12,2,19930509,0143,-30.2360,  13.2395, 3084,   1764.6,   3.1290,  34.8380,2,  34.8340,2,  2.9960,    218.0,2
       74DI202,  AR09,     4,  1,   -999,     11,2,19930509,0143,-30.2360,  13.2395, 3084,   1887.6,   3.1000,  34.8500,2,-999.0000,9,  2.9570,   -999.0,9
       74DI202,  AR09,     4,  1,   -999,     10,2,19930509,0143,-30.2360,  13.2395, 3084,   2017.0,   3.0060,  34.8620,2,  34.8540,2,  2.8520,    226.0,2
       74DI202,  AR09,     4,  1,   -999,      9,2,19930509,0143,-30.2360,  13.2395, 3084,   2144.5,   2.9290,  34.8670,2,  34.8660,2,  2.7640,    228.6,2
       74DI202,  AR09,     4,  1,   -999,      8,2,19930509,0143,-30.2360,  13.2395, 3084,   2267.7,   2.8260,  34.8660,2,  34.8660,2,  2.6510,    230.5,2
       74DI202,  AR09,     4,  1,   -999,      7,2,19930509,0143,-30.2360,  13.2395, 3084,   2395.2,   2.7300,  34.8660,2,  34.8570,2,  2.5460,    232.8,2
       74DI202,  AR09,     4,  1,   -999,      6,2,19930509,0143,-30.2360,  13.2395, 3084,   2523.8,   2.6600,  34.8700,2,  34.8670,2,  2.4640,    233.6,2
       74DI202,  AR09,     4,  1,   -999,      5,2,19930509,0143,-30.2360,  13.2395, 3084,   2651.5,   2.6050,  34.8720,2,  34.8700,2,  2.3980,    234.9,2
       74DI202,  AR09,     4,  1,   -999,      4,2,19930509,0143,-30.2360,  13.2395, 3084,   2775.7,   2.5320,  34.8740,2,-999.0000,9,  2.3140,   -999.0,9
       74DI202,  AR09,     4,  1,   -999,      3,2,19930509,0143,-30.2360,  13.2395, 3084,   2906.1,   2.4800,  34.8720,2,  34.8700,2,  2.2500,    236.7,2
       74DI202,  AR09,     4,  1,   -999,      2,2,19930509,0143,-30.2360,  13.2395, 3084,   3036.8,   2.4450,  34.8730,2,-999.0000,9,  2.2030,   -999.0,9
       74DI202,  AR09,     4,  1,   -999,      1,2,19930509,0143,-30.2360,  13.2395, 3084,   3103.0,   2.4420,  34.8720,2,  34.8690,2,  2.1930,    235.6,2
       74DI202,  AR09,     5,  1,   -999,     24,2,19930509,0832,-30.1088,  12.6068, 3574,     14.1,  18.6660,  35.3500,2,  35.3490,2, 18.6630,    237.1,2
       74DI202,  AR09,     5,  1,   -999,     23,2,19930509,0832,-30.1088,  12.6068, 3574,     53.5,  18.6440,  35.3500,2,  35.3530,2, 18.6340,    235.0,2
       74DI202,  AR09,     5,  1,   -999,     22,2,19930509,0832,-30.1088,  12.6068, 3574,    103.5,  13.7980,  35.1720,2,-999.0000,9, 13.7830,    199.5,2
       74DI202,  AR09,     5,  1,   -999,     21,2,19930509,0832,-30.1088,  12.6068, 3574,    206.4,  11.1810,  34.9350,2,  34.9310,2, 11.1560,    186.9,2
       74DI202,  AR09,     5,  1,   -999,     20,2,19930509,0832,-30.1088,  12.6068, 3574,    306.4,   9.4310,  34.7210,2,  34.7260,2,  9.3960,    201.8,2
       74DI202,  AR09,     5,  1,   -999,     19,2,19930509,0832,-30.1088,  12.6068, 3574,    408.0,   7.7060,  34.5780,2,  34.5690,2,  7.6650,    200.2,2
       74DI202,  AR09,     5,  1,   -999,     18,2,19930509,0832,-30.1088,  12.6068, 3574,    509.5,   6.1940,  34.4350,2,  34.4420,2,  6.1480,    210.2,2
       74DI202,  AR09,     5,  1,   -999,     17,2,19930509,0832,-30.1088,  12.6068, 3574,    607.3,   5.2480,  34.3820,2,  34.3850,2,  5.1980,    212.7,2
       74DI202,  AR09,     5,  1,   -999,     16,2,19930509,0832,-30.1088,  12.6068, 3574,    703.5,   4.5050,  34.3700,2,  34.3660,2,  4.4510,    210.2,2
       74DI202,  AR09,     5,  1,   -999,     15,2,19930509,0832,-30.1088,  12.6068, 3574,    801.0,   3.8910,  34.3890,2,  34.3910,2,  3.8320,    198.8,2
       74DI202,  AR09,     5,  1,   -999,     14,2,19930509,0832,-30.1088,  12.6068, 3574,    901.8,   3.5590,  34.4180,2,  34.4250,2,  3.4950,    194.0,2
       74DI202,  AR09,     5,  1,   -999,     13,2,19930509,0832,-30.1088,  12.6068, 3574,   1009.6,   3.2710,  34.4820,2,  34.4670,2,  3.2010,    184.3,2
       74DI202,  AR09,     5,  1,   -999,     12,2,19930509,0832,-30.1088,  12.6068, 3574,   1116.6,   3.1240,  34.5540,2,  34.5560,2,  3.0460,    183.7,2
       74DI202,  AR09,     5,  1,   -999,     11,2,19930509,0832,-30.1088,  12.6068, 3574,   1309.5,   3.0930,  34.6670,2,-999.0000,9,  3.0000,    190.6,2
       74DI202,  AR09,     5,  1,   -999,     10,2,19930509,0832,-30.1088,  12.6068, 3574,   1516.3,   3.0680,  34.7640,2,  34.7670,2,  2.9580,    205.8,2
       74DI202,  AR09,     5,  1,   -999,      9,2,19930509,0832,-30.1088,  12.6068, 3574,   1774.1,   3.1250,  34.8460,2,  34.8480,2,  2.9910,    220.2,2
       74DI202,  AR09,     5,  1,   -999,      8,2,19930509,0832,-30.1088,  12.6068, 3574,   2019.7,   2.9750,  34.8660,2,  34.8590,2,  2.8220,    228.8,2
       74DI202,  AR09,     5,  1,   -999,      7,2,19930509,0832,-30.1088,  12.6068, 3574,   2271.1,   2.8170,  34.8700,2,  34.8710,2,  2.6430,    231.9,2
       74DI202,  AR09,     5,  1,   -999,      6,2,19930509,0832,-30.1088,  12.6068, 3574,   2526.2,   2.6550,  34.8680,2,  34.8710,2,  2.4600,    234.5,2
       74DI202,  AR09,     5,  1,   -999,      5,2,19930509,0832,-30.1088,  12.6068, 3574,   2780.6,   2.5100,  34.8640,2,  34.8670,2,  2.2930,    236.1,2
       74DI202,  AR09,     5,  1,   -999,      4,2,19930509,0832,-30.1088,  12.6068, 3574,   3034.1,   2.4190,  34.8610,2,-999.0000,9,  2.1780,   -999.0,9
       74DI202,  AR09,     5,  1,   -999,      3,2,19930509,0832,-30.1088,  12.6068, 3574,   3240.1,   2.3420,  34.8580,2,  34.8610,2,  2.0810,    235.8,2
       74DI202,  AR09,     5,  1,   -999,      2,2,19930509,0832,-30.1088,  12.6068, 3574,   3449.8,   2.2640,  34.8540,2,-999.0000,9,  1.9840,   -999.0,9
       74DI202,  AR09,     5,  1,   -999,      1,2,19930509,0832,-30.1088,  12.6068, 3574,   3618.1,   2.0280,  34.8320,2,  34.8550,2,  1.7350,    235.8,2
       74DI202,  AR09,     6,  1,   -999,     24,2,19930509,1513,-30.0000,  12.0000, 3931,     12.0,  18.5070,  35.4710,2,  35.4730,2, 18.5050,    240.5,2
       74DI202,  AR09,     6,  1,   -999,     23,2,19930509,1513,-30.0000,  12.0000, 3931,     29.0,  18.5060,  35.5060,2,  35.4870,2, 18.5010,    240.2,2
       74DI202,  AR09,     6,  1,   -999,     22,2,19930509,1513,-30.0000,  12.0000, 3931,     79.5,  14.8670,  35.2930,2,  35.2860,2, 14.8550,    219.8,2
       74DI202,  AR09,     6,  1,   -999,     21,2,19930509,1513,-30.0000,  12.0000, 3931,    153.9,  12.6130,  35.0600,2,  35.0590,2, 12.5920,    227.8,2
       74DI202,  AR09,     6,  1,   -999,     20,2,19930509,1513,-30.0000,  12.0000, 3931,    255.4,  10.9070,  34.9000,2,  34.8950,2, 10.8750,    215.0,2
       74DI202,  AR09,     6,  1,   -999,     19,2,19930509,1513,-30.0000,  12.0000, 3931,    357.3,   9.2260,  34.7060,2,  34.7060,2,  9.1870,    201.5,2
       74DI202,  AR09,     6,  1,   -999,     18,2,19930509,1513,-30.0000,  12.0000, 3931,    483.7,   7.0910,  34.5250,2,  34.5220,2,  7.0440,    202.4,2
       74DI202,  AR09,     6,  1,   -999,     17,2,19930509,1513,-30.0000,  12.0000, 3931,    611.8,   5.0910,  34.3760,2,  34.3810,2,  5.0410,    197.7,2
       74DI202,  AR09,     6,  1,   -999,     16,2,19930509,1513,-30.0000,  12.0000, 3931,    713.1,   4.2690,  34.3450,2,  34.3470,2,  4.2150,    212.2,2
       74DI202,  AR09,     6,  1,   -999,     15,2,19930509,1513,-30.0000,  12.0000, 3931,    812.4,   3.8290,  34.3870,2,  34.3860,2,  3.7690,    201.6,2
       74DI202,  AR09,     6,  1,   -999,     14,2,19930509,1513,-30.0000,  12.0000, 3931,    913.0,   3.4740,  34.4390,2,  34.4450,2,  3.4090,    189.0,2
       74DI202,  AR09,     6,  1,   -999,     13,2,19930509,1513,-30.0000,  12.0000, 3931,   1014.7,   3.1880,  34.4900,2,  34.4920,2,  3.1180,    184.8,2
       74DI202,  AR09,     6,  1,   -999,     12,2,19930509,1513,-30.0000,  12.0000, 3931,   1116.4,   3.0400,  34.5540,2,  34.5540,2,  2.9630,    182.3,2
       74DI202,  AR09,     6,  1,   -999,     11,2,19930509,1513,-30.0000,  12.0000, 3931,   1319.4,   3.1340,  34.6970,2,-999.0000,9,  3.0400,   -999.0,9
       74DI202,  AR09,     6,  1,   -999,     10,2,19930509,1513,-30.0000,  12.0000, 3931,   1522.5,   3.1550,  34.7820,2,  34.7790,2,  3.0430,    205.2,2
       74DI202,  AR09,     6,  1,   -999,      9,2,19930509,1513,-30.0000,  12.0000, 3931,   1827.8,   3.0730,  34.8500,2,  34.8500,2,  2.9350,    221.7,2
       74DI202,  AR09,     6,  1,   -999,      8,2,19930509,1513,-30.0000,  12.0000, 3931,   2128.4,   2.9020,  34.8710,2,  34.8710,2,  2.7390,    230.9,2
       74DI202,  AR09,     6,  1,   -999,      7,2,19930509,1513,-30.0000,  12.0000, 3931,   2434.1,   2.7070,  34.8720,2,  34.8700,2,  2.5200,    235.3,2
       74DI202,  AR09,     6,  1,   -999,      6,2,19930509,1513,-30.0000,  12.0000, 3931,   2740.3,   2.5050,  34.8620,2,  34.8650,2,  2.2910,    234.8,2
       74DI202,  AR09,     6,  1,   -999,      5,2,19930509,1513,-30.0000,  12.0000, 3931,   3044.9,   2.3820,  34.8620,2,  34.8610,2,  2.1410,    236.5,2
       74DI202,  AR09,     6,  1,   -999,      4,2,19930509,1513,-30.0000,  12.0000, 3931,   3302.1,   2.3180,  34.8620,2,  34.8600,2,  2.0510,    237.2,2
       74DI202,  AR09,     6,  1,   -999,      3,2,19930509,1513,-30.0000,  12.0000, 3931,   3559.6,   2.2230,  34.8550,2,  34.8520,2,  1.9310,    235.0,2
       74DI202,  AR09,     6,  1,   -999,      2,2,19930509,1513,-30.0000,  12.0000, 3931,   3811.8,   1.7990,  34.8100,2,  34.8100,2,  1.4910,    227.1,2
       74DI202,  AR09,     6,  1,   -999,      1,2,19930509,1513,-30.0000,  12.0000, 3931,   3982.0,   1.5720,  34.7870,2,-999.0000,9,  1.2520,    227.3,2
       74DI202,  AR09,     7,  1,   -999,     24,2,19930510,2336,-29.9973,  10.9972, 4334,     15.1,  18.3970,  35.4580,2,  35.4700,2, 18.3950,    240.2,2
       74DI202,  AR09,     7,  1,   -999,     23,2,19930510,2336,-29.9973,  10.9972, 4334,     35.5,  18.4020,  35.4580,2,  35.4590,2, 18.3960,    240.1,2
       74DI202,  AR09,     7,  1,   -999,     22,2,19930510,2336,-29.9973,  10.9972, 4334,     84.5,  15.2220,  35.3210,2,  35.3130,2, 15.2090,    228.4,2
       74DI202,  AR09,     7,  1,   -999,     21,2,19930510,2336,-29.9973,  10.9972, 4334,    160.7,  13.3130,  35.1640,2,  35.1580,2, 13.2900,    223.9,2
       74DI202,  AR09,     7,  1,   -999,     20,2,19930510,2336,-29.9973,  10.9972, 4334,    254.5,  11.7810,  35.0070,2,  34.9980,2, 11.7480,    228.8,2
       74DI202,  AR09,     7,  1,   -999,     19,2,19930510,2336,-29.9973,  10.9972, 4334,    357.7,  10.0960,  34.7860,2,  34.7960,2, 10.0540,    222.6,2
       74DI202,  AR09,     7,  1,   -999,     18,2,19930510,2336,-29.9973,  10.9972, 4334,    455.0,   8.1540,  34.5910,2,  34.5910,2,  8.1070,    210.9,2
       74DI202,  AR09,     7,  1,   -999,     17,2,19930510,2336,-29.9973,  10.9972, 4334,    555.9,   6.5150,  34.4690,2,  34.4710,2,  6.4640,    207.4,2
       74DI202,  AR09,     7,  1,   -999,     16,2,19930510,2336,-29.9973,  10.9972, 4334,    652.9,   5.0190,  34.3620,2,  34.3670,2,  4.9660,    212.6,2
       74DI202,  AR09,     7,  1,   -999,     15,2,19930510,2336,-29.9973,  10.9972, 4334,    749.3,   4.5790,  34.3840,2,  34.3820,2,  4.5210,    191.9,2
       74DI202,  AR09,     7,  1,   -999,     14,2,19930510,2336,-29.9973,  10.9972, 4334,    850.1,   4.1140,  34.3920,2,  34.4020,2,  4.0500,    188.1,2
       74DI202,  AR09,     7,  1,   -999,     13,2,19930510,2336,-29.9973,  10.9972, 4334,    948.5,   3.7500,  34.4120,2,  34.4200,2,  3.6810,    188.3,2
       74DI202,  AR09,     7,  1,   -999,     12,2,19930510,2336,-29.9973,  10.9972, 4334,   1142.1,   3.2110,  34.5270,2,  34.5260,2,  3.1300,    182.2,2
       74DI202,  AR09,     7,  1,   -999,     11,2,19930510,2336,-29.9973,  10.9972, 4334,   1336.4,   3.1150,  34.6530,2,  34.5760,2,  3.0190,    184.4,2
       74DI202,  AR09,     7,  1,   -999,     10,2,19930510,2336,-29.9973,  10.9972, 4334,   1527.6,   3.1460,  34.7500,2,  34.7500,2,  3.0340,    200.2,2
       74DI202,  AR09,     7,  1,   -999,      9,2,19930510,2336,-29.9973,  10.9972, 4334,   1869.1,   3.0680,  34.8400,2,  34.8380,2,  2.9270,    219.7,2
       74DI202,  AR09,     7,  1,   -999,      8,2,19930510,2336,-29.9973,  10.9972, 4334,   2210.8,   2.7790,  34.8580,2,  34.8510,2,  2.6110,    229.5,2
       74DI202,  AR09,     7,  1,   -999,      7,2,19930510,2336,-29.9973,  10.9972, 4334,   2605.7,   2.5510,  34.8630,2,  34.8630,2,  2.3490,    236.3,2
       74DI202,  AR09,     7,  1,   -999,      6,2,19930510,2336,-29.9973,  10.9972, 4334,   2901.5,   2.4210,  34.8640,2,  34.8620,2,  2.1930,    236.1,2
       74DI202,  AR09,     7,  1,   -999,      5,2,19930510,2336,-29.9973,  10.9972, 4334,   3252.4,   2.3170,  34.8610,2,  34.8660,2,  2.0560,    236.0,2
       74DI202,  AR09,     7,  1,   -999,      4,2,19930510,2336,-29.9973,  10.9972, 4334,   3605.6,   2.1890,  34.8510,2,  34.8560,2,  1.8930,    235.6,2
       74DI202,  AR09,     7,  1,   -999,      3,2,19930510,2336,-29.9973,  10.9972, 4334,   3962.4,   1.7160,  34.8000,2,  34.7980,2,  1.3940,    226.5,2
       74DI202,  AR09,     7,  1,   -999,      2,2,19930510,2336,-29.9973,  10.9972, 4334,   3964.7,   1.7150,  34.7990,2,-999.0000,9,  1.3930,   -999.0,9
       74DI202,  AR09,     7,  1,   -999,      1,2,19930510,2336,-29.9973,  10.9972, 4334,   4260.3,   1.1790,  34.7470,2,-999.0000,9,  0.8400,   -999.0,9