BOTTLE,20050923WHPSIOSA
EXPOCODE,SECT_ID,STNNBR,CASTNO,SAMPNO,BTLNBR,BTLNBR_FLAG_W,DATE,TIME,LATITUDE,LONGITUDE,DEPTH,CTDPRS,CTDTMP,CTDSAL,CTDSAL_FLAG_W,SALNTY,SALNTY_FLAG_W,THETA,OXYGEN,OXYGEN_FLAG_W
,,,,,,,,,,,,DBAR,ITS-68,PSS-78,,PSS-78,,DEG C,UMOL/KG,
       74DI202,  AR09,    37,  1,   -999,     24,2,19930521,1509,-31.8663,   7.4972, 4965,     14.0,  18.5840,  35.5820,2,  35.5090,2, 18.5810,    229.0,2
       74DI202,  AR09,    37,  1,   -999,     23,2,19930521,1509,-31.8663,   7.4972, 4965,     54.3,  18.5700,  35.5860,2,-999.0000,9, 18.5610,    229.4,2
       74DI202,  AR09,    37,  1,   -999,     22,2,19930521,1509,-31.8663,   7.4972, 4965,    104.4,  18.0940,  35.5470,2,-999.0000,9, 18.0760,    223.1,2
       74DI202,  AR09,    37,  1,   -999,     21,2,19930521,1509,-31.8663,   7.4972, 4965,    154.9,  15.9170,  35.4890,2,-999.0000,9, 15.8920,    199.8,2
       74DI202,  AR09,    37,  1,   -999,     20,2,19930521,1509,-31.8663,   7.4972, 4965,    205.8,  14.4320,  35.3140,2,  35.3220,2, 14.4010,    216.1,2
       74DI202,  AR09,    37,  1,   -999,     19,2,19930521,1509,-31.8663,   7.4972, 4965,    256.8,  13.8940,  35.2420,2,  35.2410,2, 13.8570,    219.5,2
       74DI202,  AR09,    37,  1,   -999,     18,2,19930521,1509,-31.8663,   7.4972, 4965,    305.9,  13.0590,  35.1310,2,-999.0000,9, 13.0160,    219.1,2
       74DI202,  AR09,    37,  1,   -999,     17,2,19930521,1509,-31.8663,   7.4972, 4965,    355.3,  12.5430,  35.0840,2,  35.0850,2, 12.4950,    218.6,2
       74DI202,  AR09,    37,  1,   -999,     16,2,19930521,1509,-31.8663,   7.4972, 4965,    407.9,  11.4170,  34.9510,2,-999.0000,9, 11.3650,    219.1,2
       74DI202,  AR09,    37,  1,   -999,     15,2,19930521,1509,-31.8663,   7.4972, 4965,    455.8,  10.0260,  34.7860,2,  34.7830,2,  9.9730,    214.8,2
       74DI202,  AR09,    37,  1,   -999,     14,2,19930521,1509,-31.8663,   7.4972, 4965,    504.8,   9.2740,  34.7040,2,-999.0000,9,  9.2170,    209.6,2
       74DI202,  AR09,    37,  1,   -999,     13,2,19930521,1509,-31.8663,   7.4972, 4965,    581.0,   8.1980,  34.6040,2,  34.5980,2,  8.1370,    198.5,2
       74DI202,  AR09,    37,  1,   -999,     12,2,19930521,1509,-31.8663,   7.4972, 4965,    657.2,   7.2310,  34.5160,2,-999.0000,9,  7.1670,    201.0,2
       74DI202,  AR09,    37,  1,   -999,     11,2,19930521,1509,-31.8663,   7.4972, 4965,    734.6,   6.0850,  34.4310,2,  34.4280,2,  6.0200,    197.6,2
       74DI202,  AR09,    37,  1,   -999,     10,2,19930521,1509,-31.8663,   7.4972, 4965,    810.8,   5.0920,  34.3500,2,-999.0000,9,  5.0250,    217.6,2
       74DI202,  AR09,    37,  1,   -999,      9,2,19930521,1509,-31.8663,   7.4972, 4965,    889.0,   4.4060,  34.3370,2,  34.3380,2,  4.3370,    211.7,2
       74DI202,  AR09,    37,  1,   -999,      8,2,19930521,1509,-31.8663,   7.4972, 4965,    964.1,   3.9060,  34.3440,2,-999.0000,9,  3.8340,    208.0,2
       74DI202,  AR09,    37,  1,   -999,      7,2,19930521,1509,-31.8663,   7.4972, 4965,   1039.7,   3.5670,  34.3840,2,  34.3820,2,  3.4910,    196.4,2
       74DI202,  AR09,    37,  1,   -999,      6,2,19930521,1509,-31.8663,   7.4972, 4965,   1116.6,   3.4570,  34.4290,2,-999.0000,9,  3.3760,    186.0,2
       74DI202,  AR09,    37,  1,   -999,      5,2,19930521,1509,-31.8663,   7.4972, 4965,   1190.6,   3.2070,  34.4650,2,  34.4660,2,  3.1230,    181.6,2
       74DI202,  AR09,    37,  1,   -999,      4,2,19930521,1509,-31.8663,   7.4972, 4965,   1265.7,   3.0510,  34.5220,2,-999.0000,9,  2.9620,    178.7,2
       74DI202,  AR09,    37,  1,   -999,      3,2,19930521,1509,-31.8663,   7.4972, 4965,   1341.0,   2.9320,  34.5650,2,  34.5650,2,  2.8380,    178.5,2
       74DI202,  AR09,    37,  1,   -999,      2,2,19930521,1509,-31.8663,   7.4972, 4965,   1442.0,   2.9870,  34.6220,2,-999.0000,9,  2.8840,    180.6,2
       74DI202,  AR09,    37,  1,   -999,      1,2,19930521,1509,-31.8663,   7.4972, 4965,   1545.7,   2.9550,  34.6840,2,  34.6830,2,  2.8430,    185.2,2
       74DI202,  AR09,    39,  1,   -999,     24,2,19930522,0246,-31.4047,   9.1515, -999,     13.2,  18.7860,  35.6690,2,-999.0000,9, 18.7840,   -999.0,9
       74DI202,  AR09,    39,  1,   -999,     23,2,19930522,0246,-31.4047,   9.1515, -999,     53.1,  18.7930,  35.6690,2,  35.6690,2, 18.7840,    229.8,2
       74DI202,  AR09,    39,  1,   -999,     22,2,19930522,0246,-31.4047,   9.1515, -999,    104.1,  17.4220,  35.5640,2,-999.0000,9, 17.4040,    200.5,2
       74DI202,  AR09,    39,  1,   -999,     21,2,19930522,0246,-31.4047,   9.1515, -999,    154.7,  15.8640,  35.4740,2,-999.0000,9, 15.8400,    207.3,2
       74DI202,  AR09,    39,  1,   -999,     20,2,19930522,0246,-31.4047,   9.1515, -999,    204.8,  14.8100,  35.3820,2,  35.3900,2, 14.7790,    216.1,2
       74DI202,  AR09,    39,  1,   -999,     19,2,19930522,0246,-31.4047,   9.1515, -999,    254.9,  13.6290,  35.1960,2,  35.1920,2, 13.5930,    227.3,2
       74DI202,  AR09,    39,  1,   -999,     18,2,19930522,0246,-31.4047,   9.1515, -999,    307.0,  12.7360,  35.1340,2,  35.1340,2, 12.6940,    220.9,2
       74DI202,  AR09,    39,  1,   -999,     17,2,19930522,0246,-31.4047,   9.1515, -999,    357.2,  11.9490,  35.0270,2,-999.0000,9, 11.9030,    223.6,2
       74DI202,  AR09,    39,  1,   -999,     16,2,19930522,0246,-31.4047,   9.1515, -999,    407.3,  10.9890,  34.9000,2,  34.9020,2, 10.9380,    221.1,2
       74DI202,  AR09,    39,  1,   -999,     15,2,19930522,0246,-31.4047,   9.1515, -999,    458.3,  10.5270,  34.8560,2,-999.0000,9, 10.4720,    217.6,2
       74DI202,  AR09,    39,  1,   -999,     14,2,19930522,0246,-31.4047,   9.1515, -999,    509.6,   9.6130,  34.7490,2,  34.7580,2,  9.5540,    215.7,2
       74DI202,  AR09,    39,  1,   -999,     13,2,19930522,0246,-31.4047,   9.1515, -999,    584.8,   8.4160,  34.6240,2,-999.0000,9,  8.3540,    204.4,2
       74DI202,  AR09,    39,  1,   -999,     12,2,19930522,0246,-31.4047,   9.1515, -999,    660.0,   7.0150,  34.4970,2,  34.4980,2,  6.9510,    208.0,2
       74DI202,  AR09,    39,  1,   -999,     11,2,19930522,0246,-31.4047,   9.1515, -999,    736.1,   5.7080,  34.4010,2,-999.0000,9,  5.6440,    213.2,2
       74DI202,  AR09,    39,  1,   -999,     10,2,19930522,0246,-31.4047,   9.1515, -999,    811.8,   5.0110,  34.3610,2,  34.3740,2,  4.9450,    215.0,2
       74DI202,  AR09,    39,  1,   -999,      9,2,19930522,0246,-31.4047,   9.1515, -999,    887.9,   4.3450,  34.3470,2,-999.0000,9,  4.2760,    214.1,2
       74DI202,  AR09,    39,  1,   -999,      8,2,19930522,0246,-31.4047,   9.1515, -999,    963.9,   4.0640,  34.4000,2,  34.4060,2,  3.9910,    197.6,2
       74DI202,  AR09,    39,  1,   -999,      7,2,19930522,0246,-31.4047,   9.1515, -999,   1039.8,   3.5720,  34.3950,2,-999.0000,9,  3.4970,    197.6,2
       74DI202,  AR09,    39,  1,   -999,      6,2,19930522,0246,-31.4047,   9.1515, -999,   1115.1,   3.3360,  34.4360,2,  34.4400,2,  3.2570,    189.6,2
       74DI202,  AR09,    39,  1,   -999,      5,2,19930522,0246,-31.4047,   9.1515, -999,   1190.5,   3.1780,  34.4910,2,-999.0000,9,  3.0930,    181.5,2
       74DI202,  AR09,    39,  1,   -999,      4,2,19930522,0246,-31.4047,   9.1515, -999,   1263.8,   3.0410,  34.5310,2,  34.5290,2,  2.9520,    180.5,2
       74DI202,  AR09,    39,  1,   -999,      3,2,19930522,0246,-31.4047,   9.1515, -999,   1343.0,   2.9580,  34.5760,2,-999.0000,9,  2.8640,    180.5,2
       74DI202,  AR09,    39,  1,   -999,      2,2,19930522,0246,-31.4047,   9.1515, -999,   1443.8,   2.9190,  34.6430,2,  34.6420,2,  2.8160,    184.4,2
       74DI202,  AR09,    39,  1,   -999,      1,2,19930522,0246,-31.4047,   9.1515, -999,   1545.8,   3.0060,  34.7100,2,-999.0000,9,  2.8940,    191.8,2
       74DI202,  AR09,    40,  1,   -999,     24,2,19930522,0852,-31.1667,   9.9977, 4849,     13.2,  18.5650,  35.5370,2,  35.5210,2, 18.5630,    235.5,2
       74DI202,  AR09,    40,  1,   -999,     23,2,19930522,0852,-31.1667,   9.9977, 4849,     74.0,  18.5660,  35.5390,2,  35.5380,2, 18.5530,    234.5,2
       74DI202,  AR09,    40,  1,   -999,     22,2,19930522,0852,-31.1667,   9.9977, 4849,    123.9,  15.6140,  35.3820,2,  35.4360,2, 15.5950,    218.6,2
       74DI202,  AR09,    40,  1,   -999,     21,2,19930522,0852,-31.1667,   9.9977, 4849,    179.1,  14.5560,  35.3340,2,  35.3360,2, 14.5300,    220.8,2
       74DI202,  AR09,    40,  1,   -999,     20,2,19930522,0852,-31.1667,   9.9977, 4849,    230.7,  13.2050,  35.1250,2,  35.1220,2, 13.1730,    226.2,2
       74DI202,  AR09,    40,  1,   -999,     19,2,19930522,0852,-31.1667,   9.9977, 4849,    281.6,  12.5990,  35.0880,2,  35.0910,2, 12.5610,    225.0,2
       74DI202,  AR09,    40,  1,   -999,     18,2,19930522,0852,-31.1667,   9.9977, 4849,    332.0,  11.8630,  35.0130,2,  35.0090,2, 11.8200,    222.5,2
       74DI202,  AR09,    40,  1,   -999,     17,2,19930522,0852,-31.1667,   9.9977, 4849,    383.0,  11.0820,  34.9280,2,  34.9250,2, 11.0340,    223.3,2
       74DI202,  AR09,    40,  1,   -999,     16,2,19930522,0852,-31.1667,   9.9977, 4849,    429.7,  10.2640,  34.8060,2,  34.8080,2, 10.2130,    220.4,2
       74DI202,  AR09,    40,  1,   -999,     15,2,19930522,0852,-31.1667,   9.9977, 4849,    483.1,   9.5430,  34.7430,2,  34.7420,2,  9.4880,    214.0,2
       74DI202,  AR09,    40,  1,   -999,     14,2,19930522,0852,-31.1667,   9.9977, 4849,    534.2,   8.6600,  34.6410,2,  34.6440,2,  8.6020,    211.3,2
       74DI202,  AR09,    40,  1,   -999,     13,2,19930522,0852,-31.1667,   9.9977, 4849,    609.1,   7.4690,  34.5490,2,  34.5490,2,  7.4080,    205.7,2
       74DI202,  AR09,    40,  1,   -999,     12,2,19930522,0852,-31.1667,   9.9977, 4849,    685.8,   6.1090,  34.4190,2,  34.4190,2,  6.0480,    213.0,2
       74DI202,  AR09,    40,  1,   -999,     11,2,19930522,0852,-31.1667,   9.9977, 4849,    761.8,   5.3580,  34.3910,2,  34.3920,2,  5.2940,    194.6,2
       74DI202,  AR09,    40,  1,   -999,     10,2,19930522,0852,-31.1667,   9.9977, 4849,    836.8,   4.4940,  34.3310,2,  34.3300,2,  4.4280,    221.6,2
       74DI202,  AR09,    40,  1,   -999,      9,2,19930522,0852,-31.1667,   9.9977, 4849,    913.7,   4.1980,  34.3510,2,  34.3530,2,  4.1280,    206.9,2
       74DI202,  AR09,    40,  1,   -999,      8,2,19930522,0852,-31.1667,   9.9977, 4849,    988.1,   3.7840,  34.3550,2,  34.3590,2,  3.7110,    207.5,2
       74DI202,  AR09,    40,  1,   -999,      7,2,19930522,0852,-31.1667,   9.9977, 4849,   1064.8,   3.5630,  34.4040,2,  34.4020,2,  3.4860,    194.4,2
       74DI202,  AR09,    40,  1,   -999,      6,2,19930522,0852,-31.1667,   9.9977, 4849,   1141.2,   3.3900,  34.4450,2,  34.4470,2,  3.3080,    187.7,2
       74DI202,  AR09,    40,  1,   -999,      5,2,19930522,0852,-31.1667,   9.9977, 4849,   1216.2,   3.1960,  34.4890,2,  34.4870,2,  3.1090,    182.4,2
       74DI202,  AR09,    40,  1,   -999,      4,2,19930522,0852,-31.1667,   9.9977, 4849,   1290.2,   3.1440,  34.5480,2,  34.5460,2,  3.0520,    180.8,2
       74DI202,  AR09,    40,  1,   -999,      3,2,19930522,0852,-31.1667,   9.9977, 4849,   1367.0,   2.9810,  34.5800,2,  34.5770,2,  2.8840,    180.3,2
       74DI202,  AR09,    40,  1,   -999,      2,2,19930522,0852,-31.1667,   9.9977, 4849,   1468.6,   2.9130,  34.6380,2,  34.6350,2,  2.8090,    184.7,2
       74DI202,  AR09,    40,  1,   -999,      1,2,19930522,0852,-31.1667,   9.9977, 4849,   1544.1,   2.9220,  34.6810,2,  34.6780,2,  2.8120,    190.0,2
       74DI202,  AR09,    41,  1,   -999,     24,2,19930524,1658,-34.9078,   9.3998, 5011,     13.4,  18.1760,  35.6160,2,  35.5710,2, 18.1730,    234.6,2
       74DI202,  AR09,    41,  1,   -999,     23,2,19930524,1658,-34.9078,   9.3998, 5011,     53.3,  18.0900,  35.5900,2,  35.5880,2, 18.0810,    232.7,2
       74DI202,  AR09,    41,  1,   -999,     22,2,19930524,1658,-34.9078,   9.3998, 5011,     79.3,  18.0260,  35.5620,2,-999.0000,9, 18.0120,    232.9,2
       74DI202,  AR09,    41,  1,   -999,     21,2,19930524,1658,-34.9078,   9.3998, 5011,    103.8,  17.6460,  35.5260,2,-999.0000,9, 17.6290,    224.5,2
       74DI202,  AR09,    41,  1,   -999,     20,2,19930524,1658,-34.9078,   9.3998, 5011,    154.4,  15.1620,  35.4210,2,  35.4350,2, 15.1380,    225.9,2
       74DI202,  AR09,    41,  1,   -999,     19,2,19930524,1658,-34.9078,   9.3998, 5011,    205.7,  13.8450,  35.2110,2,-999.0000,9, 13.8160,    234.7,2
       74DI202,  AR09,    41,  1,   -999,     18,2,19930524,1658,-34.9078,   9.3998, 5011,    256.9,  13.2350,  35.1920,2,  35.1880,2, 13.1990,    217.4,2
       74DI202,  AR09,    41,  1,   -999,     17,2,19930524,1658,-34.9078,   9.3998, 5011,    355.6,  11.5380,  34.9550,2,-999.0000,9, 11.4930,    222.5,2
       74DI202,  AR09,    41,  1,   -999,     16,2,19930524,1658,-34.9078,   9.3998, 5011,    404.3,  10.5330,  34.8120,2,  34.8110,2, 10.4840,    228.7,2
       74DI202,  AR09,    41,  1,   -999,     15,2,19930524,1658,-34.9078,   9.3998, 5011,    457.3,   9.5700,  34.6910,2,-999.0000,9,  9.5180,    231.0,2
       74DI202,  AR09,    41,  1,   -999,     14,2,19930524,1658,-34.9078,   9.3998, 5011,    504.2,   8.9830,  34.6530,2,  34.6540,2,  8.9270,    218.8,2
       74DI202,  AR09,    41,  1,   -999,     13,2,19930524,1658,-34.9078,   9.3998, 5011,    578.1,   7.8000,  34.5220,2,-999.0000,9,  7.7420,    222.4,2
       74DI202,  AR09,    41,  1,   -999,     12,2,19930524,1658,-34.9078,   9.3998, 5011,    655.7,   6.4800,  34.3970,2,  34.4010,2,  6.4200,    226.3,2
       74DI202,  AR09,    41,  1,   -999,     11,2,19930524,1658,-34.9078,   9.3998, 5011,    734.2,   5.5510,  34.3350,2,-999.0000,9,  5.4880,    228.6,2
       74DI202,  AR09,    41,  1,   -999,     10,2,19930524,1658,-34.9078,   9.3998, 5011,    811.6,   4.7330,  34.2860,2,  34.2890,2,  4.6680,    232.0,2
       74DI202,  AR09,    41,  1,   -999,      9,2,19930524,1658,-34.9078,   9.3998, 5011,    887.1,   4.3050,  34.2910,2,-999.0000,9,  4.2370,    228.0,2
       74DI202,  AR09,    41,  1,   -999,      8,2,19930524,1658,-34.9078,   9.3998, 5011,    956.4,   3.8700,  34.2690,2,  34.2790,2,  3.7990,    230.1,2
       74DI202,  AR09,    41,  1,   -999,      7,2,19930524,1658,-34.9078,   9.3998, 5011,   1032.9,   3.7830,  34.3430,2,-999.0000,9,  3.7060,    208.1,2
       74DI202,  AR09,    41,  1,   -999,      6,2,19930524,1658,-34.9078,   9.3998, 5011,   1112.4,   3.5140,  34.3820,2,  34.3830,2,  3.4340,    197.1,2
       74DI202,  AR09,    41,  1,   -999,      5,2,19930524,1658,-34.9078,   9.3998, 5011,   1188.6,   3.2890,  34.4160,2,-999.0000,9,  3.2040,    193.2,2
       74DI202,  AR09,    41,  1,   -999,      4,2,19930524,1658,-34.9078,   9.3998, 5011,   1256.6,   3.1790,  34.4560,2,  34.4630,2,  3.0890,    188.0,2
       74DI202,  AR09,    41,  1,   -999,      3,2,19930524,1658,-34.9078,   9.3998, 5011,   1340.4,   2.9420,  34.5030,2,-999.0000,9,  2.8480,    183.7,2
       74DI202,  AR09,    41,  1,   -999,      2,2,19930524,1658,-34.9078,   9.3998, 5011,   1442.3,   2.8760,  34.5620,2,  34.5620,2,  2.7740,    181.7,2
       74DI202,  AR09,    41,  1,   -999,      1,2,19930524,1658,-34.9078,   9.3998, 5011,   1545.9,   2.8880,  34.6290,2,-999.0000,9,  2.7770,    186.3,2
       74DI202,  AR09,    42,  1,   -999,     24,2,19930524,2143,-34.4187,   9.3788, 5007,     13.1,  18.3070,  35.6020,2,  35.6060,2, 18.3050,    234.6,2
       74DI202,  AR09,    42,  1,   -999,     23,2,19930524,2143,-34.4187,   9.3788, 5007,     73.7,  18.3130,  35.6020,2,  35.6020,2, 18.3000,    229.7,2
       74DI202,  AR09,    42,  1,   -999,     22,2,19930524,2143,-34.4187,   9.3788, 5007,    123.4,  17.0810,  35.5500,2,-999.0000,9, 17.0610,    202.1,2
       74DI202,  AR09,    42,  1,   -999,     21,2,19930524,2143,-34.4187,   9.3788, 5007,    181.2,  15.4600,  35.4570,2,-999.0000,9, 15.4320,    211.0,2
       74DI202,  AR09,    42,  1,   -999,     20,2,19930524,2143,-34.4187,   9.3788, 5007,    230.3,  14.5880,  35.3520,2,-999.0000,9, 14.5540,    225.0,2
       74DI202,  AR09,    42,  1,   -999,     19,2,19930524,2143,-34.4187,   9.3788, 5007,    279.1,  13.5230,  35.1900,2,  35.1950,2, 13.4830,    222.9,2
       74DI202,  AR09,    42,  1,   -999,     18,2,19930524,2143,-34.4187,   9.3788, 5007,    330.6,  12.7600,  35.1240,2,-999.0000,9, 12.7150,    220.0,2
       74DI202,  AR09,    42,  1,   -999,     17,2,19930524,2143,-34.4187,   9.3788, 5007,    382.5,  12.0360,  35.0490,2,  35.0620,2, 11.9860,    217.7,2
       74DI202,  AR09,    42,  1,   -999,     16,2,19930524,2143,-34.4187,   9.3788, 5007,    431.0,  11.4300,  34.9730,2,-999.0000,9, 11.3750,    221.7,2
       74DI202,  AR09,    42,  1,   -999,     15,2,19930524,2143,-34.4187,   9.3788, 5007,    483.4,  10.1890,  34.7960,2,  34.7980,2, 10.1310,    215.7,2
       74DI202,  AR09,    42,  1,   -999,     14,2,19930524,2143,-34.4187,   9.3788, 5007,    533.0,   9.3060,  34.7070,2,-999.0000,9,  9.2460,    210.3,2
       74DI202,  AR09,    42,  1,   -999,     13,2,19930524,2143,-34.4187,   9.3788, 5007,    608.4,   8.0090,  34.5620,2,-999.0000,9,  7.9460,    212.0,2
       74DI202,  AR09,    42,  1,   -999,     12,2,19930524,2143,-34.4187,   9.3788, 5007,    681.8,   6.8500,  34.4670,2,-999.0000,9,  6.7850,    211.6,2
       74DI202,  AR09,    42,  1,   -999,     11,2,19930524,2143,-34.4187,   9.3788, 5007,    754.9,   5.9480,  34.4000,2,  34.4000,2,  5.8810,    214.9,2
       74DI202,  AR09,    42,  1,   -999,     10,2,19930524,2143,-34.4187,   9.3788, 5007,    829.8,   5.0820,  34.3460,2,-999.0000,9,  5.0140,    218.5,2
       74DI202,  AR09,    42,  1,   -999,      9,2,19930524,2143,-34.4187,   9.3788, 5007,    906.8,   4.4260,  34.3240,2,  34.3300,2,  4.3560,    216.5,2
       74DI202,  AR09,    42,  1,   -999,      8,2,19930524,2143,-34.4187,   9.3788, 5007,    983.8,   3.9970,  34.3380,2,-999.0000,9,  3.9230,    210.6,2
       74DI202,  AR09,    42,  1,   -999,      7,2,19930524,2143,-34.4187,   9.3788, 5007,   1056.6,   3.7240,  34.3600,2,  34.3600,2,  3.6460,    203.5,2
       74DI202,  AR09,    42,  1,   -999,      6,2,19930524,2143,-34.4187,   9.3788, 5007,   1132.2,   3.4390,  34.3850,2,-999.0000,9,  3.3580,    199.2,2
       74DI202,  AR09,    42,  1,   -999,      5,2,19930524,2143,-34.4187,   9.3788, 5007,   1212.0,   3.2000,  34.4140,2,  34.4130,2,  3.1140,    194.1,2
       74DI202,  AR09,    42,  1,   -999,      4,2,19930524,2143,-34.4187,   9.3788, 5007,   1289.9,   3.1230,  34.4690,2,-999.0000,9,  3.0310,    189.4,2
       74DI202,  AR09,    42,  1,   -999,      3,2,19930524,2143,-34.4187,   9.3788, 5007,   1363.9,   3.0430,  34.5150,2,  34.5140,2,  2.9470,    182.5,2
       74DI202,  AR09,    42,  1,   -999,      2,2,19930524,2143,-34.4187,   9.3788, 5007,   1463.3,   2.9290,  34.5780,2,-999.0000,9,  2.8250,    181.3,2
       74DI202,  AR09,    42,  1,   -999,      1,2,19930524,2143,-34.4187,   9.3788, 5007,   1546.8,   2.8700,  34.6260,2,  34.6260,2,  2.7600,    185.0,2