BOTTLE,20050923WHPSIOSA
EXPOCODE,SECT_ID,STNNBR,CASTNO,SAMPNO,BTLNBR,BTLNBR_FLAG_W,DATE,TIME,LATITUDE,LONGITUDE,DEPTH,CTDPRS,CTDTMP,CTDSAL,CTDSAL_FLAG_W,SALNTY,SALNTY_FLAG_W,THETA,OXYGEN,OXYGEN_FLAG_W
,,,,,,,,,,,,DBAR,ITS-68,PSS-78,,PSS-78,,DEG C,UMOL/KG,
       74DI202,  AR09,    27,  1,   -999,     24,2,19930516,1354,-32.8313,   0.8343, 4473,     15.1,  17.6970,  35.1970,2,  35.1890,2, 17.6940,    237.5,2
       74DI202,  AR09,    27,  1,   -999,     23,2,19930516,1354,-32.8313,   0.8343, 4473,     44.9,  17.7090,  35.2330,2,  35.2280,2, 17.7010,    237.4,2
       74DI202,  AR09,    27,  1,   -999,     22,2,19930516,1354,-32.8313,   0.8343, 4473,    106.4,  14.6560,  35.2890,2,  35.1990,2, 14.6410,    240.6,2
       74DI202,  AR09,    27,  1,   -999,     21,2,19930516,1354,-32.8313,   0.8343, 4473,    180.6,  13.2250,  35.1540,2,  35.1490,2, 13.2000,    225.3,2
       74DI202,  AR09,    27,  1,   -999,     20,2,19930516,1354,-32.8313,   0.8343, 4473,    282.1,  11.8640,  35.0100,2,  35.0140,2, 11.8270,    221.5,2
       74DI202,  AR09,    27,  1,   -999,     19,2,19930516,1354,-32.8313,   0.8343, 4473,    404.6,  10.1670,  34.8110,2,  34.8020,2, 10.1190,    217.5,2
       74DI202,  AR09,    27,  1,   -999,     18,2,19930516,1354,-32.8313,   0.8343, 4473,    530.7,   7.9600,  34.5640,2,  34.5690,2,  7.9060,    216.5,2
       74DI202,  AR09,    27,  1,   -999,     17,2,19930516,1354,-32.8313,   0.8343, 4473,    655.1,   6.1510,  34.4190,2,  34.4230,2,  6.0920,    210.8,2
       74DI202,  AR09,    27,  1,   -999,     16,2,19930516,1354,-32.8313,   0.8343, 4473,    778.7,   4.9340,  34.3400,2,  34.3380,2,  4.8710,    218.3,2
       74DI202,  AR09,    27,  1,   -999,     15,2,19930516,1354,-32.8313,   0.8343, 4473,    903.5,   4.1660,  34.3270,2,  34.3380,2,  4.0980,    213.5,2
       74DI202,  AR09,    27,  1,   -999,     14,2,19930516,1354,-32.8313,   0.8343, 4473,   1003.7,   3.5430,  34.3450,2,  34.3480,2,  3.4700,    208.5,2
       74DI202,  AR09,    27,  1,   -999,     13,2,19930516,1354,-32.8313,   0.8343, 4473,   1158.4,   3.1820,  34.4480,2,  34.4490,2,  3.1010,    188.7,2
       74DI202,  AR09,    27,  1,   -999,     12,2,19930516,1354,-32.8313,   0.8343, 4473,   1312.1,   2.9200,  34.5200,2,  34.5240,2,  2.8280,    187.3,2
       74DI202,  AR09,    27,  1,   -999,     11,2,19930516,1354,-32.8313,   0.8343, 4473,   1452.2,   2.8340,  34.5870,2,  34.5540,2,  2.7320,    186.3,2
       74DI202,  AR09,    27,  1,   -999,     10,2,19930516,1354,-32.8313,   0.8343, 4473,   1598.6,   2.8510,  34.6760,2,  34.6750,2,  2.7360,    191.5,2
       74DI202,  AR09,    27,  1,   -999,      9,2,19930516,1354,-32.8313,   0.8343, 4473,   1801.8,   2.7950,  34.7430,2,  34.7420,2,  2.6630,    199.4,2
       74DI202,  AR09,    27,  1,   -999,      8,2,19930516,1354,-32.8313,   0.8343, 4473,   2110.1,   2.6590,  34.8020,2,  34.8020,2,  2.5020,    213.5,2
       74DI202,  AR09,    27,  1,   -999,      7,2,19930516,1354,-32.8313,   0.8343, 4473,   2462.4,   2.4970,  34.8370,2,  34.8350,2,  2.3100,    225.1,2
       74DI202,  AR09,    27,  1,   -999,      6,2,19930516,1354,-32.8313,   0.8343, 4473,   2813.1,   2.3950,  34.8540,2,  34.8720,2,  2.1770,    231.5,2
       74DI202,  AR09,    27,  1,   -999,      5,2,19930516,1354,-32.8313,   0.8343, 4473,   3170.9,   2.3230,  34.8670,2,  34.8640,2,  2.0700,   -999.0,9
       74DI202,  AR09,    27,  1,   -999,      4,2,19930516,1354,-32.8313,   0.8343, 4473,   3523.9,   2.2450,  34.8700,2,  34.8680,2,  1.9570,   -999.0,9
       74DI202,  AR09,    27,  1,   -999,      3,2,19930516,1354,-32.8313,   0.8343, 4473,   3878.4,   1.7110,  34.8090,2,  34.8060,2,  1.3990,    225.3,2
       74DI202,  AR09,    27,  1,   -999,      2,2,19930516,1354,-32.8313,   0.8343, 4473,   4241.0,   1.1790,  34.7470,2,  34.7480,2,  0.8420,    218.2,2
       74DI202,  AR09,    27,  1,   -999,      1,2,19930516,1354,-32.8313,   0.8343, 4473,   4548.4,   1.0870,  34.7380,2,  34.7370,2,  0.7190,    217.4,2
       74DI202,  AR09,    28,  1,   -999,     24,2,19930516,2202,-32.8322,   1.8297, 1357,     13.8,  18.7510,  35.5800,2,  35.5820,2, 18.7490,   -999.0,9
       74DI202,  AR09,    28,  1,   -999,     23,2,19930516,2202,-32.8322,   1.8297, 1357,     34.1,  18.7560,  35.5810,2,  35.5810,2, 18.7500,   -999.0,9
       74DI202,  AR09,    28,  1,   -999,     22,2,19930516,2202,-32.8322,   1.8297, 1357,     62.2,  18.7490,  35.5780,2,  35.5790,2, 18.7380,   -999.0,9
       74DI202,  AR09,    28,  1,   -999,     21,2,19930516,2202,-32.8322,   1.8297, 1357,    103.0,  16.3350,  35.4490,2,  35.4460,2, 16.3190,   -999.0,9
       74DI202,  AR09,    28,  1,   -999,     20,2,19930516,2202,-32.8322,   1.8297, 1357,    154.0,  14.6500,  35.2910,2,  35.3000,2, 14.6270,   -999.0,9
       74DI202,  AR09,    28,  1,   -999,     19,2,19930516,2202,-32.8322,   1.8297, 1357,    204.6,  13.4180,  35.1480,2,  35.1520,2, 13.3900,   -999.0,9
       74DI202,  AR09,    28,  1,   -999,     18,2,19930516,2202,-32.8322,   1.8297, 1357,    254.8,  12.8010,  35.0950,2,  35.0900,2, 12.7660,   -999.0,9
       74DI202,  AR09,    28,  1,   -999,     17,2,19930516,2202,-32.8322,   1.8297, 1357,    304.7,  11.9360,  35.0110,2,  35.0140,2, 11.8960,   -999.0,9
       74DI202,  AR09,    28,  1,   -999,     16,2,19930516,2202,-32.8322,   1.8297, 1357,    353.2,  11.1740,  34.9220,2,  34.9220,2, 11.1300,   -999.0,9
       74DI202,  AR09,    28,  1,   -999,     15,2,19930516,2202,-32.8322,   1.8297, 1357,    402.1,  10.1440,  34.7950,2,  34.8010,2, 10.0960,   -999.0,9
       74DI202,  AR09,    28,  1,   -999,     14,2,19930516,2202,-32.8322,   1.8297, 1357,    455.0,   9.2140,  34.6960,2,  34.6960,2,  9.1630,   -999.0,9
       74DI202,  AR09,    28,  1,   -999,     13,2,19930516,2202,-32.8322,   1.8297, 1357,    508.9,   8.3320,  34.6010,2,  34.6010,2,  8.2790,   -999.0,9
       74DI202,  AR09,    28,  1,   -999,     12,2,19930516,2202,-32.8322,   1.8297, 1357,    558.8,   7.6190,  34.5370,2,  34.5330,2,  7.5630,   -999.0,9
       74DI202,  AR09,    28,  1,   -999,     11,2,19930516,2202,-32.8322,   1.8297, 1357,    618.2,   6.5380,  34.4400,2,  34.4400,2,  6.4810,   -999.0,9
       74DI202,  AR09,    28,  1,   -999,     10,2,19930516,2202,-32.8322,   1.8297, 1357,    694.1,   5.6980,  34.3620,2,  34.3680,2,  5.6380,   -999.0,9
       74DI202,  AR09,    28,  1,   -999,      9,2,19930516,2202,-32.8322,   1.8297, 1357,    770.7,   4.8260,  34.3170,2,  34.3190,2,  4.7640,   -999.0,9
       74DI202,  AR09,    28,  1,   -999,      8,2,19930516,2202,-32.8322,   1.8297, 1357,    845.3,   4.3420,  34.3150,2,  34.3160,2,  4.2770,   -999.0,9
       74DI202,  AR09,    28,  1,   -999,      7,2,19930516,2202,-32.8322,   1.8297, 1357,    922.0,   3.9510,  34.3390,2,  34.3400,2,  3.8830,   -999.0,9
       74DI202,  AR09,    28,  1,   -999,      6,2,19930516,2202,-32.8322,   1.8297, 1357,    991.6,   3.5620,  34.3560,2,  34.3560,2,  3.4910,   -999.0,9
       74DI202,  AR09,    28,  1,   -999,      5,2,19930516,2202,-32.8322,   1.8297, 1357,   1074.2,   3.3470,  34.3930,2,  34.3900,2,  3.2700,   -999.0,9
       74DI202,  AR09,    28,  1,   -999,      4,2,19930516,2202,-32.8322,   1.8297, 1357,   1153.4,   3.1600,  34.4460,2,  34.4470,2,  3.0790,   -999.0,9
       74DI202,  AR09,    28,  1,   -999,      3,2,19930516,2202,-32.8322,   1.8297, 1357,   1232.6,   3.1740,  34.4970,2,  34.4970,2,  3.0860,   -999.0,9
       74DI202,  AR09,    28,  1,   -999,      2,2,19930516,2202,-32.8322,   1.8297, 1357,   1349.1,   3.0720,  34.5620,2,  34.5480,2,  2.9760,   -999.0,9
       74DI202,  AR09,    28,  1,   -999,      1,2,19930516,2202,-32.8322,   1.8297, 1357,   1376.8,   3.0510,  34.5790,2,  34.5790,2,  2.9530,   -999.0,9
       74DI202,  AR09,    29,  1,   -999,     24,2,19930517,0519,-32.8360,   2.9942, 4851,     14.8,  18.1890,  35.3590,2,  35.3570,2, 18.1860,    245.4,2
       74DI202,  AR09,    29,  1,   -999,     23,2,19930517,0519,-32.8360,   2.9942, 4851,     30.8,  18.1870,  35.3590,2,  35.3550,2, 18.1810,    235.3,2
       74DI202,  AR09,    29,  1,   -999,     22,2,19930517,0519,-32.8360,   2.9942, 4851,     56.1,  18.1720,  35.3680,2,  35.3590,2, 18.1620,    236.0,2
       74DI202,  AR09,    29,  1,   -999,     21,2,19930517,0519,-32.8360,   2.9942, 4851,     81.3,  16.1600,  35.4470,2,  35.4520,2, 16.1470,    247.6,2
       74DI202,  AR09,    29,  1,   -999,     20,2,19930517,0519,-32.8360,   2.9942, 4851,    130.4,  15.1370,  35.4120,2,  35.4120,2, 15.1170,    233.5,2
       74DI202,  AR09,    29,  1,   -999,     19,2,19930517,0519,-32.8360,   2.9942, 4851,    232.0,  13.0330,  35.1150,2,-999.0000,9, 13.0010,    234.8,2
       74DI202,  AR09,    29,  1,   -999,     18,2,19930517,0519,-32.8360,   2.9942, 4851,    334.0,  11.8390,  35.0040,2,  35.0090,2, 11.7960,    222.5,2
       74DI202,  AR09,    29,  1,   -999,     17,2,19930517,0519,-32.8360,   2.9942, 4851,    436.1,   9.9610,  34.7640,2,  34.7740,2,  9.9100,    225.5,2
       74DI202,  AR09,    29,  1,   -999,     16,2,19930517,0519,-32.8360,   2.9942, 4851,    536.1,   8.1020,  34.5730,2,  34.5740,2,  8.0470,    214.7,2
       74DI202,  AR09,    29,  1,   -999,     15,2,19930517,0519,-32.8360,   2.9942, 4851,    638.6,   6.4340,  34.4140,2,  34.4160,2,  6.3750,    222.0,2
       74DI202,  AR09,    29,  1,   -999,     14,2,19930517,0519,-32.8360,   2.9942, 4851,    840.7,   4.4660,  34.2930,2,  34.2990,2,  4.4010,    231.9,2
       74DI202,  AR09,    29,  1,   -999,     13,2,19930517,0519,-32.8360,   2.9942, 4851,   1044.5,   3.6690,  34.3810,2,  34.3850,2,  3.5920,    203.7,2
       74DI202,  AR09,    29,  1,   -999,     12,2,19930517,0519,-32.8360,   2.9942, 4851,   1247.1,   3.1770,  34.4780,2,  34.4780,2,  3.0880,    191.1,2
       74DI202,  AR09,    29,  1,   -999,     11,2,19930517,0519,-32.8360,   2.9942, 4851,   1450.1,   2.9190,  34.5850,2,  34.5850,2,  2.8160,    191.1,2
       74DI202,  AR09,    29,  1,   -999,     10,2,19930517,0519,-32.8360,   2.9942, 4851,   1651.4,   2.8480,  34.6870,2,  34.6870,2,  2.7290,    192.9,2
       74DI202,  AR09,    29,  1,   -999,      9,2,19930517,0519,-32.8360,   2.9942, 4851,   1854.0,   2.7640,  34.7650,2,  34.7660,2,  2.6280,    201.9,2
       74DI202,  AR09,    29,  1,   -999,      8,2,19930517,0519,-32.8360,   2.9942, 4851,   2155.1,   2.6860,  34.8210,2,-999.0000,9,  2.5250,    216.2,2
       74DI202,  AR09,    29,  1,   -999,      7,2,19930517,0519,-32.8360,   2.9942, 4851,   2460.7,   2.5210,  34.8430,2,  34.8420,2,  2.3340,    224.2,2
       74DI202,  AR09,    29,  1,   -999,      6,2,19930517,0519,-32.8360,   2.9942, 4851,   2973.2,   2.3240,  34.8540,2,  34.8540,2,  2.0910,    230.5,2
       74DI202,  AR09,    29,  1,   -999,      5,2,19930517,0519,-32.8360,   2.9942, 4851,   3384.2,   2.2090,  34.8530,2,  34.8510,2,  1.9370,    232.0,2
       74DI202,  AR09,    29,  1,   -999,      4,2,19930517,0519,-32.8360,   2.9942, 4851,   3795.7,   1.7000,  34.8010,2,  34.7970,2,  1.3970,   -999.0,9
       74DI202,  AR09,    29,  1,   -999,      3,2,19930517,0519,-32.8360,   2.9942, 4851,   4207.2,   1.1770,  34.7480,2,  34.7480,2,  0.8440,    220.5,2
       74DI202,  AR09,    29,  1,   -999,      2,2,19930517,0519,-32.8360,   2.9942, 4851,   4619.2,   1.0900,  34.7380,2,  34.7380,2,  0.7140,   -999.0,9
       74DI202,  AR09,    29,  1,   -999,      1,2,19930517,0519,-32.8360,   2.9942, 4851,   4921.3,   1.0900,  34.7350,2,  34.7350,2,  0.6780,    218.3,2
       74DI202,  AR09,    30,  1,   -999,     24,2,19930519,0920,-34.6543,  -0.2403, 4546,     12.8,  18.0240,  35.4780,2,  35.4510,2, 18.0220,    238.0,2
       74DI202,  AR09,    30,  1,   -999,     23,2,19930519,0920,-34.6543,  -0.2403, 4546,     53.7,  18.0210,  35.4760,2,-999.0000,9, 18.0110,    229.6,2
       74DI202,  AR09,    30,  1,   -999,     22,2,19930519,0920,-34.6543,  -0.2403, 4546,    102.8,  16.6260,  35.3830,2,  35.3800,2, 16.6100,    241.0,2
       74DI202,  AR09,    30,  1,   -999,     21,2,19930519,0920,-34.6543,  -0.2403, 4546,    178.6,  13.9750,  35.2120,2,-999.0000,9, 13.9490,    225.4,2
       74DI202,  AR09,    30,  1,   -999,     20,2,19930519,0920,-34.6543,  -0.2403, 4546,    255.9,  12.7600,  35.0510,2,  35.0470,2, 12.7250,    232.5,2
       74DI202,  AR09,    30,  1,   -999,     19,2,19930519,0920,-34.6543,  -0.2403, 4546,    357.2,  12.0470,  35.0060,2,-999.0000,9, 12.0000,    232.3,2
       74DI202,  AR09,    30,  1,   -999,     18,2,19930519,0920,-34.6543,  -0.2403, 4546,    387.5,  11.5710,  34.9380,2,  34.9380,2, 11.5210,    229.6,2
       74DI202,  AR09,    30,  1,   -999,     17,2,19930519,0920,-34.6543,  -0.2403, 4546,    416.6,  11.0780,  34.8870,2,  34.8870,2, 11.0260,    213.5,2
       74DI202,  AR09,    30,  1,   -999,     16,2,19930519,0920,-34.6543,  -0.2403, 4546,    444.7,  11.0870,  34.9190,2,  34.9170,2, 11.0310,    218.6,2
       74DI202,  AR09,    30,  1,   -999,     15,2,19930519,0920,-34.6543,  -0.2403, 4546,    506.5,   9.9310,  34.7540,2,-999.0000,9,  9.8720,    221.1,2
       74DI202,  AR09,    30,  1,   -999,     14,2,19930519,0920,-34.6543,  -0.2403, 4546,    556.6,   9.0680,  34.6570,2,  34.6610,2,  9.0070,    217.6,2
       74DI202,  AR09,    30,  1,   -999,     13,2,19930519,0920,-34.6543,  -0.2403, 4546,    608.6,   8.4520,  34.6100,2,-999.0000,9,  8.3870,    212.6,2
       74DI202,  AR09,    30,  1,   -999,     12,2,19930519,0920,-34.6543,  -0.2403, 4546,    656.8,   7.8040,  34.5490,2,-999.0000,9,  7.7370,    218.8,2
       74DI202,  AR09,    30,  1,   -999,     11,2,19930519,0920,-34.6543,  -0.2403, 4546,    703.3,   7.1260,  34.4860,2,-999.0000,9,  7.0580,    210.8,2
       74DI202,  AR09,    30,  1,   -999,     10,2,19930519,0920,-34.6543,  -0.2403, 4546,    751.6,   6.1700,  34.3950,2,  34.4020,2,  6.1030,    220.7,2
       74DI202,  AR09,    30,  1,   -999,      9,2,19930519,0920,-34.6543,  -0.2403, 4546,    800.1,   5.5040,  34.3750,2,-999.0000,9,  5.4350,    222.3,2
       74DI202,  AR09,    30,  1,   -999,      8,2,19930519,0920,-34.6543,  -0.2403, 4546,    904.5,   4.6690,  34.3180,2,  34.3170,2,  4.5970,    217.8,2
       74DI202,  AR09,    30,  1,   -999,      7,2,19930519,0920,-34.6543,  -0.2403, 4546,    994.8,   4.1650,  34.3280,2,  34.3250,2,  4.0890,    216.2,2
       74DI202,  AR09,    30,  1,   -999,      6,2,19930519,0920,-34.6543,  -0.2403, 4546,   1089.8,   3.5850,  34.3370,2,  34.3390,2,  3.5060,    206.9,2
       74DI202,  AR09,    30,  1,   -999,      5,2,19930519,0920,-34.6543,  -0.2403, 4546,   1183.6,   3.4680,  34.4070,2,  34.4070,2,  3.3820,    190.3,2
       74DI202,  AR09,    30,  1,   -999,      4,2,19930519,0920,-34.6543,  -0.2403, 4546,   1283.3,   3.0360,  34.4380,2,  34.4390,2,  2.9460,    191.5,2
       74DI202,  AR09,    30,  1,   -999,      3,2,19930519,0920,-34.6543,  -0.2403, 4546,   1388.6,   2.9340,  34.4860,2,  34.4870,2,  2.8360,    184.0,2
       74DI202,  AR09,    30,  1,   -999,      2,2,19930519,0920,-34.6543,  -0.2403, 4546,   1478.7,   2.9100,  34.5490,2,-999.0000,9,  2.8050,    184.1,2
       74DI202,  AR09,    30,  1,   -999,      1,2,19930519,0920,-34.6543,  -0.2403, 4546,   1549.4,   2.8950,  34.6010,2,  34.5980,2,  2.7850,    183.0,2
       74DI202,  AR09,    31,  1,   -999,     24,2,19930519,1458,-33.9378,  -0.0087, 4544,     13.3,  17.1250,  35.2620,2,  35.2660,2, 17.1230,    240.3,2
       74DI202,  AR09,    31,  1,   -999,     23,2,19930519,1458,-33.9378,  -0.0087, 4544,     52.8,  16.5970,  35.2570,2,-999.0000,9, 16.5880,    244.6,2
       74DI202,  AR09,    31,  1,   -999,     22,2,19930519,1458,-33.9378,  -0.0087, 4544,    104.4,  13.0990,  35.1610,2,  35.1610,2, 13.0850,    241.3,2
       74DI202,  AR09,    31,  1,   -999,     21,2,19930519,1458,-33.9378,  -0.0087, 4544,    153.1,  13.0280,  35.1900,2,-999.0000,9, 13.0070,    241.8,2
       74DI202,  AR09,    31,  1,   -999,     20,2,19930519,1458,-33.9378,  -0.0087, 4544,    204.7,  13.0710,  35.2090,2,  35.2090,2, 13.0430,    245.1,2
       74DI202,  AR09,    31,  1,   -999,     19,2,19930519,1458,-33.9378,  -0.0087, 4544,    256.7,  13.1090,  35.2200,2,-999.0000,9, 13.0730,    246.7,2
       74DI202,  AR09,    31,  1,   -999,     18,2,19930519,1458,-33.9378,  -0.0087, 4544,    306.2,  13.1210,  35.2230,2,  35.2220,2, 13.0780,    245.0,2
       74DI202,  AR09,    31,  1,   -999,     17,2,19930519,1458,-33.9378,  -0.0087, 4544,    357.5,  13.1490,  35.2300,2,  35.2300,2, 13.0990,    246.9,2
       74DI202,  AR09,    31,  1,   -999,     16,2,19930519,1458,-33.9378,  -0.0087, 4544,    407.3,  13.1730,  35.2350,2,  35.2330,2, 13.1160,    245.1,2
       74DI202,  AR09,    31,  1,   -999,     15,2,19930519,1458,-33.9378,  -0.0087, 4544,    458.0,  13.1810,  35.2370,2,-999.0000,9, 13.1170,    249.5,2
       74DI202,  AR09,    31,  1,   -999,     14,2,19930519,1458,-33.9378,  -0.0087, 4544,    507.9,  12.8400,  35.1800,2,  35.1760,2, 12.7700,    244.1,2
       74DI202,  AR09,    31,  1,   -999,     13,2,19930519,1458,-33.9378,  -0.0087, 4544,    583.1,  11.0190,  34.8880,2,-999.0000,9, 10.9460,    217.0,2
       74DI202,  AR09,    31,  1,   -999,     12,2,19930519,1458,-33.9378,  -0.0087, 4544,    659.0,   9.5250,  34.7240,2,  34.7270,2,  9.4490,    212.5,2
       74DI202,  AR09,    31,  1,   -999,     11,2,19930519,1458,-33.9378,  -0.0087, 4544,    735.9,   8.2890,  34.5890,2,-999.0000,9,  8.2110,    214.5,2
       74DI202,  AR09,    31,  1,   -999,     10,2,19930519,1458,-33.9378,  -0.0087, 4544,    810.7,   7.0320,  34.4720,2,  34.4680,2,  6.9530,    216.3,2
       74DI202,  AR09,    31,  1,   -999,      9,2,19930519,1458,-33.9378,  -0.0087, 4544,    887.9,   5.5270,  34.3380,2,-999.0000,9,  5.4510,    225.4,2
       74DI202,  AR09,    31,  1,   -999,      8,2,19930519,1458,-33.9378,  -0.0087, 4544,    965.3,   4.8070,  34.2940,2,  34.2990,2,  4.7280,   -999.0,9
       74DI202,  AR09,    31,  1,   -999,      7,2,19930519,1458,-33.9378,  -0.0087, 4544,   1038.5,   4.1480,  34.2860,2,  34.2860,2,  4.0680,    227.2,2
       74DI202,  AR09,    31,  1,   -999,      6,2,19930519,1458,-33.9378,  -0.0087, 4544,   1113.5,   3.8250,  34.3000,2,  34.2990,2,  3.7420,   -999.0,9
       74DI202,  AR09,    31,  1,   -999,      5,2,19930519,1458,-33.9378,  -0.0087, 4544,   1185.8,   3.5190,  34.3390,2,  34.3380,2,  3.4320,    210.4,2
       74DI202,  AR09,    31,  1,   -999,      4,2,19930519,1458,-33.9378,  -0.0087, 4544,   1263.0,   3.2830,  34.3800,2,  34.3820,2,  3.1930,    200.8,2
       74DI202,  AR09,    31,  1,   -999,      3,2,19930519,1458,-33.9378,  -0.0087, 4544,   1342.4,   3.1820,  34.4210,2,  34.4210,2,  3.0850,    199.4,2
       74DI202,  AR09,    31,  1,   -999,      2,2,19930519,1458,-33.9378,  -0.0087, 4544,   1444.4,   3.0580,  34.4810,2,-999.0000,9,  2.9550,    191.3,2
       74DI202,  AR09,    31,  1,   -999,      1,2,19930519,1458,-33.9378,  -0.0087, 4544,   1544.9,   2.9010,  34.5410,2,  34.5400,2,  2.7910,    182.6,2