BOTTLE,20050923WHPSIOSA
EXPOCODE,SECT_ID,STNNBR,CASTNO,SAMPNO,BTLNBR,BTLNBR_FLAG_W,DATE,TIME,LATITUDE,LONGITUDE,DEPTH,CTDPRS,CTDTMP,CTDSAL,CTDSAL_FLAG_W,SALNTY,SALNTY_FLAG_W,THETA,OXYGEN,OXYGEN_FLAG_W
,,,,,,,,,,,,DBAR,ITS-68,PSS-78,,PSS-78,,DEG C,UMOL/KG,
       74DI202,  AR09,    43,  1,   -999,     24,2,19930525,0226,-33.9300,   9.3600, 4989,     15.0,  18.5250,  35.6380,2,  35.6400,2, 18.5230,    230.3,2
       74DI202,  AR09,    43,  1,   -999,     23,2,19930525,0226,-33.9300,   9.3600, 4989,     53.5,  18.5320,  35.6380,2,  35.6390,2, 18.5230,    230.4,2
       74DI202,  AR09,    43,  1,   -999,     22,2,19930525,0226,-33.9300,   9.3600, 4989,    104.8,  17.4570,  35.5010,2,-999.0000,9, 17.4400,    206.4,2
       74DI202,  AR09,    43,  1,   -999,     21,2,19930525,0226,-33.9300,   9.3600, 4989,    153.4,  15.5330,  35.4380,2,-999.0000,9, 15.5090,    223.0,2
       74DI202,  AR09,    43,  1,   -999,     20,2,19930525,0226,-33.9300,   9.3600, 4989,    204.5,  14.6080,  35.3390,2,  35.3370,2, 14.5780,    226.5,2
       74DI202,  AR09,    43,  1,   -999,     19,2,19930525,0226,-33.9300,   9.3600, 4989,    255.9,  13.4690,  35.1340,2,-999.0000,9, 13.4330,    230.7,2
       74DI202,  AR09,    43,  1,   -999,     18,2,19930525,0226,-33.9300,   9.3600, 4989,    303.4,  13.3840,  35.2110,2,  35.2090,2, 13.3410,    217.0,2
       74DI202,  AR09,    43,  1,   -999,     17,2,19930525,0226,-33.9300,   9.3600, 4989,    355.3,  12.5350,  35.1030,2,-999.0000,9, 12.4870,    220.7,2
       74DI202,  AR09,    43,  1,   -999,     16,2,19930525,0226,-33.9300,   9.3600, 4989,    398.7,  11.9770,  35.0330,2,  35.0380,2, 11.9250,    220.6,2
       74DI202,  AR09,    43,  1,   -999,     15,2,19930525,0226,-33.9300,   9.3600, 4989,    442.1,  11.1480,  34.9250,2,-999.0000,9, 11.0920,    221.5,2
       74DI202,  AR09,    43,  1,   -999,     14,2,19930525,0226,-33.9300,   9.3600, 4989,    497.3,  10.2930,  34.8180,2,  34.8180,2, 10.2340,    219.6,2
       74DI202,  AR09,    43,  1,   -999,     13,2,19930525,0226,-33.9300,   9.3600, 4989,    569.6,   9.2710,  34.7020,2,-999.0000,9,  9.2070,    215.7,2
       74DI202,  AR09,    43,  1,   -999,     12,2,19930525,0226,-33.9300,   9.3600, 4989,    647.7,   8.0160,  34.5850,2,  34.5860,2,  7.9490,    206.6,2
       74DI202,  AR09,    43,  1,   -999,     11,2,19930525,0226,-33.9300,   9.3600, 4989,    718.3,   6.8610,  34.4880,2,-999.0000,9,  6.7930,    204.4,2
       74DI202,  AR09,    43,  1,   -999,     10,2,19930525,0226,-33.9300,   9.3600, 4989,    787.5,   5.8240,  34.4130,2,  34.4010,2,  5.7540,    213.7,2
       74DI202,  AR09,    43,  1,   -999,      9,2,19930525,0226,-33.9300,   9.3600, 4989,    860.0,   5.2160,  34.3720,2,-999.0000,9,  5.1440,    213.8,2
       74DI202,  AR09,    43,  1,   -999,      8,2,19930525,0226,-33.9300,   9.3600, 4989,    935.6,   4.7150,  34.3900,2,  34.3940,2,  4.6390,    203.4,2
       74DI202,  AR09,    43,  1,   -999,      7,2,19930525,0226,-33.9300,   9.3600, 4989,   1017.2,   4.1860,  34.3850,2,-999.0000,9,  4.1080,    200.2,2
       74DI202,  AR09,    43,  1,   -999,      6,2,19930525,0226,-33.9300,   9.3600, 4989,   1091.4,   3.5800,  34.3700,2,  34.3710,2,  3.5000,    202.3,2
       74DI202,  AR09,    43,  1,   -999,      5,2,19930525,0226,-33.9300,   9.3600, 4989,   1171.3,   3.4820,  34.4130,2,-999.0000,9,  3.3970,    193.2,2
       74DI202,  AR09,    43,  1,   -999,      4,2,19930525,0226,-33.9300,   9.3600, 4989,   1248.9,   3.1510,  34.4410,2,  34.4430,2,  3.0620,    190.3,2
       74DI202,  AR09,    43,  1,   -999,      3,2,19930525,0226,-33.9300,   9.3600, 4989,   1330.9,   3.1120,  34.5100,2,-999.0000,9,  3.0170,    181.7,2
       74DI202,  AR09,    43,  1,   -999,      2,2,19930525,0226,-33.9300,   9.3600, 4989,   1428.4,   3.0020,  34.5750,2,  34.5810,2,  2.9000,    180.8,2
       74DI202,  AR09,    43,  1,   -999,      1,2,19930525,0226,-33.9300,   9.3600, 4989,   1544.0,   2.9670,  34.6410,2,-999.0000,9,  2.8560,    185.0,2
       74DI202,  AR09,    44,  1,   -999,     24,2,19930525,0654,-33.4500,   9.3400, 5018,     14.6,  18.5540,  35.6770,2,  35.6790,2, 18.5520,    227.6,2
       74DI202,  AR09,    44,  1,   -999,     23,2,19930525,0654,-33.4500,   9.3400, 5018,     76.5,  18.5710,  35.6780,2,  35.6790,2, 18.5570,    227.4,2
       74DI202,  AR09,    44,  1,   -999,     22,2,19930525,0654,-33.4500,   9.3400, 5018,    126.6,  17.4820,  35.5620,2,-999.0000,9, 17.4600,    201.0,2
       74DI202,  AR09,    44,  1,   -999,     21,2,19930525,0654,-33.4500,   9.3400, 5018,    182.0,  16.0830,  35.4840,2,-999.0000,9, 16.0530,    209.3,2
       74DI202,  AR09,    44,  1,   -999,     20,2,19930525,0654,-33.4500,   9.3400, 5018,    227.2,  15.0540,  35.4070,2,-999.0000,9, 15.0190,    212.8,2
       74DI202,  AR09,    44,  1,   -999,     19,2,19930525,0654,-33.4500,   9.3400, 5018,    279.9,  14.2810,  35.2990,2,  35.3000,2, 14.2400,    221.2,2
       74DI202,  AR09,    44,  1,   -999,     18,2,19930525,0654,-33.4500,   9.3400, 5018,    335.1,  13.2790,  35.1680,2,-999.0000,9, 13.2320,    217.1,2
       74DI202,  AR09,    44,  1,   -999,     17,2,19930525,0654,-33.4500,   9.3400, 5018,    384.5,  12.5860,  35.1010,2,  35.1000,2, 12.5340,    219.7,2
       74DI202,  AR09,    44,  1,   -999,     16,2,19930525,0654,-33.4500,   9.3400, 5018,    434.7,  11.9410,  35.0180,2,-999.0000,9, 11.8840,    219.0,2
       74DI202,  AR09,    44,  1,   -999,     15,2,19930525,0654,-33.4500,   9.3400, 5018,    484.0,  11.2320,  34.9390,2,  34.9480,2, 11.1710,    219.7,2
       74DI202,  AR09,    44,  1,   -999,     14,2,19930525,0654,-33.4500,   9.3400, 5018,    533.6,  10.4640,  34.8400,2,-999.0000,9, 10.3990,    216.4,2
       74DI202,  AR09,    44,  1,   -999,     13,2,19930525,0654,-33.4500,   9.3400, 5018,    607.1,   9.2530,  34.7010,2,  34.7080,2,  9.1850,    212.5,2
       74DI202,  AR09,    44,  1,   -999,     12,2,19930525,0654,-33.4500,   9.3400, 5018,    683.0,   8.2160,  34.5990,2,-999.0000,9,  8.1440,    206.9,2
       74DI202,  AR09,    44,  1,   -999,     11,2,19930525,0654,-33.4500,   9.3400, 5018,    758.8,   7.1000,  34.5060,2,  34.5060,2,  7.0260,    201.1,2
       74DI202,  AR09,    44,  1,   -999,     10,2,19930525,0654,-33.4500,   9.3400, 5018,    834.5,   5.9370,  34.4240,2,-999.0000,9,  5.8630,    207.5,2
       74DI202,  AR09,    44,  1,   -999,      9,2,19930525,0654,-33.4500,   9.3400, 5018,    909.8,   4.9290,  34.3470,2,  34.3480,2,  4.8540,    216.0,2
       74DI202,  AR09,    44,  1,   -999,      8,2,19930525,0654,-33.4500,   9.3400, 5018,    985.7,   4.5280,  34.3580,2,-999.0000,9,  4.4490,    211.9,2
       74DI202,  AR09,    44,  1,   -999,      7,2,19930525,0654,-33.4500,   9.3400, 5018,   1059.1,   4.1300,  34.3720,2,  34.3740,2,  4.0480,    203.1,2
       74DI202,  AR09,    44,  1,   -999,      6,2,19930525,0654,-33.4500,   9.3400, 5018,   1132.4,   3.7260,  34.3930,2,-999.0000,9,  3.6420,    194.4,2
       74DI202,  AR09,    44,  1,   -999,      5,2,19930525,0654,-33.4500,   9.3400, 5018,   1201.4,   3.4660,  34.4190,2,  34.4210,2,  3.3790,    192.2,2
       74DI202,  AR09,    44,  1,   -999,      4,2,19930525,0654,-33.4500,   9.3400, 5018,   1269.0,   3.2450,  34.4450,2,-999.0000,9,  3.1540,    187.2,2
       74DI202,  AR09,    44,  1,   -999,      3,2,19930525,0654,-33.4500,   9.3400, 5018,   1322.8,   3.1540,  34.4790,2,  34.4820,2,  3.0590,    186.7,2
       74DI202,  AR09,    44,  1,   -999,      2,2,19930525,0654,-33.4500,   9.3400, 5018,   1434.1,   3.0060,  34.5340,2,-999.0000,9,  2.9040,    182.0,2
       74DI202,  AR09,    44,  1,   -999,      1,2,19930525,0654,-33.4500,   9.3400, 5018,   1525.2,   2.9380,  34.5860,2,  34.5870,2,  2.8280,    184.8,2
       74DI202,  AR09,    45,  1,   -999,     24,2,19930525,1114,-32.9555,   9.3208, 5024,     14.2,  18.5220,  35.7180,2,  35.7120,2, 18.5200,    228.9,2
       74DI202,  AR09,    45,  1,   -999,     23,2,19930525,1114,-32.9555,   9.3208, 5024,     54.3,  18.5310,  35.7200,2,  35.7200,2, 18.5210,    227.4,2
       74DI202,  AR09,    45,  1,   -999,     22,2,19930525,1114,-32.9555,   9.3208, 5024,    105.1,  18.1130,  35.6720,2,-999.0000,9, 18.0950,    216.0,2
       74DI202,  AR09,    45,  1,   -999,     21,2,19930525,1114,-32.9555,   9.3208, 5024,    155.4,  17.0710,  35.5730,2,-999.0000,9, 17.0450,    203.9,2
       74DI202,  AR09,    45,  1,   -999,     20,2,19930525,1114,-32.9555,   9.3208, 5024,    208.1,  16.4530,  35.5440,2,-999.0000,9, 16.4190,    211.1,2
       74DI202,  AR09,    45,  1,   -999,     19,2,19930525,1114,-32.9555,   9.3208, 5024,    258.1,  15.4070,  35.4560,2,  35.4540,2, 15.3670,    203.3,2
       74DI202,  AR09,    45,  1,   -999,     18,2,19930525,1114,-32.9555,   9.3208, 5024,    305.1,  14.6310,  35.3920,2,-999.0000,9, 14.5850,    206.9,2
       74DI202,  AR09,    45,  1,   -999,     17,2,19930525,1114,-32.9555,   9.3208, 5024,    355.1,  13.8930,  35.3180,2,  35.3150,2, 13.8420,    211.2,2
       74DI202,  AR09,    45,  1,   -999,     16,2,19930525,1114,-32.9555,   9.3208, 5024,    408.5,  13.2130,  35.2560,2,-999.0000,9, 13.1560,    217.3,2
       74DI202,  AR09,    45,  1,   -999,     15,2,19930525,1114,-32.9555,   9.3208, 5024,    459.6,  12.5090,  35.1330,2,  35.1400,2, 12.4470,    215.6,2
       74DI202,  AR09,    45,  1,   -999,     14,2,19930525,1114,-32.9555,   9.3208, 5024,    506.6,  12.1160,  35.0860,2,-999.0000,9, 12.0490,    223.6,2
       74DI202,  AR09,    45,  1,   -999,     13,2,19930525,1114,-32.9555,   9.3208, 5024,    582.3,  11.2500,  34.9610,2,  34.9640,2, 11.1760,    216.2,2
       74DI202,  AR09,    45,  1,   -999,     12,2,19930525,1114,-32.9555,   9.3208, 5024,    660.9,  10.3220,  34.8470,2,-999.0000,9, 10.2420,    215.7,2
       74DI202,  AR09,    45,  1,   -999,     11,2,19930525,1114,-32.9555,   9.3208, 5024,    737.5,   9.3310,  34.7370,2,  34.7290,2,  9.2470,    208.6,2
       74DI202,  AR09,    45,  1,   -999,     10,2,19930525,1114,-32.9555,   9.3208, 5024,    813.9,   8.4170,  34.6300,2,-999.0000,9,  8.3290,    204.8,2
       74DI202,  AR09,    45,  1,   -999,      9,2,19930525,1114,-32.9555,   9.3208, 5024,    885.2,   6.9850,  34.4770,2,  34.4780,2,  6.8990,    210.6,2
       74DI202,  AR09,    45,  1,   -999,      8,2,19930525,1114,-32.9555,   9.3208, 5024,    953.4,   5.7560,  34.3860,2,-999.0000,9,  5.6710,    215.0,2
       74DI202,  AR09,    45,  1,   -999,      7,2,19930525,1114,-32.9555,   9.3208, 5024,   1031.6,   4.6960,  34.3150,2,  34.3180,2,  4.6130,   -999.0,9
       74DI202,  AR09,    45,  1,   -999,      7,2,19930525,1114,-32.9555,   9.3208, 5024,   1032.1,   4.6990,  34.3160,2,  34.3340,2,  4.6150,    222.9,2
       74DI202,  AR09,    45,  1,   -999,      6,2,19930525,1114,-32.9555,   9.3208, 5024,   1111.1,   4.4980,  34.3450,2,-999.0000,9,  4.4090,    212.6,2
       74DI202,  AR09,    45,  1,   -999,      5,2,19930525,1114,-32.9555,   9.3208, 5024,   1187.3,   4.0730,  34.3750,2,  34.3750,2,  3.9810,    201.1,2
       74DI202,  AR09,    45,  1,   -999,      4,2,19930525,1114,-32.9555,   9.3208, 5024,   1256.4,   3.7250,  34.3910,2,-999.0000,9,  3.6310,    196.0,2
       74DI202,  AR09,    45,  1,   -999,      3,2,19930525,1114,-32.9555,   9.3208, 5024,   1330.2,   3.5080,  34.4220,2,  34.4270,2,  3.4090,    190.3,2
       74DI202,  AR09,    45,  1,   -999,      2,2,19930525,1114,-32.9555,   9.3208, 5024,   1431.7,   3.1800,  34.4770,2,-999.0000,9,  3.0760,    184.6,2
       74DI202,  AR09,    45,  1,   -999,      1,2,19930525,1114,-32.9555,   9.3208, 5024,   1540.3,   2.9770,  34.5260,2,  34.5260,2,  2.8660,    182.7,2
       74DI202,  AR09,    46,  1,   -999,     24,2,19930525,1536,-32.4692,   9.3028, 4990,     13.6,  18.5210,  35.7150,2,  35.7170,2, 18.5190,    226.7,2
       74DI202,  AR09,    46,  1,   -999,     23,2,19930525,1536,-32.4692,   9.3028, 4990,     72.7,  18.5320,  35.7160,2,  35.7160,2, 18.5190,    228.5,2
       74DI202,  AR09,    46,  1,   -999,     22,2,19930525,1536,-32.4692,   9.3028, 4990,    123.6,  18.4620,  35.6980,2,-999.0000,9, 18.4400,    225.1,2
       74DI202,  AR09,    46,  1,   -999,     21,2,19930525,1536,-32.4692,   9.3028, 4990,    177.2,  17.1280,  35.5580,2,-999.0000,9, 17.0990,    208.0,2
       74DI202,  AR09,    46,  1,   -999,     20,2,19930525,1536,-32.4692,   9.3028, 4990,    230.2,  16.2940,  35.5120,2,-999.0000,9, 16.2570,    202.7,2
       74DI202,  AR09,    46,  1,   -999,     19,2,19930525,1536,-32.4692,   9.3028, 4990,    279.6,  15.4100,  35.4500,2,  35.4480,2, 15.3670,    209.8,2
       74DI202,  AR09,    46,  1,   -999,     18,2,19930525,1536,-32.4692,   9.3028, 4990,    325.6,  14.6490,  35.4580,2,-999.0000,9, 14.6000,    212.1,2
       74DI202,  AR09,    46,  1,   -999,     17,2,19930525,1536,-32.4692,   9.3028, 4990,    369.7,  13.9820,  35.3200,2,  35.3260,2, 13.9280,    208.7,2
       74DI202,  AR09,    46,  1,   -999,     16,2,19930525,1536,-32.4692,   9.3028, 4990,    412.0,  13.4740,  35.2570,2,-999.0000,9, 13.4150,    206.7,2
       74DI202,  AR09,    46,  1,   -999,     15,2,19930525,1536,-32.4692,   9.3028, 4990,    456.6,  12.8160,  35.1740,2,  35.1710,2, 12.7530,    209.6,2
       74DI202,  AR09,    46,  1,   -999,     14,2,19930525,1536,-32.4692,   9.3028, 4990,    513.4,  12.2220,  35.1020,2,-999.0000,9, 12.1530,    223.0,2
       74DI202,  AR09,    46,  1,   -999,     13,2,19930525,1536,-32.4692,   9.3028, 4990,    592.0,  11.3000,  34.9670,2,  34.9690,2, 11.2250,    219.5,2
       74DI202,  AR09,    46,  1,   -999,     12,2,19930525,1536,-32.4692,   9.3028, 4990,    671.9,  10.0330,  34.7850,2,-999.0000,9,  9.9530,    217.3,2
       74DI202,  AR09,    46,  1,   -999,     11,2,19930525,1536,-32.4692,   9.3028, 4990,    752.2,   8.8430,  34.6730,2,  34.6740,2,  8.7600,    206.4,2
       74DI202,  AR09,    46,  1,   -999,     10,2,19930525,1536,-32.4692,   9.3028, 4990,    828.2,   7.6940,  34.5500,2,-999.0000,9,  7.6090,    205.7,2
       74DI202,  AR09,    46,  1,   -999,      9,2,19930525,1536,-32.4692,   9.3028, 4990,    908.3,   6.0080,  34.3780,2,  34.3810,2,  5.9260,    222.9,2
       74DI202,  AR09,    46,  1,   -999,      8,2,19930525,1536,-32.4692,   9.3028, 4990,    981.9,   5.0800,  34.3120,2,-999.0000,9,  4.9980,    227.9,2
       74DI202,  AR09,    46,  1,   -999,      7,2,19930525,1536,-32.4692,   9.3028, 4990,   1057.1,   4.5900,  34.3050,2,  34.3070,2,  4.5050,    226.5,2
       74DI202,  AR09,    46,  1,   -999,      6,2,19930525,1536,-32.4692,   9.3028, 4990,   1134.4,   4.2500,  34.3380,2,-999.0000,9,  4.1610,    211.9,2
       74DI202,  AR09,    46,  1,   -999,      5,2,19930525,1536,-32.4692,   9.3028, 4990,   1208.2,   3.8900,  34.3760,2,  34.3780,2,  3.7980,    200.4,2
       74DI202,  AR09,    46,  1,   -999,      4,2,19930525,1536,-32.4692,   9.3028, 4990,   1289.4,   3.5160,  34.4010,2,-999.0000,9,  3.4210,    195.0,2
       74DI202,  AR09,    46,  1,   -999,      3,2,19930525,1536,-32.4692,   9.3028, 4990,   1360.5,   3.2840,  34.4380,2,  34.4390,2,  3.1850,    191.4,2
       74DI202,  AR09,    46,  1,   -999,      2,2,19930525,1536,-32.4692,   9.3028, 4990,   1464.4,   3.1180,  34.4770,2,-999.0000,9,  3.0130,    187.3,2
       74DI202,  AR09,    46,  1,   -999,      1,2,19930525,1536,-32.4692,   9.3028, 4990,   1543.5,   3.0180,  34.5410,2,  34.5420,2,  2.9070,    181.4,2
       74DI202,  AR09,    47,  1,   -999,     24,2,19930525,2008,-31.9970,   9.2873, 4927,     13.2,  18.6430,  35.6970,2,  35.6990,2, 18.6410,    228.5,2
       74DI202,  AR09,    47,  1,   -999,     23,2,19930525,2008,-31.9970,   9.2873, 4927,     54.5,  18.6490,  35.6970,2,  35.6980,2, 18.6400,    228.7,2
       74DI202,  AR09,    47,  1,   -999,     22,2,19930525,2008,-31.9970,   9.2873, 4927,    103.5,  18.6570,  35.6970,2,-999.0000,9, 18.6390,    228.2,2
       74DI202,  AR09,    47,  1,   -999,     21,2,19930525,2008,-31.9970,   9.2873, 4927,    154.0,  17.1780,  35.5520,2,-999.0000,9, 17.1530,    201.9,2
       74DI202,  AR09,    47,  1,   -999,     20,2,19930525,2008,-31.9970,   9.2873, 4927,    201.7,  16.0300,  35.4810,2,-999.0000,9, 15.9980,    208.3,2
       74DI202,  AR09,    47,  1,   -999,     19,2,19930525,2008,-31.9970,   9.2873, 4927,    256.3,  14.8380,  35.4000,2,-999.0000,9, 14.7990,    219.9,2
       74DI202,  AR09,    47,  1,   -999,     18,2,19930525,2008,-31.9970,   9.2873, 4927,    305.0,  14.0190,  35.2620,2,-999.0000,9, 13.9740,    217.0,2
       74DI202,  AR09,    47,  1,   -999,     17,2,19930525,2008,-31.9970,   9.2873, 4927,    354.7,  13.0270,  35.1440,2,-999.0000,9, 12.9780,    220.8,2
       74DI202,  AR09,    47,  1,   -999,     16,2,19930525,2008,-31.9970,   9.2873, 4927,    403.3,  12.4520,  35.1000,2,  35.1000,2, 12.3970,    220.5,2
       74DI202,  AR09,    47,  1,   -999,     15,2,19930525,2008,-31.9970,   9.2873, 4927,    456.3,  11.9060,  35.0300,2,-999.0000,9, 11.8470,    225.1,2
       74DI202,  AR09,    47,  1,   -999,     14,2,19930525,2008,-31.9970,   9.2873, 4927,    508.4,  11.1560,  34.9290,2,  34.9290,2, 11.0920,    219.2,2
       74DI202,  AR09,    47,  1,   -999,     13,2,19930525,2008,-31.9970,   9.2873, 4927,    582.3,   9.7450,  34.7340,2,-999.0000,9,  9.6770,    221.1,2
       74DI202,  AR09,    47,  1,   -999,     12,2,19930525,2008,-31.9970,   9.2873, 4927,    659.7,   8.4810,  34.6060,2,  34.6130,2,  8.4110,    214.1,2
       74DI202,  AR09,    47,  1,   -999,     11,2,19930525,2008,-31.9970,   9.2873, 4927,    735.1,   7.1990,  34.5120,2,-999.0000,9,  7.1270,    203.7,2
       74DI202,  AR09,    47,  1,   -999,     10,2,19930525,2008,-31.9970,   9.2873, 4927,    810.5,   6.0000,  34.4150,2,  34.4170,2,  5.9270,    209.9,2
       74DI202,  AR09,    47,  1,   -999,      9,2,19930525,2008,-31.9970,   9.2873, 4927,    887.3,   5.0250,  34.3540,2,-999.0000,9,  4.9520,    216.5,2
       74DI202,  AR09,    47,  1,   -999,      8,2,19930525,2008,-31.9970,   9.2873, 4927,    959.6,   4.5300,  34.3390,2,  34.3410,2,  4.4540,    216.0,2
       74DI202,  AR09,    47,  1,   -999,      7,2,19930525,2008,-31.9970,   9.2873, 4927,   1032.3,   4.0780,  34.3460,2,-999.0000,9,  4.0000,    208.1,2
       74DI202,  AR09,    47,  1,   -999,      6,2,19930525,2008,-31.9970,   9.2873, 4927,   1103.7,   3.6940,  34.3540,2,  34.3630,2,  3.6120,    209.7,2
       74DI202,  AR09,    47,  1,   -999,      5,2,19930525,2008,-31.9970,   9.2873, 4927,   1179.4,   3.4220,  34.3930,2,-999.0000,9,  3.3360,    196.7,2
       74DI202,  AR09,    47,  1,   -999,      4,2,19930525,2008,-31.9970,   9.2873, 4927,   1256.9,   3.2860,  34.4410,2,  34.4430,2,  3.1960,    188.4,2
       74DI202,  AR09,    47,  1,   -999,      3,2,19930525,2008,-31.9970,   9.2873, 4927,   1338.0,   3.1540,  34.4910,2,-999.0000,9,  3.0580,    182.7,2
       74DI202,  AR09,    47,  1,   -999,      2,2,19930525,2008,-31.9970,   9.2873, 4927,   1440.7,   2.9330,  34.5350,2,  34.5370,2,  2.8310,   -999.0,9
       74DI202,  AR09,    47,  1,   -999,      1,2,19930525,2008,-31.9970,   9.2873, 4927,   1549.8,   2.9250,  34.6110,2,-999.0000,9,  2.8140,    181.1,2