BOTTLE,20050923WHPSIOSA
EXPOCODE,SECT_ID,STNNBR,CASTNO,SAMPNO,BTLNBR,BTLNBR_FLAG_W,DATE,TIME,LATITUDE,LONGITUDE,DEPTH,CTDPRS,CTDTMP,CTDSAL,CTDSAL_FLAG_W,SALNTY,SALNTY_FLAG_W,THETA,OXYGEN,OXYGEN_FLAG_W
,,,,,,,,,,,,DBAR,ITS-68,PSS-78,,PSS-78,,DEG C,UMOL/KG,
       74DI202,  AR09,    13,  1,   -999,     24,2,19930511,2120,-29.9983,   6.8333, 5083,     14.6,  19.6500,  35.7660,2,  35.7660,2, 19.6470,    226.6,2
       74DI202,  AR09,    13,  1,   -999,     23,2,19930511,2120,-29.9983,   6.8333, 5083,     30.0,  19.6500,  35.7650,2,  35.7670,2, 19.6450,    226.0,2
       74DI202,  AR09,    13,  1,   -999,     22,2,19930511,2120,-29.9983,   6.8333, 5083,     54.4,  19.6090,  35.7630,2,  35.7640,2, 19.5990,    226.0,2
       74DI202,  AR09,    13,  1,   -999,     21,2,19930511,2120,-29.9983,   6.8333, 5083,    127.5,  17.5530,  35.5780,2,  35.5790,2, 17.5310,    207.8,2
       74DI202,  AR09,    13,  1,   -999,     19,2,19930511,2120,-29.9983,   6.8333, 5083,    203.8,  16.2280,  35.5160,2,  35.5130,2, 16.1950,    204.7,2
       74DI202,  AR09,    13,  1,   -999,     20,2,19930511,2120,-29.9983,   6.8333, 5083,    204.1,  16.2360,  35.5160,2,  35.5130,2, 16.2030,    204.6,2
       74DI202,  AR09,    13,  1,   -999,     18,2,19930511,2120,-29.9983,   6.8333, 5083,    254.0,  15.1820,  35.4520,2,  35.4520,2, 15.1430,    228.9,2
       74DI202,  AR09,    13,  1,   -999,     17,2,19930511,2120,-29.9983,   6.8333, 5083,    354.5,  13.6740,  35.2700,2,  35.2720,2, 13.6230,    209.8,2
       74DI202,  AR09,    13,  1,   -999,     16,2,19930511,2120,-29.9983,   6.8333, 5083,    456.0,  12.3660,  35.1130,2,  35.1170,2, 12.3050,    213.9,2
       74DI202,  AR09,    13,  1,   -999,     15,2,19930511,2120,-29.9983,   6.8333, 5083,    582.5,  10.0830,  34.8010,2,  34.7990,2, 10.0140,    213.6,2
       74DI202,  AR09,    13,  1,   -999,     14,2,19930511,2120,-29.9983,   6.8333, 5083,    710.3,   7.5060,  34.5300,2,  34.5330,2,  7.4350,    207.9,2
       74DI202,  AR09,    13,  1,   -999,     13,2,19930511,2120,-29.9983,   6.8333, 5083,    837.2,   5.2790,  34.3390,2,  34.3450,2,  5.2080,    222.5,2
       74DI202,  AR09,    13,  1,   -999,     12,2,19930511,2120,-29.9983,   6.8333, 5083,    963.3,   4.1820,  34.3290,2,  34.3300,2,  4.1080,    215.6,2
       74DI202,  AR09,    13,  1,   -999,     11,2,19930511,2120,-29.9983,   6.8333, 5083,   1267.4,   3.1440,  34.4930,2,-999.0000,9,  3.0540,   -999.0,9
       74DI202,  AR09,    13,  1,   -999,     10,2,19930511,2120,-29.9983,   6.8333, 5083,   1519.6,   3.1930,  34.6970,2,  34.6970,2,  3.0810,    190.1,2
       74DI202,  AR09,    13,  1,   -999,      9,2,19930511,2120,-29.9983,   6.8333, 5083,   1876.3,   3.1380,  34.8190,2,  34.8190,2,  2.9950,    211.0,2
       74DI202,  AR09,    13,  1,   -999,      8,2,19930511,2120,-29.9983,   6.8333, 5083,   2231.5,   2.9000,  34.8570,2,  34.8580,2,  2.7280,    224.4,2
       74DI202,  AR09,    13,  1,   -999,      7,2,19930511,2120,-29.9983,   6.8333, 5083,   2538.0,   2.6590,  34.8590,2,  34.8560,2,  2.4630,    228.9,2
       74DI202,  AR09,    13,  1,   -999,      6,2,19930511,2120,-29.9983,   6.8333, 5083,   2945.0,   2.4610,  34.8600,2,  34.8590,2,  2.2280,    231.4,2
       74DI202,  AR09,    13,  1,   -999,      5,2,19930511,2120,-29.9983,   6.8333, 5083,   3353.9,   2.3410,  34.8610,2,  34.8580,2,  2.0690,    232.2,2
       74DI202,  AR09,    13,  1,   -999,      4,2,19930511,2120,-29.9983,   6.8333, 5083,   3763.7,   2.1930,  34.8500,2,  34.8510,2,  1.8800,    231.5,2
       74DI202,  AR09,    13,  1,   -999,      3,2,19930511,2120,-29.9983,   6.8333, 5083,   4176.1,   1.7040,  34.7990,2,  34.7940,2,  1.3590,    222.5,2
       74DI202,  AR09,    13,  1,   -999,      2,2,19930511,2120,-29.9983,   6.8333, 5083,   4585.7,   1.2290,  34.7480,2,-999.0000,9,  0.8520,    220.9,2
       74DI202,  AR09,    13,  1,   -999,      1,2,19930511,2120,-29.9983,   6.8333, 5083,   5146.6,   1.1660,  34.7360,2,  34.7340,2,  0.7250,    217.6,2
       74DI202,  AR09,    14,  1,   -999,     24,2,19930512,0559,-29.9430,   5.9250, 5132,     15.4,  20.0830,  35.5750,2,  35.5810,2, 20.0810,    225.5,2
       74DI202,  AR09,    14,  1,   -999,     23,2,19930512,0559,-29.9430,   5.9250, 5132,     75.2,  19.8560,  35.5630,2,  35.5700,2, 19.8420,    226.2,2
       74DI202,  AR09,    14,  1,   -999,     22,2,19930512,0559,-29.9430,   5.9250, 5132,    168.4,  14.5040,  35.2840,2,  35.2860,2, 14.4790,    210.6,2
       74DI202,  AR09,    14,  1,   -999,     21,2,19930512,0559,-29.9430,   5.9250, 5132,    295.3,  12.4430,  35.0540,2,  35.0540,2, 12.4040,    199.3,2
       74DI202,  AR09,    14,  1,   -999,     20,2,19930512,0559,-29.9430,   5.9250, 5132,    374.9,  11.2370,  34.9190,2,  34.9230,2, 11.1900,    212.4,2
       74DI202,  AR09,    14,  1,   -999,     19,2,19930512,0559,-29.9430,   5.9250, 5132,    527.8,   9.0720,  34.7030,2,  34.6810,2,  9.0140,    209.3,2
       74DI202,  AR09,    14,  1,   -999,     18,2,19930512,0559,-29.9430,   5.9250, 5132,    627.5,   7.0510,  34.4880,2,  34.4920,2,  6.9900,    206.4,2
       74DI202,  AR09,    14,  1,   -999,     17,2,19930512,0559,-29.9430,   5.9250, 5132,    840.4,   4.5880,  34.3220,2,  34.3230,2,  4.5220,    220.5,2
       74DI202,  AR09,    14,  1,   -999,     16,2,19930512,0559,-29.9430,   5.9250, 5132,   1043.8,   3.6280,  34.3780,2,  34.3790,2,  3.5510,    198.3,2
       74DI202,  AR09,    14,  1,   -999,     15,2,19930512,0559,-29.9430,   5.9250, 5132,   1120.9,   3.4080,  34.4220,2,  34.4220,2,  3.3280,    189.4,2
       74DI202,  AR09,    14,  1,   -999,     14,2,19930512,0559,-29.9430,   5.9250, 5132,   1218.0,   3.2050,  34.4810,2,  34.4840,2,  3.1180,    182.8,2
       74DI202,  AR09,    14,  1,   -999,     13,2,19930512,0559,-29.9430,   5.9250, 5132,   1317.2,   3.0650,  34.5470,2,  34.5480,2,  2.9710,    180.2,2
       74DI202,  AR09,    14,  1,   -999,     12,2,19930512,0559,-29.9430,   5.9250, 5132,   1418.6,   3.0710,  34.6280,2,-999.0000,9,  2.9690,    183.8,2
       74DI202,  AR09,    14,  1,   -999,     11,2,19930512,0559,-29.9430,   5.9250, 5132,   1570.0,   3.1520,  34.7270,2,  34.7210,2,  3.0360,    191.4,2
       74DI202,  AR09,    14,  1,   -999,     10,2,19930512,0559,-29.9430,   5.9250, 5132,   1570.6,   3.1510,  34.7260,2,  34.7230,2,  3.0350,    192.1,2
       74DI202,  AR09,    14,  1,   -999,      9,2,19930512,0559,-29.9430,   5.9250, 5132,   1908.8,   2.9490,  34.8100,2,  34.8090,2,  2.8060,    209.7,2
       74DI202,  AR09,    14,  1,   -999,      8,2,19930512,0559,-29.9430,   5.9250, 5132,   2203.6,   2.8400,  34.8550,2,  34.8460,2,  2.6720,    221.5,2
       74DI202,  AR09,    14,  1,   -999,      7,2,19930512,0559,-29.9430,   5.9250, 5132,   2611.6,   2.5940,  34.8610,2,  34.8570,2,  2.3910,    229.6,2
       74DI202,  AR09,    14,  1,   -999,      6,2,19930512,0559,-29.9430,   5.9250, 5132,   2934.2,   2.4380,  34.8610,2,  34.8630,2,  2.2070,    230.9,2
       74DI202,  AR09,    14,  1,   -999,      5,2,19930512,0559,-29.9430,   5.9250, 5132,   3369.0,   2.3220,  34.8600,2,  34.8580,2,  2.0480,    231.6,2
       74DI202,  AR09,    14,  1,   -999,      4,2,19930512,0559,-29.9430,   5.9250, 5132,   3778.8,   2.1730,  34.8500,2,  34.8430,2,  1.8590,    230.2,2
       74DI202,  AR09,    14,  1,   -999,      3,2,19930512,0559,-29.9430,   5.9250, 5132,   4282.7,   1.4990,  34.7780,2,  34.7730,2,  1.1480,    220.3,2
       74DI202,  AR09,    14,  1,   -999,      2,2,19930512,0559,-29.9430,   5.9250, 5132,   4785.1,   1.1640,  34.7430,2,  34.7510,2,  0.7660,    218.9,2
       74DI202,  AR09,    14,  1,   -999,      1,2,19930512,0559,-29.9430,   5.9250, 5132,   5158.4,   1.1700,  34.7390,2,  34.7380,2,  0.7270,    217.7,2
       74DI202,  AR09,    15,  1,   -999,     22,2,19930512,1333,-30.0005,   5.2337, 4823,     94.8,  16.6120,  35.5000,2,-999.0000,9, 16.5960,   -999.0,9
       74DI202,  AR09,    15,  1,   -999,     21,2,19930512,1333,-30.0005,   5.2337, 4823,    196.0,  14.3060,  35.2930,2,  35.3000,2, 14.2770,    228.3,2
       74DI202,  AR09,    15,  1,   -999,     20,2,19930512,1333,-30.0005,   5.2337, 4823,    358.2,  11.4060,  34.9370,2,  34.9340,2, 11.3600,    214.6,2
       74DI202,  AR09,    15,  1,   -999,     19,2,19930512,1333,-30.0005,   5.2337, 4823,    509.7,   8.5100,  34.6310,2,  34.6430,2,  8.4550,    184.7,2
       74DI202,  AR09,    15,  1,   -999,     18,2,19930512,1333,-30.0005,   5.2337, 4823,    611.4,   6.6350,  34.4800,2,  34.4750,2,  6.5780,    197.6,2
       74DI202,  AR09,    15,  1,   -999,     17,2,19930512,1333,-30.0005,   5.2337, 4823,    711.8,   5.1250,  34.3600,2,  34.3560,2,  5.0670,    214.6,2
       74DI202,  AR09,    15,  1,   -999,     16,2,19930512,1333,-30.0005,   5.2337, 4823,    813.3,   4.4020,  34.3380,2,  34.3310,2,  4.3390,    211.9,2
       74DI202,  AR09,    15,  1,   -999,     15,2,19930512,1333,-30.0005,   5.2337, 4823,    915.8,   4.0660,  34.3900,2,  34.3830,2,  3.9970,    187.2,2
       74DI202,  AR09,    15,  1,   -999,     14,2,19930512,1333,-30.0005,   5.2337, 4823,   1016.2,   3.7250,  34.4250,2,  34.4260,2,  3.6510,    182.6,2
       74DI202,  AR09,    15,  1,   -999,     13,2,19930512,1333,-30.0005,   5.2337, 4823,   1116.2,   3.4830,  34.4780,2,  34.4600,2,  3.4020,    179.6,2
       74DI202,  AR09,    15,  1,   -999,     12,2,19930512,1333,-30.0005,   5.2337, 4823,   1216.4,   3.2610,  34.5320,2,  34.5300,2,  3.1740,    179.8,2
       74DI202,  AR09,    15,  1,   -999,     11,2,19930512,1333,-30.0005,   5.2337, 4823,   1317.5,   3.1050,  34.5940,2,-999.0000,9,  3.0110,   -999.0,9
       74DI202,  AR09,    15,  1,   -999,     10,2,19930512,1333,-30.0005,   5.2337, 4823,   1419.1,   3.0980,  34.6660,2,  34.6650,2,  2.9960,    186.7,2
       74DI202,  AR09,    15,  1,   -999,      9,2,19930512,1333,-30.0005,   5.2337, 4823,   1520.9,   3.0940,  34.7150,2,  34.7150,2,  2.9830,    192.7,2
       74DI202,  AR09,    15,  1,   -999,      8,2,19930512,1333,-30.0005,   5.2337, 4823,   1919.9,   2.9640,  34.8310,2,  34.8320,2,  2.8200,    215.3,2
       74DI202,  AR09,    15,  1,   -999,      7,2,19930512,1333,-30.0005,   5.2337, 4823,   2331.8,   2.7450,  34.8580,2,  34.8570,2,  2.5660,    226.6,2
       74DI202,  AR09,    15,  1,   -999,      6,2,19930512,1333,-30.0005,   5.2337, 4823,   2735.7,   2.5290,  34.8640,2,  34.8620,2,  2.3150,    230.7,2
       74DI202,  AR09,    15,  1,   -999,      5,2,19930512,1333,-30.0005,   5.2337, 4823,   3137.3,   2.3700,  34.8600,2,  34.8580,2,  2.1190,    231.8,2
       74DI202,  AR09,    15,  1,   -999,      4,2,19930512,1333,-30.0005,   5.2337, 4823,   3546.4,   2.2490,  34.8580,2,  34.8560,2,  1.9580,    231.8,2
       74DI202,  AR09,    15,  1,   -999,      3,2,19930512,1333,-30.0005,   5.2337, 4823,   3961.4,   1.8160,  34.8110,2,  34.8090,2,  1.4920,    224.8,2
       74DI202,  AR09,    15,  1,   -999,      2,2,19930512,1333,-30.0005,   5.2337, 4823,   4481.8,   1.1750,  34.7470,2,  34.7530,2,  0.8110,    218.5,2
       74DI202,  AR09,    15,  1,   -999,      1,2,19930512,1333,-30.0005,   5.2337, 4823,   4925.2,   1.1480,  34.7410,2,  34.7440,2,  0.7340,    219.3,2
       74DI202,  AR09,    17,  1,   -999,      7,2,19930513,0515,-29.8327,   3.7352, -999,   2815.3,   2.4760,  34.8680,2,  34.8630,2,  2.2550,    231.8,2
       74DI202,  AR09,    17,  1,   -999,      6,2,19930513,0515,-29.8327,   3.7352, -999,   3224.9,   2.3510,  34.8590,2,  34.8430,2,  2.0920,    229.1,2
       74DI202,  AR09,    17,  1,   -999,      5,2,19930513,0515,-29.8327,   3.7352, -999,   3729.0,   2.1230,  34.8370,2,  34.7940,2,  1.8160,    223.3,2
       74DI202,  AR09,    17,  1,   -999,      4,2,19930513,0515,-29.8327,   3.7352, -999,   4037.4,   1.6640,  34.7850,2,-999.0000,9,  1.3350,   -999.0,9
       74DI202,  AR09,    17,  1,   -999,      3,2,19930513,0515,-29.8327,   3.7352, -999,   4241.8,   1.3430,  34.7530,2,  34.7370,2,  1.0020,    217.8,2
       74DI202,  AR09,    17,  1,   -999,      2,2,19930513,0515,-29.8327,   3.7352, -999,   4654.8,   1.1260,  34.7320,2,  34.7580,2,  0.7450,    221.1,2
       74DI202,  AR09,    17,  1,   -999,      1,2,19930513,0515,-29.8327,   3.7352, -999,   4922.9,   1.1420,  34.7280,2,  34.7370,2,  0.7290,    215.8,2
       74DI202,  AR09,    20,  1,   -999,     24,2,19930514,0405,-29.8335,   1.0023, 3174,     12.6,  19.9030,  35.7570,2,  35.7670,2, 19.9000,   -999.0,9
       74DI202,  AR09,    20,  1,   -999,     23,2,19930514,0405,-29.8335,   1.0023, 3174,     64.0,  19.7350,  35.7520,2,  35.7560,2, 19.7230,    228.3,2
       74DI202,  AR09,    20,  1,   -999,     22,2,19930514,0405,-29.8335,   1.0023, 3174,    164.6,  15.1570,  35.4410,2,  35.4440,2, 15.1320,    233.0,2
       74DI202,  AR09,    20,  1,   -999,     21,2,19930514,0405,-29.8335,   1.0023, 3174,    265.8,  13.2450,  35.1370,2,  35.1400,2, 13.2080,    221.1,2
       74DI202,  AR09,    20,  1,   -999,     20,2,19930514,0405,-29.8335,   1.0023, 3174,    367.7,  11.7160,  34.9920,2,  34.9890,2, 11.6680,   -999.0,9
       74DI202,  AR09,    20,  1,   -999,     19,2,19930514,0405,-29.8335,   1.0023, 3174,    570.2,   8.1470,  34.6030,2,  34.6080,2,  8.0870,    192.3,2
       74DI202,  AR09,    20,  1,   -999,     18,2,19930514,0405,-29.8335,   1.0023, 3174,    671.3,   6.5200,  34.4510,2,  34.4510,2,  6.4580,    204.1,2
       74DI202,  AR09,    20,  1,   -999,     17,2,19930514,0405,-29.8335,   1.0023, 3174,    771.5,   5.1510,  34.3630,2,  34.3640,2,  5.0880,    208.1,2
       74DI202,  AR09,    20,  1,   -999,     16,2,19930514,0405,-29.8335,   1.0023, 3174,    973.1,   3.7960,  34.3820,2,  34.3830,2,  3.7240,    195.2,2
       74DI202,  AR09,    20,  1,   -999,     15,2,19930514,0405,-29.8335,   1.0023, 3174,   1077.0,   3.5390,  34.4250,2,  34.4270,2,  3.4600,    195.1,2
       74DI202,  AR09,    20,  1,   -999,     14,2,19930514,0405,-29.8335,   1.0023, 3174,   1180.2,   3.2730,  34.4960,2,  34.5040,2,  3.1890,    183.2,2
       74DI202,  AR09,    20,  1,   -999,     13,2,19930514,0405,-29.8335,   1.0023, 3174,   1281.0,   3.1510,  34.5620,2,  34.5690,2,  3.0600,    180.4,2
       74DI202,  AR09,    20,  1,   -999,     12,2,19930514,0405,-29.8335,   1.0023, 3174,   1479.1,   2.9920,  34.6660,2,  34.6660,2,  2.8850,    189.0,2
       74DI202,  AR09,    20,  1,   -999,     11,2,19930514,0405,-29.8335,   1.0023, 3174,   1576.3,   2.9610,  34.7110,2,  34.6910,2,  2.8470,    191.1,2
       74DI202,  AR09,    20,  1,   -999,     10,2,19930514,0405,-29.8335,   1.0023, 3174,   1777.7,   2.9350,  34.7760,2,  34.7930,2,  2.8040,    203.5,2
       74DI202,  AR09,    20,  1,   -999,      9,2,19930514,0405,-29.8335,   1.0023, 3174,   1875.2,   2.9110,  34.8000,2,  34.7990,2,  2.7720,   -999.0,9
       74DI202,  AR09,    20,  1,   -999,      8,2,19930514,0405,-29.8335,   1.0023, 3174,   1976.1,   2.8530,  34.8130,2,  34.8150,2,  2.7050,   -999.0,9
       74DI202,  AR09,    20,  1,   -999,      7,2,19930514,0405,-29.8335,   1.0023, 3174,   2277.5,   2.5900,  34.8320,2,  34.8310,2,  2.4190,    222.3,2
       74DI202,  AR09,    20,  1,   -999,      6,2,19930514,0405,-29.8335,   1.0023, 3174,   2479.1,   2.4970,  34.8440,2,  34.8410,2,  2.3090,    226.1,2
       74DI202,  AR09,    20,  1,   -999,      5,2,19930514,0405,-29.8335,   1.0023, 3174,   2682.1,   2.4370,  34.8530,2,  34.8590,2,  2.2310,    228.9,2
       74DI202,  AR09,    20,  1,   -999,      3,2,19930514,0405,-29.8335,   1.0023, 3174,   2986.3,   2.3480,  34.8650,2,  34.8620,2,  2.1130,    232.5,2
       74DI202,  AR09,    20,  1,   -999,      4,2,19930514,0405,-29.8335,   1.0023, 3174,   2986.5,   2.3440,  34.8650,2,-999.0000,9,  2.1090,   -999.0,9
       74DI202,  AR09,    20,  1,   -999,      1,2,19930514,0405,-29.8335,   1.0023, 3174,   3168.8,   2.3270,  34.8690,2,  34.8590,2,  2.0740,    231.7,2
       74DI202,  AR09,    21,  1,   -999,     24,2,19930514,1131,-29.8368,   0.0023, 3692,     14.4,  20.0810,  35.7680,2,  35.7460,2, 20.0790,    231.9,2
       74DI202,  AR09,    21,  1,   -999,     23,2,19930514,1131,-29.8368,   0.0023, 3692,     44.2,  20.0610,  35.7670,2,  35.7670,2, 20.0530,    226.4,2
       74DI202,  AR09,    21,  1,   -999,     22,2,19930514,1131,-29.8368,   0.0023, 3692,     85.2,  18.5920,  35.6190,2,  35.5490,2, 18.5770,    238.7,2
       74DI202,  AR09,    21,  1,   -999,     21,2,19930514,1131,-29.8368,   0.0023, 3692,    135.7,  15.0780,  35.4040,2,  35.4040,2, 15.0580,    224.7,2
       74DI202,  AR09,    21,  1,   -999,     20,2,19930514,1131,-29.8368,   0.0023, 3692,    257.5,  12.8730,  35.0960,2,  35.0960,2, 12.8380,    221.3,2
       74DI202,  AR09,    21,  1,   -999,     19,2,19930514,1131,-29.8368,   0.0023, 3692,    407.5,  10.4620,  34.8350,2,  34.8340,2, 10.4120,    210.8,2
       74DI202,  AR09,    21,  1,   -999,     18,2,19930514,1131,-29.8368,   0.0023, 3692,    559.9,   8.0260,  34.5960,2,  34.5960,2,  7.9680,    185.9,2
       74DI202,  AR09,    21,  1,   -999,     17,2,19930514,1131,-29.8368,   0.0023, 3692,    712.4,   5.3970,  34.3490,2,  34.3510,2,  5.3370,    219.7,2
       74DI202,  AR09,    21,  1,   -999,     16,2,19930514,1131,-29.8368,   0.0023, 3692,    863.0,   4.1620,  34.3240,2,  34.3170,2,  4.0960,    213.7,2
       74DI202,  AR09,    21,  1,   -999,     15,2,19930514,1131,-29.8368,   0.0023, 3692,   1015.1,   3.6180,  34.3710,2,  34.3680,2,  3.5440,    200.0,2
       74DI202,  AR09,    21,  1,   -999,     14,2,19930514,1131,-29.8368,   0.0023, 3692,   1168.4,   3.2350,  34.4550,2,  34.4550,2,  3.1520,    186.8,2
       74DI202,  AR09,    21,  1,   -999,     13,2,19930514,1131,-29.8368,   0.0023, 3692,   1322.7,   3.1990,  34.5970,2,  34.5790,2,  3.1030,    183.7,2
       74DI202,  AR09,    21,  1,   -999,     12,2,19930514,1131,-29.8368,   0.0023, 3692,   1474.4,   3.1460,  34.6830,2,  34.6820,2,  3.0390,    188.6,2
       74DI202,  AR09,    21,  1,   -999,     11,2,19930514,1131,-29.8368,   0.0023, 3692,   1621.7,   3.1160,  34.7490,2,  34.7520,2,  2.9960,    199.4,2
       74DI202,  AR09,    21,  1,   -999,     10,2,19930514,1131,-29.8368,   0.0023, 3692,   1825.0,   2.9610,  34.7900,2,  34.7910,2,  2.8260,    207.4,2
       74DI202,  AR09,    21,  1,   -999,      9,2,19930514,1131,-29.8368,   0.0023, 3692,   2030.8,   2.7360,  34.8070,2,  34.8080,2,  2.5850,    214.7,2
       74DI202,  AR09,    21,  1,   -999,      8,2,19930514,1131,-29.8368,   0.0023, 3692,   2234.6,   2.5800,  34.8230,2,  34.8210,2,  2.4130,    221.8,2
       74DI202,  AR09,    21,  1,   -999,      7,2,19930514,1131,-29.8368,   0.0023, 3692,   2439.3,   2.4850,  34.8380,2,  34.8390,2,  2.3010,    226.2,2
       74DI202,  AR09,    21,  1,   -999,      6,2,19930514,1131,-29.8368,   0.0023, 3692,   2641.6,   2.4250,  34.8490,2,  34.8500,2,  2.2230,    230.7,2
       74DI202,  AR09,    21,  1,   -999,      5,2,19930514,1131,-29.8368,   0.0023, 3692,   2845.3,   2.3860,  34.8570,2,  34.8600,2,  2.1640,    232.7,2
       74DI202,  AR09,    21,  1,   -999,      4,2,19930514,1131,-29.8368,   0.0023, 3692,   3040.9,   2.3590,  34.8650,2,  34.8660,2,  2.1180,    234.7,2
       74DI202,  AR09,    21,  1,   -999,      3,2,19930514,1131,-29.8368,   0.0023, 3692,   3254.9,   2.3390,  34.8700,2,  34.8710,2,  2.0770,    234.0,2
       74DI202,  AR09,    21,  1,   -999,      2,2,19930514,1131,-29.8368,   0.0023, 3692,   3459.6,   2.3240,  34.8750,2,  34.8740,2,  2.0400,    233.8,2
       74DI202,  AR09,    21,  1,   -999,      1,2,19930514,1131,-29.8368,   0.0023, 3692,   3685.7,   2.3220,  34.8750,2,  34.8760,2,  2.0140,    233.2,2