BOTTLE,20050923WHPSIOSA
EXPOCODE,SECT_ID,STNNBR,CASTNO,SAMPNO,BTLNBR,BTLNBR_FLAG_W,DATE,TIME,LATITUDE,LONGITUDE,DEPTH,CTDPRS,CTDTMP,CTDSAL,CTDSAL_FLAG_W,SALNTY,SALNTY_FLAG_W,THETA,OXYGEN,OXYGEN_FLAG_W
,,,,,,,,,,,,DBAR,ITS-68,PSS-78,,PSS-78,,DEG C,UMOL/KG,
       74DI202,  AR09,    48,  1,   -999,     24,2,19930526,0041,-31.5013,   9.2687, -999,     13.7,  18.5770,  35.6710,2,  35.6860,2, 18.5740,    228.8,2
       74DI202,  AR09,    48,  1,   -999,     23,2,19930526,0041,-31.5013,   9.2687, -999,     72.8,  18.5970,  35.6730,2,  35.6740,2, 18.5840,    229.3,2
       74DI202,  AR09,    48,  1,   -999,     22,2,19930526,0041,-31.5013,   9.2687, -999,    122.4,  17.1770,  35.5570,2,-999.0000,9, 17.1570,    202.5,2
       74DI202,  AR09,    48,  1,   -999,     21,2,19930526,0041,-31.5013,   9.2687, -999,    177.5,  15.6150,  35.4450,2,-999.0000,9, 15.5870,    211.5,2
       74DI202,  AR09,    48,  1,   -999,     20,2,19930526,0041,-31.5013,   9.2687, -999,    219.8,  14.6080,  35.3250,2,-999.0000,9, 14.5750,    224.5,2
       74DI202,  AR09,    48,  1,   -999,     19,2,19930526,0041,-31.5013,   9.2687, -999,    273.2,  13.4110,  35.1650,2,  35.1640,2, 13.3730,    223.5,2
       74DI202,  AR09,    48,  1,   -999,     18,2,19930526,0041,-31.5013,   9.2687, -999,    330.0,  12.8140,  35.1150,2,-999.0000,9, 12.7690,    221.9,2
       74DI202,  AR09,    48,  1,   -999,     17,2,19930526,0041,-31.5013,   9.2687, -999,    380.0,  11.9410,  35.0290,2,  35.0280,2, 11.8910,    221.1,2
       74DI202,  AR09,    48,  1,   -999,     16,2,19930526,0041,-31.5013,   9.2687, -999,    428.9,  11.3440,  34.9580,2,-999.0000,9, 11.2900,    220.2,2
       74DI202,  AR09,    48,  1,   -999,     15,2,19930526,0041,-31.5013,   9.2687, -999,    474.0,  10.4250,  34.8340,2,  34.8350,2, 10.3680,    220.3,2
       74DI202,  AR09,    48,  1,   -999,     14,2,19930526,0041,-31.5013,   9.2687, -999,    498.0,  10.0970,  34.7960,2,-999.0000,9, 10.0380,    219.0,2
       74DI202,  AR09,    48,  1,   -999,     13,2,19930526,0041,-31.5013,   9.2687, -999,    599.9,   8.2590,  34.5770,2,  34.5830,2,  8.1960,    215.4,2
       74DI202,  AR09,    48,  1,   -999,     12,2,19930526,0041,-31.5013,   9.2687, -999,    675.2,   7.1170,  34.5040,2,-999.0000,9,  7.0510,    204.4,2
       74DI202,  AR09,    48,  1,   -999,     11,2,19930526,0041,-31.5013,   9.2687, -999,    760.1,   5.5710,  34.3590,2,  34.3620,2,  5.5050,    222.2,2
       74DI202,  AR09,    48,  1,   -999,     10,2,19930526,0041,-31.5013,   9.2687, -999,    829.6,   4.8130,  34.3190,2,-999.0000,9,  4.7470,    223.4,2
       74DI202,  AR09,    48,  1,   -999,      9,2,19930526,0041,-31.5013,   9.2687, -999,    909.5,   4.3060,  34.3170,2,  34.3260,2,  4.2360,    224.2,2
       74DI202,  AR09,    48,  1,   -999,      8,2,19930526,0041,-31.5013,   9.2687, -999,    986.3,   3.8400,  34.3480,2,-999.0000,9,  3.7660,    209.1,2
       74DI202,  AR09,    48,  1,   -999,      7,2,19930526,0041,-31.5013,   9.2687, -999,   1059.4,   3.5510,  34.3780,2,  34.3780,2,  3.4750,    201.4,2
       74DI202,  AR09,    48,  1,   -999,      6,2,19930526,0041,-31.5013,   9.2687, -999,   1136.0,   3.1390,  34.3880,2,-999.0000,9,  3.0600,    199.7,2
       74DI202,  AR09,    48,  1,   -999,      5,2,19930526,0041,-31.5013,   9.2687, -999,   1213.9,   3.1490,  34.4790,2,  34.4800,2,  3.0640,    183.6,2
       74DI202,  AR09,    48,  1,   -999,      4,2,19930526,0041,-31.5013,   9.2687, -999,   1288.0,   3.0550,  34.5260,2,-999.0000,9,  2.9640,    181.3,2
       74DI202,  AR09,    48,  1,   -999,      3,2,19930526,0041,-31.5013,   9.2687, -999,   1365.8,   2.9700,  34.5750,2,  34.5750,2,  2.8730,    180.1,2
       74DI202,  AR09,    48,  1,   -999,      2,2,19930526,0041,-31.5013,   9.2687, -999,   1464.9,   2.9230,  34.6390,2,-999.0000,9,  2.8190,    184.2,2
       74DI202,  AR09,    48,  1,   -999,      1,2,19930526,0041,-31.5013,   9.2687, -999,   1543.9,   2.9530,  34.6920,2,  34.6920,2,  2.8420,    189.6,2
       74DI202,  AR09,    49,  1,   -999,     24,2,19930526,0526,-31.0000,   9.2500, -999,     12.2,  18.4310,  35.6000,2,  35.6010,2, 18.4290,    232.7,2
       74DI202,  AR09,    49,  1,   -999,     23,2,19930526,0526,-31.0000,   9.2500, -999,     51.4,  18.4370,  35.6000,2,  35.6050,2, 18.4280,    234.3,2
       74DI202,  AR09,    49,  1,   -999,     22,2,19930526,0526,-31.0000,   9.2500, -999,    104.1,  16.0930,  35.4740,2,-999.0000,9, 16.0760,    211.3,2
       74DI202,  AR09,    49,  1,   -999,     21,2,19930526,0526,-31.0000,   9.2500, -999,    153.8,  14.7100,  35.3560,2,-999.0000,9, 14.6870,    221.8,2
       74DI202,  AR09,    49,  1,   -999,     20,2,19930526,0526,-31.0000,   9.2500, -999,    203.8,  13.6440,  35.1930,2,  35.1940,2, 13.6160,    223.6,2
       74DI202,  AR09,    49,  1,   -999,     18,2,19930526,0526,-31.0000,   9.2500, -999,    305.3,  11.8530,  34.9950,2,  34.9980,2, 11.8130,    224.7,2
       74DI202,  AR09,    49,  1,   -999,     17,2,19930526,0526,-31.0000,   9.2500, -999,    356.5,  11.1840,  34.9320,2,-999.0000,9, 11.1390,    221.1,2
       74DI202,  AR09,    49,  1,   -999,     16,2,19930526,0526,-31.0000,   9.2500, -999,    404.8,  10.3060,  34.8140,2,  34.8150,2, 10.2580,    223.4,2
       74DI202,  AR09,    49,  1,   -999,     15,2,19930526,0526,-31.0000,   9.2500, -999,    457.4,   9.4730,  34.7230,2,-999.0000,9,  9.4210,    215.2,2
       74DI202,  AR09,    49,  1,   -999,     14,2,19930526,0526,-31.0000,   9.2500, -999,    508.1,   8.6980,  34.6520,2,  34.6570,2,  8.6430,    203.5,2
       74DI202,  AR09,    49,  1,   -999,     13,2,19930526,0526,-31.0000,   9.2500, -999,    584.5,   7.5060,  34.5470,2,-999.0000,9,  7.4480,    195.9,2
       74DI202,  AR09,    49,  1,   -999,     12,2,19930526,0526,-31.0000,   9.2500, -999,    657.6,   6.4970,  34.4750,2,  34.4740,2,  6.4360,    184.4,2
       74DI202,  AR09,    49,  1,   -999,     11,2,19930526,0526,-31.0000,   9.2500, -999,    736.5,   5.3060,  34.3650,2,-999.0000,9,  5.2450,    216.2,2
       74DI202,  AR09,    49,  1,   -999,     10,2,19930526,0526,-31.0000,   9.2500, -999,    810.4,   4.6700,  34.3500,2,  34.3510,2,  4.6050,    208.4,2
       74DI202,  AR09,    49,  1,   -999,      9,2,19930526,0526,-31.0000,   9.2500, -999,    887.3,   4.2520,  34.3610,2,-999.0000,9,  4.1850,    209.2,2
       74DI202,  AR09,    49,  1,   -999,      8,2,19930526,0526,-31.0000,   9.2500, -999,    962.5,   3.8380,  34.3740,2,-999.0000,9,  3.7670,    204.5,2
       74DI202,  AR09,    49,  1,   -999,      7,2,19930526,0526,-31.0000,   9.2500, -999,   1039.0,   3.5310,  34.4120,2,-999.0000,9,  3.4560,    195.2,2
       74DI202,  AR09,    49,  1,   -999,      6,2,19930526,0526,-31.0000,   9.2500, -999,   1139.6,   3.2470,  34.4700,2,  34.4700,2,  3.1670,    184.6,2
       74DI202,  AR09,    49,  1,   -999,      5,2,19930526,0526,-31.0000,   9.2500, -999,   1188.8,   3.1340,  34.4940,2,-999.0000,9,  3.0500,    183.6,2
       74DI202,  AR09,    49,  1,   -999,      4,2,19930526,0526,-31.0000,   9.2500, -999,   1263.9,   3.0200,  34.5460,2,  34.5450,2,  2.9310,    181.0,2
       74DI202,  AR09,    49,  1,   -999,      3,2,19930526,0526,-31.0000,   9.2500, -999,   1339.3,   2.9650,  34.5870,2,-999.0000,9,  2.8700,    181.9,2
       74DI202,  AR09,    49,  1,   -999,      2,2,19930526,0526,-31.0000,   9.2500, -999,   1440.7,   2.9340,  34.6490,2,  34.6470,2,  2.8320,    185.7,2
       74DI202,  AR09,    49,  1,   -999,      1,2,19930526,0526,-31.0000,   9.2500, -999,   1548.8,   2.9490,  34.7090,2,-999.0000,9,  2.8370,    192.3,2
       74DI202,  AR09,    50,  1,   -999,     23,2,19930526,2233,-32.8053,   7.3808, 5105,     74.2,  18.9560,  35.7060,2,  35.7100,2, 18.9420,   -999.0,9
       74DI202,  AR09,    50,  1,   -999,     21,2,19930526,2233,-32.8053,   7.3808, 5105,    180.2,  15.3770,  35.4670,2,  35.4660,2, 15.3490,   -999.0,9
       74DI202,  AR09,    50,  1,   -999,     19,2,19930526,2233,-32.8053,   7.3808, 5105,    280.7,  14.3090,  35.3010,2,  35.3000,2, 14.2680,   -999.0,9
       74DI202,  AR09,    50,  1,   -999,     17,2,19930526,2233,-32.8053,   7.3808, 5105,    381.8,  12.6050,  35.0720,2,  35.0700,2, 12.5530,   -999.0,9
       74DI202,  AR09,    50,  1,   -999,     15,2,19930526,2233,-32.8053,   7.3808, 5105,    481.7,  11.4300,  34.9470,2,  34.9460,2, 11.3680,   -999.0,9
       74DI202,  AR09,    50,  1,   -999,     13,2,19930526,2233,-32.8053,   7.3808, 5105,    608.7,   9.3390,  34.7080,2,  34.7110,2,  9.2700,   -999.0,9
       74DI202,  AR09,    50,  1,   -999,     11,2,19930526,2233,-32.8053,   7.3808, 5105,    761.6,   6.7550,  34.4560,2,  34.4650,2,  6.6830,   -999.0,9
       74DI202,  AR09,    50,  1,   -999,      9,2,19930526,2233,-32.8053,   7.3808, 5105,    913.5,   5.0060,  34.3530,2,  34.3520,2,  4.9310,   -999.0,9
       74DI202,  AR09,    50,  1,   -999,      7,2,19930526,2233,-32.8053,   7.3808, 5105,   1064.0,   4.1590,  34.3570,2,  34.3600,2,  4.0770,   -999.0,9
       74DI202,  AR09,    50,  1,   -999,      5,2,19930526,2233,-32.8053,   7.3808, 5105,   1215.6,   3.5380,  34.4110,2,  34.4140,2,  3.4490,   -999.0,9
       74DI202,  AR09,    50,  1,   -999,      3,2,19930526,2233,-32.8053,   7.3808, 5105,   1364.6,   3.1590,  34.5000,2,  34.4990,2,  3.0600,   -999.0,9
       74DI202,  AR09,    50,  1,   -999,      1,2,19930526,2233,-32.8053,   7.3808, 5105,   1534.1,   2.9900,  34.5880,2,  34.5880,2,  2.8800,   -999.0,9
       74DI202,  AR09,    51,  1,   -999,     21,2,19930527,0311,-32.8167,   7.9797, 4879,    153.6,  16.2260,  35.4720,2,  35.4710,2, 16.2020,   -999.0,9
       74DI202,  AR09,    51,  1,   -999,     20,2,19930527,0311,-32.8167,   7.9797, 4879,    203.8,  15.1850,  35.4060,2,  35.4100,2, 15.1540,   -999.0,9
       74DI202,  AR09,    51,  1,   -999,     18,2,19930527,0311,-32.8167,   7.9797, 4879,    300.9,  13.0970,  35.1020,2,  35.0930,2, 13.0560,   -999.0,9
       74DI202,  AR09,    51,  1,   -999,     16,2,19930527,0311,-32.8167,   7.9797, 4879,    388.4,  11.9320,  34.9660,2,  34.9630,2, 11.8810,   -999.0,9
       74DI202,  AR09,    51,  1,   -999,     14,2,19930527,0311,-32.8167,   7.9797, 4879,    499.3,  10.8920,  34.8760,2,  34.8890,2, 10.8300,   -999.0,9
       74DI202,  AR09,    51,  1,   -999,     12,2,19930527,0311,-32.8167,   7.9797, 4879,    641.9,   8.5260,  34.6110,2,  34.6190,2,  8.4570,   -999.0,9
       74DI202,  AR09,    51,  1,   -999,     10,2,19930527,0311,-32.8167,   7.9797, 4879,    810.3,   5.4370,  34.3360,2,  34.3390,2,  5.3680,   -999.0,9
       74DI202,  AR09,    51,  1,   -999,      8,2,19930527,0311,-32.8167,   7.9797, 4879,    958.3,   4.5160,  34.3470,2,  34.3470,2,  4.4400,   -999.0,9
       74DI202,  AR09,    51,  1,   -999,      6,2,19930527,0311,-32.8167,   7.9797, 4879,   1108.8,   3.7890,  34.3770,2,  34.3750,2,  3.7060,   -999.0,9
       74DI202,  AR09,    51,  1,   -999,      4,2,19930527,0311,-32.8167,   7.9797, 4879,   1257.3,   3.3260,  34.4420,2,  34.4460,2,  3.2350,   -999.0,9
       74DI202,  AR09,    51,  1,   -999,      2,2,19930527,0311,-32.8167,   7.9797, 4879,   1435.4,   3.0390,  34.5480,2,  34.5460,2,  2.9360,   -999.0,9
       74DI202,  AR09,    52,  1,   -999,     24,2,19930527,0729,-32.8160,   8.5662, 5032,     10.5,  18.4370,  35.7150,2,  35.7160,2, 18.4350,    228.9,2
       74DI202,  AR09,    52,  1,   -999,     23,2,19930527,0729,-32.8160,   8.5662, 5032,     77.8,  18.4440,  35.7140,2,  35.7150,2, 18.4310,    229.0,2
       74DI202,  AR09,    52,  1,   -999,     22,2,19930527,0729,-32.8160,   8.5662, 5032,    115.0,  18.4490,  35.7150,2,-999.0000,9, 18.4290,    228.8,2
       74DI202,  AR09,    52,  1,   -999,     21,2,19930527,0729,-32.8160,   8.5662, 5032,    159.7,  17.8340,  35.6100,2,-999.0000,9, 17.8070,    212.3,2
       74DI202,  AR09,    52,  1,   -999,     20,2,19930527,0729,-32.8160,   8.5662, 5032,    188.6,  17.0650,  35.5630,2,-999.0000,9, 17.0340,    207.2,2
       74DI202,  AR09,    52,  1,   -999,     19,2,19930527,0729,-32.8160,   8.5662, 5032,    259.8,  15.3710,  35.4480,2,  35.4510,2, 15.3310,    203.8,2
       74DI202,  AR09,    52,  1,   -999,     18,2,19930527,0729,-32.8160,   8.5662, 5032,    261.6,  15.3410,  35.4650,2,  35.4450,2, 15.3000,    204.0,2
       74DI202,  AR09,    52,  1,   -999,     17,2,19930527,0729,-32.8160,   8.5662, 5032,    310.9,  14.4510,  35.3720,2,-999.0000,9, 14.4050,    204.1,2
       74DI202,  AR09,    52,  1,   -999,     16,2,19930527,0729,-32.8160,   8.5662, 5032,    374.5,  13.5200,  35.2800,2,-999.0000,9, 13.4660,    214.8,2
       74DI202,  AR09,    52,  1,   -999,     15,2,19930527,0729,-32.8160,   8.5662, 5032,    414.0,  13.0560,  35.2150,2,-999.0000,9, 12.9980,    217.7,2
       74DI202,  AR09,    52,  1,   -999,     14,2,19930527,0729,-32.8160,   8.5662, 5032,    466.2,  12.3360,  35.1100,2,  35.1080,2, 12.2730,    208.3,2
       74DI202,  AR09,    52,  1,   -999,     13,2,19930527,0729,-32.8160,   8.5662, 5032,    515.9,  11.8890,  35.0490,2,-999.0000,9, 11.8210,    215.0,2
       74DI202,  AR09,    52,  1,   -999,     12,2,19930527,0729,-32.8160,   8.5662, 5032,    546.2,  11.6870,  35.0270,2,-999.0000,9, 11.6160,    218.5,2
       74DI202,  AR09,    52,  1,   -999,     11,2,19930527,0729,-32.8160,   8.5662, 5032,    616.8,  10.6560,  34.8800,2,  34.8820,2, 10.5800,    215.3,2
       74DI202,  AR09,    52,  1,   -999,     10,2,19930527,0729,-32.8160,   8.5662, 5032,    666.8,  10.0960,  34.8110,2,-999.0000,9, 10.0160,    215.5,2
       74DI202,  AR09,    52,  1,   -999,      9,2,19930527,0729,-32.8160,   8.5662, 5032,    717.0,   9.4730,  34.7400,2,  34.7440,2,  9.3910,    208.6,2
       74DI202,  AR09,    52,  1,   -999,      8,2,19930527,0729,-32.8160,   8.5662, 5032,    767.7,   8.9060,  34.6820,2,-999.0000,9,  8.8210,    206.1,2
       74DI202,  AR09,    52,  1,   -999,      7,2,19930527,0729,-32.8160,   8.5662, 5032,    818.2,   8.0620,  34.6010,2,  34.6010,2,  7.9760,    203.5,2
       74DI202,  AR09,    52,  1,   -999,      6,2,19930527,0729,-32.8160,   8.5662, 5032,    858.1,   7.6890,  34.5740,2,-999.0000,9,  7.6010,    198.4,2
       74DI202,  AR09,    52,  1,   -999,      5,2,19930527,0729,-32.8160,   8.5662, 5032,    917.2,   6.6980,  34.4730,2,  34.4740,2,  6.6100,    205.3,2
       74DI202,  AR09,    52,  1,   -999,      4,2,19930527,0729,-32.8160,   8.5662, 5032,    965.4,   5.7760,  34.3860,2,-999.0000,9,  5.6900,    216.8,2
       74DI202,  AR09,    52,  1,   -999,      3,2,19930527,0729,-32.8160,   8.5662, 5032,   1011.9,   5.3410,  34.3820,2,  34.3850,2,  5.2540,    213.4,2
       74DI202,  AR09,    52,  1,   -999,      2,2,19930527,0729,-32.8160,   8.5662, 5032,   1106.9,   4.2250,  34.3180,2,  34.3290,2,  4.1390,    220.7,2
       74DI202,  AR09,    52,  1,   -999,      1,2,19930527,0729,-32.8160,   8.5662, 5032,   1554.5,   2.9540,  34.6000,2,  34.5980,2,  2.8420,    181.4,2
       74DI202,  AR09,    53,  1,   -999,     24,2,19930527,1205,-32.8142,   9.1677, 5005,     13.0,  18.3420,  35.7090,2,  35.7020,2, 18.3400,    228.5,2
       74DI202,  AR09,    53,  1,   -999,     23,2,19930527,1205,-32.8142,   9.1677, 5005,     47.6,  18.3490,  35.7120,2,  35.7100,2, 18.3410,    228.9,2
       74DI202,  AR09,    53,  1,   -999,     22,2,19930527,1205,-32.8142,   9.1677, 5005,     95.6,  18.3420,  35.7090,2,-999.0000,9, 18.3250,    228.2,2
       74DI202,  AR09,    53,  1,   -999,     21,2,19930527,1205,-32.8142,   9.1677, 5005,    122.8,  18.2210,  35.7030,2,-999.0000,9, 18.2000,    223.9,2
       74DI202,  AR09,    53,  1,   -999,     20,2,19930527,1205,-32.8142,   9.1677, 5005,    151.9,  17.2510,  35.5720,2,-999.0000,9, 17.2250,    211.2,2
       74DI202,  AR09,    53,  1,   -999,     19,2,19930527,1205,-32.8142,   9.1677, 5005,    205.1,  16.2520,  35.5290,2,  35.5250,2, 16.2190,    207.0,2
       74DI202,  AR09,    53,  1,   -999,     18,2,19930527,1205,-32.8142,   9.1677, 5005,    256.4,  15.0810,  35.4330,2,-999.0000,9, 15.0420,    203.2,2
       74DI202,  AR09,    53,  1,   -999,     17,2,19930527,1205,-32.8142,   9.1677, 5005,    304.6,  14.1510,  35.3460,2,  35.3600,2, 14.1060,    208.3,2
       74DI202,  AR09,    53,  1,   -999,     16,2,19930527,1205,-32.8142,   9.1677, 5005,    356.5,  13.2320,  35.2030,2,-999.0000,9, 13.1820,    197.7,2
       74DI202,  AR09,    53,  1,   -999,     15,2,19930527,1205,-32.8142,   9.1677, 5005,    406.4,  12.8730,  35.1950,2,  35.1930,2, 12.8170,    213.1,2
       74DI202,  AR09,    53,  1,   -999,     14,2,19930527,1205,-32.8142,   9.1677, 5005,    458.4,  12.1520,  35.0970,2,-999.0000,9, 12.0910,    220.5,2
       74DI202,  AR09,    53,  1,   -999,     13,2,19930527,1205,-32.8142,   9.1677, 5005,    509.8,  11.6330,  35.0160,2,  35.0220,2, 11.5670,    204.3,2
       74DI202,  AR09,    53,  1,   -999,     12,2,19930527,1205,-32.8142,   9.1677, 5005,    558.6,  10.9450,  34.9370,2,-999.0000,9, 10.8750,    194.2,2
       74DI202,  AR09,    53,  1,   -999,     11,2,19930527,1205,-32.8142,   9.1677, 5005,    609.1,  10.4370,  34.8790,2,  34.8770,2, 10.3630,    187.2,2
       74DI202,  AR09,    53,  1,   -999,     10,2,19930527,1205,-32.8142,   9.1677, 5005,    657.6,  10.1040,  34.8460,2,-999.0000,9, 10.0260,    181.1,2
       74DI202,  AR09,    53,  1,   -999,      9,2,19930527,1205,-32.8142,   9.1677, 5005,    708.7,   9.8110,  34.8270,2,  34.8270,2,  9.7280,    172.1,2
       74DI202,  AR09,    53,  1,   -999,      8,2,19930527,1205,-32.8142,   9.1677, 5005,    755.2,   9.5890,  34.8130,2,-999.0000,9,  9.5010,    167.7,2
       74DI202,  AR09,    53,  1,   -999,      7,2,19930527,1205,-32.8142,   9.1677, 5005,    799.9,   9.3680,  34.7950,2,  34.7980,2,  9.2760,    167.9,2
       74DI202,  AR09,    53,  1,   -999,      6,2,19930527,1205,-32.8142,   9.1677, 5005,    844.6,   9.1370,  34.7750,2,-999.0000,9,  9.0420,    164.1,2
       74DI202,  AR09,    53,  1,   -999,      5,2,19930527,1205,-32.8142,   9.1677, 5005,    895.5,   8.8180,  34.7570,2,  34.7570,2,  8.7180,    158.3,2
       74DI202,  AR09,    53,  1,   -999,      4,2,19930527,1205,-32.8142,   9.1677, 5005,    950.9,   8.3320,  34.7160,2,-999.0000,9,  8.2290,    160.9,2
       74DI202,  AR09,    53,  1,   -999,      3,2,19930527,1205,-32.8142,   9.1677, 5005,   1007.3,   7.3370,  34.6110,2,-999.0000,9,  7.2350,    173.2,2
       74DI202,  AR09,    53,  1,   -999,      2,2,19930527,1205,-32.8142,   9.1677, 5005,   1109.8,   5.2820,  34.3690,2,-999.0000,9,  5.1870,    215.3,2
       74DI202,  AR09,    53,  1,   -999,      1,2,19930527,1205,-32.8142,   9.1677, 5005,   1544.4,   3.0510,  34.5440,2,  34.5440,2,  2.9390,    179.4,2