BOTTLE,20050923WHPSIOSA
EXPOCODE,SECT_ID,STNNBR,CASTNO,SAMPNO,BTLNBR,BTLNBR_FLAG_W,DATE,TIME,LATITUDE,LONGITUDE,DEPTH,CTDPRS,CTDTMP,CTDSAL,CTDSAL_FLAG_W,SALNTY,SALNTY_FLAG_W,THETA,OXYGEN,OXYGEN_FLAG_W
,,,,,,,,,,,,DBAR,ITS-68,PSS-78,,PSS-78,,DEG C,UMOL/KG,
       74DI202,  AR09,    32,  1,   -999,     24,2,19930519,1944,-33.3888,   0.2067, 4564,     14.0,  17.4760,  35.3250,2,  35.3110,2, 17.4740,    237.6,2
       74DI202,  AR09,    32,  1,   -999,     23,2,19930519,1944,-33.3888,   0.2067, 4564,     52.8,  17.3610,  35.3140,2,-999.0000,9, 17.3520,    237.9,2
       74DI202,  AR09,    32,  1,   -999,     22,2,19930519,1944,-33.3888,   0.2067, 4564,    124.8,  13.2820,  35.1070,2,  35.1080,2, 13.2650,    238.0,2
       74DI202,  AR09,    32,  1,   -999,     21,2,19930519,1944,-33.3888,   0.2067, 4564,    180.8,  12.8030,  35.0960,2,-999.0000,9, 12.7790,    243.5,2
       74DI202,  AR09,    32,  1,   -999,     20,2,19930519,1944,-33.3888,   0.2067, 4564,    231.0,  12.9120,  35.1550,2,  35.1530,2, 12.8800,    241.5,2
       74DI202,  AR09,    32,  1,   -999,     19,2,19930519,1944,-33.3888,   0.2067, 4564,    281.0,  12.9470,  35.1700,2,-999.0000,9, 12.9080,    245.2,2
       74DI202,  AR09,    32,  1,   -999,     18,2,19930519,1944,-33.3888,   0.2067, 4564,    331.4,  12.9830,  35.1790,2,  35.1770,2, 12.9370,    247.9,2
       74DI202,  AR09,    32,  1,   -999,     17,2,19930519,1944,-33.3888,   0.2067, 4564,    382.5,  12.8910,  35.1610,2,  35.1590,2, 12.8380,    238.5,2
       74DI202,  AR09,    32,  1,   -999,     16,2,19930519,1944,-33.3888,   0.2067, 4564,    432.8,  11.7380,  34.9600,2,  34.9650,2, 11.6820,    236.6,2
       74DI202,  AR09,    32,  1,   -999,     14,2,19930519,1944,-33.3888,   0.2067, 4564,    532.4,  10.1100,  34.7740,2,  34.7730,2, 10.0470,    218.7,2
       74DI202,  AR09,    32,  1,   -999,     13,2,19930519,1944,-33.3888,   0.2067, 4564,    610.9,   8.9130,  34.6510,2,-999.0000,9,  8.8450,    213.4,2
       74DI202,  AR09,    32,  1,   -999,     12,2,19930519,1944,-33.3888,   0.2067, 4564,    685.6,   7.7940,  34.5470,2,  34.5570,2,  7.7240,    206.4,2
       74DI202,  AR09,    32,  1,   -999,     10,2,19930519,1944,-33.3888,   0.2067, 4564,    837.8,   5.4320,  34.3360,2,  34.3320,2,  5.3600,    214.6,2
       74DI202,  AR09,    32,  1,   -999,      9,2,19930519,1944,-33.3888,   0.2067, 4564,    915.4,   4.6680,  34.2990,2,-999.0000,9,  4.5950,    228.5,2
       74DI202,  AR09,    32,  1,   -999,      8,2,19930519,1944,-33.3888,   0.2067, 4564,    991.5,   4.0270,  34.2890,2,  34.2880,2,  3.9520,    220.4,2
       74DI202,  AR09,    32,  1,   -999,      7,2,19930519,1944,-33.3888,   0.2067, 4564,   1064.0,   3.7840,  34.3090,2,  34.3090,2,  3.7050,    214.6,2
       74DI202,  AR09,    32,  1,   -999,      6,2,19930519,1944,-33.3888,   0.2067, 4564,   1137.9,   3.5380,  34.3390,2,  34.3400,2,  3.4550,    205.7,2
       74DI202,  AR09,    32,  1,   -999,      5,2,19930519,1944,-33.3888,   0.2067, 4564,   1215.2,   3.3710,  34.3740,2,  34.3700,2,  3.2830,    197.4,2
       74DI202,  AR09,    32,  1,   -999,      4,2,19930519,1944,-33.3888,   0.2067, 4564,   1288.9,   3.1180,  34.4240,2,  34.4240,2,  3.0260,    191.1,2
       74DI202,  AR09,    32,  1,   -999,      3,2,19930519,1944,-33.3888,   0.2067, 4564,   1363.7,   3.0410,  34.4730,2,  34.4770,2,  2.9440,    182.5,2
       74DI202,  AR09,    32,  1,   -999,      2,2,19930519,1944,-33.3888,   0.2067, 4564,   1464.3,   2.9310,  34.5500,2,-999.0000,9,  2.8270,    183.1,2
       74DI202,  AR09,    32,  1,   -999,      1,2,19930519,1944,-33.3888,   0.2067, 4564,   1541.1,   2.8660,  34.5970,2,  34.5980,2,  2.7570,    182.1,2
       74DI202,  AR09,    33,  1,   -999,     24,2,19930520,1534,-32.8315,   3.9975, 5356,     13.8,  18.4960,  35.4440,2,  35.4430,2, 18.4940,    235.9,2
       74DI202,  AR09,    33,  1,   -999,     23,2,19930520,1534,-32.8315,   3.9975, 5356,     54.7,  18.4910,  35.4360,2,  35.4340,2, 18.4810,    238.3,2
       74DI202,  AR09,    33,  1,   -999,     22,2,19930520,1534,-32.8315,   3.9975, 5356,    104.1,  15.3940,  35.3810,2,-999.0000,9, 15.3780,    237.9,2
       74DI202,  AR09,    33,  1,   -999,     21,2,19930520,1534,-32.8315,   3.9975, 5356,    154.9,  14.4430,  35.2910,2,-999.0000,9, 14.4200,    229.3,2
       74DI202,  AR09,    33,  1,   -999,     20,2,19930520,1534,-32.8315,   3.9975, 5356,    204.3,  13.6840,  35.1920,2,  35.1930,2, 13.6550,    225.4,2
       74DI202,  AR09,    33,  1,   -999,     19,2,19930520,1534,-32.8315,   3.9975, 5356,    256.4,  12.8780,  35.1080,2,-999.0000,9, 12.8420,    227.1,2
       74DI202,  AR09,    33,  1,   -999,     18,2,19930520,1534,-32.8315,   3.9975, 5356,    306.7,  12.0780,  35.0280,2,  35.0250,2, 12.0370,    215.8,2
       74DI202,  AR09,    33,  1,   -999,     17,2,19930520,1534,-32.8315,   3.9975, 5356,    355.9,  11.2870,  34.9350,2,-999.0000,9, 11.2420,    214.2,2
       74DI202,  AR09,    33,  1,   -999,     16,2,19930520,1534,-32.8315,   3.9975, 5356,    407.7,  10.2940,  34.8070,2,  34.8100,2, 10.2450,    220.8,2
       74DI202,  AR09,    33,  1,   -999,     15,2,19930520,1534,-32.8315,   3.9975, 5356,    458.5,   9.2780,  34.6920,2,-999.0000,9,  9.2270,    221.0,2
       74DI202,  AR09,    33,  1,   -999,     14,2,19930520,1534,-32.8315,   3.9975, 5356,    509.1,   8.6720,  34.6560,2,  34.6480,2,  8.6170,    212.2,2
       74DI202,  AR09,    33,  1,   -999,     13,2,19930520,1534,-32.8315,   3.9975, 5356,    584.8,   7.2870,  34.4970,2,-999.0000,9,  7.2300,    215.0,2
       74DI202,  AR09,    33,  1,   -999,     12,2,19930520,1534,-32.8315,   3.9975, 5356,    661.9,   5.9600,  34.3730,2,  34.3740,2,  5.9010,    223.8,2
       74DI202,  AR09,    33,  1,   -999,     10,2,19930520,1534,-32.8315,   3.9975, 5356,    811.8,   4.5550,  34.2920,2,  34.2950,2,  4.4910,    230.6,2
       74DI202,  AR09,    33,  1,   -999,      9,2,19930520,1534,-32.8315,   3.9975, 5356,    885.3,   4.0890,  34.2790,2,-999.0000,9,  4.0230,    230.4,2
       74DI202,  AR09,    33,  1,   -999,      8,2,19930520,1534,-32.8315,   3.9975, 5356,    959.1,   3.7010,  34.2920,2,  34.2950,2,  3.6310,    224.9,2
       74DI202,  AR09,    33,  1,   -999,      7,2,19930520,1534,-32.8315,   3.9975, 5356,   1034.2,   3.4500,  34.3290,2,-999.0000,9,  3.3760,    213.6,2
       74DI202,  AR09,    33,  1,   -999,      6,2,19930520,1534,-32.8315,   3.9975, 5356,   1109.3,   3.2710,  34.3770,2,  34.3810,2,  3.1930,    206.7,2
       74DI202,  AR09,    33,  1,   -999,      5,2,19930520,1534,-32.8315,   3.9975, 5356,   1186.8,   3.1450,  34.4300,2,-999.0000,9,  3.0620,    197.7,2
       74DI202,  AR09,    33,  1,   -999,      4,2,19930520,1534,-32.8315,   3.9975, 5356,   1260.4,   3.0860,  34.4870,2,-999.0000,9,  2.9970,    186.0,2
       74DI202,  AR09,    33,  1,   -999,      3,2,19930520,1534,-32.8315,   3.9975, 5356,   1337.6,   3.0480,  34.5360,2,-999.0000,9,  2.9530,    185.0,2
       74DI202,  AR09,    33,  1,   -999,      2,2,19930520,1534,-32.8315,   3.9975, 5356,   1441.1,   2.9340,  34.5960,2,  34.5970,2,  2.8320,    184.4,2
       74DI202,  AR09,    33,  1,   -999,      1,2,19930520,1534,-32.8315,   3.9975, 5356,   1542.2,   2.8630,  34.6290,2,  34.6310,2,  2.7530,    186.0,2
       74DI202,  AR09,    34,  1,   -999,     24,2,19930520,2215,-32.5587,   5.0003, 5009,     13.0,  19.0100,  35.7750,2,  35.7930,2, 19.0080,    236.1,2
       74DI202,  AR09,    34,  1,   -999,     23,2,19930520,2215,-32.5587,   5.0003, 5009,     79.2,  18.9840,  35.7740,2,-999.0000,9, 18.9700,    234.8,2
       74DI202,  AR09,    34,  1,   -999,     22,2,19930520,2215,-32.5587,   5.0003, 5009,    128.6,  15.9110,  35.5200,2,-999.0000,9, 15.8900,    235.6,2
       74DI202,  AR09,    34,  1,   -999,     21,2,19930520,2215,-32.5587,   5.0003, 5009,    179.6,  15.4290,  35.5130,2,-999.0000,9, 15.4010,    233.7,2
       74DI202,  AR09,    34,  1,   -999,     20,2,19930520,2215,-32.5587,   5.0003, 5009,    230.0,  15.2220,  35.4780,2,  35.4770,2, 15.1870,    235.9,2
       74DI202,  AR09,    34,  1,   -999,     19,2,19930520,2215,-32.5587,   5.0003, 5009,    278.5,  14.8560,  35.4030,2,  35.4110,2, 14.8140,    236.6,2
       74DI202,  AR09,    34,  1,   -999,     18,2,19930520,2215,-32.5587,   5.0003, 5009,    329.3,  14.2120,  35.2900,2,-999.0000,9, 14.1630,    233.5,2
       74DI202,  AR09,    34,  1,   -999,     17,2,19930520,2215,-32.5587,   5.0003, 5009,    377.9,  13.2310,  35.1340,2,  35.1360,2, 13.1790,    229.0,2
       74DI202,  AR09,    34,  1,   -999,     16,2,19930520,2215,-32.5587,   5.0003, 5009,    427.2,  12.5480,  35.0830,2,-999.0000,9, 12.4900,    225.4,2
       74DI202,  AR09,    34,  1,   -999,     15,2,19930520,2215,-32.5587,   5.0003, 5009,    480.5,  11.6810,  34.9920,2,  35.0000,2, 11.6190,    220.1,2
       74DI202,  AR09,    34,  1,   -999,     14,2,19930520,2215,-32.5587,   5.0003, 5009,    532.2,  10.5850,  34.8500,2,-999.0000,9, 10.5200,    216.7,2
       74DI202,  AR09,    34,  1,   -999,     13,2,19930520,2215,-32.5587,   5.0003, 5009,    608.5,   9.2460,  34.7040,2,  34.7000,2,  9.1770,    203.0,2
       74DI202,  AR09,    34,  1,   -999,     12,2,19930520,2215,-32.5587,   5.0003, 5009,    683.7,   8.2040,  34.6170,2,-999.0000,9,  8.1320,    183.4,2
       74DI202,  AR09,    34,  1,   -999,     11,2,19930520,2215,-32.5587,   5.0003, 5009,    758.0,   7.0460,  34.5090,2,  34.5180,2,  6.9730,    189.4,2
       74DI202,  AR09,    34,  1,   -999,     10,2,19930520,2215,-32.5587,   5.0003, 5009,    833.3,   5.4290,  34.3550,2,-999.0000,9,  5.3580,    222.3,2
       74DI202,  AR09,    34,  1,   -999,      9,2,19930520,2215,-32.5587,   5.0003, 5009,    908.8,   4.7370,  34.3210,2,  34.3250,2,  4.6640,    223.7,2
       74DI202,  AR09,    34,  1,   -999,      8,2,19930520,2215,-32.5587,   5.0003, 5009,    981.8,   4.3010,  34.3240,2,-999.0000,9,  4.2250,    217.6,2
       74DI202,  AR09,    34,  1,   -999,      7,2,19930520,2215,-32.5587,   5.0003, 5009,   1055.7,   3.9250,  34.3500,2,-999.0000,9,  3.8460,    208.1,2
       74DI202,  AR09,    34,  1,   -999,      6,2,19930520,2215,-32.5587,   5.0003, 5009,   1127.9,   3.6540,  34.3730,2,-999.0000,9,  3.5700,    201.6,2
       74DI202,  AR09,    34,  1,   -999,      5,2,19930520,2215,-32.5587,   5.0003, 5009,   1202.5,   3.3770,  34.4190,2,  34.4160,2,  3.2900,   -999.0,9
       74DI202,  AR09,    34,  1,   -999,      4,2,19930520,2215,-32.5587,   5.0003, 5009,   1236.7,   3.3110,  34.4490,2,-999.0000,9,  3.2220,    187.6,2
       74DI202,  AR09,    34,  1,   -999,      3,2,19930520,2215,-32.5587,   5.0003, 5009,   1349.9,   3.1830,  34.5200,2,  34.5210,2,  3.0860,    180.9,2
       74DI202,  AR09,    34,  1,   -999,      2,2,19930520,2215,-32.5587,   5.0003, 5009,   1446.3,   3.0240,  34.5760,2,-999.0000,9,  2.9210,    180.9,2
       74DI202,  AR09,    34,  1,   -999,      1,2,19930520,2215,-32.5587,   5.0003, 5009,   1546.9,   3.1390,  34.6600,2,  34.6590,2,  3.0260,    186.7,2
       74DI202,  AR09,    35,  1,   -999,     24,2,19930521,0344,-32.2327,   5.8313, 4906,     13.5,  18.7510,  35.7720,2,  35.7730,2, 18.7490,   -999.0,9
       74DI202,  AR09,    35,  1,   -999,     23,2,19930521,0344,-32.2327,   5.8313, 4906,     43.6,  18.7540,  35.7730,2,  35.7780,2, 18.7460,    232.3,2
       74DI202,  AR09,    35,  1,   -999,     22,2,19930521,0344,-32.2327,   5.8313, 4906,    104.4,  15.7670,  35.5730,2,-999.0000,9, 15.7510,    229.4,2
       74DI202,  AR09,    35,  1,   -999,     21,2,19930521,0344,-32.2327,   5.8313, 4906,    153.8,  15.5870,  35.5430,2,-999.0000,9, 15.5630,    232.9,2
       74DI202,  AR09,    35,  1,   -999,     20,2,19930521,0344,-32.2327,   5.8313, 4906,    235.9,  15.3290,  35.5060,2,  35.5050,2, 15.2930,    239.8,2
       74DI202,  AR09,    35,  1,   -999,     19,2,19930521,0344,-32.2327,   5.8313, 4906,    285.7,  15.1940,  35.4780,2,-999.0000,9, 15.1500,    231.7,2
       74DI202,  AR09,    35,  1,   -999,     18,2,19930521,0344,-32.2327,   5.8313, 4906,    332.0,  14.7770,  35.4010,2,-999.0000,9, 14.7270,    230.5,2
       74DI202,  AR09,    35,  1,   -999,     17,2,19930521,0344,-32.2327,   5.8313, 4906,    366.9,  14.2320,  35.3260,2,  35.3230,2, 14.1780,    224.0,2
       74DI202,  AR09,    35,  1,   -999,     16,2,19930521,0344,-32.2327,   5.8313, 4906,    397.6,  14.1100,  35.3390,2,-999.0000,9, 14.0520,    226.2,2
       74DI202,  AR09,    35,  1,   -999,     15,2,19930521,0344,-32.2327,   5.8313, 4906,    456.8,  13.4890,  35.2390,2,  35.2450,2, 13.4240,    217.3,2
       74DI202,  AR09,    35,  1,   -999,     14,2,19930521,0344,-32.2327,   5.8313, 4906,    507.7,  12.6810,  35.1330,2,  35.1410,2, 12.6110,    209.9,2
       74DI202,  AR09,    35,  1,   -999,     13,2,19930521,0344,-32.2327,   5.8313, 4906,    584.8,  11.5350,  35.0010,2,-999.0000,9, 11.4590,    196.3,2
       74DI202,  AR09,    35,  1,   -999,     12,2,19930521,0344,-32.2327,   5.8313, 4906,    660.8,  11.0020,  34.9330,2,  34.9340,2, 10.9190,    189.6,2
       74DI202,  AR09,    35,  1,   -999,     11,2,19930521,0344,-32.2327,   5.8313, 4906,    737.4,  10.4150,  34.8740,2,-999.0000,9, 10.3250,    183.7,2
       74DI202,  AR09,    35,  1,   -999,     10,2,19930521,0344,-32.2327,   5.8313, 4906,    811.3,   9.6010,  34.7660,2,  34.7720,2,  9.5060,    191.5,2
       74DI202,  AR09,    35,  1,   -999,      9,2,19930521,0344,-32.2327,   5.8313, 4906,    884.2,   8.2060,  34.6170,2,-999.0000,9,  8.1120,    196.1,2
       74DI202,  AR09,    35,  1,   -999,      8,2,19930521,0344,-32.2327,   5.8313, 4906,    960.3,   6.5730,  34.4620,2,  34.4620,2,  6.4820,    207.8,2
       74DI202,  AR09,    35,  1,   -999,      7,2,19930521,0344,-32.2327,   5.8313, 4906,   1032.0,   5.2920,  34.3570,2,-999.0000,9,  5.2040,    215.9,2
       74DI202,  AR09,    35,  1,   -999,      6,2,19930521,0344,-32.2327,   5.8313, 4906,   1101.3,   4.5230,  34.3400,2,  34.3420,2,  4.4340,    213.7,2
       74DI202,  AR09,    35,  1,   -999,      5,2,19930521,0344,-32.2327,   5.8313, 4906,   1175.4,   4.0440,  34.3490,2,-999.0000,9,  3.9540,    207.2,2
       74DI202,  AR09,    35,  1,   -999,      4,2,19930521,0344,-32.2327,   5.8313, 4906,   1255.7,   3.7360,  34.3830,2,-999.0000,9,  3.6410,   -999.0,9
       74DI202,  AR09,    35,  1,   -999,      3,2,19930521,0344,-32.2327,   5.8313, 4906,   1335.8,   3.4480,  34.4190,2,  34.4200,2,  3.3490,    191.1,2
       74DI202,  AR09,    35,  1,   -999,      2,2,19930521,0344,-32.2327,   5.8313, 4906,   1435.0,   3.2030,  34.4790,2,-999.0000,9,  3.0980,    182.8,2
       74DI202,  AR09,    35,  1,   -999,      1,2,19930521,0344,-32.2327,   5.8313, 4906,   1543.3,   3.1080,  34.5680,2,  34.5670,2,  2.9960,    180.2,2
       74DI202,  AR09,    36,  1,   -999,     24,2,19930521,0920,-32.0975,   6.6648, 5107,     13.2,  19.2720,  35.7350,2,  35.7340,2, 19.2690,    228.1,2
       74DI202,  AR09,    36,  1,   -999,     23,2,19930521,0920,-32.0975,   6.6648, 5107,     74.0,  18.9420,  35.7730,2,-999.0000,9, 18.9280,    228.3,2
       74DI202,  AR09,    36,  1,   -999,     22,2,19930521,0920,-32.0975,   6.6648, 5107,    123.7,  15.8470,  35.5250,2,-999.0000,9, 15.8270,    227.0,2
       74DI202,  AR09,    36,  1,   -999,     21,2,19930521,0920,-32.0975,   6.6648, 5107,    180.4,  15.4480,  35.5120,2,-999.0000,9, 15.4200,    226.5,2
       74DI202,  AR09,    36,  1,   -999,     20,2,19930521,0920,-32.0975,   6.6648, 5107,    230.3,  15.2540,  35.4810,2,  35.4790,2, 15.2190,    228.4,2
       74DI202,  AR09,    36,  1,   -999,     19,2,19930521,0920,-32.0975,   6.6648, 5107,    280.9,  15.0890,  35.4500,2,  35.4470,2, 15.0460,    230.4,2
       74DI202,  AR09,    36,  1,   -999,     18,2,19930521,0920,-32.0975,   6.6648, 5107,    331.2,  14.6010,  35.3520,2,-999.0000,9, 14.5520,    229.3,2
       74DI202,  AR09,    36,  1,   -999,     17,2,19930521,0920,-32.0975,   6.6648, 5107,    381.7,  13.7820,  35.2120,2,  35.2120,2, 13.7270,    225.0,2
       74DI202,  AR09,    36,  1,   -999,     16,2,19930521,0920,-32.0975,   6.6648, 5107,    432.4,  13.2270,  35.1520,2,-999.0000,9, 13.1670,    210.8,2
       74DI202,  AR09,    36,  1,   -999,     15,2,19930521,0920,-32.0975,   6.6648, 5107,    483.8,  12.6240,  35.1090,2,  35.1050,2, 12.5580,    213.1,2
       74DI202,  AR09,    36,  1,   -999,     14,2,19930521,0920,-32.0975,   6.6648, 5107,    534.3,  11.8800,  35.0130,2,-999.0000,9, 11.8100,    212.7,2
       74DI202,  AR09,    36,  1,   -999,     13,2,19930521,0920,-32.0975,   6.6648, 5107,    609.9,  10.5040,  34.8400,2,  34.8420,2, 10.4290,    207.7,2
       74DI202,  AR09,    36,  1,   -999,     12,2,19930521,0920,-32.0975,   6.6648, 5107,    684.7,   9.3320,  34.7120,2,-999.0000,9,  9.2540,    207.9,2
       74DI202,  AR09,    36,  1,   -999,     11,2,19930521,0920,-32.0975,   6.6648, 5107,    759.7,   7.8740,  34.5660,2,  34.5740,2,  7.7950,    201.6,2
       74DI202,  AR09,    36,  1,   -999,     10,2,19930521,0920,-32.0975,   6.6648, 5107,    836.7,   6.1460,  34.4170,2,-999.0000,9,  6.0700,    211.8,2
       74DI202,  AR09,    36,  1,   -999,      9,2,19930521,0920,-32.0975,   6.6648, 5107,    912.8,   5.1190,  34.3420,2,  34.3440,2,  5.0430,    216.6,2
       74DI202,  AR09,    36,  1,   -999,      8,2,19930521,0920,-32.0975,   6.6648, 5107,    990.0,   4.5460,  34.3320,2,-999.0000,9,  4.4670,    212.4,2
       74DI202,  AR09,    36,  1,   -999,      7,2,19930521,0920,-32.0975,   6.6648, 5107,   1064.6,   4.0470,  34.3350,2,  34.3360,2,  3.9660,    208.9,2
       74DI202,  AR09,    36,  1,   -999,      6,2,19930521,0920,-32.0975,   6.6648, 5107,   1139.1,   3.7130,  34.3610,2,-999.0000,9,  3.6280,    200.2,2
       74DI202,  AR09,    36,  1,   -999,      5,2,19930521,0920,-32.0975,   6.6648, 5107,   1216.0,   3.5270,  34.4040,2,  34.4040,2,  3.4380,    189.8,2
       74DI202,  AR09,    36,  1,   -999,      4,2,19930521,0920,-32.0975,   6.6648, 5107,   1291.9,   3.4090,  34.4570,2,-999.0000,9,  3.3150,    182.1,2
       74DI202,  AR09,    36,  1,   -999,      3,2,19930521,0920,-32.0975,   6.6648, 5107,   1364.5,   3.3200,  34.5130,2,  34.5130,2,  3.2200,    179.8,2
       74DI202,  AR09,    36,  1,   -999,      2,2,19930521,0920,-32.0975,   6.6648, 5107,   1463.8,   3.1910,  34.5710,2,-999.0000,9,  3.0840,    179.3,2
       74DI202,  AR09,    36,  1,   -999,      1,2,19930521,0920,-32.0975,   6.6648, 5107,   1544.6,   3.1420,  34.6200,2,  34.6220,2,  3.0290,    180.0,2