BOTTLE,20050923WHPSIOSA
EXPOCODE,SECT_ID,STNNBR,CASTNO,SAMPNO,BTLNBR,BTLNBR_FLAG_W,DATE,TIME,LATITUDE,LONGITUDE,DEPTH,CTDPRS,CTDTMP,CTDSAL,CTDSAL_FLAG_W,SALNTY,SALNTY_FLAG_W,THETA,OXYGEN,OXYGEN_FLAG_W
,,,,,,,,,,,,DBAR,ITS-68,PSS-78,,PSS-78,,DEG C,UMOL/KG,
       74DI202,  AR09,    54,  1,   -999,     24,2,19930527,1653,-32.8157,   9.7650, 5004,     10.1,  18.3980,  35.6480,2,  35.6370,2, 18.3960,    229.5,2
       74DI202,  AR09,    54,  1,   -999,     23,2,19930527,1653,-32.8157,   9.7650, 5004,     51.5,  18.4100,  35.6490,2,  35.6490,2, 18.4020,    229.6,2
       74DI202,  AR09,    54,  1,   -999,     22,2,19930527,1653,-32.8157,   9.7650, 5004,     92.4,  18.4130,  35.6490,2,-999.0000,9, 18.3970,    232.6,2
       74DI202,  AR09,    54,  1,   -999,     21,2,19930527,1653,-32.8157,   9.7650, 5004,    133.9,  17.1320,  35.5400,2,-999.0000,9, 17.1100,    203.8,2
       74DI202,  AR09,    54,  1,   -999,     20,2,19930527,1653,-32.8157,   9.7650, 5004,    173.5,  16.3150,  35.4970,2,-999.0000,9, 16.2870,    208.1,2
       74DI202,  AR09,    54,  1,   -999,     19,2,19930527,1653,-32.8157,   9.7650, 5004,    204.6,  15.5620,  35.4500,2,  35.4430,2, 15.5300,    211.8,2
       74DI202,  AR09,    54,  1,   -999,     18,2,19930527,1653,-32.8157,   9.7650, 5004,    256.4,  14.5630,  35.3410,2,-999.0000,9, 14.5250,    221.4,2
       74DI202,  AR09,    54,  1,   -999,     17,2,19930527,1653,-32.8157,   9.7650, 5004,    305.3,  13.4640,  35.1700,2,  35.1730,2, 13.4200,    222.2,2
       74DI202,  AR09,    54,  1,   -999,     16,2,19930527,1653,-32.8157,   9.7650, 5004,    357.3,  12.8600,  35.1080,2,-999.0000,9, 12.8110,    225.7,2
       74DI202,  AR09,    54,  1,   -999,     15,2,19930527,1653,-32.8157,   9.7650, 5004,    407.1,  12.5380,  35.1170,2,  35.1180,2, 12.4830,    217.3,2
       74DI202,  AR09,    54,  1,   -999,     14,2,19930527,1653,-32.8157,   9.7650, 5004,    455.9,  11.7560,  35.0090,2,-999.0000,9, 11.6960,    222.6,2
       74DI202,  AR09,    54,  1,   -999,     13,2,19930527,1653,-32.8157,   9.7650, 5004,    506.6,  10.9930,  34.9100,2,  34.9040,2, 10.9290,    218.7,2
       74DI202,  AR09,    54,  1,   -999,     12,2,19930527,1653,-32.8157,   9.7650, 5004,    554.6,  10.3100,  34.8230,2,-999.0000,9, 10.2430,    215.7,2
       74DI202,  AR09,    54,  1,   -999,     11,2,19930527,1653,-32.8157,   9.7650, 5004,    603.6,   9.5760,  34.7470,2,  34.7380,2,  9.5060,    215.6,2
       74DI202,  AR09,    54,  1,   -999,     10,2,19930527,1653,-32.8157,   9.7650, 5004,    652.5,   8.8260,  34.6640,2,-999.0000,9,  8.7550,    209.4,2
       74DI202,  AR09,    54,  1,   -999,      9,2,19930527,1653,-32.8157,   9.7650, 5004,    700.9,   7.9330,  34.5800,2,  34.5780,2,  7.8600,    205.6,2
       74DI202,  AR09,    54,  1,   -999,      8,2,19930527,1653,-32.8157,   9.7650, 5004,    804.9,   6.2170,  34.3980,2,-999.0000,9,  6.1440,    219.1,2
       74DI202,  AR09,    54,  1,   -999,      7,2,19930527,1653,-32.8157,   9.7650, 5004,    909.3,   4.8030,  34.3060,2,  34.3170,2,  4.7290,    225.7,2
       74DI202,  AR09,    54,  1,   -999,      6,2,19930527,1653,-32.8157,   9.7650, 5004,   1014.0,   3.8970,  34.2600,2,-999.0000,9,  3.8210,    233.6,2
       74DI202,  AR09,    54,  1,   -999,      5,2,19930527,1653,-32.8157,   9.7650, 5004,   1111.8,   3.8060,  34.3510,2,  34.3510,2,  3.7230,    206.9,2
       74DI202,  AR09,    54,  1,   -999,      4,2,19930527,1653,-32.8157,   9.7650, 5004,   1212.3,   3.3910,  34.3870,2,-999.0000,9,  3.3030,    197.7,2
       74DI202,  AR09,    54,  1,   -999,      3,2,19930527,1653,-32.8157,   9.7650, 5004,   1300.8,   3.2450,  34.4440,2,  34.4450,2,  3.1510,    187.6,2
       74DI202,  AR09,    54,  1,   -999,      2,2,19930527,1653,-32.8157,   9.7650, 5004,   1393.5,   3.1070,  34.4960,2,-999.0000,9,  3.0070,    186.2,2
       74DI202,  AR09,    54,  1,   -999,      1,2,19930527,1653,-32.8157,   9.7650, 5004,   1536.4,   2.9480,  34.5870,2,  34.5880,2,  2.8380,    180.3,2
       74DI202,  AR09,    55,  1,   -999,     24,2,19930527,2118,-32.8167,  10.3570, 4978,     13.7,  17.4560,  35.4720,2,  35.4720,2, 17.4540,    235.5,2
       74DI202,  AR09,    55,  1,   -999,     23,2,19930527,2118,-32.8167,  10.3570, 4978,     53.3,  17.4560,  35.4710,2,  35.4700,2, 17.4470,    235.1,2
       74DI202,  AR09,    55,  1,   -999,     22,2,19930527,2118,-32.8167,  10.3570, 4978,    104.6,  17.4590,  35.4690,2,-999.0000,9, 17.4410,    235.1,2
       74DI202,  AR09,    55,  1,   -999,     21,2,19930527,2118,-32.8167,  10.3570, 4978,    154.1,  15.2320,  35.4190,2,-999.0000,9, 15.2080,    222.2,2
       74DI202,  AR09,    55,  1,   -999,     20,2,19930527,2118,-32.8167,  10.3570, 4978,    203.5,  14.1090,  35.2510,2,-999.0000,9, 14.0790,    226.6,2
       74DI202,  AR09,    55,  1,   -999,     19,2,19930527,2118,-32.8167,  10.3570, 4978,    255.8,  13.0230,  35.0960,2,-999.0000,9, 12.9870,    225.9,2
       74DI202,  AR09,    55,  1,   -999,     18,2,19930527,2118,-32.8167,  10.3570, 4978,    305.4,  12.6540,  35.1090,2,  35.1130,2, 12.6130,    220.0,2
       74DI202,  AR09,    55,  1,   -999,     17,2,19930527,2118,-32.8167,  10.3570, 4978,    357.3,  11.6110,  34.9600,2,-999.0000,9, 11.5650,    220.2,2
       74DI202,  AR09,    55,  1,   -999,     16,2,19930527,2118,-32.8167,  10.3570, 4978,    406.4,  10.9410,  34.8880,2,  34.8900,2, 10.8910,    213.7,2
       74DI202,  AR09,    55,  1,   -999,     15,2,19930527,2118,-32.8167,  10.3570, 4978,    458.5,  10.2720,  34.8110,2,-999.0000,9, 10.2170,    212.4,2
       74DI202,  AR09,    55,  1,   -999,     14,2,19930527,2118,-32.8167,  10.3570, 4978,    506.8,   9.6220,  34.7390,2,  34.7370,2,  9.5640,    215.8,2
       74DI202,  AR09,    55,  1,   -999,     13,2,19930527,2118,-32.8167,  10.3570, 4978,    558.5,   8.8830,  34.6680,2,-999.0000,9,  8.8210,    209.6,2
       74DI202,  AR09,    55,  1,   -999,     12,2,19930527,2118,-32.8167,  10.3570, 4978,    609.5,   7.8410,  34.5550,2,  34.5520,2,  7.7790,    210.8,2
       74DI202,  AR09,    55,  1,   -999,     11,2,19930527,2118,-32.8167,  10.3570, 4978,    661.3,   7.0160,  34.4770,2,-999.0000,9,  6.9530,    210.6,2
       74DI202,  AR09,    55,  1,   -999,     10,2,19930527,2118,-32.8167,  10.3570, 4978,    710.3,   6.5110,  34.4410,2,  34.4420,2,  6.4450,    211.3,2
       74DI202,  AR09,    55,  1,   -999,      9,2,19930527,2118,-32.8167,  10.3570, 4978,    761.4,   5.8670,  34.3810,2,-999.0000,9,  5.8000,    218.1,2
       74DI202,  AR09,    55,  1,   -999,      8,2,19930527,2118,-32.8167,  10.3570, 4978,    813.1,   5.1050,  34.3290,2,  34.3250,2,  5.0380,    226.2,2
       74DI202,  AR09,    55,  1,   -999,      7,2,19930527,2118,-32.8167,  10.3570, 4978,    861.3,   4.8890,  34.3260,2,-999.0000,9,  4.8190,    222.2,2
       74DI202,  AR09,    55,  1,   -999,      6,2,19930527,2118,-32.8167,  10.3570, 4978,    912.4,   4.5510,  34.3310,2,  34.3330,2,  4.4790,    218.9,2
       74DI202,  AR09,    55,  1,   -999,      5,2,19930527,2118,-32.8167,  10.3570, 4978,    963.2,   4.1490,  34.3210,2,-999.0000,9,  4.0760,    218.3,2
       74DI202,  AR09,    55,  1,   -999,      4,2,19930527,2118,-32.8167,  10.3570, 4978,   1015.8,   3.9390,  34.3410,2,-999.0000,9,  3.8630,    211.8,2
       74DI202,  AR09,    55,  1,   -999,      3,2,19930527,2118,-32.8167,  10.3570, 4978,   1115.6,   3.5650,  34.3800,2,  34.3830,2,  3.4840,    199.1,2
       74DI202,  AR09,    55,  1,   -999,      2,2,19930527,2118,-32.8167,  10.3570, 4978,   1317.2,   3.1220,  34.4970,2,  34.4950,2,  3.0280,    182.1,2
       74DI202,  AR09,    55,  1,   -999,      1,2,19930527,2118,-32.8167,  10.3570, 4978,   1559.2,   2.8810,  34.6230,2,  34.6240,2,  2.7690,    183.4,2
       74DI202,  AR09,    56,  1,   -999,     24,2,19930528,0143,-32.8162,  10.9522, 4787,     14.7,  18.1000,  35.6010,2,  35.6020,2, 18.0970,    232.3,2
       74DI202,  AR09,    56,  1,   -999,     23,2,19930528,0143,-32.8162,  10.9522, 4787,     78.9,  18.1110,  35.6020,2,  35.6020,2, 18.0970,    232.0,2
       74DI202,  AR09,    56,  1,   -999,     22,2,19930528,0143,-32.8162,  10.9522, 4787,    130.2,  16.0680,  35.4720,2,-999.0000,9, 16.0470,    211.6,2
       74DI202,  AR09,    56,  1,   -999,     21,2,19930528,0143,-32.8162,  10.9522, 4787,    182.0,  14.9380,  35.3920,2,-999.0000,9, 14.9110,    214.1,2
       74DI202,  AR09,    56,  1,   -999,     20,2,19930528,0143,-32.8162,  10.9522, 4787,    232.4,  13.7470,  35.1960,2,-999.0000,9, 13.7140,    224.2,2
       74DI202,  AR09,    56,  1,   -999,     19,2,19930528,0143,-32.8162,  10.9522, 4787,    288.6,  12.7760,  35.0850,2,-999.0000,9, 12.7370,    224.6,2
       74DI202,  AR09,    56,  1,   -999,     18,2,19930528,0143,-32.8162,  10.9522, 4787,    323.9,  12.2120,  35.0200,2,-999.0000,9, 12.1690,    225.2,2
       74DI202,  AR09,    56,  1,   -999,     17,2,19930528,0143,-32.8162,  10.9522, 4787,    354.6,  11.8430,  34.9820,2,  34.9800,2, 11.7960,    223.3,2
       74DI202,  AR09,    56,  1,   -999,     16,2,19930528,0143,-32.8162,  10.9522, 4787,    354.7,  11.8330,  34.9810,2,  34.9800,2, 11.7870,    223.6,2
       74DI202,  AR09,    56,  1,   -999,     15,2,19930528,0143,-32.8162,  10.9522, 4787,    404.5,  11.1440,  34.9100,2,  34.9110,2, 11.0930,    215.4,2
       74DI202,  AR09,    56,  1,   -999,     14,2,19930528,0143,-32.8162,  10.9522, 4787,    405.3,  11.1340,  34.9120,2,  34.9110,2, 11.0830,    215.3,2
       74DI202,  AR09,    56,  1,   -999,     13,2,19930528,0143,-32.8162,  10.9522, 4787,    456.2,  10.2570,  34.8070,2,-999.0000,9, 10.2030,    213.3,2
       74DI202,  AR09,    56,  1,   -999,     12,2,19930528,0143,-32.8162,  10.9522, 4787,    510.1,   9.3700,  34.7150,2,  34.7160,2,  9.3120,    206.4,2
       74DI202,  AR09,    56,  1,   -999,     11,2,19930528,0143,-32.8162,  10.9522, 4787,    559.3,   8.4430,  34.6010,2,-999.0000,9,  8.3840,    213.5,2
       74DI202,  AR09,    56,  1,   -999,     10,2,19930528,0143,-32.8162,  10.9522, 4787,    604.8,   7.8060,  34.5410,2,  34.5380,2,  7.7450,    213.2,2
       74DI202,  AR09,    56,  1,   -999,      9,2,19930528,0143,-32.8162,  10.9522, 4787,    653.3,   7.3500,  34.5200,2,-999.0000,9,  7.2860,    205.5,2
       74DI202,  AR09,    56,  1,   -999,      8,2,19930528,0143,-32.8162,  10.9522, 4787,    700.3,   6.5950,  34.4590,2,  34.4610,2,  6.5300,    206.9,2
       74DI202,  AR09,    56,  1,   -999,      7,2,19930528,0143,-32.8162,  10.9522, 4787,    747.8,   5.8350,  34.4080,2,-999.0000,9,  5.7690,    209.4,2
       74DI202,  AR09,    56,  1,   -999,      6,2,19930528,0143,-32.8162,  10.9522, 4787,    793.9,   5.0150,  34.3350,2,  34.3400,2,  4.9510,    219.5,2
       74DI202,  AR09,    56,  1,   -999,      5,2,19930528,0143,-32.8162,  10.9522, 4787,    832.6,   4.6830,  34.3250,2,-999.0000,9,  4.6170,    222.1,2
       74DI202,  AR09,    56,  1,   -999,      4,2,19930528,0143,-32.8162,  10.9522, 4787,    871.8,   4.5750,  34.3410,2,  34.3430,2,  4.5060,    216.1,2
       74DI202,  AR09,    56,  1,   -999,      3,2,19930528,0143,-32.8162,  10.9522, 4787,    916.0,   4.2530,  34.3370,2,-999.0000,9,  4.1830,    214.1,2
       74DI202,  AR09,    56,  1,   -999,      2,2,19930528,0143,-32.8162,  10.9522, 4787,    966.1,   3.9470,  34.3420,2,-999.0000,9,  3.8750,    212.7,2
       74DI202,  AR09,    56,  1,   -999,      1,2,19930528,0143,-32.8162,  10.9522, 4787,   1554.6,   2.8570,  34.6600,2,  34.6610,2,  2.7460,    185.9,2
       74DI202,  AR09,    57,  1,   -999,     24,2,19930528,0626,-32.8157,  11.5482, -999,      9.6,  17.7580,  35.5360,2,  35.5350,2, 17.7570,    238.9,2
       74DI202,  AR09,    57,  1,   -999,     23,2,19930528,0626,-32.8157,  11.5482, -999,     61.2,  17.7360,  35.5290,2,  35.5360,2, 17.7260,    235.0,2
       74DI202,  AR09,    57,  1,   -999,     22,2,19930528,0626,-32.8157,  11.5482, -999,    126.1,  15.5170,  35.4600,2,-999.0000,9, 15.4980,    222.5,2
       74DI202,  AR09,    57,  1,   -999,     21,2,19930528,0626,-32.8157,  11.5482, -999,    182.9,  14.7430,  35.3750,2,-999.0000,9, 14.7150,    230.8,2
       74DI202,  AR09,    57,  1,   -999,     20,2,19930528,0626,-32.8157,  11.5482, -999,    204.6,  14.2710,  35.2960,2,  35.3030,2, 14.2410,    230.4,2
       74DI202,  AR09,    57,  1,   -999,     19,2,19930528,0626,-32.8157,  11.5482, -999,    255.4,  13.3470,  35.1480,2,-999.0000,9, 13.3110,    228.4,2
       74DI202,  AR09,    57,  1,   -999,     18,2,19930528,0626,-32.8157,  11.5482, -999,    305.4,  12.6230,  35.0620,2,  35.0700,2, 12.5820,    224.4,2
       74DI202,  AR09,    57,  1,   -999,     17,2,19930528,0626,-32.8157,  11.5482, -999,    356.8,  11.7590,  34.9850,2,-999.0000,9, 11.7130,    221.0,2
       74DI202,  AR09,    57,  1,   -999,     16,2,19930528,0626,-32.8157,  11.5482, -999,    408.4,  10.9320,  34.8890,2,  34.8940,2, 10.8820,    221.8,2
       74DI202,  AR09,    57,  1,   -999,     15,2,19930528,0626,-32.8157,  11.5482, -999,    459.9,   9.9810,  34.7730,2,-999.0000,9,  9.9270,    218.3,2
       74DI202,  AR09,    57,  1,   -999,     14,2,19930528,0626,-32.8157,  11.5482, -999,    512.0,   9.0170,  34.6750,2,  34.6740,2,  8.9600,    213.0,2
       74DI202,  AR09,    57,  1,   -999,     13,2,19930528,0626,-32.8157,  11.5482, -999,    561.9,   8.3470,  34.6220,2,-999.0000,9,  8.2880,    206.3,2
       74DI202,  AR09,    57,  1,   -999,     12,2,19930528,0626,-32.8157,  11.5482, -999,    613.2,   7.3050,  34.4930,2,  34.4930,2,  7.2450,    214.9,2
       74DI202,  AR09,    57,  1,   -999,     11,2,19930528,0626,-32.8157,  11.5482, -999,    639.7,   6.9730,  34.4640,2,-999.0000,9,  6.9120,    215.6,2
       74DI202,  AR09,    57,  1,   -999,     10,2,19930528,0626,-32.8157,  11.5482, -999,    713.9,   6.0110,  34.4040,2,  34.4080,2,  5.9480,    218.0,2
       74DI202,  AR09,    57,  1,   -999,      9,2,19930528,0626,-32.8157,  11.5482, -999,    765.2,   5.3880,  34.3630,2,-999.0000,9,  5.3230,    221.2,2
       74DI202,  AR09,    57,  1,   -999,      8,2,19930528,0626,-32.8157,  11.5482, -999,    787.9,   5.2290,  34.3610,2,  34.3580,2,  5.1630,    219.1,2
       74DI202,  AR09,    57,  1,   -999,      7,2,19930528,0626,-32.8157,  11.5482, -999,    813.1,   5.1300,  34.3830,2,-999.0000,9,  5.0620,    211.6,2
       74DI202,  AR09,    57,  1,   -999,      6,2,19930528,0626,-32.8157,  11.5482, -999,    864.4,   4.5510,  34.3410,2,  34.3420,2,  4.4830,    216.6,2
       74DI202,  AR09,    57,  1,   -999,      5,2,19930528,0626,-32.8157,  11.5482, -999,    916.1,   4.2550,  34.3440,2,-999.0000,9,  4.1850,    213.2,2
       74DI202,  AR09,    57,  1,   -999,      4,2,19930528,0626,-32.8157,  11.5482, -999,    964.0,   3.8800,  34.3380,2,  34.3390,2,  3.8090,    214.4,2
       74DI202,  AR09,    57,  1,   -999,      3,2,19930528,0626,-32.8157,  11.5482, -999,   1017.6,   3.7560,  34.3790,2,-999.0000,9,  3.6810,    204.1,2
       74DI202,  AR09,    57,  1,   -999,      2,2,19930528,0626,-32.8157,  11.5482, -999,   1118.5,   3.4260,  34.4230,2,  34.4200,2,  3.3450,    193.5,2
       74DI202,  AR09,    57,  1,   -999,      1,2,19930528,0626,-32.8157,  11.5482, -999,   1572.9,   2.8690,  34.6980,2,-999.0000,9,  2.7560,    191.3,2
       74DI202,  AR09,    58,  1,   -999,     24,2,19930528,1111,-32.8157,  12.1427, 4402,     15.0,  17.9830,  35.5320,2,  35.5300,2, 17.9800,    235.1,2
       74DI202,  AR09,    58,  1,   -999,     23,2,19930528,1111,-32.8157,  12.1427, 4402,     80.3,  17.9310,  35.5200,2,  35.5230,2, 17.9170,    234.9,2
       74DI202,  AR09,    58,  1,   -999,     22,2,19930528,1111,-32.8157,  12.1427, 4402,    155.3,  14.2460,  35.2810,2,-999.0000,9, 14.2230,    226.9,2
       74DI202,  AR09,    58,  1,   -999,     21,2,19930528,1111,-32.8157,  12.1427, 4402,    257.4,  12.4240,  35.0340,2,  35.0290,2, 12.3900,    231.3,2
       74DI202,  AR09,    58,  1,   -999,     20,2,19930528,1111,-32.8157,  12.1427, 4402,    359.8,  10.8560,  34.8440,2,  34.8450,2, 10.8120,    228.7,2
       74DI202,  AR09,    58,  1,   -999,     19,2,19930528,1111,-32.8157,  12.1427, 4402,    459.6,   9.4430,  34.7110,2,  34.7120,2,  9.3910,    217.5,2
       74DI202,  AR09,    58,  1,   -999,     18,2,19930528,1111,-32.8157,  12.1427, 4402,    562.4,   7.7500,  34.5420,2,  34.5400,2,  7.6930,    215.0,2
       74DI202,  AR09,    58,  1,   -999,     17,2,19930528,1111,-32.8157,  12.1427, 4402,    660.0,   5.9870,  34.3690,2,  34.3820,2,  5.9290,    221.9,2
       74DI202,  AR09,    58,  1,   -999,     16,2,19930528,1111,-32.8157,  12.1427, 4402,    764.0,   4.8700,  34.3080,2,  34.3080,2,  4.8080,    229.4,2
       74DI202,  AR09,    58,  1,   -999,     15,2,19930528,1111,-32.8157,  12.1427, 4402,    866.5,   4.2270,  34.3020,2,  34.3060,2,  4.1610,    225.9,2
       74DI202,  AR09,    58,  1,   -999,     14,2,19930528,1111,-32.8157,  12.1427, 4402,    966.6,   3.8360,  34.3450,2,  34.3470,2,  3.7650,    214.9,2
       74DI202,  AR09,    58,  1,   -999,     13,2,19930528,1111,-32.8157,  12.1427, 4402,   1069.2,   3.4600,  34.4010,2,  34.4020,2,  3.3840,    197.4,2
       74DI202,  AR09,    58,  1,   -999,     12,2,19930528,1111,-32.8157,  12.1427, 4402,   1170.8,   3.2500,  34.4590,2,  34.4600,2,  3.1670,    186.5,2
       74DI202,  AR09,    58,  1,   -999,     11,2,19930528,1111,-32.8157,  12.1427, 4402,   1267.8,   3.0430,  34.5140,2,  34.5140,2,  2.9530,    180.9,2
       74DI202,  AR09,    58,  1,   -999,     10,2,19930528,1111,-32.8157,  12.1427, 4402,   1521.1,   2.8580,  34.6630,2,  34.6610,2,  2.7500,    185.3,2
       74DI202,  AR09,    58,  1,   -999,      9,2,19930528,1111,-32.8157,  12.1427, 4402,   1828.2,   2.8050,  34.7890,2,  34.7880,2,  2.6710,    207.1,2
       74DI202,  AR09,    58,  1,   -999,      8,2,19930528,1111,-32.8157,  12.1427, 4402,   2132.3,   2.6920,  34.8340,2,  34.8380,2,  2.5320,    221.0,2
       74DI202,  AR09,    58,  1,   -999,      7,2,19930528,1111,-32.8157,  12.1427, 4402,   2434.5,   2.5460,  34.8490,2,  34.8470,2,  2.3610,    227.5,2
       74DI202,  AR09,    58,  1,   -999,      6,2,19930528,1111,-32.8157,  12.1427, 4402,   2746.6,   2.4090,  34.8530,2,  34.8520,2,  2.1960,    231.4,2
       74DI202,  AR09,    58,  1,   -999,      5,2,19930528,1111,-32.8157,  12.1427, 4402,   3053.4,   2.2990,  34.8530,2,  34.8510,2,  2.0590,    231.9,2
       74DI202,  AR09,    58,  1,   -999,      4,2,19930528,1111,-32.8157,  12.1427, 4402,   3355.6,   2.2180,  34.8540,2,  34.8520,2,  1.9490,    232.5,2
       74DI202,  AR09,    58,  1,   -999,      3,2,19930528,1111,-32.8157,  12.1427, 4402,   3759.8,   1.8560,  34.8150,2,  34.8130,2,  1.5530,    229.8,2
       74DI202,  AR09,    58,  1,   -999,      2,2,19930528,1111,-32.8157,  12.1427, 4402,   4168.9,   1.2850,  34.7580,2,-999.0000,9,  0.9530,    220.2,2
       74DI202,  AR09,    58,  1,   -999,      1,2,19930528,1111,-32.8157,  12.1427, 4402,   4468.2,   1.1040,  34.7380,2,  34.7400,2,  0.7440,    217.6,2