BOTTLE,20050923WHPSIOSA
EXPOCODE,SECT_ID,STNNBR,CASTNO,SAMPNO,BTLNBR,BTLNBR_FLAG_W,DATE,TIME,LATITUDE,LONGITUDE,DEPTH,CTDPRS,CTDTMP,CTDSAL,CTDSAL_FLAG_W,SALNTY,SALNTY_FLAG_W,THETA,OXYGEN,OXYGEN_FLAG_W
,,,,,,,,,,,,DBAR,ITS-68,PSS-78,,PSS-78,,DEG C,UMOL/KG,
       74DI202,  AR09,    69,  1,   -999,     24,2,19930531,2344,-36.0717,  14.3077, 4735,     14.7,  20.0570,  35.5630,2,  35.5640,2, 20.0540,    226.3,2
       74DI202,  AR09,    69,  1,   -999,     23,2,19930531,2344,-36.0717,  14.3077, 4735,    123.5,  18.9950,  35.5660,2,  35.5640,2, 18.9730,    224.5,2
       74DI202,  AR09,    69,  1,   -999,     22,2,19930531,2344,-36.0717,  14.3077, 4735,    253.4,  16.6000,  35.5410,2,  35.5480,2, 16.5590,    205.4,2
       74DI202,  AR09,    69,  1,   -999,     21,2,19930531,2344,-36.0717,  14.3077, 4735,    354.3,  14.6570,  35.3970,2,  35.4040,2, 14.6040,    204.8,2
       74DI202,  AR09,    69,  1,   -999,     20,2,19930531,2344,-36.0717,  14.3077, 4735,    459.8,  12.2260,  35.0480,2,  35.0250,2, 12.1650,    226.5,2
       74DI202,  AR09,    69,  1,   -999,     19,2,19930531,2344,-36.0717,  14.3077, 4735,    562.4,  11.4050,  34.9800,2,  34.9820,2, 11.3330,    222.8,2
       74DI202,  AR09,    69,  1,   -999,     18,2,19930531,2344,-36.0717,  14.3077, 4735,    660.2,  10.0310,  34.7910,2,  34.7940,2,  9.9530,    220.5,2
       74DI202,  AR09,    69,  1,   -999,     17,2,19930531,2344,-36.0717,  14.3077, 4735,    763.1,   8.7080,  34.6820,2,  34.6810,2,  8.6240,    203.5,2
       74DI202,  AR09,    69,  1,   -999,     16,2,19930531,2344,-36.0717,  14.3077, 4735,    865.5,   7.2960,  34.5390,2,  34.5540,2,  7.2100,    202.6,2
       74DI202,  AR09,    69,  1,   -999,     15,2,19930531,2344,-36.0717,  14.3077, 4735,    966.5,   5.3190,  34.3090,2,  34.3130,2,  5.2370,    233.2,2
       74DI202,  AR09,    69,  1,   -999,     14,2,19930531,2344,-36.0717,  14.3077, 4735,   1071.8,   4.4820,  34.3130,2,  34.3160,2,  4.3960,    225.4,2
       74DI202,  AR09,    69,  1,   -999,     13,2,19930531,2344,-36.0717,  14.3077, 4735,   1168.7,   4.5870,  34.4770,2,  34.4820,2,  4.4920,    180.7,2
       74DI202,  AR09,    69,  1,   -999,     12,2,19930531,2344,-36.0717,  14.3077, 4735,   1269.8,   3.7100,  34.4260,2,  34.4320,2,  3.6150,    190.7,2
       74DI202,  AR09,    69,  1,   -999,     11,2,19930531,2344,-36.0717,  14.3077, 4735,   1368.3,   3.6360,  34.5290,2,  34.5310,2,  3.5330,    172.3,2
       74DI202,  AR09,    69,  1,   -999,     10,2,19930531,2344,-36.0717,  14.3077, 4735,   1470.1,   3.2330,  34.5710,2,  34.5710,2,  3.1250,    172.4,2
       74DI202,  AR09,    69,  1,   -999,      9,2,19930531,2344,-36.0717,  14.3077, 4735,   1624.9,   2.9710,  34.6410,2,  34.6430,2,  2.8530,    176.0,2
       74DI202,  AR09,    69,  1,   -999,      8,2,19930531,2344,-36.0717,  14.3077, 4735,   1928.3,   2.7560,  34.7570,2,  34.7580,2,  2.6140,    198.6,2
       74DI202,  AR09,    69,  1,   -999,      7,2,19930531,2344,-36.0717,  14.3077, 4735,   2336.0,   2.5890,  34.8270,2,  34.8270,2,  2.4130,    219.3,2
       74DI202,  AR09,    69,  1,   -999,      6,2,19930531,2344,-36.0717,  14.3077, 4735,   2643.8,   2.4630,  34.8400,2,  34.8400,2,  2.2590,    225.5,2
       74DI202,  AR09,    69,  1,   -999,      5,2,19930531,2344,-36.0717,  14.3077, 4735,   2949.0,   2.3350,  34.8440,2,  34.8420,2,  2.1040,    228.4,2
       74DI202,  AR09,    69,  1,   -999,      4,2,19930531,2344,-36.0717,  14.3077, 4735,   3254.3,   2.2070,  34.8430,2,  34.8410,2,  1.9480,    230.2,2
       74DI202,  AR09,    69,  1,   -999,      3,2,19930531,2344,-36.0717,  14.3077, 4735,   3765.8,   1.6250,  34.7880,2,  34.7880,2,  1.3270,    223.3,2
       74DI202,  AR09,    69,  1,   -999,      2,2,19930531,2344,-36.0717,  14.3077, 4735,   4069.8,   1.2480,  34.7540,2,  34.7550,2,  0.9280,   -999.0,9
       74DI202,  AR09,    69,  1,   -999,      1,2,19930531,2344,-36.0717,  14.3077, 4735,   4784.5,   1.0740,  34.7320,2,  34.7350,2,  0.6790,    219.0,2
       74DI202,  AR09,    70,  1,   -999,     24,2,19930601,0709,-35.7762,  14.9575, 4763,     14.0,  20.2020,  35.5340,2,  35.5370,2, 20.1990,    224.0,2
       74DI202,  AR09,    70,  1,   -999,     23,2,19930601,0709,-35.7762,  14.9575, 4763,    114.9,  19.3200,  35.4790,2,  35.4790,2, 19.2990,    222.9,2
       74DI202,  AR09,    70,  1,   -999,     22,2,19930601,0709,-35.7762,  14.9575, 4763,    197.1,  15.4180,  35.4520,2,  35.4530,2, 15.3880,    208.7,2
       74DI202,  AR09,    70,  1,   -999,     21,2,19930601,0709,-35.7762,  14.9575, 4763,    299.0,  14.0820,  35.3220,2,  35.3260,2, 14.0380,    210.4,2
       74DI202,  AR09,    70,  1,   -999,     20,2,19930601,0709,-35.7762,  14.9575, 4763,    400.1,  12.8670,  35.1960,2,  35.1920,2, 12.8120,    217.8,2
       74DI202,  AR09,    70,  1,   -999,     19,2,19930601,0709,-35.7762,  14.9575, 4763,    501.0,  10.7800,  34.8860,2,  34.8870,2, 10.7180,    220.4,2
       74DI202,  AR09,    70,  1,   -999,     18,2,19930601,0709,-35.7762,  14.9575, 4763,    602.8,   9.3160,  34.7030,2,  34.7010,2,  9.2470,    219.2,2
       74DI202,  AR09,    70,  1,   -999,     17,2,19930601,0709,-35.7762,  14.9575, 4763,    702.8,   8.2350,  34.6180,2,  34.6170,2,  8.1600,    206.3,2
       74DI202,  AR09,    70,  1,   -999,     16,2,19930601,0709,-35.7762,  14.9575, 4763,    804.9,   6.8100,  34.4830,2,  34.4730,2,  6.7330,    212.2,2
       74DI202,  AR09,    70,  1,   -999,     15,2,19930601,0709,-35.7762,  14.9575, 4763,    900.9,   6.0730,  34.5030,2,  34.5060,2,  5.9920,    188.7,2
       74DI202,  AR09,    70,  1,   -999,     14,2,19930601,0709,-35.7762,  14.9575, 4763,   1001.0,   4.9250,  34.4230,2,  34.4250,2,  4.8430,    199.0,2
       74DI202,  AR09,    70,  1,   -999,     13,2,19930601,0709,-35.7762,  14.9575, 4763,   1100.4,   4.4680,  34.4580,2,  34.4710,2,  4.3800,    186.8,2
       74DI202,  AR09,    70,  1,   -999,     12,2,19930601,0709,-35.7762,  14.9575, 4763,   1202.9,   3.8060,  34.4440,2,  34.4440,2,  3.7150,    187.1,2
       74DI202,  AR09,    70,  1,   -999,     11,2,19930601,0709,-35.7762,  14.9575, 4763,   1303.8,   3.5950,  34.4940,2,  34.4960,2,  3.4970,    178.0,2
       74DI202,  AR09,    70,  1,   -999,     10,2,19930601,0709,-35.7762,  14.9575, 4763,   1403.5,   3.1410,  34.5180,2,  34.5220,2,  3.0390,    180.2,2
       74DI202,  AR09,    70,  1,   -999,      9,2,19930601,0709,-35.7762,  14.9575, 4763,   1604.9,   2.9620,  34.6360,2,  34.6430,2,  2.8460,    177.1,2
       74DI202,  AR09,    70,  1,   -999,      8,2,19930601,0709,-35.7762,  14.9575, 4763,   1898.2,   2.8130,  34.7460,2,  34.7480,2,  2.6730,    197.7,2
       74DI202,  AR09,    70,  1,   -999,      7,2,19930601,0709,-35.7762,  14.9575, 4763,   2190.2,   2.7130,  34.8030,2,  34.8040,2,  2.5480,    211.6,2
       74DI202,  AR09,    70,  1,   -999,      6,2,19930601,0709,-35.7762,  14.9575, 4763,   2772.9,   2.4610,  34.8370,2,  34.8380,2,  2.2460,    225.5,2
       74DI202,  AR09,    70,  1,   -999,      5,2,19930601,0709,-35.7762,  14.9575, 4763,   3062.6,   2.2980,  34.8350,2,  34.8360,2,  2.0570,    227.2,2
       74DI202,  AR09,    70,  1,   -999,      4,2,19930601,0709,-35.7762,  14.9575, 4763,   3456.9,   1.9670,  34.8130,2,  34.8120,2,  1.6930,    224.5,2
       74DI202,  AR09,    70,  1,   -999,      3,2,19930601,0709,-35.7762,  14.9575, 4763,   3840.5,   1.4720,  34.7730,2,  34.7720,2,  1.1710,    222.2,2
       74DI202,  AR09,    70,  1,   -999,      2,2,19930601,0709,-35.7762,  14.9575, 4763,   4132.4,   1.1890,  34.7480,2,  34.7520,2,  0.8650,    219.4,2
       74DI202,  AR09,    70,  1,   -999,      1,2,19930601,0709,-35.7762,  14.9575, 4763,   4686.2,   1.0650,  34.7330,2,  34.7320,2,  0.6820,    219.6,2
       74DI202,  AR09,    71,  1,   -999,     24,2,19930601,2046,-35.3738,  15.5927, 4615,     16.1,  19.9240,  35.5200,2,  35.5200,2, 19.9210,    226.7,2
       74DI202,  AR09,    71,  1,   -999,     23,2,19930601,2046,-35.3738,  15.5927, 4615,    106.0,  16.8590,  35.3090,2,  35.2990,2, 16.8410,    233.9,2
       74DI202,  AR09,    71,  1,   -999,     22,2,19930601,2046,-35.3738,  15.5927, 4615,    207.3,  14.1600,  35.1510,2,-999.0000,9, 14.1290,    232.8,2
       74DI202,  AR09,    71,  1,   -999,     21,2,19930601,2046,-35.3738,  15.5927, 4615,    309.4,  12.5850,  35.0980,2,  35.0980,2, 12.5430,    214.0,2
       74DI202,  AR09,    71,  1,   -999,     20,2,19930601,2046,-35.3738,  15.5927, 4615,    411.6,  11.0000,  34.9030,2,  34.9070,2, 10.9490,    219.6,2
       74DI202,  AR09,    71,  1,   -999,     19,2,19930601,2046,-35.3738,  15.5927, 4615,    512.7,   9.4360,  34.7310,2,  34.7270,2,  9.3780,    216.5,2
       74DI202,  AR09,    71,  1,   -999,     18,2,19930601,2046,-35.3738,  15.5927, 4615,    613.1,   8.2280,  34.6240,2,  34.6110,2,  8.1630,    209.0,2
       74DI202,  AR09,    71,  1,   -999,     17,2,19930601,2046,-35.3738,  15.5927, 4615,    711.1,   6.6220,  34.4870,2,  34.4830,2,  6.5560,    204.9,2
       74DI202,  AR09,    71,  1,   -999,     16,2,19930601,2046,-35.3738,  15.5927, 4615,    810.6,   5.6410,  34.4450,2,  34.4450,2,  5.5700,    199.6,2
       74DI202,  AR09,    71,  1,   -999,     15,2,19930601,2046,-35.3738,  15.5927, 4615,    908.0,   4.8120,  34.4340,2,  34.4350,2,  4.7380,    194.0,2
       74DI202,  AR09,    71,  1,   -999,     14,2,19930601,2046,-35.3738,  15.5927, 4615,   1014.5,   3.6830,  34.3540,2,-999.0000,9,  3.6090,    211.2,2
       74DI202,  AR09,    71,  1,   -999,     13,2,19930601,2046,-35.3738,  15.5927, 4615,   1121.2,   3.8710,  34.4930,2,  34.4950,2,  3.7860,    176.9,2
       74DI202,  AR09,    71,  1,   -999,     12,2,19930601,2046,-35.3738,  15.5927, 4615,   1223.5,   3.3330,  34.4980,2,  34.5000,2,  3.2450,    179.6,2
       74DI202,  AR09,    71,  1,   -999,     11,2,19930601,2046,-35.3738,  15.5927, 4615,   1419.2,   3.0290,  34.5920,2,  34.5910,2,  2.9270,    180.7,2
       74DI202,  AR09,    71,  1,   -999,     10,2,19930601,2046,-35.3738,  15.5927, 4615,   1619.9,   2.8860,  34.6780,2,  34.6790,2,  2.7700,    186.3,2
       74DI202,  AR09,    71,  1,   -999,      9,2,19930601,2046,-35.3738,  15.5927, 4615,   1826.0,   2.7700,  34.7250,2,  34.2600,2,  2.6370,    193.3,2
       74DI202,  AR09,    71,  1,   -999,      8,2,19930601,2046,-35.3738,  15.5927, 4615,   2035.4,   2.7480,  34.7880,2,  34.7890,2,  2.5970,    206.5,2
       74DI202,  AR09,    71,  1,   -999,      7,2,19930601,2046,-35.3738,  15.5927, 4615,   2238.9,   2.6810,  34.8250,2,  34.8270,2,  2.5120,    217.8,2
       74DI202,  AR09,    71,  1,   -999,      6,2,19930601,2046,-35.3738,  15.5927, 4615,   2646.7,   2.5100,  34.8410,2,  34.8400,2,  2.3050,    225.6,2
       74DI202,  AR09,    71,  1,   -999,      5,2,19930601,2046,-35.3738,  15.5927, 4615,   3054.8,   2.3520,  34.8470,2,  34.8460,2,  2.1100,    229.1,2
       74DI202,  AR09,    71,  1,   -999,      4,2,19930601,2046,-35.3738,  15.5927, 4615,   3464.6,   2.2000,  34.8460,2,  34.8440,2,  1.9190,    229.8,2
       74DI202,  AR09,    71,  1,   -999,      3,2,19930601,2046,-35.3738,  15.5927, 4615,   3868.7,   1.7620,  34.8010,2,  34.8010,2,  1.4500,    225.5,2
       74DI202,  AR09,    71,  1,   -999,      2,2,19930601,2046,-35.3738,  15.5927, 4615,   4283.9,   1.2350,  34.7520,2,  34.7520,2,  0.8920,    220.1,2
       74DI202,  AR09,    71,  1,   -999,      1,2,19930601,2046,-35.3738,  15.5927, 4615,   4709.7,   1.0370,  34.7300,2,-999.0000,9,  0.6520,    219.9,2
       74DI202,  AR09,    72,  1,   -999,     24,2,19930602,0347,-34.9703,  16.2185, 4204,     14.8,  19.8560,  35.5180,2,  35.5200,2, 19.8530,    226.8,2
       74DI202,  AR09,    72,  1,   -999,     23,2,19930602,0347,-34.9703,  16.2185, 4204,     54.3,  19.2980,  35.5030,2,  35.4990,2, 19.2880,    226.5,2
       74DI202,  AR09,    72,  1,   -999,     22,2,19930602,0347,-34.9703,  16.2185, 4204,    154.4,  15.0240,  35.3570,2,  35.3560,2, 15.0000,    211.6,2
       74DI202,  AR09,    72,  1,   -999,     21,2,19930602,0347,-34.9703,  16.2185, 4204,    252.0,  12.7310,  35.0670,2,  35.0760,2, 12.6970,    225.1,2
       74DI202,  AR09,    72,  1,   -999,     20,2,19930602,0347,-34.9703,  16.2185, 4204,    357.7,  11.3740,  34.9480,2,  34.9470,2, 11.3290,    220.2,2
       74DI202,  AR09,    72,  1,   -999,     19,2,19930602,0347,-34.9703,  16.2185, 4204,    459.8,   9.7020,  34.7610,2,  34.7530,2,  9.6490,    219.6,2
       74DI202,  AR09,    72,  1,   -999,     18,2,19930602,0347,-34.9703,  16.2185, 4204,    559.4,   8.1940,  34.5990,2,  34.5990,2,  8.1350,    213.2,2
       74DI202,  AR09,    72,  1,   -999,     17,2,19930602,0347,-34.9703,  16.2185, 4204,    663.3,   6.6360,  34.4830,2,  34.4820,2,  6.5740,    206.1,2
       74DI202,  AR09,    72,  1,   -999,     16,2,19930602,0347,-34.9703,  16.2185, 4204,    765.1,   5.2290,  34.3710,2,  34.3720,2,  5.1650,    216.2,2
       74DI202,  AR09,    72,  1,   -999,     15,2,19930602,0347,-34.9703,  16.2185, 4204,    865.1,   4.4320,  34.3680,2,  34.3700,2,  4.3650,    208.5,2
       74DI202,  AR09,    72,  1,   -999,     14,2,19930602,0347,-34.9703,  16.2185, 4204,    962.6,   4.0410,  34.4220,2,  34.4250,2,  3.9680,    193.1,2
       74DI202,  AR09,    72,  1,   -999,     13,2,19930602,0347,-34.9703,  16.2185, 4204,   1061.0,   3.8220,  34.4850,2,  34.4860,2,  3.7420,    179.3,2
       74DI202,  AR09,    72,  1,   -999,     12,2,19930602,0347,-34.9703,  16.2185, 4204,   1157.2,   3.3330,  34.4790,2,  34.4810,2,  3.2500,    182.1,2
       74DI202,  AR09,    72,  1,   -999,     11,2,19930602,0347,-34.9703,  16.2185, 4204,   1247.8,   3.1140,  34.5270,2,  34.5290,2,  3.0260,    179.8,2
       74DI202,  AR09,    72,  1,   -999,     10,2,19930602,0347,-34.9703,  16.2185, 4204,   1345.2,   3.0350,  34.5680,2,  34.5710,2,  2.9400,    179.3,2
       74DI202,  AR09,    72,  1,   -999,      9,2,19930602,0347,-34.9703,  16.2185, 4204,   1449.9,   2.9260,  34.6170,2,  34.6190,2,  2.8230,    180.3,2
       74DI202,  AR09,    72,  1,   -999,      8,2,19930602,0347,-34.9703,  16.2185, 4204,   1656.9,   2.8220,  34.7130,2,  34.7140,2,  2.7030,    191.8,2
       74DI202,  AR09,    72,  1,   -999,      7,2,19930602,0347,-34.9703,  16.2185, 4204,   1971.0,   2.7830,  34.8040,2,  34.8040,2,  2.6370,    212.1,2
       74DI202,  AR09,    72,  1,   -999,      6,2,19930602,0347,-34.9703,  16.2185, 4204,   2462.4,   2.5400,  34.8410,2,  34.8420,2,  2.3520,    224.6,2
       74DI202,  AR09,    72,  1,   -999,      5,2,19930602,0347,-34.9703,  16.2185, 4204,   2776.8,   2.3940,  34.8500,2,  34.8500,2,  2.1790,    232.6,2
       74DI202,  AR09,    72,  1,   -999,      4,2,19930602,0347,-34.9703,  16.2185, 4204,   3188.9,   2.2650,  34.8530,2,  34.8520,2,  2.0110,    231.3,2
       74DI202,  AR09,    72,  1,   -999,      3,2,19930602,0347,-34.9703,  16.2185, 4204,   3700.2,   1.8070,  34.8090,2,  34.8080,2,  1.5110,    225.6,2
       74DI202,  AR09,    72,  1,   -999,      2,2,19930602,0347,-34.9703,  16.2185, 4204,   4057.3,   1.2620,  34.7560,2,-999.0000,9,  0.9430,    219.1,2
       74DI202,  AR09,    72,  1,   -999,      1,2,19930602,0347,-34.9703,  16.2185, 4204,   4273.1,   1.0590,  34.7360,2,  34.7350,2,  0.7230,    218.1,2
       74DI202,  AR09,    73,  1,   -999,     24,2,19930602,0934,-34.6068,  16.7867, 3553,     15.5,  19.6450,  35.4870,2,-999.0000,9, 19.6430,    228.4,2
       74DI202,  AR09,    73,  1,   -999,     23,2,19930602,0934,-34.6068,  16.7867, 3553,    107.8,  15.5490,  35.3220,2,-999.0000,9, 15.5330,    216.2,2
       74DI202,  AR09,    73,  1,   -999,     22,2,19930602,0934,-34.6068,  16.7867, 3553,    209.0,  13.9060,  35.3110,2,-999.0000,9, 13.8760,    210.1,2
       74DI202,  AR09,    73,  1,   -999,     21,2,19930602,0934,-34.6068,  16.7867, 3553,    309.9,  11.6190,  34.9790,2,-999.0000,9, 11.5790,    219.5,2
       74DI202,  AR09,    73,  1,   -999,     20,2,19930602,0934,-34.6068,  16.7867, 3553,    410.9,   9.7060,  34.7620,2,-999.0000,9,  9.6590,    217.8,2
       74DI202,  AR09,    73,  1,   -999,     19,2,19930602,0934,-34.6068,  16.7867, 3553,    512.5,   7.9030,  34.5760,2,-999.0000,9,  7.8510,    209.2,2
       74DI202,  AR09,    73,  1,   -999,     18,2,19930602,0934,-34.6068,  16.7867, 3553,    613.6,   6.8520,  34.5280,2,-999.0000,9,  6.7930,    197.5,2
       74DI202,  AR09,    73,  1,   -999,     17,2,19930602,0934,-34.6068,  16.7867, 3553,    715.5,   5.0390,  34.3540,2,-999.0000,9,  4.9810,    218.0,2
       74DI202,  AR09,    73,  1,   -999,     16,2,19930602,0934,-34.6068,  16.7867, 3553,    765.8,   4.8510,  34.3800,2,-999.0000,9,  4.7890,    208.9,2
       74DI202,  AR09,    73,  1,   -999,     15,2,19930602,0934,-34.6068,  16.7867, 3553,    815.8,   4.3320,  34.3490,2,-999.0000,9,  4.2690,    213.0,2
       74DI202,  AR09,    73,  1,   -999,     14,2,19930602,0934,-34.6068,  16.7867, 3553,    866.6,   4.2370,  34.3880,2,-999.0000,9,  4.1710,    203.1,2
       74DI202,  AR09,    73,  1,   -999,     13,2,19930602,0934,-34.6068,  16.7867, 3553,    916.5,   3.6970,  34.3670,2,-999.0000,9,  3.6300,    204.2,2
       74DI202,  AR09,    73,  1,   -999,     12,2,19930602,0934,-34.6068,  16.7867, 3553,    966.9,   3.7800,  34.4140,2,-999.0000,9,  3.7090,    192.1,2
       74DI202,  AR09,    73,  1,   -999,     11,2,19930602,0934,-34.6068,  16.7867, 3553,   1016.6,   3.6220,  34.4350,2,-999.0000,9,  3.5490,    188.4,2
       74DI202,  AR09,    73,  1,   -999,     10,2,19930602,0934,-34.6068,  16.7867, 3553,   1110.7,   3.3030,  34.4770,2,-999.0000,9,  3.2240,    183.5,2
       74DI202,  AR09,    73,  1,   -999,      9,2,19930602,0934,-34.6068,  16.7867, 3553,   1206.9,   3.1270,  34.5240,2,-999.0000,9,  3.0420,    179.8,2
       74DI202,  AR09,    73,  1,   -999,      8,2,19930602,0934,-34.6068,  16.7867, 3553,   1407.3,   2.8940,  34.6330,2,-999.0000,9,  2.7950,    179.9,2
       74DI202,  AR09,    73,  1,   -999,      7,2,19930602,0934,-34.6068,  16.7867, 3553,   1609.5,   2.8380,  34.7220,2,-999.0000,9,  2.7230,    193.3,2
       74DI202,  AR09,    73,  1,   -999,      6,2,19930602,0934,-34.6068,  16.7867, 3553,   1808.8,   2.8530,  34.7960,2,-999.0000,9,  2.7200,    207.8,2
       74DI202,  AR09,    73,  1,   -999,      5,2,19930602,0934,-34.6068,  16.7867, 3553,   2004.7,   2.7430,  34.8220,2,-999.0000,9,  2.5940,    215.8,2
       74DI202,  AR09,    73,  1,   -999,      4,2,19930602,0934,-34.6068,  16.7867, 3553,   2321.8,   2.6710,  34.8580,2,-999.0000,9,  2.4950,    227.7,2
       74DI202,  AR09,    73,  1,   -999,      3,2,19930602,0934,-34.6068,  16.7867, 3553,   2724.2,   2.4060,  34.8610,2,-999.0000,9,  2.1960,    231.7,2
       74DI202,  AR09,    73,  1,   -999,      2,2,19930602,0934,-34.6068,  16.7867, 3553,   3125.9,   2.1620,  34.8500,2,-999.0000,9,  1.9180,    229.9,2
       74DI202,  AR09,    73,  1,   -999,      1,2,19930602,0934,-34.6068,  16.7867, 3553,   3468.0,   1.5180,  34.7850,2,-999.0000,9,  1.2540,    220.9,2