BOTTLE,20050923WHPSIOSA
EXPOCODE,SECT_ID,STNNBR,CASTNO,SAMPNO,BTLNBR,BTLNBR_FLAG_W,DATE,TIME,LATITUDE,LONGITUDE,DEPTH,CTDPRS,CTDTMP,CTDSAL,CTDSAL_FLAG_W,SALNTY,SALNTY_FLAG_W,THETA,OXYGEN,OXYGEN_FLAG_W
,,,,,,,,,,,,DBAR,ITS-68,PSS-78,,PSS-78,,DEG C,UMOL/KG,
       74DI202,  AR09,    64,  1,   -999,     24,2,19930530,0158,-35.9990,  13.2328, -999,     13.6,  18.8510,  35.5740,2,  35.5750,2, 18.8490,    225.1,2
       74DI202,  AR09,    64,  1,   -999,     23,2,19930530,0158,-35.9990,  13.2328, -999,     78.5,  18.8590,  35.5740,2,  35.5750,2, 18.8450,    224.4,2
       74DI202,  AR09,    64,  1,   -999,     22,2,19930530,0158,-35.9990,  13.2328, -999,    126.0,  18.8640,  35.5740,2,-999.0000,9, 18.8410,    223.6,2
       74DI202,  AR09,    64,  1,   -999,     21,2,19930530,0158,-35.9990,  13.2328, -999,    175.4,  17.5660,  35.5760,2,-999.0000,9, 17.5360,    205.7,2
       74DI202,  AR09,    64,  1,   -999,     20,2,19930530,0158,-35.9990,  13.2328, -999,    226.4,  16.9890,  35.5700,2,  35.5700,2, 16.9520,    209.5,2
       74DI202,  AR09,    64,  1,   -999,     19,2,19930530,0158,-35.9990,  13.2328, -999,    278.0,  16.2270,  35.5190,2,-999.0000,9, 16.1820,    206.5,2
       74DI202,  AR09,    64,  1,   -999,     18,2,19930530,0158,-35.9990,  13.2328, -999,    326.3,  15.2060,  35.4440,2,-999.0000,9, 15.1560,    199.7,2
       74DI202,  AR09,    64,  1,   -999,     17,2,19930530,0158,-35.9990,  13.2328, -999,    379.0,  13.9780,  35.2970,2,-999.0000,9, 13.9220,    209.5,2
       74DI202,  AR09,    64,  1,   -999,     16,2,19930530,0158,-35.9990,  13.2328, -999,    432.5,  13.0690,  35.2180,2,  35.2040,2, 13.0080,    212.3,2
       74DI202,  AR09,    64,  1,   -999,     15,2,19930530,0158,-35.9990,  13.2328, -999,    481.7,  12.1200,  35.0590,2,-999.0000,9, 12.0560,    218.9,2
       74DI202,  AR09,    64,  1,   -999,     14,2,19930530,0158,-35.9990,  13.2328, -999,    530.6,  11.2690,  34.9530,2,  34.9590,2, 11.2010,    218.1,2
       74DI202,  AR09,    64,  1,   -999,     13,2,19930530,0158,-35.9990,  13.2328, -999,    531.4,  11.2740,  34.9530,2,  34.9530,2, 11.2070,    219.0,2
       74DI202,  AR09,    64,  1,   -999,     12,2,19930530,0158,-35.9990,  13.2328, -999,    584.0,  10.5360,  34.8570,2,-999.0000,9, 10.4650,    217.0,2
       74DI202,  AR09,    64,  1,   -999,     11,2,19930530,0158,-35.9990,  13.2328, -999,    632.1,  10.1670,  34.8350,2,-999.0000,9, 10.0920,    205.9,2
       74DI202,  AR09,    64,  1,   -999,     10,2,19930530,0158,-35.9990,  13.2328, -999,    668.7,   9.7070,  34.7790,2,  34.7770,2,  9.6290,    206.7,2
       74DI202,  AR09,    64,  1,   -999,      9,2,19930530,0158,-35.9990,  13.2328, -999,    723.0,   8.9210,  34.7060,2,-999.0000,9,  8.8400,    201.5,2
       74DI202,  AR09,    64,  1,   -999,      8,2,19930530,0158,-35.9990,  13.2328, -999,    780.9,   8.3520,  34.6780,2,  34.6820,2,  8.2680,    186.9,2
       74DI202,  AR09,    64,  1,   -999,      7,2,19930530,0158,-35.9990,  13.2328, -999,    835.4,   7.1440,  34.5320,2,-999.0000,9,  7.0620,    201.2,2
       74DI202,  AR09,    64,  1,   -999,      6,2,19930530,0158,-35.9990,  13.2328, -999,    886.0,   5.9690,  34.4010,2,  34.4050,2,  5.8900,    214.8,2
       74DI202,  AR09,    64,  1,   -999,      5,2,19930530,0158,-35.9990,  13.2328, -999,    935.9,   5.3530,  34.3750,2,-999.0000,9,  5.2730,    216.6,2
       74DI202,  AR09,    64,  1,   -999,      4,2,19930530,0158,-35.9990,  13.2328, -999,    987.1,   5.4110,  34.4380,2,-999.0000,9,  5.3260,    200.3,2
       74DI202,  AR09,    64,  1,   -999,      3,2,19930530,0158,-35.9990,  13.2328, -999,   1037.9,   4.9360,  34.4330,2,  34.4350,2,  4.8500,    195.5,2
       74DI202,  AR09,    64,  1,   -999,      2,2,19930530,0158,-35.9990,  13.2328, -999,   1214.9,   4.0560,  34.5090,2,  34.5130,2,  3.9610,    172.5,2
       74DI202,  AR09,    64,  1,   -999,      1,2,19930530,0158,-35.9990,  13.2328, -999,   1555.6,   2.8430,  34.6100,2,  34.6100,2,  2.7320,    180.1,2
       74DI202,  AR09,    65,  1,   -999,     24,2,19930530,0811,-36.6102,  13.6648, 4832,     15.4,  18.7790,  35.5830,2,  35.5840,2, 18.7760,    226.1,2
       74DI202,  AR09,    65,  1,   -999,     23,2,19930530,0811,-36.6102,  13.6648, 4832,    105.7,  18.7720,  35.5840,2,  35.5840,2, 18.7540,    225.7,2
       74DI202,  AR09,    65,  1,   -999,     22,2,19930530,0811,-36.6102,  13.6648, 4832,    191.5,  17.2430,  35.5770,2,  35.5740,2, 17.2110,    208.6,2
       74DI202,  AR09,    65,  1,   -999,     21,2,19930530,0811,-36.6102,  13.6648, 4832,    291.8,  15.4380,  35.4610,2,  35.4610,2, 15.3930,    200.4,2
       74DI202,  AR09,    65,  1,   -999,     20,2,19930530,0811,-36.6102,  13.6648, 4832,    398.4,  13.8060,  35.2960,2,  35.3060,2, 13.7490,    209.7,2
       74DI202,  AR09,    65,  1,   -999,     19,2,19930530,0811,-36.6102,  13.6648, 4832,    507.3,  11.9470,  35.0350,2,  35.0380,2, 11.8800,    223.1,2
       74DI202,  AR09,    65,  1,   -999,     18,2,19930530,0811,-36.6102,  13.6648, 4832,    711.0,   8.9490,  34.6730,2,  34.6740,2,  8.8700,    215.4,2
       74DI202,  AR09,    65,  1,   -999,     17,2,19930530,0811,-36.6102,  13.6648, 4832,    911.5,   5.7730,  34.4100,2,  34.4080,2,  5.6920,    213.1,2
       74DI202,  AR09,    65,  1,   -999,     16,2,19930530,0811,-36.6102,  13.6648, 4832,   1109.3,   4.2580,  34.3860,2,  34.3890,2,  4.1720,    204.0,2
       74DI202,  AR09,    65,  1,   -999,     15,2,19930530,0811,-36.6102,  13.6648, 4832,   1309.3,   3.3430,  34.4510,2,  34.4530,2,  3.2470,    187.6,2
       74DI202,  AR09,    65,  1,   -999,     14,2,19930530,0811,-36.6102,  13.6648, 4832,   1507.9,   2.9200,  34.5410,2,  34.5460,2,  2.8120,    181.5,2
       74DI202,  AR09,    65,  1,   -999,     13,2,19930530,0811,-36.6102,  13.6648, 4832,   1707.8,   2.7950,  34.6460,2,  34.6490,2,  2.6720,    184.4,2
       74DI202,  AR09,    65,  1,   -999,     12,2,19930530,0811,-36.6102,  13.6648, 4832,   2106.4,   2.7370,  34.7840,2,  34.7840,2,  2.5790,    209.4,2
       74DI202,  AR09,    65,  1,   -999,     11,2,19930530,0811,-36.6102,  13.6648, 4832,   2301.9,   2.6680,  34.8170,2,  34.8170,2,  2.4930,    216.1,2
       74DI202,  AR09,    65,  1,   -999,     10,2,19930530,0811,-36.6102,  13.6648, 4832,   2497.1,   2.5940,  34.8330,2,  34.8330,2,  2.4020,    222.4,2
       74DI202,  AR09,    65,  1,   -999,      9,2,19930530,0811,-36.6102,  13.6648, 4832,   2691.8,   2.4950,  34.8400,2,  34.8400,2,  2.2860,    226.1,2
       74DI202,  AR09,    65,  1,   -999,      8,2,19930530,0811,-36.6102,  13.6648, 4832,   2885.0,   2.4130,  34.8450,2,  34.8460,2,  2.1870,    229.3,2
       74DI202,  AR09,    65,  1,   -999,      7,2,19930530,0811,-36.6102,  13.6648, 4832,   3085.0,   2.3410,  34.8480,2,  34.8470,2,  2.0960,    231.0,2
       74DI202,  AR09,    65,  1,   -999,      6,2,19930530,0811,-36.6102,  13.6648, 4832,   3280.0,   2.2630,  34.8440,2,  34.8440,2,  2.0000,    231.0,2
       74DI202,  AR09,    65,  1,   -999,      5,2,19930530,0811,-36.6102,  13.6648, 4832,   3476.2,   2.1530,  34.8380,2,  34.8370,2,  1.8720,    229.8,2
       74DI202,  AR09,    65,  1,   -999,      4,2,19930530,0811,-36.6102,  13.6648, 4832,   3675.7,   1.9330,  34.8160,2,  34.8290,2,  1.6360,    229.1,2
       74DI202,  AR09,    65,  1,   -999,      3,2,19930530,0811,-36.6102,  13.6648, 4832,   3874.6,   1.6480,  34.7890,2,  34.7930,2,  1.3380,    223.6,2
       74DI202,  AR09,    65,  1,   -999,      2,2,19930530,0811,-36.6102,  13.6648, 4832,   4180.9,   1.2800,  34.7560,2,  34.7570,2,  0.9470,    221.3,2
       74DI202,  AR09,    65,  1,   -999,      1,2,19930530,0811,-36.6102,  13.6648, 4832,   4903.2,   1.0490,  34.7300,2,  34.7290,2,  0.6410,    219.9,2
       74DI202,  AR09,    66,  1,   -999,     24,2,19930530,1916,-37.4042,  13.8357, 4947,     14.4,  17.4170,  35.4790,2,  35.4780,2, 17.4140,    238.3,2
       74DI202,  AR09,    66,  1,   -999,     23,2,19930530,1916,-37.4042,  13.8357, 4947,     56.6,  17.3980,  35.4700,2,  35.4690,2, 17.3880,    231.7,2
       74DI202,  AR09,    66,  1,   -999,     22,2,19930530,1916,-37.4042,  13.8357, 4947,    107.6,  16.4630,  35.2940,2,-999.0000,9, 16.4460,    236.7,2
       74DI202,  AR09,    66,  1,   -999,     21,2,19930530,1916,-37.4042,  13.8357, 4947,    156.9,  15.0600,  35.3570,2,-999.0000,9, 15.0360,    206.4,2
       74DI202,  AR09,    66,  1,   -999,     20,2,19930530,1916,-37.4042,  13.8357, 4947,    207.7,  13.1000,  35.0790,2,  35.1000,2, 13.0710,    227.2,2
       74DI202,  AR09,    66,  1,   -999,     19,2,19930530,1916,-37.4042,  13.8357, 4947,    256.7,  12.8640,  35.1310,2,-999.0000,9, 12.8280,    220.6,2
       74DI202,  AR09,    66,  1,   -999,     18,2,19930530,1916,-37.4042,  13.8357, 4947,    308.0,  12.5840,  35.1520,2,  35.1510,2, 12.5420,    214.7,2
       74DI202,  AR09,    66,  1,   -999,     17,2,19930530,1916,-37.4042,  13.8357, 4947,    358.7,  11.6070,  35.0060,2,-999.0000,9, 11.5610,    219.1,2
       74DI202,  AR09,    66,  1,   -999,     16,2,19930530,1916,-37.4042,  13.8357, 4947,    410.2,  10.1180,  34.7690,2,-999.0000,9, 10.0700,    225.8,2
       74DI202,  AR09,    66,  1,   -999,     15,2,19930530,1916,-37.4042,  13.8357, 4947,    461.1,   9.4030,  34.7060,2,-999.0000,9,  9.3510,    224.0,2
       74DI202,  AR09,    66,  1,   -999,     14,2,19930530,1916,-37.4042,  13.8357, 4947,    511.9,   8.7270,  34.6530,2,  34.6520,2,  8.6720,    216.4,2
       74DI202,  AR09,    66,  1,   -999,     13,2,19930530,1916,-37.4042,  13.8357, 4947,    561.1,   8.1230,  34.6050,2,-999.0000,9,  8.0650,    209.0,2
       74DI202,  AR09,    66,  1,   -999,     12,2,19930530,1916,-37.4042,  13.8357, 4947,    612.3,   7.7960,  34.6170,2,-999.0000,9,  7.7340,    192.5,2
       74DI202,  AR09,    66,  1,   -999,     11,2,19930530,1916,-37.4042,  13.8357, 4947,    662.3,   6.9820,  34.5190,2,  34.5270,2,  6.9190,    200.3,2
       74DI202,  AR09,    66,  1,   -999,     10,2,19930530,1916,-37.4042,  13.8357, 4947,    714.1,   5.7610,  34.3660,2,-999.0000,9,  5.6990,    221.5,2
       74DI202,  AR09,    66,  1,   -999,      9,2,19930530,1916,-37.4042,  13.8357, 4947,    764.8,   5.2080,  34.3420,2,-999.0000,9,  5.1440,    221.8,2
       74DI202,  AR09,    66,  1,   -999,      8,2,19930530,1916,-37.4042,  13.8357, 4947,    814.6,   5.0910,  34.3730,2,  34.3740,2,  5.0240,    213.4,2
       74DI202,  AR09,    66,  1,   -999,      7,2,19930530,1916,-37.4042,  13.8357, 4947,    864.7,   4.9270,  34.4170,2,-999.0000,9,  4.8570,    201.2,2
       74DI202,  AR09,    66,  1,   -999,      6,2,19930530,1916,-37.4042,  13.8357, 4947,    916.0,   4.5370,  34.4240,2,  34.4260,2,  4.4640,    195.3,2
       74DI202,  AR09,    66,  1,   -999,      5,2,19930530,1916,-37.4042,  13.8357, 4947,    967.2,   4.3600,  34.4500,2,-999.0000,9,  4.2840,    188.3,2
       74DI202,  AR09,    66,  1,   -999,      4,2,19930530,1916,-37.4042,  13.8357, 4947,   1017.1,   4.2210,  34.4520,2,  34.4550,2,  4.1420,    186.9,2
       74DI202,  AR09,    66,  1,   -999,      3,2,19930530,1916,-37.4042,  13.8357, 4947,   1117.5,   4.0460,  34.4650,2,  34.4680,2,  3.9600,    183.2,2
       74DI202,  AR09,    66,  1,   -999,      2,2,19930530,1916,-37.4042,  13.8357, 4947,   1319.8,   3.2740,  34.5350,2,  34.5360,2,  3.1780,    175.0,2
       74DI202,  AR09,    66,  1,   -999,      1,2,19930530,1916,-37.4042,  13.8357, 4947,   1562.5,   2.8400,  34.6340,2,  34.6330,2,  2.7290,    180.7,2
       74DI202,  AR09,    67,  1,   -999,     24,2,19930531,0512,-37.4027,  12.3483, 4997,     26.6,  16.0170,  35.2620,2,  35.2580,2, 16.0120,    242.6,2
       74DI202,  AR09,    67,  1,   -999,     23,2,19930531,0512,-37.4027,  12.3483, 4997,     56.4,  15.9240,  35.2360,2,  35.2420,2, 15.9150,    243.2,2
       74DI202,  AR09,    67,  1,   -999,     22,2,19930531,0512,-37.4027,  12.3483, 4997,    106.5,  15.8030,  35.2170,2,  35.2010,2, 15.7860,    243.1,2
       74DI202,  AR09,    67,  1,   -999,     21,2,19930531,0512,-37.4027,  12.3483, 4997,    157.2,  14.4580,  35.3030,2,  35.3080,2, 14.4350,    220.1,2
       74DI202,  AR09,    67,  1,   -999,     20,2,19930531,0512,-37.4027,  12.3483, 4997,    206.3,  13.2150,  35.1280,2,  35.1190,2, 13.1870,    226.2,2
       74DI202,  AR09,    67,  1,   -999,     19,2,19930531,0512,-37.4027,  12.3483, 4997,    259.9,  12.3700,  35.0550,2,  35.0720,2, 12.3360,    227.4,2
       74DI202,  AR09,    67,  1,   -999,     18,2,19930531,0512,-37.4027,  12.3483, 4997,    309.5,  11.2740,  34.8830,2,  34.8820,2, 11.2360,    231.0,2
       74DI202,  AR09,    67,  1,   -999,     17,2,19930531,0512,-37.4027,  12.3483, 4997,    360.0,  10.6880,  34.8300,2,  34.8160,2, 10.6440,    232.4,2
       74DI202,  AR09,    67,  1,   -999,     16,2,19930531,0512,-37.4027,  12.3483, 4997,    411.9,  10.2050,  34.7960,2,  34.7840,2, 10.1560,    226.7,2
       74DI202,  AR09,    67,  1,   -999,     15,2,19930531,0512,-37.4027,  12.3483, 4997,    512.3,   8.6760,  34.6180,2,  34.6160,2,  8.6210,    226.4,2
       74DI202,  AR09,    67,  1,   -999,     14,2,19930531,0512,-37.4027,  12.3483, 4997,    612.7,   7.1110,  34.4370,2,  34.4360,2,  7.0520,   -999.0,9
       74DI202,  AR09,    67,  1,   -999,     13,2,19930531,0512,-37.4027,  12.3483, 4997,    715.4,   5.7910,  34.3470,2,  34.3500,2,  5.7280,    228.9,2
       74DI202,  AR09,    67,  1,   -999,     12,2,19930531,0512,-37.4027,  12.3483, 4997,    868.2,   4.3000,  34.2570,2,  34.2590,2,  4.2330,    239.3,2
       74DI202,  AR09,    67,  1,   -999,     11,2,19930531,0512,-37.4027,  12.3483, 4997,   1018.2,   3.6750,  34.2950,2,  34.2980,2,  3.6010,    223.8,2
       74DI202,  AR09,    67,  1,   -999,     10,2,19930531,0512,-37.4027,  12.3483, 4997,   1221.9,   3.1810,  34.3920,2,  34.3920,2,  3.0950,    201.2,2
       74DI202,  AR09,    67,  1,   -999,      9,2,19930531,0512,-37.4027,  12.3483, 4997,   1626.5,   2.8790,  34.6460,2,  34.6440,2,  2.7610,    181.2,2
       74DI202,  AR09,    67,  1,   -999,      8,2,19930531,0512,-37.4027,  12.3483, 4997,   2030.2,   2.7260,  34.7830,2,  34.7820,2,  2.5760,    206.5,2
       74DI202,  AR09,    67,  1,   -999,      7,2,19930531,0512,-37.4027,  12.3483, 4997,   2436.1,   2.5650,  34.8340,2,  34.8370,2,  2.3800,    222.8,2
       74DI202,  AR09,    67,  1,   -999,      6,2,19930531,0512,-37.4027,  12.3483, 4997,   2841.9,   2.3670,  34.8440,2,  34.8420,2,  2.1460,    229.0,2
       74DI202,  AR09,    67,  1,   -999,      5,2,19930531,0512,-37.4027,  12.3483, 4997,   3246.7,   2.2660,  34.8450,2,  34.8430,2,  2.0060,    230.2,2
       74DI202,  AR09,    67,  1,   -999,      4,2,19930531,0512,-37.4027,  12.3483, 4997,   3647.4,   2.1460,  34.8350,2,  34.8330,2,  1.8470,    228.2,2
       74DI202,  AR09,    67,  1,   -999,      3,2,19930531,0512,-37.4027,  12.3483, 4997,   4051.5,   1.6040,  34.7840,2,  34.7860,2,  1.2760,    223.0,2
       74DI202,  AR09,    67,  1,   -999,      2,2,19930531,0512,-37.4027,  12.3483, 4997,   4454.1,   1.2060,  34.7470,2,  34.7480,2,  0.8450,    220.0,2
       74DI202,  AR09,    67,  1,   -999,      1,2,19930531,0512,-37.4027,  12.3483, 4997,   5098.5,   1.0880,  34.7310,2,  34.7290,2,  0.6550,    219.5,2
       74DI202,  AR09,    68,  1,   -999,     24,2,19930531,1231,-37.0077,  13.0067, 4966,     14.8,  17.9790,  35.5150,2,  35.5350,2, 17.9760,    232.8,2
       74DI202,  AR09,    68,  1,   -999,     23,2,19930531,1231,-37.0077,  13.0067, 4966,     81.9,  16.3640,  35.3720,2,  35.3380,2, 16.3510,    211.9,2
       74DI202,  AR09,    68,  1,   -999,     22,2,19930531,1231,-37.0077,  13.0067, 4966,    132.8,  15.2200,  35.4200,2,  35.4160,2, 15.2000,    228.7,2
       74DI202,  AR09,    68,  1,   -999,     21,2,19930531,1231,-37.0077,  13.0067, 4966,    182.8,  14.3380,  35.3040,2,  35.2880,2, 14.3110,    223.9,2
       74DI202,  AR09,    68,  1,   -999,     20,2,19930531,1231,-37.0077,  13.0067, 4966,    256.1,  12.9340,  35.0760,2,  35.0730,2, 12.8990,    228.6,2
       74DI202,  AR09,    68,  1,   -999,     19,2,19930531,1231,-37.0077,  13.0067, 4966,    357.2,  11.7450,  34.9460,2,  34.9370,2, 11.6990,    232.2,2
       74DI202,  AR09,    68,  1,   -999,     18,2,19930531,1231,-37.0077,  13.0067, 4966,    460.6,  10.5090,  34.8350,2,  34.8350,2, 10.4530,    217.2,2
       74DI202,  AR09,    68,  1,   -999,     17,2,19930531,1231,-37.0077,  13.0067, 4966,    562.1,   8.7570,  34.6210,2,  34.6200,2,  8.6960,    225.0,2
       74DI202,  AR09,    68,  1,   -999,     16,2,19930531,1231,-37.0077,  13.0067, 4966,    713.5,   6.6960,  34.4350,2,  34.4340,2,  6.6280,    219.4,2
       74DI202,  AR09,    68,  1,   -999,     15,2,19930531,1231,-37.0077,  13.0067, 4966,    862.4,   5.1270,  34.3400,2,  34.3540,2,  5.0560,    219.9,2
       74DI202,  AR09,    68,  1,   -999,     14,2,19930531,1231,-37.0077,  13.0067, 4966,   1015.6,   3.7770,  34.2760,2,  34.2740,2,  3.7020,    231.1,2
       74DI202,  AR09,    68,  1,   -999,     13,2,19930531,1231,-37.0077,  13.0067, 4966,   1215.3,   3.3620,  34.4000,2,  34.4030,2,  3.2740,    197.3,2
       74DI202,  AR09,    68,  1,   -999,     12,2,19930531,1231,-37.0077,  13.0067, 4966,   1419.5,   2.9010,  34.5070,2,  34.5070,2,  2.8010,    183.5,2
       74DI202,  AR09,    68,  1,   -999,     11,2,19930531,1231,-37.0077,  13.0067, 4966,   1613.6,   2.8030,  34.6220,2,  34.6220,2,  2.6880,    182.3,2
       74DI202,  AR09,    68,  1,   -999,     10,2,19930531,1231,-37.0077,  13.0067, 4966,   1812.4,   2.7870,  34.7180,2,  34.7190,2,  2.6550,    193.2,2
       74DI202,  AR09,    68,  1,   -999,      9,2,19930531,1231,-37.0077,  13.0067, 4966,   2019.2,   2.7660,  34.7820,2,  34.7820,2,  2.6160,    205.6,2
       74DI202,  AR09,    68,  1,   -999,      8,2,19930531,1231,-37.0077,  13.0067, 4966,   2223.2,   2.6880,  34.8140,2,  34.8140,2,  2.5200,    215.0,2
       74DI202,  AR09,    68,  1,   -999,      7,2,19930531,1231,-37.0077,  13.0067, 4966,   2632.1,   2.5020,  34.8420,2,  34.8410,2,  2.2990,    226.2,2
       74DI202,  AR09,    68,  1,   -999,      6,2,19930531,1231,-37.0077,  13.0067, 4966,   3045.9,   2.3570,  34.8480,2,  34.8490,2,  2.1160,    230.8,2
       74DI202,  AR09,    68,  1,   -999,      5,2,19930531,1231,-37.0077,  13.0067, 4966,   3449.3,   2.1970,  34.8430,2,  34.8440,2,  1.9180,    231.2,2
       74DI202,  AR09,    68,  1,   -999,      4,2,19930531,1231,-37.0077,  13.0067, 4966,   3840.6,   1.7860,  34.8030,2,  34.8020,2,  1.4760,    225.0,2
       74DI202,  AR09,    68,  1,   -999,      3,2,19930531,1231,-37.0077,  13.0067, 4966,   4208.2,   1.3620,  34.7610,2,  34.7610,2,  1.0240,    221.7,2
       74DI202,  AR09,    68,  1,   -999,      2,2,19930531,1231,-37.0077,  13.0067, 4966,   4605.8,   1.1440,  34.7400,2,  34.7420,2,  0.7680,    219.2,2